BOTTLE,20010801WHPSIOKJU
EXPOCODE,SECT_ID,STNNBR,CASTNO,SAMPNO,BTLNBR,BTLNBR_FLAG_W,DATE,TIME,LATITUDE,LONGITUDE,DEPTH,CTDPRS,CTDTMP,CTDSAL,CTDSAL_FLAG_W,SALNTY,SALNTY_FLAG_W,CTDOXY,CTDOXY_FLAG_W,OXYGEN,OXYGEN_FLAG_W,SILCAT,SILCAT_FLAG_W,PHSPHT,PHSPHT_FLAG_W
,,,,,,,,,,,,DBAR,ITS-90,PSS-78,,PSS-78,,UMOL/KG,,UMOL/KG,,UMOL/KG,,UMOL/KG,
      09FA0793,  PR11,    66,  1,      1,      7,2,19930930,1708,-30.0830, 154.8338, 4754,      2.3,  20.5080,  35.7550,2,  35.7550,2,    227.5,2,    224.5,2,     1.27,2,     0.24,2
      09FA0793,  PR11,    66,  1,      2,     42,2,19930930,1708,-30.0830, 154.8338, 4754,     97.2,  20.2150,  35.7480,2,  35.7380,2,    229.3,2,    217.3,2,     1.46,2,     0.29,2
      09FA0793,  PR11,    66,  1,      3,      6,2,19930930,1708,-30.0830, 154.8338, 4754,    193.9,  19.1410,  35.6070,2,  35.5850,2,    187.9,2,    184.8,2,     2.25,2,     0.51,2
      09FA0793,  PR11,    66,  1,      4,      3,2,19930930,1708,-30.0830, 154.8338, 4754,    391.0,  15.2150,  35.3360,2,  35.3040,2,    184.8,2,    181.9,2,     4.20,2,     0.84,2
      09FA0793,  PR11,    66,  1,      5,     18,2,19930930,1708,-30.0830, 154.8338, 4754,    590.6,  10.6360,  34.8510,2,  34.8490,2,    190.5,2,    186.3,2,     8.40,2,     1.37,2
      09FA0793,  PR11,    66,  1,      6,      2,2,19930930,1708,-30.0830, 154.8338, 4754,    789.1,   7.7590,  34.5470,2,  34.5540,2,    196.0,2,    191.9,2,    15.74,2,     1.77,2
      09FA0793,  PR11,    66,  1,      7,     28,2,19930930,1708,-30.0830, 154.8338, 4754,    990.9,   6.0470,  34.4570,2,  34.4620,2,    192.2,2,    186.0,2,    30.40,2,     2.11,2
      09FA0793,  PR11,    66,  1,      8,      4,2,19930930,1708,-30.0830, 154.8338, 4754,   1190.4,   4.8460,  34.4660,2,  34.4740,2,    180.7,2,    173.2,2,    49.37,2,     2.32,2
      09FA0793,  PR11,    66,  1,      9,      8,2,19930930,1708,-30.0830, 154.8338, 4754,   1391.2,   3.8110,  34.5230,2,  34.5260,2,    162.7,2,    160.3,2,    71.16,2,     2.48,2
      09FA0793,  PR11,    66,  1,     10,     15,2,19930930,1708,-30.0830, 154.8338, 4754,   1590.7,   3.1810,  34.5700,2,  34.5720,2,    155.6,2,    151.0,2,    87.00,2,     2.55,2
      09FA0793,  PR11,    66,  1,     11,     77,2,19930930,1708,-30.0830, 154.8338, 4754,   1789.8,   2.7010,  34.6180,2,  34.6190,2,    155.1,2,    152.9,2,    95.99,2,     2.58,2
      09FA0793,  PR11,    66,  1,     12,     27,2,19930930,1708,-30.0830, 154.8338, 4754,   1991.4,   2.4460,  34.6500,2,  34.6500,2,    161.9,2,    158.7,2,    96.47,2,     2.54,2
      09FA0793,  PR11,    66,  1,     13,     29,2,19930930,1708,-30.0830, 154.8338, 4754,   2191.8,   2.2480,  34.6770,2,  34.6770,2,    168.9,2,    166.7,2,    96.86,2,     2.45,2
      09FA0793,  PR11,    66,  1,     14,     20,2,19930930,1708,-30.0830, 154.8338, 4754,   2394.6,   2.0810,  34.6990,2,  34.6990,2,    177.5,2,    173.4,2,    96.86,2,     2.44,2
      09FA0793,  PR11,    66,  1,     15,     35,2,19930930,1708,-30.0830, 154.8338, 4754,   2795.1,   1.7520,  34.7230,2,  34.7230,2,    189.2,2,    185.2,2,   101.75,2,     2.39,2
      09FA0793,  PR11,    66,  1,     16,     41,2,19930930,1708,-30.0830, 154.8338, 4754,   2996.4,   1.5880,  34.7250,2,  34.7240,2,    191.9,2,    188.3,2,   106.14,2,     2.40,2
      09FA0793,  PR11,    66,  1,     17,     24,2,19930930,1708,-30.0830, 154.8338, 4754,   3196.4,   1.4440,  34.7230,2,  34.7250,2,    194.2,2,    190.8,2,   110.44,2,     2.40,2
      09FA0793,  PR11,    66,  1,     18,     10,2,19930930,1708,-30.0830, 154.8338, 4754,   3396.7,   1.2960,  34.7200,2,  34.7210,2,    196.8,2,    193.4,2,   117.29,2,     2.41,2
      09FA0793,  PR11,    66,  1,     19,     11,2,19930930,1708,-30.0830, 154.8338, 4754,   3597.0,   1.2010,  34.7180,2,  34.7190,2,    198.2,2,    194.5,2,   117.19,2,     2.41,2
      09FA0793,  PR11,    66,  1,     20,     45,2,19930930,1708,-30.0830, 154.8338, 4754,   3897.9,   1.1590,  34.7160,2,  34.7200,2,    200.1,2,    195.4,2,   121.49,2,     2.42,2
      09FA0793,  PR11,    66,  1,     21,     48,2,19930930,1708,-30.0830, 154.8338, 4754,   4197.9,   1.1550,  34.7150,2,  34.7180,2,    200.9,2,    196.2,2,   124.03,2,     2.44,2
      09FA0793,  PR11,    66,  1,     22,      5,2,19930930,1708,-30.0830, 154.8338, 4754,   4494.6,   1.1680,  34.7150,2,  34.7160,2,    201.4,2,    195.9,2,   122.47,2,     2.43,2
      09FA0793,  PR11,    66,  1,     23,     55,2,19930930,1708,-30.0830, 154.8338, 4754,   4753.9,   1.1900,  34.7150,2,  34.7170,2,    202.3,2,    196.7,2,   120.51,2,     2.43,2
      09FA0793,  PR11,    67,  1,      1,      7,2,19930930,2317,-30.1005, 154.1537, 4674,      2.9,  20.6610,  35.7520,2,  35.7570,2,    246.7,2,    227.0,2,     1.17,2,     0.23,2
      09FA0793,  PR11,    67,  1,      2,     42,2,19930930,2317,-30.1005, 154.1537, 4674,     95.6,  20.3410,  35.7360,2,  35.7370,2,    222.4,2,    221.1,2,     1.27,2,     0.26,2
      09FA0793,  PR11,    67,  1,      3,      6,2,19930930,2317,-30.1005, 154.1537, 4674,    194.6,  19.1520,  35.6080,2,  35.6480,2,    187.5,2,    199.0,2,     1.56,2,     0.39,2
      09FA0793,  PR11,    67,  1,      4,      3,2,19930930,2317,-30.1005, 154.1537, 4674,    392.5,  14.3140,  35.2630,2,  35.2390,2,    189.7,2,    186.7,2,     4.40,2,     0.87,2
      09FA0793,  PR11,    67,  1,      5,     18,2,19930930,2317,-30.1005, 154.1537, 4674,    591.9,   9.3850,  34.7040,2,  34.7260,2,    194.3,2,    190.0,2,     9.68,2,     1.47,2
      09FA0793,  PR11,    67,  1,      6,      2,2,19930930,2317,-30.1005, 154.1537, 4674,    791.0,   6.9820,  34.4950,2,  34.4960,2,    196.3,2,    190.8,2,    20.24,2,     1.90,2
      09FA0793,  PR11,    67,  1,      7,     28,2,19930930,2317,-30.1005, 154.1537, 4674,    990.9,   5.2740,  34.4540,2,  34.4590,2,    183.5,2,    178.8,2,    41.84,2,     2.19,2
      09FA0793,  PR11,    67,  1,      8,      4,2,19930930,2317,-30.1005, 154.1537, 4674,   1190.4,   4.2240,  34.4900,2,  34.4970,2,    168.8,2,    164.1,2,    61.49,2,     2.39,2
      09FA0793,  PR11,    67,  1,      9,      8,2,19930930,2317,-30.1005, 154.1537, 4674,   1390.2,   3.6540,  34.5290,2,  34.5340,2,    158.6,2,    155.0,2,    76.74,2,     2.48,2
      09FA0793,  PR11,    67,  1,     10,     15,2,19930930,2317,-30.1005, 154.1537, 4674,   1591.6,   3.1810,  34.5710,2,  34.5720,2,    151.0,2,    149.4,2,    91.30,2,     2.56,2
      09FA0793,  PR11,    67,  1,     11,     77,2,19930930,2317,-30.1005, 154.1537, 4674,   1791.1,   2.6980,  34.6160,2,  34.6100,2,    152.2,2,    149.7,2,    97.75,2,     2.55,2
      09FA0793,  PR11,    67,  1,     12,     27,2,19930930,2317,-30.1005, 154.1537, 4674,   1991.3,   2.4450,  34.6490,2,  34.6440,2,    161.5,2,    158.4,2,    97.74,2,     2.52,2
      09FA0793,  PR11,    67,  1,     13,     29,2,19930930,2317,-30.1005, 154.1537, 4674,   2193.0,   2.2140,  34.6830,2,  34.6790,2,    172.0,2,    170.3,2,    94.81,2,     2.38,2
      09FA0793,  PR11,    67,  1,     14,     20,2,19930930,2317,-30.1005, 154.1537, 4674,   2392.6,   2.0720,  34.7040,2,  34.7010,2,    179.6,2,    176.3,2,    94.42,2,     2.38,2
      09FA0793,  PR11,    67,  1,     15,     70,2,19930930,2317,-30.1005, 154.1537, 4674,   2594.1,   1.9140,  34.7180,2,  34.7160,2,    184.4,2,    181.7,2,    96.76,2,     2.36,2
      09FA0793,  PR11,    67,  1,     16,     35,2,19930930,2317,-30.1005, 154.1537, 4674,   2794.3,   1.7840,  34.7230,2,  34.7220,2,    188.7,2,    185.2,2,   100.67,2,     2.36,2
      09FA0793,  PR11,    67,  1,     17,     41,2,19930930,2317,-30.1005, 154.1537, 4674,   2995.2,   1.6520,  34.7250,2,  34.7240,2,    191.2,2,    188.1,2,   102.92,2,     2.37,2
      09FA0793,  PR11,    67,  1,     18,     24,2,19930930,2317,-30.1005, 154.1537, 4674,   3196.6,   1.4970,  34.7240,2,  34.7240,2,    193.9,2,    190.5,2,   109.96,2,     2.38,2
      09FA0793,  PR11,    67,  1,     19,     10,2,19930930,2317,-30.1005, 154.1537, 4674,   3395.8,   1.3520,  34.7200,2,  34.7200,2,    196.4,2,    192.4,2,   111.42,2,     2.38,2
      09FA0793,  PR11,    67,  1,     20,     11,2,19930930,2317,-30.1005, 154.1537, 4674,   3596.7,   1.2200,  34.7180,2,  34.7170,2,    198.5,2,    194.0,2,   115.82,2,     2.40,2
      09FA0793,  PR11,    67,  1,     21,     45,2,19930930,2317,-30.1005, 154.1537, 4674,   3797.7,   1.1750,  34.7160,2,  34.7200,2,    198.8,2,    195.4,2,   116.02,2,     2.38,2
      09FA0793,  PR11,    67,  1,     22,     48,2,19930930,2317,-30.1005, 154.1537, 4674,   4098.8,   1.1480,  34.7140,2,  34.7150,2,    199.9,2,    196.7,2,   119.14,2,     2.39,2
      09FA0793,  PR11,    67,  1,     23,      5,2,19930930,2317,-30.1005, 154.1537, 4674,   4384.2,   1.1490,  34.7140,2,  34.7140,2,    201.2,2,    196.7,2,   122.37,2,     2.39,2
      09FA0793,  PR11,    67,  1,     24,     55,2,19930930,2317,-30.1005, 154.1537, 4674,   4673.5,   1.1710,  34.7140,2,  34.7140,2,    201.7,2,    196.9,2,   121.49,2,     2.40,2
      09FA0793,  PR11,    68,  1,      1,      7,2,19931001,0321,-30.0855, 153.9872, 4482,      2.1,  22.1410,  35.7050,2,  35.6890,2,    217.2,2,    225.9,2,     1.07,2,     0.17,2
      09FA0793,  PR11,    68,  1,      2,     42,2,19931001,0321,-30.0855, 153.9872, 4482,     96.0,  20.3320,  35.7420,2,  35.7420,2,    223.5,2,    218.7,2,     1.37,2,     0.22,2
      09FA0793,  PR11,    68,  1,      3,      6,2,19931001,0321,-30.0855, 153.9872, 4482,    195.9,  19.2120,  35.6270,2,  35.5880,2,    192.0,2,    183.9,2,     2.15,2,     0.47,2
      09FA0793,  PR11,    68,  1,      4,      3,2,19931001,0321,-30.0855, 153.9872, 4482,    395.2,  13.1290,  35.1120,2,  35.1360,2,    179.7,2,    175.7,2,     5.67,2,     1.07,2
      09FA0793,  PR11,    68,  1,      5,     18,2,19931001,0321,-30.0855, 153.9872, 4482,    591.2,   9.0600,  34.6860,2,  34.6950,2,    193.8,2,    189.2,2,    10.85,2,     1.61,2
      09FA0793,  PR11,    68,  1,      6,      2,2,19931001,0321,-30.0855, 153.9872, 4482,    790.9,   6.7870,  34.4830,2,  34.4910,2,    198.3,2,    178.6,2,    21.90,2,     2.00,2
      09FA0793,  PR11,    68,  1,      7,     28,2,19931001,0321,-30.0855, 153.9872, 4482,    989.9,   5.1480,  34.4560,2,  34.4550,2,    182.0,2,    177.8,2,    40.96,2,     2.29,2
      09FA0793,  PR11,    68,  1,      8,      4,2,19931001,0321,-30.0855, 153.9872, 4482,   1191.5,   4.2670,  34.4870,2,  34.4870,2,    169.8,2,    166.2,2,    60.51,2,     2.46,2
      09FA0793,  PR11,    68,  1,      9,      8,2,19931001,0321,-30.0855, 153.9872, 4482,   1390.8,   3.6470,  34.5320,2,  34.5320,2,    159.1,2,    155.8,2,    78.79,2,     2.56,2
      09FA0793,  PR11,    68,  1,     10,     15,2,19931001,0321,-30.0855, 153.9872, 4482,   1589.0,   3.2140,  34.5680,2,  34.5660,2,    152.6,2,    149.1,2,    91.98,2,     2.62,2
      09FA0793,  PR11,    68,  1,     11,     77,2,19931001,0321,-30.0855, 153.9872, 4482,   1792.4,   2.8050,  34.6060,2,  34.6100,2,    151.4,2,    149.3,2,   100.39,2,     2.65,2
      09FA0793,  PR11,    68,  1,     12,     27,2,19931001,0321,-30.0855, 153.9872, 4482,   1991.2,   2.3610,  34.6600,2,  34.6680,2,    164.6,2,    159.9,2,   100.09,2,     2.57,2
      09FA0793,  PR11,    68,  1,     13,     29,2,19931001,0321,-30.0855, 153.9872, 4482,   2193.1,   2.1250,  34.6960,2,  34.6920,2,    176.5,2,    171.3,2,   100.97,2,     2.43,2
      09FA0793,  PR11,    68,  1,     14,     20,2,19931001,0321,-30.0855, 153.9872, 4482,   2393.4,   1.9920,  34.7100,2,  34.7070,2,    181.1,2,    175.0,2,   100.09,2,     2.49,2
      09FA0793,  PR11,    68,  1,     15,     70,2,19931001,0321,-30.0855, 153.9872, 4482,   2591.7,   1.8790,  34.7190,2,  34.7180,2,    185.5,2,    175.2,2,   103.51,2,     2.50,2
      09FA0793,  PR11,    68,  1,     16,     35,2,19931001,0321,-30.0855, 153.9872, 4482,   2796.7,   1.7300,  34.7230,2,  34.7240,2,    189.6,2,    184.8,2,   108.98,2,     2.50,2
      09FA0793,  PR11,    68,  1,     17,     41,2,19931001,0321,-30.0855, 153.9872, 4482,   2995.4,   1.4790,  34.7230,2,  34.7230,2,    193.5,2,    188.4,2,   112.30,2,     2.50,2
      09FA0793,  PR11,    68,  1,     18,     24,2,19931001,0321,-30.0855, 153.9872, 4482,   3195.7,   1.3820,  34.7210,2,  34.7220,2,    195.2,2,    187.2,2,   114.94,2,     2.50,2
      09FA0793,  PR11,    68,  1,     19,     10,2,19931001,0321,-30.0855, 153.9872, 4482,   3398.2,   1.3090,  34.7200,2,  34.7190,2,    196.6,2,    192.6,2,   117.58,2,     2.50,2
      09FA0793,  PR11,    68,  1,     20,     11,2,19931001,0321,-30.0855, 153.9872, 4482,   3597.8,   1.2230,  34.7170,2,  34.7180,2,    198.0,2,    193.4,2,   122.17,2,     2.51,2
      09FA0793,  PR11,    68,  1,     21,     45,2,19931001,0321,-30.0855, 153.9872, 4482,   3796.7,   1.1860,  34.7160,2,  34.7180,2,    199.2,2,    193.9,2,   121.29,2,     2.52,2
      09FA0793,  PR11,    68,  1,     22,     48,2,19931001,0321,-30.0855, 153.9872, 4482,   4097.8,   1.1470,  34.7140,2,  34.7150,2,    200.8,2,    194.7,2,   122.47,2,     2.53,2
      09FA0793,  PR11,    68,  1,     23,      5,2,19931001,0321,-30.0855, 153.9872, 4482,   4391.3,   1.1400,  34.7130,2,  34.7140,2,    202.3,2,    195.5,2,   123.74,2,     2.52,2
      09FA0793,  PR11,    68,  1,     24,     55,2,19931001,0321,-30.0855, 153.9872, 4482,   4482.4,   1.1480,  34.7130,2,  34.7140,2,    200.5,2,    193.4,2,   125.69,2,     2.52,2
      09FA0793,  PR11,    69,  1,      1,      7,2,19931001,0700,-30.0788, 153.9170, 2920,      1.7,  22.6370,  35.6650,2,  35.6550,2,    213.9,2,    218.4,2,     1.27,2,     0.23,2
      09FA0793,  PR11,    69,  1,      2,     42,2,19931001,0700,-30.0788, 153.9170, 2920,     47.1,  21.9910,  35.7610,2,  35.7420,2,    225.1,2,    217.4,2,     0.98,2,     0.23,2
      09FA0793,  PR11,    69,  1,      3,      6,2,19931001,0700,-30.0788, 153.9170, 2920,     96.8,  20.6890,  35.7260,2,  35.6720,2,    206.9,2,    182.3,2,     1.56,2,     0.44,2
      09FA0793,  PR11,    69,  1,      4,      3,2,19931001,0700,-30.0788, 153.9170, 2920,    147.0,  20.1490,  35.7190,2,  35.7100,2,    212.6,2,    204.1,2,     1.37,2,     0.35,2
      09FA0793,  PR11,    69,  1,      5,     18,2,19931001,0700,-30.0788, 153.9170, 2920,    196.6,  18.7990,  35.5910,2,  35.5670,2,    190.5,2,    183.1,2,     2.05,2,     0.54,2
      09FA0793,  PR11,    69,  1,      6,      2,2,19931001,0700,-30.0788, 153.9170, 2920,    245.1,  17.3220,  35.4970,2,  35.4800,2,    182.1,2,    180.3,2,     2.54,2,     0.67,2
      09FA0793,  PR11,    69,  1,      7,     28,2,19931001,0700,-30.0788, 153.9170, 2920,    294.0,  16.0110,  35.3940,2,  35.3800,2,    180.9,2,    178.5,2,     3.22,2,     0.81,2
      09FA0793,  PR11,    69,  1,      8,      4,2,19931001,0700,-30.0788, 153.9170, 2920,    391.9,  13.1870,  35.1290,2,  35.1270,2,    183.3,2,    181.2,2,     5.28,2,     1.13,2
      09FA0793,  PR11,    69,  1,      9,      8,2,19931001,0700,-30.0788, 153.9170, 2920,    492.6,  10.8890,  34.8670,2,-999.0000,4,    183.5,2,    182.5,2,     8.11,2,     1.48,2
      09FA0793,  PR11,    69,  1,     10,     15,2,19931001,0700,-30.0788, 153.9170, 2920,    592.1,   9.0590,  34.6730,2,  34.6670,2,    194.3,2,    186.1,2,    11.83,2,     1.76,2
      09FA0793,  PR11,    69,  1,     11,     77,2,19931001,0700,-30.0788, 153.9170, 2920,    691.0,   7.7660,  34.5490,2,  34.5470,2,    196.5,2,    192.4,2,    15.84,2,     1.96,2
      09FA0793,  PR11,    69,  1,     12,     27,2,19931001,0700,-30.0788, 153.9170, 2920,    792.1,   6.7560,  34.4810,2,  34.4810,2,    194.2,2,    189.7,2,    22.39,2,     2.11,2
      09FA0793,  PR11,    69,  1,     13,     29,2,19931001,0700,-30.0788, 153.9170, 2920,    992.5,   5.2320,  34.4540,2,  34.4570,2,    186.4,2,    177.6,2,    44.68,2,     2.31,2
      09FA0793,  PR11,    69,  1,     14,     20,2,19931001,0700,-30.0788, 153.9170, 2920,   1189.5,   4.2220,  34.4900,2,  34.4920,2,    169.2,2,    165.4,2,    63.83,2,     2.51,2
      09FA0793,  PR11,    69,  1,     15,     70,2,19931001,0700,-30.0788, 153.9170, 2920,   1391.1,   3.5610,  34.5380,2,  34.5360,2,    158.6,2,    156.0,2,    81.33,2,     2.61,2
      09FA0793,  PR11,    69,  1,     16,     35,2,19931001,0700,-30.0788, 153.9170, 2920,   1590.4,   3.0460,  34.5820,2,  34.5810,2,    151.0,2,    148.0,2,    97.26,2,     2.68,2
      09FA0793,  PR11,    69,  1,     17,     41,2,19931001,0700,-30.0788, 153.9170, 2920,   1793.0,   2.5340,  34.6360,2,  34.6390,2,    158.4,2,    154.4,2,   102.14,2,     2.64,2
      09FA0793,  PR11,    69,  1,     18,     24,2,19931001,0700,-30.0788, 153.9170, 2920,   1992.7,   2.3170,  34.6660,2,  34.6720,2,    167.2,2,    164.9,2,    99.40,2,     2.58,2
      09FA0793,  PR11,    69,  1,     19,     10,2,19931001,0700,-30.0788, 153.9170, 2920,   2192.1,   2.1740,  34.6890,2,  34.6850,2,    173.9,2,    170.1,2,    99.21,2,     2.56,2
      09FA0793,  PR11,    69,  1,     20,     11,2,19931001,0700,-30.0788, 153.9170, 2920,   2392.4,   2.0390,  34.7060,2,  34.7050,2,    180.8,2,    176.2,2,   101.55,2,     2.53,2
      09FA0793,  PR11,    69,  1,     21,     45,2,19931001,0700,-30.0788, 153.9170, 2920,   2593.2,   1.8930,  34.7150,2,  34.7190,2,    184.9,2,    182.0,2,   103.99,2,     2.48,2
      09FA0793,  PR11,    69,  1,     22,     55,2,19931001,0700,-30.0788, 153.9170, 2920,   2863.6,   1.6100,  34.7230,2,  34.7240,2,    191.6,2,    187.7,2,   110.15,2,     2.48,2