BOTTLE,20010801WHPSIOKJU
EXPOCODE,SECT_ID,STNNBR,CASTNO,SAMPNO,BTLNBR,BTLNBR_FLAG_W,DATE,TIME,LATITUDE,LONGITUDE,DEPTH,CTDPRS,CTDTMP,CTDSAL,CTDSAL_FLAG_W,SALNTY,SALNTY_FLAG_W,CTDOXY,CTDOXY_FLAG_W,OXYGEN,OXYGEN_FLAG_W,SILCAT,SILCAT_FLAG_W,PHSPHT,PHSPHT_FLAG_W
,,,,,,,,,,,,DBAR,ITS-90,PSS-78,,PSS-78,,UMOL/KG,,UMOL/KG,,UMOL/KG,,UMOL/KG,
      09FA0793,  PR11,    35,  1,      1,      7,2,19930923,1506,-33.6078, 172.4758, 1432,      2.6,  16.5870,  35.6150,2,  35.6140,2,    238.1,2,    236.0,2,     2.05,2,     0.28,2
      09FA0793,  PR11,    35,  1,      2,     15,2,19930923,1506,-33.6078, 172.4758, 1432,     47.5,  16.6120,  35.6150,2,  35.6150,2,    239.0,2,    235.4,2,     1.95,2,     0.28,2
      09FA0793,  PR11,    35,  1,      3,      2,2,19930923,1506,-33.6078, 172.4758, 1432,     97.0,  16.3150,  35.5730,2,  35.5940,2,    232.4,2,    231.9,2,     1.95,2,     0.30,2
      09FA0793,  PR11,    35,  1,      4,     28,2,19930923,1506,-33.6078, 172.4758, 1432,    146.5,  15.2550,  35.4040,2,  35.3840,2,    210.3,2,    201.2,2,     3.32,2,     0.56,2
      09FA0793,  PR11,    35,  1,      5,     55,2,19930923,1506,-33.6078, 172.4758, 1432,    197.4,  14.0580,  35.2620,2,  35.2270,2,    200.4,2,    195.6,2,     4.49,2,     0.76,2
      09FA0793,  PR11,    35,  1,      6,     77,2,19930923,1506,-33.6078, 172.4758, 1432,    247.8,  13.2510,  35.1780,2,  35.1870,2,    199.9,2,    196.4,2,     4.89,2,     0.80,2
      09FA0793,  PR11,    35,  1,      7,     27,2,19930923,1506,-33.6078, 172.4758, 1432,    295.9,  12.5940,  35.1070,2,  35.0460,2,    195.7,2,    194.7,2,     6.35,2,     0.99,2
      09FA0793,  PR11,    35,  1,      8,     20,2,19930923,1506,-33.6078, 172.4758, 1432,    395.1,  10.7880,  34.9040,2,  34.8990,2,    194.3,2,    192.4,2,     9.58,2,     1.18,2
      09FA0793,  PR11,    35,  1,      9,      4,2,19930923,1506,-33.6078, 172.4758, 1432,    492.1,   9.3450,  34.7540,2,  34.7700,2,    191.9,2,    191.6,2,    13.10,2,     1.36,2
      09FA0793,  PR11,    35,  1,     10,      7,2,19930923,1506,-33.6078, 172.4758, 1432,    594.0,   8.6240,  34.6840,2,  34.6890,2,    191.2,2,   -999.0,4,    16.23,2,     1.51,2
      09FA0793,  PR11,    35,  1,     11,     35,2,19930923,1506,-33.6078, 172.4758, 1432,    694.5,   7.7830,  34.6060,2,  34.5810,2,    189.5,2,    187.3,2,    21.50,2,     1.70,2
      09FA0793,  PR11,    35,  1,     12,      3,2,19930923,1506,-33.6078, 172.4758, 1432,    792.2,   6.7740,  34.5370,2,  34.5360,2,    190.9,2,    186.2,2,    28.15,2,     1.83,2
      09FA0793,  PR11,    35,  1,     13,     11,2,19930923,1506,-33.6078, 172.4758, 1432,    989.8,   5.9140,  34.5070,2,  34.5090,2,    188.2,2,    179.0,2,    43.01,2,     2.04,2
      09FA0793,  PR11,    35,  1,     14,     10,2,19930923,1506,-33.6078, 172.4758, 1432,   1187.8,   4.7260,  34.5250,2,  34.5260,2,    178.9,2,    172.2,2,    59.14,2,     2.15,2
      09FA0793,  PR11,    35,  1,     15,      5,2,19930923,1506,-33.6078, 172.4758, 1432,   1382.5,   3.8360,  34.5560,2,  34.5550,2,    168.9,2,    164.3,2,    76.64,2,     2.28,2
      09FA0793,  PR11,    35,  1,     16,     42,2,19930923,1506,-33.6078, 172.4758, 1432,   1430.2,   3.6090,  34.5670,2,  34.5680,2,    167.3,2,    163.5,2,    79.76,2,     2.32,2
      09FA0793,  PR11,    36,  1,      1,      7,2,19930923,2152,-32.7385, 172.3858, 1824,      4.0,  15.9070,  35.4970,2,  35.4950,2,    233.8,2,    240.6,2,     1.86,2,     0.31,2
      09FA0793,  PR11,    36,  1,      2,     45,2,19930923,2152,-32.7385, 172.3858, 1824,     47.0,  15.9100,  35.4980,2,  35.4930,2,    234.1,2,    239.2,2,     1.76,2,     0.31,2
      09FA0793,  PR11,    36,  1,      3,     15,2,19930923,2152,-32.7385, 172.3858, 1824,     95.8,  15.4000,  35.4420,2,  35.3940,2,    224.6,2,    218.7,2,     2.83,2,     0.47,2
      09FA0793,  PR11,    36,  1,      4,      2,2,19930923,2152,-32.7385, 172.3858, 1824,    144.0,  13.9650,  35.2740,2,  35.2790,2,    207.7,2,    197.0,2,     3.91,2,     0.63,2
      09FA0793,  PR11,    36,  1,      5,     28,2,19930923,2152,-32.7385, 172.3858, 1824,    196.7,  12.7880,  35.1500,2,  35.1700,2,    203.3,2,    201.8,2,     5.08,2,     0.77,2
      09FA0793,  PR11,    36,  1,      6,     55,2,19930923,2152,-32.7385, 172.3858, 1824,    246.6,  12.5660,  35.1240,2,  35.1090,2,    202.8,2,    202.4,2,     5.67,2,     0.86,2
      09FA0793,  PR11,    36,  1,      7,     77,2,19930923,2152,-32.7385, 172.3858, 1824,    295.2,  11.3990,  34.9910,2,  35.0030,2,    201.2,2,    199.3,2,     6.94,2,     0.98,2
      09FA0793,  PR11,    36,  1,      8,     27,2,19930923,2152,-32.7385, 172.3858, 1824,    394.2,  10.3260,  34.8570,2,  34.8560,2,    194.3,2,    193.5,2,     9.58,2,     1.20,2
      09FA0793,  PR11,    36,  1,      9,     20,2,19930923,2152,-32.7385, 172.3858, 1824,    494.4,   8.8920,  34.7050,2,  34.6970,2,    192.1,2,    187.3,2,    14.95,2,     1.48,2
      09FA0793,  PR11,    36,  1,     10,      4,2,19930923,2152,-32.7385, 172.3858, 1824,    591.5,   8.0300,  34.6310,2,  34.6180,2,    188.0,2,    186.5,2,    20.23,2,     1.63,2
      09FA0793,  PR11,    36,  1,     11,      8,2,19930923,2152,-32.7385, 172.3858, 1824,    690.1,   7.4210,  34.5700,2,  34.5440,2,    193.4,2,    189.4,2,    22.09,2,     1.68,2
      09FA0793,  PR11,    36,  1,     12,     35,2,19930923,2152,-32.7385, 172.3858, 1824,    794.9,   6.6230,  34.5010,2,  34.5010,2,    196.7,2,    184.4,2,    28.35,2,     1.81,2
      09FA0793,  PR11,    36,  1,     13,      3,2,19930923,2152,-32.7385, 172.3858, 1824,    989.5,   5.2390,  34.4900,2,  34.4870,2,    182.7,2,    178.1,2,    42.62,2,     2.01,2
      09FA0793,  PR11,    36,  1,     14,     11,2,19930923,2152,-32.7385, 172.3858, 1824,   1190.7,   4.5160,  34.5110,2,  34.5110,2,    175.7,2,    171.4,2,    58.16,2,     2.16,2
      09FA0793,  PR11,    36,  1,     15,     24,2,19930923,2152,-32.7385, 172.3858, 1824,   1390.2,   3.6060,  34.5510,2,  34.5490,2,    169.1,2,    158.9,2,    79.86,2,     2.27,2
      09FA0793,  PR11,    36,  1,     16,     10,2,19930923,2152,-32.7385, 172.3858, 1824,   1591.4,   3.1210,  34.5810,2,  34.5780,2,    164.7,2,    157.6,2,    90.52,2,     2.34,2
      09FA0793,  PR11,    36,  1,     17,      5,2,19930923,2152,-32.7385, 172.3858, 1824,   1777.4,   2.7730,  34.6050,2,  34.6050,2,    161.1,2,    156.3,2,   102.63,2,     2.38,2
      09FA0793,  PR11,    36,  1,     18,     42,2,19930923,2152,-32.7385, 172.3858, 1824,   1815.7,   2.6910,  34.6120,2,  34.6110,2,    161.0,2,    155.2,2,   104.69,2,     2.39,2
      09FA0793,  PR11,    37,  1,      1,     45,2,19930924,0313,-32.0278, 172.4470, 1322,     47.8,  16.2980,  35.4020,2,  35.5500,2,    236.2,2,    238.8,2,     0.00,2,     0.34,2
      09FA0793,  PR11,    37,  1,      2,     15,2,19930924,0313,-32.0278, 172.4470, 1322,     95.8,  15.5610,  35.3810,2,  35.4440,2,    234.8,2,    235.0,2,     2.34,2,     0.39,2
      09FA0793,  PR11,    37,  1,      3,      2,2,19930924,0313,-32.0278, 172.4470, 1322,    145.4,  15.1650,  35.3730,2,  35.3930,2,    232.2,2,    225.9,2,     2.74,2,     0.50,2
      09FA0793,  PR11,    37,  1,      4,     28,2,19930924,0313,-32.0278, 172.4470, 1322,    198.3,  14.3920,  35.3160,2,  35.2580,2,    204.2,2,    198.3,2,     4.20,2,     0.75,2
      09FA0793,  PR11,    37,  1,      5,     55,2,19930924,0313,-32.0278, 172.4470, 1322,    245.5,  13.1730,  35.1580,2,  35.1600,2,    192.4,2,    190.5,2,     4.89,2,     0.89,2
      09FA0793,  PR11,    37,  1,      6,     77,2,19930924,0313,-32.0278, 172.4470, 1322,    295.0,  11.9480,  35.0560,2,  35.1270,2,    199.0,2,    201.6,2,     5.18,2,     0.89,2
      09FA0793,  PR11,    37,  1,      7,     27,2,19930924,0313,-32.0278, 172.4470, 1322,    392.7,  10.6480,  34.8870,2,  34.9280,2,    195.9,2,    194.9,2,     7.52,2,     1.16,2
      09FA0793,  PR11,    37,  1,      8,     20,2,19930924,0313,-32.0278, 172.4470, 1322,    493.8,   8.8740,  34.6890,2,  34.7200,2,    192.0,2,    189.5,2,    13.88,2,     1.50,2
      09FA0793,  PR11,    37,  1,      9,      8,2,19930924,0313,-32.0278, 172.4470, 1322,    593.7,   8.2820,  34.6320,2,  34.6480,2,    193.5,2,    189.2,2,    16.32,2,     1.58,2
      09FA0793,  PR11,    37,  1,     10,     35,2,19930924,0313,-32.0278, 172.4470, 1322,    791.7,   6.6450,  34.4890,2,  34.4940,2,    196.2,2,    190.3,2,    24.83,2,     1.90,2
      09FA0793,  PR11,    37,  1,     11,      3,2,19930924,0313,-32.0278, 172.4470, 1322,    990.8,   5.3790,  34.4960,2,  34.4990,2,    181.2,2,    176.2,2,    45.26,2,     2.18,2
      09FA0793,  PR11,    37,  1,     12,     24,2,19930924,0313,-32.0278, 172.4470, 1322,   1189.7,   4.5820,  34.5040,2,  34.5150,2,    174.6,2,    168.1,2,    62.07,2,     2.28,2
      09FA0793,  PR11,    37,  1,     13,     10,2,19930924,0313,-32.0278, 172.4470, 1322,   1189.7,   4.5820,  34.5040,2,  34.5150,2,    174.6,2,    168.9,2,    62.27,2,     2.27,2
      09FA0793,  PR11,    37,  1,     14,      5,2,19930924,0313,-32.0278, 172.4470, 1322,   1286.7,   4.1090,  34.5230,2,  34.5250,2,    172.7,2,    165.2,2,    68.82,2,     2.36,2
      09FA0793,  PR11,    37,  1,     15,     42,2,19930924,0313,-32.0278, 172.4470, 1322,   1318.6,   4.0840,  34.5250,2,  34.5260,2,    172.0,2,    164.9,2,    67.94,2,     2.31,2
      09FA0793,  PR11,    38,  1,      1,      7,2,19930924,0751,-31.3807, 172.5332, 1294,      4.4,  17.9980,  35.7050,2,  35.7110,2,    229.5,2,    229.0,2,     0.00,2,     0.00,2
      09FA0793,  PR11,    38,  1,      2,     45,2,19930924,0751,-31.3807, 172.5332, 1294,     48.3,  18.0040,  35.7030,2,  35.7040,2,    229.5,2,    229.6,2,     1.66,2,     0.21,2
      09FA0793,  PR11,    38,  1,      3,     15,2,19930924,0751,-31.3807, 172.5332, 1294,     96.7,  17.7710,  35.6960,2,  35.6950,2,    231.0,2,    227.7,2,     1.66,2,     0.19,2
      09FA0793,  PR11,    38,  1,      4,      2,2,19930924,0751,-31.3807, 172.5332, 1294,    146.8,  17.4670,  35.6650,2,  35.6610,2,    226.6,2,    222.6,2,     1.95,2,     0.22,2
      09FA0793,  PR11,    38,  1,      5,     55,2,19930924,0751,-31.3807, 172.5332, 1294,    196.1,  16.4360,  35.5220,2,  35.5260,2,    208.9,2,    207.7,2,     2.64,2,     0.38,2
      09FA0793,  PR11,    38,  1,      6,     77,2,19930924,0751,-31.3807, 172.5332, 1294,    294.7,  14.4560,  35.2950,2,  35.2940,2,    202.8,2,    196.7,2,     4.10,2,     0.64,2
      09FA0793,  PR11,    38,  1,      7,     27,2,19930924,0751,-31.3807, 172.5332, 1294,    392.4,  12.9900,  35.1390,2,  35.1150,2,    194.7,2,    187.9,2,     5.67,2,     0.84,2
      09FA0793,  PR11,    38,  1,      8,     20,2,19930924,0751,-31.3807, 172.5332, 1294,    491.6,  11.5340,  34.9550,2,  34.9470,2,    190.3,2,    189.8,2,     7.62,2,     1.07,2
      09FA0793,  PR11,    38,  1,      9,     35,2,19930924,0751,-31.3807, 172.5332, 1294,    591.6,   9.5990,  34.7410,2,  34.7600,2,    191.4,2,    190.1,2,    10.26,2,     1.34,2
      09FA0793,  PR11,    38,  1,     10,      3,2,19930924,0751,-31.3807, 172.5332, 1294,    691.5,   8.3390,  34.6380,2,  34.6410,2,    191.6,2,    187.7,2,    16.81,2,     1.58,2
      09FA0793,  PR11,    38,  1,     11,     24,2,19930924,0751,-31.3807, 172.5332, 1294,    790.4,   7.8130,  34.6050,2,  34.6030,2,    190.6,2,    185.5,2,    21.21,2,     1.70,2
      09FA0793,  PR11,    38,  1,     12,     10,2,19930924,0751,-31.3807, 172.5332, 1294,    990.9,   6.0399,  34.5110,2,  34.5160,2,    186.1,2,    179.1,2,    36.56,2,     1.96,2
      09FA0793,  PR11,    38,  1,     13,      5,2,19930924,0751,-31.3807, 172.5332, 1294,   1193.1,   5.0720,  34.5030,2,  34.5090,2,    180.2,2,    174.8,2,    51.32,2,     2.10,2
      09FA0793,  PR11,    38,  1,     14,     42,2,19930924,0751,-31.3807, 172.5332, 1294,   1290.9,   4.2780,  34.5170,2,  34.5250,2,    177.6,2,    166.0,2,    66.77,2,     2.23,2
      09FA0793,  PR11,    39,  1,      1,      7,2,19930924,2242,-30.0902, 171.9913, 2800,      4.5,  17.9440,  35.7210,2,  35.7280,2,   -999.0,4,    232.3,2,     1.37,2,     0.21,2
      09FA0793,  PR11,    39,  1,      2,      4,2,19930924,2242,-30.0902, 171.9913, 2800,     46.9,  17.9410,  35.7190,2,  35.7260,2,   -999.0,4,    229.0,2,     1.37,2,     0.19,2
      09FA0793,  PR11,    39,  1,      3,     45,2,19930924,2242,-30.0902, 171.9913, 2800,     97.1,  17.9440,  35.7180,2,  35.7250,2,    241.9,2,    229.0,2,     1.17,2,     0.21,2
      09FA0793,  PR11,    39,  1,      4,      2,2,19930924,2242,-30.0902, 171.9913, 2800,    146.6,  17.8310,  35.7040,2,  35.7000,2,    235.2,2,    229.0,2,     1.37,2,     0.23,2
      09FA0793,  PR11,    39,  1,      5,     28,2,19930924,2242,-30.0902, 171.9913, 2800,    195.4,  17.5470,  35.6890,2,  35.6900,2,    228.8,2,    225.8,2,     1.27,2,     0.27,2
      09FA0793,  PR11,    39,  1,      6,     55,2,19930924,2242,-30.0902, 171.9913, 2800,    244.1,  17.3880,  35.6810,2,  35.6780,2,    234.5,2,    226.1,2,     1.37,2,     0.27,2
      09FA0793,  PR11,    39,  1,      7,      8,2,19930924,2242,-30.0902, 171.9913, 2800,    291.0,  17.1810,  35.6400,2,  35.6110,2,    228.7,2,    216.0,2,     1.56,2,     0.33,2
      09FA0793,  PR11,    39,  1,      8,     77,2,19930924,2242,-30.0902, 171.9913, 2800,    394.2,  15.0710,  35.3540,2,  35.3530,2,    201.9,2,    195.9,2,     3.52,2,     0.59,2
      09FA0793,  PR11,    39,  1,      9,     11,2,19930924,2242,-30.0902, 171.9913, 2800,    492.1,  13.1260,  35.1480,2,  35.1100,2,    192.9,2,    190.5,2,     5.28,2,     0.85,2
      09FA0793,  PR11,    39,  1,     10,     27,2,19930924,2242,-30.0902, 171.9913, 2800,    591.3,  11.0160,  34.9210,2,  34.9340,2,    197.9,2,    193.5,2,     7.13,2,     1.07,2
      09FA0793,  PR11,    39,  1,     11,     29,2,19930924,2242,-30.0902, 171.9913, 2800,    690.9,   9.2570,  34.7060,2,  34.7210,2,    197.0,2,   -999.0,4,    10.36,2,     1.34,2
      09FA0793,  PR11,    39,  1,     12,     20,2,19930924,2242,-30.0902, 171.9913, 2800,    789.4,   8.0100,  34.5880,2,  34.5890,2,    201.0,2,    194.1,2,    15.64,2,     1.56,2
      09FA0793,  PR11,    39,  1,     13,     70,2,19930924,2242,-30.0902, 171.9913, 2800,    989.0,   6.4820,  34.5200,2,  34.5170,2,    189.7,2,    183.7,2,    30.01,2,     1.84,2
      09FA0793,  PR11,    39,  1,     14,     35,2,19930924,2242,-30.0902, 171.9913, 2800,   1191.0,   4.9370,  34.4840,2,  34.4890,2,    182.8,2,    176.9,2,    44.58,2,     2.09,2
      09FA0793,  PR11,    39,  1,     15,     48,2,19930924,2242,-30.0902, 171.9913, 2800,   1390.8,   3.7830,  34.5290,2,  34.5330,2,    172.9,2,    164.9,2,    71.36,2,     2.31,2
      09FA0793,  PR11,    39,  1,     16,      3,2,19930924,2242,-30.0902, 171.9913, 2800,   1595.2,   3.1990,  34.5700,2,  34.5720,2,    165.3,2,    158.5,2,    84.65,2,     2.39,2
      09FA0793,  PR11,    39,  1,     17,     41,2,19930924,2242,-30.0902, 171.9913, 2800,   1792.1,   2.6760,  34.6100,2,  34.6060,2,    162.8,2,    156.0,2,  -999.00,4,  -999.00,4
      09FA0793,  PR11,    39,  1,     18,     24,2,19930924,2242,-30.0902, 171.9913, 2800,   1991.4,   2.4340,  34.6300,2,  34.6320,2,    160.8,2,    151.5,2,    97.26,2,     2.47,2
      09FA0793,  PR11,    39,  1,     19,     10,2,19930924,2242,-30.0902, 171.9913, 2800,   2191.2,   2.2630,  34.6440,2,  34.6440,2,    160.3,2,    154.1,2,   113.97,2,     2.48,2
      09FA0793,  PR11,    39,  1,     20,      9,2,19930924,2242,-30.0902, 171.9913, 2800,   2393.6,   2.0920,  34.6580,2,  34.6600,2,    159.0,2,    152.6,2,   119.25,2,     2.49,2
      09FA0793,  PR11,    39,  1,     21,      5,2,19930924,2242,-30.0902, 171.9913, 2800,   2601.5,   1.9930,  34.6660,2,  34.6670,2,    158.4,2,    149.4,2,   125.40,2,     2.48,2
      09FA0793,  PR11,    39,  1,     22,     42,2,19930924,2242,-30.0902, 171.9913, 2800,   2802.3,   1.9240,  34.6720,2,  34.6730,2,    158.4,2,    152.3,2,   118.56,2,     2.50,2
      09FA0793,  PR11,    40,  1,      1,      7,2,19930925,0442,-30.0908, 171.4903, 2258,      1.9,  18.0370,  35.7130,2,  35.7260,2,   -999.0,4,    229.6,2,     1.17,2,     0.21,2
      09FA0793,  PR11,    40,  1,      2,      2,2,19930925,0442,-30.0908, 171.4903, 2258,     48.2,  18.0570,  35.7260,2,  35.7240,2,   -999.0,4,    225.8,2,     1.27,2,     0.20,2
      09FA0793,  PR11,    40,  1,      3,     28,2,19930925,0442,-30.0908, 171.4903, 2258,     96.6,  18.0180,  35.7220,2,  35.7270,2,   -999.0,4,    229.6,2,     1.27,2,     0.20,2
      09FA0793,  PR11,    40,  1,      4,     55,2,19930925,0442,-30.0908, 171.4903, 2258,    148.4,  17.5760,  35.6430,2,  35.6430,2,   -999.0,4,    212.7,2,     1.66,2,     0.32,2
      09FA0793,  PR11,    40,  1,      5,      8,2,19930925,0442,-30.0908, 171.4903, 2258,    195.1,  17.3040,  35.6390,2,  35.6420,2,   -999.0,4,    218.1,2,     2.05,2,     0.41,2
      09FA0793,  PR11,    40,  1,      6,     77,2,19930925,0442,-30.0908, 171.4903, 2258,    246.7,  16.8030,  35.5730,2,  35.5690,2,   -999.0,4,    207.7,2,     1.95,2,     0.39,2
      09FA0793,  PR11,    40,  1,      7,     11,2,19930925,0442,-30.0908, 171.4903, 2258,    292.4,  16.3420,  35.5110,2,  35.5000,2,   -999.0,4,    206.3,2,     2.25,2,     0.46,2
      09FA0793,  PR11,    40,  1,      8,     27,2,19930925,0442,-30.0908, 171.4903, 2258,    393.3,  13.5610,  35.1950,2,  35.1930,2,   -999.0,4,    193.7,2,     4.40,2,     0.81,2
      09FA0793,  PR11,    40,  1,      9,     29,2,19930925,0442,-30.0908, 171.4903, 2258,    493.1,  12.4500,  35.0710,2,  35.0560,2,    198.6,2,    189.8,2,     5.47,2,     1.00,2
      09FA0793,  PR11,    40,  1,     10,     20,2,19930925,0442,-30.0908, 171.4903, 2258,    591.8,  10.7440,  34.8760,2,  34.8300,2,    200.2,2,    192.2,2,     8.21,2,     1.25,2
      09FA0793,  PR11,    40,  1,     11,     70,2,19930925,0442,-30.0908, 171.4903, 2258,    691.2,   9.1920,  34.6980,2,  34.6750,2,    200.7,2,    191.7,2,    10.75,2,     1.45,2
      09FA0793,  PR11,    40,  1,     12,     35,2,19930925,0442,-30.0908, 171.4903, 2258,    790.9,   8.1960,  34.5890,2,  34.5810,2,    206.1,2,    196.0,2,    12.51,2,     1.56,2
      09FA0793,  PR11,    40,  1,     13,     48,2,19930925,0442,-30.0908, 171.4903, 2258,    991.2,   6.1390,  34.4410,2,  34.4440,2,    203.7,2,    189.6,2,    26.59,2,     1.97,2
      09FA0793,  PR11,    40,  1,     14,      3,2,19930925,0442,-30.0908, 171.4903, 2258,   1189.8,   4.9070,  34.4520,2,  34.4560,2,    187.7,2,    178.6,2,    42.13,2,     2.16,2
      09FA0793,  PR11,    40,  1,     15,     41,2,19930925,0442,-30.0908, 171.4903, 2258,   1390.9,   3.9660,  34.5030,2,  34.5030,2,    177.6,2,    170.5,2,    60.51,2,     2.34,2
      09FA0793,  PR11,    40,  1,     16,     24,2,19930925,0442,-30.0908, 171.4903, 2258,   1591.3,   3.2120,  34.5650,2,  34.5570,2,    167.2,2,    162.2,2,    77.32,2,     2.42,2
      09FA0793,  PR11,    40,  1,     17,     10,2,19930925,0442,-30.0908, 171.4903, 2258,   1790.5,   2.8100,  34.5990,2,  34.6010,2,    163.0,2,    156.3,2,    95.70,2,     2.51,2
      09FA0793,  PR11,    40,  1,     18,      9,2,19930925,0442,-30.0908, 171.4903, 2258,   1991.8,   2.4860,  34.6260,2,  34.6270,2,    162.4,2,    155.8,2,   104.20,2,     2.51,2
      09FA0793,  PR11,    40,  1,     19,      5,2,19930925,0442,-30.0908, 171.4903, 2258,   2189.2,   2.2940,  34.6410,2,  34.6400,2,    160.5,2,    154.7,2,   107.81,2,     2.54,2
      09FA0793,  PR11,    40,  1,     20,     42,2,19930925,0442,-30.0908, 171.4903, 2258,   2257.5,   2.2640,  34.6440,2,  34.6440,2,    161.0,2,    153.1,2,   105.27,2,     2.53,2