BOTTLE,20010801WHPSIOKJU
EXPOCODE,SECT_ID,STNNBR,CASTNO,SAMPNO,BTLNBR,BTLNBR_FLAG_W,DATE,TIME,LATITUDE,LONGITUDE,DEPTH,CTDPRS,CTDTMP,CTDSAL,CTDSAL_FLAG_W,SALNTY,SALNTY_FLAG_W,CTDOXY,CTDOXY_FLAG_W,OXYGEN,OXYGEN_FLAG_W,SILCAT,SILCAT_FLAG_W,PHSPHT,PHSPHT_FLAG_W
,,,,,,,,,,,,DBAR,ITS-90,PSS-78,,PSS-78,,UMOL/KG,,UMOL/KG,,UMOL/KG,,UMOL/KG,
      09FA0793,  PR11,    41,  1,      1,     77,2,19930925,0933,-30.0842, 171.0077, 2150,      3.5,  18.6000,  35.7660,2,  35.7560,2,   -999.0,4,    227.8,2,     1.27,2,     0.18,2
      09FA0793,  PR11,    41,  1,      2,     11,2,19930925,0933,-30.0842, 171.0077, 2150,     46.3,  18.6210,  35.7640,2,-999.0000,4,   -999.0,4,    226.9,2,     1.27,2,     0.21,2
      09FA0793,  PR11,    41,  1,      3,     27,2,19930925,0933,-30.0842, 171.0077, 2150,     97.2,  18.3220,  35.7380,2,  35.7570,2,   -999.0,4,    223.5,2,     0.98,2,     0.19,2
      09FA0793,  PR11,    41,  1,      4,     29,2,19930925,0933,-30.0842, 171.0077, 2150,    145.6,  17.9190,  35.7280,2,  35.7450,2,   -999.0,4,    226.4,2,     1.07,2,     0.23,2
      09FA0793,  PR11,    41,  1,      5,     20,2,19930925,0933,-30.0842, 171.0077, 2150,    195.8,  17.5360,  35.6840,2,  35.6980,2,   -999.0,4,    224.8,2,     1.47,2,     0.26,2
      09FA0793,  PR11,    41,  1,      6,     70,2,19930925,0933,-30.0842, 171.0077, 2150,    244.5,  17.1340,  35.6250,2,  35.6460,2,   -999.0,4,    218.9,2,     1.86,2,     0.31,2
      09FA0793,  PR11,    41,  1,      7,     35,2,19930925,0933,-30.0842, 171.0077, 2150,    294.0,  17.0990,  35.6220,2,  35.5660,2,   -999.0,4,    210.9,2,     2.05,2,     0.39,2
      09FA0793,  PR11,    41,  1,      8,     48,2,19930925,0933,-30.0842, 171.0077, 2150,    392.1,  14.7300,  35.3130,2,  35.3170,2,   -999.0,4,    192.2,2,     3.32,2,     0.68,2
      09FA0793,  PR11,    41,  1,      9,      3,2,19930925,0933,-30.0842, 171.0077, 2150,    491.2,  12.5620,  35.0770,2,  35.0740,2,   -999.0,4,    192.2,2,     4.98,2,     0.94,2
      09FA0793,  PR11,    41,  1,     10,     41,2,19930925,0933,-30.0842, 171.0077, 2150,    690.8,   9.0640,  34.6720,2,  34.6900,2,    203.6,2,    199.0,2,     9.19,2,     1.37,2
      09FA0793,  PR11,    41,  1,     11,     24,2,19930925,0933,-30.0842, 171.0077, 2150,    792.5,   7.5210,  34.5400,2,  34.5550,2,    199.2,2,    198.4,2,    14.57,2,     1.60,2
      09FA0793,  PR11,    41,  1,     12,     10,2,19930925,0933,-30.0842, 171.0077, 2150,    990.8,   5.8610,  34.4340,2,  34.4440,2,    202.6,2,    192.6,2,    26.30,2,     1.92,2
      09FA0793,  PR11,    41,  1,     13,      9,2,19930925,0933,-30.0842, 171.0077, 2150,   1188.6,   4.7210,  34.4430,2,  34.4450,2,    191.0,2,    181.3,2,    45.56,2,     2.25,2
      09FA0793,  PR11,    41,  1,     14,      5,2,19930925,0933,-30.0842, 171.0077, 2150,   1391.8,   3.7980,  34.5140,2,  34.5190,2,    177.4,2,    168.4,2,    69.50,2,     2.37,2
      09FA0793,  PR11,    41,  1,     15,     42,2,19930925,0933,-30.0842, 171.0077, 2150,   1592.9,   3.2020,  34.5670,2,  34.5690,2,    169.7,2,    163.3,2,    85.73,2,     2.36,2
      09FA0793,  PR11,    42,  1,      1,      7,2,19930925,1451,-30.0993, 170.5038, 2752,      2.1,  18.4570,  35.7680,2,  35.7670,2,   -999.0,4,    228.8,2,     0.78,2,     0.16,2
      09FA0793,  PR11,    42,  1,      2,     45,2,19930925,1451,-30.0993, 170.5038, 2752,     46.6,  18.4810,  35.7640,2,  35.7640,2,   -999.0,4,    228.5,2,     1.37,2,     0.16,2
      09FA0793,  PR11,    42,  1,      3,      4,2,19930925,1451,-30.0993, 170.5038, 2752,     96.6,  18.4890,  35.7640,2,  35.7610,2,   -999.0,4,    227.5,2,     1.27,2,     0.17,2
      09FA0793,  PR11,    42,  1,      4,     18,2,19930925,1451,-30.0993, 170.5038, 2752,    146.7,  17.9550,  35.7080,2,  35.6440,2,   -999.0,4,    209.5,2,     1.76,2,     0.30,2
      09FA0793,  PR11,    42,  1,      5,      2,2,19930925,1451,-30.0993, 170.5038, 2752,    196.2,  17.4710,  35.6190,2,  35.6200,2,   -999.0,4,    214.1,2,     1.76,2,     0.33,2
      09FA0793,  PR11,    42,  1,      6,     28,2,19930925,1451,-30.0993, 170.5038, 2752,    248.4,  16.6470,  35.5050,2,  35.5210,2,   -999.0,4,    200.7,2,     2.15,2,     0.44,2
      09FA0793,  PR11,    42,  1,      7,     55,2,19930925,1451,-30.0993, 170.5038, 2752,    293.0,  15.8620,  35.4340,2,  35.4180,2,   -999.0,4,    197.5,2,     2.74,2,     0.55,2
      09FA0793,  PR11,    42,  1,      8,      8,2,19930925,1451,-30.0993, 170.5038, 2752,    395.9,  14.0550,  35.2390,2,  35.2140,2,   -999.0,4,    192.2,2,     3.81,2,     0.76,2
      09FA0793,  PR11,    42,  1,      9,     77,2,19930925,1451,-30.0993, 170.5038, 2752,    497.2,  11.8940,  34.9970,2,  34.9530,2,   -999.0,4,    183.7,2,     5.96,2,     1.06,2
      09FA0793,  PR11,    42,  1,     10,     15,2,19930925,1451,-30.0993, 170.5038, 2752,    595.5,  10.2110,  34.7970,2,  34.7940,2,    190.2,2,    186.9,2,     7.53,2,     1.25,2
      09FA0793,  PR11,    42,  1,     11,     27,2,19930925,1451,-30.0993, 170.5038, 2752,    694.2,   9.3030,  34.7100,2,  34.6380,2,    188.5,2,    196.1,2,    10.65,2,     1.47,2
      09FA0793,  PR11,    42,  1,     12,     29,2,19930925,1451,-30.0993, 170.5038, 2752,    793.0,   7.9550,  34.5530,2,  34.4990,2,    198.6,2,    198.4,2,    14.17,2,     1.65,2
      09FA0793,  PR11,    42,  1,     13,     20,2,19930925,1451,-30.0993, 170.5038, 2752,    894.5,   6.9300,  34.4660,2,  34.4410,2,    202.9,2,    201.7,2,    17.89,2,     1.78,2
      09FA0793,  PR11,    42,  1,     14,     70,2,19930925,1451,-30.0993, 170.5038, 2752,    993.4,   6.1130,  34.4270,2,  34.4260,2,    195.4,2,    195.2,2,    23.07,2,     1.88,2
      09FA0793,  PR11,    42,  1,     15,     35,2,19930925,1451,-30.0993, 170.5038, 2752,   1193.9,   4.5520,  34.4450,2,  34.4490,2,    179.9,2,    179.2,2,    46.53,2,     2.18,2
      09FA0793,  PR11,    42,  1,     16,     48,2,19930925,1451,-30.0993, 170.5038, 2752,   1393.9,   3.6510,  34.5160,2,  34.5090,2,    167.7,2,    165.8,2,    70.19,2,     2.33,2
      09FA0793,  PR11,    42,  1,     17,      3,2,19930925,1451,-30.0993, 170.5038, 2752,   1592.7,   3.1290,  34.5660,2,  34.5540,2,    161.5,2,    158.3,2,    84.94,2,     2.39,2
      09FA0793,  PR11,    42,  1,     18,     41,2,19930925,1451,-30.0993, 170.5038, 2752,   1790.9,   2.8130,  34.5970,2,  34.5930,2,    158.5,2,    153.5,2,    96.38,2,     2.44,2
      09FA0793,  PR11,    42,  1,     19,     24,2,19930925,1451,-30.0993, 170.5038, 2752,   1991.1,   2.5260,  34.6230,2,  34.6160,2,    155.9,2,   -999.0,4,   105.96,2,     2.45,2
      09FA0793,  PR11,    42,  1,     20,     10,2,19930925,1451,-30.0993, 170.5038, 2752,   2193.2,   2.2780,  34.6440,2,  34.6430,2,    154.5,2,    152.7,2,   114.65,2,     2.48,2
      09FA0793,  PR11,    42,  1,     21,      9,2,19930925,1451,-30.0993, 170.5038, 2752,   2396.2,   2.1230,  34.6560,2,  34.6540,2,    153.7,2,    151.6,2,   117.78,2,     2.49,2
      09FA0793,  PR11,    42,  1,     22,      5,2,19930925,1451,-30.0993, 170.5038, 2752,   2569.4,   2.0180,  34.6650,2,  34.6640,2,    155.0,2,    149.7,2,   123.55,2,     2.47,2
      09FA0793,  PR11,    42,  1,     23,     42,2,19930925,1451,-30.0993, 170.5038, 2752,   2752.7,   1.9820,  34.6690,2,  34.6660,2,    153.6,2,    153.7,2,   120.91,2,     2.50,2
      09FA0793,  PR11,    43,  1,      1,      7,2,19930925,2046,-30.0897, 169.7503, 2974,      3.2,  18.4570,  35.7560,2,  35.7480,2,   -999.0,4,    228.2,2,     1.37,2,     0.19,2
      09FA0793,  PR11,    43,  1,      2,     45,2,19930925,2046,-30.0897, 169.7503, 2974,     46.0,  18.4650,  35.7540,2,  35.7530,2,   -999.0,4,    228.2,2,     1.37,2,     0.19,2
      09FA0793,  PR11,    43,  1,      3,      4,2,19930925,2046,-30.0897, 169.7503, 2974,     96.5,  18.4390,  35.7520,2,  35.7500,2,   -999.0,4,    226.7,2,     1.27,2,     0.20,2
      09FA0793,  PR11,    43,  1,      4,     18,2,19930925,2046,-30.0897, 169.7503, 2974,    146.7,  18.0370,  35.7260,2,  35.7270,2,   -999.0,4,    226.1,2,     1.37,2,     0.24,2
      09FA0793,  PR11,    43,  1,      5,      2,2,19930925,2046,-30.0897, 169.7503, 2974,    194.9,  17.9780,  35.7250,2,  35.7410,2,   -999.0,4,    224.2,2,     1.17,2,     0.23,2
      09FA0793,  PR11,    43,  1,      6,     28,2,19930925,2046,-30.0897, 169.7503, 2974,    245.0,  17.6620,  35.6860,2,  35.6640,2,   -999.0,4,    220.5,2,     1.47,2,     0.29,2
      09FA0793,  PR11,    43,  1,      7,     55,2,19930925,2046,-30.0897, 169.7503, 2974,    293.3,  16.6090,  35.5060,2,  35.5260,2,   -999.0,4,    202.1,2,     2.15,2,     0.46,2
      09FA0793,  PR11,    43,  1,      8,      8,2,19930925,2046,-30.0897, 169.7503, 2974,    393.7,  14.6330,  35.3090,2,  35.3130,2,   -999.0,4,    194.9,2,     3.61,2,     0.68,2
      09FA0793,  PR11,    43,  1,      9,     77,2,19930925,2046,-30.0897, 169.7503, 2974,    491.8,  12.1280,  35.0220,2,  35.0270,2,   -999.0,4,    192.0,2,     5.57,2,     0.98,2
      09FA0793,  PR11,    43,  1,     10,     15,2,19930925,2046,-30.0897, 169.7503, 2974,    594.2,  10.3810,  34.8120,2,  34.8160,2,   -999.0,4,    193.3,2,     7.62,2,     1.19,2
      09FA0793,  PR11,    43,  1,     11,     27,2,19930925,2046,-30.0897, 169.7503, 2974,    692.0,   8.5900,  34.6070,2,  34.6460,2,    197.1,2,    198.2,2,     9.97,2,     1.40,2
      09FA0793,  PR11,    43,  1,     12,     29,2,19930925,2046,-30.0897, 169.7503, 2974,    789.9,   7.4620,  34.5010,2,  34.5130,2,    203.1,2,    204.9,2,    13.29,2,     1.59,2
      09FA0793,  PR11,    43,  1,     13,     20,2,19930925,2046,-30.0897, 169.7503, 2974,    991.0,   5.9560,  34.4260,2,  34.4260,2,    195.2,2,    194.4,2,    25.61,2,     1.87,2
      09FA0793,  PR11,    43,  1,     14,     70,2,19930925,2046,-30.0897, 169.7503, 2974,   1189.1,   4.6660,  34.4400,2,  34.4460,2,    181.9,2,    178.9,2,    45.95,2,     2.13,2
      09FA0793,  PR11,    43,  1,     15,     35,2,19930925,2046,-30.0897, 169.7503, 2974,   1390.5,   3.6960,  34.5070,2,  34.5170,2,    168.3,2,    164.7,2,    69.41,2,     2.32,2
      09FA0793,  PR11,    43,  1,     16,     48,2,19930925,2046,-30.0897, 169.7503, 2974,   1591.8,   3.2890,  34.5490,2,  34.5500,2,    163.4,2,    161.5,2,    78.49,2,     2.35,2
      09FA0793,  PR11,    43,  1,     17,      3,2,19930925,2046,-30.0897, 169.7503, 2974,   1793.7,   2.7900,  34.5980,2,  34.5980,2,    158.2,2,    155.3,2,    93.35,2,     2.39,2
      09FA0793,  PR11,    43,  1,     18,     41,2,19930925,2046,-30.0897, 169.7503, 2974,   1990.6,   2.5110,  34.6240,2,  34.6210,2,    156.9,2,    154.0,2,   100.87,2,     2.41,2
      09FA0793,  PR11,    43,  1,     19,     24,2,19930925,2046,-30.0897, 169.7503, 2974,   2188.9,   2.2530,  34.6450,2,  34.6420,2,    153.6,2,    153.9,2,   108.20,2,     2.41,2
      09FA0793,  PR11,    43,  1,     20,     10,2,19930925,2046,-30.0897, 169.7503, 2974,   2392.5,   2.1160,  34.6560,2,  34.6530,2,    154.4,2,    153.2,2,   114.65,2,     2.44,2
      09FA0793,  PR11,    43,  1,     21,      9,2,19930925,2046,-30.0897, 169.7503, 2974,   2594.7,   2.0030,  34.6650,2,  34.6670,2,    154.3,2,    153.2,2,   117.00,2,     2.44,2
      09FA0793,  PR11,    43,  1,     22,      5,2,19930925,2046,-30.0897, 169.7503, 2974,   2789.6,   1.9250,  34.6720,2,  34.6720,2,    154.6,2,    153.2,2,   119.93,2,     2.45,2
      09FA0793,  PR11,    43,  1,     23,     42,2,19930925,2046,-30.0897, 169.7503, 2974,   2972.7,   1.8580,  34.6780,2,  34.6900,2,    153.1,2,    154.2,2,   119.83,2,     2.46,2
      09FA0793,  PR11,    44,  1,      1,      7,2,19930926,0214,-30.0910, 169.0987, 2980,      2.1,  19.2160,  35.7700,2,  35.7700,2,   -999.0,4,   -999.0,4,     1.27,2,     0.18,2
      09FA0793,  PR11,    44,  1,      2,     11,2,19930926,0214,-30.0910, 169.0987, 2980,     47.2,  19.0660,  35.7640,2,  35.7620,2,   -999.0,4,   -999.0,4,     1.37,2,     0.18,2
      09FA0793,  PR11,    44,  1,      3,     45,2,19930926,0214,-30.0910, 169.0987, 2980,     96.7,  18.7430,  35.7550,2,  35.7550,2,   -999.0,4,   -999.0,4,     1.17,2,     0.20,2
      09FA0793,  PR11,    44,  1,      4,      4,2,19930926,0214,-30.0910, 169.0987, 2980,    145.5,  18.4360,  35.7690,2,  35.7710,2,   -999.0,4,   -999.0,4,     1.07,2,     0.21,2
      09FA0793,  PR11,    44,  1,      5,     18,2,19930926,0214,-30.0910, 169.0987, 2980,    195.5,  17.9120,  35.6960,2,  35.7000,2,   -999.0,4,   -999.0,4,     1.27,2,     0.25,2
      09FA0793,  PR11,    44,  1,      6,      2,2,19930926,0214,-30.0910, 169.0987, 2980,    244.3,  17.3100,  35.6170,2,  35.6230,2,   -999.0,4,   -999.0,4,     1.76,2,     0.34,2
      09FA0793,  PR11,    44,  1,      7,     28,2,19930926,0214,-30.0910, 169.0987, 2980,    295.3,  15.9970,  35.4530,2,  35.4620,2,   -999.0,4,   -999.0,4,     2.54,2,     0.51,2
      09FA0793,  PR11,    44,  1,      8,     55,2,19930926,0214,-30.0910, 169.0987, 2980,    393.8,  13.6170,  35.1940,2,  35.2190,2,   -999.0,4,   -999.0,4,     4.20,2,     0.76,2
      09FA0793,  PR11,    44,  1,      9,      8,2,19930926,0214,-30.0910, 169.0987, 2980,    492.8,  11.4290,  34.9390,2,  34.9340,2,   -999.0,4,   -999.0,4,     7.13,2,     1.10,2
      09FA0793,  PR11,    44,  1,     10,     77,2,19930926,0214,-30.0910, 169.0987, 2980,    593.0,   9.3430,  34.6910,2,  34.7080,2,    180.9,2,   -999.0,4,     8.70,2,     1.32,2
      09FA0793,  PR11,    44,  1,     11,     15,2,19930926,0214,-30.0910, 169.0987, 2980,    691.0,   7.9420,  34.5400,2,  34.5840,2,    185.8,2,   -999.0,4,    10.65,2,     1.46,2
      09FA0793,  PR11,    44,  1,     12,     27,2,19930926,0214,-30.0910, 169.0987, 2980,    789.8,   7.1820,  34.4730,2,  34.4840,2,    192.1,2,   -999.0,4,    13.69,2,     1.63,2
      09FA0793,  PR11,    44,  1,     13,     29,2,19930926,0214,-30.0910, 169.0987, 2980,    990.0,   5.7240,  34.4080,2,  34.4110,2,    186.0,2,   -999.0,4,    25.61,2,     1.89,2
      09FA0793,  PR11,    44,  1,     14,     20,2,19930926,0214,-30.0910, 169.0987, 2980,   1191.2,   4.7090,  34.4320,2,  34.4360,2,    172.3,2,   -999.0,4,    42.33,2,     2.10,2
      09FA0793,  PR11,    44,  1,     15,     70,2,19930926,0214,-30.0910, 169.0987, 2980,   1390.0,   3.6500,  34.5210,2,  34.5100,2,    157.1,2,   -999.0,4,    65.01,2,     2.26,2
      09FA0793,  PR11,    44,  1,     16,     35,2,19930926,0214,-30.0910, 169.0987, 2980,   1588.3,   3.1270,  34.5700,2,  34.5700,2,    151.5,2,   -999.0,4,    82.40,2,     2.34,2
      09FA0793,  PR11,    44,  1,     17,     48,2,19930926,0214,-30.0910, 169.0987, 2980,   1790.2,   2.7440,  34.6030,2,  34.6030,2,    148.8,2,   -999.0,4,    94.82,2,     2.37,2
      09FA0793,  PR11,    44,  1,     18,      3,2,19930926,0214,-30.0910, 169.0987, 2980,   1990.3,   2.4050,  34.6310,2,  34.6300,2,    146.6,2,   -999.0,4,   102.83,2,     2.40,2
      09FA0793,  PR11,    44,  1,     19,     41,2,19930926,0214,-30.0910, 169.0987, 2980,   2191.2,   2.1570,  34.6510,2,  34.6560,2,    145.1,2,   -999.0,4,   111.14,2,     2.41,2
      09FA0793,  PR11,    44,  1,     20,     24,2,19930926,0214,-30.0910, 169.0987, 2980,   2390.9,   2.0150,  34.6640,2,  34.6630,2,    145.2,2,   -999.0,4,   119.05,2,     2.43,2
      09FA0793,  PR11,    44,  1,     21,     10,2,19930926,0214,-30.0910, 169.0987, 2980,   2594.0,   1.9580,  34.6690,2,  34.6720,2,    144.5,2,   -999.0,4,   118.56,2,     2.52,2
      09FA0793,  PR11,    44,  1,     22,      9,2,19930926,0214,-30.0910, 169.0987, 2980,   2797.1,   1.9330,  34.6730,2,  34.6740,2,    145.1,2,   -999.0,4,   118.07,2,     2.44,2
      09FA0793,  PR11,    44,  1,     23,      5,2,19930926,0214,-30.0910, 169.0987, 2980,   2899.1,   1.9280,  34.6740,2,  34.6730,2,    144.4,2,   -999.0,4,   118.95,2,     2.44,2
      09FA0793,  PR11,    44,  1,     24,     42,2,19930926,0214,-30.0910, 169.0987, 2980,   2978.7,   1.9250,  34.6750,2,  34.6730,2,    144.9,2,   -999.0,4,   120.61,2,     2.42,2
      09FA0793,  PR11,    45,  1,      1,      7,2,19930926,0733,-30.0905, 168.4543, 3402,      2.7,  18.3860,  35.7470,2,  35.7420,2,    233.1,2,    231.2,2,     1.27,2,     0.18,2
      09FA0793,  PR11,    45,  1,      2,     11,2,19930926,0733,-30.0905, 168.4543, 3402,     47.6,  18.3960,  35.7390,2,  35.7420,2,    236.0,2,    211.9,2,     1.27,2,     0.18,2
      09FA0793,  PR11,    45,  1,      3,     45,2,19930926,0733,-30.0905, 168.4543, 3402,     96.7,  18.3800,  35.7370,2,  35.7370,2,    233.3,2,    229.1,2,     1.27,2,     0.18,2
      09FA0793,  PR11,    45,  1,      4,      4,2,19930926,0733,-30.0905, 168.4543, 3402,    195.4,  16.7540,  35.5130,2,  35.4890,2,    200.3,2,    195.5,2,     2.44,2,     0.49,2
      09FA0793,  PR11,    45,  1,      5,     18,2,19930926,0733,-30.0905, 168.4543, 3402,    294.4,  15.4840,  35.3780,2,  35.3760,2,    187.3,2,    185.8,2,     3.22,2,     0.71,2
      09FA0793,  PR11,    45,  1,      6,      2,2,19930926,0733,-30.0905, 168.4543, 3402,    394.3,  13.0230,  35.1270,2,  35.1530,2,    191.7,2,    184.0,2,     4.40,2,     0.87,2
      09FA0793,  PR11,    45,  1,      7,     28,2,19930926,0733,-30.0905, 168.4543, 3402,    492.6,  11.0580,  34.9070,2,  34.9490,2,    191.9,2,    183.2,2,     7.13,2,     1.11,2
      09FA0793,  PR11,    45,  1,      8,     55,2,19930926,0733,-30.0905, 168.4543, 3402,    592.9,   9.5260,  34.7200,2,  34.7750,2,    192.7,2,    192.1,2,     9.48,2,     1.33,2
      09FA0793,  PR11,    45,  1,      9,      8,2,19930926,0733,-30.0905, 168.4543, 3402,    690.4,   8.6870,  34.6400,2,  34.6450,2,    195.4,2,    193.7,2,    11.53,2,     1.46,2
      09FA0793,  PR11,    45,  1,     10,     77,2,19930926,0733,-30.0905, 168.4543, 3402,    790.4,   7.3770,  34.5220,2,  34.5220,2,    198.9,2,    192.7,2,    15.35,2,     1.66,2
      09FA0793,  PR11,    45,  1,     11,     15,2,19930926,0733,-30.0905, 168.4543, 3402,    991.4,   5.9340,  34.4520,2,  34.4580,2,    196.4,2,    187.3,2,    27.57,2,     1.94,2
      09FA0793,  PR11,    45,  1,     12,     27,2,19930926,0733,-30.0905, 168.4543, 3402,   1192.0,   4.6390,  34.4710,2,  34.4770,2,    179.0,2,    173.4,2,    50.83,2,     2.33,2
      09FA0793,  PR11,    45,  1,     13,     29,2,19930926,0733,-30.0905, 168.4543, 3402,   1390.6,   3.6720,  34.5270,2,  34.5360,2,    166.5,2,    158.2,2,    75.56,2,     2.33,2
      09FA0793,  PR11,    45,  1,     14,     20,2,19930926,0733,-30.0905, 168.4543, 3402,   1591.1,   3.0930,  34.5700,2,  34.5720,2,    161.8,2,    158.2,2,    91.01,2,     2.43,2
      09FA0793,  PR11,    45,  1,     15,     70,2,19930926,0733,-30.0905, 168.4543, 3402,   1793.4,   2.7410,  34.6000,2,  34.6010,2,    158.3,2,    154.3,2,    98.33,2,     2.47,2
      09FA0793,  PR11,    45,  1,     16,     35,2,19930926,0733,-30.0905, 168.4543, 3402,   1992.3,   2.3190,  34.6350,2,  34.6330,2,    154.8,2,    149.8,2,   110.26,2,     2.51,2
      09FA0793,  PR11,    45,  1,     17,     48,2,19930926,0733,-30.0905, 168.4543, 3402,   2192.9,   2.1160,  34.6520,2,  34.6510,2,    154.3,2,    146.0,2,   119.35,2,     2.51,2
      09FA0793,  PR11,    45,  1,     18,      3,2,19930926,0733,-30.0905, 168.4543, 3402,   2395.6,   1.9920,  34.6630,2,  34.6630,2,    154.0,2,    153.8,2,   121.30,2,     2.54,2
      09FA0793,  PR11,    45,  1,     19,     41,2,19930926,0733,-30.0905, 168.4543, 3402,   2594.4,   1.9590,  34.6670,2,  34.6660,2,    154.2,2,    151.4,2,   122.18,2,     2.54,2
      09FA0793,  PR11,    45,  1,     20,     24,2,19930926,0733,-30.0905, 168.4543, 3402,   2796.2,   1.9380,  34.6700,2,  34.6700,2,    154.6,2,    150.9,2,   123.16,2,     2.53,2
      09FA0793,  PR11,    45,  1,     21,     10,2,19930926,0733,-30.0905, 168.4543, 3402,   2996.2,   1.9300,  34.6720,2,  34.6750,2,    154.9,2,    153.1,2,   127.26,2,     2.52,2
      09FA0793,  PR11,    45,  1,     22,      9,2,19930926,0733,-30.0905, 168.4543, 3402,   3198.2,   1.9320,  34.6730,2,  34.6760,2,    154.3,2,    155.7,2,   124.04,2,     2.54,2
      09FA0793,  PR11,    45,  1,     23,     42,2,19930926,0733,-30.0905, 168.4543, 3402,   3403.4,   1.9380,  34.6740,2,  34.6770,2,    153.0,2,    152.0,2,   125.21,2,     2.53,2