BOTTLE,20010801WHPSIOKJU
EXPOCODE,SECT_ID,STNNBR,CASTNO,SAMPNO,BTLNBR,BTLNBR_FLAG_W,DATE,TIME,LATITUDE,LONGITUDE,DEPTH,CTDPRS,CTDTMP,CTDSAL,CTDSAL_FLAG_W,SALNTY,SALNTY_FLAG_W,CTDOXY,CTDOXY_FLAG_W,OXYGEN,OXYGEN_FLAG_W,SILCAT,SILCAT_FLAG_W,PHSPHT,PHSPHT_FLAG_W
,,,,,,,,,,,,DBAR,ITS-90,PSS-78,,PSS-78,,UMOL/KG,,UMOL/KG,,UMOL/KG,,UMOL/KG,
      09FA0793,  PR11,    51,  1,      1,      7,2,19930927,1416,-30.0872, 164.3322, 3326,      2.3,  19.1440,  35.6750,2,  35.7460,2,    232.5,2,    232.1,2,     1.47,2,     0.19,2
      09FA0793,  PR11,    51,  1,      2,     42,2,19930927,1416,-30.0872, 164.3322, 3326,     48.5,  19.1340,  35.7410,2,  35.7380,2,    231.0,2,    228.1,2,     1.37,2,     0.18,2
      09FA0793,  PR11,    51,  1,      3,      8,2,19930927,1416,-30.0872, 164.3322, 3326,     97.1,  18.4550,  35.7110,2,  35.7150,2,    235.1,2,    221.5,2,     1.27,2,     0.22,2
      09FA0793,  PR11,    51,  1,      4,      4,2,19930927,1416,-30.0872, 164.3322, 3326,    147.7,  17.4940,  35.5410,2,  35.5340,2,    194.0,2,    190.4,2,     1.95,2,     0.48,2
      09FA0793,  PR11,    51,  1,      5,     28,2,19930927,1416,-30.0872, 164.3322, 3326,    194.8,  16.7390,  35.4940,2,  35.4780,2,    193.5,2,    186.3,2,     2.34,2,     0.56,2
      09FA0793,  PR11,    51,  1,      6,      3,2,19930927,1416,-30.0872, 164.3322, 3326,    294.2,  14.5010,  35.2920,2,  35.2950,2,    190.6,2,    189.4,2,     3.52,2,     0.75,2
      09FA0793,  PR11,    51,  1,      7,     18,2,19930927,1416,-30.0872, 164.3322, 3326,    394.0,  12.4630,  35.0590,2,  35.0850,2,    188.3,2,    182.9,2,     4.98,2,     1.00,2
      09FA0793,  PR11,    51,  1,      8,      2,2,19930927,1416,-30.0872, 164.3322, 3326,    494.4,  10.5670,  34.8420,2,  34.8510,2,    189.7,2,    184.7,2,     7.33,2,     1.30,2
      09FA0793,  PR11,    51,  1,      9,      6,2,19930927,1416,-30.0872, 164.3322, 3326,    591.8,   8.9320,  34.6640,2,  34.6750,2,    191.7,2,    192.4,2,    10.07,2,     1.52,2
      09FA0793,  PR11,    51,  1,     10,     77,2,19930927,1416,-30.0872, 164.3322, 3326,    692.0,   8.0780,  34.5900,2,  34.5870,2,    196.0,2,    190.8,2,    14.17,2,     1.66,2
      09FA0793,  PR11,    51,  1,     11,     15,2,19930927,1416,-30.0872, 164.3322, 3326,    789.0,   7.1140,  34.5100,2,  34.5150,2,    195.4,2,    194.5,2,    18.77,2,     1.82,2
      09FA0793,  PR11,    51,  1,     12,     27,2,19930927,1416,-30.0872, 164.3322, 3326,    991.7,   5.5800,  34.4620,2,  34.4650,2,    188.0,2,    183.0,2,    33.92,2,     2.06,2
      09FA0793,  PR11,    51,  1,     13,     29,2,19930927,1416,-30.0872, 164.3322, 3326,   1190.6,   4.5250,  34.4960,2,  34.4980,2,    173.3,2,    170.4,2,    53.57,2,     2.19,2
      09FA0793,  PR11,    51,  1,     14,     20,2,19930927,1416,-30.0872, 164.3322, 3326,   1390.1,   3.4410,  34.5580,2,  34.5550,2,    160.5,2,    154.3,2,    78.88,2,     2.40,2
      09FA0793,  PR11,    51,  1,     15,     70,2,19930927,1416,-30.0872, 164.3322, 3326,   1591.4,   2.9300,  34.5950,2,  34.5970,2,    151.2,2,    146.8,2,    92.57,2,     2.48,2
      09FA0793,  PR11,    51,  1,     16,     35,2,19930927,1416,-30.0872, 164.3322, 3326,   1791.1,   2.5940,  34.6230,2,  34.6250,2,    151.7,2,    145.7,2,   102.44,2,     2.52,2
      09FA0793,  PR11,    51,  1,     17,     41,2,19930927,1416,-30.0872, 164.3322, 3326,   1992.7,   2.3520,  34.6440,2,  34.6450,2,    151.3,2,    148.9,2,   108.20,2,     2.51,2
      09FA0793,  PR11,    51,  1,     18,     24,2,19930927,1416,-30.0872, 164.3322, 3326,   2194.0,   2.1480,  34.6630,2,  34.6640,2,    154.1,2,    144.7,2,   110.25,2,     2.50,2
      09FA0793,  PR11,    51,  1,     19,     10,2,19930927,1416,-30.0872, 164.3322, 3326,   2393.8,   2.0480,  34.6720,2,  34.6720,2,    154.0,2,    145.4,2,   116.22,2,     2.52,2
      09FA0793,  PR11,    51,  1,     20,     11,2,19930927,1416,-30.0872, 164.3322, 3326,   2593.6,   1.9890,  34.6790,2,  34.6790,2,    157.5,2,    153.6,2,   113.48,2,     2.51,2
      09FA0793,  PR11,    51,  1,     21,     45,2,19930927,1416,-30.0872, 164.3322, 3326,   2796.6,   1.9530,  34.6830,2,  34.6840,2,    158.3,2,    155.9,2,   116.51,2,     2.52,2
      09FA0793,  PR11,    51,  1,     22,     48,2,19930927,1416,-30.0872, 164.3322, 3326,   2995.0,   1.9360,  34.6850,2,  34.6860,2,    157.9,2,    154.6,2,   113.58,2,     2.51,2
      09FA0793,  PR11,    51,  1,     23,      5,2,19930927,1416,-30.0872, 164.3322, 3326,   3198.4,   1.9230,  34.6870,2,  34.6900,2,    160.7,2,    157.0,2,   116.41,2,     2.50,2
      09FA0793,  PR11,    51,  1,     24,      9,2,19930927,1416,-30.0872, 164.3322, 3326,   3323.7,   1.9130,  34.6880,2,  34.6890,2,    158.6,2,    157.0,2,   115.24,2,     2.52,2
      09FA0793,  PR11,    52,  1,      1,      7,2,19930927,1930,-30.0847, 163.5848, 1582,      1.7,  18.9440,  35.7630,2,  35.7620,2,    234.9,2,    229.9,2,     1.17,2,     0.17,2
      09FA0793,  PR11,    52,  1,      2,     77,2,19930927,1930,-30.0847, 163.5848, 1582,     46.0,  18.9720,  35.7560,2,  35.7610,2,    232.6,2,    229.9,2,     1.07,2,     0.17,2
      09FA0793,  PR11,    52,  1,      3,     15,2,19930927,1930,-30.0847, 163.5848, 1582,     96.7,  18.6210,  35.7200,2,  35.6830,2,    232.8,2,    213.7,2,     1.17,2,     0.26,2
      09FA0793,  PR11,    52,  1,      4,     27,2,19930927,1930,-30.0847, 163.5848, 1582,    145.0,  18.0660,  35.6700,2,  35.6410,2,    211.8,2,    206.1,2,     1.56,2,     0.35,2
      09FA0793,  PR11,    52,  1,      5,     29,2,19930927,1930,-30.0847, 163.5848, 1582,    196.1,  16.5490,  35.4730,2,  35.4740,2,    190.1,2,    184.1,2,     2.44,2,     0.58,2
      09FA0793,  PR11,    52,  1,      6,     20,2,19930927,1930,-30.0847, 163.5848, 1582,    244.1,  15.5170,  35.3910,2,  35.3950,2,    192.6,2,    188.3,2,     2.74,2,     0.65,2
      09FA0793,  PR11,    52,  1,      7,     70,2,19930927,1930,-30.0847, 163.5848, 1582,    293.8,  14.5420,  35.2900,2,  35.2870,2,    189.9,2,    185.7,2,     3.32,2,     0.79,2
      09FA0793,  PR11,    52,  1,      8,     35,2,19930927,1930,-30.0847, 163.5848, 1582,    393.1,  12.5640,  35.0870,2,  35.1030,2,    190.3,2,    191.2,2,     5.08,2,     1.00,2
      09FA0793,  PR11,    52,  1,      9,     41,2,19930927,1930,-30.0847, 163.5848, 1582,    493.2,  10.8590,  34.8860,2,  34.8700,2,    189.1,2,    189.5,2,     7.43,2,     1.28,2
      09FA0793,  PR11,    52,  1,     10,     24,2,19930927,1930,-30.0847, 163.5848, 1582,    591.5,   8.9410,  34.6490,2,  34.6540,2,    189.6,2,    190.8,2,    10.36,2,     1.54,2
      09FA0793,  PR11,    52,  1,     11,     10,2,19930927,1930,-30.0847, 163.5848, 1582,    691.0,   8.0800,  34.5900,2,  34.5770,2,    194.5,2,    190.5,2,    13.98,2,     1.66,2
      09FA0793,  PR11,    52,  1,     12,     11,2,19930927,1930,-30.0847, 163.5848, 1582,    791.5,   6.9150,  34.5050,2,  34.5100,2,    193.1,2,    181.6,2,    20.14,2,     1.90,2
      09FA0793,  PR11,    52,  1,     13,     45,2,19930927,1930,-30.0847, 163.5848, 1582,    989.0,   5.3720,  34.4750,2,  34.4900,2,    183.2,2,    174.3,2,    41.35,2,     2.13,2
      09FA0793,  PR11,    52,  1,     14,     48,2,19930927,1930,-30.0847, 163.5848, 1582,   1189.4,   4.6470,  34.5040,2,  34.5060,2,    175.1,2,    165.1,2,    52.89,2,     2.27,2
      09FA0793,  PR11,    52,  1,     15,      5,2,19930927,1930,-30.0847, 163.5848, 1582,   1395.5,   3.6400,  34.5430,2,  34.5450,2,    160.6,2,    159.3,2,    73.61,2,     2.44,2
      09FA0793,  PR11,    52,  1,     16,      9,2,19930927,1930,-30.0847, 163.5848, 1582,   1577.0,   3.2800,  34.5720,2,  34.5730,2,    157.7,2,    155.4,2,    82.50,2,     2.49,2
      09FA0793,  PR11,    53,  1,      1,      7,2,19930927,2354,-30.0792, 162.8358, 1140,      1.6,  18.4080,  35.6690,2,-999.0000,4,    232.6,2,    232.8,2,     0.49,2,     0.21,2
      09FA0793,  PR11,    53,  1,      2,     27,2,19930927,2354,-30.0792, 162.8358, 1140,     47.4,  18.4060,  35.6660,2,-999.0000,4,    224.4,2,    219.5,2,     0.39,2,     0.19,2
      09FA0793,  PR11,    53,  1,      3,     29,2,19930927,2354,-30.0792, 162.8358, 1140,     97.3,  17.9160,  35.6380,2,-999.0000,4,    215.8,2,    211.9,2,     1.07,2,     0.29,2
      09FA0793,  PR11,    53,  1,      4,     20,2,19930927,2354,-30.0792, 162.8358, 1140,    145.5,  16.7150,  35.4920,2,-999.0000,4,    190.7,2,    179.9,2,     2.54,2,     0.59,2
      09FA0793,  PR11,    53,  1,      5,     70,2,19930927,2354,-30.0792, 162.8358, 1140,    197.9,  15.4140,  35.3650,2,  35.3860,2,    184.7,2,    178.1,2,     2.93,2,     0.68,2
      09FA0793,  PR11,    53,  1,      6,     35,2,19930927,2354,-30.0792, 162.8358, 1140,    246.6,  14.3020,  35.2910,2,  35.2960,2,    191.9,2,    182.1,2,     3.32,2,     0.75,2
      09FA0793,  PR11,    53,  1,      7,     41,2,19930927,2354,-30.0792, 162.8358, 1140,    297.4,  13.2190,  35.1910,2,  35.2000,2,    191.8,2,    191.8,2,     3.81,2,     0.86,2
      09FA0793,  PR11,    53,  1,      8,     24,2,19930927,2354,-30.0792, 162.8358, 1140,    394.8,  11.4360,  34.9720,2,  34.9780,2,    190.6,2,    183.9,2,     5.67,2,     1.11,2
      09FA0793,  PR11,    53,  1,      9,     10,2,19930927,2354,-30.0792, 162.8358, 1140,    492.5,  10.1020,  34.8050,2,  34.7880,2,    194.0,2,    176.4,2,     7.72,2,     1.35,2
      09FA0793,  PR11,    53,  1,     10,     11,2,19930927,2354,-30.0792, 162.8358, 1140,    591.2,   8.7530,  34.6560,2,  34.6390,2,    192.4,2,    178.5,2,    11.05,2,     1.55,2
      09FA0793,  PR11,    53,  1,     11,     45,2,19930927,2354,-30.0792, 162.8358, 1140,    692.6,   7.4090,  34.5310,2,  34.5210,2,    191.5,2,    168.8,2,    17.50,2,     1.77,2
      09FA0793,  PR11,    53,  1,     12,     48,2,19930927,2354,-30.0792, 162.8358, 1140,    791.3,   6.3130,  34.4730,2,  34.4740,2,    189.2,2,    171.5,2,    25.91,2,     1.99,2
      09FA0793,  PR11,    53,  1,     13,      5,2,19930927,2354,-30.0792, 162.8358, 1140,    999.6,   4.8230,  34.4770,2,  34.4820,2,    175.8,2,    161.5,2,    47.90,2,     2.26,2
      09FA0793,  PR11,    53,  1,     14,      9,2,19930927,2354,-30.0792, 162.8358, 1140,   1136.0,   4.0120,  34.5180,2,  34.5180,2,    165.7,2,    158.6,2,    67.94,2,     2.42,2
      09FA0793,  PR11,    54,  1,      1,      7,2,19930928,0458,-30.0773, 162.1685, 1146,      1.8,  20.1050,  35.7450,2,  35.7420,2,    218.3,2,    223.4,2,     1.07,2,     0.23,2
      09FA0793,  PR11,    54,  1,      2,     27,2,19930928,0458,-30.0773, 162.1685, 1146,     48.6,  20.0870,  35.7400,2,  35.7420,2,    229.9,2,    223.9,2,     0.98,2,     0.21,2
      09FA0793,  PR11,    54,  1,      3,     29,2,19930928,0458,-30.0773, 162.1685, 1146,     96.9,  20.0760,  35.7420,2,  35.7440,2,    229.1,2,    224.4,2,     0.68,2,     0.20,2
      09FA0793,  PR11,    54,  1,      4,     20,2,19930928,0458,-30.0773, 162.1685, 1146,    145.3,  20.0820,  35.7430,2,  35.7430,2,    228.9,2,    222.4,2,     0.78,2,     0.20,2
      09FA0793,  PR11,    54,  1,      5,     70,2,19930928,0458,-30.0773, 162.1685, 1146,    195.9,  19.7060,  35.6970,2,  35.6070,2,    208.1,2,    221.3,2,     1.37,2,     0.41,2
      09FA0793,  PR11,    54,  1,      6,     35,2,19930928,0458,-30.0773, 162.1685, 1146,    246.9,  18.1690,  35.5830,2,  35.5500,2,    194.5,2,    184.4,2,     1.86,2,     0.50,2
      09FA0793,  PR11,    54,  1,      7,     41,2,19930928,0458,-30.0773, 162.1685, 1146,    295.4,  16.7520,  35.4570,2,  35.4570,2,    187.0,2,    182.9,2,     2.54,2,     0.63,2
      09FA0793,  PR11,    54,  1,      8,     24,2,19930928,0458,-30.0773, 162.1685, 1146,    394.0,  13.7690,  35.2150,2,  35.2380,2,    189.3,2,    187.3,2,     3.81,2,     0.83,2
      09FA0793,  PR11,    54,  1,      9,     10,2,19930928,0458,-30.0773, 162.1685, 1146,    494.5,  11.3230,  34.9490,2,  34.9510,2,    192.5,2,    188.9,2,     5.96,2,     1.15,2
      09FA0793,  PR11,    54,  1,     10,     11,2,19930928,0458,-30.0773, 162.1685, 1146,    592.2,   9.6650,  34.7480,2,  34.7540,2,    197.4,2,    192.6,2,     8.11,2,     1.38,2
      09FA0793,  PR11,    54,  1,     11,     45,2,19930928,0458,-30.0773, 162.1685, 1146,    692.6,   8.4180,  34.6140,2,  34.6180,2,    196.6,2,    191.6,2,    12.02,2,     1.66,2
      09FA0793,  PR11,    54,  1,     12,     48,2,19930928,0458,-30.0773, 162.1685, 1146,    790.9,   7.3920,  34.5290,2,  34.5410,2,    195.0,2,    188.8,2,    15.93,2,     1.76,2
      09FA0793,  PR11,    54,  1,     13,      5,2,19930928,0458,-30.0773, 162.1685, 1146,    993.5,   5.6680,  34.4840,2,  34.4870,2,    187.2,2,    182.4,2,    34.70,2,     2.06,2
      09FA0793,  PR11,    54,  1,     14,     55,2,19930928,0458,-30.0773, 162.1685, 1146,   1141.2,   4.2900,  34.5030,2,  34.5090,2,    170.1,2,    166.7,2,    60.22,2,     2.32,2
      09FA0793,  PR11,    55,  1,      1,      7,2,19930928,0856,-30.0848, 161.5047, 1176,      2.4,  20.0780,  35.7520,2,  35.7490,2,    218.0,2,    224.1,2,     1.27,2,     0.21,2
      09FA0793,  PR11,    55,  1,      2,     27,2,19930928,0856,-30.0848, 161.5047, 1176,     47.5,  20.0980,  35.7470,2,  35.7490,2,    231.1,2,    221.0,2,     0.88,2,     0.19,2
      09FA0793,  PR11,    55,  1,      3,     29,2,19930928,0856,-30.0848, 161.5047, 1176,     97.4,  20.1030,  35.7460,2,  35.7510,2,    232.9,2,    224.9,2,     0.68,2,     0.19,2
      09FA0793,  PR11,    55,  1,      4,     20,2,19930928,0856,-30.0848, 161.5047, 1176,    147.5,  20.1010,  35.7450,2,  35.7490,2,    231.6,2,    222.4,2,     0.78,2,     0.19,2
      09FA0793,  PR11,    55,  1,      5,     70,2,19930928,0856,-30.0848, 161.5047, 1176,    195.0,  19.4490,  35.6740,2,  35.6890,2,    214.0,2,    209.0,2,     1.07,2,     0.27,2
      09FA0793,  PR11,    55,  1,      6,     35,2,19930928,0856,-30.0848, 161.5047, 1176,    245.0,  18.5790,  35.6170,2,  35.6160,2,    200.7,2,    195.3,2,     1.47,2,     0.38,2
      09FA0793,  PR11,    55,  1,      7,     41,2,19930928,0856,-30.0848, 161.5047, 1176,    293.7,  17.4490,  35.5250,2,  35.5260,2,    189.8,2,    185.2,2,     2.15,2,     0.52,2
      09FA0793,  PR11,    55,  1,      8,     24,2,19930928,0856,-30.0848, 161.5047, 1176,    393.8,  14.7070,  35.2900,2,  35.2920,2,    188.0,2,    184.5,2,     3.52,2,     0.77,2
      09FA0793,  PR11,    55,  1,      9,     10,2,19930928,0856,-30.0848, 161.5047, 1176,    492.3,  12.2860,  35.0590,2,  35.0320,2,    189.2,2,    188.4,2,     5.47,2,     1.06,2
      09FA0793,  PR11,    55,  1,     10,     11,2,19930928,0856,-30.0848, 161.5047, 1176,    591.2,   9.7690,  34.7600,2,  34.7400,2,    196.6,2,    190.8,2,     8.01,2,     1.37,2
      09FA0793,  PR11,    55,  1,     11,     45,2,19930928,0856,-30.0848, 161.5047, 1176,    692.3,   8.1830,  34.5950,2,  34.5970,2,    196.0,2,    190.0,2,    12.51,2,     1.62,2
      09FA0793,  PR11,    55,  1,     12,     48,2,19930928,0856,-30.0848, 161.5047, 1176,    790.8,   7.1970,  34.5160,2,  34.5210,2,    194.3,2,    189.7,2,    17.69,2,     1.79,2
      09FA0793,  PR11,    55,  1,     13,      5,2,19930928,0856,-30.0848, 161.5047, 1176,    991.5,   5.5110,  34.4620,2,  34.4700,2,    188.9,2,    181.4,2,    33.82,2,     2.10,2
      09FA0793,  PR11,    55,  1,     14,     55,2,19930928,0856,-30.0848, 161.5047, 1176,   1172.0,   4.1630,  34.5110,2,  34.5270,2,    170.2,2,    165.4,2,    62.46,2,     2.34,2
      09FA0793,  PR11,    56,  1,      1,      7,2,19930928,1346,-30.0815, 160.7545, 1398,      2.9,  21.4670,  35.7190,2,  35.7170,2,    227.0,2,    221.3,2,     0.68,2,     0.19,2
      09FA0793,  PR11,    56,  1,      2,     77,2,19930928,1346,-30.0815, 160.7545, 1398,     48.0,  21.4970,  35.7120,2,  35.7170,2,    220.9,2,    222.1,2,     0.68,2,     0.18,2
      09FA0793,  PR11,    56,  1,      3,     27,2,19930928,1346,-30.0815, 160.7545, 1398,     98.5,  21.2440,  35.7070,2,  35.7090,2,    202.3,2,    203.0,2,     1.17,2,     0.27,2
      09FA0793,  PR11,    56,  1,      4,     29,2,19930928,1346,-30.0815, 160.7545, 1398,    147.2,  20.5360,  35.7120,2,  35.6890,2,    213.6,2,    199.0,2,     1.27,2,     0.33,2
      09FA0793,  PR11,    56,  1,      5,     20,2,19930928,1346,-30.0815, 160.7545, 1398,    195.3,  19.4910,  35.6220,2,  35.6710,2,    189.8,2,    199.1,2,     1.47,2,     0.36,2
      09FA0793,  PR11,    56,  1,      6,     70,2,19930928,1346,-30.0815, 160.7545, 1398,    243.7,  17.9330,  35.5490,2,  35.5490,2,    190.4,2,    186.0,2,     1.95,2,     0.52,2
      09FA0793,  PR11,    56,  1,      7,     35,2,19930928,1346,-30.0815, 160.7545, 1398,    293.3,  16.8550,  35.4610,2,  35.4560,2,    183.9,2,    181.0,2,     2.93,2,     0.66,2
      09FA0793,  PR11,    56,  1,      8,     41,2,19930928,1346,-30.0815, 160.7545, 1398,    394.1,  14.0460,  35.2290,2,  35.2350,2,    190.6,2,    187.3,2,     4.20,2,     0.91,2
      09FA0793,  PR11,    56,  1,      9,     24,2,19930928,1346,-30.0815, 160.7545, 1398,    493.1,  11.9560,  35.0320,2,  35.0500,2,    198.0,2,    192.9,2,     5.77,2,     1.09,2
      09FA0793,  PR11,    56,  1,     10,     10,2,19930928,1346,-30.0815, 160.7545, 1398,    592.1,   9.5720,  34.7330,2,  34.7790,2,    203.0,2,    196.1,2,     8.11,2,     1.39,2
      09FA0793,  PR11,    56,  1,     11,     11,2,19930928,1346,-30.0815, 160.7545, 1398,    692.7,   8.2980,  34.6010,2,  34.6200,2,    192.5,2,    190.5,2,    12.90,2,     1.66,2
      09FA0793,  PR11,    56,  1,     12,     45,2,19930928,1346,-30.0815, 160.7545, 1398,    791.8,   7.1010,  34.5070,2,  34.5240,2,    196.3,2,    190.0,2,    18.57,2,     1.85,2
      09FA0793,  PR11,    56,  1,     13,     48,2,19930928,1346,-30.0815, 160.7545, 1398,    991.6,   5.8150,  34.4620,2,  34.4680,2,    188.1,2,    183.2,2,    32.55,2,     2.09,2
      09FA0793,  PR11,    56,  1,     14,      5,2,19930928,1346,-30.0815, 160.7545, 1398,   1190.4,   4.5440,  34.4870,2,  34.4930,2,    175.8,2,    170.7,2,    54.65,2,     2.30,2
      09FA0793,  PR11,    56,  1,     15,     55,2,19930928,1346,-30.0815, 160.7545, 1398,   1395.7,   3.6520,  34.5430,2,  34.5450,2,    161.5,2,    158.8,2,    75.86,2,     2.43,2