BOTTLE,20010801WHPSIOKJU
EXPOCODE,SECT_ID,STNNBR,CASTNO,SAMPNO,BTLNBR,BTLNBR_FLAG_W,DATE,TIME,LATITUDE,LONGITUDE,DEPTH,CTDPRS,CTDTMP,CTDSAL,CTDSAL_FLAG_W,SALNTY,SALNTY_FLAG_W,CTDOXY,CTDOXY_FLAG_W,OXYGEN,OXYGEN_FLAG_W,SILCAT,SILCAT_FLAG_W,PHSPHT,PHSPHT_FLAG_W
,,,,,,,,,,,,DBAR,ITS-90,PSS-78,,PSS-78,,UMOL/KG,,UMOL/KG,,UMOL/KG,,UMOL/KG,
      09FA0793, PR13N,     9,  1,      1,      7,2,19930911,2218,-43.2472, 149.3405, 3174,      3.7,  11.8030,  35.1130,2,  35.1000,2,    256.5,2,    259.0,2,     2.64,2,     0.62,2
      09FA0793, PR13N,     9,  1,      2,     48,2,19930911,2218,-43.2472, 149.3405, 3174,     46.2,  11.8160,  35.1120,2,  35.0950,2,    269.2,2,    262.3,2,     2.64,2,     0.63,2
      09FA0793, PR13N,     9,  1,      3,     14,2,19930911,2218,-43.2472, 149.3405, 3174,     92.9,  11.8210,  35.1130,2,  35.0970,2,    267.2,2,    259.3,2,     2.64,2,     0.63,2
      09FA0793, PR13N,     9,  1,      4,     28,2,19930911,2218,-43.2472, 149.3405, 3174,    139.9,  11.8150,  35.1110,2,  35.0990,2,    271.9,2,    260.8,2,     2.54,2,     0.63,2
      09FA0793, PR13N,     9,  1,      5,     24,2,19930911,2218,-43.2472, 149.3405, 3174,    199.8,  11.7810,  35.1020,2,  35.0950,2,    269.7,2,    259.5,2,     2.64,2,     0.63,2
      09FA0793, PR13N,     9,  1,      6,     70,2,19930911,2218,-43.2472, 149.3405, 3174,    248.3,  11.7090,  35.0860,2,  35.0980,2,    264.8,2,    255.9,2,     2.54,2,     0.62,2
      09FA0793, PR13N,     9,  1,      7,     11,2,19930911,2218,-43.2472, 149.3405, 3174,    293.2,  10.9020,  34.9210,2,  34.9070,2,    249.3,2,    242.1,2,     3.62,2,     0.85,2
      09FA0793, PR13N,     9,  1,      8,     20,2,19930911,2218,-43.2472, 149.3405, 3174,    391.3,   9.8420,  34.7730,2,  34.7270,2,    229.6,2,    226.8,2,     5.96,2,     1.14,2
      09FA0793, PR13N,     9,  1,      9,     18,2,19930911,2218,-43.2472, 149.3405, 3174,    491.7,   8.7960,  34.6270,2,  34.6330,2,    228.6,2,    226.4,2,     7.33,2,     1.29,2
      09FA0793, PR13N,     9,  1,     10,      6,2,19930911,2218,-43.2472, 149.3405, 3174,    584.0,   8.3280,  34.5790,2,  34.5830,2,    216.8,2,    208.3,2,    10.46,2,     1.48,2
      09FA0793, PR13N,     9,  1,     11,     29,2,19930911,2218,-43.2472, 149.3405, 3174,    691.3,   7.4140,  34.4970,2,  34.4770,2,    210.6,2,    205.9,2,    14.76,2,     1.66,2
      09FA0793, PR13N,     9,  1,     12,     77,2,19930911,2218,-43.2472, 149.3405, 3174,    782.0,   6.8270,  34.4800,2,  34.4420,2,    197.8,2,    198.3,2,    20.63,2,     1.84,2
      09FA0793, PR13N,     9,  1,     13,      8,2,19930911,2218,-43.2472, 149.3405, 3174,    877.0,   5.9930,  34.4320,2,  34.4300,2,    196.7,2,    191.6,2,    27.47,2,     1.96,2
      09FA0793, PR13N,     9,  1,     14,     15,2,19930911,2218,-43.2472, 149.3405, 3174,    984.1,   5.3360,  34.4270,2,  34.4270,2,    195.6,2,    186.9,2,    36.07,2,     2.08,2
      09FA0793, PR13N,     9,  1,     15,      3,2,19930911,2218,-43.2472, 149.3405, 3174,   1193.1,   3.9660,  34.4660,2,  34.4700,2,    177.5,2,    173.3,2,    57.87,2,     2.29,2
      09FA0793, PR13N,     9,  1,     16,      4,2,19930911,2218,-43.2472, 149.3405, 3174,   1348.0,   3.4010,  34.5060,2,  34.5130,2,    169.2,2,    165.9,2,    69.99,2,     2.39,2
      09FA0793, PR13N,     9,  1,     17,     27,2,19930911,2218,-43.2472, 149.3405, 3174,   1580.0,   2.8300,  34.5820,2,  34.5850,2,    163.3,2,    160.4,2,    81.72,2,     2.41,2
      09FA0793, PR13N,     9,  1,     18,      2,2,19930911,2218,-43.2472, 149.3405, 3174,   1955.0,   2.3620,  34.6700,2,  34.6690,2,    174.6,2,    172.5,2,    85.04,2,     2.31,2
      09FA0793, PR13N,     9,  1,     19,     10,2,19930911,2218,-43.2472, 149.3405, 3174,   2183.8,   2.1800,  34.7100,2,  34.7080,2,    180.7,2,    178.7,2,    89.53,2,     2.25,2
      09FA0793, PR13N,     9,  1,     20,      9,2,19930911,2218,-43.2472, 149.3405, 3174,   2418.0,   2.0000,  34.7310,2,  34.7280,2,    185.8,2,    184.1,2,    93.93,2,     2.24,2
      09FA0793, PR13N,     9,  1,     21,     41,2,19930911,2218,-43.2472, 149.3405, 3174,   2621.0,   1.8690,  34.7360,2,  34.7330,2,    188.5,2,    187.6,2,    99.69,2,     2.21,2
      09FA0793, PR13N,     9,  1,     22,     35,2,19930911,2218,-43.2472, 149.3405, 3174,   2759.0,   1.7640,  34.7370,2,  34.7330,2,    191.8,2,    187.9,2,    99.89,2,     2.23,2
      09FA0793, PR13N,     9,  1,     23,      5,2,19930911,2218,-43.2472, 149.3405, 3174,   3004.0,   1.6010,  34.7360,2,  34.7350,2,    193.8,2,    192.1,2,   105.36,2,     2.25,2
      09FA0793, PR13N,     9,  1,     24,     42,2,19930911,2218,-43.2472, 149.3405, 3174,   3150.0,   1.4460,  34.7310,2,  34.7320,2,    195.4,2,    196.7,2,   110.25,2,     2.23,2
      09FA0793, PR13N,    10,  1,      1,      7,2,19930912,0410,-43.2492, 150.0803, 3096,      2.7,  13.0830,  35.3240,2,  35.3210,2,    263.2,2,    215.5,2,     2.25,2,     0.51,2
      09FA0793, PR13N,    10,  1,      2,     48,2,19930912,0410,-43.2492, 150.0803, 3096,     50.4,  13.0980,  35.3240,2,  35.3320,2,    259.7,2,    227.9,2,     1.95,2,     0.52,2
      09FA0793, PR13N,    10,  1,      3,     14,2,19930912,0410,-43.2492, 150.0803, 3096,    101.6,  13.1040,  35.3250,2,  35.3220,2,    258.4,2,    248.1,2,     2.05,2,     0.52,2
      09FA0793, PR13N,    10,  1,      4,     28,2,19930912,0410,-43.2492, 150.0803, 3096,    145.1,  12.7600,  35.2610,2,  35.2970,2,    259.1,2,    240.7,2,     2.05,2,     0.54,2
      09FA0793, PR13N,    10,  1,      5,     24,2,19930912,0410,-43.2492, 150.0803, 3096,    195.5,  12.4470,  35.1920,2,  35.0840,2,    251.7,2,   -999.0,4,     3.03,2,     0.73,2
      09FA0793, PR13N,    10,  1,      6,     70,2,19930912,0410,-43.2492, 150.0803, 3096,    244.0,  12.0140,  35.1100,2,  35.1060,2,    244.5,2,    229.6,2,     3.52,2,     0.77,2
      09FA0793, PR13N,    10,  1,      7,     11,2,19930912,0410,-43.2492, 150.0803, 3096,    290.9,  11.5150,  35.0260,2,  35.0190,2,    229.0,2,    229.1,2,     3.91,2,     0.86,2
      09FA0793, PR13N,    10,  1,      8,     18,2,19930912,0410,-43.2492, 150.0803, 3096,    491.4,   9.1510,  34.6860,2,  34.6900,2,    220.5,2,    214.6,2,     6.84,2,     1.28,2
      09FA0793, PR13N,    10,  1,      9,      6,2,19930912,0410,-43.2492, 150.0803, 3096,    592.7,   8.4160,  34.6120,2,  34.6390,2,    203.8,2,   -999.0,4,    10.75,2,     1.51,2
      09FA0793, PR13N,    10,  1,     10,     77,2,19930912,0410,-43.2492, 150.0803, 3096,    790.9,   6.4900,  34.4820,2,  34.4930,2,    192.6,2,    186.4,2,    21.41,2,     1.87,2
      09FA0793, PR13N,    10,  1,     11,      8,2,19930912,0410,-43.2492, 150.0803, 3096,    988.6,   4.9400,  34.4640,2,  34.5000,2,    179.1,2,    175.1,2,    41.55,2,     2.17,2
      09FA0793, PR13N,    10,  1,     12,     15,2,19930912,0410,-43.2492, 150.0803, 3096,   1190.4,   3.9160,  34.4870,2,  34.4950,2,    171.5,2,    166.7,2,    62.08,2,     2.38,2
      09FA0793, PR13N,    10,  1,     13,      3,2,19930912,0410,-43.2492, 150.0803, 3096,   1391.9,   3.2820,  34.5360,2,  34.5390,2,    163.1,2,    161.2,2,    76.25,2,     2.48,2
      09FA0793, PR13N,    10,  1,     14,      4,2,19930912,0410,-43.2492, 150.0803, 3096,   1594.0,   2.8010,  34.5950,2,  34.5910,2,    159.5,2,   -999.0,4,    84.45,2,     2.48,2
      09FA0793, PR13N,    10,  1,     15,     27,2,19930912,0410,-43.2492, 150.0803, 3096,   1792.8,   2.5180,  34.6380,2,  34.6340,2,    164.7,2,    161.9,2,    86.11,2,     2.41,2
      09FA0793, PR13N,    10,  1,     16,      2,2,19930912,0410,-43.2492, 150.0803, 3096,   1989.4,   2.3390,  34.6750,2,  34.6770,2,    174.6,2,    167.1,2,    85.13,2,     2.34,2
      09FA0793, PR13N,    10,  1,     17,     10,2,19930912,0410,-43.2492, 150.0803, 3096,   2187.9,   2.1810,  34.7040,2,  34.7120,2,    178.9,2,   -999.0,4,    87.97,2,     2.31,2
      09FA0793, PR13N,    10,  1,     18,      9,2,19930912,0410,-43.2492, 150.0803, 3096,   2396.4,   2.0250,  34.7310,2,  34.7280,2,    186.4,2,   -999.0,4,    89.43,2,     2.24,2
      09FA0793, PR13N,    10,  1,     19,     41,2,19930912,0410,-43.2492, 150.0803, 3096,   2594.3,   1.8540,  34.7360,2,  34.7330,2,    189.3,2,    179.0,2,    94.61,2,     2.26,2
      09FA0793, PR13N,    10,  1,     20,     35,2,19930912,0410,-43.2492, 150.0803, 3096,   2788.5,   1.7300,  34.7370,2,  34.7350,2,    191.8,2,    186.7,2,   101.26,2,     2.29,2
      09FA0793, PR13N,    10,  1,     21,      5,2,19930912,0410,-43.2492, 150.0803, 3096,   2993.7,   1.5990,  34.7350,2,  34.7390,2,    193.8,2,    189.1,2,   105.17,2,     2.30,2
      09FA0793, PR13N,    10,  1,     22,     42,2,19930912,0410,-43.2492, 150.0803, 3096,   3096.2,   1.5470,  34.7340,2,  34.7480,2,    195.6,2,    191.9,2,   105.07,2,     2.25,2
      09FA0793, PR13N,    11,  1,      1,      7,2,19930912,1007,-43.2595, 150.8803, 3600,      1.9,  13.2350,  35.3460,2,  35.3650,2,    256.6,2,    251.9,2,     2.25,2,     0.50,2
      09FA0793, PR13N,    11,  1,      2,     48,2,19930912,1007,-43.2595, 150.8803, 3600,     49.7,  13.2530,  35.3550,2,  35.3620,2,    255.8,2,    250.9,2,     2.05,2,     0.48,2
      09FA0793, PR13N,    11,  1,      3,     14,2,19930912,1007,-43.2595, 150.8803, 3600,     96.2,  13.2680,  35.3560,2,  35.3620,2,    260.2,2,    242.5,2,     2.05,2,     0.51,2
      09FA0793, PR13N,    11,  1,      4,     28,2,19930912,1007,-43.2595, 150.8803, 3600,    195.3,  13.0320,  35.3050,2,  35.3460,2,    251.6,2,    227.4,2,     2.15,2,     0.53,2
      09FA0793, PR13N,    11,  1,      5,     24,2,19930912,1007,-43.2595, 150.8803, 3600,    298.2,  11.6350,  35.0280,2,  35.0510,2,    226.6,2,    219.6,2,     4.10,2,     0.89,2
      09FA0793, PR13N,    11,  1,      6,     70,2,19930912,1007,-43.2595, 150.8803, 3600,    394.1,  10.4420,  34.8680,2,  34.8790,2,    218.4,2,    217.8,2,     5.28,2,     1.06,2
      09FA0793, PR13N,    11,  1,      7,     11,2,19930912,1007,-43.2595, 150.8803, 3600,    491.2,   9.5720,  34.7380,2,  34.7130,2,    224.8,2,    220.3,2,     5.47,2,     1.15,2
      09FA0793, PR13N,    11,  1,      8,     20,2,19930912,1007,-43.2595, 150.8803, 3600,    591.2,   8.7830,  34.6390,2,  34.6350,2,    215.4,2,    216.1,2,     8.21,2,     1.34,2
      09FA0793, PR13N,    11,  1,      9,     18,2,19930912,1007,-43.2595, 150.8803, 3600,    790.6,   7.2750,  34.5150,2,  34.5260,2,    197.2,2,    182.7,2,    17.89,2,     1.70,2
      09FA0793, PR13N,    11,  1,     10,      6,2,19930912,1007,-43.2595, 150.8803, 3600,    994.3,   5.8190,  34.4610,2,  34.4630,2,    188.5,2,    180.9,2,    33.34,2,     2.00,2
      09FA0793, PR13N,    11,  1,     11,     29,2,19930912,1007,-43.2595, 150.8803, 3600,   1191.9,   4.3520,  34.4500,2,  34.4590,2,    181.8,2,   -999.0,4,    51.42,2,     2.23,2
      09FA0793, PR13N,    11,  1,     12,     77,2,19930912,1007,-43.2595, 150.8803, 3600,   1385.3,   3.4860,  34.5130,2,  34.5110,2,    166.4,2,    156.5,2,    71.56,2,     2.33,2
      09FA0793, PR13N,    11,  1,     13,      8,2,19930912,1007,-43.2595, 150.8803, 3600,   1592.9,   2.9810,  34.5760,2,  34.5760,2,    158.8,2,    151.5,2,    87.68,2,     2.38,2
      09FA0793, PR13N,    11,  1,     14,     15,2,19930912,1007,-43.2595, 150.8803, 3600,   1792.0,   2.6460,  34.6190,2,  34.6210,2,    161.0,2,    161.2,2,    88.66,2,     2.37,2
      09FA0793, PR13N,    11,  1,     15,      3,2,19930912,1007,-43.2595, 150.8803, 3600,   1992.6,   2.3960,  34.6630,2,  34.6640,2,    170.7,2,    170.9,2,    87.28,2,     2.26,2
      09FA0793, PR13N,    11,  1,     16,      4,2,19930912,1007,-43.2595, 150.8803, 3600,   2191.6,   2.2270,  34.7010,2,-999.0000,4,    178.9,2,    176.7,2,    88.46,2,     2.22,2
      09FA0793, PR13N,    11,  1,     17,     27,2,19930912,1007,-43.2595, 150.8803, 3600,   2368.0,   2.1110,  34.7200,2,  34.7210,2,    183.9,2,   -999.0,4,    90.31,2,     2.16,2
      09FA0793, PR13N,    11,  1,     18,      2,2,19930912,1007,-43.2595, 150.8803, 3600,   2591.2,   1.9480,  34.7340,2,  34.7310,2,    188.6,2,   -999.0,4,    95.49,2,     2.17,2
      09FA0793, PR13N,    11,  1,     19,     10,2,19930912,1007,-43.2595, 150.8803, 3600,   2795.0,   1.7760,  34.7360,2,  34.7350,2,    192.0,2,    187.7,2,   102.14,2,     2.14,2
      09FA0793, PR13N,    11,  1,     20,      9,2,19930912,1007,-43.2595, 150.8803, 3600,   3003.0,   1.6480,  34.7360,2,  34.7350,2,    194.3,2,    190.6,2,   106.05,2,     2.17,2
      09FA0793, PR13N,    11,  1,     21,     41,2,19930912,1007,-43.2595, 150.8803, 3600,   3201.5,   1.4890,  34.7320,2,  34.7320,2,    198.2,2,    194.3,2,   109.56,2,     2.17,2
      09FA0793, PR13N,    11,  1,     22,      5,2,19930912,1007,-43.2595, 150.8803, 3600,   3505.5,   1.2320,  34.7230,2,  34.7240,2,    201.8,2,    197.8,2,   113.18,2,     2.20,2
      09FA0793, PR13N,    11,  1,     23,     42,2,19930912,1007,-43.2595, 150.8803, 3600,   3596.9,   1.1590,  34.7210,2,  34.7200,2,    203.7,2,    200.6,2,   116.41,2,     2.16,2
      09FA0793, PR13N,    12,  1,      1,      7,2,19930912,1613,-43.2487, 151.6698, 4288,      6.6,  12.1470,  35.1760,2,  35.1430,2,    260.7,2,    256.6,2,     2.83,2,     0.65,2
      09FA0793, PR13N,    12,  1,      2,     48,2,19930912,1613,-43.2487, 151.6698, 4288,     98.8,  12.0440,  35.1520,2,  35.1060,2,    255.6,2,    256.4,2,     2.93,2,     0.66,2
      09FA0793, PR13N,    12,  1,      3,     14,2,19930912,1613,-43.2487, 151.6698, 4288,    192.9,  11.9670,  35.1400,2,  35.0980,2,    259.4,2,    256.6,2,     2.93,2,     0.64,2
      09FA0793, PR13N,    12,  1,      4,     28,2,19930912,1613,-43.2487, 151.6698, 4288,    295.4,  11.1810,  34.9840,2,  34.8850,2,    259.3,2,    235.9,2,     4.10,2,     0.89,2
      09FA0793, PR13N,    12,  1,      5,     24,2,19930912,1613,-43.2487, 151.6698, 4288,    497.3,   9.1100,  34.6610,2,  34.6320,2,    230.2,2,    234.7,2,     5.86,2,     1.18,2
      09FA0793, PR13N,    12,  1,      6,     70,2,19930912,1613,-43.2487, 151.6698, 4288,    692.5,   7.8910,  34.5520,2,  34.5590,2,    202.6,2,    196.6,2,    13.98,2,     1.54,2
      09FA0793, PR13N,    12,  1,      7,     11,2,19930912,1613,-43.2487, 151.6698, 4288,    880.8,   6.3400,  34.4630,2,  34.4770,2,    190.8,2,    180.5,2,    23.46,2,     1.81,2
      09FA0793, PR13N,    12,  1,      8,     20,2,19930912,1613,-43.2487, 151.6698, 4288,   1082.1,   4.8880,  34.4400,2,  34.4430,2,    184.2,2,    166.1,2,    41.84,2,     2.07,2
      09FA0793, PR13N,    12,  1,      9,     18,2,19930912,1613,-43.2487, 151.6698, 4288,   1284.4,   4.0690,  34.4700,2,  34.4720,2,    175.2,2,    171.1,2,    59.63,2,     2.21,2
      09FA0793, PR13N,    12,  1,     10,      6,2,19930912,1613,-43.2487, 151.6698, 4288,   1483.3,   3.3590,  34.5250,2,  34.5260,2,    163.4,2,    160.7,2,    75.27,2,     2.33,2
      09FA0793, PR13N,    12,  1,     11,     29,2,19930912,1613,-43.2487, 151.6698, 4288,   1687.5,   2.7930,  34.5880,2,-999.0000,4,    162.7,2,    158.5,2,    84.06,2,     2.35,2
      09FA0793, PR13N,    12,  1,     12,     77,2,19930912,1613,-43.2487, 151.6698, 4288,   1894.2,   2.5050,  34.6380,2,  34.6310,2,    167.9,2,    165.4,2,    87.29,2,     2.32,2
      09FA0793, PR13N,    12,  1,     13,      8,2,19930912,1613,-43.2487, 151.6698, 4288,   2090.0,   2.3340,  34.6770,2,  34.6720,2,    175.5,2,    171.3,2,    87.48,2,     2.20,2
      09FA0793, PR13N,    12,  1,     14,     15,2,19930912,1613,-43.2487, 151.6698, 4288,   2288.3,   2.1950,  34.7070,2,  34.7020,2,    180.7,2,    178.0,2,    90.51,2,     2.16,2
      09FA0793, PR13N,    12,  1,     15,      3,2,19930912,1613,-43.2487, 151.6698, 4288,   2493.1,   2.0470,  34.7270,2,  34.7260,2,    185.8,2,    180.7,2,    96.47,2,     2.16,2
      09FA0793, PR13N,    12,  1,     16,      4,2,19930912,1613,-43.2487, 151.6698, 4288,   2690.3,   1.9160,  34.7330,2,  34.7320,2,    186.9,2,    184.4,2,    99.01,2,     2.15,2
      09FA0793, PR13N,    12,  1,     17,     27,2,19930912,1613,-43.2487, 151.6698, 4288,   2893.7,   1.7430,  34.7360,2,  34.7370,2,    192.0,2,    188.1,2,   103.31,2,     2.14,2
      09FA0793, PR13N,    12,  1,     18,      2,2,19930912,1613,-43.2487, 151.6698, 4288,   3093.6,   1.6110,  34.7340,2,  34.7350,2,    193.5,2,    192.3,2,   108.10,2,     2.15,2
      09FA0793, PR13N,    12,  1,     19,     10,2,19930912,1613,-43.2487, 151.6698, 4288,   3290.8,   1.4600,  34.7300,2,  34.7290,2,    196.7,2,    194.1,2,   113.08,2,     2.16,2
      09FA0793, PR13N,    12,  1,     20,      9,2,19930912,1613,-43.2487, 151.6698, 4288,   3493.4,   1.3000,  34.7250,2,  34.7250,2,    201.1,2,    196.3,2,   115.14,2,     2.22,2
      09FA0793, PR13N,    12,  1,     21,     41,2,19930912,1613,-43.2487, 151.6698, 4288,   3694.8,   1.1520,  34.7190,2,  34.7200,2,    202.2,2,    200.6,2,   118.85,2,     2.17,2
      09FA0793, PR13N,    12,  1,     22,     35,2,19930912,1613,-43.2487, 151.6698, 4288,   3890.8,   1.0740,  34.7150,2,  34.7160,2,    202.8,2,    201.2,2,   121.39,2,     2.20,2
      09FA0793, PR13N,    12,  1,     23,      5,2,19930912,1613,-43.2487, 151.6698, 4288,   4094.5,   1.0020,  34.7120,2,  34.7130,2,    206.4,2,    202.7,2,   123.93,2,     2.17,2
      09FA0793, PR13N,    12,  1,     24,     42,2,19930912,1613,-43.2487, 151.6698, 4288,   4287.5,   0.9420,  34.7090,2,  34.7090,2,    208.2,2,    204.3,2,   125.69,2,     2.20,2