BOTTLE,20010801WHPSIOKJU
#code : jjward hyd_to_exchange.pl 
#original files copied from HTML directory: 20010801
#original HYD file: pr11_fhy.txt   Wed Aug  1 12:33:44 2001
#original SUM file: pr11_fsu.txt.tmp   Wed Aug  1 12:31:14 2001
EXPOCODE,SECT_ID,STNNBR,CASTNO,SAMPNO,BTLNBR,BTLNBR_FLAG_W,DATE,TIME,LATITUDE,LONGITUDE,DEPTH,CTDPRS,CTDTMP,CTDSAL,CTDSAL_FLAG_W,SALNTY,SALNTY_FLAG_W,CTDOXY,CTDOXY_FLAG_W,OXYGEN,OXYGEN_FLAG_W,SILCAT,SILCAT_FLAG_W,PHSPHT,PHSPHT_FLAG_W
,,,,,,,,,,,,DBAR,ITS-90,PSS-78,,PSS-78,,UMOL/KG,,UMOL/KG,,UMOL/KG,,UMOL/KG,
      09FA0793, PR13N,     1,  1,      1,      5,2,19930911,0407,-43.2043, 148.0678,   94,      2.6,  11.6580,  34.7690,2,  34.7680,2,    280.1,2,    271.7,2,     1.95,2,     0.38,2
      09FA0793, PR13N,     1,  1,      2,      2,2,19930911,0407,-43.2043, 148.0678,   94,     50.4,  11.9910,  35.0660,2,  35.0810,2,    268.0,2,    263.7,2,     1.66,2,     0.43,2
      09FA0793, PR13N,     1,  1,      3,     42,2,19930911,0407,-43.2043, 148.0678,   94,     96.8,  12.0420,  35.1070,2,  35.1090,2,    276.8,2,    265.0,2,     1.56,2,     0.44,2
      09FA0793, PR13N,     2,  1,      1,      5,2,19930911,0511,-43.2112, 148.0818,  118,      2.4,  11.6140,  34.7380,2,  34.7530,2,    277.6,2,    268.8,2,     1.86,2,     0.36,2
      09FA0793, PR13N,     2,  1,      2,     35,2,19930911,0511,-43.2112, 148.0818,  118,     49.4,  11.8920,  34.9860,2,  34.9800,2,    267.7,2,    262.3,2,     1.56,2,     0.39,2
      09FA0793, PR13N,     2,  1,      3,      2,2,19930911,0511,-43.2112, 148.0818,  118,     95.4,  12.0480,  35.0980,2,  35.0780,2,    264.8,2,    262.7,2,     1.56,2,     0.41,2
      09FA0793, PR13N,     2,  1,      4,     42,2,19930911,0511,-43.2112, 148.0818,  118,    116.3,  12.0500,  35.1090,2,  35.1050,2,    265.1,2,    264.2,2,     1.56,2,     0.43,2
      09FA0793, PR13N,     3,  1,      1,      5,2,19930911,0610,-43.2305, 148.1198,  176,      4.1,  11.9890,  35.0520,2,  35.0580,2,    263.8,2,    264.0,2,     1.47,2,     0.39,2
      09FA0793, PR13N,     3,  1,      2,     41,2,19930911,0610,-43.2305, 148.1198,  176,     46.6,  12.0100,  35.0570,2,  35.0560,2,    266.1,2,    257.9,2,     1.47,2,     0.38,2
      09FA0793, PR13N,     3,  1,      3,     35,2,19930911,0610,-43.2305, 148.1198,  176,     98.4,  12.0480,  35.0810,2,  35.1020,2,    262.2,2,    262.1,2,     1.47,2,     0.40,2
      09FA0793, PR13N,     3,  1,      4,      2,2,19930911,0610,-43.2305, 148.1198,  176,    149.0,  11.9710,  35.1130,2,  35.1170,2,    267.3,2,    262.3,2,     1.47,2,     0.41,2
      09FA0793, PR13N,     3,  1,      5,     42,2,19930911,0610,-43.2305, 148.1198,  176,    175.6,  11.9330,  35.1090,2,  35.1130,2,    263.7,2,    264.2,2,     1.56,2,     0.43,2
      09FA0793, PR13N,     4,  1,      1,      7,2,19930911,0724,-43.2520, 148.2262,  662,      2.1,  11.9020,  35.1250,2,-999.0000,4,    265.0,2,    259.8,2,     3.03,2,     0.56,2
      09FA0793, PR13N,     4,  1,      2,      2,2,19930911,0724,-43.2520, 148.2262,  662,     44.3,  11.8990,  35.1240,2,  35.1250,2,    265.5,2,    263.2,2,     2.93,2,     0.58,2
      09FA0793, PR13N,     4,  1,      3,     10,2,19930911,0724,-43.2520, 148.2262,  662,     75.5,  11.8540,  35.1190,2,  35.1180,2,    266.5,2,    259.5,2,     3.13,2,     0.60,2
      09FA0793, PR13N,     4,  1,      4,      9,2,19930911,0724,-43.2520, 148.2262,  662,    158.5,  11.8390,  35.1170,2,  35.0870,2,    263.7,2,    253.7,2,     3.32,2,     0.64,2
      09FA0793, PR13N,     4,  1,      5,     41,2,19930911,0724,-43.2520, 148.2262,  662,    271.4,  11.5760,  35.0650,2,  35.0620,2,    261.7,2,    254.4,2,     3.22,2,     0.64,2
      09FA0793, PR13N,     4,  1,      6,     35,2,19930911,0724,-43.2520, 148.2262,  662,    384.8,  10.5700,  34.8800,2,  34.8580,2,    247.0,2,    235.7,2,     5.18,2,     0.92,2
      09FA0793, PR13N,     4,  1,      7,      5,2,19930911,0724,-43.2520, 148.2262,  662,    483.9,   8.9920,  34.6500,2,  34.6520,2,    233.9,2,    227.4,2,     7.33,2,     1.19,2
      09FA0793, PR13N,     4,  1,      8,     42,2,19930911,0724,-43.2520, 148.2262,  662,    662.9,   7.6320,  34.5450,2,  34.5490,2,    197.5,2,    193.7,2,    16.72,2,     1.61,2
      09FA0793, PR13N,     5,  1,      1,      7,2,19930911,0908,-43.2522, 148.2648, 1160,      2.9,  11.9250,  35.1420,2,  35.1310,2,    269.8,2,    259.8,2,     3.32,2,     0.61,2
      09FA0793, PR13N,     5,  1,      2,      8,2,19930911,0908,-43.2522, 148.2648, 1160,     36.6,  11.9410,  35.1380,2,  35.1340,2,    266.8,2,    259.3,2,     3.32,2,     0.62,2
      09FA0793, PR13N,     5,  1,      3,     15,2,19930911,0908,-43.2522, 148.2648, 1160,    103.0,  11.9550,  35.1390,2,  35.1400,2,    266.8,2,    259.0,2,     3.13,2,     0.62,2
      09FA0793, PR13N,     5,  1,      4,      3,2,19930911,0908,-43.2522, 148.2648, 1160,    181.6,  11.7900,  35.1100,2,  35.1040,2,    261.0,2,    257.4,2,     3.22,2,     0.63,2
      09FA0793, PR13N,     5,  1,      5,      4,2,19930911,0908,-43.2522, 148.2648, 1160,    294.5,  11.5950,  35.0710,2,  35.0290,2,    263.4,2,    253.4,2,     3.32,2,     0.66,2
      09FA0793, PR13N,     5,  1,      6,     27,2,19930911,0908,-43.2522, 148.2648, 1160,    384.1,   9.8710,  34.7730,2,  34.7700,2,    238.8,2,    233.0,2,     5.96,2,     1.08,2
      09FA0793, PR13N,     5,  1,      7,      2,2,19930911,0908,-43.2522, 148.2648, 1160,    493.8,   8.6870,  34.5960,2,  34.6220,2,    242.8,2,    239.4,2,     6.45,2,     1.17,2
      09FA0793, PR13N,     5,  1,      8,     10,2,19930911,0908,-43.2522, 148.2648, 1160,    595.7,   7.9040,  34.5370,2,  34.5440,2,    212.7,2,    208.3,2,    12.51,2,     1.48,2
      09FA0793, PR13N,     5,  1,      9,      9,2,19930911,0908,-43.2522, 148.2648, 1160,    683.4,   7.4260,  34.5250,2,  34.5170,2,    199.5,2,    190.3,2,    20.14,2,     1.72,2
      09FA0793, PR13N,     5,  1,     10,     41,2,19930911,0908,-43.2522, 148.2648, 1160,    769.0,   6.6200,  34.4900,2,  34.4930,2,    193.3,2,    188.1,2,    24.24,2,     1.81,2
      09FA0793, PR13N,     5,  1,     11,     35,2,19930911,0908,-43.2522, 148.2648, 1160,    889.9,   5.3960,  34.4310,2,  34.4350,2,    191.8,2,    187.1,2,    31.97,2,     2.00,2
      09FA0793, PR13N,     5,  1,     12,      5,2,19930911,0908,-43.2522, 148.2648, 1160,    991.3,   4.7720,  34.4690,2,  34.4780,2,    178.1,2,    175.0,2,    44.09,2,     2.13,2
      09FA0793, PR13N,     5,  1,     13,     42,2,19930911,0908,-43.2522, 148.2648, 1160,   1162.8,   3.6160,  34.5230,2,  34.5260,2,    165.8,2,    163.6,2,    68.33,2,     2.34,2
      09FA0793, PR13N,     6,  1,      1,      7,2,19930911,1125,-43.2513, 148.3358, 2142,      2.7,  11.8380,  35.1270,2,  35.1320,2,    263.1,2,   -999.0,4,     2.64,2,     0.66,2
      09FA0793, PR13N,     6,  1,      2,     11,2,19930911,1125,-43.2513, 148.3358, 2142,     48.6,  11.8660,  35.1240,2,  35.1300,2,    262.3,2,    253.2,2,     2.74,2,     0.67,2
      09FA0793, PR13N,     6,  1,      3,     20,2,19930911,1125,-43.2513, 148.3358, 2142,     91.2,  11.8719,  35.1240,2,  35.1310,2,    268.2,2,    261.3,2,     2.83,2,     0.67,2
      09FA0793, PR13N,     6,  1,      4,     18,2,19930911,1125,-43.2513, 148.3358, 2142,    141.6,  11.8890,  35.1270,2,  35.1270,2,    268.5,2,    259.8,2,     2.74,2,     0.66,2
      09FA0793, PR13N,     6,  1,      5,      6,2,19930911,1125,-43.2513, 148.3358, 2142,    189.8,  11.7890,  35.1090,2,  35.1070,2,    262.7,2,    254.3,2,     2.93,2,     0.71,2
      09FA0793, PR13N,     6,  1,      6,     29,2,19930911,1125,-43.2513, 148.3358, 2142,    245.3,  11.6090,  35.0730,2,  35.0720,2,    259.1,2,    252.7,2,     3.03,2,     0.74,2
      09FA0793, PR13N,     6,  1,      7,     17,2,19930911,1125,-43.2513, 148.3358, 2142,    298.3,  10.7450,  34.9050,2,  34.9670,2,    237.4,2,    238.6,2,     3.91,2,     0.89,2
      09FA0793, PR13N,     6,  1,      8,      8,2,19930911,1125,-43.2513, 148.3358, 2142,    392.9,   9.5490,  34.7290,2,  34.7420,2,    230.0,2,    217.7,2,     5.77,2,     1.19,2
      09FA0793, PR13N,     6,  1,      9,     15,2,19930911,1125,-43.2513, 148.3358, 2142,    490.3,   8.7770,  34.6250,2,  34.6280,2,    229.5,2,    221.9,2,     7.92,2,     1.37,2
      09FA0793, PR13N,     6,  1,     10,      3,2,19930911,1125,-43.2513, 148.3358, 2142,    596.1,   7.9750,  34.5540,2,  34.5550,2,    211.5,2,    202.9,2,    12.61,2,     1.60,2
      09FA0793, PR13N,     6,  1,     11,      4,2,19930911,1125,-43.2513, 148.3358, 2142,    688.9,   7.2500,  34.5230,2,  34.5340,2,    192.7,2,    193.7,2,    17.99,2,     1.75,2
      09FA0793, PR13N,     6,  1,     12,     27,2,19930911,1125,-43.2513, 148.3358, 2142,    785.9,   6.4320,  34.4830,2,  34.4780,2,    190.8,2,    190.0,2,    25.22,2,     1.92,2
      09FA0793, PR13N,     6,  1,     13,      2,2,19930911,1125,-43.2513, 148.3358, 2142,    989.1,   4.9820,  34.4620,2,  34.4620,2,    180.2,2,    178.5,2,    46.43,2,     2.17,2
      09FA0793, PR13N,     6,  1,     14,     10,2,19930911,1125,-43.2513, 148.3358, 2142,   1193.8,   3.8090,  34.5100,2,  34.5060,2,    167.7,2,    165.6,2,    72.14,2,     2.37,2
      09FA0793, PR13N,     6,  1,     15,      9,2,19930911,1125,-43.2513, 148.3358, 2142,   1397.0,   3.0110,  34.5640,2,  34.5640,2,    161.4,2,    156.7,2,    89.73,2,     2.48,2
      09FA0793, PR13N,     6,  1,     16,     41,2,19930911,1125,-43.2513, 148.3358, 2142,   1593.6,   2.6230,  34.6150,2,  34.6190,2,    164.9,2,    163.6,2,    92.27,2,     2.45,2
      09FA0793, PR13N,     6,  1,     17,     35,2,19930911,1125,-43.2513, 148.3358, 2142,   1789.6,   2.3940,  34.6600,2,  34.6540,2,    171.9,2,    167.3,2,    93.05,2,     2.38,2
      09FA0793, PR13N,     6,  1,     18,      5,2,19930911,1125,-43.2513, 148.3358, 2142,   1972.0,   2.2180,  34.6960,2,  34.6980,2,    179.5,2,    178.5,2,    94.32,2,     2.32,2
      09FA0793, PR13N,     6,  1,     19,     42,2,19930911,1125,-43.2513, 148.3358, 2142,   2141.3,   2.0300,  34.7240,2,  34.7190,2,    185.7,2,    180.4,2,    98.81,2,     2.28,2
      09FA0793, PR13N,     7,  1,      1,      7,2,19930911,1410,-43.2540, 148.5552,  950,    936.2,   4.8900,  34.4130,2,  34.4140,2,    193.4,2,   -999.0,4,  -999.00,4,  -999.00,4
      09FA0793, PR13N,     7,  1,      2,     48,2,19930911,1410,-43.2540, 148.5552,  950,    936.2,   4.8900,  34.4130,2,  34.4150,2,    193.4,2,   -999.0,4,  -999.00,4,  -999.00,4
      09FA0793, PR13N,     7,  1,      3,     14,2,19930911,1410,-43.2540, 148.5552,  950,    936.2,   4.8900,  34.4130,2,  34.4160,2,    193.4,2,   -999.0,4,  -999.00,4,  -999.00,4
      09FA0793, PR13N,     7,  1,      4,     28,2,19930911,1410,-43.2540, 148.5552,  950,    936.2,   4.8900,  34.4130,2,  34.4140,2,    193.4,2,   -999.0,4,  -999.00,4,  -999.00,4
      09FA0793, PR13N,     7,  1,      5,     24,2,19930911,1410,-43.2540, 148.5552,  950,    936.2,   4.8900,  34.4130,2,  34.4140,2,    193.4,2,   -999.0,4,  -999.00,4,  -999.00,4
      09FA0793, PR13N,     7,  1,      6,     70,2,19930911,1410,-43.2540, 148.5552,  950,    936.2,   4.8900,  34.4130,2,  34.4120,2,    193.4,2,   -999.0,4,  -999.00,4,  -999.00,4
      09FA0793, PR13N,     7,  1,      7,     11,2,19930911,1410,-43.2540, 148.5552,  950,    936.2,   4.8900,  34.4130,2,  34.4150,2,    193.4,2,   -999.0,4,  -999.00,4,  -999.00,4
      09FA0793, PR13N,     7,  1,      8,     20,2,19930911,1410,-43.2540, 148.5552,  950,    936.2,   4.8900,  34.4130,2,  34.4170,2,    193.4,2,   -999.0,4,  -999.00,4,  -999.00,4
      09FA0793, PR13N,     7,  1,      9,     18,2,19930911,1410,-43.2540, 148.5552,  950,    938.0,   4.8690,  34.4130,2,  34.4180,2,    192.3,2,   -999.0,4,  -999.00,4,  -999.00,4
      09FA0793, PR13N,     7,  1,     10,     15,2,19930911,1410,-43.2540, 148.5552,  950,    938.0,   4.8690,  34.4130,2,  34.4180,2,    192.3,2,   -999.0,4,  -999.00,4,  -999.00,4
      09FA0793, PR13N,     7,  1,     11,      3,2,19930911,1410,-43.2540, 148.5552,  950,    938.0,   4.8690,  34.4130,2,  34.4180,2,    192.3,2,   -999.0,4,  -999.00,4,  -999.00,4
      09FA0793, PR13N,     7,  1,     12,      6,2,19930911,1410,-43.2540, 148.5552,  950,    939.0,   4.8520,  34.4130,2,  34.4170,2,    191.7,2,   -999.0,4,  -999.00,4,  -999.00,4
      09FA0793, PR13N,     7,  1,     13,     29,2,19930911,1410,-43.2540, 148.5552,  950,    939.0,   4.8520,  34.4130,2,  34.4170,2,    191.7,2,   -999.0,4,  -999.00,4,  -999.00,4
      09FA0793, PR13N,     7,  1,     14,     77,2,19930911,1410,-43.2540, 148.5552,  950,    939.0,   4.8520,  34.4130,2,  34.4170,2,    191.7,2,   -999.0,4,  -999.00,4,  -999.00,4
      09FA0793, PR13N,     7,  1,     15,      4,2,19930911,1410,-43.2540, 148.5552,  950,    939.0,   4.8520,  34.4130,2,  34.4160,2,    191.7,2,   -999.0,4,  -999.00,4,  -999.00,4
      09FA0793, PR13N,     7,  1,     16,      8,2,19930911,1410,-43.2540, 148.5552,  950,    940.6,   4.8520,  34.4130,2,  34.4160,2,    191.7,2,   -999.0,4,  -999.00,4,  -999.00,4
      09FA0793, PR13N,     7,  1,     17,     27,2,19930911,1410,-43.2540, 148.5552,  950,    940.6,   4.8520,  34.4130,2,  34.4140,2,    191.7,2,   -999.0,4,  -999.00,4,  -999.00,4
      09FA0793, PR13N,     7,  1,     18,     41,2,19930911,1410,-43.2540, 148.5552,  950,    940.6,   4.8520,  34.4130,2,  34.4100,2,    191.7,2,   -999.0,4,  -999.00,4,  -999.00,4
      09FA0793, PR13N,     7,  1,     19,     42,2,19930911,1410,-43.2540, 148.5552,  950,    940.6,   4.8520,  34.4130,2,  34.4110,2,    191.7,2,   -999.0,4,  -999.00,4,  -999.00,4
      09FA0793, PR13N,     7,  1,     20,     10,2,19930911,1410,-43.2540, 148.5552,  950,    942.0,   4.8360,  34.4130,2,  34.4090,2,    192.0,2,   -999.0,4,  -999.00,4,  -999.00,4
      09FA0793, PR13N,     7,  1,     21,     35,2,19930911,1410,-43.2540, 148.5552,  950,    942.0,   4.8360,  34.4130,2,  34.4100,2,    192.0,2,   -999.0,4,  -999.00,4,  -999.00,4
      09FA0793, PR13N,     7,  1,     22,      5,2,19930911,1410,-43.2540, 148.5552,  950,    942.0,   4.8360,  34.4130,2,  34.4110,2,    192.0,2,   -999.0,4,  -999.00,4,  -999.00,4
      09FA0793, PR13N,     7,  1,     23,      2,2,19930911,1410,-43.2540, 148.5552,  950,    942.6,   4.8360,  34.4130,2,  34.4100,2,    192.0,2,   -999.0,4,  -999.00,4,  -999.00,4
      09FA0793, PR13N,     7,  1,     24,      9,2,19930911,1410,-43.2540, 148.5552,  950,    942.6,   4.8360,  34.4130,2,  34.4100,2,    192.0,2,   -999.0,4,  -999.00,4,  -999.00,4
      09FA0793, PR13N,     8,  1,      1,      7,2,19930911,1641,-43.2675, 148.5767, 3104,      3.0,  11.8310,  35.1250,2,-999.0000,4,    264.6,2,    257.4,2,     2.83,2,     0.65,2
      09FA0793, PR13N,     8,  1,      2,     48,2,19930911,1641,-43.2675, 148.5767, 3104,     43.2,  11.8280,  35.1210,2,  35.1240,2,    265.2,2,    255.9,2,     2.74,2,     0.66,2
      09FA0793, PR13N,     8,  1,      3,     14,2,19930911,1641,-43.2675, 148.5767, 3104,     87.5,  11.7870,  35.1120,2,  35.1230,2,    264.2,2,    255.9,2,     2.74,2,     0.66,2
      09FA0793, PR13N,     8,  1,      4,     28,2,19930911,1641,-43.2675, 148.5767, 3104,    144.3,  11.6810,  35.0920,2,  35.0980,2,    260.9,2,    255.9,2,     2.64,2,     0.66,2
      09FA0793, PR13N,     8,  1,      5,     24,2,19930911,1641,-43.2675, 148.5767, 3104,    198.7,  11.4589,  35.0450,2,  35.0890,2,    258.8,2,    251.9,2,     2.64,2,     0.67,2
      09FA0793, PR13N,     8,  1,      6,     70,2,19930911,1641,-43.2675, 148.5767, 3104,    238.8,  11.0180,  34.9590,2,  35.0230,2,    257.7,2,    251.4,2,     3.03,2,     0.74,2
      09FA0793, PR13N,     8,  1,      7,     11,2,19930911,1641,-43.2675, 148.5767, 3104,    302.7,  10.2510,  34.8280,2,  34.8300,2,    246.4,2,    229.0,2,     4.59,2,     1.02,2
      09FA0793, PR13N,     8,  1,      8,     20,2,19930911,1641,-43.2675, 148.5767, 3104,    413.4,   9.0720,  34.6500,2,  34.6220,2,    250.6,2,    227.4,2,     6.74,2,     1.29,2
      09FA0793, PR13N,     8,  1,      9,     18,2,19930911,1641,-43.2675, 148.5767, 3104,    510.5,   8.4240,  34.5870,2,  34.5600,2,    220.7,2,    211.8,2,    10.36,2,     1.49,2
      09FA0793, PR13N,     8,  1,     10,      6,2,19930911,1641,-43.2675, 148.5767, 3104,    596.8,   7.9380,  34.5510,2,  34.5440,2,    210.5,2,    196.0,2,    15.54,2,     1.66,2
      09FA0793, PR13N,     8,  1,     11,     29,2,19930911,1641,-43.2675, 148.5767, 3104,    714.9,   7.0010,  34.4990,2,  34.4790,2,    195.4,2,    189.4,2,    22.19,2,     1.85,2
      09FA0793, PR13N,     8,  1,     12,     77,2,19930911,1641,-43.2675, 148.5767, 3104,    804.7,   6.0280,  34.4560,2,  34.4610,2,    191.6,2,    185.3,2,    31.67,2,     1.99,2
      09FA0793, PR13N,     8,  1,     13,      8,2,19930911,1641,-43.2675, 148.5767, 3104,    911.4,   5.0510,  34.4140,2,  34.4320,2,    195.7,2,    187.1,2,    39.10,2,     2.09,2
      09FA0793, PR13N,     8,  1,     14,     15,2,19930911,1641,-43.2675, 148.5767, 3104,   1034.3,   4.6540,  34.4720,2,  34.4220,2,    177.3,2,    182.9,2,    49.47,2,     2.20,2
      09FA0793, PR13N,     8,  1,     15,      3,2,19930911,1641,-43.2675, 148.5767, 3104,   1213.0,   3.7870,  34.5100,2,  34.5190,2,    166.6,2,    163.2,2,    76.64,2,     2.39,2
      09FA0793, PR13N,     8,  1,     16,      4,2,19930911,1641,-43.2675, 148.5767, 3104,   1396.0,   2.9990,  34.5420,2,  34.5500,2,    167.9,2,    162.2,2,    84.26,2,     2.43,2
      09FA0793, PR13N,     8,  1,     17,     27,2,19930911,1641,-43.2675, 148.5767, 3104,   1592.1,   2.6840,  34.6130,2,  34.6180,2,    160.8,2,    161.2,2,    95.30,2,     2.43,2
      09FA0793, PR13N,     8,  1,     18,      2,2,19930911,1641,-43.2675, 148.5767, 3104,   1753.9,   2.4570,  34.6490,2,  34.6490,2,    170.9,2,    168.6,2,    94.91,2,     2.38,2
      09FA0793, PR13N,     8,  1,     19,     10,2,19930911,1641,-43.2675, 148.5767, 3104,   1960.5,   2.2430,  34.6950,2,  34.6890,2,    177.7,2,    168.3,2,    97.45,2,     2.29,2
      09FA0793, PR13N,     8,  1,     20,      9,2,19930911,1641,-43.2675, 148.5767, 3104,   2192.8,   2.0880,  34.7270,2,  34.7210,2,    183.5,2,    180.4,2,    97.74,2,     2.24,2
      09FA0793, PR13N,     8,  1,     21,     41,2,19930911,1641,-43.2675, 148.5767, 3104,   2389.2,   1.9650,  34.7350,2,  34.7320,2,    187.5,2,    180.9,2,   102.62,2,     2.21,2
      09FA0793, PR13N,     8,  1,     22,     35,2,19930911,1641,-43.2675, 148.5767, 3104,   2604.9,   1.8180,  34.7380,2,  34.7380,2,    189.8,2,    187.9,2,   108.00,2,     2.20,2
      09FA0793, PR13N,     8,  1,     23,      5,2,19930911,1641,-43.2675, 148.5767, 3104,   2862.9,   1.6630,  34.7360,2,  34.7360,2,    190.8,2,    188.0,2,   111.71,2,     2.21,2
      09FA0793, PR13N,     8,  1,     24,     42,2,19930911,1641,-43.2675, 148.5767, 3104,   3095.5,   1.5250,  34.7340,2,  34.7340,2,    194.8,2,    193.0,2,   116.31,2,     2.24,2