BOTTLE,20010801WHPSIOKJU
EXPOCODE,SECT_ID,STNNBR,CASTNO,SAMPNO,BTLNBR,BTLNBR_FLAG_W,DATE,TIME,LATITUDE,LONGITUDE,DEPTH,CTDPRS,CTDTMP,CTDSAL,CTDSAL_FLAG_W,SALNTY,SALNTY_FLAG_W,CTDOXY,CTDOXY_FLAG_W,OXYGEN,OXYGEN_FLAG_W,SILCAT,SILCAT_FLAG_W,PHSPHT,PHSPHT_FLAG_W
,,,,,,,,,,,,DBAR,ITS-90,PSS-78,,PSS-78,,UMOL/KG,,UMOL/KG,,UMOL/KG,,UMOL/KG,
      09FA0793, PR13N,    13,  1,      1,      7,2,19930912,2257,-43.2562, 152.5987, 4688,      2.8,  10.9170,  34.9250,2,  34.9570,2,    260.7,2,    265.6,2,     2.83,2,     0.69,2
      09FA0793, PR13N,    13,  1,      2,     48,2,19930912,2257,-43.2562, 152.5987, 4688,    101.5,  10.4330,  34.8290,2,  34.8520,2,    275.3,2,    268.4,2,     2.83,2,     0.77,2
      09FA0793, PR13N,    13,  1,      3,     14,2,19930912,2257,-43.2562, 152.5987, 4688,    185.2,   9.8720,  34.7200,2,  34.6750,2,    273.4,2,    272.1,2,     2.64,2,     0.88,2
      09FA0793, PR13N,    13,  1,      4,     28,2,19930912,2257,-43.2562, 152.5987, 4688,    386.8,   8.7900,  34.6010,2,  34.6310,2,    252.1,2,    241.1,2,     5.18,2,     1.21,2
      09FA0793, PR13N,    13,  1,      5,     24,2,19930912,2257,-43.2562, 152.5987, 4688,    593.7,   7.7200,  34.5090,2,  34.5440,2,    219.6,2,    208.2,2,    10.95,2,     1.54,2
      09FA0793, PR13N,    13,  1,      6,     70,2,19930912,2257,-43.2562, 152.5987, 4688,    799.7,   6.4020,  34.4410,2,  34.4500,2,    200.7,2,    194.6,2,    19.36,2,     1.84,2
      09FA0793, PR13N,    13,  1,      7,     11,2,19930912,2257,-43.2562, 152.5987, 4688,   1004.1,   4.7630,  34.4050,2,  34.4080,2,    192.0,2,    191.4,2,    33.53,2,     2.08,2
      09FA0793, PR13N,    13,  1,      8,     20,2,19930912,2257,-43.2562, 152.5987, 4688,   1204.0,   3.9750,  34.4670,2,  34.4670,2,    178.3,2,    177.2,2,    57.09,2,     2.30,2
      09FA0793, PR13N,    13,  1,      9,     18,2,19930912,2257,-43.2562, 152.5987, 4688,   1382.2,   3.2250,  34.5030,2,  34.5060,2,    168.7,2,    167.4,2,    69.50,2,     2.40,2
      09FA0793, PR13N,    13,  1,     10,      6,2,19930912,2257,-43.2562, 152.5987, 4688,   1580.0,   2.8130,  34.5700,2,  34.5680,2,    162.4,2,    163.1,2,    77.52,2,     2.44,2
      09FA0793, PR13N,    13,  1,     11,     29,2,19930912,2257,-43.2562, 152.5987, 4688,   1782.3,   2.5900,  34.6230,2,  34.6250,2,    161.6,2,    162.6,2,    85.33,2,     2.41,2
      09FA0793, PR13N,    13,  1,     12,     77,2,19930912,2257,-43.2562, 152.5987, 4688,   1984.7,   2.3860,  34.6630,2,  34.6640,2,    170.3,2,    167.8,2,    86.80,2,     2.35,2
      09FA0793, PR13N,    13,  1,     13,      8,2,19930912,2257,-43.2562, 152.5987, 4688,   2171.0,   2.2400,  34.6930,2,  34.6630,2,    176.8,2,    169.3,2,    85.52,2,     2.36,2
      09FA0793, PR13N,    13,  1,     14,     15,2,19930912,2257,-43.2562, 152.5987, 4688,   2367.0,   2.0980,  34.7150,2,  34.7140,2,    182.1,2,    179.7,2,    88.45,2,     2.26,2
      09FA0793, PR13N,    13,  1,     15,      3,2,19930912,2257,-43.2562, 152.5987, 4688,   2610.4,   1.9450,  34.7290,2,  34.7290,2,    185.2,2,    184.4,2,    95.00,2,     2.23,2
      09FA0793, PR13N,    13,  1,     16,      4,2,19930912,2257,-43.2562, 152.5987, 4688,   2782.1,   1.8100,  34.7340,2,  34.7330,2,    189.3,2,    186.4,2,    94.81,2,     2.22,2
      09FA0793, PR13N,    13,  1,     17,     27,2,19930912,2257,-43.2562, 152.5987, 4688,   2998.9,   1.6760,  34.7340,2,  34.7340,2,    192.1,2,    190.9,2,    99.01,2,     2.23,2
      09FA0793, PR13N,    13,  1,     18,      2,2,19930912,2257,-43.2562, 152.5987, 4688,   3177.0,   1.5570,  34.7320,2,  34.7330,2,    194.1,2,    191.9,2,   101.94,2,     2.24,2
      09FA0793, PR13N,    13,  1,     19,     10,2,19930912,2257,-43.2562, 152.5987, 4688,   3379.9,   1.4010,  34.7280,2,  34.7280,2,    199.7,2,    195.8,2,   104.68,2,     2.24,2
      09FA0793, PR13N,    13,  1,     20,      9,2,19930912,2257,-43.2562, 152.5987, 4688,   3587.6,   1.2510,  34.7230,2,  34.7230,2,    200.3,2,    196.8,2,   108.49,2,     2.27,2
      09FA0793, PR13N,    13,  1,     21,     41,2,19930912,2257,-43.2562, 152.5987, 4688,   3789.8,   1.1310,  34.7170,2,  34.7200,2,    203.6,2,    199.3,2,   112.11,2,     2.27,2
      09FA0793, PR13N,    13,  1,     22,     35,2,19930912,2257,-43.2562, 152.5987, 4688,   4091.7,   1.0380,  34.7130,2,  34.7130,2,    204.8,2,    200.8,2,   114.65,2,     2.29,2
      09FA0793, PR13N,    13,  1,     23,      5,2,19930912,2257,-43.2562, 152.5987, 4688,   4390.8,   0.9790,  34.7100,2,  34.7090,2,    207.5,2,    204.0,2,   116.70,2,     2.28,2
      09FA0793, PR13N,    13,  1,     24,     42,2,19930912,2257,-43.2562, 152.5987, 4688,   4686.9,   0.9690,  34.7080,2,  34.7070,2,    206.8,2,    205.4,2,   120.81,2,     2.28,2
      09FA0793, PR13N,    14,  1,      1,      7,2,19930913,0602,-43.2630, 153.5195, 4734,      2.2,  11.3760,  34.9900,2,  34.9860,2,    274.1,2,    261.0,2,     3.03,2,     0.69,2
      09FA0793, PR13N,    14,  1,      2,     48,2,19930913,0602,-43.2630, 153.5195, 4734,     95.7,  11.3080,  34.9840,2,  34.9900,2,    264.1,2,    257.4,2,     2.93,2,     0.69,2
      09FA0793, PR13N,    14,  1,      3,     14,2,19930913,0602,-43.2630, 153.5195, 4734,    196.8,  11.3090,  34.9820,2,  34.9880,2,    259.3,2,    256.6,2,     3.03,2,     0.72,2
      09FA0793, PR13N,    14,  1,      4,     28,2,19930913,0602,-43.2630, 153.5195, 4734,    391.7,   8.8670,  34.6180,2,  34.6430,2,    243.6,2,    240.7,2,     5.08,2,     1.17,2
      09FA0793, PR13N,    14,  1,      5,     24,2,19930913,0602,-43.2630, 153.5195, 4734,    592.2,   7.9140,  34.5350,2,  34.5470,2,    213.2,2,    210.6,2,    10.56,2,     1.52,2
      09FA0793, PR13N,    14,  1,      6,     70,2,19930913,0602,-43.2630, 153.5195, 4734,    789.3,   6.5050,  34.4750,2,  34.4840,2,    191.0,2,    188.9,2,    23.95,2,     1.90,2
      09FA0793, PR13N,    14,  1,      7,     11,2,19930913,0602,-43.2630, 153.5195, 4734,    990.8,   4.7350,  34.3920,2,  34.3980,2,    197.9,2,    190.9,2,    36.47,2,     2.11,2
      09FA0793, PR13N,    14,  1,      8,     20,2,19930913,0602,-43.2630, 153.5195, 4734,   1190.0,   3.8100,  34.4350,2,  34.4380,2,    184.0,2,    179.3,2,    55.14,2,     2.28,2
      09FA0793, PR13N,    14,  1,      9,     18,2,19930913,0602,-43.2630, 153.5195, 4734,   1391.9,   3.2240,  34.5110,2,  34.5090,2,    170.2,2,    165.9,2,    71.95,2,     2.39,2
      09FA0793, PR13N,    14,  1,     10,      6,2,19930913,0602,-43.2630, 153.5195, 4734,   1591.5,   2.7470,  34.5940,2,  34.5920,2,    162.6,2,    159.7,2,    83.77,2,     2.41,2
      09FA0793, PR13N,    14,  1,     11,     29,2,19930913,0602,-43.2630, 153.5195, 4734,   1792.7,   2.4670,  34.6450,2,  34.6390,2,    168.6,2,    162.5,2,    88.85,2,     2.38,2
      09FA0793, PR13N,    14,  1,     12,     77,2,19930913,0602,-43.2630, 153.5195, 4734,   1991.1,   2.3040,  34.6800,2,  34.6780,2,    174.3,2,    170.6,2,    89.92,2,     2.31,2
      09FA0793, PR13N,    14,  1,     13,      8,2,19930913,0602,-43.2630, 153.5195, 4734,   2192.4,   2.1740,  34.7070,2,  34.7020,2,    179.6,2,    177.2,2,    90.90,2,     2.20,2
      09FA0793, PR13N,    14,  1,     14,     15,2,19930913,0602,-43.2630, 153.5195, 4734,   2394.3,   2.0500,  34.7260,2,  34.7230,2,    186.4,2,    181.9,2,    95.69,2,     2.20,2
      09FA0793, PR13N,    14,  1,     15,      3,2,19930913,0602,-43.2630, 153.5195, 4734,   2594.4,   1.8950,  34.7320,2,  34.7300,2,    188.5,2,    185.2,2,   100.28,2,     2.19,2
      09FA0793, PR13N,    14,  1,     16,      4,2,19930913,0602,-43.2630, 153.5195, 4734,   2795.6,   1.7340,  34.7340,2,  34.7340,2,    190.5,2,    187.3,2,   108.29,2,     2.19,2
      09FA0793, PR13N,    14,  1,     17,     27,2,19930913,0602,-43.2630, 153.5195, 4734,   2996.5,   1.5850,  34.7320,2,  34.7330,2,    194.8,2,    188.8,2,   109.17,2,     2.24,2
      09FA0793, PR13N,    14,  1,     18,      2,2,19930913,0602,-43.2630, 153.5195, 4734,   3197.9,   1.4470,  34.7290,2,  34.7290,2,    196.5,2,   -999.0,4,   115.04,2,     2.20,2
      09FA0793, PR13N,    14,  1,     19,     10,2,19930913,0602,-43.2630, 153.5195, 4734,   3397.5,   1.3120,  34.7250,2,  34.7290,2,    197.6,2,    195.8,2,   116.41,2,     2.19,2
      09FA0793, PR13N,    14,  1,     20,      9,2,19930913,0602,-43.2630, 153.5195, 4734,   3597.5,   1.2050,  34.7220,2,  34.7220,2,    202.2,2,    197.8,2,   121.20,2,     2.20,2
      09FA0793, PR13N,    14,  1,     21,     41,2,19930913,0602,-43.2630, 153.5195, 4734,   3793.0,   1.1290,  34.7180,2,  34.7140,2,    202.1,2,    196.6,2,   127.35,2,     2.20,2
      09FA0793, PR13N,    14,  1,     22,     35,2,19930913,0602,-43.2630, 153.5195, 4734,   4096.6,   1.0750,  34.7140,2,  34.7130,2,    200.7,2,    206.6,2,   128.92,2,     2.21,2
      09FA0793, PR13N,    14,  1,     23,      5,2,19930913,0602,-43.2630, 153.5195, 4734,   4396.9,   1.0240,  34.7120,2,  34.7170,2,    204.1,2,   -999.0,4,   126.96,2,     2.23,2
      09FA0793, PR13N,    14,  1,     24,     42,2,19930913,0602,-43.2630, 153.5195, 4734,   4732.1,   0.9760,  34.7090,2,  34.7100,2,    208.3,2,    201.7,2,   129.11,2,     2.23,2
      09FA0793, PR13N,    16,  1,      1,      7,2,19930913,1642,-43.2733, 154.4413, 4688,      4.6,  11.7930,  35.0760,2,-999.0000,4,    263.3,2,    264.3,2,     2.74,2,     0.65,2
      09FA0793, PR13N,    16,  1,      2,     48,2,19930913,1642,-43.2733, 154.4413, 4688,     97.2,  11.8090,  35.0770,2,  34.9270,2,    264.9,2,   -999.0,4,     4.79,2,     0.98,2
      09FA0793, PR13N,    16,  1,      3,     14,2,19930913,1642,-43.2733, 154.4413, 4688,    197.5,  11.1260,  34.9420,2,  34.8890,2,    268.2,2,    245.6,2,     4.89,2,     1.13,2
      09FA0793, PR13N,    16,  1,      4,     28,2,19930913,1642,-43.2733, 154.4413, 4688,    393.6,   9.0470,  34.6390,2,  34.6020,2,    256.0,2,    203.0,2,    11.92,2,     1.52,2
      09FA0793, PR13N,    16,  1,      5,     24,2,19930913,1642,-43.2733, 154.4413, 4688,    593.1,   8.1730,  34.5650,2,  34.5580,2,    212.5,2,    192.0,2,    21.70,2,     1.81,2
      09FA0793, PR13N,    16,  1,      6,     70,2,19930913,1642,-43.2733, 154.4413, 4688,    790.8,   6.3190,  34.4490,2,  34.4640,2,    197.9,2,    191.4,2,    35.78,2,     2.05,2
      09FA0793, PR13N,    16,  1,      7,     11,2,19930913,1642,-43.2733, 154.4413, 4688,    994.0,   5.0860,  34.4310,2,  34.3980,2,    191.4,2,    180.9,2,    55.33,2,     2.26,2
      09FA0793, PR13N,    16,  1,      8,     20,2,19930913,1642,-43.2733, 154.4413, 4688,   1190.6,   4.0860,  34.4660,2,  34.4350,2,    177.1,2,    161.0,2,    78.89,2,     2.36,2
      09FA0793, PR13N,    16,  1,      9,     18,2,19930913,1642,-43.2733, 154.4413, 4688,   1390.3,   3.3950,  34.5370,2,  34.5290,2,    163.2,2,    158.7,2,    89.44,2,     2.38,2
      09FA0793, PR13N,    16,  1,     10,      6,2,19930913,1642,-43.2733, 154.4413, 4688,   1589.0,   2.8770,  34.5820,2,  34.5830,2,    161.3,2,    162.8,2,    94.72,2,     2.33,2
      09FA0793, PR13N,    16,  1,     11,     29,2,19930913,1642,-43.2733, 154.4413, 4688,   1790.7,   2.5430,  34.6350,2,  34.6380,2,    162.1,2,    170.6,2,    94.42,2,     2.27,2
      09FA0793, PR13N,    16,  1,     12,     77,2,19930913,1642,-43.2733, 154.4413, 4688,   1992.5,   2.3350,  34.6730,2,  34.6740,2,    171.1,2,    177.2,2,    94.71,2,     2.22,2
      09FA0793, PR13N,    16,  1,     13,      8,2,19930913,1642,-43.2733, 154.4413, 4688,   2193.7,   2.1790,  34.7040,2,  34.7040,2,    179.3,2,    181.1,2,    96.86,2,     2.14,2
      09FA0793, PR13N,    16,  1,     14,     15,2,19930913,1642,-43.2733, 154.4413, 4688,   2394.7,   2.0360,  34.7210,2,  34.7180,2,    185.5,2,    183.7,2,   104.58,2,     2.17,2
      09FA0793, PR13N,    16,  1,     15,      3,2,19930913,1642,-43.2733, 154.4413, 4688,   2595.1,   1.8820,  34.7290,2,  34.7280,2,    186.3,2,    186.5,2,   107.81,2,     2.18,2
      09FA0793, PR13N,    16,  1,     16,      4,2,19930913,1642,-43.2733, 154.4413, 4688,   2797.6,   1.7460,  34.7330,2,  34.7330,2,    191.9,2,    190.1,2,   115.62,2,     2.18,2
      09FA0793, PR13N,    16,  1,     17,     27,2,19930913,1642,-43.2733, 154.4413, 4688,   2997.9,   1.6070,  34.7310,2,  34.7320,2,    192.3,2,    189.8,2,   116.11,2,     2.19,2
      09FA0793, PR13N,    16,  1,     18,      2,2,19930913,1642,-43.2733, 154.4413, 4688,   3199.6,   1.4690,  34.7260,2,-999.0000,4,    195.5,2,    195.0,2,   120.71,2,     2.20,2
      09FA0793, PR13N,    16,  1,     19,     10,2,19930913,1642,-43.2733, 154.4413, 4688,   3398.5,   1.3270,  34.7240,2,  34.7250,2,    196.5,2,    194.5,2,   123.93,2,     2.21,2
      09FA0793, PR13N,    16,  1,     20,      9,2,19930913,1642,-43.2733, 154.4413, 4688,   3599.4,   1.2150,  34.7180,2,  34.7170,2,    197.8,2,    196.6,2,   127.65,2,     2.21,2
      09FA0793, PR13N,    16,  1,     21,     41,2,19930913,1642,-43.2733, 154.4413, 4688,   3800.4,   1.1510,  34.7180,2,  34.7150,2,    199.7,2,    198.9,2,   128.04,2,     2.22,2
      09FA0793, PR13N,    16,  1,     22,     35,2,19930913,1642,-43.2733, 154.4413, 4688,   4097.8,   1.0980,  34.7130,2,  34.7130,2,    201.2,2,    198.9,2,   129.21,2,     2.23,2
      09FA0793, PR13N,    16,  1,     23,      5,2,19930913,1642,-43.2733, 154.4413, 4688,   4398.0,   1.0800,  34.7120,2,  34.7100,2,    202.5,2,    201.0,2,   131.07,2,     2.22,2
      09FA0793, PR13N,    16,  1,     24,     42,2,19930913,1642,-43.2733, 154.4413, 4688,   4687.2,   1.0450,  34.7120,2,  34.7110,2,    202.4,2,    201.0,2,   133.12,2,     2.22,2
      09FA0793, PR13N,    17,  1,      1,      7,2,19930913,2346,-43.2512, 155.3682, 4600,      2.0,  10.3960,  34.7740,2,  34.7660,2,    280.1,2,    273.2,2,     2.35,2,     0.77,2
      09FA0793, PR13N,    17,  1,      2,     48,2,19930913,2346,-43.2512, 155.3682, 4600,     98.5,  10.3860,  34.7750,2,  34.7760,2,    271.5,2,    269.3,2,     2.44,2,     0.78,2
      09FA0793, PR13N,    17,  1,      3,     14,2,19930913,2346,-43.2512, 155.3682, 4600,    197.4,  10.3820,  34.8390,2,  34.8310,2,    240.7,2,    243.4,2,     3.52,2,     0.96,2
      09FA0793, PR13N,    17,  1,      4,     28,2,19930913,2346,-43.2512, 155.3682, 4600,    395.2,   8.8480,  34.6040,2,  34.6120,2,    261.8,2,    255.1,2,     4.11,2,     1.15,2
      09FA0793, PR13N,    17,  1,      5,     24,2,19930913,2346,-43.2512, 155.3682, 4600,    593.5,   8.2680,  34.5380,2,  34.5450,2,    240.3,2,    230.6,2,     7.33,2,     1.42,2
      09FA0793, PR13N,    17,  1,      6,     70,2,19930913,2346,-43.2512, 155.3682, 4600,    792.4,   6.8700,  34.4610,2,  34.4640,2,    205.9,2,    198.6,2,    16.52,2,     1.78,2
      09FA0793, PR13N,    17,  1,      7,     11,2,19930913,2346,-43.2512, 155.3682, 4600,    991.0,   5.0690,  34.3890,2,  34.3970,2,    199.9,2,    196.1,2,    50.64,2,     2.31,2
      09FA0793, PR13N,    17,  1,      8,     20,2,19930913,2346,-43.2512, 155.3682, 4600,   1189.7,   4.0820,  34.4440,2,  34.4360,2,    179.3,2,    179.9,2,    62.47,2,     2.41,2
      09FA0793, PR13N,    17,  1,      9,     18,2,19930913,2346,-43.2512, 155.3682, 4600,   1390.6,   3.1990,  34.4800,2,  34.4830,2,    174.7,2,    169.8,2,    73.02,2,     2.44,2
      09FA0793, PR13N,    17,  1,     10,      6,2,19930913,2346,-43.2512, 155.3682, 4600,   1590.7,   2.7890,  34.5620,2,  34.5530,2,    169.0,2,    167.6,2,    81.04,2,     2.41,2
      09FA0793, PR13N,    17,  1,     11,     29,2,19930913,2346,-43.2512, 155.3682, 4600,   1791.0,   2.5290,  34.6270,2,  34.6280,2,    167.6,2,    164.8,2,    85.33,2,     2.37,2
      09FA0793, PR13N,    17,  1,     12,     77,2,19930913,2346,-43.2512, 155.3682, 4600,   1989.4,   2.3270,  34.6740,2,  34.6780,2,    172.1,2,    171.5,2,    89.24,2,     2.32,2
      09FA0793, PR13N,    17,  1,     13,      8,2,19930913,2346,-43.2512, 155.3682, 4600,   2192.2,   2.1660,  34.7030,2,  34.7030,2,    180.3,2,    176.7,2,    89.73,2,     2.25,2
      09FA0793, PR13N,    17,  1,     14,     15,2,19930913,2346,-43.2512, 155.3682, 4600,   2395.1,   2.0180,  34.7220,2,  34.7220,2,    183.6,2,    182.4,2,    92.56,2,     2.28,2
      09FA0793, PR13N,    17,  1,     15,      3,2,19930913,2346,-43.2512, 155.3682, 4600,   2594.2,   1.8749,  34.7300,2,  34.7310,2,    187.2,2,    184.1,2,    97.54,2,     2.28,2
      09FA0793, PR13N,    17,  1,     16,      4,2,19930913,2346,-43.2512, 155.3682, 4600,   2795.8,   1.7430,  34.7300,2,  34.7320,2,    188.7,2,    188.3,2,   103.11,2,     2.31,2
      09FA0793, PR13N,    17,  1,     17,     27,2,19930913,2346,-43.2512, 155.3682, 4600,   2997.1,   1.6100,  34.7330,2,  34.7310,2,    192.6,2,    190.4,2,   103.02,2,     2.30,2
      09FA0793, PR13N,    17,  1,     18,      2,2,19930913,2346,-43.2512, 155.3682, 4600,   3195.1,   1.4780,  34.7290,2,  34.7300,2,    195.5,2,    193.4,2,   106.73,2,     2.33,2
      09FA0793, PR13N,    17,  1,     19,     10,2,19930913,2346,-43.2512, 155.3682, 4600,   3398.4,   1.3390,  34.7240,2,  34.7260,2,    196.7,2,    195.6,2,   110.54,2,     2.32,2
      09FA0793, PR13N,    17,  1,     20,      9,2,19930913,2346,-43.2512, 155.3682, 4600,   3597.5,   1.2190,  34.7200,2,  34.7210,2,    198.2,2,    196.8,2,   114.94,2,     2.30,2
      09FA0793, PR13N,    17,  1,     21,     41,2,19930913,2346,-43.2512, 155.3682, 4600,   3798.7,   1.1340,  34.7160,2,  34.7170,2,    199.1,2,    196.6,2,   119.24,2,     2.32,2
      09FA0793, PR13N,    17,  1,     22,     35,2,19930913,2346,-43.2512, 155.3682, 4600,   4098.7,   1.0800,  34.7130,2,  34.7140,2,    199.2,2,    198.1,2,   119.05,2,     2.31,2
      09FA0793, PR13N,    17,  1,     23,      5,2,19930913,2346,-43.2512, 155.3682, 4600,   4393.7,   1.0360,  34.7100,2,  34.7110,2,    202.5,2,    201.2,2,   118.75,2,     2.30,2
      09FA0793, PR13N,    17,  1,     24,     42,2,19930913,2346,-43.2512, 155.3682, 4600,   4597.1,   0.9780,  34.7080,2,  34.7090,2,    206.8,2,    203.3,2,   118.17,2,     2.30,2