BOTTLE,20010801WHPSIOKJU
EXPOCODE,SECT_ID,STNNBR,CASTNO,SAMPNO,BTLNBR,BTLNBR_FLAG_W,DATE,TIME,LATITUDE,LONGITUDE,DEPTH,CTDPRS,CTDTMP,CTDSAL,CTDSAL_FLAG_W,SALNTY,SALNTY_FLAG_W,CTDOXY,CTDOXY_FLAG_W,OXYGEN,OXYGEN_FLAG_W,SILCAT,SILCAT_FLAG_W,PHSPHT,PHSPHT_FLAG_W
,,,,,,,,,,,,DBAR,ITS-90,PSS-78,,PSS-78,,UMOL/KG,,UMOL/KG,,UMOL/KG,,UMOL/KG,
      09FA0793,  PR11,    70,  1,      1,      7,2,19931001,0951,-30.0965, 153.7433, 1996,      2.3,  22.3830,  35.6760,2,  35.6710,2,    222.0,2,    219.2,2,     0.78,2,     0.25,2
      09FA0793,  PR11,    70,  1,      2,      3,2,19931001,0951,-30.0965, 153.7433, 1996,     46.6,  22.2130,  35.6870,2,  35.6710,2,    217.9,2,    219.8,2,     0.68,2,     0.17,2
      09FA0793,  PR11,    70,  1,      3,     18,2,19931001,0951,-30.0965, 153.7433, 1996,     96.1,  21.1280,  35.7010,2,  35.7040,2,    201.0,2,    186.7,2,     1.17,2,     0.26,2
      09FA0793,  PR11,    70,  1,      4,      2,2,19931001,0951,-30.0965, 153.7433, 1996,    147.2,  19.4860,  35.6060,2,  35.6460,2,    171.2,2,    175.9,2,     2.05,2,     0.43,2
      09FA0793,  PR11,    70,  1,      5,     28,2,19931001,0951,-30.0965, 153.7433, 1996,    193.4,  17.6430,  35.4810,2,  35.4800,2,    168.1,2,    160.9,2,     2.83,2,     0.70,2
      09FA0793,  PR11,    70,  1,      6,      4,2,19931001,0951,-30.0965, 153.7433, 1996,    294.8,  14.2250,  35.2020,2,  35.1870,2,    175.9,2,    171.3,2,     4.89,2,     0.99,2
      09FA0793,  PR11,    70,  1,      7,      8,2,19931001,0951,-30.0965, 153.7433, 1996,    393.3,  11.6930,  34.9480,2,  34.9330,2,    181.6,2,    181.2,2,     6.94,2,     1.26,2
      09FA0793,  PR11,    70,  1,      8,     15,2,19931001,0951,-30.0965, 153.7433, 1996,    492.5,  10.1660,  34.7950,2,  34.7910,2,    187.5,2,    186.7,2,     8.50,2,     1.41,2
      09FA0793,  PR11,    70,  1,      9,     77,2,19931001,0951,-30.0965, 153.7433, 1996,    591.0,   8.7470,  34.6400,2,  34.6540,2,    194.1,2,    190.0,2,    11.24,2,     1.57,2
      09FA0793,  PR11,    70,  1,     10,     27,2,19931001,0951,-30.0965, 153.7433, 1996,    690.7,   7.3620,  34.5190,2,  34.5480,2,    197.7,2,    187.5,2,    15.45,2,     1.73,2
      09FA0793,  PR11,    70,  1,     11,     29,2,19931001,0951,-30.0965, 153.7433, 1996,    789.8,   6.5800,  34.4700,2,  34.4880,2,    197.1,2,    190.8,2,    20.04,2,     1.85,2
      09FA0793,  PR11,    70,  1,     12,     20,2,19931001,0951,-30.0965, 153.7433, 1996,    889.2,   5.8250,  34.4560,2,  34.4650,2,    189.4,2,    184.9,2,    29.52,2,     1.91,2
      09FA0793,  PR11,    70,  1,     13,     70,2,19931001,0951,-30.0965, 153.7433, 1996,    990.2,   5.2480,  34.4560,2,  34.4650,2,    184.4,2,    177.3,2,    40.77,2,     2.08,2
      09FA0793,  PR11,    70,  1,     14,     35,2,19931001,0951,-30.0965, 153.7433, 1996,   1090.3,   4.5560,  34.4760,2,  34.4810,2,    173.9,2,    169.0,2,    53.67,2,     2.19,2
      09FA0793,  PR11,    70,  1,     15,     41,2,19931001,0951,-30.0965, 153.7433, 1996,   1186.7,   4.1360,  34.5000,2,  34.5010,2,    168.6,2,    161.5,2,    65.30,2,     2.26,2
      09FA0793,  PR11,    70,  1,     16,     24,2,19931001,0951,-30.0965, 153.7433, 1996,   1290.5,   3.7040,  34.5270,2,  34.5320,2,    161.0,2,    150.1,2,    74.98,2,     2.36,2
      09FA0793,  PR11,    70,  1,     17,     10,2,19931001,0951,-30.0965, 153.7433, 1996,   1389.9,   3.4460,  34.5470,2,  34.5480,2,    156.8,2,    150.5,2,    82.60,2,     2.39,2
      09FA0793,  PR11,    70,  1,     18,     11,2,19931001,0951,-30.0965, 153.7433, 1996,   1491.4,   2.9680,  34.5890,2,  34.5910,2,    154.2,2,    149.3,2,    92.08,2,     2.41,2
      09FA0793,  PR11,    70,  1,     19,     45,2,19931001,0951,-30.0965, 153.7433, 1996,   1591.1,   2.6660,  34.6170,2,  34.6150,2,    156.8,2,    152.9,2,    96.87,2,     2.41,2
      09FA0793,  PR11,    70,  1,     20,     48,2,19931001,0951,-30.0965, 153.7433, 1996,   1691.7,   2.5230,  34.6360,2,  34.6310,2,    159.4,2,    155.5,2,    96.18,2,     2.38,2
      09FA0793,  PR11,    70,  1,     21,      5,2,19931001,0951,-30.0965, 153.7433, 1996,   1793.4,   2.4150,  34.6510,2,  34.6550,2,    163.1,2,    158.8,2,    96.96,2,     2.34,2
      09FA0793,  PR11,    70,  1,     22,     55,2,19931001,0951,-30.0965, 153.7433, 1996,   1993.5,   2.2510,  34.6750,2,  34.6750,2,    170.3,2,    166.2,2,    97.35,2,     2.30,2
      09FA0793,  PR11,    71,  1,      1,      7,2,19931001,1236,-30.1033, 153.6670, 2222,      3.5,  22.4330,  35.6650,2,  35.6670,2,    216.8,2,    219.0,2,     0.98,2,     0.21,2
      09FA0793,  PR11,    71,  1,      2,     28,2,19931001,1236,-30.1033, 153.6670, 2222,     45.7,  22.3820,  35.6690,2,  35.6690,2,    216.9,2,    220.2,2,     0.88,2,     0.20,2
      09FA0793,  PR11,    71,  1,      3,      4,2,19931001,1236,-30.1033, 153.6670, 2222,     95.6,  20.6900,  35.6580,2,  35.7310,2,    175.0,2,    196.4,2,     1.56,2,     0.29,2
      09FA0793,  PR11,    71,  1,      4,      8,2,19931001,1236,-30.1033, 153.6670, 2222,    144.1,  18.8730,  35.5640,2,  35.5600,2,    171.9,2,    173.1,2,     2.25,2,     0.58,2
      09FA0793,  PR11,    71,  1,      5,     15,2,19931001,1236,-30.1033, 153.6670, 2222,    193.9,  17.0470,  35.4780,2,  35.4680,2,    186.1,2,    181.6,2,     2.54,2,     0.63,2
      09FA0793,  PR11,    71,  1,      6,     77,2,19931001,1236,-30.1033, 153.6670, 2222,    244.3,  15.3590,  35.2790,2,  35.2310,2,    169.2,2,    170.8,2,     4.79,2,     0.97,2
      09FA0793,  PR11,    71,  1,      7,     27,2,19931001,1236,-30.1033, 153.6670, 2222,    294.5,  13.4730,  35.1040,2,  35.0950,2,    174.4,2,    170.8,2,     5.76,2,     1.20,2
      09FA0793,  PR11,    71,  1,      8,     29,2,19931001,1236,-30.1033, 153.6670, 2222,    390.9,  11.1960,  34.9100,2,  34.8960,2,    185.1,2,    184.3,2,     7.13,2,     1.33,2
      09FA0793,  PR11,    71,  1,      9,     20,2,19931001,1236,-30.1033, 153.6670, 2222,    492.3,  10.0980,  34.7830,2,  34.7670,2,    186.5,2,    185.6,2,     9.19,2,     1.46,2
      09FA0793,  PR11,    71,  1,     10,     70,2,19931001,1236,-30.1033, 153.6670, 2222,    591.6,   9.0040,  34.6770,2,  34.7120,2,    192.0,2,    183.0,2,    10.56,2,     1.55,2
      09FA0793,  PR11,    71,  1,     11,     35,2,19931001,1236,-30.1033, 153.6670, 2222,    691.7,   7.7440,  34.5570,2,  34.5400,2,    192.4,2,    189.5,2,    16.91,2,     1.81,2
      09FA0793,  PR11,    71,  1,     12,     41,2,19931001,1236,-30.1033, 153.6670, 2222,    792.6,   6.4320,  34.4740,2,  34.4890,2,   -999.0,4,    186.7,2,  -999.00,4,  -999.00,4
      09FA0793,  PR11,    71,  1,     13,     24,2,19931001,1236,-30.1033, 153.6670, 2222,    990.7,   4.8710,  34.4650,2,  34.4730,2,    175.5,2,    171.9,2,    47.90,2,     2.24,2
      09FA0793,  PR11,    71,  1,     14,     10,2,19931001,1236,-30.1033, 153.6670, 2222,   1191.5,   4.2060,  34.4890,2,  34.4940,2,    165.6,2,    164.6,2,    60.71,2,     2.35,2
      09FA0793,  PR11,    71,  1,     15,     11,2,19931001,1236,-30.1033, 153.6670, 2222,   1392.4,   3.3610,  34.5530,2,  34.5620,2,    151.4,2,    149.1,2,    85.63,2,     2.47,2
      09FA0793,  PR11,    71,  1,     16,     45,2,19931001,1236,-30.1033, 153.6670, 2222,   1592.5,   2.7890,  34.6060,2,  34.6080,2,    152.1,2,    151.3,2,    92.96,2,     2.50,2
      09FA0793,  PR11,    71,  1,     17,     48,2,19931001,1236,-30.1033, 153.6670, 2222,   1792.8,   2.4640,  34.6440,2,  34.6440,2,    159.4,2,    156.6,2,    94.71,2,     2.43,2
      09FA0793,  PR11,    71,  1,     18,      5,2,19931001,1236,-30.1033, 153.6670, 2222,   1992.6,   2.2680,  34.6720,2,-999.0000,4,    167.7,2,    166.2,2,    92.95,2,     2.39,2
      09FA0793,  PR11,    71,  1,     19,     55,2,19931001,1236,-30.1033, 153.6670, 2222,   2221.9,   2.1160,  34.6940,2,  34.6940,2,    176.3,2,    172.6,2,    93.73,2,     2.33,2
      09FA0793,  PR11,    72,  1,      1,      7,2,19931001,1516,-30.1215, 153.5777, 1174,      3.2,  22.1760,  35.6800,2,  35.6920,2,    224.2,2,    221.5,2,     0.68,2,     0.23,2
      09FA0793,  PR11,    72,  1,      2,     27,2,19931001,1516,-30.1215, 153.5777, 1174,     50.5,  22.1520,  35.6730,2,  35.6890,2,    221.1,2,    211.5,2,     0.49,2,     0.21,2
      09FA0793,  PR11,    72,  1,      3,     29,2,19931001,1516,-30.1215, 153.5777, 1174,     96.3,  20.1550,  35.6870,2,  35.4500,2,    185.4,2,    170.7,2,     3.03,2,     0.72,2
      09FA0793,  PR11,    72,  1,      4,     20,2,19931001,1516,-30.1215, 153.5777, 1174,    149.4,  16.3160,  35.3970,2,  35.2450,2,    173.3,2,    172.0,2,     4.49,2,     0.99,2
      09FA0793,  PR11,    72,  1,      5,     70,2,19931001,1516,-30.1215, 153.5777, 1174,    199.2,  13.6620,  35.1410,2,  35.0730,2,    175.1,2,    175.7,2,     5.76,2,     1.18,2
      09FA0793,  PR11,    72,  1,      6,     35,2,19931001,1516,-30.1215, 153.5777, 1174,    248.7,  12.2740,  35.0190,2,  35.0640,2,    183.6,2,    185.1,2,     5.37,2,     1.17,2
      09FA0793,  PR11,    72,  1,      7,     41,2,19931001,1516,-30.1215, 153.5777, 1174,    298.2,  11.6390,  34.9870,2,  34.9410,2,    190.7,2,    186.4,2,     6.45,2,     1.30,2
      09FA0793,  PR11,    72,  1,      8,     24,2,19931001,1516,-30.1215, 153.5777, 1174,    399.4,   9.7980,  34.7580,2,  34.7760,2,    191.3,2,    185.3,2,     8.21,2,     1.48,2
      09FA0793,  PR11,    72,  1,      9,     10,2,19931001,1516,-30.1215, 153.5777, 1174,    497.6,   8.9690,  34.6670,2,  34.6530,2,    191.4,2,    189.0,2,    11.04,2,     1.65,2
      09FA0793,  PR11,    72,  1,     10,     11,2,19931001,1516,-30.1215, 153.5777, 1174,    593.7,   8.0870,  34.5800,2,  34.5660,2,    193.2,2,    192.1,2,    14.56,2,     1.77,2
      09FA0793,  PR11,    72,  1,     11,     45,2,19931001,1516,-30.1215, 153.5777, 1174,    693.5,   6.8260,  34.4920,2,  34.5010,2,    193.2,2,    188.5,2,    19.45,2,     1.91,2
      09FA0793,  PR11,    72,  1,     12,     48,2,19931001,1516,-30.1215, 153.5777, 1174,    791.6,   6.3710,  34.4670,2,  34.4760,2,    190.6,2,    187.2,2,    24.15,2,     1.98,2
      09FA0793,  PR11,    72,  1,     13,      5,2,19931001,1516,-30.1215, 153.5777, 1174,    931.4,   5.4500,  34.4550,2,  34.4610,2,    182.1,2,    178.1,2,    36.07,2,     2.15,2
      09FA0793,  PR11,    72,  1,     14,     55,2,19931001,1516,-30.1215, 153.5777, 1174,   1166.8,   4.1510,  34.5010,2,  34.5030,2,    164.6,2,    163.3,2,    61.98,2,     2.34,2
      09FA0793,  PR11,    73,  1,      1,      7,2,19931001,1709,-30.0863, 153.5233,  124,      3.8,  20.8690,  35.6590,2,  35.6600,2,    235.8,2,    206.8,2,     0.78,2,     0.27,2
      09FA0793,  PR11,    73,  1,      2,     18,2,19931001,1709,-30.0863, 153.5233,  124,     47.9,  20.8970,  35.6570,2,  35.6580,2,    219.7,2,    211.5,2,     0.78,2,     0.26,2
      09FA0793,  PR11,    73,  1,      3,     55,2,19931001,1709,-30.0863, 153.5233,  124,    122.2,  13.2890,  35.1760,2,  35.1800,2,    189.3,2,    186.8,2,     4.59,2,     1.01,2
      09FA0793,  PR11,    74,  1,      1,      7,2,19931001,1749,-30.0828, 153.4813,   78,      2.8,  20.9550,  35.6630,2,  35.6610,2,    209.4,2,    223.4,2,     0.78,2,     0.23,2
      09FA0793,  PR11,    74,  1,      2,     18,2,19931001,1749,-30.0828, 153.4813,   78,     47.1,  20.5080,  35.6170,2,  35.6390,2,    221.4,2,    220.0,2,     0.49,2,     0.22,2
      09FA0793,  PR11,    74,  1,      3,     55,2,19931001,1749,-30.0828, 153.4813,   78,     77.4,-999.0000,-999.0000,4,  35.5500,2,   -999.0,4,    192.2,2,     1.86,2,     0.44,2