BOTTLE,20010801WHPSIOKJU
EXPOCODE,SECT_ID,STNNBR,CASTNO,SAMPNO,BTLNBR,BTLNBR_FLAG_W,DATE,TIME,LATITUDE,LONGITUDE,DEPTH,CTDPRS,CTDTMP,CTDSAL,CTDSAL_FLAG_W,SALNTY,SALNTY_FLAG_W,CTDOXY,CTDOXY_FLAG_W,OXYGEN,OXYGEN_FLAG_W,SILCAT,SILCAT_FLAG_W,PHSPHT,PHSPHT_FLAG_W
,,,,,,,,,,,,DBAR,ITS-90,PSS-78,,PSS-78,,UMOL/KG,,UMOL/KG,,UMOL/KG,,UMOL/KG,
      09FA0793,  PR11,    46,  1,      1,      7,2,19930926,1217,-30.0860, 167.8050, 1010,      2.6,  18.4800,  35.7290,2,  35.7290,2,    218.0,2,    224.8,2,     1.46,2,     0.20,2
      09FA0793,  PR11,    46,  1,      2,      6,2,19930926,1217,-30.0860, 167.8050, 1010,     47.3,  18.4590,  35.7190,2,  35.7270,2,    228.3,2,    225.6,2,     1.27,2,     0.20,2
      09FA0793,  PR11,    46,  1,      3,     77,2,19930926,1217,-30.0860, 167.8050, 1010,     96.8,  18.4450,  35.7180,2,  35.7250,2,    225.0,2,    215.5,2,     1.27,2,     0.21,2
      09FA0793,  PR11,    46,  1,      4,     15,2,19930926,1217,-30.0860, 167.8050, 1010,    146.4,  18.2610,  35.7180,2,  35.7220,2,    221.9,2,    222.7,2,     1.37,2,     0.22,2
      09FA0793,  PR11,    46,  1,      5,     27,2,19930926,1217,-30.0860, 167.8050, 1010,    195.0,  18.0600,  35.7030,2,  35.6150,2,    220.1,2,    203.9,2,     1.76,2,     0.35,2
      09FA0793,  PR11,    46,  1,      6,     29,2,19930926,1217,-30.0860, 167.8050, 1010,    244.4,  17.3250,  35.5670,2,  35.5020,2,    195.8,2,    190.1,2,     2.25,2,     0.50,2
      09FA0793,  PR11,    46,  1,      7,     20,2,19930926,1217,-30.0860, 167.8050, 1010,    295.5,  16.2400,  35.4380,2,  35.4040,2,    183.1,2,    181.3,2,     3.03,2,     0.61,2
      09FA0793,  PR11,    46,  1,      8,     70,2,19930926,1217,-30.0860, 167.8050, 1010,    343.6,  14.9200,  35.3230,2,  35.3110,2,    184.6,2,    182.1,2,     3.61,2,     0.69,2
      09FA0793,  PR11,    46,  1,      9,     35,2,19930926,1217,-30.0860, 167.8050, 1010,    393.0,  13.6520,  35.1910,2,  35.1630,2,    188.6,2,    187.5,2,     4.98,2,     0.85,2
      09FA0793,  PR11,    46,  1,     10,     41,2,19930926,1217,-30.0860, 167.8050, 1010,    443.8,  12.9920,  35.1230,2,  35.1000,2,    186.8,2,    180.5,2,     5.37,2,     0.92,2
      09FA0793,  PR11,    46,  1,     11,     24,2,19930926,1217,-30.0860, 167.8050, 1010,    492.1,  12.1000,  35.0220,2,  35.0070,2,    190.0,2,    187.2,2,     6.64,2,     0.98,2
      09FA0793,  PR11,    46,  1,     12,     10,2,19930926,1217,-30.0860, 167.8050, 1010,    542.4,  11.0450,  34.9040,2,  34.8710,2,    188.4,2,    189.6,2,     8.70,2,     1.19,2
      09FA0793,  PR11,    46,  1,     13,     11,2,19930926,1217,-30.0860, 167.8050, 1010,    591.8,   9.2200,  34.7130,2,  34.7540,2,    186.7,2,    187.6,2,    11.34,2,     1.36,2
      09FA0793,  PR11,    46,  1,     14,     45,2,19930926,1217,-30.0860, 167.8050, 1010,    691.9,   8.4200,  34.6360,2,  34.6430,2,    188.9,2,    189.6,2,    14.27,2,     1.53,2
      09FA0793,  PR11,    46,  1,     15,     48,2,19930926,1217,-30.0860, 167.8050, 1010,    791.7,   7.4160,  34.5510,2,  34.5580,2,    194.3,2,    188.7,2,    19.35,2,     1.66,2
      09FA0793,  PR11,    46,  1,     16,      5,2,19930926,1217,-30.0860, 167.8050, 1010,    902.0,   6.1870,  34.4830,2,-999.0000,4,    187.0,2,    187.0,2,    29.23,2,     1.92,2
      09FA0793,  PR11,    46,  1,     17,      9,2,19930926,1217,-30.0860, 167.8050, 1010,   1006.3,   5.4130,  34.4710,2,  34.4790,2,    183.8,2,    181.4,2,    38.61,2,     2.03,2
      09FA0793,  PR11,    47,  1,      1,      7,2,19930926,1704,-30.0882, 167.1600, 2740,      2.4,  18.7450,  35.7310,2,  35.7340,2,    234.2,2,    219.2,2,     0.98,2,     0.21,2
      09FA0793,  PR11,    47,  1,      2,     42,2,19930926,1704,-30.0882, 167.1600, 2740,     47.3,  18.7810,  35.7350,2,  35.7330,2,    232.2,2,    219.5,2,     0.88,2,     0.20,2
      09FA0793,  PR11,    47,  1,      3,     28,2,19930926,1704,-30.0882, 167.1600, 2740,     96.5,  18.6830,  35.7120,2,  35.7240,2,    213.3,2,    219.5,2,     0.68,2,     0.21,2
      09FA0793,  PR11,    47,  1,      4,      3,2,19930926,1704,-30.0882, 167.1600, 2740,    144.9,  18.3480,  35.7050,2,  35.6610,2,    219.5,2,    199.6,2,     1.17,2,     0.29,2
      09FA0793,  PR11,    47,  1,      5,     18,2,19930926,1704,-30.0882, 167.1600, 2740,    196.7,  17.9440,  35.6410,2,  35.6820,2,    206.9,2,    213.3,2,     1.17,2,     0.27,2
      09FA0793,  PR11,    47,  1,      6,      2,2,19930926,1704,-30.0882, 167.1600, 2740,    244.1,  17.0080,  35.5130,2,  35.4690,2,    191.0,2,    182.6,2,     2.15,2,     0.53,2
      09FA0793,  PR11,    47,  1,      7,      6,2,19930926,1704,-30.0882, 167.1600, 2740,    296.5,  16.0490,  35.4300,2,  35.3950,2,    185.7,2,    181.3,2,     2.54,2,     0.62,2
      09FA0793,  PR11,    47,  1,      8,     77,2,19930926,1704,-30.0882, 167.1600, 2740,    394.1,  13.8770,  35.2280,2,  35.1980,2,    187.1,2,    181.8,2,     3.91,2,     0.81,2
      09FA0793,  PR11,    47,  1,      9,     15,2,19930926,1704,-30.0882, 167.1600, 2740,    496.2,  11.8610,  35.0060,2,  34.9760,2,    189.7,2,    184.3,2,     6.25,2,     1.05,2
      09FA0793,  PR11,    47,  1,     10,     27,2,19930926,1704,-30.0882, 167.1600, 2740,    591.9,  10.1970,  34.8090,2,  34.8260,2,    188.7,2,    190.7,2,     8.01,2,     1.24,2
      09FA0793,  PR11,    47,  1,     11,     29,2,19930926,1704,-30.0882, 167.1600, 2740,    691.6,   8.8780,  34.6640,2,  34.6600,2,    190.5,2,    191.3,2,    11.83,2,     1.44,2
      09FA0793,  PR11,    47,  1,     12,     20,2,19930926,1704,-30.0882, 167.1600, 2740,    891.5,   6.7690,  34.4880,2,  34.4760,2,    195.0,2,    190.2,2,    23.36,2,     1.80,2
      09FA0793,  PR11,    47,  1,     13,     70,2,19930926,1704,-30.0882, 167.1600, 2740,   1088.2,   5.3050,  34.4740,2,  34.4810,2,    181.5,2,    178.7,2,    42.72,2,     2.05,2
      09FA0793,  PR11,    47,  1,     14,     35,2,19930926,1704,-30.0882, 167.1600, 2740,   1287.5,   4.1840,  34.5150,2,  34.5140,2,    169.0,2,    167.0,2,    70.38,2,     2.25,2
      09FA0793,  PR11,    47,  1,     15,     41,2,19930926,1704,-30.0882, 167.1600, 2740,   1488.6,   3.3270,  34.5700,2,  34.5680,2,    158.7,2,    156.5,2,    91.98,2,     2.39,2
      09FA0793,  PR11,    47,  1,     16,     24,2,19930926,1704,-30.0882, 167.1600, 2740,   1690.2,   2.8100,  34.6060,2,  34.6040,2,    152.4,2,    151.7,2,   102.44,2,     2.43,2
      09FA0793,  PR11,    47,  1,     17,     10,2,19930926,1704,-30.0882, 167.1600, 2740,   1891.5,   2.5420,  34.6280,2,  34.6220,2,    151.6,2,    150.0,2,   111.23,2,     2.47,2
      09FA0793,  PR11,    47,  1,     18,     11,2,19930926,1704,-30.0882, 167.1600, 2740,   2092.1,   2.3120,  34.6490,2,  34.6430,2,    152.0,2,    153.8,2,   121.30,2,     2.48,2
      09FA0793,  PR11,    47,  1,     19,     45,2,19930926,1704,-30.0882, 167.1600, 2740,   2293.6,   2.1300,  34.6640,2,  34.6620,2,    154.4,2,    152.5,2,   127.46,2,     2.48,2
      09FA0793,  PR11,    47,  1,     20,     48,2,19930926,1704,-30.0882, 167.1600, 2740,   2494.4,   2.0490,  34.6720,2,  34.6700,2,    155.0,2,    152.5,2,   127.75,2,     2.47,2
      09FA0793,  PR11,    47,  1,     21,      5,2,19930926,1704,-30.0882, 167.1600, 2740,   2698.6,   1.9660,  34.6800,2,  34.6850,2,    156.7,2,    153.8,2,   124.13,2,     2.47,2
      09FA0793,  PR11,    47,  1,     22,      9,2,19930926,1704,-30.0882, 167.1600, 2740,   2737.8,   1.9600,  34.6810,2,  34.6810,2,    156.3,2,    152.2,2,   125.21,2,     2.47,2
      09FA0793,  PR11,    48,  1,      1,      7,2,19930926,2218,-30.0822, 166.5057, 3142,      3.0,  18.9320,  35.7510,2,  35.7500,2,    232.1,2,    229.3,2,     0.00,2,     0.17,2
      09FA0793,  PR11,    48,  1,      2,      8,2,19930926,2218,-30.0822, 166.5057, 3142,     47.3,  18.9360,  35.7490,2,  35.7490,2,    224.3,2,    225.6,2,     0.00,2,     0.16,2
      09FA0793,  PR11,    48,  1,      3,      4,2,19930926,2218,-30.0822, 166.5057, 3142,     95.9,  18.9210,  35.7470,2,  35.7470,2,    228.2,2,    229.1,2,     0.29,2,     0.17,2
      09FA0793,  PR11,    48,  1,      4,     42,2,19930926,2218,-30.0822, 166.5057, 3142,    148.8,  18.5980,  35.6930,2,  35.7440,2,    213.5,2,    221.9,2,     0.49,2,     0.16,2
      09FA0793,  PR11,    48,  1,      5,     28,2,19930926,2218,-30.0822, 166.5057, 3142,    196.8,  18.2840,  35.6770,2,  35.6650,2,    214.0,2,    214.4,2,     0.78,2,     0.23,2
      09FA0793,  PR11,    48,  1,      6,      3,2,19930926,2218,-30.0822, 166.5057, 3142,    245.7,  17.5270,  35.5970,2,  35.6590,2,    196.9,2,    211.8,2,     0.98,2,     0.26,2
      09FA0793,  PR11,    48,  1,      7,     18,2,19930926,2218,-30.0822, 166.5057, 3142,    294.6,  16.3270,  35.4490,2,  35.4900,2,    188.5,2,    177.8,2,     3.42,2,     0.45,2
      09FA0793,  PR11,    48,  1,      8,      2,2,19930926,2218,-30.0822, 166.5057, 3142,    392.0,  13.6410,  35.2010,2,  35.2050,2,    187.1,2,    178.9,2,     4.10,2,     0.71,2
      09FA0793,  PR11,    48,  1,      9,      6,2,19930926,2218,-30.0822, 166.5057, 3142,    490.9,  11.8700,  34.9970,2,  34.9990,2,    187.2,2,    186.2,2,     6.16,2,     1.01,2
      09FA0793,  PR11,    48,  1,     10,     77,2,19930926,2218,-30.0822, 166.5057, 3142,    591.0,   9.9830,  34.7730,2,  34.7750,2,    188.9,2,    180.5,2,     8.80,2,     1.25,2
      09FA0793,  PR11,    48,  1,     11,     15,2,19930926,2218,-30.0822, 166.5057, 3142,    690.8,   8.6320,  34.6430,2,  34.6640,2,    191.7,2,    187.3,2,    13.29,2,     1.42,2
      09FA0793,  PR11,    48,  1,     12,     27,2,19930926,2218,-30.0822, 166.5057, 3142,    788.9,   7.4430,  34.5420,2,  34.5480,2,    192.4,2,    190.7,2,    18.18,2,     1.59,2
      09FA0793,  PR11,    48,  1,     13,     29,2,19930926,2218,-30.0822, 166.5057, 3142,    993.8,   6.0480,  34.4920,2,  34.4930,2,    185.2,2,    179.8,2,    34.90,2,     1.89,2
      09FA0793,  PR11,    48,  1,     14,     20,2,19930926,2218,-30.0822, 166.5057, 3142,   1189.9,   4.8460,  34.4950,2,  34.4980,2,    174.8,2,    163.0,2,    54.94,2,     2.07,2
      09FA0793,  PR11,    48,  1,     15,     70,2,19930926,2218,-30.0822, 166.5057, 3142,   1389.6,   3.8210,  34.5390,2,  34.5430,2,    162.5,2,    161.1,2,    79.86,2,     2.25,2
      09FA0793,  PR11,    48,  1,     16,     35,2,19930926,2218,-30.0822, 166.5057, 3142,   1593.3,   3.0830,  34.5840,2,  34.5880,2,    153.3,2,    152.8,2,    98.82,2,     2.38,2
      09FA0793,  PR11,    48,  1,     17,     41,2,19930926,2218,-30.0822, 166.5057, 3142,   1792.1,   2.6340,  34.6190,2,  34.6210,2,    151.2,2,    146.0,2,   112.31,2,     2.39,2
      09FA0793,  PR11,    48,  1,     18,     24,2,19930926,2218,-30.0822, 166.5057, 3142,   1994.9,   2.3710,  34.6420,2,  34.6420,2,    151.0,2,    151.4,2,   115.53,2,     2.41,2
      09FA0793,  PR11,    48,  1,     19,     10,2,19930926,2218,-30.0822, 166.5057, 3142,   2192.8,   2.1780,  34.6590,2,  34.6650,2,    151.6,2,    150.9,2,   121.59,2,     2.41,2
      09FA0793,  PR11,    48,  1,     20,     11,2,19930926,2218,-30.0822, 166.5057, 3142,   2393.1,   2.0690,  34.6700,2,  34.6680,2,    153.5,2,   -999.0,4,   122.76,2,     2.38,2
      09FA0793,  PR11,    48,  1,     21,     45,2,19930926,2218,-30.0822, 166.5057, 3142,   2593.1,   2.0070,  34.6760,2,  34.6750,2,    155.1,2,    148.8,2,   125.21,2,     2.41,2
      09FA0793,  PR11,    48,  1,     22,     48,2,19930926,2218,-30.0822, 166.5057, 3142,   2793.1,   1.9650,  34.6800,2,  34.6800,2,    155.9,2,    153.3,2,   125.60,2,     2.38,2
      09FA0793,  PR11,    48,  1,     23,      5,2,19930926,2218,-30.0822, 166.5057, 3142,   2980.4,   1.9340,  34.6840,2,  34.6840,2,    158.0,2,    156.0,2,   126.28,2,     2.38,2
      09FA0793,  PR11,    48,  1,     24,      9,2,19930926,2218,-30.0822, 166.5057, 3142,   3142.2,   1.9140,  34.6850,2,  34.6840,2,    157.6,2,    157.1,2,   131.95,2,     2.36,2
      09FA0793,  PR11,    49,  1,      1,      7,2,19930927,0339,-30.0867, 165.8320, 2428,      2.4,  19.1240,  35.7430,2,  35.7400,2,    217.5,2,    227.1,2,     1.27,2,     0.20,2
      09FA0793,  PR11,    49,  1,      2,     28,2,19930927,0339,-30.0867, 165.8320, 2428,     45.6,  19.0220,  35.7470,2,  35.7480,2,    223.1,2,    233.0,2,     1.27,2,     0.21,2
      09FA0793,  PR11,    49,  1,      3,      3,2,19930927,0339,-30.0867, 165.8320, 2428,     95.2,  19.0100,  35.7490,2,  35.7490,2,    223.4,2,    227.9,2,     1.07,2,     0.17,2
      09FA0793,  PR11,    49,  1,      4,     18,2,19930927,0339,-30.0867, 165.8320, 2428,    145.6,  18.5820,  35.6890,2,  35.6690,2,    206.4,2,    213.4,2,     1.47,2,     0.26,2
      09FA0793,  PR11,    49,  1,      5,      2,2,19930927,0339,-30.0867, 165.8320, 2428,    195.3,  18.1390,  35.6640,2,  35.6600,2,    208.8,2,    211.1,2,     1.47,2,     0.32,2
      09FA0793,  PR11,    49,  1,      6,      6,2,19930927,0339,-30.0867, 165.8320, 2428,    245.6,  17.1050,  35.5150,2,  35.5080,2,    195.6,2,    186.8,2,     2.44,2,     0.48,2
      09FA0793,  PR11,    49,  1,      7,     77,2,19930927,0339,-30.0867, 165.8320, 2428,    294.6,  15.9320,  35.4000,2,  35.4160,2,    184.4,2,    159.5,2,     3.03,2,     0.59,2
      09FA0793,  PR11,    49,  1,      8,     15,2,19930927,0339,-30.0867, 165.8320, 2428,    392.6,  13.5320,  35.1690,2,  35.1670,2,    185.7,2,    188.4,2,     4.89,2,     0.87,2
      09FA0793,  PR11,    49,  1,      9,     27,2,19930927,0339,-30.0867, 165.8320, 2428,    490.7,  11.6610,  34.9860,2,  35.0000,2,    188.2,2,    188.9,2,     6.74,2,     1.12,2
      09FA0793,  PR11,    49,  1,     10,     29,2,19930927,0339,-30.0867, 165.8320, 2428,    587.9,   9.7470,  34.7550,2,  34.7660,2,    187.9,2,    189.7,2,     9.48,2,     1.42,2
      09FA0793,  PR11,    49,  1,     11,     20,2,19930927,0339,-30.0867, 165.8320, 2428,    790.6,   7.3790,  34.5500,2,  34.5540,2,    190.4,2,   -999.0,4,    20.72,2,     1.86,2
      09FA0793,  PR11,    49,  1,     12,     70,2,19930927,0339,-30.0867, 165.8320, 2428,    989.3,   5.7420,  34.4750,2,  34.4810,2,    183.9,2,    180.9,2,    35.49,2,     2.12,2
      09FA0793,  PR11,    49,  1,     13,     35,2,19930927,0339,-30.0867, 165.8320, 2428,   1187.3,   4.6190,  34.4860,2,  34.4890,2,    175.8,2,    173.0,2,    53.08,2,     2.36,2
      09FA0793,  PR11,    49,  1,     14,     41,2,19930927,0339,-30.0867, 165.8320, 2428,   1388.2,   3.7870,  34.5340,2,  34.5370,2,    164.4,2,    163.5,2,    70.58,2,     2.49,2
      09FA0793,  PR11,    49,  1,     15,     24,2,19930927,0339,-30.0867, 165.8320, 2428,   1586.0,   3.0940,  34.5830,2,  34.5860,2,    155.1,2,    153.6,2,    89.24,2,     2.59,2
      09FA0793,  PR11,    49,  1,     16,     10,2,19930927,0339,-30.0867, 165.8320, 2428,   1800.0,   2.6760,  34.6150,2,  34.6140,2,    150.9,2,    151.0,2,    97.36,2,     2.62,2
      09FA0793,  PR11,    49,  1,     17,     11,2,19930927,0339,-30.0867, 165.8320, 2428,   1992.6,   2.4220,  34.6380,2,  34.6360,2,    152.1,2,    152.0,2,   107.32,2,     2.63,2
      09FA0793,  PR11,    49,  1,     18,     48,2,19930927,0339,-30.0867, 165.8320, 2428,   2193.4,   2.1970,  34.6570,2,  34.6530,2,    152.5,2,    153.4,2,   110.74,2,     2.65,2
      09FA0793,  PR11,    49,  1,     19,      5,2,19930927,0339,-30.0867, 165.8320, 2428,   2401.4,   2.0820,  34.6680,2,  34.6740,2,    153.1,2,    154.3,2,   113.68,2,     2.66,2
      09FA0793,  PR11,    49,  1,     20,      9,2,19930927,0339,-30.0867, 165.8320, 2428,   2424.1,   2.0820,  34.6690,2,  34.6690,2,    155.0,2,   -999.0,4,   112.89,2,     2.64,2
      09FA0793,  PR11,    50,  1,      1,      7,2,19930927,0855,-30.0858, 165.0707, 3410,      3.0,  19.1680,  35.7170,2,  35.7410,2,    224.4,2,    230.5,2,     1.27,2,     0.24,2
      09FA0793,  PR11,    50,  1,      2,     42,2,19930927,0855,-30.0858, 165.0707, 3410,     47.2,  19.0660,  35.7550,2,  35.7240,2,    231.7,2,    230.7,2,     1.17,2,     0.24,2
      09FA0793,  PR11,    50,  1,      3,      8,2,19930927,0855,-30.0858, 165.0707, 3410,     96.3,  18.9190,  35.7410,2,  35.6710,2,    220.5,2,    219.9,2,     1.27,2,     0.29,2
      09FA0793,  PR11,    50,  1,      4,      4,2,19930927,0855,-30.0858, 165.0707, 3410,    196.4,  17.8000,  35.6230,2,  35.6480,2,    199.6,2,    210.6,2,     1.66,2,     0.35,2
      09FA0793,  PR11,    50,  1,      5,     28,2,19930927,0855,-30.0858, 165.0707, 3410,    293.9,  15.3570,  35.3650,2,  35.3770,2,    189.1,2,    190.4,2,     3.22,2,     0.78,2
      09FA0793,  PR11,    50,  1,      6,      3,2,19930927,0855,-30.0858, 165.0707, 3410,    392.2,  13.1590,  35.1590,2,  35.1670,2,    189.6,2,    186.5,2,     4.79,2,     0.97,2
      09FA0793,  PR11,    50,  1,      7,     18,2,19930927,0855,-30.0858, 165.0707, 3410,    492.4,  10.9920,  34.9030,2,  34.9060,2,    190.5,2,    188.7,2,     7.23,2,     1.30,2
      09FA0793,  PR11,    50,  1,      8,      2,2,19930927,0855,-30.0858, 165.0707, 3410,    591.7,   9.4690,  34.7340,2,  34.7210,2,    190.5,2,    189.2,2,    10.56,2,     1.65,2
      09FA0793,  PR11,    50,  1,      9,      6,2,19930927,0855,-30.0858, 165.0707, 3410,    693.0,   8.1240,  34.5940,2,  34.5920,2,    194.4,2,    191.9,2,    15.05,2,     1.83,2
      09FA0793,  PR11,    50,  1,     10,     77,2,19930927,0855,-30.0858, 165.0707, 3410,    792.3,   6.8440,  34.4970,2,  34.5020,2,    195.2,2,    189.7,2,    21.41,2,     2.00,2
      09FA0793,  PR11,    50,  1,     11,     15,2,19930927,0855,-30.0858, 165.0707, 3410,    989.8,   5.4450,  34.4580,2,  34.4670,2,    187.7,2,    182.7,2,    35.68,2,     2.24,2
      09FA0793,  PR11,    50,  1,     12,     27,2,19930927,0855,-30.0858, 165.0707, 3410,   1191.1,   4.5760,  34.4840,2,  34.4860,2,    178.1,2,    175.1,2,    52.98,2,     2.40,2
      09FA0793,  PR11,    50,  1,     13,     29,2,19930927,0855,-30.0858, 165.0707, 3410,   1390.6,   4.0720,  34.5160,2,  34.5180,2,    170.2,2,    167.5,2,    64.13,2,     2.39,2
      09FA0793,  PR11,    50,  1,     14,     20,2,19930927,0855,-30.0858, 165.0707, 3410,   1591.3,   3.1820,  34.5780,2,  34.5820,2,    155.8,2,    157.0,2,    87.00,2,     2.57,2
      09FA0793,  PR11,    50,  1,     15,     70,2,19930927,0855,-30.0858, 165.0707, 3410,   1793.8,   2.7420,  34.6120,2,  34.6110,2,    151.8,2,    151.8,2,    96.18,2,     2.63,2
      09FA0793,  PR11,    50,  1,     16,     35,2,19930927,0855,-30.0858, 165.0707, 3410,   1993.5,   2.4380,  34.6380,2,  34.6380,2,    152.3,2,    152.8,2,   103.71,2,     2.65,2
      09FA0793,  PR11,    50,  1,     17,     41,2,19930927,0855,-30.0858, 165.0707, 3410,   2194.9,   2.1850,  34.6600,2,  34.6590,2,    153.1,2,    153.1,2,   109.18,2,     2.64,2
      09FA0793,  PR11,    50,  1,     18,     24,2,19930927,0855,-30.0858, 165.0707, 3410,   2395.1,   2.0460,  34.6720,2,  34.6700,2,    156.2,2,    153.8,2,   111.43,2,     2.64,2
      09FA0793,  PR11,    50,  1,     19,     10,2,19930927,0855,-30.0858, 165.0707, 3410,   2593.0,   2.0030,  34.6770,2,  34.6740,2,    155.7,2,    154.6,2,   112.70,2,     2.61,2
      09FA0793,  PR11,    50,  1,     20,     11,2,19930927,0855,-30.0858, 165.0707, 3410,   2794.9,   1.9620,  34.6810,2,  34.6800,2,    157.2,2,    155.4,2,   113.09,2,     2.62,2
      09FA0793,  PR11,    50,  1,     21,     45,2,19930927,0855,-30.0858, 165.0707, 3410,   2995.4,   1.9420,  34.6840,2,  34.6830,2,    159.7,2,    157.0,2,   117.09,2,     2.63,2
      09FA0793,  PR11,    50,  1,     22,     48,2,19930927,0855,-30.0858, 165.0707, 3410,   3197.6,   1.9240,  34.6860,2,  34.6850,2,    160.5,2,    158.0,2,   115.53,2,     2.62,2
      09FA0793,  PR11,    50,  1,     23,      5,2,19930927,0855,-30.0858, 165.0707, 3410,   3296.7,   1.9180,  34.6870,2,  34.6850,2,    160.7,2,    158.0,2,   114.36,2,     2.62,2
      09FA0793,  PR11,    50,  1,     24,      9,2,19930927,0855,-30.0858, 165.0707, 3410,   3407.4,   1.9250,  34.6870,2,  34.6860,2,    161.3,2,    158.0,2,   114.26,2,     2.62,2