BOTTLE,20010801WHPSIOKJU
EXPOCODE,SECT_ID,STNNBR,CASTNO,SAMPNO,BTLNBR,BTLNBR_FLAG_W,DATE,TIME,LATITUDE,LONGITUDE,DEPTH,CTDPRS,CTDTMP,CTDSAL,CTDSAL_FLAG_W,SALNTY,SALNTY_FLAG_W,CTDOXY,CTDOXY_FLAG_W,OXYGEN,OXYGEN_FLAG_W,SILCAT,SILCAT_FLAG_W,PHSPHT,PHSPHT_FLAG_W
,,,,,,,,,,,,DBAR,ITS-90,PSS-78,,PSS-78,,UMOL/KG,,UMOL/KG,,UMOL/KG,,UMOL/KG,
      09FA0793, PR13N,    26,  1,      1,      7,2,19930916,1730,-43.2348, 163.6913, 4738,      2.5,  11.0190,  34.9000,2,  34.8260,2,    249.9,2,    266.6,2,     3.03,2,     0.70,2
      09FA0793, PR13N,    26,  1,      2,     48,2,19930916,1730,-43.2348, 163.6913, 4738,     96.8,  10.7340,  34.8560,2,  34.8190,2,    269.8,2,    264.2,2,     3.13,2,     0.73,2
      09FA0793, PR13N,    26,  1,      3,     14,2,19930916,1730,-43.2348, 163.6913, 4738,    194.5,  10.4170,  34.8210,2,  34.8030,2,    261.4,2,    257.6,2,     2.93,2,     0.74,2
      09FA0793, PR13N,    26,  1,      4,     28,2,19930916,1730,-43.2348, 163.6913, 4738,    392.9,   8.9830,  34.6380,2,  34.6540,2,    247.1,2,    237.9,2,     5.28,2,     1.19,2
      09FA0793, PR13N,    26,  1,      5,     24,2,19930916,1730,-43.2348, 163.6913, 4738,    592.5,   8.0750,  34.5480,2,  34.5400,2,    219.0,2,    207.5,2,    11.63,2,     1.58,2
      09FA0793, PR13N,    26,  1,      6,     70,2,19930916,1730,-43.2348, 163.6913, 4738,    793.4,   6.6200,  34.4720,2,  34.4620,2,    192.1,2,    185.9,2,    25.12,2,     1.96,2
      09FA0793, PR13N,    26,  1,      7,     11,2,19930916,1730,-43.2348, 163.6913, 4738,    992.0,   5.0270,  34.4210,2,  34.4150,2,    187.1,2,    177.4,2,    36.86,2,     2.14,2
      09FA0793, PR13N,    26,  1,      8,     20,2,19930916,1730,-43.2348, 163.6913, 4738,   1191.5,   3.8150,  34.4440,2,  34.4460,2,    180.3,2,    173.3,2,    52.59,2,     2.34,2
      09FA0793, PR13N,    26,  1,      9,     18,2,19930916,1730,-43.2348, 163.6913, 4738,   1391.8,   3.1120,  34.5200,2,  34.5160,2,    168.9,2,    163.4,2,    67.65,2,     2.41,2
      09FA0793, PR13N,    26,  1,     10,      6,2,19930916,1730,-43.2348, 163.6913, 4738,   1593.5,   2.7310,  34.5940,2,  34.5870,2,    162.7,2,    161.0,2,    79.27,2,     2.45,2
      09FA0793, PR13N,    26,  1,     11,     29,2,19930916,1730,-43.2348, 163.6913, 4738,   1796.3,   2.5070,  34.6390,2,  34.6390,2,    165.2,2,    160.2,2,    87.09,2,     2.43,2
      09FA0793, PR13N,    26,  1,     12,     77,2,19930916,1730,-43.2348, 163.6913, 4738,   1993.9,   2.3170,  34.6750,2,  34.6710,2,    170.8,2,   -999.0,4,    85.92,2,     2.37,2
      09FA0793, PR13N,    26,  1,     13,      8,2,19930916,1730,-43.2348, 163.6913, 4738,   2193.5,   2.1460,  34.6980,2,  34.7000,2,    178.5,2,    171.1,2,    86.99,2,     2.29,2
      09FA0793, PR13N,    26,  1,     14,     15,2,19930916,1730,-43.2348, 163.6913, 4738,   2395.5,   2.0090,  34.7190,2,  34.7180,2,    182.5,2,    175.2,2,    92.07,2,     2.28,2
      09FA0793, PR13N,    26,  1,     15,      3,2,19930916,1730,-43.2348, 163.6913, 4738,   2596.2,   1.7830,  34.7270,2,  34.7270,2,    187.0,2,    180.9,2,   100.28,2,     2.27,2
      09FA0793, PR13N,    26,  1,     16,      4,2,19930916,1730,-43.2348, 163.6913, 4738,   2797.1,   1.6250,  34.7280,2,  34.7280,2,    190.3,2,    185.6,2,   101.65,2,     2.29,2
      09FA0793, PR13N,    26,  1,     17,     27,2,19930916,1730,-43.2348, 163.6913, 4738,   2995.6,   1.4910,  34.7260,2,  34.7270,2,    191.4,2,    185.3,2,   106.24,2,     2.30,2
      09FA0793, PR13N,    26,  1,     18,      2,2,19930916,1730,-43.2348, 163.6913, 4738,   3195.9,   1.3640,  34.7240,2,  34.7250,2,    193.6,2,    189.2,2,   110.64,2,     2.31,2
      09FA0793, PR13N,    26,  1,     19,     10,2,19930916,1730,-43.2348, 163.6913, 4738,   3395.5,   1.3020,  34.7220,2,  34.7210,2,    194.2,2,    191.7,2,   110.25,2,     2.32,2
      09FA0793, PR13N,    26,  1,     20,      9,2,19930916,1730,-43.2348, 163.6913, 4738,   3597.3,   1.2410,  34.7210,2,  34.7210,2,    194.4,2,    187.3,2,   112.50,2,     2.32,2
      09FA0793, PR13N,    26,  1,     21,     41,2,19930916,1730,-43.2348, 163.6913, 4738,   3796.9,   1.1910,  34.7190,2,  34.7220,2,    196.5,2,    192.4,2,   113.38,2,     2.30,2
      09FA0793, PR13N,    26,  1,     22,     35,2,19930916,1730,-43.2348, 163.6913, 4738,   4097.6,   1.1600,  34.7180,2,  34.7200,2,    196.2,2,    192.4,2,   113.87,2,     2.33,2
      09FA0793, PR13N,    26,  1,     23,      5,2,19930916,1730,-43.2348, 163.6913, 4738,   4386.4,   1.1400,  34.7160,2,  34.7220,2,    197.3,2,    193.5,2,   115.82,2,     2.33,2
      09FA0793, PR13N,    26,  1,     24,     42,2,19930916,1730,-43.2348, 163.6913, 4738,   4736.5,   1.1170,  34.7150,2,  34.7170,2,    197.4,2,    194.1,2,   119.83,2,     2.34,2
      09FA0793, PR13N,    27,  1,      1,      7,2,19930916,2354,-43.2460, 164.5992, 3382,      3.4,  10.7950,  34.8680,2,  34.8800,2,    278.2,2,    269.6,2,     3.13,2,     0.65,2
      09FA0793, PR13N,    27,  1,      2,     48,2,19930916,2354,-43.2460, 164.5992, 3382,     48.4,  10.7760,  34.8680,2,  34.8390,2,    271.6,2,    267.2,2,     3.23,2,     0.70,2
      09FA0793, PR13N,    27,  1,      3,     14,2,19930916,2354,-43.2460, 164.5992, 3382,     96.7,  10.6140,  34.8400,2,  34.8280,2,    275.9,2,    261.7,2,     3.23,2,     0.72,2
      09FA0793, PR13N,    27,  1,      4,     28,2,19930916,2354,-43.2460, 164.5992, 3382,    146.6,  10.5580,  34.8340,2,  34.8210,2,    280.5,2,    262.8,2,     3.03,2,     0.73,2
      09FA0793, PR13N,    27,  1,      5,     24,2,19930916,2354,-43.2460, 164.5992, 3382,    195.8,  10.4120,  34.8510,2,  34.8180,2,    243.8,2,    234.6,2,     4.40,2,     0.99,2
      09FA0793, PR13N,    27,  1,      6,     70,2,19930916,2354,-43.2460, 164.5992, 3382,    295.5,   9.3600,  34.6990,2,  34.6850,2,    243.7,2,    238.5,2,     5.47,2,     1.15,2
      09FA0793, PR13N,    27,  1,      7,     11,2,19930916,2354,-43.2460, 164.5992, 3382,    395.1,   8.7860,  34.6150,2,  34.6140,2,    240.2,2,    233.8,2,     6.26,2,     1.29,2
      09FA0793, PR13N,    27,  1,      8,     20,2,19930916,2354,-43.2460, 164.5992, 3382,    492.3,   8.3450,  34.5690,2,  34.5750,2,    225.8,2,    221.2,2,     8.50,2,     1.42,2
      09FA0793, PR13N,    27,  1,      9,     18,2,19930916,2354,-43.2460, 164.5992, 3382,    593.5,   7.7660,  34.5280,2,  34.5290,2,    211.7,2,    204.3,2,    12.71,2,     1.62,2
      09FA0793, PR13N,    27,  1,     10,      6,2,19930916,2354,-43.2460, 164.5992, 3382,    692.1,   7.0560,  34.4920,2,  34.4960,2,    197.0,2,    193.8,2,    17.79,2,     1.77,2
      09FA0793, PR13N,    27,  1,     11,     29,2,19930916,2354,-43.2460, 164.5992, 3382,    792.3,   6.1540,  34.4480,2,  34.4540,2,    191.4,2,    188.1,2,    23.95,2,     1.93,2
      09FA0793, PR13N,    27,  1,     12,     77,2,19930916,2354,-43.2460, 164.5992, 3382,    990.6,   4.9070,  34.4200,2,  34.4240,2,    186.2,2,    183.7,2,    38.52,2,     2.17,2
      09FA0793, PR13N,    27,  1,     13,      8,2,19930916,2354,-43.2460, 164.5992, 3382,   1191.3,   3.7140,  34.4590,2,  34.4590,2,    176.8,2,    173.0,2,    56.70,2,     2.31,2
      09FA0793, PR13N,    27,  1,     14,     15,2,19930916,2354,-43.2460, 164.5992, 3382,   1392.5,   3.2120,  34.5380,2,  34.5380,2,    163.4,2,    160.7,2,    75.07,2,     2.45,2
      09FA0793, PR13N,    27,  1,     15,      3,2,19930916,2354,-43.2460, 164.5992, 3382,   1591.6,   2.8060,  34.5950,2,  34.5950,2,    158.8,2,    156.6,2,    87.19,2,     2.45,2
      09FA0793, PR13N,    27,  1,     16,      4,2,19930916,2354,-43.2460, 164.5992, 3382,   1791.3,   2.4700,  34.6480,2,  34.6430,2,    162.8,2,    160.4,2,    91.20,2,     2.43,2
      09FA0793, PR13N,    27,  1,     17,     27,2,19930916,2354,-43.2460, 164.5992, 3382,   1991.9,   2.2960,  34.6780,2,  34.6750,2,    170.9,2,    167.5,2,    89.43,2,     2.36,2
      09FA0793, PR13N,    27,  1,     18,      2,2,19930916,2354,-43.2460, 164.5992, 3382,   2192.3,   2.1570,  34.6990,2,  34.6970,2,    176.3,2,    173.6,2,    95.00,2,     2.32,2
      09FA0793, PR13N,    27,  1,     19,     10,2,19930916,2354,-43.2460, 164.5992, 3382,   2394.0,   1.9540,  34.7160,2,  34.7150,2,    181.8,2,    179.1,2,    95.30,2,     2.31,2
      09FA0793, PR13N,    27,  1,     20,      9,2,19930916,2354,-43.2460, 164.5992, 3382,   2595.9,   1.8030,  34.7250,2,  34.7230,2,    186.5,2,    182.9,2,    99.01,2,     2.29,2
      09FA0793, PR13N,    27,  1,     21,     41,2,19930916,2354,-43.2460, 164.5992, 3382,   2794.1,   1.6740,  34.7270,2,  34.7250,2,    188.1,2,    184.5,2,   102.63,2,     2.29,2
      09FA0793, PR13N,    27,  1,     22,     35,2,19930916,2354,-43.2460, 164.5992, 3382,   2994.8,   1.5160,  34.7270,2,  34.7270,2,    191.1,2,    187.6,2,   108.59,2,     2.28,2
      09FA0793, PR13N,    27,  1,     23,      5,2,19930916,2354,-43.2460, 164.5992, 3382,   3194.4,   1.3790,  34.7240,2,  34.7230,2,    191.4,2,    189.7,2,   113.77,2,     2.31,2
      09FA0793, PR13N,    27,  1,     24,     42,2,19930916,2354,-43.2460, 164.5992, 3382,   3378.7,   1.2400,  34.7220,2,  34.7250,2,    194.6,2,    191.1,2,   119.24,2,     2.32,2
      09FA0793, PR13N,    28,  1,      1,      7,2,19930917,0628,-43.2443, 165.5507, 4366,      2.1,  11.7140,  35.0500,2,  35.0510,2,    242.8,2,    258.1,2,     2.93,2,     0.59,2
      09FA0793, PR13N,    28,  1,      2,     48,2,19930917,0628,-43.2443, 165.5507, 4366,     94.7,  11.6330,  35.0490,2,  35.0350,2,    266.1,2,    245.0,2,     2.93,2,     0.64,2
      09FA0793, PR13N,    28,  1,      3,     14,2,19930917,0628,-43.2443, 165.5507, 4366,    199.1,  10.8950,  34.9460,2,  35.0390,2,    227.1,2,    249.6,2,     3.22,2,     0.65,2
      09FA0793, PR13N,    28,  1,      4,     28,2,19930917,0628,-43.2443, 165.5507, 4366,    394.0,   9.2190,  34.6780,2,  34.7010,2,    230.6,2,    225.4,2,     6.06,2,     1.18,2
      09FA0793, PR13N,    28,  1,      5,     24,2,19930917,0628,-43.2443, 165.5507, 4366,    593.8,   8.0870,  34.5600,2,-999.0000,4,    206.1,2,    205.3,2,    11.34,2,     1.52,2
      09FA0793, PR13N,    28,  1,      6,     70,2,19930917,0628,-43.2443, 165.5507, 4366,    791.9,   6.6110,  34.4780,2,  34.4750,2,    189.8,2,    183.5,2,    22.78,2,     1.90,2
      09FA0793, PR13N,    28,  1,      7,     11,2,19930917,0628,-43.2443, 165.5507, 4366,    991.9,   5.0180,  34.4290,2,  34.4280,2,    186.4,2,    181.1,2,    38.32,2,     2.14,2
      09FA0793, PR13N,    28,  1,      8,     20,2,19930917,0628,-43.2443, 165.5507, 4366,   1192.9,   4.0740,  34.4580,2,  34.4570,2,    176.8,2,    170.8,2,    56.90,2,     2.31,2
      09FA0793, PR13N,    28,  1,      9,     18,2,19930917,0628,-43.2443, 165.5507, 4366,   1392.0,   3.3170,  34.5150,2,  34.5100,2,    167.5,2,    164.2,2,    70.77,2,     2.41,2
      09FA0793, PR13N,    28,  1,     10,      6,2,19930917,0628,-43.2443, 165.5507, 4366,   1592.3,   2.8760,  34.5830,2,  34.5810,2,    159.6,2,    155.2,2,    86.02,2,     2.46,2
      09FA0793, PR13N,    28,  1,     11,     29,2,19930917,0628,-43.2443, 165.5507, 4366,   1792.0,   2.5640,  34.6310,2,  34.6280,2,    162.9,2,    159.8,2,    91.69,2,     2.43,2
      09FA0793, PR13N,    28,  1,     12,     77,2,19930917,0628,-43.2443, 165.5507, 4366,   1993.6,   2.3650,  34.6670,2,  34.6660,2,    167.0,2,    164.2,2,    96.18,2,     2.38,2
      09FA0793, PR13N,    28,  1,     13,      8,2,19930917,0628,-43.2443, 165.5507, 4366,   2194.7,   2.1900,  34.6960,2,  34.6980,2,    174.7,2,    172.6,2,    95.69,2,     2.28,2
      09FA0793, PR13N,    28,  1,     14,     15,2,19930917,0628,-43.2443, 165.5507, 4366,   2394.9,   2.0030,  34.7120,2,  34.7120,2,    180.2,2,    175.1,2,   102.53,2,     2.29,2
      09FA0793, PR13N,    28,  1,     15,      3,2,19930917,0628,-43.2443, 165.5507, 4366,   2594.1,   1.8470,  34.7240,2,  34.7220,2,    184.8,2,    180.5,2,   106.14,2,     2.28,2
      09FA0793, PR13N,    28,  1,     16,      4,2,19930917,0628,-43.2443, 165.5507, 4366,   2792.8,   1.6510,  34.7280,2,  34.7260,2,    187.5,2,    185.1,2,   111.81,2,     2.27,2
      09FA0793, PR13N,    28,  1,     17,     27,2,19930917,0628,-43.2443, 165.5507, 4366,   2995.7,   1.5170,  34.7270,2,  34.7310,2,    191.6,2,    188.1,2,   115.04,2,     2.27,2
      09FA0793, PR13N,    28,  1,     18,      2,2,19930917,0628,-43.2443, 165.5507, 4366,   3195.0,   1.3830,  34.7250,2,  34.7250,2,    192.3,2,    186.8,2,   120.81,2,     2.29,2
      09FA0793, PR13N,    28,  1,     19,     10,2,19930917,0628,-43.2443, 165.5507, 4366,   3395.2,   1.2970,  34.7230,2,  34.7180,2,    193.0,2,    188.9,2,   122.27,2,     2.29,2
      09FA0793, PR13N,    28,  1,     20,      9,2,19930917,0628,-43.2443, 165.5507, 4366,   3597.3,   1.2240,  34.7210,2,  34.7190,2,    194.3,2,    190.3,2,   127.06,2,     2.31,2
      09FA0793, PR13N,    28,  1,     21,     41,2,19930917,0628,-43.2443, 165.5507, 4366,   3795.7,   1.1890,  34.7200,2,  34.7210,2,    195.0,2,    190.9,2,   127.65,2,     2.31,2
      09FA0793, PR13N,    28,  1,     22,      5,2,19930917,0628,-43.2443, 165.5507, 4366,   4192.8,   1.1490,  34.7190,2,  34.7170,2,    195.9,2,    190.9,2,   133.02,2,     2.38,2
      09FA0793, PR13N,    28,  1,     23,     42,2,19930917,0628,-43.2443, 165.5507, 4366,   4363.8,   1.1260,  34.7170,2,  34.7150,2,    193.5,2,    190.9,2,   132.14,2,     2.35,2
      09FA0793,  PR11,    30,  1,      1,      7,2,19930923,0702,-34.3140, 172.6520,   76,      3.6,  14.5620,  35.3300,2,  35.3320,2,    241.1,2,    226.3,2,     2.54,2,     0.55,2
      09FA0793,  PR11,    30,  1,      2,     35,2,19930923,0702,-34.3140, 172.6520,   76,     47.0,  14.5130,  35.3290,2,  35.3350,2,    239.6,2,    226.6,2,     2.54,2,     0.53,2
      09FA0793,  PR11,    30,  1,      3,     42,2,19930923,0702,-34.3140, 172.6520,   76,     73.0,  14.5150,  35.3280,2,  35.3300,2,    235.6,2,    216.9,2,     2.44,2,     0.56,2
      09FA0793,  PR11,    31,  1,      1,      7,2,19930923,0823,-34.1263, 172.6098,   84,      3.9,  15.2099,  35.4270,2,  35.4250,2,    241.9,2,    240.9,2,     2.25,2,     0.42,2
      09FA0793,  PR11,    31,  1,      2,     35,2,19930923,0823,-34.1263, 172.6098,   84,     48.3,  15.2170,  35.4250,2,  35.4310,2,    235.2,2,    241.4,2,     2.34,2,     0.42,2
      09FA0793,  PR11,    31,  1,      3,     42,2,19930923,0823,-34.1263, 172.6098,   84,     82.4,  14.2120,  35.3010,2,  35.3010,2,    208.4,2,    209.6,2,     3.61,2,     0.64,2
      09FA0793,  PR11,    32,  1,      1,      7,2,19930923,0926,-34.0190, 172.5928,  276,      3.4,  15.2430,  35.4200,2,  35.4210,2,    235.7,2,    227.4,2,     2.54,2,     0.45,2
      09FA0793,  PR11,    32,  1,      2,      3,2,19930923,0926,-34.0190, 172.5928,  276,      3.4,  15.2430,  35.4200,2,  35.4220,2,    235.7,2,    227.6,2,     2.54,2,     0.46,2
      09FA0793,  PR11,    32,  1,      3,      4,2,19930923,0926,-34.0190, 172.5928,  276,     50.2,  15.2510,  35.4220,2,  35.4210,2,    231.7,2,    231.1,2,     2.54,2,     0.45,2
      09FA0793,  PR11,    32,  1,      4,     27,2,19930923,0926,-34.0190, 172.5928,  276,     98.0,  15.1940,  35.4170,2,  35.4160,2,    235.4,2,    225.5,2,     2.54,2,     0.46,2
      09FA0793,  PR11,    32,  1,      5,     10,2,19930923,0926,-34.0190, 172.5928,  276,    146.2,  14.7510,  35.3690,2,  35.3470,2,    227.7,2,    219.3,2,     3.32,2,     0.58,2
      09FA0793,  PR11,    32,  1,      6,      2,2,19930923,0926,-34.0190, 172.5928,  276,    196.0,  13.6520,  35.2350,2,  35.1990,2,    217.2,2,    208.5,2,     4.89,2,     0.79,2
      09FA0793,  PR11,    32,  1,      7,     35,2,19930923,0926,-34.0190, 172.5928,  276,    247.7,  12.9990,  35.1650,2,  35.1790,2,    208.3,2,    204.5,2,     5.37,2,     0.85,2
      09FA0793,  PR11,    32,  1,      8,     42,2,19930923,0926,-34.0190, 172.5928,  276,    271.7,  13.0510,  35.1710,2,  35.1660,2,    208.8,2,    201.3,2,     5.47,2,     0.87,2
      09FA0793,  PR11,    33,  1,      1,      7,2,19930923,1025,-33.9817, 172.5827,  562,      2.6,  15.2970,  35.4200,2,  35.4250,2,    251.5,2,    234.6,2,     2.54,2,     0.43,2
      09FA0793,  PR11,    33,  1,      2,     35,2,19930923,1025,-33.9817, 172.5827,  562,      2.6,  15.2970,  35.4200,2,  35.4260,2,    251.5,2,    234.6,2,     2.74,2,     0.44,2
      09FA0793,  PR11,    33,  1,      3,     15,2,19930923,1025,-33.9817, 172.5827,  562,     47.8,  15.2620,  35.4270,2,  35.4270,2,    239.6,2,    233.6,2,     2.54,2,     0.43,2
      09FA0793,  PR11,    33,  1,      4,      3,2,19930923,1025,-33.9817, 172.5827,  562,     98.7,  14.3140,  35.3110,2,  35.3450,2,    222.1,2,    203.9,2,     3.32,2,     0.57,2
      09FA0793,  PR11,    33,  1,      5,      4,2,19930923,1025,-33.9817, 172.5827,  562,    147.3,  14.1640,  35.2970,2,  35.2990,2,    218.7,2,    209.4,2,     3.91,2,     0.64,2
      09FA0793,  PR11,    33,  1,      6,     27,2,19930923,1025,-33.9817, 172.5827,  562,    244.8,  13.6770,  35.2380,2,  35.2660,2,    212.7,2,    211.2,2,     4.30,2,     0.69,2
      09FA0793,  PR11,    33,  1,      7,     10,2,19930923,1025,-33.9817, 172.5827,  562,    295.6,  12.6920,  35.1300,2,  35.2110,2,    207.2,2,    205.6,2,     4.89,2,     0.77,2
      09FA0793,  PR11,    33,  1,      8,      2,2,19930923,1025,-33.9817, 172.5827,  562,    395.1,  11.4170,  34.9880,2,  34.9950,2,    202.4,2,    198.6,2,     8.11,2,     1.07,2
      09FA0793,  PR11,    33,  1,      9,      5,2,19930923,1025,-33.9817, 172.5827,  562,    495.0,  10.4700,  34.8810,2,  34.8650,2,    200.7,2,    192.9,2,    10.85,2,     1.26,2
      09FA0793,  PR11,    33,  1,     10,     42,2,19930923,1025,-33.9817, 172.5827,  562,    559.2,   9.2850,  34.7490,2,  34.7560,2,    201.0,2,    188.9,2,    13.59,2,     1.43,2
      09FA0793,  PR11,    34,  1,      1,      7,2,19930923,1159,-33.8838, 172.5447, 1034,      2.7,  15.4850,  35.4440,2,  35.4540,2,    239.8,2,    242.0,2,     2.25,2,     0.39,2
      09FA0793,  PR11,    34,  1,      2,     15,2,19930923,1159,-33.8838, 172.5447, 1034,     48.3,  15.3910,  35.4250,2,  35.4480,2,    241.5,2,    244.1,2,     2.44,2,     0.39,2
      09FA0793,  PR11,    34,  1,      3,      2,2,19930923,1159,-33.8838, 172.5447, 1034,     97.5,  14.4170,  35.3150,2,  35.3330,2,    240.9,2,    231.7,2,     3.61,2,     0.56,2
      09FA0793,  PR11,    34,  1,      4,     55,2,19930923,1159,-33.8838, 172.5447, 1034,    146.9,  13.8870,  35.2680,2,  35.2890,2,    216.0,2,    222.6,2,     4.10,2,     0.65,2
      09FA0793,  PR11,    34,  1,      5,     77,2,19930923,1159,-33.8838, 172.5447, 1034,    195.9,  13.6960,  35.2460,2,  35.2350,2,    215.5,2,    218.5,2,     4.40,2,     0.73,2
      09FA0793,  PR11,    34,  1,      6,      4,2,19930923,1159,-33.8838, 172.5447, 1034,    295.8,  12.3900,  35.0920,2,  35.1160,2,    203.7,2,    201.0,2,     6.16,2,     0.91,2
      09FA0793,  PR11,    34,  1,      7,     35,2,19930923,1159,-33.8838, 172.5447, 1034,    395.5,  11.0570,  34.9390,2,  34.9200,2,    202.1,2,    194.8,2,     8.60,2,     1.18,2
      09FA0793,  PR11,    34,  1,      8,      3,2,19930923,1159,-33.8838, 172.5447, 1034,    496.7,   9.6000,  34.7730,2,  34.7600,2,    197.5,2,    187.6,2,    12.02,2,     1.41,2
      09FA0793,  PR11,    34,  1,      9,      4,2,19930923,1159,-33.8838, 172.5447, 1034,    593.2,   9.0160,  34.7110,2,  34.6820,2,    200.4,2,    190.5,2,    15.05,2,     1.52,2
      09FA0793,  PR11,    34,  1,     10,     10,2,19930923,1159,-33.8838, 172.5447, 1034,    791.7,   7.9080,  34.6240,2,  34.6190,2,    194.3,2,    187.9,2,    22.77,2,     1.69,2
      09FA0793,  PR11,    34,  1,     11,      5,2,19930923,1159,-33.8838, 172.5447, 1034,    976.7,   6.1030,  34.5240,2,  34.5270,2,    189.4,2,    184.9,2,    37.15,2,     1.96,2
      09FA0793,  PR11,    34,  1,     12,     42,2,19930923,1159,-33.8838, 172.5447, 1034,   1029.2,   5.6370,  34.5200,2,  34.5230,2,    188.5,2,    179.5,2,    43.21,2,     2.04,2