BOTTLE,20010801WHPSIOKJU
EXPOCODE,SECT_ID,STNNBR,CASTNO,SAMPNO,BTLNBR,BTLNBR_FLAG_W,DATE,TIME,LATITUDE,LONGITUDE,DEPTH,CTDPRS,CTDTMP,CTDSAL,CTDSAL_FLAG_W,SALNTY,SALNTY_FLAG_W,CTDOXY,CTDOXY_FLAG_W,OXYGEN,OXYGEN_FLAG_W,SILCAT,SILCAT_FLAG_W,PHSPHT,PHSPHT_FLAG_W
,,,,,,,,,,,,DBAR,ITS-90,PSS-78,,PSS-78,,UMOL/KG,,UMOL/KG,,UMOL/KG,,UMOL/KG,
      09FA0793, PR13N,    22,  1,      1,      7,2,19930915,1137,-43.2455, 160.0062, 5124,     96.7,  12.1530,  35.1200,2,-999.0000,4,    265.5,2,    258.4,2,     2.64,2,     0.64,2
      09FA0793, PR13N,    22,  1,      2,     48,2,19930915,1137,-43.2455, 160.0062, 5124,    194.7,  11.6160,  35.0050,2,  34.9610,2,    254.5,2,    235.6,2,     5.67,2,     1.17,2
      09FA0793, PR13N,    22,  1,      3,     14,2,19930915,1137,-43.2455, 160.0062, 5124,    394.2,   9.5470,  34.7220,2,  34.6730,2,    246.2,2,   -999.0,4,     8.70,2,     1.42,2
      09FA0793, PR13N,    22,  1,      4,     28,2,19930915,1137,-43.2455, 160.0062, 5124,    592.9,   8.3480,  34.5660,2,  34.5630,2,    232.9,2,    183.0,2,    20.14,2,     1.79,2
      09FA0793, PR13N,    22,  1,      5,     24,2,19930915,1137,-43.2455, 160.0062, 5124,    790.6,   7.0740,  34.5000,2,  34.4930,2,    195.4,2,    180.7,2,    32.65,2,     2.04,2
      09FA0793, PR13N,    22,  1,      6,     70,2,19930915,1137,-43.2455, 160.0062, 5124,    989.9,   5.4600,  34.4270,2,  34.4310,2,    193.0,2,    176.7,2,    52.60,2,     2.55,2
      09FA0793, PR13N,    22,  1,      7,     11,2,19930915,1137,-43.2455, 160.0062, 5124,   1191.1,   4.2420,  34.4400,2,  34.4390,2,    181.4,2,    165.1,2,    68.72,2,     2.39,2
      09FA0793, PR13N,    22,  1,      8,     20,2,19930915,1137,-43.2455, 160.0062, 5124,   1389.7,   3.4900,  34.4990,2,  34.4910,2,    171.4,2,    156.9,2,    84.95,2,     2.45,2
      09FA0793, PR13N,    22,  1,      9,     18,2,19930915,1137,-43.2455, 160.0062, 5124,   1591.3,   2.9190,  34.5640,2,  34.5650,2,    163.1,2,    159.0,2,    90.32,2,     2.45,2
      09FA0793, PR13N,    22,  1,     10,      6,2,19930915,1137,-43.2455, 160.0062, 5124,   1791.3,   2.6070,  34.6210,2,  34.6160,2,    161.0,2,    165.9,2,    93.84,2,     2.38,2
      09FA0793, PR13N,    22,  1,     11,     29,2,19930915,1137,-43.2455, 160.0062, 5124,   1992.1,   2.3970,  34.6610,2,  34.6560,2,    166.0,2,    165.7,2,    93.93,2,     2.33,2
      09FA0793, PR13N,    22,  1,     12,     77,2,19930915,1137,-43.2455, 160.0062, 5124,   2194.4,   2.2260,  34.6890,2,  34.6890,2,    175.2,2,    174.2,2,    94.61,2,     2.25,2
      09FA0793, PR13N,    22,  1,     13,      8,2,19930915,1137,-43.2455, 160.0062, 5124,   2395.4,   2.0910,  34.7120,2,  34.7130,2,    181.7,2,    183.3,2,    98.42,2,     2.33,2
      09FA0793, PR13N,    22,  1,     14,     15,2,19930915,1137,-43.2455, 160.0062, 5124,   2594.7,   1.9230,  34.7260,2,  34.7250,2,    184.5,2,    183.5,2,   108.59,2,     2.31,2
      09FA0793, PR13N,    22,  1,     15,      3,2,19930915,1137,-43.2455, 160.0062, 5124,   2796.4,   1.7390,  34.7290,2,  34.7300,2,    189.1,2,    186.8,2,   111.03,2,     2.30,2
      09FA0793, PR13N,    22,  1,     16,      4,2,19930915,1137,-43.2455, 160.0062, 5124,   2996.0,   1.5980,  34.7280,2,  34.7280,2,    189.1,2,    191.2,2,   122.17,2,     2.38,2
      09FA0793, PR13N,    22,  1,     17,     27,2,19930915,1137,-43.2455, 160.0062, 5124,   3298.2,   1.3940,  34.7240,2,  34.7250,2,    193.5,2,   -999.0,4,   123.84,2,     2.36,2
      09FA0793, PR13N,    22,  1,     18,      2,2,19930915,1137,-43.2455, 160.0062, 5124,   3595.3,   1.2610,  34.7200,2,  34.7220,2,    194.5,2,    195.3,2,   123.74,2,     2.32,2
      09FA0793, PR13N,    22,  1,     19,     10,2,19930915,1137,-43.2455, 160.0062, 5124,   3897.5,   1.1920,  34.7180,2,  34.7190,2,    196.0,2,   -999.0,4,   122.57,2,     2.28,2
      09FA0793, PR13N,    22,  1,     20,      9,2,19930915,1137,-43.2455, 160.0062, 5124,   4195.7,   1.1530,  34.7160,2,  34.7150,2,    197.0,2,   -999.0,4,   126.77,2,     2.29,2
      09FA0793, PR13N,    22,  1,     21,     41,2,19930915,1137,-43.2455, 160.0062, 5124,   4498.1,   1.1190,  34.7140,2,  34.7120,2,    198.7,2,    198.6,2,  -999.00,4,  -999.00,4
      09FA0793, PR13N,    22,  1,     22,     35,2,19930915,1137,-43.2455, 160.0062, 5124,   4796.5,   1.0850,  34.7120,2,  34.7120,2,    200.9,2,    192.3,2,   128.72,2,     2.29,2
      09FA0793, PR13N,    22,  1,     23,      5,2,19930915,1137,-43.2455, 160.0062, 5124,   5122.0,   1.0860,  34.7100,2,  34.7110,2,    201.7,2,    193.4,2,   129.60,2,     2.30,2
      09FA0793, PR13N,    22,  1,     24,     42,2,19930915,1137,-43.2455, 160.0062, 5124,   5122.5,   1.0860,  34.7100,2,  34.7130,2,    201.7,2,    204.1,2,   129.02,2,     2.26,2
      09FA0793, PR13N,    23,  1,      1,      7,2,19930915,1908,-43.2282, 160.9053, 4994,      2.2,  12.1440,  35.1230,2,  35.1190,2,    255.3,2,    255.6,2,     2.83,2,     0.57,2
      09FA0793, PR13N,    23,  1,      2,     48,2,19930915,1908,-43.2282, 160.9053, 4994,     97.8,  12.1460,  35.1220,2,-999.0000,4,    256.8,2,    255.9,2,     2.74,2,     0.61,2
      09FA0793, PR13N,    23,  1,      3,     14,2,19930915,1908,-43.2282, 160.9053, 4994,    194.9,  11.8530,  35.0690,2,  35.0090,2,    252.8,2,    249.9,2,     2.64,2,     0.62,2
      09FA0793, PR13N,    23,  1,      4,     28,2,19930915,1908,-43.2282, 160.9053, 4994,    392.3,   9.6010,  34.7350,2,  34.7270,2,    229.7,2,    231.5,2,     5.08,2,     1.11,2
      09FA0793, PR13N,    23,  1,      5,     24,2,19930915,1908,-43.2282, 160.9053, 4994,    593.2,   8.4260,  34.5920,2,  34.5780,2,    210.7,2,    210.5,2,     9.68,2,     1.46,2
      09FA0793, PR13N,    23,  1,      6,     70,2,19930915,1908,-43.2282, 160.9053, 4994,    789.9,   7.0300,  34.4960,2,  34.4980,2,    192.9,2,    188.8,2,    18.87,2,     1.80,2
      09FA0793, PR13N,    23,  1,      7,     11,2,19930915,1908,-43.2282, 160.9053, 4994,    990.2,   5.4320,  34.4300,2,  34.4290,2,    191.0,2,    184.9,2,    33.73,2,     2.10,2
      09FA0793, PR13N,    23,  1,      8,     20,2,19930915,1908,-43.2282, 160.9053, 4994,   1192.1,   4.2430,  34.4380,2,  34.4370,2,    180.4,2,    178.9,2,    48.88,2,     2.27,2
      09FA0793, PR13N,    23,  1,      9,     18,2,19930915,1908,-43.2282, 160.9053, 4994,   1391.2,   3.3910,  34.4890,2,  34.4750,2,    171.5,2,    172.5,2,    62.86,2,     2.39,2
      09FA0793, PR13N,    23,  1,     10,      6,2,19930915,1908,-43.2282, 160.9053, 4994,   1595.3,   2.8190,  34.5590,2,  34.5530,2,    167.2,2,    162.7,2,    75.46,2,     2.44,2
      09FA0793, PR13N,    23,  1,     11,     29,2,19930915,1908,-43.2282, 160.9053, 4994,   1794.2,   2.5830,  34.6150,2,  34.6170,2,    166.3,2,    164.5,2,    82.40,2,     2.51,2
      09FA0793, PR13N,    23,  1,     12,     77,2,19930915,1908,-43.2282, 160.9053, 4994,   1994.2,   2.4020,  34.6610,2,  34.6660,2,    169.1,2,    168.4,2,    86.60,2,     2.38,2
      09FA0793, PR13N,    23,  1,     13,      8,2,19930915,1908,-43.2282, 160.9053, 4994,   2190.9,   2.2200,  34.6950,2,  34.6950,2,    175.6,2,    175.0,2,    89.34,2,     2.30,2
      09FA0793, PR13N,    23,  1,     14,     15,2,19930915,1908,-43.2282, 160.9053, 4994,   2394.7,   2.0640,  34.7150,2,  34.7180,2,    181.7,2,    179.1,2,    94.12,2,     2.27,2
      09FA0793, PR13N,    23,  1,     15,      3,2,19930915,1908,-43.2282, 160.9053, 4994,   2593.8,   1.9000,  34.7260,2,  34.7270,2,    185.4,2,    183.5,2,    97.74,2,     2.28,2
      09FA0793, PR13N,    23,  1,     16,      4,2,19930915,1908,-43.2282, 160.9053, 4994,   2792.2,   1.7440,  34.7290,2,  34.7290,2,    189.3,2,    186.8,2,   102.14,2,     2.25,2
      09FA0793, PR13N,    23,  1,     17,     27,2,19930915,1908,-43.2282, 160.9053, 4994,   2997.5,   1.5590,  34.7270,2,  34.7280,2,    191.9,2,    187.4,2,   106.63,2,     2.30,2
      09FA0793, PR13N,    23,  1,     18,      2,2,19930915,1908,-43.2282, 160.9053, 4994,   3293.7,   1.3750,  34.7230,2,  34.7250,2,    192.9,2,    191.2,2,   114.94,2,     2.32,2
      09FA0793, PR13N,    23,  1,     19,     10,2,19930915,1908,-43.2282, 160.9053, 4994,   3595.3,   1.2330,  34.7200,2,  34.7200,2,    194.7,2,    194.2,2,   115.63,2,     2.31,2
      09FA0793, PR13N,    23,  1,     20,      9,2,19930915,1908,-43.2282, 160.9053, 4994,   3897.3,   1.1700,  34.7170,2,  34.7190,2,    195.9,2,    193.6,2,   117.09,2,     2.30,2
      09FA0793, PR13N,    23,  1,     21,     41,2,19930915,1908,-43.2282, 160.9053, 4994,   4198.9,   1.1530,  34.7160,2,  34.7180,2,    197.0,2,    194.8,2,   119.24,2,     2.33,2
      09FA0793, PR13N,    23,  1,     22,     35,2,19930915,1908,-43.2282, 160.9053, 4994,   4493.5,   1.1300,  34.7150,2,  34.7160,2,    197.1,2,    195.9,2,   120.22,2,     2.32,2
      09FA0793, PR13N,    23,  1,     23,      5,2,19930915,1908,-43.2282, 160.9053, 4994,   4795.3,   1.1060,  34.7130,2,  34.7130,2,    199.3,2,    196.7,2,   121.88,2,     2.33,2
      09FA0793, PR13N,    23,  1,     24,     42,2,19930915,1908,-43.2282, 160.9053, 4994,   4993.1,   1.1030,  34.7120,2,  34.7100,2,    198.5,2,    195.9,2,   122.66,2,     2.34,2
      09FA0793, PR13N,    24,  1,      1,      7,2,19930916,0232,-43.2348, 161.8420, 5028,      3.1,  11.1870,  34.9310,2,  34.8560,2,    267.8,2,    266.9,2,     2.05,2,     0.71,2
      09FA0793, PR13N,    24,  1,      2,     48,2,19930916,0232,-43.2348, 161.8420, 5028,     98.2,  11.0910,  34.9210,2,  34.8480,2,    272.1,2,    264.4,2,     2.05,2,     0.73,2
      09FA0793, PR13N,    24,  1,      3,     14,2,19930916,0232,-43.2348, 161.8420, 5028,    196.5,  10.5840,  34.8860,2,  34.8560,2,    232.1,2,    231.3,2,     4.10,2,     1.02,2
      09FA0793, PR13N,    24,  1,      4,     28,2,19930916,0232,-43.2348, 161.8420, 5028,    395.1,   8.7740,  34.5990,2,  34.6150,2,    253.4,2,    236.8,2,     4.89,2,     1.24,2
      09FA0793, PR13N,    24,  1,      5,     24,2,19930916,0232,-43.2348, 161.8420, 5028,    592.4,   8.1660,  34.5530,2,-999.0000,4,    221.6,2,    209.5,2,    10.75,2,     1.55,2
      09FA0793, PR13N,    24,  1,      6,     70,2,19930916,0232,-43.2348, 161.8420, 5028,    791.4,   6.6910,  34.4620,2,  34.4610,2,    199.4,2,    196.1,2,    19.75,2,     1.87,2
      09FA0793, PR13N,    24,  1,      7,     11,2,19930916,0232,-43.2348, 161.8420, 5028,    991.8,   5.0400,  34.4080,2,  34.4080,2,    192.9,2,    189.5,2,    33.92,2,     2.12,2
      09FA0793, PR13N,    24,  1,      8,     20,2,19930916,0232,-43.2348, 161.8420, 5028,   1189.6,   3.9800,  34.4380,2,  34.4450,2,    178.3,2,    176.4,2,    52.40,2,     2.33,2
      09FA0793, PR13N,    24,  1,      9,     18,2,19930916,0232,-43.2348, 161.8420, 5028,   1391.1,   3.2840,  34.5030,2,  34.5100,2,    171.0,2,    169.2,2,    69.01,2,     2.43,2
      09FA0793, PR13N,    24,  1,     10,      6,2,19930916,0232,-43.2348, 161.8420, 5028,   1592.6,   2.8150,  34.5800,2,  34.5840,2,    163.8,2,    159.0,2,  -999.00,4,     2.42,2
      09FA0793, PR13N,    24,  1,     11,     29,2,19930916,0232,-43.2348, 161.8420, 5028,   1790.9,   2.5660,  34.6290,2,  34.6350,2,    163.2,2,    162.9,2,    85.63,2,     2.43,2
      09FA0793, PR13N,    24,  1,     12,     77,2,19930916,0232,-43.2348, 161.8420, 5028,   1993.3,   2.3690,  34.6660,2,  34.6670,2,    170.3,2,    166.7,2,    88.07,2,     2.37,2
      09FA0793, PR13N,    24,  1,     13,      8,2,19930916,0232,-43.2348, 161.8420, 5028,   2191.3,   2.2090,  34.6940,2,  34.6930,2,    174.6,2,    173.3,2,    89.53,2,     2.29,2
      09FA0793, PR13N,    24,  1,     14,     15,2,19930916,0232,-43.2348, 161.8420, 5028,   2394.1,   2.0550,  34.7140,2,  34.7170,2,    181.1,2,    180.7,2,    93.63,2,     2.29,2
      09FA0793, PR13N,    24,  1,     15,      3,2,19930916,0232,-43.2348, 161.8420, 5028,   2594.4,   1.8860,  34.7250,2,  34.7250,2,    185.7,2,    183.7,2,   103.60,2,     2.27,2
      09FA0793, PR13N,    24,  1,     16,      4,2,19930916,0232,-43.2348, 161.8420, 5028,   2796.0,   1.7240,  34.7270,2,  34.7250,2,    188.8,2,    185.0,2,   106.63,2,     2.28,2
      09FA0793, PR13N,    24,  1,     17,     27,2,19930916,0232,-43.2348, 161.8420, 5028,   2995.9,   1.5540,  34.7260,2,  34.7250,2,    191.9,2,    188.3,2,   110.84,2,     2.28,2
      09FA0793, PR13N,    24,  1,     18,      2,2,19930916,0232,-43.2348, 161.8420, 5028,   3296.8,   1.3840,  34.7240,2,  34.7230,2,    194.3,2,    190.0,2,   117.38,2,     2.29,2
      09FA0793, PR13N,    24,  1,     19,     10,2,19930916,0232,-43.2348, 161.8420, 5028,   3598.4,   1.2510,  34.7210,2,  34.7170,2,    195.7,2,    192.0,2,   121.88,2,     2.31,2
      09FA0793, PR13N,    24,  1,     20,      9,2,19930916,0232,-43.2348, 161.8420, 5028,   3898.9,   1.1860,  34.7180,2,  34.7170,2,    196.7,2,    193.0,2,   121.98,2,     2.32,2
      09FA0793, PR13N,    24,  1,     21,     41,2,19930916,0232,-43.2348, 161.8420, 5028,   4199.3,   1.1570,  34.7160,2,  34.7150,2,    197.3,2,    194.7,2,   128.14,2,     2.32,2
      09FA0793, PR13N,    24,  1,     22,     35,2,19930916,0232,-43.2348, 161.8420, 5028,   4499.8,   1.1400,  34.7150,2,  34.7190,2,    198.1,2,    194.4,2,   125.40,2,     2.31,2
      09FA0793, PR13N,    24,  1,     23,      5,2,19930916,0232,-43.2348, 161.8420, 5028,   4806.6,   1.1180,  34.7130,2,  34.7140,2,    199.6,2,    198.8,2,   125.01,2,     2.32,2
      09FA0793, PR13N,    24,  1,     24,     42,2,19930916,0232,-43.2348, 161.8420, 5028,   5028.6,   1.1080,  34.7120,2,  34.7130,2,    200.6,2,    196.3,2,   128.92,2,     2.33,2
      09FA0793, PR13N,    25,  1,      1,      7,2,19930916,1019,-43.2395, 162.7542, 4988,      2.4,  10.7360,  34.8590,2,  34.9000,2,    256.1,2,    265.8,2,     4.10,2,     0.65,2
      09FA0793, PR13N,    25,  1,      2,     48,2,19930916,1019,-43.2395, 162.7542, 4988,     97.9,  10.6600,  34.8520,2,  34.8510,2,    268.9,2,    266.6,2,     4.01,2,     0.71,2
      09FA0793, PR13N,    25,  1,      3,     14,2,19930916,1019,-43.2395, 162.7542, 4988,    198.2,  10.4440,  34.8230,2,  34.8320,2,    275.6,2,    262.8,2,     4.20,2,     0.73,2
      09FA0793, PR13N,    25,  1,      4,     28,2,19930916,1019,-43.2395, 162.7542, 4988,    394.4,   8.8010,  34.6110,2,  34.6410,2,    248.5,2,    237.6,2,     6.84,2,     1.21,2
      09FA0793, PR13N,    25,  1,      5,     24,2,19930916,1019,-43.2395, 162.7542, 4988,    591.9,   7.8300,  34.5330,2,  34.5300,2,    206.6,2,    210.0,2,    13.10,2,     1.57,2
      09FA0793, PR13N,    25,  1,      6,     70,2,19930916,1019,-43.2395, 162.7542, 4988,    792.0,   6.4340,  34.4580,2,  34.4620,2,    193.9,2,    187.0,2,    24.93,2,     1.89,2
      09FA0793, PR13N,    25,  1,      7,     11,2,19930916,1019,-43.2395, 162.7542, 4988,    990.5,   5.1630,  34.4270,2,  34.4230,2,    189.6,2,    184.9,2,    39.20,2,     2.13,2
      09FA0793, PR13N,    25,  1,      8,     20,2,19930916,1019,-43.2395, 162.7542, 4988,   1189.6,   3.8980,  34.4390,2,  34.4410,2,    180.7,2,    179.1,2,    55.43,2,     2.31,2
      09FA0793, PR13N,    25,  1,      9,     18,2,19930916,1019,-43.2395, 162.7542, 4988,   1389.9,   3.2180,  34.5130,2,  34.5180,2,    168.5,2,    163.7,2,    74.49,2,     2.42,2
      09FA0793, PR13N,    25,  1,     10,      6,2,19930916,1019,-43.2395, 162.7542, 4988,   1592.2,   2.8310,  34.5790,2,  34.5890,2,    163.0,2,    158.5,2,    86.21,2,     2.46,2
      09FA0793, PR13N,    25,  1,     11,     29,2,19930916,1019,-43.2395, 162.7542, 4988,   1794.6,   2.5540,  34.6300,2,  34.6380,2,    164.7,2,    161.6,2,    93.74,2,     2.39,2
      09FA0793, PR13N,    25,  1,     12,     77,2,19930916,1019,-43.2395, 162.7542, 4988,   1993.9,   2.3470,  34.6700,2,  34.6750,2,    170.2,2,    167.8,2,    94.71,2,     2.36,2
      09FA0793, PR13N,    25,  1,     13,      8,2,19930916,1019,-43.2395, 162.7542, 4988,   2191.7,   2.1900,  34.6970,2,  34.6970,2,    176.3,2,    174.4,2,    93.34,2,     2.27,2
      09FA0793, PR13N,    25,  1,     14,     15,2,19930916,1019,-43.2395, 162.7542, 4988,   2392.4,   2.0230,  34.7170,2,  34.7180,2,    181.5,2,    176.6,2,    97.74,2,     2.27,2
      09FA0793, PR13N,    25,  1,     15,      3,2,19930916,1019,-43.2395, 162.7542, 4988,   2592.9,   1.8780,  34.7260,2,  34.7290,2,    184.6,2,    182.1,2,   102.23,2,     2.26,2
      09FA0793, PR13N,    25,  1,     16,      4,2,19930916,1019,-43.2395, 162.7542, 4988,   2793.2,   1.6870,  34.7280,2,  34.7290,2,    187.6,2,    182.3,2,   108.59,2,     2.27,2
      09FA0793, PR13N,    25,  1,     17,     27,2,19930916,1019,-43.2395, 162.7542, 4988,   2997.0,   1.5250,  34.7270,2,  34.7320,2,    190.9,2,    187.8,2,   111.13,2,     2.26,2
      09FA0793, PR13N,    25,  1,     18,      2,2,19930916,1019,-43.2395, 162.7542, 4988,   3296.6,   1.3640,  34.7240,2,  34.7300,2,    192.8,2,    190.8,2,   115.14,2,     2.29,2
      09FA0793, PR13N,    25,  1,     19,     10,2,19930916,1019,-43.2395, 162.7542, 4988,   3598.1,   1.2390,  34.7210,2,  34.7200,2,    194.3,2,    191.1,2,   117.78,2,     2.27,2
      09FA0793, PR13N,    25,  1,     20,      9,2,19930916,1019,-43.2395, 162.7542, 4988,   3896.6,   1.1870,  34.7190,2,  34.7190,2,    195.7,2,    194.1,2,   120.71,2,     2.29,2
      09FA0793, PR13N,    25,  1,     21,     41,2,19930916,1019,-43.2395, 162.7542, 4988,   4197.8,   1.1560,  34.7170,2,  34.7180,2,    198.7,2,    194.1,2,   122.27,2,     2.30,2
      09FA0793, PR13N,    25,  1,     22,     35,2,19930916,1019,-43.2395, 162.7542, 4988,   4497.2,   1.1320,  34.7150,2,  34.7160,2,    197.2,2,    195.8,2,   127.35,2,     2.30,2
      09FA0793, PR13N,    25,  1,     23,      5,2,19930916,1019,-43.2395, 162.7542, 4988,   4799.5,   1.1110,  34.7140,2,  34.7160,2,    198.2,2,    195.8,2,   125.79,2,     2.30,2
      09FA0793, PR13N,    25,  1,     24,     42,2,19930916,1019,-43.2395, 162.7542, 4988,   4988.2,   1.0970,  34.7130,2,  34.7120,2,    199.4,2,    196.8,2,   127.45,2,     2.32,2