BOTTLE,20010801WHPSIOKJU
EXPOCODE,SECT_ID,STNNBR,CASTNO,SAMPNO,BTLNBR,BTLNBR_FLAG_W,DATE,TIME,LATITUDE,LONGITUDE,DEPTH,CTDPRS,CTDTMP,CTDSAL,CTDSAL_FLAG_W,SALNTY,SALNTY_FLAG_W,CTDOXY,CTDOXY_FLAG_W,OXYGEN,OXYGEN_FLAG_W,SILCAT,SILCAT_FLAG_W,PHSPHT,PHSPHT_FLAG_W
,,,,,,,,,,,,DBAR,ITS-90,PSS-78,,PSS-78,,UMOL/KG,,UMOL/KG,,UMOL/KG,,UMOL/KG,
      09FA0793, PR13N,    18,  1,      1,     14,2,19930914,0659,-43.2540, 156.2690, 4770,     97.6,  11.2100,  34.9200,2,  34.9420,2,    257.9,2,    261.7,2,     0.00,2,     0.71,2
      09FA0793, PR13N,    18,  1,      2,     28,2,19930914,0659,-43.2540, 156.2690, 4770,    192.9,  10.3590,  34.8570,2,  34.8580,2,    225.8,2,    229.1,2,     4.30,2,     1.05,2
      09FA0793, PR13N,    18,  1,      3,     24,2,19930914,0659,-43.2540, 156.2690, 4770,    393.2,   8.7880,  34.6080,2,  34.5920,2,    242.2,2,    242.8,2,     5.28,2,     1.26,2
      09FA0793, PR13N,    18,  1,      4,     70,2,19930914,0659,-43.2540, 156.2690, 4770,    590.4,   7.9710,  34.5350,2,  34.5320,2,    217.6,2,    215.0,2,     9.68,2,     1.54,2
      09FA0793, PR13N,    18,  1,      5,     11,2,19930914,0659,-43.2540, 156.2690, 4770,    791.4,   6.3030,  34.4220,2,  34.4300,2,    205.7,2,    200.9,2,    18.57,2,     1.88,2
      09FA0793, PR13N,    18,  1,      6,     20,2,19930914,0659,-43.2540, 156.2690, 4770,    990.4,   4.8400,  34.3880,2,  34.3930,2,    198.2,2,    193.7,2,    32.07,2,     2.14,2
      09FA0793, PR13N,    18,  1,      7,     18,2,19930914,0659,-43.2540, 156.2690, 4770,   1189.9,   3.8100,  34.4140,2,  34.4180,2,    189.7,2,    183.4,2,    46.44,2,     2.32,2
      09FA0793, PR13N,    18,  1,      8,      6,2,19930914,0659,-43.2540, 156.2690, 4770,   1390.2,   3.0970,  34.4840,2,  34.4920,2,    176.8,2,    171.8,2,    61.59,2,     2.43,2
      09FA0793, PR13N,    18,  1,      9,     29,2,19930914,0659,-43.2540, 156.2690, 4770,   1590.7,   2.7770,  34.5700,2,  34.5730,2,    166.2,2,    163.3,2,    73.61,2,     2.46,2
      09FA0793, PR13N,    18,  1,     10,     77,2,19930914,0659,-43.2540, 156.2690, 4770,   1790.8,   2.5190,  34.6290,2,  34.6290,2,    167.8,2,    165.4,2,    80.74,2,     2.44,2
      09FA0793, PR13N,    18,  1,     11,      8,2,19930914,0659,-43.2540, 156.2690, 4770,   1992.2,   2.3420,  34.6720,2,  34.6730,2,    172.4,2,    171.0,2,    83.96,2,     2.40,2
      09FA0793, PR13N,    18,  1,     12,     15,2,19930914,0659,-43.2540, 156.2690, 4770,   2194.7,   2.1980,  34.7040,2,  34.7050,2,    179.4,2,    176.1,2,    83.27,2,     2.31,2
      09FA0793, PR13N,    18,  1,     13,      3,2,19930914,0659,-43.2540, 156.2690, 4770,   2389.6,   2.0540,  34.7200,2,  34.7220,2,    183.4,2,    180.8,2,    86.30,2,     2.28,2
      09FA0793, PR13N,    18,  1,     14,      4,2,19930914,0659,-43.2540, 156.2690, 4770,   2593.3,   1.9030,  34.7290,2,  34.7310,2,    186.4,2,    184.1,2,    90.99,2,     2.28,2
      09FA0793, PR13N,    18,  1,     15,     27,2,19930914,0659,-43.2540, 156.2690, 4770,   2795.6,   1.7280,  34.7320,2,  34.7330,2,    188.4,2,    187.5,2,    98.62,2,     2.30,2
      09FA0793, PR13N,    18,  1,     16,      2,2,19930914,0659,-43.2540, 156.2690, 4770,   2993.9,   1.6010,  34.7300,2,  34.7320,2,    192.4,2,    186.4,2,    99.11,2,     2.27,2
      09FA0793, PR13N,    18,  1,     17,     10,2,19930914,0659,-43.2540, 156.2690, 4770,   3195.1,   1.4510,  34.7270,2,  34.7290,2,    193.5,2,   -999.0,4,   105.36,2,     2.27,2
      09FA0793, PR13N,    18,  1,     18,      9,2,19930914,0659,-43.2540, 156.2690, 4770,   3395.4,   1.3160,  34.7220,2,  34.7260,2,    196.4,2,    196.2,2,   111.42,2,     2.30,2
      09FA0793, PR13N,    18,  1,     19,     41,2,19930914,0659,-43.2540, 156.2690, 4770,   3596.1,   1.2240,  34.7200,2,  34.7230,2,    198.2,2,    195.2,2,   113.18,2,     2.28,2
      09FA0793, PR13N,    18,  1,     20,     35,2,19930914,0659,-43.2540, 156.2690, 4770,   3898.7,   1.1160,  34.7150,2,  34.7170,2,    200.1,2,    198.5,2,   119.93,2,     2.42,2
      09FA0793, PR13N,    18,  1,     21,      5,2,19930914,0659,-43.2540, 156.2690, 4770,   4199.5,   1.0580,  34.7120,2,  34.7140,2,    201.0,2,    199.8,2,   116.99,2,     2.30,2
      09FA0793, PR13N,    18,  1,     22,      7,2,19930914,0659,-43.2540, 156.2690, 4770,   4769.9,   0.9950,  34.7080,2,  34.7130,2,    204.3,2,    203.7,2,  -999.00,4,  -999.00,4
      09FA0793, PR13N,    18,  1,     23,     42,2,19930914,0659,-43.2540, 156.2690, 4770,   4769.9,   0.9950,  34.7080,2,  34.7100,2,    204.3,2,    203.1,2,   119.54,2,     2.30,2
      09FA0793, PR13N,    19,  1,      1,     48,2,19930914,1402,-43.2478, 157.2058, 4884,     97.3,  11.5910,  34.9990,2,  35.0120,2,    259.2,2,    257.9,2,     0.00,2,     0.67,2
      09FA0793, PR13N,    19,  1,      2,     14,2,19930914,1402,-43.2478, 157.2058, 4884,    196.9,  11.0090,  34.9400,2,  34.9260,2,    220.8,2,    217.7,2,     5.08,2,     1.01,2
      09FA0793, PR13N,    19,  1,      3,     28,2,19930914,1402,-43.2478, 157.2058, 4884,    394.3,   9.0490,  34.6410,2,  34.6270,2,    247.0,2,    229.6,2,     4.98,2,     1.17,2
      09FA0793, PR13N,    19,  1,      4,     24,2,19930914,1402,-43.2478, 157.2058, 4884,    593.3,   7.9880,  34.5300,2,  34.5250,2,    223.0,2,    212.1,2,    11.05,2,     1.53,2
      09FA0793, PR13N,    19,  1,      5,     70,2,19930914,1402,-43.2478, 157.2058, 4884,    791.6,   6.5030,  34.4540,2,  34.4580,2,    196.4,2,    187.0,2,    21.80,2,     1.87,2
      09FA0793, PR13N,    19,  1,      6,     11,2,19930914,1402,-43.2478, 157.2058, 4884,    992.5,   4.9850,  34.4180,2,  34.4150,2,    191.2,2,    186.7,2,    37.05,2,     2.12,2
      09FA0793, PR13N,    19,  1,      7,     20,2,19930914,1402,-43.2478, 157.2058, 4884,   1190.4,   3.9860,  34.4540,2,  34.4510,2,    178.4,2,    175.4,2,    56.50,2,     2.28,2
      09FA0793, PR13N,    19,  1,      8,     18,2,19930914,1402,-43.2478, 157.2058, 4884,   1387.8,   3.2030,  34.5050,2,  34.5110,2,    170.5,2,    152.8,2,    72.73,2,     2.42,2
      09FA0793, PR13N,    19,  1,      9,      6,2,19930914,1402,-43.2478, 157.2058, 4884,   1590.2,   2.8150,  34.5710,2,  34.5690,2,    163.9,2,    158.9,2,    83.87,2,     2.44,2
      09FA0793, PR13N,    19,  1,     10,     29,2,19930914,1402,-43.2478, 157.2058, 4884,   1793.0,   2.5100,  34.6330,2,  34.6300,2,    166.9,2,    159.9,2,    89.24,2,     2.38,2
      09FA0793, PR13N,    19,  1,     11,     77,2,19930914,1402,-43.2478, 157.2058, 4884,   1994.4,   2.3300,  34.6720,2,  34.6740,2,    173.3,2,    167.9,2,    90.41,2,     2.37,2
      09FA0793, PR13N,    19,  1,     12,      8,2,19930914,1402,-43.2478, 157.2058, 4884,   2192.3,   2.1940,  34.7010,2,  34.6990,2,    177.2,2,    176.4,2,    92.85,2,     2.21,2
      09FA0793, PR13N,    19,  1,     13,     15,2,19930914,1402,-43.2478, 157.2058, 4884,   2392.4,   2.0700,  34.7170,2,  34.7180,2,    183.0,2,    180.0,2,    95.59,2,     2.24,2
      09FA0793, PR13N,    19,  1,     14,      3,2,19930914,1402,-43.2478, 157.2058, 4884,   2594.2,   1.9300,  34.7270,2,  34.7260,2,    187.4,2,    183.4,2,   101.16,2,     2.21,2
      09FA0793, PR13N,    19,  1,     15,      4,2,19930914,1402,-43.2478, 157.2058, 4884,   2794.3,   1.8020,  34.7310,2,  34.7300,2,    188.7,2,    186.4,2,   103.99,2,     2.24,2
      09FA0793, PR13N,    19,  1,     16,     27,2,19930914,1402,-43.2478, 157.2058, 4884,   2994.9,   1.6690,  34.7300,2,  34.7290,2,    191.9,2,    187.0,2,   109.27,2,     2.24,2
      09FA0793, PR13N,    19,  1,     17,      2,2,19930914,1402,-43.2478, 157.2058, 4884,   3197.0,   1.5250,  34.7270,2,  34.7280,2,    193.3,2,    190.3,2,   112.30,2,     2.25,2
      09FA0793, PR13N,    19,  1,     18,     10,2,19930914,1402,-43.2478, 157.2058, 4884,   3498.2,   1.3200,  34.7210,2,  34.7190,2,    195.3,2,    193.1,2,   118.66,2,     2.28,2
      09FA0793, PR13N,    19,  1,     19,      9,2,19930914,1402,-43.2478, 157.2058, 4884,   3798.0,   1.1850,  34.7160,2,  34.7160,2,    197.9,2,   -999.0,4,   122.66,2,     2.28,2
      09FA0793, PR13N,    19,  1,     20,     41,2,19930914,1402,-43.2478, 157.2058, 4884,   4098.1,   1.1300,  34.7130,2,  34.7150,2,    198.7,2,    196.2,2,   124.81,2,     2.27,2
      09FA0793, PR13N,    19,  1,     21,     35,2,19930914,1402,-43.2478, 157.2058, 4884,   4398.2,   1.0870,  34.7120,2,  34.7120,2,    200.0,2,    192.6,2,   127.65,2,     2.29,2
      09FA0793, PR13N,    19,  1,     22,      5,2,19930914,1402,-43.2478, 157.2058, 4884,   4694.7,   1.0570,  34.7100,2,  34.7120,2,    202.1,2,    195.7,2,   128.04,2,     2.29,2
      09FA0793, PR13N,    19,  1,     23,     42,2,19930914,1402,-43.2478, 157.2058, 4884,   4881.7,   1.0450,  34.7080,2,  34.7120,2,    203.2,2,    199.6,2,   127.65,2,     2.28,2
      09FA0793, PR13N,    20,  1,      1,      7,2,19930914,2121,-43.2508, 158.1333, 4932,      2.7,  11.4600,  34.9820,2,  34.9830,2,    270.5,2,    260.4,2,     2.83,2,     0.63,2
      09FA0793, PR13N,    20,  1,      2,     48,2,19930914,2121,-43.2508, 158.1333, 4932,     96.8,  11.4720,  34.9830,2,  34.9850,2,    264.6,2,    260.1,2,     2.74,2,     0.64,2
      09FA0793, PR13N,    20,  1,      3,     14,2,19930914,2121,-43.2508, 158.1333, 4932,    195.1,  11.3500,  34.9840,2,  34.9330,2,    254.6,2,    233.6,2,     4.20,2,     0.88,2
      09FA0793, PR13N,    20,  1,      4,     28,2,19930914,2121,-43.2508, 158.1333, 4932,    393.5,   9.0720,  34.6450,2,  34.6390,2,    248.5,2,    240.0,2,     5.38,2,     1.16,2
      09FA0793, PR13N,    20,  1,      5,     24,2,19930914,2121,-43.2508, 158.1333, 4932,    592.4,   8.1170,  34.5560,2,  34.5510,2,    212.9,2,    201.9,2,    12.22,2,     1.55,2
      09FA0793, PR13N,    20,  1,      6,     70,2,19930914,2121,-43.2508, 158.1333, 4932,    790.7,   6.6420,  34.4690,2,  34.4570,2,    194.8,2,    176.5,2,    24.63,2,     1.89,2
      09FA0793, PR13N,    20,  1,      7,     11,2,19930914,2121,-43.2508, 158.1333, 4932,    992.1,   5.1270,  34.4280,2,  34.4320,2,    188.1,2,    180.1,2,    39.69,2,     2.11,2
      09FA0793, PR13N,    20,  1,      8,     20,2,19930914,2121,-43.2508, 158.1333, 4932,   1191.0,   3.8320,  34.4340,2,  34.4350,2,    182.7,2,    176.5,2,    56.31,2,     2.29,2
      09FA0793, PR13N,    20,  1,      9,     18,2,19930914,2121,-43.2508, 158.1333, 4932,   1390.8,   3.1610,  34.5020,2,  34.5020,2,    171.9,2,    161.3,2,    72.24,2,     2.39,2
      09FA0793, PR13N,    20,  1,     10,      6,2,19930914,2121,-43.2508, 158.1333, 4932,   1591.9,   2.8000,  34.5790,2,  34.5730,2,    160.4,2,    159.2,2,    86.12,2,     2.42,2
      09FA0793, PR13N,    20,  1,     11,     29,2,19930914,2121,-43.2508, 158.1333, 4932,   1789.8,   2.5360,  34.6310,2,  34.6260,2,    164.5,2,    158.9,2,    91.59,2,     2.38,2
      09FA0793, PR13N,    20,  1,     12,     77,2,19930914,2121,-43.2508, 158.1333, 4932,   1992.5,   2.3280,  34.6720,2,  34.6680,2,    170.5,2,    163.3,2,    94.42,2,     2.33,2
      09FA0793, PR13N,    20,  1,     13,      8,2,19930914,2121,-43.2508, 158.1333, 4932,   2192.9,   2.1760,  34.7000,2,  34.6950,2,    177.5,2,    169.2,2,    92.56,2,     2.25,2
      09FA0793, PR13N,    20,  1,     14,     15,2,19930914,2121,-43.2508, 158.1333, 4932,   2394.8,   2.0220,  34.7210,2,  34.7190,2,    182.7,2,    180.2,2,    96.18,2,     2.22,2
      09FA0793, PR13N,    20,  1,     15,      3,2,19930914,2121,-43.2508, 158.1333, 4932,   2593.3,   1.8680,  34.7290,2,  34.7270,2,    187.4,2,    182.3,2,   101.94,2,     2.22,2
      09FA0793, PR13N,    20,  1,     16,      4,2,19930914,2121,-43.2508, 158.1333, 4932,   2794.4,   1.7020,  34.7300,2,  34.7290,2,    189.0,2,    184.3,2,   108.49,2,     2.22,2
      09FA0793, PR13N,    20,  1,     17,     27,2,19930914,2121,-43.2508, 158.1333, 4932,   2995.4,   1.5550,  34.7270,2,  34.7280,2,    192.3,2,    187.2,2,   110.93,2,     2.24,2
      09FA0793, PR13N,    20,  1,     18,      2,2,19930914,2121,-43.2508, 158.1333, 4932,   3195.4,   1.4180,  34.7250,2,  34.7250,2,    194.9,2,    188.2,2,   115.82,2,     2.25,2
      09FA0793, PR13N,    20,  1,     19,     10,2,19930914,2121,-43.2508, 158.1333, 4932,   3396.2,   1.2980,  34.7210,2,  34.7220,2,    195.9,2,    191.3,2,   120.71,2,     2.25,2
      09FA0793, PR13N,    20,  1,     20,      9,2,19930914,2121,-43.2508, 158.1333, 4932,   3697.7,   1.1850,  34.7170,2,  34.7170,2,    196.7,2,    192.8,2,   122.17,2,     2.28,2
      09FA0793, PR13N,    20,  1,     21,     41,2,19930914,2121,-43.2508, 158.1333, 4932,   3995.3,   1.1270,  34.7140,2,  34.7140,2,    197.8,2,    193.6,2,   126.67,2,     2.29,2
      09FA0793, PR13N,    20,  1,     22,     35,2,19930914,2121,-43.2508, 158.1333, 4932,   4297.1,   1.0870,  34.7120,2,  34.7130,2,    199.7,2,    196.0,2,   130.97,2,     2.27,2
      09FA0793, PR13N,    20,  1,     23,      5,2,19930914,2121,-43.2508, 158.1333, 4932,   4600.5,   1.0500,  34.7100,2,-999.0000,4,    201.3,2,    193.1,2,   129.51,2,     2.27,2
      09FA0793, PR13N,    20,  1,     24,     42,2,19930914,2121,-43.2508, 158.1333, 4932,   4930.1,   1.0700,  34.7090,2,  34.7110,2,    199.7,2,    199.3,2,   132.44,2,     2.28,2
      09FA0793, PR13N,    21,  1,      1,      7,2,19930915,0417,-43.2602, 159.0660, 4908,      3.0,  11.6440,  34.9910,2,  34.9920,2,    263.0,2,    262.3,2,     2.64,2,     0.62,2
      09FA0793, PR13N,    21,  1,      2,     48,2,19930915,0417,-43.2602, 159.0660, 4908,      3.0,  11.6440,  34.9910,2,  34.9930,2,    263.0,2,    260.3,2,     2.64,2,     0.63,2
      09FA0793, PR13N,    21,  1,      3,     14,2,19930915,0417,-43.2602, 159.0660, 4908,     98.0,  11.5880,  34.9950,2,  34.9950,2,    252.2,2,    247.7,2,     2.64,2,     0.63,2
      09FA0793, PR13N,    21,  1,      4,     28,2,19930915,0417,-43.2602, 159.0660, 4908,    197.7,  10.7000,  34.8880,2,  34.8670,2,    228.7,2,    225.0,2,     4.01,2,     0.91,2
      09FA0793, PR13N,    21,  1,      5,     24,2,19930915,0417,-43.2602, 159.0660, 4908,    393.6,   9.0660,  34.6520,2,  34.6480,2,    234.2,2,    228.8,2,     5.77,2,     1.22,2
      09FA0793, PR13N,    21,  1,      6,     70,2,19930915,0417,-43.2602, 159.0660, 4908,    592.2,   8.1540,  34.5660,2,  34.5560,2,    209.7,2,    201.4,2,    12.22,2,     1.57,2
      09FA0793, PR13N,    21,  1,      7,     11,2,19930915,0417,-43.2602, 159.0660, 4908,    791.9,   6.5790,  34.4610,2,  34.4620,2,    197.0,2,    186.8,2,    22.48,2,     1.87,2
      09FA0793, PR13N,    21,  1,      8,     20,2,19930915,0417,-43.2602, 159.0660, 4908,    992.7,   4.9820,  34.4100,2,  34.4270,2,    193.1,2,    182.1,2,    36.07,2,     2.10,2
      09FA0793, PR13N,    21,  1,      9,     18,2,19930915,0417,-43.2602, 159.0660, 4908,   1189.8,   4.0220,  34.4300,2,  34.4290,2,    183.1,2,    173.9,2,    50.25,2,     2.26,2
      09FA0793, PR13N,    21,  1,     10,      6,2,19930915,0417,-43.2602, 159.0660, 4908,   1392.4,   3.2040,  34.4990,2,  34.4930,2,    170.3,2,    168.4,2,    68.04,2,     2.41,2
      09FA0793, PR13N,    21,  1,     11,     29,2,19930915,0417,-43.2602, 159.0660, 4908,   1591.7,   2.8290,  34.5680,2,  34.5660,2,    164.0,2,    162.7,2,    80.55,2,     2.44,2
      09FA0793, PR13N,    21,  1,     12,     77,2,19930915,0417,-43.2602, 159.0660, 4908,   1792.4,   2.5530,  34.6280,2,  34.6280,2,    165.6,2,    161.3,2,    87.58,2,     2.41,2
      09FA0793, PR13N,    21,  1,     13,      8,2,19930915,0417,-43.2602, 159.0660, 4908,   1994.3,   2.3680,  34.6660,2,  34.6670,2,    170.5,2,    165.9,2,    91.39,2,     2.32,2
      09FA0793, PR13N,    21,  1,     14,     15,2,19930915,0417,-43.2602, 159.0660, 4908,   2193.2,   2.2040,  34.6950,2,  34.6950,2,    175.3,2,    172.5,2,    91.09,2,     2.31,2
      09FA0793, PR13N,    21,  1,     15,      3,2,19930915,0417,-43.2602, 159.0660, 4908,   2395.3,   2.0490,  34.7160,2,  34.7120,2,    181.4,2,    173.9,2,    93.63,2,     2.29,2
      09FA0793, PR13N,    21,  1,     16,      4,2,19930915,0417,-43.2602, 159.0660, 4908,   2595.9,   1.8860,  34.7260,2,  34.7250,2,    186.5,2,    173.3,2,    97.64,2,     2.26,2
      09FA0793, PR13N,    21,  1,     17,     27,2,19930915,0417,-43.2602, 159.0660, 4908,   2796.3,   1.6880,  34.7290,2,  34.7260,2,    190.8,2,    186.2,2,   102.33,2,     2.26,2
      09FA0793, PR13N,    21,  1,     18,      2,2,19930915,0417,-43.2602, 159.0660, 4908,   2997.0,   1.5280,  34.7270,2,  34.7260,2,    191.0,2,    187.1,2,   107.61,2,     2.27,2
      09FA0793, PR13N,    21,  1,     19,     10,2,19930915,0417,-43.2602, 159.0660, 4908,   3297.2,   1.3420,  34.7220,2,  34.7200,2,    194.7,2,    187.7,2,   115.33,2,     2.31,2
      09FA0793, PR13N,    21,  1,     20,      9,2,19930915,0417,-43.2602, 159.0660, 4908,   3596.9,   1.2270,  34.7190,2,  34.7250,2,    195.3,2,    192.5,2,   116.80,2,     2.30,2
      09FA0793, PR13N,    21,  1,     21,     41,2,19930915,0417,-43.2602, 159.0660, 4908,   3897.5,   1.1550,  34.7160,2,  34.7150,2,    196.2,2,    194.5,2,   120.32,2,     2.31,2
      09FA0793, PR13N,    21,  1,     22,     35,2,19930915,0417,-43.2602, 159.0660, 4908,   4500.3,   1.0730,  34.7120,2,  34.7110,2,    200.1,2,    197.7,2,   126.48,2,     2.30,2
      09FA0793, PR13N,    21,  1,     23,      5,2,19930915,0417,-43.2602, 159.0660, 4908,   4799.1,   1.0560,  34.7100,2,  34.7140,2,    201.1,2,    197.7,2,  -999.00,4,  -999.00,4
      09FA0793, PR13N,    21,  1,     24,     42,2,19930915,0417,-43.2602, 159.0660, 4908,   4907.2,   1.0620,  34.7100,2,  34.7100,2,    200.9,2,    193.6,2,   126.67,2,     2.31,2