BOTTLE,20010801WHPSIOKJU
EXPOCODE,SECT_ID,STNNBR,CASTNO,SAMPNO,BTLNBR,BTLNBR_FLAG_W,DATE,TIME,LATITUDE,LONGITUDE,DEPTH,CTDPRS,CTDTMP,CTDSAL,CTDSAL_FLAG_W,SALNTY,SALNTY_FLAG_W,CTDOXY,CTDOXY_FLAG_W,OXYGEN,OXYGEN_FLAG_W,SILCAT,SILCAT_FLAG_W,PHSPHT,PHSPHT_FLAG_W
,,,,,,,,,,,,DBAR,ITS-90,PSS-78,,PSS-78,,UMOL/KG,,UMOL/KG,,UMOL/KG,,UMOL/KG,
      09FA0793,  PR11,    62,  1,      1,      7,2,19930929,1810,-30.0938, 157.3347, 3244,      1.8,  21.3940,  35.7060,2,  35.7090,2,    216.8,2,    218.7,2,     1.07,2,     0.21,2
      09FA0793,  PR11,    62,  1,      2,     42,2,19930929,1810,-30.0938, 157.3347, 3244,     47.2,  21.3870,  35.7000,2,  35.7080,2,    225.6,2,    220.4,2,     0.88,2,     0.21,2
      09FA0793,  PR11,    62,  1,      3,      6,2,19930929,1810,-30.0938, 157.3347, 3244,     96.5,  21.1140,  35.7120,2,  35.7150,2,    214.4,2,    207.1,2,     1.27,2,     0.29,2
      09FA0793,  PR11,    62,  1,      4,      3,2,19930929,1810,-30.0938, 157.3347, 3244,    145.8,  20.5060,  35.7270,2,  35.7430,2,    220.8,2,    213.9,2,     1.37,2,     0.26,2
      09FA0793,  PR11,    62,  1,      5,     18,2,19930929,1810,-30.0938, 157.3347, 3244,    195.6,  20.3140,  35.7330,2,  35.7450,2,    215.7,2,    215.2,2,     1.27,2,     0.26,2
      09FA0793,  PR11,    62,  1,      6,      2,2,19930929,1810,-30.0938, 157.3347, 3244,    244.8,  20.2230,  35.7290,2,  35.7420,2,    212.4,2,    217.9,2,     1.27,2,     0.25,2
      09FA0793,  PR11,    62,  1,      7,     28,2,19930929,1810,-30.0938, 157.3347, 3244,    294.8,  19.6370,  35.6490,2,  35.6430,2,    195.4,2,    188.7,2,     1.66,2,     0.41,2
      09FA0793,  PR11,    62,  1,      8,      4,2,19930929,1810,-30.0938, 157.3347, 3244,    393.9,  16.8110,  35.4780,2,  35.4670,2,    189.4,2,    182.9,2,     2.74,2,     0.62,2
      09FA0793,  PR11,    62,  1,      9,      8,2,19930929,1810,-30.0938, 157.3347, 3244,    492.6,  14.4350,  35.2700,2,  35.2780,2,    187.1,2,    184.2,2,     4.10,2,     0.83,2
      09FA0793,  PR11,    62,  1,     10,     15,2,19930929,1810,-30.0938, 157.3347, 3244,    592.1,  11.9260,  35.0240,2,  35.0260,2,    191.9,2,    191.5,2,     6.16,2,     1.10,2
      09FA0793,  PR11,    62,  1,     11,     77,2,19930929,1810,-30.0938, 157.3347, 3244,    692.0,  10.0810,  34.7940,2,  34.7650,2,    194.7,2,    189.5,2,     8.99,2,     1.44,2
      09FA0793,  PR11,    62,  1,     12,     27,2,19930929,1810,-30.0938, 157.3347, 3244,    793.0,   8.6660,  34.6350,2,  34.6240,2,    196.5,2,    190.3,2,    12.80,2,     1.66,2
      09FA0793,  PR11,    62,  1,     13,     29,2,19930929,1810,-30.0938, 157.3347, 3244,    988.8,   6.5980,  34.4790,2,  34.4830,2,    193.7,2,    188.1,2,    24.05,2,     1.93,2
      09FA0793,  PR11,    62,  1,     14,     20,2,19930929,1810,-30.0938, 157.3347, 3244,   1188.6,   5.1140,  34.4630,2,  34.4650,2,    181.7,2,    176.2,2,    42.04,2,     2.21,2
      09FA0793,  PR11,    62,  1,     15,     70,2,19930929,1810,-30.0938, 157.3347, 3244,   1390.1,   4.0010,  34.5110,2,  34.5110,2,    167.5,2,    162.1,2,    65.40,2,     2.40,2
      09FA0793,  PR11,    62,  1,     16,     35,2,19930929,1810,-30.0938, 157.3347, 3244,   1591.9,   3.2150,  34.5680,2,  34.5690,2,    155.1,2,    151.7,2,    84.94,2,     2.52,2
      09FA0793,  PR11,    62,  1,     17,     41,2,19930929,1810,-30.0938, 157.3347, 3244,   1794.6,   2.7590,  34.6130,2,  34.6130,2,    154.7,2,    151.7,2,    94.03,2,     2.52,2
      09FA0793,  PR11,    62,  1,     18,     24,2,19930929,1810,-30.0938, 157.3347, 3244,   1994.0,   2.4560,  34.6490,2,  34.6490,2,    159.9,2,    156.0,2,    95.20,2,     2.49,2
      09FA0793,  PR11,    62,  1,     19,     10,2,19930929,1810,-30.0938, 157.3347, 3244,   2194.1,   2.2800,  34.6740,2,  34.6740,2,    167.3,2,    164.8,2,    94.03,2,     2.45,2
      09FA0793,  PR11,    62,  1,     20,     11,2,19930929,1810,-30.0938, 157.3347, 3244,   2396.8,   2.0820,  34.7010,2,  34.7020,2,    177.5,2,    173.4,2,    94.22,2,     2.39,2
      09FA0793,  PR11,    62,  1,     21,     45,2,19930929,1810,-30.0938, 157.3347, 3244,   2593.3,   1.9150,  34.7160,2,  34.7180,2,    183.2,2,    179.0,2,    95.78,2,     2.37,2
      09FA0793,  PR11,    62,  1,     22,     48,2,19930929,1810,-30.0938, 157.3347, 3244,   2795.4,   1.6660,  34.7240,2,  34.7250,2,    189.5,2,    185.2,2,   103.11,2,     2.36,2
      09FA0793,  PR11,    62,  1,     23,      5,2,19930929,1810,-30.0938, 157.3347, 3244,   2990.2,   1.4300,  34.7240,2,  34.7250,2,    193.6,2,    190.0,2,   109.27,2,     2.34,2
      09FA0793,  PR11,    62,  1,     24,     55,2,19930929,1810,-30.0938, 157.3347, 3244,   3244.1,   1.2680,  34.7210,2,  34.7220,2,    196.0,2,    191.8,2,   111.91,2,     2.37,2
      09FA0793,  PR11,    63,  1,      1,      7,2,19930929,2247,-30.0908, 156.9195, 4932,      2.4,  21.0570,  35.7300,2,  35.7340,2,    211.6,2,    225.6,2,     0.68,2,     0.19,2
      09FA0793,  PR11,    63,  1,      2,     42,2,19930929,2247,-30.0908, 156.9195, 4932,     95.5,  20.4160,  35.7340,2,  35.7380,2,    222.8,2,    222.7,2,     0.98,2,     0.21,2
      09FA0793,  PR11,    63,  1,      3,      6,2,19930929,2247,-30.0908, 156.9195, 4932,    196.6,  20.2840,  35.7370,2,  35.7460,2,    223.3,2,    220.0,2,     0.78,2,     0.22,2
      09FA0793,  PR11,    63,  1,      4,      3,2,19930929,2247,-30.0908, 156.9195, 4932,    392.9,  16.5080,  35.4470,2,  35.4420,2,    187.5,2,    181.6,2,     2.64,2,     0.61,2
      09FA0793,  PR11,    63,  1,      5,     18,2,19930929,2247,-30.0908, 156.9195, 4932,    593.3,  11.9850,  35.0530,2,  35.0240,2,    197.5,2,    192.6,2,     5.47,2,     1.07,2
      09FA0793,  PR11,    63,  1,      6,      2,2,19930929,2247,-30.0908, 156.9195, 4932,    790.0,   8.6700,  34.6360,2,  34.6440,2,    193.0,2,    191.1,2,     9.29,2,     1.59,2
      09FA0793,  PR11,    63,  1,      7,     28,2,19930929,2247,-30.0908, 156.9195, 4932,    991.5,   6.5240,  34.4780,2,  34.4840,2,    193.3,2,    188.7,2,    21.12,2,     1.96,2
      09FA0793,  PR11,    63,  1,      8,      4,2,19930929,2247,-30.0908, 156.9195, 4932,   1190.4,   5.1460,  34.4650,2,  34.4700,2,    179.0,2,    176.9,2,    41.94,2,     2.21,2
      09FA0793,  PR11,    63,  1,      9,      8,2,19930929,2247,-30.0908, 156.9195, 4932,   1391.7,   3.9590,  34.5150,2,  34.5140,2,    165.8,2,    162.8,2,    61.49,2,     2.40,2
      09FA0793,  PR11,    63,  1,     10,     15,2,19930929,2247,-30.0908, 156.9195, 4932,   1589.3,   3.2540,  34.5650,2,  34.5620,2,    156.7,2,    152.1,2,    79.47,2,     2.51,2
      09FA0793,  PR11,    63,  1,     11,     27,2,19930929,2247,-30.0908, 156.9195, 4932,   1992.0,   2.4830,  34.6460,2,  34.6450,2,    159.5,2,    156.3,2,    96.08,2,     2.51,2
      09FA0793,  PR11,    63,  1,     12,     29,2,19930929,2247,-30.0908, 156.9195, 4932,   2193.7,   2.2920,  34.6730,2,  34.6740,2,    168.2,2,    165.2,2,    94.03,2,     2.41,2
      09FA0793,  PR11,    63,  1,     13,     20,2,19930929,2247,-30.0908, 156.9195, 4932,   2392.4,   2.0950,  34.6990,2,  34.6980,2,    177.0,2,    174.5,2,    96.47,2,     2.39,2
      09FA0793,  PR11,    63,  1,     14,     35,2,19930929,2247,-30.0908, 156.9195, 4932,   2793.0,   1.7670,  34.7230,2,  34.7240,2,    187.8,2,    185.2,2,    98.81,2,     2.35,2
      09FA0793,  PR11,    63,  1,     15,     41,2,19930929,2247,-30.0908, 156.9195, 4932,   2995.8,   1.5900,  34.7250,2,  34.7260,2,    191.6,2,    187.9,2,   104.78,2,     2.35,2
      09FA0793,  PR11,    63,  1,     16,     24,2,19930929,2247,-30.0908, 156.9195, 4932,   3194.4,   1.4320,  34.7230,2,  34.7250,2,    194.0,2,    191.6,2,   107.22,2,     2.36,2
      09FA0793,  PR11,    63,  1,     17,     10,2,19930929,2247,-30.0908, 156.9195, 4932,   3395.0,   1.3080,  34.7210,2,  34.7210,2,    196.9,2,    193.2,2,   113.38,2,     2.35,2
      09FA0793,  PR11,    63,  1,     18,     11,2,19930929,2247,-30.0908, 156.9195, 4932,   3696.0,   1.1750,  34.7180,2,  34.7180,2,    198.8,2,    194.3,2,   114.35,2,     2.36,2
      09FA0793,  PR11,    63,  1,     19,     45,2,19930929,2247,-30.0908, 156.9195, 4932,   3998.0,   1.1620,  34.7170,2,  34.7170,2,    200.3,2,    195.4,2,   115.43,2,     2.38,2
      09FA0793,  PR11,    63,  1,     20,     48,2,19930929,2247,-30.0908, 156.9195, 4932,   4297.9,   1.1640,  34.7160,2,  34.7170,2,    200.9,2,    195.1,2,   116.21,2,     2.38,2
      09FA0793,  PR11,    63,  1,     21,      5,2,19930929,2247,-30.0908, 156.9195, 4932,   4606.8,   1.1960,  34.7170,2,  34.7170,2,    201.4,2,    195.9,2,   117.78,2,     2.38,2
      09FA0793,  PR11,    63,  1,     22,     55,2,19930929,2247,-30.0908, 156.9195, 4932,   4929.3,   1.2310,  34.7170,2,  34.7160,2,    202.3,2,    195.9,2,   116.80,2,     2.37,2
      09FA0793,  PR11,    64,  1,      1,      7,2,19930930,0509,-30.0848, 156.1532, 4524,      1.9,  21.2890,  35.7240,2,  35.7260,2,    225.6,2,    224.5,2,     0.78,2,     0.18,2
      09FA0793,  PR11,    64,  1,      2,     42,2,19930930,0509,-30.0848, 156.1532, 4524,     97.4,  20.7320,  35.7240,2,  35.7310,2,    222.9,2,    216.8,2,     1.07,2,     0.19,2
      09FA0793,  PR11,    64,  1,      3,      6,2,19930930,0509,-30.0848, 156.1532, 4524,    195.6,  20.3170,  35.7460,2,  35.7460,2,    221.5,2,    215.4,2,     1.27,2,     0.20,2
      09FA0793,  PR11,    64,  1,      4,      3,2,19930930,0509,-30.0848, 156.1532, 4524,    395.6,  16.5820,  35.4290,2,  35.4360,2,    182.1,2,    177.3,2,     3.03,2,     0.67,2
      09FA0793,  PR11,    64,  1,      5,     18,2,19930930,0509,-30.0848, 156.1532, 4524,    592.5,  12.1830,  35.0510,2,  34.9840,2,    192.3,2,    187.5,2,     6.35,2,     1.11,2
      09FA0793,  PR11,    64,  1,      6,      2,2,19930930,0509,-30.0848, 156.1532, 4524,    989.7,   6.6240,  34.4840,2,  34.4880,2,    191.9,2,    188.4,2,    22.78,2,     1.91,2
      09FA0793,  PR11,    64,  1,      7,     28,2,19930930,0509,-30.0848, 156.1532, 4524,   1190.3,   5.1480,  34.4650,2,  34.4690,2,    182.0,2,    175.3,2,    42.72,2,     2.16,2
      09FA0793,  PR11,    64,  1,      8,      4,2,19930930,0509,-30.0848, 156.1532, 4524,   1389.2,   4.0590,  34.5070,2,  34.5110,2,    167.6,2,    162.3,2,    68.04,2,     2.35,2
      09FA0793,  PR11,    64,  1,      9,      8,2,19930930,0509,-30.0848, 156.1532, 4524,   1590.4,   3.2750,  34.5640,2,  34.5640,2,    156.9,2,    151.8,2,    86.90,2,     2.44,2
      09FA0793,  PR11,    64,  1,     10,     15,2,19930930,0509,-30.0848, 156.1532, 4524,   1789.7,   2.7530,  34.6130,2,  34.6120,2,    153.5,2,    151.0,2,    96.96,2,     2.50,2
      09FA0793,  PR11,    64,  1,     11,     77,2,19930930,0509,-30.0848, 156.1532, 4524,   1990.5,   2.5030,  34.6430,2,  34.6440,2,    160.3,2,    157.4,2,    98.43,2,     2.44,2
      09FA0793,  PR11,    64,  1,     12,     27,2,19930930,0509,-30.0848, 156.1532, 4524,   2193.8,   2.3380,  34.6680,2,  34.6670,2,    167.3,2,    164.1,2,    96.57,2,     2.42,2
      09FA0793,  PR11,    64,  1,     13,     29,2,19930930,0509,-30.0848, 156.1532, 4524,   2391.4,   2.1980,  34.6890,2,  34.6930,2,    174.6,2,    171.2,2,    95.59,2,     2.32,2
      09FA0793,  PR11,    64,  1,     14,     20,2,19930930,0509,-30.0848, 156.1532, 4524,   2594.3,   2.0040,  34.7140,2,  34.7140,2,    183.0,2,    178.3,2,    97.35,2,     2.32,2
      09FA0793,  PR11,    64,  1,     15,     70,2,19930930,0509,-30.0848, 156.1532, 4524,   2795.0,   1.8490,  34.7240,2,  34.7260,2,    187.4,2,    183.1,2,   100.57,2,     2.31,2
      09FA0793,  PR11,    64,  1,     16,     35,2,19930930,0509,-30.0848, 156.1532, 4524,   2994.2,   1.6990,  34.7270,2,  34.7260,2,    191.4,2,    186.5,2,   104.97,2,     2.29,2
      09FA0793,  PR11,    64,  1,     17,     41,2,19930930,0509,-30.0848, 156.1532, 4524,   3196.5,   1.5330,  34.7250,2,  34.7250,2,    193.1,2,    190.3,2,   109.17,2,     2.31,2
      09FA0793,  PR11,    64,  1,     18,     24,2,19930930,0509,-30.0848, 156.1532, 4524,   3396.0,   1.3550,  34.7220,2,  34.7240,2,    196.9,2,    191.9,2,  -999.00,4,     2.32,2
      09FA0793,  PR11,    64,  1,     19,     10,2,19930930,0509,-30.0848, 156.1532, 4524,   3597.1,   1.2830,  34.7210,2,  34.7220,2,    198.4,2,    192.4,2,   114.65,2,     2.32,2
      09FA0793,  PR11,    64,  1,     20,     11,2,19930930,0509,-30.0848, 156.1532, 4524,   3797.3,   1.2020,  34.7180,2,  34.7190,2,    199.3,2,    194.8,2,   116.70,2,     2.32,2
      09FA0793,  PR11,    64,  1,     21,     45,2,19930930,0509,-30.0848, 156.1532, 4524,   3997.7,   1.1690,  34.7170,2,  34.7170,2,    200.7,2,    195.4,2,   117.19,2,     2.34,2
      09FA0793,  PR11,    64,  1,     22,     48,2,19930930,0509,-30.0848, 156.1532, 4524,   4195.9,   1.1570,  34.7160,2,  34.7170,2,    201.6,2,    195.4,2,   118.95,2,     2.38,2
      09FA0793,  PR11,    64,  1,     23,      5,2,19930930,0509,-30.0848, 156.1532, 4524,   4502.2,   1.1490,  34.7150,2,  34.7170,2,    200.7,2,    195.6,2,   119.05,2,     2.35,2
      09FA0793,  PR11,    64,  1,     24,     55,2,19930930,0509,-30.0848, 156.1532, 4524,   4524.1,   1.1520,  34.7150,2,  34.7150,2,    201.2,2,    196.9,2,   120.12,2,     2.35,2
      09FA0793,  PR11,    65,  1,      1,      7,2,19930930,1101,-30.0855, 155.4810, 4900,      2.8,  20.5010,  35.7520,2,  35.7550,2,    212.1,2,    227.5,2,     0.49,2,     0.16,2
      09FA0793,  PR11,    65,  1,      2,     42,2,19930930,1101,-30.0855, 155.4810, 4900,      2.8,  20.5010,  35.7520,2,  35.7530,2,    212.1,2,    228.5,2,     0.49,2,     0.15,2
      09FA0793,  PR11,    65,  1,      3,      6,2,19930930,1101,-30.0855, 155.4810, 4900,      2.8,  20.5010,  35.7520,2,  35.7530,2,    212.1,2,    231.3,2,     0.29,2,     0.14,2
      09FA0793,  PR11,    65,  1,      4,      3,2,19930930,1101,-30.0855, 155.4810, 4900,     96.5,  20.1110,  35.7480,2,  35.7460,2,    223.8,2,    217.9,2,     1.27,2,     0.17,2
      09FA0793,  PR11,    65,  1,      5,     18,2,19930930,1101,-30.0855, 155.4810, 4900,    195.6,  19.1410,  35.6040,2,  35.5940,2,    186.9,2,    180.8,2,     1.95,2,     0.38,2
      09FA0793,  PR11,    65,  1,      6,      2,2,19930930,1101,-30.0855, 155.4810, 4900,    392.5,  15.0480,  35.3200,2,  35.3640,2,    186.7,2,    183.0,2,     3.42,2,     0.64,2
      09FA0793,  PR11,    65,  1,      7,     28,2,19930930,1101,-30.0855, 155.4810, 4900,    592.2,  10.9550,  34.9010,2,  34.9350,2,    192.2,2,    189.4,2,     6.84,2,     1.14,2
      09FA0793,  PR11,    65,  1,      8,      4,2,19930930,1101,-30.0855, 155.4810, 4900,    991.0,   6.1720,  34.4650,2,  34.4700,2,   -999.0,4,    185.4,2,    28.84,2,     1.96,2
      09FA0793,  PR11,    65,  1,      9,      8,2,19930930,1101,-30.0855, 155.4810, 4900,   1191.1,   4.8940,  34.4670,2,  34.4720,2,    180.0,2,    173.7,2,    48.10,2,     2.24,2
      09FA0793,  PR11,    65,  1,     10,     15,2,19930930,1101,-30.0855, 155.4810, 4900,   1392.3,   3.9470,  34.5120,2,  34.5130,2,    166.6,2,    161.7,2,    68.43,2,     2.37,2
      09FA0793,  PR11,    65,  1,     11,     77,2,19930930,1101,-30.0855, 155.4810, 4900,   1591.5,   3.2740,  34.5630,2,  34.5630,2,    155.5,2,    152.9,2,    85.92,2,     2.46,2
      09FA0793,  PR11,    65,  1,     12,     29,2,19930930,1101,-30.0855, 155.4810, 4900,   2194.7,   2.3260,  34.6690,2,  34.6710,2,    168.1,2,    165.2,2,    95.98,2,     2.35,2
      09FA0793,  PR11,    65,  1,     13,     20,2,19930930,1101,-30.0855, 155.4810, 4900,   2393.2,   2.1480,  34.6950,2,  34.6950,2,    176.6,2,    172.9,2,    96.67,2,     2.35,2
      09FA0793,  PR11,    65,  1,     14,     70,2,19930930,1101,-30.0855, 155.4810, 4900,   2595.0,   1.9820,  34.7120,2,  34.7110,2,    183.1,2,    178.8,2,    98.72,2,     2.32,2
      09FA0793,  PR11,    65,  1,     15,     35,2,19930930,1101,-30.0855, 155.4810, 4900,   2794.2,   1.8370,  34.7220,2,  34.7230,2,    187.7,2,    183.6,2,   103.21,2,     2.30,2
      09FA0793,  PR11,    65,  1,     16,     41,2,19930930,1101,-30.0855, 155.4810, 4900,   2995.0,   1.6910,  34.7260,2,  34.7250,2,    190.2,2,    186.8,2,   104.38,2,     2.31,2
      09FA0793,  PR11,    65,  1,     17,     24,2,19930930,1101,-30.0855, 155.4810, 4900,   3295.3,   1.4480,  34.7230,2,  34.7230,2,    195.0,2,    190.0,2,   110.44,2,     2.33,2
      09FA0793,  PR11,    65,  1,     18,     10,2,19930930,1101,-30.0855, 155.4810, 4900,   3596.2,   1.2730,  34.7190,2,  34.7180,2,    198.2,2,    193.4,2,   114.55,2,     2.31,2
      09FA0793,  PR11,    65,  1,     19,     11,2,19930930,1101,-30.0855, 155.4810, 4900,   3897.0,   1.1950,  34.7160,2,  34.7170,2,    199.7,2,    194.3,2,   117.09,2,     2.33,2
      09FA0793,  PR11,    65,  1,     20,     45,2,19930930,1101,-30.0855, 155.4810, 4900,   4196.8,   1.1680,  34.7150,2,  34.7190,2,    200.7,2,    195.1,2,   121.39,2,     2.33,2
      09FA0793,  PR11,    65,  1,     21,     48,2,19930930,1101,-30.0855, 155.4810, 4900,   4497.4,   1.1770,  34.7150,2,  34.7150,2,    201.4,2,    195.1,2,   119.73,2,     2.32,2
      09FA0793,  PR11,    65,  1,     22,      5,2,19930930,1101,-30.0855, 155.4810, 4900,   4795.6,   1.1910,  34.7140,2,  34.7190,2,    202.2,2,    195.1,2,   115.14,2,     2.22,2
      09FA0793,  PR11,    65,  1,     23,     55,2,19930930,1101,-30.0855, 155.4810, 4900,   4898.9,   1.1960,  34.7140,2,  34.7180,2,    201.0,2,    196.2,2,   121.39,2,     2.33,2