BOTTLE,20010801WHPSIOKJU
EXPOCODE,SECT_ID,STNNBR,CASTNO,SAMPNO,BTLNBR,BTLNBR_FLAG_W,DATE,TIME,LATITUDE,LONGITUDE,DEPTH,CTDPRS,CTDTMP,CTDSAL,CTDSAL_FLAG_W,SALNTY,SALNTY_FLAG_W,CTDOXY,CTDOXY_FLAG_W,OXYGEN,OXYGEN_FLAG_W,SILCAT,SILCAT_FLAG_W,PHSPHT,PHSPHT_FLAG_W
,,,,,,,,,,,,DBAR,ITS-90,PSS-78,,PSS-78,,UMOL/KG,,UMOL/KG,,UMOL/KG,,UMOL/KG,
      09FA0793,  PR11,    57,  1,      1,      7,2,19930928,1853,-30.0833, 160.0103, 1650,      2.1,  21.4559,  35.7410,2,  35.7340,2,    230.1,2,    219.9,2,     0.68,2,     0.19,2
      09FA0793,  PR11,    57,  1,      2,     15,2,19930928,1853,-30.0833, 160.0103, 1650,     48.7,  21.4840,  35.7340,2,  35.7340,2,    225.4,2,    219.5,2,     0.68,2,     0.18,2
      09FA0793,  PR11,    57,  1,      3,     77,2,19930928,1853,-30.0833, 160.0103, 1650,     95.6,  21.4830,  35.7340,2,  35.7320,2,    226.6,2,    210.3,2,     0.98,2,     0.21,2
      09FA0793,  PR11,    57,  1,      4,     27,2,19930928,1853,-30.0833, 160.0103, 1650,    146.4,  19.9690,  35.6320,2,  35.6310,2,    178.1,2,    176.3,2,     2.15,2,     0.48,2
      09FA0793,  PR11,    57,  1,      5,     29,2,19930928,1853,-30.0833, 160.0103, 1650,    194.3,  18.9830,  35.6530,2,  35.6410,2,    229.1,2,    222.6,2,     1.27,2,     0.28,2
      09FA0793,  PR11,    57,  1,      6,     20,2,19930928,1853,-30.0833, 160.0103, 1650,    245.4,  16.5080,  35.3940,2,  35.4100,2,    172.0,2,    171.3,2,     3.61,2,     0.75,2
      09FA0793,  PR11,    57,  1,      7,     70,2,19930928,1853,-30.0833, 160.0103, 1650,    304.1,  15.8510,  35.5010,2,  35.5670,2,    219.1,2,    222.9,2,     2.15,2,     0.45,2
      09FA0793,  PR11,    57,  1,      8,     35,2,19930928,1853,-30.0833, 160.0103, 1650,    394.1,  13.8920,  35.2160,2,  35.2200,2,    188.0,2,    185.4,2,     4.59,2,     0.92,2
      09FA0793,  PR11,    57,  1,      9,     41,2,19930928,1853,-30.0833, 160.0103, 1650,    493.1,  12.0610,  35.0520,2,  35.0500,2,    196.0,2,    191.2,2,     6.35,2,     1.09,2
      09FA0793,  PR11,    57,  1,     10,     24,2,19930928,1853,-30.0833, 160.0103, 1650,    592.7,   9.7620,  34.7550,2,  34.7550,2,    196.0,2,    192.6,2,     9.28,2,     1.43,2
      09FA0793,  PR11,    57,  1,     11,     10,2,19930928,1853,-30.0833, 160.0103, 1650,    689.1,   8.7230,  34.6440,2,  34.6450,2,    194.3,2,    191.9,2,    12.22,2,     1.59,2
      09FA0793,  PR11,    57,  1,     12,     11,2,19930928,1853,-30.0833, 160.0103, 1650,    790.3,   7.6620,  34.5470,2,  34.5480,2,    194.5,2,    189.7,2,    17.11,2,     1.80,2
      09FA0793,  PR11,    57,  1,     13,     45,2,19930928,1853,-30.0833, 160.0103, 1650,    989.9,   5.9680,  34.4620,2,  34.4670,2,    189.9,2,    182.7,2,    30.79,2,     2.13,2
      09FA0793,  PR11,    57,  1,     14,     48,2,19930928,1853,-30.0833, 160.0103, 1650,   1190.1,   4.6380,  34.4750,2,  34.4800,2,    176.3,2,    170.9,2,    54.65,2,     2.31,2
      09FA0793,  PR11,    57,  1,     15,      5,2,19930928,1853,-30.0833, 160.0103, 1650,   1387.9,   3.7220,  34.5280,2,  34.5320,2,    163.0,2,    158.6,2,    76.44,2,     2.44,2
      09FA0793,  PR11,    57,  1,     16,     55,2,19930928,1853,-30.0833, 160.0103, 1650,   1647.4,   2.7860,  34.6110,2,  34.6110,2,    155.2,2,    152.8,2,    96.09,2,     2.54,2
      09FA0793,  PR11,    58,  1,      1,      7,2,19930928,2356,-30.0842, 159.3457, 2778,      1.4,  21.4960,  35.7190,2,  35.7120,2,    214.7,2,    220.7,2,     0.49,2,     0.25,2
      09FA0793,  PR11,    58,  1,      2,      2,2,19930928,2356,-30.0842, 159.3457, 2778,     47.0,  21.4780,  35.7140,2,  35.7060,2,    225.6,2,    213.2,2,     0.49,2,     0.27,2
      09FA0793,  PR11,    58,  1,      3,     18,2,19930928,2356,-30.0842, 159.3457, 2778,     97.4,  21.4820,  35.7160,2,  35.7140,2,    223.3,2,    198.8,2,     0.59,2,     0.27,2
      09FA0793,  PR11,    58,  1,      4,      3,2,19930928,2356,-30.0842, 159.3457, 2778,    145.8,  20.7330,  35.7150,2,  35.7250,2,    219.8,2,    215.8,2,     0.78,2,     0.28,2
      09FA0793,  PR11,    58,  1,      5,     28,2,19930928,2356,-30.0842, 159.3457, 2778,    195.1,  19.2940,  35.5920,2,  35.5900,2,    182.8,2,    179.6,2,     1.66,2,     0.55,2
      09FA0793,  PR11,    58,  1,      6,      4,2,19930928,2356,-30.0842, 159.3457, 2778,    244.4,  18.1830,  35.6500,2,  35.6300,2,    232.1,2,    221.5,2,     0.98,2,     0.39,2
      09FA0793,  PR11,    58,  1,      7,      8,2,19930928,2356,-30.0842, 159.3457, 2778,    293.4,  16.7270,  35.4280,2,-999.0000,4,    180.6,2,    191.0,2,     2.34,2,     0.67,2
      09FA0793,  PR11,    58,  1,      8,     15,2,19930928,2356,-30.0842, 159.3457, 2778,    394.4,  14.2840,  35.3180,2,  35.2440,2,    205.0,2,    191.2,2,     3.91,2,     1.00,2
      09FA0793,  PR11,    58,  1,      9,     77,2,19930928,2356,-30.0842, 159.3457, 2778,    493.1,  11.9310,  35.0260,2,  35.0280,2,    190.5,2,    190.5,2,     5.47,2,     1.24,2
      09FA0793,  PR11,    58,  1,     10,     27,2,19930928,2356,-30.0842, 159.3457, 2778,    593.6,   9.8930,  34.7730,2,  34.7810,2,    197.2,2,    192.6,2,     7.53,2,     1.51,2
      09FA0793,  PR11,    58,  1,     11,     29,2,19930928,2356,-30.0842, 159.3457, 2778,    692.9,   8.6900,  34.6370,2,  34.6310,2,    193.6,2,    190.0,2,    11.34,2,     1.76,2
      09FA0793,  PR11,    58,  1,     12,     20,2,19930928,2356,-30.0842, 159.3457, 2778,    791.4,   7.5290,  34.5370,2,  34.5400,2,    194.3,2,    191.1,2,    16.42,2,     1.89,2
      09FA0793,  PR11,    58,  1,     13,     70,2,19930928,2356,-30.0842, 159.3457, 2778,    989.6,   5.7640,  34.4580,2,  34.4600,2,    188.6,2,    182.4,2,    31.87,2,     2.19,2
      09FA0793,  PR11,    58,  1,     14,     35,2,19930928,2356,-30.0842, 159.3457, 2778,   1191.7,   4.5190,  34.4800,2,  34.4840,2,    173.8,2,    170.4,2,    54.35,2,     2.39,2
      09FA0793,  PR11,    58,  1,     15,     41,2,19930928,2356,-30.0842, 159.3457, 2778,   1391.0,   3.6490,  34.5330,2,  34.5380,2,    161.4,2,    154.9,2,    76.05,2,     2.50,2
      09FA0793,  PR11,    58,  1,     16,     24,2,19930928,2356,-30.0842, 159.3457, 2778,   1592.9,   3.0120,  34.5860,2,  34.5890,2,    152.9,2,    149.7,2,    90.42,2,     2.59,2
      09FA0793,  PR11,    58,  1,     17,     10,2,19930928,2356,-30.0842, 159.3457, 2778,   1791.5,   2.5800,  34.6310,2,  34.6300,2,    155.3,2,    153.6,2,    97.26,2,     2.58,2
      09FA0793,  PR11,    58,  1,     18,     11,2,19930928,2356,-30.0842, 159.3457, 2778,   1992.8,   2.3750,  34.6570,2,  34.6590,2,    162.4,2,    159.6,2,    96.67,2,     2.55,2
      09FA0793,  PR11,    58,  1,     19,     45,2,19930928,2356,-30.0842, 159.3457, 2778,   2192.6,   2.2160,  34.6800,2,  34.6780,2,    169.7,2,    168.0,2,    95.88,2,     2.50,2
      09FA0793,  PR11,    58,  1,     20,     48,2,19930928,2356,-30.0842, 159.3457, 2778,   2394.8,   2.0200,  34.7000,2,  34.7010,2,    178.1,2,    174.0,2,    97.35,2,     2.44,2
      09FA0793,  PR11,    58,  1,     21,      5,2,19930928,2356,-30.0842, 159.3457, 2778,   2587.5,   1.8620,  34.7130,2,  34.7150,2,    184.4,2,    180.0,2,    98.91,2,     2.40,2
      09FA0793,  PR11,    58,  1,     22,     55,2,19930928,2356,-30.0842, 159.3457, 2778,   2775.2,   1.5460,  34.7210,2,  34.7210,2,    190.6,2,    187.4,2,   104.87,2,     2.39,2
      09FA0793,  PR11,    59,  1,      1,      7,2,19930929,0525,-30.0790, 158.6905, 3230,      2.1,  21.5000,  35.7070,2,  35.7220,2,    210.2,2,    224.4,2,     0.68,2,     0.27,2
      09FA0793,  PR11,    59,  1,      2,     42,2,19930929,0525,-30.0790, 158.6905, 3230,     49.1,  20.9450,  35.7210,2,  35.7250,2,    216.1,2,    221.9,2,     0.78,2,     0.21,2
      09FA0793,  PR11,    59,  1,      3,      6,2,19930929,0525,-30.0790, 158.6905, 3230,     96.1,  20.5100,  35.7380,2,  35.7450,2,    218.2,2,    219.9,2,     0.98,2,     0.19,2
      09FA0793,  PR11,    59,  1,      4,      2,2,19930929,0525,-30.0790, 158.6905, 3230,    145.6,  20.2600,  35.7420,2,  35.7420,2,    214.3,2,    223.0,2,     0.88,2,     0.29,2
      09FA0793,  PR11,    59,  1,      5,     18,2,19930929,0525,-30.0790, 158.6905, 3230,    195.6,  20.1790,  35.7410,2,  35.7400,2,    221.3,2,    223.5,2,     1.17,2,     0.19,2
      09FA0793,  PR11,    59,  1,      6,      3,2,19930929,0525,-30.0790, 158.6905, 3230,    245.8,  19.4590,  35.6380,2,  35.6030,2,    185.4,2,    184.4,2,     1.56,2,     0.38,2
      09FA0793,  PR11,    59,  1,      7,     28,2,19930929,0525,-30.0790, 158.6905, 3230,    293.6,  17.7220,  35.5290,2,  35.5370,2,    182.9,2,    184.1,2,     1.86,2,     0.43,2
      09FA0793,  PR11,    59,  1,      8,      4,2,19930929,0525,-30.0790, 158.6905, 3230,    392.7,  15.9050,  35.3820,2,  35.3830,2,    182.1,2,    182.7,2,     2.83,2,     0.56,2
      09FA0793,  PR11,    59,  1,      9,      8,2,19930929,0525,-30.0790, 158.6905, 3230,    492.6,  12.8640,  35.0840,2,  35.0790,2,    180.9,2,    180.9,2,     5.28,2,     0.92,2
      09FA0793,  PR11,    59,  1,     10,     15,2,19930929,0525,-30.0790, 158.6905, 3230,    593.4,-999.0000,-999.0000,4,  34.8120,2,   -999.0,4,    186.0,2,     7.53,2,     1.19,2
      09FA0793,  PR11,    59,  1,     11,     77,2,19930929,0525,-30.0790, 158.6905, 3230,    790.4,   7.7770,  34.5570,2,  34.5360,2,    192.3,2,    188.1,2,    15.74,2,     1.62,2
      09FA0793,  PR11,    59,  1,     12,     27,2,19930929,0525,-30.0790, 158.6905, 3230,    989.8,   5.9190,  34.4630,2,  34.4650,2,    188.8,2,    182.0,2,    28.35,2,     1.79,2
      09FA0793,  PR11,    59,  1,     13,     29,2,19930929,0525,-30.0790, 158.6905, 3230,   1191.6,   4.5800,  34.4810,2,  34.4860,2,    174.7,2,    169.4,2,  -999.00,4,  -999.00,4
      09FA0793,  PR11,    59,  1,     14,     20,2,19930929,0525,-30.0790, 158.6905, 3230,   1389.2,   3.6840,  34.5300,2,  34.5320,2,    161.4,2,    157.0,2,    77.32,2,     2.42,2
      09FA0793,  PR11,    59,  1,     15,     70,2,19930929,0525,-30.0790, 158.6905, 3230,   1588.4,   3.0550,  34.5820,2,  34.5880,2,    154.3,2,    150.4,2,    96.77,2,     2.58,2
      09FA0793,  PR11,    59,  1,     16,     35,2,19930929,0525,-30.0790, 158.6905, 3230,   1790.8,   2.6360,  34.6250,2,  34.6260,2,    157.9,2,    153.8,2,    97.16,2,     2.44,2
      09FA0793,  PR11,    59,  1,     17,     41,2,19930929,0525,-30.0790, 158.6905, 3230,   1991.9,   2.3900,  34.6560,2,  34.6570,2,    162.3,2,    159.0,2,    99.31,2,     2.41,2
      09FA0793,  PR11,    59,  1,     18,     24,2,19930929,0525,-30.0790, 158.6905, 3230,   2191.0,   2.2520,  34.6760,2,  34.6800,2,    169.0,2,    165.6,2,  -999.00,4,  -999.00,4
      09FA0793,  PR11,    59,  1,     19,     10,2,19930929,0525,-30.0790, 158.6905, 3230,   2393.4,   2.0880,  34.6970,2,  34.6980,2,    175.4,2,    172.9,2,   102.43,2,     2.45,2
      09FA0793,  PR11,    59,  1,     20,     11,2,19930929,0525,-30.0790, 158.6905, 3230,   2594.3,   1.9250,  34.7130,2,  34.7140,2,    182.4,2,    178.2,2,   100.18,2,     2.29,2
      09FA0793,  PR11,    59,  1,     21,     48,2,19930929,0525,-30.0790, 158.6905, 3230,   2796.1,   1.6920,  34.7200,2,  34.7210,2,    188.3,2,    184.5,2,   109.66,2,     2.39,2
      09FA0793,  PR11,    59,  1,     22,      5,2,19930929,0525,-30.0790, 158.6905, 3230,   2995.2,   1.4430,  34.7220,2,  34.7200,2,    192.9,2,    188.0,2,   113.47,2,     2.34,2
      09FA0793,  PR11,    59,  1,     23,     55,2,19930929,0525,-30.0790, 158.6905, 3230,   3229.6,   1.2880,  34.7200,2,  34.7240,2,    196.3,2,    190.8,2,   112.89,2,     2.27,2
      09FA0793,  PR11,    60,  1,      1,      7,2,19930929,0918,-30.0800, 158.3365, 2668,      3.8,  21.1410,  35.7380,2,  35.7350,2,    243.7,2,    224.7,2,     1.17,2,     0.30,2
      09FA0793,  PR11,    60,  1,      2,      2,2,19930929,0918,-30.0800, 158.3365, 2668,     48.0,  20.5470,  35.7310,2,  35.7440,2,    224.5,2,    217.6,2,     1.56,2,     0.30,2
      09FA0793,  PR11,    60,  1,      3,     18,2,19930929,0918,-30.0800, 158.3365, 2668,     96.8,  20.3150,  35.7260,2,  35.7450,2,    220.0,2,    216.4,2,     1.56,2,     0.31,2
      09FA0793,  PR11,    60,  1,      4,      3,2,19930929,0918,-30.0800, 158.3365, 2668,    145.9,  20.2610,  35.7340,2,  35.7410,2,    217.1,2,    219.9,2,     1.56,2,     0.30,2
      09FA0793,  PR11,    60,  1,      5,     28,2,19930929,0918,-30.0800, 158.3365, 2668,    195.0,  20.1630,  35.7270,2,  35.7330,2,    208.9,2,    210.9,2,     1.66,2,     0.37,2
      09FA0793,  PR11,    60,  1,      6,      4,2,19930929,0918,-30.0800, 158.3365, 2668,    244.5,  19.2350,  35.6160,2,  35.6320,2,    189.7,2,    188.9,2,     2.05,2,     0.49,2
      09FA0793,  PR11,    60,  1,      7,      8,2,19930929,0918,-30.0800, 158.3365, 2668,    293.8,  18.1500,  35.5550,2,  35.5440,2,    187.4,2,    179.8,2,     2.93,2,     0.63,2
      09FA0793,  PR11,    60,  1,      8,     15,2,19930929,0918,-30.0800, 158.3365, 2668,    393.3,  15.4850,  35.3220,2,  35.3080,2,    177.7,2,    173.3,2,     4.40,2,     0.96,2
      09FA0793,  PR11,    60,  1,      9,     77,2,19930929,0918,-30.0800, 158.3365, 2668,    491.8,  13.0030,  35.1170,2,  35.1020,2,    185.2,2,    182.1,2,     6.25,2,     1.19,2
      09FA0793,  PR11,    60,  1,     10,     27,2,19930929,0918,-30.0800, 158.3365, 2668,    592.3,  10.7740,  34.8810,2,  34.9020,2,    189.9,2,    187.7,2,     7.92,2,     1.41,2
      09FA0793,  PR11,    60,  1,     11,     29,2,19930929,0918,-30.0800, 158.3365, 2668,    691.0,   8.9900,  34.6660,2,  34.6740,2,    204.5,2,    199.4,2,    10.36,2,     1.66,2
      09FA0793,  PR11,    60,  1,     12,     20,2,19930929,0918,-30.0800, 158.3365, 2668,    790.3,   7.8090,  34.5600,2,  34.5790,2,    195.3,2,    189.0,2,    15.35,2,     1.79,2
      09FA0793,  PR11,    60,  1,     13,     70,2,19930929,0918,-30.0800, 158.3365, 2668,    990.6,   6.0140,  34.4630,2,  34.4680,2,    190.2,2,    184.0,2,    29.23,2,     2.11,2
      09FA0793,  PR11,    60,  1,     14,     35,2,19930929,0918,-30.0800, 158.3365, 2668,   1191.1,   4.7280,  34.4720,2,  34.4770,2,    178.0,2,    171.4,2,    50.34,2,     2.28,2
      09FA0793,  PR11,    60,  1,     15,     41,2,19930929,0918,-30.0800, 158.3365, 2668,   1390.7,   3.8110,  34.5200,2,  34.5240,2,    163.7,2,    159.2,2,    67.65,2,     2.45,2
      09FA0793,  PR11,    60,  1,     16,     24,2,19930929,0918,-30.0800, 158.3365, 2668,   1591.5,   3.0960,  34.5790,2,  34.5820,2,    153.1,2,    150.1,2,    88.37,2,     2.54,2
      09FA0793,  PR11,    60,  1,     17,     10,2,19930929,0918,-30.0800, 158.3365, 2668,   1791.3,   2.6690,  34.6210,2,  34.6190,2,    155.5,2,    151.7,2,    92.37,2,     2.56,2
      09FA0793,  PR11,    60,  1,     18,     11,2,19930929,0918,-30.0800, 158.3365, 2668,   1991.6,   2.4170,  34.6530,2,  34.6500,2,    161.8,2,    157.8,2,    92.27,2,     2.48,2
      09FA0793,  PR11,    60,  1,     19,     45,2,19930929,0918,-30.0800, 158.3365, 2668,   2192.1,   2.2330,  34.6800,2,  34.6780,2,    170.1,2,    165.9,2,    91.10,2,     2.45,2
      09FA0793,  PR11,    60,  1,     20,     48,2,19930929,0918,-30.0800, 158.3365, 2668,   2392.0,   2.0510,  34.7030,2,  34.7010,2,    178.1,2,    173.7,2,    92.66,2,     2.43,2
      09FA0793,  PR11,    60,  1,     21,      5,2,19930929,0918,-30.0800, 158.3365, 2668,   2595.7,   1.8830,  34.7160,2,  34.7190,2,    184.7,2,    179.7,2,    92.66,2,     2.36,2
      09FA0793,  PR11,    60,  1,     22,     55,2,19930929,0918,-30.0800, 158.3365, 2668,   2666.9,   1.8200,  34.7190,2,  34.7210,2,    185.8,2,    181.5,2,    92.95,2,     2.38,2
      09FA0793,  PR11,    61,  1,      1,      7,2,19930929,1246,-30.0852, 158.0042, 2046,      1.6,  21.3870,  35.7200,2,  35.7070,2,    223.3,2,    224.2,2,     1.07,2,     0.26,2
      09FA0793,  PR11,    61,  1,      2,     28,2,19930929,1246,-30.0852, 158.0042, 2046,     48.3,  21.2420,  35.7110,2,  35.7260,2,    233.3,2,    223.2,2,     1.07,2,     0.23,2
      09FA0793,  PR11,    61,  1,      3,      4,2,19930929,1246,-30.0852, 158.0042, 2046,     96.8,  21.0750,  35.7140,2,  35.7260,2,    229.9,2,    226.5,2,     1.17,2,     0.21,2
      09FA0793,  PR11,    61,  1,      4,      8,2,19930929,1246,-30.0852, 158.0042, 2046,    146.3,  20.3820,  35.7370,2,  35.7420,2,    229.9,2,    217.1,2,     1.66,2,     0.26,2
      09FA0793,  PR11,    61,  1,      5,     15,2,19930929,1246,-30.0852, 158.0042, 2046,    196.3,  20.2520,  35.7430,2,  35.7410,2,    222.6,2,    221.4,2,     1.56,2,     0.24,2
      09FA0793,  PR11,    61,  1,      6,     77,2,19930929,1246,-30.0852, 158.0042, 2046,    245.5,  20.1820,  35.7410,2,  35.7330,2,    224.0,2,    213.9,2,     1.76,2,     0.27,2
      09FA0793,  PR11,    61,  1,      7,     27,2,19930929,1246,-30.0852, 158.0042, 2046,    294.1,  18.9480,  35.5920,2,  35.5770,2,    183.6,2,    181.4,2,     2.44,2,     0.53,2
      09FA0793,  PR11,    61,  1,      8,     29,2,19930929,1246,-30.0852, 158.0042, 2046,    393.5,  16.3290,  35.4300,2,  35.4420,2,    186.5,2,    182.9,2,     3.32,2,     0.73,2
      09FA0793,  PR11,    61,  1,      9,     20,2,19930929,1246,-30.0852, 158.0042, 2046,    493.0,  13.1800,  35.1130,2,  35.1300,2,    180.2,2,    178.1,2,     5.96,2,     1.16,2
      09FA0793,  PR11,    61,  1,     10,     70,2,19930929,1246,-30.0852, 158.0042, 2046,    592.3,  11.2720,  34.9300,2,  34.9220,2,    188.0,2,    184.5,2,     8.01,2,     1.41,2
      09FA0793,  PR11,    61,  1,     11,     35,2,19930929,1246,-30.0852, 158.0042, 2046,    691.6,   9.5380,  34.7280,2,  34.7320,2,    201.9,2,    191.3,2,     9.87,2,     1.57,2
      09FA0793,  PR11,    61,  1,     12,     41,2,19930929,1246,-30.0852, 158.0042, 2046,    791.1,   8.0760,  34.5780,2,  34.6000,2,    193.3,2,    190.0,2,    14.08,2,     1.80,2
      09FA0793,  PR11,    61,  1,     13,     24,2,19930929,1246,-30.0852, 158.0042, 2046,    991.3,   5.9840,  34.4660,2,  34.4700,2,    190.3,2,    183.3,2,    29.62,2,     2.11,2
      09FA0793,  PR11,    61,  1,     14,     10,2,19930929,1246,-30.0852, 158.0042, 2046,   1189.6,   4.7030,  34.4750,2,  34.4790,2,    176.4,2,    171.7,2,    48.00,2,     2.29,2
      09FA0793,  PR11,    61,  1,     15,     11,2,19930929,1246,-30.0852, 158.0042, 2046,   1390.8,   3.7860,  34.5250,2,  34.5250,2,    164.1,2,    158.6,2,    66.57,2,     2.47,2
      09FA0793,  PR11,    61,  1,     16,     45,2,19930929,1246,-30.0852, 158.0042, 2046,   1591.3,   3.1740,  34.5730,2,  34.5750,2,    155.7,2,    152.0,2,    82.11,2,     2.59,2
      09FA0793,  PR11,    61,  1,     17,     48,2,19930929,1246,-30.0852, 158.0042, 2046,   1792.1,   2.7560,  34.6130,2,  34.6140,2,    154.3,2,    150.9,2,    88.17,2,     2.58,2
      09FA0793,  PR11,    61,  1,     18,      5,2,19930929,1246,-30.0852, 158.0042, 2046,   1995.5,   2.4490,  34.6500,2,  34.6530,2,    160.7,2,    157.5,2,    90.71,2,     2.54,2
      09FA0793,  PR11,    61,  1,     19,     55,2,19930929,1246,-30.0852, 158.0042, 2046,   2045.2,   2.4090,  34.6560,2,  34.6580,2,    161.3,2,    158.7,2,    89.14,2,     2.51,2