BOTTLE,20130715NOAA
EXPOCODE,SECT_ID,STNNBR,CASTNO,SAMPNO,BTLNBR,BTLNBR_FLAG_W,DATE,TIME,LATITUDE,LONGITUDE,DEPTH,CTDPRS,CTDTMP,CTDSAL,CTDSAL_FLAG_W,SALNTY,SALNTY_FLAG_W,SALTREF,SALTREF_FLAG_W,CTDOXY,CTDOXY_FLAG_W,OXYGEN,OXYGEN_FLAG_W,SILCAT,SILCAT_FLAG_W,NITRAT,NITRAT_FLAG_W,NITRIT,NITRIT_FLAG_W,PHSPHT,PHSPHT_FLAG_W,CFC-11,CFC-11_FLAG_W,CFC-12,CFC-12_FLAG_W,CCL4,CCL4_FLAG_W,TCARBN,TCARBN_FLAG_W,ALKALI,ALKALI_FLAG_W,PCO2,PCO2_FLAG_W,PCO2TMP,PH_TOT,PH_TOT_FLAG_W,PH_TMP,SF6,SF6_FLAG_W,DOC,DOC_FLAG_W,TDN,TDN_FLAG_W,TRITUM,TRITUM_FLAG_W,HELIUM,HELIUM_FLAG_W,OXY_18,OXY_18_FLAG_W,BLACKC,BLACKC_FLAG_W,PIGMENTS,PIGMENTS_FLAG_W,SIGMA-THETA,SIGMA-1,SIGMA-2,SIGMA-3,SIGMA-4
,,,,,,,,,,,METERS,DBARS,ITS-90,PSS-78,,PSS-78,,G/KG,,UMOL/KG,,UMOL/KG,,UMOL/KG,,UMOL/KG,,UMOL/KG,,UMOL/KG,,PMOL/KG,,PMOL/KG,,PMOL/KG,,UMOL/KG,,UMOL/KG,,UATM@T,,DEG_C,,,DEG_C,FMOL/KG,,UMOL/KG,,UMOL/KG,,TU,,NMOL/KG,,,,,,,,,,,,
33RO20110828,   A10,     6,  1,     24,    024,2,20000101,0000,-29.2670,  13.0516, 3139,      4.1,  16.2506,  35.4915,2,  35.4945,2,  35.6619,2,    249.5,2,    249.1,2,     2.63,2,     1.27,2,     0.11,2,     0.27,2,    2.531,2,    1.527,2,    3.084,2,   2070.0,6,   2332.4,2,   -999.0,9,  -999.00,   7.9418,2,    25.18,    1.498,2,   -999.0,9,   -999.0,9, -999.000,9,-999.0000,9,-999.0000,9,-999.0000,9,-999.0000,1, 26.070, 30.401, 34.636, 38.778, 42.830
33RO20110828,   A10,     6,  1,     23,    023,2,20000101,0000,-29.2670,  13.0516, 3139,     40.5,  15.9737,  35.4722,2,  35.4694,2,  35.6366,2,    248.5,2,    247.6,2,     2.83,2,     1.95,2,     0.18,2,     0.31,2, -999.000,9, -999.000,9, -999.000,9,   -999.0,5,   -999.0,5,   -999.0,9,  -999.00,   7.9312,2,    25.19, -999.000,9,   -999.0,9,   -999.0,9, -999.000,9,-999.0000,9,-999.0000,9,-999.0000,9,-999.0000,1, 26.116, 30.452, 34.692, 38.838, 42.895
33RO20110828,   A10,     6,  1,     22,    022,2,20000101,0000,-29.2670,  13.0516, 3139,     67.1,  15.0656,  35.3572,2,  35.3676,2,  35.5343,2,    231.2,2,    234.6,2,     3.71,2,     4.98,2,     0.17,2,     0.51,2, -999.000,9, -999.000,9, -999.000,9,   -999.0,5,   -999.0,5,   -999.0,9,  -999.00,   7.8956,2,    25.29, -999.000,9,   -999.0,9,   -999.0,9, -999.000,9,-999.0000,9,-999.0000,9,-999.0000,9,-999.0000,1, 26.243, 30.596, 34.852, 39.015, 43.087
33RO20110828,   A10,     6,  1,     21,    021,2,20000101,0000,-29.2670,  13.0516, 3139,     88.7,  14.7915,  35.3572,2,  35.3621,2,  35.5288,2,    226.7,2,    224.9,2,     3.71,2,     5.85,2,     0.03,2,     0.57,2,    2.640,2,    1.572,2,    1.782,2,   -999.0,9,   2322.3,2,   -999.0,9,  -999.00,   7.8770,2,    25.25,    1.456,2,   -999.0,9,   -999.0,9, -999.000,9,-999.0000,9,-999.0000,9,-999.0000,9,-999.0000,9, 26.300, 30.657, 34.919, 39.086, 43.163
33RO20110828,   A10,     6,  1,     20,    020,2,20000101,0000,-29.2670,  13.0516, 3139,    134.0,  12.9590,  35.1266,2,  35.1288,2,  35.2945,2,    220.8,2,    220.0,2,     4.10,2,     9.27,2,     0.02,2,     0.79,2, -999.000,9, -999.000,9, -999.000,9,   -999.0,9,   2310.8,2,   -999.0,9,  -999.00,   7.8258,2,    25.28, -999.000,9,   -999.0,9,   -999.0,9, -999.000,9,-999.0000,9,-999.0000,9,-999.0000,9,-999.0000,9, 26.505, 30.899, 35.195, 39.397, 43.506
33RO20110828,   A10,     6,  1,     19,    019,2,20000101,0000,-29.2670,  13.0516, 3139,    170.7,  12.0733,  35.0299,2,  35.0366,2,  35.2018,2,    210.9,2,    210.1,2,     5.07,2,    12.20,2,     0.02,2,     0.99,2, -999.000,9, -999.000,9, -999.000,9,   -999.0,9,   2306.9,2,   -999.0,9,  -999.00,   7.7795,2,    25.29, -999.000,9,   -999.0,9,   -999.0,9, -999.000,9,-999.0000,9,-999.0000,9,-999.0000,9,-999.0000,9, 26.608, 31.020, 35.334, 39.553, 43.679
33RO20110828,   A10,     6,  1,     18,    018,2,20000101,0000,-29.2670,  13.0516, 3139,    213.7,  11.2613,  34.9449,2,  34.9464,2,  35.1112,2,    216.1,2,    215.4,2,     5.66,2,    13.66,2,     0.01,2,     1.08,2,    3.128,2,    1.756,2,    1.240,2,   -999.0,9,   2301.6,2,   -999.0,9,  -999.00,   7.7714,2,    25.32,    1.209,2,   -999.0,9,   -999.0,9, -999.000,9,-999.0000,9,-999.0000,9,-999.0000,9,-999.0000,9, 26.691, 31.120, 35.451, 39.686, 43.828
33RO20110828,   A10,     6,  1,     17,    017,2,20000101,0000,-29.2670,  13.0516, 3139,    275.0,  10.2921,  34.8343,2,  34.8362,2,  35.0004,2,    214.6,2,    214.6,2,     7.32,2,    15.91,2,     0.01,2,     1.24,2, -999.000,9, -999.000,9, -999.000,9,   -999.0,3,   2297.5,3,   -999.0,9,  -999.00,   7.7574,2,    25.30, -999.000,9,   -999.0,9,   -999.0,9, -999.000,9,-999.0000,9,-999.0000,9,-999.0000,9,-999.0000,9, 26.779, 31.230, 35.581, 39.836, 43.997
33RO20110828,   A10,     6,  1,     16,    016,2,20000101,0000,-29.2670,  13.0516, 3139,    324.2,   9.2275,  34.7032,2,  34.7083,2,  34.8720,2,    208.1,2,    207.5,2,    10.15,2,    19.03,2,     0.01,2,     1.46,2,    3.053,2,    1.671,2,    1.515,2,   -999.0,9,   2293.3,2,   -999.0,9,  -999.00,   7.7028,2,    25.31,    0.971,2,   -999.0,9,   -999.0,9, -999.000,9,-999.0000,9,-999.0000,9,-999.0000,9,-999.0000,9, 26.859, 31.333, 35.708, 39.986, 44.168
33RO20110828,   A10,     6,  1,     15,    015,2,20000101,0000,-29.2670,  13.0516, 3139,    374.1,   7.9940,  34.5473,2,  34.5483,2,  34.7112,2,    212.4,2,    216.4,2,     9.57,2,    21.18,2,     0.01,2,     1.59,2, -999.000,9, -999.000,9, -999.000,9,   -999.0,9,   2285.6,2,   -999.0,9,  -999.00,   7.6897,2,    25.31, -999.000,9,   -999.0,9,   -999.0,9, -999.000,9,-999.0000,9,-999.0000,9,-999.0000,9,-999.0000,9, 26.926, 31.429, 35.832, 40.137, 44.346
33RO20110828,   A10,     6,  1,     14,    014,2,20000101,0000,-29.2670,  13.0516, 3139,    429.1,   7.2766,  34.5038,2,  34.5066,2,  34.6693,2,    206.7,2,    206.0,2,    15.62,2,    23.92,2,     0.00,2,     1.79,2,    2.964,2,    1.571,2,    2.006,2,   -999.0,9,   2290.1,2,   -999.0,9,  -999.00,   7.6666,2,    25.26,    0.868,2,   -999.0,9,   -999.0,9, -999.000,9,-999.0000,9,-999.0000,9,-999.0000,9,-999.0000,9, 26.997, 31.518, 35.937, 40.258, 44.483
33RO20110828,   A10,     6,  1,     13,    013,2,20000101,0000,-29.2670,  13.0516, 3139,    529.5,   5.8429,  34.4098,2,  34.4121,6,  34.5743,6,    207.0,2,    205.8,2,    23.33,2,    27.14,2,     0.00,2,     2.03,2,    2.655,2,    1.373,2,    2.172,2,   -999.0,9,   2269.7,2,   -999.0,9,  -999.00,   7.6346,2,    25.33,    0.686,2,   -999.0,9,   -999.0,9, -999.000,9,-999.0000,9,-999.0000,9,-999.0000,9,-999.0000,9, 27.114, 31.670, 36.124, 40.478, 44.735
33RO20110828,   A10,     6,  1,     12,    012,2,20000101,0000,-29.2670,  13.0516, 3139,    628.9,   4.9635,  34.4058,2,  34.4358,2,  34.5982,2,    196.7,2,    195.7,2,    33.88,2,    29.29,2,     0.00,2,     2.21,2,    2.081,2,    1.047,2,    1.959,2,   -999.0,9,   2300.2,2,   -999.0,9,  -999.00,   7.6091,2,    25.28,    0.492,2,   -999.0,9,   -999.0,9, -999.000,9,-999.0000,9,-999.0000,9,-999.0000,9,-999.0000,9, 27.238, 31.816, 36.291, 40.666, 44.942
33RO20110828,   A10,     6,  1,     11,    011,2,20000101,0000,-29.2670,  13.0516, 3139,    739.0,   4.3688,  34.4572,2,  34.4627,2,  34.6252,2,    181.2,2,    181.6,2,    46.37,2,    31.34,2,     0.00,2,     2.36,2,    1.370,2,    0.681,2,    1.418,2,   -999.0,9,   2310.6,2,   -999.0,9,  -999.00,   7.5827,2,    25.31,    0.289,2,   -999.0,9,   -999.0,9, -999.000,9,-999.0000,9,-999.0000,9,-999.0000,9,-999.0000,9, 27.326, 31.919, 36.409, 40.798, 45.088
33RO20110828,   A10,     6,  1,     10,    010,2,20000101,0000,-29.2670,  13.0516, 3139,    847.8,   3.4844,  34.4317,2,  34.4354,2,  34.5978,2,    185.5,2,    185.9,2,    50.67,2,    32.31,2,     0.01,2,     2.42,2,    1.201,2,    0.582,2,    1.324,2,   -999.0,9,   2316.0,2,   -999.0,9,  -999.00,   7.5703,2,    25.35,    0.215,2,   -999.0,9,   -999.0,9, -999.000,9,-999.0000,9,-999.0000,9,-999.0000,9,-999.0000,9, 27.395, 32.011, 36.524, 40.935, 45.247
33RO20110828,   A10,     6,  1,      9,    009,2,20000101,0000,-29.2670,  13.0516, 3139,    999.8,   3.3398,  34.5634,2,  34.5662,2,  34.7292,2,    177.8,2,    177.8,2,    50.66,2,    31.72,2,     0.01,2,     2.38,2,    0.325,2,    0.151,2,    0.483,2,   -999.0,9,   2318.1,2,   -999.0,9,  -999.00,   7.5709,2,    25.37,    0.044,2,   -999.0,9,   -999.0,9, -999.000,9,-999.0000,9,-999.0000,9,-999.0000,9,-999.0000,9, 27.514, 32.133, 36.649, 41.064, 45.378
33RO20110828,   A10,     6,  1,      8,    008,2,20000101,0000,-29.2670,  13.0516, 3139,   1174.0,   3.2456,  34.6598,2,  34.6623,2,  34.8258,2,    184.3,2,    184.3,2,    49.49,2,    29.97,2,     0.01,2,     2.24,2,    0.135,2,    0.065,2,    0.210,2,   -999.0,9,   2320.5,2,   -999.0,9,  -999.00,   7.5846,2,    25.32,    0.000,2,   -999.0,9,   -999.0,9, -999.000,9,-999.0000,9,-999.0000,9,-999.0000,9,-999.0000,9, 27.601, 32.222, 36.740, 41.157, 45.473
33RO20110828,   A10,     6,  1,      7,    007,2,20000101,0000,-29.2670,  13.0516, 3139,   1449.1,   3.2457,  34.7884,2,  34.7954,2,  34.9595,2,    201.9,2,    202.4,2,    42.16,2,    26.64,2,     0.00,2,     1.97,2,    0.028,2,    0.015,2,    0.060,2,   -999.0,9,   2321.1,2,   -999.0,9,  -999.00,   7.6398,2,    25.33,    0.000,2,   -999.0,9,   -999.0,9, -999.000,9,-999.0000,9,-999.0000,9,-999.0000,9,-999.0000,9, 27.709, 32.330, 36.848, 41.263, 45.579
33RO20110828,   A10,     6,  1,      6,    006,2,20000101,0000,-29.2670,  13.0516, 3139,   1722.8,   3.1748,  34.8505,2,  34.8532,2,  35.0176,2,    216.6,2,    217.4,2,    38.35,2,    24.50,2,     0.01,2,     1.80,2,    0.011,2,    0.006,2,    0.024,2,   -999.0,9,   2322.5,2,   -999.0,9,  -999.00,   7.6569,2,    25.33,    0.000,2,   -999.0,9,   -999.0,9, -999.000,9,-999.0000,9,-999.0000,9,-999.0000,9,-999.0000,9, 27.764, 32.387, 36.907, 41.324, 45.642
33RO20110828,   A10,     6,  1,      5,    005,2,20000101,0000,-29.2670,  13.0516, 3139,   2022.7,   2.9907,  34.8710,2,  34.8737,2,  35.0382,2,    225.7,2,    225.0,2,    39.82,2,    23.52,2,     0.00,2,     1.74,2,    0.010,2,    0.006,2,    0.018,2,   -999.0,9,   2327.7,2,   -999.0,9,  -999.00,   7.6742,2,    25.36,    0.000,2,   -999.0,9,   -999.0,9, -999.000,9,-999.0000,9,-999.0000,9,-999.0000,9,-999.0000,9, 27.799, 32.428, 36.953, 41.376, 45.698
33RO20110828,   A10,     6,  1,      4,    004,2,20000101,0000,-29.2670,  13.0516, 3139,   2326.7,   2.7776,  34.8721,2,  34.8818,2,  35.0463,2,    230.1,2,    229.9,2,    43.53,2,    23.32,2,     0.00,2,     1.72,2,    0.005,2,    0.003,2,    0.009,2,   -999.0,9,   2332.6,2,   -999.0,9,  -999.00,   7.6786,2,    25.37,    0.000,2,   -999.0,9,   -999.0,9, -999.000,9,-999.0000,9,-999.0000,9,-999.0000,9,-999.0000,9, 27.827, 32.462, 36.993, 41.422, 45.751
33RO20110828,   A10,     6,  1,      3,    003,2,20000101,0000,-29.2670,  13.0516, 3139,   2621.0,   2.6076,  34.8661,2,  34.8705,2,  35.0350,2,    231.3,2,    231.4,2,    47.72,2,    23.42,2,     0.01,2,     1.73,2,    0.005,2,    0.003,2,    0.009,2,   -999.0,9,   2332.0,2,   -999.0,9,  -999.00,   7.6786,2,    25.33,    0.000,2,   -999.0,9,   -999.0,9, -999.000,9,-999.0000,9,-999.0000,9,-999.0000,9,-999.0000,9, 27.835, 32.475, 37.012, 41.446, 45.779
33RO20110828,   A10,     6,  1,      2,    002,2,20000101,0000,-29.2670,  13.0516, 3139,   2923.1,   2.4957,  34.8686,2,  34.8705,2,  35.0349,2,    231.3,2,    231.1,2,    50.75,2,    23.52,2,     0.00,2,     1.73,2,    0.004,2,    0.003,2,    0.003,2,   -999.0,9,   2324.3,2,   -999.0,9,  -999.00,   7.6816,2,    25.31,    0.000,2,   -999.0,9,   -999.0,9, -999.000,9,-999.0000,9,-999.0000,9,-999.0000,9,-999.0000,9, 27.846, 32.491, 37.031, 41.469, 45.806
33RO20110828,   A10,     6,  1,      1,    001,2,20000101,0000,-29.2670,  13.0516, 3139,   3160.3,   2.3674,  34.8603,2,  34.8666,2,  35.0310,2,    229.6,2,    229.8,2,    55.53,2,    23.81,2,     0.01,2,     1.76,2,    0.005,2,    0.005,2,    0.012,2,   -999.0,3,   2344.3,3,   -999.0,9,  -999.00,   7.6938,2,    25.40,    0.000,2,   -999.0,9,   -999.0,9, -999.000,9,-999.0000,9,-999.0000,9,-999.0000,9,-999.0000,9, 27.856, 32.504, 37.049, 41.490, 45.831