BOTTLE,20130715NOAA
EXPOCODE,SECT_ID,STNNBR,CASTNO,SAMPNO,BTLNBR,BTLNBR_FLAG_W,DATE,TIME,LATITUDE,LONGITUDE,DEPTH,CTDPRS,CTDTMP,CTDSAL,CTDSAL_FLAG_W,SALNTY,SALNTY_FLAG_W,SALTREF,SALTREF_FLAG_W,CTDOXY,CTDOXY_FLAG_W,OXYGEN,OXYGEN_FLAG_W,SILCAT,SILCAT_FLAG_W,NITRAT,NITRAT_FLAG_W,NITRIT,NITRIT_FLAG_W,PHSPHT,PHSPHT_FLAG_W,CFC-11,CFC-11_FLAG_W,CFC-12,CFC-12_FLAG_W,CCL4,CCL4_FLAG_W,TCARBN,TCARBN_FLAG_W,ALKALI,ALKALI_FLAG_W,PCO2,PCO2_FLAG_W,PCO2TMP,PH_TOT,PH_TOT_FLAG_W,PH_TMP,SF6,SF6_FLAG_W,DOC,DOC_FLAG_W,TDN,TDN_FLAG_W,TRITUM,TRITUM_FLAG_W,HELIUM,HELIUM_FLAG_W,OXY_18,OXY_18_FLAG_W,BLACKC,BLACKC_FLAG_W,PIGMENTS,PIGMENTS_FLAG_W,SIGMA-THETA,SIGMA-1,SIGMA-2,SIGMA-3,SIGMA-4
,,,,,,,,,,,METERS,DBARS,ITS-90,PSS-78,,PSS-78,,G/KG,,UMOL/KG,,UMOL/KG,,UMOL/KG,,UMOL/KG,,UMOL/KG,,UMOL/KG,,PMOL/KG,,PMOL/KG,,PMOL/KG,,UMOL/KG,,UMOL/KG,,UATM@T,,DEG_C,,,DEG_C,FMOL/KG,,UMOL/KG,,UMOL/KG,,TU,,NMOL/KG,,,,,,,,,,,,
33RO20110828,   A10,    66,  1,     24,    024,2,20000101,0000,-30.0001, -22.7779, 4655,      5.1,  19.2584,  36.2829,2,  36.2831,2,  36.4541,2,    229.2,2,    229.4,2,     1.36,2,     0.19,2,     0.01,2,     0.11,2,    2.169,2,    1.324,2,    2.425,3,   2092.3,6,   2378.5,2,   -999.0,9,  -999.00,   7.9449,2,    25.59,    1.380,2,   -999.0,1,   -999.0,1, -999.000,1,-999.0000,1,-999.0000,1,-999.0000,1,-999.0000,1, 25.936, 30.211, 34.393, 38.483, 42.486
33RO20110828,   A10,    66,  1,     23,    023,2,20000101,0000,-30.0001, -22.7779, 4655,     49.4,  19.2092,  36.2850,2,  36.2849,2,  36.4560,2,    229.2,2,    229.5,2,     1.46,2,     0.19,2,     0.01,2,     0.12,2,    2.170,2,    1.323,2,    2.240,3,   2089.9,2,   2380.4,2,   -999.0,9,  -999.00,   7.9511,2,    25.63,    1.354,2,   -999.0,1,   -999.0,1, -999.000,1,-999.0000,1,-999.0000,1,-999.0000,1,-999.0000,9, 25.952, 30.228, 34.411, 38.502, 42.505
33RO20110828,   A10,    66,  1,     22,    022,2,20000101,0000,-30.0001, -22.7779, 4655,     88.0,  19.2000,  36.2820,2,  36.2825,2,  36.4536,2,    228.6,2,    228.8,2,     1.46,2,     0.19,2,     0.01,2,     0.12,2,    2.172,2,    1.323,2,    2.528,3,   2091.0,2,   2380.9,2,   -999.0,9,  -999.00,   7.9272,2,    25.60,    1.356,2,   -999.0,1,   -999.0,1, -999.000,1,-999.0000,1,-999.0000,1,-999.0000,1,-999.0000,9, 25.954, 30.231, 34.414, 38.505, 42.509
33RO20110828,   A10,    66,  1,     21,    021,2,20000101,0000,-30.0001, -22.7779, 4655,    140.7,  18.6617,  36.1413,2,  36.1353,2,  36.3057,2,    228.2,2,    227.7,2,     1.56,2,     0.39,2,     0.09,2,     0.15,2,    2.218,2,    1.358,2,    1.616,3,   2091.4,2,   2370.1,2,   -999.0,9,  -999.00,   7.9260,2,    25.56,    1.381,2,   -999.0,1,   -999.0,1, -999.000,1,-999.0000,1,-999.0000,1,-999.0000,1,-999.0000,1, 25.982, 30.268, 34.460, 38.561, 42.573
33RO20110828,   A10,    66,  1,     20,    020,2,20000101,0000,-30.0001, -22.7779, 4655,    184.8,  16.7645,  35.7424,2,  35.7501,2,  35.9187,2,    216.7,2,    213.5,2,     2.15,2,     2.93,2,     0.02,2,     0.32,2,    2.465,2,    1.475,2,    0.912,3,   2103.5,2,   2344.4,2,   -999.0,9,  -999.00,   7.8839,2,    25.61,    1.343,2,   -999.0,1,   -999.0,1, -999.000,1,-999.0000,1,-999.0000,1,-999.0000,1,-999.0000,9, 26.153, 30.474, 34.699, 38.831, 42.874
33RO20110828,   A10,    66,  1,     19,    019,2,20000101,0000,-30.0001, -22.7779, 4655,    269.7,  14.4130,  35.3732,2,  35.3723,2,  35.5391,2,    211.0,2,    213.7,2,     2.83,2,     6.54,2,     0.01,2,     0.51,2,    2.773,2,    1.621,2,    0.715,3,   2112.8,2,   2322.5,2,   -999.0,9,  -999.00,   7.8322,2,    25.62,    1.341,2,   -999.0,1,   -999.0,1, -999.000,1,-999.0000,1,-999.0000,1,-999.0000,1,-999.0000,9, 26.395, 30.760, 35.029, 39.203, 43.287
33RO20110828,   A10,    66,  1,     18,    018,2,20000101,0000,-30.0001, -22.7779, 4655,    334.2,  13.3105,  35.2227,2,  35.2235,2,  35.3896,2,    213.2,2,    211.8,2,     3.61,2,     9.37,2,     0.01,2,     0.66,2,    2.906,2,    1.671,2,    0.867,3,   2120.2,2,   2314.9,2,   -999.0,9,  -999.00,   7.8155,2,    25.62,    1.324,2,   -999.0,1,   -999.0,1, -999.000,1,-999.0000,1,-999.0000,1,-999.0000,1,-999.0000,9, 26.513, 30.900, 35.189, 39.385, 43.488
33RO20110828,   A10,    66,  1,     17,    017,2,20000101,0000,-30.0001, -22.7779, 4655,    470.6,  10.9095,  34.9164,2,  34.9164,2,  35.0810,2,    200.7,2,    204.5,2,     6.34,2,    15.71,2,     0.01,2,     1.03,2,    3.098,2,    1.701,2,    1.145,3,   2140.8,2,   2301.4,2,   -999.0,9,  -999.00,   7.7365,2,    25.60,    1.096,2,   -999.0,1,   -999.0,1, -999.000,1,-999.0000,1,-999.0000,1,-999.0000,1,-999.0000,9, 26.737, 31.175, 35.514, 39.756, 43.905
33RO20110828,   A10,    66,  1,     16,    016,2,20000101,0000,-30.0001, -22.7779, 4655,    569.4,   9.1476,  34.6992,2,  34.6984,2,  34.8620,2,    200.1,2,    199.9,2,     9.66,2,    20.30,2,     0.01,2,     1.33,2,    3.107,2,    1.653,2,    1.535,3,   2155.0,2,   2292.9,2,   -999.0,9,  -999.00,   7.6899,2,    25.63,    0.909,2,   -999.0,1,   -999.0,1, -999.000,1,-999.0000,1,-999.0000,1,-999.0000,1,-999.0000,9, 26.868, 31.345, 35.723, 40.003, 44.187
33RO20110828,   A10,    66,  1,     15,    015,2,20000101,0000,-30.0001, -22.7779, 4655,    662.4,   7.2525,  34.5057,2,  34.5070,2,  34.6697,2,    200.1,2,    198.4,2,    14.15,2,    24.40,2,     0.01,2,     1.63,2,    2.990,2,    1.540,2,    1.835,3,   2170.9,2,   2285.7,2,   -999.0,9,  -999.00,   7.6291,2,    25.63,    0.796,2,   -999.0,1,   -999.0,1, -999.000,1,-999.0000,1,-999.0000,1,-999.0000,1,-999.0000,9, 27.004, 31.526, 35.947, 40.269, 44.494
33RO20110828,   A10,    66,  1,     14,    014,2,20000101,0000,-30.0001, -22.7779, 4655,    770.9,   5.5622,  34.3553,2,  34.3559,2,  34.5179,2,    213.6,2,    214.5,2,    19.04,2,    26.94,2,     0.01,2,     1.83,2,    3.015,2,    1.521,2,    2.595,3,   2177.1,2,   2284.8,2,   -999.0,9,  -999.00,   7.6241,2,    25.68,    0.710,2,   -999.0,1,   -999.0,1, -999.000,1,-999.0000,1,-999.0000,1,-999.0000,1,-999.0000,9, 27.106, 31.670, 36.132, 40.493, 44.757
33RO20110828,   A10,    66,  1,     13,    013,2,20000101,0000,-30.0001, -22.7779, 4655,    870.2,   4.5299,  34.3059,2,  34.3065,2,  34.4682,2,    218.3,2,    217.9,2,    25.28,2,    28.70,2,     0.01,2,     2.00,2,    2.702,2,    1.339,2,    2.745,3,   2184.3,2,   2288.6,2,   -999.0,9,  -999.00,   7.6093,2,    25.71,    0.583,2,   -999.0,1,   -999.0,1, -999.000,1,-999.0000,1,-999.0000,1,-999.0000,1,-999.0000,9, 27.186, 31.776, 36.264, 40.650, 44.938
33RO20110828,   A10,    66,  1,     12,    012,2,20000101,0000,-30.0001, -22.7779, 4655,   1019.1,   3.7660,  34.3395,2,  34.3406,2,  34.5026,2,    206.4,2,    205.9,2,    36.22,2,    30.56,2,     0.01,2,     2.21,2,    1.885,2,    0.921,2,    2.201,3,   2204.4,2,   2298.5,2,   -999.0,9,  -999.00,   7.5747,2,    25.68,    0.346,2,   -999.0,1,   -999.0,1, -999.000,1,-999.0000,1,-999.0000,1,-999.0000,1,-999.0000,9, 27.293, 31.903, 36.410, 40.816, 45.121
33RO20110828,   A10,    66,  1,     11,    011,2,20000101,0000,-30.0001, -22.7779, 4655,   1299.3,   3.1690,  34.5169,2,  34.5169,2,  34.6797,2,    185.6,2,    184.4,2,    52.90,2,    31.33,2,     0.01,2,     2.42,2,    0.573,2,    0.275,2,    0.924,3,   2229.4,6,   2318.2,2,   -999.0,9,  -999.00,   7.5621,2,    25.66,    0.077,2,   -999.0,1,   -999.0,1, -999.000,1,-999.0000,1,-999.0000,1,-999.0000,1,-999.0000,9, 27.492, 32.118, 36.639, 41.059, 45.378
33RO20110828,   A10,    66,  1,     10,    010,2,20000101,0000,-30.0001, -22.7779, 4655,   1590.7,   2.8896,  34.6750,2,  34.6772,2,  34.8407,2,    195.1,2,    195.3,2,    55.14,2,    28.60,2,     0.01,2,     2.27,2,    0.158,2,    0.076,2,    0.378,3,   2224.6,2,   2326.2,2,   -999.0,9,  -999.00,   7.5877,2,    25.64,    0.040,2,   -999.0,1,   -999.0,1, -999.000,1,-999.0000,1,-999.0000,1,-999.0000,1,-999.0000,9, 27.648, 32.280, 36.808, 41.234, 45.560
33RO20110828,   A10,    66,  1,      9,    009,2,20000101,0000,-30.0001, -22.7779, 4655,   1900.6,   2.7585,  34.7790,2,  34.7789,6,  34.9429,6,    211.8,2,    213.5,2,    51.23,2,    26.35,2,     0.01,2,     2.04,2,    0.044,2,    0.023,2,    0.182,3,   2212.9,2,   2327.4,2,   -999.0,9,  -999.00,   7.6273,2,    25.69,    0.006,2,   -999.0,1,   -999.0,1, -999.000,1,-999.0000,1,-999.0000,1,-999.0000,1,-999.0000,9, 27.743, 32.378, 36.910, 41.339, 45.668
33RO20110828,   A10,    66,  1,      8,    008,2,20000101,0000,-30.0001, -22.7779, 4655,   2197.2,   2.6903,  34.8354,2,  34.8491,2,  35.0134,2,    227.9,2,    227.6,2,    47.13,2,    23.81,2,     0.01,2,     1.87,2,    0.018,2,    0.008,2,    0.130,3,   2200.7,2,   2328.5,2,   -999.0,9,  -999.00,   7.6499,2,    25.64,    0.000,2,   -999.0,1,   -999.0,1, -999.000,9,-999.0000,1,-999.0000,9,-999.0000,1,-999.0000,9, 27.807, 32.445, 36.978, 41.409, 45.740
33RO20110828,   A10,    66,  1,      7,    007,2,20000101,0000,-30.0001, -22.7779, 4655,   2600.7,   2.7334,  34.8831,2,  34.8837,2,  35.0482,2,    241.4,2,    240.6,2,    40.20,2,    21.76,2,     0.01,2,     1.68,2,    0.007,2,    0.004,2,    0.096,3,   2189.0,2,   2326.2,2,   -999.0,9,  -999.00,   7.6785,2,    25.66,    0.000,2,   -999.0,1,   -999.0,1, -999.000,1,-999.0000,1,-999.0000,9,-999.0000,1,-999.0000,9, 27.835, 32.472, 37.005, 41.435, 45.765
33RO20110828,   A10,    66,  1,      6,    006,2,20000101,0000,-30.0001, -22.7779, 4655,   3050.2,   2.6571,  34.9030,2,  34.9064,2,  35.0710,2,    248.8,2,    249.2,2,    38.06,2,    20.78,2,     0.01,2,     1.60,2,    0.004,2,    0.003,2,    0.065,3,   2182.6,2,   2326.0,2,   -999.0,9,  -999.00,   7.6838,2,    25.59,    0.000,2,   -999.0,1,   -999.0,1, -999.000,9,-999.0000,1,-999.0000,9,-999.0000,1,-999.0000,9, 27.863, 32.503, 37.039, 41.473, 45.806
33RO20110828,   A10,    66,  1,      5,    005,2,20000101,0000,-30.0001, -22.7779, 4655,   3051.4,   2.6555,  34.9030,2,-999.0000,9,-999.0000,9,   -999.0,9,   -999.0,9,  -999.00,9,  -999.00,9,  -999.00,9,  -999.00,9, -999.000,9, -999.000,9, -999.000,9,   -999.0,9,   -999.0,9,   -999.0,9,  -999.00,-999.0000,9,  -999.00, -999.000,9,   -999.0,1,   -999.0,1, -999.000,9,-999.0000,9,-999.0000,9,-999.0000,1,-999.0000,9, 27.860, 32.501, 37.037, 41.470, 45.803
33RO20110828,   A10,    66,  1,      4,    004,2,20000101,0000,-30.0001, -22.7779, 4655,   3299.9,   2.4718,  34.8896,2,  34.8906,2,  35.0551,2,    248.2,2,    247.7,2,    43.52,2,    21.47,2,     0.01,2,     1.67,2,    0.005,2,    0.003,2,    0.060,3,   2186.3,2,   2328.9,2,   -999.0,9,  -999.00,   7.6975,2,    25.61,    0.019,2,   -999.0,1,   -999.0,1, -999.000,9,-999.0000,1,-999.0000,9,-999.0000,9,-999.0000,9, 27.868, 32.514, 37.055, 41.495, 45.833
33RO20110828,   A10,    66,  1,      3,    003,2,20000101,0000,-30.0001, -22.7779, 4655,   3699.9,   1.9497,  34.8390,2,  34.8419,2,  35.0062,2,    240.7,2,    241.5,2,    62.75,2,    24.01,2,     0.01,2,     1.99,2,    0.009,2,    0.005,2,    0.072,3,   2206.4,2,   2340.6,2,   -999.0,9,  -999.00,   7.6613,2,    25.58,    0.153,2,   -999.0,1,   -999.0,1, -999.000,1,-999.0000,1,-999.0000,9,-999.0000,9,-999.0000,9, 27.872, 32.534, 37.091, 41.545, 45.898
33RO20110828,   A10,    66,  1,      2,    002,2,20000101,0000,-30.0001, -22.7779, 4655,   4200.4,   1.3448,  34.7719,2,  34.7735,2,  34.9374,2,    229.0,2,    229.7,2,    88.90,2,    27.62,2,     0.01,2,     2.44,2,    0.044,2,    0.024,2,    0.128,3,   2234.0,2,   2353.4,2,   -999.0,9,  -999.00,   7.6279,2,    25.52,    0.122,2,   -999.0,1,   -999.0,1, -999.000,1,-999.0000,1,-999.0000,9,-999.0000,9,-999.0000,9, 27.863, 32.544, 37.119, 41.591, 45.961
33RO20110828,   A10,    66,  1,      1,    001,2,20000101,0000,-30.0001, -22.7779, 4655,   4665.8,   1.2888,  34.7600,2,  34.7588,6,  34.9227,6,    227.7,2,    226.9,2,    93.69,2,    27.72,2,     0.01,2,     2.52,2,    0.057,2,    0.027,2,    0.172,3,   2237.9,6,   2356.7,2,   -999.0,9,  -999.00,   7.6337,2,    25.54,    0.145,2,   -999.0,1,   -999.0,1, -999.000,1,-999.0000,1,-999.0000,9,-999.0000,9,-999.0000,9, 27.861, 32.545, 37.123, 41.598, 45.971