BOTTLE,20130715NOAA
EXPOCODE,SECT_ID,STNNBR,CASTNO,SAMPNO,BTLNBR,BTLNBR_FLAG_W,DATE,TIME,LATITUDE,LONGITUDE,DEPTH,CTDPRS,CTDTMP,CTDSAL,CTDSAL_FLAG_W,SALNTY,SALNTY_FLAG_W,SALTREF,SALTREF_FLAG_W,CTDOXY,CTDOXY_FLAG_W,OXYGEN,OXYGEN_FLAG_W,SILCAT,SILCAT_FLAG_W,NITRAT,NITRAT_FLAG_W,NITRIT,NITRIT_FLAG_W,PHSPHT,PHSPHT_FLAG_W,CFC-11,CFC-11_FLAG_W,CFC-12,CFC-12_FLAG_W,CCL4,CCL4_FLAG_W,TCARBN,TCARBN_FLAG_W,ALKALI,ALKALI_FLAG_W,PCO2,PCO2_FLAG_W,PCO2TMP,PH_TOT,PH_TOT_FLAG_W,PH_TMP,SF6,SF6_FLAG_W,DOC,DOC_FLAG_W,TDN,TDN_FLAG_W,TRITUM,TRITUM_FLAG_W,HELIUM,HELIUM_FLAG_W,OXY_18,OXY_18_FLAG_W,BLACKC,BLACKC_FLAG_W,PIGMENTS,PIGMENTS_FLAG_W,SIGMA-THETA,SIGMA-1,SIGMA-2,SIGMA-3,SIGMA-4
,,,,,,,,,,,METERS,DBARS,ITS-90,PSS-78,,PSS-78,,G/KG,,UMOL/KG,,UMOL/KG,,UMOL/KG,,UMOL/KG,,UMOL/KG,,UMOL/KG,,PMOL/KG,,PMOL/KG,,PMOL/KG,,UMOL/KG,,UMOL/KG,,UATM@T,,DEG_C,,,DEG_C,FMOL/KG,,UMOL/KG,,UMOL/KG,,TU,,NMOL/KG,,,,,,,,,,,,
33RO20110828,   A10,    55,  1,     24,    024,3,20000101,0000,-30.0009, -14.4264, 3060,      4.3,  18.1663,  35.9628,2,-999.0000,5,-999.0000,5,   -999.0,9,   -999.0,5,  -999.00,5,  -999.00,5,  -999.00,5,  -999.00,5, -999.000,9, -999.000,9, -999.000,9,   -999.0,9,   -999.0,9,   -999.0,9,  -999.00,-999.0000,9,  -999.00, -999.000,9,   -999.0,9,   -999.0,9, -999.000,9,-999.0000,9,-999.0000,9,-999.0000,9,-999.0000,1, 25.969, 30.264, 34.464, 38.573, 42.593
33RO20110828,   A10,    55,  1,     23,    023,2,20000101,0000,-30.0009, -14.4264, 3060,     39.4,  18.1134,  35.9592,2,  35.9594,2,  36.1290,2,    232.6,2,    223.3,2,     1.17,2,     0.00,2,     0.01,2,     0.15,2,    2.322,2,    1.400,2,    4.763,3,   2083.1,6,   2358.6,2,   -999.0,9,  -999.00,   7.9368,2,    25.71,    1.480,2,   -999.0,9,   -999.0,9, -999.000,9,-999.0000,9,-999.0000,9,-999.0000,9,-999.0000,9, 25.981, 30.277, 34.478, 38.588, 42.609
33RO20110828,   A10,    55,  1,     22,    022,2,20000101,0000,-30.0009, -14.4264, 3060,     63.9,  18.1043,  35.9585,2,  35.9592,2,  36.1288,2,    233.2,2,    237.1,2,     1.27,2,     0.00,2,     0.01,2,     0.16,2,    2.318,2,    1.399,2,    4.553,3,   2081.8,2,   2358.5,3,   -999.0,9,  -999.00,   7.9201,2,    25.61,    1.443,2,   -999.0,9,   -999.0,9, -999.000,9,-999.0000,9,-999.0000,9,-999.0000,9,-999.0000,9, 25.984, 30.280, 34.482, 38.592, 42.613
33RO20110828,   A10,    55,  1,     21,    021,2,20000101,0000,-30.0009, -14.4264, 3060,     88.9,  17.3648,  35.8484,2,  35.8486,2,  36.0176,2,    234.4,2,    236.8,2,     1.27,2,     0.20,2,     0.05,2,     0.19,2,    2.391,2,    1.431,2,    3.101,3,   2082.7,2,   2347.8,2,   -999.0,9,  -999.00,   7.9056,2,    25.77,    1.393,2,   -999.0,9,   -999.0,9, -999.000,9,-999.0000,9,-999.0000,9,-999.0000,9,-999.0000,9, 26.082, 30.391, 34.605, 38.727, 42.760
33RO20110828,   A10,    55,  1,     20,    020,2,20000101,0000,-30.0009, -14.4264, 3060,    135.5,  16.1407,  35.6429,2,  35.6440,2,  35.8121,2,    225.8,2,    226.1,2,     1.85,2,     2.73,2,     0.06,2,     0.35,2,    2.530,2,    1.510,2,    1.639,3,   2093.2,2,   2336.7,2,   -999.0,9,  -999.00,   7.8780,2,    25.79,    1.431,2,   -999.0,9,   -999.0,9, -999.000,9,-999.0000,9,-999.0000,9,-999.0000,9,-999.0000,1, 26.216, 30.547, 34.784, 38.927, 42.980
33RO20110828,   A10,    55,  1,     19,    019,2,20000101,0000,-30.0009, -14.4264, 3060,    171.2,  14.8962,  35.4293,2,  35.4310,2,  35.5981,2,    220.9,2,    220.6,2,     2.34,2,     4.98,2,     0.02,2,     0.51,2,    2.705,2,    1.590,2,    0.999,3,   2101.3,2,   2325.4,2,   -999.0,9,  -999.00,   7.8489,2,    25.77,    1.452,2,   -999.0,9,   -999.0,9, -999.000,9,-999.0000,9,-999.0000,9,-999.0000,9,-999.0000,1, 26.333, 30.688, 34.947, 39.113, 43.188
33RO20110828,   A10,    55,  1,     18,    018,2,20000101,0000,-30.0009, -14.4264, 3060,    215.2,  14.0329,  35.3191,2,  35.3186,2,  35.4852,2,    218.0,2,    221.2,2,     2.73,2,     6.64,2,     0.01,2,     0.61,2,    2.833,2,    1.643,2,    0.980,3,   2107.9,2,   2319.4,2,   -999.0,9,  -999.00,   7.8306,2,    25.75,    1.379,2,   -999.0,9,   -999.0,9, -999.000,9,-999.0000,9,-999.0000,9,-999.0000,9,-999.0000,9, 26.433, 30.805, 35.081, 39.262, 43.352
33RO20110828,   A10,    55,  1,     17,    017,2,20000101,0000,-30.0009, -14.4264, 3060,    275.9,  13.3409,  35.2380,2,  35.2383,2,  35.4044,2,    219.0,2,    220.2,2,     2.93,2,     8.30,2,     0.01,2,     0.71,2,    2.899,2,    1.635,2,    1.047,3,   2113.9,2,   2313.7,2,   -999.0,9,  -999.00,   7.8108,2,    25.71,    1.346,2,   -999.0,9,   -999.0,9, -999.000,9,-999.0000,9,-999.0000,9,-999.0000,9,-999.0000,9, 26.516, 30.902, 35.191, 39.386, 43.488
33RO20110828,   A10,    55,  1,     16,    016,2,20000101,0000,-30.0009, -14.4264, 3060,    328.0,  12.5836,  35.1437,2,  35.1451,2,  35.3109,2,    217.8,2,    217.7,2,     3.61,2,    10.25,2,     0.01,2,     0.84,2,    3.030,2,    1.706,2,    1.016,3,   2120.0,2,   2308.8,2,   -999.0,9,  -999.00,   7.7922,2,    25.74,    1.375,2,   -999.0,9,   -999.0,9, -999.000,9,-999.0000,9,-999.0000,9,-999.0000,9,-999.0000,9, 26.597, 30.999, 35.303, 39.512, 43.628
33RO20110828,   A10,    55,  1,     15,    015,2,20000101,0000,-30.0009, -14.4264, 3060,    375.6,  11.9990,  35.0606,2,  35.0514,2,  35.2167,2,    213.8,2,    213.4,2,     4.49,2,    12.01,2,     0.01,2,     0.97,2,    3.101,2,    1.724,2,    0.999,3,   2125.8,2,   2306.3,2,   -999.0,9,  -999.00,   7.7757,2,    25.77,    1.246,2,   -999.0,9,   -999.0,9, -999.000,9,-999.0000,9,-999.0000,9,-999.0000,9,-999.0000,9, 26.639, 31.053, 35.369, 39.589, 43.717
33RO20110828,   A10,    55,  1,     14,    014,2,20000101,0000,-30.0009, -14.4264, 3060,    430.3,  11.2545,  34.9619,2,  34.9611,2,  35.1260,2,    212.4,2,    212.0,2,     5.37,2,    13.96,2,     0.01,2,     1.09,2,    3.150,2,    1.729,2,    1.109,3,   2133.4,2,   -999.0,5,   -999.0,9,  -999.00,   7.7563,2,    25.75,    1.230,2,   -999.0,9,   -999.0,9, -999.000,9,-999.0000,9,-999.0000,9,-999.0000,9,-999.0000,9, 26.709, 31.139, 35.470, 39.706, 43.848
33RO20110828,   A10,    55,  1,     13,    013,2,20000101,0000,-30.0009, -14.4264, 3060,    529.9,   9.1814,  34.6998,2,  34.6992,2,  34.8628,2,    209.8,2,    208.1,2,     8.69,2,    18.84,2,     0.01,2,     1.46,2,    3.236,2,    1.716,2,    1.410,3,   2148.6,2,   2291.6,2,   -999.0,9,  -999.00,-999.0000,5,  -999.00,    1.067,2,   -999.0,9,   -999.0,9, -999.000,9,-999.0000,9,-999.0000,9,-999.0000,9,-999.0000,9, 26.863, 31.339, 35.715, 39.995, 44.179
33RO20110828,   A10,    55,  1,     12,    012,2,20000101,0000,-30.0009, -14.4264, 3060,    620.2,   7.5261,  34.5153,2,  34.5089,2,  34.6716,2,    211.2,2,    209.7,2,    12.21,2,    23.44,2,     0.01,2,     1.75,2,    3.263,2,    1.689,2,    1.931,3,   2161.3,2,   2285.8,2,   -999.0,9,  -999.00,   7.6531,2,    25.76,    0.937,2,   -999.0,9,   -999.0,9, -999.000,9,-999.0000,9,-999.0000,9,-999.0000,9,-999.0000,9, 26.967, 31.482, 35.896, 40.212, 44.431
33RO20110828,   A10,    55,  1,     11,    011,2,20000101,0000,-30.0009, -14.4264, 3060,    719.8,   5.8816,  34.3618,2,  34.3619,2,  34.5239,2,    219.7,2,    219.9,2,    16.21,2,    26.47,2,     0.01,2,     1.95,2,    3.285,2,    1.664,2,    2.439,3,   2171.0,2,   2280.3,2,   -999.0,9,  -999.00,   7.6308,2,    25.75,    0.886,2,   -999.0,9,   -999.0,9, -999.000,9,-999.0000,9,-999.0000,9,-999.0000,9,-999.0000,9, 27.071, 31.627, 36.081, 40.435, 44.691
33RO20110828,   A10,    55,  1,     10,    010,2,20000101,0000,-30.0009, -14.4264, 3060,    860.5,   4.3178,  34.2930,2,  34.2940,2,  34.4557,2,    220.6,2,    222.3,2,    25.88,2,    29.59,2,     0.01,2,     2.18,2,    2.755,2,    1.366,2,    2.461,3,   2186.1,2,   2287.4,2,   -999.0,9,  -999.00,   7.6119,2,    25.72,    0.599,2,   -999.0,9,   -999.0,9, -999.000,9,-999.0000,9,-999.0000,9,-999.0000,9,-999.0000,9, 27.198, 31.794, 36.287, 40.679, 44.972
33RO20110828,   A10,    55,  1,      9,    009,2,20000101,0000,-30.0009, -14.4264, 3060,   1010.0,   3.5779,  34.3330,2,  34.3337,2,  34.4956,2,    210.5,2,    209.0,2,    37.40,2,    31.55,2,     0.01,2,     2.33,2,    1.891,2,    0.926,2,    1.923,3,   2205.4,2,   2295.8,2,   -999.0,9,  -999.00,   7.5646,2,    25.68,    0.377,2,   -999.0,9,   -999.0,9, -999.000,9,-999.0000,9,-999.0000,9,-999.0000,9,-999.0000,9, 27.306, 31.921, 36.433, 40.843, 45.153
33RO20110828,   A10,    55,  1,      8,    008,2,20000101,0000,-30.0009, -14.4264, 3060,   1160.1,   3.1536,  34.4360,2,  34.4385,6,  34.6009,6,    194.3,2,    193.0,2,    49.41,2,    32.62,2,     0.01,2,     2.41,2,    0.994,2,    0.492,2,    1.266,3,   2223.2,6,   2308.7,2,   -999.0,9,  -999.00,   7.5538,2,    25.68,    0.227,2,   -999.0,9,   -999.0,9, -999.000,9,-999.0000,9,-999.0000,9,-999.0000,9,-999.0000,9, 27.428, 32.054, 36.576, 40.997, 45.317
33RO20110828,   A10,    55,  1,      7,    007,2,20000101,0000,-30.0009, -14.4264, 3060,   1341.1,   3.0399,  34.5512,2,  34.5526,2,  34.7155,2,    185.5,2,    187.3,2,    54.98,2,    31.74,2,     0.01,2,     2.36,2,    0.457,2,    0.224,2,    0.738,3,   2231.0,2,   2318.6,2,   -999.0,9,  -999.00,   7.5667,2,    25.71,    0.086,2,   -999.0,9,   -999.0,9, -999.000,9,-999.0000,9,-999.0000,9,-999.0000,9,-999.0000,9, 27.533, 32.161, 36.686, 41.109, 45.431
33RO20110828,   A10,    55,  1,      6,    006,2,20000101,0000,-30.0009, -14.4264, 3060,   1540.3,   2.8714,  34.6407,2,  34.6437,2,  34.8070,2,    190.3,2,    191.1,2,    57.02,2,    30.66,2,     0.01,2,     2.26,2,    0.238,2,    0.118,2,    0.481,3,   2234.6,2,   2323.4,2,   -999.0,9,  -999.00,   7.5774,2,    25.57,    0.000,2,   -999.0,9,   -999.0,9, -999.000,9,-999.0000,9,-999.0000,9,-999.0000,9,-999.0000,9, 27.622, 32.255, 36.784, 41.210, 45.536
33RO20110828,   A10,    55,  1,      5,    005,2,20000101,0000,-30.0009, -14.4264, 3060,   1740.4,   2.7882,  34.7267,2,  34.7277,2,  34.8915,2,    202.1,2,    202.0,2,    55.46,2,    28.41,2,     0.01,2,     2.10,2,    0.108,2,    0.053,2,    0.285,3,   2227.3,2,   2326.8,2,   -999.0,9,  -999.00,   7.5934,2,    25.64,    0.000,2,   -999.0,9,   -999.0,9, -999.000,9,-999.0000,9,-999.0000,9,-999.0000,9,-999.0000,9, 27.698, 32.333, 36.864, 41.292, 45.620
33RO20110828,   A10,    55,  1,      4,    004,2,20000101,0000,-30.0009, -14.4264, 3060,   1940.0,   2.6950,  34.7855,2,  34.7865,2,  34.9506,2,    216.1,2,    213.6,2,    53.21,2,    26.65,2,     0.01,2,     1.95,2,    0.054,2,    0.029,2,    0.216,3,   2219.5,2,   2329.5,2,   -999.0,9,  -999.00,   7.6258,2,    25.60,    0.000,2,   -999.0,9,   -999.0,9, -999.000,9,-999.0000,9,-999.0000,9,-999.0000,9,-999.0000,9, 27.755, 32.392, 36.925, 41.356, 45.686
33RO20110828,   A10,    55,  1,      3,    003,2,20000101,0000,-30.0009, -14.4264, 3060,   2249.7,   2.5975,  34.8301,2,  34.8320,2,  34.9962,2,    225.3,2,    228.6,2,    50.38,2,    24.89,2,     0.01,2,     1.81,2,    0.032,2,    0.018,2,    0.144,3,   2208.7,2,   2327.6,2,   -999.0,9,  -999.00,   7.6464,2,    25.54,    0.000,2,   -999.0,9,   -999.0,9, -999.000,9,-999.0000,9,-999.0000,9,-999.0000,9,-999.0000,9, 27.802, 32.442, 36.978, 41.412, 45.745
33RO20110828,   A10,    55,  1,      2,    002,2,20000101,0000,-30.0009, -14.4264, 3060,   2600.5,   2.5759,  34.8400,2,  34.8418,2,  35.0061,2,    231.3,2,    230.6,2,    49.89,2,    24.02,2,     0.01,2,     1.78,2,    0.029,2,    0.021,3,    0.130,3,   2203.8,6,   2328.4,2,   -999.0,9,  -999.00,   7.6559,2,    25.55,    0.107,2,   -999.0,9,   -999.0,9, -999.000,9,-999.0000,9,-999.0000,9,-999.0000,9,-999.0000,9, 27.814, 32.456, 36.993, 41.428, 45.763
33RO20110828,   A10,    55,  1,      1,    001,2,20000101,0000,-30.0009, -14.4264, 3060,   3184.6,   2.3185,  34.8548,2,  34.8564,2,  35.0208,2,    240.4,2,    240.0,2,    53.60,2,    23.82,2,     0.01,2,     1.73,2,    0.012,2,    0.007,2,    0.090,3,   2204.7,2,   2332.2,2,   -999.0,9,  -999.00,   7.6701,2,    25.55,    0.063,2,   -999.0,9,   -999.0,9, -999.000,9,-999.0000,9,-999.0000,9,-999.0000,9,-999.0000,9, 27.852, 32.502, 37.047, 41.490, 45.832