BOTTLE,20130715NOAA
EXPOCODE,SECT_ID,STNNBR,CASTNO,SAMPNO,BTLNBR,BTLNBR_FLAG_W,DATE,TIME,LATITUDE,LONGITUDE,DEPTH,CTDPRS,CTDTMP,CTDSAL,CTDSAL_FLAG_W,SALNTY,SALNTY_FLAG_W,SALTREF,SALTREF_FLAG_W,CTDOXY,CTDOXY_FLAG_W,OXYGEN,OXYGEN_FLAG_W,SILCAT,SILCAT_FLAG_W,NITRAT,NITRAT_FLAG_W,NITRIT,NITRIT_FLAG_W,PHSPHT,PHSPHT_FLAG_W,CFC-11,CFC-11_FLAG_W,CFC-12,CFC-12_FLAG_W,CCL4,CCL4_FLAG_W,TCARBN,TCARBN_FLAG_W,ALKALI,ALKALI_FLAG_W,PCO2,PCO2_FLAG_W,PCO2TMP,PH_TOT,PH_TOT_FLAG_W,PH_TMP,SF6,SF6_FLAG_W,DOC,DOC_FLAG_W,TDN,TDN_FLAG_W,TRITUM,TRITUM_FLAG_W,HELIUM,HELIUM_FLAG_W,OXY_18,OXY_18_FLAG_W,BLACKC,BLACKC_FLAG_W,PIGMENTS,PIGMENTS_FLAG_W,SIGMA-THETA,SIGMA-1,SIGMA-2,SIGMA-3,SIGMA-4
,,,,,,,,,,,METERS,DBARS,ITS-90,PSS-78,,PSS-78,,G/KG,,UMOL/KG,,UMOL/KG,,UMOL/KG,,UMOL/KG,,UMOL/KG,,UMOL/KG,,PMOL/KG,,PMOL/KG,,PMOL/KG,,UMOL/KG,,UMOL/KG,,UATM@T,,DEG_C,,,DEG_C,FMOL/KG,,UMOL/KG,,UMOL/KG,,TU,,NMOL/KG,,,,,,,,,,,,
33RO20110828,   A10,    42,  1,     24,    024,2,20000101,0000,-30.0003,  -5.6601, 4329,      5.3,  18.3022,  35.8624,2,  35.8658,2,  36.0349,2,    238.0,2,    238.2,2,     1.27,2,     0.00,2,     0.01,2,     0.16,2,    2.346,2,    1.426,2,    2.992,3,   2080.6,6,   2352.7,2,   -999.0,9,  -999.00,   7.9199,2,    25.66,    1.473,2,   -999.0,9,   -999.0,9, -999.000,9,-999.0000,9,-999.0000,9,-999.0000,9,-999.0000,1, 25.860, 30.154, 34.353, 38.460, 42.479
33RO20110828,   A10,    42,  1,     23,    023,2,20000101,0000,-30.0003,  -5.6601, 4329,     24.1,  18.0253,  35.8539,2,  35.8566,2,  36.0257,2,    240.7,2,    240.2,2,     1.37,2,     0.00,2,     0.00,2,     0.16,2,    2.355,2,    1.440,2,    3.170,3,   2077.8,2,   2351.1,2,   -999.0,9,  -999.00,   7.8072,2,    25.62,    1.464,2,   -999.0,9,   -999.0,9, -999.000,9,-999.0000,9,-999.0000,9,-999.0000,9,-999.0000,9, 25.923, 30.221, 34.425, 38.536, 42.559
33RO20110828,   A10,    42,  1,     22,    022,3,20000101,0000,-30.0003,  -5.6601, 4329,     74.4,  17.1515,  35.8189,2,  35.8056,2,  35.9744,2,   -999.0,9,   -999.0,9,  -999.00,5,  -999.00,5,  -999.00,5,  -999.00,5, -999.000,9, -999.000,9, -999.000,9,   -999.0,9,   -999.0,9,   -999.0,9,  -999.00,-999.0000,5,  -999.00, -999.000,9,   -999.0,9,   -999.0,9, -999.000,9,-999.0000,9,-999.0000,9,-999.0000,9,-999.0000,1, 26.099, 30.412, 34.631, 38.756, 42.793
33RO20110828,   A10,    42,  1,     21,    021,2,20000101,0000,-30.0003,  -5.6601, 4329,    150.4,  16.8975,  35.8062,2,  35.8058,2,  35.9747,2,    231.3,2,    232.2,2,     1.56,2,    -0.20,2,     1.50,2,     0.25,2,    2.377,2,    1.452,2,    1.823,3,   2085.2,2,   2348.9,2,   -999.0,9,  -999.00,   7.9093,2,    25.60,    1.424,2,   -999.0,9,   -999.0,9, -999.000,9,-999.0000,9,-999.0000,9,-999.0000,9,-999.0000,1, 26.163, 30.481, 34.703, 38.833, 42.874
33RO20110828,   A10,    42,  1,     20,    020,2,20000101,0000,-30.0003,  -5.6601, 4329,    190.2,  16.7128,  35.7628,2,  35.7632,2,  35.9318,2,    230.6,2,    230.8,2,     1.76,2,     1.17,2,     0.55,2,     0.28,2,    2.414,2,    1.469,2,    1.784,3,   2086.9,2,   2346.7,2,   -999.0,9,  -999.00,   7.9026,2,    25.77,    1.447,2,   -999.0,9,   -999.0,9, -999.000,9,-999.0000,9,-999.0000,9,-999.0000,9,-999.0000,9, 26.176, 30.497, 34.723, 38.856, 42.900
33RO20110828,   A10,    42,  1,     19,    019,2,20000101,0000,-30.0003,  -5.6601, 4329,    229.9,  15.6970,  35.5464,2,  35.5473,2,  35.7150,2,    225.2,2,    224.4,2,     2.54,2,     4.00,2,     0.05,2,     0.41,2,    2.536,2,    1.538,2,    0.813,3,   -999.0,9,   2331.6,2,   -999.0,9,  -999.00,   7.8765,2,    25.61,    1.499,2,   -999.0,9,   -999.0,9, -999.000,9,-999.0000,9,-999.0000,9,-999.0000,9,-999.0000,9, 26.246, 30.587, 34.831, 38.983, 43.044
33RO20110828,   A10,    42,  1,     18,    018,2,20000101,0000,-30.0003,  -5.6601, 4329,    360.2,  14.3649,  35.3193,2,  35.3195,2,  35.4860,2,    224.0,2,    223.8,2,     2.83,2,     6.25,2,     0.03,2,     0.56,2,    2.710,2,    1.630,2,    0.825,3,   2099.2,2,   2318.2,2,   -999.0,9,  -999.00,   7.8560,2,    25.63,    1.472,2,   -999.0,9,   -999.0,9, -999.000,9,-999.0000,9,-999.0000,9,-999.0000,9,-999.0000,9, 26.368, 30.734, 35.004, 39.180, 43.265
33RO20110828,   A10,    42,  1,     17,    017,2,20000101,0000,-30.0003,  -5.6601, 4329,    499.3,  12.0354,  35.0506,2,  35.0510,3,  35.2163,3,    211.1,2,    212.1,2,     4.59,2,    13.18,2,     0.02,2,     0.97,2,    3.037,2,    1.741,2,    0.899,3,   -999.0,9,   2305.1,2,   -999.0,9,  -999.00,   7.7774,2,    25.67,    1.238,2,   -999.0,9,   -999.0,9, -999.000,9,-999.0000,9,-999.0000,9,-999.0000,9,-999.0000,9, 26.634, 31.048, 35.364, 39.584, 43.711
33RO20110828,   A10,    42,  1,     16,    016,2,20000101,0000,-30.0003,  -5.6601, 4329,    640.4,   9.4840,  34.7284,2,  34.7294,3,  34.8932,3,    208.5,2,    208.1,2,     8.49,2,    20.11,2,     0.01,2,     1.41,2,    3.142,2,    1.726,2,    1.411,3,   2147.8,2,   2292.5,2,   -999.0,9,  -999.00,   7.7110,2,    25.67,    1.045,2,   -999.0,9,   -999.0,9, -999.000,9,-999.0000,9,-999.0000,9,-999.0000,9,-999.0000,9, 26.839, 31.308, 35.678, 39.951, 44.129
33RO20110828,   A10,    42,  1,     15,    015,2,20000101,0000,-30.0003,  -5.6601, 4329,    769.1,   7.1001,  34.4806,2,  34.4825,2,  34.6451,2,    206.6,2,    207.0,2,    14.84,2,    26.66,2,     0.02,2,     1.83,2,    3.053,2,    1.623,2,    1.989,3,   -999.0,9,   2286.7,2,   -999.0,9,  -999.00,   7.6467,2,    25.68,    0.886,2,   -999.0,9,   -999.0,9, -999.000,9,-999.0000,9,-999.0000,9,-999.0000,9,-999.0000,9, 27.008, 31.533, 35.958, 40.284, 44.513
33RO20110828,   A10,    42,  1,     14,    014,2,20000101,0000,-30.0003,  -5.6601, 4329,    890.4,   5.3402,  34.3490,2,  34.3492,2,  34.5112,2,    212.3,2,    212.5,2,    22.07,2,    30.67,2,     0.02,2,     2.10,2, -999.000,9, -999.000,9, -999.000,9,   -999.0,9,   2287.5,2,   -999.0,9,  -999.00,   7.6142,2,    25.62, -999.000,9,   -999.0,9,   -999.0,9, -999.000,9,-999.0000,9,-999.0000,9,-999.0000,9,-999.0000,9, 27.128, 31.698, 36.166, 40.533, 44.802
33RO20110828,   A10,    42,  1,     13,    013,2,20000101,0000,-30.0003,  -5.6601, 4329,   1109.9,   3.9236,  34.3695,2,  34.3693,2,  34.5313,2,    196.5,2,    196.7,2,    39.26,2,    34.57,2,     0.01,2,     2.38,2, -999.000,9, -999.000,9, -999.000,9,   -999.0,9,   2300.7,2,   -999.0,9,  -999.00,   7.5718,2,    25.61, -999.000,9,   -999.0,9,   -999.0,9, -999.000,9,-999.0000,9,-999.0000,9,-999.0000,9,-999.0000,9, 27.301, 31.907, 36.410, 40.811, 45.113
33RO20110828,   A10,    42,  1,     12,    012,2,20000101,0000,-30.0003,  -5.6601, 4329,   1360.3,   3.2015,  34.5240,2,  34.5236,2,  34.6864,2,    180.5,2,    179.6,2,    56.05,2,    35.45,2,     0.01,2,     2.44,2, -999.000,9, -999.000,9, -999.000,9,   2228.2,2,   2320.8,2,   -999.0,9,  -999.00,   7.5573,2,    25.63, -999.000,9,   -999.0,9,   -999.0,9, -999.000,9,-999.0000,9,-999.0000,9,-999.0000,9,-999.0000,9, 27.495, 32.120, 36.640, 41.059, 45.378
33RO20110828,   A10,    42,  1,     11,    011,2,20000101,0000,-30.0003,  -5.6601, 4329,   1530.5,   3.0320,  34.6272,2,  34.6273,2,  34.7906,2,    185.6,2,    186.3,2,    56.24,2,    33.78,2,     0.00,2,     2.31,2, -999.000,9, -999.000,9, -999.000,9,   -999.0,9,   2322.9,2,   -999.0,9,  -999.00,   7.5654,2,    25.72, -999.000,9,   -999.0,9,   -999.0,9, -999.000,9,-999.0000,9,-999.0000,9,-999.0000,9,-999.0000,9, 27.595, 32.223, 36.748, 41.171, 45.493
33RO20110828,   A10,    42,  1,     10,    010,2,20000101,0000,-30.0003,  -5.6601, 4329,   1741.4,   2.9452,  34.7254,2,  34.7254,2,  34.8891,2,    197.2,2,    197.0,2,    54.09,2,    31.24,2,     0.01,2,     2.13,2, -999.000,9, -999.000,9, -999.000,9,   -999.0,9,   2326.2,2,   -999.0,9,  -999.00,   7.6022,2,    25.73, -999.000,9,   -999.0,9,   -999.0,9, -999.000,9,-999.0000,9,-999.0000,9,-999.0000,9,-999.0000,9, 27.682, 32.313, 36.840, 41.264, 45.588
33RO20110828,   A10,    42,  1,      9,    009,2,20000101,0000,-30.0003,  -5.6601, 4329,   1989.7,   2.6979,  34.7750,2,  34.7755,2,  34.9395,2,    208.6,2,    209.1,2,    56.24,2,    29.58,2,     0.01,2,     2.01,2, -999.000,9, -999.000,9, -999.000,9,   -999.0,9,   2329.8,2,   -999.0,9,  -999.00,   7.6304,2,    25.67, -999.000,9,   -999.0,9,   -999.0,9, -999.000,9,-999.0000,9,-999.0000,9,-999.0000,9,-999.0000,9, 27.746, 32.383, 36.917, 41.348, 45.678
33RO20110828,   A10,    42,  1,      8,    008,2,20000101,0000,-30.0003,  -5.6601, 4329,   2240.0,   2.5729,  34.8172,2,  34.8170,2,  34.9812,2,    219.1,2,    220.0,2,    54.87,2,    28.02,2,     0.01,2,     1.89,2, -999.000,9, -999.000,9, -999.000,9,   -999.0,9,   2334.4,2,   -999.0,9,  -999.00,   7.6470,2,    25.61, -999.000,9,   -999.0,9,   -999.0,9, -999.000,9,-999.0000,9,-999.0000,9,-999.0000,9,-999.0000,9, 27.792, 32.433, 36.970, 41.404, 45.738
33RO20110828,   A10,    42,  1,      7,    007,2,20000101,0000,-30.0003,  -5.6601, 4329,   2538.8,   2.4889,  34.8446,2,  34.8457,2,  35.0100,2,    229.4,2,    229.0,2,    52.91,2,    26.55,2,     0.01,2,     1.79,2, -999.000,9, -999.000,9, -999.000,9,   -999.0,9,   2334.0,2,   -999.0,9,  -999.00,   7.6646,2,    25.64, -999.000,9,   -999.0,9,   -999.0,9, -999.000,9,-999.0000,9,-999.0000,9,-999.0000,9,-999.0000,9, 27.824, 32.468, 37.007, 41.444, 45.781
33RO20110828,   A10,    42,  1,      6,    006,2,20000101,0000,-30.0003,  -5.6601, 4329,   2840.1,   2.4075,  34.8595,2,  34.8606,2,  35.0250,2,    235.1,2,    234.9,2,    52.52,2,    25.87,2,     0.00,2,     1.75,2, -999.000,9, -999.000,9, -999.000,9,   2198.3,2,   2338.0,2,   -999.0,9,  -999.00,   7.6709,2,    25.57, -999.000,9,   -999.0,9,   -999.0,9, -999.000,9,-999.0000,9,-999.0000,9,-999.0000,9,-999.0000,9, 27.845, 32.492, 37.034, 41.474, 45.813
33RO20110828,   A10,    42,  1,      5,    005,2,20000101,0000,-30.0003,  -5.6601, 4329,   3140.2,   2.3779,  34.8665,2,  34.8673,2,  35.0318,2,    236.7,2,    235.9,2,    52.42,2,    25.58,2,     0.02,2,     1.73,2, -999.000,9, -999.000,9, -999.000,9,   -999.0,9,   2338.9,2,   -999.0,9,  -999.00,   7.6787,2,    25.60, -999.000,9,   -999.0,9,   -999.0,9, -999.000,9,-999.0000,9,-999.0000,9,-999.0000,9,-999.0000,9, 27.855, 32.504, 37.047, 41.489, 45.829
33RO20110828,   A10,    42,  1,      4,    004,2,20000101,0000,-30.0003,  -5.6601, 4329,   3438.8,   2.3585,  34.8734,2,  34.8739,6,  35.0383,6,    236.1,2,    236.3,2,    53.11,2,    25.48,2,     0.02,2,     1.71,2, -999.000,9, -999.000,9, -999.000,9,   -999.0,9,   2346.9,2,   -999.0,9,  -999.00,   7.6806,2,    25.51, -999.000,9,   -999.0,9,   -999.0,9, -999.000,9,-999.0000,9,-999.0000,9,-999.0000,9,-999.0000,9, 27.864, 32.514, 37.059, 41.502, 45.843
33RO20110828,   A10,    42,  1,      3,    003,2,20000101,0000,-30.0003,  -5.6601, 4329,   3741.0,   2.3616,  34.8763,2,  34.8764,2,  35.0409,2,    234.8,2,    235.5,2,    53.79,2,    25.48,2,     0.01,2,     1.71,2, -999.000,9, -999.000,9, -999.000,9,   -999.0,9,   2349.7,2,   -999.0,9,  -999.00,   7.6840,2,    25.50, -999.000,9,   -999.0,9,   -999.0,9, -999.000,9,-999.0000,9,-999.0000,9,-999.0000,9,-999.0000,9, 27.869, 32.519, 37.065, 41.509, 45.851
33RO20110828,   A10,    42,  1,      2,    002,2,20000101,0000,-30.0003,  -5.6601, 4329,   4039.2,   2.3601,  34.8758,2,  34.8754,2,  35.0399,2,    233.4,2,    233.1,2,    54.86,2,    25.38,2,     0.01,2,     1.72,2, -999.000,9, -999.000,9, -999.000,9,   -999.0,9,   2351.5,2,   -999.0,9,  -999.00,   7.6777,2,    25.55, -999.000,9,   -999.0,9,   -999.0,9, -999.000,9,-999.0000,9,-999.0000,9,-999.0000,9,-999.0000,9, 27.871, 32.522, 37.069, 41.514, 45.857
33RO20110828,   A10,    42,  1,      1,    001,2,20000101,0000,-30.0003,  -5.6601, 4329,   4411.1,   2.3247,  34.8667,2,  34.8678,2,  35.0322,2,    232.1,2,    232.2,2,    58.77,2,    26.16,2,     0.02,2,     1.76,2, -999.000,9, -999.000,9, -999.000,9,   2212.6,2,   2352.8,2,   -999.0,9,  -999.00,   7.7074,2,    25.44, -999.000,9,   -999.0,9,   -999.0,9, -999.000,9,-999.0000,9,-999.0000,9,-999.0000,9,-999.0000,9, 27.871, 32.525, 37.074, 41.520, 45.865