BOTTLE,20130715NOAA
EXPOCODE,SECT_ID,STNNBR,CASTNO,SAMPNO,BTLNBR,BTLNBR_FLAG_W,DATE,TIME,LATITUDE,LONGITUDE,DEPTH,CTDPRS,CTDTMP,CTDSAL,CTDSAL_FLAG_W,SALNTY,SALNTY_FLAG_W,SALTREF,SALTREF_FLAG_W,CTDOXY,CTDOXY_FLAG_W,OXYGEN,OXYGEN_FLAG_W,SILCAT,SILCAT_FLAG_W,NITRAT,NITRAT_FLAG_W,NITRIT,NITRIT_FLAG_W,PHSPHT,PHSPHT_FLAG_W,CFC-11,CFC-11_FLAG_W,CFC-12,CFC-12_FLAG_W,CCL4,CCL4_FLAG_W,TCARBN,TCARBN_FLAG_W,ALKALI,ALKALI_FLAG_W,PCO2,PCO2_FLAG_W,PCO2TMP,PH_TOT,PH_TOT_FLAG_W,PH_TMP,SF6,SF6_FLAG_W,DOC,DOC_FLAG_W,TDN,TDN_FLAG_W,TRITUM,TRITUM_FLAG_W,HELIUM,HELIUM_FLAG_W,OXY_18,OXY_18_FLAG_W,BLACKC,BLACKC_FLAG_W,PIGMENTS,PIGMENTS_FLAG_W,SIGMA-THETA,SIGMA-1,SIGMA-2,SIGMA-3,SIGMA-4
,,,,,,,,,,,METERS,DBARS,ITS-90,PSS-78,,PSS-78,,G/KG,,UMOL/KG,,UMOL/KG,,UMOL/KG,,UMOL/KG,,UMOL/KG,,UMOL/KG,,PMOL/KG,,PMOL/KG,,PMOL/KG,,UMOL/KG,,UMOL/KG,,UATM@T,,DEG_C,,,DEG_C,FMOL/KG,,UMOL/KG,,UMOL/KG,,TU,,NMOL/KG,,,,,,,,,,,,
33RO20110828,   A10,    25,  1,     24,    024,2,20000101,0000,-29.3839,   2.6999, 2859,      4.2,  17.7807,  35.7921,2,-999.0000,9,-999.0000,9,   -999.0,9,   -999.0,9,     1.56,2,     0.00,2,     0.00,2,     0.14,2, -999.000,9, -999.000,9, -999.000,9,   -999.0,9,   -999.0,9,   -999.0,9,  -999.00,-999.0000,9,  -999.00, -999.000,9,   -999.0,1,   -999.0,1, -999.000,9,-999.0000,9,-999.0000,9,-999.0000,9,-999.0000,1, 25.933, 30.236, 34.443, 38.559, 42.586
33RO20110828,   A10,    25,  1,     23,    023,2,20000101,0000,-29.3839,   2.6999, 2859,      4.5,  17.7752,  35.7921,2,  35.7918,2,  35.9606,2,    241.5,2,    242.4,2,     1.56,2,     0.00,2,     0.00,2,     0.14,2,    2.430,2,    1.454,2,    3.329,2,   2081.0,6,   2338.8,3,   -999.0,9,  -999.00,   7.9500,2,    25.46,    1.452,2,   -999.0,1,   -999.0,1, -999.000,9,-999.0000,9,-999.0000,9,-999.0000,9,-999.0000,9, 25.934, 30.237, 34.445, 38.561, 42.587
33RO20110828,   A10,    25,  1,     22,    022,2,20000101,0000,-29.3839,   2.6999, 2859,     24.7,  17.3780,  35.7886,2,  35.7851,2,  35.9538,2,    242.7,2,    243.0,2,     1.56,2,     0.00,2,     0.00,2,     0.15,2, -999.000,9, -999.000,9, -999.000,9,   2076.7,2,   2339.8,3,   -999.0,9,  -999.00,   7.9512,2,    25.39, -999.000,9,   -999.0,1,   -999.0,1, -999.000,9,-999.0000,9,-999.0000,9,-999.0000,9,-999.0000,9, 26.027, 30.336, 34.551, 38.673, 42.706
33RO20110828,   A10,    25,  1,     21,    021,2,20000101,0000,-29.3839,   2.6999, 2859,     79.0,  16.5554,  35.7099,2,  35.7083,2,  35.8767,2,    240.6,2,    239.2,2,     1.76,2,     0.68,2,     0.19,2,     0.22,2, -999.000,9, -999.000,9, -999.000,9,   2081.1,2,   2334.1,3,   -999.0,9,  -999.00,   7.9005,4,    25.44, -999.000,9,   -999.0,1,   -999.0,1, -999.000,9,-999.0000,9,-999.0000,9,-999.0000,9,-999.0000,1, 26.166, 30.490, 34.719, 38.855, 42.901
33RO20110828,   A10,    25,  1,     20,    020,2,20000101,0000,-29.3839,   2.6999, 2859,    121.5,  16.3858,  35.6879,2,  35.6875,2,  35.8558,2,    234.6,2,    233.9,2,     2.15,2,     1.17,2,     0.57,2,     0.25,2,    2.481,2,    1.486,2,    2.184,2,   2088.9,2,   2342.6,3,   -999.0,9,  -999.00,   7.8616,4,    25.42,    1.475,2,   -999.0,1,   -999.0,1, -999.000,9,-999.0000,9,-999.0000,9,-999.0000,9,-999.0000,1, 26.192, 30.519, 34.750, 38.889, 42.939
33RO20110828,   A10,    25,  1,     19,    019,2,20000101,0000,-29.3839,   2.6999, 2859,    169.0,  15.3057,  35.4780,2,  35.4766,2,  35.6439,2,    220.6,2,    221.3,2,     2.63,2,     4.58,2,     0.03,2,     0.42,2, -999.000,9, -999.000,9, -999.000,9,   2100.3,2,   2330.9,2,   -999.0,9,  -999.00,   7.8885,2,    25.49, -999.000,9,   -999.0,1,   -999.0,1, -999.000,9,-999.0000,9,-999.0000,9,-999.0000,9,-999.0000,9, 26.277, 30.625, 34.877, 39.035, 43.103
33RO20110828,   A10,    25,  1,     18,    018,2,20000101,0000,-29.3839,   2.6999, 2859,    214.6,  14.0841,  35.2709,2,  35.2738,2,  35.4401,2,    219.0,2,    218.7,2,     2.93,2,     6.63,2,     0.02,2,     0.53,2,    2.794,2,    1.640,2,    0.973,2,   2110.1,2,   2319.2,2,   -999.0,9,  -999.00,   7.8523,2,    25.44,    1.446,2,   -999.0,1,   -999.0,1, -999.000,9,-999.0000,9,-999.0000,9,-999.0000,9,-999.0000,9, 26.388, 30.759, 35.034, 39.215, 43.304
33RO20110828,   A10,    25,  1,     17,    017,2,20000101,0000,-29.3839,   2.6999, 2859,    276.7,  13.0209,  35.1361,2,  35.1340,2,  35.2996,2,    218.4,2,    217.6,2,     3.61,2,     9.17,2,     0.01,2,     0.68,2, -999.000,9, -999.000,9, -999.000,9,   2118.9,2,   2310.6,2,   -999.0,9,  -999.00,-999.0000,5,  -999.00, -999.000,9,   -999.0,1,   -999.0,1, -999.000,9,-999.0000,9,-999.0000,9,-999.0000,9,-999.0000,9, 26.500, 30.893, 35.189, 39.390, 43.499
33RO20110828,   A10,    25,  1,     16,    016,2,20000101,0000,-29.3839,   2.6999, 2859,    326.9,  12.0173,  35.0396,2,  35.0413,2,  35.2065,2,    212.0,2,    212.7,2,     4.68,2,    12.30,2,     0.01,2,     0.86,2,    3.081,2,    1.744,2,    1.105,2,   2128.3,2,   2310.6,2,   -999.0,9,  -999.00,   7.8055,2,    25.39,    1.277,2,   -999.0,1,   -999.0,1, -999.000,9,-999.0000,9,-999.0000,9,-999.0000,9,-999.0000,9, 26.626, 31.040, 35.355, 39.576, 43.703
33RO20110828,   A10,    25,  1,     15,    015,2,20000101,0000,-29.3839,   2.6999, 2859,    375.1,  11.2171,  34.9432,2,  34.9395,2,  35.1043,2,    209.3,2,    209.4,2,     5.56,2,    14.44,2,     0.01,2,     0.99,2, -999.000,9, -999.000,9, -999.000,9,   2137.5,2,   2307.0,2,   -999.0,9,  -999.00,   7.7675,2,    25.38, -999.000,9,   -999.0,1,   -999.0,1, -999.000,9,-999.0000,9,-999.0000,9,-999.0000,9,-999.0000,9, 26.698, 31.128, 35.460, 39.697, 43.840
33RO20110828,   A10,    25,  1,     14,    014,2,20000101,0000,-29.3839,   2.6999, 2859,    429.9,  10.2979,  34.8286,2,  34.8245,2,  34.9887,2,    207.3,2,    208.3,2,     6.93,2,    16.69,2,     0.01,2,     1.12,2,    3.152,2,    1.740,2,    1.357,2,   2140.5,2,   -999.0,5,   -999.0,9,  -999.00,   7.7395,2,    25.41,    1.123,2,   -999.0,1,   -999.0,1, -999.000,9,-999.0000,9,-999.0000,9,-999.0000,9,-999.0000,9, 26.772, 31.223, 35.575, 39.830, 43.992
33RO20110828,   A10,    25,  1,     13,    013,2,20000101,0000,-29.3839,   2.6999, 2859,    530.1,   8.3085,  34.5974,2,  34.5973,2,  34.7604,2,    206.2,2,    205.4,2,    11.13,2,    21.96,2,     0.00,2,     1.45,2,    3.167,2,    1.680,2,    1.732,2,   2155.2,2,   2290.2,2,   -999.0,9,  -999.00,   7.6842,2,    25.42,    0.972,2,   -999.0,1,   -999.0,1, -999.000,9,-999.0000,9,-999.0000,9,-999.0000,9,-999.0000,9, 26.919, 31.416, 35.812, 40.110, 44.312
33RO20110828,   A10,    25,  1,     12,    012,2,20000101,0000,-29.3839,   2.6999, 2859,    629.9,   6.7061,  34.4479,2,  34.4476,2,  34.6100,2,    201.9,2,    203.5,2,    15.91,2,    26.36,2,     0.01,2,     1.72,2,    3.030,2,    1.577,2,    2.287,2,   2173.7,6,   2277.2,3,   -999.0,9,  -999.00,   7.6424,2,    25.45,    0.842,2,   -999.0,1,   -999.0,1, -999.000,9,-999.0000,9,-999.0000,9,-999.0000,9,-999.0000,9, 27.032, 31.567, 36.000, 40.335, 44.572
33RO20110828,   A10,    25,  1,     11,    011,2,20000101,0000,-29.3839,   2.6999, 2859,    739.1,   5.3597,  34.3692,2,  34.3696,2,  34.5316,2,    201.5,2,    200.0,2,    22.75,2,    29.19,2,     0.01,2,     1.95,2,    2.641,2,    1.333,2,    2.364,2,   2185.2,2,   2278.1,2,   -999.0,9,  -999.00,   7.6123,2,    25.44,    0.661,2,   -999.0,1,   -999.0,1, -999.000,9,-999.0000,9,-999.0000,9,-999.0000,9,-999.0000,9, 27.141, 31.709, 36.176, 40.542, 44.810
33RO20110828,   A10,    25,  1,     10,    010,2,20000101,0000,-29.3839,   2.6999, 2859,    859.8,   4.5469,  34.3637,2,  34.3633,2,  34.5253,2,    194.9,2,    195.0,2,    30.56,2,    31.24,2,     0.00,2,     2.10,2,    2.041,2,    1.012,2,    2.078,2,   2199.1,2,   2289.5,3,   -999.0,9,  -999.00,   7.5846,2,    25.40,    0.477,2,   -999.0,1,   -999.0,1, -999.000,9,-999.0000,9,-999.0000,9,-999.0000,9,-999.0000,9, 27.229, 31.818, 36.305, 40.691, 44.978
33RO20110828,   A10,    25,  1,      9,    009,2,20000101,0000,-29.3839,   2.6999, 2859,    978.6,   3.9940,  34.3900,2,  34.3892,2,  34.5514,2,    188.4,2,    190.3,2,    38.95,2,    32.12,2,     0.01,2,     2.20,2,    1.528,2,    0.751,2,    1.595,2,   2209.8,2,   2291.8,3,   -999.0,9,  -999.00,   7.5765,2,    25.29,    0.316,2,   -999.0,1,   -999.0,1, -999.000,9,-999.0000,9,-999.0000,9,-999.0000,9,-999.0000,9, 27.308, 31.912, 36.413, 40.812, 45.112
33RO20110828,   A10,    25,  1,      8,    008,2,20000101,0000,-29.3839,   2.6999, 2859,   1106.3,   3.4827,  34.4761,2,  34.4757,6,  34.6382,6,    180.3,2,    179.2,2,    49.10,2,    33.00,2,     0.00,2,     2.28,2,    0.776,2,    0.370,2,    0.979,2,   2224.7,2,   2306.6,3,   -999.0,9,  -999.00,   7.5642,2,    25.38,    0.118,2,   -999.0,1,   -999.0,1, -999.000,9,-999.0000,9,-999.0000,9,-999.0000,9,-999.0000,9, 27.429, 32.046, 36.559, 40.970, 45.282
33RO20110828,   A10,    25,  1,      7,    007,2,20000101,0000,-29.3839,   2.6999, 2859,   1279.4,   3.2424,  34.5799,2,  34.5791,2,  34.7421,2,    179.8,2,    179.9,2,    52.52,2,    32.02,2,     0.00,2,     2.22,2,    0.344,2,    0.161,2,    0.516,2,   2227.5,2,   2323.0,2,   -999.0,9,  -999.00,   7.5708,2,    25.42,    0.075,2,   -999.0,1,   -999.0,1, -999.000,9,-999.0000,9,-999.0000,9,-999.0000,9,-999.0000,9, 27.535, 32.158, 36.677, 41.094, 45.411
33RO20110828,   A10,    25,  1,      6,    006,2,20000101,0000,-29.3839,   2.6999, 2859,   1480.8,   3.0705,  34.6795,2,  34.6808,2,  34.8443,2,    189.0,2,    188.7,2,    53.00,2,    30.36,2,     0.00,2,     2.10,2, -999.000,9, -999.000,9, -999.000,9,   2222.8,2,   2325.3,2,   -999.0,9,  -999.00,   7.5965,2,    25.38, -999.000,9,   -999.0,1,   -999.0,1, -999.000,9,-999.0000,9,-999.0000,9,-999.0000,9,-999.0000,9, 27.634, 32.261, 36.784, 41.205, 45.526
33RO20110828,   A10,    25,  1,      5,    005,2,20000101,0000,-29.3839,   2.6999, 2859,   1681.3,   3.0335,  34.7601,2,  34.7603,2,  34.9242,2,    200.1,2,    200.6,2,    49.09,2,    28.11,2,     0.00,2,     1.93,2,    0.067,2,    0.032,2,    0.149,2,   2212.8,2,   2324.7,2,   -999.0,9,  -999.00,   7.6228,2,    25.39,    0.013,2,   -999.0,1,   -999.0,1, -999.000,9,-999.0000,9,-999.0000,9,-999.0000,9,-999.0000,9, 27.702, 32.330, 36.854, 41.276, 45.597
33RO20110828,   A10,    25,  1,      4,    004,2,20000101,0000,-29.3839,   2.6999, 2859,   1930.6,   2.9395,  34.8120,2,  34.8124,2,  34.9765,2,    213.6,2,    213.3,2,    46.75,2,    26.25,2,     0.00,2,     1.80,2, -999.000,9, -999.000,9, -999.000,9,   2205.2,2,   2326.6,2,   -999.0,9,  -999.00,   7.6481,2,    25.36, -999.000,9,   -999.0,1,   -999.0,1, -999.000,9,-999.0000,9,-999.0000,9,-999.0000,9,-999.0000,9, 27.754, 32.385, 36.911, 41.335, 45.660
33RO20110828,   A10,    25,  1,      3,    003,2,20000101,0000,-29.3839,   2.6999, 2859,   2181.4,   2.7375,  34.8347,2,  34.8351,2,  34.9994,2,    222.3,2,    223.1,2,    48.11,2,    25.28,2,     0.00,2,     1.73,2,    0.017,2,    0.009,2,    0.064,2,   2201.4,2,   2317.5,3,   -999.0,9,  -999.00,   7.6626,2,    25.41,    0.000,2,   -999.0,1,   -999.0,1, -999.000,9,-999.0000,9,-999.0000,9,-999.0000,9,-999.0000,9, 27.792, 32.428, 36.960, 41.390, 45.720
33RO20110828,   A10,    25,  1,      2,    002,2,20000101,0000,-29.3839,   2.6999, 2859,   2520.3,   2.5086,  34.8408,2,  34.8418,2,  35.0061,2,    226.1,2,    226.1,2,    52.51,2,    25.08,2,     0.00,2,     1.74,2, -999.000,9, -999.000,9, -999.000,9,   2202.2,2,   2323.3,3,   -999.0,9,  -999.00,   7.6703,2,    25.37, -999.000,9,   -999.0,1,   -999.0,1, -999.000,9,-999.0000,9,-999.0000,9,-999.0000,9,-999.0000,9, 27.819, 32.462, 37.001, 41.438, 45.774
33RO20110828,   A10,    25,  1,      1,    001,2,20000101,0000,-29.3839,   2.6999, 2859,   2917.6,   2.3422,  34.8574,2,  34.8584,2,  35.0227,2,    231.2,2,    231.2,2,    54.26,2,    24.40,2,     0.00,2,     1.70,2,    0.009,2,    0.004,2,    0.043,2,   2207.9,6,   2343.0,2,   -999.0,9,  -999.00,   7.6905,2,    25.39,    0.000,2,   -999.0,1,   -999.0,1, -999.000,9,-999.0000,9,-999.0000,9,-999.0000,9,-999.0000,9, 27.849, 32.498, 37.042, 41.484, 45.824