BOTTLE,20130715NOAA
EXPOCODE,SECT_ID,STNNBR,CASTNO,SAMPNO,BTLNBR,BTLNBR_FLAG_W,DATE,TIME,LATITUDE,LONGITUDE,DEPTH,CTDPRS,CTDTMP,CTDSAL,CTDSAL_FLAG_W,SALNTY,SALNTY_FLAG_W,SALTREF,SALTREF_FLAG_W,CTDOXY,CTDOXY_FLAG_W,OXYGEN,OXYGEN_FLAG_W,SILCAT,SILCAT_FLAG_W,NITRAT,NITRAT_FLAG_W,NITRIT,NITRIT_FLAG_W,PHSPHT,PHSPHT_FLAG_W,CFC-11,CFC-11_FLAG_W,CFC-12,CFC-12_FLAG_W,CCL4,CCL4_FLAG_W,TCARBN,TCARBN_FLAG_W,ALKALI,ALKALI_FLAG_W,PCO2,PCO2_FLAG_W,PCO2TMP,PH_TOT,PH_TOT_FLAG_W,PH_TMP,SF6,SF6_FLAG_W,DOC,DOC_FLAG_W,TDN,TDN_FLAG_W,TRITUM,TRITUM_FLAG_W,HELIUM,HELIUM_FLAG_W,OXY_18,OXY_18_FLAG_W,BLACKC,BLACKC_FLAG_W,PIGMENTS,PIGMENTS_FLAG_W,SIGMA-THETA,SIGMA-1,SIGMA-2,SIGMA-3,SIGMA-4
,,,,,,,,,,,METERS,DBARS,ITS-90,PSS-78,,PSS-78,,G/KG,,UMOL/KG,,UMOL/KG,,UMOL/KG,,UMOL/KG,,UMOL/KG,,UMOL/KG,,PMOL/KG,,PMOL/KG,,PMOL/KG,,UMOL/KG,,UMOL/KG,,UATM@T,,DEG_C,,,DEG_C,FMOL/KG,,UMOL/KG,,UMOL/KG,,TU,,NMOL/KG,,,,,,,,,,,,
33RO20110828,   A10,   106,  1,     24,    024,2,20000101,0000,-29.0404, -43.0040, 4073,      4.1,  20.8815,  36.6576,2,  36.6580,2,  36.8308,2,    223.6,2,    223.8,2,     0.78,2,     0.00,2,     0.00,2,     0.04,2,    2.012,2,    1.250,2,    3.059,3,   2086.6,6,   2401.4,2,   -999.0,9,  -999.00,   7.9747,2,    25.59,    1.269,2,   -999.0,9,   -999.0,9, -999.000,1,-999.0000,1,-999.0000,1,-999.0000,9,-999.0000,1, 25.789, 30.038, 34.193, 38.258, 42.235
33RO20110828,   A10,   106,  1,     23,    023,2,20000101,0000,-29.0404, -43.0040, 4073,     59.2,  19.9650,  36.4869,2,  36.4936,2,  36.6657,2,    223.9,2,    223.9,2,     0.88,2,     0.10,2,     0.01,2,     0.06,2,    2.079,2,    1.287,2,    2.767,3,   2084.8,2,   2392.8,2,   -999.0,9,  -999.00,   7.9264,2,    25.60,    1.308,2,   -999.0,9,   -999.0,9, -999.000,1,-999.0000,1,-999.0000,1,-999.0000,9,-999.0000,1, 25.914, 30.177, 34.347, 38.426, 42.417
33RO20110828,   A10,   106,  1,     22,    022,2,20000101,0000,-29.0404, -43.0040, 4073,    113.7,  17.5488,  35.9684,2,  35.9712,2,  36.1408,2,    209.7,2,    209.8,2,     1.46,2,     2.63,2,     0.02,2,     0.20,2,    2.340,2,    1.423,2,    1.432,3,   2097.0,2,   2361.2,2,   -999.0,9,  -999.00,   7.8952,3,    25.67,    1.299,2,   -999.0,9,   -999.0,9, -999.000,1,-999.0000,1,-999.0000,1,-999.0000,9,-999.0000,1, 26.132, 30.437, 34.648, 38.767, 42.796
33RO20110828,   A10,   106,  1,     21,    021,2,20000101,0000,-29.0404, -43.0040, 4073,    168.7,  16.7089,  35.8314,2,  35.8317,2,  36.0006,2,    224.0,2,    222.8,2,     1.27,2,     2.15,2,     0.01,2,     0.18,2,    2.427,2,    1.472,2,    2.121,3,   2091.2,2,   2353.4,2,   -999.0,9,  -999.00,   7.9045,2,    25.62,    1.409,2,   -999.0,9,   -999.0,9, -999.000,1,-999.0000,1,-999.0000,1,-999.0000,9,-999.0000,9, 26.229, 30.549, 34.775, 38.908, 42.951
33RO20110828,   A10,   106,  1,     20,    020,2,20000101,0000,-29.0404, -43.0040, 4073,    238.8,  15.3899,  35.5853,2,  35.5855,2,  35.7533,2,    205.3,2,    206.9,2,     2.15,2,     5.66,2,     0.01,2,     0.37,2,    2.619,2,    1.557,2,    0.976,3,   -999.0,9,   2338.8,2,   -999.0,9,  -999.00,   7.8524,2,    25.63,    1.303,2,   -999.0,9,   -999.0,9, -999.000,1,-999.0000,1,-999.0000,1,-999.0000,9,-999.0000,9, 26.345, 30.691, 34.940, 39.097, 43.163
33RO20110828,   A10,   106,  1,     19,    019,2,20000101,0000,-29.0404, -43.0040, 4073,    314.5,  14.2885,  35.4522,2,  35.4531,2,  35.6203,2,    209.9,2,    209.9,2,     2.54,2,     7.71,2,     0.01,2,     0.46,2,    2.771,2,    1.621,2,    1.048,3,   2116.4,2,   2332.9,2,   -999.0,9,  -999.00,   7.8393,2,    25.58,    1.228,2,   -999.0,9,   -999.0,9, -999.000,1,-999.0000,1,-999.0000,1,-999.0000,9,-999.0000,9, 26.486, 30.853, 35.123, 39.299, 43.385
33RO20110828,   A10,   106,  1,     18,    018,2,20000101,0000,-29.0404, -43.0040, 4073,    373.6,  13.3082,  35.2943,2,  35.2942,2,  35.4607,2,    209.7,2,    209.9,2,     3.22,2,     9.76,2,     0.01,2,     0.57,2,    2.890,2,    1.650,2,    1.184,3,   -999.0,9,   2323.9,2,   -999.0,9,  -999.00,   7.8008,2,    25.63,    1.260,2,   -999.0,9,   -999.0,9, -999.000,1,-999.0000,1,-999.0000,1,-999.0000,9,-999.0000,9, 26.569, 30.956, 35.245, 39.440, 43.543
33RO20110828,   A10,   106,  1,     17,    017,2,20000101,0000,-29.0404, -43.0040, 4073,    460.1,  11.8116,  35.0675,2,  35.0699,2,  35.2353,2,    208.9,2,    208.3,2,     4.49,2,    13.27,2,     0.00,2,     0.74,2,    3.022,2,    1.692,2,    1.444,3,   2131.1,2,   2313.7,2,   -999.0,9,  -999.00,   7.7757,2,    25.70,    1.098,2,   -999.0,9,   -999.0,9, -999.000,1,-999.0000,1,-999.0000,1,-999.0000,9,-999.0000,9, 26.691, 31.109, 35.428, 39.653, 43.784
33RO20110828,   A10,   106,  1,     16,    016,2,20000101,0000,-29.0404, -43.0040, 4073,    525.4,  10.0596,  34.8119,2,  34.8120,2,  34.9761,2,    207.7,2,    208.0,2,     6.44,2,    17.37,2,     0.00,2,     0.95,2,    3.158,2,    1.714,2,    1.979,3,   -999.0,9,   2301.0,2,   -999.0,9,  -999.00,   7.7264,2,    25.55,    1.068,2,   -999.0,9,   -999.0,9, -999.000,1,-999.0000,1,-999.0000,1,-999.0000,9,-999.0000,9, 26.806, 31.262, 35.619, 39.879, 44.045
33RO20110828,   A10,   106,  1,     15,    015,2,20000101,0000,-29.0404, -43.0040, 4073,    625.8,   7.7375,  34.5281,2,  34.5296,2,  34.6924,2,    215.1,2,    214.4,2,    10.06,2,    22.45,2,     0.00,2,     1.22,2,    3.296,2,    1.737,2,    3.081,3,   -999.0,9,   2290.0,2,   -999.0,9,  -999.00,   7.6798,2,    25.63,    0.937,2,   -999.0,9,   -999.0,9, -999.000,1,-999.0000,1,-999.0000,1,-999.0000,9,-999.0000,9, 26.952, 31.463, 35.872, 40.183, 44.398
33RO20110828,   A10,   106,  1,     14,    014,2,20000101,0000,-29.0404, -43.0040, 4073,    724.0,   5.9863,  34.3499,2,  34.3531,2,  34.5150,2,    226.6,2,    229.1,2,    13.18,2,    25.29,2,     0.00,2,     1.38,2,    3.424,2,    1.790,2,    4.229,3,   -999.0,9,   2285.3,3,   -999.0,9,  -999.00,   7.6446,2,    25.62,    0.971,2,   -999.0,9,   -999.0,9, -999.000,1,-999.0000,1,-999.0000,1,-999.0000,9,-999.0000,9, 27.051, 31.605, 36.056, 40.408, 44.662
33RO20110828,   A10,   106,  1,     13,    013,2,20000101,0000,-29.0404, -43.0040, 4073,    822.5,   5.0247,  34.3028,2,  34.3041,2,  34.4659,2,    228.8,2,    226.7,2,    18.94,2,    27.83,2,     0.00,2,     1.57,2,    3.062,2,    1.556,2,    4.255,3,   2171.3,2,   2288.4,2,   -999.0,9,  -999.00,   7.6281,2,    25.58,    0.704,2,   -999.0,9,   -999.0,9, -999.000,1,-999.0000,1,-999.0000,1,-999.0000,9,-999.0000,9, 27.128, 31.706, 36.181, 40.556, 44.833
33RO20110828,   A10,   106,  1,     12,    012,2,20000101,0000,-29.0404, -43.0040, 4073,    925.0,   4.2509,  34.2821,2,  34.2837,2,  34.4454,2,    222.0,2,    224.5,2,    25.19,2,    29.59,2,     0.00,2,     1.71,2,    2.682,2,    1.338,2,    4.088,3,   -999.0,9,   2291.4,2,   -999.0,9,  -999.00,   7.6035,2,    25.60,    0.563,2,   -999.0,9,   -999.0,9, -999.000,1,-999.0000,1,-999.0000,1,-999.0000,9,-999.0000,9, 27.198, 31.796, 36.290, 40.684, 44.979
33RO20110828,   A10,   106,  1,     11,    011,2,20000101,0000,-29.0404, -43.0040, 4073,   1024.8,   3.8237,  34.3246,2,  34.3271,2,  34.4890,2,    211.9,2,    210.9,2,    33.49,2,    31.15,2,     0.00,2,     1.87,2,    1.946,2,    0.953,2,    3.266,3,   -999.0,9,   2298.8,2,   -999.0,9,  -999.00,   7.5903,2,    25.59,    0.343,2,   -999.0,9,   -999.0,9, -999.000,1,-999.0000,1,-999.0000,1,-999.0000,9,-999.0000,9, 27.276, 31.885, 36.391, 40.795, 45.100
33RO20110828,   A10,   106,  1,     10,    010,2,20000101,0000,-29.0404, -43.0040, 4073,   1175.5,   3.4505,  34.4200,2,  34.4217,2,  34.5840,2,    193.7,2,    193.3,2,    44.32,2,    32.51,2,     0.00,2,     2.05,2,    0.959,2,    0.466,2,    1.944,3,   2215.9,2,   2312.1,2,   -999.0,9,  -999.00,   7.5664,2,    25.66,    0.134,2,   -999.0,9,   -999.0,9, -999.000,1,-999.0000,1,-999.0000,1,-999.0000,9,-999.0000,9, 27.389, 32.008, 36.522, 40.935, 45.248
33RO20110828,   A10,   106,  1,      9,    009,2,20000101,0000,-29.0404, -43.0040, 4073,   1351.1,   3.0977,  34.5266,2,  34.5275,2,  34.6903,2,    188.3,2,    188.0,2,    52.03,2,    32.12,2,     0.00,2,     2.09,2,    0.474,2,    0.229,2,    1.166,3,   2226.1,2,   2321.8,2,   -999.0,9,  -999.00,   7.5729,2,    25.62,    0.097,2,   -999.0,9,   -999.0,9, -999.000,1,-999.0000,1,-999.0000,1,-999.0000,9,-999.0000,9, 27.508, 32.135, 36.658, 41.080, 45.401
33RO20110828,   A10,   106,  1,      8,    008,2,20000101,0000,-29.0404, -43.0040, 4073,   1550.1,   3.1438,  34.6695,2,  34.6745,2,  34.8380,2,    193.4,2,    194.1,2,    49.98,2,    29.77,2,     0.00,2,     1.96,2,    0.180,2,    0.087,2,    0.637,3,   2220.2,2,   2325.8,2,   -999.0,9,  -999.00,   7.5971,2,    25.61,    0.055,2,   -999.0,9,   -999.0,9, -999.000,9,-999.0000,1,-999.0000,9,-999.0000,9,-999.0000,9, 27.622, 32.248, 36.769, 41.189, 45.508
33RO20110828,   A10,   106,  1,      7,    007,2,20000101,0000,-29.0404, -43.0040, 4073,   1850.0,   3.2751,  34.8322,2,  34.8345,2,  34.9988,2,    218.6,2,    219.5,2,    38.94,2,    24.99,2,     0.00,2,     1.61,2,    0.123,2,    0.064,2,    0.528,3,   -999.0,9,   2324.6,2,   -999.0,9,  -999.00,   7.6451,2,    25.59,    0.040,2,   -999.0,9,   -999.0,9, -999.000,1,-999.0000,1,-999.0000,9,-999.0000,9,-999.0000,9, 27.741, 32.362, 36.879, 41.295, 45.611
33RO20110828,   A10,   106,  1,      6,    006,2,20000101,0000,-29.0404, -43.0040, 4073,   2151.0,   3.3500,  34.9209,2,  34.9218,2,  35.0865,2,    241.9,2,    241.7,2,    28.11,2,    21.28,2,     0.00,2,     1.31,2,    0.178,2,    0.091,2,    0.704,3,   -999.0,9,   2321.2,2,   -999.0,9,  -999.00,   7.6854,2,    25.53,    0.000,2,   -999.0,9,   -999.0,9, -999.000,9,-999.0000,1,-999.0000,9,-999.0000,9,-999.0000,9, 27.806, 32.425, 36.941, 41.355, 45.669
33RO20110828,   A10,   106,  1,      5,    005,2,20000101,0000,-29.0404, -43.0040, 4073,   2499.9,   3.1604,  34.9396,2,  34.9417,6,  35.1065,6,    251.7,2,    251.3,2,    26.15,2,    20.01,2,     0.00,2,     1.22,2,    0.170,2,    0.087,2,    0.658,3,   -999.0,9,   2322.0,2,   -999.0,9,  -999.00,   7.7026,2,    25.57,    0.041,2,   -999.0,9,   -999.0,9, -999.000,1,-999.0000,1,-999.0000,9,-999.0000,9,-999.0000,9, 27.841, 32.466, 36.987, 41.406, 45.725
33RO20110828,   A10,   106,  1,      4,    004,2,20000101,0000,-29.0404, -43.0040, 4073,   2850.6,   2.9108,  34.9253,2,  34.9264,2,  35.0911,2,    251.4,2,    251.6,2,    30.94,2,    20.40,2,     0.00,2,     1.30,2,    0.105,2,    0.054,2,    0.530,3,   2177.3,2,   2326.8,2,   -999.0,9,  -999.00,   7.7034,2,    25.57,    0.000,2,   -999.0,9,   -999.0,9, -999.000,9,-999.0000,1,-999.0000,9,-999.0000,9,-999.0000,9, 27.856, 32.488, 37.017, 41.443, 45.770
33RO20110828,   A10,   106,  1,      3,    003,2,20000101,0000,-29.0404, -43.0040, 4073,   3400.2,   2.3822,  34.8848,2,  34.8861,2,  35.0506,2,    248.7,2,    249.4,2,    44.99,2,    22.15,2,     0.00,2,     1.51,2,    0.068,2,    0.035,2,    0.381,3,   -999.0,9,   2333.8,2,   -999.0,9,  -999.00,   7.6918,2,    25.59,    0.040,2,   -999.0,9,   -999.0,9, -999.000,1,-999.0000,1,-999.0000,9,-999.0000,9,-999.0000,9, 27.872, 32.521, 37.065, 41.507, 45.848
33RO20110828,   A10,   106,  1,      2,    002,2,20000101,0000,-29.0404, -43.0040, 4073,   3649.8,   1.2718,  34.7698,2,  34.7726,2,  34.9366,2,    230.4,2,    230.0,2,    89.80,2,    28.11,2,     0.00,2,     2.26,2,    0.119,2,    0.058,2,    0.427,3,   -999.0,9,   2354.4,2,   -999.0,9,  -999.00,   7.6263,2,    25.66,    0.109,2,   -999.0,9,   -999.0,9, -999.000,1,-999.0000,1,-999.0000,9,-999.0000,9,-999.0000,9, 27.863, 32.544, 37.120, 41.592, 45.962
33RO20110828,   A10,   106,  1,      1,    001,2,20000101,0000,-29.0404, -43.0040, 4073,   4065.9,   0.5349,  34.6948,2,  34.6968,2,  34.8604,2,    219.7,2,    219.9,2,   118.89,2,    31.82,2,     0.00,2,     2.74,2,    0.284,2,    0.134,2,    0.704,3,   2260.4,6,   2365.6,2,   -999.0,9,  -999.00,   7.5917,2,    25.54,    0.077,2,   -999.0,9,   -999.0,9, -999.000,1,-999.0000,1,-999.0000,9,-999.0000,9,-999.0000,9, 27.849, 32.552, 37.151, 41.644, 46.035