BOTTLE,20130715NOAA
EXPOCODE,SECT_ID,STNNBR,CASTNO,SAMPNO,BTLNBR,BTLNBR_FLAG_W,DATE,TIME,LATITUDE,LONGITUDE,DEPTH,CTDPRS,CTDTMP,CTDSAL,CTDSAL_FLAG_W,SALNTY,SALNTY_FLAG_W,SALTREF,SALTREF_FLAG_W,CTDOXY,CTDOXY_FLAG_W,OXYGEN,OXYGEN_FLAG_W,SILCAT,SILCAT_FLAG_W,NITRAT,NITRAT_FLAG_W,NITRIT,NITRIT_FLAG_W,PHSPHT,PHSPHT_FLAG_W,CFC-11,CFC-11_FLAG_W,CFC-12,CFC-12_FLAG_W,CCL4,CCL4_FLAG_W,TCARBN,TCARBN_FLAG_W,ALKALI,ALKALI_FLAG_W,PCO2,PCO2_FLAG_W,PCO2TMP,PH_TOT,PH_TOT_FLAG_W,PH_TMP,SF6,SF6_FLAG_W,DOC,DOC_FLAG_W,TDN,TDN_FLAG_W,TRITUM,TRITUM_FLAG_W,HELIUM,HELIUM_FLAG_W,OXY_18,OXY_18_FLAG_W,BLACKC,BLACKC_FLAG_W,PIGMENTS,PIGMENTS_FLAG_W,SIGMA-THETA,SIGMA-1,SIGMA-2,SIGMA-3,SIGMA-4
,,,,,,,,,,,METERS,DBARS,ITS-90,PSS-78,,PSS-78,,G/KG,,UMOL/KG,,UMOL/KG,,UMOL/KG,,UMOL/KG,,UMOL/KG,,UMOL/KG,,PMOL/KG,,PMOL/KG,,PMOL/KG,,UMOL/KG,,UMOL/KG,,UATM@T,,DEG_C,,,DEG_C,FMOL/KG,,UMOL/KG,,UMOL/KG,,TU,,NMOL/KG,,,,,,,,,,,,
33RO20110828,   A10,    56,  1,     24,    024,2,20000101,0000,-30.0004, -15.1884, 3420,      4.7,  17.6941,  35.8849,2,  35.8848,2,  36.0540,2,    239.2,2,    238.6,2,     1.27,2,     0.00,2,     0.01,2,     0.16,2,    2.364,2,    1.423,2,    4.141,3,   2082.5,6,   2354.4,2,   -999.0,9,  -999.00,   7.9068,2,    25.56,    1.452,2,   -999.0,1,   -999.0,1, -999.000,9,-999.0000,9,-999.0000,9,-999.0000,9,-999.0000,1, 26.026, 30.329, 34.537, 38.654, 42.682
33RO20110828,   A10,    56,  1,     23,    023,3,20000101,0000,-30.0004, -15.1884, 3420,     29.3,  17.6835,  35.8821,2,  35.8821,2,  36.0513,2,    238.8,2,    238.8,2,     1.27,2,     0.00,2,     0.01,2,     0.16,2,    2.357,2,    1.421,2,    4.220,3,   2082.4,2,   2353.2,2,   -999.0,9,  -999.00,   7.9086,2,    25.54,    1.397,2,   -999.0,1,   -999.0,1, -999.000,9,-999.0000,9,-999.0000,9,-999.0000,9,-999.0000,9, 26.027, 30.331, 34.539, 38.656, 42.684
33RO20110828,   A10,    56,  1,     22,    022,2,20000101,0000,-30.0004, -15.1884, 3420,     80.2,  17.6162,  35.8772,2,  35.8798,2,  36.0490,2,    237.7,2,    238.1,2,     1.37,2,     0.00,2,     0.01,2,     0.17,2,    2.371,2,    1.426,2,    4.209,3,   2082.3,2,   2352.1,2,   -999.0,9,  -999.00,   7.9236,2,    25.58,    1.426,2,   -999.0,1,   -999.0,1, -999.000,9,-999.0000,9,-999.0000,9,-999.0000,9,-999.0000,9, 26.044, 30.349, 34.559, 38.677, 42.706
33RO20110828,   A10,    56,  1,     21,    021,2,20000101,0000,-30.0004, -15.1884, 3420,    129.3,  16.6631,  35.7409,2,  35.7336,2,  35.9021,2,    229.9,2,    230.0,2,     1.66,2,     1.56,2,     0.18,2,     0.29,2,    2.464,2,    1.476,2,    2.048,3,   2091.5,2,   2343.4,2,   -999.0,9,  -999.00,   7.9005,2,    25.61,    1.424,2,   -999.0,1,   -999.0,1, -999.000,9,-999.0000,9,-999.0000,9,-999.0000,9,-999.0000,1, 26.163, 30.485, 34.711, 38.845, 42.890
33RO20110828,   A10,    56,  1,     20,    020,2,20000101,0000,-30.0004, -15.1884, 3420,    200.0,  14.5402,  35.3883,2,  35.3883,2,  35.5552,2,    220.3,2,    219.9,2,     2.54,2,     5.76,2,     0.02,2,     0.55,2,    2.741,2,    1.609,2,    1.080,3,   2106.0,2,   2320.2,2,   -999.0,9,  -999.00,   7.8383,2,    25.58,    1.390,2,   -999.0,1,   -999.0,1, -999.000,9,-999.0000,9,-999.0000,9,-999.0000,9,-999.0000,9, 26.378, 30.741, 35.006, 39.179, 43.260
33RO20110828,   A10,    56,  1,     19,    019,2,20000101,0000,-30.0004, -15.1884, 3420,    300.3,  13.1227,  35.2107,2,  35.2126,2,  35.3786,2,    217.3,2,    217.6,2,     3.22,2,     8.88,2,     0.02,2,     0.75,2,    2.947,2,    1.692,2,    1.062,3,   2115.9,2,   2312.4,2,   -999.0,9,  -999.00,   7.8047,2,    25.66,    1.343,2,   -999.0,1,   -999.0,1, -999.000,9,-999.0000,9,-999.0000,9,-999.0000,9,-999.0000,9, 26.541, 30.932, 35.225, 39.424, 43.530
33RO20110828,   A10,    56,  1,     18,    018,2,20000101,0000,-30.0004, -15.1884, 3420,    399.9,  11.7204,  35.0313,2,  35.0332,2,  35.1984,2,    214.1,2,    215.7,2,     4.39,2,    12.49,2,     0.02,2,     0.98,2,    3.100,2,    1.743,2,    1.081,3,   2127.6,2,   2303.8,2,   -999.0,9,  -999.00,   7.7742,3,    25.54,    1.307,2,   -999.0,1,   -999.0,1, -999.000,9,-999.0000,9,-999.0000,9,-999.0000,9,-999.0000,9, 26.678, 31.098, 35.419, 39.645, 43.779
33RO20110828,   A10,    56,  1,     17,    017,2,20000101,0000,-30.0004, -15.1884, 3420,    499.4,   9.6344,  34.7541,2,  34.7474,2,  34.9113,2,    209.4,2,    209.2,2,     7.91,2,    18.45,2,     0.01,2,     1.38,2,    3.203,2,    1.728,2,    1.388,3,   2146.5,2,   2290.5,2,   -999.0,9,  -999.00,-999.0000,5,  -999.00,    1.091,2,   -999.0,1,   -999.0,1, -999.000,9,-999.0000,9,-999.0000,9,-999.0000,9,-999.0000,9, 26.826, 31.292, 35.658, 39.928, 44.102
33RO20110828,   A10,    56,  1,     16,    016,2,20000101,0000,-30.0004, -15.1884, 3420,    527.6,   8.9549,  34.6714,2,  34.6740,2,  34.8375,2,    209.0,2,    208.2,2,     9.08,2,    20.02,2,     0.01,2,     1.49,2,    3.232,2,    1.717,2,    1.565,3,   2149.2,2,   2287.5,2,   -999.0,9,  -999.00,   7.6960,2,    25.55,    1.030,2,   -999.0,1,   -999.0,1, -999.000,9,-999.0000,9,-999.0000,9,-999.0000,9,-999.0000,9, 26.879, 31.361, 35.742, 40.026, 44.215
33RO20110828,   A10,    56,  1,     15,    015,2,20000101,0000,-30.0004, -15.1884, 3420,    649.6,   6.6699,  34.4320,2,  34.4342,2,  34.5966,2,    213.2,2,    213.3,2,    14.16,2,    25.39,2,     0.01,2,     1.86,2,    3.259,2,    1.685,2,    2.198,3,   2164.6,2,   2280.9,2,   -999.0,9,  -999.00,   7.6353,2,    25.58,    0.902,2,   -999.0,1,   -999.0,1, -999.000,9,-999.0000,9,-999.0000,9,-999.0000,9,-999.0000,9, 27.026, 31.562, 35.997, 40.332, 44.571
33RO20110828,   A10,    56,  1,     14,    014,2,20000101,0000,-30.0004, -15.1884, 3420,    801.5,   4.7482,  34.2938,2,  34.2941,2,  34.4558,2,    224.0,2,    225.2,2,    21.58,2,    28.52,2,     0.01,2,     2.11,2,    3.046,2,    1.526,2,    2.590,3,   2177.2,2,   2284.1,2,   -999.0,9,  -999.00,   7.6129,2,    25.61,    0.709,2,   -999.0,1,   -999.0,1, -999.000,9,-999.0000,9,-999.0000,9,-999.0000,9,-999.0000,9, 27.151, 31.736, 36.218, 40.600, 44.882
33RO20110828,   A10,    56,  1,     13,    013,2,20000101,0000,-30.0004, -15.1884, 3420,    950.2,   3.8796,  34.3153,2,  34.3159,2,  34.4777,2,    216.0,2,    213.0,2,    32.82,2,    30.47,2,     0.01,2,     2.29,2,    2.242,2,    1.100,2,    2.109,3,   2177.3,4,   2293.3,2,   -999.0,9,  -999.00,   7.5887,2,    25.57,    0.413,2,   -999.0,1,   -999.0,1, -999.000,9,-999.0000,9,-999.0000,9,-999.0000,9,-999.0000,9, 27.261, 31.869, 36.373, 40.775, 45.079
33RO20110828,   A10,    56,  1,     12,    012,3,20000101,0000,-30.0004, -15.1884, 3420,   1050.2,   3.4775,  34.3709,2,-999.0000,5,-999.0000,5,   -999.0,9,   -999.0,9,  -999.00,5,  -999.00,5,  -999.00,5,  -999.00,5, -999.000,9, -999.000,9, -999.000,9,   -999.0,9,   -999.0,9,   -999.0,9,  -999.00,-999.0000,9,  -999.00, -999.000,9,   -999.0,9,   -999.0,9, -999.000,9,-999.0000,9,-999.0000,9,-999.0000,9,-999.0000,9, 27.345, 31.963, 36.477, 40.889, 45.202
33RO20110828,   A10,    56,  1,     11,    011,4,20000101,0000,-30.0004, -15.1884, 3420,   1299.3,   3.0154,  34.5342,2,  34.7113,4,  34.8750,4,    194.1,2,    202.5,2,    34.08,2,    24.61,2,     0.01,2,     1.86,2,    1.628,4,    0.881,4,    1.330,4,   2188.4,4,   2312.0,2,   -999.0,9,  -999.00,   7.6608,4,    25.58,    0.570,4,   -999.0,1,   -999.0,1, -999.000,9,-999.0000,9,-999.0000,9,-999.0000,9,-999.0000,9, 27.520, 32.149, 36.675, 41.098, 45.421
33RO20110828,   A10,    56,  1,     10,    010,2,20000101,0000,-30.0004, -15.1884, 3420,   1487.2,   2.8926,  34.6415,2,  34.6426,2,  34.8060,2,    196.9,2,    191.7,2,    56.24,2,    30.56,2,     0.01,2,     2.26,2,    0.239,2,    0.118,2,    0.471,3,   2227.8,2,   2322.0,2,   -999.0,9,  -999.00,   7.5868,2,    25.61,    0.000,2,   -999.0,1,   -999.0,1, -999.000,9,-999.0000,9,-999.0000,9,-999.0000,9,-999.0000,9, 27.619, 32.251, 36.779, 41.205, 45.531
33RO20110828,   A10,    56,  1,      9,    009,2,20000101,0000,-30.0004, -15.1884, 3420,   1689.6,   2.7990,  34.7136,2,  34.7126,6,  34.8763,6,    204.9,2,    201.8,2,    55.26,2,    28.51,2,     0.01,2,     2.13,2,    0.129,2,    0.063,2,    0.333,3,   2221.2,2,   2325.3,2,   -999.0,9,  -999.00,   7.6007,2,    25.61,    0.018,2,   -999.0,1,   -999.0,1, -999.000,9,-999.0000,9,-999.0000,9,-999.0000,9,-999.0000,9, 27.686, 32.321, 36.851, 41.279, 45.607
33RO20110828,   A10,    56,  1,      8,    008,2,20000101,0000,-30.0004, -15.1884, 3420,   1889.4,   2.7022,  34.7771,2,  34.7790,6,  34.9430,6,    215.2,2,    213.4,2,    52.92,2,    26.85,2,     0.01,2,     1.97,2,    0.062,2,    0.033,2,    0.169,3,   2213.3,2,   2326.1,2,   -999.0,9,  -999.00,   7.6258,2,    25.54,    0.044,2,   -999.0,1,   -999.0,1, -999.000,9,-999.0000,9,-999.0000,9,-999.0000,9,-999.0000,9, 27.746, 32.383, 36.916, 41.347, 45.677
33RO20110828,   A10,    56,  1,      7,    007,2,20000101,0000,-30.0004, -15.1884, 3420,   2099.8,   2.6373,  34.8132,2,  34.8137,2,  34.9779,2,    221.9,2,    222.5,2,    51.16,2,    25.58,2,     0.01,2,     1.87,2,    0.040,2,    0.021,2,    0.128,3,   2206.7,2,   2326.3,2,   -999.0,9,  -999.00,   7.6443,2,    25.62,    0.000,2,   -999.0,1,   -999.0,1, -999.000,9,-999.0000,9,-999.0000,9,-999.0000,9,-999.0000,9, 27.783, 32.422, 36.956, 41.389, 45.721
33RO20110828,   A10,    56,  1,      6,    006,2,20000101,0000,-30.0004, -15.1884, 3420,   2301.0,   2.5859,  34.8355,2,  34.8368,2,  35.0010,2,    227.9,2,    229.5,2,    49.30,2,    24.60,2,     0.01,2,     1.80,2,    0.025,2,    0.013,2,    0.101,3,   2202.3,2,   2327.3,2,   -999.0,9,  -999.00,   7.6585,2,    25.65,    0.000,2,   -999.0,1,   -999.0,1, -999.000,9,-999.0000,9,-999.0000,9,-999.0000,9,-999.0000,9, 27.807, 32.448, 36.984, 41.418, 45.752
33RO20110828,   A10,    56,  1,      5,    005,2,20000101,0000,-30.0004, -15.1884, 3420,   2501.1,   2.5634,  34.8454,2,  34.8456,2,  35.0099,2,    231.7,2,    233.7,2,    49.11,2,    24.41,2,     0.01,2,     1.77,2,    0.020,2,    0.012,2,    0.109,3,   2199.4,2,   2328.0,2,   -999.0,9,  -999.00,   7.6640,2,    25.60,    0.017,2,   -999.0,1,   -999.0,1, -999.000,9,-999.0000,9,-999.0000,9,-999.0000,9,-999.0000,9, 27.817, 32.459, 36.997, 41.432, 45.766
33RO20110828,   A10,    56,  1,      4,    004,2,20000101,0000,-30.0004, -15.1884, 3420,   2699.7,   2.5091,  34.8511,2,  34.8520,2,  35.0163,2,    234.1,2,    235.5,2,    49.59,2,    23.53,2,     0.01,2,     1.74,2,    0.018,2,    0.012,2,    0.085,3,   2198.5,2,   2328.9,2,   -999.0,9,  -999.00,   7.6610,2,    25.56,    0.064,2,   -999.0,1,   -999.0,1, -999.000,9,-999.0000,9,-999.0000,9,-999.0000,9,-999.0000,9, 27.829, 32.472, 37.012, 41.449, 45.785
33RO20110828,   A10,    56,  1,      3,    003,2,20000101,0000,-30.0004, -15.1884, 3420,   2896.4,   2.4281,  34.8566,2,  34.8577,2,  35.0221,2,    236.7,2,    237.8,2,    50.67,2,    23.82,2,     0.01,2,     1.73,2,    0.012,2,    0.008,2,    0.077,3,   2199.4,2,   2329.6,2,   -999.0,9,  -999.00,   7.6624,2,    25.63,    0.042,2,   -999.0,1,   -999.0,1, -999.000,9,-999.0000,9,-999.0000,9,-999.0000,9,-999.0000,9, 27.841, 32.488, 37.030, 41.469, 45.808
33RO20110828,   A10,    56,  1,      2,    002,2,20000101,0000,-30.0004, -15.1884, 3420,   3120.9,   2.3624,  34.8572,2,  34.8581,2,  35.0225,2,    239.8,2,    239.6,2,    51.94,2,    23.23,2,     0.01,2,     1.73,2,    0.011,2,    0.007,2,    0.079,3,   2198.6,2,   2330.3,2,   -999.0,9,  -999.00,   7.6694,2,    25.64,    0.069,2,   -999.0,1,   -999.0,1, -999.000,9,-999.0000,9,-999.0000,9,-999.0000,9,-999.0000,9, 27.849, 32.498, 37.042, 41.484, 45.824
33RO20110828,   A10,    56,  1,      1,    001,2,20000101,0000,-30.0004, -15.1884, 3420,   3520.5,   2.2774,  34.8565,2,  34.8574,2,  35.0217,2,    242.8,2,    240.9,2,    54.57,2,    23.53,2,     0.01,2,     1.74,2,    0.012,2,    0.006,2,    0.053,3,   2201.1,6,   2332.2,2,   -999.0,9,  -999.00,   7.6761,2,    25.56,    0.100,2,   -999.0,1,   -999.0,1, -999.000,9,-999.0000,9,-999.0000,9,-999.0000,9,-999.0000,9, 27.858, 32.511, 37.058, 41.503, 45.847