BOTTLE,20130715NOAA
EXPOCODE,SECT_ID,STNNBR,CASTNO,SAMPNO,BTLNBR,BTLNBR_FLAG_W,DATE,TIME,LATITUDE,LONGITUDE,DEPTH,CTDPRS,CTDTMP,CTDSAL,CTDSAL_FLAG_W,SALNTY,SALNTY_FLAG_W,SALTREF,SALTREF_FLAG_W,CTDOXY,CTDOXY_FLAG_W,OXYGEN,OXYGEN_FLAG_W,SILCAT,SILCAT_FLAG_W,NITRAT,NITRAT_FLAG_W,NITRIT,NITRIT_FLAG_W,PHSPHT,PHSPHT_FLAG_W,CFC-11,CFC-11_FLAG_W,CFC-12,CFC-12_FLAG_W,CCL4,CCL4_FLAG_W,TCARBN,TCARBN_FLAG_W,ALKALI,ALKALI_FLAG_W,PCO2,PCO2_FLAG_W,PCO2TMP,PH_TOT,PH_TOT_FLAG_W,PH_TMP,SF6,SF6_FLAG_W,DOC,DOC_FLAG_W,TDN,TDN_FLAG_W,TRITUM,TRITUM_FLAG_W,HELIUM,HELIUM_FLAG_W,OXY_18,OXY_18_FLAG_W,BLACKC,BLACKC_FLAG_W,PIGMENTS,PIGMENTS_FLAG_W,SIGMA-THETA,SIGMA-1,SIGMA-2,SIGMA-3,SIGMA-4
,,,,,,,,,,,METERS,DBARS,ITS-90,PSS-78,,PSS-78,,G/KG,,UMOL/KG,,UMOL/KG,,UMOL/KG,,UMOL/KG,,UMOL/KG,,UMOL/KG,,PMOL/KG,,PMOL/KG,,PMOL/KG,,UMOL/KG,,UMOL/KG,,UATM@T,,DEG_C,,,DEG_C,FMOL/KG,,UMOL/KG,,UMOL/KG,,TU,,NMOL/KG,,,,,,,,,,,,
33RO20110828,   A10,     7,  1,     24,    024,2,20000101,0000,-29.4999,  12.4749, 3640,      4.7,  16.1630,  35.3933,2,  35.3936,2,  35.5605,2,    249.7,2,    250.6,2,     2.83,2,     1.17,2,     0.08,2,     0.30,2,    2.579,2,    1.552,2,    3.236,2,   2063.7,6,   2328.6,2,   -999.0,9,  -999.00,   7.9378,2,    25.23,    1.546,2,   -999.0,1,   -999.0,1, -999.000,9,-999.0000,9,-999.0000,9,-999.0000,9,-999.0000,1, 26.013, 30.346, 34.583, 38.727, 42.781
33RO20110828,   A10,     7,  1,     23,    023,2,20000101,0000,-29.4999,  12.4749, 3640,     19.8,  16.1652,  35.3955,2,  35.3958,2,  35.5627,2,    248.9,2,    250.8,2,     2.83,2,     1.17,2,     0.08,2,     0.30,2,    2.572,2,    1.546,2,    3.167,2,   2063.9,2,   2329.3,2,   -999.0,9,  -999.00,   7.9345,2,    25.35,    1.542,2,   -999.0,1,   -999.0,1, -999.000,9,-999.0000,9,-999.0000,9,-999.0000,9,-999.0000,9, 26.015, 30.347, 34.584, 38.729, 42.783
33RO20110828,   A10,     7,  1,     22,    022,2,20000101,0000,-29.4999,  12.4749, 3640,     41.0,  16.0515,  35.4582,2,  35.4589,2,  35.6262,2,    249.9,2,    249.4,2,     2.93,2,     1.17,2,     0.10,2,     0.27,2,    2.546,2,    1.543,2,    2.960,2,   2059.2,2,   2329.4,2,   -999.0,9,  -999.00,   7.9448,2,    25.33,    1.542,2,   -999.0,1,   -999.0,1, -999.000,9,-999.0000,9,-999.0000,9,-999.0000,9,-999.0000,1, 26.090, 30.425, 34.663, 38.809, 42.864
33RO20110828,   A10,     7,  1,     21,    021,2,20000101,0000,-29.4999,  12.4749, 3640,     80.2,  15.5510,  35.4147,2,  35.4187,6,  35.5857,6,    252.2,2,    243.6,2,     3.41,2,     2.54,2,     0.33,2,     0.40,2,    2.551,2,    1.556,2,    2.634,2,   2069.6,2,   2328.5,2,   -999.0,9,  -999.00,   7.9198,2,    25.26,    1.538,2,   -999.0,1,   -999.0,1, -999.000,9,-999.0000,9,-999.0000,9,-999.0000,9,-999.0000,1, 26.175, 30.518, 34.766, 38.920, 42.984
33RO20110828,   A10,     7,  1,     20,    020,2,20000101,0000,-29.4999,  12.4749, 3640,    127.9,  13.4281,  35.1447,2,  35.4188,2,  35.5859,2,    229.5,2,    243.2,2,     3.41,2,     2.54,2,     0.32,2,     0.39,2,    2.601,2,    1.564,2,    2.732,2,   2070.6,2,   2329.5,2,   -999.0,9,  -999.00,   7.9246,2,    25.27,    1.533,2,   -999.0,1,   -999.0,1, -999.000,9,-999.0000,9,-999.0000,9,-999.0000,9,-999.0000,9, 26.634, 31.017, 35.302, 39.494, 43.593
33RO20110828,   A10,     7,  1,     19,    019,2,20000101,0000,-29.4999,  12.4749, 3640,    179.5,  11.6395,  34.9723,2,  34.9722,2,  35.1371,2,    208.3,2,    203.7,2,     6.25,2,    14.15,2,     0.01,2,     1.09,2,    3.024,2,    1.740,2,    1.120,2,   2127.6,2,   2303.6,2,   -999.0,9,  -999.00,   7.7635,2,    25.19,    1.265,2,   -999.0,1,   -999.0,1, -999.000,9,-999.0000,9,-999.0000,9,-999.0000,9,-999.0000,9, 26.640, 31.061, 35.385, 39.612, 43.747
33RO20110828,   A10,     7,  1,     18,    018,2,20000101,0000,-29.4999,  12.4749, 3640,    239.7,  10.6463,  34.8708,2,  34.8711,2,  35.0356,2,    205.9,2,    203.0,2,     8.20,2,    16.49,2,     0.01,2,     1.27,2,    3.109,2,    1.729,2,    1.207,2,   2136.1,2,   2300.2,2,   -999.0,9,  -999.00,   7.7368,2,    25.24,    1.148,2,   -999.0,1,   -999.0,1, -999.000,9,-999.0000,9,-999.0000,9,-999.0000,9,-999.0000,9, 26.744, 31.186, 35.530, 39.778, 43.932
33RO20110828,   A10,     7,  1,     17,    017,2,20000101,0000,-29.4999,  12.4749, 3640,    378.1,   8.2288,  34.5981,2,  34.5993,2,  34.7625,2,    199.2,2,    199.4,2,    13.76,2,    22.45,2,     0.01,2,     1.68,2,    3.035,2,    1.626,2,    1.822,2,   2155.5,2,   2290.8,2,   -999.0,9,  -999.00,   7.6727,2,    25.30,    0.969,2,   -999.0,1,   -999.0,1, -999.000,9,-999.0000,9,-999.0000,9,-999.0000,9,-999.0000,9, 26.931, 31.428, 35.826, 40.125, 44.329
33RO20110828,   A10,     7,  1,     16,    016,2,20000101,0000,-29.4999,  12.4749, 3640,    451.8,   6.9871,  34.4796,2,  34.4770,2,  34.6396,2,    206.7,2,    208.0,2,    16.60,2,    24.89,2,     0.02,2,     1.83,2,    2.997,2,    1.570,2,    2.208,2,   2160.2,2,   2287.8,2,   -999.0,9,  -999.00,   7.6604,2,    25.29,    0.869,2,   -999.0,1,   -999.0,1, -999.000,9,-999.0000,9,-999.0000,9,-999.0000,9,-999.0000,9, 27.014, 31.542, 35.969, 40.296, 44.527
33RO20110828,   A10,     7,  1,     15,    015,2,20000101,0000,-29.4999,  12.4749, 3640,    518.1,   6.0335,  34.4089,2,  34.4115,2,  34.5737,2,    200.4,2,    193.9,2,    19.62,2,    28.70,2,     0.01,2,     2.07,2,    2.732,2,    1.413,2,    2.054,2,   2177.1,2,   2286.4,2,   -999.0,9,  -999.00,   7.6131,3,    25.34,    0.717,2,   -999.0,1,   -999.0,1, -999.000,9,-999.0000,9,-999.0000,9,-999.0000,9,-999.0000,9, 27.089, 31.640, 36.090, 40.440, 44.692
33RO20110828,   A10,     7,  1,     14,    014,2,20000101,0000,-29.4999,  12.4749, 3640,    590.2,   5.2052,  34.3681,2,  34.3714,2,  34.5335,2,    194.6,2,    195.1,2,    24.11,2,    30.27,2,     0.01,2,     2.20,2,    2.451,2,    1.240,2,    2.203,2,   2184.4,2,   2291.2,2,   -999.0,9,  -999.00,   7.5957,3,    25.28,    0.609,2,   -999.0,1,   -999.0,1, -999.000,9,-999.0000,9,-999.0000,9,-999.0000,9,-999.0000,9, 27.159, 31.731, 36.201, 40.570, 44.842
33RO20110828,   A10,     7,  1,     13,    013,2,20000101,0000,-29.4999,  12.4749, 3640,    659.7,   4.5244,  34.3337,2,  34.3356,2,  34.4975,2,    204.7,2,    210.6,2,    29.19,2,    30.17,2,     0.01,2,     2.21,2,    2.496,2,    1.262,2,    2.294,2,   2184.1,2,   2284.3,3,   -999.0,9,  -999.00,   7.6109,2,    25.28,    0.608,2,   -999.0,1,   -999.0,1, -999.000,9,-999.0000,9,-999.0000,9,-999.0000,9,-999.0000,9, 27.207, 31.797, 36.284, 40.670, 44.958
33RO20110828,   A10,     7,  1,     12,    012,2,20000101,0000,-29.4999,  12.4749, 3640,    818.0,   3.7696,  34.4029,2,  34.4064,2,  34.5687,2,    188.6,2,    189.6,2,    44.22,2,    32.70,2,     0.01,2,     2.39,2,    1.468,2,    0.718,2,    1.604,2,   2207.6,2,   2309.0,2,   -999.0,9,  -999.00,   7.5727,2,    25.30,    0.298,2,   -999.0,1,   -999.0,1, -999.000,9,-999.0000,9,-999.0000,9,-999.0000,9,-999.0000,9, 27.343, 31.953, 36.458, 40.863, 45.168
33RO20110828,   A10,     7,  1,     11,    011,2,20000101,0000,-29.4999,  12.4749, 3640,    968.2,   3.4451,  34.5050,2,  34.5045,2,  34.6672,2,    179.4,2,    173.9,2,    57.99,2,    33.39,2,     0.01,2,     2.47,2,    0.797,2,    0.381,2,    1.002,2,   2228.5,2,   2321.7,2,   -999.0,9,  -999.00,   7.5583,2,    25.33,    0.173,2,   -999.0,1,   -999.0,1, -999.000,9,-999.0000,9,-999.0000,9,-999.0000,9,-999.0000,9, 27.454, 32.072, 36.585, 40.997, 45.310
33RO20110828,   A10,     7,  1,     10,    010,2,20000101,0000,-29.4999,  12.4749, 3640,   1120.5,   3.1805,  34.5924,2,  34.5948,2,  34.7579,2,    175.3,2,    178.3,2,    54.57,2,    32.31,2,     0.01,2,     2.36,2,    0.306,2,    0.142,2,    0.443,2,   2225.4,6,   2333.9,2,   -999.0,9,  -999.00,   7.5695,2,    25.33,    0.063,2,   -999.0,1,   -999.0,1, -999.000,9,-999.0000,9,-999.0000,9,-999.0000,9,-999.0000,9, 27.552, 32.176, 36.696, 41.115, 45.433
33RO20110828,   A10,     7,  1,      9,    009,2,20000101,0000,-29.4999,  12.4749, 3640,   1319.6,   3.0172,  34.6982,2,  34.6987,6,  34.8623,6,    187.0,2,    190.3,2,    54.37,2,    30.06,2,     0.00,2,     2.19,2,    0.125,2,    0.058,2,    0.217,2,   2218.1,2,   2328.0,2,   -999.0,9,  -999.00,   7.5945,2,    25.33,    0.000,2,   -999.0,1,   -999.0,1, -999.000,9,-999.0000,9,-999.0000,9,-999.0000,9,-999.0000,9, 27.652, 32.280, 36.804, 41.225, 45.547
33RO20110828,   A10,     7,  1,      8,    008,2,20000101,0000,-29.4999,  12.4749, 3640,   1591.5,   3.1813,  34.8231,2,  34.8242,2,  34.9884,2,    208.4,2,    209.3,2,    40.70,2,    26.25,2,     0.00,2,     1.89,2,    0.016,2,    0.009,2,    0.055,2,   2194.0,3,   2312.8,3,   -999.0,9,  -999.00,   7.6462,2,    25.34,    0.000,2,   -999.0,1,   -999.0,1, -999.000,9,-999.0000,9,-999.0000,9,-999.0000,9,-999.0000,9, 27.739, 32.362, 36.881, 41.299, 45.616
33RO20110828,   A10,     7,  1,      7,    007,2,20000101,0000,-29.4999,  12.4749, 3640,   1860.3,   2.9951,  34.8493,2,  34.8520,2,  35.0164,2,    221.0,2,    220.6,2,    41.67,2,    24.89,2,     0.00,2,     1.80,2,    0.012,2,    0.007,2,    0.046,2,   2191.1,3,   2314.7,3,   -999.0,9,  -999.00,   7.6617,2,    25.32,    0.000,2,   -999.0,1,   -999.0,1, -999.000,9,-999.0000,9,-999.0000,9,-999.0000,9,-999.0000,9, 27.780, 32.409, 36.933, 41.356, 45.678
33RO20110828,   A10,     7,  1,      6,    006,2,20000101,0000,-29.4999,  12.4749, 3640,   2150.4,   2.8378,  34.8686,2,  34.8711,2,  35.0356,2,    229.2,2,    227.8,2,    41.96,2,    24.01,2,     0.00,2,     1.73,2,    0.006,2,    0.004,2,    0.039,2,   2188.6,3,   2319.6,2,   -999.0,9,  -999.00,   7.6729,2,    25.31,    0.000,2,   -999.0,1,   -999.0,1, -999.000,9,-999.0000,9,-999.0000,9,-999.0000,9,-999.0000,9, 27.812, 32.445, 36.974, 41.401, 45.728
33RO20110828,   A10,     7,  1,      5,    005,2,20000101,0000,-29.4999,  12.4749, 3640,   2448.4,   2.6355,  34.8627,2,  34.8647,2,  35.0291,2,    231.2,2,    230.0,2,    46.94,2,    24.11,2,     0.00,2,     1.74,2,    0.010,2,    0.006,2,    0.038,2,   2190.8,3,   2323.2,2,   -999.0,9,  -999.00,   7.6773,2,    25.29,    0.000,2,   -999.0,1,   -999.0,1, -999.000,9,-999.0000,9,-999.0000,9,-999.0000,9,-999.0000,9, 27.826, 32.466, 37.001, 41.434, 45.766
33RO20110828,   A10,     7,  1,      4,    004,2,20000101,0000,-29.4999,  12.4749, 3640,   2749.6,   2.4865,  34.8588,2,  34.8623,2,  35.0267,2,    231.5,2,    230.6,2,    50.75,2,    24.20,2,     0.00,2,     1.75,2,    0.005,2,    0.003,2,    0.026,2,   2194.3,3,   2335.0,2,   -999.0,9,  -999.00,   7.6789,2,    25.28,    0.000,2,   -999.0,1,   -999.0,1, -999.000,9,-999.0000,9,-999.0000,9,-999.0000,9,-999.0000,9, 27.839, 32.484, 37.024, 41.461, 45.798
33RO20110828,   A10,     7,  1,      3,    003,2,20000101,0000,-29.4999,  12.4749, 3640,   3049.5,   2.3823,  34.8582,2,  34.8606,2,  35.0250,2,    230.7,2,    232.6,2,    53.97,2,    24.30,2,     0.01,2,     1.75,2,    0.006,2,    0.003,2,    0.016,2,   2199.2,3,   2330.4,2,   -999.0,9,  -999.00,   7.6957,2,    25.37,    0.000,2,   -999.0,1,   -999.0,1, -999.000,9,-999.0000,9,-999.0000,9,-999.0000,9,-999.0000,9, 27.849, 32.497, 37.040, 41.481, 45.821
33RO20110828,   A10,     7,  1,      2,    002,2,20000101,0000,-29.4999,  12.4749, 3640,   3349.0,   2.2842,  34.8534,2,  34.8555,2,  35.0198,2,    229.2,2,    231.9,2,    57.29,2,    24.59,2,     0.01,2,     1.78,2,    0.007,2,    0.004,2,    0.016,2,   2205.1,3,   2346.5,2,   -999.0,9,  -999.00,   7.6814,2,    25.32,    0.000,2,   -999.0,1,   -999.0,1, -999.000,9,-999.0000,9,-999.0000,9,-999.0000,9,-999.0000,9, 27.855, 32.506, 37.053, 41.498, 45.841
33RO20110828,   A10,     7,  1,      1,    001,2,20000101,0000,-29.4999,  12.4749, 3640,   3680.6,   1.9659,  34.8210,2,  34.8226,2,  34.9868,2,    226.6,2,    225.0,2,    72.22,2,    26.35,2,     0.02,2,     1.92,2,    0.012,2,    0.008,2,    0.045,2,   2220.8,3,   2356.5,2,   -999.0,9,  -999.00,   7.6779,2,    25.31,    0.000,2,   -999.0,1,   -999.0,1, -999.000,9,-999.0000,9,-999.0000,9,-999.0000,9,-999.0000,9, 27.855, 32.517, 37.074, 41.527, 45.880