BOTTLE,20130715NOAA
EXPOCODE,SECT_ID,STNNBR,CASTNO,SAMPNO,BTLNBR,BTLNBR_FLAG_W,DATE,TIME,LATITUDE,LONGITUDE,DEPTH,CTDPRS,CTDTMP,CTDSAL,CTDSAL_FLAG_W,SALNTY,SALNTY_FLAG_W,SALTREF,SALTREF_FLAG_W,CTDOXY,CTDOXY_FLAG_W,OXYGEN,OXYGEN_FLAG_W,SILCAT,SILCAT_FLAG_W,NITRAT,NITRAT_FLAG_W,NITRIT,NITRIT_FLAG_W,PHSPHT,PHSPHT_FLAG_W,CFC-11,CFC-11_FLAG_W,CFC-12,CFC-12_FLAG_W,CCL4,CCL4_FLAG_W,TCARBN,TCARBN_FLAG_W,ALKALI,ALKALI_FLAG_W,PCO2,PCO2_FLAG_W,PCO2TMP,PH_TOT,PH_TOT_FLAG_W,PH_TMP,SF6,SF6_FLAG_W,DOC,DOC_FLAG_W,TDN,TDN_FLAG_W,TRITUM,TRITUM_FLAG_W,HELIUM,HELIUM_FLAG_W,OXY_18,OXY_18_FLAG_W,BLACKC,BLACKC_FLAG_W,PIGMENTS,PIGMENTS_FLAG_W,SIGMA-THETA,SIGMA-1,SIGMA-2,SIGMA-3,SIGMA-4
,,,,,,,,,,,METERS,DBARS,ITS-90,PSS-78,,PSS-78,,G/KG,,UMOL/KG,,UMOL/KG,,UMOL/KG,,UMOL/KG,,UMOL/KG,,UMOL/KG,,PMOL/KG,,PMOL/KG,,PMOL/KG,,UMOL/KG,,UMOL/KG,,UATM@T,,DEG_C,,,DEG_C,FMOL/KG,,UMOL/KG,,UMOL/KG,,TU,,NMOL/KG,,,,,,,,,,,,
33RO20110828,   A10,   112,  1,     24,    024,2,20000101,0000,-28.1485, -45.8288, 2753,      5.2,  22.3105,  36.7965,2,  36.8008,2,  36.9743,2,    219.1,2,    218.8,2,     0.78,2,     0.00,2,     0.00,2,     0.05,2,    1.891,2,    1.168,2,    3.888,3,   2092.2,6,   2410.5,2,   -999.0,9,  -999.00,   7.9756,2,    25.61,    1.257,2,   -999.0,9,   -999.0,9, -999.000,9,-999.0000,9,-999.0000,9,-999.0000,9,-999.0000,1, 25.499, 29.726, 33.860, 37.904, 41.862
33RO20110828,   A10,   112,  1,     23,    023,2,20000101,0000,-28.1485, -45.8288, 2753,     29.3,  21.9661,  36.7983,2,  36.7997,2,  36.9732,2,    219.5,2,    219.5,2,     0.78,2,     0.00,2,     0.01,2,     0.05,2, -999.000,9, -999.000,9, -999.000,9,   -999.0,9,   2410.3,2,   -999.0,9,  -999.00,   7.9659,2,    25.61, -999.000,9,   -999.0,9,   -999.0,9, -999.000,9,-999.0000,9,-999.0000,9,-999.0000,9,-999.0000,9, 25.597, 29.829, 33.968, 38.017, 41.980
33RO20110828,   A10,   112,  1,     22,    022,2,20000101,0000,-28.1485, -45.8288, 2753,     91.0,  21.6639,  36.8320,2,  36.8330,2,  37.0067,2,    214.0,2,    212.3,2,     0.68,2,     0.19,2,     0.18,2,     0.06,2, -999.000,9, -999.000,9, -999.000,9,   -999.0,9,   2413.1,2,   -999.0,9,  -999.00,   7.9655,2,    25.62, -999.000,9,   -999.0,9,   -999.0,9, -999.000,9,-999.0000,9,-999.0000,9,-999.0000,9,-999.0000,1, 25.711, 29.947, 34.090, 38.144, 42.110
33RO20110828,   A10,   112,  1,     21,    021,2,20000101,0000,-28.1485, -45.8288, 2753,    113.5,  21.3937,  36.7773,2,  36.7834,2,  36.9569,2,    210.3,2,    210.8,2,     0.78,2,     0.58,2,     0.09,2,     0.08,2, -999.000,9, -999.000,9, -999.000,9,   -999.0,9,   2409.6,2,   -999.0,9,  -999.00,   7.9729,2,    25.62, -999.000,9,   -999.0,9,   -999.0,9, -999.000,9,-999.0000,9,-999.0000,9,-999.0000,9,-999.0000,1, 25.750, 29.990, 34.137, 38.195, 42.165
33RO20110828,   A10,   112,  1,     20,    020,2,20000101,0000,-28.1485, -45.8288, 2753,    154.3,  19.8440,  36.4368,2,  36.4397,2,  36.6115,2,    208.9,2,    210.5,2,     0.97,2,     1.27,2,     0.02,2,     0.13,2, -999.000,9, -999.000,9, -999.000,9,   -999.0,9,   2388.2,2,   -999.0,9,  -999.00,   7.9376,2,    25.58, -999.000,9,   -999.0,9,   -999.0,9, -999.000,9,-999.0000,9,-999.0000,9,-999.0000,9,-999.0000,9, 25.909, 30.175, 34.347, 38.429, 42.422
33RO20110828,   A10,   112,  1,     19,    019,2,20000101,0000,-28.1485, -45.8288, 2753,    225.2,  17.0604,  35.8190,2,  35.8346,2,  36.0035,2,    201.5,2,    202.0,2,     1.66,2,     3.71,2,     0.02,2,     0.27,2,    2.419,2,    1.452,2,    0.878,3,   2106.2,2,   2352.2,2,   -999.0,9,  -999.00,   7.8847,2,    25.56,    1.260,2,   -999.0,9,   -999.0,9, -999.000,9,-999.0000,9,-999.0000,9,-999.0000,9,-999.0000,9, 26.150, 30.464, 34.684, 38.812, 42.850
33RO20110828,   A10,   112,  1,     18,    018,2,20000101,0000,-28.1485, -45.8288, 2753,    280.9,  15.6640,  35.5944,2,  35.5995,2,  35.7674,2,    203.1,2,    202.2,2,     2.34,2,     5.85,2,     0.01,2,     0.39,2, -999.000,9, -999.000,9, -999.000,9,   -999.0,9,   -999.0,9,   -999.0,9,  -999.00,   7.8458,2,    25.59, -999.000,9,   -999.0,9,   -999.0,9, -999.000,9,-999.0000,9,-999.0000,9,-999.0000,9,-999.0000,9, 26.296, 30.636, 34.881, 39.033, 43.095
33RO20110828,   A10,   112,  1,     17,    017,2,20000101,0000,-28.1485, -45.8288, 2753,    350.3,  14.5434,  35.4497,2,  35.4542,2,  35.6214,2,    206.0,2,    206.2,2,     2.73,2,     7.61,2,     0.01,2,     0.48,2, -999.000,9, -999.000,9, -999.000,9,   -999.0,9,   2332.5,2,   -999.0,9,  -999.00,   7.8354,2,    25.64, -999.000,9,   -999.0,9,   -999.0,9, -999.000,9,-999.0000,9,-999.0000,9,-999.0000,9,-999.0000,9, 26.433, 30.796, 35.061, 39.233, 43.314
33RO20110828,   A10,   112,  1,     16,    016,2,20000101,0000,-28.1485, -45.8288, 2753,    449.8,  12.9059,  35.2152,2,  35.2165,2,  35.3826,2,    206.5,2,    207.0,2,     3.71,2,    11.03,2,     0.01,2,     0.64,2, -999.000,9, -999.000,9, -999.000,9,   -999.0,9,   -999.0,9,   -999.0,9,  -999.00,   7.8024,2,    25.57, -999.000,9,   -999.0,9,   -999.0,9, -999.000,9,-999.0000,9,-999.0000,9,-999.0000,9,-999.0000,9, 26.592, 30.987, 35.285, 39.488, 43.599
33RO20110828,   A10,   112,  1,     15,    015,2,20000101,0000,-28.1485, -45.8288, 2753,    551.1,  10.6845,  34.8986,2,  34.9069,2,  35.0715,2,    202.7,2,    202.9,2,     6.15,2,    16.30,2,     0.01,2,     0.89,2,    3.070,2,    1.667,2,    1.407,3,   2140.9,2,   2303.7,2,   -999.0,9,  -999.00,   7.7412,2,    25.56,    1.012,2,   -999.0,9,   -999.0,9, -999.000,9,-999.0000,9,-999.0000,9,-999.0000,9,-999.0000,9, 26.772, 31.214, 35.558, 39.805, 43.959
33RO20110828,   A10,   112,  1,     14,    014,2,20000101,0000,-28.1485, -45.8288, 2753,    650.1,   8.6475,  34.6433,2,  34.6376,2,  34.8009,2,    204.6,2,    204.2,2,     9.66,2,    21.28,2,     0.01,2,     1.18,2, -999.000,9, -999.000,9, -999.000,9,   -999.0,9,   -999.0,9,   -999.0,9,  -999.00,   7.6907,2,    25.57, -999.000,9,   -999.0,9,   -999.0,9, -999.000,9,-999.0000,9,-999.0000,9,-999.0000,9,-999.0000,9, 26.901, 31.390, 35.779, 40.069, 44.265
33RO20110828,   A10,   112,  1,     13,    013,2,20000101,0000,-28.1485, -45.8288, 2753,    750.0,   6.4905,  34.4118,2,  34.4124,2,  34.5747,2,    218.6,2,    218.3,2,    13.38,2,    25.09,2,     0.01,2,     1.40,2, -999.000,9, -999.000,9, -999.000,9,   -999.0,9,   2286.4,2,   -999.0,9,  -999.00,   7.6558,2,    25.60, -999.000,9,   -999.0,9,   -999.0,9, -999.000,9,-999.0000,9,-999.0000,9,-999.0000,9,-999.0000,9, 27.034, 31.575, 36.014, 40.354, 44.596
33RO20110828,   A10,   112,  1,     12,    012,2,20000101,0000,-28.1485, -45.8288, 2753,    899.8,   4.5990,  34.2952,2,  34.2978,2,  34.4596,2,    222.2,2,    222.6,2,    22.55,2,    29.00,2,     0.00,2,     1.67,2, -999.000,9, -999.000,9, -999.000,9,   -999.0,9,   -999.0,9,   -999.0,9,  -999.00,   7.6187,2,    25.58, -999.000,9,   -999.0,9,   -999.0,9, -999.000,9,-999.0000,9,-999.0000,9,-999.0000,9,-999.0000,9, 27.172, 31.760, 36.246, 40.631, 44.918
33RO20110828,   A10,   112,  1,     11,    011,2,20000101,0000,-28.1485, -45.8288, 2753,   1008.7,   3.9675,  34.3173,2,  34.3228,2,  34.4846,2,    210.9,2,    212.0,2,    31.54,2,    30.85,2,     0.00,2,     1.86,2,    2.050,2,    1.001,2,    3.006,3,   2195.7,2,   2297.5,2,   -999.0,9,  -999.00,   7.5930,2,    25.54,    0.352,2,   -999.0,9,   -999.0,9, -999.000,9,-999.0000,9,-999.0000,9,-999.0000,9,-999.0000,9, 27.259, 31.864, 36.366, 40.766, 45.067
33RO20110828,   A10,   112,  1,     10,    010,2,20000101,0000,-28.1485, -45.8288, 2753,   1136.6,   3.6347,  34.3951,2,  34.3987,2,  34.5609,2,    195.2,2,    195.5,2,    40.81,2,    32.22,2,     0.00,2,     2.01,2, -999.000,9, -999.000,9, -999.000,9,   -999.0,9,   2307.7,2,   -999.0,9,  -999.00,   7.5727,2,    25.58, -999.000,9,   -999.0,9,   -999.0,9, -999.000,9,-999.0000,9,-999.0000,9,-999.0000,9,-999.0000,9, 27.353, 31.967, 36.477, 40.885, 45.194
33RO20110828,   A10,   112,  1,      9,    009,2,20000101,0000,-28.1485, -45.8288, 2753,   1274.8,   3.2198,  34.4668,2,  34.4706,2,  34.6331,2,    190.9,2,    189.9,2,    49.11,2,    32.51,2,     0.00,2,     2.10,2, -999.000,9, -999.000,9, -999.000,9,   -999.0,9,   2316.5,2,   -999.0,9,  -999.00,   7.5653,2,    25.61, -999.000,9,   -999.0,9,   -999.0,9, -999.000,9,-999.0000,9,-999.0000,9,-999.0000,9,-999.0000,9, 27.451, 32.075, 36.595, 41.014, 45.332
33RO20110828,   A10,   112,  1,      8,    008,2,20000101,0000,-28.1485, -45.8288, 2753,   1400.7,   3.2438,  34.5619,2,  34.5648,2,  34.7278,2,    189.0,2,    188.3,2,    49.59,2,    31.43,2,     0.00,2,     2.06,2,    0.340,2,    0.165,2,    0.827,3,   2223.2,2,   2320.6,2,   -999.0,9,  -999.00,   7.5753,2,    25.57,    0.060,2,   -999.0,9,   -999.0,9, -999.000,9,-999.0000,9,-999.0000,9,-999.0000,9,-999.0000,9, 27.525, 32.148, 36.667, 41.085, 45.402
33RO20110828,   A10,   112,  1,      7,    007,2,20000101,0000,-28.1485, -45.8288, 2753,   1551.6,   3.3460,  34.6821,2,  34.6965,2,  34.8601,2,    194.2,2,    194.8,2,    45.68,2,    29.38,2,     0.00,2,     1.91,2, -999.000,9, -999.000,9, -999.000,9,   -999.0,9,   2323.3,2,   -999.0,9,  -999.00,   7.6037,2,    25.54, -999.000,9,   -999.0,9,   -999.0,9, -999.000,9,-999.0000,9,-999.0000,9,-999.0000,9,-999.0000,9, 27.621, 32.241, 36.757, 41.171, 45.486
33RO20110828,   A10,   112,  1,      6,    006,2,20000101,0000,-28.1485, -45.8288, 2753,   1652.0,   3.6603,  34.7943,2,  34.7983,2,  34.9624,2,    204.8,2,    206.0,2,    35.82,2,    26.55,2,     0.00,2,     1.66,2,    0.128,2,    0.066,2,    0.490,3,   -999.0,9,   -999.0,9,   -999.0,9,  -999.00,   7.6326,2,    25.55,    0.000,2,   -999.0,9,   -999.0,9, -999.000,9,-999.0000,9,-999.0000,9,-999.0000,9,-999.0000,9, 27.673, 32.284, 36.792, 41.197, 45.504
33RO20110828,   A10,   112,  1,      5,    005,2,20000101,0000,-28.1485, -45.8288, 2753,   1876.1,   3.7718,  34.9027,2,  34.9035,2,  35.0681,2,    226.2,2,    227.0,2,    26.55,2,    22.84,2,     0.00,2,     1.38,2,    0.181,2,    0.093,2,    0.622,3,   -999.0,9,   -999.0,9,   -999.0,9,  -999.00,   7.6746,2,    25.61,    0.023,2,   -999.0,9,   -999.0,9, -999.000,9,-999.0000,9,-999.0000,9,-999.0000,9,-999.0000,9, 27.748, 32.356, 36.860, 41.263, 45.567
33RO20110828,   A10,   112,  1,      4,    004,2,20000101,0000,-28.1485, -45.8288, 2753,   2074.9,   3.6705,  34.9474,2,  34.9530,2,  35.1178,2,    243.2,2,    243.1,2,    21.96,2,    20.49,2,     0.00,2,     1.21,2,    0.253,2,    0.128,2,    0.762,3,   2174.2,2,   2317.8,2,   -999.0,9,  -999.00,   7.6888,2,    25.56,    0.000,2,   -999.0,9,   -999.0,9, -999.000,9,-999.0000,9,-999.0000,9,-999.0000,9,-999.0000,9, 27.800, 32.410, 36.917, 41.322, 45.628
33RO20110828,   A10,   112,  1,      3,    003,2,20000101,0000,-28.1485, -45.8288, 2753,   2251.7,   3.4179,  34.9420,2,  34.9449,2,  35.1097,2,    247.7,2,    247.3,2,    24.50,2,    20.40,2,     0.00,2,     1.23,2,    0.211,2,    0.106,2,    0.684,3,   -999.0,9,   2319.6,2,   -999.0,9,  -999.00,   7.7003,2,    25.53,    0.033,2,   -999.0,9,   -999.0,9, -999.000,9,-999.0000,9,-999.0000,9,-999.0000,9,-999.0000,9, 27.819, 32.437, 36.950, 41.363, 45.675
33RO20110828,   A10,   112,  1,      2,    002,2,20000101,0000,-28.1485, -45.8288, 2753,   2400.3,   3.2435,  34.9412,2,  34.9434,6,  35.1082,6,    250.4,2,    250.1,2,    25.76,2,    20.30,2,     0.00,2,     1.23,2,    0.179,2,    0.090,2,    0.628,3,   -999.0,9,   2323.1,2,   -999.0,9,  -999.00,   7.7003,2,    25.56,    0.036,2,   -999.0,9,   -999.0,9, -999.000,9,-999.0000,9,-999.0000,9,-999.0000,9,-999.0000,9, 27.834, 32.456, 36.975, 41.392, 45.709
33RO20110828,   A10,   112,  1,      1,    001,2,20000101,0000,-28.1485, -45.8288, 2753,   2746.4,   2.7934,  34.9186,2,  34.9231,2,  35.0877,2,    250.3,2,    250.8,2,    33.57,2,    20.89,2,     0.00,2,     1.34,2,    0.098,2,    0.052,2,    0.487,3,   2180.5,2,   2327.7,2,   -999.0,9,  -999.00,   7.7064,2,    25.52,    0.000,2,   -999.0,9,   -999.0,9, -999.000,9,-999.0000,9,-999.0000,9,-999.0000,9,-999.0000,9, 27.862, 32.498, 37.029, 41.458, 45.787