BOTTLE,20130715NOAA
EXPOCODE,SECT_ID,STNNBR,CASTNO,SAMPNO,BTLNBR,BTLNBR_FLAG_W,DATE,TIME,LATITUDE,LONGITUDE,DEPTH,CTDPRS,CTDTMP,CTDSAL,CTDSAL_FLAG_W,SALNTY,SALNTY_FLAG_W,SALTREF,SALTREF_FLAG_W,CTDOXY,CTDOXY_FLAG_W,OXYGEN,OXYGEN_FLAG_W,SILCAT,SILCAT_FLAG_W,NITRAT,NITRAT_FLAG_W,NITRIT,NITRIT_FLAG_W,PHSPHT,PHSPHT_FLAG_W,CFC-11,CFC-11_FLAG_W,CFC-12,CFC-12_FLAG_W,CCL4,CCL4_FLAG_W,TCARBN,TCARBN_FLAG_W,ALKALI,ALKALI_FLAG_W,PCO2,PCO2_FLAG_W,PCO2TMP,PH_TOT,PH_TOT_FLAG_W,PH_TMP,SF6,SF6_FLAG_W,DOC,DOC_FLAG_W,TDN,TDN_FLAG_W,TRITUM,TRITUM_FLAG_W,HELIUM,HELIUM_FLAG_W,OXY_18,OXY_18_FLAG_W,BLACKC,BLACKC_FLAG_W,PIGMENTS,PIGMENTS_FLAG_W,SIGMA-THETA,SIGMA-1,SIGMA-2,SIGMA-3,SIGMA-4
,,,,,,,,,,,METERS,DBARS,ITS-90,PSS-78,,PSS-78,,G/KG,,UMOL/KG,,UMOL/KG,,UMOL/KG,,UMOL/KG,,UMOL/KG,,UMOL/KG,,PMOL/KG,,PMOL/KG,,PMOL/KG,,UMOL/KG,,UMOL/KG,,UATM@T,,DEG_C,,,DEG_C,FMOL/KG,,UMOL/KG,,UMOL/KG,,TU,,NMOL/KG,,,,,,,,,,,,
33RO20110828,   A10,    67,  1,     24,    024,2,20000101,0000,-29.9997, -23.5321, 4945,      4.7,  17.9524,  36.0015,2,  36.0045,2,  36.1743,2,    238.1,2,    237.2,2,     1.37,2,     0.00,2,     0.01,2,     0.11,2,    2.318,2,    1.410,2,    3.040,3,   2081.4,2,   2372.0,2,   -999.0,9,  -999.00,   7.9314,2,    25.50,    1.403,2,   -999.0,1,   -999.0,1, -999.000,9,-999.0000,9,-999.0000,9,-999.0000,9,-999.0000,1, 26.054, 30.352, 34.556, 38.668, 42.690
33RO20110828,   A10,    67,  1,     23,    023,2,20000101,0000,-29.9997, -23.5321, 4945,     40.1,  17.9286,  36.0031,2,  36.0028,2,  36.1726,2,    238.5,2,    237.2,2,     1.37,2,     0.00,2,     0.01,2,     0.12,2,    2.325,2,    1.408,2,    2.951,3,   2086.3,2,   2361.8,2,   -999.0,9,  -999.00,   7.9271,2,    25.52,    1.431,2,   -999.0,1,   -999.0,1, -999.000,9,-999.0000,9,-999.0000,9,-999.0000,1,-999.0000,9, 26.060, 30.359, 34.563, 38.675, 42.698
33RO20110828,   A10,    67,  1,     22,    022,2,20000101,0000,-29.9997, -23.5321, 4945,    109.2,  16.3499,  35.7057,2,  35.7045,2,  35.8728,2,    238.5,2,    240.9,2,     1.37,2,     0.29,2,     0.22,2,     0.15,2,    2.488,2,    1.496,2,    2.351,3,   2086.2,2,   2342.7,2,   -999.0,9,  -999.00,   7.9116,2,    25.53,    1.559,2,   -999.0,1,   -999.0,1, -999.000,9,-999.0000,9,-999.0000,9,-999.0000,9,-999.0000,9, 26.213, 30.540, 34.772, 38.912, 42.961
33RO20110828,   A10,    67,  1,     21,    021,2,20000101,0000,-29.9997, -23.5321, 4945,    161.0,  15.9546,  35.6634,2,  35.6601,2,  35.8282,2,    235.8,2,    233.2,2,     1.56,2,     1.66,2,     0.13,2,     0.21,2,    2.531,2,    1.512,2,    2.608,3,   2092.7,2,   2340.5,2,   -999.0,9,  -999.00,   7.9112,2,    25.53,    1.484,2,   -999.0,1,   -999.0,1, -999.000,9,-999.0000,9,-999.0000,9,-999.0000,9,-999.0000,1, 26.272, 30.607, 34.846, 38.992, 43.048
33RO20110828,   A10,    67,  1,     20,    020,2,20000101,0000,-29.9997, -23.5321, 4945,    223.9,  14.5801,  35.4487,2,  35.4483,2,  35.6154,2,    222.8,2,    226.7,2,     2.15,2,     4.78,2,     0.02,2,     0.38,2,    2.725,2,    1.607,2,    1.873,3,   2105.4,2,   2329.1,2,   -999.0,9,  -999.00,   7.8578,2,    25.53,    1.468,2,   -999.0,1,   -999.0,1, -999.000,9,-999.0000,9,-999.0000,9,-999.0000,9,-999.0000,1, 26.417, 30.778, 35.043, 39.214, 43.294
33RO20110828,   A10,    67,  1,     19,    019,2,20000101,0000,-29.9997, -23.5321, 4945,    303.2,  12.9120,  35.1873,2,  35.1841,2,  35.3500,2,    211.9,2,    212.8,2,     3.80,2,    10.15,2,     0.01,2,     0.66,2,    2.971,2,    1.690,2,    1.110,3,   2125.0,2,   2315.1,2,   -999.0,9,  -999.00,   7.7939,2,    25.58,    1.276,2,   -999.0,1,   -999.0,1, -999.000,9,-999.0000,9,-999.0000,9,-999.0000,9,-999.0000,9, 26.562, 30.956, 35.254, 39.457, 43.567
33RO20110828,   A10,    67,  1,     18,    018,2,20000101,0000,-29.9997, -23.5321, 4945,    399.4,  11.4931,  34.9973,2,  34.9966,2,  35.1617,2,    211.3,2,    210.5,2,     5.27,2,    13.66,2,     0.01,2,     0.84,2,    3.095,2,    1.713,2,    1.272,3,   2136.4,2,   2303.8,2,   -999.0,9,  -999.00,   7.7610,2,    25.56,    1.149,2,   -999.0,1,   -999.0,1, -999.000,9,-999.0000,9,-999.0000,9,-999.0000,9,-999.0000,9, 26.692, 31.116, 35.443, 39.674, 43.811
33RO20110828,   A10,    67,  1,     17,    017,2,20000101,0000,-29.9997, -23.5321, 4945,    497.1,   9.8151,  34.7785,2,  34.7788,2,  34.9428,2,    204.9,2,    203.8,2,     8.00,2,    18.25,2,     0.01,2,     1.09,2,    3.131,2,    1.682,2,    1.513,3,   -999.0,5,   2294.6,2,   -999.0,9,  -999.00,   7.7151,3,    25.61,    1.029,2,   -999.0,1,   -999.0,1, -999.000,9,-999.0000,9,-999.0000,9,-999.0000,9,-999.0000,9, 26.820, 31.282, 35.644, 39.910, 44.081
33RO20110828,   A10,    67,  1,     16,    016,2,20000101,0000,-29.9997, -23.5321, 4945,    599.8,   7.7923,  34.5475,2,  34.5441,2,  34.7070,2,    205.9,2,    205.2,2,    12.01,2,    23.13,2,     0.01,2,     1.39,2,    3.169,2,    1.651,2,    2.011,3,   2163.8,2,   2286.1,2,   -999.0,9,  -999.00,   7.6664,2,    25.60,    0.828,2,   -999.0,1,   -999.0,1, -999.000,9,-999.0000,9,-999.0000,9,-999.0000,9,-999.0000,9, 26.956, 31.464, 35.872, 40.182, 44.396
33RO20110828,   A10,    67,  1,     15,    015,2,20000101,0000,-29.9997, -23.5321, 4945,    699.6,   6.0742,  34.3826,2,  34.3831,2,  34.5453,2,    216.9,2,    215.4,2,    16.01,2,    26.45,2,     0.01,2,     1.58,2,    3.195,2,    1.624,2,    3.113,3,   2170.7,2,   2283.7,2,   -999.0,9,  -999.00,   7.6287,2,    25.58,    0.815,2,   -999.0,1,   -999.0,1, -999.000,9,-999.0000,9,-999.0000,9,-999.0000,9,-999.0000,9, 27.064, 31.615, 36.064, 40.413, 44.665
33RO20110828,   A10,    67,  1,     14,    014,2,20000101,0000,-29.9997, -23.5321, 4945,    800.4,   4.9777,  34.3144,2,  34.3152,2,  34.4770,2,    219.9,2,    220.9,2,    21.48,2,    28.60,2,     0.01,2,     1.74,2,    2.954,2,    1.489,2,    3.354,3,   2178.5,2,   2286.3,2,   -999.0,9,  -999.00,   7.6166,2,    25.63,    0.744,2,   -999.0,1,   -999.0,1, -999.000,9,-999.0000,9,-999.0000,9,-999.0000,9,-999.0000,9, 27.142, 31.721, 36.197, 40.573, 44.851
33RO20110828,   A10,    67,  1,     13,    013,2,20000101,0000,-29.9997, -23.5321, 4945,    950.8,   4.0691,  34.3323,2,  34.3348,2,  34.4967,2,    206.7,2,    207.9,2,    32.70,2,    31.14,2,     0.01,2,     1.97,2,    2.095,2,    1.031,2,    2.804,3,   2198.8,2,   2295.2,2,   -999.0,9,  -999.00,   7.5828,2,    25.66,    0.413,2,   -999.0,1,   -999.0,1, -999.000,9,-999.0000,9,-999.0000,9,-999.0000,9,-999.0000,9, 27.257, 31.860, 36.359, 40.756, 45.055
33RO20110828,   A10,    67,  1,     12,    012,2,20000101,0000,-29.9997, -23.5321, 4945,   1198.9,   3.3017,  34.4627,2,  34.4636,2,  34.6261,2,    186.8,2,    186.9,2,    50.08,2,    32.60,2,     0.01,2,     2.19,2,    0.824,2,    0.399,2,    1.470,3,   2224.3,2,   2312.3,2,   -999.0,9,  -999.00,   7.5658,2,    25.63,    0.143,2,   -999.0,1,   -999.0,1, -999.000,9,-999.0000,9,-999.0000,9,-999.0000,9,-999.0000,9, 27.437, 32.059, 36.577, 40.993, 45.310
33RO20110828,   A10,    67,  1,     11,    011,2,20000101,0000,-29.9997, -23.5321, 4945,   1499.1,   2.9566,  34.6404,2,  34.6412,2,  34.8046,2,    191.0,2,    191.2,2,    55.24,2,    30.45,2,     0.01,2,     2.11,2,    0.212,2,    0.102,2,    0.564,3,   2227.1,6,   2325.4,2,   -999.0,9,  -999.00,   7.5790,2,    25.60,    0.040,2,   -999.0,1,   -999.0,1, -999.000,9,-999.0000,9,-999.0000,9,-999.0000,9,-999.0000,9, 27.612, 32.243, 36.769, 41.194, 45.518
33RO20110828,   A10,    67,  1,     10,    010,2,20000101,0000,-29.9997, -23.5321, 4945,   1800.5,   2.7933,  34.7581,2,  34.7586,2,  34.9225,2,    208.5,2,    208.5,2,    52.60,2,    27.52,2,     0.01,2,     1.91,2,    0.058,2,    0.029,2,    0.260,3,   2214.7,2,   2328.9,2,   -999.0,9,  -999.00,   7.6108,2,    25.62,    0.000,2,   -999.0,1,   -999.0,1, -999.000,9,-999.0000,9,-999.0000,9,-999.0000,9,-999.0000,9, 27.723, 32.357, 36.888, 41.316, 45.644
33RO20110828,   A10,    67,  1,      9,    009,2,20000101,0000,-29.9997, -23.5321, 4945,   2099.2,   2.7141,  34.8213,2,  34.8215,2,  34.9857,2,    224.1,2,    224.3,2,    48.01,2,    25.18,2,     0.01,2,     1.75,2,    0.025,2,    0.014,2,    0.197,3,   2203.2,2,   2327.6,2,   -999.0,9,  -999.00,   7.6533,2,    25.58,    0.000,2,   -999.0,1,   -999.0,1, -999.000,9,-999.0000,9,-999.0000,9,-999.0000,9,-999.0000,9, 27.782, 32.419, 36.952, 41.382, 45.712
33RO20110828,   A10,    67,  1,      8,    008,2,20000101,0000,-29.9997, -23.5321, 4945,   2399.0,   2.7323,  34.8674,2,  34.8683,2,  35.0327,2,    236.8,2,    236.4,2,    42.55,2,    23.22,2,     0.01,2,     1.59,2,    0.010,2,    0.006,2,    0.109,3,   2192.7,2,   2327.2,2,   -999.0,9,  -999.00,   7.6711,2,    25.64,    0.000,2,   -999.0,1,   -999.0,1, -999.000,9,-999.0000,9,-999.0000,9,-999.0000,1,-999.0000,9, 27.821, 32.457, 36.990, 41.420, 45.750
33RO20110828,   A10,    67,  1,      7,    007,2,20000101,0000,-29.9997, -23.5321, 4945,   2700.3,   2.7534,  34.8952,2,  34.8959,2,  35.0604,2,    244.6,2,    244.6,2,    38.25,2,    22.05,2,     0.01,2,     1.49,2,    0.006,2,    0.004,2,    0.099,3,   2184.4,2,   2325.5,2,   -999.0,9,  -999.00,   7.6817,2,    25.55,    0.000,2,   -999.0,1,   -999.0,1, -999.000,9,-999.0000,9,-999.0000,9,-999.0000,1,-999.0000,9, 27.843, 32.480, 37.013, 41.443, 45.773
33RO20110828,   A10,    67,  1,      5,    005,2,20000101,0000,-29.9997, -23.5321, 4945,   3099.6,   2.6117,  34.9004,2,-999.0000,9,-999.0000,9,   -999.0,9,   -999.0,9,  -999.00,9,  -999.00,9,  -999.00,9,  -999.00,9, -999.000,9, -999.000,9, -999.000,9,   -999.0,9,   -999.0,9,   -999.0,9,  -999.00,-999.0000,9,  -999.00, -999.000,9,   -999.0,1,   -999.0,1, -999.000,9,-999.0000,9,-999.0000,9,-999.0000,1,-999.0000,9, 27.862, 32.504, 37.041, 41.476, 45.811
33RO20110828,   A10,    67,  1,      6,    006,2,20000101,0000,-29.9997, -23.5321, 4945,   3100.1,   2.6128,  34.9006,2,  34.9073,2,  35.0719,2,    248.8,2,    249.4,2,    39.42,2,    21.57,2,     0.01,2,     1.47,2,    0.006,2,    0.006,2,    0.098,3,   2182.9,2,   2327.6,2,   -999.0,9,  -999.00,   7.6874,2,    25.57,    0.011,2,   -999.0,1,   -999.0,1, -999.000,9,-999.0000,9,-999.0000,9,-999.0000,1,-999.0000,9, 27.868, 32.509, 37.047, 41.481, 45.816
33RO20110828,   A10,    67,  1,      4,    004,2,20000101,0000,-29.9997, -23.5321, 4945,   3500.7,   2.1979,  34.8651,2,  34.8694,2,  35.0338,2,    245.5,2,    245.7,2,    53.09,2,    23.03,2,     0.01,2,     1.66,2,    0.006,2,    0.005,2,    0.090,3,   2195.8,2,   2335.9,2,   -999.0,9,  -999.00,   7.6779,2,    25.63,    0.074,2,   -999.0,1,   -999.0,1, -999.000,9,-999.0000,9,-999.0000,9,-999.0000,9,-999.0000,9, 27.874, 32.528, 37.078, 41.525, 45.870
33RO20110828,   A10,    67,  1,      3,    003,2,20000101,0000,-29.9997, -23.5321, 4945,   3899.1,   1.5591,  34.7968,2,  34.7980,2,  34.9621,2,    234.6,2,    233.8,2,    79.83,2,    26.54,2,     0.01,2,     2.07,2,    0.029,2,    0.015,2,    0.143,3,   2222.3,2,   2349.3,2,   -999.0,9,  -999.00,   7.6421,2,    25.56,    0.073,2,   -999.0,1,   -999.0,1, -999.000,9,-999.0000,9,-999.0000,9,-999.0000,9,-999.0000,9, 27.866, 32.540, 37.108, 41.573, 45.937
33RO20110828,   A10,    67,  1,      2,    002,2,20000101,0000,-29.9997, -23.5321, 4945,   4297.6,   1.2705,  34.7616,2,  34.7623,6,  34.9262,6,    227.3,2,    227.4,2,    93.59,2,    28.40,2,     0.01,2,     2.28,2,    0.063,2,    0.033,2,    0.225,3,   2237.2,2,   2355.0,2,   -999.0,9,  -999.00,   7.6211,2,    25.55,    0.069,2,   -999.0,1,   -999.0,1, -999.000,9,-999.0000,9,-999.0000,9,-999.0000,9,-999.0000,9, 27.859, 32.542, 37.120, 41.594, 45.966
33RO20110828,   A10,    67,  1,      1,    001,2,20000101,0000,-29.9997, -23.5321, 4945,   5013.6,   1.2800,  34.7541,2,  34.7556,2,  34.9195,2,    226.8,2,    227.1,2,    96.62,2,    28.69,2,     0.01,2,     2.33,2,    0.070,2,    0.035,2,    0.237,3,   2241.2,6,   2356.9,2,   -999.0,9,  -999.00,   7.6346,2,    25.53,    0.142,2,   -999.0,1,   -999.0,1, -999.000,9,-999.0000,9,-999.0000,9,-999.0000,9,-999.0000,9, 27.859, 32.544, 37.124, 41.600, 45.975