BOTTLE,20130715NOAA
EXPOCODE,SECT_ID,STNNBR,CASTNO,SAMPNO,BTLNBR,BTLNBR_FLAG_W,DATE,TIME,LATITUDE,LONGITUDE,DEPTH,CTDPRS,CTDTMP,CTDSAL,CTDSAL_FLAG_W,SALNTY,SALNTY_FLAG_W,SALTREF,SALTREF_FLAG_W,CTDOXY,CTDOXY_FLAG_W,OXYGEN,OXYGEN_FLAG_W,SILCAT,SILCAT_FLAG_W,NITRAT,NITRAT_FLAG_W,NITRIT,NITRIT_FLAG_W,PHSPHT,PHSPHT_FLAG_W,CFC-11,CFC-11_FLAG_W,CFC-12,CFC-12_FLAG_W,CCL4,CCL4_FLAG_W,TCARBN,TCARBN_FLAG_W,ALKALI,ALKALI_FLAG_W,PCO2,PCO2_FLAG_W,PCO2TMP,PH_TOT,PH_TOT_FLAG_W,PH_TMP,SF6,SF6_FLAG_W,DOC,DOC_FLAG_W,TDN,TDN_FLAG_W,TRITUM,TRITUM_FLAG_W,HELIUM,HELIUM_FLAG_W,OXY_18,OXY_18_FLAG_W,BLACKC,BLACKC_FLAG_W,PIGMENTS,PIGMENTS_FLAG_W,SIGMA-THETA,SIGMA-1,SIGMA-2,SIGMA-3,SIGMA-4
,,,,,,,,,,,METERS,DBARS,ITS-90,PSS-78,,PSS-78,,G/KG,,UMOL/KG,,UMOL/KG,,UMOL/KG,,UMOL/KG,,UMOL/KG,,UMOL/KG,,PMOL/KG,,PMOL/KG,,PMOL/KG,,UMOL/KG,,UMOL/KG,,UATM@T,,DEG_C,,,DEG_C,FMOL/KG,,UMOL/KG,,UMOL/KG,,TU,,NMOL/KG,,,,,,,,,,,,
33RO20110828,   A10,    35,  2,     24,    024,2,20000101,0000,-29.9908,  -1.6528, 4539,      3.6,  17.9620,  35.8082,2,  35.8084,2,  35.9773,2,    244.7,2,    244.2,2,     0.88,2,     0.00,2,     0.00,2,     0.14,2,    2.405,2,    1.448,2,    3.553,2,   2077.2,6,   2348.4,4,   -999.0,9,  -999.00,-999.0000,9,  -999.00,    1.443,2,   -999.0,1,   -999.0,1, -999.000,9,-999.0000,9,-999.0000,9,-999.0000,9,-999.0000,9, 25.901, 30.200, 34.405, 38.518, 42.542
33RO20110828,   A10,    35,  2,     23,    023,2,20000101,0000,-29.9908,  -1.6528, 4539,     50.3,  16.9740,  35.7642,2,  35.7648,2,  35.9334,2,    249.2,2,    248.0,2,     0.78,2,     0.00,2,     0.01,2,     0.16,2,    2.439,2,    1.466,2,    3.337,2,   2077.0,2,   2348.2,2,   -999.0,9,  -999.00,-999.0000,9,  -999.00,    1.444,2,   -999.0,1,   -999.0,1, -999.000,9,-999.0000,9,-999.0000,9,-999.0000,9,-999.0000,9, 26.110, 30.426, 34.647, 38.776, 42.815
33RO20110828,   A10,    35,  2,     22,    022,2,20000101,0000,-29.9908,  -1.6528, 4539,     89.6,  16.5672,  35.7370,2,  35.7381,2,  35.9066,2,    235.8,2,    236.5,2,     1.66,2,     1.07,2,     0.40,2,     0.26,2,    2.430,2,    1.468,2,    2.228,2,   2086.0,2,   2344.7,2,   -999.0,9,  -999.00,-999.0000,9,  -999.00,    1.439,2,   -999.0,1,   -999.0,1, -999.000,9,-999.0000,9,-999.0000,9,-999.0000,9,-999.0000,9, 26.187, 30.511, 34.739, 38.874, 42.920
33RO20110828,   A10,    35,  2,     21,    021,2,20000101,0000,-29.9908,  -1.6528, 4539,    137.9,  16.4449,  35.7320,2,  35.7322,2,  35.9007,2,    234.5,2,    235.5,2,     1.66,2,     1.37,2,     0.34,2,     0.27,2,    2.447,2,    1.474,2,    2.236,2,   2086.9,2,   2345.9,2,   -999.0,9,  -999.00,-999.0000,9,  -999.00,    1.472,2,   -999.0,1,   -999.0,1, -999.000,9,-999.0000,9,-999.0000,9,-999.0000,9,-999.0000,9, 26.213, 30.539, 34.769, 38.907, 42.955
33RO20110828,   A10,    35,  2,     20,    020,2,20000101,0000,-29.9908,  -1.6528, 4539,    189.8,  15.4424,  35.5529,2,  35.5833,2,  35.7511,2,    232.3,2,    232.8,2,     1.76,2,     2.63,2,     0.17,2,     0.35,2,    2.577,2,    1.538,2,    2.013,2,   2095.3,2,   2336.7,2,   -999.0,9,  -999.00,-999.0000,9,  -999.00,    1.524,2,   -999.0,1,   -999.0,1, -999.000,9,-999.0000,9,-999.0000,9,-999.0000,9,-999.0000,9, 26.330, 30.674, 34.923, 39.079, 43.143
33RO20110828,   A10,    35,  2,     19,    019,2,20000101,0000,-29.9908,  -1.6528, 4539,    270.7,  13.6080,  35.2083,2,  35.2086,2,  35.3746,2,    218.6,2,    218.0,2,     3.02,2,     7.90,2,     0.01,2,     0.69,2,    2.836,2,    1.660,2,    0.892,2,   2113.2,2,   2313.3,2,   -999.0,9,  -999.00,-999.0000,9,  -999.00,    1.402,2,   -999.0,1,   -999.0,1, -999.000,9,-999.0000,9,-999.0000,9,-999.0000,9,-999.0000,9, 26.438, 30.820, 35.104, 39.293, 43.392
33RO20110828,   A10,    35,  2,     18,    018,2,20000101,0000,-29.9908,  -1.6528, 4539,    369.2,  12.0645,  35.0490,2,  35.0521,2,  35.2173,2,    210.4,2,    210.8,2,     3.22,2,     8.20,2,     0.01,2,     0.70,2,    3.062,2,    1.728,2,    0.918,2,   2128.3,2,   2306.3,2,   -999.0,9,  -999.00,-999.0000,9,  -999.00,    1.199,2,   -999.0,1,   -999.0,1, -999.000,9,-999.0000,9,-999.0000,9,-999.0000,9,-999.0000,9, 26.627, 31.039, 35.354, 39.573, 43.700
33RO20110828,   A10,    35,  2,     17,    017,2,20000101,0000,-29.9908,  -1.6528, 4539,    476.6,  10.4306,  34.8445,2,  34.8447,2,  35.0090,2,    208.2,2,    207.8,2,     6.73,2,    16.79,2,     0.00,2,     1.26,2,    3.153,2,    1.731,2,    1.189,2,   2142.8,2,   2297.4,2,   -999.0,9,  -999.00,-999.0000,9,  -999.00,    1.089,2,   -999.0,1,   -999.0,1, -999.000,9,-999.0000,9,-999.0000,9,-999.0000,9,-999.0000,9, 26.766, 31.214, 35.563, 39.816, 43.975
33RO20110828,   A10,    35,  2,     16,    016,2,20000101,0000,-29.9908,  -1.6528, 4539,    610.1,   7.8136,  34.5469,2,  34.5475,2,  34.7104,2,    206.4,2,    206.3,2,    12.20,2,    23.23,2,     0.00,2,     1.72,2,    3.123,2,    1.657,2,    1.755,2,   2161.8,2,   2288.1,2,   -999.0,9,  -999.00,-999.0000,9,  -999.00,    0.929,2,   -999.0,1,   -999.0,1, -999.000,9,-999.0000,9,-999.0000,9,-999.0000,9,-999.0000,9, 26.955, 31.464, 35.871, 40.180, 44.394
33RO20110828,   A10,    35,  2,     15,    015,2,20000101,0000,-29.9908,  -1.6528, 4539,    760.5,   5.4906,  34.3495,2,  34.3508,2,  34.5128,2,    215.2,2,    215.5,2,    19.62,2,    28.12,2,     0.00,2,     2.07,2,    3.027,2,    1.552,2,    2.373,2,   2175.8,2,   2287.7,2,   -999.0,9,  -999.00,-999.0000,9,  -999.00,    0.748,2,   -999.0,1,   -999.0,1, -999.000,9,-999.0000,9,-999.0000,9,-999.0000,9,-999.0000,9, 27.111, 31.676, 36.140, 40.503, 44.768
33RO20110828,   A10,    35,  2,     14,    014,2,20000101,0000,-29.9908,  -1.6528, 4539,    899.7,   4.4091,  34.3311,2,  34.3316,2,  34.4935,2,    208.1,2,    209.5,2,    29.39,2,    30.56,2,     0.00,2,     2.26,2,    2.415,2,    1.209,2,    2.225,2,   2193.1,2,   2293.9,2,   -999.0,9,  -999.00,-999.0000,9,  -999.00,    0.543,2,   -999.0,1,   -999.0,1, -999.000,9,-999.0000,9,-999.0000,9,-999.0000,9,-999.0000,9, 27.219, 31.812, 36.303, 40.692, 44.983
33RO20110828,   A10,    35,  2,     13,    013,2,20000101,0000,-29.9908,  -1.6528, 4539,   1070.0,   3.6519,  34.4243,2,  34.4241,2,  34.5864,2,    188.2,2,    185.9,2,    45.79,2,    32.90,2,     0.00,2,     2.45,2,    1.188,2,    0.577,2,    1.251,2,   2221.3,2,   2309.4,2,   -999.0,9,  -999.00,-999.0000,9,  -999.00,    0.186,2,   -999.0,1,   -999.0,1, -999.000,9,-999.0000,9,-999.0000,9,-999.0000,9,-999.0000,9, 27.371, 31.984, 36.493, 40.901, 45.209
33RO20110828,   A10,    35,  2,     12,    012,3,20000101,0000,-29.9908,  -1.6528, 4539,   1245.0,   3.2281,  34.5237,2,  34.5236,2,  34.6864,2,    179.5,2,    179.0,2,    54.47,2,    32.80,2,     0.00,2,     2.46,2,    0.578,2,    0.274,2,    0.783,2,   2233.9,6,   2319.9,2,   -999.0,9,  -999.00,-999.0000,9,  -999.00,    0.082,2,   -999.0,1,   -999.0,1, -999.000,9,-999.0000,9,-999.0000,9,-999.0000,9,-999.0000,9, 27.492, 32.115, 36.635, 41.053, 45.371
33RO20110828,   A10,    35,  2,     11,    011,2,20000101,0000,-29.9908,  -1.6528, 4539,   1466.0,   3.0477,  34.6642,2,  34.6639,2,  34.8273,2,    186.4,2,    188.5,2,    53.49,2,    30.55,2,     0.00,2,     2.26,2,    0.182,2,    0.086,2,    0.318,2,   2227.7,2,   2325.4,2,   -999.0,9,  -999.00,-999.0000,9,  -999.00,    0.000,2,   -999.0,1,   -999.0,1, -999.000,9,-999.0000,9,-999.0000,9,-999.0000,9,-999.0000,9, 27.622, 32.250, 36.774, 41.195, 45.517
33RO20110828,   A10,    35,  2,     10,    010,2,20000101,0000,-29.9908,  -1.6528, 4539,   1718.0,   2.9133,  34.7488,2,  34.7486,2,  34.9124,2,    201.3,2,    200.9,2,    51.92,2,    28.21,2,     0.00,2,     2.08,2,    0.082,2,    0.039,2,    0.178,2,   2218.3,2,   2329.3,2,   -999.0,9,  -999.00,-999.0000,9,  -999.00,    0.000,2,   -999.0,1,   -999.0,1, -999.000,9,-999.0000,9,-999.0000,9,-999.0000,9,-999.0000,9, 27.704, 32.335, 36.862, 41.287, 45.612
33RO20110828,   A10,    35,  2,      9,    009,2,20000101,0000,-29.9908,  -1.6528, 4539,   2019.7,   2.7398,  34.8033,2,  34.8019,2,  34.9660,2,    214.7,2,    215.8,2,    51.34,2,    26.45,2,     0.00,2,     1.95,2,    0.037,2,    0.018,2,    0.128,2,   2211.5,2,   2329.7,2,   -999.0,9,  -999.00,-999.0000,9,  -999.00,    0.000,2,   -999.0,1,   -999.0,1, -999.000,9,-999.0000,9,-999.0000,9,-999.0000,9,-999.0000,9, 27.764, 32.400, 36.932, 41.362, 45.691
33RO20110828,   A10,    35,  2,      8,    008,2,20000101,0000,-29.9908,  -1.6528, 4539,   2321.1,   2.5113,  34.8305,2,  34.8302,2,  34.9944,2,    225.5,2,    225.4,2,    52.99,2,    25.28,2,     0.00,2,     1.86,2,    0.021,2,    0.011,2,    0.076,2,   2207.6,2,   2333.6,2,   -999.0,9,  -999.00,-999.0000,9,  -999.00,    0.000,2,   -999.0,1,   -999.0,1, -999.000,9,-999.0000,9,-999.0000,9,-999.0000,9,-999.0000,9, 27.808, 32.451, 36.989, 41.425, 45.761
33RO20110828,   A10,    35,  2,      7,    007,2,20000101,0000,-29.9908,  -1.6528, 4539,   2619.8,   2.4262,  34.8508,2,  34.8507,2,  35.0151,2,    232.7,2,    232.1,2,    51.73,2,    24.30,2,     0.00,2,     1.77,2,    0.011,2,    0.006,2,    0.051,2,   2203.1,2,   2335.0,2,   -999.0,9,  -999.00,-999.0000,9,  -999.00,    0.000,2,   -999.0,1,   -999.0,1, -999.000,9,-999.0000,9,-999.0000,9,-999.0000,9,-999.0000,9, 27.834, 32.479, 37.021, 41.460, 45.798
33RO20110828,   A10,    35,  2,      6,    006,2,20000101,0000,-29.9908,  -1.6528, 4539,   2920.6,   2.3717,  34.8637,2,  34.8657,2,  35.0301,2,    236.3,2,    236.6,2,    51.53,2,    24.01,2,     0.00,2,     1.74,2,    0.005,2,    0.004,2,    0.029,2,   2203.2,2,   2338.7,2,   -999.0,9,  -999.00,-999.0000,9,  -999.00,    0.000,2,   -999.0,1,   -999.0,1, -999.000,9,-999.0000,9,-999.0000,9,-999.0000,9,-999.0000,9, 27.853, 32.500, 37.044, 41.485, 45.825
33RO20110828,   A10,    35,  2,      5,    005,2,20000101,0000,-29.9908,  -1.6528, 4539,   3220.0,   2.3495,  34.8713,2,  34.8706,2,  35.0350,2,    236.8,2,    236.5,2,    51.63,2,    23.62,2,     0.00,2,     1.72,2,    0.004,2,    0.002,2,    0.026,2,   2207.1,2,   2343.7,2,   -999.0,9,  -999.00,-999.0000,9,  -999.00,    0.000,2,   -999.0,1,   -999.0,1, -999.000,9,-999.0000,9,-999.0000,9,-999.0000,9,-999.0000,9, 27.861, 32.510, 37.055, 41.497, 45.838
33RO20110828,   A10,    35,  2,      4,    004,2,20000101,0000,-29.9908,  -1.6528, 4539,   3519.7,   2.3449,  34.8753,2,  34.8763,2,  35.0408,2,    235.7,2,    235.1,2,    52.02,2,    23.72,2,     0.00,2,     1.72,2,    0.003,2,    0.000,2,    0.018,2,   2207.5,2,   2347.8,2,   -999.0,9,  -999.00,-999.0000,9,  -999.00,    0.000,2,   -999.0,1,   -999.0,1, -999.000,9,-999.0000,9,-999.0000,9,-999.0000,9,-999.0000,9, 27.868, 32.519, 37.064, 41.507, 45.849
33RO20110828,   A10,    35,  2,      3,    003,2,20000101,0000,-29.9908,  -1.6528, 4539,   3917.1,   2.3468,  34.8777,2,  34.8778,2,  35.0423,2,    233.9,2,    234.6,2,    53.19,2,    23.71,2,     0.00,2,     1.72,2,    0.005,2,    0.006,2,    0.017,2,   2212.9,2,   2353.3,2,   -999.0,9,  -999.00,-999.0000,9,  -999.00,    0.049,3,   -999.0,1,   -999.0,1, -999.000,9,-999.0000,9,-999.0000,9,-999.0000,9,-999.0000,9, 27.873, 32.524, 37.071, 41.515, 45.858
33RO20110828,   A10,    35,  2,      2,    002,2,20000101,0000,-29.9908,  -1.6528, 4539,   4320.0,   2.3152,  34.8698,2,  34.8698,6,  35.0342,6,    232.0,2,    232.1,2,    56.60,2,    24.01,2,     0.00,2,     1.75,2,    0.005,2,    0.004,2,    0.023,2,   2217.7,2,   2355.8,2,   -999.0,9,  -999.00,-999.0000,9,  -999.00,    0.014,3,   -999.0,1,   -999.0,1, -999.000,9,-999.0000,9,-999.0000,9,-999.0000,9,-999.0000,9, 27.873, 32.526, 37.075, 41.521, 45.867
33RO20110828,   A10,    35,  2,      1,    001,2,20000101,0000,-29.9908,  -1.6528, 4539,   4639.7,   2.2736,  34.8590,2,  34.8592,2,  35.0236,2,    230.7,2,    230.7,2,    60.41,2,    24.59,2,     0.00,2,     1.80,2,    0.010,2,    0.007,2,    0.038,2,   2221.0,6,   2354.7,2,   -999.0,9,  -999.00,-999.0000,9,  -999.00,    0.000,2,   -999.0,1,   -999.0,1, -999.000,9,-999.0000,9,-999.0000,9,-999.0000,9,-999.0000,9, 27.870, 32.526, 37.077, 41.526, 45.873