BOTTLE,20130715NOAA
EXPOCODE,SECT_ID,STNNBR,CASTNO,SAMPNO,BTLNBR,BTLNBR_FLAG_W,DATE,TIME,LATITUDE,LONGITUDE,DEPTH,CTDPRS,CTDTMP,CTDSAL,CTDSAL_FLAG_W,SALNTY,SALNTY_FLAG_W,SALTREF,SALTREF_FLAG_W,CTDOXY,CTDOXY_FLAG_W,OXYGEN,OXYGEN_FLAG_W,SILCAT,SILCAT_FLAG_W,NITRAT,NITRAT_FLAG_W,NITRIT,NITRIT_FLAG_W,PHSPHT,PHSPHT_FLAG_W,CFC-11,CFC-11_FLAG_W,CFC-12,CFC-12_FLAG_W,CCL4,CCL4_FLAG_W,TCARBN,TCARBN_FLAG_W,ALKALI,ALKALI_FLAG_W,PCO2,PCO2_FLAG_W,PCO2TMP,PH_TOT,PH_TOT_FLAG_W,PH_TMP,SF6,SF6_FLAG_W,DOC,DOC_FLAG_W,TDN,TDN_FLAG_W,TRITUM,TRITUM_FLAG_W,HELIUM,HELIUM_FLAG_W,OXY_18,OXY_18_FLAG_W,BLACKC,BLACKC_FLAG_W,PIGMENTS,PIGMENTS_FLAG_W,SIGMA-THETA,SIGMA-1,SIGMA-2,SIGMA-3,SIGMA-4
,,,,,,,,,,,METERS,DBARS,ITS-90,PSS-78,,PSS-78,,G/KG,,UMOL/KG,,UMOL/KG,,UMOL/KG,,UMOL/KG,,UMOL/KG,,UMOL/KG,,PMOL/KG,,PMOL/KG,,PMOL/KG,,UMOL/KG,,UMOL/KG,,UATM@T,,DEG_C,,,DEG_C,FMOL/KG,,UMOL/KG,,UMOL/KG,,TU,,NMOL/KG,,,,,,,,,,,,
33RO20110828,   A10,   113,  1,     24,    024,2,20000101,0000,-28.0001, -46.3003, 2266,      5.5,  22.5519,  36.8989,2,  36.8991,2,  37.0731,2,    216.1,2,    216.3,2,     0.68,2,     0.00,2,     0.00,2,     0.06,2,    1.867,2,    1.167,2,    3.856,3,   2089.6,6,   2416.6,2,   -999.0,9,  -999.00,   7.9764,2,    25.58,    1.208,2,   -999.0,1,   -999.0,1, -999.000,9,-999.0000,9,-999.0000,9,-999.0000,9,-999.0000,1, 25.505, 29.727, 33.857, 37.898, 41.853
33RO20110828,   A10,   113,  1,     23,    023,2,20000101,0000,-28.0001, -46.3003, 2266,     57.7,  22.1457,  36.8216,2,  36.8247,2,  36.9984,2,    217.8,2,    218.3,2,     0.78,2,     0.00,2,     0.00,2,     0.06,2,    1.905,2,    1.188,2,    3.552,3,   2087.3,2,   2411.8,2,   -999.0,9,  -999.00,   7.9605,2,    25.50,    1.251,2,   -999.0,1,   -999.0,1, -999.000,9,-999.0000,9,-999.0000,9,-999.0000,9,-999.0000,9, 25.567, 29.796, 33.932, 37.979, 41.939
33RO20110828,   A10,   113,  1,     22,    022,2,20000101,0000,-28.0001, -46.3003, 2266,     98.2,  21.6714,  36.8208,2,  36.8238,2,  36.9975,2,    214.0,2,    214.2,2,     0.78,2,     0.00,2,     0.09,2,     0.08,2,    1.921,2,    1.194,2,    2.924,3,   2090.1,2,   2411.4,2,   -999.0,9,  -999.00,   7.9788,2,    25.60,    1.221,2,   -999.0,1,   -999.0,1, -999.000,9,-999.0000,9,-999.0000,9,-999.0000,9,-999.0000,1, 25.702, 29.938, 34.081, 38.135, 42.101
33RO20110828,   A10,   113,  1,     21,    021,2,20000101,0000,-28.0001, -46.3003, 2266,    172.0,  19.9882,  36.4509,2,  36.4534,2,  36.6253,2,    213.6,2,    213.3,2,     0.97,2,     0.97,2,     0.10,2,     0.15,2,    2.090,2,    1.291,2,    2.076,3,   2092.8,2,   2389.3,2,   -999.0,9,  -999.00,   7.9471,2,    25.61,    1.278,2,   -999.0,1,   -999.0,1, -999.000,9,-999.0000,9,-999.0000,9,-999.0000,9,-999.0000,9, 25.883, 30.146, 34.316, 38.395, 42.387
33RO20110828,   A10,   113,  1,     20,    020,2,20000101,0000,-28.0001, -46.3003, 2266,    241.4,  17.0301,  35.8353,2,  35.8353,2,  36.0043,2,    203.8,2,    203.0,2,     1.76,2,     3.90,2,     0.01,2,     0.39,2,    2.429,2,    1.462,2,    0.928,3,   2105.0,2,   2353.1,2,   -999.0,9,  -999.00,   7.8813,2,    25.64,    1.323,2,   -999.0,1,   -999.0,1, -999.000,9,-999.0000,9,-999.0000,9,-999.0000,9,-999.0000,9, 26.158, 30.473, 34.694, 38.822, 42.860
33RO20110828,   A10,   113,  1,     19,    019,2,20000101,0000,-28.0001, -46.3003, 2266,    313.9,  16.1486,  35.7841,2,  35.7884,2,  35.9571,2,    225.0,2,    224.0,2,     1.66,2,     3.32,2,     0.01,2,     0.34,2,    2.502,2,    1.504,2,    1.810,3,   2098.1,2,   2351.2,2,   -999.0,9,  -999.00,   7.8932,2,    25.63,    1.507,2,   -999.0,1,   -999.0,1, -999.000,9,-999.0000,9,-999.0000,9,-999.0000,9,-999.0000,9, 26.332, 30.663, 34.898, 39.041, 43.094
33RO20110828,   A10,   113,  1,     18,    018,2,20000101,0000,-28.0001, -46.3003, 2266,    376.4,  14.7783,  35.5340,2,  35.5363,2,  35.7039,2,    208.4,2,    209.1,2,     2.54,2,     7.12,2,     0.01,2,     0.62,2,    2.709,2,    1.589,2,    0.822,3,   2116.9,2,   2336.8,2,   -999.0,9,  -999.00,   7.8387,2,    25.55,    1.325,2,   -999.0,1,   -999.0,1, -999.000,9,-999.0000,9,-999.0000,9,-999.0000,9,-999.0000,9, 26.447, 30.804, 35.065, 39.233, 43.309
33RO20110828,   A10,   113,  1,     17,    017,2,20000101,0000,-28.0001, -46.3003, 2266,    460.8,  13.2981,  35.2966,2,  35.3074,2,  35.4739,2,    209.5,2,    209.4,2,     3.32,2,     9.95,2,     0.01,2,     0.81,2,    2.900,2,    1.655,2,    0.999,3,   2123.9,2,   2324.2,2,   -999.0,9,  -999.00,   7.8108,2,    25.58,    1.199,2,   -999.0,1,   -999.0,1, -999.000,9,-999.0000,9,-999.0000,9,-999.0000,9,-999.0000,9, 26.584, 30.971, 35.261, 39.456, 43.559
33RO20110828,   A10,   113,  1,     16,    016,2,20000101,0000,-28.0001, -46.3003, 2266,    524.4,  11.8709,  35.0692,2,  35.0736,2,  35.2390,2,    205.6,2,    205.9,2,     4.88,2,    13.47,2,     0.00,2,     1.04,2,    3.038,2,    1.666,2,    1.404,3,   2132.0,2,   2311.7,2,   -999.0,9,  -999.00,   7.7708,2,    25.55,    1.068,2,   -999.0,1,   -999.0,1, -999.000,9,-999.0000,9,-999.0000,9,-999.0000,9,-999.0000,9, 26.684, 31.101, 35.420, 39.643, 43.773
33RO20110828,   A10,   113,  1,     15,    015,2,20000101,0000,-28.0001, -46.3003, 2266,    624.6,   9.2764,  34.7156,2,  34.7162,2,  34.8799,2,    203.9,2,    203.0,2,     8.39,2,    19.72,2,     0.01,2,     1.47,2,    3.109,2,    1.637,2,    1.789,3,   2149.7,2,   2296.3,2,   -999.0,9,  -999.00,   7.7068,2,    25.56,    0.846,2,   -999.0,1,   -999.0,1, -999.000,9,-999.0000,9,-999.0000,9,-999.0000,9,-999.0000,9, 26.863, 31.337, 35.711, 39.989, 44.171
33RO20110828,   A10,   113,  1,     14,    014,2,20000101,0000,-28.0001, -46.3003, 2266,    722.1,   7.1006,  34.4743,2,  34.4724,2,  34.6350,2,    209.9,2,    213.0,2,    12.50,2,    24.21,2,     0.00,2,     1.78,2,    3.171,2,    1.624,2,    2.781,3,   2162.1,2,   2288.2,2,   -999.0,9,  -999.00,   7.6638,2,    25.63,    0.802,2,   -999.0,1,   -999.0,1, -999.000,9,-999.0000,9,-999.0000,9,-999.0000,9,-999.0000,9, 26.999, 31.525, 35.949, 40.275, 44.504
33RO20110828,   A10,   113,  1,     13,    013,2,20000101,0000,-28.0001, -46.3003, 2266,    824.8,   5.4080,  34.3371,2,  34.3388,2,  34.5007,2,    220.8,2,    220.6,2,    18.06,2,    27.34,2,     0.00,2,     2.00,2,    3.000,2,    1.509,2,    3.484,3,   2172.4,2,   2286.8,2,   -999.0,9,  -999.00,   7.6313,2,    25.57,    0.682,2,   -999.0,1,   -999.0,1, -999.000,9,-999.0000,9,-999.0000,9,-999.0000,9,-999.0000,9, 27.111, 31.679, 36.145, 40.511, 44.778
33RO20110828,   A10,   113,  1,     12,    012,2,20000101,0000,-28.0001, -46.3003, 2266,    923.4,   4.6068,  34.3151,2,  34.3160,2,  34.4778,2,    216.6,2,    216.0,2,    24.60,2,    29.49,2,     0.00,2,     2.15,2,    2.501,2,    1.234,2,    3.321,3,   2184.1,2,   2290.6,2,   -999.0,9,  -999.00,   7.6074,2,    25.57,    0.507,2,   -999.0,1,   -999.0,1, -999.000,9,-999.0000,9,-999.0000,9,-999.0000,9,-999.0000,9, 27.185, 31.774, 36.260, 40.644, 44.931
33RO20110828,   A10,   113,  1,     11,    011,2,20000101,0000,-28.0001, -46.3003, 2266,   1022.7,   4.0339,  34.3487,2,  34.3498,2,  34.5118,2,    204.1,2,    203.9,2,    33.20,2,    31.44,2,     0.00,2,     2.29,2,    1.688,2,    0.826,2,    2.560,3,   2200.5,2,   2298.7,2,   -999.0,9,  -999.00,   7.5956,2,    25.56,    0.265,2,   -999.0,1,   -999.0,1, -999.000,9,-999.0000,9,-999.0000,9,-999.0000,9,-999.0000,9, 27.273, 31.877, 36.377, 40.775, 45.075
33RO20110828,   A10,   113,  1,     10,    010,2,20000101,0000,-28.0001, -46.3003, 2266,   1124.9,   3.7071,  34.3851,2,  34.3867,2,  34.5488,2,    196.7,2,    197.7,2,    39.35,2,    32.02,2,     0.00,2,     2.35,2,    1.199,2,    0.583,2,    2.186,3,   2208.4,2,   2305.7,2,   -999.0,9,  -999.00,   7.5707,2,    25.47,    0.181,2,   -999.0,1,   -999.0,1, -999.000,9,-999.0000,9,-999.0000,9,-999.0000,9,-999.0000,9, 27.336, 31.948, 36.456, 40.863, 45.170
33RO20110828,   A10,   113,  1,      9,    009,2,20000101,0000,-28.0001, -46.3003, 2266,   1227.8,   3.4485,  34.4395,2,  34.4399,2,  34.6023,2,    191.5,2,    191.6,2,    44.81,2,    32.41,2,     0.00,2,     2.37,2,    0.787,2,    0.382,2,    1.704,3,   2216.9,2,   2311.2,2,   -999.0,9,  -999.00,   7.5789,2,    25.59,    0.116,2,   -999.0,1,   -999.0,1, -999.000,9,-999.0000,9,-999.0000,9,-999.0000,9,-999.0000,9, 27.404, 32.023, 36.537, 40.950, 45.264
33RO20110828,   A10,   113,  1,      8,    008,2,20000101,0000,-28.0001, -46.3003, 2266,   1326.7,   3.2715,  34.4957,2,  34.4966,2,  34.6593,2,    189.4,2,    189.1,2,    48.81,2,    32.22,2,     0.00,2,     2.36,2,    0.549,2,    0.264,2,    1.547,3,   2221.0,2,   2316.1,2,   -999.0,9,  -999.00,   7.5702,2,    25.61,    0.060,2,   -999.0,1,   -999.0,1, -999.000,9,-999.0000,9,-999.0000,9,-999.0000,9,-999.0000,9, 27.467, 32.090, 36.609, 41.026, 45.343
33RO20110828,   A10,   113,  1,      7,    007,2,20000101,0000,-28.0001, -46.3003, 2266,   1423.3,   3.3148,  34.5857,2,  34.5872,2,  34.7502,2,    188.8,2,    189.3,2,    47.83,2,    31.24,2,     0.00,2,     2.27,2,    0.295,2,    0.142,2,    1.050,3,   2220.8,6,   2320.1,2,   -999.0,9,  -999.00,   7.5820,2,    25.53,    0.058,2,   -999.0,1,   -999.0,1, -999.000,9,-999.0000,9,-999.0000,9,-999.0000,9,-999.0000,9, 27.536, 32.157, 36.675, 41.090, 45.406
33RO20110828,   A10,   113,  1,      6,    006,2,20000101,0000,-28.0001, -46.3003, 2266,   1526.9,   3.3781,  34.6548,2,  34.6630,2,  34.8265,2,    193.0,2,    192.6,2,    45.19,2,    29.77,2,     0.00,2,     2.17,2,    0.193,2,    0.095,2,    0.827,3,   2216.3,2,   2325.9,2,   -999.0,9,  -999.00,   7.5797,2,    25.53,    0.000,2,   -999.0,1,   -999.0,1, -999.000,9,-999.0000,9,-999.0000,9,-999.0000,9,-999.0000,9, 27.591, 32.211, 36.726, 41.140, 45.453
33RO20110828,   A10,   113,  1,      5,    005,2,20000101,0000,-28.0001, -46.3003, 2266,   1625.9,   3.4895,  34.7295,2,  34.7315,2,  34.8953,2,    198.1,2,    198.7,2,    41.97,2,    28.31,2,     0.00,2,     2.05,2,    0.143,2,    0.070,2,    0.745,3,   2212.5,2,   2320.3,2,   -999.0,9,  -999.00,   7.6027,2,    25.51,    0.000,2,   -999.0,1,   -999.0,1, -999.000,9,-999.0000,9,-999.0000,9,-999.0000,9,-999.0000,9, 27.636, 32.252, 36.764, 41.175, 45.486
33RO20110828,   A10,   113,  1,      4,    004,2,20000101,0000,-28.0001, -46.3003, 2266,   1728.7,   3.4434,  34.7769,2,  34.7793,2,  34.9433,2,    205.1,2,    206.1,2,    40.60,2,    26.84,2,     0.00,2,     1.95,2,    0.133,2,    0.067,2,    0.729,3,   2206.3,2,   2322.0,2,   -999.0,9,  -999.00,   7.6336,2,    25.52,    0.000,2,   -999.0,1,   -999.0,1, -999.000,9,-999.0000,9,-999.0000,9,-999.0000,9,-999.0000,9, 27.680, 32.297, 36.810, 41.221, 45.533
33RO20110828,   A10,   113,  1,      3,    003,2,20000101,0000,-28.0001, -46.3003, 2266,   1927.7,   3.6676,  34.9061,2,  34.9101,2,  35.0747,2,    231.2,2,    231.5,2,    27.23,2,    22.54,2,     0.00,2,     1.61,2,    0.191,2,    0.097,2,    0.916,3,   2182.1,2,   2318.8,2,   -999.0,9,  -999.00,   7.6621,2,    25.45,    0.000,2,   -999.0,1,   -999.0,1, -999.000,9,-999.0000,9,-999.0000,9,-999.0000,9,-999.0000,9, 27.764, 32.375, 36.882, 41.287, 45.593
33RO20110828,   A10,   113,  1,      2,    002,2,20000101,0000,-28.0001, -46.3003, 2266,   2141.9,   3.5437,  34.9457,2,  34.9497,2,  35.1145,2,    245.3,2,    246.2,2,    23.13,2,    20.49,2,     0.00,2,     1.46,2,    0.221,2,    0.112,2,    0.742,3,   2173.3,2,   2319.0,2,   -999.0,9,  -999.00,   7.6944,2,    25.49,    0.000,2,   -999.0,1,   -999.0,1, -999.000,9,-999.0000,9,-999.0000,9,-999.0000,9,-999.0000,9, 27.810, 32.424, 36.934, 41.343, 45.652
33RO20110828,   A10,   113,  1,      1,    001,2,20000101,0000,-28.0001, -46.3003, 2266,   2247.1,   3.1582,  34.9378,2,  34.9413,6,  35.1061,6,    249.8,2,    249.4,2,    27.23,2,    20.40,2,     0.00,2,     1.45,2,    0.163,2,    0.084,2,    0.635,3,   2174.8,6,   2322.4,2,   -999.0,9,  -999.00,   7.7219,2,    25.53,    0.024,2,   -999.0,1,   -999.0,1, -999.000,9,-999.0000,9,-999.0000,9,-999.0000,9,-999.0000,9, 27.837, 32.462, 36.982, 41.401, 45.720