BOTTLE,20130715NOAA
EXPOCODE,SECT_ID,STNNBR,CASTNO,SAMPNO,BTLNBR,BTLNBR_FLAG_W,DATE,TIME,LATITUDE,LONGITUDE,DEPTH,CTDPRS,CTDTMP,CTDSAL,CTDSAL_FLAG_W,SALNTY,SALNTY_FLAG_W,SALTREF,SALTREF_FLAG_W,CTDOXY,CTDOXY_FLAG_W,OXYGEN,OXYGEN_FLAG_W,SILCAT,SILCAT_FLAG_W,NITRAT,NITRAT_FLAG_W,NITRIT,NITRIT_FLAG_W,PHSPHT,PHSPHT_FLAG_W,CFC-11,CFC-11_FLAG_W,CFC-12,CFC-12_FLAG_W,CCL4,CCL4_FLAG_W,TCARBN,TCARBN_FLAG_W,ALKALI,ALKALI_FLAG_W,PCO2,PCO2_FLAG_W,PCO2TMP,PH_TOT,PH_TOT_FLAG_W,PH_TMP,SF6,SF6_FLAG_W,DOC,DOC_FLAG_W,TDN,TDN_FLAG_W,TRITUM,TRITUM_FLAG_W,HELIUM,HELIUM_FLAG_W,OXY_18,OXY_18_FLAG_W,BLACKC,BLACKC_FLAG_W,PIGMENTS,PIGMENTS_FLAG_W,SIGMA-THETA,SIGMA-1,SIGMA-2,SIGMA-3,SIGMA-4
,,,,,,,,,,,METERS,DBARS,ITS-90,PSS-78,,PSS-78,,G/KG,,UMOL/KG,,UMOL/KG,,UMOL/KG,,UMOL/KG,,UMOL/KG,,UMOL/KG,,PMOL/KG,,PMOL/KG,,PMOL/KG,,UMOL/KG,,UMOL/KG,,UATM@T,,DEG_C,,,DEG_C,FMOL/KG,,UMOL/KG,,UMOL/KG,,TU,,NMOL/KG,,,,,,,,,,,,
33RO20110828,   A10,    32,  1,     24,    024,2,20000101,0000,-30.0005,  -0.0328, 4088,      4.0,  18.2507,  35.8156,2,  35.8143,2,  35.9832,2,    242.4,2,    242.7,2,     1.56,2,     0.00,2,     0.02,2,     0.16,2,    2.408,2,    1.459,2,    2.880,2,   2078.4,2,   2351.0,2,   -999.0,9,  -999.00, 999.0000,5,   999.00,    1.482,2,   -999.0,9,   -999.0,9, -999.000,9,-999.0000,9,-999.0000,9,-999.0000,9,-999.0000,1, 25.834, 30.128, 34.328, 38.437, 42.456
33RO20110828,   A10,    32,  1,     23,    023,2,20000101,0000,-30.0005,  -0.0328, 4088,     29.6,  17.4614,  35.7935,2,  35.7938,2,  35.9626,2,    245.2,2,    244.9,2,     1.56,2,     0.00,2,     0.03,2,     0.16,2, -999.000,9, -999.000,9, -999.000,9,   -999.0,9,   2349.0,2,   -999.0,9,  -999.00,-999.0000,9,  -999.00, -999.000,9,   -999.0,9,   -999.0,9, -999.000,9,-999.0000,9,-999.0000,9,-999.0000,9,-999.0000,9, 26.014, 30.321, 34.534, 38.655, 42.687
33RO20110828,   A10,    32,  1,     22,    022,2,20000101,0000,-30.0005,  -0.0328, 4088,     65.9,  16.9510,  35.7579,2,  35.7543,2,  35.9229,2,    245.6,2,    245.5,2,     1.66,2,     0.10,2,     0.06,2,     0.18,2, -999.000,9, -999.000,9, -999.000,9,   -999.0,9,   2347.0,2,   -999.0,9,  -999.00,-999.0000,9,  -999.00, -999.000,9,   -999.0,9,   -999.0,9, -999.000,9,-999.0000,9,-999.0000,9,-999.0000,9,-999.0000,1, 26.108, 30.424, 34.646, 38.775, 42.815
33RO20110828,   A10,    32,  1,     21,    021,2,20000101,0000,-30.0005,  -0.0328, 4088,     95.4,  16.5818,  35.7333,2,  35.7355,2,  35.9040,2,    238.1,2,    237.5,2,     1.95,2,     0.78,2,     0.48,2,     0.26,2,    2.452,2,    1.471,2,    2.088,2,   2083.7,2,   2344.3,2,   -999.0,9,  -999.00, 999.0000,5,   999.00,    1.497,2,   -999.0,9,   -999.0,9, -999.000,9,-999.0000,9,-999.0000,9,-999.0000,9,-999.0000,1, 26.182, 30.505, 34.733, 38.869, 42.914
33RO20110828,   A10,    32,  1,     20,    020,2,20000101,0000,-30.0005,  -0.0328, 4088,    146.2,  16.3961,  35.7091,2,  35.7101,2,  35.8785,2,    235.9,2,    235.7,2,     2.05,2,     1.17,2,     0.57,2,     0.28,2, -999.000,9, -999.000,9, -999.000,9,   -999.0,9,   2343.0,2,   -999.0,9,  -999.00,-999.0000,9,  -999.00, -999.000,9,   -999.0,9,   -999.0,9, -999.000,9,-999.0000,9,-999.0000,9,-999.0000,9,-999.0000,9, 26.208, 30.535, 34.766, 38.905, 42.954
33RO20110828,   A10,    32,  1,     19,    019,2,20000101,0000,-30.0005,  -0.0328, 4088,    191.2,  16.1631,  35.6825,2,  35.6826,2,  35.8509,2,    234.8,2,    234.7,2,     2.15,2,     1.66,2,     0.35,2,     0.31,2, -999.000,9, -999.000,9, -999.000,9,   -999.0,9,   2341.5,2,   -999.0,9,  -999.00,-999.0000,9,  -999.00, -999.000,9,   -999.0,9,   -999.0,9, -999.000,9,-999.0000,9,-999.0000,9,-999.0000,9,-999.0000,9, 26.242, 30.574, 34.809, 38.952, 43.005
33RO20110828,   A10,    32,  1,     18,    018,2,20000101,0000,-30.0005,  -0.0328, 4088,    260.9,  14.1057,  35.2746,2,  35.2760,2,  35.4423,2,    218.5,2,    219.2,2,     3.22,2,     6.83,2,     0.01,2,     0.63,2,    2.783,2,    1.642,2,    0.754,2,   -999.0,9,   2318.7,2,   -999.0,9,  -999.00,-999.0000,9,  -999.00,    1.487,2,   -999.0,9,   -999.0,9, -999.000,9,-999.0000,9,-999.0000,9,-999.0000,9,-999.0000,9, 26.386, 30.757, 35.032, 39.213, 43.302
33RO20110828,   A10,    32,  1,     17,    017,2,20000101,0000,-30.0005,  -0.0328, 4088,    310.6,  13.3915,  35.1789,2,  35.1804,2,  35.3463,2,    221.0,2,    220.5,2,     3.51,2,     8.00,2,     0.01,2,     0.70,2, -999.000,9, -999.000,9, -999.000,9,   2110.1,2,   2314.8,2,   -999.0,9,  -999.00, 999.0000,5,   999.00, -999.000,9,   -999.0,9,   -999.0,9, -999.000,9,-999.0000,9,-999.0000,9,-999.0000,9,-999.0000,9, 26.462, 30.848, 35.136, 39.330, 43.432
33RO20110828,   A10,    32,  1,     16,    016,2,20000101,0000,-30.0005,  -0.0328, 4088,    519.9,   9.8449,  34.7747,2,  34.7753,2,  34.9393,2,    197.8,2,    197.3,2,     8.69,2,    18.84,2,     0.00,2,     1.43,2,    3.082,2,    1.686,2,    1.138,2,   -999.0,9,   2294.9,2,   -999.0,9,  -999.00,-999.0000,9,  -999.00,    1.031,2,   -999.0,9,   -999.0,9, -999.000,9,-999.0000,9,-999.0000,9,-999.0000,9,-999.0000,9, 26.813, 31.274, 35.636, 39.901, 44.071
33RO20110828,   A10,    32,  1,     15,    015,2,20000101,0000,-30.0005,  -0.0328, 4088,    645.0,   7.5500,  34.5285,2,  34.5299,2,  34.6927,2,    199.6,2,    199.8,2,    14.15,2,    24.31,2,     0.00,2,     1.81,2, -999.000,9, -999.000,9, -999.000,9,   -999.0,9,   2286.9,2,   -999.0,9,  -999.00,-999.0000,9,  -999.00, -999.000,9,   -999.0,9,   -999.0,9, -999.000,9,-999.0000,9,-999.0000,9,-999.0000,9,-999.0000,9, 26.980, 31.495, 35.908, 40.223, 44.442
33RO20110828,   A10,    32,  1,     14,    014,2,20000101,0000,-30.0005,  -0.0328, 4088,    808.5,   5.1254,  34.3282,2,  34.3283,2,  34.4902,2,    216.4,2,    217.2,2,    21.87,2,    28.51,2,     0.01,2,     2.12,2,    2.961,2,    1.514,2,    2.600,2,   2178.1,2,   2287.1,2,   -999.0,9,  -999.00, 999.0000,5,   999.00,    0.790,2,   -999.0,9,   -999.0,9, -999.000,9,-999.0000,9,-999.0000,9,-999.0000,9,-999.0000,9, 27.136, 31.711, 36.184, 40.556, 44.830
33RO20110828,   A10,    32,  1,     13,    013,2,20000101,0000,-30.0005,  -0.0328, 4088,    959.0,   4.1452,  34.3371,2,  34.3406,2,  34.5026,2,    206.5,2,    206.6,2,    33.00,2,    30.95,2,     0.01,2,     2.31,2, -999.000,9, -999.000,9, -999.000,9,   -999.0,9,   2297.5,2,   -999.0,9,  -999.00,-999.0000,9,  -999.00, -999.000,9,   -999.0,9,   -999.0,9, -999.000,9,-999.0000,9,-999.0000,9,-999.0000,9,-999.0000,9, 27.254, 31.854, 36.352, 40.748, 45.044
33RO20110828,   A10,    32,  1,     12,    012,2,20000101,0000,-30.0005,  -0.0328, 4088,   1098.9,   3.5704,  34.4122,2,  34.4137,2,  34.5759,2,    190.5,2,    189.7,2,    45.98,2,    32.80,2,     0.01,2,     2.44,2, -999.000,9, -999.000,9, -999.000,9,   -999.0,9,   2308.9,2,   -999.0,9,  -999.00,-999.0000,9,  -999.00, -999.000,9,   -999.0,9,   -999.0,9, -999.000,9,-999.0000,9,-999.0000,9,-999.0000,9,-999.0000,9, 27.371, 31.986, 36.497, 40.907, 45.217
33RO20110828,   A10,    32,  1,     11,    011,2,20000101,0000,-30.0005,  -0.0328, 4088,   1301.9,   3.1689,  34.5421,2,  34.5413,2,  34.7042,2,    181.4,2,    181.2,2,    55.45,2,    32.70,2,     0.02,2,     2.44,2,    0.523,2,    0.247,2,    0.709,2,   2232.2,2,   2320.7,2,   -999.0,9,  -999.00, 999.0000,5,   999.00,    0.074,2,   -999.0,9,   -999.0,9, -999.000,9,-999.0000,9,-999.0000,9,-999.0000,9,-999.0000,9, 27.512, 32.137, 36.658, 41.078, 45.397
33RO20110828,   A10,    32,  1,     10,    010,2,20000101,0000,-30.0005,  -0.0328, 4088,   1580.2,   2.9870,  34.6987,2,  34.6987,2,  34.8623,2,    192.7,2,    192.7,2,    53.98,2,    29.67,2,     0.02,2,     2.20,2, -999.000,9, -999.000,9, -999.000,9,   -999.0,9,   2326.5,2,   -999.0,9,  -999.00,-999.0000,9,  -999.00, -999.000,9,   -999.0,9,   -999.0,9, -999.000,9,-999.0000,9,-999.0000,9,-999.0000,9,-999.0000,9, 27.656, 32.285, 36.811, 41.234, 45.557
33RO20110828,   A10,    32,  1,      9,    009,2,20000101,0000,-30.0005,  -0.0328, 4088,   1850.6,   2.8551,  34.7825,2,  34.7830,2,  34.9470,2,    208.3,2,    210.2,2,    51.14,2,    27.04,2,     0.02,2,     2.00,2,    0.054,2,    0.025,2,    0.135,2,   -999.0,9,   2328.1,2,   -999.0,9,  -999.00,-999.0000,9,  -999.00,    0.000,2,   -999.0,9,   -999.0,9, -999.000,9,-999.0000,9,-999.0000,9,-999.0000,9,-999.0000,9, 27.737, 32.370, 36.899, 41.325, 45.652
33RO20110828,   A10,    32,  1,      8,    008,2,20000101,0000,-30.0005,  -0.0328, 4088,   2201.2,   2.6118,  34.8209,2,  34.8213,2,  34.9855,2,    221.9,2,    221.8,2,    52.51,2,    25.57,2,     0.02,2,     1.88,2, -999.000,9, -999.000,9, -999.000,9,   -999.0,9,   2332.2,2,   -999.0,9,  -999.00,-999.0000,9,  -999.00, -999.000,9,   -999.0,9,   -999.0,9, -999.000,9,-999.0000,9,-999.0000,9,-999.0000,9,-999.0000,9, 27.792, 32.431, 36.967, 41.400, 45.733
33RO20110828,   A10,    32,  1,      7,    007,2,20000101,0000,-30.0005,  -0.0328, 4088,   2549.3,   2.4441,  34.8437,2,  34.8447,2,  35.0091,2,    230.3,2,    229.0,2,    53.29,2,    24.59,2,     0.01,2,     1.82,2,    0.017,2,    0.013,2,    0.057,2,   -999.0,9,   2337.2,2,   -999.0,9,  -999.00,-999.0000,9,  -999.00,    0.062,2,   -999.0,9,   -999.0,9, -999.000,9,-999.0000,9,-999.0000,9,-999.0000,9,-999.0000,9, 27.827, 32.472, 37.013, 41.451, 45.788
33RO20110828,   A10,    32,  1,      6,    006,2,20000101,0000,-30.0005,  -0.0328, 4088,   2898.7,   2.3587,  34.8556,2,  34.8571,2,  35.0215,2,    233.4,2,    232.7,2,    53.97,2,    24.20,2,     0.01,2,     1.78,2, -999.000,9, -999.000,9, -999.000,9,   2205.6,2,   2343.4,2,   -999.0,9,  -999.00, 999.0000,5,   999.00, -999.000,9,   -999.0,9,   -999.0,9, -999.000,9,-999.0000,9,-999.0000,9,-999.0000,9,-999.0000,9, 27.847, 32.495, 37.039, 41.480, 45.820
33RO20110828,   A10,    32,  1,      5,    005,2,20000101,0000,-30.0005,  -0.0328, 4088,   3250.3,   2.3049,  34.8689,2,  34.8695,2,  35.0340,2,    234.6,2,    234.8,2,    53.97,2,    23.81,2,     0.01,2,     1.75,2,    0.005,2,    0.004,2,    0.026,2,   -999.0,9,   2348.3,2,   -999.0,9,  -999.00,-999.0000,9,  -999.00,    0.000,2,   -999.0,9,   -999.0,9, -999.000,9,-999.0000,9,-999.0000,9,-999.0000,9,-999.0000,9, 27.864, 32.514, 37.060, 41.504, 45.846
33RO20110828,   A10,    32,  1,      4,    004,2,20000101,0000,-30.0005,  -0.0328, 4088,   3442.2,   2.2788,  34.8738,2,  34.8746,2,  35.0390,2,    233.6,2,    233.8,2,    54.55,2,    23.72,2,     0.01,2,     1.73,2,    0.003,2,    0.003,2,    0.015,2,   -999.0,9,   2354.6,2,   -999.0,9,  -999.00,-999.0000,9,  -999.00,    0.000,2,   -999.0,9,   -999.0,9, -999.000,9,-999.0000,9,-999.0000,9,-999.0000,9,-999.0000,9, 27.871, 32.523, 37.071, 41.515, 45.859
33RO20110828,   A10,    32,  1,      3,    003,2,20000101,0000,-30.0005,  -0.0328, 4088,   3651.3,   2.2828,  34.8740,2,  34.8747,2,  35.0391,2,    232.6,2,    233.5,2,    55.14,2,    23.91,2,     0.01,2,     1.74,2,    0.004,2,    0.003,2,    0.010,2,   -999.0,9,   2354.4,2,   -999.0,9,  -999.00,-999.0000,9,  -999.00,    0.000,2,   -999.0,9,   -999.0,9, -999.000,9,-999.0000,9,-999.0000,9,-999.0000,9,-999.0000,9, 27.873, 32.525, 37.073, 41.518, 45.862
33RO20110828,   A10,    32,  1,      2,    002,2,20000101,0000,-30.0005,  -0.0328, 4088,   3850.5,   2.2941,  34.8738,2,  34.8749,2,  35.0393,2,    231.5,2,    232.2,2,    55.63,2,    23.91,2,     0.01,2,     1.74,2,    0.004,2,    0.003,2,    0.013,2,   -999.0,9,   2355.4,2,   -999.0,9,  -999.00,-999.0000,9,  -999.00,    0.000,2,   -999.0,9,   -999.0,9, -999.000,9,-999.0000,9,-999.0000,9,-999.0000,9,-999.0000,9, 27.874, 32.527, 37.075, 41.520, 45.864
33RO20110828,   A10,    32,  1,      1,    001,2,20000101,0000,-30.0005,  -0.0328, 4088,   4172.2,   2.3140,  34.8717,2,  34.8766,6,  35.0410,6,    233.4,2,    232.4,2,    56.60,2,    24.01,2,     0.01,2,     1.76,2,    0.005,2,    0.004,2,    0.015,2,   2215.7,2,   2354.8,2,   -999.0,9,  -999.00, 999.0000,5,   999.00,    0.000,2,   -999.0,9,   -999.0,9, -999.000,9,-999.0000,9,-999.0000,9,-999.0000,9,-999.0000,9, 27.873, 32.526, 37.075, 41.520, 45.865