BOTTLE,20130715NOAA
EXPOCODE,SECT_ID,STNNBR,CASTNO,SAMPNO,BTLNBR,BTLNBR_FLAG_W,DATE,TIME,LATITUDE,LONGITUDE,DEPTH,CTDPRS,CTDTMP,CTDSAL,CTDSAL_FLAG_W,SALNTY,SALNTY_FLAG_W,SALTREF,SALTREF_FLAG_W,CTDOXY,CTDOXY_FLAG_W,OXYGEN,OXYGEN_FLAG_W,SILCAT,SILCAT_FLAG_W,NITRAT,NITRAT_FLAG_W,NITRIT,NITRIT_FLAG_W,PHSPHT,PHSPHT_FLAG_W,CFC-11,CFC-11_FLAG_W,CFC-12,CFC-12_FLAG_W,CCL4,CCL4_FLAG_W,TCARBN,TCARBN_FLAG_W,ALKALI,ALKALI_FLAG_W,PCO2,PCO2_FLAG_W,PCO2TMP,PH_TOT,PH_TOT_FLAG_W,PH_TMP,SF6,SF6_FLAG_W,DOC,DOC_FLAG_W,TDN,TDN_FLAG_W,TRITUM,TRITUM_FLAG_W,HELIUM,HELIUM_FLAG_W,OXY_18,OXY_18_FLAG_W,BLACKC,BLACKC_FLAG_W,PIGMENTS,PIGMENTS_FLAG_W,SIGMA-THETA,SIGMA-1,SIGMA-2,SIGMA-3,SIGMA-4
,,,,,,,,,,,METERS,DBARS,ITS-90,PSS-78,,PSS-78,,G/KG,,UMOL/KG,,UMOL/KG,,UMOL/KG,,UMOL/KG,,UMOL/KG,,UMOL/KG,,PMOL/KG,,PMOL/KG,,PMOL/KG,,UMOL/KG,,UMOL/KG,,UATM@T,,DEG_C,,,DEG_C,FMOL/KG,,UMOL/KG,,UMOL/KG,,TU,,NMOL/KG,,,,,,,,,,,,
33RO20110828,   A10,    63,  1,     24,    024,2,20000101,0000,-30.0009, -20.5097, 4507,      3.9,  19.0763,  36.2369,2,  36.2367,2,  36.4076,2,    229.5,2,    231.4,2,     1.36,2,     0.00,2,     0.01,2,     0.14,2,    2.200,2,    1.343,2,    2.063,3,   2088.7,6,   2375.3,3,   -999.0,9,  -999.00,   7.9465,2,    25.76,    1.372,2,   -999.0,1,   -999.0,1, -999.000,9,-999.0000,9,-999.0000,9,-999.0000,9,-999.0000,1, 25.947, 30.226, 34.411, 38.504, 42.509
33RO20110828,   A10,    63,  1,     23,    023,2,20000101,0000,-30.0009, -20.5097, 4507,     34.7,  19.0386,  36.2328,2,  36.2367,2,  36.4076,2,    228.5,2,    231.0,2,     1.36,2,     0.00,2,     0.01,2,     0.14,2,    2.197,2,    1.342,2,    2.091,3,   2088.7,2,   2375.2,3,   -999.0,9,  -999.00,   7.9352,2,    25.71,    1.346,2,   -999.0,1,   -999.0,1, -999.000,9,-999.0000,9,-999.0000,9,-999.0000,9,-999.0000,9, 25.958, 30.238, 34.423, 38.517, 42.523
33RO20110828,   A10,    63,  1,     22,    022,2,20000101,0000,-30.0009, -20.5097, 4507,     73.1,  19.0303,  36.2308,2,  36.2306,2,  36.4014,2,    230.1,2,    230.7,2,     1.36,2,     0.00,2,     0.01,2,     0.15,2,    2.202,2,    1.341,2,    2.083,3,   2088.5,2,   2375.5,2,   -999.0,9,  -999.00,   7.9427,2,    25.72,    1.388,2,   -999.0,1,   -999.0,1, -999.000,9,-999.0000,9,-999.0000,9,-999.0000,9,-999.0000,9, 25.958, 30.237, 34.423, 38.517, 42.523
33RO20110828,   A10,    63,  1,     21,    021,2,20000101,0000,-30.0009, -20.5097, 4507,    124.2,  18.0273,  35.9909,2,  35.9822,2,  36.1518,2,    230.7,2,    225.1,2,     1.56,2,     0.59,2,     0.10,2,     0.22,2,    2.316,2,    1.402,2,    1.153,3,   2091.3,2,   2359.6,2,   -999.0,9,  -999.00,   7.9186,2,    25.70,    1.437,2,   -999.0,1,   -999.0,1, -999.000,9,-999.0000,9,-999.0000,9,-999.0000,9,-999.0000,1, 26.023, 30.321, 34.524, 38.635, 42.657
33RO20110828,   A10,    63,  1,     20,    020,2,20000101,0000,-30.0009, -20.5097, 4507,    173.6,  16.6712,  35.7318,2,  35.7161,2,  35.8845,2,    224.1,2,    224.7,2,     1.76,2,     2.05,2,     0.10,2,     0.31,2,    2.483,2,    1.486,2,    0.910,3,   2095.1,2,   2342.7,2,   -999.0,9,  -999.00,   7.8950,2,    25.78,    1.422,2,   -999.0,1,   -999.0,1, -999.000,9,-999.0000,9,-999.0000,9,-999.0000,9,-999.0000,1, 26.149, 30.471, 34.698, 38.832, 42.877
33RO20110828,   A10,    63,  1,     19,    019,2,20000101,0000,-30.0009, -20.5097, 4507,    249.5,  14.6435,  35.4245,2,  35.4253,2,  35.5923,2,    218.4,2,    217.5,2,     2.44,2,     5.76,2,     0.02,2,     0.55,2,    2.747,2,    1.612,2,    0.455,3,   2109.0,2,   2325.2,2,   -999.0,9,  -999.00,   7.8488,2,    25.76,    1.415,2,   -999.0,1,   -999.0,1, -999.000,9,-999.0000,9,-999.0000,9,-999.0000,9,-999.0000,9, 26.386, 30.746, 35.010, 39.180, 43.260
33RO20110828,   A10,    63,  1,     18,    018,2,20000101,0000,-30.0009, -20.5097, 4507,    326.6,  13.5183,  35.2823,2,  35.2841,2,  35.4505,2,    218.3,2,    218.3,2,     3.02,2,     8.10,2,     0.01,2,     0.69,2,    2.901,2,    1.678,2,    0.452,3,   2115.8,2,   2316.0,2,   -999.0,9,  -999.00,   7.8201,2,    25.70,    1.348,2,   -999.0,1,   -999.0,1, -999.000,9,-999.0000,9,-999.0000,9,-999.0000,9,-999.0000,9, 26.517, 30.899, 35.185, 39.376, 43.475
33RO20110828,   A10,    63,  1,     17,    017,2,20000101,0000,-30.0009, -20.5097, 4507,    399.1,  12.4912,  35.1391,2,  35.1405,2,  35.3062,2,    214.7,2,    214.7,2,     3.80,2,    10.73,2,     0.02,2,     0.87,2,    3.024,2,    1.711,2,    0.454,3,   2124.7,2,   2309.5,2,   -999.0,9,  -999.00,   7.7667,2,    25.76,    1.282,2,   -999.0,1,   -999.0,1, -999.000,9,-999.0000,9,-999.0000,9,-999.0000,9,-999.0000,9, 26.614, 31.017, 35.323, 39.534, 43.653
33RO20110828,   A10,    63,  1,     16,    016,2,20000101,0000,-30.0009, -20.5097, 4507,    499.9,  10.8224,  34.9160,2,  34.9175,2,  35.0821,2,    212.9,2,    212.9,2,     5.76,2,    14.83,2,     0.01,2,     1.16,2,    3.167,2,    1.743,2,    0.750,3,   2134.9,2,   2299.8,2,   -999.0,9,  -999.00,   7.7378,2,    25.72,    1.161,2,   -999.0,1,   -999.0,1, -999.000,9,-999.0000,9,-999.0000,9,-999.0000,9,-999.0000,9, 26.754, 31.194, 35.534, 39.779, 43.930
33RO20110828,   A10,    63,  1,     15,    015,2,20000101,0000,-30.0009, -20.5097, 4507,    599.2,   8.7007,  34.6470,2,  34.6500,2,  34.8134,2,    204.1,2,    202.8,2,    10.25,2,    21.18,2,     0.01,2,     1.57,2,    3.146,2,    1.659,2,    1.201,3,   2155.8,2,   2289.4,2,   -999.0,9,  -999.00,   7.6825,2,    25.68,    0.899,2,   -999.0,1,   -999.0,1, -999.000,9,-999.0000,9,-999.0000,9,-999.0000,9,-999.0000,9, 26.902, 31.389, 35.776, 40.066, 44.260
33RO20110828,   A10,    63,  1,     14,    014,2,20000101,0000,-30.0009, -20.5097, 4507,    699.7,   6.6261,  34.4357,2,  34.4371,2,  34.5995,2,    206.5,2,    210.0,2,    14.84,2,    25.48,2,     0.01,2,     1.89,2,    3.155,2,    1.618,2,    1.850,3,   2168.2,2,   2284.9,2,   -999.0,9,  -999.00,   7.6367,2,    25.71,    0.784,2,   -999.0,1,   -999.0,1, -999.000,9,-999.0000,9,-999.0000,9,-999.0000,9,-999.0000,9, 27.035, 31.572, 36.008, 40.344, 44.584
33RO20110828,   A10,    63,  1,     13,    013,2,20000101,0000,-30.0009, -20.5097, 4507,    850.2,   5.0003,  34.3187,2,  34.3198,2,  34.4816,2,    219.6,2,    219.5,2,    21.38,2,    28.60,2,     0.01,2,     2.10,2,    2.958,2,    1.474,2,    2.418,3,   2178.1,2,   2285.2,2,   -999.0,9,  -999.00,   7.6144,2,    25.69,    0.689,2,   -999.0,1,   -999.0,1, -999.000,9,-999.0000,9,-999.0000,9,-999.0000,9,-999.0000,9, 27.144, 31.722, 36.198, 40.573, 44.850
33RO20110828,   A10,    63,  1,     12,    012,2,20000101,0000,-30.0009, -20.5097, 4507,    999.4,   4.0168,  34.3261,2,  34.3268,2,  34.4886,2,    209.8,2,    209.8,2,    32.61,2,    30.85,2,     0.01,2,     2.29,2,    2.159,2,    1.058,2,    2.180,3,   2198.3,2,   2294.0,2,   -999.0,9,  -999.00,   7.5880,2,    25.70,    0.428,2,   -999.0,1,   -999.0,1, -999.000,9,-999.0000,9,-999.0000,9,-999.0000,9,-999.0000,9, 27.257, 31.860, 36.361, 40.760, 45.060
33RO20110828,   A10,    63,  1,     11,    011,2,20000101,0000,-30.0009, -20.5097, 4507,   1151.3,   3.4397,  34.3993,2,  34.4002,2,  34.5624,2,    197.2,2,    196.6,2,    44.42,2,    32.12,2,     0.01,2,     2.40,2,    1.270,2,    0.619,2,    1.501,3,   2214.6,2,   2305.9,2,   -999.0,9,  -999.00,   7.5644,2,    25.76,    0.192,2,   -999.0,1,   -999.0,1, -999.000,9,-999.0000,9,-999.0000,9,-999.0000,9,-999.0000,9, 27.373, 31.992, 36.507, 40.920, 45.234
33RO20110828,   A10,    63,  1,     10,    010,2,20000101,0000,-30.0009, -20.5097, 4507,   1300.2,   3.1508,  34.4948,2,  34.4960,2,  34.6586,2,    188.2,2,    187.8,2,    52.32,2,    32.21,2,     0.01,2,     2.41,2,    0.670,2,    0.326,2,    0.947,3,   2226.7,6,   2315.4,2,   -999.0,9,  -999.00,   7.5618,2,    25.74,    0.109,2,   -999.0,1,   -999.0,1, -999.000,9,-999.0000,9,-999.0000,9,-999.0000,9,-999.0000,9, 27.477, 32.103, 36.625, 41.046, 45.366
33RO20110828,   A10,    63,  1,      9,    009,2,20000101,0000,-30.0009, -20.5097, 4507,   1501.1,   2.9643,  34.6091,2,  34.6109,2,  34.7741,2,    188.9,2,    189.2,2,    55.83,2,    31.04,2,     0.01,2,     2.31,2,    0.289,2,    0.138,2,    0.521,3,   2228.0,2,   2322.3,2,   -999.0,9,  -999.00,   7.5801,2,    25.69,    0.046,2,   -999.0,1,   -999.0,1, -999.000,9,-999.0000,9,-999.0000,9,-999.0000,9,-999.0000,9, 27.588, 32.218, 36.744, 41.169, 45.493
33RO20110828,   A10,    63,  1,      8,    008,2,20000101,0000,-30.0009, -20.5097, 4507,   1798.3,   2.8018,  34.7455,2,  34.7468,6,  34.9107,6,    205.1,2,    206.4,2,    53.29,2,    27.91,2,     0.01,2,     2.05,2,    0.074,2,    0.038,2,    0.299,3,   2214.9,2,   2328.0,2,   -999.0,9,  -999.00,   7.6158,2,    25.65,    0.000,2,   -999.0,1,   -999.0,1, -999.000,9,-999.0000,9,-999.0000,9,-999.0000,9,-999.0000,9, 27.712, 32.346, 36.876, 41.304, 45.632
33RO20110828,   A10,    63,  1,      7,    007,2,20000101,0000,-30.0009, -20.5097, 4507,   2101.3,   2.7030,  34.8161,2,  34.8168,2,  34.9810,2,    223.1,2,    223.6,2,    48.79,2,    25.08,2,     0.01,2,     1.85,2,    0.028,2,    0.015,2,    0.177,3,   2203.7,2,   2328.1,2,   -999.0,9,  -999.00,   7.6477,2,    25.65,    0.000,2,   -999.0,1,   -999.0,1, -999.000,9,-999.0000,9,-999.0000,9,-999.0000,9,-999.0000,9, 27.779, 32.417, 36.950, 41.380, 45.711
33RO20110828,   A10,    63,  1,      6,    006,2,20000101,0000,-30.0009, -20.5097, 4507,   2449.2,   2.7501,  34.8733,2,  34.8748,2,  35.0393,2,    240.5,2,    237.9,2,    41.18,2,    22.93,2,     0.01,2,     1.67,2,    0.011,2,    0.007,2,    0.130,3,   2189.1,2,   2325.8,2,   -999.0,9,  -999.00,   7.6737,2,    25.64,    0.018,2,   -999.0,1,   -999.0,1, -999.000,9,-999.0000,9,-999.0000,9,-999.0000,9,-999.0000,9, 27.825, 32.461, 36.993, 41.423, 45.753
33RO20110828,   A10,    63,  1,      5,    005,2,20000101,0000,-30.0009, -20.5097, 4507,   2852.0,   2.7290,  34.9013,2,  34.9034,2,  35.0680,2,    247.2,2,    247.6,2,    37.28,2,    21.57,2,     0.01,2,     1.56,2,    0.007,2,    0.006,2,    0.119,3,   2180.8,2,   2324.3,2,   -999.0,9,  -999.00,   7.6901,2,    25.65,    0.061,2,   -999.0,1,   -999.0,1, -999.000,9,-999.0000,9,-999.0000,9,-999.0000,9,-999.0000,9, 27.853, 32.491, 37.024, 41.455, 45.786
33RO20110828,   A10,    63,  1,      4,    004,2,20000101,0000,-30.0009, -20.5097, 4507,   3301.4,   2.4716,  34.8878,2,  34.8914,2,  35.0559,2,    246.5,2,    248.7,2,    44.30,2,    22.05,2,     0.01,2,     1.61,2,    0.006,2,    0.004,2,    0.113,3,   2187.1,2,   2328.4,2,   -999.0,9,  -999.00,   7.6910,2,    25.64,    0.074,2,   -999.0,1,   -999.0,1, -999.000,9,-999.0000,9,-999.0000,9,-999.0000,9,-999.0000,9, 27.868, 32.514, 37.056, 41.495, 45.834
33RO20110828,   A10,    63,  1,      3,    003,2,20000101,0000,-30.0009, -20.5097, 4507,   3700.4,   1.9844,  34.8417,2,  34.8445,2,  35.0088,2,    241.3,2,    241.7,2,    61.58,2,    24.30,2,     0.01,2,     1.78,2,    0.009,2,    0.006,2,    0.119,3,   2205.3,2,   2338.2,2,   -999.0,9,  -999.00,   7.6784,2,    25.62,    0.230,2,   -999.0,1,   -999.0,1, -999.000,9,-999.0000,9,-999.0000,9,-999.0000,9,-999.0000,9, 27.872, 32.533, 37.089, 41.542, 45.894
33RO20110828,   A10,    63,  1,      2,    002,2,20000101,0000,-30.0009, -20.5097, 4507,   4099.8,   1.5308,  34.7926,2,  34.7933,2,  34.9574,2,    232.9,2,    233.3,2,    81.10,2,    26.74,2,     0.01,2,     1.97,2,    0.026,2,    0.014,2,    0.158,3,   2225.0,2,   2348.9,2,   -999.0,9,  -999.00,   7.6343,2,    25.53,    0.150,2,   -999.0,1,   -999.0,1, -999.000,9,-999.0000,9,-999.0000,9,-999.0000,9,-999.0000,9, 27.866, 32.541, 37.111, 41.577, 45.942
33RO20110828,   A10,    63,  1,      1,    001,2,20000101,0000,-30.0009, -20.5097, 4507,   4653.6,   1.3554,  34.7665,2,  34.7680,2,  34.9319,2,    230.0,2,    228.8,2,    91.05,2,    28.11,2,     0.01,2,     2.09,2,    0.053,2,    0.028,2,    0.264,3,   2236.0,6,   2353.3,2,   -999.0,9,  -999.00,   7.6330,2,    25.58,    0.152,2,   -999.0,1,   -999.0,1, -999.000,9,-999.0000,9,-999.0000,9,-999.0000,9,-999.0000,9, 27.861, 32.543, 37.120, 41.593, 45.964