BOTTLE,20130715NOAA
EXPOCODE,SECT_ID,STNNBR,CASTNO,SAMPNO,BTLNBR,BTLNBR_FLAG_W,DATE,TIME,LATITUDE,LONGITUDE,DEPTH,CTDPRS,CTDTMP,CTDSAL,CTDSAL_FLAG_W,SALNTY,SALNTY_FLAG_W,SALTREF,SALTREF_FLAG_W,CTDOXY,CTDOXY_FLAG_W,OXYGEN,OXYGEN_FLAG_W,SILCAT,SILCAT_FLAG_W,NITRAT,NITRAT_FLAG_W,NITRIT,NITRIT_FLAG_W,PHSPHT,PHSPHT_FLAG_W,CFC-11,CFC-11_FLAG_W,CFC-12,CFC-12_FLAG_W,CCL4,CCL4_FLAG_W,TCARBN,TCARBN_FLAG_W,ALKALI,ALKALI_FLAG_W,PCO2,PCO2_FLAG_W,PCO2TMP,PH_TOT,PH_TOT_FLAG_W,PH_TMP,SF6,SF6_FLAG_W,DOC,DOC_FLAG_W,TDN,TDN_FLAG_W,TRITUM,TRITUM_FLAG_W,HELIUM,HELIUM_FLAG_W,OXY_18,OXY_18_FLAG_W,BLACKC,BLACKC_FLAG_W,PIGMENTS,PIGMENTS_FLAG_W,SIGMA-THETA,SIGMA-1,SIGMA-2,SIGMA-3,SIGMA-4
,,,,,,,,,,,METERS,DBARS,ITS-90,PSS-78,,PSS-78,,G/KG,,UMOL/KG,,UMOL/KG,,UMOL/KG,,UMOL/KG,,UMOL/KG,,UMOL/KG,,PMOL/KG,,PMOL/KG,,PMOL/KG,,UMOL/KG,,UMOL/KG,,UATM@T,,DEG_C,,,DEG_C,FMOL/KG,,UMOL/KG,,UMOL/KG,,TU,,NMOL/KG,,,,,,,,,,,,
33RO20110828,   A10,    79,  1,     24,    024,2,20000101,0000,-29.9997, -30.7419, 4053,      7.1,  18.3404,  36.0439,2,  36.0436,2,  36.2135,2,    234.2,2,    233.6,2,     1.07,2,     0.00,2,     0.00,2,     0.07,2,    2.279,2,    1.371,2,    1.847,3,   2081.2,6,   2360.8,2,   -999.0,9,  -999.00,   7.9521,2,    25.51,    1.440,2,   -999.0,1,   -999.0,1, -999.000,9,-999.0000,9,-999.0000,9,-999.0000,9,-999.0000,1, 25.987, 30.279, 34.476, 38.582, 42.599
33RO20110828,   A10,    79,  1,     23,    023,2,20000101,0000,-29.9997, -30.7419, 4053,     48.4,  18.3574,  36.0537,2,  36.0531,2,  36.2231,2,    233.8,2,    234.9,2,     1.07,2,     0.00,2,     0.00,2,     0.08,2,    2.278,2,    1.367,2,    1.797,3,   2081.6,2,   2360.8,2,   -999.0,9,  -999.00,   7.9522,2,    25.52,    1.415,2,   -999.0,1,   -999.0,1, -999.000,9,-999.0000,9,-999.0000,9,-999.0000,9,-999.0000,9, 25.992, 30.283, 34.480, 38.586, 42.603
33RO20110828,   A10,    79,  1,     22,    022,2,20000101,0000,-29.9997, -30.7419, 4053,     99.8,  18.3613,  36.0697,2,  36.0695,2,  36.2396,2,    232.9,2,    232.5,2,     1.07,2,     0.00,2,     0.01,2,     0.09,2,    2.282,2,    1.369,2,    1.786,3,   2083.4,2,   2363.1,2,   -999.0,9,  -999.00,   7.9438,3,    25.50,    1.391,2,   -999.0,1,   -999.0,1, -999.000,9,-999.0000,9,-999.0000,9,-999.0000,9,-999.0000,1, 26.006, 30.297, 34.494, 38.600, 42.616
33RO20110828,   A10,    79,  1,     21,    021,2,20000101,0000,-29.9997, -30.7419, 4053,    151.0,  16.7325,  35.7494,2,  35.7490,2,  35.9176,2,    219.5,2,    218.6,2,     1.56,2,     2.15,2,     0.04,2,     0.24,2,    2.493,2,    1.478,2,    0.596,3,   2099.1,2,   2344.2,2,   -999.0,9,  -999.00,   7.9079,2,    25.57,    1.404,2,   -999.0,1,   -999.0,1, -999.000,9,-999.0000,9,-999.0000,9,-999.0000,9,-999.0000,1, 26.159, 30.480, 34.705, 38.838, 42.882
33RO20110828,   A10,    79,  1,     20,    020,2,20000101,0000,-29.9997, -30.7419, 4053,    219.5,  15.4051,  35.5275,2,  35.5266,2,  35.6941,2,    215.5,2,    217.4,2,     2.05,2,     4.58,2,     0.01,2,     0.38,2,    2.655,2,    1.554,2,    0.361,3,   2106.3,2,   2330.2,2,   -999.0,9,  -999.00,   7.8666,2,    25.52,    1.347,2,   -999.0,1,   -999.0,1, -999.000,9,-999.0000,9,-999.0000,9,-999.0000,9,-999.0000,9, 26.296, 30.641, 34.891, 39.047, 43.113
33RO20110828,   A10,    79,  1,     19,    019,2,20000101,0000,-29.9997, -30.7419, 4053,    288.5,  14.1339,  35.3572,2,  35.3570,2,  35.5238,2,    217.0,2,    215.1,2,     2.54,2,     7.02,2,     0.01,2,     0.50,2,    2.844,2,    1.634,2,    0.365,3,   2114.1,2,   2320.1,2,   -999.0,9,  -999.00,   7.8421,2,    25.50,    1.411,2,   -999.0,1,   -999.0,1, -999.000,9,-999.0000,9,-999.0000,9,-999.0000,9,-999.0000,9, 26.444, 30.814, 35.088, 39.267, 43.356
33RO20110828,   A10,    79,  1,     18,    018,2,20000101,0000,-29.9997, -30.7419, 4053,    419.8,  12.1362,  35.1043,2,  35.1049,2,  35.2704,2,    215.2,2,    215.6,2,     4.00,2,    11.61,2,     0.01,2,     0.73,2,    3.081,2,    1.711,2,    0.382,3,   2126.8,2,   2308.4,2,   -999.0,9,  -999.00,   7.7853,2,    25.48,    1.236,2,   -999.0,1,   -999.0,1, -999.000,9,-999.0000,9,-999.0000,9,-999.0000,9,-999.0000,9, 26.655, 31.066, 35.379, 39.597, 43.722
33RO20110828,   A10,    79,  1,     17,    017,2,20000101,0000,-29.9997, -30.7419, 4053,    553.5,  10.0059,  34.8041,2,  34.8135,2,  34.9777,2,    207.0,2,    207.6,2,     6.93,2,    17.37,2,     0.00,2,     1.04,2,    3.186,2,    1.716,2,    1.467,3,   2145.2,2,   2295.1,2,   -999.0,9,  -999.00,   7.7187,2,    25.50,    1.076,2,   -999.0,1,   -999.0,1, -999.000,9,-999.0000,9,-999.0000,9,-999.0000,9,-999.0000,9, 26.816, 31.274, 35.632, 39.894, 44.061
33RO20110828,   A10,    79,  1,     16,    016,2,20000101,0000,-29.9997, -30.7419, 4053,    731.0,   6.6485,  34.4261,2,  34.4297,2,  34.5920,2,    215.2,2,    215.3,2,    13.28,2,    24.79,2,     0.01,2,     1.47,2, -999.000,5, -999.000,5, -999.000,5,   2165.0,2,   2282.0,2,   -999.0,9,  -999.00,   7.6468,2,    25.54, -999.000,5,   -999.0,1,   -999.0,1, -999.000,9,-999.0000,9,-999.0000,9,-999.0000,9,-999.0000,9, 27.026, 31.563, 35.999, 40.335, 44.574
33RO20110828,   A10,    79,  1,     15,    015,2,20000101,0000,-29.9997, -30.7419, 4053,    850.0,   4.9718,  34.2933,2,  34.2951,2,  34.4568,2,    227.4,2,    227.1,2,    19.04,2,    28.02,2,     0.00,2,     1.68,2,    3.216,2,    1.612,2,    3.742,3,   2173.1,2,   2282.2,2,   -999.0,9,  -999.00,   7.6264,2,    25.52,    0.795,2,   -999.0,1,   -999.0,1, -999.000,9,-999.0000,9,-999.0000,9,-999.0000,9,-999.0000,9, 27.128, 31.707, 36.183, 40.560, 44.837
33RO20110828,   A10,    79,  1,     14,    014,2,20000101,0000,-29.9997, -30.7419, 4053,   1050.8,   3.7968,  34.3311,2,  34.3316,2,  34.4935,2,    208.6,2,    209.1,2,    34.95,2,    31.14,2,     0.00,2,     1.98,2,    1.970,2,    0.961,2,    2.824,3,   2202.2,2,   2295.2,2,   -999.0,9,  -999.00,   7.5856,2,    25.55,    0.364,2,   -999.0,1,   -999.0,1, -999.000,9,-999.0000,9,-999.0000,9,-999.0000,9,-999.0000,9, 27.283, 31.893, 36.399, 40.804, 45.109
33RO20110828,   A10,    79,  1,     13,    013,2,20000101,0000,-29.9997, -30.7419, 4053,   1249.9,   3.2612,  34.4503,2,  34.4505,2,  34.6130,2,    189.7,2,    190.2,2,    49.00,2,    32.41,2,     0.01,2,     2.16,2, -999.000,5, -999.000,5, -999.000,5,   2224.0,2,   2307.0,2,   -999.0,9,  -999.00,   7.5679,2,    25.55, -999.000,5,   -999.0,1,   -999.0,1, -999.000,9,-999.0000,9,-999.0000,9,-999.0000,9,-999.0000,9, 27.431, 32.054, 36.573, 40.991, 45.309
33RO20110828,   A10,    79,  1,     12,    012,2,20000101,0000,-29.9997, -30.7419, 4053,   1446.3,   2.9530,  34.5725,2,  34.5735,2,  34.7365,2,    188.2,2,    187.8,2,    55.73,2,    31.62,2,     0.01,2,     2.16,2,    0.352,2,    0.170,2,    0.848,3,   2231.8,6,   2320.9,2,   -999.0,9,  -999.00,   7.5722,2,    25.62,    0.040,2,   -999.0,1,   -999.0,1, -999.000,9,-999.0000,9,-999.0000,9,-999.0000,9,-999.0000,9, 27.558, 32.189, 36.716, 41.141, 45.465
33RO20110828,   A10,    79,  1,     11,    011,2,20000101,0000,-29.9997, -30.7419, 4053,   1650.0,   2.8600,  34.6853,2,  34.6874,2,  34.8509,2,    196.6,2,    196.6,2,    55.14,2,    29.47,2,     0.01,2,     2.04,2, -999.000,5, -999.000,5, -999.000,5,   2224.5,2,   2323.5,2,   -999.0,9,  -999.00,   7.6032,2,    25.54, -999.000,5,   -999.0,1,   -999.0,1, -999.000,9,-999.0000,9,-999.0000,9,-999.0000,9,-999.0000,9, 27.659, 32.292, 36.821, 41.248, 45.574
33RO20110828,   A10,    79,  1,     10,    010,2,20000101,0000,-29.9997, -30.7419, 4053,   1850.4,   2.7943,  34.7497,2,  34.7506,2,  34.9145,2,    207.0,2,    207.1,2,    52.80,2,    27.62,2,     0.01,2,     1.91,2,    0.058,2,    0.029,2,    0.262,3,   2217.8,2,   2325.7,2,   -999.0,9,  -999.00,   7.6108,2,    25.61,    0.000,2,   -999.0,1,   -999.0,1, -999.000,9,-999.0000,9,-999.0000,9,-999.0000,9,-999.0000,9, 27.717, 32.351, 36.882, 41.310, 45.638
33RO20110828,   A10,    79,  1,      9,    009,2,20000101,0000,-29.9997, -30.7419, 4053,   2001.2,   2.7591,  34.7918,2,  34.7925,2,  34.9566,2,    215.7,2,    216.2,2,    50.45,2,    26.25,2,     0.01,2,     1.81,2,    0.034,2,    0.019,2,    0.188,3,   2210.4,2,   2326.2,2,   -999.0,9,  -999.00,   7.6337,2,    25.54,    0.027,2,   -999.0,1,   -999.0,1, -999.000,9,-999.0000,9,-999.0000,9,-999.0000,9,-999.0000,9, 27.754, 32.390, 36.922, 41.351, 45.680
33RO20110828,   A10,    79,  1,      8,    008,2,20000101,0000,-29.9997, -30.7419, 4053,   2246.4,   2.7733,  34.8444,2,  34.8467,6,  35.0110,6,    228.8,2,    229.1,2,    44.40,2,    24.01,2,     0.01,2,     1.65,2,    0.015,2,    0.009,2,    0.103,3,   2197.7,2,   2326.0,2,   -999.0,9,  -999.00,   7.6646,2,    25.62,    0.000,2,   -999.0,1,   -999.0,1, -999.000,9,-999.0000,9,-999.0000,9,-999.0000,9,-999.0000,9, 27.797, 32.432, 36.963, 41.393, 45.721
33RO20110828,   A10,    79,  1,      7,    007,2,20000101,0000,-29.9997, -30.7419, 4053,   2429.3,   2.7723,  34.8742,2,  34.8751,2,  35.0396,2,    237.4,2,    237.5,2,    40.40,2,    22.93,2,     0.01,2,     1.54,2,    0.013,2,    0.007,2,    0.095,3,   2190.2,2,   2325.1,2,   -999.0,9,  -999.00,   7.6699,2,    25.62,    0.000,2,   -999.0,1,   -999.0,1, -999.000,9,-999.0000,9,-999.0000,9,-999.0000,9,-999.0000,9, 27.823, 32.459, 36.990, 41.419, 45.748
33RO20110828,   A10,    79,  1,      6,    006,2,20000101,0000,-29.9997, -30.7419, 4053,   2729.6,   2.7306,  34.8926,2,  34.9019,2,  35.0665,2,    244.0,2,    244.3,2,    38.54,2,    21.86,2,     0.00,2,     1.48,2,    0.013,2,    0.009,2,    0.028,3,   2185.9,2,   -999.0,5,   -999.0,9,  -999.00,   7.6824,2,    25.65,    0.000,2,   -999.0,1,   -999.0,1, -999.000,9,-999.0000,9,-999.0000,9,-999.0000,9,-999.0000,9, 27.850, 32.488, 37.021, 41.452, 45.782
33RO20110828,   A10,    79,  1,      5,    005,2,20000101,0000,-29.9997, -30.7419, 4053,   3022.9,   2.6094,  34.8929,2,  34.8959,2,  35.0605,2,    246.3,2,    245.7,2,    40.89,2,    21.86,2,     0.01,2,     1.49,2,    0.020,2,    0.011,2,    0.033,3,   2186.9,2,   2327.0,2,   -999.0,9,  -999.00,   7.6960,2,    25.57,    0.000,2,   -999.0,1,   -999.0,1, -999.000,9,-999.0000,9,-999.0000,9,-999.0000,9,-999.0000,9, 27.858, 32.500, 37.037, 41.472, 45.806
33RO20110828,   A10,    79,  1,      4,    004,2,20000101,0000,-29.9997, -30.7419, 4053,   3346.1,   2.3372,  34.8720,2,  34.8727,2,  35.0372,2,    244.1,2,    245.1,2,    49.67,2,    22.83,2,     0.01,2,     1.61,2,    0.026,2,    0.015,2,    0.057,3,   2195.9,2,   2316.3,3,   -999.0,9,  -999.00,   7.6695,2,    25.53,    0.000,2,   -999.0,1,   -999.0,1, -999.000,9,-999.0000,9,-999.0000,9,-999.0000,9,-999.0000,9, 27.865, 32.514, 37.060, 41.503, 45.845
33RO20110828,   A10,    79,  1,      3,    003,2,20000101,0000,-29.9997, -30.7419, 4053,   3550.0,   2.0450,  34.8440,2,  34.8497,2,  35.0140,2,    240.2,2,    240.0,2,    60.31,2,    24.20,2,     0.01,2,     1.76,2,    0.035,2,    0.020,2,    0.119,3,   2205.5,2,   2337.0,2,   -999.0,9,  -999.00,   7.6534,2,    25.59,    0.066,2,   -999.0,1,   -999.0,1, -999.000,9,-999.0000,9,-999.0000,9,-999.0000,9,-999.0000,9, 27.870, 32.529, 37.083, 41.534, 45.884
33RO20110828,   A10,    79,  1,      2,    002,2,20000101,0000,-29.9997, -30.7419, 4053,   3752.0,   1.7150,  34.8070,2,  34.8137,2,  34.9779,2,    233.4,2,    232.9,2,    75.14,2,    26.35,2,     0.01,2,     1.98,2,    0.061,2,    0.031,2,    0.051,3,   2222.7,2,   2344.1,2,   -999.0,9,  -999.00,   7.6406,2,    25.53,    0.053,2,   -999.0,1,   -999.0,1, -999.000,9,-999.0000,9,-999.0000,9,-999.0000,9,-999.0000,9, 27.867, 32.536, 37.099, 41.560, 45.919
33RO20110828,   A10,    79,  1,      1,    001,2,20000101,0000,-29.9997, -30.7419, 4053,   4061.8,   1.2202,  34.7526,2,  34.7546,2,  34.9185,2,    223.9,2,    224.2,2,    96.23,2,    29.08,2,     0.01,2,     2.31,2,    0.123,2,    0.060,2,    0.082,3,   2245.8,6,   2354.7,2,   -999.0,9,  -999.00,   7.6454,2,    25.57,    0.014,2,   -999.0,1,   -999.0,1, -999.000,9,-999.0000,9,-999.0000,9,-999.0000,9,-999.0000,9, 27.855, 32.539, 37.117, 41.592, 45.965