BOTTLE,20130715NOAA
EXPOCODE,SECT_ID,STNNBR,CASTNO,SAMPNO,BTLNBR,BTLNBR_FLAG_W,DATE,TIME,LATITUDE,LONGITUDE,DEPTH,CTDPRS,CTDTMP,CTDSAL,CTDSAL_FLAG_W,SALNTY,SALNTY_FLAG_W,SALTREF,SALTREF_FLAG_W,CTDOXY,CTDOXY_FLAG_W,OXYGEN,OXYGEN_FLAG_W,SILCAT,SILCAT_FLAG_W,NITRAT,NITRAT_FLAG_W,NITRIT,NITRIT_FLAG_W,PHSPHT,PHSPHT_FLAG_W,CFC-11,CFC-11_FLAG_W,CFC-12,CFC-12_FLAG_W,CCL4,CCL4_FLAG_W,TCARBN,TCARBN_FLAG_W,ALKALI,ALKALI_FLAG_W,PCO2,PCO2_FLAG_W,PCO2TMP,PH_TOT,PH_TOT_FLAG_W,PH_TMP,SF6,SF6_FLAG_W,DOC,DOC_FLAG_W,TDN,TDN_FLAG_W,TRITUM,TRITUM_FLAG_W,HELIUM,HELIUM_FLAG_W,OXY_18,OXY_18_FLAG_W,BLACKC,BLACKC_FLAG_W,PIGMENTS,PIGMENTS_FLAG_W,SIGMA-THETA,SIGMA-1,SIGMA-2,SIGMA-3,SIGMA-4
,,,,,,,,,,,METERS,DBARS,ITS-90,PSS-78,,PSS-78,,G/KG,,UMOL/KG,,UMOL/KG,,UMOL/KG,,UMOL/KG,,UMOL/KG,,UMOL/KG,,PMOL/KG,,PMOL/KG,,PMOL/KG,,UMOL/KG,,UMOL/KG,,UATM@T,,DEG_C,,,DEG_C,FMOL/KG,,UMOL/KG,,UMOL/KG,,TU,,NMOL/KG,,,,,,,,,,,,
33RO20110828,   A10,    53,  1,     24,    024,2,20000101,0000,-30.0000, -12.8134, 3295,      5.1,  17.4719,  35.8747,2,  35.8729,2,  36.0420,2,    242.5,2,    240.6,2,     1.17,2,     0.00,2,     0.01,2,     0.16,2,    2.424,2,    1.438,2,    3.452,3,   2085.6,6,   2350.9,2,   -999.0,9,  -999.00,   7.9142,2,    25.63,    1.427,2,   -999.0,9,   -999.0,9, -999.000,9,-999.0000,9,-999.0000,9,-999.0000,9,-999.0000,1, 26.071, 30.378, 34.590, 38.710, 42.741
33RO20110828,   A10,    53,  1,     23,    023,2,20000101,0000,-30.0000, -12.8134, 3295,     52.8,  17.4689,  35.8737,2,  35.8778,2,  36.0470,2,    239.3,2,    240.5,2,     1.17,2,     0.00,2,     0.01,2,     0.17,2,    2.390,2,    1.438,2,    3.315,3,   2085.0,2,   2351.2,2,   -999.0,9,  -999.00,   7.9177,2,    25.66,    1.472,2,   -999.0,9,   -999.0,9, -999.000,9,-999.0000,9,-999.0000,9,-999.0000,9,-999.0000,9, 26.077, 30.384, 34.597, 38.717, 42.748
33RO20110828,   A10,    53,  1,     22,    022,2,20000101,0000,-30.0000, -12.8134, 3295,     70.3,  17.0071,  35.8142,2,  35.7972,2,  35.9660,2,    238.6,2,    239.7,2,     1.17,2,     0.10,2,     0.11,2,     0.19,2,    2.449,2,    1.457,2,    2.858,3,   2086.2,2,   2348.2,2,   -999.0,9,  -999.00,   7.9186,2,    25.70,    1.489,2,   -999.0,9,   -999.0,9, -999.000,9,-999.0000,9,-999.0000,9,-999.0000,9,-999.0000,1, 26.127, 30.443, 34.663, 38.792, 42.830
33RO20110828,   A10,    53,  1,     21,    021,2,20000101,0000,-30.0000, -12.8134, 3295,    105.0,  16.7996,  35.7975,2,  35.8182,2,  35.9871,2,    233.9,2,    235.4,2,     1.37,2,     0.49,2,     0.49,2,     0.24,2,    2.463,2,    1.457,2,    2.327,3,   2091.0,2,   2346.1,2,   -999.0,9,  -999.00,   7.9052,2,    25.74,    1.487,2,   -999.0,9,   -999.0,9, -999.000,9,-999.0000,9,-999.0000,9,-999.0000,9,-999.0000,1, 26.194, 30.513, 34.737, 38.869, 42.911
33RO20110828,   A10,    53,  1,     20,    020,2,20000101,0000,-30.0000, -12.8134, 3295,    181.7,  15.8788,  35.6107,2,  35.6150,2,  35.7830,2,    230.1,2,    228.6,2,     1.76,2,     2.73,2,     0.04,2,     0.35,2,    2.576,2,    1.515,2,    1.664,3,   2096.2,2,   2333.0,2,   -999.0,9,  -999.00,   7.8765,2,    25.69,    1.460,2,   -999.0,9,   -999.0,9, -999.000,9,-999.0000,9,-999.0000,9,-999.0000,9,-999.0000,9, 26.255, 30.592, 34.833, 38.981, 43.038
33RO20110828,   A10,    53,  1,     19,    019,2,20000101,0000,-30.0000, -12.8134, 3295,    249.7,  14.0341,  35.3048,2,  35.3046,2,  35.4711,2,    218.0,2,    217.8,2,     2.83,2,     6.93,2,     0.01,2,     0.63,2,    2.863,2,    1.633,2,    1.009,3,   2112.7,2,   2315.7,2,   -999.0,9,  -999.00,   7.8268,2,    25.68,    1.406,2,   -999.0,9,   -999.0,9, -999.000,9,-999.0000,9,-999.0000,9,-999.0000,9,-999.0000,9, 26.423, 30.796, 35.071, 39.253, 43.343
33RO20110828,   A10,    53,  1,     18,    018,2,20000101,0000,-30.0000, -12.8134, 3295,    318.9,  12.9722,  35.1847,2,  35.1837,2,  35.3496,2,    215.5,2,    216.0,2,     3.42,2,     9.47,2,     0.01,2,     0.79,2,    3.022,2,    1.694,2,    1.044,3,   2120.1,2,   2312.6,2,   -999.0,9,  -999.00,   7.8037,2,    25.69,    1.294,2,   -999.0,9,   -999.0,9, -999.000,9,-999.0000,9,-999.0000,9,-999.0000,9,-999.0000,9, 26.550, 30.943, 35.240, 39.441, 43.551
33RO20110828,   A10,    53,  1,     17,    017,2,20000101,0000,-30.0000, -12.8134, 3295,    390.5,  11.8464,  35.0401,2,  35.0403,2,  35.2056,2,    212.6,2,    211.8,2,     4.59,2,    12.59,2,     0.01,2,     0.99,2,    3.155,2,    1.731,2,    1.067,3,   2131.4,2,   2303.1,2,   -999.0,9,  -999.00,   7.7664,2,    25.70,    1.272,2,   -999.0,9,   -999.0,9, -999.000,9,-999.0000,9,-999.0000,9,-999.0000,9,-999.0000,9, 26.659, 31.077, 35.396, 39.619, 43.750
33RO20110828,   A10,    53,  1,     16,    016,2,20000101,0000,-30.0000, -12.8134, 3295,    500.9,   9.9239,  34.7891,2,  34.7822,2,  34.9463,2,    207.6,2,    207.7,2,     7.13,2,    17.38,2,     0.01,2,     1.32,2,    3.245,2,    1.735,2,    1.353,3,   2145.6,2,   2280.2,2,   -999.0,9,  -999.00,   7.7167,2,    25.66,    1.151,2,   -999.0,9,   -999.0,9, -999.000,9,-999.0000,9,-999.0000,9,-999.0000,9,-999.0000,9, 26.805, 31.264, 35.624, 39.887, 44.056
33RO20110828,   A10,    53,  1,     15,    015,2,20000101,0000,-30.0000, -12.8134, 3295,    600.8,   8.0859,  34.5734,2,  34.5736,2,  34.7366,2,    210.1,2,    209.8,2,    10.35,2,    21.87,2,     0.01,2,     1.62,2,    3.336,2,    1.730,2,    1.841,3,   -999.0,5,   2270.5,2,   -999.0,9,  -999.00,   7.6846,3,    25.66,    0.996,2,   -999.0,9,   -999.0,9, -999.000,9,-999.0000,9,-999.0000,9,-999.0000,9,-999.0000,9, 26.935, 31.437, 35.839, 40.142, 44.349
33RO20110828,   A10,    53,  1,     14,    014,2,20000101,0000,-30.0000, -12.8134, 3295,    700.8,   6.2281,  34.3984,2,  34.4007,2,  34.5629,2,    211.7,2,    212.1,2,    16.02,2,    26.27,2,     0.01,2,     1.93,2,    3.207,2,    1.623,2,    2.268,3,   2170.6,2,   2276.3,2,   -999.0,9,  -999.00,   7.6307,2,    25.65,    0.841,2,   -999.0,9,   -999.0,9, -999.000,9,-999.0000,9,-999.0000,9,-999.0000,9,-999.0000,9, 27.058, 31.605, 36.050, 40.396, 44.645
33RO20110828,   A10,    53,  1,     13,    013,2,20000101,0000,-30.0000, -12.8134, 3295,    800.8,   4.9236,  34.3141,2,  34.3149,2,  34.4767,2,    217.3,2,    220.5,2,    21.78,2,    28.62,2,     0.01,2,     2.10,2,    3.049,2,    1.498,2,    2.554,3,   2178.7,2,   2282.9,2,   -999.0,9,  -999.00,   7.6123,2,    25.68,    0.704,2,   -999.0,9,   -999.0,9, -999.000,9,-999.0000,9,-999.0000,9,-999.0000,9,-999.0000,9, 27.148, 31.728, 36.206, 40.583, 44.862
33RO20110828,   A10,    53,  1,     12,    012,2,20000101,0000,-30.0000, -12.8134, 3295,    915.2,   4.1375,  34.3140,2,  34.3150,6,  34.4768,6,    215.2,2,    213.1,2,    30.18,2,    30.47,2,     0.01,2,     2.24,2,    2.459,2,    1.199,2,    2.321,3,   2193.6,6,   2291.2,2,   -999.0,9,  -999.00,   7.5996,2,    25.68,    0.505,2,   -999.0,9,   -999.0,9, -999.000,9,-999.0000,9,-999.0000,9,-999.0000,9,-999.0000,9, 27.233, 31.834, 36.331, 40.728, 45.025
33RO20110828,   A10,    53,  1,     11,    011,2,20000101,0000,-30.0000, -12.8134, 3295,   1030.9,   3.6707,  34.3440,2,  34.3451,2,  34.5070,2,    206.0,2,    205.7,2,    37.70,2,    31.64,2,     0.01,2,     2.33,2,    1.893,2,    0.908,2,    1.962,3,   2204.0,2,   2297.3,2,   -999.0,9,  -999.00,   7.5764,2,    25.67,    0.356,2,   -999.0,9,   -999.0,9, -999.000,9,-999.0000,9,-999.0000,9,-999.0000,9,-999.0000,9, 27.306, 31.919, 36.428, 40.836, 45.144
33RO20110828,   A10,    53,  1,     10,    010,2,20000101,0000,-30.0000, -12.8134, 3295,   1179.9,   3.2194,  34.4271,2,  34.4267,2,  34.5891,2,    193.1,2,    193.7,2,    48.24,2,    32.42,2,     0.01,2,     2.40,2,    1.079,2,    0.524,2,    1.349,3,   2220.6,2,   2307.6,2,   -999.0,9,  -999.00,   7.5625,2,    25.62,    0.189,2,   -999.0,9,   -999.0,9, -999.000,9,-999.0000,9,-999.0000,9,-999.0000,9,-999.0000,9, 27.415, 32.039, 36.560, 40.979, 45.297
33RO20110828,   A10,    53,  1,      9,    009,2,20000101,0000,-30.0000, -12.8134, 3295,   1379.6,   3.0002,  34.5538,2,  34.5532,2,  34.7161,2,    185.9,2,    186.5,2,    55.66,2,    32.03,2,     0.01,2,     2.35,2,    0.471,2,    0.224,2,    0.784,3,   2230.0,2,   2316.6,2,   -999.0,9,  -999.00,   7.5676,2,    25.62,    0.102,2,   -999.0,9,   -999.0,9, -999.000,9,-999.0000,9,-999.0000,9,-999.0000,9,-999.0000,9, 27.537, 32.167, 36.693, 41.116, 45.440
33RO20110828,   A10,    53,  1,      8,    008,2,20000101,0000,-30.0000, -12.8134, 3295,   1579.0,   2.8905,  34.6729,2,  34.6799,2,  34.8435,2,    192.2,2,    193.2,2,    56.04,2,    29.97,2,     0.01,2,     2.20,2,    0.180,2,    0.083,2,    0.385,3,   2226.9,2,   2323.6,2,   -999.0,9,  -999.00,   7.5779,2,    25.56,    0.000,2,   -999.0,9,   -999.0,9, -999.000,9,-999.0000,9,-999.0000,9,-999.0000,9,-999.0000,9, 27.650, 32.282, 36.810, 41.236, 45.561
33RO20110828,   A10,    53,  1,      7,    007,2,20000101,0000,-30.0000, -12.8134, 3295,   1781.3,   2.7547,  34.7416,2,  34.7422,2,  34.9061,2,    205.0,2,    205.1,2,    55.55,2,    28.02,2,     0.01,2,     2.06,2,    0.089,2,    0.042,2,    0.237,3,   2221.8,2,   2326.0,2,   -999.0,9,  -999.00,   7.6046,2,    25.62,    0.000,2,   -999.0,9,   -999.0,9, -999.000,9,-999.0000,9,-999.0000,9,-999.0000,9,-999.0000,9, 27.713, 32.349, 36.880, 41.309, 45.638
33RO20110828,   A10,    53,  1,      6,    006,2,20000101,0000,-30.0000, -12.8134, 3295,   1981.0,   2.6861,  34.7880,2,  34.7904,2,  34.9545,2,    212.8,2,    212.7,2,    54.09,2,    26.65,2,     0.01,2,     1.94,2,    0.042,2,    0.023,2,    0.167,3,   2214.6,2,   2326.9,2,   -999.0,9,  -999.00,   7.6276,2,    25.60,    0.000,2,   -999.0,9,   -999.0,9, -999.000,9,-999.0000,9,-999.0000,9,-999.0000,9,-999.0000,9, 27.759, 32.396, 36.930, 41.361, 45.692
33RO20110828,   A10,    53,  1,      5,    005,2,20000101,0000,-30.0000, -12.8134, 3295,   2279.6,   2.5704,  34.8294,2,  34.8305,2,  34.9947,2,    224.4,2,    224.8,2,    51.94,2,    25.19,2,     0.01,2,     1.83,2,    0.017,2,    0.009,2,    0.100,3,   2206.6,2,   2327.6,2,   -999.0,9,  -999.00,   7.6460,2,    25.62,    0.000,2,   -999.0,9,   -999.0,9, -999.000,9,-999.0000,9,-999.0000,9,-999.0000,9,-999.0000,9, 27.803, 32.444, 36.981, 41.415, 45.749
33RO20110828,   A10,    53,  1,      4,    004,2,20000101,0000,-30.0000, -12.8134, 3295,   2579.9,   2.4794,  34.8522,2,  34.8540,2,  35.0183,2,    234.5,2,    234.2,2,    50.57,2,    23.82,2,     0.01,2,     1.75,2,    0.011,2,    0.006,2,    0.069,3,   2201.2,2,   2329.1,2,   -999.0,9,  -999.00,   7.6588,2,    25.62,    0.000,2,   -999.0,9,   -999.0,9, -999.000,9,-999.0000,9,-999.0000,9,-999.0000,9,-999.0000,9, 27.832, 32.476, 37.016, 41.453, 45.790
33RO20110828,   A10,    53,  1,      3,    003,2,20000101,0000,-30.0000, -12.8134, 3295,   2872.1,   2.4264,  34.8599,2,  34.8618,2,  35.0261,2,    236.0,2,    237.1,2,    50.96,2,    23.82,2,     0.01,2,     1.72,2,    0.008,2,    0.005,2,    0.068,3,   2200.8,2,   2331.0,2,   -999.0,9,  -999.00,   7.6734,2,    25.53,    0.000,2,   -999.0,9,   -999.0,9, -999.000,9,-999.0000,9,-999.0000,9,-999.0000,9,-999.0000,9, 27.845, 32.491, 37.033, 41.472, 45.811
33RO20110828,   A10,    53,  1,      2,    002,2,20000101,0000,-30.0000, -12.8134, 3295,   3181.2,   2.4358,  34.8606,2,  34.8628,2,  35.0272,2,    237.1,2,    236.8,2,    51.25,2,    23.63,2,     0.01,2,     1.71,2,    0.007,2,    0.005,2,    0.071,3,   2201.3,2,   2332.9,2,   -999.0,9,  -999.00,   7.6773,2,    25.53,    0.040,2,   -999.0,9,   -999.0,9, -999.000,9,-999.0000,9,-999.0000,9,-999.0000,9,-999.0000,9, 27.847, 32.494, 37.037, 41.477, 45.816
33RO20110828,   A10,    53,  1,      1,    001,2,20000101,0000,-30.0000, -12.8134, 3295,   3299.8,   2.4466,  34.8607,2,  34.8615,2,  35.0259,2,    237.7,2,    237.6,2,    51.25,2,    23.53,2,     0.01,2,     1.71,2,    0.007,2,    0.005,2,    0.064,3,   2200.2,6,   2332.2,2,   -999.0,9,  -999.00,   7.6727,2,    25.55,    0.000,2,   -999.0,9,   -999.0,9, -999.000,9,-999.0000,9,-999.0000,9,-999.0000,9,-999.0000,9, 27.846, 32.493, 37.036, 41.476, 45.815