BOTTLE,20130715NOAA
EXPOCODE,SECT_ID,STNNBR,CASTNO,SAMPNO,BTLNBR,BTLNBR_FLAG_W,DATE,TIME,LATITUDE,LONGITUDE,DEPTH,CTDPRS,CTDTMP,CTDSAL,CTDSAL_FLAG_W,SALNTY,SALNTY_FLAG_W,SALTREF,SALTREF_FLAG_W,CTDOXY,CTDOXY_FLAG_W,OXYGEN,OXYGEN_FLAG_W,SILCAT,SILCAT_FLAG_W,NITRAT,NITRAT_FLAG_W,NITRIT,NITRIT_FLAG_W,PHSPHT,PHSPHT_FLAG_W,CFC-11,CFC-11_FLAG_W,CFC-12,CFC-12_FLAG_W,CCL4,CCL4_FLAG_W,TCARBN,TCARBN_FLAG_W,ALKALI,ALKALI_FLAG_W,PCO2,PCO2_FLAG_W,PCO2TMP,PH_TOT,PH_TOT_FLAG_W,PH_TMP,SF6,SF6_FLAG_W,DOC,DOC_FLAG_W,TDN,TDN_FLAG_W,TRITUM,TRITUM_FLAG_W,HELIUM,HELIUM_FLAG_W,OXY_18,OXY_18_FLAG_W,BLACKC,BLACKC_FLAG_W,PIGMENTS,PIGMENTS_FLAG_W,SIGMA-THETA,SIGMA-1,SIGMA-2,SIGMA-3,SIGMA-4
,,,,,,,,,,,METERS,DBARS,ITS-90,PSS-78,,PSS-78,,G/KG,,UMOL/KG,,UMOL/KG,,UMOL/KG,,UMOL/KG,,UMOL/KG,,UMOL/KG,,PMOL/KG,,PMOL/KG,,PMOL/KG,,UMOL/KG,,UMOL/KG,,UATM@T,,DEG_C,,,DEG_C,FMOL/KG,,UMOL/KG,,UMOL/KG,,TU,,NMOL/KG,,,,,,,,,,,,
33RO20110828,   A10,    82,  1,     24,    024,2,20000101,0000,-29.9830, -32.4664, 3764,      4.9,  18.2647,  36.0642,2,  36.0639,2,  36.2340,2,    234.9,2,    234.6,2,     0.97,2,     0.00,2,     0.01,2,     0.06,2,    2.272,2,    1.378,2,    3.123,3,   2079.9,6,   2361.8,2,   -999.0,9,  -999.00,   7.9520,2,    25.47,    1.421,2,   -999.0,9,   -999.0,9, -999.000,9,-999.0000,9,-999.0000,9,-999.0000,9,-999.0000,1, 26.021, 30.314, 34.512, 38.619, 42.637
33RO20110828,   A10,    82,  1,     23,    023,2,20000101,0000,-29.9830, -32.4664, 3764,     51.2,  18.3002,  36.0634,2,  36.0631,2,  36.2332,2,    234.3,2,    235.7,2,     1.07,2,     0.00,2,     0.01,2,     0.07,2,    2.271,2,    1.374,2,    3.010,3,   2082.9,2,   2361.2,2,   -999.0,9,  -999.00,   7.9524,2,    25.54,    1.450,2,   -999.0,9,   -999.0,9, -999.000,9,-999.0000,9,-999.0000,9,-999.0000,9,-999.0000,9, 26.014, 30.306, 34.504, 38.610, 42.628
33RO20110828,   A10,    82,  1,     22,    022,2,20000101,0000,-29.9830, -32.4664, 3764,    100.7,  17.7866,  35.9851,2,  35.9835,2,  36.1531,2,    235.3,2,    235.1,2,     1.07,2,     0.10,2,     0.02,2,     0.10,2, -999.000,9, -999.000,9, -999.000,9,   -999.0,9,   2356.3,2,   -999.0,9,  -999.00,   7.9128,2,    25.58, -999.000,9,   -999.0,9,   -999.0,9, -999.000,9,-999.0000,9,-999.0000,9,-999.0000,9,-999.0000,1, 26.083, 30.384, 34.591, 38.705, 42.731
33RO20110828,   A10,    82,  1,     21,    021,2,20000101,0000,-29.9830, -32.4664, 3764,    164.4,  17.5999,  35.9754,2,  35.9752,2,  36.1448,2,    234.9,2,    234.1,2,     0.98,2,     0.20,2,     0.08,2,     0.10,2,    2.332,2,    1.410,2,    2.706,3,   2082.9,2,   2356.1,2,   -999.0,9,  -999.00,   7.9255,2,    25.59,    1.432,2,   -999.0,9,   -999.0,9, -999.000,9,-999.0000,9,-999.0000,9,-999.0000,9,-999.0000,1, 26.125, 30.429, 34.639, 38.757, 42.786
33RO20110828,   A10,    82,  1,     20,    020,2,20000101,0000,-29.9830, -32.4664, 3764,    229.9,  15.5587,  35.5683,2,  35.5658,2,  35.7335,2,    214.8,2,    215.8,2,     2.05,2,     4.29,2,     0.02,2,     0.36,2, -999.000,9, -999.000,9, -999.000,9,   -999.0,9,   2332.2,2,   -999.0,9,  -999.00,   7.8809,2,    25.58, -999.000,9,   -999.0,9,   -999.0,9, -999.000,9,-999.0000,9,-999.0000,9,-999.0000,9,-999.0000,9, 26.292, 30.634, 34.881, 39.035, 43.098
33RO20110828,   A10,    82,  1,     19,    019,2,20000101,0000,-29.9830, -32.4664, 3764,    299.7,  14.2784,  35.3745,2,  35.3755,2,  35.5423,2,    215.8,2,    214.9,2,     2.54,2,     6.73,2,     0.01,2,     0.49,2,    2.793,2,    1.627,2,    0.930,3,   2111.9,2,   -999.0,5,   -999.0,9,  -999.00,   7.8169,2,    25.52,    1.337,2,   -999.0,9,   -999.0,9, -999.000,9,-999.0000,9,-999.0000,9,-999.0000,9,-999.0000,9, 26.428, 30.795, 35.066, 39.243, 43.329
33RO20110828,   A10,    82,  1,     18,    018,2,20000101,0000,-29.9830, -32.4664, 3764,    349.5,  13.5596,  35.2927,2,  35.2939,2,  35.4603,2,    217.7,2,    216.7,2,     2.83,2,     8.10,2,     0.01,2,     0.55,2, -999.000,9, -999.000,9, -999.000,9,   -999.0,9,   2317.7,2,   -999.0,9,  -999.00,   7.8346,2,    25.51, -999.000,9,   -999.0,9,   -999.0,9, -999.000,9,-999.0000,9,-999.0000,9,-999.0000,9,-999.0000,9, 26.517, 30.898, 35.183, 39.373, 43.472
33RO20110828,   A10,    82,  1,     17,    017,2,20000101,0000,-29.9830, -32.4664, 3764,    456.0,  12.0659,  35.0868,2,  35.0917,2,  35.2572,2,    213.8,2,    214.2,2,     4.29,2,    12.00,2,     0.01,2,     0.76,2,    3.058,2,    1.712,2,    1.014,3,   2128.5,2,   2308.6,2,   -999.0,9,  -999.00,   7.7809,2,    25.65,    1.176,2,   -999.0,9,   -999.0,9, -999.000,9,-999.0000,9,-999.0000,9,-999.0000,9,-999.0000,9, 26.659, 31.072, 35.387, 39.606, 43.732
33RO20110828,   A10,    82,  1,     16,    016,2,20000101,0000,-29.9830, -32.4664, 3764,    560.1,   9.9936,  34.8017,2,  34.7992,2,  34.9633,2,    208.5,2,    208.2,2,     7.32,2,    17.57,2,     0.00,2,     1.07,2, -999.000,9, -999.000,9, -999.000,9,   -999.0,9,   2284.4,2,   -999.0,9,  -999.00,   7.7228,2,    25.67, -999.000,9,   -999.0,9,   -999.0,9, -999.000,9,-999.0000,9,-999.0000,9,-999.0000,9,-999.0000,9, 26.808, 31.265, 35.624, 39.886, 44.053
33RO20110828,   A10,    82,  1,     15,    015,2,20000101,0000,-29.9830, -32.4664, 3764,    666.4,   7.5206,  34.5094,2,  34.5129,2,  34.6757,2,    213.0,2,    212.4,2,    11.03,2,    23.23,2,     0.00,2,     1.40,2, -999.000,9, -999.000,9, -999.000,9,   -999.0,9,   2284.4,2,   -999.0,9,  -999.00,   7.6623,2,    25.66, -999.000,9,   -999.0,9,   -999.0,9, -999.000,9,-999.0000,9,-999.0000,9,-999.0000,9,-999.0000,9, 26.971, 31.487, 35.901, 40.217, 44.437
33RO20110828,   A10,    82,  1,     14,    014,2,20000101,0000,-29.9830, -32.4664, 3764,    760.0,   5.8150,  34.3446,2,  34.3447,2,  34.5067,2,    223.1,2,    226.2,2,    15.03,2,    26.36,2,     0.00,2,     1.59,2,    3.360,2,    1.722,2,    2.710,3,   2166.6,2,   2279.8,2,   -999.0,9,  -999.00,   7.6374,2,    25.63,    0.881,2,   -999.0,9,   -999.0,9, -999.000,9,-999.0000,9,-999.0000,9,-999.0000,9,-999.0000,9, 27.066, 31.624, 36.080, 40.435, 44.694
33RO20110828,   A10,    82,  1,     13,    013,2,20000101,0000,-29.9830, -32.4664, 3764,    875.7,   4.9498,  34.3170,2,  34.3174,2,  34.4793,2,    220.7,2,    219.2,2,    21.57,2,    28.60,2,     0.00,2,     1.78,2, -999.000,9, -999.000,9, -999.000,9,   -999.0,9,   2284.1,2,   -999.0,9,  -999.00,   7.6112,2,    25.59, -999.000,9,   -999.0,9,   -999.0,9, -999.000,9,-999.0000,9,-999.0000,9,-999.0000,9,-999.0000,9, 27.148, 31.728, 36.205, 40.581, 44.859
33RO20110828,   A10,    82,  1,     12,    012,2,20000101,0000,-29.9830, -32.4664, 3764,   1031.7,   3.9484,  34.3365,2,  34.3363,2,  34.4982,2,    208.9,2,    208.0,2,    33.68,2,    30.95,2,     0.00,2,     1.58,2, -999.000,9, -999.000,9, -999.000,9,   -999.0,9,   2294.1,2,   -999.0,9,  -999.00,   7.5840,2,    25.62, -999.000,9,   -999.0,9,   -999.0,9, -999.000,9,-999.0000,9,-999.0000,9,-999.0000,9,-999.0000,9, 27.271, 31.877, 36.379, 40.780, 45.082
33RO20110828,   A10,    82,  1,     11,    011,2,20000101,0000,-29.9830, -32.4664, 3764,   1199.6,   3.3687,  34.4110,2,  34.4130,2,  34.5753,2,    194.1,2,    194.3,2,    45.59,2,    32.12,2,     0.00,2,     2.16,2,    1.108,2,    0.540,2,    1.425,3,   2217.8,2,   2305.4,2,   -999.0,9,  -999.00,   7.5584,2,    25.61,    0.163,2,   -999.0,9,   -999.0,9, -999.000,9,-999.0000,9,-999.0000,9,-999.0000,9,-999.0000,9, 27.390, 32.011, 36.528, 40.943, 45.258
33RO20110828,   A10,    82,  1,     10,    010,2,20000101,0000,-29.9830, -32.4664, 3764,   1360.3,   3.0788,  34.5053,2,  34.5066,2,  34.6693,2,    187.7,2,    188.7,2,    53.10,2,    32.02,2,     0.01,2,     2.20,2, -999.000,9, -999.000,9, -999.000,9,   -999.0,9,   2317.1,2,   -999.0,9,  -999.00,   7.5543,2,    25.61, -999.000,9,   -999.0,9,   -999.0,9, -999.000,9,-999.0000,9,-999.0000,9,-999.0000,9,-999.0000,9, 27.493, 32.121, 36.645, 41.067, 45.389
33RO20110828,   A10,    82,  1,      9,    009,2,20000101,0000,-29.9830, -32.4664, 3764,   1538.2,   2.9457,  34.6245,2,  34.6245,2,  34.7878,2,    190.1,2,    191.3,2,    55.34,2,    30.45,2,     0.01,2,     2.17,2,    0.233,2,    0.117,2,    0.491,3,   2226.8,2,   2322.1,2,   -999.0,9,  -999.00,   7.5825,2,    25.50,    0.059,2,   -999.0,9,   -999.0,9, -999.000,9,-999.0000,9,-999.0000,9,-999.0000,9,-999.0000,9, 27.600, 32.231, 36.758, 41.183, 45.508
33RO20110828,   A10,    82,  1,      8,    008,2,20000101,0000,-29.9830, -32.4664, 3764,   1750.1,   2.8427,  34.7076,2,  34.7098,2,  34.8735,2,    200.4,2,    199.9,2,    54.65,2,    28.69,2,     0.01,2,     2.00,2, -999.000,9, -999.000,9, -999.000,9,   -999.0,9,   2324.9,2,   -999.0,9,  -999.00,   7.5927,2,    25.54, -999.000,9,   -999.0,9,   -999.0,9, -999.000,9,-999.0000,9,-999.0000,9,-999.0000,9,-999.0000,9, 27.679, 32.313, 36.842, 41.269, 45.596
33RO20110828,   A10,    82,  1,      7,    007,2,20000101,0000,-29.9830, -32.4664, 3764,   2068.2,   2.7859,  34.8084,2,  34.8099,2,  34.9740,2,    220.7,2,    220.1,2,    48.01,2,    25.37,2,     0.01,2,     1.77,2,    0.028,2,    0.016,2,    0.140,3,   2207.2,2,   2324.5,2,   -999.0,9,  -999.00,   7.6355,2,    25.62,    0.029,2,   -999.0,9,   -999.0,9, -999.000,9,-999.0000,9,-999.0000,9,-999.0000,9,-999.0000,9, 27.767, 32.402, 36.932, 41.361, 45.689
33RO20110828,   A10,    82,  1,      6,    006,2,20000101,0000,-29.9830, -32.4664, 3764,   2291.4,   2.7800,  34.8524,2,  34.8524,2,  35.0167,2,    232.0,2,    232.0,2,    43.23,2,    23.81,2,     0.01,2,     1.62,2, -999.000,9, -999.000,9, -999.000,9,   -999.0,9,   2324.1,2,   -999.0,9,  -999.00,   7.6622,2,    25.62, -999.000,9,   -999.0,9,   -999.0,9, -999.000,9,-999.0000,9,-999.0000,9,-999.0000,9,-999.0000,9, 27.803, 32.438, 36.969, 41.398, 45.727
33RO20110828,   A10,    82,  1,      5,    005,2,20000101,0000,-29.9830, -32.4664, 3764,   2602.3,   2.7677,  34.8889,2,  34.8891,2,  35.0537,2,    242.0,2,    242.5,2,    38.45,2,    22.15,2,     0.00,2,     1.50,2, -999.000,9, -999.000,9, -999.000,9,   -999.0,9,   2324.0,2,   -999.0,9,  -999.00,   7.6892,2,    25.60, -999.000,9,   -999.0,9,   -999.0,9, -999.000,9,-999.0000,9,-999.0000,9,-999.0000,9,-999.0000,9, 27.836, 32.472, 37.004, 41.434, 45.763
33RO20110828,   A10,    82,  1,      4,    004,2,20000101,0000,-29.9830, -32.4664, 3764,   2840.6,   2.7072,  34.8969,2,  34.8988,2,  35.0633,2,    245.8,2,    245.6,2,    38.25,2,    21.47,2,     0.01,2,     1.46,2,    0.021,2,    0.015,2,    0.135,3,   2186.1,2,   2324.9,2,   -999.0,9,  -999.00,   7.6848,2,    25.53,    0.000,2,   -999.0,9,   -999.0,9, -999.000,9,-999.0000,9,-999.0000,9,-999.0000,9,-999.0000,9, 27.851, 32.489, 37.023, 41.455, 45.786
33RO20110828,   A10,    82,  1,      3,    003,2,20000101,0000,-29.9830, -32.4664, 3764,   3184.4,   2.5421,  34.8888,2,  34.8895,2,  35.0541,2,    246.6,2,    247.5,2,    42.84,2,    22.05,2,     0.01,2,     1.52,2, -999.000,9, -999.000,9, -999.000,9,   -999.0,9,   2327.2,2,   -999.0,9,  -999.00,   7.6931,2,    25.53, -999.000,9,   -999.0,9,   -999.0,9, -999.000,9,-999.0000,9,-999.0000,9,-999.0000,9,-999.0000,9, 27.860, 32.504, 37.044, 41.480, 45.817
33RO20110828,   A10,    82,  1,      2,    002,2,20000101,0000,-29.9830, -32.4664, 3764,   3660.6,   1.9768,  34.8366,2,  34.8371,6,  35.0013,6,    238.9,2,    239.2,2,    63.43,2,    24.40,2,     0.01,2,     1.82,2, -999.000,9, -999.000,9, -999.000,9,   -999.0,9,   2337.9,2,   -999.0,9,  -999.00,   7.6619,2,    25.56, -999.000,9,   -999.0,9,   -999.0,9, -999.000,9,-999.0000,9,-999.0000,9,-999.0000,9,-999.0000,9, 27.866, 32.527, 37.083, 41.536, 45.888
33RO20110828,   A10,    82,  1,      1,    001,2,20000101,0000,-29.9830, -32.4664, 3764,   3772.8,   1.5218,  34.7858,2,  34.7877,2,  34.9517,2,    229.9,2,    229.3,2,    83.63,2,    27.03,2,     0.01,2,     2.11,2,    0.082,2,    0.042,2,    0.224,3,   2230.4,2,   2346.7,2,   -999.0,9,  -999.00,   7.6427,2,    25.55,    0.000,2,   -999.0,9,   -999.0,9, -999.000,9,-999.0000,9,-999.0000,9,-999.0000,9,-999.0000,9, 27.859, 32.534, 37.103, 41.569, 45.933