BOTTLE,20130715NOAA
EXPOCODE,SECT_ID,STNNBR,CASTNO,SAMPNO,BTLNBR,BTLNBR_FLAG_W,DATE,TIME,LATITUDE,LONGITUDE,DEPTH,CTDPRS,CTDTMP,CTDSAL,CTDSAL_FLAG_W,SALNTY,SALNTY_FLAG_W,SALTREF,SALTREF_FLAG_W,CTDOXY,CTDOXY_FLAG_W,OXYGEN,OXYGEN_FLAG_W,SILCAT,SILCAT_FLAG_W,NITRAT,NITRAT_FLAG_W,NITRIT,NITRIT_FLAG_W,PHSPHT,PHSPHT_FLAG_W,CFC-11,CFC-11_FLAG_W,CFC-12,CFC-12_FLAG_W,CCL4,CCL4_FLAG_W,TCARBN,TCARBN_FLAG_W,ALKALI,ALKALI_FLAG_W,PCO2,PCO2_FLAG_W,PCO2TMP,PH_TOT,PH_TOT_FLAG_W,PH_TMP,SF6,SF6_FLAG_W,DOC,DOC_FLAG_W,TDN,TDN_FLAG_W,TRITUM,TRITUM_FLAG_W,HELIUM,HELIUM_FLAG_W,OXY_18,OXY_18_FLAG_W,BLACKC,BLACKC_FLAG_W,PIGMENTS,PIGMENTS_FLAG_W,SIGMA-THETA,SIGMA-1,SIGMA-2,SIGMA-3,SIGMA-4
,,,,,,,,,,,METERS,DBARS,ITS-90,PSS-78,,PSS-78,,G/KG,,UMOL/KG,,UMOL/KG,,UMOL/KG,,UMOL/KG,,UMOL/KG,,UMOL/KG,,PMOL/KG,,PMOL/KG,,PMOL/KG,,UMOL/KG,,UMOL/KG,,UATM@T,,DEG_C,,,DEG_C,FMOL/KG,,UMOL/KG,,UMOL/KG,,TU,,NMOL/KG,,,,,,,,,,,,
33RO20110828,   A10,   111,  1,     24,    024,2,20000101,0000,-28.2972, -45.3583, 3135,      4.2,  20.6381,  36.3823,2,  36.3833,2,  36.5548,2,    226.4,2,    226.3,2,     0.78,2,     0.00,2,     0.00,2,     0.05,2,    2.072,2,    1.273,2,    3.973,3,   2078.8,6,   2386.5,2,   -999.0,9,  -999.00,   7.9681,2,    25.57,    1.367,2,   -999.0,1,   -999.0,1, -999.000,9,-999.0000,9,-999.0000,9,-999.0000,9,-999.0000,1, 25.646, 29.900, 34.060, 38.130, 42.113
33RO20110828,   A10,   111,  1,     23,    023,2,20000101,0000,-28.2972, -45.3583, 3135,     74.5,  18.8094,  36.2894,2,  36.2886,2,  36.4597,2,    225.3,2,    226.0,2,     0.58,2,     0.10,2,     0.10,2,     0.08,2,    2.188,2,    1.343,2,    2.842,3,   2086.1,2,   2379.1,2,   -999.0,9,  -999.00,   7.9459,2,    25.59,    1.358,2,   -999.0,1,   -999.0,1, -999.000,9,-999.0000,9,-999.0000,9,-999.0000,9,-999.0000,1, 26.059, 30.341, 34.530, 38.627, 42.636
33RO20110828,   A10,   111,  1,     22,    022,2,20000101,0000,-28.2972, -45.3583, 3135,    119.5,  18.2762,  36.1720,2,  36.1699,2,  36.3404,2,    223.0,2,    223.6,2,     0.68,2,     0.78,2,     0.04,2,     0.10,2,    2.237,2,    1.373,2,    2.132,3,   2087.6,2,   2373.6,2,   -999.0,9,  -999.00,   7.9427,2,    25.62,    1.422,2,   -999.0,1,   -999.0,1, -999.000,9,-999.0000,9,-999.0000,9,-999.0000,9,-999.0000,1, 26.105, 30.397, 34.595, 38.701, 42.718
33RO20110828,   A10,   111,  1,     21,    021,2,20000101,0000,-28.2972, -45.3583, 3135,    160.9,  17.7965,  36.0764,2,  36.0789,2,  36.2490,2,    223.7,2,    224.7,2,     0.88,2,     1.07,2,     0.02,2,     0.12,2,    2.289,2,    1.395,2,    1.950,3,   2086.4,2,   2368.0,4,   -999.0,9,  -999.00,   7.9294,2,    25.63,    1.422,2,   -999.0,1,   -999.0,1, -999.000,9,-999.0000,9,-999.0000,9,-999.0000,9,-999.0000,9, 26.156, 30.457, 34.663, 38.777, 42.802
33RO20110828,   A10,   111,  1,     20,    020,2,20000101,0000,-28.2972, -45.3583, 3135,    200.4,  16.9565,  35.8930,2,  35.8972,2,  36.0665,2,    219.7,2,    217.5,2,     1.46,2,     2.63,2,     0.01,2,     0.21,2,    2.405,2,    1.449,2,    1.945,3,   2095.2,2,   2357.7,2,   -999.0,9,  -999.00,   7.9161,2,    25.65,    1.413,2,   -999.0,1,   -999.0,1, -999.000,9,-999.0000,9,-999.0000,9,-999.0000,9,-999.0000,9, 26.222, 30.538, 34.759, 38.887, 42.927
33RO20110828,   A10,   111,  1,     19,    019,2,20000101,0000,-28.2972, -45.3583, 3135,    285.8,  14.6714,  35.4710,2,  35.4799,2,  35.6472,2,    206.5,2,    205.0,2,     2.44,2,     7.12,2,     0.01,2,     0.44,2,    2.727,2,    1.586,2,    1.002,3,   2115.5,2,   2333.4,2,   -999.0,9,  -999.00,   7.8290,2,    25.65,    1.269,2,   -999.0,1,   -999.0,1, -999.000,9,-999.0000,9,-999.0000,9,-999.0000,9,-999.0000,9, 26.423, 30.783, 35.046, 39.216, 43.294
33RO20110828,   A10,   111,  1,     18,    018,2,20000101,0000,-28.2972, -45.3583, 3135,    359.3,  13.2818,  35.2784,2,  35.2802,2,  35.4466,2,    206.1,2,    207.7,2,     3.32,2,    10.15,2,     0.01,2,     0.59,2,    2.898,2,    1.645,2,    1.152,3,   2122.9,2,   2322.0,2,   -999.0,9,  -999.00,   7.8022,2,    25.62,    1.200,2,   -999.0,1,   -999.0,1, -999.000,9,-999.0000,9,-999.0000,9,-999.0000,9,-999.0000,9, 26.563, 30.950, 35.240, 39.436, 43.539
33RO20110828,   A10,   111,  1,     17,    017,2,20000101,0000,-28.2972, -45.3583, 3135,    424.7,  12.4102,  35.1514,2,  35.1469,2,  35.3126,2,    207.1,2,    207.7,2,     4.10,2,    12.10,2,     0.01,2,     0.69,2,    2.988,2,    1.677,2,    1.236,3,   2128.1,2,   2315.7,2,   -999.0,9,  -999.00,   7.7831,2,    25.61,    1.098,2,   -999.0,1,   -999.0,1, -999.000,9,-999.0000,9,-999.0000,9,-999.0000,9,-999.0000,9, 26.635, 31.040, 35.348, 39.560, 43.680
33RO20110828,   A10,   111,  1,     16,    016,2,20000101,0000,-28.2972, -45.3583, 3135,    575.4,   8.9736,  34.6819,2,  34.6826,2,  34.8462,2,    202.6,2,    202.5,2,     9.08,2,    20.60,2,     0.00,2,     1.13,2,    3.094,2,    1.627,2,    1.983,3,   2152.6,2,   2294.6,2,   -999.0,9,  -999.00,   7.6862,2,    25.58,    0.881,2,   -999.0,1,   -999.0,1, -999.000,9,-999.0000,9,-999.0000,9,-999.0000,9,-999.0000,9, 26.884, 31.365, 35.746, 40.030, 44.218
33RO20110828,   A10,   111,  1,     15,    015,2,20000101,0000,-28.2972, -45.3583, 3135,    701.4,   6.7092,  34.4464,2,  34.4464,2,  34.6088,2,    209.4,2,    209.4,2,    14.06,2,    25.58,2,     0.00,2,     1.41,2,    3.034,2,    1.544,2,    2.979,3,   2166.9,2,   2288.2,2,   -999.0,9,  -999.00,   7.6491,2,    25.64,    0.764,2,   -999.0,1,   -999.0,1, -999.000,9,-999.0000,9,-999.0000,9,-999.0000,9,-999.0000,9, 27.031, 31.566, 36.000, 40.335, 44.572
33RO20110828,   A10,   111,  1,     14,    014,2,20000101,0000,-28.2972, -45.3583, 3135,    849.9,   4.9073,  34.3332,2,  34.3345,2,  34.4964,2,    213.7,2,    213.7,2,    22.65,2,    29.19,2,     0.00,2,     1.68,2,    2.531,2,    1.252,2,    3.245,3,   2181.2,2,   2291.1,2,   -999.0,9,  -999.00,   7.6094,2,    25.58,    0.506,2,   -999.0,1,   -999.0,1, -999.000,9,-999.0000,9,-999.0000,9,-999.0000,9,-999.0000,9, 27.166, 31.747, 36.225, 40.602, 44.881
33RO20110828,   A10,   111,  1,     13,    013,2,20000101,0000,-28.2972, -45.3583, 3135,   1025.1,   3.9467,  34.3540,2,  34.3567,2,  34.5187,2,    202.6,2,    202.2,2,    34.56,2,    31.73,2,     0.00,2,     1.92,2,    1.612,2,    0.786,2,    2.473,3,   2200.9,2,   2301.0,2,   -999.0,9,  -999.00,   7.5828,2,    25.65,    0.271,2,   -999.0,1,   -999.0,1, -999.000,9,-999.0000,9,-999.0000,9,-999.0000,9,-999.0000,9, 27.288, 31.893, 36.395, 40.796, 45.098
33RO20110828,   A10,   111,  1,     12,    012,2,20000101,0000,-28.2972, -45.3583, 3135,   1174.5,   3.4325,  34.4242,2,  34.4252,2,  34.5875,2,    191.6,2,    192.7,2,    44.42,2,    32.41,2,     0.00,2,     2.05,2,    0.942,2,    0.456,2,    1.659,3,   2215.5,2,   2311.2,2,   -999.0,9,  -999.00,   7.5679,2,    25.63,    0.131,2,   -999.0,1,   -999.0,1, -999.000,9,-999.0000,9,-999.0000,9,-999.0000,9,-999.0000,9, 27.394, 32.013, 36.528, 40.941, 45.255
33RO20110828,   A10,   111,  1,     11,    011,2,20000101,0000,-28.2972, -45.3583, 3135,   1374.9,   3.4265,  34.5878,2,  34.5882,2,  34.7513,2,    187.6,2,    188.1,2,    45.20,2,    31.14,2,     0.00,2,     1.99,2,    0.265,2,    0.129,2,    0.697,3,   2218.9,6,   2318.1,2,   -999.0,9,  -999.00,   7.5835,2,    25.65,    0.035,2,   -999.0,1,   -999.0,1, -999.000,9,-999.0000,9,-999.0000,9,-999.0000,9,-999.0000,9, 27.526, 32.144, 36.658, 41.071, 45.384
33RO20110828,   A10,   111,  1,     10,    010,2,20000101,0000,-28.2972, -45.3583, 3135,   1574.4,   3.2294,  34.6678,2,  34.6693,2,  34.8328,2,    193.6,2,    193.6,2,    48.42,2,    29.77,2,     0.00,2,     1.95,2,    0.185,2,    0.090,2,    0.535,3,   2217.1,2,   2323.4,2,   -999.0,9,  -999.00,   7.5866,2,    25.63,    0.030,2,   -999.0,1,   -999.0,1, -999.000,9,-999.0000,9,-999.0000,9,-999.0000,9,-999.0000,9, 27.611, 32.234, 36.753, 41.170, 45.488
33RO20110828,   A10,   111,  1,      9,    009,2,20000101,0000,-28.2972, -45.3583, 3135,   1764.6,   3.6825,  34.8278,2,  34.8304,2,  34.9947,2,    212.7,2,    211.7,2,    33.28,2,    25.47,2,     0.00,2,     1.58,2,    0.141,2,    0.072,2,    0.462,3,   2194.0,2,   2320.2,2,   -999.0,9,  -999.00,   7.6465,2,    25.57,    0.000,2,   -999.0,1,   -999.0,1, -999.000,9,-999.0000,9,-999.0000,9,-999.0000,9,-999.0000,9, 27.698, 32.308, 36.815, 41.220, 45.526
33RO20110828,   A10,   111,  1,      8,    008,2,20000101,0000,-28.2972, -45.3583, 3135,   1998.5,   3.7901,  34.9240,2,  34.9260,2,  35.0907,2,    232.5,2,    232.9,2,    24.01,2,    21.96,2,     0.00,2,     1.31,2,    0.210,2,    0.105,2,    0.639,3,   2178.0,2,   2316.3,2,   -999.0,9,  -999.00,   7.6793,2,    25.65,    0.031,2,   -999.0,1,   -999.0,1, -999.000,9,-999.0000,9,-999.0000,9,-999.0000,9,-999.0000,9, 27.766, 32.373, 36.877, 41.279, 45.582
33RO20110828,   A10,   111,  1,      7,    007,2,20000101,0000,-28.2972, -45.3583, 3135,   2124.1,   3.6987,  34.9395,2,  34.9418,2,  35.1065,2,    239.2,2,    239.4,2,    22.64,2,    20.98,2,     0.00,2,     1.24,2,    0.225,2,    0.114,2,    0.691,3,   2174.7,2,   2317.5,2,   -999.0,9,  -999.00,   7.6942,2,    25.58,    0.025,2,   -999.0,1,   -999.0,1, -999.000,9,-999.0000,9,-999.0000,9,-999.0000,9,-999.0000,9, 27.788, 32.398, 36.905, 41.310, 45.615
33RO20110828,   A10,   111,  1,      6,    006,2,20000101,0000,-28.2972, -45.3583, 3135,   2274.2,   3.5420,  34.9474,2,  34.9489,2,  35.1137,2,    245.9,2,    246.2,2,    22.84,2,    20.40,2,     0.00,2,     1.22,2,    0.231,2,    0.116,2,    0.703,3,   2171.2,2,   2318.4,2,   -999.0,9,  -999.00,   7.6976,2,    25.68,    0.000,2,   -999.0,1,   -999.0,1, -999.000,9,-999.0000,9,-999.0000,9,-999.0000,9,-999.0000,9, 27.811, 32.425, 36.936, 41.345, 45.654
33RO20110828,   A10,   111,  1,      5,    005,2,20000101,0000,-28.2972, -45.3583, 3135,   2424.6,   3.3392,  34.9451,2,  34.9471,6,  35.1119,6,    249.2,2,    249.6,2,    24.40,2,    20.10,2,     0.00,2,     1.22,2,    0.211,2,    0.105,2,    0.672,3,   2172.1,2,   2320.9,2,   -999.0,9,  -999.00,   7.7018,2,    25.62,    0.036,2,   -999.0,1,   -999.0,1, -999.000,9,-999.0000,9,-999.0000,9,-999.0000,9,-999.0000,9, 27.828, 32.448, 36.965, 41.379, 45.694
33RO20110828,   A10,   111,  1,      4,    004,2,20000101,0000,-28.2972, -45.3583, 3135,   2631.6,   3.0460,  34.9322,2,  34.9336,2,  35.0984,2,    250.4,2,    250.0,2,    28.69,2,    20.30,2,     0.00,2,     1.28,2,    0.144,2,    0.073,2,    0.545,3,   2175.0,2,   2325.0,2,   -999.0,9,  -999.00,   7.7012,2,    25.53,    0.000,2,   -999.0,1,   -999.0,1, -999.000,9,-999.0000,9,-999.0000,9,-999.0000,9,-999.0000,9, 27.848, 32.476, 37.001, 41.423, 45.745
33RO20110828,   A10,   111,  1,      3,    003,2,20000101,0000,-28.2972, -45.3583, 3135,   2800.5,   2.8395,  34.9214,2,  34.9248,2,  35.0895,2,    249.9,2,    251.0,2,    31.91,2,    20.59,2,     0.00,2,     1.31,2,    0.107,2,    0.055,2,    0.442,3,   2175.8,2,   2326.6,2,   -999.0,9,  -999.00,   7.7036,2,    25.68,    0.000,2,   -999.0,1,   -999.0,1, -999.000,9,-999.0000,9,-999.0000,9,-999.0000,9,-999.0000,9, 27.860, 32.495, 37.025, 41.453, 45.781
33RO20110828,   A10,   111,  1,      2,    002,2,20000101,0000,-28.2972, -45.3583, 3135,   2948.7,   2.4418,  34.8873,2,  34.8886,2,  35.0531,2,    246.4,2,    245.9,2,    44.80,2,    22.15,2,     0.00,2,     1.53,2,    0.082,2,    0.044,2,    0.393,3,   2189.5,2,   2334.5,2,   -999.0,9,  -999.00,   7.6896,2,    25.66,    0.000,2,   -999.0,1,   -999.0,1, -999.000,9,-999.0000,9,-999.0000,9,-999.0000,9,-999.0000,9, 27.866, 32.511, 37.053, 41.492, 45.830
33RO20110828,   A10,   111,  1,      1,    001,2,20000101,0000,-28.2972, -45.3583, 3135,   3125.6,   1.6803,  34.8109,2,  34.8138,2,  34.9780,2,    234.0,2,    234.0,2,    73.49,2,    25.96,2,     0.00,2,     2.01,2,    0.105,2,    0.052,2,    0.343,3,   2219.4,6,   2347.5,2,   -999.0,9,  -999.00,   7.6635,2,    25.58,    0.121,2,   -999.0,1,   -999.0,1, -999.000,9,-999.0000,9,-999.0000,9,-999.0000,9,-999.0000,9, 27.865, 32.533, 37.095, 41.555, 45.913