BOTTLE,20130715NOAA
EXPOCODE,SECT_ID,STNNBR,CASTNO,SAMPNO,BTLNBR,BTLNBR_FLAG_W,DATE,TIME,LATITUDE,LONGITUDE,DEPTH,CTDPRS,CTDTMP,CTDSAL,CTDSAL_FLAG_W,SALNTY,SALNTY_FLAG_W,SALTREF,SALTREF_FLAG_W,CTDOXY,CTDOXY_FLAG_W,OXYGEN,OXYGEN_FLAG_W,SILCAT,SILCAT_FLAG_W,NITRAT,NITRAT_FLAG_W,NITRIT,NITRIT_FLAG_W,PHSPHT,PHSPHT_FLAG_W,CFC-11,CFC-11_FLAG_W,CFC-12,CFC-12_FLAG_W,CCL4,CCL4_FLAG_W,TCARBN,TCARBN_FLAG_W,ALKALI,ALKALI_FLAG_W,PCO2,PCO2_FLAG_W,PCO2TMP,PH_TOT,PH_TOT_FLAG_W,PH_TMP,SF6,SF6_FLAG_W,DOC,DOC_FLAG_W,TDN,TDN_FLAG_W,TRITUM,TRITUM_FLAG_W,HELIUM,HELIUM_FLAG_W,OXY_18,OXY_18_FLAG_W,BLACKC,BLACKC_FLAG_W,PIGMENTS,PIGMENTS_FLAG_W,SIGMA-THETA,SIGMA-1,SIGMA-2,SIGMA-3,SIGMA-4
,,,,,,,,,,,METERS,DBARS,ITS-90,PSS-78,,PSS-78,,G/KG,,UMOL/KG,,UMOL/KG,,UMOL/KG,,UMOL/KG,,UMOL/KG,,UMOL/KG,,PMOL/KG,,PMOL/KG,,PMOL/KG,,UMOL/KG,,UMOL/KG,,UATM@T,,DEG_C,,,DEG_C,FMOL/KG,,UMOL/KG,,UMOL/KG,,TU,,NMOL/KG,,,,,,,,,,,,
33RO20110828,   A10,    49,  1,     24,    024,2,20000101,0000,-29.9989,  -9.6841, 3905,      4.6,  17.9887,  35.8927,2,  35.8930,2,  36.0623,2,    237.7,2,    238.2,2,     1.37,2,     0.10,2,     0.00,2,     0.17,2,    2.329,2,    1.414,2,    3.511,3,   2084.0,6,   2353.0,2,   -999.0,9,  -999.00,   7.9338,2,    25.58,    1.492,2,   -999.0,1,   -999.0,1, -999.000,9,-999.0000,9,-999.0000,9,-999.0000,9,-999.0000,1, 25.959, 30.258, 34.461, 38.573, 42.596
33RO20110828,   A10,    49,  1,     23,    023,2,20000101,0000,-29.9989,  -9.6841, 3905,     54.4,  17.5723,  35.8774,2,  35.8772,2,  36.0464,2,    241.0,2,    240.8,2,     1.37,2,     0.10,2,     0.00,2,     0.18,2,    2.299,2,    1.445,2,    3.544,3,   2084.7,2,   2351.2,2,   -999.0,9,  -999.00,   7.9289,2,    25.53,    1.541,2,   -999.0,1,   -999.0,1, -999.000,9,-999.0000,9,-999.0000,9,-999.0000,9,-999.0000,9, 26.052, 30.357, 34.568, 38.687, 42.716
33RO20110828,   A10,    49,  1,     22,    022,2,20000101,0000,-29.9989,  -9.6841, 3905,    105.0,  16.9946,  35.8238,2,  35.8229,2,  35.9919,2,    233.4,2,    233.4,2,     1.56,2,     0.59,2,     0.31,2,     0.24,2,    2.380,2,    1.454,2,    2.058,3,   2091.4,2,   2350.2,2,   -999.0,9,  -999.00,   7.8945,2,    25.59,    1.540,2,   -999.0,1,   -999.0,1, -999.000,9,-999.0000,9,-999.0000,9,-999.0000,9,-999.0000,1, 26.152, 30.467, 34.688, 38.816, 42.855
33RO20110828,   A10,    49,  1,     21,    021,2,20000101,0000,-29.9989,  -9.6841, 3905,    155.5,  14.7814,  35.4222,2,  35.4255,2,  35.5925,2,    217.8,2,    218.3,2,     2.54,2,     5.37,2,     0.01,2,     0.53,2,    2.677,2,    1.598,2,    1.150,3,   2107.6,2,   2324.7,2,   -999.0,9,  -999.00,   7.8454,2,    25.58,    1.490,2,   -999.0,1,   -999.0,1, -999.000,9,-999.0000,9,-999.0000,9,-999.0000,9,-999.0000,1, 26.353, 30.711, 34.972, 39.139, 43.216
33RO20110828,   A10,    49,  1,     20,    020,2,20000101,0000,-29.9989,  -9.6841, 3905,    203.5,  13.9707,  35.3109,2,  35.3095,2,  35.4760,2,    217.9,2,    217.7,2,     2.93,2,     7.12,2,     0.01,2,     0.63,2,    2.783,2,    1.643,2,    0.860,3,   2114.0,2,   2319.0,2,   -999.0,9,  -999.00,   7.8250,2,    25.56,    1.418,2,   -999.0,1,   -999.0,1, -999.000,9,-999.0000,9,-999.0000,9,-999.0000,9,-999.0000,9, 26.439, 30.812, 35.089, 39.271, 43.363
33RO20110828,   A10,    49,  1,     19,    019,2,20000101,0000,-29.9989,  -9.6841, 3905,    280.2,  12.5262,  35.1148,2,  35.1248,2,  35.2904,2,    212.1,2,    210.7,2,     4.39,2,    11.22,2,     0.00,2,     0.90,2,    2.985,2,    1.707,2,    1.140,3,   2127.3,2,   2308.1,2,   -999.0,9,  -999.00,   7.7745,2,    25.54,    1.252,2,   -999.0,1,   -999.0,1, -999.000,9,-999.0000,9,-999.0000,9,-999.0000,9,-999.0000,9, 26.591, 30.994, 35.299, 39.509, 43.627
33RO20110828,   A10,    49,  1,     18,    018,2,20000101,0000,-29.9989,  -9.6841, 3905,    365.8,  11.1293,  34.9426,2,  34.9436,2,  35.1084,2,    211.8,2,    210.9,2,     5.66,2,    14.45,2,     0.00,2,     1.12,2,    3.112,2,    1.738,2,    1.139,3,   2137.1,2,   2299.0,2,   -999.0,9,  -999.00,   7.7479,2,    25.58,    1.223,2,   -999.0,1,   -999.0,1, -999.000,9,-999.0000,9,-999.0000,9,-999.0000,9,-999.0000,9, 26.716, 31.149, 35.483, 39.721, 43.865
33RO20110828,   A10,    49,  1,     17,    017,2,20000101,0000,-29.9989,  -9.6841, 3905,    450.7,  10.0770,  34.8065,2,  34.8130,2,  34.9771,2,    207.6,2,    207.9,2,     7.22,2,    17.18,2,     0.01,2,     1.30,2,    3.132,2,    1.722,2,    1.122,3,   2145.5,2,   2281.3,2,   -999.0,9,  -999.00,   7.7165,2,    25.62,    1.138,2,   -999.0,1,   -999.0,1, -999.000,9,-999.0000,9,-999.0000,9,-999.0000,9,-999.0000,9, 26.802, 31.258, 35.614, 39.874, 44.040
33RO20110828,   A10,    49,  1,     16,    016,2,20000101,0000,-29.9989,  -9.6841, 3905,    560.4,   7.8812,  34.5576,2,  34.5574,2,  34.7204,2,    201.3,2,    202.4,2,    12.50,2,    23.44,2,     0.01,2,     1.72,2,    3.098,2,    1.636,2,    1.542,3,   2164.4,2,   2288.6,2,   -999.0,9,  -999.00,   7.6491,2,    25.56,    0.953,2,   -999.0,1,   -999.0,1, -999.000,9,-999.0000,9,-999.0000,9,-999.0000,9,-999.0000,9, 26.952, 31.459, 35.865, 40.172, 44.384
33RO20110828,   A10,    49,  1,     15,    015,2,20000101,0000,-29.9989,  -9.6841, 3905,    651.8,   6.4195,  34.4220,2,  34.4241,2,  34.5864,2,    207.3,2,    206.3,2,    16.50,2,    26.46,2,     0.00,2,     1.93,2,    3.047,2,    1.578,2,    1.990,3,   2172.7,2,   2285.1,2,   -999.0,9,  -999.00,   7.6277,2,    25.57,    0.838,2,   -999.0,1,   -999.0,1, -999.000,9,-999.0000,9,-999.0000,9,-999.0000,9,-999.0000,9, 27.051, 31.593, 36.034, 40.375, 44.619
33RO20110828,   A10,    49,  1,     14,    014,2,20000101,0000,-29.9989,  -9.6841, 3905,    774.5,   4.6484,  34.2958,2,  34.2966,2,  34.4583,2,    219.0,2,    222.8,2,    23.15,2,    29.01,2,     0.00,2,     2.13,2,    2.929,2,    1.486,2,    2.792,3,   2181.5,2,   2285.8,2,   -999.0,9,  -999.00,   7.6071,2,    25.56,    0.692,2,   -999.0,1,   -999.0,1, -999.000,9,-999.0000,9,-999.0000,9,-999.0000,9,-999.0000,9, 27.164, 31.751, 36.236, 40.619, 44.904
33RO20110828,   A10,    49,  1,     13,    013,2,20000101,0000,-29.9989,  -9.6841, 3905,    901.1,   3.9153,  34.3316,2,  34.3323,2,  34.4942,2,    212.3,2,    208.8,2,    34.67,2,    31.25,2,     0.00,2,     2.30,2,    2.106,2,    1.043,2,    2.451,3,   2200.4,2,   2294.3,2,   -999.0,9,  -999.00,   7.5867,2,    25.58,    0.429,2,   -999.0,1,   -999.0,1, -999.000,9,-999.0000,9,-999.0000,9,-999.0000,9,-999.0000,9, 27.270, 31.877, 36.380, 40.781, 45.083
33RO20110828,   A10,    49,  1,     12,    012,2,20000101,0000,-29.9989,  -9.6841, 3905,   1030.5,   3.4987,  34.4016,2,  34.4024,2,  34.5647,2,    194.3,2,    193.5,2,    45.02,2,    32.32,2,     0.01,2,     2.41,2,    1.313,2,    0.644,2,    1.563,3,   2217.2,2,   2305.5,2,   -999.0,9,  -999.00,   7.5560,2,    25.60,    0.194,2,   -999.0,1,   -999.0,1, -999.000,9,-999.0000,9,-999.0000,9,-999.0000,9,-999.0000,9, 27.368, 31.985, 36.498, 40.910, 45.222
33RO20110828,   A10,    49,  1,     11,    011,2,20000101,0000,-29.9989,  -9.6841, 3905,   1179.7,   3.1138,  34.4970,2,  34.4986,6,  34.6612,6,    185.8,2,    187.1,2,    53.42,2,    32.52,2,     0.00,2,     2.40,2,    0.684,2,    0.330,2,    1.036,3,   2227.2,2,   2299.0,2,   -999.0,9,  -999.00,   7.5571,2,    25.64,    0.084,2,   -999.0,1,   -999.0,1, -999.000,9,-999.0000,9,-999.0000,9,-999.0000,9,-999.0000,9, 27.481, 32.107, 36.630, 41.051, 45.372
33RO20110828,   A10,    49,  1,     10,    010,2,20000101,0000,-29.9989,  -9.6841, 3905,   1350.6,   3.0478,  34.6025,2,  34.6038,2,  34.7669,2,    184.6,2,    185.8,2,    55.17,2,    31.44,2,     0.00,2,     2.32,2,    0.297,2,    0.141,2,    0.531,3,   2230.9,6,   2325.9,2,   -999.0,9,  -999.00,   7.5699,2,    25.50,    0.065,2,   -999.0,1,   -999.0,1, -999.000,9,-999.0000,9,-999.0000,9,-999.0000,9,-999.0000,9, 27.573, 32.201, 36.725, 41.147, 45.469
33RO20110828,   A10,    49,  1,      9,    009,2,20000101,0000,-29.9989,  -9.6841, 3905,   1619.0,   2.9737,  34.7308,2,  34.7307,2,  34.8945,2,    198.5,2,    198.7,2,    51.84,2,    28.70,2,     0.00,2,     2.10,2,    0.084,2,    0.041,2,    0.163,3,   2219.3,2,   2326.1,2,   -999.0,9,  -999.00,   7.6088,2,    25.59,    0.000,2,   -999.0,1,   -999.0,1, -999.000,9,-999.0000,9,-999.0000,9,-999.0000,9,-999.0000,9, 27.683, 32.313, 36.838, 41.262, 45.585
33RO20110828,   A10,    49,  1,      8,    008,2,20000101,0000,-29.9989,  -9.6841, 3905,   1910.0,   2.7760,  34.7841,2,  34.7846,2,  34.9486,2,    212.3,2,    210.4,2,    52.43,2,    27.14,2,     0.00,2,     1.97,2,    0.041,2,    0.020,2,    0.125,3,   2211.5,2,   2324.5,2,   -999.0,9,  -999.00,   7.6209,2,    25.56,    0.000,2,   -999.0,1,   -999.0,1, -999.000,9,-999.0000,9,-999.0000,9,-999.0000,9,-999.0000,9, 27.746, 32.381, 36.912, 41.341, 45.669
33RO20110828,   A10,    49,  1,      7,    007,2,20000101,0000,-29.9989,  -9.6841, 3905,   2199.9,   2.6065,  34.8247,2,  34.8261,2,  34.9904,2,    222.4,2,    222.3,2,    51.94,2,    25.38,2,     0.00,2,     1.85,2,    0.016,2,    0.010,2,    0.139,3,   2205.4,2,   2330.5,2,   -999.0,9,  -999.00,   7.6455,2,    25.63,    0.000,2,   -999.0,1,   -999.0,1, -999.000,9,-999.0000,9,-999.0000,9,-999.0000,9,-999.0000,9, 27.796, 32.436, 36.972, 41.405, 45.738
33RO20110828,   A10,    49,  1,      6,    006,2,20000101,0000,-29.9989,  -9.6841, 3905,   2500.6,   2.4747,  34.8473,2,  34.8535,2,  35.0178,2,    230.6,2,    231.7,2,    51.64,2,    24.50,2,     0.00,2,     1.77,2,    0.006,2,    0.004,2,    0.116,3,   2202.0,2,   2332.4,2,   -999.0,9,  -999.00,   7.6625,2,    25.60,    0.000,2,   -999.0,1,   -999.0,1, -999.000,9,-999.0000,9,-999.0000,9,-999.0000,9,-999.0000,9, 27.831, 32.475, 37.015, 41.452, 45.789
33RO20110828,   A10,    49,  1,      5,    005,2,20000101,0000,-29.9989,  -9.6841, 3905,   2799.6,   2.4152,  34.8597,2,  34.8600,2,  35.0244,2,    236.0,2,    236.0,2,    50.96,2,    23.92,2,     0.00,2,     1.72,2,    0.006,2,    0.005,2,    0.090,3,   2198.6,2,   2333.8,2,   -999.0,9,  -999.00,   7.6672,2,    25.54,    0.027,2,   -999.0,1,   -999.0,1, -999.000,9,-999.0000,9,-999.0000,9,-999.0000,9,-999.0000,9, 27.844, 32.490, 37.032, 41.471, 45.810
33RO20110828,   A10,    49,  1,      4,    004,2,20000101,0000,-29.9989,  -9.6841, 3905,   3100.6,   2.3742,  34.8682,2,  34.8697,2,  35.0341,2,    238.2,2,    238.5,2,    51.15,2,    23.53,2,     0.00,2,     1.70,2,    0.007,2,    0.004,2,    0.100,3,   2199.0,2,   2336.8,2,   -999.0,9,  -999.00,   7.6802,2,    25.57,    0.079,2,   -999.0,1,   -999.0,1, -999.000,9,-999.0000,9,-999.0000,9,-999.0000,9,-999.0000,9, 27.857, 32.505, 37.049, 41.490, 45.831
33RO20110828,   A10,    49,  1,      3,    003,2,20000101,0000,-29.9989,  -9.6841, 3905,   3400.4,   2.3780,  34.8713,2,  34.8717,2,  35.0361,2,    238.6,2,    239.6,2,    51.35,2,    23.43,2,     0.00,2,     1.70,2,    0.005,2,    0.004,2,    0.103,3,   2199.9,2,   2342.1,2,   -999.0,9,  -999.00,   7.6833,2,    25.55,    0.075,2,   -999.0,1,   -999.0,1, -999.000,9,-999.0000,9,-999.0000,9,-999.0000,9,-999.0000,9, 27.861, 32.510, 37.055, 41.496, 45.837
33RO20110828,   A10,    49,  1,      2,    002,2,20000101,0000,-29.9989,  -9.6841, 3905,   3696.1,   2.3817,  34.8754,2,  34.8760,2,  35.0405,2,    237.7,2,    236.9,2,    51.94,2,    23.33,2,     0.00,2,     1.69,2,    0.006,2,    0.003,2,    0.113,3,   2203.3,2,   2344.6,2,   -999.0,9,  -999.00,   7.6840,2,    25.52,    0.000,2,   -999.0,1,   -999.0,1, -999.000,9,-999.0000,9,-999.0000,9,-999.0000,9,-999.0000,9, 27.867, 32.516, 37.062, 41.504, 45.846
33RO20110828,   A10,    49,  1,      1,    001,2,20000101,0000,-29.9989,  -9.6841, 3905,   3980.4,   2.4052,  34.8773,2,  34.8784,2,  35.0429,2,    236.9,2,    236.6,2,    52.33,2,    22.94,2,     0.01,2,     1.69,2,    0.003,2,    0.002,2,    0.100,3,   2206.6,6,   2351.4,2,   -999.0,9,  -999.00,   7.6910,2,    25.46,    0.000,2,   -999.0,1,   -999.0,1, -999.000,9,-999.0000,9,-999.0000,9,-999.0000,9,-999.0000,9, 27.869, 32.519, 37.065, 41.508, 45.850