BOTTLE,20130715NOAA
EXPOCODE,SECT_ID,STNNBR,CASTNO,SAMPNO,BTLNBR,BTLNBR_FLAG_W,DATE,TIME,LATITUDE,LONGITUDE,DEPTH,CTDPRS,CTDTMP,CTDSAL,CTDSAL_FLAG_W,SALNTY,SALNTY_FLAG_W,SALTREF,SALTREF_FLAG_W,CTDOXY,CTDOXY_FLAG_W,OXYGEN,OXYGEN_FLAG_W,SILCAT,SILCAT_FLAG_W,NITRAT,NITRAT_FLAG_W,NITRIT,NITRIT_FLAG_W,PHSPHT,PHSPHT_FLAG_W,CFC-11,CFC-11_FLAG_W,CFC-12,CFC-12_FLAG_W,CCL4,CCL4_FLAG_W,TCARBN,TCARBN_FLAG_W,ALKALI,ALKALI_FLAG_W,PCO2,PCO2_FLAG_W,PCO2TMP,PH_TOT,PH_TOT_FLAG_W,PH_TMP,SF6,SF6_FLAG_W,DOC,DOC_FLAG_W,TDN,TDN_FLAG_W,TRITUM,TRITUM_FLAG_W,HELIUM,HELIUM_FLAG_W,OXY_18,OXY_18_FLAG_W,BLACKC,BLACKC_FLAG_W,PIGMENTS,PIGMENTS_FLAG_W,SIGMA-THETA,SIGMA-1,SIGMA-2,SIGMA-3,SIGMA-4
,,,,,,,,,,,METERS,DBARS,ITS-90,PSS-78,,PSS-78,,G/KG,,UMOL/KG,,UMOL/KG,,UMOL/KG,,UMOL/KG,,UMOL/KG,,UMOL/KG,,PMOL/KG,,PMOL/KG,,PMOL/KG,,UMOL/KG,,UMOL/KG,,UATM@T,,DEG_C,,,DEG_C,FMOL/KG,,UMOL/KG,,UMOL/KG,,TU,,NMOL/KG,,,,,,,,,,,,
33RO20110828,   A10,     1,  2,      9,    009,2,20000101,0000,-28.5128,  14.9492,  174,      4.7,  14.4683,  34.9885,2,  34.9891,2,  35.1541,2,    232.0,2,    260.6,2,     8.78,2,     4.88,2,     0.23,2,     0.66,2,    2.869,2,    1.673,2,    3.576,2,   2083.4,2,   2317.0,2,   -999.0,9,  -999.00,   7.8991,2,    25.33,    1.578,2,   -999.0,1,   -999.0,1, -999.000,9,-999.0000,9,-999.0000,9,-999.0000,9,-999.0000,1, 26.079, 30.445, 34.714, 38.890, 42.974
33RO20110828,   A10,     1,  2,      8,    008,2,20000101,0000,-28.5128,  14.9492,  174,     13.3,  14.4511,  34.9876,2,  34.9903,6,  35.1553,6,    232.3,2,    260.8,2,     8.78,2,     4.88,2,     0.22,2,     0.66,2, -999.000,5, -999.000,5, -999.000,5,   2084.6,6,   2318.2,2,   -999.0,9,  -999.00,   7.9011,2,    25.33, -999.000,5,   -999.0,1,   -999.0,1, -999.000,9,-999.0000,9,-999.0000,9,-999.0000,9,-999.0000,9, 26.082, 30.448, 34.718, 38.894, 42.978
33RO20110828,   A10,     1,  2,      7,    007,2,20000101,0000,-28.5128,  14.9492,  174,     23.9,  14.4502,  34.9874,2,  34.9915,2,  35.1565,2,    232.5,2,    260.9,2,     8.88,2,     4.78,2,     0.21,2,     0.65,2,    2.846,2,    1.676,2,    3.861,2,   2084.7,2,   2317.3,2,   -999.0,9,  -999.00,   7.9007,2,    25.31,    1.622,2,   -999.0,1,   -999.0,1, -999.000,9,-999.0000,9,-999.0000,9,-999.0000,9,-999.0000,1, 26.086, 30.452, 34.721, 38.897, 42.982
33RO20110828,   A10,     1,  2,      6,    006,2,20000101,0000,-28.5128,  14.9492,  174,     50.9,  14.3226,  35.0131,2,  35.0147,2,  35.1798,2,    234.1,2,    251.5,2,     8.00,2,     5.46,2,     0.30,2,     0.72,2,    2.820,2,    1.665,2,    3.371,2,   2094.5,2,   2319.0,2,   -999.0,9,  -999.00,   7.8814,2,    25.23,    1.659,2,   -999.0,1,   -999.0,1, -999.000,9,-999.0000,9,-999.0000,9,-999.0000,9,-999.0000,1, 26.132, 30.500, 34.772, 38.950, 43.036
33RO20110828,   A10,     1,  2,      5,    005,2,20000101,0000,-28.5128,  14.9492,  174,     76.2,  12.3991,  34.9869,2,  34.9932,2,  35.1583,2,    210.2,2,    207.1,2,     7.61,2,    13.66,2,     0.16,2,     1.11,2,    2.967,2,    1.715,2,    2.110,2,   2135.5,2,   2293.9,2,   -999.0,9,  -999.00,   7.7692,2,    25.28,    1.395,2,   -999.0,1,   -999.0,1, -999.000,9,-999.0000,9,-999.0000,9,-999.0000,9,-999.0000,1, 26.509, 30.914, 35.222, 39.435, 43.555
33RO20110828,   A10,     1,  2,      4,    004,2,20000101,0000,-28.5128,  14.9492,  174,     98.0,  10.8434,  34.8835,2,  34.8874,2,  35.0519,2,    185.2,2,    199.5,2,     6.83,2,    16.20,2,     0.06,2,     1.22,2,    3.120,2,    1.756,2,    1.184,2,   2145.0,2,   2298.9,2,   -999.0,9,  -999.00,   7.7343,2,    25.32,    1.230,2,   -999.0,1,   -999.0,1, -999.000,9,-999.0000,9,-999.0000,9,-999.0000,9,-999.0000,1, 26.718, 31.156, 35.496, 39.739, 43.889
33RO20110828,   A10,     1,  2,      3,    003,2,20000101,0000,-28.5128,  14.9492,  174,    124.8,  10.4632,  34.8413,2,  34.8406,2,  35.0049,2,    182.0,2,    193.5,2,     8.10,2,    17.86,2,     0.07,2,     1.33,2,    3.129,2,    1.738,2,    1.279,2,   2152.7,2,   2298.6,2,   -999.0,9,  -999.00,   7.7157,2,    25.28,    1.165,2,   -999.0,1,   -999.0,1, -999.000,9,-999.0000,9,-999.0000,9,-999.0000,9,-999.0000,1, 26.750, 31.196, 35.544, 39.795, 43.952
33RO20110828,   A10,     1,  2,      2,    002,2,20000101,0000,-28.5128,  14.9492,  174,    150.9,   9.9738,  34.7921,2,  34.7957,2,  34.9598,2,    142.1,2,    152.5,2,    12.59,2,    21.76,2,     0.03,2,     1.66,2,    2.973,2,    1.659,2,    1.319,2,   2187.3,2,   2297.4,2,   -999.0,9,  -999.00,   7.6261,2,    25.25,    1.049,2,   -999.0,1,   -999.0,1, -999.000,9,-999.0000,9,-999.0000,9,-999.0000,9,-999.0000,1, 26.800, 31.257, 35.615, 39.877, 44.044
33RO20110828,   A10,     1,  2,      1,    001,2,20000101,0000,-28.5128,  14.9492,  174,    170.2,   9.9285,  34.7867,2,  34.7868,2,  34.9508,2,    141.0,2,    153.0,2,    12.79,2,    21.57,2,     0.04,2,     1.67,2,    3.017,2,    1.679,2,    1.274,2,   2189.0,2,   2294.6,2,   -999.0,9,  -999.00,   7.6285,2,    25.26,    1.081,2,   -999.0,1,   -999.0,1, -999.000,9,-999.0000,9,-999.0000,9,-999.0000,9,-999.0000,9, 26.801, 31.259, 35.618, 39.881, 44.049
33RO20110828,   A10,     2,  1,     12,    012,2,20000101,0000,-28.7159,  14.4665,  263,      3.6,  14.8875,  35.0351,2,  35.0375,2,  35.2027,2,    259.9,2,    259.0,2,     7.42,2,     4.39,2,     0.19,2,     0.57,2,    2.774,2,    1.636,2,    3.466,2,   2077.9,6,   2318.4,2,   -999.0,9,  -999.00,   7.9146,2,    25.25,    1.583,2,   -999.0,9,   -999.0,9, -999.000,9,-999.0000,9,-999.0000,9,-999.0000,9,-999.0000,9, 26.026, 30.383, 34.645, 38.813, 42.890
33RO20110828,   A10,     2,  1,     13,    013,2,20000101,0000,-28.7159,  14.4665,  263,      3.6,  14.8821,  35.0350,2,  35.0572,2,  35.2225,2,   -999.0,9,   -999.0,9,     7.42,2,     4.49,2,     0.18,2,     0.57,2, -999.000,9, -999.000,9, -999.000,9,   -999.0,9,   -999.0,9,   -999.0,9,  -999.00,-999.0000,9,  -999.00, -999.000,9,   -999.0,9,   -999.0,9, -999.000,9,-999.0000,9,-999.0000,9,-999.0000,9,-999.0000,1, 26.042, 30.400, 34.661, 38.829, 42.906
33RO20110828,   A10,     2,  1,     11,    011,2,20000101,0000,-28.7159,  14.4665,  263,     32.5,  14.7685,  35.0596,2,  35.0619,2,  35.2272,2,    259.5,2,    256.1,2,     6.93,2,     4.59,2,     0.22,2,     0.56,2,    2.780,2,    1.643,2,    3.391,2,   2081.8,2,   2319.1,2,   -999.0,9,  -999.00,   7.9092,2,    25.21,    1.555,2,   -999.0,9,   -999.0,9, -999.000,9,-999.0000,9,-999.0000,9,-999.0000,9,-999.0000,9, 26.071, 30.431, 34.695, 38.864, 42.943
33RO20110828,   A10,     2,  1,     10,    010,2,20000101,0000,-28.7159,  14.4665,  263,     48.8,  14.6328,  35.1288,2,-999.0000,9,-999.0000,9,   -999.0,9,   -999.0,9,     5.76,2,     4.88,2,     0.29,2,     0.55,2, -999.000,9, -999.000,9, -999.000,9,   -999.0,9,   -999.0,9,   -999.0,9,  -999.00,-999.0000,9,  -999.00, -999.000,9,   -999.0,9,   -999.0,9, -999.000,9,-999.0000,9,-999.0000,9,-999.0000,9,-999.0000,1, 26.153, 30.515, 34.780, 38.952, 43.033
33RO20110828,   A10,     2,  1,      9,    009,2,20000101,0000,-28.7159,  14.4665,  263,     63.4,  14.2509,  35.1619,2,-999.0000,9,-999.0000,9,   -999.0,9,   -999.0,9,     5.27,2,     6.54,2,     0.44,2,     0.65,2, -999.000,9, -999.000,9, -999.000,9,   -999.0,9,   -999.0,9,   -999.0,9,  -999.00,-999.0000,9,  -999.00, -999.000,9,   -999.0,9,   -999.0,9, -999.000,9,-999.0000,9,-999.0000,9,-999.0000,9,-999.0000,1, 26.261, 30.630, 34.902, 39.080, 43.167
33RO20110828,   A10,     2,  1,      8,    008,2,20000101,0000,-28.7159,  14.4665,  263,     64.4,  14.2456,  35.1583,2,  35.1661,2,  35.3319,2,    248.0,2,    237.1,2,     5.27,2,     6.63,2,     0.39,2,     0.65,2,    2.781,2,    1.636,2,    2.753,2,   2099.9,2,   -999.0,9,   -999.0,9,  -999.00,   7.8716,2,    25.25,    1.473,2,   -999.0,9,   -999.0,9, -999.000,9,-999.0000,9,-999.0000,9,-999.0000,9,-999.0000,9, 26.265, 30.634, 34.907, 39.085, 43.172
33RO20110828,   A10,     2,  1,      7,    007,2,20000101,0000,-28.7159,  14.4665,  263,     88.1,  12.8352,  35.0779,2,  35.0908,2,  35.2563,2,    221.6,2,    212.2,2,     5.85,2,    11.61,2,     0.00,2,     0.93,2,    2.926,2,    1.677,2,    1.862,2,   2125.8,2,   2309.0,2,   -999.0,9,  -999.00,   7.8024,2,    25.22,    1.351,2,   -999.0,9,   -999.0,9, -999.000,9,-999.0000,9,-999.0000,9,-999.0000,9,-999.0000,9, 26.499, 30.895, 35.194, 39.398, 43.510
33RO20110828,   A10,     2,  1,      6,    006,2,20000101,0000,-28.7159,  14.4665,  263,    114.2,  11.7734,  34.9753,2,  34.9802,2,  35.1452,2,    208.2,2,    200.8,2,     6.73,2,    14.25,2,     0.05,2,     1.12,2,    3.000,2,    1.699,2,    1.514,2,   2139.4,2,   2295.7,2,   -999.0,9,  -999.00,   7.7630,2,    25.23,    1.276,2,   -999.0,9,   -999.0,9, -999.000,9,-999.0000,9,-999.0000,9,-999.0000,9,-999.0000,9, 26.620, 31.038, 35.358, 39.583, 43.715
33RO20110828,   A10,     2,  1,      5,    005,2,20000101,0000,-28.7159,  14.4665,  263,    139.5,  10.6926,  34.8682,2,  34.8747,2,  35.0392,2,    196.8,2,    189.0,2,     8.39,2,    17.37,2,     0.05,2,     1.33,2, -999.000,9, -999.000,9, -999.000,9,   2156.3,2,   2301.0,3,   -999.0,9,  -999.00,   7.7183,2,    25.27, -999.000,9,   -999.0,9,   -999.0,9, -999.000,9,-999.0000,9,-999.0000,9,-999.0000,9,-999.0000,9, 26.736, 31.178, 35.520, 39.767, 43.919
33RO20110828,   A10,     2,  1,      4,    004,2,20000101,0000,-28.7159,  14.4665,  263,    165.0,  10.1231,  34.8122,2,  34.8143,2,  34.9785,2,    184.6,2,    165.3,2,    11.32,2,    20.59,2,     0.13,2,     1.58,2,    2.944,2,    1.638,2,    1.191,2,   2176.8,2,   2299.1,2,   -999.0,9,  -999.00,   7.6594,2,    25.31,    1.077,2,   -999.0,9,   -999.0,9, -999.000,9,-999.0000,9,-999.0000,9,-999.0000,9,-999.0000,9, 26.789, 31.243, 35.598, 39.856, 44.020
33RO20110828,   A10,     2,  1,      3,    003,2,20000101,0000,-28.7159,  14.4665,  263,    196.8,   9.5335,  34.7543,2,  34.7596,2,  34.9236,2,    161.2,2,    150.0,2,    13.76,2,    23.23,2,     0.17,2,     1.78,2, -999.000,9, -999.000,9, -999.000,9,   2192.4,2,   2296.6,2,   -999.0,9,  -999.00,   7.6131,2,    25.29, -999.000,9,   -999.0,9,   -999.0,9, -999.000,9,-999.0000,9,-999.0000,9,-999.0000,9,-999.0000,9, 26.847, 31.314, 35.681, 39.952, 44.128
33RO20110828,   A10,     2,  1,      2,    002,2,20000101,0000,-28.7159,  14.4665,  263,    219.3,   8.9137,  34.7020,2,  34.7028,2,  34.8665,2,    149.3,2,    138.1,2,    16.01,2,    25.96,2,     0.19,2,     1.97,2,    2.552,2,    1.386,2,    1.288,2,   2202.7,2,   2295.0,2,   -999.0,9,  -999.00,   7.5805,2,    25.29,    0.786,2,   -999.0,9,   -999.0,9, -999.000,9,-999.0000,9,-999.0000,9,-999.0000,9,-999.0000,9, 26.903, 31.384, 35.766, 40.050, 44.238
33RO20110828,   A10,     2,  1,      1,    001,2,20000101,0000,-28.7159,  14.4665,  263,    256.7,   8.1687,  34.6394,2,  34.6411,2,  34.8045,2,    133.0,2,    125.0,2,    19.42,2,    28.99,2,     0.07,2,     2.19,2,    2.262,2,    1.202,2,    1.277,2,   2215.7,2,   2294.8,2,   -999.0,9,  -999.00,   7.5575,2,    25.35,    0.669,2,   -999.0,9,   -999.0,9, -999.000,9,-999.0000,9,-999.0000,9,-999.0000,9,-999.0000,9, 26.971, 31.469, 35.867, 40.168, 44.372