BOTTLE,20130715NOAA
EXPOCODE,SECT_ID,STNNBR,CASTNO,SAMPNO,BTLNBR,BTLNBR_FLAG_W,DATE,TIME,LATITUDE,LONGITUDE,DEPTH,CTDPRS,CTDTMP,CTDSAL,CTDSAL_FLAG_W,SALNTY,SALNTY_FLAG_W,SALTREF,SALTREF_FLAG_W,CTDOXY,CTDOXY_FLAG_W,OXYGEN,OXYGEN_FLAG_W,SILCAT,SILCAT_FLAG_W,NITRAT,NITRAT_FLAG_W,NITRIT,NITRIT_FLAG_W,PHSPHT,PHSPHT_FLAG_W,CFC-11,CFC-11_FLAG_W,CFC-12,CFC-12_FLAG_W,CCL4,CCL4_FLAG_W,TCARBN,TCARBN_FLAG_W,ALKALI,ALKALI_FLAG_W,PCO2,PCO2_FLAG_W,PCO2TMP,PH_TOT,PH_TOT_FLAG_W,PH_TMP,SF6,SF6_FLAG_W,DOC,DOC_FLAG_W,TDN,TDN_FLAG_W,TRITUM,TRITUM_FLAG_W,HELIUM,HELIUM_FLAG_W,OXY_18,OXY_18_FLAG_W,BLACKC,BLACKC_FLAG_W,PIGMENTS,PIGMENTS_FLAG_W,SIGMA-THETA,SIGMA-1,SIGMA-2,SIGMA-3,SIGMA-4
,,,,,,,,,,,METERS,DBARS,ITS-90,PSS-78,,PSS-78,,G/KG,,UMOL/KG,,UMOL/KG,,UMOL/KG,,UMOL/KG,,UMOL/KG,,UMOL/KG,,PMOL/KG,,PMOL/KG,,PMOL/KG,,UMOL/KG,,UMOL/KG,,UATM@T,,DEG_C,,,DEG_C,FMOL/KG,,UMOL/KG,,UMOL/KG,,TU,,NMOL/KG,,,,,,,,,,,,
33RO20110828,   A10,    64,  1,     24,    024,2,20000101,0000,-29.9998, -21.2635, 4752,      4.2,  19.5638,  36.3129,2,  36.3110,2,  36.4822,2,    231.0,2,    229.7,2,     1.27,2,     0.00,2,     0.01,2,     0.10,2,    2.139,2,    1.317,2,    3.078,3,   2088.0,6,   2379.7,2,   -999.0,9,  -999.00,   7.9507,2,    25.69,    1.361,2,   -999.0,9,   -999.0,9, -999.000,9,-999.0000,9,-999.0000,9,-999.0000,9,-999.0000,1, 25.877, 30.148, 34.325, 38.410, 42.408
33RO20110828,   A10,    64,  1,     23,    023,2,20000101,0000,-29.9998, -21.2635, 4752,     50.1,  19.2852,  36.2825,2,  36.2812,2,  36.4523,2,    231.3,2,    230.9,2,     1.27,2,     0.00,2,     0.01,2,     0.11,2, -999.000,9, -999.000,9, -999.000,9,   2088.4,2,   2379.8,3,   -999.0,9,  -999.00,   7.9515,2,    25.70, -999.000,9,   -999.0,9,   -999.0,9, -999.000,9,-999.0000,9,-999.0000,9,-999.0000,9,-999.0000,9, 25.930, 30.205, 34.386, 38.476, 42.478
33RO20110828,   A10,    64,  1,     22,    022,2,20000101,0000,-29.9998, -21.2635, 4752,    110.0,  18.0631,  36.0300,2,  36.0245,2,  36.1944,2,    232.1,2,    235.4,2,     1.36,2,     0.10,2,     0.01,2,     0.13,2,    2.312,2,    1.397,2,    3.002,3,   -999.0,9,   2362.1,2,   -999.0,9,  -999.00,   7.9356,2,    25.71,    1.477,2,   -999.0,9,   -999.0,9, -999.000,9,-999.0000,9,-999.0000,9,-999.0000,9,-999.0000,1, 26.046, 30.343, 34.545, 38.655, 42.677
33RO20110828,   A10,    64,  1,     21,    021,2,20000101,0000,-29.9998, -21.2635, 4752,    180.4,  16.0641,  35.6311,2,  35.6252,2,  35.7932,2,    220.0,2,    218.4,2,     2.05,2,     3.32,2,     0.03,2,     0.32,2, -999.000,9, -999.000,9, -999.000,9,   2102.0,2,   2336.0,2,   -999.0,9,  -999.00,   7.8675,2,    25.68, -999.000,9,   -999.0,9,   -999.0,9, -999.000,9,-999.0000,9,-999.0000,9,-999.0000,9,-999.0000,9, 26.221, 30.554, 34.791, 38.936, 42.991
33RO20110828,   A10,    64,  1,     20,    020,2,20000101,0000,-29.9998, -21.2635, 4752,    250.2,  14.2782,  35.3789,2,  35.3778,2,  35.5446,2,    218.3,2,    217.5,2,     2.54,2,     6.24,2,     0.02,2,     0.46,2,    2.793,2,    1.634,2,    0.858,3,   -999.0,9,   2325.8,2,   -999.0,9,  -999.00,   7.8328,2,    25.63,    1.412,2,   -999.0,9,   -999.0,9, -999.000,9,-999.0000,9,-999.0000,9,-999.0000,9,-999.0000,9, 26.428, 30.795, 35.066, 39.243, 43.328
33RO20110828,   A10,    64,  1,     19,    019,2,20000101,0000,-29.9998, -21.2635, 4752,    318.5,  13.5033,  35.2973,2,  35.2960,2,  35.4624,2,    219.2,2,    219.9,2,     2.83,2,     7.80,2,     0.01,2,     0.55,2, -999.000,9, -999.000,9, -999.000,9,   2117.8,2,   2320.6,2,   -999.0,9,  -999.00,   7.8279,2,    25.66, -999.000,9,   -999.0,9,   -999.0,9, -999.000,9,-999.0000,9,-999.0000,9,-999.0000,9,-999.0000,9, 26.529, 30.912, 35.197, 39.389, 43.488
33RO20110828,   A10,    64,  1,     18,    018,2,20000101,0000,-29.9998, -21.2635, 4752,    420.0,  12.0699,  35.0892,2,  35.0878,2,  35.2532,2,    216.1,2,    216.2,2,     4.20,2,    11.61,2,     0.01,2,     0.73,2, -999.000,9, -999.000,9, -999.000,9,   -999.0,9,   2310.6,2,   -999.0,9,  -999.00,   7.7787,2,    25.67, -999.000,9,   -999.0,9,   -999.0,9, -999.000,9,-999.0000,9,-999.0000,9,-999.0000,9,-999.0000,9, 26.655, 31.067, 35.382, 39.601, 43.727
33RO20110828,   A10,    64,  1,     17,    017,2,20000101,0000,-29.9998, -21.2635, 4752,    515.7,  10.3397,  34.8486,2,  34.8422,2,  35.0065,2,    209.5,2,    209.4,2,     6.83,2,    16.49,2,     0.01,2,     1.00,2,    3.174,2,    1.726,2,    1.249,3,   2143.6,2,   2297.6,2,   -999.0,9,  -999.00,-999.0000,5,  -999.00,    1.143,2,   -999.0,9,   -999.0,9, -999.000,9,-999.0000,9,-999.0000,9,-999.0000,9,-999.0000,9, 26.781, 31.231, 35.582, 39.837, 43.997
33RO20110828,   A10,    64,  1,     16,    016,2,20000101,0000,-29.9998, -21.2635, 4752,    619.9,   7.9961,  34.5610,2,  34.5582,2,  34.7212,2,    211.5,2,    212.6,2,    10.15,2,    22.06,2,     0.01,2,     1.31,2, -999.000,9, -999.000,9, -999.000,9,   -999.0,9,   2286.8,2,   -999.0,9,  -999.00,   7.6723,2,    25.65, -999.000,9,   -999.0,9,   -999.0,9, -999.000,9,-999.0000,9,-999.0000,9,-999.0000,9,-999.0000,9, 26.937, 31.441, 35.844, 40.150, 44.359
33RO20110828,   A10,    64,  1,     15,    015,2,20000101,0000,-29.9998, -21.2635, 4752,    720.3,   6.1663,  34.3902,2,  34.3910,2,  34.5531,2,    217.8,2,    215.3,2,    15.81,2,    26.16,2,     0.01,2,     1.57,2,    3.199,2,    1.638,2,    2.682,3,   2170.1,2,   2282.5,2,   -999.0,9,  -999.00,   7.6357,2,    25.68,    0.777,2,   -999.0,9,   -999.0,9, -999.000,9,-999.0000,9,-999.0000,9,-999.0000,9,-999.0000,9, 27.058, 31.607, 36.054, 40.401, 44.651
33RO20110828,   A10,    64,  1,     14,    014,2,20000101,0000,-29.9998, -21.2635, 4752,    819.1,   4.9336,  34.3156,2,  34.3152,2,  34.4770,2,    217.4,2,    219.8,2,    22.16,2,    28.51,2,     0.01,2,     1.74,2, -999.000,9, -999.000,9, -999.000,9,   -999.0,9,   2285.4,2,   -999.0,9,  -999.00,   7.6141,2,    25.70, -999.000,9,   -999.0,9,   -999.0,9, -999.000,9,-999.0000,9,-999.0000,9,-999.0000,9,-999.0000,9, 27.148, 31.728, 36.205, 40.582, 44.860
33RO20110828,   A10,    64,  1,     13,    013,2,20000101,0000,-29.9998, -21.2635, 4752,    970.1,   3.9997,  34.3291,2,  34.3296,2,  34.4914,2,    209.1,2,    208.8,2,    33.19,2,    30.95,2,     0.01,2,     1.96,2,    2.104,2,    1.037,2,    2.497,3,   2198.3,2,   2295.4,2,   -999.0,9,  -999.00,   7.5888,2,    25.62,    0.435,2,   -999.0,9,   -999.0,9, -999.000,9,-999.0000,9,-999.0000,9,-999.0000,9,-999.0000,9, 27.260, 31.865, 36.365, 40.765, 45.065
33RO20110828,   A10,    64,  1,     12,    012,2,20000101,0000,-29.9998, -21.2635, 4752,   1120.0,   3.5148,  34.3929,2,  34.3935,2,  34.5557,2,    195.9,2,    196.0,2,    43.54,2,    32.12,2,     0.01,2,     2.12,2, -999.000,9, -999.000,9, -999.000,9,   2211.9,2,   2304.4,2,   -999.0,9,  -999.00,   7.5642,2,    25.67, -999.000,9,   -999.0,9,   -999.0,9, -999.000,9,-999.0000,9,-999.0000,9,-999.0000,9,-999.0000,9, 27.360, 31.977, 36.490, 40.902, 45.213
33RO20110828,   A10,    64,  1,     11,    011,2,20000101,0000,-29.9998, -21.2635, 4752,   1320.0,   3.1224,  34.5253,2,  34.5223,2,  34.6851,2,    186.5,2,    185.4,2,    53.59,2,    32.21,2,     0.01,2,     2.19,2,    0.554,2,    0.265,2,    1.012,3,   2227.0,2,   2316.5,2,   -999.0,9,  -999.00,   7.5603,2,    25.65,    0.059,2,   -999.0,9,   -999.0,9, -999.000,9,-999.0000,9,-999.0000,9,-999.0000,9,-999.0000,9, 27.501, 32.128, 36.650, 41.071, 45.392
33RO20110828,   A10,    64,  1,     10,    010,2,20000101,0000,-29.9998, -21.2635, 4752,   1549.5,   2.9483,  34.6517,2,  34.6526,2,  34.8160,2,    191.2,2,    191.6,2,    55.24,2,    29.96,2,     0.01,2,     2.09,2, -999.000,9, -999.000,9, -999.000,9,   2225.5,2,   2323.4,2,   -999.0,9,  -999.00,   7.5816,2,    25.64, -999.000,9,   -999.0,9,   -999.0,9, -999.000,9,-999.0000,9,-999.0000,9,-999.0000,9,-999.0000,9, 27.623, 32.253, 36.780, 41.204, 45.529
33RO20110828,   A10,    64,  1,      9,    009,2,20000101,0000,-29.9998, -21.2635, 4752,   1800.4,   2.7950,  34.7499,2,  34.7504,2,  34.9143,2,    205.6,2,    208.0,2,    52.99,2,    27.42,2,     0.01,2,     1.92,2,    0.067,2,    0.034,2,    0.215,3,   -999.0,9,   2324.9,2,   -999.0,9,  -999.00,   7.6100,2,    25.58,    0.000,2,   -999.0,9,   -999.0,9, -999.000,9,-999.0000,9,-999.0000,9,-999.0000,9,-999.0000,9, 27.716, 32.351, 36.881, 41.309, 45.637
33RO20110828,   A10,    64,  1,      8,    008,2,20000101,0000,-29.9998, -21.2635, 4752,   2049.2,   2.7358,  34.8079,2,  34.8069,2,  34.9710,2,    221.0,2,    220.1,2,    49.18,2,    25.57,2,     0.01,2,     1.78,2, -999.000,9, -999.000,9, -999.000,9,   -999.0,9,   2327.4,2,   -999.0,9,  -999.00,   7.6372,2,    25.63, -999.000,9,   -999.0,9,   -999.0,9, -999.000,9,-999.0000,9,-999.0000,9,-999.0000,9,-999.0000,9, 27.768, 32.405, 36.937, 41.367, 45.696
33RO20110828,   A10,    64,  1,      7,    007,2,20000101,0000,-29.9998, -21.2635, 4752,   2349.5,   2.7513,  34.8615,2,  34.8641,2,  35.0285,2,    234.9,2,    234.7,2,    43.03,2,    23.42,2,     0.01,2,     1.61,2,    0.012,2,    0.007,2,    0.083,3,   2192.6,2,   2322.8,2,   -999.0,9,  -999.00,   7.6705,2,    25.61,    0.018,2,   -999.0,9,   -999.0,9, -999.000,9,-999.0000,9,-999.0000,9,-999.0000,9,-999.0000,9, 27.815, 32.451, 36.983, 41.413, 45.742
33RO20110828,   A10,    64,  1,      6,    006,2,20000101,0000,-29.9998, -21.2635, 4752,   2643.9,   2.7677,  34.8912,2,  34.8914,2,  35.0559,2,    243.8,2,    243.4,2,    38.74,2,    22.05,2,     0.01,2,     1.50,2, -999.000,9, -999.000,9, -999.000,9,   -999.0,9,   2323.5,2,   -999.0,9,  -999.00,   7.6818,2,    25.58, -999.000,9,   -999.0,9,   -999.0,9, -999.000,9,-999.0000,9,-999.0000,9,-999.0000,9,-999.0000,9, 27.838, 32.474, 37.006, 41.436, 45.766
33RO20110828,   A10,    64,  1,      5,    005,2,20000101,0000,-29.9998, -21.2635, 4752,   2949.2,   2.7128,  34.9037,2,  34.9044,2,  35.0690,2,    248.3,2,    248.7,2,    37.28,2,    21.27,2,     0.01,2,     1.45,2,    0.005,2,    0.004,2,    0.081,3,   2181.4,2,   2324.3,2,   -999.0,9,  -999.00,   7.6875,2,    25.55,    0.019,2,   -999.0,9,   -999.0,9, -999.000,9,-999.0000,9,-999.0000,9,-999.0000,9,-999.0000,9, 27.856, 32.494, 37.029, 41.460, 45.792
33RO20110828,   A10,    64,  1,      4,    004,2,20000101,0000,-29.9998, -21.2635, 4752,   3349.1,   2.4531,  34.8881,2,  34.8887,2,  35.0532,2,    248.3,2,    248.4,2,    44.40,2,    22.05,2,     0.01,2,     1.53,2,    0.004,2,    0.004,2,    0.053,3,   -999.0,9,   2329.1,2,   -999.0,9,  -999.00,   7.6958,2,    25.54,    0.054,2,   -999.0,9,   -999.0,9, -999.000,9,-999.0000,9,-999.0000,9,-999.0000,9,-999.0000,9, 27.868, 32.515, 37.057, 41.497, 45.836
33RO20110828,   A10,    64,  1,      3,    003,2,20000101,0000,-29.9998, -21.2635, 4752,   3809.8,   1.8196,  34.8253,2,  34.8252,2,  34.9894,2,    240.0,2,    240.0,2,    68.90,2,    25.18,2,     0.01,2,     1.90,2,    0.012,2,    0.007,2,    0.076,3,   2211.3,2,   2342.0,2,   -999.0,9,  -999.00,   7.6581,2,    25.52,    0.202,2,   -999.0,9,   -999.0,9, -999.000,9,-999.0000,9,-999.0000,9,-999.0000,9,-999.0000,9, 27.869, 32.535, 37.096, 41.554, 45.910
33RO20110828,   A10,    64,  1,      2,    002,2,20000101,0000,-29.9998, -21.2635, 4752,   4149.0,   1.4205,  34.7802,2,  34.7802,2,  34.9442,2,    231.7,2,    231.7,2,    86.46,2,    27.52,2,     0.01,2,     2.17,2,    0.034,2,    0.018,2,    0.074,3,   -999.0,9,   2350.9,2,   -999.0,9,  -999.00,   7.6345,2,    25.53,    0.129,2,   -999.0,9,   -999.0,9, -999.000,9,-999.0000,9,-999.0000,9,-999.0000,9,-999.0000,9, 27.863, 32.541, 37.115, 41.584, 45.952
33RO20110828,   A10,    64,  1,      1,    001,2,20000101,0000,-29.9998, -21.2635, 4752,   4776.2,   1.2972,  34.7589,2,  34.7597,6,  34.9236,6,    228.0,2,    228.2,2,    94.86,2,    28.50,2,     0.01,2,     2.29,2,    0.061,2,    0.031,2,    0.165,3,   2238.9,6,   2355.3,2,   -999.0,9,  -999.00,   7.6171,2,    25.53,    0.132,2,   -999.0,9,   -999.0,9, -999.000,9,-999.0000,9,-999.0000,9,-999.0000,9,-999.0000,9, 27.858, 32.543, 37.121, 41.596, 45.969