BOTTLE,20130715NOAA
EXPOCODE,SECT_ID,STNNBR,CASTNO,SAMPNO,BTLNBR,BTLNBR_FLAG_W,DATE,TIME,LATITUDE,LONGITUDE,DEPTH,CTDPRS,CTDTMP,CTDSAL,CTDSAL_FLAG_W,SALNTY,SALNTY_FLAG_W,SALTREF,SALTREF_FLAG_W,CTDOXY,CTDOXY_FLAG_W,OXYGEN,OXYGEN_FLAG_W,SILCAT,SILCAT_FLAG_W,NITRAT,NITRAT_FLAG_W,NITRIT,NITRIT_FLAG_W,PHSPHT,PHSPHT_FLAG_W,CFC-11,CFC-11_FLAG_W,CFC-12,CFC-12_FLAG_W,CCL4,CCL4_FLAG_W,TCARBN,TCARBN_FLAG_W,ALKALI,ALKALI_FLAG_W,PCO2,PCO2_FLAG_W,PCO2TMP,PH_TOT,PH_TOT_FLAG_W,PH_TMP,SF6,SF6_FLAG_W,DOC,DOC_FLAG_W,TDN,TDN_FLAG_W,TRITUM,TRITUM_FLAG_W,HELIUM,HELIUM_FLAG_W,OXY_18,OXY_18_FLAG_W,BLACKC,BLACKC_FLAG_W,PIGMENTS,PIGMENTS_FLAG_W,SIGMA-THETA,SIGMA-1,SIGMA-2,SIGMA-3,SIGMA-4
,,,,,,,,,,,METERS,DBARS,ITS-90,PSS-78,,PSS-78,,G/KG,,UMOL/KG,,UMOL/KG,,UMOL/KG,,UMOL/KG,,UMOL/KG,,UMOL/KG,,PMOL/KG,,PMOL/KG,,PMOL/KG,,UMOL/KG,,UMOL/KG,,UATM@T,,DEG_C,,,DEG_C,FMOL/KG,,UMOL/KG,,UMOL/KG,,TU,,NMOL/KG,,,,,,,,,,,,
33RO20110828,   A10,    60,  1,     24,    024,2,20000101,0000,-30.0168, -18.2363, 4389,      4.0,  17.4720,  35.8376,2,  35.8490,2,  36.0181,2,    240.7,2,    240.1,2,     1.17,2,     0.10,2,     0.01,2,     0.15,2,    2.400,2,    1.447,2,    3.390,3,   2081.6,6,   2338.2,3,   -999.0,9,  -999.00,   7.9051,2,    25.62,    1.449,2,   -999.0,9,   -999.0,9, -999.000,1,-999.0000,1,-999.0000,1,-999.0000,9,-999.0000,1, 26.052, 30.360, 34.572, 38.692, 42.723
33RO20110828,   A10,    60,  1,     23,    023,2,20000101,0000,-30.0168, -18.2363, 4389,     50.6,  17.3452,  35.8335,2,  35.8342,2,  36.0032,2,    241.1,2,    241.1,2,     1.27,2,     0.10,2,     0.01,2,     0.15,2,    2.400,2,    1.446,2,    3.593,3,   2081.9,2,   2335.9,3,   -999.0,9,  -999.00,   7.9284,2,    25.69,    1.488,2,   -999.0,9,   -999.0,9, -999.000,1,-999.0000,1,-999.0000,1,-999.0000,9,-999.0000,1, 26.074, 30.383, 34.598, 38.720, 42.754
33RO20110828,   A10,    60,  1,     22,    022,2,20000101,0000,-30.0168, -18.2363, 4389,    100.1,  16.6553,  35.7338,2,  35.7361,2,  35.9046,2,    238.8,2,    239.1,2,     1.27,2,     0.29,2,     0.13,2,     0.19,2,    2.461,2,    1.477,2,    2.981,3,   2082.4,2,   2333.6,3,   -999.0,9,  -999.00,   7.9015,2,    25.59,    1.425,2,   -999.0,9,   -999.0,9, -999.000,1,-999.0000,1,-999.0000,1,-999.0000,9,-999.0000,1, 26.165, 30.487, 34.714, 38.848, 42.893
33RO20110828,   A10,    60,  1,     21,    021,2,20000101,0000,-30.0168, -18.2363, 4389,    149.4,  15.3023,  35.5286,2,  35.5206,2,  35.6881,2,    223.0,2,    223.9,2,     1.95,2,     4.00,2,     0.03,2,     0.43,2,    2.641,2,    1.564,2,    1.617,3,   2100.5,2,   2319.5,3,   -999.0,9,  -999.00,   7.8616,2,    25.64,    1.438,2,   -999.0,9,   -999.0,9, -999.000,1,-999.0000,1,-999.0000,1,-999.0000,9,-999.0000,1, 26.311, 30.659, 34.910, 39.068, 43.136
33RO20110828,   A10,    60,  1,     20,    020,2,20000101,0000,-30.0168, -18.2363, 4389,    200.3,  14.2663,  35.3754,2,  35.3766,2,  35.5434,2,    221.0,2,    220.8,2,     2.34,2,     6.05,2,     0.02,2,     0.56,2,    2.791,2,    1.633,2,    1.244,3,   2108.4,2,   2314.8,3,   -999.0,9,  -999.00,   7.8348,2,    25.67,    1.399,2,   -999.0,9,   -999.0,9, -999.000,1,-999.0000,1,-999.0000,1,-999.0000,9,-999.0000,1, 26.428, 30.795, 35.066, 39.243, 43.329
33RO20110828,   A10,    60,  1,     19,    019,2,20000101,0000,-30.0168, -18.2363, 4389,    251.4,  13.4965,  35.2762,2,  35.2775,2,  35.4438,2,    220.0,2,    219.7,2,     2.73,2,     7.81,2,     0.01,2,     0.67,2,    2.889,2,    1.674,2,    1.334,3,   2114.5,2,   2303.4,3,   -999.0,9,  -999.00,   7.8187,2,    25.56,    1.361,2,   -999.0,9,   -999.0,9, -999.000,1,-999.0000,1,-999.0000,1,-999.0000,9,-999.0000,9, 26.514, 30.897, 35.183, 39.374, 43.473
33RO20110828,   A10,    60,  1,     18,    018,2,20000101,0000,-30.0168, -18.2363, 4389,    324.2,  12.5098,  35.1587,2,  35.1585,3,  35.3243,3,    220.7,2,    221.1,2,     3.42,2,    10.15,2,     0.01,2,     0.83,2,    3.018,2,    1.720,2,    1.169,3,   2121.5,2,   2298.5,3,   -999.0,9,  -999.00,   7.7979,2,    25.55,    1.339,2,   -999.0,9,   -999.0,9, -999.000,1,-999.0000,1,-999.0000,1,-999.0000,9,-999.0000,9, 26.622, 31.025, 35.330, 39.541, 43.658
33RO20110828,   A10,    60,  1,     17,    017,2,20000101,0000,-30.0168, -18.2363, 4389,    414.7,  11.2804,  34.9857,2,  34.9831,3,  35.1481,3,    217.0,2,    217.0,2,     4.78,2,    13.47,2,     0.01,2,     1.05,2,    3.138,2,    1.750,2,    1.431,3,   2130.6,2,   2293.8,3,   -999.0,9,  -999.00,   7.7664,2,    25.59,    1.219,2,   -999.0,9,   -999.0,9, -999.000,1,-999.0000,1,-999.0000,1,-999.0000,9,-999.0000,9, 26.723, 31.152, 35.483, 39.718, 43.859
33RO20110828,   A10,    60,  1,     16,    016,2,20000101,0000,-30.0168, -18.2363, 4389,    514.2,   9.3680,  34.7266,2,  34.7271,2,  34.8908,2,    214.2,2,    213.4,2,     7.32,2,    18.36,2,     0.01,2,     1.38,2,    3.266,2,    1.759,2,    1.779,3,   2144.5,2,   2281.5,3,   -999.0,9,  -999.00,   7.7098,2,    25.54,    1.152,2,   -999.0,9,   -999.0,9, -999.000,1,-999.0000,1,-999.0000,1,-999.0000,9,-999.0000,9, 26.854, 31.326, 35.698, 39.973, 44.153
33RO20110828,   A10,    60,  1,     15,    015,2,20000101,0000,-30.0168, -18.2363, 4389,    614.6,   7.2846,  34.4866,2,  34.4907,2,  34.6534,2,    216.2,2,    215.2,2,    11.52,2,    23.44,2,     0.01,2,     1.74,2,    3.329,2,    1.738,2,    2.130,3,   2158.5,2,   2260.8,3,   -999.0,9,  -999.00,   7.6597,2,    25.60,    0.925,2,   -999.0,9,   -999.0,9, -999.000,1,-999.0000,1,-999.0000,1,-999.0000,9,-999.0000,9, 26.986, 31.507, 35.927, 40.248, 44.473
33RO20110828,   A10,    60,  1,     14,    014,2,20000101,0000,-30.0168, -18.2363, 4389,    694.6,   6.0240,  34.3647,2,  34.3628,2,  34.5248,2,    223.3,2,    224.4,2,    14.55,2,    25.88,2,     0.01,2,     1.91,2,    3.378,2,    1.735,2,    2.939,3,   2164.3,2,   2260.6,3,   -999.0,9,  -999.00,   7.6404,2,    25.68,    0.911,2,   -999.0,9,   -999.0,9, -999.000,1,-999.0000,1,-999.0000,1,-999.0000,9,-999.0000,9, 27.054, 31.606, 36.057, 40.407, 44.660
33RO20110828,   A10,    60,  1,     13,    013,2,20000101,0000,-30.0168, -18.2363, 4389,    813.3,   4.7645,  34.2812,2,  34.2825,2,  34.4442,2,    229.6,2,    229.9,2,    20.02,2,    28.13,2,     0.01,2,     2.07,2,    3.186,2,    1.602,2,    3.380,3,   2173.0,2,   2271.3,3,   -999.0,9,  -999.00,   7.6193,2,    25.60,    0.742,2,   -999.0,9,   -999.0,9, -999.000,1,-999.0000,1,-999.0000,1,-999.0000,9,-999.0000,9, 27.140, 31.725, 36.207, 40.588, 44.870
33RO20110828,   A10,    60,  1,     12,    012,2,20000101,0000,-30.0168, -18.2363, 4389,    974.3,   3.7278,  34.2892,2,  34.2895,2,  34.4511,2,    221.2,2,    221.2,2,    31.55,2,    30.67,2,     0.01,2,     2.26,2,    2.397,2,    1.179,2,    3.101,3,   2191.1,2,   2280.2,3,   -999.0,9,  -999.00,   7.5991,2,    25.63,    0.540,2,   -999.0,9,   -999.0,9, -999.000,1,-999.0000,1,-999.0000,1,-999.0000,9,-999.0000,9, 27.256, 31.867, 36.375, 40.782, 45.089
33RO20110828,   A10,    60,  1,     11,    011,2,20000101,0000,-30.0168, -18.2363, 4389,   1224.0,   3.2008,  34.4616,2,  34.4627,2,  34.6253,2,    190.2,2,    189.2,2,    50.68,2,    32.62,2,     0.01,2,     2.41,2,    0.846,2,    0.411,2,    1.496,3,   2223.2,2,   2302.1,3,   -999.0,9,  -999.00,   7.5595,2,    25.57,    0.122,2,   -999.0,9,   -999.0,9, -999.000,1,-999.0000,1,-999.0000,1,-999.0000,9,-999.0000,9, 27.446, 32.070, 36.591, 41.010, 45.329
33RO20110828,   A10,    60,  1,     10,    010,2,20000101,0000,-30.0168, -18.2363, 4389,   1473.5,   2.9596,  34.6008,2,  34.6026,2,  34.7658,2,    187.0,2,    188.5,2,    56.24,2,    31.34,2,     0.01,2,     2.32,2,    0.320,2,    0.154,2,    0.745,3,   2229.8,6,   2311.1,3,   -999.0,9,  -999.00,   7.5672,2,    25.62,    0.053,2,   -999.0,9,   -999.0,9, -999.000,1,-999.0000,1,-999.0000,1,-999.0000,9,-999.0000,9, 27.581, 32.212, 36.738, 41.163, 45.487
33RO20110828,   A10,    60,  1,      9,    009,2,20000101,0000,-30.0168, -18.2363, 4389,   1775.6,   2.7619,  34.7419,2,  34.7424,2,  34.9063,2,    204.9,2,    207.6,2,    54.48,2,    28.02,2,     0.01,2,     2.05,2,    0.086,2,    0.043,2,    0.325,3,   2216.2,2,   2318.2,3,   -999.0,9,  -999.00,   7.6090,2,    25.55,    0.023,2,   -999.0,9,   -999.0,9, -999.000,1,-999.0000,1,-999.0000,1,-999.0000,9,-999.0000,9, 27.712, 32.348, 36.879, 41.308, 45.637
33RO20110828,   A10,    60,  1,      8,    008,2,20000101,0000,-30.0168, -18.2363, 4389,   1975.7,   2.6781,  34.7981,2,  34.7986,2,  34.9627,2,    215.5,2,    218.4,2,    51.74,2,    26.07,2,     0.01,2,     1.90,2,    0.041,2,    0.022,2,    0.182,3,   2208.9,2,   2318.6,3,   -999.0,9,  -999.00,   7.6421,2,    25.61,    0.000,2,   -999.0,9,   -999.0,9, -999.000,9,-999.0000,1,-999.0000,9,-999.0000,9,-999.0000,9, 27.766, 32.404, 36.937, 41.369, 45.699
33RO20110828,   A10,    60,  1,      7,    007,2,20000101,0000,-30.0168, -18.2363, 4389,   2267.9,   2.6416,  34.8365,2,  34.8375,6,  35.0018,6,    225.6,2,    230.2,2,    48.32,2,    24.60,2,     0.01,2,     1.78,2,    0.022,2,    0.011,2,    0.170,3,   2201.0,2,   2316.5,3,   -999.0,9,  -999.00,   7.6578,2,    25.51,    0.000,2,   -999.0,9,   -999.0,9, -999.000,1,-999.0000,1,-999.0000,9,-999.0000,9,-999.0000,9, 27.802, 32.441, 36.976, 41.408, 45.740
33RO20110828,   A10,    60,  1,      6,    006,2,20000101,0000,-30.0168, -18.2363, 4389,   2572.1,   2.6483,  34.8643,2,  34.8655,2,  35.0299,2,    234.3,2,    236.7,2,    44.91,2,    23.53,2,     0.01,2,     1.70,2,    0.013,2,    0.008,2,    0.113,3,   2193.7,2,   2316.2,3,   -999.0,9,  -999.00,   7.6694,2,    25.62,    0.000,2,   -999.0,9,   -999.0,9, -999.000,9,-999.0000,1,-999.0000,9,-999.0000,9,-999.0000,9, 27.827, 32.466, 37.002, 41.434, 45.767
33RO20110828,   A10,    60,  1,      5,    005,2,20000101,0000,-30.0168, -18.2363, 4389,   2875.1,   2.5911,  34.8846,2,  34.8846,2,  35.0491,2,    242.0,2,    244.5,2,    42.95,2,    22.36,2,     0.01,2,     1.62,2,    0.007,2,    0.005,2,    0.123,3,   2188.2,2,   2310.5,3,   -999.0,9,  -999.00,   7.6677,2,    25.52,    0.000,2,   -999.0,9,   -999.0,9, -999.000,1,-999.0000,1,-999.0000,9,-999.0000,9,-999.0000,9, 27.849, 32.491, 37.029, 41.464, 45.798
33RO20110828,   A10,    60,  1,      4,    004,2,20000101,0000,-30.0168, -18.2363, 4389,   3274.5,   2.2865,  34.8688,2,  34.8700,2,  35.0345,2,    243.3,2,    244.5,2,    51.55,2,    23.23,2,     0.01,2,     1.68,2,    0.007,2,    0.005,2,    0.118,3,   2194.7,2,   2323.2,3,   -999.0,9,  -999.00,   7.6739,2,    25.56,    0.088,2,   -999.0,9,   -999.0,9, -999.000,9,-999.0000,1,-999.0000,9,-999.0000,9,-999.0000,9, 27.866, 32.517, 37.064, 41.507, 45.850
33RO20110828,   A10,    60,  1,      3,    003,2,20000101,0000,-30.0168, -18.2363, 4389,   3676.4,   1.8955,  34.8310,2,  34.8318,2,  34.9961,2,    239.3,2,    239.8,2,    66.48,2,    24.89,2,     0.01,2,     1.82,2,    0.014,2,    0.010,2,    0.134,3,   2210.4,2,   2329.0,3,   -999.0,9,  -999.00,   7.6703,2,    25.61,    0.162,2,   -999.0,9,   -999.0,9, -999.000,1,-999.0000,1,-999.0000,9,-999.0000,9,-999.0000,9, 27.868, 32.531, 37.090, 41.545, 45.899
33RO20110828,   A10,    60,  1,      2,    002,2,20000101,0000,-30.0168, -18.2363, 4389,   4050.5,   1.6913,  34.8079,2,  34.8089,2,  34.9730,2,    236.3,2,    235.9,2,    75.56,2,    26.16,2,     0.01,2,     1.91,2,    0.020,2,    0.012,2,    0.130,3,   2219.5,2,   2329.1,3,   -999.0,9,  -999.00,   7.6478,2,    25.42,    0.152,2,   -999.0,9,   -999.0,9, -999.000,1,-999.0000,1,-999.0000,9,-999.0000,9,-999.0000,9, 27.867, 32.537, 37.103, 41.565, 45.925
33RO20110828,   A10,    60,  1,      1,    001,2,20000101,0000,-30.0168, -18.2363, 4389,   4408.5,   1.6164,  34.7965,2,  34.7971,2,  34.9612,2,    234.7,2,    234.1,2,    80.15,2,    26.65,2,     0.01,2,     1.96,2,    0.025,2,    0.015,2,    0.142,3,   2224.0,6,   2335.9,3,   -999.0,9,  -999.00,   7.6384,2,    25.51,    0.162,2,   -999.0,9,   -999.0,9, -999.000,1,-999.0000,1,-999.0000,9,-999.0000,9,-999.0000,9, 27.865, 32.539, 37.108, 41.573, 45.936