BOTTLE,20130715NOAA
EXPOCODE,SECT_ID,STNNBR,CASTNO,SAMPNO,BTLNBR,BTLNBR_FLAG_W,DATE,TIME,LATITUDE,LONGITUDE,DEPTH,CTDPRS,CTDTMP,CTDSAL,CTDSAL_FLAG_W,SALNTY,SALNTY_FLAG_W,SALTREF,SALTREF_FLAG_W,CTDOXY,CTDOXY_FLAG_W,OXYGEN,OXYGEN_FLAG_W,SILCAT,SILCAT_FLAG_W,NITRAT,NITRAT_FLAG_W,NITRIT,NITRIT_FLAG_W,PHSPHT,PHSPHT_FLAG_W,CFC-11,CFC-11_FLAG_W,CFC-12,CFC-12_FLAG_W,CCL4,CCL4_FLAG_W,TCARBN,TCARBN_FLAG_W,ALKALI,ALKALI_FLAG_W,PCO2,PCO2_FLAG_W,PCO2TMP,PH_TOT,PH_TOT_FLAG_W,PH_TMP,SF6,SF6_FLAG_W,DOC,DOC_FLAG_W,TDN,TDN_FLAG_W,TRITUM,TRITUM_FLAG_W,HELIUM,HELIUM_FLAG_W,OXY_18,OXY_18_FLAG_W,BLACKC,BLACKC_FLAG_W,PIGMENTS,PIGMENTS_FLAG_W,SIGMA-THETA,SIGMA-1,SIGMA-2,SIGMA-3,SIGMA-4
,,,,,,,,,,,METERS,DBARS,ITS-90,PSS-78,,PSS-78,,G/KG,,UMOL/KG,,UMOL/KG,,UMOL/KG,,UMOL/KG,,UMOL/KG,,UMOL/KG,,PMOL/KG,,PMOL/KG,,PMOL/KG,,UMOL/KG,,UMOL/KG,,UATM@T,,DEG_C,,,DEG_C,FMOL/KG,,UMOL/KG,,UMOL/KG,,TU,,NMOL/KG,,,,,,,,,,,,
33RO20110828,   A10,    97,  1,     24,    024,2,20000101,0000,-30.0000, -39.3837, 4934,      5.0,  18.3982,  36.0163,2,  36.0175,2,  36.1873,2,    236.8,2,    236.7,2,     0.68,2,     0.00,2,     0.00,2,     0.04,2,    2.273,2,    1.383,2,    2.763,3,   2075.6,6,   2358.5,2,   -999.0,9,  -999.00,   7.9423,2,    25.51,    1.421,2,   -999.0,1,   -999.0,1, -999.000,9,-999.0000,9,-999.0000,9,-999.0000,9,-999.0000,1, 25.952, 30.243, 34.440, 38.545, 42.561
33RO20110828,   A10,    97,  1,     22,    022,2,20000101,0000,-30.0000, -39.3837, 4934,     94.3,  17.6737,  35.9442,2,  35.9425,2,  36.1120,2,    232.4,2,    231.8,2,     0.88,2,     0.20,2,     0.05,2,     0.09,2,    2.329,2,    1.411,2,    2.360,3,   2081.9,2,   -999.0,5,   -999.0,9,  -999.00,   7.9427,2,    25.49,    1.417,2,   -999.0,1,   -999.0,1, -999.000,9,-999.0000,9,-999.0000,9,-999.0000,9,-999.0000,1, 26.079, 30.382, 34.591, 38.708, 42.735
33RO20110828,   A10,    97,  1,     23,    023,4,20000101,0000,-30.0000, -39.3837, 4934,     94.9,  17.6734,  35.9440,2,  35.9497,2,  36.1193,2,    232.4,2,    232.6,2,     0.88,2,     0.10,2,     0.04,2,     0.08,2, -999.000,9, -999.000,9, -999.000,9,   2082.7,2,   -999.0,9,   -999.0,9,  -999.00,-999.0000,9,  -999.00, -999.000,9,   -999.0,1,   -999.0,1, -999.000,9,-999.0000,9,-999.0000,9,-999.0000,9,-999.0000,9, 26.084, 30.388, 34.596, 38.713, 42.741
33RO20110828,   A10,    97,  1,     21,    021,2,20000101,0000,-30.0000, -39.3837, 4934,    149.2,  16.6737,  35.7965,2,  35.8041,2,  35.9730,2,    219.2,2,    221.5,2,     1.27,2,     2.24,2,     0.02,2,     0.19,2,    2.432,2,    1.464,2,    1.690,3,   2096.0,2,   2345.7,2,   -999.0,9,  -999.00,   7.8990,2,    25.47,    1.373,2,   -999.0,1,   -999.0,1, -999.000,9,-999.0000,9,-999.0000,9,-999.0000,9,-999.0000,1, 26.215, 30.536, 34.763, 38.896, 42.940
33RO20110828,   A10,    97,  1,     20,    020,2,20000101,0000,-30.0000, -39.3837, 4934,    210.9,  15.1530,  35.5429,2,  35.5443,2,  35.7119,2,    213.1,2,    211.5,2,     2.15,2,     5.66,2,     0.01,2,     0.38,2,    2.664,2,    1.570,2,    0.792,3,   2112.2,2,   2331.1,2,   -999.0,9,  -999.00,   7.8572,2,    25.46,    1.321,2,   -999.0,1,   -999.0,1, -999.000,9,-999.0000,9,-999.0000,9,-999.0000,9,-999.0000,9, 26.365, 30.715, 34.969, 39.130, 43.200
33RO20110828,   A10,    97,  1,     19,    019,2,20000101,0000,-30.0000, -39.3837, 4934,    299.8,  13.8901,  35.3893,2,  35.3903,2,  35.5572,2,    212.6,2,    212.5,2,     2.83,2,     8.20,2,     0.01,2,     0.50,2,    2.821,2,    1.633,2,    0.785,3,   2120.3,2,   2319.4,2,   -999.0,9,  -999.00,   7.8258,2,    25.49,    1.285,2,   -999.0,1,   -999.0,1, -999.000,9,-999.0000,9,-999.0000,9,-999.0000,9,-999.0000,9, 26.521, 30.896, 35.174, 39.357, 43.450
33RO20110828,   A10,    97,  1,     18,    018,2,20000101,0000,-30.0000, -39.3837, 4934,    384.1,  12.4978,  35.1729,2,  35.1776,2,  35.3435,2,    212.5,2,    212.4,2,     3.90,2,    11.22,2,     0.01,2,     0.65,2,    2.984,2,    1.680,2,    0.958,3,   2127.3,2,   2307.9,2,   -999.0,9,  -999.00,   7.8006,2,    25.54,    1.189,2,   -999.0,1,   -999.0,1, -999.000,9,-999.0000,9,-999.0000,9,-999.0000,9,-999.0000,9, 26.641, 31.044, 35.349, 39.560, 43.678
33RO20110828,   A10,    97,  1,     17,    017,2,20000101,0000,-30.0000, -39.3837, 4934,    489.9,  10.6622,  34.9035,2,  34.9035,2,  35.0681,2,    207.8,2,    207.5,2,     6.15,2,    15.81,2,     0.01,2,     0.87,2,    3.093,2,    1.688,2,    1.234,3,   2140.8,2,   2295.2,2,   -999.0,9,  -999.00,   7.7509,2,    25.50,    1.033,2,   -999.0,1,   -999.0,1, -999.000,9,-999.0000,9,-999.0000,9,-999.0000,9,-999.0000,9, 26.772, 31.215, 35.558, 39.806, 43.960
33RO20110828,   A10,    97,  1,     16,    016,2,20000101,0000,-30.0000, -39.3837, 4934,    680.2,   6.8549,  34.4535,2,  34.4598,2,  34.6223,2,    216.4,2,    216.9,2,    12.98,2,    24.41,2,     0.01,2,     1.35,2,    3.250,2,    1.670,2,    2.526,3,   2161.8,2,   2283.2,2,   -999.0,9,  -999.00,   7.6559,2,    25.49,    0.862,2,   -999.0,1,   -999.0,1, -999.000,9,-999.0000,9,-999.0000,9,-999.0000,9,-999.0000,9, 27.022, 31.553, 35.984, 40.315, 44.549
33RO20110828,   A10,    97,  1,     15,    015,2,20000101,0000,-30.0000, -39.3837, 4934,    851.0,   4.8463,  34.2994,2,  34.3019,2,  34.4636,2,    225.7,2,    226.8,2,    20.89,2,    28.41,2,     0.01,2,     1.62,2,    2.995,2,    1.498,2,    3.406,3,   2175.7,2,   2282.8,2,   -999.0,9,  -999.00,   7.6206,2,    25.50,    0.733,2,   -999.0,1,   -999.0,1, -999.000,9,-999.0000,9,-999.0000,9,-999.0000,9,-999.0000,9, 27.147, 31.729, 36.209, 40.588, 44.869
33RO20110828,   A10,    97,  1,     14,    014,2,20000101,0000,-30.0000, -39.3837, 4934,    984.1,   4.0081,  34.3038,2,  34.3076,2,  34.4694,2,    218.8,2,    218.2,2,    30.27,2,    30.46,2,     0.01,2,     1.82,2,    2.316,2,    1.137,2,    3.128,3,   2191.1,2,   2290.1,2,   -999.0,9,  -999.00,   7.5971,2,    25.50,    0.472,2,   -999.0,1,   -999.0,1, -999.000,9,-999.0000,9,-999.0000,9,-999.0000,9,-999.0000,9, 27.242, 31.846, 36.347, 40.747, 45.047
33RO20110828,   A10,    97,  1,     13,    013,2,20000101,0000,-30.0000, -39.3837, 4934,   1130.0,   3.4871,  34.3566,2,  34.3580,2,  34.5200,2,    205.1,2,    204.5,2,    40.42,2,    32.02,2,     0.01,2,     1.99,2,    1.551,2,    0.752,2,    2.480,3,   2207.9,2,   2295.8,2,   -999.0,9,  -999.00,   7.5867,2,    25.52,    0.258,2,   -999.0,1,   -999.0,1, -999.000,9,-999.0000,9,-999.0000,9,-999.0000,9,-999.0000,9, 27.335, 31.952, 36.467, 40.879, 45.192
33RO20110828,   A10,    97,  1,     12,    012,2,20000101,0000,-30.0000, -39.3837, 4934,   1299.6,   3.1393,  34.4537,2,  34.4548,2,  34.6172,2,    192.3,2,    192.4,2,    50.18,2,    32.61,2,     0.00,2,     2.11,2,    0.835,2,    0.402,2,    1.668,3,   2223.3,2,   2306.0,2,   -999.0,9,  -999.00,   7.5552,2,    25.50,    0.140,2,   -999.0,1,   -999.0,1, -999.000,9,-999.0000,9,-999.0000,9,-999.0000,9,-999.0000,9, 27.446, 32.072, 36.595, 41.016, 45.336
33RO20110828,   A10,    97,  1,     11,    011,2,20000101,0000,-30.0000, -39.3837, 4934,   1600.9,   2.9091,  34.6392,2,  34.6411,2,  34.8045,2,    191.8,2,    192.6,2,    55.74,2,    30.46,2,     0.00,2,     2.06,2,    0.204,2,    0.098,2,    0.683,3,   2227.4,6,   2322.6,2,   -999.0,9,  -999.00,   7.5836,2,    25.54,    0.035,2,   -999.0,1,   -999.0,1, -999.000,9,-999.0000,9,-999.0000,9,-999.0000,9,-999.0000,9, 27.617, 32.249, 36.777, 41.203, 45.528
33RO20110828,   A10,    97,  1,     10,    010,2,20000101,0000,-30.0000, -39.3837, 4934,   1898.9,   2.8182,  34.7563,2,  34.7597,2,  34.9236,2,    208.2,2,    208.9,2,    52.22,2,    27.52,2,     0.00,2,     1.87,2,    0.059,2,    0.030,2,    0.375,3,   2215.4,2,   2325.0,2,   -999.0,9,  -999.00,   7.6223,2,    25.45,    0.000,2,   -999.0,1,   -999.0,1, -999.000,9,-999.0000,9,-999.0000,9,-999.0000,9,-999.0000,9, 27.722, 32.356, 36.886, 41.314, 45.642
33RO20110828,   A10,    97,  1,      9,    009,2,20000101,0000,-30.0000, -39.3837, 4934,   2148.3,   2.8458,  34.8285,2,  34.8313,2,  34.9956,2,    225.1,2,    224.5,2,    45.38,2,    24.89,2,     0.00,2,     1.68,2,    0.034,2,    0.018,2,    0.257,3,   2201.2,2,   2324.8,2,   -999.0,9,  -999.00,   7.6505,2,    25.41,    0.000,2,   -999.0,1,   -999.0,1, -999.000,9,-999.0000,9,-999.0000,9,-999.0000,9,-999.0000,9, 27.779, 32.413, 36.942, 41.369, 45.696
33RO20110828,   A10,    97,  1,      8,    008,2,20000101,0000,-30.0000, -39.3837, 4934,   2550.2,   2.9539,  34.9057,2,  34.9088,2,  35.0735,2,    244.8,2,    244.0,2,    33.87,2,    21.57,2,     0.01,2,     1.38,2,    0.063,2,    0.034,2,    0.302,3,   2182.3,2,   2315.7,2,   -999.0,9,  -999.00,   7.6842,2,    25.48,    0.000,2,   -999.0,1,   -999.0,1, -999.000,9,-999.0000,9,-999.0000,9,-999.0000,9,-999.0000,9, 27.835, 32.466, 36.993, 41.418, 45.742
33RO20110828,   A10,    97,  1,      7,    007,2,20000101,0000,-30.0000, -39.3837, 4934,   2829.1,   2.8626,  34.9193,2,  34.9222,2,  35.0869,2,    250.1,2,    250.3,2,    32.79,2,    20.69,2,     0.00,2,     1.34,2,    0.072,2,    0.037,2,    0.298,3,   2179.4,2,   2317.1,2,   -999.0,9,  -999.00,   7.6965,2,    25.48,    0.000,2,   -999.0,1,   -999.0,1, -999.000,9,-999.0000,9,-999.0000,9,-999.0000,9,-999.0000,9, 27.856, 32.490, 37.020, 41.448, 45.775
33RO20110828,   A10,    97,  1,      6,    006,2,20000101,0000,-30.0000, -39.3837, 4934,   3150.0,   2.6758,  34.9112,2,  34.9123,6,  35.0770,6,    251.7,2,    252.8,2,    35.82,2,    20.89,2,     0.00,2,     1.38,2,    0.060,2,    0.032,2,    0.280,3,   2180.6,2,   2320.9,2,   -999.0,9,  -999.00,   7.7021,2,    25.57,    0.000,2,   -999.0,1,   -999.0,1, -999.000,9,-999.0000,9,-999.0000,9,-999.0000,9,-999.0000,9, 27.866, 32.506, 37.042, 41.475, 45.808
33RO20110828,   A10,    97,  1,      5,    005,2,20000101,0000,-30.0000, -39.3837, 4934,   3450.7,   2.4286,  34.8906,2,  34.8937,2,  35.0583,2,    250.4,2,    250.8,2,    43.14,2,    21.67,2,     0.00,2,     1.49,2,    0.043,2,    0.026,2,    0.234,3,   2186.9,2,   2327.2,2,   -999.0,9,  -999.00,   7.6976,2,    25.55,    0.048,2,   -999.0,1,   -999.0,1, -999.000,9,-999.0000,9,-999.0000,9,-999.0000,9,-999.0000,9, 27.875, 32.523, 37.066, 41.506, 45.846
33RO20110828,   A10,    97,  1,      4,    004,2,20000101,0000,-30.0000, -39.3837, 4934,   3701.1,   1.9484,  34.8428,2,  34.8469,2,  35.0113,2,    243.5,2,    242.9,2,    61.39,2,    24.20,2,     0.00,2,     1.79,2,    0.028,2,    0.017,2,    0.159,3,   2204.1,2,   2337.2,2,   -999.0,9,  -999.00,   7.6760,2,    25.54,    0.109,2,   -999.0,1,   -999.0,1, -999.000,9,-999.0000,9,-999.0000,9,-999.0000,9,-999.0000,9, 27.876, 32.538, 37.095, 41.549, 45.902
33RO20110828,   A10,    97,  1,      3,    003,2,20000101,0000,-30.0000, -39.3837, 4934,   4040.8,   0.8964,  34.7167,2,  34.7178,2,  34.8815,2,    218.8,2,    218.0,2,   110.79,2,    30.94,2,     0.01,2,     2.62,2,    0.218,2,    0.105,2,    0.411,3,   2252.9,2,   2350.7,2,   -999.0,9,  -999.00,   7.5943,2,    25.50,    0.074,2,   -999.0,1,   -999.0,1, -999.000,9,-999.0000,9,-999.0000,9,-999.0000,9,-999.0000,9, 27.845, 32.538, 37.126, 41.610, 45.991
33RO20110828,   A10,    97,  1,      2,    002,2,20000101,0000,-30.0000, -39.3837, 4934,   4451.0,   0.3084,  34.6748,2,  34.6755,2,  34.8390,2,    220.1,2,    221.3,2,   127.29,2,    32.70,2,     0.01,2,     2.88,2,    0.337,2,    0.161,2,    0.615,3,   2264.7,2,   2354.1,2,   -999.0,9,  -999.00,   7.5812,2,    25.45,    0.045,2,   -999.0,1,   -999.0,1, -999.000,9,-999.0000,9,-999.0000,9,-999.0000,9,-999.0000,9, 27.846, 32.557, 37.163, 41.664, 46.063
33RO20110828,   A10,    97,  1,      1,    001,2,20000101,0000,-30.0000, -39.3837, 4934,   4937.8,   0.2931,  34.6710,2,  34.6723,2,  34.8358,2,    221.2,2,    220.9,2,   129.34,2,    32.80,2,     0.01,2,     2.90,2,    0.383,2,    0.183,2,    0.638,3,   2267.4,6,   2364.8,2,   -999.0,9,  -999.00,-999.0000,5,  -999.00,    0.060,2,   -999.0,1,   -999.0,1, -999.000,9,-999.0000,9,-999.0000,9,-999.0000,9,-999.0000,9, 27.847, 32.560, 37.168, 41.671, 46.072