BOTTLE,20130715NOAA
EXPOCODE,SECT_ID,STNNBR,CASTNO,SAMPNO,BTLNBR,BTLNBR_FLAG_W,DATE,TIME,LATITUDE,LONGITUDE,DEPTH,CTDPRS,CTDTMP,CTDSAL,CTDSAL_FLAG_W,SALNTY,SALNTY_FLAG_W,SALTREF,SALTREF_FLAG_W,CTDOXY,CTDOXY_FLAG_W,OXYGEN,OXYGEN_FLAG_W,SILCAT,SILCAT_FLAG_W,NITRAT,NITRAT_FLAG_W,NITRIT,NITRIT_FLAG_W,PHSPHT,PHSPHT_FLAG_W,CFC-11,CFC-11_FLAG_W,CFC-12,CFC-12_FLAG_W,CCL4,CCL4_FLAG_W,TCARBN,TCARBN_FLAG_W,ALKALI,ALKALI_FLAG_W,PCO2,PCO2_FLAG_W,PCO2TMP,PH_TOT,PH_TOT_FLAG_W,PH_TMP,SF6,SF6_FLAG_W,DOC,DOC_FLAG_W,TDN,TDN_FLAG_W,TRITUM,TRITUM_FLAG_W,HELIUM,HELIUM_FLAG_W,OXY_18,OXY_18_FLAG_W,BLACKC,BLACKC_FLAG_W,PIGMENTS,PIGMENTS_FLAG_W,SIGMA-THETA,SIGMA-1,SIGMA-2,SIGMA-3,SIGMA-4
,,,,,,,,,,,METERS,DBARS,ITS-90,PSS-78,,PSS-78,,G/KG,,UMOL/KG,,UMOL/KG,,UMOL/KG,,UMOL/KG,,UMOL/KG,,UMOL/KG,,PMOL/KG,,PMOL/KG,,PMOL/KG,,UMOL/KG,,UMOL/KG,,UATM@T,,DEG_C,,,DEG_C,FMOL/KG,,UMOL/KG,,UMOL/KG,,TU,,NMOL/KG,,,,,,,,,,,,
33RO20110828,   A10,    84,  1,     24,    024,2,20000101,0000,-29.9996, -33.6174, 2953,      7.1,  18.6474,  36.0925,2,  36.0929,2,  36.2630,2,    233.2,2,    233.1,2,     0.97,2,     0.00,2,     0.01,2,     0.06,2,    2.234,2,    1.363,2,    3.822,3,   2078.2,6,   2359.3,2,   -999.0,9,  -999.00,   7.9560,2,    25.53,    1.391,2,   -999.0,9,   -999.0,9, -999.000,9,-999.0000,9,-999.0000,9,-999.0000,9,-999.0000,1, 25.947, 30.233, 34.426, 38.526, 42.539
33RO20110828,   A10,    84,  1,     23,    023,2,20000101,0000,-29.9996, -33.6174, 2953,     60.4,  18.6559,  36.0928,2,  36.0933,2,  36.2635,2,    233.4,2,    232.9,2,     0.97,2,     0.00,2,     0.01,2,     0.06,2, -999.000,9, -999.000,9, -999.000,9,   2078.9,2,   2364.1,2,   -999.0,9,  -999.00,   7.9532,2,    25.50, -999.000,9,   -999.0,9,   -999.0,9, -999.000,9,-999.0000,9,-999.0000,9,-999.0000,9,-999.0000,1, 25.948, 30.234, 34.426, 38.527, 42.539
33RO20110828,   A10,    84,  1,     22,    022,2,20000101,0000,-29.9996, -33.6174, 2953,    110.9,  18.1273,  36.0258,2,  36.0268,2,  36.1967,2,    229.1,2,    228.9,2,     0.97,2,     0.29,2,     0.13,2,     0.09,2,    2.285,2,    1.384,2,    2.980,3,   -999.0,9,   2358.8,2,   -999.0,9,  -999.00,   7.9494,2,    25.53,    1.398,2,   -999.0,9,   -999.0,9, -999.000,9,-999.0000,9,-999.0000,9,-999.0000,9,-999.0000,1, 26.032, 30.327, 34.528, 38.638, 42.658
33RO20110828,   A10,    84,  1,     21,    021,2,20000101,0000,-29.9996, -33.6174, 2953,    139.4,  17.3613,  35.8726,2,  35.8744,2,  36.0436,2,    221.9,2,    220.7,2,     1.17,2,     1.37,2,     0.07,2,     0.17,2, -999.000,9, -999.000,9, -999.000,9,   2093.4,2,   2349.6,2,   -999.0,9,  -999.00,   7.9269,2,    25.49, -999.000,9,   -999.0,9,   -999.0,9, -999.000,9,-999.0000,9,-999.0000,9,-999.0000,9,-999.0000,1, 26.104, 30.414, 34.628, 38.750, 42.783
33RO20110828,   A10,    84,  1,     20,    020,2,20000101,0000,-29.9996, -33.6174, 2953,    190.2,  16.1961,  35.6685,2,  35.6683,2,  35.8365,2,    212.4,2,    214.8,2,     1.76,2,     3.41,2,     0.02,2,     0.30,2,    2.538,2,    1.508,2,    1.045,3,   -999.0,9,   2337.3,2,   -999.0,9,  -999.00,   7.6657,3,    25.45,    1.403,2,   -999.0,9,   -999.0,9, -999.000,9,-999.0000,9,-999.0000,9,-999.0000,9,-999.0000,1, 26.224, 30.554, 34.789, 38.932, 42.984
33RO20110828,   A10,    84,  1,     19,    019,2,20000101,0000,-29.9996, -33.6174, 2953,    268.1,  14.7424,  35.4500,2,  35.4475,2,  35.6147,2,    212.5,2,    211.6,2,     2.34,2,     6.24,2,     0.01,2,     0.46,2, -999.000,9, -999.000,9, -999.000,9,   2111.5,2,   2324.4,2,   -999.0,9,  -999.00,   7.8412,2,    25.50, -999.000,9,   -999.0,9,   -999.0,9, -999.000,9,-999.0000,9,-999.0000,9,-999.0000,9,-999.0000,9, 26.382, 30.741, 35.003, 39.171, 43.249
33RO20110828,   A10,    84,  1,     18,    018,2,20000101,0000,-29.9996, -33.6174, 2953,    349.5,  13.4095,  35.2710,2,  35.2737,2,  35.4400,2,    213.5,2,    216.8,2,     2.93,2,     8.49,2,     0.01,2,     0.56,2,    2.910,2,    1.669,2,    1.142,3,   -999.0,9,   2316.8,2,   -999.0,9,  -999.00,   7.8197,2,    25.56,    1.361,2,   -999.0,9,   -999.0,9, -999.000,9,-999.0000,9,-999.0000,9,-999.0000,9,-999.0000,9, 26.532, 30.917, 35.204, 39.397, 43.499
33RO20110828,   A10,    84,  1,     17,    017,2,20000101,0000,-29.9996, -33.6174, 2953,    431.7,  12.5370,  35.1567,2,  35.1578,2,  35.3236,2,    215.9,2,    214.5,2,     3.80,2,    10.93,2,     0.01,2,     0.70,2, -999.000,9, -999.000,9, -999.000,9,   2124.3,2,   2311.8,2,   -999.0,9,  -999.00,   7.7841,2,    25.52, -999.000,9,   -999.0,9,   -999.0,9, -999.000,9,-999.0000,9,-999.0000,9,-999.0000,9,-999.0000,9, 26.619, 31.022, 35.327, 39.537, 43.654
33RO20110828,   A10,    84,  1,     16,    016,2,20000101,0000,-29.9996, -33.6174, 2953,    534.2,  10.6288,  34.8885,2,  34.8933,2,  35.0579,2,    210.1,2,    208.9,2,     5.95,2,    15.81,2,     0.01,2,     0.97,2,    3.143,2,    1.703,2,    1.376,3,   -999.0,9,   2299.2,2,   -999.0,9,  -999.00,   7.7423,2,    25.56,    1.067,2,   -999.0,9,   -999.0,9, -999.000,9,-999.0000,9,-999.0000,9,-999.0000,9,-999.0000,9, 26.771, 31.214, 35.559, 39.808, 43.962
33RO20110828,   A10,    84,  1,     15,    015,2,20000101,0000,-29.9996, -33.6174, 2953,    619.0,   8.9112,  34.6701,2,  34.6712,2,  34.8347,2,    205.0,2,    204.4,2,     9.17,2,    20.40,2,     0.01,2,     1.24,2, -999.000,9, -999.000,9, -999.000,9,   -999.0,9,   2289.1,2,   -999.0,9,  -999.00,   7.6930,2,    25.50, -999.000,9,   -999.0,9,   -999.0,9, -999.000,9,-999.0000,9,-999.0000,9,-999.0000,9,-999.0000,9, 26.886, 31.368, 35.751, 40.036, 44.226
33RO20110828,   A10,    84,  1,     14,    014,2,20000101,0000,-29.9996, -33.6174, 2953,    732.1,   6.6634,  34.4379,2,  34.4377,2,  34.6000,2,    211.8,2,    210.6,2,    14.15,2,    25.38,2,     0.01,2,     1.54,2,    3.153,2,    1.613,2,    2.537,3,   2167.5,2,   2282.7,2,   -999.0,9,  -999.00,   7.6412,2,    25.61,    0.787,2,   -999.0,9,   -999.0,9, -999.000,9,-999.0000,9,-999.0000,9,-999.0000,9,-999.0000,9, 27.031, 31.567, 36.002, 40.338, 44.577
33RO20110828,   A10,    84,  1,     13,    013,2,20000101,0000,-29.9996, -33.6174, 2953,    815.7,   5.4660,  34.3454,2,  34.3456,2,  34.5076,2,    216.9,2,    217.0,2,    18.55,2,    27.53,2,     0.01,2,     1.69,2, -999.000,9, -999.000,9, -999.000,9,   -999.0,9,   2283.2,2,   -999.0,9,  -999.00,   7.6242,2,    25.56, -999.000,9,   -999.0,9,   -999.0,9, -999.000,9,-999.0000,9,-999.0000,9,-999.0000,9,-999.0000,9, 27.110, 31.676, 36.141, 40.505, 44.771
33RO20110828,   A10,    84,  1,     12,    012,2,20000101,0000,-29.9996, -33.6174, 2953,    935.3,   4.4625,  34.3137,2,  34.3141,2,  34.4759,2,    214.6,2,    215.9,2,    26.07,2,    29.78,2,     0.01,2,     1.86,2, -999.000,9, -999.000,9, -999.000,9,   -999.0,9,   2287.2,2,   -999.0,9,  -999.00,   7.6053,2,    25.53, -999.000,9,   -999.0,9,   -999.0,9, -999.000,9,-999.0000,9,-999.0000,9,-999.0000,9,-999.0000,9, 27.199, 31.792, 36.281, 40.669, 44.959
33RO20110828,   A10,    84,  1,     11,    011,2,20000101,0000,-29.9996, -33.6174, 2953,   1084.6,   3.7572,  34.3593,2,  34.3605,2,  34.5225,2,    201.0,2,    202.0,2,    37.58,2,    31.53,2,     0.01,2,     2.05,2,    1.632,2,    0.794,2,    2.057,3,   2205.2,2,   2297.7,2,   -999.0,9,  -999.00,   7.5807,2,    25.56,    0.287,2,   -999.0,9,   -999.0,9, -999.000,9,-999.0000,9,-999.0000,9,-999.0000,9,-999.0000,9, 27.310, 31.921, 36.428, 40.833, 45.139
33RO20110828,   A10,    84,  1,     10,    010,2,20000101,0000,-29.9996, -33.6174, 2953,   1176.7,   3.4397,  34.4235,2,  34.4235,6,  34.5858,6,    192.5,2,    192.5,2,    45.10,2,    32.31,2,     0.01,2,     2.15,2, -999.000,9, -999.000,9, -999.000,9,   -999.0,9,   2305.5,2,   -999.0,9,  -999.00,   7.5656,2,    25.56, -999.000,9,   -999.0,9,   -999.0,9, -999.000,9,-999.0000,9,-999.0000,9,-999.0000,9,-999.0000,9, 27.392, 32.010, 36.525, 40.938, 45.252
33RO20110828,   A10,    84,  1,      9,    009,2,20000101,0000,-29.9996, -33.6174, 2953,   1345.8,   3.1277,  34.5160,2,  34.5167,2,  34.6794,2,    187.0,2,    187.6,2,    52.22,2,    31.82,2,     0.01,2,     2.18,2,    0.552,2,    0.266,2,    0.943,3,   2224.9,2,   2315.4,2,   -999.0,9,  -999.00,   7.5585,2,    25.59,    0.102,2,   -999.0,9,   -999.0,9, -999.000,9,-999.0000,9,-999.0000,9,-999.0000,9,-999.0000,9, 27.496, 32.123, 36.645, 41.066, 45.387
33RO20110828,   A10,    84,  1,      8,    008,2,20000101,0000,-29.9996, -33.6174, 2953,   1491.8,   2.9789,  34.6012,2,  34.6013,2,  34.7645,2,    189.5,2,    188.7,2,    54.56,2,    30.84,2,     0.01,2,     2.13,2, -999.000,9, -999.000,9, -999.000,9,   -999.0,9,   2320.1,2,   -999.0,9,  -999.00,   7.5693,2,    25.53, -999.000,9,   -999.0,9,   -999.0,9, -999.000,9,-999.0000,9,-999.0000,9,-999.0000,9,-999.0000,9, 27.578, 32.209, 36.735, 41.159, 45.483
33RO20110828,   A10,    84,  1,      7,    007,2,20000101,0000,-29.9996, -33.6174, 2953,   1691.8,   2.8594,  34.6944,2,  34.6958,2,  34.8594,2,    198.5,2,    198.4,2,    54.75,2,    29.18,2,     0.00,2,     2.02,2,    0.110,2,    0.055,2,    0.313,3,   2220.9,2,   2324.3,2,   -999.0,9,  -999.00,   7.5924,2,    25.62,    0.016,2,   -999.0,9,   -999.0,9, -999.000,9,-999.0000,9,-999.0000,9,-999.0000,9,-999.0000,9, 27.666, 32.299, 36.828, 41.255, 45.581
33RO20110828,   A10,    84,  1,      6,    006,2,20000101,0000,-29.9996, -33.6174, 2953,   1951.4,   2.7942,  34.7871,2,  34.7874,2,  34.9515,2,    214.5,2,    214.9,2,    49.87,2,    26.15,2,     0.00,2,     1.82,2, -999.000,9, -999.000,9, -999.000,9,   -999.0,9,   2324.2,2,   -999.0,9,  -999.00,   7.6377,2,    25.57, -999.000,9,   -999.0,9,   -999.0,9, -999.000,9,-999.0000,9,-999.0000,9,-999.0000,9,-999.0000,9, 27.747, 32.382, 36.912, 41.340, 45.668
33RO20110828,   A10,    84,  1,      5,    005,2,20000101,0000,-29.9996, -33.6174, 2953,   2194.3,   2.7855,  34.8351,2,  34.8358,2,  35.0001,2,    226.9,2,    227.4,2,    45.28,2,    24.49,2,     0.01,2,     1.68,2, -999.000,9, -999.000,9, -999.000,9,   -999.0,9,   2324.2,2,   -999.0,9,  -999.00,   7.6531,2,    25.56, -999.000,9,   -999.0,9,   -999.0,9, -999.000,9,-999.0000,9,-999.0000,9,-999.0000,9,-999.0000,9, 27.788, 32.423, 36.954, 41.383, 45.711
33RO20110828,   A10,    84,  1,      4,    004,2,20000101,0000,-29.9996, -33.6174, 2953,   2332.7,   2.7942,  34.8594,2,  34.8608,2,  35.0252,2,    233.9,2,    233.5,2,    41.57,2,    23.22,2,     0.01,2,     1.59,2,    0.016,2,    0.009,2,    0.109,3,   2191.6,2,   2323.7,2,   -999.0,9,  -999.00,   7.6710,2,    25.54,    0.000,2,   -999.0,9,   -999.0,9, -999.000,9,-999.0000,9,-999.0000,9,-999.0000,9,-999.0000,9, 27.809, 32.444, 36.975, 41.403, 45.731
33RO20110828,   A10,    84,  1,      3,    003,2,20000101,0000,-29.9996, -33.6174, 2953,   2533.8,   2.7816,  34.8807,2,  34.8821,2,  35.0466,2,    240.4,2,    240.6,2,    39.23,2,    22.54,2,     0.00,2,     1.53,2, -999.000,9, -999.000,9, -999.000,9,   -999.0,9,   2323.6,2,   -999.0,9,  -999.00,   7.6750,2,    25.56, -999.000,9,   -999.0,9,   -999.0,9, -999.000,9,-999.0000,9,-999.0000,9,-999.0000,9,-999.0000,9, 27.829, 32.464, 36.996, 41.425, 45.754
33RO20110828,   A10,    84,  1,      2,    002,2,20000101,0000,-29.9996, -33.6174, 2953,   2750.2,   2.7461,  34.8930,2,  34.8947,2,  35.0592,2,    244.0,2,    244.1,2,    38.45,2,    22.05,2,     0.01,2,     1.48,2, -999.000,9, -999.000,9, -999.000,9,   -999.0,9,   2324.2,2,   -999.0,9,  -999.00,   7.6778,2,    25.54, -999.000,9,   -999.0,9,   -999.0,9, -999.000,9,-999.0000,9,-999.0000,9,-999.0000,9,-999.0000,9, 27.844, 32.481, 37.014, 41.444, 45.774
33RO20110828,   A10,    84,  1,      1,    001,2,20000101,0000,-29.9996, -33.6174, 2953,   2968.8,   2.7027,  34.8948,2,  34.8983,2,  35.0628,2,    244.4,2,    244.5,2,    38.93,2,    21.66,2,     0.01,2,     1.47,2,    0.022,2,    0.014,2,    0.146,3,   2184.3,2,   2325.5,2,   -999.0,9,  -999.00,   7.6990,2,    25.55,    0.000,2,   -999.0,9,   -999.0,9, -999.000,9,-999.0000,9,-999.0000,9,-999.0000,9,-999.0000,9, 27.852, 32.491, 37.025, 41.458, 45.789