BOTTLE,20130715NOAA
EXPOCODE,SECT_ID,STNNBR,CASTNO,SAMPNO,BTLNBR,BTLNBR_FLAG_W,DATE,TIME,LATITUDE,LONGITUDE,DEPTH,CTDPRS,CTDTMP,CTDSAL,CTDSAL_FLAG_W,SALNTY,SALNTY_FLAG_W,SALTREF,SALTREF_FLAG_W,CTDOXY,CTDOXY_FLAG_W,OXYGEN,OXYGEN_FLAG_W,SILCAT,SILCAT_FLAG_W,NITRAT,NITRAT_FLAG_W,NITRIT,NITRIT_FLAG_W,PHSPHT,PHSPHT_FLAG_W,CFC-11,CFC-11_FLAG_W,CFC-12,CFC-12_FLAG_W,CCL4,CCL4_FLAG_W,TCARBN,TCARBN_FLAG_W,ALKALI,ALKALI_FLAG_W,PCO2,PCO2_FLAG_W,PCO2TMP,PH_TOT,PH_TOT_FLAG_W,PH_TMP,SF6,SF6_FLAG_W,DOC,DOC_FLAG_W,TDN,TDN_FLAG_W,TRITUM,TRITUM_FLAG_W,HELIUM,HELIUM_FLAG_W,OXY_18,OXY_18_FLAG_W,BLACKC,BLACKC_FLAG_W,PIGMENTS,PIGMENTS_FLAG_W,SIGMA-THETA,SIGMA-1,SIGMA-2,SIGMA-3,SIGMA-4
,,,,,,,,,,,METERS,DBARS,ITS-90,PSS-78,,PSS-78,,G/KG,,UMOL/KG,,UMOL/KG,,UMOL/KG,,UMOL/KG,,UMOL/KG,,UMOL/KG,,PMOL/KG,,PMOL/KG,,PMOL/KG,,UMOL/KG,,UMOL/KG,,UATM@T,,DEG_C,,,DEG_C,FMOL/KG,,UMOL/KG,,UMOL/KG,,TU,,NMOL/KG,,,,,,,,,,,,
33RO20110828,   A10,    44,  1,     24,    024,2,20000101,0000,-30.0180,  -6.8086, 4058,      4.6,  18.3524,  35.8834,2,  35.8821,2,  36.0513,2,    238.2,2,    237.6,2,     1.37,2,     0.00,2,     0.00,2,     0.17,2,    2.323,2,    1.424,2,    3.545,3,   2081.6,6,   2353.2,2,   -999.0,9,  -999.00,   7.9242,2,    25.27,    1.451,2,   -999.0,9,   -999.0,9, -999.000,9,-999.0000,9,-999.0000,9,-999.0000,9,-999.0000,1, 25.860, 30.153, 34.351, 38.457, 42.475
33RO20110828,   A10,    44,  1,     23,    023,2,20000101,0000,-30.0180,  -6.8086, 4058,     43.9,  17.5989,  35.8470,2,  35.8466,2,  36.0156,2,    243.3,2,    243.6,2,     1.37,2,     0.10,2,     0.00,2,     0.17,2,    2.393,2,    1.442,2,    3.731,3,   -999.0,9,   2348.7,2,   -999.0,9,  -999.00,   7.9100,2,    25.36,    1.459,2,   -999.0,9,   -999.0,9, -999.000,9,-999.0000,9,-999.0000,9,-999.0000,9,-999.0000,1, 26.021, 30.326, 34.537, 38.655, 42.685
33RO20110828,   A10,    44,  1,     22,    022,9,20000101,0000,-30.0180,  -6.8086, 4058,     94.8,  16.9804,  35.7894,2,-999.0000,9,-999.0000,9,   -999.0,9,   -999.0,9,  -999.00,9,  -999.00,9,  -999.00,9,  -999.00,9, -999.000,9, -999.000,9, -999.000,9,   -999.0,9,   -999.0,9,   -999.0,9,  -999.00,-999.0000,9,  -999.00, -999.000,9,   -999.0,9,   -999.0,9, -999.000,9,-999.0000,9,-999.0000,9,-999.0000,9,-999.0000,9, 26.129, 30.445, 34.666, 38.795, 42.834
33RO20110828,   A10,    44,  1,     21,    021,2,20000101,0000,-30.0180,  -6.8086, 4058,    144.4,  16.8834,  35.7925,2,  35.7927,2,  35.9614,2,    231.5,2,    232.2,2,     1.85,2,     0.78,2,     0.53,2,     0.27,2, -999.000,9, -999.000,9, -999.000,9,   2086.2,2,   2346.2,2,   -999.0,9,  -999.00,   7.9090,2,    25.08, -999.000,9,   -999.0,9,   -999.0,9, -999.000,9,-999.0000,9,-999.0000,9,-999.0000,9,-999.0000,1, 26.156, 30.474, 34.697, 38.827, 42.868
33RO20110828,   A10,    44,  1,     20,    020,2,20000101,0000,-30.0180,  -6.8086, 4058,    193.7,  16.7848,  35.7747,2,  35.7771,2,  35.9458,2,    230.5,2,    231.1,2,     1.85,2,     1.27,2,     0.22,2,     0.28,2, -999.000,9, -999.000,9, -999.000,9,   -999.0,9,   2345.8,2,   -999.0,9,  -999.00,   7.9219,2,    25.39, -999.000,9,   -999.0,9,   -999.0,9, -999.000,9,-999.0000,9,-999.0000,9,-999.0000,9,-999.0000,9, 26.170, 30.490, 34.714, 38.846, 42.889
33RO20110828,   A10,    44,  1,     19,    019,2,20000101,0000,-30.0180,  -6.8086, 4058,    260.0,  15.1356,  35.4455,2,  35.4463,6,  35.6134,6,    224.4,2,    222.3,2,     2.83,2,     4.68,2,     0.01,2,     0.49,2,    2.628,2,    1.573,2,    0.768,3,   -999.0,9,   2323.1,2,   -999.0,9,  -999.00,   7.8684,2,    25.40,    1.429,2,   -999.0,9,   -999.0,9, -999.000,9,-999.0000,9,-999.0000,9,-999.0000,9,-999.0000,9, 26.294, 30.646, 34.901, 39.062, 43.133
33RO20110828,   A10,    44,  1,     18,    018,2,20000101,0000,-30.0180,  -6.8086, 4058,    344.5,  13.6731,  35.2218,2,  35.2317,2,  35.3978,2,    218.6,2,    218.6,2,     3.32,2,     7.52,2,     0.01,2,     0.68,2, -999.000,9, -999.000,9, -999.000,9,   2108.1,2,   2300.7,2,   -999.0,9,  -999.00,   7.8310,2,    25.34, -999.000,9,   -999.0,9,   -999.0,9, -999.000,9,-999.0000,9,-999.0000,9,-999.0000,9,-999.0000,9, 26.445, 30.825, 35.108, 39.297, 43.394
33RO20110828,   A10,    44,  1,     17,    017,2,20000101,0000,-30.0180,  -6.8086, 4058,    451.8,  11.9567,  35.0405,2,  35.0411,2,  35.2063,2,    211.0,2,    211.3,2,     4.78,2,    12.49,2,     0.00,2,     0.99,2,    3.058,2,    1.732,2,    1.141,3,   -999.0,9,   2305.2,2,   -999.0,9,  -999.00,   7.7755,2,    25.34,    1.225,2,   -999.0,9,   -999.0,9, -999.000,9,-999.0000,9,-999.0000,9,-999.0000,9,-999.0000,9, 26.641, 31.056, 35.373, 39.595, 43.723
33RO20110828,   A10,    44,  1,     16,    016,2,20000101,0000,-30.0180,  -6.8086, 4058,    560.2,  10.3234,  34.8315,2,  34.8337,2,  34.9979,2,    209.7,2,    210.5,2,     6.93,2,    16.40,2,     0.00,2,     1.26,2, -999.000,9, -999.000,9, -999.000,9,   -999.0,9,   2294.5,2,   -999.0,9,  -999.00,   7.7356,2,    25.40, -999.000,9,   -999.0,9,   -999.0,9, -999.000,9,-999.0000,9,-999.0000,9,-999.0000,9,-999.0000,9, 26.778, 31.229, 35.580, 39.835, 43.996
33RO20110828,   A10,    44,  1,     15,    015,2,20000101,0000,-30.0180,  -6.8086, 4058,    660.1,   8.3982,  34.6069,2,  34.6068,2,  34.7699,2,    203.0,2,    203.5,2,    11.23,2,    21.87,2,     0.00,2,     1.63,2,    3.115,2,    1.681,2,    1.985,3,   -999.0,9,   2273.4,2,   -999.0,9,  -999.00,   7.6654,2,    25.45,    0.960,2,   -999.0,9,   -999.0,9, -999.000,9,-999.0000,9,-999.0000,9,-999.0000,9,-999.0000,9, 26.915, 31.410, 35.804, 40.101, 44.302
33RO20110828,   A10,    44,  1,     14,    014,2,20000101,0000,-30.0180,  -6.8086, 4058,    781.3,   6.2368,  34.4048,2,  34.4024,2,  34.5646,2,    209.0,2,    208.2,2,    17.48,2,    26.86,2,     0.00,2,     1.99,2, -999.000,9, -999.000,9, -999.000,9,   2172.8,2,   2284.0,2,   -999.0,9,  -999.00,   7.6280,2,    25.37, -999.000,9,   -999.0,9,   -999.0,9, -999.000,9,-999.0000,9,-999.0000,9,-999.0000,9,-999.0000,9, 27.059, 31.606, 36.052, 40.397, 44.646
33RO20110828,   A10,    44,  1,     13,    013,2,20000101,0000,-30.0180,  -6.8086, 4058,    849.7,   5.1472,  34.3341,2,  34.3342,2,  34.4961,2,    212.9,2,    214.0,2,    22.17,2,    28.62,2,     0.00,2,     2.12,2,    2.896,2,    1.482,2,    2.941,3,   -999.0,9,   2285.8,2,   -999.0,9,  -999.00,   7.6193,2,    25.37,    0.723,2,   -999.0,9,   -999.0,9, -999.000,9,-999.0000,9,-999.0000,9,-999.0000,9,-999.0000,9, 27.139, 31.713, 36.185, 40.557, 44.830
33RO20110828,   A10,    44,  1,     12,    012,2,20000101,0000,-30.0180,  -6.8086, 4058,   1080.5,   3.8752,  34.3811,2,  34.3816,2,  34.5437,2,    194.4,2,    193.3,2,    40.53,2,    32.33,2,     0.00,2,     2.39,2, -999.000,9, -999.000,9, -999.000,9,   -999.0,9,   2302.8,2,   -999.0,9,  -999.00,   7.5668,2,    25.51, -999.000,9,   -999.0,9,   -999.0,9, -999.000,9,-999.0000,9,-999.0000,9,-999.0000,9,-999.0000,9, 27.315, 31.922, 36.426, 40.829, 45.132
33RO20110828,   A10,    44,  1,     11,    011,2,20000101,0000,-30.0180,  -6.8086, 4058,   1229.2,   3.4504,  34.4566,2,  34.4568,2,  34.6193,2,    183.2,2,    183.2,2,    50.29,2,    33.10,2,     0.01,2,     2.46,2,    0.926,2,    0.449,2,    1.299,3,   -999.0,9,   2315.5,2,   -999.0,9,  -999.00,   7.5535,2,    25.47,    0.136,2,   -999.0,9,   -999.0,9, -999.000,9,-999.0000,9,-999.0000,9,-999.0000,9,-999.0000,9, 27.418, 32.036, 36.550, 40.963, 45.276
33RO20110828,   A10,    44,  1,     10,    010,2,20000101,0000,-30.0180,  -6.8086, 4058,   1380.3,   3.1862,  34.5448,2,  34.5450,2,  34.7079,2,    179.8,2,    179.8,2,    55.46,2,    32.61,2,     0.00,2,     2.42,2,    0.487,2,    0.228,2,    0.789,3,   2229.8,2,   2318.8,2,   -999.0,9,  -999.00,   7.5602,2,    25.48,    0.048,2,   -999.0,9,   -999.0,9, -999.000,9,-999.0000,9,-999.0000,9,-999.0000,9,-999.0000,9, 27.514, 32.139, 36.660, 41.079, 45.398
33RO20110828,   A10,    44,  1,      9,    009,2,20000101,0000,-30.0180,  -6.8086, 4058,   1700.3,   2.9255,  34.7026,2,  34.7026,2,  34.8662,2,    194.2,2,    194.4,2,    55.07,2,    29.58,2,     0.00,2,     2.18,2, -999.000,9, -999.000,9, -999.000,9,   -999.0,9,   2324.3,2,   -999.0,9,  -999.00,   7.5878,2,    25.51, -999.000,9,   -999.0,9,   -999.0,9, -999.000,9,-999.0000,9,-999.0000,9,-999.0000,9,-999.0000,9, 27.666, 32.297, 36.824, 41.249, 45.574
33RO20110828,   A10,    44,  1,      8,    008,2,20000101,0000,-30.0180,  -6.8086, 4058,   1971.4,   2.8568,  34.7962,2,  34.7965,2,  34.9606,2,    209.6,2,    211.8,2,    50.28,2,    26.75,2,     0.01,2,     1.96,2,    0.034,2,    0.016,2,    0.116,3,   -999.0,9,   2325.5,2,   -999.0,9,  -999.00,   7.6307,2,    25.50,    0.000,2,   -999.0,9,   -999.0,9, -999.000,9,-999.0000,9,-999.0000,9,-999.0000,9,-999.0000,9, 27.749, 32.382, 36.911, 41.337, 45.664
33RO20110828,   A10,    44,  1,      7,    007,2,20000101,0000,-30.0180,  -6.8086, 4058,   2269.8,   2.6153,  34.8206,2,  34.8224,2,  34.9866,2,    220.8,2,    220.1,2,    53.01,2,    25.77,2,     0.00,2,     1.89,2, -999.000,9, -999.000,9, -999.000,9,   -999.0,9,   2331.8,2,   -999.0,9,  -999.00,   7.6461,2,    25.50, -999.000,9,   -999.0,9,   -999.0,9, -999.000,9,-999.0000,9,-999.0000,9,-999.0000,9,-999.0000,9, 27.793, 32.433, 36.968, 41.402, 45.734
33RO20110828,   A10,    44,  1,      6,    006,2,20000101,0000,-30.0180,  -6.8086, 4058,   2569.7,   2.4813,  34.8456,2,  34.8467,2,  35.0110,2,    229.5,2,    229.3,2,    52.42,2,    24.60,2,     0.01,2,     1.80,2, -999.000,9, -999.000,9, -999.000,9,   -999.0,9,   2332.7,2,   -999.0,9,  -999.00,   7.6638,2,    25.46, -999.000,9,   -999.0,9,   -999.0,9, -999.000,9,-999.0000,9,-999.0000,9,-999.0000,9,-999.0000,9, 27.826, 32.470, 37.010, 41.447, 45.783
33RO20110828,   A10,    44,  1,      5,    005,2,20000101,0000,-30.0180,  -6.8086, 4058,   2869.9,   2.4091,  34.8605,2,  34.8607,2,  35.0251,2,    234.3,2,    233.7,2,    51.94,2,    23.92,2,     0.00,2,     1.75,2,    0.011,2,    0.005,2,    0.048,3,   -999.0,9,   2337.3,2,   -999.0,9,  -999.00,   7.6662,2,    25.53,    0.000,2,   -999.0,9,   -999.0,9, -999.000,9,-999.0000,9,-999.0000,9,-999.0000,9,-999.0000,9, 27.845, 32.492, 37.034, 41.474, 45.813
33RO20110828,   A10,    44,  1,      4,    004,2,20000101,0000,-30.0180,  -6.8086, 4058,   3170.8,   2.3788,  34.8690,2,  34.8700,2,  35.0344,2,    236.2,2,    235.9,2,    51.74,2,    23.53,2,     0.00,2,     1.72,2, -999.000,9, -999.000,9, -999.000,9,   -999.0,9,   2339.4,2,   -999.0,9,  -999.00,   7.6918,2,    25.61, -999.000,9,   -999.0,9,   -999.0,9, -999.000,9,-999.0000,9,-999.0000,9,-999.0000,9,-999.0000,9, 27.858, 32.506, 37.050, 41.491, 45.832
33RO20110828,   A10,    44,  1,      3,    003,2,20000101,0000,-30.0180,  -6.8086, 4058,   3467.4,   2.3642,  34.8752,2,  34.8804,2,  35.0449,2,    235.7,2,    236.5,2,    51.94,2,    23.43,2,     0.01,2,     1.70,2,    0.004,2,    0.002,2,    0.033,3,   -999.0,9,   2348.2,2,   -999.0,9,  -999.00,   7.6895,2,    25.62,    0.019,3,   -999.0,9,   -999.0,9, -999.000,9,-999.0000,9,-999.0000,9,-999.0000,9,-999.0000,9, 27.870, 32.519, 37.064, 41.507, 45.848
33RO20110828,   A10,    44,  1,      2,    002,2,20000101,0000,-30.0180,  -6.8086, 4058,   3765.4,   2.3729,  34.8781,2,  34.8795,2,  35.0439,2,    234.3,2,    233.9,2,    52.52,2,    23.43,2,     0.00,2,     1.70,2,    0.003,2,    0.002,2,    0.023,3,   -999.0,9,   2347.6,2,   -999.0,9,  -999.00,   7.6914,2,    25.43,    0.042,3,   -999.0,9,   -999.0,9, -999.000,9,-999.0000,9,-999.0000,9,-999.0000,9,-999.0000,9, 27.871, 32.521, 37.067, 41.510, 45.852
33RO20110828,   A10,    44,  1,      1,    001,2,20000101,0000,-30.0180,  -6.8086, 4058,   4131.9,   2.3981,  34.8790,2,  34.8789,2,  35.0434,2,    233.4,2,    233.6,2,    53.20,2,    23.43,2,     0.00,2,     1.70,2,    0.004,2,    0.002,2,    0.025,3,   -999.0,9,   2352.2,2,   -999.0,9,  -999.00,   7.7050,2,    25.52,    0.000,2,   -999.0,9,   -999.0,9, -999.000,9,-999.0000,9,-999.0000,9,-999.0000,9,-999.0000,9, 27.872, 32.522, 37.069, 41.512, 45.855