BOTTLE,20130715NOAA
EXPOCODE,SECT_ID,STNNBR,CASTNO,SAMPNO,BTLNBR,BTLNBR_FLAG_W,DATE,TIME,LATITUDE,LONGITUDE,DEPTH,CTDPRS,CTDTMP,CTDSAL,CTDSAL_FLAG_W,SALNTY,SALNTY_FLAG_W,SALTREF,SALTREF_FLAG_W,CTDOXY,CTDOXY_FLAG_W,OXYGEN,OXYGEN_FLAG_W,SILCAT,SILCAT_FLAG_W,NITRAT,NITRAT_FLAG_W,NITRIT,NITRIT_FLAG_W,PHSPHT,PHSPHT_FLAG_W,CFC-11,CFC-11_FLAG_W,CFC-12,CFC-12_FLAG_W,CCL4,CCL4_FLAG_W,TCARBN,TCARBN_FLAG_W,ALKALI,ALKALI_FLAG_W,PCO2,PCO2_FLAG_W,PCO2TMP,PH_TOT,PH_TOT_FLAG_W,PH_TMP,SF6,SF6_FLAG_W,DOC,DOC_FLAG_W,TDN,TDN_FLAG_W,TRITUM,TRITUM_FLAG_W,HELIUM,HELIUM_FLAG_W,OXY_18,OXY_18_FLAG_W,BLACKC,BLACKC_FLAG_W,PIGMENTS,PIGMENTS_FLAG_W,SIGMA-THETA,SIGMA-1,SIGMA-2,SIGMA-3,SIGMA-4
,,,,,,,,,,,METERS,DBARS,ITS-90,PSS-78,,PSS-78,,G/KG,,UMOL/KG,,UMOL/KG,,UMOL/KG,,UMOL/KG,,UMOL/KG,,UMOL/KG,,PMOL/KG,,PMOL/KG,,PMOL/KG,,UMOL/KG,,UMOL/KG,,UATM@T,,DEG_C,,,DEG_C,FMOL/KG,,UMOL/KG,,UMOL/KG,,TU,,NMOL/KG,,,,,,,,,,,,
33RO20110828,   A10,    68,  1,     24,    024,2,20000101,0000,-30.0168, -24.2886, -999,      4.8,  17.8279,  35.9325,2,  35.9321,2,  36.1015,2,    237.3,2,    237.2,2,     1.17,2,     0.00,2,     0.01,2,     0.11,2,    2.342,2,    1.419,2,    3.024,3,   2081.9,6,   2358.6,4,   -999.0,9,  -999.00,   7.9326,2,    25.64,    1.485,2,   -999.0,9,   -999.0,9, -999.000,9,-999.0000,9,-999.0000,9,-999.0000,1,-999.0000,1, 26.029, 30.330, 34.536, 38.650, 42.675
33RO20110828,   A10,    68,  1,     23,    023,2,20000101,0000,-30.0168, -24.2886, -999,     49.5,  17.6775,  35.9584,2,  35.9595,2,  36.1291,2,    237.8,2,    237.7,2,     1.17,2,     0.00,2,     0.01,2,     0.12,2,    2.344,2,    1.423,2,    3.108,3,   2085.3,2,   -999.0,5,   -999.0,9,  -999.00,   7.9331,2,    25.68,    1.476,2,   -999.0,9,   -999.0,9, -999.000,9,-999.0000,9,-999.0000,9,-999.0000,1,-999.0000,9, 26.089, 30.392, 34.600, 38.717, 42.744
33RO20110828,   A10,    68,  1,     22,    022,2,20000101,0000,-30.0168, -24.2886, -999,     88.7,  16.9685,  35.8347,2,  35.8335,2,  36.0025,2,    236.6,2,    237.6,2,     1.17,2,     0.20,2,     0.06,2,     0.14,2,    2.416,2,    1.458,2,    2.605,3,   2084.9,2,   -999.0,5,   -999.0,9,  -999.00,   7.9172,2,    25.62,    1.489,2,   -999.0,9,   -999.0,9, -999.000,9,-999.0000,9,-999.0000,9,-999.0000,1,-999.0000,1, 26.165, 30.481, 34.702, 38.831, 42.870
33RO20110828,   A10,    68,  1,     21,    021,2,20000101,0000,-30.0168, -24.2886, -999,    140.2,  15.9642,  35.6434,2,  35.6388,2,  35.8069,2,    221.8,2,    221.6,2,     1.76,2,     3.12,2,     0.04,2,     0.30,2,    2.545,2,    1.523,2,    1.331,3,   2100.1,2,   2339.6,2,   -999.0,9,  -999.00,   7.8833,2,    25.58,    1.437,2,   -999.0,9,   -999.0,9, -999.000,9,-999.0000,9,-999.0000,9,-999.0000,9,-999.0000,1, 26.253, 30.587, 34.826, 38.973, 43.029
33RO20110828,   A10,    68,  1,     20,    020,2,20000101,0000,-30.0168, -24.2886, -999,    199.1,  14.6897,  35.4210,2,  35.4264,2,  35.5934,2,    213.4,2,    213.1,2,     2.54,2,     6.05,2,     0.02,2,     0.45,2,    2.724,2,    1.600,2,    0.940,3,   2110.8,2,   2326.4,2,   -999.0,9,  -999.00,   7.8400,2,    25.56,    1.322,2,   -999.0,9,   -999.0,9, -999.000,9,-999.0000,9,-999.0000,9,-999.0000,9,-999.0000,9, 26.375, 30.735, 34.998, 39.167, 43.245
33RO20110828,   A10,    68,  1,     19,    019,2,20000101,0000,-30.0168, -24.2886, -999,    275.3,  13.5770,  35.2870,2,  35.2892,2,  35.4556,2,    216.4,2,    215.6,2,     3.12,2,     8.19,2,     0.02,2,     0.56,2,    2.874,2,    1.666,2,    1.256,3,   2117.9,2,   2319.5,2,   -999.0,9,  -999.00,   7.8056,2,    25.61,    1.344,2,   -999.0,9,   -999.0,9, -999.000,9,-999.0000,9,-999.0000,9,-999.0000,9,-999.0000,9, 26.507, 30.888, 35.173, 39.363, 43.461
33RO20110828,   A10,    68,  1,     18,    018,2,20000101,0000,-30.0168, -24.2886, -999,    400.3,  11.7958,  35.0571,2,  35.0521,2,  35.2173,2,    214.5,2,    214.6,2,     4.39,2,    12.39,2,     0.01,2,     0.77,2,    3.055,2,    1.731,2,    1.349,3,   2130.3,2,   2308.3,2,   -999.0,9,  -999.00,   7.7752,2,    25.60,    1.259,2,   -999.0,9,   -999.0,9, -999.000,9,-999.0000,9,-999.0000,9,-999.0000,9,-999.0000,9, 26.678, 31.096, 35.417, 39.641, 43.773
33RO20110828,   A10,    68,  1,     17,    017,2,20000101,0000,-30.0168, -24.2886, -999,    523.0,   9.2473,  34.7116,2,  34.7063,2,  34.8700,2,    207.2,2,    206.1,2,     8.69,2,    19.91,2,     0.01,2,     1.16,2,    3.179,2,    1.702,2,    1.876,3,   2150.2,2,   2293.8,2,   -999.0,9,  -999.00,   7.6878,2,    25.59,    1.003,2,   -999.0,9,   -999.0,9, -999.000,9,-999.0000,9,-999.0000,9,-999.0000,9,-999.0000,9, 26.858, 31.332, 35.707, 39.985, 44.168
33RO20110828,   A10,    68,  1,     16,    016,2,20000101,0000,-30.0168, -24.2886, -999,    648.2,   6.9471,  34.4655,2,  34.4647,2,  34.6272,2,    207.2,2,    208.9,2,    13.86,2,    25.18,2,     0.01,2,     1.47,2,    3.134,2,    1.621,2,    2.967,3,   2167.3,2,   2285.9,2,   -999.0,9,  -999.00,-999.0000,5,  -999.00,    0.782,2,   -999.0,9,   -999.0,9, -999.000,9,-999.0000,9,-999.0000,9,-999.0000,9,-999.0000,9, 27.013, 31.542, 35.970, 40.299, 44.531
33RO20110828,   A10,    68,  1,     15,    015,2,20000101,0000,-30.0168, -24.2886, -999,    776.3,   5.2539,  34.3353,2,  34.3364,2,  34.4983,2,    215.6,2,    216.6,2,    20.31,2,    29.19,2,     0.01,2,     1.69,2,    2.962,2,    1.493,2,    3.674,3,   2178.8,2,   -999.0,5,   -999.0,9,  -999.00,   7.6114,2,    25.52,    0.679,2,   -999.0,9,   -999.0,9, -999.000,9,-999.0000,9,-999.0000,9,-999.0000,9,-999.0000,9, 27.127, 31.699, 36.168, 40.537, 44.808
33RO20110828,   A10,    68,  1,     14,    014,2,20000101,0000,-30.0168, -24.2886, -999,    900.4,   4.1504,  34.3082,2,  34.3095,2,  34.4713,2,    217.3,2,    216.8,2,    29.38,2,    31.43,2,     0.01,2,     1.89,2,    2.387,2,    1.180,2,    3.513,3,   2190.8,2,   2280.9,2,   -999.0,9,  -999.00,   7.5837,2,    25.52,    0.521,2,   -999.0,9,   -999.0,9, -999.000,9,-999.0000,9,-999.0000,9,-999.0000,9,-999.0000,9, 27.228, 31.829, 36.326, 40.722, 45.018
33RO20110828,   A10,    68,  1,     13,    013,2,20000101,0000,-30.0168, -24.2886, -999,   1074.2,   3.5296,  34.3718,2,  34.3733,2,  34.5354,2,    200.3,2,    199.8,2,    41.59,2,    33.19,2,     0.01,2,     2.08,2,    1.459,2,    0.714,2,    2.517,3,   2211.6,2,   2302.0,2,   -999.0,9,  -999.00,   7.5704,2,    25.52,    0.241,2,   -999.0,9,   -999.0,9, -999.000,9,-999.0000,9,-999.0000,9,-999.0000,9,-999.0000,9, 27.342, 31.959, 36.472, 40.883, 45.194
33RO20110828,   A10,    68,  1,     12,    012,2,20000101,0000,-30.0168, -24.2886, -999,   1249.6,   3.1691,  34.4851,2,  34.4873,6,  34.6500,6,    187.5,2,    187.5,2,    52.12,2,    32.21,2,     0.01,2,     2.18,2,    0.696,2,    0.334,2,    1.429,3,   2226.4,2,   2315.8,2,   -999.0,9,  -999.00,   7.5523,2,    25.51,    0.091,2,   -999.0,9,   -999.0,9, -999.000,9,-999.0000,9,-999.0000,9,-999.0000,9,-999.0000,9, 27.467, 32.092, 36.614, 41.033, 45.353
33RO20110828,   A10,    68,  1,     11,    011,2,20000101,0000,-30.0168, -24.2886, -999,   1449.7,   2.9747,  34.6078,2,  34.6083,2,  34.7715,2,    188.5,2,    188.2,2,    55.44,2,    32.11,2,     0.01,2,     2.14,2,    0.281,2,    0.136,2,    0.764,3,   2230.5,6,   2322.2,2,   -999.0,9,  -999.00,   7.5687,2,    25.57,    0.066,2,   -999.0,9,   -999.0,9, -999.000,9,-999.0000,9,-999.0000,9,-999.0000,9,-999.0000,9, 27.584, 32.214, 36.740, 41.164, 45.488
33RO20110828,   A10,    68,  1,     10,    010,2,20000101,0000,-30.0168, -24.2886, -999,   1648.7,   2.8660,  34.6996,2,  34.6997,2,  34.8633,2,    198.6,2,    199.9,2,    54.65,2,    29.96,2,     0.01,2,     2.02,2,    0.122,2,    0.059,2,    0.493,3,   2221.3,2,   2323.1,2,   -999.0,9,  -999.00,   7.5933,2,    25.59,    0.029,2,   -999.0,9,   -999.0,9, -999.000,9,-999.0000,9,-999.0000,9,-999.0000,9,-999.0000,9, 27.668, 32.301, 36.830, 41.256, 45.582
33RO20110828,   A10,    68,  1,      9,    009,2,20000101,0000,-30.0168, -24.2886, -999,   1948.8,   2.7371,  34.7889,2,  34.7893,2,  34.9534,2,    216.2,2,    216.0,2,    51.14,2,    27.03,2,     0.01,2,     1.83,2,    0.038,2,    0.020,2,    0.276,3,   2212.3,2,   2328.6,2,   -999.0,9,  -999.00,   7.6361,2,    25.63,    0.027,2,   -999.0,9,   -999.0,9, -999.000,9,-999.0000,9,-999.0000,9,-999.0000,9,-999.0000,9, 27.753, 32.390, 36.922, 41.351, 45.681
33RO20110828,   A10,    68,  1,      8,    008,2,20000101,0000,-30.0168, -24.2886, -999,   2249.1,   2.6974,  34.8451,2,  34.8452,2,  35.0095,2,    231.1,2,    230.6,2,    46.16,2,    24.79,2,     0.01,2,     1.66,2,    0.014,2,    0.007,2,    0.150,3,   2202.0,2,   2330.5,2,   -999.0,9,  -999.00,   7.6585,3,    25.56,    0.000,2,   -999.0,9,   -999.0,9, -999.000,9,-999.0000,9,-999.0000,9,-999.0000,9,-999.0000,9, 27.804, 32.441, 36.975, 41.406, 45.736
33RO20110828,   A10,    68,  1,      7,    007,2,20000101,0000,-30.0168, -24.2886, -999,   2550.2,   2.7388,  34.8843,2,  34.8837,2,  35.0482,2,    241.6,2,    242.6,2,    40.11,2,    23.03,2,     0.01,2,     1.52,2,    0.007,2,    0.004,2,    0.122,3,   2192.0,2,   -999.0,5,   -999.0,9,  -999.00,   7.6829,2,    25.59,    0.000,2,   -999.0,9,   -999.0,9, -999.000,9,-999.0000,9,-999.0000,9,-999.0000,9,-999.0000,9, 27.834, 32.470, 37.003, 41.434, 45.763
33RO20110828,   A10,    68,  1,      6,    006,2,20000101,0000,-30.0168, -24.2886, -999,   2847.3,   2.7107,  34.8997,2,  34.9042,2,  35.0688,2,    247.3,2,    247.0,2,    38.06,2,    22.05,2,     0.01,2,     1.46,2,    0.009,2,    0.006,2,    0.123,3,   2185.9,2,   2327.5,2,   -999.0,9,  -999.00,   7.6919,2,    25.51,    0.000,2,   -999.0,9,   -999.0,9, -999.000,9,-999.0000,9,-999.0000,9,-999.0000,1,-999.0000,9, 27.855, 32.493, 37.027, 41.459, 45.790
33RO20110828,   A10,    68,  1,      5,    005,2,20000101,0000,-30.0168, -24.2886, -999,   3228.2,   2.5151,  34.8922,2,  34.8922,2,  35.0567,2,    248.9,2,    248.2,2,    42.64,2,    22.35,2,     0.01,2,     1.51,2,    0.004,2,    0.003,2,    0.108,3,   2189.6,2,   -999.0,5,   -999.0,9,  -999.00,   7.6828,2,    25.58,    0.049,2,   -999.0,9,   -999.0,9, -999.000,9,-999.0000,9,-999.0000,9,-999.0000,9,-999.0000,9, 27.865, 32.510, 37.050, 41.488, 45.825
33RO20110828,   A10,    68,  1,      4,    004,2,20000101,0000,-30.0168, -24.2886, -999,   3698.8,   1.8959,  34.8329,2,  34.8338,2,  34.9980,2,    240.0,2,    240.8,2,    65.97,2,    25.37,2,     0.01,2,     1.86,2,    0.014,2,    0.007,2,    0.132,3,   2211.7,2,   2342.1,2,   -999.0,9,  -999.00,   7.6672,2,    25.58,    0.070,2,   -999.0,9,   -999.0,9, -999.000,9,-999.0000,9,-999.0000,9,-999.0000,9,-999.0000,9, 27.870, 32.533, 37.092, 41.547, 45.901
33RO20110828,   A10,    68,  1,      3,    003,2,20000101,0000,-30.0168, -24.2886, -999,   4200.6,   1.3140,  34.7667,2,  34.7677,2,  34.9317,2,    228.2,2,    228.4,2,    91.34,2,    28.30,2,     0.01,2,     2.25,2,    0.063,2,    0.031,2,    0.267,3,   2237.4,2,   2355.4,2,   -999.0,9,  -999.00,   7.6185,3,    25.64,    0.092,2,   -999.0,9,   -999.0,9, -999.000,9,-999.0000,9,-999.0000,9,-999.0000,9,-999.0000,9, 27.860, 32.542, 37.118, 41.591, 45.962
33RO20110828,   A10,    68,  1,      2,    002,2,20000101,0000,-30.0168, -24.2886, -999,   4648.9,   1.2477,  34.7569,2,  34.7581,2,  34.9220,2,    227.2,2,    228.0,2,    95.35,2,    29.08,2,     0.01,2,     2.30,2,    0.060,2,    0.034,2,    0.269,3,   2242.2,2,   2356.1,2,   -999.0,9,  -999.00,   7.6218,2,    25.57,    0.125,2,   -999.0,9,   -999.0,9, -999.000,9,-999.0000,9,-999.0000,9,-999.0000,9,-999.0000,9, 27.860, 32.545, 37.125, 41.601, 45.974
33RO20110828,   A10,    68,  1,      1,    001,2,20000101,0000,-30.0168, -24.2886, -999,   4910.1,   1.2546,  34.7548,2,  34.7577,2,  34.9216,2,    227.3,2,    226.5,2,    96.23,2,    29.08,2,     0.01,2,     2.31,2,    0.060,2,    0.032,2,    0.310,3,   2243.3,6,   2356.5,2,   -999.0,9,  -999.00,   7.6254,2,    25.50,    0.161,2,   -999.0,9,   -999.0,9, -999.000,9,-999.0000,9,-999.0000,9,-999.0000,9,-999.0000,9, 27.861, 32.547, 37.127, 41.604, 45.978