BOTTLE,20130715NOAA
EXPOCODE,SECT_ID,STNNBR,CASTNO,SAMPNO,BTLNBR,BTLNBR_FLAG_W,DATE,TIME,LATITUDE,LONGITUDE,DEPTH,CTDPRS,CTDTMP,CTDSAL,CTDSAL_FLAG_W,SALNTY,SALNTY_FLAG_W,SALTREF,SALTREF_FLAG_W,CTDOXY,CTDOXY_FLAG_W,OXYGEN,OXYGEN_FLAG_W,SILCAT,SILCAT_FLAG_W,NITRAT,NITRAT_FLAG_W,NITRIT,NITRIT_FLAG_W,PHSPHT,PHSPHT_FLAG_W,CFC-11,CFC-11_FLAG_W,CFC-12,CFC-12_FLAG_W,CCL4,CCL4_FLAG_W,TCARBN,TCARBN_FLAG_W,ALKALI,ALKALI_FLAG_W,PCO2,PCO2_FLAG_W,PCO2TMP,PH_TOT,PH_TOT_FLAG_W,PH_TMP,SF6,SF6_FLAG_W,DOC,DOC_FLAG_W,TDN,TDN_FLAG_W,TRITUM,TRITUM_FLAG_W,HELIUM,HELIUM_FLAG_W,OXY_18,OXY_18_FLAG_W,BLACKC,BLACKC_FLAG_W,PIGMENTS,PIGMENTS_FLAG_W,SIGMA-THETA,SIGMA-1,SIGMA-2,SIGMA-3,SIGMA-4
,,,,,,,,,,,METERS,DBARS,ITS-90,PSS-78,,PSS-78,,G/KG,,UMOL/KG,,UMOL/KG,,UMOL/KG,,UMOL/KG,,UMOL/KG,,UMOL/KG,,PMOL/KG,,PMOL/KG,,PMOL/KG,,UMOL/KG,,UMOL/KG,,UATM@T,,DEG_C,,,DEG_C,FMOL/KG,,UMOL/KG,,UMOL/KG,,TU,,NMOL/KG,,,,,,,,,,,,
33RO20110828,   A10,    16,  1,     24,    024,2,20000101,0000,-29.7506,   7.3008, -999,      3.2,  16.8105,  35.6983,2,  35.6981,2,  35.8664,2,    248.6,2,    249.7,2,     2.05,2,     0.10,2,     0.02,2,     0.15,2,    2.480,2,    1.496,2,    3.221,2,   2073.3,6,   2344.0,2,   -999.0,9,  -999.00,   7.9471,2,    25.31,    1.580,2,   -999.0,9,   -999.0,9, -999.000,1,-999.0000,1,-999.0000,1,-999.0000,9,-999.0000,1, 26.095, 30.415, 34.639, 38.771, 42.813
33RO20110828,   A10,    16,  1,     23,    023,2,20000101,0000,-29.7506,   7.3008, -999,     60.8,  16.2160,  35.6460,2,  35.6485,2,  35.8166,2,    242.7,2,    240.5,2,     2.24,2,     1.27,2,     0.57,2,     0.27,2,    2.465,2,    1.488,2,    2.479,2,   -999.0,9,   2338.8,2,   -999.0,9,  -999.00,   7.9315,2,    25.36,    1.506,2,   -999.0,9,   -999.0,9, -999.000,1,-999.0000,1,-999.0000,1,-999.0000,9,-999.0000,1, 26.199, 30.529, 34.764, 38.906, 42.957
33RO20110828,   A10,    16,  1,     22,    022,2,20000101,0000,-29.7506,   7.3008, -999,     99.0,  16.2098,  35.6610,2,  35.6614,2,  35.8295,2,    237.7,2,    238.1,2,     2.34,2,     1.37,2,     0.73,2,     0.28,2,    2.477,2,    1.489,2,    2.519,2,   2082.4,2,   2337.5,2,   -999.0,9,  -999.00,   7.9255,2,    25.31,    1.475,2,   -999.0,9,   -999.0,9, -999.000,1,-999.0000,1,-999.0000,1,-999.0000,9,-999.0000,1, 26.212, 30.542, 34.777, 38.919, 42.971
33RO20110828,   A10,    16,  1,     21,    021,2,20000101,0000,-29.7506,   7.3008, -999,    148.3,  16.1088,  35.6434,2,  35.6436,6,  35.8117,6,    236.8,2,    238.0,2,     2.34,2,     1.85,2,     0.42,2,     0.30,2,    2.497,2,    1.504,2,    2.382,2,   -999.0,9,   2329.0,2,   -999.0,9,  -999.00,   7.9229,2,    25.31,    1.486,2,   -999.0,9,   -999.0,9, -999.000,1,-999.0000,1,-999.0000,1,-999.0000,9,-999.0000,9, 26.223, 30.555, 34.792, 38.936, 42.990
33RO20110828,   A10,    16,  1,     20,    020,2,20000101,0000,-29.7506,   7.3008, -999,    249.9,  15.4794,  35.5209,2,  35.5217,2,  35.6892,2,    231.7,2,    231.2,2,     2.63,2,     3.61,2,     0.02,2,     0.39,2,    2.569,2,    1.544,2,    1.752,2,   2090.2,2,   2330.2,2,   -999.0,9,  -999.00,   7.8988,2,    25.33,    1.498,2,   -999.0,9,   -999.0,9, -999.000,1,-999.0000,1,-999.0000,1,-999.0000,9,-999.0000,9, 26.276, 30.621, 34.869, 39.025, 43.089
33RO20110828,   A10,    16,  1,     19,    019,2,20000101,0000,-29.7506,   7.3008, -999,    338.5,  13.1696,  35.1587,2,  35.1577,2,  35.3235,2,    222.7,2,    220.6,2,     3.22,2,     8.49,2,     0.01,2,     0.71,2,    2.929,2,    1.711,2,    1.204,2,   -999.0,9,   2317.1,2,   -999.0,9,  -999.00,   7.8297,2,    25.38,    1.375,2,   -999.0,9,   -999.0,9, -999.000,1,-999.0000,1,-999.0000,1,-999.0000,9,-999.0000,9, 26.490, 30.881, 35.173, 39.372, 43.478
33RO20110828,   A10,    16,  1,     18,    018,2,20000101,0000,-29.7506,   7.3008, -999,    469.6,  10.8635,  34.8976,2,  34.8998,2,  35.0644,2,    215.0,2,    216.3,2,     5.56,2,    14.64,2,     0.00,2,     1.10,2,    3.179,2,    1.774,2,    1.366,2,   2132.7,2,   2305.8,2,   -999.0,9,  -999.00,   7.7675,2,    25.36,    1.189,2,   -999.0,9,   -999.0,9, -999.000,1,-999.0000,1,-999.0000,1,-999.0000,9,-999.0000,9, 26.733, 31.171, 35.511, 39.755, 43.905
33RO20110828,   A10,    16,  1,     17,    017,2,20000101,0000,-29.7506,   7.3008, -999,    598.9,   8.0453,  34.5716,2,  34.5755,2,  34.7386,2,    201.4,2,    203.4,2,    12.20,2,    22.74,2,     0.00,2,     1.64,2,    3.100,2,    1.654,2,    1.976,2,   -999.0,9,   2288.4,2,   -999.0,9,  -999.00,   7.6722,2,    25.41,    0.921,2,   -999.0,9,   -999.0,9, -999.000,1,-999.0000,1,-999.0000,1,-999.0000,9,-999.0000,9, 26.943, 31.446, 35.848, 40.152, 44.360
33RO20110828,   A10,    16,  1,     16,    016,2,20000101,0000,-29.7506,   7.3008, -999,    750.3,   5.6989,  34.3925,2,  34.3939,2,  34.5561,2,    193.0,2,    192.8,2,    21.48,2,    29.48,2,     0.00,2,     2.09,2,    2.605,2,    1.331,2,    2.328,2,   -999.0,9,   2287.2,2,   -999.0,9,  -999.00,   7.6039,2,    25.39,    0.696,2,   -999.0,9,   -999.0,9, -999.000,1,-999.0000,1,-999.0000,1,-999.0000,9,-999.0000,9, 27.119, 31.679, 36.138, 40.496, 44.756
33RO20110828,   A10,    16,  1,     15,    015,2,20000101,0000,-29.7506,   7.3008, -999,    899.6,   4.6470,  34.3925,2,  34.3930,2,  34.5551,2,    179.4,2,    176.4,2,    31.34,2,    32.61,2,     0.01,2,     2.32,2,    1.588,2,    0.784,2,    1.696,2,   2210.0,2,   2308.8,3,   -999.0,9,  -999.00,   7.5617,2,    25.38,    0.338,2,   -999.0,9,   -999.0,9, -999.000,1,-999.0000,1,-999.0000,1,-999.0000,9,-999.0000,9, 27.242, 31.829, 36.313, 40.696, 44.981
33RO20110828,   A10,    16,  1,     14,    014,2,20000101,0000,-29.7506,   7.3008, -999,   1049.6,   3.9517,  34.4286,2,  34.4305,2,  34.5928,2,    173.1,2,    174.6,2,    40.81,2,    33.49,2,     0.00,2,     2.40,2,    0.932,2,    0.449,2,    1.177,2,   2223.0,2,   2307.5,2,   -999.0,9,  -999.00,   7.5545,2,    25.44,    0.164,2,   -999.0,9,   -999.0,9, -999.000,1,-999.0000,1,-999.0000,1,-999.0000,9,-999.0000,9, 27.346, 31.951, 36.452, 40.853, 45.154
33RO20110828,   A10,    16,  1,     13,    013,2,20000101,0000,-29.7506,   7.3008, -999,   1296.5,   3.2061,  34.5321,2,  34.5318,2,  34.6946,2,    177.5,2,    178.2,2,    55.93,2,    32.90,2,     0.00,2,     2.38,2,    0.543,2,    0.251,2,    0.784,2,   2234.9,2,   2322.2,2,   -999.0,9,  -999.00,   7.5632,2,    25.37,    0.088,2,   -999.0,9,   -999.0,9, -999.000,1,-999.0000,1,-999.0000,1,-999.0000,9,-999.0000,9, 27.501, 32.125, 36.645, 41.064, 45.382
33RO20110828,   A10,    16,  1,     12,    012,2,20000101,0000,-29.7506,   7.3008, -999,   1548.9,   3.1638,  34.7063,2,  34.7080,2,  34.8717,2,    190.0,2,    190.5,2,    49.68,2,    29.77,2,     0.00,2,     2.12,2,    0.101,2,    0.048,2,    0.206,2,   -999.0,9,   2322.5,2,   -999.0,9,  -999.00,   7.5982,2,    25.41,    0.000,2,   -999.0,9,   -999.0,9, -999.000,1,-999.0000,1,-999.0000,1,-999.0000,9,-999.0000,9, 27.647, 32.272, 36.792, 41.211, 45.530
33RO20110828,   A10,    16,  1,     11,    011,2,20000101,0000,-29.7506,   7.3008, -999,   1798.4,   3.0866,  34.7961,2,  34.7973,2,  34.9614,2,    205.8,2,    206.9,2,    45.48,2,    26.94,2,     0.01,2,     1.91,2,    0.036,2,    0.018,2,    0.111,2,   2210.5,2,   2324.9,2,   -999.0,9,  -999.00,   7.6385,2,    25.41,    0.000,2,   -999.0,9,   -999.0,9, -999.000,1,-999.0000,1,-999.0000,1,-999.0000,9,-999.0000,9, 27.728, 32.354, 36.877, 41.297, 45.617
33RO20110828,   A10,    16,  1,     10,    010,2,20000101,0000,-29.7506,   7.3008, -999,   2047.0,   2.9717,  34.8333,2,  34.8341,2,  34.9983,2,    217.5,2,    217.3,2,    44.50,2,    25.57,2,     0.00,2,     1.81,2,    0.022,2,    0.011,2,    0.079,2,   -999.0,9,   2316.5,2,   -999.0,9,  -999.00,   7.6574,2,    25.44,    0.000,2,   -999.0,9,   -999.0,9, -999.000,1,-999.0000,1,-999.0000,1,-999.0000,9,-999.0000,9, 27.769, 32.399, 36.925, 41.349, 45.672
33RO20110828,   A10,    16,  1,      9,    009,2,20000101,0000,-29.7506,   7.3008, -999,   2348.4,   2.7843,  34.8521,2,  34.8528,2,  35.0171,2,    228.3,2,    225.6,2,    45.97,2,    24.79,2,     0.00,2,     1.74,2,    0.015,2,    0.008,2,    0.057,2,   -999.0,5,   -999.0,5,   -999.0,9,  -999.00,   7.6691,2,    25.41,    0.000,2,   -999.0,9,   -999.0,9, -999.000,1,-999.0000,1,-999.0000,1,-999.0000,9,-999.0000,9, 27.803, 32.439, 36.970, 41.399, 45.727
33RO20110828,   A10,    16,  1,      8,    008,2,20000101,0000,-29.7506,   7.3008, -999,   2650.9,   2.6315,  34.8619,2,  34.8628,2,  35.0272,2,    230.4,2,    231.5,2,    47.43,2,    24.20,2,     0.00,2,     1.71,2,    0.006,2,    0.004,2,    0.035,2,   2201.4,2,   2334.4,2,   -999.0,9,  -999.00,   7.6775,2,    25.40,    0.000,2,   -999.0,9,   -999.0,9, -999.000,9,-999.0000,1,-999.0000,1,-999.0000,9,-999.0000,9, 27.827, 32.467, 37.003, 41.436, 45.769
33RO20110828,   A10,    16,  1,      7,    007,2,20000101,0000,-29.7506,   7.3008, -999,   2947.3,   2.4706,  34.8572,2,  34.8581,2,  35.0225,2,    231.6,2,    233.1,2,    51.92,2,    24.40,2,     0.00,2,     1.72,2,    0.006,2,    0.004,2,    0.035,2,   -999.0,9,   2336.2,2,   -999.0,9,  -999.00,   7.6766,3,    25.41,    0.000,2,   -999.0,9,   -999.0,9, -999.000,1,-999.0000,1,-999.0000,9,-999.0000,9,-999.0000,9, 27.839, 32.484, 37.025, 41.464, 45.801
33RO20110828,   A10,    16,  1,      6,    006,2,20000101,0000,-29.7506,   7.3008, -999,   3250.5,   2.3720,  34.8572,2,  34.8569,2,  35.0213,2,    231.7,2,    232.0,2,    54.56,2,    24.50,2,     0.00,2,     1.73,2,    0.009,2,    0.005,2,    0.035,2,   -999.0,9,   2339.9,2,   -999.0,9,  -999.00,   7.6785,2,    25.37,    0.000,2,   -999.0,9,   -999.0,9, -999.000,9,-999.0000,1,-999.0000,9,-999.0000,9,-999.0000,9, 27.848, 32.497, 37.042, 41.483, 45.824
33RO20110828,   A10,    16,  1,      5,    005,2,20000101,0000,-29.7506,   7.3008, -999,   3647.8,   2.2239,  34.8499,2,  34.8501,2,  35.0144,2,    230.2,2,    230.5,2,    60.31,2,    24.98,2,     0.01,2,     1.75,2,    0.007,2,    0.005,2,    0.030,2,   2216.1,2,   2346.9,2,   -999.0,9,  -999.00,   7.6788,2,    25.40,    0.000,2,   -999.0,9,   -999.0,9, -999.000,1,-999.0000,1,-999.0000,9,-999.0000,9,-999.0000,9, 27.858, 32.512, 37.061, 41.508, 45.854
33RO20110828,   A10,    16,  1,      4,    004,2,20000101,0000,-29.7506,   7.3008, -999,   4049.2,   1.8175,  34.8049,2,  34.8063,2,  34.9705,2,    224.7,2,    224.5,2,    78.08,2,    27.03,2,     0.01,2,     1.93,2,    0.019,2,    0.012,2,    0.065,2,   -999.0,9,   2361.0,2,   -999.0,9,  -999.00,   7.6535,2,    25.28,    0.060,4,   -999.0,9,   -999.0,9, -999.000,9,-999.0000,1,-999.0000,9,-999.0000,9,-999.0000,9, 27.856, 32.523, 37.085, 41.544, 45.901
33RO20110828,   A10,    16,  1,      3,    003,2,20000101,0000,-29.7506,   7.3008, -999,   4447.3,   1.2986,  34.7522,2,  34.7524,2,  34.9163,2,    219.8,2,    219.6,2,    99.26,2,    29.57,2,     0.01,2,     2.12,2,    0.045,2,    0.023,2,    0.127,2,   2249.1,2,   2353.2,2,   -999.0,9,  -999.00,   7.6283,2,    25.41,    0.000,2,   -999.0,9,   -999.0,9, -999.000,1,-999.0000,1,-999.0000,9,-999.0000,9,-999.0000,9, 27.851, 32.534, 37.111, 41.585, 45.957
33RO20110828,   A10,    16,  1,      2,    002,2,20000101,0000,-29.7506,   7.3008, -999,   4846.4,   1.1786,  34.7373,2,  34.7386,2,  34.9024,2,    218.0,2,    217.5,2,   105.61,2,    30.35,2,     0.00,2,     2.19,2,    0.060,2,    0.031,2,    0.157,2,   -999.0,9,   2365.3,2,   -999.0,9,  -999.00,   7.6230,2,    25.26,    0.000,2,   -999.0,9,   -999.0,9, -999.000,1,-999.0000,1,-999.0000,9,-999.0000,9,-999.0000,9, 27.850, 32.538, 37.120, 41.599, 45.975
33RO20110828,   A10,    16,  1,      1,    001,2,20000101,0000,-29.7506,   7.3008, -999,   5209.0,   1.2055,  34.7352,2,  34.7355,2,  34.8993,2,    217.8,2,    218.1,2,   106.48,2,    30.35,2,     0.00,2,     2.19,2,    0.065,2,    0.032,2,    0.167,2,   2255.3,6,   2371.1,2,   -999.0,9,  -999.00,   7.6238,2,    25.27,    0.000,2,   -999.0,9,   -999.0,9, -999.000,1,-999.0000,1,-999.0000,9,-999.0000,9,-999.0000,9, 27.849, 32.537, 37.120, 41.599, 45.976