BOTTLE,20130715NOAA
EXPOCODE,SECT_ID,STNNBR,CASTNO,SAMPNO,BTLNBR,BTLNBR_FLAG_W,DATE,TIME,LATITUDE,LONGITUDE,DEPTH,CTDPRS,CTDTMP,CTDSAL,CTDSAL_FLAG_W,SALNTY,SALNTY_FLAG_W,SALTREF,SALTREF_FLAG_W,CTDOXY,CTDOXY_FLAG_W,OXYGEN,OXYGEN_FLAG_W,SILCAT,SILCAT_FLAG_W,NITRAT,NITRAT_FLAG_W,NITRIT,NITRIT_FLAG_W,PHSPHT,PHSPHT_FLAG_W,CFC-11,CFC-11_FLAG_W,CFC-12,CFC-12_FLAG_W,CCL4,CCL4_FLAG_W,TCARBN,TCARBN_FLAG_W,ALKALI,ALKALI_FLAG_W,PCO2,PCO2_FLAG_W,PCO2TMP,PH_TOT,PH_TOT_FLAG_W,PH_TMP,SF6,SF6_FLAG_W,DOC,DOC_FLAG_W,TDN,TDN_FLAG_W,TRITUM,TRITUM_FLAG_W,HELIUM,HELIUM_FLAG_W,OXY_18,OXY_18_FLAG_W,BLACKC,BLACKC_FLAG_W,PIGMENTS,PIGMENTS_FLAG_W,SIGMA-THETA,SIGMA-1,SIGMA-2,SIGMA-3,SIGMA-4
,,,,,,,,,,,METERS,DBARS,ITS-90,PSS-78,,PSS-78,,G/KG,,UMOL/KG,,UMOL/KG,,UMOL/KG,,UMOL/KG,,UMOL/KG,,UMOL/KG,,PMOL/KG,,PMOL/KG,,PMOL/KG,,UMOL/KG,,UMOL/KG,,UATM@T,,DEG_C,,,DEG_C,FMOL/KG,,UMOL/KG,,UMOL/KG,,TU,,NMOL/KG,,,,,,,,,,,,
33RO20110828,   A10,    48,  1,     24,    024,2,20000101,0000,-30.0174,  -9.1096, 3794,      4.8,  18.1952,  35.9157,2,  35.9274,2,  36.0968,2,    235.9,2,    237.0,2,     1.27,2,     0.00,2,     0.00,2,     0.16,2,    2.321,2,    1.407,2,    3.345,3,   2083.0,6,   2355.3,2,   -999.0,9,  -999.00,   7.9214,2,    25.50,    1.452,2,   -999.0,9,   -999.0,9, -999.000,9,-999.0000,9,-999.0000,9,-999.0000,9,-999.0000,1, 25.934, 30.229, 34.429, 38.538, 42.558
33RO20110828,   A10,    48,  1,     23,    023,2,20000101,0000,-30.0174,  -9.1096, 3794,     49.8,  17.6002,  35.8786,2,  35.8731,2,  36.0423,2,    241.1,2,    241.8,2,     1.27,2,     0.00,2,     0.00,2,     0.17,2,    2.366,2,    1.434,2,    3.679,3,   -999.0,9,   2339.6,4,   -999.0,9,  -999.00,   7.9209,2,    25.58,    1.392,2,   -999.0,9,   -999.0,9, -999.000,9,-999.0000,9,-999.0000,9,-999.0000,9,-999.0000,1, 26.042, 30.347, 34.557, 38.675, 42.704
33RO20110828,   A10,    48,  1,     22,    022,2,20000101,0000,-30.0174,  -9.1096, 3794,     99.3,  16.9963,  35.8379,2,  35.8370,2,  36.0060,2,    232.4,2,    233.3,2,     1.46,2,     0.39,2,     0.48,2,     0.23,2,    2.398,2,    1.453,2,    2.586,3,   -999.0,9,   2350.1,2,   -999.0,9,  -999.00,   7.9078,2,    25.50,    1.481,2,   -999.0,9,   -999.0,9, -999.000,9,-999.0000,9,-999.0000,9,-999.0000,9,-999.0000,1, 26.162, 30.477, 34.698, 38.826, 42.865
33RO20110828,   A10,    48,  1,     21,    021,2,20000101,0000,-30.0174,  -9.1096, 3794,    149.9,  16.5845,  35.7509,2,  35.7529,2,  35.9214,2,    232.3,2,    231.1,2,     1.66,2,     1.27,2,     0.24,2,     0.27,2,    2.445,2,    1.472,2,    2.248,3,   2089.5,2,   2344.8,2,   -999.0,9,  -999.00,   7.8960,2,    25.62,    1.434,2,   -999.0,9,   -999.0,9, -999.000,9,-999.0000,9,-999.0000,9,-999.0000,9,-999.0000,1, 26.197, 30.520, 34.748, 38.883, 42.929
33RO20110828,   A10,    48,  1,     20,    020,2,20000101,0000,-30.0174,  -9.1096, 3794,    200.3,  14.5831,  35.3769,2,  35.3752,2,  35.5420,2,    218.2,2,    217.7,2,     2.83,2,     5.95,2,     0.01,2,     0.57,2,    2.713,2,    1.603,2,    1.155,3,   -999.0,9,   2325.0,2,   -999.0,9,  -999.00,   7.8331,2,    25.57,    1.441,2,   -999.0,9,   -999.0,9, -999.000,9,-999.0000,9,-999.0000,9,-999.0000,9,-999.0000,1, 26.359, 30.721, 34.986, 39.157, 43.237
33RO20110828,   A10,    48,  1,     19,    019,2,20000101,0000,-30.0174,  -9.1096, 3794,    254.1,  13.1460,  35.1865,2,  35.1877,2,  35.3536,2,    213.9,2,    211.3,2,     3.81,2,     9.66,2,     0.01,2,     0.80,2,    2.910,2,    1.677,2,    1.112,3,   -999.0,9,   2315.6,2,   -999.0,9,  -999.00,   7.7986,2,    25.57,    1.323,2,   -999.0,9,   -999.0,9, -999.000,9,-999.0000,9,-999.0000,9,-999.0000,9,-999.0000,9, 26.516, 30.906, 35.199, 39.397, 43.503
33RO20110828,   A10,    48,  1,     18,    018,2,20000101,0000,-30.0174,  -9.1096, 3794,    335.0,  11.9414,  35.0449,2,  35.0414,2,  35.2066,2,    210.5,2,    209.4,2,     4.88,2,    12.69,2,     0.01,2,     1.00,2,    3.040,2,    1.716,2,    1.165,3,   -999.0,9,   2307.7,2,   -999.0,9,  -999.00,   7.7640,2,    25.61,    1.229,2,   -999.0,9,   -999.0,9, -999.000,9,-999.0000,9,-999.0000,9,-999.0000,9,-999.0000,9, 26.641, 31.056, 35.373, 39.595, 43.724
33RO20110828,   A10,    48,  1,     17,    017,2,20000101,0000,-30.0174,  -9.1096, 3794,    425.3,  10.3918,  34.8474,2,  34.8458,2,  35.0102,2,    206.7,2,    208.0,2,     6.74,2,    16.40,2,     0.01,2,     1.25,2,    3.133,2,    1.727,2,    1.352,3,   2141.0,2,   2298.3,2,   -999.0,9,  -999.00,   7.7253,2,    25.59,    1.130,2,   -999.0,9,   -999.0,9, -999.000,9,-999.0000,9,-999.0000,9,-999.0000,9,-999.0000,9, 26.773, 31.221, 35.571, 39.824, 43.984
33RO20110828,   A10,    48,  1,     16,    016,2,20000101,0000,-30.0174,  -9.1096, 3794,    549.1,   8.2075,  34.5926,2,  34.5923,2,  34.7554,2,    199.8,2,    200.0,2,    11.72,2,    22.46,2,     0.00,2,     1.67,2,    3.087,2,    1.640,2,    1.889,3,   -999.0,9,   2290.8,2,   -999.0,9,  -999.00,   7.6617,2,    25.59,    0.898,2,   -999.0,9,   -999.0,9, -999.000,9,-999.0000,9,-999.0000,9,-999.0000,9,-999.0000,9, 26.931, 31.430, 35.828, 40.129, 44.333
33RO20110828,   A10,    48,  1,     15,    015,2,20000101,0000,-30.0174,  -9.1096, 3794,    648.7,   6.7384,  34.4475,2,  34.4465,2,  34.6089,2,    206.0,2,    206.0,2,    15.23,2,    25.49,2,     0.00,2,     1.88,2,    3.093,2,    1.601,2,    1.975,3,   -999.0,9,   2285.9,2,   -999.0,9,  -999.00,   7.6372,2,    25.58,    0.902,2,   -999.0,9,   -999.0,9, -999.000,9,-999.0000,9,-999.0000,9,-999.0000,9,-999.0000,9, 27.027, 31.561, 35.994, 40.328, 44.565
33RO20110828,   A10,    48,  1,     14,    014,2,20000101,0000,-30.0174,  -9.1096, 3794,    750.0,   5.3000,  34.3285,2,  34.3297,2,  34.4916,2,    219.1,2,    219.3,2,    19.34,2,    27.74,2,     0.00,2,     2.04,2,    3.084,2,    1.577,2,    2.352,3,   2173.4,2,   2284.0,2,   -999.0,9,  -999.00,   7.6231,2,    25.56,    0.755,2,   -999.0,9,   -999.0,9, -999.000,9,-999.0000,9,-999.0000,9,-999.0000,9,-999.0000,9, 27.116, 31.687, 36.155, 40.523, 44.793
33RO20110828,   A10,    48,  1,     13,    013,2,20000101,0000,-30.0174,  -9.1096, 3794,    899.9,   4.1448,  34.3179,2,  34.3188,2,  34.4806,2,    211.3,2,    211.9,2,    30.86,2,    30.47,2,     0.00,2,     2.25,2,    2.353,2,    1.173,2,    2.304,3,   -999.0,9,   2293.1,2,   -999.0,9,  -999.00,   7.5918,2,    25.60,    0.547,2,   -999.0,9,   -999.0,9, -999.000,9,-999.0000,9,-999.0000,9,-999.0000,9,-999.0000,9, 27.236, 31.837, 36.334, 40.730, 45.027
33RO20110828,   A10,    48,  1,     12,    012,2,20000101,0000,-30.0174,  -9.1096, 3794,   1049.5,   3.6093,  34.3864,2,  34.3873,2,  34.5494,2,    194.6,2,    194.6,2,    42.77,2,    32.23,2,     0.00,2,     2.38,2,    1.465,2,    0.719,2,    1.575,3,   -999.0,9,   2304.2,2,   -999.0,9,  -999.00,   7.5710,2,    25.60,    0.278,2,   -999.0,9,   -999.0,9, -999.000,9,-999.0000,9,-999.0000,9,-999.0000,9,-999.0000,9, 27.346, 31.960, 36.470, 40.879, 45.189
33RO20110828,   A10,    48,  1,     11,    011,2,20000101,0000,-30.0174,  -9.1096, 3794,   1249.3,   3.1497,  34.5057,2,  34.5084,2,  34.6712,2,    184.0,2,    184.4,2,    53.71,2,    32.42,2,     0.00,2,     2.41,2,    0.644,2,    0.310,2,    0.890,3,   2226.6,2,   2316.0,2,   -999.0,9,  -999.00,   7.5594,2,    25.53,    0.070,2,   -999.0,9,   -999.0,9, -999.000,9,-999.0000,9,-999.0000,9,-999.0000,9,-999.0000,9, 27.487, 32.113, 36.635, 41.055, 45.375
33RO20110828,   A10,    48,  1,     10,    010,2,20000101,0000,-30.0174,  -9.1096, 3794,   1450.6,   2.9538,  34.6171,2,  34.6179,2,  34.7811,2,    187.8,2,    187.1,2,    56.44,2,    30.95,2,     0.00,2,     2.29,2,    0.288,2,    0.137,2,    0.453,3,   -999.0,9,   2322.3,2,   -999.0,9,  -999.00,   7.5776,2,    25.64,    0.035,2,   -999.0,9,   -999.0,9, -999.000,9,-999.0000,9,-999.0000,9,-999.0000,9,-999.0000,9, 27.594, 32.224, 36.751, 41.175, 45.499
33RO20110828,   A10,    48,  1,      9,    009,2,20000101,0000,-30.0174,  -9.1096, 3794,   1649.4,   2.8328,  34.7059,2,  34.7057,2,  34.8694,2,    196.8,2,    198.1,2,    56.04,2,    29.29,2,     0.00,2,     2.14,2,    0.136,2,    0.065,2,    0.284,3,   -999.0,9,   2326.0,2,   -999.0,9,  -999.00,   7.5961,2,    25.57,    0.000,2,   -999.0,9,   -999.0,9, -999.000,9,-999.0000,9,-999.0000,9,-999.0000,9,-999.0000,9, 27.676, 32.310, 36.839, 41.266, 45.593
33RO20110828,   A10,    48,  1,      8,    008,2,20000101,0000,-30.0174,  -9.1096, 3794,   1849.7,   2.7468,  34.7677,2,  34.7698,2,  34.9338,2,    207.5,2,    207.1,2,    54.28,2,    27.43,2,     0.00,2,     2.00,2,    0.062,2,    0.032,2,    0.155,3,   -999.0,9,   2328.1,2,   -999.0,9,  -999.00,   7.6238,2,    25.59,    0.034,2,   -999.0,9,   -999.0,9, -999.000,9,-999.0000,9,-999.0000,9,-999.0000,9,-999.0000,9, 27.736, 32.372, 36.904, 41.333, 45.662
33RO20110828,   A10,    48,  1,      7,    007,2,20000101,0000,-30.0174,  -9.1096, 3794,   2050.0,   2.6488,  34.8044,2,  34.8060,2,  34.9702,2,    217.5,2,    217.1,2,    53.21,2,    26.07,2,     0.00,2,     1.90,2,    0.032,2,    0.016,2,    0.116,3,   -999.0,9,   2329.9,2,   -999.0,9,  -999.00,   7.6390,2,    25.57,    0.000,2,   -999.0,9,   -999.0,9, -999.000,9,-999.0000,9,-999.0000,9,-999.0000,9,-999.0000,9, 27.775, 32.414, 36.948, 41.380, 45.712
33RO20110828,   A10,    48,  1,      6,    006,2,20000101,0000,-30.0174,  -9.1096, 3794,   2350.4,   2.5117,  34.8389,2,  34.8422,2,  35.0065,2,    227.3,2,    227.0,2,    52.03,2,    24.70,2,     0.00,2,     1.80,2,    0.010,2,    0.007,2,    0.072,3,   2202.8,2,   2332.3,2,   -999.0,9,  -999.00,   7.6601,2,    25.52,    0.022,2,   -999.0,9,   -999.0,9, -999.000,9,-999.0000,9,-999.0000,9,-999.0000,9,-999.0000,9, 27.818, 32.461, 36.999, 41.435, 45.770
33RO20110828,   A10,    48,  1,      5,    005,2,20000101,0000,-30.0174,  -9.1096, 3794,   2599.8,   2.4389,  34.8534,2,  34.8547,2,  35.0190,2,    232.9,2,    232.8,2,    51.25,2,    24.11,2,     0.00,2,     1.74,2,    0.006,2,    0.004,2,    0.046,3,   -999.0,9,   2334.8,2,   -999.0,9,  -999.00,   7.6660,2,    25.62,    0.000,2,   -999.0,9,   -999.0,9, -999.000,9,-999.0000,9,-999.0000,9,-999.0000,9,-999.0000,9, 27.836, 32.481, 37.022, 41.460, 45.798
33RO20110828,   A10,    48,  1,      4,    004,2,20000101,0000,-30.0174,  -9.1096, 3794,   2900.2,   2.3820,  34.8640,2,  34.8674,2,  35.0318,2,    237.1,2,    236.9,2,    51.25,2,    23.53,2,     0.00,2,     1.70,2,    0.006,2,    0.006,2,    0.047,3,   -999.0,9,   2336.4,2,   -999.0,9,  -999.00,   7.6738,2,    25.54,    0.083,2,   -999.0,9,   -999.0,9, -999.000,9,-999.0000,9,-999.0000,9,-999.0000,9,-999.0000,9, 27.853, 32.500, 37.044, 41.484, 45.824
33RO20110828,   A10,    48,  1,      3,    003,2,20000101,0000,-30.0174,  -9.1096, 3794,   3202.7,   2.3619,  34.8699,2,  34.8743,6,  35.0388,6,    238.1,2,    238.6,2,    51.55,2,    23.43,2,     0.00,2,     1.69,2,    0.006,2,    0.004,2,    0.039,3,   -999.0,9,   2339.5,2,   -999.0,9,  -999.00,   7.6782,2,    25.50,    0.076,2,   -999.0,9,   -999.0,9, -999.000,9,-999.0000,9,-999.0000,9,-999.0000,9,-999.0000,9, 27.859, 32.508, 37.052, 41.494, 45.835
33RO20110828,   A10,    48,  1,      2,    002,2,20000101,0000,-30.0174,  -9.1096, 3794,   3500.5,   2.3689,  34.8741,2,  34.8760,2,  35.0404,2,    237.4,2,    237.9,2,    51.84,2,    23.33,2,     0.00,2,     1.68,2,    0.005,2,    0.004,2,    0.041,3,   -999.0,9,   2342.7,2,   -999.0,9,  -999.00,   7.6766,2,    25.59,    0.080,2,   -999.0,9,   -999.0,9, -999.000,9,-999.0000,9,-999.0000,9,-999.0000,9,-999.0000,9, 27.866, 32.515, 37.061, 41.503, 45.844
33RO20110828,   A10,    48,  1,      1,    001,2,20000101,0000,-30.0174,  -9.1096, 3794,   3820.6,   2.3908,  34.8767,2,  34.8778,2,  35.0422,2,    235.9,2,    235.5,2,    52.03,2,    23.33,2,     0.01,2,     1.68,2,    0.004,2,    0.004,2,    0.027,3,   2204.8,2,   2346.7,2,   -999.0,9,  -999.00,   7.7164,4,    25.58,    0.060,2,   -999.0,9,   -999.0,9, -999.000,9,-999.0000,9,-999.0000,9,-999.0000,9,-999.0000,9, 27.868, 32.518, 37.064, 41.507, 45.848