BOTTLE,20130715NOAA
EXPOCODE,SECT_ID,STNNBR,CASTNO,SAMPNO,BTLNBR,BTLNBR_FLAG_W,DATE,TIME,LATITUDE,LONGITUDE,DEPTH,CTDPRS,CTDTMP,CTDSAL,CTDSAL_FLAG_W,SALNTY,SALNTY_FLAG_W,SALTREF,SALTREF_FLAG_W,CTDOXY,CTDOXY_FLAG_W,OXYGEN,OXYGEN_FLAG_W,SILCAT,SILCAT_FLAG_W,NITRAT,NITRAT_FLAG_W,NITRIT,NITRIT_FLAG_W,PHSPHT,PHSPHT_FLAG_W,CFC-11,CFC-11_FLAG_W,CFC-12,CFC-12_FLAG_W,CCL4,CCL4_FLAG_W,TCARBN,TCARBN_FLAG_W,ALKALI,ALKALI_FLAG_W,PCO2,PCO2_FLAG_W,PCO2TMP,PH_TOT,PH_TOT_FLAG_W,PH_TMP,SF6,SF6_FLAG_W,DOC,DOC_FLAG_W,TDN,TDN_FLAG_W,TRITUM,TRITUM_FLAG_W,HELIUM,HELIUM_FLAG_W,OXY_18,OXY_18_FLAG_W,BLACKC,BLACKC_FLAG_W,PIGMENTS,PIGMENTS_FLAG_W,SIGMA-THETA,SIGMA-1,SIGMA-2,SIGMA-3,SIGMA-4
,,,,,,,,,,,METERS,DBARS,ITS-90,PSS-78,,PSS-78,,G/KG,,UMOL/KG,,UMOL/KG,,UMOL/KG,,UMOL/KG,,UMOL/KG,,UMOL/KG,,PMOL/KG,,PMOL/KG,,PMOL/KG,,UMOL/KG,,UMOL/KG,,UATM@T,,DEG_C,,,DEG_C,FMOL/KG,,UMOL/KG,,UMOL/KG,,TU,,NMOL/KG,,,,,,,,,,,,
33RO20110828,   A10,    77,  1,     24,    024,2,20000101,0000,-30.0006, -29.8189, 3296,      4.2,  18.8392,  36.1588,2,  36.1588,2,  36.3293,2,    230.8,2,    231.2,2,     0.97,2,     0.10,2,     0.00,2,     0.06,2,    2.213,2,    1.343,2,    3.236,3,   2080.5,6,   2368.6,2,   -999.0,9,  -999.00,   7.9626,2,    25.65,    1.372,2,   -999.0,1,   -999.0,1, -999.000,9,-999.0000,9,-999.0000,9,-999.0000,9,-999.0000,1, 25.949, 30.231, 34.420, 38.518, 42.527
33RO20110828,   A10,    77,  1,     23,    023,2,20000101,0000,-30.0006, -29.8189, 3296,     60.3,  18.8359,  36.1563,2,  36.1555,2,  36.3260,2,    229.1,2,    231.1,2,     1.07,2,     0.10,2,     0.00,2,     0.07,2, -999.000,9, -999.000,9, -999.000,9,   2079.7,2,   2369.2,2,   -999.0,9,  -999.00,   7.9484,2,    25.61, -999.000,9,   -999.0,1,   -999.0,1, -999.000,9,-999.0000,9,-999.0000,9,-999.0000,9,-999.0000,1, 25.949, 30.233, 34.422, 38.519, 42.528
33RO20110828,   A10,    77,  1,     22,    022,2,20000101,0000,-30.0006, -29.8189, 3296,    111.1,  18.7520,  36.1656,2,  36.1632,2,  36.3337,2,    227.7,2,    230.0,2,     1.07,2,     0.10,2,     0.02,2,     0.08,2,    2.229,2,    1.357,2,    2.975,3,   2084.0,2,   2369.9,2,   -999.0,9,  -999.00,   7.9515,2,    25.63,    1.365,2,   -999.0,1,   -999.0,1, -999.000,9,-999.0000,9,-999.0000,9,-999.0000,9,-999.0000,1, 25.979, 30.264, 34.454, 38.553, 42.564
33RO20110828,   A10,    77,  1,     21,    021,2,20000101,0000,-30.0006, -29.8189, 3296,    166.4,  17.2198,  35.8581,2,  35.8593,2,  36.0284,2,    230.5,2,    224.1,2,     1.27,2,     1.37,2,     0.06,2,     0.19,2, -999.000,9, -999.000,9, -999.000,9,   2093.0,2,   2351.5,2,   -999.0,9,  -999.00,   7.9148,2,    25.61, -999.000,9,   -999.0,1,   -999.0,1, -999.000,9,-999.0000,9,-999.0000,9,-999.0000,9,-999.0000,1, 26.128, 30.440, 34.657, 38.781, 42.817
33RO20110828,   A10,    77,  1,     20,    020,2,20000101,0000,-30.0006, -29.8189, 3296,    251.1,  15.2834,  35.5058,2,  35.5079,2,  35.6754,2,    216.3,2,    214.9,2,     2.05,2,     4.97,2,     0.01,2,     0.38,2,    2.659,2,    1.565,2,    1.001,3,   2106.1,2,   2329.1,2,   -999.0,9,  -999.00,   7.8599,2,    25.59,    1.293,2,   -999.0,1,   -999.0,1, -999.000,9,-999.0000,9,-999.0000,9,-999.0000,9,-999.0000,9, 26.309, 30.658, 34.910, 39.068, 43.136
33RO20110828,   A10,    77,  1,     19,    019,2,20000101,0000,-30.0006, -29.8189, 3296,    326.1,  13.8944,  35.2992,2,  35.3058,2,  35.4723,2,    211.2,2,    211.4,2,     2.83,2,     7.90,2,     0.01,2,     0.54,2, -999.000,9, -999.000,9, -999.000,9,   2113.4,2,   2318.0,2,   -999.0,9,  -999.00,   7.8260,2,    25.61, -999.000,9,   -999.0,1,   -999.0,1, -999.000,9,-999.0000,9,-999.0000,9,-999.0000,9,-999.0000,9, 26.456, 30.831, 35.109, 39.294, 43.386
33RO20110828,   A10,    77,  1,     18,    018,2,20000101,0000,-30.0006, -29.8189, 3296,    376.1,  13.1359,  35.2246,2,  35.2312,2,  35.3973,2,    213.3,2,    215.1,2,     3.12,2,     9.27,2,     0.00,2,     0.60,2,    2.955,2,    1.685,2,    1.049,3,   2118.6,2,   2314.3,2,   -999.0,9,  -999.00,   7.8175,2,    25.71,    1.266,2,   -999.0,1,   -999.0,1, -999.000,9,-999.0000,9,-999.0000,9,-999.0000,9,-999.0000,9, 26.555, 30.946, 35.239, 39.437, 43.544
33RO20110828,   A10,    77,  1,     17,    017,2,20000101,0000,-30.0006, -29.8189, 3296,    424.8,  12.1541,  35.0777,2,  35.0781,2,  35.2436,2,    209.4,2,    210.7,2,     4.10,2,    11.90,2,     0.01,2,     0.74,2, -999.000,9, -999.000,9, -999.000,9,   2126.8,2,   2307.1,2,   -999.0,9,  -999.00,   7.7908,2,    25.68, -999.000,9,   -999.0,1,   -999.0,1, -999.000,9,-999.0000,9,-999.0000,9,-999.0000,9,-999.0000,9, 26.631, 31.042, 35.355, 39.573, 43.698
33RO20110828,   A10,    77,  1,     16,    016,2,20000101,0000,-30.0006, -29.8189, 3296,    526.0,  10.4001,  34.8523,2,  34.8609,2,  35.0253,2,    205.9,2,    206.9,2,     6.54,2,    16.39,2,     0.00,2,     0.99,2,    3.152,2,    1.707,2,    1.389,3,   2139.7,2,   2296.9,2,   -999.0,9,  -999.00,   7.7326,2,    25.54,    1.037,2,   -999.0,1,   -999.0,1, -999.000,9,-999.0000,9,-999.0000,9,-999.0000,9,-999.0000,9, 26.785, 31.234, 35.584, 39.837, 43.996
33RO20110828,   A10,    77,  1,     15,    015,2,20000101,0000,-30.0006, -29.8189, 3296,    624.6,   8.4890,  34.6237,2,  34.6262,2,  34.7895,2,    203.0,2,    202.8,2,    10.35,2,    21.67,2,     0.00,2,     1.29,2,    3.164,2,    1.649,2,    1.926,3,   2155.0,2,   2289.0,2,   -999.0,9,  -999.00,   7.6787,2,    25.54,    0.884,2,   -999.0,1,   -999.0,1, -999.000,9,-999.0000,9,-999.0000,9,-999.0000,9,-999.0000,9, 26.916, 31.409, 35.801, 40.095, 44.294
33RO20110828,   A10,    77,  1,     14,    014,2,20000101,0000,-30.0006, -29.8189, 3296,    724.6,   6.6909,  34.4433,2,  34.4449,2,  34.6074,2,    209.1,2,    209.2,2,    14.54,2,    25.48,2,     0.00,2,     1.52,2,    3.140,2,    1.606,2,    2.204,3,   2165.9,2,   2284.1,2,   -999.0,9,  -999.00,   7.6413,2,    25.67,    0.785,2,   -999.0,1,   -999.0,1, -999.000,9,-999.0000,9,-999.0000,9,-999.0000,9,-999.0000,9, 27.033, 31.568, 36.003, 40.338, 44.576
33RO20110828,   A10,    77,  1,     13,    013,2,20000101,0000,-30.0006, -29.8189, 3296,    849.7,   5.1222,  34.3172,2,  34.3158,2,  34.4776,2,    221.0,2,    222.1,2,    19.82,2,    27.82,2,     0.00,2,     1.70,2,    3.076,2,    1.535,2,    3.152,3,   2172.1,2,   2283.1,2,   -999.0,9,  -999.00,   7.6215,2,    25.62,    0.700,2,   -999.0,1,   -999.0,1, -999.000,9,-999.0000,9,-999.0000,9,-999.0000,9,-999.0000,9, 27.127, 31.702, 36.175, 40.547, 44.822
33RO20110828,   A10,    77,  1,     12,    012,2,20000101,0000,-30.0006, -29.8189, 3296,    949.7,   4.3354,  34.3151,2,  34.3146,2,  34.4764,2,    214.4,2,    214.0,2,    28.02,2,    29.87,2,     0.00,2,     1.87,2,    2.464,2,    1.209,2,    2.863,3,   2188.2,2,   2289.1,2,   -999.0,9,  -999.00,   7.5938,2,    25.59,    0.484,2,   -999.0,1,   -999.0,1, -999.000,9,-999.0000,9,-999.0000,9,-999.0000,9,-999.0000,9, 27.214, 31.809, 36.302, 40.693, 44.986
33RO20110828,   A10,    77,  1,     11,    011,2,20000101,0000,-30.0006, -29.8189, 3296,   1050.4,   3.9252,  34.3487,2,  34.3494,2,  34.5113,2,    204.9,2,    203.9,2,    35.34,2,    31.24,2,     0.00,2,     2.01,2,    1.862,2,    0.910,2,    2.344,3,   2202.3,2,   2296.1,2,   -999.0,9,  -999.00,   7.5735,2,    25.59,    0.341,2,   -999.0,1,   -999.0,1, -999.000,9,-999.0000,9,-999.0000,9,-999.0000,9,-999.0000,9, 27.284, 31.890, 36.393, 40.795, 45.097
33RO20110828,   A10,    77,  1,     10,    010,2,20000101,0000,-30.0006, -29.8189, 3296,   1202.6,   3.3644,  34.4237,2,  34.4230,2,  34.5853,2,    192.2,2,    192.9,2,    46.66,2,    32.21,2,     0.00,2,     2.15,2,    1.068,2,    0.517,2,    1.597,3,   2217.7,2,   2307.4,2,   -999.0,9,  -999.00,   7.5535,2,    25.60,    0.133,2,   -999.0,1,   -999.0,1, -999.000,9,-999.0000,9,-999.0000,9,-999.0000,9,-999.0000,9, 27.399, 32.019, 36.536, 40.951, 45.267
33RO20110828,   A10,    77,  1,      9,    009,2,20000101,0000,-30.0006, -29.8189, 3296,   1350.0,   3.1335,  34.5013,2,  34.5019,2,  34.6646,2,    188.2,2,    187.8,2,    52.90,2,    32.21,2,     0.00,2,     2.18,2,    0.616,2,    0.297,2,    1.039,3,   2225.9,2,   2314.5,2,   -999.0,9,  -999.00,   7.5601,2,    25.63,    0.078,2,   -999.0,1,   -999.0,1, -999.000,9,-999.0000,9,-999.0000,9,-999.0000,9,-999.0000,9, 27.484, 32.111, 36.633, 41.054, 45.374
33RO20110828,   A10,    77,  1,      8,    008,2,20000101,0000,-30.0006, -29.8189, 3296,   1523.3,   2.9547,  34.6132,2,  34.6170,6,  34.7802,6,    189.4,2,    189.8,2,    55.54,2,    30.55,2,     0.00,2,     2.12,2,    0.257,2,    0.125,2,    0.646,3,   2226.3,6,   2321.9,2,   -999.0,9,  -999.00,   7.5777,2,    25.61,    0.000,2,   -999.0,1,   -999.0,1, -999.000,9,-999.0000,9,-999.0000,9,-999.0000,9,-999.0000,9, 27.590, 32.221, 36.748, 41.172, 45.497
33RO20110828,   A10,    77,  1,      7,    007,2,20000101,0000,-30.0006, -29.8189, 3296,   1697.8,   2.8749,  34.6859,2,  34.6863,2,  34.8499,2,    197.0,2,    197.0,2,    54.95,2,    29.28,2,     0.00,2,     2.03,2,    0.132,2,    0.064,2,    0.413,3,   2222.6,2,   2323.7,2,   -999.0,9,  -999.00,   7.5815,2,    25.61,    0.059,2,   -999.0,1,   -999.0,1, -999.000,9,-999.0000,9,-999.0000,9,-999.0000,9,-999.0000,9, 27.657, 32.290, 36.818, 41.245, 45.571
33RO20110828,   A10,    77,  1,      6,    006,2,20000101,0000,-30.0006, -29.8189, 3296,   1874.7,   2.7953,  34.7487,2,  34.7496,2,  34.9135,2,    206.6,2,    207.1,2,    53.38,2,    27.62,2,     0.00,2,     1.91,2,    0.061,2,    0.031,2,    0.262,3,   2215.9,2,   2326.7,2,   -999.0,9,  -999.00,   7.6141,2,    25.48,    0.017,2,   -999.0,1,   -999.0,1, -999.000,9,-999.0000,9,-999.0000,9,-999.0000,9,-999.0000,9, 27.716, 32.351, 36.881, 41.310, 45.638
33RO20110828,   A10,    77,  1,      5,    005,2,20000101,0000,-30.0006, -29.8189, 3296,   2174.0,   2.7289,  34.8206,2,  34.8232,2,  34.9875,2,    223.8,2,    223.1,2,    48.21,2,    24.98,2,     0.00,2,     1.72,2,    0.021,2,    0.012,2,    0.139,3,   2202.7,2,   2327.0,2,   -999.0,9,  -999.00,   7.6531,2,    25.58,    0.000,2,   -999.0,1,   -999.0,1, -999.000,9,-999.0000,9,-999.0000,9,-999.0000,9,-999.0000,9, 27.783, 32.420, 36.952, 41.382, 45.712
33RO20110828,   A10,    77,  1,      4,    004,2,20000101,0000,-30.0006, -29.8189, 3296,   2476.0,   2.7654,  34.8748,2,  34.8755,2,  35.0399,2,    237.0,2,    237.8,2,    40.69,2,    22.74,2,     0.00,2,     1.54,2,    0.009,2,    0.006,2,    0.100,3,   2188.3,2,   2325.3,2,   -999.0,9,  -999.00,   7.6689,2,    25.61,    0.000,2,   -999.0,1,   -999.0,1, -999.000,9,-999.0000,9,-999.0000,9,-999.0000,9,-999.0000,9, 27.824, 32.460, 36.992, 41.422, 45.751
33RO20110828,   A10,    77,  1,      3,    003,2,20000101,0000,-30.0006, -29.8189, 3296,   2774.0,   2.7249,  34.8937,2,  34.8957,2,  35.0603,2,    243.4,2,    244.4,2,    38.64,2,    21.86,2,     0.01,2,     1.47,2,    0.009,2,    0.006,2,    0.100,3,   2183.2,2,   2324.5,2,   -999.0,9,  -999.00,   7.6903,2,    25.52,    0.000,2,   -999.0,1,   -999.0,1, -999.000,9,-999.0000,9,-999.0000,9,-999.0000,9,-999.0000,9, 27.846, 32.484, 37.018, 41.449, 45.780
33RO20110828,   A10,    77,  1,      2,    002,2,20000101,0000,-30.0006, -29.8189, 3296,   3077.0,   2.6904,  34.8946,2,  34.8969,2,  35.0615,2,    245.1,2,    245.5,2,    39.33,2,    21.66,2,     0.00,2,     1.47,2,    0.013,2,    0.009,2,    0.118,3,   2183.0,2,   2325.7,2,   -999.0,9,  -999.00,   7.6826,2,    25.50,    0.000,2,   -999.0,1,   -999.0,1, -999.000,9,-999.0000,9,-999.0000,9,-999.0000,9,-999.0000,9, 27.853, 32.492, 37.028, 41.460, 45.793
33RO20110828,   A10,    77,  1,      1,    001,2,20000101,0000,-30.0006, -29.8189, 3296,   3308.8,   2.2937,  34.8674,2,  34.8694,2,  35.0338,2,    244.4,2,    243.7,2,    51.43,2,    22.83,2,     0.01,2,     1.62,2,    0.027,2,    0.016,2,    0.173,3,   2196.2,6,   2332.0,2,   -999.0,9,  -999.00,   7.6858,2,    25.38,    0.000,2,   -999.0,1,   -999.0,1, -999.000,9,-999.0000,9,-999.0000,9,-999.0000,9,-999.0000,9, 27.865, 32.516, 37.063, 41.506, 45.849