BOTTLE,20130715NOAA
EXPOCODE,SECT_ID,STNNBR,CASTNO,SAMPNO,BTLNBR,BTLNBR_FLAG_W,DATE,TIME,LATITUDE,LONGITUDE,DEPTH,CTDPRS,CTDTMP,CTDSAL,CTDSAL_FLAG_W,SALNTY,SALNTY_FLAG_W,SALTREF,SALTREF_FLAG_W,CTDOXY,CTDOXY_FLAG_W,OXYGEN,OXYGEN_FLAG_W,SILCAT,SILCAT_FLAG_W,NITRAT,NITRAT_FLAG_W,NITRIT,NITRIT_FLAG_W,PHSPHT,PHSPHT_FLAG_W,CFC-11,CFC-11_FLAG_W,CFC-12,CFC-12_FLAG_W,CCL4,CCL4_FLAG_W,TCARBN,TCARBN_FLAG_W,ALKALI,ALKALI_FLAG_W,PCO2,PCO2_FLAG_W,PCO2TMP,PH_TOT,PH_TOT_FLAG_W,PH_TMP,SF6,SF6_FLAG_W,DOC,DOC_FLAG_W,TDN,TDN_FLAG_W,TRITUM,TRITUM_FLAG_W,HELIUM,HELIUM_FLAG_W,OXY_18,OXY_18_FLAG_W,BLACKC,BLACKC_FLAG_W,PIGMENTS,PIGMENTS_FLAG_W,SIGMA-THETA,SIGMA-1,SIGMA-2,SIGMA-3,SIGMA-4
,,,,,,,,,,,METERS,DBARS,ITS-90,PSS-78,,PSS-78,,G/KG,,UMOL/KG,,UMOL/KG,,UMOL/KG,,UMOL/KG,,UMOL/KG,,UMOL/KG,,PMOL/KG,,PMOL/KG,,PMOL/KG,,UMOL/KG,,UMOL/KG,,UATM@T,,DEG_C,,,DEG_C,FMOL/KG,,UMOL/KG,,UMOL/KG,,TU,,NMOL/KG,,,,,,,,,,,,
33RO20110828,   A10,    54,  1,     24,    024,2,20000101,0000,-30.0000, -13.6636, 2310,      4.5,  18.1791,  35.9717,2,  35.9736,2,  36.1432,2,    236.5,2,    236.2,2,     1.46,2,     0.00,2,     0.01,2,     0.16,2,    2.303,2,    1.390,2,    3.661,3,   2085.8,6,   2358.2,2,   -999.0,9,  -999.00,   7.8984,2,    25.63,    1.448,2,   -999.0,1,   -999.0,1, -999.000,1,-999.0000,1,-999.0000,1,-999.0000,9,-999.0000,1, 25.974, 30.268, 34.469, 38.577, 42.597
33RO20110828,   A10,    54,  1,     23,    023,2,20000101,0000,-30.0000, -13.6636, 2310,     39.9,  18.1553,  35.9730,2,  35.9734,2,  36.1431,2,    235.6,2,    236.4,2,     1.46,2,     0.00,2,     0.01,2,     0.16,2,    2.300,2,    1.393,2,    2.932,3,   2086.0,2,   2359.6,2,   -999.0,9,  -999.00,   7.9264,2,    25.67,    1.406,2,   -999.0,1,   -999.0,1, -999.000,1,-999.0000,1,-999.0000,1,-999.0000,9,-999.0000,9, 25.981, 30.276, 34.477, 38.586, 42.606
33RO20110828,   A10,    54,  1,     22,    022,2,20000101,0000,-30.0000, -13.6636, 2310,    115.5,  17.1124,  35.8164,2,  35.8162,2,  35.9850,2,    234.3,2,    233.1,2,     1.66,2,     0.49,2,     0.21,2,     0.23,2,    2.443,2,    1.450,2,    1.665,3,   2090.3,2,   2346.9,2,   -999.0,9,  -999.00,   7.9110,2,    25.67,    1.456,2,   -999.0,1,   -999.0,1, -999.000,1,-999.0000,1,-999.0000,1,-999.0000,9,-999.0000,1, 26.119, 30.432, 34.651, 38.778, 42.815
33RO20110828,   A10,    54,  1,     21,    021,2,20000101,0000,-30.0000, -13.6636, 2310,    149.3,  16.5577,  35.7122,2,  35.7115,2,  35.8799,2,    227.9,2,    228.6,2,     1.95,2,     1.85,2,     0.12,2,     0.31,2,    2.493,2,    1.481,2,    1.615,3,   2095.2,2,   2340.1,2,   -999.0,9,  -999.00,   7.9027,2,    25.66,    1.386,2,   -999.0,1,   -999.0,1, -999.000,1,-999.0000,1,-999.0000,1,-999.0000,9,-999.0000,1, 26.171, 30.495, 34.724, 38.860, 42.906
33RO20110828,   A10,    54,  1,     20,    020,2,20000101,0000,-30.0000, -13.6636, 2310,    210.6,  14.7258,  35.4111,2,  35.4129,2,  35.5799,2,    218.0,2,    218.1,2,     2.73,2,     5.66,2,     0.02,2,     0.54,2,    2.747,2,    1.597,2,    0.708,3,   2108.8,2,   2325.4,2,   -999.0,9,  -999.00,   7.8451,2,    25.66,    1.403,2,   -999.0,1,   -999.0,1, -999.000,1,-999.0000,1,-999.0000,1,-999.0000,9,-999.0000,9, 26.357, 30.716, 34.979, 39.147, 43.225
33RO20110828,   A10,    54,  1,     19,    019,2,20000101,0000,-30.0000, -13.6636, 2310,    288.8,  13.6574,  35.2592,2,  35.2595,2,  35.4258,2,    219.0,2,    218.5,2,     3.12,2,     7.42,2,     0.01,2,     0.67,2,    2.901,2,    1.666,2,    0.748,3,   2113.7,2,   2314.3,2,   -999.0,9,  -999.00,   7.8114,2,    25.72,    1.396,2,   -999.0,1,   -999.0,1, -999.000,1,-999.0000,1,-999.0000,1,-999.0000,9,-999.0000,9, 26.468, 30.848, 35.131, 39.320, 43.417
33RO20110828,   A10,    54,  1,     18,    018,2,20000101,0000,-30.0000, -13.6636, 2310,    360.0,  12.6982,  35.1451,2,  35.1465,2,  35.3122,2,    215.1,2,    216.0,2,     3.90,2,    10.15,2,     0.01,2,     0.83,2,    3.014,2,    1.704,2,    0.824,3,   2122.5,2,   2310.9,2,   -999.0,9,  -999.00,   7.7904,2,    25.73,    1.333,2,   -999.0,1,   -999.0,1, -999.000,1,-999.0000,1,-999.0000,1,-999.0000,9,-999.0000,9, 26.576, 30.976, 35.278, 39.485, 43.599
33RO20110828,   A10,    54,  1,     17,    017,2,20000101,0000,-30.0000, -13.6636, 2310,    450.0,  10.7299,  34.8918,2,  34.8890,2,  35.0536,2,    211.4,2,    211.0,2,     6.25,2,    15.42,2,     0.01,2,     1.18,2,    3.257,2,    1.746,2,    0.621,3,   2137.9,2,   2298.5,2,   -999.0,9,  -999.00,   7.7342,2,    25.70,    1.214,2,   -999.0,1,   -999.0,1, -999.000,1,-999.0000,1,-999.0000,1,-999.0000,9,-999.0000,9, 26.748, 31.189, 35.531, 39.778, 43.930
33RO20110828,   A10,    54,  1,     16,    016,2,20000101,0000,-30.0000, -13.6636, 2310,    599.8,   7.8335,  34.5509,2,  34.5539,2,  34.7169,2,    208.1,2,    207.8,2,    11.72,2,    22.75,2,     0.01,2,     1.68,2,    3.251,2,    1.685,2,    1.503,3,   2160.5,2,   2284.3,2,   -999.0,9,  -999.00,   7.6630,2,    25.78,    0.920,2,   -999.0,1,   -999.0,1, -999.000,1,-999.0000,1,-999.0000,1,-999.0000,9,-999.0000,9, 26.957, 31.465, 35.872, 40.181, 44.394
33RO20110828,   A10,    54,  1,     15,    015,2,20000101,0000,-30.0000, -13.6636, 2310,    751.0,   5.4167,  34.3444,2,  34.3447,2,  34.5066,2,    215.9,2,    216.4,2,    19.73,2,    27.74,2,     0.01,2,     2.04,2,    3.067,2,    1.533,2,    2.196,3,   2175.9,2,   2282.7,2,   -999.0,9,  -999.00,   7.6147,2,    25.70,    0.766,2,   -999.0,1,   -999.0,1, -999.000,1,-999.0000,1,-999.0000,1,-999.0000,9,-999.0000,9, 27.114, 31.682, 36.147, 40.512, 44.779
33RO20110828,   A10,    54,  1,     14,    014,2,20000101,0000,-30.0000, -13.6636, 2310,    899.4,   4.1877,  34.2984,2,  34.2994,6,  34.4611,6,    219.7,2,    219.7,2,    28.03,2,    29.79,2,     0.01,2,     2.20,2,    2.624,2,    1.299,2,    2.288,3,   2190.8,2,   2291.1,3,   -999.0,9,  -999.00,   7.6042,2,    25.74,    0.638,2,   -999.0,1,   -999.0,1, -999.000,1,-999.0000,1,-999.0000,1,-999.0000,9,-999.0000,9, 27.216, 31.815, 36.311, 40.706, 45.002
33RO20110828,   A10,    54,  1,     13,    013,2,20000101,0000,-30.0000, -13.6636, 2310,   1050.2,   3.5783,  34.3458,2,  34.3465,2,  34.5084,2,    206.0,2,    206.4,2,    38.87,2,    31.45,2,     0.01,2,     2.33,2,    1.778,2,    0.872,2,    1.856,3,   2208.8,2,   -999.0,5,   -999.0,9,  -999.00,   7.5809,2,    25.74,    0.335,2,   -999.0,1,   -999.0,1, -999.000,1,-999.0000,1,-999.0000,1,-999.0000,9,-999.0000,9, 27.316, 31.931, 36.443, 40.853, 45.164
33RO20110828,   A10,    54,  1,     12,    012,2,20000101,0000,-30.0000, -13.6636, 2310,   1201.1,   3.1790,  34.4250,2,  34.4285,2,  34.5909,2,    194.1,2,    194.1,2,    48.83,2,    32.52,2,     0.01,2,     2.40,2,    1.056,2,    0.519,2,    1.306,3,   2222.6,2,   2305.2,2,   -999.0,9,  -999.00,   7.5561,2,    25.67,    0.184,2,   -999.0,1,   -999.0,1, -999.000,1,-999.0000,1,-999.0000,1,-999.0000,9,-999.0000,9, 27.420, 32.046, 36.567, 40.987, 45.307
33RO20110828,   A10,    54,  1,     11,    011,2,20000101,0000,-30.0000, -13.6636, 2310,   1400.7,   2.9346,  34.5704,2,  34.5717,6,  34.7348,6,    187.6,2,    187.8,2,    56.44,2,    31.64,2,     0.01,2,     2.34,2,    0.404,2,    0.199,2,    0.663,3,   2231.1,2,   2320.4,2,   -999.0,9,  -999.00,   7.5659,2,    25.77,    0.050,2,   -999.0,1,   -999.0,1, -999.000,1,-999.0000,1,-999.0000,1,-999.0000,9,-999.0000,9, 27.557, 32.188, 36.716, 41.141, 45.466
33RO20110828,   A10,    54,  1,     10,    010,2,20000101,0000,-30.0000, -13.6636, 2310,   1599.2,   2.8248,  34.6862,2,  34.6872,2,  34.8508,2,    196.3,2,    196.5,2,    56.73,2,    29.68,2,     0.01,2,     2.18,2,    0.159,2,    0.079,2,    0.346,3,   2227.2,2,   2323.7,2,   -999.0,9,  -999.00,   7.5856,2,    25.68,    0.000,2,   -999.0,1,   -999.0,1, -999.000,1,-999.0000,1,-999.0000,1,-999.0000,9,-999.0000,9, 27.662, 32.295, 36.825, 41.253, 45.580
33RO20110828,   A10,    54,  1,      9,    009,2,20000101,0000,-30.0000, -13.6636, 2310,   1799.7,   2.7454,  34.7575,2,  34.7590,2,  34.9229,2,    208.4,2,    209.0,2,    54.77,2,    27.63,2,     0.01,2,     2.02,2,    0.080,2,    0.041,2,    0.244,3,   2219.4,2,   2326.2,2,   -999.0,9,  -999.00,   7.6114,2,    25.73,    0.000,2,   -999.0,1,   -999.0,1, -999.000,1,-999.0000,1,-999.0000,1,-999.0000,9,-999.0000,9, 27.727, 32.363, 36.895, 41.324, 45.653
33RO20110828,   A10,    54,  1,      8,    008,2,20000101,0000,-30.0000, -13.6636, 2310,   2000.3,   2.6825,  34.8069,2,  34.8097,2,  34.9738,2,    219.3,2,    219.3,2,    51.74,2,    25.87,2,     0.01,2,     1.89,2,    0.051,2,    0.027,2,    0.182,3,   2210.7,2,   2327.3,2,   -999.0,9,  -999.00,   7.6461,2,    25.72,    0.000,2,   -999.0,1,   -999.0,1, -999.000,9,-999.0000,1,-999.0000,9,-999.0000,9,-999.0000,9, 27.775, 32.412, 36.946, 41.377, 45.707
33RO20110828,   A10,    54,  1,      7,    007,2,20000101,0000,-30.0000, -13.6636, 2310,   2251.3,   2.6097,  34.8305,2,  34.8317,2,  34.9960,2,    228.1,2,    228.2,2,    50.38,2,    24.89,2,     0.01,2,     1.81,2,    0.035,2,    0.022,2,    0.142,3,   2207.6,6,   2329.3,2,   -999.0,9,  -999.00,   7.6530,2,    25.67,    0.058,2,   -999.0,1,   -999.0,1, -999.000,1,-999.0000,1,-999.0000,9,-999.0000,9,-999.0000,9, 27.801, 32.440, 36.976, 41.410, 45.742
33RO20110828,   A10,    54,  1,      1,    001,2,20000101,0000,-30.0000, -13.6636, 2310,   2309.3,   2.6143,  34.8309,2,-999.0000,9,-999.0000,9,   -999.0,9,   -999.0,9,  -999.00,9,  -999.00,9,  -999.00,9,  -999.00,9, -999.000,9, -999.000,9, -999.000,9,   -999.0,9,   -999.0,9,   -999.0,9,  -999.00,-999.0000,9,  -999.00, -999.000,9,   -999.0,9,   -999.0,9, -999.000,9,-999.0000,9,-999.0000,9,-999.0000,1,-999.0000,9, 27.800, 32.440, 36.976, 41.409, 45.742
33RO20110828,   A10,    54,  1,      2,    002,2,20000101,0000,-30.0000, -13.6636, 2310,   2309.5,   2.6145,  34.8307,2,-999.0000,9,-999.0000,9,   -999.0,9,   -999.0,9,  -999.00,9,  -999.00,9,  -999.00,9,  -999.00,9, -999.000,9, -999.000,9, -999.000,9,   -999.0,9,   -999.0,9,   -999.0,9,  -999.00,-999.0000,9,  -999.00, -999.000,9,   -999.0,9,   -999.0,9, -999.000,9,-999.0000,9,-999.0000,9,-999.0000,1,-999.0000,9, 27.800, 32.440, 36.975, 41.409, 45.742
33RO20110828,   A10,    54,  1,      6,    006,2,20000101,0000,-30.0000, -13.6636, 2310,   2309.6,   2.6140,  34.8307,2,  34.8382,2,  35.0025,2,    228.4,2,    228.6,2,    50.18,2,    24.70,2,     0.01,2,     1.80,2,    0.033,2,    0.017,2,    0.147,3,   2205.6,2,   2326.0,2,   -999.0,9,  -999.00,   7.6681,2,    25.63,    0.000,2,   -999.0,1,   -999.0,1, -999.000,1,-999.0000,1,-999.0000,9,-999.0000,9,-999.0000,9, 27.806, 32.446, 36.981, 41.415, 45.748
33RO20110828,   A10,    54,  1,      5,    005,2,20000101,0000,-30.0000, -13.6636, 2310,   2309.9,   2.6138,  34.8309,2,-999.0000,9,-999.0000,9,   -999.0,9,   -999.0,9,  -999.00,9,  -999.00,9,  -999.00,9,  -999.00,9, -999.000,9, -999.000,9, -999.000,9,   -999.0,9,   -999.0,9,   -999.0,9,  -999.00,-999.0000,9,  -999.00, -999.000,9,   -999.0,9,   -999.0,9, -999.000,9,-999.0000,9,-999.0000,9,-999.0000,1,-999.0000,9, 27.800, 32.440, 36.976, 41.409, 45.742
33RO20110828,   A10,    54,  1,      4,    004,2,20000101,0000,-30.0000, -13.6636, 2310,   2310.1,   2.6141,  34.8308,2,-999.0000,9,-999.0000,9,   -999.0,9,   -999.0,9,  -999.00,9,  -999.00,9,  -999.00,9,  -999.00,9, -999.000,9, -999.000,9, -999.000,9,   -999.0,9,   -999.0,9,   -999.0,9,  -999.00,-999.0000,9,  -999.00, -999.000,9,   -999.0,9,   -999.0,9, -999.000,9,-999.0000,9,-999.0000,9,-999.0000,1,-999.0000,9, 27.800, 32.440, 36.976, 41.409, 45.742
33RO20110828,   A10,    54,  1,      3,    003,2,20000101,0000,-30.0000, -13.6636, 2310,   2310.3,   2.6141,  34.8309,2,-999.0000,9,-999.0000,9,   -999.0,9,   -999.0,9,  -999.00,9,  -999.00,9,  -999.00,9,  -999.00,9, -999.000,9, -999.000,9, -999.000,9,   -999.0,9,   -999.0,9,   -999.0,9,  -999.00,-999.0000,9,  -999.00, -999.000,9,   -999.0,9,   -999.0,9, -999.000,9,-999.0000,9,-999.0000,9,-999.0000,1,-999.0000,9, 27.800, 32.440, 36.976, 41.409, 45.742