BOTTLE,20130715NOAA
EXPOCODE,SECT_ID,STNNBR,CASTNO,SAMPNO,BTLNBR,BTLNBR_FLAG_W,DATE,TIME,LATITUDE,LONGITUDE,DEPTH,CTDPRS,CTDTMP,CTDSAL,CTDSAL_FLAG_W,SALNTY,SALNTY_FLAG_W,SALTREF,SALTREF_FLAG_W,CTDOXY,CTDOXY_FLAG_W,OXYGEN,OXYGEN_FLAG_W,SILCAT,SILCAT_FLAG_W,NITRAT,NITRAT_FLAG_W,NITRIT,NITRIT_FLAG_W,PHSPHT,PHSPHT_FLAG_W,CFC-11,CFC-11_FLAG_W,CFC-12,CFC-12_FLAG_W,CCL4,CCL4_FLAG_W,TCARBN,TCARBN_FLAG_W,ALKALI,ALKALI_FLAG_W,PCO2,PCO2_FLAG_W,PCO2TMP,PH_TOT,PH_TOT_FLAG_W,PH_TMP,SF6,SF6_FLAG_W,DOC,DOC_FLAG_W,TDN,TDN_FLAG_W,TRITUM,TRITUM_FLAG_W,HELIUM,HELIUM_FLAG_W,OXY_18,OXY_18_FLAG_W,BLACKC,BLACKC_FLAG_W,PIGMENTS,PIGMENTS_FLAG_W,SIGMA-THETA,SIGMA-1,SIGMA-2,SIGMA-3,SIGMA-4
,,,,,,,,,,,METERS,DBARS,ITS-90,PSS-78,,PSS-78,,G/KG,,UMOL/KG,,UMOL/KG,,UMOL/KG,,UMOL/KG,,UMOL/KG,,UMOL/KG,,PMOL/KG,,PMOL/KG,,PMOL/KG,,UMOL/KG,,UMOL/KG,,UATM@T,,DEG_C,,,DEG_C,FMOL/KG,,UMOL/KG,,UMOL/KG,,TU,,NMOL/KG,,,,,,,,,,,,
33RO20110828,   A10,    19,  1,     24,    024,4,20000101,0000,-29.7504,   5.5755, 5068,      3.1,  17.0641,  35.6752,2,  35.6753,2,  35.8436,2,    248.0,2,    247.3,2,     1.85,2,     0.00,2,     0.01,2,     0.16,2,    2.489,2,    1.486,2,    3.549,2,   2075.5,6,   2341.2,2,   -999.0,9,  -999.00,   7.9522,2,    25.45,    1.494,2,   -999.0,1,   -999.0,1, -999.000,9,-999.0000,9,-999.0000,9,-999.0000,9,-999.0000,1, 26.018, 30.333, 34.553, 38.681, 42.719
33RO20110828,   A10,    19,  1,     23,    023,2,20000101,0000,-29.7504,   5.5755, 5068,     48.2,  16.3966,  35.6603,2,  35.6590,2,  35.8271,2,    247.3,2,    248.3,2,     1.76,2,     0.49,2,     0.13,2,     0.20,2,    2.504,2,    1.491,2,    3.232,2,   2076.9,2,   2340.5,2,   -999.0,9,  -999.00,   7.9232,2,    25.49,    1.522,2,   -999.0,1,   -999.0,1, -999.000,9,-999.0000,9,-999.0000,9,-999.0000,9,-999.0000,1, 26.165, 30.491, 34.723, 38.862, 42.911
33RO20110828,   A10,    19,  1,     22,    022,4,20000101,0000,-29.7504,   5.5755, 5068,     89.1,  16.1293,  35.6439,2,  35.6426,2,  35.8107,2,    236.9,2,    237.6,2,     2.24,2,     1.46,2,     0.72,2,     0.28,2,    2.514,2,    1.500,2,    2.497,2,   2086.4,2,   2337.4,2,   -999.0,9,  -999.00,   7.9160,2,    25.48,    1.517,2,   -999.0,1,   -999.0,1, -999.000,9,-999.0000,9,-999.0000,9,-999.0000,9,-999.0000,1, 26.216, 30.547, 34.784, 38.927, 42.980
33RO20110828,   A10,    19,  1,     21,    021,4,20000101,0000,-29.7504,   5.5755, 5068,    148.3,  15.9384,  35.6159,2,  35.6127,2,  35.7806,2,    234.8,2,    234.7,2,     2.34,2,     2.44,2,     0.22,2,     0.31,2,    2.538,2,    1.510,2,    2.234,2,   2089.9,2,   2338.3,2,   -999.0,9,  -999.00,   7.9193,2,    25.46,    1.458,2,   -999.0,1,   -999.0,1, -999.000,9,-999.0000,9,-999.0000,9,-999.0000,9,-999.0000,9, 26.239, 30.574, 34.814, 38.961, 43.017
33RO20110828,   A10,    19,  1,     20,    020,2,20000101,0000,-29.7504,   5.5755, 5068,    198.1,  13.9218,  35.2522,2,  35.2520,2,  35.4183,2,    215.6,2,    218.0,2,     3.22,2,     7.22,2,     0.02,2,     0.59,2,    2.815,2,    1.645,2,    1.050,2,   2109.7,2,   2318.5,2,   -999.0,9,  -999.00,   7.8518,2,    25.32,    1.418,2,   -999.0,1,   -999.0,1, -999.000,9,-999.0000,9,-999.0000,9,-999.0000,9,-999.0000,9, 26.404, 30.779, 35.057, 39.241, 43.333
33RO20110828,   A10,    19,  1,     19,    019,4,20000101,0000,-29.7504,   5.5755, 5068,    273.2,  12.6010,  35.0748,2,  35.0734,2,  35.2388,2,    217.6,2,    215.3,2,     4.00,2,    10.54,2,     0.01,2,     0.77,2,    2.987,2,    1.730,2,    1.107,2,   2119.9,2,   -999.0,5,   -999.0,9,  -999.00,   7.8048,2,    25.33,    1.389,2,   -999.0,1,   -999.0,1, -999.000,9,-999.0000,9,-999.0000,9,-999.0000,9,-999.0000,9, 26.537, 30.938, 35.242, 39.451, 43.568
33RO20110828,   A10,    19,  1,     18,    018,4,20000101,0000,-29.7504,   5.5755, 5068,    358.3,  11.2803,  34.9538,2,  34.9528,2,  35.1176,2,    214.2,2,    214.5,2,     5.27,2,    13.95,2,     0.01,2,     0.97,2,    3.155,2,    1.749,2,    1.131,2,   2130.0,2,   2291.3,2,   -999.0,9,  -999.00,   7.7725,2,    25.34,    1.286,2,   -999.0,1,   -999.0,1, -999.000,9,-999.0000,9,-999.0000,9,-999.0000,9,-999.0000,9, 26.696, 31.125, 35.456, 39.691, 43.833
33RO20110828,   A10,    19,  1,     17,    017,4,20000101,0000,-29.7504,   5.5755, 5068,    443.6,   9.7125,  34.7568,2,  34.7579,2,  34.9218,2,    213.2,2,    211.6,2,     7.61,2,    17.67,2,     0.01,2,     1.21,2,    3.207,2,    1.736,2,    1.523,2,   2141.4,2,   2295.9,2,   -999.0,9,  -999.00,   7.7299,2,    25.28,    1.121,2,   -999.0,1,   -999.0,1, -999.000,9,-999.0000,9,-999.0000,9,-999.0000,9,-999.0000,9, 26.820, 31.284, 35.649, 39.916, 44.089
33RO20110828,   A10,    19,  1,     16,    016,4,20000101,0000,-29.7504,   5.5755, 5068,    443.6,   9.7125,  34.7568,2,  34.4802,2,  34.6428,2,    213.2,2,    208.6,2,    13.96,2,    24.31,2,     0.01,2,     1.63,2,    3.159,2,    1.650,2,    2.250,2,   2163.1,2,   2286.4,2,   -999.0,9,  -999.00,   7.6615,2,    25.32,    0.881,2,   -999.0,1,   -999.0,1, -999.000,9,-999.0000,9,-999.0000,9,-999.0000,9,-999.0000,9, 26.603, 31.069, 35.435, 39.705, 43.880
33RO20110828,   A10,    19,  1,     15,    015,4,20000101,0000,-29.7504,   5.5755, 5068,    581.7,   7.1438,  34.4810,2,  34.4802,2,  34.6427,2,    209.1,2,    215.7,2,    22.55,2,    28.90,2,     0.00,2,     1.92,2,    2.899,2,    1.471,2,    2.708,2,   2180.0,2,   2287.2,2,   -999.0,9,  -999.00,   7.6685,2,    25.31,    0.760,2,   -999.0,1,   -999.0,1, -999.000,9,-999.0000,9,-999.0000,9,-999.0000,9,-999.0000,9, 26.997, 31.521, 35.945, 40.269, 44.497
33RO20110828,   A10,    19,  1,     14,    014,2,20000101,0000,-29.7504,   5.5755, 5068,    883.9,   4.0972,  34.3600,2,  34.3598,2,  34.5218,2,    201.5,2,    200.6,2,    35.73,2,    31.73,2,     0.00,2,     2.16,2,    1.929,2,    0.949,2,    2.079,2,   2204.5,2,   2299.6,2,   -999.0,9,  -999.00,   7.5846,2,    25.37,    0.418,2,   -999.0,1,   -999.0,1, -999.000,9,-999.0000,9,-999.0000,9,-999.0000,9,-999.0000,9, 27.274, 31.875, 36.373, 40.770, 45.067
33RO20110828,   A10,    19,  1,     13,    013,2,20000101,0000,-29.7504,   5.5755, 5068,   1034.8,   3.5747,  34.4405,2,  34.4417,2,  34.6042,2,    184.3,2,    183.3,2,    47.25,2,    33.00,2,     0.00,2,     2.29,2,    1.044,2,    0.498,2,    1.303,2,   2225.9,2,   2312.1,2,   -999.0,9,  -999.00,   7.5606,2,    25.39,    0.177,2,   -999.0,1,   -999.0,1, -999.000,9,-999.0000,9,-999.0000,9,-999.0000,9,-999.0000,9, 27.392, 32.007, 36.518, 40.927, 45.237
33RO20110828,   A10,    19,  1,     12,    012,2,20000101,0000,-29.7504,   5.5755, 5068,   1236.8,   3.1970,  34.5711,2,  34.5710,2,  34.7340,2,    179.3,2,    179.0,2,    54.08,2,    32.31,2,     0.00,2,     2.26,2,    0.379,2,    0.172,2,    0.568,2,   2233.0,6,   2323.7,2,   -999.0,9,  -999.00,   7.5655,2,    25.36,    0.000,2,   -999.0,1,   -999.0,1, -999.000,9,-999.0000,9,-999.0000,9,-999.0000,9,-999.0000,9, 27.533, 32.157, 36.677, 41.095, 45.413
33RO20110828,   A10,    19,  1,     11,    011,2,20000101,0000,-29.7504,   5.5755, 5068,   1482.2,   3.1814,  34.7171,2,  34.7170,2,  34.8807,2,    191.1,2,    192.5,2,    48.41,2,    29.38,2,     0.00,2,     2.03,2,    0.090,2,    0.041,2,    0.177,2,   2221.0,2,   2321.5,2,   -999.0,9,  -999.00,   7.6058,2,    25.37,    0.000,2,   -999.0,1,   -999.0,1, -999.000,9,-999.0000,9,-999.0000,9,-999.0000,9,-999.0000,9, 27.652, 32.276, 36.796, 41.214, 45.532
33RO20110828,   A10,    19,  1,     10,    010,2,20000101,0000,-29.7504,   5.5755, 5068,   1758.5,   3.1182,  34.8093,2,  34.8090,6,  34.9732,6,    210.5,2,    210.7,2,    43.33,2,    26.55,2,     0.00,2,     1.82,2,    0.030,2,    0.017,2,    0.086,2,   2207.5,2,   2322.9,2,   -999.0,9,  -999.00,   7.6427,2,    25.51,    0.054,2,   -999.0,1,   -999.0,1, -999.000,9,-999.0000,9,-999.0000,9,-999.0000,9,-999.0000,9, 27.734, 32.359, 36.880, 41.300, 45.619
33RO20110828,   A10,    19,  1,      9,    009,2,20000101,0000,-29.7504,   5.5755, 5068,   2059.5,   2.9621,  34.8547,2,  34.8529,2,  35.0172,2,    224.0,2,    223.7,2,    42.06,2,    24.69,2,     0.00,2,     1.70,2,    0.013,2,    0.007,2,    0.073,2,   2200.1,2,   2326.5,2,   -999.0,9,  -999.00,   7.6658,2,    25.45,    0.000,2,   -999.0,1,   -999.0,1, -999.000,9,-999.0000,9,-999.0000,9,-999.0000,9,-999.0000,9, 27.785, 32.415, 36.941, 41.365, 45.689
33RO20110828,   A10,    19,  1,      8,    008,2,20000101,0000,-29.7504,   5.5755, 5068,   2400.7,   2.7090,  34.8622,2,  34.8612,2,  35.0256,2,    229.4,2,    228.4,2,    46.06,2,    24.11,2,     0.00,2,     1.68,2,    0.008,2,    0.004,2,    0.040,2,   2200.3,2,   2334.4,2,   -999.0,9,  -999.00,   7.6741,2,    25.46,    0.000,2,   -999.0,1,   -999.0,1, -999.000,9,-999.0000,9,-999.0000,9,-999.0000,9,-999.0000,9, 27.817, 32.454, 36.988, 41.419, 45.749
33RO20110828,   A10,    19,  1,      7,    007,2,20000101,0000,-29.7504,   5.5755, 5068,   2782.8,   2.4628,  34.8551,2,  34.8557,2,  35.0201,2,    230.7,2,    230.3,2,    52.21,2,    24.40,2,     0.00,2,     1.71,2,    0.008,2,    0.005,2,    0.061,2,   2207.6,2,   2339.1,2,   -999.0,9,  -999.00,   7.6729,2,    25.48,    0.000,2,   -999.0,1,   -999.0,1, -999.000,9,-999.0000,9,-999.0000,9,-999.0000,9,-999.0000,9, 27.836, 32.481, 37.022, 41.460, 45.798
33RO20110828,   A10,    19,  1,      6,    006,2,20000101,0000,-29.7504,   5.5755, 5068,   3157.5,   2.3687,  34.8583,2,  34.8581,2,  35.0225,2,    231.6,2,    232.5,2,    54.36,2,    24.30,2,     0.01,2,     1.71,2,    0.008,2,    0.004,2,    0.040,2,   2209.5,2,   2344.1,2,   -999.0,9,  -999.00,   7.6770,2,    25.51,    0.000,2,   -999.0,1,   -999.0,1, -999.000,9,-999.0000,9,-999.0000,9,-999.0000,9,-999.0000,9, 27.849, 32.497, 37.042, 41.483, 45.824
33RO20110828,   A10,    19,  1,      5,    005,2,20000101,0000,-29.7504,   5.5755, 5068,   3533.9,   2.2294,  34.8507,2,  34.8508,2,  35.0152,2,    229.7,2,    231.2,2,    59.63,2,    24.89,2,     0.01,2,     1.75,2,    0.010,2,    0.006,2,    0.089,2,   2214.6,2,   2345.3,2,   -999.0,9,  -999.00,   7.6791,2,    25.48,    0.000,2,   -999.0,1,   -999.0,1, -999.000,9,-999.0000,9,-999.0000,9,-999.0000,9,-999.0000,9, 27.857, 32.511, 37.060, 41.506, 45.851
33RO20110828,   A10,    19,  1,      4,    004,2,20000101,0000,-29.7504,   5.5755, 5068,   3908.1,   1.8493,  34.8072,2,  34.8076,2,  34.9717,2,    222.7,2,    220.0,2,    76.71,2,    27.03,2,     0.01,2,     1.95,2,    0.026,2,    0.013,2,    0.075,2,   2228.1,2,   2350.3,2,   -999.0,9,  -999.00,   7.6532,2,    25.49,    0.000,2,   -999.0,1,   -999.0,1, -999.000,9,-999.0000,9,-999.0000,9,-999.0000,9,-999.0000,9, 27.854, 32.519, 37.080, 41.537, 45.893
33RO20110828,   A10,    19,  1,      3,    003,2,20000101,0000,-29.7504,   5.5755, 5068,   4299.2,   1.3576,  34.7585,2,  34.7583,2,  34.9222,2,    217.9,2,    219.8,2,    97.02,2,    29.48,2,     0.01,2,     2.18,2,    0.050,2,    0.023,2,    0.146,2,   2244.4,2,   2356.1,2,   -999.0,9,  -999.00,   7.6296,2,    25.40,    0.000,2,   -999.0,1,   -999.0,1, -999.000,9,-999.0000,9,-999.0000,9,-999.0000,9,-999.0000,9, 27.851, 32.531, 37.107, 41.579, 45.949
33RO20110828,   A10,    19,  1,      2,    002,2,20000101,0000,-29.7504,   5.5755, 5068,   4699.6,   1.1704,  34.7381,2,  34.7381,2,  34.9019,2,    216.1,2,    217.7,2,   105.41,2,    30.45,2,     0.01,2,     2.28,2,    0.065,2,    0.030,2,    0.198,2,   2251.4,2,   2367.6,2,   -999.0,9,  -999.00,   7.6267,3,    25.41,    0.000,2,   -999.0,1,   -999.0,1, -999.000,9,-999.0000,9,-999.0000,9,-999.0000,9,-999.0000,9, 27.849, 32.537, 37.119, 41.597, 45.973
33RO20110828,   A10,    19,  1,      1,    001,2,20000101,0000,-29.7504,   5.5755, 5068,   5179.2,   1.1892,  34.7341,2,  34.7347,2,  34.8985,2,    216.5,2,    214.9,2,   106.88,2,    30.45,2,     0.00,2,     2.29,2,    0.079,2,    0.037,2,    0.205,2,   2256.2,6,   2366.2,2,   -999.0,9,  -999.00,   7.6543,2,    25.49,    0.000,2,   -999.0,1,   -999.0,1, -999.000,9,-999.0000,9,-999.0000,9,-999.0000,9,-999.0000,9, 27.849, 32.538, 37.121, 41.600, 45.977