BOTTLE,20130715NOAA
EXPOCODE,SECT_ID,STNNBR,CASTNO,SAMPNO,BTLNBR,BTLNBR_FLAG_W,DATE,TIME,LATITUDE,LONGITUDE,DEPTH,CTDPRS,CTDTMP,CTDSAL,CTDSAL_FLAG_W,SALNTY,SALNTY_FLAG_W,SALTREF,SALTREF_FLAG_W,CTDOXY,CTDOXY_FLAG_W,OXYGEN,OXYGEN_FLAG_W,SILCAT,SILCAT_FLAG_W,NITRAT,NITRAT_FLAG_W,NITRIT,NITRIT_FLAG_W,PHSPHT,PHSPHT_FLAG_W,CFC-11,CFC-11_FLAG_W,CFC-12,CFC-12_FLAG_W,CCL4,CCL4_FLAG_W,TCARBN,TCARBN_FLAG_W,ALKALI,ALKALI_FLAG_W,PCO2,PCO2_FLAG_W,PCO2TMP,PH_TOT,PH_TOT_FLAG_W,PH_TMP,SF6,SF6_FLAG_W,DOC,DOC_FLAG_W,TDN,TDN_FLAG_W,TRITUM,TRITUM_FLAG_W,HELIUM,HELIUM_FLAG_W,OXY_18,OXY_18_FLAG_W,BLACKC,BLACKC_FLAG_W,PIGMENTS,PIGMENTS_FLAG_W,SIGMA-THETA,SIGMA-1,SIGMA-2,SIGMA-3,SIGMA-4
,,,,,,,,,,,METERS,DBARS,ITS-90,PSS-78,,PSS-78,,G/KG,,UMOL/KG,,UMOL/KG,,UMOL/KG,,UMOL/KG,,UMOL/KG,,UMOL/KG,,PMOL/KG,,PMOL/KG,,PMOL/KG,,UMOL/KG,,UMOL/KG,,UATM@T,,DEG_C,,,DEG_C,FMOL/KG,,UMOL/KG,,UMOL/KG,,TU,,NMOL/KG,,,,,,,,,,,,
33RO20110828,   A10,   104,  1,     24,    024,2,20000101,0000,-29.3454, -42.0469, 2539,      5.6,  19.8734,  36.4459,2,  36.4455,2,  36.6173,2,    228.4,2,    228.4,2,     0.68,2,     0.00,2,     0.00,2,     0.04,2,    2.127,2,    1.304,2,    4.160,3,   2084.3,6,   2389.9,2,   -999.0,9,  -999.00,   7.9595,2,    25.65,    1.372,2,   -999.0,9,   -999.0,9, -999.000,9,-999.0000,9,-999.0000,9,-999.0000,9,-999.0000,1, 25.899, 30.163, 34.335, 38.415, 42.408
33RO20110828,   A10,   104,  1,     23,    023,2,20000101,0000,-29.3454, -42.0469, 2539,     55.2,  19.6516,  36.3969,2,  36.3966,2,  36.5682,2,    229.6,2,    229.4,2,     0.68,2,     0.00,2,     0.01,2,     0.05,2,    2.143,2,    1.311,2,    4.315,3,   2082.3,2,   2386.3,2,   -999.0,9,  -999.00,   7.9738,2,    25.62,    1.373,2,   -999.0,9,   -999.0,9, -999.000,9,-999.0000,9,-999.0000,9,-999.0000,9,-999.0000,9, 25.922, 30.191, 34.366, 38.450, 42.446
33RO20110828,   A10,   104,  1,     22,    022,2,20000101,0000,-29.3454, -42.0469, 2539,    104.8,  16.9679,  35.8655,2,  35.8723,2,  36.0415,2,    235.9,2,    234.2,2,     0.68,2,     0.29,2,     0.20,2,     0.10,2,    2.396,2,    1.451,2,    3.927,3,   2080.0,2,   2355.9,2,   -999.0,9,  -999.00,   7.9128,2,    25.61,    1.468,2,   -999.0,9,   -999.0,9, -999.000,9,-999.0000,9,-999.0000,9,-999.0000,9,-999.0000,1, 26.196, 30.512, 34.732, 38.861, 42.900
33RO20110828,   A10,   104,  1,     21,    021,2,20000101,0000,-29.3454, -42.0469, 2539,    160.9,  16.7755,  35.8914,2,  35.8903,2,  36.0596,2,    228.8,2,    229.9,2,     1.07,2,     1.56,2,     0.01,2,     0.15,2,    2.413,2,    1.458,2,    2.682,3,   2088.0,2,   2357.4,2,   -999.0,9,  -999.00,   7.9180,2,    25.67,    1.427,2,   -999.0,9,   -999.0,9, -999.000,9,-999.0000,9,-999.0000,9,-999.0000,9,-999.0000,1, 26.258, 30.577, 34.801, 38.932, 42.974
33RO20110828,   A10,   104,  1,     20,    020,2,20000101,0000,-29.3454, -42.0469, 2539,    209.0,  15.7056,  35.6869,2,  35.6863,2,  35.8546,2,    212.5,2,    214.2,2,     1.76,2,     4.68,2,     0.01,2,     0.31,2,    2.551,2,    1.527,2,    1.255,3,   2106.3,2,   2345.7,2,   -999.0,9,  -999.00,   7.8694,2,    25.58,    1.389,2,   -999.0,9,   -999.0,9, -999.000,9,-999.0000,9,-999.0000,9,-999.0000,9,-999.0000,9, 26.351, 30.690, 34.933, 39.084, 43.144
33RO20110828,   A10,   104,  1,     19,    019,2,20000101,0000,-29.3454, -42.0469, 2539,    284.5,  14.5179,  35.5107,2,  35.5125,2,  35.6799,2,    211.7,2,    212.2,2,     2.34,2,     7.22,2,     0.01,2,     0.43,2,    2.723,2,    1.603,2,    0.855,3,   2116.7,2,   -999.0,5,   -999.0,9,  -999.00,   7.8488,2,    25.60,    1.375,2,   -999.0,9,   -999.0,9, -999.000,9,-999.0000,9,-999.0000,9,-999.0000,9,-999.0000,9, 26.482, 30.844, 35.110, 39.281, 43.362
33RO20110828,   A10,   104,  1,     18,    018,2,20000101,0000,-29.3454, -42.0469, 2539,    362.2,  13.3616,  35.3072,2,  35.3100,2,  35.4765,2,    212.0,2,    210.7,2,     3.12,2,     9.66,2,     0.01,2,     0.57,2,    2.875,2,    1.645,2,    1.264,3,   2123.4,2,   2325.3,2,   -999.0,9,  -999.00,   7.8141,2,    25.60,    1.205,2,   -999.0,9,   -999.0,9, -999.000,9,-999.0000,9,-999.0000,9,-999.0000,9,-999.0000,9, 26.570, 30.956, 35.244, 39.438, 43.540
33RO20110828,   A10,   104,  1,     17,    017,2,20000101,0000,-29.3454, -42.0469, 2539,    426.3,  12.2890,  35.1458,2,  35.1499,2,  35.3156,2,    209.9,2,    210.2,2,     4.00,2,    12.10,2,     0.00,2,     0.69,2,    2.908,2,    1.615,2,    1.502,3,   2129.1,2,   2317.2,2,   -999.0,9,  -999.00,   7.7853,2,    25.53,    1.106,2,   -999.0,9,   -999.0,9, -999.000,9,-999.0000,9,-999.0000,9,-999.0000,9,-999.0000,9, 26.661, 31.069, 35.378, 39.593, 43.715
33RO20110828,   A10,   104,  1,     16,    016,2,20000101,0000,-29.3454, -42.0469, 2539,    574.4,   8.9408,  34.6761,2,  34.6784,2,  34.8419,2,    204.7,2,    205.6,2,     8.88,2,    20.30,2,     0.00,2,     1.12,2,    3.132,2,    1.669,2,    1.830,3,   2153.3,2,   2295.8,2,   -999.0,9,  -999.00,   7.6939,2,    25.65,    0.881,2,   -999.0,9,   -999.0,9, -999.000,9,-999.0000,9,-999.0000,9,-999.0000,9,-999.0000,9, 26.886, 31.368, 35.749, 40.034, 44.223
33RO20110828,   A10,   104,  1,     15,    015,2,20000101,0000,-29.3454, -42.0469, 2539,    725.0,   6.2342,  34.3930,2,  34.3938,2,  34.5560,2,    218.6,2,    218.1,2,    14.35,2,    25.78,2,     0.00,2,     1.42,2,    3.172,2,    1.644,2,    2.811,3,   2167.1,2,   2286.9,2,   -999.0,9,  -999.00,   7.6391,2,    25.63,    0.794,2,   -999.0,9,   -999.0,9, -999.000,9,-999.0000,9,-999.0000,9,-999.0000,9,-999.0000,9, 27.052, 31.599, 36.044, 40.390, 44.639
33RO20110828,   A10,   104,  1,     14,    014,2,20000101,0000,-29.3454, -42.0469, 2539,    873.8,   4.6223,  34.2987,2,  34.3022,2,  34.4639,2,    222.0,2,    222.9,2,    22.85,2,    28.90,2,     0.00,2,     1.68,2,    2.770,2,    1.387,2,    3.164,3,   2180.7,2,   2288.7,2,   -999.0,9,  -999.00,   7.6155,2,    25.62,    0.603,2,   -999.0,9,   -999.0,9, -999.000,9,-999.0000,9,-999.0000,9,-999.0000,9,-999.0000,9, 27.172, 31.760, 36.246, 40.630, 44.916
33RO20110828,   A10,   104,  1,     13,    013,2,20000101,0000,-29.3454, -42.0469, 2539,   1019.7,   3.8714,  34.3211,2,  34.3234,2,  34.4852,2,    211.4,2,    211.9,2,    32.90,2,    31.05,2,     0.00,2,     1.87,2,    2.010,2,    0.988,2,    2.671,3,   2197.3,2,   2300.3,2,   -999.0,9,  -999.00,   7.5921,2,    25.68,    0.340,2,   -999.0,9,   -999.0,9, -999.000,9,-999.0000,9,-999.0000,9,-999.0000,9,-999.0000,9, 27.269, 31.876, 36.381, 40.784, 45.087
33RO20110828,   A10,   104,  1,     12,    012,2,20000101,0000,-29.3454, -42.0469, 2539,   1176.6,   3.3018,  34.4054,2,  34.4052,2,  34.5674,2,    197.9,2,    197.0,2,    45.40,2,    32.41,2,     0.00,2,     2.06,2,    1.116,2,    0.550,2,    1.803,3,   2217.4,2,   2311.8,2,   -999.0,9,  -999.00,   7.5712,2,    25.62,    0.164,2,   -999.0,9,   -999.0,9, -999.000,9,-999.0000,9,-999.0000,9,-999.0000,9,-999.0000,9, 27.390, 32.012, 36.531, 40.948, 45.265
33RO20110828,   A10,   104,  1,     11,    011,2,20000101,0000,-29.3454, -42.0469, 2539,   1377.0,   2.9860,  34.5290,2,  34.5289,2,  34.6917,2,    189.6,2,    188.3,2,    54.57,2,    32.31,2,     0.00,2,     2.14,2,    0.470,2,    0.228,2,    0.973,3,   2229.0,6,   2324.2,2,   -999.0,9,  -999.00,   7.5587,2,    25.62,    0.042,2,   -999.0,9,   -999.0,9, -999.000,9,-999.0000,9,-999.0000,9,-999.0000,9,-999.0000,9, 27.519, 32.149, 36.676, 41.100, 45.424
33RO20110828,   A10,   104,  1,     10,    010,2,20000101,0000,-29.3454, -42.0469, 2539,   1577.0,   2.9223,  34.6518,2,  34.6522,6,  34.8156,6,    193.6,2,    192.7,2,    55.44,2,    30.36,2,     0.00,2,     2.05,2,    0.184,2,    0.090,2,    0.515,3,   2226.3,2,   2328.1,2,   -999.0,9,  -999.00,   7.5875,2,    25.56,    0.040,2,   -999.0,9,   -999.0,9, -999.000,9,-999.0000,9,-999.0000,9,-999.0000,9,-999.0000,9, 27.625, 32.256, 36.784, 41.209, 45.534
33RO20110828,   A10,   104,  1,      9,    009,2,20000101,0000,-29.3454, -42.0469, 2539,   1773.8,   3.3163,  34.8177,2,  34.8188,2,  34.9830,2,    211.2,2,    214.7,2,    39.92,2,    25.77,2,     0.00,2,     1.65,2,    0.128,2,    0.065,2,    0.431,3,   2200.6,2,   2324.2,2,   -999.0,9,  -999.00,   7.6394,2,    25.61,    0.000,2,   -999.0,9,   -999.0,9, -999.000,9,-999.0000,9,-999.0000,9,-999.0000,9,-999.0000,9, 27.724, 32.344, 36.860, 41.274, 45.589
33RO20110828,   A10,   104,  1,      8,    008,2,20000101,0000,-29.3454, -42.0469, 2539,   1999.0,   3.3995,  34.8962,2,  34.8984,2,  35.0630,2,    234.2,2,    233.7,2,    31.04,2,    22.54,2,     0.00,2,     1.41,2,    0.161,2,    0.082,2,    0.545,3,   2185.1,2,   2321.8,2,   -999.0,9,  -999.00,   7.6762,2,    25.50,    0.000,2,   -999.0,9,   -999.0,9, -999.000,9,-999.0000,9,-999.0000,9,-999.0000,9,-999.0000,9, 27.781, 32.399, 36.913, 41.326, 45.638
33RO20110828,   A10,   104,  1,      7,    007,2,20000101,0000,-29.3454, -42.0469, 2539,   2224.5,   3.3183,  34.9234,2,  34.9238,2,  35.0885,2,    243.6,2,    243.1,2,    28.01,2,    21.18,2,     0.00,2,     1.31,2,    0.168,2,    0.087,2,    0.573,3,   2177.7,2,   2321.0,2,   -999.0,9,  -999.00,   7.6840,2,    25.57,    0.056,2,   -999.0,9,   -999.0,9, -999.000,9,-999.0000,9,-999.0000,9,-999.0000,9,-999.0000,9, 27.811, 32.432, 36.948, 41.363, 45.678
33RO20110828,   A10,   104,  1,      6,    006,2,20000101,0000,-29.3454, -42.0469, 2539,   2426.6,   3.2365,  34.9336,2,  34.9351,2,  35.0999,2,    248.4,2,    248.5,2,    26.94,2,    20.49,2,     0.00,2,     1.26,2,    0.158,2,    0.079,2,    0.567,3,   2175.0,2,   2322.7,2,   -999.0,9,  -999.00,   7.6947,2,    25.51,    0.058,2,   -999.0,9,   -999.0,9, -999.000,9,-999.0000,9,-999.0000,9,-999.0000,9,-999.0000,9, 27.830, 32.453, 36.972, 41.389, 45.706
33RO20110828,   A10,   104,  1,      5,    005,2,20000101,0000,-29.3454, -42.0469, 2539,   2675.9,   3.0685,  34.9313,2,  34.9324,2,  35.0971,2,    250.6,2,    250.6,2,    28.59,2,    20.30,2,     0.00,2,     1.27,2,    0.127,2,    0.064,2,    0.480,3,   2175.1,2,   2323.9,2,   -999.0,9,  -999.00,   7.6914,2,    25.50,    0.000,2,   -999.0,9,   -999.0,9, -999.000,9,-999.0000,9,-999.0000,9,-999.0000,9,-999.0000,9, 27.845, 32.473, 36.997, 41.419, 45.741
33RO20110828,   A10,   104,  1,      4,    004,2,20000101,0000,-29.3454, -42.0469, 2539,   2874.8,   2.9380,  34.9268,2,  34.9285,2,  35.0932,2,    251.4,2,    251.9,2,    30.55,2,    20.40,2,     0.00,2,     1.30,2,    0.119,2,    0.062,2,    0.472,3,   2175.1,2,   2327.3,2,   -999.0,9,  -999.00,   7.6988,2,    25.51,    0.000,2,   -999.0,9,   -999.0,9, -999.000,9,-999.0000,9,-999.0000,9,-999.0000,9,-999.0000,9, 27.855, 32.487, 37.015, 41.441, 45.767
33RO20110828,   A10,   104,  1,      3,    003,2,20000101,0000,-29.3454, -42.0469, 2539,   3174.2,   2.6992,  34.9122,2,  34.9143,2,  35.0790,2,    251.6,2,    251.9,2,    35.23,2,    20.89,2,     0.00,2,     1.36,2,    0.083,2,    0.043,2,    0.371,3,   2180.5,2,   2327.5,3,   -999.0,9,  -999.00,   7.6986,2,    25.55,    0.000,2,   -999.0,9,   -999.0,9, -999.000,9,-999.0000,9,-999.0000,9,-999.0000,9,-999.0000,9, 27.867, 32.506, 37.041, 41.474, 45.806
33RO20110828,   A10,   104,  1,      2,    002,2,20000101,0000,-29.3454, -42.0469, 2539,   3478.2,   1.8424,  34.8296,2,  34.8327,2,  34.9970,2,    240.5,2,    239.2,2,    66.08,2,    24.79,2,     0.00,2,     1.87,2,    0.067,2,    0.033,2,    0.286,3,   2209.2,2,   -999.0,5,   -999.0,9,  -999.00,   7.6626,2,    25.50,    0.066,2,   -999.0,9,   -999.0,9, -999.000,9,-999.0000,9,-999.0000,9,-999.0000,9,-999.0000,9, 27.871, 32.535, 37.094, 41.551, 45.906
33RO20110828,   A10,   104,  1,      1,    001,2,20000101,0000,-29.3454, -42.0469, 2539,   3902.6,   0.6576,  34.7073,2,  34.7091,2,  34.8728,2,    220.1,2,    220.8,2,   115.28,2,    31.14,2,     0.00,2,     2.67,2,    0.246,2,    0.117,2,    0.543,3,   2256.5,6,   2365.0,2,   -999.0,9,  -999.00,   7.5996,2,    25.51,    0.058,2,   -999.0,9,   -999.0,9, -999.000,9,-999.0000,9,-999.0000,9,-999.0000,9,-999.0000,9, 27.851, 32.551, 37.145, 41.634, 46.022