BOTTLE,20130715NOAA
EXPOCODE,SECT_ID,STNNBR,CASTNO,SAMPNO,BTLNBR,BTLNBR_FLAG_W,DATE,TIME,LATITUDE,LONGITUDE,DEPTH,CTDPRS,CTDTMP,CTDSAL,CTDSAL_FLAG_W,SALNTY,SALNTY_FLAG_W,SALTREF,SALTREF_FLAG_W,CTDOXY,CTDOXY_FLAG_W,OXYGEN,OXYGEN_FLAG_W,SILCAT,SILCAT_FLAG_W,NITRAT,NITRAT_FLAG_W,NITRIT,NITRIT_FLAG_W,PHSPHT,PHSPHT_FLAG_W,CFC-11,CFC-11_FLAG_W,CFC-12,CFC-12_FLAG_W,CCL4,CCL4_FLAG_W,TCARBN,TCARBN_FLAG_W,ALKALI,ALKALI_FLAG_W,PCO2,PCO2_FLAG_W,PCO2TMP,PH_TOT,PH_TOT_FLAG_W,PH_TMP,SF6,SF6_FLAG_W,DOC,DOC_FLAG_W,TDN,TDN_FLAG_W,TRITUM,TRITUM_FLAG_W,HELIUM,HELIUM_FLAG_W,OXY_18,OXY_18_FLAG_W,BLACKC,BLACKC_FLAG_W,PIGMENTS,PIGMENTS_FLAG_W,SIGMA-THETA,SIGMA-1,SIGMA-2,SIGMA-3,SIGMA-4
,,,,,,,,,,,METERS,DBARS,ITS-90,PSS-78,,PSS-78,,G/KG,,UMOL/KG,,UMOL/KG,,UMOL/KG,,UMOL/KG,,UMOL/KG,,UMOL/KG,,PMOL/KG,,PMOL/KG,,PMOL/KG,,UMOL/KG,,UMOL/KG,,UATM@T,,DEG_C,,,DEG_C,FMOL/KG,,UMOL/KG,,UMOL/KG,,TU,,NMOL/KG,,,,,,,,,,,,
33RO20110828,   A10,    14,  1,     24,    024,2,20000101,0000,-29.7504,   8.4506, 5007,      3.0,  16.5852,  35.6708,2,  35.6703,2,  35.8385,2,    251.1,2,    250.4,2,     1.85,2,     0.20,2,     0.04,2,     0.17,2,    2.497,2,    1.506,2,    3.130,2,   2069.5,6,   2343.8,2,   -999.0,9,  -999.00,   7.9544,2,    25.21,    1.498,2,   -999.0,9,   -999.0,9, -999.000,9,-999.0000,9,-999.0000,9,-999.0000,9,-999.0000,1, 26.127, 30.451, 34.679, 38.814, 42.860
33RO20110828,   A10,    14,  1,     23,    023,2,20000101,0000,-29.7504,   8.4506, 5007,     70.3,  16.2264,  35.6468,2,  35.6454,2,  35.8135,2,    244.2,2,    245.4,2,     2.24,2,     0.78,2,     0.24,2,     0.23,2, -999.000,9, -999.000,9, -999.000,9,   2075.1,2,   2338.2,2,   -999.0,9,  -999.00,   7.9449,2,    25.27, -999.000,9,   -999.0,9,   -999.0,9, -999.000,9,-999.0000,9,-999.0000,9,-999.0000,9,-999.0000,1, 26.195, 30.525, 34.759, 38.901, 42.952
33RO20110828,   A10,    14,  1,     22,    022,2,20000101,0000,-29.7504,   8.4506, 5007,    100.8,  16.0887,  35.6421,2,  35.6389,2,  35.8070,2,    239.6,2,    239.7,2,     2.34,2,     1.27,2,     0.58,2,     0.28,2,    2.510,2,    1.502,2,    2.625,2,   -999.0,9,   2339.9,2,   -999.0,9,  -999.00,   7.9347,2,    25.33,    1.484,2,   -999.0,9,   -999.0,9, -999.000,9,-999.0000,9,-999.0000,9,-999.0000,9,-999.0000,1, 26.223, 30.555, 34.792, 38.936, 42.990
33RO20110828,   A10,    14,  1,     21,    021,2,20000101,0000,-29.7504,   8.4506, 5007,    164.2,  15.8993,  35.6187,2,  35.6178,2,  35.7857,2,    237.2,2,    236.7,2,     2.44,2,     2.15,2,     0.44,2,     0.32,2,    2.515,2,    1.509,2,    2.366,2,   2081.9,2,   2338.2,2,   -999.0,9,  -999.00,   7.9279,2,    25.36,    1.468,2,   -999.0,9,   -999.0,9, -999.000,9,-999.0000,9,-999.0000,9,-999.0000,9,-999.0000,9, 26.252, 30.588, 34.829, 38.976, 43.034
33RO20110828,   A10,    14,  1,     20,    020,2,20000101,0000,-29.7504,   8.4506, 5007,    238.8,  14.3768,  35.3217,2,  35.3233,2,  35.4899,2,    218.5,2,    218.1,2,     3.02,2,     6.24,2,     0.01,2,     0.57,2,    2.739,2,    1.621,2,    0.984,2,   -999.0,9,   2320.8,2,   -999.0,9,  -999.00,   7.8675,2,    25.35,    1.409,2,   -999.0,9,   -999.0,9, -999.000,9,-999.0000,9,-999.0000,9,-999.0000,9,-999.0000,9, 26.364, 30.730, 35.000, 39.175, 43.259
33RO20110828,   A10,    14,  1,     19,    019,2,20000101,0000,-29.7504,   8.4506, 5007,    335.0,  12.7556,  35.1227,2,  35.1168,2,  35.2824,2,    218.4,2,    217.5,2,     3.71,2,    10.05,2,     0.01,2,     0.79,2,    2.974,2,    1.725,2,    1.061,2,   2117.3,2,   2314.6,2,   -999.0,9,  -999.00,   7.8200,2,    25.32,    1.358,2,   -999.0,9,   -999.0,9, -999.000,9,-999.0000,9,-999.0000,9,-999.0000,9,-999.0000,9, 26.541, 30.940, 35.241, 39.447, 43.561
33RO20110828,   A10,    14,  1,     18,    018,2,20000101,0000,-29.7504,   8.4506, 5007,    428.6,  11.2832,  34.9555,2,  34.9578,2,  35.1227,2,    214.7,2,    215.1,2,     4.98,2,    13.56,2,     0.00,2,     1.03,2,    3.141,2,    1.762,2,    1.221,2,   -999.0,9,   2301.3,2,   -999.0,9,  -999.00,   7.7754,2,    25.33,    1.262,2,   -999.0,9,   -999.0,9, -999.000,9,-999.0000,9,-999.0000,9,-999.0000,9,-999.0000,9, 26.701, 31.130, 35.461, 39.696, 43.838
33RO20110828,   A10,    14,  1,     17,    017,2,20000101,0000,-29.7504,   8.4506, 5007,    530.0,   9.3293,  34.7097,2,  34.7136,2,  34.8772,2,    211.0,2,    211.0,2,     8.39,2,    18.64,2,     0.01,2,     1.36,2,    3.189,2,    1.736,2,    1.583,2,   2144.9,2,   2292.0,2,   -999.0,9,  -999.00,   7.7234,2,    25.31,    1.093,2,   -999.0,9,   -999.0,9, -999.000,9,-999.0000,9,-999.0000,9,-999.0000,9,-999.0000,9, 26.850, 31.323, 35.696, 39.972, 44.153
33RO20110828,   A10,    14,  1,     16,    016,2,20000101,0000,-29.7504,   8.4506, 5007,    649.4,   7.3613,  34.5032,2,  34.5041,2,  34.6668,2,    205.2,2,    205.9,2,    13.96,2,    24.21,2,     0.00,2,     1.73,2,    3.095,2,    1.628,2,    2.092,2,   -999.0,9,   2287.5,2,   -999.0,9,  -999.00,   7.6654,2,    25.28,    0.881,2,   -999.0,9,   -999.0,9, -999.000,9,-999.0000,9,-999.0000,9,-999.0000,9,-999.0000,9, 26.987, 31.506, 35.924, 40.243, 44.467
33RO20110828,   A10,    14,  1,     15,    015,2,20000101,0000,-29.7504,   8.4506, 5007,    799.4,   5.0935,  34.3298,2,  34.3296,2,  34.4915,2,    215.7,2,    215.6,2,    22.36,2,    28.61,2,     0.03,2,     2.04,2,    2.921,3,    1.491,3,    2.691,2,   2178.8,2,   2291.5,2,   -999.0,9,  -999.00,   7.6507,2,    25.32,    0.734,3,   -999.0,9,   -999.0,9, -999.000,9,-999.0000,9,-999.0000,9,-999.0000,9,-999.0000,9, 27.141, 31.716, 36.190, 40.563, 44.837
33RO20110828,   A10,    14,  1,     14,    014,2,20000101,0000,-29.7504,   8.4506, 5007,    948.7,   4.0306,  34.3643,2,  34.3655,2,  34.5276,2,    200.0,2,    199.6,2,    37.78,2,    31.34,2,     0.03,2,     2.26,2, -999.000,9, -999.000,9, -999.000,9,   -999.0,9,   2302.4,2,   -999.0,9,  -999.00,   7.5927,2,    25.34, -999.000,9,   -999.0,9,   -999.0,9, -999.000,9,-999.0000,9,-999.0000,9,-999.0000,9,-999.0000,9, 27.286, 31.889, 36.388, 40.787, 45.086
33RO20110828,   A10,    14,  1,     13,    013,2,20000101,0000,-29.7504,   8.4506, 5007,   1118.7,   3.4618,  34.4546,2,  34.4541,2,  34.6165,2,    182.2,2,    182.1,2,    50.37,2,    32.90,2,     0.00,2,     2.38,2,    0.982,2,    0.466,2,    1.235,2,   2215.0,2,   2317.6,2,   -999.0,9,  -999.00,   7.5700,2,    25.37,    0.175,2,   -999.0,9,   -999.0,9, -999.000,9,-999.0000,9,-999.0000,9,-999.0000,9,-999.0000,9, 27.414, 32.031, 36.545, 40.957, 45.270
33RO20110828,   A10,    14,  1,     12,    012,2,20000101,0000,-29.7504,   8.4506, 5007,   1248.9,   3.1740,  34.5356,2,  34.5347,2,  34.6976,2,    176.4,2,    176.1,2,    57.20,2,    33.09,2,     0.00,2,     2.36,2, -999.000,9, -999.000,9, -999.000,9,   2232.6,2,   2323.9,2,   -999.0,9,  -999.00,   7.5779,2,    25.39, -999.000,9,   -999.0,9,   -999.0,9, -999.000,9,-999.0000,9,-999.0000,9,-999.0000,9,-999.0000,9, 27.506, 32.131, 36.652, 41.071, 45.390
33RO20110828,   A10,    14,  1,     11,    011,2,20000101,0000,-29.7504,   8.4506, 5007,   1598.1,   3.1631,  34.7615,2,  34.7607,2,  34.9246,2,    197.7,2,    197.7,2,    46.17,2,    27.91,2,     0.01,2,     1.99,2,    0.053,2,    0.025,2,    0.128,2,   2212.8,2,   2325.7,2,   -999.0,9,  -999.00,   7.6211,2,    25.41,    0.000,2,   -999.0,9,   -999.0,9, -999.000,9,-999.0000,9,-999.0000,9,-999.0000,9,-999.0000,9, 27.690, 32.314, 36.834, 41.253, 45.571
33RO20110828,   A10,    14,  1,     10,    010,2,20000101,0000,-29.7504,   8.4506, 5007,   1898.6,   3.0321,  34.8261,2,  34.8254,2,  34.9896,2,    213.7,2,    214.4,2,    43.82,2,    25.57,2,     0.00,2,     1.82,2, -999.000,9, -999.000,9, -999.000,9,   -999.0,9,   2327.8,2,   -999.0,9,  -999.00,   7.6528,2,    25.39, -999.000,9,   -999.0,9,   -999.0,9, -999.000,9,-999.0000,9,-999.0000,9,-999.0000,9,-999.0000,9, 27.756, 32.384, 36.908, 41.329, 45.651
33RO20110828,   A10,    14,  1,      9,    009,2,20000101,0000,-29.7504,   8.4506, 5007,   2199.2,   2.7822,  34.8444,2,  34.8435,2,  35.0078,2,    222.3,2,    222.4,2,    46.94,2,    24.89,2,     0.00,2,     1.78,2,    0.016,2,    0.008,2,    0.045,2,   -999.0,9,   2331.5,2,   -999.0,9,  -999.00,   7.6654,2,    25.50,    0.000,2,   -999.0,9,   -999.0,9, -999.000,9,-999.0000,9,-999.0000,9,-999.0000,9,-999.0000,9, 27.795, 32.430, 36.961, 41.390, 45.718
33RO20110828,   A10,    14,  1,      8,    008,2,20000101,0000,-29.7504,   8.4506, 5007,   2498.9,   2.6042,  34.8508,2,  34.8529,6,  35.0172,6,    227.2,2,    226.3,2,    49.68,2,    24.59,2,     0.00,2,     1.74,2, -999.000,9, -999.000,9, -999.000,9,   2200.9,2,   2334.1,2,   -999.0,9,  -999.00,   7.6679,2,    25.45, -999.000,9,   -999.0,9,   -999.0,9, -999.000,9,-999.0000,9,-999.0000,9,-999.0000,9,-999.0000,9, 27.817, 32.458, 36.994, 41.428, 45.762
33RO20110828,   A10,    14,  1,      7,    007,2,20000101,0000,-29.7504,   8.4506, 5007,   2799.0,   2.4550,  34.8530,2,  34.8529,2,  35.0173,2,    229.7,2,    229.8,2,    52.60,2,    24.30,2,     0.00,2,     1.73,2,    0.008,2,    0.005,2,    0.036,2,   2202.9,2,   2337.7,2,   -999.0,9,  -999.00,   7.6712,2,    25.42,    0.000,2,   -999.0,9,   -999.0,9, -999.000,9,-999.0000,9,-999.0000,9,-999.0000,9,-999.0000,9, 27.835, 32.480, 37.021, 41.460, 45.797
33RO20110828,   A10,    14,  1,      6,    006,2,20000101,0000,-29.7504,   8.4506, 5007,   3198.0,   2.3164,  34.8532,2,  34.8523,2,  35.0166,2,    230.5,2,    230.9,2,    56.12,2,    24.50,2,     0.00,2,     1.72,2, -999.000,9, -999.000,9, -999.000,9,   2208.6,2,   2343.0,2,   -999.0,9,  -999.00,   7.6762,2,    25.43, -999.000,9,   -999.0,9,   -999.0,9, -999.000,9,-999.0000,9,-999.0000,9,-999.0000,9,-999.0000,9, 27.848, 32.499, 37.045, 41.488, 45.830
33RO20110828,   A10,    14,  1,      5,    005,2,20000101,0000,-29.7504,   8.4506, 5007,   3597.7,   2.1617,  34.8439,2,  34.8433,2,  35.0076,2,    229.3,2,    228.4,2,    62.56,2,    24.98,2,     0.00,2,     1.78,2,    0.011,2,    0.008,2,    0.035,2,   -999.0,9,   2346.8,2,   -999.0,9,  -999.00,   7.6731,2,    25.41,    0.000,2,   -999.0,9,   -999.0,9, -999.000,9,-999.0000,9,-999.0000,9,-999.0000,9,-999.0000,9, 27.857, 32.512, 37.064, 41.512, 45.859
33RO20110828,   A10,    14,  1,      4,    004,2,20000101,0000,-29.7504,   8.4506, 5007,   3998.0,   1.6452,  34.7879,2,  34.7868,2,  34.9508,2,    221.9,2,    221.6,2,    84.62,2,    27.82,2,     0.01,2,     1.99,2,    0.030,2,    0.015,2,    0.097,2,   -999.0,9,   2354.3,2,   -999.0,9,  -999.00,   7.6446,2,    25.43,    0.000,2,   -999.0,9,   -999.0,9, -999.000,9,-999.0000,9,-999.0000,9,-999.0000,9,-999.0000,9, 27.852, 32.524, 37.090, 41.553, 45.915
33RO20110828,   A10,    14,  1,      3,    003,2,20000101,0000,-29.7504,   8.4506, 5007,   4398.8,   1.2128,  34.7450,2,  34.7443,2,  34.9082,2,    217.1,2,    218.6,2,   102.29,2,    29.77,2,     0.01,2,     2.15,2,    0.054,2,    0.026,2,    0.138,2,   2249.5,2,   2358.7,2,   -999.0,9,  -999.00,   7.6455,2,    25.40,    0.023,4,   -999.0,9,   -999.0,9, -999.000,9,-999.0000,9,-999.0000,9,-999.0000,9,-999.0000,9, 27.849, 32.535, 37.115, 41.591, 45.965
33RO20110828,   A10,    14,  1,      2,    002,2,20000101,0000,-29.7504,   8.4506, 5007,   4799.6,   1.1653,  34.7368,2,  34.7369,2,  34.9007,2,    216.5,2,    216.8,2,   105.70,2,    30.45,2,     0.01,2,     2.19,2,    0.064,2,    0.030,2,    0.171,2,   -999.0,4,   2333.3,4,   -999.0,9,  -999.00,   7.6197,2,    25.37,    0.000,2,   -999.0,9,   -999.0,9, -999.000,9,-999.0000,9,-999.0000,9,-999.0000,9,-999.0000,9, 27.849, 32.537, 37.120, 41.599, 45.975
33RO20110828,   A10,    14,  1,      1,    001,2,20000101,0000,-29.7504,   8.4506, 5007,   5115.1,   1.1854,  34.7343,2,  34.7337,2,  34.8975,2,    216.7,2,    215.7,2,   106.68,2,    30.35,2,     0.01,2,     2.18,2,    0.072,2,    0.034,2,    0.160,2,   2251.8,2,   2365.1,2,   -999.0,9,  -999.00,   7.6217,2,    25.45,    0.000,2,   -999.0,9,   -999.0,9, -999.000,9,-999.0000,9,-999.0000,9,-999.0000,9,-999.0000,9, 27.848, 32.536, 37.120, 41.599, 45.976