BOTTLE,20130715NOAA
EXPOCODE,SECT_ID,STNNBR,CASTNO,SAMPNO,BTLNBR,BTLNBR_FLAG_W,DATE,TIME,LATITUDE,LONGITUDE,DEPTH,CTDPRS,CTDTMP,CTDSAL,CTDSAL_FLAG_W,SALNTY,SALNTY_FLAG_W,SALTREF,SALTREF_FLAG_W,CTDOXY,CTDOXY_FLAG_W,OXYGEN,OXYGEN_FLAG_W,SILCAT,SILCAT_FLAG_W,NITRAT,NITRAT_FLAG_W,NITRIT,NITRIT_FLAG_W,PHSPHT,PHSPHT_FLAG_W,CFC-11,CFC-11_FLAG_W,CFC-12,CFC-12_FLAG_W,CCL4,CCL4_FLAG_W,TCARBN,TCARBN_FLAG_W,ALKALI,ALKALI_FLAG_W,PCO2,PCO2_FLAG_W,PCO2TMP,PH_TOT,PH_TOT_FLAG_W,PH_TMP,SF6,SF6_FLAG_W,DOC,DOC_FLAG_W,TDN,TDN_FLAG_W,TRITUM,TRITUM_FLAG_W,HELIUM,HELIUM_FLAG_W,OXY_18,OXY_18_FLAG_W,BLACKC,BLACKC_FLAG_W,PIGMENTS,PIGMENTS_FLAG_W,SIGMA-THETA,SIGMA-1,SIGMA-2,SIGMA-3,SIGMA-4
,,,,,,,,,,,METERS,DBARS,ITS-90,PSS-78,,PSS-78,,G/KG,,UMOL/KG,,UMOL/KG,,UMOL/KG,,UMOL/KG,,UMOL/KG,,UMOL/KG,,PMOL/KG,,PMOL/KG,,PMOL/KG,,UMOL/KG,,UMOL/KG,,UATM@T,,DEG_C,,,DEG_C,FMOL/KG,,UMOL/KG,,UMOL/KG,,TU,,NMOL/KG,,,,,,,,,,,,
33RO20110828,   A10,    96,  1,     24,    024,3,20000101,0000,-30.0168, -38.9165, 4300,      4.6,  19.1823,  36.1692,2,  36.1707,2,  36.3413,2,    232.6,2,    231.0,2,     0.68,2,     0.00,2,     0.00,2,     0.02,2, -999.000,9, -999.000,9, -999.000,9,   -999.0,9,   2367.6,2,   -999.0,9,  -999.00,   7.9632,2,    25.57, -999.000,9,   -999.0,9,   -999.0,9, -999.000,9,-999.0000,9,-999.0000,9,-999.0000,9,-999.0000,1, 25.870, 30.147, 34.330, 38.423, 42.427
33RO20110828,   A10,    96,  1,     23,    023,2,20000101,0000,-30.0168, -38.9165, 4300,     49.6,  19.0354,  36.1635,2,  36.1634,2,  36.3340,2,    233.0,2,    233.2,2,     0.68,2,     0.00,2,     0.00,2,     0.02,2, -999.000,9, -999.000,9, -999.000,9,   2077.4,2,   2364.7,2,   -999.0,9,  -999.00,   7.9592,2,    25.58, -999.000,9,   -999.0,9,   -999.0,9, -999.000,9,-999.0000,9,-999.0000,9,-999.0000,9,-999.0000,1, 25.904, 30.184, 34.370, 38.464, 42.471
33RO20110828,   A10,    96,  1,     22,    022,2,20000101,0000,-30.0168, -38.9165, 4300,    101.7,  17.6980,  35.9707,2,  35.9706,2,  36.1402,2,    232.6,2,    234.2,2,     0.78,2,     0.00,2,     0.02,2,     0.06,2, -999.000,9, -999.000,9, -999.000,9,   -999.0,9,   2357.0,2,   -999.0,9,  -999.00,   7.9503,2,    25.59, -999.000,9,   -999.0,9,   -999.0,9, -999.000,9,-999.0000,9,-999.0000,9,-999.0000,9,-999.0000,1, 26.095, 30.397, 34.606, 38.722, 42.749
33RO20110828,   A10,    96,  1,     21,    021,2,20000101,0000,-30.0168, -38.9165, 4300,    150.6,  16.0789,  35.6808,2,  35.6814,2,  35.8497,2,    209.8,2,    210.3,2,     1.76,2,     4.19,2,     0.02,2,     0.28,2, -999.000,9, -999.000,9, -999.000,9,   2107.3,2,   2339.3,2,   -999.0,9,  -999.00,   7.8757,2,    25.53, -999.000,9,   -999.0,9,   -999.0,9, -999.000,9,-999.0000,9,-999.0000,9,-999.0000,9,-999.0000,1, 26.259, 30.592, 34.829, 38.973, 43.027
33RO20110828,   A10,    96,  1,     20,    020,2,20000101,0000,-30.0168, -38.9165, 4300,    200.0,  15.0677,  35.5431,2,  35.5433,2,  35.7109,2,    212.7,2,    211.8,2,     2.05,2,     5.85,2,     0.01,2,     0.37,2, -999.000,9, -999.000,9, -999.000,9,   -999.0,9,   2332.0,2,   -999.0,9,  -999.00,   7.8640,2,    25.54, -999.000,9,   -999.0,9,   -999.0,9, -999.000,9,-999.0000,9,-999.0000,9,-999.0000,9,-999.0000,1, 26.383, 30.734, 34.990, 39.152, 43.223
33RO20110828,   A10,    96,  1,     19,    019,2,20000101,0000,-30.0168, -38.9165, 4300,    255.6,  14.2127,  35.4271,2,  35.4269,2,  35.5939,2,    213.5,2,    212.8,2,     2.44,2,     7.41,2,     0.01,2,     0.44,2, -999.000,9, -999.000,9, -999.000,9,   2117.3,2,   2322.4,2,   -999.0,9,  -999.00,   7.8442,2,    25.59, -999.000,9,   -999.0,9,   -999.0,9, -999.000,9,-999.0000,9,-999.0000,9,-999.0000,9,-999.0000,9, 26.480, 30.848, 35.120, 39.298, 43.384
33RO20110828,   A10,    96,  1,     18,    018,2,20000101,0000,-30.0168, -38.9165, 4300,    324.9,  13.1818,  35.2670,2,  35.2677,2,  35.4340,2,    212.5,2,    212.9,2,     3.22,2,     9.66,2,     0.01,2,     0.56,2, -999.000,9, -999.000,9, -999.000,9,   -999.0,9,   2313.4,2,   -999.0,9,  -999.00,   7.8208,2,    25.50, -999.000,9,   -999.0,9,   -999.0,9, -999.000,9,-999.0000,9,-999.0000,9,-999.0000,9,-999.0000,9, 26.573, 30.962, 35.254, 39.451, 43.556
33RO20110828,   A10,    96,  1,     17,    017,2,20000101,0000,-30.0168, -38.9165, 4300,    400.1,  11.8632,  35.0768,2,  35.0787,2,  35.2441,2,    211.0,2,    211.6,2,     4.49,2,    12.78,2,     0.01,2,     0.72,2, -999.000,9, -999.000,9, -999.000,9,   -999.0,9,   2307.0,2,   -999.0,9,  -999.00,   7.7760,2,    25.55, -999.000,9,   -999.0,9,   -999.0,9, -999.000,9,-999.0000,9,-999.0000,9,-999.0000,9,-999.0000,9, 26.686, 31.103, 35.421, 39.645, 43.775
33RO20110828,   A10,    96,  1,     16,    016,2,20000101,0000,-30.0168, -38.9165, 4300,    502.1,   9.5518,  34.7550,2,  34.7576,2,  34.9215,2,    206.3,2,    206.5,2,     7.81,2,    18.74,2,     0.00,2,     1.02,2, -999.000,9, -999.000,9, -999.000,9,   2148.2,2,   2288.4,2,   -999.0,9,  -999.00,   7.7178,2,    25.56, -999.000,9,   -999.0,9,   -999.0,9, -999.000,9,-999.0000,9,-999.0000,9,-999.0000,9,-999.0000,9, 26.848, 31.315, 35.683, 39.954, 44.131
33RO20110828,   A10,    96,  1,     15,    015,2,20000101,0000,-30.0168, -38.9165, 4300,    599.5,   7.4275,  34.5109,2,  34.5079,2,  34.6706,2,    213.0,2,    213.0,2,    11.81,2,    23.43,2,     0.00,2,     1.29,2, -999.000,9, -999.000,9, -999.000,9,   -999.0,9,   2282.3,2,   -999.0,9,  -999.00,   7.6686,2,    25.53, -999.000,9,   -999.0,9,   -999.0,9, -999.000,9,-999.0000,9,-999.0000,9,-999.0000,9,-999.0000,9, 26.979, 31.497, 35.913, 40.231, 44.453
33RO20110828,   A10,    96,  1,     14,    014,2,20000101,0000,-30.0168, -38.9165, 4300,    700.2,   5.8507,  34.3633,2,  34.3617,2,  34.5237,2,    224.4,2,    223.9,2,    15.82,2,    26.26,2,     0.00,2,     1.46,2, -999.000,9, -999.000,9, -999.000,9,   2167.5,2,   2278.9,2,   -999.0,9,  -999.00,   7.6443,2,    25.56, -999.000,9,   -999.0,9,   -999.0,9, -999.000,9,-999.0000,9,-999.0000,9,-999.0000,9,-999.0000,9, 27.075, 31.631, 36.086, 40.440, 44.698
33RO20110828,   A10,    96,  1,     13,    013,2,20000101,0000,-30.0168, -38.9165, 4300,    909.2,   4.2200,  34.3054,2,  34.3063,2,  34.4680,2,    219.4,2,    220.0,2,    27.73,2,    29.88,2,     0.00,2,     1.76,2, -999.000,9, -999.000,9, -999.000,9,   -999.0,9,   2289.8,2,   -999.0,9,  -999.00,   7.6046,2,    25.59, -999.000,9,   -999.0,9,   -999.0,9, -999.000,9,-999.0000,9,-999.0000,9,-999.0000,9,-999.0000,9, 27.219, 31.817, 36.313, 40.707, 45.002
33RO20110828,   A10,    96,  1,     12,    012,2,20000101,0000,-30.0168, -38.9165, 4300,   1100.6,   3.6454,  34.3400,2,  34.3414,2,  34.5033,2,    208.4,2,    208.4,2,    37.00,2,    31.54,2,     0.00,2,     1.93,2, -999.000,9, -999.000,9, -999.000,9,   -999.0,9,   2297.2,2,   -999.0,9,  -999.00,   7.5889,2,    25.47, -999.000,9,   -999.0,9,   -999.0,9, -999.000,9,-999.0000,9,-999.0000,9,-999.0000,9,-999.0000,9, 27.306, 31.920, 36.430, 40.838, 45.147
33RO20110828,   A10,    96,  1,     11,    011,2,20000101,0000,-30.0168, -38.9165, 4300,   1249.8,   3.2895,  34.4118,2,  34.4121,2,  34.5743,2,    198.3,2,    198.1,2,    45.59,2,    32.32,2,     0.00,2,     2.05,2, -999.000,9, -999.000,9, -999.000,9,   2216.7,2,   2306.8,2,   -999.0,9,  -999.00,   7.5648,2,    25.52, -999.000,9,   -999.0,9,   -999.0,9, -999.000,9,-999.0000,9,-999.0000,9,-999.0000,9,-999.0000,9, 27.397, 32.020, 36.539, 40.956, 45.274
33RO20110828,   A10,    96,  1,     10,    010,2,20000101,0000,-30.0168, -38.9165, 4300,   1500.7,   2.7539,  34.4929,2,  34.4943,2,  34.6570,2,    182.1,2,    182.0,2,    62.19,2,    33.68,2,     0.01,2,     2.28,2,    0.723,2,    0.353,2,    1.060,3,   2240.9,6,   2320.7,2,   -999.0,9,  -999.00,   7.5364,2,    25.53,    0.118,2,   -999.0,9,   -999.0,9, -999.000,9,-999.0000,9,-999.0000,9,-999.0000,9,-999.0000,9, 27.513, 32.150, 36.683, 41.113, 45.443
33RO20110828,   A10,    96,  1,      9,    009,2,20000101,0000,-30.0168, -38.9165, 4300,   1801.5,   2.8756,  34.6978,2,  34.6978,2,  34.8615,2,    200.6,2,    199.7,2,    54.08,2,    29.19,2,     0.00,2,     1.97,2,    0.122,2,    0.060,2,    0.339,3,   2220.4,2,   2323.3,2,   -999.0,9,  -999.00,   7.6057,2,    25.59,    0.000,2,   -999.0,9,   -999.0,9, -999.000,9,-999.0000,9,-999.0000,9,-999.0000,9,-999.0000,9, 27.667, 32.300, 36.829, 41.255, 45.582
33RO20110828,   A10,    96,  1,      8,    008,2,20000101,0000,-30.0168, -38.9165, 4300,   2125.6,   3.1871,  34.8821,2,  34.8821,2,  35.0466,2,    229.9,2,    233.2,2,    35.53,2,    23.03,2,     0.00,2,     1.47,2,    0.111,2,    0.058,2,    0.360,3,   -999.0,9,   2319.2,2,   -999.0,9,  -999.00,   7.6731,2,    25.52,    0.000,2,   -999.0,9,   -999.0,9, -999.000,9,-999.0000,9,-999.0000,9,-999.0000,9,-999.0000,9, 27.789, 32.413, 36.933, 41.351, 45.669
33RO20110828,   A10,    96,  1,      7,    007,2,20000101,0000,-30.0168, -38.9165, 4300,   2450.9,   3.0692,  34.9135,2,  34.9144,6,  35.0791,6,    245.4,2,    245.4,2,    31.52,2,    21.37,2,     0.00,2,     1.34,2,    0.099,2,    0.052,2,    0.323,3,   2179.6,2,   2319.2,2,   -999.0,9,  -999.00,   7.6916,2,    25.55,    0.027,2,   -999.0,9,   -999.0,9, -999.000,9,-999.0000,9,-999.0000,9,-999.0000,9,-999.0000,9, 27.828, 32.455, 36.979, 41.400, 45.722
33RO20110828,   A10,    96,  1,      6,    006,2,20000101,0000,-30.0168, -38.9165, 4300,   2650.7,   2.9809,  34.9234,2,  34.9262,2,  35.0909,2,    251.7,2,    249.5,2,    30.55,2,    20.69,2,     0.00,2,     1.30,2,    0.094,2,    0.049,2,    0.324,3,   -999.0,9,   2321.6,2,   -999.0,9,  -999.00,   7.7019,2,    25.57,    0.022,2,   -999.0,9,   -999.0,9, -999.000,9,-999.0000,9,-999.0000,9,-999.0000,9,-999.0000,9, 27.848, 32.478, 37.004, 41.428, 45.752
33RO20110828,   A10,    96,  1,      5,    005,2,20000101,0000,-30.0168, -38.9165, 4300,   2999.1,   2.8230,  34.9185,2,  34.9198,2,  35.0845,2,    251.5,2,    251.4,2,    33.08,2,    20.69,2,     0.00,2,     1.33,2,    0.065,2,    0.035,2,    0.258,3,   2177.2,2,   2318.5,2,   -999.0,9,  -999.00,   7.6995,2,    25.50,    0.000,2,   -999.0,9,   -999.0,9, -999.000,9,-999.0000,9,-999.0000,9,-999.0000,9,-999.0000,9, 27.859, 32.495, 37.026, 41.455, 45.784
33RO20110828,   A10,    96,  1,      4,    004,2,20000101,0000,-30.0168, -38.9165, 4300,   3300.5,   2.6465,  34.9085,2,  34.9094,2,  35.0740,2,    252.5,2,    253.0,2,    36.40,2,    20.89,2,     0.00,2,     1.37,2,    0.060,2,    0.033,2,    0.255,3,   -999.0,9,   2321.0,2,   -999.0,9,  -999.00,   7.6985,2,    25.53,    0.000,2,   -999.0,9,   -999.0,9, -999.000,9,-999.0000,9,-999.0000,9,-999.0000,9,-999.0000,9, 27.868, 32.510, 37.047, 41.481, 45.815
33RO20110828,   A10,    96,  1,      3,    003,2,20000101,0000,-30.0168, -38.9165, 4300,   3649.9,   2.2542,  34.8730,2,  34.8741,2,  35.0386,2,    248.7,2,    250.2,2,    49.48,2,    22.55,2,     0.00,2,     1.58,2,    0.042,2,    0.024,2,    0.200,3,   2192.8,2,   2327.7,2,   -999.0,9,  -999.00,   7.6844,2,    25.55,    0.057,2,   -999.0,9,   -999.0,9, -999.000,9,-999.0000,9,-999.0000,9,-999.0000,9,-999.0000,9, 27.875, 32.528, 37.076, 41.522, 45.867
33RO20110828,   A10,    96,  1,      2,    002,2,20000101,0000,-30.0168, -38.9165, 4300,   3947.9,   1.6966,  34.8145,2,  34.8155,2,  34.9797,2,    239.5,2,    238.1,2,    72.42,2,    25.57,2,     0.00,2,     1.97,2,    0.026,2,    0.014,2,    0.117,3,   -999.0,9,   2337.7,2,   -999.0,9,  -999.00,   7.6629,2,    25.53,    0.206,2,   -999.0,9,   -999.0,9, -999.000,9,-999.0000,9,-999.0000,9,-999.0000,9,-999.0000,9, 27.871, 32.541, 37.106, 41.567, 45.927
33RO20110828,   A10,    96,  1,      1,    001,2,20000101,0000,-30.0168, -38.9165, 4300,   4306.1,   1.0773,  34.7455,2,  34.7461,2,  34.9100,2,    226.7,2,    227.3,2,    99.36,2,    29.38,2,     0.00,2,     2.42,2,    0.115,2,    0.056,2,    0.256,3,   2244.2,6,   2350.3,2,   -999.0,9,  -999.00,   7.6227,2,    25.48,    0.158,2,   -999.0,9,   -999.0,9, -999.000,9,-999.0000,9,-999.0000,9,-999.0000,9,-999.0000,9, 27.858, 32.547, 37.131, 41.610, 45.987