BOTTLE,20130715NOAA
EXPOCODE,SECT_ID,STNNBR,CASTNO,SAMPNO,BTLNBR,BTLNBR_FLAG_W,DATE,TIME,LATITUDE,LONGITUDE,DEPTH,CTDPRS,CTDTMP,CTDSAL,CTDSAL_FLAG_W,SALNTY,SALNTY_FLAG_W,SALTREF,SALTREF_FLAG_W,CTDOXY,CTDOXY_FLAG_W,OXYGEN,OXYGEN_FLAG_W,SILCAT,SILCAT_FLAG_W,NITRAT,NITRAT_FLAG_W,NITRIT,NITRIT_FLAG_W,PHSPHT,PHSPHT_FLAG_W,CFC-11,CFC-11_FLAG_W,CFC-12,CFC-12_FLAG_W,CCL4,CCL4_FLAG_W,TCARBN,TCARBN_FLAG_W,ALKALI,ALKALI_FLAG_W,PCO2,PCO2_FLAG_W,PCO2TMP,PH_TOT,PH_TOT_FLAG_W,PH_TMP,SF6,SF6_FLAG_W,DOC,DOC_FLAG_W,TDN,TDN_FLAG_W,TRITUM,TRITUM_FLAG_W,HELIUM,HELIUM_FLAG_W,OXY_18,OXY_18_FLAG_W,BLACKC,BLACKC_FLAG_W,PIGMENTS,PIGMENTS_FLAG_W,SIGMA-THETA,SIGMA-1,SIGMA-2,SIGMA-3,SIGMA-4
,,,,,,,,,,,METERS,DBARS,ITS-90,PSS-78,,PSS-78,,G/KG,,UMOL/KG,,UMOL/KG,,UMOL/KG,,UMOL/KG,,UMOL/KG,,UMOL/KG,,PMOL/KG,,PMOL/KG,,PMOL/KG,,UMOL/KG,,UMOL/KG,,UATM@T,,DEG_C,,,DEG_C,FMOL/KG,,UMOL/KG,,UMOL/KG,,TU,,NMOL/KG,,,,,,,,,,,,
33RO20110828,   A10,   100,  1,     24,    024,2,20000101,0000,-29.8837, -40.3646, 4268,      4.5,  19.2393,  36.1787,2,  36.1792,2,  36.3498,2,    229.3,2,    225.6,2,     0.78,2,     0.00,2,     0.00,2,     0.03,2,    2.148,2,    1.320,2,    2.543,3,   2075.6,2,   2363.4,2,   -999.0,9,  -999.00,   7.9450,2,    25.54,    1.338,2,   -999.0,9,   -999.0,9, -999.000,9,-999.0000,1,-999.0000,9,-999.0000,9,-999.0000,1, 25.861, 30.138, 34.320, 38.412, 42.415
33RO20110828,   A10,   100,  1,     23,    023,2,20000101,0000,-29.8837, -40.3646, 4268,     38.8,  19.0624,  36.1678,2,  36.1685,2,  36.3391,2,    230.4,2,    232.1,2,     0.78,2,     0.00,2,     0.00,2,     0.03,2,    2.196,2,    1.345,2,    2.739,3,   2074.9,6,   2366.9,2,   -999.0,9,  -999.00,   7.9508,2,    25.60,    1.380,2,   -999.0,9,   -999.0,9, -999.000,1,-999.0000,1,-999.0000,1,-999.0000,9,-999.0000,9, 25.900, 30.180, 34.365, 38.459, 42.465
33RO20110828,   A10,   100,  1,     22,    022,2,20000101,0000,-29.8837, -40.3646, 4268,     90.7,  18.3472,  36.1568,2,  36.1577,2,  36.3282,2,    228.0,2,    229.1,2,     0.78,2,     0.10,2,     0.12,2,     0.07,2,    2.236,2,    1.366,2,    2.398,3,   -999.0,9,   -999.0,9,   -999.0,9,  -999.00,   7.9565,2,    25.62,    1.417,2,   -999.0,9,   -999.0,9, -999.000,1,-999.0000,1,-999.0000,1,-999.0000,9,-999.0000,1, 26.076, 30.367, 34.564, 38.669, 42.686
33RO20110828,   A10,   100,  1,     21,    021,2,20000101,0000,-29.8837, -40.3646, 4268,    140.0,  17.9449,  36.0951,2,  36.0962,2,  36.2664,2,    226.6,2,    227.3,2,     0.88,2,     0.59,2,     0.12,2,     0.09,2,    2.284,2,    1.396,2,    2.462,3,   2085.5,2,   2359.6,2,   -999.0,9,  -999.00,   7.9330,2,    25.61,    1.424,2,   -999.0,9,   -999.0,9, -999.000,1,-999.0000,1,-999.0000,1,-999.0000,9,-999.0000,1, 26.132, 30.430, 34.633, 38.745, 42.768
33RO20110828,   A10,   100,  1,     20,    020,2,20000101,0000,-29.8837, -40.3646, 4268,    195.3,  16.8794,  35.8568,2,  35.8596,2,  36.0287,2,    219.6,2,    220.1,2,     1.37,2,     2.24,2,     0.01,2,     0.19,2,    2.406,2,    1.460,2,    1.461,3,   -999.0,9,   -999.0,9,   -999.0,9,  -999.00,   7.9040,2,    25.63,    1.347,2,   -999.0,9,   -999.0,9, -999.000,1,-999.0000,1,-999.0000,1,-999.0000,9,-999.0000,9, 26.211, 30.528, 34.751, 38.881, 42.922
33RO20110828,   A10,   100,  1,     19,    019,2,20000101,0000,-29.8837, -40.3646, 4268,    290.0,  14.7473,  35.4998,2,  35.5039,2,  35.6713,2,    211.7,2,    211.4,2,     2.44,2,     6.44,2,     0.01,2,     0.41,2,    2.705,2,    1.602,2,    0.885,3,   2111.0,2,   2327.1,2,   -999.0,9,  -999.00,   7.8468,2,    25.62,    1.316,2,   -999.0,9,   -999.0,9, -999.000,1,-999.0000,1,-999.0000,1,-999.0000,9,-999.0000,9, 26.426, 30.784, 35.045, 39.213, 43.290
33RO20110828,   A10,   100,  1,     18,    018,2,20000101,0000,-29.8837, -40.3646, 4268,    390.3,  13.6168,  35.3667,2,  35.3684,2,  35.5352,2,    211.0,2,    212.3,2,     3.12,2,     9.17,2,     0.01,2,     0.54,2,    2.844,2,    1.645,2,    0.933,3,   -999.0,9,   -999.0,9,   -999.0,9,  -999.00,   7.8350,2,    25.59,    1.268,2,   -999.0,9,   -999.0,9, -999.000,1,-999.0000,1,-999.0000,1,-999.0000,9,-999.0000,9, 26.564, 30.944, 35.227, 39.416, 43.513
33RO20110828,   A10,   100,  1,     17,    017,2,20000101,0000,-29.8837, -40.3646, 4268,    475.4,  11.9309,  35.0881,2,  34.8208,2,  34.9850,2,    208.6,2,    215.1,2,    22.64,2,    20.11,2,     0.01,2,     1.24,2,    1.211,4,    0.654,4,    0.970,4,   2156.0,2,   2302.6,2,   -999.0,9,  -999.00,   7.7051,2,    25.55,    0.355,4,   -999.0,9,   -999.0,9, -999.000,1,-999.0000,1,-999.0000,1,-999.0000,9,-999.0000,9, 26.475, 30.892, 35.211, 39.435, 43.566
33RO20110828,   A10,   100,  1,     16,    016,2,20000101,0000,-29.8837, -40.3646, 4268,    576.0,   9.5160,  34.7438,2,  34.7511,2,  34.9150,2,    205.2,2,    203.8,2,     7.71,2,    18.94,2,     0.01,2,     1.03,2,    3.117,2,    1.656,2,    1.640,3,   -999.0,9,   -999.0,9,   -999.0,9,  -999.00,   7.7098,2,    25.62,    0.933,2,   -999.0,9,   -999.0,9, -999.000,1,-999.0000,1,-999.0000,1,-999.0000,9,-999.0000,9, 26.850, 31.319, 35.688, 39.959, 44.137
33RO20110828,   A10,   100,  1,     15,    015,2,20000101,0000,-29.8837, -40.3646, 4268,    668.6,   7.3293,  34.4969,2,  34.4975,2,  34.6602,2,    210.6,2,    210.3,2,    11.91,2,    23.72,2,     0.01,2,     1.32,2,    3.173,2,    1.632,2,    2.413,3,   2160.9,2,   2283.9,2,   -999.0,9,  -999.00,   7.6707,2,    25.58,    0.801,2,   -999.0,9,   -999.0,9, -999.000,1,-999.0000,1,-999.0000,1,-999.0000,9,-999.0000,9, 26.986, 31.506, 35.925, 40.245, 44.469
33RO20110828,   A10,   100,  1,     14,    014,2,20000101,0000,-29.8837, -40.3646, 4268,    774.9,   5.5018,  34.3345,2,  34.3362,2,  34.4981,2,    223.4,2,    224.6,2,    16.99,2,    27.05,2,     0.00,2,     1.52,2,    3.148,2,    1.596,2,    3.207,3,   -999.0,9,   -999.0,9,   -999.0,9,  -999.00,   7.6444,2,    25.60,    0.738,2,   -999.0,9,   -999.0,9, -999.000,1,-999.0000,1,-999.0000,1,-999.0000,9,-999.0000,9, 27.098, 31.663, 36.127, 40.490, 44.755
33RO20110828,   A10,   100,  1,     13,    013,2,20000101,0000,-29.8837, -40.3646, 4268,    874.3,   4.6965,  34.3013,2,  34.3021,2,  34.4638,2,    222.9,2,    222.8,2,    22.36,2,    29.10,2,     0.00,2,     1.66,2,    2.798,2,    1.396,2,    3.075,3,   2177.7,2,   2284.2,2,   -999.0,9,  -999.00,   7.6182,2,    25.63,    0.581,2,   -999.0,9,   -999.0,9, -999.000,1,-999.0000,1,-999.0000,1,-999.0000,9,-999.0000,9, 27.164, 31.750, 36.234, 40.616, 44.900
33RO20110828,   A10,   100,  1,     12,    012,2,20000101,0000,-29.8837, -40.3646, 4268,    950.2,   4.0983,  34.2811,2,  34.2811,2,  34.4427,2,    223.3,2,    224.0,2,    26.95,2,    30.07,2,     0.00,2,     1.75,2,    2.610,2,    1.291,2,    3.381,3,   -999.0,9,   -999.0,9,   -999.0,9,  -999.00,   7.6032,2,    25.57,    0.551,2,   -999.0,9,   -999.0,9, -999.000,1,-999.0000,1,-999.0000,1,-999.0000,9,-999.0000,9, 27.212, 31.813, 36.312, 40.710, 45.008
33RO20110828,   A10,   100,  1,     11,    011,2,20000101,0000,-29.8837, -40.3646, 4268,   1174.2,   3.2712,  34.3953,2,  34.3955,2,  34.5577,2,    199.8,2,    198.5,2,    45.30,2,    32.51,2,     0.00,2,     2.06,2,    1.194,2,    0.582,2,    2.233,3,   2216.4,2,   2302.5,2,   -999.0,9,  -999.00,   7.5728,2,    25.61,    0.183,2,   -999.0,9,   -999.0,9, -999.000,1,-999.0000,1,-999.0000,1,-999.0000,9,-999.0000,9, 27.385, 32.008, 36.528, 40.946, 45.263
33RO20110828,   A10,   100,  1,     10,    010,2,20000101,0000,-29.8837, -40.3646, 4268,   1388.7,   3.0487,  34.5360,2,  34.5379,2,  34.7007,2,    188.7,2,    187.9,2,    53.59,2,    32.22,2,     0.00,2,     2.13,2,    0.440,2,    0.211,2,    1.239,3,   2226.9,2,   2308.8,2,   -999.0,9,  -999.00,   7.5689,2,    25.66,    0.047,2,   -999.0,9,   -999.0,9, -999.000,1,-999.0000,1,-999.0000,1,-999.0000,9,-999.0000,9, 27.521, 32.149, 36.674, 41.096, 45.419
33RO20110828,   A10,   100,  1,      9,    009,2,20000101,0000,-29.8837, -40.3646, 4268,   1572.6,   3.2252,  34.6951,2,  34.6956,2,  34.8592,2,    193.9,2,    195.6,2,    48.12,2,    29.28,2,     0.00,2,     1.92,2,    0.162,2,    0.079,2,    0.498,3,   2216.4,2,   2319.1,2,   -999.0,9,  -999.00,   7.6004,2,    25.57,    0.043,2,   -999.0,9,   -999.0,9, -999.000,1,-999.0000,1,-999.0000,1,-999.0000,9,-999.0000,9, 27.632, 32.255, 36.774, 41.192, 45.509
33RO20110828,   A10,   100,  1,      8,    008,2,20000101,0000,-29.8837, -40.3646, 4268,   1775.5,   3.3993,  34.8170,2,  34.8202,6,  34.9844,6,    212.7,2,    213.2,2,    38.94,2,    25.57,2,     0.00,2,     1.64,2,    0.132,2,    0.067,2,    0.450,3,   -999.0,9,   -999.0,9,   -999.0,9,  -999.00,   7.6380,2,    25.57,    0.000,2,   -999.0,9,   -999.0,9, -999.000,9,-999.0000,1,-999.0000,1,-999.0000,9,-999.0000,9, 27.716, 32.334, 36.848, 41.261, 45.574
33RO20110828,   A10,   100,  1,      7,    007,2,20000101,0000,-29.8837, -40.3646, 4268,   2001.9,   3.4950,  34.9041,2,  34.9060,6,  35.0706,6,    233.1,2,    233.1,2,    29.28,2,    22.35,2,     0.00,2,     1.38,2,    0.175,2,    0.089,2,    0.545,3,   2182.8,2,   2307.8,2,   -999.0,9,  -999.00,   7.6742,2,    25.57,    0.000,2,   -999.0,9,   -999.0,9, -999.000,1,-999.0000,1,-999.0000,9,-999.0000,9,-999.0000,9, 27.777, 32.392, 36.904, 41.314, 45.624
33RO20110828,   A10,   100,  1,      6,    006,2,20000101,0000,-29.8837, -40.3646, 4268,   2384.8,   3.1501,  34.9109,2,  34.9118,2,  35.0764,2,    242.1,2,    242.4,2,    31.62,2,    21.67,2,     0.00,2,     1.36,2,    0.117,2,    0.061,2,    0.436,3,   -999.0,9,   -999.0,9,   -999.0,9,  -999.00,   7.6885,2,    25.55,    0.000,2,   -999.0,9,   -999.0,9, -999.000,9,-999.0000,1,-999.0000,9,-999.0000,9,-999.0000,9, 27.819, 32.444, 36.965, 41.384, 45.704
33RO20110828,   A10,   100,  1,      5,    005,2,20000101,0000,-29.8837, -40.3646, 4268,   2599.9,   3.1045,  34.9306,2,  34.9317,2,  35.0964,2,    249.3,2,    249.1,2,    28.89,2,    20.49,2,     0.00,2,     1.29,2,    0.127,2,    0.065,2,    0.443,3,   2174.8,2,   2309.9,2,   -999.0,9,  -999.00,   7.6989,2,    25.62,    0.050,2,   -999.0,9,   -999.0,9, -999.000,1,-999.0000,1,-999.0000,9,-999.0000,9,-999.0000,9, 27.840, 32.467, 36.990, 41.411, 45.732
33RO20110828,   A10,   100,  1,      4,    004,2,20000101,0000,-29.8837, -40.3646, 4268,   2949.7,   2.8867,  34.9231,2,  34.9246,2,  35.0893,2,    250.8,2,    250.9,2,    31.82,2,    20.69,2,     0.00,2,     1.31,2,    0.092,2,    0.047,2,    0.386,3,   -999.0,9,   -999.0,9,   -999.0,9,  -999.00,   7.7040,2,    25.58,    0.000,2,   -999.0,9,   -999.0,9, -999.000,9,-999.0000,1,-999.0000,9,-999.0000,9,-999.0000,9, 27.857, 32.491, 37.020, 41.448, 45.775
33RO20110828,   A10,   100,  1,      3,    003,2,20000101,0000,-29.8837, -40.3646, 4268,   3450.4,   2.3122,  34.8787,2,  34.8804,2,  35.0448,2,    248.7,2,    248.2,2,  -999.00,5,  -999.00,5,  -999.00,5,  -999.00,5,    0.060,2,    0.032,2,    0.292,3,   2190.7,2,   2331.0,2,   -999.0,9,  -999.00,   7.6857,2,    25.61,    0.000,2,   -999.0,9,   -999.0,9, -999.000,1,-999.0000,1,-999.0000,9,-999.0000,9,-999.0000,9, 27.873, 32.524, 37.071, 41.514, 45.857
33RO20110828,   A10,   100,  1,      2,    002,2,20000101,0000,-29.8837, -40.3646, 4268,   3850.0,   0.9875,  34.7336,2,  34.7346,2,  34.8984,2,    222.1,2,    221.6,2,   104.15,2,    29.97,2,     0.00,2,     2.51,2,    0.181,2,    0.087,2,    0.426,3,   -999.0,9,   -999.0,9,   -999.0,9,  -999.00,   7.5989,2,    25.55,    0.082,2,   -999.0,9,   -999.0,9, -999.000,1,-999.0000,1,-999.0000,9,-999.0000,9,-999.0000,9, 27.852, 32.542, 37.126, 41.607, 45.985
33RO20110828,   A10,   100,  1,      1,    001,2,20000101,0000,-29.8837, -40.3646, 4268,   4274.3,   0.2756,  34.6742,2,  34.6756,2,  34.8391,2,    219.4,2,    220.3,2,   127.58,2,    32.80,2,     0.00,2,     2.87,2,    0.370,2,    0.177,2,    0.679,3,   2264.0,6,   2360.0,2,   -999.0,9,  -999.00,   7.5742,2,    25.60,    0.076,2,   -999.0,9,   -999.0,9, -999.000,1,-999.0000,1,-999.0000,9,-999.0000,9,-999.0000,9, 27.846, 32.559, 37.165, 41.666, 46.065