BOTTLE,20130715NOAA
EXPOCODE,SECT_ID,STNNBR,CASTNO,SAMPNO,BTLNBR,BTLNBR_FLAG_W,DATE,TIME,LATITUDE,LONGITUDE,DEPTH,CTDPRS,CTDTMP,CTDSAL,CTDSAL_FLAG_W,SALNTY,SALNTY_FLAG_W,SALTREF,SALTREF_FLAG_W,CTDOXY,CTDOXY_FLAG_W,OXYGEN,OXYGEN_FLAG_W,SILCAT,SILCAT_FLAG_W,NITRAT,NITRAT_FLAG_W,NITRIT,NITRIT_FLAG_W,PHSPHT,PHSPHT_FLAG_W,CFC-11,CFC-11_FLAG_W,CFC-12,CFC-12_FLAG_W,CCL4,CCL4_FLAG_W,TCARBN,TCARBN_FLAG_W,ALKALI,ALKALI_FLAG_W,PCO2,PCO2_FLAG_W,PCO2TMP,PH_TOT,PH_TOT_FLAG_W,PH_TMP,SF6,SF6_FLAG_W,DOC,DOC_FLAG_W,TDN,TDN_FLAG_W,TRITUM,TRITUM_FLAG_W,HELIUM,HELIUM_FLAG_W,OXY_18,OXY_18_FLAG_W,BLACKC,BLACKC_FLAG_W,PIGMENTS,PIGMENTS_FLAG_W,SIGMA-THETA,SIGMA-1,SIGMA-2,SIGMA-3,SIGMA-4
,,,,,,,,,,,METERS,DBARS,ITS-90,PSS-78,,PSS-78,,G/KG,,UMOL/KG,,UMOL/KG,,UMOL/KG,,UMOL/KG,,UMOL/KG,,UMOL/KG,,PMOL/KG,,PMOL/KG,,PMOL/KG,,UMOL/KG,,UMOL/KG,,UATM@T,,DEG_C,,,DEG_C,FMOL/KG,,UMOL/KG,,UMOL/KG,,TU,,NMOL/KG,,,,,,,,,,,,
33RO20110828,   A10,   118,  1,      9,    009,2,20000101,0000,-27.7334, -47.3802,  177,      4.3,  22.2469,  35.9955,2,  36.0006,2,  36.1704,2,    223.2,2,    222.0,2,     1.56,2,     0.00,2,     0.01,2,     0.12,2,    1.934,2,    1.198,2,    4.798,3,   2061.4,2,   2364.3,2,   -999.0,9,  -999.00,   7.9711,2,    25.62,    1.220,2,   -999.0,9,   -999.0,9, -999.000,9,-999.0000,9,-999.0000,9,-999.0000,9,-999.0000,9, 24.909, 29.141, 33.281, 37.331, 41.294
33RO20110828,   A10,   118,  1,      8,    008,2,20000101,0000,-27.7334, -47.3802,  177,      4.4,  22.2505,  35.9952,2,-999.0000,9,-999.0000,9,   -999.0,9,   -999.0,9,  -999.00,9,  -999.00,9,  -999.00,9,  -999.00,9, -999.000,9, -999.000,9, -999.000,9,   -999.0,9,   -999.0,9,   -999.0,9,  -999.00,-999.0000,9,  -999.00, -999.000,9,   -999.0,9,   -999.0,9, -999.000,9,-999.0000,9,-999.0000,9,-999.0000,9,-999.0000,1, 24.904, 29.136, 33.276, 37.326, 41.289
33RO20110828,   A10,   118,  1,      7,    007,2,20000101,0000,-27.7334, -47.3802,  177,     24.1,  22.0157,  36.3482,2,  36.3964,2,  36.5680,2,    220.9,2,    219.8,2,     0.78,2,     0.00,2,     0.00,2,     0.11,2, -999.000,9, -999.000,9, -999.000,9,   -999.0,9,   2387.2,2,   -999.0,9,  -999.00,   7.9642,2,    25.70, -999.000,9,   -999.0,9,   -999.0,9, -999.000,9,-999.0000,9,-999.0000,9,-999.0000,9,-999.0000,9, 25.276, 29.509, 33.650, 37.701, 41.665
33RO20110828,   A10,   118,  1,      6,    006,2,20000101,0000,-27.7334, -47.3802,  177,     59.0,  21.8856,  36.7124,2,  36.7097,2,  36.8828,2,    217.6,2,    217.4,2,     0.68,2,     0.10,2,     0.01,2,     0.10,2,    1.943,2,    1.204,2,    3.321,3,   -999.0,9,   2405.2,2,   -999.0,9,  -999.00,   7.9727,2,    25.60,    1.208,2,   -999.0,9,   -999.0,9, -999.000,9,-999.0000,9,-999.0000,9,-999.0000,9,-999.0000,9, 25.553, 29.787, 33.927, 37.978, 41.942
33RO20110828,   A10,   118,  1,      5,    005,2,20000101,0000,-27.7334, -47.3802,  177,     91.3,  20.4558,  36.4544,2,  36.4677,2,  36.6396,2,    211.9,2,    209.6,2,     1.36,2,     0.78,2,     0.38,2,     0.20,2,    2.071,2,    1.274,2,    3.381,3,   2097.4,2,   2390.7,2,   -999.0,9,  -999.00,   7.9421,2,    25.61,    1.203,2,   -999.0,9,   -999.0,9, -999.000,9,-999.0000,9,-999.0000,9,-999.0000,9,-999.0000,9, 25.764, 30.020, 34.183, 38.255, 42.240
33RO20110828,   A10,   118,  1,      4,    004,2,20000101,0000,-27.7334, -47.3802,  177,     92.0,  20.3802,  36.4398,2,  36.4699,2,  36.6418,2,   -999.0,9,   -999.0,9,  -999.00,9,  -999.00,9,  -999.00,9,  -999.00,9, -999.000,9, -999.000,9, -999.000,9,   -999.0,9,   -999.0,9,   -999.0,9,  -999.00,-999.0000,9,  -999.00, -999.000,9,   -999.0,9,   -999.0,9, -999.000,9,-999.0000,9,-999.0000,9,-999.0000,9,-999.0000,1, 25.786, 30.044, 34.207, 38.281, 42.267
33RO20110828,   A10,   118,  1,      3,    003,2,20000101,0000,-27.7334, -47.3802,  177,    130.4,  16.9520,  35.8029,2,  35.8032,2,  35.9720,2,    193.5,2,    193.2,2,     2.73,2,     5.17,2,     0.03,2,     0.49,2,    2.451,2,    1.462,2,    1.282,3,   -999.0,9,   2350.4,2,   -999.0,9,  -999.00,   7.8673,2,    25.67,    1.220,2,   -999.0,9,   -999.0,9, -999.000,9,-999.0000,9,-999.0000,9,-999.0000,9,-999.0000,9, 26.148, 30.464, 34.686, 38.815, 42.854
33RO20110828,   A10,   118,  1,      2,    002,2,20000101,0000,-27.7334, -47.3802,  177,    130.5,  16.9528,  35.8033,2,-999.0000,9,-999.0000,9,   -999.0,9,   -999.0,9,  -999.00,9,  -999.00,9,  -999.00,9,  -999.00,9, -999.000,9, -999.000,9, -999.000,9,   -999.0,9,   -999.0,9,   -999.0,9,  -999.00,-999.0000,9,  -999.00, -999.000,9,   -999.0,9,   -999.0,9, -999.000,9,-999.0000,9,-999.0000,9,-999.0000,9,-999.0000,1, 26.148, 30.464, 34.686, 38.815, 42.854
33RO20110828,   A10,   118,  1,      1,    001,2,20000101,0000,-27.7334, -47.3802,  177,    174.2,  15.3577,  35.5609,2,  35.5637,2,  35.7314,2,    195.0,2,    194.8,2,     3.51,2,     7.22,2,     0.05,2,     0.64,2,    2.634,2,    1.549,2,    1.087,3,   2119.3,2,   2338.1,2,   -999.0,9,  -999.00,   7.8470,2,    25.66,    1.277,2,   -999.0,9,   -999.0,9, -999.000,9,-999.0000,9,-999.0000,9,-999.0000,9,-999.0000,9, 26.333, 30.679, 34.930, 39.087, 43.153
33RO20110828,   A10,   119,  1,      8,    008,2,20000101,0000,-27.6695, -47.6688,  117,      5.0,  22.3371,  35.6230,2,  35.9939,2,  36.1636,2,    221.4,2,    228.9,2,     2.15,2,     0.00,2,     0.00,2,     0.14,2,    1.933,2,    1.200,2,    4.545,3,   2045.7,6,   2343.9,2,   -999.0,9,  -999.00,   7.9699,2,    25.71,    1.248,2,   -999.0,1,   -999.0,1, -999.000,9,-999.0000,9,-999.0000,9,-999.0000,9,-999.0000,9, 24.878, 29.109, 33.248, 37.296, 41.258
33RO20110828,   A10,   119,  1,      9,    009,2,20000101,0000,-27.6695, -47.6688,  117,      5.2,  22.3214,  35.6263,2,-999.0000,9,-999.0000,9,   -999.0,9,   -999.0,9,  -999.00,9,  -999.00,9,  -999.00,9,  -999.00,9, -999.000,9, -999.000,9, -999.000,9,   -999.0,9,   -999.0,9,   -999.0,9,  -999.00,-999.0000,9,  -999.00, -999.000,9,   -999.0,9,   -999.0,9, -999.000,9,-999.0000,9,-999.0000,9,-999.0000,9,-999.0000,1, 24.603, 28.837, 32.978, 37.029, 40.993
33RO20110828,   A10,   119,  1,      7,    007,2,20000101,0000,-27.6695, -47.6688,  117,     29.8,  21.8222,  35.8892,2,-999.0000,5,-999.0000,5,    223.7,2,    222.4,2,     1.66,2,     0.00,2,     0.00,2,     0.14,2,    1.979,2,    1.227,2,    4.984,3,   -999.0,9,   2364.4,2,   -999.0,9,  -999.00,   7.9530,2,    25.74,    1.327,2,   -999.0,1,   -999.0,1, -999.000,9,-999.0000,9,-999.0000,9,-999.0000,9,-999.0000,9, 24.945, 29.184, 33.331, 37.387, 41.357
33RO20110828,   A10,   119,  1,      6,    006,2,20000101,0000,-27.6695, -47.6688,  117,     49.9,  21.1990,  36.4655,2,  36.4609,2,  36.6328,2,   -999.0,9,   -999.0,9,  -999.00,9,  -999.00,9,  -999.00,9,  -999.00,9, -999.000,9, -999.000,9, -999.000,9,   -999.0,9,   -999.0,9,   -999.0,9,  -999.00,-999.0000,9,  -999.00, -999.000,9,   -999.0,9,   -999.0,9, -999.000,9,-999.0000,9,-999.0000,9,-999.0000,9,-999.0000,1, 25.555, 29.799, 33.951, 38.013, 41.988
33RO20110828,   A10,   119,  1,      5,    005,2,20000101,0000,-27.6695, -47.6688,  117,     50.4,  21.0915,  36.4509,2,-999.0000,5,-999.0000,5,    219.8,2,    217.7,2,     0.97,2,     0.00,2,     0.00,2,     0.12,2, -999.000,9, -999.000,9, -999.000,9,   2087.1,2,   -999.0,5,   -999.0,9,  -999.00,   7.9675,2,    25.69, -999.000,9,   -999.0,1,   -999.0,1, -999.000,9,-999.0000,9,-999.0000,9,-999.0000,9,-999.0000,9, 25.577, 29.823, 33.977, 38.040, 42.016
33RO20110828,   A10,   119,  1,      4,    004,2,20000101,0000,-27.6695, -47.6688,  117,     80.4,  17.5217,  35.8873,2,  35.8823,2,  36.0515,2,    190.3,2,    188.4,2,     2.44,2,     4.49,2,     0.14,2,     0.46,2,    2.382,2,    1.431,2,    1.554,3,   -999.0,9,   2355.8,2,   -999.0,9,  -999.00,   7.8771,2,    25.73,    1.227,2,   -999.0,1,   -999.0,1, -999.000,9,-999.0000,9,-999.0000,9,-999.0000,9,-999.0000,9, 26.069, 30.375, 34.587, 38.706, 42.737
33RO20110828,   A10,   119,  1,      2,    002,2,20000101,0000,-27.6695, -47.6688,  117,    109.1,  15.2934,  35.5507,2,  35.5409,2,  35.7085,2,    192.4,2,    192.1,2,     3.41,2,     7.80,2,     0.06,2,     0.67,2, -999.000,9, -999.000,9, -999.000,9,   -999.0,9,   2337.2,2,   -999.0,9,  -999.00,   7.8353,2,    25.70, -999.000,9,   -999.0,1,   -999.0,1, -999.000,9,-999.0000,9,-999.0000,9,-999.0000,9,-999.0000,9, 26.328, 30.675, 34.926, 39.084, 43.152
33RO20110828,   A10,   119,  1,      3,    003,2,20000101,0000,-27.6695, -47.6688,  117,    109.3,  15.2659,  35.5459,2,  35.5393,2,  35.7069,2,   -999.0,9,   -999.0,9,  -999.00,9,  -999.00,9,  -999.00,9,  -999.00,9, -999.000,9, -999.000,9, -999.000,9,   -999.0,9,   -999.0,9,   -999.0,9,  -999.00,-999.0000,9,  -999.00, -999.000,9,   -999.0,9,   -999.0,9, -999.000,9,-999.0000,9,-999.0000,9,-999.0000,9,-999.0000,1, 26.333, 30.680, 34.932, 39.091, 43.159
33RO20110828,   A10,   119,  1,      1,    001,2,20000101,0000,-27.6695, -47.6688,  117,    122.3,  14.6552,  35.4619,2,  35.4659,2,  35.6332,2,    192.8,2,    191.6,2,     4.10,2,     8.78,2,     0.06,2,     0.76,2,    2.697,2,    1.565,2,    1.237,3,   2126.6,2,   2332.5,2,   -999.0,9,  -999.00,   7.8406,2,    25.70,    1.170,2,   -999.0,1,   -999.0,1, -999.000,9,-999.0000,9,-999.0000,9,-999.0000,9,-999.0000,9, 26.411, 30.770, 35.033, 39.203, 43.281
33RO20110828,   A10,   120,  1,      9,    009,2,20000101,0000,-27.5998, -47.9487,   92,      4.4,  22.3571,  34.3127,2,-999.0000,9,-999.0000,9,   -999.0,9,   -999.0,9,  -999.00,9,  -999.00,9,  -999.00,9,  -999.00,9, -999.000,9, -999.000,9, -999.000,9,   -999.0,9,   -999.0,9,   -999.0,9,  -999.00,-999.0000,9,  -999.00, -999.000,9,   -999.0,9,   -999.0,9, -999.000,9,-999.0000,9,-999.0000,9,-999.0000,9,-999.0000,1, 23.596, 27.836, 31.984, 36.042, 40.013
33RO20110828,   A10,   120,  1,     10,    010,2,20000101,0000,-27.5998, -47.9487,   92,      4.6,  22.3572,  34.3135,2,  34.3198,2,  34.4816,2,    222.8,2,    221.9,2,     3.81,2,     0.00,2,     0.01,2,     0.14,2,    1.944,2,    1.210,2,    4.857,3,   1988.3,6,   2270.0,2,   -999.0,9,  -999.00,   7.9712,2,    25.62,    1.287,2,   -999.0,1,   -999.0,1, -999.000,9,-999.0000,9,-999.0000,9,-999.0000,9,-999.0000,9, 23.601, 27.842, 31.990, 36.048, 40.019
33RO20110828,   A10,   120,  1,      8,    008,2,20000101,0000,-27.5998, -47.9487,   92,     20.1,  22.0818,  35.0523,2,  35.2368,2,  35.4029,2,    223.4,2,    221.5,2,     2.54,2,     0.00,2,     0.01,2,     0.15,2, -999.000,9, -999.000,9, -999.000,9,   -999.0,9,   2321.1,2,   -999.0,9,  -999.00,   7.9684,2,    25.64, -999.000,9,   -999.0,1,   -999.0,1, -999.000,9,-999.0000,9,-999.0000,9,-999.0000,9,-999.0000,9, 24.376, 28.615, 32.762, 36.818, 40.788
33RO20110828,   A10,   120,  1,      7,    007,2,20000101,0000,-27.5998, -47.9487,   92,     20.7,  22.0252,  35.2250,2,-999.0000,9,-999.0000,9,   -999.0,9,   -999.0,9,  -999.00,9,  -999.00,9,  -999.00,9,  -999.00,9, -999.000,9, -999.000,9, -999.000,9,   -999.0,9,   -999.0,9,   -999.0,9,  -999.00,-999.0000,9,  -999.00, -999.000,9,   -999.0,9,   -999.0,9, -999.000,9,-999.0000,9,-999.0000,9,-999.0000,9,-999.0000,1, 24.383, 28.623, 32.770, 36.828, 40.798
33RO20110828,   A10,   120,  1,      5,    005,2,20000101,0000,-27.5998, -47.9487,   92,     35.9,  21.2201,  36.2412,2,-999.0000,9,-999.0000,9,   -999.0,9,   -999.0,9,  -999.00,9,  -999.00,9,  -999.00,9,  -999.00,9, -999.000,9, -999.000,9, -999.000,9,   -999.0,9,   -999.0,9,   -999.0,9,  -999.00,-999.0000,9,  -999.00, -999.000,9,   -999.0,9,   -999.0,9, -999.000,9,-999.0000,9,-999.0000,9,-999.0000,9,-999.0000,1, 25.381, 29.626, 33.779, 37.842, 41.817
33RO20110828,   A10,   120,  1,      6,    006,2,20000101,0000,-27.5998, -47.9487,   92,     36.0,  21.2044,  36.2392,2,  36.2416,2,  36.4125,2,    227.5,2,    226.7,2,     0.97,2,     0.10,2,     0.01,2,     0.15,2,    2.065,2,    1.269,2,    5.928,3,   2077.2,2,   2379.0,2,   -999.0,9,  -999.00,   7.9687,2,    25.68,    1.262,2,   -999.0,1,   -999.0,1, -999.000,9,-999.0000,9,-999.0000,9,-999.0000,9,-999.0000,9, 25.385, 29.631, 33.784, 37.847, 41.823
33RO20110828,   A10,   120,  1,      4,    004,2,20000101,0000,-27.5998, -47.9487,   92,     55.0,  18.4854,  36.0253,2,  36.0254,2,  36.1953,2,    200.9,2,    198.5,2,     2.05,2,     2.34,2,     0.38,2,     0.35,2, -999.000,9, -999.000,9, -999.000,9,   -999.0,9,   2364.0,2,   -999.0,9,  -999.00,   7.9014,2,    25.69, -999.000,9,   -999.0,1,   -999.0,1, -999.000,9,-999.0000,9,-999.0000,9,-999.0000,9,-999.0000,9, 25.939, 30.228, 34.423, 38.527, 42.542
33RO20110828,   A10,   120,  1,      3,    003,2,20000101,0000,-27.5998, -47.9487,   92,     55.5,  18.4559,  36.0220,2,-999.0000,9,-999.0000,9,   -999.0,9,   -999.0,9,  -999.00,9,  -999.00,9,  -999.00,9,  -999.00,9, -999.000,9, -999.000,9, -999.000,9,   -999.0,9,   -999.0,9,   -999.0,9,  -999.00,-999.0000,9,  -999.00, -999.000,9,   -999.0,9,   -999.0,9, -999.000,9,-999.0000,9,-999.0000,9,-999.0000,9,-999.0000,1, 25.943, 30.234, 34.429, 38.533, 42.549
33RO20110828,   A10,   120,  1,      1,    001,2,20000101,0000,-27.5998, -47.9487,   92,     94.1,  14.4983,  35.4318,2,-999.0000,9,-999.0000,9,   -999.0,9,   -999.0,9,  -999.00,9,  -999.00,9,  -999.00,9,  -999.00,9, -999.000,9, -999.000,9, -999.000,9,   -999.0,9,   -999.0,9,   -999.0,9,  -999.00,-999.0000,9,  -999.00, -999.000,9,   -999.0,9,   -999.0,9, -999.000,9,-999.0000,9,-999.0000,9,-999.0000,9,-999.0000,1, 26.418, 30.780, 35.046, 39.218, 43.299
33RO20110828,   A10,   120,  1,      2,    002,2,20000101,0000,-27.5998, -47.9487,   92,     94.3,  14.4974,  35.4317,2,  35.4341,6,  35.6011,6,    185.3,2,    183.7,2,     6.15,2,     9.85,2,     0.07,2,     0.88,2,    2.693,2,    1.556,2,    1.576,3,   2133.0,2,   2332.2,2,   -999.0,9,  -999.00,   7.8102,2,    25.67,    1.145,2,   -999.0,1,   -999.0,1, -999.000,9,-999.0000,9,-999.0000,9,-999.0000,9,-999.0000,9, 26.418, 30.780, 35.046, 39.218, 43.300