BOTTLE,20130715NOAA
EXPOCODE,SECT_ID,STNNBR,CASTNO,SAMPNO,BTLNBR,BTLNBR_FLAG_W,DATE,TIME,LATITUDE,LONGITUDE,DEPTH,CTDPRS,CTDTMP,CTDSAL,CTDSAL_FLAG_W,SALNTY,SALNTY_FLAG_W,SALTREF,SALTREF_FLAG_W,CTDOXY,CTDOXY_FLAG_W,OXYGEN,OXYGEN_FLAG_W,SILCAT,SILCAT_FLAG_W,NITRAT,NITRAT_FLAG_W,NITRIT,NITRIT_FLAG_W,PHSPHT,PHSPHT_FLAG_W,CFC-11,CFC-11_FLAG_W,CFC-12,CFC-12_FLAG_W,CCL4,CCL4_FLAG_W,TCARBN,TCARBN_FLAG_W,ALKALI,ALKALI_FLAG_W,PCO2,PCO2_FLAG_W,PCO2TMP,PH_TOT,PH_TOT_FLAG_W,PH_TMP,SF6,SF6_FLAG_W,DOC,DOC_FLAG_W,TDN,TDN_FLAG_W,TRITUM,TRITUM_FLAG_W,HELIUM,HELIUM_FLAG_W,OXY_18,OXY_18_FLAG_W,BLACKC,BLACKC_FLAG_W,PIGMENTS,PIGMENTS_FLAG_W,SIGMA-THETA,SIGMA-1,SIGMA-2,SIGMA-3,SIGMA-4
,,,,,,,,,,,METERS,DBARS,ITS-90,PSS-78,,PSS-78,,G/KG,,UMOL/KG,,UMOL/KG,,UMOL/KG,,UMOL/KG,,UMOL/KG,,UMOL/KG,,PMOL/KG,,PMOL/KG,,PMOL/KG,,UMOL/KG,,UMOL/KG,,UATM@T,,DEG_C,,,DEG_C,FMOL/KG,,UMOL/KG,,UMOL/KG,,TU,,NMOL/KG,,,,,,,,,,,,
33RO20110828,   A10,    21,  1,     24,    024,2,20000101,0000,-29.7501,   4.4250, 4985,      4.3,  17.4727,  35.6853,2,-999.0000,5,-999.0000,5,    248.2,2,    246.9,2,  -999.00,5,  -999.00,5,  -999.00,5,  -999.00,5,    2.500,2,    1.491,2,    3.677,2,   2074.7,6,   2340.2,3,   -999.0,9,  -999.00,   7.9540,2,    25.28,    1.442,2,   -999.0,1,   -999.0,1, -999.000,9,-999.0000,9,-999.0000,1,-999.0000,9,-999.0000,1, 25.927, 30.235, 34.448, 38.570, 42.602
33RO20110828,   A10,    21,  1,     23,    023,2,20000101,0000,-29.7501,   4.4250, 4985,     50.0,  16.2446,  35.6082,2,  35.6082,2,  35.7761,2,    246.5,2,    246.9,2,     0.59,2,     0.78,2,     0.16,2,     0.21,2,    2.549,2,    1.511,2,    3.383,2,   2079.9,2,   2330.2,3,   -999.0,9,  -999.00,   7.9428,2,    25.28,    1.485,2,   -999.0,1,   -999.0,1, -999.000,9,-999.0000,9,-999.0000,1,-999.0000,9,-999.0000,1, 26.161, 30.491, 34.725, 38.867, 42.918
33RO20110828,   A10,    21,  1,     22,    022,2,20000101,0000,-29.7501,   4.4250, 4985,    110.1,  16.0452,  35.6195,2,  35.6149,2,  35.7828,2,    239.4,2,    238.8,2,     0.78,2,     1.27,2,     0.79,2,     0.27,2,    2.544,2,    1.516,2,    2.686,2,   2085.5,2,   2331.6,3,   -999.0,9,  -999.00,   7.9264,2,    25.28,    1.532,2,   -999.0,1,   -999.0,1, -999.000,9,-999.0000,9,-999.0000,1,-999.0000,9,-999.0000,1, 26.214, 30.548, 34.786, 38.931, 42.986
33RO20110828,   A10,    21,  1,     21,    021,2,20000101,0000,-29.7501,   4.4250, 4985,    179.8,  15.7226,  35.5694,2,  35.5646,2,  35.7323,2,    232.0,2,    233.5,2,     0.88,2,     2.83,2,     0.04,2,     0.32,2,    2.578,2,    1.526,2,    2.100,2,   2091.4,2,   2332.2,3,   -999.0,9,  -999.00,   7.9088,2,    25.30,    1.454,2,   -999.0,1,   -999.0,1, -999.000,9,-999.0000,9,-999.0000,1,-999.0000,9,-999.0000,9, 26.252, 30.592, 34.835, 38.986, 43.047
33RO20110828,   A10,    21,  1,     20,    020,2,20000101,0000,-29.7501,   4.4250, 4985,    249.5,  13.4396,  35.1677,2,  35.1676,2,  35.3334,2,    212.0,2,    213.9,2,     2.05,2,     8.68,2,     0.02,2,     0.67,2,    2.895,2,    1.685,2,    1.078,2,   2118.2,2,   2308.5,3,   -999.0,9,  -999.00,   7.8251,2,    25.31,    1.452,2,   -999.0,1,   -999.0,1, -999.000,9,-999.0000,9,-999.0000,1,-999.0000,9,-999.0000,9, 26.441, 30.825, 35.113, 39.306, 43.407
33RO20110828,   A10,    21,  1,     19,    019,2,20000101,0000,-29.7501,   4.4250, 4985,    320.7,  12.1919,  35.0269,2,  35.0272,2,  35.1924,2,    209.4,2,    207.7,2,     3.12,2,    12.39,2,     0.01,2,     0.87,2,    3.073,2,    1.737,2,    1.198,2,   2131.7,2,   2309.3,2,   -999.0,9,  -999.00,   7.7855,2,    25.29,    1.317,2,   -999.0,1,   -999.0,1, -999.000,9,-999.0000,9,-999.0000,1,-999.0000,9,-999.0000,9, 26.582, 30.992, 35.304, 39.521, 43.645
33RO20110828,   A10,    21,  1,     18,    018,2,20000101,0000,-29.7501,   4.4250, 4985,    390.1,  10.9750,  34.9135,2,  34.9127,2,  35.0773,2,    213.7,2,    213.4,2,     4.29,2,    14.74,2,     0.01,2,     1.01,2,    3.185,2,    1.754,2,    1.322,2,   2136.4,2,   2304.0,2,   -999.0,9,  -999.00,   7.7651,2,    25.39,    1.193,2,   -999.0,1,   -999.0,1, -999.000,9,-999.0000,9,-999.0000,1,-999.0000,9,-999.0000,9, 26.721, 31.157, 35.494, 39.735, 43.883
33RO20110828,   A10,    21,  1,     17,    017,2,20000101,0000,-29.7501,   4.4250, 4985,    481.7,   9.5538,  34.7373,2,  34.7353,2,  34.8991,2,    208.0,2,    208.5,2,     6.83,2,    18.54,2,     0.01,2,     1.25,2,    3.197,2,    1.722,2,    1.564,2,   2149.2,2,   2295.1,2,   -999.0,9,  -999.00,   7.7204,2,    25.36,    1.075,2,   -999.0,1,   -999.0,1, -999.000,9,-999.0000,9,-999.0000,1,-999.0000,9,-999.0000,9, 26.830, 31.297, 35.665, 39.936, 44.113
33RO20110828,   A10,    21,  1,     16,    016,2,20000101,0000,-29.7501,   4.4250, 4985,    600.0,   7.4533,  34.5122,2,  34.5060,2,  34.6687,2,    204.7,2,    203.0,2,    12.50,2,    24.50,2,     0.01,2,     1.62,2,    3.119,2,    1.635,2,    2.149,2,   2168.5,2,   2290.1,2,   -999.0,9,  -999.00,   7.6592,2,    25.32,    0.914,2,   -999.0,1,   -999.0,1, -999.000,9,-999.0000,9,-999.0000,1,-999.0000,9,-999.0000,9, 26.974, 31.491, 35.907, 40.225, 44.446
33RO20110828,   A10,    21,  1,     15,    015,2,20000101,0000,-29.7501,   4.4250, 4985,    749.5,   5.2481,  34.3392,2,  34.3379,2,  34.4998,2,    212.4,2,    214.5,2,    20.41,2,    28.61,2,     0.01,2,     1.90,2,    2.963,2,    1.501,2,    2.831,2,   2180.1,2,   2288.1,2,   -999.0,9,  -999.00,   7.6186,2,    25.36,    0.757,2,   -999.0,1,   -999.0,1, -999.000,9,-999.0000,9,-999.0000,1,-999.0000,9,-999.0000,9, 27.129, 31.700, 36.170, 40.539, 44.810
33RO20110828,   A10,    21,  1,     14,    014,2,20000101,0000,-29.7501,   4.4250, 4985,    899.1,   4.1533,  34.3595,2,  34.3606,2,  34.5226,2,    199.0,2,    198.8,2,    34.46,2,    31.34,2,     0.00,2,     2.15,2,    1.988,2,    0.974,2,    2.213,2,   2205.8,2,   2301.3,2,   -999.0,9,  -999.00,   7.5881,2,    25.39,    0.399,2,   -999.0,1,   -999.0,1, -999.000,9,-999.0000,9,-999.0000,1,-999.0000,9,-999.0000,9, 27.269, 31.868, 36.365, 40.761, 45.057
33RO20110828,   A10,    21,  1,     13,    013,2,20000101,0000,-29.7501,   4.4250, 4985,   1050.1,   3.5912,  34.4418,2,  34.4421,2,  34.6045,2,    183.4,2,    181.8,2,    45.79,2,    33.09,2,     0.00,2,     2.29,2,    1.005,2,    0.480,2,    1.309,2,   2226.0,6,   2313.6,2,   -999.0,9,  -999.00,   7.5666,2,    25.34,    0.186,2,   -999.0,1,   -999.0,1, -999.000,9,-999.0000,9,-999.0000,1,-999.0000,9,-999.0000,9, 27.391, 32.005, 36.516, 40.925, 45.234
33RO20110828,   A10,    21,  1,     12,    012,2,20000101,0000,-29.7501,   4.4250, 4985,   1250.0,   3.2422,  34.5562,2,  34.5586,2,  34.7215,2,    177.4,2,    177.9,2,    53.20,2,    32.31,2,     0.00,2,     2.27,2,    0.406,2,    0.189,2,    0.614,2,   2233.7,2,   2322.8,2,   -999.0,9,  -999.00,   7.5682,2,    25.43,    0.066,2,   -999.0,1,   -999.0,1, -999.000,9,-999.0000,9,-999.0000,1,-999.0000,9,-999.0000,9, 27.519, 32.141, 36.661, 41.078, 45.395
33RO20110828,   A10,    21,  1,     11,    011,2,20000101,0000,-29.7501,   4.4250, 4985,   1649.5,   3.1479,  34.7676,2,  34.7678,2,  34.9318,2,    200.5,2,    200.5,2,    45.09,2,    27.82,2,     0.00,2,     1.92,2,    0.053,2,    0.025,2,    0.160,2,   2215.1,2,   2321.4,3,   -999.0,9,  -999.00,   7.6320,2,    25.45,    0.015,2,   -999.0,1,   -999.0,1, -999.000,9,-999.0000,9,-999.0000,1,-999.0000,9,-999.0000,9, 27.697, 32.322, 36.843, 41.262, 45.580
33RO20110828,   A10,    21,  1,     10,    010,2,20000101,0000,-29.7501,   4.4250, 4985,   1799.7,   3.0738,  34.8029,2,  34.8034,2,  34.9675,2,    208.4,2,    209.2,2,    44.21,2,    26.74,2,     0.00,2,     1.84,2,    0.035,2,    0.018,2,    0.127,2,   2211.5,2,   2322.7,3,   -999.0,9,  -999.00,   7.6427,2,    25.43,    0.000,2,   -999.0,1,   -999.0,1, -999.000,9,-999.0000,9,-999.0000,1,-999.0000,9,-999.0000,9, 27.734, 32.360, 36.883, 41.304, 45.625
33RO20110828,   A10,    21,  1,      9,    009,2,20000101,0000,-29.7501,   4.4250, 4985,   1950.3,   3.0463,  34.8359,2,  34.8371,2,  35.0013,2,    216.1,2,    218.6,2,    41.38,2,    25.37,2,     0.00,2,     1.74,2,    0.018,2,    0.009,2,    0.086,2,   2203.2,2,   2323.4,3,   -999.0,9,  -999.00,   7.6613,2,    25.49,    0.000,2,   -999.0,1,   -999.0,1, -999.000,9,-999.0000,9,-999.0000,1,-999.0000,9,-999.0000,9, 27.764, 32.392, 36.915, 41.337, 45.658
33RO20110828,   A10,    21,  1,      8,    008,2,20000101,0000,-29.7501,   4.4250, 4985,   2249.5,   2.7697,  34.8431,2,  34.8443,2,  35.0086,2,    224.6,2,    223.4,2,    46.16,2,    24.98,2,     0.00,2,     1.73,2,    0.016,2,    0.009,2,    0.072,2,   2205.2,2,   2323.8,3,   -999.0,9,  -999.00,   7.6656,2,    25.48,    0.000,2,   -999.0,1,   -999.0,1, -999.000,9,-999.0000,9,-999.0000,9,-999.0000,9,-999.0000,9, 27.797, 32.433, 36.964, 41.393, 45.722
33RO20110828,   A10,    21,  1,      7,    007,2,20000101,0000,-29.7501,   4.4250, 4985,   2549.3,   2.6360,  34.8619,2,  34.8628,2,  35.0272,2,    231.0,2,    230.6,2,    46.26,2,    24.20,2,     0.00,2,     1.67,2,    0.005,2,    0.003,2,    0.041,2,   2202.8,2,   2329.8,3,   -999.0,9,  -999.00,   7.6947,2,    25.38,    0.000,2,   -999.0,1,   -999.0,1, -999.000,9,-999.0000,9,-999.0000,9,-999.0000,9,-999.0000,9, 27.826, 32.465, 37.001, 41.434, 45.767
33RO20110828,   A10,    21,  1,      6,    006,2,20000101,0000,-29.7501,   4.4250, 4985,   2850.9,   2.4692,  34.8582,2,  34.8588,2,  35.0232,2,    231.8,2,    231.3,2,    50.94,2,    24.40,2,     0.00,2,     1.70,2,    0.006,2,    0.003,2,    0.036,2,   2206.1,2,   2334.2,3,   -999.0,9,  -999.00,   7.6759,2,    25.46,    0.000,2,   -999.0,1,   -999.0,1, -999.000,9,-999.0000,9,-999.0000,9,-999.0000,9,-999.0000,9, 27.839, 32.484, 37.025, 41.463, 45.800
33RO20110828,   A10,    21,  1,      5,    005,2,20000101,0000,-29.7501,   4.4250, 4985,   3149.3,   2.3680,  34.8600,2,  34.8598,2,  35.0242,2,    232.1,2,    231.8,2,    53.68,2,    24.40,2,     0.00,2,     1.71,2,    0.005,2,    0.003,2,    0.034,2,   2209.9,2,   2342.0,2,   -999.0,9,  -999.00,   7.6791,2,    25.40,    0.000,2,   -999.0,1,   -999.0,1, -999.000,9,-999.0000,9,-999.0000,9,-999.0000,9,-999.0000,9, 27.850, 32.499, 37.043, 41.485, 45.825
33RO20110828,   A10,    21,  1,      4,    004,2,20000101,0000,-29.7501,   4.4250, 4985,   3550.3,   2.2102,  34.8496,2,  34.8495,6,  35.0138,6,    230.0,2,    230.0,2,    60.12,2,    25.08,2,     0.00,2,     1.76,2,    0.008,2,    0.005,2,    0.041,2,   2216.4,2,   2347.9,2,   -999.0,9,  -999.00,   7.6771,2,    25.44,    0.000,2,   -999.0,1,   -999.0,1, -999.000,9,-999.0000,9,-999.0000,9,-999.0000,9,-999.0000,9, 27.858, 32.512, 37.062, 41.508, 45.854
33RO20110828,   A10,    21,  1,      3,    003,2,20000101,0000,-29.7501,   4.4250, 4985,   3949.8,   1.7061,  34.7946,2,  34.7946,2,  34.9587,2,    223.2,2,    223.1,2,    82.18,2,    27.82,2,     0.00,2,     2.02,2,    0.028,2,    0.016,2,    0.087,2,   2234.9,2,   2356.1,2,   -999.0,9,  -999.00,   7.6455,2,    25.37,    0.057,4,   -999.0,1,   -999.0,1, -999.000,9,-999.0000,9,-999.0000,9,-999.0000,9,-999.0000,9, 27.854, 32.523, 37.088, 41.550, 45.909
33RO20110828,   A10,    21,  1,      2,    002,2,20000101,0000,-29.7501,   4.4250, 4985,   4709.9,   1.1714,  34.7379,2,  34.7410,2,  34.9048,2,    217.3,2,    218.2,2,   105.12,2,    30.45,2,     0.01,2,     2.27,2,    0.061,2,    0.030,2,    0.158,2,   2254.7,2,   2367.4,2,   -999.0,9,  -999.00,   7.6221,2,    25.43,    0.000,2,   -999.0,1,   -999.0,1, -999.000,9,-999.0000,9,-999.0000,9,-999.0000,9,-999.0000,9, 27.851, 32.539, 37.121, 41.599, 45.975
33RO20110828,   A10,    21,  1,      1,    001,2,20000101,0000,-29.7501,   4.4250, 4985,   5093.9,   1.1762,  34.7336,2,  34.7335,2,  34.8973,2,    217.3,2,    217.0,2,   106.97,2,    30.55,2,     0.00,2,     2.29,2,    0.075,2,    0.036,2,    0.173,2,   2256.6,6,   2366.8,2,   -999.0,9,  -999.00,   7.6224,2,    25.37,    0.000,2,   -999.0,1,   -999.0,1, -999.000,9,-999.0000,9,-999.0000,9,-999.0000,9,-999.0000,9, 27.848, 32.537, 37.120, 41.600, 45.977