BOTTLE,20130715NOAA
EXPOCODE,SECT_ID,STNNBR,CASTNO,SAMPNO,BTLNBR,BTLNBR_FLAG_W,DATE,TIME,LATITUDE,LONGITUDE,DEPTH,CTDPRS,CTDTMP,CTDSAL,CTDSAL_FLAG_W,SALNTY,SALNTY_FLAG_W,SALTREF,SALTREF_FLAG_W,CTDOXY,CTDOXY_FLAG_W,OXYGEN,OXYGEN_FLAG_W,SILCAT,SILCAT_FLAG_W,NITRAT,NITRAT_FLAG_W,NITRIT,NITRIT_FLAG_W,PHSPHT,PHSPHT_FLAG_W,CFC-11,CFC-11_FLAG_W,CFC-12,CFC-12_FLAG_W,CCL4,CCL4_FLAG_W,TCARBN,TCARBN_FLAG_W,ALKALI,ALKALI_FLAG_W,PCO2,PCO2_FLAG_W,PCO2TMP,PH_TOT,PH_TOT_FLAG_W,PH_TMP,SF6,SF6_FLAG_W,DOC,DOC_FLAG_W,TDN,TDN_FLAG_W,TRITUM,TRITUM_FLAG_W,HELIUM,HELIUM_FLAG_W,OXY_18,OXY_18_FLAG_W,BLACKC,BLACKC_FLAG_W,PIGMENTS,PIGMENTS_FLAG_W,SIGMA-THETA,SIGMA-1,SIGMA-2,SIGMA-3,SIGMA-4
,,,,,,,,,,,METERS,DBARS,ITS-90,PSS-78,,PSS-78,,G/KG,,UMOL/KG,,UMOL/KG,,UMOL/KG,,UMOL/KG,,UMOL/KG,,UMOL/KG,,PMOL/KG,,PMOL/KG,,PMOL/KG,,UMOL/KG,,UMOL/KG,,UATM@T,,DEG_C,,,DEG_C,FMOL/KG,,UMOL/KG,,UMOL/KG,,TU,,NMOL/KG,,,,,,,,,,,,
33RO20110828,   A10,   115,  1,     23,    023,2,20000101,0000,-27.9170, -46.6507, 1307,      5.6,  22.8791,  36.9371,2,-999.0000,9,-999.0000,9,   -999.0,9,   -999.0,9,  -999.00,9,  -999.00,9,  -999.00,9,  -999.00,9, -999.000,9, -999.000,9, -999.000,9,   -999.0,9,   -999.0,9,   -999.0,9,  -999.00,-999.0000,9,  -999.00, -999.000,9,   -999.0,9,   -999.0,9, -999.000,9,-999.0000,9,-999.0000,9,-999.0000,9,-999.0000,9, 25.439, 29.657, 33.782, 37.819, 41.769
33RO20110828,   A10,   115,  1,     21,    021,2,20000101,0000,-27.9170, -46.6507, 1307,      5.6,  22.8808,  36.9371,2,  36.9378,2,  37.1120,2,    214.7,2,    214.8,2,  -999.00,5,  -999.00,5,  -999.00,5,  -999.00,5,    1.858,2,    1.168,2,    3.070,3,   -999.0,9,   2419.0,2,   -999.0,9,  -999.00,   7.9890,2,    25.62,    1.175,2,   -999.0,1,   -999.0,1, -999.000,9,-999.0000,9,-999.0000,9,-999.0000,9,-999.0000,9, 25.439, 29.657, 33.782, 37.819, 41.769
33RO20110828,   A10,   115,  1,     22,    022,2,20000101,0000,-27.9170, -46.6507, 1307,      5.7,  22.8767,  36.9370,2,-999.0000,9,-999.0000,9,   -999.0,9,   -999.0,9,  -999.00,9,  -999.00,9,  -999.00,9,  -999.00,9, -999.000,9, -999.000,9, -999.000,9,   -999.0,9,   -999.0,9,   -999.0,9,  -999.00,-999.0000,9,  -999.00, -999.000,9,   -999.0,9,   -999.0,9, -999.000,9,-999.0000,9,-999.0000,9,-999.0000,9,-999.0000,1, 25.440, 29.657, 33.783, 37.820, 41.770
33RO20110828,   A10,   115,  1,     24,    024,2,20000101,0000,-27.9170, -46.6507, 1307,      5.9,  22.8774,  36.9371,2,-999.0000,9,-999.0000,9,   -999.0,9,   -999.0,9,  -999.00,9,  -999.00,9,  -999.00,9,  -999.00,9, -999.000,9, -999.000,9, -999.000,9,   -999.0,9,   -999.0,9,   -999.0,9,  -999.00,-999.0000,9,  -999.00, -999.000,9,   -999.0,9,   -999.0,9, -999.000,9,-999.0000,9,-999.0000,9,-999.0000,9,-999.0000,9, 25.440, 29.657, 33.783, 37.819, 41.769
33RO20110828,   A10,   115,  1,     20,    020,2,20000101,0000,-27.9170, -46.6507, 1307,     24.0,  22.6999,  36.9387,2,  36.9404,2,  37.1146,2,    215.5,2,    215.6,2,  -999.00,5,  -999.00,5,  -999.00,5,  -999.00,5,    1.861,2,    1.161,2,    3.150,3,   2092.7,2,   2417.6,2,   -999.0,9,  -999.00,   7.9831,2,    25.61,    1.197,2,   -999.0,1,   -999.0,1, -999.000,9,-999.0000,9,-999.0000,9,-999.0000,9,-999.0000,9, 25.494, 29.715, 33.843, 37.882, 41.834
33RO20110828,   A10,   115,  1,     19,    019,2,20000101,0000,-27.9170, -46.6507, 1307,     48.5,  22.6043,  36.9313,2,  36.9325,2,  37.1067,2,    215.8,2,    215.4,2,  -999.00,5,  -999.00,5,  -999.00,5,  -999.00,5,    1.860,2,    1.163,2,    4.814,3,   2091.5,2,   2418.1,2,   -999.0,9,  -999.00,   7.9877,2,    25.71,    1.205,2,   -999.0,1,   -999.0,1, -999.000,9,-999.0000,9,-999.0000,9,-999.0000,9,-999.0000,9, 25.517, 29.739, 33.869, 37.909, 41.863
33RO20110828,   A10,   115,  1,     18,    018,2,20000101,0000,-27.9170, -46.6507, 1307,     73.7,  22.2887,  36.8577,2,  36.8573,2,  37.0311,2,    217.7,2,    217.6,2,  -999.00,5,  -999.00,5,  -999.00,5,  -999.00,5,    1.877,2,    1.180,2,    3.249,3,   2090.6,2,   2414.6,2,   -999.0,9,  -999.00,   7.9678,2,    25.71,    1.244,2,   -999.0,1,   -999.0,1, -999.000,9,-999.0000,9,-999.0000,9,-999.0000,9,-999.0000,9, 25.552, 29.779, 33.913, 37.958, 41.916
33RO20110828,   A10,   115,  1,     17,    017,2,20000101,0000,-27.9170, -46.6507, 1307,     88.4,  21.9949,  36.8334,2,-999.0000,9,-999.0000,9,   -999.0,9,   -999.0,9,     0.58,2,     0.00,2,     0.01,2,     0.06,2, -999.000,9, -999.000,9, -999.000,9,   -999.0,9,   -999.0,9,   -999.0,9,  -999.00,-999.0000,9,  -999.00, -999.000,9,   -999.0,9,   -999.0,9, -999.000,9,-999.0000,9,-999.0000,9,-999.0000,9,-999.0000,1, 25.618, 29.849, 33.988, 38.037, 41.999
33RO20110828,   A10,   115,  1,     16,    016,2,20000101,0000,-27.9170, -46.6507, 1307,     88.8,  21.9900,  36.8317,2,-999.0000,5,-999.0000,5,    217.5,2,    218.5,2,     0.58,2,     0.00,2,     0.00,2,     0.06,2,    1.904,2,    1.190,2,    3.799,3,   2090.1,2,   2411.9,2,   -999.0,9,  -999.00,   7.9835,2,    25.69,    1.206,2,   -999.0,1,   -999.0,1, -999.000,9,-999.0000,9,-999.0000,9,-999.0000,9,-999.0000,9, 25.618, 29.849, 33.988, 38.037, 41.999
33RO20110828,   A10,   115,  1,     15,    015,2,20000101,0000,-27.9170, -46.6507, 1307,    111.8,  21.3298,  36.7189,2,-999.0000,9,-999.0000,9,   -999.0,9,   -999.0,9,     0.68,2,     0.00,2,     0.01,2,     0.06,2, -999.000,9, -999.000,9, -999.000,9,   -999.0,9,   -999.0,9,   -999.0,9,  -999.00,-999.0000,9,  -999.00, -999.000,9,   -999.0,9,   -999.0,9, -999.000,9,-999.0000,9,-999.0000,9,-999.0000,9,-999.0000,1, 25.718, 29.960, 34.108, 38.167, 42.139
33RO20110828,   A10,   115,  1,     13,    013,2,20000101,0000,-27.9170, -46.6507, 1307,    125.1,  20.5871,  36.5740,2,  36.5708,2,  36.7432,2,    216.0,2,    213.9,2,     0.78,2,     0.49,2,     0.21,2,     0.12,2,    2.033,2,    1.257,2,    3.867,3,   2093.9,2,   2396.2,2,   -999.0,9,  -999.00,   7.9672,2,    25.65,    1.235,2,   -999.0,1,   -999.0,1, -999.000,9,-999.0000,9,-999.0000,9,-999.0000,9,-999.0000,9, 25.809, 30.063, 34.223, 38.293, 42.276
33RO20110828,   A10,   115,  1,     14,    014,2,20000101,0000,-27.9170, -46.6507, 1307,    125.9,  20.5932,  36.5772,2,  36.8328,2,  37.0065,2,   -999.0,9,   -999.0,9,     0.68,2,     0.00,2,     0.01,2,     0.07,2, -999.000,9, -999.000,9, -999.000,9,   -999.0,9,   -999.0,9,   -999.0,9,  -999.00,-999.0000,9,  -999.00, -999.000,9,   -999.0,9,   -999.0,9, -999.000,9,-999.0000,9,-999.0000,9,-999.0000,9,-999.0000,1, 26.008, 30.259, 34.418, 38.486, 42.467
33RO20110828,   A10,   115,  1,     12,    012,2,20000101,0000,-27.9170, -46.6507, 1307,    190.1,  19.1976,  36.3613,2,-999.0000,5,-999.0000,5,    221.2,2,    222.6,2,     0.97,2,     0.49,2,     0.18,2,     0.13,2,    2.155,2,    1.317,2,    3.726,3,   2088.1,2,   2384.6,2,   -999.0,9,  -999.00,   7.9344,2,    25.69,    1.291,2,   -999.0,1,   -999.0,1, -999.000,9,-999.0000,9,-999.0000,9,-999.0000,9,-999.0000,9, 26.020, 30.296, 34.479, 38.570, 42.574
33RO20110828,   A10,   115,  1,     11,    011,2,20000101,0000,-27.9170, -46.6507, 1307,    261.2,  16.6308,  35.7866,2,  35.8047,2,  35.9735,2,    205.6,2,    206.2,2,     1.85,2,     3.80,2,     0.02,2,     0.39,2,    2.451,2,    1.468,2,    1.527,3,   2106.3,2,   2350.6,2,   -999.0,9,  -999.00,   7.8528,2,    25.65,    1.269,2,   -999.0,1,   -999.0,1, -999.000,9,-999.0000,9,-999.0000,9,-999.0000,9,-999.0000,9, 26.230, 30.552, 34.780, 38.914, 42.959
33RO20110828,   A10,   115,  1,     10,    010,2,20000101,0000,-27.9170, -46.6507, 1307,    334.4,  14.9583,  35.5344,2,  35.5382,2,  35.7058,2,    206.7,2,    208.4,2,     2.34,2,     6.54,2,     0.01,2,     0.57,2,    2.678,2,    1.586,2,    1.064,3,   2114.7,2,   2336.4,2,   -999.0,9,  -999.00,   7.8566,2,    25.61,    1.270,2,   -999.0,1,   -999.0,1, -999.000,9,-999.0000,9,-999.0000,9,-999.0000,9,-999.0000,9, 26.407, 30.761, 35.019, 39.184, 43.257
33RO20110828,   A10,   115,  1,      9,    009,2,20000101,0000,-27.9170, -46.6507, 1307,    414.7,  13.6826,  35.3497,2,  35.3570,2,  35.5237,2,    209.1,2,    208.0,2,     3.22,2,     9.27,2,     0.01,2,     0.76,2,    2.833,2,    1.642,2,    1.312,3,   2121.2,2,   2327.2,2,   -999.0,9,  -999.00,   7.8189,2,    25.68,    1.183,2,   -999.0,1,   -999.0,1, -999.000,9,-999.0000,9,-999.0000,9,-999.0000,9,-999.0000,9, 26.542, 30.921, 35.203, 39.391, 43.488
33RO20110828,   A10,   115,  1,      8,    008,2,20000101,0000,-27.9170, -46.6507, 1307,    513.1,  11.4360,  35.0018,2,  35.0029,2,  35.1679,2,    206.6,2,    206.1,2,     5.27,2,    14.35,2,     0.01,2,     1.10,2,    3.071,2,    1.675,2,    1.478,3,   2135.9,2,   2309.4,2,   -999.0,9,  -999.00,   7.7619,2,    25.66,    1.077,2,   -999.0,1,   -999.0,1, -999.000,9,-999.0000,9,-999.0000,9,-999.0000,9,-999.0000,9, 26.710, 31.136, 35.464, 39.696, 43.835
33RO20110828,   A10,   115,  1,      7,    007,2,20000101,0000,-27.9170, -46.6507, 1307,    609.9,   8.8975,  34.6792,2,  34.6811,6,  34.8447,6,    202.6,2,    202.3,2,     9.37,2,    20.99,2,     0.01,2,     1.54,2,    3.049,2,    1.609,2,    2.348,3,   2155.5,2,   2295.7,2,   -999.0,9,  -999.00,   7.6898,2,    25.69,    0.886,2,   -999.0,1,   -999.0,1, -999.000,9,-999.0000,9,-999.0000,9,-999.0000,9,-999.0000,9, 26.894, 31.377, 35.760, 40.045, 44.235
33RO20110828,   A10,   115,  1,      6,    006,2,20000101,0000,-27.9170, -46.6507, 1307,    716.0,   6.7976,  34.4536,2,  34.4586,2,  34.6211,2,    211.0,2,    211.8,2,    13.86,2,    25.09,2,     0.01,2,     1.83,2,    3.077,2,    1.582,2,    3.387,3,   2166.0,2,   2288.5,2,   -999.0,9,  -999.00,   7.6582,2,    25.63,    0.722,2,   -999.0,1,   -999.0,1, -999.000,9,-999.0000,9,-999.0000,9,-999.0000,9,-999.0000,9, 27.029, 31.562, 35.994, 40.326, 44.562
33RO20110828,   A10,   115,  1,      5,    005,2,20000101,0000,-27.9170, -46.6507, 1307,    801.0,   5.1870,  34.3272,2,  34.3282,2,  34.4900,2,    220.7,2,    219.9,2,    19.63,2,    28.02,2,     0.00,2,     2.04,2,    2.911,2,    1.450,2,    4.149,3,   2175.5,2,   2287.9,2,   -999.0,9,  -999.00,   7.6258,2,    25.64,    0.643,2,   -999.0,1,   -999.0,1, -999.000,9,-999.0000,9,-999.0000,9,-999.0000,9,-999.0000,9, 27.129, 31.702, 36.173, 40.544, 44.816
33RO20110828,   A10,   115,  1,      4,    004,2,20000101,0000,-27.9170, -46.6507, 1307,    950.3,   4.2675,  34.3319,2,  34.3329,2,  34.4948,2,    208.5,2,    208.9,2,    29.49,2,    30.66,2,     0.00,2,     2.22,2,    2.037,2,    1.000,2,    3.397,3,   2194.2,2,   2296.2,2,   -999.0,9,  -999.00,   7.5926,2,    25.59,    0.373,2,   -999.0,1,   -999.0,1, -999.000,9,-999.0000,9,-999.0000,9,-999.0000,9,-999.0000,9, 27.235, 31.832, 36.326, 40.719, 45.013
33RO20110828,   A10,   115,  1,      3,    003,2,20000101,0000,-27.9170, -46.6507, 1307,   1050.7,   3.6638,  34.3567,2,  34.3584,2,  34.5204,2,    203.5,2,    203.7,2,    38.27,2,    31.93,2,     0.00,2,     2.33,2,    1.528,2,    0.744,2,    2.809,3,   2207.0,2,   2303.5,2,   -999.0,9,  -999.00,   7.5834,2,    25.65,    0.246,2,   -999.0,1,   -999.0,1, -999.000,9,-999.0000,9,-999.0000,9,-999.0000,9,-999.0000,9, 27.317, 31.930, 36.440, 40.848, 45.156
33RO20110828,   A10,   115,  1,      2,    002,2,20000101,0000,-27.9170, -46.6507, 1307,   1101.0,   3.4831,  34.3848,2,  34.3857,2,  34.5479,2,    199.9,2,    199.3,2,    42.18,2,    32.32,2,     0.00,2,     2.36,2,    1.239,2,    0.605,2,    2.399,3,   2213.6,2,   2307.4,2,   -999.0,9,  -999.00,   7.5824,2,    25.60,    0.196,2,   -999.0,1,   -999.0,1, -999.000,9,-999.0000,9,-999.0000,9,-999.0000,9,-999.0000,9, 27.357, 31.975, 36.488, 40.901, 45.213
33RO20110828,   A10,   115,  1,      1,    001,2,20000101,0000,-27.9170, -46.6507, 1307,   1294.6,   3.2934,  34.4986,2,  34.4988,2,  34.6615,2,    190.1,2,    190.0,2,    48.62,2,    32.12,2,     0.01,2,     2.35,2, -999.000,5, -999.000,5, -999.000,5,   -999.0,9,   2317.2,2,   -999.0,9,  -999.00,   7.5829,2,    25.58, -999.000,5,   -999.0,1,   -999.0,1, -999.000,9,-999.0000,9,-999.0000,9,-999.0000,9,-999.0000,9, 27.467, 32.089, 36.607, 41.023, 45.340