BOTTLE,20130715NOAA
EXPOCODE,SECT_ID,STNNBR,CASTNO,SAMPNO,BTLNBR,BTLNBR_FLAG_W,DATE,TIME,LATITUDE,LONGITUDE,DEPTH,CTDPRS,CTDTMP,CTDSAL,CTDSAL_FLAG_W,SALNTY,SALNTY_FLAG_W,SALTREF,SALTREF_FLAG_W,CTDOXY,CTDOXY_FLAG_W,OXYGEN,OXYGEN_FLAG_W,SILCAT,SILCAT_FLAG_W,NITRAT,NITRAT_FLAG_W,NITRIT,NITRIT_FLAG_W,PHSPHT,PHSPHT_FLAG_W,CFC-11,CFC-11_FLAG_W,CFC-12,CFC-12_FLAG_W,CCL4,CCL4_FLAG_W,TCARBN,TCARBN_FLAG_W,ALKALI,ALKALI_FLAG_W,PCO2,PCO2_FLAG_W,PCO2TMP,PH_TOT,PH_TOT_FLAG_W,PH_TMP,SF6,SF6_FLAG_W,DOC,DOC_FLAG_W,TDN,TDN_FLAG_W,TRITUM,TRITUM_FLAG_W,HELIUM,HELIUM_FLAG_W,OXY_18,OXY_18_FLAG_W,BLACKC,BLACKC_FLAG_W,PIGMENTS,PIGMENTS_FLAG_W,SIGMA-THETA,SIGMA-1,SIGMA-2,SIGMA-3,SIGMA-4
,,,,,,,,,,,METERS,DBARS,ITS-90,PSS-78,,PSS-78,,G/KG,,UMOL/KG,,UMOL/KG,,UMOL/KG,,UMOL/KG,,UMOL/KG,,UMOL/KG,,PMOL/KG,,PMOL/KG,,PMOL/KG,,UMOL/KG,,UMOL/KG,,UATM@T,,DEG_C,,,DEG_C,FMOL/KG,,UMOL/KG,,UMOL/KG,,TU,,NMOL/KG,,,,,,,,,,,,
33RO20110828,   A10,   103,  1,     24,    024,2,20000101,0000,-29.4872, -41.5903, 3774,      5.5,  19.7613,  36.3979,2,  36.3982,2,  36.5699,2,    228.7,2,    228.4,2,     0.58,2,     0.00,2,     0.00,2,     0.04,2,    2.120,2,    1.310,2,    3.774,3,   2083.8,6,   2386.4,2,   -999.0,9,  -999.00,   7.9694,2,    25.60,    1.411,2,   -999.0,1,   -999.0,1, -999.000,9,-999.0000,9,-999.0000,9,-999.0000,9,-999.0000,1, 25.892, 30.159, 34.332, 38.415, 42.409
33RO20110828,   A10,   103,  1,     23,    023,2,20000101,0000,-29.4872, -41.5903, 3774,     28.6,  19.7611,  36.3974,2,  36.3979,2,  36.5695,2,    228.7,2,    228.7,2,     0.58,2,     0.10,2,     0.00,2,     0.04,2,    2.121,2,    1.308,2,    3.464,3,   2083.3,2,   2386.9,2,   -999.0,9,  -999.00,   7.9700,2,    25.68,    1.298,2,   -999.0,1,   -999.0,1, -999.000,9,-999.0000,9,-999.0000,9,-999.0000,9,-999.0000,9, 25.893, 30.160, 34.333, 38.416, 42.410
33RO20110828,   A10,   103,  1,     22,    022,2,20000101,0000,-29.4872, -41.5903, 3774,     72.3,  19.3697,  36.3291,2,  36.3299,2,  36.5012,2,    230.4,2,    230.2,2,     0.58,2,     0.10,2,     0.00,2,     0.05,2,    2.152,2,    1.326,2,    4.600,3,   2081.2,2,   2381.8,2,   -999.0,9,  -999.00,   7.9510,2,    25.60,    1.286,2,   -999.0,1,   -999.0,1, -999.000,9,-999.0000,9,-999.0000,9,-999.0000,9,-999.0000,1, 25.946, 30.219, 34.399, 38.488, 42.488
33RO20110828,   A10,   103,  1,     21,    021,2,20000101,0000,-29.4872, -41.5903, 3774,    119.1,  18.3464,  36.1427,2,  36.1431,2,  36.3136,2,    228.8,2,    229.3,2,     0.78,2,     0.29,2,     0.08,2,     0.08,2,    2.253,2,    1.374,2,    4.537,3,   2084.6,2,   2372.1,2,   -999.0,9,  -999.00,   7.9355,2,    25.63,    1.372,2,   -999.0,1,   -999.0,1, -999.000,9,-999.0000,9,-999.0000,9,-999.0000,9,-999.0000,1, 26.067, 30.358, 34.555, 38.660, 42.677
33RO20110828,   A10,   103,  1,     20,    020,2,20000101,0000,-29.4872, -41.5903, 3774,    202.0,  15.6605,  35.6154,2,  35.6209,2,  35.7889,2,    205.0,2,    205.8,2,     1.95,2,     5.36,2,     0.01,2,     0.34,2,    2.595,2,    1.544,2,    1.010,3,   2111.8,2,   2341.0,2,   -999.0,9,  -999.00,   7.8669,2,    25.59,    1.322,2,   -999.0,1,   -999.0,1, -999.000,9,-999.0000,9,-999.0000,9,-999.0000,9,-999.0000,9, 26.310, 30.651, 34.895, 39.047, 43.108
33RO20110828,   A10,   103,  1,     19,    019,2,20000101,0000,-29.4872, -41.5903, 3774,    256.0,  14.9129,  35.5363,2,  35.5454,2,  35.7130,2,    209.0,2,    209.4,2,     2.24,2,     6.44,2,     0.01,2,     0.41,2,    2.681,2,    1.577,2,    1.115,3,   2115.2,2,   2337.0,2,   -999.0,9,  -999.00,   7.8564,2,    25.60,    1.295,2,   -999.0,1,   -999.0,1, -999.000,9,-999.0000,9,-999.0000,9,-999.0000,9,-999.0000,9, 26.420, 30.775, 35.033, 39.198, 43.272
33RO20110828,   A10,   103,  1,     18,    018,2,20000101,0000,-29.4872, -41.5903, 3774,    324.7,  13.8220,  35.3677,2,  35.3659,2,  35.5327,2,    211.4,2,    212.0,2,     2.73,2,     8.59,2,     0.01,2,     0.52,2,    2.832,2,    1.640,2,    1.459,3,   2121.1,2,   2328.7,2,   -999.0,9,  -999.00,   7.8338,2,    25.58,    1.292,2,   -999.0,1,   -999.0,1, -999.000,9,-999.0000,9,-999.0000,9,-999.0000,9,-999.0000,9, 26.517, 30.893, 35.173, 39.358, 43.452
33RO20110828,   A10,   103,  1,     17,    017,2,20000101,0000,-29.4872, -41.5903, 3774,    399.9,  12.5475,  35.1754,2,  35.1779,2,  35.3438,2,    211.4,2,    210.1,2,     3.71,2,    11.32,2,     0.00,2,     0.66,2,    2.963,2,    1.689,2,    1.326,3,   2128.0,2,   -999.0,5,   -999.0,9,  -999.00,   7.7956,2,    25.58,    1.131,2,   -999.0,1,   -999.0,1, -999.000,9,-999.0000,9,-999.0000,9,-999.0000,9,-999.0000,9, 26.632, 31.034, 35.339, 39.548, 43.665
33RO20110828,   A10,   103,  1,     16,    016,2,20000101,0000,-29.4872, -41.5903, 3774,    500.2,  10.4810,  34.8758,2,  34.8802,2,  35.0446,2,    207.1,2,    206.1,2,     6.34,2,    16.49,2,     0.00,2,     0.92,2,    3.084,2,    1.684,2,    1.664,3,   2142.8,2,   2304.7,2,   -999.0,9,  -999.00,   7.7415,2,    25.58,    1.008,2,   -999.0,1,   -999.0,1, -999.000,9,-999.0000,9,-999.0000,9,-999.0000,9,-999.0000,9, 26.786, 31.232, 35.580, 39.832, 43.989
33RO20110828,   A10,   103,  1,     15,    015,2,20000101,0000,-29.4872, -41.5903, 3774,    601.8,   8.5188,  34.6274,2,  34.6291,2,  34.7924,2,    206.0,2,    206.4,2,     9.57,2,    21.28,2,     0.00,2,     1.17,2,    3.156,2,    1.667,2,    2.473,3,   2155.9,2,   2293.6,2,   -999.0,9,  -999.00,   7.6922,2,    25.55,    0.912,2,   -999.0,1,   -999.0,1, -999.000,9,-999.0000,9,-999.0000,9,-999.0000,9,-999.0000,9, 26.914, 31.405, 35.797, 40.090, 44.288
33RO20110828,   A10,   103,  1,     14,    014,2,20000101,0000,-29.4872, -41.5903, 3774,    850.4,   4.7840,  34.3016,2,  34.3140,2,  34.4758,2,    222.9,2,    223.5,2,    21.38,2,    28.61,2,     0.00,2,     1.65,2,    2.880,2,    1.445,2,    4.070,3,   2178.0,2,   2289.7,2,   -999.0,9,  -999.00,   7.6230,2,    25.54,    0.631,2,   -999.0,1,   -999.0,1, -999.000,9,-999.0000,9,-999.0000,9,-999.0000,9,-999.0000,9, 27.164, 31.747, 36.229, 40.609, 44.891
33RO20110828,   A10,   103,  1,     13,    013,2,20000101,0000,-29.4872, -41.5903, 3774,    924.8,   4.2399,  34.2981,2,  34.2995,2,  34.4613,2,    219.3,2,    219.0,2,    26.66,2,    29.98,2,     0.00,2,     1.75,2,    2.509,2,    1.246,2,    3.872,3,   2186.6,2,   2293.4,2,   -999.0,9,  -999.00,   7.6086,2,    25.51,    0.527,2,   -999.0,1,   -999.0,1, -999.000,9,-999.0000,9,-999.0000,9,-999.0000,9,-999.0000,9, 27.211, 31.809, 36.304, 40.698, 44.993
33RO20110828,   A10,   103,  1,     12,    012,2,20000101,0000,-29.4872, -41.5903, 3774,   1126.7,   3.4479,  34.3719,2,  34.3727,2,  34.5348,2,    200.6,2,    202.0,2,    41.69,2,    32.22,2,     0.00,2,     2.02,2,    1.395,2,    0.686,2,    2.604,3,   2212.1,2,   2307.5,2,   -999.0,9,  -999.00,   7.5805,2,    25.56,    0.255,2,   -999.0,1,   -999.0,1, -999.000,9,-999.0000,9,-999.0000,9,-999.0000,9,-999.0000,9, 27.350, 31.969, 36.484, 40.897, 45.211
33RO20110828,   A10,   103,  1,     11,    011,2,20000101,0000,-29.4872, -41.5903, 3774,   1302.6,   3.0816,  34.4854,2,  34.4850,2,  34.6476,2,    190.1,2,    189.5,2,    52.13,2,    32.51,2,     0.00,2,     2.14,2,    0.655,2,    0.319,2,    1.501,3,   2226.5,2,   2319.0,2,   -999.0,9,  -999.00,   7.5675,2,    25.63,    0.061,2,   -999.0,1,   -999.0,1, -999.000,9,-999.0000,9,-999.0000,9,-999.0000,9,-999.0000,9, 27.475, 32.103, 36.627, 41.049, 45.371
33RO20110828,   A10,   103,  1,     10,    010,2,20000101,0000,-29.4872, -41.5903, 3774,   1501.0,   3.2001,  34.6582,2,  34.6597,2,  34.8231,2,    193.0,2,    192.8,2,    49.39,2,    30.06,2,     0.00,2,     1.98,2,    0.202,2,    0.101,2,    0.659,3,   2221.4,6,   2324.6,2,   -999.0,9,  -999.00,   7.5967,2,    25.57,    0.047,2,   -999.0,1,   -999.0,1, -999.000,9,-999.0000,9,-999.0000,9,-999.0000,9,-999.0000,9, 27.605, 32.229, 36.749, 41.167, 45.485
33RO20110828,   A10,   103,  1,      9,    009,2,20000101,0000,-29.4872, -41.5903, 3774,   1702.7,   3.2098,  34.7682,2,  34.7717,2,  34.9357,2,    207.2,2,    208.4,2,    44.61,2,    27.04,2,     0.00,2,     1.78,2,    0.120,2,    0.061,2,    0.509,3,   2210.6,2,   2325.4,2,   -999.0,9,  -999.00,   7.6274,2,    25.64,    0.000,2,   -999.0,1,   -999.0,1, -999.000,9,-999.0000,9,-999.0000,9,-999.0000,9,-999.0000,9, 27.695, 32.318, 36.838, 41.255, 45.572
33RO20110828,   A10,   103,  1,      8,    008,2,20000101,0000,-29.4872, -41.5903, 3774,   1901.4,   3.3601,  34.8704,2,  34.8718,2,  35.0362,2,    226.4,2,    226.5,2,    34.26,2,    23.62,2,     0.00,2,     1.48,2,    0.145,2,    0.074,2,    0.598,3,   2191.6,2,   2323.1,2,   -999.0,9,  -999.00,   7.6614,2,    25.59,    0.031,2,   -999.0,1,   -999.0,1, -999.000,9,-999.0000,9,-999.0000,9,-999.0000,9,-999.0000,9, 27.763, 32.382, 36.897, 41.310, 45.624
33RO20110828,   A10,   103,  1,      7,    007,2,20000101,0000,-29.4872, -41.5903, 3774,   2101.4,   3.3651,  34.9193,2,  34.9210,2,  35.0857,2,    241.6,2,    240.5,2,    28.30,2,    21.57,2,     0.00,2,     1.33,2,    0.174,2,    0.088,2,    0.690,3,   2179.6,2,   2320.6,2,   -999.0,9,  -999.00,   7.6847,2,    25.58,    0.028,2,   -999.0,1,   -999.0,1, -999.000,9,-999.0000,9,-999.0000,9,-999.0000,9,-999.0000,9, 27.804, 32.422, 36.937, 41.351, 45.664
33RO20110828,   A10,   103,  1,      6,    006,2,20000101,0000,-29.4872, -41.5903, 3774,   2300.7,   3.2548,  34.9354,2,  34.9393,2,  35.1041,2,    247.5,2,    248.0,2,    26.55,2,    20.49,2,     0.00,2,     1.26,2,    0.176,2,    0.090,2,    0.703,3,   2175.1,2,   2321.4,2,   -999.0,9,  -999.00,   7.7011,2,    25.58,    0.000,2,   -999.0,1,   -999.0,1, -999.000,9,-999.0000,9,-999.0000,9,-999.0000,9,-999.0000,9, 27.830, 32.452, 36.970, 41.387, 45.703
33RO20110828,   A10,   103,  1,      5,    005,2,20000101,0000,-29.4872, -41.5903, 3774,   2549.4,   3.0798,  34.9319,2,  34.9333,6,  35.0980,6,    250.0,2,    250.1,2,    28.50,2,    20.49,2,     0.00,2,     1.28,2,    0.129,2,    0.066,2,    0.572,3,   2177.0,2,   2323.3,2,   -999.0,9,  -999.00,   7.7033,2,    25.60,    0.030,2,   -999.0,1,   -999.0,1, -999.000,9,-999.0000,9,-999.0000,9,-999.0000,9,-999.0000,9, 27.843, 32.470, 36.994, 41.415, 45.737
33RO20110828,   A10,   103,  1,      4,    004,2,20000101,0000,-29.4872, -41.5903, 3774,   2749.2,   2.9442,  34.9257,2,  34.9283,2,  35.0930,2,    250.2,2,    250.3,2,    30.84,2,    20.69,2,     0.00,2,     1.31,2,    0.097,2,    0.050,2,    0.491,3,   2178.2,2,   2326.8,2,   -999.0,9,  -999.00,   7.6910,2,    25.66,    0.029,2,   -999.0,1,   -999.0,1, -999.000,9,-999.0000,9,-999.0000,9,-999.0000,9,-999.0000,9, 27.853, 32.485, 37.012, 41.438, 45.763
33RO20110828,   A10,   103,  1,      3,    003,2,20000101,0000,-29.4872, -41.5903, 3774,   2920.9,   2.8451,  34.9211,2,  34.9228,2,  35.0875,2,    250.6,2,    251.0,2,    32.40,2,    20.69,2,     0.00,2,     1.34,2,    0.083,2,    0.043,2,    0.454,3,   2179.0,2,   2326.5,3,   -999.0,9,  -999.00,   7.6987,2,    25.57,    0.000,2,   -999.0,1,   -999.0,1, -999.000,9,-999.0000,9,-999.0000,9,-999.0000,9,-999.0000,9, 27.859, 32.494, 37.024, 41.453, 45.781
33RO20110828,   A10,   103,  1,      2,    002,2,20000101,0000,-29.4872, -41.5903, 3774,   3120.2,   2.7106,  34.9131,2,  34.9152,2,  35.0798,2,    250.8,2,    251.3,2,    34.65,2,    20.98,2,     0.00,2,     1.35,2,    0.079,2,    0.043,2,    0.380,3,   2181.2,2,   2328.9,2,   -999.0,9,  -999.00,   7.7004,2,    25.55,    0.000,2,   -999.0,1,   -999.0,1, -999.000,9,-999.0000,9,-999.0000,9,-999.0000,9,-999.0000,9, 27.866, 32.505, 37.040, 41.472, 45.804
33RO20110828,   A10,   103,  1,      1,    001,2,20000101,0000,-29.4872, -41.5903, 3774,   3771.0,   0.7299,  34.7154,2,  34.7171,2,  34.8808,2,    221.6,2,    221.4,2,   112.06,2,    30.84,2,     0.00,2,     2.63,2,    0.223,2,    0.105,2,    0.610,3,   2253.7,6,   2362.8,2,   -999.0,9,  -999.00,   7.6042,2,    25.50,    0.095,2,   -999.0,1,   -999.0,1, -999.000,9,-999.0000,9,-999.0000,9,-999.0000,9,-999.0000,9, 27.852, 32.549, 37.141, 41.629, 46.013