BOTTLE,20130715NOAA
EXPOCODE,SECT_ID,STNNBR,CASTNO,SAMPNO,BTLNBR,BTLNBR_FLAG_W,DATE,TIME,LATITUDE,LONGITUDE,DEPTH,CTDPRS,CTDTMP,CTDSAL,CTDSAL_FLAG_W,SALNTY,SALNTY_FLAG_W,SALTREF,SALTREF_FLAG_W,CTDOXY,CTDOXY_FLAG_W,OXYGEN,OXYGEN_FLAG_W,SILCAT,SILCAT_FLAG_W,NITRAT,NITRAT_FLAG_W,NITRIT,NITRIT_FLAG_W,PHSPHT,PHSPHT_FLAG_W,CFC-11,CFC-11_FLAG_W,CFC-12,CFC-12_FLAG_W,CCL4,CCL4_FLAG_W,TCARBN,TCARBN_FLAG_W,ALKALI,ALKALI_FLAG_W,PCO2,PCO2_FLAG_W,PCO2TMP,PH_TOT,PH_TOT_FLAG_W,PH_TMP,SF6,SF6_FLAG_W,DOC,DOC_FLAG_W,TDN,TDN_FLAG_W,TRITUM,TRITUM_FLAG_W,HELIUM,HELIUM_FLAG_W,OXY_18,OXY_18_FLAG_W,BLACKC,BLACKC_FLAG_W,PIGMENTS,PIGMENTS_FLAG_W,SIGMA-THETA,SIGMA-1,SIGMA-2,SIGMA-3,SIGMA-4
,,,,,,,,,,,METERS,DBARS,ITS-90,PSS-78,,PSS-78,,G/KG,,UMOL/KG,,UMOL/KG,,UMOL/KG,,UMOL/KG,,UMOL/KG,,UMOL/KG,,PMOL/KG,,PMOL/KG,,PMOL/KG,,UMOL/KG,,UMOL/KG,,UATM@T,,DEG_C,,,DEG_C,FMOL/KG,,UMOL/KG,,UMOL/KG,,TU,,NMOL/KG,,,,,,,,,,,,
33RO20110828,   A10,    47,  1,     24,    024,2,20000101,0000,-30.0169,  -8.5312, 4071,      5.3,  18.4397,  35.9938,2,  35.9945,2,  36.1643,2,    235.3,2,    235.2,2,     1.37,2,     0.10,2,     0.00,2,     0.16,2,    2.273,2,    1.380,2,    3.318,3,   2085.5,6,   2352.5,4,   -999.0,9,  -999.00,   7.9235,2,    25.60,    1.408,2,   -999.0,9,   -999.0,9, -999.000,9,-999.0000,9,-999.0000,9,-999.0000,9,-999.0000,1, 25.924, 30.215, 34.411, 38.515, 42.531
33RO20110828,   A10,    47,  1,     23,    023,2,20000101,0000,-30.0169,  -8.5312, 4071,     34.7,  18.4526,  35.9927,2,  35.9928,2,  36.1625,2,    235.4,2,    235.6,2,     1.46,2,     0.10,2,     0.00,2,     0.16,2,    2.280,2,    1.385,2,    3.229,3,   2082.2,2,   2359.8,2,   -999.0,9,  -999.00,   7.9130,2,    25.62,    1.422,2,   -999.0,9,   -999.0,9, -999.000,9,-999.0000,9,-999.0000,9,-999.0000,9,-999.0000,9, 25.921, 30.211, 34.407, 38.511, 42.527
33RO20110828,   A10,    47,  1,     22,    022,2,20000101,0000,-30.0169,  -8.5312, 4071,     94.5,  17.1442,  35.8371,2,  35.8361,2,  36.0050,2,    235.1,2,    235.7,2,     1.66,2,     0.49,2,     0.11,2,     0.22,2,    2.379,2,    1.440,2,    2.169,3,   2085.4,2,   2349.4,2,   -999.0,9,  -999.00,   7.9312,2,    25.57,    1.414,2,   -999.0,9,   -999.0,9, -999.000,9,-999.0000,9,-999.0000,9,-999.0000,9,-999.0000,1, 26.125, 30.438, 34.656, 38.782, 42.819
33RO20110828,   A10,    47,  1,     21,    021,2,20000101,0000,-30.0169,  -8.5312, 4071,    147.0,  15.8262,  35.5727,2,  35.5744,2,  35.7421,2,    221.2,2,    221.2,2,     2.34,2,     3.61,2,     0.03,2,     0.42,2,    2.544,2,    1.533,2,    1.089,3,   2095.0,2,   2332.4,2,   -999.0,9,  -999.00,   7.8688,2,    25.58,    1.440,2,   -999.0,9,   -999.0,9, -999.000,9,-999.0000,9,-999.0000,9,-999.0000,9,-999.0000,1, 26.235, 30.572, 34.814, 38.963, 43.022
33RO20110828,   A10,    47,  1,     20,    020,2,20000101,0000,-30.0169,  -8.5312, 4071,    195.0,  14.4157,  35.3527,2,  35.3526,2,  35.5193,2,    217.8,2,    218.0,2,     2.83,2,     6.15,2,     0.01,2,     0.58,2,    2.740,2,    1.613,2,    0.875,3,   2105.0,2,   2320.2,2,   -999.0,9,  -999.00,   7.8279,2,    25.60,    1.458,2,   -999.0,9,   -999.0,9, -999.000,9,-999.0000,9,-999.0000,9,-999.0000,9,-999.0000,9, 26.377, 30.742, 35.010, 39.185, 43.268
33RO20110828,   A10,    47,  1,     19,    019,2,20000101,0000,-30.0169,  -8.5312, 4071,    258.8,  13.3972,  35.2233,2,  35.2239,2,  35.3900,2,    216.3,2,    215.5,2,     3.51,2,     8.69,2,     0.01,2,     0.73,2,    2.885,2,    1.673,2,    0.964,3,   2113.0,2,   2313.9,2,   -999.0,9,  -999.00,   7.8030,2,    25.55,    1.305,2,   -999.0,9,   -999.0,9, -999.000,9,-999.0000,9,-999.0000,9,-999.0000,9,-999.0000,9, 26.493, 30.878, 35.166, 39.360, 43.461
33RO20110828,   A10,    47,  1,     18,    018,2,20000101,0000,-30.0169,  -8.5312, 4071,    343.9,  12.1664,  35.0723,2,  35.0707,2,  35.2361,2,    211.6,2,    211.0,2,     4.69,2,    12.20,2,     0.01,2,     0.96,2,    3.041,2,    1.718,2,    0.942,3,   2124.6,2,   2305.4,2,   -999.0,9,  -999.00,   7.7743,2,    25.57,    1.245,2,   -999.0,9,   -999.0,9, -999.000,9,-999.0000,9,-999.0000,9,-999.0000,9,-999.0000,9, 26.621, 31.031, 35.344, 39.561, 43.686
33RO20110828,   A10,    47,  1,     17,    017,2,20000101,0000,-30.0169,  -8.5312, 4071,    429.9,  10.7416,  34.8907,2,  34.8901,6,  35.0547,6,    209.4,2,    208.8,2,     6.25,2,    15.52,2,     0.01,2,     1.19,2,    3.126,2,    1.728,2,    1.010,3,   2137.1,2,   2298.7,2,   -999.0,9,  -999.00,   7.7401,2,    25.54,    1.140,2,   -999.0,9,   -999.0,9, -999.000,9,-999.0000,9,-999.0000,9,-999.0000,9,-999.0000,9, 26.746, 31.187, 35.530, 39.776, 43.928
33RO20110828,   A10,    47,  1,     16,    016,2,20000101,0000,-30.0169,  -8.5312, 4071,    527.1,   8.8906,  34.6644,2,  34.6644,2,  34.8278,2,    206.8,2,    206.8,2,     9.47,2,    20.41,2,     0.01,2,     1.51,2,    3.178,2,    1.715,2,    1.445,3,   2151.0,2,   2289.2,2,   -999.0,9,  -999.00,   7.6886,2,    25.60,    1.024,2,   -999.0,9,   -999.0,9, -999.000,9,-999.0000,9,-999.0000,9,-999.0000,9,-999.0000,9, 26.882, 31.365, 35.748, 40.033, 44.223
33RO20110828,   A10,    47,  1,     15,    015,2,20000101,0000,-30.0169,  -8.5312, 4071,    629.7,   6.9723,  34.4628,2,  34.4634,2,  34.6260,2,    209.5,2,    209.5,2,    13.96,2,    24.80,2,     0.00,2,     1.82,2,    3.195,2,    1.665,2,    1.826,3,   2165.2,2,   2284.3,2,   -999.0,9,  -999.00,   7.6527,2,    25.52,    0.891,2,   -999.0,9,   -999.0,9, -999.000,9,-999.0000,9,-999.0000,9,-999.0000,9,-999.0000,9, 27.008, 31.537, 35.964, 40.292, 44.524
33RO20110828,   A10,    47,  1,     14,    014,2,20000101,0000,-30.0169,  -8.5312, 4071,    781.9,   5.0343,  34.3152,2,  34.3153,2,  34.4771,2,    217.4,2,    220.0,2,    21.19,2,    28.42,2,     0.00,2,     2.08,2,    3.019,2,    1.536,2,    2.135,3,   2176.9,2,   2284.2,2,   -999.0,9,  -999.00,   7.6049,2,    25.60,    0.738,2,   -999.0,9,   -999.0,9, -999.000,9,-999.0000,9,-999.0000,9,-999.0000,9,-999.0000,9, 27.136, 31.713, 36.188, 40.562, 44.838
33RO20110828,   A10,    47,  1,     13,    013,2,20000101,0000,-30.0169,  -8.5312, 4071,    929.0,   4.0748,  34.3325,2,  34.3339,2,  34.4958,2,    207.7,2,    206.7,2,    33.21,2,    31.06,2,     0.00,2,     2.29,2,    2.104,2,    1.046,2,    1.682,3,   2201.7,2,   2295.8,2,   -999.0,9,  -999.00,   7.5814,2,    25.62,    0.471,2,   -999.0,9,   -999.0,9, -999.000,9,-999.0000,9,-999.0000,9,-999.0000,9,-999.0000,9, 27.256, 31.858, 36.357, 40.754, 45.053
33RO20110828,   A10,    47,  1,     12,    012,2,20000101,0000,-30.0169,  -8.5312, 4071,   1080.3,   3.5136,  34.4108,2,  34.4107,2,  34.5729,2,    193.6,2,    191.4,2,    45.31,2,    32.62,2,     0.01,2,     2.40,2,    1.211,2,    0.602,2,    1.114,3,   2220.4,2,   2306.1,2,   -999.0,9,  -999.00,   7.5643,2,    25.54,    0.224,2,   -999.0,9,   -999.0,9, -999.000,9,-999.0000,9,-999.0000,9,-999.0000,9,-999.0000,9, 27.374, 31.990, 36.503, 40.914, 45.226
33RO20110828,   A10,    47,  1,     11,    011,2,20000101,0000,-30.0169,  -8.5312, 4071,   1248.8,   3.1387,  34.5034,2,  34.5047,2,  34.6674,2,    184.8,2,    186.0,2,    53.41,2,    32.52,2,     0.00,2,     2.40,2,    0.648,2,    0.314,2,    0.717,3,   2228.1,6,   2316.1,2,   -999.0,9,  -999.00,   7.5584,2,    25.53,    0.064,2,   -999.0,9,   -999.0,9, -999.000,9,-999.0000,9,-999.0000,9,-999.0000,9,-999.0000,9, 27.485, 32.111, 36.633, 41.054, 45.374
33RO20110828,   A10,    47,  1,     10,    010,2,20000101,0000,-30.0169,  -8.5312, 4071,   1420.7,   2.9339,  34.6012,2,  34.6018,2,  34.7649,2,    186.7,2,    188.5,2,    57.02,2,    31.54,2,     0.00,2,     2.31,2,    0.332,2,    0.159,2,    0.448,3,   2231.9,2,   2322.3,2,   -999.0,9,  -999.00,   7.5754,2,    25.56,    0.063,2,   -999.0,9,   -999.0,9, -999.000,9,-999.0000,9,-999.0000,9,-999.0000,9,-999.0000,9, 27.582, 32.213, 36.741, 41.166, 45.490
33RO20110828,   A10,    47,  1,      9,    009,2,20000101,0000,-30.0169,  -8.5312, 4071,   1649.6,   2.8704,  34.7090,2,  34.7089,2,  34.8725,2,    197.9,2,    198.1,2,    55.46,2,    29.29,2,     0.00,2,     2.14,2,    0.127,2,    0.061,2,    0.233,3,   2225.6,2,   2325.6,2,   -999.0,9,  -999.00,   7.6043,2,    25.59,    0.000,2,   -999.0,9,   -999.0,9, -999.000,9,-999.0000,9,-999.0000,9,-999.0000,9,-999.0000,9, 27.675, 32.308, 36.836, 41.262, 45.588
33RO20110828,   A10,    47,  1,      8,    008,2,20000101,0000,-30.0169,  -8.5312, 4071,   1881.2,   2.8231,  34.7859,2,  34.7889,2,  34.9529,2,    210.9,2,    209.5,2,    51.45,2,    27.04,2,     0.01,2,     1.96,2,    0.037,2,    0.019,2,    0.126,3,   2215.1,2,   2327.7,2,   -999.0,9,  -999.00,   7.5427,4,    25.53,    0.000,2,   -999.0,9,   -999.0,9, -999.000,9,-999.0000,9,-999.0000,9,-999.0000,9,-999.0000,9, 27.745, 32.379, 36.908, 41.336, 45.663
33RO20110828,   A10,    47,  1,      7,    007,2,20000101,0000,-30.0169,  -8.5312, 4071,   2151.4,   2.6342,  34.8199,2,  34.8208,2,  34.9850,2,    220.7,2,    220.9,2,    52.23,2,    25.87,2,     0.01,2,     1.86,2, -999.000,5, -999.000,5, -999.000,5,   2209.4,2,   2330.6,2,   -999.0,9,  -999.00,   7.6423,2,    25.64, -999.000,5,   -999.0,9,   -999.0,9, -999.000,9,-999.0000,9,-999.0000,9,-999.0000,9,-999.0000,9, 27.789, 32.428, 36.963, 41.396, 45.728
33RO20110828,   A10,    47,  1,      6,    006,2,20000101,0000,-30.0169,  -8.5312, 4071,   2452.5,   2.5121,  34.8410,2,  34.8416,2,  35.0059,2,    228.7,2,    228.3,2,    51.84,2,    24.80,2,     0.01,2,     1.79,2,    0.008,2,    0.004,2,    0.041,3,   2205.7,2,   2332.7,2,   -999.0,9,  -999.00,   7.6514,2,    25.58,    0.000,2,   -999.0,9,   -999.0,9, -999.000,9,-999.0000,9,-999.0000,9,-999.0000,9,-999.0000,9, 27.818, 32.461, 37.000, 41.436, 45.772
33RO20110828,   A10,    47,  1,      5,    005,2,20000101,0000,-30.0169,  -8.5312, 4071,   2750.5,   2.4323,  34.8565,2,  34.8577,2,  35.0221,2,    234.0,2,    234.1,2,    51.64,2,    24.21,2,     0.00,2,     1.74,2,    0.005,2,    0.003,2,    0.045,3,   2202.8,2,   2334.7,2,   -999.0,9,  -999.00,   7.6643,2,    25.54,    0.000,2,   -999.0,9,   -999.0,9, -999.000,9,-999.0000,9,-999.0000,9,-999.0000,9,-999.0000,9, 27.840, 32.486, 37.027, 41.466, 45.804
33RO20110828,   A10,    47,  1,      4,    004,2,20000101,0000,-30.0169,  -8.5312, 4071,   3048.0,   2.3864,  34.8659,2,  34.8666,2,  35.0310,2,    236.8,2,    236.7,2,    51.35,2,    23.53,2,     0.01,2,     1.71,2,    0.005,2,    0.004,2,    0.037,3,   2204.4,2,   2336.9,2,   -999.0,9,  -999.00,   7.6807,2,    25.51,    0.047,2,   -999.0,9,   -999.0,9, -999.000,9,-999.0000,9,-999.0000,9,-999.0000,9,-999.0000,9, 27.853, 32.501, 37.044, 41.485, 45.825
33RO20110828,   A10,    47,  1,      3,    003,2,20000101,0000,-30.0169,  -8.5312, 4071,   3346.1,   2.3787,  34.8706,2,  34.8709,2,  35.0353,2,    237.6,2,    238.4,2,    51.84,2,    23.62,2,     0.00,2,     1.69,2,    0.004,2,    0.003,2,    0.031,3,   2204.6,2,   2339.3,2,   -999.0,9,  -999.00,   7.6842,2,    25.57,    0.044,2,   -999.0,9,   -999.0,9, -999.000,9,-999.0000,9,-999.0000,9,-999.0000,9,-999.0000,9, 27.860, 32.509, 37.053, 41.495, 45.836
33RO20110828,   A10,    47,  1,      2,    002,2,20000101,0000,-30.0169,  -8.5312, 4071,   3601.1,   2.3849,  34.8736,2,  34.8737,2,  35.0381,2,    237.4,2,    237.9,2,    51.94,2,    23.53,2,     0.00,2,     1.69,2,    0.004,2,    0.003,2,    0.029,3,   2204.2,2,   2342.2,2,   -999.0,9,  -999.00,   7.6786,2,    25.46,    0.000,2,   -999.0,9,   -999.0,9, -999.000,9,-999.0000,9,-999.0000,9,-999.0000,9,-999.0000,9, 27.864, 32.513, 37.058, 41.500, 45.842
33RO20110828,   A10,    47,  1,      1,    001,2,20000101,0000,-30.0169,  -8.5312, 4071,   4083.7,   2.4207,  34.8764,2,  34.8780,2,  35.0425,2,    235.9,2,    235.3,2,    52.52,2,    23.62,2,     0.00,2,     1.69,2,    0.004,2,    0.003,2,    0.030,3,   2207.2,6,   2344.7,2,   -999.0,9,  -999.00,   7.6976,2,    25.43,    0.054,2,   -999.0,9,   -999.0,9, -999.000,9,-999.0000,9,-999.0000,9,-999.0000,9,-999.0000,9, 27.869, 32.519, 37.064, 41.507, 45.849