BOTTLE,20130715NOAA
EXPOCODE,SECT_ID,STNNBR,CASTNO,SAMPNO,BTLNBR,BTLNBR_FLAG_W,DATE,TIME,LATITUDE,LONGITUDE,DEPTH,CTDPRS,CTDTMP,CTDSAL,CTDSAL_FLAG_W,SALNTY,SALNTY_FLAG_W,SALTREF,SALTREF_FLAG_W,CTDOXY,CTDOXY_FLAG_W,OXYGEN,OXYGEN_FLAG_W,SILCAT,SILCAT_FLAG_W,NITRAT,NITRAT_FLAG_W,NITRIT,NITRIT_FLAG_W,PHSPHT,PHSPHT_FLAG_W,CFC-11,CFC-11_FLAG_W,CFC-12,CFC-12_FLAG_W,CCL4,CCL4_FLAG_W,TCARBN,TCARBN_FLAG_W,ALKALI,ALKALI_FLAG_W,PCO2,PCO2_FLAG_W,PCO2TMP,PH_TOT,PH_TOT_FLAG_W,PH_TMP,SF6,SF6_FLAG_W,DOC,DOC_FLAG_W,TDN,TDN_FLAG_W,TRITUM,TRITUM_FLAG_W,HELIUM,HELIUM_FLAG_W,OXY_18,OXY_18_FLAG_W,BLACKC,BLACKC_FLAG_W,PIGMENTS,PIGMENTS_FLAG_W,SIGMA-THETA,SIGMA-1,SIGMA-2,SIGMA-3,SIGMA-4
,,,,,,,,,,,METERS,DBARS,ITS-90,PSS-78,,PSS-78,,G/KG,,UMOL/KG,,UMOL/KG,,UMOL/KG,,UMOL/KG,,UMOL/KG,,UMOL/KG,,PMOL/KG,,PMOL/KG,,PMOL/KG,,UMOL/KG,,UMOL/KG,,UATM@T,,DEG_C,,,DEG_C,FMOL/KG,,UMOL/KG,,UMOL/KG,,TU,,NMOL/KG,,,,,,,,,,,,
33RO20110828,   A10,    10,  1,     24,    024,2,20000101,0000,-29.7506,  10.7503, 4371,      8.6,  16.5810,  35.6005,2,  35.6023,2,  35.7702,2,    243.6,2,    245.9,2,     2.54,2,     1.07,2,     0.13,2,     0.23,2,    2.484,2,    1.495,2,    2.958,2,   2062.3,6,   2323.9,2,   -999.0,9,  -999.00,   7.9530,2,    25.24,    1.477,2,   -999.0,9,   -999.0,9, -999.000,9,-999.0000,9,-999.0000,9,-999.0000,9,-999.0000,1, 26.076, 30.400, 34.629, 38.765, 42.811
33RO20110828,   A10,    10,  1,     23,    023,2,20000101,0000,-29.7506,  10.7503, 4371,     58.8,  16.4604,  35.5825,2,  35.5843,2,  35.7521,2,    243.8,2,    243.0,2,     2.63,2,     1.66,2,     0.24,2,     0.27,2, -999.000,9, -999.000,9, -999.000,9,   2063.0,2,   2334.5,2,   -999.0,9,  -999.00,   7.9448,2,    25.26, -999.000,9,   -999.0,9,   -999.0,9, -999.000,9,-999.0000,9,-999.0000,9,-999.0000,9,-999.0000,1, 26.093, 30.419, 34.650, 38.788, 42.836
33RO20110828,   A10,    10,  1,     22,    022,2,20000101,0000,-29.7506,  10.7503, 4371,    104.9,  16.0354,  35.5304,2,  35.5192,2,  35.6867,2,    228.9,2,    226.0,2,     3.12,2,     4.00,2,     0.16,2,     0.43,2,    2.502,2,    1.498,2,    1.693,2,   2078.9,2,   2326.4,2,   -999.0,9,  -999.00,   7.9050,2,    25.29,    1.416,2,   -999.0,9,   -999.0,9, -999.000,9,-999.0000,9,-999.0000,9,-999.0000,9,-999.0000,1, 26.143, 30.477, 34.716, 38.861, 42.917
33RO20110828,   A10,    10,  1,     21,    021,2,20000101,0000,-29.7506,  10.7503, 4371,    155.3,  15.1599,  35.4335,2,  35.4230,2,  35.5900,2,    219.9,2,    222.3,2,     3.51,2,     5.46,2,     0.03,2,     0.52,2, -999.000,9, -999.000,9, -999.000,9,   2091.8,2,   2322.2,2,   -999.0,9,  -999.00,   7.8857,2,    25.35, -999.000,9,   -999.0,9,   -999.0,9, -999.000,9,-999.0000,9,-999.0000,9,-999.0000,9,-999.0000,9, 26.268, 30.619, 34.873, 39.034, 43.105
33RO20110828,   A10,    10,  1,     20,    020,2,20000101,0000,-29.7506,  10.7503, 4371,    209.1,  14.1967,  35.2931,2,  35.2988,2,  35.4652,2,    223.4,2,    217.1,2,     3.32,2,     7.12,2,     0.02,2,     0.64,2,    2.788,2,    1.630,2,    0.997,2,   2104.6,2,   2316.3,2,   -999.0,9,  -999.00,   7.8498,2,    25.36,    1.400,2,   -999.0,9,   -999.0,9, -999.000,9,-999.0000,9,-999.0000,9,-999.0000,9,-999.0000,9, 26.383, 30.752, 35.025, 39.204, 43.291
33RO20110828,   A10,    10,  1,     19,    019,2,20000101,0000,-29.7506,  10.7503, 4371,    282.6,  12.6500,  35.1278,2,  35.1284,2,  35.2940,2,    213.7,2,    218.4,2,     4.68,2,    10.73,2,     0.01,2,     0.86,2, -999.000,9, -999.000,9, -999.000,9,   2115.5,2,   2312.2,2,   -999.0,9,  -999.00,   7.8154,2,    25.28, -999.000,9,   -999.0,9,   -999.0,9, -999.000,9,-999.0000,9,-999.0000,9,-999.0000,9,-999.0000,9, 26.570, 30.970, 35.273, 39.481, 43.596
33RO20110828,   A10,    10,  1,     18,    018,2,20000101,0000,-29.7506,  10.7503, 4371,    363.5,  11.6665,  35.0174,2,  35.0227,2,  35.1878,2,    213.6,2,    215.0,2,     5.66,2,    13.27,2,     0.01,2,     1.03,2,    3.101,2,    1.720,2,    1.000,2,   2124.5,2,   2305.9,2,   -999.0,9,  -999.00,   7.7870,2,    25.32,    1.112,2,   -999.0,9,   -999.0,9, -999.000,9,-999.0000,9,-999.0000,9,-999.0000,9,-999.0000,9, 26.679, 31.100, 35.422, 39.650, 43.784
33RO20110828,   A10,    10,  1,     17,    017,2,20000101,0000,-29.7506,  10.7503, 4371,    461.8,   9.6059,  34.7480,2,  34.7495,2,  34.9134,2,    207.0,2,    209.5,2,     8.98,2,    18.64,2,     0.01,2,     1.37,2,    3.097,2,    1.690,2,    1.446,2,   2143.4,2,   2294.7,2,   -999.0,9,  -999.00,   7.7279,2,    25.35,    1.011,2,   -999.0,9,   -999.0,9, -999.000,9,-999.0000,9,-999.0000,9,-999.0000,9,-999.0000,9, 26.832, 31.298, 35.665, 39.935, 44.110
33RO20110828,   A10,    10,  1,     16,    016,2,20000101,0000,-29.7506,  10.7503, 4371,    499.6,   8.8673,  34.6632,2,  34.6673,2,  34.8308,2,    210.5,2,    209.1,2,    10.83,2,    20.79,2,     0.02,2,     1.51,2,    3.046,2,    1.646,2,    1.624,2,   -999.0,9,   -999.0,9,   -999.0,9,  -999.00,-999.0000,9,  -999.00,    0.977,2,   -999.0,9,   -999.0,9, -999.000,9,-999.0000,9,-999.0000,9,-999.0000,9,-999.0000,9, 26.887, 31.371, 35.754, 40.040, 44.230
33RO20110828,   A10,    10,  1,     15,    015,2,20000101,0000,-29.7506,  10.7503, 4371,    574.7,   7.3514,  34.5101,2,  34.5043,2,  34.6670,2,    206.1,2,    203.3,2,    15.52,2,    24.99,2,     0.01,2,     1.80,2,    2.963,2,    1.574,2,    2.093,2,   2166.0,2,   2288.3,2,   -999.0,9,  -999.00,   7.6558,2,    25.34,    0.856,2,   -999.0,9,   -999.0,9, -999.000,9,-999.0000,9,-999.0000,9,-999.0000,9,-999.0000,9, 26.987, 31.506, 35.924, 40.244, 44.467
33RO20110828,   A10,    10,  1,     14,    014,2,20000101,0000,-29.7506,  10.7503, 4371,    841.3,   4.3312,  34.3639,2,  34.3642,2,  34.5262,2,    192.6,2,    194.4,2,    33.19,2,    31.83,2,     0.01,2,     2.31,2,    1.902,2,    0.945,2,    2.063,2,   -999.0,9,   -999.0,9,   -999.0,9,  -999.00,-999.0000,9,  -999.00,    0.432,2,   -999.0,9,   -999.0,9, -999.000,9,-999.0000,9,-999.0000,9,-999.0000,9,-999.0000,9, 27.252, 31.847, 36.339, 40.730, 45.022
33RO20110828,   A10,    10,  1,     13,    013,2,20000101,0000,-29.7506,  10.7503, 4371,    973.2,   3.8908,  34.4282,2,  34.4275,2,  34.5898,2,    178.6,2,    177.5,2,    41.98,2,    31.92,2,     0.00,2,     2.44,2,    0.990,2,    0.479,2,    1.192,2,   2218.6,2,   2298.0,2,   -999.0,9,  -999.00,   7.5616,2,    25.37,    0.167,2,   -999.0,9,   -999.0,9, -999.000,9,-999.0000,9,-999.0000,9,-999.0000,9,-999.0000,9, 27.349, 31.956, 36.458, 40.860, 45.162
33RO20110828,   A10,    10,  1,     12,    012,2,20000101,0000,-29.7506,  10.7503, 4371,   1181.5,   3.4122,  34.5309,2,  34.5293,2,  34.6921,2,    175.8,2,    174.8,2,    50.57,2,    31.34,2,     0.01,2,     2.41,2,    0.434,2,    0.205,2,    0.587,2,   -999.0,9,   -999.0,9,   -999.0,9,  -999.00,-999.0000,9,  -999.00,    0.068,2,   -999.0,9,   -999.0,9, -999.000,9,-999.0000,9,-999.0000,9,-999.0000,9,-999.0000,9, 27.479, 32.097, 36.612, 41.025, 45.338
33RO20110828,   A10,    10,  1,     11,    011,2,20000101,0000,-29.7506,  10.7503, 4371,   1398.9,   3.1020,  34.6422,2,  34.6434,2,  34.8068,2,    182.6,2,    183.2,2,    54.95,2,    29.87,2,     0.01,2,     2.29,2,    0.201,2,    0.095,2,    0.330,2,   2229.2,2,   2323.4,2,   -999.0,9,  -999.00,   7.5843,2,    25.31,    0.034,2,   -999.0,9,   -999.0,9, -999.000,9,-999.0000,9,-999.0000,9,-999.0000,9,-999.0000,9, 27.600, 32.227, 36.749, 41.169, 45.490
33RO20110828,   A10,    10,  1,     10,    010,2,20000101,0000,-29.7506,  10.7503, 4371,   1668.7,   3.1195,  34.7753,2,  34.7745,2,  34.9385,2,    199.9,2,    200.6,2,    46.65,2,    26.45,2,     0.01,2,     2.01,2,    0.047,2,    0.023,2,    0.121,2,   -999.0,9,   -999.0,9,   -999.0,9,  -999.00,-999.0000,9,  -999.00,    0.000,2,   -999.0,9,   -999.0,9, -999.000,9,-999.0000,9,-999.0000,9,-999.0000,9,-999.0000,9, 27.706, 32.331, 36.852, 41.272, 45.591
33RO20110828,   A10,    10,  1,      9,    009,2,20000101,0000,-29.7506,  10.7503, 4371,   1957.0,   3.0566,  34.8483,2,  34.8498,2,  35.0142,2,    219.2,2,    219.3,2,    41.18,2,    23.72,2,     0.00,2,     1.81,2,    0.015,2,    0.008,2,    0.086,2,   -999.0,9,   -999.0,9,   -999.0,9,  -999.00,-999.0000,9,  -999.00,    0.000,2,   -999.0,9,   -999.0,9, -999.000,9,-999.0000,9,-999.0000,9,-999.0000,9,-999.0000,9, 27.774, 32.401, 36.924, 41.345, 45.666
33RO20110828,   A10,    10,  1,      8,    008,2,20000101,0000,-29.7506,  10.7503, 4371,   2247.3,   2.8533,  34.8668,2,  34.8668,2,  35.0312,2,    228.3,2,    227.4,2,    42.75,2,    22.84,2,     0.00,2,     1.74,2,    0.014,4,    0.018,4,    0.049,4,   -999.0,9,   -999.0,9,   -999.0,9,  -999.00,-999.0000,9,  -999.00,    0.228,4,   -999.0,9,   -999.0,9, -999.000,9,-999.0000,9,-999.0000,9,-999.0000,9,-999.0000,9, 27.808, 32.441, 36.970, 41.397, 45.723
33RO20110828,   A10,    10,  1,      7,    007,2,20000101,0000,-29.7506,  10.7503, 4371,   2552.7,   2.6431,  34.8649,2,  34.8715,2,  35.0359,2,    231.4,2,    231.0,2,    46.84,2,    22.74,2,     0.00,2,     1.73,2,    0.005,2,    0.003,2,    0.034,2,   2198.9,2,   2330.2,2,   -999.0,9,  -999.00,   7.6756,2,    25.39,    0.000,2,   -999.0,9,   -999.0,9, -999.000,9,-999.0000,9,-999.0000,9,-999.0000,9,-999.0000,9, 27.832, 32.471, 37.007, 41.440, 45.772
33RO20110828,   A10,    10,  1,      6,    006,2,20000101,0000,-29.7506,  10.7503, 4371,   2848.9,   2.5010,  34.8611,2,  34.8628,2,  35.0272,2,    232.0,2,    231.9,2,    50.55,2,    22.84,2,     0.00,2,     1.74,2,    0.005,2,    0.005,2,    0.029,2,   -999.0,9,   -999.0,9,   -999.0,9,  -999.00,-999.0000,9,  -999.00,    0.000,2,   -999.0,9,   -999.0,9, -999.000,9,-999.0000,9,-999.0000,9,-999.0000,9,-999.0000,9, 27.839, 32.483, 37.023, 41.461, 45.797
33RO20110828,   A10,    10,  1,      5,    005,2,20000101,0000,-29.7506,  10.7503, 4371,   3147.9,   2.3889,  34.8586,2,  34.8585,2,  35.0229,2,    231.7,2,    231.3,2,    53.87,2,    22.93,2,     0.00,2,     1.76,2,    0.007,4,    0.007,4,    0.031,4,   -999.0,9,   -999.0,9,   -999.0,9,  -999.00,-999.0000,9,  -999.00,    0.041,4,   -999.0,9,   -999.0,9, -999.000,9,-999.0000,9,-999.0000,9,-999.0000,9,-999.0000,9, 27.847, 32.495, 37.039, 41.480, 45.820
33RO20110828,   A10,    10,  1,      4,    004,2,20000101,0000,-29.7506,  10.7503, 4371,   3447.2,   2.2852,  34.8529,2,  34.8539,6,  35.0182,6,    230.3,2,    232.2,2,    57.97,2,    22.93,2,     0.00,2,     1.78,2,    0.007,2,    0.005,2,    0.030,2,   2210.0,2,   2345.1,2,   -999.0,9,  -999.00,   7.6793,2,    25.36,    0.000,2,   -999.0,9,   -999.0,9, -999.000,9,-999.0000,9,-999.0000,9,-999.0000,9,-999.0000,9, 27.854, 32.506, 37.053, 41.498, 45.841
33RO20110828,   A10,    10,  1,      3,    003,2,20000101,0000,-29.7506,  10.7503, 4371,   3749.2,   2.1473,  34.8411,2,  34.8408,2,  35.0051,2,    228.6,2,    228.9,2,    63.92,2,    23.62,2,     0.00,2,     1.83,2,    0.009,2,    0.005,2,    0.029,2,   -999.0,9,   -999.0,9,   -999.0,9,  -999.00,-999.0000,9,  -999.00,    0.000,2,   -999.0,9,   -999.0,9, -999.000,9,-999.0000,9,-999.0000,9,-999.0000,9,-999.0000,9, 27.857, 32.514, 37.066, 41.515, 45.863
33RO20110828,   A10,    10,  1,      2,    002,2,20000101,0000,-29.7506,  10.7503, 4371,   4047.8,   1.7515,  34.7983,2,  34.8021,2,  34.9662,2,    223.0,2,    222.3,2,    81.20,2,    25.47,2,     0.00,2,     1.99,2,    0.017,2,    0.010,2,    0.059,2,   -999.0,9,   -999.0,9,   -999.0,9,  -999.00,-999.0000,9,  -999.00,    0.000,2,   -999.0,9,   -999.0,9, -999.000,9,-999.0000,9,-999.0000,9,-999.0000,9,-999.0000,9, 27.857, 32.526, 37.090, 41.550, 45.909
33RO20110828,   A10,    10,  1,      1,    001,2,20000101,0000,-29.7506,  10.7503, 4371,   4449.2,   1.1377,  34.7372,2,  34.7384,2,  34.9022,2,    215.8,2,    215.6,2,   106.97,2,    28.11,2,     0.00,2,     2.24,2,    0.047,2,    0.027,2,    0.130,2,   2257.5,6,   2375.6,2,   -999.0,9,  -999.00,   7.6327,2,    25.29,    0.000,2,   -999.0,9,   -999.0,9, -999.000,9,-999.0000,9,-999.0000,9,-999.0000,9,-999.0000,9, 27.850, 32.537, 37.119, 41.598, 45.974