BOTTLE,20130715NOAA
EXPOCODE,SECT_ID,STNNBR,CASTNO,SAMPNO,BTLNBR,BTLNBR_FLAG_W,DATE,TIME,LATITUDE,LONGITUDE,DEPTH,CTDPRS,CTDTMP,CTDSAL,CTDSAL_FLAG_W,SALNTY,SALNTY_FLAG_W,SALTREF,SALTREF_FLAG_W,CTDOXY,CTDOXY_FLAG_W,OXYGEN,OXYGEN_FLAG_W,SILCAT,SILCAT_FLAG_W,NITRAT,NITRAT_FLAG_W,NITRIT,NITRIT_FLAG_W,PHSPHT,PHSPHT_FLAG_W,CFC-11,CFC-11_FLAG_W,CFC-12,CFC-12_FLAG_W,CCL4,CCL4_FLAG_W,TCARBN,TCARBN_FLAG_W,ALKALI,ALKALI_FLAG_W,PCO2,PCO2_FLAG_W,PCO2TMP,PH_TOT,PH_TOT_FLAG_W,PH_TMP,SF6,SF6_FLAG_W,DOC,DOC_FLAG_W,TDN,TDN_FLAG_W,TRITUM,TRITUM_FLAG_W,HELIUM,HELIUM_FLAG_W,OXY_18,OXY_18_FLAG_W,BLACKC,BLACKC_FLAG_W,PIGMENTS,PIGMENTS_FLAG_W,SIGMA-THETA,SIGMA-1,SIGMA-2,SIGMA-3,SIGMA-4
,,,,,,,,,,,METERS,DBARS,ITS-90,PSS-78,,PSS-78,,G/KG,,UMOL/KG,,UMOL/KG,,UMOL/KG,,UMOL/KG,,UMOL/KG,,UMOL/KG,,PMOL/KG,,PMOL/KG,,PMOL/KG,,UMOL/KG,,UMOL/KG,,UATM@T,,DEG_C,,,DEG_C,FMOL/KG,,UMOL/KG,,UMOL/KG,,TU,,NMOL/KG,,,,,,,,,,,,
33RO20110828,   A10,    15,  1,     24,    024,3,20000101,0000,-29.7508,   7.8752, 4932,      3.6,  16.8944,  35.7103,2,  35.7063,2,  35.8746,2,   -999.0,9,   -999.0,9,     1.27,2,     0.00,2,     0.01,2,     0.13,2, -999.000,9, -999.000,9, -999.000,9,   -999.0,9,   -999.0,9,   -999.0,9,  -999.00,-999.0000,9,  -999.00, -999.000,9,   -999.0,1,   -999.0,1, -999.000,9,-999.0000,9,-999.0000,9,-999.0000,9,-999.0000,1, 26.082, 30.400, 34.622, 38.753, 42.794
33RO20110828,   A10,    15,  1,     23,    023,2,20000101,0000,-29.7508,   7.8752, 4932,     34.4,  16.7087,  35.7065,2,  35.7057,2,  35.8740,2,    252.1,2,    250.5,2,     1.56,2,     0.00,2,     0.02,2,     0.15,2,    2.488,2,    1.491,2,    3.086,2,   2071.8,6,   2341.5,2,   -999.0,9,  -999.00,   7.9543,2,    25.34,    1.537,2,   -999.0,1,   -999.0,1, -999.000,9,-999.0000,9,-999.0000,9,-999.0000,9,-999.0000,9, 26.127, 30.448, 34.674, 38.807, 42.851
33RO20110828,   A10,    15,  1,     22,    022,2,20000101,0000,-29.7508,   7.8752, 4932,     58.5,  16.4794,  35.6861,2,  35.6867,2,  35.8550,2,    246.7,2,    246.9,2,     1.85,2,     0.49,2,     0.16,2,     0.20,2,    2.480,2,    1.491,2,    2.877,2,   2082.8,2,   -999.0,5,   -999.0,9,  -999.00,   7.9480,2,    25.41,    1.478,2,   -999.0,1,   -999.0,1, -999.000,9,-999.0000,9,-999.0000,9,-999.0000,9,-999.0000,1, 26.167, 30.492, 34.722, 38.859, 42.907
33RO20110828,   A10,    15,  1,     21,    021,2,20000101,0000,-29.7508,   7.8752, 4932,     99.5,  16.2366,  35.6650,2,  35.6654,6,  35.8335,6,    236.2,2,    237.4,2,     2.34,2,     1.37,2,     0.75,2,     0.29,2,    2.476,2,    1.494,2,    2.349,2,   2083.7,2,   2339.6,2,   -999.0,9,  -999.00,   7.9328,2,    25.43,    1.510,2,   -999.0,1,   -999.0,1, -999.000,9,-999.0000,9,-999.0000,9,-999.0000,9,-999.0000,1, 26.209, 30.538, 34.773, 38.914, 42.966
33RO20110828,   A10,    15,  1,     20,    020,2,20000101,0000,-29.7508,   7.8752, 4932,    175.0,  15.9545,  35.6171,2,  35.6162,2,  35.7841,2,    235.6,2,    237.2,2,     2.44,2,     2.24,2,     0.18,2,     0.31,2,    2.508,2,    1.506,2,    2.191,2,   2074.8,2,   2335.4,2,   -999.0,9,  -999.00,   7.9299,2,    25.41,    1.479,2,   -999.0,1,   -999.0,1, -999.000,9,-999.0000,9,-999.0000,9,-999.0000,9,-999.0000,9, 26.239, 30.574, 34.813, 38.960, 43.017
33RO20110828,   A10,    15,  1,     19,    019,2,20000101,0000,-29.7508,   7.8752, 4932,    248.8,  15.3527,  35.4954,2,  35.6161,2,  35.7840,2,    229.8,2,    228.1,2,     2.73,2,     3.90,2,     0.01,2,     0.43,2,    2.586,2,    1.549,2,    1.591,2,   2091.2,2,   2332.5,2,   -999.0,9,  -999.00,   7.9023,2,    25.46,    1.479,2,   -999.0,1,   -999.0,1, -999.000,9,-999.0000,9,-999.0000,9,-999.0000,9,-999.0000,9, 26.377, 30.723, 34.974, 39.130, 43.197
33RO20110828,   A10,    15,  1,     18,    018,2,20000101,0000,-29.7508,   7.8752, 4932,    324.3,  13.5064,  35.2022,2,  35.2029,2,  35.3689,2,    219.6,2,    219.8,2,     3.22,2,     7.71,2,     0.01,2,     0.68,2,    2.850,2,    1.686,2,    1.092,2,   2110.9,2,   2344.8,4,   -999.0,9,  -999.00,   7.8422,2,    25.43,    1.460,2,   -999.0,1,   -999.0,1, -999.000,9,-999.0000,9,-999.0000,9,-999.0000,9,-999.0000,9, 26.456, 30.840, 35.126, 39.318, 43.418
33RO20110828,   A10,    15,  1,     17,    017,2,20000101,0000,-29.7508,   7.8752, 4932,    398.7,  12.4397,  35.0951,2,  35.0944,2,  35.2599,2,    216.5,2,    215.5,2,     4.59,2,    11.32,2,     0.01,2,     0.89,2,    3.005,2,    1.723,2,    0.882,2,   2120.3,2,   2311.6,2,   -999.0,9,  -999.00,   7.8106,2,    25.54,    1.255,2,   -999.0,1,   -999.0,1, -999.000,9,-999.0000,9,-999.0000,9,-999.0000,9,-999.0000,9, 26.588, 30.993, 35.300, 39.512, 43.632
33RO20110828,   A10,    15,  1,     16,    016,2,20000101,0000,-29.7508,   7.8752, 4932,    518.8,  10.0938,  34.7992,2,  34.7985,2,  34.9626,2,    214.6,2,    214.7,2,     6.44,2,    16.69,2,     0.01,2,     1.22,2,    3.192,2,    1.778,2,    1.276,2,   2137.6,2,   2296.5,2,   -999.0,9,  -999.00,   7.7464,2,    25.44,    1.154,2,   -999.0,1,   -999.0,1, -999.000,9,-999.0000,9,-999.0000,9,-999.0000,9,-999.0000,9, 26.789, 31.245, 35.601, 39.861, 44.026
33RO20110828,   A10,    15,  1,     15,    015,2,20000101,0000,-29.7508,   7.8752, 4932,    670.0,   7.2945,  34.5144,2,  34.5126,2,  34.6753,2,    203.1,2,    203.5,2,    16.11,2,    24.70,2,     0.01,2,     1.77,2,    2.875,2,    1.502,2,    1.687,2,   2166.6,2,   2282.6,2,   -999.0,9,  -999.00,   7.7393,2,    25.49,    0.815,2,   -999.0,1,   -999.0,1, -999.000,9,-999.0000,9,-999.0000,9,-999.0000,9,-999.0000,9, 27.003, 31.524, 35.943, 40.264, 44.489
33RO20110828,   A10,    15,  1,     14,    014,2,20000101,0000,-29.7508,   7.8752, 4932,    821.0,   5.0293,  34.3655,2,  34.3665,2,  34.5286,2,    194.1,2,    194.5,2,    25.87,2,    30.56,2,     0.01,2,     2.19,2,    2.330,2,    1.201,2,    2.000,2,   2194.2,2,   2287.6,2,   -999.0,9,  -999.00,   7.5953,2,    25.49,    0.567,2,   -999.0,1,   -999.0,1, -999.000,9,-999.0000,9,-999.0000,9,-999.0000,9,-999.0000,9, 27.177, 31.755, 36.229, 40.603, 44.879
33RO20110828,   A10,    15,  1,     13,    013,2,20000101,0000,-29.7508,   7.8752, 4932,   1049.3,   3.7543,  34.4094,2,  34.4077,2,  34.5700,2,    188.3,2,    188.1,2,    44.03,2,    32.70,2,     0.01,2,     2.37,2,    1.339,2,    0.646,2,    1.476,2,   2216.6,2,   2310.2,2,   -999.0,9,  -999.00,   7.5758,2,    25.46,    0.249,2,   -999.0,1,   -999.0,1, -999.000,9,-999.0000,9,-999.0000,9,-999.0000,9,-999.0000,9, 27.348, 31.958, 36.465, 40.870, 45.176
33RO20110828,   A10,    15,  1,     12,    012,2,20000101,0000,-29.7508,   7.8752, 4932,   1298.3,   3.1791,  34.5505,2,  34.5509,2,  34.7138,2,    178.1,2,    177.9,2,    56.81,2,    32.90,2,     0.00,2,     2.39,2,    0.465,2,    0.215,2,    0.691,2,   2233.2,6,   2323.9,2,   -999.0,9,  -999.00,   7.5771,2,    25.45,    0.078,2,   -999.0,1,   -999.0,1, -999.000,9,-999.0000,9,-999.0000,9,-999.0000,9,-999.0000,9, 27.519, 32.143, 36.664, 41.083, 45.402
33RO20110828,   A10,    15,  1,     11,    011,2,20000101,0000,-29.7508,   7.8752, 4932,   1549.5,   3.1828,  34.7299,2,  34.7300,2,  34.8938,2,    193.6,2,    194.3,2,    47.92,2,    28.99,2,     0.00,2,     2.09,2,    0.079,2,    0.037,2,    0.183,2,   2216.3,2,   2326.1,2,   -999.0,9,  -999.00,   7.6184,2,    25.44,    0.000,2,   -999.0,1,   -999.0,1, -999.000,9,-999.0000,9,-999.0000,9,-999.0000,9,-999.0000,9, 27.663, 32.287, 36.807, 41.225, 45.543
33RO20110828,   A10,    15,  1,     10,    010,2,20000101,0000,-29.7508,   7.8752, 4932,   1800.2,   3.1916,  34.8153,2,  34.8161,2,  34.9803,2,    209.3,2,    209.6,2,    41.77,2,    26.25,2,     0.00,2,     1.89,2,    0.023,2,    0.012,2,    0.084,2,   2204.0,2,   2311.6,2,   -999.0,9,  -999.00,   7.6642,2,    25.41,    0.000,2,   -999.0,1,   -999.0,1, -999.000,9,-999.0000,9,-999.0000,9,-999.0000,9,-999.0000,9, 27.733, 32.357, 36.876, 41.294, 45.612
33RO20110828,   A10,    15,  1,      9,    009,2,20000101,0000,-29.7508,   7.8752, 4932,   2098.8,   3.0310,  34.8604,2,  34.8605,2,  35.0249,2,    223.6,2,    223.8,2,    40.50,2,    24.40,2,     0.00,2,     1.75,2,    0.010,2,    0.008,2,    0.056,2,   2196.8,2,   2325.1,2,   -999.0,9,  -999.00,   7.6717,2,    25.42,    0.000,2,   -999.0,1,   -999.0,1, -999.000,9,-999.0000,9,-999.0000,9,-999.0000,9,-999.0000,9, 27.786, 32.414, 36.938, 41.360, 45.682
33RO20110828,   A10,    15,  1,      8,    008,2,20000101,0000,-29.7508,   7.8752, 4932,   2400.0,   2.7179,  34.8524,2,  34.8525,2,  35.0168,2,    227.0,2,    226.2,2,    47.53,2,    24.69,2,     0.00,2,     1.76,2,    0.011,2,    0.006,2,    0.080,2,   2199.6,2,   2332.3,2,   -999.0,9,  -999.00,   7.6010,4,    25.47,    0.000,2,   -999.0,1,   -999.0,1, -999.000,9,-999.0000,9,-999.0000,9,-999.0000,9,-999.0000,9, 27.809, 32.446, 36.980, 41.410, 45.741
33RO20110828,   A10,    15,  1,      7,    007,2,20000101,0000,-29.7508,   7.8752, 4932,   2699.5,   2.5921,  34.8621,2,  34.8627,2,  35.0271,2,    230.6,2,    231.5,2,    48.60,2,    24.01,2,     0.00,2,     1.72,2,    0.005,2,    0.003,2,    0.036,2,   2199.7,2,   2335.6,2,   -999.0,9,  -999.00,   7.6790,2,    25.46,    0.000,2,   -999.0,1,   -999.0,1, -999.000,9,-999.0000,9,-999.0000,9,-999.0000,9,-999.0000,9, 27.830, 32.472, 37.009, 41.443, 45.778
33RO20110828,   A10,    15,  1,      6,    006,2,20000101,0000,-29.7508,   7.8752, 4932,   2998.6,   2.4100,  34.8541,2,  34.8538,2,  35.0182,2,    232.0,2,    230.8,2,    54.36,2,    24.30,2,     0.00,2,     1.76,2,    0.008,2,    0.005,2,    0.041,2,   2204.5,2,   2340.4,2,   -999.0,9,  -999.00,   7.6769,2,    25.45,    0.000,2,   -999.0,1,   -999.0,1, -999.000,9,-999.0000,9,-999.0000,9,-999.0000,9,-999.0000,9, 27.841, 32.488, 37.031, 41.471, 45.810
33RO20110828,   A10,    15,  1,      5,    005,2,20000101,0000,-29.7508,   7.8752, 4932,   3398.4,   2.2984,  34.8527,2,  34.8521,6,  35.0165,6,    230.3,2,    231.6,2,    57.97,2,    24.59,2,     0.00,2,     1.77,2,    0.007,2,    0.004,2,    0.043,2,   2208.9,2,   2345.5,2,   -999.0,9,  -999.00,   7.6798,2,    25.46,    0.000,2,   -999.0,1,   -999.0,1, -999.000,9,-999.0000,9,-999.0000,9,-999.0000,9,-999.0000,9, 27.852, 32.503, 37.050, 41.494, 45.837
33RO20110828,   A10,    15,  1,      4,    004,2,20000101,0000,-29.7508,   7.8752, 4932,   3800.0,   2.0525,  34.8309,2,  34.8302,2,  34.9945,2,    227.2,2,    227.6,2,    68.61,2,    25.77,2,     0.01,2,     1.86,2,    0.014,2,    0.008,2,    0.049,2,   2219.8,2,   2351.0,2,   -999.0,9,  -999.00,   7.6696,2,    25.39,    0.000,2,   -999.0,1,   -999.0,1, -999.000,9,-999.0000,9,-999.0000,9,-999.0000,9,-999.0000,9, 27.856, 32.515, 37.070, 41.522, 45.872
33RO20110828,   A10,    15,  1,      3,    003,2,20000101,0000,-29.7508,   7.8752, 4932,   4199.1,   1.4226,  34.7652,2,  34.7645,2,  34.9285,2,    221.3,2,    220.9,2,    94.48,2,    28.99,2,     0.00,2,     2.10,2,    0.040,2,    0.020,2,    0.114,2,   2240.9,2,   2353.9,2,   -999.0,9,  -999.00,   7.6344,2,    25.45,    0.000,2,   -999.0,1,   -999.0,1, -999.000,9,-999.0000,9,-999.0000,9,-999.0000,9,-999.0000,9, 27.851, 32.529, 37.103, 41.573, 45.941
33RO20110828,   A10,    15,  1,      2,    002,2,20000101,0000,-29.7508,   7.8752, 4932,   4598.5,   1.1762,  34.7395,2,  34.7388,2,  34.9026,2,    218.6,2,    218.4,2,   104.73,2,    30.26,2,     0.00,2,     2.20,2,    0.061,2,    0.030,2,    0.160,2,   2251.1,2,   2366.3,2,   -999.0,9,  -999.00,   7.6258,2,    25.37,    0.000,2,   -999.0,1,   -999.0,1, -999.000,9,-999.0000,9,-999.0000,9,-999.0000,9,-999.0000,9, 27.849, 32.536, 37.117, 41.595, 45.971
33RO20110828,   A10,    15,  1,      1,    001,2,20000101,0000,-29.7508,   7.8752, 4932,   5041.8,   1.1761,  34.7342,2,  34.7341,2,  34.8979,2,    219.8,2,    219.8,2,   106.68,2,    30.45,2,     0.00,2,     2.22,2,    0.073,2,    0.034,2,    0.178,2,   2252.9,6,   2367.3,2,   -999.0,9,  -999.00,   7.6316,2,    25.39,    0.000,2,   -999.0,1,   -999.0,1, -999.000,9,-999.0000,9,-999.0000,9,-999.0000,9,-999.0000,9, 27.848, 32.537, 37.120, 41.599, 45.976