BOTTLE,20130715NOAA
EXPOCODE,SECT_ID,STNNBR,CASTNO,SAMPNO,BTLNBR,BTLNBR_FLAG_W,DATE,TIME,LATITUDE,LONGITUDE,DEPTH,CTDPRS,CTDTMP,CTDSAL,CTDSAL_FLAG_W,SALNTY,SALNTY_FLAG_W,SALTREF,SALTREF_FLAG_W,CTDOXY,CTDOXY_FLAG_W,OXYGEN,OXYGEN_FLAG_W,SILCAT,SILCAT_FLAG_W,NITRAT,NITRAT_FLAG_W,NITRIT,NITRIT_FLAG_W,PHSPHT,PHSPHT_FLAG_W,CFC-11,CFC-11_FLAG_W,CFC-12,CFC-12_FLAG_W,CCL4,CCL4_FLAG_W,TCARBN,TCARBN_FLAG_W,ALKALI,ALKALI_FLAG_W,PCO2,PCO2_FLAG_W,PCO2TMP,PH_TOT,PH_TOT_FLAG_W,PH_TMP,SF6,SF6_FLAG_W,DOC,DOC_FLAG_W,TDN,TDN_FLAG_W,TRITUM,TRITUM_FLAG_W,HELIUM,HELIUM_FLAG_W,OXY_18,OXY_18_FLAG_W,BLACKC,BLACKC_FLAG_W,PIGMENTS,PIGMENTS_FLAG_W,SIGMA-THETA,SIGMA-1,SIGMA-2,SIGMA-3,SIGMA-4
,,,,,,,,,,,METERS,DBARS,ITS-90,PSS-78,,PSS-78,,G/KG,,UMOL/KG,,UMOL/KG,,UMOL/KG,,UMOL/KG,,UMOL/KG,,UMOL/KG,,PMOL/KG,,PMOL/KG,,PMOL/KG,,UMOL/KG,,UMOL/KG,,UATM@T,,DEG_C,,,DEG_C,FMOL/KG,,UMOL/KG,,UMOL/KG,,TU,,NMOL/KG,,,,,,,,,,,,
33RO20110828,   A10,    73,  1,     24,    024,2,20000101,0000,-29.9984, -27.7289, 4423,      5.5,  17.1435,  35.7985,2,  35.8038,2,  35.9727,2,    241.5,2,    241.2,2,     1.17,2,     0.00,2,     0.01,2,     0.11,2,    2.421,2,    1.456,2,    3.732,3,   2080.8,6,   2346.7,2,   -999.0,9,  -999.00,   7.9313,2,    25.66,    1.462,2,   -999.0,1,   -999.0,1, -999.000,9,-999.0000,9,-999.0000,9,-999.0000,9,-999.0000,1, 26.097, 30.410, 34.628, 38.754, 42.790
33RO20110828,   A10,    73,  1,     23,    023,2,20000101,0000,-29.9984, -27.7289, 4423,     47.7,  17.1005,  35.7985,2,  35.7989,2,  35.9677,2,    242.1,2,    242.5,2,     1.17,2,     0.00,2,     0.01,2,     0.12,2,    2.433,2,    1.462,2,    2.790,3,   2083.1,2,   2349.1,2,   -999.0,9,  -999.00,   7.9205,2,    25.60,    1.506,2,   -999.0,1,   -999.0,1, -999.000,9,-999.0000,9,-999.0000,9,-999.0000,9,-999.0000,9, 26.105, 30.419, 34.638, 38.765, 42.802
33RO20110828,   A10,    73,  1,     22,    022,2,20000101,0000,-29.9984, -27.7289, 4423,     89.7,  16.7848,  35.8085,2,  35.8088,2,  35.9776,2,    238.5,2,    238.7,2,     1.27,2,     0.20,2,     0.12,2,     0.15,2,    2.446,2,    1.468,2,    2.771,3,   2089.4,2,   2348.4,2,   -999.0,9,  -999.00,   7.9265,2,    25.61,    1.430,2,   -999.0,1,   -999.0,1, -999.000,9,-999.0000,9,-999.0000,9,-999.0000,9,-999.0000,1, 26.190, 30.509, 34.733, 38.865, 42.907
33RO20110828,   A10,    73,  1,     21,    021,2,20000101,0000,-29.9984, -27.7289, 4423,    176.6,  15.5630,  35.5796,2,  35.5817,2,  35.7495,2,    223.5,2,    223.3,2,     1.85,2,     3.41,2,     0.03,2,     0.32,2,    2.607,2,    1.541,2,    1.829,3,   2102.8,2,   2333.8,2,   -999.0,9,  -999.00,   7.8617,2,    25.54,    1.437,2,   -999.0,1,   -999.0,1, -999.000,9,-999.0000,9,-999.0000,9,-999.0000,9,-999.0000,1, 26.301, 30.643, 34.890, 39.043, 43.106
33RO20110828,   A10,    73,  1,     20,    020,2,20000101,0000,-29.9984, -27.7289, 4423,    249.8,  14.2357,  35.4001,2,  35.4030,2,  35.5700,2,    217.0,2,    217.2,2,     2.44,2,     6.54,2,     0.02,2,     0.47,2,    2.805,2,    1.628,2,    1.259,3,   2116.9,2,   2324.1,2,   -999.0,9,  -999.00,   7.8355,2,    25.57,    1.374,2,   -999.0,1,   -999.0,1, -999.000,9,-999.0000,9,-999.0000,9,-999.0000,9,-999.0000,9, 26.456, 30.824, 35.096, 39.273, 43.359
33RO20110828,   A10,    73,  1,     19,    019,2,20000101,0000,-29.9984, -27.7289, 4423,    318.8,  13.5749,  35.3308,2,  35.3310,2,  35.4976,2,    216.9,2,    216.2,2,     2.93,2,     8.29,2,     0.01,2,     0.57,2,    2.908,2,    1.666,2,    1.019,3,   2122.9,2,   2321.2,2,   -999.0,9,  -999.00,   7.8259,2,    25.54,    1.292,2,   -999.0,1,   -999.0,1, -999.000,9,-999.0000,9,-999.0000,9,-999.0000,9,-999.0000,9, 26.541, 30.922, 35.207, 39.396, 43.494
33RO20110828,   A10,    73,  1,     18,    018,2,20000101,0000,-29.9984, -27.7289, 4423,    387.9,  12.7136,  35.2085,2,  35.2095,2,  35.3755,2,    222.8,2,    222.8,2,     3.22,2,     9.46,2,     0.01,2,     0.63,2,    2.995,2,    1.708,2,    1.672,3,   2124.9,2,   2316.7,2,   -999.0,9,  -999.00,   7.8036,2,    25.66,    1.328,2,   -999.0,1,   -999.0,1, -999.000,9,-999.0000,9,-999.0000,9,-999.0000,9,-999.0000,9, 26.623, 31.022, 35.323, 39.529, 43.643
33RO20110828,   A10,    73,  1,     17,    017,2,20000101,0000,-29.9984, -27.7289, 4423,    491.0,  10.6360,  34.8887,2,  34.8900,2,  35.0545,2,    208.1,2,    208.1,2,     6.15,2,    15.61,2,     0.01,2,     0.96,2,    3.161,2,    1.715,2,    1.419,3,   2141.2,2,   2299.1,2,   -999.0,9,  -999.00,   7.7344,2,    25.69,    1.103,2,   -999.0,1,   -999.0,1, -999.000,9,-999.0000,9,-999.0000,9,-999.0000,9,-999.0000,9, 26.766, 31.209, 35.554, 39.802, 43.957
33RO20110828,   A10,    73,  1,     16,    016,2,20000101,0000,-29.9984, -27.7289, 4423,    590.2,   8.8073,  34.6558,2,  34.6565,2,  34.8199,2,    205.7,2,    206.1,2,     9.17,2,    20.40,2,     0.01,2,     1.24,2,    3.220,2,    1.687,2,    1.749,3,   2153.3,2,   2291.3,2,   -999.0,9,  -999.00,   7.6849,2,    25.53,    0.923,2,   -999.0,1,   -999.0,1, -999.000,9,-999.0000,9,-999.0000,9,-999.0000,9,-999.0000,9, 26.890, 31.375, 35.760, 40.047, 44.239
33RO20110828,   A10,    73,  1,     15,    015,2,20000101,0000,-29.9984, -27.7289, 4423,    689.7,   6.7432,  34.4088,2,  34.4088,3,  34.5711,3,    225.2,2,    225.4,2,    10.93,2,    23.62,2,     0.01,2,     1.42,2,    3.558,2,    1.859,2,    4.054,3,   2157.6,2,   2281.0,2,   -999.0,9,  -999.00,   7.6626,2,    25.58,    1.098,2,   -999.0,1,   -999.0,1, -999.000,9,-999.0000,9,-999.0000,9,-999.0000,9,-999.0000,9, 26.997, 31.531, 35.965, 40.299, 44.536
33RO20110828,   A10,    73,  1,     14,    014,2,20000101,0000,-29.9984, -27.7289, 4423,    788.8,   5.3663,  34.3160,2,  34.3176,3,  34.4794,3,    226.5,2,    226.5,2,    17.18,2,    26.85,2,     0.01,2,     1.63,2,    3.275,2,    1.667,2,    4.616,3,   2169.6,2,   2281.7,2,   -999.0,9,  -999.00,   7.6424,2,    25.56,    0.849,2,   -999.0,1,   -999.0,1, -999.000,9,-999.0000,9,-999.0000,9,-999.0000,9,-999.0000,9, 27.098, 31.667, 36.134, 40.500, 44.769
33RO20110828,   A10,    73,  1,     13,    013,2,20000101,0000,-29.9984, -27.7289, 4423,    941.4,   4.2532,  34.2896,2,  34.2914,2,  34.4531,2,    221.7,2,    222.5,2,    26.26,2,    29.58,2,     0.01,2,     1.85,2,    2.684,2,    1.324,2,    4.438,3,   2185.3,2,   2290.0,2,   -999.0,9,  -999.00,   7.5971,2,    25.52,    0.602,2,   -999.0,1,   -999.0,1, -999.000,9,-999.0000,9,-999.0000,9,-999.0000,9,-999.0000,9, 27.204, 31.801, 36.296, 40.690, 44.984
33RO20110828,   A10,    73,  1,     12,    012,2,20000101,0000,-29.9984, -27.7289, 4423,   1091.3,   3.3681,  34.3278,2,  34.3270,2,  34.4889,2,    211.0,2,    209.9,2,    39.34,2,    31.82,2,     0.01,2,     2.06,2,    1.811,2,    0.881,2,    3.462,3,   2206.0,2,   2298.6,2,   -999.0,9,  -999.00,   7.5582,2,    25.57,    0.335,2,   -999.0,1,   -999.0,1, -999.000,9,-999.0000,9,-999.0000,9,-999.0000,9,-999.0000,9, 27.321, 31.942, 36.459, 40.875, 45.191
33RO20110828,   A10,    73,  1,     11,    011,2,20000101,0000,-29.9984, -27.7289, 4423,   1240.7,   3.2309,  34.4356,2,  34.4359,2,  34.5983,2,    192.1,2,    192.9,2,    48.90,2,    32.51,2,     0.01,2,     2.17,2,    0.968,2,    0.468,2,    2.028,3,   2221.6,2,   2310.2,2,   -999.0,9,  -999.00,   7.5543,2,    25.57,    0.158,2,   -999.0,1,   -999.0,1, -999.000,9,-999.0000,9,-999.0000,9,-999.0000,9,-999.0000,9, 27.422, 32.046, 36.566, 40.985, 45.303
33RO20110828,   A10,    73,  1,     10,    010,2,20000101,0000,-29.9984, -27.7289, 4423,   1392.1,   2.9740,  34.5221,2,  34.5227,2,  34.6855,2,    188.3,2,    188.3,2,    55.34,2,    32.31,2,     0.01,2,     2.20,2,    0.540,2,    0.261,2,    1.399,3,   2231.5,2,   2318.0,2,   -999.0,9,  -999.00,   7.5567,2,    25.62,    0.045,2,   -999.0,1,   -999.0,1, -999.000,9,-999.0000,9,-999.0000,9,-999.0000,9,-999.0000,9, 27.515, 32.146, 36.673, 41.097, 45.422
33RO20110828,   A10,    73,  1,      9,    009,2,20000101,0000,-29.9984, -27.7289, 4423,   1587.8,   2.8842,  34.6525,2,  34.6525,2,  34.8159,2,    193.1,2,    193.6,2,    56.12,2,    30.26,2,     0.01,2,     2.10,2,    0.190,2,    0.091,2,    0.669,3,   2229.1,6,   2324.0,2,   -999.0,9,  -999.00,   7.5828,2,    25.49,    0.040,2,   -999.0,1,   -999.0,1, -999.000,9,-999.0000,9,-999.0000,9,-999.0000,9,-999.0000,9, 27.628, 32.261, 36.789, 41.216, 45.542
33RO20110828,   A10,    73,  1,      8,    008,2,20000101,0000,-29.9984, -27.7289, 4423,   1791.1,   2.7942,  34.7405,2,  34.7408,2,  34.9046,2,    204.8,2,    205.1,2,    53.97,2,    27.91,2,     0.01,2,     1.95,2,    0.071,2,    0.035,2,    0.352,3,   2219.7,2,   2327.9,2,   -999.0,9,  -999.00,   7.6188,2,    25.57,    0.000,2,   -999.0,1,   -999.0,1, -999.000,9,-999.0000,9,-999.0000,9,-999.0000,9,-999.0000,9, 27.708, 32.343, 36.874, 41.302, 45.630
33RO20110828,   A10,    73,  1,      7,    007,2,20000101,0000,-29.9984, -27.7289, 4423,   2142.5,   2.7237,  34.8246,2,  34.8267,2,  34.9909,2,    224.9,2,    224.8,2,    48.11,2,    24.98,2,     0.01,2,     1.74,2,    0.019,2,    0.010,2,    0.181,3,   2205.1,2,   2327.6,2,   -999.0,9,  -999.00,   7.6502,2,    25.48,    0.000,2,   -999.0,9,   -999.0,9, -999.000,9,-999.0000,9,-999.0000,9,-999.0000,9,-999.0000,9, 27.786, 32.423, 36.955, 41.385, 45.715
33RO20110828,   A10,    73,  1,      6,    006,2,20000101,0000,-29.9984, -27.7289, 4423,   2489.7,   2.7513,  34.8773,2,  34.8798,2,  35.0443,2,    238.8,2,    238.9,2,    40.69,2,    22.74,2,     0.01,2,     1.55,2,    0.008,2,    0.007,2,    0.119,3,   2191.3,2,   2325.5,2,   -999.0,9,  -999.00,   7.6780,2,    25.52,    0.052,2,   -999.0,1,   -999.0,1, -999.000,9,-999.0000,9,-999.0000,9,-999.0000,9,-999.0000,9, 27.829, 32.465, 36.998, 41.427, 45.757
33RO20110828,   A10,    73,  1,      5,    005,2,20000101,0000,-29.9984, -27.7289, 4423,   2888.7,   2.7129,  34.9027,2,  34.9036,6,  35.0682,6,    247.4,2,    247.3,2,    37.28,2,    21.47,2,     0.01,2,     1.45,2,    0.006,2,    0.004,2,    0.108,3,   2183.6,2,   2324.2,2,   -999.0,9,  -999.00,   7.6873,2,    25.47,    0.000,2,   -999.0,1,   -999.0,1, -999.000,9,-999.0000,9,-999.0000,9,-999.0000,9,-999.0000,9, 27.854, 32.492, 37.026, 41.458, 45.789
33RO20110828,   A10,    73,  1,      4,    004,2,20000101,0000,-29.9984, -27.7289, 4423,   3290.1,   2.4755,  34.8886,2,  34.8894,2,  35.0539,2,    247.5,2,    248.3,2,    43.81,2,    22.05,2,     0.01,2,     1.53,2,    0.009,2,    0.006,2,    0.137,3,   2190.0,2,   2329.1,2,   -999.0,9,  -999.00,   7.6838,2,    25.51,    0.000,2,   -999.0,1,   -999.0,1, -999.000,9,-999.0000,9,-999.0000,9,-999.0000,9,-999.0000,9, 27.866, 32.512, 37.054, 41.493, 45.831
33RO20110828,   A10,    73,  1,      3,    003,2,20000101,0000,-29.9984, -27.7289, 4423,   3791.3,   1.7544,  34.8139,2,  34.8139,2,  34.9781,2,    235.9,2,    235.5,2,    72.70,2,    25.76,2,     0.01,2,     1.96,2,    0.038,2,    0.021,2,    0.174,3,   2219.2,2,   2342.4,2,   -999.0,9,  -999.00,   7.6404,2,    25.51,    0.116,2,   -999.0,1,   -999.0,1, -999.000,9,-999.0000,9,-999.0000,9,-999.0000,9,-999.0000,9, 27.864, 32.532, 37.095, 41.555, 45.913
33RO20110828,   A10,    73,  1,      2,    002,2,20000101,0000,-29.9984, -27.7289, 4423,   4290.7,   1.1825,  34.7490,2,  34.7514,2,  34.9153,2,    224.1,2,    224.4,2,    98.27,2,    29.18,2,     0.01,2,     2.34,2,    0.107,2,    0.052,2,    0.396,3,   2244.2,2,   2354.8,2,   -999.0,9,  -999.00,   7.6176,2,    25.32,    0.074,2,   -999.0,1,   -999.0,1, -999.000,9,-999.0000,9,-999.0000,9,-999.0000,9,-999.0000,9, 27.856, 32.542, 37.122, 41.599, 45.973
33RO20110828,   A10,    73,  1,      1,    001,2,20000101,0000,-29.9984, -27.7289, 4423,   4453.5,   1.1411,  34.7427,2,  34.7441,2,  34.9079,2,    223.2,2,    223.2,2,   100.72,2,    29.47,2,     0.01,2,     2.38,2,    0.123,2,    0.060,2,    0.411,3,   2247.9,6,   2356.8,2,   -999.0,9,  -999.00,   7.6179,2,    25.35,    0.056,2,   -999.0,1,   -999.0,1, -999.000,9,-999.0000,9,-999.0000,9,-999.0000,9,-999.0000,9, 27.854, 32.541, 37.124, 41.602, 45.978