BOTTLE,20130715NOAA
EXPOCODE,SECT_ID,STNNBR,CASTNO,SAMPNO,BTLNBR,BTLNBR_FLAG_W,DATE,TIME,LATITUDE,LONGITUDE,DEPTH,CTDPRS,CTDTMP,CTDSAL,CTDSAL_FLAG_W,SALNTY,SALNTY_FLAG_W,SALTREF,SALTREF_FLAG_W,CTDOXY,CTDOXY_FLAG_W,OXYGEN,OXYGEN_FLAG_W,SILCAT,SILCAT_FLAG_W,NITRAT,NITRAT_FLAG_W,NITRIT,NITRIT_FLAG_W,PHSPHT,PHSPHT_FLAG_W,CFC-11,CFC-11_FLAG_W,CFC-12,CFC-12_FLAG_W,CCL4,CCL4_FLAG_W,TCARBN,TCARBN_FLAG_W,ALKALI,ALKALI_FLAG_W,PCO2,PCO2_FLAG_W,PCO2TMP,PH_TOT,PH_TOT_FLAG_W,PH_TMP,SF6,SF6_FLAG_W,DOC,DOC_FLAG_W,TDN,TDN_FLAG_W,TRITUM,TRITUM_FLAG_W,HELIUM,HELIUM_FLAG_W,OXY_18,OXY_18_FLAG_W,BLACKC,BLACKC_FLAG_W,PIGMENTS,PIGMENTS_FLAG_W,SIGMA-THETA,SIGMA-1,SIGMA-2,SIGMA-3,SIGMA-4
,,,,,,,,,,,METERS,DBARS,ITS-90,PSS-78,,PSS-78,,G/KG,,UMOL/KG,,UMOL/KG,,UMOL/KG,,UMOL/KG,,UMOL/KG,,UMOL/KG,,PMOL/KG,,PMOL/KG,,PMOL/KG,,UMOL/KG,,UMOL/KG,,UATM@T,,DEG_C,,,DEG_C,FMOL/KG,,UMOL/KG,,UMOL/KG,,TU,,NMOL/KG,,,,,,,,,,,,
33RO20110828,   A10,     5,  1,     24,    024,2,20000101,0000,-29.0655,  13.5492, 2175,      4.3,  15.3326,  35.2029,2,  35.2048,2,  35.3708,2,    255.7,2,    256.6,2,     4.49,2,     3.81,2,     0.19,2,     0.45,2,    2.700,2,    1.606,2,    3.395,2,   2079.3,6,   2321.1,2,   -999.0,9,  -999.00,   7.9125,2,    25.21,    1.604,2,   -999.0,1,   -999.0,1, -999.000,9,-999.0000,9,-999.0000,9,-999.0000,9,-999.0000,1, 26.056, 30.405, 34.657, 38.816, 42.885
33RO20110828,   A10,     5,  1,     23,    023,2,20000101,0000,-29.0655,  13.5492, 2175,     29.9,  15.2028,  35.2082,2,  35.2122,2,  35.3783,2,    255.7,2,    256.3,2,     4.39,2,     3.81,2,     0.19,2,     0.44,2,    2.682,2,    1.602,2,    3.300,2,   2077.5,2,   2320.8,3,   -999.0,9,  -999.00,   7.8802,2,    25.19,    1.578,2,   -999.0,1,   -999.0,1, -999.000,9,-999.0000,9,-999.0000,9,-999.0000,9,-999.0000,1, 26.092, 30.443, 34.697, 38.859, 42.930
33RO20110828,   A10,     5,  1,     22,    022,2,20000101,0000,-29.0655,  13.5492, 2175,     72.8,  14.7288,  35.2950,2,  35.2966,2,  35.4630,2,    230.9,2,    231.0,2,     3.80,2,     6.15,2,     0.13,2,     0.60,2,    2.689,2,    1.598,2,    2.271,2,   2097.1,2,   2319.7,2,   -999.0,9,  -999.00,   7.8695,2,    25.27,    1.503,2,   -999.0,1,   -999.0,1, -999.000,9,-999.0000,9,-999.0000,9,-999.0000,9,-999.0000,1, 26.262, 30.622, 34.884, 39.053, 43.131
33RO20110828,   A10,     5,  1,     21,    021,2,20000101,0000,-29.0655,  13.5492, 2175,     98.2,  14.0113,  35.2482,2,  35.2511,2,  35.4173,2,    214.5,2,    215.3,2,     4.10,2,     8.00,2,     0.06,2,     0.72,2,    2.758,2,    1.615,2,    1.349,2,   2109.5,2,   2318.8,2,   -999.0,9,  -999.00,   7.8436,2,    25.33,    1.392,2,   -999.0,1,   -999.0,1, -999.000,9,-999.0000,9,-999.0000,9,-999.0000,9,-999.0000,9, 26.382, 30.755, 35.031, 39.213, 43.303
33RO20110828,   A10,     5,  1,     20,    020,2,20000101,0000,-29.0655,  13.5492, 2175,    124.7,  13.2708,  35.1758,2,  35.1815,2,  35.3474,2,    213.4,2,    219.5,2,     3.12,2,     8.10,2,     0.04,2,     0.73,2,    2.897,2,    1.690,2,    1.268,2,   2113.1,2,   2312.3,2,   -999.0,9,  -999.00,   7.8394,2,    22.13,    1.415,2,   -999.0,1,   -999.0,1, -999.000,9,-999.0000,9,-999.0000,9,-999.0000,9,-999.0000,9, 26.482, 30.870, 35.160, 39.356, 43.459
33RO20110828,   A10,     5,  1,     19,    019,2,20000101,0000,-29.0655,  13.5492, 2175,    147.9,  12.7289,  35.0953,2,  35.0987,2,  35.2642,2,    215.1,2,    208.1,2,     4.29,2,    10.73,2,     0.04,2,     0.89,2,    2.939,2,    1.705,2,    1.174,2,   2125.2,2,   2307.8,2,   -999.0,9,  -999.00,   7.8024,2,    22.52,    1.396,2,   -999.0,1,   -999.0,1, -999.000,9,-999.0000,9,-999.0000,9,-999.0000,9,-999.0000,9, 26.528, 30.926, 35.227, 39.433, 43.547
33RO20110828,   A10,     5,  1,     18,    018,2,20000101,0000,-29.0655,  13.5492, 2175,    202.1,  11.6207,  34.9746,2,  34.9793,2,  35.1443,2,    197.4,2,    191.5,2,     6.73,2,    14.93,2,     0.03,2,     1.20,2,    3.004,2,    1.700,2,    1.178,2,   2144.6,2,   2300.9,3,   -999.0,9,  -999.00,   7.7442,2,    24.66,    1.214,2,   -999.0,1,   -999.0,1, -999.000,9,-999.0000,9,-999.0000,9,-999.0000,9,-999.0000,9, 26.650, 31.071, 35.395, 39.623, 43.758
33RO20110828,   A10,     5,  1,     17,    017,2,20000101,0000,-29.0655,  13.5492, 2175,    249.2,  10.6569,  34.8857,2,  34.8869,2,  35.0514,2,    147.4,2,    149.2,2,    11.52,2,    20.79,2,     0.02,2,     1.66,2,    2.808,2,    1.553,2,    1.085,2,   2182.0,2,   2299.1,2,   -999.0,9,  -999.00,   7.6452,3,    25.21,    0.964,2,   -999.0,1,   -999.0,1, -999.000,9,-999.0000,9,-999.0000,9,-999.0000,9,-999.0000,9, 26.754, 31.197, 35.540, 39.788, 43.941
33RO20110828,   A10,     5,  1,     16,    016,2,20000101,0000,-29.0655,  13.5492, 2175,    298.6,   9.7210,  34.7825,2,  34.7856,2,  34.9496,2,    149.7,2,    146.0,2,    13.76,2,    23.42,2,     0.02,2,     1.80,2,    2.741,2,    1.489,2,    1.179,2,   2190.4,2,   2294.6,2,   -999.0,9,  -999.00,   7.6096,3,    25.24,    0.873,2,   -999.0,1,   -999.0,1, -999.000,9,-999.0000,9,-999.0000,9,-999.0000,9,-999.0000,9, 26.838, 31.301, 35.664, 39.931, 44.104
33RO20110828,   A10,     5,  1,     15,    015,2,20000101,0000,-29.0655,  13.5492, 2175,    348.6,   9.2848,  34.7531,2,  34.7528,2,  34.9166,2,    116.3,2,    112.7,2,    16.20,2,    27.62,2,     0.01,2,     2.09,2,    2.360,2,    1.267,2,    0.995,2,   2214.8,3,   2287.7,2,   -999.0,9,  -999.00,   7.5378,3,    25.18,    0.693,2,   -999.0,1,   -999.0,1, -999.000,9,-999.0000,9,-999.0000,9,-999.0000,9,-999.0000,9, 26.885, 31.358, 35.731, 40.007, 44.189
33RO20110828,   A10,     5,  1,     14,    014,2,20000101,0000,-29.0655,  13.5492, 2175,    399.2,   8.4186,  34.6499,2,  34.6527,2,  34.8161,2,    138.7,2,    141.0,2,    16.11,2,    27.14,2,     0.01,2,     2.03,2,    2.492,2,    1.319,2,    1.290,2,   2201.9,2,   -999.0,5,   -999.0,9,  -999.00,   7.5734,3,    25.16,    0.718,2,   -999.0,1,   -999.0,1, -999.000,9,-999.0000,9,-999.0000,9,-999.0000,9,-999.0000,9, 26.944, 31.437, 35.830, 40.125, 44.325
33RO20110828,   A10,     5,  1,     13,    013,2,20000101,0000,-29.0655,  13.5492, 2175,    450.9,   7.5182,  34.5686,2,  34.5726,2,  34.7356,2,    135.2,2,    142.6,2,    17.96,2,    29.09,2,     0.02,2,     2.16,2,    2.272,2,    1.185,2,    1.371,2,   2206.0,2,   2287.8,3,   -999.0,9,  -999.00,   7.5540,3,    25.19,    0.625,2,   -999.0,1,   -999.0,1, -999.000,9,-999.0000,9,-999.0000,9,-999.0000,9,-999.0000,9, 27.015, 31.530, 35.943, 40.259, 44.478
33RO20110828,   A10,     5,  1,     12,    012,2,20000101,0000,-29.0655,  13.5492, 2175,    498.7,   6.1709,  34.3969,2,  34.3990,2,  34.5612,2,    209.2,2,    211.3,2,    17.28,2,    26.16,2,     0.01,2,     1.95,2,    3.061,2,    1.605,2,    2.479,2,   2172.8,6,   2285.3,2,   -999.0,9,  -999.00,   7.6421,2,    25.25,    0.843,2,   -999.0,1,   -999.0,1, -999.000,9,-999.0000,9,-999.0000,9,-999.0000,9,-999.0000,9, 27.062, 31.610, 36.056, 40.402, 44.652
33RO20110828,   A10,     5,  1,     11,    011,2,20000101,0000,-29.0655,  13.5492, 2175,    598.2,   4.9706,  34.3274,2,  34.3304,2,  34.4923,2,    215.6,2,    214.2,2,    23.43,2,    28.51,2,     0.01,2,     2.12,2,    2.815,2,    1.431,2,    2.682,2,   2182.4,2,   2289.8,2,   -999.0,9,  -999.00,   7.6233,2,    25.20,    0.686,2,   -999.0,1,   -999.0,1, -999.000,9,-999.0000,9,-999.0000,9,-999.0000,9,-999.0000,9, 27.153, 31.732, 36.208, 40.583, 44.860
33RO20110828,   A10,     5,  1,     10,    010,2,20000101,0000,-29.0655,  13.5492, 2175,    699.6,   4.3921,  34.3568,2,  34.3590,6,  34.5210,6,    192.5,2,    195.7,2,    31.73,2,    31.05,2,     0.00,2,     2.30,2,    1.977,2,    0.981,2,    2.073,2,   2202.0,2,   2239.9,3,   -999.0,9,  -999.00,   7.5867,2,    25.32,    0.472,2,   -999.0,1,   -999.0,1, -999.000,9,-999.0000,9,-999.0000,9,-999.0000,9,-999.0000,9, 27.241, 31.834, 36.324, 40.713, 45.004
33RO20110828,   A10,     5,  1,      9,    009,2,20000101,0000,-29.0655,  13.5492, 2175,    798.0,   4.1158,  34.4072,2,  34.4101,2,  34.5723,2,    177.6,2,    176.4,2,    37.78,2,    32.70,2,     0.00,2,     2.43,2,    1.126,2,    0.546,2,    1.254,2,   2218.3,2,   2291.8,2,   -999.0,9,  -999.00,   7.5576,2,    25.25,    0.206,2,   -999.0,1,   -999.0,1, -999.000,9,-999.0000,9,-999.0000,9,-999.0000,9,-999.0000,9, 27.311, 31.911, 36.408, 40.804, 45.101
33RO20110828,   A10,     5,  1,      8,    008,2,20000101,0000,-29.0655,  13.5492, 2175,    907.6,   3.7949,  34.4649,2,  34.4672,2,  34.6297,2,    173.1,2,    171.0,2,    42.76,2,    33.00,2,     0.00,2,     2.46,2,    0.563,2,    0.266,2,    0.701,2,   2224.0,2,   2306.4,2,   -999.0,9,  -999.00,   7.5516,2,    25.26,    0.105,2,   -999.0,1,   -999.0,1, -999.000,9,-999.0000,9,-999.0000,9,-999.0000,9,-999.0000,9, 27.390, 31.998, 36.503, 40.907, 45.211
33RO20110828,   A10,     5,  1,      7,    007,2,20000101,0000,-29.0655,  13.5492, 2175,   1029.3,   3.5632,  34.5108,2,  34.5138,2,  34.6765,2,    175.4,2,    173.6,2,    46.66,2,    32.41,2,     0.01,2,     2.43,2,    0.414,2,    0.194,2,    0.533,2,   2227.0,2,   2314.8,2,   -999.0,9,  -999.00,   7.5547,2,    25.33,    0.000,2,   -999.0,1,   -999.0,1, -999.000,9,-999.0000,9,-999.0000,9,-999.0000,9,-999.0000,9, 27.451, 32.065, 36.576, 40.985, 45.294
33RO20110828,   A10,     5,  1,      6,    006,2,20000101,0000,-29.0655,  13.5492, 2175,   1223.7,   3.3320,  34.6381,2,  34.6403,2,  34.8036,2,    183.0,2,    182.1,2,    48.41,2,    30.55,2,     0.00,2,     2.27,2,    0.150,2,    0.070,2,    0.238,2,   2224.7,2,   2320.4,2,   -999.0,9,  -999.00,-999.0000,9,  -999.00,    0.000,2,   -999.0,1,   -999.0,1, -999.000,9,-999.0000,9,-999.0000,9,-999.0000,9,-999.0000,9, 27.575, 32.195, 36.711, 41.125, 45.440
33RO20110828,   A10,     5,  1,      5,    005,2,20000101,0000,-29.0655,  13.5492, 2175,   1439.0,   3.2307,  34.7442,2,  34.7464,2,  34.9103,2,    194.9,2,    194.8,2,    45.78,2,    27.91,2,     0.01,2,     2.08,2,    0.053,2,    0.026,2,    0.097,2,   2218.3,2,   2322.2,2,   -999.0,9,  -999.00,   7.6075,2,    25.28,    0.000,2,   -999.0,1,   -999.0,1, -999.000,9,-999.0000,9,-999.0000,9,-999.0000,9,-999.0000,9, 27.671, 32.293, 36.811, 41.228, 45.544
33RO20110828,   A10,     5,  1,      4,    004,2,20000101,0000,-29.0655,  13.5492, 2175,   1680.0,   3.1933,  34.8228,2,  34.8255,2,  34.9897,2,    209.7,2,    210.8,2,    40.89,2,    25.47,2,     0.01,2,     1.89,2,    0.018,2,    0.010,2,    0.046,2,   2205.0,2,   2320.2,2,   -999.0,9,  -999.00,   7.6469,2,    25.32,    0.000,2,   -999.0,1,   -999.0,1, -999.000,9,-999.0000,9,-999.0000,9,-999.0000,9,-999.0000,9, 27.740, 32.363, 36.882, 41.299, 45.616
33RO20110828,   A10,     5,  1,      3,    003,2,20000101,0000,-29.0655,  13.5492, 2175,   1927.5,   3.0986,  34.8602,2,  34.8628,2,  35.0272,2,    219.6,2,    220.1,2,    39.43,2,    24.11,2,     0.01,2,     1.79,2,    0.009,2,    0.005,2,    0.030,2,   2199.5,2,   2310.6,2,   -999.0,9,  -999.00,   7.6656,2,    25.30,    0.000,2,   -999.0,1,   -999.0,1, -999.000,9,-999.0000,9,-999.0000,9,-999.0000,9,-999.0000,9, 27.780, 32.406, 36.928, 41.348, 45.668
33RO20110828,   A10,     5,  1,      2,    002,2,20000101,0000,-29.0655,  13.5492, 2175,   2198.7,   2.9270,  34.8721,2,  34.8752,2,  35.0397,2,    225.7,2,    226.4,2,    41.28,2,    23.52,2,     0.01,2,     1.73,2,    0.007,2,    0.005,2,    0.023,2,   2197.1,2,   2315.8,2,   -999.0,9,  -999.00,   7.6695,2,    25.36,    0.000,2,   -999.0,1,   -999.0,1, -999.000,9,-999.0000,9,-999.0000,9,-999.0000,9,-999.0000,9, 27.808, 32.439, 36.966, 41.390, 45.715
33RO20110828,   A10,     5,  1,      1,    001,2,20000101,0000,-29.0655,  13.5492, 2175,   2466.9,   2.7354,  34.8737,2,  34.8802,2,  35.0446,2,    228.8,2,    227.8,2,    45.28,2,    23.23,2,     0.01,2,     1.73,2,    0.006,2,    0.004,2,    0.034,2,   2201.2,6,   2331.9,2,   -999.0,9,  -999.00,   7.6925,2,    25.24,    0.000,2,   -999.0,1,   -999.0,1, -999.000,9,-999.0000,9,-999.0000,9,-999.0000,9,-999.0000,9, 27.830, 32.467, 37.000, 41.430, 45.760