BOTTLE,20130715NOAA
EXPOCODE,SECT_ID,STNNBR,CASTNO,SAMPNO,BTLNBR,BTLNBR_FLAG_W,DATE,TIME,LATITUDE,LONGITUDE,DEPTH,CTDPRS,CTDTMP,CTDSAL,CTDSAL_FLAG_W,SALNTY,SALNTY_FLAG_W,SALTREF,SALTREF_FLAG_W,CTDOXY,CTDOXY_FLAG_W,OXYGEN,OXYGEN_FLAG_W,SILCAT,SILCAT_FLAG_W,NITRAT,NITRAT_FLAG_W,NITRIT,NITRIT_FLAG_W,PHSPHT,PHSPHT_FLAG_W,CFC-11,CFC-11_FLAG_W,CFC-12,CFC-12_FLAG_W,CCL4,CCL4_FLAG_W,TCARBN,TCARBN_FLAG_W,ALKALI,ALKALI_FLAG_W,PCO2,PCO2_FLAG_W,PCO2TMP,PH_TOT,PH_TOT_FLAG_W,PH_TMP,SF6,SF6_FLAG_W,DOC,DOC_FLAG_W,TDN,TDN_FLAG_W,TRITUM,TRITUM_FLAG_W,HELIUM,HELIUM_FLAG_W,OXY_18,OXY_18_FLAG_W,BLACKC,BLACKC_FLAG_W,PIGMENTS,PIGMENTS_FLAG_W,SIGMA-THETA,SIGMA-1,SIGMA-2,SIGMA-3,SIGMA-4
,,,,,,,,,,,METERS,DBARS,ITS-90,PSS-78,,PSS-78,,G/KG,,UMOL/KG,,UMOL/KG,,UMOL/KG,,UMOL/KG,,UMOL/KG,,UMOL/KG,,PMOL/KG,,PMOL/KG,,PMOL/KG,,UMOL/KG,,UMOL/KG,,UATM@T,,DEG_C,,,DEG_C,FMOL/KG,,UMOL/KG,,UMOL/KG,,TU,,NMOL/KG,,,,,,,,,,,,
33RO20110828,   A10,    90,  1,     23,    023,2,20000101,0000,-30.0028, -36.5339, 1858,      6.0,  18.8949,  36.1943,2,  36.1946,2,  36.3653,2,    232.2,2,    232.8,2,     0.58,2,     0.00,2,     0.01,2,     0.02,2, -999.000,9, -999.000,9, -999.000,9,   -999.0,9,   2366.1,2,   -999.0,9,  -999.00,   7.9434,2,    25.57, -999.000,9,   -999.0,9,   -999.0,9, -999.000,9,-999.0000,9,-999.0000,9,-999.0000,9,-999.0000,1, 25.962, 30.244, 34.431, 38.528, 42.536
33RO20110828,   A10,    90,  1,     24,    024,2,20000101,0000,-30.0028, -36.5339, 1858,      6.2,  18.8950,  36.1944,2,  36.1945,2,  36.3651,2,    232.2,2,    232.7,2,     0.68,2,     0.00,2,     0.01,2,     0.02,2, -999.000,9, -999.000,9, -999.000,9,   2077.0,6,   -999.0,9,   -999.0,9,  -999.00,-999.0000,9,  -999.00, -999.000,9,   -999.0,9,   -999.0,9, -999.000,9,-999.0000,9,-999.0000,9,-999.0000,9,-999.0000,9, 25.962, 30.243, 34.431, 38.528, 42.536
33RO20110828,   A10,    90,  1,     22,    022,2,20000101,0000,-30.0028, -36.5339, 1858,     14.5,  18.8975,  36.1925,2,  36.1962,2,  36.3669,2,    232.5,2,    231.6,2,     0.68,2,     0.00,2,     0.01,2,     0.02,2, -999.000,9, -999.000,9, -999.000,9,   -999.0,9,   2369.6,2,   -999.0,9,  -999.00,   7.9354,2,    25.66, -999.000,9,   -999.0,9,   -999.0,9, -999.000,9,-999.0000,9,-999.0000,9,-999.0000,9,-999.0000,9, 25.963, 30.244, 34.432, 38.529, 42.537
33RO20110828,   A10,    90,  1,     21,    021,2,20000101,0000,-30.0028, -36.5339, 1858,     35.3,  18.8901,  36.1904,2,  36.1934,2,  36.3641,2,    233.5,2,    233.1,2,     0.68,2,     0.00,2,     0.01,2,     0.03,2, -999.000,9, -999.000,9, -999.000,9,   -999.0,9,   2368.1,2,   -999.0,9,  -999.00,   7.9694,2,    25.64, -999.000,9,   -999.0,9,   -999.0,9, -999.000,9,-999.0000,9,-999.0000,9,-999.0000,9,-999.0000,9, 25.964, 30.245, 34.433, 38.530, 42.538
33RO20110828,   A10,    90,  1,     20,    020,2,20000101,0000,-30.0028, -36.5339, 1858,     64.8,  18.1363,  36.0014,2,  36.0010,2,  36.1707,2,    237.3,2,    236.7,2,     0.59,2,     0.10,2,     0.01,2,     0.05,2, -999.000,9, -999.000,9, -999.000,9,   2074.2,2,   2353.6,2,   -999.0,9,  -999.00,   7.9307,2,    25.68, -999.000,9,   -999.0,9,   -999.0,9, -999.000,9,-999.0000,9,-999.0000,9,-999.0000,9,-999.0000,9, 26.008, 30.303, 34.504, 38.613, 42.634
33RO20110828,   A10,    90,  1,     19,    019,2,20000101,0000,-30.0028, -36.5339, 1858,    109.2,  17.3974,  35.9166,2,  35.9166,2,  36.0859,2,    231.0,2,    231.8,2,     0.88,2,     0.68,2,     0.08,2,     0.11,2, -999.000,9, -999.000,9, -999.000,9,   -999.0,9,   2349.1,2,   -999.0,9,  -999.00,   7.9258,2,    25.64, -999.000,9,   -999.0,9,   -999.0,9, -999.000,9,-999.0000,9,-999.0000,9,-999.0000,9,-999.0000,1, 26.127, 30.435, 34.648, 38.770, 42.802
33RO20110828,   A10,    90,  1,     18,    018,2,20000101,0000,-30.0028, -36.5339, 1858,    148.0,  17.1568,  35.8747,2,  35.8751,2,  36.0443,2,    229.4,2,    229.2,2,     0.98,2,     1.17,2,     0.10,2,     0.12,2, -999.000,9, -999.000,9, -999.000,9,   -999.0,9,   2347.2,2,   -999.0,9,  -999.00,   7.9095,2,    25.61, -999.000,9,   -999.0,9,   -999.0,9, -999.000,9,-999.0000,9,-999.0000,9,-999.0000,9,-999.0000,9, 26.154, 30.467, 34.685, 38.810, 42.847
33RO20110828,   A10,    90,  1,     17,    017,2,20000101,0000,-30.0028, -36.5339, 1858,    190.7,  15.9948,  35.6666,2,  35.6673,2,  35.8355,2,    210.7,2,    210.8,2,     1.76,2,     4.39,2,     0.02,2,     0.33,2, -999.000,9, -999.000,9, -999.000,9,   2105.4,2,   2333.7,2,   -999.0,9,  -999.00,   7.8870,2,    25.63, -999.000,9,   -999.0,9,   -999.0,9, -999.000,9,-999.0000,9,-999.0000,9,-999.0000,9,-999.0000,1, 26.269, 30.604, 34.842, 38.988, 43.043
33RO20110828,   A10,    90,  1,     16,    016,2,20000101,0000,-30.0028, -36.5339, 1858,    260.3,  14.3279,  35.4352,2,  35.4229,2,  35.5899,2,    211.7,2,    211.9,2,     2.54,2,     7.51,2,     0.01,2,     0.49,2, -999.000,9, -999.000,9, -999.000,9,   -999.0,9,   2322.2,2,   -999.0,9,  -999.00,   7.8406,2,    25.67, -999.000,9,   -999.0,9,   -999.0,9, -999.000,9,-999.0000,9,-999.0000,9,-999.0000,9,-999.0000,9, 26.453, 30.819, 35.088, 39.264, 43.348
33RO20110828,   A10,    90,  1,     15,    015,2,20000101,0000,-30.0028, -36.5339, 1858,    311.2,  13.6159,  35.3205,2,  35.3218,2,  35.4883,2,    212.1,2,    210.9,2,     2.93,2,     8.97,2,     0.01,2,     0.57,2, -999.000,9, -999.000,9, -999.000,9,   -999.0,9,   2317.6,2,   -999.0,9,  -999.00,   7.8191,2,    25.66, -999.000,9,   -999.0,9,   -999.0,9, -999.000,9,-999.0000,9,-999.0000,9,-999.0000,9,-999.0000,9, 26.525, 30.906, 35.189, 39.378, 43.476
33RO20110828,   A10,    90,  1,     14,    014,2,20000101,0000,-30.0028, -36.5339, 1858,    408.7,  11.9524,  35.0796,2,  35.0799,2,  35.2453,2,    209.3,2,    210.7,2,     4.29,2,    12.78,2,     0.01,2,     0.78,2, -999.000,9, -999.000,9, -999.000,9,   -999.0,9,   2306.9,2,   -999.0,9,  -999.00,   7.7740,2,    25.65, -999.000,9,   -999.0,9,   -999.0,9, -999.000,9,-999.0000,9,-999.0000,9,-999.0000,9,-999.0000,9, 26.671, 31.085, 35.402, 39.624, 43.752
33RO20110828,   A10,    90,  1,     13,    013,2,20000101,0000,-30.0028, -36.5339, 1858,    462.4,  11.3477,  34.9944,2,  34.9957,2,  35.1607,2,    209.1,2,    209.0,2,     4.98,2,    14.15,2,     0.01,2,     0.83,2, -999.000,9, -999.000,9, -999.000,9,   -999.0,9,   2303.0,2,   -999.0,9,  -999.00,   7.7596,2,    25.62, -999.000,9,   -999.0,9,   -999.0,9, -999.000,9,-999.0000,9,-999.0000,9,-999.0000,9,-999.0000,9, 26.719, 31.147, 35.477, 39.710, 43.851
33RO20110828,   A10,    90,  1,     12,    012,2,20000101,0000,-30.0028, -36.5339, 1858,    510.8,  10.0018,  34.8095,2,  34.8163,2,  34.9804,2,    206.6,2,    205.9,2,     6.93,2,    17.66,2,     0.01,2,     1.04,2, -999.000,9, -999.000,9, -999.000,9,   2144.5,2,   2294.3,2,   -999.0,9,  -999.00,   7.7227,2,    25.64, -999.000,9,   -999.0,9,   -999.0,9, -999.000,9,-999.0000,9,-999.0000,9,-999.0000,9,-999.0000,9, 26.818, 31.276, 35.634, 39.896, 44.063
33RO20110828,   A10,    90,  1,     11,    011,2,20000101,0000,-30.0028, -36.5339, 1858,    610.0,   8.3471,  34.6154,2,  34.6193,2,  34.7826,2,    208.8,2,    208.6,2,    10.15,2,    21.57,2,     0.01,2,     1.27,2, -999.000,9, -999.000,9, -999.000,9,   -999.0,9,   2287.2,2,   -999.0,9,  -999.00,   7.6884,2,    25.65, -999.000,9,   -999.0,9,   -999.0,9, -999.000,9,-999.0000,9,-999.0000,9,-999.0000,9,-999.0000,9, 26.932, 31.428, 35.823, 40.120, 44.322
33RO20110828,   A10,    90,  1,     10,    010,2,20000101,0000,-30.0028, -36.5339, 1858,    710.9,   6.9852,  34.4697,2,  34.4716,2,  34.6342,2,    214.8,2,    214.8,2,    12.88,2,    24.31,2,     0.01,2,     1.44,2, -999.000,9, -999.000,9, -999.000,9,   -999.0,9,   2283.2,2,   -999.0,9,  -999.00,   7.6524,2,    25.63, -999.000,9,   -999.0,9,   -999.0,9, -999.000,9,-999.0000,9,-999.0000,9,-999.0000,9,-999.0000,9, 27.014, 31.542, 35.970, 40.298, 44.529
33RO20110828,   A10,    90,  1,      9,    009,2,20000101,0000,-30.0028, -36.5339, 1858,    810.3,   5.4687,  34.3411,2,  34.3412,2,  34.5032,2,    223.4,2,    224.6,2,    17.57,2,    27.14,2,     0.01,2,     1.62,2, -999.000,9, -999.000,9, -999.000,9,   -999.0,9,   2283.0,2,   -999.0,9,  -999.00,   7.6325,2,    25.62, -999.000,9,   -999.0,9,   -999.0,9, -999.000,9,-999.0000,9,-999.0000,9,-999.0000,9,-999.0000,9, 27.106, 31.672, 36.137, 40.501, 44.767
33RO20110828,   A10,    90,  1,      8,    008,2,20000101,0000,-30.0028, -36.5339, 1858,    908.0,   4.4114,  34.3076,2,  34.3090,2,  34.4707,2,    221.4,2,    221.3,2,    25.48,2,    29.29,2,     0.01,2,     1.81,2, -999.000,9, -999.000,9, -999.000,9,   2184.5,2,   2124.1,4,   -999.0,9,  -999.00,   7.6044,2,    25.57, -999.000,9,   -999.0,9,   -999.0,9, -999.000,9,-999.0000,9,-999.0000,9,-999.0000,9,-999.0000,9, 27.201, 31.794, 36.285, 40.674, 44.965
33RO20110828,   A10,    90,  1,      7,    007,2,20000101,0000,-30.0028, -36.5339, 1858,   1008.9,   3.9259,  34.3171,2,  34.3176,2,  34.4794,2,    214.2,2,    214.4,2,    31.63,2,    30.85,2,     0.01,2,     1.91,2, -999.000,9, -999.000,9, -999.000,9,   -999.0,9,   2289.0,2,   -999.0,9,  -999.00,   7.5993,2,    25.63, -999.000,9,   -999.0,9,   -999.0,9, -999.000,9,-999.0000,9,-999.0000,9,-999.0000,9,-999.0000,9, 27.259, 31.865, 36.368, 40.769, 45.072
33RO20110828,   A10,    90,  1,      6,    006,2,20000101,0000,-30.0028, -36.5339, 1858,   1150.7,   3.5411,  34.3637,2,  34.3645,2,  34.5265,2,    204.3,2,    203.8,2,    39.73,2,    32.02,2,     0.01,2,     2.05,2, -999.000,9, -999.000,9, -999.000,9,   -999.0,9,   2297.4,2,   -999.0,9,  -999.00,   7.5702,2,    25.62, -999.000,9,   -999.0,9,   -999.0,9, -999.000,9,-999.0000,9,-999.0000,9,-999.0000,9,-999.0000,9, 27.335, 31.951, 36.464, 40.875, 45.186
33RO20110828,   A10,    90,  1,      5,    005,2,20000101,0000,-30.0028, -36.5339, 1858,   1303.1,   3.1762,  34.4534,2,  34.4548,6,  34.6173,6,    195.3,2,    195.9,2,    48.32,2,    32.41,2,     0.01,2,     2.14,2, -999.000,9, -999.000,9, -999.000,9,   -999.0,9,   2306.7,2,   -999.0,9,  -999.00,   7.5651,2,    25.60, -999.000,9,   -999.0,9,   -999.0,9, -999.000,9,-999.0000,9,-999.0000,9,-999.0000,9,-999.0000,9, 27.441, 32.067, 36.588, 41.008, 45.328
33RO20110828,   A10,    90,  1,      4,    004,2,20000101,0000,-30.0028, -36.5339, 1858,   1400.1,   3.0480,  34.5162,2,  34.5189,2,  34.6816,2,    190.3,2,    190.4,2,    52.51,2,    32.41,2,     0.01,2,     2.16,2, -999.000,9, -999.000,9, -999.000,9,   2227.6,2,   2312.5,2,   -999.0,9,  -999.00,   7.5651,2,    25.62, -999.000,9,   -999.0,9,   -999.0,9, -999.000,9,-999.0000,9,-999.0000,9,-999.0000,9,-999.0000,9, 27.506, 32.134, 36.659, 41.082, 45.405
33RO20110828,   A10,    90,  1,      3,    003,2,20000101,0000,-30.0028, -36.5339, 1858,   1550.9,   2.9411,  34.5984,2,  34.5998,2,  34.7629,2,    190.9,2,    191.6,2,    54.76,2,    31.14,2,     0.01,2,     2.12,2, -999.000,9, -999.000,9, -999.000,9,   -999.0,9,   2319.9,2,   -999.0,9,  -999.00,   7.5727,2,    25.64, -999.000,9,   -999.0,9,   -999.0,9, -999.000,9,-999.0000,9,-999.0000,9,-999.0000,9,-999.0000,9, 27.581, 32.212, 36.740, 41.165, 45.490
33RO20110828,   A10,    90,  1,      2,    002,2,20000101,0000,-30.0028, -36.5339, 1858,   1700.9,   2.8779,  34.6763,2,  34.6770,2,  34.8405,2,    198.0,2,    198.2,2,    53.87,2,    29.57,2,     0.01,2,     2.02,2, -999.000,9, -999.000,9, -999.000,9,   -999.0,9,   2323.0,2,   -999.0,9,  -999.00,   7.5978,2,    25.67, -999.000,9,   -999.0,9,   -999.0,9, -999.000,9,-999.0000,9,-999.0000,9,-999.0000,9,-999.0000,9, 27.649, 32.282, 36.811, 41.237, 45.563
33RO20110828,   A10,    90,  1,      1,    001,2,20000101,0000,-30.0028, -36.5339, 1858,   1854.1,   2.8456,  34.7368,2,  34.7377,2,  34.9015,2,    206.0,2,    206.1,2,    51.92,2,    28.11,2,     0.01,2,     1.92,2, -999.000,9, -999.000,9, -999.000,9,   2215.4,2,   2324.8,2,   -999.0,9,  -999.00,   7.6362,2,    25.62, -999.000,9,   -999.0,9,   -999.0,9, -999.000,9,-999.0000,9,-999.0000,9,-999.0000,9,-999.0000,9, 27.702, 32.335, 36.865, 41.292, 45.619