BOTTLE,20130715NOAA
EXPOCODE,SECT_ID,STNNBR,CASTNO,SAMPNO,BTLNBR,BTLNBR_FLAG_W,DATE,TIME,LATITUDE,LONGITUDE,DEPTH,CTDPRS,CTDTMP,CTDSAL,CTDSAL_FLAG_W,SALNTY,SALNTY_FLAG_W,SALTREF,SALTREF_FLAG_W,CTDOXY,CTDOXY_FLAG_W,OXYGEN,OXYGEN_FLAG_W,SILCAT,SILCAT_FLAG_W,NITRAT,NITRAT_FLAG_W,NITRIT,NITRIT_FLAG_W,PHSPHT,PHSPHT_FLAG_W,CFC-11,CFC-11_FLAG_W,CFC-12,CFC-12_FLAG_W,CCL4,CCL4_FLAG_W,TCARBN,TCARBN_FLAG_W,ALKALI,ALKALI_FLAG_W,PCO2,PCO2_FLAG_W,PCO2TMP,PH_TOT,PH_TOT_FLAG_W,PH_TMP,SF6,SF6_FLAG_W,DOC,DOC_FLAG_W,TDN,TDN_FLAG_W,TRITUM,TRITUM_FLAG_W,HELIUM,HELIUM_FLAG_W,OXY_18,OXY_18_FLAG_W,BLACKC,BLACKC_FLAG_W,PIGMENTS,PIGMENTS_FLAG_W,SIGMA-THETA,SIGMA-1,SIGMA-2,SIGMA-3,SIGMA-4
,,,,,,,,,,,METERS,DBARS,ITS-90,PSS-78,,PSS-78,,G/KG,,UMOL/KG,,UMOL/KG,,UMOL/KG,,UMOL/KG,,UMOL/KG,,UMOL/KG,,PMOL/KG,,PMOL/KG,,PMOL/KG,,UMOL/KG,,UMOL/KG,,UATM@T,,DEG_C,,,DEG_C,FMOL/KG,,UMOL/KG,,UMOL/KG,,TU,,NMOL/KG,,,,,,,,,,,,
33RO20110828,   A10,   108,  1,     24,    024,2,20000101,0000,-28.7434, -43.9457, 3834,      4.8,  21.0744,  36.5241,2,  36.4030,4,  36.5747,4,    217.5,2,    223.4,2,     0.97,2,     0.00,2,     0.00,2,     0.05,2, -999.000,9, -999.000,9, -999.000,9,   2086.6,6,   2394.0,2,   -999.0,9,  -999.00,   7.9714,2,    24.15, -999.000,9,   -999.0,9,   -999.0,9, -999.000,9,-999.0000,9,-999.0000,9,-999.0000,9,-999.0000,1, 25.635, 29.881, 34.034, 38.097, 42.073
33RO20110828,   A10,   108,  1,     23,    023,2,20000101,0000,-28.7434, -43.9457, 3834,     49.3,  20.9408,  36.5567,2,  36.5525,2,  36.7249,2,    216.6,2,    222.6,2,     1.07,2,     0.10,2,     0.02,2,     0.06,2, -999.000,9, -999.000,9, -999.000,9,   2088.3,2,   2396.7,2,   -999.0,9,  -999.00,   7.9666,2,    25.61, -999.000,9,   -999.0,9,   -999.0,9, -999.000,9,-999.0000,9,-999.0000,9,-999.0000,9,-999.0000,1, 25.695, 29.943, 34.098, 38.163, 42.141
33RO20110828,   A10,   108,  1,     22,    022,2,20000101,0000,-28.7434, -43.9457, 3834,    100.3,  18.7703,  36.2725,2,  36.2785,2,  36.4496,2,    216.1,2,    221.6,2,     0.88,2,     0.78,2,     0.05,2,     0.11,2, -999.000,9, -999.000,9, -999.000,9,   2094.0,2,   2379.4,2,   -999.0,9,  -999.00,   7.9320,2,    25.46, -999.000,9,   -999.0,9,   -999.0,9, -999.000,9,-999.0000,9,-999.0000,9,-999.0000,9,-999.0000,1, 26.062, 30.346, 34.535, 38.633, 42.643
33RO20110828,   A10,   108,  1,     21,    021,2,20000101,0000,-28.7434, -43.9457, 3834,    150.7,  17.1875,  35.9314,2,  35.9341,2,  36.1036,2,    210.3,2,    215.8,2,     1.56,2,     2.63,2,     0.02,2,     0.21,2, -999.000,9, -999.000,9, -999.000,9,   2099.2,2,   2359.2,2,   -999.0,9,  -999.00,   7.9157,2,    25.57, -999.000,9,   -999.0,9,   -999.0,9, -999.000,9,-999.0000,9,-999.0000,9,-999.0000,9,-999.0000,1, 26.193, 30.504, 34.721, 38.846, 42.881
33RO20110828,   A10,   108,  1,     20,    020,2,20000101,0000,-28.7434, -43.9457, 3834,    199.1,  15.8742,  35.6604,2,  35.6673,2,  35.8355,2,    201.0,2,    204.9,2,     2.15,2,     5.07,2,     0.01,2,     0.35,2, -999.000,9, -999.000,9, -999.000,9,   2111.0,2,   2342.8,2,   -999.0,9,  -999.00,   7.8707,2,    25.46, -999.000,9,   -999.0,9,   -999.0,9, -999.000,9,-999.0000,9,-999.0000,9,-999.0000,9,-999.0000,1, 26.297, 30.634, 34.874, 39.022, 43.079
33RO20110828,   A10,   108,  1,     19,    019,2,20000101,0000,-28.7434, -43.9457, 3834,    261.4,  14.9947,  35.5191,2,  35.5232,2,  35.6907,2,    199.3,2,    204.1,2,     2.63,2,     6.73,2,     0.01,2,     0.44,2, -999.000,9, -999.000,9, -999.000,9,   2118.5,2,   2334.4,2,   -999.0,9,  -999.00,   7.8410,2,    25.52, -999.000,9,   -999.0,9,   -999.0,9, -999.000,9,-999.0000,9,-999.0000,9,-999.0000,9,-999.0000,9, 26.385, 30.739, 34.996, 39.159, 43.232
33RO20110828,   A10,   108,  1,     18,    018,2,20000101,0000,-28.7434, -43.9457, 3834,    335.6,  13.6148,  35.3233,2,  35.3302,2,  35.4968,2,    202.9,2,    207.6,2,     3.22,2,     9.27,2,     0.00,2,     0.56,2, -999.000,9, -999.000,9, -999.000,9,   2125.1,2,   2324.0,2,   -999.0,9,  -999.00,   7.8205,2,    25.53, -999.000,9,   -999.0,9,   -999.0,9, -999.000,9,-999.0000,9,-999.0000,9,-999.0000,9,-999.0000,9, 26.533, 30.913, 35.197, 39.386, 43.483
33RO20110828,   A10,   108,  1,     17,    017,2,20000101,0000,-28.7434, -43.9457, 3834,    416.9,  12.1440,  35.1091,2,  35.1111,2,  35.2766,2,    204.1,2,    206.5,2,     4.49,2,    12.59,2,     0.00,2,     0.72,2, -999.000,9, -999.000,9, -999.000,9,   2133.8,2,   2315.1,2,   -999.0,9,  -999.00,   7.7817,2,    25.50, -999.000,9,   -999.0,9,   -999.0,9, -999.000,9,-999.0000,9,-999.0000,9,-999.0000,9,-999.0000,9, 26.658, 31.069, 35.382, 39.600, 43.725
33RO20110828,   A10,   108,  1,     16,    016,2,20000101,0000,-28.7434, -43.9457, 3834,    517.0,  10.1835,  34.8299,2,  34.8384,2,  35.0027,2,    198.7,2,    202.9,2,     7.03,2,    17.47,2,     0.00,2,     0.97,2, -999.000,9, -999.000,9, -999.000,9,   2146.5,2,   2301.3,2,   -999.0,9,  -999.00,   7.7297,2,    25.53, -999.000,9,   -999.0,9,   -999.0,9, -999.000,9,-999.0000,9,-999.0000,9,-999.0000,9,-999.0000,9, 26.805, 31.258, 35.613, 39.870, 44.034
33RO20110828,   A10,   108,  1,     15,    015,2,20000101,0000,-28.7434, -43.9457, 3834,    615.7,   8.1021,  34.5819,2,  34.5837,2,  34.7468,2,    202.0,2,    204.1,2,    10.54,2,    22.55,2,     0.00,2,     1.22,2, -999.000,9, -999.000,9, -999.000,9,   2160.0,2,   2291.7,2,   -999.0,9,  -999.00,   7.6719,2,    25.55, -999.000,9,   -999.0,9,   -999.0,9, -999.000,9,-999.0000,9,-999.0000,9,-999.0000,9,-999.0000,9, 26.941, 31.443, 35.844, 40.146, 44.353
33RO20110828,   A10,   108,  1,     14,    014,2,20000101,0000,-28.7434, -43.9457, 3834,    716.0,   6.4345,  34.4328,2,  34.4365,2,  34.5989,2,    203.4,2,    205.7,2,    15.72,2,    26.26,2,     0.00,2,     1.47,2, -999.000,9, -999.000,9, -999.000,9,   2174.2,2,   2288.6,2,   -999.0,9,  -999.00,   7.6345,2,    25.54, -999.000,9,   -999.0,9,   -999.0,9, -999.000,9,-999.0000,9,-999.0000,9,-999.0000,9,-999.0000,9, 27.060, 31.602, 36.042, 40.383, 44.626
33RO20110828,   A10,   108,  1,     13,    013,2,20000101,0000,-28.7434, -43.9457, 3834,    801.5,   5.3253,  34.3519,2,  34.3531,2,  34.5151,2,    210.8,2,    212.3,2,    20.21,2,    28.31,2,     0.00,2,     1.61,2, -999.000,9, -999.000,9, -999.000,9,   2180.1,2,   2292.4,3,   -999.0,9,  -999.00,   7.6178,2,    25.54, -999.000,9,   -999.0,9,   -999.0,9, -999.000,9,-999.0000,9,-999.0000,9,-999.0000,9,-999.0000,9, 27.132, 31.702, 36.170, 40.537, 44.806
33RO20110828,   A10,   108,  1,     12,    012,2,20000101,0000,-28.7434, -43.9457, 3834,    950.0,   4.3073,  34.3348,2,  34.3458,2,  34.5078,2,    206.4,2,    207.3,2,    29.58,2,    30.56,2,     0.00,2,     1.82,2, -999.000,9, -999.000,9, -999.000,9,   2195.7,2,   2295.2,2,   -999.0,9,  -999.00,   7.5820,2,    25.54, -999.000,9,   -999.0,9,   -999.0,9, -999.000,9,-999.0000,9,-999.0000,9,-999.0000,9,-999.0000,9, 27.241, 31.837, 36.330, 40.722, 45.015
33RO20110828,   A10,   108,  1,     11,    011,2,20000101,0000,-28.7434, -43.9457, 3834,   1050.4,   3.8399,  34.3668,2,  34.3660,2,  34.5281,2,    200.7,2,    200.7,2,    36.71,2,    31.83,2,     0.00,2,     1.94,2, -999.000,9, -999.000,9, -999.000,9,   2205.7,2,   2300.9,2,   -999.0,9,  -999.00,   7.5845,2,    25.55, -999.000,9,   -999.0,9,   -999.0,9, -999.000,9,-999.0000,9,-999.0000,9,-999.0000,9,-999.0000,9, 27.306, 31.914, 36.419, 40.823, 45.127
33RO20110828,   A10,   108,  1,     10,    010,2,20000101,0000,-28.7434, -43.9457, 3834,   1206.0,   3.4088,  34.4462,2,  34.4467,2,  34.6091,2,    189.3,2,    191.2,2,    45.69,2,    32.41,2,     0.00,2,     2.06,2, -999.000,9, -999.000,9, -999.000,9,   2219.4,2,   2313.0,2,   -999.0,9,  -999.00,   7.5632,2,    25.55, -999.000,9,   -999.0,9,   -999.0,9, -999.000,9,-999.0000,9,-999.0000,9,-999.0000,9,-999.0000,9, 27.413, 32.033, 36.548, 40.962, 45.276
33RO20110828,   A10,   108,  1,      9,    009,2,20000101,0000,-28.7434, -43.9457, 3834,   1426.3,   3.4051,  34.6054,2,  34.6077,2,  34.7709,2,    188.9,2,    189.4,2,    45.88,2,    30.75,2,     0.00,2,     1.97,2, -999.000,9, -999.000,9, -999.000,9,   2221.4,6,   2319.8,2,   -999.0,9,  -999.00,   7.5828,2,    25.57, -999.000,9,   -999.0,9,   -999.0,9, -999.000,9,-999.0000,9,-999.0000,9,-999.0000,9,-999.0000,9, 27.544, 32.163, 36.677, 41.091, 45.404
33RO20110828,   A10,   108,  1,      8,    008,2,20000101,0000,-28.7434, -43.9457, 3834,   1724.5,   3.8013,  34.8306,2,  34.8323,6,  34.9965,6,    209.2,2,    210.7,2,    31.72,2,    25.38,2,     0.00,2,     1.55,2,    0.135,2,    0.070,2,    0.392,3,   2198.2,2,   2318.2,2,   -999.0,9,  -999.00,   7.6307,2,    25.51,    0.000,2,   -999.0,9,   -999.0,9, -999.000,9,-999.0000,9,-999.0000,9,-999.0000,9,-999.0000,9, 27.686, 32.293, 36.797, 41.199, 45.502
33RO20110828,   A10,   108,  1,      7,    007,2,20000101,0000,-28.7434, -43.9457, 3834,   1950.0,   3.8218,  34.9171,2,  34.9180,2,  35.0826,2,    230.1,2,    230.1,2,    24.69,2,    22.25,2,     0.00,2,     1.33,2,    0.197,2,    0.100,2,    0.518,3,   2182.6,2,   2317.5,2,   -999.0,9,  -999.00,   7.6677,2,    25.55,    0.016,2,   -999.0,9,   -999.0,9, -999.000,9,-999.0000,9,-999.0000,9,-999.0000,9,-999.0000,9, 27.756, 32.362, 36.865, 41.267, 45.569
33RO20110828,   A10,   108,  1,      6,    006,2,20000101,0000,-28.7434, -43.9457, 3834,   2199.2,   3.6548,  34.9483,2,  34.9536,2,  35.1184,2,    243.1,2,    244.1,2,    22.35,2,    20.59,2,     0.00,2,     1.22,2,    0.250,2,    0.126,2,    0.612,3,   2175.0,2,   2316.8,2,   -999.0,9,  -999.00,   7.6912,2,    25.56,    0.055,2,   -999.0,9,   -999.0,9, -999.000,9,-999.0000,9,-999.0000,9,-999.0000,9,-999.0000,9, 27.803, 32.414, 36.922, 41.328, 45.634
33RO20110828,   A10,   108,  1,      5,    005,2,20000101,0000,-28.7434, -43.9457, 3834,   2450.1,   3.3442,  34.9447,2,  34.9459,2,  35.1107,2,    249.0,2,    249.7,2,    24.89,2,    20.10,2,     0.00,2,     1.22,2,    0.214,2,    0.108,2,    0.551,3,   2173.4,2,   2319.6,2,   -999.0,9,  -999.00,   7.7001,2,    25.54,    0.038,2,   -999.0,9,   -999.0,9, -999.000,9,-999.0000,9,-999.0000,9,-999.0000,9,-999.0000,9, 27.829, 32.449, 36.965, 41.379, 45.694
33RO20110828,   A10,   108,  1,      4,    004,2,20000101,0000,-28.7434, -43.9457, 3834,   2702.2,   3.0644,  34.9334,2,  34.9351,2,  35.0999,2,    250.5,2,    251.7,2,    28.69,2,    20.30,2,     0.00,2,     1.27,2,    0.142,2,    0.072,2,    0.422,3,   2176.5,2,   2323.6,2,   -999.0,9,  -999.00,   7.7003,2,    25.56,    0.000,2,   -999.0,9,   -999.0,9, -999.000,9,-999.0000,9,-999.0000,9,-999.0000,9,-999.0000,9, 27.848, 32.476, 37.000, 41.422, 45.744
33RO20110828,   A10,   108,  1,      3,    003,2,20000101,0000,-28.7434, -43.9457, 3834,   3051.3,   2.3854,  34.8869,2,  34.8885,2,  35.0530,2,    248.6,2,    249.6,2,    44.21,2,    21.96,2,     0.00,2,     1.51,2,    0.079,2,    0.041,2,    0.291,3,   2190.4,2,   2341.7,2,   -999.0,9,  -999.00,   7.6916,2,    25.54,    0.000,2,   -999.0,9,   -999.0,9, -999.000,9,-999.0000,9,-999.0000,9,-999.0000,9,-999.0000,9, 27.871, 32.519, 37.062, 41.502, 45.842
33RO20110828,   A10,   108,  1,      2,    002,2,20000101,0000,-28.7434, -43.9457, 3834,   3460.9,   0.8421,  34.7285,2,  34.7057,2,  34.8693,2,    221.4,2,    223.3,2,   106.79,2,    30.16,2,     0.00,2,     2.55,2,    0.201,2,    0.094,2,    0.389,3,   2250.3,2,   2361.1,2,   -999.0,9,  -999.00,   7.6068,2,    25.49,    0.074,2,   -999.0,9,   -999.0,9, -999.000,9,-999.0000,9,-999.0000,9,-999.0000,9,-999.0000,9, 27.835, 32.528, 37.116, 41.599, 45.981
33RO20110828,   A10,   108,  1,      1,    001,2,20000101,0000,-28.7434, -43.9457, 3834,   3825.0,   0.5491,  34.6984,2,  34.7027,2,  34.8664,2,    217.6,2,    220.7,2,   118.60,2,    31.72,2,     0.00,2,     2.74,2,    0.277,2,    0.131,2,    0.477,3,   2260.0,6,   2364.4,2,   -999.0,9,  -999.00,   7.5984,2,    25.51,    0.061,2,   -999.0,9,   -999.0,9, -999.000,9,-999.0000,9,-999.0000,9,-999.0000,9,-999.0000,9, 27.851, 32.554, 37.151, 41.643, 46.033