BOTTLE,20130715NOAA
EXPOCODE,SECT_ID,STNNBR,CASTNO,SAMPNO,BTLNBR,BTLNBR_FLAG_W,DATE,TIME,LATITUDE,LONGITUDE,DEPTH,CTDPRS,CTDTMP,CTDSAL,CTDSAL_FLAG_W,SALNTY,SALNTY_FLAG_W,SALTREF,SALTREF_FLAG_W,CTDOXY,CTDOXY_FLAG_W,OXYGEN,OXYGEN_FLAG_W,SILCAT,SILCAT_FLAG_W,NITRAT,NITRAT_FLAG_W,NITRIT,NITRIT_FLAG_W,PHSPHT,PHSPHT_FLAG_W,CFC-11,CFC-11_FLAG_W,CFC-12,CFC-12_FLAG_W,CCL4,CCL4_FLAG_W,TCARBN,TCARBN_FLAG_W,ALKALI,ALKALI_FLAG_W,PCO2,PCO2_FLAG_W,PCO2TMP,PH_TOT,PH_TOT_FLAG_W,PH_TMP,SF6,SF6_FLAG_W,DOC,DOC_FLAG_W,TDN,TDN_FLAG_W,TRITUM,TRITUM_FLAG_W,HELIUM,HELIUM_FLAG_W,OXY_18,OXY_18_FLAG_W,BLACKC,BLACKC_FLAG_W,PIGMENTS,PIGMENTS_FLAG_W,SIGMA-THETA,SIGMA-1,SIGMA-2,SIGMA-3,SIGMA-4
,,,,,,,,,,,METERS,DBARS,ITS-90,PSS-78,,PSS-78,,G/KG,,UMOL/KG,,UMOL/KG,,UMOL/KG,,UMOL/KG,,UMOL/KG,,UMOL/KG,,PMOL/KG,,PMOL/KG,,PMOL/KG,,UMOL/KG,,UMOL/KG,,UATM@T,,DEG_C,,,DEG_C,FMOL/KG,,UMOL/KG,,UMOL/KG,,TU,,NMOL/KG,,,,,,,,,,,,
33RO20110828,   A10,    33,  1,     24,    024,2,20000101,0000,-30.0170,  -0.4833, 4690,      5.1,  17.5614,  35.8009,2,  35.7963,2,  35.9651,2,    243.3,2,    245.7,2,     1.07,2,     0.00,2,     0.00,2,     0.14,2,    2.396,2,    1.458,2,    3.124,2,   2077.6,6,   2348.5,2,   -999.0,9,  -999.00,-999.0000,9,  -999.00,    1.473,2,   -999.0,1,   -999.0,1, -999.000,9,-999.0000,9,-999.0000,9,-999.0000,9,-999.0000,1, 25.990, 30.296, 34.508, 38.627, 42.657
33RO20110828,   A10,    33,  1,     23,    023,2,20000101,0000,-30.0170,  -0.4833, 4690,     50.5,  16.7886,  35.7501,2,  35.7515,2,  35.9201,2,    247.2,2,    244.6,2,     1.17,2,     0.20,2,     0.14,2,     0.19,2, -999.000,9, -999.000,9, -999.000,9,   2079.6,2,   2345.4,2,   -999.0,9,  -999.00,-999.0000,9,  -999.00, -999.000,9,   -999.0,1,   -999.0,1, -999.000,9,-999.0000,9,-999.0000,9,-999.0000,9,-999.0000,1, 26.144, 30.463, 34.687, 38.819, 42.862
33RO20110828,   A10,    33,  1,     22,    022,2,20000101,0000,-30.0170,  -0.4833, 4690,     74.0,  16.6179,  35.7371,2,  35.7399,2,  35.9084,2,    236.0,2,    236.9,2,     1.95,2,     0.78,2,     0.55,2,     0.26,2,    2.423,2,    1.467,2,    2.482,2,   2087.6,2,   2325.2,2,   -999.0,9,  -999.00,-999.0000,9,  -999.00,    1.419,2,   -999.0,1,   -999.0,1, -999.000,9,-999.0000,9,-999.0000,9,-999.0000,9,-999.0000,1, 26.176, 30.498, 34.726, 38.861, 42.906
33RO20110828,   A10,    33,  1,     21,    021,2,20000101,0000,-30.0170,  -0.4833, 4690,    124.3,  16.4969,  35.7405,2,  35.7395,2,  35.9080,2,    232.0,2,    234.2,2,     1.95,2,     1.37,2,     0.40,2,     0.27,2, -999.000,9, -999.000,9, -999.000,9,   2090.1,2,   2346.1,2,   -999.0,9,  -999.00,-999.0000,9,  -999.00, -999.000,9,   -999.0,1,   -999.0,1, -999.000,9,-999.0000,9,-999.0000,9,-999.0000,9,-999.0000,9, 26.206, 30.531, 34.760, 38.897, 42.944
33RO20110828,   A10,    33,  1,     20,    020,2,20000101,0000,-30.0170,  -0.4833, 4690,    178.8,  15.7309,  35.5789,2,  35.5790,2,  35.7468,2,    230.6,2,    228.0,2,     2.34,2,     3.32,2,     0.04,2,     0.39,2,    2.555,2,    1.530,2,    1.645,2,   2097.5,2,   2333.8,2,   -999.0,9,  -999.00,-999.0000,9,  -999.00,    1.478,2,   -999.0,1,   -999.0,1, -999.000,9,-999.0000,9,-999.0000,9,-999.0000,9,-999.0000,9, 26.261, 30.601, 34.844, 38.995, 43.055
33RO20110828,   A10,    33,  1,     19,    019,2,20000101,0000,-30.0170,  -0.4833, 4690,    300.7,  13.6117,  35.2282,2,  35.2314,2,  35.3975,2,    225.2,2,    224.0,2,     2.73,2,     6.93,2,     0.01,2,     0.63,2, -999.000,9, -999.000,9, -999.000,9,   2112.5,2,   2316.7,2,   -999.0,9,  -999.00,-999.0000,9,  -999.00, -999.000,9,   -999.0,1,   -999.0,1, -999.000,9,-999.0000,9,-999.0000,9,-999.0000,9,-999.0000,9, 26.456, 30.837, 35.121, 39.311, 43.409
33RO20110828,   A10,    33,  1,     18,    018,2,20000101,0000,-30.0170,  -0.4833, 4690,    400.1,  11.7408,  35.0129,2,  35.0148,2,  35.1799,2,    211.3,2,    212.5,2,     4.88,2,    12.98,2,     0.01,2,     1.02,2,    3.078,2,    1.743,2,    1.155,2,   2131.6,2,   2303.0,2,   -999.0,9,  -999.00,-999.0000,9,  -999.00,    1.292,2,   -999.0,1,   -999.0,1, -999.000,9,-999.0000,9,-999.0000,9,-999.0000,9,-999.0000,9, 26.660, 31.079, 35.401, 39.626, 43.759
33RO20110828,   A10,    33,  1,     17,    017,2,20000101,0000,-30.0170,  -0.4833, 4690,    500.3,  10.0259,  34.7950,2,  34.8008,2,  34.9649,2,    210.8,2,    208.9,2,     7.22,2,    17.18,2,     0.00,2,     1.32,2, -999.000,9, -999.000,9, -999.000,9,   2145.1,2,   2298.0,2,   -999.0,9,  -999.00,-999.0000,9,  -999.00, -999.000,9,   -999.0,1,   -999.0,1, -999.000,9,-999.0000,9,-999.0000,9,-999.0000,9,-999.0000,9, 26.802, 31.259, 35.617, 39.878, 44.045
33RO20110828,   A10,    33,  1,     16,    016,2,20000101,0000,-30.0170,  -0.4833, 4690,    601.3,   8.5804,  34.6257,2,  34.6302,2,  34.7935,2,    205.9,2,    207.0,2,    10.35,2,    20.99,2,     0.00,2,     1.59,2,    3.148,2,    1.694,2,    1.807,2,   2155.8,2,   2289.9,2,   -999.0,9,  -999.00,-999.0000,9,  -999.00,    0.988,2,   -999.0,1,   -999.0,1, -999.000,9,-999.0000,9,-999.0000,9,-999.0000,9,-999.0000,9, 26.905, 31.395, 35.785, 40.077, 44.274
33RO20110828,   A10,    33,  1,     15,    015,2,20000101,0000,-30.0170,  -0.4833, 4690,    750.7,   5.9210,  34.3781,2,  34.3793,2,  34.5414,2,    213.2,2,    213.4,2,    17.96,2,    27.04,2,     0.00,2,     2.02,2, -999.000,9, -999.000,9, -999.000,9,   2175.1,2,   2299.9,3,   -999.0,9,  -999.00,-999.0000,9,  -999.00, -999.000,9,   -999.0,1,   -999.0,1, -999.000,9,-999.0000,9,-999.0000,9,-999.0000,9,-999.0000,9, 27.080, 31.635, 36.088, 40.441, 44.697
33RO20110828,   A10,    33,  1,     14,    014,2,20000101,0000,-30.0170,  -0.4833, 4690,    900.7,   4.5778,  34.3302,2,  34.3304,2,  34.4923,2,    209.1,2,    210.7,2,    27.83,2,    30.07,2,     0.01,2,     2.25,2,    2.531,2,    1.271,2,    2.402,2,   2192.2,2,   2293.0,2,   -999.0,9,  -999.00,-999.0000,9,  -999.00,    0.578,2,   -999.0,1,   -999.0,1, -999.000,9,-999.0000,9,-999.0000,9,-999.0000,9,-999.0000,9, 27.200, 31.789, 36.275, 40.660, 44.947
33RO20110828,   A10,    33,  1,     13,    013,2,20000101,0000,-30.0170,  -0.4833, 4690,   1048.3,   3.7052,  34.3752,2,  34.3751,2,  34.5372,2,    197.7,2,    197.2,2,    41.20,2,    32.12,2,     0.00,2,     2.42,2, -999.000,9, -999.000,9, -999.000,9,   2211.5,2,   2303.8,2,   -999.0,9,  -999.00,-999.0000,9,  -999.00, -999.000,9,   -999.0,1,   -999.0,1, -999.000,9,-999.0000,9,-999.0000,9,-999.0000,9,-999.0000,9, 27.327, 31.938, 36.447, 40.853, 45.160
33RO20110828,   A10,    33,  1,     12,    012,2,20000101,0000,-30.0170,  -0.4833, 4690,   1247.8,   3.2569,  34.4972,2,  34.4967,6,  34.6594,6,    180.8,2,    181.3,2,    53.79,2,    32.80,2,     0.00,2,     2.48,2,    0.732,2,    0.351,2,    0.757,2,   2233.7,6,   2321.3,2,   -999.0,9,  -999.00,-999.0000,9,  -999.00,    0.132,2,   -999.0,1,   -999.0,1, -999.000,9,-999.0000,9,-999.0000,9,-999.0000,9,-999.0000,9, 27.468, 32.091, 36.610, 41.028, 45.345
33RO20110828,   A10,    33,  1,     11,    011,2,20000101,0000,-30.0170,  -0.4833, 4690,   1451.8,   3.0354,  34.6216,2,  34.6228,2,  34.7860,2,    183.7,2,    183.7,2,    56.52,2,    31.53,2,     0.00,2,     2.35,2,    0.287,2,    0.135,2,    0.354,2,   2230.4,2,   2327.6,2,   -999.0,9,  -999.00,-999.0000,9,  -999.00,    0.040,2,   -999.0,1,   -999.0,1, -999.000,9,-999.0000,9,-999.0000,9,-999.0000,9,-999.0000,9, 27.590, 32.219, 36.743, 41.165, 45.488
33RO20110828,   A10,    33,  1,     10,    010,2,20000101,0000,-30.0170,  -0.4833, 4690,   1699.0,   2.9844,  34.7391,2,  34.7397,2,  34.9035,2,    198.3,2,    198.2,2,    52.12,2,    28.60,2,     0.00,2,     2.13,2, -999.000,5, -999.000,5, -999.000,5,   2222.1,2,   2328.2,2,   -999.0,9,  -999.00,-999.0000,9,  -999.00, -999.000,5,   -999.0,1,   -999.0,1, -999.000,9,-999.0000,9,-999.0000,9,-999.0000,9,-999.0000,9, 27.690, 32.319, 36.845, 41.268, 45.591
33RO20110828,   A10,    33,  1,      9,    009,2,20000101,0000,-30.0170,  -0.4833, 4690,   1998.2,   2.8024,  34.7976,2,  34.7996,2,  34.9637,2,    212.4,2,    213.0,2,    51.24,2,    26.74,2,     0.00,2,     1.97,2, -999.000,5, -999.000,5, -999.000,5,   2214.8,2,   2331.1,2,   -999.0,9,  -999.00,-999.0000,9,  -999.00, -999.000,5,   -999.0,1,   -999.0,1, -999.000,9,-999.0000,9,-999.0000,9,-999.0000,9,-999.0000,9, 27.756, 32.391, 36.921, 41.349, 45.677
33RO20110828,   A10,    33,  1,      8,    008,2,20000101,0000,-30.0170,  -0.4833, 4690,   2299.5,   2.6176,  34.8255,2,  34.8266,2,  34.9908,2,    222.0,2,    220.7,2,    52.12,2,    25.67,2,     0.01,2,     1.89,2,    0.024,2,    0.013,2,    0.056,2,   2211.1,2,   2332.1,2,   -999.0,9,  -999.00,-999.0000,9,  -999.00,    0.000,2,   -999.0,1,   -999.0,1, -999.000,9,-999.0000,9,-999.0000,9,-999.0000,9,-999.0000,9, 27.796, 32.436, 36.972, 41.405, 45.738
33RO20110828,   A10,    33,  1,      7,    007,2,20000101,0000,-30.0170,  -0.4833, 4690,   2649.2,   2.4351,  34.8467,2,  34.8490,2,  35.0134,2,    230.9,2,    230.1,2,    53.19,2,    24.59,2,     0.01,2,     1.81,2, -999.000,5, -999.000,5, -999.000,5,   2207.4,2,   2336.5,2,   -999.0,9,  -999.00,-999.0000,9,  -999.00, -999.000,5,   -999.0,1,   -999.0,1, -999.000,9,-999.0000,9,-999.0000,9,-999.0000,9,-999.0000,9, 27.832, 32.477, 37.019, 41.457, 45.795
33RO20110828,   A10,    33,  1,      6,    006,2,20000101,0000,-30.0170,  -0.4833, 4690,   2992.7,   2.3702,  34.8599,2,  34.8612,2,  35.0256,2,    234.2,2,    235.2,2,    52.99,2,    24.01,2,     0.01,2,     1.77,2,    0.007,2,    0.004,2,    0.012,2,   2206.1,2,   2340.6,2,   -999.0,9,  -999.00,-999.0000,9,  -999.00,    0.000,2,   -999.0,1,   -999.0,1, -999.000,9,-999.0000,9,-999.0000,9,-999.0000,9,-999.0000,9, 27.850, 32.498, 37.042, 41.483, 45.823
33RO20110828,   A10,    33,  1,      5,    005,2,20000101,0000,-30.0170,  -0.4833, 4690,   3349.3,   2.3450,  34.8677,2,  34.8691,2,  35.0336,2,    234.6,2,    235.1,2,    53.29,2,    23.81,2,     0.00,2,     1.75,2,    0.005,2,    0.003,2,    0.000,2,   2208.2,2,   2345.8,2,   -999.0,9,  -999.00,-999.0000,9,  -999.00,    0.000,2,   -999.0,1,   -999.0,1, -999.000,9,-999.0000,9,-999.0000,9,-999.0000,9,-999.0000,9, 27.861, 32.511, 37.056, 41.499, 45.841
33RO20110828,   A10,    33,  1,      4,    004,2,20000101,0000,-30.0170,  -0.4833, 4690,   3699.4,   2.3300,  34.8734,2,  34.8749,2,  35.0393,2,    233.8,2,    233.5,2,    53.87,2,    23.81,2,     0.00,2,     1.74,2,    0.004,2,    0.003,2,   -0.005,2,   2211.4,2,   -999.0,5,   -999.0,9,  -999.00,-999.0000,9,  -999.00,    0.000,2,   -999.0,1,   -999.0,1, -999.000,9,-999.0000,9,-999.0000,9,-999.0000,9,-999.0000,9, 27.870, 32.521, 37.068, 41.512, 45.855
33RO20110828,   A10,    33,  1,      3,    003,2,20000101,0000,-30.0170,  -0.4833, 4690,   4049.4,   2.3428,  34.8747,2,  34.8769,2,  35.0414,2,    232.1,2,    234.4,2,    54.94,2,    23.81,2,     0.00,2,     1.75,2,    0.005,2,    0.002,2,   -0.005,2,   2213.2,2,   2356.1,2,   -999.0,9,  -999.00,-999.0000,9,  -999.00,    0.000,2,   -999.0,1,   -999.0,1, -999.000,9,-999.0000,9,-999.0000,9,-999.0000,9,-999.0000,9, 27.874, 32.526, 37.073, 41.518, 45.861
33RO20110828,   A10,    33,  1,      2,    002,2,20000101,0000,-30.0170,  -0.4833, 4690,   4399.6,   2.3559,  34.8723,2,  34.8755,2,  35.0399,2,    231.1,2,    232.6,2,    55.92,2,    24.01,2,     0.00,2,     1.75,2,    0.004,2,    0.003,2,    0.016,2,   2215.3,2,   2354.9,2,   -999.0,9,  -999.00,-999.0000,9,  -999.00,    0.000,2,   -999.0,1,   -999.0,1, -999.000,9,-999.0000,9,-999.0000,9,-999.0000,9,-999.0000,9, 27.875, 32.527, 37.076, 41.521, 45.865
33RO20110828,   A10,    33,  1,      1,    001,2,20000101,0000,-30.0170,  -0.4833, 4690,   4789.1,   2.3035,  34.8604,2,  34.8615,2,  35.0259,2,    233.4,2,    230.8,2,    60.41,2,    24.69,2,     0.01,2,     1.80,2,    0.008,2,    0.005,2,    0.029,2,   2220.3,6,   2355.7,2,   -999.0,9,  -999.00,-999.0000,9,  -999.00,    0.000,2,   -999.0,1,   -999.0,1, -999.000,9,-999.0000,9,-999.0000,9,-999.0000,9,-999.0000,9, 27.871, 32.527, 37.078, 41.526, 45.873