BOTTLE,20130715NOAA
EXPOCODE,SECT_ID,STNNBR,CASTNO,SAMPNO,BTLNBR,BTLNBR_FLAG_W,DATE,TIME,LATITUDE,LONGITUDE,DEPTH,CTDPRS,CTDTMP,CTDSAL,CTDSAL_FLAG_W,SALNTY,SALNTY_FLAG_W,SALTREF,SALTREF_FLAG_W,CTDOXY,CTDOXY_FLAG_W,OXYGEN,OXYGEN_FLAG_W,SILCAT,SILCAT_FLAG_W,NITRAT,NITRAT_FLAG_W,NITRIT,NITRIT_FLAG_W,PHSPHT,PHSPHT_FLAG_W,CFC-11,CFC-11_FLAG_W,CFC-12,CFC-12_FLAG_W,CCL4,CCL4_FLAG_W,TCARBN,TCARBN_FLAG_W,ALKALI,ALKALI_FLAG_W,PCO2,PCO2_FLAG_W,PCO2TMP,PH_TOT,PH_TOT_FLAG_W,PH_TMP,SF6,SF6_FLAG_W,DOC,DOC_FLAG_W,TDN,TDN_FLAG_W,TRITUM,TRITUM_FLAG_W,HELIUM,HELIUM_FLAG_W,OXY_18,OXY_18_FLAG_W,BLACKC,BLACKC_FLAG_W,PIGMENTS,PIGMENTS_FLAG_W,SIGMA-THETA,SIGMA-1,SIGMA-2,SIGMA-3,SIGMA-4
,,,,,,,,,,,METERS,DBARS,ITS-90,PSS-78,,PSS-78,,G/KG,,UMOL/KG,,UMOL/KG,,UMOL/KG,,UMOL/KG,,UMOL/KG,,UMOL/KG,,PMOL/KG,,PMOL/KG,,PMOL/KG,,UMOL/KG,,UMOL/KG,,UATM@T,,DEG_C,,,DEG_C,FMOL/KG,,UMOL/KG,,UMOL/KG,,TU,,NMOL/KG,,,,,,,,,,,,
33RO20110828,   A10,    93,  1,     24,    024,2,20000101,0000,-30.0006, -37.5663, 3524,      6.2,  19.7466,  36.4090,2,  36.4083,2,  36.5800,2,    229.6,2,    229.9,2,     0.78,2,     0.00,2,     0.00,2,     0.03,2,    2.111,2,    1.298,2,    2.788,3,   2084.2,6,   2381.6,2,   -999.0,9,  -999.00,   7.9786,2,    25.62,    1.341,2,   -999.0,1,   -999.0,1, -999.000,9,-999.0000,9,-999.0000,9,-999.0000,9,-999.0000,1, 25.904, 30.171, 34.344, 38.427, 42.422
33RO20110828,   A10,    93,  1,     23,    023,2,20000101,0000,-30.0006, -37.5663, 3524,     49.0,  19.7301,  36.4002,2,  36.4004,2,  36.5720,2,    229.8,2,    229.6,2,     0.78,2,     0.00,2,     0.00,2,     0.03,2,    2.115,2,    1.304,2,    2.738,3,   2084.5,2,   2380.9,2,   -999.0,9,  -999.00,   7.9766,2,    25.66,    1.364,2,   -999.0,1,   -999.0,1, -999.000,9,-999.0000,9,-999.0000,9,-999.0000,9,-999.0000,9, 25.904, 30.172, 34.345, 38.428, 42.424
33RO20110828,   A10,    93,  1,     22,    022,2,20000101,0000,-30.0006, -37.5663, 3524,    118.8,  18.2072,  36.0463,2,  36.0448,2,  36.2147,2,    220.4,2,    219.6,2,     1.07,2,     1.17,2,     0.07,2,     0.13,2,    2.273,2,    1.390,2,    2.152,3,   2091.8,2,   2354.9,2,   -999.0,9,  -999.00,   7.9170,2,    25.53,    1.387,2,   -999.0,1,   -999.0,1, -999.000,9,-999.0000,9,-999.0000,9,-999.0000,9,-999.0000,1, 26.026, 30.320, 34.520, 38.628, 42.647
33RO20110828,   A10,    93,  1,     21,    021,2,20000101,0000,-30.0006, -37.5663, 3524,    156.3,  16.9707,  35.8132,2,  35.8149,2,  35.9838,2,    205.7,2,    206.9,2,     1.56,2,     3.32,2,     0.02,2,     0.27,2,    2.429,2,    1.468,2,    1.138,3,   2108.0,2,   2342.7,2,   -999.0,9,  -999.00,   7.8877,2,    25.57,    1.289,2,   -999.0,1,   -999.0,1, -999.000,9,-999.0000,9,-999.0000,9,-999.0000,9,-999.0000,1, 26.153, 30.469, 34.691, 38.820, 42.859
33RO20110828,   A10,    93,  1,     20,    020,2,20000101,0000,-30.0006, -37.5663, 3524,    199.6,  15.8271,  35.6317,2,  35.6305,2,  35.7985,2,    210.4,2,    210.1,2,     1.85,2,     4.58,2,     0.01,2,     0.35,2,    2.578,2,    1.540,2,    1.137,3,   2109.6,2,   2333.2,2,   -999.0,9,  -999.00,   7.8710,2,    25.59,    1.300,2,   -999.0,1,   -999.0,1, -999.000,9,-999.0000,9,-999.0000,9,-999.0000,9,-999.0000,9, 26.280, 30.617, 34.859, 39.008, 43.066
33RO20110828,   A10,    93,  1,     19,    019,2,20000101,0000,-30.0006, -37.5663, 3524,    271.1,  14.6091,  35.4701,2,  35.4732,6,  35.6405,6,    213.0,2,    212.3,2,     2.44,2,     6.73,2,     0.01,2,     0.46,2,    2.740,2,    1.601,2,    1.113,3,   2116.4,2,   2326.9,2,   -999.0,9,  -999.00,   7.8419,2,    25.61,    1.293,2,   -999.0,1,   -999.0,1, -999.000,9,-999.0000,9,-999.0000,9,-999.0000,9,-999.0000,9, 26.431, 30.792, 35.056, 39.227, 43.306
33RO20110828,   A10,    93,  1,     18,    018,2,20000101,0000,-30.0006, -37.5663, 3524,    350.9,  13.6605,  35.3538,2,  35.4733,4,  35.6405,4,    213.3,2,    214.0,2,     2.93,2,     8.78,2,     0.01,2,     0.57,2,    2.860,2,    1.651,2,    1.162,3,   2121.2,2,   2317.7,2,   -999.0,9,  -999.00,   7.8348,2,    25.56,    1.247,2,   -999.0,1,   -999.0,1, -999.000,9,-999.0000,9,-999.0000,9,-999.0000,9,-999.0000,9, 26.542, 30.922, 35.204, 39.392, 43.489
33RO20110828,   A10,    93,  1,     17,    017,2,20000101,0000,-30.0006, -37.5663, 3524,    438.1,  12.2794,  35.1361,2,  35.1448,2,  35.3105,2,    211.6,2,    212.1,2,     4.00,2,    11.71,2,     0.01,2,     0.72,2,    3.002,2,    1.686,2,    1.319,3,   2128.9,2,   2310.2,2,   -999.0,9,  -999.00,   7.7909,2,    25.56,    1.195,2,   -999.0,1,   -999.0,1, -999.000,9,-999.0000,9,-999.0000,9,-999.0000,9,-999.0000,9, 26.659, 31.067, 35.377, 39.592, 43.714
33RO20110828,   A10,    93,  1,     16,    016,2,20000101,0000,-30.0006, -37.5663, 3524,    537.4,  10.1333,  34.8264,2,  34.8213,2,  34.9854,2,    207.9,2,    206.9,2,     6.93,2,    17.47,2,     0.00,2,     1.04,2,    3.133,2,    1.697,2,    1.714,3,   2143.8,2,   2294.5,2,   -999.0,9,  -999.00,   7.7230,2,    25.57,    1.021,2,   -999.0,1,   -999.0,1, -999.000,9,-999.0000,9,-999.0000,9,-999.0000,9,-999.0000,9, 26.800, 31.255, 35.611, 39.870, 44.034
33RO20110828,   A10,    93,  1,     15,    015,2,20000101,0000,-30.0006, -37.5663, 3524,    638.7,   7.9705,  34.5653,2,  34.5694,2,  34.7324,2,    207.3,2,    207.4,2,    10.64,2,    22.45,2,     0.01,2,     1.34,2,    3.159,2,    1.651,2,    2.622,3,   2158.1,2,   2284.6,2,   -999.0,9,  -999.00,   7.6853,2,    25.57,    0.844,2,   -999.0,1,   -999.0,1, -999.000,9,-999.0000,9,-999.0000,9,-999.0000,9,-999.0000,9, 26.950, 31.454, 35.858, 40.164, 44.374
33RO20110828,   A10,    93,  1,     14,    014,2,20000101,0000,-30.0006, -37.5663, 3524,    740.1,   5.9531,  34.3636,2,  34.3632,2,  34.5252,2,    221.9,2,    223.1,2,    14.94,2,    25.97,2,     0.00,2,     1.55,2,    3.273,2,    1.673,2,    3.723,3,   2166.7,2,   2277.7,2,   -999.0,9,  -999.00,   7.6375,2,    25.58,    0.839,2,   -999.0,1,   -999.0,1, -999.000,9,-999.0000,9,-999.0000,9,-999.0000,9,-999.0000,9, 27.064, 31.618, 36.070, 40.422, 44.677
33RO20110828,   A10,    93,  1,     13,    013,2,20000101,0000,-30.0006, -37.5663, 3524,    840.8,   4.9119,  34.2894,2,  34.2908,2,  34.4525,2,    230.3,2,    230.0,2,    19.04,2,    27.93,2,     0.00,2,     1.68,2,    3.147,2,    1.589,2,    4.064,3,   2174.1,2,   2279.0,2,   -999.0,9,  -999.00,   7.6311,2,    25.57,    0.794,2,   -999.0,1,   -999.0,1, -999.000,9,-999.0000,9,-999.0000,9,-999.0000,9,-999.0000,9, 27.131, 31.712, 36.190, 40.567, 44.846
33RO20110828,   A10,    93,  1,     12,    012,2,20000101,0000,-30.0006, -37.5663, 3524,    941.7,   4.1652,  34.2824,2,  34.2830,2,  34.4447,2,    225.0,2,    224.7,2,    26.17,2,    29.59,2,     0.00,2,     1.84,2,    2.644,2,    1.309,2,    3.637,3,   2186.6,2,   2284.2,2,   -999.0,9,  -999.00,   7.6082,2,    25.55,    0.549,2,   -999.0,1,   -999.0,1, -999.000,9,-999.0000,9,-999.0000,9,-999.0000,9,-999.0000,9, 27.206, 31.806, 36.303, 40.699, 44.996
33RO20110828,   A10,    93,  1,     11,    011,2,20000101,0000,-30.0006, -37.5663, 3524,   1056.4,   3.6623,  34.3125,2,  34.3135,2,  34.4754,2,    214.5,2,    214.6,2,    34.47,2,    31.44,2,     0.00,2,     1.98,2,    2.028,2,    0.995,2,    3.253,3,   2200.4,2,   2293.1,2,   -999.0,9,  -999.00,   7.5860,2,    25.57,    0.408,2,   -999.0,1,   -999.0,1, -999.000,9,-999.0000,9,-999.0000,9,-999.0000,9,-999.0000,9, 27.282, 31.895, 36.405, 40.813, 45.122
33RO20110828,   A10,    93,  1,     10,    010,2,20000101,0000,-30.0006, -37.5663, 3524,   1182.3,   3.3326,  34.3846,2,  34.3855,2,  34.5476,2,    199.4,2,    200.3,2,    43.94,2,    32.61,2,     0.00,2,     2.11,2,    1.276,2,    0.618,2,    2.489,3,   2215.6,2,   2302.7,2,   -999.0,9,  -999.00,   7.5608,2,    25.57,    0.217,2,   -999.0,1,   -999.0,1, -999.000,9,-999.0000,9,-999.0000,9,-999.0000,9,-999.0000,9, 27.372, 31.993, 36.511, 40.927, 45.244
33RO20110828,   A10,    93,  1,      9,    009,2,20000101,0000,-30.0006, -37.5663, 3524,   1333.8,   3.0970,  34.4889,2,  34.4915,2,  34.6541,2,    188.9,2,    189.0,2,    51.94,2,    32.70,2,     0.00,2,     2.18,2,    0.639,2,    0.309,2,    1.435,3,   2227.4,2,   2311.2,2,   -999.0,9,  -999.00,   7.5585,2,    25.55,    0.087,2,   -999.0,1,   -999.0,1, -999.000,9,-999.0000,9,-999.0000,9,-999.0000,9,-999.0000,9, 27.479, 32.106, 36.630, 41.052, 45.373
33RO20110828,   A10,    93,  1,      8,    008,2,20000101,0000,-30.0006, -37.5663, 3524,   1536.8,   2.9303,  34.5966,2,  34.5974,2,  34.7606,2,    189.7,2,    189.6,2,    55.84,2,    31.14,2,     0.00,2,     2.14,2,    0.283,2,    0.138,2,    0.928,3,   2231.0,6,   2317.6,2,   -999.0,9,  -999.00,   7.5695,2,    25.60,    0.029,2,   -999.0,1,   -999.0,1, -999.000,9,-999.0000,9,-999.0000,9,-999.0000,9,-999.0000,9, 27.580, 32.212, 36.739, 41.164, 45.490
33RO20110828,   A10,    93,  1,      7,    007,2,20000101,0000,-30.0006, -37.5663, 3524,   1761.1,   2.8471,  34.7052,2,  34.7078,2,  34.8715,2,    200.3,2,    200.9,2,    54.17,2,    29.19,2,     0.00,2,     1.99,2,    0.098,2,    0.049,2,    0.486,3,   2222.5,2,   2321.5,2,   -999.0,9,  -999.00,   7.6015,2,    25.52,    0.000,2,   -999.0,1,   -999.0,1, -999.000,9,-999.0000,9,-999.0000,9,-999.0000,9,-999.0000,9, 27.677, 32.311, 36.840, 41.267, 45.594
33RO20110828,   A10,    93,  1,      6,    006,2,20000101,0000,-30.0006, -37.5663, 3524,   1949.3,   2.8433,  34.7730,2,  34.7747,6,  34.9387,6,    213.0,2,    213.0,2,    49.97,2,    26.84,2,     0.00,2,     1.83,2,    0.057,2,    0.030,2,    0.366,3,   2211.5,2,   2324.6,2,   -999.0,9,  -999.00,   7.6260,2,    25.65,    0.000,2,   -999.0,1,   -999.0,1, -999.000,9,-999.0000,9,-999.0000,9,-999.0000,9,-999.0000,9, 27.731, 32.365, 36.894, 41.321, 45.648
33RO20110828,   A10,    93,  1,      5,    005,2,20000101,0000,-30.0006, -37.5663, 3524,   2174.2,   2.8217,  34.8260,2,  34.8269,2,  34.9912,2,    224.7,2,    224.8,2,    45.68,2,    25.08,2,     0.00,2,     1.71,2,    0.030,2,    0.018,2,    0.265,3,   2202.5,2,   2324.3,2,   -999.0,9,  -999.00,   7.6511,2,    25.55,    0.046,2,   -999.0,1,   -999.0,1, -999.000,9,-999.0000,9,-999.0000,9,-999.0000,9,-999.0000,9, 27.778, 32.412, 36.942, 41.370, 45.697
33RO20110828,   A10,    93,  1,      4,    004,2,20000101,0000,-30.0006, -37.5663, 3524,   2474.8,   2.9236,  34.8921,2,  34.8926,2,  35.0572,2,    241.2,2,    241.4,2,    36.21,2,    22.15,2,     0.01,2,     1.48,2,    0.049,2,    0.026,2,    0.370,3,   2187.0,2,   2320.9,2,   -999.0,9,  -999.00,   7.6885,2,    25.58,    0.000,2,   -999.0,1,   -999.0,1, -999.000,9,-999.0000,9,-999.0000,9,-999.0000,9,-999.0000,9, 27.824, 32.456, 36.983, 41.409, 45.734
33RO20110828,   A10,    93,  1,      3,    003,9,20000101,0000,-30.0006, -37.5663, 3524,   2702.8,   2.8689,  34.9044,2,  34.9076,2,  35.0722,2,   -999.0,9,   -999.0,9,  -999.00,5,  -999.00,5,  -999.00,5,  -999.00,5, -999.000,9, -999.000,9, -999.000,9,   -999.0,9,   -999.0,9,   -999.0,9,  -999.00,-999.0000,9,  -999.00, -999.000,9,   -999.0,1,   -999.0,1, -999.000,9,-999.0000,9,-999.0000,9,-999.0000,9,-999.0000,9, 27.840, 32.474, 37.003, 41.431, 45.758
33RO20110828,   A10,    93,  1,      2,    002,2,20000101,0000,-30.0006, -37.5663, 3524,   3051.4,   2.7395,  34.9100,2,  34.9151,2,  35.0797,2,    250.6,2,    251.0,2,    35.52,2,    20.98,2,     0.02,2,     1.41,2,    0.048,2,    0.028,2,    0.386,3,   2182.3,2,   2321.4,2,   -999.0,9,  -999.00,   7.6983,2,    25.35,    0.038,2,   -999.0,1,   -999.0,1, -999.000,9,-999.0000,9,-999.0000,9,-999.0000,9,-999.0000,9, 27.863, 32.501, 37.035, 41.466, 45.797
33RO20110828,   A10,    93,  1,      1,    001,2,20000101,0000,-30.0006, -37.5663, 3524,   3536.8,   2.3281,  34.8796,2,  34.8817,2,  35.0462,2,    249.6,2,    249.6,2,    46.75,2,    22.25,2,     0.02,2,     1.56,2,    0.033,2,    0.020,2,    0.324,3,   2193.5,6,   2327.7,2,   -999.0,9,  -999.00,   7.6964,2,    25.34,    0.058,2,   -999.0,1,   -999.0,1, -999.000,9,-999.0000,9,-999.0000,9,-999.0000,9,-999.0000,9, 27.874, 32.525, 37.071, 41.514, 45.857