BOTTLE,20130715NOAA
EXPOCODE,SECT_ID,STNNBR,CASTNO,SAMPNO,BTLNBR,BTLNBR_FLAG_W,DATE,TIME,LATITUDE,LONGITUDE,DEPTH,CTDPRS,CTDTMP,CTDSAL,CTDSAL_FLAG_W,SALNTY,SALNTY_FLAG_W,SALTREF,SALTREF_FLAG_W,CTDOXY,CTDOXY_FLAG_W,OXYGEN,OXYGEN_FLAG_W,SILCAT,SILCAT_FLAG_W,NITRAT,NITRAT_FLAG_W,NITRIT,NITRIT_FLAG_W,PHSPHT,PHSPHT_FLAG_W,CFC-11,CFC-11_FLAG_W,CFC-12,CFC-12_FLAG_W,CCL4,CCL4_FLAG_W,TCARBN,TCARBN_FLAG_W,ALKALI,ALKALI_FLAG_W,PCO2,PCO2_FLAG_W,PCO2TMP,PH_TOT,PH_TOT_FLAG_W,PH_TMP,SF6,SF6_FLAG_W,DOC,DOC_FLAG_W,TDN,TDN_FLAG_W,TRITUM,TRITUM_FLAG_W,HELIUM,HELIUM_FLAG_W,OXY_18,OXY_18_FLAG_W,BLACKC,BLACKC_FLAG_W,PIGMENTS,PIGMENTS_FLAG_W,SIGMA-THETA,SIGMA-1,SIGMA-2,SIGMA-3,SIGMA-4
,,,,,,,,,,,METERS,DBARS,ITS-90,PSS-78,,PSS-78,,G/KG,,UMOL/KG,,UMOL/KG,,UMOL/KG,,UMOL/KG,,UMOL/KG,,UMOL/KG,,PMOL/KG,,PMOL/KG,,PMOL/KG,,UMOL/KG,,UMOL/KG,,UATM@T,,DEG_C,,,DEG_C,FMOL/KG,,UMOL/KG,,UMOL/KG,,TU,,NMOL/KG,,,,,,,,,,,,
33RO20110828,   A10,    75,  1,     24,    024,2,20000101,0000,-30.0038, -28.9861, 3188,      6.4,  18.2343,  35.9970,2,  35.9964,2,  36.1661,2,    234.2,2,    234.2,2,     0.98,2,     0.00,2,     0.00,2,     0.08,2,    2.295,2,    1.379,2,    3.707,3,   2077.4,6,   2358.6,2,   -999.0,9,  -999.00,   7.9458,2,    25.51,    1.425,2,   -999.0,1,   -999.0,1, -999.000,9,-999.0000,9,-999.0000,9,-999.0000,9,-999.0000,1, 25.977, 30.271, 34.470, 38.578, 42.597
33RO20110828,   A10,    75,  1,     23,    023,2,20000101,0000,-30.0038, -28.9861, 3188,     24.7,  18.2174,  35.9908,2,  35.9922,2,  36.1619,2,    234.2,2,    234.9,2,     1.07,2,     0.00,2,     0.00,2,     0.08,2,    2.298,2,    1.379,2,    3.850,3,   2075.8,2,   2358.0,2,   -999.0,9,  -999.00,   7.9400,2,    25.52,    1.446,2,   -999.0,1,   -999.0,1, -999.000,9,-999.0000,9,-999.0000,9,-999.0000,9,-999.0000,9, 25.979, 30.273, 34.473, 38.581, 42.600
33RO20110828,   A10,    75,  1,     22,    022,2,20000101,0000,-30.0038, -28.9861, 3188,     86.7,  17.3617,  35.9172,2,  35.9184,2,  36.0878,2,    238.0,2,    236.4,2,     1.17,2,     0.10,2,     0.04,2,     0.11,2,    2.402,2,    1.436,2,    3.718,3,   2081.9,2,   2354.9,2,   -999.0,9,  -999.00,   7.9373,2,    25.52,    1.507,2,   -999.0,1,   -999.0,1, -999.000,9,-999.0000,9,-999.0000,9,-999.0000,9,-999.0000,1, 26.136, 30.445, 34.659, 38.780, 42.813
33RO20110828,   A10,    75,  1,     21,    021,2,20000101,0000,-30.0038, -28.9861, 3188,    149.9,  16.1598,  35.6912,2,  35.6887,2,  35.8570,2,    223.3,2,    224.2,2,     1.46,2,     2.54,2,     0.03,2,     0.24,2,    2.537,2,    1.502,2,    1.897,3,   2091.9,2,   2339.9,2,   -999.0,9,  -999.00,   7.8932,2,    25.50,    1.383,2,   -999.0,1,   -999.0,1, -999.000,9,-999.0000,9,-999.0000,9,-999.0000,9,-999.0000,1, 26.246, 30.577, 34.813, 38.956, 43.008
33RO20110828,   A10,    75,  1,     20,    020,2,20000101,0000,-30.0038, -28.9861, 3188,    225.1,  14.5654,  35.3971,2,  35.3973,2,  35.5642,2,    214.3,2,    214.1,2,     2.44,2,     6.15,2,     0.01,2,     0.45,2,    2.771,2,    1.605,2,    1.143,3,   2104.6,2,   2322.5,2,   -999.0,9,  -999.00,   7.8402,2,    25.51,    1.358,2,   -999.0,1,   -999.0,1, -999.000,9,-999.0000,9,-999.0000,9,-999.0000,9,-999.0000,9, 26.381, 30.742, 35.008, 39.180, 43.260
33RO20110828,   A10,    75,  1,     19,    019,2,20000101,0000,-30.0038, -28.9861, 3188,    301.4,  13.6480,  35.2806,2,  35.2830,2,  35.4494,2,    213.8,2,    214.0,2,     2.93,2,     8.10,2,     0.01,2,     0.55,2,    2.625,2,    1.489,2,    1.106,3,   2111.8,2,   2319.0,2,   -999.0,9,  -999.00,   7.8176,2,    25.49,    1.255,2,   -999.0,1,   -999.0,1, -999.000,9,-999.0000,9,-999.0000,9,-999.0000,9,-999.0000,9, 26.489, 30.869, 35.152, 39.340, 43.437
33RO20110828,   A10,    75,  1,     18,    018,2,20000101,0000,-30.0038, -28.9861, 3188,    372.6,  12.7406,  35.1843,2,  35.1847,2,  35.3506,2,    216.8,2,    216.8,2,     3.32,2,     9.85,2,     0.01,2,     0.62,2,    3.007,2,    1.701,2,    1.255,3,   2117.7,2,   2311.5,2,   -999.0,9,  -999.00,   7.8005,2,    25.62,    1.312,2,   -999.0,1,   -999.0,1, -999.000,9,-999.0000,9,-999.0000,9,-999.0000,9,-999.0000,9, 26.598, 30.996, 35.297, 39.503, 43.617
33RO20110828,   A10,    75,  1,     17,    017,2,20000101,0000,-30.0038, -28.9861, 3188,    425.0,  12.0107,  35.0864,2,  35.0879,2,  35.2533,2,    216.3,2,    216.1,2,     4.00,2,    11.71,2,     0.01,2,     0.74,2,    3.074,2,    1.718,2,    1.005,3,   2122.9,2,   2306.8,2,   -999.0,9,  -999.00,   7.7828,2,    25.59,    1.239,2,   -999.0,1,   -999.0,1, -999.000,9,-999.0000,9,-999.0000,9,-999.0000,9,-999.0000,9, 26.666, 31.080, 35.395, 39.616, 43.743
33RO20110828,   A10,    75,  1,     16,    016,2,20000101,0000,-30.0038, -28.9861, 3188,    500.2,  10.6466,  34.8893,2,  34.8923,2,  35.0568,2,    209.5,2,    210.1,2,     6.05,2,    15.52,2,     0.01,2,     0.94,2,    3.156,2,    1.717,2,    1.213,3,   2134.6,2,   2298.6,2,   -999.0,9,  -999.00,   7.7456,2,    25.53,    1.137,2,   -999.0,1,   -999.0,1, -999.000,9,-999.0000,9,-999.0000,9,-999.0000,9,-999.0000,9, 26.766, 31.209, 35.554, 39.802, 43.956
33RO20110828,   A10,    75,  1,     15,    015,2,20000101,0000,-30.0038, -28.9861, 3188,    600.8,   9.1162,  34.6919,2,  34.6933,2,  34.8569,2,    206.8,2,    206.4,2,     8.39,2,    19.52,2,     0.01,2,     1.16,2,    3.217,2,    1.704,2,    1.562,3,   2147.6,2,   2289.9,2,   -999.0,9,  -999.00,   7.7022,2,    25.55,    0.942,2,   -999.0,1,   -999.0,1, -999.000,9,-999.0000,9,-999.0000,9,-999.0000,9,-999.0000,9, 26.870, 31.348, 35.726, 40.007, 44.192
33RO20110828,   A10,    75,  1,     14,    014,2,20000101,0000,-30.0038, -28.9861, 3188,    702.7,   7.1737,  34.4865,2,  34.4928,2,  34.6554,2,    206.9,2,    207.0,2,    13.18,2,    24.40,2,     0.01,2,     1.44,2,    3.159,2,    1.615,2,    2.139,3,   2161.9,2,   2285.8,2,   -999.0,9,  -999.00,   7.6529,2,    25.59,    0.806,2,   -999.0,1,   -999.0,1, -999.000,9,-999.0000,9,-999.0000,9,-999.0000,9,-999.0000,9, 27.005, 31.528, 35.951, 40.275, 44.502
33RO20110828,   A10,    75,  1,     13,    013,2,20000101,0000,-30.0038, -28.9861, 3188,    803.2,   5.5273,  34.3485,2,  34.3530,2,  34.5150,2,    215.9,2,    216.3,2,    18.06,2,    27.43,2,     0.01,2,     1.64,2,    3.087,2,    1.551,2,    2.508,3,   2170.7,2,   2282.7,2,   -999.0,9,  -999.00,   7.6262,2,    25.61,    0.764,2,   -999.0,1,   -999.0,1, -999.000,9,-999.0000,9,-999.0000,9,-999.0000,9,-999.0000,9, 27.108, 31.673, 36.136, 40.498, 44.763
33RO20110828,   A10,    75,  1,     12,    012,2,20000101,0000,-30.0038, -28.9861, 3188,    898.2,   4.5598,  34.2919,2,  34.2925,2,  34.4542,2,    224.0,2,    223.1,2,    23.23,2,    29.09,2,     0.01,2,     1.77,2,    2.897,2,    1.431,2,    2.809,3,   2177.6,2,   2284.1,2,   -999.0,9,  -999.00,   7.6154,2,    25.61,    0.673,2,   -999.0,1,   -999.0,1, -999.000,9,-999.0000,9,-999.0000,9,-999.0000,9,-999.0000,9, 27.172, 31.761, 36.248, 40.634, 44.922
33RO20110828,   A10,    75,  1,     11,    011,2,20000101,0000,-30.0038, -28.9861, 3188,   1000.1,   3.9311,  34.3144,2,  34.3153,2,  34.4771,2,    212.7,2,    214.2,2,    32.02,2,    30.75,2,     0.01,2,     1.92,2,    2.204,2,    1.080,2,    2.357,3,   2193.2,2,   2292.2,2,   -999.0,9,  -999.00,   7.5858,2,    25.56,    0.421,2,   -999.0,1,   -999.0,1, -999.000,9,-999.0000,9,-999.0000,9,-999.0000,9,-999.0000,9, 27.256, 31.862, 36.365, 40.767, 45.069
33RO20110828,   A10,    75,  1,     10,    010,2,20000101,0000,-30.0038, -28.9861, 3188,   1149.3,   3.5356,  34.3959,2,  34.3963,2,  34.5585,2,    196.2,2,    195.3,2,    43.15,2,    32.31,2,     0.01,2,     2.10,2,    1.289,2,    0.629,2,    1.652,3,   2220.0,2,   2304.5,2,   -999.0,9,  -999.00,   7.5711,2,    25.53,    0.227,2,   -999.0,1,   -999.0,1, -999.000,9,-999.0000,9,-999.0000,9,-999.0000,9,-999.0000,9, 27.361, 31.977, 36.490, 40.901, 45.212
33RO20110828,   A10,    75,  1,      9,    009,2,20000101,0000,-30.0038, -28.9861, 3188,   1323.5,   3.2038,  34.4770,2,  34.4774,2,  34.6400,2,    188.4,2,    188.4,2,    51.34,2,    32.50,2,     0.01,2,     2.17,2,    0.736,2,    0.358,2,    1.143,3,   2231.9,2,   2314.1,2,   -999.0,9,  -999.00,   7.5656,2,    25.61,    0.139,2,   -999.0,1,   -999.0,1, -999.000,9,-999.0000,9,-999.0000,9,-999.0000,9,-999.0000,9, 27.458, 32.083, 36.604, 41.023, 45.341
33RO20110828,   A10,    75,  1,      8,    008,2,20000101,0000,-30.0038, -28.9861, 3188,   1550.5,   2.9264,  34.6230,2,  34.6222,2,  34.7854,2,    190.3,2,    190.7,2,    55.63,2,    30.84,2,     0.01,2,     2.11,2,    0.240,2,    0.116,2,    0.627,3,   2233.3,2,   2323.0,2,   -999.0,9,  -999.00,   7.5752,2,    25.64,    0.044,2,   -999.0,1,   -999.0,1, -999.000,9,-999.0000,9,-999.0000,9,-999.0000,9,-999.0000,9, 27.600, 32.232, 36.759, 41.184, 45.510
33RO20110828,   A10,    75,  1,      7,    007,2,20000101,0000,-30.0038, -28.9861, 3188,   1747.2,   2.8397,  34.7059,2,  34.7059,2,  34.8696,2,    199.5,2,    199.4,2,    54.75,2,    29.08,2,     0.01,2,     1.99,2,    0.103,2,    0.050,2,    0.404,3,   2226.0,2,   2326.2,2,   -999.0,9,  -999.00,   7.5950,2,    25.55,    0.000,2,   -999.0,1,   -999.0,1, -999.000,9,-999.0000,9,-999.0000,9,-999.0000,9,-999.0000,9, 27.676, 32.310, 36.839, 41.267, 45.594
33RO20110828,   A10,    75,  1,      6,    006,2,20000101,0000,-30.0038, -28.9861, 3188,   1997.7,   2.7666,  34.7822,2,  34.7834,2,  34.9474,2,    213.5,2,    213.1,2,    51.62,2,    26.74,2,     0.02,2,     1.84,2,    0.039,2,    0.021,2,    0.223,3,   2214.3,2,   2328.4,2,   -999.0,9,  -999.00,   7.6244,2,    25.47,    0.000,2,   -999.0,1,   -999.0,1, -999.000,9,-999.0000,9,-999.0000,9,-999.0000,9,-999.0000,9, 27.746, 32.382, 36.913, 41.342, 45.671
33RO20110828,   A10,    75,  1,      5,    005,2,20000101,0000,-30.0038, -28.9861, 3188,   2301.5,   2.7508,  34.8442,2,  34.8446,6,  35.0089,6,    229.0,2,    229.1,2,    45.38,2,    24.10,2,     0.02,2,     1.65,2,    0.014,2,    0.011,2,    0.141,3,   2202.0,2,   2325.8,2,   -999.0,9,  -999.00,   7.6620,2,    25.49,    0.042,2,   -999.0,1,   -999.0,1, -999.000,9,-999.0000,9,-999.0000,9,-999.0000,9,-999.0000,9, 27.799, 32.435, 36.967, 41.397, 45.726
33RO20110828,   A10,    75,  1,      4,    004,2,20000101,0000,-30.0038, -28.9861, 3188,   2601.1,   2.7822,  34.8844,2,  34.8868,2,  35.0513,2,    240.7,2,    241.0,2,    39.23,2,    22.54,2,     0.01,2,     1.51,2,    0.008,2,    0.005,2,    0.109,3,   2190.3,2,   2325.9,2,   -999.0,9,  -999.00,   7.6796,2,    25.60,    0.018,2,   -999.0,1,   -999.0,1, -999.000,9,-999.0000,9,-999.0000,9,-999.0000,9,-999.0000,9, 27.833, 32.469, 37.000, 41.430, 45.759
33RO20110828,   A10,    75,  1,      3,    003,2,20000101,0000,-30.0038, -28.9861, 3188,   2822.6,   2.7140,  34.8904,2,  34.8918,2,  35.0563,2,    243.7,2,    243.9,2,    39.91,2,    22.15,2,     0.02,2,     1.49,2,    0.012,2,    0.006,2,    0.135,3,   2188.6,2,   2326.1,2,   -999.0,9,  -999.00,   7.6893,2,    25.59,    0.000,2,   -999.0,1,   -999.0,1, -999.000,9,-999.0000,9,-999.0000,9,-999.0000,9,-999.0000,9, 27.845, 32.483, 37.017, 41.448, 45.779
33RO20110828,   A10,    75,  1,      2,    002,2,20000101,0000,-30.0038, -28.9861, 3188,   3023.6,   2.6381,  34.8939,2,  34.8961,2,  35.0607,2,    245.9,2,    245.7,2,    40.69,2,    21.86,2,     0.02,2,     1.48,2,    0.011,2,    0.006,2,    0.132,3,   2188.4,2,   2328.3,2,   -999.0,9,  -999.00,   7.6862,2,    25.48,    0.000,2,   -999.0,1,   -999.0,1, -999.000,9,-999.0000,9,-999.0000,9,-999.0000,9,-999.0000,9, 27.856, 32.497, 37.033, 41.467, 45.801
33RO20110828,   A10,    75,  1,      1,    001,2,20000101,0000,-30.0038, -28.9861, 3188,   3191.6,   2.5201,  34.8875,2,  34.8961,2,  35.0607,2,    246.0,2,    246.0,2,    43.91,2,    22.05,2,     0.02,2,     1.53,2,    0.015,2,    0.010,2,    0.149,3,   2193.0,6,   2327.7,2,   -999.0,9,  -999.00,   7.7011,2,    25.54,    0.000,2,   -999.0,1,   -999.0,1, -999.000,9,-999.0000,9,-999.0000,9,-999.0000,9,-999.0000,9, 27.867, 32.512, 37.052, 41.489, 45.826