BOTTLE,20130715NOAA
EXPOCODE,SECT_ID,STNNBR,CASTNO,SAMPNO,BTLNBR,BTLNBR_FLAG_W,DATE,TIME,LATITUDE,LONGITUDE,DEPTH,CTDPRS,CTDTMP,CTDSAL,CTDSAL_FLAG_W,SALNTY,SALNTY_FLAG_W,SALTREF,SALTREF_FLAG_W,CTDOXY,CTDOXY_FLAG_W,OXYGEN,OXYGEN_FLAG_W,SILCAT,SILCAT_FLAG_W,NITRAT,NITRAT_FLAG_W,NITRIT,NITRIT_FLAG_W,PHSPHT,PHSPHT_FLAG_W,CFC-11,CFC-11_FLAG_W,CFC-12,CFC-12_FLAG_W,CCL4,CCL4_FLAG_W,TCARBN,TCARBN_FLAG_W,ALKALI,ALKALI_FLAG_W,PCO2,PCO2_FLAG_W,PCO2TMP,PH_TOT,PH_TOT_FLAG_W,PH_TMP,SF6,SF6_FLAG_W,DOC,DOC_FLAG_W,TDN,TDN_FLAG_W,TRITUM,TRITUM_FLAG_W,HELIUM,HELIUM_FLAG_W,OXY_18,OXY_18_FLAG_W,BLACKC,BLACKC_FLAG_W,PIGMENTS,PIGMENTS_FLAG_W,SIGMA-THETA,SIGMA-1,SIGMA-2,SIGMA-3,SIGMA-4
,,,,,,,,,,,METERS,DBARS,ITS-90,PSS-78,,PSS-78,,G/KG,,UMOL/KG,,UMOL/KG,,UMOL/KG,,UMOL/KG,,UMOL/KG,,UMOL/KG,,PMOL/KG,,PMOL/KG,,PMOL/KG,,UMOL/KG,,UMOL/KG,,UATM@T,,DEG_C,,,DEG_C,FMOL/KG,,UMOL/KG,,UMOL/KG,,TU,,NMOL/KG,,,,,,,,,,,,
33RO20110828,   A10,    29,  1,     24,    024,2,20000101,0000,-29.5997,   1.6921, 3648,      4.6,  17.2964,  35.7621,2,  35.7624,2,  35.9310,2,    245.0,2,    244.5,2,     1.46,2,     0.00,2,     0.00,2,     0.15,2,    2.431,2,    1.470,2,    3.047,2,   2076.2,2,   2348.8,2,   -999.0,9,  -999.00, 999.0000,5,   999.00,    1.463,2,   -999.0,1,   -999.0,1, -999.000,9,-999.0000,9,-999.0000,9,-999.0000,9,-999.0000,1, 26.029, 30.339, 34.555, 38.679, 42.713
33RO20110828,   A10,    29,  1,     23,    023,2,20000101,0000,-29.5997,   1.6921, 3648,     29.1,  17.2024,  35.7613,2,  35.7606,2,  35.9292,2,    245.5,2,    245.2,2,     1.46,2,     0.00,2,     0.00,2,     0.16,2,    2.450,2,    1.467,2,    3.436,2,   2080.7,2,   2348.5,2,   -999.0,9,  -999.00, 999.0000,5,   999.00,    1.487,2,   -999.0,1,   -999.0,1, -999.000,9,-999.0000,9,-999.0000,9,-999.0000,9,-999.0000,9, 26.051, 30.363, 34.581, 38.706, 42.742
33RO20110828,   A10,    29,  1,     22,    022,2,20000101,0000,-29.5997,   1.6921, 3648,     80.9,  16.7020,  35.7374,2,  35.7318,2,  35.9003,2,    244.7,2,    245.3,2,     1.46,2,     0.20,2,     0.10,2,     0.18,2,    2.462,2,    1.477,2,    3.128,2,   2082.0,2,   -999.0,9,   -999.0,9,  -999.00,-999.0000,9,  -999.00,    1.522,2,   -999.0,1,   -999.0,1, -999.000,9,-999.0000,9,-999.0000,9,-999.0000,9,-999.0000,1, 26.150, 30.471, 34.697, 38.831, 42.875
33RO20110828,   A10,    29,  1,     21,    021,2,20000101,0000,-29.5997,   1.6921, 3648,    128.6,  16.2156,  35.6742,2,  35.6775,2,  35.8457,2,    236.3,2,    235.7,2,     1.95,2,     1.56,2,     0.41,2,     0.28,2,    2.485,2,    1.486,2,    2.402,2,   2089.5,2,   2344.6,2,   -999.0,9,  -999.00, 999.0000,5,   999.00,    1.479,2,   -999.0,1,   -999.0,1, -999.000,9,-999.0000,9,-999.0000,9,-999.0000,9,-999.0000,1, 26.224, 30.554, 34.789, 38.930, 42.982
33RO20110828,   A10,    29,  1,     20,    020,2,20000101,0000,-29.5997,   1.6921, 3648,    180.9,  15.7959,  35.6252,2,  35.6378,2,  35.8059,2,    236.1,2,    237.0,2,     1.76,2,     1.66,2,     0.37,2,     0.30,2,    2.546,2,    1.516,2,    2.436,2,   2092.7,2,   -999.0,9,   -999.0,9,  -999.00,-999.0000,9,  -999.00,    1.528,2,   -999.0,1,   -999.0,1, -999.000,9,-999.0000,9,-999.0000,9,-999.0000,9,-999.0000,9, 26.292, 30.630, 34.872, 39.021, 43.080
33RO20110828,   A10,    29,  1,     19,    019,2,20000101,0000,-29.5997,   1.6921, 3648,    241.6,  13.6532,  35.2086,2,  35.2078,2,  35.3738,2,    220.0,2,    219.6,2,     3.12,2,     7.51,2,     0.02,2,     0.66,2,    2.844,2,    1.661,2,    1.065,2,   2109.3,2,   2316.5,2,   -999.0,9,  -999.00, 999.0000,5,   999.00,    1.369,2,   -999.0,1,   -999.0,1, -999.000,9,-999.0000,9,-999.0000,9,-999.0000,9,-999.0000,9, 26.427, 30.808, 35.091, 39.280, 43.377
33RO20110828,   A10,    29,  1,     18,    018,2,20000101,0000,-29.5997,   1.6921, 3648,    325.3,  12.2963,  35.0691,2,  35.0723,2,  35.2377,2,    205.9,2,    205.3,2,     4.78,2,    12.49,2,     0.01,2,     0.99,2,    3.008,2,    1.709,2,    0.918,2,   2129.1,2,   -999.0,9,   -999.0,9,  -999.00,-999.0000,9,  -999.00,    1.245,2,   -999.0,1,   -999.0,1, -999.000,9,-999.0000,9,-999.0000,9,-999.0000,9,-999.0000,9, 26.597, 31.004, 35.314, 39.529, 43.651
33RO20110828,   A10,    29,  1,     17,    017,2,20000101,0000,-29.5997,   1.6921, 3648,    423.8,  10.6437,  34.8720,2,  34.8722,2,  35.0366,2,    202.2,2,    201.0,2,     6.73,2,    16.59,2,     0.01,2,     1.26,2,    3.114,2,    1.718,2,    1.253,2,   2143.2,2,   2302.2,2,   -999.0,9,  -999.00, 999.0000,5,   999.00,    1.122,2,   -999.0,1,   -999.0,1, -999.000,9,-999.0000,9,-999.0000,9,-999.0000,9,-999.0000,9, 26.749, 31.192, 35.537, 39.785, 43.939
33RO20110828,   A10,    29,  1,     16,    016,2,20000101,0000,-29.5997,   1.6921, 3648,    523.3,   9.0164,  34.6841,2,  34.6847,2,  34.8482,2,    190.5,2,    191.1,2,    10.83,2,    21.47,2,     0.01,2,     1.62,2,    3.011,2,    1.612,2,    1.534,2,   2163.4,2,   -999.0,9,   -999.0,9,  -999.00,-999.0000,9,  -999.00,    0.940,2,   -999.0,1,   -999.0,1, -999.000,9,-999.0000,9,-999.0000,9,-999.0000,9,-999.0000,9, 26.878, 31.358, 35.738, 40.020, 44.208
33RO20110828,   A10,    29,  1,     15,    015,2,20000101,0000,-29.5997,   1.6921, 3648,    624.6,   6.9396,  34.4737,2,  34.4751,2,  34.6377,2,    201.2,2,    202.2,2,    15.81,2,    25.38,2,     0.01,2,     1.91,2,    2.990,2,    1.554,2,    2.210,2,   2173.1,2,   2287.6,2,   -999.0,9,  -999.00, 999.0000,5,   999.00,    0.849,2,   -999.0,1,   -999.0,1, -999.000,9,-999.0000,9,-999.0000,9,-999.0000,9,-999.0000,9, 27.022, 31.551, 35.979, 40.308, 44.540
33RO20110828,   A10,    29,  1,     14,    014,2,20000101,0000,-29.5997,   1.6921, 3648,    773.2,   5.1716,  34.3485,2,  34.3494,2,  34.5113,2,    208.4,2,    209.8,2,    23.14,2,    28.80,2,     0.01,2,     2.16,2,    2.768,2,    1.404,2,    2.624,2,   2184.4,2,   -999.0,9,   -999.0,9,  -999.00,-999.0000,9,  -999.00,    0.642,2,   -999.0,1,   -999.0,1, -999.000,9,-999.0000,9,-999.0000,9,-999.0000,9,-999.0000,9, 27.147, 31.721, 36.192, 40.563, 44.835
33RO20110828,   A10,    29,  1,     13,    013,2,20000101,0000,-29.5997,   1.6921, 3648,    924.2,   4.0960,  34.3714,2,  34.3721,2,  34.5342,2,    197.2,2,    194.9,2,    36.61,2,    31.63,2,     0.00,2,     2.39,2,    1.782,2,    0.880,2,    1.988,2,   2212.6,2,   2300.7,2,   -999.0,9,  -999.00, 999.0000,5,   999.00,    0.377,2,   -999.0,1,   -999.0,1, -999.000,9,-999.0000,9,-999.0000,9,-999.0000,9,-999.0000,9, 27.284, 31.885, 36.383, 40.780, 45.078
33RO20110828,   A10,    29,  1,     12,    012,2,20000101,0000,-29.5997,   1.6921, 3648,   1076.6,   3.6286,  34.4393,2,  34.4399,2,  34.6023,2,    182.5,2,    182.6,2,    45.98,2,    32.80,2,     0.00,2,     2.47,2,    1.032,2,    0.496,2,    1.292,2,   2224.8,2,   -999.0,9,   -999.0,9,  -999.00,-999.0000,9,  -999.00,    0.196,2,   -999.0,1,   -999.0,1, -999.000,9,-999.0000,9,-999.0000,9,-999.0000,9,-999.0000,9, 27.386, 31.999, 36.509, 40.917, 45.226
33RO20110828,   A10,    29,  1,     11,    011,2,20000101,0000,-29.5997,   1.6921, 3648,   1250.2,   3.2397,  34.5303,2,  34.5298,2,  34.6926,2,    178.8,2,    178.7,2,    53.59,2,    32.70,2,     0.01,2,     2.45,2,    0.553,2,    0.261,2,    0.734,2,   2228.6,2,   2320.9,2,   -999.0,9,  -999.00, 999.0000,5,   999.00,    0.073,2,   -999.0,1,   -999.0,1, -999.000,9,-999.0000,9,-999.0000,9,-999.0000,9,-999.0000,9, 27.496, 32.119, 36.638, 41.056, 45.374
33RO20110828,   A10,    29,  1,     10,    010,2,20000101,0000,-29.5997,   1.6921, 3648,   1450.7,   3.1028,  34.6578,2,  34.6591,2,  34.8225,2,    185.5,2,    186.9,2,    53.20,2,    30.45,2,     0.01,2,     2.28,2,    0.195,2,    0.091,2,    0.321,2,   2226.4,2,   -999.0,9,   -999.0,9,  -999.00,-999.0000,9,  -999.00,    0.032,2,   -999.0,1,   -999.0,1, -999.000,9,-999.0000,9,-999.0000,9,-999.0000,9,-999.0000,9, 27.613, 32.239, 36.762, 41.182, 45.502
33RO20110828,   A10,    29,  1,      9,    009,9,20000101,0000,-29.5997,   1.6921, 3648,   1648.8,   3.1403,  34.7429,2,-999.0000,9,-999.0000,9,   -999.0,9,   -999.0,9,  -999.00,9,  -999.00,9,  -999.00,9,  -999.00,9, -999.000,9, -999.000,9, -999.000,9,   -999.0,9,   -999.0,9,   -999.0,9,  -999.00,-999.0000,9,  -999.00, -999.000,9,   -999.0,9,   -999.0,9, -999.000,9,-999.0000,9,-999.0000,9,-999.0000,9,-999.0000,9, 27.678, 32.303, 36.824, 41.244, 45.563
33RO20110828,   A10,    29,  1,      8,    008,2,20000101,0000,-29.5997,   1.6921, 3648,   1848.0,   3.0152,  34.7921,2,  34.7935,2,  34.9576,2,    208.0,2,    207.1,2,    46.55,2,    26.84,2,     0.01,2,     1.98,2,    0.044,2,    0.022,2,    0.152,2,   2210.4,2,   2328.3,2,   -999.0,9,  -999.00,-999.0000,9,  -999.00,    0.000,2,   -999.0,1,   -999.0,1, -999.000,9,-999.0000,9,-999.0000,9,-999.0000,9,-999.0000,9, 27.732, 32.360, 36.884, 41.307, 45.629
33RO20110828,   A10,    29,  1,      7,    007,2,20000101,0000,-29.5997,   1.6921, 3648,   2052.3,   2.9016,  34.8254,2,  34.8271,2,  34.9914,2,    217.1,2,    217.1,2,    45.87,2,    25.57,2,     0.01,2,     1.87,2,    0.022,2,    0.012,2,    0.094,2,   2204.6,2,   -999.0,9,   -999.0,9,  -999.00, 999.0000,5,   999.00,    0.014,2,   -999.0,1,   -999.0,1, -999.000,9,-999.0000,9,-999.0000,9,-999.0000,9,-999.0000,9, 27.770, 32.402, 36.929, 41.355, 45.680
33RO20110828,   A10,    29,  1,      6,    006,2,20000101,0000,-29.5997,   1.6921, 3648,   2299.6,   2.6612,  34.8359,2,  34.8372,2,  35.0015,2,    222.7,2,    223.3,2,    49.87,2,    25.08,2,     0.00,2,     1.84,2,    0.018,2,    0.009,2,    0.101,2,   2205.7,2,   -999.0,9,   -999.0,9,  -999.00,-999.0000,9,  -999.00,    0.000,2,   -999.0,1,   -999.0,1, -999.000,9,-999.0000,9,-999.0000,9,-999.0000,9,-999.0000,9, 27.801, 32.440, 36.974, 41.406, 45.738
33RO20110828,   A10,    29,  1,      5,    005,2,20000101,0000,-29.5997,   1.6921, 3648,   2550.6,   2.5047,  34.8394,2,  34.8403,2,  35.0046,2,    226.0,2,    225.8,2,    52.99,2,    24.89,2,     0.00,2,     1.83,2,    0.018,2,    0.009,2,    0.095,2,   2205.6,2,   2339.1,2,   -999.0,9,  -999.00, 999.0000,5,   999.00,    0.000,2,   -999.0,1,   -999.0,1, -999.000,9,-999.0000,9,-999.0000,9,-999.0000,9,-999.0000,9, 27.818, 32.462, 37.001, 41.438, 45.774
33RO20110828,   A10,    29,  1,      4,    004,2,20000101,0000,-29.5997,   1.6921, 3648,   2799.3,   2.3918,  34.8491,2,  34.8510,2,  35.0153,2,    230.2,2,    229.4,2,    53.87,2,    24.50,2,     0.00,2,     1.80,2,    0.013,2,    0.007,2,    0.091,2,   2206.6,2,   -999.0,9,   -999.0,9,  -999.00,-999.0000,9,  -999.00,    0.023,2,   -999.0,1,   -999.0,1, -999.000,9,-999.0000,9,-999.0000,9,-999.0000,9,-999.0000,9, 27.838, 32.485, 37.028, 41.468, 45.807
33RO20110828,   A10,    29,  1,      3,    003,2,20000101,0000,-29.5997,   1.6921, 3648,   3049.7,   2.3122,  34.8597,2,  34.8604,2,  35.0248,2,    232.7,2,    233.1,2,    54.46,2,    24.11,2,     0.00,2,     1.77,2,    0.009,2,    0.005,2,    0.069,2,   2206.5,2,   -999.0,5,   -999.0,9,  -999.00, 999.0000,5,   999.00,    0.000,2,   -999.0,1,   -999.0,1, -999.000,9,-999.0000,9,-999.0000,9,-999.0000,9,-999.0000,9, 27.854, 32.504, 37.049, 41.492, 45.834
33RO20110828,   A10,    29,  1,      2,    002,2,20000101,0000,-29.5997,   1.6921, 3648,   3349.9,   2.2692,  34.8686,2,  34.8689,6,  35.0333,6,    232.9,2,    233.1,2,    55.14,2,    23.91,2,     0.00,2,     1.73,2,    0.006,2,    0.004,2,    0.032,2,   2210.7,2,   -999.0,9,   -999.0,9,  -999.00,-999.0000,9,  -999.00,    0.000,2,   -999.0,1,   -999.0,1, -999.000,9,-999.0000,9,-999.0000,9,-999.0000,9,-999.0000,9, 27.867, 32.518, 37.066, 41.510, 45.854
33RO20110828,   A10,    29,  1,      1,    001,2,20000101,0000,-29.5997,   1.6921, 3648,   3696.1,   2.2075,  34.8617,2,  34.8656,2,  35.0300,2,    231.4,2,    231.3,2,    58.95,2,    24.40,2,     0.00,2,     1.77,2,    0.010,2,    0.007,2,    0.046,2,   2214.8,2,   2354.9,2,   -999.0,9,  -999.00, 999.0000,5,   999.00,    0.020,3,   -999.0,1,   -999.0,1, -999.000,9,-999.0000,9,-999.0000,9,-999.0000,9,-999.0000,9, 27.872, 32.526, 37.076, 41.524, 45.870