BOTTLE,20130715NOAA
EXPOCODE,SECT_ID,STNNBR,CASTNO,SAMPNO,BTLNBR,BTLNBR_FLAG_W,DATE,TIME,LATITUDE,LONGITUDE,DEPTH,CTDPRS,CTDTMP,CTDSAL,CTDSAL_FLAG_W,SALNTY,SALNTY_FLAG_W,SALTREF,SALTREF_FLAG_W,CTDOXY,CTDOXY_FLAG_W,OXYGEN,OXYGEN_FLAG_W,SILCAT,SILCAT_FLAG_W,NITRAT,NITRAT_FLAG_W,NITRIT,NITRIT_FLAG_W,PHSPHT,PHSPHT_FLAG_W,CFC-11,CFC-11_FLAG_W,CFC-12,CFC-12_FLAG_W,CCL4,CCL4_FLAG_W,TCARBN,TCARBN_FLAG_W,ALKALI,ALKALI_FLAG_W,PCO2,PCO2_FLAG_W,PCO2TMP,PH_TOT,PH_TOT_FLAG_W,PH_TMP,SF6,SF6_FLAG_W,DOC,DOC_FLAG_W,TDN,TDN_FLAG_W,TRITUM,TRITUM_FLAG_W,HELIUM,HELIUM_FLAG_W,OXY_18,OXY_18_FLAG_W,BLACKC,BLACKC_FLAG_W,PIGMENTS,PIGMENTS_FLAG_W,SIGMA-THETA,SIGMA-1,SIGMA-2,SIGMA-3,SIGMA-4
,,,,,,,,,,,METERS,DBARS,ITS-90,PSS-78,,PSS-78,,G/KG,,UMOL/KG,,UMOL/KG,,UMOL/KG,,UMOL/KG,,UMOL/KG,,UMOL/KG,,PMOL/KG,,PMOL/KG,,PMOL/KG,,UMOL/KG,,UMOL/KG,,UATM@T,,DEG_C,,,DEG_C,FMOL/KG,,UMOL/KG,,UMOL/KG,,TU,,NMOL/KG,,,,,,,,,,,,
33RO20110828,   A10,    27,  1,     24,    024,2,20000101,0000,-29.4342,   2.4338, -999,      4.4,  17.6549,  35.7955,2,  35.7972,2,  35.9660,2,    242.3,2,    242.4,2,     1.46,2,     0.00,2,     0.00,2,     0.15,2,    2.408,2,    1.458,2,    3.426,2,   2077.1,2,   2352.1,2,   -999.0,9,  -999.00, 999.0000,5,   999.00,    1.505,2,   -999.0,1,   -999.0,1, -999.000,9,-999.0000,9,-999.0000,9,-999.0000,9,-999.0000,1, 25.968, 30.273, 34.482, 38.600, 42.629
33RO20110828,   A10,    27,  1,     23,    023,2,20000101,0000,-29.4342,   2.4338, -999,     46.8,  17.5346,  35.8158,2,  35.8140,2,  35.9829,2,    243.9,2,    243.4,2,     1.37,2,     0.00,2,     0.00,2,     0.16,2, -999.000,9, -999.000,9, -999.000,9,   2077.5,2,   2352.8,2,   -999.0,9,  -999.00,-999.0000,5,  -999.00, -999.000,9,   -999.0,1,   -999.0,1, -999.000,9,-999.0000,9,-999.0000,9,-999.0000,9,-999.0000,9, 26.012, 30.319, 34.530, 38.650, 42.680
33RO20110828,   A10,    27,  1,     22,    022,2,20000101,0000,-29.4342,   2.4338, -999,     70.4,  16.7324,  35.7131,2,  35.7120,2,  35.8803,2,    245.2,2,    243.7,2,     1.56,2,     0.29,2,     0.09,2,     0.19,2,    2.437,2,    1.474,2,    2.977,2,   2079.0,2,   2345.9,2,   -999.0,9,  -999.00,-999.0000,5,  -999.00,    1.484,2,   -999.0,1,   -999.0,1, -999.000,9,-999.0000,9,-999.0000,9,-999.0000,9,-999.0000,1, 26.127, 30.448, 34.674, 38.807, 42.850
33RO20110828,   A10,    27,  1,     21,    021,2,20000101,0000,-29.4342,   2.4338, -999,     94.5,  16.5257,  35.6971,2,  35.6968,2,  35.8651,2,    240.0,2,    238.0,2,     1.85,2,     0.88,2,     0.39,2,     0.24,2, -999.000,9, -999.000,9, -999.000,9,   2082.7,2,   2346.1,2,   -999.0,9,  -999.00,   7.9320,2,    25.30, -999.000,9,   -999.0,1,   -999.0,1, -999.000,9,-999.0000,9,-999.0000,9,-999.0000,9,-999.0000,1, 26.165, 30.490, 34.719, 38.855, 42.902
33RO20110828,   A10,    27,  1,     20,    020,2,20000101,0000,-29.4342,   2.4338, -999,    144.6,  16.2971,  35.6607,2,  35.6596,2,  35.8277,2,    235.5,2,    236.1,2,     2.05,2,     1.17,2,     0.63,2,     0.27,2, -999.000,9, -999.000,9, -999.000,9,   2083.6,2,   2341.6,2,   -999.0,9,  -999.00,   7.9270,2,    25.31, -999.000,9,   -999.0,1,   -999.0,1, -999.000,9,-999.0000,9,-999.0000,9,-999.0000,9,-999.0000,9, 26.192, 30.521, 34.754, 38.895, 42.945
33RO20110828,   A10,    27,  1,     19,    019,2,20000101,0000,-29.4342,   2.4338, -999,    189.1,  15.1505,  35.4531,2,  35.4563,2,  35.6235,2,    218.4,2,    220.6,2,     2.63,2,     4.88,2,     0.03,2,     0.48,2,    2.623,2,    1.572,2,    1.413,2,   2098.8,2,   2330.1,2,   -999.0,9,  -999.00,   7.8811,2,    25.37,    1.419,2,   -999.0,1,   -999.0,1, -999.000,9,-999.0000,9,-999.0000,9,-999.0000,9,-999.0000,9, 26.297, 30.648, 34.902, 39.063, 43.134
33RO20110828,   A10,    27,  1,     18,    018,2,20000101,0000,-29.4342,   2.4338, -999,    241.1,  13.6801,  35.2130,2,  35.2154,2,  35.3815,2,    219.6,2,    220.2,2,     2.93,2,     7.32,2,     0.02,2,     0.64,2, -999.000,9, -999.000,9, -999.000,9,   2108.9,2,   2316.6,2,   -999.0,9,  -999.00,   7.8102,2,    25.33, -999.000,9,   -999.0,1,   -999.0,1, -999.000,9,-999.0000,9,-999.0000,9,-999.0000,9,-999.0000,9, 26.428, 30.807, 35.090, 39.279, 43.375
33RO20110828,   A10,    27,  1,     17,    017,2,20000101,0000,-29.4342,   2.4338, -999,    288.4,  12.8805,  35.1164,2,  35.1168,2,  35.2824,2,    218.3,2,    218.5,2,     3.51,2,     9.37,2,     0.01,2,     0.78,2,    2.955,2,    1.713,2,    1.184,2,   2115.8,2,   2311.7,2,   -999.0,9,  -999.00,-999.0000,5,  -999.00,    1.372,2,   -999.0,1,   -999.0,1, -999.000,9,-999.0000,9,-999.0000,9,-999.0000,9,-999.0000,9, 26.515, 30.911, 35.210, 39.413, 43.525
33RO20110828,   A10,    27,  1,     16,    016,2,20000101,0000,-29.4342,   2.4338, -999,    340.3,  12.1321,  35.0518,2,  35.0508,2,  35.2161,2,    212.3,2,    213.2,2,     4.49,2,    12.00,2,     0.01,2,     0.94,2, -999.000,9, -999.000,9, -999.000,9,   2124.6,2,   2310.6,2,   -999.0,9,  -999.00,-999.0000,5,  -999.00, -999.000,9,   -999.0,1,   -999.0,1, -999.000,9,-999.0000,9,-999.0000,9,-999.0000,9,-999.0000,9, 26.612, 31.023, 35.337, 39.555, 43.680
33RO20110828,   A10,    27,  1,     15,    015,2,20000101,0000,-29.4342,   2.4338, -999,    375.8,  11.3920,  34.9645,2,  34.9682,2,  35.1331,2,    212.6,2,    214.3,2,     5.17,2,    13.66,2,     0.01,2,     1.05,2,    3.145,2,    1.751,2,    1.230,2,   2128.0,2,   2306.8,2,   -999.0,9,  -999.00,-999.0000,5,  -999.00,    1.231,2,   -999.0,1,   -999.0,1, -999.000,9,-999.0000,9,-999.0000,9,-999.0000,9,-999.0000,9, 26.688, 31.115, 35.443, 39.676, 43.815
33RO20110828,   A10,    27,  1,     14,    014,2,20000101,0000,-29.4342,   2.4338, -999,    423.4,  10.4448,  34.8459,2,  34.8445,2,  35.0088,2,    208.4,2,    207.9,2,     6.64,2,    16.49,2,     0.01,2,     1.23,2, -999.000,9, -999.000,9, -999.000,9,   2139.7,2,   2298.7,3,   -999.0,9,  -999.00,   7.7421,2,    25.42, -999.000,9,   -999.0,1,   -999.0,1, -999.000,9,-999.0000,9,-999.0000,9,-999.0000,9,-999.0000,9, 26.762, 31.210, 35.559, 39.811, 43.969
33RO20110828,   A10,    27,  1,     13,    013,2,20000101,0000,-29.4342,   2.4338, -999,    539.8,   8.5160,  34.6331,2,  34.6312,2,  34.7945,2,    186.0,2,    183.4,2,    12.40,2,    23.62,2,     0.01,2,     1.73,2,    2.902,2,    1.547,2,    1.657,2,   2168.2,2,   2293.1,3,   -999.0,9,  -999.00,   7.7376,4,    25.36,    0.889,2,   -999.0,1,   -999.0,1, -999.000,9,-999.0000,9,-999.0000,9,-999.0000,9,-999.0000,9, 26.915, 31.406, 35.797, 40.091, 44.289
33RO20110828,   A10,    27,  1,     12,    012,2,20000101,0000,-29.4342,   2.4338, -999,    640.8,   6.9964,  34.4933,2,  34.4896,2,  34.6523,2,    184.2,2,    183.9,2,    16.89,2,    27.24,2,     0.01,2,     2.00,2, -999.000,9, -999.000,9, -999.000,9,   2180.5,2,   2288.7,2,   -999.0,9,  -999.00,   7.6188,2,    25.38, -999.000,9,   -999.0,1,   -999.0,1, -999.000,9,-999.0000,9,-999.0000,9,-999.0000,9,-999.0000,9, 27.026, 31.554, 35.980, 40.308, 44.539
33RO20110828,   A10,    27,  1,     11,    011,2,20000101,0000,-29.4342,   2.4338, -999,    750.1,   5.6078,  34.3887,2,  34.3846,2,  34.5468,2,    195.9,2,    194.8,2,    21.97,2,    29.48,2,     0.01,2,     2.15,2,    2.569,2,    1.308,2,    2.319,2,   2186.0,2,   2288.2,2,   -999.0,9,  -999.00,   7.6412,4,    25.35,    0.665,2,   -999.0,1,   -999.0,1, -999.000,9,-999.0000,9,-999.0000,9,-999.0000,9,-999.0000,9, 27.123, 31.686, 36.146, 40.506, 44.769
33RO20110828,   A10,    27,  1,     10,    010,2,20000101,0000,-29.4342,   2.4338, -999,    849.7,   4.5817,  34.3582,2,  34.3576,2,  34.5196,2,    196.5,2,    196.8,2,    29.87,2,    31.05,2,     0.00,2,     2.28,2, -999.000,9, -999.000,9, -999.000,9,   2196.7,2,   2296.5,2,   -999.0,9,  -999.00,-999.0000,5,  -999.00, -999.000,9,   -999.0,1,   -999.0,1, -999.000,9,-999.0000,9,-999.0000,9,-999.0000,9,-999.0000,9, 27.220, 31.809, 36.295, 40.680, 44.966
33RO20110828,   A10,    27,  1,      9,    009,2,20000101,0000,-29.4342,   2.4338, -999,   1000.0,   3.8989,  34.4011,2,  34.4011,6,  34.5633,6,    187.5,2,    189.2,2,    40.91,2,    32.41,2,     0.00,2,     2.40,2,    1.383,2,    0.673,2,    1.622,2,   2222.7,2,   2307.6,2,   -999.0,9,  -999.00,   7.5703,2,    25.38,    0.265,2,   -999.0,1,   -999.0,1, -999.000,9,-999.0000,9,-999.0000,9,-999.0000,9,-999.0000,9, 27.327, 31.934, 36.436, 40.838, 45.140
33RO20110828,   A10,    27,  1,      8,    008,2,20000101,0000,-29.4342,   2.4338, -999,   1170.3,   3.3877,  34.5201,2,  34.5195,2,  34.6823,2,    179.2,2,    177.6,2,    50.47,2,    32.51,2,     0.01,2,     2.43,2,    0.525,2,    0.248,2,    0.738,2,   2231.4,2,   2320.3,2,   -999.0,9,  -999.00,   7.5676,2,    25.47,    0.075,2,   -999.0,1,   -999.0,1, -999.000,9,-999.0000,9,-999.0000,9,-999.0000,9,-999.0000,9, 27.473, 32.092, 36.608, 41.022, 45.336
33RO20110828,   A10,    27,  1,      7,    007,2,20000101,0000,-29.4342,   2.4338, -999,   1338.8,   3.2445,  34.6283,2,  34.6284,2,  34.7917,2,    183.6,2,    182.9,2,    50.66,2,    31.04,2,     0.01,2,     2.30,2,    0.208,2,    0.098,2,    0.367,2,   2231.1,2,   2325.7,2,   -999.0,9,  -999.00,   7.5825,2,    25.50,    0.032,2,   -999.0,1,   -999.0,1, -999.000,9,-999.0000,9,-999.0000,9,-999.0000,9,-999.0000,9, 27.575, 32.197, 36.716, 41.133, 45.450
33RO20110828,   A10,    27,  1,      6,    006,2,20000101,0000,-29.4342,   2.4338, -999,   1509.7,   3.2182,  34.7187,2,-999.0000,5,-999.0000,5,    192.4,2,    194.1,2,    47.05,2,    28.99,2,     0.00,2,     2.13,2,    0.083,2,    0.040,2,    0.190,2,   2222.8,2,  -9999.0,5,   -999.0,9,  -999.00,   7.6067,3,    25.43,    0.000,2,   -999.0,1,   -999.0,1, -999.000,9,-999.0000,9,-999.0000,9,-999.0000,9,-999.0000,9, 27.651, 32.273, 36.793, 41.210, 45.527
33RO20110828,   A10,    27,  1,      5,    005,2,20000101,0000,-29.4342,   2.4338, -999,   1690.3,   3.1737,  34.7883,2,  34.7890,2,  34.9530,2,    205.0,2,    207.0,2,    43.43,2,    26.84,2,     0.01,2,     1.97,2,    0.034,2,    0.017,2,    0.097,2,   2210.0,2,   2327.4,2,   -999.0,9,  -999.00,   7.3028,4,    25.40,    0.000,2,   -999.0,1,   -999.0,1, -999.000,9,-999.0000,9,-999.0000,9,-999.0000,9,-999.0000,9, 27.712, 32.336, 36.856, 41.274, 45.592
33RO20110828,   A10,    27,  1,      4,    004,2,20000101,0000,-29.4342,   2.4338, -999,   1902.0,   3.0559,  34.8302,2,  34.8303,2,  34.9945,2,    217.8,2,    216.1,2,    42.55,2,    25.47,2,     0.00,2,     1.85,2,    0.019,2,    0.010,2,    0.076,2,   2203.4,2,   -999.0,5,   -999.0,9,  -999.00,   7.6552,2,    25.40,    0.000,2,   -999.0,1,   -999.0,1, -999.000,9,-999.0000,9,-999.0000,9,-999.0000,9,-999.0000,9, 27.758, 32.385, 36.908, 41.329, 45.650
33RO20110828,   A10,    27,  1,      3,    003,2,20000101,0000,-29.4342,   2.4338, -999,   2189.4,   2.7309,  34.8231,2,  34.8243,2,  34.9885,2,    220.1,2,    219.7,2,    50.07,2,    25.57,2,     0.00,2,     1.87,2, -999.000,9, -999.000,9, -999.000,9,   2208.4,2,   2332.3,2,   -999.0,9,  -999.00,   7.6545,2,    25.48, -999.000,9,   -999.0,1,   -999.0,1, -999.000,9,-999.0000,9,-999.0000,9,-999.0000,9,-999.0000,9, 27.784, 32.420, 36.953, 41.383, 45.713
33RO20110828,   A10,    27,  1,      2,    002,2,20000101,0000,-29.4342,   2.4338, -999,   2490.6,   2.5263,  34.8414,2,  34.8419,2,  35.0062,2,    227.0,2,    225.8,2,    52.41,2,    24.79,2,     0.00,2,     1.80,2, -999.000,9, -999.000,9, -999.000,9,   2208.7,2,   2337.9,2,   -999.0,9,  -999.00,   7.6715,2,    25.50, -999.000,9,   -999.0,1,   -999.0,1, -999.000,9,-999.0000,9,-999.0000,9,-999.0000,9,-999.0000,9, 27.817, 32.460, 36.999, 41.435, 45.770
33RO20110828,   A10,    27,  1,      1,    001,2,20000101,0000,-29.4342,   2.4338, -999,   2819.3,   2.4108,  34.8513,2,  34.8517,2,  35.0161,2,    228.3,2,    229.2,2,    53.77,2,    24.50,2,     0.01,2,     1.77,2,    0.011,2,    0.006,2,    0.053,2,   2210.6,2,   2340.8,2,   -999.0,9,  -999.00,   7.6991,2,    25.42,    0.000,2,   -999.0,1,   -999.0,1, -999.000,9,-999.0000,9,-999.0000,9,-999.0000,9,-999.0000,9, 27.837, 32.484, 37.026, 41.466, 45.805