BOTTLE,20130715NOAA
EXPOCODE,SECT_ID,STNNBR,CASTNO,SAMPNO,BTLNBR,BTLNBR_FLAG_W,DATE,TIME,LATITUDE,LONGITUDE,DEPTH,CTDPRS,CTDTMP,CTDSAL,CTDSAL_FLAG_W,SALNTY,SALNTY_FLAG_W,SALTREF,SALTREF_FLAG_W,CTDOXY,CTDOXY_FLAG_W,OXYGEN,OXYGEN_FLAG_W,SILCAT,SILCAT_FLAG_W,NITRAT,NITRAT_FLAG_W,NITRIT,NITRIT_FLAG_W,PHSPHT,PHSPHT_FLAG_W,CFC-11,CFC-11_FLAG_W,CFC-12,CFC-12_FLAG_W,CCL4,CCL4_FLAG_W,TCARBN,TCARBN_FLAG_W,ALKALI,ALKALI_FLAG_W,PCO2,PCO2_FLAG_W,PCO2TMP,PH_TOT,PH_TOT_FLAG_W,PH_TMP,SF6,SF6_FLAG_W,DOC,DOC_FLAG_W,TDN,TDN_FLAG_W,TRITUM,TRITUM_FLAG_W,HELIUM,HELIUM_FLAG_W,OXY_18,OXY_18_FLAG_W,BLACKC,BLACKC_FLAG_W,PIGMENTS,PIGMENTS_FLAG_W,SIGMA-THETA,SIGMA-1,SIGMA-2,SIGMA-3,SIGMA-4
,,,,,,,,,,,METERS,DBARS,ITS-90,PSS-78,,PSS-78,,G/KG,,UMOL/KG,,UMOL/KG,,UMOL/KG,,UMOL/KG,,UMOL/KG,,UMOL/KG,,PMOL/KG,,PMOL/KG,,PMOL/KG,,UMOL/KG,,UMOL/KG,,UATM@T,,DEG_C,,,DEG_C,FMOL/KG,,UMOL/KG,,UMOL/KG,,TU,,NMOL/KG,,,,,,,,,,,,
33RO20110828,   A10,    81,  1,     24,    024,2,20000101,0000,-29.9999, -31.8918, 3984,      4.0,  17.5667,  35.9166,2,  35.9169,2,  36.0863,2,    239.0,2,    239.3,2,     0.78,2,     0.00,2,     0.00,2,     0.08,2,    2.394,2,    1.435,2,    2.899,3,   2084.4,6,   2353.7,2,   -999.0,9,  -999.00,   7.9387,2,    25.62,    1.426,2,   -999.0,1,   -999.0,1, -999.000,9,-999.0000,9,-999.0000,9,-999.0000,9,-999.0000,1, 26.081, 30.387, 34.597, 38.715, 42.745
33RO20110828,   A10,    81,  1,     23,    023,2,20000101,0000,-29.9999, -31.8918, 3984,     40.1,  17.4344,  35.9145,2,  35.9213,2,  36.0906,2,    239.4,2,    239.4,2,     0.88,2,     0.00,2,     0.00,2,     0.08,2,    2.401,2,    1.427,2,    3.500,3,   2083.0,2,   2354.4,2,   -999.0,9,  -999.00,   7.9438,2,    25.65,    1.414,2,   -999.0,1,   -999.0,1, -999.000,9,-999.0000,9,-999.0000,9,-999.0000,9,-999.0000,9, 26.118, 30.426, 34.639, 38.759, 42.790
33RO20110828,   A10,    81,  1,     22,    022,2,20000101,0000,-29.9999, -31.8918, 3984,     90.2,  17.2315,  35.9022,2,  35.9023,2,  36.0716,2,    238.1,2,    239.3,2,     0.78,2,     0.10,2,     0.01,2,     0.10,2,    2.414,2,    1.443,2,    3.360,3,   2085.0,2,   2361.7,3,   -999.0,9,  -999.00,   7.9291,2,    25.57,    1.473,2,   -999.0,1,   -999.0,1, -999.000,9,-999.0000,9,-999.0000,9,-999.0000,9,-999.0000,1, 26.155, 30.466, 34.682, 38.806, 42.841
33RO20110828,   A10,    81,  1,     21,    021,2,20000101,0000,-29.9999, -31.8918, 3984,    161.6,  15.8526,  35.6355,2,  35.6342,2,  35.8022,2,    221.4,2,    217.8,2,     1.76,2,     3.61,2,     0.02,2,     0.30,2,    2.584,2,    1.520,2,    1.302,3,   2105.7,2,   2283.7,4,   -999.0,9,  -999.00,   7.8717,2,    25.64,    1.385,2,   -999.0,1,   -999.0,1, -999.000,9,-999.0000,9,-999.0000,9,-999.0000,9,-999.0000,1, 26.275, 30.612, 34.853, 39.001, 43.059
33RO20110828,   A10,    81,  1,     20,    020,2,20000101,0000,-29.9999, -31.8918, 3984,    209.5,  14.8306,  35.4711,2,  35.4723,2,  35.6396,2,    210.7,2,    212.9,2,     2.15,2,     5.85,2,     0.01,2,     0.42,2,    2.755,2,    1.594,2,    0.822,3,   2116.2,2,   2326.9,2,   -999.0,9,  -999.00,   7.8472,2,    25.68,    1.339,2,   -999.0,1,   -999.0,1, -999.000,9,-999.0000,9,-999.0000,9,-999.0000,9,-999.0000,9, 26.380, 30.737, 34.997, 39.164, 43.239
33RO20110828,   A10,    81,  1,     19,    019,2,20000101,0000,-29.9999, -31.8918, 3984,    280.5,  13.6857,  35.3110,2,  35.3121,2,  35.4786,2,    212.1,2,    213.0,2,     2.83,2,     8.39,2,     0.01,2,     0.56,2,    2.902,2,    1.652,2,    0.913,3,   2122.9,2,   2318.0,2,   -999.0,9,  -999.00,   7.8127,2,    25.62,    1.321,2,   -999.0,1,   -999.0,1, -999.000,9,-999.0000,9,-999.0000,9,-999.0000,9,-999.0000,9, 26.503, 30.882, 35.164, 39.352, 43.448
33RO20110828,   A10,    81,  1,     18,    018,2,20000101,0000,-29.9999, -31.8918, 3984,    364.8,  12.5489,  35.1538,2,  35.1572,2,  35.3230,2,    215.2,2,    212.7,2,     3.71,2,    10.93,2,     0.00,2,     0.69,2,    3.038,2,    1.702,2,    0.795,3,   2130.1,2,   2310.2,2,   -999.0,9,  -999.00,   7.7936,2,    25.55,    1.218,2,   -999.0,1,   -999.0,1, -999.000,9,-999.0000,9,-999.0000,9,-999.0000,9,-999.0000,9, 26.614, 31.017, 35.321, 39.531, 43.648
33RO20110828,   A10,    81,  1,     17,    017,2,20000101,0000,-29.9999, -31.8918, 3984,    442.8,  11.3175,  34.9868,2,  34.9858,2,  35.1508,2,    208.8,2,    210.4,2,     5.07,2,    13.95,2,     0.00,2,     0.86,2,    3.135,2,    1.713,2,    1.228,3,   2137.8,2,   2302.1,2,   -999.0,9,  -999.00,   7.7628,2,    25.61,    1.088,2,   -999.0,1,   -999.0,1, -999.000,9,-999.0000,9,-999.0000,9,-999.0000,9,-999.0000,9, 26.717, 31.145, 35.475, 39.710, 43.850
33RO20110828,   A10,    81,  1,     16,    016,2,20000101,0000,-29.9999, -31.8918, 3984,    532.8,   9.5898,  34.7537,2,  34.7567,2,  34.9206,2,    204.3,2,    205.1,2,     7.61,2,    18.44,2,     0.01,2,     1.11,2,    3.183,2,    1.688,2,    1.320,3,   2151.4,2,   2291.1,2,   -999.0,9,  -999.00,   7.7125,2,    25.56,    0.964,2,   -999.0,1,   -999.0,1, -999.000,9,-999.0000,9,-999.0000,9,-999.0000,9,-999.0000,9, 26.841, 31.308, 35.675, 39.946, 44.121
33RO20110828,   A10,    81,  1,     15,    015,2,20000101,0000,-29.9999, -31.8918, 3984,    635.5,   7.6949,  34.5405,2,  34.5405,2,  34.7034,2,    205.5,2,    205.3,2,    11.81,2,    23.23,2,     0.00,2,     1.40,2,    3.146,2,    1.625,2,    1.811,3,   2166.0,2,   2285.9,2,   -999.0,9,  -999.00,   7.6617,2,    25.64,    0.816,2,   -999.0,1,   -999.0,1, -999.000,9,-999.0000,9,-999.0000,9,-999.0000,9,-999.0000,9, 26.967, 31.478, 35.889, 40.201, 44.417
33RO20110828,   A10,    81,  1,     14,    014,2,20000101,0000,-29.9999, -31.8918, 3984,    745.7,   5.9309,  34.3724,2,  34.3737,2,  34.5358,2,    218.4,2,    218.0,2,    15.81,2,    26.26,2,     0.00,2,     1.59,2,    3.163,2,    1.599,2,    2.449,3,   2174.3,2,   2281.1,2,   -999.0,9,  -999.00,   7.6342,2,    25.59,    0.785,2,   -999.0,1,   -999.0,1, -999.000,9,-999.0000,9,-999.0000,9,-999.0000,9,-999.0000,9, 27.075, 31.629, 36.082, 40.435, 44.690
33RO20110828,   A10,    81,  1,     13,    013,2,20000101,0000,-29.9999, -31.8918, 3984,    832.5,   5.0119,  34.3078,2,  34.3095,2,  34.4713,2,    223.9,2,    224.3,2,    19.52,2,    27.92,2,     0.00,2,     1.71,2,    3.056,2,    1.527,2,    2.728,3,   2180.4,2,   2267.6,4,   -999.0,9,  -999.00,   7.6175,2,    25.61,    0.673,2,   -999.0,1,   -999.0,1, -999.000,9,-999.0000,9,-999.0000,9,-999.0000,9,-999.0000,9, 27.134, 31.712, 36.188, 40.563, 44.840
33RO20110828,   A10,    81,  1,     12,    012,2,20000101,0000,-29.9999, -31.8918, 3984,    920.4,   4.1432,  34.2803,2,  34.2810,2,  34.4426,2,    224.0,2,    224.3,2,    26.07,2,    29.68,2,     0.00,2,     1.85,2,    2.672,2,    1.314,2,    2.683,3,   2189.8,2,   2287.2,2,   -999.0,9,  -999.00,   7.6112,2,    25.60,    0.571,2,   -999.0,1,   -999.0,1, -999.000,9,-999.0000,9,-999.0000,9,-999.0000,9,-999.0000,9, 27.207, 31.807, 36.305, 40.701, 44.998
33RO20110828,   A10,    81,  1,     11,    011,2,20000101,0000,-29.9999, -31.8918, 3984,   1014.9,   3.7043,  34.3065,2,  34.3078,2,  34.4695,2,    215.2,2,    215.5,2,    33.09,2,    30.95,2,     0.00,2,     1.97,2,    2.144,2,    1.045,2,    2.358,3,   2201.9,2,   2293.2,2,   -999.0,9,  -999.00,   7.5778,2,    25.54,    0.400,2,   -999.0,1,   -999.0,1, -999.000,9,-999.0000,9,-999.0000,9,-999.0000,9,-999.0000,9, 27.273, 31.885, 36.394, 40.801, 45.108
33RO20110828,   A10,    81,  1,     10,    010,2,20000101,0000,-29.9999, -31.8918, 3984,   1134.4,   3.3680,  34.3785,2,  34.3837,2,  34.5458,2,    200.7,2,    200.1,2,    43.34,2,    32.21,2,     0.01,2,     2.11,2,    1.312,2,    0.636,2,    1.629,3,   2217.4,2,   2303.6,2,   -999.0,9,  -999.00,   7.5638,2,    25.50,    0.217,2,   -999.0,1,   -999.0,1, -999.000,9,-999.0000,9,-999.0000,9,-999.0000,9,-999.0000,9, 27.366, 31.987, 36.504, 40.919, 45.235
33RO20110828,   A10,    81,  1,      9,    009,2,20000101,0000,-29.9999, -31.8918, 3984,   1319.7,   3.1149,  34.5110,2,  34.5113,2,  34.6740,2,    187.6,2,    188.2,2,    52.42,2,    32.41,2,     0.00,2,     2.18,2,    0.573,2,    0.276,2,    0.912,3,   2231.1,2,   2314.8,2,   -999.0,9,  -999.00,   7.5515,2,    25.57,    0.125,2,   -999.0,1,   -999.0,1, -999.000,9,-999.0000,9,-999.0000,9,-999.0000,9,-999.0000,9, 27.493, 32.120, 36.643, 41.064, 45.385
33RO20110828,   A10,    81,  1,      8,    008,2,20000101,0000,-29.9999, -31.8918, 3984,   1599.7,   2.9187,  34.6585,2,  34.6595,2,  34.8229,2,    193.4,2,    193.7,2,    54.56,2,    30.16,2,     0.00,2,     2.06,2,    0.166,2,    0.081,2,    0.380,3,   2228.1,6,   2322.1,2,   -999.0,9,  -999.00,   7.5855,2,    25.55,    0.000,2,   -999.0,1,   -999.0,1, -999.000,9,-999.0000,9,-999.0000,9,-999.0000,9,-999.0000,9, 27.631, 32.263, 36.790, 41.215, 45.541
33RO20110828,   A10,    81,  1,      7,    007,2,20000101,0000,-29.9999, -31.8918, 3984,   1849.1,   2.7986,  34.7562,2,  34.7570,2,  34.9209,2,    208.1,2,    208.2,2,    51.92,2,    27.33,2,     0.00,2,     1.89,2,    0.052,2,    0.027,2,    0.194,3,   2217.9,2,   2325.2,2,   -999.0,9,  -999.00,   7.6189,2,    25.49,    0.000,2,   -999.0,1,   -999.0,1, -999.000,9,-999.0000,9,-999.0000,9,-999.0000,9,-999.0000,9, 27.721, 32.356, 36.886, 41.315, 45.642
33RO20110828,   A10,    81,  1,      6,    006,2,20000101,0000,-29.9999, -31.8918, 3984,   2130.0,   2.7678,  34.8259,2,  34.8282,6,  34.9924,6,    225.0,2,    224.9,2,    46.35,2,    24.88,2,     0.00,2,     1.70,2,    0.020,2,    0.011,2,    0.120,3,   2204.8,2,   2325.1,2,   -999.0,9,  -999.00,   7.6466,2,    25.45,    0.000,2,   -999.0,1,   -999.0,1, -999.000,9,-999.0000,9,-999.0000,9,-999.0000,9,-999.0000,9, 27.781, 32.417, 36.948, 41.377, 45.706
33RO20110828,   A10,    81,  1,      5,    005,2,20000101,0000,-29.9999, -31.8918, 3984,   2374.5,   2.7776,  34.8688,2,  34.8707,2,  35.0351,2,    236.5,2,    236.0,2,    40.69,2,    23.03,2,     0.00,2,     1.55,2,    0.014,2,    0.009,2,    0.104,3,   2193.9,2,   2324.8,2,   -999.0,9,  -999.00,   7.6752,2,    25.55,    0.000,2,   -999.0,1,   -999.0,1, -999.000,9,-999.0000,9,-999.0000,9,-999.0000,9,-999.0000,9, 27.818, 32.454, 36.985, 41.414, 45.743
33RO20110828,   A10,    81,  1,      4,    004,2,20000101,0000,-29.9999, -31.8918, 3984,   2799.6,   2.7212,  34.8953,2,  34.8963,2,  35.0608,2,    245.3,2,    245.8,2,    37.86,2,    21.86,2,     0.00,2,     1.46,2,    0.017,2,    0.010,2,    0.120,3,   2187.9,2,   2325.1,2,   -999.0,9,  -999.00,   7.6929,2,    25.59,    0.000,2,   -999.0,1,   -999.0,1, -999.000,9,-999.0000,9,-999.0000,9,-999.0000,9,-999.0000,9, 27.847, 32.485, 37.019, 41.450, 45.781
33RO20110828,   A10,    81,  1,      3,    003,2,20000101,0000,-29.9999, -31.8918, 3984,   3300.3,   2.4226,  34.8810,2,  34.8825,2,  35.0470,2,    246.3,2,    247.1,2,    45.86,2,    22.64,2,     0.00,2,     1.55,2,    0.026,2,    0.015,2,    0.153,3,   2194.6,2,   2328.6,2,   -999.0,9,  -999.00,   7.6891,2,    25.53,    0.027,2,   -999.0,1,   -999.0,1, -999.000,9,-999.0000,9,-999.0000,9,-999.0000,9,-999.0000,9, 27.865, 32.513, 37.056, 41.496, 45.836
33RO20110828,   A10,    81,  1,      2,    002,2,20000101,0000,-29.9999, -31.8918, 3984,   3799.0,   1.6567,  34.8007,2,  34.8028,2,  34.9670,2,    232.9,2,    232.2,2,    77.78,2,    26.45,2,     0.00,2,     2.01,2,    0.067,2,    0.035,2,    0.197,3,   2226.5,2,   2344.8,2,   -999.0,9,  -999.00,   7.6435,2,    25.49,    0.074,2,   -999.0,1,   -999.0,1, -999.000,9,-999.0000,9,-999.0000,9,-999.0000,9,-999.0000,9, 27.863, 32.533, 37.099, 41.561, 45.922
33RO20110828,   A10,    81,  1,      1,    001,2,20000101,0000,-29.9999, -31.8918, 3984,   3995.6,   1.2746,  34.7586,2,  34.7624,2,  34.9263,2,    225.4,2,    225.6,2,    93.69,2,    28.59,2,     0.00,2,     2.25,2,    0.113,2,    0.055,2,    0.256,3,   2244.0,6,   2353.2,2,   -999.0,9,  -999.00,   7.6304,2,    25.39,    0.000,2,   -999.0,1,   -999.0,1, -999.000,9,-999.0000,9,-999.0000,9,-999.0000,9,-999.0000,9, 27.857, 32.539, 37.116, 41.589, 45.960