BOTTLE,20130715NOAA
EXPOCODE,SECT_ID,STNNBR,CASTNO,SAMPNO,BTLNBR,BTLNBR_FLAG_W,DATE,TIME,LATITUDE,LONGITUDE,DEPTH,CTDPRS,CTDTMP,CTDSAL,CTDSAL_FLAG_W,SALNTY,SALNTY_FLAG_W,SALTREF,SALTREF_FLAG_W,CTDOXY,CTDOXY_FLAG_W,OXYGEN,OXYGEN_FLAG_W,SILCAT,SILCAT_FLAG_W,NITRAT,NITRAT_FLAG_W,NITRIT,NITRIT_FLAG_W,PHSPHT,PHSPHT_FLAG_W,CFC-11,CFC-11_FLAG_W,CFC-12,CFC-12_FLAG_W,CCL4,CCL4_FLAG_W,TCARBN,TCARBN_FLAG_W,ALKALI,ALKALI_FLAG_W,PCO2,PCO2_FLAG_W,PCO2TMP,PH_TOT,PH_TOT_FLAG_W,PH_TMP,SF6,SF6_FLAG_W,DOC,DOC_FLAG_W,TDN,TDN_FLAG_W,TRITUM,TRITUM_FLAG_W,HELIUM,HELIUM_FLAG_W,OXY_18,OXY_18_FLAG_W,BLACKC,BLACKC_FLAG_W,PIGMENTS,PIGMENTS_FLAG_W,SIGMA-THETA,SIGMA-1,SIGMA-2,SIGMA-3,SIGMA-4
,,,,,,,,,,,METERS,DBARS,ITS-90,PSS-78,,PSS-78,,G/KG,,UMOL/KG,,UMOL/KG,,UMOL/KG,,UMOL/KG,,UMOL/KG,,UMOL/KG,,PMOL/KG,,PMOL/KG,,PMOL/KG,,UMOL/KG,,UMOL/KG,,UATM@T,,DEG_C,,,DEG_C,FMOL/KG,,UMOL/KG,,UMOL/KG,,TU,,NMOL/KG,,,,,,,,,,,,
33RO20110828,   A10,    17,  1,     24,    024,2,20000101,0000,-29.7346,   6.7246, -999,      4.2,  16.7327,  35.6172,2,  35.6170,2,  35.7850,2,    247.8,2,    247.9,2,     1.85,2,     0.10,2,     0.03,2,     0.14,2,    2.508,2,    1.498,2,    3.280,2,   2063.0,6,   2340.6,2,   -999.0,9,  -999.00,   7.9530,2,    25.21,    1.500,2,   -999.0,1,   -999.0,1, -999.000,9,-999.0000,9,-999.0000,9,-999.0000,9,-999.0000,1, 26.052, 30.373, 34.599, 38.732, 42.776
33RO20110828,   A10,    17,  1,     23,    023,2,20000101,0000,-29.7346,   6.7246, -999,     39.9,  16.6450,  35.6129,2,  35.6119,2,  35.7798,2,    247.2,2,    247.3,2,     1.95,2,     0.29,2,     0.05,2,     0.15,2,    2.502,2,    1.490,2,    3.217,2,   2061.5,2,   2338.2,2,   -999.0,9,  -999.00,   7.9612,2,    25.24,    1.501,2,   -999.0,1,   -999.0,1, -999.000,9,-999.0000,9,-999.0000,9,-999.0000,9,-999.0000,1, 26.070, 30.393, 34.620, 38.755, 42.801
33RO20110828,   A10,    17,  1,     22,    022,2,20000101,0000,-29.7346,   6.7246, -999,     95.3,  15.9858,  35.6039,2,  35.6030,2,  35.7709,2,    240.4,2,    238.7,2,     2.44,2,     1.85,2,     0.39,2,     0.26,2,    2.531,2,    1.505,2,    2.411,2,   2075.7,2,   2338.5,2,   -999.0,9,  -999.00,   7.9289,2,    25.24,    1.512,2,   -999.0,1,   -999.0,1, -999.000,9,-999.0000,9,-999.0000,9,-999.0000,9,-999.0000,1, 26.218, 30.553, 34.792, 38.938, 42.994
33RO20110828,   A10,    17,  1,     21,    021,2,20000101,0000,-29.7346,   6.7246, -999,    139.3,  15.7510,  35.5819,2,  35.5813,2,  35.7490,2,    238.6,2,    239.1,2,     2.44,2,     1.95,2,     0.60,2,     0.28,2,    2.545,2,    1.512,2,    2.485,2,   2075.6,2,   2335.4,2,   -999.0,9,  -999.00,   7.9250,2,    25.26,    1.541,2,   -999.0,1,   -999.0,1, -999.000,9,-999.0000,9,-999.0000,9,-999.0000,9,-999.0000,9, 26.257, 30.596, 34.839, 38.989, 43.049
33RO20110828,   A10,    17,  1,     20,    020,2,20000101,0000,-29.7346,   6.7246, -999,    189.0,  15.2285,  35.4749,2,  35.4761,2,  35.6434,2,    227.2,2,    228.3,2,     2.83,2,     4.10,2,     0.02,2,     0.38,2,    2.608,2,    1.542,2,    1.726,2,   2084.2,2,   2325.9,2,   -999.0,9,  -999.00,   7.9101,2,    25.25,    1.479,2,   -999.0,1,   -999.0,1, -999.000,9,-999.0000,9,-999.0000,9,-999.0000,9,-999.0000,9, 26.295, 30.644, 34.897, 39.057, 43.126
33RO20110828,   A10,    17,  1,     19,    019,2,20000101,0000,-29.7346,   6.7246, -999,    271.7,  13.3512,  35.1863,2,  35.1869,6,  35.3528,6,    219.5,2,    219.8,2,     3.32,2,     8.10,2,     0.01,2,     0.61,2,    2.902,2,    1.682,2,    1.164,2,   2105.7,2,   2311.4,2,   -999.0,9,  -999.00,   7.8355,2,    25.35,    1.435,2,   -999.0,1,   -999.0,1, -999.000,9,-999.0000,9,-999.0000,9,-999.0000,9,-999.0000,9, 26.474, 30.860, 35.149, 39.344, 43.447
33RO20110828,   A10,    17,  1,     18,    018,2,20000101,0000,-29.7346,   6.7246, -999,    369.0,  11.5433,  34.9903,2,  35.1866,2,  35.3525,2,    216.6,2,    214.6,2,     5.07,2,    13.37,2,     0.01,2,     0.89,2,    3.115,2,    1.758,2,    1.177,2,   2122.4,2,   2301.6,2,   -999.0,9,  -999.00,   7.7844,2,    25.42,    1.188,2,   -999.0,1,   -999.0,1, -999.000,9,-999.0000,9,-999.0000,9,-999.0000,9,-999.0000,9, 26.829, 31.252, 35.576, 39.804, 43.939
33RO20110828,   A10,    17,  1,     17,    017,2,20000101,0000,-29.7346,   6.7246, -999,    493.1,   9.2464,  34.6953,2,  34.6958,2,  34.8594,2,    214.2,2,    215.4,2,     7.42,2,    18.45,2,     0.01,2,     1.22,2,    3.289,2,    1.815,2,    1.767,2,   2138.8,2,   2291.4,2,   -999.0,9,  -999.00,   7.7222,2,    25.36,    1.191,2,   -999.0,1,   -999.0,1, -999.000,9,-999.0000,9,-999.0000,9,-999.0000,9,-999.0000,9, 26.849, 31.324, 35.699, 39.976, 44.159
33RO20110828,   A10,    17,  1,     16,    016,2,20000101,0000,-29.7346,   6.7246, -999,    644.8,   6.5503,  34.4221,2,  34.4229,6,  34.5852,6,    212.3,2,    212.5,2,    15.33,2,    25.58,2,     0.01,2,     1.67,2,    3.182,2,    1.671,2,    2.491,2,   2161.3,2,   2288.7,2,   -999.0,9,  -999.00,   7.6523,2,    25.35,    0.916,2,   -999.0,1,   -999.0,1, -999.000,9,-999.0000,9,-999.0000,9,-999.0000,9,-999.0000,9, 27.033, 31.572, 36.010, 40.348, 44.589
33RO20110828,   A10,    17,  1,     15,    015,2,20000101,0000,-29.7346,   6.7246, -999,    794.0,   4.7876,  34.3177,2,  34.3175,2,  34.4793,2,    217.3,2,    217.8,2,    24.31,2,    29.09,2,     0.01,2,     1.92,2,    2.844,2,    1.449,2,    2.788,2,   2176.2,2,   2291.0,2,   -999.0,9,  -999.00,   7.6209,2,    25.40,    0.714,2,   -999.0,1,   -999.0,1, -999.000,9,-999.0000,9,-999.0000,9,-999.0000,9,-999.0000,9, 27.165, 31.749, 36.230, 40.610, 44.892
33RO20110828,   A10,    17,  1,     14,    014,2,20000101,0000,-29.7346,   6.7246, -999,    945.0,   3.9882,  34.3680,2,  34.3683,2,  34.5304,2,    196.9,2,    196.1,2,    37.78,2,    31.92,2,     0.00,2,     2.14,2,    1.803,2,    0.882,2,    1.982,2,   2201.3,2,   2304.8,2,   -999.0,9,  -999.00,   7.5849,2,    25.37,    0.369,2,   -999.0,1,   -999.0,1, -999.000,9,-999.0000,9,-999.0000,9,-999.0000,9,-999.0000,9, 27.292, 31.896, 36.397, 40.797, 45.097
33RO20110828,   A10,    17,  1,     13,    013,2,20000101,0000,-29.7346,   6.7246, -999,   1239.3,   3.1952,  34.5447,2,  34.5431,2,  34.7059,2,    177.4,2,    176.9,2,    55.74,2,    32.80,2,     0.00,2,     2.26,2,    0.484,2,    0.224,2,    0.677,2,   2229.6,6,   2311.5,2,   -999.0,9,  -999.00,   7.5654,2,    25.42,    0.070,2,   -999.0,1,   -999.0,1, -999.000,9,-999.0000,9,-999.0000,9,-999.0000,9,-999.0000,9, 27.510, 32.135, 36.655, 41.074, 45.392
33RO20110828,   A10,    17,  1,     12,    012,2,20000101,0000,-29.7346,   6.7246, -999,   1451.9,   3.2517,  34.7009,2,  34.7006,2,  34.8643,2,    188.9,2,    189.1,2,    47.34,2,    29.38,2,     0.00,2,     2.02,2,    0.094,2,    0.045,2,    0.162,2,   2215.4,2,   2320.1,2,   -999.0,9,  -999.00,   7.6014,2,    25.37,    0.000,2,   -999.0,1,   -999.0,1, -999.000,9,-999.0000,9,-999.0000,9,-999.0000,9,-999.0000,9, 27.633, 32.255, 36.773, 41.189, 45.506
33RO20110828,   A10,    17,  1,     11,    011,2,20000101,0000,-29.7346,   6.7246, -999,   1603.6,   3.2618,  34.7782,2,  34.7789,2,  34.9429,2,    197.7,2,    198.8,2,    42.85,2,    27.43,2,     0.00,2,     1.87,2,    0.034,2,    0.017,2,    0.084,2,   2207.0,2,   2324.8,2,   -999.0,9,  -999.00,   7.6236,2,    25.44,    0.000,2,   -999.0,1,   -999.0,1, -999.000,9,-999.0000,9,-999.0000,9,-999.0000,9,-999.0000,9, 27.695, 32.317, 36.834, 41.250, 45.566
33RO20110828,   A10,    17,  1,     10,    010,2,20000101,0000,-29.7346,   6.7246, -999,   1897.5,   3.1675,  34.8454,2,  34.8454,2,  35.0097,2,    216.8,2,    217.0,2,    38.94,2,    25.18,2,     0.00,2,     1.69,2,    0.013,2,    0.007,2,    0.047,2,   2194.4,2,   2325.8,2,   -999.0,9,  -999.00,   7.6603,2,    25.44,    0.000,2,   -999.0,1,   -999.0,1, -999.000,9,-999.0000,9,-999.0000,9,-999.0000,9,-999.0000,9, 27.760, 32.384, 36.904, 41.322, 45.641
33RO20110828,   A10,    17,  1,      9,    009,2,20000101,0000,-29.7346,   6.7246, -999,   2203.9,   2.9511,  34.8665,2,  34.8672,2,  35.0316,2,    226.5,2,    226.0,2,    40.79,2,    24.20,2,     0.00,2,     1.63,2,    0.008,2,    0.005,2,    0.035,2,   2192.1,2,   2329.4,2,   -999.0,9,  -999.00,   7.6736,2,    25.42,    0.000,2,   -999.0,1,   -999.0,1, -999.000,9,-999.0000,9,-999.0000,9,-999.0000,9,-999.0000,9, 27.799, 32.429, 36.956, 41.380, 45.704
33RO20110828,   A10,    17,  1,      8,    008,2,20000101,0000,-29.7346,   6.7246, -999,   2500.4,   2.7650,  34.8701,2,  34.8709,2,  35.0353,2,    230.2,2,    229.6,2,    43.72,2,    23.81,2,     0.00,2,     1.62,2,    0.005,2,    0.003,2,    0.035,2,   2191.9,2,   2327.4,2,   -999.0,9,  -999.00,   7.6803,2,    25.45,    0.000,2,   -999.0,1,   -999.0,1, -999.000,9,-999.0000,9,-999.0000,9,-999.0000,9,-999.0000,9, 27.821, 32.457, 36.989, 41.418, 45.748
33RO20110828,   A10,    17,  1,      7,    007,2,20000101,0000,-29.7346,   6.7246, -999,   2797.6,   2.5788,  34.8644,2,  34.8642,2,  35.0286,2,    231.8,2,    233.1,2,    48.11,2,    24.11,2,     0.00,2,     1.64,2,    0.005,2,    0.004,2,    0.060,2,   2197.9,2,   2332.5,2,   -999.0,9,  -999.00,   7.6800,3,    25.46,    0.000,2,   -999.0,1,   -999.0,1, -999.000,9,-999.0000,9,-999.0000,9,-999.0000,9,-999.0000,9, 27.833, 32.475, 37.013, 41.448, 45.783
33RO20110828,   A10,    17,  1,      6,    006,2,20000101,0000,-29.7346,   6.7246, -999,   3101.4,   2.4471,  34.8596,2,  34.8614,2,  35.0258,2,    232.0,2,    231.8,2,    52.21,2,    24.20,2,     0.00,2,     1.67,2,    0.006,2,    0.004,2,    0.023,2,   2201.3,2,   2337.4,2,   -999.0,9,  -999.00,   7.6819,2,    25.43,    0.000,2,   -999.0,1,   -999.0,1, -999.000,9,-999.0000,9,-999.0000,9,-999.0000,9,-999.0000,9, 27.845, 32.491, 37.033, 41.472, 45.811
33RO20110828,   A10,    17,  1,      5,    005,2,20000101,0000,-29.7346,   6.7246, -999,   3498.8,   2.3012,  34.8530,2,  34.8528,2,  35.0172,2,    231.0,2,    230.7,2,    57.48,2,    24.69,2,     0.01,2,     1.72,2,    0.007,2,    0.005,2,    0.033,2,   2206.3,2,   2347.7,3,   -999.0,9,  -999.00,   7.6798,2,    25.49,    0.000,2,   -999.0,1,   -999.0,1, -999.000,9,-999.0000,9,-999.0000,9,-999.0000,9,-999.0000,9, 27.853, 32.504, 37.051, 41.496, 45.839
33RO20110828,   A10,    17,  1,      4,    004,2,20000101,0000,-29.7346,   6.7246, -999,   3901.2,   2.0649,  34.8317,2,  34.8316,2,  34.9958,2,    227.7,2,    227.2,2,    67.63,2,    25.77,2,     0.01,2,     1.83,2,    0.011,2,    0.007,2,    0.038,2,   2216.5,2,   2354.6,3,   -999.0,9,  -999.00,   7.6710,2,    25.47,    0.000,2,   -999.0,1,   -999.0,1, -999.000,9,-999.0000,9,-999.0000,9,-999.0000,9,-999.0000,9, 27.857, 32.516, 37.071, 41.523, 45.873
33RO20110828,   A10,    17,  1,      3,    003,2,20000101,0000,-29.7346,   6.7246, -999,   4298.0,   1.4431,  34.7669,2,  34.7659,2,  34.9299,2,    220.4,2,    220.5,2,    93.21,2,    28.79,2,     0.01,2,     2.11,2,    0.036,2,    0.019,2,    0.103,2,   2238.6,2,   2357.1,2,   -999.0,9,  -999.00,   7.6369,2,    25.44,    0.000,2,   -999.0,1,   -999.0,1, -999.000,9,-999.0000,9,-999.0000,9,-999.0000,9,-999.0000,9, 27.851, 32.529, 37.103, 41.572, 45.940
33RO20110828,   A10,    17,  1,      2,    002,2,20000101,0000,-29.7346,   6.7246, -999,   4700.9,   1.1901,  34.7400,2,  34.7403,2,  34.9041,2,    217.8,2,    218.6,2,   104.24,2,    30.16,2,     0.00,2,     2.23,2,    0.054,2,    0.027,2,    0.143,2,   2248.6,2,   2363.4,2,   -999.0,9,  -999.00,   7.6288,2,    25.43,    0.000,2,   -999.0,1,   -999.0,1, -999.000,9,-999.0000,9,-999.0000,9,-999.0000,9,-999.0000,9, 27.850, 32.537, 37.118, 41.596, 45.972
33RO20110828,   A10,    17,  1,      1,    001,2,20000101,0000,-29.7346,   6.7246, -999,   5153.5,   1.2012,  34.7357,2,  34.7371,2,  34.9009,2,    217.3,2,    217.0,2,   106.19,2,    30.55,2,     0.01,2,     2.25,2, -999.000,5, -999.000,5, -999.000,5,   2250.9,6,   2366.0,2,   -999.0,9,  -999.00,   7.6368,2,    25.39, -999.000,5,   -999.0,1,   -999.0,1, -999.000,9,-999.0000,9,-999.0000,9,-999.0000,9,-999.0000,9, 27.850, 32.538, 37.121, 41.600, 45.977