BOTTLE,20130715NOAA
EXPOCODE,SECT_ID,STNNBR,CASTNO,SAMPNO,BTLNBR,BTLNBR_FLAG_W,DATE,TIME,LATITUDE,LONGITUDE,DEPTH,CTDPRS,CTDTMP,CTDSAL,CTDSAL_FLAG_W,SALNTY,SALNTY_FLAG_W,SALTREF,SALTREF_FLAG_W,CTDOXY,CTDOXY_FLAG_W,OXYGEN,OXYGEN_FLAG_W,SILCAT,SILCAT_FLAG_W,NITRAT,NITRAT_FLAG_W,NITRIT,NITRIT_FLAG_W,PHSPHT,PHSPHT_FLAG_W,CFC-11,CFC-11_FLAG_W,CFC-12,CFC-12_FLAG_W,CCL4,CCL4_FLAG_W,TCARBN,TCARBN_FLAG_W,ALKALI,ALKALI_FLAG_W,PCO2,PCO2_FLAG_W,PCO2TMP,PH_TOT,PH_TOT_FLAG_W,PH_TMP,SF6,SF6_FLAG_W,DOC,DOC_FLAG_W,TDN,TDN_FLAG_W,TRITUM,TRITUM_FLAG_W,HELIUM,HELIUM_FLAG_W,OXY_18,OXY_18_FLAG_W,BLACKC,BLACKC_FLAG_W,PIGMENTS,PIGMENTS_FLAG_W,SIGMA-THETA,SIGMA-1,SIGMA-2,SIGMA-3,SIGMA-4
,,,,,,,,,,,METERS,DBARS,ITS-90,PSS-78,,PSS-78,,G/KG,,UMOL/KG,,UMOL/KG,,UMOL/KG,,UMOL/KG,,UMOL/KG,,UMOL/KG,,PMOL/KG,,PMOL/KG,,PMOL/KG,,UMOL/KG,,UMOL/KG,,UATM@T,,DEG_C,,,DEG_C,FMOL/KG,,UMOL/KG,,UMOL/KG,,TU,,NMOL/KG,,,,,,,,,,,,
33RO20110828,   A10,    70,  1,     24,    024,2,20000101,0000,-29.9985, -25.6606, 4843,      4.6,  18.2178,  36.0238,2,  36.0242,2,  36.1940,2,    234.8,2,    234.1,2,     1.17,2,     0.10,2,     0.01,2,     0.11,2,    2.285,2,    1.385,2,    3.332,3,   2082.3,6,   2360.1,2,   -999.0,9,  -999.00,   7.9448,2,    25.35,    1.420,2,   -999.0,9,   -999.0,9, -999.000,9,-999.0000,9,-999.0000,9,-999.0000,9,-999.0000,1, 26.003, 30.296, 34.496, 38.603, 42.622
33RO20110828,   A10,    70,  1,     23,    023,2,20000101,0000,-29.9985, -25.6606, 4843,     36.3,  18.1886,  36.0171,2,  36.0164,2,  36.1863,2,    235.0,2,    234.9,2,     1.17,2,     0.10,2,     0.01,2,     0.11,2,    2.292,2,    1.390,2,    3.160,3,   2081.3,2,   2358.9,2,   -999.0,9,  -999.00,   7.9270,2,    25.38,    1.456,2,   -999.0,9,   -999.0,9, -999.000,9,-999.0000,9,-999.0000,9,-999.0000,9,-999.0000,9, 26.005, 30.300, 34.500, 38.608, 42.627
33RO20110828,   A10,    70,  1,     22,    022,2,20000101,0000,-29.9985, -25.6606, 4843,     74.7,  16.5413,  35.7363,2,  35.7361,2,  35.9046,2,    246.3,2,    245.7,2,     0.98,2,     0.10,2,     0.01,2,     0.12,2,    2.481,2,    1.496,2,    2.851,3,   2080.5,2,   2342.3,2,   -999.0,9,  -999.00,   7.9184,2,    25.40,    1.510,2,   -999.0,9,   -999.0,9, -999.000,9,-999.0000,9,-999.0000,9,-999.0000,9,-999.0000,9, 26.191, 30.515, 34.744, 38.880, 42.926
33RO20110828,   A10,    70,  1,     21,    021,2,20000101,0000,-29.9985, -25.6606, 4843,    126.9,  16.3199,  35.7205,2,  35.7234,2,  35.8919,2,    243.9,2,    243.8,2,     1.07,2,     0.10,2,     0.05,2,     0.14,2,    2.499,2,    1.498,2,    2.626,3,   2084.4,2,   2340.4,2,   -999.0,9,  -999.00,   7.9093,2,    25.41,    1.524,2,   -999.0,9,   -999.0,9, -999.000,9,-999.0000,9,-999.0000,9,-999.0000,9,-999.0000,1, 26.235, 30.563, 34.796, 38.935, 42.985
33RO20110828,   A10,    70,  1,     20,    020,2,20000101,0000,-29.9985, -25.6606, 4843,    177.0,  15.7642,  35.6474,2,  35.6492,2,  35.8173,2,    238.0,2,    241.0,2,     1.37,2,     0.88,2,     0.42,2,     0.19,2,    2.557,2,    1.528,2,    2.757,3,   2088.5,2,   2336.6,2,   -999.0,9,  -999.00,   7.9030,2,    25.38,    1.552,2,   -999.0,9,   -999.0,9, -999.000,9,-999.0000,9,-999.0000,9,-999.0000,9,-999.0000,1, 26.308, 30.646, 34.888, 39.038, 43.097
33RO20110828,   A10,    70,  1,     19,    019,2,20000101,0000,-29.9985, -25.6606, 4843,    262.3,  13.5008,  35.2575,2,  35.2579,2,  35.4242,2,    213.2,2,    212.1,2,     3.12,2,     8.68,2,     0.02,2,     0.58,2,    2.896,2,    1.665,2,    1.090,3,   2120.2,2,   2314.0,2,   -999.0,9,  -999.00,   7.8116,2,    25.37,    1.309,2,   -999.0,9,   -999.0,9, -999.000,9,-999.0000,9,-999.0000,9,-999.0000,9,-999.0000,9, 26.498, 30.881, 35.167, 39.358, 43.458
33RO20110828,   A10,    70,  1,     18,    018,2,20000101,0000,-29.9985, -25.6606, 4843,    353.8,  12.3200,  35.1180,2,  35.1197,2,  35.2853,2,    214.9,2,    214.4,2,     4.00,2,    11.51,2,     0.01,2,     0.73,2,    3.032,2,    1.717,2,    1.366,3,   2126.0,2,   2308.8,2,   -999.0,9,  -999.00,   7.7861,2,    25.49,    1.216,2,   -999.0,9,   -999.0,9, -999.000,9,-999.0000,9,-999.0000,9,-999.0000,9,-999.0000,9, 26.629, 31.037, 35.346, 39.560, 43.681
33RO20110828,   A10,    70,  1,     17,    017,2,20000101,0000,-29.9985, -25.6606, 4843,    456.1,  10.6883,  34.8964,2,  34.8987,2,  35.0632,2,    211.2,2,    210.8,2,     5.95,2,    15.71,2,     0.01,2,     0.95,2,    3.146,2,    1.722,2,    1.876,3,   2139.9,2,   2298.2,3,   -999.0,9,  -999.00,   7.7497,3,    25.41,    1.123,2,   -999.0,9,   -999.0,9, -999.000,9,-999.0000,9,-999.0000,9,-999.0000,9,-999.0000,9, 26.763, 31.205, 35.548, 39.795, 43.949
33RO20110828,   A10,    70,  1,     16,    016,2,20000101,0000,-29.9985, -25.6606, 4843,    557.6,   8.8429,  34.6610,2,  34.6621,2,  34.8256,2,    204.7,2,    205.8,2,     9.27,2,    20.69,2,     0.01,2,     1.22,2,    3.172,2,    1.687,2,    2.493,3,   2154.7,2,   2282.3,3,   -999.0,9,  -999.00,   7.6889,2,    25.44,    0.952,2,   -999.0,9,   -999.0,9, -999.000,9,-999.0000,9,-999.0000,9,-999.0000,9,-999.0000,9, 26.888, 31.372, 35.756, 40.043, 44.234
33RO20110828,   A10,    70,  1,     15,    015,2,20000101,0000,-29.9985, -25.6606, 4843,    752.5,   5.4619,  34.3400,2,  34.3409,2,  34.5028,2,    218.5,2,    219.3,2,    18.16,2,    28.02,2,     0.01,2,     1.67,2,    3.088,2,    1.560,2,    4.203,3,   2175.6,2,   2282.3,2,   -999.0,9,  -999.00,   7.6321,2,    25.45,    0.760,2,   -999.0,9,   -999.0,9, -999.000,9,-999.0000,9,-999.0000,9,-999.0000,9,-999.0000,9, 27.106, 31.672, 36.137, 40.501, 44.767
33RO20110828,   A10,    70,  1,     13,    013,2,20000101,0000,-29.9985, -25.6606, 4843,    953.5,   4.0476,  34.3297,2,  34.3305,2,  34.4924,2,    209.3,2,    208.8,2,    32.70,2,    31.34,2,     0.01,2,     1.97,2,    2.099,2,    1.033,2,    3.468,3,   2199.3,2,   2292.4,2,   -999.0,9,  -999.00,   7.5810,2,    25.44,    0.407,2,   -999.0,9,   -999.0,9, -999.000,9,-999.0000,9,-999.0000,9,-999.0000,9,-999.0000,9, 27.256, 31.859, 36.359, 40.757, 45.056
33RO20110828,   A10,    70,  1,     14,    014,2,20000101,0000,-29.9985, -25.6606, 4843,    955.3,   4.0481,  34.3293,2,-999.0000,5,-999.0000,5,    209.2,2,    209.1,2,    32.61,2,    31.43,2,     0.01,2,     1.97,2,    2.104,2,    1.034,2,    3.517,3,   2199.2,2,   2291.5,2,   -999.0,9,  -999.00,   7.5841,2,    25.42,    0.372,2,   -999.0,9,   -999.0,9, -999.000,9,-999.0000,9,-999.0000,9,-999.0000,9,-999.0000,9, 27.255, 31.858, 36.358, 40.756, 45.055
33RO20110828,   A10,    70,  1,     12,    012,2,20000101,0000,-29.9985, -25.6606, 4843,   1153.6,   3.3698,  34.4084,2,  34.4106,2,  34.5728,2,    194.7,2,    194.5,2,    46.08,2,    32.99,2,     0.01,2,     2.16,2,    1.157,2,    0.561,2,    2.219,3,   2219.6,2,   2306.1,2,   -999.0,9,  -999.00,   7.5580,2,    25.43,    0.182,2,   -999.0,9,   -999.0,9, -999.000,9,-999.0000,9,-999.0000,9,-999.0000,9,-999.0000,9, 27.388, 32.008, 36.525, 40.940, 45.255
33RO20110828,   A10,    70,  1,     11,    011,2,20000101,0000,-29.9985, -25.6606, 4843,   1355.3,   3.0558,  34.5281,2,  34.5299,2,  34.6928,2,    187.4,2,    186.9,2,    54.66,2,    32.80,2,     0.01,2,     2.21,2,    0.521,2,    0.251,2,    1.188,3,   2230.8,2,   2316.8,2,   -999.0,9,  -999.00,   7.5562,2,    25.34,    0.056,2,   -999.0,9,   -999.0,9, -999.000,9,-999.0000,9,-999.0000,9,-999.0000,9,-999.0000,9, 27.514, 32.142, 36.666, 41.089, 45.411
33RO20110828,   A10,    70,  1,     10,    010,2,20000101,0000,-29.9985, -25.6606, 4843,   1499.4,   2.9315,  34.6225,2,  34.6264,2,  34.7897,2,    190.0,2,    190.2,2,    56.41,2,    31.53,2,     0.01,2,     2.14,2,    0.255,2,    0.123,2,    0.763,3,   2228.9,6,   2320.4,3,   -999.0,9,  -999.00,   7.5768,2,    25.41,    0.045,2,   -999.0,9,   -999.0,9, -999.000,9,-999.0000,9,-999.0000,9,-999.0000,9,-999.0000,9, 27.603, 32.234, 36.761, 41.186, 45.511
33RO20110828,   A10,    70,  1,      9,    009,2,20000101,0000,-29.9985, -25.6606, 4843,   1751.9,   2.7983,  34.7310,2,  34.7309,2,  34.8947,2,    203.3,2,    204.8,2,    54.65,2,    28.79,2,     0.01,2,     1.98,2,    0.089,2,    0.043,2,    0.388,3,   2220.8,2,   2322.7,3,   -999.0,9,  -999.00,   7.6122,2,    25.46,    0.000,2,   -999.0,9,   -999.0,9, -999.000,9,-999.0000,9,-999.0000,9,-999.0000,9,-999.0000,9, 27.700, 32.334, 36.865, 41.293, 45.621
33RO20110828,   A10,    70,  1,      8,    008,2,20000101,0000,-29.9985, -25.6606, 4843,   2103.1,   2.6902,  34.8164,2,  34.8187,6,  34.9829,6,    222.2,2,    222.2,2,    49.67,2,    25.76,2,     0.01,2,     1.77,2,    0.025,2,    0.016,2,    0.180,3,   2207.0,2,   2323.8,3,   -999.0,9,  -999.00,   7.6462,2,    25.46,    0.066,2,   -999.0,9,   -999.0,9, -999.000,9,-999.0000,9,-999.0000,9,-999.0000,9,-999.0000,9, 27.780, 32.418, 36.951, 41.382, 45.713
33RO20110828,   A10,    70,  1,      7,    007,2,20000101,0000,-29.9985, -25.6606, 4843,   2447.9,   2.6974,  34.8620,2,  34.8642,2,  35.0286,2,    235.3,2,    235.6,2,    44.21,2,    23.81,2,     0.01,2,     1.62,2,    0.009,2,    0.005,2,    0.105,3,   2195.4,2,   2322.9,3,   -999.0,9,  -999.00,   7.6612,2,    25.45,    0.000,2,   -999.0,9,   -999.0,9, -999.000,9,-999.0000,9,-999.0000,9,-999.0000,9,-999.0000,9, 27.821, 32.459, 36.992, 41.424, 45.754
33RO20110828,   A10,    70,  1,      6,    006,2,20000101,0000,-29.9985, -25.6606, 4843,   2784.7,   2.7026,  34.8911,2,  34.8920,2,  35.0565,2,    244.6,2,    244.3,2,    39.72,2,    22.44,2,     0.01,2,     1.51,2,    0.005,2,    0.004,2,    0.084,3,   2187.1,2,   2322.9,3,   -999.0,9,  -999.00,   7.6880,2,    25.47,    0.000,2,   -999.0,9,   -999.0,9, -999.000,9,-999.0000,9,-999.0000,9,-999.0000,9,-999.0000,9, 27.845, 32.484, 37.018, 41.450, 45.781
33RO20110828,   A10,    70,  1,      5,    005,2,20000101,0000,-29.9985, -25.6606, 4843,   3202.5,   2.5293,  34.8924,2,  34.8963,2,  35.0609,2,    248.3,2,    248.5,2,    42.16,2,    22.25,2,     0.01,2,     1.51,2,    0.004,2,    0.003,2,    0.075,3,   2187.8,2,   2328.4,3,   -999.0,9,  -999.00,   7.6929,2,    25.42,    0.040,2,   -999.0,9,   -999.0,9, -999.000,9,-999.0000,9,-999.0000,9,-999.0000,9,-999.0000,9, 27.867, 32.511, 37.051, 41.488, 45.825
33RO20110828,   A10,    70,  1,      4,    004,2,20000101,0000,-29.9985, -25.6606, 4843,   3600.1,   1.9927,  34.8426,2,  34.8524,2,  35.0168,2,    241.5,2,    240.8,2,    61.77,2,    24.69,2,     0.01,2,     1.79,2,    0.014,2,    0.008,2,    0.107,3,   2206.6,2,   2337.1,2,   -999.0,9,  -999.00,   7.6632,2,    25.45,    0.080,2,   -999.0,9,   -999.0,9, -999.000,9,-999.0000,9,-999.0000,9,-999.0000,9,-999.0000,9, 27.877, 32.537, 37.093, 41.545, 45.896
33RO20110828,   A10,    70,  1,      3,    003,2,20000101,0000,-29.9985, -25.6606, 4843,   4096.4,   1.3313,  34.7713,2,  34.7742,2,  34.9382,2,    229.4,2,    229.6,2,    89.59,2,    28.40,2,     0.01,2,     2.21,2,    0.050,2,    0.024,2,    0.214,3,   2235.2,2,   2349.9,2,   -999.0,9,  -999.00,   7.6301,2,    25.36,    0.163,2,   -999.0,9,   -999.0,9, -999.000,9,-999.0000,9,-999.0000,9,-999.0000,9,-999.0000,9, 27.864, 32.544, 37.120, 41.592, 45.962
33RO20110828,   A10,    70,  1,      2,    002,2,20000101,0000,-29.9985, -25.6606, 4843,   4598.0,   1.2118,  34.7524,2,  34.7551,2,  34.9190,2,    225.8,2,    226.4,2,    97.01,2,    29.18,2,     0.01,2,     2.32,2,    0.077,2,    0.037,2,    0.289,3,   2241.6,2,   2355.2,2,   -999.0,9,  -999.00,   7.6128,2,    25.41,    0.139,2,   -999.0,9,   -999.0,9, -999.000,9,-999.0000,9,-999.0000,9,-999.0000,9,-999.0000,9, 27.859, 32.545, 37.126, 41.603, 45.977
33RO20110828,   A10,    70,  1,      1,    001,2,20000101,0000,-29.9985, -25.6606, 4843,   4891.9,   1.2286,  34.7498,2,  34.7559,2,  34.9198,2,    225.2,2,    225.0,2,    98.08,2,    29.28,2,     0.01,2,     2.33,2,    0.083,2,    0.041,2,    0.296,3,   2244.6,6,   2356.4,2,   -999.0,9,  -999.00,   7.6271,2,    25.39,    0.112,2,   -999.0,9,   -999.0,9, -999.000,9,-999.0000,9,-999.0000,9,-999.0000,9,-999.0000,9, 27.861, 32.548, 37.129, 41.606, 45.981