BOTTLE,20130715NOAA
EXPOCODE,SECT_ID,STNNBR,CASTNO,SAMPNO,BTLNBR,BTLNBR_FLAG_W,DATE,TIME,LATITUDE,LONGITUDE,DEPTH,CTDPRS,CTDTMP,CTDSAL,CTDSAL_FLAG_W,SALNTY,SALNTY_FLAG_W,SALTREF,SALTREF_FLAG_W,CTDOXY,CTDOXY_FLAG_W,OXYGEN,OXYGEN_FLAG_W,SILCAT,SILCAT_FLAG_W,NITRAT,NITRAT_FLAG_W,NITRIT,NITRIT_FLAG_W,PHSPHT,PHSPHT_FLAG_W,CFC-11,CFC-11_FLAG_W,CFC-12,CFC-12_FLAG_W,CCL4,CCL4_FLAG_W,TCARBN,TCARBN_FLAG_W,ALKALI,ALKALI_FLAG_W,PCO2,PCO2_FLAG_W,PCO2TMP,PH_TOT,PH_TOT_FLAG_W,PH_TMP,SF6,SF6_FLAG_W,DOC,DOC_FLAG_W,TDN,TDN_FLAG_W,TRITUM,TRITUM_FLAG_W,HELIUM,HELIUM_FLAG_W,OXY_18,OXY_18_FLAG_W,BLACKC,BLACKC_FLAG_W,PIGMENTS,PIGMENTS_FLAG_W,SIGMA-THETA,SIGMA-1,SIGMA-2,SIGMA-3,SIGMA-4
,,,,,,,,,,,METERS,DBARS,ITS-90,PSS-78,,PSS-78,,G/KG,,UMOL/KG,,UMOL/KG,,UMOL/KG,,UMOL/KG,,UMOL/KG,,UMOL/KG,,PMOL/KG,,PMOL/KG,,PMOL/KG,,UMOL/KG,,UMOL/KG,,UATM@T,,DEG_C,,,DEG_C,FMOL/KG,,UMOL/KG,,UMOL/KG,,TU,,NMOL/KG,,,,,,,,,,,,
33RO20110828,   A10,    74,  1,     24,    024,2,20000101,0000,-29.9998, -28.4252, 3747,      6.5,  17.2111,  35.8026,2,  35.8015,2,  35.9704,2,    240.6,2,    239.6,2,     1.17,2,     0.00,2,     0.00,2,     0.10,2,    2.427,2,    1.458,2,    3.479,3,   2079.4,6,   2347.0,2,   -999.0,9,  -999.00,   7.9386,2,    25.53,    1.446,2,   -999.0,9,   -999.0,9, -999.000,9,-999.0000,9,-999.0000,9,-999.0000,9,-999.0000,1, 26.079, 30.391, 34.608, 38.733, 42.768
33RO20110828,   A10,    74,  1,     23,    023,2,20000101,0000,-29.9998, -28.4252, 3747,     34.8,  17.2254,  35.8028,2,  35.8014,2,  35.9702,2,    240.7,2,    240.1,2,     1.17,2,     0.00,2,     0.00,2,     0.11,2, -999.000,9, -999.000,9, -999.000,9,   -999.0,5,   2346.9,2,   -999.0,9,  -999.00,   7.9396,2,    25.47, -999.000,9,   -999.0,9,   -999.0,9, -999.000,9,-999.0000,9,-999.0000,9,-999.0000,9,-999.0000,9, 26.077, 30.389, 34.605, 38.730, 42.765
33RO20110828,   A10,    74,  1,     22,    022,2,20000101,0000,-29.9998, -28.4252, 3747,     72.0,  16.8946,  35.8535,2,  35.8581,2,  36.0272,2,    242.1,2,    242.2,2,     1.17,2,     0.00,2,     0.01,2,     0.11,2, -999.000,9, -999.000,9, -999.000,9,   2082.6,2,   2350.5,2,   -999.0,9,  -999.00,   7.9352,2,    24.92, -999.000,9,   -999.0,9,   -999.0,9, -999.000,9,-999.0000,9,-999.0000,9,-999.0000,9,-999.0000,9, 26.201, 30.518, 34.740, 38.870, 42.910
33RO20110828,   A10,    74,  1,     21,    021,2,20000101,0000,-29.9998, -28.4252, 3747,    127.3,  16.7677,  35.8464,2,  35.8458,2,  36.0149,2,    234.3,2,    235.2,2,     1.17,2,     0.20,2,     0.49,2,     0.14,2,    2.441,2,    1.464,2,    2.951,3,   2086.9,2,   2349.5,2,   -999.0,9,  -999.00,   7.9306,2,    25.51,    1.396,2,   -999.0,9,   -999.0,9, -999.000,9,-999.0000,9,-999.0000,9,-999.0000,9,-999.0000,1, 26.224, 30.543, 34.768, 38.900, 42.942
33RO20110828,   A10,    74,  1,     20,    020,2,20000101,0000,-29.9998, -28.4252, 3747,    175.2,  16.6349,  35.8230,2,  35.8225,2,  35.9915,2,    234.2,2,    235.3,2,     1.27,2,     0.49,2,     0.29,2,     0.16,2, -999.000,9, -999.000,9, -999.000,9,   -999.0,9,   2349.6,2,   -999.0,9,  -999.00,   7.9173,2,    25.55, -999.000,9,   -999.0,9,   -999.0,9, -999.000,9,-999.0000,9,-999.0000,9,-999.0000,9,-999.0000,1, 26.239, 30.561, 34.788, 38.922, 42.967
33RO20110828,   A10,    74,  1,     19,    019,2,20000101,0000,-29.9998, -28.4252, 3747,    254.0,  15.5367,  35.5963,2,  35.6089,2,  35.7768,2,    223.5,2,    225.0,2,     1.76,2,     3.12,2,     0.01,2,     0.30,2,    2.611,2,    1.543,2,    1.764,3,   2099.2,2,   2335.5,2,   -999.0,9,  -999.00,   7.8684,2,    25.57,    1.427,2,   -999.0,9,   -999.0,9, -999.000,9,-999.0000,9,-999.0000,9,-999.0000,9,-999.0000,9, 26.331, 30.674, 34.921, 39.074, 43.138
33RO20110828,   A10,    74,  1,     18,    018,9,20000101,0000,-29.9998, -28.4252, 3747,    325.4,  14.1657,  35.3896,2,-999.0000,9,-999.0000,9,   -999.0,9,   -999.0,9,  -999.00,9,  -999.00,9,  -999.00,9,  -999.00,9, -999.000,9, -999.000,9, -999.000,9,   -999.0,9,   -999.0,9,   -999.0,9,  -999.00,-999.0000,9,  -999.00, -999.000,9,   -999.0,9,   -999.0,9, -999.000,9,-999.0000,9,-999.0000,9,-999.0000,9,-999.0000,9, 26.463, 30.833, 35.106, 39.285, 43.372
33RO20110828,   A10,    74,  1,     17,    017,2,20000101,0000,-29.9998, -28.4252, 3747,    400.1,  13.0858,  35.2737,2,  35.2772,2,  35.4435,2,    220.7,2,    219.9,2,     3.02,2,     8.88,2,     0.01,2,     0.60,2, -999.000,9, -999.000,9, -999.000,9,   2120.5,2,   2320.5,2,   -999.0,9,  -999.00,   7.7992,2,    25.59, -999.000,9,   -999.0,9,   -999.0,9, -999.000,9,-999.0000,9,-999.0000,9,-999.0000,9,-999.0000,9, 26.602, 30.993, 35.287, 39.486, 43.593
33RO20110828,   A10,    74,  1,     16,    016,2,20000101,0000,-29.9998, -28.4252, 3747,    474.7,  11.5828,  35.0300,2,  35.0297,2,  35.1949,2,    214.4,2,    213.0,2,     4.78,2,    13.07,2,     0.00,2,     0.83,2,    3.110,2,    1.720,2,    1.116,3,   -999.0,9,   2306.4,2,   -999.0,9,  -999.00,   7.7725,2,    25.56,    1.182,2,   -999.0,9,   -999.0,9, -999.000,9,-999.0000,9,-999.0000,9,-999.0000,9,-999.0000,9, 26.703, 31.126, 35.450, 39.679, 43.815
33RO20110828,   A10,    74,  1,     15,    015,2,20000101,0000,-29.9998, -28.4252, 3747,    571.1,   9.7616,  34.7740,2,  34.7767,2,  34.9407,2,    210.4,2,    208.1,2,     7.42,2,    17.76,2,     0.00,2,     1.09,2, -999.000,9, -999.000,9, -999.000,9,   2146.3,2,   2294.0,2,   -999.0,9,  -999.00,   7.7193,2,    25.57, -999.000,9,   -999.0,9,   -999.0,9, -999.000,9,-999.0000,9,-999.0000,9,-999.0000,9,-999.0000,9, 26.829, 31.292, 35.656, 39.923, 44.095
33RO20110828,   A10,    74,  1,     14,    014,2,20000101,0000,-29.9998, -28.4252, 3747,    674.5,   7.5120,  34.5144,2,  34.5168,2,  34.6795,2,    207.6,2,    209.1,2,    12.20,2,    23.43,2,     0.01,2,     1.42,2,    3.225,2,    1.670,2,    2.043,3,   -999.0,9,   2284.6,2,   -999.0,9,  -999.00,   7.6524,2,    25.64,    0.885,2,   -999.0,9,   -999.0,9, -999.000,9,-999.0000,9,-999.0000,9,-999.0000,9,-999.0000,9, 26.976, 31.491, 35.906, 40.222, 44.442
33RO20110828,   A10,    74,  1,     13,    013,2,20000101,0000,-29.9998, -28.4252, 3747,    773.3,   5.4653,  34.3112,2,  34.3119,2,  34.4737,2,    227.4,2,    229.8,2,    15.62,2,    26.46,2,     0.01,2,     1.61,2, -999.000,9, -999.000,9, -999.000,9,   2166.6,2,   2278.8,2,   -999.0,9,  -999.00,   7.6326,2,    25.60, -999.000,9,   -999.0,9,   -999.0,9, -999.000,9,-999.0000,9,-999.0000,9,-999.0000,9,-999.0000,9, 27.083, 31.649, 36.114, 40.478, 44.744
33RO20110828,   A10,    74,  1,     12,    012,2,20000101,0000,-29.9998, -28.4252, 3747,    873.6,   4.6284,  34.2709,2,  34.2713,2,  34.4329,2,    231.2,2,    230.5,2,    20.60,2,    28.12,2,     0.01,2,     1.73,2, -999.000,9, -999.000,9, -999.000,9,   -999.0,9,   2282.8,2,   -999.0,9,  -999.00,   7.6189,2,    25.58, -999.000,9,   -999.0,9,   -999.0,9, -999.000,9,-999.0000,9,-999.0000,9,-999.0000,9,-999.0000,9, 27.147, 31.735, 36.221, 40.605, 44.891
33RO20110828,   A10,    74,  1,     11,    011,2,20000101,0000,-29.9998, -28.4252, 3747,   1026.7,   4.0013,  34.3110,2,  34.3123,2,  34.4741,2,    214.6,2,    213.2,2,    31.34,2,    30.46,2,     0.01,2,     1.94,2,    2.292,2,    1.122,2,    2.380,3,   -999.0,9,   2292.2,2,   -999.0,9,  -999.00,   7.5898,2,    25.60,    0.422,2,   -999.0,9,   -999.0,9, -999.000,9,-999.0000,9,-999.0000,9,-999.0000,9,-999.0000,9, 27.247, 31.851, 36.352, 40.752, 45.053
33RO20110828,   A10,    74,  1,     10,    010,2,20000101,0000,-29.9998, -28.4252, 3747,   1226.3,   3.3588,  34.4066,2,  34.4074,6,  34.5697,6,    194.0,2,    196.1,2,    45.78,2,    32.12,2,     0.00,2,     2.15,2, -999.000,9, -999.000,9, -999.000,9,   2217.3,2,   2306.2,2,   -999.0,9,  -999.00,   7.5611,2,    25.54, -999.000,9,   -999.0,9,   -999.0,9, -999.000,9,-999.0000,9,-999.0000,9,-999.0000,9,-999.0000,9, 27.386, 32.007, 36.525, 40.940, 45.256
33RO20110828,   A10,    74,  1,      9,    009,2,20000101,0000,-29.9998, -28.4252, 3747,   1424.0,   3.0349,  34.5452,2,  34.5454,2,  34.7083,2,    187.7,2,    187.3,2,    54.76,2,    31.82,2,     0.00,2,     2.19,2,    0.454,2,    0.218,2,    0.767,3,   2228.9,2,   2318.9,2,   -999.0,9,  -999.00,   7.5673,2,    25.59,    0.086,2,   -999.0,9,   -999.0,9, -999.000,9,-999.0000,9,-999.0000,9,-999.0000,9,-999.0000,9, 27.528, 32.157, 36.682, 41.105, 45.428
33RO20110828,   A10,    74,  1,      8,    008,2,20000101,0000,-29.9998, -28.4252, 3747,   1623.4,   2.8868,  34.6551,2,  34.6560,2,  34.8194,2,    193.1,2,    192.7,2,    56.02,2,    30.06,2,     0.00,2,     2.09,2, -999.000,9, -999.000,9, -999.000,9,   2226.6,2,   2326.5,2,   -999.0,9,  -999.00,   7.5868,2,    25.64, -999.000,9,   -999.0,9,   -999.0,9, -999.000,9,-999.0000,9,-999.0000,9,-999.0000,9,-999.0000,9, 27.631, 32.264, 36.792, 41.218, 45.544
33RO20110828,   A10,    74,  1,      7,    007,2,20000101,0000,-29.9998, -28.4252, 3747,   1825.5,   2.8056,  34.7339,2,  34.7342,2,  34.8980,2,    203.7,2,    205.2,2,    54.07,2,    28.11,2,     0.00,2,     1.97,2,    0.076,2,    0.042,2,    0.228,3,   -999.0,9,   2327.3,2,   -999.0,9,  -999.00,   7.6099,2,    25.53,    0.042,2,   -999.0,9,   -999.0,9, -999.000,9,-999.0000,9,-999.0000,9,-999.0000,9,-999.0000,9, 27.702, 32.337, 36.867, 41.295, 45.623
33RO20110828,   A10,    74,  1,      6,    006,2,20000101,0000,-29.9998, -28.4252, 3747,   2127.7,   2.7483,  34.8147,2,  34.8206,2,  34.9848,2,    222.3,2,    221.2,2,    49.09,2,    25.47,2,     0.00,2,     1.77,2, -999.000,9, -999.000,9, -999.000,9,   -999.0,9,   2328.0,2,   -999.0,9,  -999.00,   7.6485,2,    25.58, -999.000,9,   -999.0,9,   -999.0,9, -999.000,9,-999.0000,9,-999.0000,9,-999.0000,9,-999.0000,9, 27.779, 32.415, 36.947, 41.376, 45.706
33RO20110828,   A10,    74,  1,      5,    005,2,20000101,0000,-29.9998, -28.4252, 3747,   2428.4,   2.7573,  34.8624,2,  34.8636,2,  35.0280,2,    234.8,2,    235.2,2,    43.33,2,    23.42,2,     0.00,2,     1.61,2,    0.010,2,    0.006,2,    0.072,3,   2194.8,2,   2325.7,2,   -999.0,9,  -999.00,   7.6682,2,    25.58,    0.000,2,   -999.0,9,   -999.0,9, -999.000,9,-999.0000,9,-999.0000,9,-999.0000,9,-999.0000,9, 27.815, 32.451, 36.983, 41.413, 45.742
33RO20110828,   A10,    74,  1,      4,    004,2,20000101,0000,-29.9998, -28.4252, 3747,   2775.5,   2.7544,  34.8982,2,  34.8994,2,  35.0640,2,    244.9,2,    244.8,2,    37.47,2,    21.57,2,     0.00,2,     1.46,2, -999.000,9, -999.000,9, -999.000,9,   -999.0,9,   2324.7,2,   -999.0,9,  -999.00,   7.6802,2,    25.59, -999.000,9,   -999.0,9,   -999.0,9, -999.000,9,-999.0000,9,-999.0000,9,-999.0000,9,-999.0000,9, 27.847, 32.484, 37.016, 41.447, 45.777
33RO20110828,   A10,    74,  1,      3,    003,2,20000101,0000,-29.9998, -28.4252, 3747,   3176.7,   2.5519,  34.8915,2,  34.8922,2,  35.0567,2,    246.2,2,    247.1,2,    42.35,2,    22.05,2,     0.00,2,     1.52,2,    0.013,2,    0.008,2,    0.085,3,   2189.6,2,   2328.2,3,   -999.0,9,  -999.00,   7.6925,2,    25.57,    0.000,2,   -999.0,9,   -999.0,9, -999.000,9,-999.0000,9,-999.0000,9,-999.0000,9,-999.0000,9, 27.861, 32.505, 37.044, 41.481, 45.817
33RO20110828,   A10,    74,  1,      2,    002,2,20000101,0000,-29.9998, -28.4252, 3747,   3573.6,   2.0064,  34.8377,2,  34.8395,2,  35.0037,2,    238.5,2,    237.9,2,    63.33,2,    24.59,2,     0.01,2,     1.82,2,    0.031,2,    0.016,2,    0.113,3,   -999.0,9,   2338.4,2,   -999.0,9,  -999.00,   7.6653,2,    25.50,    0.000,2,   -999.0,9,   -999.0,9, -999.000,9,-999.0000,9,-999.0000,9,-999.0000,9,-999.0000,9, 27.865, 32.525, 37.080, 41.532, 45.883
33RO20110828,   A10,    74,  1,      1,    001,2,20000101,0000,-29.9998, -28.4252, 3747,   3777.0,   1.6986,  34.8045,2,  34.8070,2,  34.9712,2,    232.7,2,    232.9,2,    76.51,2,    26.35,2,     0.01,2,     2.02,2,    0.050,2,    0.025,2,    0.117,3,   2223.0,6,   2344.6,2,   -999.0,9,  -999.00,   7.6515,2,    25.48,    0.036,2,   -999.0,9,   -999.0,9, -999.000,9,-999.0000,9,-999.0000,9,-999.0000,9,-999.0000,9, 27.863, 32.532, 37.096, 41.557, 45.917