BOTTLE,20130715NOAA
EXPOCODE,SECT_ID,STNNBR,CASTNO,SAMPNO,BTLNBR,BTLNBR_FLAG_W,DATE,TIME,LATITUDE,LONGITUDE,DEPTH,CTDPRS,CTDTMP,CTDSAL,CTDSAL_FLAG_W,SALNTY,SALNTY_FLAG_W,SALTREF,SALTREF_FLAG_W,CTDOXY,CTDOXY_FLAG_W,OXYGEN,OXYGEN_FLAG_W,SILCAT,SILCAT_FLAG_W,NITRAT,NITRAT_FLAG_W,NITRIT,NITRIT_FLAG_W,PHSPHT,PHSPHT_FLAG_W,CFC-11,CFC-11_FLAG_W,CFC-12,CFC-12_FLAG_W,CCL4,CCL4_FLAG_W,TCARBN,TCARBN_FLAG_W,ALKALI,ALKALI_FLAG_W,PCO2,PCO2_FLAG_W,PCO2TMP,PH_TOT,PH_TOT_FLAG_W,PH_TMP,SF6,SF6_FLAG_W,DOC,DOC_FLAG_W,TDN,TDN_FLAG_W,TRITUM,TRITUM_FLAG_W,HELIUM,HELIUM_FLAG_W,OXY_18,OXY_18_FLAG_W,BLACKC,BLACKC_FLAG_W,PIGMENTS,PIGMENTS_FLAG_W,SIGMA-THETA,SIGMA-1,SIGMA-2,SIGMA-3,SIGMA-4
,,,,,,,,,,,METERS,DBARS,ITS-90,PSS-78,,PSS-78,,G/KG,,UMOL/KG,,UMOL/KG,,UMOL/KG,,UMOL/KG,,UMOL/KG,,UMOL/KG,,PMOL/KG,,PMOL/KG,,PMOL/KG,,UMOL/KG,,UMOL/KG,,UATM@T,,DEG_C,,,DEG_C,FMOL/KG,,UMOL/KG,,UMOL/KG,,TU,,NMOL/KG,,,,,,,,,,,,
33RO20110828,   A10,    31,  1,     24,    024,2,20000101,0000,-29.8667,   0.5419, 2963,      4.4,  18.2588,  35.8073,2,  35.8081,2,  35.9770,2,    241.7,2,    241.7,2,     1.56,2,     0.00,2,     0.00,2,     0.17,2,    2.404,2,    1.454,2,    3.317,2,   2083.7,6,   2351.5,2,   -999.0,9,  -999.00,-999.0000,9,  -999.00,    1.537,2,   -999.0,1,   -999.0,1, -999.000,9,-999.0000,9,-999.0000,9,-999.0000,9,-999.0000,1, 25.827, 30.121, 34.321, 38.430, 42.449
33RO20110828,   A10,    31,  1,     23,    023,2,20000101,0000,-29.8667,   0.5419, 2963,     74.0,  17.0031,  35.7522,2,  35.7560,2,  35.9246,2,    243.0,2,    243.7,2,     1.56,2,     0.10,2,     0.02,2,     0.19,2,    2.417,2,    1.458,2,    2.681,2,   2082.7,2,   2347.9,2,   -999.0,9,  -999.00, 999.0000,5,   999.00,    1.482,2,   -999.0,1,   -999.0,1, -999.000,9,-999.0000,9,-999.0000,9,-999.0000,9,-999.0000,1, 26.097, 30.413, 34.634, 38.762, 42.801
33RO20110828,   A10,    31,  1,     22,    022,2,20000101,0000,-29.8667,   0.5419, 2963,    123.1,  16.4450,  35.6762,2,  35.6758,2,  35.8441,2,    235.4,2,    234.3,2,     2.05,2,     1.27,2,     0.52,2,     0.29,2,    2.466,2,    1.488,2,    2.171,2,   2089.0,2,   2341.3,2,   -999.0,9,  -999.00,-999.0000,9,  -999.00,    1.498,2,   -999.0,1,   -999.0,1, -999.000,9,-999.0000,9,-999.0000,9,-999.0000,9,-999.0000,1, 26.169, 30.495, 34.726, 38.864, 42.912
33RO20110828,   A10,    31,  1,     21,    021,2,20000101,0000,-29.8667,   0.5419, 2963,    184.4,  15.1446,  35.4564,2,  35.4572,2,  35.6244,2,    222.0,2,    221.9,2,     2.63,2,     4.78,2,     0.02,2,     0.49,2,    2.645,2,    1.574,2,    1.272,2,   2104.4,2,   -999.0,5,   -999.0,9,  -999.00, 999.0000,5,   999.00,    1.449,2,   -999.0,1,   -999.0,1, -999.000,9,-999.0000,9,-999.0000,9,-999.0000,9,-999.0000,9, 26.299, 30.650, 34.904, 39.065, 43.136
33RO20110828,   A10,    31,  1,     20,    020,2,20000101,0000,-29.8667,   0.5419, 2963,    242.7,  13.7735,  35.2272,2,  35.2246,2,  35.3907,2,    220.8,2,    221.0,2,     3.02,2,     7.12,2,     0.01,2,     0.65,2,    2.842,2,    1.676,2,    1.049,2,   2110.8,2,   2315.7,2,   -999.0,9,  -999.00,-999.0000,9,  -999.00,    1.445,2,   -999.0,1,   -999.0,1, -999.000,9,-999.0000,9,-999.0000,9,-999.0000,9,-999.0000,9, 26.416, 30.793, 35.074, 39.261, 43.356
33RO20110828,   A10,    31,  1,     19,    019,2,20000101,0000,-29.8667,   0.5419, 2963,    319.3,  12.7249,  35.1028,2,  35.1033,2,  35.2689,2,    214.5,2,    216.7,2,     3.71,2,     9.95,2,     0.01,2,     0.82,2,    2.988,2,    1.730,2,    1.118,2,   2121.9,2,   2310.1,2,   -999.0,9,  -999.00, 999.0000,5,   999.00,    1.382,2,   -999.0,1,   -999.0,1, -999.000,9,-999.0000,9,-999.0000,9,-999.0000,9,-999.0000,9, 26.537, 30.936, 35.237, 39.444, 43.558
33RO20110828,   A10,    31,  1,     18,    018,2,20000101,0000,-29.8667,   0.5419, 2963,    418.2,  11.2822,  34.9523,2,  34.9513,2,  35.1161,2,    211.6,2,    209.4,2,     5.56,2,    14.44,2,     0.00,2,     1.12,2,    3.125,2,    1.746,2,    1.151,2,   2137.4,2,   2303.8,2,   -999.0,9,  -999.00,-999.0000,9,  -999.00,    1.217,2,   -999.0,1,   -999.0,1, -999.000,9,-999.0000,9,-999.0000,9,-999.0000,9,-999.0000,9, 26.696, 31.125, 35.456, 39.691, 43.833
33RO20110828,   A10,    31,  1,     17,    017,2,20000101,0000,-29.8667,   0.5419, 2963,    519.6,   9.6041,  34.7477,2,  34.7525,2,  34.9163,2,    196.5,2,    195.6,2,     9.17,2,    19.62,2,     0.00,2,     1.48,2,    3.069,2,    1.671,2,    1.353,2,   2158.3,2,   2294.8,2,   -999.0,9,  -999.00, 999.0000,5,   999.00,    1.036,2,   -999.0,1,   -999.0,1, -999.000,9,-999.0000,9,-999.0000,9,-999.0000,9,-999.0000,9, 26.835, 31.302, 35.669, 39.939, 44.114
33RO20110828,   A10,    31,  1,     16,    016,2,20000101,0000,-29.8667,   0.5419, 2963,    610.7,   7.8600,  34.5586,2,  34.5594,2,  34.7224,2,    198.6,2,    199.5,2,    13.28,2,    23.53,2,     0.00,2,     1.76,2,    3.019,2,    1.601,2,    1.756,2,   2168.7,2,   2290.2,2,   -999.0,9,  -999.00,-999.0000,9,  -999.00,    0.922,2,   -999.0,1,   -999.0,1, -999.000,9,-999.0000,9,-999.0000,9,-999.0000,9,-999.0000,9, 26.958, 31.465, 35.871, 40.180, 44.392
33RO20110828,   A10,    31,  1,     15,    015,2,20000101,0000,-29.8667,   0.5419, 2963,    708.5,   6.1998,  34.4153,2,  34.4130,2,  34.5752,2,    201.4,2,    201.5,2,    18.45,2,    27.73,2,     0.00,2,     2.04,2,    2.878,2,    1.488,2,    2.111,2,   2184.5,2,   2289.5,2,   -999.0,9,  -999.00, 999.0000,5,   999.00,    0.751,2,   -999.0,1,   -999.0,1, -999.000,9,-999.0000,9,-999.0000,9,-999.0000,9,-999.0000,9, 27.071, 31.619, 36.065, 40.411, 44.660
33RO20110828,   A10,    31,  1,     14,    014,2,20000101,0000,-29.8667,   0.5419, 2963,    819.6,   4.9855,  34.3513,2,  34.3508,2,  34.5127,2,    203.9,2,    204.3,2,    25.29,2,    29.97,2,     0.00,2,     2.22,2,    2.535,2,    1.279,2,    2.154,2,   2194.8,2,   2292.8,2,   -999.0,9,  -999.00,-999.0000,9,  -999.00,    0.609,2,   -999.0,1,   -999.0,1, -999.000,9,-999.0000,9,-999.0000,9,-999.0000,9,-999.0000,9, 27.170, 31.748, 36.224, 40.599, 44.876
33RO20110828,   A10,    31,  1,     13,    013,2,20000101,0000,-29.8667,   0.5419, 2963,    918.3,   4.2059,  34.3624,2,  34.3627,2,  34.5248,2,    199.4,2,    199.9,2,    35.05,2,    31.83,2,     0.00,2,     2.36,2,    1.937,2,    0.959,2,    1.845,2,   2207.2,2,   2299.8,2,   -999.0,9,  -999.00, 999.0000,5,   999.00,    0.407,2,   -999.0,1,   -999.0,1, -999.000,9,-999.0000,9,-999.0000,9,-999.0000,9,-999.0000,9, 27.265, 31.864, 36.359, 40.753, 45.048
33RO20110828,   A10,    31,  1,     12,    012,2,20000101,0000,-29.8667,   0.5419, 2963,   1022.0,   3.9178,  34.3854,2,  34.3855,2,  34.5477,2,    193.0,2,    192.8,2,    40.03,2,    32.41,2,     0.00,2,     2.41,2,    1.593,2,    0.783,2,    1.625,2,   2215.9,2,   2303.9,2,   -999.0,9,  -999.00,-999.0000,9,  -999.00,    0.329,2,   -999.0,1,   -999.0,1, -999.000,9,-999.0000,9,-999.0000,9,-999.0000,9,-999.0000,9, 27.314, 31.920, 36.422, 40.824, 45.125
33RO20110828,   A10,    31,  1,     11,    011,2,20000101,0000,-29.8667,   0.5419, 2963,   1138.6,   3.4024,  34.4736,2,  34.4743,6,  34.6369,6,    181.7,2,    181.4,2,    51.06,2,    33.09,2,     0.00,2,     2.48,2,    0.828,2,    0.396,2,    1.105,2,   2231.6,2,   2316.0,2,   -999.0,9,  -999.00, 999.0000,5,   999.00,    0.166,2,   -999.0,1,   -999.0,1, -999.000,9,-999.0000,9,-999.0000,9,-999.0000,9,-999.0000,9, 27.435, 32.054, 36.569, 40.983, 45.297
33RO20110828,   A10,    31,  1,     10,    010,2,20000101,0000,-29.8667,   0.5419, 2963,   1299.3,   3.2437,  34.5214,2,  34.5234,2,  34.6861,2,    180.5,2,    180.0,2,    54.47,2,    32.99,2,     0.00,2,     2.46,2,    0.583,2,    0.276,2,    0.839,2,   2234.5,6,   2322.2,2,   -999.0,9,  -999.00,-999.0000,9,  -999.00,    0.074,2,   -999.0,1,   -999.0,1, -999.000,9,-999.0000,9,-999.0000,9,-999.0000,9,-999.0000,9, 27.491, 32.114, 36.633, 41.051, 45.369
33RO20110828,   A10,    31,  1,      9,    009,2,20000101,0000,-29.8667,   0.5419, 2963,   1499.0,   3.0244,  34.6643,2,  34.6634,2,  34.8269,2,    187.0,2,    188.8,2,    55.15,2,    30.75,2,     0.00,2,     2.28,2,    0.191,2,    0.088,2,    0.354,2,   2231.1,2,   2329.1,2,   -999.0,9,  -999.00, 999.0000,5,   999.00,    0.000,2,   -999.0,1,   -999.0,1, -999.000,9,-999.0000,9,-999.0000,9,-999.0000,9,-999.0000,9, 27.624, 32.252, 36.777, 41.199, 45.522
33RO20110828,   A10,    31,  1,      8,    008,2,20000101,0000,-29.8667,   0.5419, 2963,   1700.6,   3.0094,  34.7516,2,  34.7518,2,  34.9157,2,    201.0,2,    200.2,2,    50.36,2,    28.11,2,     0.00,2,     2.09,2,    0.076,2,    0.038,2,    0.161,2,   2218.9,2,   2327.1,2,   -999.0,9,  -999.00,-999.0000,9,  -999.00,    0.000,2,   -999.0,1,   -999.0,1, -999.000,9,-999.0000,9,-999.0000,9,-999.0000,9,-999.0000,9, 27.698, 32.326, 36.851, 41.273, 45.596
33RO20110828,   A10,    31,  1,      7,    007,2,20000101,0000,-29.8667,   0.5419, 2963,   1897.1,   2.8735,  34.7953,2,  34.7971,2,  34.9612,2,    210.7,2,    210.9,2,    49.68,2,    26.74,2,     0.00,2,     1.97,2,    0.042,2,    0.021,2,    0.114,2,   2213.1,2,   2328.9,2,   -999.0,9,  -999.00, 999.0000,5,   999.00,    0.000,2,   -999.0,1,   -999.0,1, -999.000,9,-999.0000,9,-999.0000,9,-999.0000,9,-999.0000,9, 27.747, 32.380, 36.908, 41.334, 45.660
33RO20110828,   A10,    31,  1,      6,    006,2,20000101,0000,-29.8667,   0.5419, 2963,   2089.3,   2.7033,  34.8154,2,  34.8172,2,  34.9814,2,    217.8,2,    217.8,2,    51.53,2,    26.06,2,     0.00,2,     1.91,2,    0.031,2,    0.015,2,    0.094,2,   2212.0,2,   2331.5,2,   -999.0,9,  -999.00,-999.0000,9,  -999.00,    0.000,2,   -999.0,1,   -999.0,1, -999.000,9,-999.0000,9,-999.0000,9,-999.0000,9,-999.0000,9, 27.780, 32.417, 36.950, 41.380, 45.711
33RO20110828,   A10,    31,  1,      5,    005,2,20000101,0000,-29.8667,   0.5419, 2963,   2297.6,   2.5551,  34.8297,2,  34.8308,2,  34.9950,2,    223.4,2,    223.3,2,    53.09,2,    25.18,2,     0.00,2,     1.86,2,    0.022,2,    0.011,2,    0.078,2,   2211.3,2,   2334.1,2,   -999.0,9,  -999.00, 999.0000,5,   999.00,    0.000,2,   -999.0,1,   -999.0,1, -999.000,9,-999.0000,9,-999.0000,9,-999.0000,9,-999.0000,9, 27.805, 32.446, 36.984, 41.418, 45.753
33RO20110828,   A10,    31,  1,      4,    004,2,20000101,0000,-29.8667,   0.5419, 2963,   2500.9,   2.4523,  34.8412,2,  34.8420,2,  35.0063,2,    228.0,2,    227.3,2,    53.68,2,    24.89,2,     0.00,2,     1.82,2,    0.016,2,    0.009,2,    0.064,2,   2209.5,2,   2339.1,2,   -999.0,9,  -999.00,-999.0000,9,  -999.00,    0.000,2,   -999.0,1,   -999.0,1, -999.000,9,-999.0000,9,-999.0000,9,-999.0000,9,-999.0000,9, 27.824, 32.468, 37.009, 41.447, 45.784
33RO20110828,   A10,    31,  1,      3,    003,2,20000101,0000,-29.8667,   0.5419, 2963,   2719.7,   2.3765,  34.8497,2,  34.8510,2,  35.0154,2,    231.2,2,    232.2,2,    54.26,2,    24.50,2,     0.00,2,     1.80,2,    0.013,2,    0.007,2,    0.052,2,   2207.6,2,   2340.5,2,   -999.0,9,  -999.00, 999.0000,5,   999.00,    0.000,2,   -999.0,1,   -999.0,1, -999.000,9,-999.0000,9,-999.0000,9,-999.0000,9,-999.0000,9, 27.839, 32.486, 37.029, 41.469, 45.809
33RO20110828,   A10,    31,  1,      2,    002,2,20000101,0000,-29.8667,   0.5419, 2963,   2876.0,   2.3466,  34.8542,2,  34.8554,2,  35.0197,2,    232.2,2,    232.9,2,    54.46,2,    24.40,2,     0.00,2,     1.78,2,    0.009,2,    0.006,2,    0.044,2,   2208.2,2,   2341.6,2,   -999.0,9,  -999.00,-999.0000,9,  -999.00,    0.000,2,   -999.0,1,   -999.0,1, -999.000,9,-999.0000,9,-999.0000,9,-999.0000,9,-999.0000,9, 27.846, 32.494, 37.039, 41.480, 45.821
33RO20110828,   A10,    31,  1,      1,    001,2,20000101,0000,-29.8667,   0.5419, 2963,   2995.4,   2.3329,  34.8572,2,  34.8583,2,  35.0226,2,    232.9,2,    232.3,2,    54.36,2,    24.20,2,     0.00,2,     1.77,2,    0.009,2,    0.006,2,    0.042,2,   2211.0,6,   2344.8,2,   -999.0,9,  -999.00, 999.0000,5,   999.00,    0.000,2,   -999.0,1,   -999.0,1, -999.000,9,-999.0000,9,-999.0000,9,-999.0000,9,-999.0000,9, 27.850, 32.500, 37.044, 41.486, 45.828