BOTTLE,20130715NOAA
EXPOCODE,SECT_ID,STNNBR,CASTNO,SAMPNO,BTLNBR,BTLNBR_FLAG_W,DATE,TIME,LATITUDE,LONGITUDE,DEPTH,CTDPRS,CTDTMP,CTDSAL,CTDSAL_FLAG_W,SALNTY,SALNTY_FLAG_W,SALTREF,SALTREF_FLAG_W,CTDOXY,CTDOXY_FLAG_W,OXYGEN,OXYGEN_FLAG_W,SILCAT,SILCAT_FLAG_W,NITRAT,NITRAT_FLAG_W,NITRIT,NITRIT_FLAG_W,PHSPHT,PHSPHT_FLAG_W,CFC-11,CFC-11_FLAG_W,CFC-12,CFC-12_FLAG_W,CCL4,CCL4_FLAG_W,TCARBN,TCARBN_FLAG_W,ALKALI,ALKALI_FLAG_W,PCO2,PCO2_FLAG_W,PCO2TMP,PH_TOT,PH_TOT_FLAG_W,PH_TMP,SF6,SF6_FLAG_W,DOC,DOC_FLAG_W,TDN,TDN_FLAG_W,TRITUM,TRITUM_FLAG_W,HELIUM,HELIUM_FLAG_W,OXY_18,OXY_18_FLAG_W,BLACKC,BLACKC_FLAG_W,PIGMENTS,PIGMENTS_FLAG_W,SIGMA-THETA,SIGMA-1,SIGMA-2,SIGMA-3,SIGMA-4
,,,,,,,,,,,METERS,DBARS,ITS-90,PSS-78,,PSS-78,,G/KG,,UMOL/KG,,UMOL/KG,,UMOL/KG,,UMOL/KG,,UMOL/KG,,UMOL/KG,,PMOL/KG,,PMOL/KG,,PMOL/KG,,UMOL/KG,,UMOL/KG,,UATM@T,,DEG_C,,,DEG_C,FMOL/KG,,UMOL/KG,,UMOL/KG,,TU,,NMOL/KG,,,,,,,,,,,,
33RO20110828,   A10,   110,  1,     24,    024,2,20000101,0000,-28.4464, -44.8871, 3511,      4.7,  20.0759,  36.3722,2,  36.3738,2,  36.5453,2,    234.0,2,    240.2,2,     0.58,2,     0.00,2,     0.00,2,     0.03,2,    2.116,2,    1.297,2,    4.196,3,   2078.4,6,   2386.7,2,   -999.0,9,  -999.00,   7.9397,2,    25.61,    1.349,2,   -999.0,9,   -999.0,9, -999.000,9,-999.0000,9,-999.0000,9,-999.0000,9,-999.0000,1, 25.790, 30.052, 34.221, 38.299, 42.289
33RO20110828,   A10,   110,  1,     23,    023,2,20000101,0000,-28.4464, -44.8871, 3511,     50.4,  19.9425,  36.3748,2,  36.3757,2,  36.5473,2,    234.4,2,    230.4,2,     0.58,2,     0.00,2,     0.00,2,     0.04,2, -999.000,9, -999.000,9, -999.000,9,   2079.4,2,   2385.4,2,   -999.0,9,  -999.00,   7.9484,2,    25.59, -999.000,9,   -999.0,9,   -999.0,9, -999.000,9,-999.0000,9,-999.0000,9,-999.0000,9,-999.0000,9, 25.829, 30.094, 34.264, 38.345, 42.337
33RO20110828,   A10,   110,  1,     22,    022,2,20000101,0000,-28.4464, -44.8871, 3511,     99.6,  18.6705,  36.2440,2,  36.2399,2,  36.4108,2,    227.2,2,    225.0,2,     0.78,2,     0.29,2,     0.10,2,     0.09,2, -999.000,9, -999.000,9, -999.000,9,   2086.4,2,   2378.3,2,   -999.0,9,  -999.00,   7.9322,2,    25.68, -999.000,9,   -999.0,9,   -999.0,9, -999.000,9,-999.0000,9,-999.0000,9,-999.0000,9,-999.0000,1, 26.058, 30.343, 34.534, 38.634, 42.646
33RO20110828,   A10,   110,  1,     21,    021,2,20000101,0000,-28.4464, -44.8871, 3511,    150.9,  16.4617,  35.7648,2,  35.7649,2,  35.9335,2,    199.1,2,    200.8,2,     2.05,2,     4.78,2,     0.02,2,     0.31,2, -999.000,9, -999.000,9, -999.000,9,   2108.1,2,   2348.3,4,   -999.0,9,  -999.00,   7.8564,2,    25.71, -999.000,9,   -999.0,9,   -999.0,9, -999.000,9,-999.0000,9,-999.0000,9,-999.0000,9,-999.0000,1, 26.235, 30.560, 34.790, 38.927, 42.975
33RO20110828,   A10,   110,  1,     20,    020,2,20000101,0000,-28.4464, -44.8871, 3511,    201.6,  15.2199,  35.5666,2,  35.5697,2,  35.7374,2,    208.9,2,    207.8,2,     2.24,2,     6.15,2,     0.01,2,     0.39,2, -999.000,9, -999.000,9, -999.000,9,   2112.4,2,   2338.8,2,   -999.0,9,  -999.00,   7.8414,2,    25.67, -999.000,9,   -999.0,9,   -999.0,9, -999.000,9,-999.0000,9,-999.0000,9,-999.0000,9,-999.0000,9, 26.369, 30.718, 34.971, 39.130, 43.199
33RO20110828,   A10,   110,  1,     19,    019,2,20000101,0000,-28.4464, -44.8871, 3511,    249.2,  14.4422,  35.4576,2,  35.4588,2,  35.6260,2,    208.6,2,    207.3,2,     2.63,2,     7.61,2,     0.01,2,     0.47,2,    2.756,2,    1.605,2,    0.938,3,   2116.7,2,   2331.8,2,   -999.0,9,  -999.00,   7.8353,2,    25.65,    1.234,2,   -999.0,9,   -999.0,9, -999.000,9,-999.0000,9,-999.0000,9,-999.0000,9,-999.0000,9, 26.455, 30.819, 35.086, 39.260, 43.342
33RO20110828,   A10,   110,  1,     18,    018,2,20000101,0000,-28.4464, -44.8871, 3511,    301.8,  13.7324,  35.3649,2,  35.3687,2,  35.5355,2,    210.9,2,    209.3,2,     3.02,2,     8.98,2,     0.01,2,     0.54,2, -999.000,9, -999.000,9, -999.000,9,   2118.8,2,   2328.6,2,   -999.0,9,  -999.00,   7.8183,2,    25.57, -999.000,9,   -999.0,9,   -999.0,9, -999.000,9,-999.0000,9,-999.0000,9,-999.0000,9,-999.0000,9, 26.537, 30.915, 35.196, 39.383, 43.478
33RO20110828,   A10,   110,  1,     17,    017,2,20000101,0000,-28.4464, -44.8871, 3511,    400.4,  12.0319,  35.0957,2,  35.0974,2,  35.2629,2,    207.0,2,    208.2,2,     4.29,2,    12.78,2,     0.00,2,     0.71,2, -999.000,9, -999.000,9, -999.000,9,   2127.5,2,   2314.5,2,   -999.0,9,  -999.00,   7.7726,2,    25.59, -999.000,9,   -999.0,9,   -999.0,9, -999.000,9,-999.0000,9,-999.0000,9,-999.0000,9,-999.0000,9, 26.669, 31.082, 35.397, 39.617, 43.744
33RO20110828,   A10,   110,  1,     16,    016,2,20000101,0000,-28.4464, -44.8871, 3511,    502.1,   9.6736,  34.7668,2,  34.7742,2,  34.9382,2,    201.8,2,    202.8,2,     7.71,2,    18.74,2,     0.00,2,     1.02,2, -999.000,9, -999.000,9, -999.000,9,   2146.2,2,   2297.9,2,   -999.0,9,  -999.00,   7.7195,2,    25.62, -999.000,9,   -999.0,9,   -999.0,9, -999.000,9,-999.0000,9,-999.0000,9,-999.0000,9,-999.0000,9, 26.841, 31.305, 35.671, 39.939, 44.113
33RO20110828,   A10,   110,  1,     15,    015,2,20000101,0000,-28.4464, -44.8871, 3511,    600.6,   7.7979,  34.5562,2,  34.5576,2,  34.7206,2,    199.8,2,    201.6,2,    11.62,2,    23.43,2,     0.00,2,     1.29,2,    3.008,2,    1.544,2,    2.339,3,   2159.5,2,   2290.9,2,   -999.0,9,  -999.00,   7.6649,2,    25.75,    0.728,2,   -999.0,9,   -999.0,9, -999.000,9,-999.0000,9,-999.0000,9,-999.0000,9,-999.0000,9, 26.965, 31.474, 35.882, 40.191, 44.405
33RO20110828,   A10,   110,  1,     14,    014,2,20000101,0000,-28.4464, -44.8871, 3511,    759.6,   5.4609,  34.3587,2,  34.3600,2,  34.5220,2,    211.4,2,    211.9,2,    19.14,2,    28.12,2,     0.00,2,     1.59,2,    2.754,2,    1.370,2,    3.031,3,   2173.5,2,   2288.8,2,   -999.0,9,  -999.00,   7.6240,2,    25.64,    0.554,2,   -999.0,9,   -999.0,9, -999.000,9,-999.0000,9,-999.0000,9,-999.0000,9,-999.0000,9, 27.121, 31.688, 36.152, 40.516, 44.782
33RO20110828,   A10,   110,  1,     13,    013,2,20000101,0000,-28.4464, -44.8871, 3511,    925.1,   3.9966,  34.3082,2,  34.3088,6,  34.4706,6,    215.8,2,    215.3,2,    30.17,2,    30.66,2,     0.00,2,     1.82,2,    2.222,2,    1.087,2,    2.944,3,   2190.2,2,   2297.0,2,   -999.0,9,  -999.00,   7.5812,2,    25.60,    0.382,2,   -999.0,9,   -999.0,9, -999.000,9,-999.0000,9,-999.0000,9,-999.0000,9,-999.0000,9, 27.243, 31.848, 36.349, 40.748, 45.049
33RO20110828,   A10,   110,  1,     12,    012,2,20000101,0000,-28.4464, -44.8871, 3511,   1149.6,   3.4249,  34.4564,2,  34.4579,2,  34.6204,2,    189.5,2,    189.4,2,    45.30,2,    32.51,2,     0.00,2,     2.05,2, -999.000,9, -999.000,9, -999.000,9,   2217.4,2,   2312.7,2,   -999.0,9,  -999.00,   7.5643,2,    25.61, -999.000,9,   -999.0,9,   -999.0,9, -999.000,9,-999.0000,9,-999.0000,9,-999.0000,9,-999.0000,9, 27.420, 32.039, 36.554, 40.967, 45.281
33RO20110828,   A10,   110,  1,     11,    011,2,20000101,0000,-28.4464, -44.8871, 3511,   1300.9,   3.4007,  34.5692,2,  34.5691,2,  34.7321,2,    187.7,2,    187.9,2,    45.88,2,    31.34,2,     0.00,2,     2.00,2, -999.000,9, -999.000,9, -999.000,9,   2220.5,6,   2319.1,2,   -999.0,9,  -999.00,   7.5762,2,    25.55, -999.000,9,   -999.0,9,   -999.0,9, -999.000,9,-999.0000,9,-999.0000,9,-999.0000,9,-999.0000,9, 27.513, 32.131, 36.646, 41.060, 45.373
33RO20110828,   A10,   110,  1,     10,    010,2,20000101,0000,-28.4464, -44.8871, 3511,   1500.5,   3.6692,  34.7282,2,  34.7296,2,  34.8934,2,    196.8,2,    196.7,2,    37.97,2,    28.31,2,     0.00,2,     1.76,2,    0.128,2,    0.064,2,    0.418,3,   2206.9,2,   2319.7,2,   -999.0,9,  -999.00,   7.5972,2,    25.66,    0.000,2,   -999.0,9,   -999.0,9, -999.000,9,-999.0000,9,-999.0000,9,-999.0000,9,-999.0000,9, 27.616, 32.227, 36.735, 41.140, 45.447
33RO20110828,   A10,   110,  1,      9,    009,2,20000101,0000,-28.4464, -44.8871, 3511,   1700.1,   3.6437,  34.8255,2,  34.8267,2,  34.9910,2,    210.4,2,    211.1,2,    34.26,2,    25.47,2,     0.00,2,     1.59,2,    0.141,2,    0.071,2,    0.466,3,   2195.9,2,   2321.4,2,   -999.0,9,  -999.00,   7.6369,2,    25.66,    0.000,2,   -999.0,9,   -999.0,9, -999.000,9,-999.0000,9,-999.0000,9,-999.0000,9,-999.0000,9, 27.698, 32.309, 36.817, 41.223, 45.530
33RO20110828,   A10,   110,  1,      8,    008,2,20000101,0000,-28.4464, -44.8871, 3511,   1899.7,   3.6174,  34.8947,2,  34.8963,2,  35.0608,2,    229.4,2,    228.7,2,    29.08,2,    22.94,2,     0.00,2,     1.40,2,    0.177,2,    0.089,2,    0.548,3,   2184.5,2,   2319.4,2,   -999.0,9,  -999.00,   7.6629,2,    25.66,    0.032,2,   -999.0,9,   -999.0,9, -999.000,9,-999.0000,9,-999.0000,9,-999.0000,9,-999.0000,9, 27.758, 32.370, 36.878, 41.285, 45.592
33RO20110828,   A10,   110,  1,      7,    007,2,20000101,0000,-28.4464, -44.8871, 3511,   2100.7,   3.5046,  34.9327,2,  34.9347,2,  35.0995,2,    242.3,2,    241.9,2,    25.18,2,    20.98,2,     0.00,2,     1.26,2,    0.206,2,    0.104,2,    0.609,3,   2173.5,2,   2319.4,2,   -999.0,9,  -999.00,   7.6920,2,    25.54,    0.000,2,   -999.0,9,   -999.0,9, -999.000,9,-999.0000,9,-999.0000,9,-999.0000,9,-999.0000,9, 27.801, 32.416, 36.928, 41.337, 45.647
33RO20110828,   A10,   110,  1,      6,    006,2,20000101,0000,-28.4464, -44.8871, 3511,   2324.6,   3.3268,  34.9398,2,  34.9416,2,  35.1064,2,    248.3,2,    248.6,2,    25.37,2,    20.30,2,     0.00,2,     1.23,2,    0.189,2,    0.095,2,    0.580,3,   2171.8,2,   2319.7,2,   -999.0,9,  -999.00,   7.6924,2,    25.59,    0.028,2,   -999.0,9,   -999.0,9, -999.000,9,-999.0000,9,-999.0000,9,-999.0000,9,-999.0000,9, 27.826, 32.446, 36.962, 41.377, 45.692
33RO20110828,   A10,   110,  1,      5,    005,2,20000101,0000,-28.4464, -44.8871, 3511,   2553.4,   3.1394,  34.9353,2,  34.9366,2,  35.1014,2,    250.0,2,    249.9,2,    27.42,2,    20.30,2,     0.00,2,     1.26,2,    0.151,2,    0.075,2,    0.506,3,   2171.8,2,   2325.1,2,   -999.0,9,  -999.00,   7.7028,2,    25.59,    0.028,2,   -999.0,9,   -999.0,9, -999.000,9,-999.0000,9,-999.0000,9,-999.0000,9,-999.0000,9, 27.841, 32.467, 36.988, 41.408, 45.728
33RO20110828,   A10,   110,  1,      4,    004,2,20000101,0000,-28.4464, -44.8871, 3511,   2753.1,   2.9478,  34.9273,2,  34.9291,2,  35.0939,2,    250.6,2,    251.2,2,    30.45,2,    20.40,2,     0.00,2,     1.30,2,    0.120,2,    0.061,2,    0.430,3,   2174.0,2,   -999.0,5,   -999.0,9,  -999.00,   7.6931,2,    25.58,    0.000,2,   -999.0,9,   -999.0,9, -999.000,9,-999.0000,9,-999.0000,9,-999.0000,9,-999.0000,9, 27.854, 32.485, 37.013, 41.438, 45.763
33RO20110828,   A10,   110,  1,      3,    003,2,20000101,0000,-28.4464, -44.8871, 3511,   2973.1,   2.7538,  34.9160,2,  34.9213,6,  35.0860,6,    250.5,2,    251.5,2,    34.26,2,    20.79,2,     0.00,2,     1.35,2,    0.091,2,    0.047,2,    0.390,3,   2179.5,2,   2328.8,2,   -999.0,9,  -999.00,   7.6973,2,    25.61,    0.000,2,   -999.0,9,   -999.0,9, -999.000,9,-999.0000,9,-999.0000,9,-999.0000,9,-999.0000,9, 27.863, 32.501, 37.034, 41.465, 45.795
33RO20110828,   A10,   110,  1,      2,    002,2,20000101,0000,-28.4464, -44.8871, 3511,   3250.8,   2.2326,  34.8637,2,  34.8656,2,  35.0300,2,    242.5,2,    242.6,2,    53.29,2,    23.33,2,     0.00,2,     1.66,2,    0.084,2,    0.043,2,    0.327,3,   2197.9,2,   2338.1,2,   -999.0,9,  -999.00,   7.6728,2,    25.57,    0.029,2,   -999.0,9,   -999.0,9, -999.000,9,-999.0000,9,-999.0000,9,-999.0000,9,-999.0000,9, 27.866, 32.519, 37.067, 41.512, 45.856
33RO20110828,   A10,   110,  1,      1,    001,2,20000101,0000,-28.4464, -44.8871, 3511,   3506.8,   0.7742,  34.7204,2,  34.7221,2,  34.8858,2,    222.5,2,    221.8,2,   109.81,2,    30.65,2,     0.00,2,     2.58,2,    0.221,2,    0.104,2,    0.458,3,   2250.6,6,   2362.2,2,   -999.0,9,  -999.00,   7.6134,2,    25.59,    0.045,2,   -999.0,9,   -999.0,9, -999.000,9,-999.0000,9,-999.0000,9,-999.0000,9,-999.0000,9, 27.852, 32.547, 37.137, 41.622, 46.005