BOTTLE,20130715NOAA
EXPOCODE,SECT_ID,STNNBR,CASTNO,SAMPNO,BTLNBR,BTLNBR_FLAG_W,DATE,TIME,LATITUDE,LONGITUDE,DEPTH,CTDPRS,CTDTMP,CTDSAL,CTDSAL_FLAG_W,SALNTY,SALNTY_FLAG_W,SALTREF,SALTREF_FLAG_W,CTDOXY,CTDOXY_FLAG_W,OXYGEN,OXYGEN_FLAG_W,SILCAT,SILCAT_FLAG_W,NITRAT,NITRAT_FLAG_W,NITRIT,NITRIT_FLAG_W,PHSPHT,PHSPHT_FLAG_W,CFC-11,CFC-11_FLAG_W,CFC-12,CFC-12_FLAG_W,CCL4,CCL4_FLAG_W,TCARBN,TCARBN_FLAG_W,ALKALI,ALKALI_FLAG_W,PCO2,PCO2_FLAG_W,PCO2TMP,PH_TOT,PH_TOT_FLAG_W,PH_TMP,SF6,SF6_FLAG_W,DOC,DOC_FLAG_W,TDN,TDN_FLAG_W,TRITUM,TRITUM_FLAG_W,HELIUM,HELIUM_FLAG_W,OXY_18,OXY_18_FLAG_W,BLACKC,BLACKC_FLAG_W,PIGMENTS,PIGMENTS_FLAG_W,SIGMA-THETA,SIGMA-1,SIGMA-2,SIGMA-3,SIGMA-4
,,,,,,,,,,,METERS,DBARS,ITS-90,PSS-78,,PSS-78,,G/KG,,UMOL/KG,,UMOL/KG,,UMOL/KG,,UMOL/KG,,UMOL/KG,,UMOL/KG,,PMOL/KG,,PMOL/KG,,PMOL/KG,,UMOL/KG,,UMOL/KG,,UATM@T,,DEG_C,,,DEG_C,FMOL/KG,,UMOL/KG,,UMOL/KG,,TU,,NMOL/KG,,,,,,,,,,,,
33RO20110828,   A10,    69,  1,     24,    024,2,20000101,0000,-30.0170, -24.9774, 5715,      5.3,  17.4687,  35.7964,2,  35.7974,2,  35.9662,2,    241.1,2,    239.5,2,     1.07,2,     0.00,2,     0.01,2,     0.12,2,    2.395,2,    1.445,2,    3.625,3,   2080.7,6,   2347.6,3,   -999.0,9,  -999.00,   7.9079,2,    25.57,    1.474,2,   -999.0,1,   -999.0,1, -999.000,9,-999.0000,9,-999.0000,9,-999.0000,9,-999.0000,1, 26.014, 30.321, 34.534, 38.655, 42.686
33RO20110828,   A10,    69,  1,     23,    023,2,20000101,0000,-30.0170, -24.9774, 5715,     25.2,  17.4252,  35.8092,2,  35.8210,2,  35.9899,2,    240.8,2,    241.9,2,     1.07,2,     0.00,2,     0.01,2,     0.12,2,    2.429,2,    1.462,2,    3.716,3,   2084.2,2,   2350.8,2,   -999.0,9,  -999.00,   7.9197,2,    25.52,    1.515,2,   -999.0,1,   -999.0,1, -999.000,9,-999.0000,9,-999.0000,9,-999.0000,9,-999.0000,9, 26.043, 30.351, 34.565, 38.686, 42.718
33RO20110828,   A10,    69,  1,     22,    022,2,20000101,0000,-30.0170, -24.9774, 5715,     64.9,  16.6894,  35.7739,2,  35.7675,2,  35.9362,2,    237.9,2,    240.1,2,     1.07,2,     0.10,2,     0.08,2,     0.15,2,    2.455,2,    1.476,2,    3.127,3,   2085.1,2,   2342.9,3,   -999.0,9,  -999.00,   7.9089,2,    25.56,    1.507,2,   -999.0,1,   -999.0,1, -999.000,9,-999.0000,9,-999.0000,9,-999.0000,9,-999.0000,1, 26.180, 30.501, 34.727, 38.860, 42.904
33RO20110828,   A10,    69,  1,     21,    021,2,20000101,0000,-30.0170, -24.9774, 5715,    124.5,  16.2345,  35.7190,2,  35.7183,2,  35.8868,2,    238.6,2,    238.2,2,     1.17,2,     0.68,2,     0.44,2,     0.18,2,    2.494,2,    1.499,2,    3.526,3,   2086.7,2,   2339.2,3,   -999.0,9,  -999.00,   7.9055,2,    25.63,    1.485,2,   -999.0,1,   -999.0,1, -999.000,9,-999.0000,9,-999.0000,9,-999.0000,9,-999.0000,1, 26.251, 30.580, 34.814, 38.956, 43.007
33RO20110828,   A10,    69,  1,     20,    020,2,20000101,0000,-30.0170, -24.9774, 5715,    175.5,  14.9842,  35.4791,2,  35.4752,2,  35.6425,2,    220.0,2,    217.1,2,     2.05,2,     4.88,2,     0.02,2,     0.41,2,    2.683,2,    1.583,2,    1.377,3,   2108.2,2,   2328.2,2,   -999.0,9,  -999.00,   7.8424,2,    25.46,    1.396,2,   -999.0,1,   -999.0,1, -999.000,9,-999.0000,9,-999.0000,9,-999.0000,9,-999.0000,9, 26.348, 30.701, 34.959, 39.123, 43.196
33RO20110828,   A10,    69,  1,     19,    019,2,20000101,0000,-30.0170, -24.9774, 5715,    254.7,  13.4360,  35.2624,2,  35.2606,2,  35.4268,2,    214.1,2,    214.7,2,     3.02,2,     8.19,2,     0.02,2,     0.59,2,    2.912,2,    1.679,2,    1.263,3,   2119.9,2,   2317.7,2,   -999.0,9,  -999.00,   7.8224,2,    25.59,    1.301,2,   -999.0,1,   -999.0,1, -999.000,9,-999.0000,9,-999.0000,9,-999.0000,9,-999.0000,9, 26.513, 30.898, 35.184, 39.377, 43.478
33RO20110828,   A10,    69,  1,     18,    018,2,20000101,0000,-30.0170, -24.9774, 5715,    354.6,  12.0145,  35.0791,2,  35.0831,2,  35.2485,2,    213.8,2,    213.8,2,     4.10,2,    10.93,2,     0.01,2,     0.75,2,    3.080,2,    1.722,2,    1.410,3,   2129.8,2,   2309.7,2,   -999.0,9,  -999.00,   7.7863,2,    25.42,    1.294,2,   -999.0,1,   -999.0,1, -999.000,9,-999.0000,9,-999.0000,9,-999.0000,9,-999.0000,9, 26.660, 31.073, 35.389, 39.609, 43.736
33RO20110828,   A10,    69,  1,     17,    017,2,20000101,0000,-30.0170, -24.9774, 5715,    459.6,  10.3523,  34.8485,2,  34.8521,4,  35.0164,4,    207.7,2,    209.3,2,     6.34,2,    15.42,2,     0.01,2,     0.98,2,    3.168,2,    1.736,2,    1.894,3,   2141.9,2,   2299.1,2,   -999.0,9,  -999.00,   7.7011,3,    23.34,    1.159,2,   -999.0,1,   -999.0,1, -999.000,9,-999.0000,9,-999.0000,9,-999.0000,9,-999.0000,9, 26.782, 31.232, 35.583, 39.837, 43.997
33RO20110828,   A10,    69,  1,     16,    016,2,20000101,0000,-30.0170, -24.9774, 5715,    590.1,   8.0049,  34.5639,2,  34.5648,2,  34.7278,2,    208.0,2,    207.6,2,    10.74,2,    21.38,2,     0.01,2,     1.34,2,    3.226,2,    1.703,2,    2.772,3,   2158.1,2,   2286.6,2,   -999.0,9,  -999.00,   7.6728,3,    24.17,    0.892,2,   -999.0,1,   -999.0,1, -999.000,9,-999.0000,9,-999.0000,9,-999.0000,9,-999.0000,9, 26.940, 31.444, 35.847, 40.152, 44.361
33RO20110828,   A10,    69,  1,     15,    015,2,20000101,0000,-30.0170, -24.9774, 5715,    719.4,   5.7924,  34.3428,2,  34.3433,2,  34.5053,2,    219.8,2,    205.1,2,    15.03,2,    24.80,2,     0.01,2,     1.56,2,    3.368,2,    1.726,2,    4.068,3,   2166.0,2,   2281.8,2,   -999.0,9,  -999.00,   7.6317,2,    25.11,    0.879,2,   -999.0,1,   -999.0,1, -999.000,9,-999.0000,9,-999.0000,9,-999.0000,9,-999.0000,9, 27.068, 31.626, 36.082, 40.438, 44.697
33RO20110828,   A10,    69,  1,     14,    014,2,20000101,0000,-30.0170, -24.9774, 5715,    850.8,   4.7171,  34.3174,2,  34.3178,2,  34.4797,2,    216.2,2,    215.9,2,    24.60,2,    27.92,2,     0.01,2,     1.80,2,    2.721,2,    1.348,2,    3.431,3,   2184.1,2,   2287.8,2,   -999.0,9,  -999.00,   7.6055,2,    25.48,    0.638,2,   -999.0,1,   -999.0,1, -999.000,9,-999.0000,9,-999.0000,9,-999.0000,9,-999.0000,9, 27.174, 31.760, 36.242, 40.624, 44.908
33RO20110828,   A10,    69,  1,     13,    013,2,20000101,0000,-30.0170, -24.9774, 5715,   1048.2,   3.6508,  34.3737,2,  34.3736,2,  34.5357,2,    198.3,2,    198.8,2,    41.10,2,    30.65,2,     0.01,2,     2.08,2,    1.517,2,    0.739,2,    2.561,3,   2210.3,2,   2301.3,2,   -999.0,9,  -999.00,   7.5691,2,    25.52,    0.243,2,   -999.0,1,   -999.0,1, -999.000,9,-999.0000,9,-999.0000,9,-999.0000,9,-999.0000,9, 27.331, 31.944, 36.453, 40.861, 45.170
33RO20110828,   A10,    69,  1,     12,    012,2,20000101,0000,-30.0170, -24.9774, 5715,   1249.8,   3.1347,  34.4839,2,  34.4839,2,  34.6465,2,    188.0,2,    187.7,2,    53.30,2,    31.04,2,     0.01,2,     2.20,2,    0.704,2,    0.339,2,    1.447,3,   2226.9,6,   2305.2,3,   -999.0,9,  -999.00,   7.5581,2,    25.60,    0.106,2,   -999.0,1,   -999.0,1, -999.000,9,-999.0000,9,-999.0000,9,-999.0000,9,-999.0000,9, 27.469, 32.095, 36.618, 41.038, 45.359
33RO20110828,   A10,    69,  1,     11,    011,2,20000101,0000,-30.0170, -24.9774, 5715,   1452.3,   2.9244,  34.6118,2,  34.6121,2,  34.7753,2,    189.4,2,    189.4,2,    57.49,2,    29.38,2,     0.01,2,     2.15,2,    0.280,2,    0.133,2,    0.804,3,   2228.9,2,   2309.5,3,   -999.0,9,  -999.00,   7.5702,2,    25.57,    0.067,2,   -999.0,1,   -999.0,1, -999.000,9,-999.0000,9,-999.0000,9,-999.0000,9,-999.0000,9, 27.592, 32.223, 36.750, 41.176, 45.501
33RO20110828,   A10,    69,  1,     10,    010,2,20000101,0000,-30.0170, -24.9774, 5715,   1751.1,   2.7800,  34.7427,2,  34.7461,2,  34.9099,2,    205.1,2,    205.2,2,    55.24,2,    27.03,2,     0.01,2,     1.95,2,    0.075,2,    0.036,2,    0.342,3,   2217.9,2,   2312.5,3,   -999.0,9,  -999.00,   7.6068,2,    25.58,    0.000,2,   -999.0,1,   -999.0,1, -999.000,9,-999.0000,9,-999.0000,9,-999.0000,9,-999.0000,9, 27.714, 32.348, 36.879, 41.308, 45.636
33RO20110828,   A10,    69,  1,      9,    009,2,20000101,0000,-30.0170, -24.9774, 5715,   2049.9,   2.6943,  34.8133,2,  34.8131,2,  34.9772,2,    221.0,2,    221.5,2,    50.75,2,    24.69,2,     0.01,2,     1.77,2,    0.026,2,    0.014,2,    0.186,3,   2205.4,2,   2321.0,3,   -999.0,9,  -999.00,   7.6354,2,    25.50,    0.000,2,   -999.0,1,   -999.0,1, -999.000,9,-999.0000,9,-999.0000,9,-999.0000,9,-999.0000,9, 27.777, 32.414, 36.947, 41.378, 45.709
33RO20110828,   A10,    69,  1,      8,    008,2,20000101,0000,-30.0170, -24.9774, 5715,   2349.8,   2.6883,  34.8534,2,  34.8536,2,  35.0179,2,    232.9,2,    233.0,2,    46.16,2,    22.93,2,     0.01,2,     1.65,2,    0.011,2,    0.006,2,    0.140,3,   2195.3,2,   2329.5,2,   -999.0,9,  -999.00,   7.6669,2,    25.54,    0.000,2,   -999.0,1,   -999.0,1, -999.000,9,-999.0000,9,-999.0000,9,-999.0000,9,-999.0000,9, 27.812, 32.450, 36.984, 41.415, 45.746
33RO20110828,   A10,    69,  1,      7,    007,2,20000101,0000,-30.0170, -24.9774, 5715,   2756.9,   2.7058,  34.8924,2,  34.8919,2,  35.0565,2,    244.3,2,    244.0,2,    39.91,2,    20.88,2,     0.01,2,     1.50,2,    0.005,2,    0.004,2,    0.108,3,   2184.9,2,   2325.3,3,   -999.0,9,  -999.00,   7.6825,2,    25.54,    0.000,2,   -999.0,1,   -999.0,1, -999.000,9,-999.0000,9,-999.0000,9,-999.0000,9,-999.0000,9, 27.845, 32.483, 37.017, 41.449, 45.780
33RO20110828,   A10,    69,  1,      6,    006,2,20000101,0000,-30.0170, -24.9774, 5715,   3254.9,   2.4442,  34.8861,2,  34.8394,2,  35.0037,2,    247.4,2,    247.6,2,    45.47,2,    21.66,2,     0.01,2,     1.55,2,    0.006,2,    0.004,2,    0.084,3,   2188.2,2,   2330.9,2,   -999.0,9,  -999.00,   7.6867,2,    25.58,    0.036,2,   -999.0,1,   -999.0,1, -999.000,9,-999.0000,9,-999.0000,9,-999.0000,9,-999.0000,9, 27.829, 32.476, 37.018, 41.458, 45.798
33RO20110828,   A10,    69,  1,      5,    005,2,20000101,0000,-30.0170, -24.9774, 5715,   3753.9,   1.7392,  34.8168,2,  34.8172,2,  34.9814,2,    237.4,2,    236.5,2,    73.87,2,    24.88,2,     0.01,2,     1.95,2,    0.021,2,    0.011,2,    0.138,3,   2214.6,2,   2336.2,3,   -999.0,9,  -999.00,   7.6540,2,    25.53,    0.148,2,   -999.0,1,   -999.0,1, -999.000,9,-999.0000,9,-999.0000,9,-999.0000,9,-999.0000,9, 27.868, 32.536, 37.099, 41.559, 45.917
33RO20110828,   A10,    69,  1,      4,    004,2,20000101,0000,-30.0170, -24.9774, 5715,   4254.0,   1.3118,  34.7676,2,  34.7673,2,  34.9312,2,    228.3,2,    228.8,2,    94.08,2,    27.42,2,     0.01,2,     2.24,2,    0.053,2,    0.027,2,    0.242,3,   2234.6,2,   -999.0,5,   -999.0,9,  -999.00,   7.6343,2,    25.56,    0.119,2,   -999.0,1,   -999.0,1, -999.000,9,-999.0000,9,-999.0000,9,-999.0000,9,-999.0000,9, 27.860, 32.542, 37.119, 41.592, 45.963
33RO20110828,   A10,    69,  1,      3,    003,2,20000101,0000,-30.0170, -24.9774, 5715,   4754.7,   1.2517,  34.7551,2,  34.7553,2,  34.9192,2,    226.6,2,    227.3,2,    99.35,2,    28.01,2,     0.01,2,     2.31,2,    0.071,2,    0.036,2,    0.275,3,   2239.1,2,   2355.2,2,   -999.0,9,  -999.00,   7.6281,2,    25.52,    0.106,2,   -999.0,1,   -999.0,1, -999.000,9,-999.0000,9,-999.0000,9,-999.0000,9,-999.0000,9, 27.858, 32.544, 37.124, 41.600, 45.974
33RO20110828,   A10,    69,  1,      2,    002,2,20000101,0000,-30.0170, -24.9774, 5715,   5254.9,   1.2670,  34.7498,2,  34.7500,2,  34.9139,2,    225.5,2,    225.1,2,   100.42,2,    28.01,2,     0.01,2,     2.35,2,    0.085,2,    0.041,2,    0.312,3,   2241.4,2,   2356.8,2,   -999.0,9,  -999.00,   7.6229,2,    25.54,    0.124,2,   -999.0,1,   -999.0,1, -999.000,9,-999.0000,9,-999.0000,9,-999.0000,9,-999.0000,9, 27.857, 32.544, 37.125, 41.602, 45.978
33RO20110828,   A10,    69,  1,      1,    001,2,20000101,0000,-30.0170, -24.9774, 5715,   5753.4,   1.3268,  34.7484,2,  34.7496,2,  34.9135,2,    225.2,2,    225.1,2,   102.18,2,    28.30,2,     0.01,2,     2.35,2,    0.089,2,    0.042,2,    0.330,3,   2241.5,6,   2356.1,2,   -999.0,9,  -999.00,   7.6229,2,    25.59,    0.101,2,   -999.0,1,   -999.0,1, -999.000,9,-999.0000,9,-999.0000,9,-999.0000,9,-999.0000,9, 27.857, 32.544, 37.125, 41.603, 45.978