BOTTLE,20130715NOAA
EXPOCODE,SECT_ID,STNNBR,CASTNO,SAMPNO,BTLNBR,BTLNBR_FLAG_W,DATE,TIME,LATITUDE,LONGITUDE,DEPTH,CTDPRS,CTDTMP,CTDSAL,CTDSAL_FLAG_W,SALNTY,SALNTY_FLAG_W,SALTREF,SALTREF_FLAG_W,CTDOXY,CTDOXY_FLAG_W,OXYGEN,OXYGEN_FLAG_W,SILCAT,SILCAT_FLAG_W,NITRAT,NITRAT_FLAG_W,NITRIT,NITRIT_FLAG_W,PHSPHT,PHSPHT_FLAG_W,CFC-11,CFC-11_FLAG_W,CFC-12,CFC-12_FLAG_W,CCL4,CCL4_FLAG_W,TCARBN,TCARBN_FLAG_W,ALKALI,ALKALI_FLAG_W,PCO2,PCO2_FLAG_W,PCO2TMP,PH_TOT,PH_TOT_FLAG_W,PH_TMP,SF6,SF6_FLAG_W,DOC,DOC_FLAG_W,TDN,TDN_FLAG_W,TRITUM,TRITUM_FLAG_W,HELIUM,HELIUM_FLAG_W,OXY_18,OXY_18_FLAG_W,BLACKC,BLACKC_FLAG_W,PIGMENTS,PIGMENTS_FLAG_W,SIGMA-THETA,SIGMA-1,SIGMA-2,SIGMA-3,SIGMA-4
,,,,,,,,,,,METERS,DBARS,ITS-90,PSS-78,,PSS-78,,G/KG,,UMOL/KG,,UMOL/KG,,UMOL/KG,,UMOL/KG,,UMOL/KG,,UMOL/KG,,PMOL/KG,,PMOL/KG,,PMOL/KG,,UMOL/KG,,UMOL/KG,,UATM@T,,DEG_C,,,DEG_C,FMOL/KG,,UMOL/KG,,UMOL/KG,,TU,,NMOL/KG,,,,,,,,,,,,
33RO20110828,   A10,   107,  1,     24,    024,2,20000101,0000,-28.8914, -43.4758, -999,      4.2,  20.8954,  36.6890,2,  36.6806,2,  36.8536,2,    216.5,2,    222.4,2,     0.78,2,     0.00,2,     0.00,2,     0.04,2,    2.008,2,    1.245,2,    4.203,3,   2089.3,6,   2403.2,2,   -999.0,9,  -999.00,   7.9648,2,    25.56,    1.281,2,   -999.0,1,   -999.0,1, -999.000,9,-999.0000,9,-999.0000,9,-999.0000,9,-999.0000,1, 25.803, 30.051, 34.206, 38.270, 42.248
33RO20110828,   A10,   107,  1,     23,    023,2,20000101,0000,-28.8914, -43.4758, -999,     39.3,  20.8723,  36.6884,2,  36.6890,2,  36.8620,2,    216.9,2,    223.0,2,     0.78,2,     0.00,2,     0.00,2,     0.05,2,    2.011,2,    1.241,2,    4.341,3,   2089.2,2,   2404.4,2,   -999.0,9,  -999.00,   7.9701,2,    25.59,    1.359,2,   -999.0,1,   -999.0,1, -999.000,9,-999.0000,9,-999.0000,9,-999.0000,9,-999.0000,9, 25.817, 30.066, 34.221, 38.286, 42.264
33RO20110828,   A10,   107,  1,     22,    022,2,20000101,0000,-28.8914, -43.4758, -999,     94.7,  19.2298,  36.3355,2,  36.3461,2,  36.5175,2,    215.9,2,    219.3,2,     0.88,2,     0.49,2,     0.12,2,     0.10,2,    2.148,2,    1.324,2,    2.804,3,   2091.7,2,   2383.0,2,   -999.0,9,  -999.00,   7.9365,2,    25.50,    1.404,2,   -999.0,1,   -999.0,1, -999.000,9,-999.0000,9,-999.0000,9,-999.0000,9,-999.0000,1, 25.996, 30.271, 34.453, 38.544, 42.547
33RO20110828,   A10,   107,  1,     21,    021,2,20000101,0000,-28.8914, -43.4758, -999,    139.5,  17.7566,  35.9958,2,  35.9947,2,  36.1644,2,    195.5,2,    207.4,2,     1.56,2,     2.83,2,     0.03,2,     0.24,2,    2.328,2,    1.411,2,    1.011,3,   2103.4,2,   2362.5,2,   -999.0,9,  -999.00,   7.9018,2,    25.56,    1.331,2,   -999.0,1,   -999.0,1, -999.000,9,-999.0000,9,-999.0000,9,-999.0000,9,-999.0000,1, 26.100, 30.402, 34.609, 38.725, 42.751
33RO20110828,   A10,   107,  1,     20,    020,2,20000101,0000,-28.8914, -43.4758, -999,    200.0,  16.2409,  35.7140,2,  35.7147,2,  35.8831,2,    201.8,2,    206.3,2,     2.05,2,     4.49,2,     0.02,2,     0.32,2,    2.512,2,    1.497,2,    0.806,3,   2110.0,2,   2346.3,2,   -999.0,9,  -999.00,   7.8838,2,    25.51,    1.267,2,   -999.0,1,   -999.0,1, -999.000,9,-999.0000,9,-999.0000,9,-999.0000,9,-999.0000,9, 26.249, 30.579, 34.813, 38.955, 43.006
33RO20110828,   A10,   107,  1,     19,    019,2,20000101,0000,-28.8914, -43.4758, -999,    285.0,  14.6291,  35.4636,2,  35.4671,2,  35.6343,2,    200.3,2,    205.9,2,     2.54,2,     7.32,2,     0.01,2,     0.46,2,    2.737,2,    1.602,2,    0.604,3,   2118.1,2,   2332.5,2,   -999.0,9,  -999.00,   7.8243,2,    25.55,    1.228,2,   -999.0,1,   -999.0,1, -999.000,9,-999.0000,9,-999.0000,9,-999.0000,9,-999.0000,9, 26.423, 30.783, 35.047, 39.217, 43.297
33RO20110828,   A10,   107,  1,     18,    018,2,20000101,0000,-28.8914, -43.4758, -999,    384.9,  12.8898,  35.2187,2,  35.2244,2,  35.3905,2,    203.2,2,    207.8,2,     3.61,2,    10.93,2,     0.01,2,     0.62,2,    2.937,2,    1.660,2,    0.812,3,   2127.7,2,   2318.8,2,   -999.0,9,  -999.00,   7.7926,2,    25.56,    1.097,2,   -999.0,1,   -999.0,1, -999.000,9,-999.0000,9,-999.0000,9,-999.0000,9,-999.0000,9, 26.600, 30.995, 35.293, 39.496, 43.606
33RO20110828,   A10,   107,  1,     17,    017,2,20000101,0000,-28.8914, -43.4758, -999,    475.2,  11.1598,  34.9677,2,  34.9722,2,  35.1371,2,    202.5,2,    206.4,2,     5.47,2,    14.83,2,     0.00,2,     0.83,2,    3.061,2,    1.673,2,    0.969,3,   2137.2,2,   2307.2,2,   -999.0,9,  -999.00,   7.7460,2,    25.59,    0.994,2,   -999.0,1,   -999.0,1, -999.000,9,-999.0000,9,-999.0000,9,-999.0000,9,-999.0000,9, 26.736, 31.168, 35.501, 39.739, 43.883
33RO20110828,   A10,   107,  1,     16,    016,2,20000101,0000,-28.8914, -43.4758, -999,    574.1,   9.0005,  34.6828,2,  34.6872,2,  34.8507,2,    202.1,2,    206.0,2,     8.69,2,    20.11,2,     0.01,2,     1.11,2,    3.155,2,    1.681,2,    1.746,3,   2150.6,2,   2295.3,2,   -999.0,9,  -999.00,   7.7013,2,    25.59,    0.898,2,   -999.0,1,   -999.0,1, -999.000,9,-999.0000,9,-999.0000,9,-999.0000,9,-999.0000,9, 26.883, 31.364, 35.744, 40.027, 44.215
33RO20110828,   A10,   107,  1,     15,    015,2,20000101,0000,-28.8914, -43.4758, -999,    674.9,   6.7467,  34.4310,2,  34.4321,2,  34.5944,2,    215.5,2,    219.3,2,    12.50,2,    24.51,2,     0.00,2,     1.36,2,    3.303,2,    1.719,2,    2.179,3,   2160.9,2,   2286.5,2,   -999.0,9,  -999.00,   7.6611,2,    25.53,    0.827,2,   -999.0,1,   -999.0,1, -999.000,9,-999.0000,9,-999.0000,9,-999.0000,9,-999.0000,9, 27.015, 31.549, 35.982, 40.315, 44.552
33RO20110828,   A10,   107,  1,     14,    014,2,20000101,0000,-28.8914, -43.4758, -999,    776.2,   5.3757,  34.3129,2,  34.3163,2,  34.4781,2,    226.4,2,    229.6,2,    16.40,2,    26.85,2,     0.00,2,     1.51,2,    3.293,2,    1.691,2,    2.969,3,   2167.8,2,   2285.7,2,   -999.0,9,  -999.00,   7.6415,2,    25.57,    0.806,2,   -999.0,1,   -999.0,1, -999.000,9,-999.0000,9,-999.0000,9,-999.0000,9,-999.0000,9, 27.097, 31.666, 36.132, 40.499, 44.767
33RO20110828,   A10,   107,  1,     13,    013,2,20000101,0000,-28.8914, -43.4758, -999,    874.2,   4.4360,  34.2774,2,  34.2798,2,  34.4414,2,    225.7,2,    228.2,2,    22.75,2,    29.00,2,     0.00,2,     1.68,2,    2.893,2,    1.457,2,    3.248,3,   2179.9,2,   2289.2,2,   -999.0,9,  -999.00,   7.6162,2,    25.57,    0.643,2,   -999.0,1,   -999.0,1, -999.000,9,-999.0000,9,-999.0000,9,-999.0000,9,-999.0000,9, 27.175, 31.768, 36.258, 40.647, 44.937
33RO20110828,   A10,   107,  1,     12,    012,2,20000101,0000,-28.8914, -43.4758, -999,   1002.0,   3.8444,  34.3160,2,  34.3171,2,  34.4789,2,    211.7,2,    212.7,2,    32.71,2,    31.05,2,     0.00,2,     1.87,2,    2.061,2,    1.016,2,    2.545,3,   2198.4,2,   2298.1,2,   -999.0,9,  -999.00,   7.5888,2,    25.60,    0.379,2,   -999.0,1,   -999.0,1, -999.000,9,-999.0000,9,-999.0000,9,-999.0000,9,-999.0000,9, 27.266, 31.875, 36.380, 40.783, 45.087
33RO20110828,   A10,   107,  1,     11,    011,2,20000101,0000,-28.8914, -43.4758, -999,   1200.7,   3.2457,  34.4396,2,  34.4413,2,  34.6037,2,    192.6,2,    192.1,2,    48.23,2,    32.71,2,     0.00,2,     2.10,2,    0.883,2,    0.429,2,    1.372,3,   2222.0,2,   2314.4,2,   -999.0,9,  -999.00,   7.5677,2,    25.58,    0.153,2,   -999.0,1,   -999.0,1, -999.000,9,-999.0000,9,-999.0000,9,-999.0000,9,-999.0000,9, 27.424, 32.048, 36.568, 40.986, 45.304
33RO20110828,   A10,   107,  1,     10,    010,2,20000101,0000,-28.8914, -43.4758, -999,   1402.2,   3.0827,  34.5618,2,  34.5654,2,  34.7284,2,    187.4,2,    188.6,2,    53.11,2,    31.82,2,     0.00,2,     2.11,2,    0.364,2,    0.175,2,    0.732,3,   2227.5,6,   2322.7,2,   -999.0,9,  -999.00,   7.5756,2,    25.51,    0.058,2,   -999.0,1,   -999.0,1, -999.000,9,-999.0000,9,-999.0000,9,-999.0000,9,-999.0000,9, 27.540, 32.167, 36.691, 41.112, 45.434
33RO20110828,   A10,   107,  1,      9,    009,2,20000101,0000,-28.8914, -43.4758, -999,   1600.7,   3.2435,  34.7184,2,  34.7159,2,  34.8796,2,    194.8,2,    198.4,2,    47.73,2,    28.89,2,     0.00,2,     1.90,2,    0.154,2,    0.078,2,    0.407,3,   2217.4,2,   2325.2,2,   -999.0,9,  -999.00,   7.6037,2,    25.56,    0.044,2,   -999.0,1,   -999.0,1, -999.000,9,-999.0000,9,-999.0000,9,-999.0000,9,-999.0000,9, 27.647, 32.269, 36.788, 41.205, 45.521
33RO20110828,   A10,   107,  1,      8,    008,2,20000101,0000,-28.8914, -43.4758, -999,   1750.2,   3.2508,  34.7967,2,  34.8019,2,  34.9660,2,    211.7,2,    211.3,2,    42.55,2,    26.45,2,     0.00,2,     1.72,2,    0.033,4,    0.013,4,    0.143,4,   2205.5,2,   2328.6,2,   -999.0,9,  -999.00,   7.6307,2,    25.59,    0.003,4,   -999.0,1,   -999.0,1, -999.000,9,-999.0000,9,-999.0000,9,-999.0000,9,-999.0000,9, 27.716, 32.338, 36.856, 41.272, 45.588
33RO20110828,   A10,   107,  1,      7,    007,2,20000101,0000,-28.8914, -43.4758, -999,   2026.6,   3.5914,  34.9371,2,  34.9433,6,  35.1080,6,    239.8,2,    241.1,2,    24.30,2,    21.18,2,     0.00,2,     1.26,2,    0.211,2,    0.107,2,    0.543,3,   2175.5,2,   2317.7,2,   -999.0,9,  -999.00,   7.6855,2,    25.55,    0.060,2,   -999.0,1,   -999.0,1, -999.000,9,-999.0000,9,-999.0000,9,-999.0000,9,-999.0000,9, 27.794, 32.407, 36.916, 41.323, 45.631
33RO20110828,   A10,   107,  1,      6,    006,2,20000101,0000,-28.8914, -43.4758, -999,   2299.8,   3.4017,  34.9428,2,  34.9454,2,  35.1102,2,    247.0,2,    247.8,2,    24.59,2,    20.40,2,     0.00,2,     1.23,2,    0.195,2,    0.098,2,    0.523,3,   2173.1,2,   2319.5,2,   -999.0,9,  -999.00,   7.6968,2,    25.52,    0.038,2,   -999.0,1,   -999.0,1, -999.000,9,-999.0000,9,-999.0000,9,-999.0000,9,-999.0000,9, 27.821, 32.440, 36.954, 41.367, 45.679
33RO20110828,   A10,   107,  1,      5,    005,2,20000101,0000,-28.8914, -43.4758, -999,   2600.3,   3.0662,  34.9271,2,  34.9285,2,  35.0932,2,    248.3,2,    249.0,2,    29.67,2,    20.79,2,     0.00,2,     1.30,2,    0.118,2,    0.059,2,    0.366,3,   2175.6,2,   2323.4,2,   -999.0,9,  -999.00,   7.6994,2,    25.45,    0.000,2,   -999.0,1,   -999.0,1, -999.000,9,-999.0000,9,-999.0000,9,-999.0000,9,-999.0000,9, 27.841, 32.469, 36.993, 41.415, 45.737
33RO20110828,   A10,   107,  1,      4,    004,2,20000101,0000,-28.8914, -43.4758, -999,   2901.9,   2.8562,  34.9223,2,  34.9244,2,  35.0891,2,    250.2,2,    250.9,2,    32.30,2,    20.79,2,     0.00,2,     1.33,2,    0.097,2,    0.053,2,    0.323,3,   2177.1,2,   2331.4,2,   -999.0,9,  -999.00,   7.7036,2,    25.47,    0.044,2,   -999.0,1,   -999.0,1, -999.000,9,-999.0000,9,-999.0000,9,-999.0000,9,-999.0000,9, 27.859, 32.494, 37.024, 41.452, 45.779
33RO20110828,   A10,   107,  1,      3,    003,2,20000101,0000,-28.8914, -43.4758, -999,   3300.7,   2.0259,  34.8474,2,  34.8484,2,  35.0127,2,    241.3,2,    242.0,2,    60.41,2,    24.20,2,     0.00,2,     1.77,2,    0.084,2,    0.044,2,    0.263,3,   2204.0,2,   2341.3,2,   -999.0,9,  -999.00,   7.6669,2,    25.49,    0.071,2,   -999.0,1,   -999.0,1, -999.000,9,-999.0000,9,-999.0000,9,-999.0000,9,-999.0000,9, 27.869, 32.527, 37.081, 41.532, 45.881
33RO20110828,   A10,   107,  1,      2,    002,2,20000101,0000,-28.8914, -43.4758, -999,   3672.1,   1.0278,  34.7447,2,  34.7447,2,  34.9085,2,    223.8,2,    225.5,2,   100.44,2,    29.57,2,     0.00,2,     2.45,2,    0.164,2,    0.080,2,    0.324,3,   2241.2,2,   2358.2,2,   -999.0,9,  -999.00,   7.6222,2,    25.51,    0.098,2,   -999.0,1,   -999.0,1, -999.000,9,-999.0000,9,-999.0000,9,-999.0000,9,-999.0000,9, 27.856, 32.544, 37.127, 41.606, 45.983
33RO20110828,   A10,   107,  1,      1,    001,2,20000101,0000,-28.8914, -43.4758, -999,   4001.2,   0.5148,  34.6939,2,  34.6952,2,  34.8588,2,    217.1,2,    220.0,2,   120.35,2,    32.02,2,     0.00,2,     2.77,2,    0.291,2,    0.137,2,    0.463,3,   2261.0,6,   2367.4,2,   -999.0,9,  -999.00,   7.5999,2,    25.49,    0.061,2,   -999.0,1,   -999.0,1, -999.000,9,-999.0000,9,-999.0000,9,-999.0000,9,-999.0000,9, 27.848, 32.552, 37.151, 41.645, 46.036