BOTTLE,20130715NOAA
EXPOCODE,SECT_ID,STNNBR,CASTNO,SAMPNO,BTLNBR,BTLNBR_FLAG_W,DATE,TIME,LATITUDE,LONGITUDE,DEPTH,CTDPRS,CTDTMP,CTDSAL,CTDSAL_FLAG_W,SALNTY,SALNTY_FLAG_W,SALTREF,SALTREF_FLAG_W,CTDOXY,CTDOXY_FLAG_W,OXYGEN,OXYGEN_FLAG_W,SILCAT,SILCAT_FLAG_W,NITRAT,NITRAT_FLAG_W,NITRIT,NITRIT_FLAG_W,PHSPHT,PHSPHT_FLAG_W,CFC-11,CFC-11_FLAG_W,CFC-12,CFC-12_FLAG_W,CCL4,CCL4_FLAG_W,TCARBN,TCARBN_FLAG_W,ALKALI,ALKALI_FLAG_W,PCO2,PCO2_FLAG_W,PCO2TMP,PH_TOT,PH_TOT_FLAG_W,PH_TMP,SF6,SF6_FLAG_W,DOC,DOC_FLAG_W,TDN,TDN_FLAG_W,TRITUM,TRITUM_FLAG_W,HELIUM,HELIUM_FLAG_W,OXY_18,OXY_18_FLAG_W,BLACKC,BLACKC_FLAG_W,PIGMENTS,PIGMENTS_FLAG_W,SIGMA-THETA,SIGMA-1,SIGMA-2,SIGMA-3,SIGMA-4
,,,,,,,,,,,METERS,DBARS,ITS-90,PSS-78,,PSS-78,,G/KG,,UMOL/KG,,UMOL/KG,,UMOL/KG,,UMOL/KG,,UMOL/KG,,UMOL/KG,,PMOL/KG,,PMOL/KG,,PMOL/KG,,UMOL/KG,,UMOL/KG,,UATM@T,,DEG_C,,,DEG_C,FMOL/KG,,UMOL/KG,,UMOL/KG,,TU,,NMOL/KG,,,,,,,,,,,,
33RO20110828,   A10,    94,  1,     24,    024,2,20000101,0000,-30.0003, -38.0164, 3916,      5.1,  20.1260,  36.5040,2,-999.0000,5,-999.0000,5,    226.4,2,    226.2,2,     0.78,2,     0.00,2,     0.01,2,     0.02,2,    2.057,2,    1.276,2,    3.235,3,   2082.4,6,   2387.2,2,   -999.0,9,  -999.00,   7.9814,2,    25.62,    1.284,2,   -999.0,9,   -999.0,9, -999.000,9,-999.0000,9,-999.0000,9,-999.0000,9,-999.0000,1, 25.876, 30.137, 34.304, 38.381, 42.369
33RO20110828,   A10,    94,  1,     23,    023,2,20000101,0000,-30.0003, -38.0164, 3916,     45.9,  20.1303,  36.5005,2,-999.0000,5,-999.0000,5,    226.4,2,    226.5,2,     0.78,2,     0.00,2,     0.01,2,     0.03,2, -999.000,9, -999.000,9, -999.000,9,   -999.0,9,   2387.5,2,   -999.0,9,  -999.00,   7.9702,2,    25.65, -999.000,9,   -999.0,9,   -999.0,9, -999.000,9,-999.0000,9,-999.0000,9,-999.0000,9,-999.0000,9, 25.874, 30.135, 34.302, 38.379, 42.368
33RO20110828,   A10,    94,  1,     22,    022,2,20000101,0000,-30.0003, -38.0164, 3916,     85.7,  20.1447,  36.5038,2,-999.0000,5,-999.0000,5,    226.4,2,    226.1,2,     0.78,2,     0.00,2,     0.01,2,     0.03,2, -999.000,9, -999.000,9, -999.000,9,   -999.0,9,   2383.6,2,   -999.0,9,  -999.00,   7.9683,2,    25.56, -999.000,9,   -999.0,9,   -999.0,9, -999.000,9,-999.0000,9,-999.0000,9,-999.0000,9,-999.0000,9, 25.875, 30.136, 34.303, 38.379, 42.368
33RO20110828,   A10,    94,  1,     21,    021,2,20000101,0000,-30.0003, -38.0164, 3916,    134.0,  17.6604,  35.9552,2,-999.0000,5,-999.0000,5,    215.4,2,    214.7,2,     1.27,2,     2.05,2,     0.04,2,     0.19,2,    2.346,2,    1.421,2,    1.911,3,   -999.0,9,   2349.9,2,   -999.0,9,  -999.00,   7.9276,2,    25.58,    1.340,2,   -999.0,9,   -999.0,9, -999.000,9,-999.0000,9,-999.0000,9,-999.0000,9,-999.0000,1, 26.093, 30.397, 34.606, 38.723, 42.751
33RO20110828,   A10,    94,  1,     20,    020,2,20000101,0000,-30.0003, -38.0164, 3916,    189.1,  15.6499,  35.6074,2,-999.0000,5,-999.0000,5,    210.5,2,    211.1,2,     1.95,2,     4.78,2,     0.02,2,     0.36,2, -999.000,9, -999.000,9, -999.000,9,   -999.0,9,   2335.1,2,   -999.0,9,  -999.00,   7.8602,2,    25.62, -999.000,9,   -999.0,9,   -999.0,9, -999.000,9,-999.0000,9,-999.0000,9,-999.0000,9,-999.0000,1, 26.302, 30.642, 34.887, 39.039, 43.101
33RO20110828,   A10,    94,  1,     19,    019,2,20000101,0000,-30.0003, -38.0164, 3916,    278.0,  14.3279,  35.4254,2,-999.0000,5,-999.0000,5,    209.9,2,    210.5,2,     2.63,2,     7.41,2,     0.01,2,     0.50,2,    2.782,2,    1.616,2,    1.122,3,   -999.0,9,   2325.1,2,   -999.0,9,  -999.00,-999.0000,5,  -999.00,    1.245,2,   -999.0,9,   -999.0,9, -999.000,9,-999.0000,9,-999.0000,9,-999.0000,9,-999.0000,9, 26.455, 30.821, 35.091, 39.267, 43.351
33RO20110828,   A10,    94,  1,     18,    018,2,20000101,0000,-30.0003, -38.0164, 3916,    365.7,  13.4390,  35.3174,2,-999.0000,5,-999.0000,5,    213.3,2,    213.6,2,     3.12,2,     9.37,2,     0.01,2,     0.60,2, -999.000,9, -999.000,9, -999.000,9,   -999.0,9,   2316.2,2,   -999.0,9,  -999.00,   7.8220,2,    25.59, -999.000,9,   -999.0,9,   -999.0,9, -999.000,9,-999.0000,9,-999.0000,9,-999.0000,9,-999.0000,9, 26.560, 30.944, 35.231, 39.423, 43.524
33RO20110828,   A10,    94,  1,     17,    017,2,20000101,0000,-30.0003, -38.0164, 3916,    427.1,  12.4891,  35.1653,2,-999.0000,5,-999.0000,5,    212.5,2,    212.8,2,     3.81,2,    11.22,2,     0.01,2,     0.69,2, -999.000,9, -999.000,9, -999.000,9,   -999.0,9,   2310.2,2,   -999.0,9,  -999.00,   7.7916,2,    25.57, -999.000,9,   -999.0,9,   -999.0,9, -999.000,9,-999.0000,9,-999.0000,9,-999.0000,9,-999.0000,9, 26.634, 31.038, 35.343, 39.554, 43.673
33RO20110828,   A10,    94,  1,     16,    016,2,20000101,0000,-30.0003, -38.0164, 3916,    574.5,   9.4991,  34.7431,2,-999.0000,5,-999.0000,5,    206.4,2,    206.1,2,     7.91,2,    18.94,2,     0.01,2,     1.11,2,    3.151,2,    1.675,2,    2.103,3,   -999.0,9,   2292.5,2,   -999.0,9,  -999.00,   7.7130,2,    25.60,    0.945,2,   -999.0,9,   -999.0,9, -999.000,9,-999.0000,9,-999.0000,9,-999.0000,9,-999.0000,9, 26.846, 31.315, 35.685, 39.957, 44.135
33RO20110828,   A10,    94,  1,     15,    015,2,20000101,0000,-30.0003, -38.0164, 3916,    713.1,   6.7133,  34.4389,2,-999.0000,5,-999.0000,5,    216.9,2,    215.0,2,    13.57,2,    25.09,2,     0.01,2,     1.48,2, -999.000,9, -999.000,9, -999.000,9,   -999.0,9,   2283.2,2,   -999.0,9,  -999.00,   7.6449,2,    25.55, -999.000,9,   -999.0,9,   -999.0,9, -999.000,9,-999.0000,9,-999.0000,9,-999.0000,9,-999.0000,9, 27.025, 31.560, 35.994, 40.328, 44.566
33RO20110828,   A10,    94,  1,     14,    014,2,20000101,0000,-30.0003, -38.0164, 3916,    891.1,   4.6788,  34.3030,2,-999.0000,5,-999.0000,5,    221.8,2,    223.6,2,    23.04,2,    29.00,2,     0.01,2,     1.77,2,    2.806,2,    1.393,2,    4.191,3,   -999.0,9,   2284.2,2,   -999.0,9,  -999.00,   7.6073,2,    25.57,    0.634,2,   -999.0,9,   -999.0,9, -999.000,9,-999.0000,9,-999.0000,9,-999.0000,9,-999.0000,9, 27.167, 31.754, 36.238, 40.621, 44.905
33RO20110828,   A10,    94,  1,     13,    013,2,20000101,0000,-30.0003, -38.0164, 3916,   1026.1,   3.9394,  34.3241,2,-999.0000,5,-999.0000,5,    211.2,2,    211.2,2,    32.71,2,    31.05,2,     0.01,2,     1.95,2, -999.000,9, -999.000,9, -999.000,9,   -999.0,9,   2289.6,2,   -999.0,9,  -999.00,   7.5909,2,    25.56, -999.000,9,   -999.0,9,   -999.0,9, -999.000,9,-999.0000,9,-999.0000,9,-999.0000,9,-999.0000,9, 27.263, 31.868, 36.371, 40.772, 45.074
33RO20110828,   A10,    94,  1,     12,    012,2,20000101,0000,-30.0003, -38.0164, 3916,   1199.0,   3.2893,  34.4031,2,-999.0000,5,-999.0000,5,    198.3,2,    198.1,2,    46.28,2,    32.51,2,     0.01,2,     2.13,2,    1.144,2,    0.557,2,    2.148,3,   -999.0,9,   2302.5,2,   -999.0,9,  -999.00,   7.5641,2,    25.52,    0.183,2,   -999.0,9,   -999.0,9, -999.000,9,-999.0000,9,-999.0000,9,-999.0000,9,-999.0000,9, 27.390, 32.013, 36.532, 40.949, 45.266
33RO20110828,   A10,    94,  1,     11,    011,2,20000101,0000,-30.0003, -38.0164, 3916,   1399.0,   3.0066,  34.5291,2,-999.0000,5,-999.0000,5,    189.0,2,    188.6,2,    54.47,2,    31.92,2,     0.01,2,     2.18,2, -999.000,9, -999.000,9, -999.000,9,   -999.0,9,   2316.4,2,   -999.0,9,  -999.00,   7.5654,2,    25.56, -999.000,9,   -999.0,9,   -999.0,9, -999.000,9,-999.0000,9,-999.0000,9,-999.0000,9,-999.0000,9, 27.518, 32.147, 36.673, 41.097, 45.420
33RO20110828,   A10,    94,  1,     10,    010,2,20000101,0000,-30.0003, -38.0164, 3916,   1574.0,   2.9083,  34.6341,2,-999.0000,5,-999.0000,5,    191.8,2,    193.2,2,    55.54,2,    30.55,2,     0.01,2,     2.10,2,    0.222,2,    0.107,2,    0.775,3,   -999.0,9,   2321.4,2,   -999.0,9,  -999.00,   7.5804,2,    25.56,    0.000,2,   -999.0,9,   -999.0,9, -999.000,9,-999.0000,9,-999.0000,9,-999.0000,9,-999.0000,9, 27.612, 32.243, 36.771, 41.197, 45.523
33RO20110828,   A10,    94,  1,      9,    009,2,20000101,0000,-30.0003, -38.0164, 3916,   1851.8,   2.8386,  34.7597,2,-999.0000,5,-999.0000,5,    209.7,2,    210.7,2,    51.24,2,    27.52,2,     0.01,2,     1.87,2, -999.000,9, -999.000,9, -999.000,9,   -999.0,9,   2324.4,2,   -999.0,9,  -999.00,   7.6276,2,    25.52, -999.000,9,   -999.0,9,   -999.0,9, -999.000,9,-999.0000,9,-999.0000,9,-999.0000,9,-999.0000,9, 27.720, 32.354, 36.883, 41.310, 45.637
33RO20110828,   A10,    94,  1,      8,    008,2,20000101,0000,-30.0003, -38.0164, 3916,   2023.0,   2.8432,  34.8095,2,-999.0000,5,-999.0000,5,    222.5,2,    219.5,2,    47.04,2,    25.86,2,     0.01,2,     1.75,2,    0.036,2,    0.019,2,    0.283,3,   -999.0,9,   2320.8,2,   -999.0,9,  -999.00,   7.6457,2,    25.53,    0.036,2,   -999.0,9,   -999.0,9, -999.000,9,-999.0000,9,-999.0000,9,-999.0000,9,-999.0000,9, 27.761, 32.394, 36.923, 41.350, 45.677
33RO20110828,   A10,    94,  1,      7,    007,2,20000101,0000,-30.0003, -38.0164, 3916,   2250.5,   2.9069,  34.8665,2,-999.0000,5,-999.0000,5,    234.3,2,    235.2,2,    39.82,2,    23.33,2,     0.01,2,     1.56,2, -999.000,9, -999.000,9, -999.000,9,   -999.0,9,   2318.9,2,   -999.0,9,  -999.00,   7.6721,2,    25.56, -999.000,9,   -999.0,9,   -999.0,9, -999.000,9,-999.0000,9,-999.0000,9,-999.0000,9,-999.0000,9, 27.803, 32.435, 36.962, 41.388, 45.713
33RO20110828,   A10,    94,  1,      6,    006,2,20000101,0000,-30.0003, -38.0164, 3916,   2405.4,   2.8995,  34.8848,2,-999.0000,5,-999.0000,5,    239.6,2,    240.4,2,    37.57,2,    22.84,2,     0.01,2,     1.50,2,    0.044,2,    0.023,2,    0.329,3,   -999.0,9,   2318.5,2,   -999.0,9,  -999.00,   7.6764,2,    25.58,    0.000,2,   -999.0,9,   -999.0,9, -999.000,9,-999.0000,9,-999.0000,9,-999.0000,9,-999.0000,9, 27.819, 32.452, 36.980, 41.406, 45.731
33RO20110828,   A10,    94,  1,      5,    005,2,20000101,0000,-30.0003, -38.0164, 3916,   2699.7,   2.8808,  34.9111,2,-999.0000,5,-999.0000,5,    247.9,2,    248.4,2,    33.87,2,    21.08,2,     0.01,2,     1.39,2,    0.055,2,    0.031,2,    0.382,3,   -999.0,9,   2321.2,2,   -999.0,9,  -999.00,   7.6949,2,    25.55,    0.000,2,   -999.0,9,   -999.0,9, -999.000,9,-999.0000,9,-999.0000,9,-999.0000,9,-999.0000,9, 27.845, 32.478, 37.007, 41.434, 45.761
33RO20110828,   A10,    94,  1,      4,    004,2,20000101,0000,-30.0003, -38.0164, 3916,   2919.6,   2.8187,  34.9160,2,-999.0000,5,-999.0000,5,    251.0,2,    250.8,2,    33.38,2,    20.98,2,     0.01,2,     1.37,2,    0.059,2,    0.032,2,    0.410,3,   -999.0,9,   2322.1,2,   -999.0,9,  -999.00,   7.7069,2,    25.59,    0.000,2,   -999.0,9,   -999.0,9, -999.000,9,-999.0000,9,-999.0000,9,-999.0000,9,-999.0000,9, 27.856, 32.491, 37.023, 41.452, 45.780
33RO20110828,   A10,    94,  1,      3,    003,2,20000101,0000,-30.0003, -38.0164, 3916,   3202.3,   2.6580,  34.9080,2,-999.0000,5,-999.0000,5,    252.1,2,    251.9,2,    36.50,2,    20.79,2,     0.01,2,     1.41,2,    0.051,2,    0.028,2,    0.379,3,   -999.0,9,   2325.1,2,   -999.0,9,  -999.00,   7.6992,2,    25.57,    0.000,2,   -999.0,9,   -999.0,9, -999.000,9,-999.0000,9,-999.0000,9,-999.0000,9,-999.0000,9, 27.866, 32.506, 37.043, 41.476, 45.810
33RO20110828,   A10,    94,  1,      2,    002,2,20000101,0000,-30.0003, -38.0164, 3916,   3501.9,   2.3492,  34.8831,2,-999.0000,5,-999.0000,5,    250.4,2,    250.7,2,    45.48,2,    21.96,2,     0.01,2,     1.53,2,    0.041,2,    0.024,2,    0.342,3,   -999.0,9,   2325.0,2,   -999.0,9,  -999.00,   7.6974,2,    25.56,    0.050,2,   -999.0,9,   -999.0,9, -999.000,9,-999.0000,9,-999.0000,9,-999.0000,9,-999.0000,9, 27.873, 32.523, 37.069, 41.512, 45.854
33RO20110828,   A10,    94,  1,      1,    001,2,20000101,0000,-30.0003, -38.0164, 3916,   3916.5,   1.6712,  34.8123,2,-999.0000,5,-999.0000,5,    238.7,2,    238.7,2,    73.30,2,    25.57,2,     0.01,2,     1.96,2,    0.022,2,    0.013,2,    0.199,3,   -999.0,9,   2339.1,2,   -999.0,9,  -999.00,   7.6632,2,    25.50,    0.199,2,   -999.0,9,   -999.0,9, -999.000,9,-999.0000,9,-999.0000,9,-999.0000,9,-999.0000,9, 27.870, 32.540, 37.106, 41.568, 45.929