BOTTLE,20130715NOAA
EXPOCODE,SECT_ID,STNNBR,CASTNO,SAMPNO,BTLNBR,BTLNBR_FLAG_W,DATE,TIME,LATITUDE,LONGITUDE,DEPTH,CTDPRS,CTDTMP,CTDSAL,CTDSAL_FLAG_W,SALNTY,SALNTY_FLAG_W,SALTREF,SALTREF_FLAG_W,CTDOXY,CTDOXY_FLAG_W,OXYGEN,OXYGEN_FLAG_W,SILCAT,SILCAT_FLAG_W,NITRAT,NITRAT_FLAG_W,NITRIT,NITRIT_FLAG_W,PHSPHT,PHSPHT_FLAG_W,CFC-11,CFC-11_FLAG_W,CFC-12,CFC-12_FLAG_W,CCL4,CCL4_FLAG_W,TCARBN,TCARBN_FLAG_W,ALKALI,ALKALI_FLAG_W,PCO2,PCO2_FLAG_W,PCO2TMP,PH_TOT,PH_TOT_FLAG_W,PH_TMP,SF6,SF6_FLAG_W,DOC,DOC_FLAG_W,TDN,TDN_FLAG_W,TRITUM,TRITUM_FLAG_W,HELIUM,HELIUM_FLAG_W,OXY_18,OXY_18_FLAG_W,BLACKC,BLACKC_FLAG_W,PIGMENTS,PIGMENTS_FLAG_W,SIGMA-THETA,SIGMA-1,SIGMA-2,SIGMA-3,SIGMA-4
,,,,,,,,,,,METERS,DBARS,ITS-90,PSS-78,,PSS-78,,G/KG,,UMOL/KG,,UMOL/KG,,UMOL/KG,,UMOL/KG,,UMOL/KG,,UMOL/KG,,PMOL/KG,,PMOL/KG,,PMOL/KG,,UMOL/KG,,UMOL/KG,,UATM@T,,DEG_C,,,DEG_C,FMOL/KG,,UMOL/KG,,UMOL/KG,,TU,,NMOL/KG,,,,,,,,,,,,
33RO20110828,   A10,    57,  1,     24,    024,2,20000101,0000,-29.9998, -15.9503, 4003,      4.1,  18.0725,  35.9026,2,  35.9011,2,  36.0704,2,    238.0,2,    238.1,2,     1.56,2,     0.10,2,     0.01,2,     0.17,2,    2.333,2,    1.418,2,    2.966,3,   2086.4,6,   2351.9,2,   -999.0,9,  -999.00,   7.9266,2,    25.63,    1.464,2,   -999.0,1,   -999.0,1, -999.000,9,-999.0000,9,-999.0000,9,-999.0000,9,-999.0000,1, 25.945, 30.241, 34.444, 38.555, 42.576
33RO20110828,   A10,    57,  1,     23,    023,2,20000101,0000,-29.9998, -15.9503, 4003,     45.6,  17.7756,  35.8932,2,  35.8947,2,  36.0640,2,    238.2,2,    238.7,2,     1.56,2,     0.10,2,     0.01,2,     0.17,2,    2.344,2,    1.419,2,    3.045,3,   2085.9,2,   2350.5,2,   -999.0,9,  -999.00,   7.9215,2,    25.58,    1.415,2,   -999.0,1,   -999.0,1, -999.000,9,-999.0000,9,-999.0000,9,-999.0000,9,-999.0000,9, 26.015, 30.317, 34.524, 38.640, 42.666
33RO20110828,   A10,    57,  1,     22,    022,2,20000101,0000,-29.9998, -15.9503, 4003,     94.5,  16.9121,  35.7738,2,  35.7733,2,  35.9419,2,    230.0,2,    230.4,2,     1.85,2,     1.17,2,     0.16,2,     0.27,2,    2.424,2,    1.461,2,    1.611,3,   2093.5,2,   2344.3,2,   -999.0,9,  -999.00,   7.8842,2,    25.68,    1.440,2,   -999.0,1,   -999.0,1, -999.000,9,-999.0000,9,-999.0000,9,-999.0000,9,-999.0000,1, 26.133, 30.450, 34.672, 38.802, 42.843
33RO20110828,   A10,    57,  1,     21,    021,2,20000101,0000,-29.9998, -15.9503, 4003,    149.6,  15.6972,  35.5778,2,  35.5741,2,  35.7418,2,    227.8,2,    225.6,2,     2.34,2,     3.42,2,     0.03,2,     0.40,2,    2.568,2,    1.536,2,    1.103,3,   2100.1,2,   2330.8,2,   -999.0,9,  -999.00,   7.8603,2,    25.71,    1.472,2,   -999.0,1,   -999.0,1, -999.000,9,-999.0000,9,-999.0000,9,-999.0000,9,-999.0000,1, 26.264, 30.604, 34.848, 38.999, 43.060
33RO20110828,   A10,    57,  1,     20,    020,2,20000101,0000,-29.9998, -15.9503, 4003,    251.2,  13.5782,  35.2507,2,  35.2566,2,  35.4229,2,    218.3,2,    218.5,2,     3.32,2,     7.81,2,     0.01,2,     0.69,2,    2.869,2,    1.672,2,    0.720,3,   2117.5,2,   2314.2,2,   -999.0,9,  -999.00,   7.8092,2,    25.65,    1.371,2,   -999.0,1,   -999.0,1, -999.000,9,-999.0000,9,-999.0000,9,-999.0000,9,-999.0000,9, 26.481, 30.862, 35.147, 39.337, 43.435
33RO20110828,   A10,    57,  1,     19,    019,2,20000101,0000,-29.9998, -15.9503, 4003,    350.1,  12.1410,  35.0892,2,  35.0926,2,  35.2580,2,    216.3,2,    217.1,2,     4.29,2,    11.32,2,     0.01,2,     0.92,2,    3.047,2,    1.728,2,    0.739,3,   2128.6,2,   2305.4,2,   -999.0,9,  -999.00,   7.7898,2,    25.66,    1.299,2,   -999.0,1,   -999.0,1, -999.000,9,-999.0000,9,-999.0000,9,-999.0000,9,-999.0000,9, 26.643, 31.054, 35.367, 39.584, 43.709
33RO20110828,   A10,    57,  1,     18,    018,2,20000101,0000,-29.9998, -15.9503, 4003,    450.4,  10.3458,  34.8490,2,  34.8533,2,  35.0176,2,    212.8,2,    213.2,2,     6.35,2,    16.01,2,     0.01,2,     1.23,2,    3.198,2,    1.759,2,    0.900,3,   2142.0,2,   2293.6,2,   -999.0,9,  -999.00,   7.7373,2,    25.61,    1.155,2,   -999.0,1,   -999.0,1, -999.000,9,-999.0000,9,-999.0000,9,-999.0000,9,-999.0000,9, 26.787, 31.237, 35.587, 39.842, 44.002
33RO20110828,   A10,    57,  1,     17,    017,2,20000101,0000,-29.9998, -15.9503, 4003,    550.7,   8.7338,  34.6483,2,  34.6471,2,  34.8105,2,    207.3,2,    208.5,2,     9.47,2,    20.50,2,     0.01,2,     1.54,2,    3.227,2,    1.723,2,    1.720,3,   2156.3,2,   2288.0,2,   -999.0,9,  -999.00,   7.6949,2,    25.59,    1.022,2,   -999.0,1,   -999.0,1, -999.000,9,-999.0000,9,-999.0000,9,-999.0000,9,-999.0000,9, 26.893, 31.380, 35.766, 40.055, 44.249
33RO20110828,   A10,    57,  1,     16,    016,2,20000101,0000,-29.9998, -15.9503, 4003,    635.0,   7.2566,  34.4890,2,  34.4884,2,  34.6510,2,    211.7,2,    210.0,2,    13.18,2,    24.12,2,     0.01,2,     1.79,2,    3.241,2,    1.695,2,    2.147,3,   2168.7,2,   2283.5,2,   -999.0,9,  -999.00,   7.6552,2,    25.68,    0.909,2,   -999.0,1,   -999.0,1, -999.000,9,-999.0000,9,-999.0000,9,-999.0000,9,-999.0000,9, 26.989, 31.510, 35.931, 40.253, 44.478
33RO20110828,   A10,    57,  1,     15,    015,2,20000101,0000,-29.9998, -15.9503, 4003,    758.9,   5.1885,  34.3183,2,  34.3193,2,  34.4811,2,    220.7,2,    221.3,2,    19.92,2,    28.13,2,     0.01,2,     2.07,2,    3.143,2,    1.593,2,    2.682,3,   2178.9,2,   2280.9,2,   -999.0,9,  -999.00,   7.6104,2,    25.64,    0.766,2,   -999.0,1,   -999.0,1, -999.000,9,-999.0000,9,-999.0000,9,-999.0000,9,-999.0000,9, 27.121, 31.694, 36.165, 40.536, 44.808
33RO20110828,   A10,    57,  1,     14,    014,2,20000101,0000,-29.9998, -15.9503, 4003,    889.4,   4.2176,  34.2954,2,  34.2953,2,  34.4570,2,    219.1,2,    220.2,2,    27.83,2,    29.79,2,     0.01,2,     2.22,2,    2.642,2,    1.314,2,    2.535,3,   2191.8,2,   2286.3,2,   -999.0,9,  -999.00,   7.5927,2,    25.56,    0.604,2,   -999.0,1,   -999.0,1, -999.000,9,-999.0000,9,-999.0000,9,-999.0000,9,-999.0000,9, 27.210, 31.809, 36.304, 40.698, 44.994
33RO20110828,   A10,    57,  1,     13,    013,2,20000101,0000,-29.9998, -15.9503, 4003,   1000.2,   3.6298,  34.3352,2,  34.3357,2,  34.4976,2,    209.3,2,    208.0,2,    37.50,2,    31.64,2,     0.01,2,     2.34,2,    1.899,2,    0.934,2,    1.950,3,   2208.8,2,   2295.7,2,   -999.0,9,  -999.00,   7.5821,2,    25.65,    0.334,2,   -999.0,1,   -999.0,1, -999.000,9,-999.0000,9,-999.0000,9,-999.0000,9,-999.0000,9, 27.302, 31.916, 36.426, 40.835, 45.144
33RO20110828,   A10,    57,  1,     12,    012,2,20000101,0000,-29.9998, -15.9503, 4003,   1199.7,   3.2019,  34.4540,2,  34.4556,2,  34.6181,2,    190.7,2,    190.3,2,    50.58,2,    32.52,2,     0.01,2,     2.42,2,    0.904,2,    0.442,2,    1.139,3,   2227.6,2,   2309.4,2,   -999.0,9,  -999.00,   7.5636,2,    25.62,    0.139,2,   -999.0,1,   -999.0,1, -999.000,9,-999.0000,9,-999.0000,9,-999.0000,9,-999.0000,9, 27.440, 32.064, 36.585, 41.004, 45.323
33RO20110828,   A10,    57,  1,     11,    011,2,20000101,0000,-29.9998, -15.9503, 4003,   1402.4,   2.9498,  34.5821,2,  34.5834,2,  34.7465,2,    188.6,2,    188.9,2,    56.24,2,    31.34,2,     0.01,2,     2.35,2,    0.387,2,    0.186,2,    0.650,3,   2230.4,6,   2319.2,2,   -999.0,9,  -999.00,   7.5686,2,    25.57,    0.048,2,   -999.0,1,   -999.0,1, -999.000,9,-999.0000,9,-999.0000,9,-999.0000,9,-999.0000,9, 27.566, 32.197, 36.724, 41.148, 45.473
33RO20110828,   A10,    57,  1,     10,    010,2,20000101,0000,-29.9998, -15.9503, 4003,   1600.3,   2.8311,  34.6765,2,  34.6764,2,  34.8399,2,    196.3,2,    196.9,2,    56.53,2,    29.49,2,     0.01,2,     2.20,2,    0.184,2,    0.089,2,    0.347,3,   2228.0,2,   2323.1,2,   -999.0,9,  -999.00,   7.5943,2,    25.64,    0.000,2,   -999.0,1,   -999.0,1, -999.000,9,-999.0000,9,-999.0000,9,-999.0000,9,-999.0000,9, 27.652, 32.286, 36.816, 41.243, 45.570
33RO20110828,   A10,    57,  1,      9,    009,2,20000101,0000,-29.9998, -15.9503, 4003,   1848.9,   2.7130,  34.7690,2,  34.7683,2,  34.9323,2,    211.1,2,    211.6,2,    53.89,2,    27.14,2,     0.01,2,     2.00,2,    0.077,2,    0.038,2,    0.194,3,   2215.9,2,   2326.1,2,   -999.0,9,  -999.00,   7.6277,2,    25.61,    0.000,2,   -999.0,1,   -999.0,1, -999.000,9,-999.0000,9,-999.0000,9,-999.0000,9,-999.0000,9, 27.738, 32.375, 36.907, 41.337, 45.667
33RO20110828,   A10,    57,  1,      8,    008,2,20000101,0000,-29.9998, -15.9503, 4003,   1996.5,   2.6592,  34.7999,2,  34.8012,2,  34.9653,2,    219.6,2,    219.0,2,    52.23,2,    26.07,2,     0.01,2,     1.91,2,    0.044,2,    0.023,2,    0.126,3,   2210.5,2,   2326.8,2,   -999.0,9,  -999.00,   7.6319,2,    25.57,    0.000,2,   -999.0,1,   -999.0,1, -999.000,9,-999.0000,9,-999.0000,9,-999.0000,9,-999.0000,9, 27.770, 32.408, 36.942, 41.374, 45.705
33RO20110828,   A10,    57,  1,      7,    007,2,20000101,0000,-29.9998, -15.9503, 4003,   2250.6,   2.6067,  34.8343,2,  34.8352,2,  34.9995,2,    228.3,2,    228.8,2,    49.59,2,    24.80,2,     0.01,2,     1.80,2,    0.025,2,    0.013,2,    0.094,3,   2203.2,2,   2327.1,2,   -999.0,9,  -999.00,   7.6529,2,    25.56,    0.000,2,   -999.0,1,   -999.0,1, -999.000,9,-999.0000,9,-999.0000,9,-999.0000,9,-999.0000,9, 27.804, 32.444, 36.979, 41.413, 45.746
33RO20110828,   A10,    57,  1,      6,    006,2,20000101,0000,-29.9998, -15.9503, 4003,   2445.7,   2.5990,  34.8534,2,  34.8562,2,  35.0206,2,    234.1,2,    234.1,2,    47.54,2,    24.11,2,     0.01,2,     1.74,2,    0.017,2,    0.010,2,    0.076,3,   2198.0,2,   2326.4,2,   -999.0,9,  -999.00,   7.6593,2,    25.57,    0.038,2,   -999.0,1,   -999.0,1, -999.000,9,-999.0000,9,-999.0000,9,-999.0000,9,-999.0000,9, 27.823, 32.463, 36.999, 41.433, 45.767
33RO20110828,   A10,    57,  1,      5,    005,2,20000101,0000,-29.9998, -15.9503, 4003,   2748.8,   2.5002,  34.8623,2,  34.8638,6,  35.0282,6,    238.2,2,    237.8,2,    48.52,2,    23.53,2,     0.01,2,     1.71,2,    0.013,2,    0.009,2,    0.068,3,   2196.1,2,   2323.9,3,   -999.0,9,  -999.00,   7.6636,2,    25.51,    0.054,2,   -999.0,1,   -999.0,1, -999.000,9,-999.0000,9,-999.0000,9,-999.0000,9,-999.0000,9, 27.838, 32.482, 37.022, 41.459, 45.795
33RO20110828,   A10,    57,  1,      4,    004,2,20000101,0000,-29.9998, -15.9503, 4003,   3050.0,   2.4347,  34.8669,2,  34.8700,2,  35.0344,2,    240.9,2,    241.2,2,    49.50,2,    23.23,2,     0.01,2,     1.69,2,    0.011,2,    0.007,2,    0.068,3,   2195.5,2,   2326.3,2,   -999.0,9,  -999.00,   7.6729,2,    25.56,    0.039,2,   -999.0,1,   -999.0,1, -999.000,9,-999.0000,9,-999.0000,9,-999.0000,9,-999.0000,9, 27.852, 32.499, 37.041, 41.480, 45.819
33RO20110828,   A10,    57,  1,      3,    003,2,20000101,0000,-29.9998, -15.9503, 4003,   3351.2,   2.1811,  34.8531,2,  34.8533,2,  35.0176,2,    241.2,2,    241.4,2,    57.21,2,    24.11,2,     0.01,2,     1.76,2,    0.010,2,    0.006,2,    0.059,3,   2201.2,2,   2333.2,2,   -999.0,9,  -999.00,   7.6666,2,    25.51,    0.105,2,   -999.0,1,   -999.0,1, -999.000,9,-999.0000,9,-999.0000,9,-999.0000,9,-999.0000,9, 27.861, 32.516, 37.065, 41.512, 45.858
33RO20110828,   A10,    57,  1,      2,    002,2,20000101,0000,-29.9998, -15.9503, 4003,   3649.7,   2.0503,  34.8417,2,  34.8427,2,  35.0070,2,    240.2,2,    240.1,2,    62.19,2,    24.70,2,     0.01,2,     1.79,2,    0.011,2,    0.007,2,    0.060,3,   2205.3,2,   2337.1,2,   -999.0,9,  -999.00,   7.6669,2,    25.50,    0.131,2,   -999.0,1,   -999.0,1, -999.000,9,-999.0000,9,-999.0000,9,-999.0000,9,-999.0000,9, 27.865, 32.524, 37.078, 41.529, 45.879
33RO20110828,   A10,    57,  1,      1,    001,2,20000101,0000,-29.9998, -15.9503, 4003,   4022.3,   2.0465,  34.8383,2,  34.8386,2,  35.0028,2,    239.7,2,    239.7,2,    63.36,2,    24.60,2,     0.01,2,     1.80,2,    0.011,2,    0.007,2,    0.058,3,   2209.8,6,   2336.6,2,   -999.0,9,  -999.00,   7.6781,2,    25.46,    0.134,2,   -999.0,1,   -999.0,1, -999.000,9,-999.0000,9,-999.0000,9,-999.0000,9,-999.0000,9, 27.865, 32.525, 37.081, 41.533, 45.884