BOTTLE,20130715NOAA
EXPOCODE,SECT_ID,STNNBR,CASTNO,SAMPNO,BTLNBR,BTLNBR_FLAG_W,DATE,TIME,LATITUDE,LONGITUDE,DEPTH,CTDPRS,CTDTMP,CTDSAL,CTDSAL_FLAG_W,SALNTY,SALNTY_FLAG_W,SALTREF,SALTREF_FLAG_W,CTDOXY,CTDOXY_FLAG_W,OXYGEN,OXYGEN_FLAG_W,SILCAT,SILCAT_FLAG_W,NITRAT,NITRAT_FLAG_W,NITRIT,NITRIT_FLAG_W,PHSPHT,PHSPHT_FLAG_W,CFC-11,CFC-11_FLAG_W,CFC-12,CFC-12_FLAG_W,CCL4,CCL4_FLAG_W,TCARBN,TCARBN_FLAG_W,ALKALI,ALKALI_FLAG_W,PCO2,PCO2_FLAG_W,PCO2TMP,PH_TOT,PH_TOT_FLAG_W,PH_TMP,SF6,SF6_FLAG_W,DOC,DOC_FLAG_W,TDN,TDN_FLAG_W,TRITUM,TRITUM_FLAG_W,HELIUM,HELIUM_FLAG_W,OXY_18,OXY_18_FLAG_W,BLACKC,BLACKC_FLAG_W,PIGMENTS,PIGMENTS_FLAG_W,SIGMA-THETA,SIGMA-1,SIGMA-2,SIGMA-3,SIGMA-4
,,,,,,,,,,,METERS,DBARS,ITS-90,PSS-78,,PSS-78,,G/KG,,UMOL/KG,,UMOL/KG,,UMOL/KG,,UMOL/KG,,UMOL/KG,,UMOL/KG,,PMOL/KG,,PMOL/KG,,PMOL/KG,,UMOL/KG,,UMOL/KG,,UATM@T,,DEG_C,,,DEG_C,FMOL/KG,,UMOL/KG,,UMOL/KG,,TU,,NMOL/KG,,,,,,,,,,,,
33RO20110828,   A10,    62,  1,     24,    024,2,20000101,0000,-30.0004, -19.7538, 4378,      5.7,  18.7235,  36.1882,2,  36.1896,2,  36.3603,2,    232.3,2,    232.6,2,     1.36,2,     0.10,2,     0.01,2,     0.13,2,    2.218,2,    1.349,2,    2.932,3,   2087.1,6,   2375.8,3,   -999.0,9,  -999.00,   7.9349,2,    25.58,    1.412,2,   -999.0,9,   -999.0,9, -999.000,9,-999.0000,9,-999.0000,9,-999.0000,9,-999.0000,1, 26.002, 30.286, 34.477, 38.576, 42.586
33RO20110828,   A10,    62,  1,     23,    023,2,20000101,0000,-30.0004, -19.7538, 4378,     60.2,  18.3720,  36.1326,2,  36.1331,2,  36.3034,2,    234.2,2,    233.9,2,     1.36,2,     0.10,2,     0.01,2,     0.15,2,    2.260,2,    1.374,2,    2.661,3,   2086.5,2,   2370.1,3,   -999.0,9,  -999.00,   7.9345,2,    25.59,    1.391,2,   -999.0,9,   -999.0,9, -999.000,9,-999.0000,9,-999.0000,9,-999.0000,9,-999.0000,9, 26.050, 30.341, 34.537, 38.642, 42.658
33RO20110828,   A10,    62,  1,     22,    022,2,20000101,0000,-30.0004, -19.7538, 4378,    108.1,  18.3307,  36.1295,2,  36.1293,2,  36.2997,2,    234.2,2,    233.0,2,     1.46,2,     0.10,2,     0.01,2,     0.15,2,    2.267,2,    1.371,2,    2.632,3,   -999.0,9,   -999.0,9,   -999.0,9,  -999.00,   7.9323,2,    25.56,    1.405,2,   -999.0,9,   -999.0,9, -999.000,9,-999.0000,9,-999.0000,9,-999.0000,9,-999.0000,1, 26.059, 30.351, 34.548, 38.654, 42.671
33RO20110828,   A10,    62,  1,     21,    021,2,20000101,0000,-30.0004, -19.7538, 4378,    163.7,  18.0490,  36.0594,2,  36.0593,2,  36.2293,2,    232.1,2,    232.7,2,     1.36,2,     0.19,2,     0.07,2,     0.17,2,    2.294,2,    1.393,2,    2.887,3,   2087.9,2,   2364.7,3,   -999.0,9,  -999.00,   7.9289,2,    25.64,    1.421,2,   -999.0,9,   -999.0,9, -999.000,9,-999.0000,9,-999.0000,9,-999.0000,9,-999.0000,1, 26.079, 30.375, 34.577, 38.688, 42.710
33RO20110828,   A10,    62,  1,     20,    020,2,20000101,0000,-30.0004, -19.7538, 4378,    239.9,  15.8083,  35.5840,2,  35.5828,2,  35.7505,2,    219.8,2,    219.9,2,     2.34,2,     3.80,2,     0.04,2,     0.41,2,    2.576,2,    1.530,2,    1.463,3,   -999.0,9,   -999.0,9,   -999.0,9,  -999.00,   7.8668,2,    25.57,    1.399,2,   -999.0,9,   -999.0,9, -999.000,9,-999.0000,9,-999.0000,9,-999.0000,9,-999.0000,9, 26.249, 30.587, 34.829, 38.979, 43.038
33RO20110828,   A10,    62,  1,     19,    019,2,20000101,0000,-30.0004, -19.7538, 4378,    335.6,  13.8573,  35.3161,2,  35.3275,2,  35.4941,2,    220.9,2,    220.1,2,     2.73,2,     6.93,2,     0.01,2,     0.62,2,    2.850,2,    1.648,2,    1.429,3,   2109.8,2,   2318.5,2,   -999.0,9,  -999.00,   7.8342,2,    25.60,    1.404,2,   -999.0,9,   -999.0,9, -999.000,9,-999.0000,9,-999.0000,9,-999.0000,9,-999.0000,9, 26.480, 30.856, 35.135, 39.320, 43.413
33RO20110828,   A10,    62,  1,     18,    018,2,20000101,0000,-30.0004, -19.7538, 4378,    433.8,  12.6611,  35.1718,2,  35.1724,2,  35.3383,2,    218.5,2,    218.9,2,     3.61,2,    10.15,2,     0.01,2,     0.83,2,    3.003,2,    1.708,2,    1.810,3,   -999.0,9,   -999.0,9,   -999.0,9,  -999.00,   7.8021,2,    25.66,    1.436,2,   -999.0,9,   -999.0,9, -999.000,9,-999.0000,9,-999.0000,9,-999.0000,9,-999.0000,9, 26.606, 31.006, 35.309, 39.516, 43.632
33RO20110828,   A10,    62,  1,     17,    017,2,20000101,0000,-30.0004, -19.7538, 4378,    534.6,  10.7627,  34.9099,2,  34.9105,2,  35.0751,2,    214.0,2,    215.8,2,     5.56,2,    15.03,2,     0.01,2,     1.15,2,    3.161,2,    1.748,2,    1.840,3,   2135.3,2,   2300.0,2,   -999.0,9,  -999.00,   7.6806,2,    25.60,    1.219,2,   -999.0,9,   -999.0,9, -999.000,9,-999.0000,9,-999.0000,9,-999.0000,9,-999.0000,9, 26.760, 31.201, 35.543, 39.789, 43.941
33RO20110828,   A10,    62,  1,     16,    016,2,20000101,0000,-30.0004, -19.7538, 4378,    633.0,   8.7014,  34.6461,2,  34.6464,2,  34.8098,2,    202.5,2,    202.3,2,    10.44,2,    21.37,2,     0.01,2,     1.59,2,    3.120,2,    1.649,2,    2.328,3,   -999.0,9,   -999.0,9,   -999.0,9,  -999.00,   7.6700,2,    25.62,    0.914,2,   -999.0,9,   -999.0,9, -999.000,9,-999.0000,9,-999.0000,9,-999.0000,9,-999.0000,9, 26.899, 31.387, 35.774, 40.064, 44.258
33RO20110828,   A10,    62,  1,     15,    015,2,20000101,0000,-30.0004, -19.7538, 4378,    736.2,   7.1617,  34.4887,2,  34.4923,2,  34.6549,2,    205.1,2,    204.5,2,    14.54,2,    24.89,2,     0.01,2,     1.84,2,    3.076,2,    1.591,2,    3.033,3,   2166.3,2,   2285.1,2,   -999.0,9,  -999.00,   7.6233,2,    25.69,    0.809,2,   -999.0,9,   -999.0,9, -999.000,9,-999.0000,9,-999.0000,9,-999.0000,9,-999.0000,9, 27.006, 31.530, 35.954, 40.278, 44.505
33RO20110828,   A10,    62,  1,     14,    014,2,20000101,0000,-30.0004, -19.7538, 4378,    834.1,   5.3497,  34.3518,2,  34.3533,2,  34.5153,2,    211.6,2,    211.5,2,    21.48,2,    28.41,2,     0.01,2,     2.10,2,    2.862,2,    1.439,2,    3.633,3,   -999.0,9,   -999.0,9,   -999.0,9,  -999.00,   7.6067,2,    25.71,    0.685,2,   -999.0,9,   -999.0,9, -999.000,9,-999.0000,9,-999.0000,9,-999.0000,9,-999.0000,9, 27.130, 31.699, 36.166, 40.533, 44.802
33RO20110828,   A10,    62,  1,     13,    013,2,20000101,0000,-30.0004, -19.7538, 4378,    933.3,   4.5266,  34.3324,2,  34.3345,2,  34.4964,2,    209.0,2,    209.3,2,    27.92,2,    30.17,2,     0.01,2,     2.23,2,    2.397,2,    1.192,2,    3.308,3,   2188.9,2,   2288.4,2,   -999.0,9,  -999.00,-999.0000,5,  -999.00,    0.547,2,   -999.0,9,   -999.0,9, -999.000,9,-999.0000,9,-999.0000,9,-999.0000,9,-999.0000,9, 27.209, 31.799, 36.287, 40.673, 44.961
33RO20110828,   A10,    62,  1,     12,    012,2,20000101,0000,-30.0004, -19.7538, 4378,   1084.2,   3.7192,  34.3737,2,  34.3756,2,  34.5377,2,    198.2,2,    198.6,2,    40.12,2,    32.02,2,     0.01,2,     2.37,2,    1.561,2,    0.761,2,    2.380,3,   -999.0,9,   -999.0,9,   -999.0,9,  -999.00,   7.5591,2,    25.67,    0.289,2,   -999.0,9,   -999.0,9, -999.000,9,-999.0000,9,-999.0000,9,-999.0000,9,-999.0000,9, 27.326, 31.937, 36.445, 40.852, 45.159
33RO20110828,   A10,    62,  1,     11,    011,2,20000101,0000,-30.0004, -19.7538, 4378,   1231.7,   3.2714,  34.4528,2,  34.4549,2,  34.6174,2,    190.0,2,    189.0,2,    49.59,2,    32.70,2,     0.01,2,     2.41,2,    0.896,2,    0.435,2,    1.324,3,   2222.0,2,   2311.4,2,   -999.0,9,  -999.00,   7.5655,2,    25.64,    0.129,2,   -999.0,9,   -999.0,9, -999.000,9,-999.0000,9,-999.0000,9,-999.0000,9,-999.0000,9, 27.433, 32.056, 36.575, 40.992, 45.310
33RO20110828,   A10,    62,  1,     10,    010,2,20000101,0000,-30.0004, -19.7538, 4378,   1433.6,   3.0011,  34.5606,2,  34.5618,2,  34.7248,2,    187.6,2,    187.4,2,    55.44,2,    31.82,2,     0.01,2,     2.36,2,    0.431,2,    0.207,2,    1.081,3,   2226.8,2,   2318.6,2,   -999.0,9,  -999.00,   7.5700,2,    25.63,    0.049,2,   -999.0,9,   -999.0,9, -999.000,9,-999.0000,9,-999.0000,9,-999.0000,9,-999.0000,9, 27.545, 32.174, 36.700, 41.124, 45.447
33RO20110828,   A10,    62,  1,      9,    009,2,20000101,0000,-30.0004, -19.7538, 4378,   1634.3,   2.9000,  34.6632,2,  34.6652,2,  34.8286,2,    193.8,2,    194.5,2,    56.02,2,    30.16,2,     0.01,2,     2.22,2,    0.183,2,    0.088,2,    0.627,3,   2223.8,2,   2325.4,2,   -999.0,9,  -999.00,   7.5804,2,    25.58,    0.000,2,   -999.0,9,   -999.0,9, -999.000,9,-999.0000,9,-999.0000,9,-999.0000,9,-999.0000,9, 27.638, 32.270, 36.798, 41.223, 45.549
33RO20110828,   A10,    62,  1,      8,    008,2,20000101,0000,-30.0004, -19.7538, 4378,   1929.0,   2.7513,  34.7695,2,  34.7709,2,  34.9349,2,    210.7,2,    211.2,2,    52.80,2,    27.23,2,     0.01,2,     1.98,2,    0.056,2,    0.028,2,    0.268,3,   -999.0,9,   -999.0,9,   -999.0,9,  -999.00,   7.6294,2,    25.60,    0.021,2,   -999.0,9,   -999.0,9, -999.000,9,-999.0000,9,-999.0000,9,-999.0000,9,-999.0000,9, 27.737, 32.373, 36.905, 41.334, 45.663
33RO20110828,   A10,    62,  1,      7,    007,2,20000101,0000,-30.0004, -19.7538, 4378,   2235.1,   2.6729,  34.8320,2,  34.8345,6,  34.9987,6,    227.7,2,    227.9,2,    48.21,2,    24.79,2,     0.01,2,     1.81,2,    0.025,2,    0.016,2,    0.169,3,   2200.9,2,   -999.0,5,   -999.0,9,  -999.00,   7.6517,2,    25.65,    0.050,2,   -999.0,9,   -999.0,9, -999.000,9,-999.0000,9,-999.0000,9,-999.0000,9,-999.0000,9, 27.795, 32.433, 36.968, 41.399, 45.730
33RO20110828,   A10,    62,  1,      6,    006,2,20000101,0000,-30.0004, -19.7538, 4378,   2531.8,   2.7038,  34.8683,2,  34.8705,2,  35.0349,2,    237.2,2,    237.3,2,    43.13,2,    23.22,2,     0.01,2,     1.68,2,    0.011,2,    0.007,2,    0.128,3,   -999.0,9,   -999.0,9,   -999.0,9,  -999.00,   7.6697,2,    25.63,    0.000,2,   -999.0,9,   -999.0,9, -999.000,9,-999.0000,9,-999.0000,9,-999.0000,9,-999.0000,9, 27.826, 32.464, 36.997, 41.429, 45.760
33RO20110828,   A10,    62,  1,      5,    005,2,20000101,0000,-30.0004, -19.7538, 4378,   2836.7,   2.6739,  34.8932,2,  34.8947,2,  35.0592,2,    245.8,2,    245.9,2,    39.91,2,    21.96,2,     0.01,2,     1.60,2,    0.009,2,    0.006,2,    0.098,3,   2184.9,2,   2325.2,2,   -999.0,9,  -999.00,   7.6913,2,    25.66,    0.028,2,   -999.0,9,   -999.0,9, -999.000,9,-999.0000,9,-999.0000,9,-999.0000,9,-999.0000,9, 27.850, 32.490, 37.025, 41.457, 45.789
33RO20110828,   A10,    62,  1,      4,    004,2,20000101,0000,-30.0004, -19.7538, 4378,   3199.0,   2.5270,  34.8919,2,  34.8933,2,  35.0579,2,    248.4,2,    247.6,2,    42.55,2,    21.86,2,     0.01,2,     1.59,2,    0.006,2,    0.004,2,    0.111,3,   -999.0,9,   -999.0,9,   -999.0,9,  -999.00,   7.6902,2,    25.65,    0.095,2,   -999.0,9,   -999.0,9, -999.000,9,-999.0000,9,-999.0000,9,-999.0000,9,-999.0000,9, 27.865, 32.509, 37.049, 41.486, 45.823
33RO20110828,   A10,    62,  1,      3,    003,2,20000101,0000,-30.0004, -19.7538, 4378,   3598.9,   2.1185,  34.8547,2,  34.8560,2,  35.0204,2,    244.1,2,    244.5,2,    57.18,2,    23.71,2,     0.01,2,     1.72,2,    0.009,2,    0.006,2,    0.113,3,   2201.9,2,   2334.5,2,   -999.0,9,  -999.00,   7.6839,2,    25.62,    0.182,2,   -999.0,9,   -999.0,9, -999.000,9,-999.0000,9,-999.0000,9,-999.0000,9,-999.0000,9, 27.870, 32.527, 37.079, 41.528, 45.876
33RO20110828,   A10,    62,  1,      2,    002,2,20000101,0000,-30.0004, -19.7538, 4378,   3998.5,   1.6747,  34.8082,2,  34.8096,2,  34.9738,2,    236.4,2,    236.4,2,    75.53,2,    26.25,2,     0.01,2,     1.92,2,    0.019,2,    0.010,2,    0.136,3,   -999.0,9,   -999.0,9,   -999.0,9,  -999.00,   7.6484,2,    25.71,    0.184,2,   -999.0,9,   -999.0,9, -999.000,9,-999.0000,9,-999.0000,9,-999.0000,9,-999.0000,9, 27.868, 32.539, 37.105, 41.567, 45.927
33RO20110828,   A10,    62,  1,      1,    001,2,20000101,0000,-30.0004, -19.7538, 4378,   4482.1,   1.4055,  34.7741,2,  34.7828,2,  34.9468,2,    230.2,2,    230.4,2,    88.51,2,    27.91,2,     0.01,2,     2.05,2,    0.040,2,    0.021,2,    0.194,3,   2233.4,6,   2352.6,2,   -999.0,9,  -999.00,   7.6189,2,    25.66,    0.152,2,   -999.0,9,   -999.0,9, -999.000,9,-999.0000,9,-999.0000,9,-999.0000,9,-999.0000,9, 27.869, 32.548, 37.123, 41.594, 45.963