BOTTLE,20130715NOAA
EXPOCODE,SECT_ID,STNNBR,CASTNO,SAMPNO,BTLNBR,BTLNBR_FLAG_W,DATE,TIME,LATITUDE,LONGITUDE,DEPTH,CTDPRS,CTDTMP,CTDSAL,CTDSAL_FLAG_W,SALNTY,SALNTY_FLAG_W,SALTREF,SALTREF_FLAG_W,CTDOXY,CTDOXY_FLAG_W,OXYGEN,OXYGEN_FLAG_W,SILCAT,SILCAT_FLAG_W,NITRAT,NITRAT_FLAG_W,NITRIT,NITRIT_FLAG_W,PHSPHT,PHSPHT_FLAG_W,CFC-11,CFC-11_FLAG_W,CFC-12,CFC-12_FLAG_W,CCL4,CCL4_FLAG_W,TCARBN,TCARBN_FLAG_W,ALKALI,ALKALI_FLAG_W,PCO2,PCO2_FLAG_W,PCO2TMP,PH_TOT,PH_TOT_FLAG_W,PH_TMP,SF6,SF6_FLAG_W,DOC,DOC_FLAG_W,TDN,TDN_FLAG_W,TRITUM,TRITUM_FLAG_W,HELIUM,HELIUM_FLAG_W,OXY_18,OXY_18_FLAG_W,BLACKC,BLACKC_FLAG_W,PIGMENTS,PIGMENTS_FLAG_W,SIGMA-THETA,SIGMA-1,SIGMA-2,SIGMA-3,SIGMA-4
,,,,,,,,,,,METERS,DBARS,ITS-90,PSS-78,,PSS-78,,G/KG,,UMOL/KG,,UMOL/KG,,UMOL/KG,,UMOL/KG,,UMOL/KG,,UMOL/KG,,PMOL/KG,,PMOL/KG,,PMOL/KG,,UMOL/KG,,UMOL/KG,,UATM@T,,DEG_C,,,DEG_C,FMOL/KG,,UMOL/KG,,UMOL/KG,,TU,,NMOL/KG,,,,,,,,,,,,
33RO20110828,   A10,    58,  1,     24,    024,2,20000101,0000,-29.9993, -16.7126, 3604,      4.4,  17.5811,  35.8703,2,  35.8704,2,  36.0396,2,    239.3,2,    239.1,2,     1.27,2,     0.10,2,     0.00,2,     0.17,2,    2.366,2,    1.442,2,    2.957,3,   2085.7,6,   2350.0,2,   -999.0,9,  -999.00,   7.8836,2,    25.58,    1.439,2,   -999.0,9,   -999.0,9, -999.000,9,-999.0000,9,-999.0000,9,-999.0000,9,-999.0000,1, 26.042, 30.347, 34.558, 38.676, 42.706
33RO20110828,   A10,    58,  1,     23,    023,2,20000101,0000,-29.9993, -16.7126, 3604,     51.2,  17.5063,  35.8689,2,  35.8702,2,  36.0394,2,    239.5,2,    239.6,2,     1.37,2,     0.10,2,     0.00,2,     0.17,2,    2.371,2,    1.439,2,    2.938,3,   2083.7,2,   2351.5,2,   -999.0,9,  -999.00,   7.9168,2,    25.51,    1.470,2,   -999.0,9,   -999.0,9, -999.000,9,-999.0000,9,-999.0000,9,-999.0000,9,-999.0000,9, 26.062, 30.369, 34.581, 38.700, 42.731
33RO20110828,   A10,    58,  1,     22,    022,2,20000101,0000,-29.9993, -16.7126, 3604,    115.6,  16.8936,  35.8074,2,  35.8066,3,  35.9754,3,    234.0,2,    232.6,2,     1.56,2,     0.49,2,     0.46,2,     0.23,2,    2.403,2,    1.457,2,    1.865,3,   2091.6,2,   2347.0,4,   -999.0,9,  -999.00,   7.8968,2,    25.53,    1.488,2,   -999.0,9,   -999.0,9, -999.000,9,-999.0000,9,-999.0000,9,-999.0000,9,-999.0000,9, 26.164, 30.482, 34.704, 38.834, 42.875
33RO20110828,   A10,    58,  1,     21,    021,2,20000101,0000,-29.9993, -16.7126, 3604,    179.9,  16.4975,  35.7322,2,  35.7288,3,  35.8973,3,    228.3,2,    230.5,2,     1.85,2,     1.85,2,     0.12,2,     0.30,2,    2.459,2,    1.487,2,    1.375,3,   2094.9,2,   2341.6,2,   -999.0,9,  -999.00,   7.9041,2,    25.58,    1.443,2,   -999.0,9,   -999.0,9, -999.000,9,-999.0000,9,-999.0000,9,-999.0000,9,-999.0000,1, 26.202, 30.527, 34.757, 38.894, 42.941
33RO20110828,   A10,    58,  1,     20,    020,2,20000101,0000,-29.9993, -16.7126, 3604,    250.8,  14.3482,  35.3516,2,  35.3522,2,  35.5189,2,    220.4,2,    220.2,2,     2.63,2,     6.05,2,     0.01,2,     0.57,2,    2.765,2,    1.631,2,    0.707,3,   2110.1,2,   2320.4,2,   -999.0,9,  -999.00,   7.8311,4,    25.54,    1.476,2,   -999.0,9,   -999.0,9, -999.000,9,-999.0000,9,-999.0000,9,-999.0000,9,-999.0000,9, 26.393, 30.759, 35.029, 39.205, 43.289
33RO20110828,   A10,    58,  1,     19,    019,2,20000101,0000,-29.9993, -16.7126, 3604,    330.5,  13.1029,  35.1919,2,  35.1867,2,  35.3526,2,    216.7,2,    215.8,2,     3.51,2,     9.37,2,     0.00,2,     0.78,2,    2.934,2,    1.701,2,    0.747,3,   2121.6,2,   2310.4,2,   -999.0,9,  -999.00,   7.8026,2,    25.57,    1.355,2,   -999.0,9,   -999.0,9, -999.000,9,-999.0000,9,-999.0000,9,-999.0000,9,-999.0000,9, 26.526, 30.917, 35.211, 39.410, 43.518
33RO20110828,   A10,    58,  1,     18,    018,2,20000101,0000,-29.9993, -16.7126, 3604,    399.4,  11.6264,  35.0174,2,  35.0165,2,  35.1817,2,    214.1,2,    214.1,2,     4.59,2,    12.69,2,     0.01,2,     1.02,2,    3.095,2,    1.743,2,    0.815,3,   2131.3,2,   2303.7,2,   -999.0,9,  -999.00,   7.7593,2,    25.59,    1.330,2,   -999.0,9,   -999.0,9, -999.000,9,-999.0000,9,-999.0000,9,-999.0000,9,-999.0000,9, 26.682, 31.104, 35.428, 39.656, 43.791
33RO20110828,   A10,    58,  1,     17,    017,2,20000101,0000,-29.9993, -16.7126, 3604,    494.3,  10.0901,  34.8129,2,  34.8135,2,  34.9777,2,    211.2,2,    210.2,2,     6.83,2,    16.79,2,     0.02,2,     1.29,2,    3.167,2,    1.741,2,    0.880,3,   2144.1,2,   2294.3,2,   -999.0,9,  -999.00,   7.7269,3,    25.55,    1.121,2,   -999.0,9,   -999.0,9, -999.000,9,-999.0000,9,-999.0000,9,-999.0000,9,-999.0000,9, 26.801, 31.256, 35.613, 39.872, 44.038
33RO20110828,   A10,    58,  1,     16,    016,2,20000101,0000,-29.9993, -16.7126, 3604,    594.0,   8.0518,  34.5706,2,  34.5699,2,  34.7329,2,    208.4,2,    209.6,2,    10.74,2,    22.17,2,     0.02,2,     1.65,2,    3.248,2,    1.720,2,    1.595,3,   2158.3,2,   2285.5,2,   -999.0,9,  -999.00,   7.6742,2,    25.55,    0.973,2,   -999.0,9,   -999.0,9, -999.000,9,-999.0000,9,-999.0000,9,-999.0000,9,-999.0000,9, 26.938, 31.440, 35.842, 40.146, 44.354
33RO20110828,   A10,    58,  1,     15,    015,2,20000101,0000,-29.9993, -16.7126, 3604,    694.6,   6.5224,  34.4241,2,  34.4217,2,  34.5840,2,    212.8,2,    213.1,2,    14.75,2,    25.68,2,     0.02,2,     1.88,2,    3.206,2,    1.659,2,    2.003,3,   2168.5,2,   2280.3,2,   -999.0,9,  -999.00,   7.6327,2,    25.58,    0.889,2,   -999.0,9,   -999.0,9, -999.000,9,-999.0000,9,-999.0000,9,-999.0000,9,-999.0000,9, 27.036, 31.576, 36.014, 40.353, 44.595
33RO20110828,   A10,    58,  1,     14,    014,2,20000101,0000,-29.9993, -16.7126, 3604,    795.4,   5.2008,  34.3256,2,  34.3256,2,  34.4875,2,    219.1,2,    219.8,2,    19.83,2,    28.03,2,     0.02,2,     2.07,2,    3.045,2,    1.537,2,    2.387,3,   2175.7,2,   2281.9,2,   -999.0,9,  -999.00,   7.6105,2,    25.62,    0.740,2,   -999.0,9,   -999.0,9, -999.000,9,-999.0000,9,-999.0000,9,-999.0000,9,-999.0000,9, 27.125, 31.698, 36.169, 40.539, 44.811
33RO20110828,   A10,    58,  1,     13,    013,2,20000101,0000,-29.9993, -16.7126, 3604,    945.7,   4.1432,  34.3159,2,  34.3162,2,  34.4780,2,    214.4,2,    213.0,2,    30.28,2,    30.47,2,     0.02,2,     2.26,2,    2.350,2,    1.166,2,    2.325,3,   2194.3,2,   2289.5,2,   -999.0,9,  -999.00,   7.5938,2,    25.59,    0.486,2,   -999.0,9,   -999.0,9, -999.000,9,-999.0000,9,-999.0000,9,-999.0000,9,-999.0000,9, 27.235, 31.835, 36.333, 40.729, 45.026
33RO20110828,   A10,    58,  1,     12,    012,2,20000101,0000,-29.9993, -16.7126, 3604,   1096.1,   3.5850,  34.3672,2,  34.3668,2,  34.5289,2,    199.4,2,    200.8,2,    40.72,2,    32.03,2,     0.02,2,     2.37,2,    1.595,2,    0.784,2,    2.020,3,   2210.4,2,   2298.8,2,   -999.0,9,  -999.00,   7.5725,2,    25.57,    0.289,2,   -999.0,9,   -999.0,9, -999.000,9,-999.0000,9,-999.0000,9,-999.0000,9,-999.0000,9, 27.332, 31.947, 36.459, 40.868, 45.179
33RO20110828,   A10,    58,  1,     11,    011,2,20000101,0000,-29.9993, -16.7126, 3604,   1244.7,   3.1781,  34.4728,2,  34.4728,2,  34.6354,2,    188.9,2,    188.3,2,    51.37,2,    32.32,2,     0.01,2,     2.42,2,    0.807,2,    0.393,2,    1.191,3,   2227.9,2,   2310.3,2,   -999.0,9,  -999.00,   7.5593,2,    25.62,    0.121,2,   -999.0,9,   -999.0,9, -999.000,9,-999.0000,9,-999.0000,9,-999.0000,9,-999.0000,9, 27.456, 32.081, 36.603, 41.022, 45.342
33RO20110828,   A10,    58,  1,     10,    010,2,20000101,0000,-29.9993, -16.7126, 3604,   1394.2,   3.0140,  34.5613,2,  34.5618,2,  34.7248,2,    187.1,2,    187.0,2,    55.37,2,    31.73,2,     0.01,2,     2.36,2,    0.445,2,    0.214,2,    0.724,3,   2231.6,6,   2318.4,2,   -999.0,9,  -999.00,   7.5598,2,    25.62,    0.038,2,   -999.0,9,   -999.0,9, -999.000,9,-999.0000,9,-999.0000,9,-999.0000,9,-999.0000,9, 27.543, 32.172, 36.698, 41.121, 45.444
33RO20110828,   A10,    58,  1,      9,    009,2,20000101,0000,-29.9993, -16.7126, 3604,   1544.4,   2.8841,  34.6614,2,  34.6622,2,  34.8256,2,    192.7,2,    193.5,2,    56.04,2,    30.07,2,     0.01,2,     2.23,2,    0.198,2,    0.096,2,    0.445,3,   2227.3,2,   2323.7,2,   -999.0,9,  -999.00,   7.5848,2,    25.61,    0.038,2,   -999.0,9,   -999.0,9, -999.000,9,-999.0000,9,-999.0000,9,-999.0000,9,-999.0000,9, 27.636, 32.268, 36.796, 41.222, 45.548
33RO20110828,   A10,    58,  1,      8,    008,2,20000101,0000,-29.9993, -16.7126, 3604,   1699.7,   2.8003,  34.7163,2,  34.7188,2,  34.8825,2,    201.6,2,    200.3,2,    55.26,2,    28.61,2,     0.01,2,     2.12,2,    0.121,2,    0.059,2,    0.294,3,   2223.1,2,   2324.8,2,   -999.0,9,  -999.00,   7.6016,2,    25.62,    0.023,2,   -999.0,9,   -999.0,9, -999.000,9,-999.0000,9,-999.0000,9,-999.0000,9,-999.0000,9, 27.690, 32.324, 36.854, 41.282, 45.610
33RO20110828,   A10,    58,  1,      7,    007,2,20000101,0000,-29.9993, -16.7126, 3604,   1900.7,   2.6844,  34.7877,2,  34.7889,2,  34.9529,2,    214.6,2,    217.0,2,    52.52,2,    26.36,2,     0.01,2,     1.94,2,    0.051,2,    0.027,2,    0.187,3,   2213.0,2,   2326.4,2,   -999.0,9,  -999.00,   7.6306,2,    25.61,    0.000,2,   -999.0,9,   -999.0,9, -999.000,9,-999.0000,9,-999.0000,9,-999.0000,9,-999.0000,9, 27.757, 32.395, 36.928, 41.359, 45.689
33RO20110828,   A10,    58,  1,      6,    006,2,20000101,0000,-29.9993, -16.7126, 3604,   2099.8,   2.6512,  34.8155,2,  34.8163,2,  34.9805,2,    223.7,2,    223.0,2,    50.47,2,    25.38,2,     0.01,2,     1.86,2,    0.034,2,    0.019,2,    0.151,3,   2207.3,2,   2326.7,2,   -999.0,9,  -999.00,   7.6462,2,    25.60,    0.000,2,   -999.0,9,   -999.0,9, -999.000,9,-999.0000,9,-999.0000,9,-999.0000,9,-999.0000,9, 27.783, 32.422, 36.956, 41.388, 45.720
33RO20110828,   A10,    58,  1,      5,    005,2,20000101,0000,-29.9993, -16.7126, 3604,   2299.3,   2.6018,  34.8329,2,  34.8338,2,  34.9981,2,    228.8,2,    228.1,2,    49.79,2,    24.60,2,     0.01,2,     1.81,2,    0.026,2,    0.014,2,    0.133,3,   2203.0,2,   2326.3,2,   -999.0,9,  -999.00,   7.6488,2,    25.64,    0.000,2,   -999.0,9,   -999.0,9, -999.000,9,-999.0000,9,-999.0000,9,-999.0000,9,-999.0000,9, 27.803, 32.443, 36.980, 41.413, 45.746
33RO20110828,   A10,    58,  1,      4,    004,2,20000101,0000,-29.9993, -16.7126, 3604,   2600.2,   2.6013,  34.8595,2,  34.8631,2,  35.0275,2,    235.6,2,    236.2,2,    46.47,2,    23.43,2,     0.01,2,     1.72,2,    0.017,2,    0.010,2,    0.107,3,   2196.3,2,   2325.4,2,   -999.0,9,  -999.00,   7.6596,2,    25.60,    0.025,2,   -999.0,9,   -999.0,9, -999.000,9,-999.0000,9,-999.0000,9,-999.0000,9,-999.0000,9, 27.829, 32.470, 37.007, 41.441, 45.774
33RO20110828,   A10,    58,  1,      3,    003,2,20000101,0000,-29.9993, -16.7126, 3604,   2889.0,   2.5664,  34.8754,2,  34.8761,2,  35.0405,2,    241.4,2,    241.8,2,    45.10,2,    22.75,2,     0.01,2,     1.66,2,    0.011,2,    0.006,2,    0.071,3,   2193.1,2,   2326.3,2,   -999.0,9,  -999.00,   7.6743,2,    25.48,    0.067,2,   -999.0,9,   -999.0,9, -999.000,9,-999.0000,9,-999.0000,9,-999.0000,9,-999.0000,9, 27.845, 32.487, 37.025, 41.461, 45.796
33RO20110828,   A10,    58,  1,      2,    002,2,20000101,0000,-29.9993, -16.7126, 3604,   3200.4,   2.3770,  34.8681,2,  34.8682,2,  35.0326,2,    242.6,2,    242.1,2,    50.18,2,    22.94,2,     0.01,2,     1.69,2,    0.010,2,    0.007,2,    0.060,3,   2196.6,2,   2330.7,2,   -999.0,9,  -999.00,   7.6753,2,    25.56,    0.116,2,   -999.0,9,   -999.0,9, -999.000,9,-999.0000,9,-999.0000,9,-999.0000,9,-999.0000,9, 27.856, 32.505, 37.049, 41.491, 45.831
33RO20110828,   A10,    58,  1,      1,    001,2,20000101,0000,-29.9993, -16.7126, 3604,   3585.3,   2.1194,  34.8476,2,  34.8499,2,  35.0143,2,    240.5,2,    240.7,2,    59.36,2,    24.02,2,     0.01,2,     1.76,2,    0.011,2,    0.007,2,    0.045,3,   2205.5,6,   2334.7,2,   -999.0,9,  -999.00,   7.6645,2,    25.53,    0.105,2,   -999.0,9,   -999.0,9, -999.000,9,-999.0000,9,-999.0000,9,-999.0000,9,-999.0000,9, 27.865, 32.522, 37.074, 41.523, 45.871