BOTTLE,20130715NOAA
EXPOCODE,SECT_ID,STNNBR,CASTNO,SAMPNO,BTLNBR,BTLNBR_FLAG_W,DATE,TIME,LATITUDE,LONGITUDE,DEPTH,CTDPRS,CTDTMP,CTDSAL,CTDSAL_FLAG_W,SALNTY,SALNTY_FLAG_W,SALTREF,SALTREF_FLAG_W,CTDOXY,CTDOXY_FLAG_W,OXYGEN,OXYGEN_FLAG_W,SILCAT,SILCAT_FLAG_W,NITRAT,NITRAT_FLAG_W,NITRIT,NITRIT_FLAG_W,PHSPHT,PHSPHT_FLAG_W,CFC-11,CFC-11_FLAG_W,CFC-12,CFC-12_FLAG_W,CCL4,CCL4_FLAG_W,TCARBN,TCARBN_FLAG_W,ALKALI,ALKALI_FLAG_W,PCO2,PCO2_FLAG_W,PCO2TMP,PH_TOT,PH_TOT_FLAG_W,PH_TMP,SF6,SF6_FLAG_W,DOC,DOC_FLAG_W,TDN,TDN_FLAG_W,TRITUM,TRITUM_FLAG_W,HELIUM,HELIUM_FLAG_W,OXY_18,OXY_18_FLAG_W,BLACKC,BLACKC_FLAG_W,PIGMENTS,PIGMENTS_FLAG_W,SIGMA-THETA,SIGMA-1,SIGMA-2,SIGMA-3,SIGMA-4
,,,,,,,,,,,METERS,DBARS,ITS-90,PSS-78,,PSS-78,,G/KG,,UMOL/KG,,UMOL/KG,,UMOL/KG,,UMOL/KG,,UMOL/KG,,UMOL/KG,,PMOL/KG,,PMOL/KG,,PMOL/KG,,UMOL/KG,,UMOL/KG,,UATM@T,,DEG_C,,,DEG_C,FMOL/KG,,UMOL/KG,,UMOL/KG,,TU,,NMOL/KG,,,,,,,,,,,,
33RO20110828,   A10,    83,  1,     24,    024,2,20000101,0000,-30.0001, -33.0415, 3521,      6.0,  18.4263,  36.0844,2,  36.0855,2,  36.2556,2,    234.4,2,    233.9,2,     0.97,2,     0.10,2,     0.00,2,     0.06,2,    2.252,2,    1.374,2,    3.030,3,   2085.5,6,   2364.0,2,   -999.0,9,  -999.00,   7.9576,2,    25.62,    1.471,2,   -999.0,1,   -999.0,1, -999.000,9,-999.0000,9,-999.0000,9,-999.0000,9,-999.0000,1, 25.997, 30.287, 34.483, 38.587, 42.603
33RO20110828,   A10,    83,  1,     23,    023,2,20000101,0000,-30.0001, -33.0415, 3521,     35.1,  18.4340,  36.0853,2,  36.0863,2,  36.2564,2,    234.3,2,    234.6,2,     0.97,2,     0.10,2,     0.00,2,     0.06,2,    2.249,2,    1.366,2,    3.152,3,   2083.7,2,   2363.5,2,   -999.0,9,  -999.00,   7.9423,2,    25.49,    1.378,2,   -999.0,1,   -999.0,1, -999.000,9,-999.0000,9,-999.0000,9,-999.0000,9,-999.0000,9, 25.997, 30.287, 34.483, 38.587, 42.602
33RO20110828,   A10,    83,  1,     22,    022,2,20000101,0000,-30.0001, -33.0415, 3521,     79.2,  18.3350,  36.0654,2,  36.0558,2,  36.2258,2,    234.0,2,    234.4,2,     1.07,2,     0.10,2,     0.01,2,     0.07,2,    2.269,2,    1.379,2,    3.187,3,   2084.2,2,   2362.8,2,   -999.0,9,  -999.00,   7.9586,2,    25.50,    1.425,2,   -999.0,1,   -999.0,1, -999.000,9,-999.0000,9,-999.0000,9,-999.0000,9,-999.0000,9, 26.001, 30.293, 34.490, 38.596, 42.613
33RO20110828,   A10,    83,  1,     21,    021,2,20000101,0000,-30.0001, -33.0415, 3521,    127.0,  17.6823,  35.9800,2,  35.9814,2,  36.1511,2,    234.8,2,    233.8,2,     0.98,2,     0.10,2,     0.17,2,     0.11,2,    2.322,2,    1.407,2,    2.664,3,   2086.5,2,   2357.2,2,   -999.0,9,  -999.00,   7.9406,2,    25.61,    1.460,2,   -999.0,1,   -999.0,1, -999.000,9,-999.0000,9,-999.0000,9,-999.0000,9,-999.0000,1, 26.108, 30.411, 34.619, 38.736, 42.763
33RO20110828,   A10,    83,  1,     20,    020,2,20000101,0000,-30.0001, -33.0415, 3521,    175.5,  17.4114,  35.9379,2,  35.9413,2,  36.1107,2,    233.1,2,    234.1,2,     1.07,2,     0.29,2,     0.26,2,     0.11,2,    2.347,2,    1.419,2,    2.389,3,   2086.7,2,   2355.7,2,   -999.0,9,  -999.00,   7.9241,2,    25.65,    1.443,2,   -999.0,1,   -999.0,1, -999.000,9,-999.0000,9,-999.0000,9,-999.0000,9,-999.0000,1, 26.145, 30.453, 34.666, 38.787, 42.819
33RO20110828,   A10,    83,  1,     19,    019,2,20000101,0000,-30.0001, -33.0415, 3521,    259.2,  15.3417,  35.5284,2,  35.5265,2,  35.6940,2,    217.7,2,    215.3,2,     2.05,2,     4.88,2,     0.01,2,     0.38,2,    2.653,2,    1.558,2,    0.848,3,   2108.8,2,   2329.6,2,   -999.0,9,  -999.00,   7.8632,2,    25.62,    1.393,2,   -999.0,1,   -999.0,1, -999.000,9,-999.0000,9,-999.0000,9,-999.0000,9,-999.0000,9, 26.311, 30.658, 34.909, 39.067, 43.134
33RO20110828,   A10,    83,  1,     18,    018,2,20000101,0000,-30.0001, -33.0415, 3521,    334.6,  13.9904,  35.3408,2,  35.3427,2,  35.5094,2,    214.8,2,    217.1,2,     2.54,2,     7.02,2,     0.01,2,     0.49,2,    2.838,2,    1.648,2,    1.008,3,   2115.5,2,   2319.6,2,   -999.0,9,  -999.00,   7.8325,2,    25.57,    1.307,2,   -999.0,1,   -999.0,1, -999.000,9,-999.0000,9,-999.0000,9,-999.0000,9,-999.0000,9, 26.464, 30.838, 35.114, 39.296, 43.387
33RO20110828,   A10,    83,  1,     17,    017,2,20000101,0000,-30.0001, -33.0415, 3521,    414.2,  13.2196,  35.2925,2,  35.2980,2,  35.4644,2,    229.4,2,    229.1,2,     2.54,2,     8.00,2,     0.01,2,     0.54,2,    2.927,2,    1.695,2,    1.227,3,   2117.8,2,   2319.4,2,   -999.0,9,  -999.00,   7.8315,2,    25.53,    1.479,2,   -999.0,1,   -999.0,1, -999.000,9,-999.0000,9,-999.0000,9,-999.0000,9,-999.0000,9, 26.591, 30.980, 35.271, 39.467, 43.572
33RO20110828,   A10,    83,  1,     16,    016,2,20000101,0000,-30.0001, -33.0415, 3521,    499.3,  11.7070,  35.0464,2,  35.0483,2,  35.2135,2,    215.8,2,    216.5,2,     4.49,2,    12.88,2,     0.01,2,     0.80,2,    3.078,2,    1.720,2,    1.169,3,   2131.6,2,   2307.1,2,   -999.0,9,  -999.00,   7.7775,2,    25.49,    1.243,2,   -999.0,1,   -999.0,1, -999.000,9,-999.0000,9,-999.0000,9,-999.0000,9,-999.0000,9, 26.695, 31.115, 35.437, 39.663, 43.797
33RO20110828,   A10,    83,  1,     15,    015,2,20000101,0000,-30.0001, -33.0415, 3521,    548.6,  10.3091,  34.8469,2,  34.8468,2,  35.0111,2,    209.1,2,    209.1,2,     6.54,2,    16.88,2,     0.01,2,     1.02,2,    3.151,2,    1.710,2,    1.302,3,   2143.7,2,   2296.3,2,   -999.0,9,  -999.00,   7.7328,2,    25.62,    1.056,2,   -999.0,1,   -999.0,1, -999.000,9,-999.0000,9,-999.0000,9,-999.0000,9,-999.0000,9, 26.790, 31.241, 35.593, 39.848, 44.009
33RO20110828,   A10,    83,  1,     14,    014,2,20000101,0000,-30.0001, -33.0415, 3521,    651.7,   8.4162,  34.6149,2,  34.6151,2,  34.7783,2,    204.4,2,    204.0,2,    10.44,2,    22.06,2,     0.01,2,     1.32,2,    3.144,2,    1.645,2,    1.738,3,   2159.6,2,   2287.9,2,   -999.0,9,  -999.00,   7.6730,2,    25.61,    0.865,2,   -999.0,1,   -999.0,1, -999.000,9,-999.0000,9,-999.0000,9,-999.0000,9,-999.0000,9, 26.919, 31.413, 35.807, 40.103, 44.303
33RO20110828,   A10,    83,  1,     13,    013,2,20000101,0000,-30.0001, -33.0415, 3521,    780.1,   6.2898,  34.4054,2,  34.4079,2,  34.5702,2,    213.7,2,    213.9,2,    15.33,2,    26.55,2,     0.00,2,     1.58,2,    3.147,2,    1.600,2,    2.357,3,   2171.9,2,   2283.2,2,   -999.0,9,  -999.00,   7.6378,2,    25.54,    0.778,2,   -999.0,1,   -999.0,1, -999.000,9,-999.0000,9,-999.0000,9,-999.0000,9,-999.0000,9, 27.057, 31.602, 36.046, 40.391, 44.638
33RO20110828,   A10,    83,  1,     12,    012,2,20000101,0000,-30.0001, -33.0415, 3521,    860.4,   5.2869,  34.3357,2,  34.3336,2,  34.4955,2,    218.3,2,    218.1,2,    19.82,2,    28.12,2,     0.01,2,     1.72,2,    2.954,2,    1.478,2,    2.795,3,   2181.4,2,   2284.4,2,   -999.0,9,  -999.00,   7.6262,2,    25.62,    0.655,2,   -999.0,1,   -999.0,1, -999.000,9,-999.0000,9,-999.0000,9,-999.0000,9,-999.0000,9, 27.122, 31.693, 36.162, 40.530, 44.800
33RO20110828,   A10,    83,  1,     11,    011,2,20000101,0000,-30.0001, -33.0415, 3521,   1060.1,   3.9406,  34.3391,2,  34.3404,2,  34.5024,2,    206.5,2,    206.9,2,    34.17,2,    31.04,2,     0.01,2,     1.99,2,    1.920,2,    0.939,2,    2.313,3,   2205.1,2,   2294.3,2,   -999.0,9,  -999.00,   7.5862,2,    25.68,    0.352,2,   -999.0,1,   -999.0,1, -999.000,9,-999.0000,9,-999.0000,9,-999.0000,9,-999.0000,9, 27.276, 31.882, 36.384, 40.785, 45.087
33RO20110828,   A10,    83,  1,     10,    010,2,20000101,0000,-30.0001, -33.0415, 3521,   1258.2,   3.2992,  34.4614,2,  34.4276,2,  34.5899,2,    190.0,2,    189.7,2,    49.10,2,    32.31,2,     0.01,2,     2.17,2,    0.799,2,    0.389,2,    1.256,3,   2227.2,6,   2311.2,2,   -999.0,9,  -999.00,   7.5652,2,    25.59,    0.119,2,   -999.0,1,   -999.0,1, -999.000,9,-999.0000,9,-999.0000,9,-999.0000,9,-999.0000,9, 27.409, 32.031, 36.550, 40.967, 45.284
33RO20110828,   A10,    83,  1,      9,    009,3,20000101,0000,-30.0001, -33.0415, 3521,   1423.7,   3.0908,  34.5461,2,  34.5473,2,  34.7103,2,   -999.0,9,   -999.0,9,  -999.00,9,  -999.00,9,  -999.00,9,  -999.00,9, -999.000,9, -999.000,9, -999.000,9,   -999.0,9,   -999.0,9,   -999.0,9,  -999.00,-999.0000,9,  -999.00, -999.000,9,   -999.0,9,   -999.0,9, -999.000,9,-999.0000,9,-999.0000,9,-999.0000,9,-999.0000,9, 27.525, 32.152, 36.676, 41.097, 45.419
33RO20110828,   A10,    83,  1,      8,    008,2,20000101,0000,-30.0001, -33.0415, 3521,   1649.2,   2.9048,  34.6615,2,  34.6627,2,  34.8261,2,    194.8,2,    194.4,2,    55.05,2,    30.16,2,     0.01,2,     2.07,2,    0.155,2,    0.077,2,    0.362,3,   2227.1,2,   2324.3,2,   -999.0,9,  -999.00,   7.5940,2,    25.58,    0.000,2,   -999.0,1,   -999.0,1, -999.000,9,-999.0000,9,-999.0000,9,-999.0000,9,-999.0000,9, 27.635, 32.267, 36.795, 41.221, 45.546
33RO20110828,   A10,    83,  1,      7,    007,2,20000101,0000,-30.0001, -33.0415, 3521,   1799.3,   2.8330,  34.7261,2,  34.7258,2,  34.8895,2,    203.4,2,    203.5,2,    53.77,2,    28.59,2,     0.00,2,     1.97,2,    0.080,2,    0.042,2,    0.242,3,   2220.6,2,   2324.7,2,   -999.0,9,  -999.00,   7.6066,2,    25.58,    0.000,2,   -999.0,1,   -999.0,1, -999.000,9,-999.0000,9,-999.0000,9,-999.0000,9,-999.0000,9, 27.693, 32.327, 36.856, 41.284, 45.611
33RO20110828,   A10,    83,  1,      6,    006,2,20000101,0000,-30.0001, -33.0415, 3521,   2024.5,   2.7865,  34.7979,2,  34.7997,2,  34.9638,2,    217.6,2,    218.2,2,    49.18,2,    26.15,2,     0.01,2,     1.79,2,    0.032,2,    0.017,2,    0.150,3,   2208.5,2,   2325.3,2,   -999.0,9,  -999.00,   7.6393,2,    25.65,    0.000,2,   -999.0,1,   -999.0,1, -999.000,9,-999.0000,9,-999.0000,9,-999.0000,9,-999.0000,9, 27.758, 32.393, 36.924, 41.352, 45.680
33RO20110828,   A10,    83,  1,      5,    005,2,20000101,0000,-30.0001, -33.0415, 3521,   2240.0,   2.7856,  34.8358,2,  34.8365,2,  35.0007,2,    227.9,2,    229.3,2,    45.28,2,    24.59,2,     0.01,2,     1.68,2, -999.000,5, -999.000,5, -999.000,5,   2200.5,2,   2326.6,2,   -999.0,9,  -999.00,   7.6482,2,    25.57, -999.000,5,   -999.0,1,   -999.0,1, -999.000,9,-999.0000,9,-999.0000,9,-999.0000,9,-999.0000,9, 27.789, 32.424, 36.955, 41.384, 45.713
33RO20110828,   A10,    83,  1,      4,    004,2,20000101,0000,-30.0001, -33.0415, 3521,   2447.3,   2.7918,  34.8677,2,  34.8682,2,  35.0327,2,    236.8,2,    236.2,2,    40.89,2,    22.93,2,     0.00,2,     1.56,2,    0.014,2,    0.010,2,    0.097,3,   2194.3,2,   2325.8,2,   -999.0,9,  -999.00,   7.6709,2,    25.57,    0.000,2,   -999.0,1,   -999.0,1, -999.000,9,-999.0000,9,-999.0000,9,-999.0000,9,-999.0000,9, 27.816, 32.451, 36.982, 41.411, 45.740
33RO20110828,   A10,    83,  1,      3,    003,2,20000101,0000,-30.0001, -33.0415, 3521,   2650.1,   2.7702,  34.8880,2,  34.8892,2,  35.0537,2,    243.1,2,    242.3,2,    38.74,2,    22.35,2,     0.00,2,     1.51,2,    0.017,2,    0.011,2,    0.113,3,   2190.0,2,   2325.0,2,   -999.0,9,  -999.00,   7.6760,2,    25.60,    0.000,2,   -999.0,1,   -999.0,1, -999.000,9,-999.0000,9,-999.0000,9,-999.0000,9,-999.0000,9, 27.836, 32.472, 37.004, 41.434, 45.764
33RO20110828,   A10,    83,  1,      2,    002,2,20000101,0000,-30.0001, -33.0415, 3521,   3026.1,   2.6705,  34.8983,2,  34.9014,2,  35.0660,2,    247.8,2,    247.8,2,    38.84,2,    21.76,2,     0.01,2,     1.47,2,    0.024,2,    0.015,2,    0.139,3,   2187.7,2,   2336.0,2,   -999.0,9,  -999.00,   7.6780,2,    25.49,    0.000,2,   -999.0,1,   -999.0,1, -999.000,9,-999.0000,9,-999.0000,9,-999.0000,9,-999.0000,9, 27.858, 32.497, 37.033, 41.466, 45.799
33RO20110828,   A10,    83,  1,      1,    001,2,20000101,0000,-30.0001, -33.0415, 3521,   3529.5,   2.1514,  34.8545,2,  34.8574,2,  35.0218,2,    242.3,2,    242.6,2,    56.99,2,    23.71,2,     0.01,2,     1.72,2,    0.034,2,    0.020,2,    0.140,3,   2205.2,6,   2333.6,2,   -999.0,9,  -999.00,   7.6749,2,    25.47,    0.054,2,   -999.0,1,   -999.0,1, -999.000,9,-999.0000,9,-999.0000,9,-999.0000,9,-999.0000,9, 27.868, 32.524, 37.075, 41.523, 45.870