BOTTLE,20130715NOAA
EXPOCODE,SECT_ID,STNNBR,CASTNO,SAMPNO,BTLNBR,BTLNBR_FLAG_W,DATE,TIME,LATITUDE,LONGITUDE,DEPTH,CTDPRS,CTDTMP,CTDSAL,CTDSAL_FLAG_W,SALNTY,SALNTY_FLAG_W,SALTREF,SALTREF_FLAG_W,CTDOXY,CTDOXY_FLAG_W,OXYGEN,OXYGEN_FLAG_W,SILCAT,SILCAT_FLAG_W,NITRAT,NITRAT_FLAG_W,NITRIT,NITRIT_FLAG_W,PHSPHT,PHSPHT_FLAG_W,CFC-11,CFC-11_FLAG_W,CFC-12,CFC-12_FLAG_W,CCL4,CCL4_FLAG_W,TCARBN,TCARBN_FLAG_W,ALKALI,ALKALI_FLAG_W,PCO2,PCO2_FLAG_W,PCO2TMP,PH_TOT,PH_TOT_FLAG_W,PH_TMP,SF6,SF6_FLAG_W,DOC,DOC_FLAG_W,TDN,TDN_FLAG_W,TRITUM,TRITUM_FLAG_W,HELIUM,HELIUM_FLAG_W,OXY_18,OXY_18_FLAG_W,BLACKC,BLACKC_FLAG_W,PIGMENTS,PIGMENTS_FLAG_W,SIGMA-THETA,SIGMA-1,SIGMA-2,SIGMA-3,SIGMA-4
,,,,,,,,,,,METERS,DBARS,ITS-90,PSS-78,,PSS-78,,G/KG,,UMOL/KG,,UMOL/KG,,UMOL/KG,,UMOL/KG,,UMOL/KG,,UMOL/KG,,PMOL/KG,,PMOL/KG,,PMOL/KG,,UMOL/KG,,UMOL/KG,,UATM@T,,DEG_C,,,DEG_C,FMOL/KG,,UMOL/KG,,UMOL/KG,,TU,,NMOL/KG,,,,,,,,,,,,
33RO20110828,   A10,    98,  1,     24,    024,2,20000101,0000,-30.0001, -39.5333, 4020,      4.6,  19.0673,  36.2701,2,  36.2699,2,  36.4409,2,    231.1,2,    232.0,2,     0.68,2,     0.00,2,     0.00,2,     0.04,2,    2.188,2,    1.341,2,    3.177,3,   2081.9,6,   2373.3,2,   -999.0,9,  -999.00,   7.9661,2,    25.59,    1.369,2,   -999.0,9,   -999.0,9, -999.000,9,-999.0000,9,-999.0000,9,-999.0000,9,-999.0000,1, 25.975, 30.254, 34.438, 38.532, 42.537
33RO20110828,   A10,    98,  1,     23,    023,2,20000101,0000,-30.0001, -39.5333, 4020,     59.6,  18.8627,  36.2534,2,  36.2539,2,  36.4249,2,    229.5,2,    231.1,2,     0.78,2,     0.00,2,     0.00,2,     0.05,2, -999.000,9, -999.000,9, -999.000,9,   2078.6,2,   2369.2,2,   -999.0,9,  -999.00,   7.9573,2,    25.56, -999.000,9,   -999.0,9,   -999.0,9, -999.000,9,-999.0000,9,-999.0000,9,-999.0000,9,-999.0000,1, 26.018, 30.300, 34.488, 38.585, 42.593
33RO20110828,   A10,    98,  1,     22,    022,2,20000101,0000,-30.0001, -39.5333, 4020,    105.8,  18.0353,  36.0880,2,  36.0836,2,  36.2537,2,    228.2,2,    223.7,2,     0.98,2,     0.98,2,     0.07,2,     0.12,2, -999.000,9, -999.000,9, -999.000,9,   -999.0,9,   2363.0,2,   -999.0,9,  -999.00,   7.9390,2,    25.55, -999.000,9,   -999.0,9,   -999.0,9, -999.000,9,-999.0000,9,-999.0000,9,-999.0000,9,-999.0000,1, 26.098, 30.395, 34.597, 38.707, 42.729
33RO20110828,   A10,    98,  1,     21,    021,2,20000101,0000,-30.0001, -39.5333, 4020,    154.1,  16.9092,  35.8834,2,  35.8885,2,  36.0577,2,    223.7,2,    228.8,2,     1.07,2,     1.37,2,     0.02,2,     0.14,2, -999.000,9, -999.000,9, -999.000,9,   2088.2,2,   2351.5,2,   -999.0,9,  -999.00,   7.9287,2,    25.49, -999.000,9,   -999.0,9,   -999.0,9, -999.000,9,-999.0000,9,-999.0000,9,-999.0000,9,-999.0000,9, 26.224, 30.541, 34.763, 38.892, 42.932
33RO20110828,   A10,    98,  1,     20,    020,2,20000101,0000,-30.0001, -39.5333, 4020,    219.5,  15.4215,  35.6168,2,  35.6173,2,  35.7853,2,    219.4,2,    215.5,2,     1.85,2,     4.78,2,     0.01,2,     0.33,2,    2.606,2,    1.550,2,    1.279,3,   -999.0,9,   2335.7,2,   -999.0,9,  -999.00,   7.8683,2,    25.54,    1.389,2,   -999.0,9,   -999.0,9, -999.000,9,-999.0000,9,-999.0000,9,-999.0000,9,-999.0000,9, 26.362, 30.707, 34.955, 39.111, 43.176
33RO20110828,   A10,    98,  1,     19,    019,2,20000101,0000,-30.0001, -39.5333, 4020,    281.6,  14.4321,  35.4639,2,  35.4629,2,  35.6301,2,    212.9,2,    212.7,2,     2.54,2,     7.22,2,     0.01,2,     0.45,2, -999.000,9, -999.000,9, -999.000,9,   -999.0,9,   2323.9,2,   -999.0,9,  -999.00,   7.8442,2,    25.48, -999.000,9,   -999.0,9,   -999.0,9, -999.000,9,-999.0000,9,-999.0000,9,-999.0000,9,-999.0000,9, 26.462, 30.826, 35.093, 39.267, 43.350
33RO20110828,   A10,    98,  1,     18,    018,2,20000101,0000,-30.0001, -39.5333, 4020,    349.8,  13.5678,  35.3463,2,  35.3460,2,  35.5126,2,    211.2,2,    211.5,2,     3.12,2,     9.17,2,     0.01,2,     0.55,2, -999.000,9, -999.000,9, -999.000,9,   -999.0,9,   2317.7,2,   -999.0,9,  -999.00,   7.8295,2,    25.53, -999.000,9,   -999.0,9,   -999.0,9, -999.000,9,-999.0000,9,-999.0000,9,-999.0000,9,-999.0000,9, 26.555, 30.937, 35.221, 39.411, 43.509
33RO20110828,   A10,    98,  1,     17,    017,2,20000101,0000,-30.0001, -39.5333, 4020,    450.8,  11.6950,  35.0499,2,  35.0516,6,  35.2169,6,    210.5,2,    212.1,2,     4.68,2,    13.37,2,     0.01,2,     0.75,2, -999.000,9, -999.000,9, -999.000,9,   2130.6,2,   2303.4,2,   -999.0,9,  -999.00,   7.7715,2,    25.51, -999.000,9,   -999.0,9,   -999.0,9, -999.000,9,-999.0000,9,-999.0000,9,-999.0000,9,-999.0000,9, 26.697, 31.117, 35.439, 39.666, 43.800
33RO20110828,   A10,    98,  1,     16,    016,2,20000101,0000,-30.0001, -39.5333, 4020,    549.7,   9.3212,  34.7251,2,  34.7181,2,  34.8818,2,    207.8,2,    206.1,2,     8.20,2,    19.52,2,     0.01,2,     1.05,2,    3.158,2,    1.681,2,    1.722,3,   -999.0,9,   2291.4,2,   -999.0,9,  -999.00,   7.7088,2,    25.58,    0.978,2,   -999.0,9,   -999.0,9, -999.000,9,-999.0000,9,-999.0000,9,-999.0000,9,-999.0000,9, 26.855, 31.328, 35.702, 39.978, 44.159
33RO20110828,   A10,    98,  1,     15,    015,2,20000101,0000,-30.0001, -39.5333, 4020,    649.0,   7.3803,  34.5015,2,  34.5014,2,  34.6641,2,    211.8,2,    211.8,2,    11.71,2,    23.63,2,     0.00,2,     1.30,2, -999.000,9, -999.000,9, -999.000,9,   -999.0,9,   2283.6,2,   -999.0,9,  -999.00,   7.6667,2,    25.57, -999.000,9,   -999.0,9,   -999.0,9, -999.000,9,-999.0000,9,-999.0000,9,-999.0000,9,-999.0000,9, 26.982, 31.500, 35.918, 40.237, 44.460
33RO20110828,   A10,    98,  1,     14,    014,2,20000101,0000,-30.0001, -39.5333, 4020,    750.3,   5.9281,  34.3617,2,  34.3656,2,  34.5276,2,    223.0,2,    223.6,2,    15.04,2,    26.07,2,     0.00,2,     1.45,2, -999.000,9, -999.000,9, -999.000,9,   2163.8,2,   2281.2,2,   -999.0,9,  -999.00,   7.6407,2,    25.53, -999.000,9,   -999.0,9,   -999.0,9, -999.000,9,-999.0000,9,-999.0000,9,-999.0000,9,-999.0000,9, 27.069, 31.623, 36.076, 40.429, 44.685
33RO20110828,   A10,    98,  1,     13,    013,2,20000101,0000,-30.0001, -39.5333, 4020,    825.3,   5.1005,  34.3081,2,  34.3087,2,  34.4705,2,    225.5,2,    225.7,2,    18.84,2,    27.83,2,     0.00,2,     1.56,2, -999.000,9, -999.000,9, -999.000,9,   -999.0,9,   2279.0,2,   -999.0,9,  -999.00,   7.6239,2,    25.59, -999.000,9,   -999.0,9,   -999.0,9, -999.000,9,-999.0000,9,-999.0000,9,-999.0000,9,-999.0000,9, 27.123, 31.699, 36.173, 40.546, 44.820
33RO20110828,   A10,    98,  1,     12,    012,2,20000101,0000,-30.0001, -39.5333, 4020,    949.1,   4.1998,  34.2951,2,  34.2982,2,  34.4600,2,    220.3,2,    220.2,2,    27.34,2,    29.88,2,     0.00,2,     1.76,2,    2.527,2,    1.253,2,    2.978,3,   -999.0,9,   2284.3,2,   -999.0,9,  -999.00,   7.6034,2,    25.53,    0.553,2,   -999.0,9,   -999.0,9, -999.000,9,-999.0000,9,-999.0000,9,-999.0000,9,-999.0000,9, 27.215, 31.814, 36.310, 40.705, 45.001
33RO20110828,   A10,    98,  1,     11,    011,2,20000101,0000,-30.0001, -39.5333, 4020,   1074.7,   3.5925,  34.3357,2,  34.3372,2,  34.4991,2,    208.2,2,    208.6,2,    37.39,2,    31.83,2,     0.00,2,     1.95,2, -999.000,9, -999.000,9, -999.000,9,   2202.8,2,   2293.6,2,   -999.0,9,  -999.00,   7.5858,2,    25.49, -999.000,9,   -999.0,9,   -999.0,9, -999.000,9,-999.0000,9,-999.0000,9,-999.0000,9,-999.0000,9, 27.308, 31.923, 36.434, 40.844, 45.154
33RO20110828,   A10,    98,  1,     10,    010,2,20000101,0000,-30.0001, -39.5333, 4020,   1276.8,   3.1738,  34.4409,2,  34.4412,2,  34.6036,2,    191.8,2,    192.6,2,    49.60,2,    32.71,2,     0.01,2,     2.11,2,    0.888,2,    0.431,2,    1.398,3,   -999.0,9,   2310.0,2,   -999.0,9,  -999.00,   7.5603,2,    25.51,    0.131,2,   -999.0,9,   -999.0,9, -999.000,9,-999.0000,9,-999.0000,9,-999.0000,9,-999.0000,9, 27.431, 32.057, 36.579, 40.999, 45.319
33RO20110828,   A10,    98,  1,      9,    009,2,20000101,0000,-30.0001, -39.5333, 4020,   1475.4,   2.9497,  34.5715,2,  34.5746,2,  34.7377,2,    187.5,2,    187.7,2,    55.94,2,    31.92,2,     0.00,2,     2.14,2, -999.000,9, -999.000,9, -999.000,9,   2228.8,2,   2319.5,2,   -999.0,9,  -999.00,   7.5768,2,    25.56, -999.000,9,   -999.0,9,   -999.0,9, -999.000,9,-999.0000,9,-999.0000,9,-999.0000,9,-999.0000,9, 27.560, 32.191, 36.718, 41.143, 45.467
33RO20110828,   A10,    98,  1,      8,    008,2,20000101,0000,-30.0001, -39.5333, 4020,   1650.8,   2.8800,  34.6597,2,  34.6613,2,  34.8247,2,    192.8,2,    193.8,2,    55.83,2,    30.36,2,     0.00,2,     2.05,2,    0.164,2,    0.080,2,    0.431,3,   -999.0,9,   2319.6,2,   -999.0,9,  -999.00,   7.5902,2,    25.56,    0.017,2,   -999.0,9,   -999.0,9, -999.000,9,-999.0000,9,-999.0000,9,-999.0000,9,-999.0000,9, 27.636, 32.269, 36.798, 41.224, 45.550
33RO20110828,   A10,    98,  1,      7,    007,2,20000101,0000,-30.0001, -39.5333, 4020,   1950.6,   3.3368,  34.8712,2,  34.8703,2,  35.0347,2,    231.0,2,    227.0,2,    35.04,2,    23.72,2,     0.00,2,     1.51,2,    0.143,2,    0.073,2,    0.449,3,   2191.1,2,   2315.7,2,   -999.0,9,  -999.00,   7.6621,2,    25.59,    0.000,2,   -999.0,9,   -999.0,9, -999.000,9,-999.0000,9,-999.0000,9,-999.0000,9,-999.0000,9, 27.764, 32.384, 36.900, 41.314, 45.628
33RO20110828,   A10,    98,  1,      6,    006,2,20000101,0000,-30.0001, -39.5333, 4020,   2199.9,   3.3197,  34.9271,2,  34.9305,2,  35.0952,2,    242.8,2,    244.2,2,    27.52,2,    21.08,2,     0.00,2,     1.29,2,    0.160,2,    0.082,2,    0.503,3,   -999.0,9,   2313.2,2,   -999.0,9,  -999.00,   7.6967,2,    25.58,    0.023,2,   -999.0,9,   -999.0,9, -999.000,9,-999.0000,9,-999.0000,9,-999.0000,9,-999.0000,9, 27.816, 32.436, 36.953, 41.367, 45.682
33RO20110828,   A10,    98,  1,      5,    005,2,20000101,0000,-30.0001, -39.5333, 4020,   2448.4,   3.1359,  34.9279,2,  34.9350,2,  35.0997,2,    246.8,2,    247.7,2,    28.79,2,    20.79,2,     0.00,2,     1.30,2,    0.120,2,    0.063,2,    0.425,3,   -999.0,9,   2318.0,2,   -999.0,9,  -999.00,   7.6955,2,    25.59,    0.000,2,   -999.0,9,   -999.0,9, -999.000,9,-999.0000,9,-999.0000,9,-999.0000,9,-999.0000,9, 27.839, 32.464, 36.986, 41.406, 45.726
33RO20110828,   A10,    98,  1,      4,    004,2,20000101,0000,-30.0001, -39.5333, 4020,   2800.1,   2.9398,  34.9244,2,  34.9258,2,  35.0905,2,    249.4,2,    250.2,2,    31.43,2,    20.79,2,     0.01,2,     1.32,2,    0.092,2,    0.048,2,    0.349,3,   2179.6,2,   2321.1,2,   -999.0,9,  -999.00,   7.7086,2,    25.53,    0.000,2,   -999.0,9,   -999.0,9, -999.000,9,-999.0000,9,-999.0000,9,-999.0000,9,-999.0000,9, 27.852, 32.484, 37.012, 41.437, 45.763
33RO20110828,   A10,    98,  1,      3,    003,2,20000101,0000,-30.0001, -39.5333, 4020,   3200.1,   2.6878,  34.9106,2,  34.9128,2,  35.0774,2,    250.7,2,    250.9,2,    36.31,2,    21.08,2,     0.00,2,     1.38,2,    0.069,2,    0.037,2,    0.304,3,   -999.0,9,   2319.8,3,   -999.0,9,  -999.00,   7.7038,2,    25.62,    0.000,2,   -999.0,9,   -999.0,9, -999.000,9,-999.0000,9,-999.0000,9,-999.0000,9,-999.0000,9, 27.867, 32.507, 37.042, 41.475, 45.808
33RO20110828,   A10,    98,  1,      2,    002,2,20000101,0000,-30.0001, -39.5333, 4020,   3601.4,   1.8753,  34.8340,2,  34.8361,2,  35.0004,2,    241.6,2,    241.2,2,    65.10,2,    24.79,2,     0.01,2,     1.86,2,    0.054,2,    0.030,2,    0.217,3,   -999.0,9,   2335.4,2,   -999.0,9,  -999.00,   7.6607,2,    25.53,    0.086,2,   -999.0,9,   -999.0,9, -999.000,9,-999.0000,9,-999.0000,9,-999.0000,9,-999.0000,9, 27.872, 32.536, 37.095, 41.550, 45.905
33RO20110828,   A10,    98,  1,      1,    001,2,20000101,0000,-30.0001, -39.5333, 4020,   4024.2,   0.6598,  34.7041,2,  34.7058,2,  34.8694,2,    220.5,2,    220.3,2,   116.06,2,    31.53,2,     0.00,2,     2.69,2,    0.249,2,    0.120,2,    0.486,3,   2254.5,6,   2356.3,2,   -999.0,9,  -999.00,   7.6091,2,    25.52,    0.081,2,   -999.0,9,   -999.0,9, -999.000,9,-999.0000,9,-999.0000,9,-999.0000,9,-999.0000,9, 27.849, 32.549, 37.143, 41.633, 46.021