BOTTLE,20130715NOAA
EXPOCODE,SECT_ID,STNNBR,CASTNO,SAMPNO,BTLNBR,BTLNBR_FLAG_W,DATE,TIME,LATITUDE,LONGITUDE,DEPTH,CTDPRS,CTDTMP,CTDSAL,CTDSAL_FLAG_W,SALNTY,SALNTY_FLAG_W,SALTREF,SALTREF_FLAG_W,CTDOXY,CTDOXY_FLAG_W,OXYGEN,OXYGEN_FLAG_W,SILCAT,SILCAT_FLAG_W,NITRAT,NITRAT_FLAG_W,NITRIT,NITRIT_FLAG_W,PHSPHT,PHSPHT_FLAG_W,CFC-11,CFC-11_FLAG_W,CFC-12,CFC-12_FLAG_W,CCL4,CCL4_FLAG_W,TCARBN,TCARBN_FLAG_W,ALKALI,ALKALI_FLAG_W,PCO2,PCO2_FLAG_W,PCO2TMP,PH_TOT,PH_TOT_FLAG_W,PH_TMP,SF6,SF6_FLAG_W,DOC,DOC_FLAG_W,TDN,TDN_FLAG_W,TRITUM,TRITUM_FLAG_W,HELIUM,HELIUM_FLAG_W,OXY_18,OXY_18_FLAG_W,BLACKC,BLACKC_FLAG_W,PIGMENTS,PIGMENTS_FLAG_W,SIGMA-THETA,SIGMA-1,SIGMA-2,SIGMA-3,SIGMA-4
,,,,,,,,,,,METERS,DBARS,ITS-90,PSS-78,,PSS-78,,G/KG,,UMOL/KG,,UMOL/KG,,UMOL/KG,,UMOL/KG,,UMOL/KG,,UMOL/KG,,PMOL/KG,,PMOL/KG,,PMOL/KG,,UMOL/KG,,UMOL/KG,,UATM@T,,DEG_C,,,DEG_C,FMOL/KG,,UMOL/KG,,UMOL/KG,,TU,,NMOL/KG,,,,,,,,,,,,
33RO20110828,   A10,    39,  1,     24,    024,2,20000101,0000,-29.9999,  -3.9337, 4226,      4.7,  18.6800,  35.9556,2,  35.9550,2,  36.1245,2,    235.5,2,    236.6,2,     1.07,2,     0.00,2,     0.00,2,     0.18,2,    2.293,2,    1.398,2,    3.257,2,   2083.1,6,   2360.7,2,   -999.0,9,  -999.00,   7.9338,2,    25.59,    1.419,2,   -999.0,1,   -999.0,1, -999.000,9,-999.0000,9,-999.0000,9,-999.0000,9,-999.0000,1, 25.833, 30.120, 34.312, 38.413, 42.426
33RO20110828,   A10,    39,  1,     23,    023,2,20000101,0000,-29.9999,  -3.9337, 4226,     44.7,  18.2064,  35.9400,2,  35.9384,2,  36.1079,2,    238.2,2,    238.5,2,     1.17,2,     0.00,2,     0.00,2,     0.18,2,    2.302,2,    1.408,2,    3.225,2,   2080.4,2,   2358.9,2,   -999.0,9,  -999.00,   7.9223,2,    25.52,    1.463,2,   -999.0,1,   -999.0,1, -999.000,9,-999.0000,9,-999.0000,9,-999.0000,9,-999.0000,9, 25.942, 30.236, 34.436, 38.545, 42.564
33RO20110828,   A10,    39,  1,     22,    022,2,20000101,0000,-29.9999,  -3.9337, 4226,     93.5,  17.2925,  35.8392,2,  35.8366,2,  36.0056,2,    238.0,2,    234.4,2,     1.37,2,     0.29,2,     0.26,2,     0.22,2,    2.346,2,    1.435,2,    2.437,2,   2082.1,2,   2351.7,2,   -999.0,9,  -999.00,   7.9140,2,    25.53,    1.473,2,   -999.0,1,   -999.0,1, -999.000,9,-999.0000,9,-999.0000,9,-999.0000,9,-999.0000,1, 26.090, 30.401, 34.616, 38.740, 42.774
33RO20110828,   A10,    39,  1,     21,    021,2,20000101,0000,-29.9999,  -3.9337, 4226,    144.6,  16.8061,  35.7546,2,  35.7561,2,  35.9247,2,    231.4,2,    231.5,2,     1.76,2,     0.98,2,     0.39,2,     0.27,2,    2.414,2,    1.466,2,    2.049,2,   2085.2,2,   -999.0,5,   -999.0,9,  -999.00,   7.9013,2,    25.51,    1.424,2,   -999.0,1,   -999.0,1, -999.000,9,-999.0000,9,-999.0000,9,-999.0000,9,-999.0000,1, 26.147, 30.466, 34.690, 38.822, 42.864
33RO20110828,   A10,    39,  1,     20,    020,2,20000101,0000,-29.9999,  -3.9337, 4226,    195.8,  16.6754,  35.7751,2,  35.7754,2,  35.9441,2,    231.3,2,    231.9,2,     1.56,2,     0.98,2,     0.34,2,     0.26,2,    2.420,2,    1.475,2,    1.932,2,   2086.5,2,   2347.6,2,   -999.0,9,  -999.00,   7.9146,2,    25.49,    1.484,2,   -999.0,1,   -999.0,1, -999.000,9,-999.0000,9,-999.0000,9,-999.0000,9,-999.0000,9, 26.194, 30.516, 34.742, 38.876, 42.921
33RO20110828,   A10,    39,  1,     19,    019,2,20000101,0000,-29.9999,  -3.9337, 4226,    260.2,  15.1289,  35.4589,2,  35.4526,2,  35.6197,2,    217.9,2,    220.9,2,     2.54,2,     4.58,2,     0.02,2,     0.48,2,    2.618,2,    1.576,2,    0.924,2,   2097.8,2,   2326.6,2,   -999.0,9,  -999.00,   7.8632,2,    25.49,    1.467,2,   -999.0,1,   -999.0,1, -999.000,9,-999.0000,9,-999.0000,9,-999.0000,9,-999.0000,9, 26.301, 30.653, 34.908, 39.069, 43.140
33RO20110828,   A10,    39,  1,     18,    018,2,20000101,0000,-29.9999,  -3.9337, 4226,    344.5,  12.8425,  35.1311,2,  35.1314,2,  35.2971,2,    214.2,2,    211.7,2,     4.00,2,    10.34,2,     0.01,2,     0.85,2,    2.961,2,    1.710,2,    0.822,2,   2118.7,2,   2310.3,2,   -999.0,9,  -999.00,   7.8016,2,    25.47,    1.326,2,   -999.0,1,   -999.0,1, -999.000,9,-999.0000,9,-999.0000,9,-999.0000,9,-999.0000,9, 26.536, 30.932, 35.232, 39.436, 43.548
33RO20110828,   A10,    39,  1,     17,    017,2,20000101,0000,-29.9999,  -3.9337, 4226,    480.6,  10.6323,  34.8707,2,  34.8720,2,  35.0364,2,    208.5,2,    209.6,2,     6.15,2,    15.61,2,     0.01,2,     1.20,2,    3.112,2,    1.748,2,    1.183,2,   2134.6,2,   2298.5,2,   -999.0,9,  -999.00,   7.7450,2,    25.61,    1.160,2,   -999.0,1,   -999.0,1, -999.000,9,-999.0000,9,-999.0000,9,-999.0000,9,-999.0000,9, 26.752, 31.196, 35.541, 39.789, 43.944
33RO20110828,   A10,    39,  1,     16,    016,2,20000101,0000,-29.9999,  -3.9337, 4226,    609.6,   8.1070,  34.5810,2,  34.5811,2,  34.7441,2,    199.5,2,    198.1,2,    12.40,2,    22.94,2,     0.01,2,     1.73,2,    3.023,2,    1.622,2,    1.721,2,   2161.2,2,   2288.5,2,   -999.0,9,  -999.00,   7.6535,2,    25.63,    0.946,2,   -999.0,1,   -999.0,1, -999.000,9,-999.0000,9,-999.0000,9,-999.0000,9,-999.0000,9, 26.938, 31.440, 35.840, 40.143, 44.350
33RO20110828,   A10,    39,  1,     15,    015,2,20000101,0000,-29.9999,  -3.9337, 4226,    758.8,   5.6045,  34.3567,2,  34.3565,2,  34.5185,2,    211.6,2,    213.3,2,    19.04,2,    27.73,2,     0.00,2,     2.05,2,    3.013,2,    1.557,2,    2.548,2,   2173.2,2,   2284.4,2,   -999.0,9,  -999.00,   7.6329,2,    25.61,    0.804,2,   -999.0,1,   -999.0,1, -999.000,9,-999.0000,9,-999.0000,9,-999.0000,9,-999.0000,9, 27.101, 31.664, 36.125, 40.485, 44.748
33RO20110828,   A10,    39,  1,     14,    014,2,20000101,0000,-29.9999,  -3.9337, 4226,    910.3,   4.3077,  34.3310,2,  34.3308,2,  34.4927,2,    209.0,2,    208.3,2,    30.17,2,    30.66,2,     0.00,2,     2.28,2,    2.354,2,    1.171,2,    2.468,2,   2191.7,2,   2293.6,2,   -999.0,9,  -999.00,   7.5915,2,    25.59,    0.516,2,   -999.0,1,   -999.0,1, -999.000,9,-999.0000,9,-999.0000,9,-999.0000,9,-999.0000,9, 27.229, 31.825, 36.318, 40.710, 45.003
33RO20110828,   A10,    39,  1,     13,    013,2,20000101,0000,-29.9999,  -3.9337, 4226,   1059.4,   3.6771,  34.3860,2,  34.3943,2,  34.5565,2,    194.5,2,    194.5,2,    41.98,2,    32.41,2,     0.00,2,     2.42,2,    1.523,2,    0.741,2,    1.812,2,   2212.9,2,   2304.4,2,   -999.0,9,  -999.00,   7.5706,2,    25.62,    0.282,2,   -999.0,1,   -999.0,1, -999.000,9,-999.0000,9,-999.0000,9,-999.0000,9,-999.0000,9, 27.345, 31.957, 36.466, 40.873, 45.181
33RO20110828,   A10,    39,  1,     12,    012,2,20000101,0000,-29.9999,  -3.9337, 4226,   1210.8,   3.2475,  34.4871,2,  34.4882,2,  34.6508,2,    183.7,2,    182.9,2,    52.32,2,    32.80,2,     0.00,2,     2.46,2,    0.748,2,    0.356,2,    1.000,2,   2228.1,2,   2317.2,2,   -999.0,9,  -999.00,   7.5650,2,    25.58,    0.135,2,   -999.0,1,   -999.0,1, -999.000,9,-999.0000,9,-999.0000,9,-999.0000,9,-999.0000,9, 27.462, 32.085, 36.604, 41.022, 45.339
33RO20110828,   A10,    39,  1,     11,    011,2,20000101,0000,-29.9999,  -3.9337, 4226,   1360.5,   3.0164,  34.5739,2,  34.7216,2,  34.8853,2,    184.6,2,    225.4,2,    54.66,2,    27.43,2,     0.01,2,     2.03,2,    0.043,4,    0.022,4,    0.081,4,   2215.3,2,   2335.6,2,   -999.0,9,  -999.00,   7.6840,4,    25.68,    0.038,4,   -999.0,1,   -999.0,1, -999.000,9,-999.0000,9,-999.0000,9,-999.0000,9,-999.0000,9, 27.670, 32.298, 36.822, 41.244, 45.566
33RO20110828,   A10,    39,  1,     10,    010,2,20000101,0000,-29.9999,  -3.9337, 4226,   1559.6,   2.9125,  34.6695,2,  34.6697,2,  34.8332,2,    191.4,2,    191.4,2,    55.83,2,    30.16,2,     0.01,2,     2.24,2,    0.194,2,    0.090,2,    0.351,2,   2223.8,2,   2327.0,2,   -999.0,9,  -999.00,   7.5849,2,    25.74,    0.000,2,   -999.0,1,   -999.0,1, -999.000,9,-999.0000,9,-999.0000,9,-999.0000,9,-999.0000,9, 27.640, 32.271, 36.798, 41.224, 45.549
33RO20110828,   A10,    39,  1,      9,    009,2,20000101,0000,-29.9999,  -3.9337, 4226,   1830.2,   2.7800,  34.7621,2,  34.7625,2,  34.9264,2,    205.2,2,    205.9,2,    53.97,2,    27.72,2,     0.01,2,     2.04,2,    0.071,2,    0.036,2,    0.193,2,   2215.6,2,   2329.5,2,   -999.0,9,  -999.00,   7.6200,2,    25.71,    0.000,2,   -999.0,1,   -999.0,1, -999.000,9,-999.0000,9,-999.0000,9,-999.0000,9,-999.0000,9, 27.727, 32.362, 36.893, 41.322, 45.650
33RO20110828,   A10,    39,  1,      8,    008,2,20000101,0000,-29.9999,  -3.9337, 4226,   2099.7,   2.6223,  34.8069,2,  34.8073,2,  34.9714,2,    216.6,2,    216.1,2,    53.78,2,    26.16,2,     0.00,2,     1.92,2,    0.037,2,    0.018,2,    0.101,2,   2209.7,2,   2334.2,2,   -999.0,9,  -999.00,   7.6328,2,    25.78,    0.000,2,   -999.0,1,   -999.0,1, -999.000,9,-999.0000,9,-999.0000,9,-999.0000,9,-999.0000,9, 27.779, 32.418, 36.953, 41.386, 45.719
33RO20110828,   A10,    39,  1,      7,    007,2,20000101,0000,-29.9999,  -3.9337, 4226,   2369.8,   2.5082,  34.8336,2,  34.8331,2,  34.9973,2,    225.0,2,    225.3,2,    52.99,2,    25.08,2,     0.00,2,     1.84,2,    0.018,2,    0.010,2,    0.053,2,   2205.0,2,   2334.2,2,   -999.0,9,  -999.00,   7.6509,2,    25.69,    0.000,2,   -999.0,1,   -999.0,1, -999.000,9,-999.0000,9,-999.0000,9,-999.0000,9,-999.0000,9, 27.811, 32.454, 36.993, 41.429, 45.764
33RO20110828,   A10,    39,  1,      6,    006,2,20000101,0000,-29.9999,  -3.9337, 4226,   2640.0,   2.4329,  34.8513,2,  34.8518,6,  35.0161,6,    231.5,2,    231.6,2,    51.92,2,    24.20,2,     0.00,2,     1.77,2,    0.010,2,    0.005,2,    0.044,2,   2199.9,2,   2336.8,2,   -999.0,9,  -999.00,   7.6644,2,    25.68,    0.000,2,   -999.0,1,   -999.0,1, -999.000,9,-999.0000,9,-999.0000,9,-999.0000,9,-999.0000,9, 27.834, 32.479, 37.021, 41.459, 45.797
33RO20110828,   A10,    39,  1,      5,    005,2,20000101,0000,-29.9999,  -3.9337, 4226,   2907.8,   2.3775,  34.8633,2,  34.8626,2,  35.0270,2,    235.0,2,    235.5,2,    51.63,2,    23.72,2,     0.00,2,     1.74,2,    0.004,2,    0.003,2,    0.022,2,   2199.8,2,   2338.4,2,   -999.0,9,  -999.00,   7.6856,2,    25.74,    0.000,2,   -999.0,1,   -999.0,1, -999.000,9,-999.0000,9,-999.0000,9,-999.0000,9,-999.0000,9, 27.850, 32.497, 37.041, 41.481, 45.821
33RO20110828,   A10,    39,  1,      4,    004,2,20000101,0000,-29.9999,  -3.9337, 4226,   3208.9,   2.3558,  34.8706,2,  34.8697,2,  35.0341,2,    236.4,2,    235.5,2,    51.63,2,    23.42,2,     0.00,2,     1.72,2,    0.005,2,    0.004,2,    0.020,2,   2202.0,2,   2343.0,2,   -999.0,9,  -999.00,   7.6798,2,    25.59,    0.032,3,   -999.0,1,   -999.0,1, -999.000,9,-999.0000,9,-999.0000,9,-999.0000,9,-999.0000,9, 27.859, 32.509, 37.053, 41.495, 45.836
33RO20110828,   A10,    39,  1,      3,    003,2,20000101,0000,-29.9999,  -3.9337, 4226,   3476.7,   2.3485,  34.8746,2,  34.8740,2,  35.0385,2,    235.5,2,    235.4,2,    52.21,2,    23.42,2,     0.00,2,     1.71,2,    0.003,2,    0.003,2,    0.012,2,   2208.0,2,   2342.8,2,   -999.0,9,  -999.00,   7.6869,2,    25.60,    0.000,2,   -999.0,1,   -999.0,1, -999.000,9,-999.0000,9,-999.0000,9,-999.0000,9,-999.0000,9, 27.866, 32.516, 37.061, 41.504, 45.846
33RO20110828,   A10,    39,  1,      2,    002,2,20000101,0000,-29.9999,  -3.9337, 4226,   3809.0,   2.3452,  34.8773,2,  34.8772,2,  35.0416,2,    233.2,2,    233.5,2,    53.29,2,    23.62,2,     0.00,2,     1.71,2,    0.004,2,    0.003,2,    0.026,2,   2212.9,2,   2352.1,2,   -999.0,9,  -999.00,   7.6826,2,    25.67,    0.000,2,   -999.0,1,   -999.0,1, -999.000,9,-999.0000,9,-999.0000,9,-999.0000,9,-999.0000,9, 27.871, 32.523, 37.069, 41.513, 45.856
33RO20110828,   A10,    39,  1,      1,    001,2,20000101,0000,-29.9999,  -3.9337, 4226,   4269.9,   2.2949,  34.8658,2,  34.8654,2,  35.0298,2,    229.5,2,    231.3,2,    57.87,2,    24.11,2,     0.01,2,     1.76,2,    0.007,2,    0.005,2,    0.025,2,   2215.8,6,   2355.0,2,   -999.0,9,  -999.00,   7.6884,2,    25.70,    0.000,2,   -999.0,1,   -999.0,1, -999.000,9,-999.0000,9,-999.0000,9,-999.0000,9,-999.0000,9, 27.870, 32.524, 37.074, 41.520, 45.866