BOTTLE,20130715NOAA
EXPOCODE,SECT_ID,STNNBR,CASTNO,SAMPNO,BTLNBR,BTLNBR_FLAG_W,DATE,TIME,LATITUDE,LONGITUDE,DEPTH,CTDPRS,CTDTMP,CTDSAL,CTDSAL_FLAG_W,SALNTY,SALNTY_FLAG_W,SALTREF,SALTREF_FLAG_W,CTDOXY,CTDOXY_FLAG_W,OXYGEN,OXYGEN_FLAG_W,SILCAT,SILCAT_FLAG_W,NITRAT,NITRAT_FLAG_W,NITRIT,NITRIT_FLAG_W,PHSPHT,PHSPHT_FLAG_W,CFC-11,CFC-11_FLAG_W,CFC-12,CFC-12_FLAG_W,CCL4,CCL4_FLAG_W,TCARBN,TCARBN_FLAG_W,ALKALI,ALKALI_FLAG_W,PCO2,PCO2_FLAG_W,PCO2TMP,PH_TOT,PH_TOT_FLAG_W,PH_TMP,SF6,SF6_FLAG_W,DOC,DOC_FLAG_W,TDN,TDN_FLAG_W,TRITUM,TRITUM_FLAG_W,HELIUM,HELIUM_FLAG_W,OXY_18,OXY_18_FLAG_W,BLACKC,BLACKC_FLAG_W,PIGMENTS,PIGMENTS_FLAG_W,SIGMA-THETA,SIGMA-1,SIGMA-2,SIGMA-3,SIGMA-4
,,,,,,,,,,,METERS,DBARS,ITS-90,PSS-78,,PSS-78,,G/KG,,UMOL/KG,,UMOL/KG,,UMOL/KG,,UMOL/KG,,UMOL/KG,,UMOL/KG,,PMOL/KG,,PMOL/KG,,PMOL/KG,,UMOL/KG,,UMOL/KG,,UATM@T,,DEG_C,,,DEG_C,FMOL/KG,,UMOL/KG,,UMOL/KG,,TU,,NMOL/KG,,,,,,,,,,,,
33RO20110828,   A10,    24,  1,     24,    024,2,20000101,0000,-29.3538,   2.8394, 4256,      4.1,  17.5201,  35.7399,2,  35.7350,2,  35.9035,2,    240.5,2,    244.3,2,     1.27,2,     0.00,2,     0.00,2,     0.14,2,    2.463,2,    1.479,2,    3.620,2,   2073.7,6,   2347.6,3,   -999.0,9,  -999.00,   7.9508,2,    25.41,    1.456,2,   -999.0,9,   -999.0,9, -999.000,9,-999.0000,9,-999.0000,9,-999.0000,9,-999.0000,1, 25.953, 30.260, 34.473, 38.593, 42.624
33RO20110828,   A10,    24,  1,     23,    023,2,20000101,0000,-29.3538,   2.8394, 4256,     49.0,  16.4744,  35.6569,2,  35.6578,2,  35.8259,2,    250.5,2,    248.0,2,     1.46,2,     0.29,2,     0.05,2,     0.18,2, -999.000,9, -999.000,9, -999.000,9,   2072.0,2,   2342.5,2,   -999.0,9,  -999.00,   7.9449,2,    25.35, -999.000,9,   -999.0,9,   -999.0,9, -999.000,9,-999.0000,9,-999.0000,9,-999.0000,9,-999.0000,1, 26.146, 30.471, 34.701, 38.839, 42.886
33RO20110828,   A10,    24,  1,     22,    022,2,20000101,0000,-29.3538,   2.8394, 4256,    100.3,  16.1252,  35.6218,2,  35.6169,2,  35.7849,2,    235.8,2,    234.7,2,     1.76,2,     1.85,2,     0.48,2,     0.28,2,    2.529,2,    1.511,2,    2.207,2,   2082.0,2,   2328.3,3,   -999.0,9,  -999.00,   7.9216,2,    25.37,    1.443,2,   -999.0,9,   -999.0,9, -999.000,9,-999.0000,9,-999.0000,9,-999.0000,9,-999.0000,1, 26.197, 30.529, 34.766, 38.909, 42.963
33RO20110828,   A10,    24,  1,     21,    021,2,20000101,0000,-29.3538,   2.8394, 4256,    149.9,  14.3644,  35.3142,2,  35.3177,2,  35.4843,2,    217.8,2,    216.1,2,     2.54,2,     6.54,2,     0.02,2,     0.54,2, -999.000,9, -999.000,9, -999.000,9,   2102.6,2,   2309.5,3,   -999.0,9,  -999.00,   7.8568,2,    25.35, -999.000,9,   -999.0,9,   -999.0,9, -999.000,9,-999.0000,9,-999.0000,9,-999.0000,9,-999.0000,1, 26.360, 30.726, 34.995, 39.171, 43.255
33RO20110828,   A10,    24,  1,     20,    020,2,20000101,0000,-29.3538,   2.8394, 4256,    200.0,  13.6433,  35.2087,2,  35.2091,2,  35.3751,2,    218.5,2,    219.1,2,     2.63,2,     7.51,2,     0.01,2,     0.59,2,    2.869,2,    1.677,2,    1.002,2,   -999.0,3,   2307.2,3,   -999.0,9,  -999.00,   7.8429,2,    25.38,    1.452,2,   -999.0,9,   -999.0,9, -999.000,9,-999.0000,9,-999.0000,9,-999.0000,9,-999.0000,1, 26.429, 30.810, 35.093, 39.282, 43.379
33RO20110828,   A10,    24,  1,     19,    019,2,20000101,0000,-29.3538,   2.8394, 4256,    260.9,  12.7933,  35.1119,2,  35.1123,2,  35.2779,2,    217.5,2,    214.7,2,     3.32,2,    10.15,2,     0.01,2,     0.73,2, -999.000,9, -999.000,9, -999.000,9,   2115.9,2,   2301.8,3,   -999.0,9,  -999.00,   7.8111,2,    25.30, -999.000,9,   -999.0,9,   -999.0,9, -999.000,9,-999.0000,9,-999.0000,9,-999.0000,9,-999.0000,9, 26.528, 30.926, 35.226, 39.431, 43.544
33RO20110828,   A10,    24,  1,     18,    018,2,20000101,0000,-29.3538,   2.8394, 4256,    344.7,  11.5494,  34.9853,2,  34.9867,2,  35.1517,2,    205.9,2,    207.1,2,     4.98,2,    14.05,2,     0.01,2,     0.96,2,    3.118,2,    1.738,2,    1.116,2,   -999.0,3,   2295.7,3,   -999.0,9,  -999.00,   7.7706,2,    25.27,    1.237,2,   -999.0,9,   -999.0,9, -999.000,9,-999.0000,9,-999.0000,9,-999.0000,9,-999.0000,9, 26.672, 31.096, 35.421, 39.650, 43.787
33RO20110828,   A10,    24,  1,     17,    017,2,20000101,0000,-29.3538,   2.8394, 4256,    464.4,   9.3736,  34.7175,2,  34.7145,2,  34.8782,2,    205.2,2,    208.1,2,     7.81,2,    18.94,2,     0.01,2,     1.26,2, -999.000,9, -999.000,9, -999.000,9,   2144.6,2,   2282.9,3,   -999.0,9,  -999.00,-999.0000,5,  -999.00, -999.000,9,   -999.0,9,   -999.0,9, -999.000,9,-999.0000,9,-999.0000,9,-999.0000,9,-999.0000,9, 26.843, 31.314, 35.686, 39.961, 44.141
33RO20110828,   A10,    24,  1,     16,    016,2,20000101,0000,-29.3538,   2.8394, 4256,    573.9,   7.5466,  34.5234,2,  34.5227,2,  34.6855,2,    201.8,2,    202.6,2,    12.98,2,    24.11,2,     0.00,2,     1.59,2,    3.094,2,    1.633,2,    1.951,2,   -999.0,3,   2280.0,3,   -999.0,9,  -999.00,   7.6591,2,    25.30,    0.883,2,   -999.0,9,   -999.0,9, -999.000,9,-999.0000,9,-999.0000,9,-999.0000,9,-999.0000,9, 26.974, 31.488, 35.902, 40.217, 44.436
33RO20110828,   A10,    24,  1,     15,    015,2,20000101,0000,-29.3538,   2.8394, 4256,    706.3,   5.5813,  34.3643,2,  34.3648,2,  34.5268,2,    208.3,2,    208.9,2,    19.82,2,    28.22,2,     0.01,2,     1.87,2,    2.935,2,    1.499,2,    2.569,2,   2175.6,2,   2288.8,2,   -999.0,9,  -999.00,-999.0000,5,  -999.00,    0.701,2,   -999.0,9,   -999.0,9, -999.000,9,-999.0000,9,-999.0000,9,-999.0000,9,-999.0000,9, 27.110, 31.673, 36.134, 40.495, 44.758
33RO20110828,   A10,    24,  1,     14,    014,2,20000101,0000,-29.3538,   2.8394, 4256,    858.2,   4.3758,  34.3516,2,  34.3581,2,  34.5202,2,    201.6,2,    199.8,2,    31.63,2,    31.14,2,     0.00,2,     2.10,2, -999.000,9, -999.000,9, -999.000,9,   -999.0,9,   2298.2,2,   -999.0,9,  -999.00,   7.5922,2,    25.29, -999.000,9,   -999.0,9,   -999.0,9, -999.000,9,-999.0000,9,-999.0000,9,-999.0000,9,-999.0000,9, 27.243, 31.837, 36.328, 40.718, 45.009
33RO20110828,   A10,    24,  1,     13,    013,2,20000101,0000,-29.3538,   2.8394, 4256,   1009.7,   3.7622,  34.4101,2,  34.4125,2,  34.5748,2,    186.4,2,    187.0,2,    42.86,2,    32.70,2,     0.00,2,     2.24,2,    1.305,2,    0.629,2,    1.439,2,   2213.7,2,   2308.2,2,   -999.0,9,  -999.00,   7.5234,4,    25.37,    0.237,2,   -999.0,9,   -999.0,9, -999.000,9,-999.0000,9,-999.0000,9,-999.0000,9,-999.0000,9, 27.351, 31.960, 36.467, 40.872, 45.177
33RO20110828,   A10,    24,  1,     12,    012,2,20000101,0000,-29.3538,   2.8394, 4256,   1160.9,   3.3922,  34.5100,2,  34.5112,6,  34.6740,6,    178.7,2,    177.6,2,    49.98,2,    32.90,2,     0.00,2,     2.27,2, -999.000,9, -999.000,9, -999.000,9,   2225.7,2,   2317.9,2,   -999.0,9,  -999.00,   7.5627,2,    25.37, -999.000,9,   -999.0,9,   -999.0,9, -999.000,9,-999.0000,9,-999.0000,9,-999.0000,9,-999.0000,9, 27.466, 32.085, 36.601, 41.014, 45.328
33RO20110828,   A10,    24,  1,     11,    011,2,20000101,0000,-29.3538,   2.8394, 4256,   1313.6,   3.2717,  34.6003,2,  34.6009,2,  34.7641,2,    180.9,2,    181.2,2,    50.47,2,    31.72,2,     0.00,2,     2.20,2,    0.268,2,    0.125,2,    0.417,2,   2224.3,2,   2321.0,2,   -999.0,9,  -999.00,   7.5758,2,    25.45,    0.000,2,   -999.0,9,   -999.0,9, -999.000,9,-999.0000,9,-999.0000,9,-999.0000,9,-999.0000,9, 27.550, 32.172, 36.690, 41.106, 45.423
33RO20110828,   A10,    24,  1,     10,    010,2,20000101,0000,-29.3538,   2.8394, 4256,   1509.9,   3.2178,  34.7126,2,  34.7127,2,  34.8764,2,    192.2,2,    192.4,2,    46.95,2,    29.38,2,     0.00,2,     2.02,2, -999.000,9, -999.000,9, -999.000,9,   -999.0,9,   2323.8,2,   -999.0,9,  -999.00,   7.6028,2,    25.40, -999.000,9,   -999.0,9,   -999.0,9, -999.000,9,-999.0000,9,-999.0000,9,-999.0000,9,-999.0000,9, 27.646, 32.269, 36.788, 41.205, 45.522
33RO20110828,   A10,    24,  1,      9,    009,2,20000101,0000,-29.3538,   2.8394, 4256,   1779.2,   3.1357,  34.8069,2,  34.8070,2,  34.9712,2,    209.7,2,    210.3,2,    42.26,2,    26.25,2,     0.00,2,     1.80,2,    0.028,2,    0.014,2,    0.084,2,   2201.8,2,   2323.6,2,   -999.0,9,  -999.00,   7.6405,2,    25.31,    0.000,2,   -999.0,9,   -999.0,9, -999.000,9,-999.0000,9,-999.0000,9,-999.0000,9,-999.0000,9, 27.731, 32.356, 36.877, 41.296, 45.615
33RO20110828,   A10,    24,  1,      8,    008,2,20000101,0000,-29.3538,   2.8394, 4256,   2049.5,   2.9415,  34.8328,2,  34.8349,2,  34.9991,2,    219.1,2,    218.4,2,    44.41,2,    25.47,2,     0.00,2,     1.74,2, -999.000,9, -999.000,9, -999.000,9,   -999.0,3,   2321.2,3,   -999.0,9,  -999.00,   7.6582,2,    25.41, -999.000,9,   -999.0,9,   -999.0,9, -999.000,9,-999.0000,9,-999.0000,9,-999.0000,9,-999.0000,9, 27.773, 32.403, 36.930, 41.354, 45.678
33RO20110828,   A10,    24,  1,      7,    007,2,20000101,0000,-29.3538,   2.8394, 4256,   2350.0,   2.6369,  34.8374,2,  34.8386,2,  35.0029,2,    223.9,2,    224.9,2,    49.97,2,    25.28,2,     0.00,2,     1.74,2,    0.017,2,    0.008,2,    0.060,2,   -999.0,3,   2323.1,3,   -999.0,9,  -999.00,   7.5350,4,    25.39,    0.000,2,   -999.0,9,   -999.0,9, -999.000,9,-999.0000,9,-999.0000,9,-999.0000,9,-999.0000,9, 27.804, 32.444, 36.979, 41.412, 45.744
33RO20110828,   A10,    24,  1,      6,    006,2,20000101,0000,-29.3538,   2.8394, 4256,   2650.2,   2.4623,  34.8471,2,  34.8479,2,  35.0122,2,    228.7,2,    228.4,2,    52.41,2,    24.79,2,     0.00,2,     1.73,2, -999.000,9, -999.000,9, -999.000,9,   2202.3,2,   2327.0,3,   -999.0,9,  -999.00,   7.6696,2,    25.37, -999.000,9,   -999.0,9,   -999.0,9, -999.000,9,-999.0000,9,-999.0000,9,-999.0000,9,-999.0000,9, 27.829, 32.474, 37.014, 41.452, 45.789
33RO20110828,   A10,    24,  1,      5,    005,2,20000101,0000,-29.3538,   2.8394, 4256,   2949.2,   2.3559,  34.8573,2,  34.8589,2,  35.0233,2,    230.9,2,    231.0,2,    53.48,2,    24.50,2,     0.00,2,     1.70,2,    0.009,2,    0.004,2,    0.029,2,   -999.0,9,   2344.1,2,   -999.0,9,  -999.00,   7.6782,2,    25.40,    0.000,2,   -999.0,9,   -999.0,9, -999.000,9,-999.0000,9,-999.0000,9,-999.0000,9,-999.0000,9, 27.849, 32.497, 37.041, 41.482, 45.823
33RO20110828,   A10,    24,  1,      4,    004,2,20000101,0000,-29.3538,   2.8394, 4256,   3248.8,   2.2905,  34.8622,2,  34.8632,2,  35.0276,2,    231.6,2,    231.9,2,    55.24,2,    24.30,2,     0.01,2,     1.70,2, -999.000,9, -999.000,9, -999.000,9,   -999.0,9,   2349.8,2,   -999.0,9,  -999.00,   7.6849,2,    25.34, -999.000,9,   -999.0,9,   -999.0,9, -999.000,9,-999.0000,9,-999.0000,9,-999.0000,9,-999.0000,9, 27.860, 32.511, 37.057, 41.501, 45.844
33RO20110828,   A10,    24,  1,      3,    003,2,20000101,0000,-29.3538,   2.8394, 4256,   3599.7,   2.1507,  34.8495,2,  34.8498,2,  35.0141,2,    229.5,2,    230.0,2,    61.19,2,    24.98,2,     0.01,2,     1.76,2,    0.011,2,    0.007,2,    0.025,2,   2214.9,2,   2353.8,2,   -999.0,9,  -999.00,   7.6830,2,    25.37,    0.000,2,   -999.0,9,   -999.0,9, -999.000,9,-999.0000,9,-999.0000,9,-999.0000,9,-999.0000,9, 27.863, 32.519, 37.070, 41.518, 45.866
33RO20110828,   A10,    24,  1,      2,    002,2,20000101,0000,-29.3538,   2.8394, 4256,   3900.9,   1.6593,  34.7921,2,  34.7928,2,  34.9569,2,    223.0,2,    221.9,2,    83.15,2,    27.72,2,     0.00,2,     2.02,2,    0.030,2,    0.015,2,    0.078,2,   -999.0,3,   2341.8,3,   -999.0,9,  -999.00,   7.6507,2,    25.36,    0.000,2,   -999.0,9,   -999.0,9, -999.000,9,-999.0000,9,-999.0000,9,-999.0000,9,-999.0000,9, 27.855, 32.526, 37.092, 41.554, 45.915
33RO20110828,   A10,    24,  1,      1,    001,2,20000101,0000,-29.3538,   2.8394, 4256,   4336.1,   1.1807,  34.7421,2,  34.7424,2,  34.9063,2,    217.7,2,    217.9,2,   102.87,2,    30.06,2,     0.00,2,     2.24,2,    0.061,2,    0.029,2,    0.159,2,   2250.3,6,   2359.7,3,   -999.0,9,  -999.00,   7.6498,2,    25.32,    0.000,2,   -999.0,9,   -999.0,9, -999.000,9,-999.0000,9,-999.0000,9,-999.0000,9,-999.0000,9, 27.849, 32.535, 37.116, 41.593, 45.968