BOTTLE,20130715NOAA
EXPOCODE,SECT_ID,STNNBR,CASTNO,SAMPNO,BTLNBR,BTLNBR_FLAG_W,DATE,TIME,LATITUDE,LONGITUDE,DEPTH,CTDPRS,CTDTMP,CTDSAL,CTDSAL_FLAG_W,SALNTY,SALNTY_FLAG_W,SALTREF,SALTREF_FLAG_W,CTDOXY,CTDOXY_FLAG_W,OXYGEN,OXYGEN_FLAG_W,SILCAT,SILCAT_FLAG_W,NITRAT,NITRAT_FLAG_W,NITRIT,NITRIT_FLAG_W,PHSPHT,PHSPHT_FLAG_W,CFC-11,CFC-11_FLAG_W,CFC-12,CFC-12_FLAG_W,CCL4,CCL4_FLAG_W,TCARBN,TCARBN_FLAG_W,ALKALI,ALKALI_FLAG_W,PCO2,PCO2_FLAG_W,PCO2TMP,PH_TOT,PH_TOT_FLAG_W,PH_TMP,SF6,SF6_FLAG_W,DOC,DOC_FLAG_W,TDN,TDN_FLAG_W,TRITUM,TRITUM_FLAG_W,HELIUM,HELIUM_FLAG_W,OXY_18,OXY_18_FLAG_W,BLACKC,BLACKC_FLAG_W,PIGMENTS,PIGMENTS_FLAG_W,SIGMA-THETA,SIGMA-1,SIGMA-2,SIGMA-3,SIGMA-4
,,,,,,,,,,,METERS,DBARS,ITS-90,PSS-78,,PSS-78,,G/KG,,UMOL/KG,,UMOL/KG,,UMOL/KG,,UMOL/KG,,UMOL/KG,,UMOL/KG,,PMOL/KG,,PMOL/KG,,PMOL/KG,,UMOL/KG,,UMOL/KG,,UATM@T,,DEG_C,,,DEG_C,FMOL/KG,,UMOL/KG,,UMOL/KG,,TU,,NMOL/KG,,,,,,,,,,,,
33RO20110828,   A10,    95,  1,     24,    024,2,20000101,0000,-30.0002, -38.4999, 4255,      4.7,  19.1919,  36.1848,2,  36.1845,2,  36.3551,2,    232.2,2,    231.8,2,     0.68,2,     0.00,2,     0.00,2,     0.05,2,    2.188,2,    1.341,2,    4.659,3,   2073.0,6,   2363.7,2,   -999.0,9,  -999.00,   7.9550,2,    25.59,    1.397,2,   -999.0,1,   -999.0,1, -999.000,9,-999.0000,9,-999.0000,9,-999.0000,9,-999.0000,1, 25.878, 30.155, 34.338, 38.430, 42.434
33RO20110828,   A10,    95,  1,     23,    023,2,20000101,0000,-30.0002, -38.4999, 4255,     34.2,  19.1552,  36.1883,2,  36.1879,2,  36.3585,2,    232.0,2,    232.0,2,     0.78,2,     0.00,2,     0.00,2,     0.04,2,    2.183,2,    1.338,2,    4.838,3,   2072.0,2,   2364.9,2,   -999.0,9,  -999.00,   7.9621,2,    25.57,    1.361,2,   -999.0,1,   -999.0,1, -999.000,9,-999.0000,9,-999.0000,9,-999.0000,9,-999.0000,9, 25.891, 30.169, 34.353, 38.445, 42.450
33RO20110828,   A10,    95,  1,     22,    022,2,20000101,0000,-30.0002, -38.4999, 4255,     80.7,  18.4749,  36.0836,2,  36.0831,2,  36.2532,2,    226.9,2,    227.4,2,     0.88,2,     0.00,2,     0.02,2,     0.08,2,    2.243,2,    1.368,2,    3.119,3,   2076.3,2,   2362.9,2,   -999.0,9,  -999.00,   7.9582,2,    25.55,    1.404,2,   -999.0,1,   -999.0,1, -999.000,9,-999.0000,9,-999.0000,9,-999.0000,9,-999.0000,1, 25.987, 30.276, 34.471, 38.575, 42.590
33RO20110828,   A10,    95,  1,     21,    021,2,20000101,0000,-30.0002, -38.4999, 4255,    163.8,  15.8338,  35.6231,2,  35.6231,2,  35.7911,2,    207.3,2,    207.1,2,     1.95,2,     4.78,2,     0.01,2,     0.35,2,    2.580,2,    1.536,2,    0.731,3,   2105.5,2,   2335.2,2,   -999.0,9,  -999.00,   7.8802,2,    25.57,    1.280,2,   -999.0,1,   -999.0,1, -999.000,9,-999.0000,9,-999.0000,9,-999.0000,9,-999.0000,1, 26.271, 30.608, 34.850, 38.999, 43.057
33RO20110828,   A10,    95,  1,     20,    020,2,20000101,0000,-30.0002, -38.4999, 4255,    229.3,  15.0096,  35.5310,2,  35.5314,2,  35.6989,2,    211.5,2,    211.6,2,     2.15,2,     5.95,2,     0.01,2,     0.38,2,    2.682,2,    1.581,2,    0.829,3,   2109.4,2,   2331.3,2,   -999.0,9,  -999.00,   7.8598,2,    25.74,    1.316,2,   -999.0,1,   -999.0,1, -999.000,9,-999.0000,9,-999.0000,9,-999.0000,9,-999.0000,9, 26.387, 30.740, 34.997, 39.160, 43.232
33RO20110828,   A10,    95,  1,     19,    019,2,20000101,0000,-30.0002, -38.4999, 4255,    305.0,  13.7802,  35.3628,2,  35.3628,2,  35.5296,2,    212.0,2,    212.0,2,     2.93,2,     8.49,2,     0.01,2,     0.51,2,    2.842,2,    1.643,2,    0.817,3,   2115.8,2,   2317.5,2,   -999.0,9,  -999.00,   7.8230,2,    25.66,    1.261,2,   -999.0,1,   -999.0,1, -999.000,9,-999.0000,9,-999.0000,9,-999.0000,9,-999.0000,9, 26.523, 30.900, 35.180, 39.366, 43.460
33RO20110828,   A10,    95,  1,     18,    018,2,20000101,0000,-30.0002, -38.4999, 4255,    404.5,  12.2462,  35.1287,2,  35.1259,2,  35.2915,2,    211.9,2,    211.3,2,     4.20,2,    12.00,2,     0.01,2,     0.68,2,    3.009,2,    1.694,2,    0.910,3,   2127.3,2,   2307.1,2,   -999.0,9,  -999.00,   7.7906,2,    25.79,    1.211,2,   -999.0,1,   -999.0,1, -999.000,9,-999.0000,9,-999.0000,9,-999.0000,9,-999.0000,9, 26.650, 31.059, 35.369, 39.585, 43.708
33RO20110828,   A10,    95,  1,     17,    017,2,20000101,0000,-30.0002, -38.4999, 4255,    518.4,   9.8573,  34.7922,2,  34.7879,2,  34.9519,2,    207.4,2,    206.8,2,     7.42,2,    18.15,2,     0.01,2,     0.98,2,    3.129,2,    1.682,2,    1.141,3,   2143.5,2,   2289.9,2,   -999.0,9,  -999.00,   7.7209,2,    25.70,    1.011,2,   -999.0,1,   -999.0,1, -999.000,9,-999.0000,9,-999.0000,9,-999.0000,9,-999.0000,9, 26.821, 31.282, 35.643, 39.908, 44.078
33RO20110828,   A10,    95,  1,     16,    016,2,20000101,0000,-30.0002, -38.4999, 4255,    640.4,   7.4722,  34.5141,2,  34.5161,2,  34.6789,2,    212.5,2,    213.7,2,    11.62,2,    23.33,2,     0.00,2,     1.28,2,    3.222,2,    1.679,2,    1.985,3,   2155.8,2,   2285.6,2,   -999.0,9,  -999.00,   7.6673,2,    25.73,    0.874,2,   -999.0,1,   -999.0,1, -999.000,9,-999.0000,9,-999.0000,9,-999.0000,9,-999.0000,9, 26.980, 31.497, 35.912, 40.229, 44.450
33RO20110828,   A10,    95,  1,     15,    015,2,20000101,0000,-30.0002, -38.4999, 4255,    773.8,   5.4774,  34.3272,2,  34.3300,2,  34.4919,2,    226.3,2,    226.2,2,    16.89,2,    26.95,2,     0.00,2,     1.51,2,    3.221,2,    1.639,2,    3.206,3,   2165.8,2,   2281.7,2,   -999.0,9,  -999.00,   7.6370,2,    25.71,    0.812,2,   -999.0,1,   -999.0,1, -999.000,9,-999.0000,9,-999.0000,9,-999.0000,9,-999.0000,9, 27.096, 31.662, 36.126, 40.490, 44.755
33RO20110828,   A10,    95,  1,     14,    014,2,20000101,0000,-30.0002, -38.4999, 4255,    874.4,   4.6072,  34.2932,2,  34.2943,2,  34.4560,2,    224.8,2,    225.3,2,    22.65,2,    28.90,2,     0.00,2,     1.65,2,    2.864,2,    1.432,2,    3.567,3,   2176.1,2,   2284.5,2,   -999.0,9,  -999.00,   7.6117,2,    25.65,    0.648,2,   -999.0,1,   -999.0,1, -999.000,9,-999.0000,9,-999.0000,9,-999.0000,9,-999.0000,9, 27.168, 31.756, 36.242, 40.627, 44.913
33RO20110828,   A10,    95,  1,     13,    013,2,20000101,0000,-30.0002, -38.4999, 4255,   1050.6,   3.6748,  34.3320,2,  34.3323,2,  34.4942,2,    210.7,2,    210.4,2,    36.03,2,    31.34,2,     0.00,2,     1.92,2,    1.878,2,    0.918,2,    2.799,3,   2198.1,2,   2296.3,2,   -999.0,9,  -999.00,   7.5913,2,    25.66,    0.362,2,   -999.0,1,   -999.0,1, -999.000,9,-999.0000,9,-999.0000,9,-999.0000,9,-999.0000,9, 27.295, 31.908, 36.418, 40.825, 45.134
33RO20110828,   A10,    95,  1,     12,    012,2,20000101,0000,-30.0002, -38.4999, 4255,   1224.3,   3.2683,  34.4047,2,  34.4064,2,  34.5686,2,    197.4,2,    197.4,2,    46.18,2,    32.51,2,     0.00,2,     2.07,2,    1.142,2,    0.556,2,    1.824,3,   2212.0,2,   2307.3,2,   -999.0,9,  -999.00,   7.5680,2,    25.69,    0.183,2,   -999.0,1,   -999.0,1, -999.000,9,-999.0000,9,-999.0000,9,-999.0000,9,-999.0000,9, 27.395, 32.018, 36.537, 40.955, 45.273
33RO20110828,   A10,    95,  1,     11,    011,2,20000101,0000,-30.0002, -38.4999, 4255,   1425.5,   2.9896,  34.5378,2,  34.5377,2,  34.7006,2,    188.9,2,    189.0,2,    54.86,2,    32.12,2,     0.00,2,     2.14,2,    0.457,2,    0.219,2,    0.907,3,   2228.0,6,   2313.2,2,   -999.0,9,  -999.00,   7.5698,2,    25.59,    0.087,2,   -999.0,1,   -999.0,1, -999.000,9,-999.0000,9,-999.0000,9,-999.0000,9,-999.0000,9, 27.526, 32.156, 36.683, 41.107, 45.431
33RO20110828,   A10,    95,  1,     10,    010,2,20000101,0000,-30.0002, -38.4999, 4255,   1722.1,   2.9047,  34.7004,2,  34.7024,2,  34.8660,2,    199.1,2,    199.7,2,    54.08,2,    29.19,2,     0.00,2,     1.98,2,    0.121,2,    0.060,2,    0.354,3,   2217.4,2,   2317.1,2,   -999.0,9,  -999.00,   7.6033,2,    25.63,    0.062,2,   -999.0,1,   -999.0,1, -999.000,9,-999.0000,9,-999.0000,9,-999.0000,9,-999.0000,9, 27.668, 32.299, 36.827, 41.253, 45.578
33RO20110828,   A10,    95,  1,      9,    009,2,20000101,0000,-30.0002, -38.4999, 4255,   1898.6,   3.0372,  34.7958,2,  34.7970,2,  34.9610,2,    212.2,2,    212.1,2,    47.24,2,    26.55,2,     0.00,2,     1.77,2,    0.088,2,    0.047,2,    0.290,3,   2205.0,2,   2320.2,2,   -999.0,9,  -999.00,   7.6304,2,    25.60,    0.000,2,   -999.0,1,   -999.0,1, -999.000,9,-999.0000,9,-999.0000,9,-999.0000,9,-999.0000,9, 27.733, 32.361, 36.885, 41.307, 45.628
33RO20110828,   A10,    95,  1,      8,    008,2,20000101,0000,-30.0002, -38.4999, 4255,   2100.7,   3.1341,  34.8717,2,  34.8729,2,  35.0373,2,    230.3,2,    230.9,2,    37.77,2,    23.33,2,     0.00,2,     1.52,2,    0.097,2,    0.051,2,    0.317,3,   2188.6,2,   2316.8,2,   -999.0,9,  -999.00,   7.6659,2,    25.65,    0.039,2,   -999.0,1,   -999.0,1, -999.000,9,-999.0000,9,-999.0000,9,-999.0000,9,-999.0000,9, 27.786, 32.412, 36.933, 41.352, 45.672
33RO20110828,   A10,    95,  1,      7,    007,2,20000101,0000,-30.0002, -38.4999, 4255,   2275.5,   3.1190,  34.9028,2,  34.9048,2,  35.0694,2,    240.1,2,    240.5,2,    32.89,2,    21.86,2,     0.01,2,     1.38,2,    0.106,2,    0.055,2,    0.328,3,   2180.7,2,   2315.3,2,   -999.0,9,  -999.00,   7.6841,2,    25.53,    0.000,2,   -999.0,1,   -999.0,1, -999.000,9,-999.0000,9,-999.0000,9,-999.0000,9,-999.0000,9, 27.815, 32.441, 36.963, 41.382, 45.702
33RO20110828,   A10,    95,  1,      6,    006,2,20000101,0000,-30.0002, -38.4999, 4255,   2499.6,   2.9882,  34.9076,2,  34.9091,2,  35.0737,2,    244.9,2,    244.5,2,    33.48,2,    21.57,2,     0.01,2,     1.39,2,    0.072,2,    0.038,2,    0.266,3,   2178.8,2,   2316.8,2,   -999.0,9,  -999.00,   7.6869,2,    25.55,    0.000,2,   -999.0,1,   -999.0,1, -999.000,9,-999.0000,9,-999.0000,9,-999.0000,9,-999.0000,9, 27.832, 32.462, 36.988, 41.411, 45.735
33RO20110828,   A10,    95,  1,      5,    005,2,20000101,0000,-30.0002, -38.4999, 4255,   2763.7,   2.9054,  34.9169,2,  34.9180,6,  35.0827,6,    249.2,2,    248.8,2,    32.79,2,    20.89,2,     0.01,2,     1.35,2,    0.068,2,    0.036,2,    0.254,3,   2177.4,2,   2321.1,2,   -999.0,9,  -999.00,   7.6939,2,    25.58,    0.000,2,   -999.0,1,   -999.0,1, -999.000,9,-999.0000,9,-999.0000,9,-999.0000,9,-999.0000,9, 27.848, 32.480, 37.009, 41.436, 45.762
33RO20110828,   A10,    95,  1,      4,    004,2,20000101,0000,-30.0002, -38.4999, 4255,   3102.3,   2.7649,  34.9159,2,  34.9170,2,  35.0817,2,    251.9,2,    251.8,2,    34.06,2,    20.79,2,     0.01,2,     1.35,2,    0.064,2,    0.034,2,    0.254,3,   2177.8,2,   2323.0,2,   -999.0,9,  -999.00,   7.6916,2,    25.57,    0.000,2,   -999.0,1,   -999.0,1, -999.000,9,-999.0000,9,-999.0000,9,-999.0000,9,-999.0000,9, 27.863, 32.500, 37.034, 41.464, 45.795
33RO20110828,   A10,    95,  1,      3,    003,2,20000101,0000,-30.0002, -38.4999, 4255,   3400.4,   2.5300,  34.8996,2,  34.9003,2,  35.0649,2,    251.7,2,    252.2,2,    39.82,2,    21.28,2,     0.00,2,     1.43,2,    0.052,2,    0.029,2,    0.227,3,   2182.8,2,   2326.2,2,   -999.0,9,  -999.00,   7.6971,2,    25.60,    0.000,2,   -999.0,1,   -999.0,1, -999.000,9,-999.0000,9,-999.0000,9,-999.0000,9,-999.0000,9, 27.872, 32.516, 37.057, 41.495, 45.832
33RO20110828,   A10,    95,  1,      2,    002,2,20000101,0000,-30.0002, -38.4999, 4255,   3799.6,   2.0176,  34.8484,2,  34.8496,2,  35.0139,2,    244.6,2,    244.8,2,    59.15,2,    23.81,2,     0.01,2,     1.75,2,    0.025,2,    0.014,2,    0.139,3,   2201.3,2,   2336.2,2,   -999.0,9,  -999.00,   7.6716,2,    25.51,    0.105,2,   -999.0,1,   -999.0,1, -999.000,9,-999.0000,9,-999.0000,9,-999.0000,9,-999.0000,9, 27.874, 32.534, 37.090, 41.542, 45.894
33RO20110828,   A10,    95,  1,      1,    001,2,20000101,0000,-30.0002, -38.4999, 4255,   4275.3,   1.1869,  34.7571,2,  34.7586,2,  34.9225,2,    228.9,2,    228.8,2,    95.26,2,    28.60,2,     0.01,2,     2.35,2,    0.083,2,    0.041,2,    0.200,3,   2236.8,6,   2354.0,2,   -999.0,9,  -999.00,   7.6378,2,    25.52,    0.181,2,   -999.0,1,   -999.0,1, -999.000,9,-999.0000,9,-999.0000,9,-999.0000,9,-999.0000,9, 27.861, 32.547, 37.127, 41.604, 45.978