BOTTLE,20130715NOAA
EXPOCODE,SECT_ID,STNNBR,CASTNO,SAMPNO,BTLNBR,BTLNBR_FLAG_W,DATE,TIME,LATITUDE,LONGITUDE,DEPTH,CTDPRS,CTDTMP,CTDSAL,CTDSAL_FLAG_W,SALNTY,SALNTY_FLAG_W,SALTREF,SALTREF_FLAG_W,CTDOXY,CTDOXY_FLAG_W,OXYGEN,OXYGEN_FLAG_W,SILCAT,SILCAT_FLAG_W,NITRAT,NITRAT_FLAG_W,NITRIT,NITRIT_FLAG_W,PHSPHT,PHSPHT_FLAG_W,CFC-11,CFC-11_FLAG_W,CFC-12,CFC-12_FLAG_W,CCL4,CCL4_FLAG_W,TCARBN,TCARBN_FLAG_W,ALKALI,ALKALI_FLAG_W,PCO2,PCO2_FLAG_W,PCO2TMP,PH_TOT,PH_TOT_FLAG_W,PH_TMP,SF6,SF6_FLAG_W,DOC,DOC_FLAG_W,TDN,TDN_FLAG_W,TRITUM,TRITUM_FLAG_W,HELIUM,HELIUM_FLAG_W,OXY_18,OXY_18_FLAG_W,BLACKC,BLACKC_FLAG_W,PIGMENTS,PIGMENTS_FLAG_W,SIGMA-THETA,SIGMA-1,SIGMA-2,SIGMA-3,SIGMA-4
,,,,,,,,,,,METERS,DBARS,ITS-90,PSS-78,,PSS-78,,G/KG,,UMOL/KG,,UMOL/KG,,UMOL/KG,,UMOL/KG,,UMOL/KG,,UMOL/KG,,PMOL/KG,,PMOL/KG,,PMOL/KG,,UMOL/KG,,UMOL/KG,,UATM@T,,DEG_C,,,DEG_C,FMOL/KG,,UMOL/KG,,UMOL/KG,,TU,,NMOL/KG,,,,,,,,,,,,
33RO20110828,   A10,    86,  1,     23,    023,2,20000101,0000,-30.0023, -34.3458, 1419,      3.9,  18.1103,  36.0154,2,-999.0000,5,-999.0000,5,   -999.0,9,   -999.0,9,  -999.00,5,  -999.00,5,  -999.00,5,  -999.00,5, -999.000,9, -999.000,9, -999.000,9,   -999.0,9,   -999.0,9,   -999.0,9,  -999.00,-999.0000,9,  -999.00, -999.000,9,   -999.0,9,   -999.0,9, -999.000,9,-999.0000,9,-999.0000,9,-999.0000,9,-999.0000,1, 26.023, 30.318, 34.519, 38.629, 42.649
33RO20110828,   A10,    86,  1,     22,    022,2,20000101,0000,-30.0023, -34.3458, 1419,      4.0,  18.1054,  36.0151,2,  36.0138,2,  36.1837,2,    235.8,2,    235.6,2,     0.98,2,     0.00,2,     0.00,2,     0.06,2,    2.304,2,    1.396,2,    3.941,3,   2078.3,6,   2360.1,2,   -999.0,9,  -999.00,   7.9466,2,    25.53,    1.383,2,   -999.0,9,   -999.0,9, -999.000,9,-999.0000,9,-999.0000,9,-999.0000,9,-999.0000,9, 26.023, 30.318, 34.520, 38.629, 42.650
33RO20110828,   A10,    86,  1,     24,    024,2,20000101,0000,-30.0023, -34.3458, 1419,      4.2,  18.1046,  36.0148,2,-999.0000,5,-999.0000,5,   -999.0,9,   -999.0,9,  -999.00,5,  -999.00,5,  -999.00,5,  -999.00,5, -999.000,9, -999.000,9, -999.000,9,   -999.0,9,   -999.0,9,   -999.0,9,  -999.00,-999.0000,9,  -999.00, -999.000,9,   -999.0,9,   -999.0,9, -999.000,9,-999.0000,9,-999.0000,9,-999.0000,9,-999.0000,9, 26.024, 30.319, 34.521, 38.630, 42.651
33RO20110828,   A10,    86,  1,     21,    021,2,20000101,0000,-30.0023, -34.3458, 1419,     20.8,  18.0287,  36.0039,2,  36.0054,2,  36.1751,2,    236.3,2,    236.8,2,     0.88,2,     0.00,2,     0.00,2,     0.06,2, -999.000,9, -999.000,9, -999.000,9,   -999.0,9,   -999.0,9,   -999.0,9,  -999.00,   7.9214,2,    25.60, -999.000,9,   -999.0,9,   -999.0,9, -999.000,9,-999.0000,9,-999.0000,9,-999.0000,9,-999.0000,9, 26.036, 30.333, 34.536, 38.646, 42.668
33RO20110828,   A10,    86,  1,     20,    020,2,20000101,0000,-30.0023, -34.3458, 1419,     44.9,  17.9952,  35.9982,2,  36.0077,2,  36.1775,2,    236.6,2,    236.7,2,     0.98,2,     0.00,2,     0.00,2,     0.07,2, -999.000,9, -999.000,9, -999.000,9,   -999.0,9,   -999.0,9,   -999.0,9,  -999.00,-999.0000,9,  -999.00, -999.000,9,   -999.0,9,   -999.0,9, -999.000,9,-999.0000,9,-999.0000,9,-999.0000,9,-999.0000,9, 26.047, 30.345, 34.548, 38.659, 42.682
33RO20110828,   A10,    86,  1,     19,    019,2,20000101,0000,-30.0023, -34.3458, 1419,     60.5,  17.9520,  35.9870,2,  35.9889,2,  36.1587,2,    236.6,2,    236.3,2,     0.98,2,     0.00,2,     0.00,2,     0.07,2,    2.310,2,    1.401,2,    4.434,3,   2079.4,2,   2357.8,2,   -999.0,9,  -999.00,   7.9518,2,    25.56,    1.453,2,   -999.0,9,   -999.0,9, -999.000,9,-999.0000,9,-999.0000,9,-999.0000,9,-999.0000,9, 26.044, 30.343, 34.547, 38.659, 42.682
33RO20110828,   A10,    86,  1,     18,    018,2,20000101,0000,-30.0023, -34.3458, 1419,     90.5,  17.6281,  35.9628,2,  35.9625,2,  36.1320,2,    235.4,2,    234.6,2,     0.98,2,     0.00,2,     0.02,2,     0.10,2, -999.000,9, -999.000,9, -999.000,9,   -999.0,9,   -999.0,9,   -999.0,9,  -999.00,-999.0000,9,  -999.00, -999.000,9,   -999.0,9,   -999.0,9, -999.000,9,-999.0000,9,-999.0000,9,-999.0000,9,-999.0000,1, 26.105, 30.409, 34.618, 38.736, 42.764
33RO20110828,   A10,    86,  1,     17,    017,2,20000101,0000,-30.0023, -34.3458, 1419,    117.7,  17.4533,  35.9466,2,  35.9457,2,  36.1152,2,    232.5,2,    232.1,2,     0.98,2,     0.29,2,     0.18,2,     0.11,2, -999.000,9, -999.000,9, -999.000,9,   -999.0,9,   -999.0,9,   -999.0,9,  -999.00,   7.9414,2,    25.55, -999.000,9,   -999.0,9,   -999.0,9, -999.000,9,-999.0000,9,-999.0000,9,-999.0000,9,-999.0000,9, 26.136, 30.443, 34.655, 38.776, 42.807
33RO20110828,   A10,    86,  1,     16,    016,2,20000101,0000,-30.0023, -34.3458, 1419,    156.0,  17.1591,  35.8939,2,  35.8972,2,  36.0665,2,    229.3,2,    230.2,2,     1.07,2,     0.88,2,     0.08,2,     0.15,2,    2.380,2,    1.435,2,    3.204,3,   2087.2,2,   2352.9,2,   -999.0,9,  -999.00,   7.9070,2,    25.61,    1.443,2,   -999.0,9,   -999.0,9, -999.000,9,-999.0000,9,-999.0000,9,-999.0000,9,-999.0000,1, 26.171, 30.484, 34.701, 38.827, 42.863
33RO20110828,   A10,    86,  1,     15,    015,2,20000101,0000,-30.0023, -34.3458, 1419,    219.5,  15.5226,  35.5679,2,  35.5685,2,  35.7362,2,    214.3,2,    213.7,2,     1.85,2,     4.49,2,     0.01,2,     0.37,2, -999.000,9, -999.000,9, -999.000,9,   -999.0,9,   -999.0,9,   -999.0,9,  -999.00,   7.8685,2,    25.59, -999.000,9,   -999.0,9,   -999.0,9, -999.000,9,-999.0000,9,-999.0000,9,-999.0000,9,-999.0000,9, 26.301, 30.645, 34.892, 39.046, 43.110
33RO20110828,   A10,    86,  1,     14,    014,2,20000101,0000,-30.0023, -34.3458, 1419,    260.1,  14.8168,  35.4651,2,  35.4687,2,  35.6359,2,    212.3,2,    212.8,2,     2.15,2,     6.05,2,     0.01,2,     0.45,2, -999.000,9, -999.000,9, -999.000,9,   -999.0,9,   -999.0,9,   -999.0,9,  -999.00,   7.8411,2,    25.60, -999.000,9,   -999.0,9,   -999.0,9, -999.000,9,-999.0000,9,-999.0000,9,-999.0000,9,-999.0000,9, 26.382, 30.739, 35.000, 39.167, 43.243
33RO20110828,   A10,    86,  1,     13,    013,2,20000101,0000,-30.0023, -34.3458, 1419,    311.7,  13.8238,  35.3119,2,  35.3283,2,  35.4949,2,    212.3,2,    212.6,2,     2.73,2,     7.80,2,     0.01,2,     0.55,2,    2.843,2,    1.648,2,    1.154,3,   2118.2,2,   2319.4,2,   -999.0,9,  -999.00,   7.8251,2,    25.59,    1.298,2,   -999.0,9,   -999.0,9, -999.000,9,-999.0000,9,-999.0000,9,-999.0000,9,-999.0000,9, 26.487, 30.864, 35.143, 39.329, 43.422
33RO20110828,   A10,    86,  1,     12,    012,2,20000101,0000,-30.0023, -34.3458, 1419,    360.6,  13.2093,  35.2411,2,  35.2436,2,  35.4097,2,    212.1,2,    211.8,2,     3.22,2,     9.37,2,     0.01,2,     0.61,2, -999.000,9, -999.000,9, -999.000,9,   -999.0,9,   -999.0,9,   -999.0,9,  -999.00,   7.8009,2,    25.60, -999.000,9,   -999.0,9,   -999.0,9, -999.000,9,-999.0000,9,-999.0000,9,-999.0000,9,-999.0000,9, 26.550, 30.938, 35.230, 39.427, 43.532
33RO20110828,   A10,    86,  1,     11,    011,2,20000101,0000,-30.0023, -34.3458, 1419,    388.6,  12.6848,  35.1670,2,  35.1667,2,  35.3326,2,    212.2,2,    211.4,2,     3.71,2,    10.73,2,     0.01,2,     0.71,2, -999.000,9, -999.000,9, -999.000,9,   -999.0,9,   -999.0,9,   -999.0,9,  -999.00,   7.8005,2,    25.59, -999.000,9,   -999.0,9,   -999.0,9, -999.000,9,-999.0000,9,-999.0000,9,-999.0000,9,-999.0000,9, 26.596, 30.995, 35.297, 39.504, 43.619
33RO20110828,   A10,    86,  1,     10,    010,2,20000101,0000,-30.0023, -34.3458, 1419,    465.0,  11.4314,  34.9948,2,  34.9960,2,  35.1611,2,    209.2,2,    209.6,2,     5.07,2,    13.95,2,     0.01,2,     0.88,2, -999.000,9, -999.000,9, -999.000,9,   -999.0,9,   -999.0,9,   -999.0,9,  -999.00,-999.0000,9,  -999.00, -999.000,9,   -999.0,9,   -999.0,9, -999.000,9,-999.0000,9,-999.0000,9,-999.0000,9,-999.0000,9, 26.704, 31.130, 35.458, 39.690, 43.829
33RO20110828,   A10,    86,  1,      9,    009,2,20000101,0000,-30.0023, -34.3458, 1419,    575.4,   9.5937,  34.7536,2,  34.7525,2,  34.9164,2,    204.5,2,    204.4,2,     7.90,2,    18.84,2,     0.01,2,     1.16,2,    3.148,2,    1.675,2,    1.459,3,   2147.7,2,   2292.5,2,   -999.0,9,  -999.00,   7.7036,2,    25.60,    0.955,2,   -999.0,9,   -999.0,9, -999.000,9,-999.0000,9,-999.0000,9,-999.0000,9,-999.0000,9, 26.838, 31.305, 35.673, 39.943, 44.119
33RO20110828,   A10,    86,  1,      8,    008,2,20000101,0000,-30.0023, -34.3458, 1419,    660.2,   8.1666,  34.5860,2,  34.5847,2,  34.7478,2,    205.2,2,    205.5,2,    10.35,2,    22.06,2,     0.01,2,     1.33,2, -999.000,9, -999.000,9, -999.000,9,   -999.0,9,   -999.0,9,   -999.0,9,  -999.00,-999.0000,9,  -999.00, -999.000,9,   -999.0,9,   -999.0,9, -999.000,9,-999.0000,9,-999.0000,9,-999.0000,9,-999.0000,9, 26.933, 31.433, 35.833, 40.134, 44.340
33RO20110828,   A10,    86,  1,      7,    007,2,20000101,0000,-30.0023, -34.3458, 1419,    761.3,   6.2010,  34.3994,2,  34.3974,2,  34.5596,2,    214.0,2,    213.8,2,    15.81,2,    26.36,2,     0.00,2,     1.62,2, -999.000,9, -999.000,9, -999.000,9,   -999.0,9,   -999.0,9,   -999.0,9,  -999.00,   7.6349,2,    25.59, -999.000,9,   -999.0,9,   -999.0,9, -999.000,9,-999.0000,9,-999.0000,9,-999.0000,9,-999.0000,9, 27.060, 31.608, 36.054, 40.400, 44.649
33RO20110828,   A10,    86,  1,      6,    006,2,20000101,0000,-30.0023, -34.3458, 1419,    850.5,   4.9928,  34.3256,2,  34.3323,2,  34.4942,2,    216.9,2,    217.3,2,    21.48,2,    28.51,2,     0.00,2,     1.79,2, -999.000,9, -999.000,9, -999.000,9,   -999.0,9,   -999.0,9,   -999.0,9,  -999.00,-999.0000,9,  -999.00, -999.000,9,   -999.0,9,   -999.0,9, -999.000,9,-999.0000,9,-999.0000,9,-999.0000,9,-999.0000,9, 27.155, 31.733, 36.209, 40.584, 44.861
33RO20110828,   A10,    86,  1,      5,    005,2,20000101,0000,-30.0023, -34.3458, 1419,    961.9,   4.4028,  34.3199,2,  34.3211,2,  34.4829,2,    213.6,2,    213.4,2,    27.72,2,    30.17,2,     0.00,2,     1.91,2,    2.410,2,    1.187,2,    2.587,3,   2190.2,2,   2289.2,2,   -999.0,9,  -999.00,   7.5867,2,    25.69,    0.460,2,   -999.0,9,   -999.0,9, -999.000,9,-999.0000,9,-999.0000,9,-999.0000,9,-999.0000,9, 27.212, 31.805, 36.296, 40.686, 44.977
33RO20110828,   A10,    86,  1,      4,    004,2,20000101,0000,-30.0023, -34.3458, 1419,   1068.4,   3.7186,  34.3564,2,  34.3583,2,  34.5203,2,    202.7,2,    203.1,2,    37.78,2,    31.73,2,     0.01,2,     2.09,2, -999.000,9, -999.000,9, -999.000,9,   -999.0,9,   -999.0,9,   -999.0,9,  -999.00,-999.0000,9,  -999.00, -999.000,9,   -999.0,9,   -999.0,9, -999.000,9,-999.0000,9,-999.0000,9,-999.0000,9,-999.0000,9, 27.312, 31.924, 36.432, 40.838, 45.145
33RO20110828,   A10,    86,  1,      3,    003,2,20000101,0000,-30.0023, -34.3458, 1419,   1229.3,   3.2174,  34.4578,2,  34.4595,2,  34.6219,2,    190.8,2,    190.6,2,    49.39,2,    32.31,2,     0.01,2,     2.21,2, -999.000,9, -999.000,9, -999.000,9,   -999.0,9,   -999.0,9,   -999.0,9,  -999.00,   7.5599,2,    25.56, -999.000,9,   -999.0,9,   -999.0,9, -999.000,9,-999.0000,9,-999.0000,9,-999.0000,9,-999.0000,9, 27.442, 32.066, 36.586, 41.005, 45.324
33RO20110828,   A10,    86,  1,      2,    002,2,20000101,0000,-30.0023, -34.3458, 1419,   1372.3,   3.0084,  34.5317,2,  34.5325,6,  34.6953,6,    188.3,2,    188.5,2,    53.78,2,    31.62,2,     0.01,2,     2.20,2, -999.000,9, -999.000,9, -999.000,9,   -999.0,9,   -999.0,9,   -999.0,9,  -999.00,-999.0000,9,  -999.00, -999.000,9,   -999.0,9,   -999.0,9, -999.000,9,-999.0000,9,-999.0000,9,-999.0000,9,-999.0000,9, 27.519, 32.149, 36.675, 41.098, 45.422
33RO20110828,   A10,    86,  1,      1,    001,2,20000101,0000,-30.0023, -34.3458, 1419,   1415.2,   2.9821,  34.5505,2,  34.5518,2,  34.7148,2,    188.1,2,    188.1,2,    55.05,2,    31.82,2,     0.01,2,     2.21,2,    0.418,2,    0.203,2,    0.937,3,   2228.3,2,   2318.3,2,   -999.0,9,  -999.00,   7.5720,2,    25.56,    0.061,2,   -999.0,9,   -999.0,9, -999.000,9,-999.0000,9,-999.0000,9,-999.0000,9,-999.0000,9, 27.538, 32.168, 36.695, 41.119, 45.443