BOTTLE,20130715NOAA
EXPOCODE,SECT_ID,STNNBR,CASTNO,SAMPNO,BTLNBR,BTLNBR_FLAG_W,DATE,TIME,LATITUDE,LONGITUDE,DEPTH,CTDPRS,CTDTMP,CTDSAL,CTDSAL_FLAG_W,SALNTY,SALNTY_FLAG_W,SALTREF,SALTREF_FLAG_W,CTDOXY,CTDOXY_FLAG_W,OXYGEN,OXYGEN_FLAG_W,SILCAT,SILCAT_FLAG_W,NITRAT,NITRAT_FLAG_W,NITRIT,NITRIT_FLAG_W,PHSPHT,PHSPHT_FLAG_W,CFC-11,CFC-11_FLAG_W,CFC-12,CFC-12_FLAG_W,CCL4,CCL4_FLAG_W,TCARBN,TCARBN_FLAG_W,ALKALI,ALKALI_FLAG_W,PCO2,PCO2_FLAG_W,PCO2TMP,PH_TOT,PH_TOT_FLAG_W,PH_TMP,SF6,SF6_FLAG_W,DOC,DOC_FLAG_W,TDN,TDN_FLAG_W,TRITUM,TRITUM_FLAG_W,HELIUM,HELIUM_FLAG_W,OXY_18,OXY_18_FLAG_W,BLACKC,BLACKC_FLAG_W,PIGMENTS,PIGMENTS_FLAG_W,SIGMA-THETA,SIGMA-1,SIGMA-2,SIGMA-3,SIGMA-4
,,,,,,,,,,,METERS,DBARS,ITS-90,PSS-78,,PSS-78,,G/KG,,UMOL/KG,,UMOL/KG,,UMOL/KG,,UMOL/KG,,UMOL/KG,,UMOL/KG,,PMOL/KG,,PMOL/KG,,PMOL/KG,,UMOL/KG,,UMOL/KG,,UATM@T,,DEG_C,,,DEG_C,FMOL/KG,,UMOL/KG,,UMOL/KG,,TU,,NMOL/KG,,,,,,,,,,,,
33RO20110828,   A10,    18,  1,     24,    024,2,20000101,0000,-29.7501,   6.1501, 5099,      2.3,  16.8310,  35.5857,2,  35.5857,2,  35.7535,2,    246.9,2,    250.0,2,     1.95,2,     0.10,2,     0.01,2,     0.16,2,    2.521,2,    1.501,2,    3.909,2,   2071.5,6,   2338.3,2,   -999.0,9,  -999.00,   7.9445,2,    25.38,    1.522,2,   -999.0,9,   -999.0,9, -999.000,9,-999.0000,9,-999.0000,9,-999.0000,9,-999.0000,1, 26.004, 30.324, 34.548, 38.681, 42.723
33RO20110828,   A10,    18,  1,     23,    023,2,20000101,0000,-29.7501,   6.1501, 5099,     49.4,  16.2760,  35.6167,2,  35.6021,2,  35.7700,2,    250.2,2,    245.4,2,     2.15,2,     0.88,2,     0.17,2,     0.22,2,    2.519,2,    1.506,2,    3.846,2,   2079.0,2,   -999.0,5,   -999.0,9,  -999.00,   7.9295,3,    25.39,    1.473,2,   -999.0,9,   -999.0,9, -999.000,9,-999.0000,9,-999.0000,9,-999.0000,9,-999.0000,1, 26.149, 30.478, 34.712, 38.853, 42.904
33RO20110828,   A10,    18,  1,     22,    022,2,20000101,0000,-29.7501,   6.1501, 5099,     97.8,  16.1423,  35.6457,2,  35.6446,2,  35.8126,2,    238.2,2,    237.6,2,     2.24,2,     1.37,2,     0.72,2,     0.27,2,    2.518,2,    1.497,2,    2.245,2,   -999.0,9,   2335.8,2,   -999.0,9,  -999.00,   7.9266,2,    25.42,    1.428,2,   -999.0,9,   -999.0,9, -999.000,9,-999.0000,9,-999.0000,9,-999.0000,9,-999.0000,1, 26.214, 30.546, 34.782, 38.925, 42.978
33RO20110828,   A10,    18,  1,     21,    021,2,20000101,0000,-29.7501,   6.1501, 5099,    147.4,  15.9027,  35.6052,2,  35.6055,2,  35.7734,2,    235.2,2,    238.1,2,     2.34,2,     1.66,2,     0.63,2,     0.28,2,    2.516,2,    1.511,2,    2.354,2,   2083.7,2,   2328.6,2,   -999.0,9,  -999.00,   7.9245,2,    25.46,    1.505,2,   -999.0,9,   -999.0,9, -999.000,9,-999.0000,9,-999.0000,9,-999.0000,9,-999.0000,9, 26.241, 30.577, 34.818, 38.965, 43.023
33RO20110828,   A10,    18,  1,     20,    020,2,20000101,0000,-29.7501,   6.1501, 5099,    218.7,  13.9928,  35.2667,2,  35.2617,2,  35.4280,2,    220.1,2,    218.2,2,     2.93,2,     6.93,2,     0.02,2,     0.55,2,    2.805,2,    1.642,2,    0.843,2,   -999.0,9,   2314.8,2,   -999.0,9,  -999.00,   7.8486,2,    25.40,    1.437,2,   -999.0,9,   -999.0,9, -999.000,9,-999.0000,9,-999.0000,9,-999.0000,9,-999.0000,9, 26.398, 30.771, 35.048, 39.230, 43.321
33RO20110828,   A10,    18,  1,     19,    019,2,20000101,0000,-29.7501,   6.1501, 5099,    338.5,  12.0129,  35.0453,2,  35.0426,2,  35.2078,2,    214.8,2,    215.7,2,     4.39,2,    11.90,2,     0.01,2,     0.84,2,    3.084,2,    1.742,2,    1.261,2,   2125.8,2,   -999.0,5,   -999.0,9,  -999.00,   7.7923,2,    25.45,    1.258,2,   -999.0,9,   -999.0,9, -999.000,9,-999.0000,9,-999.0000,9,-999.0000,9,-999.0000,9, 26.628, 31.042, 35.358, 39.578, 43.706
33RO20110828,   A10,    18,  1,     18,    018,2,20000101,0000,-29.7501,   6.1501, 5099,    470.6,   9.4506,  34.7242,2,  34.7247,2,  34.8884,2,    207.7,2,    208.5,2,     8.10,2,    18.74,2,     0.01,2,     1.23,2,    3.184,2,    1.723,2,    1.607,2,   -999.0,9,   2296.0,2,   -999.0,9,  -999.00,   7.7184,2,    25.46,    1.055,2,   -999.0,9,   -999.0,9, -999.000,9,-999.0000,9,-999.0000,9,-999.0000,9,-999.0000,9, 26.838, 31.308, 35.678, 39.951, 44.130
33RO20110828,   A10,    18,  1,     17,    017,2,20000101,0000,-29.7501,   6.1501, 5099,    599.4,   7.2199,  34.4927,2,  34.4832,2,  34.6458,2,    204.8,2,    204.3,2,    14.55,2,    24.80,2,     0.00,2,     1.63,2,    3.065,2,    1.601,2,    2.488,2,   2168.2,2,   2289.9,2,   -999.0,9,  -999.00,   7.6487,2,    25.44,    0.898,2,   -999.0,9,   -999.0,9, -999.000,9,-999.0000,9,-999.0000,9,-999.0000,9,-999.0000,9, 26.989, 31.512, 35.933, 40.256, 44.482
33RO20110828,   A10,    18,  1,     16,    016,2,20000101,0000,-29.7501,   6.1501, 5099,    749.2,   5.0470,  34.3280,2,  34.3269,2,  34.4887,2,    215.8,2,    216.1,2,    22.46,2,    28.70,2,     0.00,2,     1.90,2,    2.918,2,    1.479,2,    2.652,2,   -999.0,9,   2291.0,2,   -999.0,9,  -999.00,   7.6226,2,    25.42,    0.812,2,   -999.0,9,   -999.0,9, -999.000,9,-999.0000,9,-999.0000,9,-999.0000,9,-999.0000,9, 27.143, 31.720, 36.194, 40.568, 44.844
33RO20110828,   A10,    18,  1,     15,    015,2,20000101,0000,-29.7501,   6.1501, 5099,    899.7,   4.1565,  34.3496,2,  34.3495,2,  34.5114,2,    202.8,2,    203.0,2,    34.07,2,    31.05,2,     0.00,2,     2.10,2,    2.119,2,    1.047,2,    2.300,2,   2199.8,2,   2301.0,2,   -999.0,9,  -999.00,   7.5888,2,    25.48,    0.505,2,   -999.0,9,   -999.0,9, -999.000,9,-999.0000,9,-999.0000,9,-999.0000,9,-999.0000,9, 27.260, 31.859, 36.356, 40.751, 45.048
33RO20110828,   A10,    18,  1,     14,    014,2,20000101,0000,-29.7501,   6.1501, 5099,   1047.8,   3.5742,  34.4324,2,  34.4327,2,  34.5951,2,    186.4,2,    185.5,2,    47.54,2,    32.90,2,     0.00,2,     2.26,2,    1.157,2,    0.558,2,    1.408,2,   2221.8,2,   2315.3,2,   -999.0,9,  -999.00,   7.5717,2,    25.44,    0.202,2,   -999.0,9,   -999.0,9, -999.000,9,-999.0000,9,-999.0000,9,-999.0000,9,-999.0000,9, 27.385, 32.000, 36.511, 40.921, 45.230
33RO20110828,   A10,    18,  1,     13,    013,2,20000101,0000,-29.7501,   6.1501, 5099,   1298.3,   3.1520,  34.6036,2,  34.6030,2,  34.7662,2,    179.5,2,    180.0,2,    54.57,2,    31.92,2,     0.00,2,     2.21,2,    0.286,2,    0.130,2,    0.505,2,   2231.9,2,   2322.8,2,   -999.0,9,  -999.00,   7.5750,2,    25.45,    0.000,2,   -999.0,9,   -999.0,9, -999.000,9,-999.0000,9,-999.0000,9,-999.0000,9,-999.0000,9, 27.563, 32.188, 36.709, 41.128, 45.447
33RO20110828,   A10,    18,  1,     12,    012,2,20000101,0000,-29.7501,   6.1501, 5099,   1550.2,   3.2290,  34.7508,2,  34.7488,2,  34.9127,2,    197.1,2,    196.3,2,    44.70,2,    28.30,2,     0.00,2,     1.93,2,    0.057,2,    0.026,2,    0.168,2,   -999.0,9,   2320.4,2,   -999.0,9,  -999.00,   7.6236,2,    25.45,    0.000,2,   -999.0,9,   -999.0,9, -999.000,9,-999.0000,9,-999.0000,9,-999.0000,9,-999.0000,9, 27.674, 32.296, 36.815, 41.232, 45.549
33RO20110828,   A10,    18,  1,     11,    011,2,20000101,0000,-29.7501,   6.1501, 5099,   1799.5,   3.1234,  34.8150,2,  34.8157,2,  34.9799,2,    211.3,2,    211.2,2,    42.55,2,    26.16,2,     0.00,2,     1.78,2,    0.028,2,    0.014,2,    0.086,2,   2204.3,2,   2327.1,2,   -999.0,9,  -999.00,   7.6551,2,    25.46,    0.000,2,   -999.0,9,   -999.0,9, -999.000,9,-999.0000,9,-999.0000,9,-999.0000,9,-999.0000,9, 27.739, 32.364, 36.886, 41.305, 45.625
33RO20110828,   A10,    18,  1,     10,    010,2,20000101,0000,-29.7501,   6.1501, 5099,   2050.8,   2.9388,  34.8456,2,  34.8468,2,  35.0111,2,    220.2,2,    220.8,2,    43.23,2,    25.08,2,     0.00,2,     1.70,2,    0.017,2,    0.009,2,    0.071,2,   -999.0,9,   2329.2,2,   -999.0,9,  -999.00,   7.6639,2,    25.43,    0.000,2,   -999.0,9,   -999.0,9, -999.000,9,-999.0000,9,-999.0000,9,-999.0000,9,-999.0000,9, 27.783, 32.413, 36.940, 41.364, 45.688
33RO20110828,   A10,    18,  1,      9,    009,2,20000101,0000,-29.7501,   6.1501, 5099,   2349.3,   2.7437,  34.8590,2,  34.8593,2,  35.0237,2,    228.3,2,    228.4,2,    45.38,2,    24.30,2,     0.00,2,     1.66,2,    0.010,2,    0.005,2,    0.043,2,   2197.8,2,   2332.7,2,   -999.0,9,  -999.00,   7.6828,2,    25.40,    0.000,2,   -999.0,9,   -999.0,9, -999.000,9,-999.0000,9,-999.0000,9,-999.0000,9,-999.0000,9, 27.812, 32.448, 36.981, 41.411, 45.740
33RO20110828,   A10,    18,  1,      8,    008,2,20000101,0000,-29.7501,   6.1501, 5099,   2649.3,   2.5629,  34.8584,2,  34.8567,2,  35.0211,2,    230.5,2,    230.8,2,    49.29,2,    24.11,2,     0.00,2,     1.67,2,    0.008,2,    0.004,2,    0.037,2,   -999.0,9,   2332.3,2,   -999.0,9,  -999.00,   7.6785,2,    25.48,    0.000,2,   -999.0,9,   -999.0,9, -999.000,9,-999.0000,9,-999.0000,9,-999.0000,9,-999.0000,9, 27.828, 32.470, 37.007, 41.443, 45.777
33RO20110828,   A10,    18,  1,      7,    007,2,20000101,0000,-29.7501,   6.1501, 5099,   2947.9,   2.4365,  34.8560,2,  34.8568,2,  35.0212,2,    231.8,2,    232.5,2,    52.51,2,    24.30,2,     0.00,2,     1.69,2,    0.008,2,    0.004,2,    0.038,2,   -999.0,5,   2337.1,2,   -999.0,9,  -999.00,   7.6785,2,    25.43,    0.000,2,   -999.0,9,   -999.0,9, -999.000,9,-999.0000,9,-999.0000,9,-999.0000,9,-999.0000,9, 27.840, 32.487, 37.029, 41.468, 45.807
33RO20110828,   A10,    18,  1,      6,    006,2,20000101,0000,-29.7501,   6.1501, 5099,   3250.9,   2.3531,  34.8561,2,  34.8556,2,  35.0199,2,    231.4,2,    231.9,2,    55.24,2,    24.40,2,     0.00,2,     1.70,2,    0.009,2,    0.005,2,    0.043,2,   -999.0,9,   2342.0,2,   -999.0,9,  -999.00,   7.6830,2,    25.38,    0.000,2,   -999.0,9,   -999.0,9, -999.000,9,-999.0000,9,-999.0000,9,-999.0000,9,-999.0000,9, 27.849, 32.498, 37.043, 41.485, 45.827
33RO20110828,   A10,    18,  1,      5,    005,2,20000101,0000,-29.7501,   6.1501, 5099,   3599.5,   2.2302,  34.8501,2,  34.8546,2,  35.0190,2,    231.2,2,    230.1,2,    59.83,2,    24.79,2,     0.00,2,     1.74,2,    0.010,2,    0.006,2,    0.050,2,   2212.3,2,   2345.8,2,   -999.0,9,  -999.00,   7.6803,2,    25.40,    0.000,2,   -999.0,9,   -999.0,9, -999.000,9,-999.0000,9,-999.0000,9,-999.0000,9,-999.0000,9, 27.860, 32.514, 37.063, 41.510, 45.855
33RO20110828,   A10,    18,  1,      4,    004,2,20000101,0000,-29.7501,   6.1501, 5099,   4001.8,   1.8758,  34.8115,2,  34.8092,2,  34.9734,2,    225.9,2,    225.1,2,    75.44,2,    26.64,2,     0.01,2,     1.92,2,    0.019,2,    0.009,2,    0.064,2,   -999.0,9,   2350.4,2,   -999.0,9,  -999.00,   7.6607,2,    25.35,    0.000,2,   -999.0,9,   -999.0,9, -999.000,9,-999.0000,9,-999.0000,9,-999.0000,9,-999.0000,9, 27.854, 32.519, 37.079, 41.536, 45.892
33RO20110828,   A10,    18,  1,      3,    003,2,20000101,0000,-29.7501,   6.1501, 5099,   4397.2,   1.2933,  34.7522,2,  34.7523,2,  34.9161,2,    219.3,2,    219.8,2,    99.16,2,    29.57,2,     0.00,2,     2.18,2,    0.048,2,    0.022,2,    0.143,2,   2247.1,2,   2364.5,2,   -999.0,9,  -999.00,   7.6323,2,    25.29,    0.000,2,   -999.0,9,   -999.0,9, -999.000,9,-999.0000,9,-999.0000,9,-999.0000,9,-999.0000,9, 27.851, 32.534, 37.111, 41.585, 45.957
33RO20110828,   A10,    18,  1,      2,    002,2,20000101,0000,-29.7501,   6.1501, 5099,   4796.2,   1.1747,  34.7375,2,  34.7374,6,  34.9012,6,    217.6,2,    217.3,2,   105.41,2,    30.16,2,     0.00,2,     2.25,2,    0.070,2,    0.034,2,    0.183,2,   -999.0,9,   2367.3,2,   -999.0,9,  -999.00,   7.6230,2,    25.27,    0.000,2,   -999.0,9,   -999.0,9, -999.000,9,-999.0000,9,-999.0000,9,-999.0000,9,-999.0000,9, 27.849, 32.537, 37.119, 41.598, 45.974
33RO20110828,   A10,    18,  1,      1,    001,2,20000101,0000,-29.7501,   6.1501, 5099,   5209.7,   1.1953,  34.7344,2,  34.7348,2,  34.8986,2,    216.7,2,    217.0,2,   106.19,2,    30.45,2,     0.00,2,     2.27,2,    0.074,2,    0.034,2,    0.206,2,   2255.7,6,   2370.1,2,   -999.0,9,  -999.00,   7.6395,2,    25.30,    0.000,2,   -999.0,9,   -999.0,9, -999.000,9,-999.0000,9,-999.0000,9,-999.0000,9,-999.0000,9, 27.849, 32.537, 37.121, 41.600, 45.977