BOTTLE,20130715NOAA
EXPOCODE,SECT_ID,STNNBR,CASTNO,SAMPNO,BTLNBR,BTLNBR_FLAG_W,DATE,TIME,LATITUDE,LONGITUDE,DEPTH,CTDPRS,CTDTMP,CTDSAL,CTDSAL_FLAG_W,SALNTY,SALNTY_FLAG_W,SALTREF,SALTREF_FLAG_W,CTDOXY,CTDOXY_FLAG_W,OXYGEN,OXYGEN_FLAG_W,SILCAT,SILCAT_FLAG_W,NITRAT,NITRAT_FLAG_W,NITRIT,NITRIT_FLAG_W,PHSPHT,PHSPHT_FLAG_W,CFC-11,CFC-11_FLAG_W,CFC-12,CFC-12_FLAG_W,CCL4,CCL4_FLAG_W,TCARBN,TCARBN_FLAG_W,ALKALI,ALKALI_FLAG_W,PCO2,PCO2_FLAG_W,PCO2TMP,PH_TOT,PH_TOT_FLAG_W,PH_TMP,SF6,SF6_FLAG_W,DOC,DOC_FLAG_W,TDN,TDN_FLAG_W,TRITUM,TRITUM_FLAG_W,HELIUM,HELIUM_FLAG_W,OXY_18,OXY_18_FLAG_W,BLACKC,BLACKC_FLAG_W,PIGMENTS,PIGMENTS_FLAG_W,SIGMA-THETA,SIGMA-1,SIGMA-2,SIGMA-3,SIGMA-4
,,,,,,,,,,,METERS,DBARS,ITS-90,PSS-78,,PSS-78,,G/KG,,UMOL/KG,,UMOL/KG,,UMOL/KG,,UMOL/KG,,UMOL/KG,,UMOL/KG,,PMOL/KG,,PMOL/KG,,PMOL/KG,,UMOL/KG,,UMOL/KG,,UATM@T,,DEG_C,,,DEG_C,FMOL/KG,,UMOL/KG,,UMOL/KG,,TU,,NMOL/KG,,,,,,,,,,,,
33RO20110828,   A10,    26,  1,     24,    024,2,20000101,0000,-29.4002,   2.6163, 1795,      4.5,  17.8519,  35.8079,2,  35.8079,2,  35.9768,2,    241.7,2,    241.4,2,     1.66,2,     0.00,2,     0.00,2,     0.12,2,    2.417,2,    1.450,2,    3.291,2,   2084.0,6,   2353.0,2,   -999.0,9,  -999.00,   7.9533,2,    25.47,    1.485,2,   -999.0,9,   -999.0,9, -999.000,9,-999.0000,9,-999.0000,9,-999.0000,9,-999.0000,9, 25.928, 30.229, 34.435, 38.550, 42.576
33RO20110828,   A10,    26,  1,     23,    023,2,20000101,0000,-29.4002,   2.6163, 1795,      4.6,  17.8512,  35.8078,2,-999.0000,9,-999.0000,9,   -999.0,9,   -999.0,9,  -999.00,9,  -999.00,9,  -999.00,9,  -999.00,9, -999.000,9, -999.000,9, -999.000,9,   -999.0,9,   -999.0,9,   -999.0,9,  -999.00,-999.0000,9,  -999.00, -999.000,9,   -999.0,9,   -999.0,9, -999.000,9,-999.0000,9,-999.0000,9,-999.0000,9,-999.0000,1, 25.928, 30.229, 34.436, 38.550, 42.576
33RO20110828,   A10,    26,  1,     22,    022,2,20000101,0000,-29.4002,   2.6163, 1795,     34.2,  17.2055,  35.7591,2,  35.7548,2,  35.9234,2,    243.8,2,    244.7,2,     1.56,2,     0.00,2,     0.00,2,     0.12,2, -999.000,9, -999.000,9, -999.000,9,   2083.6,2,   2349.1,2,   -999.0,9,  -999.00,   7.9529,2,    25.46, -999.000,9,   -999.0,9,   -999.0,9, -999.000,9,-999.0000,9,-999.0000,9,-999.0000,9,-999.0000,9, 26.046, 30.358, 34.576, 38.701, 42.737
33RO20110828,   A10,    26,  1,     20,    020,2,20000101,0000,-29.4002,   2.6163, 1795,     78.8,  16.7911,  35.7189,2,-999.0000,9,-999.0000,9,   -999.0,9,   -999.0,9,  -999.00,9,  -999.00,9,  -999.00,9,  -999.00,9, -999.000,9, -999.000,9, -999.000,9,   -999.0,9,   -999.0,9,   -999.0,9,  -999.00,-999.0000,9,  -999.00, -999.000,9,   -999.0,9,   -999.0,9, -999.000,9,-999.0000,9,-999.0000,9,-999.0000,9,-999.0000,1, 26.119, 30.439, 34.663, 38.795, 42.838
33RO20110828,   A10,    26,  1,     21,    021,2,20000101,0000,-29.4002,   2.6163, 1795,     79.1,  16.7960,  35.7197,2,  35.7197,2,  35.8881,2,    247.3,2,    247.4,2,     1.37,2,     0.00,2,     0.01,2,     0.13,2,    2.468,2,    1.477,2,    3.069,2,   2081.1,2,   2348.8,2,   -999.0,9,  -999.00,   7.8705,4,    25.45,    1.458,2,   -999.0,9,   -999.0,9, -999.000,9,-999.0000,9,-999.0000,9,-999.0000,9,-999.0000,9, 26.118, 30.438, 34.663, 38.795, 42.837
33RO20110828,   A10,    26,  1,     18,    018,2,20000101,0000,-29.4002,   2.6163, 1795,    119.3,  16.3812,  35.6796,2,-999.0000,9,-999.0000,9,   -999.0,9,   -999.0,9,  -999.00,9,  -999.00,9,  -999.00,9,  -999.00,9, -999.000,9, -999.000,9, -999.000,9,   -999.0,9,   -999.0,9,   -999.0,9,  -999.00,-999.0000,9,  -999.00, -999.000,9,   -999.0,9,   -999.0,9, -999.000,9,-999.0000,9,-999.0000,9,-999.0000,9,-999.0000,1, 26.187, 30.514, 34.746, 38.885, 42.934
33RO20110828,   A10,    26,  1,     19,    019,2,20000101,0000,-29.4002,   2.6163, 1795,    120.3,  16.3784,  35.6788,2,  35.6838,2,  35.8521,2,    236.4,2,    235.5,2,     2.24,2,     1.07,2,     0.59,2,     0.21,2, -999.000,9, -999.000,9, -999.000,9,   2088.4,2,   2343.7,2,   -999.0,9,  -999.00,   7.9271,2,    25.43, -999.000,9,   -999.0,9,   -999.0,9, -999.000,9,-999.0000,9,-999.0000,9,-999.0000,9,-999.0000,9, 26.191, 30.518, 34.750, 38.889, 42.938
33RO20110828,   A10,    26,  1,     17,    017,2,20000101,0000,-29.4002,   2.6163, 1795,    179.0,  14.9779,  35.4208,2,  35.4415,2,  35.6086,2,    219.7,2,    220.0,2,     2.83,2,     4.98,2,     0.02,2,     0.38,2,    2.681,2,    1.576,2,    1.149,2,   2103.3,2,   2329.3,2,   -999.0,9,  -999.00,   7.9531,4,    25.46,    1.481,2,   -999.0,9,   -999.0,9, -999.000,9,-999.0000,9,-999.0000,9,-999.0000,9,-999.0000,9, 26.323, 30.677, 34.935, 39.099, 43.172
33RO20110828,   A10,    26,  1,     16,    016,2,20000101,0000,-29.4002,   2.6163, 1795,    230.0,  13.7429,  35.2211,2,  35.2255,2,  35.3916,2,    218.0,2,    217.5,2,     3.32,2,     7.51,2,     0.01,2,     0.51,2, -999.000,9, -999.000,9, -999.000,9,   -999.0,9,   -999.0,9,   -999.0,9,  -999.00,-999.0000,9,  -999.00, -999.000,9,   -999.0,9,   -999.0,9, -999.000,9,-999.0000,9,-999.0000,9,-999.0000,9,-999.0000,9, 26.422, 30.801, 35.082, 39.269, 43.365
33RO20110828,   A10,    26,  1,     15,    015,2,20000101,0000,-29.4002,   2.6163, 1795,    279.9,  12.6675,  35.0972,2,  35.0977,2,  35.2632,2,    216.4,2,    216.2,2,     4.10,2,    10.15,2,     0.01,2,     0.64,2,    3.020,2,    1.725,2,    1.028,2,   2119.7,2,   2309.4,2,   -999.0,9,  -999.00,   7.9478,4,    25.49,    1.351,2,   -999.0,9,   -999.0,9, -999.000,9,-999.0000,9,-999.0000,9,-999.0000,9,-999.0000,9, 26.543, 30.943, 35.245, 39.453, 43.568
33RO20110828,   A10,    26,  1,     14,    014,2,20000101,0000,-29.4002,   2.6163, 1795,    323.7,  11.8296,  35.0199,2,  35.0160,2,  35.1811,2,    210.9,2,    210.8,2,     5.17,2,    12.88,2,     0.01,2,     0.79,2, -999.000,9, -999.000,9, -999.000,9,   -999.0,9,   -999.0,9,   -999.0,9,  -999.00,-999.0000,9,  -999.00, -999.000,9,   -999.0,9,   -999.0,9, -999.000,9,-999.0000,9,-999.0000,9,-999.0000,9,-999.0000,9, 26.642, 31.060, 35.379, 39.603, 43.734
33RO20110828,   A10,    26,  1,     13,    013,2,20000101,0000,-29.4002,   2.6163, 1795,    391.1,  10.7775,  34.8881,2,  34.8858,2,  35.0503,2,    212.7,2,    211.6,2,     6.34,2,    15.13,2,     0.01,2,     0.91,2,    3.204,2,    1.757,2,    1.283,2,   2136.8,2,   2301.8,2,   -999.0,9,  -999.00,   7.7593,2,    25.48,    1.172,2,   -999.0,9,   -999.0,9, -999.000,9,-999.0000,9,-999.0000,9,-999.0000,9,-999.0000,9, 26.735, 31.175, 35.517, 39.762, 43.914
33RO20110828,   A10,    26,  1,     12,    012,2,20000101,0000,-29.4002,   2.6163, 1795,    454.8,   9.8024,  34.7695,2,  34.7645,2,  34.9284,2,    199.5,2,    200.2,2,     8.69,2,    18.84,2,     0.01,2,     1.10,2, -999.000,9, -999.000,9, -999.000,9,   -999.0,9,   -999.0,9,   -999.0,9,  -999.00,-999.0000,9,  -999.00, -999.000,9,   -999.0,9,   -999.0,9, -999.000,9,-999.0000,9,-999.0000,9,-999.0000,9,-999.0000,9, 26.810, 31.272, 35.635, 39.901, 44.072
33RO20110828,   A10,    26,  1,     11,    011,2,20000101,0000,-29.4002,   2.6163, 1795,    519.1,   8.5060,  34.6225,2,  34.6234,2,  34.7867,2,    202.4,2,    200.2,2,    11.32,2,    21.67,2,     0.01,2,     1.27,2,    3.135,2,    1.664,2,    1.791,2,   2160.5,2,   2293.7,2,   -999.0,9,  -999.00,   7.6801,2,    25.48,    0.979,2,   -999.0,9,   -999.0,9, -999.000,9,-999.0000,9,-999.0000,9,-999.0000,9,-999.0000,9, 26.910, 31.401, 35.793, 40.087, 44.285
33RO20110828,   A10,    26,  1,     10,    010,2,20000101,0000,-29.4002,   2.6163, 1795,    618.8,   6.9049,  34.4743,2,  34.4753,2,  34.6379,2,    194.7,2,    196.5,2,    16.60,2,    26.07,2,     0.01,2,     1.54,2, -999.000,9, -999.000,9, -999.000,9,   2176.3,2,   2289.4,2,   -999.0,9,  -999.00,   7.6329,2,    25.43, -999.000,9,   -999.0,9,   -999.0,9, -999.000,9,-999.0000,9,-999.0000,9,-999.0000,9,-999.0000,9, 27.027, 31.557, 35.985, 40.315, 44.548
33RO20110828,   A10,    26,  1,      9,    009,2,20000101,0000,-29.4002,   2.6163, 1795,    720.0,   5.7063,  34.3834,2,  34.3851,2,  34.5472,2,    201.8,2,    203.0,2,    20.70,2,    28.21,2,     0.00,2,     1.68,2,    2.810,2,    1.433,2,    2.391,2,   2183.6,2,   2293.1,2,   -999.0,9,  -999.00,   7.6145,2,    25.47,    0.700,2,   -999.0,9,   -999.0,9, -999.000,9,-999.0000,9,-999.0000,9,-999.0000,9,-999.0000,9, 27.111, 31.671, 36.129, 40.487, 44.747
33RO20110828,   A10,    26,  1,      8,    008,2,20000101,0000,-29.4002,   2.6163, 1795,    838.4,   4.6470,  34.3620,2,  34.3625,2,  34.5245,2,    194.7,2,    194.7,2,    29.87,2,    31.05,2,     0.00,2,     1.90,2, -999.000,9, -999.000,9, -999.000,9,   -999.0,9,   -999.0,9,   -999.0,9,  -999.00,-999.0000,9,  -999.00, -999.000,9,   -999.0,9,   -999.0,9, -999.000,9,-999.0000,9,-999.0000,9,-999.0000,9,-999.0000,9, 27.217, 31.804, 36.288, 40.672, 44.956
33RO20110828,   A10,    26,  1,      7,    007,2,20000101,0000,-29.4002,   2.6163, 1795,    959.5,   3.9193,  34.3958,2,  34.3949,2,  34.5571,2,    191.6,2,    190.3,2,    40.42,2,    32.41,2,     0.00,2,     2.04,2,    1.461,2,    0.713,2,    1.569,2,   2216.1,2,   2306.3,2,   -999.0,9,  -999.00,   7.5727,2,    25.43,    0.265,2,   -999.0,9,   -999.0,9, -999.000,9,-999.0000,9,-999.0000,9,-999.0000,9,-999.0000,9, 27.320, 31.926, 36.429, 40.830, 45.131
33RO20110828,   A10,    26,  1,      6,    006,2,20000101,0000,-29.4002,   2.6163, 1795,   1080.3,   3.5345,  34.4617,2,  34.4579,2,  34.6204,2,    183.8,2,    181.3,2,    48.13,2,    32.90,2,     0.00,2,     2.13,2,    0.892,2,    0.428,2,    1.143,2,   -999.0,9,   -999.0,9,   -999.0,9,  -999.00,-999.0000,9,  -999.00,    0.162,2,   -999.0,9,   -999.0,9, -999.000,9,-999.0000,9,-999.0000,9,-999.0000,9,-999.0000,9, 27.409, 32.025, 36.537, 40.947, 45.258
33RO20110828,   A10,    26,  1,      5,    005,2,20000101,0000,-29.4002,   2.6163, 1795,   1230.7,   3.2985,  34.5600,2,  34.5626,2,  34.7256,2,    179.9,2,    178.5,2,    52.13,2,    32.21,2,     0.00,2,     2.10,2,    0.391,2,    0.182,2,    0.589,2,   2231.1,2,   -999.0,5,   -999.0,9,  -999.00,   7.5700,2,    25.44,    0.061,2,   -999.0,9,   -999.0,9, -999.000,9,-999.0000,9,-999.0000,9,-999.0000,9,-999.0000,9, 27.516, 32.138, 36.655, 41.071, 45.387
33RO20110828,   A10,    26,  1,      4,    004,2,20000101,0000,-29.4002,   2.6163, 1795,   1405.1,   3.1691,  34.6548,2,  34.6545,2,  34.8179,2,    185.6,2,    185.6,2,    52.12,2,    30.55,2,     0.00,2,     2.01,2, -999.000,9, -999.000,9, -999.000,9,   -999.0,9,   -999.0,9,   -999.0,9,  -999.00,-999.0000,9,  -999.00, -999.000,9,   -999.0,9,   -999.0,9, -999.000,9,-999.0000,9,-999.0000,9,-999.0000,9,-999.0000,9, 27.603, 32.227, 36.748, 41.167, 45.485
33RO20110828,   A10,    26,  1,      3,    003,2,20000101,0000,-29.4002,   2.6163, 1795,   1579.5,   3.0927,  34.7216,2,  34.7234,2,  34.8871,2,    192.8,2,    194.7,2,    50.56,2,    28.99,2,     0.00,2,     1.90,2,    0.100,2,    0.047,2,    0.200,2,   2221.5,2,   2330.4,2,   -999.0,9,  -999.00,   7.4467,4,    25.35,    0.000,2,   -999.0,9,   -999.0,9, -999.000,9,-999.0000,9,-999.0000,9,-999.0000,9,-999.0000,9, 27.666, 32.293, 36.815, 41.235, 45.556
33RO20110828,   A10,    26,  1,      2,    002,2,20000101,0000,-29.4002,   2.6163, 1795,   1740.8,   3.0826,  34.7849,2,  34.7851,2,  34.9491,2,    207.2,2,    205.8,2,    46.16,2,    27.13,2,     0.01,2,     1.76,2, -999.000,9, -999.000,9, -999.000,9,   -999.0,9,   -999.0,9,   -999.0,9,  -999.00,-999.0000,9,  -999.00, -999.000,9,   -999.0,9,   -999.0,9, -999.000,9,-999.0000,9,-999.0000,9,-999.0000,9,-999.0000,9, 27.718, 32.344, 36.867, 41.287, 45.608
33RO20110828,   A10,    26,  1,      1,    001,2,20000101,0000,-29.4002,   2.6163, 1795,   1805.2,   3.0544,  34.8024,2,  34.8040,2,  34.9681,2,    210.9,2,    210.1,2,    45.29,2,    26.55,2,     0.01,2,     1.72,2,    0.036,2,    0.018,2,    0.094,2,   2210.0,6,   2327.3,2,   -999.0,9,  -999.00,   7.6429,2,    25.38,    0.000,2,   -999.0,9,   -999.0,9, -999.000,9,-999.0000,9,-999.0000,9,-999.0000,9,-999.0000,9, 27.736, 32.363, 36.887, 41.308, 45.629