BOTTLE,20130715NOAA
EXPOCODE,SECT_ID,STNNBR,CASTNO,SAMPNO,BTLNBR,BTLNBR_FLAG_W,DATE,TIME,LATITUDE,LONGITUDE,DEPTH,CTDPRS,CTDTMP,CTDSAL,CTDSAL_FLAG_W,SALNTY,SALNTY_FLAG_W,SALTREF,SALTREF_FLAG_W,CTDOXY,CTDOXY_FLAG_W,OXYGEN,OXYGEN_FLAG_W,SILCAT,SILCAT_FLAG_W,NITRAT,NITRAT_FLAG_W,NITRIT,NITRIT_FLAG_W,PHSPHT,PHSPHT_FLAG_W,CFC-11,CFC-11_FLAG_W,CFC-12,CFC-12_FLAG_W,CCL4,CCL4_FLAG_W,TCARBN,TCARBN_FLAG_W,ALKALI,ALKALI_FLAG_W,PCO2,PCO2_FLAG_W,PCO2TMP,PH_TOT,PH_TOT_FLAG_W,PH_TMP,SF6,SF6_FLAG_W,DOC,DOC_FLAG_W,TDN,TDN_FLAG_W,TRITUM,TRITUM_FLAG_W,HELIUM,HELIUM_FLAG_W,OXY_18,OXY_18_FLAG_W,BLACKC,BLACKC_FLAG_W,PIGMENTS,PIGMENTS_FLAG_W,SIGMA-THETA,SIGMA-1,SIGMA-2,SIGMA-3,SIGMA-4
,,,,,,,,,,,METERS,DBARS,ITS-90,PSS-78,,PSS-78,,G/KG,,UMOL/KG,,UMOL/KG,,UMOL/KG,,UMOL/KG,,UMOL/KG,,UMOL/KG,,PMOL/KG,,PMOL/KG,,PMOL/KG,,UMOL/KG,,UMOL/KG,,UATM@T,,DEG_C,,,DEG_C,FMOL/KG,,UMOL/KG,,UMOL/KG,,TU,,NMOL/KG,,,,,,,,,,,,
33RO20110828,   A10,     9,  3,     24,    024,2,20000101,0000,-29.7514,  11.3256, 4144,      3.8,  16.7558,  35.6100,2,  35.6118,2,  35.7797,2,    246.5,2,    247.0,2,     2.63,2,     0.88,2,     0.11,2,     0.21,2,    2.425,2,    1.477,2,    2.634,2,   2065.9,6,   2336.4,2,   -999.0,9,  -999.00,   7.9583,2,    25.35,    1.467,2,   -999.0,1,   -999.0,1, -999.000,9,-999.0000,9,-999.0000,9,-999.0000,9,-999.0000,1, 26.042, 30.363, 34.589, 38.722, 42.765
33RO20110828,   A10,     9,  3,     23,    023,2,20000101,0000,-29.7514,  11.3256, 4144,     42.1,  16.7391,  35.6086,2,  35.6092,2,  35.7772,2,    249.2,2,    246.5,2,     2.63,2,     0.98,2,     0.11,2,     0.22,2,    2.416,2,    1.478,2,    2.597,2,   2064.9,2,   2334.3,2,   -999.0,9,  -999.00,   7.9508,2,    25.25,    1.520,2,   -999.0,1,   -999.0,1, -999.000,9,-999.0000,9,-999.0000,9,-999.0000,9,-999.0000,1, 26.046, 30.367, 34.593, 38.726, 42.770
33RO20110828,   A10,     9,  3,     22,    022,2,20000101,0000,-29.7514,  11.3256, 4144,    140.6,  16.0832,  35.6031,2,  35.6045,2,  35.7724,2,    236.6,2,    238.5,2,     2.44,2,     1.76,2,     0.78,2,     0.32,2,    2.471,2,    1.501,2,    2.284,2,   2082.9,2,   2337.7,2,   -999.0,9,  -999.00,   7.9244,2,    25.25,    1.513,2,   -999.0,1,   -999.0,1, -999.000,9,-999.0000,9,-999.0000,9,-999.0000,9,-999.0000,9, 26.199, 30.532, 34.769, 38.914, 42.968
33RO20110828,   A10,     9,  3,     21,    021,2,20000101,0000,-29.7514,  11.3256, 4144,    191.7,  15.6291,  35.5144,2,  35.5144,2,  35.6818,2,    227.6,2,    228.2,2,     3.02,2,     4.00,2,     0.03,2,     0.43,2,    2.529,2,    1.516,2,    1.609,2,   2089.3,2,   -999.0,5,   -999.0,9,  -999.00,   7.9045,2,    25.29,    1.460,2,   -999.0,1,   -999.0,1, -999.000,9,-999.0000,9,-999.0000,9,-999.0000,9,-999.0000,9, 26.235, 30.577, 34.822, 38.975, 43.037
33RO20110828,   A10,     9,  3,     20,    020,2,20000101,0000,-29.7514,  11.3256, 4144,    258.5,  14.0518,  35.2831,2,  35.2857,2,  35.4521,2,    224.3,2,    223.4,2,     3.32,2,     6.73,2,     0.01,2,     0.61,2,    2.726,2,    1.626,2,    1.196,2,   2108.0,2,   2318.2,2,   -999.0,9,  -999.00,   7.8587,2,    25.21,    1.434,2,   -999.0,1,   -999.0,1, -999.000,9,-999.0000,9,-999.0000,9,-999.0000,9,-999.0000,9, 26.405, 30.777, 35.053, 39.234, 43.324
33RO20110828,   A10,     9,  3,     19,    019,2,20000101,0000,-29.7514,  11.3256, 4144,    343.2,  12.4395,  35.0921,2,  35.0930,2,  35.2585,2,    219.1,2,    218.5,2,     4.29,2,    11.03,2,     0.01,2,     0.87,2,    2.985,2,    1.739,2,    0.992,2,   2122.6,2,   2303.2,2,   -999.0,9,  -999.00,   7.8093,2,    25.31,    1.319,2,   -999.0,1,   -999.0,1, -999.000,9,-999.0000,9,-999.0000,9,-999.0000,9,-999.0000,9, 26.585, 30.990, 35.297, 39.509, 43.629
33RO20110828,   A10,     9,  3,     17,    017,2,20000101,0000,-29.7514,  11.3256, 4144,    480.9,   9.9687,  34.7804,2,  34.7851,2,  34.9492,2,    217.4,2,    218.3,2,     5.95,2,    16.88,2,     0.01,2,     1.24,2, -999.000,9, -999.000,9, -999.000,9,   2143.3,2,   2296.3,2,   -999.0,9,  -999.00,   7.7434,2,    25.27, -999.000,9,   -999.0,1,   -999.0,1, -999.000,9,-999.0000,9,-999.0000,9,-999.0000,9,-999.0000,9, 26.799, 31.257, 35.616, 39.879, 44.047
33RO20110828,   A10,     9,  3,     18,    018,2,20000101,0000,-29.7514,  11.3256, 4144,    481.1,   9.9517,  34.7785,2,  34.7898,2,  34.9539,2,    217.4,2,    218.2,2,     5.95,2,    16.40,2,     0.01,2,     1.24,2,    3.216,2,    1.814,2,    1.345,2,   2141.1,2,   -999.0,9,   -999.0,9,  -999.00,-999.0000,9,  -999.00,    1.290,2,   -999.0,1,   -999.0,1, -999.000,9,-999.0000,9,-999.0000,9,-999.0000,9,-999.0000,9, 26.806, 31.264, 35.624, 39.886, 44.055
33RO20110828,   A10,     9,  3,     16,    016,2,20000101,0000,-29.7514,  11.3256, 4144,    589.5,   7.8014,  34.5496,2,  34.5521,2,  34.7150,2,    207.0,2,    206.0,2,    13.28,2,    23.04,2,     0.00,2,     1.70,2,    3.034,2,    1.615,2,    1.920,2,   2165.2,2,   2290.4,2,   -999.0,9,  -999.00,   7.6716,2,    25.20,    0.896,2,   -999.0,1,   -999.0,1, -999.000,9,-999.0000,9,-999.0000,9,-999.0000,9,-999.0000,9, 26.960, 31.469, 35.877, 40.186, 44.399
33RO20110828,   A10,     9,  3,     15,    015,2,20000101,0000,-29.7514,  11.3256, 4144,    701.0,   5.6164,  34.3671,2,  34.3700,2,  34.5321,2,    206.3,2,    206.3,2,    20.50,2,    28.90,2,     0.01,2,     2.06,2,    2.845,2,    1.492,2,    2.429,2,   2185.8,2,   2287.5,2,   -999.0,9,  -999.00,   7.6198,2,    25.34,    0.780,2,   -999.0,1,   -999.0,1, -999.000,9,-999.0000,9,-999.0000,9,-999.0000,9,-999.0000,9, 27.110, 31.672, 36.132, 40.492, 44.755
33RO20110828,   A10,     9,  3,     14,    014,2,20000101,0000,-29.7514,  11.3256, 4144,    847.8,   4.7322,  34.4156,2,  34.4162,2,  34.5785,2,    162.9,2,    162.2,2,    31.63,2,    33.19,2,     0.00,2,     2.45,2,    1.203,2,    0.592,2,    1.200,2,   2220.8,2,   2295.1,2,   -999.0,9,  -999.00,   7.5401,2,    25.38,    0.243,2,   -999.0,1,   -999.0,1, -999.000,9,-999.0000,9,-999.0000,9,-999.0000,9,-999.0000,9, 27.250, 31.835, 36.316, 40.697, 44.980
33RO20110828,   A10,     9,  3,     13,    013,2,20000101,0000,-29.7514,  11.3256, 4144,   1047.9,   3.9038,  34.4474,2,  34.4496,2,  34.6120,2,    170.5,2,    170.5,2,    41.49,2,    34.17,2,     0.01,2,     2.46,2,    0.699,2,    0.334,2,    0.818,2,   2227.9,2,   2301.2,2,   -999.0,9,  -999.00,   7.5516,2,    25.33,    0.112,2,   -999.0,1,   -999.0,1, -999.000,9,-999.0000,9,-999.0000,9,-999.0000,9,-999.0000,9, 27.366, 31.972, 36.475, 40.876, 45.178
33RO20110828,   A10,     9,  3,     12,    012,2,20000101,0000,-29.7514,  11.3256, 4144,   1201.6,   3.5123,  34.5310,2,  34.5311,2,  34.6939,2,    173.0,2,    172.7,2,    47.83,2,    32.12,2,     0.01,2,     2.42,2,    0.372,2,    0.174,2,    0.490,2,   2231.7,2,   2312.2,2,   -999.0,9,  -999.00,   7.5618,2,    25.41,    0.069,2,   -999.0,1,   -999.0,1, -999.000,9,-999.0000,9,-999.0000,9,-999.0000,9,-999.0000,9, 27.471, 32.087, 36.599, 41.010, 45.320
33RO20110828,   A10,     9,  3,     11,    011,2,20000101,0000,-29.7514,  11.3256, 4144,   1374.7,   3.3279,  34.6346,2,  34.6361,6,  34.7995,6,    179.7,2,    179.6,2,    49.20,2,    30.55,2,     0.01,2,     2.29,2,    0.164,2,    0.077,2,    0.274,2,   2228.9,2,   2314.3,2,   -999.0,9,  -999.00,   7.5779,2,    25.35,    0.000,2,   -999.0,1,   -999.0,1, -999.000,9,-999.0000,9,-999.0000,9,-999.0000,9,-999.0000,9, 27.573, 32.193, 36.710, 41.125, 45.439
33RO20110828,   A10,     9,  3,     10,    010,2,20000101,0000,-29.7514,  11.3256, 4144,   1560.8,   3.2228,  34.7308,2,  34.7305,2,  34.8943,2,    191.9,2,    192.3,2,    47.34,2,    28.40,2,     0.01,2,     2.12,2,    0.067,2,    0.033,2,    0.113,2,   2220.0,2,   2321.9,2,   -999.0,9,  -999.00,   7.6043,2,    25.36,    0.000,2,   -999.0,1,   -999.0,1, -999.000,9,-999.0000,9,-999.0000,9,-999.0000,9,-999.0000,9, 27.660, 32.283, 36.802, 41.219, 45.536
33RO20110828,   A10,     9,  3,      9,    009,2,20000101,0000,-29.7514,  11.3256, 4144,   1831.2,   3.1615,  34.8180,2,  34.8198,2,  34.9840,2,    209.7,2,    210.9,2,    42.16,2,    25.86,2,     0.01,2,     1.90,2,    0.022,2,    0.012,2,    0.071,2,   2207.4,2,   2319.7,2,   -999.0,9,  -999.00,   7.6429,2,    25.36,    0.000,2,   -999.0,1,   -999.0,1, -999.000,9,-999.0000,9,-999.0000,9,-999.0000,9,-999.0000,9, 27.739, 32.363, 36.884, 41.302, 45.621
33RO20110828,   A10,     9,  3,      8,    008,2,20000101,0000,-29.7514,  11.3256, 4144,   2097.9,   2.9632,  34.8529,2,  34.8544,2,  35.0187,2,    221.5,2,    221.8,2,    42.65,2,    24.30,2,     0.01,2,     1.79,2,    0.012,2,    0.007,2,    0.022,2,   2202.2,2,   2327.4,2,   -999.0,9,  -999.00,   7.6631,2,    25.37,    0.000,2,   -999.0,1,   -999.0,1, -999.000,9,-999.0000,9,-999.0000,9,-999.0000,9,-999.0000,9, 27.787, 32.417, 36.943, 41.367, 45.690
33RO20110828,   A10,     9,  3,      7,    007,2,20000101,0000,-29.7514,  11.3256, 4144,   2397.3,   2.7987,  34.8711,2,  34.8733,2,  35.0377,2,    228.9,2,    228.7,2,    43.62,2,    23.42,2,     0.00,2,     1.73,2,    0.005,2,    0.004,2,    0.006,2,   2198.4,2,   2330.7,2,   -999.0,9,  -999.00,   7.6817,2,    25.37,    0.000,2,   -999.0,1,   -999.0,1, -999.000,9,-999.0000,9,-999.0000,9,-999.0000,9,-999.0000,9, 27.819, 32.454, 36.985, 41.413, 45.741
33RO20110828,   A10,     9,  3,      6,    006,2,20000101,0000,-29.7514,  11.3256, 4144,   2698.1,   2.6212,  34.8658,2,  34.8680,2,  35.0324,2,    231.9,2,    231.3,2,    47.53,2,    23.42,2,     0.00,2,     1.74,2,    0.005,2,    0.003,2,    0.006,2,   2201.5,2,   2333.1,2,   -999.0,9,  -999.00,   7.6794,2,    25.42,    0.000,2,   -999.0,1,   -999.0,1, -999.000,9,-999.0000,9,-999.0000,9,-999.0000,9,-999.0000,9, 27.832, 32.473, 37.009, 41.443, 45.776
33RO20110828,   A10,     9,  3,      5,    005,2,20000101,0000,-29.7514,  11.3256, 4144,   2997.4,   2.4794,  34.8614,2,  34.8629,2,  35.0273,2,    231.7,2,    231.5,2,    51.24,2,    23.62,2,     0.00,2,     1.75,2,    0.006,2,    0.004,2,    0.006,2,   2204.7,2,   2335.3,2,   -999.0,9,  -999.00,   7.6797,2,    25.37,    0.000,2,   -999.0,1,   -999.0,1, -999.000,9,-999.0000,9,-999.0000,9,-999.0000,9,-999.0000,9, 27.842, 32.487, 37.028, 41.467, 45.804
33RO20110828,   A10,     9,  3,      4,    004,2,20000101,0000,-29.7514,  11.3256, 4144,   3300.8,   2.3649,  34.8577,2,  34.8599,2,  35.0243,2,    231.7,2,    230.9,2,    55.14,2,    23.62,2,     0.00,2,     1.77,2,    0.006,2,    0.004,2,    0.013,2,   2208.4,2,   2339.9,2,   -999.0,9,  -999.00,   7.6759,2,    25.37,    0.000,2,   -999.0,1,   -999.0,1, -999.000,9,-999.0000,9,-999.0000,9,-999.0000,9,-999.0000,9, 27.852, 32.501, 37.046, 41.488, 45.829
33RO20110828,   A10,     9,  3,      3,    003,2,20000101,0000,-29.7514,  11.3256, 4144,   3600.8,   2.2580,  34.8517,2,  34.8540,2,  35.0184,2,    230.7,2,    231.5,2,    59.34,2,    24.01,2,     0.00,2,     1.79,2,    0.008,2,    0.005,2,    0.017,2,   2214.0,2,   2346.9,2,   -999.0,9,  -999.00,   7.6821,2,    25.36,    0.000,2,   -999.0,1,   -999.0,1, -999.000,9,-999.0000,9,-999.0000,9,-999.0000,9,-999.0000,9, 27.858, 32.511, 37.059, 41.505, 45.850
33RO20110828,   A10,     9,  3,      2,    002,2,20000101,0000,-29.7514,  11.3256, 4144,   3901.8,   2.0271,  34.8268,2,  34.8297,2,  34.9939,2,    226.7,2,    226.3,2,    69.78,2,    25.18,2,     0.00,2,     1.89,2,    0.011,2,    0.008,2,    0.021,2,   2222.8,2,   2351.3,2,   -999.0,9,  -999.00,   7.6637,2,    25.35,    0.000,2,   -999.0,1,   -999.0,1, -999.000,9,-999.0000,9,-999.0000,9,-999.0000,9,-999.0000,9, 27.858, 32.519, 37.075, 41.527, 45.879
33RO20110828,   A10,     9,  3,      1,    001,2,20000101,0000,-29.7514,  11.3256, 4144,   4203.5,   1.4489,  34.7687,2,  34.7717,2,  34.9356,2,    216.7,2,    217.1,2,    94.77,2,    27.91,2,     0.01,2,     2.13,2,    0.024,2,    0.014,2,    0.054,2,   2248.3,2,   2369.7,2,   -999.0,9,  -999.00,   7.6345,2,    25.40,    0.000,2,   -999.0,1,   -999.0,1, -999.000,9,-999.0000,9,-999.0000,9,-999.0000,9,-999.0000,9, 27.855, 32.532, 37.105, 41.574, 45.942