BOTTLE,20130715NOAA
EXPOCODE,SECT_ID,STNNBR,CASTNO,SAMPNO,BTLNBR,BTLNBR_FLAG_W,DATE,TIME,LATITUDE,LONGITUDE,DEPTH,CTDPRS,CTDTMP,CTDSAL,CTDSAL_FLAG_W,SALNTY,SALNTY_FLAG_W,SALTREF,SALTREF_FLAG_W,CTDOXY,CTDOXY_FLAG_W,OXYGEN,OXYGEN_FLAG_W,SILCAT,SILCAT_FLAG_W,NITRAT,NITRAT_FLAG_W,NITRIT,NITRIT_FLAG_W,PHSPHT,PHSPHT_FLAG_W,CFC-11,CFC-11_FLAG_W,CFC-12,CFC-12_FLAG_W,CCL4,CCL4_FLAG_W,TCARBN,TCARBN_FLAG_W,ALKALI,ALKALI_FLAG_W,PCO2,PCO2_FLAG_W,PCO2TMP,PH_TOT,PH_TOT_FLAG_W,PH_TMP,SF6,SF6_FLAG_W,DOC,DOC_FLAG_W,TDN,TDN_FLAG_W,TRITUM,TRITUM_FLAG_W,HELIUM,HELIUM_FLAG_W,OXY_18,OXY_18_FLAG_W,BLACKC,BLACKC_FLAG_W,PIGMENTS,PIGMENTS_FLAG_W,SIGMA-THETA,SIGMA-1,SIGMA-2,SIGMA-3,SIGMA-4
,,,,,,,,,,,METERS,DBARS,ITS-90,PSS-78,,PSS-78,,G/KG,,UMOL/KG,,UMOL/KG,,UMOL/KG,,UMOL/KG,,UMOL/KG,,UMOL/KG,,PMOL/KG,,PMOL/KG,,PMOL/KG,,UMOL/KG,,UMOL/KG,,UATM@T,,DEG_C,,,DEG_C,FMOL/KG,,UMOL/KG,,UMOL/KG,,TU,,NMOL/KG,,,,,,,,,,,,
33RO20110828,   A10,    12,  1,     24,    024,2,20000101,0000,-29.7497,   9.5999, -999,      2.6,  16.5572,  35.5936,2,  35.5939,2,  35.7618,2,    249.3,2,    250.5,2,     2.44,2,     0.29,2,     0.05,2,     0.19,2,    2.498,2,    1.494,2,    3.310,2,   2060.5,6,   2335.2,2,   -999.0,9,  -999.00,   7.9534,2,    25.29,    1.496,2,   -999.0,9,   -999.0,9, -999.000,9,-999.0000,9,-999.0000,9,-999.0000,9,-999.0000,1, 26.075, 30.400, 34.629, 38.765, 42.812
33RO20110828,   A10,    12,  1,     23,    023,2,20000101,0000,-29.7497,   9.5999, -999,     48.6,  16.0692,  35.5943,2,  35.5967,2,  35.7646,2,    243.7,2,    243.3,2,     2.44,2,     1.17,2,     0.28,2,     0.28,2, -999.000,9, -999.000,9, -999.000,9,   -999.0,9,   2337.4,2,   -999.0,9,  -999.00,   7.9268,2,    25.33, -999.000,9,   -999.0,9,   -999.0,9, -999.000,9,-999.0000,9,-999.0000,9,-999.0000,9,-999.0000,1, 26.193, 30.526, 34.763, 38.908, 42.962
33RO20110828,   A10,    12,  1,     22,    022,2,20000101,0000,-29.7497,   9.5999, -999,     97.3,  15.9877,  35.6293,2,  35.6281,2,  35.7961,2,    241.2,2,    241.5,2,     2.44,2,     1.27,2,     0.44,2,     0.30,2,    2.526,2,    1.508,2,    2.774,2,   2080.0,2,   2337.5,2,   -999.0,9,  -999.00,   7.9318,2,    25.26,    1.492,2,   -999.0,9,   -999.0,9, -999.000,9,-999.0000,9,-999.0000,9,-999.0000,9,-999.0000,1, 26.237, 30.572, 34.810, 38.956, 43.012
33RO20110828,   A10,    12,  1,     21,    021,2,20000101,0000,-29.7497,   9.5999, -999,    150.0,  15.6659,  35.5715,2,  35.5713,2,  35.7390,2,    237.5,2,    238.7,2,     2.54,2,     2.05,2,     0.57,2,     0.35,2, -999.000,9, -999.000,9, -999.000,9,   -999.0,9,   2334.1,2,   -999.0,9,  -999.00,   7.9226,2,    25.31, -999.000,9,   -999.0,9,   -999.0,9, -999.000,9,-999.0000,9,-999.0000,9,-999.0000,9,-999.0000,1, 26.269, 30.609, 34.854, 39.006, 43.067
33RO20110828,   A10,    12,  1,     20,    020,2,20000101,0000,-29.7497,   9.5999, -999,    190.2,  15.3850,  35.5164,2,  35.5174,2,  35.6849,2,    234.5,2,    232.2,2,     2.63,2,     3.32,2,     0.20,2,     0.41,2,    2.586,2,    1.543,2,    2.081,2,   2089.1,2,   2331.4,2,   -999.0,9,  -999.00,   7.9088,2,    25.33,    1.501,2,   -999.0,9,   -999.0,9, -999.000,9,-999.0000,9,-999.0000,9,-999.0000,9,-999.0000,1, 26.292, 30.638, 34.888, 39.045, 43.111
33RO20110828,   A10,    12,  1,     19,    019,2,20000101,0000,-29.7497,   9.5999, -999,    273.9,  13.2833,  35.1820,2,  35.1835,2,  35.3494,2,    219.3,2,    217.5,2,     3.90,2,     8.68,2,     0.01,2,     0.76,2, -999.000,9, -999.000,9, -999.000,9,   -999.0,9,   2313.6,2,   -999.0,9,  -999.00,   7.8259,2,    25.30, -999.000,9,   -999.0,9,   -999.0,9, -999.000,9,-999.0000,9,-999.0000,9,-999.0000,9,-999.0000,9, 26.486, 30.873, 35.163, 39.359, 43.463
33RO20110828,   A10,    12,  1,     18,    018,2,20000101,0000,-29.7497,   9.5999, -999,    349.2,  11.8880,  35.0230,2,  35.0246,2,  35.1898,2,    216.9,2,    216.7,2,     4.68,2,    12.10,2,     0.01,2,     0.97,2,    3.107,2,    1.755,2,    1.190,2,   2126.5,2,   2296.7,2,   -999.0,9,  -999.00,   7.7892,2,    25.27,    1.280,2,   -999.0,9,   -999.0,9, -999.000,9,-999.0000,9,-999.0000,9,-999.0000,9,-999.0000,9, 26.638, 31.055, 35.373, 39.596, 43.726
33RO20110828,   A10,    12,  1,     17,    017,2,20000101,0000,-29.7497,   9.5999, -999,    459.8,   9.8803,  34.7753,2,  34.7758,2,  34.9398,2,    203.1,2,    205.6,2,     8.59,2,    17.76,2,     0.00,2,     1.36,2, -999.000,9, -999.000,9, -999.000,9,   -999.0,9,   2297.1,2,   -999.0,9,  -999.00,   7.7241,2,    25.20, -999.000,9,   -999.0,9,   -999.0,9, -999.000,9,-999.0000,9,-999.0000,9,-999.0000,9,-999.0000,9, 26.806, 31.267, 35.627, 39.892, 44.061
33RO20110828,   A10,    12,  1,     16,    016,2,20000101,0000,-29.7497,   9.5999, -999,    557.1,   7.8920,  34.5501,2,  34.5498,2,  34.7128,2,    209.9,2,    209.6,2,    11.81,2,    22.55,2,     0.01,2,     1.66,2, -999.000,5, -999.000,5, -999.000,5,   2158.0,2,   2289.7,2,   -999.0,9,  -999.00,   7.6791,2,    25.31, -999.000,5,   -999.0,9,   -999.0,9, -999.000,9,-999.0000,9,-999.0000,9,-999.0000,9,-999.0000,9, 26.945, 31.451, 35.857, 40.164, 44.376
33RO20110828,   A10,    12,  1,     15,    015,2,20000101,0000,-29.7497,   9.5999, -999,    653.6,   5.9342,  34.3650,2,  34.3671,2,  34.5291,2,    217.2,2,    217.9,2,    16.69,2,    26.56,2,     0.01,2,     1.94,2, -999.000,9, -999.000,9, -999.000,9,   -999.0,9,   2284.6,2,   -999.0,9,  -999.00,   7.6403,2,    25.31, -999.000,9,   -999.0,9,   -999.0,9, -999.000,9,-999.0000,9,-999.0000,9,-999.0000,9,-999.0000,9, 27.068, 31.622, 36.075, 40.427, 44.683
33RO20110828,   A10,    12,  1,     14,    014,2,20000101,0000,-29.7497,   9.5999, -999,    780.2,   4.7344,  34.3332,2,  34.3337,2,  34.4956,2,    212.6,2,    211.3,2,    26.75,2,    29.58,2,     0.00,2,     2.18,2,    2.639,2,    1.322,2,    2.549,2,   2187.5,2,   2290.7,2,   -999.0,9,  -999.00,   7.6085,2,    25.28,    0.621,2,   -999.0,9,   -999.0,9, -999.000,9,-999.0000,9,-999.0000,9,-999.0000,9,-999.0000,9, 27.184, 31.769, 36.251, 40.632, 44.915
33RO20110828,   A10,    12,  1,     13,    013,2,20000101,0000,-29.7497,   9.5999, -999,    930.1,   3.9806,  34.3711,2,  34.3713,6,  34.5333,6,    196.1,2,    197.1,2,    38.76,2,    31.63,2,     0.00,2,     2.33,2, -999.000,9, -999.000,9, -999.000,9,   -999.0,9,   2301.7,2,   -999.0,9,  -999.00,   7.5871,2,    25.29, -999.000,9,   -999.0,9,   -999.0,9, -999.000,9,-999.0000,9,-999.0000,9,-999.0000,9,-999.0000,9, 27.295, 31.899, 36.400, 40.800, 45.100
33RO20110828,   A10,    12,  1,     12,    012,2,20000101,0000,-29.7497,   9.5999, -999,   1112.0,   3.3492,  34.4732,2,  34.4743,2,  34.6368,2,    180.5,2,    180.6,2,    52.91,2,    33.19,2,     0.00,2,     2.44,2,    0.848,2,    0.397,2,    0.950,2,   2228.0,2,   2317.4,2,   -999.0,9,  -999.00,   7.5594,2,    25.34,    0.161,2,   -999.0,9,   -999.0,9, -999.000,9,-999.0000,9,-999.0000,9,-999.0000,9,-999.0000,9, 27.440, 32.061, 36.577, 40.992, 45.307
33RO20110828,   A10,    12,  1,     11,    011,2,20000101,0000,-29.7497,   9.5999, -999,   1358.8,   3.0646,  34.6396,2,  34.6414,2,  34.8048,2,    182.1,2,    182.6,2,    56.32,2,    31.33,2,     0.00,2,     2.30,2, -999.000,5, -999.000,5, -999.000,5,   2230.9,2,   2324.8,2,   -999.0,9,  -999.00,   7.5827,2,    25.40, -999.000,5,   -999.0,9,   -999.0,9, -999.000,9,-999.0000,9,-999.0000,9,-999.0000,9,-999.0000,9, 27.602, 32.229, 36.752, 41.174, 45.495
33RO20110828,   A10,    12,  1,     10,    010,2,20000101,0000,-29.7497,   9.5999, -999,   1631.7,   3.0515,  34.7682,2,  34.7694,2,  34.9333,2,    201.4,2,    200.7,2,    48.51,2,    27.72,2,     0.00,2,     2.03,2, -999.000,9, -999.000,9, -999.000,9,   -999.0,9,   2326.6,2,   -999.0,9,  -999.00,   7.6227,2,    25.37, -999.000,9,   -999.0,9,   -999.0,9, -999.000,9,-999.0000,9,-999.0000,9,-999.0000,9,-999.0000,9, 27.707, 32.334, 36.858, 41.279, 45.600
33RO20110828,   A10,    12,  1,      9,    009,2,20000101,0000,-29.7497,   9.5999, -999,   1908.0,   2.9827,  34.8390,2,  34.8402,2,  35.0045,2,    219.1,2,    218.9,2,    43.43,2,    25.28,2,     0.00,2,     1.83,2, -999.000,9, -999.000,9, -999.000,9,   -999.0,9,   2327.1,2,   -999.0,9,  -999.00,   7.6634,2,    25.37, -999.000,9,   -999.0,9,   -999.0,9, -999.000,9,-999.0000,9,-999.0000,9,-999.0000,9,-999.0000,9, 27.772, 32.401, 36.926, 41.349, 45.672
33RO20110828,   A10,    12,  1,      8,    008,2,20000101,0000,-29.7497,   9.5999, -999,   2258.7,   2.7944,  34.8660,2,  34.8667,2,  35.0311,2,    228.7,2,    227.4,2,    44.01,2,    24.20,2,     0.00,2,     1.74,2,    0.008,2,    0.004,2,    0.040,2,   -999.0,9,   2328.4,2,   -999.0,9,  -999.00,   7.6738,2,    25.37,    0.000,2,   -999.0,9,   -999.0,9, -999.000,9,-999.0000,9,-999.0000,9,-999.0000,9,-999.0000,9, 27.813, 32.448, 36.978, 41.407, 45.735
33RO20110828,   A10,    12,  1,      7,    007,2,20000101,0000,-29.7497,   9.5999, -999,   2598.4,   2.5398,  34.8581,2,  34.8593,2,  35.0236,2,    230.1,2,    230.7,2,    49.97,2,    24.30,2,     0.00,2,     1.76,2,    0.008,2,    0.003,2,    0.039,2,   2200.5,2,   2336.4,2,   -999.0,9,  -999.00,   7.6793,2,    25.39,    0.000,2,   -999.0,9,   -999.0,9, -999.000,9,-999.0000,9,-999.0000,9,-999.0000,9,-999.0000,9, 27.831, 32.474, 37.012, 41.448, 45.783
33RO20110828,   A10,    12,  1,      6,    006,2,20000101,0000,-29.7497,   9.5999, -999,   2796.6,   2.4581,  34.8605,2,  34.8612,2,  35.0256,2,    230.7,2,    231.6,2,    51.53,2,    24.30,2,     0.00,2,     1.75,2,    0.008,2,    0.004,2,    0.033,2,   -999.0,9,   2344.0,2,   -999.0,9,  -999.00,   7.6785,2,    25.37,    0.000,2,   -999.0,9,   -999.0,9, -999.000,9,-999.0000,9,-999.0000,9,-999.0000,9,-999.0000,9, 27.841, 32.486, 37.027, 41.465, 45.803
33RO20110828,   A10,    12,  1,      5,    005,2,20000101,0000,-29.7497,   9.5999, -999,   3299.9,   2.2976,  34.8571,2,  34.8579,2,  35.0223,2,    229.7,2,    230.9,2,    56.60,2,    24.59,2,     0.00,2,     1.76,2,    0.007,2,    0.003,2,    0.025,2,   2208.5,2,   2343.2,2,   -999.0,9,  -999.00,   7.6792,2,    25.44,    0.000,2,   -999.0,9,   -999.0,9, -999.000,9,-999.0000,9,-999.0000,9,-999.0000,9,-999.0000,9, 27.855, 32.506, 37.053, 41.497, 45.840
33RO20110828,   A10,    12,  1,      4,    004,2,20000101,0000,-29.7497,   9.5999, -999,   3800.9,   1.8878,  34.8149,2,  34.8154,2,  34.9796,2,    224.3,2,    224.7,2,    74.56,2,    26.55,2,     0.00,2,     1.93,2,    0.015,2,    0.007,2,    0.043,2,   -999.0,9,   2357.2,2,   -999.0,9,  -999.00,   7.6586,2,    25.42,    0.000,2,   -999.0,9,   -999.0,9, -999.000,9,-999.0000,9,-999.0000,9,-999.0000,9,-999.0000,9, 27.856, 32.520, 37.080, 41.536, 45.890
33RO20110828,   A10,    12,  1,      3,    003,2,20000101,0000,-29.7497,   9.5999, -999,   4150.5,   1.3867,  34.7630,2,  34.7634,2,  34.9274,2,    220.3,2,    220.3,2,    95.36,2,    29.18,2,     0.01,2,     2.12,2,    0.038,2,    0.017,2,    0.084,2,   2241.6,2,   2360.7,2,   -999.0,9,  -999.00,   7.6306,2,    25.39,    0.000,2,   -999.0,9,   -999.0,9, -999.000,9,-999.0000,9,-999.0000,9,-999.0000,9,-999.0000,9, 27.852, 32.531, 37.105, 41.576, 45.945
33RO20110828,   A10,    12,  1,      2,    002,2,20000101,0000,-29.7497,   9.5999, -999,   4523.9,   1.1724,  34.7405,2,  34.7409,2,  34.9048,2,    217.0,2,    217.7,2,   104.73,2,    30.16,2,     0.00,2,     2.21,2,    0.054,2,    0.025,2,    0.108,2,   -999.0,5,   -999.0,5,   -999.0,9,  -999.00,   7.6196,2,    25.40,    0.000,2,   -999.0,9,   -999.0,9, -999.000,9,-999.0000,9,-999.0000,9,-999.0000,9,-999.0000,9, 27.850, 32.537, 37.118, 41.596, 45.972
33RO20110828,   A10,    12,  1,      1,    001,2,20000101,0000,-29.7497,   9.5999, -999,   4998.9,   1.1792,  34.7352,2,  34.7382,2,  34.9020,2,    217.7,2,    216.4,2,   106.97,2,    30.45,2,     0.00,2,     2.24,2,    0.064,2,    0.029,2,    0.126,2,   2255.9,6,   2367.0,2,   -999.0,9,  -999.00,   7.6243,2,    25.39,    0.000,2,   -999.0,9,   -999.0,9, -999.000,9,-999.0000,9,-999.0000,9,-999.0000,9,-999.0000,9, 27.851, 32.539, 37.122, 41.601, 45.978