BOTTLE,20130715NOAA
EXPOCODE,SECT_ID,STNNBR,CASTNO,SAMPNO,BTLNBR,BTLNBR_FLAG_W,DATE,TIME,LATITUDE,LONGITUDE,DEPTH,CTDPRS,CTDTMP,CTDSAL,CTDSAL_FLAG_W,SALNTY,SALNTY_FLAG_W,SALTREF,SALTREF_FLAG_W,CTDOXY,CTDOXY_FLAG_W,OXYGEN,OXYGEN_FLAG_W,SILCAT,SILCAT_FLAG_W,NITRAT,NITRAT_FLAG_W,NITRIT,NITRIT_FLAG_W,PHSPHT,PHSPHT_FLAG_W,CFC-11,CFC-11_FLAG_W,CFC-12,CFC-12_FLAG_W,CCL4,CCL4_FLAG_W,TCARBN,TCARBN_FLAG_W,ALKALI,ALKALI_FLAG_W,PCO2,PCO2_FLAG_W,PCO2TMP,PH_TOT,PH_TOT_FLAG_W,PH_TMP,SF6,SF6_FLAG_W,DOC,DOC_FLAG_W,TDN,TDN_FLAG_W,TRITUM,TRITUM_FLAG_W,HELIUM,HELIUM_FLAG_W,OXY_18,OXY_18_FLAG_W,BLACKC,BLACKC_FLAG_W,PIGMENTS,PIGMENTS_FLAG_W,SIGMA-THETA,SIGMA-1,SIGMA-2,SIGMA-3,SIGMA-4
,,,,,,,,,,,METERS,DBARS,ITS-90,PSS-78,,PSS-78,,G/KG,,UMOL/KG,,UMOL/KG,,UMOL/KG,,UMOL/KG,,UMOL/KG,,UMOL/KG,,PMOL/KG,,PMOL/KG,,PMOL/KG,,UMOL/KG,,UMOL/KG,,UATM@T,,DEG_C,,,DEG_C,FMOL/KG,,UMOL/KG,,UMOL/KG,,TU,,NMOL/KG,,,,,,,,,,,,
33RO20110828,   A10,    91,  1,     24,    024,2,20000101,0000,-29.9998, -37.1454, 2289,      5.8,  18.9469,  36.1687,2,  36.1692,2,  36.3397,2,    233.1,2,    232.7,2,     0.68,2,     0.10,2,     0.01,2,     0.04,2,    2.212,2,    1.358,2,    3.279,3,   2079.8,6,   2365.9,2,   -999.0,9,  -999.00,   7.9655,2,    25.64,    1.369,2,   -999.0,1,   -999.0,1, -999.000,1,-999.0000,1,-999.0000,1,-999.0000,9,-999.0000,1, 25.929, 30.210, 34.397, 38.493, 42.500
33RO20110828,   A10,    91,  1,     23,    023,2,20000101,0000,-29.9998, -37.1454, 2289,     50.2,  18.5530,  36.0736,2,  36.0810,2,  36.2511,2,    232.6,2,    233.9,2,     0.68,2,     0.10,2,     0.01,2,     0.04,2,    2.240,2,    1.369,2,    4.108,3,   2078.1,2,   2361.2,2,   -999.0,9,  -999.00,   7.9511,2,    25.58,    1.358,2,   -999.0,1,   -999.0,1, -999.000,1,-999.0000,1,-999.0000,1,-999.0000,9,-999.0000,9, 25.964, 30.252, 34.446, 38.548, 42.562
33RO20110828,   A10,    91,  1,     22,    022,2,20000101,0000,-29.9998, -37.1454, 2289,     94.5,  18.2495,  36.0398,2,  36.0335,2,  36.2034,2,    232.6,2,    231.5,2,     0.78,2,     0.29,2,     0.05,2,     0.07,2,    2.274,2,    1.384,2,    3.213,3,   2082.1,2,   2358.5,2,   -999.0,9,  -999.00,   7.9517,2,    25.58,    1.339,2,   -999.0,1,   -999.0,1, -999.000,1,-999.0000,1,-999.0000,1,-999.0000,9,-999.0000,1, 26.006, 30.299, 34.498, 38.606, 42.624
33RO20110828,   A10,    91,  1,     21,    021,2,20000101,0000,-29.9998, -37.1454, 2289,    139.6,  16.7359,  35.7831,2,  35.7837,2,  35.9525,2,    214.3,2,    214.5,2,     1.37,2,     2.93,2,     0.04,2,     0.25,2,    2.454,2,    1.477,2,    2.033,3,   2101.7,2,   2343.9,2,   -999.0,9,  -999.00,   7.8852,2,    25.64,    1.292,2,   -999.0,1,   -999.0,1, -999.000,1,-999.0000,1,-999.0000,1,-999.0000,9,-999.0000,1, 26.184, 30.505, 34.730, 38.863, 42.906
33RO20110828,   A10,    91,  1,     20,    020,2,20000101,0000,-29.9998, -37.1454, 2289,    214.3,  15.5076,  35.5943,2,  35.5959,2,  35.7638,2,    211.8,2,    211.4,2,     1.85,2,     5.17,2,     0.02,2,     0.37,2,    2.625,2,    1.560,2,    1.117,3,   2111.2,2,   2333.2,2,   -999.0,9,  -999.00,   7.8649,2,    25.61,    1.269,2,   -999.0,1,   -999.0,1, -999.000,1,-999.0000,1,-999.0000,1,-999.0000,9,-999.0000,9, 26.326, 30.669, 34.917, 39.071, 43.135
33RO20110828,   A10,    91,  1,     19,    019,2,20000101,0000,-29.9998, -37.1454, 2289,    292.0,  14.2473,  35.4022,2,  35.4051,2,  35.5720,2,    211.3,2,    211.0,2,     2.44,2,     7.51,2,     0.02,2,     0.49,2,    2.800,2,    1.624,2,    1.117,3,   2119.1,2,   2322.9,2,   -999.0,9,  -999.00,   7.8326,2,    25.61,    1.206,2,   -999.0,1,   -999.0,1, -999.000,1,-999.0000,1,-999.0000,1,-999.0000,9,-999.0000,9, 26.457, 30.825, 35.096, 39.273, 43.359
33RO20110828,   A10,    91,  1,     18,    018,2,20000101,0000,-29.9998, -37.1454, 2289,    340.4,  13.6227,  35.3265,2,  35.3208,2,  35.4874,2,    211.4,2,    211.6,2,     2.93,2,     8.98,2,     0.01,2,     0.58,2,    2.879,2,    1.647,2,    1.170,3,   2123.0,2,   2317.3,2,   -999.0,9,  -999.00,   7.8141,2,    25.62,    1.261,2,   -999.0,1,   -999.0,1, -999.000,1,-999.0000,1,-999.0000,1,-999.0000,9,-999.0000,9, 26.524, 30.905, 35.188, 39.377, 43.474
33RO20110828,   A10,    91,  1,     17,    017,2,20000101,0000,-29.9998, -37.1454, 2289,    385.7,  12.8910,  35.2173,2,  35.2236,2,  35.3897,2,    210.5,2,    210.5,2,     3.42,2,    10.44,2,     0.02,2,     0.66,2,    2.954,2,    1.673,2,    0.968,3,   2128.1,2,   2312.2,2,   -999.0,9,  -999.00,   7.8152,2,    25.69,    1.171,2,   -999.0,1,   -999.0,1, -999.000,1,-999.0000,1,-999.0000,1,-999.0000,9,-999.0000,9, 26.599, 30.994, 35.292, 39.495, 43.605
33RO20110828,   A10,    91,  1,     16,    016,2,20000101,0000,-29.9998, -37.1454, 2289,    425.6,  12.2194,  35.1238,2,  35.1184,2,  35.2840,2,    210.9,2,    211.4,2,     4.10,2,    12.20,2,     0.02,2,     0.75,2,    3.019,2,    1.695,2,    1.107,3,   2131.9,2,   2306.7,2,   -999.0,9,  -999.00,   7.7898,2,    25.64,    1.150,2,   -999.0,1,   -999.0,1, -999.000,1,-999.0000,1,-999.0000,1,-999.0000,9,-999.0000,9, 26.650, 31.059, 35.371, 39.587, 43.710
33RO20110828,   A10,    91,  1,     15,    015,2,20000101,0000,-29.9998, -37.1454, 2289,    480.2,  10.9113,  34.9353,2,  34.9344,2,  35.0991,2,    209.4,2,    208.4,2,     5.56,2,    15.13,2,     0.02,2,     0.90,2,    3.098,2,    1.698,2,    1.427,3,   2141.1,2,   2298.0,2,   -999.0,9,  -999.00,   7.7505,2,    25.67,    1.028,2,   -999.0,1,   -999.0,1, -999.000,1,-999.0000,1,-999.0000,1,-999.0000,9,-999.0000,9, 26.751, 31.189, 35.527, 39.770, 43.919
33RO20110828,   A10,    91,  1,     14,    014,2,20000101,0000,-29.9998, -37.1454, 2289,    530.8,   9.9409,  34.8020,2,  34.8064,2,  34.9705,2,    206.6,2,    207.2,2,     6.93,2,    17.76,2,     0.01,2,     1.05,2,    3.142,2,    1.689,2,    1.536,3,   2146.8,2,   2292.2,2,   -999.0,9,  -999.00,   7.7278,2,    25.59,    0.981,2,   -999.0,1,   -999.0,1, -999.000,1,-999.0000,1,-999.0000,1,-999.0000,9,-999.0000,9, 26.821, 31.280, 35.640, 39.903, 44.071
33RO20110828,   A10,    91,  1,     13,    013,2,20000101,0000,-29.9998, -37.1454, 2289,    629.2,   7.9498,  34.5627,2,  34.5599,2,  34.7229,2,    208.0,2,    208.5,2,    10.54,2,    22.55,2,     0.01,2,     1.33,2,    3.192,2,    1.668,2,    2.174,3,   2161.2,2,   2281.6,2,   -999.0,9,  -999.00,   7.6813,2,    25.62,    0.839,2,   -999.0,1,   -999.0,1, -999.000,1,-999.0000,1,-999.0000,1,-999.0000,9,-999.0000,9, 26.945, 31.450, 35.855, 40.161, 44.372
33RO20110828,   A10,    91,  1,     12,    012,2,20000101,0000,-29.9998, -37.1454, 2289,    729.3,   6.2459,  34.3964,2,  34.3981,2,  34.5603,2,    216.4,2,    216.3,2,    14.45,2,    25.68,2,     0.01,2,     1.53,2,    3.194,2,    1.637,2,    2.907,3,   2169.1,2,   2280.4,2,   -999.0,9,  -999.00,   7.6564,2,    25.60,    0.827,2,   -999.0,1,   -999.0,1, -999.000,1,-999.0000,1,-999.0000,1,-999.0000,9,-999.0000,9, 27.054, 31.601, 36.046, 40.391, 44.639
33RO20110828,   A10,    91,  1,     11,    011,2,20000101,0000,-29.9998, -37.1454, 2289,    829.4,   5.0574,  34.3171,2,  34.3189,2,  34.4807,2,    222.3,2,    222.3,2,    19.43,2,    27.92,2,     0.01,2,     1.69,2,    2.976,2,    1.487,2,    3.187,3,   2178.0,2,   2282.6,2,   -999.0,9,  -999.00,   7.6244,2,    25.65,    0.663,2,   -999.0,1,   -999.0,1, -999.000,1,-999.0000,1,-999.0000,1,-999.0000,9,-999.0000,9, 27.136, 31.713, 36.188, 40.562, 44.837
33RO20110828,   A10,    91,  1,     10,    010,2,20000101,0000,-29.9998, -37.1454, 2289,    931.0,   4.4424,  34.3015,2,  34.3022,2,  34.4640,2,    221.6,2,    222.8,2,    24.51,2,    29.29,2,     0.01,2,     1.79,2,    2.683,2,    1.332,2,    3.148,3,   2185.0,2,   2283.4,2,   -999.0,9,  -999.00,   7.6080,2,    25.57,    0.607,2,   -999.0,1,   -999.0,1, -999.000,1,-999.0000,1,-999.0000,1,-999.0000,9,-999.0000,9, 27.192, 31.785, 36.275, 40.664, 44.954
33RO20110828,   A10,    91,  1,      9,    009,2,20000101,0000,-29.9998, -37.1454, 2289,   1039.8,   3.8589,  34.3221,2,  34.3228,2,  34.4847,2,    213.3,2,    213.2,2,    32.51,2,    30.66,2,     0.01,2,     1.93,2,    2.083,2,    1.027,2,    2.704,3,   2198.9,2,   2290.4,2,   -999.0,9,  -999.00,   7.5822,2,    25.64,    0.395,2,   -999.0,1,   -999.0,1, -999.000,1,-999.0000,1,-999.0000,1,-999.0000,9,-999.0000,9, 27.270, 31.878, 36.382, 40.786, 45.090
33RO20110828,   A10,    91,  1,      8,    008,2,20000101,0000,-29.9998, -37.1454, 2289,   1165.2,   3.4508,  34.3791,2,  34.3805,2,  34.5427,2,    201.0,2,    200.8,2,    41.79,2,    31.93,2,     0.01,2,     2.08,2,    1.352,2,    0.660,2,    2.181,3,   2214.4,2,   2298.5,2,   -999.0,9,  -999.00,   7.5726,2,    25.45,    0.254,2,   -999.0,1,   -999.0,1, -999.000,9,-999.0000,1,-999.0000,9,-999.0000,9,-999.0000,9, 27.356, 31.975, 36.490, 40.903, 45.217
33RO20110828,   A10,    91,  1,      7,    007,2,20000101,0000,-29.9998, -37.1454, 2289,   1349.3,   3.0989,  34.4870,2,  34.4887,2,  34.6513,2,    190.6,2,    191.5,2,    50.77,2,    32.02,2,     0.01,2,     2.15,2,    0.697,2,    0.340,2,    1.347,3,   2225.1,2,   2310.0,2,   -999.0,9,  -999.00,   7.5642,2,    25.51,    0.088,2,   -999.0,1,   -999.0,1, -999.000,1,-999.0000,1,-999.0000,9,-999.0000,9,-999.0000,9, 27.477, 32.104, 36.628, 41.049, 45.371
33RO20110828,   A10,    91,  1,      6,    006,2,20000101,0000,-29.9998, -37.1454, 2289,   1499.2,   2.9921,  34.5712,2,  34.5728,2,  34.7358,2,    188.6,2,    188.8,2,    53.69,2,    31.43,2,     0.01,2,     2.14,2,    0.351,2,    0.172,2,    0.840,3,   2231.0,6,   2315.9,2,   -999.0,9,  -999.00,   7.5725,2,    25.60,    0.055,2,   -999.0,1,   -999.0,1, -999.000,9,-999.0000,1,-999.0000,9,-999.0000,9,-999.0000,9, 27.555, 32.185, 36.711, 41.135, 45.458
33RO20110828,   A10,    91,  1,      5,    005,2,20000101,0000,-29.9998, -37.1454, 2289,   1676.0,   2.8900,  34.6623,2,  34.6631,2,  34.8266,2,    195.7,2,    195.8,2,    53.59,2,    29.77,2,     0.01,2,     2.04,2,    0.175,2,    0.086,2,    0.484,3,   2224.5,2,   2323.0,2,   -999.0,9,  -999.00,   7.5908,2,    25.53,    0.000,2,   -999.0,1,   -999.0,1, -999.000,1,-999.0000,1,-999.0000,9,-999.0000,9,-999.0000,9, 27.637, 32.270, 36.798, 41.224, 45.550
33RO20110828,   A10,    91,  1,      4,    004,2,20000101,0000,-29.9998, -37.1454, 2289,   1798.5,   2.8573,  34.7144,2,  34.7160,2,  34.8797,2,    202.3,2,    203.0,2,    52.90,2,    28.40,2,     0.02,2,     1.95,2,    0.105,2,    0.052,2,    0.360,3,   2220.6,2,   2324.8,2,   -999.0,9,  -999.00,   7.5993,2,    25.52,    0.000,2,   -999.0,1,   -999.0,1, -999.000,9,-999.0000,1,-999.0000,9,-999.0000,9,-999.0000,9, 27.683, 32.316, 36.845, 41.272, 45.599
33RO20110828,   A10,    91,  1,      3,    003,2,20000101,0000,-29.9998, -37.1454, 2289,   1973.8,   2.8383,  34.7756,2,  34.7770,2,  34.9410,2,    213.1,2,    213.8,2,    49.39,2,    26.65,2,     0.01,2,     1.82,2,    0.055,2,    0.029,2,    0.261,3,   2212.2,2,   2325.0,2,   -999.0,9,  -999.00,   7.6350,2,    25.57,    0.000,2,   -999.0,1,   -999.0,1, -999.000,1,-999.0000,1,-999.0000,9,-999.0000,9,-999.0000,9, 27.735, 32.369, 36.898, 41.325, 45.652
33RO20110828,   A10,    91,  1,      2,    002,2,20000101,0000,-29.9998, -37.1454, 2289,   2075.5,   2.8292,  34.8024,2,  34.8034,6,  34.9675,6,    219.2,2,    219.4,2,    47.24,2,    25.77,2,     0.01,2,     1.75,2,    0.042,2,    0.023,2,    0.230,3,   2207.6,2,   2322.9,2,   -999.0,9,  -999.00,   7.6390,2,    25.59,    0.023,2,   -999.0,1,   -999.0,1, -999.000,1,-999.0000,1,-999.0000,9,-999.0000,9,-999.0000,9, 27.757, 32.391, 36.921, 41.348, 45.675
33RO20110828,   A10,    91,  1,      1,    001,2,20000101,0000,-29.9998, -37.1454, 2289,   2298.7,   2.8314,  34.8439,2,  34.8466,2,  35.0109,2,    229.1,2,    229.3,2,    43.04,2,    24.01,2,     0.01,2,     1.62,2,    0.030,2,    0.017,2,    0.204,3,   2200.3,6,   2323.4,2,   -999.0,9,  -999.00,   7.6675,2,    25.59,    0.000,2,   -999.0,1,   -999.0,1, -999.000,1,-999.0000,1,-999.0000,9,-999.0000,9,-999.0000,9, 27.794, 32.428, 36.958, 41.385, 45.713