BOTTLE,20130715NOAA
EXPOCODE,SECT_ID,STNNBR,CASTNO,SAMPNO,BTLNBR,BTLNBR_FLAG_W,DATE,TIME,LATITUDE,LONGITUDE,DEPTH,CTDPRS,CTDTMP,CTDSAL,CTDSAL_FLAG_W,SALNTY,SALNTY_FLAG_W,SALTREF,SALTREF_FLAG_W,CTDOXY,CTDOXY_FLAG_W,OXYGEN,OXYGEN_FLAG_W,SILCAT,SILCAT_FLAG_W,NITRAT,NITRAT_FLAG_W,NITRIT,NITRIT_FLAG_W,PHSPHT,PHSPHT_FLAG_W,CFC-11,CFC-11_FLAG_W,CFC-12,CFC-12_FLAG_W,CCL4,CCL4_FLAG_W,TCARBN,TCARBN_FLAG_W,ALKALI,ALKALI_FLAG_W,PCO2,PCO2_FLAG_W,PCO2TMP,PH_TOT,PH_TOT_FLAG_W,PH_TMP,SF6,SF6_FLAG_W,DOC,DOC_FLAG_W,TDN,TDN_FLAG_W,TRITUM,TRITUM_FLAG_W,HELIUM,HELIUM_FLAG_W,OXY_18,OXY_18_FLAG_W,BLACKC,BLACKC_FLAG_W,PIGMENTS,PIGMENTS_FLAG_W,SIGMA-THETA,SIGMA-1,SIGMA-2,SIGMA-3,SIGMA-4
,,,,,,,,,,,METERS,DBARS,ITS-90,PSS-78,,PSS-78,,G/KG,,UMOL/KG,,UMOL/KG,,UMOL/KG,,UMOL/KG,,UMOL/KG,,UMOL/KG,,PMOL/KG,,PMOL/KG,,PMOL/KG,,UMOL/KG,,UMOL/KG,,UATM@T,,DEG_C,,,DEG_C,FMOL/KG,,UMOL/KG,,UMOL/KG,,TU,,NMOL/KG,,,,,,,,,,,,
33RO20110828,   A10,    72,  1,     24,    024,2,20000101,0000,-30.0013, -27.0390, 4650,      4.9,  17.0943,  35.7887,2,  35.7891,2,  35.9579,2,    239.4,2,    240.1,2,     1.27,2,     0.00,2,     0.02,2,     0.12,2,    2.429,2,    1.464,2,    3.712,3,   2081.6,6,   2347.1,2,   -999.0,9,  -999.00,   7.9219,2,    25.56,    1.498,2,   -999.0,1,   -999.0,1, -999.000,1,-999.0000,1,-999.0000,1,-999.0000,9,-999.0000,1, 26.098, 30.412, 34.631, 38.757, 42.794
33RO20110828,   A10,    72,  1,     23,    023,2,20000101,0000,-30.0013, -27.0390, 4650,     50.1,  17.0195,  35.8020,2,  35.8005,2,  35.9693,2,    238.6,2,    240.7,2,     1.27,2,     0.10,2,     0.04,2,     0.13,2,    2.430,2,    1.466,2,    3.739,3,   2082.8,2,   2348.5,2,   -999.0,9,  -999.00,   7.9275,2,    25.60,    1.524,2,   -999.0,1,   -999.0,1, -999.000,1,-999.0000,1,-999.0000,1,-999.0000,9,-999.0000,1, 26.126, 30.441, 34.662, 38.790, 42.828
33RO20110828,   A10,    72,  1,     22,    022,2,20000101,0000,-30.0013, -27.0390, 4650,     89.2,  16.6952,  35.7926,2,  35.7940,2,  35.9627,2,    239.1,2,    236.0,2,     1.37,2,     0.00,2,     0.59,2,     0.16,2,    2.451,2,    1.472,2,    4.248,3,   2085.3,2,   2348.3,2,   -999.0,9,  -999.00,   7.9150,2,    25.58,    1.471,2,   -999.0,1,   -999.0,1, -999.000,1,-999.0000,1,-999.0000,1,-999.0000,9,-999.0000,1, 26.200, 30.521, 34.746, 38.880, 42.923
33RO20110828,   A10,    72,  1,     21,    021,2,20000101,0000,-30.0013, -27.0390, 4650,    149.5,  16.2302,  35.7083,2,  35.7059,2,  35.8743,2,    233.4,2,    233.7,2,     1.46,2,     1.07,2,     0.56,2,     0.20,2,    2.503,2,    1.504,2,    3.382,3,   2088.7,2,   2341.5,2,   -999.0,9,  -999.00,   7.8793,2,    25.54,    1.499,2,   -999.0,1,   -999.0,1, -999.000,1,-999.0000,1,-999.0000,1,-999.0000,9,-999.0000,1, 26.243, 30.573, 34.807, 38.949, 43.000
33RO20110828,   A10,    72,  1,     20,    020,2,20000101,0000,-30.0013, -27.0390, 4650,    219.9,  14.6021,  35.4472,2,  35.4452,2,  35.6124,2,    216.9,2,    216.6,2,     2.34,2,     6.34,2,     0.04,2,     0.45,2,    2.749,2,    1.610,2,    1.475,3,   2109.8,2,   2328.2,2,   -999.0,9,  -999.00,   7.8401,2,    25.58,    1.421,2,   -999.0,1,   -999.0,1, -999.000,1,-999.0000,1,-999.0000,1,-999.0000,9,-999.0000,1, 26.409, 30.770, 35.035, 39.205, 43.285
33RO20110828,   A10,    72,  1,     19,    019,2,20000101,0000,-30.0013, -27.0390, 4650,    290.1,  13.1117,  35.2181,2,  35.2188,2,  35.3848,2,    216.0,2,    214.7,2,     3.41,2,     9.76,2,     0.04,2,     0.63,2,    2.950,2,    1.689,2,    1.521,3,   2120.5,2,   2046.8,4,   -999.0,9,  -999.00,   7.7988,2,    25.62,    1.336,2,   -999.0,1,   -999.0,1, -999.000,1,-999.0000,1,-999.0000,1,-999.0000,9,-999.0000,9, 26.548, 30.939, 35.232, 39.431, 43.538
33RO20110828,   A10,    72,  1,     18,    018,2,20000101,0000,-30.0013, -27.0390, 4650,    379.2,  12.3522,  35.1536,2,  35.1561,2,  35.3219,2,    218.9,2,    221.0,2,     3.61,2,    10.93,2,     0.03,2,     0.68,2,    3.040,2,    1.720,2,    1.716,3,   2124.6,2,   2310.6,2,   -999.0,9,  -999.00,   7.8037,2,    25.63,    1.394,2,   -999.0,1,   -999.0,1, -999.000,1,-999.0000,1,-999.0000,1,-999.0000,9,-999.0000,9, 26.652, 31.058, 35.367, 39.580, 43.701
33RO20110828,   A10,    72,  1,     17,    017,2,20000101,0000,-30.0013, -27.0390, 4650,    490.6,  10.5913,  34.8867,2,  34.8906,2,  35.0551,2,    212.0,2,    212.0,2,     5.95,2,    16.49,2,     0.03,2,     0.95,2,    3.183,2,    1.744,2,    1.931,3,   2137.7,2,   2299.6,2,   -999.0,9,  -999.00,   7.7508,2,    25.57,    1.131,2,   -999.0,1,   -999.0,1, -999.000,1,-999.0000,1,-999.0000,1,-999.0000,9,-999.0000,9, 26.774, 31.219, 35.564, 39.813, 43.968
33RO20110828,   A10,    72,  1,     16,    016,2,20000101,0000,-30.0013, -27.0390, 4650,    601.9,   7.9155,  34.5509,2,  34.5553,3,  34.7182,3,    214.2,2,    214.2,2,    10.15,2,    23.23,2,     0.03,2,     1.32,2,    3.337,2,    1.759,2,    3.049,3,   2154.9,2,   2285.1,2,   -999.0,9,  -999.00,   7.6762,2,    25.60,    0.975,2,   -999.0,1,   -999.0,1, -999.000,1,-999.0000,1,-999.0000,1,-999.0000,9,-999.0000,9, 26.943, 31.449, 35.854, 40.161, 44.372
33RO20110828,   A10,    72,  1,     15,    015,2,20000101,0000,-30.0013, -27.0390, 4650,    710.9,   6.1355,  34.3673,2,  34.3700,3,  34.5320,3,    224.3,2,    224.4,2,    13.86,2,    26.65,2,     0.02,2,     1.53,2,    3.428,2,    1.762,2,    4.149,3,   2162.6,2,   2281.2,2,   -999.0,9,  -999.00,   7.6442,2,    25.52,    0.927,2,   -999.0,1,   -999.0,1, -999.000,1,-999.0000,1,-999.0000,1,-999.0000,9,-999.0000,9, 27.044, 31.593, 36.041, 40.389, 44.640
33RO20110828,   A10,    72,  1,     14,    014,2,20000101,0000,-30.0013, -27.0390, 4650,    824.3,   4.7872,  34.2812,2,  34.2838,2,  34.4455,2,    229.5,2,    230.2,2,    20.01,2,    29.58,2,     0.02,2,     1.71,2,    3.188,2,    1.599,2,    4.595,3,   2173.1,2,   2282.8,2,   -999.0,9,  -999.00,   7.6218,2,    25.57,    0.760,2,   -999.0,1,   -999.0,1, -999.000,1,-999.0000,1,-999.0000,1,-999.0000,9,-999.0000,9, 27.139, 31.723, 36.204, 40.585, 44.867
33RO20110828,   A10,    72,  1,     13,    013,2,20000101,0000,-30.0013, -27.0390, 4650,    975.6,   3.8450,  34.2985,2,  34.3001,2,  34.4619,2,    217.2,2,    217.5,2,    32.22,2,    32.22,2,     0.02,2,     1.95,2,    2.329,2,    1.137,2,    3.819,3,   2193.1,2,   2295.5,2,   -999.0,9,  -999.00,   7.6000,2,    25.50,    0.457,2,   -999.0,1,   -999.0,1, -999.000,1,-999.0000,1,-999.0000,1,-999.0000,9,-999.0000,9, 27.252, 31.861, 36.366, 40.770, 45.074
33RO20110828,   A10,    72,  1,     12,    012,2,20000101,0000,-30.0013, -27.0390, 4650,   1100.8,   3.3096,  34.3390,2,  34.3401,2,  34.5021,2,    208.1,2,    207.0,2,    41.88,2,    33.48,2,     0.02,2,     2.09,2,    1.691,2,    0.825,2,    2.930,3,   2208.7,2,   -999.0,5,   -999.0,9,  -999.00,   7.5772,2,    25.49,    0.359,2,   -999.0,1,   -999.0,1, -999.000,1,-999.0000,1,-999.0000,1,-999.0000,9,-999.0000,9, 27.337, 31.959, 36.478, 40.895, 45.212
33RO20110828,   A10,    72,  1,     11,    011,2,20000101,0000,-30.0013, -27.0390, 4650,   1299.7,   3.0562,  34.4813,2,  34.4830,2,  34.6456,2,    188.1,2,    188.9,2,    54.27,2,    34.16,2,     0.02,2,     2.21,2,    0.708,2,    0.340,2,    1.539,3,   2227.3,2,   2315.2,2,   -999.0,9,  -999.00,   7.5636,2,    25.61,    0.127,2,   -999.0,1,   -999.0,1, -999.000,1,-999.0000,1,-999.0000,1,-999.0000,9,-999.0000,9, 27.476, 32.104, 36.629, 41.051, 45.374
33RO20110828,   A10,    72,  1,     10,    010,2,20000101,0000,-30.0013, -27.0390, 4650,   1475.6,   2.9083,  34.5891,2,  34.5926,2,  34.7557,2,    188.7,2,    188.9,2,    58.17,2,    32.89,2,     0.01,2,     2.18,2,    0.334,2,    0.160,2,    0.873,3,   2229.7,6,   2322.1,2,   -999.0,9,  -999.00,   7.5706,2,    25.65,    0.048,2,   -999.0,1,   -999.0,1, -999.000,1,-999.0000,1,-999.0000,1,-999.0000,9,-999.0000,9, 27.578, 32.210, 36.738, 41.164, 45.489
33RO20110828,   A10,    72,  1,      9,    009,2,20000101,0000,-30.0013, -27.0390, 4650,   1599.6,   2.8642,  34.6646,2,  34.6663,2,  34.8297,2,    193.5,2,    195.2,2,    57.39,2,    31.52,2,     0.01,2,     2.09,2,    0.172,2,    0.082,2,    0.634,3,   2225.9,2,   2324.8,2,   -999.0,9,  -999.00,   7.5845,2,    25.61,    0.039,2,   -999.0,1,   -999.0,1, -999.000,1,-999.0000,1,-999.0000,1,-999.0000,9,-999.0000,9, 27.641, 32.274, 36.803, 41.230, 45.556
33RO20110828,   A10,    72,  1,      8,    008,2,20000101,0000,-30.0013, -27.0390, 4650,   1851.1,   2.7744,  34.7537,2,  34.7553,2,  34.9192,2,    208.8,2,    207.3,2,    54.94,2,    28.98,2,     0.01,2,     1.93,2,    0.062,2,    0.031,2,    0.355,3,   2216.2,2,   2327.0,2,   -999.0,9,  -999.00,   7.6115,2,    25.55,    0.000,2,   -999.0,1,   -999.0,1, -999.000,9,-999.0000,1,-999.0000,9,-999.0000,9,-999.0000,9, 27.722, 32.357, 36.888, 41.317, 45.646
33RO20110828,   A10,    72,  1,      7,    007,2,20000101,0000,-30.0013, -27.0390, 4650,   2301.0,   2.7296,  34.8534,2,  34.8540,2,  35.0184,2,    232.0,2,    233.0,2,    45.67,2,    24.79,2,     0.01,2,     1.64,2,    0.011,2,    0.007,2,    0.145,3,   2196.1,2,   2325.6,2,   -999.0,9,  -999.00,   7.6608,2,    25.55,    0.000,2,   -999.0,1,   -999.0,1, -999.000,1,-999.0000,1,-999.0000,9,-999.0000,9,-999.0000,9, 27.809, 32.445, 36.978, 41.408, 45.738
33RO20110828,   A10,    72,  1,      6,    006,2,20000101,0000,-30.0013, -27.0390, 4650,   2700.4,   2.7376,  34.8921,2,  34.8926,2,  35.0571,2,    243.7,2,    244.1,2,    39.81,2,    23.13,2,     0.01,2,     1.50,2,    0.006,2,    0.004,2,    0.129,3,   2185.6,2,   2324.5,2,   -999.0,9,  -999.00,   7.6855,2,    25.57,    0.000,2,   -999.0,1,   -999.0,1, -999.000,9,-999.0000,1,-999.0000,9,-999.0000,9,-999.0000,9, 27.842, 32.479, 37.012, 41.443, 45.773
33RO20110828,   A10,    72,  1,      5,    005,2,20000101,0000,-30.0013, -27.0390, 4650,   3099.7,   2.5943,  34.8979,2,  34.9000,2,  35.0646,2,    248.0,2,    248.3,2,    41.08,2,    22.93,2,     0.01,2,     1.49,2,    0.009,2,    0.007,2,    0.155,3,   2184.7,2,   2326.9,2,   -999.0,9,  -999.00,   7.6883,2,    25.49,    0.041,2,   -999.0,1,   -999.0,1, -999.000,1,-999.0000,1,-999.0000,9,-999.0000,9,-999.0000,9, 27.864, 32.506, 37.043, 41.479, 45.814
33RO20110828,   A10,    72,  1,      4,    004,2,20000101,0000,-30.0013, -27.0390, 4650,   3500.2,   2.1422,  34.8568,2,  34.8572,2,  35.0215,2,    243.0,2,    242.6,2,    57.57,2,    24.98,2,     0.01,2,     1.72,2,    0.016,2,    0.010,2,    0.176,3,   2199.7,2,   2335.4,2,   -999.0,9,  -999.00,   7.6772,2,    25.63,    0.053,2,   -999.0,1,   -999.0,1, -999.000,9,-999.0000,1,-999.0000,9,-999.0000,9,-999.0000,9, 27.868, 32.524, 37.076, 41.524, 45.871
33RO20110828,   A10,    72,  1,      3,    003,2,20000101,0000,-30.0013, -27.0390, 4650,   3998.0,   1.3966,  34.7789,2,  34.7826,2,  34.9467,2,    230.3,2,    230.4,2,    88.81,2,    29.18,2,     0.02,2,     2.17,2,    0.044,2,    0.023,2,    0.250,3,   2230.3,2,   2350.6,2,   -999.0,9,  -999.00,   7.6296,2,    25.51,    0.144,2,   -999.0,1,   -999.0,1, -999.000,1,-999.0000,1,-999.0000,9,-999.0000,9,-999.0000,9, 27.865, 32.544, 37.117, 41.587, 45.955
33RO20110828,   A10,    72,  1,      2,    002,2,20000101,0000,-30.0013, -27.0390, 4650,   4492.6,   1.2241,  34.7545,2,  34.7572,2,  34.9211,2,    225.4,2,    226.6,2,    98.66,2,    30.45,2,     0.02,2,     2.31,2,    0.075,2,    0.037,2,    0.320,3,   2239.0,2,   2354.8,2,   -999.0,9,  -999.00,   7.6156,2,    25.46,    0.122,2,   -999.0,1,   -999.0,1, -999.000,1,-999.0000,1,-999.0000,9,-999.0000,9,-999.0000,9, 27.860, 32.545, 37.125, 41.601, 45.975
33RO20110828,   A10,    72,  1,      1,    001,2,20000101,0000,-30.0013, -27.0390, 4650,   4756.9,   1.1950,  34.7457,2,  34.7469,2,  34.9107,2,    224.1,2,    223.3,2,   102.28,2,    30.94,2,     0.02,2,     2.37,2,    0.113,2,    0.053,2,    0.391,3,   2244.0,6,   2356.7,2,   -999.0,9,  -999.00,   7.6260,2,    25.43,    0.048,2,   -999.0,1,   -999.0,1, -999.000,1,-999.0000,1,-999.0000,9,-999.0000,9,-999.0000,9, 27.855, 32.542, 37.124, 41.601, 45.977