BOTTLE,20130715NOAA
EXPOCODE,SECT_ID,STNNBR,CASTNO,SAMPNO,BTLNBR,BTLNBR_FLAG_W,DATE,TIME,LATITUDE,LONGITUDE,DEPTH,CTDPRS,CTDTMP,CTDSAL,CTDSAL_FLAG_W,SALNTY,SALNTY_FLAG_W,SALTREF,SALTREF_FLAG_W,CTDOXY,CTDOXY_FLAG_W,OXYGEN,OXYGEN_FLAG_W,SILCAT,SILCAT_FLAG_W,NITRAT,NITRAT_FLAG_W,NITRIT,NITRIT_FLAG_W,PHSPHT,PHSPHT_FLAG_W,CFC-11,CFC-11_FLAG_W,CFC-12,CFC-12_FLAG_W,CCL4,CCL4_FLAG_W,TCARBN,TCARBN_FLAG_W,ALKALI,ALKALI_FLAG_W,PCO2,PCO2_FLAG_W,PCO2TMP,PH_TOT,PH_TOT_FLAG_W,PH_TMP,SF6,SF6_FLAG_W,DOC,DOC_FLAG_W,TDN,TDN_FLAG_W,TRITUM,TRITUM_FLAG_W,HELIUM,HELIUM_FLAG_W,OXY_18,OXY_18_FLAG_W,BLACKC,BLACKC_FLAG_W,PIGMENTS,PIGMENTS_FLAG_W,SIGMA-THETA,SIGMA-1,SIGMA-2,SIGMA-3,SIGMA-4
,,,,,,,,,,,METERS,DBARS,ITS-90,PSS-78,,PSS-78,,G/KG,,UMOL/KG,,UMOL/KG,,UMOL/KG,,UMOL/KG,,UMOL/KG,,UMOL/KG,,PMOL/KG,,PMOL/KG,,PMOL/KG,,UMOL/KG,,UMOL/KG,,UATM@T,,DEG_C,,,DEG_C,FMOL/KG,,UMOL/KG,,UMOL/KG,,TU,,NMOL/KG,,,,,,,,,,,,
33RO20110828,   A10,    85,  1,     23,    023,2,20000101,0000,-30.0006, -33.9674, 2205,      3.5,  18.6501,  36.1116,2,  36.1120,2,  36.2822,2,    233.2,2,    233.1,2,     0.88,2,     0.00,2,     0.00,2,     0.05,2, -999.000,9, -999.000,9, -999.000,9,   -999.0,9,   2367.1,2,   -999.0,9,  -999.00,-999.0000,9,  -999.00, -999.000,9,   -999.0,1,   -999.0,1, -999.000,1,-999.0000,9,-999.0000,1,-999.0000,9,-999.0000,1, 25.961, 30.247, 34.439, 38.540, 42.552
33RO20110828,   A10,    85,  1,     24,    024,2,20000101,0000,-30.0006, -33.9674, 2205,      3.5,  18.6482,  36.1115,2,  36.1138,2,  36.2841,2,    233.2,2,    233.0,2,     0.88,2,     0.00,2,     0.00,2,     0.05,2,    2.236,2,    1.355,2,    2.796,3,   2077.5,6,   2364.4,2,   -999.0,9,  -999.00,   7.9531,2,    25.59,    1.385,2,   -999.0,1,   -999.0,1, -999.000,1,-999.0000,1,-999.0000,1,-999.0000,9,-999.0000,9, 25.963, 30.249, 34.441, 38.542, 42.554
33RO20110828,   A10,    85,  1,     22,    022,2,20000101,0000,-30.0006, -33.9674, 2205,     50.4,  18.4923,  36.0951,2,  36.0952,2,  36.2654,2,    234.0,2,    233.3,2,     0.88,2,     0.00,2,     0.00,2,     0.06,2,    2.252,2,    1.371,2,    3.171,3,   2077.3,2,   2364.7,2,   -999.0,9,  -999.00,   7.9543,2,    25.62,    1.403,2,   -999.0,1,   -999.0,1, -999.000,1,-999.0000,1,-999.0000,1,-999.0000,9,-999.0000,9, 25.990, 30.279, 34.474, 38.577, 42.592
33RO20110828,   A10,    85,  1,     21,    021,2,20000101,0000,-30.0006, -33.9674, 2205,     79.4,  18.3316,  36.0806,2,  36.0807,2,  36.2509,2,    231.6,2,    232.8,2,     0.88,2,     0.00,2,     0.03,2,     0.07,2, -999.000,5, -999.000,5, -999.000,5,   2078.4,2,   2363.8,2,   -999.0,9,  -999.00,   7.9518,2,    25.56, -999.000,5,   -999.0,1,   -999.0,1, -999.000,1,-999.0000,1,-999.0000,1,-999.0000,9,-999.0000,1, 26.021, 30.313, 34.510, 38.616, 42.633
33RO20110828,   A10,    85,  1,     20,    020,2,20000101,0000,-30.0006, -33.9674, 2205,     99.7,  18.2879,  36.0713,2,  36.0715,2,  36.2415,2,    231.2,2,    231.5,2,     0.97,2,     0.10,2,     0.11,2,     0.08,2,    2.259,2,    1.378,2,    2.846,3,   2079.5,2,   2363.1,2,   -999.0,9,  -999.00,   7.9492,2,    25.65,    1.379,2,   -999.0,1,   -999.0,1, -999.000,1,-999.0000,1,-999.0000,1,-999.0000,9,-999.0000,1, 26.026, 30.318, 34.516, 38.623, 42.641
33RO20110828,   A10,    85,  1,     19,    019,2,20000101,0000,-30.0006, -33.9674, 2205,    149.2,  18.1318,  36.0413,2,  36.0426,2,  36.2126,2,    229.6,2,    229.1,2,     1.07,2,     0.19,2,     0.20,2,     0.11,2,    2.276,2,    1.380,2,    2.630,3,   2079.6,2,   2361.0,2,   -999.0,9,  -999.00,   7.9493,2,    25.59,    1.416,2,   -999.0,1,   -999.0,1, -999.000,1,-999.0000,1,-999.0000,1,-999.0000,9,-999.0000,9, 26.045, 30.340, 34.541, 38.650, 42.671
33RO20110828,   A10,    85,  1,     18,    018,2,20000101,0000,-30.0006, -33.9674, 2205,    198.4,  16.3994,  35.7090,2,  35.7097,2,  35.8781,2,    217.6,2,    217.8,2,     1.66,2,     2.73,2,     0.02,2,     0.28,2,    2.503,2,    1.493,2,    1.150,3,   2098.6,2,   2339.6,2,   -999.0,9,  -999.00,   7.8904,2,    25.58,    1.368,2,   -999.0,1,   -999.0,1, -999.000,1,-999.0000,1,-999.0000,1,-999.0000,9,-999.0000,9, 26.209, 30.535, 34.767, 38.906, 42.955
33RO20110828,   A10,    85,  1,     17,    017,2,20000101,0000,-30.0006, -33.9674, 2205,    249.1,  15.1679,  35.5030,2,  35.5035,2,  35.6709,2,    214.8,2,    214.0,2,     2.05,2,     5.07,2,     0.01,2,     0.39,2,    2.671,2,    1.575,2,    0.897,3,   2106.6,2,   2327.6,2,   -999.0,9,  -999.00,   7.8504,2,    25.51,    1.357,2,   -999.0,1,   -999.0,1, -999.000,1,-999.0000,1,-999.0000,1,-999.0000,9,-999.0000,9, 26.332, 30.682, 34.936, 39.097, 43.167
33RO20110828,   A10,    85,  1,     16,    016,2,20000101,0000,-30.0006, -33.9674, 2205,    299.9,  14.3981,  35.4043,2,  35.4051,2,  35.5720,2,    212.2,2,    212.6,2,     2.54,2,     6.93,2,     0.01,2,     0.50,2,    2.782,2,    1.619,2,    0.860,3,   2110.9,2,   2322.5,2,   -999.0,9,  -999.00,   7.8429,2,    25.55,    1.327,2,   -999.0,1,   -999.0,1, -999.000,1,-999.0000,1,-999.0000,1,-999.0000,9,-999.0000,9, 26.425, 30.790, 35.059, 39.233, 43.317
33RO20110828,   A10,    85,  1,     15,    015,2,20000101,0000,-30.0006, -33.9674, 2205,    400.4,  12.6594,  35.1773,2,  35.1779,2,  35.3437,2,    213.6,2,    214.0,2,     3.71,2,    10.63,2,     0.00,2,     0.69,2,    2.986,2,    1.693,2,    1.014,3,   2123.2,2,   2311.5,2,   -999.0,9,  -999.00,   7.8022,2,    25.58,    1.232,2,   -999.0,1,   -999.0,1, -999.000,1,-999.0000,1,-999.0000,1,-999.0000,9,-999.0000,9, 26.610, 31.010, 35.312, 39.520, 43.635
33RO20110828,   A10,    85,  1,     14,    014,2,20000101,0000,-30.0006, -33.9674, 2205,    515.0,  10.8064,  34.9154,2,  34.9167,2,  35.0813,2,    211.7,2,    211.8,2,     5.66,2,    15.22,2,     0.00,2,     0.95,2,    3.145,2,    1.726,2,    1.281,3,   2135.5,2,   2299.2,2,   -999.0,9,  -999.00,   7.7510,2,    25.55,    1.129,2,   -999.0,1,   -999.0,1, -999.000,1,-999.0000,1,-999.0000,1,-999.0000,9,-999.0000,9, 26.757, 31.197, 35.538, 39.783, 43.934
33RO20110828,   A10,    85,  1,     13,    013,2,20000101,0000,-30.0006, -33.9674, 2205,    600.1,   8.8001,  34.6537,2,  34.6541,2,  34.8175,2,    208.7,2,    208.2,2,     8.69,2,    20.20,2,     0.00,2,     1.24,2,    3.240,2,    1.714,2,    1.811,3,   2150.4,2,   2287.7,2,   -999.0,9,  -999.00,   7.6931,2,    25.56,    1.019,2,   -999.0,1,   -999.0,1, -999.000,1,-999.0000,1,-999.0000,1,-999.0000,9,-999.0000,9, 26.889, 31.375, 35.760, 40.047, 44.239
33RO20110828,   A10,    85,  1,     12,    012,2,20000101,0000,-30.0006, -33.9674, 2205,    709.1,   6.8155,  34.4492,2,  34.4469,2,  34.6094,2,    211.3,2,    211.1,2,    13.37,2,    24.89,2,     0.00,2,     1.50,2,    3.174,2,    1.626,2,    2.404,3,   2164.0,2,   2282.3,2,   -999.0,9,  -999.00,   7.6431,2,    25.55,    0.798,2,   -999.0,1,   -999.0,1, -999.000,1,-999.0000,1,-999.0000,1,-999.0000,9,-999.0000,9, 27.018, 31.550, 35.981, 40.314, 44.549
33RO20110828,   A10,    85,  1,     11,    011,2,20000101,0000,-30.0006, -33.9674, 2205,    800.5,   5.4698,  34.3459,2,  34.3465,2,  34.5084,2,    216.6,2,    217.6,2,    18.55,2,    27.53,2,     0.00,2,     1.70,2,    3.024,2,    1.509,2,    2.805,3,   2174.0,2,   2282.1,2,   -999.0,9,  -999.00,   7.6219,2,    25.56,    0.705,2,   -999.0,1,   -999.0,1, -999.000,1,-999.0000,1,-999.0000,1,-999.0000,9,-999.0000,9, 27.110, 31.676, 36.140, 40.504, 44.770
33RO20110828,   A10,    85,  1,     10,    010,2,20000101,0000,-30.0006, -33.9674, 2205,    899.8,   4.6310,  34.3158,2,  34.3163,2,  34.4781,2,    215.9,2,    216.3,2,    24.70,2,    29.38,2,     0.00,2,     1.85,2,    2.636,2,    1.301,2,    2.693,3,   2182.0,2,   2285.1,2,   -999.0,9,  -999.00,   7.6059,2,    25.57,    0.498,2,   -999.0,1,   -999.0,1, -999.000,1,-999.0000,1,-999.0000,1,-999.0000,9,-999.0000,9, 27.183, 31.771, 36.256, 40.640, 44.925
33RO20110828,   A10,    85,  1,      9,    009,2,20000101,0000,-30.0006, -33.9674, 2205,   1000.2,   4.1420,  34.3305,2,  34.3324,2,  34.4942,2,    208.8,2,    208.4,2,    31.24,2,    30.65,2,     0.00,2,     1.97,2,    2.131,2,    1.044,2,    2.293,3,   2195.3,2,   2288.4,2,   -999.0,9,  -999.00,   7.5952,2,    25.58,    0.391,2,   -999.0,1,   -999.0,1, -999.000,1,-999.0000,1,-999.0000,1,-999.0000,9,-999.0000,9, 27.248, 31.849, 36.346, 40.742, 45.039
33RO20110828,   A10,    85,  1,      8,    008,2,20000101,0000,-30.0006, -33.9674, 2205,   1155.7,   3.4751,  34.3993,2,  34.4003,2,  34.5625,2,    196.6,2,    195.6,2,    43.34,2,    32.31,2,     0.00,2,     2.15,2,    1.219,2,    0.596,2,    1.791,3,   2214.8,6,   2304.5,2,   -999.0,9,  -999.00,   7.5691,2,    25.60,    0.199,2,   -999.0,1,   -999.0,1, -999.000,9,-999.0000,1,-999.0000,9,-999.0000,9,-999.0000,9, 27.370, 31.988, 36.502, 40.914, 45.227
33RO20110828,   A10,    85,  1,      7,    007,2,20000101,0000,-30.0006, -33.9674, 2205,   1300.4,   3.1428,  34.4864,2,  34.4882,6,  34.6509,6,    188.9,2,    189.5,2,    51.34,2,    32.50,2,     0.00,2,     2.20,2,    0.667,2,    0.324,2,    1.185,3,   2223.8,2,   2314.7,2,   -999.0,9,  -999.00,   7.5548,2,    25.52,    0.090,2,   -999.0,1,   -999.0,1, -999.000,1,-999.0000,1,-999.0000,9,-999.0000,9,-999.0000,9, 27.470, 32.097, 36.619, 41.039, 45.360
33RO20110828,   A10,    85,  1,      6,    006,2,20000101,0000,-30.0006, -33.9674, 2205,   1448.9,   2.9860,  34.5817,2,  34.5824,2,  34.7455,2,    188.0,2,    188.4,2,    54.37,2,    31.33,2,     0.00,2,     2.16,2,    0.324,2,    0.157,2,    0.762,3,   2226.7,2,   2319.6,2,   -999.0,9,  -999.00,   7.5748,2,    25.50,    0.042,2,   -999.0,1,   -999.0,1, -999.000,9,-999.0000,1,-999.0000,9,-999.0000,9,-999.0000,9, 27.562, 32.192, 36.718, 41.142, 45.466
33RO20110828,   A10,    85,  1,      5,    005,2,20000101,0000,-30.0006, -33.9674, 2205,   1623.5,   2.8885,  34.6631,2,  34.6644,2,  34.8279,2,    193.6,2,    193.9,2,    55.44,2,    29.77,2,     0.00,2,     2.09,2,    0.152,2,    0.075,2,    0.491,3,   2224.2,2,   2322.8,2,   -999.0,9,  -999.00,   7.5867,2,    25.55,    0.000,2,   -999.0,1,   -999.0,1, -999.000,1,-999.0000,1,-999.0000,9,-999.0000,9,-999.0000,9, 27.638, 32.270, 36.799, 41.225, 45.550
33RO20110828,   A10,    85,  1,      4,    004,2,20000101,0000,-30.0006, -33.9674, 2205,   1773.1,   2.8285,  34.7252,2,  34.7265,2,  34.8903,2,    202.5,2,    202.9,2,    54.07,2,    28.59,2,     0.00,2,     1.99,2,    0.079,2,    0.040,2,    0.354,3,   2217.9,2,   2324.8,2,   -999.0,9,  -999.00,   7.6119,2,    25.62,    0.026,2,   -999.0,1,   -999.0,1, -999.000,9,-999.0000,1,-999.0000,9,-999.0000,9,-999.0000,9, 27.694, 32.328, 36.857, 41.285, 45.612
33RO20110828,   A10,    85,  1,      3,    003,2,20000101,0000,-30.0006, -33.9674, 2205,   1899.7,   2.8032,  34.7678,2,  34.7692,2,  34.9332,2,    210.4,2,    210.7,2,    51.04,2,    27.13,2,     0.00,2,     1.89,2,    0.049,2,    0.025,2,    0.290,3,   2211.6,2,   2325.6,2,   -999.0,9,  -999.00,   7.6195,2,    25.59,    0.000,2,   -999.0,1,   -999.0,1, -999.000,1,-999.0000,1,-999.0000,9,-999.0000,9,-999.0000,9, 27.731, 32.366, 36.896, 41.324, 45.652
33RO20110828,   A10,    85,  1,      2,    002,2,20000101,0000,-30.0006, -33.9674, 2205,   1999.2,   2.8136,  34.7882,2,  34.7889,2,  34.9529,2,    214.9,2,    214.2,2,    49.67,2,    26.06,2,     0.00,2,     1.82,2,    0.044,2,    0.024,2,    0.293,3,   2209.2,2,   2325.8,2,   -999.0,9,  -999.00,   7.6371,2,    25.65,    0.000,2,   -999.0,1,   -999.0,1, -999.000,1,-999.0000,1,-999.0000,9,-999.0000,9,-999.0000,9, 27.747, 32.381, 36.911, 41.339, 45.667
33RO20110828,   A10,    85,  1,      1,    001,2,20000101,0000,-30.0006, -33.9674, 2205,   2203.0,   2.8248,  34.8266,2,  34.8283,2,  34.9925,2,    223.9,2,    224.2,2,    46.26,2,    25.18,2,     0.00,2,     1.74,2,    0.032,2,    0.017,2,    0.241,3,   2202.0,6,   2325.4,2,   -999.0,9,  -999.00,   7.6614,2,    25.63,    0.000,2,   -999.0,1,   -999.0,1, -999.000,1,-999.0000,1,-999.0000,9,-999.0000,9,-999.0000,9, 27.779, 32.413, 36.943, 41.371, 45.698