BOTTLE,20130715NOAA
EXPOCODE,SECT_ID,STNNBR,CASTNO,SAMPNO,BTLNBR,BTLNBR_FLAG_W,DATE,TIME,LATITUDE,LONGITUDE,DEPTH,CTDPRS,CTDTMP,CTDSAL,CTDSAL_FLAG_W,SALNTY,SALNTY_FLAG_W,SALTREF,SALTREF_FLAG_W,CTDOXY,CTDOXY_FLAG_W,OXYGEN,OXYGEN_FLAG_W,SILCAT,SILCAT_FLAG_W,NITRAT,NITRAT_FLAG_W,NITRIT,NITRIT_FLAG_W,PHSPHT,PHSPHT_FLAG_W,CFC-11,CFC-11_FLAG_W,CFC-12,CFC-12_FLAG_W,CCL4,CCL4_FLAG_W,TCARBN,TCARBN_FLAG_W,ALKALI,ALKALI_FLAG_W,PCO2,PCO2_FLAG_W,PCO2TMP,PH_TOT,PH_TOT_FLAG_W,PH_TMP,SF6,SF6_FLAG_W,DOC,DOC_FLAG_W,TDN,TDN_FLAG_W,TRITUM,TRITUM_FLAG_W,HELIUM,HELIUM_FLAG_W,OXY_18,OXY_18_FLAG_W,BLACKC,BLACKC_FLAG_W,PIGMENTS,PIGMENTS_FLAG_W,SIGMA-THETA,SIGMA-1,SIGMA-2,SIGMA-3,SIGMA-4
,,,,,,,,,,,METERS,DBARS,ITS-90,PSS-78,,PSS-78,,G/KG,,UMOL/KG,,UMOL/KG,,UMOL/KG,,UMOL/KG,,UMOL/KG,,UMOL/KG,,PMOL/KG,,PMOL/KG,,PMOL/KG,,UMOL/KG,,UMOL/KG,,UATM@T,,DEG_C,,,DEG_C,FMOL/KG,,UMOL/KG,,UMOL/KG,,TU,,NMOL/KG,,,,,,,,,,,,
33RO20110828,   A10,   102,  1,     24,    024,2,20000101,0000,-29.6350, -41.1202, 3809,      5.0,  19.2707,  36.1767,2,  36.1779,2,  36.3485,2,    230.6,2,    230.4,2,     0.68,2,     0.00,2,     0.00,2,     0.03,2,    2.169,2,    1.325,2,    2.963,3,   2076.3,6,   2372.3,2,   -999.0,9,  -999.00,   7.9632,2,    25.55,    1.383,2,   -999.0,9,   -999.0,9, -999.000,9,-999.0000,9,-999.0000,9,-999.0000,9,-999.0000,1, 25.852, 30.128, 34.310, 38.401, 42.404
33RO20110828,   A10,   102,  1,     23,    023,2,20000101,0000,-29.6350, -41.1202, 3809,     45.0,  18.8654,  36.2345,2,  36.2351,2,  36.4059,2,    232.1,2,    232.4,2,     0.68,2,     0.00,2,     0.00,2,     0.04,2, -999.000,9, -999.000,9, -999.000,9,   2079.0,2,   2376.6,2,   -999.0,9,  -999.00,   7.9596,2,    25.58, -999.000,9,   -999.0,9,   -999.0,9, -999.000,9,-999.0000,9,-999.0000,9,-999.0000,9,-999.0000,9, 26.002, 30.284, 34.472, 38.569, 42.577
33RO20110828,   A10,   102,  1,     22,    022,2,20000101,0000,-29.6350, -41.1202, 3809,     79.2,  18.8714,  36.2573,2,  36.2576,2,  36.4286,2,    228.9,2,    229.7,2,     0.78,2,     0.00,2,     0.01,2,     0.05,2,    2.080,2,    1.339,2,    3.389,3,   -999.0,9,   -999.0,9,   -999.0,9,  -999.00,   7.9608,2,    25.55,    1.367,2,   -999.0,9,   -999.0,9, -999.000,9,-999.0000,9,-999.0000,9,-999.0000,9,-999.0000,1, 26.019, 30.301, 34.489, 38.586, 42.594
33RO20110828,   A10,   102,  1,     21,    021,2,20000101,0000,-29.6350, -41.1202, 3809,    134.6,  17.8730,  36.0810,2,  36.0794,2,  36.2495,2,    225.8,2,    226.7,2,     0.78,2,     0.78,2,     0.06,2,     0.09,2, -999.000,9, -999.000,9, -999.000,9,   2086.0,2,   2367.3,3,   -999.0,9,  -999.00,   7.9247,2,    25.56, -999.000,9,   -999.0,9,   -999.0,9, -999.000,9,-999.0000,9,-999.0000,9,-999.0000,9,-999.0000,1, 26.136, 30.436, 34.641, 38.754, 42.778
33RO20110828,   A10,   102,  1,     20,    020,2,20000101,0000,-29.6350, -41.1202, 3809,    181.1,  16.9187,  35.8664,2,  35.8738,2,  36.0430,2,    224.8,2,    222.4,2,     1.17,2,     1.95,2,     0.01,2,     0.17,2, -999.000,9, -999.000,9, -999.000,9,   -999.0,9,   -999.0,9,   -999.0,9,  -999.00,   7.9088,2,    25.56, -999.000,9,   -999.0,9,   -999.0,9, -999.000,9,-999.0000,9,-999.0000,9,-999.0000,9,-999.0000,9, 26.212, 30.529, 34.750, 38.880, 42.920
33RO20110828,   A10,   102,  1,     19,    019,2,20000101,0000,-29.6350, -41.1202, 3809,    269.8,  15.1003,  35.5765,2,  35.5760,2,  35.7438,2,    209.9,2,    209.9,2,     2.15,2,     6.15,2,     0.01,2,     0.39,2,    2.649,2,    1.566,2,    0.985,3,   2114.0,2,   2341.9,2,   -999.0,9,  -999.00,   7.8480,2,    25.50,    1.291,2,   -999.0,9,   -999.0,9, -999.000,9,-999.0000,9,-999.0000,9,-999.0000,9,-999.0000,9, 26.403, 30.754, 35.009, 39.171, 43.241
33RO20110828,   A10,   102,  1,     18,    018,2,20000101,0000,-29.6350, -41.1202, 3809,    341.0,  14.1753,  35.4600,2,  35.4599,2,  35.6271,2,    212.5,2,    212.5,2,     2.63,2,     8.00,2,     0.01,2,     0.49,2, -999.000,9, -999.000,9, -999.000,9,   -999.0,9,   -999.0,9,   -999.0,9,  -999.00,   7.8378,2,    25.54, -999.000,9,   -999.0,9,   -999.0,9, -999.000,9,-999.0000,9,-999.0000,9,-999.0000,9,-999.0000,9, 26.516, 30.885, 35.157, 39.336, 43.423
33RO20110828,   A10,   102,  1,     17,    017,2,20000101,0000,-29.6350, -41.1202, 3809,    440.6,  12.4326,  35.1637,2,  35.1618,2,  35.3276,2,    208.6,2,    209.6,2,     4.00,2,    11.90,2,     0.01,2,     0.68,2, -999.000,9, -999.000,9, -999.000,9,   2128.2,2,   2317.6,2,   -999.0,9,  -999.00,   7.7942,2,    25.53, -999.000,9,   -999.0,9,   -999.0,9, -999.000,9,-999.0000,9,-999.0000,9,-999.0000,9,-999.0000,9, 26.643, 31.047, 35.354, 39.566, 43.686
33RO20110828,   A10,   102,  1,     16,    016,2,20000101,0000,-29.6350, -41.1202, 3809,    541.4,  10.0140,  34.8084,2,  34.8095,2,  34.9736,2,    205.4,2,    205.1,2,     7.03,2,    17.86,2,     0.01,2,     0.99,2,    3.102,2,    1.672,2,    1.860,3,   -999.0,9,   -999.0,9,   -999.0,9,  -999.00,   7.7235,2,    25.62,    0.966,2,   -999.0,9,   -999.0,9, -999.000,9,-999.0000,9,-999.0000,9,-999.0000,9,-999.0000,9, 26.812, 31.269, 35.627, 39.888, 44.055
33RO20110828,   A10,   102,  1,     15,    015,2,20000101,0000,-29.6350, -41.1202, 3809,    640.2,   7.6745,  34.5327,2,  34.5330,2,  34.6958,2,    209.6,2,    209.3,2,    10.93,2,    23.04,2,     0.01,2,     1.26,2, -999.000,9, -999.000,9, -999.000,9,   2159.3,2,   2281.4,2,   -999.0,9,  -999.00,   7.6671,2,    25.53, -999.000,9,   -999.0,9,   -999.0,9, -999.000,9,-999.0000,9,-999.0000,9,-999.0000,9,-999.0000,9, 26.964, 31.476, 35.887, 40.199, 44.416
33RO20110828,   A10,   102,  1,     14,    014,2,20000101,0000,-29.6350, -41.1202, 3809,    741.1,   5.9020,  34.3574,2,  34.3574,2,  34.5194,2,    220.4,2,    223.8,2,    14.84,2,    26.07,2,     0.00,2,     1.46,2,    3.255,2,    1.671,2,    3.976,3,   -999.0,9,   -999.0,9,   -999.0,9,  -999.00,   7.6435,2,    25.55,    0.890,2,   -999.0,9,   -999.0,9, -999.000,9,-999.0000,9,-999.0000,9,-999.0000,9,-999.0000,9, 27.065, 31.621, 36.074, 40.428, 44.684
33RO20110828,   A10,   102,  1,     13,    013,2,20000101,0000,-29.6350, -41.1202, 3809,    839.8,   4.9551,  34.3004,2,  34.3011,2,  34.4629,2,    227.2,2,    226.0,2,    19.53,2,    28.02,2,     0.01,2,     1.59,2, -999.000,9, -999.000,9, -999.000,9,   -999.0,9,   -999.0,9,   -999.0,9,  -999.00,   7.6189,2,    25.53, -999.000,9,   -999.0,9,   -999.0,9, -999.000,9,-999.0000,9,-999.0000,9,-999.0000,9,-999.0000,9, 27.134, 31.714, 36.191, 40.567, 44.845
33RO20110828,   A10,   102,  1,     12,    012,2,20000101,0000,-29.6350, -41.1202, 3809,    974.5,   4.0545,  34.3140,2,  34.3156,2,  34.4774,2,    214.5,2,    213.2,2,    30.27,2,    30.66,2,     0.00,2,     1.83,2,    2.172,2,    1.068,2,    3.416,3,   2193.0,2,   2287.4,2,   -999.0,9,  -999.00,   7.5955,2,    25.51,    0.410,2,   -999.0,9,   -999.0,9, -999.000,9,-999.0000,9,-999.0000,9,-999.0000,9,-999.0000,9, 27.244, 31.847, 36.346, 40.745, 45.044
33RO20110828,   A10,   102,  1,     11,    011,2,20000101,0000,-29.6350, -41.1202, 3809,   1108.2,   3.4845,  34.3687,2,  34.3709,2,  34.5330,2,    200.9,2,    201.5,2,    41.10,2,    32.41,2,     0.00,2,     2.01,2, -999.000,9, -999.000,9, -999.000,9,   -999.0,9,   -999.0,9,   -999.0,9,  -999.00,   7.5680,2,    25.48, -999.000,9,   -999.0,9,   -999.0,9, -999.000,9,-999.0000,9,-999.0000,9,-999.0000,9,-999.0000,9, 27.345, 31.963, 36.477, 40.889, 45.202
33RO20110828,   A10,   102,  1,     10,    010,2,20000101,0000,-29.6350, -41.1202, 3809,   1328.4,   3.0765,  34.4984,2,  34.5018,2,  34.6645,2,    189.1,2,    188.8,2,    52.52,2,    32.51,2,     0.00,2,     2.13,2,    0.595,2,    0.287,2,    1.284,3,   2226.6,2,   2314.2,2,   -999.0,9,  -999.00,   7.5586,2,    25.59,    0.115,2,   -999.0,9,   -999.0,9, -999.000,9,-999.0000,9,-999.0000,9,-999.0000,9,-999.0000,9, 27.489, 32.117, 36.641, 41.063, 45.385
33RO20110828,   A10,   102,  1,      9,    009,2,20000101,0000,-29.6350, -41.1202, 3809,   1575.4,   2.9282,  34.6456,2,  34.6464,2,  34.8098,2,    192.4,2,    191.4,2,    55.35,2,    30.65,2,     0.00,2,     2.06,2, -999.000,9, -999.000,9, -999.000,9,   -999.0,9,   -999.0,9,   -999.0,9,  -999.00,   7.5827,2,    25.52, -999.000,9,   -999.0,9,   -999.0,9, -999.000,9,-999.0000,9,-999.0000,9,-999.0000,9,-999.0000,9, 27.620, 32.251, 36.778, 41.203, 45.528
33RO20110828,   A10,   102,  1,      8,    008,2,20000101,0000,-29.6350, -41.1202, 3809,   1799.1,   3.3501,  34.8254,2,  34.8304,2,  34.9946,2,    212.5,2,    216.3,2,    38.75,2,    25.38,2,     0.00,2,     1.63,2,    0.130,2,    0.066,2,    0.534,3,   2200.1,2,   2318.9,2,   -999.0,9,  -999.00,   7.6361,2,    25.53,    0.000,2,   -999.0,9,   -999.0,9, -999.000,9,-999.0000,9,-999.0000,9,-999.0000,9,-999.0000,9, 27.730, 32.349, 36.864, 41.278, 45.592
33RO20110828,   A10,   102,  1,      7,    007,2,20000101,0000,-29.6350, -41.1202, 3809,   2051.5,   3.2783,  34.8773,2,  34.8778,6,  35.0423,6,    231.4,2,    230.1,2,    35.04,2,    23.42,2,     0.00,2,     1.49,2,    0.135,2,    0.069,2,    0.539,3,   -999.0,9,   -999.0,9,   -999.0,9,  -999.00,   7.6582,2,    25.49,    0.000,2,   -999.0,9,   -999.0,9, -999.000,9,-999.0000,9,-999.0000,9,-999.0000,9,-999.0000,9, 27.776, 32.398, 36.915, 41.331, 45.646
33RO20110828,   A10,   102,  1,      6,    006,2,20000101,0000,-29.6350, -41.1202, 3809,   2349.2,   3.2823,  34.9346,2,  34.9394,2,  35.1041,2,    248.1,2,    247.5,2,    26.55,2,    20.69,2,     0.00,2,     1.27,2,    0.176,2,    0.090,2,    0.657,3,   -999.0,9,   -999.0,9,   -999.0,9,  -999.00,   7.6884,2,    25.59,    0.000,2,   -999.0,9,   -999.0,9, -999.000,9,-999.0000,9,-999.0000,9,-999.0000,9,-999.0000,9, 27.828, 32.450, 36.967, 41.383, 45.699
33RO20110828,   A10,   102,  1,      5,    005,2,20000101,0000,-29.6350, -41.1202, 3809,   2654.0,   3.0528,  34.9275,2,  34.9307,2,  35.0954,2,    248.9,2,    248.6,2,    29.47,2,    20.49,2,     0.00,2,     1.29,2,    0.113,2,    0.058,2,    0.483,3,   2177.8,2,   2318.7,2,   -999.0,9,  -999.00,   7.6976,2,    25.54,    0.036,2,   -999.0,9,   -999.0,9, -999.000,9,-999.0000,9,-999.0000,9,-999.0000,9,-999.0000,9, 27.845, 32.473, 36.998, 41.420, 45.742
33RO20110828,   A10,   102,  1,      4,    004,2,20000101,0000,-29.6350, -41.1202, 3809,   2925.8,   2.8865,  34.9234,2,  34.9327,2,  35.0974,2,    250.0,2,    250.5,2,    31.82,2,    20.69,2,     0.00,2,     1.32,2,    0.095,2,    0.048,2,    0.436,3,   -999.0,9,   -999.0,9,   -999.0,9,  -999.00,   7.7025,2,    25.57,    0.000,2,   -999.0,9,   -999.0,9, -999.000,9,-999.0000,9,-999.0000,9,-999.0000,9,-999.0000,9, 27.863, 32.497, 37.026, 41.454, 45.781
33RO20110828,   A10,   102,  1,      3,    003,2,20000101,0000,-29.6350, -41.1202, 3809,   3251.8,   2.5477,  34.8995,2,  34.9030,2,  35.0676,2,    249.2,2,    250.7,2,    40.01,2,    21.47,2,     0.00,2,     1.44,2,    0.075,2,    0.040,2,    0.372,3,   2185.6,2,   -999.0,5,   -999.0,9,  -999.00,   7.6883,2,    25.55,    0.030,2,   -999.0,9,   -999.0,9, -999.000,9,-999.0000,9,-999.0000,9,-999.0000,9,-999.0000,9, 27.871, 32.515, 37.054, 41.491, 45.827
33RO20110828,   A10,   102,  1,      2,    002,2,20000101,0000,-29.6350, -41.1202, 3809,   3546.6,   1.4873,  34.7924,2,  34.7953,2,  34.9593,2,    233.8,2,    231.9,2,    81.40,2,    27.04,2,     0.00,2,     2.12,2,    0.096,2,    0.047,2,    0.328,3,   -999.0,9,   -999.0,9,   -999.0,9,  -999.00,   7.6363,2,    25.51,    0.092,2,   -999.0,9,   -999.0,9, -999.000,9,-999.0000,9,-999.0000,9,-999.0000,9,-999.0000,9, 27.866, 32.541, 37.110, 41.576, 45.941
33RO20110828,   A10,   102,  1,      1,    001,2,20000101,0000,-29.6350, -41.1202, 3809,   3817.2,   0.7457,  34.7158,2,  34.7162,2,  34.8799,2,    220.6,2,    221.4,2,   111.86,2,    30.75,2,     0.00,2,     2.61,2,    0.229,2,    0.110,2,    0.543,3,   2253.7,6,   2355.9,2,   -999.0,9,  -999.00,   7.5957,2,    25.50,    0.097,2,   -999.0,9,   -999.0,9, -999.000,9,-999.0000,9,-999.0000,9,-999.0000,9,-999.0000,9, 27.851, 32.548, 37.139, 41.626, 46.011