BOTTLE,20130715NOAA
EXPOCODE,SECT_ID,STNNBR,CASTNO,SAMPNO,BTLNBR,BTLNBR_FLAG_W,DATE,TIME,LATITUDE,LONGITUDE,DEPTH,CTDPRS,CTDTMP,CTDSAL,CTDSAL_FLAG_W,SALNTY,SALNTY_FLAG_W,SALTREF,SALTREF_FLAG_W,CTDOXY,CTDOXY_FLAG_W,OXYGEN,OXYGEN_FLAG_W,SILCAT,SILCAT_FLAG_W,NITRAT,NITRAT_FLAG_W,NITRIT,NITRIT_FLAG_W,PHSPHT,PHSPHT_FLAG_W,CFC-11,CFC-11_FLAG_W,CFC-12,CFC-12_FLAG_W,CCL4,CCL4_FLAG_W,TCARBN,TCARBN_FLAG_W,ALKALI,ALKALI_FLAG_W,PCO2,PCO2_FLAG_W,PCO2TMP,PH_TOT,PH_TOT_FLAG_W,PH_TMP,SF6,SF6_FLAG_W,DOC,DOC_FLAG_W,TDN,TDN_FLAG_W,TRITUM,TRITUM_FLAG_W,HELIUM,HELIUM_FLAG_W,OXY_18,OXY_18_FLAG_W,BLACKC,BLACKC_FLAG_W,PIGMENTS,PIGMENTS_FLAG_W,SIGMA-THETA,SIGMA-1,SIGMA-2,SIGMA-3,SIGMA-4
,,,,,,,,,,,METERS,DBARS,ITS-90,PSS-78,,PSS-78,,G/KG,,UMOL/KG,,UMOL/KG,,UMOL/KG,,UMOL/KG,,UMOL/KG,,UMOL/KG,,PMOL/KG,,PMOL/KG,,PMOL/KG,,UMOL/KG,,UMOL/KG,,UATM@T,,DEG_C,,,DEG_C,FMOL/KG,,UMOL/KG,,UMOL/KG,,TU,,NMOL/KG,,,,,,,,,,,,
33RO20110828,   A10,    37,  1,     24,    024,2,20000101,0000,-30.0002,  -2.7828, 4267,      4.3,  18.6239,  35.9325,2,  35.9322,2,  36.1016,2,    238.6,2,    237.6,2,     1.17,2,     0.00,2,     0.00,2,     0.18,2,    2.308,2,    1.405,2,    2.895,2,   2088.5,2,   2358.7,2,   -999.0,9,  -999.00,   7.9186,2,    25.70,    1.437,2,   -999.0,1,   -999.0,1, -999.000,9,-999.0000,9,-999.0000,9,-999.0000,9,-999.0000,1, 25.830, 30.118, 34.311, 38.413, 42.427
33RO20110828,   A10,    37,  1,     23,    023,2,20000101,0000,-30.0002,  -2.7828, 4267,     39.5,  17.5139,  35.8504,2,  35.8504,2,  36.0194,2,    243.5,2,    244.2,2,     1.17,2,     0.10,2,     0.00,2,     0.17,2,    2.392,2,    1.452,2,    3.375,2,   2080.1,6,   2351.7,2,   -999.0,9,  -999.00,   7.9253,3,    25.71,    1.498,2,   -999.0,1,   -999.0,1, -999.000,9,-999.0000,9,-999.0000,9,-999.0000,9,-999.0000,9, 26.045, 30.351, 34.563, 38.683, 42.713
33RO20110828,   A10,    37,  1,     22,    022,2,20000101,0000,-30.0002,  -2.7828, 4267,     89.0,  16.8086,  35.7633,2,  35.7578,2,  35.9264,2,    239.9,2,    239.6,2,     1.56,2,     0.39,2,     0.23,2,     0.23,2,    2.426,2,    1.464,2,    2.413,2,   2085.5,2,   2350.7,2,   -999.0,9,  -999.00,   7.8881,2,    25.71,    1.470,2,   -999.0,1,   -999.0,1, -999.000,9,-999.0000,9,-999.0000,9,-999.0000,9,-999.0000,1, 26.145, 30.464, 34.688, 38.820, 42.862
33RO20110828,   A10,    37,  1,     21,    021,2,20000101,0000,-30.0002,  -2.7828, 4267,    139.7,  16.5173,  35.7303,2,  35.7301,2,  35.8986,2,    232.8,2,    233.8,2,     1.95,2,     1.27,2,     0.43,2,     0.28,2,    2.320,2,    1.399,2,    1.798,2,   2085.8,2,   2343.4,2,   -999.0,9,  -999.00,   7.9094,2,    25.74,    1.373,2,   -999.0,1,   -999.0,1, -999.000,9,-999.0000,9,-999.0000,9,-999.0000,9,-999.0000,1, 26.195, 30.519, 34.748, 38.885, 42.932
33RO20110828,   A10,    37,  1,     20,    020,2,20000101,0000,-30.0002,  -2.7828, 4267,    189.5,  15.2497,  35.4786,2,  35.4807,2,  35.6480,2,    223.0,2,    223.0,2,     2.73,2,     4.58,2,     0.02,2,     0.48,2,    2.614,2,    1.561,2,    0.955,2,   2097.1,2,   2330.5,2,   -999.0,9,  -999.00,   7.8743,2,    25.72,    1.414,2,   -999.0,1,   -999.0,1, -999.000,9,-999.0000,9,-999.0000,9,-999.0000,9,-999.0000,9, 26.294, 30.643, 34.895, 39.055, 43.123
33RO20110828,   A10,    37,  1,     19,    019,2,20000101,0000,-30.0002,  -2.7828, 4267,    257.8,  13.5337,  35.2011,2,  35.2015,2,  35.3675,2,    220.1,2,    219.5,2,     3.32,2,     7.90,2,     0.01,2,     0.70,2,    2.873,2,    1.678,2,    0.742,2,   2108.4,2,   2314.3,2,   -999.0,9,  -999.00,   7.8216,3,    25.69,    1.444,2,   -999.0,1,   -999.0,1, -999.000,9,-999.0000,9,-999.0000,9,-999.0000,9,-999.0000,9, 26.448, 30.830, 35.116, 39.307, 43.406
33RO20110828,   A10,    37,  1,     18,    018,2,20000101,0000,-30.0002,  -2.7828, 4267,    360.3,  11.7837,  35.0141,2,  35.0146,2,  35.1797,2,    208.5,2,    207.7,2,     5.27,2,    13.37,2,     0.01,2,     1.07,2,    3.062,2,    1.723,2,    0.802,2,   2130.5,2,   2306.1,2,   -999.0,9,  -999.00,   7.7627,2,    25.62,    1.197,2,   -999.0,1,   -999.0,1, -999.000,9,-999.0000,9,-999.0000,9,-999.0000,9,-999.0000,9, 26.650, 31.069, 35.389, 39.614, 43.746
33RO20110828,   A10,    37,  1,     17,    017,2,20000101,0000,-30.0002,  -2.7828, 4267,    438.6,  10.6714,  34.8765,2,  34.8753,2,  35.0397,2,    209.8,2,    209.0,2,     6.54,2,    15.91,2,     0.01,2,     1.24,2,    3.123,2,    1.728,2,    0.956,2,   2136.8,2,   2300.2,2,   -999.0,9,  -999.00,   7.7371,2,    25.62,    1.141,2,   -999.0,1,   -999.0,1, -999.000,9,-999.0000,9,-999.0000,9,-999.0000,9,-999.0000,9, 26.747, 31.190, 35.533, 39.781, 43.935
33RO20110828,   A10,    37,  1,     16,    016,2,20000101,0000,-30.0002,  -2.7828, 4267,    541.3,   8.8576,  34.6585,2,  34.6592,2,  34.8227,2,    205.1,2,    205.9,2,     9.86,2,    20.40,2,     0.01,2,     1.56,2,    3.145,2,    1.692,2,    1.369,2,   2152.1,2,   2291.6,2,   -999.0,9,  -999.00,   7.6960,2,    25.69,    1.027,2,   -999.0,1,   -999.0,1, -999.000,9,-999.0000,9,-999.0000,9,-999.0000,9,-999.0000,9, 26.883, 31.367, 35.751, 40.037, 44.228
33RO20110828,   A10,    37,  1,     15,    015,2,20000101,0000,-30.0002,  -2.7828, 4267,    659.7,   6.7208,  34.4459,2,  34.4462,2,  34.6086,2,    206.0,2,    206.6,2,    15.72,2,    25.87,2,     0.00,2,     1.93,2,    3.069,2,    1.608,2,    2.165,2,   2167.4,2,   2285.4,2,   -999.0,9,  -999.00,   7.6340,2,    25.66,    0.892,2,   -999.0,1,   -999.0,1, -999.000,9,-999.0000,9,-999.0000,9,-999.0000,9,-999.0000,9, 27.029, 31.564, 35.997, 40.331, 44.569
33RO20110828,   A10,    37,  1,     14,    014,2,20000101,0000,-30.0002,  -2.7828, 4267,    797.2,   5.1205,  34.3272,2,  34.3278,2,  34.4897,2,    216.3,2,    217.1,2,    21.58,2,    28.70,2,     0.00,2,     2.14,2,    2.953,2,    1.507,2,    2.543,2,   2175.4,2,   2285.7,2,   -999.0,9,  -999.00,   7.6154,2,    25.56,    0.701,2,   -999.0,1,   -999.0,1, -999.000,9,-999.0000,9,-999.0000,9,-999.0000,9,-999.0000,9, 27.136, 31.711, 36.184, 40.556, 44.830
33RO20110828,   A10,    37,  1,     13,    013,2,20000101,0000,-30.0002,  -2.7828, 4267,    949.9,   4.0836,  34.3384,2,  34.3377,2,  34.4996,2,    206.6,2,    205.4,2,    33.29,2,    31.24,2,     0.00,2,     2.34,2,    2.130,2,    1.056,2,    2.022,2,   2195.8,2,   2295.7,2,   -999.0,9,  -999.00,   7.5618,2,    25.59,    0.487,2,   -999.0,1,   -999.0,1, -999.000,9,-999.0000,9,-999.0000,9,-999.0000,9,-999.0000,9, 27.258, 31.860, 36.359, 40.756, 45.054
33RO20110828,   A10,    37,  1,     12,    012,2,20000101,0000,-30.0002,  -2.7828, 4267,   1125.3,   3.4392,  34.4424,2,  34.4423,2,  34.6047,2,    186.4,2,    186.3,2,    48.23,2,    32.70,2,     0.01,2,     2.47,2,    1.005,2,    0.484,2,    0.894,2,   2221.2,6,   2311.2,2,   -999.0,9,  -999.00,   7.5616,2,    25.63,    0.155,2,   -999.0,1,   -999.0,1, -999.000,9,-999.0000,9,-999.0000,9,-999.0000,9,-999.0000,9, 27.406, 32.025, 36.539, 40.952, 45.265
33RO20110828,   A10,    37,  1,     11,    011,2,20000101,0000,-30.0002,  -2.7828, 4267,   1300.4,   3.1304,  34.5439,2,  34.5438,2,  34.7067,2,    181.5,2,    182.0,2,    55.15,2,    32.51,2,     0.00,2,     2.45,2,    0.499,2,    0.236,2,    0.474,2,   2226.8,2,   2320.8,2,   -999.0,9,  -999.00,   7.5629,2,    25.54,    0.086,2,   -999.0,1,   -999.0,1, -999.000,9,-999.0000,9,-999.0000,9,-999.0000,9,-999.0000,9, 27.517, 32.144, 36.666, 41.086, 45.406
33RO20110828,   A10,    37,  1,     10,    010,2,20000101,0000,-30.0002,  -2.7828, 4267,   1601.6,   2.9852,  34.6888,2,  34.6895,6,  34.8531,6,    193.5,2,    193.6,2,    53.98,2,    29.77,2,     0.01,2,     2.23,2,    0.153,2,    0.072,2,    0.189,2,   2220.3,2,   2327.3,2,   -999.0,9,  -999.00,   7.5845,2,    25.58,    0.037,2,   -999.0,1,   -999.0,1, -999.000,9,-999.0000,9,-999.0000,9,-999.0000,9,-999.0000,9, 27.649, 32.278, 36.804, 41.227, 45.550
33RO20110828,   A10,    37,  1,      9,    009,2,20000101,0000,-30.0002,  -2.7828, 4267,   1900.5,   2.8043,  34.7753,2,  34.7757,2,  34.9397,2,    208.6,2,    209.6,2,    52.70,2,    27.43,2,     0.00,2,     2.03,2,    0.056,2,    0.027,2,    0.101,2,   2211.9,2,   2330.7,2,   -999.0,9,  -999.00,   7.6180,2,    25.56,    0.000,2,   -999.0,1,   -999.0,1, -999.000,9,-999.0000,9,-999.0000,9,-999.0000,9,-999.0000,9, 27.736, 32.371, 36.901, 41.329, 45.657
33RO20110828,   A10,    37,  1,      8,    008,2,20000101,0000,-30.0002,  -2.7828, 4267,   2197.5,   2.5695,  34.8173,2,  34.8184,2,  34.9825,2,    221.2,2,    220.5,2,    53.78,2,    25.77,2,     0.00,2,     1.91,2,    0.030,2,    0.015,2,    0.076,2,   2206.0,2,   2334.1,2,   -999.0,9,  -999.00,   7.6488,2,    25.55,    0.000,2,   -999.0,1,   -999.0,1, -999.000,9,-999.0000,9,-999.0000,9,-999.0000,9,-999.0000,9, 27.793, 32.434, 36.971, 41.405, 45.739
33RO20110828,   A10,    37,  1,      7,    007,2,20000101,0000,-30.0002,  -2.7828, 4267,   2499.2,   2.4574,  34.8450,2,  34.8453,2,  35.0096,2,    230.9,2,    229.5,2,    52.60,2,    24.59,2,     0.01,2,     1.82,2,    0.014,2,    0.007,2,    0.054,2,   2201.0,2,   2334.3,2,   -999.0,9,  -999.00,   7.6607,2,    25.60,    0.000,2,   -999.0,1,   -999.0,1, -999.000,9,-999.0000,9,-999.0000,9,-999.0000,9,-999.0000,9, 27.826, 32.471, 37.011, 41.449, 45.786
33RO20110828,   A10,    37,  1,      6,    006,2,20000101,0000,-30.0002,  -2.7828, 4267,   2800.2,   2.3871,  34.8603,2,  34.8609,2,  35.0252,2,    235.8,2,    237.0,2,    51.72,2,    24.01,2,     0.01,2,     1.77,2,    0.005,2,    0.003,2,    0.027,2,   2197.9,2,   2336.8,2,   -999.0,9,  -999.00,   7.6639,2,    25.65,    0.000,2,   -999.0,1,   -999.0,1, -999.000,9,-999.0000,9,-999.0000,9,-999.0000,9,-999.0000,9, 27.846, 32.494, 37.036, 41.477, 45.816
33RO20110828,   A10,    37,  1,      5,    005,2,20000101,0000,-30.0002,  -2.7828, 4267,   3102.5,   2.3601,  34.8675,2,  34.8416,2,  35.0059,2,    237.0,2,    237.3,2,    51.92,2,    23.81,2,     0.00,2,     1.75,2,    0.004,2,    0.002,2,    0.025,2,   2199.6,2,   2339.6,2,   -999.0,9,  -999.00,   7.6769,2,    25.67,    0.000,2,   -999.0,1,   -999.0,1, -999.000,9,-999.0000,9,-999.0000,9,-999.0000,9,-999.0000,9, 27.836, 32.485, 37.029, 41.471, 45.812
33RO20110828,   A10,    37,  1,      4,    004,2,20000101,0000,-30.0002,  -2.7828, 4267,   3400.7,   2.3436,  34.8735,2,  34.8741,2,  35.0386,2,    236.3,2,    236.0,2,    52.31,2,    23.52,2,     0.01,2,     1.73,2,    0.003,2,    0.003,2,    0.014,2,   2202.9,2,   2347.5,2,   -999.0,9,  -999.00,   7.6821,2,    25.61,    0.000,2,   -999.0,1,   -999.0,1, -999.000,9,-999.0000,9,-999.0000,9,-999.0000,9,-999.0000,9, 27.866, 32.516, 37.061, 41.504, 45.846
33RO20110828,   A10,    37,  1,      3,    003,2,20000101,0000,-30.0002,  -2.7828, 4267,   3701.0,   2.3380,  34.8757,2,  34.8763,2,  35.0408,2,    234.9,2,    235.2,2,    53.09,2,    23.62,2,     0.01,2,     1.73,2,    0.004,2,    0.002,2,    0.019,2,   2206.9,2,   2352.3,2,   -999.0,9,  -999.00,   7.6877,3,    25.60,    0.000,2,   -999.0,1,   -999.0,1, -999.000,9,-999.0000,9,-999.0000,9,-999.0000,9,-999.0000,9, 27.870, 32.521, 37.068, 41.512, 45.854
33RO20110828,   A10,    37,  1,      2,    002,2,20000101,0000,-30.0002,  -2.7828, 4267,   3999.8,   2.3241,  34.8729,2,  34.8738,2,  35.0382,2,    233.5,2,    233.4,2,    55.34,2,    24.01,2,     0.01,2,     1.75,2,    0.005,2,    0.004,2,    0.014,2,   2209.6,2,   2352.2,2,   -999.0,9,  -999.00,   7.6886,2,    25.60,    0.000,2,   -999.0,1,   -999.0,1, -999.000,9,-999.0000,9,-999.0000,9,-999.0000,9,-999.0000,9, 27.872, 32.524, 37.072, 41.517, 45.861
33RO20110828,   A10,    37,  1,      1,    001,2,20000101,0000,-30.0002,  -2.7828, 4267,   4343.9,   2.2535,  34.8605,2,  34.8624,2,  35.0268,2,    231.2,2,    231.1,2,    60.22,2,    24.79,2,     0.00,2,     1.81,2,    0.009,2,    0.006,2,    0.022,2,   2215.1,6,   2358.0,2,   -999.0,9,  -999.00,   7.6947,2,    25.59,    0.039,3,   -999.0,1,   -999.0,1, -999.000,9,-999.0000,9,-999.0000,9,-999.0000,9,-999.0000,9, 27.872, 32.527, 37.078, 41.526, 45.873