BOTTLE,20130715NOAA
EXPOCODE,SECT_ID,STNNBR,CASTNO,SAMPNO,BTLNBR,BTLNBR_FLAG_W,DATE,TIME,LATITUDE,LONGITUDE,DEPTH,CTDPRS,CTDTMP,CTDSAL,CTDSAL_FLAG_W,SALNTY,SALNTY_FLAG_W,SALTREF,SALTREF_FLAG_W,CTDOXY,CTDOXY_FLAG_W,OXYGEN,OXYGEN_FLAG_W,SILCAT,SILCAT_FLAG_W,NITRAT,NITRAT_FLAG_W,NITRIT,NITRIT_FLAG_W,PHSPHT,PHSPHT_FLAG_W,CFC-11,CFC-11_FLAG_W,CFC-12,CFC-12_FLAG_W,CCL4,CCL4_FLAG_W,TCARBN,TCARBN_FLAG_W,ALKALI,ALKALI_FLAG_W,PCO2,PCO2_FLAG_W,PCO2TMP,PH_TOT,PH_TOT_FLAG_W,PH_TMP,SF6,SF6_FLAG_W,DOC,DOC_FLAG_W,TDN,TDN_FLAG_W,TRITUM,TRITUM_FLAG_W,HELIUM,HELIUM_FLAG_W,OXY_18,OXY_18_FLAG_W,BLACKC,BLACKC_FLAG_W,PIGMENTS,PIGMENTS_FLAG_W,SIGMA-THETA,SIGMA-1,SIGMA-2,SIGMA-3,SIGMA-4
,,,,,,,,,,,METERS,DBARS,ITS-90,PSS-78,,PSS-78,,G/KG,,UMOL/KG,,UMOL/KG,,UMOL/KG,,UMOL/KG,,UMOL/KG,,UMOL/KG,,PMOL/KG,,PMOL/KG,,PMOL/KG,,UMOL/KG,,UMOL/KG,,UATM@T,,DEG_C,,,DEG_C,FMOL/KG,,UMOL/KG,,UMOL/KG,,TU,,NMOL/KG,,,,,,,,,,,,
33RO20110828,   A10,    22,  1,     24,    024,2,20000101,0000,-29.6346,   3.8509, 4993,      4.5,  17.6662,  35.7642,2,  35.7637,2,  35.9323,2,    241.9,2,    242.8,2,     1.66,2,     0.00,2,     0.00,2,     0.16,2,    2.405,2,    1.459,2,    3.207,2,   2074.7,6,   2340.4,3,   -999.0,9,  -999.00,   7.9520,2,    25.44,    1.501,2,   -999.0,9,   -999.0,9, -999.000,1,-999.0000,1,-999.0000,1,-999.0000,9,-999.0000,1, 25.940, 30.244, 34.454, 38.572, 42.600
33RO20110828,   A10,    22,  1,     23,    023,2,20000101,0000,-29.6346,   3.8509, 4993,     25.2,  17.3629,  35.7498,2,  35.7495,2,  35.9180,2,    244.3,2,    244.2,2,     1.66,2,     0.00,2,     0.01,2,     0.16,2,    2.451,2,    1.468,2,    3.586,2,   2073.9,2,   2341.8,3,   -999.0,9,  -999.00,   7.9411,2,    25.39,    1.466,2,   -999.0,9,   -999.0,9, -999.000,1,-999.0000,1,-999.0000,1,-999.0000,9,-999.0000,9, 26.003, 30.313, 34.528, 38.651, 42.684
33RO20110828,   A10,    22,  1,     22,    022,2,20000101,0000,-29.6346,   3.8509, 4993,     65.5,  16.9857,  35.7149,2,  35.7066,2,  35.8750,2,    247.9,2,    245.7,2,     1.76,2,     0.20,2,     0.04,2,     0.18,2,    2.473,2,    1.473,2,    3.363,2,   2073.7,2,   2348.3,2,   -999.0,9,  -999.00,   7.9475,2,    25.41,    1.448,2,   -999.0,9,   -999.0,9, -999.000,1,-999.0000,1,-999.0000,1,-999.0000,9,-999.0000,1, 26.063, 30.379, 34.601, 38.730, 42.769
33RO20110828,   A10,    22,  1,     21,    021,2,20000101,0000,-29.6346,   3.8509, 4993,    120.6,  16.2500,  35.6453,2,  35.6451,2,  35.8131,2,    239.6,2,    241.6,2,     2.24,2,     1.07,2,     0.29,2,     0.25,2,    2.516,2,    1.502,2,    2.813,2,   2077.5,2,   2343.0,2,   -999.0,9,  -999.00,   7.9357,2,    25.39,    1.425,2,   -999.0,9,   -999.0,9, -999.000,1,-999.0000,1,-999.0000,1,-999.0000,9,-999.0000,1, 26.191, 30.520, 34.755, 38.896, 42.948
33RO20110828,   A10,    22,  1,     20,    020,2,20000101,0000,-29.6346,   3.8509, 4993,    175.2,  16.1124,  35.6378,2,  35.6354,2,  35.8034,2,    234.7,2,    234.7,2,     2.34,2,     1.85,2,     0.53,2,     0.30,2,    2.521,2,    1.498,2,    2.333,2,   -999.0,9,   2341.4,2,   -999.0,9,  -999.00,   7.9231,2,    25.39,    1.478,2,   -999.0,9,   -999.0,9, -999.000,1,-999.0000,1,-999.0000,1,-999.0000,9,-999.0000,9, 26.217, 30.549, 34.786, 38.930, 42.984
33RO20110828,   A10,    22,  1,     19,    019,2,20000101,0000,-29.6346,   3.8509, 4993,    255.7,  13.7916,  35.2323,2,  35.2324,2,  35.3985,2,    220.4,2,    219.2,2,     3.22,2,     7.51,2,     0.02,2,     0.59,2,    2.853,2,    1.663,2,    1.056,2,   2106.0,2,   2308.0,3,   -999.0,9,  -999.00,-999.0000,5,  -999.00,    1.448,2,   -999.0,9,   -999.0,9, -999.000,1,-999.0000,1,-999.0000,1,-999.0000,9,-999.0000,9, 26.418, 30.796, 35.076, 39.263, 43.357
33RO20110828,   A10,    22,  1,     18,    018,2,20000101,0000,-29.6346,   3.8509, 4993,    334.8,  12.4694,  35.0806,2,  35.0794,2,  35.2448,2,    217.6,2,    216.4,2,     4.20,2,    10.93,2,     0.01,2,     0.79,2,    3.048,2,    1.734,2,    1.128,2,   -999.0,3,   2297.1,3,   -999.0,9,  -999.00,   7.8043,2,    25.38,    1.327,2,   -999.0,9,   -999.0,9, -999.000,1,-999.0000,1,-999.0000,1,-999.0000,9,-999.0000,9, 26.569, 30.973, 35.280, 39.491, 43.610
33RO20110828,   A10,    22,  1,     17,    017,2,20000101,0000,-29.6346,   3.8509, 4993,    424.9,  11.1011,  34.9300,2,  34.9275,2,  35.0922,2,    214.6,2,    214.5,2,     5.56,2,    14.44,2,     0.01,2,     0.99,2,    3.165,2,    1.758,2,    1.202,2,   2128.3,2,   2292.4,3,   -999.0,9,  -999.00,   7.7713,2,    25.37,    1.192,2,   -999.0,9,   -999.0,9, -999.000,1,-999.0000,1,-999.0000,1,-999.0000,9,-999.0000,9, 26.710, 31.144, 35.478, 39.717, 43.863
33RO20110828,   A10,    22,  1,     16,    016,2,20000101,0000,-29.6346,   3.8509, 4993,    574.9,   8.1014,  34.5743,2,  34.5719,2,  34.7349,2,    203.0,2,    206.2,2,    11.81,2,    22.35,2,     0.01,2,     1.49,2,    3.142,2,    1.672,2,    2.021,2,   -999.0,9,   2291.0,2,   -999.0,9,  -999.00,   7.6791,2,    25.41,    0.983,2,   -999.0,9,   -999.0,9, -999.000,1,-999.0000,1,-999.0000,1,-999.0000,9,-999.0000,9, 26.931, 31.433, 35.834, 40.136, 44.344
33RO20110828,   A10,    22,  1,     15,    015,2,20000101,0000,-29.6346,   3.8509, 4993,    739.6,   5.4099,  34.3486,2,  34.3490,2,  34.5109,2,    214.1,2,    213.3,2,    20.89,2,    28.02,2,     0.00,2,     1.88,2,    2.969,2,    1.516,2,    2.730,2,   2174.2,2,   2289.4,2,   -999.0,9,  -999.00,   7.6652,4,    25.43,    0.810,2,   -999.0,9,   -999.0,9, -999.000,1,-999.0000,1,-999.0000,1,-999.0000,9,-999.0000,9, 27.118, 31.686, 36.151, 40.517, 44.784
33RO20110828,   A10,    22,  1,     14,    014,2,20000101,0000,-29.6346,   3.8509, 4993,    895.5,   4.2688,  34.3658,2,  34.3671,2,  34.5292,2,    195.6,2,    195.0,2,    34.17,2,    31.73,2,     0.00,2,     2.15,2,    1.871,2,    0.916,2,    2.001,2,   -999.0,3,   2295.2,3,   -999.0,9,  -999.00,   7.5853,2,    25.42,    0.361,2,   -999.0,9,   -999.0,9, -999.000,1,-999.0000,1,-999.0000,1,-999.0000,9,-999.0000,9, 27.262, 31.859, 36.352, 40.745, 45.038
33RO20110828,   A10,    22,  1,     13,    013,2,20000101,0000,-29.6346,   3.8509, 4993,   1055.7,   3.7390,  34.4255,2,  34.4254,2,  34.5878,2,    183.3,2,    183.6,2,    43.93,2,    32.90,2,     0.01,2,     2.26,2,    1.120,2,    0.536,2,    1.384,2,   2216.0,2,   2303.6,3,   -999.0,9,  -999.00,   7.5668,2,    25.40,    0.189,2,   -999.0,9,   -999.0,9, -999.000,1,-999.0000,1,-999.0000,1,-999.0000,9,-999.0000,9, 27.363, 31.974, 36.481, 40.886, 45.192
33RO20110828,   A10,    22,  1,     12,    012,2,20000101,0000,-29.6346,   3.8509, 4993,   1285.8,   3.2252,  34.5569,2,  34.5564,2,  34.7194,2,    179.5,2,    178.8,2,    53.59,2,    32.51,2,     0.01,2,     2.26,2,    0.417,2,    0.195,2,    0.625,2,   2227.2,2,   2324.1,2,   -999.0,9,  -999.00,   7.5744,2,    25.47,    0.057,2,   -999.0,9,   -999.0,9, -999.000,1,-999.0000,1,-999.0000,1,-999.0000,9,-999.0000,9, 27.519, 32.142, 36.662, 41.080, 45.397
33RO20110828,   A10,    22,  1,     11,    011,2,20000101,0000,-29.6346,   3.8509, 4993,   1534.5,   3.1060,  34.7067,2,  34.7081,2,  34.8718,2,    191.7,2,    191.7,2,    50.95,2,    29.38,2,     0.01,2,     2.04,2,    0.115,2,    0.053,2,    0.233,2,   2217.4,2,   2327.5,2,   -999.0,9,  -999.00,   7.6016,2,    25.38,    0.000,2,   -999.0,9,   -999.0,9, -999.000,1,-999.0000,1,-999.0000,1,-999.0000,9,-999.0000,9, 27.653, 32.279, 36.801, 41.221, 45.541
33RO20110828,   A10,    22,  1,     10,    010,2,20000101,0000,-29.6346,   3.8509, 4993,   1800.1,   3.0878,  34.7937,2,  34.7935,2,  34.9575,2,    208.3,2,    208.4,2,    44.99,2,    26.84,2,     0.01,2,     1.84,2,    0.041,2,    0.020,2,    0.105,2,   -999.0,3,   2317.2,3,   -999.0,9,  -999.00,   7.6378,2,    25.42,    0.055,2,   -999.0,9,   -999.0,9, -999.000,1,-999.0000,1,-999.0000,1,-999.0000,9,-999.0000,9, 27.725, 32.351, 36.873, 41.294, 45.614
33RO20110828,   A10,    22,  1,      9,    009,2,20000101,0000,-29.6346,   3.8509, 4993,   2100.6,   2.9064,  34.8376,2,  34.8381,2,  35.0024,2,    220.0,2,    220.3,2,    44.80,2,    25.08,2,     0.01,2,     1.72,2,    0.018,2,    0.009,2,    0.083,2,   -999.0,3,   2324.3,3,   -999.0,9,  -999.00,   7.6595,2,    25.41,    0.000,2,   -999.0,9,   -999.0,9, -999.000,1,-999.0000,1,-999.0000,1,-999.0000,9,-999.0000,9, 27.779, 32.410, 36.938, 41.363, 45.689
33RO20110828,   A10,    22,  1,      8,    008,2,20000101,0000,-29.6346,   3.8509, 4993,   2401.1,   2.5939,  34.8391,2,  34.8395,2,  35.0038,2,    225.1,2,    225.0,2,    51.14,2,    25.08,2,     0.00,2,     1.75,2,    0.016,2,    0.008,2,    0.055,2,   2200.7,2,   2330.6,3,   -999.0,9,  -999.00,   7.6660,2,    25.38,    0.000,2,   -999.0,9,   -999.0,9, -999.000,9,-999.0000,1,-999.0000,1,-999.0000,9,-999.0000,9, 27.809, 32.450, 36.986, 41.420, 45.754
33RO20110828,   A10,    22,  1,      7,    007,2,20000101,0000,-29.6346,   3.8509, 4993,   2701.1,   2.4144,  34.8503,2,  34.8515,2,  35.0159,2,    229.5,2,    229.8,2,    53.68,2,    24.89,2,     0.01,2,     1.73,2,    0.010,2,    0.007,2,    0.034,2,   -999.0,3,   2328.6,3,   -999.0,9,  -999.00,   7.6729,2,    25.42,    0.000,2,   -999.0,9,   -999.0,9, -999.000,1,-999.0000,1,-999.0000,9,-999.0000,9,-999.0000,9, 27.836, 32.482, 37.024, 41.463, 45.802
33RO20110828,   A10,    22,  1,      6,    006,2,20000101,0000,-29.6346,   3.8509, 4993,   3000.1,   2.2810,  34.8508,2,  34.8512,2,  35.0155,2,    230.4,2,    231.4,2,    57.29,2,    24.69,2,     0.01,2,     1.74,2,    0.009,2,    0.005,2,    0.028,2,   2205.9,2,   2338.1,3,   -999.0,9,  -999.00,   7.6763,2,    25.45,    0.000,2,   -999.0,9,   -999.0,9, -999.000,9,-999.0000,1,-999.0000,9,-999.0000,9,-999.0000,9, 27.849, 32.499, 37.046, 41.489, 45.832
33RO20110828,   A10,    22,  1,      5,    005,2,20000101,0000,-29.6346,   3.8509, 4993,   3400.4,   2.1471,  34.8428,2,  34.8443,6,  35.0086,6,    229.7,2,    228.9,2,    62.56,2,    25.28,2,     0.00,2,     1.79,2,    0.012,2,    0.006,2,    0.026,2,   -999.0,9,   2350.1,2,   -999.0,9,  -999.00,   7.6741,2,    25.36,    0.000,2,   -999.0,9,   -999.0,9, -999.000,1,-999.0000,1,-999.0000,9,-999.0000,9,-999.0000,9, 27.856, 32.512, 37.062, 41.511, 45.857
33RO20110828,   A10,    22,  1,      4,    004,2,20000101,0000,-29.6346,   3.8509, 4993,   3800.4,   1.8411,  34.8084,2,  34.8085,2,  34.9727,2,    225.3,2,    224.3,2,    76.52,2,    26.94,2,     0.00,2,     1.95,2,    0.023,2,    0.012,2,    0.058,2,   2223.8,2,   2353.7,2,   -999.0,9,  -999.00,   7.6538,2,    25.34,    0.000,2,   -999.0,9,   -999.0,9, -999.000,9,-999.0000,1,-999.0000,9,-999.0000,9,-999.0000,9, 27.854, 32.520, 37.080, 41.537, 45.893
33RO20110828,   A10,    22,  1,      3,    003,2,20000101,0000,-29.6346,   3.8509, 4993,   4200.5,   1.3652,  34.7598,2,  34.7598,2,  34.9237,2,    220.0,2,    221.0,2,    96.33,2,    29.48,2,     0.00,2,     2.17,2,    0.048,2,    0.023,2,    0.110,2,   -999.0,9,   2362.2,2,   -999.0,9,  -999.00,   7.6308,2,    25.37,    0.000,2,   -999.0,9,   -999.0,9, -999.000,1,-999.0000,1,-999.0000,9,-999.0000,9,-999.0000,9, 27.851, 32.531, 37.106, 41.577, 45.947
33RO20110828,   A10,    22,  1,      2,    002,2,20000101,0000,-29.6346,   3.8509, 4993,   4598.9,   1.1717,  34.7391,2,  34.7397,2,  34.9036,2,    218.0,2,    217.3,2,   104.92,2,    30.35,2,     0.00,2,     2.26,2,    0.064,2,    0.032,2,    0.149,2,   2248.1,2,   2368.0,2,   -999.0,9,  -999.00,   7.6231,2,    25.28,    0.000,2,   -999.0,9,   -999.0,9, -999.000,1,-999.0000,1,-999.0000,9,-999.0000,9,-999.0000,9, 27.850, 32.537, 37.119, 41.596, 45.972
33RO20110828,   A10,    22,  1,      1,    001,2,20000101,0000,-29.6346,   3.8509, 4993,   5102.5,   1.1847,  34.7344,2,  34.7341,2,  34.8979,2,    217.0,2,    217.3,2,   106.97,2,    30.45,2,     0.00,2,     2.28,2,    0.074,2,    0.036,2,    0.149,2,   -999.0,9,   2367.6,2,   -999.0,9,  -999.00,   7.6286,2,    25.27,    0.000,2,   -999.0,9,   -999.0,9, -999.000,1,-999.0000,1,-999.0000,9,-999.0000,9,-999.0000,9, 27.848, 32.537, 37.120, 41.599, 45.976