BOTTLE,20130715NOAA
EXPOCODE,SECT_ID,STNNBR,CASTNO,SAMPNO,BTLNBR,BTLNBR_FLAG_W,DATE,TIME,LATITUDE,LONGITUDE,DEPTH,CTDPRS,CTDTMP,CTDSAL,CTDSAL_FLAG_W,SALNTY,SALNTY_FLAG_W,SALTREF,SALTREF_FLAG_W,CTDOXY,CTDOXY_FLAG_W,OXYGEN,OXYGEN_FLAG_W,SILCAT,SILCAT_FLAG_W,NITRAT,NITRAT_FLAG_W,NITRIT,NITRIT_FLAG_W,PHSPHT,PHSPHT_FLAG_W,CFC-11,CFC-11_FLAG_W,CFC-12,CFC-12_FLAG_W,CCL4,CCL4_FLAG_W,TCARBN,TCARBN_FLAG_W,ALKALI,ALKALI_FLAG_W,PCO2,PCO2_FLAG_W,PCO2TMP,PH_TOT,PH_TOT_FLAG_W,PH_TMP,SF6,SF6_FLAG_W,DOC,DOC_FLAG_W,TDN,TDN_FLAG_W,TRITUM,TRITUM_FLAG_W,HELIUM,HELIUM_FLAG_W,OXY_18,OXY_18_FLAG_W,BLACKC,BLACKC_FLAG_W,PIGMENTS,PIGMENTS_FLAG_W,SIGMA-THETA,SIGMA-1,SIGMA-2,SIGMA-3,SIGMA-4
,,,,,,,,,,,METERS,DBARS,ITS-90,PSS-78,,PSS-78,,G/KG,,UMOL/KG,,UMOL/KG,,UMOL/KG,,UMOL/KG,,UMOL/KG,,UMOL/KG,,PMOL/KG,,PMOL/KG,,PMOL/KG,,UMOL/KG,,UMOL/KG,,UATM@T,,DEG_C,,,DEG_C,FMOL/KG,,UMOL/KG,,UMOL/KG,,TU,,NMOL/KG,,,,,,,,,,,,
33RO20110828,   A10,    89,  1,     24,    024,2,20000101,0000,-29.9854, -36.0652, 1700,      5.8,  18.3299,  36.0500,2,  36.0510,2,  36.2210,2,    236.0,2,    235.5,2,     0.49,2,     0.00,2,     0.01,2,     0.04,2,    2.271,2,    1.382,2,    3.732,3,   2074.5,6,   2357.2,2,   -999.0,9,  -999.00,   7.9651,2,    25.57,    1.413,2,   -999.0,1,   -999.0,1, -999.000,9,-999.0000,9,-999.0000,9,-999.0000,9,-999.0000,1, 25.995, 30.287, 34.484, 38.590, 42.607
33RO20110828,   A10,    89,  1,     23,    023,2,20000101,0000,-29.9854, -36.0652, 1700,     24.9,  18.3337,  36.0500,2,  36.0525,2,  36.2225,2,    235.7,2,    236.2,2,     0.49,2,     0.00,2,     0.01,2,     0.04,2,    2.266,2,    1.382,2,    2.917,3,   2073.1,2,   2360.0,2,   -999.0,9,  -999.00,   7.9197,2,    25.50,    1.407,2,   -999.0,1,   -999.0,1, -999.000,9,-999.0000,9,-999.0000,9,-999.0000,9,-999.0000,9, 25.996, 30.288, 34.485, 38.591, 42.608
33RO20110828,   A10,    89,  1,     22,    022,2,20000101,0000,-29.9854, -36.0652, 1700,     40.6,  18.3293,  36.0481,2,  36.0518,2,  36.2218,2,    235.6,2,    235.2,2,     0.49,2,     0.00,2,     0.01,2,     0.04,2,    2.263,2,    1.379,2,    2.797,3,   2074.2,2,   2362.3,2,   -999.0,9,  -999.00,   7.9324,2,    25.57,    1.447,2,   -999.0,1,   -999.0,1, -999.000,9,-999.0000,9,-999.0000,9,-999.0000,9,-999.0000,9, 25.997, 30.289, 34.487, 38.593, 42.610
33RO20110828,   A10,    89,  1,     21,    021,2,20000101,0000,-29.9854, -36.0652, 1700,     80.4,  18.3203,  36.0444,2,  36.0443,2,  36.2142,2,    235.5,2,    235.5,2,     0.49,2,     0.00,2,     0.01,2,     0.05,2,    2.268,2,    1.384,2,    2.763,3,   2073.0,2,   2359.7,2,   -999.0,9,  -999.00,   7.9638,2,    25.56,    1.427,2,   -999.0,1,   -999.0,1, -999.000,9,-999.0000,9,-999.0000,9,-999.0000,9,-999.0000,9, 25.996, 30.288, 34.486, 38.592, 42.609
33RO20110828,   A10,    89,  1,     20,    020,2,20000101,0000,-29.9854, -36.0652, 1700,    100.9,  18.1697,  36.0238,2,  36.0257,2,  36.1956,2,    233.5,2,    233.8,2,     0.58,2,     0.10,2,     0.05,2,     0.05,2,    2.268,2,    1.381,2,    2.795,3,   2075.2,2,   2356.1,2,   -999.0,9,  -999.00,   7.9546,2,    25.44,    1.400,2,   -999.0,1,   -999.0,1, -999.000,9,-999.0000,9,-999.0000,9,-999.0000,9,-999.0000,1, 26.020, 30.315, 34.515, 38.624, 42.644
33RO20110828,   A10,    89,  1,     19,    019,2,20000101,0000,-29.9854, -36.0652, 1700,    132.5,  17.2933,  35.8909,2,  35.9022,2,  36.0714,2,    233.0,2,    232.8,2,     0.88,2,     0.39,2,     0.22,2,     0.11,2,    2.363,2,    1.433,2,    3.295,3,   2080.6,2,   2348.2,2,   -999.0,9,  -999.00,   7.9173,2,    25.45,    1.449,2,   -999.0,1,   -999.0,1, -999.000,9,-999.0000,9,-999.0000,9,-999.0000,9,-999.0000,1, 26.142, 30.452, 34.667, 38.790, 42.824
33RO20110828,   A10,    89,  1,     18,    018,2,20000101,0000,-29.9854, -36.0652, 1700,    179.0,  16.1921,  35.6975,2,  35.7030,2,  35.8713,2,    216.7,2,    217.8,2,     1.56,2,     3.41,2,     0.03,2,     0.28,2,    2.525,2,    1.513,2,    1.650,3,   2099.6,2,   2341.2,2,   -999.0,9,  -999.00,   7.8833,2,    25.49,    1.391,2,   -999.0,1,   -999.0,1, -999.000,9,-999.0000,9,-999.0000,9,-999.0000,9,-999.0000,9, 26.251, 30.581, 34.816, 38.959, 43.011
33RO20110828,   A10,    89,  1,     17,    017,2,20000101,0000,-29.9854, -36.0652, 1700,    224.7,  15.0622,  35.5215,2,  35.5213,2,  35.6888,2,    213.6,2,    213.5,2,     2.05,2,     5.56,2,     0.02,2,     0.39,2,    2.685,2,    1.581,2,    1.452,3,   2108.8,2,   2329.9,2,   -999.0,9,  -999.00,   7.8377,2,    25.52,    1.385,2,   -999.0,1,   -999.0,1, -999.000,9,-999.0000,9,-999.0000,9,-999.0000,9,-999.0000,9, 26.368, 30.720, 34.976, 39.138, 43.210
33RO20110828,   A10,    89,  1,     16,    016,2,20000101,0000,-29.9854, -36.0652, 1700,    281.8,  14.3634,  35.4317,2,  35.4327,2,  35.5998,2,    213.8,2,    213.9,2,     2.44,2,     7.02,2,     0.01,2,     0.48,2,    2.777,2,    1.625,2,    1.446,3,   2113.6,2,   2325.5,2,   -999.0,9,  -999.00,   7.8409,2,    25.48,    1.310,2,   -999.0,1,   -999.0,1, -999.000,9,-999.0000,9,-999.0000,9,-999.0000,9,-999.0000,9, 26.453, 30.819, 35.088, 39.263, 43.347
33RO20110828,   A10,    89,  1,     15,    015,2,20000101,0000,-29.9854, -36.0652, 1700,    330.0,  13.3177,  35.2873,2,  35.2881,2,  35.4545,2,    213.9,2,    213.4,2,     3.02,2,     9.37,2,     0.01,2,     0.60,2,    2.910,2,    1.668,2,    1.663,3,   2120.3,2,   2318.1,2,   -999.0,9,  -999.00,   7.8251,2,    25.56,    1.266,2,   -999.0,1,   -999.0,1, -999.000,9,-999.0000,9,-999.0000,9,-999.0000,9,-999.0000,9, 26.561, 30.947, 35.237, 39.431, 43.534
33RO20110828,   A10,    89,  1,     14,    014,2,20000101,0000,-29.9854, -36.0652, 1700,    374.9,  12.7981,  35.2099,2,  35.2124,2,  35.3784,2,    213.0,2,    212.7,2,     3.51,2,    10.63,2,     0.01,2,     0.67,2,    2.975,2,    1.687,2,    1.722,3,   2123.7,2,   2314.4,2,   -999.0,9,  -999.00,   7.8114,2,    25.53,    1.187,2,   -999.0,1,   -999.0,1, -999.000,9,-999.0000,9,-999.0000,9,-999.0000,9,-999.0000,9, 26.608, 31.005, 35.305, 39.510, 43.622
33RO20110828,   A10,    89,  1,     13,    013,2,20000101,0000,-29.9854, -36.0652, 1700,    440.1,  11.9584,  35.0841,2,  35.0849,6,  35.2503,6,    210.9,2,    211.1,2,     4.29,2,    12.68,2,     0.01,2,     0.78,2,    3.050,2,    1.690,2,    1.089,3,   2129.2,2,   2305.3,2,   -999.0,9,  -999.00,   7.7747,2,    25.56,    1.178,2,   -999.0,1,   -999.0,1, -999.000,9,-999.0000,9,-999.0000,9,-999.0000,9,-999.0000,9, 26.674, 31.088, 35.405, 39.626, 43.755
33RO20110828,   A10,    89,  1,     12,    012,2,20000101,0000,-29.9854, -36.0652, 1700,    488.2,  10.8891,  34.9279,2,  34.9297,2,  35.0944,2,    207.4,2,    207.6,2,     5.66,2,    15.32,2,     0.01,2,     0.91,2,    3.100,2,    1.687,2,    1.235,3,   2137.3,2,   2296.6,2,   -999.0,9,  -999.00,   7.7426,2,    25.56,    1.071,2,   -999.0,1,   -999.0,1, -999.000,9,-999.0000,9,-999.0000,9,-999.0000,9,-999.0000,9, 26.752, 31.190, 35.529, 39.772, 43.921
33RO20110828,   A10,    89,  1,     11,    011,2,20000101,0000,-29.9854, -36.0652, 1700,    562.4,   9.2876,  34.7196,2,  34.7270,2,  34.8907,2,    206.4,2,    205.9,2,     8.10,2,    19.23,2,     0.01,2,     1.15,2,    3.163,2,    1.677,2,    1.649,3,   2148.4,2,   2290.9,2,   -999.0,9,  -999.00,   7.7146,2,    25.60,    0.986,2,   -999.0,1,   -999.0,1, -999.000,9,-999.0000,9,-999.0000,9,-999.0000,9,-999.0000,9, 26.868, 31.342, 35.716, 39.993, 44.174
33RO20110828,   A10,    89,  1,     10,    010,2,20000101,0000,-29.9854, -36.0652, 1700,    679.3,   6.8400,  34.4517,2,  34.4533,2,  34.6158,2,    212.2,2,    212.5,2,    13.08,2,    24.60,2,     0.01,2,     1.47,2,    3.179,2,    1.624,2,    2.523,3,   2162.1,2,   2282.3,2,   -999.0,9,  -999.00,   7.6444,2,    25.55,    0.721,2,   -999.0,1,   -999.0,1, -999.000,9,-999.0000,9,-999.0000,9,-999.0000,9,-999.0000,9, 27.019, 31.551, 35.981, 40.313, 44.548
33RO20110828,   A10,    89,  1,      9,    009,2,20000101,0000,-29.9854, -36.0652, 1700,    790.3,   5.2417,  34.3203,2,  34.3206,2,  34.4824,2,    223.9,2,    224.1,2,    18.16,2,    27.33,2,     0.01,2,     1.65,2,    3.107,2,    1.560,2,    3.147,3,   2171.5,2,   2281.9,2,   -999.0,9,  -999.00,   7.6302,2,    25.55,    0.667,2,   -999.0,1,   -999.0,1, -999.000,9,-999.0000,9,-999.0000,9,-999.0000,9,-999.0000,9, 27.116, 31.688, 36.158, 40.528, 44.799
33RO20110828,   A10,    89,  1,      8,    008,2,20000101,0000,-29.9854, -36.0652, 1700,    870.9,   4.5117,  34.2944,2,  34.2957,2,  34.4574,2,    223.2,2,    224.2,2,    23.33,2,    28.99,2,     0.01,2,     1.76,2,    2.792,2,    1.387,2,    3.114,3,   2180.6,2,   2281.8,2,   -999.0,9,  -999.00,-999.0000,5,  -999.00,    0.594,2,   -999.0,1,   -999.0,1, -999.000,9,-999.0000,9,-999.0000,9,-999.0000,9,-999.0000,9, 27.179, 31.770, 36.258, 40.645, 44.934
33RO20110828,   A10,    89,  1,      7,    007,2,20000101,0000,-29.9854, -36.0652, 1700,    983.7,   3.9082,  34.3069,2,  34.3079,2,  34.4697,2,    216.6,2,    216.1,2,    30.95,2,    30.36,2,     0.01,2,     1.92,2,    2.228,2,    1.093,2,    2.830,3,   2193.2,2,   2289.3,2,   -999.0,9,  -999.00,   7.5926,2,    25.57,    0.400,2,   -999.0,1,   -999.0,1, -999.000,9,-999.0000,9,-999.0000,9,-999.0000,9,-999.0000,9, 27.252, 31.859, 36.363, 40.765, 45.067
33RO20110828,   A10,    89,  1,      6,    006,2,20000101,0000,-29.9854, -36.0652, 1700,   1128.8,   3.4500,  34.3683,2,  34.3690,2,  34.5310,2,    203.5,2,    203.1,2,    41.10,2,    31.92,2,     0.01,2,     2.08,2,    1.454,2,    0.710,2,    2.088,3,   2209.7,2,   2299.2,2,   -999.0,9,  -999.00,   7.5725,2,    25.56,    0.226,2,   -999.0,1,   -999.0,1, -999.000,9,-999.0000,9,-999.0000,9,-999.0000,9,-999.0000,9, 27.347, 31.966, 36.481, 40.894, 45.207
33RO20110828,   A10,    89,  1,      5,    005,2,20000101,0000,-29.9854, -36.0652, 1700,   1262.0,   3.2050,  34.4395,2,  34.4408,2,  34.6032,2,    193.3,2,    194.0,2,    48.22,2,    32.31,2,     0.01,2,     2.15,2,    0.910,2,    0.443,2,    1.478,3,   2221.8,2,   2309.5,2,   -999.0,9,  -999.00,   7.5631,2,    25.62,    0.120,2,   -999.0,1,   -999.0,1, -999.000,9,-999.0000,9,-999.0000,9,-999.0000,9,-999.0000,9, 27.428, 32.053, 36.574, 40.993, 45.312
33RO20110828,   A10,    89,  1,      4,    004,2,20000101,0000,-29.9854, -36.0652, 1700,   1373.6,   3.1124,  34.4803,2,  34.4836,2,  34.6462,2,    192.0,2,    191.6,2,    50.47,2,    32.21,2,     0.01,2,     2.16,2,    0.720,2,    0.351,2,    1.260,3,   2224.3,2,   2313.3,2,   -999.0,9,  -999.00,   7.5658,2,    25.56,    0.085,2,   -999.0,1,   -999.0,1, -999.000,9,-999.0000,9,-999.0000,9,-999.0000,9,-999.0000,9, 27.472, 32.099, 36.622, 41.043, 45.365
33RO20110828,   A10,    89,  1,      3,    003,2,20000101,0000,-29.9854, -36.0652, 1700,   1517.6,   2.9402,  34.5911,2,  34.5916,2,  34.7547,2,    189.8,2,    190.7,2,    55.15,2,    31.14,2,     0.01,2,     2.13,2,    0.309,2,    0.150,2,    0.806,3,   2228.2,6,   2318.5,2,   -999.0,9,  -999.00,   7.5691,3,    25.53,    0.038,2,   -999.0,1,   -999.0,1, -999.000,9,-999.0000,9,-999.0000,9,-999.0000,9,-999.0000,9, 27.574, 32.206, 36.733, 41.158, 45.483
33RO20110828,   A10,    89,  1,      2,    002,2,20000101,0000,-29.9854, -36.0652, 1700,   1599.3,   2.8803,  34.6490,2,  34.6496,2,  34.8130,2,    193.8,2,    193.6,2,    55.24,2,    30.16,2,     0.01,2,     2.08,2,    0.187,2,    0.093,2,    0.600,3,   2226.2,2,   2320.9,2,   -999.0,9,  -999.00,   7.5836,3,    25.63,    0.018,2,   -999.0,1,   -999.0,1, -999.000,9,-999.0000,9,-999.0000,9,-999.0000,9,-999.0000,9, 27.627, 32.259, 36.788, 41.214, 45.540
33RO20110828,   A10,    89,  1,      1,    001,2,20000101,0000,-29.9854, -36.0652, 1700,   1732.1,   2.8564,  34.6994,2,  34.7017,2,  34.8653,2,    201.0,2,    201.0,2,    53.97,2,    29.08,2,     0.01,2,     1.99,2,    0.128,2,    0.064,2,    0.502,3,   2221.4,6,   -999.0,9,   -999.0,9,  -999.00,   7.6050,2,    25.57,    0.000,2,   -999.0,1,   -999.0,1, -999.000,9,-999.0000,9,-999.0000,9,-999.0000,9,-999.0000,9, 27.671, 32.304, 36.833, 41.260, 45.587