BOTTLE,20130715NOAA
EXPOCODE,SECT_ID,STNNBR,CASTNO,SAMPNO,BTLNBR,BTLNBR_FLAG_W,DATE,TIME,LATITUDE,LONGITUDE,DEPTH,CTDPRS,CTDTMP,CTDSAL,CTDSAL_FLAG_W,SALNTY,SALNTY_FLAG_W,SALTREF,SALTREF_FLAG_W,CTDOXY,CTDOXY_FLAG_W,OXYGEN,OXYGEN_FLAG_W,SILCAT,SILCAT_FLAG_W,NITRAT,NITRAT_FLAG_W,NITRIT,NITRIT_FLAG_W,PHSPHT,PHSPHT_FLAG_W,CFC-11,CFC-11_FLAG_W,CFC-12,CFC-12_FLAG_W,CCL4,CCL4_FLAG_W,TCARBN,TCARBN_FLAG_W,ALKALI,ALKALI_FLAG_W,PCO2,PCO2_FLAG_W,PCO2TMP,PH_TOT,PH_TOT_FLAG_W,PH_TMP,SF6,SF6_FLAG_W,DOC,DOC_FLAG_W,TDN,TDN_FLAG_W,TRITUM,TRITUM_FLAG_W,HELIUM,HELIUM_FLAG_W,OXY_18,OXY_18_FLAG_W,BLACKC,BLACKC_FLAG_W,PIGMENTS,PIGMENTS_FLAG_W,SIGMA-THETA,SIGMA-1,SIGMA-2,SIGMA-3,SIGMA-4
,,,,,,,,,,,METERS,DBARS,ITS-90,PSS-78,,PSS-78,,G/KG,,UMOL/KG,,UMOL/KG,,UMOL/KG,,UMOL/KG,,UMOL/KG,,UMOL/KG,,PMOL/KG,,PMOL/KG,,PMOL/KG,,UMOL/KG,,UMOL/KG,,UATM@T,,DEG_C,,,DEG_C,FMOL/KG,,UMOL/KG,,UMOL/KG,,TU,,NMOL/KG,,,,,,,,,,,,
33RO20110828,   A10,    38,  1,     24,    024,2,20000101,0000,-30.0003,  -3.3586, 4573,      4.5,  18.1248,  35.8608,2,  35.8744,2,  36.0435,2,    241.3,2,    240.6,2,     1.17,2,     0.00,2,     0.01,2,     0.16,2,    2.382,2,    1.439,2,    3.187,2,   2079.8,6,   2353.0,2,   -999.0,9,  -999.00,   7.9357,2,    25.74,    1.461,2,   -999.0,9,   -999.0,9, -999.000,9,-999.0000,9,-999.0000,9,-999.0000,9,-999.0000,1, 25.911, 30.207, 34.409, 38.519, 42.540
33RO20110828,   A10,    38,  1,     23,    023,2,20000101,0000,-30.0003,  -3.3586, 4573,     48.3,  17.1932,  35.8202,2,  35.8179,2,  35.9868,2,    245.5,2,    243.9,2,     1.27,2,     0.00,2,     0.01,2,     0.18,2, -999.000,9, -999.000,9, -999.000,9,   -999.0,9,   2352.7,2,   -999.0,9,  -999.00,   7.9305,2,    25.66, -999.000,9,   -999.0,9,   -999.0,9, -999.000,9,-999.0000,9,-999.0000,9,-999.0000,9,-999.0000,1, 26.098, 30.410, 34.627, 38.752, 42.788
33RO20110828,   A10,    38,  1,     22,    022,2,20000101,0000,-30.0003,  -3.3586, 4573,     88.8,  16.9471,  35.8315,2,  35.8307,2,  35.9997,2,    234.7,2,    235.2,2,     1.46,2,     0.39,2,     0.46,2,     0.24,2,    2.401,2,    1.448,2,    2.310,2,   2087.5,2,   2352.8,2,   -999.0,9,  -999.00,   7.9080,2,    25.64,    1.499,2,   -999.0,9,   -999.0,9, -999.000,9,-999.0000,9,-999.0000,9,-999.0000,9,-999.0000,1, 26.168, 30.485, 34.706, 38.835, 42.874
33RO20110828,   A10,    38,  1,     21,    021,2,20000101,0000,-30.0003,  -3.3586, 4573,    138.7,  16.6952,  35.7775,2,  35.7779,2,  35.9466,2,    232.8,2,    233.9,2,     1.76,2,     0.88,2,     0.53,2,     0.26,2, -999.000,9, -999.000,9, -999.000,9,   -999.0,9,   2348.7,2,   -999.0,9,  -999.00,   7.9008,2,    25.54, -999.000,9,   -999.0,9,   -999.0,9, -999.000,9,-999.0000,9,-999.0000,9,-999.0000,9,-999.0000,9, 26.189, 30.511, 34.736, 38.870, 42.914
33RO20110828,   A10,    38,  1,     20,    020,2,20000101,0000,-30.0003,  -3.3586, 4573,    198.5,  16.4616,  35.7399,2,  35.7416,2,  35.9101,2,    233.6,2,    234.0,2,     1.85,2,     1.56,2,     0.26,2,     0.29,2,    2.445,2,    1.474,2,    1.875,2,   -999.0,9,   2344.4,2,   -999.0,9,  -999.00,   7.9051,2,    25.59,    1.473,2,   -999.0,9,   -999.0,9, -999.000,9,-999.0000,9,-999.0000,9,-999.0000,9,-999.0000,9, 26.219, 30.544, 34.774, 38.912, 42.960
33RO20110828,   A10,    38,  1,     19,    019,2,20000101,0000,-30.0003,  -3.3586, 4573,    270.9,  14.2963,  35.3197,2,  35.3197,2,  35.4862,2,    218.9,2,    219.5,2,     2.83,2,     6.34,2,     0.02,2,     0.59,2, -999.000,9, -999.000,9, -999.000,9,   2105.8,2,   2321.1,2,   -999.0,9,  -999.00,   7.8401,2,    25.63, -999.000,9,   -999.0,9,   -999.0,9, -999.000,9,-999.0000,9,-999.0000,9,-999.0000,9,-999.0000,9, 26.380, 30.747, 35.018, 39.195, 43.281
33RO20110828,   A10,    38,  1,     18,    018,2,20000101,0000,-30.0003,  -3.3586, 4573,    350.1,  12.8292,  35.1439,2,  35.1463,2,  35.3121,2,    214.3,2,    214.5,2,     3.81,2,    10.15,2,     0.01,2,     0.84,2,    2.960,2,    1.704,2,    0.861,2,   -999.0,9,   2311.2,2,   -999.0,9,  -999.00,   7.8025,2,    25.71,    1.352,2,   -999.0,9,   -999.0,9, -999.000,9,-999.0000,9,-999.0000,9,-999.0000,9,-999.0000,9, 26.550, 30.947, 35.246, 39.451, 43.563
33RO20110828,   A10,    38,  1,     17,    017,2,20000101,0000,-30.0003,  -3.3586, 4573,    442.1,  10.8680,  34.9019,2,  34.9050,2,  35.0696,2,    210.5,2,    211.2,2,     6.05,2,    15.13,2,     0.01,2,     1.18,2, -999.000,9, -999.000,9, -999.000,9,   -999.0,9,   2300.0,2,   -999.0,9,  -999.00,   7.7417,2,    25.67, -999.000,9,   -999.0,9,   -999.0,9, -999.000,9,-999.0000,9,-999.0000,9,-999.0000,9,-999.0000,9, 26.735, 31.174, 35.513, 39.757, 43.907
33RO20110828,   A10,    38,  1,     16,    016,2,20000101,0000,-30.0003,  -3.3586, 4573,    558.4,   8.7629,  34.6478,2,  34.6490,2,  34.8124,2,    206.4,2,    206.2,2,    10.05,2,    20.69,2,     0.01,2,     1.56,2,    3.126,2,    1.684,2,    1.418,2,   -999.0,9,   2290.9,2,   -999.0,9,  -999.00,   7.6891,2,    25.67,    1.063,2,   -999.0,9,   -999.0,9, -999.000,9,-999.0000,9,-999.0000,9,-999.0000,9,-999.0000,9, 26.891, 31.376, 35.762, 40.050, 44.243
33RO20110828,   A10,    38,  1,     15,    015,2,20000101,0000,-30.0003,  -3.3586, 4573,    640.0,   7.4192,  34.5098,2,  34.5131,2,  34.6759,2,    204.3,2,    203.3,2,    13.67,2,    24.21,2,     0.00,2,     1.82,2, -999.000,9, -999.000,9, -999.000,9,   2165.3,2,   2287.6,2,   -999.0,9,  -999.00,   7.6501,2,    25.72, -999.000,9,   -999.0,9,   -999.0,9, -999.000,9,-999.0000,9,-999.0000,9,-999.0000,9,-999.0000,9, 26.985, 31.503, 35.920, 40.238, 44.460
33RO20110828,   A10,    38,  1,     14,    014,2,20000101,0000,-30.0003,  -3.3586, 4573,    763.2,   5.5018,  34.3574,2,  34.3579,2,  34.5199,2,    210.5,2,    211.6,2,    20.31,2,    28.12,2,     0.01,2,     2.11,2,    2.915,2,    1.492,2,    2.149,2,   -999.0,9,   2288.1,2,   -999.0,9,  -999.00,   7.6147,2,    25.66,    0.768,2,   -999.0,9,   -999.0,9, -999.000,9,-999.0000,9,-999.0000,9,-999.0000,9,-999.0000,9, 27.115, 31.680, 36.143, 40.506, 44.771
33RO20110828,   A10,    38,  1,     13,    013,2,20000101,0000,-30.0003,  -3.3586, 4573,    888.4,   4.5255,  34.3403,2,  34.3416,2,  34.5036,2,    205.9,2,    205.6,2,    28.90,2,    30.56,2,     0.00,2,     2.29,2, -999.000,9, -999.000,9, -999.000,9,   -999.0,9,   2295.1,2,   -999.0,9,  -999.00,   7.5907,2,    25.69, -999.000,9,   -999.0,9,   -999.0,9, -999.000,9,-999.0000,9,-999.0000,9,-999.0000,9,-999.0000,9, 27.214, 31.804, 36.292, 40.678, 44.966
33RO20110828,   A10,    38,  1,     12,    012,2,20000101,0000,-30.0003,  -3.3586, 4573,   1168.8,   3.3639,  34.4421,2,  34.4433,2,  34.6057,2,    187.3,2,    186.4,2,    49.59,2,    32.90,2,     0.01,2,     2.48,2,    1.039,2,    0.496,2,    1.159,2,   -999.0,9,   2313.1,2,   -999.0,9,  -999.00,   7.5631,2,    25.69,    0.165,2,   -999.0,9,   -999.0,9, -999.000,9,-999.0000,9,-999.0000,9,-999.0000,9,-999.0000,9, 27.415, 32.035, 36.552, 40.967, 45.282
33RO20110828,   A10,    38,  1,     11,    011,2,20000101,0000,-30.0003,  -3.3586, 4573,   1319.4,   3.0704,  34.5501,2,  34.5493,2,  34.7122,2,    181.6,2,    181.7,2,    56.81,2,    32.51,2,     0.00,2,     2.45,2,    0.492,4,    0.230,4,    0.514,4,   2232.6,2,   2321.9,2,   -999.0,9,  -999.00,   7.5641,2,    25.70,    0.043,4,   -999.0,9,   -999.0,9, -999.000,9,-999.0000,9,-999.0000,9,-999.0000,9,-999.0000,9, 27.527, 32.155, 36.679, 41.101, 45.422
33RO20110828,   A10,    38,  1,     10,    010,9,20000101,0000,-30.0003,  -3.3586, 4573,   1619.0,   2.8845,  34.6976,2,-999.0000,9,-999.0000,9,   -999.0,9,   -999.0,9,  -999.00,9,  -999.00,9,  -999.00,9,  -999.00,9, -999.000,9, -999.000,9, -999.000,9,   -999.0,9,   -999.0,9,   -999.0,9,  -999.00,-999.0000,9,  -999.00, -999.000,9,   -999.0,9,   -999.0,9, -999.000,9,-999.0000,9,-999.0000,9,-999.0000,9,-999.0000,9, 27.665, 32.297, 36.825, 41.251, 45.577
33RO20110828,   A10,    38,  1,      9,    009,2,20000101,0000,-30.0003,  -3.3586, 4573,   1918.4,   2.6954,  34.7826,2,  34.7830,6,  34.9471,6,    210.5,2,    211.5,2,    54.07,2,    27.04,2,     0.00,2,     2.01,2,    0.056,2,    0.027,2,    0.111,2,   -999.0,4,   2376.4,4,   -999.0,9,  -999.00,   7.6218,2,    25.74,    0.013,2,   -999.0,9,   -999.0,9, -999.000,9,-999.0000,9,-999.0000,9,-999.0000,9,-999.0000,9, 27.751, 32.389, 36.922, 41.352, 45.683
33RO20110828,   A10,    38,  1,      8,    008,2,20000101,0000,-30.0003,  -3.3586, 4573,   2219.5,   2.5375,  34.8253,2,  34.8261,2,  34.9903,2,    222.8,2,    224.0,2,    53.09,2,    25.47,2,     0.00,2,     1.88,2,    0.026,2,    0.014,2,    0.080,2,   -999.0,9,   2332.8,2,   -999.0,9,  -999.00,   7.6510,2,    25.74,    0.000,2,   -999.0,9,   -999.0,9, -999.000,9,-999.0000,9,-999.0000,9,-999.0000,9,-999.0000,9, 27.802, 32.444, 36.981, 41.416, 45.751
33RO20110828,   A10,    38,  1,      7,    007,2,20000101,0000,-30.0003,  -3.3586, 4573,   2517.6,   2.4412,  34.8494,2,  34.8522,2,  35.0166,2,    231.3,2,    231.6,2,    51.73,2,    24.59,2,     0.01,2,     1.80,2,    0.011,2,    0.005,2,    0.051,2,   -999.0,9,   2334.3,2,   -999.0,9,  -999.00,   7.6631,2,    25.74,    0.000,2,   -999.0,9,   -999.0,9, -999.000,9,-999.0000,9,-999.0000,9,-999.0000,9,-999.0000,9, 27.833, 32.478, 37.019, 41.457, 45.794
33RO20110828,   A10,    38,  1,      6,    006,2,20000101,0000,-30.0003,  -3.3586, 4573,   2820.5,   2.3843,  34.8608,2,  34.8623,2,  35.0266,2,    234.5,2,    235.4,2,    51.33,2,    23.91,2,     0.01,2,     1.75,2,    0.006,2,    0.005,2,    0.033,2,   -999.0,9,   2338.8,2,   -999.0,9,  -999.00,   7.6738,2,    25.74,    0.000,2,   -999.0,9,   -999.0,9, -999.000,9,-999.0000,9,-999.0000,9,-999.0000,9,-999.0000,9, 27.848, 32.495, 37.038, 41.478, 45.818
33RO20110828,   A10,    38,  1,      5,    005,2,20000101,0000,-30.0003,  -3.3586, 4573,   3120.0,   2.3574,  34.8683,2,  34.8684,2,  35.0328,2,    234.9,2,    236.4,2,    51.72,2,    23.62,2,     0.00,2,     1.73,2,    0.004,2,    0.003,2,    0.027,2,   2204.5,2,   2343.8,2,   -999.0,9,  -999.00,   7.6739,2,    25.73,    0.000,2,   -999.0,9,   -999.0,9, -999.000,9,-999.0000,9,-999.0000,9,-999.0000,9,-999.0000,9, 27.857, 32.506, 37.051, 41.492, 45.833
33RO20110828,   A10,    38,  1,      4,    004,2,20000101,0000,-30.0003,  -3.3586, 4573,   3419.9,   2.3472,  34.8739,2,  34.8744,6,  35.0388,6,    233.8,2,    236.2,2,    51.82,2,    23.52,2,     0.00,2,     1.73,2,    0.003,2,    0.002,2,    0.020,2,   -999.0,5,   -999.0,5,   -999.0,9,  -999.00,   7.6789,2,    25.77,    0.000,2,   -999.0,9,   -999.0,9, -999.000,9,-999.0000,9,-999.0000,9,-999.0000,9,-999.0000,9, 27.865, 32.515, 37.061, 41.503, 45.845
33RO20110828,   A10,    38,  1,      3,    003,2,20000101,0000,-30.0003,  -3.3586, 4573,   3770.8,   2.3410,  34.8763,2,  34.8760,2,  35.0405,2,    231.7,2,    219.2,2,    53.09,2,    23.72,2,     0.00,2,     1.73,2,    0.004,2,    0.002,2,    0.018,2,   -999.0,9,   2350.7,2,   -999.0,9,  -999.00,   7.6769,2,    25.71,    0.000,2,   -999.0,9,   -999.0,9, -999.000,9,-999.0000,9,-999.0000,9,-999.0000,9,-999.0000,9, 27.871, 32.522, 37.068, 41.512, 45.855
33RO20110828,   A10,    38,  1,      2,    002,2,20000101,0000,-30.0003,  -3.3586, 4573,   4117.6,   2.3113,  34.8701,2,  34.8702,2,  35.0347,2,    229.6,2,    232.4,2,    56.02,2,    24.01,2,     0.01,2,     1.76,2,    0.005,2,    0.004,2,    0.017,2,   -999.0,9,   2355.9,2,   -999.0,9,  -999.00,   7.6787,2,    25.81,    0.000,2,   -999.0,9,   -999.0,9, -999.000,9,-999.0000,9,-999.0000,9,-999.0000,9,-999.0000,9, 27.871, 32.524, 37.073, 41.519, 45.863
33RO20110828,   A10,    38,  1,      1,    001,2,20000101,0000,-30.0003,  -3.3586, 4573,   4663.1,   2.2898,  34.8604,2,  34.8601,2,  35.0245,2,    228.0,2,    231.7,2,    59.92,2,    24.59,2,     0.00,2,     1.80,2,    0.009,2,    0.007,2,    0.029,2,   2217.4,2,   -999.0,5,   -999.0,9,  -999.00,   7.6757,2,    25.73,    0.000,2,   -999.0,9,   -999.0,9, -999.000,9,-999.0000,9,-999.0000,9,-999.0000,9,-999.0000,9, 27.870, 32.526, 37.076, 41.524, 45.871