BOTTLE,20130715NOAA
EXPOCODE,SECT_ID,STNNBR,CASTNO,SAMPNO,BTLNBR,BTLNBR_FLAG_W,DATE,TIME,LATITUDE,LONGITUDE,DEPTH,CTDPRS,CTDTMP,CTDSAL,CTDSAL_FLAG_W,SALNTY,SALNTY_FLAG_W,SALTREF,SALTREF_FLAG_W,CTDOXY,CTDOXY_FLAG_W,OXYGEN,OXYGEN_FLAG_W,SILCAT,SILCAT_FLAG_W,NITRAT,NITRAT_FLAG_W,NITRIT,NITRIT_FLAG_W,PHSPHT,PHSPHT_FLAG_W,CFC-11,CFC-11_FLAG_W,CFC-12,CFC-12_FLAG_W,CCL4,CCL4_FLAG_W,TCARBN,TCARBN_FLAG_W,ALKALI,ALKALI_FLAG_W,PCO2,PCO2_FLAG_W,PCO2TMP,PH_TOT,PH_TOT_FLAG_W,PH_TMP,SF6,SF6_FLAG_W,DOC,DOC_FLAG_W,TDN,TDN_FLAG_W,TRITUM,TRITUM_FLAG_W,HELIUM,HELIUM_FLAG_W,OXY_18,OXY_18_FLAG_W,BLACKC,BLACKC_FLAG_W,PIGMENTS,PIGMENTS_FLAG_W,SIGMA-THETA,SIGMA-1,SIGMA-2,SIGMA-3,SIGMA-4
,,,,,,,,,,,METERS,DBARS,ITS-90,PSS-78,,PSS-78,,G/KG,,UMOL/KG,,UMOL/KG,,UMOL/KG,,UMOL/KG,,UMOL/KG,,UMOL/KG,,PMOL/KG,,PMOL/KG,,PMOL/KG,,UMOL/KG,,UMOL/KG,,UATM@T,,DEG_C,,,DEG_C,FMOL/KG,,UMOL/KG,,UMOL/KG,,TU,,NMOL/KG,,,,,,,,,,,,
33RO20110828,   A10,    92,  1,     24,    024,2,20000101,0000,-30.0000, -37.4670, 2848,      4.3,  19.9645,  36.4516,2,  36.4528,2,  36.6247,2,    228.4,2,    229.1,2,     0.58,2,     0.00,2,     0.00,2,     0.03,2,    2.097,2,    1.292,2,    2.952,3,   2082.3,6,   2383.9,2,   -999.0,9,  -999.00,   7.9831,2,    25.58,    1.364,2,   -999.0,9,   -999.0,9, -999.000,9,-999.0000,9,-999.0000,9,-999.0000,9,-999.0000,1, 25.880, 30.143, 34.313, 38.393, 42.384
33RO20110828,   A10,    92,  1,     23,    023,2,20000101,0000,-30.0000, -37.4670, 2848,     34.6,  19.9324,  36.4462,2,  36.4466,2,  36.6184,2,    228.4,2,    228.5,2,     0.58,2,     0.00,2,     0.01,2,     0.03,2, -999.000,9, -999.000,9, -999.000,9,   -999.0,9,   2383.8,2,   -999.0,9,  -999.00,   7.9870,2,    25.60, -999.000,9,   -999.0,9,   -999.0,9, -999.000,9,-999.0000,9,-999.0000,9,-999.0000,9,-999.0000,9, 25.885, 30.149, 34.320, 38.400, 42.391
33RO20110828,   A10,    92,  1,     22,    022,2,20000101,0000,-30.0000, -37.4670, 2848,     74.0,  19.8053,  36.4168,2,  36.4154,2,  36.5871,2,    228.2,2,    227.8,2,     0.68,2,     0.00,2,     0.01,2,     0.04,2,    2.107,2,    1.290,2,    3.345,3,   -999.0,9,   -999.0,9,   -999.0,9,  -999.00,   7.9571,2,    25.57,    1.335,2,   -999.0,9,   -999.0,9, -999.000,9,-999.0000,9,-999.0000,9,-999.0000,9,-999.0000,9, 25.897, 30.163, 34.336, 38.418, 42.412
33RO20110828,   A10,    92,  1,     21,    021,2,20000101,0000,-30.0000, -37.4670, 2848,    110.4,  19.1910,  36.2608,2,  36.2676,2,  36.4386,2,    225.9,2,    225.5,2,     0.68,2,     0.19,2,     0.10,2,     0.06,2, -999.000,9, -999.000,9, -999.000,9,   -999.0,9,   2370.8,2,   -999.0,9,  -999.00,   7.9694,2,    25.61, -999.000,9,   -999.0,9,   -999.0,9, -999.000,9,-999.0000,9,-999.0000,9,-999.0000,9,-999.0000,1, 25.946, 30.223, 34.406, 38.498, 42.502
33RO20110828,   A10,    92,  1,     20,    020,2,20000101,0000,-30.0000, -37.4670, 2848,    174.7,  16.6070,  35.7478,2,  35.7500,2,  35.9186,2,    205.4,2,    205.5,2,     1.76,2,     4.10,2,     0.02,2,     0.32,2,    2.492,2,    1.491,2,    0.921,3,   -999.0,9,   2338.6,2,   -999.0,9,  -999.00,   7.8919,2,    25.63,    1.302,2,   -999.0,9,   -999.0,9, -999.000,9,-999.0000,9,-999.0000,9,-999.0000,9,-999.0000,1, 26.190, 30.513, 34.741, 38.876, 42.921
33RO20110828,   A10,    92,  1,     19,    019,2,20000101,0000,-30.0000, -37.4670, 2848,    241.2,  15.0533,  35.5276,2,  35.5237,2,  35.6912,2,    211.8,2,    210.8,2,     2.05,2,     5.95,2,     0.01,2,     0.42,2, -999.000,9, -999.000,9, -999.000,9,   -999.0,9,   -999.0,9,   -999.0,9,  -999.00,   7.8568,2,    25.61, -999.000,9,   -999.0,9,   -999.0,9, -999.000,9,-999.0000,9,-999.0000,9,-999.0000,9,-999.0000,9, 26.372, 30.724, 34.980, 39.143, 43.215
33RO20110828,   A10,    92,  1,     18,    018,2,20000101,0000,-30.0000, -37.4670, 2848,    319.9,  13.9028,  35.3941,2,  35.3979,2,  35.5648,2,    213.3,2,    213.7,2,     2.54,2,     8.20,2,     0.01,2,     0.52,2,    2.830,2,    1.635,2,    1.083,3,   -999.0,9,   2321.5,2,   -999.0,9,  -999.00,   7.8417,2,    25.62,    1.298,2,   -999.0,9,   -999.0,9, -999.000,9,-999.0000,9,-999.0000,9,-999.0000,9,-999.0000,9, 26.525, 30.899, 35.177, 39.361, 43.453
33RO20110828,   A10,    92,  1,     17,    017,2,20000101,0000,-30.0000, -37.4670, 2848,    364.4,  13.3780,  35.3117,2,  35.3135,2,  35.4801,2,    214.5,2,    213.8,2,     3.02,2,     9.37,2,     0.01,2,     0.60,2, -999.000,9, -999.000,9, -999.000,9,   -999.0,9,   -999.0,9,   -999.0,9,  -999.00,   7.8161,2,    25.60, -999.000,9,   -999.0,9,   -999.0,9, -999.000,9,-999.0000,9,-999.0000,9,-999.0000,9,-999.0000,9, 26.570, 30.955, 35.243, 39.436, 43.538
33RO20110828,   A10,    92,  1,     16,    016,2,20000101,0000,-30.0000, -37.4670, 2848,    460.2,  12.1179,  35.1100,2,  35.1112,2,  35.2768,2,    210.9,2,    211.7,2,     4.10,2,    12.30,2,     0.01,2,     0.76,2,    3.027,2,    1.694,2,    1.204,3,   -999.0,9,   2308.3,2,   -999.0,9,  -999.00,   7.7860,2,    25.57,    1.151,2,   -999.0,9,   -999.0,9, -999.000,9,-999.0000,9,-999.0000,9,-999.0000,9,-999.0000,9, 26.665, 31.076, 35.390, 39.608, 43.733
33RO20110828,   A10,    92,  1,     15,    015,2,20000101,0000,-30.0000, -37.4670, 2848,    560.6,   9.9410,  34.8000,2,  34.7937,2,  34.9577,2,    206.0,2,    206.6,2,     7.13,2,    18.06,2,     0.01,2,     1.07,2, -999.000,9, -999.000,9, -999.000,9,   -999.0,9,   -999.0,9,   -999.0,9,  -999.00,   7.7255,2,    25.58, -999.000,9,   -999.0,9,   -999.0,9, -999.000,9,-999.0000,9,-999.0000,9,-999.0000,9,-999.0000,9, 26.812, 31.271, 35.631, 39.894, 44.062
33RO20110828,   A10,    92,  1,     14,    014,2,20000101,0000,-30.0000, -37.4670, 2848,    659.4,   7.6290,  34.5270,2,  34.5255,2,  34.6883,2,    210.2,2,    210.1,2,    11.03,2,    23.14,2,     0.01,2,     1.35,2,    3.198,2,    1.659,2,    2.586,3,   -999.0,9,   2283.9,2,   -999.0,9,  -999.00,   7.6648,2,    25.60,    0.887,2,   -999.0,9,   -999.0,9, -999.000,9,-999.0000,9,-999.0000,9,-999.0000,9,-999.0000,9, 26.965, 31.478, 35.890, 40.204, 44.421
33RO20110828,   A10,    92,  1,     13,    013,2,20000101,0000,-30.0000, -37.4670, 2848,    807.3,   5.4000,  34.3328,2,  34.3353,2,  34.4972,2,    222.5,2,    222.8,2,    17.48,2,    27.53,2,     0.00,2,     1.63,2, -999.000,9, -999.000,9, -999.000,9,   -999.0,9,   2284.1,2,   -999.0,9,  -999.00,   7.6262,2,    25.58, -999.000,9,   -999.0,9,   -999.0,9, -999.000,9,-999.0000,9,-999.0000,9,-999.0000,9,-999.0000,9, 27.109, 31.678, 36.143, 40.509, 44.777
33RO20110828,   A10,    92,  1,     12,    012,2,20000101,0000,-30.0000, -37.4670, 2848,    958.2,   4.2025,  34.3058,2,  34.3069,2,  34.4686,2,    218.8,2,    218.8,2,    27.63,2,    29.88,2,     0.01,2,     1.85,2,    2.439,2,    1.206,2,    3.290,3,   -999.0,9,   2288.3,2,   -999.0,9,  -999.00,   7.6004,2,    25.59,    0.471,2,   -999.0,9,   -999.0,9, -999.000,9,-999.0000,9,-999.0000,9,-999.0000,9,-999.0000,9, 27.221, 31.820, 36.316, 40.711, 45.007
33RO20110828,   A10,    92,  1,     11,    011,2,20000101,0000,-30.0000, -37.4670, 2848,   1088.8,   3.6190,  34.3571,2,  34.3579,2,  34.5199,2,    204.8,2,    204.1,2,    38.66,2,    31.54,2,     0.01,2,     2.03,2, -999.000,9, -999.000,9, -999.000,9,   -999.0,9,   -999.0,9,   -999.0,9,  -999.00,   7.5790,2,    25.64, -999.000,9,   -999.0,9,   -999.0,9, -999.000,9,-999.0000,9,-999.0000,9,-999.0000,9,-999.0000,9, 27.322, 31.936, 36.446, 40.855, 45.165
33RO20110828,   A10,    92,  1,     10,    010,2,20000101,0000,-30.0000, -37.4670, 2848,   1224.5,   3.3081,  34.4282,2,  34.4282,6,  34.5906,6,    193.5,2,    194.3,2,    45.98,2,    32.32,2,     0.01,2,     2.14,2,    0.991,2,    0.481,2,    1.735,3,   -999.0,9,   2307.4,2,   -999.0,9,  -999.00,   7.5657,2,    25.58,    0.159,2,   -999.0,9,   -999.0,9, -999.000,9,-999.0000,9,-999.0000,9,-999.0000,9,-999.0000,9, 27.408, 32.030, 36.549, 40.965, 45.282
33RO20110828,   A10,    92,  1,      9,    009,2,20000101,0000,-30.0000, -37.4670, 2848,   1451.2,   3.0172,  34.5741,2,  34.5749,2,  34.7379,2,    188.6,2,    188.6,2,    53.01,2,    31.73,2,     0.00,2,     2.14,2,    0.339,2,    0.165,2,    0.846,3,   -999.0,9,   2319.0,2,   -999.0,9,  -999.00,   7.5738,2,    25.55,    0.048,2,   -999.0,9,   -999.0,9, -999.000,9,-999.0000,9,-999.0000,9,-999.0000,9,-999.0000,9, 27.554, 32.183, 36.708, 41.131, 45.454
33RO20110828,   A10,    92,  1,      8,    008,2,20000101,0000,-30.0000, -37.4670, 2848,   1629.8,   2.9015,  34.6568,2,  34.6570,2,  34.8204,2,    193.8,2,    194.0,2,    53.88,2,    30.16,2,     0.00,2,     2.06,2,    0.168,2,    0.083,2,    0.525,3,   -999.0,9,   -999.0,9,   -999.0,9,  -999.00,   7.5881,2,    25.56,    0.000,2,   -999.0,9,   -999.0,9, -999.000,9,-999.0000,9,-999.0000,9,-999.0000,9,-999.0000,9, 27.631, 32.263, 36.791, 41.217, 45.542
33RO20110828,   A10,    92,  1,      6,    006,2,20000101,0000,-30.0000, -37.4670, 2848,   1832.0,   2.8425,  34.7356,2,  34.7368,2,  34.9006,2,    205.7,2,    205.5,2,    52.12,2,    27.92,2,     0.00,2,     1.93,2, -999.000,9, -999.000,9, -999.000,9,   -999.0,9,   -999.0,9,   -999.0,9,  -999.00,   7.6192,2,    25.61, -999.000,9,   -999.0,9,   -999.0,9, -999.000,9,-999.0000,9,-999.0000,9,-999.0000,9,-999.0000,9, 27.701, 32.335, 36.864, 41.291, 45.618
33RO20110828,   A10,    92,  1,      7,    007,2,20000101,0000,-30.0000, -37.4670, 2848,   1832.6,   2.8423,  34.7358,2,  34.7364,2,  34.9002,2,    205.7,2,    205.3,2,    52.32,2,    28.01,2,     0.01,2,     1.92,2, -999.000,9, -999.000,9, -999.000,9,   -999.0,9,   2325.0,2,   -999.0,9,  -999.00,   7.6075,2,    25.57, -999.000,9,   -999.0,9,   -999.0,9, -999.000,9,-999.0000,9,-999.0000,9,-999.0000,9,-999.0000,9, 27.701, 32.335, 36.864, 41.291, 45.618
33RO20110828,   A10,    92,  1,      5,    005,2,20000101,0000,-30.0000, -37.4670, 2848,   2025.4,   2.8333,  34.7902,2,  34.7903,2,  34.9543,2,    215.8,2,    216.2,2,    44.60,2,    24.79,2,     0.00,2,     1.69,2,    0.045,2,    0.025,2,    0.248,3,   -999.0,9,   2325.4,2,   -999.0,9,  -999.00,   7.6350,2,    25.52,    0.000,2,   -999.0,9,   -999.0,9, -999.000,9,-999.0000,9,-999.0000,9,-999.0000,9,-999.0000,9, 27.746, 32.380, 36.910, 41.337, 45.664
33RO20110828,   A10,    92,  1,      4,    004,2,20000101,0000,-30.0000, -37.4670, 2848,   2201.3,   2.8313,  34.8290,2,  34.8314,2,  34.9956,2,    224.2,2,    224.4,2,    44.99,2,    24.79,2,     0.01,2,     1.69,2,    0.031,2,    0.018,2,    0.208,3,   -999.0,9,   -999.0,9,   -999.0,9,  -999.00,   7.6496,2,    25.53,    0.000,2,   -999.0,9,   -999.0,9, -999.000,9,-999.0000,9,-999.0000,9,-999.0000,9,-999.0000,9, 27.781, 32.415, 36.945, 41.372, 45.699
33RO20110828,   A10,    92,  1,      3,    003,2,20000101,0000,-30.0000, -37.4670, 2848,   2350.4,   2.9595,  34.8846,2,  34.8847,2,  35.0492,2,    238.0,2,    238.2,2,    36.31,2,    22.45,2,     0.01,2,     1.49,2,    0.059,2,    0.032,2,    0.293,3,   -999.0,9,   2321.5,2,   -999.0,9,  -999.00,   7.6734,2,    25.56,    0.000,2,   -999.0,9,   -999.0,9, -999.000,9,-999.0000,9,-999.0000,9,-999.0000,9,-999.0000,9, 27.814, 32.444, 36.970, 41.395, 45.719
33RO20110828,   A10,    92,  1,      2,    002,2,20000101,0000,-30.0000, -37.4670, 2848,   2597.1,   2.9491,  34.9092,2,  34.9114,2,  35.0761,2,    245.6,2,    246.0,2,    32.99,2,    21.37,2,     0.01,2,     1.38,2,    0.061,2,    0.033,2,    0.308,3,   -999.0,9,   2316.9,2,   -999.0,9,  -999.00,   7.6948,2,    25.55,    0.000,2,   -999.0,9,   -999.0,9, -999.000,9,-999.0000,9,-999.0000,9,-999.0000,9,-999.0000,9, 27.838, 32.469, 36.996, 41.421, 45.746
33RO20110828,   A10,    92,  1,      1,    001,2,20000101,0000,-30.0000, -37.4670, 2848,   2862.1,   2.8108,  34.9112,2,  34.9130,2,  35.0777,2,    248.7,2,    248.5,2,    33.38,2,    21.47,2,     0.01,2,     1.40,2,    0.051,2,    0.028,2,    0.283,3,   -999.0,9,   2319.8,2,   -999.0,9,  -999.00,   7.6999,2,    25.59,    0.000,2,   -999.0,9,   -999.0,9, -999.000,9,-999.0000,9,-999.0000,9,-999.0000,9,-999.0000,9, 27.854, 32.489, 37.021, 41.450, 45.778