BOTTLE,20130715NOAA
EXPOCODE,SECT_ID,STNNBR,CASTNO,SAMPNO,BTLNBR,BTLNBR_FLAG_W,DATE,TIME,LATITUDE,LONGITUDE,DEPTH,CTDPRS,CTDTMP,CTDSAL,CTDSAL_FLAG_W,SALNTY,SALNTY_FLAG_W,SALTREF,SALTREF_FLAG_W,CTDOXY,CTDOXY_FLAG_W,OXYGEN,OXYGEN_FLAG_W,SILCAT,SILCAT_FLAG_W,NITRAT,NITRAT_FLAG_W,NITRIT,NITRIT_FLAG_W,PHSPHT,PHSPHT_FLAG_W,CFC-11,CFC-11_FLAG_W,CFC-12,CFC-12_FLAG_W,CCL4,CCL4_FLAG_W,TCARBN,TCARBN_FLAG_W,ALKALI,ALKALI_FLAG_W,PCO2,PCO2_FLAG_W,PCO2TMP,PH_TOT,PH_TOT_FLAG_W,PH_TMP,SF6,SF6_FLAG_W,DOC,DOC_FLAG_W,TDN,TDN_FLAG_W,TRITUM,TRITUM_FLAG_W,HELIUM,HELIUM_FLAG_W,OXY_18,OXY_18_FLAG_W,BLACKC,BLACKC_FLAG_W,PIGMENTS,PIGMENTS_FLAG_W,SIGMA-THETA,SIGMA-1,SIGMA-2,SIGMA-3,SIGMA-4
,,,,,,,,,,,METERS,DBARS,ITS-90,PSS-78,,PSS-78,,G/KG,,UMOL/KG,,UMOL/KG,,UMOL/KG,,UMOL/KG,,UMOL/KG,,UMOL/KG,,PMOL/KG,,PMOL/KG,,PMOL/KG,,UMOL/KG,,UMOL/KG,,UATM@T,,DEG_C,,,DEG_C,FMOL/KG,,UMOL/KG,,UMOL/KG,,TU,,NMOL/KG,,,,,,,,,,,,
33RO20110828,   A10,    28,  1,     23,    023,2,20000101,0000,-29.5331,   1.9671, 2425,      4.4,  17.4561,  35.7671,2,  35.7659,2,  35.9345,2,    244.4,2,    244.2,2,     1.56,2,     0.00,2,     0.01,2,     0.15,2,    2.463,2,    1.474,2,    3.193,2,   2080.0,6,   -999.0,9,   -999.0,9,  -999.00,-999.0000,9,  -999.00,    1.524,2,   -999.0,9,   -999.0,9, -999.000,1,-999.0000,1,-999.0000,1,-999.0000,9,-999.0000,9, 25.992, 30.300, 34.514, 38.635, 42.666
33RO20110828,   A10,    28,  1,     24,    024,2,20000101,0000,-29.5331,   1.9671, 2425,      4.8,  17.4569,  35.7671,2,-999.0000,9,-999.0000,9,   -999.0,9,   -999.0,9,  -999.00,9,  -999.00,9,  -999.00,9,  -999.00,9, -999.000,9, -999.000,9, -999.000,9,   -999.0,9,   2350.0,2,   -999.0,9,  -999.00, 999.0000,5,   999.00, -999.000,9,   -999.0,9,   -999.0,9, -999.000,1,-999.0000,9,-999.0000,1,-999.0000,9,-999.0000,1, 25.993, 30.301, 34.514, 38.635, 42.667
33RO20110828,   A10,    28,  1,     22,    022,2,20000101,0000,-29.5331,   1.9671, 2425,     64.9,  16.6398,  35.7216,2,  35.7214,2,  35.8899,2,    246.9,2,    246.5,2,     1.56,2,     0.20,2,     0.08,2,     0.18,2,    2.501,2,    1.491,2,    2.949,2,   -999.0,9,   -999.0,9,   -999.0,9,  -999.00,-999.0000,9,  -999.00,    1.475,2,   -999.0,9,   -999.0,9, -999.000,1,-999.0000,1,-999.0000,1,-999.0000,9,-999.0000,1, 26.156, 30.478, 34.706, 38.840, 42.885
33RO20110828,   A10,    28,  1,     21,    021,2,20000101,0000,-29.5331,   1.9671, 2425,     99.9,  16.2487,  35.6750,2,  35.6752,2,  35.8435,2,    240.1,2,    238.1,2,     2.05,2,     1.17,2,     0.49,2,     0.27,2,    2.507,2,    1.498,2,    2.281,2,   -999.0,9,   -999.0,9,   -999.0,9,  -999.00,-999.0000,9,  -999.00,    1.485,2,   -999.0,9,   -999.0,9, -999.000,1,-999.0000,1,-999.0000,1,-999.0000,9,-999.0000,9, 26.213, 30.543, 34.777, 38.918, 42.969
33RO20110828,   A10,    28,  1,     20,    020,2,20000101,0000,-29.5331,   1.9671, 2425,    125.8,  16.1482,  35.6722,2,  35.6730,2,  35.8412,2,    234.9,2,    236.3,2,     2.05,2,     1.46,2,     0.49,2,     0.29,2,    2.511,2,    1.500,2,    2.093,2,   2090.5,2,   2342.7,2,   -999.0,9,  -999.00, 999.0000,5,   999.00,    1.487,2,   -999.0,9,   -999.0,9, -999.000,1,-999.0000,1,-999.0000,1,-999.0000,9,-999.0000,1, 26.236, 30.567, 34.803, 38.946, 42.999
33RO20110828,   A10,    28,  1,     19,    019,3,20000101,0000,-29.5331,   1.9671, 2425,    148.9,  16.0513,  35.6671,2,  35.6680,2,  35.8362,2,   -999.0,9,   -999.0,9,  -999.00,5,  -999.00,5,  -999.00,5,  -999.00,5, -999.000,9, -999.000,9, -999.000,9,   -999.0,9,   -999.0,9,   -999.0,9,  -999.00,-999.0000,9,  -999.00, -999.000,9,   -999.0,9,   -999.0,9, -999.000,1,-999.0000,1,-999.0000,1,-999.0000,9,-999.0000,9, 26.255, 30.588, 34.826, 38.971, 43.025
33RO20110828,   A10,    28,  1,     18,    018,2,20000101,0000,-29.5331,   1.9671, 2425,    200.7,  14.4113,  35.3371,2,  35.3430,2,  35.5096,2,    219.5,2,    222.1,2,     2.83,2,     5.76,2,     0.02,2,     0.55,2,    2.743,2,    1.613,2,    1.040,2,   -999.0,9,   -999.0,9,   -999.0,9,  -999.00,-999.0000,9,  -999.00,    1.471,2,   -999.0,9,   -999.0,9, -999.000,1,-999.0000,1,-999.0000,1,-999.0000,9,-999.0000,9, 26.371, 30.736, 35.004, 39.179, 43.262
33RO20110828,   A10,    28,  1,     17,    017,2,20000101,0000,-29.5331,   1.9671, 2425,    247.7,  13.2533,  35.1581,2,  35.1574,2,  35.3232,2,    218.0,2,    219.5,2,     3.42,2,     8.39,2,     0.01,2,     0.72,2,    2.915,2,    1.694,2,    0.969,2,   2114.1,2,   2314.5,2,   -999.0,9,  -999.00, 999.0000,5,   999.00,    1.420,2,   -999.0,9,   -999.0,9, -999.000,1,-999.0000,1,-999.0000,1,-999.0000,9,-999.0000,9, 26.471, 30.859, 35.150, 39.346, 43.451
33RO20110828,   A10,    28,  1,     16,    016,2,20000101,0000,-29.5331,   1.9671, 2425,    300.4,  12.4439,  35.0794,2,  35.0794,2,  35.2448,2,    214.3,2,    213.7,2,     4.20,2,    11.12,2,     0.01,2,     0.89,2,    3.032,2,    1.732,2,    1.025,2,   -999.0,9,   -999.0,9,   -999.0,9,  -999.00,-999.0000,9,  -999.00,    1.337,2,   -999.0,9,   -999.0,9, -999.000,1,-999.0000,1,-999.0000,1,-999.0000,9,-999.0000,9, 26.573, 30.977, 35.285, 39.496, 43.616
33RO20110828,   A10,    28,  1,     15,    015,2,20000101,0000,-29.5331,   1.9671, 2425,    399.0,  10.7860,  34.8909,2,  34.8915,2,  35.0560,2,    200.8,2,    197.0,2,     6.83,2,    16.59,2,     0.01,2,     1.26,2,    3.102,2,    1.711,2,    1.205,2,   -999.0,9,   -999.0,9,   -999.0,9,  -999.00,-999.0000,9,  -999.00,    1.101,2,   -999.0,9,   -999.0,9, -999.000,1,-999.0000,1,-999.0000,1,-999.0000,9,-999.0000,9, 26.738, 31.178, 35.520, 39.765, 43.916
33RO20110828,   A10,    28,  1,     14,    014,2,20000101,0000,-29.5331,   1.9671, 2425,    498.4,   8.8786,  34.6704,2,  34.6705,2,  34.8340,2,    191.0,2,    187.9,2,    11.22,2,    21.96,2,     0.01,2,     1.65,2,    2.971,2,    1.593,2,    1.483,2,   -999.0,9,   -999.0,9,   -999.0,9,  -999.00,-999.0000,9,  -999.00,    0.937,2,   -999.0,9,   -999.0,9, -999.000,1,-999.0000,1,-999.0000,1,-999.0000,9,-999.0000,9, 26.888, 31.371, 35.754, 40.040, 44.230
33RO20110828,   A10,    28,  1,     13,    013,2,20000101,0000,-29.5331,   1.9671, 2425,    600.7,   7.2475,  34.5077,2,  34.5094,2,  34.6722,2,    186.9,2,    192.0,2,    15.33,2,    25.87,2,     0.01,2,     1.90,2,    2.906,2,    1.509,2,    2.014,2,   2179.8,2,   2289.1,2,   -999.0,9,  -999.00, 999.0000,5,   999.00,    0.828,2,   -999.0,9,   -999.0,9, -999.000,1,-999.0000,1,-999.0000,1,-999.0000,9,-999.0000,9, 27.006, 31.528, 35.948, 40.270, 44.496
33RO20110828,   A10,    28,  1,     12,    012,2,20000101,0000,-29.5331,   1.9671, 2425,    701.5,   5.4663,  34.3673,2,  34.3695,2,  34.5315,2,    207.0,2,    204.9,2,    21.38,2,    28.61,2,     0.00,2,     2.12,2,    2.804,2,    1.426,2,    2.543,2,   -999.0,9,   -999.0,9,   -999.0,9,  -999.00,-999.0000,9,  -999.00,    0.714,2,   -999.0,9,   -999.0,9, -999.000,1,-999.0000,1,-999.0000,1,-999.0000,9,-999.0000,9, 27.128, 31.693, 36.157, 40.521, 44.786
33RO20110828,   A10,    28,  1,     11,    011,2,20000101,0000,-29.5331,   1.9671, 2425,    800.0,   4.6413,  34.3453,2,  34.3463,2,  34.5083,2,    203.2,2,    204.8,2,    28.41,2,    30.36,2,     0.00,2,     2.25,2,    2.402,2,    1.207,2,    2.477,2,   -999.0,9,   -999.0,9,   -999.0,9,  -999.00,-999.0000,9,  -999.00,    0.552,2,   -999.0,9,   -999.0,9, -999.000,1,-999.0000,1,-999.0000,1,-999.0000,9,-999.0000,9, 27.205, 31.792, 36.276, 40.660, 44.944
33RO20110828,   A10,    28,  1,     10,    010,2,20000101,0000,-29.5331,   1.9671, 2425,    901.1,   4.2047,  34.3783,2,  34.3791,2,  34.5412,2,    190.6,2,    190.6,2,    35.54,2,    32.12,2,     0.00,2,     2.39,2,    1.683,2,    0.831,2,    1.911,2,   -999.0,9,   -999.0,9,   -999.0,9,  -999.00,-999.0000,9,  -999.00,    0.338,2,   -999.0,9,   -999.0,9, -999.000,1,-999.0000,1,-999.0000,1,-999.0000,9,-999.0000,9, 27.278, 31.876, 36.372, 40.766, 45.061
33RO20110828,   A10,    28,  1,      9,    009,2,20000101,0000,-29.5331,   1.9671, 2425,   1050.3,   3.6589,  34.4408,2,  34.4409,2,  34.6033,2,    181.7,2,    182.9,2,    45.49,2,    33.09,2,     0.01,2,     2.46,2,    0.985,2,    0.478,2,    1.287,2,   -999.0,9,   -999.0,9,   -999.0,9,  -999.00,-999.0000,9,  -999.00,    0.182,2,   -999.0,9,   -999.0,9, -999.000,1,-999.0000,1,-999.0000,1,-999.0000,9,-999.0000,9, 27.384, 31.996, 36.505, 40.912, 45.220
33RO20110828,   A10,    28,  1,      8,    008,2,20000101,0000,-29.5331,   1.9671, 2425,   1199.5,   3.3451,  34.5326,2,  34.5331,6,  34.6960,6,    179.1,2,    179.3,2,    51.15,2,    32.70,2,     0.00,2,     2.44,2,    0.477,2,    0.224,2,    0.713,2,   2233.2,2,   2320.3,2,   -999.0,9,  -999.00, 999.0000,5,   999.00,    0.043,2,   -999.0,9,   -999.0,9, -999.000,9,-999.0000,1,-999.0000,9,-999.0000,9,-999.0000,9, 27.488, 32.108, 36.625, 41.039, 45.354
33RO20110828,   A10,    28,  1,      7,    007,2,20000101,0000,-29.5331,   1.9671, 2425,   1391.5,   3.1124,  34.6195,2,  34.6203,2,  34.7835,2,    184.0,2,    182.3,2,    54.66,2,    31.53,2,     0.00,2,     2.34,2,    0.273,2,    0.128,2,    0.440,2,   -999.0,9,   -999.0,9,   -999.0,9,  -999.00,-999.0000,9,  -999.00,    0.034,2,   -999.0,9,   -999.0,9, -999.000,1,-999.0000,1,-999.0000,9,-999.0000,9,-999.0000,9, 27.581, 32.207, 36.729, 41.150, 45.470
33RO20110828,   A10,    28,  1,      6,    006,2,20000101,0000,-29.5331,   1.9671, 2425,   1600.4,   3.2019,  34.7332,2,  34.7350,2,  34.8988,2,    196.2,2,    195.2,2,    46.36,2,    28.60,2,     0.00,2,     2.12,2,    0.073,2,    0.036,2,    0.158,2,   -999.0,9,   -999.0,9,   -999.0,9,  -999.00,-999.0000,9,  -999.00,    0.000,2,   -999.0,9,   -999.0,9, -999.000,9,-999.0000,1,-999.0000,9,-999.0000,9,-999.0000,9, 27.666, 32.289, 36.809, 41.226, 45.544
33RO20110828,   A10,    28,  1,      5,    005,2,20000101,0000,-29.5331,   1.9671, 2425,   1799.9,   3.0614,  34.7874,2,  34.7887,2,  34.9527,2,    205.6,2,    205.9,2,    46.07,2,    27.03,2,     0.00,2,     1.98,2,    0.043,2,    0.021,2,    0.108,2,   2214.2,2,   2327.5,2,   -999.0,9,  -999.00, 999.0000,5,   999.00,    0.000,2,   -999.0,9,   -999.0,9, -999.000,1,-999.0000,1,-999.0000,9,-999.0000,9,-999.0000,9, 27.723, 32.350, 36.873, 41.295, 45.616
33RO20110828,   A10,    28,  1,      4,    004,2,20000101,0000,-29.5331,   1.9671, 2425,   2001.2,   2.9882,  34.8296,2,  34.8316,2,  34.9958,2,    216.7,2,    218.1,2,    43.43,2,    25.57,2,     0.01,2,     1.87,2,    0.020,2,    0.010,2,    0.079,2,   -999.0,9,   -999.0,9,   -999.0,9,  -999.00,-999.0000,9,  -999.00,    0.000,2,   -999.0,9,   -999.0,9, -999.000,9,-999.0000,1,-999.0000,9,-999.0000,9,-999.0000,9, 27.766, 32.395, 36.920, 41.343, 45.666
33RO20110828,   A10,    28,  1,      3,    003,2,20000101,0000,-29.5331,   1.9671, 2425,   2250.5,   2.7155,  34.8350,2,  34.8359,2,  35.0002,2,    221.9,2,    222.5,2,    48.51,2,    25.37,2,     0.00,2,     1.84,2,    0.018,2,    0.009,2,    0.067,2,   -999.0,9,   -999.0,9,   -999.0,9,  -999.00,-999.0000,9,  -999.00,    0.000,2,   -999.0,9,   -999.0,9, -999.000,1,-999.0000,1,-999.0000,9,-999.0000,9,-999.0000,9, 27.795, 32.432, 36.965, 41.395, 45.726
33RO20110828,   A10,    28,  1,      2,    002,2,20000101,0000,-29.5331,   1.9671, 2425,   2374.9,   2.6409,  34.8370,2,  34.8377,2,  35.0020,2,    223.4,2,    222.9,2,    50.36,2,    25.18,2,     0.01,2,     1.83,2,    0.017,2,    0.009,2,    0.066,2,   -999.0,9,   -999.0,9,   -999.0,9,  -999.00,-999.0000,9,  -999.00,    0.000,2,   -999.0,9,   -999.0,9, -999.000,1,-999.0000,1,-999.0000,9,-999.0000,9,-999.0000,9, 27.804, 32.443, 36.978, 41.411, 45.743
33RO20110828,   A10,    28,  1,      1,    001,2,20000101,0000,-29.5331,   1.9671, 2425,   2500.1,   2.5089,  34.8443,2,  34.8456,2,  35.0099,2,    228.7,2,    228.5,2,    52.21,2,    25.08,2,     0.01,2,     1.81,2,    0.015,2,    0.008,2,    0.072,2,   2208.4,2,   2336.1,2,   -999.0,9,  -999.00, 999.0000,5,   999.00,    0.000,2,   -999.0,9,   -999.0,9, -999.000,1,-999.0000,1,-999.0000,9,-999.0000,9,-999.0000,9, 27.822, 32.465, 37.004, 41.440, 45.776