BOTTLE,20130715NOAA
EXPOCODE,SECT_ID,STNNBR,CASTNO,SAMPNO,BTLNBR,BTLNBR_FLAG_W,DATE,TIME,LATITUDE,LONGITUDE,DEPTH,CTDPRS,CTDTMP,CTDSAL,CTDSAL_FLAG_W,SALNTY,SALNTY_FLAG_W,SALTREF,SALTREF_FLAG_W,CTDOXY,CTDOXY_FLAG_W,OXYGEN,OXYGEN_FLAG_W,SILCAT,SILCAT_FLAG_W,NITRAT,NITRAT_FLAG_W,NITRIT,NITRIT_FLAG_W,PHSPHT,PHSPHT_FLAG_W,CFC-11,CFC-11_FLAG_W,CFC-12,CFC-12_FLAG_W,CCL4,CCL4_FLAG_W,TCARBN,TCARBN_FLAG_W,ALKALI,ALKALI_FLAG_W,PCO2,PCO2_FLAG_W,PCO2TMP,PH_TOT,PH_TOT_FLAG_W,PH_TMP,SF6,SF6_FLAG_W,DOC,DOC_FLAG_W,TDN,TDN_FLAG_W,TRITUM,TRITUM_FLAG_W,HELIUM,HELIUM_FLAG_W,OXY_18,OXY_18_FLAG_W,BLACKC,BLACKC_FLAG_W,PIGMENTS,PIGMENTS_FLAG_W,SIGMA-THETA,SIGMA-1,SIGMA-2,SIGMA-3,SIGMA-4
,,,,,,,,,,,METERS,DBARS,ITS-90,PSS-78,,PSS-78,,G/KG,,UMOL/KG,,UMOL/KG,,UMOL/KG,,UMOL/KG,,UMOL/KG,,UMOL/KG,,PMOL/KG,,PMOL/KG,,PMOL/KG,,UMOL/KG,,UMOL/KG,,UATM@T,,DEG_C,,,DEG_C,FMOL/KG,,UMOL/KG,,UMOL/KG,,TU,,NMOL/KG,,,,,,,,,,,,
33RO20110828,   A10,   114,  1,     23,    023,2,20000101,0000,-27.9499, -46.4667, -999,      5.1,  22.6514,  36.8991,2,-999.0000,9,-999.0000,9,   -999.0,9,   -999.0,9,  -999.00,9,  -999.00,9,  -999.00,9,  -999.00,9, -999.000,9, -999.000,9, -999.000,9,   -999.0,9,   -999.0,9,   -999.0,9,  -999.00,-999.0000,9,  -999.00, -999.000,9,   -999.0,9,   -999.0,9, -999.000,9,-999.0000,9,-999.0000,9,-999.0000,9,-999.0000,9, 25.476, 29.697, 33.826, 37.866, 41.819
33RO20110828,   A10,   114,  1,     18,    018,2,20000101,0000,-27.9499, -46.4667, -999,      5.2,  22.6624,  36.8998,2,  36.8911,2,  37.0651,2,    215.5,2,    215.7,2,     0.68,2,     0.10,2,     0.00,2,     0.06,2,    1.872,2,    1.170,2,    4.405,3,   2096.6,6,   2415.6,2,   -999.0,9,  -999.00,   7.9796,2,    25.58,    1.207,2,   -999.0,9,   -999.0,9, -999.000,9,-999.0000,9,-999.0000,9,-999.0000,9,-999.0000,9, 25.467, 29.688, 33.817, 37.856, 41.809
33RO20110828,   A10,   114,  1,     24,    024,2,20000101,0000,-27.9499, -46.4667, -999,      5.2,  22.6246,  36.9051,2,-999.0000,9,-999.0000,9,   -999.0,9,   -999.0,9,  -999.00,9,  -999.00,9,  -999.00,9,  -999.00,9, -999.000,9, -999.000,9, -999.000,9,   -999.0,9,   -999.0,9,   -999.0,9,  -999.00,-999.0000,9,  -999.00, -999.000,9,   -999.0,9,   -999.0,9, -999.000,9,-999.0000,9,-999.0000,9,-999.0000,9,-999.0000,9, 25.488, 29.710, 33.839, 37.879, 41.832
33RO20110828,   A10,   114,  1,     21,    021,2,20000101,0000,-27.9499, -46.4667, -999,      5.3,  22.7224,  36.8880,2,-999.0000,9,-999.0000,9,   -999.0,9,   -999.0,9,  -999.00,9,  -999.00,9,  -999.00,9,  -999.00,9, -999.000,9, -999.000,9, -999.000,9,   -999.0,9,   -999.0,9,   -999.0,9,  -999.00,-999.0000,9,  -999.00, -999.000,9,   -999.0,9,   -999.0,9, -999.000,9,-999.0000,9,-999.0000,9,-999.0000,9,-999.0000,9, 25.447, 29.667, 33.795, 37.834, 41.786
33RO20110828,   A10,   114,  1,     20,    020,2,20000101,0000,-27.9499, -46.4667, -999,      5.3,  22.7196,  36.8880,2,-999.0000,9,-999.0000,9,   -999.0,9,   -999.0,9,  -999.00,9,  -999.00,9,  -999.00,9,  -999.00,9, -999.000,9, -999.000,9, -999.000,9,   -999.0,9,   -999.0,9,   -999.0,9,  -999.00,-999.0000,9,  -999.00, -999.000,9,   -999.0,9,   -999.0,9, -999.000,9,-999.0000,9,-999.0000,9,-999.0000,9,-999.0000,1, 25.448, 29.668, 33.796, 37.835, 41.787
33RO20110828,   A10,   114,  1,     19,    019,2,20000101,0000,-27.9499, -46.4667, -999,      5.5,  22.6913,  36.8944,2,  34.5975,2,  34.7607,2,   -999.0,9,   -999.0,9,  -999.00,9,  -999.00,9,  -999.00,9,  -999.00,9, -999.000,9, -999.000,9, -999.000,9,   -999.0,9,   -999.0,9,   -999.0,9,  -999.00,-999.0000,9,  -999.00, -999.000,9,   -999.0,9,   -999.0,9, -999.000,9,-999.0000,9,-999.0000,9,-999.0000,9,-999.0000,9, 23.717, 27.951, 32.093, 36.145, 40.110
33RO20110828,   A10,   114,  1,     22,    022,2,20000101,0000,-27.9499, -46.4667, -999,      5.6,  22.6763,  36.8957,2,-999.0000,9,-999.0000,9,   -999.0,9,   -999.0,9,  -999.00,9,  -999.00,9,  -999.00,9,  -999.00,9, -999.000,9, -999.000,9, -999.000,9,   -999.0,9,   -999.0,9,   -999.0,9,  -999.00,-999.0000,9,  -999.00, -999.000,9,   -999.0,9,   -999.0,9, -999.000,9,-999.0000,9,-999.0000,9,-999.0000,9,-999.0000,9, 25.466, 29.687, 33.816, 37.855, 41.808
33RO20110828,   A10,   114,  1,     17,    017,2,20000101,0000,-27.9499, -46.4667, -999,     54.6,  22.1690,  36.8285,2,  36.8312,2,  37.0049,2,    217.3,2,    218.6,2,     0.78,2,     0.10,2,     0.00,2,     0.06,2, -999.000,9, -999.000,9, -999.000,9,   2095.0,2,   2414.7,2,   -999.0,9,  -999.00,   7.9489,2,    25.57, -999.000,9,   -999.0,9,   -999.0,9, -999.000,9,-999.0000,9,-999.0000,9,-999.0000,9,-999.0000,9, 25.565, 29.794, 33.930, 37.976, 41.936
33RO20110828,   A10,   114,  1,     16,    016,2,20000101,0000,-27.9499, -46.4667, -999,     99.9,  21.7165,  36.8161,2,  36.8161,2,  36.9897,2,    217.9,2,    217.2,2,     0.78,2,     0.19,2,     0.01,2,     0.07,2, -999.000,9, -999.000,9, -999.000,9,   2093.1,2,   2411.5,2,   -999.0,9,  -999.00,   7.9910,2,    25.53, -999.000,9,   -999.0,9,   -999.0,9, -999.000,9,-999.0000,9,-999.0000,9,-999.0000,9,-999.0000,1, 25.684, 29.919, 34.062, 38.115, 42.081
33RO20110828,   A10,   114,  1,     15,    015,2,20000101,0000,-27.9499, -46.4667, -999,    140.2,  20.4761,  36.5615,2,  36.5655,2,  36.7379,2,    210.8,2,    210.1,2,     0.97,2,     1.07,2,     0.09,2,     0.14,2, -999.000,9, -999.000,9, -999.000,9,   2097.8,2,   2395.6,2,   -999.0,9,  -999.00,   7.9523,2,    25.50, -999.000,9,   -999.0,9,   -999.0,9, -999.000,9,-999.0000,9,-999.0000,9,-999.0000,9,-999.0000,1, 25.836, 30.091, 34.253, 38.325, 42.309
33RO20110828,   A10,   114,  1,     14,    014,2,20000101,0000,-27.9499, -46.4667, -999,    179.2,  19.0177,  36.2608,2,  36.2708,2,  36.4418,2,    213.1,2,    212.4,2,     1.27,2,     1.66,2,     0.06,2,     0.20,2,    2.194,2,    1.335,2,    2.715,3,   2098.9,2,   2377.7,2,   -999.0,9,  -999.00,   7.9373,2,    25.58,    1.305,2,   -999.0,9,   -999.0,9, -999.000,9,-999.0000,9,-999.0000,9,-999.0000,9,-999.0000,9, 25.997, 30.276, 34.462, 38.557, 42.563
33RO20110828,   A10,   114,  1,     13,    013,2,20000101,0000,-27.9499, -46.4667, -999,    385.1,  14.3106,  35.4422,2,  35.4435,2,  35.6107,2,    207.0,2,    208.4,2,     2.73,2,     8.10,2,     0.01,2,     0.67,2, -999.000,9, -999.000,9, -999.000,9,   2122.3,2,   2332.7,2,   -999.0,9,  -999.00,   7.8232,2,    25.62, -999.000,9,   -999.0,9,   -999.0,9, -999.000,9,-999.0000,9,-999.0000,9,-999.0000,9,-999.0000,9, 26.476, 30.843, 35.113, 39.289, 43.374
33RO20110828,   A10,   114,  1,     12,    012,2,20000101,0000,-27.9499, -46.4667, -999,    469.8,  12.5757,  35.1808,2,  35.1822,2,  35.3481,2,    207.9,2,    207.9,2,     4.00,2,    11.81,2,     0.00,2,     0.92,2, -999.000,9, -999.000,9, -999.000,9,   2132.4,2,   2317.5,2,   -999.0,9,  -999.00,   7.7896,2,    25.60, -999.000,9,   -999.0,9,   -999.0,9, -999.000,9,-999.0000,9,-999.0000,9,-999.0000,9,-999.0000,9, 26.631, 31.033, 35.337, 39.547, 43.664
33RO20110828,   A10,   114,  1,     11,    011,2,20000101,0000,-27.9499, -46.4667, -999,    574.5,  10.1996,  34.8400,2,  34.8455,2,  35.0098,2,    203.3,2,    203.5,2,     7.32,2,    17.67,2,     0.00,2,     1.32,2, -999.000,9, -999.000,9, -999.000,9,   -999.0,9,   -999.0,9,   -999.0,9,  -999.00,   7.7343,2,    25.69, -999.000,9,   -999.0,9,   -999.0,9, -999.000,9,-999.0000,9,-999.0000,9,-999.0000,9,-999.0000,9, 26.809, 31.262, 35.616, 39.874, 44.037
33RO20110828,   A10,   114,  1,     10,    010,2,20000101,0000,-27.9499, -46.4667, -999,    674.5,   8.5654,  34.6301,2,  34.6336,2,  34.7969,2,    206.2,2,    206.3,2,     9.37,2,    21.28,2,     0.00,2,     1.56,2,    3.151,2,    1.650,2,    2.771,3,   2157.7,2,   2293.9,2,   -999.0,9,  -999.00,   7.6938,2,    25.62,    0.883,2,   -999.0,9,   -999.0,9, -999.000,9,-999.0000,9,-999.0000,9,-999.0000,9,-999.0000,9, 26.911, 31.402, 35.792, 40.085, 44.282
33RO20110828,   A10,   114,  1,      9,    009,2,20000101,0000,-27.9499, -46.4667, -999,    772.1,   6.2925,  34.4073,2,  34.4072,2,  34.5694,2,    215.7,2,    214.3,2,    15.04,2,    25.97,2,     0.00,2,     1.89,2, -999.000,9, -999.000,9, -999.000,9,   -999.0,9,   -999.0,9,   -999.0,9,  -999.00,   7.6440,2,    25.63, -999.000,9,   -999.0,9,   -999.0,9, -999.000,9,-999.0000,9,-999.0000,9,-999.0000,9,-999.0000,9, 27.056, 31.601, 36.045, 40.390, 44.637
33RO20110828,   A10,   114,  1,      8,    008,2,20000101,0000,-27.9499, -46.4667, -999,    876.0,   4.8346,  34.3117,2,  34.3171,2,  34.4790,2,    219.8,2,    220.7,2,    21.68,2,    28.90,2,     0.00,2,     2.09,2, -999.000,9, -999.000,9, -999.000,9,   2181.1,2,   2289.3,2,   -999.0,9,  -999.00,   7.6246,2,    25.62, -999.000,9,   -999.0,9,   -999.0,9, -999.000,9,-999.0000,9,-999.0000,9,-999.0000,9,-999.0000,9, 27.161, 31.743, 36.223, 40.603, 44.883
33RO20110828,   A10,   114,  1,      7,    007,2,20000101,0000,-27.9499, -46.4667, -999,    986.1,   4.2011,  34.3336,2,  34.3366,2,  34.4985,2,    208.8,2,    207.8,2,    30.46,2,    30.95,2,     0.00,2,     2.25,2, -999.000,9, -999.000,9, -999.000,9,   -999.0,9,   -999.0,9,   -999.0,9,  -999.00,   7.5942,2,    25.62, -999.000,9,   -999.0,9,   -999.0,9, -999.000,9,-999.0000,9,-999.0000,9,-999.0000,9,-999.0000,9, 27.245, 31.844, 36.340, 40.735, 45.030
33RO20110828,   A10,   114,  1,      6,    006,2,20000101,0000,-27.9499, -46.4667, -999,   1074.4,   3.8146,  34.3594,2,  34.3656,2,  34.5277,2,    202.9,2,    202.8,2,    36.32,2,    31.83,2,     0.00,2,     2.32,2,    1.524,2,    0.736,2,    2.982,3,   2207.8,2,   2302.7,2,   -999.0,9,  -999.00,   7.5837,2,    25.61,    0.219,2,   -999.0,9,   -999.0,9, -999.000,9,-999.0000,9,-999.0000,9,-999.0000,9,-999.0000,9, 27.308, 31.917, 36.423, 40.827, 45.132
33RO20110828,   A10,   114,  1,      5,    005,2,20000101,0000,-27.9499, -46.4667, -999,   1199.1,   3.3810,  34.4157,2,  34.4178,2,  34.5801,2,    195.1,2,    194.3,2,    44.91,2,    32.22,2,     0.00,2,     2.38,2, -999.000,9, -999.000,9, -999.000,9,   -999.0,9,   -999.0,9,   -999.0,9,  -999.00,   7.5769,2,    25.62, -999.000,9,   -999.0,9,   -999.0,9, -999.000,9,-999.0000,9,-999.0000,9,-999.0000,9,-999.0000,9, 27.393, 32.013, 36.530, 40.944, 45.259
33RO20110828,   A10,   114,  1,      4,    004,2,20000101,0000,-27.9499, -46.4667, -999,   1300.7,   3.3140,  34.4924,2,  34.4999,2,  34.6626,2,    190.3,2,    189.1,2,    47.74,2,    32.02,2,     0.00,2,     2.35,2, -999.000,9, -999.000,9, -999.000,9,   2223.2,2,   2316.1,2,   -999.0,9,  -999.00,   7.5682,2,    25.52, -999.000,9,   -999.0,9,   -999.0,9, -999.000,9,-999.0000,9,-999.0000,9,-999.0000,9,-999.0000,9, 27.466, 32.087, 36.605, 41.021, 45.337
33RO20110828,   A10,   114,  1,      3,    003,2,20000101,0000,-27.9499, -46.4667, -999,   1449.6,   3.3041,  34.5971,2,  34.5980,2,  34.7611,2,    189.8,2,    189.5,2,    48.13,2,    30.94,2,     0.00,2,     2.26,2,    0.278,2,    0.135,2,    1.005,3,   2222.3,2,   2322.2,2,   -999.0,9,  -999.00,   7.5870,2,    25.62,    0.000,2,   -999.0,9,   -999.0,9, -999.000,9,-999.0000,9,-999.0000,9,-999.0000,9,-999.0000,9, 27.546, 32.167, 36.685, 41.101, 45.417
33RO20110828,   A10,   114,  1,      2,    002,2,20000101,0000,-27.9499, -46.4667, -999,   1602.5,   3.4899,  34.7100,2,  34.7113,2,  34.8749,2,    196.6,2,    196.7,2,    42.07,2,    28.60,2,     0.00,2,     2.08,2,    0.151,2,    0.077,2,    0.656,3,   2213.6,2,   2320.9,2,   -999.0,9,  -999.00,   7.6024,2,    25.56,    0.042,2,   -999.0,9,   -999.0,9, -999.000,9,-999.0000,9,-999.0000,9,-999.0000,9,-999.0000,9, 27.620, 32.236, 36.748, 41.159, 45.470
33RO20110828,   A10,   114,  1,      1,    001,2,20000101,0000,-27.9499, -46.4667, -999,   1761.7,   3.6391,  34.8178,2,  34.8183,2,  34.9825,2,    211.7,2,    210.7,2,    35.62,2,    25.77,2,     0.01,2,     1.86,2,    0.138,2,    0.068,2,    0.620,3,   2203.1,6,   2320.1,2,   -999.0,9,  -999.00,   7.6504,2,    25.60,    0.000,2,   -999.0,9,   -999.0,9, -999.000,9,-999.0000,9,-999.0000,9,-999.0000,9,-999.0000,9, 27.692, 32.304, 36.812, 41.218, 45.525