BOTTLE,20130715NOAA
EXPOCODE,SECT_ID,STNNBR,CASTNO,SAMPNO,BTLNBR,BTLNBR_FLAG_W,DATE,TIME,LATITUDE,LONGITUDE,DEPTH,CTDPRS,CTDTMP,CTDSAL,CTDSAL_FLAG_W,SALNTY,SALNTY_FLAG_W,SALTREF,SALTREF_FLAG_W,CTDOXY,CTDOXY_FLAG_W,OXYGEN,OXYGEN_FLAG_W,SILCAT,SILCAT_FLAG_W,NITRAT,NITRAT_FLAG_W,NITRIT,NITRIT_FLAG_W,PHSPHT,PHSPHT_FLAG_W,CFC-11,CFC-11_FLAG_W,CFC-12,CFC-12_FLAG_W,CCL4,CCL4_FLAG_W,TCARBN,TCARBN_FLAG_W,ALKALI,ALKALI_FLAG_W,PCO2,PCO2_FLAG_W,PCO2TMP,PH_TOT,PH_TOT_FLAG_W,PH_TMP,SF6,SF6_FLAG_W,DOC,DOC_FLAG_W,TDN,TDN_FLAG_W,TRITUM,TRITUM_FLAG_W,HELIUM,HELIUM_FLAG_W,OXY_18,OXY_18_FLAG_W,BLACKC,BLACKC_FLAG_W,PIGMENTS,PIGMENTS_FLAG_W,SIGMA-THETA,SIGMA-1,SIGMA-2,SIGMA-3,SIGMA-4
,,,,,,,,,,,METERS,DBARS,ITS-90,PSS-78,,PSS-78,,G/KG,,UMOL/KG,,UMOL/KG,,UMOL/KG,,UMOL/KG,,UMOL/KG,,UMOL/KG,,PMOL/KG,,PMOL/KG,,PMOL/KG,,UMOL/KG,,UMOL/KG,,UATM@T,,DEG_C,,,DEG_C,FMOL/KG,,UMOL/KG,,UMOL/KG,,TU,,NMOL/KG,,,,,,,,,,,,
33RO20110828,   A10,     3,  1,     22,    022,2,20000101,0000,-28.8170,  14.1836, -999,      4.2,  15.1367,  35.1845,2,-999.0000,9,-999.0000,9,   -999.0,9,   -999.0,9,     4.88,2,     4.49,2,     0.17,2,     0.69,2, -999.000,9, -999.000,9, -999.000,9,   -999.0,9,   -999.0,9,   -999.0,9,  -999.00,-999.0000,9,  -999.00, -999.000,9,   -999.0,9,   -999.0,9, -999.000,9,-999.0000,9,-999.0000,9,-999.0000,9,-999.0000,1, 26.084, 30.436, 34.692, 38.855, 42.927
33RO20110828,   A10,     3,  1,     21,    021,2,20000101,0000,-28.8170,  14.1836, -999,      4.9,  15.1058,  35.1817,2,  35.1867,2,  35.3526,2,    255.9,2,    255.3,2,     4.88,2,     4.49,2,     0.17,2,     0.68,2,    2.722,2,    1.635,2,    3.184,2,   2081.2,2,   2322.2,2,   -999.0,9,  -999.00,   7.9042,2,    25.30,    1.584,2,   -999.0,1,   -999.0,1, -999.000,9,-999.0000,9,-999.0000,9,-999.0000,9,-999.0000,9, 26.093, 30.446, 34.702, 38.865, 42.938
33RO20110828,   A10,     3,  1,     20,    020,2,20000101,0000,-28.8170,  14.1836, -999,     28.0,  15.0374,  35.1856,2,-999.0000,9,-999.0000,9,   -999.0,9,   -999.0,9,     4.88,2,     4.49,2,     0.18,2,     0.68,2, -999.000,9, -999.000,9, -999.000,9,   -999.0,9,   -999.0,9,   -999.0,9,  -999.00,-999.0000,9,  -999.00, -999.000,9,   -999.0,9,   -999.0,9, -999.000,9,-999.0000,9,-999.0000,9,-999.0000,9,-999.0000,1, 26.108, 30.462, 34.720, 38.884, 42.958
33RO20110828,   A10,     3,  1,     19,    019,2,20000101,0000,-28.8170,  14.1836, -999,     28.9,  15.0393,  35.1856,2,  35.1881,2,  35.3540,2,    254.9,2,    254.9,2,     4.88,2,     4.59,2,     0.18,2,     0.67,2,    2.743,2,    1.627,2,    3.170,2,   2086.8,2,   2320.9,2,   -999.0,9,  -999.00,   7.9084,2,    25.38,    1.597,2,   -999.0,1,   -999.0,1, -999.000,9,-999.0000,9,-999.0000,9,-999.0000,9,-999.0000,9, 26.109, 30.463, 34.721, 38.885, 42.959
33RO20110828,   A10,     3,  1,     18,    018,2,20000101,0000,-28.8170,  14.1836, -999,     68.5,  14.6008,  35.2337,2,-999.0000,9,-999.0000,9,   -999.0,9,   -999.0,9,     3.61,2,     6.15,2,     0.45,2,     0.79,2, -999.000,9, -999.000,9, -999.000,9,   -999.0,9,   -999.0,9,   -999.0,9,  -999.00,-999.0000,9,  -999.00, -999.000,9,   -999.0,9,   -999.0,9, -999.000,9,-999.0000,9,-999.0000,9,-999.0000,9,-999.0000,1, 26.242, 30.603, 34.869, 39.041, 43.121
33RO20110828,   A10,     3,  1,     17,    017,2,20000101,0000,-28.8170,  14.1836, -999,     69.0,  14.5998,  35.2334,2,  35.2377,2,  35.4039,2,    233.2,2,    235.1,2,     3.61,2,     6.24,2,     0.44,2,     0.79,2,    2.735,2,    1.616,2,    2.571,2,   2104.5,2,   2320.9,2,   -999.0,9,  -999.00,   7.8667,2,    25.35,    1.583,2,   -999.0,1,   -999.0,1, -999.000,9,-999.0000,9,-999.0000,9,-999.0000,9,-999.0000,9, 26.245, 30.607, 34.872, 39.044, 43.124
33RO20110828,   A10,     3,  1,     16,    016,2,20000101,0000,-28.8170,  14.1836, -999,     98.6,  13.3076,  35.1097,2,  35.1207,2,  35.2863,2,    220.3,2,    218.4,2,     4.98,2,    10.25,2,     0.03,2,     1.01,2,    2.882,2,    1.685,2,    2.036,2,   2121.0,2,   2312.9,2,   -999.0,9,  -999.00,   7.8241,2,    25.37,    1.428,2,   -999.0,1,   -999.0,1, -999.000,9,-999.0000,9,-999.0000,9,-999.0000,9,-999.0000,9, 26.427, 30.814, 35.104, 39.299, 43.403
33RO20110828,   A10,     3,  1,     15,    015,2,20000101,0000,-28.8170,  14.1836, -999,    118.5,  12.4965,  35.0373,2,  35.0384,2,  35.2036,2,    213.0,2,    209.3,2,     5.56,2,    12.30,2,     0.03,2,     1.17,2,    2.956,2,    1.719,2,    1.573,2,   2131.6,2,   2308.0,2,   -999.0,9,  -999.00,   7.7864,2,    25.32,    1.338,2,   -999.0,1,   -999.0,1, -999.000,9,-999.0000,9,-999.0000,9,-999.0000,9,-999.0000,9, 26.526, 30.929, 35.235, 39.446, 43.564
33RO20110828,   A10,     3,  1,     14,    014,2,20000101,0000,-28.8170,  14.1836, -999,    148.4,  11.7506,  35.0058,2,  35.0075,2,  35.1726,2,    206.7,2,    211.3,2,     5.17,2,    13.08,2,     0.02,2,     1.18,2,    3.075,2,    1.741,2,    1.142,2,   2133.5,2,   -999.0,5,   -999.0,9,  -999.00,   7.7823,2,    25.32,    1.286,2,   -999.0,1,   -999.0,1, -999.000,9,-999.0000,9,-999.0000,9,-999.0000,9,-999.0000,9, 26.646, 31.065, 35.385, 39.610, 43.742
33RO20110828,   A10,     3,  1,     13,    013,2,20000101,0000,-28.8170,  14.1836, -999,    180.2,  11.4629,  34.9727,2,  34.9746,2,  35.1395,2,    214.0,2,    212.0,2,     5.46,2,    13.95,2,     0.01,2,     1.22,2,    3.050,2,    1.752,2,    1.096,2,   2133.9,2,   2322.1,2,   -999.0,9,  -999.00,   7.7774,2,    25.36,    1.270,2,   -999.0,1,   -999.0,1, -999.000,9,-999.0000,9,-999.0000,9,-999.0000,9,-999.0000,9, 26.675, 31.100, 35.426, 39.657, 43.795
33RO20110828,   A10,     3,  1,     12,    012,2,20000101,0000,-28.8170,  14.1836, -999,    208.5,  10.7180,  34.8773,2,  34.8773,2,  35.0417,2,    201.7,2,    201.4,2,     7.22,2,    16.49,2,     0.00,2,     1.39,2,    3.093,2,    1.745,2,    1.287,2,   2145.8,2,   2299.1,2,   -999.0,9,  -999.00,   7.6896,2,    25.17,    1.171,2,   -999.0,1,   -999.0,1, -999.000,9,-999.0000,9,-999.0000,9,-999.0000,9,-999.0000,9, 26.735, 31.176, 35.519, 39.765, 43.917
33RO20110828,   A10,     3,  1,     11,    011,2,20000101,0000,-28.8170,  14.1836, -999,    246.8,   9.9704,  34.7858,2,  34.7865,2,  34.9505,2,    208.9,2,    208.9,2,     7.61,2,    17.67,2,     0.01,2,     1.45,2,    3.176,2,    1.761,2,    1.426,2,   2144.5,3,   2295.4,2,   -999.0,9,  -999.00,   7.7222,2,    25.20,    1.151,2,   -999.0,1,   -999.0,1, -999.000,9,-999.0000,9,-999.0000,9,-999.0000,9,-999.0000,9, 26.795, 31.253, 35.611, 39.873, 44.040
33RO20110828,   A10,     3,  1,     10,    010,2,20000101,0000,-28.8170,  14.1836, -999,    298.8,   9.5821,  34.7736,2,  34.7760,2,  34.9400,2,    131.4,2,    131.7,2,    14.84,2,    25.86,2,     0.01,2,     2.04,2,    2.603,2,    1.411,2,    1.120,2,   2200.4,3,   2296.0,2,   -999.0,9,  -999.00,   6.9647,4,    25.14,    0.849,2,   -999.0,1,   -999.0,1, -999.000,9,-999.0000,9,-999.0000,9,-999.0000,9,-999.0000,9, 26.853, 31.319, 35.686, 39.956, 44.131
33RO20110828,   A10,     3,  1,      9,    009,2,20000101,0000,-28.8170,  14.1836, -999,    338.9,   8.9614,  34.7068,2,  34.7101,2,  34.8738,2,    139.0,2,    134.5,2,    16.01,2,    27.13,2,     0.01,2,     2.16,2,    2.543,2,    1.367,2,    1.192,2,   2202.6,2,   2294.4,2,   -999.0,9,  -999.00,   7.5820,2,    25.31,    0.727,2,   -999.0,1,   -999.0,1, -999.000,9,-999.0000,9,-999.0000,9,-999.0000,9,-999.0000,9, 26.903, 31.384, 35.764, 40.047, 44.235
33RO20110828,   A10,     3,  1,      8,    008,2,20000101,0000,-28.8170,  14.1836, -999,    389.0,   8.3738,  34.6585,2,  34.6625,2,  34.8260,2,    123.6,2,    123.2,2,    17.76,2,    29.67,2,     0.00,2,     2.27,2,    2.257,2,    1.194,2,    1.151,2,   2211.9,2,   2293.1,2,   -999.0,9,  -999.00,   7.5436,2,    25.34,    0.600,2,   -999.0,1,   -999.0,1, -999.000,9,-999.0000,9,-999.0000,9,-999.0000,9,-999.0000,9, 26.958, 31.452, 35.846, 40.142, 44.343
33RO20110828,   A10,     3,  1,      7,    007,2,20000101,0000,-28.8170,  14.1836, -999,    436.8,   7.7956,  34.6026,2,  34.6049,2,  34.7680,2,    124.6,2,    129.8,2,    18.74,2,    30.85,2,     0.00,2,     2.32,2,    2.167,2,    1.152,2,    1.180,2,   2212.9,2,   2290.5,2,   -999.0,9,  -999.00,   7.5415,2,    25.31,    0.560,2,   -999.0,1,   -999.0,1, -999.000,9,-999.0000,9,-999.0000,9,-999.0000,9,-999.0000,9, 27.000, 31.508, 35.915, 40.224, 44.437
33RO20110828,   A10,     3,  1,      6,    006,2,20000101,0000,-28.8170,  14.1836, -999,    523.2,   6.6008,  34.4967,2,  34.4969,2,  34.6596,2,    147.7,2,    147.2,2,    20.89,2,    32.21,2,     0.00,2,     2.38,2,    2.047,2,    1.048,2,    1.487,2,   2210.3,3,   2288.3,2,   -999.0,9,  -999.00,   7.5442,2,    25.33,    0.507,2,   -999.0,1,   -999.0,1, -999.000,9,-999.0000,9,-999.0000,9,-999.0000,9,-999.0000,9, 27.083, 31.620, 36.056, 40.392, 44.631
33RO20110828,   A10,     3,  1,      5,    005,2,20000101,0000,-28.8170,  14.1836, -999,    626.3,   6.1438,  34.4908,2,  34.4936,2,  34.6562,2,    133.2,2,    132.9,2,    24.21,2,    34.36,2,     0.00,2,     2.53,2,    1.424,2,    0.722,2,    1.102,2,   2223.0,2,   2292.7,2,   -999.0,9,  -999.00,   7.5153,2,    25.32,    0.303,2,   -999.0,1,   -999.0,1, -999.000,9,-999.0000,9,-999.0000,9,-999.0000,9,-999.0000,9, 27.141, 31.689, 36.136, 40.483, 44.732
33RO20110828,   A10,     3,  1,      4,    004,2,20000101,0000,-28.8170,  14.1836, -999,    724.8,   4.5587,  34.3273,2,  34.3297,6,  34.4915,6,    206.8,2,    209.3,2,    28.31,2,    30.56,2,     0.01,2,     2.36,2,    2.502,2,    1.254,2,    2.401,2,   2192.9,2,   2294.1,2,   -999.0,9,  -999.00,   7.6054,2,    25.35,    0.610,2,   -999.0,1,   -999.0,1, -999.000,9,-999.0000,9,-999.0000,9,-999.0000,9,-999.0000,9, 27.199, 31.788, 36.275, 40.660, 44.947
33RO20110828,   A10,     3,  1,      3,    003,2,20000101,0000,-28.8170,  14.1836, -999,    823.7,   3.9196,  34.3758,2,  34.3851,2,  34.5473,2,    192.7,2,    193.8,2,    39.73,2,    32.80,2,     0.01,2,     2.45,2,    1.626,2,    0.792,2,    1.750,2,   2213.2,2,   2305.1,2,   -999.0,9,  -999.00,   7.5795,2,    25.39,    0.346,2,   -999.0,1,   -999.0,1, -999.000,9,-999.0000,9,-999.0000,9,-999.0000,9,-999.0000,9, 27.311, 31.917, 36.419, 40.820, 45.122
33RO20110828,   A10,     3,  1,      2,    002,2,20000101,0000,-28.8170,  14.1836, -999,    925.4,   3.7127,  34.4761,2,  34.4775,2,  34.6400,2,    171.0,2,    172.6,2,    45.20,2,    33.78,2,     0.01,2,     2.53,2,    0.593,2,    0.280,2,    0.803,2,   2225.9,6,   -999.0,5,   -999.0,9,  -999.00,   7.5557,2,    25.38,    0.105,2,   -999.0,1,   -999.0,1, -999.000,9,-999.0000,9,-999.0000,9,-999.0000,9,-999.0000,9, 27.406, 32.017, 36.524, 40.929, 45.235
33RO20110828,   A10,     3,  1,      1,    001,2,20000101,0000,-28.8170,  14.1836, -999,    971.0,   3.5571,  34.5128,2,  34.5150,2,  34.6777,2,    172.0,2,    173.6,2,    47.93,2,    33.68,2,     0.01,2,     2.51,2,    0.449,2,    0.214,2,    0.619,2,   2227.3,2,   2314.0,2,   -999.0,9,  -999.00,   7.5591,3,    25.38,    0.077,2,   -999.0,1,   -999.0,1, -999.000,9,-999.0000,9,-999.0000,9,-999.0000,9,-999.0000,9, 27.452, 32.066, 36.577, 40.986, 45.296