BOTTLE,20130715NOAA
EXPOCODE,SECT_ID,STNNBR,CASTNO,SAMPNO,BTLNBR,BTLNBR_FLAG_W,DATE,TIME,LATITUDE,LONGITUDE,DEPTH,CTDPRS,CTDTMP,CTDSAL,CTDSAL_FLAG_W,SALNTY,SALNTY_FLAG_W,SALTREF,SALTREF_FLAG_W,CTDOXY,CTDOXY_FLAG_W,OXYGEN,OXYGEN_FLAG_W,SILCAT,SILCAT_FLAG_W,NITRAT,NITRAT_FLAG_W,NITRIT,NITRIT_FLAG_W,PHSPHT,PHSPHT_FLAG_W,CFC-11,CFC-11_FLAG_W,CFC-12,CFC-12_FLAG_W,CCL4,CCL4_FLAG_W,TCARBN,TCARBN_FLAG_W,ALKALI,ALKALI_FLAG_W,PCO2,PCO2_FLAG_W,PCO2TMP,PH_TOT,PH_TOT_FLAG_W,PH_TMP,SF6,SF6_FLAG_W,DOC,DOC_FLAG_W,TDN,TDN_FLAG_W,TRITUM,TRITUM_FLAG_W,HELIUM,HELIUM_FLAG_W,OXY_18,OXY_18_FLAG_W,BLACKC,BLACKC_FLAG_W,PIGMENTS,PIGMENTS_FLAG_W,SIGMA-THETA,SIGMA-1,SIGMA-2,SIGMA-3,SIGMA-4
,,,,,,,,,,,METERS,DBARS,ITS-90,PSS-78,,PSS-78,,G/KG,,UMOL/KG,,UMOL/KG,,UMOL/KG,,UMOL/KG,,UMOL/KG,,UMOL/KG,,PMOL/KG,,PMOL/KG,,PMOL/KG,,UMOL/KG,,UMOL/KG,,UATM@T,,DEG_C,,,DEG_C,FMOL/KG,,UMOL/KG,,UMOL/KG,,TU,,NMOL/KG,,,,,,,,,,,,
33RO20110828,   A10,   116,  1,     18,    018,2,20000101,0000,-27.8668, -46.8344, -999,      4.2,  22.9135,  36.7619,2,-999.0000,9,-999.0000,9,   -999.0,9,   -999.0,9,  -999.00,9,  -999.00,9,  -999.00,9,  -999.00,9, -999.000,9, -999.000,9, -999.000,9,   -999.0,9,   -999.0,9,   -999.0,9,  -999.00,-999.0000,9,  -999.00, -999.000,9,   -999.0,9,   -999.0,9, -999.000,9,-999.0000,9,-999.0000,9,-999.0000,9,-999.0000,1, 25.296, 29.514, 33.640, 37.677, 41.628
33RO20110828,   A10,   116,  1,     17,    017,2,20000101,0000,-27.8668, -46.8344, -999,      4.9,  22.9173,  36.7614,2,  36.7628,2,  36.9361,2,    215.7,2,    215.7,2,     0.58,2,     0.00,2,     0.00,2,     0.08,2,    1.871,2,    1.161,2,    4.506,3,   2088.2,6,   2408.7,2,   -999.0,9,  -999.00,   7.9824,2,    25.64,    1.199,2,   -999.0,9,   -999.0,9, -999.000,9,-999.0000,9,-999.0000,9,-999.0000,9,-999.0000,9, 25.296, 29.514, 33.640, 37.677, 41.627
33RO20110828,   A10,   116,  1,     16,    016,2,20000101,0000,-27.8668, -46.8344, -999,     14.9,  22.8190,  36.8501,2,  36.8376,2,  37.0113,2,    215.8,2,    216.0,2,     0.58,2,     0.00,2,     0.00,2,     0.07,2, -999.000,9, -999.000,9, -999.000,9,   2086.8,2,   2412.8,2,   -999.0,9,  -999.00,   7.9701,2,    25.65, -999.000,9,   -999.0,9,   -999.0,9, -999.000,9,-999.0000,9,-999.0000,9,-999.0000,9,-999.0000,9, 25.381, 29.601, 33.728, 37.765, 41.717
33RO20110828,   A10,   116,  1,     15,    015,2,20000101,0000,-27.8668, -46.8344, -999,     43.1,  22.5917,  36.9298,2,  36.9277,2,  37.1018,2,    216.0,2,    215.7,2,     0.58,2,     0.00,2,     0.00,2,     0.05,2, -999.000,9, -999.000,9, -999.000,9,   2088.1,2,   2416.9,2,   -999.0,9,  -999.00,   7.9708,2,    25.67, -999.000,9,   -999.0,9,   -999.0,9, -999.000,9,-999.0000,9,-999.0000,9,-999.0000,9,-999.0000,9, 25.517, 29.739, 33.869, 37.909, 41.863
33RO20110828,   A10,   116,  1,     14,    014,2,20000101,0000,-27.8668, -46.8344, -999,     79.3,  22.5729,  36.9498,2,  36.9506,2,  37.1248,2,    215.7,2,    215.5,2,     0.68,2,     0.00,2,     0.00,2,     0.05,2,    1.863,2,    1.171,2,    4.856,3,   2088.8,2,   2420.5,2,   -999.0,9,  -999.00,   7.9765,2,    25.73,    1.200,2,   -999.0,9,   -999.0,9, -999.000,9,-999.0000,9,-999.0000,9,-999.0000,9,-999.0000,9, 25.542, 29.764, 33.894, 37.935, 41.889
33RO20110828,   A10,   116,  1,     12,    012,2,20000101,0000,-27.8668, -46.8344, -999,    116.0,  21.7875,  36.7853,2,  36.7899,2,  36.9633,2,    216.7,2,    217.2,2,     0.78,2,     0.00,2,     0.02,2,     0.07,2, -999.000,9, -999.000,9, -999.000,9,   2088.4,2,   2410.6,2,   -999.0,9,  -999.00,   7.9677,2,    25.68, -999.000,9,   -999.0,9,   -999.0,9, -999.000,9,-999.0000,9,-999.0000,9,-999.0000,9,-999.0000,9, 25.645, 29.879, 34.021, 38.073, 42.038
33RO20110828,   A10,   116,  1,     13,    013,2,20000101,0000,-27.8668, -46.8344, -999,    117.4,  21.7772,  36.7825,2,  36.7889,2,  36.9623,2,   -999.0,9,   -999.0,9,  -999.00,9,  -999.00,9,  -999.00,9,  -999.00,9, -999.000,9, -999.000,9, -999.000,9,   -999.0,9,   -999.0,9,   -999.0,9,  -999.00,-999.0000,9,  -999.00, -999.000,9,   -999.0,9,   -999.0,9, -999.000,9,-999.0000,9,-999.0000,9,-999.0000,9,-999.0000,1, 25.647, 29.882, 34.024, 38.076, 42.041
33RO20110828,   A10,   116,  1,     11,    011,2,20000101,0000,-27.8668, -46.8344, -999,    182.4,  19.4541,  36.3708,2,  36.3741,2,  36.5456,2,    219.8,2,    219.8,2,     0.88,2,     0.68,2,     0.19,2,     0.13,2,    2.142,2,    1.313,2,    3.996,3,   2086.9,2,   2384.4,2,   -999.0,9,  -999.00,   7.9327,2,    25.69,    1.310,2,   -999.0,9,   -999.0,9, -999.000,9,-999.0000,9,-999.0000,9,-999.0000,9,-999.0000,9, 25.963, 30.235, 34.414, 38.501, 42.501
33RO20110828,   A10,   116,  1,     10,    010,2,20000101,0000,-27.8668, -46.8344, -999,    238.8,  17.7000,  36.0211,2,  36.0313,2,  36.2012,2,    213.7,2,    213.9,2,     1.46,2,     2.44,2,     0.01,2,     0.28,2, -999.000,9, -999.000,9, -999.000,9,   2096.1,2,   2364.3,2,   -999.0,9,  -999.00,   7.9103,2,    25.64, -999.000,9,   -999.0,9,   -999.0,9, -999.000,9,-999.0000,9,-999.0000,9,-999.0000,9,-999.0000,9, 26.146, 30.449, 34.657, 38.774, 42.801
33RO20110828,   A10,   116,  1,      9,    009,2,20000101,0000,-27.8668, -46.8344, -999,    288.1,  15.2713,  35.5315,2,  35.5324,2,  35.7000,2,    204.2,2,    204.3,2,     2.24,2,     6.15,2,     0.01,2,     0.56,2,    2.657,2,    1.562,2,    1.268,3,   2112.6,2,   2335.4,2,   -999.0,9,  -999.00,   7.8624,3,    25.62,    1.240,2,   -999.0,9,   -999.0,9, -999.000,9,-999.0000,9,-999.0000,9,-999.0000,9,-999.0000,9, 26.332, 30.681, 34.933, 39.092, 43.160
33RO20110828,   A10,   116,  1,      8,    008,2,20000101,0000,-27.8668, -46.8344, -999,    340.1,  14.2805,  35.3931,2,  35.3978,2,  35.5647,2,    204.4,2,    204.7,2,     2.83,2,     8.20,2,     0.01,2,     0.69,2, -999.000,9, -999.000,9, -999.000,9,   2121.2,2,   2327.7,2,   -999.0,9,  -999.00,   7.8334,3,    25.61, -999.000,9,   -999.0,9,   -999.0,9, -999.000,9,-999.0000,9,-999.0000,9,-999.0000,9,-999.0000,9, 26.446, 30.813, 35.084, 39.261, 43.347
33RO20110828,   A10,   116,  1,      7,    007,2,20000101,0000,-27.8668, -46.8344, -999,    389.8,  13.4108,  35.2777,2,  35.2815,2,  35.4479,2,    206.6,2,    206.7,2,     3.22,2,     9.76,2,     0.01,2,     0.80,2,    2.893,2,    1.651,2,    1.444,3,   2127.0,2,   2322.1,2,   -999.0,9,  -999.00,   7.8149,2,    25.64,    1.118,2,   -999.0,9,   -999.0,9, -999.000,9,-999.0000,9,-999.0000,9,-999.0000,9,-999.0000,9, 26.539, 30.924, 35.211, 39.404, 43.506
33RO20110828,   A10,   116,  1,      6,    006,2,20000101,0000,-27.8668, -46.8344, -999,    437.3,  12.5678,  35.1590,2,  35.1619,2,  35.3277,2,    205.2,2,    206.0,2,     4.10,2,    11.81,2,     0.00,2,     0.93,2, -999.000,9, -999.000,9, -999.000,9,   2131.3,2,   2317.0,2,   -999.0,9,  -999.00,   7.7928,2,    25.67, -999.000,9,   -999.0,9,   -999.0,9, -999.000,9,-999.0000,9,-999.0000,9,-999.0000,9,-999.0000,9, 26.616, 31.018, 35.323, 39.532, 43.649
33RO20110828,   A10,   116,  1,      5,    005,2,20000101,0000,-27.8668, -46.8344, -999,    490.4,  10.9759,  34.9375,2,  34.9397,2,  35.1045,2,    203.0,2,    202.9,2,     6.05,2,    15.81,2,     0.01,2,     1.20,2,    3.053,2,    1.655,2,    2.152,3,   -999.0,9,   2308.7,2,   -999.0,9,  -999.00,   7.7483,2,    25.68,    1.003,2,   -999.0,9,   -999.0,9, -999.000,9,-999.0000,9,-999.0000,9,-999.0000,9,-999.0000,9, 26.744, 31.180, 35.517, 39.759, 43.906
33RO20110828,   A10,   116,  1,      4,    004,2,20000101,0000,-27.8668, -46.8344, -999,    538.6,   9.8332,  34.7909,2,  34.7918,2,  34.9559,2,    202.2,2,    201.4,2,     8.00,2,    18.64,2,     0.01,2,     1.39,2, -999.000,9, -999.000,9, -999.000,9,   2149.9,2,   2298.8,2,   -999.0,9,  -999.00,   7.7254,2,    25.64, -999.000,9,   -999.0,9,   -999.0,9, -999.000,9,-999.0000,9,-999.0000,9,-999.0000,9,-999.0000,9, 26.828, 31.290, 35.652, 39.917, 44.087
33RO20110828,   A10,   116,  1,      3,    003,2,20000101,0000,-27.8668, -46.8344, -999,    589.7,   8.1563,  34.5891,2,  34.5911,2,  34.7542,2,    202.6,2,    203.5,2,    10.84,2,    22.55,2,     0.00,2,     1.66,2,    3.093,2,    1.604,2,    3.811,3,   -999.0,9,   2292.2,2,   -999.0,9,  -999.00,   7.6868,2,    25.64,    0.753,2,   -999.0,9,   -999.0,9, -999.000,9,-999.0000,9,-999.0000,9,-999.0000,9,-999.0000,9, 26.938, 31.439, 35.838, 40.140, 44.345
33RO20110828,   A10,   116,  1,      2,    002,2,20000101,0000,-27.8668, -46.8344, -999,    640.8,   7.0012,  34.4676,2,  34.4695,2,  34.6320,2,    210.5,2,    210.6,2,    13.18,2,    24.60,2,     0.00,2,     1.81,2, -999.000,9, -999.000,9, -999.000,9,   -999.0,5,   2288.7,2,   -999.0,9,  -999.00,   7.6646,2,    25.66, -999.000,9,   -999.0,9,   -999.0,9, -999.000,9,-999.0000,9,-999.0000,9,-999.0000,9,-999.0000,9, 27.009, 31.537, 35.964, 40.291, 44.522
33RO20110828,   A10,   116,  1,      1,    001,2,20000101,0000,-27.8668, -46.8344, -999,    781.6,   5.1418,  34.3363,2,  34.3380,2,  34.4999,2,    219.1,2,    219.0,2,    20.80,2,    28.12,2,     0.01,2,     2.05,2,    2.798,2,    1.408,2,    4.299,3,   2180.1,6,   2290.5,2,   -999.0,9,  -999.00,   7.6610,2,    25.68,    0.640,2,   -999.0,9,   -999.0,9, -999.000,9,-999.0000,9,-999.0000,9,-999.0000,9,-999.0000,9, 27.141, 31.716, 36.188, 40.560, 44.833
33RO20110828,   A10,   117,  1,     15,    015,2,20000101,0000,-27.8006, -47.0997,  501,      4.7,  22.3060,  36.3969,2,-999.0000,9,-999.0000,9,   -999.0,9,   -999.0,9,  -999.00,9,  -999.00,9,  -999.00,9,  -999.00,9, -999.000,9, -999.000,9, -999.000,9,   -999.0,9,   -999.0,9,   -999.0,9,  -999.00,-999.0000,9,  -999.00, -999.000,9,   -999.0,9,   -999.0,9, -999.000,9,-999.0000,9,-999.0000,9,-999.0000,9,-999.0000,1, 25.193, 29.422, 33.559, 37.606, 41.566
33RO20110828,   A10,   117,  1,     16,    016,2,20000101,0000,-27.8006, -47.0997,  501,      4.7,  22.3730,  36.3871,2,  36.4003,2,  36.5719,2,    219.6,2,    219.6,2,     0.58,2,     0.00,2,     0.00,2,     0.10,2,    1.940,2,    1.202,2,    3.966,3,   2078.9,2,   2386.4,2,   -999.0,9,  -999.00,   7.9623,2,    25.64,    1.224,2,   -999.0,1,   -999.0,1, -999.000,9,-999.0000,9,-999.0000,9,-999.0000,9,-999.0000,9, 25.177, 29.405, 33.540, 37.586, 41.546
33RO20110828,   A10,   117,  1,     14,    014,2,20000101,0000,-27.8006, -47.0997,  501,     25.6,  22.2032,  36.5650,2,  36.5657,2,  36.7382,2,    219.5,2,    219.3,2,     0.58,2,     0.00,2,     0.00,2,     0.09,2, -999.000,9, -999.000,9, -999.000,9,   2082.7,2,   2395.7,3,   -999.0,9,  -999.00,   7.9720,2,    25.57, -999.000,9,   -999.0,1,   -999.0,1, -999.000,9,-999.0000,9,-999.0000,9,-999.0000,9,-999.0000,9, 25.352, 29.582, 33.719, 37.766, 41.727
33RO20110828,   A10,   117,  1,     13,    013,2,20000101,0000,-27.8006, -47.0997,  501,     51.3,  22.6743,  36.9843,2,-999.0000,5,-999.0000,5,    214.5,2,    214.7,2,     0.58,2,     0.00,2,     0.00,2,     0.05,2, -999.000,9, -999.000,9, -999.000,9,   2089.6,2,   2422.9,2,   -999.0,9,  -999.00,   7.9788,2,    25.62, -999.000,9,   -999.0,1,   -999.0,1, -999.000,9,-999.0000,9,-999.0000,9,-999.0000,9,-999.0000,9, 25.537, 29.757, 33.886, 37.925, 41.877
33RO20110828,   A10,   117,  1,     12,    012,2,20000101,0000,-27.8006, -47.0997,  501,     75.2,  22.3502,  36.9190,2,  36.9258,2,  37.0999,2,    213.9,2,    213.6,2,     0.68,2,     0.00,2,     0.01,2,     0.06,2,    1.874,2,    1.170,2,    3.740,3,   2090.5,2,   2417.7,2,   -999.0,9,  -999.00,   7.9771,2,    25.61,    1.232,2,   -999.0,1,   -999.0,1, -999.000,9,-999.0000,9,-999.0000,9,-999.0000,9,-999.0000,9, 25.587, 29.812, 33.945, 37.989, 41.946
33RO20110828,   A10,   117,  1,     11,    011,2,20000101,0000,-27.8006, -47.0997,  501,     75.9,  22.3013,  36.9080,2,-999.0000,9,-999.0000,9,   -999.0,9,   -999.0,9,  -999.00,9,  -999.00,9,  -999.00,9,  -999.00,9, -999.000,9, -999.000,9, -999.000,9,   -999.0,9,   -999.0,9,   -999.0,9,  -999.00,-999.0000,9,  -999.00, -999.000,9,   -999.0,9,   -999.0,9, -999.000,9,-999.0000,9,-999.0000,9,-999.0000,9,-999.0000,1, 25.587, 29.813, 33.947, 37.992, 41.949
33RO20110828,   A10,   117,  1,     10,    010,2,20000101,0000,-27.8006, -47.0997,  501,    101.8,  21.2617,  36.7032,2,  36.6831,2,  36.8561,2,    209.6,2,    209.7,2,     0.78,2,     0.58,2,     0.17,2,     0.12,2, -999.000,9, -999.000,9, -999.000,9,   2093.5,2,   2403.7,2,   -999.0,9,  -999.00,   7.9664,2,    25.61, -999.000,9,   -999.0,1,   -999.0,1, -999.000,9,-999.0000,9,-999.0000,9,-999.0000,9,-999.0000,9, 25.709, 29.952, 34.102, 38.162, 42.134
33RO20110828,   A10,   117,  1,      9,    009,2,20000101,0000,-27.8006, -47.0997,  501,    149.5,  19.3115,  36.2583,2,  36.2524,2,  36.4233,2,    200.5,2,    200.7,2,     1.07,2,     2.24,2,     0.03,2,     0.25,2,    2.176,2,    1.331,2,    1.426,3,   2101.1,2,   2377.0,2,   -999.0,9,  -999.00,   7.9198,2,    25.66,    1.243,2,   -999.0,1,   -999.0,1, -999.000,9,-999.0000,9,-999.0000,9,-999.0000,9,-999.0000,9, 25.905, 30.180, 34.362, 38.452, 42.454
33RO20110828,   A10,   117,  1,      8,    008,2,20000101,0000,-27.8006, -47.0997,  501,    149.8,  19.2731,  36.2498,2,  36.2120,2,  36.3828,2,   -999.0,9,   -999.0,9,  -999.00,9,  -999.00,9,  -999.00,9,  -999.00,9, -999.000,9, -999.000,9, -999.000,9,   -999.0,9,   -999.0,9,   -999.0,9,  -999.00,-999.0000,9,  -999.00, -999.000,9,   -999.0,9,   -999.0,9, -999.000,9,-999.0000,9,-999.0000,9,-999.0000,9,-999.0000,1, 25.884, 30.160, 34.343, 38.434, 42.437
33RO20110828,   A10,   117,  1,      7,    007,2,20000101,0000,-27.8006, -47.0997,  501,    200.5,  16.9907,  35.8006,2,  35.8043,2,  35.9732,2,    197.4,2,    197.1,2,     1.85,2,     4.58,2,     0.02,2,     0.45,2,    2.446,2,    1.463,2,    0.945,3,   2111.5,2,   2350.5,2,   -999.0,9,  -999.00,   7.8812,2,    25.71,    1.248,2,   -999.0,1,   -999.0,1, -999.000,9,-999.0000,9,-999.0000,9,-999.0000,9,-999.0000,9, 26.142, 30.458, 34.679, 38.808, 42.847
33RO20110828,   A10,   117,  1,      6,    006,2,20000101,0000,-27.8006, -47.0997,  501,    250.3,  15.2650,  35.5270,2,  35.5309,2,  35.6985,2,    201.2,2,    201.5,2,     2.34,2,     6.44,2,     0.01,2,     0.58,2, -999.000,9, -999.000,9, -999.000,9,   2114.4,2,   2335.3,2,   -999.0,9,  -999.00,   7.8459,2,    25.68, -999.000,9,   -999.0,1,   -999.0,1, -999.000,9,-999.0000,9,-999.0000,9,-999.0000,9,-999.0000,9, 26.331, 30.680, 34.932, 39.091, 43.159
33RO20110828,   A10,   117,  1,      5,    005,2,20000101,0000,-27.8006, -47.0997,  501,    299.6,  14.3258,  35.3991,2,  35.4061,2,  35.5730,2,    202.7,2,    202.9,2,     2.83,2,     8.19,2,     0.02,2,     0.69,2,    2.767,2,    1.602,2,    1.140,3,   2119.5,2,   2328.6,2,   -999.0,9,  -999.00,   7.8343,2,    25.69,    1.198,2,   -999.0,1,   -999.0,1, -999.000,9,-999.0000,9,-999.0000,9,-999.0000,9,-999.0000,9, 26.441, 30.808, 35.077, 39.253, 43.338
33RO20110828,   A10,   117,  1,      4,    004,2,20000101,0000,-27.8006, -47.0997,  501,    350.3,  13.1076,  35.2438,2,  35.2421,2,  35.4083,2,    202.2,2,    202.3,2,     3.81,2,    10.93,2,     0.02,2,     0.87,2, -999.000,9, -999.000,9, -999.000,9,   2129.5,2,   2321.0,2,   -999.0,9,  -999.00,   7.8023,2,    25.57, -999.000,9,   -999.0,1,   -999.0,1, -999.000,9,-999.0000,9,-999.0000,9,-999.0000,9,-999.0000,9, 26.569, 30.959, 35.253, 39.452, 43.559
33RO20110828,   A10,   117,  1,      3,    003,2,20000101,0000,-27.8006, -47.0997,  501,    400.1,  12.0274,  35.0825,2,  35.0758,2,  35.2412,2,    204.5,2,    204.3,2,     4.78,2,    13.27,2,     0.01,2,     1.02,2,    2.994,2,    1.658,2,    1.321,3,   2134.5,2,   2311.1,2,   -999.0,9,  -999.00,   7.7740,2,    25.60,    1.041,2,   -999.0,1,   -999.0,1, -999.000,9,-999.0000,9,-999.0000,9,-999.0000,9,-999.0000,9, 26.653, 31.066, 35.382, 39.602, 43.729
33RO20110828,   A10,   117,  1,      2,    002,2,20000101,0000,-27.8006, -47.0997,  501,    449.9,   9.7735,  34.7796,2,  34.7818,2,  34.9458,2,    201.0,2,    201.2,2,     7.52,2,    18.54,2,     0.01,2,     1.38,2, -999.000,9, -999.000,9, -999.000,9,   2152.0,2,   2298.1,2,   -999.0,9,  -999.00,   7.7135,2,    25.61, -999.000,9,   -999.0,1,   -999.0,1, -999.000,9,-999.0000,9,-999.0000,9,-999.0000,9,-999.0000,9, 26.829, 31.291, 35.654, 39.920, 44.092
33RO20110828,   A10,   117,  1,      1,    001,2,20000101,0000,-27.8006, -47.0997,  501,    488.9,   9.0379,  34.6980,2,  34.6991,2,  34.8628,2,    201.6,2,    201.5,2,     8.98,2,    20.21,2,     0.01,2,     1.50,2,    3.071,2,    1.620,2,    2.282,3,   2154.9,6,   2295.7,2,   -999.0,9,  -999.00,   7.7055,2,    25.69,    0.855,2,   -999.0,1,   -999.0,1, -999.000,9,-999.0000,9,-999.0000,9,-999.0000,9,-999.0000,9, 26.885, 31.364, 35.744, 40.026, 44.213