BOTTLE,20130715NOAA
EXPOCODE,SECT_ID,STNNBR,CASTNO,SAMPNO,BTLNBR,BTLNBR_FLAG_W,DATE,TIME,LATITUDE,LONGITUDE,DEPTH,CTDPRS,CTDTMP,CTDSAL,CTDSAL_FLAG_W,SALNTY,SALNTY_FLAG_W,SALTREF,SALTREF_FLAG_W,CTDOXY,CTDOXY_FLAG_W,OXYGEN,OXYGEN_FLAG_W,SILCAT,SILCAT_FLAG_W,NITRAT,NITRAT_FLAG_W,NITRIT,NITRIT_FLAG_W,PHSPHT,PHSPHT_FLAG_W,CFC-11,CFC-11_FLAG_W,CFC-12,CFC-12_FLAG_W,CCL4,CCL4_FLAG_W,TCARBN,TCARBN_FLAG_W,ALKALI,ALKALI_FLAG_W,PCO2,PCO2_FLAG_W,PCO2TMP,PH_TOT,PH_TOT_FLAG_W,PH_TMP,SF6,SF6_FLAG_W,DOC,DOC_FLAG_W,TDN,TDN_FLAG_W,TRITUM,TRITUM_FLAG_W,HELIUM,HELIUM_FLAG_W,OXY_18,OXY_18_FLAG_W,BLACKC,BLACKC_FLAG_W,PIGMENTS,PIGMENTS_FLAG_W,SIGMA-THETA,SIGMA-1,SIGMA-2,SIGMA-3,SIGMA-4
,,,,,,,,,,,METERS,DBARS,ITS-90,PSS-78,,PSS-78,,G/KG,,UMOL/KG,,UMOL/KG,,UMOL/KG,,UMOL/KG,,UMOL/KG,,UMOL/KG,,PMOL/KG,,PMOL/KG,,PMOL/KG,,UMOL/KG,,UMOL/KG,,UATM@T,,DEG_C,,,DEG_C,FMOL/KG,,UMOL/KG,,UMOL/KG,,TU,,NMOL/KG,,,,,,,,,,,,
33RO20110828,   A10,    59,  1,     24,    024,2,20000101,0000,-30.0000, -17.4746, 4190,      6.7,  18.3626,  36.1054,2,  36.1050,2,  36.2753,2,    235.1,2,    235.4,2,     1.37,2,     0.00,2,     0.01,2,     0.15,2,    2.267,2,    1.377,2,    3.795,3,   2087.6,6,   2354.6,2,   -999.0,9,  -999.00,   7.9146,2,    25.51,    1.399,2,   -999.0,1,   -999.0,1, -999.000,9,-999.0000,9,-999.0000,9,-999.0000,9,-999.0000,1, 26.028, 30.319, 34.516, 38.621, 42.637
33RO20110828,   A10,    59,  1,     23,    023,2,20000101,0000,-30.0000, -17.4746, 4190,     35.5,  18.3691,  36.1052,2,  36.1065,2,  36.2768,2,    234.8,2,    235.1,2,     1.46,2,     0.00,2,     0.01,2,     0.15,2,    2.257,2,    1.372,2,    3.853,3,   2087.2,2,   2354.9,2,   -999.0,9,  -999.00,   7.9402,2,    25.52,    1.397,2,   -999.0,1,   -999.0,1, -999.000,9,-999.0000,9,-999.0000,9,-999.0000,9,-999.0000,9, 26.029, 30.320, 34.517, 38.622, 42.638
33RO20110828,   A10,    59,  1,     22,    022,2,20000101,0000,-30.0000, -17.4746, 4190,     75.2,  18.3590,  36.1072,2,  36.1079,2,  36.2782,2,    233.4,2,    233.5,2,     1.46,2,     0.00,2,     0.01,2,     0.16,2,    2.267,2,    1.378,2,    4.069,3,   2089.1,2,   2354.3,2,   -999.0,9,  -999.00,   7.9399,2,    25.55,    1.370,2,   -999.0,1,   -999.0,1, -999.000,9,-999.0000,9,-999.0000,9,-999.0000,9,-999.0000,9, 26.035, 30.326, 34.522, 38.628, 42.644
33RO20110828,   A10,    59,  1,     21,    021,2,20000101,0000,-30.0000, -17.4746, 4190,    125.7,  17.8048,  35.9881,2,  35.9952,2,  36.1650,2,    232.5,2,    231.1,2,     1.46,2,     0.39,2,     0.23,2,     0.19,2,    2.307,2,    1.399,2,    2.875,3,   2089.6,2,   2348.1,2,   -999.0,9,  -999.00,   7.9308,2,    25.60,    1.426,2,   -999.0,1,   -999.0,1, -999.000,9,-999.0000,9,-999.0000,9,-999.0000,9,-999.0000,1, 26.088, 30.389, 34.596, 38.710, 42.736
33RO20110828,   A10,    59,  1,     20,    020,2,20000101,0000,-30.0000, -17.4746, 4190,    219.7,  15.3546,  35.5113,2,  35.5089,2,  35.6763,2,    217.9,2,    218.7,2,     2.34,2,     4.29,2,     0.02,2,     0.47,2,    2.638,2,    1.566,2,    1.127,3,   2104.7,2,   2314.0,2,   -999.0,9,  -999.00,   7.8471,2,    25.51,    1.468,2,   -999.0,1,   -999.0,1, -999.000,9,-999.0000,9,-999.0000,9,-999.0000,9,-999.0000,9, 26.293, 30.640, 34.891, 39.048, 43.115
33RO20110828,   A10,    59,  1,     19,    019,2,20000101,0000,-30.0000, -17.4746, 4190,    289.4,  13.8472,  35.3021,2,  35.3064,2,  35.4729,2,    216.4,2,    216.4,2,     3.03,2,     7.32,2,     0.02,2,     0.66,2,    2.841,2,    1.653,2,    1.135,3,   2114.7,2,   2307.3,2,   -999.0,9,  -999.00,   7.8209,2,    25.53,    1.365,2,   -999.0,1,   -999.0,1, -999.000,9,-999.0000,9,-999.0000,9,-999.0000,9,-999.0000,9, 26.465, 30.841, 35.120, 39.305, 43.399
33RO20110828,   A10,    59,  1,     18,    018,2,20000101,0000,-30.0000, -17.4746, 4190,    369.8,  12.3630,  35.1102,2,  35.1074,2,  35.2729,2,    213.0,2,    213.2,2,     4.29,2,    10.83,2,     0.02,2,     0.91,2,    3.044,2,    1.721,2,    1.175,3,   2126.7,2,   2296.7,2,   -999.0,9,  -999.00,   7.7919,2,    25.59,    1.256,2,   -999.0,1,   -999.0,1, -999.000,9,-999.0000,9,-999.0000,9,-999.0000,9,-999.0000,9, 26.612, 31.018, 35.327, 39.540, 43.661
33RO20110828,   A10,    59,  1,     17,    017,2,20000101,0000,-30.0000, -17.4746, 4190,    424.5,  11.3583,  34.9780,2,  34.9746,2,  35.1396,2,    212.4,2,    211.4,2,     5.47,2,    13.37,2,     0.01,2,     1.09,2,    3.119,2,    1.722,2,    1.380,3,   2135.5,2,   2290.8,2,   -999.0,9,  -999.00,   7.7622,2,    25.61,    1.185,2,   -999.0,1,   -999.0,1, -999.000,9,-999.0000,9,-999.0000,9,-999.0000,9,-999.0000,9, 26.700, 31.128, 35.457, 39.691, 43.831
33RO20110828,   A10,    59,  1,     16,    016,2,20000101,0000,-30.0000, -17.4746, 4190,    523.4,   9.7393,  34.7675,2,  34.7656,2,  34.9295,2,    204.4,2,    204.6,2,     8.30,2,    17.67,2,     0.01,2,     1.39,2,    3.151,2,    1.693,2,    1.914,3,   2148.2,2,   2282.9,2,   -999.0,9,  -999.00,   7.7009,2,    25.51,    1.001,2,   -999.0,1,   -999.0,1, -999.000,9,-999.0000,9,-999.0000,9,-999.0000,9,-999.0000,9, 26.823, 31.287, 35.651, 39.918, 44.091
33RO20110828,   A10,    59,  1,     15,    015,2,20000101,0000,-30.0000, -17.4746, 4190,    650.0,   7.4174,  34.5129,2,  34.5149,2,  34.6776,2,    204.0,2,    204.0,2,    13.57,2,    23.14,2,     0.01,2,     1.79,2,    3.110,2,    1.612,2,    2.753,3,   2166.3,2,   2273.8,2,   -999.0,9,  -999.00,   7.6412,2,    25.48,    0.869,2,   -999.0,1,   -999.0,1, -999.000,9,-999.0000,9,-999.0000,9,-999.0000,9,-999.0000,9, 26.987, 31.505, 35.922, 40.240, 44.462
33RO20110828,   A10,    59,  1,     14,    014,2,20000101,0000,-30.0000, -17.4746, 4190,    724.8,   6.1478,  34.3974,2,  34.3981,2,  34.5603,2,    212.7,2,    213.2,2,    16.70,2,    25.49,2,     0.02,2,     1.96,2,    3.100,2,    1.581,2,    3.383,3,   2172.8,2,   2262.8,3,   -999.0,9,  -999.00,   7.6295,2,    25.54,    0.768,2,   -999.0,1,   -999.0,1, -999.000,9,-999.0000,9,-999.0000,9,-999.0000,9,-999.0000,9, 27.067, 31.616, 36.063, 40.411, 44.661
33RO20110828,   A10,    59,  1,     13,    013,2,20000101,0000,-30.0000, -17.4746, 4190,    849.1,   4.7801,  34.3163,2,  34.3173,2,  34.4791,2,    217.2,2,    217.3,2,    23.83,2,    27.64,2,     0.02,2,     2.15,2,    2.799,2,    1.402,2,    3.671,3,   2182.6,2,   2274.5,2,   -999.0,9,  -999.00,   7.6028,2,    25.55,    0.634,2,   -999.0,1,   -999.0,1, -999.000,9,-999.0000,9,-999.0000,9,-999.0000,9,-999.0000,9, 27.167, 31.751, 36.232, 40.612, 44.894
33RO20110828,   A10,    59,  1,     12,    012,2,20000101,0000,-30.0000, -17.4746, 4190,    969.0,   4.0413,  34.3257,2,  34.3261,2,  34.4880,2,    209.6,2,    209.8,2,    32.42,2,    29.30,2,     0.01,2,     2.28,2,    2.200,2,    1.084,2,    3.176,3,   2196.5,2,   2282.4,2,   -999.0,9,  -999.00,   7.5868,2,    25.50,    0.467,2,   -999.0,1,   -999.0,1, -999.000,9,-999.0000,9,-999.0000,9,-999.0000,9,-999.0000,9, 27.253, 31.856, 36.356, 40.755, 45.054
33RO20110828,   A10,    59,  1,     11,    011,2,20000101,0000,-30.0000, -17.4746, 4190,   1149.4,   3.4027,  34.4060,2,  34.4080,2,  34.5702,2,    195.4,2,    195.3,2,    45.41,2,    30.96,2,     0.02,2,     2.41,2,    1.248,2,    0.609,2,    2.047,3,   2217.3,2,   2295.8,2,   -999.0,9,  -999.00,   7.5712,2,    25.50,    0.231,2,   -999.0,1,   -999.0,1, -999.000,9,-999.0000,9,-999.0000,9,-999.0000,9,-999.0000,9, 27.383, 32.002, 36.518, 40.932, 45.247
33RO20110828,   A10,    59,  1,     10,    010,2,20000101,0000,-30.0000, -17.4746, 4190,   1299.7,   3.0918,  34.5125,2,  34.5138,2,  34.6765,2,    187.1,2,    187.6,2,    53.61,2,    30.56,2,     0.01,2,     2.40,2,    0.624,2,    0.303,2,    1.323,3,   2228.4,6,   2305.0,2,   -999.0,9,  -999.00,   7.5684,2,    25.50,    0.079,2,   -999.0,1,   -999.0,1, -999.000,9,-999.0000,9,-999.0000,9,-999.0000,9,-999.0000,9, 27.497, 32.124, 36.648, 41.069, 45.391
33RO20110828,   A10,    59,  1,      9,    009,2,20000101,0000,-30.0000, -17.4746, 4190,   1566.8,   2.8894,  34.6589,2,  34.6613,6,  34.8247,6,    193.4,2,    193.9,2,    56.14,2,    28.41,2,     0.01,2,     2.23,2,    0.203,2,    0.099,2,    0.496,3,   2226.7,2,   2313.3,2,   -999.0,9,  -999.00,   7.5899,2,    25.45,    0.000,2,   -999.0,1,   -999.0,1, -999.000,9,-999.0000,9,-999.0000,9,-999.0000,9,-999.0000,9, 27.633, 32.265, 36.793, 41.219, 45.545
33RO20110828,   A10,    59,  1,      8,    008,2,20000101,0000,-30.0000, -17.4746, 4190,   1790.1,   2.7454,  34.7503,2,  34.7513,2,  34.9151,2,    207.9,2,    207.6,2,    54.48,2,    26.07,2,     0.01,2,     2.05,2,    0.084,2,    0.041,2,    0.315,3,   2217.0,2,   2316.8,2,   -999.0,9,  -999.00,   7.6124,2,    25.51,    0.000,2,   -999.0,1,   -999.0,1, -999.000,9,-999.0000,9,-999.0000,9,-999.0000,9,-999.0000,9, 27.721, 32.357, 36.889, 41.318, 45.647
33RO20110828,   A10,    59,  1,      7,    007,2,20000101,0000,-30.0000, -17.4746, 4190,   2164.8,   2.6300,  34.8145,2,  34.8153,2,  34.9795,2,    224.7,2,    223.5,2,    51.25,2,    24.02,2,     0.01,2,     1.86,2,    0.038,2,    0.020,2,    0.196,3,   2206.3,2,   2317.9,2,   -999.0,9,  -999.00,   7.6330,2,    25.49,    0.000,2,   -999.0,1,   -999.0,1, -999.000,9,-999.0000,9,-999.0000,9,-999.0000,9,-999.0000,9, 27.785, 32.424, 36.959, 41.392, 45.724
33RO20110828,   A10,    59,  1,      6,    006,2,20000101,0000,-30.0000, -17.4746, 4190,   2350.2,   2.6080,  34.8308,2,  34.8336,2,  34.9978,2,    228.7,2,    227.9,2,    50.18,2,    23.43,2,     0.01,2,     1.81,2, -999.000,5, -999.000,5, -999.000,5,   2203.7,2,   2316.7,2,   -999.0,9,  -999.00,   7.6572,2,    25.49, -999.000,5,   -999.0,1,   -999.0,1, -999.000,9,-999.0000,9,-999.0000,9,-999.0000,9,-999.0000,9, 27.803, 32.443, 36.979, 41.413, 45.746
33RO20110828,   A10,    59,  1,      5,    005,2,20000101,0000,-30.0000, -17.4746, 4190,   2650.3,   2.5874,  34.8532,2,  34.8545,2,  35.0188,2,    234.9,2,    237.5,2,    48.03,2,    22.84,2,     0.01,2,     1.74,2,    0.021,2,    0.012,2,    0.150,3,   2196.9,2,   2319.1,2,   -999.0,9,  -999.00,   7.6673,2,    25.51,    0.000,2,   -999.0,1,   -999.0,1, -999.000,9,-999.0000,9,-999.0000,9,-999.0000,9,-999.0000,9, 27.824, 32.465, 37.002, 41.437, 45.771
33RO20110828,   A10,    59,  1,      4,    004,2,20000101,0000,-30.0000, -17.4746, 4190,   3000.1,   2.4839,  34.8669,2,  34.8680,2,  35.0325,2,    240.5,2,    240.7,2,    48.03,2,    22.16,2,     0.01,2,     1.69,2,    0.011,2,    0.007,2,    0.116,3,   2195.4,2,   2321.9,3,   -999.0,9,  -999.00,   7.6812,2,    25.49,    0.041,2,   -999.0,1,   -999.0,1, -999.000,9,-999.0000,9,-999.0000,9,-999.0000,9,-999.0000,9, 27.846, 32.491, 37.032, 41.470, 45.807
33RO20110828,   A10,    59,  1,      3,    003,2,20000101,0000,-30.0000, -17.4746, 4190,   3425.4,   2.1595,  34.8532,2,  34.8541,2,  35.0184,2,    241.5,2,    241.5,2,    57.31,2,    22.75,2,     0.01,2,     1.75,2,    0.014,2,    0.010,2,    0.093,3,   2202.5,2,   2325.5,2,   -999.0,9,  -999.00,   7.6651,2,    25.55,    0.140,2,   -999.0,1,   -999.0,1, -999.000,9,-999.0000,9,-999.0000,9,-999.0000,9,-999.0000,9, 27.864, 32.519, 37.070, 41.518, 45.864
33RO20110828,   A10,    59,  1,      2,    002,2,20000101,0000,-30.0000, -17.4746, 4190,   3822.2,   1.9050,  34.8290,2,  34.8339,2,  34.9981,2,    238.5,2,    238.2,2,    67.17,2,    23.92,2,     0.01,2,     1.84,2,    0.014,2,    0.007,2,    0.097,3,   2212.4,2,   2332.2,2,   -999.0,9,  -999.00,   7.6590,2,    25.48,    0.121,2,   -999.0,1,   -999.0,1, -999.000,9,-999.0000,9,-999.0000,9,-999.0000,9,-999.0000,9, 27.870, 32.534, 37.092, 41.548, 45.902
33RO20110828,   A10,    59,  1,      1,    001,2,20000101,0000,-30.0000, -17.4746, 4190,   4205.0,   1.6988,  34.8065,2,  34.8085,2,  34.9727,2,    235.7,2,    235.8,2,    75.86,2,    25.29,2,     0.01,2,     1.93,2,    0.021,2,    0.011,2,    0.109,3,   2221.9,6,   2338.7,2,   -999.0,9,  -999.00,   7.6668,2,    25.50,    0.160,2,   -999.0,1,   -999.0,1, -999.000,9,-999.0000,9,-999.0000,9,-999.0000,9,-999.0000,9, 27.867, 32.538, 37.104, 41.566, 45.927