BOTTLE,20130715NOAA
EXPOCODE,SECT_ID,STNNBR,CASTNO,SAMPNO,BTLNBR,BTLNBR_FLAG_W,DATE,TIME,LATITUDE,LONGITUDE,DEPTH,CTDPRS,CTDTMP,CTDSAL,CTDSAL_FLAG_W,SALNTY,SALNTY_FLAG_W,SALTREF,SALTREF_FLAG_W,CTDOXY,CTDOXY_FLAG_W,OXYGEN,OXYGEN_FLAG_W,SILCAT,SILCAT_FLAG_W,NITRAT,NITRAT_FLAG_W,NITRIT,NITRIT_FLAG_W,PHSPHT,PHSPHT_FLAG_W,CFC-11,CFC-11_FLAG_W,CFC-12,CFC-12_FLAG_W,CCL4,CCL4_FLAG_W,TCARBN,TCARBN_FLAG_W,ALKALI,ALKALI_FLAG_W,PCO2,PCO2_FLAG_W,PCO2TMP,PH_TOT,PH_TOT_FLAG_W,PH_TMP,SF6,SF6_FLAG_W,DOC,DOC_FLAG_W,TDN,TDN_FLAG_W,TRITUM,TRITUM_FLAG_W,HELIUM,HELIUM_FLAG_W,OXY_18,OXY_18_FLAG_W,BLACKC,BLACKC_FLAG_W,PIGMENTS,PIGMENTS_FLAG_W,SIGMA-THETA,SIGMA-1,SIGMA-2,SIGMA-3,SIGMA-4
,,,,,,,,,,,METERS,DBARS,ITS-90,PSS-78,,PSS-78,,G/KG,,UMOL/KG,,UMOL/KG,,UMOL/KG,,UMOL/KG,,UMOL/KG,,UMOL/KG,,PMOL/KG,,PMOL/KG,,PMOL/KG,,UMOL/KG,,UMOL/KG,,UATM@T,,DEG_C,,,DEG_C,FMOL/KG,,UMOL/KG,,UMOL/KG,,TU,,NMOL/KG,,,,,,,,,,,,
33RO20110828,   A10,    76,  1,     24,    024,2,20000101,0000,-30.0001, -29.4990, 2262,      5.5,  18.5953,  36.1106,2,  36.1140,2,  36.2843,2,    231.5,2,    231.9,2,     0.97,2,     0.00,2,     0.01,2,     0.07,2,    2.242,2,    1.359,2,    3.142,3,   2078.5,6,   2365.7,2,   -999.0,9,  -999.00,   7.9432,2,    25.57,    1.383,2,   -999.0,9,   -999.0,9, -999.000,9,-999.0000,9,-999.0000,9,-999.0000,9,-999.0000,1, 25.976, 30.263, 34.456, 38.558, 42.571
33RO20110828,   A10,    76,  1,     23,    023,2,20000101,0000,-30.0001, -29.4990, 2262,     45.0,  18.5887,  36.1094,2,  36.1094,2,  36.2797,2,    231.7,2,    232.0,2,     0.97,2,     0.00,2,     0.01,2,     0.07,2, -999.000,9, -999.000,9, -999.000,9,   2078.4,2,   2366.6,2,   -999.0,9,  -999.00,   7.9646,2,    25.56, -999.000,9,   -999.0,9,   -999.0,9, -999.000,9,-999.0000,9,-999.0000,9,-999.0000,9,-999.0000,9, 25.976, 30.264, 34.457, 38.558, 42.571
33RO20110828,   A10,    76,  1,     22,    022,2,20000101,0000,-30.0001, -29.4990, 2262,     70.0,  18.5541,  36.1060,2,  36.1059,2,  36.2761,2,    231.7,2,    231.4,2,     0.97,2,     0.00,2,     0.01,2,     0.07,2, -999.000,9, -999.000,9, -999.000,9,   2080.4,2,   2366.1,2,   -999.0,9,  -999.00,   7.9506,2,    25.58, -999.000,9,   -999.0,9,   -999.0,9, -999.000,9,-999.0000,9,-999.0000,9,-999.0000,9,-999.0000,1, 25.984, 30.272, 34.465, 38.567, 42.581
33RO20110828,   A10,    76,  1,     21,    021,2,20000101,0000,-30.0001, -29.4990, 2262,     93.4,  18.3612,  36.0927,2,  36.1014,2,  36.2716,2,    232.1,2,    232.3,2,     0.97,2,     0.10,2,     0.02,2,     0.08,2,    2.267,2,    1.369,2,    2.769,3,   2085.3,2,   2364.3,2,   -999.0,9,  -999.00,   7.9472,2,    25.56,    1.372,2,   -999.0,9,   -999.0,9, -999.000,9,-999.0000,9,-999.0000,9,-999.0000,9,-999.0000,9, 26.030, 30.321, 34.518, 38.623, 42.640
33RO20110828,   A10,    76,  1,     20,    020,2,20000101,0000,-30.0001, -29.4990, 2262,    129.1,  17.3317,  35.9186,2,  35.9196,2,  36.0890,2,    238.5,2,    237.3,2,     0.98,2,     0.10,2,     0.04,2,     0.10,2, -999.000,9, -999.000,9, -999.000,9,   2079.8,2,   2354.2,2,   -999.0,9,  -999.00,   7.9328,2,    25.58, -999.000,9,   -999.0,9,   -999.0,9, -999.000,9,-999.0000,9,-999.0000,9,-999.0000,9,-999.0000,1, 26.146, 30.455, 34.670, 38.792, 42.825
33RO20110828,   A10,    76,  1,     19,    019,2,20000101,0000,-30.0001, -29.4990, 2262,    161.1,  17.1185,  35.8904,2,  35.8931,2,  36.0624,2,    238.0,2,    238.4,2,     0.98,2,     0.10,2,     0.07,2,     0.11,2, -999.000,9, -999.000,9, -999.000,9,   2080.4,2,   2352.6,2,   -999.0,9,  -999.00,   7.9085,3,    25.58, -999.000,9,   -999.0,9,   -999.0,9, -999.000,9,-999.0000,9,-999.0000,9,-999.0000,9,-999.0000,1, 26.178, 30.491, 34.710, 38.836, 42.872
33RO20110828,   A10,    76,  1,     18,    018,2,20000101,0000,-30.0001, -29.4990, 2262,    197.5,  16.8952,  35.8578,2,  35.8570,2,  36.0261,2,    236.5,2,    236.2,2,     0.98,2,     0.29,2,     0.35,2,     0.13,2,    2.440,2,    1.462,2,    2.946,3,   -999.0,9,   2349.9,2,   -999.0,9,  -999.00,   7.9277,2,    25.56,    1.469,2,   -999.0,9,   -999.0,9, -999.000,9,-999.0000,9,-999.0000,9,-999.0000,9,-999.0000,9, 26.205, 30.522, 34.745, 38.875, 42.915
33RO20110828,   A10,    76,  1,     17,    017,2,20000101,0000,-30.0001, -29.4990, 2262,    274.7,  15.0751,  35.4859,2,  35.4912,2,  35.6585,2,    215.4,2,    215.1,2,     1.95,2,     4.97,2,     0.02,2,     0.38,2, -999.000,9, -999.000,9, -999.000,9,   2102.6,2,   2329.0,2,   -999.0,9,  -999.00,   7.8667,2,    25.54, -999.000,9,   -999.0,9,   -999.0,9, -999.000,9,-999.0000,9,-999.0000,9,-999.0000,9,-999.0000,9, 26.343, 30.696, 34.951, 39.114, 43.186
33RO20110828,   A10,    76,  1,     16,    016,2,20000101,0000,-30.0001, -29.4990, 2262,    349.4,  13.7907,  35.3093,2,  35.3106,2,  35.4771,2,    214.0,2,    214.5,2,     2.63,2,     7.80,2,     0.02,2,     0.53,2,    2.875,2,    1.655,2,    1.038,3,   -999.0,9,   2320.2,2,   -999.0,9,  -999.00,   7.8222,2,    25.59,    1.357,2,   -999.0,9,   -999.0,9, -999.000,9,-999.0000,9,-999.0000,9,-999.0000,9,-999.0000,9, 26.482, 30.859, 35.139, 39.325, 43.420
33RO20110828,   A10,    76,  1,     15,    015,2,20000101,0000,-30.0001, -29.4990, 2262,    399.8,  12.8684,  35.1704,2,  35.1821,2,  35.3480,2,    211.4,2,    212.0,2,     3.41,2,    10.15,2,     0.01,2,     0.65,2, -999.000,9, -999.000,9, -999.000,9,   -999.0,9,   2310.8,2,   -999.0,9,  -999.00,   7.8115,2,    25.59, -999.000,9,   -999.0,9,   -999.0,9, -999.000,9,-999.0000,9,-999.0000,9,-999.0000,9,-999.0000,9, 26.571, 30.967, 35.266, 39.470, 43.581
33RO20110828,   A10,    76,  1,     14,    014,2,20000101,0000,-30.0001, -29.4990, 2262,    446.9,  11.9568,  35.0513,2,  35.0539,2,  35.2192,2,    210.1,2,    209.9,2,     4.39,2,    12.59,2,     0.01,2,     0.78,2,    3.081,2,    1.707,2,    1.138,3,   -999.0,9,   2305.1,2,   -999.0,9,  -999.00,   7.7688,2,    25.57,    1.142,2,   -999.0,9,   -999.0,9, -999.000,9,-999.0000,9,-999.0000,9,-999.0000,9,-999.0000,9, 26.651, 31.066, 35.383, 39.604, 43.733
33RO20110828,   A10,    76,  1,     13,    013,2,20000101,0000,-30.0001, -29.4990, 2262,    546.8,  10.0724,  34.8102,2,  34.8110,2,  34.9751,2,    205.6,2,    205.5,2,     7.12,2,    17.47,2,     0.01,2,     1.05,2, -999.000,9, -999.000,9, -999.000,9,   2141.8,2,   2294.8,2,   -999.0,9,  -999.00,   7.7184,2,    25.53, -999.000,9,   -999.0,9,   -999.0,9, -999.000,9,-999.0000,9,-999.0000,9,-999.0000,9,-999.0000,9, 26.803, 31.259, 35.616, 39.876, 44.042
33RO20110828,   A10,    76,  1,     12,    012,2,20000101,0000,-30.0001, -29.4990, 2262,    649.0,   8.3381,  34.6075,2,  34.6068,2,  34.7699,2,    202.7,2,    202.4,2,    10.64,2,    21.86,2,     0.01,2,     1.31,2,    3.168,2,    1.646,2,    1.893,3,   -999.0,9,   2286.9,2,   -999.0,9,  -999.00,   7.6698,2,    25.53,    0.878,2,   -999.0,9,   -999.0,9, -999.000,9,-999.0000,9,-999.0000,9,-999.0000,9,-999.0000,9, 26.924, 31.420, 35.816, 40.114, 44.316
33RO20110828,   A10,    76,  1,     11,    011,2,20000101,0000,-30.0001, -29.4990, 2262,    750.2,   6.2945,  34.3962,2,  34.4004,2,  34.5626,2,    214.5,2,    215.6,2,    14.54,2,    25.67,2,     0.01,2,     1.53,2, -999.000,9, -999.000,9, -999.000,9,   -999.0,9,   2281.4,2,   -999.0,9,  -999.00,   7.6436,2,    25.54, -999.000,9,   -999.0,9,   -999.0,9, -999.000,9,-999.0000,9,-999.0000,9,-999.0000,9,-999.0000,9, 27.050, 31.595, 36.039, 40.384, 44.631
33RO20110828,   A10,    76,  1,     10,    010,2,20000101,0000,-30.0001, -29.4990, 2262,    848.0,   4.8726,  34.3028,2,  34.3038,2,  34.4656,2,    224.5,2,    223.9,2,    20.89,2,    28.41,2,     0.01,2,     1.73,2,    3.036,2,    1.507,2,    3.278,3,   -999.0,9,   2284.1,2,   -999.0,9,  -999.00,   7.6128,2,    25.58,    0.705,2,   -999.0,9,   -999.0,9, -999.000,9,-999.0000,9,-999.0000,9,-999.0000,9,-999.0000,9, 27.146, 31.727, 36.206, 40.585, 44.865
33RO20110828,   A10,    76,  1,      9,    009,2,20000101,0000,-30.0001, -29.4990, 2262,    951.0,   4.1549,  34.3021,2,  34.3036,2,  34.4654,2,    217.5,2,    217.8,2,    28.41,2,    29.97,2,     0.01,2,     1.88,2, -999.000,9, -999.000,9, -999.000,9,   2187.3,2,   2289.1,2,   -999.0,9,  -999.00,   7.5839,2,    25.57, -999.000,9,   -999.0,9,   -999.0,9, -999.000,9,-999.0000,9,-999.0000,9,-999.0000,9,-999.0000,9, 27.224, 31.824, 36.321, 40.717, 45.014
33RO20110828,   A10,    76,  1,      8,    008,2,20000101,0000,-30.0001, -29.4990, 2262,   1098.5,   3.5642,  34.3562,2,  34.3566,2,  34.5186,2,    203.4,2,    203.5,2,    39.44,2,    31.63,2,     0.01,2,     2.05,2,    1.629,2,    0.788,2,    2.235,3,   -999.0,9,   2300.2,2,   -999.0,9,  -999.00,   7.5685,2,    25.61,    0.276,2,   -999.0,9,   -999.0,9, -999.000,9,-999.0000,9,-999.0000,9,-999.0000,9,-999.0000,9, 27.326, 31.942, 36.454, 40.864, 45.175
33RO20110828,   A10,    76,  1,      7,    007,2,20000101,0000,-30.0001, -29.4990, 2262,   1249.1,   3.2514,  34.4591,2,  34.4608,2,  34.6233,2,    189.2,2,    189.4,2,    49.68,2,    32.31,2,     0.01,2,     2.17,2, -999.000,9, -999.000,9, -999.000,9,   2222.1,2,   2311.2,2,   -999.0,9,  -999.00,   7.5658,2,    25.55, -999.000,9,   -999.0,9,   -999.0,9, -999.000,9,-999.0000,9,-999.0000,9,-999.0000,9,-999.0000,9, 27.440, 32.063, 36.583, 41.001, 45.318
33RO20110828,   A10,    76,  1,      6,    006,2,20000101,0000,-30.0001, -29.4990, 2262,   1450.4,   3.0377,  34.5574,2,  34.5593,2,  34.7223,2,    186.9,2,    186.6,2,    54.56,2,    31.72,2,     0.01,2,     2.16,2,    0.409,2,    0.200,2,    0.858,3,   2226.3,2,   2318.1,2,   -999.0,9,  -999.00,   7.5734,2,    25.56,    0.089,2,   -999.0,9,   -999.0,9, -999.000,9,-999.0000,9,-999.0000,9,-999.0000,9,-999.0000,9, 27.539, 32.168, 36.693, 41.116, 45.438
33RO20110828,   A10,    76,  1,      5,    005,2,20000101,0000,-30.0001, -29.4990, 2262,   1651.8,   2.8750,  34.6648,2,  34.6653,2,  34.8288,2,    194.1,2,    194.2,2,    55.83,2,    29.86,2,     0.01,2,     2.06,2, -999.000,9, -999.000,9, -999.000,9,   2223.7,2,   2323.2,2,   -999.0,9,  -999.00,   7.5935,2,    25.52, -999.000,9,   -999.0,9,   -999.0,9, -999.000,9,-999.0000,9,-999.0000,9,-999.0000,9,-999.0000,9, 27.640, 32.273, 36.801, 41.228, 45.554
33RO20110828,   A10,    76,  1,      4,    004,2,20000101,0000,-30.0001, -29.4990, 2262,   1802.6,   2.8108,  34.7325,2,  34.7344,2,  34.8982,2,    203.8,2,    203.6,2,    53.97,2,    28.11,2,     0.01,2,     1.94,2,    0.075,2,    0.037,2,    0.298,3,   -999.0,9,   2324.0,2,   -999.0,9,  -999.00,   7.6046,2,    25.55,    0.013,2,   -999.0,9,   -999.0,9, -999.000,9,-999.0000,9,-999.0000,9,-999.0000,9,-999.0000,9, 27.702, 32.336, 36.866, 41.294, 45.622
33RO20110828,   A10,    76,  1,      3,    003,2,20000101,0000,-30.0001, -29.4990, 2262,   1951.0,   2.7569,  34.7823,2,  34.7828,2,  34.9469,2,    212.9,2,    213.9,2,    51.14,2,    26.54,2,     0.01,2,     1.83,2, -999.000,9, -999.000,9, -999.000,9,   -999.0,9,   2322.8,2,   -999.0,9,  -999.00,   7.6292,2,    25.51, -999.000,9,   -999.0,9,   -999.0,9, -999.000,9,-999.0000,9,-999.0000,9,-999.0000,9,-999.0000,9, 27.747, 32.382, 36.914, 41.343, 45.672
33RO20110828,   A10,    76,  1,      2,    002,2,20000101,0000,-30.0001, -29.4990, 2262,   2102.7,   2.7487,  34.8213,2,  34.8227,6,  34.9869,6,    223.0,2,    223.4,2,    47.82,2,    25.08,2,     0.01,2,     1.72,2, -999.000,9, -999.000,9, -999.000,9,   -999.0,9,   2326.7,2,   -999.0,9,  -999.00,   7.6526,2,    25.43, -999.000,9,   -999.0,9,   -999.0,9, -999.000,9,-999.0000,9,-999.0000,9,-999.0000,9,-999.0000,9, 27.779, 32.415, 36.947, 41.376, 45.706
33RO20110828,   A10,    76,  1,      1,    001,2,20000101,0000,-30.0001, -29.4990, 2262,   2260.4,   2.7540,  34.8545,2,  34.8589,2,  35.0233,2,    231.5,2,    231.3,2,    43.72,2,    23.71,2,     0.01,2,     1.62,2,    0.015,2,    0.008,2,    0.143,3,   2192.5,6,   2325.5,2,   -999.0,9,  -999.00,   7.6733,2,    25.33,    0.000,2,   -999.0,9,   -999.0,9, -999.000,9,-999.0000,9,-999.0000,9,-999.0000,9,-999.0000,9, 27.810, 32.446, 36.978, 41.407, 45.736