BOTTLE,20130715NOAA
EXPOCODE,SECT_ID,STNNBR,CASTNO,SAMPNO,BTLNBR,BTLNBR_FLAG_W,DATE,TIME,LATITUDE,LONGITUDE,DEPTH,CTDPRS,CTDTMP,CTDSAL,CTDSAL_FLAG_W,SALNTY,SALNTY_FLAG_W,SALTREF,SALTREF_FLAG_W,CTDOXY,CTDOXY_FLAG_W,OXYGEN,OXYGEN_FLAG_W,SILCAT,SILCAT_FLAG_W,NITRAT,NITRAT_FLAG_W,NITRIT,NITRIT_FLAG_W,PHSPHT,PHSPHT_FLAG_W,CFC-11,CFC-11_FLAG_W,CFC-12,CFC-12_FLAG_W,CCL4,CCL4_FLAG_W,TCARBN,TCARBN_FLAG_W,ALKALI,ALKALI_FLAG_W,PCO2,PCO2_FLAG_W,PCO2TMP,PH_TOT,PH_TOT_FLAG_W,PH_TMP,SF6,SF6_FLAG_W,DOC,DOC_FLAG_W,TDN,TDN_FLAG_W,TRITUM,TRITUM_FLAG_W,HELIUM,HELIUM_FLAG_W,OXY_18,OXY_18_FLAG_W,BLACKC,BLACKC_FLAG_W,PIGMENTS,PIGMENTS_FLAG_W,SIGMA-THETA,SIGMA-1,SIGMA-2,SIGMA-3,SIGMA-4
,,,,,,,,,,,METERS,DBARS,ITS-90,PSS-78,,PSS-78,,G/KG,,UMOL/KG,,UMOL/KG,,UMOL/KG,,UMOL/KG,,UMOL/KG,,UMOL/KG,,PMOL/KG,,PMOL/KG,,PMOL/KG,,UMOL/KG,,UMOL/KG,,UATM@T,,DEG_C,,,DEG_C,FMOL/KG,,UMOL/KG,,UMOL/KG,,TU,,NMOL/KG,,,,,,,,,,,,
33RO20110828,   A10,     8,  1,     24,    024,2,20000101,0000,-29.7332,  11.9005, 3968,      3.2,  16.9345,  35.6151,2,  35.6169,2,  35.7848,2,    246.8,2,    247.9,2,     2.54,2,     0.78,2,     0.10,2,     0.21,2, -999.000,9, -999.000,9, -999.000,9,   2062.5,6,   2333.5,2,   -999.0,9,  -999.00,   7.9571,2,    25.21, -999.000,9,   -999.0,9,   -999.0,9, -999.000,9,-999.0000,9,-999.0000,9,-999.0000,9,-999.0000,1, 26.004, 30.321, 34.544, 38.674, 42.715
33RO20110828,   A10,     8,  1,     23,    023,2,20000101,0000,-29.7332,  11.9005, 3968,     41.8,  16.8166,  35.6105,2,  35.6122,2,  35.7801,2,    246.4,2,    247.7,2,     2.54,2,     0.88,2,     0.11,2,     0.21,2, -999.000,9, -999.000,9, -999.000,9,   -999.0,9,   2334.8,2,   -999.0,9,  -999.00,   7.9593,2,    25.30, -999.000,9,   -999.0,9,   -999.0,9, -999.000,9,-999.0000,9,-999.0000,9,-999.0000,9,-999.0000,1, 26.030, 30.349, 34.574, 38.706, 42.749
33RO20110828,   A10,     8,  1,     22,    022,2,20000101,0000,-29.7332,  11.9005, 3968,    101.5,  16.3073,  35.5688,2,  35.5711,2,  35.7389,2,    234.8,2,    234.1,2,     2.93,2,     2.63,2,     0.49,2,     0.35,2, -999.000,9, -999.000,9, -999.000,9,   -999.0,9,   2329.5,2,   -999.0,9,  -999.00,   7.9355,3,    25.32, -999.000,9,   -999.0,9,   -999.0,9, -999.000,9,-999.0000,9,-999.0000,9,-999.0000,9,-999.0000,1, 26.120, 30.449, 34.683, 38.824, 42.875
33RO20110828,   A10,     8,  1,     21,    021,2,20000101,0000,-29.7332,  11.9005, 3968,    157.2,  15.8945,  35.5508,2,  35.5526,2,  35.7202,2,    233.9,2,    231.1,2,     2.83,2,     3.22,2,     0.19,2,     0.39,2, -999.000,9, -999.000,9, -999.000,9,   -999.0,9,   2330.9,2,   -999.0,9,  -999.00,   7.9157,2,    25.37, -999.000,9,   -999.0,9,   -999.0,9, -999.000,9,-999.0000,9,-999.0000,9,-999.0000,9,-999.0000,9, 26.203, 30.539, 34.780, 38.928, 42.986
33RO20110828,   A10,     8,  1,     20,    020,2,20000101,0000,-29.7332,  11.9005, 3968,    201.7,  14.8203,  35.3775,2,  35.3804,2,  35.5472,2,    222.6,2,    221.7,2,     3.51,2,     5.76,2,     0.02,2,     0.55,2, -999.000,9, -999.000,9, -999.000,9,   -999.0,9,   2322.2,2,   -999.0,9,  -999.00,   7.8794,2,    25.32, -999.000,9,   -999.0,9,   -999.0,9, -999.000,9,-999.0000,9,-999.0000,9,-999.0000,9,-999.0000,9, 26.311, 30.669, 34.930, 39.097, 43.173
33RO20110828,   A10,     8,  1,     19,    019,2,20000101,0000,-29.7332,  11.9005, 3968,    279.0,  13.2391,  35.1736,2,  35.1838,2,  35.3497,2,    217.7,2,    218.3,2,     3.71,2,     8.49,2,     0.01,2,     0.74,2, -999.000,9, -999.000,9, -999.000,9,   2114.9,2,   2313.9,2,   -999.0,9,  -999.00,   7.8307,2,    25.26, -999.000,9,   -999.0,9,   -999.0,9, -999.000,9,-999.0000,9,-999.0000,9,-999.0000,9,-999.0000,9, 26.495, 30.883, 35.174, 39.371, 43.476
33RO20110828,   A10,     8,  1,     18,    018,2,20000101,0000,-29.7332,  11.9005, 3968,    363.3,  11.5784,  34.9741,2,  34.9790,2,  35.1439,2,    217.7,2,    218.1,2,     4.98,2,    12.59,2,     0.01,2,     1.00,2, -999.000,9, -999.000,9, -999.000,9,   -999.0,9,   2304.1,2,   -999.0,9,  -999.00,   7.7879,2,    25.27, -999.000,9,   -999.0,9,   -999.0,9, -999.000,9,-999.0000,9,-999.0000,9,-999.0000,9,-999.0000,9, 26.661, 31.084, 35.409, 39.638, 43.774
33RO20110828,   A10,     8,  1,     17,    017,2,20000101,0000,-29.7332,  11.9005, 3968,    451.1,   9.9772,  34.7949,2,  34.8006,2,  34.9647,2,    215.1,2,    213.6,2,     8.10,2,    16.69,2,     0.01,2,     1.29,2, -999.000,9, -999.000,9, -999.000,9,   -999.0,9,   2294.5,2,   -999.0,9,  -999.00,   7.7414,2,    25.32, -999.000,9,   -999.0,9,   -999.0,9, -999.000,9,-999.0000,9,-999.0000,9,-999.0000,9,-999.0000,9, 26.809, 31.267, 35.626, 39.888, 44.055
33RO20110828,   A10,     8,  1,     16,    016,2,20000101,0000,-29.7332,  11.9005, 3968,    534.1,   8.4450,  34.6034,2,  34.6060,2,  34.7692,2,    208.2,2,    211.7,2,     9.57,2,    20.89,2,     0.01,2,     1.54,2, -999.000,9, -999.000,9, -999.000,9,   -999.0,9,   2288.4,2,   -999.0,9,  -999.00,   7.6919,2,    25.31, -999.000,9,   -999.0,9,   -999.0,9, -999.000,9,-999.0000,9,-999.0000,9,-999.0000,9,-999.0000,9, 26.906, 31.399, 35.792, 40.087, 44.287
33RO20110828,   A10,     8,  1,     15,    015,2,20000101,0000,-29.7332,  11.9005, 3968,    646.2,   6.1301,  34.3786,2,  34.3808,2,  34.5430,2,    218.7,2,    216.8,2,    16.01,2,    26.07,2,     0.00,2,     1.92,2, -999.000,9, -999.000,9, -999.000,9,   2170.5,2,   -999.0,9,   -999.0,9,  -999.00,   7.6043,4,    25.32, -999.000,9,   -999.0,9,   -999.0,9, -999.000,9,-999.0000,9,-999.0000,9,-999.0000,9,-999.0000,9, 27.054, 31.604, 36.051, 40.399, 44.650
33RO20110828,   A10,     8,  1,     14,    014,2,20000101,0000,-29.7332,  11.9005, 3968,    773.6,   4.8027,  34.3086,2,  34.3110,2,  34.4728,2,    218.4,2,    220.4,2,    23.92,2,    28.61,2,     0.00,2,     2.11,2, -999.000,9, -999.000,9, -999.000,9,   -999.0,9,   2292.4,2,   -999.0,9,  -999.00,   7.6227,2,    25.26, -999.000,9,   -999.0,9,   -999.0,9, -999.000,9,-999.0000,9,-999.0000,9,-999.0000,9,-999.0000,9, 27.158, 31.742, 36.222, 40.602, 44.883
33RO20110828,   A10,     8,  1,     13,    013,2,20000101,0000,-29.7332,  11.9005, 3968,    923.6,   4.0350,  34.3610,2,  34.3622,2,  34.5242,2,    198.5,2,    198.3,2,    37.10,2,    31.14,2,     0.00,2,     2.32,2, -999.000,9, -999.000,9, -999.000,9,   2207.8,2,   2299.8,2,   -999.0,9,  -999.00,   7.5837,3,    25.31, -999.000,9,   -999.0,9,   -999.0,9, -999.000,9,-999.0000,9,-999.0000,9,-999.0000,9,-999.0000,9, 27.282, 31.885, 36.385, 40.783, 45.082
33RO20110828,   A10,     8,  1,     12,    012,2,20000101,0000,-29.7332,  11.9005, 3968,   1062.0,   3.4675,  34.4411,2,  34.4438,2,  34.6063,2,    187.1,2,    183.8,2,    51.35,2,    32.61,2,     0.00,2,     2.42,2, -999.000,9, -999.000,9, -999.000,9,   -999.0,9,   2314.4,2,   -999.0,9,  -999.00,   7.5847,2,    25.25, -999.000,9,   -999.0,9,   -999.0,9, -999.000,9,-999.0000,9,-999.0000,9,-999.0000,9,-999.0000,9, 27.404, 32.022, 36.536, 40.948, 45.260
33RO20110828,   A10,     8,  1,     11,    011,2,20000101,0000,-29.7332,  11.9005, 3968,   1216.0,   3.1776,  34.5504,2,  34.5564,2,  34.7193,2,    176.8,2,    177.5,2,    56.42,2,    32.12,2,     0.00,2,     2.40,2, -999.000,9, -999.000,9, -999.000,9,   -999.0,9,   2323.2,2,   -999.0,9,  -999.00,   7.5533,2,    25.33, -999.000,9,   -999.0,9,   -999.0,9, -999.000,9,-999.0000,9,-999.0000,9,-999.0000,9,-999.0000,9, 27.523, 32.147, 36.668, 41.087, 45.405
33RO20110828,   A10,     8,  1,     10,    010,2,20000101,0000,-29.7332,  11.9005, 3968,   1470.4,   2.9955,  34.6922,2,  34.6940,2,  34.8576,2,    185.8,2,    188.8,2,    56.03,2,    29.67,2,     0.00,2,     2.20,2, -999.000,9, -999.000,9, -999.000,9,   2227.0,2,   2329.7,2,   -999.0,9,  -999.00,   7.5924,2,    25.35, -999.000,9,   -999.0,9,   -999.0,9, -999.000,9,-999.0000,9,-999.0000,9,-999.0000,9,-999.0000,9, 27.651, 32.280, 36.805, 41.227, 45.550
33RO20110828,   A10,     8,  1,      9,    009,9,20000101,0000,-29.7332,  11.9005, 3968,   1719.2,   3.0628,  34.8008,2,-999.0000,9,-999.0000,9,   -999.0,9,   -999.0,9,  -999.00,5,  -999.00,5,  -999.00,5,  -999.00,5, -999.000,9, -999.000,9, -999.000,9,   -999.0,9,   -999.0,9,   -999.0,9,  -999.00,-999.0000,9,  -999.00, -999.000,9,   -999.0,9,   -999.0,9, -999.000,9,-999.0000,9,-999.0000,9,-999.0000,9,-999.0000,9, 27.732, 32.359, 36.882, 41.303, 45.623
33RO20110828,   A10,     8,  1,      8,    008,3,20000101,0000,-29.7332,  11.9005, 3968,   2009.8,   2.9034,  34.8415,2,-999.0000,9,-999.0000,9,    220.9,2,    220.0,2,  -999.00,5,  -999.00,5,  -999.00,5,  -999.00,5, -999.000,9, -999.000,9, -999.000,9,   -999.0,9,   -999.0,9,   -999.0,9,  -999.00,   7.6605,2,    25.37, -999.000,9,   -999.0,9,   -999.0,9, -999.000,9,-999.0000,9,-999.0000,9,-999.0000,9,-999.0000,9, 27.781, 32.413, 36.940, 41.365, 45.690
33RO20110828,   A10,     8,  1,      7,    007,2,20000101,0000,-29.7332,  11.9005, 3968,   2299.4,   2.7164,  34.8544,2,  34.8583,6,  35.0227,6,    227.6,2,    226.6,2,    46.85,2,    24.01,2,     0.00,2,     1.76,2,    0.009,2,    0.005,2,    0.045,2,   -999.0,9,   2331.9,2,   -999.0,9,  -999.00,   7.6723,2,    25.36,    0.000,2,   -999.0,9,   -999.0,9, -999.000,9,-999.0000,9,-999.0000,9,-999.0000,9,-999.0000,9, 27.813, 32.450, 36.983, 41.413, 45.743
33RO20110828,   A10,     8,  1,      6,    006,2,20000101,0000,-29.7332,  11.9005, 3968,   2599.6,   2.5305,  34.8543,2,  34.8576,2,  35.0219,2,    229.9,2,    229.7,2,    50.55,2,    24.30,2,     0.00,2,     1.75,2,    0.008,2,    0.004,2,    0.035,2,   -999.0,9,   2336.7,2,   -999.0,9,  -999.00,   7.6725,2,    25.32,    0.000,2,   -999.0,9,   -999.0,9, -999.000,9,-999.0000,9,-999.0000,9,-999.0000,9,-999.0000,9, 27.831, 32.473, 37.012, 41.448, 45.783
33RO20110828,   A10,     8,  1,      5,    005,2,20000101,0000,-29.7332,  11.9005, 3968,   2897.1,   2.4162,  34.8564,2,  34.8583,2,  35.0226,2,    231.3,2,    231.1,2,    53.19,2,    23.72,2,     0.00,2,     1.75,2,    0.007,2,    0.004,2,    0.031,2,   2203.8,2,   2338.0,2,   -999.0,9,  -999.00,   7.6766,2,    25.39,    0.000,2,   -999.0,9,   -999.0,9, -999.000,9,-999.0000,9,-999.0000,9,-999.0000,9,-999.0000,9, 27.843, 32.490, 37.032, 41.472, 45.810
33RO20110828,   A10,     8,  1,      4,    004,2,20000101,0000,-29.7332,  11.9005, 3968,   3200.9,   2.3222,  34.8546,2,  34.8574,2,  35.0217,2,    230.8,2,    231.8,2,    56.21,2,    23.91,2,     0.01,2,     1.76,2,    0.006,2,    0.004,2,    0.029,2,   -999.0,9,   2342.7,2,   -999.0,9,  -999.00,   7.6799,2,    25.35,    0.000,2,   -999.0,9,   -999.0,9, -999.000,9,-999.0000,9,-999.0000,9,-999.0000,9,-999.0000,9, 27.852, 32.502, 37.048, 41.491, 45.833
33RO20110828,   A10,     8,  1,      3,    003,2,20000101,0000,-29.7332,  11.9005, 3968,   3494.8,   2.2150,  34.8476,2,  34.8526,2,  35.0169,2,    229.3,2,    230.8,2,    60.61,2,    24.50,2,     0.00,2,     1.79,2,    0.007,2,    0.006,2,    0.035,2,   -999.0,9,   2347.0,2,   -999.0,9,  -999.00,   7.6745,2,    25.31,    0.000,2,   -999.0,9,   -999.0,9, -999.000,9,-999.0000,9,-999.0000,9,-999.0000,9,-999.0000,9, 27.859, 32.513, 37.062, 41.509, 45.854
33RO20110828,   A10,     8,  1,      2,    002,2,20000101,0000,-29.7332,  11.9005, 3968,   3802.1,   1.9208,  34.8153,2,  34.8189,2,  34.9831,2,    224.7,2,    224.9,2,    73.59,2,    26.06,2,     0.00,2,     1.92,2,    0.015,2,    0.009,2,    0.054,2,   -999.0,9,   2353.0,2,   -999.0,9,  -999.00,   7.6595,2,    25.35,    0.000,2,   -999.0,9,   -999.0,9, -999.000,9,-999.0000,9,-999.0000,9,-999.0000,9,-999.0000,9, 27.857, 32.520, 37.078, 41.533, 45.887
33RO20110828,   A10,     8,  1,      1,    001,2,20000101,0000,-29.7332,  11.9005, 3968,   4016.5,   1.1876,  34.7434,2,  34.7470,2,  34.9108,2,    216.3,2,    214.9,2,   104.04,2,    29.87,2,     0.01,2,     2.20,2,    0.038,2,    0.022,2,    0.117,2,   2257.1,2,   2367.5,2,   -999.0,9,  -999.00,   7.6285,2,    25.32,    0.000,2,   -999.0,9,   -999.0,9, -999.000,9,-999.0000,9,-999.0000,9,-999.0000,9,-999.0000,9, 27.850, 32.535, 37.114, 41.590, 45.964