BOTTLE,20130715NOAA
EXPOCODE,SECT_ID,STNNBR,CASTNO,SAMPNO,BTLNBR,BTLNBR_FLAG_W,DATE,TIME,LATITUDE,LONGITUDE,DEPTH,CTDPRS,CTDTMP,CTDSAL,CTDSAL_FLAG_W,SALNTY,SALNTY_FLAG_W,SALTREF,SALTREF_FLAG_W,CTDOXY,CTDOXY_FLAG_W,OXYGEN,OXYGEN_FLAG_W,SILCAT,SILCAT_FLAG_W,NITRAT,NITRAT_FLAG_W,NITRIT,NITRIT_FLAG_W,PHSPHT,PHSPHT_FLAG_W,CFC-11,CFC-11_FLAG_W,CFC-12,CFC-12_FLAG_W,CCL4,CCL4_FLAG_W,TCARBN,TCARBN_FLAG_W,ALKALI,ALKALI_FLAG_W,PCO2,PCO2_FLAG_W,PCO2TMP,PH_TOT,PH_TOT_FLAG_W,PH_TMP,SF6,SF6_FLAG_W,DOC,DOC_FLAG_W,TDN,TDN_FLAG_W,TRITUM,TRITUM_FLAG_W,HELIUM,HELIUM_FLAG_W,OXY_18,OXY_18_FLAG_W,BLACKC,BLACKC_FLAG_W,PIGMENTS,PIGMENTS_FLAG_W,SIGMA-THETA,SIGMA-1,SIGMA-2,SIGMA-3,SIGMA-4
,,,,,,,,,,,METERS,DBARS,ITS-90,PSS-78,,PSS-78,,G/KG,,UMOL/KG,,UMOL/KG,,UMOL/KG,,UMOL/KG,,UMOL/KG,,UMOL/KG,,PMOL/KG,,PMOL/KG,,PMOL/KG,,UMOL/KG,,UMOL/KG,,UATM@T,,DEG_C,,,DEG_C,FMOL/KG,,UMOL/KG,,UMOL/KG,,TU,,NMOL/KG,,,,,,,,,,,,
33RO20110828,   A10,    71,  1,     24,    024,2,20000101,0000,-29.9983, -26.3510, 4824,      6.2,  17.3482,  35.8470,2,  35.8461,2,  36.0151,2,    240.6,2,    240.4,2,     1.07,2,     0.00,2,     0.01,2,     0.11,2,    2.372,2,    1.445,2,    3.288,3,   2081.9,6,   2349.8,2,   -999.0,9,  -999.00,   7.9463,2,    25.51,    1.459,2,   -999.0,9,   -999.0,9, -999.000,9,-999.0000,9,-999.0000,9,-999.0000,9,-999.0000,1, 26.080, 30.390, 34.604, 38.726, 42.759
33RO20110828,   A10,    71,  1,     23,    023,2,20000101,0000,-29.9983, -26.3510, 4824,     35.5,  17.2975,  35.8448,2,  35.8441,2,  36.0131,2,    240.2,2,    241.1,2,     1.07,2,     0.00,2,     0.01,2,     0.12,2,    2.399,2,    1.448,2,    2.886,3,   2083.5,2,   2350.0,2,   -999.0,9,  -999.00,   7.9473,2,    25.53,    1.481,2,   -999.0,9,   -999.0,9, -999.000,9,-999.0000,9,-999.0000,9,-999.0000,9,-999.0000,9, 26.092, 30.402, 34.618, 38.741, 42.775
33RO20110828,   A10,    71,  1,     22,    022,2,20000101,0000,-29.9983, -26.3510, 4824,     74.5,  16.8096,  35.8090,2,  35.8092,2,  35.9781,2,    242.8,2,    243.9,2,     1.07,2,     0.00,2,     0.01,2,     0.12,2,    2.443,2,    1.474,2,    3.008,3,   2083.8,2,   2347.2,2,   -999.0,9,  -999.00,   7.9119,2,    25.21,    1.475,2,   -999.0,9,   -999.0,9, -999.000,9,-999.0000,9,-999.0000,9,-999.0000,9,-999.0000,9, 26.184, 30.503, 34.726, 38.858, 42.899
33RO20110828,   A10,    71,  1,     21,    021,2,20000101,0000,-29.9983, -26.3510, 4824,    125.0,  16.3800,  35.7505,2,  35.7566,2,  35.9252,2,    235.9,2,    232.9,2,     1.27,2,     1.37,2,     0.12,2,     0.19,2,    2.469,2,    1.486,2,    2.792,3,   2091.5,2,   2343.8,2,   -999.0,9,  -999.00,   7.8900,3,    23.98,    1.454,2,   -999.0,9,   -999.0,9, -999.000,9,-999.0000,9,-999.0000,9,-999.0000,9,-999.0000,1, 26.246, 30.573, 34.804, 38.943, 42.992
33RO20110828,   A10,    71,  1,     20,    020,2,20000101,0000,-29.9983, -26.3510, 4824,    176.2,  14.8209,  35.4731,2,  35.6970,3,  35.8653,3,    215.8,2,    216.6,2,     2.15,2,     5.46,2,     0.02,2,     0.42,2,    2.704,2,    1.591,2,    1.336,3,   2111.1,2,   2327.2,2,   -999.0,9,  -999.00,   7.8490,3,    21.83,    1.368,2,   -999.0,9,   -999.0,9, -999.000,9,-999.0000,9,-999.0000,9,-999.0000,9,-999.0000,1, 26.382, 30.739, 34.999, 39.165, 43.241
33RO20110828,   A10,    71,  1,     19,    019,2,20000101,0000,-29.9983, -26.3510, 4824,    250.7,  14.0261,  35.3975,2,  35.2642,3,  35.4305,3,    216.4,2,    216.9,2,     2.54,2,     7.32,2,     0.02,2,     0.51,2,    2.816,2,    1.638,2,    1.215,3,   2118.3,2,   2324.4,2,   -999.0,9,  -999.00,   7.8303,3,    23.47,    1.312,2,   -999.0,9,   -999.0,9, -999.000,9,-999.0000,9,-999.0000,9,-999.0000,9,-999.0000,9, 26.497, 30.869, 35.144, 39.325, 43.415
33RO20110828,   A10,    71,  1,     18,    018,2,20000101,0000,-29.9983, -26.3510, 4824,    339.8,  12.7931,  35.2154,2,  35.2169,2,  35.3830,2,    216.6,2,    217.9,2,     3.22,2,     9.76,2,     0.02,2,     0.64,2,    2.953,2,    1.693,2,    1.189,3,   2125.1,2,   2314.7,2,   -999.0,9,  -999.00,   7.8028,2,    24.86,    1.314,2,   -999.0,9,   -999.0,9, -999.000,9,-999.0000,9,-999.0000,9,-999.0000,9,-999.0000,9, 26.612, 31.009, 35.308, 39.513, 43.626
33RO20110828,   A10,    71,  1,     17,    017,2,20000101,0000,-29.9983, -26.3510, 4824,    396.5,  11.8860,  35.0699,2,  35.0702,2,  35.2356,2,    213.5,2,    213.6,2,     4.39,2,    12.39,2,     0.01,2,     0.79,2,    3.063,2,    1.718,2,    1.376,3,   2131.7,2,   2307.8,2,   -999.0,9,  -999.00,   7.7506,2,    25.19,    1.222,2,   -999.0,9,   -999.0,9, -999.000,9,-999.0000,9,-999.0000,9,-999.0000,9,-999.0000,9, 26.675, 31.092, 35.410, 39.632, 43.762
33RO20110828,   A10,    71,  1,     16,    016,2,20000101,0000,-29.9983, -26.3510, 4824,    524.4,   9.5029,  34.7424,2,  34.7476,3,  34.9115,3,    208.0,2,    208.8,2,     7.32,2,    18.35,2,     0.01,2,     1.12,2,    3.203,2,    1.720,2,    1.986,3,   2147.8,2,   2293.5,2,   -999.0,9,  -999.00,   7.7149,2,    25.35,    1.004,2,   -999.0,9,   -999.0,9, -999.000,9,-999.0000,9,-999.0000,9,-999.0000,9,-999.0000,9, 26.844, 31.313, 35.682, 39.954, 44.132
33RO20110828,   A10,    71,  1,     15,    015,2,20000101,0000,-29.9983, -26.3510, 4824,    649.0,   6.8674,  34.4466,2,  34.4479,3,  34.6104,3,    215.9,2,    213.8,2,    12.98,2,    24.40,2,     0.01,2,     1.49,2,    3.279,2,    1.702,2,    3.222,3,   2164.7,2,   2282.2,2,   -999.0,9,  -999.00,   7.6492,2,    25.25,    0.861,2,   -999.0,9,   -999.0,9, -999.000,9,-999.0000,9,-999.0000,9,-999.0000,9,-999.0000,9, 27.009, 31.541, 35.971, 40.301, 44.536
33RO20110828,   A10,    71,  1,     14,    014,2,20000101,0000,-29.9983, -26.3510, 4824,    775.5,   5.1252,  34.3106,2,  34.3118,2,  34.4736,2,    224.0,2,    225.3,2,    19.13,2,    27.53,2,     0.01,2,     1.71,2,    3.127,2,    1.585,2,    3.952,3,   2174.2,2,   2281.9,2,   -999.0,9,  -999.00,   7.6254,2,    25.24,    0.744,2,   -999.0,9,   -999.0,9, -999.000,9,-999.0000,9,-999.0000,9,-999.0000,9,-999.0000,9, 27.123, 31.698, 36.170, 40.543, 44.816
33RO20110828,   A10,    71,  1,     13,    013,2,20000101,0000,-29.9983, -26.3510, 4824,    900.2,   4.1016,  34.2760,2,  34.2763,2,  34.4380,2,    224.4,2,    225.8,2,    26.55,2,    29.48,2,     0.01,2,     1.87,2,    2.724,2,    1.349,2,    3.933,3,   2184.1,2,   2286.8,2,   -999.0,9,  -999.00,   7.6075,2,    25.34,    0.598,2,   -999.0,9,   -999.0,9, -999.000,9,-999.0000,9,-999.0000,9,-999.0000,9,-999.0000,9, 27.207, 31.809, 36.307, 40.705, 45.003
33RO20110828,   A10,    71,  1,     12,    012,2,20000101,0000,-29.9983, -26.3510, 4824,   1048.2,   3.5582,  34.3467,2,  34.3474,2,  34.5093,2,    206.6,2,    205.5,2,    38.85,2,    31.43,2,     0.01,2,     2.07,2,    1.701,2,    0.834,2,    2.747,3,   2205.9,2,   2297.5,2,   -999.0,9,  -999.00,   7.5754,2,    25.35,    0.291,2,   -999.0,9,   -999.0,9, -999.000,9,-999.0000,9,-999.0000,9,-999.0000,9,-999.0000,9, 27.319, 31.935, 36.447, 40.857, 45.168
33RO20110828,   A10,    71,  1,     11,    011,2,20000101,0000,-29.9983, -26.3510, 4824,   1218.5,   3.2065,  34.4569,2,  34.4586,2,  34.6211,2,    189.7,2,    190.1,2,    50.47,2,    32.31,2,     0.01,2,     2.20,2,    0.839,2,    0.409,2,    1.604,3,   2223.5,2,   2310.6,2,   -999.0,9,  -999.00,   7.5463,2,    25.36,    0.115,2,   -999.0,9,   -999.0,9, -999.000,9,-999.0000,9,-999.0000,9,-999.0000,9,-999.0000,9, 27.442, 32.066, 36.587, 41.006, 45.325
33RO20110828,   A10,    71,  1,     10,    010,2,20000101,0000,-29.9983, -26.3510, 4824,   1398.9,   2.9552,  34.5687,2,  34.5677,2,  34.7307,2,    187.8,2,    188.3,2,    55.73,2,    31.53,2,     0.01,2,     2.19,2,    0.395,2,    0.190,2,    0.934,3,   2232.0,6,   2317.0,2,   -999.0,9,  -999.00,   7.5655,2,    25.37,    0.046,2,   -999.0,9,   -999.0,9, -999.000,9,-999.0000,9,-999.0000,9,-999.0000,9,-999.0000,9, 27.553, 32.184, 36.711, 41.135, 45.460
33RO20110828,   A10,    71,  1,      9,    009,2,20000101,0000,-29.9983, -26.3510, 4824,   1649.6,   2.8348,  34.6964,2,  34.6957,2,  34.8593,2,    197.8,2,    198.4,2,    55.63,2,    29.08,2,     0.01,2,     2.05,2,    0.128,2,    0.062,2,    0.401,3,   2226.4,2,   2323.6,2,   -999.0,9,  -999.00,   7.5898,2,    25.35,    0.000,2,   -999.0,9,   -999.0,9, -999.000,9,-999.0000,9,-999.0000,9,-999.0000,9,-999.0000,9, 27.668, 32.301, 36.831, 41.258, 45.585
33RO20110828,   A10,    71,  1,      8,    008,2,20000101,0000,-29.9983, -26.3510, 4824,   1948.2,   2.7189,  34.7938,2,  34.7952,2,  34.9593,2,    216.9,2,    217.2,2,    51.43,2,    26.06,2,     0.01,2,     1.84,2,    0.036,2,    0.019,2,    0.197,3,   2213.0,2,   2321.9,2,   -999.0,9,  -999.00,   7.6421,2,    25.39,    0.000,2,   -999.0,9,   -999.0,9, -999.000,9,-999.0000,9,-999.0000,9,-999.0000,9,-999.0000,9, 27.760, 32.396, 36.929, 41.359, 45.688
33RO20110828,   A10,    71,  1,      7,    007,2,20000101,0000,-29.9983, -26.3510, 4824,   2198.9,   2.7071,  34.8354,2,  34.8363,2,  35.0006,2,    227.5,2,    227.5,2,    47.33,2,    24.69,2,     0.01,2,     1.71,2,    0.015,2,    0.009,2,    0.145,3,   2203.8,2,   2323.8,2,   -999.0,9,  -999.00,   7.6552,2,    25.31,    0.032,2,   -999.0,9,   -999.0,9, -999.000,9,-999.0000,9,-999.0000,9,-999.0000,9,-999.0000,9, 27.795, 32.433, 36.966, 41.396, 45.727
33RO20110828,   A10,    71,  1,      6,    006,2,20000101,0000,-29.9983, -26.3510, 4824,   2600.3,   2.7352,  34.8873,2,  34.8895,6,  35.0541,6,    242.0,2,    242.6,2,    39.62,2,    22.35,2,     0.01,2,     1.53,2,    0.006,2,    0.006,2,    0.114,3,   2189.1,2,   -999.0,5,   -999.0,9,  -999.00,   7.6698,2,    25.28,    0.030,2,   -999.0,9,   -999.0,9, -999.000,9,-999.0000,9,-999.0000,9,-999.0000,9,-999.0000,9, 27.837, 32.474, 37.007, 41.438, 45.768
33RO20110828,   A10,    71,  1,      5,    005,2,20000101,0000,-29.9983, -26.3510, 4824,   2999.9,   2.6387,  34.8980,2,  34.9000,2,  35.0646,2,    248.1,2,    248.1,2,    39.42,2,    21.76,2,     0.01,2,     1.49,2,    0.005,2,    0.004,2,    0.087,3,   2185.3,2,   2326.2,2,   -999.0,9,  -999.00,   7.6921,2,    25.33,    0.000,2,   -999.0,9,   -999.0,9, -999.000,9,-999.0000,9,-999.0000,9,-999.0000,9,-999.0000,9, 27.859, 32.500, 37.036, 41.470, 45.803
33RO20110828,   A10,    71,  1,      4,    004,2,20000101,0000,-29.9983, -26.3510, 4824,   3399.3,   2.2946,  34.8724,2,  34.8735,2,  35.0379,2,    245.9,2,    246.1,2,    50.16,2,    22.93,2,     0.01,2,     1.62,2,    0.007,2,    0.004,2,    0.086,3,   2195.4,2,   2329.3,2,   -999.0,9,  -999.00,   7.6822,2,    25.27,    0.040,2,   -999.0,9,   -999.0,9, -999.000,9,-999.0000,9,-999.0000,9,-999.0000,9,-999.0000,9, 27.869, 32.520, 37.067, 41.511, 45.854
33RO20110828,   A10,    71,  1,      3,    003,2,20000101,0000,-29.9983, -26.3510, 4824,   3848.5,   1.5930,  34.8012,2,  34.8025,2,  34.9666,2,    234.8,2,    234.9,2,    77.58,2,    26.35,2,     0.01,2,     2.03,2,    0.027,2,    0.014,2,    0.147,3,   2222.8,2,   2344.1,2,   -999.0,9,  -999.00,   7.6467,2,    25.35,    0.136,2,   -999.0,9,   -999.0,9, -999.000,9,-999.0000,9,-999.0000,9,-999.0000,9,-999.0000,9, 27.867, 32.539, 37.107, 41.571, 45.933
33RO20110828,   A10,    71,  1,      2,    002,2,20000101,0000,-29.9983, -26.3510, 4824,   4349.6,   1.2397,  34.7578,2,  34.7594,2,  34.9233,2,    226.7,2,    226.8,2,    95.15,2,    28.89,2,     0.01,2,     2.29,2,    0.071,2,    0.034,2,    0.256,3,   2240.2,2,   2351.9,2,   -999.0,9,  -999.00,   7.6224,2,    25.29,    0.097,2,   -999.0,9,   -999.0,9, -999.000,9,-999.0000,9,-999.0000,9,-999.0000,9,-999.0000,9, 27.859, 32.544, 37.123, 41.598, 45.971
33RO20110828,   A10,    71,  1,      1,    001,2,20000101,0000,-29.9983, -26.3510, 4824,   4851.5,   1.2171,  34.7481,2,  34.7506,2,  34.9144,2,    225.3,2,    225.5,2,    98.67,2,    29.18,2,     0.01,2,     2.35,2,    0.093,2,    0.044,2,    0.320,3,   2245.9,6,   2353.3,2,   -999.0,9,  -999.00,   7.6303,2,    25.33,    0.089,2,   -999.0,9,   -999.0,9, -999.000,9,-999.0000,9,-999.0000,9,-999.0000,9,-999.0000,9, 27.857, 32.544, 37.125, 41.603, 45.978