BOTTLE,20130715NOAA
EXPOCODE,SECT_ID,STNNBR,CASTNO,SAMPNO,BTLNBR,BTLNBR_FLAG_W,DATE,TIME,LATITUDE,LONGITUDE,DEPTH,CTDPRS,CTDTMP,CTDSAL,CTDSAL_FLAG_W,SALNTY,SALNTY_FLAG_W,SALTREF,SALTREF_FLAG_W,CTDOXY,CTDOXY_FLAG_W,OXYGEN,OXYGEN_FLAG_W,SILCAT,SILCAT_FLAG_W,NITRAT,NITRAT_FLAG_W,NITRIT,NITRIT_FLAG_W,PHSPHT,PHSPHT_FLAG_W,CFC-11,CFC-11_FLAG_W,CFC-12,CFC-12_FLAG_W,CCL4,CCL4_FLAG_W,TCARBN,TCARBN_FLAG_W,ALKALI,ALKALI_FLAG_W,PCO2,PCO2_FLAG_W,PCO2TMP,PH_TOT,PH_TOT_FLAG_W,PH_TMP,SF6,SF6_FLAG_W,DOC,DOC_FLAG_W,TDN,TDN_FLAG_W,TRITUM,TRITUM_FLAG_W,HELIUM,HELIUM_FLAG_W,OXY_18,OXY_18_FLAG_W,BLACKC,BLACKC_FLAG_W,PIGMENTS,PIGMENTS_FLAG_W,SIGMA-THETA,SIGMA-1,SIGMA-2,SIGMA-3,SIGMA-4
,,,,,,,,,,,METERS,DBARS,ITS-90,PSS-78,,PSS-78,,G/KG,,UMOL/KG,,UMOL/KG,,UMOL/KG,,UMOL/KG,,UMOL/KG,,UMOL/KG,,PMOL/KG,,PMOL/KG,,PMOL/KG,,UMOL/KG,,UMOL/KG,,UATM@T,,DEG_C,,,DEG_C,FMOL/KG,,UMOL/KG,,UMOL/KG,,TU,,NMOL/KG,,,,,,,,,,,,
33RO20110828,   A10,    45,  1,     24,    024,2,20000101,0000,-30.0020,  -7.3805, 3916,      9.3,  18.3546,  35.9356,2,  35.9393,2,  36.1088,2,    234.9,2,    237.8,2,     1.27,2,     0.00,2,     0.00,2,     0.15,2,    2.331,2,    1.404,2,    4.114,3,   2083.8,6,   2360.4,2,   -999.0,9,  -999.00,   7.9061,2,    25.65,    1.488,2,   -999.0,1,   -999.0,1, -999.000,9,-999.0000,9,-999.0000,9,-999.0000,9,-999.0000,1, 25.904, 30.196, 34.393, 38.499, 42.517
33RO20110828,   A10,    45,  1,     23,    023,2,20000101,0000,-30.0020,  -7.3805, 3916,     30.4,  17.8905,  35.8788,2,  35.8873,2,  36.0566,2,    241.1,2,    241.3,2,     1.27,2,     0.00,2,     0.01,2,     0.16,2,    2.355,2,    1.425,2,    4.070,3,   2082.2,2,   2352.4,2,   -999.0,9,  -999.00,   7.9183,2,    25.68,    1.470,2,   -999.0,1,   -999.0,1, -999.000,9,-999.0000,9,-999.0000,9,-999.0000,9,-999.0000,9, 25.980, 30.280, 34.486, 38.599, 42.624
33RO20110828,   A10,    45,  1,     22,    022,2,20000101,0000,-30.0020,  -7.3805, 3916,     60.6,  17.2523,  35.8272,2,  35.8275,2,  35.9964,2,    241.6,2,    241.8,2,     1.37,2,     0.00,2,     0.00,2,     0.17,2,    2.369,2,    1.438,2,    3.289,3,   2079.6,2,   2350.9,2,   -999.0,9,  -999.00,   7.9261,2,    25.60,    1.436,2,   -999.0,1,   -999.0,1, -999.000,9,-999.0000,9,-999.0000,9,-999.0000,9,-999.0000,9, 26.091, 30.403, 34.619, 38.743, 42.778
33RO20110828,   A10,    45,  1,     21,    021,2,20000101,0000,-30.0020,  -7.3805, 3916,     89.7,  17.0548,  35.8225,2,  35.8289,2,  35.9979,2,    240.4,2,    235.8,2,     1.66,2,     0.39,2,     0.41,2,     0.22,2,    2.384,2,    1.441,2,    2.632,3,   2088.9,2,   2351.5,2,   -999.0,9,  -999.00,   7.9081,2,    25.69,    1.433,2,   -999.0,1,   -999.0,1, -999.000,9,-999.0000,9,-999.0000,9,-999.0000,9,-999.0000,1, 26.141, 30.456, 34.675, 38.803, 42.840
33RO20110828,   A10,    45,  1,     20,    020,2,20000101,0000,-30.0020,  -7.3805, 3916,    129.0,  16.9938,  35.8291,2,-999.0000,5,-999.0000,5,    232.6,2,    233.0,2,     1.56,2,     0.59,2,     0.45,2,     0.23,2,    2.395,2,    1.447,2,    2.523,3,   2090.1,2,   2351.4,2,   -999.0,9,  -999.00,   7.9088,2,    25.69,    1.456,2,   -999.0,1,   -999.0,1, -999.000,9,-999.0000,9,-999.0000,9,-999.0000,9,-999.0000,1, 26.157, 30.473, 34.694, 38.822, 42.861
33RO20110828,   A10,    45,  1,     19,    019,2,20000101,0000,-30.0020,  -7.3805, 3916,    178.2,  16.9455,  35.8440,2,  35.8442,3,  36.0133,3,    234.0,2,    233.0,2,     1.66,2,     0.68,2,     0.42,2,     0.24,2,    2.404,2,    1.444,2,    2.540,3,   2091.9,2,   2349.2,2,   -999.0,9,  -999.00,   7.9152,2,    25.65,    1.492,2,   -999.0,1,   -999.0,1, -999.000,9,-999.0000,9,-999.0000,9,-999.0000,9,-999.0000,9, 26.182, 30.499, 34.720, 38.850, 42.889
33RO20110828,   A10,    45,  1,     18,    018,2,20000101,0000,-30.0020,  -7.3805, 3916,    244.6,  15.0266,  35.4299,2,  35.4354,3,  35.6025,3,    221.3,2,    222.7,2,     2.73,2,     4.78,2,     0.01,2,     0.48,2,    2.652,2,    1.580,2,    1.152,3,   2100.7,2,   2325.0,2,   -999.0,9,  -999.00,   7.8676,2,    25.70,    1.459,2,   -999.0,1,   -999.0,1, -999.000,9,-999.0000,9,-999.0000,9,-999.0000,9,-999.0000,9, 26.306, 30.659, 34.916, 39.080, 43.153
33RO20110828,   A10,    45,  1,     17,    017,2,20000101,0000,-30.0020,  -7.3805, 3916,    331.4,  13.2069,  35.1773,2,  35.1788,3,  35.3447,3,    218.1,2,    217.2,2,     3.51,2,     8.88,2,     0.01,2,     0.74,2,    2.921,2,    1.689,2,    1.410,3,   2117.9,2,   2309.9,2,   -999.0,9,  -999.00,   7.8210,2,    25.69,    1.312,2,   -999.0,1,   -999.0,1, -999.000,9,-999.0000,9,-999.0000,9,-999.0000,9,-999.0000,9, 26.498, 30.887, 35.179, 39.377, 43.482
33RO20110828,   A10,    45,  1,     16,    016,2,20000101,0000,-30.0020,  -7.3805, 3916,    465.0,  11.0351,  34.9235,2,  34.9253,3,  35.0900,3,    211.8,2,    211.9,2,     5.76,2,    14.74,2,     0.01,2,     1.12,2,    3.140,2,    1.741,2,    1.715,3,   2136.1,2,   2300.9,2,   -999.0,9,  -999.00,   7.7505,2,    25.68,    1.206,2,   -999.0,1,   -999.0,1, -999.000,9,-999.0000,9,-999.0000,9,-999.0000,9,-999.0000,9, 26.720, 31.155, 35.491, 39.731, 43.878
33RO20110828,   A10,    45,  1,     15,    015,2,20000101,0000,-30.0020,  -7.3805, 3916,    616.7,   8.1857,  34.5864,2,  34.5917,3,  34.7548,3,    203.5,2,    204.6,2,    11.81,2,    22.07,2,     0.01,2,     1.63,2,    3.098,2,    1.645,2,    2.593,3,   2162.9,2,   2288.8,2,   -999.0,9,  -999.00,   7.6723,2,    25.67,    0.970,2,   -999.0,1,   -999.0,1, -999.000,9,-999.0000,9,-999.0000,9,-999.0000,9,-999.0000,9, 26.931, 31.430, 35.829, 40.130, 44.336
33RO20110828,   A10,    45,  1,     14,    014,2,20000101,0000,-30.0020,  -7.3805, 3916,    816.4,   5.2518,  34.3326,2,  34.3334,3,  34.4953,3,    215.9,2,    216.5,2,    20.31,2,    28.13,2,     0.00,2,     2.06,2,    2.993,2,    1.532,2,    3.753,3,   2179.1,2,   2269.8,2,   -999.0,9,  -999.00,   7.6169,3,    25.68,    0.794,2,   -999.0,1,   -999.0,1, -999.000,9,-999.0000,9,-999.0000,9,-999.0000,9,-999.0000,9, 27.125, 31.697, 36.166, 40.535, 44.806
33RO20110828,   A10,    45,  1,     13,    013,2,20000101,0000,-30.0020,  -7.3805, 3916,    932.7,   4.3579,  34.3315,2,  34.3318,3,  34.4937,3,    207.3,2,    208.3,2,    30.18,2,    30.57,2,     0.00,2,     2.24,2,    2.330,2,    1.168,2,    3.413,3,   2196.3,2,   2294.9,2,   -999.0,9,  -999.00,   7.5898,2,    25.66,    0.495,2,   -999.0,1,   -999.0,1, -999.000,9,-999.0000,9,-999.0000,9,-999.0000,9,-999.0000,9, 27.224, 31.819, 36.311, 40.702, 44.994
33RO20110828,   A10,    45,  1,     12,    012,2,20000101,0000,-30.0020,  -7.3805, 3916,   1004.8,   4.0459,  34.3535,2,  34.3535,3,  34.5155,3,    201.2,2,    200.1,2,    35.55,2,    31.45,2,     0.00,2,     2.31,2,    1.928,2,    0.957,2,    2.914,3,   2204.2,2,   2298.0,2,   -999.0,9,  -999.00,   7.5685,2,    25.62,    0.380,2,   -999.0,1,   -999.0,1, -999.000,9,-999.0000,9,-999.0000,9,-999.0000,9,-999.0000,9, 27.275, 31.878, 36.378, 40.776, 45.075
33RO20110828,   A10,    45,  1,     11,    011,2,20000101,0000,-30.0020,  -7.3805, 3916,   1160.1,   3.4265,  34.4342,2,  34.4361,3,  34.5985,3,    189.0,2,    187.8,2,    48.14,2,    33.01,2,     0.01,2,     2.42,2,    1.052,2,    0.513,2,    1.869,3,   2224.6,2,   2312.6,2,   -999.0,9,  -999.00,   7.5750,2,    25.64,    0.181,2,   -999.0,1,   -999.0,1, -999.000,9,-999.0000,9,-999.0000,9,-999.0000,9,-999.0000,9, 27.401, 32.020, 36.535, 40.949, 45.262
33RO20110828,   A10,    45,  1,     10,    010,2,20000101,0000,-30.0020,  -7.3805, 3916,   1359.2,   3.1429,  34.5563,2,  34.5566,3,  34.7195,3,    183.9,2,    183.1,2,  -999.00,5,  -999.00,5,  -999.00,5,  -999.00,5,    0.430,2,    0.205,2,    0.992,3,   2231.7,6,   2321.8,2,   -999.0,9,  -999.00,   7.5628,5,    25.62,    0.046,2,   -999.0,1,   -999.0,1, -999.000,9,-999.0000,9,-999.0000,9,-999.0000,9,-999.0000,9, 27.527, 32.153, 36.674, 41.094, 45.414
33RO20110828,   A10,    45,  1,      9,    009,2,20000101,0000,-30.0020,  -7.3805, 3916,   1559.4,   3.0216,  34.6781,2,  34.6791,3,  34.8426,3,    191.1,2,    192.4,2,    54.09,2,    32.03,2,     0.00,2,     2.37,2,    0.162,2,    0.075,2,    0.623,3,   2225.0,2,   2306.8,2,   -999.0,9,  -999.00,   7.5941,2,    25.64,    0.000,2,   -999.0,1,   -999.0,1, -999.000,9,-999.0000,9,-999.0000,9,-999.0000,9,-999.0000,9, 27.637, 32.265, 36.790, 41.212, 45.534
33RO20110828,   A10,    45,  1,      8,    008,2,20000101,0000,-30.0020,  -7.3805, 3916,   1750.8,   2.8976,  34.7376,2,  34.7381,3,  34.9019,3,    201.0,2,    200.2,2,    53.41,2,    29.97,2,     0.01,2,     2.20,2,    0.088,2,    0.042,2,    0.336,3,   2220.9,2,   2322.8,2,   -999.0,9,  -999.00,   7.6120,2,    25.64,    0.000,2,   -999.0,1,   -999.0,1, -999.000,9,-999.0000,9,-999.0000,9,-999.0000,9,-999.0000,9, 27.697, 32.328, 36.856, 41.282, 45.607
33RO20110828,   A10,    45,  1,      7,    007,2,20000101,0000,-30.0020,  -7.3805, 3916,   2052.0,   2.7362,  34.8039,2,  34.8053,3,  34.9694,3,    215.1,2,    215.5,2,    53.31,2,    28.41,2,     0.01,2,     2.08,2,    0.028,2,    0.014,2,    0.179,3,   2210.7,2,   2325.4,2,   -999.0,9,  -999.00,   7.6388,2,    25.58,    0.000,2,   -999.0,1,   -999.0,1, -999.000,9,-999.0000,9,-999.0000,9,-999.0000,9,-999.0000,9, 27.766, 32.402, 36.934, 41.364, 45.694
33RO20110828,   A10,    45,  1,      6,    006,2,20000101,0000,-30.0020,  -7.3805, 3916,   2351.4,   2.5598,  34.8325,2,  34.8333,3,  34.9975,3,    224.4,2,    224.6,2,    51.64,2,    26.36,2,     0.01,2,     1.91,2,    0.012,2,    0.006,2,    0.126,3,   2207.1,2,   2331.4,2,   -999.0,9,  -999.00,   7.6557,2,    25.65,    0.000,2,   -999.0,1,   -999.0,1, -999.000,9,-999.0000,9,-999.0000,9,-999.0000,9,-999.0000,9, 27.806, 32.448, 36.985, 41.420, 45.754
33RO20110828,   A10,    45,  1,      5,    005,2,20000101,0000,-30.0020,  -7.3805, 3916,   2649.8,   2.4576,  34.8511,2,  34.8519,6,  35.0162,6,    231.5,2,    231.6,2,    51.64,2,    24.21,2,     0.00,2,     1.76,2,    0.006,2,    0.003,2,    0.090,3,   2203.1,2,   2333.7,2,   -999.0,9,  -999.00,   7.6674,2,    25.59,    0.000,2,   -999.0,1,   -999.0,1, -999.000,9,-999.0000,9,-999.0000,9,-999.0000,9,-999.0000,9, 27.832, 32.477, 37.017, 41.455, 45.793
33RO20110828,   A10,    45,  1,      4,    004,3,20000101,0000,-30.0020,  -7.3805, 3916,   2900.1,   2.4079,  34.8615,2,  34.8638,2,  35.0282,2,   -999.0,9,   -999.0,9,  -999.00,9,  -999.00,9,  -999.00,9,  -999.00,9, -999.000,9, -999.000,9, -999.000,9,   -999.0,9,   -999.0,9,   -999.0,9,  -999.00,-999.0000,9,  -999.00, -999.000,9,   -999.0,9,   -999.0,9, -999.000,9,-999.0000,9,-999.0000,9,-999.0000,9,-999.0000,9, 27.848, 32.495, 37.037, 41.477, 45.816
33RO20110828,   A10,    45,  1,      3,    003,2,20000101,0000,-30.0020,  -7.3805, 3916,   3252.2,   2.3711,  34.8712,2,  34.8723,2,  35.0367,2,    238.1,2,    238.4,2,    51.45,2,    23.43,2,     0.01,2,     1.69,2,    0.005,2,    0.003,2,    0.072,3,   2203.9,2,   2340.6,2,   -999.0,9,  -999.00,   7.6785,2,    25.65,    0.043,2,   -999.0,1,   -999.0,1, -999.000,9,-999.0000,9,-999.0000,9,-999.0000,9,-999.0000,9, 27.861, 32.509, 37.054, 41.495, 45.836
33RO20110828,   A10,    45,  1,      2,    002,2,20000101,0000,-30.0020,  -7.3805, 3916,   3550.5,   2.3697,  34.8758,2,  34.8768,2,  35.0413,2,    237.5,2,    236.6,2,    51.74,2,    23.33,2,     0.00,2,     1.68,2,    0.003,2,    0.002,2,    0.081,3,   2206.4,2,   2341.6,2,   -999.0,9,  -999.00,   7.6844,2,    25.64,    0.000,2,   -999.0,1,   -999.0,1, -999.000,9,-999.0000,9,-999.0000,9,-999.0000,9,-999.0000,9, 27.867, 32.517, 37.062, 41.504, 45.846
33RO20110828,   A10,    45,  1,      1,    001,2,20000101,0000,-30.0020,  -7.3805, 3916,   3833.2,   2.3777,  34.8786,2,  34.8814,2,  35.0459,2,    234.5,2,    234.9,2,    52.42,2,    23.33,2,     0.00,2,     1.68,2,    0.006,2,    0.004,2,    0.070,3,   2210.4,6,   2348.6,2,   -999.0,9,  -999.00,   7.6946,2,    25.58,    0.049,3,   -999.0,1,   -999.0,1, -999.000,9,-999.0000,9,-999.0000,9,-999.0000,9,-999.0000,9, 27.873, 32.523, 37.069, 41.512, 45.854