BOTTLE,20130715NOAA
EXPOCODE,SECT_ID,STNNBR,CASTNO,SAMPNO,BTLNBR,BTLNBR_FLAG_W,DATE,TIME,LATITUDE,LONGITUDE,DEPTH,CTDPRS,CTDTMP,CTDSAL,CTDSAL_FLAG_W,SALNTY,SALNTY_FLAG_W,SALTREF,SALTREF_FLAG_W,CTDOXY,CTDOXY_FLAG_W,OXYGEN,OXYGEN_FLAG_W,SILCAT,SILCAT_FLAG_W,NITRAT,NITRAT_FLAG_W,NITRIT,NITRIT_FLAG_W,PHSPHT,PHSPHT_FLAG_W,CFC-11,CFC-11_FLAG_W,CFC-12,CFC-12_FLAG_W,CCL4,CCL4_FLAG_W,TCARBN,TCARBN_FLAG_W,ALKALI,ALKALI_FLAG_W,PCO2,PCO2_FLAG_W,PCO2TMP,PH_TOT,PH_TOT_FLAG_W,PH_TMP,SF6,SF6_FLAG_W,DOC,DOC_FLAG_W,TDN,TDN_FLAG_W,TRITUM,TRITUM_FLAG_W,HELIUM,HELIUM_FLAG_W,OXY_18,OXY_18_FLAG_W,BLACKC,BLACKC_FLAG_W,PIGMENTS,PIGMENTS_FLAG_W,SIGMA-THETA,SIGMA-1,SIGMA-2,SIGMA-3,SIGMA-4
,,,,,,,,,,,METERS,DBARS,ITS-90,PSS-78,,PSS-78,,G/KG,,UMOL/KG,,UMOL/KG,,UMOL/KG,,UMOL/KG,,UMOL/KG,,UMOL/KG,,PMOL/KG,,PMOL/KG,,PMOL/KG,,UMOL/KG,,UMOL/KG,,UATM@T,,DEG_C,,,DEG_C,FMOL/KG,,UMOL/KG,,UMOL/KG,,TU,,NMOL/KG,,,,,,,,,,,,
33RO20110828,   A10,    30,  1,     24,    024,2,20000101,0000,-29.7332,   1.1157, 3695,      4.8,  17.9038,  35.8272,2,  35.8277,2,  35.9966,2,    242.1,2,    241.1,2,     1.46,2,     0.00,2,     0.00,2,     0.17,2,    2.388,2,    1.447,2,    3.384,2,   2080.1,6,   2355.5,2,   -999.0,9,  -999.00, 999.0000,5,   999.00,    1.485,2,   -999.0,9,   -999.0,9, -999.000,9,-999.0000,9,-999.0000,9,-999.0000,9,-999.0000,1, 25.930, 30.230, 34.436, 38.550, 42.574
33RO20110828,   A10,    30,  1,     23,    023,2,20000101,0000,-29.7332,   1.1157, 3695,     34.5,  17.2902,  35.7724,2,  35.7724,2,  35.9411,2,    243.1,2,    246.0,2,     1.56,2,     0.00,2,     0.00,2,     0.16,2,    2.445,2,    1.468,2,    3.587,2,   2077.3,2,   2349.5,2,   -999.0,9,  -999.00, 999.0000,5,   999.00,    1.485,2,   -999.0,9,   -999.0,9, -999.000,9,-999.0000,9,-999.0000,9,-999.0000,9,-999.0000,9, 26.039, 30.350, 34.566, 38.689, 42.724
33RO20110828,   A10,    30,  1,     22,    022,2,20000101,0000,-29.7332,   1.1157, 3695,     89.0,  16.5059,  35.6993,2,  35.6997,2,  35.8681,2,    239.1,2,    238.8,2,     1.95,2,     0.78,2,     0.35,2,     0.24,2,    2.458,2,    1.484,2,    2.763,2,   2082.0,2,   2343.2,2,   -999.0,9,  -999.00, 999.0000,5,   999.00,    1.496,2,   -999.0,9,   -999.0,9, -999.000,9,-999.0000,9,-999.0000,9,-999.0000,9,-999.0000,1, 26.172, 30.497, 34.726, 38.863, 42.910
33RO20110828,   A10,    30,  1,     21,    021,2,20000101,0000,-29.7332,   1.1157, 3695,    139.6,  16.2885,  35.6679,2,  35.6687,2,  35.8369,2,    236.9,2,    235.7,2,     2.15,2,     1.27,2,     0.60,2,     0.28,2,    2.496,2,    1.492,2,    2.384,2,   2085.4,2,   2341.2,2,   -999.0,9,  -999.00, 999.0000,5,   999.00,    1.448,2,   -999.0,9,   -999.0,9, -999.000,9,-999.0000,9,-999.0000,9,-999.0000,9,-999.0000,1, 26.201, 30.530, 34.763, 38.904, 42.955
33RO20110828,   A10,    30,  1,     20,    020,2,20000101,0000,-29.7332,   1.1157, 3695,    196.4,  14.4608,  35.3245,2,  35.3269,2,  35.4935,2,    218.0,2,    217.2,2,     3.12,2,     6.44,2,     0.01,2,     0.60,2,    2.732,2,    1.617,2,    0.804,2,   -999.0,9,   2321.2,2,   -999.0,9,  -999.00,-999.0000,9,  -999.00,    1.454,2,   -999.0,9,   -999.0,9, -999.000,9,-999.0000,9,-999.0000,9,-999.0000,9,-999.0000,9, 26.348, 30.712, 34.980, 39.154, 43.236
33RO20110828,   A10,    30,  1,     19,    019,2,20000101,0000,-29.7332,   1.1157, 3695,    259.9,  13.2613,  35.1587,2,  35.1587,2,  35.3245,2,    223.4,2,    220.4,2,     3.32,2,     8.20,2,     0.01,2,     0.71,2,    2.915,2,    1.694,2,    0.875,2,   2110.9,2,   2313.8,2,   -999.0,9,  -999.00, 999.0000,5,   999.00,    1.429,2,   -999.0,9,   -999.0,9, -999.000,9,-999.0000,9,-999.0000,9,-999.0000,9,-999.0000,9, 26.470, 30.858, 35.149, 39.346, 43.450
33RO20110828,   A10,    30,  1,     18,    018,2,20000101,0000,-29.7332,   1.1157, 3695,    339.1,  12.0182,  35.0442,2,  35.0471,2,  35.2124,2,    206.7,2,    211.2,2,     4.68,2,    12.30,2,     0.01,2,     0.97,2,    3.075,2,    1.732,2,    0.729,2,   -999.0,9,   2309.6,2,   -999.0,9,  -999.00,-999.0000,9,  -999.00,    1.277,2,   -999.0,9,   -999.0,9, -999.000,9,-999.0000,9,-999.0000,9,-999.0000,9,-999.0000,9, 26.631, 31.044, 35.360, 39.580, 43.708
33RO20110828,   A10,    30,  1,     17,    017,2,20000101,0000,-29.7332,   1.1157, 3695,    440.3,  10.3360,  34.8344,2,  34.8355,2,  34.9998,2,    202.4,2,    200.2,2,     7.51,2,    17.18,2,     0.01,2,     1.32,2,    3.115,2,    1.712,2,    0.900,2,   2147.7,2,   2299.6,2,   -999.0,9,  -999.00, 999.0000,5,   999.00,    1.125,2,   -999.0,9,   -999.0,9, -999.000,9,-999.0000,9,-999.0000,9,-999.0000,9,-999.0000,9, 26.775, 31.225, 35.576, 39.830, 43.991
33RO20110828,   A10,    30,  1,     16,    016,2,20000101,0000,-29.7332,   1.1157, 3695,    548.8,   8.3490,  34.6105,2,  34.6125,2,  34.7757,2,    196.1,2,    197.5,2,    12.01,2,    22.35,2,     0.00,2,     1.67,2,    3.023,2,    1.617,2,    1.423,2,   -999.0,5,   -999.0,5,   -999.0,9,  -999.00,-999.0000,9,  -999.00,    0.886,2,   -999.0,9,   -999.0,9, -999.000,9,-999.0000,9,-999.0000,9,-999.0000,9,-999.0000,9, 26.926, 31.421, 35.816, 40.113, 44.315
33RO20110828,   A10,    30,  1,     15,    015,2,20000101,0000,-29.7332,   1.1157, 3695,    699.3,   6.0208,  34.3972,2,  34.3981,2,  34.5603,2,    207.4,2,    206.9,2,    18.65,2,    27.14,2,     0.00,2,     2.02,2,    2.955,2,    1.523,2,    2.065,2,   2176.3,2,   2288.2,2,   -999.0,9,  -999.00, 999.0000,5,   999.00,    0.844,2,   -999.0,9,   -999.0,9, -999.000,9,-999.0000,9,-999.0000,9,-999.0000,9,-999.0000,9, 27.082, 31.634, 36.085, 40.435, 44.688
33RO20110828,   A10,    30,  1,     14,    014,2,20000101,0000,-29.7332,   1.1157, 3695,    850.8,   4.5959,  34.3480,2,  34.3474,2,  34.5094,2,    202.4,2,    203.3,2,    29.09,2,    30.56,2,     0.00,2,     2.27,2,    2.324,2,    1.169,2,    2.179,2,   -999.0,9,   2294.6,2,   -999.0,9,  -999.00,-999.0000,9,  -999.00,    0.546,2,   -999.0,9,   -999.0,9, -999.000,9,-999.0000,9,-999.0000,9,-999.0000,9,-999.0000,9, 27.211, 31.799, 36.285, 40.670, 44.956
33RO20110828,   A10,    30,  1,     13,    013,2,20000101,0000,-29.7332,   1.1157, 3695,   1025.3,   3.7264,  34.4163,2,  34.4176,6,  34.5799,6,    186.0,2,    186.5,2,    44.03,2,    32.61,2,     0.00,2,     2.45,2,    1.250,2,    0.607,2,    1.559,2,   2221.1,2,   2308.2,2,   -999.0,9,  -999.00, 999.0000,5,   999.00,    0.247,2,   -999.0,9,   -999.0,9, -999.000,9,-999.0000,9,-999.0000,9,-999.0000,9,-999.0000,9, 27.357, 31.968, 36.475, 40.881, 45.187
33RO20110828,   A10,    30,  1,     12,    012,2,20000101,0000,-29.7332,   1.1157, 3695,   1198.6,   3.2786,  34.5093,2,  34.5092,2,  34.6719,2,    179.9,2,    179.0,2,    53.79,2,    32.80,2,     0.00,2,     2.47,2,    0.637,2,    0.303,2,    0.961,2,   2231.7,2,   2321.6,2,   -999.0,9,  -999.00, 999.0000,5,   999.00,    0.117,2,   -999.0,9,   -999.0,9, -999.000,9,-999.0000,9,-999.0000,9,-999.0000,9,-999.0000,9, 27.475, 32.098, 36.616, 41.033, 45.349
33RO20110828,   A10,    30,  1,     11,    011,2,20000101,0000,-29.7332,   1.1157, 3695,   1374.3,   3.0889,  34.6133,2,  34.6131,2,  34.7763,2,    182.8,2,    182.7,2,    55.35,2,    31.53,2,     0.00,2,     2.36,2,    0.288,2,    0.134,2,    0.501,2,   2232.7,2,   2325.6,2,   -999.0,9,  -999.00, 999.0000,5,   999.00,    0.041,2,   -999.0,9,   -999.0,9, -999.000,9,-999.0000,9,-999.0000,9,-999.0000,9,-999.0000,9, 27.577, 32.204, 36.727, 41.148, 45.469
33RO20110828,   A10,    30,  1,     10,    010,2,20000101,0000,-29.7332,   1.1157, 3695,   1549.0,   2.9937,  34.6961,2,  34.6963,2,  34.8599,2,    191.8,2,    191.8,2,    54.17,2,    29.57,2,     0.00,2,     2.21,2,    0.140,2,    0.066,2,    0.277,2,   -999.0,9,   2327.4,2,   -999.0,9,  -999.00,-999.0000,9,  -999.00,    0.030,2,   -999.0,9,   -999.0,9, -999.000,9,-999.0000,9,-999.0000,9,-999.0000,9,-999.0000,9, 27.654, 32.283, 36.808, 41.231, 45.554
33RO20110828,   A10,    30,  1,      9,    009,2,20000101,0000,-29.7332,   1.1157, 3695,   1749.9,   2.9461,  34.7618,2,  34.7621,2,  34.9260,2,    203.1,2,    203.0,2,    50.85,2,    27.72,2,     0.00,2,     2.06,2,    0.069,2,    0.033,2,    0.165,2,   2216.5,2,   2329.0,2,   -999.0,9,  -999.00, 999.0000,5,   999.00,    0.000,2,   -999.0,9,   -999.0,9, -999.000,9,-999.0000,9,-999.0000,9,-999.0000,9,-999.0000,9, 27.712, 32.342, 36.868, 41.293, 45.617
33RO20110828,   A10,    30,  1,      8,    008,2,20000101,0000,-29.7332,   1.1157, 3695,   1950.1,   2.7896,  34.7982,2,  34.7983,2,  34.9624,2,    212.3,2,    212.9,2,    51.24,2,    26.45,2,     0.00,2,     1.96,2,    0.043,2,    0.021,2,    0.128,2,   -999.0,9,   2332.4,2,   -999.0,9,  -999.00,-999.0000,9,  -999.00,    0.000,2,   -999.0,9,   -999.0,9, -999.000,9,-999.0000,9,-999.0000,9,-999.0000,9,-999.0000,9, 27.756, 32.391, 36.921, 41.350, 45.678
33RO20110828,   A10,    30,  1,      7,    007,2,20000101,0000,-29.7332,   1.1157, 3695,   2150.7,   2.6747,  34.8186,2,  34.8193,2,  34.9835,2,    219.3,2,    218.2,2,    51.63,2,    25.96,2,     0.00,2,     1.90,2,    0.027,2,    0.014,2,    0.100,2,   -999.0,9,   2332.5,2,   -999.0,9,  -999.00,-999.0000,9,  -999.00,    0.000,2,   -999.0,9,   -999.0,9, -999.000,9,-999.0000,9,-999.0000,9,-999.0000,9,-999.0000,9, 27.784, 32.422, 36.956, 41.388, 45.719
33RO20110828,   A10,    30,  1,      6,    006,2,20000101,0000,-29.7332,   1.1157, 3695,   2401.1,   2.5300,  34.8357,2,  34.8362,2,  35.0004,2,    226.0,2,    229.3,2,    52.60,2,    25.08,2,     0.00,2,     1.84,2,    0.017,2,    0.009,2,    0.073,2,   2208.8,2,   2336.0,2,   -999.0,9,  -999.00, 999.0000,5,   999.00,    0.000,2,   -999.0,9,   -999.0,9, -999.000,9,-999.0000,9,-999.0000,9,-999.0000,9,-999.0000,9, 27.812, 32.454, 36.993, 41.428, 45.763
33RO20110828,   A10,    30,  1,      5,    005,2,20000101,0000,-29.7332,   1.1157, 3695,   2649.0,   2.4274,  34.8466,2,  34.8471,2,  35.0114,2,    230.4,2,    228.8,2,    53.38,2,    24.69,2,     0.00,2,     1.80,2,    0.013,2,    0.006,2,    0.059,2,   -999.0,9,   2337.3,2,   -999.0,9,  -999.00,-999.0000,9,  -999.00,    0.000,2,   -999.0,9,   -999.0,9, -999.000,9,-999.0000,9,-999.0000,9,-999.0000,9,-999.0000,9, 27.831, 32.477, 37.018, 41.457, 45.795
33RO20110828,   A10,    30,  1,      4,    004,2,20000101,0000,-29.7332,   1.1157, 3695,   2900.0,   2.3525,  34.8544,2,  34.8554,2,  35.0197,2,    232.7,2,    232.6,2,    54.07,2,    24.40,2,     0.00,2,     1.78,2,    0.017,3,    0.010,3,    0.056,2,   -999.0,9,   2341.1,2,   -999.0,9,  -999.00,-999.0000,9,  -999.00,    0.000,2,   -999.0,9,   -999.0,9, -999.000,9,-999.0000,9,-999.0000,9,-999.0000,9,-999.0000,9, 27.846, 32.494, 37.038, 41.479, 45.820
33RO20110828,   A10,    30,  1,      3,    003,2,20000101,0000,-29.7332,   1.1157, 3695,   3150.7,   2.3155,  34.8611,2,  34.8622,2,  35.0265,2,    233.4,2,    233.9,2,    54.55,2,    24.20,2,     0.00,2,     1.76,2,    0.007,2,    0.004,2,    0.050,2,   2211.9,2,   2346.8,2,   -999.0,9,  -999.00, 999.0000,5,   999.00,    0.000,2,   -999.0,9,   -999.0,9, -999.000,9,-999.0000,9,-999.0000,9,-999.0000,9,-999.0000,9, 27.856, 32.506, 37.052, 41.495, 45.837
33RO20110828,   A10,    30,  1,      2,    002,2,20000101,0000,-29.7332,   1.1157, 3695,   3428.7,   2.2854,  34.8670,2,  34.8689,2,  35.0334,2,    233.3,2,    232.9,2,    55.04,2,    23.91,2,     0.00,2,     1.74,2,    0.005,2,    0.003,2,    0.024,2,   -999.0,9,   2351.5,2,   -999.0,9,  -999.00,-999.0000,9,  -999.00,    0.000,2,   -999.0,9,   -999.0,9, -999.000,9,-999.0000,9,-999.0000,9,-999.0000,9,-999.0000,9, 27.866, 32.518, 37.065, 41.509, 45.853
33RO20110828,   A10,    30,  1,      1,    001,2,20000101,0000,-29.7332,   1.1157, 3695,   3741.9,   2.2456,  34.8674,2,  34.8674,2,  35.0318,2,    232.0,2,    232.1,2,    57.48,2,    24.01,2,     0.00,2,     1.75,2,    0.007,2,    0.004,2,    0.023,2,   2215.6,6,   2355.9,2,   -999.0,9,  -999.00, 999.0000,5,   999.00,    0.000,2,   -999.0,9,   -999.0,9, -999.000,9,-999.0000,9,-999.0000,9,-999.0000,9,-999.0000,9, 27.871, 32.524, 37.074, 41.520, 45.865