BOTTLE,20130715NOAA
EXPOCODE,SECT_ID,STNNBR,CASTNO,SAMPNO,BTLNBR,BTLNBR_FLAG_W,DATE,TIME,LATITUDE,LONGITUDE,DEPTH,CTDPRS,CTDTMP,CTDSAL,CTDSAL_FLAG_W,SALNTY,SALNTY_FLAG_W,SALTREF,SALTREF_FLAG_W,CTDOXY,CTDOXY_FLAG_W,OXYGEN,OXYGEN_FLAG_W,SILCAT,SILCAT_FLAG_W,NITRAT,NITRAT_FLAG_W,NITRIT,NITRIT_FLAG_W,PHSPHT,PHSPHT_FLAG_W,CFC-11,CFC-11_FLAG_W,CFC-12,CFC-12_FLAG_W,CCL4,CCL4_FLAG_W,TCARBN,TCARBN_FLAG_W,ALKALI,ALKALI_FLAG_W,PCO2,PCO2_FLAG_W,PCO2TMP,PH_TOT,PH_TOT_FLAG_W,PH_TMP,SF6,SF6_FLAG_W,DOC,DOC_FLAG_W,TDN,TDN_FLAG_W,TRITUM,TRITUM_FLAG_W,HELIUM,HELIUM_FLAG_W,OXY_18,OXY_18_FLAG_W,BLACKC,BLACKC_FLAG_W,PIGMENTS,PIGMENTS_FLAG_W,SIGMA-THETA,SIGMA-1,SIGMA-2,SIGMA-3,SIGMA-4
,,,,,,,,,,,METERS,DBARS,ITS-90,PSS-78,,PSS-78,,G/KG,,UMOL/KG,,UMOL/KG,,UMOL/KG,,UMOL/KG,,UMOL/KG,,UMOL/KG,,PMOL/KG,,PMOL/KG,,PMOL/KG,,UMOL/KG,,UMOL/KG,,UATM@T,,DEG_C,,,DEG_C,FMOL/KG,,UMOL/KG,,UMOL/KG,,TU,,NMOL/KG,,,,,,,,,,,,
33RO20110828,   A10,    34,  1,     24,    024,2,20000101,0000,-30.0171,  -1.0588, 3905,      3.0,  17.9141,  35.8435,2,  35.8430,2,  36.0120,2,    241.1,2,    240.9,2,     1.37,2,     0.00,2,     0.00,2,     0.18,2,    2.388,2,    1.441,2,    3.363,2,   2077.7,6,   2354.1,2,   -999.0,9,  -999.00,   7.9328,2,    25.61,    1.477,2,   -999.0,9,   -999.0,9, -999.000,1,-999.0000,1,-999.0000,1,-999.0000,9,-999.0000,1, 25.939, 30.239, 34.444, 38.558, 42.582
33RO20110828,   A10,    34,  1,     23,    023,2,20000101,0000,-30.0171,  -1.0588, 3905,     24.9,  17.6135,  35.8236,2,  35.8268,2,  35.9957,2,    242.7,2,    242.6,2,     1.46,2,     0.00,2,     0.01,2,     0.18,2,    2.386,2,    1.442,2,    3.201,2,   -999.0,9,   2352.7,2,   -999.0,9,  -999.00,   7.9293,2,    25.63,    1.476,2,   -999.0,9,   -999.0,9, -999.000,1,-999.0000,1,-999.0000,1,-999.0000,9,-999.0000,9, 26.002, 30.307, 34.517, 38.635, 42.664
33RO20110828,   A10,    34,  1,     22,    022,2,20000101,0000,-30.0171,  -1.0588, 3905,     86.2,  16.7941,  35.7403,2,  35.7445,2,  35.9131,2,    235.7,2,    235.0,2,     1.76,2,     0.59,2,     0.39,2,     0.26,2,    2.446,2,    1.466,2,    2.267,2,   2080.8,2,   2349.0,2,   -999.0,9,  -999.00,   7.9119,2,    25.57,    1.437,2,   -999.0,9,   -999.0,9, -999.000,1,-999.0000,1,-999.0000,1,-999.0000,9,-999.0000,1, 26.138, 30.458, 34.682, 38.814, 42.856
33RO20110828,   A10,    34,  1,     21,    021,2,20000101,0000,-30.0171,  -1.0588, 3905,    113.1,  16.5771,  35.7200,2,  35.7182,2,  35.8866,2,    236.8,2,    236.5,2,     1.85,2,     0.78,2,     0.61,2,     0.26,2,    2.450,2,    1.474,2,    2.225,2,   -999.0,9,   2344.8,2,   -999.0,9,  -999.00,   7.9055,2,    25.58,    1.474,2,   -999.0,9,   -999.0,9, -999.000,1,-999.0000,1,-999.0000,1,-999.0000,9,-999.0000,1, 26.170, 30.494, 34.722, 38.858, 42.904
33RO20110828,   A10,    34,  1,     20,    020,2,20000101,0000,-30.0171,  -1.0588, 3905,    160.3,  16.5134,  35.7351,2,  35.7332,2,  35.9017,2,    235.1,2,    235.0,2,     1.85,2,     1.07,2,     0.58,2,     0.27,2,    2.459,2,    1.477,2,    2.048,2,   -999.0,9,   2345.9,2,   -999.0,9,  -999.00,   7.9047,2,    25.63,    1.490,2,   -999.0,9,   -999.0,9, -999.000,1,-999.0000,1,-999.0000,1,-999.0000,9,-999.0000,9, 26.199, 30.523, 34.753, 38.889, 42.936
33RO20110828,   A10,    34,  1,     19,    019,2,20000101,0000,-30.0171,  -1.0588, 3905,    211.0,  16.1974,  35.6865,2,  35.6887,2,  35.8570,2,    232.6,2,    233.7,2,     1.95,2,     1.95,2,     0.21,2,     0.31,2,    2.493,2,    1.495,2,    2.006,2,   -999.0,9,   2343.2,2,   -999.0,9,  -999.00,   7.8999,2,    25.63,    1.502,2,   -999.0,9,   -999.0,9, -999.000,1,-999.0000,1,-999.0000,1,-999.0000,9,-999.0000,9, 26.240, 30.570, 34.805, 38.948, 43.000
33RO20110828,   A10,    34,  1,     18,    018,2,20000101,0000,-30.0171,  -1.0588, 3905,    285.7,  14.2873,  35.3012,2,  35.3089,2,  35.4754,2,    218.8,2,    218.6,2,     3.02,2,     6.63,2,     0.01,2,     0.61,2,    2.770,2,    1.631,2,    0.859,2,   2108.4,2,   2319.1,2,   -999.0,9,  -999.00,   7.8412,2,    25.63,    1.409,2,   -999.0,9,   -999.0,9, -999.000,1,-999.0000,1,-999.0000,1,-999.0000,9,-999.0000,9, 26.374, 30.742, 35.013, 39.190, 43.276
33RO20110828,   A10,    34,  1,     17,    017,2,20000101,0000,-30.0171,  -1.0588, 3905,    385.9,  12.1889,  35.0589,2,  35.0629,2,  35.2282,2,    208.8,2,    209.4,2,     4.59,2,    12.29,2,     0.01,2,     0.98,2,    3.048,2,    1.727,2,    0.997,2,   -999.0,9,   2307.1,2,   -999.0,9,  -999.00,   7.7203,4,    25.66,    1.241,2,   -999.0,9,   -999.0,9, -999.000,1,-999.0000,1,-999.0000,1,-999.0000,9,-999.0000,9, 26.612, 31.022, 35.334, 39.551, 43.675
33RO20110828,   A10,    34,  1,     16,    016,2,20000101,0000,-30.0171,  -1.0588, 3905,    454.3,  11.0848,  34.9273,2,  34.9295,2,  35.0942,2,    208.7,2,    209.9,2,     5.86,2,    15.03,2,     0.01,2,     1.15,2,    3.159,2,    1.745,2,    1.177,2,   -999.0,9,   2302.5,2,   -999.0,9,  -999.00,   7.7490,2,    25.62,    1.178,2,   -999.0,9,   -999.0,9, -999.000,1,-999.0000,1,-999.0000,1,-999.0000,9,-999.0000,9, 26.716, 31.149, 35.484, 39.724, 43.869
33RO20110828,   A10,    34,  1,     15,    015,2,20000101,0000,-30.0171,  -1.0588, 3905,    578.6,   8.3913,  34.6087,2,  34.6155,2,  34.7787,2,    203.7,2,    201.5,2,    11.42,2,    22.26,2,     0.01,2,     1.66,2,    3.117,2,    1.662,2,    1.743,2,   2162.1,2,   2289.5,2,   -999.0,9,  -999.00,   7.6691,2,    25.58,    0.986,2,   -999.0,9,   -999.0,9, -999.000,1,-999.0000,1,-999.0000,1,-999.0000,9,-999.0000,9, 26.922, 31.416, 35.811, 40.107, 44.308
33RO20110828,   A10,    34,  1,     14,    014,2,20000101,0000,-30.0171,  -1.0588, 3905,    718.3,   6.0311,  34.3787,2,  34.3826,2,  34.5447,2,    215.5,2,    215.7,2,    16.99,2,    27.04,2,     0.00,2,     1.99,2,    3.197,2,    1.655,2,    2.564,2,   -999.0,9,   2285.3,2,   -999.0,9,  -999.00,   7.6289,2,    25.63,    0.891,2,   -999.0,9,   -999.0,9, -999.000,1,-999.0000,1,-999.0000,1,-999.0000,9,-999.0000,9, 27.069, 31.621, 36.071, 40.421, 44.674
33RO20110828,   A10,    34,  1,     13,    013,2,20000101,0000,-30.0171,  -1.0588, 3905,    844.9,   4.8576,  34.3276,2,  34.3279,2,  34.4898,2,    211.2,2,    213.0,2,    24.51,2,    29.78,2,     0.00,2,     2.20,2,    2.770,2,    1.393,2,    2.537,2,   -999.0,9,   2289.1,2,   -999.0,9,  -999.00,   7.6062,2,    25.56,    0.718,2,   -999.0,9,   -999.0,9, -999.000,1,-999.0000,1,-999.0000,1,-999.0000,9,-999.0000,9, 27.166, 31.748, 36.227, 40.606, 44.886
33RO20110828,   A10,    34,  1,     12,    012,2,20000101,0000,-30.0171,  -1.0588, 3905,    979.3,   3.9123,  34.3625,2,  34.3644,2,  34.5265,2,    199.7,2,    198.3,2,    37.98,2,    32.32,2,     0.00,2,     2.40,2,    1.843,2,    0.905,2,    1.829,2,   -999.0,9,   2301.6,2,   -999.0,9,  -999.00,   7.5725,2,    25.59,    0.361,2,   -999.0,9,   -999.0,9, -999.000,1,-999.0000,1,-999.0000,1,-999.0000,9,-999.0000,9, 27.297, 31.903, 36.406, 40.808, 45.110
33RO20110828,   A10,    34,  1,     11,    011,2,20000101,0000,-30.0171,  -1.0588, 3905,   1158.5,   3.4103,  34.4664,2,  34.4656,2,  34.6281,2,    182.4,2,    182.2,2,    51.06,2,    33.39,2,     0.01,2,     2.50,2,    0.893,2,    0.430,2,    1.058,2,   -999.0,9,   2315.2,2,   -999.0,9,  -999.00,   7.5451,2,    25.63,    0.172,2,   -999.0,9,   -999.0,9, -999.000,1,-999.0000,1,-999.0000,1,-999.0000,9,-999.0000,9, 27.428, 32.047, 36.562, 40.976, 45.290
33RO20110828,   A10,    34,  1,     10,    010,2,20000101,0000,-30.0171,  -1.0588, 3905,   1351.3,   3.1314,  34.5777,2,  34.5803,2,  34.7433,2,    179.4,2,    179.0,2,    56.23,2,    32.51,2,     0.00,2,     2.43,2,    0.375,2,    0.176,2,    0.478,2,   2235.9,2,   2322.8,2,   -999.0,9,  -999.00,   7.5560,2,    25.60,    0.051,2,   -999.0,9,   -999.0,9, -999.000,1,-999.0000,1,-999.0000,1,-999.0000,9,-999.0000,9, 27.547, 32.173, 36.695, 41.115, 45.435
33RO20110828,   A10,    34,  1,      9,    009,2,20000101,0000,-30.0171,  -1.0588, 3905,   1652.1,   2.9930,  34.7137,2,  34.7166,2,  34.8803,2,    194.4,2,    196.4,2,    52.80,2,    29.57,2,     0.00,2,     2.18,2,    0.116,2,    0.055,2,    0.203,2,   -999.0,9,   2325.4,2,   -999.0,9,  -999.00,   7.5972,2,    25.64,    0.025,2,   -999.0,9,   -999.0,9, -999.000,1,-999.0000,1,-999.0000,1,-999.0000,9,-999.0000,9, 27.671, 32.300, 36.825, 41.248, 45.571
33RO20110828,   A10,    34,  1,      8,    008,2,20000101,0000,-30.0171,  -1.0588, 3905,   1950.2,   2.8007,  34.7917,2,  34.7947,2,  34.9587,2,    211.2,2,    210.9,2,    51.53,2,    27.03,2,     0.00,2,     1.99,2,    0.045,2,    0.022,2,    0.115,2,   -999.0,9,   2329.1,2,   -999.0,9,  -999.00,   7.6295,2,    25.68,    0.000,2,   -999.0,9,   -999.0,9, -999.000,9,-999.0000,1,-999.0000,9,-999.0000,9,-999.0000,9, 27.752, 32.387, 36.917, 41.345, 45.673
33RO20110828,   A10,    34,  1,      7,    007,2,20000101,0000,-30.0171,  -1.0588, 3905,   2229.2,   2.6135,  34.8186,2,  34.8187,2,  34.9829,2,    219.7,2,    219.2,2,    53.09,2,    26.06,2,     0.00,2,     1.91,2,    0.026,2,    0.013,2,    0.080,2,   -999.0,9,   2334.4,2,   -999.0,9,  -999.00,   7.6392,2,    25.72,    0.000,2,   -999.0,9,   -999.0,9, -999.000,1,-999.0000,1,-999.0000,9,-999.0000,9,-999.0000,9, 27.790, 32.429, 36.965, 41.398, 45.731
33RO20110828,   A10,    34,  1,      6,    006,2,20000101,0000,-30.0171,  -1.0588, 3905,   2549.7,   2.4714,  34.8410,2,  34.8428,6,  35.0071,6,    227.9,2,    229.1,2,    53.09,2,    24.98,2,     0.00,2,     1.83,2,    0.016,2,    0.009,2,    0.066,2,   -999.0,9,   2335.5,2,   -999.0,9,  -999.00, 999.0000,5,   999.00,    0.000,2,   -999.0,9,   -999.0,9, -999.000,9,-999.0000,1,-999.0000,9,-999.0000,9,-999.0000,9, 27.822, 32.466, 37.006, 41.444, 45.781
33RO20110828,   A10,    34,  1,      5,    005,2,20000101,0000,-30.0171,  -1.0588, 3905,   2848.8,   2.3954,  34.8562,2,  34.8568,2,  35.0212,2,    233.6,2,    232.5,2,    52.51,2,    24.30,2,     0.00,2,     1.79,2,    0.008,2,    0.006,2,    0.032,2,   2206.6,2,   2338.5,2,   -999.0,9,  -999.00, 999.0000,5,   999.00,    0.000,2,   -999.0,9,   -999.0,9, -999.000,1,-999.0000,1,-999.0000,9,-999.0000,9,-999.0000,9, 27.843, 32.490, 37.033, 41.473, 45.812
33RO20110828,   A10,    34,  1,      4,    004,2,20000101,0000,-30.0171,  -1.0588, 3905,   3149.4,   2.3489,  34.8668,2,  34.8700,2,  35.0344,2,    235.2,2,    235.2,2,    52.80,2,    23.91,2,     0.01,2,     1.75,2,    0.005,2,    0.004,2,    0.026,2,   -999.0,9,   2343.4,2,   -999.0,9,  -999.00, 999.0000,5,   999.00,    0.048,2,   -999.0,9,   -999.0,9, -999.000,9,-999.0000,1,-999.0000,9,-999.0000,9,-999.0000,9, 27.860, 32.509, 37.054, 41.496, 45.837
33RO20110828,   A10,    34,  1,      3,    003,2,20000101,0000,-30.0171,  -1.0588, 3905,   3450.1,   2.3244,  34.8722,2,  34.8730,2,  35.0374,2,    234.5,2,    234.5,2,    53.77,2,    23.91,2,     0.01,2,     1.75,2,    0.004,2,    0.003,2,    0.009,2,   -999.0,9,   2348.1,2,   -999.0,9,  -999.00,   7.6828,2,    25.67,    0.000,2,   -999.0,9,   -999.0,9, -999.000,1,-999.0000,1,-999.0000,9,-999.0000,9,-999.0000,9, 27.867, 32.517, 37.063, 41.507, 45.849
33RO20110828,   A10,    34,  1,      2,    002,2,20000101,0000,-30.0171,  -1.0588, 3905,   3791.0,   2.3237,  34.8740,2,  34.8744,2,  35.0388,2,    233.3,2,    233.2,2,    54.36,2,    24.01,2,     0.01,2,     1.75,2,    0.003,2,    0.002,2,    0.003,2,   -999.0,9,   2354.4,2,   -999.0,9,  -999.00,   7.6871,3,    25.56,    0.000,2,   -999.0,9,   -999.0,9, -999.000,1,-999.0000,1,-999.0000,9,-999.0000,9,-999.0000,9, 27.871, 32.522, 37.070, 41.514, 45.857
33RO20110828,   A10,    34,  1,      1,    001,2,20000101,0000,-30.0171,  -1.0588, 3905,   4136.0,   2.3369,  34.8729,2,  34.8738,2,  35.0382,2,    232.4,2,    232.9,2,    55.53,2,    24.01,2,     0.01,2,     1.75,2,    0.005,2,    0.004,2,    0.008,2,   2217.0,2,   2354.8,2,   -999.0,9,  -999.00,   7.6869,3,    25.52,    0.000,2,   -999.0,9,   -999.0,9, -999.000,1,-999.0000,1,-999.0000,9,-999.0000,9,-999.0000,9, 27.872, 32.525, 37.073, 41.518, 45.862