BOTTLE,20130715NOAA
EXPOCODE,SECT_ID,STNNBR,CASTNO,SAMPNO,BTLNBR,BTLNBR_FLAG_W,DATE,TIME,LATITUDE,LONGITUDE,DEPTH,CTDPRS,CTDTMP,CTDSAL,CTDSAL_FLAG_W,SALNTY,SALNTY_FLAG_W,SALTREF,SALTREF_FLAG_W,CTDOXY,CTDOXY_FLAG_W,OXYGEN,OXYGEN_FLAG_W,SILCAT,SILCAT_FLAG_W,NITRAT,NITRAT_FLAG_W,NITRIT,NITRIT_FLAG_W,PHSPHT,PHSPHT_FLAG_W,CFC-11,CFC-11_FLAG_W,CFC-12,CFC-12_FLAG_W,CCL4,CCL4_FLAG_W,TCARBN,TCARBN_FLAG_W,ALKALI,ALKALI_FLAG_W,PCO2,PCO2_FLAG_W,PCO2TMP,PH_TOT,PH_TOT_FLAG_W,PH_TMP,SF6,SF6_FLAG_W,DOC,DOC_FLAG_W,TDN,TDN_FLAG_W,TRITUM,TRITUM_FLAG_W,HELIUM,HELIUM_FLAG_W,OXY_18,OXY_18_FLAG_W,BLACKC,BLACKC_FLAG_W,PIGMENTS,PIGMENTS_FLAG_W,SIGMA-THETA,SIGMA-1,SIGMA-2,SIGMA-3,SIGMA-4
,,,,,,,,,,,METERS,DBARS,ITS-90,PSS-78,,PSS-78,,G/KG,,UMOL/KG,,UMOL/KG,,UMOL/KG,,UMOL/KG,,UMOL/KG,,UMOL/KG,,PMOL/KG,,PMOL/KG,,PMOL/KG,,UMOL/KG,,UMOL/KG,,UATM@T,,DEG_C,,,DEG_C,FMOL/KG,,UMOL/KG,,UMOL/KG,,TU,,NMOL/KG,,,,,,,,,,,,
33RO20110828,   A10,    23,  1,     24,    024,2,20000101,0000,-29.4669,   3.3005, 4694,      5.0,  17.6087,  35.7849,2,  35.7840,2,  35.9528,2,    243.4,2,    243.1,2,     1.56,2,     0.00,2,     0.00,2,     0.15,2,    2.415,2,    1.455,2,    3.048,2,   2076.2,6,   2339.2,3,   -999.0,9,  -999.00,   7.9521,2,    25.25,    1.424,2,   -999.0,1,   -999.0,1, -999.000,9,-999.0000,1,-999.0000,9,-999.0000,9,-999.0000,1, 25.969, 30.275, 34.485, 38.604, 42.633
33RO20110828,   A10,    23,  1,     23,    023,2,20000101,0000,-29.4669,   3.3005, 4694,     34.9,  17.3694,  35.7481,2,  35.7465,2,  35.9151,2,    245.5,2,    245.6,2,     1.66,2,     0.00,2,     0.01,2,     0.15,2,    2.445,2,    1.469,2,    3.307,2,   2072.9,2,   2336.0,3,   -999.0,9,  -999.00,   7.9487,2,    25.35,    1.470,2,   -999.0,1,   -999.0,1, -999.000,9,-999.0000,1,-999.0000,9,-999.0000,9,-999.0000,9, 26.000, 30.310, 34.524, 38.647, 42.680
33RO20110828,   A10,    23,  1,     22,    022,2,20000101,0000,-29.4669,   3.3005, 4694,     74.8,  16.3239,  35.6670,2,  35.6662,2,  35.8344,2,    241.0,2,    241.6,2,     2.05,2,     0.88,2,     0.34,2,     0.23,2,    2.508,2,    1.494,2,    2.777,2,   2076.7,2,   2342.7,2,   -999.0,9,  -999.00,   7.9348,2,    25.48,    1.479,2,   -999.0,1,   -999.0,1, -999.000,9,-999.0000,1,-999.0000,9,-999.0000,9,-999.0000,1, 26.188, 30.516, 34.749, 38.889, 42.939
33RO20110828,   A10,    23,  1,     21,    021,2,20000101,0000,-29.4669,   3.3005, 4694,    124.0,  16.2247,  35.6629,2,  35.6605,2,  35.8287,2,    236.1,2,    236.3,2,     2.24,2,     1.37,2,     0.71,2,     0.27,2,    2.501,2,    1.495,2,    2.388,2,   2082.3,2,   2340.8,2,   -999.0,9,  -999.00,   7.9209,2,    25.41,    1.440,2,   -999.0,1,   -999.0,1, -999.000,9,-999.0000,1,-999.0000,9,-999.0000,9,-999.0000,1, 26.209, 30.539, 34.773, 38.915, 42.967
33RO20110828,   A10,    23,  1,     20,    020,2,20000101,0000,-29.4669,   3.3005, 4694,    185.1,  15.7247,  35.5584,2,  35.5624,2,  35.7301,2,    230.4,2,    229.4,2,     2.54,2,     3.12,2,     0.13,2,     0.35,2,    2.575,2,    1.529,2,    1.921,2,   2087.4,2,   2337.5,2,   -999.0,9,  -999.00,   7.9061,2,    25.40,    1.421,2,   -999.0,1,   -999.0,1, -999.000,9,-999.0000,1,-999.0000,9,-999.0000,9,-999.0000,9, 26.250, 30.590, 34.834, 38.984, 43.045
33RO20110828,   A10,    23,  1,     19,    019,2,20000101,0000,-29.4669,   3.3005, 4694,    270.3,  13.1592,  35.1439,2,  35.1459,2,  35.3117,2,    220.6,2,    220.6,2,     3.42,2,     8.29,2,     0.01,2,     0.65,2,    2.925,2,    1.700,2,    1.042,2,   2107.8,2,   2306.9,3,   -999.0,9,  -999.00,   7.8299,2,    25.36,    1.380,2,   -999.0,1,   -999.0,1, -999.000,9,-999.0000,1,-999.0000,9,-999.0000,9,-999.0000,9, 26.481, 30.872, 35.165, 39.363, 43.469
33RO20110828,   A10,    23,  1,     18,    018,2,20000101,0000,-29.4669,   3.3005, 4694,    361.3,  11.5177,  34.9807,2,  34.9801,2,  35.1451,2,    202.4,2,    203.2,2,     5.76,2,    14.44,2,     0.01,2,     1.00,2,    3.104,2,    1.725,2,    0.947,2,   2131.4,2,   2294.7,4,   -999.0,9,  -999.00,   7.6025,4,    25.32,    1.135,2,   -999.0,1,   -999.0,1, -999.000,9,-999.0000,1,-999.0000,9,-999.0000,9,-999.0000,9, 26.673, 31.098, 35.424, 39.654, 43.791
33RO20110828,   A10,    23,  1,     17,    017,2,20000101,0000,-29.4669,   3.3005, 4694,    505.8,   8.8440,  34.6567,2,  34.6573,2,  34.8208,2,    205.7,2,    205.7,2,     9.86,2,    20.40,2,     0.01,2,     1.37,2,    3.137,2,    1.708,2,    1.720,2,   2148.5,2,   2293.9,2,   -999.0,9,  -999.00,   7.7003,2,    25.33,    1.044,2,   -999.0,1,   -999.0,1, -999.000,9,-999.0000,1,-999.0000,9,-999.0000,9,-999.0000,9, 26.883, 31.367, 35.751, 40.037, 44.229
33RO20110828,   A10,    23,  1,     16,    016,2,20000101,0000,-29.4669,   3.3005, 4694,    649.9,   6.4490,  34.4355,2,  34.4356,2,  34.5980,2,    199.2,2,    197.9,2,    17.77,2,    27.24,2,     0.01,2,     1.80,2,    2.878,2,    1.499,2,    2.293,2,   2173.8,2,   2275.0,3,   -999.0,9,  -999.00,   7.6310,2,    25.35,    0.778,2,   -999.0,1,   -999.0,1, -999.000,9,-999.0000,1,-999.0000,9,-999.0000,9,-999.0000,9, 27.056, 31.598, 36.038, 40.378, 44.621
33RO20110828,   A10,    23,  1,     15,    015,2,20000101,0000,-29.4669,   3.3005, 4694,    800.0,   4.7740,  34.3357,2,  34.3354,2,  34.4973,2,    207.6,2,    208.6,2,    26.36,2,    29.68,2,     0.00,2,     2.00,2,    2.605,2,    1.308,2,    2.500,2,   2183.9,2,   2279.2,3,   -999.0,9,  -999.00,   7.6395,2,    25.33,    0.609,2,   -999.0,1,   -999.0,1, -999.000,9,-999.0000,1,-999.0000,9,-999.0000,9,-999.0000,9, 27.181, 31.765, 36.246, 40.627, 44.908
33RO20110828,   A10,    23,  1,     14,    014,2,20000101,0000,-29.4669,   3.3005, 4694,    950.2,   3.9373,  34.3873,2,  34.3878,2,  34.5499,2,    190.9,2,    191.4,2,    40.13,2,    32.12,2,     0.00,2,     2.21,2,    1.554,2,    0.758,2,    1.726,2,   2209.4,2,   2290.2,3,   -999.0,9,  -999.00,   7.5756,2,    25.28,    0.290,2,   -999.0,1,   -999.0,1, -999.000,9,-999.0000,1,-999.0000,9,-999.0000,9,-999.0000,9, 27.313, 31.918, 36.420, 40.821, 45.122
33RO20110828,   A10,    23,  1,     13,    013,2,20000101,0000,-29.4669,   3.3005, 4694,   1148.6,   3.3450,  34.5008,2,  34.5019,2,  34.6645,2,    178.9,2,    178.6,2,    52.23,2,    33.00,2,     0.00,2,     2.29,2,    0.642,2,    0.305,2,    0.854,2,   2225.5,6,   2318.9,2,   -999.0,9,  -999.00,   7.5645,2,    25.41,    0.096,2,   -999.0,1,   -999.0,1, -999.000,9,-999.0000,1,-999.0000,9,-999.0000,9,-999.0000,9, 27.463, 32.083, 36.600, 41.015, 45.330
33RO20110828,   A10,    23,  1,     12,    012,2,20000101,0000,-29.4669,   3.3005, 4694,   1374.4,   3.1528,  34.6268,2,  34.6276,2,  34.7909,2,    182.5,2,    182.7,2,    53.69,2,    31.43,2,     0.01,2,     2.18,2,    0.240,2,    0.112,2,    0.377,2,   2224.9,2,   2323.2,2,   -999.0,9,  -999.00,   7.5836,2,    25.43,    0.016,2,   -999.0,1,   -999.0,1, -999.000,9,-999.0000,1,-999.0000,9,-999.0000,9,-999.0000,9, 27.583, 32.208, 36.729, 41.148, 45.467
33RO20110828,   A10,    23,  1,     11,    011,2,20000101,0000,-29.4669,   3.3005, 4694,   1651.1,   3.1711,  34.7594,2,  34.7595,2,  34.9234,2,    199.5,2,    199.1,2,    46.17,2,    27.91,2,     0.01,2,     1.93,2,    0.057,2,    0.027,2,    0.124,2,   2208.5,2,   2311.0,3,   -999.0,9,  -999.00,   7.6229,2,    25.45,    0.000,2,   -999.0,1,   -999.0,1, -999.000,9,-999.0000,1,-999.0000,9,-999.0000,9,-999.0000,9, 27.689, 32.313, 36.833, 41.251, 45.570
33RO20110828,   A10,    23,  1,     10,    010,2,20000101,0000,-29.4669,   3.3005, 4694,   1926.3,   3.0045,  34.8128,2,  34.8128,2,  34.9769,2,    213.1,2,    214.6,2,    45.58,2,    26.06,2,     0.01,2,     1.80,2,    0.029,2,    0.014,2,    0.079,2,   2201.5,2,   2313.5,3,   -999.0,9,  -999.00,   7.6219,2,    25.42,    0.000,2,   -999.0,1,   -999.0,1, -999.000,9,-999.0000,1,-999.0000,9,-999.0000,9,-999.0000,9, 27.749, 32.377, 36.902, 41.325, 45.647
33RO20110828,   A10,    23,  1,      9,    009,2,20000101,0000,-29.4669,   3.3005, 4694,   2199.9,   2.7865,  34.8361,2,  34.8368,2,  35.0011,2,    221.0,2,    220.8,2,    48.21,2,    25.28,2,     0.01,2,     1.75,2,    0.020,2,    0.010,2,    0.076,2,   2199.9,2,   2316.2,3,   -999.0,9,  -999.00,   7.6620,2,    25.44,    0.000,2,   -999.0,1,   -999.0,1, -999.000,9,-999.0000,1,-999.0000,9,-999.0000,9,-999.0000,9, 27.789, 32.424, 36.955, 41.384, 45.712
33RO20110828,   A10,    23,  1,      8,    008,2,20000101,0000,-29.4669,   3.3005, 4694,   2500.7,   2.5266,  34.8452,2,  34.8461,2,  35.0104,2,    228.5,2,    227.1,2,    51.92,2,    24.69,2,     0.01,2,     1.71,2,    0.015,2,    0.008,2,    0.093,2,   2200.2,2,   2336.8,2,   -999.0,9,  -999.00,   7.6688,2,    25.42,    0.000,2,   -999.0,1,   -999.0,1, -999.000,9,-999.0000,1,-999.0000,9,-999.0000,9,-999.0000,9, 27.821, 32.464, 37.002, 41.438, 45.773
33RO20110828,   A10,    23,  1,      7,    007,2,20000101,0000,-29.4669,   3.3005, 4694,   2799.3,   2.3993,  34.8499,2,  34.8507,2,  35.0150,2,    229.8,2,    230.6,2,    54.56,2,    24.59,2,     0.00,2,     1.73,2, -999.000,5, -999.000,5, -999.000,5,   2201.6,2,   2341.6,2,   -999.0,9,  -999.00,   7.6714,2,    25.45, -999.000,5,   -999.0,1,   -999.0,1, -999.000,9,-999.0000,1,-999.0000,9,-999.0000,9,-999.0000,9, 27.837, 32.484, 37.027, 41.467, 45.806
33RO20110828,   A10,    23,  1,      6,    006,2,20000101,0000,-29.4669,   3.3005, 4694,   3100.5,   2.2753,  34.8493,2,  34.8626,2,  35.0270,2,    230.2,2,    230.2,2,    58.07,2,    24.59,2,     0.00,2,     1.74,2,    0.010,2,    0.006,2,    0.039,2,   2206.5,2,   2346.2,2,   -999.0,9,  -999.00,   7.6769,2,    25.41,    0.026,4,   -999.0,1,   -999.0,1, -999.000,9,-999.0000,1,-999.0000,9,-999.0000,9,-999.0000,9, 27.859, 32.510, 37.057, 41.501, 45.843
33RO20110828,   A10,    23,  1,      5,    005,2,20000101,0000,-29.4669,   3.3005, 4694,   3344.6,   2.2123,  34.8493,2,  34.8489,2,  35.0132,2,    230.9,2,    230.5,2,    60.02,2,    24.69,2,     0.00,2,     1.75,2,    0.011,2,    0.007,2,    0.037,2,   2210.5,2,   2348.3,3,   -999.0,9,  -999.00,   7.6762,2,    25.43,    0.000,2,   -999.0,1,   -999.0,1, -999.000,9,-999.0000,1,-999.0000,9,-999.0000,9,-999.0000,9, 27.855, 32.509, 37.058, 41.504, 45.849
33RO20110828,   A10,    23,  1,      4,    004,2,20000101,0000,-29.4669,   3.3005, 4694,   3700.6,   1.8416,  34.8096,2,  34.8336,2,  34.9978,2,    224.7,2,    224.5,2,    76.42,2,    26.74,2,     0.00,2,     1.94,2,    0.021,2,    0.011,2,    0.062,2,   2225.5,2,   2341.6,3,   -999.0,9,  -999.00,   7.6568,2,    25.39,    0.000,2,   -999.0,1,   -999.0,1, -999.000,9,-999.0000,1,-999.0000,9,-999.0000,9,-999.0000,9, 27.873, 32.538, 37.098, 41.555, 45.911
33RO20110828,   A10,    23,  1,      3,    003,2,20000101,0000,-29.4669,   3.3005, 4694,   4048.3,   1.3549,  34.7609,2,  34.7604,2,  34.9243,2,    219.2,2,    220.1,2,    95.75,2,    28.99,2,     0.00,2,     2.16,2,    0.044,2,    0.022,2,    0.118,2,   2242.3,2,   2367.1,2,   -999.0,9,  -999.00,   7.6330,2,    25.40,    0.000,2,   -999.0,1,   -999.0,1, -999.000,9,-999.0000,1,-999.0000,9,-999.0000,9,-999.0000,9, 27.851, 32.531, 37.106, 41.577, 45.946
33RO20110828,   A10,    23,  1,      2,    002,2,20000101,0000,-29.4669,   3.3005, 4694,   4393.2,   1.1534,  34.7393,2,  34.7390,2,  34.9029,2,    217.2,2,    218.2,2,   105.02,2,    30.16,2,     0.01,2,     2.26,2,    0.062,2,    0.034,2,    0.174,2,   2248.8,2,   2367.0,3,   -999.0,9,  -999.00,   7.6257,3,    25.39,    0.076,4,   -999.0,1,   -999.0,1, -999.000,9,-999.0000,1,-999.0000,9,-999.0000,9,-999.0000,9, 27.849, 32.536, 37.117, 41.595, 45.971
33RO20110828,   A10,    23,  1,      1,    001,2,20000101,0000,-29.4669,   3.3005, 4694,   4797.6,   1.1436,  34.7337,2,  34.7342,2,  34.8979,2,    217.9,2,    216.9,2,   107.36,2,    30.35,2,     0.01,2,     2.29,2,    1.102,4,    0.786,4,    2.715,4,   2252.8,6,   2376.7,2,   -999.0,9,  -999.00,   7.6321,2,    25.39,    1.666,4,   -999.0,1,   -999.0,1, -999.000,9,-999.0000,1,-999.0000,9,-999.0000,9,-999.0000,9, 27.848, 32.537, 37.120, 41.600, 45.977