BOTTLE,20130715NOAA
EXPOCODE,SECT_ID,STNNBR,CASTNO,SAMPNO,BTLNBR,BTLNBR_FLAG_W,DATE,TIME,LATITUDE,LONGITUDE,DEPTH,CTDPRS,CTDTMP,CTDSAL,CTDSAL_FLAG_W,SALNTY,SALNTY_FLAG_W,SALTREF,SALTREF_FLAG_W,CTDOXY,CTDOXY_FLAG_W,OXYGEN,OXYGEN_FLAG_W,SILCAT,SILCAT_FLAG_W,NITRAT,NITRAT_FLAG_W,NITRIT,NITRIT_FLAG_W,PHSPHT,PHSPHT_FLAG_W,CFC-11,CFC-11_FLAG_W,CFC-12,CFC-12_FLAG_W,CCL4,CCL4_FLAG_W,TCARBN,TCARBN_FLAG_W,ALKALI,ALKALI_FLAG_W,PCO2,PCO2_FLAG_W,PCO2TMP,PH_TOT,PH_TOT_FLAG_W,PH_TMP,SF6,SF6_FLAG_W,DOC,DOC_FLAG_W,TDN,TDN_FLAG_W,TRITUM,TRITUM_FLAG_W,HELIUM,HELIUM_FLAG_W,OXY_18,OXY_18_FLAG_W,BLACKC,BLACKC_FLAG_W,PIGMENTS,PIGMENTS_FLAG_W,SIGMA-THETA,SIGMA-1,SIGMA-2,SIGMA-3,SIGMA-4
,,,,,,,,,,,METERS,DBARS,ITS-90,PSS-78,,PSS-78,,G/KG,,UMOL/KG,,UMOL/KG,,UMOL/KG,,UMOL/KG,,UMOL/KG,,UMOL/KG,,PMOL/KG,,PMOL/KG,,PMOL/KG,,UMOL/KG,,UMOL/KG,,UATM@T,,DEG_C,,,DEG_C,FMOL/KG,,UMOL/KG,,UMOL/KG,,TU,,NMOL/KG,,,,,,,,,,,,
33RO20110828,   A10,    87,  1,     23,    023,2,20000101,0000,-30.0001, -34.9174, 1881,      4.5,  17.9935,  35.9985,2,-999.0000,9,-999.0000,9,   -999.0,9,   -999.0,9,  -999.00,9,  -999.00,9,  -999.00,9,  -999.00,9, -999.000,9, -999.000,9, -999.000,9,   -999.0,9,   -999.0,9,   -999.0,9,  -999.00,-999.0000,9,  -999.00, -999.000,9,   -999.0,9,   -999.0,9, -999.000,9,-999.0000,9,-999.0000,9,-999.0000,9,-999.0000,1, 26.039, 30.337, 34.540, 38.651, 42.673
33RO20110828,   A10,    87,  1,     24,    024,2,20000101,0000,-30.0001, -34.9174, 1881,      4.7,  17.9920,  35.9981,2,  36.0028,2,  36.1725,2,    236.9,2,    237.7,2,     1.17,2,     0.00,2,     0.00,2,     0.07,2,    2.315,2,    1.403,2,    3.888,3,   2074.1,6,   2359.9,2,   -999.0,9,  -999.00,   7.9522,2,    25.51,    1.425,2,   -999.0,9,   -999.0,9, -999.000,9,-999.0000,9,-999.0000,9,-999.0000,9,-999.0000,9, 26.043, 30.340, 34.543, 38.654, 42.677
33RO20110828,   A10,    87,  1,     22,    022,2,20000101,0000,-30.0001, -34.9174, 1881,     34.3,  17.9868,  35.9962,2,  35.9970,2,  36.1668,2,    237.2,2,    237.4,2,     1.17,2,     0.00,2,     0.00,2,     0.07,2,    2.311,2,    1.399,2,    4.003,3,   2073.6,2,   2359.5,2,   -999.0,9,  -999.00,   7.9365,2,    25.49,    1.443,2,   -999.0,9,   -999.0,9, -999.000,9,-999.0000,9,-999.0000,9,-999.0000,9,-999.0000,9, 26.041, 30.338, 34.542, 38.653, 42.676
33RO20110828,   A10,    87,  1,     21,    021,2,20000101,0000,-30.0001, -34.9174, 1881,     34.3,  17.9861,  35.9961,2,-999.0000,9,-999.0000,9,   -999.0,9,   -999.0,9,  -999.00,9,  -999.00,9,  -999.00,9,  -999.00,9, -999.000,9, -999.000,9, -999.000,9,   -999.0,9,   -999.0,9,   -999.0,9,  -999.00,-999.0000,9,  -999.00, -999.000,9,   -999.0,9,   -999.0,9, -999.000,9,-999.0000,9,-999.0000,9,-999.0000,9,-999.0000,9, 26.040, 30.338, 34.541, 38.653, 42.675
33RO20110828,   A10,    87,  1,     20,    020,2,20000101,0000,-30.0001, -34.9174, 1881,     70.8,  17.7766,  35.9834,2,  35.9842,2,  36.1539,2,    237.0,2,    237.7,2,     1.07,2,     0.00,2,     0.00,2,     0.07,2,    2.326,2,    1.411,2,    4.018,3,   2073.4,2,   2357.5,2,   -999.0,9,  -999.00,   7.9396,2,    25.53,    1.451,2,   -999.0,9,   -999.0,9, -999.000,9,-999.0000,9,-999.0000,9,-999.0000,9,-999.0000,9, 26.084, 30.386, 34.593, 38.707, 42.733
33RO20110828,   A10,    87,  1,     19,    019,2,20000101,0000,-30.0001, -34.9174, 1881,     71.0,  17.7778,  35.9834,2,-999.0000,9,-999.0000,9,   -999.0,9,   -999.0,9,  -999.00,9,  -999.00,9,  -999.00,9,  -999.00,9, -999.000,9, -999.000,9, -999.000,9,   -999.0,9,   -999.0,9,   -999.0,9,  -999.00,-999.0000,9,  -999.00, -999.000,9,   -999.0,9,   -999.0,9, -999.000,9,-999.0000,9,-999.0000,9,-999.0000,9,-999.0000,9, 26.083, 30.385, 34.592, 38.707, 42.732
33RO20110828,   A10,    87,  1,     18,    018,2,20000101,0000,-30.0001, -34.9174, 1881,     84.4,  17.5668,  35.9509,2,  35.9476,2,  36.1171,2,    237.7,2,    235.7,2,     1.17,2,     0.10,2,     0.01,2,     0.10,2,    2.345,2,    1.416,2,    3.413,3,   2074.0,2,   2355.3,2,   -999.0,9,  -999.00,   7.9526,2,    25.54,    1.420,2,   -999.0,9,   -999.0,9, -999.000,9,-999.0000,9,-999.0000,9,-999.0000,9,-999.0000,9, 26.108, 30.413, 34.624, 38.742, 42.772
33RO20110828,   A10,    87,  1,     17,    017,2,20000101,0000,-30.0001, -34.9174, 1881,    110.8,  17.4051,  35.9384,2,  35.9399,2,  36.1094,2,    231.7,2,    231.8,2,     1.17,2,     0.29,2,     0.20,2,     0.11,2,    2.345,2,    1.419,2,    3.260,3,   2078.3,2,   2354.4,2,   -999.0,9,  -999.00,   7.9397,2,    25.56,    1.442,2,   -999.0,9,   -999.0,9, -999.000,9,-999.0000,9,-999.0000,9,-999.0000,9,-999.0000,1, 26.143, 30.451, 34.664, 38.785, 42.817
33RO20110828,   A10,    87,  1,     16,    016,2,20000101,0000,-30.0001, -34.9174, 1881,    181.2,  15.9693,  35.6486,2,  35.6504,2,  35.8185,2,    219.5,2,    217.7,2,     1.85,2,     3.41,2,     0.01,2,     0.30,2,    2.551,2,    1.522,2,    1.539,3,   2095.3,2,   2337.8,2,   -999.0,9,  -999.00,   7.8628,2,    25.57,    1.393,2,   -999.0,9,   -999.0,9, -999.000,9,-999.0000,9,-999.0000,9,-999.0000,9,-999.0000,1, 26.262, 30.597, 34.836, 38.982, 43.038
33RO20110828,   A10,    87,  1,     15,    015,2,20000101,0000,-30.0001, -34.9174, 1881,    239.6,  14.6737,  35.4334,2,  35.4355,2,  35.6026,2,    212.7,2,    212.9,2,     2.44,2,     6.15,2,     0.01,2,     0.43,2,    2.740,2,    1.607,2,    1.093,3,   2105.4,2,   2325.9,2,   -999.0,9,  -999.00,   7.8513,2,    25.55,    1.363,2,   -999.0,9,   -999.0,9, -999.000,9,-999.0000,9,-999.0000,9,-999.0000,9,-999.0000,9, 26.387, 30.747, 35.010, 39.180, 43.258
33RO20110828,   A10,    87,  1,     14,    014,2,20000101,0000,-30.0001, -34.9174, 1881,    325.1,  13.8818,  35.3839,2,  35.3822,2,  35.5491,2,    216.1,2,    217.1,2,     2.83,2,     7.80,2,     0.01,2,     0.53,2,    2.843,2,    1.649,2,    1.149,3,   2111.3,2,   2324.8,2,   -999.0,9,  -999.00,   7.8389,2,    25.56,    1.333,2,   -999.0,9,   -999.0,9, -999.000,9,-999.0000,9,-999.0000,9,-999.0000,9,-999.0000,9, 26.517, 30.892, 35.170, 39.354, 43.447
33RO20110828,   A10,    87,  1,     13,    013,2,20000101,0000,-30.0001, -34.9174, 1881,    401.5,  12.7645,  35.2171,2,  35.2320,2,  35.3981,2,    214.5,2,    216.5,2,     3.61,2,    10.15,2,     0.01,2,     0.65,2,    2.967,2,    1.688,2,    1.217,3,   2118.7,2,   2316.2,2,   -999.0,9,  -999.00,   7.8203,2,    25.59,    1.289,2,   -999.0,9,   -999.0,9, -999.000,9,-999.0000,9,-999.0000,9,-999.0000,9,-999.0000,9, 26.631, 31.028, 35.329, 39.534, 43.647
33RO20110828,   A10,    87,  1,     12,    012,2,20000101,0000,-30.0001, -34.9174, 1881,    475.1,  11.1740,  34.9622,2,  34.9623,2,  35.1272,2,    208.2,2,    207.4,2,     5.66,2,    14.64,2,     0.00,2,     0.90,2,    3.107,2,    1.705,2,    1.313,3,   2131.8,2,   2302.4,2,   -999.0,9,  -999.00,   7.7664,2,    25.60,    1.177,2,   -999.0,9,   -999.0,9, -999.000,9,-999.0000,9,-999.0000,9,-999.0000,9,-999.0000,9, 26.725, 31.157, 35.490, 39.728, 43.871
33RO20110828,   A10,    87,  1,     11,    011,2,20000101,0000,-30.0001, -34.9174, 1881,    590.9,   8.7602,  34.6523,2,  34.6573,2,  34.8208,2,    205.3,2,    205.2,2,     9.27,2,    20.50,2,     0.01,2,     1.24,2,    3.189,2,    1.681,2,    1.960,3,   2148.7,2,   2290.3,2,   -999.0,9,  -999.00,   7.6895,2,    25.62,    0.962,2,   -999.0,9,   -999.0,9, -999.000,9,-999.0000,9,-999.0000,9,-999.0000,9,-999.0000,9, 26.898, 31.384, 35.770, 40.058, 44.251
33RO20110828,   A10,    87,  1,     10,    010,2,20000101,0000,-30.0001, -34.9174, 1881,    692.0,   6.9957,  34.4698,2,  34.4692,2,  34.6317,2,    208.4,2,    208.7,2,    13.67,2,    24.79,2,     0.00,2,     1.49,2,    3.140,2,    1.609,2,    2.525,3,   2160.6,2,   2283.1,2,   -999.0,9,  -999.00,   7.6493,2,    25.58,    0.862,2,   -999.0,9,   -999.0,9, -999.000,9,-999.0000,9,-999.0000,9,-999.0000,9,-999.0000,9, 27.010, 31.538, 35.965, 40.293, 44.525
33RO20110828,   A10,    87,  1,      9,    009,2,20000101,0000,-30.0001, -34.9174, 1881,    772.3,   5.8985,  34.3756,2,  34.3757,2,  34.5378,2,    215.5,2,    214.4,2,    16.79,2,    26.75,2,     0.00,2,     1.59,2,    3.100,2,    1.561,2,    2.816,3,   2167.1,2,   2282.5,2,   -999.0,9,  -999.00,   7.6235,2,    25.59,    0.758,2,   -999.0,9,   -999.0,9, -999.000,9,-999.0000,9,-999.0000,9,-999.0000,9,-999.0000,9, 27.081, 31.636, 36.090, 40.443, 44.699
33RO20110828,   A10,    87,  1,      8,    008,2,20000101,0000,-30.0001, -34.9174, 1881,    885.2,   4.6845,  34.3130,2,  34.3153,2,  34.4771,2,    217.8,2,    218.2,2,    24.11,2,    29.29,2,     0.00,2,     1.80,2,    2.706,2,    1.344,2,    3.117,3,   2178.7,2,   2286.6,2,   -999.0,9,  -999.00,   7.6014,2,    25.56,    0.582,2,   -999.0,9,   -999.0,9, -999.000,9,-999.0000,9,-999.0000,9,-999.0000,9,-999.0000,9, 27.176, 31.762, 36.246, 40.629, 44.913
33RO20110828,   A10,    87,  1,      7,    007,2,20000101,0000,-30.0001, -34.9174, 1881,    976.8,   4.1208,  34.3148,2,  34.3159,2,  34.4777,2,    213.6,2,    214.1,2,    30.07,2,    30.36,2,     0.00,2,     1.92,2,    2.275,2,    1.119,2,    2.900,3,   2188.5,2,   2292.2,2,   -999.0,9,  -999.00,   7.5912,2,    25.55,    0.438,2,   -999.0,9,   -999.0,9, -999.000,9,-999.0000,9,-999.0000,9,-999.0000,9,-999.0000,9, 27.237, 31.838, 36.336, 40.733, 45.031
33RO20110828,   A10,    87,  1,      6,    006,2,20000101,0000,-30.0001, -34.9174, 1881,   1105.2,   3.5266,  34.3562,2,  34.3603,2,  34.5223,2,    203.9,2,    203.9,2,    40.02,2,    31.73,2,     0.00,2,     2.08,2,    1.562,2,    0.764,2,    2.309,3,   2204.2,2,   2299.8,2,   -999.0,9,  -999.00,   7.5580,2,    25.55,    0.239,2,   -999.0,9,   -999.0,9, -999.000,9,-999.0000,9,-999.0000,9,-999.0000,9,-999.0000,9, 27.333, 31.949, 36.462, 40.874, 45.185
33RO20110828,   A10,    87,  1,      5,    005,2,20000101,0000,-30.0001, -34.9174, 1881,   1275.0,   3.1724,  34.4616,2,  34.4630,6,  34.6255,6,    191.1,2,    190.3,2,    50.56,2,    32.31,2,     0.00,2,     2.19,2,    0.784,2,    0.384,2,    1.424,3,   2218.6,2,   2314.0,2,   -999.0,9,  -999.00,   7.5658,2,    25.54,    0.099,2,   -999.0,9,   -999.0,9, -999.000,9,-999.0000,9,-999.0000,9,-999.0000,9,-999.0000,9, 27.448, 32.073, 36.595, 41.015, 45.335
33RO20110828,   A10,    87,  1,      4,    004,2,20000101,0000,-30.0001, -34.9174, 1881,   1425.0,   2.9805,  34.5542,2,  34.5556,2,  34.7186,2,    188.1,2,    188.4,2,    55.34,2,    31.72,2,     0.00,2,     2.17,2,    0.402,2,    0.197,2,    0.915,3,   2223.4,6,   2319.6,2,   -999.0,9,  -999.00,   7.5607,2,    25.59,    0.034,2,   -999.0,9,   -999.0,9, -999.000,9,-999.0000,9,-999.0000,9,-999.0000,9,-999.0000,9, 27.541, 32.172, 36.698, 41.122, 45.446
33RO20110828,   A10,    87,  1,      3,    003,2,20000101,0000,-30.0001, -34.9174, 1881,   1575.7,   2.9131,  34.6181,2,  34.6189,2,  34.7821,2,    190.7,2,    191.0,2,    55.93,2,    30.84,2,     0.00,2,     2.13,2,    0.242,2,    0.119,2,    0.672,3,   2223.2,2,   2322.2,2,   -999.0,9,  -999.00,   7.5861,2,    25.53,    0.026,2,   -999.0,9,   -999.0,9, -999.000,9,-999.0000,9,-999.0000,9,-999.0000,9,-999.0000,9, 27.599, 32.231, 36.759, 41.184, 45.510
33RO20110828,   A10,    87,  1,      2,    002,2,20000101,0000,-30.0001, -34.9174, 1881,   1725.6,   2.8582,  34.6893,2,  34.6900,2,  34.8536,2,    197.2,2,    197.6,2,    54.75,2,    29.38,2,     0.00,2,     2.04,2,    0.131,2,    0.066,2,    0.464,3,   2217.2,2,   2316.1,2,   -999.0,9,  -999.00,   7.5899,2,    25.52,    0.022,2,   -999.0,9,   -999.0,9, -999.000,9,-999.0000,9,-999.0000,9,-999.0000,9,-999.0000,9, 27.662, 32.295, 36.824, 41.251, 45.578
33RO20110828,   A10,    87,  1,      1,    001,2,20000101,0000,-30.0001, -34.9174, 1881,   1876.5,   2.8372,  34.7371,2,  34.7387,2,  34.9025,2,    204.9,2,    204.6,2,    53.48,2,    28.11,2,     0.00,2,     1.95,2,    0.080,2,    0.040,2,    0.319,3,   2211.8,6,   2326.9,2,   -999.0,9,  -999.00,   7.6259,2,    25.54,    0.000,2,   -999.0,9,   -999.0,9, -999.000,9,-999.0000,9,-999.0000,9,-999.0000,9,-999.0000,9, 27.704, 32.337, 36.867, 41.294, 45.621