BOTTLE,20130715NOAA
EXPOCODE,SECT_ID,STNNBR,CASTNO,SAMPNO,BTLNBR,BTLNBR_FLAG_W,DATE,TIME,LATITUDE,LONGITUDE,DEPTH,CTDPRS,CTDTMP,CTDSAL,CTDSAL_FLAG_W,SALNTY,SALNTY_FLAG_W,SALTREF,SALTREF_FLAG_W,CTDOXY,CTDOXY_FLAG_W,OXYGEN,OXYGEN_FLAG_W,SILCAT,SILCAT_FLAG_W,NITRAT,NITRAT_FLAG_W,NITRIT,NITRIT_FLAG_W,PHSPHT,PHSPHT_FLAG_W,CFC-11,CFC-11_FLAG_W,CFC-12,CFC-12_FLAG_W,CCL4,CCL4_FLAG_W,TCARBN,TCARBN_FLAG_W,ALKALI,ALKALI_FLAG_W,PCO2,PCO2_FLAG_W,PCO2TMP,PH_TOT,PH_TOT_FLAG_W,PH_TMP,SF6,SF6_FLAG_W,DOC,DOC_FLAG_W,TDN,TDN_FLAG_W,TRITUM,TRITUM_FLAG_W,HELIUM,HELIUM_FLAG_W,OXY_18,OXY_18_FLAG_W,BLACKC,BLACKC_FLAG_W,PIGMENTS,PIGMENTS_FLAG_W,SIGMA-THETA,SIGMA-1,SIGMA-2,SIGMA-3,SIGMA-4
,,,,,,,,,,,METERS,DBARS,ITS-90,PSS-78,,PSS-78,,G/KG,,UMOL/KG,,UMOL/KG,,UMOL/KG,,UMOL/KG,,UMOL/KG,,UMOL/KG,,PMOL/KG,,PMOL/KG,,PMOL/KG,,UMOL/KG,,UMOL/KG,,UATM@T,,DEG_C,,,DEG_C,FMOL/KG,,UMOL/KG,,UMOL/KG,,TU,,NMOL/KG,,,,,,,,,,,,
33RO20110828,   A10,    40,  1,     24,    024,2,20000101,0000,-30.0009,  -4.5089, 4363,      3.8,  18.6555,  35.9261,2,  35.9279,2,  36.0974,2,    237.3,2,    236.9,2,     1.27,2,     0.00,2,     0.01,2,     0.18,2,    2.315,2,    1.410,2,    3.128,3,   2082.3,6,   2357.5,2,   -999.0,9,  -999.00,   7.9356,2,    25.46,    1.422,2,   -999.0,9,   -999.0,9, -999.000,1,-999.0000,1,-999.0000,1,-999.0000,9,-999.0000,1, 25.819, 30.106, 34.299, 38.401, 42.414
33RO20110828,   A10,    40,  1,     23,    023,2,20000101,0000,-30.0009,  -4.5089, 4363,     80.7,  17.4157,  35.8518,2,  35.8526,2,  36.0216,2,    242.3,2,    241.7,2,     1.37,2,     0.00,2,     0.01,2,     0.17,2,    2.380,2,    1.442,2,    3.170,3,   -999.0,9,   2351.9,2,   -999.0,9,  -999.00,   7.9227,2,    25.52,    1.440,2,   -999.0,9,   -999.0,9, -999.000,1,-999.0000,1,-999.0000,1,-999.0000,9,-999.0000,1, 26.072, 30.380, 34.594, 38.715, 42.747
33RO20110828,   A10,    40,  1,     22,    022,2,20000101,0000,-30.0009,  -4.5089, 4363,    109.4,  17.0885,  35.8108,2,  35.8070,2,  35.9758,2,    234.9,2,    234.7,2,     1.56,2,     0.29,2,     0.51,2,     0.24,2,    2.391,2,    1.448,2,    2.104,3,   -999.0,9,   2351.3,2,   -999.0,9,  -999.00,   7.9297,2,    25.45,    1.466,2,   -999.0,9,   -999.0,9, -999.000,1,-999.0000,1,-999.0000,1,-999.0000,9,-999.0000,1, 26.117, 30.431, 34.650, 38.777, 42.815
33RO20110828,   A10,    40,  1,     21,    021,2,20000101,0000,-30.0009,  -4.5089, 4363,    159.0,  16.5809,  35.7370,2,  35.7371,2,  35.9056,2,    231.1,2,    233.7,2,     1.95,2,     0.88,2,     0.74,2,     0.27,2,    2.434,2,    1.472,2,    1.827,3,   -999.0,9,   2344.1,2,   -999.0,9,  -999.00,   7.9088,2,    25.41,    1.464,2,   -999.0,9,   -999.0,9, -999.000,1,-999.0000,1,-999.0000,1,-999.0000,9,-999.0000,9, 26.186, 30.509, 34.737, 38.873, 42.919
33RO20110828,   A10,    40,  1,     20,    020,2,20000101,0000,-30.0009,  -4.5089, 4363,    210.9,  15.1225,  35.4402,2,  35.4450,2,  35.6122,2,    221.0,2,    219.7,2,     2.83,2,     5.17,2,     0.02,2,     0.51,2,    2.638,2,    1.578,2,    0.833,3,   -999.0,9,   2328.0,2,   -999.0,9,  -999.00,   7.8452,2,    25.48,    1.387,2,   -999.0,9,   -999.0,9, -999.000,1,-999.0000,1,-999.0000,1,-999.0000,9,-999.0000,9, 26.295, 30.647, 34.902, 39.063, 43.135
33RO20110828,   A10,    40,  1,     19,    019,2,20000101,0000,-30.0009,  -4.5089, 4363,    283.7,  13.2666,  35.1682,2,  35.1691,2,  35.3350,2,    217.9,2,    217.5,2,     3.61,2,     8.78,2,     0.01,2,     0.74,2,    2.894,2,    1.693,2,    0.841,3,   -999.0,9,   2311.4,2,   -999.0,9,  -999.00,   7.8128,2,    25.36,    1.430,2,   -999.0,9,   -999.0,9, -999.000,1,-999.0000,1,-999.0000,1,-999.0000,9,-999.0000,9, 26.478, 30.866, 35.157, 39.353, 43.457
33RO20110828,   A10,    40,  1,     18,    018,2,20000101,0000,-30.0009,  -4.5089, 4363,    358.7,  12.2438,  35.0689,2,  35.0703,2,  35.2357,2,    210.7,2,    211.1,2,     4.68,2,    12.29,2,     0.02,2,     0.96,2,    3.027,2,    1.727,2,    0.924,3,   -999.0,9,   2306.4,2,   -999.0,9,  -999.00,   7.7828,2,    23.89,    1.276,2,   -999.0,9,   -999.0,9, -999.000,1,-999.0000,1,-999.0000,1,-999.0000,9,-999.0000,9, 26.606, 31.015, 35.326, 39.542, 43.665
33RO20110828,   A10,    40,  1,     17,    017,2,20000101,0000,-30.0009,  -4.5089, 4363,    466.4,  10.6803,  34.8775,2,  34.8791,2,  35.0435,2,    209.5,2,    209.7,2,     6.44,2,    16.20,2,     0.02,2,     1.21,2,    3.123,2,    1.744,2,    1.418,3,   -999.0,9,   2298.6,2,   -999.0,9,  -999.00,   7.7404,2,    25.48,    1.182,2,   -999.0,9,   -999.0,9, -999.000,1,-999.0000,1,-999.0000,1,-999.0000,9,-999.0000,9, 26.749, 31.191, 35.535, 39.783, 43.936
33RO20110828,   A10,    40,  1,     16,    016,2,20000101,0000,-30.0009,  -4.5089, 4363,    589.3,   8.5489,  34.6251,2,  34.6267,2,  34.7900,2,    203.7,2,    203.2,2,    10.74,2,    21.96,2,     0.02,2,     1.62,2,    3.112,2,    1.671,2,    1.450,3,   -999.0,9,   2292.5,2,   -999.0,9,  -999.00,   7.6742,2,    25.63,    0.987,2,   -999.0,9,   -999.0,9, -999.000,1,-999.0000,1,-999.0000,1,-999.0000,9,-999.0000,9, 26.907, 31.398, 35.788, 40.081, 44.279
33RO20110828,   A10,    40,  1,     15,    015,2,20000101,0000,-30.0009,  -4.5089, 4363,    715.6,   6.4620,  34.4290,2,  34.4288,2,  34.5911,2,    203.1,2,    203.7,2,    17.08,2,    27.43,2,     0.01,2,     1.99,2,    2.960,2,    1.546,2,    2.576,3,   -999.0,9,   2288.3,2,   -999.0,9,  -999.00,   7.6277,2,    25.44,    0.822,2,   -999.0,9,   -999.0,9, -999.000,1,-999.0000,1,-999.0000,1,-999.0000,9,-999.0000,9, 27.050, 31.591, 36.031, 40.371, 44.614
33RO20110828,   A10,    40,  1,     14,    014,2,20000101,0000,-30.0009,  -4.5089, 4363,    839.4,   5.0268,  34.3405,2,  34.3407,2,  34.5026,2,    208.6,2,    210.0,2,    24.11,2,    30.17,2,     0.01,2,     2.19,2,    2.714,2,    1.379,2,    2.777,3,   -999.0,9,   2290.8,2,   -999.0,9,  -999.00,   7.6067,2,    25.48,    0.675,2,   -999.0,9,   -999.0,9, -999.000,1,-999.0000,1,-999.0000,1,-999.0000,9,-999.0000,9, 27.157, 31.735, 36.210, 40.584, 44.860
33RO20110828,   A10,    40,  1,     13,    013,2,20000101,0000,-30.0009,  -4.5089, 4363,    970.7,   4.1418,  34.3447,2,  34.3462,2,  34.5081,2,    204.0,2,    203.4,2,    34.27,2,    32.32,2,     0.01,2,     2.35,2,    2.061,2,    1.024,2,    2.315,3,   -999.0,9,   2296.3,2,   -999.0,9,  -999.00,   7.5888,2,    25.51,    0.429,2,   -999.0,9,   -999.0,9, -999.000,1,-999.0000,1,-999.0000,1,-999.0000,9,-999.0000,9, 27.259, 31.859, 36.357, 40.753, 45.049
33RO20110828,   A10,    40,  1,     12,    012,2,20000101,0000,-30.0009,  -4.5089, 4363,   1160.1,   3.4177,  34.4427,2,  34.4429,2,  34.6054,2,    187.8,2,    185.9,2,    49.40,2,    33.78,2,     0.01,2,     2.48,2,    1.020,2,    0.493,2,    1.321,3,   -999.0,9,   2311.4,2,   -999.0,9,  -999.00,   7.5652,2,    25.56,    0.222,2,   -999.0,9,   -999.0,9, -999.000,1,-999.0000,1,-999.0000,1,-999.0000,9,-999.0000,9, 27.409, 32.028, 36.543, 40.957, 45.271
33RO20110828,   A10,    40,  1,     11,    011,2,20000101,0000,-30.0009,  -4.5089, 4363,   1400.5,   3.0503,  34.5841,2,  34.5845,2,  34.7476,2,    183.2,2,    184.5,2,    56.52,2,    32.70,2,     0.01,2,     2.39,2,    0.374,2,    0.173,2,    0.591,3,   -999.0,9,   2322.0,2,   -999.0,9,  -999.00,   7.5701,2,    25.53,    0.069,2,   -999.0,9,   -999.0,9, -999.000,1,-999.0000,1,-999.0000,1,-999.0000,9,-999.0000,9, 27.558, 32.186, 36.710, 41.132, 45.455
33RO20110828,   A10,    40,  1,     10,    010,2,20000101,0000,-30.0009,  -4.5089, 4363,   1648.5,   2.8878,  34.7045,2,  34.7042,2,  34.8679,2,    195.4,2,    195.9,2,    55.63,2,    30.16,2,     0.01,2,     2.19,2,    0.141,2,    0.063,2,    0.222,3,   -999.0,9,   2326.3,2,   -999.0,9,  -999.00,   7.5979,2,    25.52,    0.000,2,   -999.0,9,   -999.0,9, -999.000,1,-999.0000,1,-999.0000,1,-999.0000,9,-999.0000,9, 27.670, 32.302, 36.830, 41.256, 45.582
33RO20110828,   A10,    40,  1,      9,    009,2,20000101,0000,-30.0009,  -4.5089, 4363,   1950.4,   2.6914,  34.7851,2,  34.7852,2,  34.9493,2,    210.9,2,    211.0,2,    55.05,2,    27.82,2,     0.00,2,     2.01,2,    0.057,2,    0.027,2,    0.158,3,   -999.0,9,   2330.9,2,   -999.0,9,  -999.00,   7.6183,2,    25.48,    0.032,2,   -999.0,9,   -999.0,9, -999.000,1,-999.0000,1,-999.0000,1,-999.0000,9,-999.0000,9, 27.754, 32.391, 36.925, 41.356, 45.686
33RO20110828,   A10,    40,  1,      8,    008,2,20000101,0000,-30.0009,  -4.5089, 4363,   2229.2,   2.5483,  34.8236,2,  34.8234,2,  34.9876,2,    221.7,2,    221.3,2,    54.07,2,    26.35,2,     0.00,2,     1.89,2,    0.027,2,    0.013,2,    0.112,3,   -999.0,9,   2332.7,2,   -999.0,9,  -999.00,   7.6483,2,    25.57,    0.000,2,   -999.0,9,   -999.0,9, -999.000,1,-999.0000,1,-999.0000,9,-999.0000,9,-999.0000,9, 27.799, 32.440, 36.978, 41.413, 45.747
33RO20110828,   A10,    40,  1,      7,    007,2,20000101,0000,-30.0009,  -4.5089, 4363,   2551.2,   2.4396,  34.8504,2,  34.8513,2,  35.0157,2,    230.7,2,    231.5,2,    52.31,2,    25.08,2,     0.00,2,     1.79,2,    0.010,2,    0.005,2,    0.071,3,   -999.0,9,   2333.9,2,   -999.0,9,  -999.00,   7.6655,2,    25.52,    0.000,2,   -999.0,9,   -999.0,9, -999.000,1,-999.0000,1,-999.0000,9,-999.0000,9,-999.0000,9, 27.833, 32.478, 37.019, 41.457, 45.794
33RO20110828,   A10,    40,  1,      6,    006,2,20000101,0000,-30.0009,  -4.5089, 4363,   2849.6,   2.3851,  34.8619,2,  34.8624,2,  35.0268,2,    235.1,2,    234.9,2,    52.21,2,    24.59,2,     0.00,2,     1.76,2,    0.005,2,    0.004,2,    0.049,3,   -999.0,9,   2337.1,2,   -999.0,9,  -999.00,   7.6773,2,    25.52,    0.000,2,   -999.0,9,   -999.0,9, -999.000,9,-999.0000,1,-999.0000,9,-999.0000,9,-999.0000,9, 27.848, 32.496, 37.039, 41.479, 45.818
33RO20110828,   A10,    40,  1,      5,    005,2,20000101,0000,-30.0009,  -4.5089, 4363,   3149.3,   2.3564,  34.8698,2,  34.8701,2,  35.0345,2,    236.3,2,    236.1,2,    52.31,2,    24.30,2,     0.00,2,     1.73,2,    0.004,2,    0.002,2,    0.042,3,   -999.0,9,   2341.1,2,   -999.0,9,  -999.00,   7.6819,2,    25.52,    0.000,2,   -999.0,9,   -999.0,9, -999.000,1,-999.0000,1,-999.0000,9,-999.0000,9,-999.0000,9, 27.859, 32.508, 37.053, 41.494, 45.835
33RO20110828,   A10,    40,  1,      4,    004,2,20000101,0000,-30.0009,  -4.5089, 4363,   3450.7,   2.3483,  34.8744,2,  34.8750,2,  35.0394,2,    235.6,2,    235.4,2,    52.70,2,    24.11,2,     0.01,2,     1.73,2,    0.005,2,    0.003,2,    0.043,3,   -999.0,9,   2344.9,2,   -999.0,9,  -999.00,   7.6834,2,    25.65,    0.000,2,   -999.0,9,   -999.0,9, -999.000,9,-999.0000,1,-999.0000,9,-999.0000,9,-999.0000,9, 27.866, 32.516, 37.062, 41.505, 45.846
33RO20110828,   A10,    40,  1,      3,    003,2,20000101,0000,-30.0009,  -4.5089, 4363,   3748.9,   2.3458,  34.8765,2,  34.8764,2,  35.0408,2,    234.1,2,    234.4,2,    53.77,2,    24.30,2,     0.02,2,     1.73,2,    0.005,2,    0.003,2,    0.046,3,   -999.0,9,   2350.2,2,   -999.0,9,  -999.00,   7.6834,2,    25.58,    0.000,2,   -999.0,9,   -999.0,9, -999.000,1,-999.0000,1,-999.0000,9,-999.0000,9,-999.0000,9, 27.870, 32.521, 37.068, 41.511, 45.854
33RO20110828,   A10,    40,  1,      2,    002,2,20000101,0000,-30.0009,  -4.5089, 4363,   4052.4,   2.3309,  34.8731,2,  34.8741,2,  35.0386,2,    232.7,2,    232.2,2,    55.73,2,    24.59,2,     0.01,2,     1.75,2,    0.005,2,    0.004,2,    0.044,3,   -999.0,9,   2353.8,2,   -999.0,9,  -999.00,   7.6817,2,    25.59,    0.000,2,   -999.0,9,   -999.0,9, -999.000,1,-999.0000,1,-999.0000,9,-999.0000,9,-999.0000,9, 27.872, 32.525, 37.072, 41.517, 45.861
33RO20110828,   A10,    40,  1,      1,    001,2,20000101,0000,-30.0009,  -4.5089, 4363,   4450.1,   2.2802,  34.8616,2,  34.8627,2,  35.0270,2,    231.0,2,    231.4,2,    60.22,2,    25.18,2,     0.01,2,     1.79,2,    0.009,2,    0.005,2,    0.054,3,   -999.0,9,   2354.2,2,   -999.0,9,  -999.00,   7.6866,2,    25.48,    0.000,2,   -999.0,9,   -999.0,9, -999.000,1,-999.0000,1,-999.0000,9,-999.0000,9,-999.0000,9, 27.871, 32.526, 37.076, 41.524, 45.870