BOTTLE,20130715NOAA
EXPOCODE,SECT_ID,STNNBR,CASTNO,SAMPNO,BTLNBR,BTLNBR_FLAG_W,DATE,TIME,LATITUDE,LONGITUDE,DEPTH,CTDPRS,CTDTMP,CTDSAL,CTDSAL_FLAG_W,SALNTY,SALNTY_FLAG_W,SALTREF,SALTREF_FLAG_W,CTDOXY,CTDOXY_FLAG_W,OXYGEN,OXYGEN_FLAG_W,SILCAT,SILCAT_FLAG_W,NITRAT,NITRAT_FLAG_W,NITRIT,NITRIT_FLAG_W,PHSPHT,PHSPHT_FLAG_W,CFC-11,CFC-11_FLAG_W,CFC-12,CFC-12_FLAG_W,CCL4,CCL4_FLAG_W,TCARBN,TCARBN_FLAG_W,ALKALI,ALKALI_FLAG_W,PCO2,PCO2_FLAG_W,PCO2TMP,PH_TOT,PH_TOT_FLAG_W,PH_TMP,SF6,SF6_FLAG_W,DOC,DOC_FLAG_W,TDN,TDN_FLAG_W,TRITUM,TRITUM_FLAG_W,HELIUM,HELIUM_FLAG_W,OXY_18,OXY_18_FLAG_W,BLACKC,BLACKC_FLAG_W,PIGMENTS,PIGMENTS_FLAG_W,SIGMA-THETA,SIGMA-1,SIGMA-2,SIGMA-3,SIGMA-4
,,,,,,,,,,,METERS,DBARS,ITS-90,PSS-78,,PSS-78,,G/KG,,UMOL/KG,,UMOL/KG,,UMOL/KG,,UMOL/KG,,UMOL/KG,,UMOL/KG,,PMOL/KG,,PMOL/KG,,PMOL/KG,,UMOL/KG,,UMOL/KG,,UATM@T,,DEG_C,,,DEG_C,FMOL/KG,,UMOL/KG,,UMOL/KG,,TU,,NMOL/KG,,,,,,,,,,,,
33RO20110828,   A10,    65,  1,     24,    024,2,20000101,0000,-29.9999, -22.0216, 4746,      5.5,  19.2728,  36.2878,2,  36.2870,2,  36.4581,2,    229.8,2,    229.7,2,     1.27,2,     0.00,2,     0.01,2,     0.11,2,    2.168,2,    1.322,2,    3.107,3,   2090.3,6,   2379.7,2,   -999.0,9,  -999.00,   7.9464,2,    25.63,    1.315,2,   -999.0,1,   -999.0,1, -999.000,9,-999.0000,9,-999.0000,9,-999.0000,9,-999.0000,1, 25.935, 30.210, 34.392, 38.482, 42.484
33RO20110828,   A10,    65,  1,     23,    023,2,20000101,0000,-29.9999, -22.0216, 4746,     24.5,  19.2631,  36.2879,2,  36.2848,2,  36.4559,2,    229.8,2,    230.1,2,     1.27,2,     0.00,2,     0.01,2,     0.11,2,    2.164,2,    1.325,2,    2.968,3,   2088.6,2,   2378.7,2,   -999.0,9,  -999.00,   7.9448,2,    25.65,    1.355,2,   -999.0,1,   -999.0,1, -999.000,9,-999.0000,9,-999.0000,9,-999.0000,9,-999.0000,9, 25.937, 30.212, 34.394, 38.484, 42.486
33RO20110828,   A10,    65,  1,     22,    022,2,20000101,0000,-29.9999, -22.0216, 4746,     65.0,  19.2319,  36.2841,2,  36.2831,2,  36.4542,2,    230.0,2,    230.5,2,     1.27,2,     0.00,2,     0.01,2,     0.12,2,    2.169,2,    1.322,2,    3.387,3,   2088.9,2,   2380.8,3,   -999.0,9,  -999.00,   7.9414,2,    25.71,    1.401,2,   -999.0,1,   -999.0,1, -999.000,9,-999.0000,9,-999.0000,9,-999.0000,9,-999.0000,9, 25.945, 30.221, 34.404, 38.495, 42.497
33RO20110828,   A10,    65,  1,     21,    021,2,20000101,0000,-29.9999, -22.0216, 4746,    119.5,  19.2249,  36.2846,2,  36.2843,2,  36.4554,2,    229.3,2,    230.4,2,     1.27,2,     0.00,2,     0.01,2,     0.12,2,    2.169,2,    1.324,2,    3.601,3,   2090.5,2,   2380.4,3,   -999.0,9,  -999.00,   7.9624,2,    25.65,    1.360,2,   -999.0,1,   -999.0,1, -999.000,9,-999.0000,9,-999.0000,9,-999.0000,9,-999.0000,9, 25.951, 30.227, 34.409, 38.501, 42.504
33RO20110828,   A10,    65,  1,     20,    020,2,20000101,0000,-29.9999, -22.0216, 4746,    154.0,  18.0907,  35.9990,2,  35.9945,2,  36.1642,2,    232.0,2,    231.9,2,     1.37,2,     0.10,2,     0.02,2,     0.14,2,    2.303,2,    1.392,2,    3.693,3,   2084.9,2,   2360.9,3,   -999.0,9,  -999.00,   7.9151,2,    25.67,    1.387,2,   -999.0,1,   -999.0,1, -999.000,9,-999.0000,9,-999.0000,9,-999.0000,9,-999.0000,1, 26.018, 30.315, 34.516, 38.627, 42.648
33RO20110828,   A10,    65,  1,     19,    019,2,20000101,0000,-29.9999, -22.0216, 4746,    220.6,  15.9256,  35.5977,2,  35.6000,2,  35.7679,2,    215.1,2,    212.8,2,     2.34,2,     4.10,2,     0.02,2,     0.37,2,    2.570,2,    1.527,2,    1.191,3,   2104.7,2,   2336.0,2,   -999.0,9,  -999.00,   7.8727,2,    25.61,    1.333,2,   -999.0,1,   -999.0,1, -999.000,9,-999.0000,9,-999.0000,9,-999.0000,9,-999.0000,9, 26.234, 30.570, 34.811, 38.958, 43.015
33RO20110828,   A10,    65,  1,     18,    018,2,20000101,0000,-29.9999, -22.0216, 4746,    349.6,  13.1344,  35.2003,2,  35.2000,2,  35.3660,2,    211.8,2,    209.0,2,     3.71,2,     9.85,2,     0.01,2,     0.65,2,    2.922,2,    1.670,2,    1.122,3,   2122.1,2,   2313.3,2,   -999.0,9,  -999.00,   7.8070,2,    25.67,    1.263,2,   -999.0,1,   -999.0,1, -999.000,9,-999.0000,9,-999.0000,9,-999.0000,9,-999.0000,9, 26.531, 30.921, 35.214, 39.413, 43.520
33RO20110828,   A10,    65,  1,     17,    017,2,20000101,0000,-29.9999, -22.0216, 4746,    449.7,  11.6986,  35.0241,2,  35.0232,2,  35.1883,2,    205.8,2,    205.1,2,     5.27,2,    13.66,2,     0.01,2,     0.84,2,    3.032,2,    1.688,2,    1.115,3,   2134.5,2,   2306.4,2,   -999.0,9,  -999.00,   7.7388,2,    25.70,    1.139,2,   -999.0,1,   -999.0,1, -999.000,9,-999.0000,9,-999.0000,9,-999.0000,9,-999.0000,9, 26.675, 31.096, 35.418, 39.645, 43.778
33RO20110828,   A10,    65,  1,     16,    016,2,20000101,0000,-29.9999, -22.0216, 4746,    599.3,   8.8040,  34.6560,2,  34.6545,2,  34.8179,2,    204.6,2,    210.6,2,     8.59,2,    19.71,2,     0.01,2,     1.18,2,    3.263,2,    1.735,2,    1.912,3,   2150.2,2,   2290.1,2,   -999.0,9,  -999.00,   7.6932,2,    25.65,    1.025,2,   -999.0,1,   -999.0,1, -999.000,9,-999.0000,9,-999.0000,9,-999.0000,9,-999.0000,9, 26.889, 31.374, 35.759, 40.047, 44.239
33RO20110828,   A10,    65,  1,     15,    015,2,20000101,0000,-29.9999, -22.0216, 4746,    749.0,   5.8997,  34.3822,2,  34.3829,2,  34.5450,2,    209.5,2,    210.5,2,    17.67,2,    26.85,2,     0.01,2,     1.63,2,    3.007,2,    1.522,2,    2.658,3,   2174.1,2,   2284.6,2,   -999.0,9,  -999.00,   7.6225,2,    25.60,    0.697,2,   -999.0,1,   -999.0,1, -999.000,9,-999.0000,9,-999.0000,9,-999.0000,9,-999.0000,9, 27.086, 31.641, 36.095, 40.448, 44.704
33RO20110828,   A10,    65,  1,     14,    014,2,20000101,0000,-29.9999, -22.0216, 4746,    899.0,   4.5969,  34.3271,2,  34.3280,2,  34.4898,2,    213.9,2,    211.8,2,    26.75,2,    29.58,2,     0.01,2,     1.84,2,    2.498,2,    1.231,2,    2.654,3,   2187.8,2,   2289.9,2,   -999.0,9,  -999.00,   7.6038,2,    25.62,    0.511,2,   -999.0,1,   -999.0,1, -999.000,9,-999.0000,9,-999.0000,9,-999.0000,9,-999.0000,9, 27.196, 31.784, 36.270, 40.655, 44.941
33RO20110828,   A10,    65,  1,     13,    013,2,20000101,0000,-29.9999, -22.0216, 4746,   1097.5,   3.6621,  34.3794,2,  34.3804,2,  34.5425,2,    198.1,2,    197.5,2,    40.90,2,    31.63,2,     0.01,2,     2.08,2,    1.476,2,    0.721,2,    1.947,3,   2210.4,2,   2303.1,2,   -999.0,9,  -999.00,   7.5808,2,    25.56,    0.249,2,   -999.0,1,   -999.0,1, -999.000,9,-999.0000,9,-999.0000,9,-999.0000,9,-999.0000,9, 27.335, 31.948, 36.458, 40.865, 45.174
33RO20110828,   A10,    65,  1,     12,    012,2,20000101,0000,-29.9999, -22.0216, 4746,   1294.4,   3.2184,  34.4944,2,  34.4950,2,  34.6577,2,    187.4,2,    185.6,2,    51.64,2,    32.02,2,     0.01,2,     2.18,2,    0.667,2,    0.323,2,    1.088,3,   2225.7,2,   2315.8,2,   -999.0,9,  -999.00,   7.5550,2,    25.54,    0.117,2,   -999.0,1,   -999.0,1, -999.000,9,-999.0000,9,-999.0000,9,-999.0000,9,-999.0000,9, 27.470, 32.095, 36.615, 41.033, 45.352
33RO20110828,   A10,    65,  1,     11,    011,2,20000101,0000,-29.9999, -22.0216, 4746,   1498.0,   2.9862,  34.6247,2,  34.6256,2,  34.7889,2,    188.9,2,    189.1,2,    55.14,2,    30.26,2,     0.01,2,     2.12,2,    0.248,2,    0.120,2,    0.544,3,   2228.6,6,   2323.0,2,   -999.0,9,  -999.00,   7.5727,2,    25.55,    0.081,2,   -999.0,1,   -999.0,1, -999.000,9,-999.0000,9,-999.0000,9,-999.0000,9,-999.0000,9, 27.597, 32.227, 36.753, 41.176, 45.500
33RO20110828,   A10,    65,  1,     10,    010,2,20000101,0000,-29.9999, -22.0216, 4746,   1797.5,   2.8049,  34.7477,2,  34.7473,2,  34.9111,2,    205.1,2,    206.5,2,    52.80,2,    27.23,2,     0.01,2,     1.93,2,    0.071,2,    0.036,2,    0.254,3,   2215.5,2,   2327.2,2,   -999.0,9,  -999.00,   7.6113,2,    25.58,    0.000,2,   -999.0,1,   -999.0,1, -999.000,9,-999.0000,9,-999.0000,9,-999.0000,9,-999.0000,9, 27.713, 32.347, 36.877, 41.305, 45.633
33RO20110828,   A10,    65,  1,      9,    009,2,20000101,0000,-29.9999, -22.0216, 4746,   2100.7,   2.7211,  34.8190,2,  34.8196,2,  34.9838,2,    222.9,2,    224.4,2,    48.11,2,    24.79,2,     0.01,2,     1.74,2,    0.024,2,    0.013,2,    0.130,3,   2205.3,2,   2326.9,2,   -999.0,9,  -999.00,   7.6449,2,    25.61,    0.000,2,   -999.0,1,   -999.0,1, -999.000,9,-999.0000,9,-999.0000,9,-999.0000,9,-999.0000,9, 27.780, 32.417, 36.949, 41.380, 45.709
33RO20110828,   A10,    65,  1,      8,    008,2,20000101,0000,-29.9999, -22.0216, 4746,   2450.1,   2.7271,  34.8662,2,  34.8671,2,  35.0315,2,    237.1,2,    236.8,2,    42.64,2,    22.83,2,     0.01,2,     1.58,2,    0.011,2,    0.007,2,    0.086,3,   2194.0,2,   2328.4,2,   -999.0,9,  -999.00,   7.6627,2,    25.52,    0.000,2,   -999.0,1,   -999.0,1, -999.000,9,-999.0000,9,-999.0000,9,-999.0000,9,-999.0000,9, 27.821, 32.458, 36.990, 41.421, 45.751
33RO20110828,   A10,    65,  1,      7,    007,2,20000101,0000,-29.9999, -22.0216, 4746,   2799.0,   2.7304,  34.8965,2,  34.8971,2,  35.0617,2,    245.9,2,    246.0,2,    38.15,2,    21.37,2,     0.01,2,     1.47,2,    0.010,2,    0.007,2,    0.108,3,   2186.4,2,   2325.8,2,   -999.0,9,  -999.00,   7.6843,2,    25.50,    0.000,2,   -999.0,1,   -999.0,1, -999.000,9,-999.0000,9,-999.0000,9,-999.0000,9,-999.0000,9, 27.847, 32.485, 37.018, 41.449, 45.780
33RO20110828,   A10,    65,  1,      6,    006,2,20000101,0000,-29.9999, -22.0216, 4746,   3150.2,   2.5951,  34.8984,2,  34.8987,2,  35.0633,2,    249.8,2,    249.3,2,    39.91,2,    21.18,2,     0.01,2,     1.47,2,    0.005,2,    0.003,2,    0.092,3,   2185.2,2,   2326.9,2,   -999.0,9,  -999.00,   7.6920,2,    25.55,    0.000,2,   -999.0,1,   -999.0,1, -999.000,9,-999.0000,9,-999.0000,9,-999.0000,9,-999.0000,9, 27.863, 32.505, 37.043, 41.478, 45.813
33RO20110828,   A10,    65,  1,      5,    005,2,20000101,0000,-29.9999, -22.0216, 4746,   3399.6,   2.3669,  34.8805,2,  34.8807,6,  35.0451,6,    248.4,2,    248.6,2,    47.13,2,    22.05,2,     0.01,2,     1.57,2,    0.005,2,    0.004,2,    0.070,3,   2192.0,2,   2330.1,2,   -999.0,9,  -999.00,   7.6748,2,    25.51,    0.098,2,   -999.0,1,   -999.0,1, -999.000,9,-999.0000,9,-999.0000,9,-999.0000,9,-999.0000,9, 27.869, 32.518, 37.063, 41.505, 45.846
33RO20110828,   A10,    65,  1,      4,    004,2,20000101,0000,-29.9999, -22.0216, 4746,   3650.4,   2.0314,  34.8478,2,  34.8480,2,  35.0123,2,    244.3,2,    244.0,2,    59.33,2,    23.71,2,     0.01,2,     1.75,2,    0.007,2,    0.004,2,    0.078,3,   2204.3,2,   2337.1,2,   -999.0,9,  -999.00,   7.6712,2,    25.42,    0.142,2,   -999.0,1,   -999.0,1, -999.000,9,-999.0000,9,-999.0000,9,-999.0000,9,-999.0000,9, 27.871, 32.530, 37.085, 41.536, 45.887
33RO20110828,   A10,    65,  1,      3,    003,2,20000101,0000,-29.9999, -22.0216, 4746,   3949.5,   1.5965,  34.8008,2,  34.8008,2,  34.9649,2,    235.7,2,    235.7,2,    77.88,2,    26.06,2,     0.01,2,     2.03,2,    0.022,2,    0.011,2,    0.118,3,   2222.9,2,   2347.4,2,   -999.0,9,  -999.00,   7.6500,2,    25.57,    0.132,2,   -999.0,1,   -999.0,1, -999.000,9,-999.0000,9,-999.0000,9,-999.0000,9,-999.0000,9, 27.866, 32.539, 37.107, 41.571, 45.933
33RO20110828,   A10,    65,  1,      2,    002,2,20000101,0000,-29.9999, -22.0216, 4746,   4350.5,   1.2848,  34.7627,2,  34.7625,2,  34.9264,2,    228.5,2,    228.3,2,    92.81,2,    28.11,2,     0.01,2,     2.26,2,    0.058,2,    0.030,2,    0.191,3,   2238.7,2,   2356.2,2,   -999.0,9,  -999.00,   7.6215,2,    25.52,    0.109,2,   -999.0,1,   -999.0,1, -999.000,9,-999.0000,9,-999.0000,9,-999.0000,9,-999.0000,9, 27.859, 32.542, 37.120, 41.594, 45.966
33RO20110828,   A10,    65,  1,      1,    001,2,20000101,0000,-29.9999, -22.0216, 4746,   4789.4,   1.2866,  34.7573,2,  34.7585,2,  34.9224,2,    227.5,2,    227.8,2,    95.15,2,    28.11,2,     0.01,2,     2.29,2,    0.067,2,    0.033,2,    0.173,3,   2241.5,6,   2354.9,2,   -999.0,9,  -999.00,   7.6191,2,    25.40,    0.127,2,   -999.0,1,   -999.0,1, -999.000,9,-999.0000,9,-999.0000,9,-999.0000,9,-999.0000,9, 27.859, 32.543, 37.122, 41.598, 45.971