BOTTLE,20130715NOAA
EXPOCODE,SECT_ID,STNNBR,CASTNO,SAMPNO,BTLNBR,BTLNBR_FLAG_W,DATE,TIME,LATITUDE,LONGITUDE,DEPTH,CTDPRS,CTDTMP,CTDSAL,CTDSAL_FLAG_W,SALNTY,SALNTY_FLAG_W,SALTREF,SALTREF_FLAG_W,CTDOXY,CTDOXY_FLAG_W,OXYGEN,OXYGEN_FLAG_W,SILCAT,SILCAT_FLAG_W,NITRAT,NITRAT_FLAG_W,NITRIT,NITRIT_FLAG_W,PHSPHT,PHSPHT_FLAG_W,CFC-11,CFC-11_FLAG_W,CFC-12,CFC-12_FLAG_W,CCL4,CCL4_FLAG_W,TCARBN,TCARBN_FLAG_W,ALKALI,ALKALI_FLAG_W,PCO2,PCO2_FLAG_W,PCO2TMP,PH_TOT,PH_TOT_FLAG_W,PH_TMP,SF6,SF6_FLAG_W,DOC,DOC_FLAG_W,TDN,TDN_FLAG_W,TRITUM,TRITUM_FLAG_W,HELIUM,HELIUM_FLAG_W,OXY_18,OXY_18_FLAG_W,BLACKC,BLACKC_FLAG_W,PIGMENTS,PIGMENTS_FLAG_W,SIGMA-THETA,SIGMA-1,SIGMA-2,SIGMA-3,SIGMA-4
,,,,,,,,,,,METERS,DBARS,ITS-90,PSS-78,,PSS-78,,G/KG,,UMOL/KG,,UMOL/KG,,UMOL/KG,,UMOL/KG,,UMOL/KG,,UMOL/KG,,PMOL/KG,,PMOL/KG,,PMOL/KG,,UMOL/KG,,UMOL/KG,,UATM@T,,DEG_C,,,DEG_C,FMOL/KG,,UMOL/KG,,UMOL/KG,,TU,,NMOL/KG,,,,,,,,,,,,
33RO20110828,   A10,    46,  1,     24,    024,2,20000101,0000,-29.9995,  -7.9584, 4125,      5.2,  18.5660,  36.0015,2,  36.0015,2,  36.1713,2,    235.9,2,    123.3,2,     1.27,2,     0.00,2,     0.00,2,     0.16,2,    2.250,2,    1.377,2,    4.001,3,   2086.3,6,   2362.1,2,   -999.0,9,  -999.00,   7.9499,2,    25.52,    1.400,2,   -999.0,9,   -999.0,9, -999.000,1,-999.0000,1,-999.0000,1,-999.0000,9,-999.0000,1, 25.898, 30.186, 34.380, 38.483, 42.496
33RO20110828,   A10,    46,  1,     23,    023,2,20000101,0000,-29.9995,  -7.9584, 4125,     34.3,  18.5684,  36.0015,2,  36.0033,2,  36.1731,2,    236.0,2,    235.8,2,     1.27,2,     0.00,2,     0.00,2,     0.16,2,    2.257,2,    1.381,2,    3.827,3,   -999.0,9,   2360.1,2,   -999.0,9,  -999.00,   7.9471,2,    25.50,    1.412,2,   -999.0,9,   -999.0,9, -999.000,1,-999.0000,1,-999.0000,1,-999.0000,9,-999.0000,9, 25.900, 30.188, 34.382, 38.485, 42.499
33RO20110828,   A10,    46,  1,     22,    022,2,20000101,0000,-29.9995,  -7.9584, 4125,     76.0,  18.0171,  35.9643,2,  35.9645,2,  36.1341,2,    237.6,2,    237.6,2,     1.37,2,     0.00,2,     0.00,2,     0.17,2,    2.287,2,    1.399,2,    3.891,3,   -999.0,9,   2357.9,2,   -999.0,9,  -999.00,   7.9193,2,    25.53,    1.411,2,   -999.0,9,   -999.0,9, -999.000,1,-999.0000,1,-999.0000,1,-999.0000,9,-999.0000,1, 26.010, 30.308, 34.511, 38.622, 42.644
33RO20110828,   A10,    46,  1,     21,    021,2,20000101,0000,-29.9995,  -7.9584, 4125,    123.6,  17.4789,  35.8817,2,  35.8819,2,  36.0511,2,    234.6,2,    235.2,2,     1.46,2,     0.20,2,     0.11,2,     0.20,2,    2.327,2,    1.422,2,    2.712,3,   2091.7,2,   2353.1,2,   -999.0,9,  -999.00,   7.9229,2,    25.47,    1.423,2,   -999.0,9,   -999.0,9, -999.000,1,-999.0000,1,-999.0000,1,-999.0000,9,-999.0000,1, 26.081, 30.388, 34.600, 38.721, 42.752
33RO20110828,   A10,    46,  1,     20,    020,2,20000101,0000,-29.9995,  -7.9584, 4125,    174.1,  16.1697,  35.6322,2,  35.6309,2,  35.7990,2,    222.2,2,    221.8,2,     2.05,2,     3.02,2,     0.05,2,     0.38,2,    2.490,2,    1.505,2,    1.403,3,   -999.0,9,   2337.4,2,   -999.0,9,  -999.00,   7.8738,2,    25.49,    1.421,2,   -999.0,9,   -999.0,9, -999.000,1,-999.0000,1,-999.0000,1,-999.0000,9,-999.0000,9, 26.200, 30.532, 34.768, 38.911, 42.964
33RO20110828,   A10,    46,  1,     19,    019,2,20000101,0000,-29.9995,  -7.9584, 4125,    250.3,  14.1039,  35.3101,2,  35.3144,2,  35.4809,2,    219.8,2,    218.1,2,     2.83,2,     6.64,2,     0.01,2,     0.61,2,    2.761,2,    1.633,2,    1.157,3,   -999.0,9,   2318.9,2,   -999.0,9,  -999.00,   7.8347,2,    25.53,    1.440,2,   -999.0,9,   -999.0,9, -999.000,1,-999.0000,1,-999.0000,1,-999.0000,9,-999.0000,9, 26.416, 30.787, 35.061, 39.242, 43.331
33RO20110828,   A10,    46,  1,     18,    018,2,20000101,0000,-29.9995,  -7.9584, 4125,    325.7,  12.6256,  35.1116,2,  35.1139,2,  35.2795,2,    212.9,2,    213.3,2,     4.20,2,    10.83,2,     0.01,2,     0.88,2,    2.974,2,    1.710,2,    1.347,3,   2124.8,2,   2311.6,2,   -999.0,9,  -999.00,   7.7910,2,    25.50,    1.298,2,   -999.0,9,   -999.0,9, -999.000,1,-999.0000,1,-999.0000,1,-999.0000,9,-999.0000,9, 26.565, 30.966, 35.269, 39.477, 43.593
33RO20110828,   A10,    46,  1,     17,    017,2,20000101,0000,-29.9995,  -7.9584, 4125,    400.8,  11.3985,  34.9703,2,  34.9757,2,  35.1406,2,    209.7,2,    210.9,2,     5.27,2,    13.86,2,     0.00,2,     1.07,2,    3.052,2,    1.720,2,    1.428,3,   -999.0,9,   2301.6,2,   -999.0,9,  -999.00,   7.7569,2,    25.48,    1.136,2,   -999.0,9,   -999.0,9, -999.000,1,-999.0000,1,-999.0000,1,-999.0000,9,-999.0000,9, 26.693, 31.120, 35.448, 39.681, 43.820
33RO20110828,   A10,    46,  1,     16,    016,2,20000101,0000,-29.9995,  -7.9584, 4125,    473.2,  10.3180,  34.8364,2,  34.8364,2,  35.0007,2,    207.9,2,    208.8,2,     6.74,2,    16.69,2,     0.00,2,     1.26,2,    3.095,2,    1.720,2,    1.585,3,   -999.0,9,   2296.5,2,   -999.0,9,  -999.00,   7.7287,2,    25.52,    1.102,2,   -999.0,9,   -999.0,9, -999.000,1,-999.0000,1,-999.0000,1,-999.0000,9,-999.0000,9, 26.779, 31.230, 35.581, 39.836, 43.997
33RO20110828,   A10,    46,  1,     15,    015,2,20000101,0000,-29.9995,  -7.9584, 4125,    566.8,   8.5057,  34.6231,2,  34.6246,2,  34.7878,2,    202.0,2,    201.4,2,    10.64,2,    21.68,2,     0.00,2,     1.60,2,    3.115,2,    1.659,2,    2.140,3,   2160.6,2,   2287.8,2,   -999.0,9,  -999.00,   7.6728,2,    25.53,    0.971,2,   -999.0,9,   -999.0,9, -999.000,1,-999.0000,1,-999.0000,1,-999.0000,9,-999.0000,9, 26.911, 31.403, 35.795, 40.089, 44.287
33RO20110828,   A10,    46,  1,     14,    014,2,20000101,0000,-29.9995,  -7.9584, 4125,    628.8,   7.2883,  34.4988,2,  34.5034,2,  34.6661,2,    204.4,2,    204.5,2,    13.48,2,    24.41,2,     0.00,2,     1.79,2,    3.064,2,    1.617,2,    2.879,3,   -999.0,9,   2285.0,2,   -999.0,9,  -999.00,   7.6423,2,    25.53,    0.841,2,   -999.0,9,   -999.0,9, -999.000,1,-999.0000,1,-999.0000,1,-999.0000,9,-999.0000,9, 26.996, 31.517, 35.937, 40.258, 44.482
33RO20110828,   A10,    46,  1,     13,    013,2,20000101,0000,-29.9995,  -7.9584, 4125,    800.1,   4.9328,  34.3121,2,  34.3132,2,  34.4750,2,    218.9,2,    219.5,2,    21.58,2,    28.62,2,     0.00,2,     2.09,2,    2.940,2,    1.505,2,    3.796,3,   -999.0,9,   2287.1,2,   -999.0,9,  -999.00,   7.6129,2,    25.52,    0.691,2,   -999.0,9,   -999.0,9, -999.000,1,-999.0000,1,-999.0000,1,-999.0000,9,-999.0000,9, 27.146, 31.726, 36.203, 40.580, 44.858
33RO20110828,   A10,    46,  1,     12,    012,2,20000101,0000,-29.9995,  -7.9584, 4125,    933.4,   4.0410,  34.3214,2,  34.3224,2,  34.4843,2,    210.7,2,    211.0,2,    31.84,2,    30.86,2,     0.00,2,     2.27,2,    2.237,2,    1.131,2,    3.227,3,   -999.0,9,   2295.4,2,   -999.0,9,  -999.00,-999.0000,9,  -999.00,    0.465,2,   -999.0,9,   -999.0,9, -999.000,1,-999.0000,1,-999.0000,1,-999.0000,9,-999.0000,9, 27.250, 31.853, 36.353, 40.752, 45.051
33RO20110828,   A10,    46,  1,     11,    011,2,20000101,0000,-29.9995,  -7.9584, 4125,   1129.8,   3.4266,  34.4427,2,  34.4435,2,  34.6059,2,    188.1,2,    185.8,2,    47.75,2,    32.71,2,     0.01,2,     2.41,2,    0.971,2,    0.476,2,    1.756,3,   2222.1,2,   2309.3,2,   -999.0,9,  -999.00,   7.5641,2,    25.47,    0.136,2,   -999.0,9,   -999.0,9, -999.000,1,-999.0000,1,-999.0000,1,-999.0000,9,-999.0000,9, 27.409, 32.027, 36.542, 40.956, 45.269
33RO20110828,   A10,    46,  1,     10,    010,2,20000101,0000,-29.9995,  -7.9584, 4125,   1355.4,   3.0449,  34.5810,2,  34.5818,2,  34.7448,2,    183.6,2,    185.1,2,    55.27,2,    31.83,2,     0.01,2,     2.34,2,    0.366,2,    0.173,2,    0.885,3,   2227.7,2,   2320.7,2,   -999.0,9,  -999.00,   7.5668,2,    25.49,    0.086,2,   -999.0,9,   -999.0,9, -999.000,1,-999.0000,1,-999.0000,1,-999.0000,9,-999.0000,9, 27.556, 32.184, 36.708, 41.131, 45.453
33RO20110828,   A10,    46,  1,      9,    009,2,20000101,0000,-29.9995,  -7.9584, 4125,   1632.8,   2.9380,  34.7076,2,  34.7097,2,  34.8733,2,    195.6,2,    195.7,2,    53.50,2,    29.19,2,     0.00,2,     2.14,2,    0.123,2,    0.060,2,    0.438,3,   2220.6,2,   2324.0,2,   -999.0,9,  -999.00,   7.5966,2,    25.66,    0.069,2,   -999.0,9,   -999.0,9, -999.000,1,-999.0000,1,-999.0000,1,-999.0000,9,-999.0000,9, 27.670, 32.300, 36.827, 41.252, 45.576
33RO20110828,   A10,    46,  1,      8,    008,2,20000101,0000,-29.9995,  -7.9584, 4125,   1927.9,   2.7366,  34.7889,2,  34.7930,2,  34.9570,2,    211.2,2,    212.0,2,    52.62,2,    26.95,2,     0.01,2,     1.96,2,    0.044,2,    0.021,2,    0.136,3,   -999.0,9,   2328.4,2,   -999.0,9,  -999.00,   7.6190,2,    25.57,    0.000,2,   -999.0,9,   -999.0,9, -999.000,9,-999.0000,1,-999.0000,9,-999.0000,9,-999.0000,9, 27.756, 32.392, 36.924, 41.354, 45.683
33RO20110828,   A10,    46,  1,      7,    007,2,20000101,0000,-29.9995,  -7.9584, 4125,   2230.2,   2.6065,  34.8234,2,  34.8245,2,  34.9887,2,    221.8,2,    222.8,2,    51.94,2,    25.58,2,     0.00,2,     1.84,2,    0.016,2,    0.009,2,    0.095,3,   -999.0,9,   2334.7,2,   -999.0,9,  -999.00,   7.6457,2,    25.54,    0.000,2,   -999.0,9,   -999.0,9, -999.000,1,-999.0000,1,-999.0000,9,-999.0000,9,-999.0000,9, 27.795, 32.435, 36.971, 41.404, 45.737
33RO20110828,   A10,    46,  1,      6,    006,2,20000101,0000,-29.9995,  -7.9584, 4125,   2531.3,   2.4792,  34.8466,2,  34.8499,2,  35.0142,2,    230.7,2,    229.8,2,    51.45,2,    24.50,2,     0.00,2,     1.76,2,    0.008,2,    0.004,2,    0.090,3,   -999.0,9,   2336.6,2,   -999.0,9,  -999.00,   7.6592,2,    25.59,    0.000,2,   -999.0,9,   -999.0,9, -999.000,9,-999.0000,1,-999.0000,9,-999.0000,9,-999.0000,9, 27.828, 32.472, 37.012, 41.449, 45.786
33RO20110828,   A10,    46,  1,      5,    005,2,20000101,0000,-29.9995,  -7.9584, 4125,   2819.6,   2.4065,  34.8603,2,  34.8619,2,  35.0263,2,    235.4,2,    235.3,2,    51.06,2,    23.92,2,     0.00,2,     1.71,2,    0.005,2,    0.003,2,    0.070,3,   -999.0,9,   2335.4,2,   -999.0,9,  -999.00,   7.6754,2,    25.55,    0.000,2,   -999.0,9,   -999.0,9, -999.000,1,-999.0000,1,-999.0000,9,-999.0000,9,-999.0000,9, 27.846, 32.493, 37.035, 41.475, 45.813
33RO20110828,   A10,    46,  1,      4,    004,2,20000101,0000,-29.9995,  -7.9584, 4125,   3128.8,   2.3738,  34.8691,2,  34.8711,2,  35.0355,2,    237.7,2,    238.0,2,    50.86,2,    23.43,2,     0.00,2,     1.68,2,    0.004,2,    0.004,2,    0.069,3,   -999.0,9,   2339.1,2,   -999.0,9,  -999.00,   7.6775,2,    25.54,    0.049,2,   -999.0,9,   -999.0,9, -999.000,9,-999.0000,1,-999.0000,9,-999.0000,9,-999.0000,9, 27.858, 32.507, 37.051, 41.492, 45.832
33RO20110828,   A10,    46,  1,      3,    003,2,20000101,0000,-29.9995,  -7.9584, 4125,   3429.1,   2.3641,  34.8739,2,  34.8751,2,  35.0395,2,    237.3,2,    237.3,2,    51.45,2,    23.23,2,     0.00,2,     1.67,2,    0.004,2,    0.002,2,    0.055,3,   -999.0,9,   2345.9,2,   -999.0,9,  -999.00,   7.6826,2,    25.55,    0.054,2,   -999.0,9,   -999.0,9, -999.000,1,-999.0000,1,-999.0000,9,-999.0000,9,-999.0000,9, 27.865, 32.514, 37.059, 41.502, 45.843
33RO20110828,   A10,    46,  1,      2,    002,2,20000101,0000,-29.9995,  -7.9584, 4125,   3732.0,   2.3753,  34.8775,2,  34.8962,2,  35.0608,2,    236.5,2,    235.6,2,    51.74,2,    23.43,2,     0.00,2,     1.67,2,    0.004,2,    0.003,2,    0.048,3,   -999.0,9,   2348.8,2,   -999.0,9,  -999.00,   7.6849,2,    25.52,    0.031,2,   -999.0,9,   -999.0,9, -999.000,1,-999.0000,1,-999.0000,9,-999.0000,9,-999.0000,9, 27.884, 32.534, 37.079, 41.522, 45.864
33RO20110828,   A10,    46,  1,      1,    001,2,20000101,0000,-29.9995,  -7.9584, 4125,   4136.6,   2.4064,  34.8783,2,  34.8809,2,  35.0453,2,    235.8,2,    236.9,2,    52.42,2,    23.43,2,     0.00,2,     1.68,2,    0.005,2,    0.004,2,    0.034,3,   -999.0,9,   2349.0,2,   -999.0,9,  -999.00,   7.6923,2,    25.57,    0.066,2,   -999.0,9,   -999.0,9, -999.000,1,-999.0000,1,-999.0000,9,-999.0000,9,-999.0000,9, 27.873, 32.523, 37.069, 41.512, 45.855