BOTTLE,20130715NOAA
EXPOCODE,SECT_ID,STNNBR,CASTNO,SAMPNO,BTLNBR,BTLNBR_FLAG_W,DATE,TIME,LATITUDE,LONGITUDE,DEPTH,CTDPRS,CTDTMP,CTDSAL,CTDSAL_FLAG_W,SALNTY,SALNTY_FLAG_W,SALTREF,SALTREF_FLAG_W,CTDOXY,CTDOXY_FLAG_W,OXYGEN,OXYGEN_FLAG_W,SILCAT,SILCAT_FLAG_W,NITRAT,NITRAT_FLAG_W,NITRIT,NITRIT_FLAG_W,PHSPHT,PHSPHT_FLAG_W,CFC-11,CFC-11_FLAG_W,CFC-12,CFC-12_FLAG_W,CCL4,CCL4_FLAG_W,TCARBN,TCARBN_FLAG_W,ALKALI,ALKALI_FLAG_W,PCO2,PCO2_FLAG_W,PCO2TMP,PH_TOT,PH_TOT_FLAG_W,PH_TMP,SF6,SF6_FLAG_W,DOC,DOC_FLAG_W,TDN,TDN_FLAG_W,TRITUM,TRITUM_FLAG_W,HELIUM,HELIUM_FLAG_W,OXY_18,OXY_18_FLAG_W,BLACKC,BLACKC_FLAG_W,PIGMENTS,PIGMENTS_FLAG_W,SIGMA-THETA,SIGMA-1,SIGMA-2,SIGMA-3,SIGMA-4
,,,,,,,,,,,METERS,DBARS,ITS-90,PSS-78,,PSS-78,,G/KG,,UMOL/KG,,UMOL/KG,,UMOL/KG,,UMOL/KG,,UMOL/KG,,UMOL/KG,,PMOL/KG,,PMOL/KG,,PMOL/KG,,UMOL/KG,,UMOL/KG,,UATM@T,,DEG_C,,,DEG_C,FMOL/KG,,UMOL/KG,,UMOL/KG,,TU,,NMOL/KG,,,,,,,,,,,,
33RO20110828,   A10,    78,  1,     24,    024,2,20000101,0000,-30.0003, -30.1686, 3838,      4.9,  18.8389,  36.1298,2,  36.1308,2,  36.3012,2,    231.5,2,    231.5,2,     1.07,2,     0.00,2,     0.01,2,     0.07,2,    2.220,2,    1.349,2,    3.615,3,   2079.7,6,   2370.0,2,   -999.0,9,  -999.00,   7.9454,2,    25.58,    1.351,2,   -999.0,9,   -999.0,9, -999.000,1,-999.0000,1,-999.0000,1,-999.0000,9,-999.0000,1, 25.927, 30.210, 34.399, 38.497, 42.506
33RO20110828,   A10,    78,  1,     23,    023,2,20000101,0000,-30.0003, -30.1686, 3838,     34.4,  18.8465,  36.1291,2,  36.1305,2,  36.3009,2,    231.0,2,    232.0,2,     1.07,2,     0.00,2,     0.00,2,     0.07,2,    2.224,2,    1.349,2,    2.788,3,   2078.8,2,   2368.6,2,   -999.0,9,  -999.00,   7.9426,2,    25.64,    1.331,2,   -999.0,9,   -999.0,9, -999.000,1,-999.0000,1,-999.0000,1,-999.0000,9,-999.0000,9, 25.926, 30.209, 34.398, 38.496, 42.505
33RO20110828,   A10,    78,  1,     22,    022,2,20000101,0000,-30.0003, -30.1686, 3838,     76.4,  18.8010,  36.1238,2,  36.1260,2,  36.2963,2,    231.7,2,    230.8,2,     1.07,2,     0.00,2,     0.01,2,     0.08,2,    2.223,2,    1.356,2,    2.925,3,   2079.0,2,   2367.6,2,   -999.0,9,  -999.00,   7.9286,2,    25.58,    1.402,2,   -999.0,9,   -999.0,9, -999.000,1,-999.0000,1,-999.0000,1,-999.0000,9,-999.0000,9, 25.937, 30.220, 34.410, 38.509, 42.519
33RO20110828,   A10,    78,  1,     21,    021,2,20000101,0000,-30.0003, -30.1686, 3838,    125.7,  18.3738,  36.1036,2,  36.1050,2,  36.2753,2,    227.8,2,    229.1,2,     1.17,2,     0.10,2,     0.14,2,     0.11,2,    2.256,2,    1.366,2,    2.570,3,   2085.4,2,   2367.8,2,   -999.0,9,  -999.00,   7.9226,2,    25.58,    1.383,2,   -999.0,9,   -999.0,9, -999.000,1,-999.0000,1,-999.0000,1,-999.0000,9,-999.0000,1, 26.031, 30.322, 34.519, 38.624, 42.640
33RO20110828,   A10,    78,  1,     20,    020,2,20000101,0000,-30.0003, -30.1686, 3838,    186.4,  16.1096,  35.6339,2,  35.6325,2,  35.8005,2,    216.5,2,    214.2,2,     1.95,2,     3.61,2,     0.01,2,     0.34,2,    2.575,2,    1.520,2,    1.265,3,   2100.8,2,   2336.6,2,   -999.0,9,  -999.00,   7.8881,2,    25.56,    1.388,2,   -999.0,9,   -999.0,9, -999.000,1,-999.0000,1,-999.0000,1,-999.0000,9,-999.0000,1, 26.216, 30.548, 34.785, 38.929, 42.983
33RO20110828,   A10,    78,  1,     19,    019,2,20000101,0000,-30.0003, -30.1686, 3838,    265.4,  14.4704,  35.3846,2,  35.3862,2,  35.5531,2,    210.0,2,    210.9,2,     2.54,2,     6.73,2,     0.01,2,     0.49,2,    2.792,2,    1.616,2,    1.112,3,   2109.1,2,   2322.0,2,   -999.0,9,  -999.00,   7.8357,2,    25.53,    1.305,2,   -999.0,9,   -999.0,9, -999.000,1,-999.0000,1,-999.0000,1,-999.0000,9,-999.0000,9, 26.394, 30.758, 35.025, 39.198, 43.281
33RO20110828,   A10,    78,  1,     18,    018,2,20000101,0000,-30.0003, -30.1686, 3838,    324.1,  13.5842,  35.2649,2,  35.2669,2,  35.4332,2,    211.2,2,    211.4,2,     3.02,2,     8.49,2,     0.01,2,     0.57,2,    2.915,2,    1.667,2,    1.135,3,   -999.0,9,   2315.2,2,   -999.0,9,  -999.00,   7.8063,2,    25.45,    1.267,2,   -999.0,9,   -999.0,9, -999.000,1,-999.0000,1,-999.0000,1,-999.0000,9,-999.0000,9, 26.490, 30.871, 35.156, 39.346, 43.444
33RO20110828,   A10,    78,  1,     17,    017,2,20000101,0000,-30.0003, -30.1686, 3838,    400.9,  12.4628,  35.1252,2,  35.1274,2,  35.2931,2,    210.1,2,    206.7,2,     3.90,2,    11.32,2,     0.00,2,     0.72,2,    3.045,2,    1.705,2,    1.368,3,   2123.0,2,   2309.3,2,   -999.0,9,  -999.00,   7.7818,2,    25.54,    1.263,2,   -999.0,9,   -999.0,9, -999.000,1,-999.0000,1,-999.0000,1,-999.0000,9,-999.0000,9, 26.609, 31.013, 35.320, 39.531, 43.650
33RO20110828,   A10,    78,  1,     16,    016,2,20000101,0000,-30.0003, -30.1686, 3838,    501.8,  10.5200,  34.8678,2,  34.8701,2,  35.0345,2,    204.8,2,    207.1,2,     6.54,2,    16.30,2,     0.00,2,     1.00,2,    3.156,2,    1.710,2,    1.739,3,   -999.0,9,   2298.8,2,   -999.0,9,  -999.00,   7.7337,2,    25.52,    1.063,2,   -999.0,9,   -999.0,9, -999.000,1,-999.0000,1,-999.0000,1,-999.0000,9,-999.0000,9, 26.771, 31.217, 35.564, 39.815, 43.972
33RO20110828,   A10,    78,  1,     15,    015,2,20000101,0000,-30.0003, -30.1686, 3838,    601.3,   8.6672,  34.6432,2,  34.6475,2,  34.8109,2,    201.8,2,    203.2,2,    10.05,2,    21.37,2,     0.00,2,     1.28,2,    3.166,2,    1.655,2,    2.355,3,   2153.8,2,   2288.6,2,   -999.0,9,  -999.00,   7.6895,2,    25.55,    0.884,2,   -999.0,9,   -999.0,9, -999.000,1,-999.0000,1,-999.0000,1,-999.0000,9,-999.0000,9, 26.905, 31.393, 35.781, 40.072, 44.267
33RO20110828,   A10,    78,  1,     14,    014,2,20000101,0000,-30.0003, -30.1686, 3838,    702.6,   6.7003,  34.4323,2,  34.4357,2,  34.5980,2,    214.4,2,    214.3,2,    13.37,2,    25.18,2,     0.00,2,     1.51,2,    3.287,2,    1.683,2,    3.479,3,   -999.0,9,   2283.1,2,   -999.0,9,  -999.00,   7.6386,2,    25.54,    0.893,2,   -999.0,9,   -999.0,9, -999.000,1,-999.0000,1,-999.0000,1,-999.0000,9,-999.0000,9, 27.024, 31.559, 35.993, 40.328, 44.566
33RO20110828,   A10,    78,  1,     13,    013,2,20000101,0000,-30.0003, -30.1686, 3838,    800.5,   5.2721,  34.3113,2,  34.3203,2,  34.4821,2,    224.6,2,    225.8,2,    17.57,2,    27.63,2,     0.01,2,     1.67,2,    3.286,2,    1.653,2,    4.304,3,   2168.1,2,   2280.3,2,   -999.0,9,  -999.00,   7.6374,2,    25.59,    0.787,2,   -999.0,9,   -999.0,9, -999.000,1,-999.0000,1,-999.0000,1,-999.0000,9,-999.0000,9, 27.113, 31.684, 36.153, 40.522, 44.792
33RO20110828,   A10,    78,  1,     12,    012,2,20000101,0000,-30.0003, -30.1686, 3838,    899.8,   4.5285,  34.2908,2,  34.2938,2,  34.4556,2,    223.0,2,    223.0,2,    23.53,2,    29.29,2,     0.01,2,     1.81,2,    2.880,2,    1.427,2,    4.179,3,   -999.0,9,   2284.6,2,   -999.0,9,  -999.00,   7.6094,2,    25.50,    0.638,2,   -999.0,9,   -999.0,9, -999.000,1,-999.0000,1,-999.0000,1,-999.0000,9,-999.0000,9, 27.176, 31.767, 36.254, 40.641, 44.929
33RO20110828,   A10,    78,  1,     11,    011,2,20000101,0000,-30.0003, -30.1686, 3838,    999.9,   3.9825,  34.3279,2,  34.3306,2,  34.4925,2,    209.8,2,    208.9,2,    32.90,2,    31.53,2,     0.01,2,     1.98,2,    2.098,2,    1.025,2,    3.337,3,   2196.4,2,   2293.6,2,   -999.0,9,  -999.00,   7.5866,2,    25.55,    0.397,2,   -999.0,9,   -999.0,9, -999.000,1,-999.0000,1,-999.0000,1,-999.0000,9,-999.0000,9, 27.263, 31.868, 36.369, 40.769, 45.070
33RO20110828,   A10,    78,  1,     10,    010,2,20000101,0000,-30.0003, -30.1686, 3838,   1147.5,   3.4788,  34.3997,2,  34.4021,2,  34.5643,2,    197.6,2,    196.4,2,    44.12,2,    32.41,2,     0.01,2,     2.13,2,    1.252,2,    0.611,2,    2.260,3,   2216.9,2,   2305.2,2,   -999.0,9,  -999.00,   7.5680,2,    25.57,    0.183,2,   -999.0,9,   -999.0,9, -999.000,1,-999.0000,1,-999.0000,1,-999.0000,9,-999.0000,9, 27.371, 31.988, 36.502, 40.915, 45.227
33RO20110828,   A10,    78,  1,      9,    009,2,20000101,0000,-30.0003, -30.1686, 3838,   1399.1,   3.0509,  34.5519,2,  34.5568,2,  34.7198,2,    186.9,2,    188.0,2,    54.37,2,    32.11,2,     0.00,2,     2.18,2,    0.426,2,    0.206,2,    1.030,3,   2230.3,2,   2319.3,2,   -999.0,9,  -999.00,   7.5715,2,    25.54,    0.055,2,   -999.0,9,   -999.0,9, -999.000,1,-999.0000,1,-999.0000,1,-999.0000,9,-999.0000,9, 27.536, 32.164, 36.689, 41.111, 45.433
33RO20110828,   A10,    78,  1,      8,    008,2,20000101,0000,-30.0003, -30.1686, 3838,   1599.0,   2.8965,  34.6541,2,  34.6565,2,  34.8199,2,    192.8,2,    192.4,2,    55.83,2,    30.55,2,     0.01,2,     2.09,2,    0.179,2,    0.087,2,    0.575,3,   2227.1,2,   2323.8,2,   -999.0,9,  -999.00,   7.5797,2,    25.57,    0.000,2,   -999.0,9,   -999.0,9, -999.000,9,-999.0000,1,-999.0000,9,-999.0000,9,-999.0000,9, 27.631, 32.263, 36.791, 41.217, 45.542
33RO20110828,   A10,    78,  1,      7,    007,2,20000101,0000,-30.0003, -30.1686, 3838,   1799.0,   2.8168,  34.7272,2,  34.7303,6,  34.8941,6,    202.9,2,    203.1,2,    54.26,2,    28.69,2,     0.01,2,     1.98,2,    0.081,2,    0.042,2,    0.359,3,   2217.9,2,   2324.7,2,   -999.0,9,  -999.00,   7.5966,2,    25.58,    0.026,2,   -999.0,9,   -999.0,9, -999.000,1,-999.0000,1,-999.0000,9,-999.0000,9,-999.0000,9, 27.696, 32.330, 36.860, 41.288, 45.615
33RO20110828,   A10,    78,  1,      6,    006,2,20000101,0000,-30.0003, -30.1686, 3838,   2049.5,   2.7497,  34.8078,2,  34.8102,2,  34.9744,2,    218.7,2,    219.8,2,    49.28,2,    26.06,2,     0.01,2,     1.78,2,    0.027,2,    0.015,2,    0.182,3,   -999.0,9,   2325.6,2,   -999.0,9,  -999.00,   7.6329,2,    25.45,    0.000,2,   -999.0,9,   -999.0,9, -999.000,9,-999.0000,1,-999.0000,9,-999.0000,9,-999.0000,9, 27.770, 32.406, 36.937, 41.367, 45.696
33RO20110828,   A10,    78,  1,      5,    005,2,20000101,0000,-30.0003, -30.1686, 3838,   2327.5,   2.7590,  34.8574,2,  34.8598,2,  35.0242,2,    233.8,2,    232.9,2,    43.33,2,    23.91,2,     0.01,2,     1.63,2,    0.011,2,    0.007,2,    0.114,3,   2193.2,2,   2325.3,2,   -999.0,9,  -999.00,   7.6665,2,    25.59,    0.000,2,   -999.0,9,   -999.0,9, -999.000,1,-999.0000,1,-999.0000,9,-999.0000,9,-999.0000,9, 27.811, 32.447, 36.979, 41.408, 45.737
33RO20110828,   A10,    78,  1,      4,    004,2,20000101,0000,-30.0003, -30.1686, 3838,   2534.2,   2.7772,  34.8823,2,  34.8864,2,  35.0509,2,    241.0,2,    240.9,2,    39.52,2,    22.64,2,     0.01,2,     1.53,2,    0.007,2,    0.006,2,    0.105,3,   -999.0,9,   2323.8,2,   -999.0,9,  -999.00,   7.6733,2,    25.52,    0.000,2,   -999.0,9,   -999.0,9, -999.000,9,-999.0000,1,-999.0000,9,-999.0000,9,-999.0000,9, 27.832, 32.468, 37.000, 41.429, 45.758
33RO20110828,   A10,    78,  1,      3,    003,2,20000101,0000,-30.0003, -30.1686, 3838,   2903.0,   2.6785,  34.8955,2,  34.8982,2,  35.0628,2,    246.5,2,    247.0,2,    39.03,2,    21.66,2,     0.01,2,     1.49,2,    0.014,2,    0.009,2,    0.140,3,   2182.9,2,   2324.2,2,   -999.0,9,  -999.00,   7.6830,2,    25.51,    0.000,2,   -999.0,9,   -999.0,9, -999.000,1,-999.0000,1,-999.0000,9,-999.0000,9,-999.0000,9, 27.853, 32.493, 37.028, 41.460, 45.793
33RO20110828,   A10,    78,  1,      2,    002,2,20000101,0000,-30.0003, -30.1686, 3838,   3251.1,   2.4367,  34.8804,2,  34.8843,2,  35.0488,2,    245.6,2,    246.0,2,    46.35,2,    22.54,2,     0.01,2,     1.58,2,    0.024,2,    0.014,2,    0.171,3,   2188.2,2,   2329.6,2,   -999.0,9,  -999.00,   7.6727,2,    25.49,    0.000,2,   -999.0,9,   -999.0,9, -999.000,1,-999.0000,1,-999.0000,9,-999.0000,9,-999.0000,9, 27.865, 32.512, 37.054, 41.494, 45.833
33RO20110828,   A10,    78,  1,      1,    001,2,20000101,0000,-30.0003, -30.1686, 3838,   3847.8,   1.5701,  34.7902,2,  34.7926,2,  34.9567,2,    230.2,2,    230.0,2,    82.17,2,    26.84,2,     0.01,2,     2.11,2,    0.075,2,    0.037,2,    0.261,3,   2225.4,6,   2348.3,2,   -999.0,9,  -999.00,   7.6438,2,    25.45,    0.064,2,   -999.0,9,   -999.0,9, -999.000,1,-999.0000,1,-999.0000,9,-999.0000,9,-999.0000,9, 27.861, 32.534, 37.102, 41.567, 45.930