BOTTLE,20130715NOAA
EXPOCODE,SECT_ID,STNNBR,CASTNO,SAMPNO,BTLNBR,BTLNBR_FLAG_W,DATE,TIME,LATITUDE,LONGITUDE,DEPTH,CTDPRS,CTDTMP,CTDSAL,CTDSAL_FLAG_W,SALNTY,SALNTY_FLAG_W,SALTREF,SALTREF_FLAG_W,CTDOXY,CTDOXY_FLAG_W,OXYGEN,OXYGEN_FLAG_W,SILCAT,SILCAT_FLAG_W,NITRAT,NITRAT_FLAG_W,NITRIT,NITRIT_FLAG_W,PHSPHT,PHSPHT_FLAG_W,CFC-11,CFC-11_FLAG_W,CFC-12,CFC-12_FLAG_W,CCL4,CCL4_FLAG_W,TCARBN,TCARBN_FLAG_W,ALKALI,ALKALI_FLAG_W,PCO2,PCO2_FLAG_W,PCO2TMP,PH_TOT,PH_TOT_FLAG_W,PH_TMP,SF6,SF6_FLAG_W,DOC,DOC_FLAG_W,TDN,TDN_FLAG_W,TRITUM,TRITUM_FLAG_W,HELIUM,HELIUM_FLAG_W,OXY_18,OXY_18_FLAG_W,BLACKC,BLACKC_FLAG_W,PIGMENTS,PIGMENTS_FLAG_W,SIGMA-THETA,SIGMA-1,SIGMA-2,SIGMA-3,SIGMA-4
,,,,,,,,,,,METERS,DBARS,ITS-90,PSS-78,,PSS-78,,G/KG,,UMOL/KG,,UMOL/KG,,UMOL/KG,,UMOL/KG,,UMOL/KG,,UMOL/KG,,PMOL/KG,,PMOL/KG,,PMOL/KG,,UMOL/KG,,UMOL/KG,,UATM@T,,DEG_C,,,DEG_C,FMOL/KG,,UMOL/KG,,UMOL/KG,,TU,,NMOL/KG,,,,,,,,,,,,
33RO20110828,   A10,    51,  2,     24,    024,2,20000101,0000,-30.0001, -11.1175, 3577,      4.2,  17.5363,  35.8647,2,  35.8655,2,  36.0346,2,    239.6,2,    240.1,2,     1.37,2,     0.00,2,     0.01,2,     0.16,2,    2.352,2,    1.434,2,    3.032,3,   -999.0,9,   2351.0,2,   -999.0,9,  -999.00,   7.9200,2,    25.59,    1.451,2,   -999.0,1,   -999.0,1, -999.000,9,-999.0000,9,-999.0000,9,-999.0000,9,-999.0000,1, 26.049, 30.355, 34.567, 38.686, 42.716
33RO20110828,   A10,    51,  2,     23,    023,2,20000101,0000,-30.0001, -11.1175, 3577,     51.7,  17.4273,  35.8598,2,  35.8597,2,  36.0288,2,    239.7,2,    240.3,2,     1.37,2,     0.00,2,     0.01,2,     0.17,2,    2.390,2,    1.427,2,    3.182,3,   -999.0,9,   2352.9,2,   -999.0,9,  -999.00,   7.9074,2,    25.69,    1.392,2,   -999.0,1,   -999.0,1, -999.000,9,-999.0000,9,-999.0000,9,-999.0000,9,-999.0000,9, 26.073, 30.381, 34.595, 38.716, 42.747
33RO20110828,   A10,    51,  2,     22,    022,2,20000101,0000,-30.0001, -11.1175, 3577,     99.8,  16.6196,  35.7621,2,  35.7597,2,  35.9283,2,    233.1,2,    232.9,2,     1.66,2,     0.68,2,     0.45,2,     0.25,2,    2.449,2,    1.458,2,    2.264,3,   -999.0,9,   2346.5,2,   -999.0,9,  -999.00,   7.8896,2,    25.68,    1.445,2,   -999.0,1,   -999.0,1, -999.000,9,-999.0000,9,-999.0000,9,-999.0000,9,-999.0000,1, 26.192, 30.514, 34.741, 38.876, 42.921
33RO20110828,   A10,    51,  2,     21,    021,2,20000101,0000,-30.0001, -11.1175, 3577,    150.8,  16.1439,  35.6649,2,  35.6703,2,  35.8385,2,    234.7,2,    233.9,2,     1.66,2,     1.07,2,     0.31,2,     0.27,2,    2.498,2,    1.486,2,    2.188,3,   -999.0,9,   2340.1,2,   -999.0,9,  -999.00,   7.8824,2,    25.56,    1.470,2,   -999.0,1,   -999.0,1, -999.000,9,-999.0000,9,-999.0000,9,-999.0000,9,-999.0000,1, 26.236, 30.567, 34.803, 38.946, 42.999
33RO20110828,   A10,    51,  2,     20,    020,2,20000101,0000,-30.0001, -11.1175, 3577,    218.3,  14.2102,  35.3492,2,  35.3497,2,  35.5164,2,    220.1,2,    219.1,2,     2.63,2,     6.25,2,     0.01,2,     0.58,2,    2.798,2,    1.617,2,    1.101,3,   -999.0,9,   2322.2,2,   -999.0,9,  -999.00,   7.8309,2,    25.67,    1.386,2,   -999.0,1,   -999.0,1, -999.000,9,-999.0000,9,-999.0000,9,-999.0000,9,-999.0000,9, 26.420, 30.788, 35.061, 39.239, 43.325
33RO20110828,   A10,    51,  2,     19,    019,2,20000101,0000,-30.0001, -11.1175, 3577,    291.6,  12.9947,  35.1769,2,  35.1805,2,  35.3464,2,    213.2,2,    213.1,2,     3.90,2,     9.47,2,     0.01,2,     0.80,2,    2.953,2,    1.670,2,    1.044,3,   -999.0,9,   2312.3,2,   -999.0,9,  -999.00,   7.8002,2,    25.66,    1.277,2,   -999.0,1,   -999.0,1, -999.000,9,-999.0000,9,-999.0000,9,-999.0000,9,-999.0000,9, 26.542, 30.935, 35.231, 39.432, 43.541
33RO20110828,   A10,    51,  2,     18,    018,2,20000101,0000,-30.0001, -11.1175, 3577,    420.8,  10.7559,  34.8944,2,  34.8965,2,  35.0610,2,    208.4,2,    207.5,2,     6.25,2,    15.42,2,     0.01,2,     1.18,2,    3.134,2,    1.707,2,    1.212,3,   -999.0,9,   2298.5,2,   -999.0,9,  -999.00,   7.7395,2,    25.56,    1.154,2,   -999.0,1,   -999.0,1, -999.000,9,-999.0000,9,-999.0000,9,-999.0000,9,-999.0000,9, 26.748, 31.189, 35.531, 39.776, 43.928
33RO20110828,   A10,    51,  2,     17,    017,2,20000101,0000,-30.0001, -11.1175, 3577,    550.3,   8.0726,  34.5734,2,  34.5771,2,  34.7401,2,    205.4,2,    207.6,2,    10.94,2,    21.97,2,     0.01,2,     1.63,2,    3.232,2,    1.718,2,    1.850,3,   -999.0,9,   2286.7,2,   -999.0,9,  -999.00,   7.6901,2,    25.64,    0.965,2,   -999.0,1,   -999.0,1, -999.000,9,-999.0000,9,-999.0000,9,-999.0000,9,-999.0000,9, 26.939, 31.441, 35.843, 40.146, 44.354
33RO20110828,   A10,    51,  2,     16,    016,2,20000101,0000,-30.0001, -11.1175, 3577,    699.0,   6.0718,  34.3987,2,  34.3992,2,  34.5614,2,    205.7,2,    206.5,2,    18.36,2,    26.95,2,     0.01,2,     1.98,2,    2.966,2,    1.526,2,    2.241,3,   -999.0,9,   2285.8,2,   -999.0,9,  -999.00,   7.6263,2,    25.64,    0.725,2,   -999.0,1,   -999.0,1, -999.000,9,-999.0000,9,-999.0000,9,-999.0000,9,-999.0000,9, 27.077, 31.628, 36.077, 40.426, 44.678
33RO20110828,   A10,    51,  2,     15,    015,2,20000101,0000,-30.0001, -11.1175, 3577,    848.9,   4.3487,  34.3071,2,  34.3070,2,  34.4688,2,    217.7,2,    215.3,2,    27.54,2,    29.79,2,     0.01,2,     2.19,2,    2.600,2,    1.311,2,    2.491,3,   -999.0,9,   2289.4,2,   -999.0,9,  -999.00,   7.5980,2,    25.64,    0.581,2,   -999.0,1,   -999.0,1, -999.000,9,-999.0000,9,-999.0000,9,-999.0000,9,-999.0000,9, 27.205, 31.800, 36.292, 40.683, 44.975
33RO20110828,   A10,    51,  2,     14,    014,2,20000101,0000,-30.0001, -11.1175, 3577,    999.7,   3.6428,  34.3634,2,  34.3634,2,  34.5255,2,    198.6,2,    200.3,2,    39.94,2,    31.74,2,     0.01,2,     2.35,2,    1.670,2,    0.821,2,    1.851,3,   -999.0,9,   2300.9,2,   -999.0,9,  -999.00,   7.5729,2,    25.58,    0.282,2,   -999.0,1,   -999.0,1, -999.000,9,-999.0000,9,-999.0000,9,-999.0000,9,-999.0000,9, 27.323, 31.936, 36.446, 40.854, 45.163
33RO20110828,   A10,    51,  2,     13,    013,2,20000101,0000,-30.0001, -11.1175, 3577,   1150.2,   3.2204,  34.4561,2,  34.4558,2,  34.6183,2,    187.3,2,    187.6,2,    50.39,2,    32.52,2,     0.00,2,     2.40,2,    0.905,2,    0.440,2,    1.213,3,   -999.0,9,   2312.3,2,   -999.0,9,  -999.00,   7.5540,2,    25.57,    0.142,2,   -999.0,1,   -999.0,1, -999.000,9,-999.0000,9,-999.0000,9,-999.0000,9,-999.0000,9, 27.438, 32.062, 36.582, 41.001, 45.319
33RO20110828,   A10,    51,  2,     12,    012,2,20000101,0000,-30.0001, -11.1175, 3577,   1301.1,   3.0727,  34.5494,2,  34.5501,2,  34.7130,2,    183.2,2,    183.6,2,    54.98,2,    31.93,2,     0.00,2,     2.36,2,    0.469,2,    0.223,2,    0.739,3,   -999.0,9,   2320.6,2,   -999.0,9,  -999.00,   7.5546,2,    25.61,    0.072,2,   -999.0,1,   -999.0,1, -999.000,9,-999.0000,9,-999.0000,9,-999.0000,9,-999.0000,9, 27.528, 32.155, 36.679, 41.101, 45.422
33RO20110828,   A10,    51,  2,     11,    011,2,20000101,0000,-30.0001, -11.1175, 3577,   1450.3,   2.9820,  34.6332,2,  34.6338,2,  34.7971,2,    187.9,2,    186.8,2,    55.66,2,    30.95,2,     0.00,2,     2.26,2,    0.242,2,    0.116,2,    0.455,3,   -999.0,9,   2324.7,2,   -999.0,9,  -999.00,   7.5766,2,    25.64,    0.000,2,   -999.0,1,   -999.0,1, -999.000,9,-999.0000,9,-999.0000,9,-999.0000,9,-999.0000,9, 27.604, 32.233, 36.759, 41.183, 45.506
33RO20110828,   A10,    51,  2,     10,    010,2,20000101,0000,-30.0001, -11.1175, 3577,   1599.8,   2.8905,  34.6961,2,  34.6996,2,  34.8632,2,    195.8,2,    194.5,2,    55.26,2,    29.39,2,     0.00,2,     2.15,2,    0.143,2,    0.067,2,    0.313,3,   -999.0,9,   2327.9,2,   -999.0,9,  -999.00,   7.5960,2,    25.61,    0.000,2,   -999.0,1,   -999.0,1, -999.000,9,-999.0000,9,-999.0000,9,-999.0000,9,-999.0000,9, 27.666, 32.298, 36.825, 41.251, 45.577
33RO20110828,   A10,    51,  2,      9,    009,2,20000101,0000,-30.0001, -11.1175, 3577,   1749.8,   2.7962,  34.7508,2,  34.7545,2,  34.9184,2,    204.0,2,    204.6,2,    54.28,2,    27.92,2,     0.01,2,     2.04,2,    0.076,2,    0.036,2,    0.204,3,   -999.0,9,   2329.7,2,   -999.0,9,  -999.00,   7.6099,2,    25.64,    0.000,2,   -999.0,1,   -999.0,1, -999.000,9,-999.0000,9,-999.0000,9,-999.0000,9,-999.0000,9, 27.719, 32.353, 36.884, 41.312, 45.639
33RO20110828,   A10,    51,  2,      8,    008,2,20000101,0000,-30.0001, -11.1175, 3577,   1950.6,   2.6945,  34.7946,2,  34.7956,2,  34.9597,2,    213.4,2,    213.5,2,    53.11,2,    26.46,2,     0.00,2,     1.93,2,    0.035,2,    0.019,2,    0.134,3,   -999.0,9,   2328.9,2,   -999.0,9,  -999.00,   7.6340,2,    25.57,    0.000,2,   -999.0,1,   -999.0,1, -999.000,9,-999.0000,9,-999.0000,9,-999.0000,9,-999.0000,9, 27.762, 32.399, 36.932, 41.363, 45.693
33RO20110828,   A10,    51,  2,      7,    007,2,20000101,0000,-30.0001, -11.1175, 3577,   2150.7,   2.5926,  34.8214,2,  34.8235,6,  34.9877,6,    221.3,2,    222.0,2,    52.43,2,    25.09,2,     0.01,2,     1.85,2,    0.016,2,    0.009,2,    0.087,3,   -999.0,9,   2330.6,2,   -999.0,9,  -999.00,   7.6720,4,    25.55,    0.000,2,   -999.0,1,   -999.0,1, -999.000,9,-999.0000,9,-999.0000,9,-999.0000,9,-999.0000,9, 27.793, 32.433, 36.969, 41.403, 45.736
33RO20110828,   A10,    51,  2,      6,    006,2,20000101,0000,-30.0001, -11.1175, 3577,   2351.4,   2.5117,  34.8397,2,  34.8409,2,  35.0051,2,    227.1,2,    228.1,2,    51.64,2,    24.80,2,     0.00,2,     1.79,2,    0.009,2,    0.005,2,    0.061,3,   -999.0,9,   2329.8,2,   -999.0,9,  -999.00,   7.6505,2,    25.61,    0.023,2,   -999.0,1,   -999.0,1, -999.000,9,-999.0000,9,-999.0000,9,-999.0000,9,-999.0000,9, 27.817, 32.460, 36.998, 41.434, 45.769
33RO20110828,   A10,    51,  2,      5,    005,2,20000101,0000,-30.0001, -11.1175, 3577,   2551.4,   2.4550,  34.8516,2,  34.8529,2,  35.0172,2,    231.9,2,    232.2,2,    51.06,2,    24.02,2,     0.01,2,     1.74,2,    0.007,2,    0.005,2,    0.058,3,   -999.0,9,   2335.1,2,   -999.0,9,  -999.00,   7.6601,2,    25.52,    0.029,2,   -999.0,1,   -999.0,1, -999.000,9,-999.0000,9,-999.0000,9,-999.0000,9,-999.0000,9, 27.833, 32.477, 37.018, 41.456, 45.793
33RO20110828,   A10,    51,  2,      4,    004,2,20000101,0000,-30.0001, -11.1175, 3577,   2849.3,   2.4065,  34.8605,2,  34.8614,2,  35.0258,2,    236.0,2,    235.7,2,    51.06,2,    23.53,2,     0.01,2,     1.71,2,    0.007,2,    0.004,2,    0.054,3,   -999.0,5,    999.0,5,   -999.0,9,  -999.00,   7.6688,2,    25.60,    0.000,2,   -999.0,1,   -999.0,1, -999.000,9,-999.0000,9,-999.0000,9,-999.0000,9,-999.0000,9, 27.846, 32.493, 37.035, 41.475, 45.814
33RO20110828,   A10,    51,  2,      3,    003,2,20000101,0000,-30.0001, -11.1175, 3577,   3099.5,   2.3776,  34.8643,2,  34.8653,2,  35.0297,2,    237.2,2,    237.3,2,    51.55,2,    23.33,2,     0.00,2,     1.70,2,    0.007,2,    0.004,2,    0.061,3,   -999.0,4,   2336.6,4,   -999.0,9,  -999.00,   7.6686,2,    25.54,    0.064,2,   -999.0,1,   -999.0,1, -999.000,9,-999.0000,9,-999.0000,9,-999.0000,9,-999.0000,9, 27.853, 32.501, 37.045, 41.486, 45.827
33RO20110828,   A10,    51,  2,      2,    002,2,20000101,0000,-30.0001, -11.1175, 3577,   3351.6,   2.3752,  34.8697,2,  34.8714,2,  35.0358,2,    236.9,2,    236.5,2,    51.45,2,    23.23,2,     0.00,2,     1.68,2,    0.005,2,    0.006,2,    0.056,3,   -999.0,9,   2340.1,2,   -999.0,9,  -999.00,   7.6895,2,    25.46,    0.074,2,   -999.0,1,   -999.0,1, -999.000,9,-999.0000,9,-999.0000,9,-999.0000,9,-999.0000,9, 27.860, 32.509, 37.054, 41.496, 45.837
33RO20110828,   A10,    51,  2,      1,    001,2,20000101,0000,-30.0001, -11.1175, 3577,   3590.3,   2.3876,  34.8724,2,  34.8777,2,  35.0422,2,    236.0,2,    236.1,2,    51.74,2,    23.33,2,     0.00,2,     1.68,2,    0.005,2,    0.005,2,    0.041,3,   -999.0,9,   2341.2,2,   -999.0,9,  -999.00,   7.6854,2,    25.55,    0.067,2,   -999.0,1,   -999.0,1, -999.000,9,-999.0000,9,-999.0000,9,-999.0000,9,-999.0000,9, 27.867, 32.516, 37.061, 41.503, 45.844