BOTTLE,20130715NOAA
EXPOCODE,SECT_ID,STNNBR,CASTNO,SAMPNO,BTLNBR,BTLNBR_FLAG_W,DATE,TIME,LATITUDE,LONGITUDE,DEPTH,CTDPRS,CTDTMP,CTDSAL,CTDSAL_FLAG_W,SALNTY,SALNTY_FLAG_W,SALTREF,SALTREF_FLAG_W,CTDOXY,CTDOXY_FLAG_W,OXYGEN,OXYGEN_FLAG_W,SILCAT,SILCAT_FLAG_W,NITRAT,NITRAT_FLAG_W,NITRIT,NITRIT_FLAG_W,PHSPHT,PHSPHT_FLAG_W,CFC-11,CFC-11_FLAG_W,CFC-12,CFC-12_FLAG_W,CCL4,CCL4_FLAG_W,TCARBN,TCARBN_FLAG_W,ALKALI,ALKALI_FLAG_W,PCO2,PCO2_FLAG_W,PCO2TMP,PH_TOT,PH_TOT_FLAG_W,PH_TMP,SF6,SF6_FLAG_W,DOC,DOC_FLAG_W,TDN,TDN_FLAG_W,TRITUM,TRITUM_FLAG_W,HELIUM,HELIUM_FLAG_W,OXY_18,OXY_18_FLAG_W,BLACKC,BLACKC_FLAG_W,PIGMENTS,PIGMENTS_FLAG_W,SIGMA-THETA,SIGMA-1,SIGMA-2,SIGMA-3,SIGMA-4
,,,,,,,,,,,METERS,DBARS,ITS-90,PSS-78,,PSS-78,,G/KG,,UMOL/KG,,UMOL/KG,,UMOL/KG,,UMOL/KG,,UMOL/KG,,UMOL/KG,,PMOL/KG,,PMOL/KG,,PMOL/KG,,UMOL/KG,,UMOL/KG,,UATM@T,,DEG_C,,,DEG_C,FMOL/KG,,UMOL/KG,,UMOL/KG,,TU,,NMOL/KG,,,,,,,,,,,,
33RO20110828,   A10,    43,  1,     24,    024,2,20000101,0000,-30.0031,  -6.2443, -999,      5.3,  18.1920,  35.8603,2,  35.8598,2,  36.0288,2,    238.5,2,    238.9,2,     1.46,2,     0.00,2,     0.00,2,     0.16,2,    2.335,2,    1.434,2,    2.677,3,   2082.1,6,   2351.2,2,   -999.0,9,  -999.00,   7.9259,2,    25.36,    1.508,2,   -999.0,1,   -999.0,1, -999.000,9,-999.0000,9,-999.0000,9,-999.0000,9,-999.0000,1, 25.883, 30.178, 34.379, 38.488, 42.508
33RO20110828,   A10,    43,  1,     23,    023,2,20000101,0000,-30.0031,  -6.2443, -999,     34.9,  17.5684,  35.8423,2,  35.8406,2,  36.0096,2,    243.5,2,    242.9,2,     1.46,2,     0.00,2,     0.00,2,     0.16,2,    2.375,2,    1.448,2,    3.185,3,   2081.2,2,   2348.5,2,   -999.0,9,  -999.00,   7.9216,2,    25.42,    1.483,2,   -999.0,1,   -999.0,1, -999.000,9,-999.0000,9,-999.0000,9,-999.0000,9,-999.0000,9, 26.024, 30.329, 34.540, 38.659, 42.689
33RO20110828,   A10,    43,  1,     22,    022,2,20000101,0000,-30.0031,  -6.2443, -999,     72.5,  17.0298,  35.8235,2,  35.8222,2,  35.9911,2,    236.9,2,    236.9,2,     1.56,2,     0.29,2,     0.20,2,     0.20,2,    2.367,2,    1.449,2,    2.230,3,   2086.6,2,   2342.7,2,   -999.0,9,  -999.00,   7.9188,2,    25.43,    1.467,2,   -999.0,1,   -999.0,1, -999.000,9,-999.0000,9,-999.0000,9,-999.0000,9,-999.0000,1, 26.141, 30.456, 34.676, 38.804, 42.842
33RO20110828,   A10,    43,  1,     21,    021,2,20000101,0000,-30.0031,  -6.2443, -999,    125.7,  16.8927,  35.8092,2,  35.8084,2,  35.9773,2,    232.0,2,    232.0,2,     1.66,2,     0.68,2,     0.50,2,     0.24,2,    2.375,2,    1.451,2,    1.902,3,   2090.1,2,   2348.4,2,   -999.0,9,  -999.00,   7.9254,2,    25.47,    1.465,2,   -999.0,1,   -999.0,1, -999.000,9,-999.0000,9,-999.0000,9,-999.0000,9,-999.0000,1, 26.166, 30.483, 34.706, 38.836, 42.876
33RO20110828,   A10,    43,  1,     20,    020,2,20000101,0000,-30.0031,  -6.2443, -999,    184.8,  16.7972,  35.7862,2,  35.7886,2,  35.9573,2,    231.8,2,    231.1,2,     1.85,2,     1.07,2,     0.30,2,     0.26,2,    2.385,2,    1.460,2,    1.797,3,   2091.9,2,   2347.7,2,   -999.0,9,  -999.00,   7.9032,2,    25.58,    1.445,2,   -999.0,1,   -999.0,1, -999.000,9,-999.0000,9,-999.0000,9,-999.0000,9,-999.0000,9, 26.175, 30.495, 34.719, 38.851, 42.893
33RO20110828,   A10,    43,  1,     19,    019,2,20000101,0000,-30.0031,  -6.2443, -999,    270.5,  15.7309,  35.5546,2,  35.5536,2,  35.7212,2,    224.0,2,    223.7,2,     2.63,2,     3.71,2,     0.01,2,     0.40,2,    2.528,2,    1.534,2,    0.918,3,   2098.7,3,   2331.4,2,   -999.0,9,  -999.00,   7.8847,2,    25.63,    1.416,2,   -999.0,1,   -999.0,1, -999.000,9,-999.0000,9,-999.0000,9,-999.0000,9,-999.0000,9, 26.245, 30.585, 34.829, 38.980, 43.040
33RO20110828,   A10,    43,  1,     18,    018,2,20000101,0000,-30.0031,  -6.2443, -999,    359.2,  15.0002,  35.4251,2,  35.4244,2,  35.5914,2,    224.7,2,    225.1,2,     2.63,2,     4.49,2,     0.01,2,     0.46,2,    2.615,2,    1.587,2,    0.796,3,   2095.8,2,   2327.9,2,   -999.0,9,  -999.00,   7.8637,2,    25.58,    1.422,2,   -999.0,1,   -999.0,1, -999.000,9,-999.0000,9,-999.0000,9,-999.0000,9,-999.0000,9, 26.311, 30.665, 34.923, 39.088, 43.161
33RO20110828,   A10,    43,  1,     17,    017,2,20000101,0000,-30.0031,  -6.2443, -999,    499.7,  12.7352,  35.1311,2,  35.1300,2,  35.2956,2,    211.9,2,    211.9,2,     4.39,2,    10.74,2,     0.01,2,     0.86,2,    2.939,2,    1.710,2,    0.813,3,   2124.8,2,   2309.6,2,   -999.0,9,  -999.00,   7.7917,2,    25.60,    1.346,2,   -999.0,1,   -999.0,1, -999.000,9,-999.0000,9,-999.0000,9,-999.0000,9,-999.0000,9, 26.560, 30.959, 35.261, 39.468, 43.582
33RO20110828,   A10,    43,  1,     16,    016,2,20000101,0000,-30.0031,  -6.2443, -999,    625.3,  10.4555,  34.8477,2,  34.8472,2,  35.0115,2,    209.6,2,    210.1,2,     6.54,2,    16.30,2,     0.01,2,     1.22,2, -999.000,5, -999.000,5, -999.000,5,   2142.3,2,   2283.9,2,   -999.0,9,  -999.00,   7.7353,2,    25.62, -999.000,5,   -999.0,1,   -999.0,1, -999.000,9,-999.0000,9,-999.0000,9,-999.0000,9,-999.0000,9, 26.767, 31.215, 35.564, 39.816, 43.975
33RO20110828,   A10,    43,  1,     15,    015,2,20000101,0000,-30.0031,  -6.2443, -999,    774.8,   7.2234,  34.4913,2,  34.4908,2,  34.6534,2,    206.7,2,    206.1,2,    14.35,2,    24.51,2,     0.01,2,     1.80,2,    3.075,2,    1.632,2,    1.787,3,   2169.7,2,   2285.4,2,   -999.0,9,  -999.00,   7.6566,2,    25.66,    0.889,2,   -999.0,1,   -999.0,1, -999.000,9,-999.0000,9,-999.0000,9,-999.0000,9,-999.0000,9, 26.997, 31.520, 35.942, 40.265, 44.491
33RO20110828,   A10,    43,  1,     14,    014,2,20000101,0000,-30.0031,  -6.2443, -999,    924.2,   5.0966,  34.3385,2,  34.3379,2,  34.4998,2,    211.1,2,    212.1,2,    23.24,2,    28.91,2,     0.01,2,     2.12,2,    2.782,2,    1.428,2,    2.225,3,   2184.4,2,   2292.5,2,   -999.0,9,  -999.00,   7.6150,2,    25.72,    0.738,2,   -999.0,1,   -999.0,1, -999.000,9,-999.0000,9,-999.0000,9,-999.0000,9,-999.0000,9, 27.148, 31.724, 36.197, 40.570, 44.845
33RO20110828,   A10,    43,  1,     13,    013,2,20000101,0000,-30.0031,  -6.2443, -999,   1124.5,   3.8245,  34.3864,2,  34.3869,2,  34.5491,2,    193.5,2,    192.8,2,    41.21,2,    32.23,2,     0.01,2,     2.38,2,    1.549,2,    0.763,2,    1.471,3,   2214.4,2,   2303.0,2,   -999.0,9,  -999.00,   7.5711,2,    25.65,    0.298,2,   -999.0,1,   -999.0,1, -999.000,9,-999.0000,9,-999.0000,9,-999.0000,9,-999.0000,9, 27.325, 31.934, 36.439, 40.843, 45.147
33RO20110828,   A10,    43,  1,     12,    012,2,20000101,0000,-30.0031,  -6.2443, -999,   1325.0,   3.2738,  34.5051,2,  34.5065,2,  34.6692,2,    180.8,2,    179.9,2,    53.71,2,    32.91,2,     0.01,2,     2.42,2,    0.655,2,    0.311,2,    0.757,3,   2231.2,2,   2318.7,2,   -999.0,9,  -999.00,   7.5536,2,    25.64,    0.142,2,   -999.0,1,   -999.0,1, -999.000,9,-999.0000,9,-999.0000,9,-999.0000,9,-999.0000,9, 27.475, 32.097, 36.616, 41.033, 45.350
33RO20110828,   A10,    43,  1,     11,    011,2,20000101,0000,-30.0031,  -6.2443, -999,   1524.2,   3.0641,  34.6243,2,  34.6239,2,  34.7872,2,    184.1,2,    184.7,2,    54.87,2,    31.44,2,     0.01,2,     2.29,2,    0.261,2,    0.120,2,    0.379,3,   2231.4,6,   2323.0,2,   -999.0,9,  -999.00,   7.5956,2,    25.62,    0.039,2,   -999.0,1,   -999.0,1, -999.000,9,-999.0000,9,-999.0000,9,-999.0000,9,-999.0000,9, 27.589, 32.217, 36.741, 41.162, 45.484
33RO20110828,   A10,    43,  1,     10,    010,2,20000101,0000,-30.0031,  -6.2443, -999,   1774.5,   2.9853,  34.7392,2,  34.7399,2,  34.9037,2,    197.5,2,    198.5,2,    51.36,2,    28.51,2,     0.01,2,     2.08,2,    0.081,2,    0.038,2,    0.160,3,   2218.4,2,   2325.9,2,   -999.0,9,  -999.00,   7.6070,2,    25.68,    0.000,2,   -999.0,1,   -999.0,1, -999.000,9,-999.0000,9,-999.0000,9,-999.0000,9,-999.0000,9, 27.691, 32.320, 36.846, 41.269, 45.592
33RO20110828,   A10,    43,  1,      9,    009,2,20000101,0000,-30.0031,  -6.2443, -999,   2049.3,   2.7949,  34.7950,2,  34.7951,2,  34.9592,2,    211.5,2,    211.9,2,    51.45,2,    26.85,2,     0.01,2,     1.94,2,    0.038,2,    0.018,2,    0.115,3,   2212.8,2,   2332.8,2,   -999.0,9,  -999.00,   7.6289,2,    25.65,    0.000,2,   -999.0,1,   -999.0,1, -999.000,9,-999.0000,9,-999.0000,9,-999.0000,9,-999.0000,9, 27.754, 32.389, 36.919, 41.348, 45.676
33RO20110828,   A10,    43,  1,      8,    008,2,20000101,0000,-30.0031,  -6.2443, -999,   2350.1,   2.5708,  34.8268,2,  34.8272,2,  34.9914,2,    222.5,2,    222.2,2,    52.82,2,    25.48,2,     0.01,2,     1.84,2,    0.020,2,    0.011,2,    0.069,3,   2207.7,2,   2331.3,2,   -999.0,9,  -999.00,   7.6552,2,    25.66,    0.000,2,   -999.0,1,   -999.0,1, -999.000,9,-999.0000,9,-999.0000,9,-999.0000,9,-999.0000,9, 27.801, 32.442, 36.979, 41.414, 45.748
33RO20110828,   A10,    43,  1,      7,    007,2,20000101,0000,-30.0031,  -6.2443, -999,   2650.7,   2.4729,  34.8477,2,  34.8488,2,  35.0132,2,    230.0,2,    229.2,2,    52.13,2,    24.50,2,     0.01,2,     1.77,2,    0.007,2,    0.004,2,    0.052,3,   2204.1,2,   2333.4,2,   -999.0,9,  -999.00,   7.6464,3,    25.63,    0.000,2,   -999.0,1,   -999.0,1, -999.000,9,-999.0000,9,-999.0000,9,-999.0000,9,-999.0000,9, 27.829, 32.473, 37.013, 41.451, 45.788
33RO20110828,   A10,    43,  1,      6,    006,2,20000101,0000,-30.0031,  -6.2443, -999,   2951.7,   2.4108,  34.8614,2,  34.8654,2,  35.0298,2,    234.3,2,    234.5,2,    51.45,2,    23.92,2,     0.01,2,     1.72,2,    0.006,2,    0.004,2,    0.047,3,   2201.6,2,   2336.6,2,   -999.0,9,  -999.00,   7.6706,2,    25.60,    0.000,2,   -999.0,1,   -999.0,1, -999.000,9,-999.0000,9,-999.0000,9,-999.0000,9,-999.0000,9, 27.849, 32.496, 37.039, 41.479, 45.818
33RO20110828,   A10,    43,  1,      5,    005,2,20000101,0000,-30.0031,  -6.2443, -999,   3199.7,   2.3809,  34.8692,2,  34.8701,2,  35.0345,2,    235.9,2,    236.1,2,    51.35,2,    23.53,2,     0.01,2,     1.70,2,    0.003,2,    0.002,2,    0.030,3,   2202.6,2,   2340.3,2,   -999.0,9,  -999.00,   7.6772,2,    25.53,    0.033,3,   -999.0,1,   -999.0,1, -999.000,9,-999.0000,9,-999.0000,9,-999.0000,9,-999.0000,9, 27.858, 32.506, 37.050, 41.491, 45.832
33RO20110828,   A10,    43,  1,      4,    004,2,20000101,0000,-30.0031,  -6.2443, -999,   3550.9,   2.3704,  34.8752,2,  34.8760,2,  35.0405,2,    235.4,2,    234.7,2,    52.03,2,    23.53,2,     0.01,2,     1.69,2,    0.003,2,    0.001,2,    0.019,3,   2206.3,2,   2343.2,2,   -999.0,9,  -999.00,   7.6831,2,    25.54,    0.000,2,   -999.0,1,   -999.0,1, -999.000,9,-999.0000,9,-999.0000,9,-999.0000,9,-999.0000,9, 27.866, 32.516, 37.061, 41.504, 45.845
33RO20110828,   A10,    43,  1,      3,    003,2,20000101,0000,-30.0031,  -6.2443, -999,   3908.5,   2.3854,  34.8782,2,  34.8788,2,  35.0432,2,    234.2,2,    234.8,2,    52.23,2,    23.43,2,     0.01,2,     1.68,2,    0.003,2,    0.003,2,    0.014,3,   2209.6,2,   2349.0,2,   -999.0,9,  -999.00,   7.6836,2,    25.48,    0.029,3,   -999.0,1,   -999.0,1, -999.000,9,-999.0000,9,-999.0000,9,-999.0000,9,-999.0000,9, 27.871, 32.521, 37.067, 41.510, 45.852
33RO20110828,   A10,    43,  1,      2,    002,2,20000101,0000,-30.0031,  -6.2443, -999,   4249.6,   2.4066,  34.8788,2,  34.8798,2,  35.0442,2,    233.1,2,    233.4,2,    53.11,2,    23.62,2,     0.01,2,     1.69,2,    0.003,2,    0.000,2,    0.011,3,   2210.9,2,   2352.3,2,   -999.0,9,  -999.00,   7.6811,2,    25.41,    0.000,2,   -999.0,1,   -999.0,1, -999.000,9,-999.0000,9,-999.0000,9,-999.0000,9,-999.0000,9, 27.873, 32.524, 37.070, 41.514, 45.856
33RO20110828,   A10,    43,  1,      1,    001,2,20000101,0000,-30.0031,  -6.2443, -999,   4673.3,   2.4339,  34.8775,2,  34.8793,2,  35.0437,2,    232.0,2,    231.7,2,    54.38,2,    23.72,2,     0.01,2,     1.70,2,    0.004,2,    0.003,2,    0.022,3,   2214.8,6,   2355.2,2,   -999.0,9,  -999.00,   7.9385,4,    25.52,    0.026,3,   -999.0,1,   -999.0,1, -999.000,9,-999.0000,9,-999.0000,9,-999.0000,9,-999.0000,9, 27.874, 32.526, 37.073, 41.517, 45.860