BOTTLE,20130715NOAA
EXPOCODE,SECT_ID,STNNBR,CASTNO,SAMPNO,BTLNBR,BTLNBR_FLAG_W,DATE,TIME,LATITUDE,LONGITUDE,DEPTH,CTDPRS,CTDTMP,CTDSAL,CTDSAL_FLAG_W,SALNTY,SALNTY_FLAG_W,SALTREF,SALTREF_FLAG_W,CTDOXY,CTDOXY_FLAG_W,OXYGEN,OXYGEN_FLAG_W,SILCAT,SILCAT_FLAG_W,NITRAT,NITRAT_FLAG_W,NITRIT,NITRIT_FLAG_W,PHSPHT,PHSPHT_FLAG_W,CFC-11,CFC-11_FLAG_W,CFC-12,CFC-12_FLAG_W,CCL4,CCL4_FLAG_W,TCARBN,TCARBN_FLAG_W,ALKALI,ALKALI_FLAG_W,PCO2,PCO2_FLAG_W,PCO2TMP,PH_TOT,PH_TOT_FLAG_W,PH_TMP,SF6,SF6_FLAG_W,DOC,DOC_FLAG_W,TDN,TDN_FLAG_W,TRITUM,TRITUM_FLAG_W,HELIUM,HELIUM_FLAG_W,OXY_18,OXY_18_FLAG_W,BLACKC,BLACKC_FLAG_W,PIGMENTS,PIGMENTS_FLAG_W,SIGMA-THETA,SIGMA-1,SIGMA-2,SIGMA-3,SIGMA-4
,,,,,,,,,,,METERS,DBARS,ITS-90,PSS-78,,PSS-78,,G/KG,,UMOL/KG,,UMOL/KG,,UMOL/KG,,UMOL/KG,,UMOL/KG,,UMOL/KG,,PMOL/KG,,PMOL/KG,,PMOL/KG,,UMOL/KG,,UMOL/KG,,UATM@T,,DEG_C,,,DEG_C,FMOL/KG,,UMOL/KG,,UMOL/KG,,TU,,NMOL/KG,,,,,,,,,,,,
33RO20110828,   A10,    11,  1,     24,    024,2,20000101,0000,-29.7501,  10.1743, 4844,      2.2,  16.5290,  35.5206,2,  35.5213,2,  35.6888,2,    247.8,2,    249.8,2,     2.24,2,     0.68,2,     0.06,2,     0.26,2,    2.502,2,    1.518,2,    2.819,2,   2071.5,2,   2334.1,2,   -999.0,9,  -999.00,   7.9343,2,    25.35,    1.511,2,   -999.0,1,   -999.0,1, -999.000,1,-999.0000,1,-999.0000,1,-999.0000,9,-999.0000,1, 26.026, 30.351, 34.581, 38.719, 42.766
33RO20110828,   A10,    11,  1,     23,    023,2,20000101,0000,-29.7501,  10.1743, 4844,     28.0,  16.4082,  35.5189,2,  35.5188,2,  35.6863,2,    246.5,2,    248.8,2,     2.34,2,     0.78,2,     0.06,2,     0.26,2,    2.510,2,    1.515,2,    2.669,2,   2073.0,2,   2336.1,2,   -999.0,9,  -999.00,   7.9424,2,    25.44,    1.506,2,   -999.0,1,   -999.0,1, -999.000,1,-999.0000,1,-999.0000,1,-999.0000,9,-999.0000,1, 26.053, 30.381, 34.613, 38.752, 42.802
33RO20110828,   A10,    11,  1,     22,    022,2,20000101,0000,-29.7501,  10.1743, 4844,     74.1,  15.8876,  35.4925,2,  35.4924,2,  35.6598,2,    242.0,2,    238.8,2,     2.63,2,     2.15,2,     0.50,2,     0.38,2,    2.532,2,    1.529,2,    2.208,2,   2083.0,2,   2329.0,2,   -999.0,9,  -999.00,   7.9219,2,    25.35,    1.550,2,   -999.0,1,   -999.0,1, -999.000,1,-999.0000,1,-999.0000,1,-999.0000,9,-999.0000,1, 26.155, 30.492, 34.733, 38.881, 42.939
33RO20110828,   A10,    11,  1,     21,    021,2,20000101,0000,-29.7501,  10.1743, 4844,    122.3,  15.2958,  35.4573,2,  35.4591,2,  35.6263,2,    229.0,2,    227.8,2,     3.12,2,     4.49,2,     0.03,2,     0.47,2,    2.568,2,    1.547,2,    1.475,2,   2092.0,2,   2326.1,2,   -999.0,9,  -999.00,   7.8984,2,    25.43,    1.407,2,   -999.0,1,   -999.0,1, -999.000,1,-999.0000,1,-999.0000,1,-999.0000,9,-999.0000,9, 26.265, 30.612, 34.864, 39.023, 43.091
33RO20110828,   A10,    11,  1,     20,    020,2,20000101,0000,-29.7501,  10.1743, 4844,    179.5,  13.5604,  35.1820,2,  35.1823,2,  35.3482,2,    214.5,2,    212.6,2,     3.51,2,     8.59,2,     0.03,2,     0.75,2,    2.838,2,    1.677,2,    0.803,2,   2118.0,2,   2311.0,2,   -999.0,9,  -999.00,   7.8268,2,    25.41,    1.452,2,   -999.0,1,   -999.0,1, -999.000,1,-999.0000,1,-999.0000,1,-999.0000,9,-999.0000,9, 26.425, 30.807, 35.092, 39.283, 43.382
33RO20110828,   A10,    11,  1,     19,    019,2,20000101,0000,-29.7501,  10.1743, 4844,    249.1,  12.2567,  35.0535,2,  35.0543,2,  35.2196,2,    211.0,2,    211.8,2,     4.59,2,    11.81,2,     0.01,2,     0.95,2,    3.002,2,    1.741,2,    0.833,2,   2129.5,2,   2308.7,2,   -999.0,9,  -999.00,   7.7943,2,    25.40,    1.310,2,   -999.0,1,   -999.0,1, -999.000,1,-999.0000,1,-999.0000,1,-999.0000,9,-999.0000,9, 26.588, 30.997, 35.307, 39.523, 43.646
33RO20110828,   A10,    11,  1,     18,    018,2,20000101,0000,-29.7501,  10.1743, 4844,    350.3,  10.4831,  34.8473,2,  34.8469,6,  35.0112,6,    214.6,2,    214.3,2,     6.44,2,    15.71,2,     0.01,2,     1.20,2,    3.144,2,    1.762,2,    0.961,2,   2140.2,2,   2298.2,2,   -999.0,9,  -999.00,   7.7473,2,    25.42,    1.161,2,   -999.0,1,   -999.0,1, -999.000,1,-999.0000,1,-999.0000,1,-999.0000,9,-999.0000,9, 26.756, 31.203, 35.550, 39.801, 43.959
33RO20110828,   A10,    11,  1,     17,    017,2,20000101,0000,-29.7501,  10.1743, 4844,    449.0,   8.9883,  34.6832,2,  34.6845,2,  34.8481,2,    181.2,2,    182.0,2,    12.20,2,    22.16,2,     0.01,2,     1.66,2,    2.951,2,    1.612,2,    1.032,2,   2172.7,4,   2292.6,2,   -999.0,9,  -999.00,   7.6603,3,    25.43,    0.951,2,   -999.0,1,   -999.0,1, -999.000,1,-999.0000,1,-999.0000,1,-999.0000,9,-999.0000,9, 26.881, 31.361, 35.742, 40.025, 44.212
33RO20110828,   A10,    11,  1,     16,    016,2,20000101,0000,-29.7501,  10.1743, 4844,    524.8,   7.5528,  34.5176,2,  34.5182,2,  34.6809,2,    209.1,2,    210.6,2,    12.98,2,    23.14,2,     0.01,2,     1.72,2,    3.123,2,    1.670,2,    1.934,2,   2163.1,2,   2286.9,2,   -999.0,9,  -999.00,   7.6702,2,    25.47,    0.988,2,   -999.0,1,   -999.0,1, -999.000,1,-999.0000,1,-999.0000,1,-999.0000,9,-999.0000,9, 26.969, 31.483, 35.896, 40.211, 44.430
33RO20110828,   A10,    11,  1,     15,    015,2,20000101,0000,-29.7501,  10.1743, 4844,    654.1,   5.6094,  34.3547,2,  34.3556,2,  34.5176,2,    215.0,2,    215.1,2,    19.33,2,    27.73,2,     0.00,2,     2.02,2,    3.046,2,    1.576,2,    2.471,2,   2177.5,2,   2284.7,2,   -999.0,9,  -999.00,   7.6329,2,    25.42,    0.790,2,   -999.0,1,   -999.0,1, -999.000,1,-999.0000,1,-999.0000,1,-999.0000,9,-999.0000,9, 27.099, 31.661, 36.122, 40.482, 44.744
33RO20110828,   A10,    11,  1,     14,    014,2,20000101,0000,-29.7501,  10.1743, 4844,    748.2,   4.6688,  34.3223,2,  34.3225,2,  34.4843,2,    216.2,2,    215.3,2,    26.17,2,    29.49,2,     0.00,2,     2.16,2,    2.694,2,    1.361,2,    2.544,2,   2187.5,2,   2289.6,2,   -999.0,9,  -999.00,   7.6150,2,    25.46,    0.641,2,   -999.0,1,   -999.0,1, -999.000,1,-999.0000,1,-999.0000,1,-999.0000,9,-999.0000,9, 27.182, 31.769, 36.252, 40.635, 44.920
33RO20110828,   A10,    11,  1,     13,    013,2,20000101,0000,-29.7501,  10.1743, 4844,    948.0,   3.7123,  34.3931,2,  34.3927,2,  34.5549,2,    191.9,2,    192.0,2,    42.86,2,    32.51,2,     0.00,2,     2.39,2,    1.473,2,    0.714,2,    1.677,2,   2215.5,2,   2307.1,2,   -999.0,9,  -999.00,   7.5766,2,    25.41,    0.267,2,   -999.0,1,   -999.0,1, -999.000,1,-999.0000,1,-999.0000,1,-999.0000,9,-999.0000,9, 27.339, 31.950, 36.458, 40.864, 45.171
33RO20110828,   A10,    11,  1,     12,    012,2,20000101,0000,-29.7501,  10.1743, 4844,   1198.5,   3.0894,  34.5513,2,  34.5516,2,  34.7145,2,    176.7,2,    177.1,2,    59.64,2,    32.80,2,     0.00,2,     2.43,2,    0.495,2,    0.231,2,    0.695,2,   2238.3,6,   2323.5,2,   -999.0,9,  -999.00,   7.5654,2,    25.42,    0.056,2,   -999.0,1,   -999.0,1, -999.000,1,-999.0000,1,-999.0000,1,-999.0000,9,-999.0000,9, 27.527, 32.154, 36.677, 41.098, 45.419
33RO20110828,   A10,    11,  1,     11,    011,2,20000101,0000,-29.7501,  10.1743, 4844,   1497.9,   2.9969,  34.7272,2,  34.7280,2,  34.8918,2,    193.1,2,    193.3,2,    53.58,2,    29.28,2,     0.00,2,     2.14,2,    0.098,2,    0.046,2,    0.193,2,   2224.0,2,   2327.1,2,   -999.0,9,  -999.00,   7.6031,2,    25.37,    0.000,2,   -999.0,1,   -999.0,1, -999.000,1,-999.0000,1,-999.0000,1,-999.0000,9,-999.0000,9, 27.678, 32.307, 36.831, 41.254, 45.576
33RO20110828,   A10,    11,  1,     10,    010,2,20000101,0000,-29.7501,  10.1743, 4844,   1798.7,   2.9783,  34.8202,2,  34.8211,2,  34.9853,2,    214.2,2,    213.3,2,    45.87,2,    26.06,2,     0.00,2,     1.89,2,    0.027,2,    0.014,2,    0.079,2,   2207.0,2,   2326.4,2,   -999.0,9,  -999.00,   7.6475,2,    25.46,    0.000,2,   -999.0,1,   -999.0,1, -999.000,1,-999.0000,1,-999.0000,1,-999.0000,9,-999.0000,9, 27.757, 32.386, 36.911, 41.334, 45.657
33RO20110828,   A10,    11,  1,      9,    009,2,20000101,0000,-29.7501,  10.1743, 4844,   2049.8,   2.8283,  34.8468,2,  34.8476,2,  35.0119,2,    223.9,2,    222.7,2,    45.87,2,    24.98,2,     0.00,2,     1.81,2,    0.015,2,    0.008,2,    0.063,2,   2203.1,2,   2327.1,2,   -999.0,9,  -999.00,   7.6648,2,    25.44,    0.000,2,   -999.0,1,   -999.0,1, -999.000,1,-999.0000,1,-999.0000,1,-999.0000,9,-999.0000,9, 27.793, 32.426, 36.956, 41.383, 45.710
33RO20110828,   A10,    11,  1,      8,    008,2,20000101,0000,-29.7501,  10.1743, 4844,   2346.7,   2.6363,  34.8603,2,  34.8608,2,  35.0251,2,    228.1,2,    229.0,2,    47.53,2,    24.20,2,     0.00,2,     1.75,2,    0.008,2,    0.004,2,    0.056,2,   2200.8,2,   2330.5,2,   -999.0,9,  -999.00,   7.6782,2,    25.54,    0.000,2,   -999.0,1,   -999.0,1, -999.000,9,-999.0000,1,-999.0000,1,-999.0000,9,-999.0000,9, 27.822, 32.462, 36.997, 41.429, 45.761
33RO20110828,   A10,    11,  1,      7,    007,2,20000101,0000,-29.7501,  10.1743, 4844,   2749.1,   2.4705,  34.8615,2,  34.8621,2,  35.0265,2,    231.8,2,    231.7,2,    51.14,2,    24.20,2,     0.00,2,     1.75,2,    0.006,2,    0.003,2,    0.026,2,   2203.1,2,   2334.8,2,   -999.0,9,  -999.00,   7.6807,2,    25.38,    0.000,2,   -999.0,1,   -999.0,1, -999.000,1,-999.0000,1,-999.0000,9,-999.0000,9,-999.0000,9, 27.840, 32.485, 37.026, 41.463, 45.801
33RO20110828,   A10,    11,  1,      6,    006,2,20000101,0000,-29.7501,  10.1743, 4844,   3048.3,   2.3534,  34.8589,2,  34.8623,2,  35.0267,2,    231.4,2,    232.2,2,    54.55,2,    24.30,2,     0.00,2,     1.76,2,    0.007,2,    0.004,2,    0.029,2,   2207.3,2,   2343.1,2,   -999.0,9,  -999.00,   7.6805,2,    25.38,    0.000,2,   -999.0,1,   -999.0,1, -999.000,9,-999.0000,1,-999.0000,9,-999.0000,9,-999.0000,9, 27.852, 32.501, 37.046, 41.487, 45.828
33RO20110828,   A10,    11,  1,      5,    005,2,20000101,0000,-29.7501,  10.1743, 4844,   3397.6,   2.2224,  34.8515,2,  34.8517,2,  35.0161,2,    230.2,2,    230.4,2,    59.73,2,    24.79,2,     0.00,2,     1.79,2,    0.007,2,    0.005,2,    0.033,2,   2212.4,2,   2347.7,2,   -999.0,9,  -999.00,   7.6774,2,    25.36,    0.000,2,   -999.0,1,   -999.0,1, -999.000,1,-999.0000,1,-999.0000,9,-999.0000,9,-999.0000,9, 27.857, 32.510, 37.059, 41.505, 45.850
33RO20110828,   A10,    11,  1,      4,    004,2,20000101,0000,-29.7501,  10.1743, 4844,   3698.9,   2.0597,  34.8333,2,  34.8336,2,  34.9979,2,    227.8,2,    227.6,2,    67.34,2,    25.67,2,     0.00,2,     1.86,2,    0.011,2,    0.006,2,    0.042,2,   2220.1,2,   2351.3,2,   -999.0,9,  -999.00,   7.6718,2,    25.48,    0.000,2,   -999.0,1,   -999.0,1, -999.000,9,-999.0000,1,-999.0000,9,-999.0000,9,-999.0000,9, 27.857, 32.516, 37.071, 41.522, 45.872
33RO20110828,   A10,    11,  1,      3,    003,2,20000101,0000,-29.7501,  10.1743, 4844,   4024.3,   1.8465,  34.8081,2,  34.8079,2,  34.9720,2,    224.4,2,    225.1,2,    77.30,2,    26.94,2,     0.00,2,     1.96,2,    0.017,2,    0.009,2,    0.061,2,   2229.6,2,   2354.2,2,   -999.0,9,  -999.00,   7.6572,2,    25.33,    0.000,2,   -999.0,1,   -999.0,1, -999.000,1,-999.0000,1,-999.0000,9,-999.0000,9,-999.0000,9, 27.855, 32.521, 37.082, 41.540, 45.896
33RO20110828,   A10,    11,  1,      2,    002,2,20000101,0000,-29.7501,  10.1743, 4844,   4396.1,   1.3371,  34.7560,2,  34.7576,2,  34.9215,2,    219.1,2,    219.6,2,    98.38,2,    29.57,2,     0.00,2,     2.15,2,    0.040,2,    0.021,2,    0.119,2,   2247.4,2,   2361.8,2,   -999.0,9,  -999.00,   7.6310,2,    25.31,    0.000,2,   -999.0,1,   -999.0,1, -999.000,1,-999.0000,1,-999.0000,9,-999.0000,9,-999.0000,9, 27.852, 32.534, 37.110, 41.583, 45.954
33RO20110828,   A10,    11,  1,      1,    001,2,20000101,0000,-29.7501,  10.1743, 4844,   4919.4,   1.1757,  34.7360,2,  34.7363,2,  34.9001,2,    217.8,2,    216.8,2,   107.07,2,    30.55,2,     0.01,2,     2.23,2,    0.058,2,    0.029,2,    0.156,2,   2258.0,6,   2347.4,4,   -999.0,9,  -999.00,   7.6338,2,    25.39,    0.000,2,   -999.0,1,   -999.0,1, -999.000,1,-999.0000,1,-999.0000,9,-999.0000,9,-999.0000,9, 27.849, 32.537, 37.120, 41.599, 45.975