BOTTLE,20130715NOAA
EXPOCODE,SECT_ID,STNNBR,CASTNO,SAMPNO,BTLNBR,BTLNBR_FLAG_W,DATE,TIME,LATITUDE,LONGITUDE,DEPTH,CTDPRS,CTDTMP,CTDSAL,CTDSAL_FLAG_W,SALNTY,SALNTY_FLAG_W,SALTREF,SALTREF_FLAG_W,CTDOXY,CTDOXY_FLAG_W,OXYGEN,OXYGEN_FLAG_W,SILCAT,SILCAT_FLAG_W,NITRAT,NITRAT_FLAG_W,NITRIT,NITRIT_FLAG_W,PHSPHT,PHSPHT_FLAG_W,CFC-11,CFC-11_FLAG_W,CFC-12,CFC-12_FLAG_W,CCL4,CCL4_FLAG_W,TCARBN,TCARBN_FLAG_W,ALKALI,ALKALI_FLAG_W,PCO2,PCO2_FLAG_W,PCO2TMP,PH_TOT,PH_TOT_FLAG_W,PH_TMP,SF6,SF6_FLAG_W,DOC,DOC_FLAG_W,TDN,TDN_FLAG_W,TRITUM,TRITUM_FLAG_W,HELIUM,HELIUM_FLAG_W,OXY_18,OXY_18_FLAG_W,BLACKC,BLACKC_FLAG_W,PIGMENTS,PIGMENTS_FLAG_W,SIGMA-THETA,SIGMA-1,SIGMA-2,SIGMA-3,SIGMA-4
,,,,,,,,,,,METERS,DBARS,ITS-90,PSS-78,,PSS-78,,G/KG,,UMOL/KG,,UMOL/KG,,UMOL/KG,,UMOL/KG,,UMOL/KG,,UMOL/KG,,PMOL/KG,,PMOL/KG,,PMOL/KG,,UMOL/KG,,UMOL/KG,,UATM@T,,DEG_C,,,DEG_C,FMOL/KG,,UMOL/KG,,UMOL/KG,,TU,,NMOL/KG,,,,,,,,,,,,
33RO20110828,   A10,    61,  1,     24,    024,2,20000101,0000,-29.9996, -18.9994, 3918,      4.2,  18.1443,  36.0852,2,  36.0855,2,  36.2557,2,    235.1,2,    236.1,2,     1.37,2,     0.00,2,     0.01,2,     0.15,2,    2.285,2,    1.384,2,    3.134,3,   2086.7,6,   2366.2,2,   -999.0,9,  -999.00,   7.9305,2,    25.61,    1.447,2,   -999.0,1,   -999.0,1, -999.000,9,-999.0000,9,-999.0000,9,-999.0000,9,-999.0000,1, 26.068, 30.363, 34.563, 38.671, 42.691
33RO20110828,   A10,    61,  1,     23,    023,2,20000101,0000,-29.9996, -18.9994, 3918,     40.8,  18.0125,  36.0541,2,  36.0523,2,  36.2223,2,    235.5,2,    236.3,2,     1.37,2,     0.00,2,     0.01,2,     0.15,2,    2.309,2,    1.393,2,    3.461,3,   2084.6,2,   2363.6,2,   -999.0,9,  -999.00,   7.9215,2,    25.59,    1.391,2,   -999.0,1,   -999.0,1, -999.000,9,-999.0000,9,-999.0000,9,-999.0000,9,-999.0000,9, 26.077, 30.374, 34.576, 38.687, 42.709
33RO20110828,   A10,    61,  1,     22,    022,2,20000101,0000,-29.9996, -18.9994, 3918,     89.4,  17.7022,  35.9782,2,  35.9855,2,  36.1552,2,    234.7,2,    235.0,2,     1.37,2,     0.10,2,     0.05,2,     0.16,2,    2.332,2,    1.409,2,    2.700,3,   2084.9,2,   2359.1,2,   -999.0,9,  -999.00,   7.9368,2,    25.65,    1.418,2,   -999.0,1,   -999.0,1, -999.000,9,-999.0000,9,-999.0000,9,-999.0000,9,-999.0000,1, 26.104, 30.407, 34.615, 38.731, 42.758
33RO20110828,   A10,    61,  1,     21,    021,2,20000101,0000,-29.9996, -18.9994, 3918,    134.2,  16.6751,  35.7535,2,  35.7577,2,  35.9263,2,    233.7,2,    230.0,2,     1.56,2,     1.27,2,     0.17,2,     0.26,2,    2.471,2,    1.480,2,    2.213,3,   2089.9,2,   2346.3,2,   -999.0,9,  -999.00,   7.9017,2,    25.60,    1.430,2,   -999.0,1,   -999.0,1, -999.000,9,-999.0000,9,-999.0000,9,-999.0000,9,-999.0000,1, 26.178, 30.500, 34.726, 38.860, 42.905
33RO20110828,   A10,    61,  1,     20,    020,2,20000101,0000,-29.9996, -18.9994, 3918,    193.7,  15.2032,  35.5040,2,  35.5096,2,  35.6770,2,    219.8,2,    221.3,2,     2.05,2,     4.29,2,     0.03,2,     0.45,2,    2.651,2,    1.577,2,    1.540,3,   2103.0,2,   -999.0,5,   -999.0,9,  -999.00,   7.8632,2,    25.68,    1.397,2,   -999.0,1,   -999.0,1, -999.000,9,-999.0000,9,-999.0000,9,-999.0000,9,-999.0000,9, 26.327, 30.676, 34.929, 39.089, 43.158
33RO20110828,   A10,    61,  1,     19,    019,2,20000101,0000,-29.9996, -18.9994, 3918,    275.6,  13.6136,  35.2820,2,  35.2876,2,  35.4540,2,    218.3,2,    217.4,2,     3.03,2,     7.91,2,     0.02,2,     0.69,2,    2.882,2,    1.664,2,    1.359,3,   2115.4,2,   2317.8,2,   -999.0,9,  -999.00,   7.8173,2,    25.68,    1.323,2,   -999.0,1,   -999.0,1, -999.000,9,-999.0000,9,-999.0000,9,-999.0000,9,-999.0000,9, 26.498, 30.879, 35.163, 39.352, 43.449
33RO20110828,   A10,    61,  1,     18,    018,2,20000101,0000,-29.9996, -18.9994, 3918,    364.9,  12.3056,  35.1082,2,  35.1125,6,  35.2781,6,    212.4,2,    213.3,2,     4.29,2,    11.42,2,     0.02,2,     0.92,2,    3.036,2,    1.712,2,    1.530,3,   2127.9,2,   2309.3,2,   -999.0,9,  -999.00,   7.7931,2,    25.59,    1.247,2,   -999.0,1,   -999.0,1, -999.000,9,-999.0000,9,-999.0000,9,-999.0000,9,-999.0000,9, 26.628, 31.036, 35.346, 39.560, 43.682
33RO20110828,   A10,    61,  1,     17,    017,2,20000101,0000,-29.9996, -18.9994, 3918,    464.8,  10.7623,  34.8952,2,  35.1103,4,  35.2759,4,    208.0,2,    207.8,2,     6.25,2,    15.33,2,     0.01,2,     1.20,2,    3.141,2,    1.715,2,    1.615,3,   2140.3,2,   2291.3,2,   -999.0,9,  -999.00,   7.7320,2,    25.70,    1.113,2,   -999.0,1,   -999.0,1, -999.000,9,-999.0000,9,-999.0000,9,-999.0000,9,-999.0000,9, 26.747, 31.188, 35.529, 39.775, 43.927
33RO20110828,   A10,    61,  1,     16,    016,2,20000101,0000,-29.9996, -18.9994, 3918,    564.2,   8.7316,  34.6472,2,  34.6458,2,  34.8091,2,    212.1,2,    211.8,2,     8.89,2,    20.11,2,     0.01,2,     1.51,2,    3.291,2,    1.747,2,    2.737,3,   2152.5,2,   2288.9,2,   -999.0,9,  -999.00,   7.6935,2,    25.58,    1.023,2,   -999.0,1,   -999.0,1, -999.000,9,-999.0000,9,-999.0000,9,-999.0000,9,-999.0000,9, 26.893, 31.380, 35.766, 40.055, 44.249
33RO20110828,   A10,    61,  1,     15,    015,2,20000101,0000,-29.9996, -18.9994, 3918,    666.4,   6.7411,  34.4272,2,  34.4298,2,  34.5921,2,    219.8,2,    219.1,2,    12.50,2,    24.41,2,     0.01,2,     1.81,2,    3.405,2,    1.768,2,    3.881,3,   2163.2,2,   2280.2,2,   -999.0,9,  -999.00,   7.6560,2,    25.64,    1.006,2,   -999.0,1,   -999.0,1, -999.000,9,-999.0000,9,-999.0000,9,-999.0000,9,-999.0000,9, 27.013, 31.548, 35.981, 40.315, 44.552
33RO20110828,   A10,    61,  1,     14,    014,2,20000101,0000,-29.9996, -18.9994, 3918,    766.0,   5.3013,  34.2961,2,  34.2979,2,  34.4596,2,    231.1,2,    232.1,2,    16.02,2,    26.66,2,     0.01,2,     1.98,2,    3.467,2,    1.773,2,    4.804,3,   2171.1,2,   2280.7,2,   -999.0,9,  -999.00,   7.6360,2,    25.61,    0.906,2,   -999.0,1,   -999.0,1, -999.000,9,-999.0000,9,-999.0000,9,-999.0000,9,-999.0000,9, 27.091, 31.662, 36.130, 40.498, 44.768
33RO20110828,   A10,    61,  1,     13,    013,2,20000101,0000,-29.9996, -18.9994, 3918,    864.8,   4.5430,  34.2773,2,  34.2783,6,  34.4400,6,    228.0,2,    228.8,2,    22.17,2,    28.81,2,     0.01,2,     2.11,2,    3.049,2,    1.529,2,    4.589,3,   2181.1,2,   -999.0,5,   -999.0,9,  -999.00,   7.6199,2,    25.65,    0.671,2,   -999.0,1,   -999.0,1, -999.000,9,-999.0000,9,-999.0000,9,-999.0000,9,-999.0000,9, 27.161, 31.751, 36.239, 40.625, 44.913
33RO20110828,   A10,    61,  1,     12,    012,2,20000101,0000,-29.9996, -18.9994, 3918,    963.8,   3.9119,  34.2972,2,  34.2981,2,  34.4599,2,    220.3,2,    218.4,2,    30.76,2,    30.47,2,     0.01,2,     2.25,2,    2.385,2,    1.178,2,    3.941,3,   2194.1,2,   2291.9,2,   -999.0,9,  -999.00,   7.5976,2,    25.66,    0.432,2,   -999.0,1,   -999.0,1, -999.000,9,-999.0000,9,-999.0000,9,-999.0000,9,-999.0000,9, 27.244, 31.851, 36.354, 40.756, 45.059
33RO20110828,   A10,    61,  1,     11,    011,2,20000101,0000,-29.9996, -18.9994, 3918,   1064.3,   3.5716,  34.3303,2,  34.3319,2,  34.4938,2,    208.7,2,    210.2,2,    37.31,2,    31.35,2,     0.01,2,     2.33,2, -999.000,5, -999.000,5, -999.000,5,   2202.9,2,   2297.8,2,   -999.0,9,  -999.00,   7.5829,2,    25.65, -999.000,5,   -999.0,1,   -999.0,1, -999.000,9,-999.0000,9,-999.0000,9,-999.0000,9,-999.0000,9, 27.305, 31.921, 36.433, 40.843, 45.154
33RO20110828,   A10,    61,  1,     10,    010,2,20000101,0000,-29.9996, -18.9994, 3918,   1263.3,   3.1006,  34.4861,2,  34.4862,2,  34.6488,2,    189.2,2,    189.3,2,    52.54,2,    32.32,2,     0.01,2,     2.40,2,    0.720,2,    0.347,2,    1.476,3,   2225.2,2,   2313.7,2,   -999.0,9,  -999.00,   7.5630,2,    25.69,    0.113,2,   -999.0,1,   -999.0,1, -999.000,9,-999.0000,9,-999.0000,9,-999.0000,9,-999.0000,9, 27.474, 32.101, 36.625, 41.046, 45.367
33RO20110828,   A10,    61,  1,      9,    009,2,20000101,0000,-29.9996, -18.9994, 3918,   1499.6,   2.9034,  34.6212,2,  34.6215,2,  34.7847,2,    190.6,2,    191.3,2,    56.53,2,    30.76,2,     0.01,2,     2.27,2,    0.269,2,    0.130,2,    0.723,3,   2227.4,6,   2320.6,2,   -999.0,9,  -999.00,   7.5937,2,    25.64,    0.052,2,   -999.0,1,   -999.0,1, -999.000,9,-999.0000,9,-999.0000,9,-999.0000,9,-999.0000,9, 27.601, 32.233, 36.761, 41.187, 45.513
33RO20110828,   A10,    61,  1,      8,    008,2,20000101,0000,-29.9996, -18.9994, 3918,   1750.3,   2.7930,  34.7265,2,  34.7246,2,  34.8883,2,    204.2,2,    203.5,2,    54.87,2,    28.41,2,     0.01,2,     2.10,2,    0.102,2,    0.051,2,    0.446,3,   2220.0,2,   2327.0,2,   -999.0,9,  -999.00,   7.5996,2,    25.69,    0.000,2,   -999.0,1,   -999.0,1, -999.000,9,-999.0000,9,-999.0000,9,-999.0000,9,-999.0000,9, 27.695, 32.330, 36.861, 41.289, 45.617
33RO20110828,   A10,    61,  1,      7,    007,2,20000101,0000,-29.9996, -18.9994, 3918,   2002.0,   2.6961,  34.7918,2,  34.7924,2,  34.9565,2,    217.4,2,    217.2,2,    51.74,2,    26.26,2,     0.01,2,     1.92,2,    0.045,2,    0.023,2,    0.278,3,   2208.5,2,   2328.1,2,   -999.0,9,  -999.00,   7.6316,2,    25.76,    0.000,2,   -999.0,1,   -999.0,1, -999.000,9,-999.0000,9,-999.0000,9,-999.0000,9,-999.0000,9, 27.760, 32.397, 36.930, 41.361, 45.692
33RO20110828,   A10,    61,  1,      6,    006,2,20000101,0000,-29.9996, -18.9994, 3918,   2300.7,   2.6586,  34.8379,2,  34.8396,2,  35.0039,2,    229.4,2,    229.5,2,    47.93,2,    24.31,2,     0.01,2,     1.79,2,    0.020,2,    0.011,2,    0.193,3,   2198.6,2,   2328.2,2,   -999.0,9,  -999.00,   7.6396,2,    25.68,    0.000,2,   -999.0,1,   -999.0,1, -999.000,9,-999.0000,9,-999.0000,9,-999.0000,9,-999.0000,9, 27.803, 32.442, 36.976, 41.408, 45.740
33RO20110828,   A10,    61,  1,      5,    005,2,20000101,0000,-29.9996, -18.9994, 3918,   2601.2,   2.6680,  34.8698,2,  34.8714,2,  35.0358,2,    238.7,2,    238.2,2,    43.64,2,    22.94,2,     0.01,2,     1.68,2,    0.012,2,    0.007,2,    0.155,3,   2191.3,2,   2326.3,2,   -999.0,9,  -999.00,   7.6778,2,    25.65,    0.000,2,   -999.0,1,   -999.0,1, -999.000,9,-999.0000,9,-999.0000,9,-999.0000,9,-999.0000,9, 27.830, 32.469, 37.004, 41.436, 45.768
33RO20110828,   A10,    61,  1,      4,    004,2,20000101,0000,-29.9996, -18.9994, 3918,   2950.9,   2.6026,  34.8895,2,  34.8907,2,  35.0552,2,    245.5,2,    246.3,2,    41.78,2,    22.06,2,     0.01,2,     1.61,2,    0.007,2,    0.005,2,    0.137,3,   2187.0,2,   2326.6,2,   -999.0,9,  -999.00,   7.6839,2,    25.63,    0.032,2,   -999.0,1,   -999.0,1, -999.000,9,-999.0000,9,-999.0000,9,-999.0000,9,-999.0000,9, 27.854, 32.496, 37.033, 41.468, 45.802
33RO20110828,   A10,    61,  1,      3,    003,2,20000101,0000,-29.9996, -18.9994, 3918,   3300.1,   2.3280,  34.8734,2,  34.8747,2,  35.0391,2,    245.7,2,    246.4,2,    49.40,2,    22.65,2,     0.01,2,     1.66,2,    0.009,2,    0.006,2,    0.120,3,   2194.7,2,   2323.1,4,   -999.0,9,  -999.00,   7.6731,2,    25.58,    0.132,2,   -999.0,1,   -999.0,1, -999.000,9,-999.0000,9,-999.0000,9,-999.0000,9,-999.0000,9, 27.866, 32.516, 37.062, 41.505, 45.847
33RO20110828,   A10,    61,  1,      2,    002,2,20000101,0000,-29.9996, -18.9994, 3918,   3699.5,   1.9663,  34.8377,2,  34.8389,2,  35.0032,2,    240.5,2,    240.3,2,    63.95,2,    24.60,2,     0.01,2,     1.80,2,    0.012,2,    0.007,2,    0.133,3,   2207.6,2,   2339.6,2,   -999.0,9,  -999.00,   7.6563,3,    25.58,    0.178,2,   -999.0,1,   -999.0,1, -999.000,9,-999.0000,9,-999.0000,9,-999.0000,9,-999.0000,9, 27.869, 32.530, 37.087, 41.540, 45.893
33RO20110828,   A10,    61,  1,      1,    001,2,20000101,0000,-29.9996, -18.9994, 3918,   3869.7,   1.8140,  34.8217,2,  34.8236,2,  34.9878,2,    238.4,2,    238.0,2,    70.39,2,    25.29,2,     0.01,2,     1.86,2,    0.017,2,    0.010,2,    0.136,3,   2215.6,6,   2364.1,4,   -999.0,9,  -999.00,   7.6630,2,    25.61,    0.176,2,   -999.0,1,   -999.0,1, -999.000,9,-999.0000,9,-999.0000,9,-999.0000,9,-999.0000,9, 27.869, 32.535, 37.096, 41.554, 45.911