BOTTLE,20130715NOAA
EXPOCODE,SECT_ID,STNNBR,CASTNO,SAMPNO,BTLNBR,BTLNBR_FLAG_W,DATE,TIME,LATITUDE,LONGITUDE,DEPTH,CTDPRS,CTDTMP,CTDSAL,CTDSAL_FLAG_W,SALNTY,SALNTY_FLAG_W,SALTREF,SALTREF_FLAG_W,CTDOXY,CTDOXY_FLAG_W,OXYGEN,OXYGEN_FLAG_W,SILCAT,SILCAT_FLAG_W,NITRAT,NITRAT_FLAG_W,NITRIT,NITRIT_FLAG_W,PHSPHT,PHSPHT_FLAG_W,CFC-11,CFC-11_FLAG_W,CFC-12,CFC-12_FLAG_W,CCL4,CCL4_FLAG_W,TCARBN,TCARBN_FLAG_W,ALKALI,ALKALI_FLAG_W,PCO2,PCO2_FLAG_W,PCO2TMP,PH_TOT,PH_TOT_FLAG_W,PH_TMP,SF6,SF6_FLAG_W,DOC,DOC_FLAG_W,TDN,TDN_FLAG_W,TRITUM,TRITUM_FLAG_W,HELIUM,HELIUM_FLAG_W,OXY_18,OXY_18_FLAG_W,BLACKC,BLACKC_FLAG_W,PIGMENTS,PIGMENTS_FLAG_W,SIGMA-THETA,SIGMA-1,SIGMA-2,SIGMA-3,SIGMA-4
,,,,,,,,,,,METERS,DBARS,ITS-90,PSS-78,,PSS-78,,G/KG,,UMOL/KG,,UMOL/KG,,UMOL/KG,,UMOL/KG,,UMOL/KG,,UMOL/KG,,PMOL/KG,,PMOL/KG,,PMOL/KG,,UMOL/KG,,UMOL/KG,,UATM@T,,DEG_C,,,DEG_C,FMOL/KG,,UMOL/KG,,UMOL/KG,,TU,,NMOL/KG,,,,,,,,,,,,
33RO20110828,   A10,    41,  1,     24,    024,2,20000101,0000,-29.9965,  -5.0843, 4138,      5.0,  18.4659,  35.9026,2,  35.9030,2,  36.0723,2,    237.7,2,    238.2,2,     1.37,2,     0.00,2,     0.00,2,     0.17,2,    2.365,2,    1.429,2,    3.261,3,   2082.6,6,   2352.5,2,   -999.0,9,  -999.00,   7.9298,2,    25.53,    1.417,2,   -999.0,1,   -999.0,1, -999.000,9,-999.0000,9,-999.0000,9,-999.0000,9,-999.0000,1, 25.848, 30.138, 34.334, 38.439, 42.455
33RO20110828,   A10,    41,  1,     23,    023,2,20000101,0000,-29.9965,  -5.0843, 4138,     45.1,  17.5879,  35.8907,2,  35.8908,2,  36.0601,2,    242.1,2,    241.4,2,     1.37,2,     0.00,2,     0.00,2,     0.17,2,    2.367,2,    1.437,2,    3.136,3,   2081.3,2,   2352.8,2,   -999.0,9,  -999.00,   7.9288,2,    25.49,    1.464,2,   -999.0,1,   -999.0,1, -999.000,9,-999.0000,9,-999.0000,9,-999.0000,9,-999.0000,9, 26.058, 30.363, 34.573, 38.692, 42.721
33RO20110828,   A10,    41,  1,     22,    022,2,20000101,0000,-29.9965,  -5.0843, 4138,     94.9,  17.3041,  35.8664,2,  35.8659,2,  36.0351,2,    236.3,2,    237.2,2,     1.46,2,     0.00,2,     0.21,2,     0.19,2,    2.381,2,    1.444,2,    2.617,3,   2083.8,2,   2351.7,2,   -999.0,9,  -999.00,   7.9377,2,    25.55,    1.392,2,   -999.0,1,   -999.0,1, -999.000,9,-999.0000,9,-999.0000,9,-999.0000,9,-999.0000,1, 26.110, 30.420, 34.635, 38.758, 42.792
33RO20110828,   A10,    41,  1,     21,    021,2,20000101,0000,-29.9965,  -5.0843, 4138,    145.1,  17.0991,  35.8350,2,  35.8332,2,  36.0021,2,    233.2,2,    233.4,2,     1.56,2,     0.00,2,     1.11,2,     0.23,2,    2.400,2,    1.450,2,    2.282,3,   2088.5,2,   2349.3,2,   -999.0,9,  -999.00,   7.9185,2,    25.54,    1.426,2,   -999.0,1,   -999.0,1, -999.000,9,-999.0000,9,-999.0000,9,-999.0000,9,-999.0000,1, 26.136, 30.450, 34.669, 38.796, 42.833
33RO20110828,   A10,    41,  1,     20,    020,2,20000101,0000,-29.9965,  -5.0843, 4138,    195.1,  16.8969,  35.8013,2,  35.8005,2,  35.9693,2,    233.0,2,    232.7,2,     1.76,2,     0.20,2,     1.13,2,     0.26,2,    2.419,2,    1.466,2,    1.953,3,   2089.1,2,   2349.2,2,   -999.0,9,  -999.00,   7.9113,2,    25.49,    1.410,2,   -999.0,1,   -999.0,1, -999.000,9,-999.0000,9,-999.0000,9,-999.0000,9,-999.0000,9, 26.161, 30.479, 34.702, 38.832, 42.872
33RO20110828,   A10,    41,  1,     19,    019,2,20000101,0000,-29.9965,  -5.0843, 4138,    260.6,  15.1998,  35.4482,2,  35.4479,2,  35.6151,2,    220.5,2,    219.2,2,     2.83,2,     5.17,2,     0.04,2,     0.50,2,    2.644,2,    1.580,2,    0.775,3,   2100.8,2,   2327.2,2,   -999.0,9,  -999.00,   7.8569,2,    25.54,    1.422,2,   -999.0,1,   -999.0,1, -999.000,9,-999.0000,9,-999.0000,9,-999.0000,9,-999.0000,9, 26.282, 30.632, 34.886, 39.047, 43.116
33RO20110828,   A10,    41,  1,     18,    018,2,20000101,0000,-29.9965,  -5.0843, 4138,    345.2,  13.6606,  35.2203,2,  35.2215,2,  35.3876,2,    218.8,2,    218.7,2,     3.32,2,     8.10,2,     0.03,2,     0.68,2,    2.851,2,    1.674,2,    0.944,3,   2111.6,2,   2317.2,2,   -999.0,9,  -999.00,   7.8261,2,    25.58,    1.399,2,   -999.0,1,   -999.0,1, -999.000,9,-999.0000,9,-999.0000,9,-999.0000,9,-999.0000,9, 26.440, 30.820, 35.103, 39.292, 43.390
33RO20110828,   A10,    41,  1,     17,    017,2,20000101,0000,-29.9965,  -5.0843, 4138,    480.0,  11.3229,  34.9601,2,  34.9600,2,  35.1249,2,    210.5,2,    210.9,2,     5.37,2,    14.74,2,     0.03,2,     1.10,2,    3.109,2,    1.752,2,    1.135,3,   2133.4,2,   2303.7,2,   -999.0,9,  -999.00,   7.7573,2,    25.60,    1.180,2,   -999.0,1,   -999.0,1, -999.000,9,-999.0000,9,-999.0000,9,-999.0000,9,-999.0000,9, 26.697, 31.125, 35.455, 39.690, 43.831
33RO20110828,   A10,    41,  1,     16,    016,2,20000101,0000,-29.9965,  -5.0843, 4138,    609.2,   8.9376,  34.6670,2,  34.6669,2,  34.8303,2,    203.9,2,    204.9,2,    10.06,2,    21.68,2,     0.02,2,     1.55,2,    3.127,2,    1.700,2,    1.539,3,   2154.4,2,   2292.5,2,   -999.0,9,  -999.00,   7.6908,2,    25.65,    1.062,2,   -999.0,1,   -999.0,1, -999.000,9,-999.0000,9,-999.0000,9,-999.0000,9,-999.0000,9, 26.878, 31.360, 35.742, 40.027, 44.216
33RO20110828,   A10,    41,  1,     15,    015,2,20000101,0000,-29.9965,  -5.0843, 4138,    760.7,   6.3227,  34.4094,2,  34.4077,2,  34.5699,2,    210.0,2,    208.8,2,    16.99,2,    28.03,2,     0.01,2,     1.98,2,    3.067,2,    1.601,2,    1.623,3,   2173.2,2,   2284.2,2,   -999.0,9,  -999.00,   7.6293,2,    25.61,    0.849,2,   -999.0,1,   -999.0,1, -999.000,9,-999.0000,9,-999.0000,9,-999.0000,9,-999.0000,9, 27.052, 31.597, 36.040, 40.384, 44.630
33RO20110828,   A10,    41,  1,     14,    014,2,20000101,0000,-29.9965,  -5.0843, 4138,    882.8,   4.8949,  34.3280,2,  34.3292,2,  34.4911,2,    210.6,2,    213.5,2,    24.61,2,    30.86,2,     0.01,2,     2.19,2,    2.746,2,    1.397,2,    2.041,3,   2184.7,2,   2287.5,2,   -999.0,9,  -999.00,   7.6107,2,    25.67,    0.674,2,   -999.0,1,   -999.0,1, -999.000,9,-999.0000,9,-999.0000,9,-999.0000,9,-999.0000,9, 27.164, 31.745, 36.223, 40.601, 44.880
33RO20110828,   A10,    41,  1,     13,    013,2,20000101,0000,-29.9965,  -5.0843, 4138,   1025.1,   4.0705,  34.3552,2,  34.3549,2,  34.5169,2,    201.6,2,    199.0,2,    36.23,2,    33.20,2,     0.01,2,     2.37,2,    1.928,2,    0.953,2,    1.670,3,   2203.9,2,   2297.0,2,   -999.0,9,  -999.00,   7.5798,2,    25.72,    0.375,2,   -999.0,1,   -999.0,1, -999.000,9,-999.0000,9,-999.0000,9,-999.0000,9,-999.0000,9, 27.274, 31.876, 36.375, 40.773, 45.071
33RO20110828,   A10,    41,  1,     12,    012,2,20000101,0000,-29.9965,  -5.0843, 4138,   1178.1,   3.5577,  34.4346,2,  34.4352,2,  34.5976,2,    185.2,2,    185.3,2,    48.24,2,    34.86,2,     0.02,2,     2.48,2,    1.066,2,    0.516,2,    1.072,3,   2221.8,2,   2311.7,2,   -999.0,9,  -999.00,   7.5682,2,    25.58,    0.150,2,   -999.0,1,   -999.0,1, -999.000,9,-999.0000,9,-999.0000,9,-999.0000,9,-999.0000,9, 27.390, 32.005, 36.517, 40.927, 45.238
33RO20110828,   A10,    41,  1,     11,    011,2,20000101,0000,-29.9965,  -5.0843, 4138,   1329.0,   3.1742,  34.5217,2,  34.5187,2,  34.6814,2,    181.3,2,    181.5,2,    55.46,2,    34.67,2,     0.01,2,     2.47,2,    0.606,2,    0.285,2,    0.746,3,   2230.9,6,   2321.9,2,   -999.0,9,  -999.00,   7.5671,2,    25.67,    0.099,2,   -999.0,1,   -999.0,1, -999.000,9,-999.0000,9,-999.0000,9,-999.0000,9,-999.0000,9, 27.494, 32.119, 36.640, 41.060, 45.379
33RO20110828,   A10,    41,  1,     10,    010,2,20000101,0000,-29.9965,  -5.0843, 4138,   1530.0,   2.9493,  34.6357,2,  34.6359,2,  34.7993,2,    186.6,2,    188.2,2,    58.10,2,    32.81,2,     0.01,2,     2.33,2,    0.260,2,    0.119,2,    0.390,3,   2228.6,2,   2325.2,2,   -999.0,9,  -999.00,   7.5811,2,    25.63,    0.035,2,   -999.0,1,   -999.0,1, -999.000,9,-999.0000,9,-999.0000,9,-999.0000,9,-999.0000,9, 27.609, 32.240, 36.766, 41.191, 45.515
33RO20110828,   A10,    41,  1,      9,    009,2,20000101,0000,-29.9965,  -5.0843, 4138,   1800.5,   2.8045,  34.7431,2,  34.7438,2,  34.9077,2,    202.7,2,    201.8,2,    56.14,2,    30.07,2,     0.01,2,     2.11,2,    0.097,2,    0.045,2,    0.185,3,   2218.8,2,   2327.7,2,   -999.0,9,  -999.00,   7.6052,2,    25.67,    0.000,2,   -999.0,1,   -999.0,1, -999.000,9,-999.0000,9,-999.0000,9,-999.0000,9,-999.0000,9, 27.710, 32.344, 36.875, 41.303, 45.630
33RO20110828,   A10,    41,  1,      8,    008,2,20000101,0000,-29.9965,  -5.0843, 4138,   2069.4,   2.6456,  34.7947,2,  34.7943,2,  34.9584,2,    214.8,2,    214.2,2,    55.75,2,    28.21,2,     0.01,2,     1.98,2,    0.050,2,    0.024,2,    0.108,3,   2211.9,2,   2330.4,2,   -999.0,9,  -999.00,   7.6304,2,    25.69,    0.000,2,   -999.0,1,   -999.0,1, -999.000,9,-999.0000,9,-999.0000,9,-999.0000,9,-999.0000,9, 27.766, 32.405, 36.940, 41.372, 45.704
33RO20110828,   A10,    41,  1,      7,    007,2,20000101,0000,-29.9965,  -5.0843, 4138,   2368.8,   2.5127,  34.8334,2,  34.8329,2,  34.9971,2,    225.9,2,    226.4,2,    54.28,2,    26.65,2,     0.02,2,     1.86,2,    0.027,2,    0.013,2,    0.073,3,   2204.9,2,   2333.5,2,   -999.0,9,  -999.00,   7.6527,2,    25.66,    0.000,2,   -999.0,1,   -999.0,1, -999.000,9,-999.0000,9,-999.0000,9,-999.0000,9,-999.0000,9, 27.810, 32.453, 36.992, 41.428, 45.763
33RO20110828,   A10,    41,  1,      6,    006,2,20000101,0000,-29.9965,  -5.0843, 4138,   2671.6,   2.4312,  34.8538,2,  34.8536,2,  35.0180,2,    233.4,2,    234.2,2,    52.91,2,    25.58,2,     0.02,2,     1.79,2,    0.014,2,    0.008,2,    0.045,3,   2201.6,2,   2334.3,2,   -999.0,9,  -999.00,   7.6651,2,    25.54,    0.000,2,   -999.0,1,   -999.0,1, -999.000,9,-999.0000,9,-999.0000,9,-999.0000,9,-999.0000,9, 27.836, 32.482, 37.023, 41.462, 45.800
33RO20110828,   A10,    41,  1,      5,    005,2,20000101,0000,-29.9965,  -5.0843, 4138,   2968.8,   2.3733,  34.8633,2,  34.8633,2,  35.0277,2,    236.2,2,    236.4,2,    53.01,2,    25.19,2,     0.02,2,     1.76,2,    0.006,2,    0.004,2,    0.027,3,   2201.7,2,   2336.5,2,   -999.0,9,  -999.00,   7.6802,2,    25.53,    0.000,2,   -999.0,1,   -999.0,1, -999.000,9,-999.0000,9,-999.0000,9,-999.0000,9,-999.0000,9, 27.851, 32.499, 37.042, 41.483, 45.823
33RO20110828,   A10,    41,  1,      4,    004,2,20000101,0000,-29.9965,  -5.0843, 4138,   3270.4,   2.3518,  34.8695,2,  34.8686,2,  35.0330,2,    236.5,2,    235.7,2,    53.50,2,    24.99,2,     0.02,2,     1.74,2,    0.006,2,    0.004,2,    0.021,3,   2204.3,2,   2340.7,2,   -999.0,9,  -999.00,   7.6827,2,    25.47,    0.000,2,   -999.0,1,   -999.0,1, -999.000,9,-999.0000,9,-999.0000,9,-999.0000,9,-999.0000,9, 27.859, 32.509, 37.054, 41.496, 45.837
33RO20110828,   A10,    41,  1,      3,    003,2,20000101,0000,-29.9965,  -5.0843, 4138,   3568.1,   2.3490,  34.8740,2,  34.8733,2,  35.0378,2,    235.3,2,    236.0,2,    53.69,2,    24.80,2,     0.02,2,     1.73,2,    0.004,2,    0.002,2,    0.013,3,   2208.1,2,   2344.9,2,   -999.0,9,  -999.00,   7.6731,2,    25.52,    0.049,3,   -999.0,1,   -999.0,1, -999.000,9,-999.0000,9,-999.0000,9,-999.0000,9,-999.0000,9, 27.866, 32.516, 37.062, 41.505, 45.847
33RO20110828,   A10,    41,  1,      2,    002,2,20000101,0000,-29.9965,  -5.0843, 4138,   3871.6,   2.3236,  34.8739,2,  34.8747,2,  35.0392,2,    233.4,2,    233.3,2,    55.94,2,    25.09,2,     0.02,2,     1.75,2,    0.006,2,    0.004,2,    0.011,3,   2213.0,2,   2350.2,2,   -999.0,9,  -999.00,   7.6825,2,    25.67,    0.000,2,   -999.0,1,   -999.0,1, -999.000,9,-999.0000,9,-999.0000,9,-999.0000,9,-999.0000,9, 27.872, 32.524, 37.071, 41.516, 45.859
33RO20110828,   A10,    41,  1,      1,    001,2,20000101,0000,-29.9965,  -5.0843, 4138,   4208.3,   2.2852,  34.8645,2,  34.8645,2,  35.0289,2,    231.3,2,    231.1,2,    59.55,2,    25.68,2,     0.02,2,     1.78,2,    0.007,2,    0.005,2,    0.019,3,   2214.9,6,   2350.6,2,   -999.0,9,  -999.00,-999.0000,5,  -999.00,    0.010,3,   -999.0,1,   -999.0,1, -999.000,9,-999.0000,9,-999.0000,9,-999.0000,9,-999.0000,9, 27.870, 32.524, 37.073, 41.520, 45.866