BOTTLE,20130715NOAA
EXPOCODE,SECT_ID,STNNBR,CASTNO,SAMPNO,BTLNBR,BTLNBR_FLAG_W,DATE,TIME,LATITUDE,LONGITUDE,DEPTH,CTDPRS,CTDTMP,CTDSAL,CTDSAL_FLAG_W,SALNTY,SALNTY_FLAG_W,SALTREF,SALTREF_FLAG_W,CTDOXY,CTDOXY_FLAG_W,OXYGEN,OXYGEN_FLAG_W,SILCAT,SILCAT_FLAG_W,NITRAT,NITRAT_FLAG_W,NITRIT,NITRIT_FLAG_W,PHSPHT,PHSPHT_FLAG_W,CFC-11,CFC-11_FLAG_W,CFC-12,CFC-12_FLAG_W,CCL4,CCL4_FLAG_W,TCARBN,TCARBN_FLAG_W,ALKALI,ALKALI_FLAG_W,PCO2,PCO2_FLAG_W,PCO2TMP,PH_TOT,PH_TOT_FLAG_W,PH_TMP,SF6,SF6_FLAG_W,DOC,DOC_FLAG_W,TDN,TDN_FLAG_W,TRITUM,TRITUM_FLAG_W,HELIUM,HELIUM_FLAG_W,OXY_18,OXY_18_FLAG_W,BLACKC,BLACKC_FLAG_W,PIGMENTS,PIGMENTS_FLAG_W,SIGMA-THETA,SIGMA-1,SIGMA-2,SIGMA-3,SIGMA-4
,,,,,,,,,,,METERS,DBARS,ITS-90,PSS-78,,PSS-78,,G/KG,,UMOL/KG,,UMOL/KG,,UMOL/KG,,UMOL/KG,,UMOL/KG,,UMOL/KG,,PMOL/KG,,PMOL/KG,,PMOL/KG,,UMOL/KG,,UMOL/KG,,UATM@T,,DEG_C,,,DEG_C,FMOL/KG,,UMOL/KG,,UMOL/KG,,TU,,NMOL/KG,,,,,,,,,,,,
33RO20110828,   A10,    99,  1,     24,    024,2,20000101,0000,-30.0001, -39.8328, 3364,      6.2,  19.0587,  36.2773,2,  36.2710,2,  36.4420,2,   -999.0,9,   -999.0,9,     0.68,2,     0.00,2,     0.00,2,     0.05,2,    2.169,2,    1.325,2,    2.499,3,   2079.4,2,   -999.0,9,   -999.0,9,  -999.00,-999.0000,9,  -999.00,    1.339,2,   -999.0,1,   -999.0,1, -999.000,9,-999.0000,9,-999.0000,9,-999.0000,9,-999.0000,1, 25.978, 30.257, 34.442, 38.535, 42.540
33RO20110828,   A10,    99,  1,     23,    023,2,20000101,0000,-30.0001, -39.8328, 3364,     49.1,  19.0753,  36.3104,2,  36.3106,2,  36.4818,2,    232.0,2,    230.7,2,     0.78,2,     0.00,2,     0.00,2,     0.05,2,    2.182,2,    1.338,2,    2.449,3,   2078.9,6,   2373.7,2,   -999.0,9,  -999.00,   7.9287,2,    25.55,    1.367,2,   -999.0,1,   -999.0,1, -999.000,9,-999.0000,9,-999.0000,9,-999.0000,9,-999.0000,9, 26.006, 30.284, 34.469, 38.562, 42.567
33RO20110828,   A10,    99,  1,     22,    022,2,20000101,0000,-30.0001, -39.8328, 3364,    114.1,  18.8049,  36.2512,2,  36.2584,2,  36.4294,2,    222.7,2,    228.2,2,     0.78,2,     0.10,2,     0.07,2,     0.07,2,    2.200,2,    1.348,2,    2.296,3,   2082.0,2,   2373.2,2,   -999.0,9,  -999.00,   7.9485,2,    25.62,    1.367,2,   -999.0,1,   -999.0,1, -999.000,9,-999.0000,9,-999.0000,9,-999.0000,9,-999.0000,1, 26.039, 30.322, 34.511, 38.608, 42.618
33RO20110828,   A10,    99,  1,     21,    021,2,20000101,0000,-30.0001, -39.8328, 3364,    169.0,  16.7298,  35.8202,2,  35.8167,2,  35.9856,2,    221.5,2,    216.4,2,     1.46,2,     2.73,2,     0.02,2,     0.22,2,    2.441,2,    1.472,2,    1.355,3,   2096.2,2,   2347.2,2,   -999.0,9,  -999.00,   7.8980,2,    25.53,    1.400,2,   -999.0,1,   -999.0,1, -999.000,9,-999.0000,9,-999.0000,9,-999.0000,9,-999.0000,1, 26.212, 30.533, 34.758, 38.891, 42.934
33RO20110828,   A10,    99,  1,     20,    020,2,20000101,0000,-30.0001, -39.8328, 3364,    239.0,  15.2818,  35.5720,2,  35.5707,2,  35.7384,2,    208.7,2,    208.8,2,     2.05,2,     5.66,2,     0.01,2,     0.37,2,    2.648,2,    1.565,2,    0.867,3,   2109.1,2,   2331.4,2,   -999.0,9,  -999.00,   7.8435,3,    24.23,    1.330,2,   -999.0,1,   -999.0,1, -999.000,9,-999.0000,9,-999.0000,9,-999.0000,9,-999.0000,9, 26.358, 30.705, 34.957, 39.115, 43.183
33RO20110828,   A10,    99,  1,     19,    019,2,20000101,0000,-30.0001, -39.8328, 3364,    315.6,  14.1164,  35.4139,2,  35.4147,2,  35.5817,2,    208.8,2,    209.0,2,     2.73,2,     8.00,2,     0.01,2,     0.50,2,    2.806,2,    1.626,2,    0.869,3,   2117.0,2,   2325.0,2,   -999.0,9,  -999.00,   7.8318,3,    21.68,    1.261,2,   -999.0,1,   -999.0,1, -999.000,9,-999.0000,9,-999.0000,9,-999.0000,9,-999.0000,9, 26.493, 30.863, 35.137, 39.316, 43.405
33RO20110828,   A10,    99,  1,     18,    018,2,20000101,0000,-30.0001, -39.8328, 3364,    370.9,  13.4066,  35.3292,2,  35.3313,2,  35.4979,2,    214.8,2,    214.2,2,     3.02,2,     9.07,2,     0.01,2,     0.55,2,    2.877,2,    1.659,2,    1.032,3,   2118.1,2,   2321.7,2,   -999.0,9,  -999.00,   7.8273,3,    22.80,    1.263,2,   -999.0,1,   -999.0,1, -999.000,9,-999.0000,9,-999.0000,9,-999.0000,9,-999.0000,9, 26.578, 30.962, 35.250, 39.442, 43.543
33RO20110828,   A10,    99,  1,     17,    017,2,20000101,0000,-30.0001, -39.8328, 3364,    425.8,  12.7802,  35.2316,2,  35.2336,2,  35.3998,2,    213.9,2,    213.9,2,     3.42,2,    10.44,2,     0.01,2,     0.60,2,    2.949,2,    1.682,2,    1.049,3,   2121.8,2,   2316.5,2,   -999.0,9,  -999.00,   7.8063,2,    25.27,    1.261,2,   -999.0,1,   -999.0,1, -999.000,9,-999.0000,9,-999.0000,9,-999.0000,9,-999.0000,9, 26.630, 31.027, 35.327, 39.532, 43.645
33RO20110828,   A10,    99,  1,     16,    016,2,20000101,0000,-30.0001, -39.8328, 3364,    526.4,  10.3105,  34.8499,2,  34.8532,2,  35.0175,2,    203.9,2,    204.5,2,     6.64,2,    16.98,2,     0.00,2,     0.94,2,    3.096,2,    1.674,2,    1.318,3,   2138.2,2,   2297.6,2,   -999.0,9,  -999.00,   7.7389,2,    25.35,    0.964,2,   -999.0,1,   -999.0,1, -999.000,9,-999.0000,9,-999.0000,9,-999.0000,9,-999.0000,9, 26.795, 31.245, 35.597, 39.852, 44.013
33RO20110828,   A10,    99,  1,     15,    015,2,20000101,0000,-30.0001, -39.8328, 3364,    625.0,   8.2416,  34.5949,2,  34.5985,2,  34.7616,2,    207.5,2,    207.8,2,    10.05,2,    21.67,2,     0.00,2,     1.20,2,    3.177,2,    1.662,2,    1.961,3,   2151.5,2,   2290.2,2,   -999.0,9,  -999.00,   7.6862,2,    25.55,    0.872,2,   -999.0,1,   -999.0,1, -999.000,9,-999.0000,9,-999.0000,9,-999.0000,9,-999.0000,9, 26.932, 31.430, 35.828, 40.128, 44.332
33RO20110828,   A10,    99,  1,     14,    014,2,20000101,0000,-30.0001, -39.8328, 3364,    724.5,   6.1798,  34.3829,2,  34.3786,2,  34.5407,2,    221.1,2,    223.9,2,    14.35,2,    25.58,2,     0.00,2,     1.43,2,    3.286,2,    1.692,2,    2.756,3,   2160.1,2,   2277.9,2,   -999.0,9,  -999.00,   7.6531,2,    25.56,    0.807,2,   -999.0,1,   -999.0,1, -999.000,9,-999.0000,9,-999.0000,9,-999.0000,9,-999.0000,9, 27.047, 31.595, 36.042, 40.389, 44.639
33RO20110828,   A10,    99,  1,     13,    013,2,20000101,0000,-30.0001, -39.8328, 3364,    801.5,   5.1836,  34.3077,2,  34.3089,2,  34.4707,2,    228.5,2,    227.7,2,    17.87,2,    27.44,2,     0.00,2,     1.53,2,    3.175,2,    1.615,2,    3.057,3,   2165.2,2,   2277.3,2,   -999.0,9,  -999.00,   7.6359,2,    25.51,    0.803,2,   -999.0,1,   -999.0,1, -999.000,9,-999.0000,9,-999.0000,9,-999.0000,9,-999.0000,9, 27.114, 31.688, 36.159, 40.530, 44.802
33RO20110828,   A10,    99,  1,     12,    012,2,20000101,0000,-30.0001, -39.8328, 3364,    924.8,   4.4211,  34.2891,2,  34.2923,2,  34.4540,2,    221.4,2,    222.9,2,    24.80,2,    29.29,2,     0.00,2,     1.71,2,    2.712,2,    1.348,2,    2.927,3,   2180.8,2,   2283.9,2,   -999.0,9,  -999.00,   7.6170,2,    25.54,    0.553,2,   -999.0,1,   -999.0,1, -999.000,9,-999.0000,9,-999.0000,9,-999.0000,9,-999.0000,9, 27.186, 31.780, 36.270, 40.660, 44.951
33RO20110828,   A10,    99,  1,     11,    011,2,20000101,0000,-30.0001, -39.8328, 3364,   1021.5,   3.8860,  34.3170,2,  34.3176,2,  34.4794,2,    213.6,2,    212.2,2,    32.61,2,    30.85,2,     0.00,2,     1.87,2,    2.079,2,    1.022,2,    2.480,3,   2194.2,2,   2304.8,3,   -999.0,9,  -999.00,   7.5954,2,    25.58,    0.384,2,   -999.0,1,   -999.0,1, -999.000,9,-999.0000,9,-999.0000,9,-999.0000,9,-999.0000,9, 27.263, 31.870, 36.374, 40.777, 45.080
33RO20110828,   A10,    99,  1,     10,    010,2,20000101,0000,-30.0001, -39.8328, 3364,   1172.7,   3.4092,  34.3902,2,  34.3910,2,  34.5532,2,    199.2,2,    198.5,2,    43.54,2,    32.12,2,     0.00,2,     2.04,2,    1.236,2,    0.601,2,    1.736,3,   2212.6,2,   2302.1,2,   -999.0,9,  -999.00,   7.5732,2,    25.56,    0.191,2,   -999.0,1,   -999.0,1, -999.000,9,-999.0000,9,-999.0000,9,-999.0000,9,-999.0000,9, 27.369, 31.988, 36.504, 40.918, 45.233
33RO20110828,   A10,    99,  1,      9,    009,2,20000101,0000,-30.0001, -39.8328, 3364,   1349.6,   3.0714,  34.4965,2,  34.4986,2,  34.6613,2,    189.9,2,    188.7,2,    52.72,2,    32.12,2,     0.00,2,     2.14,2,    0.600,2,    0.291,2,    1.013,3,   2224.2,6,   2314.5,2,   -999.0,9,  -999.00,   7.5679,2,    25.65,    0.102,2,   -999.0,1,   -999.0,1, -999.000,9,-999.0000,9,-999.0000,9,-999.0000,9,-999.0000,9, 27.487, 32.115, 36.639, 41.062, 45.384
33RO20110828,   A10,    99,  1,      8,    008,2,20000101,0000,-30.0001, -39.8328, 3364,   1550.0,   2.9355,  34.6214,2,  34.6220,2,  34.7852,2,    190.6,2,    189.1,2,    56.23,2,    30.94,2,     0.00,2,     2.10,2,    0.247,2,    0.119,2,    0.570,3,   2227.5,2,   2322.2,2,   -999.0,9,  -999.00,   7.5768,2,    25.54,    0.024,2,   -999.0,1,   -999.0,1, -999.000,9,-999.0000,9,-999.0000,9,-999.0000,9,-999.0000,9, 27.599, 32.230, 36.758, 41.183, 45.508
33RO20110828,   A10,    99,  1,      7,    007,2,20000101,0000,-30.0001, -39.8328, 3364,   1699.6,   2.9454,  34.7001,2,  34.7016,2,  34.8652,2,    196.0,2,    196.2,2,    54.47,2,    29.38,2,     0.00,2,     1.99,2,    0.141,2,    0.069,2,    0.391,3,   2221.3,2,   2324.2,2,   -999.0,9,  -999.00,   7.6007,2,    25.55,    0.000,2,   -999.0,1,   -999.0,1, -999.000,9,-999.0000,9,-999.0000,9,-999.0000,9,-999.0000,9, 27.663, 32.294, 36.821, 41.245, 45.569
33RO20110828,   A10,    99,  1,      6,    006,2,20000101,0000,-30.0001, -39.8328, 3364,   1850.4,   3.1744,  34.8034,2,  34.8036,2,  34.9678,2,    208.7,2,    213.2,2,    44.31,2,    26.16,2,     0.00,2,     1.74,2,    0.112,2,    0.057,2,    0.385,3,   2204.6,2,   2322.1,2,   -999.0,9,  -999.00,   7.6287,2,    25.54,    0.000,2,   -999.0,1,   -999.0,1, -999.000,9,-999.0000,9,-999.0000,9,-999.0000,9,-999.0000,9, 27.725, 32.349, 36.870, 41.288, 45.606
33RO20110828,   A10,    99,  1,      5,    005,2,20000101,0000,-30.0001, -39.8328, 3364,   2069.4,   3.2159,  34.8731,2,  34.8741,2,  35.0385,2,    231.2,2,    229.9,2,    36.31,2,    23.33,2,     0.00,2,     1.51,2,    0.124,2,    0.063,2,    0.415,3,   2189.7,2,   2320.0,2,   -999.0,9,  -999.00,   7.6620,2,    25.55,    0.000,2,   -999.0,1,   -999.0,1, -999.000,9,-999.0000,9,-999.0000,9,-999.0000,9,-999.0000,9, 27.780, 32.403, 36.922, 41.339, 45.656
33RO20110828,   A10,    99,  1,      4,    004,2,20000101,0000,-30.0001, -39.8328, 3364,   2322.8,   3.2383,  34.9252,2,  34.9264,2,  35.0911,2,    244.7,2,    244.3,2,    28.69,2,    20.79,2,     0.00,2,     1.31,2,    0.143,2,    0.073,2,    0.482,3,   2174.6,2,   2316.9,2,   -999.0,9,  -999.00,   7.6937,2,    25.56,    0.000,2,   -999.0,1,   -999.0,1, -999.000,9,-999.0000,9,-999.0000,9,-999.0000,9,-999.0000,9, 27.822, 32.444, 36.963, 41.380, 45.697
33RO20110828,   A10,    99,  1,      3,    003,2,20000101,0000,-30.0001, -39.8328, 3364,   2701.2,   3.0146,  34.9280,2,  34.9294,2,  35.0941,2,    250.1,2,    249.9,2,    29.96,2,    20.49,2,     0.00,2,     1.30,2,    0.109,2,    0.057,2,    0.396,3,   2173.8,2,   2319.3,2,   -999.0,9,  -999.00,   7.6928,2,    25.53,    0.000,2,   -999.0,1,   -999.0,1, -999.000,9,-999.0000,9,-999.0000,9,-999.0000,9,-999.0000,9, 27.848, 32.477, 37.003, 41.426, 45.749
33RO20110828,   A10,    99,  1,      2,    002,2,20000101,0000,-30.0001, -39.8328, 3364,   3048.8,   2.7763,  34.9170,2,  34.9231,2,  35.0878,2,    250.7,2,    250.9,2,    33.96,2,    20.69,2,     0.00,2,     1.36,2,    0.078,2,    0.043,2,    0.328,3,   2178.0,2,   2322.8,2,   -999.0,9,  -999.00,   7.6967,2,    25.61,    0.052,2,   -999.0,1,   -999.0,1, -999.000,9,-999.0000,9,-999.0000,9,-999.0000,9,-999.0000,9, 27.866, 32.503, 37.036, 41.466, 45.796
33RO20110828,   A10,    99,  1,      1,    001,2,20000101,0000,-30.0001, -39.8328, 3364,   3359.3,   2.4121,  34.8874,2,  34.8893,2,  35.0538,2,    248.1,2,    248.2,2,    44.21,2,    21.96,2,     0.00,2,     1.52,2,    0.060,2,    0.033,2,    0.286,3,   2187.5,6,   2329.0,2,   -999.0,9,  -999.00,   7.6965,2,    25.48,    0.000,2,   -999.0,1,   -999.0,1, -999.000,9,-999.0000,9,-999.0000,9,-999.0000,9,-999.0000,9, 27.872, 32.520, 37.063, 41.504, 45.844