BOTTLE,20130715NOAA
EXPOCODE,SECT_ID,STNNBR,CASTNO,SAMPNO,BTLNBR,BTLNBR_FLAG_W,DATE,TIME,LATITUDE,LONGITUDE,DEPTH,CTDPRS,CTDTMP,CTDSAL,CTDSAL_FLAG_W,SALNTY,SALNTY_FLAG_W,SALTREF,SALTREF_FLAG_W,CTDOXY,CTDOXY_FLAG_W,OXYGEN,OXYGEN_FLAG_W,SILCAT,SILCAT_FLAG_W,NITRAT,NITRAT_FLAG_W,NITRIT,NITRIT_FLAG_W,PHSPHT,PHSPHT_FLAG_W,CFC-11,CFC-11_FLAG_W,CFC-12,CFC-12_FLAG_W,CCL4,CCL4_FLAG_W,TCARBN,TCARBN_FLAG_W,ALKALI,ALKALI_FLAG_W,PCO2,PCO2_FLAG_W,PCO2TMP,PH_TOT,PH_TOT_FLAG_W,PH_TMP,SF6,SF6_FLAG_W,DOC,DOC_FLAG_W,TDN,TDN_FLAG_W,TRITUM,TRITUM_FLAG_W,HELIUM,HELIUM_FLAG_W,OXY_18,OXY_18_FLAG_W,BLACKC,BLACKC_FLAG_W,PIGMENTS,PIGMENTS_FLAG_W,SIGMA-THETA,SIGMA-1,SIGMA-2,SIGMA-3,SIGMA-4
,,,,,,,,,,,METERS,DBARS,ITS-90,PSS-78,,PSS-78,,G/KG,,UMOL/KG,,UMOL/KG,,UMOL/KG,,UMOL/KG,,UMOL/KG,,UMOL/KG,,PMOL/KG,,PMOL/KG,,PMOL/KG,,UMOL/KG,,UMOL/KG,,UATM@T,,DEG_C,,,DEG_C,FMOL/KG,,UMOL/KG,,UMOL/KG,,TU,,NMOL/KG,,,,,,,,,,,,
33RO20110828,   A10,   101,  1,     24,    024,2,20000101,0000,-29.7835, -40.6513, 3735,      4.5,  19.2272,  36.1792,2,  36.1829,2,  36.3535,2,    230.8,2,    229.9,2,     0.68,2,     0.00,2,     0.01,2,     0.03,2,    2.173,2,    1.331,2,    3.372,3,   2078.4,6,   2367.5,2,   -999.0,9,  -999.00,   7.9489,2,    25.50,    1.350,2,   -999.0,1,   -999.0,1, -999.000,9,-999.0000,9,-999.0000,9,-999.0000,9,-999.0000,1, 25.867, 30.144, 34.326, 38.418, 42.421
33RO20110828,   A10,   101,  1,     23,    023,2,20000101,0000,-29.7835, -40.6513, 3735,     44.4,  19.2046,  36.1799,2,  36.1797,2,  36.3503,2,    231.4,2,    231.5,2,     0.78,2,     0.00,2,     0.01,2,     0.04,2, -999.000,9, -999.000,9, -999.000,9,   2081.4,2,   2367.3,2,   -999.0,9,  -999.00,   7.9602,2,    25.51, -999.000,9,   -999.0,1,   -999.0,1, -999.000,9,-999.0000,9,-999.0000,9,-999.0000,9,-999.0000,9, 25.873, 30.150, 34.333, 38.425, 42.428
33RO20110828,   A10,   101,  1,     22,    022,2,20000101,0000,-29.7835, -40.6513, 3735,    100.0,  18.2178,  36.1496,2,  36.1467,2,  36.3171,2,    227.2,2,    227.7,2,     0.78,2,     0.39,2,     0.16,2,     0.09,2, -999.000,9, -999.000,9, -999.000,9,   2091.3,2,   2366.3,2,   -999.0,9,  -999.00,   7.9447,2,    25.51, -999.000,9,   -999.0,1,   -999.0,1, -999.000,9,-999.0000,9,-999.0000,9,-999.0000,9,-999.0000,1, 26.101, 30.394, 34.593, 38.700, 42.718
33RO20110828,   A10,   101,  1,     21,    021,2,20000101,0000,-29.7835, -40.6513, 3735,    129.3,  17.8568,  36.0835,2,  36.0846,2,  36.2547,2,    227.5,2,    228.9,2,     0.88,2,     0.39,2,     0.25,2,     0.10,2,    2.288,2,    1.398,2,    2.609,3,   2089.5,2,   2361.7,2,   -999.0,9,  -999.00,   7.9358,2,    25.54,    1.375,2,   -999.0,1,   -999.0,1, -999.000,9,-999.0000,9,-999.0000,9,-999.0000,9,-999.0000,1, 26.144, 30.444, 34.649, 38.762, 42.786
33RO20110828,   A10,   101,  1,     20,    020,2,20000101,0000,-29.7835, -40.6513, 3735,    191.3,  16.4313,  35.7544,2,  35.7438,2,  35.9123,2,    212.1,2,    212.5,2,     1.66,2,     3.51,2,     0.01,2,     0.26,2, -999.000,9, -999.000,9, -999.000,9,   2107.0,2,   2342.4,2,   -999.0,9,  -999.00,   7.8893,2,    25.53, -999.000,9,   -999.0,1,   -999.0,1, -999.000,9,-999.0000,9,-999.0000,9,-999.0000,9,-999.0000,9, 26.227, 30.553, 34.784, 38.922, 42.970
33RO20110828,   A10,   101,  1,     19,    019,2,20000101,0000,-29.7835, -40.6513, 3735,    260.1,  14.9741,  35.5234,2,  35.5252,2,  35.6927,2,    211.2,2,    210.5,2,     2.24,2,     6.05,2,     0.01,2,     0.40,2,    2.681,2,    1.581,2,    0.889,3,   2117.6,2,   2330.2,2,   -999.0,9,  -999.00,   7.8567,2,    25.52,    1.303,2,   -999.0,1,   -999.0,1, -999.000,9,-999.0000,9,-999.0000,9,-999.0000,9,-999.0000,9, 26.391, 30.745, 35.002, 39.166, 43.239
33RO20110828,   A10,   101,  1,     18,    018,2,20000101,0000,-29.7835, -40.6513, 3735,    335.1,  14.0056,  35.4091,2,  35.4414,2,  35.6085,2,    211.2,2,    210.5,2,     2.73,2,     8.29,2,     0.01,2,     0.51,2, -999.000,9, -999.000,9, -999.000,9,   2123.4,2,   2325.3,2,   -999.0,9,  -999.00,   7.8258,2,    25.55, -999.000,9,   -999.0,1,   -999.0,1, -999.000,9,-999.0000,9,-999.0000,9,-999.0000,9,-999.0000,9, 26.537, 30.910, 35.185, 39.367, 43.457
33RO20110828,   A10,   101,  1,     17,    017,2,20000101,0000,-29.7835, -40.6513, 3735,    416.4,  12.8688,  35.2257,2,  35.2275,2,  35.3936,2,    210.5,2,    210.6,2,     3.71,2,    10.83,2,     0.01,2,     0.64,2,    2.937,2,    1.672,2,    1.027,3,   2128.4,2,   2315.1,3,   -999.0,9,  -999.00,   7.7880,2,    25.57,    1.220,2,   -999.0,1,   -999.0,1, -999.000,9,-999.0000,9,-999.0000,9,-999.0000,9,-999.0000,9, 26.607, 31.003, 35.301, 39.504, 43.616
33RO20110828,   A10,   101,  1,     16,    016,2,20000101,0000,-29.7835, -40.6513, 3735,    515.7,  10.7242,  34.9062,2,  34.9167,2,  35.0813,2,    206.9,2,    206.0,2,     6.05,2,    16.01,2,     0.00,2,     0.89,2, -999.000,9, -999.000,9, -999.000,9,   2142.2,2,   2302.0,2,   -999.0,9,  -999.00,   7.7435,2,    25.52, -999.000,9,   -999.0,1,   -999.0,1, -999.000,9,-999.0000,9,-999.0000,9,-999.0000,9,-999.0000,9, 26.772, 31.213, 35.556, 39.802, 43.955
33RO20110828,   A10,   101,  1,     15,    015,2,20000101,0000,-29.7835, -40.6513, 3735,    615.2,   8.4252,  34.6139,2,  34.6163,2,  34.7795,2,    206.8,2,    206.6,2,     9.66,2,    21.48,2,     0.01,2,     1.18,2,    3.145,2,    1.663,2,    2.074,3,   2157.3,2,   2287.6,2,   -999.0,9,  -999.00,   7.6857,2,    25.52,    0.918,2,   -999.0,1,   -999.0,1, -999.000,9,-999.0000,9,-999.0000,9,-999.0000,9,-999.0000,9, 26.918, 31.412, 35.805, 40.101, 44.301
33RO20110828,   A10,   101,  1,     14,    014,2,20000101,0000,-29.7835, -40.6513, 3735,    714.1,   6.4118,  34.4046,2,  34.4068,3,  34.5690,3,    217.8,2,    220.1,2,    13.67,2,    25.38,2,     0.00,2,     1.41,2,    3.242,2,    1.667,2,    3.068,3,   2166.6,2,   2278.2,2,   -999.0,9,  -999.00,-999.0000,5,  -999.00,    0.794,2,   -999.0,1,   -999.0,1, -999.000,9,-999.0000,9,-999.0000,9,-999.0000,9,-999.0000,9, 27.038, 31.580, 36.021, 40.363, 44.607
33RO20110828,   A10,   101,  1,     13,    013,2,20000101,0000,-29.7835, -40.6513, 3735,    814.8,   5.2166,  34.3231,2,  34.3322,3,  34.4941,3,    223.2,2,    222.5,2,    18.75,2,    27.92,2,     0.00,2,     1.58,2,    2.999,2,    1.514,2,    3.355,3,   2176.0,2,   2282.7,2,   -999.0,9,  -999.00,   7.6394,2,    25.51,    0.665,2,   -999.0,1,   -999.0,1, -999.000,9,-999.0000,9,-999.0000,9,-999.0000,9,-999.0000,9, 27.121, 31.694, 36.165, 40.535, 44.806
33RO20110828,   A10,   101,  1,     12,    012,2,20000101,0000,-29.7835, -40.6513, 3735,    949.7,   4.2759,  34.3009,2,  34.3026,2,  34.4644,2,    218.5,2,    219.0,2,    27.14,2,    30.07,2,     0.00,2,     1.77,2,    2.496,2,    1.238,2,    3.180,3,   2189.6,2,   2288.5,2,   -999.0,9,  -999.00,   7.6060,2,    25.50,    0.499,2,   -999.0,1,   -999.0,1, -999.000,9,-999.0000,9,-999.0000,9,-999.0000,9,-999.0000,9, 27.210, 31.807, 36.302, 40.695, 44.989
33RO20110828,   A10,   101,  1,     11,    011,2,20000101,0000,-29.7835, -40.6513, 3735,   1050.4,   3.7853,  34.3249,2,  34.3270,2,  34.4889,2,    211.2,2,    210.2,2,    34.47,2,    31.44,2,     0.00,2,     1.90,2,    1.931,2,    0.949,2,    2.716,3,   2200.7,2,   2294.0,2,   -999.0,9,  -999.00,   7.5854,2,    25.52,    0.397,2,   -999.0,1,   -999.0,1, -999.000,9,-999.0000,9,-999.0000,9,-999.0000,9,-999.0000,9, 27.280, 31.890, 36.397, 40.802, 45.108
33RO20110828,   A10,   101,  1,     10,    010,2,20000101,0000,-29.7835, -40.6513, 3735,   1249.9,   3.3219,  34.4462,2,  34.4492,2,  34.6117,2,    191.1,2,    191.5,2,    47.35,2,    32.61,2,     0.00,2,     2.10,2,    0.811,2,    0.395,2,    1.448,3,   2221.8,2,   2304.4,2,   -999.0,9,  -999.00,   7.5665,2,    25.59,    0.131,2,   -999.0,1,   -999.0,1, -999.000,9,-999.0000,9,-999.0000,9,-999.0000,9,-999.0000,9, 27.424, 32.046, 36.563, 40.980, 45.296
33RO20110828,   A10,   101,  1,      9,    009,2,20000101,0000,-29.7835, -40.6513, 3735,   1450.3,   3.0337,  34.5674,2,  34.5684,2,  34.7314,2,    187.8,2,    188.0,2,    53.98,2,    31.82,2,     0.00,2,     2.11,2,    0.357,2,    0.171,2,    0.823,3,   2230.7,6,   2315.5,2,   -999.0,9,  -999.00,   7.5740,2,    25.51,    0.055,2,   -999.0,1,   -999.0,1, -999.000,9,-999.0000,9,-999.0000,9,-999.0000,9,-999.0000,9, 27.547, 32.176, 36.701, 41.123, 45.446
33RO20110828,   A10,   101,  1,      8,    008,2,20000101,0000,-29.7835, -40.6513, 3735,   1725.8,   3.3356,  34.7918,2,  34.7920,2,  34.9561,2,    208.8,2,    209.7,2,    41.58,2,    26.55,2,     0.00,2,     1.72,2,    0.123,2,    0.063,2,    0.467,3,   2208.5,2,   2315.2,2,   -999.0,9,  -999.00,   7.6281,2,    25.52,    0.000,2,   -999.0,1,   -999.0,1, -999.000,9,-999.0000,9,-999.0000,9,-999.0000,9,-999.0000,9, 27.700, 32.320, 36.836, 41.250, 45.564
33RO20110828,   A10,   101,  1,      7,    007,2,20000101,0000,-29.7835, -40.6513, 3735,   2025.2,   3.2804,  34.8766,2,  34.8801,2,  35.0446,2,    230.2,2,    229.7,2,    34.84,2,    23.42,2,     0.00,2,     1.49,2,    0.138,2,    0.070,2,    0.514,3,   2195.4,2,   2314.5,2,   -999.0,9,  -999.00,   7.6725,2,    25.51,    0.000,2,   -999.0,1,   -999.0,1, -999.000,9,-999.0000,9,-999.0000,9,-999.0000,9,-999.0000,9, 27.778, 32.399, 36.917, 41.332, 45.648
33RO20110828,   A10,   101,  1,      6,    006,2,20000101,0000,-29.7835, -40.6513, 3735,   2250.5,   3.2039,  34.9072,2,  34.9085,6,  35.0731,6,    240.1,2,    240.5,2,    31.33,2,    21.76,2,     0.00,2,     1.38,2,    0.134,2,    0.068,2,    0.508,3,   2187.3,2,   2317.1,2,   -999.0,9,  -999.00,   7.6859,2,    25.50,    0.000,2,   -999.0,1,   -999.0,1, -999.000,9,-999.0000,9,-999.0000,9,-999.0000,9,-999.0000,9, 27.809, 32.432, 36.952, 41.370, 45.687
33RO20110828,   A10,   101,  1,      5,    005,2,20000101,0000,-29.7835, -40.6513, 3735,   2501.1,   3.1050,  34.9244,2,  34.9249,2,  35.0896,2,    247.7,2,    247.4,2,    29.47,2,    20.98,2,     0.00,2,     1.30,2,    0.122,2,    0.062,2,    0.478,3,   2180.8,2,   2317.1,2,   -999.0,9,  -999.00,   7.6888,2,    25.47,    0.028,2,   -999.0,1,   -999.0,1, -999.000,9,-999.0000,9,-999.0000,9,-999.0000,9,-999.0000,9, 27.834, 32.461, 36.983, 41.404, 45.725
33RO20110828,   A10,   101,  1,      4,    004,2,20000101,0000,-29.7835, -40.6513, 3735,   2773.7,   2.9695,  34.9255,2,  34.9265,2,  35.0912,2,    249.8,2,    250.0,2,    30.84,2,    20.69,2,     0.00,2,     1.32,2,    0.097,2,    0.049,2,    0.419,3,   2180.2,2,   2319.2,2,   -999.0,9,  -999.00,   7.6988,2,    25.47,    0.000,2,   -999.0,1,   -999.0,1, -999.000,9,-999.0000,9,-999.0000,9,-999.0000,9,-999.0000,9, 27.850, 32.481, 37.008, 41.433, 45.757
33RO20110828,   A10,   101,  1,      3,    003,2,20000101,0000,-29.7835, -40.6513, 3735,   3000.8,   2.8647,  34.9227,2,  34.9264,2,  35.0911,2,    251.0,2,    251.3,2,    32.11,2,    20.69,2,     0.00,2,     1.33,2,    0.095,2,    0.047,2,    0.411,3,   2181.7,2,   2321.8,2,   -999.0,9,  -999.00,   7.7025,2,    25.46,    0.000,2,   -999.0,1,   -999.0,1, -999.000,9,-999.0000,9,-999.0000,9,-999.0000,9,-999.0000,9, 27.861, 32.495, 37.026, 41.454, 45.781
33RO20110828,   A10,   101,  1,      2,    002,2,20000101,0000,-29.7835, -40.6513, 3735,   3330.4,   2.5423,  34.9001,2,  34.9012,2,  35.0658,2,    250.6,2,    250.6,2,    39.43,2,    21.47,2,     0.00,2,     1.43,2,    0.074,2,    0.039,2,    0.367,3,   2187.4,2,   2324.3,3,   -999.0,9,  -999.00,   7.6951,2,    25.50,    0.024,2,   -999.0,1,   -999.0,1, -999.000,9,-999.0000,9,-999.0000,9,-999.0000,9,-999.0000,9, 27.871, 32.515, 37.055, 41.492, 45.829
33RO20110828,   A10,   101,  1,      1,    001,2,20000101,0000,-29.7835, -40.6513, 3735,   3739.7,   0.8831,  34.7233,2,  34.7235,2,  34.8872,2,    219.0,2,    219.0,2,   108.64,2,    30.75,2,     0.00,2,     2.58,2,    0.203,2,    0.098,2,    0.483,3,   2251.9,6,   2356.2,2,   -999.0,9,  -999.00,   7.6103,2,    25.49,    0.075,2,   -999.0,1,   -999.0,1, -999.000,9,-999.0000,9,-999.0000,9,-999.0000,9,-999.0000,9, 27.848, 32.541, 37.128, 41.611, 45.992