BOTTLE,20130715NOAA
EXPOCODE,SECT_ID,STNNBR,CASTNO,SAMPNO,BTLNBR,BTLNBR_FLAG_W,DATE,TIME,LATITUDE,LONGITUDE,DEPTH,CTDPRS,CTDTMP,CTDSAL,CTDSAL_FLAG_W,SALNTY,SALNTY_FLAG_W,SALTREF,SALTREF_FLAG_W,CTDOXY,CTDOXY_FLAG_W,OXYGEN,OXYGEN_FLAG_W,SILCAT,SILCAT_FLAG_W,NITRAT,NITRAT_FLAG_W,NITRIT,NITRIT_FLAG_W,PHSPHT,PHSPHT_FLAG_W,CFC-11,CFC-11_FLAG_W,CFC-12,CFC-12_FLAG_W,CCL4,CCL4_FLAG_W,TCARBN,TCARBN_FLAG_W,ALKALI,ALKALI_FLAG_W,PCO2,PCO2_FLAG_W,PCO2TMP,PH_TOT,PH_TOT_FLAG_W,PH_TMP,SF6,SF6_FLAG_W,DOC,DOC_FLAG_W,TDN,TDN_FLAG_W,TRITUM,TRITUM_FLAG_W,HELIUM,HELIUM_FLAG_W,OXY_18,OXY_18_FLAG_W,BLACKC,BLACKC_FLAG_W,PIGMENTS,PIGMENTS_FLAG_W,SIGMA-THETA,SIGMA-1,SIGMA-2,SIGMA-3,SIGMA-4
,,,,,,,,,,,METERS,DBARS,ITS-90,PSS-78,,PSS-78,,G/KG,,UMOL/KG,,UMOL/KG,,UMOL/KG,,UMOL/KG,,UMOL/KG,,UMOL/KG,,PMOL/KG,,PMOL/KG,,PMOL/KG,,UMOL/KG,,UMOL/KG,,UATM@T,,DEG_C,,,DEG_C,FMOL/KG,,UMOL/KG,,UMOL/KG,,TU,,NMOL/KG,,,,,,,,,,,,
33RO20110828,   A10,    52,  1,     24,    024,2,20000101,0000,-30.0002, -11.9613, -999,      5.7,  17.6060,  35.8846,2,  35.8845,2,  36.0537,2,    238.3,2,    238.3,2,     1.27,2,     0.00,2,     0.00,2,     0.17,2,    2.288,2,    1.433,2,    3.289,3,   2084.8,6,   2351.2,2,   -999.0,9,  -999.00,   7.9062,2,    25.73,    1.421,2,   -999.0,1,   -999.0,1, -999.000,9,-999.0000,9,-999.0000,9,-999.0000,9,-999.0000,1, 26.047, 30.352, 34.562, 38.680, 42.709
33RO20110828,   A10,    52,  1,     23,    023,2,20000101,0000,-30.0002, -11.9613, -999,     39.3,  17.6123,  35.8833,2,  35.8843,2,  36.0535,2,    238.4,2,    238.8,2,     1.37,2,     0.00,2,     0.00,2,     0.17,2,    2.238,2,    1.405,2,    3.232,3,   2084.4,2,   2351.0,2,   -999.0,9,  -999.00,   7.9041,2,    25.75,    1.451,2,   -999.0,1,   -999.0,1, -999.000,9,-999.0000,9,-999.0000,9,-999.0000,9,-999.0000,9, 26.047, 30.351, 34.561, 38.679, 42.708
33RO20110828,   A10,    52,  1,     22,    022,2,20000101,0000,-30.0002, -11.9613, -999,     87.7,  17.0091,  35.8156,2,  35.8157,2,  35.9846,2,    239.6,2,    238.9,2,     1.46,2,     0.10,2,     0.04,2,     0.19,2,    2.228,2,    1.428,2,    2.601,3,   -999.0,9,   2347.2,2,   -999.0,9,  -999.00,   7.9035,2,    25.71,    1.506,2,   -999.0,1,   -999.0,1, -999.000,9,-999.0000,9,-999.0000,9,-999.0000,9,-999.0000,1, 26.142, 30.457, 34.678, 38.806, 42.844
33RO20110828,   A10,    52,  1,     21,    021,2,20000101,0000,-30.0002, -11.9613, -999,    139.7,  16.4478,  35.7220,2,  35.7224,2,  35.8908,2,    230.1,2,    230.4,2,     1.76,2,     1.56,2,     0.20,2,     0.29,2,    2.275,2,    1.442,2,    1.932,3,   2092.3,2,   2343.1,2,   -999.0,9,  -999.00,   7.8901,2,    25.70,    1.390,2,   -999.0,1,   -999.0,1, -999.000,9,-999.0000,9,-999.0000,9,-999.0000,9,-999.0000,1, 26.205, 30.531, 34.761, 38.899, 42.947
33RO20110828,   A10,    52,  1,     20,    020,2,20000101,0000,-30.0002, -11.9613, -999,    190.6,  15.1268,  35.4709,2,  35.4690,2,  35.6362,2,    218.8,2,    218.9,2,     2.44,2,     4.68,2,     0.01,2,     0.49,2,    2.542,2,    1.543,2,    1.160,3,   -999.0,9,   2326.9,2,   -999.0,9,  -999.00,   7.8442,2,    25.70,    1.439,2,   -999.0,1,   -999.0,1, -999.000,9,-999.0000,9,-999.0000,9,-999.0000,9,-999.0000,9, 26.312, 30.663, 34.918, 39.079, 43.150
33RO20110828,   A10,    52,  1,     19,    019,2,20000101,0000,-30.0002, -11.9613, -999,    269.1,  13.1772,  35.1917,2,  35.1931,2,  35.3590,2,    212.8,2,    211.3,2,     3.81,2,     9.47,2,     0.01,2,     0.79,2,    2.764,2,    1.647,2,    0.998,3,   2120.4,2,   2310.4,2,   -999.0,9,  -999.00,   7.7924,2,    25.75,    1.398,2,   -999.0,1,   -999.0,1, -999.000,9,-999.0000,9,-999.0000,9,-999.0000,9,-999.0000,9, 26.514, 30.904, 35.196, 39.394, 43.499
33RO20110828,   A10,    52,  1,     18,    018,2,20000101,0000,-30.0002, -11.9613, -999,    369.1,  11.7771,  35.0341,2,  35.0763,2,  35.2417,2,    209.8,2,    211.8,2,     4.78,2,    12.69,2,     0.00,2,     1.00,2,    2.854,2,    1.708,2,    1.082,3,   -999.0,9,   2303.7,3,   -999.0,9,  -999.00,   7.7705,2,    25.74,    1.240,2,   -999.0,1,   -999.0,1, -999.000,9,-999.0000,9,-999.0000,9,-999.0000,9,-999.0000,9, 26.700, 31.118, 35.438, 39.663, 43.795
33RO20110828,   A10,    52,  1,     17,    017,2,20000101,0000,-30.0002, -11.9613, -999,    469.9,  10.0491,  34.8068,2,  34.8060,2,  34.9701,2,    210.6,2,    210.0,2,     6.83,2,    16.89,2,     0.00,2,     1.29,2,    3.012,2,    1.757,2,    1.362,3,   2143.8,2,   2293.7,2,   -999.0,9,  -999.00,   7.7226,2,    25.77,    1.171,2,   -999.0,1,   -999.0,1, -999.000,9,-999.0000,9,-999.0000,9,-999.0000,9,-999.0000,9, 26.802, 31.258, 35.615, 39.876, 44.042
33RO20110828,   A10,    52,  1,     16,    016,2,20000101,0000,-30.0002, -11.9613, -999,    589.0,   7.5714,  34.5186,2,  34.5120,2,  34.6747,2,    210.1,2,    107.8,4,    11.72,2,    23.24,2,     0.00,2,     1.71,2,    3.684,2,    1.704,2,    2.234,3,   -999.0,9,   2285.6,2,   -999.0,9,  -999.00,   7.6572,2,    25.74,    1.017,2,   -999.0,1,   -999.0,1, -999.000,9,-999.0000,9,-999.0000,9,-999.0000,9,-999.0000,9, 26.962, 31.476, 35.889, 40.204, 44.423
33RO20110828,   A10,    52,  1,     15,    015,2,20000101,0000,-30.0002, -11.9613, -999,    739.7,   5.2611,  34.3277,2,  34.3261,2,  34.4880,2,    219.1,2,    219.2,2,    19.73,2,    28.03,2,     0.00,2,     2.05,2,    3.159,2,    1.623,2,    2.700,3,   2176.5,2,   2283.7,2,   -999.0,9,  -999.00,   7.6172,2,    25.76,    0.800,2,   -999.0,1,   -999.0,1, -999.000,9,-999.0000,9,-999.0000,9,-999.0000,9,-999.0000,9, 27.118, 31.689, 36.158, 40.527, 44.798
33RO20110828,   A10,    52,  1,     14,    014,2,20000101,0000,-30.0002, -11.9613, -999,    889.8,   4.0864,  34.3042,2,  34.3041,2,  34.4659,2,    216.0,2,    215.4,2,    29.98,2,    30.37,2,     0.00,2,     2.24,2,    2.509,2,    1.241,2,    2.494,3,   -999.0,9,   2290.0,2,   -999.0,9,  -999.00,   7.5948,2,    25.77,    0.562,2,   -999.0,1,   -999.0,1, -999.000,9,-999.0000,9,-999.0000,9,-999.0000,9,-999.0000,9, 27.231, 31.833, 36.331, 40.729, 45.027
33RO20110828,   A10,    52,  1,     13,    013,2,20000101,0000,-30.0002, -11.9613, -999,   1039.4,   3.5682,  34.3706,2,  34.3705,2,  34.5325,2,    197.5,2,    198.5,2,    41.60,2,    32.13,2,     0.00,2,     2.36,2,    1.663,2,    0.725,2,    1.884,3,   2212.7,2,   2301.1,2,   -999.0,9,  -999.00,   7.5625,2,    25.72,    0.265,2,   -999.0,1,   -999.0,1, -999.000,9,-999.0000,9,-999.0000,9,-999.0000,9,-999.0000,9, 27.336, 31.951, 36.463, 40.873, 45.184
33RO20110828,   A10,    52,  1,     12,    012,2,20000101,0000,-30.0002, -11.9613, -999,   1190.0,   3.1519,  34.4417,2,  34.4451,2,  34.6075,2,    190.3,2,    190.2,2,    50.29,2,    32.52,2,     0.01,2,     2.41,2,    1.033,2,    0.457,2,    1.378,3,   2223.9,2,   2309.9,2,   -999.0,9,  -999.00,   7.5598,2,    25.76,    0.143,2,   -999.0,1,   -999.0,1, -999.000,9,-999.0000,9,-999.0000,9,-999.0000,9,-999.0000,9, 27.436, 32.062, 36.584, 41.004, 45.325
33RO20110828,   A10,    52,  1,     11,    011,2,20000101,0000,-30.0002, -11.9613, -999,   1370.3,   2.9990,  34.5709,2,  34.5719,2,  34.7349,2,    185.0,2,    184.9,2,    56.05,2,    31.83,2,     0.00,2,     2.35,2,    0.445,2,    0.201,2,    0.737,3,   2231.7,2,   2319.4,2,   -999.0,9,  -999.00,   7.5592,2,    25.70,    0.090,2,   -999.0,1,   -999.0,1, -999.000,9,-999.0000,9,-999.0000,9,-999.0000,9,-999.0000,9, 27.552, 32.182, 36.707, 41.131, 45.454
33RO20110828,   A10,    52,  1,     10,    010,2,20000101,0000,-30.0002, -11.9613, -999,   1529.5,   2.9119,  34.6628,2,  34.6643,2,  34.8277,2,    191.4,2,    190.7,2,    56.14,2,    30.27,2,     0.00,2,     2.22,2,    0.212,2,    0.092,2,    0.442,3,   2227.7,2,   2324.4,2,   -999.0,9,  -999.00,   7.5787,2,    25.74,    0.077,2,   -999.0,1,   -999.0,1, -999.000,9,-999.0000,9,-999.0000,9,-999.0000,9,-999.0000,9, 27.635, 32.266, 36.794, 41.219, 45.544
33RO20110828,   A10,    52,  1,      9,    009,2,20000101,0000,-30.0002, -11.9613, -999,   1680.4,   2.8154,  34.7188,2,  34.7199,2,  34.8836,2,    199.1,2,    199.4,2,    55.75,2,    28.80,2,     0.00,2,     2.12,2,    0.123,2,    0.053,2,    0.313,3,   -999.0,9,   2327.3,2,   -999.0,9,  -999.00,   7.5976,2,    25.70,    0.025,2,   -999.0,1,   -999.0,1, -999.000,9,-999.0000,9,-999.0000,9,-999.0000,9,-999.0000,9, 27.689, 32.323, 36.853, 41.281, 45.608
33RO20110828,   A10,    52,  1,      8,    008,2,20000101,0000,-30.0002, -11.9613, -999,   1828.2,   2.7547,  34.7691,2,  34.7693,2,  34.9332,2,    207.1,2,    207.4,2,    53.99,2,    27.43,2,     0.00,2,     2.01,2,    0.065,2,    0.029,2,    0.213,3,   -999.0,9,   2326.8,2,   -999.0,9,  -999.00,   7.6156,2,    25.70,    0.026,2,   -999.0,1,   -999.0,1, -999.000,9,-999.0000,9,-999.0000,9,-999.0000,9,-999.0000,9, 27.735, 32.370, 36.902, 41.331, 45.660
33RO20110828,   A10,    52,  1,      7,    007,2,20000101,0000,-30.0002, -11.9613, -999,   2029.4,   2.6635,  34.8012,2,  34.8021,2,  34.9662,2,    215.5,2,    216.3,2,    53.31,2,    26.26,2,     0.00,2,     1.92,2,    0.030,2,    0.016,2,    0.108,3,   2212.2,2,   2327.5,2,   -999.0,9,  -999.00,   7.6340,2,    25.69,    0.000,2,   -999.0,1,   -999.0,1, -999.000,9,-999.0000,9,-999.0000,9,-999.0000,9,-999.0000,9, 27.771, 32.409, 36.943, 41.374, 45.706
33RO20110828,   A10,    52,  1,      6,    006,2,20000101,0000,-30.0002, -11.9613, -999,   2281.5,   2.5602,  34.8295,2,  34.8308,6,  34.9951,6,    224.1,2,    223.9,2,    52.33,2,    25.19,2,     0.00,2,     1.84,2,    0.015,2,    0.009,2,    0.073,3,   -999.0,9,   2329.7,2,   -999.0,9,  -999.00,   7.6496,2,    25.69,    0.042,2,   -999.0,1,   -999.0,1, -999.000,9,-999.0000,9,-999.0000,9,-999.0000,9,-999.0000,9, 27.803, 32.444, 36.982, 41.416, 45.750
33RO20110828,   A10,    52,  1,      5,    005,2,20000101,0000,-30.0002, -11.9613, -999,   2530.9,   2.4809,  34.8482,2,  34.8496,2,  35.0139,2,    231.6,2,    232.8,2,    51.45,2,    24.31,2,     0.00,2,     1.77,2,    0.008,2,    0.005,2,    0.050,3,   2203.0,2,   2334.1,2,   -999.0,9,  -999.00,   7.6590,2,    25.65,    0.000,2,   -999.0,1,   -999.0,1, -999.000,9,-999.0000,9,-999.0000,9,-999.0000,9,-999.0000,9, 27.828, 32.472, 37.011, 41.449, 45.785
33RO20110828,   A10,    52,  1,      4,    004,2,20000101,0000,-30.0002, -11.9613, -999,   2818.1,   2.4153,  34.8595,2,  34.8604,2,  35.0248,2,    235.6,2,    235.6,2,    51.16,2,    23.72,2,     0.01,2,     1.72,2,    0.007,2,    0.004,2,    0.046,3,   -999.0,9,   2333.0,2,   -999.0,9,  -999.00,   7.6770,2,    25.58,    0.028,2,   -999.0,1,   -999.0,1, -999.000,9,-999.0000,9,-999.0000,9,-999.0000,9,-999.0000,9, 27.844, 32.490, 37.033, 41.472, 45.811
33RO20110828,   A10,    52,  1,      3,    003,2,20000101,0000,-30.0002, -11.9613, -999,   3029.6,   2.3993,  34.8626,2,  34.8635,2,  35.0279,2,    237.0,2,    236.2,2,    51.64,2,    23.72,2,     0.01,2,     1.72,2,    0.008,2,    0.006,2,    0.057,3,   2200.6,2,   2333.7,2,   -999.0,9,  -999.00,   7.6752,2,    25.47,    0.052,2,   -999.0,1,   -999.0,1, -999.000,9,-999.0000,9,-999.0000,9,-999.0000,9,-999.0000,9, 27.849, 32.497, 37.040, 41.480, 45.820
33RO20110828,   A10,    52,  1,      2,    002,2,20000101,0000,-30.0002, -11.9613, -999,   3281.1,   2.3909,  34.8658,2,  34.8677,2,  35.0322,2,    237.6,2,    236.9,2,    51.74,2,    23.53,2,     0.01,2,     1.71,2,    0.006,2,    0.004,2,    0.037,3,   -999.0,9,   2335.6,2,   -999.0,9,  -999.00,   7.6731,2,    25.45,    0.053,2,   -999.0,1,   -999.0,1, -999.000,9,-999.0000,9,-999.0000,9,-999.0000,9,-999.0000,9, 27.856, 32.504, 37.048, 41.489, 45.830
33RO20110828,   A10,    52,  1,      1,    001,2,20000101,0000,-30.0002, -11.9613, -999,   3649.5,   2.4178,  34.8678,2,  34.8694,2,  35.0339,2,    236.9,2,    237.7,2,    52.03,2,    23.53,2,     0.01,2,     1.71,2,    0.005,2,    0.004,2,    0.029,3,   2201.9,6,   2343.9,2,   -999.0,9,  -999.00,   7.6772,2,    25.48,    0.047,2,   -999.0,1,   -999.0,1, -999.000,9,-999.0000,9,-999.0000,9,-999.0000,9,-999.0000,9, 27.858, 32.507, 37.051, 41.493, 45.834