BOTTLE,20130715NOAA
EXPOCODE,SECT_ID,STNNBR,CASTNO,SAMPNO,BTLNBR,BTLNBR_FLAG_W,DATE,TIME,LATITUDE,LONGITUDE,DEPTH,CTDPRS,CTDTMP,CTDSAL,CTDSAL_FLAG_W,SALNTY,SALNTY_FLAG_W,SALTREF,SALTREF_FLAG_W,CTDOXY,CTDOXY_FLAG_W,OXYGEN,OXYGEN_FLAG_W,SILCAT,SILCAT_FLAG_W,NITRAT,NITRAT_FLAG_W,NITRIT,NITRIT_FLAG_W,PHSPHT,PHSPHT_FLAG_W,CFC-11,CFC-11_FLAG_W,CFC-12,CFC-12_FLAG_W,CCL4,CCL4_FLAG_W,TCARBN,TCARBN_FLAG_W,ALKALI,ALKALI_FLAG_W,PCO2,PCO2_FLAG_W,PCO2TMP,PH_TOT,PH_TOT_FLAG_W,PH_TMP,SF6,SF6_FLAG_W,DOC,DOC_FLAG_W,TDN,TDN_FLAG_W,TRITUM,TRITUM_FLAG_W,HELIUM,HELIUM_FLAG_W,OXY_18,OXY_18_FLAG_W,BLACKC,BLACKC_FLAG_W,PIGMENTS,PIGMENTS_FLAG_W,SIGMA-THETA,SIGMA-1,SIGMA-2,SIGMA-3,SIGMA-4
,,,,,,,,,,,METERS,DBARS,ITS-90,PSS-78,,PSS-78,,G/KG,,UMOL/KG,,UMOL/KG,,UMOL/KG,,UMOL/KG,,UMOL/KG,,UMOL/KG,,PMOL/KG,,PMOL/KG,,PMOL/KG,,UMOL/KG,,UMOL/KG,,UATM@T,,DEG_C,,,DEG_C,FMOL/KG,,UMOL/KG,,UMOL/KG,,TU,,NMOL/KG,,,,,,,,,,,,
33RO20110828,   A10,    50,  1,     24,    024,2,20000101,0000,-29.9999, -10.2576, 3838,      5.6,  17.7330,  35.8615,2,  35.8623,2,  36.0314,2,    239.9,2,    238.9,2,     1.27,2,     0.00,2,     0.00,2,     0.16,2,    2.358,2,    1.431,2,    3.614,3,   2082.5,6,   2353.0,2,   -999.0,9,  -999.00,   7.9177,2,    25.48,    1.471,2,   -999.0,9,   -999.0,9, -999.000,9,-999.0000,9,-999.0000,9,-999.0000,9,-999.0000,1, 25.999, 30.302, 34.510, 38.626, 42.653
33RO20110828,   A10,    50,  1,     23,    023,2,20000101,0000,-29.9999, -10.2576, 3838,     33.4,  17.7496,  35.8647,2,  35.8647,2,  36.0338,2,    239.9,2,    239.5,2,     1.27,2,     0.00,2,     0.01,2,     0.16,2, -999.000,9, -999.000,9, -999.000,9,   -999.0,9,   2352.0,2,   -999.0,9,  -999.00,   7.9126,2,    25.55, -999.000,9,   -999.0,9,   -999.0,9, -999.000,9,-999.0000,9,-999.0000,9,-999.0000,9,-999.0000,1, 25.998, 30.300, 34.508, 38.624, 42.651
33RO20110828,   A10,    50,  1,     22,    022,2,20000101,0000,-29.9999, -10.2576, 3838,     70.2,  17.5414,  35.8435,2,  35.8414,2,  36.0104,2,    241.8,2,    242.0,2,     1.27,2,     0.10,2,     0.01,2,     0.17,2,    2.367,2,    1.444,2,    3.611,3,   -999.0,9,   2349.8,2,   -999.0,9,  -999.00,   7.9072,2,    25.55,    1.574,2,   -999.0,9,   -999.0,9, -999.000,9,-999.0000,9,-999.0000,9,-999.0000,9,-999.0000,1, 26.032, 30.339, 34.550, 38.670, 42.700
33RO20110828,   A10,    50,  1,     21,    021,2,20000101,0000,-29.9999, -10.2576, 3838,    122.5,  16.3688,  35.7049,2,  35.7050,2,  35.8734,2,    235.6,2,    236.6,2,     1.46,2,     0.68,2,     0.42,2,     0.24,2, -999.000,9, -999.000,9, -999.000,9,   2086.9,2,   2342.2,2,   -999.0,9,  -999.00,   7.8983,2,    25.58, -999.000,9,   -999.0,9,   -999.0,9, -999.000,9,-999.0000,9,-999.0000,9,-999.0000,9,-999.0000,9, 26.209, 30.537, 34.768, 38.908, 42.957
33RO20110828,   A10,    50,  1,     20,    020,2,20000101,0000,-29.9999, -10.2576, 3838,    174.5,  15.7342,  35.5831,2,  35.5802,2,  35.7480,2,    229.4,2,    229.8,2,     1.85,2,     2.54,2,     0.13,2,     0.34,2,    2.542,2,    1.527,2,    2.039,3,   -999.0,9,   2330.5,2,   -999.0,9,  -999.00,   7.8771,2,    25.53,    1.445,2,   -999.0,9,   -999.0,9, -999.000,9,-999.0000,9,-999.0000,9,-999.0000,9,-999.0000,9, 26.261, 30.600, 34.844, 38.995, 43.055
33RO20110828,   A10,    50,  1,     19,    019,2,20000101,0000,-29.9999, -10.2576, 3838,    249.9,  13.8039,  35.2838,2,  35.2866,2,  35.4530,2,    216.5,2,    217.0,2,     3.03,2,     7.42,2,     0.01,2,     0.66,2, -999.000,9, -999.000,9, -999.000,9,   2111.7,2,   2319.3,2,   -999.0,9,  -999.00, 999.0000,5,   999.00, -999.000,9,   -999.0,9,   -999.0,9, -999.000,9,-999.0000,9,-999.0000,9,-999.0000,9,-999.0000,9, 26.457, 30.834, 35.114, 39.300, 43.394
33RO20110828,   A10,    50,  1,     18,    018,2,20000101,0000,-29.9999, -10.2576, 3838,    320.4,  12.2121,  35.0758,2,  35.0770,2,  35.2424,2,    211.0,2,    209.5,2,     4.78,2,    12.10,2,     0.01,2,     0.96,2, -999.000,9, -999.000,9, -999.000,9,   -999.0,9,   2307.2,2,   -999.0,9,  -999.00,   7.7734,2,    25.52, -999.000,9,   -999.0,9,   -999.0,9, -999.000,9,-999.0000,9,-999.0000,9,-999.0000,9,-999.0000,9, 26.616, 31.026, 35.337, 39.554, 43.677
33RO20110828,   A10,    50,  1,     17,    017,2,20000101,0000,-29.9999, -10.2576, 3838,    400.3,  10.8203,  34.9031,2,  34.9037,2,  35.0683,2,    209.6,2,    208.4,2,     6.25,2,    15.33,2,     0.00,2,     1.18,2,    3.127,2,    1.729,2,    1.286,3,   2136.0,2,   2298.6,2,   -999.0,9,  -999.00,   7.7345,2,    25.51,    1.200,2,   -999.0,9,   -999.0,9, -999.000,9,-999.0000,9,-999.0000,9,-999.0000,9,-999.0000,9, 26.742, 31.181, 35.522, 39.766, 43.917
33RO20110828,   A10,    50,  1,     16,    016,2,20000101,0000,-29.9999, -10.2576, 3838,    514.8,   8.5857,  34.6304,2,  34.6316,2,  34.7950,2,    203.8,2,    205.1,2,    10.06,2,    20.90,2,     0.01,2,     1.56,2, -999.000,9, -999.000,9, -999.000,9,   -999.0,9,   2288.5,2,   -999.0,9,  -999.00,   7.6806,2,    25.57, -999.000,9,   -999.0,9,   -999.0,9, -999.000,9,-999.0000,9,-999.0000,9,-999.0000,9,-999.0000,9, 26.904, 31.394, 35.783, 40.075, 44.272
33RO20110828,   A10,    50,  1,     15,    015,2,20000101,0000,-29.9999, -10.2576, 3838,    628.0,   6.7839,  34.4515,2,  34.4512,2,  34.6136,2,    206.6,2,    206.6,2,    15.04,2,    25.29,2,     0.00,2,     1.87,2,    3.099,2,    1.615,2,    2.331,3,   2167.0,2,   2284.3,2,   -999.0,9,  -999.00,   7.6386,2,    25.57,    0.853,2,   -999.0,9,   -999.0,9, -999.000,9,-999.0000,9,-999.0000,9,-999.0000,9,-999.0000,9, 27.024, 31.557, 35.989, 40.322, 44.557
33RO20110828,   A10,    50,  1,     14,    014,2,20000101,0000,-29.9999, -10.2576, 3838,    781.0,   4.9747,  34.3327,2,  34.3336,2,  34.4955,2,    212.8,2,    212.9,2,    23.63,2,    28.81,2,     0.00,2,     2.13,2, -999.000,9, -999.000,9, -999.000,9,   -999.0,9,   2287.5,3,   -999.0,9,  -999.00,   7.5999,2,    25.53, -999.000,9,   -999.0,9,   -999.0,9, -999.000,9,-999.0000,9,-999.0000,9,-999.0000,9,-999.0000,9, 27.157, 31.736, 36.212, 40.588, 44.865
33RO20110828,   A10,    50,  1,     13,    013,2,20000101,0000,-29.9999, -10.2576, 3838,    928.9,   3.8595,  34.3289,2,  34.3273,2,  34.4892,2,    208.8,2,    208.5,2,    34.77,2,    30.96,2,     0.00,2,     2.29,2,    2.103,2,    1.051,2,    2.028,3,   2197.8,2,   2296.6,2,   -999.0,9,  -999.00,   7.5749,2,    25.55,    0.401,2,   -999.0,9,   -999.0,9, -999.000,9,-999.0000,9,-999.0000,9,-999.0000,9,-999.0000,9, 27.272, 31.880, 36.385, 40.788, 45.091
33RO20110828,   A10,    50,  1,     12,    012,2,20000101,0000,-29.9999, -10.2576, 3838,   1077.0,   3.4065,  34.4108,2,  34.4121,6,  34.5744,6,    192.2,2,    192.3,2,    46.78,2,    32.42,2,     0.00,2,     2.40,2, -999.000,9, -999.000,9, -999.000,9,   -999.0,9,   2308.2,2,   -999.0,9,  -999.00,   7.5609,2,    25.58, -999.000,9,   -999.0,9,   -999.0,9, -999.000,9,-999.0000,9,-999.0000,9,-999.0000,9,-999.0000,9, 27.384, 32.003, 36.519, 40.933, 45.247
33RO20110828,   A10,    50,  1,     11,    011,2,20000101,0000,-29.9999, -10.2576, 3838,   1227.2,   3.1533,  34.4972,2,  34.4995,2,  34.6622,2,    185.5,2,    185.2,2,    53.41,2,    32.22,2,     0.00,2,     2.41,2,    0.683,2,    0.330,2,    1.104,3,   2225.3,2,   2315.2,2,   -999.0,9,  -999.00,   7.5526,2,    25.56,    0.101,2,   -999.0,9,   -999.0,9, -999.000,9,-999.0000,9,-999.0000,9,-999.0000,9,-999.0000,9, 27.479, 32.105, 36.627, 41.047, 45.367
33RO20110828,   A10,    50,  1,     10,    010,2,20000101,0000,-29.9999, -10.2576, 3838,   1428.8,   2.9954,  34.6419,2,  34.6421,2,  34.8054,2,    188.3,2,    187.7,2,    55.46,2,    30.66,2,     0.00,2,     2.27,2, -999.000,9, -999.000,9, -999.000,9,   -999.0,9,   2321.9,2,   -999.0,9,  -999.00,   7.5798,2,    25.54, -999.000,9,   -999.0,9,   -999.0,9, -999.000,9,-999.0000,9,-999.0000,9,-999.0000,9,-999.0000,9, 27.609, 32.238, 36.764, 41.187, 45.510
33RO20110828,   A10,    50,  1,      9,    009,2,20000101,0000,-29.9999, -10.2576, 3838,   1629.0,   2.9424,  34.7266,2,  34.7274,2,  34.8911,2,    197.9,2,    198.2,2,    52.82,2,    28.61,2,     0.00,2,     2.11,2,    0.091,2,    0.044,2,    0.188,3,   -999.0,9,   2324.0,2,   -999.0,9,  -999.00,   7.5923,2,    25.55,    0.000,2,   -999.0,9,   -999.0,9, -999.000,9,-999.0000,9,-999.0000,9,-999.0000,9,-999.0000,9, 27.684, 32.314, 36.840, 41.265, 45.589
33RO20110828,   A10,    50,  1,      8,    008,2,20000101,0000,-29.9999, -10.2576, 3838,   1828.6,   2.7872,  34.7769,2,  34.7788,2,  34.9428,2,    208.0,2,    208.2,2,    52.62,2,    27.14,2,     0.00,2,     1.98,2, -999.000,9, -999.000,9, -999.000,9,   -999.0,9,   2329.2,2,   -999.0,9,  -999.00,   7.6255,2,    25.56, -999.000,9,   -999.0,9,   -999.0,9, -999.000,9,-999.0000,9,-999.0000,9,-999.0000,9,-999.0000,9, 27.740, 32.374, 36.905, 41.333, 45.661
33RO20110828,   A10,    50,  1,      7,    007,2,20000101,0000,-29.9999, -10.2576, 3838,   2078.7,   2.6255,  34.8155,2,  34.8167,2,  34.9809,2,    219.2,2,    220.6,2,    52.52,2,    25.77,2,     0.00,2,     1.88,2,    0.020,2,    0.012,2,    0.093,3,   -999.0,9,   2332.0,2,   -999.0,9,  -999.00,   7.6402,2,    25.53,    0.000,2,   -999.0,9,   -999.0,9, -999.000,9,-999.0000,9,-999.0000,9,-999.0000,9,-999.0000,9, 27.786, 32.425, 36.960, 41.393, 45.725
33RO20110828,   A10,    50,  1,      6,    006,2,20000101,0000,-29.9999, -10.2576, 3838,   2329.7,   2.5141,  34.8383,2,  34.8398,2,  35.0041,2,    227.2,2,    226.2,2,    52.23,2,    24.80,2,     0.01,2,     1.80,2,    0.015,2,    0.008,2,    0.050,3,   -999.0,9,   2331.8,2,   -999.0,9,  -999.00,   7.6591,2,    25.50,    0.000,2,   -999.0,9,   -999.0,9, -999.000,9,-999.0000,9,-999.0000,9,-999.0000,9,-999.0000,9, 27.816, 32.458, 36.997, 41.432, 45.768
33RO20110828,   A10,    50,  1,      5,    005,2,20000101,0000,-29.9999, -10.2576, 3838,   2630.0,   2.4342,  34.8550,2,  34.8582,2,  35.0226,2,    233.9,2,    233.4,2,    51.35,2,    23.92,2,     0.00,2,     1.74,2,    0.006,2,    0.004,2,    0.045,3,   -999.0,9,   2333.4,2,   -999.0,9,  -999.00,   7.6678,2,    25.51,    0.000,2,   -999.0,9,   -999.0,9, -999.000,9,-999.0000,9,-999.0000,9,-999.0000,9,-999.0000,9, 27.839, 32.485, 37.026, 41.464, 45.802
33RO20110828,   A10,    50,  1,      4,    004,2,20000101,0000,-29.9999, -10.2576, 3838,   2927.6,   2.4012,  34.8621,2,  34.8663,2,  35.0307,2,    237.3,2,    236.8,2,    51.16,2,    23.53,2,     0.00,2,     1.72,2,    0.009,2,    0.006,2,    0.046,3,   -999.0,9,   2333.1,2,   -999.0,9,  -999.00,   7.6664,2,    25.51,    0.082,2,   -999.0,9,   -999.0,9, -999.000,9,-999.0000,9,-999.0000,9,-999.0000,9,-999.0000,9, 27.851, 32.498, 37.041, 41.481, 45.820
33RO20110828,   A10,    50,  1,      3,    003,2,20000101,0000,-29.9999, -10.2576, 3838,   3227.2,   2.3797,  34.8676,2,  34.8693,2,  35.0337,2,    238.6,2,    239.4,2,    51.64,2,    23.43,2,     0.01,2,     1.70,2,    0.005,2,    0.004,2,    0.041,3,   -999.0,9,   2339.2,2,   -999.0,9,  -999.00,   7.6793,2,    25.53,    0.069,2,   -999.0,9,   -999.0,9, -999.000,9,-999.0000,9,-999.0000,9,-999.0000,9,-999.0000,9, 27.857, 32.506, 37.050, 41.491, 45.832
33RO20110828,   A10,    50,  1,      2,    002,2,20000101,0000,-29.9999, -10.2576, 3838,   3541.6,   2.3834,  34.8718,2,  34.8738,2,  35.0382,2,    238.5,2,    237.9,2,    51.74,2,    23.33,2,     0.01,2,     1.69,2,    0.005,2,    0.004,2,    0.042,3,   -999.0,9,   2341.4,2,   -999.0,9,  -999.00,   7.6807,2,    25.32,    0.024,2,   -999.0,9,   -999.0,9, -999.000,9,-999.0000,9,-999.0000,9,-999.0000,9,-999.0000,9, 27.863, 32.513, 37.058, 41.500, 45.841
33RO20110828,   A10,    50,  1,      1,    001,2,20000101,0000,-29.9999, -10.2576, 3838,   3847.2,   2.4066,  34.8742,2,  34.8746,2,  35.0390,2,    236.0,2,    236.3,2,    51.94,2,    23.23,2,     0.01,2,     1.69,2,    0.005,2,    0.002,2,    0.044,3,   -999.0,9,   2343.6,2,   -999.0,9,  -999.00,   7.6911,2,    25.37,    0.063,2,   -999.0,9,   -999.0,9, -999.000,9,-999.0000,9,-999.0000,9,-999.0000,9,-999.0000,9, 27.865, 32.515, 37.060, 41.502, 45.844