BOTTLE,20130715NOAA
EXPOCODE,SECT_ID,STNNBR,CASTNO,SAMPNO,BTLNBR,BTLNBR_FLAG_W,DATE,TIME,LATITUDE,LONGITUDE,DEPTH,CTDPRS,CTDTMP,CTDSAL,CTDSAL_FLAG_W,SALNTY,SALNTY_FLAG_W,SALTREF,SALTREF_FLAG_W,CTDOXY,CTDOXY_FLAG_W,OXYGEN,OXYGEN_FLAG_W,SILCAT,SILCAT_FLAG_W,NITRAT,NITRAT_FLAG_W,NITRIT,NITRIT_FLAG_W,PHSPHT,PHSPHT_FLAG_W,CFC-11,CFC-11_FLAG_W,CFC-12,CFC-12_FLAG_W,CCL4,CCL4_FLAG_W,TCARBN,TCARBN_FLAG_W,ALKALI,ALKALI_FLAG_W,PCO2,PCO2_FLAG_W,PCO2TMP,PH_TOT,PH_TOT_FLAG_W,PH_TMP,SF6,SF6_FLAG_W,DOC,DOC_FLAG_W,TDN,TDN_FLAG_W,TRITUM,TRITUM_FLAG_W,HELIUM,HELIUM_FLAG_W,OXY_18,OXY_18_FLAG_W,BLACKC,BLACKC_FLAG_W,PIGMENTS,PIGMENTS_FLAG_W,SIGMA-THETA,SIGMA-1,SIGMA-2,SIGMA-3,SIGMA-4
,,,,,,,,,,,METERS,DBARS,ITS-90,PSS-78,,PSS-78,,G/KG,,UMOL/KG,,UMOL/KG,,UMOL/KG,,UMOL/KG,,UMOL/KG,,UMOL/KG,,PMOL/KG,,PMOL/KG,,PMOL/KG,,UMOL/KG,,UMOL/KG,,UATM@T,,DEG_C,,,DEG_C,FMOL/KG,,UMOL/KG,,UMOL/KG,,TU,,NMOL/KG,,,,,,,,,,,,
33RO20110828,   A10,    80,  1,     24,    024,2,20000101,0000,-29.9998, -31.3169, -999,      3.8,  18.2227,  36.0425,2,  36.0439,2,  36.2139,2,    235.7,2,    234.2,2,     0.97,2,     0.10,2,     0.00,2,     0.07,2, -999.000,9, -999.000,9, -999.000,9,   2081.3,6,   2357.8,2,   -999.0,9,  -999.00,   7.9455,2,    25.49, -999.000,9,   -999.0,9,   -999.0,9, -999.000,9,-999.0000,9,-999.0000,9,-999.0000,9,-999.0000,1, 26.017, 30.310, 34.509, 38.617, 42.635
33RO20110828,   A10,    80,  1,     23,    023,2,20000101,0000,-29.9998, -31.3169, -999,     24.4,  18.2213,  36.0424,2,  36.0426,2,  36.2125,2,    235.3,2,    234.5,2,     1.07,2,     0.10,2,     0.00,2,     0.08,2, -999.000,9, -999.000,9, -999.000,9,   2080.6,2,   2359.2,2,   -999.0,9,  -999.00,   7.9500,2,    25.53, -999.000,9,   -999.0,9,   -999.0,9, -999.000,9,-999.0000,9,-999.0000,9,-999.0000,9,-999.0000,9, 26.017, 30.310, 34.510, 38.617, 42.636
33RO20110828,   A10,    80,  1,     22,    022,2,20000101,0000,-29.9998, -31.3169, -999,     70.4,  17.6054,  35.9398,2,  35.9399,2,  36.1093,2,    228.3,2,    233.0,2,     1.07,2,     0.29,2,     0.03,2,     0.11,2, -999.000,9, -999.000,9, -999.000,9,   2082.9,2,   2352.2,2,   -999.0,9,  -999.00,   7.9217,2,    25.47, -999.000,9,   -999.0,9,   -999.0,9, -999.000,9,-999.0000,9,-999.0000,9,-999.0000,9,-999.0000,1, 26.092, 30.397, 34.607, 38.725, 42.753
33RO20110828,   A10,    80,  1,     21,    021,2,20000101,0000,-29.9998, -31.3169, -999,    140.3,  17.0925,  35.8764,2,  35.8749,2,  36.0440,2,    231.6,2,    231.7,2,     1.17,2,     0.78,2,     0.16,2,     0.15,2, -999.000,9, -999.000,9, -999.000,9,   2086.3,2,   2350.8,2,   -999.0,9,  -999.00,   7.9129,2,    25.53, -999.000,9,   -999.0,9,   -999.0,9, -999.000,9,-999.0000,9,-999.0000,9,-999.0000,9,-999.0000,1, 26.169, 30.483, 34.702, 38.829, 42.866
33RO20110828,   A10,    80,  1,     20,    020,2,20000101,0000,-29.9998, -31.3169, -999,    194.8,  15.5102,  35.5504,2,  35.5508,2,  35.7184,2,    218.2,2,    216.1,2,     1.85,2,     4.29,2,     0.01,2,     0.35,2, -999.000,9, -999.000,9, -999.000,9,   -999.0,9,   -999.0,5,   -999.0,9,  -999.00,   7.8709,2,    25.51, -999.000,9,   -999.0,9,   -999.0,9, -999.000,9,-999.0000,9,-999.0000,9,-999.0000,9,-999.0000,9, 26.290, 30.633, 34.881, 39.036, 43.100
33RO20110828,   A10,    80,  1,     19,    019,2,20000101,0000,-29.9998, -31.3169, -999,    239.5,  14.9095,  35.4678,2,  35.4685,2,  35.6358,2,    214.3,2,    212.8,2,     2.15,2,     5.75,2,     0.01,2,     0.42,2, -999.000,9, -999.000,9, -999.000,9,   2108.7,2,   2325.4,2,   -999.0,9,  -999.00,   7.8511,2,    25.62, -999.000,9,   -999.0,9,   -999.0,9, -999.000,9,-999.0000,9,-999.0000,9,-999.0000,9,-999.0000,9, 26.361, 30.716, 34.975, 39.140, 43.215
33RO20110828,   A10,    80,  1,     18,    018,2,20000101,0000,-29.9998, -31.3169, -999,    320.1,  13.5430,  35.2859,2,  35.2868,2,  35.4531,2,    213.1,2,    212.5,2,     2.93,2,     8.68,2,     0.01,2,     0.58,2, -999.000,9, -999.000,9, -999.000,9,   -999.0,9,   2315.5,2,   -999.0,9,  -999.00,   7.8152,2,    25.53, -999.000,9,   -999.0,9,   -999.0,9, -999.000,9,-999.0000,9,-999.0000,9,-999.0000,9,-999.0000,9, 26.514, 30.896, 35.181, 39.371, 43.470
33RO20110828,   A10,    80,  1,     17,    017,2,20000101,0000,-29.9998, -31.3169, -999,    386.6,  12.6421,  35.1704,2,  35.1760,2,  35.3419,2,    213.3,2,    213.9,2,     3.51,2,    10.73,2,     0.01,2,     0.68,2, -999.000,9, -999.000,9, -999.000,9,   2123.0,2,   2310.8,2,   -999.0,9,  -999.00,   7.7977,2,    25.58, -999.000,9,   -999.0,9,   -999.0,9, -999.000,9,-999.0000,9,-999.0000,9,-999.0000,9,-999.0000,9, 26.611, 31.012, 35.314, 39.522, 43.638
33RO20110828,   A10,    80,  1,     16,    016,2,20000101,0000,-29.9998, -31.3169, -999,    474.2,  11.2041,  34.9658,2,  34.9579,2,  35.1228,2,    208.2,2,    208.7,2,     5.46,2,    14.54,2,     0.01,2,     0.90,2, -999.000,9, -999.000,9, -999.000,9,   -999.0,9,   2299.2,2,   -999.0,9,  -999.00,   7.7474,2,    25.59, -999.000,9,   -999.0,9,   -999.0,9, -999.000,9,-999.0000,9,-999.0000,9,-999.0000,9,-999.0000,9, 26.717, 31.148, 35.480, 39.717, 43.860
33RO20110828,   A10,    80,  1,     15,    015,2,20000101,0000,-29.9998, -31.3169, -999,    575.8,   8.9670,  34.6760,2,  34.6757,2,  34.8392,2,    205.8,2,    205.8,2,     8.78,2,    20.11,2,     0.01,2,     1.20,2, -999.000,9, -999.000,9, -999.000,9,   2151.3,2,   2288.8,2,   -999.0,9,  -999.00,   7.6928,2,    25.59, -999.000,9,   -999.0,9,   -999.0,9, -999.000,9,-999.0000,9,-999.0000,9,-999.0000,9,-999.0000,9, 26.880, 31.361, 35.742, 40.026, 44.214
33RO20110828,   A10,    80,  1,     14,    014,2,20000101,0000,-29.9998, -31.3169, -999,    681.6,   6.7958,  34.4443,2,  34.4456,2,  34.6080,2,    211.9,2,    213.1,2,    13.28,2,    24.99,2,     0.00,2,     1.49,2, -999.000,9, -999.000,9, -999.000,9,   -999.0,9,   2281.8,2,   -999.0,9,  -999.00,   7.6506,2,    25.53, -999.000,9,   -999.0,9,   -999.0,9, -999.000,9,-999.0000,9,-999.0000,9,-999.0000,9,-999.0000,9, 27.019, 31.552, 35.983, 40.316, 44.552
33RO20110828,   A10,    80,  1,     13,    013,2,20000101,0000,-29.9998, -31.3169, -999,    815.0,   4.9854,  34.3011,2,  34.3022,2,  34.4639,2,    225.7,2,    225.8,2,    19.43,2,    28.02,2,     0.00,2,     1.70,2, -999.000,9, -999.000,9, -999.000,9,   2173.0,2,   2282.0,2,   -999.0,9,  -999.00,   7.6143,2,    25.56, -999.000,9,   -999.0,9,   -999.0,9, -999.000,9,-999.0000,9,-999.0000,9,-999.0000,9,-999.0000,9, 27.131, 31.710, 36.186, 40.562, 44.839
33RO20110828,   A10,    80,  1,     12,    012,2,20000101,0000,-29.9998, -31.3169, -999,    968.9,   3.9951,  34.2978,2,  34.2985,2,  34.4602,2,    218.8,2,    218.8,2,    29.29,2,    30.46,2,     0.00,2,     1.91,2, -999.000,9, -999.000,9, -999.000,9,   -999.0,9,   2289.9,2,   -999.0,9,  -999.00,   7.6022,2,    25.52, -999.000,9,   -999.0,9,   -999.0,9, -999.000,9,-999.0000,9,-999.0000,9,-999.0000,9,-999.0000,9, 27.236, 31.841, 36.342, 40.742, 45.042
33RO20110828,   A10,    80,  1,     11,    011,2,20000101,0000,-29.9998, -31.3169, -999,   1100.9,   3.4796,  34.3654,2,  34.3666,2,  34.5286,2,    203.1,2,    202.5,2,    40.90,2,    32.12,2,     0.01,2,     2.08,2, -999.000,9, -999.000,9, -999.000,9,   2210.1,2,   2301.9,2,   -999.0,9,  -999.00,   7.5742,2,    25.56, -999.000,9,   -999.0,9,   -999.0,9, -999.000,9,-999.0000,9,-999.0000,9,-999.0000,9,-999.0000,9, 27.342, 31.960, 36.474, 40.886, 45.199
33RO20110828,   A10,    80,  1,     10,    010,2,20000101,0000,-29.9998, -31.3169, -999,   1298.2,   3.1563,  34.4953,2,  34.4963,2,  34.6590,2,    187.7,2,    187.7,2,    51.83,2,    32.50,2,     0.00,2,     2.18,2, -999.000,9, -999.000,9, -999.000,9,   2227.6,2,   2313.9,2,   -999.0,9,  -999.00,   7.5658,2,    25.58, -999.000,9,   -999.0,9,   -999.0,9, -999.000,9,-999.0000,9,-999.0000,9,-999.0000,9,-999.0000,9, 27.477, 32.103, 36.625, 41.045, 45.365
33RO20110828,   A10,    80,  1,      9,    009,2,20000101,0000,-29.9998, -31.3169, -999,   1489.5,   2.9727,  34.6076,2,  34.6092,2,  34.7724,2,    188.9,2,    190.0,2,    55.05,2,    31.04,2,     0.00,2,     2.13,2,    0.271,2,    0.130,2,    0.571,3,   2229.1,2,   2320.6,2,   -999.0,9,  -999.00,   7.5724,2,    25.58,    0.000,2,   -999.0,9,   -999.0,9, -999.000,9,-999.0000,9,-999.0000,9,-999.0000,9,-999.0000,9, 27.585, 32.216, 36.742, 41.166, 45.490
33RO20110828,   A10,    80,  1,      8,    008,2,20000101,0000,-29.9998, -31.3169, -999,   1696.9,   2.8478,  34.7058,2,  34.7071,2,  34.8708,2,    198.9,2,    199.0,2,    53.97,2,    28.99,2,     0.00,2,     2.00,2, -999.000,9, -999.000,9, -999.000,9,   -999.0,9,   2330.8,3,   -999.0,9,  -999.00,   7.5979,2,    25.65, -999.000,9,   -999.0,9,   -999.0,9, -999.000,9,-999.0000,9,-999.0000,9,-999.0000,9,-999.0000,9, 27.676, 32.309, 36.839, 41.266, 45.592
33RO20110828,   A10,    80,  1,      7,    007,2,20000101,0000,-29.9998, -31.3169, -999,   1951.8,   2.7815,  34.7822,2,  34.7836,2,  34.9476,2,    213.9,2,    213.7,2,    50.36,2,    26.64,2,     0.00,2,     1.83,2,    0.037,2,    0.019,2,    0.159,3,   2211.7,2,   2321.6,3,   -999.0,9,  -999.00,   7.6233,2,    25.65,    0.000,2,   -999.0,9,   -999.0,9, -999.000,9,-999.0000,9,-999.0000,9,-999.0000,9,-999.0000,9, 27.745, 32.380, 36.911, 41.340, 45.668
33RO20110828,   A10,    80,  1,      6,    006,2,20000101,0000,-29.9998, -31.3169, -999,   2201.1,   2.7710,  34.8413,2,  34.8425,6,  35.0068,6,    228.4,2,    228.7,2,    44.40,2,    24.40,2,     0.00,2,     1.66,2, -999.000,9, -999.000,9, -999.000,9,   -999.0,9,   2324.6,2,   -999.0,9,  -999.00,   7.6552,2,    25.62, -999.000,9,   -999.0,9,   -999.0,9, -999.000,9,-999.0000,9,-999.0000,9,-999.0000,9,-999.0000,9, 27.794, 32.429, 36.961, 41.390, 45.718
33RO20110828,   A10,    80,  1,      5,    005,2,20000101,0000,-29.9998, -31.3169, -999,   2502.6,   2.7739,  34.8778,2,  34.8797,2,  35.0441,2,    239.8,2,    239.5,2,    39.62,2,    22.74,2,     0.00,2,     1.53,2,    0.013,2,    0.009,2,    0.102,3,   -999.0,9,   2322.6,2,   -999.0,9,  -999.00,   7.6784,2,    25.55,    0.000,2,   -999.0,9,   -999.0,9, -999.000,9,-999.0000,9,-999.0000,9,-999.0000,9,-999.0000,9, 27.827, 32.463, 36.994, 41.424, 45.753
33RO20110828,   A10,    80,  1,      4,    004,2,20000101,0000,-29.9998, -31.3169, -999,   2804.1,   2.7296,  34.8943,2,  34.8953,2,  35.0598,2,    244.9,2,    244.5,2,    38.15,2,    21.96,2,     0.00,2,     1.47,2,    0.016,2,    0.010,2,    0.118,3,   2187.7,2,   2325.1,2,   -999.0,9,  -999.00,   7.6894,2,    25.57,    0.000,2,   -999.0,9,   -999.0,9, -999.000,9,-999.0000,9,-999.0000,9,-999.0000,9,-999.0000,9, 27.846, 32.484, 37.017, 41.448, 45.779
33RO20110828,   A10,    80,  1,      3,    003,2,20000101,0000,-29.9998, -31.3169, -999,   3096.8,   2.5434,  34.8893,2,  34.8900,2,  35.0545,2,    246.2,2,    246.8,2,    42.35,2,    22.15,2,     0.00,2,     1.51,2,    0.060,2,    0.013,2,    0.132,3,   -999.0,9,   2326.1,2,   -999.0,9,  -999.00,   7.6835,2,    25.50,    0.000,2,   -999.0,9,   -999.0,9, -999.000,9,-999.0000,9,-999.0000,9,-999.0000,9,-999.0000,9, 27.860, 32.503, 37.042, 41.479, 45.815
33RO20110828,   A10,    80,  1,      2,    002,2,20000101,0000,-29.9998, -31.3169, -999,   3600.8,   1.9303,  34.8280,2,  34.8286,2,  34.9929,2,    235.7,2,    236.5,2,    66.94,2,    25.18,2,     0.00,2,     1.86,2,    0.046,2,    0.024,2,    0.176,3,   -999.0,9,   2338.2,2,   -999.0,9,  -999.00,   7.6522,2,    25.58,    0.040,2,   -999.0,9,   -999.0,9, -999.000,9,-999.0000,9,-999.0000,9,-999.0000,9,-999.0000,9, 27.862, 32.524, 37.082, 41.536, 45.889
33RO20110828,   A10,    80,  1,      1,    001,2,20000101,0000,-29.9998, -31.3169, -999,   4119.1,   1.2854,  34.7585,2,  34.7611,2,  34.9250,2,    224.9,2,    224.4,2,    94.37,2,    28.69,2,     0.00,2,     2.28,2,    0.114,2,    0.056,2,    0.273,3,   2240.6,2,   2353.8,2,   -999.0,9,  -999.00,   7.6277,2,    25.59,    0.013,2,   -999.0,9,   -999.0,9, -999.000,9,-999.0000,9,-999.0000,9,-999.0000,9,-999.0000,9, 27.856, 32.538, 37.115, 41.589, 45.960