BOTTLE,20130715NOAA
EXPOCODE,SECT_ID,STNNBR,CASTNO,SAMPNO,BTLNBR,BTLNBR_FLAG_W,DATE,TIME,LATITUDE,LONGITUDE,DEPTH,CTDPRS,CTDTMP,CTDSAL,CTDSAL_FLAG_W,SALNTY,SALNTY_FLAG_W,SALTREF,SALTREF_FLAG_W,CTDOXY,CTDOXY_FLAG_W,OXYGEN,OXYGEN_FLAG_W,SILCAT,SILCAT_FLAG_W,NITRAT,NITRAT_FLAG_W,NITRIT,NITRIT_FLAG_W,PHSPHT,PHSPHT_FLAG_W,CFC-11,CFC-11_FLAG_W,CFC-12,CFC-12_FLAG_W,CCL4,CCL4_FLAG_W,TCARBN,TCARBN_FLAG_W,ALKALI,ALKALI_FLAG_W,PCO2,PCO2_FLAG_W,PCO2TMP,PH_TOT,PH_TOT_FLAG_W,PH_TMP,SF6,SF6_FLAG_W,DOC,DOC_FLAG_W,TDN,TDN_FLAG_W,TRITUM,TRITUM_FLAG_W,HELIUM,HELIUM_FLAG_W,OXY_18,OXY_18_FLAG_W,BLACKC,BLACKC_FLAG_W,PIGMENTS,PIGMENTS_FLAG_W,SIGMA-THETA,SIGMA-1,SIGMA-2,SIGMA-3,SIGMA-4
,,,,,,,,,,,METERS,DBARS,ITS-90,PSS-78,,PSS-78,,G/KG,,UMOL/KG,,UMOL/KG,,UMOL/KG,,UMOL/KG,,UMOL/KG,,UMOL/KG,,PMOL/KG,,PMOL/KG,,PMOL/KG,,UMOL/KG,,UMOL/KG,,UATM@T,,DEG_C,,,DEG_C,FMOL/KG,,UMOL/KG,,UMOL/KG,,TU,,NMOL/KG,,,,,,,,,,,,
33RO20110828,   A10,   105,  1,     24,    024,2,20000101,0000,-29.1886, -42.5333, 4068,      6.2,  20.5948,  36.6387,2,  36.6378,2,  36.8105,2,    223.4,2,    223.0,2,     0.88,2,     0.00,2,     0.00,2,     0.05,2,    2.022,2,    1.252,2,    4.611,3,   2086.1,6,   2401.6,2,   -999.0,9,  -999.00,   7.9725,2,    25.58,    1.341,2,   -999.0,1,   -999.0,1, -999.000,9,-999.0000,9,-999.0000,9,-999.0000,9,-999.0000,1, 25.852, 30.105, 34.264, 38.333, 42.315
33RO20110828,   A10,   105,  1,     23,    023,2,20000101,0000,-29.1886, -42.5333, 4068,     34.6,  19.8376,  36.4058,2,  36.4028,2,  36.5744,2,    226.0,2,    227.1,2,     0.78,2,     0.00,2,     0.00,2,     0.05,2,    2.118,2,    1.303,2,    4.113,3,   2082.2,2,   2389.1,2,   -999.0,9,  -999.00,   7.9557,2,    25.58,    1.356,2,   -999.0,1,   -999.0,1, -999.000,9,-999.0000,9,-999.0000,9,-999.0000,9,-999.0000,9, 25.877, 30.143, 34.315, 38.396, 42.390
33RO20110828,   A10,   105,  1,     22,    022,2,20000101,0000,-29.1886, -42.5333, 4068,     70.5,  19.2153,  36.3165,2,  36.3174,2,  36.4887,2,    228.3,2,    229.2,2,     0.78,2,     0.00,2,     0.01,2,     0.06,2,    2.164,2,    1.323,2,    4.745,3,   2080.8,2,   2381.9,2,   -999.0,9,  -999.00,   7.9504,2,    25.64,    1.344,2,   -999.0,1,   -999.0,1, -999.000,9,-999.0000,9,-999.0000,9,-999.0000,9,-999.0000,1, 25.976, 30.252, 34.435, 38.526, 42.529
33RO20110828,   A10,   105,  1,     21,    021,2,20000101,0000,-29.1886, -42.5333, 4068,    104.2,  18.4821,  36.1972,2,  36.1992,2,  36.3699,2,    222.5,2,    222.2,2,     0.88,2,     0.88,2,     0.07,2,     0.11,2,    2.232,2,    1.358,2,    3.700,3,   2086.0,2,   2362.9,3,   -999.0,9,  -999.00,   7.9399,2,    25.62,    1.392,2,   -999.0,1,   -999.0,1, -999.000,9,-999.0000,9,-999.0000,9,-999.0000,9,-999.0000,1, 26.075, 30.363, 34.558, 38.661, 42.675
33RO20110828,   A10,   105,  1,     20,    020,2,20000101,0000,-29.1886, -42.5333, 4068,    154.2,  16.8747,  35.8641,2,  35.8668,2,  36.0360,2,    225.2,2,    222.8,2,     1.27,2,     1.95,2,     0.03,2,     0.17,2,    2.422,2,    1.459,2,    3.355,3,   2092.8,2,   2353.4,3,   -999.0,9,  -999.00,   7.9104,2,    25.70,    1.455,2,   -999.0,1,   -999.0,1, -999.000,9,-999.0000,9,-999.0000,9,-999.0000,9,-999.0000,9, 26.216, 30.533, 34.756, 38.886, 42.926
33RO20110828,   A10,   105,  1,     19,    019,2,20000101,0000,-29.1886, -42.5333, 4068,    225.8,  15.7104,  35.6420,2,  35.6441,2,  35.8122,2,    207.2,2,    208.0,2,     2.05,2,     5.07,2,     0.01,2,     0.35,2,    2.595,2,    1.532,2,    1.514,3,   2109.6,2,   2342.6,2,   -999.0,9,  -999.00,   7.8709,2,    25.68,    1.296,2,   -999.0,1,   -999.0,1, -999.000,9,-999.0000,9,-999.0000,9,-999.0000,9,-999.0000,9, 26.318, 30.657, 34.901, 39.051, 43.112
33RO20110828,   A10,   105,  1,     18,    018,2,20000101,0000,-29.1886, -42.5333, 4068,    278.4,  14.6549,  35.4825,2,  35.4863,2,  35.6536,2,    208.8,2,    208.6,2,     2.54,2,     7.02,2,     0.01,2,     0.45,2,    2.733,2,    1.591,2,    1.243,3,   2115.8,2,   2334.8,2,   -999.0,9,  -999.00,   7.8412,2,    25.62,    1.260,2,   -999.0,1,   -999.0,1, -999.000,9,-999.0000,9,-999.0000,9,-999.0000,9,-999.0000,9, 26.432, 30.791, 35.055, 39.224, 43.303
33RO20110828,   A10,   105,  1,     17,    017,2,20000101,0000,-29.1886, -42.5333, 4068,    350.9,  13.9296,  35.4248,2,  35.4270,2,  35.5941,2,    212.9,2,    213.1,2,     2.83,2,     8.39,2,     0.01,2,     0.51,2,    2.804,2,    1.633,2,    1.245,3,   2120.7,2,   2331.7,2,   -999.0,9,  -999.00,   7.8303,2,    25.67,    1.326,2,   -999.0,1,   -999.0,1, -999.000,9,-999.0000,9,-999.0000,9,-999.0000,9,-999.0000,9, 26.543, 30.917, 35.194, 39.377, 43.468
33RO20110828,   A10,   105,  1,     16,    016,2,20000101,0000,-29.1886, -42.5333, 4068,    450.0,  11.9268,  35.0896,2,  35.0911,2,  35.2565,2,    210.3,2,    209.6,2,     4.49,2,    12.98,2,     0.01,2,     0.74,2,    3.018,2,    1.690,2,    1.314,3,   2130.4,2,   2313.4,2,   -999.0,9,  -999.00,-999.0000,5,  -999.00,    1.157,2,   -999.0,1,   -999.0,1, -999.000,9,-999.0000,9,-999.0000,9,-999.0000,9,-999.0000,9, 26.685, 31.101, 35.418, 39.640, 43.769
33RO20110828,   A10,   105,  1,     15,    015,2,20000101,0000,-29.1886, -42.5333, 4068,    549.5,   9.5269,  34.7433,2,  34.7425,2,  34.9063,2,    205.0,2,    206.9,2,     7.61,2,    18.74,2,     0.01,2,     1.03,2,    3.181,2,    1.700,2,    2.055,3,   2146.3,2,   2296.8,2,   -999.0,9,  -999.00,   7.7150,2,    25.60,    0.960,2,   -999.0,1,   -999.0,1, -999.000,9,-999.0000,9,-999.0000,9,-999.0000,9,-999.0000,9, 26.841, 31.309, 35.678, 39.950, 44.127
33RO20110828,   A10,   105,  1,     14,    014,2,20000101,0000,-29.1886, -42.5333, 4068,    650.9,   7.1235,  34.4573,2,  34.4710,2,  34.6336,2,    220.9,2,    220.3,2,    10.93,2,    23.43,2,     0.01,2,     1.28,2,    3.377,2,    1.764,2,    3.464,3,   2156.3,2,   2287.3,2,   -999.0,9,  -999.00,   7.6677,2,    25.64,    0.955,2,   -999.0,1,   -999.0,1, -999.000,9,-999.0000,9,-999.0000,9,-999.0000,9,-999.0000,9, 26.994, 31.519, 35.943, 40.268, 44.496
33RO20110828,   A10,   105,  1,     13,    013,2,20000101,0000,-29.1886, -42.5333, 4068,    749.6,   5.5721,  34.3065,2,  34.3110,2,  34.4728,2,    234.5,2,    235.1,2,    14.16,2,    25.87,2,     0.00,2,     1.43,2,    3.514,2,    1.823,2,    4.674,3,   2160.2,2,   2283.0,2,   -999.0,9,  -999.00,   7.6450,2,    25.54,    1.029,2,   -999.0,1,   -999.0,1, -999.000,9,-999.0000,9,-999.0000,9,-999.0000,9,-999.0000,9, 27.069, 31.633, 36.095, 40.456, 44.720
33RO20110828,   A10,   105,  1,     12,    012,2,20000101,0000,-29.1886, -42.5333, 4068,    900.4,   4.3945,  34.2689,2,  34.2713,2,  34.4329,2,    229.7,2,    230.2,2,    22.75,2,    28.90,2,     0.00,2,     1.67,2,    2.964,2,    1.496,2,    4.572,3,   2176.0,2,   2288.8,2,   -999.0,9,  -999.00,   7.6158,2,    25.65,    0.694,2,   -999.0,1,   -999.0,1, -999.000,9,-999.0000,9,-999.0000,9,-999.0000,9,-999.0000,9, 27.172, 31.767, 36.258, 40.648, 44.940
33RO20110828,   A10,   105,  1,     11,    011,2,20000101,0000,-29.1886, -42.5333, 4068,   1073.5,   3.6611,  34.3389,2,  34.3460,2,  34.5080,2,    208.5,2,    207.7,2,    36.81,2,    31.54,2,     0.00,2,     1.94,2,    1.748,2,    0.856,2,    3.219,3,   2202.8,2,   2302.4,2,   -999.0,9,  -999.00,   7.5868,2,    25.63,    0.290,2,   -999.0,1,   -999.0,1, -999.000,9,-999.0000,9,-999.0000,9,-999.0000,9,-999.0000,9, 27.308, 31.921, 36.431, 40.839, 45.147
33RO20110828,   A10,   105,  1,     10,    010,2,20000101,0000,-29.1886, -42.5333, 4068,   1274.6,   3.1883,  34.4612,2,  34.4638,2,  34.6263,2,    191.6,2,    191.1,2,    49.89,2,    32.51,2,     0.00,2,     2.11,2,    0.758,2,    0.369,2,    1.798,3,   2223.3,2,   2316.1,2,   -999.0,9,  -999.00,   7.5707,2,    25.57,    0.101,2,   -999.0,1,   -999.0,1, -999.000,9,-999.0000,9,-999.0000,9,-999.0000,9,-999.0000,9, 27.448, 32.073, 36.595, 41.014, 45.333
33RO20110828,   A10,   105,  1,      9,    009,2,20000101,0000,-29.1886, -42.5333, 4068,   1476.5,   3.1107,  34.6167,2,  34.6211,2,  34.7844,2,    190.5,2,    190.5,2,    52.03,2,    30.85,2,     0.00,2,     2.04,2,    0.249,2,    0.121,2,    0.881,3,   2223.2,6,   2323.7,2,   -999.0,9,  -999.00,   7.5715,2,    25.65,    0.039,2,   -999.0,1,   -999.0,1, -999.000,9,-999.0000,9,-999.0000,9,-999.0000,9,-999.0000,9, 27.582, 32.209, 36.731, 41.152, 45.472
33RO20110828,   A10,   105,  1,      8,    008,2,20000101,0000,-29.1886, -42.5333, 4068,   1649.3,   3.2829,  34.7506,2,  34.7532,2,  34.9171,2,    202.5,2,    203.2,2,    44.70,2,    27.53,2,     0.00,2,     1.81,2,    0.129,2,    0.066,2,    0.465,3,   2211.6,2,   2325.3,2,   -999.0,9,  -999.00,   7.6149,2,    25.58,    0.054,2,   -999.0,1,   -999.0,1, -999.000,9,-999.0000,9,-999.0000,9,-999.0000,9,-999.0000,9, 27.673, 32.294, 36.812, 41.227, 45.543
33RO20110828,   A10,   105,  1,      7,    007,2,20000101,0000,-29.1886, -42.5333, 4068,   1925.2,   3.5487,  34.9037,2,  34.9076,2,  35.0722,2,    232.4,2,    232.6,2,    28.89,2,    22.35,2,     0.00,2,     1.38,2,    0.182,2,    0.092,2,    0.672,3,   2183.2,2,   2319.5,2,   -999.0,9,  -999.00,   7.6739,2,    25.47,    0.036,2,   -999.0,1,   -999.0,1, -999.000,9,-999.0000,9,-999.0000,9,-999.0000,9,-999.0000,9, 27.774, 32.387, 36.897, 41.306, 45.615
33RO20110828,   A10,   105,  1,      6,    006,2,20000101,0000,-29.1886, -42.5333, 4068,   2173.6,   3.3847,  34.9290,2,  34.9313,6,  35.0960,6,    243.9,2,    244.8,2,    26.84,2,    20.98,2,     0.00,2,     1.29,2,    0.187,2,    0.096,2,    0.640,3,   2176.1,2,   2318.2,2,   -999.0,9,  -999.00,   7.6960,2,    25.55,    0.078,2,   -999.0,1,   -999.0,1, -999.000,9,-999.0000,9,-999.0000,9,-999.0000,9,-999.0000,9, 27.809, 32.427, 36.942, 41.355, 45.668
33RO20110828,   A10,   105,  1,      5,    005,2,20000101,0000,-29.1886, -42.5333, 4068,   2450.6,   3.2012,  34.9353,2,  34.9369,2,  35.1017,2,    249.4,2,    249.0,2,    27.13,2,    20.40,2,     0.00,2,     1.27,2,    0.158,2,    0.080,2,    0.618,3,   2173.1,2,   2297.2,4,   -999.0,9,  -999.00,   7.6953,2,    25.54,    0.047,2,   -999.0,1,   -999.0,1, -999.000,9,-999.0000,9,-999.0000,9,-999.0000,9,-999.0000,9, 27.835, 32.458, 36.978, 41.396, 45.715
33RO20110828,   A10,   105,  1,      4,    004,2,20000101,0000,-29.1886, -42.5333, 4068,   2800.7,   2.9703,  34.9281,2,  34.9350,2,  35.0997,2,    251.2,2,    250.5,2,    30.06,2,    20.49,2,     0.00,2,     1.28,2,    0.110,2,    0.057,2,    0.479,3,   2176.0,2,   2325.2,2,   -999.0,9,  -999.00,   7.7070,2,    25.53,    0.025,2,   -999.0,1,   -999.0,1, -999.000,9,-999.0000,9,-999.0000,9,-999.0000,9,-999.0000,9, 27.857, 32.488, 37.015, 41.439, 45.764
33RO20110828,   A10,   105,  1,      3,    003,2,20000101,0000,-29.1886, -42.5333, 4068,   3198.9,   2.6851,  34.9109,2,  34.9124,2,  35.0770,2,    251.4,2,    251.9,2,    36.01,2,    20.89,2,     0.00,2,     1.37,2,    0.080,2,    0.042,2,    0.408,3,   2180.7,2,   2328.2,2,   -999.0,9,  -999.00,   7.7008,2,    25.52,    0.000,2,   -999.0,1,   -999.0,1, -999.000,9,-999.0000,9,-999.0000,9,-999.0000,9,-999.0000,9, 27.867, 32.507, 37.042, 41.475, 45.808
33RO20110828,   A10,   105,  1,      2,    002,2,20000101,0000,-29.1886, -42.5333, 4068,   3629.6,   1.3742,  34.7801,2,  34.7832,2,  34.9472,2,    231.5,2,    231.7,2,    86.09,2,    27.43,2,     0.00,2,     2.20,2,    0.110,2,    0.053,2,    0.356,3,   2227.4,2,   2351.8,2,   -999.0,9,  -999.00,   7.6442,2,    25.48,    0.098,2,   -999.0,1,   -999.0,1, -999.000,9,-999.0000,9,-999.0000,9,-999.0000,9,-999.0000,9, 27.865, 32.543, 37.116, 41.585, 45.952
33RO20110828,   A10,   105,  1,      1,    001,2,20000101,0000,-29.1886, -42.5333, 4068,   4060.3,   0.5500,  34.6962,2,  34.6984,2,  34.8620,2,    219.6,2,    219.6,2,   118.69,2,    31.53,2,     0.00,2,     2.76,2,    0.279,2,    0.133,2,    0.600,3,   2259.4,6,   2366.1,2,   -999.0,9,  -999.00,   7.5905,2,    25.37,    0.047,2,   -999.0,1,   -999.0,1, -999.000,9,-999.0000,9,-999.0000,9,-999.0000,9,-999.0000,9, 27.849, 32.552, 37.150, 41.643, 46.034