BOTTLE,20130715NOAA
EXPOCODE,SECT_ID,STNNBR,CASTNO,SAMPNO,BTLNBR,BTLNBR_FLAG_W,DATE,TIME,LATITUDE,LONGITUDE,DEPTH,CTDPRS,CTDTMP,CTDSAL,CTDSAL_FLAG_W,SALNTY,SALNTY_FLAG_W,SALTREF,SALTREF_FLAG_W,CTDOXY,CTDOXY_FLAG_W,OXYGEN,OXYGEN_FLAG_W,SILCAT,SILCAT_FLAG_W,NITRAT,NITRAT_FLAG_W,NITRIT,NITRIT_FLAG_W,PHSPHT,PHSPHT_FLAG_W,CFC-11,CFC-11_FLAG_W,CFC-12,CFC-12_FLAG_W,CCL4,CCL4_FLAG_W,TCARBN,TCARBN_FLAG_W,ALKALI,ALKALI_FLAG_W,PCO2,PCO2_FLAG_W,PCO2TMP,PH_TOT,PH_TOT_FLAG_W,PH_TMP,SF6,SF6_FLAG_W,DOC,DOC_FLAG_W,TDN,TDN_FLAG_W,TRITUM,TRITUM_FLAG_W,HELIUM,HELIUM_FLAG_W,OXY_18,OXY_18_FLAG_W,BLACKC,BLACKC_FLAG_W,PIGMENTS,PIGMENTS_FLAG_W,SIGMA-THETA,SIGMA-1,SIGMA-2,SIGMA-3,SIGMA-4
,,,,,,,,,,,METERS,DBARS,ITS-90,PSS-78,,PSS-78,,G/KG,,UMOL/KG,,UMOL/KG,,UMOL/KG,,UMOL/KG,,UMOL/KG,,UMOL/KG,,PMOL/KG,,PMOL/KG,,PMOL/KG,,UMOL/KG,,UMOL/KG,,UATM@T,,DEG_C,,,DEG_C,FMOL/KG,,UMOL/KG,,UMOL/KG,,TU,,NMOL/KG,,,,,,,,,,,,
33RO20110828,   A10,     4,  1,     24,    024,2,20000101,0000,-28.9169,  13.9675, 1738,      4.2,  15.7642,  35.3189,2,  35.3208,2,  35.4873,2,    253.2,2,    252.2,2,     3.32,2,     2.63,2,     0.18,2,     0.39,2,    2.634,2,    1.570,2,    3.235,2,   2075.4,6,   2327.0,2,   -999.0,9,  -999.00,   7.9226,2,    25.37,    1.530,2,   -999.0,9,   -999.0,9, -999.000,1,-999.0000,1,-999.0000,1,-999.0000,9,-999.0000,1, 26.048, 30.389, 34.633, 38.784, 42.845
33RO20110828,   A10,     4,  1,     23,    023,2,20000101,0000,-28.9169,  13.9675, 1738,     34.5,  15.4849,  35.3070,2,  35.3084,2,  35.4749,2,    252.9,2,    253.1,2,     3.61,2,     2.93,2,     0.21,2,     0.41,2,    2.654,2,    1.580,2,    3.143,2,   2076.8,2,   2325.4,2,   -999.0,9,  -999.00,   7.9126,2,    25.03,    1.572,2,   -999.0,9,   -999.0,9, -999.000,1,-999.0000,1,-999.0000,1,-999.0000,9,-999.0000,1, 26.103, 30.448, 34.698, 38.854, 42.919
33RO20110828,   A10,     4,  1,     22,    022,2,20000101,0000,-28.9169,  13.9675, 1738,     62.6,  15.2677,  35.3187,2,  35.3362,2,  35.5028,2,    239.8,2,    241.9,2,     3.12,2,     3.61,2,     0.40,2,     0.48,2,    2.656,2,    1.577,2,    3.061,2,   2086.1,2,   2325.7,2,   -999.0,9,  -999.00,   7.8979,2,    24.80,    1.533,2,   -999.0,9,   -999.0,9, -999.000,1,-999.0000,1,-999.0000,1,-999.0000,9,-999.0000,1, 26.174, 30.523, 34.776, 38.936, 43.005
33RO20110828,   A10,     4,  1,     21,    021,2,20000101,0000,-28.9169,  13.9675, 1738,     83.9,  14.9657,  35.3888,2,  35.3901,2,  35.5570,2,    226.4,2,    226.8,2,     3.71,2,     5.46,2,     0.04,2,     0.54,2,    2.634,2,    1.561,2,    1.753,2,   2097.1,2,   2325.6,2,   -999.0,9,  -999.00,   7.8816,2,    24.99,    1.457,2,   -999.0,9,   -999.0,9, -999.000,1,-999.0000,1,-999.0000,1,-999.0000,9,-999.0000,9, 26.283, 30.637, 34.895, 39.060, 43.133
33RO20110828,   A10,     4,  1,     20,    020,2,20000101,0000,-28.9169,  13.9675, 1738,    108.3,  13.8956,  35.2022,2,  35.1959,2,  35.3619,2,    212.7,2,    205.7,2,     4.59,2,     9.85,2,     0.03,2,     0.87,2,    2.793,2,    1.641,2,    1.394,2,   2122.3,2,   2314.9,2,   -999.0,9,  -999.00,   7.8121,2,    25.00,    1.442,2,   -999.0,9,   -999.0,9, -999.000,1,-999.0000,1,-999.0000,1,-999.0000,9,-999.0000,9, 26.364, 30.739, 35.018, 39.202, 43.295
33RO20110828,   A10,     4,  1,     19,    019,2,20000101,0000,-28.9169,  13.9675, 1738,    126.9,  12.9962,  35.1067,2,  35.1146,2,  35.2802,2,    193.6,2,    195.6,2,     5.17,2,    11.71,2,     0.03,2,     1.00,2,    2.891,2,    1.678,2,    1.074,2,   2135.8,2,   -999.0,9,   -999.0,9,  -999.00,-999.0000,9,  -999.00,    1.385,2,   -999.0,9,   -999.0,9, -999.000,1,-999.0000,1,-999.0000,1,-999.0000,9,-999.0000,9, 26.486, 30.879, 35.175, 39.376, 43.485
33RO20110828,   A10,     4,  1,     18,    018,2,20000101,0000,-28.9169,  13.9675, 1738,    149.5,  12.5565,  35.0930,2,  35.0961,2,  35.2616,2,    218.5,2,    217.5,2,     4.00,2,    10.15,2,     0.03,2,     0.85,2,    2.989,2,    1.726,2,    1.140,2,   2119.4,2,   2311.3,2,   -999.0,9,  -999.00,   7.8110,3,    25.20,    1.346,2,   -999.0,9,   -999.0,9, -999.000,1,-999.0000,1,-999.0000,1,-999.0000,9,-999.0000,9, 26.560, 30.962, 35.266, 39.475, 43.592
33RO20110828,   A10,     4,  1,     17,    017,2,20000101,0000,-28.9169,  13.9675, 1738,    188.9,  11.6394,  34.9802,2,  34.9831,2,  35.1481,2,    199.2,2,    200.9,2,     5.95,2,    14.34,2,     0.02,2,     1.13,2,    3.059,2,    1.719,2,    1.163,2,   2138.6,2,   2301.8,2,   -999.0,9,  -999.00,   7.7577,2,    25.21,    1.248,2,   -999.0,9,   -999.0,9, -999.000,1,-999.0000,1,-999.0000,1,-999.0000,9,-999.0000,9, 26.649, 31.070, 35.393, 39.621, 43.755
33RO20110828,   A10,     4,  1,     16,    016,2,20000101,0000,-28.9169,  13.9675, 1738,    229.4,  10.7172,  34.8866,2,  34.8885,2,  35.0530,2,    160.4,2,    162.1,2,    10.64,2,    19.81,2,     0.02,2,     1.56,2,    2.871,2,    1.604,2,    1.144,2,   2171.2,2,   2299.9,2,   -999.0,9,  -999.00,   7.6683,2,    25.22,    1.071,2,   -999.0,9,   -999.0,9, -999.000,1,-999.0000,1,-999.0000,1,-999.0000,9,-999.0000,9, 26.745, 31.186, 35.528, 39.774, 43.926
33RO20110828,   A10,     4,  1,     15,    015,2,20000101,0000,-28.9169,  13.9675, 1738,    279.7,  10.1217,  34.8274,2,  34.8297,2,  34.9939,2,    145.6,2,    148.2,2,    12.49,2,    22.25,2,     0.03,2,     1.72,2,    2.778,2,    1.521,2,    1.072,2,   2184.3,2,   2295.3,2,   -999.0,9,  -999.00,   7.6271,2,    25.22,    0.895,2,   -999.0,9,   -999.0,9, -999.000,1,-999.0000,1,-999.0000,1,-999.0000,9,-999.0000,9, 26.804, 31.258, 35.613, 39.871, 44.036
33RO20110828,   A10,     4,  1,     14,    014,2,20000101,0000,-28.9169,  13.9675, 1738,    325.3,   9.3215,  34.7394,2,  34.7429,2,  34.9067,2,    138.1,2,    143.1,2,    16.10,2,    24.60,2,     0.01,2,     1.88,2,    2.698,2,    1.469,2,    1.324,2,   2194.8,2,   2292.9,2,   -999.0,9,  -999.00,   7.6031,2,    25.23,    0.867,2,   -999.0,9,   -999.0,9, -999.000,1,-999.0000,1,-999.0000,1,-999.0000,9,-999.0000,9, 26.871, 31.343, 35.715, 39.991, 44.171
33RO20110828,   A10,     4,  1,     13,    013,2,20000101,0000,-28.9169,  13.9675, 1738,    373.9,   8.8121,  34.6926,2,  34.6954,2,  34.8590,2,    131.3,2,    133.8,2,    17.96,2,    26.65,2,     0.02,2,     2.03,2,    2.523,2,    1.353,2,    1.179,2,   2203.1,2,   2292.8,2,   -999.0,9,  -999.00,-999.0000,9,  -999.00,    0.804,2,   -999.0,9,   -999.0,9, -999.000,1,-999.0000,1,-999.0000,1,-999.0000,9,-999.0000,9, 26.916, 31.400, 35.784, 40.070, 44.261
33RO20110828,   A10,     4,  1,     12,    012,2,20000101,0000,-28.9169,  13.9675, 1738,    423.0,   8.5057,  34.6723,2,  34.6727,2,  34.8362,2,    124.8,2,    117.0,2,    20.69,2,    28.79,2,     0.01,2,     2.21,2,    2.284,2,    1.217,2,    1.169,2,   2215.8,2,   -999.0,9,   -999.0,9,  -999.00,   7.5430,2,    25.24,    0.673,2,   -999.0,9,   -999.0,9, -999.000,1,-999.0000,1,-999.0000,1,-999.0000,9,-999.0000,9, 26.947, 31.438, 35.829, 40.122, 44.320
33RO20110828,   A10,     4,  1,     11,    011,2,20000101,0000,-28.9169,  13.9675, 1738,    489.2,   7.6111,  34.6149,2,  34.6171,2,  34.7803,2,     99.5,2,    102.4,2,    20.50,2,    32.90,2,     0.01,2,     2.40,2,    1.623,2,    0.829,2,    0.921,2,   2230.2,4,   2291.9,2,   -999.0,9,  -999.00,   7.4908,2,    25.33,    0.366,2,   -999.0,9,   -999.0,9, -999.000,9,-999.0000,1,-999.0000,9,-999.0000,9,-999.0000,9, 27.037, 31.550, 35.961, 40.274, 44.491
33RO20110828,   A10,     4,  1,     10,    010,2,20000101,0000,-28.9169,  13.9675, 1738,    578.0,   6.1310,  34.4925,2,  34.4938,2,  34.6564,2,    135.2,2,    131.2,2,    24.50,2,    34.56,2,     0.01,2,     2.44,2,    1.399,2,    0.703,2,    1.079,2,   2222.5,2,   2292.1,2,   -999.0,9,  -999.00,-999.0000,9,  -999.00,    0.308,2,   -999.0,9,   -999.0,9, -999.000,9,-999.0000,1,-999.0000,9,-999.0000,9,-999.0000,9, 27.142, 31.691, 36.138, 40.485, 44.734
33RO20110828,   A10,     4,  1,      9,    009,2,20000101,0000,-28.9169,  13.9675, 1738,    668.7,   5.5555,  34.4578,2,  34.4576,2,  34.6201,2,    143.2,2,    142.2,2,    27.04,2,    34.85,2,     0.01,2,     2.47,2,    1.251,2,    0.614,2,    1.139,2,   2220.2,2,   2293.4,2,   -999.0,9,  -999.00,   7.5213,2,    25.30,    0.242,2,   -999.0,9,   -999.0,9, -999.000,9,-999.0000,1,-999.0000,9,-999.0000,9,-999.0000,9, 27.186, 31.749, 36.210, 40.571, 44.834
33RO20110828,   A10,     4,  1,      8,    008,2,20000101,0000,-28.9169,  13.9675, 1738,    769.3,   4.2246,  34.3414,2,  34.3427,2,  34.5047,2,    202.8,2,    203.0,2,    33.29,2,    31.73,2,     0.00,2,     2.28,2,    2.137,2,    1.055,2,    2.254,2,   2198.5,2,   2296.0,2,   -999.0,9,  -999.00,   7.5901,3,    25.30,    0.501,2,   -999.0,9,   -999.0,9, -999.000,9,-999.0000,1,-999.0000,9,-999.0000,9,-999.0000,9, 27.246, 31.844, 36.338, 40.732, 45.027
33RO20110828,   A10,     4,  1,      7,    007,2,20000101,0000,-28.9169,  13.9675, 1738,    849.5,   3.8636,  34.3741,2,  34.3766,2,  34.5387,2,    192.4,2,    194.9,2,    40.42,2,    32.90,2,     0.00,2,     2.36,2,    1.662,2,    0.803,2,    1.825,2,   2210.3,6,   2305.1,2,   -999.0,9,  -999.00,   7.5827,3,    25.27,    0.318,2,   -999.0,9,   -999.0,9, -999.000,9,-999.0000,1,-999.0000,9,-999.0000,9,-999.0000,9, 27.311, 31.918, 36.421, 40.824, 45.127
33RO20110828,   A10,     4,  1,      6,    006,2,20000101,0000,-28.9169,  13.9675, 1738,    948.6,   3.6767,  34.4517,2,  34.4590,2,  34.6215,2,    175.2,2,    177.0,2,    46.37,2,    33.78,2,     0.00,2,     2.45,2,    0.787,2,    0.370,2,    0.913,2,   -999.0,5,   -999.0,5,   -999.0,9,  -999.00,   7.5560,2,    25.29,    0.136,2,   -999.0,9,   -999.0,9, -999.000,9,-999.0000,1,-999.0000,9,-999.0000,9,-999.0000,9, 27.395, 32.007, 36.515, 40.922, 45.229
33RO20110828,   A10,     4,  1,      5,    005,2,20000101,0000,-28.9169,  13.9675, 1738,   1058.3,   3.4859,  34.5244,2,  34.5241,2,  34.6869,2,    172.6,2,    174.5,2,    49.10,2,    33.48,2,     0.00,2,     2.42,2,    0.422,2,    0.198,2,    0.554,2,   2227.4,2,   2316.9,2,   -999.0,9,  -999.00,   7.5632,2,    25.30,    0.068,2,   -999.0,9,   -999.0,9, -999.000,9,-999.0000,1,-999.0000,9,-999.0000,9,-999.0000,9, 27.467, 32.083, 36.596, 41.007, 45.318
33RO20110828,   A10,     4,  1,      4,    004,2,20000101,0000,-28.9169,  13.9675, 1738,   1184.0,   3.3441,  34.5894,2,  34.5915,6,  34.7546,6,    177.3,2,    178.5,2,    50.47,2,    32.51,2,     0.01,2,     2.35,2,    0.248,2,    0.114,2,    0.353,2,   2228.2,3,   2320.5,2,   -999.0,9,  -999.00,   7.5700,2,    25.32,    0.054,2,   -999.0,9,   -999.0,9, -999.000,9,-999.0000,1,-999.0000,9,-999.0000,9,-999.0000,9, 27.535, 32.155, 36.671, 41.085, 45.399
33RO20110828,   A10,     4,  1,      3,    003,2,20000101,0000,-28.9169,  13.9675, 1738,   1360.8,   3.2561,  34.7026,2,  34.7037,2,  34.8673,2,    188.2,2,    188.9,2,    48.31,2,    30.06,2,     0.01,2,     2.18,2,    0.091,2,    0.043,2,    0.160,2,   2220.2,2,   2322.0,2,   -999.0,9,  -999.00,   7.5993,2,    25.32,    0.000,2,   -999.0,9,   -999.0,9, -999.000,9,-999.0000,1,-999.0000,9,-999.0000,9,-999.0000,9, 27.634, 32.256, 36.773, 41.189, 45.506
33RO20110828,   A10,     4,  1,      2,    002,2,20000101,0000,-28.9169,  13.9675, 1738,   1534.3,   3.2512,  34.7759,2,  34.7779,2,  34.9419,2,    198.4,2,    198.4,2,    44.02,2,    28.01,2,     0.00,2,     2.03,2,    0.039,2,    0.019,2,    0.080,2,   2211.9,2,   2323.7,2,   -999.0,9,  -999.00,   7.6222,2,    25.32,    0.000,2,   -999.0,9,   -999.0,9, -999.000,1,-999.0000,1,-999.0000,1,-999.0000,9,-999.0000,9, 27.695, 32.317, 36.834, 41.250, 45.566
33RO20110828,   A10,     4,  1,      1,    001,2,20000101,0000,-28.9169,  13.9675, 1738,   1745.9,   3.2196,  34.8292,2,  34.8319,2,  34.9961,2,    208.5,2,    209.5,2,    40.80,2,    26.35,2,     0.01,2,     1.88,2,    0.015,2,    0.008,2,    0.045,2,   2204.8,6,   2320.6,2,   -999.0,9,  -999.00,   7.6472,2,    25.36,    0.000,2,   -999.0,9,   -999.0,9, -999.000,1,-999.0000,1,-999.0000,1,-999.0000,9,-999.0000,9, 27.743, 32.365, 36.884, 41.301, 45.617