BOTTLE,20130715NOAA
EXPOCODE,SECT_ID,STNNBR,CASTNO,SAMPNO,BTLNBR,BTLNBR_FLAG_W,DATE,TIME,LATITUDE,LONGITUDE,DEPTH,CTDPRS,CTDTMP,CTDSAL,CTDSAL_FLAG_W,SALNTY,SALNTY_FLAG_W,SALTREF,SALTREF_FLAG_W,CTDOXY,CTDOXY_FLAG_W,OXYGEN,OXYGEN_FLAG_W,SILCAT,SILCAT_FLAG_W,NITRAT,NITRAT_FLAG_W,NITRIT,NITRIT_FLAG_W,PHSPHT,PHSPHT_FLAG_W,CFC-11,CFC-11_FLAG_W,CFC-12,CFC-12_FLAG_W,CCL4,CCL4_FLAG_W,TCARBN,TCARBN_FLAG_W,ALKALI,ALKALI_FLAG_W,PCO2,PCO2_FLAG_W,PCO2TMP,PH_TOT,PH_TOT_FLAG_W,PH_TMP,SF6,SF6_FLAG_W,DOC,DOC_FLAG_W,TDN,TDN_FLAG_W,TRITUM,TRITUM_FLAG_W,HELIUM,HELIUM_FLAG_W,OXY_18,OXY_18_FLAG_W,BLACKC,BLACKC_FLAG_W,PIGMENTS,PIGMENTS_FLAG_W,SIGMA-THETA,SIGMA-1,SIGMA-2,SIGMA-3,SIGMA-4
,,,,,,,,,,,METERS,DBARS,ITS-90,PSS-78,,PSS-78,,G/KG,,UMOL/KG,,UMOL/KG,,UMOL/KG,,UMOL/KG,,UMOL/KG,,UMOL/KG,,PMOL/KG,,PMOL/KG,,PMOL/KG,,UMOL/KG,,UMOL/KG,,UATM@T,,DEG_C,,,DEG_C,FMOL/KG,,UMOL/KG,,UMOL/KG,,TU,,NMOL/KG,,,,,,,,,,,,
33RO20110828,   A10,   109,  1,     24,    024,2,20000101,0000,-28.5950, -44.4165, 3715,      4.9,  20.7398,  36.4957,2,  36.5012,2,  36.6733,2,    218.3,2,    224.1,2,     0.78,2,     0.00,2,     0.00,2,     0.05,2,    2.047,2,    1.261,2,    2.793,3,   2083.6,6,   2393.1,2,   -999.0,9,  -999.00,   7.9758,2,    25.58,    1.291,2,   -999.0,1,   -999.0,1, -999.000,9,-999.0000,9,-999.0000,9,-999.0000,9,-999.0000,1, 25.709, 29.960, 34.118, 38.186, 42.166
33RO20110828,   A10,   109,  1,     23,    023,2,20000101,0000,-28.5950, -44.4165, 3715,     45.4,  19.6480,  36.3580,2,  36.3625,2,  36.5339,2,    222.6,2,    230.3,2,     0.78,2,     0.00,2,     0.00,2,     0.06,2,    2.138,2,    1.309,2,    3.349,3,   2080.2,2,   2383.4,2,   -999.0,9,  -999.00,   7.9598,2,    25.49,    1.355,2,   -999.0,1,   -999.0,1, -999.000,9,-999.0000,9,-999.0000,9,-999.0000,9,-999.0000,1, 25.897, 30.166, 34.341, 38.425, 42.422
33RO20110828,   A10,   109,  1,     22,    022,2,20000101,0000,-28.5950, -44.4165, 3715,     79.8,  18.5100,  36.1624,2,  36.1654,2,  36.3360,2,    213.8,2,    211.8,2,     1.17,2,     1.76,2,     0.05,2,     0.16,2,    2.225,2,    1.364,2,    1.228,3,   2096.0,2,   2372.1,2,   -999.0,9,  -999.00,   7.9231,2,    25.59,    1.312,2,   -999.0,1,   -999.0,1, -999.000,9,-999.0000,9,-999.0000,9,-999.0000,9,-999.0000,1, 26.041, 30.329, 34.523, 38.626, 42.640
33RO20110828,   A10,   109,  1,     21,    021,2,20000101,0000,-28.5950, -44.4165, 3715,    126.4,  17.8826,  36.0848,2,  36.0925,2,  36.2627,2,    215.9,2,    220.8,2,     1.07,2,     1.46,2,     0.02,2,     0.13,2,    2.296,2,    1.396,2,    1.549,3,   2091.0,2,   2367.5,2,   -999.0,9,  -999.00,   7.9351,2,    25.57,    1.392,2,   -999.0,1,   -999.0,1, -999.000,9,-999.0000,9,-999.0000,9,-999.0000,9,-999.0000,9, 26.144, 30.443, 34.647, 38.760, 42.784
33RO20110828,   A10,   109,  1,     20,    020,2,20000101,0000,-28.5950, -44.4165, 3715,    178.9,  16.2005,  35.7171,2,  35.7204,2,  35.8888,2,    195.2,2,    204.9,2,     2.05,2,     4.68,2,     0.01,2,     0.33,2,    2.519,2,    1.498,2,    0.812,3,   2107.7,2,   2345.4,2,   -999.0,9,  -999.00,   7.8586,2,    25.59,    1.266,2,   -999.0,1,   -999.0,1, -999.000,9,-999.0000,9,-999.0000,9,-999.0000,9,-999.0000,9, 26.262, 30.593, 34.827, 38.969, 43.021
33RO20110828,   A10,   109,  1,     19,    019,2,20000101,0000,-28.5950, -44.4165, 3715,    270.4,  14.1963,  35.3947,2,  35.3967,2,  35.5636,2,    199.1,2,    203.9,2,     3.02,2,     8.49,2,     0.01,2,     0.52,2,    2.798,2,    1.611,2,    0.690,3,   2118.7,2,   2327.7,2,   -999.0,9,  -999.00,   7.8230,2,    25.66,    1.173,2,   -999.0,1,   -999.0,1, -999.000,9,-999.0000,9,-999.0000,9,-999.0000,9,-999.0000,9, 26.461, 30.829, 35.102, 39.280, 43.367
33RO20110828,   A10,   109,  1,     18,    018,2,20000101,0000,-28.5950, -44.4165, 3715,    340.0,  13.0947,  35.2472,2,  35.2517,2,  35.4180,2,    202.2,2,    206.8,2,     3.61,2,    10.54,2,     0.01,2,     0.62,2,    2.906,2,    1.643,2,    0.801,3,   2124.9,2,   2321.0,2,   -999.0,9,  -999.00,   7.7938,2,    25.59,    1.145,2,   -999.0,1,   -999.0,1, -999.000,9,-999.0000,9,-999.0000,9,-999.0000,9,-999.0000,9, 26.578, 30.969, 35.263, 39.462, 43.569
33RO20110828,   A10,   109,  1,     17,    017,2,20000101,0000,-28.5950, -44.4165, 3715,    440.3,  11.2729,  34.9782,2,  34.9771,2,  35.1420,2,    198.9,2,    203.2,2,     5.66,2,    15.03,2,     0.00,2,     0.84,2,    3.038,2,    1.660,2,    1.045,3,   2137.1,2,   2307.8,2,   -999.0,9,  -999.00,   7.7481,2,    25.54,    1.038,2,   -999.0,1,   -999.0,1, -999.000,9,-999.0000,9,-999.0000,9,-999.0000,9,-999.0000,9, 26.718, 31.147, 35.479, 39.714, 43.855
33RO20110828,   A10,   109,  1,     16,    016,2,20000101,0000,-28.5950, -44.4165, 3715,    539.0,   9.1087,  34.6980,2,  34.7025,2,  34.8662,2,    199.2,2,    202.5,2,     8.88,2,    20.11,2,     0.00,2,     1.12,2,    3.091,2,    1.637,2,    1.563,3,   2151.9,2,   2294.7,2,   -999.0,9,  -999.00,   7.6870,2,    25.58,    0.849,2,   -999.0,1,   -999.0,1, -999.000,9,-999.0000,9,-999.0000,9,-999.0000,9,-999.0000,9, 26.877, 31.355, 35.733, 40.014, 44.199
33RO20110828,   A10,   109,  1,     15,    015,2,20000101,0000,-28.5950, -44.4165, 3715,    639.4,   7.0934,  34.4697,2,  34.4717,2,  34.6343,2,    211.7,2,    214.3,2,    12.20,2,    24.21,2,     0.00,2,     1.34,2,    3.199,2,    1.662,2,    2.356,3,   2160.8,2,   2288.0,3,   -999.0,9,  -999.00,   7.6591,2,    25.57,    0.873,2,   -999.0,1,   -999.0,1, -999.000,9,-999.0000,9,-999.0000,9,-999.0000,9,-999.0000,9, 26.998, 31.524, 35.948, 40.274, 44.503
33RO20110828,   A10,   109,  1,     14,    014,2,20000101,0000,-28.5950, -44.4165, 3715,    740.5,   5.4470,  34.3228,2,  34.3279,2,  34.4898,2,    224.2,2,    227.4,2,    16.31,2,    26.85,2,     0.00,2,     1.51,2,    3.219,2,    1.643,2,    2.971,3,   2167.0,2,   2284.8,2,   -999.0,9,  -999.00,   7.6305,2,    25.53,    0.813,2,   -999.0,1,   -999.0,1, -999.000,9,-999.0000,9,-999.0000,9,-999.0000,9,-999.0000,9, 27.097, 31.664, 36.129, 40.493, 44.760
33RO20110828,   A10,   109,  1,     13,    013,2,20000101,0000,-28.5950, -44.4165, 3715,    839.6,   4.7171,  34.3128,2,  34.3148,6,  34.4766,6,    217.3,2,    218.3,2,    23.14,2,    29.19,2,     0.00,2,     1.68,2,    2.658,2,    1.324,2,    2.740,3,   2180.8,2,   2291.1,2,   -999.0,9,  -999.00,   7.6166,2,    25.57,    0.568,2,   -999.0,1,   -999.0,1, -999.000,9,-999.0000,9,-999.0000,9,-999.0000,9,-999.0000,9, 27.170, 31.755, 36.238, 40.620, 44.904
33RO20110828,   A10,   109,  1,     12,    012,2,20000101,0000,-28.5950, -44.4165, 3715,    975.5,   3.9706,  34.3380,2,  34.3402,3,  34.5021,3,    206.1,2,    206.7,2,    33.29,2,    31.15,2,     0.00,2,     1.89,2,    1.849,2,    0.907,2,    2.211,3,   2198.1,2,   2300.2,2,   -999.0,9,  -999.00,   7.5832,2,    25.58,    0.351,2,   -999.0,1,   -999.0,1, -999.000,9,-999.0000,9,-999.0000,9,-999.0000,9,-999.0000,9, 27.270, 31.875, 36.377, 40.777, 45.078
33RO20110828,   A10,   109,  1,     11,    011,2,20000101,0000,-28.5950, -44.4165, 3715,   1109.6,   3.5705,  34.4148,2,  34.4149,3,  34.5772,3,    192.7,2,    192.4,2,    42.57,2,    32.32,2,     0.00,2,     2.02,2,    0.939,2,    0.455,2,    1.412,3,   2213.0,2,   -999.0,5,   -999.0,9,  -999.00,   7.5726,2,    25.57,    0.140,2,   -999.0,1,   -999.0,1, -999.000,9,-999.0000,9,-999.0000,9,-999.0000,9,-999.0000,9, 27.372, 31.987, 36.498, 40.908, 45.218
33RO20110828,   A10,   109,  1,     10,    010,2,20000101,0000,-28.5950, -44.4165, 3715,   1324.7,   3.3830,  34.5604,2,  34.5620,3,  34.7250,3,    187.6,2,    188.5,2,    46.66,2,    31.34,2,     0.00,2,     2.03,2,    0.318,2,    0.153,2,    0.685,3,   2220.6,6,   2313.7,3,   -999.0,9,  -999.00,   7.5740,2,    25.62,    0.058,2,   -999.0,1,   -999.0,1, -999.000,9,-999.0000,9,-999.0000,9,-999.0000,9,-999.0000,9, 27.507, 32.127, 36.642, 41.056, 45.370
33RO20110828,   A10,   109,  1,      9,    009,2,20000101,0000,-28.5950, -44.4165, 3715,   1573.2,   3.0771,  34.6459,2,  34.6490,2,  34.8124,2,    191.6,2,    192.9,2,    52.13,2,    30.16,2,     0.00,2,     2.02,2,    0.192,2,    0.093,2,    0.477,3,   2221.4,2,   2325.4,2,   -999.0,9,  -999.00,   7.5882,2,    25.50,    0.000,2,   -999.0,1,   -999.0,1, -999.000,9,-999.0000,9,-999.0000,9,-999.0000,9,-999.0000,9, 27.608, 32.236, 36.759, 41.180, 45.502
33RO20110828,   A10,   109,  1,      8,    008,2,20000101,0000,-28.5950, -44.4165, 3715,   1799.5,   3.8656,  34.8832,2,  34.8851,2,  35.0496,2,    219.5,2,    219.9,2,    27.13,2,    23.62,2,     0.00,2,     1.42,2,    0.162,2,    0.084,2,    0.453,3,   2185.3,2,   2318.9,2,   -999.0,9,  -999.00,   7.6515,2,    25.57,    0.039,2,   -999.0,1,   -999.0,1, -999.000,9,-999.0000,9,-999.0000,9,-999.0000,9,-999.0000,9, 27.724, 32.329, 36.831, 41.231, 45.532
33RO20110828,   A10,   109,  1,      7,    007,2,20000101,0000,-28.5950, -44.4165, 3715,   2049.4,   3.7096,  34.9325,2,  34.9383,2,  35.1031,2,    236.8,2,    237.1,2,    24.01,2,    21.37,2,     0.00,2,     1.28,2,    0.232,2,    0.118,2,    0.613,3,   2176.2,2,   -999.0,5,   -999.0,9,  -999.00,   7.6820,2,    25.58,    0.048,2,   -999.0,1,   -999.0,1, -999.000,9,-999.0000,9,-999.0000,9,-999.0000,9,-999.0000,9, 27.784, 32.393, 36.899, 41.304, 45.609
33RO20110828,   A10,   109,  1,      6,    006,2,20000101,0000,-28.5950, -44.4165, 3715,   2339.7,   3.4362,  34.9473,2,  34.9501,2,  35.1149,2,    248.4,2,    249.0,2,    23.71,2,    20.10,2,     0.00,2,     1.22,2,    0.233,2,    0.117,2,    0.650,3,   2171.4,2,   2319.9,2,   -999.0,9,  -999.00,   7.6959,2,    25.54,    0.038,2,   -999.0,1,   -999.0,1, -999.000,9,-999.0000,9,-999.0000,9,-999.0000,9,-999.0000,9, 27.822, 32.440, 36.953, 41.365, 45.677
33RO20110828,   A10,   109,  1,      5,    005,2,20000101,0000,-28.5950, -44.4165, 3715,   2653.9,   3.0353,  34.9316,2,  34.9346,2,  35.0993,2,    250.4,2,    250.8,2,    29.08,2,    20.40,2,     0.00,2,     1.27,2,    0.152,2,    0.078,2,    0.461,3,   2176.0,2,   2322.9,2,   -999.0,9,  -999.00,   7.7018,2,    25.61,    0.000,2,   -999.0,1,   -999.0,1, -999.000,9,-999.0000,9,-999.0000,9,-999.0000,9,-999.0000,9, 27.849, 32.478, 37.003, 41.426, 45.748
33RO20110828,   A10,   109,  1,      4,    004,2,20000101,0000,-28.5950, -44.4165, 3715,   2877.9,   2.7898,  34.9188,2,  34.9204,2,  35.0851,2,    250.6,2,    250.8,2,    33.28,2,    20.49,2,     0.00,2,     1.34,2,    0.095,2,    0.051,2,    0.346,3,   2179.8,2,   2327.4,2,   -999.0,9,  -999.00,   7.7039,2,    25.57,    0.044,2,   -999.0,1,   -999.0,1, -999.000,9,-999.0000,9,-999.0000,9,-999.0000,9,-999.0000,9, 27.862, 32.498, 37.030, 41.459, 45.788
33RO20110828,   A10,   109,  1,      3,    003,2,20000101,0000,-28.5950, -44.4165, 3715,   3122.4,   2.2573,  34.8737,2,  34.8754,2,  35.0399,2,    246.9,2,    247.4,2,    49.48,2,    22.64,2,     0.00,2,     1.60,2,    0.075,2,    0.039,2,    0.299,3,   2194.8,2,   2361.3,4,   -999.0,9,  -999.00,   7.6850,2,    25.54,    0.046,2,   -999.0,1,   -999.0,1, -999.000,9,-999.0000,9,-999.0000,9,-999.0000,9,-999.0000,9, 27.871, 32.523, 37.070, 41.514, 45.857
33RO20110828,   A10,   109,  1,      2,    002,2,20000101,0000,-28.5950, -44.4165, 3715,   3481.2,   1.0032,  34.7439,2,  34.7458,2,  34.9097,2,    223.9,2,    225.6,2,   100.44,2,    29.38,2,     0.00,2,     2.44,2,    0.168,2,    0.079,2,    0.388,3,   2243.6,2,   -999.0,5,   -999.0,9,  -999.00,   7.6150,2,    25.48,    0.066,2,   -999.0,1,   -999.0,1, -999.000,9,-999.0000,9,-999.0000,9,-999.0000,9,-999.0000,9, 27.857, 32.546, 37.129, 41.608, 45.985
33RO20110828,   A10,   109,  1,      1,    001,2,20000101,0000,-28.5950, -44.4165, 3715,   3704.0,   0.6665,  34.7098,2,  34.7144,2,  34.8781,2,    219.2,2,    220.7,2,   113.81,2,    31.04,2,     0.00,2,     2.66,2,    0.241,2,    0.115,2,    0.450,3,   2254.8,2,   2362.8,2,   -999.0,9,  -999.00,   7.6110,2,    25.47,    0.093,2,   -999.0,1,   -999.0,1, -999.000,9,-999.0000,9,-999.0000,9,-999.0000,9,-999.0000,9, 27.853, 32.552, 37.145, 41.634, 46.021