BOTTLE,20130715NOAA
EXPOCODE,SECT_ID,STNNBR,CASTNO,SAMPNO,BTLNBR,BTLNBR_FLAG_W,DATE,TIME,LATITUDE,LONGITUDE,DEPTH,CTDPRS,CTDTMP,CTDSAL,CTDSAL_FLAG_W,SALNTY,SALNTY_FLAG_W,SALTREF,SALTREF_FLAG_W,CTDOXY,CTDOXY_FLAG_W,OXYGEN,OXYGEN_FLAG_W,SILCAT,SILCAT_FLAG_W,NITRAT,NITRAT_FLAG_W,NITRIT,NITRIT_FLAG_W,PHSPHT,PHSPHT_FLAG_W,CFC-11,CFC-11_FLAG_W,CFC-12,CFC-12_FLAG_W,CCL4,CCL4_FLAG_W,TCARBN,TCARBN_FLAG_W,ALKALI,ALKALI_FLAG_W,PCO2,PCO2_FLAG_W,PCO2TMP,PH_TOT,PH_TOT_FLAG_W,PH_TMP,SF6,SF6_FLAG_W,DOC,DOC_FLAG_W,TDN,TDN_FLAG_W,TRITUM,TRITUM_FLAG_W,HELIUM,HELIUM_FLAG_W,OXY_18,OXY_18_FLAG_W,BLACKC,BLACKC_FLAG_W,PIGMENTS,PIGMENTS_FLAG_W,SIGMA-THETA,SIGMA-1,SIGMA-2,SIGMA-3,SIGMA-4
,,,,,,,,,,,METERS,DBARS,ITS-90,PSS-78,,PSS-78,,G/KG,,UMOL/KG,,UMOL/KG,,UMOL/KG,,UMOL/KG,,UMOL/KG,,UMOL/KG,,PMOL/KG,,PMOL/KG,,PMOL/KG,,UMOL/KG,,UMOL/KG,,UATM@T,,DEG_C,,,DEG_C,FMOL/KG,,UMOL/KG,,UMOL/KG,,TU,,NMOL/KG,,,,,,,,,,,,
33RO20110828,   A10,    36,  1,     24,    024,2,20000101,0000,-29.9997,  -2.2087, 4391,      4.4,  18.7125,  35.8628,2,  35.8625,2,  36.0316,2,    236.3,2,    240.8,2,     1.17,2,     0.00,2,     0.02,2,     0.13,2,    2.330,2,    1.423,2,    3.031,2,   2082.1,6,   2354.6,2,   -999.0,9,  -999.00,   7.9319,2,    25.53,    1.442,2,   -999.0,9,   -999.0,9, -999.000,9,-999.0000,9,-999.0000,9,-999.0000,9,-999.0000,1, 25.754, 30.041, 34.233, 38.335, 42.347
33RO20110828,   A10,    36,  1,     23,    023,2,20000101,0000,-29.9997,  -2.2087, 4391,     80.7,  16.8284,  35.7499,2,  35.7466,2,  35.9152,2,    243.3,2,    243.1,2,     1.27,2,     0.20,2,     0.07,2,     0.20,2,    2.412,2,    1.464,2,    2.728,2,   -999.0,9,   2345.8,2,   -999.0,9,  -999.00,   7.9086,2,    25.64,    1.426,2,   -999.0,9,   -999.0,9, -999.000,9,-999.0000,9,-999.0000,9,-999.0000,9,-999.0000,1, 26.132, 30.451, 34.674, 38.806, 42.847
33RO20110828,   A10,    36,  1,     22,    022,2,20000101,0000,-29.9997,  -2.2087, 4391,    108.9,  16.6703,  35.7441,2,  35.7440,2,  35.9125,2,    236.0,2,    235.1,2,     2.05,2,     0.98,2,     0.61,2,     0.26,2,    2.414,2,    1.465,2,    2.237,2,   -999.0,9,   2343.7,2,   -999.0,9,  -999.00,   7.8836,2,    25.57,    1.455,2,   -999.0,9,   -999.0,9, -999.000,9,-999.0000,9,-999.0000,9,-999.0000,9,-999.0000,1, 26.168, 30.490, 34.716, 38.850, 42.895
33RO20110828,   A10,    36,  1,     21,    021,2,20000101,0000,-29.9997,  -2.2087, 4391,    151.6,  16.5059,  35.7210,2,  35.7278,2,  35.8963,2,    234.0,2,    235.7,2,     1.95,2,     1.17,2,     0.52,2,     0.28,2,    2.427,2,    1.474,2,    2.156,2,   2084.9,2,   2343.2,2,   -999.0,9,  -999.00,   7.9071,2,    25.61,    1.510,2,   -999.0,9,   -999.0,9, -999.000,9,-999.0000,9,-999.0000,9,-999.0000,9,-999.0000,9, 26.196, 30.521, 34.750, 38.887, 42.934
33RO20110828,   A10,    36,  1,     20,    020,2,20000101,0000,-29.9997,  -2.2087, 4391,    200.9,  15.9026,  35.6118,2,  35.6081,2,  35.7760,2,    237.0,2,    229.8,2,     2.34,2,     3.22,2,     0.05,2,     0.38,2,    2.513,2,    1.520,2,    1.619,2,   -999.0,9,   2335.8,2,   -999.0,9,  -999.00,   7.8983,2,    25.55,    1.470,2,   -999.0,9,   -999.0,9, -999.000,9,-999.0000,9,-999.0000,9,-999.0000,9,-999.0000,9, 26.245, 30.581, 34.822, 38.970, 43.027
33RO20110828,   A10,    36,  1,     19,    019,2,20000101,0000,-29.9997,  -2.2087, 4391,    330.5,  12.9652,  35.1351,2,  35.1353,2,  35.3010,2,    216.0,2,    213.0,2,     4.00,2,    10.15,2,     0.01,2,     0.85,2,    2.928,2,    1.699,2,    0.873,2,   -999.0,9,   2311.5,2,   -999.0,9,  -999.00,   7.7905,2,    25.47,    1.382,2,   -999.0,9,   -999.0,9, -999.000,9,-999.0000,9,-999.0000,9,-999.0000,9,-999.0000,9, 26.514, 30.908, 35.205, 39.407, 43.517
33RO20110828,   A10,    36,  1,     18,    018,2,20000101,0000,-29.9997,  -2.2087, 4391,    429.4,  11.3225,  34.9578,2,  34.9583,2,  35.1232,2,    208.3,2,    210.7,2,     5.56,2,    14.25,2,     0.01,2,     1.11,2,    3.083,2,    1.741,2,    1.010,2,   2131.9,2,   2303.1,2,   -999.0,9,  -999.00,   7.7626,2,    25.64,    1.166,2,   -999.0,9,   -999.0,9, -999.000,9,-999.0000,9,-999.0000,9,-999.0000,9,-999.0000,9, 26.694, 31.123, 35.453, 39.687, 43.828
33RO20110828,   A10,    36,  1,     17,    017,2,20000101,0000,-29.9997,  -2.2087, 4391,    543.4,   9.2320,  34.7043,2,  34.7013,2,  34.8649,2,    199.0,2,    199.6,2,     9.96,2,    20.40,2,     0.01,2,     1.55,2,    3.061,2,    1.663,2,    1.403,2,   -999.0,9,   2292.1,2,   -999.0,9,  -999.00,   7.6890,2,    25.59,    0.994,2,   -999.0,9,   -999.0,9, -999.000,9,-999.0000,9,-999.0000,9,-999.0000,9,-999.0000,9, 26.857, 31.332, 35.707, 39.985, 44.168
33RO20110828,   A10,    36,  1,     16,    016,2,20000101,0000,-29.9997,  -2.2087, 4391,    668.9,   6.5348,  34.4366,2,  34.4372,2,  34.5995,2,    200.2,2,    205.0,2,    16.99,2,    26.26,2,     0.01,2,     1.97,2,    2.985,2,    1.554,2,    2.170,2,   -999.0,9,   2287.8,2,   -999.0,9,  -999.00,   7.6296,2,    25.70,    0.846,2,   -999.0,9,   -999.0,9, -999.000,9,-999.0000,9,-999.0000,9,-999.0000,9,-999.0000,9, 27.047, 31.586, 36.024, 40.362, 44.604
33RO20110828,   A10,    36,  1,     15,    015,2,20000101,0000,-29.9997,  -2.2087, 4391,    796.9,   5.0636,  34.3498,2,  34.3506,2,  34.5126,2,    204.4,2,    206.7,2,    24.41,2,    29.68,2,     0.00,2,     2.20,2,    4.031,4,    2.396,4,    5.458,4,   2185.8,2,   2290.2,2,   -999.0,9,  -999.00,   7.6054,2,    25.42,    2.949,4,   -999.0,9,   -999.0,9, -999.000,9,-999.0000,9,-999.0000,9,-999.0000,9,-999.0000,9, 27.161, 31.737, 36.211, 40.584, 44.859
33RO20110828,   A10,    36,  1,     14,    014,2,20000101,0000,-29.9997,  -2.2087, 4391,    919.3,   4.2101,  34.3594,2,  34.3601,2,  34.5222,2,    201.8,2,    198.4,2,    34.66,2,    31.63,2,     0.00,2,     2.37,2,    1.950,2,    0.967,2,    1.913,2,   -999.0,9,   2297.7,2,   -999.0,9,  -999.00,   7.5689,2,    25.70,    0.400,2,   -999.0,9,   -999.0,9, -999.000,9,-999.0000,9,-999.0000,9,-999.0000,9,-999.0000,9, 27.263, 31.861, 36.356, 40.750, 45.045
33RO20110828,   A10,    36,  1,     13,    013,2,20000101,0000,-29.9997,  -2.2087, 4391,   1068.2,   3.5785,  34.4117,2,  34.4120,2,  34.5742,2,    191.1,2,    190.0,2,    45.79,2,    32.80,2,     0.00,2,     2.47,2,    1.275,2,    0.623,2,    1.379,2,   -999.0,9,   2309.1,2,   -999.0,9,  -999.00,   7.5605,2,    25.42,    0.214,2,   -999.0,9,   -999.0,9, -999.000,9,-999.0000,9,-999.0000,9,-999.0000,9,-999.0000,9, 27.368, 31.983, 36.494, 40.904, 45.214
33RO20110828,   A10,    36,  1,     12,    012,2,20000101,0000,-29.9997,  -2.2087, 4391,   1260.9,   3.1416,  34.5223,2,  34.5236,2,  34.6864,2,    183.0,2,    181.6,2,    55.94,2,    32.80,2,     0.00,2,     2.47,2,    0.599,2,    0.285,2,    0.747,2,   2229.4,2,   2321.0,2,   -999.0,9,  -999.00,   7.5626,2,    25.49,    0.075,2,   -999.0,9,   -999.0,9, -999.000,9,-999.0000,9,-999.0000,9,-999.0000,9,-999.0000,9, 27.500, 32.126, 36.648, 41.068, 45.388
33RO20110828,   A10,    36,  1,     11,    011,2,20000101,0000,-29.9997,  -2.2087, 4391,   1500.9,   3.0304,  34.6651,2,  34.6662,2,  34.8297,2,    189.3,2,    188.8,2,    54.47,2,    30.36,2,     0.01,2,     2.29,2,    0.184,2,    0.086,2,    0.287,2,   -999.0,9,   2326.7,2,   -999.0,9,  -999.00,   7.5786,2,    25.46,    0.022,2,   -999.0,9,   -999.0,9, -999.000,9,-999.0000,9,-999.0000,9,-999.0000,9,-999.0000,9, 27.626, 32.254, 36.778, 41.201, 45.523
33RO20110828,   A10,    36,  1,     10,    010,2,20000101,0000,-29.9997,  -2.2087, 4391,   1747.7,   2.9435,  34.7641,2,  34.7627,2,  34.9267,2,    203.5,2,    203.7,2,    50.65,2,    27.91,2,     0.01,2,     2.07,2,    0.065,2,    0.031,2,    0.145,2,   -999.0,9,   2328.2,2,   -999.0,9,  -999.00,   7.6119,2,    25.40,    0.000,2,   -999.0,9,   -999.0,9, -999.000,9,-999.0000,9,-999.0000,9,-999.0000,9,-999.0000,9, 27.713, 32.343, 36.869, 41.293, 45.617
33RO20110828,   A10,    36,  1,      9,    009,2,20000101,0000,-29.9997,  -2.2087, 4391,   2048.2,   2.6872,  34.8050,2,  34.8066,2,  34.9707,2,    216.0,2,    217.3,2,    52.70,2,    26.35,2,     0.01,2,     1.96,2,    0.034,2,    0.017,2,    0.118,2,   -999.0,5,   -999.0,5,   -999.0,9,  -999.00,   7.6348,2,    25.58,    0.000,2,   -999.0,9,   -999.0,9, -999.000,9,-999.0000,9,-999.0000,9,-999.0000,9,-999.0000,9, 27.772, 32.410, 36.943, 41.374, 45.705
33RO20110828,   A10,    36,  1,      8,    008,2,20000101,0000,-29.9997,  -2.2087, 4391,   2350.3,   2.5150,  34.8321,2,  34.8318,2,  34.9960,2,    225.2,2,    225.0,2,    53.29,2,    25.37,2,     0.01,2,     1.87,2,    0.042,4,    0.024,4,    0.095,2,   -999.0,9,   2333.9,2,   -999.0,9,  -999.00,   7.6517,2,    25.55,    0.025,2,   -999.0,9,   -999.0,9, -999.000,9,-999.0000,9,-999.0000,9,-999.0000,9,-999.0000,9, 27.809, 32.452, 36.990, 41.426, 45.762
33RO20110828,   A10,    36,  1,      7,    007,2,20000101,0000,-29.9997,  -2.2087, 4391,   2647.9,   2.4180,  34.8520,2,  34.8535,6,  35.0178,6,    232.3,2,    232.8,2,    52.70,2,    24.30,2,     0.01,2,     1.80,2,    0.010,2,    0.006,2,    0.052,2,   -999.0,9,   2336.1,2,   -999.0,9,  -999.00,   7.6581,2,    25.54,    0.000,2,   -999.0,9,   -999.0,9, -999.000,9,-999.0000,9,-999.0000,9,-999.0000,9,-999.0000,9, 27.836, 32.482, 37.023, 41.462, 45.801
33RO20110828,   A10,    36,  1,      6,    006,2,20000101,0000,-29.9997,  -2.2087, 4391,   2950.4,   2.3655,  34.8631,2,  34.8637,2,  35.0280,2,    235.9,2,    236.3,2,    52.11,2,    23.91,2,     0.00,2,     1.76,2,    0.006,2,    0.002,2,    0.032,2,   2204.1,2,   2339.8,2,   -999.0,9,  -999.00,   7.6778,2,    25.52,    0.000,2,   -999.0,9,   -999.0,9, -999.000,9,-999.0000,9,-999.0000,9,-999.0000,9,-999.0000,9, 27.852, 32.500, 37.044, 41.485, 45.825
33RO20110828,   A10,    36,  1,      5,    005,2,20000101,0000,-29.9997,  -2.2087, 4391,   3249.5,   2.3403,  34.8709,2,  34.8705,2,  35.0350,2,    236.7,2,    236.8,2,    52.51,2,    23.72,2,     0.01,2,     1.74,2,    0.003,2,    0.003,2,    0.026,2,   -999.0,9,   2345.2,2,   -999.0,9,  -999.00,   7.6806,2,    25.50,    0.000,2,   -999.0,9,   -999.0,9, -999.000,9,-999.0000,9,-999.0000,9,-999.0000,9,-999.0000,9, 27.862, 32.511, 37.056, 41.499, 45.841
33RO20110828,   A10,    36,  1,      4,    004,2,20000101,0000,-29.9997,  -2.2087, 4391,   3549.6,   2.3308,  34.8743,2,  34.8747,2,  35.0391,2,    235.7,2,    235.6,2,    53.19,2,    23.72,2,     0.01,2,     1.73,2,    0.003,2,    0.002,2,    0.017,2,   -999.0,9,   2349.7,2,   -999.0,9,  -999.00,   7.6773,2,    25.57,    0.000,2,   -999.0,9,   -999.0,9, -999.000,9,-999.0000,9,-999.0000,9,-999.0000,9,-999.0000,9, 27.868, 32.519, 37.065, 41.509, 45.851
33RO20110828,   A10,    36,  1,      3,    003,2,20000101,0000,-29.9997,  -2.2087, 4391,   3851.4,   2.3165,  34.8742,2,  34.8753,2,  35.0397,2,    234.5,2,    234.3,2,    54.94,2,    24.01,2,     0.01,2,     1.75,2,    0.006,2,    0.004,2,    0.018,2,   -999.0,9,   2353.7,2,   -999.0,9,  -999.00,   7.6849,2,    25.57,    0.000,2,   -999.0,9,   -999.0,9, -999.000,9,-999.0000,9,-999.0000,9,-999.0000,9,-999.0000,9, 27.873, 32.525, 37.072, 41.517, 45.861
33RO20110828,   A10,    36,  1,      2,    002,2,20000101,0000,-29.9997,  -2.2087, 4391,   4147.6,   2.2812,  34.8669,2,  34.8677,2,  35.0322,2,    232.9,2,    231.8,2,    57.87,2,    24.11,2,     0.01,2,     1.78,2,    0.006,2,    0.004,2,    0.023,2,   -999.0,9,   2354.9,2,   -999.0,9,  -999.00,   7.6847,2,    25.61,    0.000,2,   -999.0,9,   -999.0,9, -999.000,9,-999.0000,9,-999.0000,9,-999.0000,9,-999.0000,9, 27.872, 32.526, 37.075, 41.522, 45.868
33RO20110828,   A10,    36,  1,      1,    001,2,20000101,0000,-29.9997,  -2.2087, 4391,   4550.4,   2.2402,  34.8562,2,  34.8558,2,  35.0202,2,    230.7,2,    231.1,2,    61.87,2,    24.79,2,     0.01,2,     1.83,2,    0.013,2,    0.008,2,    0.038,2,   2216.9,2,   2356.4,2,   -999.0,9,  -999.00,   7.6877,2,    25.65,    0.000,2,   -999.0,9,   -999.0,9, -999.000,9,-999.0000,9,-999.0000,9,-999.0000,9,-999.0000,9, 27.869, 32.526, 37.078, 41.527, 45.875