BOTTLE,20130715NOAA
EXPOCODE,SECT_ID,STNNBR,CASTNO,SAMPNO,BTLNBR,BTLNBR_FLAG_W,DATE,TIME,LATITUDE,LONGITUDE,DEPTH,CTDPRS,CTDTMP,CTDSAL,CTDSAL_FLAG_W,SALNTY,SALNTY_FLAG_W,SALTREF,SALTREF_FLAG_W,CTDOXY,CTDOXY_FLAG_W,OXYGEN,OXYGEN_FLAG_W,SILCAT,SILCAT_FLAG_W,NITRAT,NITRAT_FLAG_W,NITRIT,NITRIT_FLAG_W,PHSPHT,PHSPHT_FLAG_W,CFC-11,CFC-11_FLAG_W,CFC-12,CFC-12_FLAG_W,CCL4,CCL4_FLAG_W,TCARBN,TCARBN_FLAG_W,ALKALI,ALKALI_FLAG_W,PCO2,PCO2_FLAG_W,PCO2TMP,PH_TOT,PH_TOT_FLAG_W,PH_TMP,SF6,SF6_FLAG_W,DOC,DOC_FLAG_W,TDN,TDN_FLAG_W,TRITUM,TRITUM_FLAG_W,HELIUM,HELIUM_FLAG_W,OXY_18,OXY_18_FLAG_W,BLACKC,BLACKC_FLAG_W,PIGMENTS,PIGMENTS_FLAG_W,SIGMA-THETA,SIGMA-1,SIGMA-2,SIGMA-3,SIGMA-4
,,,,,,,,,,,METERS,DBARS,ITS-90,PSS-78,,PSS-78,,G/KG,,UMOL/KG,,UMOL/KG,,UMOL/KG,,UMOL/KG,,UMOL/KG,,UMOL/KG,,PMOL/KG,,PMOL/KG,,PMOL/KG,,UMOL/KG,,UMOL/KG,,UATM@T,,DEG_C,,,DEG_C,FMOL/KG,,UMOL/KG,,UMOL/KG,,TU,,NMOL/KG,,,,,,,,,,,,
33RO20110828,   A10,    20,  1,     24,    024,4,20000101,0000,-29.7494,   5.0006, 5059,     19.0,  16.9746,  35.6210,2,  35.6208,2,  35.7888,2,    252.4,2,    250.7,2,     2.05,2,     0.00,2,     0.01,2,     0.17,2,    2.492,2,    1.499,2,    3.217,2,   2071.0,6,   2341.9,3,   -999.0,9,  -999.00,   7.9533,4,    25.32,    1.496,2,   -999.0,9,   -999.0,9, -999.000,9,-999.0000,9,-999.0000,9,-999.0000,9,-999.0000,1, 25.998, 30.315, 34.537, 38.666, 42.706
33RO20110828,   A10,    20,  1,     22,    022,4,20000101,0000,-29.7494,   5.0006, 5059,     74.2,  16.2929,  35.6692,2,  35.6688,2,  35.8370,2,    241.8,2,    242.4,2,     2.24,2,     0.98,2,     0.50,2,     0.22,2,    2.498,2,    1.494,2,    2.819,2,   -999.0,9,   -999.0,9,   -999.0,9,  -999.00,-999.0000,9,  -999.00,    1.479,2,   -999.0,9,   -999.0,9, -999.000,9,-999.0000,9,-999.0000,9,-999.0000,9,-999.0000,9, 26.197, 30.526, 34.759, 38.900, 42.950
33RO20110828,   A10,    20,  1,     23,    023,4,20000101,0000,-29.7494,   5.0006, 5059,     74.5,  16.2956,  35.6691,2,  35.6686,2,  35.8368,2,    241.8,2,    243.7,2,     2.24,2,     0.88,2,     0.48,2,     0.22,2,    2.491,2,    1.499,2,    2.806,2,   2075.8,2,   2335.7,3,   -999.0,9,  -999.00,   7.9396,2,    25.24,    1.504,2,   -999.0,9,   -999.0,9, -999.000,9,-999.0000,9,-999.0000,9,-999.0000,9,-999.0000,1, 26.196, 30.525, 34.758, 38.899, 42.949
33RO20110828,   A10,    20,  1,     21,    021,2,20000101,0000,-29.7494,   5.0006, 5059,    123.4,  16.0703,  35.6418,2,  35.6459,2,  35.8140,2,    237.8,2,    237.6,2,     2.34,2,     1.46,2,     0.59,2,     0.27,2,    2.504,2,    1.501,2,    2.412,2,   2082.1,2,   2335.1,3,   -999.0,9,  -999.00,   7.9264,4,    25.31,    1.478,2,   -999.0,9,   -999.0,9, -999.000,9,-999.0000,9,-999.0000,9,-999.0000,9,-999.0000,1, 26.233, 30.566, 34.803, 38.948, 43.002
33RO20110828,   A10,    20,  1,     20,    020,2,20000101,0000,-29.7494,   5.0006, 5059,    244.2,  12.8941,  35.1477,2,  35.1469,2,  35.3126,2,    215.7,2,    215.2,2,     4.20,2,    10.05,2,     0.01,2,     0.74,2,    2.978,2,    1.703,2,    1.027,2,   2117.5,2,   2315.4,2,   -999.0,9,  -999.00,   7.8190,2,    25.27,    1.311,2,   -999.0,9,   -999.0,9, -999.000,9,-999.0000,9,-999.0000,9,-999.0000,9,-999.0000,9, 26.535, 30.930, 35.228, 39.431, 43.542
33RO20110828,   A10,    20,  1,     19,    019,2,20000101,0000,-29.7494,   5.0006, 5059,    364.4,  10.8573,  34.8972,2,  34.8910,2,  35.0556,2,    197.1,2,    198.2,2,     6.93,2,    16.59,2,     0.01,2,     1.12,2,    3.111,2,    1.719,2,    1.252,2,   -999.0,9,   2300.3,2,   -999.0,9,  -999.00,   7.7328,2,    25.32,    1.134,2,   -999.0,9,   -999.0,9, -999.000,9,-999.0000,9,-999.0000,9,-999.0000,9,-999.0000,9, 26.725, 31.163, 35.503, 39.746, 43.896
33RO20110828,   A10,    20,  1,     18,    018,2,20000101,0000,-29.7494,   5.0006, 5059,    483.3,   8.7316,  34.6594,2,  34.6573,2,  34.8208,2,    179.1,2,    177.0,2,    12.98,2,    23.52,2,     0.00,2,     1.57,2,    2.907,2,    1.551,2,    1.235,2,   2174.1,2,   2294.1,2,   -999.0,9,  -999.00,   7.6474,4,    25.30,    0.935,2,   -999.0,9,   -999.0,9, -999.000,9,-999.0000,9,-999.0000,9,-999.0000,9,-999.0000,9, 26.901, 31.387, 35.773, 40.062, 44.255
33RO20110828,   A10,    20,  1,     17,    017,2,20000101,0000,-29.7494,   5.0006, 5059,    608.9,   6.2887,  34.4172,2,  34.4187,2,  34.5810,2,    199.4,2,    201.0,2,    17.87,2,    27.34,2,     0.00,2,     1.81,2,    2.948,2,    1.509,2,    2.354,2,   -999.0,9,   2290.1,2,   -999.0,9,  -999.00,   7.6244,2,    25.34,    0.756,2,   -999.0,9,   -999.0,9, -999.000,9,-999.0000,9,-999.0000,9,-999.0000,9,-999.0000,9, 27.063, 31.609, 36.052, 40.396, 44.643
33RO20110828,   A10,    20,  1,     16,    016,2,20000101,0000,-29.7494,   5.0006, 5059,    758.7,   4.7217,  34.3515,2,  34.3515,2,  34.5135,2,    200.8,2,    200.5,2,    27.43,2,    30.56,2,     0.00,2,     2.05,2,    2.331,2,    1.152,2,    2.352,2,   2194.6,2,   2290.4,3,   -999.0,9,  -999.00,   7.5962,2,    25.36,    0.515,2,   -999.0,9,   -999.0,9, -999.000,9,-999.0000,9,-999.0000,9,-999.0000,9,-999.0000,9, 27.199, 31.784, 36.267, 40.648, 44.931
33RO20110828,   A10,    20,  1,     15,    015,2,20000101,0000,-29.7494,   5.0006, 5059,    908.4,   4.0221,  34.3917,2,  34.3934,2,  34.5556,2,    187.7,2,    186.6,2,    38.17,2,    32.51,2,     0.00,2,     2.22,2,    1.439,2,    0.691,2,    1.577,2,   -999.0,3,   2300.3,3,   -999.0,9,  -999.00,   7.5704,2,    25.36,    0.234,2,   -999.0,9,   -999.0,9, -999.000,9,-999.0000,9,-999.0000,9,-999.0000,9,-999.0000,9, 27.308, 31.911, 36.411, 40.809, 45.109
33RO20110828,   A10,    20,  1,     14,    014,2,20000101,0000,-29.7494,   5.0006, 5059,   1058.8,   3.4575,  34.4578,2,  34.4582,2,  34.6207,2,    181.8,2,    182.0,2,    49.59,2,    33.09,2,     0.00,2,     2.30,2,    0.905,2,    0.427,2,    1.180,2,   2227.3,2,   2312.7,3,   -999.0,9,  -999.00,   7.5642,2,    25.37,    0.114,2,   -999.0,9,   -999.0,9, -999.000,9,-999.0000,9,-999.0000,9,-999.0000,9,-999.0000,9, 27.417, 32.034, 36.548, 40.961, 45.273
33RO20110828,   A10,    20,  1,     13,    013,2,20000101,0000,-29.7494,   5.0006, 5059,   1208.7,   3.2424,  34.5528,2,  34.5527,2,  34.7156,2,    177.2,2,    178.3,2,    53.59,2,    32.41,2,     0.00,2,     2.27,2,    0.423,2,    0.195,2,    0.622,2,   2233.6,2,   2321.9,2,   -999.0,9,  -999.00,   7.5675,2,    25.38,    0.066,2,   -999.0,9,   -999.0,9, -999.000,9,-999.0000,9,-999.0000,9,-999.0000,9,-999.0000,9, 27.514, 32.136, 36.655, 41.073, 45.390
33RO20110828,   A10,    20,  1,     12,    012,2,20000101,0000,-29.7494,   5.0006, 5059,   1548.1,   3.1164,  34.7341,2,  34.7334,2,  34.8972,2,    193.6,2,    194.4,2,    49.09,2,    28.70,2,     0.00,2,     2.00,2,    0.083,2,    0.040,2,    0.172,2,   2219.4,2,   2327.1,2,   -999.0,9,  -999.00,   7.5967,3,    25.34,    0.000,2,   -999.0,9,   -999.0,9, -999.000,9,-999.0000,9,-999.0000,9,-999.0000,9,-999.0000,9, 27.672, 32.298, 36.819, 41.239, 45.558
33RO20110828,   A10,    20,  1,     11,    011,2,20000101,0000,-29.7494,   5.0006, 5059,   1851.0,   3.0027,  34.8174,2,  34.8197,2,  34.9839,2,    213.6,2,    213.2,2,    44.89,2,    25.86,2,     0.00,2,     1.80,2,    0.028,2,    0.014,2,    0.078,2,   -999.0,3,   2322.0,3,   -999.0,9,  -999.00,   7.6510,2,    25.37,    0.000,2,   -999.0,9,   -999.0,9, -999.000,9,-999.0000,9,-999.0000,9,-999.0000,9,-999.0000,9, 27.754, 32.382, 36.907, 41.329, 45.652
33RO20110828,   A10,    20,  1,     10,    010,2,20000101,0000,-29.7494,   5.0006, 5059,   2148.2,   2.8543,  34.8485,2,  34.8506,6,  35.0149,6,    223.5,2,    223.1,2,    44.80,2,    24.69,2,     0.00,2,     1.71,2,    0.014,2,    0.007,2,    0.050,2,   2201.9,2,   2326.3,3,   -999.0,9,  -999.00,   7.6664,2,    25.37,    0.000,2,   -999.0,9,   -999.0,9, -999.000,9,-999.0000,9,-999.0000,9,-999.0000,9,-999.0000,9, 27.793, 32.426, 36.955, 41.382, 45.708
33RO20110828,   A10,    20,  1,      9,    009,2,20000101,0000,-29.7494,   5.0006, 5059,   2449.5,   2.6608,  34.8584,2,  34.8614,2,  35.0258,2,    229.6,2,    229.3,2,    47.04,2,    24.11,2,     0.00,2,     1.68,2,    0.007,2,    0.005,2,    0.033,2,   -999.0,4,   2318.5,4,   -999.0,9,  -999.00,   7.6757,2,    25.36,    0.000,2,   -999.0,9,   -999.0,9, -999.000,9,-999.0000,9,-999.0000,9,-999.0000,9,-999.0000,9, 27.822, 32.460, 36.995, 41.427, 45.759
33RO20110828,   A10,    20,  1,      8,    008,2,20000101,0000,-29.7494,   5.0006, 5059,   2748.9,   2.4699,  34.8508,2,  34.8522,2,  35.0166,2,    230.0,2,    229.4,2,    52.51,2,    24.30,2,     0.00,2,     1.72,2,    0.010,2,    0.006,2,    0.037,2,   -999.0,9,   2337.1,2,   -999.0,9,  -999.00,   7.6755,2,    25.41,    0.000,2,   -999.0,9,   -999.0,9, -999.000,9,-999.0000,9,-999.0000,9,-999.0000,9,-999.0000,9, 27.832, 32.477, 37.018, 41.456, 45.793
33RO20110828,   A10,    20,  1,      7,    007,2,20000101,0000,-29.7494,   5.0006, 5059,   3051.2,   2.3739,  34.8577,2,  34.8585,2,  35.0229,2,    232.0,2,    233.4,2,    53.77,2,    24.11,2,     0.00,2,     1.71,2,    0.007,2,    0.004,2,    0.030,2,   2206.9,2,   2343.6,2,   -999.0,9,  -999.00,   7.6782,2,    25.43,    0.000,2,   -999.0,9,   -999.0,9, -999.000,9,-999.0000,9,-999.0000,9,-999.0000,9,-999.0000,9, 27.848, 32.496, 37.040, 41.481, 45.821
33RO20110828,   A10,    20,  1,      6,    006,2,20000101,0000,-29.7494,   5.0006, 5059,   3547.6,   2.2258,  34.8524,2,  34.8544,2,  35.0187,2,    230.7,2,    230.6,2,    59.43,2,    24.69,2,     0.00,2,     1.75,2,    0.009,2,    0.005,2,    0.034,2,   -999.0,9,   2349.4,2,   -999.0,9,  -999.00,   7.6821,2,    25.40,    0.000,2,   -999.0,9,   -999.0,9, -999.000,9,-999.0000,9,-999.0000,9,-999.0000,9,-999.0000,9, 27.860, 32.514, 37.063, 41.509, 45.855
33RO20110828,   A10,    20,  1,      5,    005,2,20000101,0000,-29.7494,   5.0006, 5059,   3699.9,   2.0976,  34.8372,2,  34.8365,2,  35.0008,2,    228.5,2,    227.9,2,    65.49,2,    25.47,2,     0.00,2,     1.82,2,    0.013,2,    0.007,2,    0.045,2,   2219.5,2,   2347.3,3,   -999.0,9,  -999.00,   7.6720,2,    25.39,    0.000,2,   -999.0,9,   -999.0,9, -999.000,9,-999.0000,9,-999.0000,9,-999.0000,9,-999.0000,9, 27.857, 32.515, 37.068, 41.518, 45.867
33RO20110828,   A10,    20,  1,      4,    004,2,20000101,0000,-29.7494,   5.0006, 5059,   4098.7,   1.5111,  34.7749,2,  34.7748,2,  34.9387,2,    220.6,2,    220.7,2,   104.04,2,    30.06,2,     0.00,2,     2.25,2,    0.035,2,    0.018,2,    0.109,2,   -999.0,3,   2358.4,3,   -999.0,9,  -999.00,   7.6410,2,    25.47,    0.000,2,   -999.0,9,   -999.0,9, -999.000,9,-999.0000,9,-999.0000,9,-999.0000,9,-999.0000,9, 27.852, 32.528, 37.099, 41.566, 45.931
33RO20110828,   A10,    20,  1,      3,    003,2,20000101,0000,-29.7494,   5.0006, 5059,   4497.1,   1.1923,  34.7424,2,  34.7435,2,  34.9073,2,    217.6,2,    218.8,2,   103.46,2,    30.06,2,     0.00,2,     2.25,2,    0.058,2,    0.028,2,    0.144,2,   2251.0,2,   2367.3,2,   -999.0,9,  -999.00,   7.6275,2,    25.35,    0.000,2,   -999.0,9,   -999.0,9, -999.000,9,-999.0000,9,-999.0000,9,-999.0000,9,-999.0000,9, 27.851, 32.537, 37.118, 41.595, 45.970
33RO20110828,   A10,    20,  1,      2,    002,2,20000101,0000,-29.7494,   5.0006, 5059,   4849.4,   1.1672,  34.7365,2,  34.7370,2,  34.9008,2,    217.3,2,    217.0,2,   106.09,2,    30.45,2,     0.00,2,     2.28,2,    0.064,2,    0.031,2,    0.164,2,   -999.0,9,   2369.5,2,   -999.0,9,  -999.00,   7.6445,2,    25.45,    0.035,4,   -999.0,9,   -999.0,9, -999.000,9,-999.0000,9,-999.0000,9,-999.0000,9,-999.0000,9, 27.850, 32.538, 37.120, 41.599, 45.976
33RO20110828,   A10,    20,  1,      1,    001,2,20000101,0000,-29.7494,   5.0006, 5059,   5166.1,   1.1893,  34.7345,2,  34.7374,2,  34.9012,2,    217.9,2,    217.5,2,   106.87,2,    30.45,2,     0.00,2,     2.29,2,    0.073,2,    0.035,2,    0.169,2,   2254.8,6,   2371.7,2,   -999.0,9,  -999.00,   8.5816,5,    25.42,    0.000,2,   -999.0,9,   -999.0,9, -999.000,9,-999.0000,9,-999.0000,9,-999.0000,9,-999.0000,9, 27.851, 32.540, 37.123, 41.602, 45.979