BOTTLE,20130715NOAA
EXPOCODE,SECT_ID,STNNBR,CASTNO,SAMPNO,BTLNBR,BTLNBR_FLAG_W,DATE,TIME,LATITUDE,LONGITUDE,DEPTH,CTDPRS,CTDTMP,CTDSAL,CTDSAL_FLAG_W,SALNTY,SALNTY_FLAG_W,SALTREF,SALTREF_FLAG_W,CTDOXY,CTDOXY_FLAG_W,OXYGEN,OXYGEN_FLAG_W,SILCAT,SILCAT_FLAG_W,NITRAT,NITRAT_FLAG_W,NITRIT,NITRIT_FLAG_W,PHSPHT,PHSPHT_FLAG_W,CFC-11,CFC-11_FLAG_W,CFC-12,CFC-12_FLAG_W,CCL4,CCL4_FLAG_W,TCARBN,TCARBN_FLAG_W,ALKALI,ALKALI_FLAG_W,PCO2,PCO2_FLAG_W,PCO2TMP,PH_TOT,PH_TOT_FLAG_W,PH_TMP,SF6,SF6_FLAG_W,DOC,DOC_FLAG_W,TDN,TDN_FLAG_W,TRITUM,TRITUM_FLAG_W,HELIUM,HELIUM_FLAG_W,OXY_18,OXY_18_FLAG_W,BLACKC,BLACKC_FLAG_W,PIGMENTS,PIGMENTS_FLAG_W,SIGMA-THETA,SIGMA-1,SIGMA-2,SIGMA-3,SIGMA-4
,,,,,,,,,,,METERS,DBARS,ITS-90,PSS-78,,PSS-78,,G/KG,,UMOL/KG,,UMOL/KG,,UMOL/KG,,UMOL/KG,,UMOL/KG,,UMOL/KG,,PMOL/KG,,PMOL/KG,,PMOL/KG,,UMOL/KG,,UMOL/KG,,UATM@T,,DEG_C,,,DEG_C,FMOL/KG,,UMOL/KG,,UMOL/KG,,TU,,NMOL/KG,,,,,,,,,,,,
33RO20110828,   A10,    13,  1,     24,    024,2,20000101,0000,-29.7506,   9.0256, -999,      3.6,  16.4783,  35.6376,2,  35.6391,2,  35.8071,2,    248.0,2,    247.9,2,     2.24,2,     0.39,2,     0.06,2,     0.18,2,    2.504,2,    1.503,2,    3.286,2,   2070.9,6,   2338.4,2,   -999.0,9,  -999.00,   7.9560,2,    25.36,    1.484,2,   -999.0,1,   -999.0,1, -999.000,9,-999.0000,9,-999.0000,9,-999.0000,9,-999.0000,1, 26.128, 30.454, 34.684, 38.822, 42.869
33RO20110828,   A10,    13,  1,     23,    023,2,20000101,0000,-29.7506,   9.0256, -999,     23.9,  16.4811,  35.6375,2,  35.6372,2,  35.8053,2,    246.0,2,    248.1,2,     2.24,2,     0.39,2,     0.06,2,     0.19,2, -999.000,5, -999.000,5, -999.000,5,   2069.8,2,   2337.7,2,   -999.0,9,  -999.00,   7.9504,2,    25.32, -999.000,5,   -999.0,1,   -999.0,1, -999.000,9,-999.0000,9,-999.0000,9,-999.0000,9,-999.0000,9, 26.127, 30.453, 34.683, 38.820, 42.868
33RO20110828,   A10,    13,  1,     22,    022,2,20000101,0000,-29.7506,   9.0256, -999,     53.9,  16.1310,  35.6375,2,  35.6382,2,  35.8063,2,    246.2,2,    245.0,2,     2.24,2,     0.98,2,     0.32,2,     0.24,2,    2.497,2,    1.503,2,    2.859,2,   2078.7,2,   2336.7,2,   -999.0,9,  -999.00,   7.9428,2,    25.27,    1.519,2,   -999.0,1,   -999.0,1, -999.000,9,-999.0000,9,-999.0000,9,-999.0000,9,-999.0000,1, 26.210, 30.542, 34.778, 38.922, 42.975
33RO20110828,   A10,    13,  1,     21,    021,2,20000101,0000,-29.7506,   9.0256, -999,    119.0,  15.8634,  35.6151,2,  35.6134,2,  35.7813,2,    232.5,2,    237.0,2,     2.34,2,     2.15,2,     0.37,2,     0.32,2,    2.512,2,    1.518,2,    2.222,2,   2086.1,2,   2335.5,2,   -999.0,9,  -999.00,   7.9208,2,    25.35,    1.517,2,   -999.0,1,   -999.0,1, -999.000,9,-999.0000,9,-999.0000,9,-999.0000,9,-999.0000,1, 26.255, 30.592, 34.833, 38.981, 43.039
33RO20110828,   A10,    13,  1,     20,    020,2,20000101,0000,-29.7506,   9.0256, -999,    173.7,  15.6888,  35.5820,2,  35.5812,2,  35.7490,2,    226.7,2,    221.0,2,     2.44,2,     2.34,2,     0.39,2,     0.33,2,    2.523,2,    1.522,2,    2.038,2,   2083.0,2,   2333.7,2,   -999.0,9,  -999.00,   7.9090,4,    25.34,    1.476,2,   -999.0,1,   -999.0,1, -999.000,9,-999.0000,9,-999.0000,9,-999.0000,9,-999.0000,9, 26.272, 30.612, 34.857, 39.008, 43.069
33RO20110828,   A10,    13,  1,     19,    019,2,20000101,0000,-29.7506,   9.0256, -999,    254.1,  15.1561,  35.4796,2,  35.4778,2,  35.6451,2,    231.3,2,    231.0,2,     2.44,2,     2.54,2,     0.03,2,     0.42,2,    2.618,2,    1.567,2,    1.784,2,   2093.6,2,   2332.7,2,   -999.0,9,  -999.00,   7.8961,2,    25.37,    1.484,2,   -999.0,1,   -999.0,1, -999.000,9,-999.0000,9,-999.0000,9,-999.0000,9,-999.0000,9, 26.315, 30.665, 34.920, 39.081, 43.151
33RO20110828,   A10,    13,  1,     18,    018,2,20000101,0000,-29.7506,   9.0256, -999,    334.7,  13.0025,  35.1418,2,  35.1416,2,  35.3073,2,    215.4,2,    218.3,2,     3.61,2,     9.27,2,     0.01,2,     0.77,2,    2.921,2,    1.716,2,    0.883,2,   2116.7,2,   2311.2,2,   -999.0,9,  -999.00,   7.8210,2,    25.33,    1.386,2,   -999.0,1,   -999.0,1, -999.000,9,-999.0000,9,-999.0000,9,-999.0000,9,-999.0000,9, 26.511, 30.905, 35.201, 39.402, 43.512
33RO20110828,   A10,    13,  1,     17,    017,2,20000101,0000,-29.7506,   9.0256, -999,    423.4,  11.3554,  34.9602,2,  34.9610,6,  35.1259,6,    214.4,2,    216.3,2,     4.98,2,     9.08,2,     0.01,2,     1.01,2,    3.136,2,    1.763,2,    1.279,2,   2129.7,2,   2303.2,2,   -999.0,9,  -999.00,   7.7940,2,    25.31,    1.227,2,   -999.0,1,   -999.0,1, -999.000,9,-999.0000,9,-999.0000,9,-999.0000,9,-999.0000,9, 26.690, 31.118, 35.447, 39.681, 43.821
33RO20110828,   A10,    13,  1,     16,    016,2,20000101,0000,-29.7506,   9.0256, -999,    539.2,   9.1354,  34.6880,2,  34.9612,2,  35.1260,2,    213.9,2,    211.7,2,     8.10,2,    19.22,2,     0.01,2,     1.41,2,    3.248,2,    1.783,2,    1.756,2,   2149.2,2,   2293.0,2,   -999.0,9,  -999.00,   7.7117,2,    25.35,    1.153,2,   -999.0,1,   -999.0,1, -999.000,9,-999.0000,9,-999.0000,9,-999.0000,9,-999.0000,9, 27.076, 31.551, 35.926, 40.205, 44.388
33RO20110828,   A10,    13,  1,     15,    015,2,20000101,0000,-29.7506,   9.0256, -999,    683.9,   6.5631,  34.4165,2,  34.4135,2,  34.5758,2,    214.8,2,    214.6,2,    14.45,2,    19.04,2,     0.00,2,     1.84,2,    3.236,2,    1.700,2,    2.572,2,   2168.0,2,   2284.1,2,   -999.0,9,  -999.00,   7.6976,4,    25.40,    0.923,2,   -999.0,1,   -999.0,1, -999.000,9,-999.0000,9,-999.0000,9,-999.0000,9,-999.0000,9, 27.024, 31.563, 36.001, 40.339, 44.580
33RO20110828,   A10,    13,  1,     14,    014,2,20000101,0000,-29.7506,   9.0256, -999,    852.5,   4.5946,  34.3317,2,  34.3323,2,  34.4942,2,    208.4,2,    209.8,2,    27.73,2,    29.97,2,     0.00,2,     2.16,2,    2.538,2,    1.275,2,    2.460,2,   2191.8,2,   2291.5,2,   -999.0,9,  -999.00,   7.6073,2,    25.39,    0.627,2,   -999.0,1,   -999.0,1, -999.000,9,-999.0000,9,-999.0000,9,-999.0000,9,-999.0000,9, 27.199, 31.787, 36.273, 40.658, 44.944
33RO20110828,   A10,    13,  1,     13,    013,2,20000101,0000,-29.7506,   9.0256, -999,   1054.3,   3.6038,  34.4093,2,  34.4130,2,  34.5752,2,    188.6,2,    188.9,2,    45.40,2,    32.61,2,     0.00,2,     2.37,2,    1.312,2,    0.631,2,    1.618,2,   2220.4,6,   2310.4,2,   -999.0,9,  -999.00,   7.5705,2,    25.36,    0.262,2,   -999.0,1,   -999.0,1, -999.000,9,-999.0000,9,-999.0000,9,-999.0000,9,-999.0000,9, 27.367, 31.981, 36.491, 40.900, 45.210
33RO20110828,   A10,    13,  1,     12,    012,2,20000101,0000,-29.7506,   9.0256, -999,   1303.3,   3.1207,  34.5833,2,  34.5840,2,  34.7471,2,    178.3,2,    177.9,2,    56.71,2,    32.31,2,     0.00,2,     2.33,2,    0.357,2,    0.164,2,    0.568,2,   2234.4,2,   2323.9,2,   -999.0,9,  -999.00,   7.5707,2,    25.42,    0.073,2,   -999.0,1,   -999.0,1, -999.000,9,-999.0000,9,-999.0000,9,-999.0000,9,-999.0000,9, 27.550, 32.176, 36.699, 41.119, 45.439
33RO20110828,   A10,    13,  1,     11,    011,2,20000101,0000,-29.7506,   9.0256, -999,   1574.0,   3.0674,  34.7469,2,  34.7468,6,  34.9106,6,    193.9,2,    195.5,2,    49.97,2,    28.60,2,     0.00,2,     2.05,2,    0.075,2,    0.036,2,    0.170,2,   2219.7,2,   2324.2,2,   -999.0,9,  -999.00,   7.6129,2,    25.49,    0.000,2,   -999.0,1,   -999.0,1, -999.000,9,-999.0000,9,-999.0000,9,-999.0000,9,-999.0000,9, 27.687, 32.314, 36.837, 41.258, 45.579
33RO20110828,   A10,    13,  1,     10,    010,2,20000101,0000,-29.7506,   9.0256, -999,   1849.2,   3.0739,  34.8341,2,  34.8336,2,  34.9979,2,    214.0,2,    215.2,2,    42.16,2,    25.67,2,     0.00,2,     1.82,2,    0.020,2,    0.010,2,    0.072,2,   2202.3,2,   2325.1,2,   -999.0,9,  -999.00,   7.6501,2,    25.43,    0.000,2,   -999.0,1,   -999.0,1, -999.000,9,-999.0000,9,-999.0000,9,-999.0000,9,-999.0000,9, 27.758, 32.385, 36.907, 41.328, 45.649
33RO20110828,   A10,    13,  1,      9,    009,2,20000101,0000,-29.7506,   9.0256, -999,   2149.9,   2.8954,  34.8626,2,  34.8637,2,  35.0281,2,    225.6,2,    225.2,2,    42.36,2,    24.50,2,     0.00,2,     1.72,2,    0.010,2,    0.006,2,    0.055,2,   2197.6,2,   2326.4,2,   -999.0,9,  -999.00,   7.6727,2,    25.48,    0.000,2,   -999.0,1,   -999.0,1, -999.000,9,-999.0000,9,-999.0000,9,-999.0000,9,-999.0000,9, 27.801, 32.433, 36.960, 41.386, 45.711
33RO20110828,   A10,    13,  1,      8,    008,2,20000101,0000,-29.7506,   9.0256, -999,   2447.9,   2.6528,  34.8568,2,  34.8566,2,  35.0210,2,    229.2,2,    227.4,2,    47.82,2,    24.50,2,     0.00,2,     1.73,2,    0.013,2,    0.007,2,    0.049,2,   2200.9,2,   2331.6,2,   -999.0,9,  -999.00,   7.6731,2,    25.46,    0.000,2,   -999.0,1,   -999.0,1, -999.000,9,-999.0000,9,-999.0000,9,-999.0000,9,-999.0000,9, 27.818, 32.457, 36.992, 41.425, 45.757
33RO20110828,   A10,    13,  1,      7,    007,2,20000101,0000,-29.7506,   9.0256, -999,   2751.5,   2.5077,  34.8603,2,  34.8604,2,  35.0248,2,    231.4,2,    230.7,2,    50.07,2,    24.11,2,     0.00,2,     1.71,2,    0.006,2,    0.004,2,    0.030,2,   2203.3,2,   2333.4,2,   -999.0,9,  -999.00,   7.6729,2,    25.45,    0.000,2,   -999.0,1,   -999.0,1, -999.000,9,-999.0000,9,-999.0000,9,-999.0000,9,-999.0000,9, 27.836, 32.480, 37.019, 41.456, 45.792
33RO20110828,   A10,    13,  1,      6,    006,2,20000101,0000,-29.7506,   9.0256, -999,   3049.5,   2.3838,  34.8585,2,  34.8588,2,  35.0232,2,    230.6,2,    231.5,2,    53.68,2,    24.30,2,     0.00,2,     1.74,2,    0.006,2,    0.004,2,    0.038,2,   2206.8,2,   2340.2,2,   -999.0,9,  -999.00,   7.6797,2,    25.51,    0.000,2,   -999.0,1,   -999.0,1, -999.000,9,-999.0000,9,-999.0000,9,-999.0000,9,-999.0000,9, 27.847, 32.495, 37.039, 41.480, 45.820
33RO20110828,   A10,    13,  1,      5,    005,2,20000101,0000,-29.7506,   9.0256, -999,   3448.3,   2.2551,  34.8516,2,  34.8517,2,  35.0161,2,    228.6,2,    230.0,2,    58.75,2,    24.98,2,     0.00,2,     1.77,2,    0.007,2,    0.005,2,    0.031,2,   2212.3,2,   2345.7,2,   -999.0,9,  -999.00,   7.6696,2,    25.54,    0.000,2,   -999.0,1,   -999.0,1, -999.000,9,-999.0000,9,-999.0000,9,-999.0000,9,-999.0000,9, 27.855, 32.508, 37.056, 41.501, 45.845
33RO20110828,   A10,    13,  1,      4,    004,2,20000101,0000,-29.7506,   9.0256, -999,   3848.9,   1.9066,  34.8149,2,  34.8152,2,  34.9794,2,    224.5,2,    224.6,2,    73.98,2,    26.74,2,     0.00,2,     1.91,2,    0.018,2,    0.010,2,    0.061,2,   2226.6,2,   2352.0,2,   -999.0,9,  -999.00,   7.6571,2,    25.53,    0.000,2,   -999.0,1,   -999.0,1, -999.000,9,-999.0000,9,-999.0000,9,-999.0000,9,-999.0000,9, 27.855, 32.519, 37.078, 41.533, 45.888
33RO20110828,   A10,    13,  1,      3,    003,2,20000101,0000,-29.7506,   9.0256, -999,   4249.9,   1.3299,  34.7567,2,  34.7570,2,  34.9209,2,    219.1,2,    219.1,2,    97.21,2,    29.48,2,     0.00,2,     2.11,2,    0.042,2,    0.022,2,    0.090,2,   2248.3,2,   2362.4,2,   -999.0,9,  -999.00,   7.6251,2,    25.45,    0.050,4,   -999.0,1,   -999.0,1, -999.000,9,-999.0000,9,-999.0000,9,-999.0000,9,-999.0000,9, 27.851, 32.532, 37.109, 41.581, 45.952
33RO20110828,   A10,    13,  1,      2,    002,2,20000101,0000,-29.7506,   9.0256, -999,   4648.9,   1.1665,  34.7384,2,  34.7386,2,  34.9024,2,    214.4,2,    217.6,2,   105.22,2,    30.55,2,     0.00,2,     2.19,2,    0.057,2,    0.029,2,    0.157,2,   2255.0,2,   2367.4,2,   -999.0,9,  -999.00,   7.6194,2,    25.49,    0.000,2,   -999.0,1,   -999.0,1, -999.000,9,-999.0000,9,-999.0000,9,-999.0000,9,-999.0000,9, 27.849, 32.537, 37.119, 41.597, 45.973
33RO20110828,   A10,    13,  1,      1,    001,2,20000101,0000,-29.7506,   9.0256, -999,   5074.1,   1.1853,  34.7349,2,  34.7362,2,  34.9000,2,    217.9,2,    215.3,2,   106.58,2,    30.45,2,     0.01,2,     2.20,2,    0.068,2,    0.033,2,    0.136,2,   2257.0,6,   2368.3,2,   -999.0,9,  -999.00,   7.6316,2,    25.51,    0.000,2,   -999.0,1,   -999.0,1, -999.000,9,-999.0000,9,-999.0000,9,-999.0000,9,-999.0000,9, 27.849, 32.538, 37.121, 41.600, 45.977