BOTTLE,20130715NOAA
EXPOCODE,SECT_ID,STNNBR,CASTNO,SAMPNO,BTLNBR,BTLNBR_FLAG_W,DATE,TIME,LATITUDE,LONGITUDE,DEPTH,CTDPRS,CTDTMP,CTDSAL,CTDSAL_FLAG_W,SALNTY,SALNTY_FLAG_W,SALTREF,SALTREF_FLAG_W,CTDOXY,CTDOXY_FLAG_W,OXYGEN,OXYGEN_FLAG_W,SILCAT,SILCAT_FLAG_W,NITRAT,NITRAT_FLAG_W,NITRIT,NITRIT_FLAG_W,PHSPHT,PHSPHT_FLAG_W,CFC-11,CFC-11_FLAG_W,CFC-12,CFC-12_FLAG_W,CCL4,CCL4_FLAG_W,TCARBN,TCARBN_FLAG_W,ALKALI,ALKALI_FLAG_W,PCO2,PCO2_FLAG_W,PCO2TMP,PH_TOT,PH_TOT_FLAG_W,PH_TMP,SF6,SF6_FLAG_W,DOC,DOC_FLAG_W,TDN,TDN_FLAG_W,TRITUM,TRITUM_FLAG_W,HELIUM,HELIUM_FLAG_W,OXY_18,OXY_18_FLAG_W,BLACKC,BLACKC_FLAG_W,PIGMENTS,PIGMENTS_FLAG_W,SIGMA-THETA,SIGMA-1,SIGMA-2,SIGMA-3,SIGMA-4
,,,,,,,,,,,METERS,DBARS,ITS-90,PSS-78,,PSS-78,,G/KG,,UMOL/KG,,UMOL/KG,,UMOL/KG,,UMOL/KG,,UMOL/KG,,UMOL/KG,,PMOL/KG,,PMOL/KG,,PMOL/KG,,UMOL/KG,,UMOL/KG,,UATM@T,,DEG_C,,,DEG_C,FMOL/KG,,UMOL/KG,,UMOL/KG,,TU,,NMOL/KG,,,,,,,,,,,,
33RO20110828,   A10,    88,  1,     24,    024,2,20000101,0000,-30.0010, -35.4921, 2246,      6.4,  18.5081,  36.0895,2,  36.0929,2,  36.2631,2,    236.6,2,    238.9,2,     0.68,2,     0.00,2,     0.01,2,     0.03,2, -999.000,9, -999.000,9, -999.000,9,   2075.5,6,   2363.8,2,   -999.0,9,  -999.00,   7.9735,2,    25.59, -999.000,9,   -999.0,9,   -999.0,9, -999.000,9,-999.0000,9,-999.0000,9,-999.0000,9,-999.0000,1, 25.982, 30.271, 34.465, 38.568, 42.582
33RO20110828,   A10,    88,  1,     23,    023,2,20000101,0000,-30.0010, -35.4921, 2246,     48.6,  18.5167,  36.0895,2,  36.0895,2,  36.2596,2,    235.4,2,    234.5,2,     0.68,2,     0.00,2,     0.01,2,     0.04,2, -999.000,9, -999.000,9, -999.000,9,   -999.0,9,   2361.9,2,   -999.0,9,  -999.00,   7.9193,2,    25.61, -999.000,9,   -999.0,9,   -999.0,9, -999.000,9,-999.0000,9,-999.0000,9,-999.0000,9,-999.0000,9, 25.980, 30.268, 34.462, 38.565, 42.580
33RO20110828,   A10,    88,  1,     22,    022,2,20000101,0000,-30.0010, -35.4921, 2246,    100.0,  17.2889,  35.8921,2,  35.8910,2,  36.0602,2,    234.7,2,    233.1,2,     0.88,2,     0.29,2,     0.19,2,     0.10,2, -999.000,9, -999.000,9, -999.000,9,   -999.0,9,   -999.0,9,   -999.0,9,  -999.00,   7.9490,2,    25.51, -999.000,9,   -999.0,9,   -999.0,9, -999.000,9,-999.0000,9,-999.0000,9,-999.0000,9,-999.0000,1, 26.133, 30.443, 34.659, 38.782, 42.816
33RO20110828,   A10,    88,  1,     21,    021,2,20000101,0000,-30.0010, -35.4921, 2246,    148.5,  16.5607,  35.7650,2,  35.7541,2,  35.9227,2,    220.6,2,    220.2,2,     1.37,2,     2.44,2,     0.03,2,     0.22,2, -999.000,9, -999.000,9, -999.000,9,   -999.0,9,   2345.6,2,   -999.0,9,  -999.00,   7.8988,2,    25.46, -999.000,9,   -999.0,9,   -999.0,9, -999.000,9,-999.0000,9,-999.0000,9,-999.0000,9,-999.0000,1, 26.203, 30.527, 34.755, 38.891, 42.937
33RO20110828,   A10,    88,  1,     20,    020,2,20000101,0000,-30.0010, -35.4921, 2246,    200.0,  15.5633,  35.5972,2,  35.6123,2,  35.7803,2,    211.2,2,    211.4,2,     1.85,2,     4.78,2,     0.02,2,     0.35,2, -999.000,9, -999.000,9, -999.000,9,   -999.0,9,   -999.0,9,   -999.0,9,  -999.00,   7.8789,2,    25.56, -999.000,9,   -999.0,9,   -999.0,9, -999.000,9,-999.0000,9,-999.0000,9,-999.0000,9,-999.0000,9, 26.325, 30.668, 34.914, 39.067, 43.130
33RO20110828,   A10,    88,  1,     19,    019,2,20000101,0000,-30.0010, -35.4921, 2246,    249.5,  14.6777,  35.4821,2,  35.4802,2,  35.6475,2,    213.1,2,    211.7,2,     2.34,2,     6.54,2,     0.01,2,     0.45,2, -999.000,9, -999.000,9, -999.000,9,   -999.0,9,   2330.2,3,   -999.0,9,  -999.00,   7.8599,3,    25.51, -999.000,9,   -999.0,9,   -999.0,9, -999.000,9,-999.0000,9,-999.0000,9,-999.0000,9,-999.0000,9, 26.421, 30.780, 35.043, 39.213, 43.291
33RO20110828,   A10,    88,  1,     18,    018,2,20000101,0000,-30.0010, -35.4921, 2246,    298.9,  14.1502,  35.4148,2,  35.4153,2,  35.5823,2,    212.8,2,    213.1,2,     2.54,2,     7.61,2,     0.01,2,     0.49,2, -999.000,9, -999.000,9, -999.000,9,   -999.0,9,   -999.0,9,   -999.0,9,  -999.00,   7.8477,2,    25.44, -999.000,9,   -999.0,9,   -999.0,9, -999.000,9,-999.0000,9,-999.0000,9,-999.0000,9,-999.0000,9, 26.486, 30.855, 35.128, 39.307, 43.395
33RO20110828,   A10,    88,  1,     17,    017,2,20000101,0000,-30.0010, -35.4921, 2246,    348.2,  13.3969,  35.2999,2,  35.3057,2,  35.4722,2,    212.3,2,    212.4,2,     3.02,2,     9.17,2,     0.01,2,     0.59,2, -999.000,9, -999.000,9, -999.000,9,   -999.0,9,   2320.0,2,   -999.0,9,  -999.00,   7.8233,2,    25.57, -999.000,9,   -999.0,9,   -999.0,9, -999.000,9,-999.0000,9,-999.0000,9,-999.0000,9,-999.0000,9, 26.559, 30.944, 35.232, 39.425, 43.526
33RO20110828,   A10,    88,  1,     16,    016,2,20000101,0000,-30.0010, -35.4921, 2246,    400.1,  12.6909,  35.1833,2,  35.1814,2,  35.3473,2,    211.8,2,    212.4,2,     3.61,2,    10.73,2,     0.01,2,     0.68,2, -999.000,9, -999.000,9, -999.000,9,   -999.0,9,   -999.0,9,   -999.0,9,  -999.00,   7.7997,2,    25.57, -999.000,9,   -999.0,9,   -999.0,9, -999.000,9,-999.0000,9,-999.0000,9,-999.0000,9,-999.0000,9, 26.606, 31.006, 35.307, 39.514, 43.629
33RO20110828,   A10,    88,  1,     15,    015,2,20000101,0000,-30.0010, -35.4921, 2246,    450.7,  11.9505,  35.0760,2,  35.0790,2,  35.2444,2,    209.4,2,    210.7,2,     4.49,2,    12.68,2,     0.01,2,     0.78,2, -999.000,9, -999.000,9, -999.000,9,   -999.0,9,   2308.1,2,   -999.0,9,  -999.00,   7.7802,2,    25.57, -999.000,9,   -999.0,9,   -999.0,9, -999.000,9,-999.0000,9,-999.0000,9,-999.0000,9,-999.0000,9, 26.671, 31.086, 35.403, 39.625, 43.754
33RO20110828,   A10,    88,  1,     14,    014,2,20000101,0000,-30.0010, -35.4921, 2246,    551.0,   9.8860,  34.7907,2,  34.7924,2,  34.9564,2,    206.1,2,    208.0,2,     7.22,2,    17.86,2,     0.01,2,     1.06,2, -999.000,9, -999.000,9, -999.000,9,   -999.0,9,   -999.0,9,   -999.0,9,  -999.00,   7.7190,2,    25.61, -999.000,9,   -999.0,9,   -999.0,9, -999.000,9,-999.0000,9,-999.0000,9,-999.0000,9,-999.0000,9, 26.820, 31.280, 35.641, 39.905, 44.075
33RO20110828,   A10,    88,  1,     13,    013,2,20000101,0000,-30.0010, -35.4921, 2246,    649.4,   7.6856,  34.5321,2,  34.5344,2,  34.6972,2,    209.9,2,    209.2,2,    11.22,2,    23.23,2,     0.01,2,     1.37,2, -999.000,9, -999.000,9, -999.000,9,   -999.0,9,   2258.9,4,   -999.0,9,  -999.00,   7.6615,2,    25.54, -999.000,9,   -999.0,9,   -999.0,9, -999.000,9,-999.0000,9,-999.0000,9,-999.0000,9,-999.0000,9, 26.964, 31.475, 35.886, 40.198, 44.414
33RO20110828,   A10,    88,  1,     12,    012,2,20000101,0000,-30.0010, -35.4921, 2246,    748.6,   5.8381,  34.3526,2,  34.3532,2,  34.5152,2,    223.2,2,    222.9,2,    15.13,2,    26.16,2,     0.01,2,     1.56,2, -999.000,9, -999.000,9, -999.000,9,   -999.0,9,   -999.0,9,   -999.0,9,  -999.00,   7.6420,2,    25.50, -999.000,9,   -999.0,9,   -999.0,9, -999.000,9,-999.0000,9,-999.0000,9,-999.0000,9,-999.0000,9, 27.070, 31.627, 36.082, 40.437, 44.695
33RO20110828,   A10,    88,  1,     11,    011,2,20000101,0000,-30.0010, -35.4921, 2246,    849.8,   4.9019,  34.2907,2,  34.2918,2,  34.4535,2,    228.7,2,    228.8,2,    19.23,2,    27.92,2,     0.01,2,     1.68,2, -999.000,9, -999.000,9, -999.000,9,   -999.0,9,   2280.9,2,   -999.0,9,  -999.00,   7.6319,2,    25.58, -999.000,9,   -999.0,9,   -999.0,9, -999.000,9,-999.0000,9,-999.0000,9,-999.0000,9,-999.0000,9, 27.133, 31.714, 36.192, 40.570, 44.849
33RO20110828,   A10,    88,  1,     10,    010,2,20000101,0000,-30.0010, -35.4921, 2246,    946.9,   4.1251,  34.2907,2,  34.2916,2,  34.4533,2,    221.5,2,    221.9,2,    27.43,2,    30.07,2,     0.01,2,     1.86,2, -999.000,9, -999.000,9, -999.000,9,   -999.0,9,   -999.0,9,   -999.0,9,  -999.00,   7.6057,2,    25.52, -999.000,9,   -999.0,9,   -999.0,9, -999.000,9,-999.0000,9,-999.0000,9,-999.0000,9,-999.0000,9, 27.217, 31.818, 36.316, 40.713, 45.011
33RO20110828,   A10,    88,  1,      9,    009,2,20000101,0000,-30.0010, -35.4921, 2246,   1026.1,   3.8090,  34.3128,2,  34.3136,2,  34.4754,2,    214.7,2,    214.3,2,    32.90,2,    31.14,2,     0.01,2,     1.95,2, -999.000,9, -999.000,9, -999.000,9,   -999.0,9,   2292.1,2,   -999.0,9,  -999.00,   7.5940,2,    25.55, -999.000,9,   -999.0,9,   -999.0,9, -999.000,9,-999.0000,9,-999.0000,9,-999.0000,9,-999.0000,9, 27.267, 31.877, 36.383, 40.787, 45.092
33RO20110828,   A10,    88,  1,      8,    008,2,20000101,0000,-30.0010, -35.4921, 2246,   1199.6,   3.3499,  34.3873,2,  34.3881,2,  34.5503,2,    198.5,2,    198.4,2,    43.64,2,    32.31,2,     0.01,2,     2.09,2, -999.000,9, -999.000,9, -999.000,9,   -999.0,9,   -999.0,9,   -999.0,9,  -999.00,   7.5641,2,    25.56, -999.000,9,   -999.0,9,   -999.0,9, -999.000,9,-999.0000,9,-999.0000,9,-999.0000,9,-999.0000,9, 27.372, 31.993, 36.511, 40.927, 45.243
33RO20110828,   A10,    88,  1,      7,    007,2,20000101,0000,-30.0010, -35.4921, 2246,   1322.3,   3.1110,  34.4869,2,  34.4880,2,  34.6507,2,    190.5,2,    189.6,2,    51.64,2,    32.31,2,     0.01,2,     2.17,2, -999.000,9, -999.000,9, -999.000,9,   -999.0,9,   2316.1,2,   -999.0,9,  -999.00,   7.5636,2,    25.52, -999.000,9,   -999.0,9,   -999.0,9, -999.000,9,-999.0000,9,-999.0000,9,-999.0000,9,-999.0000,9, 27.475, 32.102, 36.625, 41.046, 45.368
33RO20110828,   A10,    88,  1,      6,    006,2,20000101,0000,-30.0010, -35.4921, 2246,   1474.7,   2.9599,  34.5823,2,  34.5831,2,  34.7462,2,    189.8,2,    189.3,2,    55.15,2,    31.43,2,     0.01,2,     2.14,2, -999.000,9, -999.000,9, -999.000,9,   -999.0,9,   -999.0,9,   -999.0,9,  -999.00,   7.5633,2,    25.58, -999.000,9,   -999.0,9,   -999.0,9, -999.000,9,-999.0000,9,-999.0000,9,-999.0000,9,-999.0000,9, 27.565, 32.196, 36.723, 41.148, 45.472
33RO20110828,   A10,    88,  1,      5,    005,2,20000101,0000,-30.0010, -35.4921, 2246,   1649.9,   2.8660,  34.6764,2,  34.6790,6,  34.8425,6,    196.1,2,    196.4,2,    54.56,2,    29.77,2,     0.01,2,     2.05,2,    0.138,2,    0.068,2,    0.720,3,   2224.4,2,   2323.7,2,   -999.0,9,  -999.00,   7.5892,2,    25.51,    0.031,2,   -999.0,9,   -999.0,9, -999.000,9,-999.0000,9,-999.0000,9,-999.0000,9,-999.0000,9, 27.650, 32.283, 36.811, 41.238, 45.564
33RO20110828,   A10,    88,  1,      4,    004,2,20000101,0000,-30.0010, -35.4921, 2246,   1922.6,   2.8278,  34.7592,2,  34.7596,2,  34.9235,2,    208.6,2,    209.6,2,    51.72,2,    27.42,2,     0.01,2,     1.89,2,    0.064,2,    0.034,2,    0.439,3,   -999.0,9,   -999.0,9,   -999.0,9,  -999.00,   7.6274,2,    25.54,    0.049,2,   -999.0,9,   -999.0,9, -999.000,9,-999.0000,9,-999.0000,9,-999.0000,9,-999.0000,9, 27.722, 32.355, 36.885, 41.313, 45.640
33RO20110828,   A10,    88,  1,      3,    003,2,20000101,0000,-30.0010, -35.4921, 2246,   2048.6,   2.8281,  34.7844,2,  34.7853,2,  34.9493,2,    213.8,2,    214.1,2,    49.87,2,    26.54,2,     0.01,2,     1.82,2,    0.048,2,    0.025,2,    0.354,3,   -999.0,9,   2325.5,2,   -999.0,9,  -999.00,   7.6257,2,    25.58,    0.000,2,   -999.0,9,   -999.0,9, -999.000,9,-999.0000,9,-999.0000,9,-999.0000,9,-999.0000,9, 27.743, 32.377, 36.907, 41.335, 45.662
33RO20110828,   A10,    88,  1,      2,    002,2,20000101,0000,-30.0010, -35.4921, 2246,   2122.9,   2.8175,  34.8136,2,  34.8138,2,  34.9780,2,    220.2,2,    221.2,2,    47.04,2,    25.67,2,     0.02,2,     1.72,2,    0.036,2,    0.019,2,    0.293,3,   -999.0,9,   -999.0,9,   -999.0,9,  -999.00,   7.6417,2,    25.55,    0.015,2,   -999.0,9,   -999.0,9, -999.000,9,-999.0000,9,-999.0000,9,-999.0000,9,-999.0000,9, 27.767, 32.402, 36.932, 41.360, 45.687
33RO20110828,   A10,    88,  1,      1,    001,2,20000101,0000,-30.0010, -35.4921, 2246,   2273.9,   2.8208,  34.8277,2,  34.8294,2,  34.9936,2,    225.7,2,    224.5,2,    45.67,2,    24.88,2,     0.01,2,     1.70,2,    0.031,2,    0.017,2,    0.311,3,   2202.2,2,   2325.1,2,   -999.0,9,  -999.00,   7.6668,2,    25.55,    0.000,2,   -999.0,9,   -999.0,9, -999.000,9,-999.0000,9,-999.0000,9,-999.0000,9,-999.0000,9, 27.781, 32.415, 36.945, 41.373, 45.701