BOTTLE,20140929PRINUNIVRMK
EXPOCODE,SECT_ID,STNNBR,CASTNO,BTLNBR,BTLNBR_FLAG_W,DATE,TIME,LATITUDE,LONGITUDE,DEPTH,CTDPRS,CTDTMP,CTDSAL,CTDSAL_FLAG_W,SALNTY,SALNTY_FLAG_W,CTDOXY,CTDOXY_FLAG_W,OXYGEN,OXYGEN_FLAG_W,SILCAT,SILCAT_FLAG_W,NITRAT,NITRAT_FLAG_W,PHSPHT,PHSPHT_FLAG_W,ALKALI,ALKALI_FLAG_W,PH_SWS,PH_SWS_FLAG_W,PH_TMP
,,,,,,,,,,METERS,DBAR,ITS-90,PSS-78,,PSS-78,,UMOL/KG,,UMOL/KG,,UMOL/KG,,UMOL/KG,,UMOL/KG,,UMOL/KG,,,,DEG C
  35TH20100608, OVIDE,    81,  1,      3,2,20100628,1344, 59.6240, -38.9580, 2915,   2960.2,   1.4260,  34.8860,2,  34.8860,2,    310.2,2,    305.9,2,     7.57,2,    13.05,2,     0.87,2,   2303.6,2,   7.7180,2,    25.00
  35TH20100608, OVIDE,    81,  1,      4,2,20100628,1344, 59.6240, -38.9580, 2915,   2909.4,   1.4410,  34.8900,2,  34.8850,2,    309.2,2,    307.4,2,     7.69,2,    13.34,2,     0.88,2,   2303.0,2,   7.7160,2,    25.00
  35TH20100608, OVIDE,    81,  1,      5,2,20100628,1344, 59.6240, -38.9580, 2915,   2859.1,   1.6820,  34.8810,2,  34.8830,2,    307.3,2,    305.6,2,     7.64,2,    13.50,2,     0.88,2,   2302.6,2,   7.7250,2,    25.00
  35TH20100608, OVIDE,    81,  1,      6,2,20100628,1344, 59.6240, -38.9580, 2915,   2859.2,   1.6820,  34.8840,2,  34.8820,2,    307.3,2,    306.9,2,     7.62,2,    13.47,2,     0.91,2,   -999.0,9,-999.0000,9,    25.00
  35TH20100608, OVIDE,    81,  1,      7,2,20100628,1344, 59.6240, -38.9580, 2915,   2748.9,   2.1130,  34.8850,2,  34.8860,2,    300.8,2,    299.8,2,     8.41,2,    14.10,2,     0.92,2,   2302.8,2,   7.7240,2,    25.00
  35TH20100608, OVIDE,    81,  1,      8,2,20100628,1344, 59.6240, -38.9580, 2915,   2497.4,   2.8620,  34.9240,2,  34.9230,2,    281.1,2,    281.2,2,    12.26,2,    16.34,2,     1.04,2,   2308.7,2,   7.7280,2,    25.00
  35TH20100608, OVIDE,    81,  1,      9,2,20100628,1344, 59.6240, -38.9580, 2915,   2249.7,   3.0380,  34.9210,2,  34.9220,2,    280.3,2,    280.3,2,    11.87,2,    16.58,2,     1.07,2,   2309.3,2,   7.7270,2,    25.00
  35TH20100608, OVIDE,    81,  1,     10,2,20100628,1344, 59.6240, -38.9580, 2915,   1999.2,   3.1930,  34.9170,2,  34.9170,2,    279.5,2,    279.8,2,    11.36,2,    16.85,2,     1.10,2,   2311.8,2,   7.7260,2,    25.00
  35TH20100608, OVIDE,    81,  1,     11,2,20100628,1344, 59.6240, -38.9580, 2915,   1799.9,   3.3270,  34.9150,2,  34.9150,2,    279.2,2,    278.7,2,    11.12,2,    17.14,2,     1.09,2,   -999.0,9,   7.7230,2,    25.00
  35TH20100608, OVIDE,    81,  1,     12,2,20100628,1344, 59.6240, -38.9580, 2915,   1599.9,   3.4950,  34.9190,2,  34.9200,2,    276.5,2,    276.4,2,    10.86,2,    17.25,2,     1.08,2,   2307.8,2,   7.7220,2,    25.00
  35TH20100608, OVIDE,    81,  1,     13,2,20100628,1344, 59.6240, -38.9580, 2915,   1399.2,   3.6130,  34.9130,2,  34.9130,2,    277.2,2,    277.6,2,    10.52,2,    17.36,2,     1.10,2,   2306.6,2,   7.7190,2,    25.00
  35TH20100608, OVIDE,    81,  1,     14,2,20100628,1344, 59.6240, -38.9580, 2915,   1198.3,   3.6200,  34.8900,2,  34.8890,2,    284.8,2,    283.9,2,     9.69,2,    16.96,2,     1.08,2,   2303.9,2,   7.7140,2,    25.00
  35TH20100608, OVIDE,    81,  1,     15,2,20100628,1344, 59.6240, -38.9580, 2915,    997.7,   3.6050,  34.8720,2,  34.8730,2,    289.5,2,    289.2,2,     9.16,2,    16.84,2,     1.07,2,   2302.6,2,   7.7140,2,    25.00
  35TH20100608, OVIDE,    81,  1,     16,2,20100628,1344, 59.6240, -38.9580, 2915,    898.1,   3.6150,  34.8650,2,  34.8660,2,    291.5,2,    290.8,2,     8.98,2,    16.80,2,     1.06,2,   2302.0,2,   7.7150,2,    25.00
  35TH20100608, OVIDE,    81,  1,     17,2,20100628,1344, 59.6240, -38.9580, 2915,    797.9,   3.6510,  34.8650,2,  34.8660,2,    293.0,2,    292.2,2,     8.95,2,    16.84,2,     1.06,2,   2301.3,2,   7.7180,2,    25.00
  35TH20100608, OVIDE,    81,  1,     18,2,20100628,1344, 59.6240, -38.9580, 2915,    699.9,   3.7600,  34.8770,2,  34.8770,2,    294.3,2,    292.9,2,     8.75,2,    16.65,2,     1.05,2,   2302.4,2,   7.7150,2,    25.00
  35TH20100608, OVIDE,    81,  1,     19,2,20100628,1344, 59.6240, -38.9580, 2915,    598.9,   3.8610,  34.8890,2,  34.8850,2,    294.2,2,    293.0,2,     8.65,2,    16.84,2,     1.06,2,   2303.9,2,   7.7190,2,    25.00
  35TH20100608, OVIDE,    81,  1,     20,2,20100628,1344, 59.6240, -38.9580, 2915,    498.0,   3.9740,  34.8930,2,  34.8930,2,    292.1,2,    290.9,2,     8.74,2,    17.18,2,     1.06,2,   2304.1,2,   7.7150,2,    25.00
  35TH20100608, OVIDE,    81,  1,     21,2,20100628,1344, 59.6240, -38.9580, 2915,    400.0,   4.2180,  34.9080,2,  34.9120,2,    289.9,2,    288.4,2,     8.64,2,    16.96,2,     1.07,2,   2305.0,2,   7.7210,2,    25.00
  35TH20100608, OVIDE,    81,  1,     22,2,20100628,1344, 59.6240, -38.9580, 2915,    299.6,   4.4690,  34.9210,2,  34.9210,2,    295.1,2,    294.1,2,     8.21,2,    16.75,2,     1.04,2,   2304.4,2,   7.7260,2,    25.00
  35TH20100608, OVIDE,    81,  1,     23,2,20100628,1344, 59.6240, -38.9580, 2915,    199.7,   4.7400,  34.9360,2,  34.9340,2,    302.3,2,    299.2,2,     7.64,2,    16.24,2,     1.03,2,   2304.9,2,   7.7360,2,    25.00
  35TH20100608, OVIDE,    81,  1,     24,2,20100628,1344, 59.6240, -38.9580, 2915,    148.7,   4.8690,  34.9380,2,  34.9400,2,    303.9,2,    301.1,2,     7.45,2,    15.98,2,     1.00,2,   2313.1,2,   7.7390,2,    25.00
  35TH20100608, OVIDE,    81,  1,     25,2,20100628,1344, 59.6240, -38.9580, 2915,     99.3,   4.7180,  34.8690,2,  34.8690,2,    300.7,2,    297.4,2,     7.06,2,    15.92,2,     1.02,2,   2303.1,2,   7.7330,2,    25.00
  35TH20100608, OVIDE,    81,  1,     26,2,20100628,1344, 59.6240, -38.9580, 2915,     49.7,   5.9480,  34.7970,2,  34.7980,2,    304.7,2,    304.0,2,     5.24,2,    12.28,2,     0.86,2,   -999.0,9,   7.7710,2,    25.00
  35TH20100608, OVIDE,    81,  1,     27,2,20100628,1344, 59.6240, -38.9580, 2915,      3.6,   9.0570,  34.7700,2,  34.7760,3,    303.6,2,    304.8,2,     4.39,2,     7.90,2,     0.53,2,   2301.5,2,   7.8620,2,    25.00
  35TH20100608, OVIDE,    82,  1,      3,2,20100628,1827, 59.6850, -39.5990, 2783,   2826.2,   1.5040,  34.8830,2,  34.8840,2,    309.5,2,    305.4,2,     7.59,2,    14.36,2,     0.88,2,   -999.0,9,   7.7240,2,    25.00
  35TH20100608, OVIDE,    82,  1,      4,2,20100628,1827, 59.6850, -39.5990, 2783,   2776.9,   1.5150,  34.8830,2,  34.8810,2,    309.4,2,    306.3,2,     7.47,2,    14.32,2,     0.88,2,   -999.0,9,   7.7170,2,    25.00
  35TH20100608, OVIDE,    82,  1,      5,2,20100628,1827, 59.6850, -39.5990, 2783,   2729.1,   1.5790,  34.8840,2,  34.8820,2,    308.3,2,    306.4,2,     7.57,2,    14.26,2,     0.96,2,   -999.0,9,   7.7180,2,    25.00
  35TH20100608, OVIDE,    82,  1,      6,2,20100628,1827, 59.6850, -39.5990, 2783,   2499.9,   2.3810,  34.8970,2,  34.8950,2,    294.3,2,    293.1,2,     9.65,2,    15.65,2,     1.08,2,   -999.0,9,   7.7230,2,    25.00
  35TH20100608, OVIDE,    82,  1,      7,2,20100628,1827, 59.6850, -39.5990, 2783,   2250.5,   2.9230,  34.9250,2,  34.9240,2,    280.3,2,    282.7,2,    12.38,2,    17.39,2,     1.04,2,   -999.0,9,   7.7280,2,    25.00
  35TH20100608, OVIDE,    82,  1,      8,2,20100628,1827, 59.6850, -39.5990, 2783,   2249.9,   2.9220,  34.9250,2,  34.9240,2,    280.4,2,    281.5,2,    12.41,2,    17.38,2,     1.16,2,   -999.0,9,-999.0000,9,    25.00
  35TH20100608, OVIDE,    82,  1,      9,2,20100628,1827, 59.6850, -39.5990, 2783,   1998.4,   3.1110,  34.9190,2,  34.9190,2,    280.1,2,    281.5,2,    11.67,2,    17.57,2,     1.08,2,   -999.0,9,   7.7210,2,    25.00
  35TH20100608, OVIDE,    82,  1,     10,2,20100628,1827, 59.6850, -39.5990, 2783,   1798.2,   3.2570,  34.9150,2,  34.9160,2,    279.8,2,    279.6,2,    11.16,2,    17.63,2,     1.10,2,   -999.0,9,   7.7230,2,    25.00
  35TH20100608, OVIDE,    82,  1,     11,2,20100628,1827, 59.6850, -39.5990, 2783,   1598.9,   3.4200,  34.9140,2,  34.9140,2,    278.3,2,    279.4,2,    10.92,2,    17.97,2,     1.07,2,   -999.0,9,   7.7190,2,    25.00
  35TH20100608, OVIDE,    82,  1,     12,2,20100628,1827, 59.6850, -39.5990, 2783,   1400.0,   3.6070,  34.9160,2,  34.9160,2,    276.7,2,    277.1,2,    10.60,2,    18.02,2,     1.07,2,   -999.0,9,   7.7160,2,    25.00
  35TH20100608, OVIDE,    82,  1,     13,2,20100628,1827, 59.6850, -39.5990, 2783,   1197.4,   3.6330,  34.8940,2,  34.8950,2,    282.7,2,    284.3,2,     9.85,2,    17.77,2,     1.05,2,   -999.0,9,   7.7170,2,    25.00
  35TH20100608, OVIDE,    82,  1,     14,2,20100628,1827, 59.6850, -39.5990, 2783,    999.2,   3.5830,  34.8660,2,  34.8660,2,    290.2,2,    291.0,2,     9.09,2,    17.40,2,     1.04,2,   -999.0,9,   7.7130,2,    25.00
  35TH20100608, OVIDE,    82,  1,     15,2,20100628,1827, 59.6850, -39.5990, 2783,    892.1,   3.6060,  34.8640,2,  34.8640,2,    292.0,2,    292.8,2,     8.98,2,    17.57,2,     1.04,2,   -999.0,9,   7.7150,2,    25.00
  35TH20100608, OVIDE,    82,  1,     16,2,20100628,1827, 59.6850, -39.5990, 2783,    796.8,   3.6670,  34.8650,2,  34.8670,2,    294.1,2,    294.2,2,     8.78,2,    17.33,2,     1.05,2,   -999.0,9,   7.7140,2,    25.00
  35TH20100608, OVIDE,    82,  1,     17,2,20100628,1827, 59.6850, -39.5990, 2783,    704.1,   3.7690,  34.8750,2,  34.8750,2,    295.6,2,    296.4,2,     8.65,2,    17.35,2,     1.06,2,   -999.0,9,   7.7120,2,    25.00
  35TH20100608, OVIDE,    82,  1,     18,2,20100628,1827, 59.6850, -39.5990, 2783,    600.9,   3.8930,  34.8890,2,  34.8880,2,    294.1,2,    295.9,2,     8.68,2,    17.45,2,     1.05,2,   -999.0,9,   7.7170,2,    25.00
  35TH20100608, OVIDE,    82,  1,     19,2,20100628,1827, 59.6850, -39.5990, 2783,    500.6,   4.0460,  34.8990,2,  34.8980,2,    290.7,2,    290.2,2,     8.54,2,    17.62,2,     1.07,2,   -999.0,9,   7.7160,2,    25.00
  35TH20100608, OVIDE,    82,  1,     20,2,20100628,1827, 59.6850, -39.5990, 2783,    399.9,   4.2700,  34.9100,2,  34.9100,2,    281.0,2,    290.2,3,     8.47,2,    17.48,2,     1.05,2,   -999.0,9,   7.7180,2,    25.00
  35TH20100608, OVIDE,    82,  1,     21,2,20100628,1827, 59.6850, -39.5990, 2783,    299.4,   4.5330,  34.9250,2,  34.9230,2,    282.8,2,    280.0,2,     8.84,2,    17.92,2,     1.07,2,   -999.0,9,   7.7140,2,    25.00
  35TH20100608, OVIDE,    82,  1,     22,2,20100628,1827, 59.6850, -39.5990, 2783,    201.3,   4.5620,  34.9040,2,  34.9050,2,    282.9,2,    286.5,2,     8.28,2,    17.49,2,     1.06,2,   -999.0,9,   7.7210,2,    25.00
  35TH20100608, OVIDE,    82,  1,     23,2,20100628,1827, 59.6850, -39.5990, 2783,    149.9,   4.6130,  34.8900,2,  34.8950,2,    289.9,2,    288.6,2,     8.04,2,    17.32,2,     1.04,2,   -999.0,9,   7.7220,2,    25.00
  35TH20100608, OVIDE,    82,  1,     24,2,20100628,1827, 59.6850, -39.5990, 2783,    100.9,   4.9000,  34.9490,2,  34.8830,3,    302.7,2,    295.6,3,     7.21,2,    16.64,2,     1.01,2,   -999.0,9,   7.7310,2,    25.00
  35TH20100608, OVIDE,    82,  1,     25,2,20100628,1827, 59.6850, -39.5990, 2783,     53.1,   6.3910,  34.9400,2,  34.9410,2,    296.6,2,    295.4,2,     5.70,2,    12.35,2,     0.83,2,   -999.0,9,   7.7810,2,    25.00
  35TH20100608, OVIDE,    82,  1,     26,2,20100628,1827, 59.6850, -39.5990, 2783,      3.5,   8.7150,  34.7500,2,  34.7560,3,    311.3,2,    309.3,2,     4.41,2,     8.12,2,     0.56,2,   -999.0,9,   7.8610,2,    25.00
  35TH20100608, OVIDE,    83,  1,      3,2,20100628,2251, 59.7230, -40.2530, 2643,   2682.9,   1.5010,  34.8860,2,  34.8820,2,    309.1,2,    305.4,2,     7.80,2,    14.03,2,     0.85,2,   2302.8,2,   7.7230,2,    25.00
  35TH20100608, OVIDE,    83,  1,      4,2,20100628,2251, 59.7230, -40.2530, 2643,   2630.2,   1.5550,  34.8840,2,  34.8790,2,    308.7,2,    306.2,2,     7.81,2,    14.12,2,     0.85,2,   2302.0,2,   7.7200,2,    25.00
  35TH20100608, OVIDE,    83,  1,      5,2,20100628,2251, 59.7230, -40.2530, 2643,   2579.1,   1.7790,  34.8850,2,  34.8830,2,    305.6,2,    304.2,2,     8.07,2,    14.36,2,     0.86,2,   2302.0,2,   7.7210,2,    25.00
  35TH20100608, OVIDE,    83,  1,      6,2,20100628,2251, 59.7230, -40.2530, 2643,   2498.9,   2.1190,  34.8860,2,  34.8850,2,    300.1,2,    302.7,2,     8.66,2,    14.75,2,     0.88,2,   2301.6,2,   7.7240,2,    25.00
  35TH20100608, OVIDE,    83,  1,      7,2,20100628,2251, 59.7230, -40.2530, 2643,   2292.3,   2.7700,  34.9280,2,  34.9280,2,    278.4,2,    280.1,2,    13.39,2,    16.74,2,     1.00,2,   2309.5,2,   7.7260,2,    25.00
  35TH20100608, OVIDE,    83,  1,      8,2,20100628,2251, 59.7230, -40.2530, 2643,   2293.6,   2.7640,  34.9290,2,  34.9300,2,    278.3,2,    279.7,2,    13.33,2,    16.86,2,     1.02,2,   -999.0,9,-999.0000,9,    25.00
  35TH20100608, OVIDE,    83,  1,      9,2,20100628,2251, 59.7230, -40.2530, 2643,   1998.7,   3.0050,  34.9220,2,  34.9210,2,    279.9,2,    279.9,2,    12.19,2,    17.16,2,     1.03,2,   2306.8,2,   7.7250,2,    25.00
  35TH20100608, OVIDE,    83,  1,     10,2,20100628,2251, 59.7230, -40.2530, 2643,   1801.3,   3.1610,  34.9210,2,  34.9210,2,    280.0,2,    281.3,2,    11.79,2,    17.41,2,     1.05,2,   2306.4,2,   7.7250,2,    25.00
  35TH20100608, OVIDE,    83,  1,     11,2,20100628,2251, 59.7230, -40.2530, 2643,   1601.6,   3.2710,  34.9140,2,  34.9140,2,    279.2,2,    281.4,2,    11.36,2,    17.52,2,     1.07,2,   2304.7,2,   7.7230,2,    25.00
  35TH20100608, OVIDE,    83,  1,     12,2,20100628,2251, 59.7230, -40.2530, 2643,   1400.1,   3.5030,  34.9250,2,  34.9250,2,    277.0,2,    278.2,2,    10.94,2,    17.50,2,     1.07,2,   2304.7,2,   7.7230,2,    25.00
  35TH20100608, OVIDE,    83,  1,     13,2,20100628,2251, 59.7230, -40.2530, 2643,   1200.2,   3.6850,  34.9280,2,  34.9280,2,    276.4,2,    276.8,2,    10.47,2,    17.34,2,     1.04,2,   2304.8,2,   7.7200,2,    25.00
  35TH20100608, OVIDE,    83,  1,     14,2,20100628,2251, 59.7230, -40.2530, 2643,    997.1,   3.7060,  34.9060,2,  34.9040,2,    282.2,2,    281.5,2,     9.96,2,    17.24,2,     1.02,2,   2303.9,2,   7.7160,2,    25.00
  35TH20100608, OVIDE,    83,  1,     15,2,20100628,2251, 59.7230, -40.2530, 2643,    899.9,   3.7160,  34.8960,2,  34.8940,2,    284.7,2,    286.5,2,     9.75,2,    17.17,2,     1.03,2,   2302.6,2,   7.7140,2,    25.00
  35TH20100608, OVIDE,    83,  1,     16,2,20100628,2251, 59.7230, -40.2530, 2643,    798.4,   3.8190,  34.8970,2,  34.8960,2,    287.7,2,    287.3,2,     9.43,2,    17.15,2,     1.02,2,   2304.0,2,   7.7160,2,    25.00
  35TH20100608, OVIDE,    83,  1,     17,2,20100628,2251, 59.7230, -40.2530, 2643,    701.1,   3.9180,  34.9030,2,  34.9000,2,    291.0,2,    288.4,2,     9.21,2,    17.19,2,     1.04,2,   2303.1,2,   7.7170,2,    25.00
  35TH20100608, OVIDE,    83,  1,     18,2,20100628,2251, 59.7230, -40.2530, 2643,    600.3,   4.0660,  34.9150,2,  34.9130,2,    289.0,2,    288.7,2,     9.00,2,    17.15,2,     1.04,2,   2303.1,2,   7.7190,2,    25.00
  35TH20100608, OVIDE,    83,  1,     19,2,20100628,2251, 59.7230, -40.2530, 2643,    501.6,   4.2720,  34.9310,2,  34.9290,2,    285.8,2,    287.1,2,     9.15,2,    17.54,2,     1.06,2,   2305.4,2,   7.7160,2,    25.00
  35TH20100608, OVIDE,    83,  1,     20,2,20100628,2251, 59.7230, -40.2530, 2643,    400.1,   4.5670,  34.9500,2,  34.9490,2,    291.8,2,    290.4,2,     8.70,2,    17.16,2,     1.04,2,   2307.5,2,   7.7290,2,    25.00
  35TH20100608, OVIDE,    83,  1,     21,2,20100628,2251, 59.7230, -40.2530, 2643,    300.1,   4.8520,  34.9710,2,  34.9660,2,    294.3,2,    291.1,2,     8.40,2,    16.83,2,     1.02,2,   2307.8,2,   7.7330,2,    25.00
  35TH20100608, OVIDE,    83,  1,     22,2,20100628,2251, 59.7230, -40.2530, 2643,    199.2,   5.3070,  35.0100,2,  35.0070,2,    295.8,2,    294.8,2,     7.88,2,    16.42,2,     1.00,2,   2309.6,2,   7.7430,2,    25.00
  35TH20100608, OVIDE,    83,  1,     23,2,20100628,2251, 59.7230, -40.2530, 2643,    149.4,   5.5020,  35.0220,2,  35.0220,2,    293.4,2,    293.8,2,     7.65,2,    16.36,2,     0.99,2,   2311.4,2,   7.7440,2,    25.00
  35TH20100608, OVIDE,    83,  1,     24,2,20100628,2251, 59.7230, -40.2530, 2643,    100.2,   5.8180,  35.0440,2,  35.0400,2,    290.2,2,    288.6,2,     7.47,2,    16.12,2,     0.98,2,   2312.2,2,   7.7490,2,    25.00
  35TH20100608, OVIDE,    83,  1,     25,2,20100628,2251, 59.7230, -40.2530, 2643,     51.1,   6.0060,  34.9010,2,  34.8500,3,    303.8,2,    299.2,2,     5.70,2,    12.39,2,     0.84,2,   -999.0,9,   7.7750,2,    25.00
  35TH20100608, OVIDE,    83,  1,     26,2,20100628,2251, 59.7230, -40.2530, 2643,      6.8,   8.9890,  34.7180,2,  34.7210,2,    304.0,2,    304.5,2,     3.79,2,     7.58,2,     0.51,2,   2297.4,2,   7.8650,2,    25.00