BOTTLE,20140929PRINUNIVRMK
# 7/12/2013 Initialized README file 	 
# Data source: Maribel Garcia-Ibanez 8/18/2014
# SHIP: Thalassa	 
# Cruise: Ovide 2010; A25	 
# Region: North Atlantic	 
# EXPOCODE: 35TH20100608	 
# DATES: 6/08 - 6/30/2010	 
# Chief Scientist: H. Mercier/V. Thierry	 
# 98 stations with 28 place Rosette	 
# Hydro: Who - H. Mercier; Status - final	 
# 	Notes: No CTD salinity values 
# Nuts: Pascal Morin; Status - final	 
# 	Notes: CNRS, Station Biologique de Roscoff 
# O2: Who - P. Branellec/P. Lherminier; Status - final	 
# 	Notes:  
# TA: Who - Aida F. Rios/Mariana Ribas; Status - final	 
# 	Notes:  
# pH: Who - Aida F. Rios/Marcos Vazquez; Status - final	 
# 	Notes: SWS @ 25C 
# 	Spectrophotometric measurements 
# References:	 
# Clayton, T.D. and R.H. Byrne, Spectrophotometric seawater pH measurements: total hydrogen ion concentration scale concentration scale calibration of m-cresol purple and at-sea results. D.S.R. I, 40, 10, 2115-2129, doi: 10.1016/0967-0637(93)90048-8, 1993. 
# Perez F.F., A.F. Rios, T. Rellan and M. Alvarez, Improvements in a fast potentiometric seawater alkalinity determination. Ciencias Marinas, 26(3), 463-478, doi: 10.7773/cm.v26i3.592, 2000. 
# Zunino, P., M.I. Garcia-Ibanez, P. Lherminier, H. Mercier, A.F. Rios and F.F. Perez, Variability of the transport of anthropogenic CO2 at the Greenland-Portugal OVIDE section: controlling mechanisms. Biogeosci, 11(8), 2375-2389, doi: 10.5194/bg-11-2375-2014, 2014.  
EXPOCODE,SECT_ID,STNNBR,CASTNO,BTLNBR,BTLNBR_FLAG_W,DATE,TIME,LATITUDE,LONGITUDE,DEPTH,CTDPRS,CTDTMP,CTDSAL,CTDSAL_FLAG_W,SALNTY,SALNTY_FLAG_W,CTDOXY,CTDOXY_FLAG_W,OXYGEN,OXYGEN_FLAG_W,SILCAT,SILCAT_FLAG_W,NITRAT,NITRAT_FLAG_W,PHSPHT,PHSPHT_FLAG_W,ALKALI,ALKALI_FLAG_W,PH_SWS,PH_SWS_FLAG_W,PH_TMP
,,,,,,,,,,METERS,DBAR,ITS-90,PSS-78,,PSS-78,,UMOL/KG,,UMOL/KG,,UMOL/KG,,UMOL/KG,,UMOL/KG,,UMOL/KG,,,,DEG C
  35TH20100608, OVIDE,     1,  1,      3,2,20100610,1926, 40.3330,  -9.4590,  141,    140.7,  13.4180,  35.9110,2,  35.9040,3,    245.9,2,   -999.0,9,     2.87,2,     7.49,2,     0.37,2,   2355.7,2,   7.8680,2,    25.00
  35TH20100608, OVIDE,     1,  1,      4,2,20100610,1926, 40.3330,  -9.4590,  141,     99.4,  14.1290,  36.0180,2,  36.0840,3,    246.1,2,    227.7,3,     2.22,2,     5.92,2,     0.29,2,   2362.6,2,   7.8870,2,    25.00
  35TH20100608, OVIDE,     1,  1,      5,2,20100610,1926, 40.3330,  -9.4590,  141,     52.7,  15.3720,  36.0920,2,  36.0180,3,    271.0,2,    255.4,3,     1.07,2,     0.12,2,     0.08,2,   2369.7,2,   7.9600,2,    25.00
  35TH20100608, OVIDE,     1,  1,      6,2,20100610,1926, 40.3330,  -9.4590,  141,      3.9,  18.7310,  35.9030,2,  35.9070,2,    238.8,2,    236.3,2,     0.85,2,     0.10,2,     0.04,2,   2366.4,2,   7.9920,2,    25.00
  35TH20100608, OVIDE,     2,  1,      3,2,20100610,2108, 40.3330,  -9.6430,  418,    419.9,  11.6290,  35.7810,2,  35.7810,2,    198.9,2,    193.6,2,     6.64,2,    14.83,2,     0.74,2,   2353.7,2,   7.7890,2,    25.00
  35TH20100608, OVIDE,     2,  1,      4,2,20100610,2108, 40.3330,  -9.6430,  418,    397.8,  11.6330,  35.7310,2,  35.7320,2,    206.0,2,    197.8,2,     6.16,2,    14.35,2,     0.72,2,   2349.2,2,   7.7910,2,    25.00
  35TH20100608, OVIDE,     2,  1,      5,2,20100610,2108, 40.3330,  -9.6430,  418,    299.6,  12.2190,  35.7130,2,  35.7130,2,    227.1,2,    220.7,2,     4.03,2,    10.84,2,     0.54,2,   2343.9,2,   7.8270,2,    25.00
  35TH20100608, OVIDE,     2,  1,      6,2,20100610,2108, 40.3330,  -9.6430,  418,    199.3,  12.9420,  35.8170,2,  35.8160,2,    224.2,2,    218.2,2,     3.52,2,     9.75,2,     0.47,2,   2349.8,2,   7.8430,2,    25.00
  35TH20100608, OVIDE,     2,  1,      7,2,20100610,2108, 40.3330,  -9.6430,  418,    149.1,  13.2150,  35.8560,2,  35.8650,3,    230.6,2,    227.1,2,     2.90,2,     8.05,2,     0.41,2,   2353.6,2,   7.8640,2,    25.00
  35TH20100608, OVIDE,     2,  1,      8,2,20100610,2108, 40.3330,  -9.6430,  418,    100.6,  13.7320,  35.9250,2,  35.9290,2,    238.8,2,    232.7,2,     2.34,2,     6.46,2,     0.32,2,   2357.3,2,   7.8840,2,    25.00
  35TH20100608, OVIDE,     2,  1,      9,2,20100610,2108, 40.3330,  -9.6430,  418,     53.5,  15.1800,  36.0890,2,  36.0840,2,    260.4,2,    256.6,2,     1.46,2,     0.68,2,     0.06,2,   2369.7,2,   7.9530,2,    25.00
  35TH20100608, OVIDE,     2,  1,     10,2,20100610,2108, 40.3330,  -9.6430,  418,      4.3,  18.6280,  36.1060,2,  36.1040,2,    233.8,2,    236.1,2,     1.01,2,     0.05,2,     0.02,2,   2370.3,2,   7.9830,2,    25.00
  35TH20100608, OVIDE,     3,  1,      3,2,20100610,2305, 40.3340,  -9.7670,  804,    809.7,  12.0040,  36.1970,2,  36.1950,2,    182.0,2,    183.5,2,     7.85,2,    14.34,2,     0.58,2,   2387.5,2,   7.8080,2,    25.00
  35TH20100608, OVIDE,     3,  1,      4,2,20100610,2305, 40.3340,  -9.7670,  804,    699.6,  12.0390,  36.1200,2,  36.1200,2,    182.5,2,    184.1,2,     7.99,2,    14.36,2,     0.54,2,   2381.8,2,   7.8050,2,    25.00
  35TH20100608, OVIDE,     3,  1,      5,2,20100610,2305, 40.3340,  -9.7670,  804,    598.6,  11.6810,  35.9220,2,  35.9250,2,    182.8,2,    183.9,2,     9.80,2,    15.21,2,     0.64,2,   2365.6,2,   7.7910,2,    25.00
  35TH20100608, OVIDE,     3,  1,      6,2,20100610,2305, 40.3340,  -9.7670,  804,    500.5,  11.6250,  35.7610,2,  35.7610,2,    189.3,2,    189.5,2,     6.84,2,    15.10,2,     0.63,2,   2352.2,2,   7.7870,2,    25.00
  35TH20100608, OVIDE,     3,  1,      7,2,20100610,2305, 40.3340,  -9.7670,  804,    399.9,  11.7930,  35.6640,2,  35.6660,2,    212.7,2,    211.6,2,     5.09,2,    12.71,2,     0.43,2,   2343.6,2,   7.8050,2,    25.00
  35TH20100608, OVIDE,     3,  1,      8,2,20100610,2305, 40.3340,  -9.7670,  804,    299.0,  12.3520,  35.7230,2,  35.7250,2,    225.2,2,    224.4,2,     3.84,2,    10.09,2,     0.39,2,   2346.0,2,   7.8350,2,    25.00
  35TH20100608, OVIDE,     3,  1,      9,2,20100610,2305, 40.3340,  -9.7670,  804,    200.0,  13.0290,  35.8250,2,  35.8210,2,    228.9,2,    225.3,2,     4.20,2,     8.35,2,     0.33,2,   2350.4,2,   7.8580,2,    25.00
  35TH20100608, OVIDE,     3,  1,     10,2,20100610,2305, 40.3340,  -9.7670,  804,    147.9,  13.4350,  35.8850,2,  35.8850,2,    231.4,2,    232.7,2,     2.71,2,     6.96,2,     0.28,2,   2355.3,2,   7.8750,2,    25.00
  35TH20100608, OVIDE,     3,  1,     11,2,20100610,2305, 40.3340,  -9.7670,  804,    101.5,  13.8810,  35.9500,2,  35.9520,2,    235.2,2,    235.0,2,     2.35,2,     5.52,2,     0.23,2,   2357.8,2,   7.8910,2,    25.00
  35TH20100608, OVIDE,     3,  1,     12,2,20100610,2305, 40.3340,  -9.7670,  804,     46.1,  14.9310,  35.9610,2,  36.0390,3,    254.3,2,    258.6,2,     1.76,2,     0.94,2,     0.07,2,   2366.6,2,   7.9520,2,    25.00
  35TH20100608, OVIDE,     3,  1,     13,2,20100610,2305, 40.3340,  -9.7670,  804,      4.7,  18.2640,  36.1790,2,  36.1830,2,    236.2,2,    239.7,2,     1.45,2,     0.13,2,  -999.00,9,   2374.6,2,   7.9780,2,    25.00
  35TH20100608, OVIDE,     4,  1,      3,2,20100611,0139, 40.3340,  -9.8020, 1261,   1269.8,  10.9180,  36.2180,2,  36.2210,2,    181.9,2,    184.2,2,     9.71,2,    15.64,2,     0.65,2,   2395.2,2,   7.7960,2,    25.00
  35TH20100608, OVIDE,     4,  1,      4,2,20100611,0139, 40.3340,  -9.8020, 1261,   1204.4,  11.0880,  36.2310,2,  36.2330,2,    180.6,2,    181.6,2,     9.49,2,    15.45,2,     0.63,2,   2396.0,2,   7.7980,2,    25.00
  35TH20100608, OVIDE,     4,  1,      5,2,20100611,0139, 40.3340,  -9.8020, 1261,    999.5,  11.6840,  36.2560,2,  36.2560,2,    180.3,2,    182.6,2,     8.54,2,    14.68,2,     0.57,2,   2394.5,2,   7.8050,2,    25.00
  35TH20100608, OVIDE,     4,  1,      6,2,20100611,0139, 40.3340,  -9.8020, 1261,    898.9,  11.8110,  36.2470,2,  36.2470,2,    180.4,2,    182.2,2,     8.34,2,    14.45,2,     0.60,2,   -999.0,9,   7.8070,2,    25.00
  35TH20100608, OVIDE,     4,  1,      7,2,20100611,0139, 40.3340,  -9.8020, 1261,    799.1,  11.9990,  36.2190,2,  36.2190,2,    181.4,2,    183.6,2,     8.55,2,    14.15,2,     0.56,2,   2390.3,2,   7.8090,2,    25.00
  35TH20100608, OVIDE,     4,  1,      8,2,20100611,0139, 40.3340,  -9.8020, 1261,    698.4,  11.8290,  36.0620,2,  36.0620,2,    181.0,2,    183.4,2,     7.75,2,    14.75,2,     0.61,2,   2377.0,2,   7.8000,2,    25.00
  35TH20100608, OVIDE,     4,  1,      9,2,20100611,0139, 40.3340,  -9.8020, 1261,    599.2,  11.6380,  35.8750,2,  35.8750,2,    182.4,2,    184.4,2,     7.49,2,    15.16,2,     0.63,2,   2361.7,2,   7.7880,2,    25.00
  35TH20100608, OVIDE,     4,  1,     10,2,20100611,0139, 40.3340,  -9.8020, 1261,    507.0,  11.7410,  35.7780,2,  35.7610,3,    189.5,2,    191.9,2,     6.51,2,    14.49,2,     0.60,2,   -999.0,9,   7.7880,2,    25.00
  35TH20100608, OVIDE,     4,  1,     11,2,20100611,0139, 40.3340,  -9.8020, 1261,    399.5,  11.8330,  35.6600,2,  35.6670,3,    215.9,2,    212.4,2,     5.08,2,    12.44,2,     0.50,2,   2342.8,2,   7.8090,2,    25.00
  35TH20100608, OVIDE,     4,  1,     12,2,20100611,0139, 40.3340,  -9.8020, 1261,    299.4,  12.2750,  35.7170,2,  35.7200,2,    224.7,2,    222.6,2,     4.24,2,    10.39,2,     0.40,2,   2345.5,2,   7.8340,2,    25.00
  35TH20100608, OVIDE,     4,  1,     13,2,20100611,0139, 40.3340,  -9.8020, 1261,    199.7,  13.0250,  35.8240,2,  35.8220,2,    233.7,2,    233.7,2,     2.90,2,     7.68,2,     0.31,2,   2351.3,2,   7.8650,2,    25.00
  35TH20100608, OVIDE,     4,  1,     14,2,20100611,0139, 40.3340,  -9.8020, 1261,    149.6,  13.4440,  35.8830,2,  35.8830,2,    232.9,2,    234.2,2,     2.62,2,     6.74,2,     0.27,2,   2354.2,2,   7.8780,2,    25.00
  35TH20100608, OVIDE,     4,  1,     15,2,20100611,0139, 40.3340,  -9.8020, 1261,    100.3,  14.1070,  35.9920,2,  35.9910,2,    236.4,2,    236.3,2,     2.17,2,     4.94,2,     0.20,2,   2361.5,2,   7.9000,2,    25.00
  35TH20100608, OVIDE,     4,  1,     16,2,20100611,0139, 40.3340,  -9.8020, 1261,     50.2,  14.8350,  36.0100,2,  36.0090,2,    260.3,2,    259.3,2,     1.48,2,     0.76,2,     0.07,2,   -999.0,9,   7.9550,2,    25.00
  35TH20100608, OVIDE,     4,  1,     17,2,20100611,0139, 40.3340,  -9.8020, 1261,      3.7,  18.2120,  36.1910,2,  36.1920,2,    236.1,2,    238.7,2,     1.26,2,     0.03,2,     0.02,2,   2376.1,2,   7.9790,2,    25.00
  35TH20100608, OVIDE,     5,  1,      3,2,20100611,0433, 40.3310,  -9.8770, 2393,   2420.9,   3.8080,  35.0540,2,  35.0540,2,    248.3,2,    250.0,2,    25.59,2,    19.80,2,     1.09,2,   2331.5,2,   7.7390,2,    25.00
  35TH20100608, OVIDE,     5,  1,      4,2,20100611,0433, 40.3310,  -9.8770, 2393,   2422.9,   3.8050,  35.0550,2,  35.0500,2,    248.3,2,   -999.0,9,    26.06,2,    19.48,2,     1.07,2,   2330.9,2,   7.7380,2,    25.00
  35TH20100608, OVIDE,     5,  1,      5,2,20100611,0433, 40.3310,  -9.8770, 2393,   2248.3,   4.0800,  35.0890,2,  35.0880,2,    247.5,2,    245.4,2,    23.56,2,    19.29,2,     1.08,2,   2330.1,2,   7.7390,2,    25.00
  35TH20100608, OVIDE,     5,  1,      6,2,20100611,0433, 40.3310,  -9.8770, 2393,   1999.0,   4.7800,  35.1830,2,  35.1810,2,    243.5,2,    242.3,2,    17.12,2,    18.65,2,     1.02,2,   2331.7,2,   7.7400,2,    25.00
  35TH20100608, OVIDE,     5,  1,      7,2,20100611,0433, 40.3310,  -9.8770, 2393,   1799.7,   5.8000,  35.3450,2,  35.3440,2,    232.4,2,    232.8,2,    14.99,2,    18.36,2,     0.99,2,   2341.6,2,   7.7470,2,    25.00
  35TH20100608, OVIDE,     5,  1,      8,2,20100611,0433, 40.3310,  -9.8770, 2393,   1599.3,   7.7110,  35.6690,2,  35.6710,2,    209.6,2,    212.9,2,    12.61,2,    17.50,2,     0.93,2,   2362.2,2,   7.7640,2,    25.00
  35TH20100608, OVIDE,     5,  1,      9,2,20100611,0433, 40.3310,  -9.8770, 2393,   1399.3,   9.9050,  36.0520,2,  36.0650,3,    188.4,2,    193.0,2,    10.80,2,    16.32,2,     0.83,2,   2387.4,2,   7.7860,2,    25.00
  35TH20100608, OVIDE,     5,  1,     10,2,20100611,0433, 40.3310,  -9.8770, 2393,   1200.0,  11.0230,  36.2390,2,  36.2390,2,    179.8,2,    183.0,2,     9.59,2,    15.72,2,     0.79,2,   2397.5,2,   7.7970,2,    25.00
  35TH20100608, OVIDE,     5,  1,     11,2,20100611,0433, 40.3310,  -9.8770, 2393,    999.1,  11.7250,  36.2760,2,  36.2760,2,    178.6,2,    182.5,2,     8.55,2,    14.71,2,     0.73,2,   2397.1,2,   7.8080,2,    25.00
  35TH20100608, OVIDE,     5,  1,     12,2,20100611,0433, 40.3310,  -9.8770, 2393,    896.6,  11.8710,  36.2360,2,  36.2440,3,    180.8,2,    183.3,2,     8.17,2,    14.47,2,     0.73,2,   2393.9,2,   7.8100,2,    25.00
  35TH20100608, OVIDE,     5,  1,     13,2,20100611,0433, 40.3310,  -9.8770, 2393,    799.3,  12.1190,  36.2260,2,  36.2270,2,    182.2,2,    184.9,2,     7.64,2,    13.94,2,     0.64,2,   2391.4,2,   7.8130,2,    25.00
  35TH20100608, OVIDE,     5,  1,     14,2,20100611,0433, 40.3310,  -9.8770, 2393,    699.3,  11.7250,  36.0020,2,  36.0000,2,    180.1,2,    190.6,3,     7.84,2,    15.20,2,     0.76,2,   2373.7,2,   7.7960,2,    25.00
  35TH20100608, OVIDE,     5,  1,     15,2,20100611,0433, 40.3310,  -9.8770, 2393,    599.1,  11.9510,  35.9690,2,  35.9650,2,    183.1,2,    192.1,3,     7.27,2,    14.73,2,     0.74,2,   2369.7,2,   7.7980,2,    25.00
  35TH20100608, OVIDE,     5,  1,     16,2,20100611,0433, 40.3310,  -9.8770, 2393,    498.2,  11.5240,  35.6970,2,  35.6960,2,    194.9,2,    195.0,2,     6.53,2,    14.82,2,     0.73,2,   2349.0,2,   7.7860,2,    25.00
  35TH20100608, OVIDE,     5,  1,     17,2,20100611,0433, 40.3310,  -9.8770, 2393,    441.1,  11.5350,  35.6370,2,  35.6380,2,    213.0,2,    209.9,2,     5.50,2,    13.20,2,     0.65,2,   2343.4,2,   7.7940,2,    25.00
  35TH20100608, OVIDE,     5,  1,     18,2,20100611,0433, 40.3310,  -9.8770, 2393,    299.5,  12.3710,  35.7300,2,  35.7300,2,    233.0,2,    232.6,2,     3.62,2,     9.35,2,     0.46,2,   2347.5,2,   7.8420,2,    25.00
  35TH20100608, OVIDE,     5,  1,     19,2,20100611,0433, 40.3310,  -9.8770, 2393,    198.5,  12.9270,  35.8030,2,  35.8030,2,    238.8,2,    239.2,2,     2.90,2,     7.39,2,     0.36,2,   2352.6,2,   7.8680,2,    25.00
  35TH20100608, OVIDE,     5,  1,     20,2,20100611,0433, 40.3310,  -9.8770, 2393,    150.7,  13.2370,  35.8470,2,  35.8500,2,    232.2,2,    234.6,2,     2.91,2,     7.17,2,     0.36,2,   2355.8,2,   7.8720,2,    25.00
  35TH20100608, OVIDE,     5,  1,     21,2,20100611,0433, 40.3310,  -9.8770, 2393,     99.8,  13.8410,  35.9570,2,  35.9570,2,    235.8,2,    232.7,2,     2.52,2,     6.00,2,     0.28,2,   2361.3,2,   7.8870,2,    25.00
  35TH20100608, OVIDE,     5,  1,     22,2,20100611,0433, 40.3310,  -9.8770, 2393,     54.9,  14.4500,  36.0280,2,  36.0260,2,    250.5,2,    247.1,2,     2.21,2,     3.64,2,     0.18,2,   2365.6,2,   7.9150,2,    25.00
  35TH20100608, OVIDE,     5,  1,     23,2,20100611,0433, 40.3310,  -9.8770, 2393,      3.3,  18.1250,  36.1780,2,  36.1660,3,    236.3,2,    239.8,2,     1.28,2,     0.16,2,     0.02,2,   2376.8,2,   7.9750,2,    25.00