BOTTLE,20140929PRINUNIVRMK
EXPOCODE,SECT_ID,STNNBR,CASTNO,BTLNBR,BTLNBR_FLAG_W,DATE,TIME,LATITUDE,LONGITUDE,DEPTH,CTDPRS,CTDTMP,CTDSAL,CTDSAL_FLAG_W,SALNTY,SALNTY_FLAG_W,CTDOXY,CTDOXY_FLAG_W,OXYGEN,OXYGEN_FLAG_W,SILCAT,SILCAT_FLAG_W,NITRAT,NITRAT_FLAG_W,PHSPHT,PHSPHT_FLAG_W,ALKALI,ALKALI_FLAG_W,PH_SWS,PH_SWS_FLAG_W,PH_TMP
,,,,,,,,,,METERS,DBAR,ITS-90,PSS-78,,PSS-78,,UMOL/KG,,UMOL/KG,,UMOL/KG,,UMOL/KG,,UMOL/KG,,UMOL/KG,,,,DEG C
  35TH20100608, OVIDE,    12,  1,      3,2,20100612,1533, 40.3340, -11.7790, 5203,   5305.0,   2.5500,  34.8950,2,  34.8960,2,    243.5,2,    244.1,2,  -999.00,9,    22.16,2,     1.41,2,   -999.0,9,   7.7330,2,    25.00
  35TH20100608, OVIDE,    12,  1,      4,2,20100612,1533, 40.3340, -11.7790, 5203,   4999.5,   2.5120,  34.8960,2,  34.8940,2,    244.0,2,    244.4,2,    46.66,2,    21.88,2,     1.42,2,   -999.0,9,   7.7320,2,    25.00
  35TH20100608, OVIDE,    12,  1,      5,2,20100612,1533, 40.3340, -11.7790, 5203,   4498.0,   2.4770,  34.9000,2,  34.8970,2,    244.0,2,    244.0,2,    46.21,2,    21.97,2,     1.38,2,   -999.0,9,   7.7320,2,    25.00
  35TH20100608, OVIDE,    12,  1,      6,2,20100612,1533, 40.3340, -11.7790, 5203,   4000.4,   2.5160,  34.9090,2,  34.9090,2,    244.2,2,    244.4,2,    43.77,2,    21.78,2,     1.38,2,   -999.0,9,   7.7320,2,    25.00
  35TH20100608, OVIDE,    12,  1,      7,2,20100612,1533, 40.3340, -11.7790, 5203,   3499.6,   2.6090,  34.9240,2,  34.9220,2,    245.5,2,    245.2,2,    40.36,2,    21.22,2,     1.34,2,   -999.0,9,   7.7320,2,    25.00
  35TH20100608, OVIDE,    12,  1,      8,2,20100612,1533, 40.3340, -11.7790, 5203,   3247.0,   2.6930,  34.9340,2,  34.9330,2,    247.0,2,    246.2,2,    37.74,2,    20.90,2,     1.32,2,   -999.0,9,   7.7320,2,    25.00
  35TH20100608, OVIDE,    12,  1,      9,2,20100612,1533, 40.3340, -11.7790, 5203,   2999.7,   2.8330,  34.9480,2,  34.9470,2,    248.5,2,    248.1,2,    34.54,2,    20.42,2,     1.29,2,   -999.0,9,   7.7350,2,    25.00
  35TH20100608, OVIDE,    12,  1,     10,2,20100612,1533, 40.3340, -11.7790, 5203,   2749.7,   3.0070,  34.9650,2,  34.9660,2,    249.8,2,    249.0,2,    31.27,2,    20.04,2,     1.25,2,   -999.0,9,   7.7350,2,    25.00
  35TH20100608, OVIDE,    12,  1,     11,2,20100612,1533, 40.3340, -11.7790, 5203,   2498.0,   3.3080,  34.9920,2,  34.9920,2,    251.4,2,    250.3,2,    26.99,2,    19.65,2,     1.22,2,   -999.0,9,   7.7360,2,    25.00
  35TH20100608, OVIDE,    12,  1,     12,2,20100612,1533, 40.3340, -11.7790, 5203,   2248.2,   3.8200,  35.0520,2,  35.0530,2,    247.1,2,    248.2,2,    22.58,2,    18.82,2,     1.17,2,   -999.0,9,   7.7380,2,    25.00
  35TH20100608, OVIDE,    12,  1,     13,2,20100612,1533, 40.3340, -11.7790, 5203,   1999.4,   4.4870,  35.1370,2,  35.1350,2,    246.0,2,    245.4,2,    16.91,2,    18.45,2,     1.11,2,   -999.0,9,   7.7380,2,    25.00
  35TH20100608, OVIDE,    12,  1,     14,2,20100612,1533, 40.3340, -11.7790, 5203,   1800.7,   5.5340,  35.2940,2,  35.2940,2,    236.3,2,    238.1,2,    14.54,2,    17.68,2,     1.06,2,   -999.0,9,   7.7440,2,    25.00
  35TH20100608, OVIDE,    12,  1,     15,2,20100612,1533, 40.3340, -11.7790, 5203,   1600.1,   6.9420,  35.5200,2,  35.5230,2,    217.8,2,    220.5,2,    12.88,2,    17.50,2,     1.03,2,   -999.0,9,   7.7530,2,    25.00
  35TH20100608, OVIDE,    12,  1,     16,2,20100612,1533, 40.3340, -11.7790, 5203,   1398.5,   9.1550,  35.8970,2,  35.8980,2,    194.8,2,    198.8,2,    11.20,2,    16.57,2,     0.93,2,   -999.0,9,   7.7720,2,    25.00
  35TH20100608, OVIDE,    12,  1,     17,2,20100612,1533, 40.3340, -11.7790, 5203,   1198.0,  10.9350,  36.2360,2,  36.2350,2,    179.7,2,    182.7,2,     9.89,2,    15.52,2,     0.85,2,   -999.0,9,   7.7950,2,    25.00
  35TH20100608, OVIDE,    12,  1,     18,2,20100612,1533, 40.3340, -11.7790, 5203,   1195.1,  10.9360,  36.2360,2,  36.2370,2,    179.6,2,    182.6,2,     9.92,2,    15.49,2,     0.86,2,   -999.0,9,   7.7930,2,    25.00
  35TH20100608, OVIDE,    12,  1,     19,2,20100612,1533, 40.3340, -11.7790, 5203,   1001.2,  11.5560,  36.2550,2,  36.2550,2,    179.1,2,    182.1,2,     9.08,2,    14.86,2,     0.84,2,   -999.0,9,   7.8020,2,    25.00
  35TH20100608, OVIDE,    12,  1,     20,2,20100612,1533, 40.3340, -11.7790, 5203,    799.7,  12.0640,  36.1750,2,  36.1760,2,    181.8,2,    183.8,2,     7.97,2,    14.03,2,     0.79,2,   -999.0,9,   7.8090,2,    25.00
  35TH20100608, OVIDE,    12,  1,     21,2,20100612,1533, 40.3340, -11.7790, 5203,    699.6,  12.0090,  36.0450,2,  36.0440,2,    182.6,2,    185.1,2,     7.74,2,    14.20,2,     0.80,2,   -999.0,9,   7.8010,2,    25.00
  35TH20100608, OVIDE,    12,  1,     22,2,20100612,1533, 40.3340, -11.7790, 5203,    600.2,  11.9450,  35.8890,2,  35.8950,3,    186.3,2,    188.5,2,     7.07,2,    14.35,2,     0.84,2,   -999.0,9,   7.7970,2,    25.00
  35TH20100608, OVIDE,    12,  1,     23,2,20100612,1533, 40.3340, -11.7790, 5203,    499.9,  12.0680,  35.7660,2,  35.7660,2,    195.3,2,    196.0,2,     6.00,2,    13.64,2,     0.77,2,   -999.0,9,   7.7990,2,    25.00
  35TH20100608, OVIDE,    12,  1,     24,2,20100612,1533, 40.3340, -11.7790, 5203,    399.5,  12.2970,  35.7310,2,  35.7310,2,    204.5,2,    203.9,2,     4.88,2,    12.39,2,     0.70,2,   -999.0,9,   7.8120,2,    25.00
  35TH20100608, OVIDE,    12,  1,     25,2,20100612,1533, 40.3340, -11.7790, 5203,    300.3,  13.0070,  35.8190,2,  35.8150,2,    215.8,2,    215.0,2,     3.78,2,     9.91,2,     0.54,2,   -999.0,9,   7.8420,2,    25.00
  35TH20100608, OVIDE,    12,  1,     26,2,20100612,1533, 40.3340, -11.7790, 5203,    200.4,  13.9030,  35.9730,2,  35.9700,2,    212.3,2,    211.1,2,     3.36,2,     8.50,2,     0.46,2,   -999.0,9,   7.8620,2,    25.00
  35TH20100608, OVIDE,    12,  1,     27,2,20100612,1533, 40.3340, -11.7790, 5203,    150.0,  14.7830,  36.1340,2,  36.1260,3,    226.7,2,    223.6,2,     2.58,2,     5.26,2,     0.29,2,   -999.0,9,   7.9030,2,    25.00
  35TH20100608, OVIDE,    12,  1,     28,2,20100612,1533, 40.3340, -11.7790, 5203,     99.3,  15.3480,  36.2310,2,  36.2280,2,    229.9,2,    228.0,2,     2.12,2,     3.65,2,     0.31,2,   -999.0,9,   7.9240,2,    25.00
  35TH20100608, OVIDE,    12,  1,     29,2,20100612,1533, 40.3340, -11.7790, 5203,     58.0,  16.0730,  36.2630,2,  36.2760,3,    243.2,2,    244.8,2,     1.77,2,     0.44,2,     0.06,2,   -999.0,9,   7.9630,2,    25.00
  35TH20100608, OVIDE,    12,  1,     30,2,20100612,1533, 40.3340, -11.7790, 5203,      3.7,  18.0180,  36.1770,2,  36.1760,2,    241.9,2,    239.3,2,     1.56,2,     0.07,2,     0.03,2,   -999.0,9,   7.9830,2,    25.00
  35TH20100608, OVIDE,    13,  1,      3,2,20100612,2111, 40.3320, -12.2200, 5245,   5348.3,   2.5510,  34.8950,2,  34.8930,2,    243.3,2,    244.1,2,    46.32,2,    22.76,2,     1.31,2,   2355.1,2,   7.7320,2,    25.00
  35TH20100608, OVIDE,    13,  1,      4,2,20100612,2111, 40.3320, -12.2200, 5245,   5002.4,   2.5110,  34.8960,2,  34.8960,2,    243.6,2,    242.6,2,    46.04,2,    22.72,2,     1.35,2,   2353.0,2,   7.7310,2,    25.00
  35TH20100608, OVIDE,    13,  1,      5,2,20100612,2111, 40.3320, -12.2200, 5245,   4501.0,   2.4770,  34.9000,2,  34.8990,2,    243.7,2,    243.6,2,    45.32,2,    22.68,2,     1.38,2,   2352.1,2,   7.7310,2,    25.00
  35TH20100608, OVIDE,    13,  1,      6,2,20100612,2111, 40.3320, -12.2200, 5245,   4000.0,   2.5170,  34.9090,2,  34.9080,2,    243.8,2,    243.5,2,    43.29,2,    22.35,2,     1.34,2,   2350.3,2,   7.7320,2,    25.00
  35TH20100608, OVIDE,    13,  1,      7,2,20100612,2111, 40.3320, -12.2200, 5245,   3502.5,   2.6150,  34.9230,2,  34.9230,2,    245.3,2,    244.9,2,    39.48,2,    21.88,2,     1.32,2,   2345.9,2,   7.7320,2,    25.00
  35TH20100608, OVIDE,    13,  1,      8,2,20100612,2111, 40.3320, -12.2200, 5245,   3250.5,   2.7070,  34.9340,2,  34.9340,2,    247.0,2,   -999.0,9,    36.40,2,    21.67,2,     1.28,2,   2342.1,2,   7.7330,2,    25.00
  35TH20100608, OVIDE,    13,  1,      9,2,20100612,2111, 40.3320, -12.2200, 5245,   3000.8,   2.8200,  34.9470,2,  34.9470,2,    248.4,2,    247.6,2,    33.75,2,    21.01,2,     1.19,2,   2340.1,2,   7.7350,2,    25.00
  35TH20100608, OVIDE,    13,  1,     10,2,20100612,2111, 40.3320, -12.2200, 5245,   2751.6,   2.9970,  34.9630,2,  34.9640,2,    249.6,2,    248.5,2,    30.52,2,    20.69,2,     1.22,2,   2336.3,2,   7.7340,2,    25.00
  35TH20100608, OVIDE,    13,  1,     11,2,20100612,2111, 40.3320, -12.2200, 5245,   2499.1,   3.2410,  34.9850,2,  34.9820,2,    251.1,2,    249.9,2,    28.18,2,    20.34,2,     1.17,2,   2332.2,2,   7.7350,2,    25.00
  35TH20100608, OVIDE,    13,  1,     12,2,20100612,2111, 40.3320, -12.2200, 5245,   2250.0,   3.5080,  35.0030,2,  35.0140,3,    254.3,2,    251.9,2,    22.23,2,    19.94,2,     1.18,2,   2327.3,2,   7.7360,2,    25.00
  35TH20100608, OVIDE,    13,  1,     13,2,20100612,2111, 40.3320, -12.2200, 5245,   2000.4,   4.0170,  35.0490,2,  35.0520,2,    254.8,2,    252.9,2,    16.56,2,    18.78,2,     1.09,2,   2322.9,2,   7.7330,2,    25.00
  35TH20100608, OVIDE,    13,  1,     14,2,20100612,2111, 40.3320, -12.2200, 5245,   1803.1,   5.1360,  35.2270,2,  35.2280,2,    246.5,2,    239.3,3,    14.54,2,    18.42,2,     0.97,2,   2332.4,2,   7.7410,2,    25.00
  35TH20100608, OVIDE,    13,  1,     15,2,20100612,2111, 40.3320, -12.2200, 5245,   1598.7,   6.9300,  35.5270,2,  35.5290,2,    218.7,2,    220.4,2,    12.80,2,    17.91,2,     1.01,2,   -999.0,9,   7.7540,2,    25.00
  35TH20100608, OVIDE,    13,  1,     16,2,20100612,2111, 40.3320, -12.2200, 5245,   1399.3,   9.4900,  35.9830,2,  35.9740,3,    194.9,2,    196.4,2,    10.44,2,    16.76,2,     0.91,2,   2381.2,2,   7.7770,2,    25.00
  35TH20100608, OVIDE,    13,  1,     17,2,20100612,2111, 40.3320, -12.2200, 5245,   1199.0,  10.5090,  36.1080,2,  36.1090,2,    184.3,2,    185.8,2,     9.43,2,    16.52,2,     0.88,2,   2388.4,2,   7.7870,2,    25.00
  35TH20100608, OVIDE,    13,  1,     18,2,20100612,2111, 40.3320, -12.2200, 5245,   1000.3,  11.3780,  36.1700,2,  36.1690,2,    179.1,2,    181.0,2,     8.44,2,    15.08,2,     0.60,3,   2389.2,2,   7.7940,2,    25.00
  35TH20100608, OVIDE,    13,  1,     19,2,20100612,2111, 40.3320, -12.2200, 5245,    900.1,  11.8710,  36.1940,2,  36.1930,2,    179.4,2,    182.4,2,     7.58,2,    14.59,2,     0.67,3,   -999.0,9,   7.8060,2,    25.00
  35TH20100608, OVIDE,    13,  1,     20,2,20100612,2111, 40.3320, -12.2200, 5245,    801.2,  12.0470,  36.1290,2,  36.1320,2,    182.3,2,    184.4,2,     6.96,2,    14.30,2,     0.76,2,   2383.3,2,   7.8060,2,    25.00
  35TH20100608, OVIDE,    13,  1,     21,2,20100612,2111, 40.3320, -12.2200, 5245,    701.0,  11.8760,  35.9600,2,  35.9580,2,    183.0,2,    184.3,2,     6.64,2,    14.84,2,     0.71,3,   2368.3,2,   7.7980,2,    25.00
  35TH20100608, OVIDE,    13,  1,     22,2,20100612,2111, 40.3320, -12.2200, 5245,    600.3,  11.2710,  35.6480,2,  35.6490,2,    192.5,2,    195.4,2,     6.16,2,    15.06,2,     0.78,2,   -999.0,9,   7.7810,2,    25.00
  35TH20100608, OVIDE,    13,  1,     23,2,20100612,2111, 40.3320, -12.2200, 5245,    499.5,  11.6150,  35.6230,2,  35.6230,2,    219.0,2,    223.8,2,     4.12,2,    11.71,2,     0.63,2,   2341.2,2,   7.8120,2,    25.00
  35TH20100608, OVIDE,    13,  1,     24,2,20100612,2111, 40.3320, -12.2200, 5245,    401.3,  12.0740,  35.6890,2,  35.6890,2,    234.6,2,    233.6,2,     3.27,2,     9.92,2,     0.51,2,   2344.2,2,   7.8380,2,    25.00
  35TH20100608, OVIDE,    13,  1,     25,2,20100612,2111, 40.3320, -12.2200, 5245,    303.3,  12.5650,  35.7480,2,  35.7480,2,    225.0,2,    222.4,2,     3.28,2,     9.88,2,     0.50,2,   -999.0,9,   7.8400,2,    25.00
  35TH20100608, OVIDE,    13,  1,     26,2,20100612,2111, 40.3320, -12.2200, 5245,    201.0,  13.3990,  35.8710,2,  35.8710,2,    230.5,2,    233.5,2,     2.24,2,     7.20,2,     0.38,2,   2353.9,2,   7.8770,2,    25.00
  35TH20100608, OVIDE,    13,  1,     27,2,20100612,2111, 40.3320, -12.2200, 5245,    152.8,  13.9360,  35.9710,2,  35.9750,2,    230.4,2,    218.4,3,     2.31,2,     6.62,2,     0.31,2,   2359.6,2,   7.8880,2,    25.00
  35TH20100608, OVIDE,    13,  1,     28,2,20100612,2111, 40.3320, -12.2200, 5245,     99.7,  14.7380,  36.1140,2,  36.1060,3,    227.2,2,    223.2,2,     1.88,2,     5.52,2,     0.29,2,   2367.0,2,   7.9010,2,    25.00
  35TH20100608, OVIDE,    13,  1,     29,2,20100612,2111, 40.3320, -12.2200, 5245,     55.3,  15.3350,  36.2060,2,  36.1990,3,    240.6,2,    232.8,2,     1.42,2,     3.11,2,     0.17,2,   2374.3,2,   7.9300,2,    25.00
  35TH20100608, OVIDE,    13,  1,     30,2,20100612,2111, 40.3320, -12.2200, 5245,      6.4,  17.7710,  36.0380,2,  36.0380,2,    242.3,2,    240.8,2,     0.83,2,     0.10,2,     0.03,2,   2368.3,2,   7.9850,2,    25.00
  35TH20100608, OVIDE,    14,  1,      3,2,20100613,0327, 40.5520, -12.6470, 5298,   5403.7,   2.5600,  34.8960,2,  34.8960,2,    244.6,2,    244.0,2,    46.51,2,    22.63,2,     1.40,2,   -999.0,9,   7.7350,2,    25.00
  35TH20100608, OVIDE,    14,  1,      4,2,20100613,0327, 40.5520, -12.6470, 5298,   5001.5,   2.5190,  34.8960,2,  34.8970,2,    244.6,2,    244.0,2,    46.25,2,    22.50,2,     1.40,2,   -999.0,9,   7.7360,2,    25.00
  35TH20100608, OVIDE,    14,  1,      5,2,20100613,0327, 40.5520, -12.6470, 5298,   4499.7,   2.4840,  34.9000,2,  34.8990,2,    244.6,2,   -999.0,9,    45.65,2,    22.50,2,     1.39,2,   -999.0,9,   7.7320,2,    25.00
  35TH20100608, OVIDE,    14,  1,      6,2,20100613,0327, 40.5520, -12.6470, 5298,   3998.9,   2.5220,  34.9090,2,  34.9060,2,    245.0,2,    243.8,2,    43.42,2,    22.08,2,     1.35,2,   -999.0,9,   7.7300,2,    25.00
  35TH20100608, OVIDE,    14,  1,      7,2,20100613,0327, 40.5520, -12.6470, 5298,   3499.0,   2.6210,  34.9240,2,  34.9250,2,    246.9,2,    245.3,2,    39.57,2,    21.80,2,     1.33,2,   -999.0,9,   7.7330,2,    25.00
  35TH20100608, OVIDE,    14,  1,      8,2,20100613,0327, 40.5520, -12.6470, 5298,   3248.2,   2.6980,  34.9350,2,  34.9460,3,    248.3,2,    246.6,2,    37.14,2,    21.37,2,     1.31,2,   -999.0,9,   7.7320,2,    25.00
  35TH20100608, OVIDE,    14,  1,      9,2,20100613,0327, 40.5520, -12.6470, 5298,   3000.1,   2.8150,  34.9460,2,  34.9470,2,    250.0,2,    248.4,2,    34.25,2,    20.84,2,     1.27,2,   -999.0,9,   7.7370,2,    25.00
  35TH20100608, OVIDE,    14,  1,     10,2,20100613,0327, 40.5520, -12.6470, 5298,   2749.3,   3.0240,  34.9640,2,  34.9660,2,    250.7,2,    249.6,2,    30.54,2,    20.15,2,     1.24,2,   -999.0,9,   7.7340,2,    25.00
  35TH20100608, OVIDE,    14,  1,     11,2,20100613,0327, 40.5520, -12.6470, 5298,   2498.0,   3.3450,  34.9980,2,  34.9970,2,    250.5,2,    249.2,2,    26.55,2,    19.79,2,     1.18,2,   -999.0,9,   7.7380,2,    25.00
  35TH20100608, OVIDE,    14,  1,     12,2,20100613,0327, 40.5520, -12.6470, 5298,   2247.6,   3.8310,  35.0630,2,  35.0570,2,    248.9,2,    248.1,2,    22.16,2,    19.51,2,     1.15,2,   -999.0,9,   7.7400,2,    25.00
  35TH20100608, OVIDE,    14,  1,     13,2,20100613,0327, 40.5520, -12.6470, 5298,   1999.3,   4.5310,  35.1470,2,  35.1470,2,    244.4,2,    244.8,2,    16.40,2,    18.73,2,     1.10,2,   -999.0,9,   7.7400,2,    25.00
  35TH20100608, OVIDE,    14,  1,     14,2,20100613,0327, 40.5520, -12.6470, 5298,   1800.9,   5.5280,  35.3000,2,  35.3000,2,    233.8,2,    234.4,2,    14.18,2,    18.31,2,     1.06,2,   -999.0,9,   7.7450,2,    25.00
  35TH20100608, OVIDE,    14,  1,     15,2,20100613,0327, 40.5520, -12.6470, 5298,   1600.1,   7.2530,  35.5900,2,  35.5900,2,    215.8,2,    215.6,2,    12.33,2,    17.70,2,     0.99,2,   -999.0,9,   7.7600,2,    25.00
  35TH20100608, OVIDE,    14,  1,     16,2,20100613,0327, 40.5520, -12.6470, 5298,   1400.3,   9.3670,  35.9500,2,  35.9560,3,    193.4,2,    196.1,2,    10.31,2,    16.75,2,     0.92,2,   -999.0,9,   7.7760,2,    25.00
  35TH20100608, OVIDE,    14,  1,     17,2,20100613,0327, 40.5520, -12.6470, 5298,   1150.4,  10.9630,  36.1900,2,  36.1900,2,    179.5,2,    181.7,2,     8.90,2,    15.83,2,     0.82,2,   -999.0,9,   7.7880,2,    25.00
  35TH20100608, OVIDE,    14,  1,     18,2,20100613,0327, 40.5520, -12.6470, 5298,    999.2,  11.1530,  36.1220,2,  36.1190,2,    178.4,2,    180.2,2,     8.62,2,    16.02,2,     0.86,2,   -999.0,9,   7.7900,2,    25.00
  35TH20100608, OVIDE,    14,  1,     19,2,20100613,0327, 40.5520, -12.6470, 5298,    900.4,  11.4720,  36.1010,2,  36.1000,2,    178.7,2,    180.1,2,     8.06,2,    15.78,2,     0.84,2,   -999.0,9,   7.7910,2,    25.00
  35TH20100608, OVIDE,    14,  1,     20,2,20100613,0327, 40.5520, -12.6470, 5298,    799.5,  11.4860,  35.9770,2,  35.9800,2,    179.9,2,    181.9,2,     7.60,2,    15.68,2,     0.79,2,   -999.0,9,   7.7880,2,    25.00
  35TH20100608, OVIDE,    14,  1,     21,2,20100613,0327, 40.5520, -12.6470, 5298,    699.5,  11.4860,  35.8420,2,  35.8430,2,    182.6,2,    184.8,2,     7.05,2,    15.62,2,     0.86,2,   -999.0,9,   7.7850,2,    25.00
  35TH20100608, OVIDE,    14,  1,     22,2,20100613,0327, 40.5520, -12.6470, 5298,    599.4,  11.2110,  35.6270,2,  35.6270,2,    196.5,2,    196.7,2,     6.06,2,    15.16,2,     0.81,2,   -999.0,9,   7.7810,2,    25.00
  35TH20100608, OVIDE,    14,  1,     23,2,20100613,0327, 40.5520, -12.6470, 5298,    501.3,  11.6540,  35.6340,2,  35.6320,2,    217.7,2,    219.6,2,     4.06,2,    12.16,2,     0.65,2,   -999.0,9,   7.8100,2,    25.00
  35TH20100608, OVIDE,    14,  1,     24,2,20100613,0327, 40.5520, -12.6470, 5298,    400.5,  12.0830,  35.6880,2,  35.6860,2,    242.9,2,    226.5,3,     3.23,2,    10.58,2,     0.55,2,   -999.0,9,   7.8280,2,    25.00
  35TH20100608, OVIDE,    14,  1,     25,2,20100613,0327, 40.5520, -12.6470, 5298,    295.8,  12.5860,  35.7510,2,  35.7480,2,    232.3,2,    236.5,2,     2.55,2,     8.61,2,     0.44,2,   -999.0,9,   7.8580,2,    25.00
  35TH20100608, OVIDE,    14,  1,     26,2,20100613,0327, 40.5520, -12.6470, 5298,    200.6,  13.1430,  35.8270,2,  35.8240,2,    239.3,2,    238.3,2,     2.19,2,     7.23,2,     0.36,2,   -999.0,9,   7.8800,2,    25.00
  35TH20100608, OVIDE,    14,  1,     27,2,20100613,0327, 40.5520, -12.6470, 5298,    149.1,  13.6550,  35.9140,2,  35.9110,2,    245.1,2,    234.7,3,     1.77,2,     6.22,2,     0.36,2,   -999.0,9,   7.8860,2,    25.00
  35TH20100608, OVIDE,    14,  1,     28,2,20100613,0327, 40.5520, -12.6470, 5298,     99.1,  14.3400,  36.0170,2,  36.0130,2,    243.1,2,    237.5,2,     1.15,2,     4.35,2,     0.21,2,   -999.0,9,   7.9070,2,    25.00
  35TH20100608, OVIDE,    14,  1,     29,2,20100613,0327, 40.5520, -12.6470, 5298,     58.5,  17.5380,  36.1060,2,  36.1170,3,    261.5,2,    254.1,2,     0.62,2,     0.21,2,     0.01,2,   -999.0,9,   7.9870,2,    25.00
  35TH20100608, OVIDE,    14,  1,     30,2,20100613,0327, 40.5520, -12.6470, 5298,      3.9,  17.5640,  36.1040,2,  36.1020,2,    244.6,2,    241.9,2,     0.81,2,     0.01,2,     0.02,2,   -999.0,9,   7.9820,2,    25.00