BOTTLE,20140929PRINUNIVRMK
EXPOCODE,SECT_ID,STNNBR,CASTNO,BTLNBR,BTLNBR_FLAG_W,DATE,TIME,LATITUDE,LONGITUDE,DEPTH,CTDPRS,CTDTMP,CTDSAL,CTDSAL_FLAG_W,SALNTY,SALNTY_FLAG_W,CTDOXY,CTDOXY_FLAG_W,OXYGEN,OXYGEN_FLAG_W,SILCAT,SILCAT_FLAG_W,NITRAT,NITRAT_FLAG_W,PHSPHT,PHSPHT_FLAG_W,ALKALI,ALKALI_FLAG_W,PH_SWS,PH_SWS_FLAG_W,PH_TMP
,,,,,,,,,,METERS,DBAR,ITS-90,PSS-78,,PSS-78,,UMOL/KG,,UMOL/KG,,UMOL/KG,,UMOL/KG,,UMOL/KG,,UMOL/KG,,,,DEG C
  35TH20100608, OVIDE,    54,  1,      3,2,20100623,0245, 54.3870, -25.8270, 3045,   3092.6,   2.8140,  34.9490,2,  34.9490,2,    265.4,2,    264.0,2,    25.03,2,    17.47,2,     1.01,2,   -999.0,9,   7.7260,2,    25.00
  35TH20100608, OVIDE,    54,  1,      4,2,20100623,0245, 54.3870, -25.8270, 3045,   2999.9,   2.8800,  34.9530,2,  34.9540,2,    269.8,2,    268.6,2,    21.30,2,    16.88,2,     0.99,2,   -999.0,9,   7.7220,2,    25.00
  35TH20100608, OVIDE,    54,  1,      5,2,20100623,0245, 54.3870, -25.8270, 3045,   2748.8,   2.9780,  34.9480,2,  34.9490,2,    274.4,2,    273.9,2,    18.99,2,    13.63,3,     0.84,3,   -999.0,9,   7.7240,2,    25.00
  35TH20100608, OVIDE,    54,  1,      6,2,20100623,0245, 54.3870, -25.8270, 3045,   2499.5,   3.0520,  34.9320,2,  34.9350,2,    275.1,2,    273.3,2,    15.46,2,    17.23,2,     1.01,2,   -999.0,9,   7.7260,2,    25.00
  35TH20100608, OVIDE,    54,  1,      7,2,20100623,0245, 54.3870, -25.8270, 3045,   2249.3,   3.1850,  34.9200,2,  34.9200,2,    278.6,2,    278.1,2,    13.14,2,    17.12,2,     0.97,2,   -999.0,9,   7.7280,2,    25.00
  35TH20100608, OVIDE,    54,  1,      8,2,20100623,0245, 54.3870, -25.8270, 3045,   1999.6,   3.2890,  34.9110,2,  34.9120,2,    278.8,2,    275.7,2,    12.59,2,    17.17,2,     0.96,2,   -999.0,9,   7.7230,2,    25.00
  35TH20100608, OVIDE,    54,  1,      9,2,20100623,0245, 54.3870, -25.8270, 3045,   1999.1,   3.2890,  34.9110,2,  34.9100,2,    278.8,2,    277.1,2,    12.58,2,    17.22,2,     0.99,2,   -999.0,9,-999.0000,9,    25.00
  35TH20100608, OVIDE,    54,  1,     10,2,20100623,0245, 54.3870, -25.8270, 3045,   1797.3,   3.4060,  34.9080,2,  34.9070,2,    278.0,2,    277.4,2,    12.21,2,    16.45,2,     0.96,2,   -999.0,9,   7.7220,2,    25.00
  35TH20100608, OVIDE,    54,  1,     11,2,20100623,0245, 54.3870, -25.8270, 3045,   1600.0,   3.5670,  34.9130,2,  34.9130,2,    276.2,2,    274.9,2,    11.70,2,    15.74,2,     0.98,2,   -999.0,9,   7.7200,2,    25.00
  35TH20100608, OVIDE,    54,  1,     12,2,20100623,0245, 54.3870, -25.8270, 3045,   1399.1,   3.6830,  34.9080,2,  34.9080,2,    276.6,2,    276.5,2,    11.11,2,    16.45,2,     0.95,2,   -999.0,9,   7.7150,2,    25.00
  35TH20100608, OVIDE,    54,  1,     13,2,20100623,0245, 54.3870, -25.8270, 3045,   1199.7,   3.7600,  34.9010,2,  34.9010,2,    279.6,2,    277.8,2,    10.62,2,    17.37,2,     0.98,2,   -999.0,9,   7.7160,2,    25.00
  35TH20100608, OVIDE,    54,  1,     14,2,20100623,0245, 54.3870, -25.8270, 3045,    998.7,   3.9420,  34.9070,2,  34.9080,2,    276.4,2,    277.3,2,    10.40,2,    16.98,2,     0.98,2,   -999.0,9,   7.7130,2,    25.00
  35TH20100608, OVIDE,    54,  1,     15,2,20100623,0245, 54.3870, -25.8270, 3045,    899.5,   4.0410,  34.9120,2,  34.9130,2,    273.4,2,    273.1,2,    10.50,2,    16.95,2,     0.99,2,   -999.0,9,   7.7110,2,    25.00
  35TH20100608, OVIDE,    54,  1,     16,2,20100623,0245, 54.3870, -25.8270, 3045,    798.4,   4.1970,  34.9180,2,  34.9190,2,    271.2,2,    270.6,2,    10.40,2,    17.85,2,     1.02,2,   -999.0,9,   7.7090,2,    25.00
  35TH20100608, OVIDE,    54,  1,     17,2,20100623,0245, 54.3870, -25.8270, 3045,    699.9,   4.2280,  34.9030,2,  34.9040,2,    272.4,2,    273.1,2,    10.04,2,    17.69,2,     1.03,2,   -999.0,9,   7.7030,2,    25.00
  35TH20100608, OVIDE,    54,  1,     18,2,20100623,0245, 54.3870, -25.8270, 3045,    599.4,   4.3930,  34.9040,2,  34.9040,2,    266.6,2,    268.8,2,    10.15,2,    16.60,2,     0.93,2,   -999.0,9,   7.7020,2,    25.00
  35TH20100608, OVIDE,    54,  1,     19,2,20100623,0245, 54.3870, -25.8270, 3045,    499.1,   4.7240,  34.9050,2,  34.9050,2,    255.8,2,    257.6,2,    10.40,2,    18.19,2,     1.02,2,   -999.0,9,   7.6990,2,    25.00
  35TH20100608, OVIDE,    54,  1,     20,2,20100623,0245, 54.3870, -25.8270, 3045,    400.0,   5.4660,  34.9220,2,  34.9230,2,    230.8,2,    234.7,2,    11.48,2,    19.10,2,     1.09,2,   -999.0,9,   7.6910,2,    25.00
  35TH20100608, OVIDE,    54,  1,     21,2,20100623,0245, 54.3870, -25.8270, 3045,    300.3,   6.2350,  34.8750,2,  34.8880,3,    211.3,2,    213.6,2,    11.34,2,    20.31,2,     1.15,2,   -999.0,9,   7.6840,2,    25.00
  35TH20100608, OVIDE,    54,  1,     22,2,20100623,0245, 54.3870, -25.8270, 3045,    199.0,   6.9940,  34.8150,2,  34.8220,3,    237.7,2,    234.8,2,     8.06,2,    15.17,2,     0.86,2,   -999.0,9,   7.7260,2,    25.00
  35TH20100608, OVIDE,    54,  1,     23,2,20100623,0245, 54.3870, -25.8270, 3045,    148.4,   7.7960,  34.8750,2,  34.8750,2,    252.3,2,    252.2,2,     6.31,2,    13.92,2,     0.79,2,   -999.0,9,   7.7650,2,    25.00
  35TH20100608, OVIDE,    54,  1,     24,2,20100623,0245, 54.3870, -25.8270, 3045,    100.8,   8.8320,  35.0140,2,  35.0000,3,    260.7,2,    260.6,2,     5.12,2,    12.23,2,     0.68,2,   -999.0,9,   7.7980,2,    25.00
  35TH20100608, OVIDE,    54,  1,     25,2,20100623,0245, 54.3870, -25.8270, 3045,     49.2,  10.6910,  35.0440,2,  35.0390,2,    270.6,2,    267.0,2,     2.67,2,     7.12,2,     0.43,2,   -999.0,9,   7.8630,2,    25.00
  35TH20100608, OVIDE,    54,  1,     26,2,20100623,0245, 54.3870, -25.8270, 3045,      6.0,  12.0530,  34.8390,2,  34.8390,2,    280.3,2,    277.6,2,     1.99,2,     4.23,2,     0.29,2,   -999.0,9,   7.9010,2,    25.00
  35TH20100608, OVIDE,    55,  1,      3,2,20100623,0753, 54.7610, -26.1220, 3599,   3660.9,   2.8640,  34.9740,2,  34.9710,2,    271.5,2,    272.1,2,    20.22,3,    13.67,3,     0.59,3,   2316.4,2,   7.7120,2,    25.00
  35TH20100608, OVIDE,    55,  1,      4,2,20100623,0753, 54.7610, -26.1220, 3599,   3551.1,   2.8110,  34.9610,2,  34.9590,2,    264.4,2,    266.6,2,    28.39,2,    17.93,2,     1.01,3,   2322.2,2,   7.7170,2,    25.00
  35TH20100608, OVIDE,    55,  1,      5,2,20100623,0753, 54.7610, -26.1220, 3599,   3449.7,   2.7680,  34.9490,2,  34.9480,2,    262.2,2,    265.0,2,    24.07,2,    17.88,2,     0.94,3,   2324.9,2,   7.7190,2,    25.00
  35TH20100608, OVIDE,    55,  1,      6,2,20100623,0753, 54.7610, -26.1220, 3599,   3248.5,   2.8270,  34.9550,2,  34.9550,2,    266.8,2,    265.9,2,    21.31,2,    17.99,2,     1.00,2,   2319.3,2,   7.7190,2,    25.00
  35TH20100608, OVIDE,    55,  1,      7,2,20100623,0753, 54.7610, -26.1220, 3599,   2997.8,   2.8930,  34.9550,2,  34.9540,2,    270.3,2,    269.5,2,    21.77,2,    17.12,2,     0.92,2,   2315.3,2,   7.7210,2,    25.00
  35TH20100608, OVIDE,    55,  1,      8,2,20100623,0753, 54.7610, -26.1220, 3599,   2748.3,   2.9770,  34.9500,2,  34.9490,2,    274.0,2,    273.4,2,    15.41,2,    16.71,2,     0.90,2,   2311.1,2,   7.7270,2,    25.00
  35TH20100608, OVIDE,    55,  1,      9,2,20100623,0753, 54.7610, -26.1220, 3599,   2499.2,   3.0630,  34.9360,2,  34.9370,2,    276.9,2,    275.4,2,    13.69,2,    16.92,2,     0.91,2,   2309.2,2,   7.7240,2,    25.00
  35TH20100608, OVIDE,    55,  1,     10,2,20100623,0753, 54.7610, -26.1220, 3599,   2248.3,   3.1540,  34.9230,2,  34.9230,2,    278.5,2,    277.1,2,    12.71,2,    17.20,2,     0.91,2,   2305.3,2,   7.7230,2,    25.00
  35TH20100608, OVIDE,    55,  1,     11,2,20100623,0753, 54.7610, -26.1220, 3599,   2248.5,   3.1540,  34.9230,2,  34.9210,2,    278.5,2,    278.9,2,    12.78,2,    17.79,2,     0.94,2,   -999.0,9,-999.0000,9,    25.00
  35TH20100608, OVIDE,    55,  1,     12,2,20100623,0753, 54.7610, -26.1220, 3599,   1999.6,   3.2810,  34.9150,2,  34.9150,2,    279.0,2,    280.9,2,    11.96,2,    17.81,2,     0.97,2,   2302.9,2,   7.7210,2,    25.00
  35TH20100608, OVIDE,    55,  1,     13,2,20100623,0753, 54.7610, -26.1220, 3599,   1799.4,   3.3910,  34.9120,2,  34.9120,2,    278.1,2,    277.7,2,    11.52,2,    17.26,2,     0.94,2,   2301.9,2,   7.7210,2,    25.00
  35TH20100608, OVIDE,    55,  1,     14,2,20100623,0753, 54.7610, -26.1220, 3599,   1600.0,   3.5210,  34.9140,2,  34.9110,2,    276.6,2,    275.7,2,    11.17,2,    17.47,2,     0.95,2,   2305.5,2,   7.7170,2,    25.00
  35TH20100608, OVIDE,    55,  1,     15,2,20100623,0753, 54.7610, -26.1220, 3599,   1402.0,   3.6480,  34.9110,2,  34.9120,2,    276.2,2,    277.2,2,    10.89,2,    17.37,2,     0.92,2,   2303.0,2,   7.7140,2,    25.00
  35TH20100608, OVIDE,    55,  1,     16,2,20100623,0753, 54.7610, -26.1220, 3599,   1199.3,   3.7300,  34.9020,2,  34.9030,2,    278.4,2,    279.3,2,    10.39,2,    18.20,2,     0.96,2,   2301.6,2,   7.7120,2,    25.00
  35TH20100608, OVIDE,    55,  1,     17,2,20100623,0753, 54.7610, -26.1220, 3599,   1001.0,   3.8400,  34.9000,2,  34.9010,2,    278.5,2,    277.9,2,    10.03,2,    17.96,2,     0.98,2,   2300.3,2,   7.7120,2,    25.00
  35TH20100608, OVIDE,    55,  1,     18,2,20100623,0753, 54.7610, -26.1220, 3599,    901.6,   3.9520,  34.9040,2,  34.9040,2,    276.8,2,    277.9,2,     9.81,3,    17.82,2,     0.99,2,   2299.7,2,   7.7110,2,    25.00
  35TH20100608, OVIDE,    55,  1,     19,2,20100623,0753, 54.7610, -26.1220, 3599,    802.5,   4.0850,  34.9130,2,  34.9150,2,    273.7,2,    274.0,2,     9.82,3,    17.83,2,     1.02,2,   2301.5,2,   7.7060,2,    25.00
  35TH20100608, OVIDE,    55,  1,     20,2,20100623,0753, 54.7610, -26.1220, 3599,    701.0,   4.2890,  34.9250,2,  34.9250,2,    268.4,2,    270.9,2,    10.04,2,    18.36,2,     1.02,2,   2300.5,2,   7.7050,2,    25.00
  35TH20100608, OVIDE,    55,  1,     21,2,20100623,0753, 54.7610, -26.1220, 3599,    597.6,   4.3880,  34.9170,2,  34.9150,2,    265.5,2,    265.6,2,     9.85,2,    17.83,2,     0.99,2,   2302.2,2,   7.7000,2,    25.00
  35TH20100608, OVIDE,    55,  1,     22,2,20100623,0753, 54.7610, -26.1220, 3599,    499.5,   4.6050,  34.9210,2,  34.9160,2,    260.3,2,    262.1,2,     9.98,2,    18.56,2,     1.01,2,   2302.1,2,   7.7000,2,    25.00
  35TH20100608, OVIDE,    55,  1,     23,2,20100623,0753, 54.7610, -26.1220, 3599,    397.0,   4.8330,  34.9000,2,  34.9010,2,    255.0,2,    255.8,2,    10.31,2,    19.53,2,     1.04,2,   2302.7,2,   7.6960,2,    25.00
  35TH20100608, OVIDE,    55,  1,     24,2,20100623,0753, 54.7610, -26.1220, 3599,    299.9,   5.7230,  34.9220,2,  34.9170,2,    233.1,2,    236.7,2,    10.60,2,    19.64,2,     1.07,2,   2305.4,2,   7.6940,2,    25.00
  35TH20100608, OVIDE,    55,  1,     25,2,20100623,0753, 54.7610, -26.1220, 3599,    203.7,   6.2410,  34.8310,2,  34.8280,2,    216.8,2,    223.0,3,    10.00,2,    19.07,2,     1.08,2,   2299.8,2,   7.6920,2,    25.00
  35TH20100608, OVIDE,    55,  1,     26,2,20100623,0753, 54.7610, -26.1220, 3599,    150.0,   6.4350,  34.7560,2,  34.7520,2,    254.5,2,    262.4,3,     5.98,2,    14.62,2,     0.85,2,   -999.0,9,   7.7410,2,    25.00
  35TH20100608, OVIDE,    55,  1,     27,2,20100623,0753, 54.7610, -26.1220, 3599,     99.7,   7.6360,  34.8410,2,  34.8420,2,    255.8,2,    258.7,2,     6.15,2,    13.35,2,     0.76,2,   2301.0,2,   7.7710,2,    25.00
  35TH20100608, OVIDE,    55,  1,     28,2,20100623,0753, 54.7610, -26.1220, 3599,     55.4,  10.3500,  35.0010,2,  34.9800,3,    266.9,2,    269.6,2,     3.04,2,     7.28,2,     0.46,2,   -999.0,9,   7.8510,2,    25.00
  35TH20100608, OVIDE,    55,  1,     29,2,20100623,0753, 54.7610, -26.1220, 3599,      8.5,  12.1660,  34.8180,2,  34.8190,2,    278.7,2,    276.7,2,     2.36,2,     3.87,2,     0.28,2,   2304.5,2,   7.9050,2,    25.00
  35TH20100608, OVIDE,    55,  1,     30,2,20100623,0753, 54.7610, -26.1220, 3599,      8.9,  12.1710,  34.8180,2,  34.8230,3,    278.7,2,    276.0,2,     2.35,2,     3.92,2,     0.30,2,   -999.0,9,-999.0000,9,    25.00
  35TH20100608, OVIDE,    56,  1,      3,2,20100623,1338, 55.1490, -26.4090, 3364,   3420.6,   2.7430,  34.9450,2,  34.9450,2,    259.0,2,    258.2,2,    30.91,2,    18.91,2,     1.12,2,   -999.0,9,   7.7220,2,    25.00
  35TH20100608, OVIDE,    56,  1,      4,2,20100623,1338, 55.1490, -26.4090, 3364,   3369.2,   2.7190,  34.9400,2,  34.9380,2,    259.4,2,    257.4,2,    32.06,2,    19.77,2,     1.14,2,   -999.0,9,   7.7230,2,    25.00
  35TH20100608, OVIDE,    56,  1,      5,2,20100623,1338, 55.1490, -26.4090, 3364,   3318.4,   2.7650,  34.9480,2,  34.9490,2,    262.0,2,    261.8,2,    28.16,2,    19.56,2,     1.10,2,   -999.0,9,   7.7220,2,    25.00
  35TH20100608, OVIDE,    56,  1,      6,2,20100623,1338, 55.1490, -26.4090, 3364,   3248.5,   2.7710,  34.9470,2,  34.9470,2,    263.4,2,    262.4,2,    27.51,2,    19.04,2,     1.08,2,   -999.0,9,   7.7210,2,    25.00
  35TH20100608, OVIDE,    56,  1,      7,2,20100623,1338, 55.1490, -26.4090, 3364,   2998.5,   2.8440,  34.9520,2,  34.9510,2,    268.2,2,    268.5,2,    23.02,2,    17.77,2,     1.03,2,   -999.0,9,   7.7260,2,    25.00
  35TH20100608, OVIDE,    56,  1,      8,2,20100623,1338, 55.1490, -26.4090, 3364,   2748.8,   2.9440,  34.9500,2,  34.9500,2,    273.0,2,    272.0,2,    16.21,2,    16.96,2,     0.97,2,   -999.0,9,   7.7240,2,    25.00
  35TH20100608, OVIDE,    56,  1,      9,2,20100623,1338, 55.1490, -26.4090, 3364,   2499.5,   3.0440,  34.9360,2,  34.9370,2,    276.9,2,    275.4,2,    14.08,2,    16.85,2,     0.97,2,   -999.0,9,   7.7250,2,    25.00
  35TH20100608, OVIDE,    56,  1,     10,2,20100623,1338, 55.1490, -26.4090, 3364,   2248.9,   3.1470,  34.9260,2,  34.9250,2,    278.6,2,    278.9,2,    12.66,2,    16.78,2,     0.97,2,   -999.0,9,   7.7260,2,    25.00
  35TH20100608, OVIDE,    56,  1,     11,2,20100623,1338, 55.1490, -26.4090, 3364,   1999.0,   3.2550,  34.9130,2,  34.9130,2,    279.1,2,    278.3,2,    12.09,2,    17.35,2,     0.99,2,   -999.0,9,   7.7250,2,    25.00
  35TH20100608, OVIDE,    56,  1,     12,2,20100623,1338, 55.1490, -26.4090, 3364,   1999.3,   3.2550,  34.9140,2,  34.9130,2,    279.1,2,    278.2,2,    12.11,2,    16.80,2,     0.97,2,   -999.0,9,-999.0000,9,    25.00
  35TH20100608, OVIDE,    56,  1,     13,2,20100623,1338, 55.1490, -26.4090, 3364,   1798.8,   3.3730,  34.9100,2,  34.9110,2,    278.4,2,    277.5,2,    11.64,2,    17.14,2,     1.00,2,   -999.0,9,   7.7270,2,    25.00
  35TH20100608, OVIDE,    56,  1,     14,2,20100623,1338, 55.1490, -26.4090, 3364,   1599.3,   3.5180,  34.9140,2,  34.9140,2,    276.7,2,    275.6,2,    11.23,2,    17.31,2,     1.01,2,   -999.0,9,   7.7220,2,    25.00
  35TH20100608, OVIDE,    56,  1,     15,2,20100623,1338, 55.1490, -26.4090, 3364,   1399.0,   3.6520,  34.9080,2,  34.9100,2,    276.5,2,    277.5,2,    10.89,2,    17.34,2,     1.00,2,   -999.0,9,   7.7200,2,    25.00
  35TH20100608, OVIDE,    56,  1,     16,2,20100623,1338, 55.1490, -26.4090, 3364,   1199.0,   3.7380,  34.9010,2,  34.9010,2,    279.0,2,    278.6,2,    10.28,2,    17.09,2,     1.01,2,   -999.0,9,   7.7150,2,    25.00
  35TH20100608, OVIDE,    56,  1,     17,2,20100623,1338, 55.1490, -26.4090, 3364,    999.1,   3.8760,  34.9010,2,  34.9000,2,    277.6,2,    277.0,2,     9.92,2,    16.88,2,     0.96,2,   -999.0,9,   7.7110,2,    25.00
  35TH20100608, OVIDE,    56,  1,     18,2,20100623,1338, 55.1490, -26.4090, 3364,    899.5,   4.0360,  34.9110,2,  34.9110,2,    275.8,2,    276.2,2,     9.94,2,    17.11,2,     1.00,2,   -999.0,9,   7.7090,2,    25.00
  35TH20100608, OVIDE,    56,  1,     19,2,20100623,1338, 55.1490, -26.4090, 3364,    799.7,   4.1330,  34.9150,2,  34.9130,2,    272.8,2,    272.8,2,    10.00,2,    17.08,2,     1.00,2,   -999.0,9,   7.7070,2,    25.00
  35TH20100608, OVIDE,    56,  1,     20,2,20100623,1338, 55.1490, -26.4090, 3364,    698.9,   4.3950,  34.9370,2,  34.9340,2,    266.0,2,    265.4,2,    10.07,2,    17.68,2,     1.04,2,   -999.0,9,   7.7060,2,    25.00
  35TH20100608, OVIDE,    56,  1,     21,2,20100623,1338, 55.1490, -26.4090, 3364,    599.2,   4.8540,  34.9770,2,  34.9730,2,    251.8,2,    254.0,2,    10.42,2,    17.68,2,     1.04,2,   -999.0,9,   7.7040,2,    25.00
  35TH20100608, OVIDE,    56,  1,     22,2,20100623,1338, 55.1490, -26.4090, 3364,    500.3,   5.3760,  35.0170,2,  35.0140,2,    240.0,2,    242.8,2,    10.54,2,    18.15,2,     1.11,2,   -999.0,9,   7.7040,2,    25.00
  35TH20100608, OVIDE,    56,  1,     23,2,20100623,1338, 55.1490, -26.4090, 3364,    398.9,   5.7040,  34.9980,2,  34.9980,2,    232.7,2,    238.4,3,    10.44,2,    18.19,2,     1.09,2,   -999.0,9,   7.7000,2,    25.00
  35TH20100608, OVIDE,    56,  1,     24,2,20100623,1338, 55.1490, -26.4090, 3364,    299.6,   5.6510,  34.8710,2,  34.8720,2,    228.3,2,    231.0,2,    10.41,2,    18.39,2,     1.12,2,   -999.0,9,   7.6880,2,    25.00
  35TH20100608, OVIDE,    56,  1,     25,2,20100623,1338, 55.1490, -26.4090, 3364,    198.6,   6.5780,  34.8090,2,  34.8040,2,    227.0,2,    232.3,3,     8.48,2,    16.69,2,     1.03,2,   -999.0,9,   7.7120,2,    25.00
  35TH20100608, OVIDE,    56,  1,     26,2,20100623,1338, 55.1490, -26.4090, 3364,    150.2,   7.0400,  34.7880,2,  34.7870,2,    262.0,2,    259.8,2,     5.44,2,    13.21,2,     0.81,2,   -999.0,9,   7.7590,2,    25.00
  35TH20100608, OVIDE,    56,  1,     27,2,20100623,1338, 55.1490, -26.4090, 3364,     99.1,   7.9670,  34.8770,2,  34.8700,3,    269.6,2,    270.2,2,     4.13,2,    11.31,2,     0.72,2,   -999.0,9,   7.7960,2,    25.00
  35TH20100608, OVIDE,    56,  1,     28,2,20100623,1338, 55.1490, -26.4090, 3364,     49.8,  10.7070,  34.9610,2,  34.9660,3,    271.6,2,    270.5,2,     3.19,2,     6.12,2,     0.46,2,   -999.0,9,   7.8590,2,    25.00
  35TH20100608, OVIDE,    56,  1,     29,2,20100623,1338, 55.1490, -26.4090, 3364,      3.7,  12.5320,  34.8770,2,  34.8770,2,    278.7,2,    276.1,2,     2.55,2,     2.95,2,     0.24,2,   -999.0,9,   7.9210,2,    25.00