BOTTLE,20140929PRINUNIVRMK
EXPOCODE,SECT_ID,STNNBR,CASTNO,BTLNBR,BTLNBR_FLAG_W,DATE,TIME,LATITUDE,LONGITUDE,DEPTH,CTDPRS,CTDTMP,CTDSAL,CTDSAL_FLAG_W,SALNTY,SALNTY_FLAG_W,CTDOXY,CTDOXY_FLAG_W,OXYGEN,OXYGEN_FLAG_W,SILCAT,SILCAT_FLAG_W,NITRAT,NITRAT_FLAG_W,PHSPHT,PHSPHT_FLAG_W,ALKALI,ALKALI_FLAG_W,PH_SWS,PH_SWS_FLAG_W,PH_TMP
,,,,,,,,,,METERS,DBAR,ITS-90,PSS-78,,PSS-78,,UMOL/KG,,UMOL/KG,,UMOL/KG,,UMOL/KG,,UMOL/KG,,UMOL/KG,,,,DEG C
  35TH20100608, OVIDE,     6,  1,      3,2,20100611,0858, 40.3340,  -9.9440, 3411,   3463.2,   2.5830,  34.9200,2,  34.9200,2,    245.7,2,    243.7,2,    42.71,2,    21.86,2,     1.27,2,   -999.0,9,   7.7310,2,    25.00
  35TH20100608, OVIDE,     6,  1,      4,2,20100611,0858, 40.3340,  -9.9440, 3411,   3251.5,   2.6780,  34.9330,2,  34.9310,2,    246.2,2,    244.5,2,    39.35,2,    21.37,2,     1.25,2,   -999.0,9,   7.7330,2,    25.00
  35TH20100608, OVIDE,     6,  1,      5,2,20100611,0858, 40.3340,  -9.9440, 3411,   3001.6,   2.8370,  34.9500,2,  34.9430,3,    247.1,2,    245.5,2,    36.36,2,    21.14,2,     1.18,2,   -999.0,9,   7.7330,2,    25.00
  35TH20100608, OVIDE,     6,  1,      6,2,20100611,0858, 40.3340,  -9.9440, 3411,   2750.4,   3.0650,  34.9730,2,  34.9750,2,    247.8,2,    245.6,2,    32.72,2,    20.66,2,     1.18,2,   -999.0,9,   7.7340,2,    25.00
  35TH20100608, OVIDE,     6,  1,      7,2,20100611,0858, 40.3340,  -9.9440, 3411,   2502.4,   3.4170,  35.0110,2,  35.0120,2,    248.3,2,    246.9,2,    29.07,2,    20.02,2,     1.12,2,   -999.0,9,   7.7370,2,    25.00
  35TH20100608, OVIDE,     6,  1,      8,2,20100611,0858, 40.3340,  -9.9440, 3411,   2249.6,   3.7420,  35.0390,2,  35.0420,2,    249.9,2,    249.6,2,    24.58,2,    19.31,2,     1.09,2,   -999.0,9,   7.7360,2,    25.00
  35TH20100608, OVIDE,     6,  1,      9,2,20100611,0858, 40.3340,  -9.9440, 3411,   2001.1,   4.3220,  35.1140,2,  35.1130,2,    245.8,2,    246.0,2,    17.96,2,    18.73,2,     1.05,2,   -999.0,9,   7.7390,2,    25.00
  35TH20100608, OVIDE,     6,  1,     10,2,20100611,0858, 40.3340,  -9.9440, 3411,   1802.2,   5.2550,  35.2510,2,  35.2510,2,    240.0,2,    238.3,2,    15.10,2,    18.23,2,     1.01,2,   -999.0,9,   7.7430,2,    25.00
  35TH20100608, OVIDE,     6,  1,     11,2,20100611,0858, 40.3340,  -9.9440, 3411,   1601.3,   7.1150,  35.5610,2,  35.5610,2,    216.8,2,    225.5,2,    13.15,2,    17.67,2,     0.95,2,   -999.0,9,   7.7560,2,    25.00
  35TH20100608, OVIDE,     6,  1,     12,2,20100611,0858, 40.3340,  -9.9440, 3411,   1401.4,   9.7570,  36.0410,2,  36.0360,3,    193.2,2,    195.0,2,    11.05,2,    16.29,2,     0.84,2,   -999.0,9,   7.7840,2,    25.00
  35TH20100608, OVIDE,     6,  1,     13,2,20100611,0858, 40.3340,  -9.9440, 3411,   1200.4,  10.9990,  36.2440,2,  36.2430,2,    180.3,2,    183.7,2,     9.71,2,    15.46,2,     0.78,2,   -999.0,9,   7.7950,2,    25.00
  35TH20100608, OVIDE,     6,  1,     14,2,20100611,0858, 40.3340,  -9.9440, 3411,    999.1,  11.7560,  36.2950,2,  36.2980,2,    180.0,2,    183.2,2,     8.54,2,    14.46,2,     0.72,2,   -999.0,9,   7.8080,2,    25.00
  35TH20100608, OVIDE,     6,  1,     15,2,20100611,0858, 40.3340,  -9.9440, 3411,    899.2,  11.4530,  36.1420,2,  36.1500,3,    179.6,2,    180.0,2,     8.76,2,    15.22,2,     0.78,2,   -999.0,9,   7.7960,2,    25.00
  35TH20100608, OVIDE,     6,  1,     16,2,20100611,0858, 40.3340,  -9.9440, 3411,    800.4,  11.9770,  36.1830,2,  36.1790,2,    180.5,2,    184.7,2,     8.08,2,    14.32,2,     0.71,2,   -999.0,9,   7.8070,2,    25.00
  35TH20100608, OVIDE,     6,  1,     17,2,20100611,0858, 40.3340,  -9.9440, 3411,    702.1,  11.9160,  36.0530,2,  36.0530,2,    181.2,2,    183.0,2,     7.72,2,    14.51,2,     0.74,2,   -999.0,9,   7.7990,2,    25.00
  35TH20100608, OVIDE,     6,  1,     18,2,20100611,0858, 40.3340,  -9.9440, 3411,    600.2,  11.3670,  35.7910,2,  35.7920,2,    182.7,2,    184.7,2,     7.74,2,    15.42,2,     0.80,2,   -999.0,9,   7.7810,2,    25.00
  35TH20100608, OVIDE,     6,  1,     19,2,20100611,0858, 40.3340,  -9.9440, 3411,    497.8,  11.4020,  35.6590,2,  35.6560,2,    199.6,2,    199.8,2,     6.36,2,    14.37,2,     0.72,2,   -999.0,9,   7.7880,2,    25.00
  35TH20100608, OVIDE,     6,  1,     20,2,20100611,0858, 40.3340,  -9.9440, 3411,    402.4,  11.7070,  35.6520,2,  35.6490,2,    213.0,2,    213.5,2,     5.13,2,    12.49,2,     0.61,2,   -999.0,9,   7.8060,2,    25.00
  35TH20100608, OVIDE,     6,  1,     21,2,20100611,0858, 40.3340,  -9.9440, 3411,    300.3,  12.2250,  35.7100,2,  35.7100,2,    218.7,2,    214.0,2,     4.53,2,    11.41,2,     0.55,2,   -999.0,9,   7.8190,2,    25.00
  35TH20100608, OVIDE,     6,  1,     22,2,20100611,0858, 40.3340,  -9.9440, 3411,    201.0,  12.7500,  35.7860,2,  35.7860,2,    234.7,2,    234.1,2,     3.21,2,     8.07,2,     0.41,2,   -999.0,9,   7.8580,2,    25.00
  35TH20100608, OVIDE,     6,  1,     23,2,20100611,0858, 40.3340,  -9.9440, 3411,    150.4,  13.0240,  35.8240,2,  35.8230,2,    233.3,2,    232.5,2,     3.09,2,     7.77,2,     0.38,2,   -999.0,9,   7.8630,2,    25.00
  35TH20100608, OVIDE,     6,  1,     24,2,20100611,0858, 40.3340,  -9.9440, 3411,    100.5,  13.4590,  35.8960,2,  35.8910,3,    235.5,2,    238.7,2,     2.34,2,     6.18,2,     0.32,2,   -999.0,9,   7.8810,2,    25.00
  35TH20100608, OVIDE,     6,  1,     25,2,20100611,0858, 40.3340,  -9.9440, 3411,     54.9,  14.4860,  35.9580,2,  35.9560,2,    257.2,2,    249.4,2,     1.69,2,     2.55,2,     0.14,2,   -999.0,9,   7.9270,2,    25.00
  35TH20100608, OVIDE,     6,  1,     26,2,20100611,0858, 40.3340,  -9.9440, 3411,      8.7,  18.1180,  36.1660,2,  36.1660,2,    235.9,2,    238.7,2,     1.23,2,     0.06,2,     0.03,2,   -999.0,9,   7.9860,2,    25.00
  35TH20100608, OVIDE,     7,  1,      3,2,20100611,1330, 40.3350, -10.0360, 3507,   3561.0,   2.5490,  34.9170,2,  34.9140,2,    245.4,2,    249.0,2,    42.68,2,    21.98,2,     1.33,2,   2349.5,2,   7.7310,2,    25.00
  35TH20100608, OVIDE,     7,  1,      4,2,20100611,1330, 40.3350, -10.0360, 3507,   3501.0,   2.5730,  34.9190,2,  34.9190,2,    245.7,2,    243.3,2,    41.68,2,    21.85,2,     1.32,2,   -999.0,9,-999.0000,9,    25.00
  35TH20100608, OVIDE,     7,  1,      5,2,20100611,1330, 40.3350, -10.0360, 3507,   3500.1,   2.5740,  34.9200,2,  34.9180,2,    245.7,2,    244.5,2,    41.92,2,    21.89,2,     1.32,2,   2348.7,2,   7.7310,2,    25.00
  35TH20100608, OVIDE,     7,  1,      6,2,20100611,1330, 40.3350, -10.0360, 3507,   3250.7,   2.6480,  34.9300,2,  34.9280,2,    246.3,2,    245.5,2,    39.84,2,    21.61,2,     1.28,2,   -999.0,9,   7.7310,2,    25.00
  35TH20100608, OVIDE,     7,  1,      7,2,20100611,1330, 40.3350, -10.0360, 3507,   3000.5,   2.8240,  34.9500,2,  34.9470,2,    247.4,2,    244.9,2,    36.28,2,    21.15,2,     1.28,2,   2343.0,2,   7.7320,2,    25.00
  35TH20100608, OVIDE,     7,  1,      8,2,20100611,1330, 40.3350, -10.0360, 3507,   2749.1,   3.0590,  34.9740,2,  34.9740,2,    248.1,2,    246.0,2,    31.91,2,    20.67,2,     1.23,2,   2337.7,2,   7.7340,2,    25.00
  35TH20100608, OVIDE,     7,  1,      9,2,20100611,1330, 40.3350, -10.0360, 3507,   2499.1,   3.3780,  35.0070,2,  35.0070,2,    248.8,2,    246.6,2,    28.56,2,    20.15,2,     1.19,2,   2334.9,2,   7.7360,2,    25.00
  35TH20100608, OVIDE,     7,  1,     10,2,20100611,1330, 40.3350, -10.0360, 3507,   2248.9,   3.8660,  35.0610,2,  35.0600,2,    248.4,2,    246.8,2,    23.94,2,    19.41,2,     1.14,2,   -999.0,9,   7.7370,2,    25.00
  35TH20100608, OVIDE,     7,  1,     11,2,20100611,1330, 40.3350, -10.0360, 3507,   2000.5,   4.4280,  35.1290,2,  35.1260,2,    247.0,2,    246.3,2,    17.48,2,    18.80,2,     1.02,2,   2328.6,2,   7.7370,2,    25.00
  35TH20100608, OVIDE,     7,  1,     12,2,20100611,1330, 40.3350, -10.0360, 3507,   1798.7,   5.3560,  35.2680,2,  35.2630,2,    237.9,2,    237.8,2,    14.48,2,    18.27,2,     1.04,2,   2336.0,2,   7.7420,2,    25.00
  35TH20100608, OVIDE,     7,  1,     13,2,20100611,1330, 40.3350, -10.0360, 3507,   1600.1,   6.8850,  35.5040,2,  35.5060,2,    221.6,2,    221.9,2,    12.39,2,    17.84,2,     1.00,2,   2350.1,2,   7.7520,2,    25.00
  35TH20100608, OVIDE,     7,  1,     14,2,20100611,1330, 40.3350, -10.0360, 3507,   1400.3,   8.8460,  35.8110,2,  35.8040,3,    203.1,2,    202.3,2,    10.90,2,    17.08,2,     0.94,2,   2369.9,2,   7.7680,2,    25.00
  35TH20100608, OVIDE,     7,  1,     15,2,20100611,1330, 40.3350, -10.0360, 3507,   1200.5,  10.9760,  36.2260,2,  36.2270,2,    180.2,2,    183.9,2,     9.44,2,    15.73,2,     0.84,2,   2397.2,2,   7.7940,2,    25.00
  35TH20100608, OVIDE,     7,  1,     16,2,20100611,1330, 40.3350, -10.0360, 3507,    998.7,  11.0850,  36.1060,2,  36.1090,2,    178.9,2,    181.2,2,     9.01,2,    15.89,2,     0.87,2,   2385.2,2,   7.7870,2,    25.00
  35TH20100608, OVIDE,     7,  1,     17,2,20100611,1330, 40.3350, -10.0360, 3507,    899.0,  11.1570,  36.0280,2,  36.0300,2,    178.7,2,    182.2,2,     8.64,2,    15.90,2,     0.88,2,   2378.0,2,   7.7860,2,    25.00
  35TH20100608, OVIDE,     7,  1,     18,2,20100611,1330, 40.3350, -10.0360, 3507,    799.7,  11.4630,  36.0070,2,  36.0060,2,    179.6,2,    181.2,2,     8.06,2,    15.54,2,     0.86,2,   2373.4,2,   7.7900,2,    25.00
  35TH20100608, OVIDE,     7,  1,     19,2,20100611,1330, 40.3350, -10.0360, 3507,    700.6,  11.4580,  35.9080,2,  35.9080,2,    181.2,2,    182.6,2,     7.73,2,    15.61,2,     0.86,2,   2365.3,2,   7.7860,2,    25.00
  35TH20100608, OVIDE,     7,  1,     20,2,20100611,1330, 40.3350, -10.0360, 3507,    599.9,  11.3800,  35.7640,2,  35.7630,2,    186.4,2,    186.8,2,     7.28,2,    15.53,2,     0.86,2,   2353.3,2,   7.7840,2,    25.00
  35TH20100608, OVIDE,     7,  1,     21,2,20100611,1330, 40.3350, -10.0360, 3507,    499.7,  11.4090,  35.6570,2,  35.6560,2,    203.7,2,    202.0,2,     5.94,2,    14.23,2,     0.79,2,   2343.9,2,   7.7880,2,    25.00
  35TH20100608, OVIDE,     7,  1,     22,2,20100611,1330, 40.3350, -10.0360, 3507,    399.6,  11.7070,  35.6490,2,  35.6410,3,    222.0,2,    222.2,2,     4.45,2,    11.74,2,     0.66,2,   2340.3,2,   7.8140,2,    25.00
  35TH20100608, OVIDE,     7,  1,     23,2,20100611,1330, 40.3350, -10.0360, 3507,    300.9,  12.2500,  35.7180,2,  35.7180,2,    232.6,2,    232.1,2,     3.48,2,     9.41,2,     0.52,2,   2344.8,2,   7.8410,2,    25.00
  35TH20100608, OVIDE,     7,  1,     24,2,20100611,1330, 40.3350, -10.0360, 3507,    200.9,  12.7790,  35.7940,2,  35.7910,2,    235.6,2,    234.0,2,     3.02,2,     8.07,2,     0.43,2,   2349.0,2,   7.8600,2,    25.00
  35TH20100608, OVIDE,     7,  1,     25,2,20100611,1330, 40.3350, -10.0360, 3507,    149.8,  13.1130,  35.8420,2,  35.8380,2,    235.1,2,    235.4,2,     2.69,2,     7.31,2,     0.40,2,   2351.4,2,   7.8710,2,    25.00
  35TH20100608, OVIDE,     7,  1,     26,2,20100611,1330, 40.3350, -10.0360, 3507,     96.5,  13.5790,  35.9100,2,  35.9070,2,    237.7,2,    235.4,2,     2.36,2,     6.22,2,     0.35,2,   2356.6,2,   7.8840,2,    25.00
  35TH20100608, OVIDE,     7,  1,     27,2,20100611,1330, 40.3350, -10.0360, 3507,     45.9,  15.7200,  36.0580,2,  36.0580,2,    257.6,2,    259.7,2,     1.33,2,     0.11,2,     0.06,2,   2369.3,2,   7.9820,2,    25.00
  35TH20100608, OVIDE,     7,  1,     28,2,20100611,1330, 40.3350, -10.0360, 3507,      6.8,  18.2980,  36.1660,2,  36.1650,2,    237.0,2,    238.2,2,     1.29,2,     0.07,2,     0.05,2,   2376.3,2,   7.9970,2,    25.00
  35TH20100608, OVIDE,     8,  1,      3,2,20100611,1809, 40.3350, -10.3020, 3881,   3944.9,   2.4630,  34.9040,2,  34.9060,2,    242.4,2,    242.6,2,    44.82,2,    22.31,2,     1.39,2,   -999.0,9,   7.7300,2,    25.00
  35TH20100608, OVIDE,     8,  1,      4,2,20100611,1809, 40.3350, -10.3020, 3881,   3498.7,   2.5560,  34.9180,2,  34.9150,2,    243.9,2,    243.8,2,    41.61,2,    21.75,2,     1.35,2,   -999.0,9,   7.7340,2,    25.00
  35TH20100608, OVIDE,     8,  1,      5,2,20100611,1809, 40.3350, -10.3020, 3881,   3247.9,   2.6640,  34.9320,2,  34.9310,2,    244.8,2,    244.7,2,    39.14,2,    21.11,2,     1.29,2,   -999.0,9,-999.0000,9,    25.00
  35TH20100608, OVIDE,     8,  1,      6,2,20100611,1809, 40.3350, -10.3020, 3881,   3248.7,   2.6660,  34.9310,2,  34.9320,2,    244.8,2,    244.9,2,    39.14,2,    21.26,2,     1.33,2,   -999.0,9,   7.7340,2,    25.00
  35TH20100608, OVIDE,     8,  1,      7,2,20100611,1809, 40.3350, -10.3020, 3881,   2999.5,   2.8020,  34.9470,2,  34.9470,2,    245.4,2,    245.1,2,    36.48,2,    20.79,2,     1.30,2,   -999.0,9,   7.7340,2,    25.00
  35TH20100608, OVIDE,     8,  1,      8,2,20100611,1809, 40.3350, -10.3020, 3881,   2749.5,   3.0760,  34.9760,2,  34.9770,2,    246.5,2,    245.5,2,    32.14,2,    20.31,2,     1.26,2,   -999.0,9,   7.7340,2,    25.00
  35TH20100608, OVIDE,     8,  1,      9,2,20100611,1809, 40.3350, -10.3020, 3881,   2499.7,   3.3660,  35.0000,2,  35.0020,2,    249.3,2,    248.3,2,    27.49,2,    19.42,2,     1.20,2,   -999.0,9,   7.7350,2,    25.00
  35TH20100608, OVIDE,     8,  1,     10,2,20100611,1809, 40.3350, -10.3020, 3881,   2247.5,   3.8230,  35.0480,2,  35.0490,2,    249.7,2,    249.1,2,    22.61,2,    18.82,2,     1.16,2,   -999.0,9,   7.7350,2,    25.00
  35TH20100608, OVIDE,     8,  1,     11,2,20100611,1809, 40.3350, -10.3020, 3881,   2000.0,   4.6980,  35.1720,2,  35.1740,2,    243.1,2,    242.9,2,    16.35,2,    18.12,2,     1.08,2,   -999.0,9,   7.7320,2,    25.00
  35TH20100608, OVIDE,     8,  1,     12,2,20100611,1809, 40.3350, -10.3020, 3881,   1799.0,   4.9050,  35.1640,2,  35.1660,2,    243.4,2,    245.2,2,    14.41,2,    17.75,2,     1.07,2,   -999.0,9,   7.7350,2,    25.00
  35TH20100608, OVIDE,     8,  1,     13,2,20100611,1809, 40.3350, -10.3020, 3881,   1598.1,   5.8960,  35.3110,2,  35.3150,2,    230.7,2,    233.3,2,    12.88,2,    17.43,2,     1.03,2,   -999.0,9,   7.7400,2,    25.00
  35TH20100608, OVIDE,     8,  1,     14,2,20100611,1809, 40.3350, -10.3020, 3881,   1399.0,   7.8850,  35.6420,2,  35.7110,3,    199.3,2,    213.0,3,    11.43,2,    16.75,2,     0.97,2,   -999.0,9,   7.7620,2,    25.00
  35TH20100608, OVIDE,     8,  1,     15,2,20100611,1809, 40.3350, -10.3020, 3881,   1299.2,   9.8460,  36.0440,2,  36.0680,3,    185.6,2,    190.8,2,    10.24,2,    15.68,2,     0.90,2,   -999.0,9,   7.7840,2,    25.00
  35TH20100608, OVIDE,     8,  1,     16,2,20100611,1809, 40.3350, -10.3020, 3881,   1200.2,  10.8760,  36.2520,2,  36.2450,3,    181.1,2,    184.1,2,     9.53,2,    15.04,2,     0.84,2,   -999.0,9,   7.7950,2,    25.00
  35TH20100608, OVIDE,     8,  1,     17,2,20100611,1809, 40.3350, -10.3020, 3881,    999.6,  11.2160,  36.1900,2,  36.1650,3,    178.8,2,    182.4,2,     9.11,2,    15.16,2,     0.85,2,   -999.0,9,   7.7930,2,    25.00
  35TH20100608, OVIDE,     8,  1,     18,2,20100611,1809, 40.3350, -10.3020, 3881,    899.6,  11.3830,  36.1270,2,  36.1440,3,    178.6,2,    179.6,2,     8.62,2,    15.02,2,     0.84,2,   -999.0,9,   7.7940,2,    25.00
  35TH20100608, OVIDE,     8,  1,     19,2,20100611,1809, 40.3350, -10.3020, 3881,    798.4,  11.6400,  36.0940,2,  36.1040,3,    179.3,2,    180.9,2,     8.13,2,    14.38,2,     0.82,2,   -999.0,9,   7.7970,2,    25.00
  35TH20100608, OVIDE,     8,  1,     20,2,20100611,1809, 40.3350, -10.3020, 3881,    700.9,  11.0750,  35.8380,2,  35.8400,2,    181.7,2,    183.5,2,     8.04,2,    15.21,2,     0.83,2,   -999.0,9,   7.7770,2,    25.00
  35TH20100608, OVIDE,     8,  1,     21,2,20100611,1809, 40.3350, -10.3020, 3881,    600.3,  11.2730,  35.7170,2,  35.7210,2,    190.4,2,    189.8,2,     7.13,2,    14.57,2,     0.86,2,   -999.0,9,   7.7790,2,    25.00
  35TH20100608, OVIDE,     8,  1,     22,2,20100611,1809, 40.3350, -10.3020, 3881,    499.7,  11.4030,  35.6390,2,  35.6340,3,    206.9,2,    205.4,2,     5.69,2,    13.00,2,     0.79,2,   -999.0,9,   7.7920,2,    25.00
  35TH20100608, OVIDE,     8,  1,     23,2,20100611,1809, 40.3350, -10.3020, 3881,    400.6,  11.7920,  35.6500,2,  35.6460,2,    225.7,2,    219.8,2,     4.37,2,    10.83,2,     0.64,2,   -999.0,9,   7.8130,2,    25.00
  35TH20100608, OVIDE,     8,  1,     24,2,20100611,1809, 40.3350, -10.3020, 3881,    299.6,  12.2650,  35.7160,2,  35.7120,2,    229.4,2,    224.5,2,     3.76,2,     9.26,2,     0.56,2,   -999.0,9,   7.8310,2,    25.00
  35TH20100608, OVIDE,     8,  1,     25,2,20100611,1809, 40.3350, -10.3020, 3881,    200.4,  12.8170,  35.7950,2,  35.7940,2,    237.3,2,    234.4,2,     2.88,2,     8.13,2,     0.43,2,   -999.0,9,   7.8610,2,    25.00
  35TH20100608, OVIDE,     8,  1,     26,2,20100611,1809, 40.3350, -10.3020, 3881,    150.1,  13.1730,  35.8560,2,  35.8560,2,    237.8,2,    236.7,2,     2.44,2,     7.13,2,     0.36,2,   -999.0,9,   7.8750,2,    25.00
  35TH20100608, OVIDE,     8,  1,     27,2,20100611,1809, 40.3350, -10.3020, 3881,     99.3,  13.6920,  35.9450,2,  35.9330,3,    240.7,2,    237.8,2,     2.20,2,     6.15,2,     0.31,2,   -999.0,9,   7.8880,2,    25.00
  35TH20100608, OVIDE,     8,  1,     28,2,20100611,1809, 40.3350, -10.3020, 3881,     55.8,  14.1400,  35.9480,2,  35.9430,2,    257.4,2,    243.5,3,     1.63,2,     4.17,2,     0.22,2,   -999.0,9,   7.9110,2,    25.00
  35TH20100608, OVIDE,     8,  1,     29,2,20100611,1809, 40.3350, -10.3020, 3881,      3.6,  18.2320,  36.0790,2,  36.0690,3,    237.6,2,    241.2,2,     1.25,2,     0.29,2,     0.02,2,   -999.0,9,   7.9840,2,    25.00