BOTTLE,20140929PRINUNIVRMK
EXPOCODE,SECT_ID,STNNBR,CASTNO,BTLNBR,BTLNBR_FLAG_W,DATE,TIME,LATITUDE,LONGITUDE,DEPTH,CTDPRS,CTDTMP,CTDSAL,CTDSAL_FLAG_W,SALNTY,SALNTY_FLAG_W,CTDOXY,CTDOXY_FLAG_W,OXYGEN,OXYGEN_FLAG_W,SILCAT,SILCAT_FLAG_W,NITRAT,NITRAT_FLAG_W,PHSPHT,PHSPHT_FLAG_W,ALKALI,ALKALI_FLAG_W,PH_SWS,PH_SWS_FLAG_W,PH_TMP
,,,,,,,,,,METERS,DBAR,ITS-90,PSS-78,,PSS-78,,UMOL/KG,,UMOL/KG,,UMOL/KG,,UMOL/KG,,UMOL/KG,,UMOL/KG,,,,DEG C
  35TH20100608, OVIDE,    18,  1,      3,2,20100614,0919, 41.6830, -14.2770, 5323,   5429.6,   2.5680,  34.8960,2,  34.8950,2,    243.8,2,    243.9,2,    47.90,2,    23.00,2,     1.35,2,   -999.0,9,   7.7340,2,    25.00
  35TH20100608, OVIDE,    18,  1,      4,2,20100614,0919, 41.6830, -14.2770, 5323,   4999.2,   2.5190,  34.8980,2,  34.8970,2,    243.9,2,    244.1,2,    47.58,2,    22.93,2,     1.36,2,   -999.0,9,   7.7330,2,    25.00
  35TH20100608, OVIDE,    18,  1,      5,2,20100614,0919, 41.6830, -14.2770, 5323,   4499.9,   2.4870,  34.9010,2,  34.9040,2,    243.8,2,    244.4,2,    46.77,2,    22.70,2,     1.33,2,   -999.0,9,   7.7340,2,    25.00
  35TH20100608, OVIDE,    18,  1,      6,2,20100614,0919, 41.6830, -14.2770, 5323,   3998.7,   2.5230,  34.9110,2,  34.9120,2,    244.3,2,    243.9,2,    44.51,2,    22.38,2,     1.28,2,   -999.0,9,   7.7350,2,    25.00
  35TH20100608, OVIDE,    18,  1,      7,2,20100614,0919, 41.6830, -14.2770, 5323,   3498.9,   2.6220,  34.9260,2,  34.9260,2,    245.8,2,    245.5,2,    40.84,2,    21.93,2,     1.28,2,   -999.0,9,   7.7350,2,    25.00
  35TH20100608, OVIDE,    18,  1,      8,2,20100614,0919, 41.6830, -14.2770, 5323,   3251.2,   2.7180,  34.9350,2,  34.9380,2,    247.4,2,    247.7,2,    38.10,2,    21.62,2,     1.28,2,   -999.0,9,   7.7320,2,    25.00
  35TH20100608, OVIDE,    18,  1,      9,2,20100614,0919, 41.6830, -14.2770, 5323,   3000.3,   2.8440,  34.9480,2,  34.9490,2,    249.4,2,    248.1,2,    34.96,2,    21.07,2,     1.23,2,   -999.0,9,   7.7340,2,    25.00
  35TH20100608, OVIDE,    18,  1,     10,2,20100614,0919, 41.6830, -14.2770, 5323,   2748.2,   3.0280,  34.9630,2,  34.9670,2,    251.3,2,    250.0,2,    31.46,2,    20.43,2,     1.21,2,   -999.0,9,   7.7360,2,    25.00
  35TH20100608, OVIDE,    18,  1,     11,2,20100614,0919, 41.6830, -14.2770, 5323,   2496.2,   3.3130,  34.9830,2,  34.9860,2,    253.6,2,    253.1,2,    25.92,2,    19.90,2,     1.18,2,   -999.0,9,   7.7360,2,    25.00
  35TH20100608, OVIDE,    18,  1,     12,2,20100614,0919, 41.6830, -14.2770, 5323,   2251.0,   3.6240,  35.0020,2,  35.0030,2,    256.8,2,    256.6,2,    19.44,2,    19.29,2,     1.13,2,   -999.0,9,   7.7340,2,    25.00
  35TH20100608, OVIDE,    18,  1,     13,2,20100614,0919, 41.6830, -14.2770, 5323,   1998.3,   3.9250,  35.0140,2,  35.0170,2,    261.1,2,    259.7,2,    15.30,2,    18.45,2,     1.09,2,   -999.0,9,   7.7300,2,    25.00
  35TH20100608, OVIDE,    18,  1,     14,2,20100614,0919, 41.6830, -14.2770, 5323,   1798.8,   4.6260,  35.1030,2,  35.1040,2,    251.7,2,    252.3,2,    13.37,2,    18.48,2,     1.05,2,   -999.0,9,   7.7310,2,    25.00
  35TH20100608, OVIDE,    18,  1,     15,2,20100614,0919, 41.6830, -14.2770, 5323,   1598.0,   5.8680,  35.2900,2,  35.2930,2,    237.7,2,    234.9,2,    12.42,2,    18.26,2,     1.02,2,   -999.0,9,   7.7380,2,    25.00
  35TH20100608, OVIDE,    18,  1,     16,2,20100614,0919, 41.6830, -14.2770, 5323,   1399.0,   7.7130,  35.5890,2,  35.5880,2,    210.3,2,    212.9,2,    11.69,2,    18.05,2,     0.98,2,   -999.0,9,   7.7520,2,    25.00
  35TH20100608, OVIDE,    18,  1,     17,2,20100614,0919, 41.6830, -14.2770, 5323,   1200.5,   9.9730,  35.9660,2,  35.9700,2,    186.0,2,    189.4,2,    10.39,2,    17.21,2,     0.92,2,   -999.0,9,   7.7780,2,    25.00
  35TH20100608, OVIDE,    18,  1,     18,2,20100614,0919, 41.6830, -14.2770, 5323,    999.7,  10.6500,  35.9480,2,  35.9500,2,    178.2,2,    182.1,2,     9.64,2,    17.11,2,     0.91,2,   -999.0,9,   7.7790,2,    25.00
  35TH20100608, OVIDE,    18,  1,     19,2,20100614,0919, 41.6830, -14.2770, 5323,    900.2,  11.1180,  35.9500,2,  35.9510,2,    178.0,2,    180.3,2,     8.94,2,    16.65,2,     0.87,2,   -999.0,9,   7.7840,2,    25.00
  35TH20100608, OVIDE,    18,  1,     20,2,20100614,0919, 41.6830, -14.2770, 5323,    800.2,  10.9510,  35.7750,2,  35.7770,2,    182.4,2,    182.9,2,     8.74,2,    16.77,2,     0.87,2,   -999.0,9,   7.7750,2,    25.00
  35TH20100608, OVIDE,    18,  1,     21,2,20100614,0919, 41.6830, -14.2770, 5323,    700.5,  11.0200,  35.6680,2,  35.6700,2,    185.2,2,    189.5,2,     7.98,2,    16.39,2,     0.83,2,   -999.0,9,   7.7730,2,    25.00
  35TH20100608, OVIDE,    18,  1,     22,2,20100614,0919, 41.6830, -14.2770, 5323,    598.3,  11.1760,  35.6000,2,  35.6000,2,    203.2,2,    195.5,2,     6.78,2,    15.24,2,     0.82,2,   -999.0,9,   7.7820,2,    25.00
  35TH20100608, OVIDE,    18,  1,     23,2,20100614,0919, 41.6830, -14.2770, 5323,    502.3,  11.5460,  35.6090,2,  35.6080,2,    229.6,2,    226.6,2,     4.92,2,    12.17,2,     0.68,2,   -999.0,9,   7.8170,2,    25.00
  35TH20100608, OVIDE,    18,  1,     24,2,20100614,0919, 41.6830, -14.2770, 5323,    400.8,  12.0400,  35.6860,2,  35.6850,2,    247.4,2,    247.6,2,     3.57,2,     8.85,2,     0.49,2,   -999.0,9,   7.8560,2,    25.00
  35TH20100608, OVIDE,    18,  1,     25,2,20100614,0919, 41.6830, -14.2770, 5323,    300.4,  12.2850,  35.7230,2,  35.7220,2,    242.8,2,    247.5,2,     3.30,2,     8.29,2,     0.46,2,   -999.0,9,   7.8610,2,    25.00
  35TH20100608, OVIDE,    18,  1,     26,2,20100614,0919, 41.6830, -14.2770, 5323,    200.2,  12.6120,  35.7580,2,  35.7510,3,    225.0,2,    239.6,3,     3.37,2,     8.45,2,     0.45,2,   -999.0,9,   7.8660,2,    25.00
  35TH20100608, OVIDE,    18,  1,     27,2,20100614,0919, 41.6830, -14.2770, 5323,    149.7,  12.9290,  35.7980,2,  35.8000,2,    231.1,2,    234.8,2,     3.64,2,     8.47,2,     0.46,2,   -999.0,9,   7.8700,2,    25.00
  35TH20100608, OVIDE,    18,  1,     28,2,20100614,0919, 41.6830, -14.2770, 5323,     99.9,  13.4240,  35.8660,2,  35.8660,2,    239.7,2,    240.7,2,     2.74,2,     6.32,2,     0.34,2,   -999.0,9,   7.8890,2,    25.00
  35TH20100608, OVIDE,    18,  1,     29,2,20100614,0919, 41.6830, -14.2770, 5323,     55.1,  14.6850,  36.0310,2,  36.0170,3,    242.6,2,    246.6,2,     1.93,2,     2.56,2,     0.15,2,   -999.0,9,   7.9340,2,    25.00
  35TH20100608, OVIDE,    18,  1,     30,2,20100614,0919, 41.6830, -14.2770, 5323,      4.7,  16.5830,  35.9700,2,  35.9690,2,    247.5,2,    249.2,2,     1.57,2,     0.14,2,     0.03,2,   -999.0,9,   7.9800,2,    25.00
  35TH20100608, OVIDE,    19,  1,      3,2,20100614,1531, 41.9830, -14.6730, 5320,   5428.3,   2.5690,  34.8960,2,  34.8960,2,    243.7,2,    244.4,2,    46.59,2,    22.94,2,     1.37,2,   2353.7,2,   7.7330,2,    25.00
  35TH20100608, OVIDE,    19,  1,      4,2,20100614,1531, 41.9830, -14.6730, 5320,   4998.4,   2.5220,  34.8980,2,  34.8960,2,    243.7,2,    244.9,2,    46.51,2,    22.84,2,     1.36,2,   2353.4,2,   7.7330,2,    25.00
  35TH20100608, OVIDE,    19,  1,      5,2,20100614,1531, 41.9830, -14.6730, 5320,   4498.3,   2.4930,  34.9010,2,  34.9010,2,    243.6,2,    243.9,2,    46.04,2,    23.02,2,     1.35,2,   2350.8,2,   7.7320,2,    25.00
  35TH20100608, OVIDE,    19,  1,      6,2,20100614,1531, 41.9830, -14.6730, 5320,   4000.2,   2.5260,  34.9120,2,  34.9100,2,    244.1,2,    244.7,2,    43.82,2,    22.64,2,     1.35,2,   2348.2,2,   7.7300,2,    25.00
  35TH20100608, OVIDE,    19,  1,      7,2,20100614,1531, 41.9830, -14.6730, 5320,   3497.9,   2.6370,  34.9270,2,  34.9250,2,    245.9,2,    245.8,2,    39.31,2,    22.04,2,     1.30,2,   2342.9,2,   7.7340,2,    25.00
  35TH20100608, OVIDE,    19,  1,      8,2,20100614,1531, 41.9830, -14.6730, 5320,   3249.3,   2.7390,  34.9380,2,  34.9430,3,    247.5,2,    247.3,2,    36.27,2,    21.55,2,     1.27,2,   -999.0,9,   7.7320,2,    25.00
  35TH20100608, OVIDE,    19,  1,      9,2,20100614,1531, 41.9830, -14.6730, 5320,   3000.2,   2.8530,  34.9480,2,  34.9490,2,    249.4,2,    248.8,2,    34.97,2,    20.98,2,     1.24,2,   2337.1,2,   7.7340,2,    25.00
  35TH20100608, OVIDE,    19,  1,     10,2,20100614,1531, 41.9830, -14.6730, 5320,   2749.8,   3.0360,  34.9620,2,  34.9640,2,    252.1,2,    251.3,2,    30.83,2,    20.46,2,     1.19,2,   -999.0,9,   7.7350,2,    25.00
  35TH20100608, OVIDE,    19,  1,     11,2,20100614,1531, 41.9830, -14.6730, 5320,   2500.9,   3.3030,  34.9830,2,  34.9820,2,    255.9,2,    254.4,2,    25.72,2,    19.85,2,     1.14,2,   2325.9,2,   7.7350,2,    25.00
  35TH20100608, OVIDE,    19,  1,     12,2,20100614,1531, 41.9830, -14.6730, 5320,   2251.3,   3.5700,  34.9980,2,  34.9960,2,    259.5,2,    258.6,2,    18.00,2,    19.07,2,     1.09,2,   2319.3,2,   7.7340,2,    25.00
  35TH20100608, OVIDE,    19,  1,     13,2,20100614,1531, 41.9830, -14.6730, 5320,   1998.9,   3.8950,  35.0070,2,  35.0060,2,    263.7,2,    262.2,2,    14.04,2,    18.54,2,     1.04,2,   2314.3,2,   7.7290,2,    25.00
  35TH20100608, OVIDE,    19,  1,     14,2,20100614,1531, 41.9830, -14.6730, 5320,   1799.4,   4.4830,  35.0800,2,  35.0740,3,    253.5,2,    255.8,2,    12.65,2,    18.30,2,     1.03,2,   2318.8,2,   7.7290,2,    25.00
  35TH20100608, OVIDE,    19,  1,     15,2,20100614,1531, 41.9830, -14.6730, 5320,   1601.1,   5.8730,  35.3020,2,  35.3010,2,    238.8,2,    235.3,2,    12.24,2,    18.53,2,     1.02,2,   2333.2,2,   7.7390,2,    25.00
  35TH20100608, OVIDE,    19,  1,     16,2,20100614,1531, 41.9830, -14.6730, 5320,   1399.2,   7.6330,  35.5970,2,  35.5970,2,    208.9,2,    213.5,2,    11.36,2,    17.94,2,     0.98,2,   2352.4,2,   7.7510,2,    25.00
  35TH20100608, OVIDE,    19,  1,     17,2,20100614,1531, 41.9830, -14.6730, 5320,   1199.3,   9.0720,  35.7760,2,  35.7750,2,    194.2,2,    196.5,2,    10.51,2,    17.75,2,     0.93,2,   2362.5,2,   7.7630,2,    25.00
  35TH20100608, OVIDE,    19,  1,     18,2,20100614,1531, 41.9830, -14.6730, 5320,    999.8,  10.0570,  35.8300,2,  35.8320,2,    181.2,2,    185.4,2,     9.80,2,    17.53,2,     0.88,2,   2364.3,2,   7.7670,2,    25.00
  35TH20100608, OVIDE,    19,  1,     19,2,20100614,1531, 41.9830, -14.6730, 5320,    900.9,  10.5010,  35.8310,2,  35.8310,2,    180.1,2,    183.3,2,     9.18,2,    17.17,2,     0.89,2,   2360.9,2,   7.7710,2,    25.00
  35TH20100608, OVIDE,    19,  1,     20,2,20100614,1531, 41.9830, -14.6730, 5320,    800.3,  10.7160,  35.7650,2,  35.6740,3,    180.9,2,    183.3,2,     8.71,2,    17.14,2,     0.91,2,   2354.8,2,   7.7690,2,    25.00
  35TH20100608, OVIDE,    19,  1,     21,2,20100614,1531, 41.9830, -14.6730, 5320,    700.5,  10.6960,  35.6160,2,  35.6210,3,    194.6,2,    192.2,2,     7.90,2,    16.66,2,     0.89,2,   2342.4,2,   7.7680,2,    25.00
  35TH20100608, OVIDE,    19,  1,     22,2,20100614,1531, 41.9830, -14.6730, 5320,    602.1,  11.0210,  35.5570,2,  35.5570,2,    216.5,2,    210.7,2,     6.20,2,    14.18,2,     0.82,2,   2338.0,2,   7.7890,2,    25.00
  35TH20100608, OVIDE,    19,  1,     23,2,20100614,1531, 41.9830, -14.6730, 5320,    499.9,  11.5410,  35.6070,2,  35.6060,2,    240.5,2,    236.6,2,     4.38,2,    11.19,2,     0.62,2,   2340.9,2,   7.8280,2,    25.00
  35TH20100608, OVIDE,    19,  1,     24,2,20100614,1531, 41.9830, -14.6730, 5320,    399.9,  11.9240,  35.6650,2,  35.6670,2,    247.8,2,    245.5,2,     3.64,2,     9.51,2,     0.51,2,   2343.7,2,   7.8460,2,    25.00
  35TH20100608, OVIDE,    19,  1,     25,2,20100614,1531, 41.9830, -14.6730, 5320,    300.3,  12.1320,  35.7010,2,  35.7000,2,    251.1,2,    249.3,2,     3.26,2,     8.63,2,     0.48,2,   2344.6,2,   7.8560,2,    25.00
  35TH20100608, OVIDE,    19,  1,     26,2,20100614,1531, 41.9830, -14.6730, 5320,    200.2,  12.3860,  35.7330,2,  35.7320,2,    245.5,2,    243.9,2,     3.08,2,     8.48,2,     0.48,2,   2346.5,2,   7.8600,2,    25.00
  35TH20100608, OVIDE,    19,  1,     27,2,20100614,1531, 41.9830, -14.6730, 5320,    150.7,  12.6390,  35.7570,2,  35.7550,2,    243.7,2,    244.7,2,     3.57,2,     8.08,2,     0.45,2,   -999.0,9,   7.8650,2,    25.00
  35TH20100608, OVIDE,    19,  1,     28,2,20100614,1531, 41.9830, -14.6730, 5320,    101.0,  12.9800,  35.7920,2,  35.7880,3,    247.2,2,    245.8,2,     3.31,2,     7.26,2,     0.40,2,   2350.0,2,   7.8790,2,    25.00
  35TH20100608, OVIDE,    19,  1,     29,2,20100614,1531, 41.9830, -14.6730, 5320,     57.4,  13.6340,  35.8340,2,  35.8320,2,    254.6,2,    253.4,2,     2.63,2,     4.77,2,     0.29,2,   -999.0,9,   7.9080,2,    25.00
  35TH20100608, OVIDE,    19,  1,     30,2,20100614,1531, 41.9830, -14.6730, 5320,      3.0,  16.7120,  35.9080,2,  35.9070,2,    251.1,2,    250.8,2,     1.81,2,     0.16,2,     0.08,2,   2362.9,2,   7.9780,2,    25.00
  35TH20100608, OVIDE,    20,  1,      3,2,20100614,2150, 42.2820, -15.0660, 5290,   5395.7,   2.5710,  34.8970,2,  34.8960,2,    243.1,2,    244.8,2,    48.74,2,    22.80,2,     1.35,2,   -999.0,9,   7.7340,2,    25.00
  35TH20100608, OVIDE,    20,  1,      4,2,20100614,2150, 42.2820, -15.0660, 5290,   4999.4,   2.5230,  34.8980,2,  34.8970,2,    243.3,2,    244.2,2,    47.30,2,    22.48,2,     1.35,2,   -999.0,9,   7.7310,2,    25.00
  35TH20100608, OVIDE,    20,  1,      5,2,20100614,2150, 42.2820, -15.0660, 5290,   4499.8,   2.4920,  34.9020,2,  34.9020,2,    243.5,2,    243.8,2,    46.48,2,    22.44,2,     1.31,2,   -999.0,9,   7.7320,2,    25.00
  35TH20100608, OVIDE,    20,  1,      6,2,20100614,2150, 42.2820, -15.0660, 5290,   3998.1,   2.5280,  34.9100,2,  34.9090,2,    244.0,2,    244.4,2,    44.53,2,    22.17,2,     1.29,2,   -999.0,9,   7.7320,2,    25.00
  35TH20100608, OVIDE,    20,  1,      7,2,20100614,2150, 42.2820, -15.0660, 5290,   3496.2,   2.6150,  34.9250,2,  34.9240,2,    245.6,2,    245.8,2,    41.43,2,    21.59,2,     1.27,2,   -999.0,9,   7.7340,2,    25.00
  35TH20100608, OVIDE,    20,  1,      8,2,20100614,2150, 42.2820, -15.0660, 5290,   2996.4,   2.8150,  34.9460,2,  34.9460,2,    249.0,2,    248.5,2,    35.42,2,    20.94,2,     1.22,2,   -999.0,9,   7.7340,2,    25.00
  35TH20100608, OVIDE,    20,  1,      9,2,20100614,2150, 42.2820, -15.0660, 5290,   2749.5,   2.9950,  34.9600,2,  34.9640,2,    251.6,2,    251.4,2,    31.17,2,    19.90,2,     1.16,2,   -999.0,9,   7.7350,2,    25.00
  35TH20100608, OVIDE,    20,  1,     10,2,20100614,2150, 42.2820, -15.0660, 5290,   2500.3,   3.2640,  34.9800,2,  34.9800,2,    254.1,2,    255.1,2,    26.40,2,    19.60,2,     1.12,2,   -999.0,9,   7.7360,2,    25.00
  35TH20100608, OVIDE,    20,  1,     11,2,20100614,2150, 42.2820, -15.0660, 5290,   2249.6,   3.5610,  34.9980,2,  34.9990,2,    257.5,2,    257.2,2,    19.14,2,    18.97,2,     1.09,2,   -999.0,9,   7.7350,2,    25.00
  35TH20100608, OVIDE,    20,  1,     12,2,20100614,2150, 42.2820, -15.0660, 5290,   1999.7,   3.9360,  35.0230,2,  35.0260,2,    260.4,2,    258.9,2,    15.26,2,    18.25,2,     1.04,2,   -999.0,9,   7.7320,2,    25.00
  35TH20100608, OVIDE,    20,  1,     13,2,20100614,2150, 42.2820, -15.0660, 5290,   1799.8,   4.4900,  35.0900,2,  35.0920,2,    252.9,2,    252.9,2,    13.46,2,    18.29,2,     1.02,2,   -999.0,9,   7.7290,2,    25.00
  35TH20100608, OVIDE,    20,  1,     14,2,20100614,2150, 42.2820, -15.0660, 5290,   1599.6,   5.4890,  35.2310,2,  35.2280,2,    238.0,2,    239.4,2,    12.41,2,    18.06,2,     1.01,2,   -999.0,9,   7.7350,2,    25.00
  35TH20100608, OVIDE,    20,  1,     15,2,20100614,2150, 42.2820, -15.0660, 5290,   1398.9,   7.1280,  35.4800,2,  35.4840,2,    212.1,2,    219.1,2,    11.64,2,    17.52,2,     0.97,2,   -999.0,9,   7.7440,2,    25.00
  35TH20100608, OVIDE,    20,  1,     16,2,20100614,2150, 42.2820, -15.0660, 5290,   1202.0,   9.1510,  35.7990,2,  35.8020,2,    189.4,2,    195.6,2,    10.72,2,    17.09,2,     0.92,2,   -999.0,9,   7.7630,2,    25.00
  35TH20100608, OVIDE,    20,  1,     17,2,20100614,2150, 42.2820, -15.0660, 5290,   1099.3,  10.0090,  35.9170,2,  35.9180,2,    182.0,2,    187.2,2,     9.99,2,    16.73,2,     0.90,2,   -999.0,9,   7.7730,2,    25.00
  35TH20100608, OVIDE,    20,  1,     18,2,20100614,2150, 42.2820, -15.0660, 5290,   1049.3,  10.2850,  35.9460,2,  35.9450,2,    182.3,2,    185.1,2,     9.82,2,    16.76,2,     0.89,2,   -999.0,9,   7.7770,2,    25.00
  35TH20100608, OVIDE,    20,  1,     19,2,20100614,2150, 42.2820, -15.0660, 5290,    949.3,  10.4600,  35.9060,2,  35.8860,3,    179.7,2,    183.6,2,     9.50,2,    16.79,2,     0.90,2,   -999.0,9,   7.7740,2,    25.00
  35TH20100608, OVIDE,    20,  1,     20,2,20100614,2150, 42.2820, -15.0660, 5290,    850.1,  10.5330,  35.7730,2,  35.7690,2,    180.6,2,    182.8,2,     9.09,2,    16.64,2,     0.91,2,   -999.0,9,   7.7690,2,    25.00
  35TH20100608, OVIDE,    20,  1,     21,2,20100614,2150, 42.2820, -15.0660, 5290,    747.7,  10.7240,  35.6970,2,  35.6940,2,    181.8,2,    183.9,2,     8.60,2,    16.74,2,     0.89,2,   -999.0,9,   7.7660,2,    25.00
  35TH20100608, OVIDE,    20,  1,     22,2,20100614,2150, 42.2820, -15.0660, 5290,    650.3,  11.0030,  35.5970,2,  35.5920,3,    195.3,2,    193.4,2,     7.17,2,    15.65,2,     0.83,2,   -999.0,9,   7.7740,2,    25.00
  35TH20100608, OVIDE,    20,  1,     23,2,20100614,2150, 42.2820, -15.0660, 5290,    500.7,  11.6710,  35.6280,2,  35.6270,2,    244.0,2,    241.4,2,     4.08,2,     9.98,2,     0.54,2,   -999.0,9,   7.8370,2,    25.00
  35TH20100608, OVIDE,    20,  1,     24,2,20100614,2150, 42.2820, -15.0660, 5290,    400.2,  12.1120,  35.7030,2,  35.6990,2,    245.4,2,    245.4,2,     3.42,2,     8.49,2,     0.45,2,   -999.0,9,   7.8540,2,    25.00
  35TH20100608, OVIDE,    20,  1,     25,2,20100614,2150, 42.2820, -15.0660, 5290,    348.6,  12.2610,  35.7210,2,  35.7190,2,    249.2,2,    244.5,2,     3.18,2,     8.33,2,     0.44,2,   -999.0,9,   7.8560,2,    25.00
  35TH20100608, OVIDE,    20,  1,     26,2,20100614,2150, 42.2820, -15.0660, 5290,    249.1,  12.4850,  35.7400,2,  35.7400,2,    244.7,2,    242.2,2,     3.33,2,     8.16,2,     0.43,2,   -999.0,9,   7.8740,2,    25.00
  35TH20100608, OVIDE,    20,  1,     27,2,20100614,2150, 42.2820, -15.0660, 5290,    150.9,  12.8390,  35.7820,2,  35.7820,2,    232.5,2,    232.8,2,     3.56,2,     8.30,2,     0.45,2,   -999.0,9,   7.8610,2,    25.00
  35TH20100608, OVIDE,    20,  1,     28,2,20100614,2150, 42.2820, -15.0660, 5290,     98.7,  13.2310,  35.8370,2,  35.8340,2,    237.9,2,    239.7,2,     2.87,2,     6.98,2,     0.36,2,   -999.0,9,   7.8800,2,    25.00
  35TH20100608, OVIDE,    20,  1,     29,2,20100614,2150, 42.2820, -15.0660, 5290,     58.5,  13.9110,  35.9040,2,  35.8970,3,    254.5,2,    251.5,2,     2.24,2,     4.24,2,     0.23,2,   -999.0,9,   7.9130,2,    25.00
  35TH20100608, OVIDE,    20,  1,     30,2,20100614,2150, 42.2820, -15.0660, 5290,      5.3,  16.5550,  35.9550,2,  35.9530,2,    251.7,2,    249.2,2,     1.65,2,     0.05,2,     0.04,2,   -999.0,9,   7.9770,2,    25.00