BOTTLE,20140929PRINUNIVRMK
EXPOCODE,SECT_ID,STNNBR,CASTNO,BTLNBR,BTLNBR_FLAG_W,DATE,TIME,LATITUDE,LONGITUDE,DEPTH,CTDPRS,CTDTMP,CTDSAL,CTDSAL_FLAG_W,SALNTY,SALNTY_FLAG_W,CTDOXY,CTDOXY_FLAG_W,OXYGEN,OXYGEN_FLAG_W,SILCAT,SILCAT_FLAG_W,NITRAT,NITRAT_FLAG_W,PHSPHT,PHSPHT_FLAG_W,ALKALI,ALKALI_FLAG_W,PH_SWS,PH_SWS_FLAG_W,PH_TMP
,,,,,,,,,,METERS,DBAR,ITS-90,PSS-78,,PSS-78,,UMOL/KG,,UMOL/KG,,UMOL/KG,,UMOL/KG,,UMOL/KG,,UMOL/KG,,,,DEG C
  35TH20100608, OVIDE,    75,  1,      3,2,20100627,0446, 59.2350, -35.1210, 2975,   3022.5,   2.6980,  34.9250,2,  34.9260,2,    283.0,2,    281.7,2,    13.16,2,    15.24,2,     0.90,2,   2308.2,2,   7.7200,2,    25.00
  35TH20100608, OVIDE,    75,  1,      4,2,20100627,0446, 59.2350, -35.1210, 2975,   2969.8,   2.7450,  34.9270,2,  34.9240,2,    281.9,2,    282.1,2,    12.96,2,    15.71,2,     0.97,2,   2307.6,2,   7.7220,2,    25.00
  35TH20100608, OVIDE,    75,  1,      5,2,20100627,0446, 59.2350, -35.1210, 2975,   2920.7,   2.7870,  34.9280,2,  34.9290,2,    281.1,2,    279.8,2,    13.39,2,    15.63,2,     0.98,2,   2308.6,2,   7.7240,2,    25.00
  35TH20100608, OVIDE,    75,  1,      6,2,20100627,0446, 59.2350, -35.1210, 2975,   2750.7,   2.9130,  34.9330,2,  34.9340,2,    279.2,2,    277.3,2,    13.46,2,    15.88,2,     0.99,2,   2308.9,2,   7.7240,2,    25.00
  35TH20100608, OVIDE,    75,  1,      7,2,20100627,0446, 59.2350, -35.1210, 2975,   2499.4,   3.0920,  34.9400,2,  34.9410,2,    278.1,2,    278.2,2,    12.90,2,    15.58,2,     0.97,2,   2309.4,2,   7.7250,2,    25.00
  35TH20100608, OVIDE,    75,  1,      8,2,20100627,0446, 59.2350, -35.1210, 2975,   2249.1,   3.1590,  34.9430,2,  34.9440,2,    277.9,2,    278.7,2,    12.44,2,    16.00,2,     0.92,2,   2309.6,2,   7.7230,2,    25.00
  35TH20100608, OVIDE,    75,  1,      9,2,20100627,0446, 59.2350, -35.1210, 2975,   1999.6,   3.3590,  34.9540,2,  34.9540,2,    277.2,2,    277.2,2,    11.32,2,    16.22,2,     0.94,2,   2309.2,2,   7.7210,2,    25.00
  35TH20100608, OVIDE,    75,  1,     10,2,20100627,0446, 59.2350, -35.1210, 2975,   1801.7,   3.4430,  34.9490,2,  34.9520,2,    277.0,2,    280.1,2,    11.05,2,    15.87,2,     0.94,2,   2308.0,2,   7.7260,2,    25.00
  35TH20100608, OVIDE,    75,  1,     11,2,20100627,0446, 59.2350, -35.1210, 2975,   1599.0,   3.5150,  34.9440,2,  34.9460,2,    276.3,2,    277.4,2,    10.91,2,    16.17,2,     0.95,2,   2308.8,2,   7.7190,2,    25.00
  35TH20100608, OVIDE,    75,  1,     12,2,20100627,0446, 59.2350, -35.1210, 2975,   1398.9,   3.6050,  34.9290,2,  34.9310,2,    275.8,2,    276.2,2,    10.77,2,    16.46,2,     0.99,2,   2307.0,2,   7.7170,2,    25.00
  35TH20100608, OVIDE,    75,  1,     13,2,20100627,0446, 59.2350, -35.1210, 2975,   1198.3,   3.7100,  34.9190,2,  34.9200,2,    276.8,2,    276.7,2,    10.44,2,    16.40,2,     0.96,2,   2306.1,2,   7.7140,2,    25.00
  35TH20100608, OVIDE,    75,  1,     14,2,20100627,0446, 59.2350, -35.1210, 2975,    998.6,   3.8070,  34.9050,2,  34.9070,2,    279.8,2,    279.5,2,     9.97,2,    16.62,2,     0.94,2,   2305.1,2,   7.7120,2,    25.00
  35TH20100608, OVIDE,    75,  1,     15,2,20100627,0446, 59.2350, -35.1210, 2975,    899.1,   3.9220,  34.9150,2,  34.9150,2,    279.9,2,    278.6,2,     9.98,2,    16.44,2,     0.96,2,   2304.5,2,   7.7100,2,    25.00
  35TH20100608, OVIDE,    75,  1,     16,2,20100627,0446, 59.2350, -35.1210, 2975,    900.1,   3.9240,  34.9140,2,  34.9160,2,    280.0,2,    279.1,2,    10.02,2,    16.61,2,     0.94,2,   -999.0,9,-999.0000,9,    25.00
  35TH20100608, OVIDE,    75,  1,     17,2,20100627,0446, 59.2350, -35.1210, 2975,    798.8,   4.0010,  34.9160,2,  34.9170,2,    278.0,2,    278.4,2,     9.81,2,    17.00,2,     0.99,2,   2305.2,2,   7.7160,2,    25.00
  35TH20100608, OVIDE,    75,  1,     18,2,20100627,0446, 59.2350, -35.1210, 2975,    700.0,   4.1640,  34.9270,2,  34.9290,2,    273.7,2,    273.9,2,     9.68,2,    16.85,2,     0.99,2,   2305.4,2,   7.7110,2,    25.00
  35TH20100608, OVIDE,    75,  1,     19,2,20100627,0446, 59.2350, -35.1210, 2975,    602.0,   4.3380,  34.9340,2,  34.9350,2,    271.1,2,    273.4,2,     9.81,2,    17.32,2,     1.01,2,   2304.8,2,   7.7100,2,    25.00
  35TH20100608, OVIDE,    75,  1,     20,2,20100627,0446, 59.2350, -35.1210, 2975,    501.6,   4.5850,  34.9440,2,  34.9450,2,    267.7,2,    270.2,2,     9.86,2,    17.50,2,     1.01,2,   2305.8,2,   7.7090,2,    25.00
  35TH20100608, OVIDE,    75,  1,     21,2,20100627,0446, 59.2350, -35.1210, 2975,    403.3,   4.6610,  34.9290,2,  34.9270,2,    287.6,2,    286.7,2,     8.53,2,    16.05,2,     0.91,2,   2303.6,2,   7.7250,2,    25.00
  35TH20100608, OVIDE,    75,  1,     22,2,20100627,0446, 59.2350, -35.1210, 2975,    301.2,   4.9600,  34.9250,2,  34.9260,2,    280.3,2,    282.8,2,     8.31,2,    16.43,2,     0.95,2,   2303.4,2,   7.7310,2,    25.00
  35TH20100608, OVIDE,    75,  1,     23,2,20100627,0446, 59.2350, -35.1210, 2975,    200.6,   5.5750,  34.9330,2,  34.9320,2,    281.6,2,    284.5,2,     7.10,2,    14.32,2,     0.90,2,   2303.9,2,   7.7410,2,    25.00
  35TH20100608, OVIDE,    75,  1,     24,2,20100627,0446, 59.2350, -35.1210, 2975,    147.7,   5.7590,  34.9240,2,  34.9250,2,    286.0,2,    288.9,2,     6.48,2,    14.67,2,     0.87,2,   2302.5,2,   7.7480,2,    25.00
  35TH20100608, OVIDE,    75,  1,     25,2,20100627,0446, 59.2350, -35.1210, 2975,    101.5,   6.2450,  34.9270,2,  34.9310,2,    290.2,2,    287.4,2,     6.13,2,    14.22,2,     0.84,2,   2304.3,2,   7.7540,2,    25.00
  35TH20100608, OVIDE,    75,  1,     26,2,20100627,0446, 59.2350, -35.1210, 2975,     54.5,   7.5840,  34.8470,2,  34.8460,2,    294.6,2,    294.8,2,     4.64,2,     9.96,2,     0.67,2,   2301.3,2,   7.7960,2,    25.00
  35TH20100608, OVIDE,    75,  1,     27,2,20100627,0446, 59.2350, -35.1210, 2975,      2.5,   9.9790,  34.8000,2,  34.8020,2,    293.7,2,    292.1,2,     2.98,2,     6.07,2,     0.42,2,   2299.9,2,   7.8740,2,    25.00
  35TH20100608, OVIDE,    76,  1,      3,2,20100627,0936, 59.3000, -35.7620, 3086,   3133.8,   2.0240,  34.8930,2,  34.8950,2,    297.8,2,    296.0,2,     9.98,2,    14.70,2,     0.85,2,   -999.0,9,   7.7210,2,    25.00
  35TH20100608, OVIDE,    76,  1,      4,2,20100627,0936, 59.3000, -35.7620, 3086,   3083.3,   2.2440,  34.9010,2,  34.9000,2,    293.8,2,    292.2,2,    10.55,2,    14.84,2,     0.86,2,   -999.0,9,   7.7220,2,    25.00
  35TH20100608, OVIDE,    76,  1,      5,2,20100627,0936, 59.3000, -35.7620, 3086,   3034.5,   2.4530,  34.9150,2,  34.9100,2,    288.3,2,    289.8,2,    11.48,2,    15.40,2,     0.92,2,   -999.0,9,   7.7240,2,    25.00
  35TH20100608, OVIDE,    76,  1,      6,2,20100627,0936, 59.3000, -35.7620, 3086,   2999.8,   2.5480,  34.9160,2,  34.9160,2,    286.4,2,    286.5,2,    12.13,2,    15.74,2,     0.96,2,   -999.0,9,   7.7240,2,    25.00
  35TH20100608, OVIDE,    76,  1,      7,2,20100627,0936, 59.3000, -35.7620, 3086,   2750.5,   2.8540,  34.9320,2,  34.9310,2,    280.3,2,    279.9,2,    13.15,2,    16.24,3,     1.10,3,   -999.0,9,   7.7270,2,    25.00
  35TH20100608, OVIDE,    76,  1,      8,2,20100627,0936, 59.3000, -35.7620, 3086,   2500.5,   2.9750,  34.9340,2,  34.9330,2,    278.8,2,    283.6,2,    12.88,2,    16.03,2,     0.96,2,   -999.0,9,   7.7270,2,    25.00
  35TH20100608, OVIDE,    76,  1,      9,2,20100627,0936, 59.3000, -35.7620, 3086,   2249.6,   3.0870,  34.9350,2,  34.9370,2,    278.3,2,    278.3,2,    12.50,2,    16.31,2,     0.96,2,   -999.0,9,   7.7250,2,    25.00
  35TH20100608, OVIDE,    76,  1,     10,2,20100627,0936, 59.3000, -35.7620, 3086,   2000.8,   3.2690,  34.9470,2,  34.9490,2,    277.5,2,    276.7,2,    11.82,2,    16.36,2,     0.96,2,   -999.0,9,   7.7230,2,    25.00
  35TH20100608, OVIDE,    76,  1,     11,2,20100627,0936, 59.3000, -35.7620, 3086,   1798.3,   3.2400,  34.9230,2,  34.9240,2,    279.2,2,    279.7,2,    11.52,2,    16.34,2,     0.98,2,   -999.0,9,   7.7240,2,    25.00
  35TH20100608, OVIDE,    76,  1,     12,2,20100627,0936, 59.3000, -35.7620, 3086,   1599.7,   3.3880,  34.9300,2,  34.9290,2,    277.9,2,    278.4,2,    11.15,2,    15.91,2,     0.97,2,   -999.0,9,   7.7210,2,    25.00
  35TH20100608, OVIDE,    76,  1,     13,2,20100627,0936, 59.3000, -35.7620, 3086,   1399.7,   3.5580,  34.9340,2,  34.9350,2,    276.1,2,    276.7,2,    10.93,2,    16.67,2,     0.98,2,   -999.0,9,   7.7220,2,    25.00
  35TH20100608, OVIDE,    76,  1,     14,2,20100627,0936, 59.3000, -35.7620, 3086,   1199.4,   3.6480,  34.9230,2,  34.9230,2,    276.0,2,    276.9,2,    10.76,2,    16.49,2,     0.99,2,   -999.0,9,   7.7170,2,    25.00
  35TH20100608, OVIDE,    76,  1,     15,2,20100627,0936, 59.3000, -35.7620, 3086,    999.7,   3.7330,  34.9060,2,  34.9050,2,    278.2,2,    281.8,2,    10.29,2,    16.72,2,     0.99,2,   -999.0,9,   7.7140,2,    25.00
  35TH20100608, OVIDE,    76,  1,     16,2,20100627,0936, 59.3000, -35.7620, 3086,    899.8,   3.8360,  34.9100,2,  34.8990,3,    279.6,2,    278.8,2,    10.07,2,    16.76,2,     1.02,2,   -999.0,9,   7.7130,2,    25.00
  35TH20100608, OVIDE,    76,  1,     17,2,20100627,0936, 59.3000, -35.7620, 3086,    800.3,   3.8980,  34.9070,2,  34.9070,2,    281.5,2,    279.9,2,     9.84,2,    16.17,2,     0.98,2,   -999.0,9,-999.0000,9,    25.00
  35TH20100608, OVIDE,    76,  1,     18,2,20100627,0936, 59.3000, -35.7620, 3086,    800.6,   3.8980,  34.9060,2,  34.9070,2,    281.5,2,    279.1,2,     9.88,2,    16.80,2,     0.99,2,   -999.0,9,   7.7120,2,    25.00
  35TH20100608, OVIDE,    76,  1,     19,2,20100627,0936, 59.3000, -35.7620, 3086,    699.1,   4.0400,  34.9140,2,  34.9160,2,    278.8,2,    279.1,2,     9.71,2,    16.86,2,     0.99,2,   -999.0,9,   7.7130,2,    25.00
  35TH20100608, OVIDE,    76,  1,     20,2,20100627,0936, 59.3000, -35.7620, 3086,    598.4,   4.2580,  34.9300,2,  34.9300,2,    273.1,2,    271.7,2,     9.90,2,    17.17,2,     1.02,2,   -999.0,9,   7.7110,2,    25.00
  35TH20100608, OVIDE,    76,  1,     21,2,20100627,0936, 59.3000, -35.7620, 3086,    499.5,   4.5030,  34.9440,2,  34.9450,2,    268.6,2,    266.9,2,    10.01,2,    17.41,2,     1.02,2,   -999.0,9,   7.7070,2,    25.00
  35TH20100608, OVIDE,    76,  1,     22,2,20100627,0936, 59.3000, -35.7620, 3086,    400.4,   4.7900,  34.9560,2,  34.9560,2,    262.9,2,    264.4,2,     9.89,2,    18.40,2,     1.03,2,   -999.0,9,   7.7070,2,    25.00
  35TH20100608, OVIDE,    76,  1,     23,2,20100627,0936, 59.3000, -35.7620, 3086,    300.3,   4.8280,  34.9200,2,  34.9190,2,    273.8,2,    282.9,3,     8.61,2,    17.02,2,     0.98,2,   -999.0,9,   7.7210,2,    25.00
  35TH20100608, OVIDE,    76,  1,     24,2,20100627,0936, 59.3000, -35.7620, 3086,    199.3,   5.4180,  34.9330,2,  34.9310,2,    278.3,2,    278.8,2,     7.70,2,    16.72,2,     0.93,2,   -999.0,9,   7.7320,2,    25.00
  35TH20100608, OVIDE,    76,  1,     25,2,20100627,0936, 59.3000, -35.7620, 3086,    148.1,   5.6880,  34.9330,2,  34.9310,2,    282.9,2,    283.5,2,     7.01,2,    15.92,2,     0.91,2,   -999.0,9,   7.7410,2,    25.00
  35TH20100608, OVIDE,    76,  1,     26,2,20100627,0936, 59.3000, -35.7620, 3086,     99.3,   5.9230,  34.9350,2,  34.9300,2,    288.8,2,    284.6,2,     6.50,2,    15.35,2,     0.88,2,   -999.0,9,   7.7490,2,    25.00
  35TH20100608, OVIDE,    76,  1,     27,2,20100627,0936, 59.3000, -35.7620, 3086,     53.7,   7.4300,  34.8790,2,  34.8640,3,    292.0,2,    289.6,2,     4.47,2,    11.84,2,     0.70,2,   -999.0,9,   7.7920,2,    25.00
  35TH20100608, OVIDE,    76,  1,     28,2,20100627,0936, 59.3000, -35.7620, 3086,      5.9,   9.8840,  34.7850,2,  34.7840,2,    294.6,2,    292.5,2,     3.19,2,     7.28,2,     0.46,2,   -999.0,9,   7.8720,2,    25.00
  35TH20100608, OVIDE,    77,  1,      3,2,20100627,1559, 59.3630, -36.3970, 3082,   3133.2,   2.0880,  34.8980,2,  34.8990,2,    294.1,2,    292.8,2,    10.69,2,    14.30,2,     0.82,2,   2303.7,2,   7.7190,2,    25.00
  35TH20100608, OVIDE,    77,  1,      4,2,20100627,1559, 59.3630, -36.3970, 3082,   3082.0,   2.3840,  34.9080,2,  34.9050,2,    289.7,2,    290.2,2,    11.46,2,    14.82,2,     0.88,2,   2304.5,2,   7.7200,2,    25.00
  35TH20100608, OVIDE,    77,  1,      5,2,20100627,1559, 59.3630, -36.3970, 3082,   3031.3,   2.5110,  34.9150,2,  34.9130,2,    286.6,2,    285.7,2,    12.06,2,    15.20,2,     0.88,2,   2305.7,2,   7.7220,2,    25.00
  35TH20100608, OVIDE,    77,  1,      6,2,20100627,1559, 59.3630, -36.3970, 3082,   2749.7,   2.8670,  34.9320,2,  34.9300,2,    279.9,2,    280.0,2,    13.08,2,    15.82,2,     0.94,2,   2306.8,2,   7.7250,2,    25.00
  35TH20100608, OVIDE,    77,  1,      7,2,20100627,1559, 59.3630, -36.3970, 3082,   2499.6,   2.9990,  34.9370,2,  34.9360,2,    278.5,2,    279.4,2,    13.01,2,    15.98,2,     0.95,2,   2307.9,2,   7.7220,2,    25.00
  35TH20100608, OVIDE,    77,  1,      8,2,20100627,1559, 59.3630, -36.3970, 3082,   2248.3,   3.1170,  34.9390,2,  34.9370,2,    278.2,2,    279.6,2,    12.39,2,    16.16,2,     0.93,2,   2307.1,2,   7.7230,2,    25.00
  35TH20100608, OVIDE,    77,  1,      9,2,20100627,1559, 59.3630, -36.3970, 3082,   1999.7,   3.1960,  34.9270,2,  34.9260,2,    279.2,2,    280.5,2,    11.63,2,    16.12,2,     0.95,2,   2304.6,2,   7.7230,2,    25.00
  35TH20100608, OVIDE,    77,  1,     10,2,20100627,1559, 59.3630, -36.3970, 3082,   1799.4,   3.3290,  34.9280,2,  34.9280,2,    278.3,2,    279.3,2,    11.34,2,    16.59,2,     0.96,2,   2304.9,2,   7.7220,2,    25.00
  35TH20100608, OVIDE,    77,  1,     11,2,20100627,1559, 59.3630, -36.3970, 3082,   1599.1,   3.4390,  34.9250,2,  34.9240,2,    277.1,2,    278.0,2,    11.11,2,    16.50,2,     0.96,2,   2305.0,2,   7.7230,2,    25.00
  35TH20100608, OVIDE,    77,  1,     12,2,20100627,1559, 59.3630, -36.3970, 3082,   1400.1,   3.7220,  34.9510,2,  34.9490,2,    274.3,2,    277.7,2,    10.67,2,    16.40,2,     0.94,2,   2306.2,2,   7.7200,2,    25.00
  35TH20100608, OVIDE,    77,  1,     13,2,20100627,1559, 59.3630, -36.3970, 3082,   1199.4,   3.6770,  34.9240,2,  34.9130,3,    277.6,2,    277.4,2,    10.50,2,    16.21,2,     0.96,2,   2303.5,2,   7.7170,2,    25.00
  35TH20100608, OVIDE,    77,  1,     14,2,20100627,1559, 59.3630, -36.3970, 3082,    999.0,   3.8250,  34.9180,2,  34.9160,2,    276.9,2,    278.7,2,    10.32,2,    16.42,2,     0.97,2,   2303.0,2,   7.7150,2,    25.00
  35TH20100608, OVIDE,    77,  1,     15,2,20100627,1559, 59.3630, -36.3970, 3082,    898.8,   3.8800,  34.9140,2,  34.9130,2,    278.4,2,    277.5,2,    10.10,2,    16.17,2,     0.97,2,   2303.1,2,   7.7130,2,    25.00
  35TH20100608, OVIDE,    77,  1,     16,2,20100627,1559, 59.3630, -36.3970, 3082,    798.9,   3.9880,  34.9150,2,  34.9110,2,    278.6,2,    281.8,2,     9.83,2,    16.55,2,     0.97,2,   2304.3,2,   7.7130,2,    25.00
  35TH20100608, OVIDE,    77,  1,     17,2,20100627,1559, 59.3630, -36.3970, 3082,    699.9,   4.1370,  34.9230,2,  34.9230,2,    276.3,2,    277.9,2,     9.76,2,    16.49,2,     0.97,2,   2304.8,2,   7.7110,2,    25.00
  35TH20100608, OVIDE,    77,  1,     18,2,20100627,1559, 59.3630, -36.3970, 3082,    599.3,   4.3150,  34.9390,2,  34.9340,2,    272.1,2,    275.3,2,     9.74,2,    16.52,2,     0.98,2,   -999.0,9,   7.7130,2,    25.00
  35TH20100608, OVIDE,    77,  1,     20,2,20100627,1559, 59.3630, -36.3970, 3082,    498.7,   4.4890,  34.9340,2,  34.9330,2,    291.1,2,    288.3,2,     8.87,2,    16.03,2,     0.95,2,   -999.0,9,-999.0000,9,    25.00
  35TH20100608, OVIDE,    77,  1,     21,2,20100627,1559, 59.3630, -36.3970, 3082,    399.3,   4.5910,  34.9260,2,  34.9240,2,    270.8,2,    291.2,3,     8.45,2,    16.21,2,     0.93,2,   2303.4,2,   7.7280,2,    25.00
  35TH20100608, OVIDE,    77,  1,     22,2,20100627,1559, 59.3630, -36.3970, 3082,    300.0,   5.1220,  34.9610,2,  34.9540,3,    272.9,2,    270.2,2,     9.03,2,    16.49,2,     0.98,2,   2304.6,2,   7.7190,2,    25.00
  35TH20100608, OVIDE,    77,  1,     23,2,20100627,1559, 59.3630, -36.3970, 3082,    198.9,   5.5130,  34.9390,2,  34.9400,2,    279.8,2,    281.7,2,     7.65,2,    15.37,2,     0.92,2,   2303.9,2,   7.7350,2,    25.00
  35TH20100608, OVIDE,    77,  1,     24,2,20100627,1559, 59.3630, -36.3970, 3082,    149.2,   5.7640,  34.9510,2,  34.9430,3,    284.7,2,    282.7,2,     7.16,2,    14.93,2,     0.90,2,   2303.6,2,   7.7470,2,    25.00
  35TH20100608, OVIDE,    77,  1,     25,2,20100627,1559, 59.3630, -36.3970, 3082,     99.2,   5.9970,  34.9050,2,  34.9200,3,    291.5,2,    288.4,2,     6.04,2,    13.80,2,     0.84,2,   2302.5,2,   7.7530,2,    25.00
  35TH20100608, OVIDE,    77,  1,     26,2,20100627,1559, 59.3630, -36.3970, 3082,     50.3,   7.4380,  34.8780,2,  34.8830,3,    291.4,2,    290.6,2,     4.43,2,    10.56,2,     0.69,2,   2303.4,2,   7.7910,2,    25.00
  35TH20100608, OVIDE,    77,  1,     27,2,20100627,1559, 59.3630, -36.3970, 3082,      2.9,   9.9700,  34.7810,2,  34.7860,3,    295.1,2,    294.7,2,     2.84,2,     6.58,2,     0.43,2,   2297.6,2,   7.8760,2,    25.00