BOTTLE,20140929PRINUNIVRMK
EXPOCODE,SECT_ID,STNNBR,CASTNO,BTLNBR,BTLNBR_FLAG_W,DATE,TIME,LATITUDE,LONGITUDE,DEPTH,CTDPRS,CTDTMP,CTDSAL,CTDSAL_FLAG_W,SALNTY,SALNTY_FLAG_W,CTDOXY,CTDOXY_FLAG_W,OXYGEN,OXYGEN_FLAG_W,SILCAT,SILCAT_FLAG_W,NITRAT,NITRAT_FLAG_W,PHSPHT,PHSPHT_FLAG_W,ALKALI,ALKALI_FLAG_W,PH_SWS,PH_SWS_FLAG_W,PH_TMP
,,,,,,,,,,METERS,DBAR,ITS-90,PSS-78,,PSS-78,,UMOL/KG,,UMOL/KG,,UMOL/KG,,UMOL/KG,,UMOL/KG,,UMOL/KG,,,,DEG C
  35TH20100608, OVIDE,    71,  1,      3,2,20100626,1139, 58.9730, -32.5560, 1850,   1874.8,   3.4520,  34.9530,2,  34.9520,2,    276.8,2,   -999.0,9,    11.47,2,    16.04,2,     0.98,2,   2307.5,2,   7.7200,2,    25.00
  35TH20100608, OVIDE,    71,  1,      4,2,20100626,1139, 58.9730, -32.5560, 1850,   1824.1,   3.4910,  34.9540,2,  34.9340,3,    276.3,2,    274.7,2,    11.32,2,    16.03,2,     0.96,2,   2307.2,2,   7.7210,2,    25.00
  35TH20100608, OVIDE,    71,  1,      5,2,20100626,1139, 58.9730, -32.5560, 1850,   1776.2,   3.5530,  34.9580,2,  34.9530,2,    276.0,2,    275.4,2,    11.15,2,    16.17,2,     0.97,2,   2306.8,2,   7.7220,2,    25.00
  35TH20100608, OVIDE,    71,  1,      6,2,20100626,1139, 58.9730, -32.5560, 1850,   1600.0,   3.7420,  34.9620,2,  34.9590,2,    274.1,2,    273.4,2,    10.89,2,    16.46,2,     0.98,2,   2305.4,2,   7.7190,2,    25.00
  35TH20100608, OVIDE,    71,  1,      7,2,20100626,1139, 58.9730, -32.5560, 1850,   1400.2,   3.8150,  34.9640,2,  34.9640,2,    273.3,2,    272.7,2,    10.81,2,    16.55,2,     0.98,2,   2306.9,2,   7.7200,2,    25.00
  35TH20100608, OVIDE,    71,  1,      8,2,20100626,1139, 58.9730, -32.5560, 1850,   1401.8,   3.8150,  34.9650,2,  34.9640,2,    273.3,2,    273.0,2,    10.76,2,    16.38,2,     0.98,2,   -999.0,9,-999.0000,9,    25.00
  35TH20100608, OVIDE,    71,  1,      9,2,20100626,1139, 58.9730, -32.5560, 1850,   1199.3,   3.8140,  34.9580,2,  34.9570,2,    272.7,2,    272.3,2,    10.69,2,    16.53,2,     0.98,2,   2305.7,2,   7.7170,2,    25.00
  35TH20100608, OVIDE,    71,  1,     10,2,20100626,1139, 58.9730, -32.5560, 1850,    997.6,   3.8690,  34.9310,2,  34.9300,2,    276.4,2,    274.2,2,    10.38,2,    16.57,2,     1.00,2,   2304.4,2,   7.7140,2,    25.00
  35TH20100608, OVIDE,    71,  1,     11,2,20100626,1139, 58.9730, -32.5560, 1850,    899.9,   3.9800,  34.9330,2,  34.9330,2,    272.4,2,    273.3,2,    10.27,2,    16.94,2,     1.01,2,   2305.3,2,   7.7130,2,    25.00
  35TH20100608, OVIDE,    71,  1,     12,2,20100626,1139, 58.9730, -32.5560, 1850,    800.4,   4.2790,  34.9550,2,  34.9540,2,    268.9,2,    269.4,2,    10.24,2,    16.89,2,     1.01,2,   2306.3,2,   7.7120,2,    25.00
  35TH20100608, OVIDE,    71,  1,     13,2,20100626,1139, 58.9730, -32.5560, 1850,    700.4,   4.5840,  34.9760,2,  34.9730,2,    259.2,2,    260.3,2,    10.34,2,    17.44,2,     1.03,2,   2307.3,2,   7.7110,2,    25.00
  35TH20100608, OVIDE,    71,  1,     14,2,20100626,1139, 58.9730, -32.5560, 1850,    601.0,   4.7860,  34.9670,2,  34.9580,3,    260.3,2,    263.4,2,    10.11,2,    17.58,2,     1.04,2,   2306.5,2,   7.7060,2,    25.00
  35TH20100608, OVIDE,    71,  1,     15,2,20100626,1139, 58.9730, -32.5560, 1850,    500.1,   5.1690,  34.9850,2,  34.9840,2,    255.6,2,    254.7,2,    10.03,2,    17.76,2,     1.05,2,   2307.7,2,   7.7070,2,    25.00
  35TH20100608, OVIDE,    71,  1,     16,2,20100626,1139, 58.9730, -32.5560, 1850,    400.0,   5.5940,  34.9900,2,  34.9890,2,    264.1,2,    263.9,2,     9.01,2,    17.18,2,     1.00,2,   2307.8,2,   7.7200,2,    25.00
  35TH20100608, OVIDE,    71,  1,     17,2,20100626,1139, 58.9730, -32.5560, 1850,    299.4,   6.1050,  34.9980,2,  34.9880,3,    258.0,2,    267.2,3,     8.13,2,    16.27,2,     0.95,2,   2308.4,2,   7.7330,2,    25.00
  35TH20100608, OVIDE,    71,  1,     18,2,20100626,1139, 58.9730, -32.5560, 1850,    198.7,   6.5330,  35.0170,2,  35.0100,3,    270.3,2,    277.6,3,     6.45,2,    14.95,2,     0.87,2,   2307.6,2,-999.0000,9,    25.00
  35TH20100608, OVIDE,    71,  1,     19,2,20100626,1139, 58.9730, -32.5560, 1850,    149.4,   6.7990,  35.0140,2,  35.0140,2,    277.1,2,    273.1,2,     6.53,2,    14.93,2,     0.87,2,   2309.9,2,   7.7540,2,    25.00
  35TH20100608, OVIDE,    71,  1,     20,2,20100626,1139, 58.9730, -32.5560, 1850,     99.7,   7.3380,  34.9940,2,  34.9860,3,    290.1,2,    280.1,3,     5.44,2,    13.35,2,     0.79,2,   2307.9,2,   7.7720,2,    25.00
  35TH20100608, OVIDE,    71,  1,     21,2,20100626,1139, 58.9730, -32.5560, 1850,     50.3,   8.6650,  34.9070,2,  34.9070,2,    288.7,2,    295.3,3,     3.56,2,     9.02,2,     0.60,2,   2305.0,2,   7.8230,2,    25.00
  35TH20100608, OVIDE,    71,  1,     22,2,20100626,1139, 58.9730, -32.5560, 1850,      6.0,  10.2700,  34.7710,2,  34.7700,2,    292.5,2,    290.7,2,     2.61,2,     5.27,2,     0.39,2,   2300.1,2,   7.8840,2,    25.00
  35TH20100608, OVIDE,    72,  1,      3,2,20100626,1544, 59.0410, -33.1970, 2271,   2302.7,   3.2160,  34.9460,2,  34.9460,2,    277.6,2,    274.9,2,    12.48,2,    16.21,2,     0.97,2,   -999.0,9,   7.7230,2,    25.00
  35TH20100608, OVIDE,    72,  1,      4,2,20100626,1544, 59.0410, -33.1970, 2271,   2249.1,   3.2170,  34.9460,2,  34.9460,2,    277.4,2,    276.9,2,    12.46,2,    16.40,2,     0.98,2,   -999.0,9,   7.7230,2,    25.00
  35TH20100608, OVIDE,    72,  1,      5,2,20100626,1544, 59.0410, -33.1970, 2271,   2197.8,   3.2180,  34.9470,2,  34.9460,2,    277.4,2,    277.5,2,    12.49,2,    17.05,2,     0.95,2,   -999.0,9,   7.7240,2,    25.00
  35TH20100608, OVIDE,    72,  1,      6,2,20100626,1544, 59.0410, -33.1970, 2271,   1998.5,   3.2960,  34.9500,2,  34.9490,2,    277.4,2,    276.4,2,    11.87,2,    16.83,2,     0.99,2,   -999.0,9,   7.7230,2,    25.00
  35TH20100608, OVIDE,    72,  1,      7,2,20100626,1544, 59.0410, -33.1970, 2271,   1800.1,   3.3850,  34.9510,2,  34.9490,2,    277.2,2,    276.4,2,    11.37,2,    16.37,2,     0.98,2,   -999.0,9,   7.7250,2,    25.00
  35TH20100608, OVIDE,    72,  1,      8,2,20100626,1544, 59.0410, -33.1970, 2271,   1599.3,   3.4870,  34.9480,2,  34.9480,2,    276.5,2,    277.5,2,    11.13,2,    16.54,2,     0.97,2,   -999.0,9,   7.7220,2,    25.00
  35TH20100608, OVIDE,    72,  1,      9,2,20100626,1544, 59.0410, -33.1970, 2271,   1399.0,   3.6440,  34.9520,2,  34.9520,2,    275.3,2,    275.7,2,    10.76,2,    16.85,2,     1.06,2,   -999.0,9,   7.7230,2,    25.00
  35TH20100608, OVIDE,    72,  1,     10,2,20100626,1544, 59.0410, -33.1970, 2271,   1398.8,   3.6470,  34.9520,2,  34.9520,2,    275.3,2,    274.9,2,    10.83,2,    16.78,2,     0.98,2,   -999.0,9,-999.0000,9,    25.00
  35TH20100608, OVIDE,    72,  1,     11,2,20100626,1544, 59.0410, -33.1970, 2271,   1198.1,   3.7050,  34.9340,2,  34.9350,2,    275.2,2,    274.2,2,    10.68,2,    16.90,2,     1.05,2,   -999.0,9,   7.7190,2,    25.00
  35TH20100608, OVIDE,    72,  1,     12,2,20100626,1544, 59.0410, -33.1970, 2271,    997.8,   3.7660,  34.9090,2,  34.9070,2,    278.9,2,    282.1,2,    10.15,2,    16.92,2,     0.97,2,   -999.0,9,   7.7120,2,    25.00
  35TH20100608, OVIDE,    72,  1,     13,2,20100626,1544, 59.0410, -33.1970, 2271,    899.4,   3.8090,  34.9030,2,  34.9030,2,    280.9,2,    281.8,2,     9.91,2,    17.27,2,     1.00,2,   -999.0,9,   7.7140,2,    25.00
  35TH20100608, OVIDE,    72,  1,     14,2,20100626,1544, 59.0410, -33.1970, 2271,    799.5,   4.0050,  34.9190,2,  34.9200,2,    279.4,2,    278.6,2,     9.90,2,    17.02,2,     0.99,2,   -999.0,9,   7.7120,2,    25.00
  35TH20100608, OVIDE,    72,  1,     15,2,20100626,1544, 59.0410, -33.1970, 2271,    698.7,   4.2130,  34.9300,2,  34.9300,2,    278.9,2,    273.5,2,     9.83,2,    17.54,2,     1.01,2,   -999.0,9,   7.7090,2,    25.00
  35TH20100608, OVIDE,    72,  1,     16,2,20100626,1544, 59.0410, -33.1970, 2271,    599.7,   4.4200,  34.9410,2,  34.9400,2,    271.2,2,    272.4,2,     9.76,2,    17.76,2,     1.02,2,   -999.0,9,   7.7120,2,    25.00
  35TH20100608, OVIDE,    72,  1,     17,2,20100626,1544, 59.0410, -33.1970, 2271,    499.7,   4.6000,  34.9340,2,  34.9340,2,    277.6,2,    274.2,2,     9.33,2,    17.69,2,     1.01,2,   -999.0,9,   7.7130,2,    25.00
  35TH20100608, OVIDE,    72,  1,     18,2,20100626,1544, 59.0410, -33.1970, 2271,    398.4,   5.4610,  35.0230,2,  35.0230,2,    240.6,2,    242.1,2,    10.56,2,    18.46,2,     1.06,2,   -999.0,9,   7.7100,2,    25.00
  35TH20100608, OVIDE,    72,  1,     19,2,20100626,1544, 59.0410, -33.1970, 2271,    299.9,   6.3410,  35.0880,2,  35.0880,2,    237.0,2,    236.7,2,     9.95,2,    18.15,2,     1.04,2,   -999.0,9,   7.7160,2,    25.00
  35TH20100608, OVIDE,    72,  1,     20,2,20100626,1544, 59.0410, -33.1970, 2271,    199.3,   6.2610,  35.0010,2,  35.0030,2,    278.1,2,    276.8,2,     7.30,2,    16.07,2,     0.91,2,   -999.0,9,   7.7460,2,    25.00
  35TH20100608, OVIDE,    72,  1,     21,2,20100626,1544, 59.0410, -33.1970, 2271,    149.4,   6.7060,  35.0290,2,  35.0490,3,    272.6,2,    269.8,2,     7.13,2,    15.79,2,     0.89,2,   -999.0,9,   7.7520,2,    25.00
  35TH20100608, OVIDE,    72,  1,     22,2,20100626,1544, 59.0410, -33.1970, 2271,     98.0,   7.1240,  35.0550,2,  35.0550,2,    273.2,2,    270.0,2,     6.63,2,    15.19,2,     0.86,2,   -999.0,9,   7.7590,2,    25.00
  35TH20100608, OVIDE,    72,  1,     23,2,20100626,1544, 59.0410, -33.1970, 2271,     48.6,   7.6990,  34.9680,2,  34.9650,2,    289.3,2,    287.9,2,     4.26,2,    11.83,2,     0.73,2,   -999.0,9,   7.7970,2,    25.00
  35TH20100608, OVIDE,    72,  1,     24,2,20100626,1544, 59.0410, -33.1970, 2271,      5.1,  10.2640,  34.8200,2,  34.8210,2,    292.0,2,    291.3,2,     3.05,2,     6.82,2,     0.46,2,   -999.0,9,   7.8800,2,    25.00
  35TH20100608, OVIDE,    73,  1,      3,2,20100626,2001, 59.1020, -33.8280, 2269,   2301.1,   3.1380,  34.9420,2,  34.9130,3,    277.8,2,    275.0,2,    12.91,2,    16.33,2,     0.94,2,   2309.3,2,   7.7220,2,    25.00
  35TH20100608, OVIDE,    73,  1,      4,2,20100626,2001, 59.1020, -33.8280, 2269,   2249.8,   3.1510,  34.9430,2,  34.9430,2,    277.6,2,    276.7,2,    12.77,2,    16.37,2,     0.97,2,   2309.2,2,   7.7200,2,    25.00
  35TH20100608, OVIDE,    73,  1,      5,2,20100626,2001, 59.1020, -33.8280, 2269,   2199.9,   3.1670,  34.9430,2,  34.9440,2,    277.6,2,    278.4,2,    12.60,2,    16.19,2,     0.92,2,   2307.4,2,   7.7210,2,    25.00
  35TH20100608, OVIDE,    73,  1,      6,2,20100626,2001, 59.1020, -33.8280, 2269,   1999.5,   3.2990,  34.9440,2,  34.9440,2,    277.5,2,    278.9,2,    11.87,2,    16.42,2,     0.97,2,   2308.0,2,   7.7190,2,    25.00
  35TH20100608, OVIDE,    73,  1,      7,2,20100626,2001, 59.1020, -33.8280, 2269,   1800.7,   3.4640,  34.9470,2,  34.9480,2,    276.5,2,    276.5,2,    11.44,2,    16.39,2,     0.96,2,   2307.6,2,   7.7210,2,    25.00
  35TH20100608, OVIDE,    73,  1,      8,2,20100626,2001, 59.1020, -33.8280, 2269,   1599.0,   3.6040,  34.9490,2,  34.9470,2,    275.4,2,    276.0,2,    10.98,2,    16.55,2,     0.95,2,   2307.3,2,   7.7180,2,    25.00
  35TH20100608, OVIDE,    73,  1,      9,2,20100626,2001, 59.1020, -33.8280, 2269,   1398.8,   3.8000,  34.9670,2,  34.9660,2,    273.7,2,    274.0,2,    10.64,2,    16.67,2,     0.96,2,   2308.4,2,   7.7170,2,    25.00
  35TH20100608, OVIDE,    73,  1,     10,2,20100626,2001, 59.1020, -33.8280, 2269,   1200.0,   3.7350,  34.9430,2,  34.9430,2,    274.6,2,    273.9,2,    10.66,2,    16.82,2,     0.97,2,   2307.8,2,   7.7180,2,    25.00
  35TH20100608, OVIDE,    73,  1,     11,2,20100626,2001, 59.1020, -33.8280, 2269,    999.0,   3.7340,  34.9090,2,  34.9080,2,    279.7,2,    280.1,2,    10.10,2,    16.40,2,     0.95,2,   2304.8,2,   7.7130,2,    25.00
  35TH20100608, OVIDE,    73,  1,     12,2,20100626,2001, 59.1020, -33.8280, 2269,    997.5,   3.7340,  34.9080,2,  34.9080,2,    279.7,2,    280.7,2,    10.06,2,    16.48,2,     0.91,2,   -999.0,9,-999.0000,9,    25.00
  35TH20100608, OVIDE,    73,  1,     13,2,20100626,2001, 59.1020, -33.8280, 2269,    899.7,   3.8260,  34.9090,2,  34.9090,2,    280.4,2,    280.5,2,     9.86,2,    17.21,2,     0.98,2,   2304.6,2,   7.7110,2,    25.00
  35TH20100608, OVIDE,    73,  1,     14,2,20100626,2001, 59.1020, -33.8280, 2269,    800.8,   3.9870,  34.9160,2,  34.9160,2,    282.9,2,    279.2,2,     9.74,2,    16.77,2,     0.96,2,   2304.2,2,   7.7100,2,    25.00
  35TH20100608, OVIDE,    73,  1,     15,2,20100626,2001, 59.1020, -33.8280, 2269,    700.5,   4.3800,  34.9550,2,  34.9540,2,    267.2,2,    267.1,2,    10.16,2,    17.11,2,     0.98,2,   2306.7,2,   7.7080,2,    25.00
  35TH20100608, OVIDE,    73,  1,     16,2,20100626,2001, 59.1020, -33.8280, 2269,    600.3,   4.7300,  34.9760,2,  34.9700,3,    256.3,2,    258.3,2,    10.37,2,    18.22,2,     1.02,2,   2307.2,2,   7.7050,2,    25.00
  35TH20100608, OVIDE,    73,  1,     17,2,20100626,2001, 59.1020, -33.8280, 2269,    498.3,   5.0160,  34.9830,2,  34.9870,2,    252.6,2,    257.2,2,    10.07,2,    17.87,2,     1.01,2,   2309.7,2,   7.7060,2,    25.00
  35TH20100608, OVIDE,    73,  1,     18,2,20100626,2001, 59.1020, -33.8280, 2269,    400.5,   5.3160,  34.9710,2,  34.9710,2,    259.0,2,    259.3,2,     9.42,2,    17.22,2,     0.96,2,   2308.7,2,   7.7090,2,    25.00
  35TH20100608, OVIDE,    73,  1,     19,2,20100626,2001, 59.1020, -33.8280, 2269,    300.9,   5.8800,  34.9980,2,  34.9980,2,    263.6,2,    254.7,3,     9.01,2,    17.26,2,     0.98,2,   2310.5,2,   7.7190,2,    25.00
  35TH20100608, OVIDE,    73,  1,     20,2,20100626,2001, 59.1020, -33.8280, 2269,    201.9,   6.2260,  34.9770,2,  34.9770,2,    273.7,2,    274.0,2,     7.31,2,    15.54,2,     0.89,2,   2306.4,2,   7.7420,2,    25.00
  35TH20100608, OVIDE,    73,  1,     21,2,20100626,2001, 59.1020, -33.8280, 2269,    148.9,   6.5860,  34.9950,2,  34.9980,2,    284.9,2,    283.3,2,     6.02,2,    14.62,2,     0.83,2,   2306.6,2,   7.7600,2,    25.00
  35TH20100608, OVIDE,    73,  1,     22,2,20100626,2001, 59.1020, -33.8280, 2269,     98.9,   7.0290,  35.0300,2,  35.0360,3,    281.8,2,    274.2,3,     6.29,2,    14.52,2,     0.82,2,   2309.3,2,   7.7600,2,    25.00
  35TH20100608, OVIDE,    73,  1,     23,2,20100626,2001, 59.1020, -33.8280, 2269,     51.1,   7.8600,  34.9290,2,  34.9420,3,    288.8,2,    285.7,2,     4.10,2,    10.98,2,     0.67,2,   -999.0,9,   7.7960,2,    25.00
  35TH20100608, OVIDE,    73,  1,     24,2,20100626,2001, 59.1020, -33.8280, 2269,      3.5,  10.4930,  34.8510,2,  34.8580,3,    291.8,2,    292.4,2,     3.08,2,     6.77,2,     0.44,2,   2301.5,2,   7.8770,2,    25.00
  35TH20100608, OVIDE,    74,  1,      3,2,20100627,0016, 59.1630, -34.4750, 2475,   2510.5,   3.1050,  34.9400,2,  34.9400,2,    278.2,2,    276.8,2,    12.98,2,    16.34,2,     0.96,2,   -999.0,9,   7.7250,2,    25.00
  35TH20100608, OVIDE,    74,  1,      4,2,20100627,0016, 59.1630, -34.4750, 2475,   2459.6,   3.1030,  34.9390,2,  34.9380,2,    278.1,2,    277.1,2,    12.92,2,    16.74,2,     0.94,2,   -999.0,9,   7.7240,2,    25.00
  35TH20100608, OVIDE,    74,  1,      5,2,20100627,0016, 59.1630, -34.4750, 2475,   2409.4,   3.1160,  34.9410,2,  34.9390,2,    278.0,2,    277.8,2,    12.77,2,    16.68,2,     0.98,2,   -999.0,9,   7.7240,2,    25.00
  35TH20100608, OVIDE,    74,  1,      6,2,20100627,0016, 59.1630, -34.4750, 2475,   2251.6,   3.1770,  34.9420,2,  34.9420,2,    277.9,2,    277.2,2,    12.41,2,    16.46,2,     1.01,2,   -999.0,9,   7.7240,2,    25.00
  35TH20100608, OVIDE,    74,  1,      7,2,20100627,0016, 59.1630, -34.4750, 2475,   2000.0,   3.3510,  34.9380,2,  34.9380,2,    278.0,2,    276.8,2,    11.64,2,    16.59,2,     1.00,2,   -999.0,9,   7.7240,2,    25.00
  35TH20100608, OVIDE,    74,  1,      8,2,20100627,0016, 59.1630, -34.4750, 2475,   1800.2,   3.4630,  34.9380,2,  34.9370,2,    277.2,2,    277.5,2,    11.26,2,    16.41,2,     0.98,2,   -999.0,9,   7.7230,2,    25.00
  35TH20100608, OVIDE,    74,  1,      9,2,20100627,0016, 59.1630, -34.4750, 2475,   1599.8,   3.5630,  34.9340,2,  34.9320,2,    276.4,2,    276.2,2,    10.95,2,    16.91,2,     1.00,2,   -999.0,9,   7.7200,2,    25.00
  35TH20100608, OVIDE,    74,  1,     10,2,20100627,0016, 59.1630, -34.4750, 2475,   1401.2,   3.7030,  34.9280,2,  34.9300,2,    275.4,2,    275.0,2,    10.68,2,    16.98,2,     1.00,2,   -999.0,9,   7.7160,2,    25.00
  35TH20100608, OVIDE,    74,  1,     11,2,20100627,0016, 59.1630, -34.4750, 2475,   1200.9,   3.7930,  34.9140,2,  34.9160,2,    278.2,2,    278.1,2,    10.15,2,    16.96,2,     1.01,2,   -999.0,9,   7.7140,2,    25.00
  35TH20100608, OVIDE,    74,  1,     12,2,20100627,0016, 59.1630, -34.4750, 2475,    999.8,   4.0620,  34.9240,2,  34.9260,2,    273.6,2,    273.4,2,    10.10,2,    17.06,2,     1.01,2,   -999.0,9,   7.7140,2,    25.00
  35TH20100608, OVIDE,    74,  1,     13,2,20100627,0016, 59.1630, -34.4750, 2475,    899.2,   4.2470,  34.9390,2,  34.9390,2,    276.6,2,    274.4,2,     9.76,2,    16.97,2,     1.02,2,   -999.0,9,   7.7130,2,    25.00
  35TH20100608, OVIDE,    74,  1,     14,2,20100627,0016, 59.1630, -34.4750, 2475,    899.2,   4.2510,  34.9380,2,  34.9380,2,    276.6,2,    275.2,2,     9.79,2,    17.23,2,     1.01,2,   -999.0,9,-999.0000,9,    25.00
  35TH20100608, OVIDE,    74,  1,     15,2,20100627,0016, 59.1630, -34.4750, 2475,    798.4,   4.4750,  34.9490,2,  34.9480,2,    268.9,2,    266.8,2,     9.93,2,    17.30,2,     1.03,2,   -999.0,9,   7.7070,2,    25.00
  35TH20100608, OVIDE,    74,  1,     16,2,20100627,0016, 59.1630, -34.4750, 2475,    699.3,   4.7930,  34.9660,2,  34.9660,2,    259.7,2,    267.5,3,     9.91,2,    17.59,2,     1.04,2,   -999.0,9,   7.7070,2,    25.00
  35TH20100608, OVIDE,    74,  1,     17,2,20100627,0016, 59.1630, -34.4750, 2475,    599.9,   4.8470,  34.9340,2,  34.9350,2,    270.1,2,    273.7,2,     8.94,2,    16.90,2,     0.97,2,   -999.0,9,   7.7170,2,    25.00
  35TH20100608, OVIDE,    74,  1,     18,2,20100627,0016, 59.1630, -34.4750, 2475,    499.4,   5.7100,  35.0010,2,  35.0040,2,    249.7,2,    250.8,2,     9.59,2,    17.89,2,     1.04,2,   -999.0,9,   7.7120,2,    25.00
  35TH20100608, OVIDE,    74,  1,     19,2,20100627,0016, 59.1630, -34.4750, 2475,    399.8,   6.7560,  35.1080,2,  35.1150,3,    251.2,2,    241.6,3,     9.31,2,    17.48,2,     0.99,2,   -999.0,9,   7.7280,2,    25.00
  35TH20100608, OVIDE,    74,  1,     20,2,20100627,0016, 59.1630, -34.4750, 2475,    300.1,   7.0430,  35.0970,2,  35.0830,3,    262.5,2,    269.6,3,     7.35,2,    15.63,2,     0.92,2,   -999.0,9,   7.7550,2,    25.00
  35TH20100608, OVIDE,    74,  1,     21,2,20100627,0016, 59.1630, -34.4750, 2475,    199.2,   7.7200,  35.1710,2,  35.1690,2,    268.8,2,    267.7,2,     6.60,2,    14.18,2,     0.82,2,   -999.0,9,   7.7710,2,    25.00
  35TH20100608, OVIDE,    74,  1,     22,2,20100627,0016, 59.1630, -34.4750, 2475,    150.0,   7.6400,  35.1300,2,  35.1320,2,    273.1,2,    271.0,2,     6.31,2,    14.34,2,     0.84,2,   -999.0,9,   7.7710,2,    25.00
  35TH20100608, OVIDE,    74,  1,     23,2,20100627,0016, 59.1630, -34.4750, 2475,     99.6,   7.3510,  35.0440,2,  35.0440,2,    275.0,2,    269.8,2,     6.46,2,    14.23,2,     0.86,2,   -999.0,9,   7.7630,2,    25.00
  35TH20100608, OVIDE,    74,  1,     24,2,20100627,0016, 59.1630, -34.4750, 2475,     52.2,   7.5220,  34.9630,2,  34.9660,2,    286.7,2,    282.0,2,     5.01,2,    12.38,2,     0.76,2,   -999.0,9,   7.7830,2,    25.00
  35TH20100608, OVIDE,    74,  1,     25,2,20100627,0016, 59.1630, -34.4750, 2475,      3.7,  10.3960,  34.8560,2,  34.8580,2,    292.5,2,    290.4,2,     3.13,2,     6.10,2,     0.43,2,   -999.0,9,   7.8770,2,    25.00