BOTTLE,20140929PRINUNIVRMK
EXPOCODE,SECT_ID,STNNBR,CASTNO,BTLNBR,BTLNBR_FLAG_W,DATE,TIME,LATITUDE,LONGITUDE,DEPTH,CTDPRS,CTDTMP,CTDSAL,CTDSAL_FLAG_W,SALNTY,SALNTY_FLAG_W,CTDOXY,CTDOXY_FLAG_W,OXYGEN,OXYGEN_FLAG_W,SILCAT,SILCAT_FLAG_W,NITRAT,NITRAT_FLAG_W,PHSPHT,PHSPHT_FLAG_W,ALKALI,ALKALI_FLAG_W,PH_SWS,PH_SWS_FLAG_W,PH_TMP
,,,,,,,,,,METERS,DBAR,ITS-90,PSS-78,,PSS-78,,UMOL/KG,,UMOL/KG,,UMOL/KG,,UMOL/KG,,UMOL/KG,,UMOL/KG,,,,DEG C
  35TH20100608, OVIDE,    67,  1,      3,2,20100625,2104, 58.5500, -30.3620, 1577,   1595.2,   3.7470,  34.9850,2,  34.9840,2,    275.9,2,    275.3,2,    10.24,2,    15.89,2,     1.03,2,   2307.7,2,   7.7210,2,    25.00
  35TH20100608, OVIDE,    67,  1,      4,2,20100625,2104, 58.5500, -30.3620, 1577,   1550.3,   3.8080,  34.9840,2,  34.9820,2,    274.7,2,    274.1,2,    10.36,2,    16.25,2,     1.08,2,   2307.5,2,   7.7200,2,    25.00
  35TH20100608, OVIDE,    67,  1,      5,2,20100625,2104, 58.5500, -30.3620, 1577,   1499.2,   3.8650,  34.9830,2,  34.9820,2,    273.8,2,    273.1,2,    10.45,2,    16.44,2,     1.09,2,   2306.9,2,   7.7210,2,    25.00
  35TH20100608, OVIDE,    67,  1,      6,2,20100625,2104, 58.5500, -30.3620, 1577,   1399.2,   3.9640,  34.9800,2,  34.9810,2,    272.2,2,    275.8,2,    10.71,2,    16.70,2,     1.09,2,   2308.1,2,   7.7170,2,    25.00
  35TH20100608, OVIDE,    67,  1,      7,2,20100625,2104, 58.5500, -30.3620, 1577,   1199.1,   4.2770,  35.0040,2,  35.0030,2,    267.8,2,    267.3,2,    10.24,2,    15.97,2,     1.07,2,   2310.4,2,   7.7170,2,    25.00
  35TH20100608, OVIDE,    67,  1,      8,2,20100625,2104, 58.5500, -30.3620, 1577,    998.8,   4.6490,  35.0200,2,  35.0190,2,    262.7,2,    266.4,2,    10.15,2,    16.53,2,     1.09,2,   2310.2,2,   7.7180,2,    25.00
  35TH20100608, OVIDE,    67,  1,      9,2,20100625,2104, 58.5500, -30.3620, 1577,    899.9,   5.0920,  35.0460,2,  35.0450,2,    257.5,2,    258.2,2,     9.98,2,    16.88,2,     1.10,2,   2313.0,2,   7.7170,2,    25.00
  35TH20100608, OVIDE,    67,  1,     10,2,20100625,2104, 58.5500, -30.3620, 1577,    799.6,   5.4770,  35.0630,2,  35.0590,2,    247.4,2,    249.7,2,    10.21,2,    17.45,2,     1.13,2,   2312.6,2,   7.7150,2,    25.00
  35TH20100608, OVIDE,    67,  1,     11,2,20100625,2104, 58.5500, -30.3620, 1577,    700.4,   6.0660,  35.1000,2,  35.0970,2,    242.5,2,    243.6,2,    10.01,2,    17.57,2,     1.14,2,   2315.8,2,   7.7190,2,    25.00
  35TH20100608, OVIDE,    67,  1,     12,2,20100625,2104, 58.5500, -30.3620, 1577,    599.5,   6.7900,  35.1520,2,  35.1490,2,    252.1,2,    253.4,2,     8.73,2,    16.39,2,     1.10,2,   2319.7,2,   7.7440,2,    25.00
  35TH20100608, OVIDE,    67,  1,     13,2,20100625,2104, 58.5500, -30.3620, 1577,    498.7,   7.1720,  35.1560,2,  35.1560,2,    258.5,2,    252.9,2,     8.22,2,    15.58,2,     0.98,2,   2319.4,2,   7.7460,2,    25.00
  35TH20100608, OVIDE,    67,  1,     14,2,20100625,2104, 58.5500, -30.3620, 1577,    399.8,   7.5230,  35.1900,2,  35.1880,2,    262.0,2,    261.7,2,     7.26,2,    15.01,2,     0.94,2,   2319.5,2,   7.7630,2,    25.00
  35TH20100608, OVIDE,    67,  1,     15,2,20100625,2104, 58.5500, -30.3620, 1577,    399.4,   7.5260,  35.1900,2,  35.1910,2,    262.0,2,    261.5,2,     7.25,2,    15.01,2,     0.98,2,   -999.0,9,-999.0000,9,    25.00
  35TH20100608, OVIDE,    67,  1,     16,2,20100625,2104, 58.5500, -30.3620, 1577,    300.6,   7.6210,  35.1750,2,  35.1640,3,    259.1,2,    260.5,2,     7.27,2,    15.37,2,     1.00,2,   2318.9,2,   7.7600,2,    25.00
  35TH20100608, OVIDE,    67,  1,     17,2,20100625,2104, 58.5500, -30.3620, 1577,    200.0,   7.8430,  35.1810,2,  35.1820,2,    268.4,2,    267.2,2,     6.63,2,    14.78,2,     0.97,2,   2320.1,2,   7.7680,2,    25.00
  35TH20100608, OVIDE,    67,  1,     18,2,20100625,2104, 58.5500, -30.3620, 1577,    149.5,   7.8720,  35.1630,2,  35.1650,2,    269.2,2,    270.0,2,     6.34,2,    14.42,2,     0.95,2,   2317.6,2,   7.7740,2,    25.00
  35TH20100608, OVIDE,    67,  1,     19,2,20100625,2104, 58.5500, -30.3620, 1577,     99.3,   7.9150,  35.1340,2,  35.1330,2,    268.6,2,    269.7,2,     6.24,2,    14.33,2,     0.95,2,   2315.9,2,   7.7740,2,    25.00
  35TH20100608, OVIDE,    67,  1,     20,2,20100625,2104, 58.5500, -30.3620, 1577,     54.5,   8.6800,  35.0900,2,  35.0890,2,    282.3,2,    278.3,2,     4.64,2,    11.16,2,     0.79,2,   2315.4,2,   7.8090,2,    25.00
  35TH20100608, OVIDE,    67,  1,     21,2,20100625,2104, 58.5500, -30.3620, 1577,      8.1,  10.8810,  34.9790,2,  34.9790,2,    291.9,2,    289.6,2,     2.93,2,     5.97,2,     0.44,2,   2309.4,2,   7.8980,2,    25.00
  35TH20100608, OVIDE,    68,  1,      3,2,20100626,0017, 58.7240, -30.6970, 1435,   1451.0,   4.0780,  34.9960,2,  34.9970,2,    272.2,2,    270.9,2,     9.99,2,    16.19,2,     0.91,2,   -999.0,9,   7.7200,2,    25.00
  35TH20100608, OVIDE,    68,  1,      4,2,20100626,0017, 58.7240, -30.6970, 1435,   1396.5,   4.1250,  34.9990,2,  34.9980,2,    271.5,2,    270.7,2,    10.02,2,    16.48,2,     0.95,2,   -999.0,9,   7.7190,2,    25.00
  35TH20100608, OVIDE,    68,  1,      5,2,20100626,0017, 58.7240, -30.6970, 1435,   1351.0,   4.1720,  35.0000,2,  34.9980,2,    270.9,2,    270.8,2,     9.96,2,    15.76,2,     0.86,2,   -999.0,9,   7.7190,2,    25.00
  35TH20100608, OVIDE,    68,  1,      6,2,20100626,0017, 58.7240, -30.6970, 1435,   1199.5,   4.3100,  35.0060,2,  35.0070,2,    268.0,2,    268.1,2,    10.01,2,    16.79,2,     0.97,2,   -999.0,9,   7.7200,2,    25.00
  35TH20100608, OVIDE,    68,  1,      7,2,20100626,0017, 58.7240, -30.6970, 1435,    999.8,   4.7590,  35.0260,2,  35.0280,2,    260.9,2,    262.0,2,     9.89,2,    17.07,2,     0.97,2,   -999.0,9,   7.7200,2,    25.00
  35TH20100608, OVIDE,    68,  1,      8,2,20100626,0017, 58.7240, -30.6970, 1435,    900.6,   5.1870,  35.0440,2,  35.0480,2,    252.4,2,    254.9,2,     9.98,2,    17.28,2,     0.97,2,   -999.0,9,   7.7180,2,    25.00
  35TH20100608, OVIDE,    68,  1,      9,2,20100626,0017, 58.7240, -30.6970, 1435,    799.7,   5.9200,  35.0810,2,  35.0820,2,    241.0,2,    246.9,3,    10.11,2,    17.98,2,     1.00,2,   -999.0,9,   7.7160,2,    25.00
  35TH20100608, OVIDE,    68,  1,     10,2,20100626,0017, 58.7240, -30.6970, 1435,    700.2,   6.4840,  35.1020,2,  35.1050,2,    236.2,2,    237.4,2,     9.85,2,    17.89,2,     1.01,2,   -999.0,9,   7.7190,2,    25.00
  35TH20100608, OVIDE,    68,  1,     11,2,20100626,0017, 58.7240, -30.6970, 1435,    600.3,   7.3710,  35.1910,2,  35.1930,2,    263.5,2,    263.4,2,     7.37,2,    14.66,2,     0.82,2,   -999.0,9,   7.7620,2,    25.00
  35TH20100608, OVIDE,    68,  1,     12,2,20100626,0017, 58.7240, -30.6970, 1435,    499.2,   7.6300,  35.2220,2,  35.2220,2,    273.4,2,    272.7,2,     6.57,2,    14.22,2,     0.76,2,   -999.0,9,   7.7740,2,    25.00
  35TH20100608, OVIDE,    68,  1,     13,2,20100626,0017, 58.7240, -30.6970, 1435,    399.9,   7.7920,  35.2360,2,  35.2370,2,    274.2,2,    278.4,2,     6.29,2,    14.66,2,     0.81,2,   -999.0,9,   7.7790,2,    25.00
  35TH20100608, OVIDE,    68,  1,     14,2,20100626,0017, 58.7240, -30.6970, 1435,    299.9,   7.8160,  35.2170,2,  35.2170,2,    271.3,2,    270.9,2,     6.62,2,    14.92,2,     0.78,2,   -999.0,9,   7.7780,2,    25.00
  35TH20100608, OVIDE,    68,  1,     15,2,20100626,0017, 58.7240, -30.6970, 1435,    199.2,   7.8220,  35.1860,2,  35.1860,2,    274.1,2,    273.1,2,     6.33,2,    14.96,2,     0.79,2,   -999.0,9,   7.7770,2,    25.00
  35TH20100608, OVIDE,    68,  1,     16,2,20100626,0017, 58.7240, -30.6970, 1435,    149.8,   7.8890,  35.1820,2,  35.1840,2,    273.9,2,    273.2,2,     6.14,2,    14.64,2,     0.80,2,   -999.0,9,   7.7800,2,    25.00
  35TH20100608, OVIDE,    68,  1,     17,2,20100626,0017, 58.7240, -30.6970, 1435,    149.8,   7.8910,  35.1840,2,  35.1850,2,    273.9,2,    273.4,2,     6.13,2,    14.43,2,     0.79,2,   -999.0,9,-999.0000,9,    25.00
  35TH20100608, OVIDE,    68,  1,     18,2,20100626,0017, 58.7240, -30.6970, 1435,     99.8,   7.8820,  35.1610,2,  35.1610,2,    274.8,2,    272.3,2,     6.18,2,    13.72,2,     0.73,2,   -999.0,9,   7.7760,2,    25.00
  35TH20100608, OVIDE,    68,  1,     19,2,20100626,0017, 58.7240, -30.6970, 1435,     50.4,   8.4790,  35.1090,2,  35.1150,3,    282.7,2,    278.9,2,     4.64,2,    11.91,2,     0.68,2,   -999.0,9,   7.8060,2,    25.00
  35TH20100608, OVIDE,    68,  1,     20,2,20100626,0017, 58.7240, -30.6970, 1435,      4.1,  10.7810,  34.9960,2,  34.9970,2,    293.6,2,    289.5,2,     3.04,2,     6.05,2,     0.38,2,   -999.0,9,   7.8960,2,    25.00
  35TH20100608, OVIDE,    69,  1,      3,2,20100626,0358, 58.8430, -31.2660, 1437,   1454.7,   4.1440,  34.9910,2,  34.9900,2,    269.3,2,    268.5,2,    10.34,2,    17.54,2,     0.97,2,   2308.3,2,   7.7250,2,    25.00
  35TH20100608, OVIDE,    69,  1,      4,2,20100626,0358, 58.8430, -31.2660, 1437,   1454.3,   4.1450,  34.9900,2,  34.9910,2,    269.3,2,    269.0,2,    10.36,2,    17.15,2,     0.94,2,   -999.0,9,-999.0000,9,    25.00
  35TH20100608, OVIDE,    69,  1,      5,2,20100626,0358, 58.8430, -31.2660, 1437,   1399.5,   4.2570,  35.0000,2,  34.9990,2,    268.0,2,    268.1,2,    10.31,2,    17.10,2,     0.96,2,   2308.7,2,   7.7180,2,    25.00
  35TH20100608, OVIDE,    69,  1,      6,2,20100626,0358, 58.8430, -31.2660, 1437,   1350.3,   4.2690,  35.0000,2,  35.0020,2,    267.8,2,    267.3,2,    10.29,2,    17.58,2,     0.96,2,   2309.4,2,   7.7180,2,    25.00
  35TH20100608, OVIDE,    69,  1,      7,2,20100626,0358, 58.8430, -31.2660, 1437,   1200.2,   4.2900,  35.0020,2,  34.9980,2,    266.9,2,    267.9,2,    10.29,2,    17.61,2,     0.98,2,   -999.0,9,   7.7180,2,    25.00
  35TH20100608, OVIDE,    69,  1,      8,2,20100626,0358, 58.8430, -31.2660, 1437,    999.3,   4.4880,  34.9950,2,  34.9890,3,    262.3,2,    264.7,2,    10.25,2,    17.52,2,     0.95,2,   2308.6,2,   7.7160,2,    25.00
  35TH20100608, OVIDE,    69,  1,      9,2,20100626,0358, 58.8430, -31.2660, 1437,    899.3,   4.8490,  35.0100,2,  35.0090,2,    254.4,2,    256.7,2,    10.36,2,    17.96,2,     1.00,2,   2309.9,2,   7.7150,2,    25.00
  35TH20100608, OVIDE,    69,  1,     10,2,20100626,0358, 58.8430, -31.2660, 1437,    799.4,   5.5810,  35.0610,2,  35.0630,2,    244.0,2,    244.4,2,    10.32,2,    18.41,2,     1.01,2,   2313.8,2,   7.7180,2,    25.00
  35TH20100608, OVIDE,    69,  1,     11,2,20100626,0358, 58.8430, -31.2660, 1437,    699.7,   6.1640,  35.0860,2,  35.0870,2,    240.3,2,    242.6,2,     9.82,2,    18.34,2,     1.02,2,   2315.2,2,   7.7250,2,    25.00
  35TH20100608, OVIDE,    69,  1,     12,2,20100626,0358, 58.8430, -31.2660, 1437,    600.7,   6.8300,  35.1230,2,  35.1240,2,    242.8,2,    243.4,2,     9.19,2,    17.50,2,     0.94,2,   2317.4,2,   7.7300,2,    25.00
  35TH20100608, OVIDE,    69,  1,     13,2,20100626,0358, 58.8430, -31.2660, 1437,    500.5,   7.2770,  35.1560,2,  35.1570,2,    255.3,2,    252.3,2,     8.03,2,    16.98,2,     0.91,2,   2319.2,2,   7.7570,2,    25.00
  35TH20100608, OVIDE,    69,  1,     14,2,20100626,0358, 58.8430, -31.2660, 1437,    399.6,   7.7300,  35.2060,2,  35.2050,2,    268.7,2,    265.9,2,     6.71,2,    15.57,2,     0.83,2,   2323.1,2,   7.7730,2,    25.00
  35TH20100608, OVIDE,    69,  1,     15,2,20100626,0358, 58.8430, -31.2660, 1437,    299.7,   7.8720,  35.2040,2,  35.2030,2,    270.8,2,    268.7,2,     6.40,2,    15.12,2,     0.80,2,   2321.7,2,   7.7760,2,    25.00
  35TH20100608, OVIDE,    69,  1,     16,2,20100626,0358, 58.8430, -31.2660, 1437,    199.9,   7.9210,  35.1850,2,  35.1820,2,    271.9,2,    271.1,2,     6.30,2,    15.09,2,     0.82,2,   2321.2,2,   7.7770,2,    25.00
  35TH20100608, OVIDE,    69,  1,     17,2,20100626,0358, 58.8430, -31.2660, 1437,    150.0,   7.9190,  35.1660,2,  35.1680,2,    271.2,2,    270.0,2,     6.24,2,    14.47,2,     0.75,2,   2318.6,2,   7.7790,2,    25.00
  35TH20100608, OVIDE,    69,  1,     18,2,20100626,0358, 58.8430, -31.2660, 1437,     99.3,   7.9520,  35.1240,2,  35.1250,2,    269.8,2,    268.8,2,     6.34,2,    14.95,2,     0.81,2,   2317.1,2,   7.7760,2,    25.00
  35TH20100608, OVIDE,    69,  1,     19,2,20100626,0358, 58.8430, -31.2660, 1437,     48.9,   9.0510,  35.0690,2,  35.0690,2,    281.5,2,    279.2,2,     4.21,2,    10.42,2,     0.56,2,   -999.0,9,   7.8270,2,    25.00
  35TH20100608, OVIDE,    69,  1,     20,2,20100626,0358, 58.8430, -31.2660, 1437,      4.8,  10.7340,  34.8700,2,  34.8700,2,    288.4,2,    285.5,2,     2.72,2,     5.36,2,     0.36,2,   2307.3,2,   7.8950,2,    25.00
  35TH20100608, OVIDE,    70,  1,      3,2,20100626,0745, 58.9100, -31.9100, 1669,   1690.4,   3.9220,  34.9670,2,  34.9710,2,    272.2,2,    270.5,2,    10.59,2,    17.01,2,     0.94,2,   -999.0,9,   7.7150,2,    25.00
  35TH20100608, OVIDE,    70,  1,      4,2,20100626,0745, 58.9100, -31.9100, 1669,   1643.4,   3.9510,  34.9690,2,  34.9690,2,    271.8,2,    273.4,2,    10.56,2,    17.24,2,     0.99,2,   -999.0,9,   7.7160,2,    25.00
  35TH20100608, OVIDE,    70,  1,      5,2,20100626,0745, 58.9100, -31.9100, 1669,   1598.1,   3.9560,  34.9670,2,  34.9670,2,    271.9,2,    273.2,2,    10.56,2,    17.35,2,     0.99,2,   -999.0,9,   7.7170,2,    25.00
  35TH20100608, OVIDE,    70,  1,      6,2,20100626,0745, 58.9100, -31.9100, 1669,   1596.8,   3.9560,  34.9680,2,  34.9670,2,    271.9,2,    273.5,2,    10.67,2,    17.74,2,     1.02,2,   -999.0,9,-999.0000,9,    25.00
  35TH20100608, OVIDE,    70,  1,      7,2,20100626,0745, 58.9100, -31.9100, 1669,   1401.4,   4.0140,  34.9710,2,  34.9730,2,    270.4,2,    272.2,2,    10.52,2,    17.42,2,     0.98,2,   -999.0,9,   7.7150,2,    25.00
  35TH20100608, OVIDE,    70,  1,      8,2,20100626,0745, 58.9100, -31.9100, 1669,   1199.9,   4.0730,  34.9620,2,  34.9620,2,    269.6,2,    269.9,2,    10.45,2,    17.74,2,     0.98,2,   -999.0,9,   7.7140,2,    25.00
  35TH20100608, OVIDE,    70,  1,      9,2,20100626,0745, 58.9100, -31.9100, 1669,    998.5,   4.5240,  34.9790,2,  34.9820,2,    261.7,2,    262.6,2,    10.28,2,    17.90,2,     1.01,2,   -999.0,9,   7.7090,2,    25.00
  35TH20100608, OVIDE,    70,  1,     10,2,20100626,0745, 58.9100, -31.9100, 1669,    899.6,   4.9760,  35.0170,2,  35.0190,2,    253.4,2,    258.0,2,    10.25,2,    18.26,2,     1.00,2,   -999.0,9,   7.7090,2,    25.00
  35TH20100608, OVIDE,    70,  1,     11,2,20100626,0745, 58.9100, -31.9100, 1669,    799.9,   5.4590,  35.0510,2,  35.0530,2,    245.0,2,    246.0,2,    10.31,2,    18.67,2,     1.04,2,   -999.0,9,   7.7100,2,    25.00
  35TH20100608, OVIDE,    70,  1,     12,2,20100626,0745, 58.9100, -31.9100, 1669,    701.8,   6.0610,  35.0880,2,  35.0880,2,    238.2,2,    241.0,2,    10.08,2,    18.74,2,     1.04,2,   -999.0,9,   7.7140,2,    25.00
  35TH20100608, OVIDE,    70,  1,     13,2,20100626,0745, 58.9100, -31.9100, 1669,    599.1,   6.6100,  35.1020,2,  35.0990,2,    237.2,2,    240.5,2,     9.57,2,    17.96,2,     0.97,2,   -999.0,9,   7.7210,2,    25.00
  35TH20100608, OVIDE,    70,  1,     14,2,20100626,0745, 58.9100, -31.9100, 1669,    495.5,   7.4460,  35.1810,2,  35.1810,2,    257.0,2,    265.8,3,     7.30,2,    16.01,2,     0.87,2,   -999.0,9,   7.7590,2,    25.00
  35TH20100608, OVIDE,    70,  1,     15,2,20100626,0745, 58.9100, -31.9100, 1669,    399.9,   7.7450,  35.2020,2,  35.2030,2,    271.0,2,    273.6,2,     6.49,2,    15.19,2,     0.84,2,   -999.0,9,   7.7730,2,    25.00
  35TH20100608, OVIDE,    70,  1,     16,2,20100626,0745, 58.9100, -31.9100, 1669,    301.2,   7.8560,  35.1910,2,  35.1920,2,    272.9,2,    272.4,2,     6.22,2,    15.16,2,     0.80,2,   -999.0,9,   7.7760,2,    25.00
  35TH20100608, OVIDE,    70,  1,     17,2,20100626,0745, 58.9100, -31.9100, 1669,    198.8,   7.9190,  35.1650,2,  35.1660,2,    269.7,2,    271.5,2,     6.36,2,    15.28,2,     0.82,2,   -999.0,9,   7.7720,2,    25.00
  35TH20100608, OVIDE,    70,  1,     18,2,20100626,0745, 58.9100, -31.9100, 1669,    151.2,   7.8510,  35.1220,2,  35.1270,3,    264.2,2,    266.3,2,     6.68,2,    15.53,2,     0.84,2,   -999.0,9,   7.7670,2,    25.00
  35TH20100608, OVIDE,    70,  1,     19,2,20100626,0745, 58.9100, -31.9100, 1669,    101.2,   7.9050,  35.0550,2,  35.0590,2,    268.0,2,    267.6,2,     6.54,2,    14.85,2,     0.84,2,   -999.0,9,   7.7710,2,    25.00
  35TH20100608, OVIDE,    70,  1,     20,2,20100626,0745, 58.9100, -31.9100, 1669,     51.7,   8.1620,  34.9550,2,  34.9560,2,    273.3,2,    273.7,2,     5.54,2,    13.02,2,     0.73,2,   -999.0,9,   7.7850,2,    25.00
  35TH20100608, OVIDE,    70,  1,     21,2,20100626,0745, 58.9100, -31.9100, 1669,      3.3,  10.3290,  34.8710,2,  34.8720,2,    288.2,2,    285.0,2,     3.17,2,     6.14,2,     0.38,2,   -999.0,9,   7.8800,2,    25.00