BOTTLE,20140929PRINUNIVRMK
EXPOCODE,SECT_ID,STNNBR,CASTNO,BTLNBR,BTLNBR_FLAG_W,DATE,TIME,LATITUDE,LONGITUDE,DEPTH,CTDPRS,CTDTMP,CTDSAL,CTDSAL_FLAG_W,SALNTY,SALNTY_FLAG_W,CTDOXY,CTDOXY_FLAG_W,OXYGEN,OXYGEN_FLAG_W,SILCAT,SILCAT_FLAG_W,NITRAT,NITRAT_FLAG_W,PHSPHT,PHSPHT_FLAG_W,ALKALI,ALKALI_FLAG_W,PH_SWS,PH_SWS_FLAG_W,PH_TMP
,,,,,,,,,,METERS,DBAR,ITS-90,PSS-78,,PSS-78,,UMOL/KG,,UMOL/KG,,UMOL/KG,,UMOL/KG,,UMOL/KG,,UMOL/KG,,,,DEG C
  35TH20100608, OVIDE,    48,  1,      3,2,20100621,1722, 52.1480, -24.0730, 3891,   3958.6,   2.5950,  34.9170,2,  34.9160,2,    243.3,2,    245.1,2,    42.94,2,    22.04,2,     1.35,2,   -999.0,9,   7.7260,2,    25.00
  35TH20100608, OVIDE,    48,  1,      4,2,20100621,1722, 52.1480, -24.0730, 3891,   3750.5,   2.6460,  34.9260,2,  34.9240,2,    248.3,2,    251.2,2,    38.53,2,    21.19,2,     1.30,2,   -999.0,9,   7.7240,2,    25.00
  35TH20100608, OVIDE,    48,  1,      5,2,20100621,1722, 52.1480, -24.0730, 3891,   3496.9,   2.7640,  34.9420,2,  34.9420,2,    259.9,2,    260.5,2,    29.57,2,    19.21,2,     1.15,2,   -999.0,9,   7.7200,2,    25.00
  35TH20100608, OVIDE,    48,  1,      6,2,20100621,1722, 52.1480, -24.0730, 3891,   3247.7,   2.8240,  34.9490,2,  34.9490,2,    266.0,2,    265.0,2,    25.29,2,    18.59,2,     1.10,2,   -999.0,9,   7.7200,2,    25.00
  35TH20100608, OVIDE,    48,  1,      7,2,20100621,1722, 52.1480, -24.0730, 3891,   2998.4,   2.8990,  34.9520,2,  34.9490,2,    270.3,2,    270.1,2,    18.17,2,    17.97,2,     1.07,2,   -999.0,9,   7.7210,2,    25.00
  35TH20100608, OVIDE,    48,  1,      8,2,20100621,1722, 52.1480, -24.0730, 3891,   2751.5,   2.9930,  34.9460,2,  34.9450,2,    274.3,2,    273.3,2,    15.34,2,    17.24,2,     1.02,2,   -999.0,9,   7.7220,2,    25.00
  35TH20100608, OVIDE,    48,  1,      9,2,20100621,1722, 52.1480, -24.0730, 3891,   2499.7,   3.0770,  34.9320,2,  34.9320,2,    277.0,2,    275.1,2,    13.70,2,    16.83,2,     0.99,2,   -999.0,9,   7.7230,2,    25.00
  35TH20100608, OVIDE,    48,  1,     10,2,20100621,1722, 52.1480, -24.0730, 3891,   2249.6,   3.1810,  34.9190,2,  34.9190,2,    279.0,2,    279.3,2,    12.45,2,    17.18,2,     1.01,2,   -999.0,9,   7.7230,2,    25.00
  35TH20100608, OVIDE,    48,  1,     11,2,20100621,1722, 52.1480, -24.0730, 3891,   1998.3,   3.3060,  34.9100,2,  34.9100,2,    279.0,2,    278.4,2,    11.74,2,    17.60,2,     1.05,2,   -999.0,9,   7.7230,2,    25.00
  35TH20100608, OVIDE,    48,  1,     12,2,20100621,1722, 52.1480, -24.0730, 3891,   1997.7,   3.3070,  34.9110,2,  34.9100,2,    279.0,2,    280.3,2,    11.75,2,    16.91,2,     1.01,2,   -999.0,9,-999.0000,9,    25.00
  35TH20100608, OVIDE,    48,  1,     13,2,20100621,1722, 52.1480, -24.0730, 3891,   1801.8,   3.4210,  34.9090,2,  34.9100,2,    277.6,2,    277.6,2,    11.39,2,    17.58,2,     1.04,2,   -999.0,9,   7.7200,2,    25.00
  35TH20100608, OVIDE,    48,  1,     14,2,20100621,1722, 52.1480, -24.0730, 3891,   1599.4,   3.5460,  34.9100,2,  34.9100,2,    276.4,2,    277.2,2,    11.09,2,    17.74,2,     1.05,2,   -999.0,9,   7.7190,2,    25.00
  35TH20100608, OVIDE,    48,  1,     15,2,20100621,1722, 52.1480, -24.0730, 3891,   1399.9,   3.6880,  34.9070,2,  34.9070,2,    276.6,2,    277.8,2,    10.59,2,    17.45,2,     1.03,2,   -999.0,9,   7.7160,2,    25.00
  35TH20100608, OVIDE,    48,  1,     16,2,20100621,1722, 52.1480, -24.0730, 3891,   1198.4,   3.8060,  34.9060,2,  34.9060,2,    277.4,2,    275.5,2,    10.23,2,    17.67,2,     1.04,2,   -999.0,9,   7.7120,2,    25.00
  35TH20100608, OVIDE,    48,  1,     17,2,20100621,1722, 52.1480, -24.0730, 3891,   1000.6,   4.0840,  34.9260,2,  34.9250,2,    271.4,2,    270.4,2,    10.11,2,    17.73,2,     1.04,2,   -999.0,9,   7.7100,2,    25.00
  35TH20100608, OVIDE,    48,  1,     18,2,20100621,1722, 52.1480, -24.0730, 3891,    896.9,   4.2610,  34.9410,2,  34.9400,2,    266.3,2,    266.9,2,    10.17,2,    18.16,2,     1.07,2,   -999.0,9,   7.7080,2,    25.00
  35TH20100608, OVIDE,    48,  1,     19,2,20100621,1722, 52.1480, -24.0730, 3891,    800.2,   4.4960,  34.9590,2,  34.9570,2,    259.6,2,    261.0,2,    10.20,2,    18.15,2,     1.06,2,   -999.0,9,   7.7050,2,    25.00
  35TH20100608, OVIDE,    48,  1,     20,2,20100621,1722, 52.1480, -24.0730, 3891,    702.0,   4.6060,  34.9480,2,  34.9470,2,    258.8,2,    259.5,2,    10.10,2,    18.35,2,     1.09,2,   -999.0,9,   7.7030,2,    25.00
  35TH20100608, OVIDE,    48,  1,     21,2,20100621,1722, 52.1480, -24.0730, 3891,    602.5,   5.1020,  34.9840,2,  34.9810,2,    246.3,2,    247.5,2,    10.38,2,    18.75,2,     1.10,2,   -999.0,9,   7.7020,2,    25.00
  35TH20100608, OVIDE,    48,  1,     22,2,20100621,1722, 52.1480, -24.0730, 3891,    501.3,   5.7190,  35.0160,2,  35.0130,2,    237.5,2,    237.6,2,    10.40,2,    18.94,2,     1.18,2,   -999.0,9,   7.6990,2,    25.00
  35TH20100608, OVIDE,    48,  1,     23,2,20100621,1722, 52.1480, -24.0730, 3891,    400.9,   6.1810,  34.9900,2,  34.9910,2,    227.8,2,    228.1,2,    10.39,2,    19.00,2,     1.12,2,   -999.0,9,   7.6990,2,    25.00
  35TH20100608, OVIDE,    48,  1,     24,2,20100621,1722, 52.1480, -24.0730, 3891,    299.7,   6.8800,  34.9670,2,  34.9540,3,    216.6,2,    216.8,2,    10.05,2,    19.41,2,     1.13,2,   -999.0,9,   7.6950,2,    25.00
  35TH20100608, OVIDE,    48,  1,     25,2,20100621,1722, 52.1480, -24.0730, 3891,    202.2,   8.0730,  35.0050,2,  35.0110,3,    246.6,2,    242.9,2,     7.16,2,    15.54,2,     0.90,2,   -999.0,9,   7.7530,2,    25.00
  35TH20100608, OVIDE,    48,  1,     26,2,20100621,1722, 52.1480, -24.0730, 3891,    152.3,   8.2180,  34.9950,2,  34.9940,2,    256.4,2,    257.7,2,     6.31,2,    14.37,2,     0.80,2,   -999.0,9,   7.7720,2,    25.00
  35TH20100608, OVIDE,    48,  1,     27,2,20100621,1722, 52.1480, -24.0730, 3891,     99.2,   8.5720,  35.0140,2,  35.0060,3,    265.5,2,    265.0,2,     5.41,2,    13.32,2,     0.75,2,   -999.0,9,   7.7850,2,    25.00
  35TH20100608, OVIDE,    48,  1,     28,2,20100621,1722, 52.1480, -24.0730, 3891,     57.2,   9.3810,  35.0280,2,  35.0360,3,    273.1,2,    271.4,2,     3.00,2,    10.47,2,     0.60,2,   -999.0,9,   7.8210,2,    25.00
  35TH20100608, OVIDE,    48,  1,     29,2,20100621,1722, 52.1480, -24.0730, 3891,      3.8,  14.5010,  35.0620,2,  35.0630,2,    272.2,2,    269.7,2,     1.35,2,     1.01,2,     0.11,2,   -999.0,9,   7.9580,2,    25.00
  35TH20100608, OVIDE,    49,  1,      3,2,20100621,2246, 52.5200, -24.3580, 3583,   3640.2,   2.5350,  34.9150,2,  34.9170,2,    242.1,2,    243.1,2,    44.50,3,    16.29,3,     1.31,2,   -999.0,9,-999.0000,9,    25.00
  35TH20100608, OVIDE,    49,  1,      4,2,20100621,2246, 52.5200, -24.3580, 3583,   3643.4,   2.5350,  34.9150,2,  34.9120,2,    242.0,2,    244.8,2,    44.53,3,    16.58,3,     1.32,2,   2353.2,2,   7.7290,2,    25.00
  35TH20100608, OVIDE,    49,  1,      5,2,20100621,2246, 52.5200, -24.3580, 3583,   3499.3,   2.6770,  34.9320,2,  34.9330,2,    253.2,2,    252.7,2,    35.53,2,    16.88,3,     1.18,2,   2339.2,2,   7.7260,2,    25.00
  35TH20100608, OVIDE,    49,  1,      6,2,20100621,2246, 52.5200, -24.3580, 3583,   3251.2,   2.7790,  34.9460,2,  34.9460,2,    262.8,2,    262.5,2,    27.45,2,    17.16,2,     1.10,2,   2327.2,2,   7.7210,2,    25.00
  35TH20100608, OVIDE,    49,  1,      7,2,20100621,2246, 52.5200, -24.3580, 3583,   3000.3,   2.8680,  34.9510,2,  34.9510,2,    268.5,2,    268.9,2,    18.83,2,    16.77,2,     1.03,2,   2319.7,2,   7.7230,2,    25.00
  35TH20100608, OVIDE,    49,  1,      8,2,20100621,2246, 52.5200, -24.3580, 3583,   2747.0,   2.9860,  34.9470,2,  34.9470,2,    273.6,2,    273.1,2,    15.82,2,    16.22,2,     0.99,2,   2314.5,2,   7.7250,2,    25.00
  35TH20100608, OVIDE,    49,  1,      9,2,20100621,2246, 52.5200, -24.3580, 3583,   2499.2,   3.0770,  34.9340,2,  34.9360,2,    276.5,2,    276.2,2,    14.00,2,    15.96,2,     0.98,2,   2310.2,2,   7.7260,2,    25.00
  35TH20100608, OVIDE,    49,  1,     10,2,20100621,2246, 52.5200, -24.3580, 3583,   2249.7,   3.1740,  34.9210,2,  34.9230,2,    278.4,2,    278.0,2,    12.88,2,    15.72,2,     0.96,2,   2308.0,2,   7.7240,2,    25.00
  35TH20100608, OVIDE,    49,  1,     11,2,20100621,2246, 52.5200, -24.3580, 3583,   1999.6,   3.2940,  34.9110,2,  34.9120,2,    278.9,2,    278.4,2,    12.08,2,    15.81,2,     0.98,2,   2307.1,2,   7.7240,2,    25.00
  35TH20100608, OVIDE,    49,  1,     12,2,20100621,2246, 52.5200, -24.3580, 3583,   1801.0,   3.4180,  34.9080,2,  34.9100,2,    277.5,2,    278.5,2,    11.73,2,    16.06,2,     0.99,2,   2305.6,2,   7.7200,2,    25.00
  35TH20100608, OVIDE,    49,  1,     13,2,20100621,2246, 52.5200, -24.3580, 3583,   1600.3,   3.5530,  34.9100,2,  34.9100,2,    276.1,2,    274.8,2,    11.37,2,    16.24,2,     1.01,2,   2307.5,2,   7.7200,2,    25.00
  35TH20100608, OVIDE,    49,  1,     14,2,20100621,2246, 52.5200, -24.3580, 3583,   1400.2,   3.6900,  34.9090,2,  34.9090,2,    276.0,2,    276.3,2,    10.84,2,    16.17,2,     0.99,2,   2307.3,2,   7.7150,2,    25.00
  35TH20100608, OVIDE,    49,  1,     15,2,20100621,2246, 52.5200, -24.3580, 3583,   1198.9,   3.7990,  34.9040,2,  34.9060,2,    276.9,2,    275.4,2,    10.35,2,    16.01,2,     0.99,2,   2306.1,2,   7.7120,2,    25.00
  35TH20100608, OVIDE,    49,  1,     16,2,20100621,2246, 52.5200, -24.3580, 3583,   1000.1,   3.9830,  34.9130,2,  34.9140,2,    274.6,2,    273.2,2,    10.15,2,    16.26,2,     1.01,2,   2306.8,2,   7.7090,2,    25.00
  35TH20100608, OVIDE,    49,  1,     17,2,20100621,2246, 52.5200, -24.3580, 3583,    898.0,   4.1950,  34.9330,2,  34.9330,2,    270.8,2,    269.3,2,    10.25,2,    16.41,2,     1.01,2,   2308.0,2,   7.7080,2,    25.00
  35TH20100608, OVIDE,    49,  1,     18,2,20100621,2246, 52.5200, -24.3580, 3583,    799.8,   4.6130,  34.9820,2,  34.9810,2,    259.0,2,    257.8,2,    10.55,2,    16.50,2,     0.98,2,   2311.8,2,   7.7080,2,    25.00
  35TH20100608, OVIDE,    49,  1,     19,2,20100621,2246, 52.5200, -24.3580, 3583,    699.1,   4.8320,  34.9920,2,  34.9920,2,    253.8,2,    253.4,2,    10.57,2,    16.98,2,     1.03,2,   2312.8,2,   7.7080,2,    25.00
  35TH20100608, OVIDE,    49,  1,     20,2,20100621,2246, 52.5200, -24.3580, 3583,    599.7,   5.3560,  35.0450,2,  35.0430,2,    243.3,2,    242.6,2,    10.69,2,    17.31,2,     1.05,2,   2315.6,2,   7.7060,2,    25.00
  35TH20100608, OVIDE,    49,  1,     21,2,20100621,2246, 52.5200, -24.3580, 3583,    600.2,   5.3560,  35.0410,2,  35.0380,2,    243.3,2,    242.9,2,    10.67,2,    17.50,2,     1.04,2,   -999.0,9,-999.0000,9,    25.00
  35TH20100608, OVIDE,    49,  1,     22,2,20100621,2246, 52.5200, -24.3580, 3583,    500.6,   5.1800,  34.9540,2,  34.9560,2,    246.4,2,    247.9,2,    10.32,2,    17.28,2,     1.01,2,   2309.8,2,   7.6980,2,    25.00
  35TH20100608, OVIDE,    49,  1,     23,2,20100621,2246, 52.5200, -24.3580, 3583,    448.2,   5.7350,  35.0020,2,  35.0020,2,    234.6,2,    237.4,2,    10.55,2,    17.98,2,     1.07,2,   2313.1,2,   7.6990,2,    25.00
  35TH20100608, OVIDE,    49,  1,     24,2,20100621,2246, 52.5200, -24.3580, 3583,    348.7,   6.2370,  34.9700,2,  34.9700,2,    224.7,2,    227.9,2,    10.10,2,    18.63,2,     1.09,2,   2311.0,2,   7.6960,2,    25.00
  35TH20100608, OVIDE,    49,  1,     25,2,20100621,2246, 52.5200, -24.3580, 3583,    300.8,   6.5490,  34.9350,2,  34.9290,3,    226.7,2,    224.6,2,    10.06,2,    18.70,2,     1.08,2,   2308.4,2,   7.6980,2,    25.00
  35TH20100608, OVIDE,    49,  1,     26,2,20100621,2246, 52.5200, -24.3580, 3583,    202.2,   8.0860,  35.0230,2,  35.0250,2,    241.9,2,    242.2,2,     7.29,2,    15.05,2,     0.87,2,   2315.0,2,   7.7530,2,    25.00
  35TH20100608, OVIDE,    49,  1,     27,2,20100621,2246, 52.5200, -24.3580, 3583,     97.7,   8.1630,  34.9240,2,  34.9250,2,    271.7,2,    270.0,2,     5.56,2,    12.56,2,     0.69,2,   2308.3,2,   7.7890,2,    25.00
  35TH20100608, OVIDE,    49,  1,     28,2,20100621,2246, 52.5200, -24.3580, 3583,     50.9,   9.7130,  35.0350,2,  35.0290,3,    271.7,2,    273.6,2,     3.60,2,     8.64,2,     0.60,2,   -999.0,9,   7.8350,2,    25.00
  35TH20100608, OVIDE,    49,  1,     29,2,20100621,2246, 52.5200, -24.3580, 3583,      3.5,  14.6830,  35.0680,2,  35.0730,2,    270.1,2,    266.2,2,     1.20,2,     0.73,2,     0.02,2,   2322.2,2,   7.9620,2,    25.00
  35TH20100608, OVIDE,    50,  1,      3,2,20100622,0457, 52.8920, -24.6570, 3584,   3644.5,   2.6090,  34.9230,2,  34.9230,2,    246.7,2,    246.9,2,    40.38,2,    21.41,2,     1.29,2,   -999.0,9,   7.7240,2,    25.00
  35TH20100608, OVIDE,    50,  1,      4,2,20100622,0457, 52.8920, -24.6570, 3584,   3474.8,   2.7330,  34.9380,2,  34.9380,2,    257.7,2,    258.0,2,    32.17,2,    20.03,2,     1.19,2,   -999.0,9,   7.7200,2,    25.00
  35TH20100608, OVIDE,    50,  1,      5,2,20100622,0457, 52.8920, -24.6570, 3584,   3249.3,   2.8310,  34.9480,2,  34.9480,2,    262.8,2,    266.4,2,    25.32,2,    18.64,2,     1.12,2,   -999.0,9,   7.7220,2,    25.00
  35TH20100608, OVIDE,    50,  1,      6,2,20100622,0457, 52.8920, -24.6570, 3584,   3000.1,   2.9330,  34.9470,2,  34.9460,2,    269.8,2,    270.6,2,    18.34,2,    18.10,2,     1.09,2,   -999.0,9,   7.7190,2,    25.00
  35TH20100608, OVIDE,    50,  1,      7,2,20100622,0457, 52.8920, -24.6570, 3584,   2748.9,   3.0430,  34.9390,2,  34.9380,2,    275.2,2,    275.1,2,    15.23,2,    17.28,2,     1.01,2,   -999.0,9,   7.7240,2,    25.00
  35TH20100608, OVIDE,    50,  1,      8,2,20100622,0457, 52.8920, -24.6570, 3584,   2495.1,   3.1470,  34.9250,2,  34.9270,2,    278.7,2,    277.4,2,    12.92,2,    17.14,2,     1.00,2,   -999.0,9,   7.7250,2,    25.00
  35TH20100608, OVIDE,    50,  1,      9,2,20100622,0457, 52.8920, -24.6570, 3584,   2250.6,   3.2500,  34.9150,2,  34.9160,2,    279.4,2,    280.3,2,    12.20,2,    17.45,2,     1.06,2,   -999.0,9,   7.7210,2,    25.00
  35TH20100608, OVIDE,    50,  1,     10,2,20100622,0457, 52.8920, -24.6570, 3584,   2000.2,   3.3950,  34.9100,2,  34.9130,2,    278.8,2,    278.2,2,    11.65,2,    17.55,2,     1.02,2,   -999.0,9,   7.7230,2,    25.00
  35TH20100608, OVIDE,    50,  1,     11,2,20100622,0457, 52.8920, -24.6570, 3584,   1799.8,   3.5220,  34.9090,2,  34.9110,2,    277.3,2,    276.1,2,    11.35,2,    17.81,2,     1.03,2,   -999.0,9,   7.7180,2,    25.00
  35TH20100608, OVIDE,    50,  1,     12,2,20100622,0457, 52.8920, -24.6570, 3584,   1602.1,   3.6450,  34.9080,2,  34.9100,2,    276.6,2,    277.8,2,    10.97,2,    17.86,2,     1.06,2,   -999.0,9,   7.7160,2,    25.00
  35TH20100608, OVIDE,    50,  1,     13,2,20100622,0457, 52.8920, -24.6570, 3584,   1400.2,   3.7530,  34.9080,2,  34.9070,2,    276.8,2,    277.0,2,    10.55,2,    17.76,2,     1.06,2,   -999.0,9,   7.7130,2,    25.00
  35TH20100608, OVIDE,    50,  1,     14,2,20100622,0457, 52.8920, -24.6570, 3584,   1399.6,   3.7530,  34.9070,2,  34.9080,2,    276.8,2,    276.4,2,    10.53,2,    17.73,2,     1.02,2,   -999.0,9,-999.0000,9,    25.00
  35TH20100608, OVIDE,    50,  1,     15,2,20100622,0457, 52.8920, -24.6570, 3584,   1198.1,   3.9610,  34.9170,2,  34.9180,2,    274.5,2,    275.1,2,    10.28,2,    17.72,2,     1.03,2,   -999.0,9,   7.7100,2,    25.00
  35TH20100608, OVIDE,    50,  1,     16,2,20100622,0457, 52.8920, -24.6570, 3584,   1000.8,   4.2360,  34.9320,2,  34.9310,2,    265.4,2,    270.1,2,    10.15,2,    17.87,2,     1.05,2,   -999.0,9,   7.7080,2,    25.00
  35TH20100608, OVIDE,    50,  1,     17,2,20100622,0457, 52.8920, -24.6570, 3584,    901.4,   4.6760,  34.9840,2,  34.9830,2,    254.1,2,    257.6,2,    10.47,2,    18.58,2,     1.09,2,   -999.0,9,   7.7080,2,    25.00
  35TH20100608, OVIDE,    50,  1,     18,2,20100622,0457, 52.8920, -24.6570, 3584,    802.8,   4.9300,  35.0000,2,  34.9980,2,    248.4,2,    252.7,2,    10.46,2,    18.57,2,     1.10,2,   -999.0,9,   7.7050,2,    25.00
  35TH20100608, OVIDE,    50,  1,     19,2,20100622,0457, 52.8920, -24.6570, 3584,    702.7,   5.3650,  35.0340,2,  35.0340,2,    239.5,2,    244.9,2,    10.60,2,    18.99,2,     1.10,2,   -999.0,9,   7.7060,2,    25.00
  35TH20100608, OVIDE,    50,  1,     20,2,20100622,0457, 52.8920, -24.6570, 3584,    600.6,   5.6970,  35.0170,2,  35.0200,2,    238.0,2,    237.0,2,    10.60,2,    19.14,2,     1.12,2,   -999.0,9,   7.7000,2,    25.00
  35TH20100608, OVIDE,    50,  1,     21,2,20100622,0457, 52.8920, -24.6570, 3584,    501.3,   6.0610,  34.9680,2,  34.9660,2,    220.9,2,    230.3,3,    10.48,2,    19.37,2,     1.13,2,   -999.0,9,   7.6950,2,    25.00
  35TH20100608, OVIDE,    50,  1,     22,2,20100622,0457, 52.8920, -24.6570, 3584,    400.7,   7.2410,  34.9980,2,  35.0050,3,    208.5,2,    215.3,3,    10.23,2,    19.54,2,     1.15,2,   -999.0,9,   7.7030,2,    25.00
  35TH20100608, OVIDE,    50,  1,     23,2,20100622,0457, 52.8920, -24.6570, 3584,    300.7,   8.3830,  35.0470,2,  35.0470,2,    235.7,2,    234.8,2,     7.64,2,    16.18,2,     0.93,2,   -999.0,9,   7.7520,2,    25.00
  35TH20100608, OVIDE,    50,  1,     24,2,20100622,0457, 52.8920, -24.6570, 3584,    199.9,   9.2390,  35.1320,2,  35.1320,2,    269.0,2,    260.5,3,     5.61,2,    12.74,2,     0.72,2,   -999.0,9,   7.8000,2,    25.00
  35TH20100608, OVIDE,    50,  1,     25,2,20100622,0457, 52.8920, -24.6570, 3584,    150.6,   9.4260,  35.1440,2,  35.1410,2,    262.5,2,    262.8,2,     5.25,2,    12.23,2,     0.70,2,   -999.0,9,   7.8070,2,    25.00
  35TH20100608, OVIDE,    50,  1,     26,2,20100622,0457, 52.8920, -24.6570, 3584,    101.2,  10.1790,  35.2530,2,  35.2470,3,    259.8,2,    259.0,2,     4.68,2,    11.64,2,     0.65,2,   -999.0,9,   7.8180,2,    25.00
  35TH20100608, OVIDE,    50,  1,     27,2,20100622,0457, 52.8920, -24.6570, 3584,     56.9,  10.8760,  35.2270,2,  35.2220,3,    266.4,2,    267.4,2,     2.18,2,     7.55,2,     0.52,2,   -999.0,9,   7.8550,2,    25.00
  35TH20100608, OVIDE,    50,  1,     28,2,20100622,0457, 52.8920, -24.6570, 3584,      3.7,  13.7610,  35.1780,2,  35.1720,3,    275.3,2,    274.4,2,     1.20,2,     1.80,2,     0.14,2,   -999.0,9,   7.9470,2,    25.00