BOTTLE,20140929PRINUNIVRMK
EXPOCODE,SECT_ID,STNNBR,CASTNO,BTLNBR,BTLNBR_FLAG_W,DATE,TIME,LATITUDE,LONGITUDE,DEPTH,CTDPRS,CTDTMP,CTDSAL,CTDSAL_FLAG_W,SALNTY,SALNTY_FLAG_W,CTDOXY,CTDOXY_FLAG_W,OXYGEN,OXYGEN_FLAG_W,SILCAT,SILCAT_FLAG_W,NITRAT,NITRAT_FLAG_W,PHSPHT,PHSPHT_FLAG_W,ALKALI,ALKALI_FLAG_W,PH_SWS,PH_SWS_FLAG_W,PH_TMP
,,,,,,,,,,METERS,DBAR,ITS-90,PSS-78,,PSS-78,,UMOL/KG,,UMOL/KG,,UMOL/KG,,UMOL/KG,,UMOL/KG,,UMOL/KG,,,,DEG C
  35TH20100608, OVIDE,    88,  1,      3,2,20100629,1507, 59.8090, -42.2370, 1187,   1199.9,   3.9350,  34.9190,2,  34.9230,2,    281.3,2,    280.5,2,     9.29,2,    16.31,2,     1.02,2,   -999.0,9,   7.7210,2,    25.00
  35TH20100608, OVIDE,    88,  1,      4,2,20100629,1507, 59.8090, -42.2370, 1187,   1149.5,   4.1620,  34.9280,2,  34.9280,2,    280.9,2,    281.5,2,     9.16,2,    16.38,2,     1.02,2,   -999.0,9,   7.7230,2,    25.00
  35TH20100608, OVIDE,    88,  1,      5,2,20100629,1507, 59.8090, -42.2370, 1187,   1099.4,   4.3110,  34.9370,2,  34.9370,2,    280.4,2,    280.0,2,     9.01,2,    16.11,2,     1.01,2,   -999.0,9,   7.7230,2,    25.00
  35TH20100608, OVIDE,    88,  1,      6,2,20100629,1507, 59.8090, -42.2370, 1187,    999.1,   4.4910,  34.9480,2,  34.9470,2,    279.4,2,    279.2,2,     8.82,2,    16.15,2,     1.02,2,   -999.0,9,   7.7260,2,    25.00
  35TH20100608, OVIDE,    88,  1,      7,2,20100629,1507, 59.8090, -42.2370, 1187,    899.3,   4.6860,  34.9590,2,  34.9580,2,    279.0,2,    279.9,2,     8.64,2,    16.05,2,     1.00,2,   -999.0,9,   7.7300,2,    25.00
  35TH20100608, OVIDE,    88,  1,      8,2,20100629,1507, 59.8090, -42.2370, 1187,    799.0,   4.8500,  34.9650,2,  34.9650,2,    279.5,2,    280.1,2,     8.38,2,    15.67,2,     0.99,2,   -999.0,9,   7.7350,2,    25.00
  35TH20100608, OVIDE,    88,  1,      9,2,20100629,1507, 59.8090, -42.2370, 1187,    700.0,   4.9780,  34.9660,2,  34.9660,2,    281.8,2,    282.3,2,     8.11,2,    15.43,2,     1.01,2,   -999.0,9,   7.7380,2,    25.00
  35TH20100608, OVIDE,    88,  1,     10,2,20100629,1507, 59.8090, -42.2370, 1187,    599.0,   5.0920,  34.9720,2,  34.9720,2,    282.2,2,    282.6,2,     7.99,2,    15.34,2,     0.99,2,   -999.0,9,   7.7400,2,    25.00
  35TH20100608, OVIDE,    88,  1,     11,2,20100629,1507, 59.8090, -42.2370, 1187,    499.3,   5.1730,  34.9670,2,  34.9660,2,    283.7,2,    284.6,2,     7.67,2,    15.06,2,     0.96,2,   -999.0,9,   7.7440,2,    25.00
  35TH20100608, OVIDE,    88,  1,     12,2,20100629,1507, 59.8090, -42.2370, 1187,    399.2,   5.2530,  34.9570,2,  34.9560,2,    287.3,2,    286.8,2,     7.38,2,    14.66,2,     0.95,2,   -999.0,9,   7.7470,2,    25.00
  35TH20100608, OVIDE,    88,  1,     13,2,20100629,1507, 59.8090, -42.2370, 1187,    299.8,   5.6430,  35.0080,2,  35.0090,2,    284.5,2,    282.8,2,     7.34,2,    14.89,2,     0.96,2,   -999.0,9,   7.7510,2,    25.00
  35TH20100608, OVIDE,    88,  1,     14,2,20100629,1507, 59.8090, -42.2370, 1187,    199.1,   5.5230,  34.9260,2,  34.9250,2,    290.5,2,    288.1,2,     6.87,2,    13.23,2,     0.91,2,   -999.0,9,   7.7630,2,    25.00
  35TH20100608, OVIDE,    88,  1,     15,2,20100629,1507, 59.8090, -42.2370, 1187,    148.8,   4.9880,  34.8040,2,  34.8090,2,    296.5,2,    294.6,2,     6.59,2,    11.68,2,     0.85,2,   -999.0,9,   7.7690,2,    25.00
  35TH20100608, OVIDE,    88,  1,     16,2,20100629,1507, 59.8090, -42.2370, 1187,    100.0,   5.5150,  34.8480,2,  34.8260,3,    298.1,2,    294.9,2,     6.22,2,    10.75,2,     0.83,2,   -999.0,9,   7.7820,2,    25.00
  35TH20100608, OVIDE,    88,  1,     17,2,20100629,1507, 59.8090, -42.2370, 1187,     50.5,   5.0380,  34.6800,2,  34.6800,2,    296.7,2,    301.5,2,     5.67,2,     9.30,2,     0.78,2,   -999.0,9,   7.7900,2,    25.00
  35TH20100608, OVIDE,    88,  1,     18,2,20100629,1507, 59.8090, -42.2370, 1187,      4.8,   1.4570,  33.0320,2,  33.0290,2,    357.9,2,    351.4,3,     1.68,2,     2.83,2,     0.36,2,   -999.0,9,   7.8170,2,    25.00
  35TH20100608, OVIDE,    89,  1,      3,2,20100629,1701, 59.8160, -42.2750,  878,    886.3,   4.7110,  34.9570,2,  34.9580,2,    279.3,2,    279.9,2,     8.57,2,    16.34,2,     0.98,2,   2306.9,2,   7.7300,2,    25.00
  35TH20100608, OVIDE,    89,  1,      4,2,20100629,1701, 59.8160, -42.2750,  878,    798.7,   5.0830,  34.9670,2,  34.9670,2,    282.0,2,    282.9,2,     7.92,2,    15.84,2,     0.94,2,   2306.3,2,   7.7380,2,    25.00
  35TH20100608, OVIDE,    89,  1,      5,2,20100629,1701, 59.8160, -42.2750,  878,    699.9,   5.2000,  34.9660,2,  34.9660,2,    284.2,2,    284.5,2,     7.64,2,    15.57,2,     0.94,2,   2308.7,2,   7.7410,2,    25.00
  35TH20100608, OVIDE,    89,  1,      6,2,20100629,1701, 59.8160, -42.2750,  878,    599.9,   5.2370,  34.9650,2,  34.9630,2,    285.1,2,    287.1,2,     7.48,2,    15.39,2,     0.93,2,   2309.0,2,   7.7430,2,    25.00
  35TH20100608, OVIDE,    89,  1,      7,2,20100629,1701, 59.8160, -42.2750,  878,    499.0,   5.2750,  34.9630,2,  34.9610,2,    285.7,2,    288.9,2,     7.40,2,    15.36,2,     0.92,2,   2306.4,2,   7.7430,2,    25.00
  35TH20100608, OVIDE,    89,  1,      8,2,20100629,1701, 59.8160, -42.2750,  878,    399.3,   5.3110,  34.9610,2,  34.9590,2,    286.7,2,    287.8,2,     7.24,2,    15.21,2,     0.92,2,   2305.7,2,   7.7440,2,    25.00
  35TH20100608, OVIDE,    89,  1,      9,2,20100629,1701, 59.8160, -42.2750,  878,    298.9,   5.7730,  34.9900,2,  34.9910,2,    286.3,2,    287.9,2,     7.05,2,    14.92,2,     0.91,2,   2307.9,2,   7.7560,2,    25.00
  35TH20100608, OVIDE,    89,  1,     10,2,20100629,1701, 59.8160, -42.2750,  878,    199.3,   5.2500,  34.8460,2,  34.8500,2,    294.6,2,    294.8,2,     6.55,2,    12.46,2,     0.84,2,   2305.1,2,   7.7680,2,    25.00
  35TH20100608, OVIDE,    89,  1,     11,2,20100629,1701, 59.8160, -42.2750,  878,    149.2,   4.9230,  34.7720,2,  34.7770,2,    298.7,2,    296.7,2,     6.34,2,    11.67,2,     0.81,2,   2300.4,2,   7.7710,2,    25.00
  35TH20100608, OVIDE,    89,  1,     12,2,20100629,1701, 59.8160, -42.2750,  878,     99.9,   4.8330,  34.6980,2,  34.6940,2,    300.7,2,    302.6,2,     5.84,2,    10.16,2,     0.76,2,   2296.0,2,   7.7850,2,    25.00
  35TH20100608, OVIDE,    89,  1,     13,2,20100629,1701, 59.8160, -42.2750,  878,     50.2,   2.6670,  34.0630,2,  34.0640,2,    322.6,2,    321.0,2,     4.48,2,     8.02,2,     0.65,2,   2263.8,2,   7.7800,2,    25.00
  35TH20100608, OVIDE,    89,  1,     14,2,20100629,1701, 59.8160, -42.2750,  878,      3.7,   1.4330,  32.9870,2,  32.9910,2,    355.6,2,    353.3,2,     1.50,2,     3.01,2,     0.36,2,   2210.8,2,   7.8100,2,    25.00
  35TH20100608, OVIDE,    90,  1,      3,2,20100629,1837, 59.8180, -42.3130,  559,    563.7,   5.2850,  34.9640,2,  34.9640,2,    285.9,2,    286.4,2,     7.29,2,    15.33,2,     0.94,2,   2306.5,2,   7.7450,2,    25.00
  35TH20100608, OVIDE,    90,  1,      4,2,20100629,1837, 59.8180, -42.3130,  559,    401.8,   5.6560,  34.9900,2,  34.9750,3,    285.0,2,    287.2,2,     7.05,2,    15.09,2,     0.92,2,   2307.3,2,   7.7460,2,    25.00
  35TH20100608, OVIDE,    90,  1,      5,2,20100629,1837, 59.8180, -42.3130,  559,    299.0,   5.7410,  34.9960,2,  34.9950,2,    284.8,2,    287.2,2,     6.99,2,    15.01,2,     0.92,2,   2308.1,2,   7.7530,2,    25.00
  35TH20100608, OVIDE,    90,  1,      6,2,20100629,1837, 59.8180, -42.3130,  559,    201.3,   5.2100,  34.8560,2,  34.8540,2,    292.8,2,    290.8,2,     6.47,2,    12.68,2,     0.84,2,   2302.0,2,   7.7690,2,    25.00
  35TH20100608, OVIDE,    90,  1,      7,2,20100629,1837, 59.8180, -42.3130,  559,    151.2,   4.9950,  34.7910,2,  34.7920,2,    296.3,2,    294.8,2,     6.26,2,    11.85,2,     0.82,2,   2300.4,2,   7.7720,2,    25.00
  35TH20100608, OVIDE,    90,  1,      8,2,20100629,1837, 59.8180, -42.3130,  559,    101.0,   4.5320,  34.5900,2,  34.5880,2,    305.7,2,    302.9,2,     5.47,2,     9.74,2,     0.75,2,   2290.9,2,   7.7860,2,    25.00
  35TH20100608, OVIDE,    90,  1,      9,2,20100629,1837, 59.8180, -42.3130,  559,     53.8,   3.2250,  34.0620,2,  34.1240,3,    327.4,2,    320.1,3,     4.40,2,     7.75,2,     0.64,2,   2266.4,2,   7.7870,2,    25.00
  35TH20100608, OVIDE,    90,  1,     10,2,20100629,1837, 59.8180, -42.3130,  559,      3.0,   1.2230,  33.0720,2,  33.0760,2,    352.3,2,    350.6,2,     1.91,2,     4.30,2,     0.46,2,   2214.9,2,   7.7890,2,    25.00
  35TH20100608, OVIDE,    91,  1,      3,2,20100629,1953, 59.8230, -42.3990,  294,    295.4,   5.4010,  34.9470,2,  34.9460,2,    287.5,2,    289.1,2,     7.07,2,    14.82,2,     0.90,2,   -999.0,9,   7.7530,2,    25.00
  35TH20100608, OVIDE,    91,  1,      4,2,20100629,1953, 59.8230, -42.3990,  294,    199.6,   4.9750,  34.7540,2,  34.7660,3,    297.9,2,    299.1,2,     6.14,2,    11.36,2,     0.79,2,   -999.0,9,   7.7770,2,    25.00
  35TH20100608, OVIDE,    91,  1,      5,2,20100629,1953, 59.8230, -42.3990,  294,    150.7,   5.2730,  34.7060,2,  34.6990,3,    302.4,2,    302.6,2,     5.61,2,    10.24,2,     0.75,2,   -999.0,9,   7.7910,2,    25.00
  35TH20100608, OVIDE,    91,  1,      6,2,20100629,1953, 59.8230, -42.3990,  294,    100.3,   5.0980,  34.5660,2,  34.5680,2,    308.1,2,    308.1,2,     5.05,2,     8.68,2,     0.72,2,   -999.0,9,   7.8060,2,    25.00
  35TH20100608, OVIDE,    91,  1,      7,2,20100629,1953, 59.8230, -42.3990,  294,     53.7,   0.6110,  33.4340,2,  33.4400,3,    341.2,2,    337.0,2,     3.13,2,     5.96,2,     0.54,2,   -999.0,9,   7.7700,2,    25.00
  35TH20100608, OVIDE,    91,  1,      8,2,20100629,1953, 59.8230, -42.3990,  294,      3.2,   1.5210,  33.0610,2,  33.0690,3,    351.5,2,    353.4,2,     1.76,2,     3.41,2,     0.38,2,   -999.0,9,   7.8150,2,    25.00
  35TH20100608, OVIDE,    92,  1,      3,2,20100629,2055, 59.8310, -42.5200,  218,    219.1,   5.2690,  34.7990,2,  34.7980,2,    294.5,2,    295.2,2,     6.21,2,    11.23,2,     0.80,2,   -999.0,9,   7.7790,2,    25.00
  35TH20100608, OVIDE,    92,  1,      4,2,20100629,2055, 59.8310, -42.5200,  218,    150.3,   4.3930,  34.4560,2,  34.4590,2,    310.2,2,    310.5,2,     5.07,2,     8.94,2,     0.68,2,   -999.0,9,   7.7900,2,    25.00
  35TH20100608, OVIDE,    92,  1,      5,2,20100629,2055, 59.8310, -42.5200,  218,     99.8,   2.5720,  33.9440,2,  33.9440,2,    328.6,2,    324.8,2,     3.98,2,     7.45,2,     0.61,2,   -999.0,9,   7.7820,2,    25.00
  35TH20100608, OVIDE,    92,  1,      6,2,20100629,2055, 59.8310, -42.5200,  218,     52.7,   0.7840,  33.1840,2,  33.1880,2,    349.4,2,    345.9,2,     2.03,2,     4.44,2,     0.43,2,   -999.0,9,   7.7960,2,    25.00
  35TH20100608, OVIDE,    92,  1,      7,2,20100629,2055, 59.8310, -42.5200,  218,      2.8,   1.0910,  32.7830,2,  32.7830,2,    361.0,2,    362.0,2,     1.04,2,     2.07,2,     0.32,2,   -999.0,9,   7.8360,2,    25.00
  35TH20100608, OVIDE,    93,  1,      3,2,20100629,2333, 59.9130, -43.0740,  156,    155.5,   4.0450,  34.5320,2,  34.5260,3,    306.9,2,    305.7,2,     5.99,2,    10.66,2,     0.74,2,   2285.4,2,   7.7690,2,    25.00
  35TH20100608, OVIDE,    93,  1,      4,2,20100629,2333, 59.9130, -43.0740,  156,    100.8,   2.5280,  33.5100,2,  33.5080,2,    339.5,2,    338.5,2,     2.31,2,     4.68,2,     0.40,2,   2235.5,2,   7.8110,2,    25.00
  35TH20100608, OVIDE,    93,  1,      5,2,20100629,2333, 59.9130, -43.0740,  156,     46.6,   0.7140,  32.6530,2,  32.6550,2,    370.3,2,    366.8,2,     0.96,2,     1.60,2,     0.26,2,   2189.9,2,   7.8550,2,    25.00
  35TH20100608, OVIDE,    93,  1,      7,2,20100629,2333, 59.9130, -43.0740,  156,      7.8,   0.4840,  31.1610,2,-999.0000,9,    393.9,2,   -999.0,9,     0.45,2,     0.12,2,     0.09,2,   2099.7,2,   7.9190,2,    25.00
  35TH20100608, OVIDE,    94,  1,      3,2,20100630,0021, 59.9050, -43.0040,  158,    158.9,   4.3090,  34.5970,2,  34.5980,2,    301.0,2,    302.2,2,     6.25,2,    10.82,2,     0.71,2,   -999.0,9,-999.0000,9,    25.00
  35TH20100608, OVIDE,    94,  1,      4,2,20100630,0021, 59.9050, -43.0040,  158,    100.4,   2.2520,  33.6890,2,  33.7150,3,    333.1,2,    332.1,2,     3.02,2,     5.96,2,     0.45,2,   -999.0,9,-999.0000,9,    25.00
  35TH20100608, OVIDE,    94,  1,      5,2,20100630,0021, 59.9050, -43.0040,  158,     48.7,   0.3050,  32.8290,2,  32.8410,3,    361.3,2,    359.1,2,     1.07,2,     2.83,2,     0.32,2,   -999.0,9,-999.0000,9,    25.00
  35TH20100608, OVIDE,    94,  1,      6,2,20100630,0021, 59.9050, -43.0040,  158,      5.6,   0.2690,  31.3720,2,  31.2620,3,    393.9,2,    391.1,2,     0.24,2,     0.13,2,     0.10,2,   -999.0,9,-999.0000,9,    25.00
  35TH20100608, OVIDE,    95,  1,      3,2,20100630,0116, 59.8910, -42.9060,  170,    170.5,   4.5500,  34.6480,2,  34.6480,2,    299.8,2,    300.7,2,     6.35,2,    10.74,2,     0.78,2,   -999.0,9,   7.7730,2,    25.00
  35TH20100608, OVIDE,    95,  1,      4,2,20100630,0116, 59.8910, -42.9060,  170,     99.8,   2.0280,  33.8480,2,  33.8720,3,    331.3,2,    323.9,3,     4.38,2,     7.76,2,     0.62,2,   -999.0,9,   7.7710,2,    25.00
  35TH20100608, OVIDE,    95,  1,      5,2,20100630,0116, 59.8910, -42.9060,  170,     50.0,   1.8430,  33.4490,2,  33.4600,3,    347.6,2,    340.3,3,     0.66,2,     0.36,2,     0.17,2,   -999.0,9,   7.8080,2,    25.00
  35TH20100608, OVIDE,    95,  1,      6,2,20100630,0116, 59.8910, -42.9060,  170,      6.6,   0.6960,  31.9840,2,  32.0030,3,    377.5,2,    383.5,3,     0.62,2,     0.36,2,     0.15,2,   -999.0,9,   7.8920,2,    25.00
  35TH20100608, OVIDE,    96,  1,      3,2,20100630,0213, 59.8770, -42.7960,  172,    172.6,   5.2270,  34.7920,2,  34.7910,2,    293.3,2,    293.8,2,     6.56,2,    11.25,2,     0.77,2,   -999.0,9,-999.0000,9,    25.00
  35TH20100608, OVIDE,    96,  1,      4,2,20100630,0213, 59.8770, -42.7960,  172,    148.5,   4.2500,  34.5440,2,  34.5830,3,    306.5,2,    303.1,2,     6.01,2,    10.10,2,     0.75,2,   -999.0,9,-999.0000,9,    25.00
  35TH20100608, OVIDE,    96,  1,      5,2,20100630,0213, 59.8770, -42.7960,  172,     99.1,   1.3480,  33.4990,2,  33.5290,3,    335.3,2,    337.2,2,     3.22,2,     5.88,2,     0.51,2,   -999.0,9,-999.0000,9,    25.00
  35TH20100608, OVIDE,    96,  1,      6,2,20100630,0213, 59.8770, -42.7960,  172,     48.8,   0.8320,  33.1270,2,  33.1260,2,    352.2,2,    349.3,2,     2.03,2,     3.87,2,     0.41,2,   -999.0,9,-999.0000,9,    25.00
  35TH20100608, OVIDE,    96,  1,      7,2,20100630,0213, 59.8770, -42.7960,  172,      4.1,   1.7460,  32.8890,2,  32.8940,2,    357.3,2,    355.2,2,     1.33,2,     2.12,2,     0.30,2,   -999.0,9,-999.0000,9,    25.00
  35TH20100608, OVIDE,    97,  1,      3,2,20100630,0305, 59.8600, -42.7020,  175,    175.2,   5.1730,  34.7800,2,  34.7800,2,    293.4,2,    293.6,2,     6.47,2,    11.33,2,     0.79,2,   2299.7,2,   7.7770,2,    25.00
  35TH20100608, OVIDE,    97,  1,      4,2,20100630,0305, 59.8600, -42.7020,  175,     99.3,   1.7840,  33.5470,2,  33.5410,3,    341.0,2,    307.4,3,     3.02,2,     5.71,2,     0.48,2,   2248.5,2,   7.7890,2,    25.00
  35TH20100608, OVIDE,    97,  1,      5,2,20100630,0305, 59.8600, -42.7020,  175,     48.9,   0.6720,  33.0940,2,  33.0890,2,    354.0,2,    336.4,3,     1.83,2,     4.08,2,     0.39,2,   2217.9,2,   7.7920,2,    25.00
  35TH20100608, OVIDE,    97,  1,      6,2,20100630,0305, 59.8600, -42.7020,  175,      4.1,   0.7780,  32.4650,2,  32.4690,2,    372.1,2,    352.6,3,     0.71,2,     1.02,2,     0.22,2,   2182.9,2,   7.8630,2,    25.00
  35TH20100608, OVIDE,    98,  1,      3,2,20100630,0358, 59.8460, -42.6130,  187,    186.8,   5.0410,  34.7540,2,  34.7570,2,    293.8,2,    293.6,2,     6.39,2,    11.30,2,     0.74,2,   -999.0,9,-999.0000,9,    25.00
  35TH20100608, OVIDE,    98,  1,      4,2,20100630,0358, 59.8460, -42.6130,  187,    149.2,   4.5420,  34.6060,2,  34.5990,3,    304.3,2,    307.2,2,     5.61,2,    10.01,2,     0.71,2,   -999.0,9,-999.0000,9,    25.00
  35TH20100608, OVIDE,    98,  1,      5,2,20100630,0358, 59.8460, -42.6130,  187,     98.7,   1.3850,  33.6550,2,  33.6070,3,    336.7,2,    336.3,2,     3.46,2,     6.47,2,     0.53,2,   -999.0,9,-999.0000,9,    25.00
  35TH20100608, OVIDE,    98,  1,      6,2,20100630,0358, 59.8460, -42.6130,  187,     49.3,   0.1170,  33.0100,2,  33.0480,3,    354.6,2,    352.4,2,     1.73,2,     4.52,2,     0.42,2,   -999.0,9,-999.0000,9,    25.00
  35TH20100608, OVIDE,    98,  1,      7,2,20100630,0358, 59.8460, -42.6130,  187,      4.7,   0.1970,  32.4290,2,  32.4300,2,    379.2,2,    376.0,2,     0.60,2,     0.82,2,     0.21,2,   -999.0,9,-999.0000,9,    25.00