BOTTLE,20140929PRINUNIVRMK
EXPOCODE,SECT_ID,STNNBR,CASTNO,BTLNBR,BTLNBR_FLAG_W,DATE,TIME,LATITUDE,LONGITUDE,DEPTH,CTDPRS,CTDTMP,CTDSAL,CTDSAL_FLAG_W,SALNTY,SALNTY_FLAG_W,CTDOXY,CTDOXY_FLAG_W,OXYGEN,OXYGEN_FLAG_W,SILCAT,SILCAT_FLAG_W,NITRAT,NITRAT_FLAG_W,PHSPHT,PHSPHT_FLAG_W,ALKALI,ALKALI_FLAG_W,PH_SWS,PH_SWS_FLAG_W,PH_TMP
,,,,,,,,,,METERS,DBAR,ITS-90,PSS-78,,PSS-78,,UMOL/KG,,UMOL/KG,,UMOL/KG,,UMOL/KG,,UMOL/KG,,UMOL/KG,,,,DEG C
  35TH20100608, OVIDE,    33,  1,      3,2,20100618,0015, 46.5440, -19.6720, 4510,   4593.0,   2.5960,  34.9080,2,  34.9100,2,    240.9,2,    240.2,2,    45.91,2,    22.88,2,     1.30,2,   2353.2,2,   7.7300,2,    25.00
  35TH20100608, OVIDE,    33,  1,      4,2,20100618,0015, 46.5440, -19.6720, 4510,   3998.3,   2.5830,  34.9140,2,  34.9140,2,    242.9,2,    242.7,2,    43.95,2,    21.15,2,     1.19,2,   2348.2,2,   7.7280,2,    25.00
  35TH20100608, OVIDE,    33,  1,      5,2,20100618,0015, 46.5440, -19.6720, 4510,   3748.9,   2.6220,  34.9210,2,  34.9220,2,    245.5,2,    244.6,2,    41.22,2,    22.15,2,     1.30,2,   2347.3,2,   7.7280,2,    25.00
  35TH20100608, OVIDE,    33,  1,      6,2,20100618,0015, 46.5440, -19.6720, 4510,   3498.4,   2.6960,  34.9290,2,  34.9280,2,    250.0,2,    249.4,2,    36.81,2,    21.13,2,     1.24,2,   2339.9,2,   7.7290,2,    25.00
  35TH20100608, OVIDE,    33,  1,      7,2,20100618,0015, 46.5440, -19.6720, 4510,   3250.0,   2.8110,  34.9380,2,  34.9390,2,    255.9,2,    255.0,2,    31.06,2,    19.39,2,     1.12,2,   -999.0,9,   7.7290,2,    25.00
  35TH20100608, OVIDE,    33,  1,      8,2,20100618,0015, 46.5440, -19.6720, 4510,   2999.3,   2.9350,  34.9430,2,  34.9440,2,    260.3,2,    258.0,2,    27.15,2,    19.00,2,     1.05,2,   2326.8,2,   7.7290,2,    25.00
  35TH20100608, OVIDE,    33,  1,      9,2,20100618,0015, 46.5440, -19.6720, 4510,   2748.8,   3.0820,  34.9390,2,  34.9400,2,    267.8,2,    266.1,2,    21.17,2,    18.60,2,     1.04,2,   2316.7,2,   7.7320,2,    25.00
  35TH20100608, OVIDE,    33,  1,     10,2,20100618,0015, 46.5440, -19.6720, 4510,   2399.7,   3.2510,  34.9150,2,  34.9190,2,    277.4,2,    274.5,2,    13.62,2,    16.84,2,     0.88,2,   2305.2,2,   7.7250,2,    25.00
  35TH20100608, OVIDE,    33,  1,     11,2,20100618,0015, 46.5440, -19.6720, 4510,   2250.8,   3.3140,  34.9050,2,  34.9070,2,    279.1,2,    276.2,2,    12.50,2,    18.02,2,     0.99,2,   -999.0,9,   7.7240,2,    25.00
  35TH20100608, OVIDE,    33,  1,     12,2,20100618,0015, 46.5440, -19.6720, 4510,   1999.6,   3.5230,  34.9080,2,  34.9100,2,    276.5,2,    274.6,2,    11.78,2,    17.87,2,     1.03,2,   2302.7,2,   7.7200,2,    25.00
  35TH20100608, OVIDE,    33,  1,     13,2,20100618,0015, 46.5440, -19.6720, 4510,   1799.7,   3.6970,  34.9140,2,  34.9140,2,    274.3,2,    273.1,2,    11.28,2,    17.66,2,     1.04,2,   2303.1,2,   7.7190,2,    25.00
  35TH20100608, OVIDE,    33,  1,     14,2,20100618,0015, 46.5440, -19.6720, 4510,   1598.0,   4.0440,  34.9490,2,  34.9510,2,    267.5,2,    266.6,2,    11.06,2,    17.49,2,     0.97,2,   2307.5,2,   7.7150,2,    25.00
  35TH20100608, OVIDE,    33,  1,     15,2,20100618,0015, 46.5440, -19.6720, 4510,   1399.3,   4.5910,  35.0050,2,  35.0040,2,    258.2,2,    257.5,2,    10.91,2,    17.24,2,     0.98,2,   2310.7,2,   7.7130,2,    25.00
  35TH20100608, OVIDE,    33,  1,     16,2,20100618,0015, 46.5440, -19.6720, 4510,   1199.6,   5.7860,  35.1560,2,  35.1590,2,    234.5,2,    236.8,2,    10.98,2,    18.53,2,     1.04,2,   2321.8,2,   7.7190,2,    25.00
  35TH20100608, OVIDE,    33,  1,     17,2,20100618,0015, 46.5440, -19.6720, 4510,   1098.4,   6.4270,  35.2130,2,  35.2230,3,    222.2,2,    226.7,2,    10.88,2,    19.08,2,     1.05,2,   2325.4,2,   7.7190,2,    25.00
  35TH20100608, OVIDE,    33,  1,     18,2,20100618,0015, 46.5440, -19.6720, 4510,    949.2,   9.3680,  35.6980,2,  35.6760,3,    184.2,2,    193.4,3,    10.19,2,    18.36,2,     0.99,2,   2355.4,2,   7.7560,2,    25.00
  35TH20100608, OVIDE,    33,  1,     19,2,20100618,0015, 46.5440, -19.6720, 4510,    799.8,   9.5180,  35.5290,2,  35.5330,2,    185.6,2,    189.2,2,     9.67,2,    18.78,2,     1.01,2,   2342.6,2,   7.7450,2,    25.00
  35TH20100608, OVIDE,    33,  1,     20,2,20100618,0015, 46.5440, -19.6720, 4510,    700.3,  10.2670,  35.5610,2,  35.5620,2,    186.8,2,    191.6,2,     8.63,2,    17.36,2,     0.94,2,   2342.1,2,   7.7590,2,    25.00
  35TH20100608, OVIDE,    33,  1,     21,2,20100618,0015, 46.5440, -19.6720, 4510,    598.9,  10.2780,  35.4090,2,  35.4050,2,    199.6,2,    203.2,2,     7.74,2,    16.67,2,     0.92,2,   2331.8,2,   7.7620,2,    25.00
  35TH20100608, OVIDE,    33,  1,     22,2,20100618,0015, 46.5440, -19.6720, 4510,    500.0,  11.1790,  35.5230,2,  35.5230,2,    219.4,2,    218.1,2,     5.39,2,    13.54,2,     0.71,2,   2335.6,2,   7.8020,2,    25.00
  35TH20100608, OVIDE,    33,  1,     23,2,20100618,0015, 46.5440, -19.6720, 4510,    399.1,  11.8200,  35.6190,2,  35.6180,2,    229.5,2,    231.0,2,     4.17,2,    11.16,2,     0.58,2,   2341.9,2,   7.8330,2,    25.00
  35TH20100608, OVIDE,    33,  1,     24,2,20100618,0015, 46.5440, -19.6720, 4510,    298.8,  12.0330,  35.6410,2,  35.6440,2,    249.3,2,    246.8,2,     3.68,2,     9.54,2,     0.48,2,   2343.3,2,   7.8580,2,    25.00
  35TH20100608, OVIDE,    33,  1,     25,2,20100618,0015, 46.5440, -19.6720, 4510,    198.7,  12.4620,  35.7220,2,  35.7220,2,    248.4,2,    247.5,2,     3.20,2,     8.50,2,     0.43,2,   2348.6,2,   7.8660,2,    25.00
  35TH20100608, OVIDE,    33,  1,     26,2,20100618,0015, 46.5440, -19.6720, 4510,    148.8,  12.6440,  35.7440,2,  35.7500,3,    247.9,2,    247.3,2,     3.01,2,     8.03,2,     0.41,2,   -999.0,9,   7.8810,2,    25.00
  35TH20100608, OVIDE,    33,  1,     27,2,20100618,0015, 46.5440, -19.6720, 4510,    100.2,  12.8170,  35.7570,2,  35.7570,2,    245.8,2,    244.8,2,     2.99,2,     8.31,2,     0.42,2,   2350.5,2,   7.8740,2,    25.00
  35TH20100608, OVIDE,    33,  1,     28,2,20100618,0015, 46.5440, -19.6720, 4510,     51.3,  13.8690,  35.7310,2,  35.7350,2,    255.2,2,    260.2,2,     1.36,2,     3.58,2,     0.23,2,   -999.0,9,   7.9320,2,    25.00
  35TH20100608, OVIDE,    33,  1,     29,2,20100618,0015, 46.5440, -19.6720, 4510,      3.2,  18.0730,  35.8120,2,  35.8050,3,    253.6,2,    250.4,2,     0.53,2,     0.02,2,     0.04,2,   2356.6,2,   7.9920,2,    25.00
  35TH20100608, OVIDE,    34,  1,      3,2,20100618,0559, 46.9160, -19.9700, 4491,   4574.2,   2.5970,  34.9100,2,  34.9100,2,    240.5,2,    242.2,2,    45.52,2,    22.69,2,     1.37,2,   -999.0,9,   7.7290,2,    25.00
  35TH20100608, OVIDE,    34,  1,      4,2,20100618,0559, 46.9160, -19.9700, 4491,   4247.1,   2.5660,  34.9100,2,  34.9100,2,    240.9,2,    240.8,2,    45.29,2,    22.56,2,     1.37,2,   -999.0,9,   7.7270,2,    25.00
  35TH20100608, OVIDE,    34,  1,      5,2,20100618,0559, 46.9160, -19.9700, 4491,   3998.7,   2.5570,  34.9120,2,  34.9130,2,    241.8,2,    244.2,2,    44.70,2,    22.52,2,     1.37,2,   -999.0,9,   7.7280,2,    25.00
  35TH20100608, OVIDE,    34,  1,      6,2,20100618,0559, 46.9160, -19.9700, 4491,   3747.6,   2.5650,  34.9160,2,  34.9170,2,    243.2,2,    244.2,2,    43.23,2,    22.18,2,     1.34,2,   -999.0,9,   7.7280,2,    25.00
  35TH20100608, OVIDE,    34,  1,      7,2,20100618,0559, 46.9160, -19.9700, 4491,   3499.6,   2.6090,  34.9210,2,  34.9230,2,    246.5,2,    246.7,2,    40.26,2,    21.58,2,     1.31,2,   -999.0,9,   7.7260,2,    25.00
  35TH20100608, OVIDE,    34,  1,      8,2,20100618,0559, 46.9160, -19.9700, 4491,   3249.3,   2.6980,  34.9320,2,  34.9330,2,    251.1,2,    252.0,2,    35.27,2,    20.48,2,     1.24,2,   -999.0,9,   7.7280,2,    25.00
  35TH20100608, OVIDE,    34,  1,      9,2,20100618,0559, 46.9160, -19.9700, 4491,   2997.8,   2.8430,  34.9410,2,  34.9430,2,    257.4,2,    257.2,2,    28.89,2,    19.22,2,     1.18,2,   -999.0,9,   7.7280,2,    25.00
  35TH20100608, OVIDE,    34,  1,     10,2,20100618,0559, 46.9160, -19.9700, 4491,   2748.7,   2.9820,  34.9440,2,  34.9450,2,    263.5,2,    262.8,2,    18.73,2,    18.31,2,     1.10,2,   -999.0,9,   7.7270,2,    25.00
  35TH20100608, OVIDE,    34,  1,     11,2,20100618,0559, 46.9160, -19.9700, 4491,   2499.2,   3.1200,  34.9340,2,  34.9440,3,    271.5,2,    270.4,2,    17.06,2,    18.23,2,     1.09,2,   -999.0,9,   7.7270,2,    25.00
  35TH20100608, OVIDE,    34,  1,     12,2,20100618,0559, 46.9160, -19.9700, 4491,   2248.7,   3.2890,  34.9230,2,  34.9240,2,    275.5,2,    274.8,2,    13.99,2,    17.95,2,     1.04,2,   -999.0,9,   7.7250,2,    25.00
  35TH20100608, OVIDE,    34,  1,     13,2,20100618,0559, 46.9160, -19.9700, 4491,   2000.7,   3.3720,  34.9060,2,  34.9070,2,    278.1,2,    277.5,2,    11.96,2,    17.84,2,     1.04,2,   -999.0,9,   7.7210,2,    25.00
  35TH20100608, OVIDE,    34,  1,     14,2,20100618,0559, 46.9160, -19.9700, 4491,   1799.1,   3.6570,  34.9370,2,  34.9350,2,    272.8,2,    272.2,2,    12.01,2,    17.83,2,     1.05,2,   -999.0,9,   7.7190,2,    25.00
  35TH20100608, OVIDE,    34,  1,     15,2,20100618,0559, 46.9160, -19.9700, 4491,   1598.9,   4.1140,  34.9800,2,  34.9830,2,    264.8,2,    266.6,2,    11.66,2,    17.82,2,     1.04,2,   -999.0,9,   7.7200,2,    25.00
  35TH20100608, OVIDE,    34,  1,     16,2,20100618,0559, 46.9160, -19.9700, 4491,   1400.5,   4.8190,  35.0760,2,  35.0870,3,    253.5,2,    253.6,2,    11.35,2,    18.50,2,     1.06,2,   -999.0,9,   7.7210,2,    25.00
  35TH20100608, OVIDE,    34,  1,     17,2,20100618,0559, 46.9160, -19.9700, 4491,   1200.6,   5.7850,  35.1970,2,  35.1880,3,    242.3,2,    240.1,2,    10.99,2,    18.37,2,     1.05,2,   -999.0,9,   7.7210,2,    25.00
  35TH20100608, OVIDE,    34,  1,     18,2,20100618,0559, 46.9160, -19.9700, 4491,    997.2,   5.9640,  35.1340,2,  35.1400,3,    230.9,2,    233.1,2,    10.70,2,    18.34,2,     1.00,2,   -999.0,9,   7.7130,2,    25.00
  35TH20100608, OVIDE,    34,  1,     19,2,20100618,0559, 46.9160, -19.9700, 4491,    800.8,   7.4430,  35.2050,2,  35.2080,2,    212.0,2,    207.0,2,    10.72,2,    19.50,2,     1.09,2,   -999.0,9,   7.7140,2,    25.00
  35TH20100608, OVIDE,    34,  1,     20,2,20100618,0559, 46.9160, -19.9700, 4491,    701.4,   8.2990,  35.2460,2,  35.2430,2,    191.8,2,    196.7,2,    10.45,2,    19.37,2,     1.10,2,   -999.0,9,   7.7180,2,    25.00
  35TH20100608, OVIDE,    34,  1,     21,2,20100618,0559, 46.9160, -19.9700, 4491,    599.8,   9.2850,  35.2930,2,  35.2920,2,    189.5,2,    191.9,2,     9.43,2,    19.21,2,     1.06,2,   -999.0,9,   7.7320,2,    25.00
  35TH20100608, OVIDE,    34,  1,     22,2,20100618,0559, 46.9160, -19.9700, 4491,    499.7,  10.0520,  35.3160,2,  35.3160,2,    210.7,2,    198.7,3,     8.09,2,    17.51,2,     0.92,2,   -999.0,9,   7.7540,2,    25.00
  35TH20100608, OVIDE,    34,  1,     23,2,20100618,0559, 46.9160, -19.9700, 4491,    400.5,  11.1320,  35.4800,2,  35.4660,3,    238.7,2,    233.9,2,     4.99,2,    12.60,2,     0.68,2,   -999.0,9,   7.8170,2,    25.00
  35TH20100608, OVIDE,    34,  1,     24,2,20100618,0559, 46.9160, -19.9700, 4491,    299.7,  11.9110,  35.6380,2,  35.6280,3,    246.1,2,    243.6,2,     3.73,2,     9.90,2,     0.52,2,   -999.0,9,   7.8490,2,    25.00
  35TH20100608, OVIDE,    34,  1,     25,2,20100618,0559, 46.9160, -19.9700, 4491,    200.2,  12.3260,  35.7020,2,  35.7000,2,    245.5,2,    245.2,2,     3.30,2,     9.17,2,     0.48,2,   -999.0,9,   7.8620,2,    25.00
  35TH20100608, OVIDE,    34,  1,     26,2,20100618,0559, 46.9160, -19.9700, 4491,    150.2,  12.3930,  35.6910,2,  35.6930,2,    249.0,2,    245.6,2,     3.33,2,     9.39,2,     0.47,2,   -999.0,9,   7.8660,2,    25.00
  35TH20100608, OVIDE,    34,  1,     27,2,20100618,0559, 46.9160, -19.9700, 4491,    100.6,  12.5950,  35.6990,2,  35.6980,2,    246.5,2,    245.0,2,     3.29,2,     8.78,2,     0.46,2,   -999.0,9,   7.8670,2,    25.00
  35TH20100608, OVIDE,    34,  1,     28,2,20100618,0559, 46.9160, -19.9700, 4491,     55.8,  13.8350,  35.8190,2,  35.8130,3,    261.6,2,    257.3,2,     0.99,2,     3.81,2,     0.26,2,   -999.0,9,   7.9190,2,    25.00
  35TH20100608, OVIDE,    34,  1,     29,2,20100618,0559, 46.9160, -19.9700, 4491,      3.3,  17.9640,  35.7160,2,  35.7130,2,    253.1,2,    260.7,3,     0.58,2,     0.12,2,     0.04,2,   -999.0,9,   8.0110,2,    25.00
  35TH20100608, OVIDE,    35,  1,      3,2,20100618,1140, 47.2900, -20.2620, 4501,   4585.3,   2.5800,  34.9080,2,  34.9090,2,    240.4,2,    240.0,2,    47.11,2,    22.38,2,     1.38,2,   2355.3,2,   7.7290,2,    25.00
  35TH20100608, OVIDE,    35,  1,      4,2,20100618,1140, 47.2900, -20.2620, 4501,   4000.3,   2.5770,  34.9140,2,  34.9130,2,    242.6,2,    241.8,2,    44.53,2,    21.48,2,     1.32,2,   2351.4,2,   7.7280,2,    25.00
  35TH20100608, OVIDE,    35,  1,      5,2,20100618,1140, 47.2900, -20.2620, 4501,   3751.1,   2.5980,  34.9190,2,  34.9190,2,    244.4,2,    243.2,2,    42.45,2,    21.83,2,     1.34,2,   -999.0,9,   7.7310,2,    25.00
  35TH20100608, OVIDE,    35,  1,      6,2,20100618,1140, 47.2900, -20.2620, 4501,   3501.2,   2.6530,  34.9270,2,  34.9250,2,    248.3,2,    247.5,2,    39.06,2,    20.95,2,     1.31,2,   2341.7,2,   7.7270,2,    25.00
  35TH20100608, OVIDE,    35,  1,      7,2,20100618,1140, 47.2900, -20.2620, 4501,   3247.9,   2.7360,  34.9350,2,  34.9340,2,    253.4,2,    253.5,2,    34.33,2,    19.81,2,     1.22,2,   -999.0,9,   7.7320,2,    25.00
  35TH20100608, OVIDE,    35,  1,      8,2,20100618,1140, 47.2900, -20.2620, 4501,   2998.8,   2.8550,  34.9420,2,  34.9410,2,    259.0,2,    257.0,2,    29.26,2,    18.68,2,     1.14,2,   2327.9,2,   7.7270,2,    25.00
  35TH20100608, OVIDE,    35,  1,      9,2,20100618,1140, 47.2900, -20.2620, 4501,   2748.9,   2.9990,  34.9410,2,  34.9410,2,    266.2,2,    263.6,2,    23.74,2,    18.36,2,     1.09,2,   2320.2,2,   7.7290,2,    25.00
  35TH20100608, OVIDE,    35,  1,     10,2,20100618,1140, 47.2900, -20.2620, 4501,   2498.5,   3.1870,  34.9410,2,  34.9430,2,    267.4,2,    265.2,2,    18.14,2,    17.80,2,     1.05,2,   2316.4,2,   7.7290,2,    25.00
  35TH20100608, OVIDE,    35,  1,     11,2,20100618,1140, 47.2900, -20.2620, 4501,   2250.0,   3.2590,  34.9170,2,  34.9180,2,    276.6,2,    274.2,2,    13.56,2,    17.73,2,     1.05,2,   2307.5,2,   7.7210,2,    25.00
  35TH20100608, OVIDE,    35,  1,     12,2,20100618,1140, 47.2900, -20.2620, 4501,   1997.5,   3.4790,  34.9230,2,  34.9230,2,    274.7,2,    272.8,2,    12.79,2,    17.96,2,     1.07,2,   2306.9,2,   7.7200,2,    25.00
  35TH20100608, OVIDE,    35,  1,     13,2,20100618,1140, 47.2900, -20.2620, 4501,   1798.4,   3.6800,  34.9340,2,  34.9350,2,    271.3,2,    270.6,2,    12.15,2,    17.60,2,     1.06,2,   -999.0,9,   7.7200,2,    25.00
  35TH20100608, OVIDE,    35,  1,     14,2,20100618,1140, 47.2900, -20.2620, 4501,   1599.7,   3.9900,  34.9600,2,  34.9600,2,    266.9,2,    266.1,2,    11.61,2,    17.56,2,     1.03,2,   2308.9,2,   7.7190,2,    25.00
  35TH20100608, OVIDE,    35,  1,     15,2,20100618,1140, 47.2900, -20.2620, 4501,   1399.9,   4.6810,  35.0500,2,  35.0500,2,    254.6,2,    255.6,2,    11.35,2,    17.62,2,     1.03,2,   2316.2,2,   7.7200,2,    25.00
  35TH20100608, OVIDE,    35,  1,     16,2,20100618,1140, 47.2900, -20.2620, 4501,   1199.8,   5.7950,  35.2090,2,  35.2130,2,    234.7,2,    238.4,2,    11.15,2,    18.06,2,     1.05,2,   -999.0,9,   7.7190,2,    25.00
  35TH20100608, OVIDE,    35,  1,     17,2,20100618,1140, 47.2900, -20.2620, 4501,   1099.1,   6.5300,  35.3110,2,  35.3100,2,    227.5,2,    226.4,2,    10.95,2,    18.17,2,     1.04,2,   2332.7,2,   7.7210,2,    25.00
  35TH20100608, OVIDE,    35,  1,     18,2,20100618,1140, 47.2900, -20.2620, 4501,   1000.2,   7.0450,  35.3630,2,  35.3600,2,    216.2,2,    220.2,2,    10.80,2,    18.18,2,     1.06,2,   2335.2,2,   7.7240,2,    25.00
  35TH20100608, OVIDE,    35,  1,     19,2,20100618,1140, 47.2900, -20.2620, 4501,    897.9,   7.2930,  35.3350,2,  35.3460,3,    208.3,2,    211.5,2,    10.74,2,    18.57,2,     1.07,2,   2334.1,2,   7.7280,2,    25.00
  35TH20100608, OVIDE,    35,  1,     20,2,20100618,1140, 47.2900, -20.2620, 4501,    797.9,   7.8350,  35.3490,2,  35.3540,3,    201.8,2,    203.0,2,    10.60,2,    18.53,2,     1.07,2,   2333.1,2,   7.7270,2,    25.00
  35TH20100608, OVIDE,    35,  1,     21,2,20100618,1140, 47.2900, -20.2620, 4501,    724.2,   7.5420,  35.1670,2,  35.1610,3,    207.4,2,    203.4,2,    10.78,2,    19.38,2,     1.14,2,   2320.6,2,   7.7100,2,    25.00
  35TH20100608, OVIDE,    35,  1,     22,2,20100618,1140, 47.2900, -20.2620, 4501,    649.7,   8.9040,  35.3380,2,  35.3360,2,    190.9,2,    189.6,2,     9.98,2,    18.75,2,     1.09,2,   2329.1,2,   7.7290,2,    25.00
  35TH20100608, OVIDE,    35,  1,     23,2,20100618,1140, 47.2900, -20.2620, 4501,    549.8,   9.1340,  35.2210,2,  35.2150,3,    190.9,2,    202.7,3,     8.80,2,    17.44,2,     1.02,2,   2321.3,2,   7.7380,2,    25.00
  35TH20100608, OVIDE,    35,  1,     24,2,20100618,1140, 47.2900, -20.2620, 4501,    398.5,   9.9990,  35.2290,2,  35.2380,3,    247.6,2,    243.0,2,     5.73,2,    13.31,2,     0.72,2,   2320.6,2,   7.8040,2,    25.00
  35TH20100608, OVIDE,    35,  1,     25,2,20100618,1140, 47.2900, -20.2620, 4501,    298.8,  10.9710,  35.4150,2,  35.4140,2,    245.5,2,    251.8,2,     4.73,2,    11.48,2,     0.61,2,   2331.4,2,   7.8340,2,    25.00
  35TH20100608, OVIDE,    35,  1,     26,2,20100618,1140, 47.2900, -20.2620, 4501,    199.0,  11.3610,  35.4820,2,  35.4830,2,    249.8,2,    248.5,2,     4.53,2,    11.21,2,     0.58,2,   2335.2,2,   7.8580,2,    25.00
  35TH20100608, OVIDE,    35,  1,     27,2,20100618,1140, 47.2900, -20.2620, 4501,    100.0,  11.9410,  35.5720,2,  35.5740,2,    250.2,2,    247.7,2,     3.98,2,    10.49,2,     0.55,2,   2339.6,2,   7.8670,2,    25.00
  35TH20100608, OVIDE,    35,  1,     28,2,20100618,1140, 47.2900, -20.2620, 4501,     49.3,  13.3390,  35.5140,2,  35.5530,3,    257.8,2,    260.9,2,     1.10,2,     5.01,2,     0.32,2,   2341.1,2,   7.9250,2,    25.00
  35TH20100608, OVIDE,    35,  1,     29,2,20100618,1140, 47.2900, -20.2620, 4501,      3.3,  17.5020,  35.5360,2,  35.5220,3,    284.7,2,    266.1,3,     0.74,2,     0.15,2,     0.04,2,   2342.5,2,   8.0150,2,    25.00