BOTTLE,20140929PRINUNIVRMK
EXPOCODE,SECT_ID,STNNBR,CASTNO,BTLNBR,BTLNBR_FLAG_W,DATE,TIME,LATITUDE,LONGITUDE,DEPTH,CTDPRS,CTDTMP,CTDSAL,CTDSAL_FLAG_W,SALNTY,SALNTY_FLAG_W,CTDOXY,CTDOXY_FLAG_W,OXYGEN,OXYGEN_FLAG_W,SILCAT,SILCAT_FLAG_W,NITRAT,NITRAT_FLAG_W,PHSPHT,PHSPHT_FLAG_W,ALKALI,ALKALI_FLAG_W,PH_SWS,PH_SWS_FLAG_W,PH_TMP
,,,,,,,,,,METERS,DBAR,ITS-90,PSS-78,,PSS-78,,UMOL/KG,,UMOL/KG,,UMOL/KG,,UMOL/KG,,UMOL/KG,,UMOL/KG,,,,DEG C
  35TH20100608, OVIDE,    45,  1,      3,2,20100620,2343, 51.0300, -23.1910, 3922,   3988.5,   2.6660,  34.9220,2,  34.9220,2,    246.7,2,    246.4,2,    40.14,2,    21.30,2,     1.32,2,   2344.8,2,   7.7280,2,    25.00
  35TH20100608, OVIDE,    45,  1,      4,2,20100620,2343, 51.0300, -23.1910, 3922,   3750.4,   2.6930,  34.9280,2,  34.9290,2,    250.5,2,    250.7,2,    36.47,2,    20.79,2,     1.27,2,   2339.9,2,   7.7270,2,    25.00
  35TH20100608, OVIDE,    45,  1,      5,2,20100620,2343, 51.0300, -23.1910, 3922,   3502.8,   2.7720,  34.9370,2,  34.9380,2,    257.1,2,    256.1,2,    31.02,2,    19.63,2,     1.19,2,   2333.0,2,   7.7260,2,    25.00
  35TH20100608, OVIDE,    45,  1,      6,2,20100620,2343, 51.0300, -23.1910, 3922,   3247.4,   2.8860,  34.9440,2,  34.9430,2,    265.1,2,    265.6,2,    24.68,2,    18.50,2,     1.13,2,   2323.7,2,   7.7250,2,    25.00
  35TH20100608, OVIDE,    45,  1,      7,2,20100620,2343, 51.0300, -23.1910, 3922,   2998.6,   3.0040,  34.9420,2,  34.9410,2,    271.8,2,    270.3,2,    17.59,2,    17.74,2,     1.08,2,   2316.0,2,   7.7310,2,    25.00
  35TH20100608, OVIDE,    45,  1,      8,2,20100620,2343, 51.0300, -23.1910, 3922,   3001.7,   3.0060,  34.9430,2,  34.9410,2,    271.7,2,    270.3,2,    17.38,2,    17.58,2,     1.07,2,   -999.0,9,-999.0000,9,    25.00
  35TH20100608, OVIDE,    45,  1,      9,2,20100620,2343, 51.0300, -23.1910, 3922,   2749.2,   3.1180,  34.9290,2,  34.9310,2,    276.7,2,    275.5,2,    14.20,2,    16.93,2,     1.01,2,   2309.9,2,   7.7260,2,    25.00
  35TH20100608, OVIDE,    45,  1,     10,2,20100620,2343, 51.0300, -23.1910, 3922,   2499.1,   3.2200,  34.9140,2,  34.9150,2,    278.6,2,    277.3,2,    13.42,2,    17.25,2,     1.03,2,   2308.6,2,   7.7280,2,    25.00
  35TH20100608, OVIDE,    45,  1,     11,2,20100620,2343, 51.0300, -23.1910, 3922,   2249.5,   3.3560,  34.9070,2,  34.9080,2,    279.0,2,    278.4,2,    12.36,2,    17.43,2,     1.07,2,   -999.0,9,   7.7240,2,    25.00
  35TH20100608, OVIDE,    45,  1,     12,2,20100620,2343, 51.0300, -23.1910, 3922,   1998.0,   3.5360,  34.9080,2,  34.9100,2,    276.6,2,    276.3,2,    11.80,2,    17.29,2,     1.06,2,   2307.1,2,   7.7200,2,    25.00
  35TH20100608, OVIDE,    45,  1,     13,2,20100620,2343, 51.0300, -23.1910, 3922,   1797.1,   3.6910,  34.9120,2,  34.9120,2,    274.9,2,    275.5,2,    11.34,2,    17.59,2,     1.06,2,   2305.3,2,   7.7160,2,    25.00
  35TH20100608, OVIDE,    45,  1,     14,2,20100620,2343, 51.0300, -23.1910, 3922,   1600.9,   3.8570,  34.9160,2,  34.9050,3,    273.6,2,    274.0,2,    10.85,2,    17.63,2,     1.04,2,   2305.7,2,   7.7150,2,    25.00
  35TH20100608, OVIDE,    45,  1,     15,2,20100620,2343, 51.0300, -23.1910, 3922,   1400.5,   4.0590,  34.9240,2,  34.9240,2,    269.3,2,    271.4,2,    10.55,2,    17.28,2,     1.03,2,   2307.5,2,   7.7120,2,    25.00
  35TH20100608, OVIDE,    45,  1,     16,2,20100620,2343, 51.0300, -23.1910, 3922,   1198.8,   4.5390,  34.9640,2,  34.9640,2,    260.6,2,    261.8,2,    10.78,2,    17.91,2,     1.07,2,   2309.3,2,   7.7060,2,    25.00
  35TH20100608, OVIDE,    45,  1,     17,2,20100620,2343, 51.0300, -23.1910, 3922,    999.8,   5.9220,  35.1230,2,  35.1230,2,    232.6,2,    236.3,2,    11.06,2,    18.50,2,     1.08,2,   2319.5,2,   7.7110,2,    25.00
  35TH20100608, OVIDE,    45,  1,     18,2,20100620,2343, 51.0300, -23.1910, 3922,    898.2,   6.5820,  35.1520,2,  35.1520,2,    219.5,2,    220.7,2,    11.09,2,    18.88,2,     1.11,2,   2321.7,2,   7.7100,2,    25.00
  35TH20100608, OVIDE,    45,  1,     19,2,20100620,2343, 51.0300, -23.1910, 3922,    801.4,   7.1200,  35.1290,2,  35.1280,2,    207.3,2,    215.2,3,    10.85,2,    19.08,2,     1.12,2,   2320.5,2,   7.7090,2,    25.00
  35TH20100608, OVIDE,    45,  1,     20,2,20100620,2343, 51.0300, -23.1910, 3922,    700.1,   8.3550,  35.2110,2,  35.2120,2,    196.5,2,    201.0,2,    10.26,2,    18.97,2,     1.12,2,   2325.4,2,   7.7190,2,    25.00
  35TH20100608, OVIDE,    45,  1,     21,2,20100620,2343, 51.0300, -23.1910, 3922,    650.2,   8.7580,  35.2070,2,  35.2070,2,    197.2,2,    201.9,2,     9.73,2,    18.46,2,     1.08,2,   2323.0,2,   7.7250,2,    25.00
  35TH20100608, OVIDE,    45,  1,     22,2,20100620,2343, 51.0300, -23.1910, 3922,    599.1,   9.4580,  35.2750,2,  35.2740,2,    210.5,2,    208.5,2,     8.54,2,    16.82,2,     0.98,2,   2324.6,2,   7.7480,2,    25.00
  35TH20100608, OVIDE,    45,  1,     23,2,20100620,2343, 51.0300, -23.1910, 3922,    499.2,  10.3790,  35.3640,2,  35.3640,2,    249.8,2,    244.7,2,     5.56,2,    11.92,2,     0.67,2,   2327.9,2,   7.8100,2,    25.00
  35TH20100608, OVIDE,    45,  1,     24,2,20100620,2343, 51.0300, -23.1910, 3922,    399.6,  10.9950,  35.4840,2,  35.4840,2,    258.6,2,    257.6,2,     4.48,2,    10.25,2,     0.56,2,   2338.7,2,   7.8370,2,    25.00
  35TH20100608, OVIDE,    45,  1,     25,2,20100620,2343, 51.0300, -23.1910, 3922,    299.6,  10.9980,  35.4870,2,  35.4870,2,    258.8,2,    257.2,2,     4.43,2,    10.31,2,     0.57,2,   2337.2,2,   7.8410,2,    25.00
  35TH20100608, OVIDE,    45,  1,     26,2,20100620,2343, 51.0300, -23.1910, 3922,    199.3,  11.0070,  35.4840,2,  35.4830,2,    258.5,2,    256.4,2,     4.42,2,    10.40,2,     0.57,2,   2337.0,2,   7.8390,2,    25.00
  35TH20100608, OVIDE,    45,  1,     27,2,20100620,2343, 51.0300, -23.1910, 3922,     99.5,  11.1350,  35.4350,2,  35.4380,2,    250.7,2,    251.6,2,     4.78,2,    10.73,2,     0.60,2,   2335.3,2,   7.8430,2,    25.00
  35TH20100608, OVIDE,    45,  1,     28,2,20100620,2343, 51.0300, -23.1910, 3922,     51.4,  12.5890,  35.5070,2,  35.5180,3,    266.9,2,    263.7,2,     1.75,2,     4.93,2,     0.35,2,   -999.0,9,   7.9010,2,    25.00
  35TH20100608, OVIDE,    45,  1,     29,2,20100620,2343, 51.0300, -23.1910, 3922,      4.0,  15.7150,  35.4380,2,  35.4360,2,    266.7,2,    263.5,2,     0.88,2,     0.05,2,     0.05,2,   2335.5,2,   7.9920,2,    25.00
  35TH20100608, OVIDE,    46,  1,      3,2,20100621,0521, 51.4010, -23.4810, 3273,   3325.7,   2.7220,  34.9350,2,  34.9350,2,    256.1,2,    256.0,2,    32.27,2,    16.18,2,     1.04,2,   -999.0,9,   7.7250,2,    25.00
  35TH20100608, OVIDE,    46,  1,      4,2,20100621,0521, 51.4010, -23.4810, 3273,   3198.2,   2.8100,  34.9440,2,  34.9430,2,    262.7,2,    263.6,2,    26.68,2,    17.58,2,     1.08,2,   -999.0,9,   7.7240,2,    25.00
  35TH20100608, OVIDE,    46,  1,      5,2,20100621,0521, 51.4010, -23.4810, 3273,   2997.4,   2.8640,  34.9450,2,  34.9460,2,    266.1,2,    265.4,2,    24.37,2,    18.07,2,     1.14,2,   -999.0,9,   7.7230,2,    25.00
  35TH20100608, OVIDE,    46,  1,      6,2,20100621,0521, 51.4010, -23.4810, 3273,   2721.8,   3.0150,  34.9400,2,  34.9390,2,    272.1,2,    272.0,2,    16.66,2,    17.20,2,     1.08,2,   -999.0,9,   7.7240,2,    25.00
  35TH20100608, OVIDE,    46,  1,      7,2,20100621,0521, 51.4010, -23.4810, 3273,   2501.2,   3.1160,  34.9240,2,  34.9250,2,    276.2,2,    274.6,2,    14.73,2,    15.31,2,     0.97,2,   -999.0,9,   7.7260,2,    25.00
  35TH20100608, OVIDE,    46,  1,      8,2,20100621,0521, 51.4010, -23.4810, 3273,   2249.8,   3.2360,  34.9130,2,  34.9150,2,    279.2,2,    277.2,2,    12.44,2,    15.20,2,     0.92,2,   -999.0,9,   7.7220,2,    25.00
  35TH20100608, OVIDE,    46,  1,      9,2,20100621,0521, 51.4010, -23.4810, 3273,   1999.7,   3.3980,  34.9080,2,  34.9100,2,    278.4,2,    277.4,2,    11.72,2,    15.59,2,     0.96,2,   -999.0,9,   7.7220,2,    25.00
  35TH20100608, OVIDE,    46,  1,     10,2,20100621,0521, 51.4010, -23.4810, 3273,   2000.3,   3.3980,  34.9080,2,  34.9110,2,    278.4,2,    277.7,2,    11.79,2,    14.68,2,     0.90,2,   -999.0,9,-999.0000,9,    25.00
  35TH20100608, OVIDE,    46,  1,     11,2,20100621,0521, 51.4010, -23.4810, 3273,   1798.6,   3.5370,  34.9100,2,  34.9110,2,    276.7,2,    276.0,2,    11.45,2,    16.87,2,     1.04,2,   -999.0,9,   7.7180,2,    25.00
  35TH20100608, OVIDE,    46,  1,     12,2,20100621,0521, 51.4010, -23.4810, 3273,   1599.5,   3.6600,  34.9100,2,  34.9100,2,    275.8,2,    276.3,2,    11.17,2,    17.08,2,     1.08,2,   -999.0,9,   7.7170,2,    25.00
  35TH20100608, OVIDE,    46,  1,     13,2,20100621,0521, 51.4010, -23.4810, 3273,   1398.2,   3.7820,  34.9050,2,  34.9060,2,    277.9,2,    278.0,2,    10.43,2,    16.70,2,     1.05,2,   -999.0,9,   7.7140,2,    25.00
  35TH20100608, OVIDE,    46,  1,     14,2,20100621,0521, 51.4010, -23.4810, 3273,   1199.4,   4.0420,  34.9240,2,  34.9240,2,    271.2,2,    275.0,2,    10.34,2,    15.14,2,     0.94,2,   -999.0,9,   7.7100,2,    25.00
  35TH20100608, OVIDE,    46,  1,     15,2,20100621,0521, 51.4010, -23.4810, 3273,    999.7,   4.3760,  34.9420,2,  34.9430,2,    263.7,2,    265.0,2,    10.23,2,    15.24,2,     0.95,2,   -999.0,9,   7.7070,2,    25.00
  35TH20100608, OVIDE,    46,  1,     16,2,20100621,0521, 51.4010, -23.4810, 3273,    899.2,   4.4680,  34.9360,2,  34.9370,2,    260.3,2,    264.7,2,    10.14,2,    17.05,2,     1.04,2,   -999.0,9,   7.7060,2,    25.00
  35TH20100608, OVIDE,    46,  1,     17,2,20100621,0521, 51.4010, -23.4810, 3273,    800.2,   4.8580,  34.9610,2,  34.9620,2,    254.9,2,    253.6,2,    10.34,2,    17.77,2,     1.10,2,   -999.0,9,   7.7030,2,    25.00
  35TH20100608, OVIDE,    46,  1,     18,2,20100621,0521, 51.4010, -23.4810, 3273,    701.3,   5.2810,  34.9770,2,  34.9770,2,    244.1,2,    244.7,2,    10.52,2,    18.10,2,     1.14,2,   -999.0,9,   7.7020,2,    25.00
  35TH20100608, OVIDE,    46,  1,     19,2,20100621,0521, 51.4010, -23.4810, 3273,    600.4,   5.6950,  34.9450,2,  34.9450,2,    232.0,2,    235.7,2,    10.64,2,    18.49,2,     1.16,2,   -999.0,9,   7.6930,2,    25.00
  35TH20100608, OVIDE,    46,  1,     20,2,20100621,0521, 51.4010, -23.4810, 3273,    499.4,   6.4540,  34.9280,2,  34.9290,2,    210.1,2,    215.9,3,    10.85,2,    18.95,2,     1.20,2,   -999.0,9,   7.6920,2,    25.00
  35TH20100608, OVIDE,    46,  1,     21,2,20100621,0521, 51.4010, -23.4810, 3273,    400.6,   8.0500,  35.0190,2,  35.0170,2,    204.2,2,    209.3,2,     9.56,2,    17.80,2,     1.12,2,   -999.0,9,   7.7130,2,    25.00
  35TH20100608, OVIDE,    46,  1,     22,2,20100621,0521, 51.4010, -23.4810, 3273,    300.1,   9.4680,  35.1460,2,  35.1480,2,    222.7,2,    223.9,2,     7.28,2,    14.43,2,     0.89,2,   -999.0,9,   7.7710,2,    25.00
  35TH20100608, OVIDE,    46,  1,     23,2,20100621,0521, 51.4010, -23.4810, 3273,    200.2,  10.9070,  35.3890,2,  35.3850,2,    244.8,2,    246.7,2,     5.23,2,    11.11,2,     0.66,2,   -999.0,9,   7.8290,2,    25.00
  35TH20100608, OVIDE,    46,  1,     24,2,20100621,0521, 51.4010, -23.4810, 3273,    150.4,  11.3490,  35.4680,2,  35.4680,2,    245.6,2,    245.8,2,     4.80,2,    11.18,2,     0.61,2,   -999.0,9,   7.8400,2,    25.00
  35TH20100608, OVIDE,    46,  1,     25,2,20100621,0521, 51.4010, -23.4810, 3273,     95.0,  11.7160,  35.5260,2,  35.5090,3,    245.6,2,    246.6,2,     4.47,2,    10.21,2,     0.58,2,   -999.0,9,   7.8500,2,    25.00
  35TH20100608, OVIDE,    46,  1,     26,2,20100621,0521, 51.4010, -23.4810, 3273,     55.4,  12.6440,  35.4690,2,  35.4740,3,    254.2,2,    268.9,3,     2.33,2,     6.69,2,     0.42,2,   -999.0,9,   7.8930,2,    25.00
  35TH20100608, OVIDE,    46,  1,     27,2,20100621,0521, 51.4010, -23.4810, 3273,      4.0,  14.7240,  35.2640,2,  35.2640,2,    272.0,2,    287.4,3,     1.05,2,     1.83,2,     0.12,2,   -999.0,9,   7.9560,2,    25.00
  35TH20100608, OVIDE,    47,  1,      3,2,20100621,1055, 51.7710, -23.7750, 3844,   3910.8,   2.5930,  34.9170,2,  34.9160,2,    243.5,2,    243.4,2,    43.14,2,    21.49,2,     1.31,2,   -999.0,9,-999.0000,9,    25.00
  35TH20100608, OVIDE,    47,  1,      4,2,20100621,1055, 51.7710, -23.7750, 3844,   3911.4,   2.5920,  34.9180,2,  34.9170,2,    243.5,2,    245.1,2,    44.62,2,    21.46,2,     1.24,2,   2351.1,2,   7.7280,2,    25.00
  35TH20100608, OVIDE,    47,  1,      5,2,20100621,1055, 51.7710, -23.7750, 3844,   3748.2,   2.6380,  34.9230,2,  34.9230,2,    248.6,2,    248.3,2,    40.92,2,    21.02,2,     1.32,2,   2344.8,2,   7.7320,2,    25.00
  35TH20100608, OVIDE,    47,  1,      6,2,20100621,1055, 51.7710, -23.7750, 3844,   3500.0,   2.7300,  34.9360,2,  34.9350,2,    254.5,2,    255.1,2,    33.96,2,    19.61,2,     1.18,2,   2334.8,2,   7.7280,2,    25.00
  35TH20100608, OVIDE,    47,  1,      7,2,20100621,1055, 51.7710, -23.7750, 3844,   3251.5,   2.7780,  34.9400,2,  34.9390,2,    259.4,2,    260.0,2,    30.54,2,    19.08,2,     1.15,2,   2330.8,2,   7.7280,2,    25.00
  35TH20100608, OVIDE,    47,  1,      8,2,20100621,1055, 51.7710, -23.7750, 3844,   3001.4,   2.8690,  34.9440,2,  34.9450,2,    264.2,2,    264.3,2,    25.90,2,    18.30,2,     1.11,2,   2324.7,2,   7.7330,2,    25.00
  35TH20100608, OVIDE,    47,  1,      9,2,20100621,1055, 51.7710, -23.7750, 3844,   2750.7,   2.9780,  34.9380,2,  34.9390,2,    268.6,2,    266.7,2,    18.91,2,    17.89,2,     1.07,2,   2319.1,2,   7.7270,2,    25.00
  35TH20100608, OVIDE,    47,  1,     10,2,20100621,1055, 51.7710, -23.7750, 3844,   2501.0,   3.0950,  34.9270,2,  34.9280,2,    274.6,2,    272.2,2,    15.27,2,    16.69,2,     1.01,2,   2312.7,2,   7.7260,2,    25.00
  35TH20100608, OVIDE,    47,  1,     11,2,20100621,1055, 51.7710, -23.7750, 3844,   2248.8,   3.2030,  34.9130,2,  34.9130,2,    278.1,2,    275.9,2,    13.17,2,    16.97,2,     1.01,2,   2308.7,2,   7.7250,2,    25.00
  35TH20100608, OVIDE,    47,  1,     12,2,20100621,1055, 51.7710, -23.7750, 3844,   2000.8,   3.3350,  34.9060,2,  34.9080,2,    278.8,2,    276.0,2,    12.21,2,    17.31,2,     1.01,2,   2307.4,2,   7.7240,2,    25.00
  35TH20100608, OVIDE,    47,  1,     13,2,20100621,1055, 51.7710, -23.7750, 3844,   1800.3,   3.4830,  34.9080,2,  34.9090,2,    277.1,2,    274.6,2,    11.68,2,    17.42,2,     1.02,2,   2305.8,2,   7.7220,2,    25.00
  35TH20100608, OVIDE,    47,  1,     14,2,20100621,1055, 51.7710, -23.7750, 3844,   1598.6,   3.6220,  34.9090,2,  34.9100,2,    276.1,2,    273.8,2,    11.26,2,    17.36,2,     1.02,2,   2304.6,2,   7.7180,2,    25.00
  35TH20100608, OVIDE,    47,  1,     15,2,20100621,1055, 51.7710, -23.7750, 3844,   1400.6,   3.7510,  34.9100,2,  34.9100,2,    275.5,2,    273.2,2,    10.94,2,    17.25,2,     1.01,2,   2306.1,2,   7.7140,2,    25.00
  35TH20100608, OVIDE,    47,  1,     16,2,20100621,1055, 51.7710, -23.7750, 3844,   1202.7,   3.9190,  34.9150,2,  34.9160,2,    274.6,2,    272.4,2,    10.54,2,    17.51,2,     1.03,2,   2305.3,2,   7.7120,2,    25.00
  35TH20100608, OVIDE,    47,  1,     17,2,20100621,1055, 51.7710, -23.7750, 3844,   1000.1,   4.1560,  34.9250,2,  34.9210,2,    267.7,2,    270.6,2,    10.27,2,    17.44,2,     1.02,2,   2307.2,2,   7.7080,2,    25.00
  35TH20100608, OVIDE,    47,  1,     18,2,20100621,1055, 51.7710, -23.7750, 3844,    900.3,   4.5300,  34.9690,2,  34.9700,2,    257.9,2,    258.5,2,    10.04,2,    17.26,2,     0.98,2,   2309.5,2,   7.7080,2,    25.00
  35TH20100608, OVIDE,    47,  1,     19,2,20100621,1055, 51.7710, -23.7750, 3844,    800.3,   5.5300,  35.1060,2,  35.1050,2,    238.8,2,    239.2,2,    10.93,2,    18.08,2,     1.05,2,   2321.0,2,   7.7140,2,    25.00
  35TH20100608, OVIDE,    47,  1,     20,2,20100621,1055, 51.7710, -23.7750, 3844,    799.9,   5.5300,  35.1060,2,  35.1060,2,    238.7,2,    238.9,2,    10.47,2,    18.14,2,     1.06,2,   -999.0,9,-999.0000,9,    25.00
  35TH20100608, OVIDE,    47,  1,     21,2,20100621,1055, 51.7710, -23.7750, 3844,    700.9,   5.4250,  35.0410,2,  35.0400,2,    237.1,2,    241.0,2,    10.50,2,    18.33,2,     1.07,2,   2315.9,2,   7.7060,2,    25.00
  35TH20100608, OVIDE,    47,  1,     22,2,20100621,1055, 51.7710, -23.7750, 3844,    601.7,   5.3430,  34.9480,2,  34.9480,2,    236.9,2,    241.8,2,    10.49,2,    18.19,2,     1.04,2,   2309.1,2,   7.7010,2,    25.00
  35TH20100608, OVIDE,    47,  1,     23,2,20100621,1055, 51.7710, -23.7750, 3844,    450.3,   7.0660,  35.0410,2,  35.0420,2,    210.9,2,    212.7,2,    10.46,2,    19.23,2,     1.13,2,   2314.4,2,   7.7000,2,    25.00
  35TH20100608, OVIDE,    47,  1,     24,2,20100621,1055, 51.7710, -23.7750, 3844,    350.2,   7.4110,  34.9300,2,  34.9370,3,    204.4,2,    206.0,2,     9.89,2,    18.89,2,     1.12,2,   2309.0,2,   7.7010,2,    25.00
  35TH20100608, OVIDE,    47,  1,     25,2,20100621,1055, 51.7710, -23.7750, 3844,    198.4,  10.0430,  35.2380,2,  35.2360,2,    257.8,2,    258.4,2,     5.15,2,    11.21,2,     0.64,2,   2324.8,2,   7.8210,2,    25.00
  35TH20100608, OVIDE,    47,  1,     26,2,20100621,1055, 51.7710, -23.7750, 3844,    148.1,  10.2570,  35.2680,2,  35.2670,2,    257.8,2,    254.8,2,     5.09,2,    11.06,2,     0.63,2,   2327.3,2,   7.8270,2,    25.00
  35TH20100608, OVIDE,    47,  1,     27,2,20100621,1055, 51.7710, -23.7750, 3844,     99.7,  10.8860,  35.3830,2,  35.3780,3,    252.5,2,    249.7,2,     4.87,2,    10.73,2,     0.59,2,   2332.0,2,   7.8390,2,    25.00
  35TH20100608, OVIDE,    47,  1,     28,2,20100621,1055, 51.7710, -23.7750, 3844,     52.5,  12.3350,  35.3130,2,  35.3150,2,    257.2,2,    258.9,2,     1.42,2,     5.38,2,     0.33,2,   -999.0,9,   7.8930,2,    25.00
  35TH20100608, OVIDE,    47,  1,     29,2,20100621,1055, 51.7710, -23.7750, 3844,      6.3,  14.5120,  35.2240,2,  35.2240,2,    269.7,2,    266.4,2,     0.92,2,     1.37,2,     0.11,2,   2324.5,2,   7.9540,2,    25.00