BOTTLE,20140929PRINUNIVRMK
EXPOCODE,SECT_ID,STNNBR,CASTNO,BTLNBR,BTLNBR_FLAG_W,DATE,TIME,LATITUDE,LONGITUDE,DEPTH,CTDPRS,CTDTMP,CTDSAL,CTDSAL_FLAG_W,SALNTY,SALNTY_FLAG_W,CTDOXY,CTDOXY_FLAG_W,OXYGEN,OXYGEN_FLAG_W,SILCAT,SILCAT_FLAG_W,NITRAT,NITRAT_FLAG_W,PHSPHT,PHSPHT_FLAG_W,ALKALI,ALKALI_FLAG_W,PH_SWS,PH_SWS_FLAG_W,PH_TMP
,,,,,,,,,,METERS,DBAR,ITS-90,PSS-78,,PSS-78,,UMOL/KG,,UMOL/KG,,UMOL/KG,,UMOL/KG,,UMOL/KG,,UMOL/KG,,,,DEG C
  35TH20100608, OVIDE,    15,  1,      3,2,20100613,0943, 40.7870, -13.1000, 5323,   5428.6,   2.5640,  34.8960,2,  34.8940,2,    244.3,2,    244.0,2,    46.25,2,    22.62,2,     1.36,2,   2353.8,2,   7.7330,2,    25.00
  35TH20100608, OVIDE,    15,  1,      4,2,20100613,0943, 40.7870, -13.1000, 5323,   5001.9,   2.5130,  34.8980,2,  34.8940,2,    244.5,2,    244.2,2,    45.99,2,    22.53,2,     1.36,2,   2353.3,2,   7.7330,2,    25.00
  35TH20100608, OVIDE,    15,  1,      5,2,20100613,0943, 40.7870, -13.1000, 5323,   4500.1,   2.4850,  34.9000,2,  34.8990,2,    244.5,2,    244.0,2,    45.39,2,    22.23,2,     1.35,2,   2352.4,2,   7.7320,2,    25.00
  35TH20100608, OVIDE,    15,  1,      6,2,20100613,0943, 40.7870, -13.1000, 5323,   3999.2,   2.5330,  34.9110,2,  34.8990,3,    244.9,2,    243.6,2,    43.18,2,    22.39,2,     1.31,2,   2350.3,2,   7.7330,2,    25.00
  35TH20100608, OVIDE,    15,  1,      7,2,20100613,0943, 40.7870, -13.1000, 5323,   3500.5,   2.6460,  34.9270,2,  34.9250,2,    246.6,2,    246.0,2,    39.35,2,    20.98,2,     1.30,2,   2346.1,2,   7.7340,2,    25.00
  35TH20100608, OVIDE,    15,  1,      8,2,20100613,0943, 40.7870, -13.1000, 5323,   3250.0,   2.7400,  34.9370,2,  34.9370,2,    247.9,2,    246.8,2,    36.93,2,    21.14,2,     1.27,2,   2343.1,2,   7.7340,2,    25.00
  35TH20100608, OVIDE,    15,  1,      9,2,20100613,0943, 40.7870, -13.1000, 5323,   2998.8,   2.8610,  34.9500,2,  34.9500,2,    249.3,2,    247.5,2,    34.06,2,    20.67,2,     1.23,2,   2338.6,2,   7.7380,2,    25.00
  35TH20100608, OVIDE,    15,  1,     10,2,20100613,0943, 40.7870, -13.1000, 5323,   2749.9,   3.0590,  34.9680,2,  34.9670,2,    249.8,2,    248.5,2,    30.37,2,    20.17,2,     1.20,2,   2336.5,2,   7.7360,2,    25.00
  35TH20100608, OVIDE,    15,  1,     11,2,20100613,0943, 40.7870, -13.1000, 5323,   2500.3,   3.3190,  34.9900,2,  34.9890,2,    252.4,2,    250.8,2,    26.40,2,    19.85,2,     1.15,2,   2332.3,2,   7.7360,2,    25.00
  35TH20100608, OVIDE,    15,  1,     12,2,20100613,0943, 40.7870, -13.1000, 5323,   2249.5,   3.6520,  35.0160,2,  35.0150,2,    255.1,2,    253.4,2,    22.04,2,    19.11,2,     1.12,2,   2326.6,2,   7.7370,2,    25.00
  35TH20100608, OVIDE,    15,  1,     13,2,20100613,0943, 40.7870, -13.1000, 5323,   1999.8,   3.9670,  35.0340,2,  35.0350,2,    257.8,2,    255.8,2,    16.21,2,    18.40,2,     1.08,2,   2321.7,2,   7.7350,2,    25.00
  35TH20100608, OVIDE,    15,  1,     14,2,20100613,0943, 40.7870, -13.1000, 5323,   1800.8,   4.6330,  35.1190,2,  35.1180,2,    250.2,2,    250.2,2,    14.01,2,    18.34,2,     1.03,2,   2324.0,2,   7.7340,2,    25.00
  35TH20100608, OVIDE,    15,  1,     15,2,20100613,0943, 40.7870, -13.1000, 5323,   1599.4,   5.9050,  35.3150,2,  35.3170,2,    233.3,2,    232.8,2,    12.18,2,    18.01,2,     0.96,2,   2338.5,2,   7.7420,2,    25.00
  35TH20100608, OVIDE,    15,  1,     16,2,20100613,0943, 40.7870, -13.1000, 5323,   1399.8,   8.4550,  35.7460,2,  35.7490,2,    207.1,2,    204.7,2,    10.18,2,    17.15,2,     0.89,2,   2366.8,2,   7.7630,2,    25.00
  35TH20100608, OVIDE,    15,  1,     17,2,20100613,0943, 40.7870, -13.1000, 5323,   1199.5,  10.4510,  36.0800,2,  36.0800,2,    185.4,2,    185.0,2,     8.80,2,    16.44,2,     0.82,2,   2388.3,2,   7.7830,2,    25.00
  35TH20100608, OVIDE,    15,  1,     18,2,20100613,0943, 40.7870, -13.1000, 5323,   1101.3,  11.0330,  36.1580,2,  36.1580,2,    178.8,2,    180.5,2,     8.51,2,    16.12,2,     0.86,2,   2391.4,2,   7.7900,2,    25.00
  35TH20100608, OVIDE,    15,  1,     19,2,20100613,0943, 40.7870, -13.1000, 5323,    899.0,  11.3260,  36.0650,2,  36.0640,2,    178.1,2,    179.4,2,     7.96,2,    15.90,2,     0.84,2,   2381.4,2,   7.7920,2,    25.00
  35TH20100608, OVIDE,    15,  1,     20,2,20100613,0943, 40.7870, -13.1000, 5323,    799.3,  11.5920,  36.0070,2,  36.0050,2,    179.7,2,    181.0,2,     7.51,2,    15.41,2,     0.79,2,   2374.1,2,   7.7930,2,    25.00
  35TH20100608, OVIDE,    15,  1,     21,2,20100613,0943, 40.7870, -13.1000, 5323,    700.1,  11.9400,  35.9780,2,  35.9760,2,    182.5,2,    184.6,2,     6.96,2,    14.73,2,     0.86,2,   2371.6,2,   7.8000,2,    25.00
  35TH20100608, OVIDE,    15,  1,     22,2,20100613,0943, 40.7870, -13.1000, 5323,    599.3,  11.9140,  35.8390,2,  35.8360,2,    187.6,2,    188.5,2,     5.99,2,    14.58,2,     0.81,2,   -999.0,9,   7.7980,2,    25.00
  35TH20100608, OVIDE,    15,  1,     23,2,20100613,0943, 40.7870, -13.1000, 5323,    500.3,  11.8710,  35.6940,2,  35.6880,3,    196.7,2,    200.3,2,     4.01,2,    13.81,2,     0.65,2,   2345.0,2,   7.7980,2,    25.00
  35TH20100608, OVIDE,    15,  1,     24,2,20100613,0943, 40.7870, -13.1000, 5323,    397.3,  12.3900,  35.7370,2,  35.7320,3,    209.4,2,    208.2,2,     3.19,2,    11.98,2,     0.55,2,   2347.8,2,   7.8180,2,    25.00
  35TH20100608, OVIDE,    15,  1,     25,2,20100613,0943, 40.7870, -13.1000, 5323,    300.9,  13.1000,  35.8320,2,  35.8280,2,    216.6,2,    223.9,3,     2.52,2,     8.77,2,     0.44,2,   -999.0,9,   7.8580,2,    25.00
  35TH20100608, OVIDE,    15,  1,     26,2,20100613,0943, 40.7870, -13.1000, 5323,    200.8,  14.1050,  36.0140,2,  36.0090,3,    228.7,2,    226.4,2,     2.16,2,     6.15,2,     0.36,2,   2363.3,2,   7.8910,2,    25.00
  35TH20100608, OVIDE,    15,  1,     27,2,20100613,0943, 40.7870, -13.1000, 5323,    149.5,  14.6830,  36.0970,2,  36.0910,3,    228.5,2,    225.8,2,     1.75,2,     5.23,2,     0.36,2,   -999.0,9,   7.9050,2,    25.00
  35TH20100608, OVIDE,    15,  1,     28,2,20100613,0943, 40.7870, -13.1000, 5323,     99.4,  15.2410,  36.1830,2,  36.1770,3,    236.1,2,    230.8,2,     1.13,2,     3.39,2,     0.21,2,   2373.5,2,   7.9300,2,    25.00
  35TH20100608, OVIDE,    15,  1,     29,2,20100613,0943, 40.7870, -13.1000, 5323,     56.2,  16.1500,  36.2340,2,  36.2420,3,    249.7,2,    250.5,2,     0.62,2,     0.06,2,     0.01,2,   -999.0,9,   7.9760,2,    25.00
  35TH20100608, OVIDE,    15,  1,     30,2,20100613,0943, 40.7870, -13.1000, 5323,      4.9,  18.0110,  36.3180,2,  36.3180,2,    240.9,2,    237.5,2,     0.80,2,     0.05,2,     0.02,2,   2384.0,2,   7.9830,2,    25.00
  35TH20100608, OVIDE,    16,  1,      3,2,20100613,1613, 41.0850, -13.4920, 5339,   5445.4,   2.5670,  34.8950,2,  34.8940,2,    244.2,2,    245.9,2,    47.78,2,    22.53,2,  -999.00,9,   -999.0,9,   7.7310,2,    25.00
  35TH20100608, OVIDE,    16,  1,      4,2,20100613,1613, 41.0850, -13.4920, 5339,   4998.1,   2.5160,  34.8970,2,  34.8940,2,    244.3,2,    244.3,2,    47.75,2,    22.67,2,     1.36,2,   -999.0,9,   7.7320,2,    25.00
  35TH20100608, OVIDE,    16,  1,      5,2,20100613,1613, 41.0850, -13.4920, 5339,   4500.4,   2.4870,  34.9000,2,  34.8990,2,    244.3,2,   -999.0,9,    46.84,2,    22.63,2,     1.36,2,   -999.0,9,   7.7320,2,    25.00
  35TH20100608, OVIDE,    16,  1,      6,2,20100613,1613, 41.0850, -13.4920, 5339,   3999.5,   2.5300,  34.9100,2,  34.9100,2,    244.7,2,    244.2,2,    44.58,2,    22.18,2,     1.34,2,   -999.0,9,   7.7310,2,    25.00
  35TH20100608, OVIDE,    16,  1,      7,2,20100613,1613, 41.0850, -13.4920, 5339,   3499.5,   2.6330,  34.9250,2,  34.9250,2,    246.6,2,    246.8,2,    40.63,2,    21.48,2,     1.29,2,   -999.0,9,   7.7330,2,    25.00
  35TH20100608, OVIDE,    16,  1,      8,2,20100613,1613, 41.0850, -13.4920, 5339,   3249.9,   2.7250,  34.9350,2,  34.9350,2,    248.1,2,    247.3,2,    37.96,2,    21.32,2,     1.27,2,   -999.0,9,   7.7330,2,    25.00
  35TH20100608, OVIDE,    16,  1,      9,2,20100613,1613, 41.0850, -13.4920, 5339,   2999.8,   2.8530,  34.9480,2,  34.9480,2,    249.4,2,    248.3,2,    35.06,2,    20.72,2,     1.23,2,   -999.0,9,   7.7350,2,    25.00
  35TH20100608, OVIDE,    16,  1,     10,2,20100613,1613, 41.0850, -13.4920, 5339,   2749.7,   3.0180,  34.9630,2,  34.9630,2,    250.6,2,    250.0,2,    31.42,2,    20.28,2,     1.21,2,   -999.0,9,   7.7380,2,    25.00
  35TH20100608, OVIDE,    16,  1,     11,2,20100613,1613, 41.0850, -13.4920, 5339,   2499.3,   3.2530,  34.9800,2,  34.9800,2,    254.2,2,    252.5,2,    28.09,2,    19.64,2,     1.16,2,   -999.0,9,   7.7340,2,    25.00
  35TH20100608, OVIDE,    16,  1,     12,2,20100613,1613, 41.0850, -13.4920, 5339,   2247.5,   3.5840,  35.0010,2,  35.0000,2,    258.2,2,    256.1,2,    18.54,2,    19.01,2,     1.10,2,   -999.0,9,   7.7350,2,    25.00
  35TH20100608, OVIDE,    16,  1,     13,2,20100613,1613, 41.0850, -13.4920, 5339,   2000.3,   3.9080,  35.0220,2,  35.0220,2,    261.4,2,    258.6,2,    14.85,2,    18.18,2,     1.07,2,   -999.0,9,   7.7330,2,    25.00
  35TH20100608, OVIDE,    16,  1,     14,2,20100613,1613, 41.0850, -13.4920, 5339,   1800.4,   4.4590,  35.0890,2,  35.0870,2,    252.2,2,    253.1,2,    13.20,2,    18.22,2,     1.04,2,   -999.0,9,   7.7310,2,    25.00
  35TH20100608, OVIDE,    16,  1,     15,2,20100613,1613, 41.0850, -13.4920, 5339,   1600.6,   5.6260,  35.2710,2,  35.2720,2,    238.5,2,    237.3,2,    12.11,2,    18.01,2,     1.02,2,   -999.0,9,   7.7380,2,    25.00
  35TH20100608, OVIDE,    16,  1,     16,2,20100613,1613, 41.0850, -13.4920, 5339,   1399.2,   7.2590,  35.5260,2,  35.5200,3,    212.6,2,    218.2,2,    11.06,2,    17.76,2,     0.99,2,   -999.0,9,   7.7500,2,    25.00
  35TH20100608, OVIDE,    16,  1,     17,2,20100613,1613, 41.0850, -13.4920, 5339,   1198.7,   8.4490,  35.6560,2,  35.6650,3,    198.3,2,    202.6,2,    10.20,2,    17.66,2,     0.97,2,   -999.0,9,   7.7540,2,    25.00
  35TH20100608, OVIDE,    16,  1,     18,2,20100613,1613, 41.0850, -13.4920, 5339,    998.0,  10.2590,  35.9180,2,  35.9150,2,    180.6,2,    183.3,2,     9.32,2,    16.74,2,     0.87,2,   -999.0,9,   7.7740,2,    25.00
  35TH20100608, OVIDE,    16,  1,     19,2,20100613,1613, 41.0850, -13.4920, 5339,    897.7,  10.7870,  35.9540,2,  35.9530,2,    178.8,2,    180.8,2,     8.69,2,    16.55,2,     0.86,2,   -999.0,9,   7.7800,2,    25.00
  35TH20100608, OVIDE,    16,  1,     20,2,20100613,1613, 41.0850, -13.4920, 5339,    801.1,  11.1270,  35.9230,2,  35.9230,2,    178.8,2,    180.7,2,     8.06,2,    16.20,2,     0.86,2,   -999.0,9,   7.7830,2,    25.00
  35TH20100608, OVIDE,    16,  1,     21,2,20100613,1613, 41.0850, -13.4920, 5339,    699.6,  11.2500,  35.8180,2,  35.8190,2,    180.2,2,    182.2,2,     7.60,2,    16.21,2,     0.87,2,   -999.0,9,   7.7780,2,    25.00
  35TH20100608, OVIDE,    16,  1,     22,2,20100613,1613, 41.0850, -13.4920, 5339,    600.1,  10.9570,  35.6190,2,  35.6200,2,    195.8,2,    194.7,2,     6.84,2,    15.69,2,     0.83,2,   -999.0,9,   7.7750,2,    25.00
  35TH20100608, OVIDE,    16,  1,     23,2,20100613,1613, 41.0850, -13.4920, 5339,    498.3,  11.3670,  35.5890,2,  35.5890,2,    216.9,2,    216.8,2,     4.95,2,    13.08,2,     0.74,2,   -999.0,9,   7.8000,2,    25.00
  35TH20100608, OVIDE,    16,  1,     24,2,20100613,1613, 41.0850, -13.4920, 5339,    395.1,  11.9250,  35.6730,2,  35.6690,2,    236.3,2,    235.1,2,     3.42,2,    10.00,2,     0.56,2,   -999.0,9,   7.8370,2,    25.00
  35TH20100608, OVIDE,    16,  1,     25,2,20100613,1613, 41.0850, -13.4920, 5339,    301.8,  12.2410,  35.7210,2,  35.7200,2,    245.3,2,    243.8,2,     2.83,2,     8.45,2,     0.51,2,   -999.0,9,   7.8540,2,    25.00
  35TH20100608, OVIDE,    16,  1,     26,2,20100613,1613, 41.0850, -13.4920, 5339,    200.6,  12.6060,  35.7600,2,  35.7560,2,    231.6,2,    233.0,2,     2.92,2,     8.75,2,     0.49,2,   -999.0,9,   7.8560,2,    25.00
  35TH20100608, OVIDE,    16,  1,     27,2,20100613,1613, 41.0850, -13.4920, 5339,    150.5,  12.8890,  35.7920,2,  35.7910,2,    228.9,2,    237.4,3,     2.63,2,     7.98,2,     0.43,2,   -999.0,9,   7.8660,2,    25.00
  35TH20100608, OVIDE,    16,  1,     28,2,20100613,1613, 41.0850, -13.4920, 5339,     99.1,  13.3240,  35.8530,2,  35.8500,2,    242.3,2,    239.6,2,     2.17,2,     6.72,2,     0.37,2,   -999.0,9,   7.8820,2,    25.00
  35TH20100608, OVIDE,    16,  1,     29,2,20100613,1613, 41.0850, -13.4920, 5339,     56.6,  13.9370,  35.9120,2,  35.9080,3,    253.3,2,    245.7,2,     1.43,2,     4.18,2,     0.24,2,   -999.0,9,   7.9090,2,    25.00
  35TH20100608, OVIDE,    16,  1,     30,2,20100613,1613, 41.0850, -13.4920, 5339,      4.0,  17.2020,  36.0170,2,  36.0190,2,    246.7,2,    246.1,2,     0.88,2,     0.04,2,     0.05,2,   -999.0,9,   7.9850,2,    25.00
  35TH20100608, OVIDE,    17,  1,      3,2,20100613,2225, 41.3830, -13.8880, 5329,   5436.6,   2.5660,  34.8950,2,  34.8970,2,    244.2,2,   -999.0,9,    47.86,2,    22.69,2,     1.40,2,   2354.4,2,   7.7330,2,    25.00
  35TH20100608, OVIDE,    17,  1,      4,2,20100613,2225, 41.3830, -13.8880, 5329,   4999.5,   2.5210,  34.8970,2,  34.8970,2,    244.1,2,   -999.0,9,    47.53,2,    22.56,2,     1.41,2,   2354.1,2,   7.7330,2,    25.00
  35TH20100608, OVIDE,    17,  1,      5,2,20100613,2225, 41.3830, -13.8880, 5329,   4501.1,   2.4950,  34.9010,2,  34.9080,3,    244.1,2,    244.1,2,    46.55,2,    22.45,2,     1.39,2,   2351.9,2,   7.7330,2,    25.00
  35TH20100608, OVIDE,    17,  1,      6,2,20100613,2225, 41.3830, -13.8880, 5329,   3999.5,   2.5300,  34.9110,2,  34.9110,2,    244.3,2,    244.4,2,    44.36,2,    22.35,2,     1.36,2,   2351.1,2,   7.7320,2,    25.00
  35TH20100608, OVIDE,    17,  1,      7,2,20100613,2225, 41.3830, -13.8880, 5329,   3497.9,   2.6410,  34.9270,2,  34.9270,2,    245.9,2,    246.8,2,    40.52,2,    21.82,2,     1.32,2,   2345.3,2,   7.7340,2,    25.00
  35TH20100608, OVIDE,    17,  1,      8,2,20100613,2225, 41.3830, -13.8880, 5329,   3253.8,   2.7310,  34.9360,2,  34.9380,2,    247.4,2,    247.5,2,    37.76,2,    21.48,2,     1.28,2,   2341.2,2,   7.7330,2,    25.00
  35TH20100608, OVIDE,    17,  1,      9,2,20100613,2225, 41.3830, -13.8880, 5329,   3000.6,   2.8520,  34.9480,2,  34.9490,2,    249.3,2,    248.0,2,    34.73,2,    20.91,2,     1.25,2,   2338.2,2,   7.7350,2,    25.00
  35TH20100608, OVIDE,    17,  1,     10,2,20100613,2225, 41.3830, -13.8880, 5329,   2748.9,   3.0290,  34.9610,2,  34.9640,2,    251.6,2,    250.5,2,    31.08,2,    20.29,2,     1.22,2,   -999.0,9,   7.7350,2,    25.00
  35TH20100608, OVIDE,    17,  1,     11,2,20100613,2225, 41.3830, -13.8880, 5329,   2502.0,   3.2610,  34.9780,2,  34.9800,2,    254.5,2,    253.5,2,    26.56,2,    19.99,2,     1.16,2,   2327.8,2,   7.7360,2,    25.00
  35TH20100608, OVIDE,    17,  1,     12,2,20100613,2225, 41.3830, -13.8880, 5329,   2249.8,   3.5320,  34.9870,2,  34.9890,2,    259.5,2,    257.7,2,    18.92,2,    19.08,2,     1.14,2,   2321.7,2,   7.7360,2,    25.00
  35TH20100608, OVIDE,    17,  1,     13,2,20100613,2225, 41.3830, -13.8880, 5329,   1998.5,   3.8860,  35.0080,2,  35.0100,2,    261.9,2,    259.5,2,    15.19,2,    18.51,2,     1.09,2,   2316.8,2,   7.7300,2,    25.00
  35TH20100608, OVIDE,    17,  1,     14,2,20100613,2225, 41.3830, -13.8880, 5329,   1800.3,   4.3960,  35.0700,2,  35.0720,2,    256.0,2,    253.6,2,    13.65,2,    18.46,2,     1.07,2,   2317.0,2,   7.7290,2,    25.00
  35TH20100608, OVIDE,    17,  1,     15,2,20100613,2225, 41.3830, -13.8880, 5329,   1601.0,   5.5870,  35.2520,2,  35.2530,2,    236.8,2,    237.6,2,    12.57,2,    18.36,2,     1.04,2,   2329.3,2,   7.7350,2,    25.00
  35TH20100608, OVIDE,    17,  1,     16,2,20100613,2225, 41.3830, -13.8880, 5329,   1399.7,   7.6150,  35.5850,2,  35.5930,3,    211.5,2,    216.8,2,    11.56,2,    17.82,2,     1.00,2,   -999.0,9,   7.7540,2,    25.00
  35TH20100608, OVIDE,    17,  1,     17,2,20100613,2225, 41.3830, -13.8880, 5329,   1208.9,   9.7710,  35.9610,2,  35.9650,2,    189.4,2,    191.8,2,    10.19,2,    16.80,2,     0.92,2,   2377.4,2,   7.7750,2,    25.00
  35TH20100608, OVIDE,    17,  1,     18,2,20100613,2225, 41.3830, -13.8880, 5329,   1099.1,  10.2790,  35.9980,2,  35.9920,3,    183.0,2,    185.2,2,     9.74,2,    16.94,2,     0.93,2,   2378.1,2,   7.7800,2,    25.00
  35TH20100608, OVIDE,    17,  1,     19,2,20100613,2225, 41.3830, -13.8880, 5329,    899.0,  10.6180,  35.8940,2,  35.8930,2,    179.8,2,   -999.0,9,     9.02,2,    16.78,2,     0.92,2,   2368.9,2,   7.7760,2,    25.00
  35TH20100608, OVIDE,    17,  1,     20,2,20100613,2225, 41.3830, -13.8880, 5329,    798.8,  10.9160,  35.8460,2,  35.8450,2,    181.0,2,    182.1,2,     8.55,2,    16.88,2,     0.88,2,   2363.8,2,   7.7790,2,    25.00
  35TH20100608, OVIDE,    17,  1,     21,2,20100613,2225, 41.3830, -13.8880, 5329,    699.9,  10.8870,  35.7130,2,  35.7140,2,    184.9,2,    185.2,2,     8.12,2,    16.39,2,     0.90,2,   2352.0,2,   7.7710,2,    25.00
  35TH20100608, OVIDE,    17,  1,     22,2,20100613,2225, 41.3830, -13.8880, 5329,    599.0,  10.9670,  35.6000,2,  35.5990,2,    196.6,2,    197.2,2,     6.93,2,    15.54,2,     0.88,2,   2341.0,2,   7.7800,2,    25.00
  35TH20100608, OVIDE,    17,  1,     23,2,20100613,2225, 41.3830, -13.8880, 5329,    500.4,  11.3500,  35.5930,2,  35.5930,2,    210.0,2,    213.7,2,     5.30,2,    13.43,2,     0.76,2,   2338.4,2,   7.7990,2,    25.00
  35TH20100608, OVIDE,    17,  1,     24,2,20100613,2225, 41.3830, -13.8880, 5329,    400.3,  11.8380,  35.6590,2,  35.6570,2,    237.2,2,    234.8,2,     3.76,2,    10.26,2,     0.56,2,   2342.1,2,   7.8340,2,    25.00
  35TH20100608, OVIDE,    17,  1,     25,2,20100613,2225, 41.3830, -13.8880, 5329,    299.5,  12.1000,  35.6900,2,  35.6890,2,    234.9,2,    229.8,2,     3.63,2,    10.15,2,     0.56,2,   2344.1,2,   7.8370,2,    25.00
  35TH20100608, OVIDE,    17,  1,     26,2,20100613,2225, 41.3830, -13.8880, 5329,    201.8,  12.5070,  35.7390,2,  35.7380,2,    228.9,2,    228.9,2,     3.37,2,     9.40,2,     0.50,2,   2346.1,2,   7.8550,2,    25.00
  35TH20100608, OVIDE,    17,  1,     27,2,20100613,2225, 41.3830, -13.8880, 5329,    149.5,  12.8620,  35.7920,2,  35.7920,2,    234.0,2,    231.3,2,     2.98,2,     8.42,2,     0.44,2,   -999.0,9,   7.8620,2,    25.00
  35TH20100608, OVIDE,    17,  1,     28,2,20100613,2225, 41.3830, -13.8880, 5329,     99.8,  13.1510,  35.8270,2,  35.8290,2,    242.7,2,    239.5,2,     2.43,2,     6.97,2,     0.35,2,   2353.3,2,   7.8800,2,    25.00
  35TH20100608, OVIDE,    17,  1,     29,2,20100613,2225, 41.3830, -13.8880, 5329,     56.0,  13.6190,  35.8890,2,  35.8910,2,    252.9,2,    240.9,3,     2.52,2,     5.67,2,     0.30,2,   -999.0,9,   7.8960,2,    25.00
  35TH20100608, OVIDE,    17,  1,     30,2,20100613,2225, 41.3830, -13.8880, 5329,      4.8,  17.2870,  36.0430,2,  36.0470,2,    246.9,2,    243.0,2,     1.43,2,     0.06,2,     0.03,2,   2368.9,2,   7.9960,2,    25.00