BOTTLE,20140929PRINUNIVRMK
EXPOCODE,SECT_ID,STNNBR,CASTNO,BTLNBR,BTLNBR_FLAG_W,DATE,TIME,LATITUDE,LONGITUDE,DEPTH,CTDPRS,CTDTMP,CTDSAL,CTDSAL_FLAG_W,SALNTY,SALNTY_FLAG_W,CTDOXY,CTDOXY_FLAG_W,OXYGEN,OXYGEN_FLAG_W,SILCAT,SILCAT_FLAG_W,NITRAT,NITRAT_FLAG_W,PHSPHT,PHSPHT_FLAG_W,ALKALI,ALKALI_FLAG_W,PH_SWS,PH_SWS_FLAG_W,PH_TMP
,,,,,,,,,,METERS,DBAR,ITS-90,PSS-78,,PSS-78,,UMOL/KG,,UMOL/KG,,UMOL/KG,,UMOL/KG,,UMOL/KG,,UMOL/KG,,,,DEG C
  35TH20100608, OVIDE,     9,  1,      3,2,20100611,2305, 40.3370, -10.5780, 4355,   4430.6,   2.4670,  34.8980,2,  34.9010,2,    241.8,2,    242.4,2,    46.45,2,    22.88,2,     1.40,2,   2356.0,2,   7.7300,2,    25.00
  35TH20100608, OVIDE,     9,  1,      4,2,20100611,2305, 40.3370, -10.5780, 4355,   4000.2,   2.4740,  34.9050,2,  34.9070,2,    242.9,2,    242.9,2,    44.82,2,    22.66,2,     1.37,2,   2353.5,2,   7.7320,2,    25.00
  35TH20100608, OVIDE,     9,  1,      5,2,20100611,2305, 40.3370, -10.5780, 4355,   3748.7,   2.5080,  34.9120,2,  34.9130,2,    243.5,2,    243.6,2,    43.54,2,    22.50,2,     1.31,2,   2352.1,2,   7.7320,2,    25.00
  35TH20100608, OVIDE,     9,  1,      6,2,20100611,2305, 40.3370, -10.5780, 4355,   3504.1,   2.5710,  34.9200,2,  34.9200,2,    244.4,2,    244.8,2,    41.41,2,    22.17,2,     1.34,2,   2349.8,2,   7.7330,2,    25.00
  35TH20100608, OVIDE,     9,  1,      7,2,20100611,2305, 40.3370, -10.5780, 4355,   3252.2,   2.6680,  34.9320,2,  34.9300,2,    245.4,2,    244.8,2,    38.92,2,    21.90,2,     1.31,2,   2347.7,2,   7.7350,2,    25.00
  35TH20100608, OVIDE,     9,  1,      8,2,20100611,2305, 40.3370, -10.5780, 4355,   3251.6,   2.6680,  34.9310,2,  34.9300,2,    245.4,2,    244.7,2,    38.93,2,    21.90,2,     1.27,2,   -999.0,9,-999.0000,9,    25.00
  35TH20100608, OVIDE,     9,  1,      9,2,20100611,2305, 40.3370, -10.5780, 4355,   3000.1,   2.8210,  34.9480,2,  34.9500,2,    246.0,2,    245.3,2,    36.10,2,    21.42,2,     1.20,2,   2344.2,2,   7.7340,2,    25.00
  35TH20100608, OVIDE,     9,  1,     10,2,20100611,2305, 40.3370, -10.5780, 4355,   2751.2,   3.0240,  34.9670,2,  34.9690,2,    248.2,2,    249.6,2,    31.93,2,    20.82,2,     1.16,2,   2339.2,2,   7.7360,2,    25.00
  35TH20100608, OVIDE,     9,  1,     11,2,20100611,2305, 40.3370, -10.5780, 4355,   2501.3,   3.3190,  34.9950,2,  34.9980,2,    250.2,2,    248.5,2,    27.50,2,    20.11,2,     1.08,2,   2334.1,2,   7.7360,2,    25.00
  35TH20100608, OVIDE,     9,  1,     12,2,20100611,2305, 40.3370, -10.5780, 4355,   2250.4,   3.5450,  35.0010,2,  35.0010,2,    254.5,2,    253.1,2,    22.85,2,    19.35,2,     1.07,2,   2326.4,2,   7.7330,2,    25.00
  35TH20100608, OVIDE,     9,  1,     13,2,20100611,2305, 40.3370, -10.5780, 4355,   1999.2,   4.0120,  35.0380,2,  35.0390,2,    256.9,2,    254.9,2,    16.15,2,    18.60,2,     1.03,2,   2322.6,2,   7.7320,2,    25.00
  35TH20100608, OVIDE,     9,  1,     14,2,20100611,2305, 40.3370, -10.5780, 4355,   1800.1,   5.1420,  35.2100,2,  35.2140,2,    244.6,2,    242.1,2,    14.26,2,    18.43,2,     0.97,2,   2332.6,2,   7.7390,2,    25.00
  35TH20100608, OVIDE,     9,  1,     15,2,20100611,2305, 40.3370, -10.5780, 4355,   1604.1,   6.4040,  35.4060,2,  35.4160,3,    227.5,2,    227.8,2,    12.62,2,    18.16,2,     0.90,2,   -999.0,9,   7.7470,2,    25.00
  35TH20100608, OVIDE,     9,  1,     16,2,20100611,2305, 40.3370, -10.5780, 4355,   1403.4,   9.2960,  35.9480,2,  35.9500,2,    196.7,2,    196.5,2,    11.01,2,    16.96,2,     0.86,2,   2381.4,2,   7.7780,2,    25.00
  35TH20100608, OVIDE,     9,  1,     17,2,20100611,2305, 40.3370, -10.5780, 4355,    902.3,  11.6450,  36.1400,2,  36.1430,2,    179.0,2,    180.5,2,     8.40,2,    15.33,2,     0.86,2,   2389.5,2,   7.7980,2,    25.00
  35TH20100608, OVIDE,     9,  1,     18,2,20100611,2305, 40.3370, -10.5780, 4355,    800.2,  11.9160,  36.1190,2,  36.1180,2,    180.5,2,    182.1,2,     7.78,2,    14.84,2,     0.83,2,   2384.1,2,   7.8020,2,    25.00
  35TH20100608, OVIDE,     9,  1,     19,2,20100611,2305, 40.3370, -10.5780, 4355,    697.1,  11.7760,  35.9590,2,  35.9600,2,    181.9,2,    183.4,2,     7.48,2,    15.22,2,     0.84,2,   2371.2,2,   7.7940,2,    25.00
  35TH20100608, OVIDE,     9,  1,     20,2,20100611,2305, 40.3370, -10.5780, 4355,    601.3,  11.6610,  35.7960,2,  35.7970,2,    184.3,2,    187.4,2,     7.15,2,    15.28,2,     0.82,2,   2357.0,2,   7.7890,2,    25.00
  35TH20100608, OVIDE,     9,  1,     21,2,20100611,2305, 40.3370, -10.5780, 4355,    497.4,  11.6100,  35.6720,2,  35.6720,2,    198.2,2,    201.4,2,     5.84,2,    14.14,2,     0.76,2,   2346.1,2,   7.7920,2,    25.00
  35TH20100608, OVIDE,     9,  1,     22,2,20100611,2305, 40.3370, -10.5780, 4355,    401.0,  11.7830,  35.6480,2,  35.6480,2,    225.7,2,    229.5,2,     4.16,2,    10.95,2,     0.65,2,   2343.6,2,   7.8250,2,    25.00
  35TH20100608, OVIDE,     9,  1,     23,2,20100611,2305, 40.3370, -10.5780, 4355,    300.3,  12.1100,  35.6970,2,  35.6980,2,    227.2,2,    233.8,3,     3.62,2,     9.75,2,     0.57,2,   2347.0,2,   7.8400,2,    25.00
  35TH20100608, OVIDE,     9,  1,     24,2,20100611,2305, 40.3370, -10.5780, 4355,    202.1,  12.4700,  35.7440,2,  35.7450,2,    233.6,2,    233.5,2,     3.36,2,     8.83,2,     0.44,2,   2347.9,2,   7.8510,2,    25.00
  35TH20100608, OVIDE,     9,  1,     25,2,20100611,2305, 40.3370, -10.5780, 4355,    148.2,  12.7340,  35.7750,2,  35.7750,2,    236.5,2,    233.6,2,     3.24,2,     8.40,2,     0.37,2,   2350.1,2,   7.8600,2,    25.00
  35TH20100608, OVIDE,     9,  1,     26,2,20100611,2305, 40.3370, -10.5780, 4355,    100.4,  13.2210,  35.8400,2,  35.8370,2,    238.5,2,    237.1,2,     2.48,2,     7.04,2,     0.31,2,   2353.1,2,   7.8900,2,    25.00
  35TH20100608, OVIDE,     9,  1,     27,2,20100611,2305, 40.3370, -10.5780, 4355,     48.1,  16.3400,  35.9520,2,  35.9680,3,    262.2,2,    257.9,2,     1.34,2,     0.11,2,     0.22,2,   2364.8,2,   7.9930,2,    25.00
  35TH20100608, OVIDE,     9,  1,     28,2,20100611,2305, 40.3370, -10.5780, 4355,      4.3,  17.8070,  35.9990,2,  35.9990,2,    241.8,2,    242.1,2,     1.30,2,     0.11,2,     0.02,2,   2367.1,2,   7.9870,2,    25.00
  35TH20100608, OVIDE,    10,  1,      3,2,20100612,0421, 40.3310, -10.9050, 4841,   4931.9,   2.5050,  34.8960,2,  34.8940,2,    243.6,2,    243.2,2,    46.54,2,    22.22,2,     1.38,2,   -999.0,9,   7.7330,2,    25.00
  35TH20100608, OVIDE,    10,  1,      4,2,20100612,0421, 40.3310, -10.9050, 4841,   4477.5,   2.4720,  34.8990,2,  34.8980,2,    243.5,2,    243.1,2,    46.00,2,    22.05,2,     1.32,2,   -999.0,9,   7.7310,2,    25.00
  35TH20100608, OVIDE,    10,  1,      5,2,20100612,0421, 40.3310, -10.9050, 4841,   4001.2,   2.4860,  34.9070,2,  34.9070,2,    243.9,2,    243.4,2,    44.24,2,    22.06,2,     1.38,2,   -999.0,9,   7.7320,2,    25.00
  35TH20100608, OVIDE,    10,  1,      6,2,20100612,0421, 40.3310, -10.9050, 4841,   3748.6,   2.5290,  34.9130,2,  34.9140,2,    244.4,2,    243.4,2,    42.92,2,    21.67,2,     1.36,2,   -999.0,9,   7.7300,2,    25.00
  35TH20100608, OVIDE,    10,  1,      7,2,20100612,0421, 40.3310, -10.9050, 4841,   3499.5,   2.5970,  34.9220,2,  34.9220,2,    245.0,2,    245.3,2,    41.10,2,    21.54,2,     1.27,2,   -999.0,9,   7.7330,2,    25.00
  35TH20100608, OVIDE,    10,  1,      8,2,20100612,0421, 40.3310, -10.9050, 4841,   3247.1,   2.6960,  34.9340,2,  34.9350,2,    245.8,2,    247.7,2,    38.97,2,    21.25,2,     1.27,2,   -999.0,9,   7.7330,2,    25.00
  35TH20100608, OVIDE,    10,  1,      9,2,20100612,0421, 40.3310, -10.9050, 4841,   3001.3,   2.8610,  34.9500,2,  34.9510,2,    247.0,2,    245.8,2,    35.88,2,    20.86,2,     1.25,2,   -999.0,9,   7.7350,2,    25.00
  35TH20100608, OVIDE,    10,  1,     10,2,20100612,0421, 40.3310, -10.9050, 4841,   2748.9,   3.0900,  34.9710,2,  34.9740,2,    249.0,2,    248.1,2,    31.38,2,    20.20,2,     1.23,2,   -999.0,9,   7.7360,2,    25.00
  35TH20100608, OVIDE,    10,  1,     11,2,20100612,0421, 40.3310, -10.9050, 4841,   2500.1,   3.3580,  34.9940,2,  34.9950,2,    251.1,2,    250.1,2,    27.46,2,    19.66,2,     1.19,2,   -999.0,9,   7.7360,2,    25.00
  35TH20100608, OVIDE,    10,  1,     12,2,20100612,0421, 40.3310, -10.9050, 4841,   2247.5,   3.6340,  35.0110,2,  35.0110,2,    254.9,2,    253.6,2,    22.33,2,    18.93,2,     1.13,2,   -999.0,9,   7.7350,2,    25.00
  35TH20100608, OVIDE,    10,  1,     13,2,20100612,0421, 40.3310, -10.9050, 4841,   2000.1,   4.1050,  35.0480,2,  35.0480,2,    256.6,2,    267.2,3,    15.70,2,    18.22,2,     1.11,2,   -999.0,9,   7.7320,2,    25.00
  35TH20100608, OVIDE,    10,  1,     14,2,20100612,0421, 40.3310, -10.9050, 4841,   1802.1,   4.8970,  35.1600,2,  35.1640,2,    247.8,2,    245.4,2,    13.70,2,    18.04,2,     1.07,2,   -999.0,9,   7.7340,2,    25.00
  35TH20100608, OVIDE,    10,  1,     15,2,20100612,0421, 40.3310, -10.9050, 4841,   1601.4,   6.2040,  35.3650,2,  35.3680,2,    230.6,2,    229.4,2,    12.66,2,    17.81,2,     1.00,2,   -999.0,9,   7.7430,2,    25.00
  35TH20100608, OVIDE,    10,  1,     16,2,20100612,0421, 40.3310, -10.9050, 4841,   1399.4,   9.0260,  35.8820,2,  35.8810,2,    197.0,2,    199.4,2,    11.01,2,    16.79,2,     0.90,2,   -999.0,9,   7.7740,2,    25.00
  35TH20100608, OVIDE,    10,  1,     17,2,20100612,0421, 40.3310, -10.9050, 4841,   1199.0,  10.3760,  36.0760,2,  36.0760,2,    183.4,2,    186.3,2,    10.70,2,    16.10,2,     0.90,2,   -999.0,9,   7.7840,2,    25.00
  35TH20100608, OVIDE,    10,  1,     18,2,20100612,0421, 40.3310, -10.9050, 4841,    998.1,  11.4920,  36.2050,2,  36.2070,2,    178.4,2,    180.0,2,     9.63,2,    15.15,2,     0.78,2,   -999.0,9,   7.7980,2,    25.00
  35TH20100608, OVIDE,    10,  1,     19,2,20100612,0421, 40.3310, -10.9050, 4841,    900.7,  11.4810,  36.1200,2,  36.1180,2,    178.6,2,    180.5,2,     8.71,2,    15.41,2,     0.83,2,   -999.0,9,   7.7960,2,    25.00
  35TH20100608, OVIDE,    10,  1,     20,2,20100612,0421, 40.3310, -10.9050, 4841,    801.2,  12.1140,  36.1890,2,  36.1930,2,    182.0,2,    184.0,2,     7.79,2,    14.03,2,     0.75,2,   -999.0,9,   7.8120,2,    25.00
  35TH20100608, OVIDE,    10,  1,     21,2,20100612,0421, 40.3310, -10.9050, 4841,    700.0,  11.9690,  36.0110,2,  36.0130,2,    183.1,2,    184.0,2,     7.38,2,    14.40,2,     0.78,2,   -999.0,9,   7.8010,2,    25.00
  35TH20100608, OVIDE,    10,  1,     22,2,20100612,0421, 40.3310, -10.9050, 4841,    600.2,  11.3340,  35.7010,2,  35.6730,3,    195.5,2,    192.5,2,     7.39,2,    15.17,2,     0.79,2,   -999.0,9,   7.7820,2,    25.00
  35TH20100608, OVIDE,    10,  1,     23,2,20100612,0421, 40.3310, -10.9050, 4841,    500.8,  11.5970,  35.6330,2,  35.6470,3,    218.9,2,    210.3,3,     5.88,2,    12.90,2,     0.66,2,   -999.0,9,   7.8000,2,    25.00
  35TH20100608, OVIDE,    10,  1,     24,2,20100612,0421, 40.3310, -10.9050, 4841,    401.1,  12.2870,  35.7200,2,  35.7190,2,    219.7,2,    208.9,3,     4.70,2,    11.91,2,     0.62,2,   -999.0,9,   7.8160,2,    25.00
  35TH20100608, OVIDE,    10,  1,     25,2,20100612,0421, 40.3310, -10.9050, 4841,    300.3,  13.0430,  35.8200,2,  35.8230,2,    213.4,2,    213.4,2,     3.86,2,     9.96,2,     0.51,2,   -999.0,9,   7.8410,2,    25.00
  35TH20100608, OVIDE,    10,  1,     26,2,20100612,0421, 40.3310, -10.9050, 4841,    202.9,  14.0520,  36.0110,2,  36.0070,2,    223.9,2,    223.0,2,     2.82,2,     6.67,2,     0.32,2,   -999.0,9,   7.8860,2,    25.00
  35TH20100608, OVIDE,    10,  1,     27,2,20100612,0421, 40.3310, -10.9050, 4841,    149.9,  14.6040,  36.1000,2,  36.0980,2,    226.5,2,    219.2,2,     2.73,2,     6.24,2,     0.31,2,   -999.0,9,   7.8930,2,    25.00
  35TH20100608, OVIDE,    10,  1,     28,2,20100612,0421, 40.3310, -10.9050, 4841,    100.5,  15.2210,  36.2070,2,  36.2030,2,    232.3,2,    227.9,2,     2.21,2,     3.96,2,     0.18,2,   -999.0,9,   7.9230,2,    25.00
  35TH20100608, OVIDE,    10,  1,     29,2,20100612,0421, 40.3310, -10.9050, 4841,     56.8,  15.9270,  36.2550,2,  36.2540,2,    248.4,2,    250.5,2,     3.15,2,     0.20,2,     0.09,2,   -999.0,9,   7.9650,2,    25.00
  35TH20100608, OVIDE,    10,  1,     30,2,20100612,0421, 40.3310, -10.9050, 4841,      3.8,  18.1160,  36.2110,2,  36.2120,2,    238.9,2,    237.1,2,     1.40,2,     0.11,2,     0.01,2,   -999.0,9,   7.9800,2,    25.00
  35TH20100608, OVIDE,    11,  1,      3,2,20100612,0954, 40.3330, -11.3400, 5082,   5179.7,   2.5340,  34.8950,2,  34.8950,2,    243.5,2,    244.4,2,    46.98,2,    22.12,2,     1.39,2,   2354.6,2,   7.7330,2,    25.00
  35TH20100608, OVIDE,    11,  1,      4,2,20100612,0954, 40.3330, -11.3400, 5082,   5001.8,   2.5160,  34.8970,2,  34.8960,2,    243.4,2,    243.4,2,    47.19,2,    22.14,2,     1.40,2,   2353.9,2,   7.7330,2,    25.00
  35TH20100608, OVIDE,    11,  1,      5,2,20100612,0954, 40.3330, -11.3400, 5082,   4502.1,   2.4820,  34.9000,2,  34.8990,2,    243.3,2,    243.2,2,    46.27,2,    21.84,2,     1.39,2,   2352.1,2,   7.7330,2,    25.00
  35TH20100608, OVIDE,    11,  1,      6,2,20100612,0954, 40.3330, -11.3400, 5082,   4000.2,   2.5020,  34.9080,2,  34.9070,2,    243.7,2,    245.0,2,    44.56,2,    21.54,2,     1.35,2,   2349.4,2,   7.7330,2,    25.00
  35TH20100608, OVIDE,    11,  1,      7,2,20100612,0954, 40.3330, -11.3400, 5082,   3501.8,   2.6050,  34.9250,2,  34.9240,2,    244.8,2,    243.9,2,    41.00,2,    21.25,2,     1.34,2,   2345.8,2,   7.7350,2,    25.00
  35TH20100608, OVIDE,    11,  1,      8,2,20100612,0954, 40.3330, -11.3400, 5082,   3250.4,   2.7290,  34.9370,2,  34.9380,2,    245.8,2,    246.6,2,    38.12,2,    20.89,2,     1.30,2,   2342.9,2,   7.7340,2,    25.00
  35TH20100608, OVIDE,    11,  1,      9,2,20100612,0954, 40.3330, -11.3400, 5082,   2998.4,   2.8950,  34.9550,2,  34.9550,2,    246.8,2,    245.4,2,    35.25,2,    20.62,2,     1.27,2,   2340.3,2,   7.7360,2,    25.00
  35TH20100608, OVIDE,    11,  1,     10,2,20100612,0954, 40.3330, -11.3400, 5082,   2751.7,   3.0850,  34.9690,2,  34.9700,2,    250.2,2,    248.9,2,    29.94,2,    19.88,2,     1.24,2,   2333.9,2,   7.7360,2,    25.00
  35TH20100608, OVIDE,    11,  1,     11,2,20100612,0954, 40.3330, -11.3400, 5082,   2502.1,   3.4060,  35.0030,2,  35.0020,2,    250.7,2,    249.4,2,    26.73,2,    19.27,2,     1.16,2,   2330.3,2,   7.7370,2,    25.00
  35TH20100608, OVIDE,    11,  1,     12,2,20100612,0954, 40.3330, -11.3400, 5082,   2249.4,   3.8290,  35.0410,2,  35.0400,2,    253.4,2,    251.0,2,    21.55,2,    18.72,2,     1.14,2,   2326.6,2,   7.7370,2,    25.00
  35TH20100608, OVIDE,    11,  1,     13,2,20100612,0954, 40.3330, -11.3400, 5082,   2001.6,   4.2580,  35.0760,2,  35.0770,2,    253.0,2,    252.6,2,    15.87,2,    17.93,2,     1.08,2,   2321.3,2,   7.7350,2,    25.00
  35TH20100608, OVIDE,    11,  1,     14,2,20100612,0954, 40.3330, -11.3400, 5082,   1799.8,   5.1800,  35.2160,2,  35.2160,2,    243.5,2,    241.4,2,    14.22,2,    17.82,2,     1.05,2,   2329.0,2,   7.7400,2,    25.00
  35TH20100608, OVIDE,    11,  1,     15,2,20100612,0954, 40.3330, -11.3400, 5082,   1598.8,   6.8040,  35.4890,2,  35.4890,2,    221.8,2,    221.7,2,    13.15,2,    17.43,2,     1.01,2,   -999.0,9,   7.7530,2,    25.00
  35TH20100608, OVIDE,    11,  1,     16,2,20100612,0954, 40.3330, -11.3400, 5082,   1399.9,   9.6830,  36.0440,2,  36.0410,2,    190.2,2,    193.5,2,    11.39,2,    16.11,2,     0.89,2,   2384.9,2,   7.7850,2,    25.00
  35TH20100608, OVIDE,    11,  1,     17,2,20100612,0954, 40.3330, -11.3400, 5082,   1200.5,  11.1730,  36.2670,2,  36.2660,2,    179.8,2,    182.5,2,     9.99,2,    15.19,2,     0.83,2,   2399.6,2,   7.7990,2,    25.00
  35TH20100608, OVIDE,    11,  1,     18,2,20100612,0954, 40.3330, -11.3400, 5082,   1002.7,  11.5600,  36.2110,2,  36.2100,2,    178.6,2,    180.6,2,     9.38,2,    14.86,2,     0.83,2,   2392.2,2,   7.8010,2,    25.00
  35TH20100608, OVIDE,    11,  1,     19,2,20100612,0954, 40.3330, -11.3400, 5082,    900.4,  11.6870,  36.1510,2,  36.1420,3,    179.4,2,    181.5,2,     8.98,2,    14.72,2,     0.82,2,   -999.0,9,   7.8000,2,    25.00
  35TH20100608, OVIDE,    11,  1,     20,2,20100612,0954, 40.3330, -11.3400, 5082,    798.3,  12.0450,  36.1570,2,  36.1520,3,    181.9,2,    184.0,2,     8.45,2,    14.03,2,     0.74,2,   2383.8,2,   7.8060,2,    25.00
  35TH20100608, OVIDE,    11,  1,     21,2,20100612,0954, 40.3330, -11.3400, 5082,    699.7,  12.0110,  35.9940,2,  36.0060,3,    183.0,2,    184.6,2,     7.87,2,    14.30,2,     0.79,2,   2370.0,2,   7.8040,2,    25.00
  35TH20100608, OVIDE,    11,  1,     22,2,20100612,0954, 40.3330, -11.3400, 5082,    601.7,  11.6030,  35.7410,2,  35.7440,2,    188.1,2,    191.9,2,     6.62,2,    14.53,2,     0.81,2,   -999.0,9,   7.7910,2,    25.00
  35TH20100608, OVIDE,    11,  1,     23,2,20100612,0954, 40.3330, -11.3400, 5082,    500.2,  11.8480,  35.6700,2,  35.6700,2,    206.1,2,    207.3,2,     5.12,2,    12.80,2,     0.70,2,   2341.4,2,   7.8020,2,    25.00
  35TH20100608, OVIDE,    11,  1,     24,2,20100612,0954, 40.3330, -11.3400, 5082,    401.6,  12.3940,  35.7290,2,  35.7290,2,    211.8,2,    211.6,2,     4.28,2,    11.15,2,     0.57,2,   2344.1,2,   7.8200,2,    25.00
  35TH20100608, OVIDE,    11,  1,     25,2,20100612,0954, 40.3330, -11.3400, 5082,    299.3,  13.1480,  35.8460,2,  35.8430,2,    215.7,2,    215.7,2,     3.63,2,     9.32,2,     0.49,2,   -999.0,9,   7.8490,2,    25.00
  35TH20100608, OVIDE,    11,  1,     26,2,20100612,0954, 40.3330, -11.3400, 5082,    200.8,  14.1190,  36.0190,2,  36.0200,2,    226.3,2,    227.7,2,     2.62,2,     6.06,2,     0.32,2,   2362.4,2,   7.8930,2,    25.00
  35TH20100608, OVIDE,    11,  1,     27,2,20100612,0954, 40.3330, -11.3400, 5082,    150.8,  14.5920,  36.1060,2,  36.1060,2,    234.0,2,    230.9,2,     2.27,2,     4.54,2,     0.24,2,   2368.0,2,   7.9100,2,    25.00
  35TH20100608, OVIDE,    11,  1,     28,2,20100612,0954, 40.3330, -11.3400, 5082,     99.6,  15.0360,  36.1720,2,  36.1720,2,    234.6,2,    232.2,2,     2.12,2,     3.62,2,     0.18,2,   2371.3,2,   7.9310,2,    25.00
  35TH20100608, OVIDE,    11,  1,     29,2,20100612,0954, 40.3330, -11.3400, 5082,     56.3,  16.1210,  36.2420,2,  36.2390,2,    252.8,2,    248.8,2,     1.63,2,     0.10,2,     0.03,2,   2378.1,2,   7.9700,2,    25.00
  35TH20100608, OVIDE,    11,  1,     30,2,20100612,0954, 40.3330, -11.3400, 5082,      7.6,  18.0990,  36.2050,2,  36.2070,2,    238.7,2,    238.0,2,     1.72,2,     0.08,2,     0.02,2,   2377.3,2,   7.9830,2,    25.00