BOTTLE,20140929PRINUNIVRMK
EXPOCODE,SECT_ID,STNNBR,CASTNO,BTLNBR,BTLNBR_FLAG_W,DATE,TIME,LATITUDE,LONGITUDE,DEPTH,CTDPRS,CTDTMP,CTDSAL,CTDSAL_FLAG_W,SALNTY,SALNTY_FLAG_W,CTDOXY,CTDOXY_FLAG_W,OXYGEN,OXYGEN_FLAG_W,SILCAT,SILCAT_FLAG_W,NITRAT,NITRAT_FLAG_W,PHSPHT,PHSPHT_FLAG_W,ALKALI,ALKALI_FLAG_W,PH_SWS,PH_SWS_FLAG_W,PH_TMP
,,,,,,,,,,METERS,DBAR,ITS-90,PSS-78,,PSS-78,,UMOL/KG,,UMOL/KG,,UMOL/KG,,UMOL/KG,,UMOL/KG,,UMOL/KG,,,,DEG C
  35TH20100608, OVIDE,    36,  1,      3,2,20100618,1751, 47.6650, -20.5540, 4342,   4420.9,   2.5570,  34.9070,2,  34.9070,2,    240.3,2,    239.9,2,    45.77,2,    22.39,2,     1.37,2,   -999.0,9,   7.7280,2,    25.00
  35TH20100608, OVIDE,    36,  1,      4,2,20100618,1751, 47.6650, -20.5540, 4342,   3998.3,   2.5400,  34.9100,2,  34.9100,2,    241.0,2,    243.2,2,    44.81,2,    21.69,2,     1.41,2,   -999.0,9,   7.7280,2,    25.00
  35TH20100608, OVIDE,    36,  1,      5,2,20100618,1751, 47.6650, -20.5540, 4342,   3749.8,   2.5490,  34.9150,2,  34.9140,2,    242.4,2,    242.8,2,    43.50,2,    21.78,2,     1.37,2,   -999.0,9,   7.7280,2,    25.00
  35TH20100608, OVIDE,    36,  1,      6,2,20100618,1751, 47.6650, -20.5540, 4342,   3497.5,   2.6090,  34.9220,2,  34.9240,2,    245.8,2,    246.4,2,    40.23,2,    20.71,2,     1.31,2,   -999.0,9,   7.7280,2,    25.00
  35TH20100608, OVIDE,    36,  1,      7,2,20100618,1751, 47.6650, -20.5540, 4342,   3249.9,   2.7160,  34.9330,2,  34.9330,2,    251.5,2,    251.3,2,    34.78,2,    20.24,2,     1.28,2,   -999.0,9,   7.7280,2,    25.00
  35TH20100608, OVIDE,    36,  1,      8,2,20100618,1751, 47.6650, -20.5540, 4342,   2998.4,   2.8480,  34.9400,2,  34.9420,2,    258.2,2,    257.5,2,    28.48,2,    19.01,2,     1.18,2,   -999.0,9,   7.7280,2,    25.00
  35TH20100608, OVIDE,    36,  1,      9,2,20100618,1751, 47.6650, -20.5540, 4342,   2749.7,   3.0050,  34.9450,2,  34.9450,2,    262.6,2,    261.2,2,    23.68,2,    17.73,2,     1.03,2,   -999.0,9,   7.7290,2,    25.00
  35TH20100608, OVIDE,    36,  1,     10,2,20100618,1751, 47.6650, -20.5540, 4342,   2499.9,   3.1570,  34.9300,2,  34.9330,2,    271.3,2,    270.7,2,    15.95,2,    17.49,2,     1.03,2,   -999.0,9,   7.7240,2,    25.00
  35TH20100608, OVIDE,    36,  1,     11,2,20100618,1751, 47.6650, -20.5540, 4342,   2247.3,   3.2560,  34.9100,2,  34.9120,2,    277.8,2,    278.9,2,    12.69,2,    17.22,2,     1.03,2,   -999.0,9,   7.7220,2,    25.00
  35TH20100608, OVIDE,    36,  1,     12,2,20100618,1751, 47.6650, -20.5540, 4342,   2000.3,   3.4100,  34.9060,2,  34.9070,2,    277.8,2,    276.1,2,    11.77,2,    16.87,2,     1.00,2,   -999.0,9,   7.7190,2,    25.00
  35TH20100608, OVIDE,    36,  1,     13,2,20100618,1751, 47.6650, -20.5540, 4342,   1799.7,   3.5840,  34.9130,2,  34.9130,2,    275.6,2,    273.9,2,    11.46,2,    17.32,2,     1.04,2,   -999.0,9,   7.7150,2,    25.00
  35TH20100608, OVIDE,    36,  1,     14,2,20100618,1751, 47.6650, -20.5540, 4342,   1601.5,   3.7550,  34.9120,2,  34.9150,2,    274.5,2,    276.4,2,    10.84,2,    17.04,2,     1.03,2,   -999.0,9,   7.7120,2,    25.00
  35TH20100608, OVIDE,    36,  1,     15,2,20100618,1751, 47.6650, -20.5540, 4342,   1399.8,   3.9700,  34.9260,2,  34.9220,2,    272.8,2,    270.7,2,    10.27,2,    17.08,2,     1.01,2,   -999.0,9,   7.7120,2,    25.00
  35TH20100608, OVIDE,    36,  1,     16,2,20100618,1751, 47.6650, -20.5540, 4342,   1200.0,   4.4570,  34.9700,2,  34.9710,2,    262.2,2,    262.4,2,    10.24,2,    17.18,2,     1.02,2,   -999.0,9,   7.7110,2,    25.00
  35TH20100608, OVIDE,    36,  1,     17,2,20100618,1751, 47.6650, -20.5540, 4342,   1000.2,   5.4140,  35.0700,2,  35.0710,2,    242.8,2,    243.5,2,    10.41,2,    18.00,2,     1.05,2,   -999.0,9,   7.7070,2,    25.00
  35TH20100608, OVIDE,    36,  1,     18,2,20100618,1751, 47.6650, -20.5540, 4342,    901.6,   5.8630,  35.0850,2,  35.1060,3,    231.1,2,    233.3,2,    10.59,2,    17.84,2,     1.07,2,   -999.0,9,   7.7090,2,    25.00
  35TH20100608, OVIDE,    36,  1,     19,2,20100618,1751, 47.6650, -20.5540, 4342,    799.7,   6.9300,  35.1930,2,  35.1980,3,    215.1,2,    215.2,2,    10.68,2,    18.65,2,     1.08,2,   -999.0,9,   7.7120,2,    25.00
  35TH20100608, OVIDE,    36,  1,     20,2,20100618,1751, 47.6650, -20.5540, 4342,    699.8,   7.0430,  35.0900,2,  35.0930,2,    206.5,2,    211.7,2,    10.83,2,    19.23,2,     1.12,2,   -999.0,9,   7.7060,2,    25.00
  35TH20100608, OVIDE,    36,  1,     21,2,20100618,1751, 47.6650, -20.5540, 4342,    600.1,   8.3440,  35.1750,2,  35.1890,3,    197.8,2,    201.8,2,     9.91,2,    18.42,2,     1.07,2,   -999.0,9,   7.7120,2,    25.00
  35TH20100608, OVIDE,    36,  1,     22,2,20100618,1751, 47.6650, -20.5540, 4342,    501.2,   8.9370,  35.1230,2,  35.1220,2,    202.1,2,    200.6,2,     8.98,2,    17.98,2,     1.04,2,   -999.0,9,   7.7290,2,    25.00
  35TH20100608, OVIDE,    36,  1,     23,2,20100618,1751, 47.6650, -20.5540, 4342,    399.6,  10.4120,  35.3360,2,  35.3330,2,    249.4,2,    231.1,3,     5.90,2,    12.96,2,     0.77,2,   -999.0,9,   7.7980,2,    25.00
  35TH20100608, OVIDE,    36,  1,     24,2,20100618,1751, 47.6650, -20.5540, 4342,    300.5,  11.2900,  35.4890,2,  35.4870,2,    246.7,2,    247.0,2,     4.60,2,    10.72,2,     0.62,2,   -999.0,9,   7.8380,2,    25.00
  35TH20100608, OVIDE,    36,  1,     25,2,20100618,1751, 47.6650, -20.5540, 4342,    200.7,  11.4720,  35.5030,2,  35.5020,2,    247.7,2,    246.5,2,     4.52,2,    10.29,2,     0.56,2,   -999.0,9,   7.8500,2,    25.00
  35TH20100608, OVIDE,    36,  1,     26,2,20100618,1751, 47.6650, -20.5540, 4342,    150.8,  11.6800,  35.5360,2,  35.5420,3,    245.8,2,    244.8,2,     4.40,2,    10.21,2,     0.54,2,   -999.0,9,   7.8490,2,    25.00
  35TH20100608, OVIDE,    36,  1,     27,2,20100618,1751, 47.6650, -20.5540, 4342,    100.0,  12.1950,  35.6020,2,  35.6050,2,    243.7,2,    246.8,2,     3.67,2,     9.95,2,     0.48,2,   -999.0,9,   7.8610,2,    25.00
  35TH20100608, OVIDE,    36,  1,     28,2,20100618,1751, 47.6650, -20.5540, 4342,     55.4,  12.9250,  35.6050,2,  35.6530,3,    250.6,2,    252.7,2,     2.29,2,     7.08,2,     0.38,2,   -999.0,9,   7.8910,2,    25.00
  35TH20100608, OVIDE,    36,  1,     29,2,20100618,1751, 47.6650, -20.5540, 4342,      3.9,  17.3130,  35.6710,2,  35.5990,3,    268.6,2,    272.2,2,     0.78,2,     0.18,2,     0.04,2,   -999.0,9,   7.9980,2,    25.00
  35TH20100608, OVIDE,    37,  1,      3,2,20100618,2322, 48.0390, -20.8470, 4455,   4521.2,   2.5740,  34.9080,2,  34.9090,2,    240.2,2,    239.6,2,    45.97,2,    22.15,2,     1.34,2,   2351.0,2,   7.7300,2,    25.00
  35TH20100608, OVIDE,    37,  1,      4,2,20100618,2322, 48.0390, -20.8470, 4455,   3993.2,   2.5610,  34.9140,2,  34.9140,2,    241.9,2,    243.7,2,  -999.00,9,    21.41,2,     1.26,2,   2348.9,2,   7.7280,2,    25.00
  35TH20100608, OVIDE,    37,  1,      5,2,20100618,2322, 48.0390, -20.8470, 4455,   3750.3,   2.5840,  34.9170,2,  34.9190,2,    243.7,2,    245.8,2,    42.29,2,    21.75,2,     1.33,2,   -999.0,9,   7.7280,2,    25.00
  35TH20100608, OVIDE,    37,  1,      6,2,20100618,2322, 48.0390, -20.8470, 4455,   3484.2,   2.6420,  34.9250,2,  34.9260,2,    247.7,2,    247.7,2,    39.11,2,    20.97,2,     1.26,2,   2340.5,2,   7.7280,2,    25.00
  35TH20100608, OVIDE,    37,  1,      7,2,20100618,2322, 48.0390, -20.8470, 4455,   3208.9,   2.7640,  34.9360,2,  34.9370,2,    253.4,2,    255.7,2,    32.99,2,    19.32,2,     1.15,2,   2332.5,2,   7.7300,2,    25.00
  35TH20100608, OVIDE,    37,  1,      8,2,20100618,2322, 48.0390, -20.8470, 4455,   3003.5,   2.8680,  34.9420,2,  34.9420,2,    258.4,2,    257.6,2,    28.82,2,    19.06,2,     1.09,2,   2327.9,2,   7.7290,2,    25.00
  35TH20100608, OVIDE,    37,  1,      9,2,20100618,2322, 48.0390, -20.8470, 4455,   2750.9,   3.0090,  34.9410,2,  34.9440,2,    264.9,2,    264.7,2,    22.90,2,    17.82,2,     1.03,2,   -999.0,9,   7.7280,2,    25.00
  35TH20100608, OVIDE,    37,  1,     10,2,20100618,2322, 48.0390, -20.8470, 4455,   2499.9,   3.1380,  34.9240,2,  34.9240,2,    274.6,2,    273.6,2,    19.02,2,    17.18,2,     0.96,2,   2311.6,2,   7.7260,2,    25.00
  35TH20100608, OVIDE,    37,  1,     11,2,20100618,2322, 48.0390, -20.8470, 4455,   2248.5,   3.2240,  34.9110,2,  34.9130,2,    278.3,2,    277.0,2,    14.85,2,    17.27,2,     1.01,2,   2305.9,2,   7.7250,2,    25.00
  35TH20100608, OVIDE,    37,  1,     12,2,20100618,2322, 48.0390, -20.8470, 4455,   2001.1,   3.3750,  34.9040,2,  34.9070,2,    278.0,2,    277.6,2,    12.90,2,    17.43,2,     1.03,2,   2304.9,2,   7.7220,2,    25.00
  35TH20100608, OVIDE,    37,  1,     13,2,20100618,2322, 48.0390, -20.8470, 4455,   1799.5,   3.5570,  34.9080,2,  34.9100,2,    275.5,2,    274.5,2,    12.03,2,    17.44,2,     1.04,2,   2304.9,2,   7.7170,2,    25.00
  35TH20100608, OVIDE,    37,  1,     14,2,20100618,2322, 48.0390, -20.8470, 4455,   1601.3,   3.7330,  34.9110,2,  34.9030,3,    274.5,2,    272.2,2,    11.40,2,    17.22,2,     0.95,2,   -999.0,9,   7.7160,2,    25.00
  35TH20100608, OVIDE,    37,  1,     15,2,20100618,2322, 48.0390, -20.8470, 4455,   1399.9,   3.9390,  34.9220,2,  34.9250,2,    271.7,2,    271.1,2,    10.97,2,    16.81,2,     0.95,2,   2304.8,2,   7.7130,2,    25.00
  35TH20100608, OVIDE,    37,  1,     16,2,20100618,2322, 48.0390, -20.8470, 4455,   1199.2,   4.3050,  34.9550,2,  34.9580,2,    264.3,2,    264.8,2,    10.58,2,    17.41,2,     1.00,2,   2307.7,2,   7.7120,2,    25.00
  35TH20100608, OVIDE,    37,  1,     17,2,20100618,2322, 48.0390, -20.8470, 4455,   1001.0,   5.0290,  35.0240,2,  35.0310,3,    246.3,2,    251.2,2,    10.46,2,    18.18,2,     1.05,2,   2311.2,2,   7.7100,2,    25.00
  35TH20100608, OVIDE,    37,  1,     18,2,20100618,2322, 48.0390, -20.8470, 4455,    901.0,   5.6290,  35.0870,2,  35.0900,2,    236.7,2,    237.3,2,    10.51,2,    19.18,2,     1.08,2,   2315.5,2,   7.7110,2,    25.00
  35TH20100608, OVIDE,    37,  1,     19,2,20100618,2322, 48.0390, -20.8470, 4455,    800.2,   6.2340,  35.1260,2,  35.1250,2,    225.1,2,    226.8,2,    10.69,2,    18.82,2,     1.09,2,   2318.1,2,   7.7100,2,    25.00
  35TH20100608, OVIDE,    37,  1,     20,2,20100618,2322, 48.0390, -20.8470, 4455,    699.4,   6.2330,  35.0250,2,  35.0350,3,    217.5,2,    222.9,2,    10.64,2,    19.48,2,     1.12,2,   2312.9,2,   7.7000,2,    25.00
  35TH20100608, OVIDE,    37,  1,     21,2,20100618,2322, 48.0390, -20.8470, 4455,    600.0,   7.1580,  35.0610,2,  35.0590,2,    200.8,2,    207.6,2,    10.81,2,    18.63,2,     1.14,2,   2313.8,2,   7.7000,2,    25.00
  35TH20100608, OVIDE,    37,  1,     22,2,20100618,2322, 48.0390, -20.8470, 4455,    549.7,   7.9650,  35.1150,2,  35.1200,2,    194.0,2,    197.1,2,    10.89,2,    20.00,2,     1.13,2,   2317.0,2,   7.7060,2,    25.00
  35TH20100608, OVIDE,    37,  1,     23,2,20100618,2322, 48.0390, -20.8470, 4455,    449.5,   9.2430,  35.2300,2,  35.2260,2,    212.2,2,    206.7,2,     8.45,2,    16.90,2,     0.97,2,   2321.7,2,   7.7450,2,    25.00
  35TH20100608, OVIDE,    37,  1,     24,2,20100618,2322, 48.0390, -20.8470, 4455,    349.5,   9.7400,  35.2310,2,  35.2330,2,    243.0,2,    244.0,2,     5.74,2,    12.67,2,     0.72,2,   2320.9,2,   7.7960,2,    25.00
  35TH20100608, OVIDE,    37,  1,     25,2,20100618,2322, 48.0390, -20.8470, 4455,    299.6,  10.1650,  35.2970,2,  35.2950,2,    246.7,2,    246.2,2,     5.31,2,    11.91,2,     0.67,2,   2324.1,2,   7.8080,2,    25.00
  35TH20100608, OVIDE,    37,  1,     26,2,20100618,2322, 48.0390, -20.8470, 4455,    198.6,  10.6650,  35.3720,2,  35.3700,2,    251.5,2,    248.1,2,     4.87,2,    11.25,2,     0.63,2,   2328.1,2,   7.8330,2,    25.00
  35TH20100608, OVIDE,    37,  1,     27,2,20100618,2322, 48.0390, -20.8470, 4455,     99.0,  11.3160,  35.4560,2,  35.4560,2,    255.3,2,    254.8,2,     3.73,2,    10.39,2,     0.57,2,   2331.2,2,   7.8450,2,    25.00
  35TH20100608, OVIDE,    37,  1,     28,2,20100618,2322, 48.0390, -20.8470, 4455,     46.7,  12.7060,  35.5490,2,  35.5540,3,    262.6,2,    258.4,2,     1.66,2,     4.76,2,     0.38,2,   -999.0,9,   7.8980,2,    25.00
  35TH20100608, OVIDE,    37,  1,     29,2,20100618,2322, 48.0390, -20.8470, 4455,      3.5,  17.8990,  35.5280,2,  35.5430,3,    266.5,2,    261.7,2,     0.78,2,     0.10,2,     0.06,2,   2341.4,2,   8.0080,2,    25.00
  35TH20100608, OVIDE,    38,  1,      3,2,20100619,0505, 48.4130, -21.1420, 4326,   4406.1,   2.5680,  34.9080,2,  34.9090,2,    240.1,2,    243.0,2,    46.67,2,    22.73,2,     1.33,2,   -999.0,9,   7.7300,2,    25.00
  35TH20100608, OVIDE,    38,  1,      4,2,20100619,0505, 48.4130, -21.1420, 4326,   3999.1,   2.5440,  34.9110,2,  34.9120,2,    241.1,2,    242.2,2,    45.34,2,    22.98,2,     1.32,2,   -999.0,9,   7.7290,2,    25.00
  35TH20100608, OVIDE,    38,  1,      5,2,20100619,0505, 48.4130, -21.1420, 4326,   3749.2,   2.5570,  34.9150,2,  34.9150,2,    242.9,2,    243.4,2,    43.89,2,    22.10,2,     1.27,2,   -999.0,9,   7.7260,2,    25.00
  35TH20100608, OVIDE,    38,  1,      6,2,20100619,0505, 48.4130, -21.1420, 4326,   3500.4,   2.6130,  34.9220,2,  34.9230,2,    246.0,2,    246.0,2,    40.30,2,    21.79,2,     1.25,2,   -999.0,9,   7.7270,2,    25.00
  35TH20100608, OVIDE,    38,  1,      7,2,20100619,0505, 48.4130, -21.1420, 4326,   3253.6,   2.7060,  34.9310,2,  34.9340,2,    251.6,2,    252.5,2,    35.35,2,    21.24,2,     1.20,2,   -999.0,9,   7.7260,2,    25.00
  35TH20100608, OVIDE,    38,  1,      8,2,20100619,0505, 48.4130, -21.1420, 4326,   2999.9,   2.8480,  34.9400,2,  34.9420,2,    259.6,2,    260.0,2,    27.80,2,    19.38,2,     1.10,2,   -999.0,9,   7.7270,2,    25.00
  35TH20100608, OVIDE,    38,  1,      9,2,20100619,0505, 48.4130, -21.1420, 4326,   2748.6,   2.9850,  34.9390,2,  34.9410,2,    267.4,2,    267.9,2,    18.93,2,    17.82,2,     0.99,2,   -999.0,9,   7.7250,2,    25.00
  35TH20100608, OVIDE,    38,  1,     10,2,20100619,0505, 48.4130, -21.1420, 4326,   2499.6,   3.1190,  34.9260,2,  34.9270,2,    273.3,2,    272.3,2,    15.33,2,    17.47,2,     1.00,2,   -999.0,9,   7.7260,2,    25.00
  35TH20100608, OVIDE,    38,  1,     11,2,20100619,0505, 48.4130, -21.1420, 4326,   2248.9,   3.2340,  34.9110,2,  34.9130,2,    277.2,2,    275.6,2,    13.18,2,    18.20,2,     1.00,2,   -999.0,9,   7.7240,2,    25.00
  35TH20100608, OVIDE,    38,  1,     12,2,20100619,0505, 48.4130, -21.1420, 4326,   1998.9,   3.4030,  34.9060,2,  34.9080,2,    277.9,2,    276.6,2,    12.12,2,    17.15,2,     0.96,2,   -999.0,9,   7.7210,2,    25.00
  35TH20100608, OVIDE,    38,  1,     13,2,20100619,0505, 48.4130, -21.1420, 4326,   1800.3,   3.5610,  34.9090,2,  34.9120,2,    276.0,2,    275.3,2,    11.60,2,    17.72,2,     1.00,2,   -999.0,9,   7.7170,2,    25.00
  35TH20100608, OVIDE,    38,  1,     14,2,20100619,0505, 48.4130, -21.1420, 4326,   1598.9,   3.7200,  34.9120,2,  34.9140,2,    274.6,2,    273.3,2,    11.10,2,    17.96,2,     1.00,2,   -999.0,9,   7.7150,2,    25.00
  35TH20100608, OVIDE,    38,  1,     15,2,20100619,0505, 48.4130, -21.1420, 4326,   1399.2,   3.8860,  34.9160,2,  34.9180,2,    273.0,2,    272.2,2,    10.59,2,    17.54,2,     1.00,2,   -999.0,9,   7.7110,2,    25.00
  35TH20100608, OVIDE,    38,  1,     16,2,20100619,0505, 48.4130, -21.1420, 4326,   1199.7,   4.2060,  34.9420,2,  34.9450,2,    264.6,2,    267.9,2,    10.53,2,    18.02,2,     1.03,2,   -999.0,9,   7.7110,2,    25.00
  35TH20100608, OVIDE,    38,  1,     17,2,20100619,0505, 48.4130, -21.1420, 4326,    999.5,   4.8970,  35.0050,2,  35.0090,2,    247.7,2,    254.1,2,    10.58,2,    18.53,2,     1.06,2,   -999.0,9,   7.7050,2,    25.00
  35TH20100608, OVIDE,    38,  1,     18,2,20100619,0505, 48.4130, -21.1420, 4326,    899.0,   5.6370,  35.0960,2,  35.0870,3,    235.7,2,    238.6,2,    10.84,2,    18.61,2,     1.07,2,   -999.0,9,   7.7070,2,    25.00
  35TH20100608, OVIDE,    38,  1,     19,2,20100619,0505, 48.4130, -21.1420, 4326,    799.0,   6.2740,  35.1390,2,  35.1350,2,    221.2,2,    226.6,2,    10.91,2,    19.14,2,     1.06,2,   -999.0,9,   7.7070,2,    25.00
  35TH20100608, OVIDE,    38,  1,     20,2,20100619,0505, 48.4130, -21.1420, 4326,    699.4,   6.9780,  35.1660,2,  35.1660,2,    209.9,2,    215.4,2,    10.92,2,    19.24,2,     1.08,2,   -999.0,9,   7.7110,2,    25.00
  35TH20100608, OVIDE,    38,  1,     21,2,20100619,0505, 48.4130, -21.1420, 4326,    602.3,   7.8450,  35.1690,2,  35.1710,2,    201.2,2,    204.5,2,    10.56,2,    19.32,2,     1.07,2,   -999.0,9,   7.7130,2,    25.00
  35TH20100608, OVIDE,    38,  1,     22,2,20100619,0505, 48.4130, -21.1420, 4326,    500.0,   8.7650,  35.1770,2,  35.1630,3,    197.9,2,    200.9,2,     9.56,2,    18.63,2,     1.03,2,   -999.0,9,   7.7230,2,    25.00
  35TH20100608, OVIDE,    38,  1,     23,2,20100619,0505, 48.4130, -21.1420, 4326,    401.5,   9.3650,  35.1430,2,  35.1450,2,    213.9,2,    228.8,3,     7.20,2,    14.91,2,     0.80,2,   -999.0,9,   7.7700,2,    25.00
  35TH20100608, OVIDE,    38,  1,     24,2,20100619,0505, 48.4130, -21.1420, 4326,    299.4,  10.0640,  35.2410,2,  35.2390,2,    253.5,2,    257.5,2,     5.22,2,    11.59,2,     0.62,2,   -999.0,9,   7.8170,2,    25.00
  35TH20100608, OVIDE,    38,  1,     25,2,20100619,0505, 48.4130, -21.1420, 4326,    198.0,  11.0610,  35.4240,2,  35.4150,3,    249.6,2,    251.8,2,     4.85,2,    10.75,2,     0.58,2,   -999.0,9,   7.8350,2,    25.00
  35TH20100608, OVIDE,    38,  1,     26,2,20100619,0505, 48.4130, -21.1420, 4326,    150.1,  11.2110,  35.4460,2,  35.4470,2,    246.4,2,    249.8,2,     4.77,2,    10.74,2,     0.54,2,   -999.0,9,   7.8400,2,    25.00
  35TH20100608, OVIDE,    38,  1,     27,2,20100619,0505, 48.4130, -21.1420, 4326,     97.7,  11.6890,  35.5270,2,  35.5010,3,    246.2,2,    249.3,2,     4.43,2,    10.31,2,     0.54,2,   -999.0,9,   7.8490,2,    25.00
  35TH20100608, OVIDE,    38,  1,     28,2,20100619,0505, 48.4130, -21.1420, 4326,     54.5,  12.2400,  35.5290,2,  35.5330,2,    262.0,2,    256.0,2,     2.13,2,     7.19,2,     0.43,2,   -999.0,9,   7.8790,2,    25.00
  35TH20100608, OVIDE,    38,  1,     29,2,20100619,0505, 48.4130, -21.1420, 4326,      3.2,  17.7010,  35.5400,2,  35.5350,3,    262.3,2,    266.8,2,     0.96,2,     0.06,2,     0.05,2,   -999.0,9,   8.0020,2,    25.00