BOTTLE,20140929PRINUNIVRMK
EXPOCODE,SECT_ID,STNNBR,CASTNO,BTLNBR,BTLNBR_FLAG_W,DATE,TIME,LATITUDE,LONGITUDE,DEPTH,CTDPRS,CTDTMP,CTDSAL,CTDSAL_FLAG_W,SALNTY,SALNTY_FLAG_W,CTDOXY,CTDOXY_FLAG_W,OXYGEN,OXYGEN_FLAG_W,SILCAT,SILCAT_FLAG_W,NITRAT,NITRAT_FLAG_W,PHSPHT,PHSPHT_FLAG_W,ALKALI,ALKALI_FLAG_W,PH_SWS,PH_SWS_FLAG_W,PH_TMP
,,,,,,,,,,METERS,DBAR,ITS-90,PSS-78,,PSS-78,,UMOL/KG,,UMOL/KG,,UMOL/KG,,UMOL/KG,,UMOL/KG,,UMOL/KG,,,,DEG C
  35TH20100608, OVIDE,    30,  1,      3,2,20100617,0718, 45.4220, -18.7970, 4561,   4646.8,   2.5930,  34.9080,2,  34.9070,2,    241.0,2,    241.2,2,    46.58,2,    22.61,2,     1.36,2,   -999.0,9,   7.7270,2,    25.00
  35TH20100608, OVIDE,    30,  1,      4,2,20100617,0718, 45.4220, -18.7970, 4561,   4498.5,   2.5880,  34.9100,2,  34.9090,2,    241.2,2,    244.1,2,    46.15,2,    22.44,2,     1.35,2,   -999.0,9,   7.7250,2,    25.00
  35TH20100608, OVIDE,    30,  1,      5,2,20100617,0718, 45.4220, -18.7970, 4561,   3998.6,   2.5730,  34.9130,2,  34.9140,2,    242.8,2,    242.9,2,    44.40,2,    22.25,2,     1.35,2,   -999.0,9,   7.7270,2,    25.00
  35TH20100608, OVIDE,    30,  1,      6,2,20100617,0718, 45.4220, -18.7970, 4561,   3748.6,   2.5960,  34.9200,2,  34.9180,2,    244.6,2,    244.5,2,    42.45,2,    21.83,2,     1.32,2,   -999.0,9,   7.7260,2,    25.00
  35TH20100608, OVIDE,    30,  1,      7,2,20100617,0718, 45.4220, -18.7970, 4561,   3498.4,   2.6480,  34.9250,2,  34.9250,2,    248.1,2,    247.4,2,    39.31,2,    21.32,2,     1.29,2,   -999.0,9,   7.7300,2,    25.00
  35TH20100608, OVIDE,    30,  1,      8,2,20100617,0718, 45.4220, -18.7970, 4561,   3249.1,   2.7540,  34.9360,2,  34.9340,2,    253.3,2,    252.8,2,    34.27,2,    20.30,2,     1.22,2,   -999.0,9,   7.7280,2,    25.00
  35TH20100608, OVIDE,    30,  1,      9,2,20100617,0718, 45.4220, -18.7970, 4561,   2999.5,   2.8780,  34.9440,2,  34.9440,2,    259.2,2,    257.5,2,    29.21,2,    19.48,2,     1.16,2,   -999.0,9,   7.7280,2,    25.00
  35TH20100608, OVIDE,    30,  1,     10,2,20100617,0718, 45.4220, -18.7970, 4561,   2751.0,   3.0510,  34.9450,2,  34.9450,2,    263.8,2,    263.7,2,    24.39,2,    18.33,2,     1.09,2,   -999.0,9,   7.7260,2,    25.00
  35TH20100608, OVIDE,    30,  1,     11,2,20100617,0718, 45.4220, -18.7970, 4561,   2500.5,   3.2950,  34.9520,2,  34.9530,2,    265.4,2,    262.5,2,    18.63,2,    18.55,2,     1.09,2,   -999.0,9,   7.7320,2,    25.00
  35TH20100608, OVIDE,    30,  1,     12,2,20100617,0718, 45.4220, -18.7970, 4561,   2249.5,   3.4840,  34.9470,2,  34.9480,2,    269.7,2,    266.9,2,    15.36,2,    17.97,2,     1.05,2,   -999.0,9,   7.7260,2,    25.00
  35TH20100608, OVIDE,    30,  1,     13,2,20100617,0718, 45.4220, -18.7970, 4561,   1999.3,   3.7700,  34.9520,2,  34.9550,2,    269.1,2,    267.3,2,    12.73,2,    17.93,2,     1.05,2,   -999.0,9,   7.7210,2,    25.00
  35TH20100608, OVIDE,    30,  1,     14,2,20100617,0718, 45.4220, -18.7970, 4561,   1800.4,   4.1380,  34.9940,2,  34.9950,2,    261.9,2,    263.4,2,    12.09,2,    17.90,2,     1.04,2,   -999.0,9,   7.7210,2,    25.00
  35TH20100608, OVIDE,    30,  1,     15,2,20100617,0718, 45.4220, -18.7970, 4561,   1600.2,   4.8170,  35.0800,2,  35.0790,2,    250.9,2,    251.6,2,    11.60,2,    17.99,2,     1.04,2,   -999.0,9,   7.7210,2,    25.00
  35TH20100608, OVIDE,    30,  1,     16,2,20100617,0718, 45.4220, -18.7970, 4561,   1399.9,   5.7740,  35.1930,2,  35.1970,2,    236.6,2,    237.2,2,    11.18,2,    18.14,2,     1.04,2,   -999.0,9,   7.7220,2,    25.00
  35TH20100608, OVIDE,    30,  1,     17,2,20100617,0718, 45.4220, -18.7970, 4561,   1199.7,   7.1260,  35.3600,2,  35.3610,2,    215.1,2,    216.5,2,    10.94,2,    18.25,2,     1.03,2,   -999.0,9,   7.7280,2,    25.00
  35TH20100608, OVIDE,    30,  1,     18,2,20100617,0718, 45.4220, -18.7970, 4561,    982.8,   8.2760,  35.3610,2,  35.3590,2,    189.4,2,    199.7,3,    10.58,2,    18.47,2,     1.01,2,   -999.0,9,   7.7260,2,    25.00
  35TH20100608, OVIDE,    30,  1,     19,2,20100617,0718, 45.4220, -18.7970, 4561,    801.7,  10.0660,  35.4970,2,  35.4960,2,    185.7,2,    190.7,2,     8.78,2,    17.62,2,     0.96,2,   -999.0,9,   7.7500,2,    25.00
  35TH20100608, OVIDE,    30,  1,     20,2,20100617,0718, 45.4220, -18.7970, 4561,    702.4,  10.0130,  35.3310,2,  35.3410,3,    198.3,2,    205.9,2,     7.75,2,    16.28,2,     0.91,2,   -999.0,9,   7.7600,2,    25.00
  35TH20100608, OVIDE,    30,  1,     21,2,20100617,0718, 45.4220, -18.7970, 4561,    702.7,  10.0090,  35.3310,2,  35.3340,2,    198.2,2,    206.1,2,     7.65,2,    16.16,2,     0.90,2,   -999.0,9,-999.0000,9,    25.00
  35TH20100608, OVIDE,    30,  1,     22,2,20100617,0718, 45.4220, -18.7970, 4561,    599.6,  10.7890,  35.4160,2,  35.4110,3,    232.5,2,    235.0,2,     5.52,2,    12.63,2,     0.70,2,   -999.0,9,   7.8070,2,    25.00
  35TH20100608, OVIDE,    30,  1,     23,2,20100617,0718, 45.4220, -18.7970, 4561,    500.8,  11.4570,  35.5380,2,  35.5350,2,    249.6,2,    247.0,2,     4.25,2,    10.45,2,     0.60,2,   -999.0,9,   7.8420,2,    25.00
  35TH20100608, OVIDE,    30,  1,     24,2,20100617,0718, 45.4220, -18.7970, 4561,    401.7,  11.8950,  35.6250,2,  35.6180,3,    248.5,2,    248.4,2,     3.72,2,     9.46,2,     0.53,2,   -999.0,9,   7.8510,2,    25.00
  35TH20100608, OVIDE,    30,  1,     25,2,20100617,0718, 45.4220, -18.7970, 4561,    300.6,  12.0710,  35.6530,2,  35.6540,2,    250.9,2,    249.6,2,     3.62,2,     9.05,2,     0.51,2,   -999.0,9,   7.8590,2,    25.00
  35TH20100608, OVIDE,    30,  1,     26,2,20100617,0718, 45.4220, -18.7970, 4561,    201.4,  12.2820,  35.6830,2,  35.6820,2,    252.0,2,    250.5,2,     3.54,2,     8.89,2,     0.50,2,   -999.0,9,   7.8630,2,    25.00
  35TH20100608, OVIDE,    30,  1,     27,2,20100617,0718, 45.4220, -18.7970, 4561,    149.6,  12.4830,  35.7130,2,  35.7120,2,    251.6,2,    247.7,2,     3.48,2,     8.59,2,     0.47,2,   -999.0,9,   7.8680,2,    25.00
  35TH20100608, OVIDE,    30,  1,     28,2,20100617,0718, 45.4220, -18.7970, 4561,    101.6,  12.7310,  35.7260,2,  35.7220,2,    249.5,2,    245.9,2,     3.26,2,     8.49,2,     0.47,2,   -999.0,9,   7.8700,2,    25.00
  35TH20100608, OVIDE,    30,  1,     29,2,20100617,0718, 45.4220, -18.7970, 4561,     54.7,  13.3310,  35.7330,2,  35.7340,2,    260.8,2,    257.3,2,     1.76,2,     4.84,2,     0.35,2,   -999.0,9,   7.9010,2,    25.00
  35TH20100608, OVIDE,    30,  1,     30,2,20100617,0718, 45.4220, -18.7970, 4561,      5.7,  17.2980,  35.7230,2,  35.7240,2,    261.9,2,    259.6,2,     0.55,2,     0.06,2,     0.04,2,   -999.0,9,   7.9920,2,    25.00
  35TH20100608, OVIDE,    31,  1,      3,2,20100617,1256, 45.7930, -19.0910, 4507,   4591.6,   2.5790,  34.9070,2,  34.9070,2,    241.1,2,    240.3,2,    47.14,2,    21.92,2,     1.33,2,   2354.8,2,   7.7270,2,    25.00
  35TH20100608, OVIDE,    31,  1,      4,2,20100617,1256, 45.7930, -19.0910, 4507,   4000.2,   2.5760,  34.9140,2,  34.9120,2,    242.8,2,    243.5,2,    44.95,2,    20.68,2,     1.25,2,   2350.7,2,   7.7280,2,    25.00
  35TH20100608, OVIDE,    31,  1,      5,2,20100617,1256, 45.7930, -19.0910, 4507,   3748.2,   2.6010,  34.9190,2,  34.9190,2,    244.8,2,    245.1,2,    42.67,2,    21.50,2,     1.29,2,   2347.6,2,   7.7290,2,    25.00
  35TH20100608, OVIDE,    31,  1,      6,2,20100617,1256, 45.7930, -19.0910, 4507,   3499.3,   2.6670,  34.9270,2,  34.9250,2,    248.4,2,    249.8,2,    39.23,2,    20.86,2,     1.26,2,   2342.7,2,   7.7290,2,    25.00
  35TH20100608, OVIDE,    31,  1,      7,2,20100617,1256, 45.7930, -19.0910, 4507,   3250.0,   2.7890,  34.9400,2,  34.9370,2,    252.2,2,    250.6,2,    34.44,2,    19.61,2,     1.20,2,   -999.0,9,   7.7320,2,    25.00
  35TH20100608, OVIDE,    31,  1,      8,2,20100617,1256, 45.7930, -19.0910, 4507,   2999.7,   2.9280,  34.9440,2,  34.9420,2,    258.8,2,    258.6,2,    28.00,2,    18.35,2,     1.11,2,   2327.2,2,   7.7290,2,    25.00
  35TH20100608, OVIDE,    31,  1,      9,2,20100617,1256, 45.7930, -19.0910, 4507,   2749.5,   3.0980,  34.9440,2,  34.9440,2,    265.4,2,    263.3,2,    22.41,2,    18.08,2,     1.09,2,   2319.0,2,   7.7270,2,    25.00
  35TH20100608, OVIDE,    31,  1,     10,2,20100617,1256, 45.7930, -19.0910, 4507,   2500.4,   3.3570,  34.9500,2,  34.9460,2,    267.5,2,    265.6,2,    17.23,2,    16.79,2,     0.99,2,   2315.6,2,   7.7300,2,    25.00
  35TH20100608, OVIDE,    31,  1,     11,2,20100617,1256, 45.7930, -19.0910, 4507,   2249.8,   3.5260,  34.9410,2,  34.9400,2,    271.9,2,    271.7,2,    13.94,2,    17.60,2,     1.03,2,   2309.5,2,   7.7260,2,    25.00
  35TH20100608, OVIDE,    31,  1,     12,2,20100617,1256, 45.7930, -19.0910, 4507,   1998.6,   3.6810,  34.9240,2,  34.9230,2,    273.0,2,    269.5,2,    11.99,2,    17.39,2,     1.02,2,   2304.9,2,   7.7200,2,    25.00
  35TH20100608, OVIDE,    31,  1,     13,2,20100617,1256, 45.7930, -19.0910, 4507,   1699.3,   4.2260,  34.9720,2,  34.9720,2,    264.2,2,    264.0,2,    11.20,2,    17.47,2,     1.02,2,   2310.2,2,   7.7160,2,    25.00
  35TH20100608, OVIDE,    31,  1,     14,2,20100617,1256, 45.7930, -19.0910, 4507,   1399.4,   5.2180,  35.0760,2,  35.0750,2,    243.1,2,    247.1,2,    10.94,2,    17.46,2,     1.00,2,   2317.5,2,   7.7140,2,    25.00
  35TH20100608, OVIDE,    31,  1,     15,2,20100617,1256, 45.7930, -19.0910, 4507,   1199.4,   7.6630,  35.4520,2,  35.4510,2,    207.1,2,    210.5,2,    10.76,2,    17.54,2,     0.97,2,   2342.8,2,   7.7370,2,    25.00
  35TH20100608, OVIDE,    31,  1,     16,2,20100617,1256, 45.7930, -19.0910, 4507,   1100.2,   8.8740,  35.6160,2,  35.6190,2,    193.4,2,   -999.0,9,    10.27,2,    17.63,2,     0.99,2,   2352.3,2,   7.7490,2,    25.00
  35TH20100608, OVIDE,    31,  1,     17,2,20100617,1256, 45.7930, -19.0910, 4507,   1049.2,   9.2560,  35.6390,2,  35.6390,2,    190.7,2,    192.5,2,    10.03,2,    17.62,2,     0.97,2,   2352.2,2,   7.7520,2,    25.00
  35TH20100608, OVIDE,    31,  1,     18,2,20100617,1256, 45.7930, -19.0910, 4507,    948.9,   9.9190,  35.6420,2,  35.6610,3,    183.7,2,    186.6,2,     9.39,2,    17.37,2,     0.94,2,   2351.8,2,   7.7570,2,    25.00
  35TH20100608, OVIDE,    31,  1,     19,2,20100617,1256, 45.7930, -19.0910, 4507,    799.8,  10.4770,  35.5180,2,  35.5160,2,    189.1,2,    195.1,2,     7.97,2,    16.51,2,     0.93,2,   2337.4,2,   7.7600,2,    25.00
  35TH20100608, OVIDE,    31,  1,     20,2,20100617,1256, 45.7930, -19.0910, 4507,    700.3,  10.9590,  35.5190,2,  35.5160,2,    207.7,2,    209.7,2,     6.29,2,    14.34,2,     0.87,2,   2335.4,2,   7.7840,2,    25.00
  35TH20100608, OVIDE,    31,  1,     21,2,20100617,1256, 45.7930, -19.0910, 4507,    598.8,  11.6230,  35.5940,2,  35.5940,2,    229.4,2,    230.3,2,     4.39,2,    11.24,2,     0.63,2,   2338.8,2,   7.8220,2,    25.00
  35TH20100608, OVIDE,    31,  1,     22,2,20100617,1256, 45.7930, -19.0910, 4507,    500.4,  12.0390,  35.6580,2,  35.6540,2,    244.7,2,    252.3,3,     3.65,2,     9.38,2,     0.53,2,   2343.5,2,   7.8490,2,    25.00
  35TH20100608, OVIDE,    31,  1,     23,2,20100617,1256, 45.7930, -19.0910, 4507,    400.2,  12.2480,  35.6890,2,  35.6860,2,    250.4,2,    247.5,2,     3.38,2,     8.57,2,     0.46,2,   2344.2,2,   7.8630,2,    25.00
  35TH20100608, OVIDE,    31,  1,     24,2,20100617,1256, 45.7930, -19.0910, 4507,    299.8,  12.4090,  35.7250,2,  35.7220,2,    251.6,2,    250.1,2,     3.11,2,     7.90,2,     0.42,2,   2347.2,2,   7.8720,2,    25.00
  35TH20100608, OVIDE,    31,  1,     25,2,20100617,1256, 45.7930, -19.0910, 4507,    199.0,  12.4820,  35.7350,2,  35.7270,3,    253.9,2,    249.2,2,     3.14,2,     7.95,2,     0.43,2,   2347.4,2,   7.8770,2,    25.00
  35TH20100608, OVIDE,    31,  1,     26,2,20100617,1256, 45.7930, -19.0910, 4507,    149.5,  12.6190,  35.7570,2,  35.7540,2,    251.2,2,    248.3,2,     2.93,2,     7.70,2,     0.42,2,   -999.0,9,   7.8790,2,    25.00
  35TH20100608, OVIDE,    31,  1,     27,2,20100617,1256, 45.7930, -19.0910, 4507,     99.6,  12.6660,  35.7450,2,  35.7410,2,    248.9,2,    250.4,2,     3.15,2,     8.09,2,     0.44,2,   2347.3,2,   7.8730,2,    25.00
  35TH20100608, OVIDE,    31,  1,     28,2,20100617,1256, 45.7930, -19.0910, 4507,     50.6,  13.2350,  35.7960,2,  35.7870,3,    260.2,2,    247.8,3,     2.08,2,     6.39,2,     0.36,2,   -999.0,9,   7.8900,2,    25.00
  35TH20100608, OVIDE,    31,  1,     29,2,20100617,1256, 45.7930, -19.0910, 4507,      6.7,  17.1200,  35.8240,2,  35.7850,3,    264.2,2,    260.6,2,     0.43,2,     0.15,2,     0.04,2,   2353.6,2,   7.9810,2,    25.00
  35TH20100608, OVIDE,    32,  1,      3,2,20100617,1837, 46.1700, -19.3810, 4593,   4680.3,   2.5920,  34.9080,2,  34.9080,2,    240.9,2,    240.4,2,    47.29,2,    23.12,2,     1.33,2,   -999.0,9,   7.7290,2,    25.00
  35TH20100608, OVIDE,    32,  1,      4,2,20100617,1837, 46.1700, -19.3810, 4593,   4299.0,   2.5830,  34.9110,2,  34.9120,2,    241.4,2,    243.3,2,    45.40,2,    22.97,2,     1.33,2,   -999.0,9,   7.7290,2,    25.00
  35TH20100608, OVIDE,    32,  1,      5,2,20100617,1837, 46.1700, -19.3810, 4593,   3997.9,   2.5870,  34.9160,2,  34.9140,2,    242.8,2,    246.0,2,    43.71,2,    22.62,2,     1.32,2,   -999.0,9,   7.7290,2,    25.00
  35TH20100608, OVIDE,    32,  1,      6,2,20100617,1837, 46.1700, -19.3810, 4593,   3747.5,   2.6150,  34.9220,2,  34.9200,2,    245.4,2,    247.9,2,    41.41,2,    22.21,2,     1.30,2,   -999.0,9,   7.7280,2,    25.00
  35TH20100608, OVIDE,    32,  1,      7,2,20100617,1837, 46.1700, -19.3810, 4593,   3498.7,   2.6910,  34.9300,2,  34.9280,2,    249.3,2,    252.1,2,    37.91,2,    21.52,2,     1.26,2,   -999.0,9,   7.7300,2,    25.00
  35TH20100608, OVIDE,    32,  1,      8,2,20100617,1837, 46.1700, -19.3810, 4593,   3247.6,   2.7980,  34.9400,2,  34.9400,2,    254.7,2,    254.4,2,    32.91,2,    20.62,2,     1.20,2,   -999.0,9,   7.7290,2,    25.00
  35TH20100608, OVIDE,    32,  1,      9,2,20100617,1837, 46.1700, -19.3810, 4593,   2999.5,   2.9540,  34.9450,2,  34.9430,2,    261.0,2,    258.8,2,    26.73,2,    17.77,2,     0.99,3,   -999.0,9,   7.7280,2,    25.00
  35TH20100608, OVIDE,    32,  1,     10,2,20100617,1837, 46.1700, -19.3810, 4593,   2749.8,   3.0910,  34.9400,2,  34.9400,2,    266.7,2,    267.2,2,    19.06,2,    18.38,2,     1.07,2,   -999.0,9,   7.7280,2,    25.00
  35TH20100608, OVIDE,    32,  1,     11,2,20100617,1837, 46.1700, -19.3810, 4593,   2499.7,   3.2450,  34.9290,2,  34.9300,2,    274.0,2,    271.7,2,    15.43,2,    18.45,2,     1.05,2,   -999.0,9,   7.7280,2,    25.00
  35TH20100608, OVIDE,    32,  1,     12,2,20100617,1837, 46.1700, -19.3810, 4593,   2248.8,   3.4050,  34.9190,2,  34.9200,2,    277.1,2,    275.5,2,    13.18,2,    17.46,2,     0.98,2,   -999.0,9,   7.7240,2,    25.00
  35TH20100608, OVIDE,    32,  1,     13,2,20100617,1837, 46.1700, -19.3810, 4593,   1998.9,   3.5880,  34.9100,2,  34.9120,2,    275.5,2,    276.0,2,    11.76,2,    18.16,2,     1.01,2,   -999.0,9,   7.7160,2,    25.00
  35TH20100608, OVIDE,    32,  1,     14,2,20100617,1837, 46.1700, -19.3810, 4593,   1798.9,   3.8780,  34.9310,2,  34.9310,2,    271.0,2,    271.1,2,    11.27,2,    18.29,2,     1.02,2,   -999.0,9,   7.7150,2,    25.00
  35TH20100608, OVIDE,    32,  1,     15,2,20100617,1837, 46.1700, -19.3810, 4593,   1599.9,   4.2380,  34.9660,2,  34.9640,2,    264.7,2,    264.1,2,    11.00,2,    17.63,2,     0.99,2,   -999.0,9,   7.7130,2,    25.00
  35TH20100608, OVIDE,    32,  1,     16,2,20100617,1837, 46.1700, -19.3810, 4593,   1400.1,   5.2610,  35.1010,2,  35.1000,2,    246.4,2,    245.8,2,    11.22,2,    18.68,2,     1.04,2,   -999.0,9,   7.7150,2,    25.00
  35TH20100608, OVIDE,    32,  1,     17,2,20100617,1837, 46.1700, -19.3810, 4593,   1199.3,   6.6570,  35.2670,2,  35.2660,2,    218.2,2,    222.4,2,    10.90,2,    18.90,2,     1.05,2,   -999.0,9,   7.7210,2,    25.00
  35TH20100608, OVIDE,    32,  1,     18,2,20100617,1837, 46.1700, -19.3810, 4593,   1000.2,   9.6560,  35.7390,2,  35.7430,2,    185.5,2,    189.9,2,     9.96,2,    18.06,2,     0.96,2,   -999.0,9,   7.7590,2,    25.00
  35TH20100608, OVIDE,    32,  1,     19,2,20100617,1837, 46.1700, -19.3810, 4593,    800.3,   9.7000,  35.4070,2,  35.4000,3,    188.3,2,    192.2,2,     9.25,2,    18.62,2,     1.00,2,   -999.0,9,   7.7410,2,    25.00
  35TH20100608, OVIDE,    32,  1,     20,2,20100617,1837, 46.1700, -19.3810, 4593,    699.3,  10.6580,  35.5130,2,  35.5130,2,    199.7,2,    200.8,2,     7.31,2,    16.33,2,     0.86,2,   -999.0,9,   7.7700,2,    25.00
  35TH20100608, OVIDE,    32,  1,     21,2,20100617,1837, 46.1700, -19.3810, 4593,    598.7,  11.3210,  35.5640,2,  35.5590,2,    224.9,2,    225.6,2,     5.08,2,    12.67,2,     0.65,2,   -999.0,9,   7.8090,2,    25.00
  35TH20100608, OVIDE,    32,  1,     22,2,20100617,1837, 46.1700, -19.3810, 4593,    499.5,  11.7830,  35.6310,2,  35.6290,2,    240.8,2,    243.2,2,     3.84,2,    10.50,2,     0.53,2,   -999.0,9,   7.8380,2,    25.00
  35TH20100608, OVIDE,    32,  1,     23,2,20100617,1837, 46.1700, -19.3810, 4593,    399.8,  12.0690,  35.6820,2,  35.6810,2,    252.7,2,    251.9,2,     3.10,2,     8.46,2,     0.42,2,   -999.0,9,   7.8580,2,    25.00
  35TH20100608, OVIDE,    32,  1,     24,2,20100617,1837, 46.1700, -19.3810, 4593,    300.4,  12.1840,  35.6840,2,  35.6800,2,    248.8,2,    253.3,2,     3.33,2,     9.06,2,     0.44,2,   -999.0,9,   7.8600,2,    25.00
  35TH20100608, OVIDE,    32,  1,     25,2,20100617,1837, 46.1700, -19.3810, 4593,    199.9,  12.5550,  35.7430,2,  35.7400,2,    239.9,2,    251.4,3,     2.95,2,     8.20,2,     0.40,2,   -999.0,9,   7.8710,2,    25.00
  35TH20100608, OVIDE,    32,  1,     26,2,20100617,1837, 46.1700, -19.3810, 4593,    149.8,  12.7160,  35.7570,2,  35.7550,2,    237.6,2,    241.0,2,     3.02,2,     8.57,2,     0.41,2,   -999.0,9,   7.8660,2,    25.00
  35TH20100608, OVIDE,    32,  1,     27,2,20100617,1837, 46.1700, -19.3810, 4593,    101.2,  13.0710,  35.8110,2,  35.8040,3,    241.1,2,    237.8,2,     3.12,2,     8.49,2,     0.42,2,   -999.0,9,   7.8740,2,    25.00
  35TH20100608, OVIDE,    32,  1,     28,2,20100617,1837, 46.1700, -19.3810, 4593,     56.5,  13.6480,  35.8830,2,  35.8800,2,    253.8,2,    246.8,2,     1.84,2,     6.10,2,     0.29,2,   -999.0,9,   7.8990,2,    25.00
  35TH20100608, OVIDE,    32,  1,     29,2,20100617,1837, 46.1700, -19.3810, 4593,      3.5,  18.1050,  35.8220,2,  35.8250,2,    259.8,2,    256.2,2,     0.65,2,     0.08,2,     0.05,2,   -999.0,9,   7.9860,2,    25.00
  35TH20100608, OVIDE,    32,  1,     30,2,20100617,1837, 46.1700, -19.3810, 4593,      3.7,  18.1050,  35.8240,2,  35.8260,2,    259.9,2,    256.2,2,     0.79,2,     0.02,2,     0.05,2,   -999.0,9,-999.0000,9,    25.00