BOTTLE,20140929PRINUNIVRMK
EXPOCODE,SECT_ID,STNNBR,CASTNO,BTLNBR,BTLNBR_FLAG_W,DATE,TIME,LATITUDE,LONGITUDE,DEPTH,CTDPRS,CTDTMP,CTDSAL,CTDSAL_FLAG_W,SALNTY,SALNTY_FLAG_W,CTDOXY,CTDOXY_FLAG_W,OXYGEN,OXYGEN_FLAG_W,SILCAT,SILCAT_FLAG_W,NITRAT,NITRAT_FLAG_W,PHSPHT,PHSPHT_FLAG_W,ALKALI,ALKALI_FLAG_W,PH_SWS,PH_SWS_FLAG_W,PH_TMP
,,,,,,,,,,METERS,DBAR,ITS-90,PSS-78,,PSS-78,,UMOL/KG,,UMOL/KG,,UMOL/KG,,UMOL/KG,,UMOL/KG,,UMOL/KG,,,,DEG C
  35TH20100608, OVIDE,    63,  1,      3,2,20100625,0345, 57.6750, -28.7300, 2445,   2480.1,   2.8430,  34.9830,2,  34.9850,2,    276.7,2,    275.3,2,    13.69,2,    15.69,2,     0.95,2,   2312.5,2,   7.7160,2,    25.00
  35TH20100608, OVIDE,    63,  1,      4,2,20100625,0345, 57.6750, -28.7300, 2445,   2427.4,   2.8550,  34.9830,2,  34.9850,2,    276.7,2,    273.6,2,    13.52,2,    16.03,2,     1.00,2,   2311.6,2,   7.7150,2,    25.00
  35TH20100608, OVIDE,    63,  1,      5,2,20100625,0345, 57.6750, -28.7300, 2445,   2381.2,   2.8910,  34.9850,2,  34.9880,2,    276.9,2,    276.9,2,    12.99,2,    16.03,2,     1.00,2,   -999.0,9,   7.7200,2,    25.00
  35TH20100608, OVIDE,    63,  1,      6,2,20100625,0345, 57.6750, -28.7300, 2445,   2247.6,   2.9520,  34.9830,2,  34.9850,2,    276.6,2,    274.6,2,    13.20,2,    16.65,2,     1.00,2,   2311.9,2,   7.7170,2,    25.00
  35TH20100608, OVIDE,    63,  1,      8,2,20100625,0345, 57.6750, -28.7300, 2445,   1998.7,   3.2680,  34.9680,2,  34.9700,2,    276.7,2,    275.7,2,    12.03,2,    16.43,2,     0.95,2,   2311.7,2,   7.7170,2,    25.00
  35TH20100608, OVIDE,    63,  1,      9,2,20100625,0345, 57.6750, -28.7300, 2445,   1799.7,   3.5690,  34.9500,2,  34.9510,2,    276.2,2,    275.1,2,    11.25,2,    16.69,2,     1.00,2,   2307.7,2,   7.7220,2,    25.00
  35TH20100608, OVIDE,    63,  1,     10,2,20100625,0345, 57.6750, -28.7300, 2445,   1600.6,   3.7140,  34.9290,2,  34.9310,2,    275.2,2,    272.7,2,    11.08,2,    17.17,2,     1.02,2,   -999.0,9,   7.7190,2,    25.00
  35TH20100608, OVIDE,    63,  1,     11,2,20100625,0345, 57.6750, -28.7300, 2445,   1400.8,   3.7980,  34.9070,2,  34.9090,2,    275.0,2,    273.9,2,    10.90,2,    17.57,2,     1.04,2,   2305.3,2,   7.7160,2,    25.00
  35TH20100608, OVIDE,    63,  1,     12,2,20100625,0345, 57.6750, -28.7300, 2445,   1198.6,   4.0050,  34.9140,2,  34.9160,2,    271.2,2,    272.8,2,    10.59,2,    17.49,2,     1.07,2,   2305.2,2,   7.7140,2,    25.00
  35TH20100608, OVIDE,    63,  1,     13,2,20100625,0345, 57.6750, -28.7300, 2445,   1000.7,   4.3560,  34.9340,2,  34.9360,2,    262.9,2,    264.0,2,    10.50,2,    17.17,2,     1.01,2,   2306.1,2,   7.7120,2,    25.00
  35TH20100608, OVIDE,    63,  1,     14,2,20100625,0345, 57.6750, -28.7300, 2445,    900.1,   4.6240,  34.9510,2,  34.9520,2,    254.4,2,    262.4,3,    10.56,2,    17.63,2,     1.03,2,   2308.5,2,   7.7060,2,    25.00
  35TH20100608, OVIDE,    63,  1,     15,2,20100625,0345, 57.6750, -28.7300, 2445,    799.8,   5.0860,  34.9780,2,  34.9770,2,    244.7,2,    250.1,2,    10.65,2,    18.04,2,     1.07,2,   2309.4,2,   7.6990,2,    25.00
  35TH20100608, OVIDE,    63,  1,     16,2,20100625,0345, 57.6750, -28.7300, 2445,    699.8,   5.8120,  35.0230,2,  35.0270,2,    234.1,2,    238.2,2,    10.71,2,    18.43,2,     1.10,2,   2312.4,2,   7.7060,2,    25.00
  35TH20100608, OVIDE,    63,  1,     17,2,20100625,0345, 57.6750, -28.7300, 2445,    600.4,   7.0960,  35.1410,2,  35.1420,2,    253.4,2,    251.8,2,     8.74,2,    16.66,2,     1.00,2,   2318.2,2,   7.7400,2,    25.00
  35TH20100608, OVIDE,    63,  1,     18,2,20100625,0345, 57.6750, -28.7300, 2445,    500.1,   7.6990,  35.2030,2,  35.2040,2,    267.6,2,    268.6,2,     6.99,2,    14.77,2,     0.88,2,   2319.1,2,   7.7780,2,    25.00
  35TH20100608, OVIDE,    63,  1,     19,2,20100625,0345, 57.6750, -28.7300, 2445,    400.1,   7.8170,  35.1970,2,  35.1990,2,    274.7,2,    273.0,2,     6.36,2,    14.23,2,     0.84,2,   2318.3,2,   7.7780,2,    25.00
  35TH20100608, OVIDE,    63,  1,     20,2,20100625,0345, 57.6750, -28.7300, 2445,    299.2,   7.9970,  35.2070,2,  35.2130,3,    271.7,2,    271.6,2,     6.44,2,    14.23,2,     0.84,2,   2321.0,2,   7.7780,2,    25.00
  35TH20100608, OVIDE,    63,  1,     21,2,20100625,0345, 57.6750, -28.7300, 2445,    199.9,   7.9690,  35.1590,2,  35.1620,2,    270.7,2,    270.5,2,     6.49,2,    13.85,2,     0.79,2,   2318.1,2,   7.7780,2,    25.00
  35TH20100608, OVIDE,    63,  1,     22,2,20100625,0345, 57.6750, -28.7300, 2445,    149.9,   8.0220,  35.1320,2,  35.1370,2,    263.1,2,    265.8,2,     6.62,2,    14.18,2,     0.86,2,   2316.6,2,   7.7800,2,    25.00
  35TH20100608, OVIDE,    63,  1,     23,2,20100625,0345, 57.6750, -28.7300, 2445,     98.5,   8.5540,  35.1720,2,  35.1720,2,    264.3,2,    264.3,2,     6.16,2,    13.54,2,     0.83,2,   2321.7,2,   7.7830,2,    25.00
  35TH20100608, OVIDE,    63,  1,     24,2,20100625,0345, 57.6750, -28.7300, 2445,     49.2,   8.7030,  35.0530,2,  35.0580,3,    275.8,2,    277.5,2,     4.61,2,    10.80,2,     0.68,2,   -999.0,9,   7.8110,2,    25.00
  35TH20100608, OVIDE,    63,  1,     25,2,20100625,0345, 57.6750, -28.7300, 2445,      5.2,  11.1750,  34.8580,2,  34.8630,2,    288.9,2,    288.5,2,     2.23,2,     3.82,2,     0.31,2,   2305.8,2,   7.9180,2,    25.00
  35TH20100608, OVIDE,    64,  1,      3,2,20100625,0849, 57.9710, -29.2790, 2125,   2152.8,   2.8280,  34.9860,2,  34.9860,2,    277.2,2,    275.7,2,    13.07,2,    15.95,2,     1.04,2,   -999.0,9,   7.7150,2,    25.00
  35TH20100608, OVIDE,    64,  1,      4,2,20100625,0849, 57.9710, -29.2790, 2125,   2099.3,   2.8790,  34.9880,2,  34.9870,2,    277.2,2,    276.9,2,    12.46,2,    15.80,2,     0.96,2,   -999.0,9,   7.7150,2,    25.00
  35TH20100608, OVIDE,    64,  1,      5,2,20100625,0849, 57.9710, -29.2790, 2125,   2048.5,   2.9540,  34.9870,2,  34.9860,2,    277.1,2,    278.5,2,    12.30,2,    15.87,2,     0.98,2,   -999.0,9,   7.7180,2,    25.00
  35TH20100608, OVIDE,    64,  1,      6,2,20100625,0849, 57.9710, -29.2790, 2125,   1999.1,   3.0140,  34.9800,2,  34.9790,2,    276.4,2,    276.3,2,    12.63,2,    15.92,2,     0.99,2,   -999.0,9,   7.7190,2,    25.00
  35TH20100608, OVIDE,    64,  1,      7,2,20100625,0849, 57.9710, -29.2790, 2125,   1798.0,   3.3900,  34.9640,2,  34.9650,2,    276.8,2,    280.0,2,    11.38,2,    16.10,2,     1.01,2,   -999.0,9,   7.7240,2,    25.00
  35TH20100608, OVIDE,    64,  1,      8,2,20100625,0849, 57.9710, -29.2790, 2125,   1599.9,   3.5780,  34.9360,2,  34.9410,2,    276.2,2,    276.9,2,    11.09,2,    16.46,2,     1.04,2,   -999.0,9,   7.7190,2,    25.00
  35TH20100608, OVIDE,    64,  1,      9,2,20100625,0849, 57.9710, -29.2790, 2125,   1598.4,   3.5770,  34.9360,2,  34.9370,2,    276.2,2,    275.5,2,    11.18,2,    16.57,2,     1.05,2,   -999.0,9,-999.0000,9,    25.00
  35TH20100608, OVIDE,    64,  1,     10,2,20100625,0849, 57.9710, -29.2790, 2125,   1400.4,   3.8510,  34.9340,2,  34.9360,2,    273.1,2,    272.3,2,    10.82,2,    16.82,2,     1.07,2,   -999.0,9,   7.7130,2,    25.00
  35TH20100608, OVIDE,    64,  1,     11,2,20100625,0849, 57.9710, -29.2790, 2125,   1200.3,   4.0010,  34.9290,2,  34.9300,2,    269.1,2,    273.5,2,    10.55,2,    16.99,2,     1.09,2,   -999.0,9,   7.7100,2,    25.00
  35TH20100608, OVIDE,    64,  1,     12,2,20100625,0849, 57.9710, -29.2790, 2125,    998.3,   4.8650,  35.0180,2,  35.0200,2,    257.0,2,    258.6,2,    10.03,2,    16.51,2,     1.01,2,   -999.0,9,   7.7140,2,    25.00
  35TH20100608, OVIDE,    64,  1,     13,2,20100625,0849, 57.9710, -29.2790, 2125,    897.0,   5.1170,  35.0180,2,  35.0200,2,    250.0,2,    250.8,2,    10.37,2,    17.44,2,     1.07,2,   -999.0,9,   7.7080,2,    25.00
  35TH20100608, OVIDE,    64,  1,     14,2,20100625,0849, 57.9710, -29.2790, 2125,    797.6,   5.3390,  35.0080,2,  35.0060,2,    239.0,2,    244.7,3,    10.61,2,    17.95,2,     1.12,2,   -999.0,9,   7.7010,2,    25.00
  35TH20100608, OVIDE,    64,  1,     15,2,20100625,0849, 57.9710, -29.2790, 2125,    698.6,   6.2190,  35.0810,2,  35.0770,2,    231.8,2,    233.8,2,    10.39,2,    18.01,2,     1.10,2,   -999.0,9,   7.7090,2,    25.00
  35TH20100608, OVIDE,    64,  1,     16,2,20100625,0849, 57.9710, -29.2790, 2125,    597.6,   6.8110,  35.0970,2,  35.1100,3,    238.7,2,    240.1,2,     9.50,2,    17.30,2,     1.06,2,   -999.0,9,   7.7240,2,    25.00
  35TH20100608, OVIDE,    64,  1,     17,2,20100625,0849, 57.9710, -29.2790, 2125,    497.6,   7.4600,  35.1540,2,  35.1560,2,    254.3,2,    255.3,2,     8.10,2,    15.92,2,     0.91,2,   -999.0,9,   7.7480,2,    25.00
  35TH20100608, OVIDE,    64,  1,     18,2,20100625,0849, 57.9710, -29.2790, 2125,    404.8,   7.8710,  35.2060,2,  35.2070,2,    268.8,2,    270.1,2,     6.68,2,    14.28,2,     0.89,2,   -999.0,9,   7.7740,2,    25.00
  35TH20100608, OVIDE,    64,  1,     19,2,20100625,0849, 57.9710, -29.2790, 2125,    299.8,   7.9710,  35.1920,2,  35.1920,2,    269.9,2,    270.1,2,     6.28,2,    13.87,2,     0.79,2,   -999.0,9,   7.7760,2,    25.00
  35TH20100608, OVIDE,    64,  1,     20,2,20100625,0849, 57.9710, -29.2790, 2125,    200.3,   7.9390,  35.1450,2,  35.1440,2,    267.5,2,    269.8,2,     6.38,2,    13.89,2,     0.86,2,   -999.0,9,   7.7720,2,    25.00
  35TH20100608, OVIDE,    64,  1,     21,2,20100625,0849, 57.9710, -29.2790, 2125,    150.5,   7.9260,  35.1080,2,  35.1110,2,    265.8,2,    267.2,2,     6.51,2,    13.80,2,     0.88,2,   -999.0,9,   7.7730,2,    25.00
  35TH20100608, OVIDE,    64,  1,     22,2,20100625,0849, 57.9710, -29.2790, 2125,    100.2,   8.0990,  35.0940,2,  35.0940,2,    266.6,2,    266.8,2,     6.34,2,    13.42,2,     0.84,2,   -999.0,9,   7.7750,2,    25.00
  35TH20100608, OVIDE,    64,  1,     23,2,20100625,0849, 57.9710, -29.2790, 2125,     55.1,   8.5010,  35.0770,2,  35.0840,3,    271.0,2,    271.2,2,     5.35,2,    11.97,2,     0.73,2,   -999.0,9,   7.7910,2,    25.00
  35TH20100608, OVIDE,    64,  1,     24,2,20100625,0849, 57.9710, -29.2790, 2125,      8.5,  11.3770,  34.8940,2,  34.8950,2,    287.4,2,    285.6,2,     2.21,2,     3.79,2,     0.30,2,   -999.0,9,   7.9180,2,    25.00
  35TH20100608, OVIDE,    65,  1,      3,2,20100625,1305, 58.2080, -29.7250, 2207,   2237.7,   3.0030,  34.9890,2,  34.9900,2,    277.3,2,    275.6,2,    12.89,2,    17.67,2,     0.98,2,   2313.6,2,   7.7170,2,    25.00
  35TH20100608, OVIDE,    65,  1,      4,2,20100625,1305, 58.2080, -29.7250, 2207,   2190.6,   3.0320,  34.9880,2,  34.9860,2,    277.2,2,    277.3,2,    13.31,2,    16.05,2,     0.98,2,   2313.5,2,   7.7150,2,    25.00
  35TH20100608, OVIDE,    65,  1,      5,2,20100625,1305, 58.2080, -29.7250, 2207,   2138.7,   3.0400,  34.9870,2,  34.9880,2,    277.3,2,    276.3,2,    12.05,2,    16.59,2,     1.00,2,   -999.0,9,   7.7180,2,    25.00
  35TH20100608, OVIDE,    65,  1,      6,2,20100625,1305, 58.2080, -29.7250, 2207,   1999.5,   3.1330,  34.9830,2,  34.9840,2,    276.9,2,    277.7,2,    11.89,2,    16.37,2,     0.99,2,   2312.5,2,   7.7180,2,    25.00
  35TH20100608, OVIDE,    65,  1,      7,2,20100625,1305, 58.2080, -29.7250, 2207,   1801.2,   3.3760,  34.9600,2,  34.9620,2,    276.9,2,    276.3,2,    11.49,2,    16.75,2,     1.01,2,   2310.7,2,   7.7230,2,    25.00
  35TH20100608, OVIDE,    65,  1,      8,2,20100625,1305, 58.2080, -29.7250, 2207,   1598.7,   3.5970,  34.9460,2,  34.9460,2,    275.4,2,    274.8,2,    11.14,2,    17.24,2,     1.07,2,   -999.0,9,   7.7220,2,    25.00
  35TH20100608, OVIDE,    65,  1,      9,2,20100625,1305, 58.2080, -29.7250, 2207,   1398.8,   3.7840,  34.9280,2,  34.9280,2,    274.1,2,    273.6,2,    11.38,2,    18.11,2,     1.05,2,   2308.4,2,   7.7150,2,    25.00
  35TH20100608, OVIDE,    65,  1,     10,2,20100625,1305, 58.2080, -29.7250, 2207,   1198.7,   3.9700,  34.9260,2,  34.9270,2,    271.9,2,    271.6,2,    10.59,2,    18.65,2,     1.11,2,   2307.3,2,   7.7140,2,    25.00
  35TH20100608, OVIDE,    65,  1,     11,2,20100625,1305, 58.2080, -29.7250, 2207,   1199.3,   3.9740,  34.9260,2,  34.9260,2,    271.9,2,    271.8,2,    10.61,2,    18.49,2,     1.07,2,   -999.0,9,-999.0000,9,    25.00
  35TH20100608, OVIDE,    65,  1,     12,2,20100625,1305, 58.2080, -29.7250, 2207,    998.9,   4.5060,  34.9710,2,  34.9690,2,    261.4,2,    264.6,2,    10.50,2,    18.76,2,     1.07,2,   2310.1,2,   7.7120,2,    25.00
  35TH20100608, OVIDE,    65,  1,     13,2,20100625,1305, 58.2080, -29.7250, 2207,    898.9,   4.7350,  34.9860,2,  34.9840,2,    256.8,2,    259.4,2,    10.53,2,    18.43,2,     1.06,2,   2309.4,2,   7.7090,2,    25.00
  35TH20100608, OVIDE,    65,  1,     14,2,20100625,1305, 58.2080, -29.7250, 2207,    800.6,   5.3110,  35.0380,2,  35.0370,2,    248.8,2,    248.8,2,    10.40,2,    18.87,2,     1.06,2,   2313.1,2,   7.7170,2,    25.00
  35TH20100608, OVIDE,    65,  1,     15,2,20100625,1305, 58.2080, -29.7250, 2207,    700.0,   5.9810,  35.0910,2,  35.0890,2,    240.3,2,    241.6,2,    10.16,2,    18.43,2,     1.06,2,   2317.4,2,   7.7170,2,    25.00
  35TH20100608, OVIDE,    65,  1,     16,2,20100625,1305, 58.2080, -29.7250, 2207,    598.4,   6.5750,  35.1090,2,  35.1090,2,    239.8,2,    238.2,2,     9.87,2,    18.65,2,     1.01,2,   2318.5,2,   7.7230,2,    25.00
  35TH20100608, OVIDE,    65,  1,     17,2,20100625,1305, 58.2080, -29.7250, 2207,    499.3,   7.3580,  35.1860,2,  35.1860,2,    261.6,2,    261.8,2,     7.52,2,    16.05,2,     0.94,2,   2320.5,2,   7.7600,2,    25.00
  35TH20100608, OVIDE,    65,  1,     18,2,20100625,1305, 58.2080, -29.7250, 2207,    398.7,   7.5900,  35.1880,2,  35.1930,2,    270.2,2,    261.0,3,     7.20,2,    15.72,2,     0.91,2,   2320.1,2,   7.7640,2,    25.00
  35TH20100608, OVIDE,    65,  1,     19,2,20100625,1305, 58.2080, -29.7250, 2207,    297.4,   7.8180,  35.2080,2,  35.2080,2,    271.6,2,    279.9,3,     6.47,2,    14.96,2,     0.84,2,   2319.5,2,   7.7750,2,    25.00
  35TH20100608, OVIDE,    65,  1,     20,2,20100625,1305, 58.2080, -29.7250, 2207,    198.6,   7.8550,  35.1780,2,  35.1780,2,    264.8,2,    262.9,2,     6.84,2,    15.29,2,     0.89,2,   2318.6,2,   7.7680,2,    25.00
  35TH20100608, OVIDE,    65,  1,     21,2,20100625,1305, 58.2080, -29.7250, 2207,    150.7,   7.9270,  35.1570,2,  35.1590,2,    270.6,2,    268.3,2,     6.35,2,    14.53,2,     0.76,2,   2318.3,2,   7.7740,2,    25.00
  35TH20100608, OVIDE,    65,  1,     22,2,20100625,1305, 58.2080, -29.7250, 2207,     99.7,   8.0390,  35.1180,2,  35.1240,3,    273.4,2,    273.4,2,     5.88,2,    13.88,2,     0.77,2,   2314.7,2,   7.7810,2,    25.00
  35TH20100608, OVIDE,    65,  1,     23,2,20100625,1305, 58.2080, -29.7250, 2207,     49.4,   9.1310,  35.0720,2,  35.0750,2,    286.3,2,    283.7,2,     3.99,2,     9.87,2,     0.61,2,   -999.0,9,   7.8340,2,    25.00
  35TH20100608, OVIDE,    65,  1,     24,2,20100625,1305, 58.2080, -29.7250, 2207,      3.7,  11.2170,  34.8270,2,  34.8280,2,    291.1,2,    289.0,2,     2.61,2,     4.55,2,     0.32,2,   2303.1,2,   7.9080,2,    25.00
  35TH20100608, OVIDE,    66,  1,      3,2,20100625,1715, 58.4100, -30.1020, 2166,   2195.6,   3.1960,  34.9850,2,  34.9860,2,    277.5,2,    275.4,2,    11.35,2,    16.93,2,     0.97,2,   -999.0,9,   7.7190,2,    25.00
  35TH20100608, OVIDE,    66,  1,      4,2,20100625,1715, 58.4100, -30.1020, 2166,   2144.9,   3.1930,  34.9850,2,  34.9860,2,    277.3,2,    277.2,2,    11.27,2,    16.67,2,     0.98,2,   -999.0,9,   7.7220,2,    25.00
  35TH20100608, OVIDE,    66,  1,      5,2,20100625,1715, 58.4100, -30.1020, 2166,   2100.1,   3.1930,  34.9850,2,  34.9850,2,    277.3,2,    278.1,2,    11.23,2,    16.45,2,     0.96,2,   -999.0,9,   7.7190,2,    25.00
  35TH20100608, OVIDE,    66,  1,      6,2,20100625,1715, 58.4100, -30.1020, 2166,   1997.2,   3.1950,  34.9860,2,  34.9850,2,    277.3,2,    277.8,2,    11.31,2,    16.96,2,     1.00,2,   -999.0,9,   7.7210,2,    25.00
  35TH20100608, OVIDE,    66,  1,      7,2,20100625,1715, 58.4100, -30.1020, 2166,   1799.3,   3.3030,  34.9790,2,  34.9800,2,    277.0,2,    279.8,2,    11.05,2,    16.72,2,     0.99,2,   -999.0,9,   7.7280,2,    25.00
  35TH20100608, OVIDE,    66,  1,      8,2,20100625,1715, 58.4100, -30.1020, 2166,   1600.4,   3.4920,  34.9680,2,  34.9680,2,    276.5,2,    276.8,2,    10.81,2,    16.83,2,     0.99,2,   -999.0,9,   7.7210,2,    25.00
  35TH20100608, OVIDE,    66,  1,      9,2,20100625,1715, 58.4100, -30.1020, 2166,   1399.3,   3.7210,  34.9490,2,  34.9470,2,    274.8,2,    275.5,2,    10.90,2,    18.41,2,     1.04,2,   -999.0,9,   7.7210,2,    25.00
  35TH20100608, OVIDE,    66,  1,     10,2,20100625,1715, 58.4100, -30.1020, 2166,   1200.8,   4.0200,  34.9490,2,  34.9480,2,    270.9,2,    272.1,2,    10.60,2,    18.25,2,     1.04,2,   -999.0,9,   7.7210,2,    25.00
  35TH20100608, OVIDE,    66,  1,     11,2,20100625,1715, 58.4100, -30.1020, 2166,    999.1,   4.3950,  34.9610,2,  34.9600,2,    263.3,2,    263.1,2,    10.56,2,    18.56,2,     1.08,2,   -999.0,9,   7.7090,2,    25.00
  35TH20100608, OVIDE,    66,  1,     12,2,20100625,1715, 58.4100, -30.1020, 2166,    900.5,   4.7480,  34.9800,2,  34.9830,2,    255.9,2,    257.5,2,    10.46,2,    18.59,2,     1.12,2,   -999.0,9,   7.7060,2,    25.00
  35TH20100608, OVIDE,    66,  1,     13,2,20100625,1715, 58.4100, -30.1020, 2166,    898.2,   4.7510,  34.9850,2,  34.9830,2,    255.5,2,    256.9,2,    10.36,2,    18.39,2,     1.09,2,   -999.0,9,-999.0000,9,    25.00
  35TH20100608, OVIDE,    66,  1,     14,2,20100625,1715, 58.4100, -30.1020, 2166,    799.1,   5.4430,  35.0420,2,  35.0410,2,    242.6,2,    247.6,2,    10.25,2,    18.29,2,     1.08,2,   -999.0,9,   7.7100,2,    25.00
  35TH20100608, OVIDE,    66,  1,     15,2,20100625,1715, 58.4100, -30.1020, 2166,    700.9,   5.8620,  35.0290,2,  35.0290,2,    235.4,2,    237.0,2,    10.42,2,    18.92,2,     1.13,2,   -999.0,9,   7.7170,2,    25.00
  35TH20100608, OVIDE,    66,  1,     16,2,20100625,1715, 58.4100, -30.1020, 2166,    600.3,   6.8690,  35.1050,2,  35.1150,3,    246.5,2,    247.9,2,     8.74,2,    17.17,2,     1.03,2,   -999.0,9,   7.7340,2,    25.00
  35TH20100608, OVIDE,    66,  1,     17,2,20100625,1715, 58.4100, -30.1020, 2166,    497.3,   7.6690,  35.2000,2,  35.1990,2,    263.7,2,    265.7,2,     6.83,2,    15.35,2,     0.88,2,   -999.0,9,   7.7730,2,    25.00
  35TH20100608, OVIDE,    66,  1,     18,2,20100625,1715, 58.4100, -30.1020, 2166,    402.1,   7.8240,  35.2040,2,  35.2020,2,    268.6,2,    268.0,2,     6.57,2,    14.87,2,     0.85,2,   -999.0,9,   7.7740,2,    25.00
  35TH20100608, OVIDE,    66,  1,     19,2,20100625,1715, 58.4100, -30.1020, 2166,    301.5,   8.0530,  35.2180,2,  35.2160,2,    271.7,2,    272.5,2,     6.23,2,    14.15,2,     0.83,2,   -999.0,9,   7.7810,2,    25.00
  35TH20100608, OVIDE,    66,  1,     20,2,20100625,1715, 58.4100, -30.1020, 2166,    200.2,   8.1130,  35.1940,2,  35.1930,2,    272.8,2,    271.5,2,     6.12,2,    14.20,2,     0.85,2,   -999.0,9,   7.7810,2,    25.00
  35TH20100608, OVIDE,    66,  1,     21,2,20100625,1715, 58.4100, -30.1020, 2166,    152.9,   8.1590,  35.1690,2,  35.1710,2,    266.1,2,    266.0,2,     6.23,2,    14.39,2,     0.84,2,   -999.0,9,   7.7770,2,    25.00
  35TH20100608, OVIDE,    66,  1,     22,2,20100625,1715, 58.4100, -30.1020, 2166,    100.5,   8.5020,  35.1730,2,  35.1670,3,    263.6,2,    261.7,2,     6.14,2,    14.13,2,     0.83,2,   -999.0,9,   7.7820,2,    25.00
  35TH20100608, OVIDE,    66,  1,     23,2,20100625,1715, 58.4100, -30.1020, 2166,     55.9,   8.5380,  35.1230,2,  35.1240,2,    267.9,2,    267.2,2,     5.62,2,    13.27,2,     0.80,2,   -999.0,9,   7.7910,2,    25.00
  35TH20100608, OVIDE,    66,  1,     24,2,20100625,1715, 58.4100, -30.1020, 2166,      3.5,  10.7060,  34.9510,2,  34.9400,3,    289.2,2,    288.4,2,     3.02,2,     6.36,2,     0.43,2,   -999.0,9,   7.8910,2,    25.00