BOTTLE,20140929PRINUNIVRMK
EXPOCODE,SECT_ID,STNNBR,CASTNO,BTLNBR,BTLNBR_FLAG_W,DATE,TIME,LATITUDE,LONGITUDE,DEPTH,CTDPRS,CTDTMP,CTDSAL,CTDSAL_FLAG_W,SALNTY,SALNTY_FLAG_W,CTDOXY,CTDOXY_FLAG_W,OXYGEN,OXYGEN_FLAG_W,SILCAT,SILCAT_FLAG_W,NITRAT,NITRAT_FLAG_W,PHSPHT,PHSPHT_FLAG_W,ALKALI,ALKALI_FLAG_W,PH_SWS,PH_SWS_FLAG_W,PH_TMP
,,,,,,,,,,METERS,DBAR,ITS-90,PSS-78,,PSS-78,,UMOL/KG,,UMOL/KG,,UMOL/KG,,UMOL/KG,,UMOL/KG,,UMOL/KG,,,,DEG C
  35TH20100608, OVIDE,    84,  1,      3,2,20100629,0323, 59.7580, -40.9040, 2263,   2294.2,   1.6420,  34.8840,2,  34.8840,2,    306.7,2,    303.3,2,     7.86,2,    14.20,2,     0.86,2,   -999.0,9,   7.7230,2,    25.00
  35TH20100608, OVIDE,    84,  1,      4,2,20100629,0323, 59.7580, -40.9040, 2263,   2244.8,   1.6450,  34.8840,2,  34.8850,2,    306.4,2,    303.0,2,     7.97,2,    14.47,2,     0.88,2,   -999.0,9,   7.7210,2,    25.00
  35TH20100608, OVIDE,    84,  1,      5,2,20100629,0323, 59.7580, -40.9040, 2263,   2196.1,   1.8350,  34.8890,2,  34.8860,2,    302.2,2,    301.3,2,     8.28,2,    14.57,2,     0.88,2,   -999.0,9,   7.7230,2,    25.00
  35TH20100608, OVIDE,    84,  1,      6,2,20100629,0323, 59.7580, -40.9040, 2263,   1999.8,   2.6270,  34.8980,2,  34.8990,2,    290.5,2,    292.9,2,     9.90,2,    15.93,2,     0.98,2,   -999.0,9,   7.7250,2,    25.00
  35TH20100608, OVIDE,    84,  1,      7,2,20100629,0323, 59.7580, -40.9040, 2263,   1799.9,   3.0950,  34.9190,2,  34.9200,2,    282.5,2,    281.9,2,    11.08,2,    17.02,2,     1.03,2,   -999.0,9,   7.7260,2,    25.00
  35TH20100608, OVIDE,    84,  1,      8,2,20100629,0323, 59.7580, -40.9040, 2263,   1598.9,   3.3340,  34.9220,2,  34.9230,2,    279.5,2,    280.8,2,    10.76,2,    17.24,2,     1.03,2,   -999.0,9,   7.7240,2,    25.00
  35TH20100608, OVIDE,    84,  1,      9,2,20100629,0323, 59.7580, -40.9040, 2263,   1400.2,   3.5460,  34.9250,2,  34.9260,2,    278.6,2,    280.2,2,    10.14,2,    17.10,2,     1.07,2,   -999.0,9,   7.7240,2,    25.00
  35TH20100608, OVIDE,    84,  1,     10,2,20100629,0323, 59.7580, -40.9040, 2263,   1399.3,   3.5460,  34.9250,2,  34.9260,2,    278.5,2,    280.6,2,    10.14,2,    17.06,2,     1.03,2,   -999.0,9,-999.0000,9,    25.00
  35TH20100608, OVIDE,    84,  1,     11,2,20100629,0323, 59.7580, -40.9040, 2263,   1199.5,   3.7470,  34.9250,2,  34.9260,2,    279.0,2,    280.4,2,     9.88,2,    17.07,2,     1.03,2,   -999.0,9,   7.7210,2,    25.00
  35TH20100608, OVIDE,    84,  1,     12,2,20100629,0323, 59.7580, -40.9040, 2263,    998.2,   3.7790,  34.9010,2,  34.9030,2,    283.2,2,    283.3,2,     9.62,2,    17.25,2,     1.02,2,   -999.0,9,   7.7180,2,    25.00
  35TH20100608, OVIDE,    84,  1,     13,2,20100629,0323, 59.7580, -40.9040, 2263,    899.4,   3.8230,  34.8920,2,  34.8950,2,    288.0,2,    286.1,2,     8.93,2,    17.50,2,     1.06,2,   -999.0,9,   7.7170,2,    25.00
  35TH20100608, OVIDE,    84,  1,     14,2,20100629,0323, 59.7580, -40.9040, 2263,    799.4,   3.9410,  34.9020,2,  34.9020,2,    290.1,2,    290.9,2,     9.04,2,    17.37,2,     1.05,2,   -999.0,9,   7.7170,2,    25.00
  35TH20100608, OVIDE,    84,  1,     15,2,20100629,0323, 59.7580, -40.9040, 2263,    700.2,   4.1240,  34.9210,2,  34.9200,2,    286.5,2,    287.3,2,     9.06,2,    17.56,2,     1.07,2,   -999.0,9,   7.7170,2,    25.00
  35TH20100608, OVIDE,    84,  1,     16,2,20100629,0323, 59.7580, -40.9040, 2263,    599.7,   4.3350,  34.9330,2,  34.9330,2,    282.2,2,    283.9,2,     9.19,2,    17.83,2,     1.09,2,   -999.0,9,   7.7170,2,    25.00
  35TH20100608, OVIDE,    84,  1,     17,2,20100629,0323, 59.7580, -40.9040, 2263,    500.3,   4.6260,  34.9520,2,  34.9530,2,    290.2,2,    286.0,2,     8.71,2,    17.37,2,     1.05,2,   -999.0,9,   7.7250,2,    25.00
  35TH20100608, OVIDE,    84,  1,     18,2,20100629,0323, 59.7580, -40.9040, 2263,    400.1,   4.8210,  34.9620,2,  34.9630,2,    286.7,2,    290.7,2,     8.42,2,    16.83,2,     1.01,2,   -999.0,9,   7.7290,2,    25.00
  35TH20100608, OVIDE,    84,  1,     19,2,20100629,0323, 59.7580, -40.9040, 2263,    298.9,   5.3420,  35.0120,2,  35.0140,2,    289.5,2,    288.8,2,     7.96,2,    16.75,2,     1.01,2,   -999.0,9,   7.7400,2,    25.00
  35TH20100608, OVIDE,    84,  1,     20,2,20100629,0323, 59.7580, -40.9040, 2263,    198.8,   5.6580,  35.0380,2,  35.0380,2,    288.6,2,    290.1,2,     7.64,2,    16.51,2,     1.00,2,   -999.0,9,   7.7430,2,    25.00
  35TH20100608, OVIDE,    84,  1,     21,2,20100629,0323, 59.7580, -40.9040, 2263,    150.6,   5.9990,  35.0730,2,  35.0720,2,    284.9,2,    285.5,2,     7.60,2,    16.40,2,     0.99,2,   -999.0,9,   7.7490,2,    25.00
  35TH20100608, OVIDE,    84,  1,     22,2,20100629,0323, 59.7580, -40.9040, 2263,     99.3,   6.1910,  35.0820,2,  35.0810,2,    283.6,2,    284.6,2,     7.34,2,    16.03,2,     0.97,2,   -999.0,9,   7.7540,2,    25.00
  35TH20100608, OVIDE,    84,  1,     23,2,20100629,0323, 59.7580, -40.9040, 2263,     49.2,   6.8790,  35.0490,2,  35.0530,2,    294.7,2,    292.0,2,     6.24,2,    11.87,2,     0.81,2,   -999.0,9,   7.7990,2,    25.00
  35TH20100608, OVIDE,    84,  1,     24,2,20100629,0323, 59.7580, -40.9040, 2263,      4.1,   8.4030,  34.8030,2,  34.8040,2,    305.0,2,    303.0,2,     4.50,2,     7.23,2,     0.52,2,   -999.0,9,   7.8710,2,    25.00
  35TH20100608, OVIDE,    85,  1,      3,2,20100629,0640, 59.7730, -41.2960, 2025,   2051.1,   2.1340,  34.8860,2,  34.8860,2,    299.8,2,    296.9,2,     8.74,2,    15.25,2,     0.90,2,   2299.3,2,   7.7240,2,    25.00
  35TH20100608, OVIDE,    85,  1,      4,2,20100629,0640, 59.7730, -41.2960, 2025,   1997.8,   2.1360,  34.8860,2,  34.8870,2,    299.2,2,    299.7,2,     8.72,2,    15.08,2,     0.89,2,   2298.8,2,   7.7250,2,    25.00
  35TH20100608, OVIDE,    85,  1,      5,2,20100629,0640, 59.7730, -41.2960, 2025,   1950.3,   2.3700,  34.8950,2,  34.8960,2,    293.9,2,    293.6,2,     9.78,2,    15.71,2,     0.94,2,   2301.7,2,   7.7260,2,    25.00
  35TH20100608, OVIDE,    85,  1,      6,2,20100629,0640, 59.7730, -41.2960, 2025,   1796.2,   2.7810,  34.9050,2,  34.9050,2,    287.9,2,    288.6,2,    10.29,2,    16.31,2,     0.98,2,   2302.7,2,   7.7260,2,    25.00
  35TH20100608, OVIDE,    85,  1,      7,2,20100629,0640, 59.7730, -41.2960, 2025,   1598.7,   3.1110,  34.9070,2,  34.9110,2,    285.1,2,    285.9,2,    10.04,2,    16.46,2,     1.02,2,   2302.8,2,   7.7260,2,    25.00
  35TH20100608, OVIDE,    85,  1,      8,2,20100629,0640, 59.7730, -41.2960, 2025,   1399.3,   3.4550,  34.9220,2,  34.9220,2,    280.5,2,    281.9,2,    10.10,2,    17.09,2,     1.01,2,   2302.9,2,   7.7210,2,    25.00
  35TH20100608, OVIDE,    85,  1,      9,2,20100629,0640, 59.7730, -41.2960, 2025,   1198.6,   3.6790,  34.9250,2,  34.9260,2,    275.8,2,    277.0,2,    10.41,2,    17.57,2,     1.05,2,   2303.4,2,   7.7180,2,    25.00
  35TH20100608, OVIDE,    85,  1,     10,2,20100629,0640, 59.7730, -41.2960, 2025,    999.8,   3.7120,  34.9230,2,  34.9140,3,    280.8,2,    280.9,2,     9.75,2,    17.64,2,     1.02,2,   2303.7,2,   7.7200,2,    25.00
  35TH20100608, OVIDE,    85,  1,     11,2,20100629,0640, 59.7730, -41.2960, 2025,    899.9,   3.8520,  34.9130,2,  34.9160,2,    281.5,2,    282.0,2,     9.41,2,    17.39,2,     1.02,2,   2304.0,2,   7.7170,2,    25.00
  35TH20100608, OVIDE,    85,  1,     12,2,20100629,0640, 59.7730, -41.2960, 2025,    799.3,   3.9850,  34.9200,2,  34.9210,2,    283.9,2,    283.0,2,     9.11,2,    16.95,2,     1.01,2,   2305.5,2,   7.7210,2,    25.00
  35TH20100608, OVIDE,    85,  1,     13,2,20100629,0640, 59.7730, -41.2960, 2025,    699.7,   4.1090,  34.9260,2,  34.9270,2,    284.5,2,    284.6,2,     8.99,2,    17.03,2,     1.01,2,   2303.4,2,   7.7200,2,    25.00
  35TH20100608, OVIDE,    85,  1,     14,2,20100629,0640, 59.7730, -41.2960, 2025,    600.8,   4.2260,  34.9280,2,  34.9300,2,    284.7,2,    284.8,2,     8.98,2,    17.57,2,     1.05,2,   2304.7,2,   7.7170,2,    25.00
  35TH20100608, OVIDE,    85,  1,     15,2,20100629,0640, 59.7730, -41.2960, 2025,    500.7,   4.5340,  34.9510,2,  34.9510,2,    280.8,2,    280.8,2,     8.71,2,    17.28,2,     1.02,2,   2305.4,2,   7.7220,2,    25.00
  35TH20100608, OVIDE,    85,  1,     16,2,20100629,0640, 59.7730, -41.2960, 2025,    400.2,   4.8230,  34.9690,2,  34.9710,2,    280.6,2,    286.4,3,     8.50,2,    16.95,2,     1.02,2,   2307.4,2,   7.7270,2,    25.00
  35TH20100608, OVIDE,    85,  1,     17,2,20100629,0640, 59.7730, -41.2960, 2025,    301.4,   5.1280,  34.9940,2,  34.9930,2,    283.9,2,    287.4,2,     8.19,2,    16.72,2,     0.98,2,   2308.6,2,   7.7340,2,    25.00
  35TH20100608, OVIDE,    85,  1,     18,2,20100629,0640, 59.7730, -41.2960, 2025,    201.2,   5.5170,  35.0300,2,  35.0290,2,    286.8,2,    292.3,3,     7.75,2,    16.46,2,     0.98,2,   2310.1,2,   7.7430,2,    25.00
  35TH20100608, OVIDE,    85,  1,     19,2,20100629,0640, 59.7730, -41.2960, 2025,    150.9,   5.7030,  35.0450,2,  35.0470,2,    289.8,2,    291.9,2,     7.61,2,    16.33,2,     0.96,2,   2311.2,2,   7.7440,2,    25.00
  35TH20100608, OVIDE,    85,  1,     20,2,20100629,0640, 59.7730, -41.2960, 2025,    101.1,   5.9670,  35.0600,2,  35.0610,2,    285.0,2,    284.7,2,     7.32,2,    16.19,2,     0.97,2,   2311.6,2,   7.7460,2,    25.00
  35TH20100608, OVIDE,    85,  1,     21,2,20100629,0640, 59.7730, -41.2960, 2025,     54.1,   6.6450,  34.9570,2,  34.9610,2,    295.2,2,    301.2,3,     5.87,2,    12.78,2,     0.82,2,   -999.0,9,   7.7880,2,    25.00
  35TH20100608, OVIDE,    85,  1,     22,2,20100629,0640, 59.7730, -41.2960, 2025,      3.4,   8.1190,  34.8870,2,  34.8900,2,    302.9,2,    302.7,2,     4.89,2,     8.86,2,     0.61,2,   2307.4,2,   7.8540,2,    25.00
  35TH20100608, OVIDE,    86,  1,      3,2,20100629,0932, 59.7950, -41.7300, 1830,   1854.2,   2.6560,  34.8980,2,  34.8970,2,    290.9,2,    289.7,2,     9.73,2,    15.89,2,     0.95,2,   -999.0,9,   7.7250,2,    25.00
  35TH20100608, OVIDE,    86,  1,      4,2,20100629,0932, 59.7950, -41.7300, 1830,   1796.8,   2.6790,  34.9000,2,  34.9000,2,    290.4,2,    290.8,2,     9.80,2,    15.89,2,     0.94,2,   -999.0,9,   7.7220,2,    25.00
  35TH20100608, OVIDE,    86,  1,      5,2,20100629,0932, 59.7950, -41.7300, 1830,   1741.6,   2.7820,  34.9030,2,  34.9030,2,    288.5,2,    289.3,2,     9.99,2,    16.02,2,     0.94,2,   -999.0,9,   7.7250,2,    25.00
  35TH20100608, OVIDE,    86,  1,      6,2,20100629,0932, 59.7950, -41.7300, 1830,   1600.4,   2.9870,  34.9060,2,  34.9050,2,    286.6,2,    285.9,2,     9.86,2,    16.22,2,     0.96,2,   -999.0,9,   7.7260,2,    25.00
  35TH20100608, OVIDE,    86,  1,      7,2,20100629,0932, 59.7950, -41.7300, 1830,   1400.2,   3.2870,  34.9140,2,  34.9140,2,    283.5,2,    283.5,2,     9.84,2,    16.52,2,     0.98,2,   -999.0,9,   7.7260,2,    25.00
  35TH20100608, OVIDE,    86,  1,      8,2,20100629,0932, 59.7950, -41.7300, 1830,   1200.0,   3.6390,  34.9220,2,  34.9230,2,    279.9,2,    282.7,2,     9.51,2,    16.79,2,     0.98,2,   -999.0,9,   7.7230,2,    25.00
  35TH20100608, OVIDE,    86,  1,      9,2,20100629,0932, 59.7950, -41.7300, 1830,   1000.0,   3.9020,  34.9230,2,  34.9220,2,    280.6,2,    279.5,2,     9.15,2,    17.05,2,     0.98,2,   -999.0,9,   7.7220,2,    25.00
  35TH20100608, OVIDE,    86,  1,     10,2,20100629,0932, 59.7950, -41.7300, 1830,    899.6,   4.0580,  34.9260,2,  34.9250,2,    281.3,2,    281.5,2,     9.00,2,    16.99,2,     1.00,2,   -999.0,9,   7.7220,2,    25.00
  35TH20100608, OVIDE,    86,  1,     12,2,20100629,0932, 59.7950, -41.7300, 1830,    800.1,   4.2180,  34.9350,2,  34.9470,3,    280.8,2,    281.4,2,     8.98,2,    17.30,2,     1.00,2,   -999.0,9,   7.7230,2,    25.00
  35TH20100608, OVIDE,    86,  1,     13,2,20100629,0932, 59.7950, -41.7300, 1830,    699.5,   4.4350,  34.9470,2,  34.9640,3,    279.8,2,    282.2,2,     8.78,2,    17.06,2,     1.01,2,   -999.0,9,   7.7230,2,    25.00
  35TH20100608, OVIDE,    86,  1,     14,2,20100629,0932, 59.7950, -41.7300, 1830,    599.8,   4.7260,  34.9630,2,  34.9880,3,    277.9,2,    278.7,2,     8.60,2,    16.94,2,     1.00,2,   -999.0,9,   7.7280,2,    25.00
  35TH20100608, OVIDE,    86,  1,     15,2,20100629,0932, 59.7950, -41.7300, 1830,    499.3,   5.1000,  34.9890,2,  35.0140,3,    279.1,2,    287.0,3,     8.16,2,    16.85,2,     1.00,2,   -999.0,9,   7.7340,2,    25.00
  35TH20100608, OVIDE,    86,  1,     16,2,20100629,0932, 59.7950, -41.7300, 1830,    399.5,   5.4320,  35.0210,2,  35.0460,3,    283.5,2,    284.8,2,     7.84,2,    16.35,2,     0.97,2,   -999.0,9,   7.7410,2,    25.00
  35TH20100608, OVIDE,    86,  1,     17,2,20100629,0932, 59.7950, -41.7300, 1830,    299.7,   5.7940,  35.0560,2,-999.0000,9,    288.1,2,    286.9,2,     7.56,2,    16.35,2,     0.97,2,   -999.0,9,   7.7440,2,    25.00
  35TH20100608, OVIDE,    86,  1,     18,2,20100629,0932, 59.7950, -41.7300, 1830,    199.9,   6.1010,  35.0710,2,  35.0690,2,    281.7,2,    280.5,2,     7.39,2,    15.90,2,     0.95,2,   -999.0,9,   7.7480,2,    25.00
  35TH20100608, OVIDE,    86,  1,     19,2,20100629,0932, 59.7950, -41.7300, 1830,    150.0,   6.3210,  35.0860,2,  35.0840,2,    279.8,2,    281.3,2,     7.15,2,    15.84,2,     1.03,2,   -999.0,9,   7.7460,2,    25.00
  35TH20100608, OVIDE,    86,  1,     20,2,20100629,0932, 59.7950, -41.7300, 1830,     99.9,   6.6250,  35.1020,2,  35.1030,2,    281.0,2,    278.2,2,     6.86,2,    14.94,2,     0.94,2,   -999.0,9,   7.7600,2,    25.00
  35TH20100608, OVIDE,    86,  1,     21,2,20100629,0932, 59.7950, -41.7300, 1830,     53.6,   7.2660,  35.0480,2,  35.0470,2,    296.1,2,    292.8,2,     5.68,2,     8.42,2,     0.70,2,   -999.0,9,   7.8360,2,    25.00
  35TH20100608, OVIDE,    86,  1,     22,2,20100629,0932, 59.7950, -41.7300, 1830,      8.8,   8.2720,  34.8910,2,  34.8910,2,    300.4,2,    302.6,2,     5.13,2,     8.60,2,     0.58,2,   -999.0,9,   7.8560,2,    25.00
  35TH20100608, OVIDE,    87,  1,      3,2,20100629,1223, 59.7990, -42.0030, 1707,   1728.5,   3.0940,  34.9090,2,  34.9110,2,    285.8,2,    283.9,2,    10.34,2,    16.22,2,     0.98,2,   2303.4,2,   7.7230,2,    25.00
  35TH20100608, OVIDE,    87,  1,      4,2,20100629,1223, 59.7990, -42.0030, 1707,   1679.2,   3.1390,  34.9090,2,  34.9100,2,    285.2,2,    285.2,2,    10.33,2,    16.24,2,     0.99,2,   2303.5,2,   7.7230,2,    25.00
  35TH20100608, OVIDE,    87,  1,      5,2,20100629,1223, 59.7990, -42.0030, 1707,   1629.2,   3.1970,  34.9110,2,  34.9110,2,    284.3,2,    283.8,2,    10.30,2,    16.25,2,     1.00,2,   2303.8,2,   7.7230,2,    25.00
  35TH20100608, OVIDE,    87,  1,      6,2,20100629,1223, 59.7990, -42.0030, 1707,   1398.4,   3.5110,  34.9230,2,  34.9230,2,    280.5,2,    281.0,2,    10.22,2,    16.59,2,     1.02,2,   2303.4,2,   7.7220,2,    25.00
  35TH20100608, OVIDE,    87,  1,      7,2,20100629,1223, 59.7990, -42.0030, 1707,   1199.7,   3.7010,  34.9220,2,  34.9230,2,    280.3,2,    279.2,2,     9.96,2,    16.57,2,     1.03,2,   2303.6,2,   7.7160,2,    25.00
  35TH20100608, OVIDE,    87,  1,      8,2,20100629,1223, 59.7990, -42.0030, 1707,    999.0,   3.9390,  34.9240,2,  34.9240,2,    281.0,2,    284.7,2,     9.53,2,    16.64,2,     1.02,2,   2303.7,2,   7.7190,2,    25.00
  35TH20100608, OVIDE,    87,  1,      9,2,20100629,1223, 59.7990, -42.0030, 1707,    899.6,   4.0600,  34.9290,2,  34.9280,2,    281.4,2,    282.1,2,     9.42,2,    16.69,2,     1.03,2,   2304.3,2,   7.7190,2,    25.00
  35TH20100608, OVIDE,    87,  1,     10,2,20100629,1223, 59.7990, -42.0030, 1707,    800.1,   4.1530,  34.9340,2,  34.9330,2,    281.7,2,    281.2,2,     9.35,2,    16.65,2,     1.02,2,   2303.9,2,   7.7200,2,    25.00
  35TH20100608, OVIDE,    87,  1,     11,2,20100629,1223, 59.7990, -42.0030, 1707,    699.2,   4.2500,  34.9390,2,  34.9370,2,    280.4,2,    280.5,2,     9.18,2,    16.62,2,     1.03,2,   2304.9,2,   7.7220,2,    25.00
  35TH20100608, OVIDE,    87,  1,     12,2,20100629,1223, 59.7990, -42.0030, 1707,    599.3,   4.6490,  34.9580,2,  34.9590,2,    279.1,2,    278.1,2,     8.91,2,    16.43,2,     1.01,2,   2305.5,2,   7.7260,2,    25.00
  35TH20100608, OVIDE,    87,  1,     13,2,20100629,1223, 59.7990, -42.0030, 1707,    500.0,   4.8720,  34.9680,2,  34.9680,2,    279.7,2,    280.5,2,     8.52,2,    16.23,2,     1.00,2,   2306.0,2,   7.7330,2,    25.00
  35TH20100608, OVIDE,    87,  1,     14,2,20100629,1223, 59.7990, -42.0030, 1707,    400.0,   5.1930,  34.9890,2,  34.9880,2,    280.3,2,    279.8,2,     8.30,2,    16.12,2,     1.00,2,   2308.3,2,   7.7380,2,    25.00
  35TH20100608, OVIDE,    87,  1,     15,2,20100629,1223, 59.7990, -42.0030, 1707,    300.4,   5.7640,  35.0400,2,  35.0410,2,    281.5,2,    282.3,2,     7.84,2,    16.01,2,     1.00,2,   2311.0,2,   7.7480,2,    25.00
  35TH20100608, OVIDE,    87,  1,     16,2,20100629,1223, 59.7990, -42.0030, 1707,    200.5,   6.2240,  35.0780,2,  35.0770,2,    281.5,2,    283.1,2,     7.41,2,    15.63,2,     0.98,2,   2313.0,2,   7.7530,2,    25.00
  35TH20100608, OVIDE,    87,  1,     17,2,20100629,1223, 59.7990, -42.0030, 1707,    149.5,   6.5870,  35.0990,2,  35.0990,2,    280.8,2,    279.7,2,     7.12,2,    15.32,2,     0.96,2,   2314.2,2,   7.7590,2,    25.00
  35TH20100608, OVIDE,    87,  1,     18,2,20100629,1223, 59.7990, -42.0030, 1707,    100.4,   6.7030,  35.0840,2,  35.0810,2,    282.0,2,    282.8,2,     6.62,2,    13.77,2,     0.93,2,   2315.3,2,   7.7730,2,    25.00
  35TH20100608, OVIDE,    87,  1,     19,2,20100629,1223, 59.7990, -42.0030, 1707,     50.6,   7.3710,  34.9950,2,  34.9940,2,    294.8,2,    291.1,2,     5.36,2,     9.47,2,     0.72,2,   2314.1,2,   7.8250,2,    25.00
  35TH20100608, OVIDE,    87,  1,     20,2,20100629,1223, 59.7990, -42.0030, 1707,      8.9,   8.0730,  34.9450,2,  34.9470,2,    300.9,2,    299.6,2,     4.63,2,     7.87,2,     0.61,2,   2311.0,2,   7.8620,2,    25.00