BOTTLE,20140929PRINUNIVRMK
EXPOCODE,SECT_ID,STNNBR,CASTNO,BTLNBR,BTLNBR_FLAG_W,DATE,TIME,LATITUDE,LONGITUDE,DEPTH,CTDPRS,CTDTMP,CTDSAL,CTDSAL_FLAG_W,SALNTY,SALNTY_FLAG_W,CTDOXY,CTDOXY_FLAG_W,OXYGEN,OXYGEN_FLAG_W,SILCAT,SILCAT_FLAG_W,NITRAT,NITRAT_FLAG_W,PHSPHT,PHSPHT_FLAG_W,ALKALI,ALKALI_FLAG_W,PH_SWS,PH_SWS_FLAG_W,PH_TMP
,,,,,,,,,,METERS,DBAR,ITS-90,PSS-78,,PSS-78,,UMOL/KG,,UMOL/KG,,UMOL/KG,,UMOL/KG,,UMOL/KG,,UMOL/KG,,,,DEG C
  35TH20100608, OVIDE,    27,  1,      3,2,20100616,1353, 44.3770, -17.8170, 4945,   5042.4,   2.6590,  34.9090,2,  34.9100,2,    241.8,2,    241.3,2,    45.07,2,    22.96,2,     1.36,2,   2352.8,2,   7.7310,2,    25.00
  35TH20100608, OVIDE,    27,  1,      4,2,20100616,1353, 44.3770, -17.8170, 4945,   4993.2,   2.6520,  34.9100,2,  34.9090,2,    241.7,2,    242.9,2,    45.23,2,    22.87,2,     1.35,2,   2354.3,2,   7.7290,2,    25.00
  35TH20100608, OVIDE,    27,  1,      5,2,20100616,1353, 44.3770, -17.8170, 4945,   4499.5,   2.5960,  34.9100,2,  34.9070,2,    241.5,2,    242.4,2,    45.17,2,    23.02,2,     1.36,2,   2354.5,2,   7.7300,2,    25.00
  35TH20100608, OVIDE,    27,  1,      6,2,20100616,1353, 44.3770, -17.8170, 4945,   3999.5,   2.5640,  34.9140,2,  34.9110,2,    242.7,2,    242.9,2,    44.18,2,    22.73,2,     1.35,2,   2350.9,2,   7.7280,2,    25.00
  35TH20100608, OVIDE,    27,  1,      7,2,20100616,1353, 44.3770, -17.8170, 4945,   3499.9,   2.6110,  34.9240,2,  34.9220,2,    246.8,2,    246.4,2,    40.01,2,    21.97,2,     1.30,2,   2344.6,2,   7.7310,2,    25.00
  35TH20100608, OVIDE,    27,  1,      8,2,20100616,1353, 44.3770, -17.8170, 4945,   3249.7,   2.6940,  34.9320,2,  34.9310,2,    251.5,2,    250.8,2,    35.82,2,    21.02,2,     1.25,2,   -999.0,9,   7.7300,2,    25.00
  35TH20100608, OVIDE,    27,  1,      9,2,20100616,1353, 44.3770, -17.8170, 4945,   2999.6,   2.8030,  34.9390,2,  34.9390,2,    256.7,2,    255.0,2,    30.80,2,    20.82,2,     1.18,2,   2331.5,2,   7.7280,2,    25.00
  35TH20100608, OVIDE,    27,  1,     10,2,20100616,1353, 44.3770, -17.8170, 4945,   2748.8,   2.9570,  34.9470,2,  34.9450,2,    261.0,2,    259.2,2,    25.98,2,    19.36,2,     1.13,2,   2324.2,2,   7.7310,2,    25.00
  35TH20100608, OVIDE,    27,  1,     11,2,20100616,1353, 44.3770, -17.8170, 4945,   2499.4,   3.1980,  34.9540,2,  34.9520,2,    263.1,2,    261.2,2,    24.17,2,    19.18,2,     1.12,2,   2319.9,2,   7.7320,2,    25.00
  35TH20100608, OVIDE,    27,  1,     12,2,20100616,1353, 44.3770, -17.8170, 4945,   2249.1,   3.3490,  34.9390,2,  34.9390,2,    271.8,2,    269.3,2,    13.46,2,    18.23,2,     1.06,2,   2310.3,2,   7.7290,2,    25.00
  35TH20100608, OVIDE,    27,  1,     13,2,20100616,1353, 44.3770, -17.8170, 4945,   2049.4,   3.5250,  34.9370,2,  34.9350,2,    273.1,2,    270.8,2,    12.90,2,    18.43,2,     1.05,2,   2308.0,2,   7.7240,2,    25.00
  35TH20100608, OVIDE,    27,  1,     14,2,20100616,1353, 44.3770, -17.8170, 4945,   1799.3,   4.4200,  35.0630,2,  35.0650,2,    256.6,2,    255.3,2,    12.19,2,    18.38,2,     1.06,2,   -999.0,9,   7.7290,2,    25.00
  35TH20100608, OVIDE,    27,  1,     15,2,20100616,1353, 44.3770, -17.8170, 4945,   1598.7,   5.2570,  35.1860,2,  35.1820,2,    244.2,2,    244.2,2,    11.50,2,    18.26,2,     1.05,2,   2323.1,2,   7.7300,2,    25.00
  35TH20100608, OVIDE,    27,  1,     16,2,20100616,1353, 44.3770, -17.8170, 4945,   1399.1,   7.2010,  35.5010,2,  35.4990,2,    218.1,2,    220.3,2,    10.79,2,    18.03,2,     1.01,2,   2344.2,2,   7.7460,2,    25.00
  35TH20100608, OVIDE,    27,  1,     17,2,20100616,1353, 44.3770, -17.8170, 4945,   1199.8,   8.3260,  35.6140,2,  35.6130,2,    202.4,2,    205.6,2,    10.24,2,    18.11,2,     1.00,2,   2350.9,2,   7.7500,2,    25.00
  35TH20100608, OVIDE,    27,  1,     18,2,20100616,1353, 44.3770, -17.8170, 4945,   1049.4,   9.4470,  35.7270,2,  35.7360,3,    186.7,2,    191.7,2,     9.68,2,    17.66,2,     0.95,2,   2357.2,2,   7.7580,2,    25.00
  35TH20100608, OVIDE,    27,  1,     19,2,20100616,1353, 44.3770, -17.8170, 4945,    899.3,   9.6150,  35.6140,2,  35.6070,3,    187.1,2,    189.3,2,     8.88,2,    17.96,2,     0.97,2,   2345.6,2,   7.7480,2,    25.00
  35TH20100608, OVIDE,    27,  1,     20,2,20100616,1353, 44.3770, -17.8170, 4945,    799.6,  10.2720,  35.6070,2,  35.6080,2,    182.8,2,    184.7,2,     7.78,2,    17.76,2,     0.97,2,   2343.3,2,   7.7570,2,    25.00
  35TH20100608, OVIDE,    27,  1,     21,2,20100616,1353, 44.3770, -17.8170, 4945,    699.5,  10.5450,  35.5260,2,  35.5260,2,    192.7,2,    192.9,2,     5.26,2,    16.85,2,     0.93,2,   2336.0,2,   7.7630,2,    25.00
  35TH20100608, OVIDE,    27,  1,     22,2,20100616,1353, 44.3770, -17.8170, 4945,    600.4,  10.9880,  35.5330,2,  35.5310,2,    225.7,2,    227.9,2,     4.20,2,    12.90,2,     0.70,2,   2333.9,2,   7.8060,2,    25.00
  35TH20100608, OVIDE,    27,  1,     23,2,20100616,1353, 44.3770, -17.8170, 4945,    499.5,  11.3480,  35.5730,2,  35.5740,2,    247.9,2,    243.5,2,     3.99,2,    11.07,2,     0.61,2,   2336.4,2,   7.8310,2,    25.00
  35TH20100608, OVIDE,    27,  1,     24,2,20100616,1353, 44.3770, -17.8170, 4945,    400.0,  11.7060,  35.6180,2,  35.6140,2,    244.5,2,    241.1,2,     3.43,2,    10.60,2,     0.58,2,   2337.9,2,   7.8370,2,    25.00
  35TH20100608, OVIDE,    27,  1,     25,2,20100616,1353, 44.3770, -17.8170, 4945,    300.1,  12.0240,  35.6730,2,  35.6710,2,    251.1,2,    249.9,2,     3.49,2,     9.12,2,     0.49,2,   2341.9,2,   7.8530,2,    25.00
  35TH20100608, OVIDE,    27,  1,     26,2,20100616,1353, 44.3770, -17.8170, 4945,    199.5,  12.2320,  35.6960,2,  35.6940,2,    250.8,2,    249.8,2,     3.37,2,     8.76,2,     0.47,2,   2342.3,2,   7.8620,2,    25.00
  35TH20100608, OVIDE,    27,  1,     27,2,20100616,1353, 44.3770, -17.8170, 4945,    149.9,  12.4040,  35.7150,2,  35.7120,2,    249.7,2,    246.8,2,     2.93,2,     8.63,2,     0.47,2,   -999.0,9,   7.8630,2,    25.00
  35TH20100608, OVIDE,    27,  1,     28,2,20100616,1353, 44.3770, -17.8170, 4945,     99.4,  12.7660,  35.7730,2,  35.7670,3,    247.0,2,    246.0,2,     2.38,2,     7.82,2,     0.43,2,   2345.7,2,   7.8710,2,    25.00
  35TH20100608, OVIDE,    27,  1,     29,2,20100616,1353, 44.3770, -17.8170, 4945,     52.4,  13.3730,  35.8540,2,  35.8500,2,    253.6,2,    244.6,2,     0.39,2,     6.41,2,     0.35,2,   -999.0,9,   7.8900,2,    25.00
  35TH20100608, OVIDE,    27,  1,     30,2,20100616,1353, 44.3770, -17.8170, 4945,     10.4,  16.1810,  35.7450,2,  35.7430,2,    258.8,2,    257.8,2,     0.20,2,     0.30,2,     0.06,2,   2349.9,2,   7.9690,2,    25.00
  35TH20100608, OVIDE,    28,  1,      3,2,20100616,1935, 44.6740, -18.2110, 4833,   4927.0,   2.6480,  34.9100,2,  34.9070,2,    241.4,2,    241.9,2,    47.54,3,    22.60,2,     1.32,2,   -999.0,9,   7.7300,2,    25.00
  35TH20100608, OVIDE,    28,  1,      4,2,20100616,1935, 44.6740, -18.2110, 4833,   4498.5,   2.5980,  34.9100,2,  34.9080,2,    241.3,2,    240.9,2,    46.34,2,    22.65,2,     1.32,2,   -999.0,9,   7.7290,2,    25.00
  35TH20100608, OVIDE,    28,  1,      5,2,20100616,1935, 44.6740, -18.2110, 4833,   3998.7,   2.5750,  34.9130,2,  34.9120,2,    242.8,2,    244.3,2,    44.95,2,    22.38,2,     1.30,2,   -999.0,9,   7.7310,2,    25.00
  35TH20100608, OVIDE,    28,  1,      6,2,20100616,1935, 44.6740, -18.2110, 4833,   3748.1,   2.5900,  34.9180,2,  34.9170,2,    244.5,2,    243.4,2,    43.25,2,    22.04,2,     1.27,2,   -999.0,9,   7.7290,2,    25.00
  35TH20100608, OVIDE,    28,  1,      7,2,20100616,1935, 44.6740, -18.2110, 4833,   3497.5,   2.6380,  34.9250,2,  34.9230,2,    247.5,2,    246.2,2,    40.55,2,    21.63,2,     1.24,2,   -999.0,9,   7.7310,2,    25.00
  35TH20100608, OVIDE,    28,  1,      8,2,20100616,1935, 44.6740, -18.2110, 4833,   3249.0,   2.7330,  34.9340,2,  34.9330,2,    251.9,2,    251.3,2,    35.82,2,    20.88,2,     1.19,2,   -999.0,9,   7.7300,2,    25.00
  35TH20100608, OVIDE,    28,  1,      9,2,20100616,1935, 44.6740, -18.2110, 4833,   2998.6,   2.8550,  34.9420,2,  34.9400,2,    256.3,2,    255.3,2,    31.04,2,    17.92,2,     0.98,3,   -999.0,9,   7.7300,2,    25.00
  35TH20100608, OVIDE,    28,  1,     10,2,20100616,1935, 44.6740, -18.2110, 4833,   2750.0,   3.0120,  34.9470,2,  34.9450,2,    261.1,2,    259.7,2,    26.30,2,    18.79,2,     1.09,2,   -999.0,9,   7.7300,2,    25.00
  35TH20100608, OVIDE,    28,  1,     11,2,20100616,1935, 44.6740, -18.2110, 4833,   2499.1,   3.1680,  34.9350,2,  34.9330,2,    270.3,2,    269.3,2,    17.16,2,    18.26,2,     1.05,2,   -999.0,9,   7.7280,2,    25.00
  35TH20100608, OVIDE,    28,  1,     12,2,20100616,1935, 44.6740, -18.2110, 4833,   2248.7,   3.4600,  34.9490,2,  34.9480,2,    269.1,2,    273.2,2,    15.82,2,    17.87,2,     1.02,2,   -999.0,9,   7.7290,2,    25.00
  35TH20100608, OVIDE,    28,  1,     13,2,20100616,1935, 44.6740, -18.2110, 4833,   1999.8,   3.5940,  34.9280,2,  34.9500,3,    274.1,2,    273.0,2,    15.80,2,    18.30,2,     1.05,2,   -999.0,9,   7.7220,2,    25.00
  35TH20100608, OVIDE,    28,  1,     14,2,20100616,1935, 44.6740, -18.2110, 4833,   1799.0,   4.3810,  35.0430,2,  35.0430,2,    260.0,2,    258.5,2,    12.98,2,    18.40,2,     1.04,2,   -999.0,9,   7.7250,2,    25.00
  35TH20100608, OVIDE,    28,  1,     15,2,20100616,1935, 44.6740, -18.2110, 4833,   1600.7,   4.8030,  35.0820,2,  35.0800,2,    252.8,2,    254.4,2,    11.75,2,    17.50,2,     0.98,3,   -999.0,9,   7.7220,2,    25.00
  35TH20100608, OVIDE,    28,  1,     16,2,20100616,1935, 44.6740, -18.2110, 4833,   1400.5,   5.8070,  35.2120,2,  35.2110,2,    237.8,2,    238.3,2,    11.45,2,    18.29,2,     1.01,2,   -999.0,9,   7.7240,2,    25.00
  35TH20100608, OVIDE,    28,  1,     17,2,20100616,1935, 44.6740, -18.2110, 4833,   1199.5,   8.2010,  35.6010,2,  35.5890,3,    204.1,2,    206.5,2,    10.82,2,    18.01,2,     0.98,2,   -999.0,9,   7.7480,2,    25.00
  35TH20100608, OVIDE,    28,  1,     18,2,20100616,1935, 44.6740, -18.2110, 4833,   1000.4,   8.6830,  35.5000,2,  35.5030,2,    191.7,2,    199.2,2,    10.30,2,    18.49,2,     1.01,2,   -999.0,9,   7.7400,2,    25.00
  35TH20100608, OVIDE,    28,  1,     19,2,20100616,1935, 44.6740, -18.2110, 4833,    898.8,   9.7640,  35.6160,2,  35.6110,3,    185.0,2,    188.6,2,     9.56,2,    18.03,2,     0.98,2,   -999.0,9,   7.7520,2,    25.00
  35TH20100608, OVIDE,    28,  1,     20,2,20100616,1935, 44.6740, -18.2110, 4833,    800.1,  10.2880,  35.6040,2,  35.6170,3,    187.9,2,    188.0,2,     8.77,2,    17.38,2,     0.94,2,   -999.0,9,   7.7590,2,    25.00
  35TH20100608, OVIDE,    28,  1,     21,2,20100616,1935, 44.6740, -18.2110, 4833,    699.5,  10.5460,  35.5190,2,  35.5140,2,    198.5,2,    195.8,2,     7.71,2,    16.49,2,     0.89,2,   -999.0,9,   7.7650,2,    25.00
  35TH20100608, OVIDE,    28,  1,     22,2,20100616,1935, 44.6740, -18.2110, 4833,    599.4,  11.0480,  35.5460,2,  35.5400,3,    236.4,2,    236.4,2,     4.70,2,    11.90,2,     0.67,2,   -999.0,9,   7.8150,2,    25.00
  35TH20100608, OVIDE,    28,  1,     23,2,20100616,1935, 44.6740, -18.2110, 4833,    499.6,  11.3650,  35.5800,2,  35.5770,2,    250.5,2,    240.8,3,     4.13,2,    10.76,2,     0.60,2,   -999.0,9,   7.8270,2,    25.00
  35TH20100608, OVIDE,    28,  1,     24,2,20100616,1935, 44.6740, -18.2110, 4833,    399.2,  11.5920,  35.6080,2,  35.6030,2,    250.7,2,    244.9,2,     3.74,2,    10.15,2,     0.56,2,   -999.0,9,   7.8380,2,    25.00
  35TH20100608, OVIDE,    28,  1,     25,2,20100616,1935, 44.6740, -18.2110, 4833,    299.4,  11.9510,  35.6670,2,  35.6650,2,    252.7,2,    249.7,2,     3.16,2,     8.92,2,     0.49,2,   -999.0,9,   7.8520,2,    25.00
  35TH20100608, OVIDE,    28,  1,     26,2,20100616,1935, 44.6740, -18.2110, 4833,    198.6,  12.0900,  35.6780,2,  35.6760,2,    251.9,2,    250.2,2,     3.20,2,     8.69,2,     0.46,2,   -999.0,9,   7.8650,2,    25.00
  35TH20100608, OVIDE,    28,  1,     27,2,20100616,1935, 44.6740, -18.2110, 4833,    148.9,  12.2770,  35.7050,2,  35.7010,2,    251.1,2,    243.5,2,     3.63,2,     9.02,2,     0.49,2,   -999.0,9,   7.8550,2,    25.00
  35TH20100608, OVIDE,    28,  1,     28,2,20100616,1935, 44.6740, -18.2110, 4833,     99.8,  12.5080,  35.7320,2,  35.7260,3,    249.9,2,    246.5,2,     3.09,2,     8.27,2,     0.45,2,   -999.0,9,   7.8660,2,    25.00
  35TH20100608, OVIDE,    28,  1,     29,2,20100616,1935, 44.6740, -18.2110, 4833,     57.0,  13.3900,  35.7480,2,  35.7560,3,    257.8,2,    262.7,2,     1.44,2,     4.67,2,     0.28,2,   -999.0,9,   7.9110,2,    25.00
  35TH20100608, OVIDE,    28,  1,     30,2,20100616,1935, 44.6740, -18.2110, 4833,      7.3,  16.4870,  35.7820,2,  35.7830,2,    259.1,2,    254.2,2,     0.70,2,     0.02,2,     0.04,2,   -999.0,9,   7.9770,2,    25.00
  35TH20100608, OVIDE,    29,  1,      3,2,20100617,0130, 45.0510, -18.5050, 4544,   4629.5,   2.6110,  34.9100,2,  34.9100,2,    241.2,2,    240.5,2,    46.19,2,    22.45,2,     1.36,2,   2353.2,2,   7.7300,2,    25.00
  35TH20100608, OVIDE,    29,  1,      4,2,20100617,0130, 45.0510, -18.5050, 4544,   4499.8,   2.5980,  34.9110,2,  34.9100,2,    241.6,2,    242.7,2,    15.80,2,    21.90,2,     1.31,2,   2352.6,2,   7.7300,2,    25.00
  35TH20100608, OVIDE,    29,  1,      5,2,20100617,0130, 45.0510, -18.5050, 4544,   3999.3,   2.5810,  34.9150,2,  34.9150,2,    243.1,2,    242.4,2,    44.42,2,    22.28,2,     1.38,2,   2350.6,2,   7.7300,2,    25.00
  35TH20100608, OVIDE,    29,  1,      6,2,20100617,0130, 45.0510, -18.5050, 4544,   3749.8,   2.5990,  34.9190,2,  34.9190,2,    244.9,2,    244.6,2,    42.52,2,    21.93,2,     1.35,2,   2347.9,2,   7.7280,2,    25.00
  35TH20100608, OVIDE,    29,  1,      7,2,20100617,0130, 45.0510, -18.5050, 4544,   3499.0,   2.6480,  34.9260,2,  34.9260,2,    247.9,2,    246.7,2,    39.49,2,    21.10,2,     1.29,2,   2344.8,2,   7.7310,2,    25.00
  35TH20100608, OVIDE,    29,  1,      8,2,20100617,0130, 45.0510, -18.5050, 4544,   3249.1,   2.7620,  34.9360,2,  34.9360,2,    252.7,2,    251.0,2,    34.43,2,    20.27,2,     1.22,2,   -999.0,9,   7.7310,2,    25.00
  35TH20100608, OVIDE,    29,  1,      9,2,20100617,0130, 45.0510, -18.5050, 4544,   2999.0,   2.8920,  34.9430,2,  34.9450,2,    258.7,2,    257.5,2,    28.80,2,    19.43,2,     1.19,2,   2331.5,2,   7.7310,2,    25.00
  35TH20100608, OVIDE,    29,  1,     10,2,20100617,0130, 45.0510, -18.5050, 4544,   2700.2,   3.0810,  34.9450,2,  34.9450,2,    265.5,2,    264.2,2,    22.62,2,    17.92,2,     1.06,2,   2320.4,2,   7.7300,2,    25.00
  35TH20100608, OVIDE,    29,  1,     11,2,20100617,0130, 45.0510, -18.5050, 4544,   2399.8,   3.2350,  34.9250,2,  34.9280,2,    274.0,2,    271.3,2,    14.90,2,    17.92,2,     1.06,2,   2309.9,2,   7.7270,2,    25.00
  35TH20100608, OVIDE,    29,  1,     12,2,20100617,0130, 45.0510, -18.5050, 4544,   2198.8,   3.5460,  34.9470,2,  34.9490,2,    270.6,2,    268.9,2,    14.34,2,    18.24,2,     1.08,2,   2311.4,2,   7.7270,2,    25.00
  35TH20100608, OVIDE,    29,  1,     13,2,20100617,0130, 45.0510, -18.5050, 4544,   1998.9,   3.9370,  34.9850,2,  34.9850,2,    265.6,2,    263.1,2,    13.26,2,    18.25,2,     1.08,2,   2312.6,2,   7.7250,2,    25.00
  35TH20100608, OVIDE,    29,  1,     14,2,20100617,0130, 45.0510, -18.5050, 4544,   1799.6,   4.1970,  34.9930,2,  34.9940,2,    263.4,2,    262.7,2,    11.84,2,    17.80,2,     1.04,2,   -999.0,9,   7.7210,2,    25.00
  35TH20100608, OVIDE,    29,  1,     15,2,20100617,0130, 45.0510, -18.5050, 4544,   1599.6,   4.6140,  35.0380,2,  35.0370,2,    256.3,2,    256.2,2,    11.35,2,    17.96,2,     1.04,2,   2313.4,2,   7.7200,2,    25.00
  35TH20100608, OVIDE,    29,  1,     16,2,20100617,0130, 45.0510, -18.5050, 4544,   1399.9,   5.5980,  35.1600,2,  35.1630,2,    237.2,2,    239.3,2,    11.13,2,    18.30,2,     1.08,2,   2322.5,2,   7.7240,2,    25.00
  35TH20100608, OVIDE,    29,  1,     17,2,20100617,0130, 45.0510, -18.5050, 4544,   1199.8,   8.3220,  35.6020,2,  35.5670,3,    199.2,2,    209.6,3,    10.71,2,    17.95,2,     1.02,2,   2351.5,2,   7.7480,2,    25.00
  35TH20100608, OVIDE,    29,  1,     18,2,20100617,0130, 45.0510, -18.5050, 4544,    999.3,   9.2400,  35.6080,2,  35.6070,2,    189.4,2,    192.7,2,     9.95,2,    18.06,2,     1.02,2,   2351.8,2,   7.7490,2,    25.00
  35TH20100608, OVIDE,    29,  1,     19,2,20100617,0130, 45.0510, -18.5050, 4544,    900.1,   9.9070,  35.6360,2,  35.6370,2,    184.4,2,    189.4,2,     9.42,2,    17.88,2,     1.02,2,   2352.3,2,   7.7550,2,    25.00
  35TH20100608, OVIDE,    29,  1,     20,2,20100617,0130, 45.0510, -18.5050, 4544,    849.4,   9.6990,  35.5230,2,  35.5590,3,    187.5,2,    187.0,2,     9.29,2,    17.90,2,     0.99,2,   2346.2,2,   7.7510,2,    25.00
  35TH20100608, OVIDE,    29,  1,     21,2,20100617,0130, 45.0510, -18.5050, 4544,    699.2,  10.4460,  35.5280,2,  35.5280,2,    195.2,2,    195.5,2,     7.76,2,    16.60,2,     0.93,2,   2340.3,2,   7.7640,2,    25.00
  35TH20100608, OVIDE,    29,  1,     22,2,20100617,0130, 45.0510, -18.5050, 4544,    599.6,  10.7670,  35.5160,2,  35.5150,2,    208.0,2,    209.1,2,     6.54,2,    15.02,2,     0.84,2,   2338.1,2,   7.7810,2,    25.00
  35TH20100608, OVIDE,    29,  1,     23,2,20100617,0130, 45.0510, -18.5050, 4544,    499.4,  11.2180,  35.5610,2,  35.5580,2,    231.5,2,    223.2,2,     5.13,2,    12.95,2,     0.72,2,   2339.0,2,   7.8060,2,    25.00
  35TH20100608, OVIDE,    29,  1,     24,2,20100617,0130, 45.0510, -18.5050, 4544,    399.5,  11.4880,  35.5910,2,  35.5910,2,    234.5,2,    228.3,2,     4.52,2,    11.92,2,     0.65,2,   2339.8,2,   7.8190,2,    25.00
  35TH20100608, OVIDE,    29,  1,     25,2,20100617,0130, 45.0510, -18.5050, 4544,    298.0,  11.7910,  35.6340,2,  35.6330,2,    245.8,2,    235.8,3,     3.91,2,    10.60,2,     0.60,2,   2340.6,2,   7.8350,2,    25.00
  35TH20100608, OVIDE,    29,  1,     26,2,20100617,0130, 45.0510, -18.5050, 4544,    199.4,  11.9810,  35.6580,2,  35.6610,2,    244.8,2,    243.9,2,     3.61,2,     9.59,2,     0.54,2,   2343.0,2,   7.8560,2,    25.00
  35TH20100608, OVIDE,    29,  1,     27,2,20100617,0130, 45.0510, -18.5050, 4544,    149.8,  12.1600,  35.6800,2,  35.6830,2,    253.4,2,    251.6,2,     3.18,2,     8.79,2,     0.50,2,   -999.0,9,   7.8660,2,    25.00
  35TH20100608, OVIDE,    29,  1,     28,2,20100617,0130, 45.0510, -18.5050, 4544,     99.8,  12.8990,  35.7430,2,  35.7370,3,    253.2,2,    251.0,2,     2.02,2,     6.44,2,     0.40,2,   2348.4,2,   7.8880,2,    25.00
  35TH20100608, OVIDE,    29,  1,     29,2,20100617,0130, 45.0510, -18.5050, 4544,     47.8,  14.9520,  35.7690,2,  35.7740,3,    269.1,2,    267.8,2,     0.74,2,     0.90,2,     0.12,2,   -999.0,9,   7.9590,2,    25.00
  35TH20100608, OVIDE,    29,  1,     30,2,20100617,0130, 45.0510, -18.5050, 4544,      6.4,  17.0120,  35.7810,2,  35.7830,2,    255.2,2,    251.2,2,     0.57,2,     0.03,2,     0.04,2,   2356.5,2,   7.9790,2,    25.00