BOTTLE,20140929PRINUNIVRMK
EXPOCODE,SECT_ID,STNNBR,CASTNO,BTLNBR,BTLNBR_FLAG_W,DATE,TIME,LATITUDE,LONGITUDE,DEPTH,CTDPRS,CTDTMP,CTDSAL,CTDSAL_FLAG_W,SALNTY,SALNTY_FLAG_W,CTDOXY,CTDOXY_FLAG_W,OXYGEN,OXYGEN_FLAG_W,SILCAT,SILCAT_FLAG_W,NITRAT,NITRAT_FLAG_W,PHSPHT,PHSPHT_FLAG_W,ALKALI,ALKALI_FLAG_W,PH_SWS,PH_SWS_FLAG_W,PH_TMP
,,,,,,,,,,METERS,DBAR,ITS-90,PSS-78,,PSS-78,,UMOL/KG,,UMOL/KG,,UMOL/KG,,UMOL/KG,,UMOL/KG,,UMOL/KG,,,,DEG C
  35TH20100608, OVIDE,    42,  1,      3,2,20100620,0539, 49.9050, -22.3130, 3988,   4058.9,   2.5660,  34.9140,2,  34.9130,2,    242.9,2,    242.5,2,    43.90,2,    22.21,2,     1.23,2,   -999.0,9,   7.7280,2,    25.00
  35TH20100608, OVIDE,    42,  1,      4,2,20100620,0539, 49.9050, -22.3130, 3988,   3998.4,   2.5590,  34.9140,2,  34.9130,2,    243.5,2,    242.3,2,    43.88,2,    22.52,2,     1.22,2,   -999.0,9,-999.0000,9,    25.00
  35TH20100608, OVIDE,    42,  1,      5,2,20100620,0539, 49.9050, -22.3130, 3988,   3998.9,   2.5640,  34.9140,2,  34.9130,2,    243.5,2,    243.9,2,    43.81,2,    23.32,2,     1.36,2,   -999.0,9,   7.7290,2,    25.00
  35TH20100608, OVIDE,    42,  1,      6,2,20100620,0539, 49.9050, -22.3130, 3988,   3499.8,   2.6670,  34.9280,2,  34.9270,2,    251.0,2,    253.3,2,    37.02,2,    21.84,2,     1.26,2,   -999.0,9,   7.7270,2,    25.00
  35TH20100608, OVIDE,    42,  1,      7,2,20100620,0539, 49.9050, -22.3130, 3988,   3247.8,   2.8080,  34.9430,2,  34.9410,2,    260.6,2,    260.7,2,    28.50,2,    19.15,2,     1.06,2,   -999.0,9,   7.7250,2,    25.00
  35TH20100608, OVIDE,    42,  1,      8,2,20100620,0539, 49.9050, -22.3130, 3988,   2997.6,   2.8970,  34.9450,2,  34.9430,2,    267.3,2,    266.0,2,    24.19,2,    18.09,2,     0.96,2,   -999.0,9,   7.7260,2,    25.00
  35TH20100608, OVIDE,    42,  1,      9,2,20100620,0539, 49.9050, -22.3130, 3988,   2748.9,   3.0340,  34.9370,2,  34.9360,2,    273.4,2,    272.5,2,    16.42,2,    17.23,2,     0.91,2,   -999.0,9,   7.7240,2,    25.00
  35TH20100608, OVIDE,    42,  1,     10,2,20100620,0539, 49.9050, -22.3130, 3988,   2499.2,   3.1690,  34.9220,2,  34.9240,2,    278.1,2,    275.4,2,    12.95,2,    16.65,2,     0.83,3,   -999.0,9,   7.7250,2,    25.00
  35TH20100608, OVIDE,    42,  1,     11,2,20100620,0539, 49.9050, -22.3130, 3988,   2249.7,   3.2930,  34.9080,2,  34.9100,2,    279.9,2,    278.7,2,    12.68,2,    18.17,2,     1.00,2,   -999.0,9,   7.7240,2,    25.00
  35TH20100608, OVIDE,    42,  1,     12,2,20100620,0539, 49.9050, -22.3130, 3988,   1997.6,   3.4570,  34.9070,2,  34.9080,2,    278.2,2,    276.4,2,    12.03,2,    18.35,2,     1.04,2,   -999.0,9,   7.7180,2,    25.00
  35TH20100608, OVIDE,    42,  1,     13,2,20100620,0539, 49.9050, -22.3130, 3988,   1798.9,   3.6180,  34.9100,2,  34.9100,2,    276.5,2,    277.1,2,    11.46,2,    18.40,2,     1.03,2,   -999.0,9,   7.7180,2,    25.00
  35TH20100608, OVIDE,    42,  1,     14,2,20100620,0539, 49.9050, -22.3130, 3988,   1600.2,   3.7790,  34.9100,2,  34.9090,2,    276.3,2,    276.6,2,    10.81,2,    17.23,2,     0.88,2,   -999.0,9,   7.7120,2,    25.00
  35TH20100608, OVIDE,    42,  1,     15,2,20100620,0539, 49.9050, -22.3130, 3988,   1400.1,   3.9740,  34.9170,2,  34.9160,2,    274.3,2,    276.0,2,    10.47,2,    17.19,2,     0.89,2,   -999.0,9,   7.7100,2,    25.00
  35TH20100608, OVIDE,    42,  1,     16,2,20100620,0539, 49.9050, -22.3130, 3988,   1199.7,   4.2610,  34.9260,2,  34.9260,2,    269.5,2,    270.0,2,    10.27,2,    18.18,2,     0.98,2,   -999.0,9,   7.7060,2,    25.00
  35TH20100608, OVIDE,    42,  1,     17,2,20100620,0539, 49.9050, -22.3130, 3988,   1001.3,   5.9260,  35.1530,2,  35.1540,2,    231.8,2,    234.1,2,    11.09,2,    19.29,2,     1.05,2,   -999.0,9,   7.7120,2,    25.00
  35TH20100608, OVIDE,    42,  1,     18,2,20100620,0539, 49.9050, -22.3130, 3988,    901.2,   5.9240,  35.0790,2,  35.0810,2,    230.2,2,    234.0,2,    10.88,2,    19.58,2,     1.07,2,   -999.0,9,   7.7060,2,    25.00
  35TH20100608, OVIDE,    42,  1,     19,2,20100620,0539, 49.9050, -22.3130, 3988,    799.6,   6.9780,  35.1770,2,  35.1800,2,    217.5,2,    219.6,2,    10.90,2,    19.90,2,     1.08,2,   -999.0,9,   7.7110,2,    25.00
  35TH20100608, OVIDE,    42,  1,     20,2,20100620,0539, 49.9050, -22.3130, 3988,    700.2,   7.5390,  35.1710,2,  35.1740,2,    204.4,2,    209.3,2,    10.81,2,    20.09,2,     1.07,2,   -999.0,9,   7.7110,2,    25.00
  35TH20100608, OVIDE,    42,  1,     21,2,20100620,0539, 49.9050, -22.3130, 3988,    600.4,   8.8630,  35.2440,2,  35.2320,3,    196.5,2,    200.6,2,     9.86,2,    19.49,2,     1.04,2,   -999.0,9,   7.7280,2,    25.00
  35TH20100608, OVIDE,    42,  1,     22,2,20100620,0539, 49.9050, -22.3130, 3988,    499.4,  10.1430,  35.3620,2,  35.3610,2,    215.7,2,    227.4,3,     6.67,2,    15.04,2,     0.78,2,   -999.0,9,   7.7850,2,    25.00
  35TH20100608, OVIDE,    42,  1,     23,2,20100620,0539, 49.9050, -22.3130, 3988,    401.3,  10.7700,  35.4420,2,  35.4420,2,    255.0,2,    258.2,2,     4.63,2,    11.71,2,     0.62,2,   -999.0,9,   7.8300,2,    25.00
  35TH20100608, OVIDE,    42,  1,     24,2,20100620,0539, 49.9050, -22.3130, 3988,    299.7,  10.9690,  35.4800,2,  35.4790,2,    257.8,2,    258.9,2,     4.28,2,    11.20,2,     0.56,2,   -999.0,9,   7.8400,2,    25.00
  35TH20100608, OVIDE,    42,  1,     25,2,20100620,0539, 49.9050, -22.3130, 3988,    202.5,  10.9820,  35.4700,2,  35.4680,2,    257.8,2,    256.4,2,     4.40,2,    11.41,2,     0.57,2,   -999.0,9,   7.8340,2,    25.00
  35TH20100608, OVIDE,    42,  1,     26,2,20100620,0539, 49.9050, -22.3130, 3988,    148.9,  11.0290,  35.4580,2,  35.4570,2,    258.8,2,    255.6,2,     4.44,2,    11.59,2,     0.58,2,   -999.0,9,   7.8340,2,    25.00
  35TH20100608, OVIDE,    42,  1,     27,2,20100620,0539, 49.9050, -22.3130, 3988,    100.1,  11.4760,  35.5230,2,  35.5190,2,    255.8,2,    255.1,2,     3.98,2,    11.06,2,     0.54,2,   -999.0,9,   7.8440,2,    25.00
  35TH20100608, OVIDE,    42,  1,     28,2,20100620,0539, 49.9050, -22.3130, 3988,     53.2,  12.1380,  35.5760,2,  35.5730,2,    259.5,2,    254.4,2,     3.27,2,     9.66,2,     0.49,2,   -999.0,9,   7.8630,2,    25.00
  35TH20100608, OVIDE,    42,  1,     29,2,20100620,0539, 49.9050, -22.3130, 3988,      2.8,  16.7280,  35.4770,2,  35.4830,3,    264.9,2,    259.0,2,     0.67,2,     0.14,2,     0.05,2,   -999.0,9,   7.9990,2,    25.00
  35TH20100608, OVIDE,    43,  1,      3,2,20100620,1135, 50.2780, -22.6050, 4117,   4191.6,   2.5680,  34.9120,2,  34.9110,2,    240.4,2,    241.5,2,    45.08,2,    22.43,2,     1.32,2,   2351.4,2,   7.7290,2,    25.00
  35TH20100608, OVIDE,    43,  1,      4,2,20100620,1135, 50.2780, -22.6050, 4117,   4000.6,   2.6160,  34.9190,2,  34.9180,2,    244.2,2,    245.4,2,    41.90,2,    21.77,2,     1.26,2,   2348.9,2,   7.7270,2,    25.00
  35TH20100608, OVIDE,    43,  1,      5,2,20100620,1135, 50.2780, -22.6050, 4117,   3748.1,   2.6940,  34.9280,2,  34.9280,2,    250.2,2,    250.5,2,    37.02,2,    20.62,2,     1.18,2,   2339.1,2,   7.7260,2,    25.00
  35TH20100608, OVIDE,    43,  1,      6,2,20100620,1135, 50.2780, -22.6050, 4117,   3747.1,   2.6940,  34.9280,2,  34.9200,3,    250.2,2,    250.3,2,    37.14,2,    20.70,2,     1.19,2,   -999.0,9,-999.0000,9,    25.00
  35TH20100608, OVIDE,    43,  1,      7,2,20100620,1135, 50.2780, -22.6050, 4117,   3501.3,   2.7910,  34.9390,2,  34.9380,2,    258.4,2,    258.6,2,    30.83,2,    19.45,2,     1.13,2,   2330.5,2,   7.7240,2,    25.00
  35TH20100608, OVIDE,    43,  1,      8,2,20100620,1135, 50.2780, -22.6050, 4117,   3249.9,   2.8820,  34.9440,2,  34.9440,2,    263.7,2,    262.7,2,    25.64,2,    18.45,2,     1.05,2,   2324.3,2,   7.7240,2,    25.00
  35TH20100608, OVIDE,    43,  1,      9,2,20100620,1135, 50.2780, -22.6050, 4117,   3000.8,   2.9790,  34.9410,2,  34.9410,2,    269.4,2,    268.1,2,    18.42,2,    17.46,2,     0.99,2,   2318.7,2,   7.7250,2,    25.00
  35TH20100608, OVIDE,    43,  1,     10,2,20100620,1135, 50.2780, -22.6050, 4117,   2750.8,   3.1020,  34.9310,2,  34.9310,2,    274.0,2,    270.8,2,    15.70,2,    17.42,2,     0.98,2,   2312.4,2,   7.7260,2,    25.00
  35TH20100608, OVIDE,    43,  1,     11,2,20100620,1135, 50.2780, -22.6050, 4117,   2501.7,   3.2030,  34.9180,2,  34.9170,2,    279.1,2,    276.6,2,    12.68,2,    17.20,2,     0.96,2,   2306.3,2,   7.7250,2,    25.00
  35TH20100608, OVIDE,    43,  1,     12,2,20100620,1135, 50.2780, -22.6050, 4117,   2249.4,   3.3400,  34.9100,2,  34.9100,2,    279.0,2,    278.7,2,    12.05,2,    16.85,2,     0.94,2,   2304.5,2,   7.7230,2,    25.00
  35TH20100608, OVIDE,    43,  1,     13,2,20100620,1135, 50.2780, -22.6050, 4117,   2001.3,   3.5100,  34.9090,2,  34.9090,2,    277.2,2,    274.4,2,    11.60,2,    17.46,2,     0.97,2,   2305.2,2,   7.7200,2,    25.00
  35TH20100608, OVIDE,    43,  1,     14,2,20100620,1135, 50.2780, -22.6050, 4117,   1800.1,   3.6420,  34.9080,2,  34.9090,2,    276.0,2,    274.9,2,    11.34,2,    17.64,2,     0.99,2,   -999.0,9,   7.7160,2,    25.00
  35TH20100608, OVIDE,    43,  1,     15,2,20100620,1135, 50.2780, -22.6050, 4117,   1600.0,   3.7480,  34.9060,2,  34.9070,2,    276.8,2,    274.4,2,    10.80,2,    17.27,2,     0.97,2,   2303.0,2,   7.7140,2,    25.00
  35TH20100608, OVIDE,    43,  1,     16,2,20100620,1135, 50.2780, -22.6050, 4117,   1401.2,   3.9400,  34.9110,2,  34.9130,2,    275.4,2,    274.1,2,    10.41,2,    17.49,2,     0.98,2,   2303.7,2,   7.7130,2,    25.00
  35TH20100608, OVIDE,    43,  1,     17,2,20100620,1135, 50.2780, -22.6050, 4117,   1201.3,   4.1740,  34.9230,2,  34.9230,2,    270.9,2,    270.2,2,    10.25,2,    17.51,2,     0.97,2,   2304.1,2,   7.7090,2,    25.00
  35TH20100608, OVIDE,    43,  1,     18,2,20100620,1135, 50.2780, -22.6050, 4117,   1001.0,   4.5290,  34.9410,2,  34.9420,2,    260.6,2,    263.2,2,    10.29,2,    17.84,2,     1.00,2,   2306.0,2,   7.7040,2,    25.00
  35TH20100608, OVIDE,    43,  1,     19,2,20100620,1135, 50.2780, -22.6050, 4117,    899.4,   4.9820,  34.9710,2,  34.9730,2,    249.8,2,    250.5,2,    10.56,2,    18.20,2,     1.01,2,   2308.6,2,   7.7020,2,    25.00
  35TH20100608, OVIDE,    43,  1,     20,2,20100620,1135, 50.2780, -22.6050, 4117,    799.5,   5.4500,  34.9810,2,  34.9820,2,    236.9,2,    240.8,2,    10.72,2,    18.58,2,     1.04,2,   2310.3,2,   7.7010,2,    25.00
  35TH20100608, OVIDE,    43,  1,     21,2,20100620,1135, 50.2780, -22.6050, 4117,    699.0,   6.6170,  35.0420,2,  35.0650,3,    213.2,2,    222.1,3,    10.82,2,    18.88,2,     1.05,2,   2316.1,2,   7.7060,2,    25.00
  35TH20100608, OVIDE,    43,  1,     22,2,20100620,1135, 50.2780, -22.6050, 4117,    600.1,   7.4590,  35.0970,2,  35.1030,3,    199.1,2,    203.3,2,    10.95,2,    19.40,2,     1.07,2,   2317.5,2,   7.7060,2,    25.00
  35TH20100608, OVIDE,    43,  1,     23,2,20100620,1135, 50.2780, -22.6050, 4117,    499.9,   7.8840,  35.0240,2,  35.0380,3,    194.5,2,    194.9,2,    10.71,2,    19.31,2,     1.07,2,   2314.9,2,   7.7050,2,    25.00
  35TH20100608, OVIDE,    43,  1,     24,2,20100620,1135, 50.2780, -22.6050, 4117,    399.4,   9.0330,  35.0840,2,  35.0830,2,    239.6,2,    223.4,3,     7.62,2,    15.34,2,     0.84,2,   2314.5,2,   7.7610,2,    25.00
  35TH20100608, OVIDE,    43,  1,     25,2,20100620,1135, 50.2780, -22.6050, 4117,    299.6,  10.0540,  35.2290,2,  35.2280,2,    251.0,2,    252.3,2,     5.46,2,    11.62,2,     0.63,2,   2322.8,2,   7.8150,2,    25.00
  35TH20100608, OVIDE,    43,  1,     26,2,20100620,1135, 50.2780, -22.6050, 4117,    199.5,  11.4400,  35.4950,2,  35.4900,3,    248.2,2,    248.0,2,     4.70,2,    10.36,2,     0.53,2,   2337.0,2,   7.8530,2,    25.00
  35TH20100608, OVIDE,    43,  1,     27,2,20100620,1135, 50.2780, -22.6050, 4117,     99.8,  11.8500,  35.5380,2,  35.5380,2,    253.0,2,    247.1,2,     4.05,2,     9.79,2,     0.51,2,   2337.7,2,   7.8600,2,    25.00
  35TH20100608, OVIDE,    43,  1,     28,2,20100620,1135, 50.2780, -22.6050, 4117,     47.4,  13.4400,  35.3840,2,  35.3980,3,    265.5,2,    267.0,2,     0.84,2,     3.21,2,     0.21,2,   -999.0,9,   7.9340,2,    25.00
  35TH20100608, OVIDE,    43,  1,     29,2,20100620,1135, 50.2780, -22.6050, 4117,      4.1,  16.4010,  35.3640,2,  35.3700,3,    264.5,2,    265.2,2,     0.77,2,     1.32,2,     0.11,2,   2332.3,2,   7.9720,2,    25.00
  35TH20100608, OVIDE,    44,  1,      3,2,20100620,1752, 50.6410, -22.9020, 3726,   3789.3,   2.6040,  34.9180,2,  34.9210,2,    245.0,2,    247.4,2,  -999.00,9,    21.47,2,     1.27,2,   -999.0,9,   7.7260,2,    25.00
  35TH20100608, OVIDE,    44,  1,      4,2,20100620,1752, 50.6410, -22.9020, 3726,   3789.0,   2.6040,  34.9190,2,  34.9180,2,    245.0,2,    245.6,2,    41.60,2,    21.43,2,     1.28,2,   -999.0,9,-999.0000,9,    25.00
  35TH20100608, OVIDE,    44,  1,      5,2,20100620,1752, 50.6410, -22.9020, 3726,   3499.1,   2.7430,  34.9350,2,  34.9330,2,    255.9,2,    257.1,2,    32.59,2,    19.65,2,     1.17,2,   -999.0,9,   7.7230,2,    25.00
  35TH20100608, OVIDE,    44,  1,      6,2,20100620,1752, 50.6410, -22.9020, 3726,   3248.2,   2.8690,  34.9420,2,  34.9420,2,    263.6,2,    263.7,2,    26.21,2,    18.58,2,     1.11,2,   -999.0,9,   7.7210,2,    25.00
  35TH20100608, OVIDE,    44,  1,      7,2,20100620,1752, 50.6410, -22.9020, 3726,   2999.8,   3.0230,  34.9400,2,  34.9400,2,    270.5,2,    270.5,2,    18.10,2,    17.80,2,     1.05,2,   -999.0,9,   7.7260,2,    25.00
  35TH20100608, OVIDE,    44,  1,      8,2,20100620,1752, 50.6410, -22.9020, 3726,   2749.7,   3.1200,  34.9280,2,  34.9280,2,    275.6,2,    275.7,2,    15.09,2,    17.38,2,     1.01,2,   -999.0,9,   7.7250,2,    25.00
  35TH20100608, OVIDE,    44,  1,      9,2,20100620,1752, 50.6410, -22.9020, 3726,   2500.6,   3.2450,  34.9150,2,  34.9150,2,    279.4,2,    280.5,2,    12.53,2,    17.15,2,     0.99,2,   -999.0,9,   7.7250,2,    25.00
  35TH20100608, OVIDE,    44,  1,     10,2,20100620,1752, 50.6410, -22.9020, 3726,   2250.2,   3.3930,  34.9100,2,  34.9100,2,    278.8,2,    278.4,2,    11.84,2,    17.08,2,     0.97,2,   -999.0,9,   7.7190,2,    25.00
  35TH20100608, OVIDE,    44,  1,     11,2,20100620,1752, 50.6410, -22.9020, 3726,   1998.3,   3.5540,  34.9100,2,  34.9110,2,    277.0,2,    277.3,2,    11.47,2,    17.36,2,     1.00,2,   -999.0,9,   7.7190,2,    25.00
  35TH20100608, OVIDE,    44,  1,     12,2,20100620,1752, 50.6410, -22.9020, 3726,   1798.7,   3.7150,  34.9110,2,  34.9110,2,    275.2,2,    277.1,2,    11.23,2,    17.44,2,     1.00,2,   -999.0,9,   7.7190,2,    25.00
  35TH20100608, OVIDE,    44,  1,     13,2,20100620,1752, 50.6410, -22.9020, 3726,   1600.3,   3.8550,  34.9140,2,  34.9150,2,    274.6,2,    275.3,2,    10.87,2,    17.45,2,     1.02,2,   -999.0,9,   7.7120,2,    25.00
  35TH20100608, OVIDE,    44,  1,     14,2,20100620,1752, 50.6410, -22.9020, 3726,   1399.7,   4.1040,  34.9290,2,  34.9300,2,    269.7,2,    272.4,2,    10.58,2,    17.56,2,     1.06,2,   -999.0,9,   7.7060,2,    25.00
  35TH20100608, OVIDE,    44,  1,     15,2,20100620,1752, 50.6410, -22.9020, 3726,   1269.4,   4.5830,  34.9850,2,  34.9850,2,    258.9,2,    259.7,2,    10.68,2,    17.82,2,     1.03,2,   -999.0,9,   7.7080,2,    25.00
  35TH20100608, OVIDE,    44,  1,     16,2,20100620,1752, 50.6410, -22.9020, 3726,   1099.9,   4.6430,  34.9420,2,  34.9410,2,    259.4,2,    260.7,2,    10.30,2,    17.81,2,     1.03,2,   -999.0,9,   7.7030,2,    25.00
  35TH20100608, OVIDE,    44,  1,     17,2,20100620,1752, 50.6410, -22.9020, 3726,    998.4,   5.0000,  34.9500,2,  34.9500,2,    252.4,2,    251.2,2,    10.50,2,    18.03,2,     1.05,2,   -999.0,9,   7.6970,2,    25.00
  35TH20100608, OVIDE,    44,  1,     18,2,20100620,1752, 50.6410, -22.9020, 3726,    899.4,   5.7940,  35.0040,2,  35.0020,2,    234.4,2,    233.8,2,    10.95,2,    18.52,2,     1.06,2,   -999.0,9,   7.6980,2,    25.00
  35TH20100608, OVIDE,    44,  1,     19,2,20100620,1752, 50.6410, -22.9020, 3726,    800.3,   7.3580,  35.1660,2,  35.1760,3,    207.4,2,    210.6,2,    10.92,2,    18.90,2,     1.08,2,   -999.0,9,   7.7110,2,    25.00
  35TH20100608, OVIDE,    44,  1,     20,2,20100620,1752, 50.6410, -22.9020, 3726,    700.4,   8.5130,  35.2300,2,  35.2270,2,    197.3,2,    201.2,2,    10.13,2,    18.56,2,     1.08,2,   -999.0,9,   7.7210,2,    25.00
  35TH20100608, OVIDE,    44,  1,     21,2,20100620,1752, 50.6410, -22.9020, 3726,    599.5,   9.5670,  35.2840,2,  35.2800,2,    216.7,2,    208.9,3,     8.29,2,    16.63,2,     0.94,2,   -999.0,9,   7.7450,2,    25.00
  35TH20100608, OVIDE,    44,  1,     22,2,20100620,1752, 50.6410, -22.9020, 3726,    498.8,  10.6290,  35.4350,2,  35.4370,2,    253.7,2,    245.1,3,     5.20,2,    12.01,2,     0.63,2,   -999.0,9,   7.8150,2,    25.00
  35TH20100608, OVIDE,    44,  1,     23,2,20100620,1752, 50.6410, -22.9020, 3726,    402.8,  10.8880,  35.4650,2,  35.4630,2,    258.2,2,    259.4,2,     4.41,2,    10.56,2,     0.58,2,   -999.0,9,   7.8340,2,    25.00
  35TH20100608, OVIDE,    44,  1,     24,2,20100620,1752, 50.6410, -22.9020, 3726,    300.1,  11.0020,  35.4880,2,  35.4860,2,    259.2,2,    260.6,2,     4.45,2,    10.30,2,     0.56,2,   -999.0,9,   7.8410,2,    25.00
  35TH20100608, OVIDE,    44,  1,     25,2,20100620,1752, 50.6410, -22.9020, 3726,    199.6,  10.9870,  35.4850,2,  35.4830,2,    258.6,2,    257.7,2,     4.26,2,    10.35,2,     0.56,2,   -999.0,9,   7.8380,2,    25.00
  35TH20100608, OVIDE,    44,  1,     26,2,20100620,1752, 50.6410, -22.9020, 3726,    150.5,  11.0070,  35.4830,2,  35.4810,2,    258.0,2,    259.4,2,     4.32,2,    10.54,2,     0.56,2,   -999.0,9,   7.8390,2,    25.00
  35TH20100608, OVIDE,    44,  1,     27,2,20100620,1752, 50.6410, -22.9020, 3726,     99.0,  11.0420,  35.4640,2,  35.4680,2,    257.2,2,    254.9,2,     4.38,2,    10.50,2,     0.57,2,   -999.0,9,   7.8390,2,    25.00
  35TH20100608, OVIDE,    44,  1,     28,2,20100620,1752, 50.6410, -22.9020, 3726,     54.3,  11.5980,  35.4820,2,  35.4800,2,    264.9,2,    258.7,2,     3.01,2,     9.19,2,     0.50,2,   -999.0,9,   7.8560,2,    25.00
  35TH20100608, OVIDE,    44,  1,     29,2,20100620,1752, 50.6410, -22.9020, 3726,      3.0,  16.5840,  35.4630,2,  35.4670,2,    268.0,2,    269.0,2,     0.59,2,     0.13,2,     0.08,2,   -999.0,9,   7.9980,2,    25.00