BOTTLE,20140929PRINUNIVRMK
EXPOCODE,SECT_ID,STNNBR,CASTNO,BTLNBR,BTLNBR_FLAG_W,DATE,TIME,LATITUDE,LONGITUDE,DEPTH,CTDPRS,CTDTMP,CTDSAL,CTDSAL_FLAG_W,SALNTY,SALNTY_FLAG_W,CTDOXY,CTDOXY_FLAG_W,OXYGEN,OXYGEN_FLAG_W,SILCAT,SILCAT_FLAG_W,NITRAT,NITRAT_FLAG_W,PHSPHT,PHSPHT_FLAG_W,ALKALI,ALKALI_FLAG_W,PH_SWS,PH_SWS_FLAG_W,PH_TMP
,,,,,,,,,,METERS,DBAR,ITS-90,PSS-78,,PSS-78,,UMOL/KG,,UMOL/KG,,UMOL/KG,,UMOL/KG,,UMOL/KG,,UMOL/KG,,,,DEG C
  35TH20100608, OVIDE,    51,  1,      3,2,20100622,1018, 53.2670, -24.9510, 3511,   3567.9,   2.7530,  34.9400,2,  34.9390,2,    258.3,2,    258.0,2,    30.53,2,    19.47,2,     1.06,2,   -999.0,9,-999.0000,9,    25.00
  35TH20100608, OVIDE,    51,  1,      4,2,20100622,1018, 53.2670, -24.9510, 3511,   3569.2,   2.7520,  34.9400,2,  34.9400,2,    258.4,2,    258.4,2,    30.62,2,    19.42,2,     1.02,2,   2327.5,2,   7.7230,2,    25.00
  35TH20100608, OVIDE,    51,  1,      5,2,20100622,1018, 53.2670, -24.9510, 3511,   3498.7,   2.7570,  34.9430,2,  34.9410,2,    260.0,2,    260.2,2,    29.61,2,    19.22,2,     0.99,2,   2327.9,2,   7.7220,2,    25.00
  35TH20100608, OVIDE,    51,  1,      6,2,20100622,1018, 53.2670, -24.9510, 3511,   3248.9,   2.8420,  34.9510,2,  34.9500,2,    266.8,2,    266.2,2,  -999.00,9,    18.11,2,     0.97,2,   2320.8,2,   7.7220,2,    25.00
  35TH20100608, OVIDE,    51,  1,      7,2,20100622,1018, 53.2670, -24.9510, 3511,   3001.7,   2.9570,  34.9520,2,  34.9520,2,    273.2,2,    272.6,2,    16.24,2,    17.40,2,     0.98,2,   2317.3,2,   7.7230,2,    25.00
  35TH20100608, OVIDE,    51,  1,      8,2,20100622,1018, 53.2670, -24.9510, 3511,   2749.4,   3.0660,  34.9380,2,  34.9390,2,    276.6,2,    274.6,2,    13.92,2,    17.10,2,  -999.00,9,   2310.9,2,   7.7240,2,    25.00
  35TH20100608, OVIDE,    51,  1,      9,2,20100622,1018, 53.2670, -24.9510, 3511,   2499.9,   3.1740,  34.9230,2,  34.9230,2,    278.8,2,    277.8,2,    12.72,2,    17.15,2,  -999.00,9,   2306.9,2,   7.7240,2,    25.00
  35TH20100608, OVIDE,    51,  1,     10,2,20100622,1018, 53.2670, -24.9510, 3511,   2249.0,   3.2660,  34.9150,2,  34.9150,2,    279.3,2,    277.6,2,    12.20,2,    17.51,2,     0.85,2,   2303.8,2,   7.7230,2,    25.00
  35TH20100608, OVIDE,    51,  1,     11,2,20100622,1018, 53.2670, -24.9510, 3511,   2000.7,   3.4090,  34.9100,2,  34.9110,2,    278.5,2,    276.9,2,    11.56,2,    17.51,2,     0.96,2,   2303.9,2,   7.7220,2,    25.00
  35TH20100608, OVIDE,    51,  1,     12,2,20100622,1018, 53.2670, -24.9510, 3511,   1798.9,   3.5310,  34.9110,2,  34.9110,2,    277.0,2,    275.2,2,    11.32,2,    17.51,2,  -999.00,9,   2303.7,2,   7.7210,2,    25.00
  35TH20100608, OVIDE,    51,  1,     13,2,20100622,1018, 53.2670, -24.9510, 3511,   1600.0,   3.6580,  34.9100,2,  34.9110,2,    276.3,2,    276.0,2,    10.96,2,    17.71,2,     0.89,2,   2304.3,2,   7.7170,2,    25.00
  35TH20100608, OVIDE,    51,  1,     14,2,20100622,1018, 53.2670, -24.9510, 3511,   1396.8,   3.8020,  34.9070,2,  34.9000,3,    277.0,2,    278.2,2,    10.40,2,    17.51,2,     0.93,2,   2301.5,2,   7.7130,2,    25.00
  35TH20100608, OVIDE,    51,  1,     15,2,20100622,1018, 53.2670, -24.9510, 3511,   1197.8,   4.0560,  34.9170,2,  34.9170,2,    274.9,2,    273.6,2,    10.08,2,    17.56,2,     0.86,2,   2303.1,2,   7.7110,2,    25.00
  35TH20100608, OVIDE,    51,  1,     16,2,20100622,1018, 53.2670, -24.9510, 3511,    999.4,   4.3310,  34.9260,2,  34.9270,2,    270.1,2,    268.1,2,     9.96,2,    17.61,2,     0.98,2,   2305.2,2,   7.7080,2,    25.00
  35TH20100608, OVIDE,    51,  1,     17,2,20100622,1018, 53.2670, -24.9510, 3511,    898.8,   4.5010,  34.9310,2,  34.9320,2,    265.8,2,    264.4,2,    10.00,2,    17.81,2,  -999.00,9,   2306.4,2,   7.7050,2,    25.00
  35TH20100608, OVIDE,    51,  1,     18,2,20100622,1018, 53.2670, -24.9510, 3511,    800.1,   4.7910,  34.9460,2,  34.9460,2,    257.5,2,    256.5,2,    10.24,2,    18.16,2,     0.97,2,   2306.8,2,   7.7030,2,    25.00
  35TH20100608, OVIDE,    51,  1,     19,2,20100622,1018, 53.2670, -24.9510, 3511,    700.2,   5.2520,  34.9670,2,  34.9650,2,    244.0,2,    244.7,2,    10.32,2,    18.36,2,  -999.00,9,   2308.1,2,   7.7020,2,    25.00
  35TH20100608, OVIDE,    51,  1,     20,2,20100622,1018, 53.2670, -24.9510, 3511,    598.3,   6.0360,  34.9950,2,  34.9950,2,    223.6,2,    227.8,2,    10.60,2,    18.96,2,     1.07,2,   2309.4,2,   7.6990,2,    25.00
  35TH20100608, OVIDE,    51,  1,     21,2,20100622,1018, 53.2670, -24.9510, 3511,    474.8,   8.0130,  35.0810,2,  35.0790,2,    206.1,2,    208.5,2,     9.60,2,    18.71,2,     0.90,2,   2313.4,2,   7.7170,2,    25.00
  35TH20100608, OVIDE,    51,  1,     22,2,20100622,1018, 53.2670, -24.9510, 3511,    474.0,   8.0380,  35.0780,2,  35.0790,2,    206.1,2,    209.4,2,     9.60,2,    18.81,2,     0.88,2,   -999.0,9,-999.0000,9,    25.00
  35TH20100608, OVIDE,    51,  1,     23,2,20100622,1018, 53.2670, -24.9510, 3511,    400.1,   9.1840,  35.1610,2,  35.1550,3,    239.7,2,    249.1,3,     6.12,2,    13.23,2,     0.57,2,   2315.8,2,   7.7880,2,    25.00
  35TH20100608, OVIDE,    51,  1,     24,2,20100622,1018, 53.2670, -24.9510, 3511,    350.4,   9.5430,  35.2120,2,  35.2120,2,    264.0,2,    262.4,2,     5.16,2,    11.87,2,     0.52,2,   2319.2,2,   7.8100,2,    25.00
  35TH20100608, OVIDE,    51,  1,     25,2,20100622,1018, 53.2670, -24.9510, 3511,    248.6,   9.5310,  35.2080,2,  35.2080,2,    265.9,2,    265.3,2,     5.04,2,    11.62,2,     0.54,2,   2319.7,2,   7.8110,2,    25.00
  35TH20100608, OVIDE,    51,  1,     26,2,20100622,1018, 53.2670, -24.9510, 3511,    125.2,   9.3690,  35.1600,2,  35.1590,2,    268.0,2,    266.3,2,     5.28,2,    12.52,2,     0.50,2,   2315.6,2,   7.8110,2,    25.00
  35TH20100608, OVIDE,    51,  1,     27,2,20100622,1018, 53.2670, -24.9510, 3511,     76.7,   9.6990,  35.1690,2,  35.1710,2,    267.9,2,    265.4,2,     4.92,2,    11.42,2,     0.63,2,   2316.2,2,   7.8170,2,    25.00
  35TH20100608, OVIDE,    51,  1,     28,2,20100622,1018, 53.2670, -24.9510, 3511,     52.5,  10.6820,  35.1660,2,  35.1680,2,    273.2,2,    270.0,2,     3.24,2,     8.65,2,     0.35,2,   -999.0,9,   7.8490,2,    25.00
  35TH20100608, OVIDE,    51,  1,     29,2,20100622,1018, 53.2670, -24.9510, 3511,      8.6,  13.5000,  35.1390,2,  35.1390,2,    279.5,2,    276.4,2,     0.72,2,     2.31,2,     0.04,2,   2322.1,2,   7.9480,2,    25.00
  35TH20100608, OVIDE,    52,  1,      3,2,20100622,1600, 53.6400, -25.2370, 3578,   3639.0,   2.7580,  34.9390,2,  34.9410,2,    259.7,2,    258.1,2,    26.47,2,    18.91,2,     1.10,2,   -999.0,9,   7.7180,2,    25.00
  35TH20100608, OVIDE,    52,  1,      4,2,20100622,1600, 53.6400, -25.2370, 3578,   3499.7,   2.8940,  34.9500,2,  34.9490,2,    267.3,2,    266.4,2,    20.65,2,    18.16,2,     1.04,2,   -999.0,9,   7.7170,2,    25.00
  35TH20100608, OVIDE,    52,  1,      5,2,20100622,1600, 53.6400, -25.2370, 3578,   3248.7,   2.8920,  34.9520,2,  34.9520,2,    267.5,2,    270.4,2,    18.87,2,    17.50,2,     1.02,2,   -999.0,9,   7.7190,2,    25.00
  35TH20100608, OVIDE,    52,  1,      6,2,20100622,1600, 53.6400, -25.2370, 3578,   3248.7,   2.8900,  34.9530,2,  34.9520,2,    267.5,2,    269.9,2,    18.87,2,    17.66,2,     1.04,2,   -999.0,9,-999.0000,9,    25.00
  35TH20100608, OVIDE,    52,  1,      7,2,20100622,1600, 53.6400, -25.2370, 3578,   2999.8,   3.0200,  34.9490,2,  34.9470,2,    275.8,2,    276.2,2,    14.56,2,    16.55,2,     0.96,2,   -999.0,9,   7.7200,2,    25.00
  35TH20100608, OVIDE,    52,  1,      8,2,20100622,1600, 53.6400, -25.2370, 3578,   2748.1,   3.0920,  34.9310,2,  34.9420,3,    277.7,2,    277.7,2,    13.42,2,    16.60,2,     0.94,2,   -999.0,9,   7.7220,2,    25.00
  35TH20100608, OVIDE,    52,  1,      9,2,20100622,1600, 53.6400, -25.2370, 3578,   2498.7,   3.1550,  34.9220,2,  34.9220,2,    278.8,2,    279.2,2,    12.89,2,    17.10,2,     0.98,2,   -999.0,9,   7.7220,2,    25.00
  35TH20100608, OVIDE,    52,  1,     10,2,20100622,1600, 53.6400, -25.2370, 3578,   2244.8,   3.2650,  34.9130,2,  34.9130,2,    279.1,2,    278.0,2,    12.20,2,    17.10,2,     0.98,2,   -999.0,9,   7.7220,2,    25.00
  35TH20100608, OVIDE,    52,  1,     11,2,20100622,1600, 53.6400, -25.2370, 3578,   1997.4,   3.4050,  34.9100,2,  34.9100,2,    278.2,2,    277.6,2,    11.75,2,    17.56,2,     0.99,2,   -999.0,9,   7.7240,2,    25.00
  35TH20100608, OVIDE,    52,  1,     12,2,20100622,1600, 53.6400, -25.2370, 3578,   1797.7,   3.5340,  34.9100,2,  34.9110,2,    276.9,2,    276.1,2,    11.34,2,    17.40,2,     1.02,2,   -999.0,9,   7.7160,2,    25.00
  35TH20100608, OVIDE,    52,  1,     13,2,20100622,1600, 53.6400, -25.2370, 3578,   1599.1,   3.6690,  34.9100,2,  34.9090,2,    276.2,2,    276.6,2,    10.94,2,    17.76,2,     1.00,2,   -999.0,9,   7.7140,2,    25.00
  35TH20100608, OVIDE,    52,  1,     14,2,20100622,1600, 53.6400, -25.2370, 3578,   1401.3,   3.7670,  34.9070,2,  34.9050,2,    278.2,2,    275.9,2,    10.45,2,    17.20,2,     0.96,2,   -999.0,9,   7.7150,2,    25.00
  35TH20100608, OVIDE,    52,  1,     15,2,20100622,1600, 53.6400, -25.2370, 3578,   1198.8,   3.9700,  34.9160,2,  34.9150,2,    274.1,2,    274.0,2,    10.25,2,    17.30,2,     0.98,2,   -999.0,9,   7.7110,2,    25.00
  35TH20100608, OVIDE,    52,  1,     16,2,20100622,1600, 53.6400, -25.2370, 3578,    997.9,   4.2820,  34.9370,2,  34.9360,2,    264.1,2,    270.1,3,    10.16,2,    17.40,2,     1.01,2,   -999.0,9,   7.7100,2,    25.00
  35TH20100608, OVIDE,    52,  1,     17,2,20100622,1600, 53.6400, -25.2370, 3578,    898.9,   4.4270,  34.9380,2,  34.9390,2,    259.7,2,    266.5,3,    10.16,2,    17.71,2,     1.01,2,   -999.0,9,   7.7070,2,    25.00
  35TH20100608, OVIDE,    52,  1,     18,2,20100622,1600, 53.6400, -25.2370, 3578,    799.6,   4.6990,  34.9530,2,  34.9550,2,    255.2,2,    259.2,2,    10.41,2,    18.16,2,     1.03,2,   -999.0,9,   7.7060,2,    25.00
  35TH20100608, OVIDE,    52,  1,     19,2,20100622,1600, 53.6400, -25.2370, 3578,    699.2,   5.1730,  34.9790,2,  34.9790,2,    246.1,2,    246.5,2,    10.45,2,    18.51,2,     1.06,2,   -999.0,9,   7.7020,2,    25.00
  35TH20100608, OVIDE,    52,  1,     20,2,20100622,1600, 53.6400, -25.2370, 3578,    601.5,   5.4160,  34.9210,2,  34.9180,2,    235.0,2,    239.1,2,    10.78,2,    19.11,2,     1.11,2,   -999.0,9,   7.6940,2,    25.00
  35TH20100608, OVIDE,    52,  1,     21,2,20100622,1600, 53.6400, -25.2370, 3578,    502.4,   6.1680,  34.9300,2,  34.9300,2,    218.8,2,    224.4,3,    10.74,2,    19.22,2,     1.12,2,   -999.0,9,   7.6930,2,    25.00
  35TH20100608, OVIDE,    52,  1,     22,2,20100622,1600, 53.6400, -25.2370, 3578,    400.3,   7.4350,  34.9910,2,  34.9930,2,    205.9,2,    208.9,2,    10.16,2,    19.11,2,     1.08,2,   -999.0,9,   7.7040,2,    25.00
  35TH20100608, OVIDE,    52,  1,     23,2,20100622,1600, 53.6400, -25.2370, 3578,    300.2,   8.9410,  35.1120,2,  35.1050,3,    244.9,2,    246.0,2,     6.50,2,    13.98,2,     0.77,2,   -999.0,9,   7.7770,2,    25.00
  35TH20100608, OVIDE,    52,  1,     24,2,20100622,1600, 53.6400, -25.2370, 3578,    201.9,   9.3160,  35.1430,2,  35.1410,2,    265.9,2,    271.2,3,     5.24,2,    11.62,2,     0.64,2,   -999.0,9,   7.8060,2,    25.00
  35TH20100608, OVIDE,    52,  1,     25,2,20100622,1600, 53.6400, -25.2370, 3578,    151.0,   9.3250,  35.1260,2,  35.1240,2,    264.0,2,    264.8,2,     5.37,2,    11.97,2,     0.67,2,   -999.0,9,   7.8100,2,    25.00
  35TH20100608, OVIDE,    52,  1,     26,2,20100622,1600, 53.6400, -25.2370, 3578,    100.3,   9.8080,  35.1970,2,  35.1900,3,    261.6,2,    262.2,2,     5.12,2,    11.67,2,     0.66,2,   -999.0,9,   7.8170,2,    25.00
  35TH20100608, OVIDE,    52,  1,     27,2,20100622,1600, 53.6400, -25.2370, 3578,     55.0,  10.5540,  35.2050,2,  35.2030,2,    270.5,2,    269.3,2,     2.85,2,     8.45,2,     0.51,2,   -999.0,9,   7.8490,2,    25.00
  35TH20100608, OVIDE,    52,  1,     28,2,20100622,1600, 53.6400, -25.2370, 3578,      3.4,  13.5620,  35.1680,2,  35.1670,2,    274.2,2,    272.1,2,     1.50,2,     2.46,2,     0.16,2,   -999.0,9,   7.9390,2,    25.00
  35TH20100608, OVIDE,    53,  1,      3,2,20100622,2133, 54.0140, -25.5330, 3055,   3101.8,   2.6870,  34.9330,2,  34.9310,2,    257.4,2,    253.3,2,    35.19,3,    20.77,2,     1.06,2,   -999.0,9,-999.0000,9,    25.00
  35TH20100608, OVIDE,    53,  1,      4,2,20100622,2133, 54.0140, -25.5330, 3055,   3102.2,   2.6870,  34.9330,2,  34.9300,2,    257.3,2,    254.5,2,    34.13,3,    20.63,2,     1.17,2,   2335.0,2,   7.7230,2,    25.00
  35TH20100608, OVIDE,    53,  1,      5,2,20100622,2133, 54.0140, -25.5330, 3055,   2752.1,   2.9820,  34.9380,2,  34.9380,2,    269.3,2,    272.0,2,    18.64,2,    18.62,2,     0.97,2,   2315.1,2,   7.7230,2,    25.00
  35TH20100608, OVIDE,    53,  1,      6,2,20100622,2133, 54.0140, -25.5330, 3055,   2499.1,   3.1210,  34.9270,2,  34.9290,2,    276.4,2,    274.3,2,    14.22,2,    17.51,2,     0.99,2,   2308.3,2,   7.7250,2,    25.00
  35TH20100608, OVIDE,    53,  1,      7,2,20100622,2133, 54.0140, -25.5330, 3055,   2249.5,   3.2380,  34.9160,2,  34.9170,2,    279.1,2,    280.2,2,    12.32,2,    16.80,2,     0.90,2,   -999.0,9,-999.0000,9,    25.00
  35TH20100608, OVIDE,    53,  1,      8,2,20100622,2133, 54.0140, -25.5330, 3055,   2248.0,   3.2380,  34.9170,2,  34.9180,2,    279.1,2,    279.1,2,    12.32,2,    17.16,2,     0.90,2,   2306.2,2,   7.7230,2,    25.00
  35TH20100608, OVIDE,    53,  1,      9,2,20100622,2133, 54.0140, -25.5330, 3055,   2000.3,   3.3830,  34.9150,2,  34.9150,2,    278.7,2,    277.8,2,    11.65,2,    17.41,2,     0.93,2,   2303.7,2,   7.7220,2,    25.00
  35TH20100608, OVIDE,    53,  1,     10,2,20100622,2133, 54.0140, -25.5330, 3055,   1800.0,   3.4920,  34.9110,2,  34.9130,2,    277.5,2,    276.6,2,    11.41,2,    17.32,2,     0.91,2,   2303.9,2,   7.7190,2,    25.00
  35TH20100608, OVIDE,    53,  1,     11,2,20100622,2133, 54.0140, -25.5330, 3055,   1601.4,   3.6380,  34.9100,2,  34.9110,2,    276.3,2,    275.8,2,    11.18,2,    18.21,2,     0.94,2,   2303.1,2,   7.7160,2,    25.00
  35TH20100608, OVIDE,    53,  1,     12,2,20100622,2133, 54.0140, -25.5330, 3055,   1400.0,   3.7470,  34.9060,2,  34.9070,2,    277.9,2,    276.1,2,    10.60,2,    17.87,2,     1.01,2,   2304.2,2,   7.7140,2,    25.00
  35TH20100608, OVIDE,    53,  1,     13,2,20100622,2133, 54.0140, -25.5330, 3055,   1198.8,   3.8450,  34.9020,2,  34.9030,2,    279.1,2,    279.8,2,     9.96,2,    17.59,2,     0.84,2,   2302.7,2,   7.7120,2,    25.00
  35TH20100608, OVIDE,    53,  1,     14,2,20100622,2133, 54.0140, -25.5330, 3055,   1000.4,   4.0100,  34.9080,2,  34.9090,2,    276.6,2,    275.4,2,     9.84,2,    17.27,2,     0.89,2,   2303.9,2,   7.7090,2,    25.00
  35TH20100608, OVIDE,    53,  1,     15,2,20100622,2133, 54.0140, -25.5330, 3055,    900.0,   4.1300,  34.9140,2,  34.9120,2,    273.2,2,    273.9,2,     9.87,2,    17.21,2,     0.93,2,   2303.1,2,   7.7080,2,    25.00
  35TH20100608, OVIDE,    53,  1,     16,2,20100622,2133, 54.0140, -25.5330, 3055,    800.2,   4.2670,  34.9160,2,  34.9180,2,    271.2,2,    269.8,2,     9.90,2,    17.73,2,     0.99,2,   2304.2,2,   7.7050,2,    25.00
  35TH20100608, OVIDE,    53,  1,     17,2,20100622,2133, 54.0140, -25.5330, 3055,    701.5,   4.4620,  34.9220,2,  34.9210,2,    265.4,2,    266.9,2,     9.90,2,    18.03,2,     1.01,2,   2304.9,2,   7.7030,2,    25.00
  35TH20100608, OVIDE,    53,  1,     18,2,20100622,2133, 54.0140, -25.5330, 3055,    599.3,   4.7950,  34.9340,2,  34.9310,2,    254.6,2,    257.2,2,    10.17,2,    18.35,2,     1.04,2,   2305.6,2,   7.7010,2,    25.00
  35TH20100608, OVIDE,    53,  1,     19,2,20100622,2133, 54.0140, -25.5330, 3055,    500.8,   5.2830,  34.9340,2,  34.9340,2,    237.3,2,    240.5,2,    10.60,2,    18.95,2,     1.09,2,   2306.7,2,   7.6960,2,    25.00
  35TH20100608, OVIDE,    53,  1,     20,2,20100622,2133, 54.0140, -25.5330, 3055,    350.7,   6.3740,  34.8970,2,  34.8950,2,    214.1,2,    212.6,2,    11.06,2,    20.05,2,     1.14,2,   2305.8,2,   7.6850,2,    25.00
  35TH20100608, OVIDE,    53,  1,     21,2,20100622,2133, 54.0140, -25.5330, 3055,    300.4,   6.7360,  34.8420,2,  34.8400,2,    232.2,2,    227.8,2,     8.85,2,    17.63,2,     0.99,2,   2302.1,2,   7.7140,2,    25.00
  35TH20100608, OVIDE,    53,  1,     22,2,20100622,2133, 54.0140, -25.5330, 3055,    259.7,   7.5870,  34.9540,2,  34.9530,2,    204.9,2,    209.1,2,     9.80,2,    18.87,2,     1.07,2,   2308.6,2,   7.7070,2,    25.00
  35TH20100608, OVIDE,    53,  1,     23,2,20100622,2133, 54.0140, -25.5330, 3055,    234.9,   8.5450,  35.0340,2,  35.0370,2,    243.6,2,    214.6,3,     8.58,2,    17.50,2,     0.99,2,   2313.0,2,   7.7320,2,    25.00
  35TH20100608, OVIDE,    53,  1,     24,2,20100622,2133, 54.0140, -25.5330, 3055,    200.4,   8.8540,  35.0850,2,  35.0850,2,    237.9,2,    231.1,3,     7.20,2,    15.36,2,     0.83,2,   2314.2,2,   7.7660,2,    25.00
  35TH20100608, OVIDE,    53,  1,     25,2,20100622,2133, 54.0140, -25.5330, 3055,    124.3,   9.0080,  35.0450,2,  35.0390,3,    251.0,2,    249.4,2,     6.20,2,    12.94,2,     0.72,2,   2312.0,2,   7.7900,2,    25.00
  35TH20100608, OVIDE,    53,  1,     26,2,20100622,2133, 54.0140, -25.5330, 3055,    100.0,   9.3590,  35.0990,2,  35.0960,2,    247.5,2,    251.3,2,     5.83,2,    12.37,2,     0.68,2,   2316.7,2,   7.7990,2,    25.00
  35TH20100608, OVIDE,    53,  1,     27,2,20100622,2133, 54.0140, -25.5330, 3055,     79.6,   9.7760,  35.1630,2,  35.1620,2,    248.0,2,    246.0,2,     5.78,2,    12.56,2,     0.68,2,   2317.9,2,   7.8020,2,    25.00
  35TH20100608, OVIDE,    53,  1,     28,2,20100622,2133, 54.0140, -25.5330, 3055,     54.5,  10.9750,  35.2400,2,  35.2390,2,    266.8,2,    250.1,3,     3.87,2,     9.52,2,     0.49,2,   -999.0,9,   7.8460,2,    25.00
  35TH20100608, OVIDE,    53,  1,     29,2,20100622,2133, 54.0140, -25.5330, 3055,      9.3,  12.3260,  34.9450,2,  34.9460,2,    280.5,2,    276.0,2,     0.66,2,     3.28,2,     0.21,2,   2310.9,2,   7.9130,2,    25.00