BOTTLE,20140929PRINUNIVRMK
EXPOCODE,SECT_ID,STNNBR,CASTNO,BTLNBR,BTLNBR_FLAG_W,DATE,TIME,LATITUDE,LONGITUDE,DEPTH,CTDPRS,CTDTMP,CTDSAL,CTDSAL_FLAG_W,SALNTY,SALNTY_FLAG_W,CTDOXY,CTDOXY_FLAG_W,OXYGEN,OXYGEN_FLAG_W,SILCAT,SILCAT_FLAG_W,NITRAT,NITRAT_FLAG_W,PHSPHT,PHSPHT_FLAG_W,ALKALI,ALKALI_FLAG_W,PH_SWS,PH_SWS_FLAG_W,PH_TMP
,,,,,,,,,,METERS,DBAR,ITS-90,PSS-78,,PSS-78,,UMOL/KG,,UMOL/KG,,UMOL/KG,,UMOL/KG,,UMOL/KG,,UMOL/KG,,,,DEG C
  35TH20100608, OVIDE,    21,  1,      3,2,20100615,0409, 42.5810, -15.4610, 4976,   5072.6,   2.5410,  34.8970,2,  34.8980,2,    243.0,2,    242.4,2,    46.44,2,    22.65,2,     1.39,2,   2354.3,2,   7.7320,2,    25.00
  35TH20100608, OVIDE,    21,  1,      4,2,20100615,0409, 42.5810, -15.4610, 4976,   4998.2,   2.5320,  34.8980,2,  34.8980,2,    242.9,2,    243.7,2,    46.53,2,    22.58,2,     1.37,2,   2354.3,2,   7.7320,2,    25.00
  35TH20100608, OVIDE,    21,  1,      5,2,20100615,0409, 42.5810, -15.4610, 4976,   4499.3,   2.4990,  34.9010,2,  34.9020,2,    243.3,2,   -999.0,9,    45.81,2,    22.45,2,     1.37,2,   2352.9,2,   7.7300,2,    25.00
  35TH20100608, OVIDE,    21,  1,      6,2,20100615,0409, 42.5810, -15.4610, 4976,   3998.1,   2.5470,  34.9120,2,  34.9010,3,    243.9,2,    243.4,2,    43.49,2,    22.12,2,     1.34,2,   2349.6,2,   7.7310,2,    25.00
  35TH20100608, OVIDE,    21,  1,      7,2,20100615,0409, 42.5810, -15.4610, 4976,   3501.7,   2.6710,  34.9280,2,  34.9280,2,    246.2,2,    245.4,2,    38.95,2,    21.44,2,     1.30,2,   2343.5,2,   7.7330,2,    25.00
  35TH20100608, OVIDE,    21,  1,      8,2,20100615,0409, 42.5810, -15.4610, 4976,   3249.9,   2.7610,  34.9380,2,  34.9370,2,    247.9,2,    246.9,2,    36.34,2,    21.02,2,     1.26,2,   -999.0,9,   7.7340,2,    25.00
  35TH20100608, OVIDE,    21,  1,      9,2,20100615,0409, 42.5810, -15.4610, 4976,   3002.5,   2.8270,  34.9450,2,  34.9470,2,    249.1,2,    248.9,2,    34.33,2,    20.70,2,     1.24,2,   2338.3,2,   7.7330,2,    25.00
  35TH20100608, OVIDE,    21,  1,     10,2,20100615,0409, 42.5810, -15.4610, 4976,   2749.9,   3.0290,  34.9610,2,  34.9640,2,    251.0,2,    248.8,2,    30.54,2,    20.22,2,     1.20,2,   2334.1,2,   7.7340,2,    25.00
  35TH20100608, OVIDE,    21,  1,     11,2,20100615,0409, 42.5810, -15.4610, 4976,   2500.5,   3.1770,  34.9610,2,  34.9630,2,    254.8,2,    255.3,2,    25.32,2,    19.40,2,     1.14,2,   2325.0,2,   7.7320,2,    25.00
  35TH20100608, OVIDE,    21,  1,     12,2,20100615,0409, 42.5810, -15.4610, 4976,   2250.6,   3.4460,  34.9690,2,  34.9700,2,    262.5,2,    259.8,2,    20.55,2,    18.69,2,     1.11,2,   -999.0,9,   7.7300,2,    25.00
  35TH20100608, OVIDE,    21,  1,     13,2,20100615,0409, 42.5810, -15.4610, 4976,   2000.7,   3.8150,  34.9860,2,  34.9880,2,    261.3,2,    261.9,2,    14.28,2,    18.28,2,     1.08,2,   2314.2,2,   7.7270,2,    25.00
  35TH20100608, OVIDE,    21,  1,     14,2,20100615,0409, 42.5810, -15.4610, 4976,   1798.8,   4.5650,  35.0910,2,  35.0950,2,    251.5,2,    252.0,2,    12.80,2,    18.15,2,     1.06,2,   2319.1,2,   7.7290,2,    25.00
  35TH20100608, OVIDE,    21,  1,     15,2,20100615,0409, 42.5810, -15.4610, 4976,   1600.2,   5.5880,  35.2430,2,  35.2420,2,    236.5,2,    239.8,2,    11.88,2,    18.18,2,     1.02,2,   2329.0,2,   7.7330,2,    25.00
  35TH20100608, OVIDE,    21,  1,     16,2,20100615,0409, 42.5810, -15.4610, 4976,   1399.3,   7.4390,  35.5380,2,  35.5360,2,    214.6,2,    215.7,2,    11.09,2,    17.71,2,     1.00,2,   2349.1,2,   7.7480,2,    25.00
  35TH20100608, OVIDE,    21,  1,     17,2,20100615,0409, 42.5810, -15.4610, 4976,   1199.0,   8.6810,  35.6820,2,  35.6830,2,    197.9,2,    198.9,2,    10.38,2,    17.45,2,     0.98,2,   2358.4,2,   7.7540,2,    25.00
  35TH20100608, OVIDE,    21,  1,     18,2,20100615,0409, 42.5810, -15.4610, 4976,   1000.5,   9.9870,  35.8100,2,  35.8080,2,    184.6,2,    186.3,2,     9.40,2,    17.01,2,     0.92,2,   2365.4,2,   7.7630,2,    25.00
  35TH20100608, OVIDE,    21,  1,     19,2,20100615,0409, 42.5810, -15.4610, 4976,    899.1,  10.5800,  35.8360,2,  35.8390,2,    180.4,2,    183.7,2,     8.66,2,    16.53,2,     0.88,2,   2363.1,2,   7.7720,2,    25.00
  35TH20100608, OVIDE,    21,  1,     20,2,20100615,0409, 42.5810, -15.4610, 4976,    800.3,  10.9470,  35.8250,2,  35.8250,2,    181.5,2,    183.0,2,     8.08,2,    16.30,2,     0.86,2,   2361.5,2,   7.7750,2,    25.00
  35TH20100608, OVIDE,    21,  1,     21,2,20100615,0409, 42.5810, -15.4610, 4976,    699.1,  10.5750,  35.5990,2,  35.6320,3,    186.3,2,    186.6,2,     7.93,2,    16.68,2,     0.92,2,   2345.6,2,   7.7640,2,    25.00
  35TH20100608, OVIDE,    21,  1,     22,2,20100615,0409, 42.5810, -15.4610, 4976,    600.2,  10.8220,  35.5230,2,  35.5260,2,    206.1,2,    206.6,2,     6.36,2,    14.77,2,     0.80,2,   2337.5,2,   7.7810,2,    25.00
  35TH20100608, OVIDE,    21,  1,     23,2,20100615,0409, 42.5810, -15.4610, 4976,    500.5,  11.4740,  35.6020,2,  35.5860,3,    239.4,2,    228.5,3,     4.48,2,    11.66,2,     0.62,2,   2338.1,2,   7.8150,2,    25.00
  35TH20100608, OVIDE,    21,  1,     24,2,20100615,0409, 42.5810, -15.4610, 4976,    400.5,  11.7580,  35.6420,2,  35.6430,2,    248.1,2,    250.5,2,     3.31,2,     9.19,2,     0.48,2,   2341.6,2,   7.8480,2,    25.00
  35TH20100608, OVIDE,    21,  1,     25,2,20100615,0409, 42.5810, -15.4610, 4976,    299.2,  12.0200,  35.6780,2,  35.6770,2,    252.5,2,    251.1,2,     3.14,2,     8.55,2,     0.44,2,   2344.3,2,   7.8590,2,    25.00
  35TH20100608, OVIDE,    21,  1,     26,2,20100615,0409, 42.5810, -15.4610, 4976,    201.1,  12.1320,  35.6780,2,  35.6780,2,    252.7,2,    251.0,2,     3.33,2,     8.67,2,     0.46,2,   2342.0,2,   7.8650,2,    25.00
  35TH20100608, OVIDE,    21,  1,     27,2,20100615,0409, 42.5810, -15.4610, 4976,    150.1,  12.3700,  35.7150,2,  35.7180,2,    247.7,2,    246.0,2,     3.19,2,     8.46,2,     0.44,2,   -999.0,9,   7.8640,2,    25.00
  35TH20100608, OVIDE,    21,  1,     28,2,20100615,0409, 42.5810, -15.4610, 4976,    101.2,  12.9870,  35.8040,2,  35.7980,3,    241.9,2,    238.6,2,     2.74,2,     7.60,2,     0.39,2,   2347.8,2,   7.8740,2,    25.00
  35TH20100608, OVIDE,    21,  1,     29,2,20100615,0409, 42.5810, -15.4610, 4976,     57.1,  13.8120,  35.8670,2,  35.8680,2,    248.3,2,    251.6,2,     1.72,2,     4.15,2,     0.22,2,   -999.0,9,   7.9120,2,    25.00
  35TH20100608, OVIDE,    21,  1,     30,2,20100615,0409, 42.5810, -15.4610, 4976,      3.0,  16.8260,  35.9570,2,  35.9580,2,    250.2,2,    247.6,2,     1.05,2,     0.08,2,     0.02,2,   2362.8,2,   7.9790,2,    25.00
  35TH20100608, OVIDE,    22,  1,      3,2,20100615,0957, 42.8800, -15.8510, 4184,   4258.7,   2.4920,  34.9040,2,  34.9020,2,    243.0,2,    242.8,2,    45.32,2,    22.31,2,     1.33,2,   -999.0,9,   7.7330,2,    25.00
  35TH20100608, OVIDE,    22,  1,      4,2,20100615,0957, 42.8800, -15.8510, 4184,   4001.2,   2.5220,  34.9100,2,  34.9060,2,    243.2,2,    243.4,2,    43.43,2,    22.45,2,     1.33,2,   -999.0,9,   7.7320,2,    25.00
  35TH20100608, OVIDE,    22,  1,      5,2,20100615,0957, 42.8800, -15.8510, 4184,   3750.4,   2.5620,  34.9160,2,  34.9120,2,    243.9,2,    243.1,2,    41.61,2,    22.19,2,     1.30,2,   -999.0,9,   7.7310,2,    25.00
  35TH20100608, OVIDE,    22,  1,      6,2,20100615,0957, 42.8800, -15.8510, 4184,   3500.7,   2.6260,  34.9240,2,  34.9230,2,    245.0,2,    242.3,2,    39.51,2,    21.47,2,     1.29,2,   -999.0,9,   7.7310,2,    25.00
  35TH20100608, OVIDE,    22,  1,      7,2,20100615,0957, 42.8800, -15.8510, 4184,   3249.2,   2.7200,  34.9350,2,  34.9340,2,    247.3,2,    246.5,2,    36.43,2,    21.31,2,  -999.00,9,   -999.0,9,   7.7330,2,    25.00
  35TH20100608, OVIDE,    22,  1,      8,2,20100615,0957, 42.8800, -15.8510, 4184,   2998.6,   2.8520,  34.9460,2,  34.9450,2,    250.3,2,    249.5,2,    32.65,2,    20.21,2,  -999.00,9,   -999.0,9,   7.7320,2,    25.00
  35TH20100608, OVIDE,    22,  1,      9,2,20100615,0957, 42.8800, -15.8510, 4184,   2699.9,   3.0860,  34.9600,2,  34.9590,2,    253.4,2,    256.1,2,    26.88,2,    19.70,2,  -999.00,9,   -999.0,9,   7.7340,2,    25.00
  35TH20100608, OVIDE,    22,  1,     10,2,20100615,0957, 42.8800, -15.8510, 4184,   2498.2,   3.2590,  34.9600,2,  34.9600,2,    259.9,2,    259.5,2,    22.03,2,    18.62,2,  -999.00,9,   -999.0,9,   7.7310,2,    25.00
  35TH20100608, OVIDE,    22,  1,     11,2,20100615,0957, 42.8800, -15.8510, 4184,   2249.8,   3.5570,  34.9710,2,  34.9710,2,    263.2,2,    261.9,2,    18.40,2,    18.52,2,  -999.00,9,   -999.0,9,   7.7300,2,    25.00
  35TH20100608, OVIDE,    22,  1,     12,2,20100615,0957, 42.8800, -15.8510, 4184,   1999.9,   3.9630,  35.0040,2,  35.0040,2,    263.1,2,    261.5,2,    14.82,2,    18.03,2,  -999.00,9,   -999.0,9,   7.7280,2,    25.00
  35TH20100608, OVIDE,    22,  1,     13,2,20100615,0957, 42.8800, -15.8510, 4184,   1796.6,   4.3950,  35.0450,2,  35.0480,2,    256.0,2,    256.0,2,    12.57,2,    18.35,2,     1.03,2,   -999.0,9,   7.7260,2,    25.00
  35TH20100608, OVIDE,    22,  1,     14,2,20100615,0957, 42.8800, -15.8510, 4184,   1599.1,   5.1440,  35.1510,2,  35.1480,2,    242.6,2,    244.7,2,    11.90,2,    17.94,2,     1.02,2,   -999.0,9,   7.7270,2,    25.00
  35TH20100608, OVIDE,    22,  1,     15,2,20100615,0957, 42.8800, -15.8510, 4184,   1397.7,   7.4060,  35.5200,2,  35.5150,2,    213.5,2,    216.6,2,    11.12,2,    17.75,2,     0.98,2,   -999.0,9,   7.7470,2,    25.00
  35TH20100608, OVIDE,    22,  1,     16,2,20100615,0957, 42.8800, -15.8510, 4184,   1200.1,   9.6560,  35.9000,2,  35.9010,2,    187.7,2,    192.8,2,     9.93,2,    16.79,2,     0.90,2,   -999.0,9,   7.7720,2,    25.00
  35TH20100608, OVIDE,    22,  1,     17,2,20100615,0957, 42.8800, -15.8510, 4184,   1100.0,   9.7990,  35.8490,2,  35.8470,2,    183.8,2,    189.0,2,     9.72,2,    16.91,2,     0.90,2,   -999.0,9,   7.7670,2,    25.00
  35TH20100608, OVIDE,    22,  1,     18,2,20100615,0957, 42.8800, -15.8510, 4184,    999.2,   9.5660,  35.6950,2,  35.6950,2,    183.0,2,    187.4,2,     9.83,2,    17.42,2,     0.91,2,   -999.0,9,   7.7550,2,    25.00
  35TH20100608, OVIDE,    22,  1,     19,2,20100615,0957, 42.8800, -15.8510, 4184,    898.4,  10.0430,  35.6700,2,  35.6690,2,    181.0,2,    183.6,2,     9.32,2,    17.56,2,     0.95,2,   -999.0,9,   7.7580,2,    25.00
  35TH20100608, OVIDE,    22,  1,     20,2,20100615,0957, 42.8800, -15.8510, 4184,    798.3,  10.5460,  35.6220,2,  35.6220,2,    182.5,2,    184.9,2,     8.30,2,    17.06,2,     0.91,2,   -999.0,9,   7.7630,2,    25.00
  35TH20100608, OVIDE,    22,  1,     21,2,20100615,0957, 42.8800, -15.8510, 4184,    698.8,  10.9300,  35.5670,2,  35.5680,2,    198.7,2,    204.6,2,     6.50,2,    15.04,2,     0.77,2,   -999.0,9,   7.7790,2,    25.00
  35TH20100608, OVIDE,    22,  1,     22,2,20100615,0957, 42.8800, -15.8510, 4184,    599.0,  11.2730,  35.5560,2,  35.5540,2,    211.9,2,    212.4,2,     5.50,2,    13.50,2,     0.71,2,   -999.0,9,   7.7940,2,    25.00
  35TH20100608, OVIDE,    22,  1,     23,2,20100615,0957, 42.8800, -15.8510, 4184,    499.5,  11.8520,  35.6500,2,  35.6490,2,    224.8,2,    233.6,3,     3.70,2,    10.19,2,     0.53,2,   -999.0,9,   7.8320,2,    25.00
  35TH20100608, OVIDE,    22,  1,     24,2,20100615,0957, 42.8800, -15.8510, 4184,    400.8,  12.1310,  35.6940,2,  35.6910,2,    246.1,2,    246.1,2,     3.10,2,     8.51,2,     0.44,2,   -999.0,9,   7.8560,2,    25.00
  35TH20100608, OVIDE,    22,  1,     25,2,20100615,0957, 42.8800, -15.8510, 4184,    300.0,  12.3090,  35.7100,2,  35.7100,2,    242.3,2,    253.0,3,     3.19,2,     8.59,2,     0.46,2,   -999.0,9,   7.8570,2,    25.00
  35TH20100608, OVIDE,    22,  1,     26,2,20100615,0957, 42.8800, -15.8510, 4184,    202.2,  12.6260,  35.7500,2,  35.7490,2,    239.6,2,    243.2,2,     3.02,2,     8.05,2,     0.44,2,   -999.0,9,   7.8700,2,    25.00
  35TH20100608, OVIDE,    22,  1,     27,2,20100615,0957, 42.8800, -15.8510, 4184,    152.3,  12.8020,  35.7720,2,  35.7700,2,    238.1,2,    237.9,2,     3.04,2,     8.18,2,     0.40,2,   -999.0,9,   7.8680,2,    25.00
  35TH20100608, OVIDE,    22,  1,     28,2,20100615,0957, 42.8800, -15.8510, 4184,    102.3,  13.1140,  35.8180,2,  35.8170,2,    240.8,2,    236.0,2,     2.72,2,     7.43,2,     0.37,2,   -999.0,9,   7.8770,2,    25.00
  35TH20100608, OVIDE,    22,  1,     29,2,20100615,0957, 42.8800, -15.8510, 4184,     55.3,  13.5770,  35.8820,2,  35.8790,2,    253.5,2,    239.3,3,     2.22,2,     5.93,2,     0.29,2,   -999.0,9,   7.8950,2,    25.00
  35TH20100608, OVIDE,    22,  1,     30,2,20100615,0957, 42.8800, -15.8510, 4184,      6.3,  16.4350,  35.8990,2,  35.8990,2,    254.1,2,    250.5,2,     0.59,2,     0.13,2,     0.03,2,   -999.0,9,   7.9780,2,    25.00
  35TH20100608, OVIDE,    23,  1,      3,2,20100615,1554, 43.1820, -16.2450, 5114,   5215.5,   2.5630,  34.8980,2,  34.8950,2,    242.5,2,   -999.0,9,    45.93,2,    22.98,2,     1.36,2,   2353.1,2,   7.7330,2,    25.00
  35TH20100608, OVIDE,    23,  1,      4,2,20100615,1554, 43.1820, -16.2450, 5114,   4999.0,   2.5390,  34.8980,2,  34.8970,2,    242.5,2,    244.8,2,    45.77,2,    23.00,2,     1.36,2,   2355.2,2,   7.7330,2,    25.00
  35TH20100608, OVIDE,    23,  1,      5,2,20100615,1554, 43.1820, -16.2450, 5114,   4499.0,   2.5200,  34.9030,2,  34.9020,2,    242.3,2,    243.6,2,    44.99,2,    22.78,2,     1.35,2,   2354.0,2,   7.7340,2,    25.00
  35TH20100608, OVIDE,    23,  1,      6,2,20100615,1554, 43.1820, -16.2450, 5114,   3999.9,   2.5680,  34.9140,2,  34.9270,3,    242.5,2,    242.6,2,    42.68,2,    22.00,2,     1.33,2,   2349.7,2,   7.7290,2,    25.00
  35TH20100608, OVIDE,    23,  1,      7,2,20100615,1554, 43.1820, -16.2450, 5114,   3499.5,   2.6540,  34.9270,2,  34.9240,2,    246.2,2,    247.0,2,    37.81,2,    21.66,2,     1.28,2,   2342.5,2,   7.7300,2,    25.00
  35TH20100608, OVIDE,    23,  1,      8,2,20100615,1554, 43.1820, -16.2450, 5114,   3248.6,   2.7520,  34.9360,2,  34.9350,2,    250.6,2,    250.2,2,    34.27,2,    20.83,2,     1.24,2,   -999.0,9,   7.7290,2,    25.00
  35TH20100608, OVIDE,    23,  1,      9,2,20100615,1554, 43.1820, -16.2450, 5114,   2998.5,   2.9040,  34.9460,2,  34.9460,2,    253.8,2,    254.6,2,    29.77,2,    19.41,2,     1.14,2,   2330.9,2,   7.7320,2,    25.00
  35TH20100608, OVIDE,    23,  1,     10,2,20100615,1554, 43.1820, -16.2450, 5114,   2750.7,   3.0730,  34.9490,2,  34.9520,2,    262.8,2,    261.1,2,    24.52,2,    18.88,2,     1.10,2,   -999.0,9,   7.7310,2,    25.00
  35TH20100608, OVIDE,    23,  1,     11,2,20100615,1554, 43.1820, -16.2450, 5114,   2499.7,   3.1710,  34.9300,2,  34.9320,2,    271.6,2,    269.6,2,    15.92,2,    17.91,2,     1.05,2,   2311.3,2,   7.7270,2,    25.00
  35TH20100608, OVIDE,    23,  1,     12,2,20100615,1554, 43.1820, -16.2450, 5114,   2248.7,   3.3220,  34.9170,2,  34.9170,2,    275.1,2,    275.6,2,    12.98,2,    17.66,2,     1.01,2,   2306.5,2,   7.7260,2,    25.00
  35TH20100608, OVIDE,    23,  1,     13,2,20100615,1554, 43.1820, -16.2450, 5114,   1998.4,   3.7620,  34.9540,2,  34.9560,2,    269.8,2,    269.1,2,    12.24,2,    17.98,2,     1.04,2,   2308.9,2,   7.7230,2,    25.00
  35TH20100608, OVIDE,    23,  1,     14,2,20100615,1554, 43.1820, -16.2450, 5114,   1799.5,   4.2090,  35.0040,2,  35.0020,2,    263.6,2,    263.5,2,    11.68,2,    17.86,2,     1.05,2,   2310.7,2,   7.7220,2,    25.00
  35TH20100608, OVIDE,    23,  1,     15,2,20100615,1554, 43.1820, -16.2450, 5114,   1599.4,   5.2110,  35.1470,2,  35.1470,2,    246.6,2,    246.8,2,    11.37,2,    18.10,2,     1.03,2,   2322.2,2,   7.7250,2,    25.00
  35TH20100608, OVIDE,    23,  1,     16,2,20100615,1554, 43.1820, -16.2450, 5114,   1399.1,   6.2880,  35.2870,2,  35.2900,2,    225.9,2,    230.5,2,    11.08,2,    18.36,2,     1.03,2,   2330.5,2,   7.7290,2,    25.00
  35TH20100608, OVIDE,    23,  1,     17,2,20100615,1554, 43.1820, -16.2450, 5114,   1199.2,   9.0740,  35.7350,2,  35.7360,2,    193.8,2,    195.2,2,    10.04,2,    17.84,2,     0.96,2,   2360.0,2,   7.7580,2,    25.00
  35TH20100608, OVIDE,    23,  1,     18,2,20100615,1554, 43.1820, -16.2450, 5114,    998.0,  10.0820,  35.7410,2,  35.7410,2,    180.5,2,    189.9,3,     9.32,2,    17.57,2,     0.94,2,   2359.1,2,   7.7620,2,    25.00
  35TH20100608, OVIDE,    23,  1,     19,2,20100615,1554, 43.1820, -16.2450, 5114,    898.7,  10.5080,  35.7030,2,  35.7120,3,    181.4,2,    183.8,2,     8.64,2,    17.39,2,     0.93,2,   2354.9,2,   7.7640,2,    25.00
  35TH20100608, OVIDE,    23,  1,     20,2,20100615,1554, 43.1820, -16.2450, 5114,    800.1,  10.8400,  35.6300,2,  35.6290,2,    190.9,2,   -999.0,9,     7.42,2,    16.11,2,     0.86,2,   2344.2,2,   7.7710,2,    25.00
  35TH20100608, OVIDE,    23,  1,     21,2,20100615,1554, 43.1820, -16.2450, 5114,    701.2,  10.9470,  35.5580,2,  35.5560,2,    210.9,2,    210.2,2,     6.36,2,    14.82,2,     0.82,2,   2337.3,2,   7.7810,2,    25.00
  35TH20100608, OVIDE,    23,  1,     22,2,20100615,1554, 43.1820, -16.2450, 5114,    600.7,  11.3630,  35.5830,2,  35.5810,2,    226.3,2,    216.0,3,     4.84,2,    13.14,2,     0.72,2,   2338.8,2,   7.8030,2,    25.00
  35TH20100608, OVIDE,    23,  1,     23,2,20100615,1554, 43.1820, -16.2450, 5114,    498.3,  11.7870,  35.6400,2,  35.6380,2,    241.2,2,    231.9,3,     3.85,2,    10.59,2,     0.58,2,   2340.4,2,   7.8280,2,    25.00
  35TH20100608, OVIDE,    23,  1,     24,2,20100615,1554, 43.1820, -16.2450, 5114,    401.1,  12.1300,  35.6950,2,  35.6920,2,    243.2,2,    244.2,2,     2.92,2,     8.83,2,     0.48,2,   2343.7,2,   7.8550,2,    25.00
  35TH20100608, OVIDE,    23,  1,     25,2,20100615,1554, 43.1820, -16.2450, 5114,    299.9,  12.3650,  35.7270,2,  35.7200,3,    245.0,2,    244.0,2,     2.97,2,     8.39,2,     0.46,2,   2345.9,2,   7.8590,2,    25.00
  35TH20100608, OVIDE,    23,  1,     26,2,20100615,1554, 43.1820, -16.2450, 5114,    200.2,  12.6950,  35.7660,2,  35.7630,2,    246.1,2,    245.4,2,     2.74,2,     7.81,2,     0.41,2,   2347.2,2,   7.8700,2,    25.00
  35TH20100608, OVIDE,    23,  1,     27,2,20100615,1554, 43.1820, -16.2450, 5114,    150.9,  12.8570,  35.7880,2,  35.7840,2,    245.9,2,    245.8,2,     2.77,2,     7.30,2,     0.40,2,   -999.0,9,   7.8750,2,    25.00
  35TH20100608, OVIDE,    23,  1,     28,2,20100615,1554, 43.1820, -16.2450, 5114,    100.0,  13.1610,  35.8190,2,  35.8140,3,    245.6,2,    243.0,2,     2.53,2,     7.14,2,     0.39,2,   2350.3,2,   7.8810,2,    25.00
  35TH20100608, OVIDE,    23,  1,     29,2,20100615,1554, 43.1820, -16.2450, 5114,     55.4,  13.5400,  35.8460,2,  35.8430,2,    264.0,2,    252.1,3,     1.99,2,     5.26,2,     0.29,2,   -999.0,9,   7.9040,2,    25.00
  35TH20100608, OVIDE,    23,  1,     30,2,20100615,1554, 43.1820, -16.2450, 5114,      3.2,  16.6020,  35.9220,2,  35.9210,2,    253.4,2,    251.8,2,     0.72,2,     0.14,2,     0.02,2,   2361.8,2,   7.9770,2,    25.00