BOTTLE,20140929PRINUNIVRMK
EXPOCODE,SECT_ID,STNNBR,CASTNO,BTLNBR,BTLNBR_FLAG_W,DATE,TIME,LATITUDE,LONGITUDE,DEPTH,CTDPRS,CTDTMP,CTDSAL,CTDSAL_FLAG_W,SALNTY,SALNTY_FLAG_W,CTDOXY,CTDOXY_FLAG_W,OXYGEN,OXYGEN_FLAG_W,SILCAT,SILCAT_FLAG_W,NITRAT,NITRAT_FLAG_W,PHSPHT,PHSPHT_FLAG_W,ALKALI,ALKALI_FLAG_W,PH_SWS,PH_SWS_FLAG_W,PH_TMP
,,,,,,,,,,METERS,DBAR,ITS-90,PSS-78,,PSS-78,,UMOL/KG,,UMOL/KG,,UMOL/KG,,UMOL/KG,,UMOL/KG,,UMOL/KG,,,,DEG C
  35TH20100608, OVIDE,    60,  1,      3,2,20100624,1323, 56.6280, -27.5800, 2706,   2745.6,   2.8190,  34.9800,2,  34.9810,2,    275.0,2,    272.8,2,    14.89,2,    15.32,2,     0.92,2,   -999.0,9,   7.7140,2,    25.00
  35TH20100608, OVIDE,    60,  1,      4,2,20100624,1323, 56.6280, -27.5800, 2706,   2695.1,   2.8250,  34.9810,2,  34.9800,2,    274.8,2,    273.6,2,    14.70,2,    15.48,2,     0.95,2,   -999.0,9,   7.7160,2,    25.00
  35TH20100608, OVIDE,    60,  1,      5,2,20100624,1323, 56.6280, -27.5800, 2706,   2646.1,   2.8410,  34.9760,2,  34.9760,2,    273.7,2,    272.8,2,    15.68,2,    15.82,2,     0.96,2,   -999.0,9,   7.7160,2,    25.00
  35TH20100608, OVIDE,    60,  1,      6,2,20100624,1323, 56.6280, -27.5800, 2706,   2499.8,   2.9720,  34.9710,2,  34.9710,2,    274.2,2,    274.8,2,    14.90,2,    15.86,2,     0.96,2,   -999.0,9,   7.7190,2,    25.00
  35TH20100608, OVIDE,    60,  1,      7,2,20100624,1323, 56.6280, -27.5800, 2706,   2249.6,   3.2130,  34.9640,2,  34.9650,2,    276.7,2,    276.8,2,    12.47,2,    15.68,2,     0.93,2,   -999.0,9,   7.7270,2,    25.00
  35TH20100608, OVIDE,    60,  1,      8,2,20100624,1323, 56.6280, -27.5800, 2706,   2000.3,   3.3460,  34.9250,2,  34.9250,2,    278.9,2,    279.0,2,    11.89,2,    16.09,2,     0.96,2,   -999.0,9,   7.7240,2,    25.00
  35TH20100608, OVIDE,    60,  1,      9,2,20100624,1323, 56.6280, -27.5800, 2706,   1798.8,   3.4220,  34.9100,2,  34.9110,2,    277.7,2,    277.7,2,    11.74,2,    16.54,2,     0.98,2,   -999.0,9,   7.7220,2,    25.00
  35TH20100608, OVIDE,    60,  1,     10,2,20100624,1323, 56.6280, -27.5800, 2706,   1597.7,   3.5820,  34.9100,2,  34.9100,2,    276.0,2,    275.7,2,    11.44,2,    16.61,2,     0.96,2,   -999.0,9,   7.7170,2,    25.00
  35TH20100608, OVIDE,    60,  1,     11,2,20100624,1323, 56.6280, -27.5800, 2706,   1399.1,   3.7100,  34.9060,2,  34.9080,2,    276.0,2,    276.4,2,    10.98,2,    16.72,2,     1.00,2,   -999.0,9,   7.7170,2,    25.00
  35TH20100608, OVIDE,    60,  1,     12,2,20100624,1323, 56.6280, -27.5800, 2706,   1198.0,   3.8240,  34.9060,2,  34.9060,2,    277.0,2,    276.7,2,    10.60,2,    16.66,2,     1.02,2,   -999.0,9,   7.7190,2,    25.00
  35TH20100608, OVIDE,    60,  1,     13,2,20100624,1323, 56.6280, -27.5800, 2706,    997.9,   4.0540,  34.9190,2,  34.9200,2,    270.9,2,    270.8,2,    10.60,2,    16.58,2,     0.99,2,   -999.0,9,   7.7080,2,    25.00
  35TH20100608, OVIDE,    60,  1,     14,2,20100624,1323, 56.6280, -27.5800, 2706,    898.0,   4.2180,  34.9270,2,  34.9290,2,    267.3,2,    266.9,2,    10.52,2,    16.79,2,     1.01,2,   -999.0,9,   7.7070,2,    25.00
  35TH20100608, OVIDE,    60,  1,     15,2,20100624,1323, 56.6280, -27.5800, 2706,    799.5,   4.6330,  34.9690,2,  34.9710,2,    256.0,2,    256.8,2,    10.76,2,    17.16,2,     1.03,2,   -999.0,9,   7.7040,2,    25.00
  35TH20100608, OVIDE,    60,  1,     16,2,20100624,1323, 56.6280, -27.5800, 2706,    699.3,   5.1230,  35.0140,2,  35.0170,2,    247.2,2,    247.6,2,    10.93,2,    17.57,2,     1.06,2,   -999.0,9,   7.7060,2,    25.00
  35TH20100608, OVIDE,    60,  1,     17,2,20100624,1323, 56.6280, -27.5800, 2706,    598.4,   5.3630,  35.0100,2,  35.0090,2,    240.9,2,    242.7,2,    10.81,2,    17.83,2,     1.08,2,   -999.0,9,   7.7030,2,    25.00
  35TH20100608, OVIDE,    60,  1,     18,2,20100624,1323, 56.6280, -27.5800, 2706,    599.3,   5.3630,  35.0110,2,  35.0110,2,    241.0,2,    242.8,2,    10.81,2,    17.80,2,     1.08,2,   -999.0,9,-999.0000,9,    25.00
  35TH20100608, OVIDE,    60,  1,     19,2,20100624,1323, 56.6280, -27.5800, 2706,    498.4,   5.7430,  35.0010,2,  35.0060,2,    234.4,2,    235.4,2,    10.71,2,    17.97,2,     1.11,2,   -999.0,9,   7.7010,2,    25.00
  35TH20100608, OVIDE,    60,  1,     20,2,20100624,1323, 56.6280, -27.5800, 2706,    398.6,   6.6780,  35.0470,2,  35.0470,2,    222.5,2,    225.4,2,    10.39,2,    18.06,2,     1.13,2,   -999.0,9,   7.7160,2,    25.00
  35TH20100608, OVIDE,    60,  1,     21,2,20100624,1323, 56.6280, -27.5800, 2706,    299.1,   7.1940,  35.0110,2,  35.0400,3,    213.2,2,    221.1,3,     9.83,2,    17.50,2,     1.04,2,   -999.0,9,   7.7180,2,    25.00
  35TH20100608, OVIDE,    60,  1,     22,2,20100624,1323, 56.6280, -27.5800, 2706,    199.4,   8.1070,  34.9890,2,  34.9920,2,    252.2,2,    257.1,2,     6.51,2,    13.34,2,     0.81,2,   -999.0,9,   7.7800,2,    25.00
  35TH20100608, OVIDE,    60,  1,     23,2,20100624,1323, 56.6280, -27.5800, 2706,    148.4,   8.2510,  34.9890,2,  34.9880,2,    265.6,2,    264.6,2,     6.04,2,    12.48,2,     0.76,2,   -999.0,9,   7.7850,2,    25.00
  35TH20100608, OVIDE,    60,  1,     24,2,20100624,1323, 56.6280, -27.5800, 2706,     99.7,   8.5150,  34.9920,2,  34.9920,2,    266.9,2,    266.2,2,     5.35,2,    11.77,2,     0.72,2,   -999.0,9,   7.7920,2,    25.00
  35TH20100608, OVIDE,    60,  1,     25,2,20100624,1323, 56.6280, -27.5800, 2706,     48.7,  10.4420,  35.0450,2,  35.0470,2,    267.2,2,    268.1,2,     2.59,2,     6.67,2,     0.49,2,   -999.0,9,   7.8620,2,    25.00
  35TH20100608, OVIDE,    60,  1,     26,2,20100624,1323, 56.6280, -27.5800, 2706,      4.7,  12.5760,  34.9940,2,  34.9990,3,    275.9,2,    273.1,2,     2.06,2,     2.60,2,     0.22,2,   -999.0,9,   7.9310,2,    25.00
  35TH20100608, OVIDE,    61,  1,      3,2,20100624,1816, 57.0040, -27.8790, 2739,   2780.7,   2.8040,  34.9810,2,  34.9810,2,    275.7,2,    274.3,2,    14.57,2,    15.57,2,     1.00,2,   2310.7,2,   7.7100,2,    25.00
  35TH20100608, OVIDE,    61,  1,      4,2,20100624,1816, 57.0040, -27.8790, 2739,   2730.2,   2.8120,  34.9800,2,  34.9800,2,    275.0,2,    276.2,2,    14.87,2,    15.55,2,     1.02,2,   2310.3,2,   7.7130,2,    25.00
  35TH20100608, OVIDE,    61,  1,      5,2,20100624,1816, 57.0040, -27.8790, 2739,   2673.6,   2.8150,  34.9780,2,  34.9780,2,    274.5,2,    276.8,2,    15.32,2,    15.90,2,     1.04,2,   2311.5,2,   7.7090,2,    25.00
  35TH20100608, OVIDE,    61,  1,      6,2,20100624,1816, 57.0040, -27.8790, 2739,   2499.3,   2.8730,  34.9760,2,  34.9750,2,    274.5,2,    276.5,2,    15.02,2,    15.80,2,     1.05,2,   2312.5,2,   7.7160,2,    25.00
  35TH20100608, OVIDE,    61,  1,      7,2,20100624,1816, 57.0040, -27.8790, 2739,   2249.9,   3.1400,  34.9650,2,  34.9650,2,    276.4,2,    277.2,2,    12.98,2,    15.82,2,     1.03,2,   2309.5,2,   7.7180,2,    25.00
  35TH20100608, OVIDE,    61,  1,      8,2,20100624,1816, 57.0040, -27.8790, 2739,   1999.6,   3.3450,  34.9370,2,  34.9380,2,    278.2,2,    279.9,2,    11.87,2,    16.06,2,     1.06,2,   2305.7,2,   7.7200,2,    25.00
  35TH20100608, OVIDE,    61,  1,      9,2,20100624,1816, 57.0040, -27.8790, 2739,   1800.1,   3.4040,  34.9120,2,  34.9120,2,    278.0,2,    281.8,2,    11.84,2,    16.50,2,     1.08,2,   2303.9,2,   7.7200,2,    25.00
  35TH20100608, OVIDE,    61,  1,     10,2,20100624,1816, 57.0040, -27.8790, 2739,   1599.4,   3.5380,  34.9080,2,  34.9100,2,    276.4,2,    277.0,2,    11.60,2,    16.71,2,     1.08,2,   2303.1,2,   7.7160,2,    25.00
  35TH20100608, OVIDE,    61,  1,     11,2,20100624,1816, 57.0040, -27.8790, 2739,   1400.1,   3.6630,  34.9070,2,  34.9080,2,    275.7,2,    277.1,2,    11.24,2,    16.82,2,     1.08,2,   2303.7,2,   7.7140,2,    25.00
  35TH20100608, OVIDE,    61,  1,     12,2,20100624,1816, 57.0040, -27.8790, 2739,   1199.2,   3.7900,  34.9040,2,  34.9050,2,    275.9,2,    276.1,2,    10.81,2,    16.87,2,     1.08,2,   2303.5,2,   7.7090,2,    25.00
  35TH20100608, OVIDE,    61,  1,     13,2,20100624,1816, 57.0040, -27.8790, 2739,    999.5,   4.0190,  34.9140,2,  34.9150,2,    272.4,2,    274.5,2,    10.64,2,    16.84,2,     1.08,2,   2304.2,2,   7.7070,2,    25.00
  35TH20100608, OVIDE,    61,  1,     14,2,20100624,1816, 57.0040, -27.8790, 2739,    902.8,   4.1740,  34.9250,2,  34.9240,2,    268.9,2,    271.5,2,    10.56,2,    16.95,2,     1.08,2,   2303.4,2,   7.7050,2,    25.00
  35TH20100608, OVIDE,    61,  1,     15,2,20100624,1816, 57.0040, -27.8790, 2739,    800.0,   4.3650,  34.9360,2,  34.9350,2,    260.9,2,    267.5,3,    10.48,2,    17.31,2,     1.12,2,   2307.3,2,   7.7010,2,    25.00
  35TH20100608, OVIDE,    61,  1,     16,2,20100624,1816, 57.0040, -27.8790, 2739,    700.5,   4.6590,  34.9660,2,  34.9600,3,    253.1,2,    257.5,2,    10.70,2,    17.58,2,     1.15,2,   2307.3,2,   7.6990,2,    25.00
  35TH20100608, OVIDE,    61,  1,     17,2,20100624,1816, 57.0040, -27.8790, 2739,    600.3,   5.0610,  34.9830,2,  34.9820,2,    245.5,2,    248.6,2,    10.88,2,    17.97,2,     1.15,2,   2309.5,2,   7.6970,2,    25.00
  35TH20100608, OVIDE,    61,  1,     18,2,20100624,1816, 57.0040, -27.8790, 2739,    500.5,   5.6280,  35.0050,2,  35.0050,2,    237.9,2,    241.7,2,    10.78,2,    18.07,2,     1.16,2,   2310.0,2,   7.6970,2,    25.00
  35TH20100608, OVIDE,    61,  1,     19,2,20100624,1816, 57.0040, -27.8790, 2739,    399.0,   6.1430,  35.0040,2,  35.0050,2,    232.8,2,    237.0,2,    10.31,2,    18.05,2,     1.15,2,   2310.5,2,   7.7020,2,    25.00
  35TH20100608, OVIDE,    61,  1,     20,2,20100624,1816, 57.0040, -27.8790, 2739,    399.5,   6.1440,  35.0030,2,  35.0060,2,    232.8,2,    235.9,2,    10.32,2,    18.08,2,     1.15,2,   -999.0,9,-999.0000,9,    25.00
  35TH20100608, OVIDE,    61,  1,     21,2,20100624,1816, 57.0040, -27.8790, 2739,    300.9,   7.2960,  35.1090,2,  35.1080,2,    240.5,2,    246.9,3,     8.45,2,    16.31,2,     0.99,2,   2315.8,2,   7.7370,2,    25.00
  35TH20100608, OVIDE,    61,  1,     22,2,20100624,1816, 57.0040, -27.8790, 2739,    200.8,   7.3890,  35.0170,2,  35.0210,2,    239.7,2,    243.1,2,     8.43,2,    16.22,2,     1.22,3,   2308.8,2,   7.7340,2,    25.00
  35TH20100608, OVIDE,    61,  1,     23,2,20100624,1816, 57.0040, -27.8790, 2739,    150.1,   7.5940,  34.9900,2,  34.9930,2,    255.5,2,    267.9,3,     6.77,2,    13.82,2,     0.86,2,   2306.2,2,   7.7620,2,    25.00
  35TH20100608, OVIDE,    61,  1,     24,2,20100624,1816, 57.0040, -27.8790, 2739,    103.2,   7.4350,  34.8940,2,  34.9010,3,    264.3,2,    270.4,3,     6.28,2,    13.28,2,     0.84,2,   2303.0,2,   7.7650,2,    25.00
  35TH20100608, OVIDE,    61,  1,     25,2,20100624,1816, 57.0040, -27.8790, 2739,     53.9,   8.1550,  34.8790,2,  34.8800,2,    274.1,2,    277.4,2,     4.90,2,    11.12,2,     0.72,2,   2301.4,2,   7.7920,2,    25.00
  35TH20100608, OVIDE,    61,  1,     26,2,20100624,1816, 57.0040, -27.8790, 2739,      2.9,  11.6750,  34.8900,2,  34.8910,2,    292.7,2,    289.4,2,     2.30,2,     2.98,2,     0.26,2,   2306.0,2,   7.9270,2,    25.00
  35TH20100608, OVIDE,    62,  1,      3,2,20100624,2248, 57.3770, -28.1720, 2596,   2634.3,   2.7670,  34.9810,2,  34.9820,2,    276.1,2,    274.1,2,    14.51,2,    16.02,2,     0.97,2,   -999.0,9,   7.7130,2,    25.00
  35TH20100608, OVIDE,    62,  1,      4,2,20100624,2248, 57.3770, -28.1720, 2596,   2582.9,   2.7800,  34.9800,2,  34.9800,2,    275.5,2,    274.2,2,    14.76,2,    16.16,2,     1.00,2,   -999.0,9,   7.7140,2,    25.00
  35TH20100608, OVIDE,    62,  1,      5,2,20100624,2248, 57.3770, -28.1720, 2596,   2532.8,   2.7960,  34.9770,2,  34.9780,2,    275.0,2,    273.9,2,    14.94,2,    15.95,2,     0.94,2,   -999.0,9,   7.7150,2,    25.00
  35TH20100608, OVIDE,    62,  1,      6,2,20100624,2248, 57.3770, -28.1720, 2596,   2253.7,   3.0720,  34.9580,2,  34.9590,2,    275.5,2,    275.4,2,    13.99,2,    16.75,2,     1.04,2,   -999.0,9,   7.7220,2,    25.00
  35TH20100608, OVIDE,    62,  1,      7,2,20100624,2248, 57.3770, -28.1720, 2596,   2000.3,   3.2700,  34.9300,2,  34.9320,2,    278.4,2,    280.2,2,    12.14,2,    16.94,2,     1.04,2,   -999.0,9,   7.7230,2,    25.00
  35TH20100608, OVIDE,    62,  1,      8,2,20100624,2248, 57.3770, -28.1720, 2596,   1801.2,   3.3410,  34.9120,2,  34.9140,2,    278.6,2,    279.6,2,    11.92,2,    17.14,2,     1.02,2,   -999.0,9,   7.7210,2,    25.00
  35TH20100608, OVIDE,    62,  1,      9,2,20100624,2248, 57.3770, -28.1720, 2596,   1600.4,   3.5000,  34.9080,2,  34.9130,2,    276.8,2,    278.3,2,    11.55,2,    17.37,2,     1.06,2,   -999.0,9,   7.7180,2,    25.00
  35TH20100608, OVIDE,    62,  1,     10,2,20100624,2248, 57.3770, -28.1720, 2596,   1400.3,   3.6460,  34.9070,2,  34.9080,2,    275.7,2,    277.3,2,    11.12,2,    17.21,2,     1.05,2,   -999.0,9,   7.7130,2,    25.00
  35TH20100608, OVIDE,    62,  1,     11,2,20100624,2248, 57.3770, -28.1720, 2596,   1200.6,   3.7700,  34.9020,2,  34.9070,2,    276.6,2,    276.1,2,    10.61,2,    16.72,2,     1.03,2,   -999.0,9,   7.7120,2,    25.00
  35TH20100608, OVIDE,    62,  1,     12,2,20100624,2248, 57.3770, -28.1720, 2596,   1000.4,   4.0640,  34.9230,2,  34.9240,2,    269.9,2,    271.1,2,    10.60,2,    17.44,2,     1.03,2,   -999.0,9,   7.7080,2,    25.00
  35TH20100608, OVIDE,    62,  1,     13,2,20100624,2248, 57.3770, -28.1720, 2596,    900.9,   4.1780,  34.9240,2,  34.9290,2,    267.0,2,    268.5,2,    10.54,2,    17.89,2,     1.08,2,   -999.0,9,   7.7060,2,    25.00
  35TH20100608, OVIDE,    62,  1,     14,2,20100624,2248, 57.3770, -28.1720, 2596,    799.1,   4.4180,  34.9430,2,  34.9440,2,    261.5,2,    263.9,2,    10.54,2,    17.96,2,     1.08,2,   -999.0,9,   7.7040,2,    25.00
  35TH20100608, OVIDE,    62,  1,     15,2,20100624,2248, 57.3770, -28.1720, 2596,    701.4,   4.7640,  34.9630,2,  34.9650,2,    254.5,2,    255.1,2,    10.62,2,    18.22,2,     1.10,2,   -999.0,9,   7.7000,2,    25.00
  35TH20100608, OVIDE,    62,  1,     16,2,20100624,2248, 57.3770, -28.1720, 2596,    600.2,   5.2150,  34.9920,2,  34.9940,2,    244.2,2,    248.3,2,    10.73,2,    18.75,2,     1.13,2,   -999.0,9,   7.7000,2,    25.00
  35TH20100608, OVIDE,    62,  1,     17,2,20100624,2248, 57.3770, -28.1720, 2596,    499.8,   5.7800,  35.0100,2,  35.0110,2,    235.9,2,    238.0,2,    10.66,2,    18.82,2,     1.13,2,   -999.0,9,   7.6990,2,    25.00
  35TH20100608, OVIDE,    62,  1,     18,2,20100624,2248, 57.3770, -28.1720, 2596,    401.0,   6.4070,  35.0220,2,  35.0270,2,    236.4,2,    237.5,2,     9.77,2,    18.02,2,     1.04,2,   -999.0,9,   7.7100,2,    25.00
  35TH20100608, OVIDE,    62,  1,     19,2,20100624,2248, 57.3770, -28.1720, 2596,    298.1,   7.4180,  35.1100,2,  35.1140,2,    246.3,2,    247.5,2,     8.19,2,    16.62,2,     0.98,2,   -999.0,9,   7.7420,2,    25.00
  35TH20100608, OVIDE,    62,  1,     20,2,20100624,2248, 57.3770, -28.1720, 2596,    202.2,   7.5390,  35.0190,2,  35.0300,3,    256.5,2,    255.4,2,     7.42,2,    15.60,2,     0.92,2,   -999.0,9,   7.7530,2,    25.00
  35TH20100608, OVIDE,    62,  1,     21,2,20100624,2248, 57.3770, -28.1720, 2596,    150.5,   7.6020,  34.9820,2,  34.9810,2,    258.7,2,    269.3,3,     6.69,2,    14.28,2,     0.86,2,   -999.0,9,   7.7660,2,    25.00
  35TH20100608, OVIDE,    62,  1,     22,2,20100624,2248, 57.3770, -28.1720, 2596,     99.3,   8.0820,  35.0110,2,  34.9730,3,    269.0,2,    266.7,2,     5.99,2,    13.15,2,     0.79,2,   -999.0,9,   7.7740,2,    25.00
  35TH20100608, OVIDE,    62,  1,     23,2,20100624,2248, 57.3770, -28.1720, 2596,     51.3,   8.7350,  34.9310,2,  34.9300,2,    275.3,2,    274.9,2,     4.59,2,    11.60,2,     0.68,2,   -999.0,9,   7.8000,2,    25.00
  35TH20100608, OVIDE,    62,  1,     24,2,20100624,2248, 57.3770, -28.1720, 2596,      6.8,  11.7860,  34.8060,2,  34.8110,2,    286.9,2,    283.1,2,     1.89,2,     3.20,2,     0.27,2,   -999.0,9,   7.9260,2,    25.00