BOTTLE,20140929PRINUNIVRMK
EXPOCODE,SECT_ID,STNNBR,CASTNO,BTLNBR,BTLNBR_FLAG_W,DATE,TIME,LATITUDE,LONGITUDE,DEPTH,CTDPRS,CTDTMP,CTDSAL,CTDSAL_FLAG_W,SALNTY,SALNTY_FLAG_W,CTDOXY,CTDOXY_FLAG_W,OXYGEN,OXYGEN_FLAG_W,SILCAT,SILCAT_FLAG_W,NITRAT,NITRAT_FLAG_W,PHSPHT,PHSPHT_FLAG_W,ALKALI,ALKALI_FLAG_W,PH_SWS,PH_SWS_FLAG_W,PH_TMP
,,,,,,,,,,METERS,DBAR,ITS-90,PSS-78,,PSS-78,,UMOL/KG,,UMOL/KG,,UMOL/KG,,UMOL/KG,,UMOL/KG,,UMOL/KG,,,,DEG C
  35TH20100608, OVIDE,    78,  1,      3,2,20100627,2052, 59.4280, -37.0390, 3104,   3154.9,   2.0260,  34.8960,2,  34.8940,2,    297.4,2,    297.0,2,    10.22,2,    14.10,2,     0.81,2,   -999.0,9,   7.7200,2,    25.00
  35TH20100608, OVIDE,    78,  1,      4,2,20100627,2052, 59.4280, -37.0390, 3104,   3098.6,   2.2700,  34.9050,2,  34.9010,2,    291.8,2,    290.7,2,    10.95,2,    15.04,2,     0.90,2,   -999.0,9,   7.7190,2,    25.00
  35TH20100608, OVIDE,    78,  1,      5,2,20100627,2052, 59.4280, -37.0390, 3104,   3048.8,   2.4350,  34.9120,2,  34.9080,2,    288.4,2,    287.7,2,    11.79,2,    15.24,2,     0.92,2,   -999.0,9,   7.7240,2,    25.00
  35TH20100608, OVIDE,    78,  1,      6,2,20100627,2052, 59.4280, -37.0390, 3104,   2999.1,   2.5480,  34.9170,2,  34.9140,2,    285.8,2,    287.1,2,    12.46,2,    15.70,2,     0.92,2,   -999.0,9,   7.7220,2,    25.00
  35TH20100608, OVIDE,    78,  1,      7,2,20100627,2052, 59.4280, -37.0390, 3104,   2748.3,   2.8330,  34.9300,2,  34.9260,2,    280.4,2,    280.0,2,    13.06,2,    15.62,2,     0.92,2,   -999.0,9,   7.7260,2,    25.00
  35TH20100608, OVIDE,    78,  1,      8,2,20100627,2052, 59.4280, -37.0390, 3104,   2499.7,   2.9820,  34.9310,2,  34.9290,2,    279.3,2,    278.9,2,    12.75,2,    16.21,2,     0.96,2,   -999.0,9,   7.7270,2,    25.00
  35TH20100608, OVIDE,    78,  1,      9,2,20100627,2052, 59.4280, -37.0390, 3104,   2250.1,   3.1190,  34.9300,2,  34.9260,2,    279.1,2,    278.2,2,    12.11,2,    16.32,2,     0.97,2,   -999.0,9,   7.7240,2,    25.00
  35TH20100608, OVIDE,    78,  1,     10,2,20100627,2052, 59.4280, -37.0390, 3104,   1999.9,   3.2780,  34.9260,2,  34.9230,2,    279.3,2,    278.1,2,    11.34,2,    16.75,2,     0.96,2,   -999.0,9,   7.7230,2,    25.00
  35TH20100608, OVIDE,    78,  1,     11,2,20100627,2052, 59.4280, -37.0390, 3104,   1799.7,   3.3910,  34.9210,2,  34.9190,2,    278.7,2,    279.3,2,    11.19,2,    17.04,2,     0.98,2,   -999.0,9,   7.7210,2,    25.00
  35TH20100608, OVIDE,    78,  1,     12,2,20100627,2052, 59.4280, -37.0390, 3104,   1601.2,   3.5430,  34.9230,2,  34.9210,2,    276.8,2,    279.3,2,    11.01,2,    17.07,2,     1.01,2,   -999.0,9,   7.7180,2,    25.00
  35TH20100608, OVIDE,    78,  1,     13,2,20100627,2052, 59.4280, -37.0390, 3104,   1399.8,   3.6290,  34.9100,2,  34.9070,2,    276.9,2,    278.4,2,    10.60,2,    16.89,2,     0.97,2,   -999.0,9,   7.7180,2,    25.00
  35TH20100608, OVIDE,    78,  1,     14,2,20100627,2052, 59.4280, -37.0390, 3104,   1200.0,   3.6110,  34.8880,2,  34.8860,2,    283.2,2,    283.1,2,     9.92,2,    16.65,2,     0.95,2,   -999.0,9,   7.7150,2,    25.00
  35TH20100608, OVIDE,    78,  1,     15,2,20100627,2052, 59.4280, -37.0390, 3104,    998.7,   3.6520,  34.8790,2,  34.8730,3,    287.2,2,    287.0,2,     9.56,2,    16.51,2,     0.96,2,   -999.0,9,   7.7140,2,    25.00
  35TH20100608, OVIDE,    78,  1,     16,2,20100627,2052, 59.4280, -37.0390, 3104,    900.6,   3.6960,  34.8780,2,  34.8730,2,    287.7,2,    287.7,2,     9.40,2,    16.50,2,     0.94,2,   -999.0,9,   7.7110,2,    25.00
  35TH20100608, OVIDE,    78,  1,     17,2,20100627,2052, 59.4280, -37.0390, 3104,    799.7,   3.8060,  34.8880,2,  34.8810,3,    290.7,2,    287.6,2,     9.09,2,    16.48,2,     0.96,2,   -999.0,9,   7.7130,2,    25.00
  35TH20100608, OVIDE,    78,  1,     18,2,20100627,2052, 59.4280, -37.0390, 3104,    699.7,   3.9090,  34.8950,2,  34.8930,2,    292.3,2,    291.4,2,     8.94,2,    16.23,2,     0.96,2,   -999.0,9,   7.7140,2,    25.00
  35TH20100608, OVIDE,    78,  1,     19,2,20100627,2052, 59.4280, -37.0390, 3104,    600.1,   4.0330,  34.9060,2,  34.9040,2,    289.1,2,    288.7,2,     9.30,2,    16.80,2,     1.00,2,   -999.0,9,   7.7140,2,    25.00
  35TH20100608, OVIDE,    78,  1,     20,2,20100627,2052, 59.4280, -37.0390, 3104,    499.2,   4.1900,  34.9190,2,  34.9180,2,    284.8,2,    282.4,2,     9.37,2,    16.78,2,     1.00,2,   -999.0,9,   7.7060,2,    25.00
  35TH20100608, OVIDE,    78,  1,     21,2,20100627,2052, 59.4280, -37.0390, 3104,    399.9,   4.4430,  34.9370,2,  34.9320,2,    281.8,2,    278.4,2,     9.39,2,    16.52,2,     0.97,2,   -999.0,9,   7.7140,2,    25.00
  35TH20100608, OVIDE,    78,  1,     22,2,20100627,2052, 59.4280, -37.0390, 3104,    399.3,   4.4440,  34.9370,2,  34.9340,2,    282.0,2,    277.8,2,     9.25,2,    16.68,2,     0.99,2,   -999.0,9,-999.0000,9,    25.00
  35TH20100608, OVIDE,    78,  1,     23,2,20100627,2052, 59.4280, -37.0390, 3104,    299.5,   4.5560,  34.9310,2,  34.9280,2,    286.0,2,    285.3,2,     8.87,2,    16.27,2,     0.98,2,   -999.0,9,   7.7190,2,    25.00
  35TH20100608, OVIDE,    78,  1,     24,2,20100627,2052, 59.4280, -37.0390, 3104,    199.2,   4.7880,  34.9310,2,  34.9270,2,    289.1,2,    285.2,2,     8.61,2,    16.20,2,     0.99,2,   -999.0,9,   7.7210,2,    25.00
  35TH20100608, OVIDE,    78,  1,     25,2,20100627,2052, 59.4280, -37.0390, 3104,    150.0,   4.8080,  34.9120,2,  34.9110,2,    299.3,2,    289.5,3,     7.96,2,    15.56,2,     0.95,2,   -999.0,9,   7.7300,2,    25.00
  35TH20100608, OVIDE,    78,  1,     26,2,20100627,2052, 59.4280, -37.0390, 3104,     99.0,   5.0020,  34.8750,2,  34.8790,2,    292.2,2,    301.3,3,     6.32,2,    14.55,2,     0.90,2,   -999.0,9,   7.7400,2,    25.00
  35TH20100608, OVIDE,    78,  1,     27,2,20100627,2052, 59.4280, -37.0390, 3104,     55.6,   6.7960,  34.8790,2,  34.8830,2,    292.9,2,    294.7,2,     5.30,2,    11.68,2,     0.77,2,   -999.0,9,   7.7780,2,    25.00
  35TH20100608, OVIDE,    78,  1,     28,2,20100627,2052, 59.4280, -37.0390, 3104,      9.3,   9.5370,  34.8000,2,  34.8040,2,    301.3,2,    298.8,2,     4.38,2,     7.05,2,     0.48,2,   -999.0,9,   7.8720,2,    25.00
  35TH20100608, OVIDE,    79,  1,      3,2,20100628,0337, 59.4910, -37.6810, 3099,   3150.7,   1.6180,  34.8890,2,  34.8880,2,    302.1,2,    299.2,2,     9.55,2,    14.05,2,     0.79,2,   2303.3,2,   7.7160,2,    25.00
  35TH20100608, OVIDE,    79,  1,      4,2,20100628,0337, 59.4910, -37.6810, 3099,   3098.0,   2.0800,  34.8960,2,  34.8950,2,    297.1,2,    296.3,2,     9.76,2,    15.02,2,     0.85,2,   2305.5,2,   7.7190,2,    25.00
  35TH20100608, OVIDE,    79,  1,      5,2,20100628,0337, 59.4910, -37.6810, 3099,   3050.4,   2.2870,  34.9030,2,  34.9010,2,    292.6,2,    291.4,2,    10.69,2,    15.46,2,     0.86,2,   2305.5,2,   7.7280,2,    25.00
  35TH20100608, OVIDE,    79,  1,      6,2,20100628,0337, 59.4910, -37.6810, 3099,   2749.8,   2.8150,  34.9290,2,  34.9290,2,    280.4,2,    279.1,2,    13.06,2,    16.89,2,     0.97,2,   2308.7,2,   7.7290,2,    25.00
  35TH20100608, OVIDE,    79,  1,      7,2,20100628,0337, 59.4910, -37.6810, 3099,   2499.1,   2.9690,  34.9310,2,  34.9310,2,    279.0,2,    281.2,2,    12.82,2,    17.16,2,     0.97,2,   2307.6,2,   7.7310,2,    25.00
  35TH20100608, OVIDE,    79,  1,      8,2,20100628,0337, 59.4910, -37.6810, 3099,   2249.1,   3.0970,  34.9270,2,  34.9270,2,    279.2,2,    278.8,2,    12.11,2,    16.99,2,     0.96,2,   2307.6,2,   7.7250,2,    25.00
  35TH20100608, OVIDE,    79,  1,      9,2,20100628,0337, 59.4910, -37.6810, 3099,   1999.7,   3.2880,  34.9310,2,  34.9320,2,    278.7,2,    279.5,2,    11.48,2,    17.31,2,     0.98,2,   2306.7,2,   7.7220,2,    25.00
  35TH20100608, OVIDE,    79,  1,     10,2,20100628,0337, 59.4910, -37.6810, 3099,   1800.1,   3.3370,  34.9190,2,  34.9200,2,    278.7,2,    280.3,2,    11.13,2,    17.47,2,     0.98,2,   -999.0,9,   7.7240,2,    25.00
  35TH20100608, OVIDE,    79,  1,     11,2,20100628,0337, 59.4910, -37.6810, 3099,   1599.9,   3.4960,  34.9210,2,  34.9220,2,    276.7,2,    277.2,2,    10.95,2,    17.39,2,     0.98,2,   2306.2,2,   7.7260,2,    25.00
  35TH20100608, OVIDE,    79,  1,     12,2,20100628,0337, 59.4910, -37.6810, 3099,   1399.8,   3.6250,  34.9220,2,  34.9230,2,    275.8,2,    277.2,2,    10.78,2,    17.29,2,     1.03,2,   2307.6,2,   7.7180,2,    25.00
  35TH20100608, OVIDE,    79,  1,     13,2,20100628,0337, 59.4910, -37.6810, 3099,   1190.9,   3.6440,  34.9030,2,  34.9030,2,    280.2,2,    280.0,2,    10.23,2,    17.68,2,     1.01,2,   2303.0,2,   7.7110,2,    25.00
  35TH20100608, OVIDE,    79,  1,     14,2,20100628,0337, 59.4910, -37.6810, 3099,    999.8,   3.6250,  34.8820,2,  34.8730,3,    285.6,2,    289.0,2,     9.59,2,    17.29,2,     0.98,2,   2301.3,2,   7.7140,2,    25.00
  35TH20100608, OVIDE,    79,  1,     15,2,20100628,0337, 59.4910, -37.6810, 3099,    898.4,   3.6490,  34.8780,2,  34.8790,2,    286.4,2,    286.6,2,     9.48,2,    17.35,2,     0.98,2,   2302.0,2,   7.7120,2,    25.00
  35TH20100608, OVIDE,    79,  1,     16,2,20100628,0337, 59.4910, -37.6810, 3099,    799.5,   3.7580,  34.8870,2,  34.8880,2,    285.5,2,    285.5,2,     9.45,2,    17.56,2,     1.00,2,   2301.8,2,   7.7130,2,    25.00
  35TH20100608, OVIDE,    79,  1,     17,2,20100628,0337, 59.4910, -37.6810, 3099,    699.3,   3.8550,  34.8930,2,  34.8940,2,    286.7,2,    287.4,2,     9.34,2,    17.56,2,     1.00,2,   2302.1,2,   7.7130,2,    25.00
  35TH20100608, OVIDE,    79,  1,     18,2,20100628,0337, 59.4910, -37.6810, 3099,    600.0,   3.9910,  34.9040,2,  34.9050,2,    283.5,2,    285.8,2,     9.34,2,    17.29,2,     0.99,2,   2303.0,2,   7.7130,2,    25.00
  35TH20100608, OVIDE,    79,  1,     19,2,20100628,0337, 59.4910, -37.6810, 3099,    497.9,   4.1180,  34.9130,2,  34.9130,2,    281.6,2,    282.8,2,     9.36,2,    17.68,2,     1.02,2,   2303.1,2,   7.7110,2,    25.00
  35TH20100608, OVIDE,    79,  1,     20,2,20100628,0337, 59.4910, -37.6810, 3099,    398.7,   4.2680,  34.9200,2,  34.9200,2,    280.3,2,    279.0,2,     9.45,2,    17.85,2,     1.02,2,   2304.3,2,   7.7120,2,    25.00
  35TH20100608, OVIDE,    79,  1,     21,2,20100628,0337, 59.4910, -37.6810, 3099,    299.1,   4.4490,  34.9230,2,  34.9220,2,    284.2,2,    286.6,2,     9.02,2,    17.42,2,     1.01,2,   2303.6,2,   7.7160,2,    25.00
  35TH20100608, OVIDE,    79,  1,     22,2,20100628,0337, 59.4910, -37.6810, 3099,    199.1,   4.5600,  34.9080,2,  34.9090,2,    290.9,2,    295.4,2,     8.24,2,    16.80,2,     0.98,2,   2302.1,2,   7.7270,2,    25.00
  35TH20100608, OVIDE,    79,  1,     23,2,20100628,0337, 59.4910, -37.6810, 3099,    149.1,   4.6900,  34.9000,2,  34.9020,2,    301.3,2,    295.5,2,     7.67,2,    16.37,2,     0.97,2,   2302.9,2,   7.7280,2,    25.00
  35TH20100608, OVIDE,    79,  1,     24,2,20100628,0337, 59.4910, -37.6810, 3099,    148.6,   4.6930,  34.8990,2,  34.9010,2,    301.5,2,    294.5,3,     7.69,2,    16.64,2,     0.98,2,   -999.0,9,-999.0000,9,    25.00
  35TH20100608, OVIDE,    79,  1,     25,2,20100628,0337, 59.4910, -37.6810, 3099,     98.7,   5.0430,  34.8960,2,  34.8960,2,    304.4,2,    302.8,2,     5.84,2,    15.23,2,     0.92,2,   2303.8,2,   7.7470,2,    25.00
  35TH20100608, OVIDE,    79,  1,     26,2,20100628,0337, 59.4910, -37.6810, 3099,     49.0,   7.2590,  34.7970,2,  34.8150,3,    297.6,2,    297.6,2,     4.52,2,    10.67,2,     0.76,2,   -999.0,9,   7.7930,2,    25.00
  35TH20100608, OVIDE,    79,  1,     27,2,20100628,0337, 59.4910, -37.6810, 3099,      5.4,   9.2840,  34.7370,2,  34.7380,2,    304.2,2,    300.5,2,     3.67,2,     6.73,2,     0.47,2,   2298.1,2,   7.8750,2,    25.00
  35TH20100608, OVIDE,    80,  1,      3,2,20100628,0900, 59.5570, -38.3160, 3029,   3077.8,   1.5270,  34.8890,2,  34.8870,2,    303.8,2,    301.4,2,     9.12,2,    13.98,2,     0.82,2,   -999.0,9,-999.0000,9,    25.00
  35TH20100608, OVIDE,    80,  1,      4,2,20100628,0900, 59.5570, -38.3160, 3029,   3077.7,   1.5280,  34.8900,2,  34.8870,2,    303.8,2,    303.0,2,     9.00,2,    14.04,2,     0.81,2,   -999.0,9,   7.7140,2,    25.00
  35TH20100608, OVIDE,    80,  1,      5,2,20100628,0900, 59.5570, -38.3160, 3029,   3030.0,   2.1270,  34.8960,2,  34.8930,2,    296.9,2,    293.4,2,     9.57,2,    14.87,2,     0.87,2,   -999.0,9,   7.7200,2,    25.00
  35TH20100608, OVIDE,    80,  1,      6,2,20100628,0900, 59.5570, -38.3160, 3029,   2946.5,   2.5130,  34.9130,2,  34.9120,2,    286.8,2,    284.5,2,    12.03,2,    15.92,2,     0.92,2,   -999.0,9,   7.7240,2,    25.00
  35TH20100608, OVIDE,    80,  1,      7,2,20100628,0900, 59.5570, -38.3160, 3029,   2749.6,   2.7880,  34.9310,2,  34.9290,2,    279.7,2,    278.0,2,    13.54,2,    16.93,2,     0.96,2,   -999.0,9,   7.7270,2,    25.00
  35TH20100608, OVIDE,    80,  1,      8,2,20100628,0900, 59.5570, -38.3160, 3029,   2499.7,   2.9160,  34.9310,2,  34.9300,2,    279.1,2,    277.9,2,    12.95,2,    17.07,2,     0.96,2,   -999.0,9,   7.7260,2,    25.00
  35TH20100608, OVIDE,    80,  1,      9,2,20100628,0900, 59.5570, -38.3160, 3029,   2250.0,   3.0570,  34.9310,2,  34.9310,2,    278.6,2,    276.1,2,    12.46,2,    17.01,2,     0.98,2,   -999.0,9,   7.7250,2,    25.00
  35TH20100608, OVIDE,    80,  1,     10,2,20100628,0900, 59.5570, -38.3160, 3029,   2000.1,   3.1730,  34.9250,2,  34.9250,2,    279.4,2,    277.0,2,    11.64,2,    16.94,2,     0.98,2,   -999.0,9,   7.7230,2,    25.00
  35TH20100608, OVIDE,    80,  1,     11,2,20100628,0900, 59.5570, -38.3160, 3029,   1796.5,   3.3950,  34.9430,2,  34.9420,2,    276.9,2,    274.9,2,    11.26,2,    17.17,2,     0.98,2,   -999.0,9,   7.7190,2,    25.00
  35TH20100608, OVIDE,    80,  1,     12,2,20100628,0900, 59.5570, -38.3160, 3029,   1598.8,   3.4680,  34.9300,2,  34.9290,2,    277.3,2,    274.7,2,    11.03,2,    17.04,2,     0.98,2,   -999.0,9,   7.7220,2,    25.00
  35TH20100608, OVIDE,    80,  1,     13,2,20100628,0900, 59.5570, -38.3160, 3029,   1400.1,   3.5470,  34.9190,2,  34.9170,2,    275.9,2,    275.1,2,    10.82,2,    17.37,2,     1.01,2,   -999.0,9,   7.7200,2,    25.00
  35TH20100608, OVIDE,    80,  1,     14,2,20100628,0900, 59.5570, -38.3160, 3029,   1199.6,   3.6410,  34.9050,2,  34.9050,2,    278.9,2,    276.7,2,    10.31,2,    17.34,2,     1.00,2,   -999.0,9,   7.7150,2,    25.00
  35TH20100608, OVIDE,    80,  1,     15,2,20100628,0900, 59.5570, -38.3160, 3029,   1001.5,   3.6200,  34.8810,2,  34.8800,2,    286.1,2,    283.5,2,     9.59,2,    16.89,2,     0.99,2,   -999.0,9,   7.7110,2,    25.00
  35TH20100608, OVIDE,    80,  1,     16,2,20100628,0900, 59.5570, -38.3160, 3029,    898.8,   3.6710,  34.8810,2,  34.8790,2,    287.1,2,    285.3,2,     9.48,2,    17.23,2,     1.00,2,   -999.0,9,   7.7140,2,    25.00
  35TH20100608, OVIDE,    80,  1,     17,2,20100628,0900, 59.5570, -38.3160, 3029,    799.7,   3.7170,  34.8790,2,  34.8730,3,    288.8,2,    287.5,2,     9.24,2,    17.13,2,     0.99,2,   -999.0,9,   7.7100,2,    25.00
  35TH20100608, OVIDE,    80,  1,     18,2,20100628,0900, 59.5570, -38.3160, 3029,    698.3,   3.8560,  34.8900,2,  34.8890,2,    291.6,2,    288.4,2,     9.00,2,    17.26,2,     1.00,2,   -999.0,9,   7.7170,2,    25.00
  35TH20100608, OVIDE,    80,  1,     19,2,20100628,0900, 59.5570, -38.3160, 3029,    599.2,   3.9800,  34.9070,2,  34.8980,3,    289.0,2,    286.1,2,     9.09,2,    17.60,2,     1.00,2,   -999.0,9,   7.7110,2,    25.00
  35TH20100608, OVIDE,    80,  1,     20,2,20100628,0900, 59.5570, -38.3160, 3029,    499.5,   4.1580,  34.9120,2,  34.9100,2,    284.1,2,    282.9,2,     9.27,2,    17.71,2,     1.02,2,   -999.0,9,   7.7100,2,    25.00
  35TH20100608, OVIDE,    80,  1,     21,2,20100628,0900, 59.5570, -38.3160, 3029,    400.0,   4.5150,  34.9410,2,  34.9390,2,    284.8,2,    284.5,2,     8.88,2,    17.22,2,     1.01,2,   -999.0,9,   7.7190,2,    25.00
  35TH20100608, OVIDE,    80,  1,     22,2,20100628,0900, 59.5570, -38.3160, 3029,    300.8,   4.6840,  34.9440,2,  34.9380,3,    284.7,2,    284.4,2,     8.78,2,    17.17,2,     1.02,2,   -999.0,9,   7.7200,2,    25.00
  35TH20100608, OVIDE,    80,  1,     23,2,20100628,0900, 59.5570, -38.3160, 3029,    198.8,   5.0920,  34.9530,2,  34.9340,3,    285.2,2,    283.3,2,     8.14,2,    16.75,2,     1.00,2,   -999.0,9,   7.7260,2,    25.00
  35TH20100608, OVIDE,    80,  1,     24,2,20100628,0900, 59.5570, -38.3160, 3029,    150.1,   5.2060,  34.9330,2,  34.9300,2,    291.9,2,    290.7,2,     7.04,2,    16.04,2,     0.97,2,   -999.0,9,   7.7360,2,    25.00
  35TH20100608, OVIDE,    80,  1,     25,2,20100628,0900, 59.5570, -38.3160, 3029,    100.0,   5.5800,  34.9370,2,  34.9360,2,    287.5,2,    289.2,2,     6.46,2,    15.45,2,     0.94,2,   -999.0,9,   7.7430,2,    25.00
  35TH20100608, OVIDE,    80,  1,     26,2,20100628,0900, 59.5570, -38.3160, 3029,     53.9,   6.6470,  34.8830,2,  34.8310,3,    293.8,2,    295.5,2,     4.89,2,    12.21,2,     0.82,2,   -999.0,9,   7.7710,2,    25.00
  35TH20100608, OVIDE,    80,  1,     27,2,20100628,0900, 59.5570, -38.3160, 3029,      7.8,   9.2590,  34.7370,2,  34.7350,2,    300.2,2,    298.4,2,     3.47,2,     6.40,2,     0.48,2,   -999.0,9,   7.8670,2,    25.00