BOTTLE,20140929PRINUNIVRMK
EXPOCODE,SECT_ID,STNNBR,CASTNO,BTLNBR,BTLNBR_FLAG_W,DATE,TIME,LATITUDE,LONGITUDE,DEPTH,CTDPRS,CTDTMP,CTDSAL,CTDSAL_FLAG_W,SALNTY,SALNTY_FLAG_W,CTDOXY,CTDOXY_FLAG_W,OXYGEN,OXYGEN_FLAG_W,SILCAT,SILCAT_FLAG_W,NITRAT,NITRAT_FLAG_W,PHSPHT,PHSPHT_FLAG_W,ALKALI,ALKALI_FLAG_W,PH_SWS,PH_SWS_FLAG_W,PH_TMP
,,,,,,,,,,METERS,DBAR,ITS-90,PSS-78,,PSS-78,,UMOL/KG,,UMOL/KG,,UMOL/KG,,UMOL/KG,,UMOL/KG,,UMOL/KG,,,,DEG C
  35TH20100608, OVIDE,    39,  1,      3,2,20100619,1033, 48.7860, -21.4320, 4060,   4131.8,   2.5450,  34.9090,2,  34.9090,2,    240.8,2,    240.2,2,    45.55,2,    22.58,2,     1.31,2,   2352.5,2,   7.7320,2,    25.00
  35TH20100608, OVIDE,    39,  1,      4,2,20100619,1033, 48.7860, -21.4320, 4060,   3751.0,   2.5500,  34.9140,2,  34.9140,2,    242.8,2,    242.1,2,    43.73,2,    22.20,2,     1.30,2,   2350.6,2,   7.7300,2,    25.00
  35TH20100608, OVIDE,    39,  1,      5,2,20100619,1033, 48.7860, -21.4320, 4060,   3499.4,   2.5920,  34.9210,2,  34.9230,2,    245.5,2,    246.0,2,    40.78,2,    21.84,2,     1.29,2,   2346.2,2,   7.7300,2,    25.00
  35TH20100608, OVIDE,    39,  1,      6,2,20100619,1033, 48.7860, -21.4320, 4060,   3249.8,   2.7090,  34.9340,2,  34.9350,2,    252.2,2,    252.4,2,    34.48,2,    20.60,2,     1.22,2,   2335.8,2,   7.7270,2,    25.00
  35TH20100608, OVIDE,    39,  1,      7,2,20100619,1033, 48.7860, -21.4320, 4060,   2997.2,   2.8170,  34.9410,2,  34.9420,2,    258.2,2,    259.3,2,    28.98,2,    19.50,2,     1.15,2,   2330.6,2,   7.7290,2,    25.00
  35TH20100608, OVIDE,    39,  1,      8,2,20100619,1033, 48.7860, -21.4320, 4060,   2750.9,   2.9700,  34.9420,2,  34.9440,2,    264.5,2,    265.1,2,    23.36,2,    18.67,2,     1.07,2,   2322.1,2,   7.7240,2,    25.00
  35TH20100608, OVIDE,    39,  1,      9,2,20100619,1033, 48.7860, -21.4320, 4060,   2500.7,   3.1040,  34.9300,2,  34.9320,2,    272.7,2,    270.9,2,    15.82,2,    17.82,2,     1.03,2,   2313.7,2,   7.7270,2,    25.00
  35TH20100608, OVIDE,    39,  1,     10,2,20100619,1033, 48.7860, -21.4320, 4060,   2251.1,   3.2170,  34.9140,2,  34.9180,2,    277.4,2,    275.2,2,    13.24,2,    17.57,2,     0.98,2,   2307.9,2,   7.7240,2,    25.00
  35TH20100608, OVIDE,    39,  1,     11,2,20100619,1033, 48.7860, -21.4320, 4060,   2002.0,   3.3470,  34.9060,2,  34.9080,2,    278.0,2,    276.3,2,    12.15,2,    17.37,2,     1.01,2,   2306.6,2,   7.7220,2,    25.00
  35TH20100608, OVIDE,    39,  1,     12,2,20100619,1033, 48.7860, -21.4320, 4060,   1799.5,   3.4980,  34.9080,2,  34.9080,2,    275.9,2,    276.0,2,    11.72,2,    17.72,2,     1.00,2,   2304.8,2,   7.7210,2,    25.00
  35TH20100608, OVIDE,    39,  1,     13,2,20100619,1033, 48.7860, -21.4320, 4060,   1800.1,   3.4980,  34.9080,2,  34.9100,2,    276.0,2,    276.1,2,    11.73,2,    17.58,2,     1.03,2,   -999.0,9,-999.0000,9,    25.00
  35TH20100608, OVIDE,    39,  1,     14,2,20100619,1033, 48.7860, -21.4320, 4060,   1599.0,   3.6630,  34.9120,2,  34.9130,2,    274.9,2,    273.7,2,    11.27,2,    17.87,2,     1.03,2,   2304.2,2,   7.7150,2,    25.00
  35TH20100608, OVIDE,    39,  1,     15,2,20100619,1033, 48.7860, -21.4320, 4060,   1400.5,   3.8460,  34.9170,2,  34.9200,2,    271.9,2,    271.1,2,    10.79,2,    17.54,2,     1.02,2,   2304.7,2,   7.7130,2,    25.00
  35TH20100608, OVIDE,    39,  1,     16,2,20100619,1033, 48.7860, -21.4320, 4060,   1201.0,   4.2000,  34.9460,2,  34.9480,2,    264.2,2,    268.3,2,    10.55,2,    17.74,2,     1.04,2,   2306.8,2,   7.7110,2,    25.00
  35TH20100608, OVIDE,    39,  1,     17,2,20100619,1033, 48.7860, -21.4320, 4060,   1000.7,   5.2000,  35.0640,2,  35.0710,3,    241.3,2,    246.3,2,    10.84,2,    18.41,2,     1.06,2,   2315.0,2,   7.7120,2,    25.00
  35TH20100608, OVIDE,    39,  1,     18,2,20100619,1033, 48.7860, -21.4320, 4060,    898.8,   5.9140,  35.1440,2,  35.1420,2,    231.9,2,    232.3,2,    10.86,2,    18.29,2,     1.01,2,   2320.1,2,   7.7120,2,    25.00
  35TH20100608, OVIDE,    39,  1,     19,2,20100619,1033, 48.7860, -21.4320, 4060,    799.8,   6.5150,  35.1840,2,  35.1860,2,    219.9,2,    222.2,2,    10.86,2,    18.72,2,     1.06,2,   2322.5,2,   7.7130,2,    25.00
  35TH20100608, OVIDE,    39,  1,     20,2,20100619,1033, 48.7860, -21.4320, 4060,    699.9,   6.9390,  35.1770,2,  35.1800,2,    204.1,2,    213.7,3,    10.84,2,    18.93,2,     1.08,2,   2321.8,2,   7.7120,2,    25.00
  35TH20100608, OVIDE,    39,  1,     21,2,20100619,1033, 48.7860, -21.4320, 4060,    646.9,   7.8830,  35.3040,2,  35.3040,2,    197.3,2,    201.2,2,    10.63,2,    19.24,2,     1.09,2,   -999.0,9,   7.7230,2,    25.00
  35TH20100608, OVIDE,    39,  1,     22,2,20100619,1033, 48.7860, -21.4320, 4060,    598.4,   7.7170,  35.1910,2,  35.1920,2,    196.8,2,    203.5,2,    10.70,2,    19.45,2,     1.04,2,   2323.3,2,   7.7130,2,    25.00
  35TH20100608, OVIDE,    39,  1,     23,2,20100619,1033, 48.7860, -21.4320, 4060,    500.2,   8.6820,  35.2190,2,  35.2210,2,    197.2,2,    198.7,2,     9.84,2,    18.72,2,     1.06,2,   2323.2,2,   7.7250,2,    25.00
  35TH20100608, OVIDE,    39,  1,     24,2,20100619,1033, 48.7860, -21.4320, 4060,    399.6,   9.6220,  35.2750,2,  35.2870,3,    205.2,2,    215.5,3,     7.59,2,    15.85,2,     0.90,2,   2324.6,2,   7.7650,2,    25.00
  35TH20100608, OVIDE,    39,  1,     25,2,20100619,1033, 48.7860, -21.4320, 4060,    299.8,  10.6410,  35.4260,2,  35.4280,2,    239.7,2,    252.5,3,     4.82,2,    11.21,2,     0.63,2,   2333.0,2,   7.8250,2,    25.00
  35TH20100608, OVIDE,    39,  1,     26,2,20100619,1033, 48.7860, -21.4320, 4060,    200.9,  10.7090,  35.4030,2,  35.4010,2,    252.6,2,    251.3,2,     4.46,2,    11.31,2,     0.63,2,   2332.3,2,   7.8380,2,    25.00
  35TH20100608, OVIDE,    39,  1,     27,2,20100619,1033, 48.7860, -21.4320, 4060,     99.1,  11.4700,  35.5240,2,  35.5230,2,    249.3,2,    251.2,2,     4.03,2,    10.31,2,     0.54,2,   2338.0,2,   7.8470,2,    25.00
  35TH20100608, OVIDE,    39,  1,     28,2,20100619,1033, 48.7860, -21.4320, 4060,     50.2,  12.1280,  35.5340,2,  35.5350,2,    259.1,2,    253.6,2,     2.55,2,     8.24,2,     0.45,2,   -999.0,9,   7.8700,2,    25.00
  35TH20100608, OVIDE,    39,  1,     29,2,20100619,1033, 48.7860, -21.4320, 4060,      5.6,  17.3500,  35.5420,2,  35.5470,3,    267.5,2,    259.6,2,     0.65,2,     0.15,2,     0.06,2,   2341.9,2,   8.0060,2,    25.00
  35TH20100608, OVIDE,    40,  1,      3,2,20100619,1709, 49.1590, -21.7260, 4330,   4409.3,   2.5390,  34.9060,2,  34.9050,2,    240.0,2,    240.7,2,    47.09,2,    22.39,2,     1.34,2,   -999.0,9,   7.7280,2,    25.00
  35TH20100608, OVIDE,    40,  1,      4,2,20100619,1709, 49.1590, -21.7260, 4330,   4000.4,   2.5390,  34.9110,2,  34.9090,2,    241.3,2,    243.1,2,    45.70,2,    22.10,2,     1.32,2,   -999.0,9,   7.7290,2,    25.00
  35TH20100608, OVIDE,    40,  1,      5,2,20100619,1709, 49.1590, -21.7260, 4330,   3752.4,   2.5600,  34.9160,2,  34.9140,2,    243.0,2,    243.2,2,    43.88,2,    22.02,2,     1.30,2,   -999.0,9,   7.7270,2,    25.00
  35TH20100608, OVIDE,    40,  1,      6,2,20100619,1709, 49.1590, -21.7260, 4330,   3499.8,   2.6280,  34.9250,2,  34.9220,2,    247.7,2,    248.3,2,    39.89,2,    21.09,2,     1.24,2,   -999.0,9,   7.7290,2,    25.00
  35TH20100608, OVIDE,    40,  1,      7,2,20100619,1709, 49.1590, -21.7260, 4330,   3249.8,   2.7400,  34.9360,2,  34.9340,2,    254.7,2,    254.8,2,    33.68,2,    20.16,2,     1.16,2,   -999.0,9,   7.7270,2,    25.00
  35TH20100608, OVIDE,    40,  1,      8,2,20100619,1709, 49.1590, -21.7260, 4330,   3000.0,   2.8920,  34.9420,2,  34.9410,2,    261.8,2,    262.4,2,    26.85,2,    18.71,2,     1.09,2,   -999.0,9,   7.7260,2,    25.00
  35TH20100608, OVIDE,    40,  1,      9,2,20100619,1709, 49.1590, -21.7260, 4330,   2750.2,   3.0140,  34.9380,2,  34.9370,2,    269.1,2,    269.3,2,    18.36,2,    18.14,2,     1.11,2,   -999.0,9,   7.7240,2,    25.00
  35TH20100608, OVIDE,    40,  1,     10,2,20100619,1709, 49.1590, -21.7260, 4330,   2498.1,   3.1380,  34.9240,2,  34.9240,2,    275.6,2,    272.7,2,    14.82,2,    17.50,2,     1.00,2,   -999.0,9,   7.7230,2,    25.00
  35TH20100608, OVIDE,    40,  1,     11,2,20100619,1709, 49.1590, -21.7260, 4330,   2248.5,   3.2630,  34.9110,2,  34.9110,2,    278.1,2,    276.6,2,    12.74,2,    17.47,2,     1.00,2,   -999.0,9,   7.7240,2,    25.00
  35TH20100608, OVIDE,    40,  1,     12,2,20100619,1709, 49.1590, -21.7260, 4330,   1999.9,   3.4360,  34.9070,2,  34.9060,2,    277.1,2,    276.1,2,    11.78,2,    17.58,2,     0.99,2,   -999.0,9,   7.7160,2,    25.00
  35TH20100608, OVIDE,    40,  1,     13,2,20100619,1709, 49.1590, -21.7260, 4330,   1799.8,   3.5630,  34.9080,2,  34.9080,2,    275.6,2,    274.9,2,    11.25,2,    17.54,2,     1.01,2,   -999.0,9,   7.7170,2,    25.00
  35TH20100608, OVIDE,    40,  1,     14,2,20100619,1709, 49.1590, -21.7260, 4330,   1598.2,   3.7450,  34.9130,2,  34.9130,2,    273.9,2,    274.7,2,    11.01,2,    17.83,2,     0.99,2,   -999.0,9,   7.7140,2,    25.00
  35TH20100608, OVIDE,    40,  1,     15,2,20100619,1709, 49.1590, -21.7260, 4330,   1398.4,   4.0340,  34.9360,2,  34.9380,2,    268.5,2,    268.5,2,    10.96,2,    17.68,2,     0.99,2,   -999.0,9,   7.7110,2,    25.00
  35TH20100608, OVIDE,    40,  1,     16,2,20100619,1709, 49.1590, -21.7260, 4330,   1198.7,   4.5510,  34.9880,2,  34.9890,2,    257.4,2,    259.4,2,    10.90,2,    18.32,2,     1.02,2,   -999.0,9,   7.7080,2,    25.00
  35TH20100608, OVIDE,    40,  1,     17,2,20100619,1709, 49.1590, -21.7260, 4330,    999.0,   5.7930,  35.1480,2,  35.1450,2,    231.7,2,    237.6,2,    11.10,2,    18.47,2,     1.05,2,   -999.0,9,   7.7120,2,    25.00
  35TH20100608, OVIDE,    40,  1,     18,2,20100619,1709, 49.1590, -21.7260, 4330,    897.6,   5.9940,  35.1280,2,  35.1230,3,    225.4,2,    234.1,3,    10.91,2,    18.86,2,     1.05,2,   -999.0,9,   7.7100,2,    25.00
  35TH20100608, OVIDE,    40,  1,     19,2,20100619,1709, 49.1590, -21.7260, 4330,    799.0,   6.8740,  35.1910,2,  35.1970,3,    213.0,2,    217.2,2,    10.75,2,    19.24,2,     1.03,2,   -999.0,9,   7.7120,2,    25.00
  35TH20100608, OVIDE,    40,  1,     20,2,20100619,1709, 49.1590, -21.7260, 4330,    698.5,   8.2770,  35.3400,2,  35.3430,2,    197.5,2,    199.9,2,    10.27,2,    19.04,2,     1.02,2,   -999.0,9,   7.7270,2,    25.00
  35TH20100608, OVIDE,    40,  1,     21,2,20100619,1709, 49.1590, -21.7260, 4330,    602.2,   8.5140,  35.2670,2,  35.2640,2,    194.2,2,    198.6,2,    10.08,2,    19.20,2,     1.03,2,   -999.0,9,   7.7240,2,    25.00
  35TH20100608, OVIDE,    40,  1,     22,2,20100619,1709, 49.1590, -21.7260, 4330,    499.5,   9.1350,  35.2700,2,  35.2600,3,    190.9,2,    196.2,2,     9.44,2,    18.72,2,     1.00,2,   -999.0,9,   7.7310,2,    25.00
  35TH20100608, OVIDE,    40,  1,     23,2,20100619,1709, 49.1590, -21.7260, 4330,    398.4,   9.3480,  35.1740,2,  35.1720,2,    216.9,2,    232.1,3,     7.03,2,    14.86,2,     0.82,2,   -999.0,9,   7.7710,2,    25.00
  35TH20100608, OVIDE,    40,  1,     24,2,20100619,1709, 49.1590, -21.7260, 4330,    299.7,  10.7290,  35.4350,2,  35.4250,3,    251.6,2,    254.5,2,     4.78,2,    11.39,2,     0.61,2,   -999.0,9,   7.8260,2,    25.00
  35TH20100608, OVIDE,    40,  1,     25,2,20100619,1709, 49.1590, -21.7260, 4330,    200.4,  10.9930,  35.4590,2,  35.4500,3,    253.8,2,    254.2,2,     4.62,2,    10.98,2,     0.60,2,   -999.0,9,   7.8330,2,    25.00
  35TH20100608, OVIDE,    40,  1,     26,2,20100619,1709, 49.1590, -21.7260, 4330,    148.9,  11.2340,  35.4850,2,  35.4800,3,    254.0,2,    252.2,2,     4.44,2,    10.83,2,     0.57,2,   -999.0,9,   7.8410,2,    25.00
  35TH20100608, OVIDE,    40,  1,     27,2,20100619,1709, 49.1590, -21.7260, 4330,    100.0,  11.7000,  35.5420,2,  35.5370,3,    256.0,2,    251.1,2,     3.97,2,    10.20,2,     0.53,2,   -999.0,9,   7.8480,2,    25.00
  35TH20100608, OVIDE,    40,  1,     28,2,20100619,1709, 49.1590, -21.7260, 4330,     54.6,  12.4800,  35.5470,2,  35.5500,2,    261.8,2,    257.7,2,     2.02,2,     6.09,2,     0.43,2,   -999.0,9,   7.8870,2,    25.00
  35TH20100608, OVIDE,    40,  1,     29,2,20100619,1709, 49.1590, -21.7260, 4330,      2.9,  17.3500,  35.5870,2,  35.5870,2,    263.0,2,    261.0,2,     0.86,2,     0.14,2,     0.06,2,   -999.0,9,   8.0020,2,    25.00
  35TH20100608, OVIDE,    41,  1,      3,2,20100619,2317, 49.5310, -22.0170, 4210,   4286.3,   2.5880,  34.9120,2,  34.9110,2,    241.2,2,    242.4,2,    45.20,2,    22.32,2,     1.32,2,   -999.0,9,-999.0000,9,    25.00
  35TH20100608, OVIDE,    41,  1,      4,2,20100619,2317, 49.5310, -22.0170, 4210,   4285.8,   2.5880,  34.9130,2,  34.9110,2,    241.2,2,    241.5,2,    44.59,2,    22.31,2,     1.32,2,   2354.1,2,   7.7290,2,    25.00
  35TH20100608, OVIDE,    41,  1,      5,2,20100619,2317, 49.5310, -22.0170, 4210,   3998.9,   2.5850,  34.9150,2,  34.9150,2,    242.7,2,    241.4,2,    43.13,2,    21.81,2,     1.28,2,   2350.2,2,   7.7300,2,    25.00
  35TH20100608, OVIDE,    41,  1,      6,2,20100619,2317, 49.5310, -22.0170, 4210,   3748.1,   2.6370,  34.9230,2,  34.9230,2,    246.6,2,    252.7,2,    39.43,2,    21.26,2,     1.23,2,   -999.0,9,   7.7280,2,    25.00
  35TH20100608, OVIDE,    41,  1,      7,2,20100619,2317, 49.5310, -22.0170, 4210,   3495.2,   2.7140,  34.9320,2,  34.9310,2,    252.6,2,    251.4,2,    35.19,2,    20.42,2,     1.18,2,   2338.3,2,   7.7290,2,    25.00
  35TH20100608, OVIDE,    41,  1,      8,2,20100619,2317, 49.5310, -22.0170, 4210,   3248.8,   2.8140,  34.9400,2,  34.9450,2,    259.2,2,    258.4,2,    29.14,2,    19.18,2,     1.10,2,   2328.7,2,   7.7260,2,    25.00
  35TH20100608, OVIDE,    41,  1,      9,2,20100619,2317, 49.5310, -22.0170, 4210,   3003.2,   2.9370,  34.9420,2,  34.9440,2,    264.1,2,    263.9,2,    23.97,2,    17.89,2,     1.02,2,   2322.1,2,   7.7260,2,    25.00
  35TH20100608, OVIDE,    41,  1,     10,2,20100619,2317, 49.5310, -22.0170, 4210,   2751.7,   3.0610,  34.9290,2,  34.9310,2,    272.9,2,    273.1,2,    16.21,2,    17.30,2,     1.01,2,   2313.0,2,   7.7290,2,    25.00
  35TH20100608, OVIDE,    41,  1,     11,2,20100619,2317, 49.5310, -22.0170, 4210,   2500.2,   3.1710,  34.9170,2,  34.9170,2,    277.3,2,    276.0,2,    13.82,2,    17.37,2,     1.01,2,   2309.0,2,   7.7260,2,    25.00
  35TH20100608, OVIDE,    41,  1,     12,2,20100619,2317, 49.5310, -22.0170, 4210,   2248.4,   3.2740,  34.9090,2,  34.9100,2,    278.2,2,    277.0,2,    12.82,2,    16.76,2,     0.96,2,   2306.6,2,   7.7270,2,    25.00
  35TH20100608, OVIDE,    41,  1,     13,2,20100619,2317, 49.5310, -22.0170, 4210,   1997.9,   3.4380,  34.9060,2,  34.9080,2,    276.6,2,    276.5,2,    12.16,2,    17.51,2,     0.98,2,   2305.3,2,   7.7200,2,    25.00
  35TH20100608, OVIDE,    41,  1,     14,2,20100619,2317, 49.5310, -22.0170, 4210,   1798.2,   3.6150,  34.9090,2,  34.9100,2,    275.3,2,    277.1,2,    11.60,2,    17.54,2,     0.98,2,   -999.0,9,   7.7170,2,    25.00
  35TH20100608, OVIDE,    41,  1,     15,2,20100619,2317, 49.5310, -22.0170, 4210,   1601.2,   3.8140,  34.9150,2,  34.9160,2,    273.8,2,    274.0,2,    11.12,2,    17.27,2,     0.96,2,   2304.1,2,   7.7140,2,    25.00
  35TH20100608, OVIDE,    41,  1,     16,2,20100619,2317, 49.5310, -22.0170, 4210,   1399.5,   3.9990,  34.9190,2,  34.9200,2,    272.3,2,    272.7,2,    10.78,2,    17.68,2,     0.99,2,   2306.2,2,   7.7120,2,    25.00
  35TH20100608, OVIDE,    41,  1,     17,2,20100619,2317, 49.5310, -22.0170, 4210,   1199.1,   4.5140,  34.9630,2,  34.9640,2,    261.4,2,    261.4,2,    10.72,2,    17.96,2,     1.00,2,   2307.0,2,   7.7080,2,    25.00
  35TH20100608, OVIDE,    41,  1,     18,2,20100619,2317, 49.5310, -22.0170, 4210,   1001.5,   5.9360,  35.1290,2,  35.1330,2,    231.7,2,    233.0,2,    11.14,2,    18.69,2,     1.04,2,   2320.1,2,   7.7120,2,    25.00
  35TH20100608, OVIDE,    41,  1,     19,2,20100619,2317, 49.5310, -22.0170, 4210,    950.9,   5.9960,  35.1100,2,  35.1090,2,    232.6,2,    231.4,2,    11.02,2,    18.79,2,     1.04,2,   2319.1,2,   7.7100,2,    25.00
  35TH20100608, OVIDE,    41,  1,     20,2,20100619,2317, 49.5310, -22.0170, 4210,    800.7,   7.2720,  35.1760,2,  35.1780,2,    210.2,2,    210.9,2,    10.94,2,    19.28,2,     1.08,2,   2323.2,2,   7.7110,2,    25.00
  35TH20100608, OVIDE,    41,  1,     21,2,20100619,2317, 49.5310, -22.0170, 4210,    653.1,   8.8110,  35.2640,2,  35.2660,2,    196.3,2,    196.8,2,     9.93,2,    18.53,2,     1.02,2,   2325.5,2,   7.7290,2,    25.00
  35TH20100608, OVIDE,    41,  1,     22,2,20100619,2317, 49.5310, -22.0170, 4210,    500.2,  10.4780,  35.3940,2,  35.3840,3,    232.9,2,    241.9,3,     5.72,2,    12.57,2,     0.67,2,   2330.6,2,   7.8090,2,    25.00
  35TH20100608, OVIDE,    41,  1,     23,2,20100619,2317, 49.5310, -22.0170, 4210,    400.1,  10.9170,  35.4680,2,  35.4650,2,    257.4,2,    258.5,2,     4.61,2,    10.22,2,     0.52,2,   2334.7,2,   7.8380,2,    25.00
  35TH20100608, OVIDE,    41,  1,     24,2,20100619,2317, 49.5310, -22.0170, 4210,    298.0,  11.0120,  35.4890,2,  35.4890,2,    258.4,2,    259.6,2,     4.51,2,    10.32,2,     0.53,2,   2335.6,2,   7.8400,2,    25.00
  35TH20100608, OVIDE,    41,  1,     25,2,20100619,2317, 49.5310, -22.0170, 4210,    201.0,  10.9650,  35.4770,2,  35.4770,2,    258.2,2,    255.9,2,     4.48,2,    10.53,2,     0.55,2,   2334.6,2,   7.8380,2,    25.00
  35TH20100608, OVIDE,    41,  1,     26,2,20100619,2317, 49.5310, -22.0170, 4210,    149.4,  10.9920,  35.4720,2,  35.4700,2,    256.3,2,    256.5,2,     4.53,2,    10.68,2,     0.54,2,   2334.2,2,   7.8370,2,    25.00
  35TH20100608, OVIDE,    41,  1,     27,2,20100619,2317, 49.5310, -22.0170, 4210,     99.7,  11.2550,  35.4940,2,  35.4900,2,    253.3,2,    253.4,2,     4.62,2,    10.66,2,     0.55,2,   2335.5,2,   7.8420,2,    25.00
  35TH20100608, OVIDE,    41,  1,     28,2,20100619,2317, 49.5310, -22.0170, 4210,     49.0,  11.8340,  35.5460,2,  35.5470,2,    265.2,2,    255.3,2,     3.48,2,     9.36,2,     0.49,2,   2337.7,2,   7.8570,2,    25.00
  35TH20100608, OVIDE,    41,  1,     29,2,20100619,2317, 49.5310, -22.0170, 4210,      3.2,  17.2380,  35.4900,2,  35.4950,3,    261.0,2,    258.7,2,     0.88,2,     0.06,2,     0.05,2,   2339.6,2,   8.0100,2,    25.00