BOTTLE,20140929PRINUNIVRMK
EXPOCODE,SECT_ID,STNNBR,CASTNO,BTLNBR,BTLNBR_FLAG_W,DATE,TIME,LATITUDE,LONGITUDE,DEPTH,CTDPRS,CTDTMP,CTDSAL,CTDSAL_FLAG_W,SALNTY,SALNTY_FLAG_W,CTDOXY,CTDOXY_FLAG_W,OXYGEN,OXYGEN_FLAG_W,SILCAT,SILCAT_FLAG_W,NITRAT,NITRAT_FLAG_W,PHSPHT,PHSPHT_FLAG_W,ALKALI,ALKALI_FLAG_W,PH_SWS,PH_SWS_FLAG_W,PH_TMP
,,,,,,,,,,METERS,DBAR,ITS-90,PSS-78,,PSS-78,,UMOL/KG,,UMOL/KG,,UMOL/KG,,UMOL/KG,,UMOL/KG,,UMOL/KG,,,,DEG C
  35TH20100608, OVIDE,    57,  1,      3,2,20100623,2017, 55.5060, -26.7110, 3218,   3269.8,   2.8150,  34.9800,2,  34.9810,2,    274.4,2,    273.6,2,    15.95,2,    15.99,2,     0.75,2,   2315.3,2,   7.7120,2,    25.00
  35TH20100608, OVIDE,    57,  1,      4,2,20100623,2017, 55.5060, -26.7110, 3218,   3243.8,   2.8150,  34.9800,2,  34.9770,2,    274.3,2,    272.6,2,    15.93,2,    16.18,2,     0.94,2,   2314.7,2,   7.7140,2,    25.00
  35TH20100608, OVIDE,    57,  1,      5,2,20100623,2017, 55.5060, -26.7110, 3218,   3150.4,   2.8220,  34.9710,2,  34.9700,2,    270.9,2,    272.6,2,    18.00,2,    16.95,2,     0.98,2,   2315.9,2,   7.7160,2,    25.00
  35TH20100608, OVIDE,    57,  1,      6,2,20100623,2017, 55.5060, -26.7110, 3218,   2998.7,   2.9100,  34.9690,2,  34.9690,2,    273.2,2,    272.2,2,    16.66,2,    16.86,2,     0.92,2,   2316.5,2,   7.7170,2,    25.00
  35TH20100608, OVIDE,    57,  1,      7,2,20100623,2017, 55.5060, -26.7110, 3218,   2750.9,   3.0140,  34.9520,2,  34.9520,2,    274.4,2,    272.5,2,    15.37,2,    16.51,2,     0.88,2,   2313.0,2,   7.7230,2,    25.00
  35TH20100608, OVIDE,    57,  1,      8,2,20100623,2017, 55.5060, -26.7110, 3218,   2499.1,   3.1110,  34.9290,2,  34.9670,3,    277.7,2,    278.3,2,    13.69,2,    16.50,2,     0.86,2,   2308.9,2,   7.7250,2,    25.00
  35TH20100608, OVIDE,    57,  1,      9,2,20100623,2017, 55.5060, -26.7110, 3218,   2250.9,   3.2390,  34.9160,2,  34.9170,2,    279.0,2,    278.6,2,    12.57,2,    17.05,2,     0.95,2,   2307.1,2,   7.7210,2,    25.00
  35TH20100608, OVIDE,    57,  1,     10,2,20100623,2017, 55.5060, -26.7110, 3218,   1999.0,   3.3850,  34.9090,2,  34.9110,2,    278.4,2,    278.1,2,    12.07,2,    17.16,2,     0.88,2,   2305.9,2,   7.7190,2,    25.00
  35TH20100608, OVIDE,    57,  1,     11,2,20100623,2017, 55.5060, -26.7110, 3218,   1798.9,   3.5240,  34.9100,2,  34.9120,2,    276.6,2,    275.5,2,    11.79,2,    17.48,2,     0.95,2,   2304.6,2,   7.7190,2,    25.00
  35TH20100608, OVIDE,    57,  1,     12,2,20100623,2017, 55.5060, -26.7110, 3218,   1599.8,   3.6590,  34.9100,2,  34.9100,2,    275.7,2,    276.2,2,    11.32,2,    17.68,2,     1.02,2,   2302.7,2,   7.7160,2,    25.00
  35TH20100608, OVIDE,    57,  1,     13,2,20100623,2017, 55.5060, -26.7110, 3218,   1400.3,   3.7810,  34.9050,2,  34.9050,2,    276.7,2,    276.2,2,    10.69,2,    16.87,2,  -999.00,9,   2304.9,2,   7.7110,2,    25.00
  35TH20100608, OVIDE,    57,  1,     14,2,20100623,2017, 55.5060, -26.7110, 3218,   1400.5,   3.7840,  34.9040,2,  34.9050,2,    276.7,2,    276.4,2,    10.74,2,    17.10,2,     0.84,2,   -999.0,9,-999.0000,9,    25.00
  35TH20100608, OVIDE,    57,  1,     15,2,20100623,2017, 55.5060, -26.7110, 3218,   1198.3,   3.9610,  34.9100,2,  34.9100,2,    273.8,2,    275.0,2,    10.53,2,    17.03,2,     0.84,3,   2306.7,2,   7.7060,2,    25.00
  35TH20100608, OVIDE,    57,  1,     16,2,20100623,2017, 55.5060, -26.7110, 3218,    998.0,   4.2600,  34.9270,2,  34.9270,2,    265.7,2,    266.5,2,    10.47,2,    17.79,2,     1.02,2,   2306.0,2,   7.7050,2,    25.00
  35TH20100608, OVIDE,    57,  1,     17,2,20100623,2017, 55.5060, -26.7110, 3218,    897.5,   4.5670,  34.9510,2,  34.9510,2,    260.0,2,    260.0,2,    10.56,2,    18.18,2,     1.03,2,   2307.4,2,   7.7010,2,    25.00
  35TH20100608, OVIDE,    57,  1,     18,2,20100623,2017, 55.5060, -26.7110, 3218,    801.9,   4.8200,  34.9570,2,  34.9550,2,    252.5,2,    258.6,3,    10.55,2,    18.33,2,     1.06,2,   2306.7,2,   7.7010,2,    25.00
  35TH20100608, OVIDE,    57,  1,     19,2,20100623,2017, 55.5060, -26.7110, 3218,    700.8,   5.2600,  34.9780,2,  34.9780,2,    243.1,2,    245.8,2,    10.71,2,    18.52,2,     1.08,2,   2308.4,2,   7.6980,2,    25.00
  35TH20100608, OVIDE,    57,  1,     20,2,20100623,2017, 55.5060, -26.7110, 3218,    601.0,   5.9890,  34.9870,2,  35.0150,3,    230.8,2,    233.6,2,    10.83,2,    18.86,2,     1.09,2,   2310.4,2,   7.7000,2,    25.00
  35TH20100608, OVIDE,    57,  1,     21,2,20100623,2017, 55.5060, -26.7110, 3218,    501.3,   6.8300,  35.0260,2,  35.0270,2,    219.0,2,    225.4,3,    10.41,2,    18.45,2,     0.83,3,   2310.5,2,   7.7040,2,    25.00
  35TH20100608, OVIDE,    57,  1,     22,2,20100623,2017, 55.5060, -26.7110, 3218,    401.4,   8.0820,  35.1080,2,  35.1060,2,    232.5,2,    224.9,3,     8.92,2,    17.31,2,     0.96,2,   2315.3,2,   7.7330,2,    25.00
  35TH20100608, OVIDE,    57,  1,     23,2,20100623,2017, 55.5060, -26.7110, 3218,    299.2,   8.8520,  35.1810,2,  35.1870,3,    269.7,2,    267.4,2,     5.73,2,    12.97,2,     0.75,2,   2317.0,2,   7.7930,2,    25.00
  35TH20100608, OVIDE,    57,  1,     24,2,20100623,2017, 55.5060, -26.7110, 3218,    200.0,   8.9110,  35.1780,2,  35.1720,3,    268.8,2,    270.6,2,     5.51,2,    12.68,2,     0.71,2,   2316.9,2,   7.7940,2,    25.00
  35TH20100608, OVIDE,    57,  1,     25,2,20100623,2017, 55.5060, -26.7110, 3218,    150.0,   9.1100,  35.2020,2,  35.2000,2,    265.5,2,    266.3,2,     5.47,2,    12.50,2,     0.69,2,   2319.2,2,   7.7980,2,    25.00
  35TH20100608, OVIDE,    57,  1,     26,2,20100623,2017, 55.5060, -26.7110, 3218,    100.3,   8.7570,  35.0840,2,  35.0930,3,    267.5,2,    268.4,2,     5.48,2,    12.50,2,     0.72,2,   2313.7,2,   7.7920,2,    25.00
  35TH20100608, OVIDE,    57,  1,     27,2,20100623,2017, 55.5060, -26.7110, 3218,     53.5,   8.9750,  35.0510,2,  35.0570,3,    268.6,2,    270.0,2,     4.84,2,    12.25,2,     0.66,2,   -999.0,9,   7.8000,2,    25.00
  35TH20100608, OVIDE,    57,  1,     28,2,20100623,2017, 55.5060, -26.7110, 3218,     11.5,  12.1640,  35.0050,2,  35.0060,2,    283.4,2,    280.3,2,     1.23,2,     2.78,2,     0.20,2,   2314.5,2,   7.9200,2,    25.00
  35TH20100608, OVIDE,    58,  1,      3,2,20100624,0218, 55.8830, -26.9990, 2873,   2917.5,   2.8050,  34.9780,2,  34.9790,2,    274.3,2,    272.1,2,    15.59,2,    16.02,2,     0.91,2,   -999.0,9,   7.7150,2,    25.00
  35TH20100608, OVIDE,    58,  1,      4,2,20100624,0218, 55.8830, -26.9990, 2873,   2862.5,   2.8350,  34.9740,2,  34.9760,2,    273.0,2,    272.2,2,    16.06,2,    16.27,2,     0.96,2,   -999.0,9,   7.7150,2,    25.00
  35TH20100608, OVIDE,    58,  1,      5,2,20100624,0218, 55.8830, -26.9990, 2873,   2816.7,   2.8700,  34.9710,2,  34.9720,2,    272.7,2,    274.1,2,    16.02,2,    14.88,2,     0.77,2,   -999.0,9,   7.7170,2,    25.00
  35TH20100608, OVIDE,    58,  1,      6,2,20100624,0218, 55.8830, -26.9990, 2873,   2816.5,   2.8700,  34.9710,2,  34.9730,2,    272.7,2,    275.0,2,    16.32,2,    17.35,2,     0.98,2,   -999.0,9,-999.0000,9,    25.00
  35TH20100608, OVIDE,    58,  1,      7,2,20100624,0218, 55.8830, -26.9990, 2873,   2749.8,   2.8930,  34.9690,2,  34.9710,2,    272.3,2,    272.3,2,    16.36,2,    17.07,2,     0.98,2,   -999.0,9,   7.7210,2,    25.00
  35TH20100608, OVIDE,    58,  1,      8,2,20100624,0218, 55.8830, -26.9990, 2873,   2499.3,   3.0830,  34.9530,2,  34.9570,2,    275.4,2,    274.6,2,    14.38,2,    16.83,2,     0.95,2,   -999.0,9,   7.7260,2,    25.00
  35TH20100608, OVIDE,    58,  1,      9,2,20100624,0218, 55.8830, -26.9990, 2873,   2247.9,   3.2310,  34.9270,2,  34.9300,2,    278.7,2,    277.6,2,    12.41,2,    16.80,2,     0.96,2,   -999.0,9,   7.7230,2,    25.00
  35TH20100608, OVIDE,    58,  1,     10,2,20100624,0218, 55.8830, -26.9990, 2873,   1999.1,   3.3600,  34.9130,2,-999.0000,9,    278.9,2,    277.8,2,    11.86,2,    16.52,2,     0.96,2,   -999.0,9,   7.7220,2,    25.00
  35TH20100608, OVIDE,    58,  1,     11,2,20100624,0218, 55.8830, -26.9990, 2873,   1797.8,   3.5040,  34.9100,2,  34.9120,2,    277.1,2,    276.0,2,    11.51,2,    15.92,2,     0.91,2,   -999.0,9,   7.7200,2,    25.00
  35TH20100608, OVIDE,    58,  1,     12,2,20100624,0218, 55.8830, -26.9990, 2873,   1598.1,   3.6530,  34.9080,2,  34.9080,2,    276.2,2,    274.2,2,    11.08,2,    16.66,2,     0.93,2,   -999.0,9,   7.7160,2,    25.00
  35TH20100608, OVIDE,    58,  1,     13,2,20100624,0218, 55.8830, -26.9990, 2873,   1399.2,   3.7450,  34.9040,2,  34.9050,2,    277.0,2,    278.6,2,    10.72,2,    17.16,2,     0.99,2,   -999.0,9,   7.7160,2,    25.00
  35TH20100608, OVIDE,    58,  1,     14,2,20100624,0218, 55.8830, -26.9990, 2873,   1198.2,   3.9840,  34.9160,2,  34.9170,2,    273.8,2,    272.5,2,    10.59,2,    17.06,2,     0.97,2,   -999.0,9,   7.7100,2,    25.00
  35TH20100608, OVIDE,    58,  1,     15,2,20100624,0218, 55.8830, -26.9990, 2873,    998.8,   4.2500,  34.9290,2,  34.9290,2,    268.8,2,    268.9,2,    10.36,2,    17.02,2,     0.98,2,   -999.0,9,   7.7070,2,    25.00
  35TH20100608, OVIDE,    58,  1,     16,2,20100624,0218, 55.8830, -26.9990, 2873,    899.0,   4.4200,  34.9340,2,  34.9350,2,    264.6,2,    264.7,2,    10.33,2,    17.70,2,     1.03,2,   -999.0,9,   7.7030,2,    25.00
  35TH20100608, OVIDE,    58,  1,     17,2,20100624,0218, 55.8830, -26.9990, 2873,    798.1,   4.4990,  34.9160,2,  34.9170,2,    260.6,2,    263.7,2,    10.10,2,    17.48,2,     1.01,2,   -999.0,9,   7.6970,2,    25.00
  35TH20100608, OVIDE,    58,  1,     18,2,20100624,0218, 55.8830, -26.9990, 2873,    699.5,   5.2200,  34.9820,2,  34.9840,2,    245.8,2,    247.9,2,    10.62,2,    17.14,2,     0.95,3,   -999.0,9,   7.7000,2,    25.00
  35TH20100608, OVIDE,    58,  1,     19,2,20100624,0218, 55.8830, -26.9990, 2873,    599.4,   5.8280,  35.0000,2,  35.0020,2,    233.4,2,    236.7,2,    10.68,2,    18.22,2,     1.04,2,   -999.0,9,   7.6990,2,    25.00
  35TH20100608, OVIDE,    58,  1,     20,2,20100624,0218, 55.8830, -26.9990, 2873,    499.0,   6.7390,  35.0550,2,  35.0570,2,    222.2,2,    224.0,2,    10.40,2,    18.20,2,     1.04,2,   -999.0,9,   7.7100,2,    25.00
  35TH20100608, OVIDE,    58,  1,     21,2,20100624,0218, 55.8830, -26.9990, 2873,    449.4,   6.7510,  34.9810,2,  35.0010,3,    218.5,2,    222.0,2,    10.30,2,    18.61,2,     1.08,2,   -999.0,9,   7.7040,2,    25.00
  35TH20100608, OVIDE,    58,  1,     22,2,20100624,0218, 55.8830, -26.9990, 2873,    399.6,   7.1070,  34.9810,2,  34.9790,2,    219.5,2,    219.9,2,    10.07,2,    18.22,2,     0.99,2,   -999.0,9,   7.7050,2,    25.00
  35TH20100608, OVIDE,    58,  1,     23,2,20100624,0218, 55.8830, -26.9990, 2873,    349.3,   7.3070,  34.9520,2,  34.9830,3,    228.9,2,    226.2,2,     9.25,2,    17.62,2,     1.00,2,   -999.0,9,   7.7170,2,    25.00
  35TH20100608, OVIDE,    58,  1,     24,2,20100624,0218, 55.8830, -26.9990, 2873,    299.6,   8.6400,  35.1660,2,  35.1740,3,    247.3,2,    247.8,2,     6.88,2,    14.63,2,     0.81,2,   -999.0,9,   7.7720,2,    25.00
  35TH20100608, OVIDE,    58,  1,     25,2,20100624,0218, 55.8830, -26.9990, 2873,    199.2,   8.8030,  35.1360,2,  35.1410,2,    260.8,2,    259.0,2,     6.02,2,    13.04,2,     0.73,2,   -999.0,9,   7.7870,2,    25.00
  35TH20100608, OVIDE,    58,  1,     26,2,20100624,0218, 55.8830, -26.9990, 2873,    149.6,   8.6560,  35.0700,2,  35.0780,3,    264.5,2,    265.9,2,     5.83,2,    12.66,2,     0.71,2,   -999.0,9,   7.7880,2,    25.00
  35TH20100608, OVIDE,    58,  1,     27,2,20100624,0218, 55.8830, -26.9990, 2873,     99.4,   9.0230,  35.0990,2,  35.1010,2,    265.9,2,    267.7,2,     5.30,2,    11.92,2,     0.65,2,   -999.0,9,   7.7970,2,    25.00
  35TH20100608, OVIDE,    58,  1,     28,2,20100624,0218, 55.8830, -26.9990, 2873,     49.2,  11.3030,  35.0350,2,  35.0380,2,    270.9,2,    273.2,2,     2.07,2,     4.66,2,     0.30,2,   -999.0,9,   7.8910,2,    25.00
  35TH20100608, OVIDE,    58,  1,     29,2,20100624,0218, 55.8830, -26.9990, 2873,      6.0,  12.4750,  35.0380,2,  35.0390,2,    276.8,2,    275.8,2,     1.80,2,     2.33,2,     0.19,2,   -999.0,9,   7.9210,2,    25.00
  35TH20100608, OVIDE,    59,  1,      3,2,20100624,0807, 56.2520, -27.2930, 2727,   2767.9,   2.8130,  34.9740,2,  34.9740,2,    272.3,2,    272.8,2,    17.00,2,    16.30,2,     0.98,2,   2314.3,2,   7.7170,2,    25.00
  35TH20100608, OVIDE,    59,  1,      4,2,20100624,0807, 56.2520, -27.2930, 2727,   2700.1,   2.8360,  34.9700,2,  34.9680,2,    271.8,2,    274.3,2,    16.80,2,    16.34,2,     0.96,2,   2314.9,2,   7.7150,2,    25.00
  35TH20100608, OVIDE,    59,  1,      5,2,20100624,0807, 56.2520, -27.2930, 2727,   2600.8,   2.8870,  34.9670,2,  34.9650,2,    272.3,2,    272.7,2,    16.41,2,    16.42,2,     0.98,2,   2314.5,2,   7.7170,2,    25.00
  35TH20100608, OVIDE,    59,  1,      6,2,20100624,0807, 56.2520, -27.2930, 2727,   2500.9,   2.9860,  34.9640,2,  34.9630,2,    273.9,2,    277.6,2,    15.07,2,    16.49,2,     0.98,2,   2312.9,2,   7.7170,2,    25.00
  35TH20100608, OVIDE,    59,  1,      7,2,20100624,0807, 56.2520, -27.2930, 2727,   2249.2,   3.2250,  34.9520,2,  34.9500,2,    277.5,2,    278.1,2,    12.54,2,    16.37,2,     0.96,2,   2307.9,2,   7.7200,2,    25.00
  35TH20100608, OVIDE,    59,  1,      8,2,20100624,0807, 56.2520, -27.2930, 2727,   1999.4,   3.3090,  34.9150,2,  34.9160,2,    279.2,2,    281.8,2,    11.94,2,    16.33,2,     0.93,2,   2304.6,2,   7.7220,2,    25.00
  35TH20100608, OVIDE,    59,  1,      9,2,20100624,0807, 56.2520, -27.2930, 2727,   1800.6,   3.4170,  34.9100,2,  34.9110,2,    278.0,2,    278.6,2,    11.67,2,    16.63,2,     0.97,2,   2303.9,2,   7.7210,2,    25.00
  35TH20100608, OVIDE,    59,  1,     10,2,20100624,0807, 56.2520, -27.2930, 2727,   1597.1,   3.5590,  34.9110,2,  34.9100,2,    276.3,2,    277.6,2,    11.41,2,    16.90,2,     0.99,2,   2303.4,2,   7.7130,2,    25.00
  35TH20100608, OVIDE,    59,  1,     11,2,20100624,0807, 56.2520, -27.2930, 2727,   1399.8,   3.7010,  34.9070,2,  34.9070,2,    276.2,2,    278.2,2,    10.96,2,    17.16,2,     1.00,2,   2304.5,2,   7.7110,2,    25.00
  35TH20100608, OVIDE,    59,  1,     12,2,20100624,0807, 56.2520, -27.2930, 2727,   1200.8,   3.8310,  34.9050,2,  34.9060,2,    275.7,2,    276.6,2,    10.58,2,    16.43,2,     0.96,2,   2302.9,2,   7.7110,2,    25.00
  35TH20100608, OVIDE,    59,  1,     13,2,20100624,0807, 56.2520, -27.2930, 2727,    999.2,   3.9700,  34.9080,2,  34.9090,2,    275.1,2,    276.4,2,    10.25,2,    16.94,2,     0.99,2,   2303.7,2,   7.7070,2,    25.00
  35TH20100608, OVIDE,    59,  1,     14,2,20100624,0807, 56.2520, -27.2930, 2727,    900.1,   4.2920,  34.9410,2,  34.9400,2,    265.2,2,    266.7,2,    10.63,2,    17.55,2,     1.02,2,   2306.9,2,   7.7040,2,    25.00
  35TH20100608, OVIDE,    59,  1,     15,2,20100624,0807, 56.2520, -27.2930, 2727,    798.8,   4.5710,  34.9620,2,  34.9600,2,    258.2,2,    260.4,2,    10.77,2,    17.70,2,     1.02,2,   2307.5,2,   7.7030,2,    25.00
  35TH20100608, OVIDE,    59,  1,     16,2,20100624,0807, 56.2520, -27.2930, 2727,    799.5,   4.5680,  34.9620,2,  34.9610,2,    258.2,2,    261.0,2,    10.86,2,    17.85,2,     1.03,2,   -999.0,9,-999.0000,9,    25.00
  35TH20100608, OVIDE,    59,  1,     17,2,20100624,0807, 56.2520, -27.2930, 2727,    702.4,   4.8250,  34.9770,2,  34.9770,2,    251.1,2,    253.2,2,    10.71,2,    17.64,2,     0.98,2,   2308.5,2,   7.6980,2,    25.00
  35TH20100608, OVIDE,    59,  1,     18,2,20100624,0807, 56.2520, -27.2930, 2727,    600.2,   5.4810,  35.0280,2,  35.0280,2,    237.1,2,    240.0,2,    10.86,2,    18.48,2,     1.06,2,   2312.5,2,   7.6990,2,    25.00
  35TH20100608, OVIDE,    59,  1,     19,2,20100624,0807, 56.2520, -27.2930, 2727,    501.6,   5.4630,  34.9560,2,  34.9560,2,    237.7,2,    243.2,3,    10.50,2,    17.96,2,     1.00,2,   2308.1,2,   7.6970,2,    25.00
  35TH20100608, OVIDE,    59,  1,     20,2,20100624,0807, 56.2520, -27.2930, 2727,    402.2,   6.0480,  34.9530,2,  34.9550,2,    228.8,2,    232.5,2,    10.55,2,    18.79,2,     1.09,2,   2308.3,2,   7.6940,2,    25.00
  35TH20100608, OVIDE,    59,  1,     21,2,20100624,0807, 56.2520, -27.2930, 2727,    299.4,   6.8230,  34.9590,2,  34.9560,2,    216.0,2,    222.4,3,    10.22,2,    18.33,2,     1.05,2,   2308.9,2,   7.6980,2,    25.00
  35TH20100608, OVIDE,    59,  1,     22,2,20100624,0807, 56.2520, -27.2930, 2727,    202.6,   7.3550,  34.9070,2,  34.9090,2,    244.2,2,    238.2,2,     8.04,2,    16.00,2,     0.93,2,   2304.2,2,   7.7290,2,    25.00
  35TH20100608, OVIDE,    59,  1,     23,2,20100624,0807, 56.2520, -27.2930, 2727,    151.9,   7.5580,  34.8720,2,  34.8760,2,    264.2,2,    263.5,2,     6.35,2,    13.27,2,     0.77,2,   2302.2,2,   7.7590,2,    25.00
  35TH20100608, OVIDE,    59,  1,     24,2,20100624,0807, 56.2520, -27.2930, 2727,    102.5,   8.1410,  34.9130,2,  34.9010,3,    271.8,2,    269.6,2,     5.59,2,    12.26,2,     0.71,2,   2304.9,2,   7.7810,2,    25.00
  35TH20100608, OVIDE,    59,  1,     25,2,20100624,0807, 56.2520, -27.2930, 2727,     54.5,  10.6360,  35.0210,2,  35.0030,3,    277.4,2,    271.7,2,     2.61,2,     6.50,2,     0.44,2,   2311.7,2,   7.8580,2,    25.00
  35TH20100608, OVIDE,    59,  1,     26,2,20100624,0807, 56.2520, -27.2930, 2727,      3.4,  12.1200,  34.9220,2,  34.9230,2,    280.3,2,    278.9,2,     1.37,2,     3.34,2,     0.25,2,   2309.9,2,   7.9120,2,    25.00