BOTTLE,20140929PRINUNIVRMK
EXPOCODE,SECT_ID,STNNBR,CASTNO,BTLNBR,BTLNBR_FLAG_W,DATE,TIME,LATITUDE,LONGITUDE,DEPTH,CTDPRS,CTDTMP,CTDSAL,CTDSAL_FLAG_W,SALNTY,SALNTY_FLAG_W,CTDOXY,CTDOXY_FLAG_W,OXYGEN,OXYGEN_FLAG_W,SILCAT,SILCAT_FLAG_W,NITRAT,NITRAT_FLAG_W,PHSPHT,PHSPHT_FLAG_W,ALKALI,ALKALI_FLAG_W,PH_SWS,PH_SWS_FLAG_W,PH_TMP
,,,,,,,,,,METERS,DBAR,ITS-90,PSS-78,,PSS-78,,UMOL/KG,,UMOL/KG,,UMOL/KG,,UMOL/KG,,UMOL/KG,,UMOL/KG,,,,DEG C
  35TH20100608, OVIDE,    24,  1,      3,2,20100615,2151, 43.4780, -16.6360, 4158,   4228.9,   2.5320,  34.9060,2,  34.9090,2,    243.9,2,    241.0,2,  -999.00,9,    22.84,2,     1.29,2,   -999.0,9,   7.7310,2,    25.00
  35TH20100608, OVIDE,    24,  1,      4,2,20100615,2151, 43.4780, -16.6360, 4158,   3997.3,   2.5770,  34.9140,2,  34.9140,2,    244.2,2,    242.0,2,    45.58,2,    22.42,2,     1.27,2,   -999.0,9,   7.7310,2,    25.00
  35TH20100608, OVIDE,    24,  1,      5,2,20100615,2151, 43.4780, -16.6360, 4158,   3745.2,   2.5990,  34.9190,2,  34.9200,2,    245.3,2,    245.5,2,    43.92,2,    22.35,2,     1.26,2,   -999.0,9,   7.7290,2,    25.00
  35TH20100608, OVIDE,    24,  1,      6,2,20100615,2151, 43.4780, -16.6360, 4158,   3500.8,   2.6590,  34.9270,2,  34.9280,2,    247.3,2,    248.0,2,    42.43,2,    21.84,2,     1.24,2,   -999.0,9,   7.7330,2,    25.00
  35TH20100608, OVIDE,    24,  1,      7,2,20100615,2151, 43.4780, -16.6360, 4158,   3250.3,   2.7410,  34.9350,2,  34.9360,2,    250.3,2,    251.9,2,    40.02,2,    21.31,2,     1.20,2,   -999.0,9,   7.7340,2,    25.00
  35TH20100608, OVIDE,    24,  1,      8,2,20100615,2151, 43.4780, -16.6360, 4158,   2998.2,   2.8740,  34.9470,2,  34.9470,2,    254.0,2,    252.4,2,    36.71,2,    20.51,2,     1.15,2,   -999.0,9,   7.7330,2,    25.00
  35TH20100608, OVIDE,    24,  1,      9,2,20100615,2151, 43.4780, -16.6360, 4158,   2750.0,   3.0530,  34.9560,2,  34.9570,2,    258.1,2,   -999.0,9,    32.60,2,    19.67,2,     1.11,2,   -999.0,9,   7.7350,2,    25.00
  35TH20100608, OVIDE,    24,  1,     10,2,20100615,2151, 43.4780, -16.6360, 4158,   2496.3,   3.3090,  34.9730,2,  34.9770,2,    261.7,2,    259.1,2,    28.18,2,    19.29,2,     1.09,2,   -999.0,9,   7.7330,2,    25.00
  35TH20100608, OVIDE,    24,  1,     11,2,20100615,2151, 43.4780, -16.6360, 4158,   2249.1,   3.5080,  34.9690,2,  34.9700,2,    265.5,2,    265.2,2,    17.18,2,    18.66,2,     1.04,2,   -999.0,9,   7.7320,2,    25.00
  35TH20100608, OVIDE,    24,  1,     12,2,20100615,2151, 43.4780, -16.6360, 4158,   1993.9,   3.8970,  34.9900,2,  34.9890,2,    265.6,2,    264.7,2,    13.57,2,    18.32,2,     1.00,2,   -999.0,9,   7.7290,2,    25.00
  35TH20100608, OVIDE,    24,  1,     13,2,20100615,2151, 43.4780, -16.6360, 4158,   1799.7,   4.0630,  34.9850,2,  34.9850,2,    263.2,2,    265.2,2,    12.34,2,    18.11,2,     0.99,2,   -999.0,9,   7.7220,2,    25.00
  35TH20100608, OVIDE,    24,  1,     14,2,20100615,2151, 43.4780, -16.6360, 4158,   1600.3,   4.4150,  35.0030,2,  35.0040,2,    261.2,2,    261.4,2,    11.32,2,    18.19,2,     0.98,2,   -999.0,9,   7.7190,2,    25.00
  35TH20100608, OVIDE,    24,  1,     15,2,20100615,2151, 43.4780, -16.6360, 4158,   1400.3,   5.2670,  35.1150,2,  35.1160,2,    243.7,2,    246.1,2,    11.18,2,    18.38,2,     0.99,2,   -999.0,9,   7.7180,2,    25.00
  35TH20100608, OVIDE,    24,  1,     16,2,20100615,2151, 43.4780, -16.6360, 4158,   1199.7,   8.2700,  35.6220,2,  35.6230,2,    204.6,2,    206.8,2,    10.68,2,    17.88,2,     0.93,2,   -999.0,9,   7.7510,2,    25.00
  35TH20100608, OVIDE,    24,  1,     17,2,20100615,2151, 43.4780, -16.6360, 4158,   1100.2,   8.8320,  35.6540,2,  35.6500,2,    193.0,2,    199.6,2,    10.23,2,    17.91,2,     0.93,2,   -999.0,9,   7.7510,2,    25.00
  35TH20100608, OVIDE,    24,  1,     18,2,20100615,2151, 43.4780, -16.6360, 4158,    997.8,   9.5500,  35.7060,2,  35.7100,2,    186.8,2,    191.6,2,     9.73,2,    17.59,2,     0.88,2,   -999.0,9,   7.7570,2,    25.00
  35TH20100608, OVIDE,    24,  1,     19,2,20100615,2151, 43.4780, -16.6360, 4158,    950.0,  10.0540,  35.7710,2,  35.7730,2,    181.6,2,    187.3,2,     9.46,2,    17.60,2,     0.89,2,   -999.0,9,   7.7650,2,    25.00
  35TH20100608, OVIDE,    24,  1,     20,2,20100615,2151, 43.4780, -16.6360, 4158,    900.0,  10.3830,  35.8060,2,  35.7960,3,    181.2,2,    186.3,2,     9.16,2,    17.40,2,     0.89,2,   -999.0,9,   7.7690,2,    25.00
  35TH20100608, OVIDE,    24,  1,     21,2,20100615,2151, 43.4780, -16.6360, 4158,    800.4,  10.6810,  35.7590,2,  35.7570,2,    184.1,2,    187.1,2,     8.54,2,    17.10,2,     0.87,2,   -999.0,9,   7.7710,2,    25.00
  35TH20100608, OVIDE,    24,  1,     22,2,20100615,2151, 43.4780, -16.6360, 4158,    699.6,  10.6190,  35.6270,2,  35.6310,2,    188.9,2,    192.6,2,     8.04,2,    16.73,2,     0.86,2,   -999.0,9,   7.7660,2,    25.00
  35TH20100608, OVIDE,    24,  1,     23,2,20100615,2151, 43.4780, -16.6360, 4158,    600.8,  11.0060,  35.5830,2,  35.5820,2,    198.5,2,    200.6,2,     6.81,2,    15.80,2,     0.82,2,   -999.0,9,   7.7760,2,    25.00
  35TH20100608, OVIDE,    24,  1,     24,2,20100615,2151, 43.4780, -16.6360, 4158,    499.9,  11.3160,  35.5810,2,  35.5750,3,    211.9,2,    212.9,2,     5.55,2,    14.08,2,     0.71,2,   -999.0,9,   7.7930,2,    25.00
  35TH20100608, OVIDE,    24,  1,     25,2,20100615,2151, 43.4780, -16.6360, 4158,    399.8,  11.7440,  35.6300,2,  35.6270,2,    228.4,2,    227.0,2,     4.21,2,    11.72,2,     0.59,2,   -999.0,9,   7.8170,2,    25.00
  35TH20100608, OVIDE,    24,  1,     26,2,20100615,2151, 43.4780, -16.6360, 4158,    299.8,  12.1740,  35.6950,2,  35.6920,2,    233.4,2,    236.6,2,     3.29,2,     9.73,2,     0.48,2,   -999.0,9,   7.8430,2,    25.00
  35TH20100608, OVIDE,    24,  1,     27,2,20100615,2151, 43.4780, -16.6360, 4158,    198.7,  12.4160,  35.7170,2,  35.7180,2,    238.4,2,    239.3,2,     3.22,2,     9.15,2,     0.44,2,   -999.0,9,   7.8540,2,    25.00
  35TH20100608, OVIDE,    24,  1,     28,2,20100615,2151, 43.4780, -16.6360, 4158,     99.2,  13.0480,  35.7910,2,  35.7920,2,    252.6,2,    249.6,2,     2.22,2,     6.92,2,     0.33,2,   -999.0,9,   7.8800,2,    25.00
  35TH20100608, OVIDE,    24,  1,     29,2,20100615,2151, 43.4780, -16.6360, 4158,     55.0,  14.7650,  35.8630,2,  35.8630,2,    263.6,2,    273.5,3,     0.80,2,     0.58,2,     0.06,2,   -999.0,9,   7.9590,2,    25.00
  35TH20100608, OVIDE,    24,  1,     30,2,20100615,2151, 43.4780, -16.6360, 4158,      5.8,  16.6630,  35.9060,2,  35.9040,2,    255.2,2,    255.2,2,     0.66,2,     0.11,2,     0.02,2,   -999.0,9,   7.9790,2,    25.00
  35TH20100608, OVIDE,    25,  1,      3,2,20100616,0318, 43.7790, -17.0310, 3994,   4064.2,   2.5700,  34.9130,2,  34.9130,2,    242.5,2,    242.3,2,    44.82,2,    22.66,2,     1.30,2,   2352.8,2,   7.7300,2,    25.00
  35TH20100608, OVIDE,    25,  1,      4,2,20100616,0318, 43.7790, -17.0310, 3994,   3995.4,   2.5620,  34.9130,2,  34.9120,2,    242.6,2,    240.9,2,    44.59,2,    22.55,2,     1.29,2,   2353.3,2,   7.7290,2,    25.00
  35TH20100608, OVIDE,    25,  1,      5,2,20100616,0318, 43.7790, -17.0310, 3994,   3749.9,   2.5810,  34.9180,2,  34.9180,2,    244.4,2,    242.7,2,    42.74,2,    22.52,2,     1.29,2,   2350.5,2,   7.7300,2,    25.00
  35TH20100608, OVIDE,    25,  1,      6,2,20100616,0318, 43.7790, -17.0310, 3994,   3498.7,   2.6150,  34.9220,2,  34.9220,2,    246.5,2,    246.0,2,    40.66,2,    22.15,2,     1.22,2,   2345.2,2,   7.7290,2,    25.00
  35TH20100608, OVIDE,    25,  1,      7,2,20100616,0318, 43.7790, -17.0310, 3994,   3249.3,   2.6940,  34.9320,2,  34.9330,2,    249.6,2,    247.6,2,    37.30,2,    21.44,2,     1.22,2,   -999.0,9,   7.7360,2,    25.00
  35TH20100608, OVIDE,    25,  1,      8,2,20100616,0318, 43.7790, -17.0310, 3994,   3000.2,   2.8350,  34.9430,2,  34.9430,2,    253.3,2,    253.9,2,    33.06,2,    20.74,2,     1.19,2,   2334.6,2,   7.7320,2,    25.00
  35TH20100608, OVIDE,    25,  1,      9,2,20100616,0318, 43.7790, -17.0310, 3994,   2998.6,   2.8350,  34.9430,2,  34.9440,2,    253.4,2,    251.3,2,    33.30,2,    20.76,2,     1.19,2,   -999.0,9,-999.0000,9,    25.00
  35TH20100608, OVIDE,    25,  1,     10,2,20100616,0318, 43.7790, -17.0310, 3994,   2748.5,   2.9890,  34.9500,2,  34.9490,2,    259.8,2,    258.3,2,    27.70,2,    19.71,2,     1.11,2,   2327.6,2,   7.7300,2,    25.00
  35TH20100608, OVIDE,    25,  1,     11,2,20100616,0318, 43.7790, -17.0310, 3994,   2499.6,   3.1860,  34.9580,2,  34.9580,2,    261.8,2,    260.9,2,    23.96,2,    19.50,2,     1.10,2,   2324.2,2,   7.7320,2,    25.00
  35TH20100608, OVIDE,    25,  1,     12,2,20100616,0318, 43.7790, -17.0310, 3994,   2249.4,   3.3490,  34.9440,2,  34.9460,2,    271.4,2,    267.4,2,    16.04,2,    18.51,2,     1.03,2,   2311.9,2,   7.7300,2,    25.00
  35TH20100608, OVIDE,    25,  1,     13,2,20100616,0318, 43.7790, -17.0310, 3994,   1998.3,   3.5650,  34.9450,2,  34.9470,2,    270.8,2,    269.6,2,    13.54,2,    18.39,2,     1.01,2,   2308.9,2,   7.7240,2,    25.00
  35TH20100608, OVIDE,    25,  1,     14,2,20100616,0318, 43.7790, -17.0310, 3994,   1799.6,   4.3230,  35.0590,2,  35.0560,2,    257.3,2,    257.8,2,    12.96,2,    18.45,2,     0.99,2,   2317.2,2,   7.7280,2,    25.00
  35TH20100608, OVIDE,    25,  1,     15,2,20100616,0318, 43.7790, -17.0310, 3994,   1600.0,   5.4040,  35.2220,2,  35.2210,2,    240.9,2,    242.0,2,    12.37,2,    19.21,2,     0.98,2,   2325.7,2,   7.7350,2,    25.00
  35TH20100608, OVIDE,    25,  1,     16,2,20100616,0318, 43.7790, -17.0310, 3994,   1399.6,   6.9400,  35.4630,2,  35.4620,2,    219.0,2,    222.6,2,    11.46,2,    18.22,2,     0.97,2,   2342.7,2,   7.7470,2,    25.00
  35TH20100608, OVIDE,    25,  1,     17,2,20100616,0318, 43.7790, -17.0310, 3994,   1200.3,   8.8670,  35.7660,2,  35.7660,2,    198.4,2,    199.7,2,    10.39,2,    17.70,2,     0.92,2,   2363.6,2,   7.7630,2,    25.00
  35TH20100608, OVIDE,    25,  1,     18,2,20100616,0318, 43.7790, -17.0310, 3994,   1049.6,   9.5510,  35.8040,2,  35.8030,2,    188.9,2,    191.7,2,     9.83,2,    17.71,2,     0.93,2,   2365.9,2,   7.7680,2,    25.00
  35TH20100608, OVIDE,    25,  1,     19,2,20100616,0318, 43.7790, -17.0310, 3994,    899.5,   9.6430,  35.6930,2,  35.6940,2,    184.1,2,    188.2,2,     9.61,2,    18.13,2,     0.95,2,   2355.9,2,   7.7560,2,    25.00
  35TH20100608, OVIDE,    25,  1,     20,2,20100616,0318, 43.7790, -17.0310, 3994,    799.4,   9.7280,  35.5580,2,  35.5570,2,    184.8,2,    187.3,2,     9.41,2,    18.37,2,     0.95,2,   2343.8,2,   7.7490,2,    25.00
  35TH20100608, OVIDE,    25,  1,     21,2,20100616,0318, 43.7790, -17.0310, 3994,    699.2,  10.3610,  35.5310,2,  35.5280,2,    187.6,2,    194.4,2,     7.99,2,    17.15,2,     0.89,2,   2339.0,2,   7.7640,2,    25.00
  35TH20100608, OVIDE,    25,  1,     22,2,20100616,0318, 43.7790, -17.0310, 3994,    599.7,  10.8290,  35.5200,2,  35.5160,2,    204.3,2,    203.5,2,     6.61,2,    15.50,2,     0.80,2,   2337.6,2,   7.7760,2,    25.00
  35TH20100608, OVIDE,    25,  1,     23,2,20100616,0318, 43.7790, -17.0310, 3994,    499.6,  11.4470,  35.5850,2,  35.5840,2,    231.4,2,    231.4,2,     4.46,2,    11.87,2,     0.61,2,   2337.9,2,   7.8200,2,    25.00
  35TH20100608, OVIDE,    25,  1,     24,2,20100616,0318, 43.7790, -17.0310, 3994,    399.3,  11.9500,  35.6620,2,  35.6590,2,    238.9,2,    242.1,2,     3.50,2,     9.81,2,     0.49,2,   2341.5,2,   7.8440,2,    25.00
  35TH20100608, OVIDE,    25,  1,     25,2,20100616,0318, 43.7790, -17.0310, 3994,    299.9,  12.1570,  35.6840,2,  35.6830,2,    241.0,2,    241.0,2,     3.34,2,     9.42,2,     0.49,2,   2342.9,2,   7.8510,2,    25.00
  35TH20100608, OVIDE,    25,  1,     26,2,20100616,0318, 43.7790, -17.0310, 3994,    199.7,  12.4790,  35.7300,2,  35.7300,2,    243.9,2,    240.7,2,     3.16,2,     8.75,2,     0.45,2,   2344.8,2,   7.8620,2,    25.00
  35TH20100608, OVIDE,    25,  1,     27,2,20100616,0318, 43.7790, -17.0310, 3994,    150.0,  12.7430,  35.7680,2,  35.7670,2,    247.2,2,    244.2,2,     2.86,2,     7.92,2,     0.41,2,   -999.0,9,   7.8700,2,    25.00
  35TH20100608, OVIDE,    25,  1,     28,2,20100616,0318, 43.7790, -17.0310, 3994,     99.0,  13.0350,  35.8080,2,  35.8030,3,    248.5,2,    245.5,2,     2.59,2,     7.19,2,     0.36,2,   2350.4,2,   7.8780,2,    25.00
  35TH20100608, OVIDE,    25,  1,     29,2,20100616,0318, 43.7790, -17.0310, 3994,     49.6,  14.1670,  35.8490,2,  35.8450,2,    253.6,2,    264.7,3,     1.06,2,     2.54,2,     0.17,2,   -999.0,9,   7.9360,2,    25.00
  35TH20100608, OVIDE,    25,  1,     30,2,20100616,0318, 43.7790, -17.0310, 3994,      6.6,  16.6340,  35.8840,2,  35.8830,2,    252.8,2,    249.3,2,     0.62,2,     0.06,2,     0.03,2,   2358.6,2,   7.9750,2,    25.00
  35TH20100608, OVIDE,    26,  1,      3,2,20100616,0834, 44.0770, -17.4250, 3775,   3837.6,   2.5630,  34.9140,2,  34.9110,2,    243.6,2,    242.8,2,    44.28,2,    22.66,2,     1.36,2,   -999.0,9,   7.7310,2,    25.00
  35TH20100608, OVIDE,    26,  1,      4,2,20100616,0834, 44.0770, -17.4250, 3775,   3750.0,   2.5570,  34.9140,2,  34.9150,2,    243.8,2,    243.7,2,    43.36,2,    22.52,2,     1.32,2,   -999.0,9,   7.7300,2,    25.00
  35TH20100608, OVIDE,    26,  1,      5,2,20100616,0834, 44.0770, -17.4250, 3775,   3500.1,   2.6060,  34.9220,2,  34.9220,2,    246.1,2,    247.2,2,    40.97,2,    22.01,2,     1.26,2,   -999.0,9,   7.7310,2,    25.00
  35TH20100608, OVIDE,    26,  1,      6,2,20100616,0834, 44.0770, -17.4250, 3775,   3248.3,   2.6430,  34.9270,2,  34.9230,2,    248.3,2,    247.1,2,    40.78,2,    21.82,2,     1.31,2,   -999.0,9,   7.7300,2,    25.00
  35TH20100608, OVIDE,    26,  1,      7,2,20100616,0834, 44.0770, -17.4250, 3775,   2998.5,   2.7600,  34.9370,2,  34.9360,2,    254.1,2,    255.7,2,    33.24,2,    20.64,2,     1.18,2,   -999.0,9,   7.7320,2,    25.00
  35TH20100608, OVIDE,    26,  1,      8,2,20100616,0834, 44.0770, -17.4250, 3775,   2750.7,   2.9400,  34.9510,2,  34.9540,2,    257.2,2,    255.9,2,    29.63,2,    20.02,2,     1.14,2,   -999.0,9,   7.7330,2,    25.00
  35TH20100608, OVIDE,    26,  1,      9,2,20100616,0834, 44.0770, -17.4250, 3775,   2500.1,   3.1390,  34.9530,2,  34.9550,2,    262.7,2,    259.6,2,    23.80,2,    18.63,2,     1.06,2,   -999.0,9,   7.7330,2,    25.00
  35TH20100608, OVIDE,    26,  1,     10,2,20100616,0834, 44.0770, -17.4250, 3775,   2249.2,   3.3010,  34.9430,2,  34.9440,2,    270.4,2,    266.5,2,    16.38,2,    18.21,2,     1.04,2,   -999.0,9,   7.7290,2,    25.00
  35TH20100608, OVIDE,    26,  1,     11,2,20100616,0834, 44.0770, -17.4250, 3775,   2249.8,   3.3000,  34.9440,2,  34.9450,2,    270.5,2,    269.7,2,    16.42,2,    18.46,2,     1.05,2,   -999.0,9,-999.0000,9,    25.00
  35TH20100608, OVIDE,    26,  1,     12,2,20100616,0834, 44.0770, -17.4250, 3775,   2000.8,   3.6040,  34.9530,2,  34.9530,2,    269.6,2,    266.4,2,    14.32,2,    18.20,2,     1.04,2,   -999.0,9,   7.7260,2,    25.00
  35TH20100608, OVIDE,    26,  1,     13,2,20100616,0834, 44.0770, -17.4250, 3775,   1799.4,   3.9400,  34.9790,2,  34.9820,2,    264.8,2,    264.8,2,    12.94,2,    18.28,2,     1.03,2,   -999.0,9,   7.7230,2,    25.00
  35TH20100608, OVIDE,    26,  1,     14,2,20100616,0834, 44.0770, -17.4250, 3775,   1599.1,   5.0000,  35.1360,2,  35.1380,2,    247.9,2,    248.5,2,    12.06,2,    18.26,2,     1.01,2,   -999.0,9,   7.7270,2,    25.00
  35TH20100608, OVIDE,    26,  1,     15,2,20100616,0834, 44.0770, -17.4250, 3775,   1400.4,   6.5280,  35.3820,2,  35.3840,2,    225.8,2,    226.1,2,    11.45,2,    17.93,2,     0.98,2,   -999.0,9,   7.7400,2,    25.00
  35TH20100608, OVIDE,    26,  1,     16,2,20100616,0834, 44.0770, -17.4250, 3775,   1198.3,   8.1760,  35.6280,2,  35.6260,2,    204.0,2,    207.5,2,    10.94,2,    17.91,2,     0.97,2,   -999.0,9,   7.7540,2,    25.00
  35TH20100608, OVIDE,    26,  1,     17,2,20100616,0834, 44.0770, -17.4250, 3775,    999.0,   8.9370,  35.6290,2,  35.6230,3,    191.8,2,    195.1,2,    10.23,2,    18.20,2,     0.98,2,   -999.0,9,   7.7480,2,    25.00
  35TH20100608, OVIDE,    26,  1,     18,2,20100616,0834, 44.0770, -17.4250, 3775,    899.1,   9.5860,  35.6720,2,  35.6720,2,    185.7,2,    189.4,2,     9.74,2,    17.92,2,     0.97,2,   -999.0,9,   7.7550,2,    25.00
  35TH20100608, OVIDE,    26,  1,     19,2,20100616,0834, 44.0770, -17.4250, 3775,    799.3,   9.6030,  35.5360,2,  35.5380,2,    184.8,2,    189.0,2,     9.52,2,    18.27,2,     1.00,2,   -999.0,9,   7.7450,2,    25.00
  35TH20100608, OVIDE,    26,  1,     20,2,20100616,0834, 44.0770, -17.4250, 3775,    799.3,   9.6050,  35.5360,2,  35.5380,2,    184.8,2,    188.4,2,     9.59,2,    18.25,2,     1.00,2,   -999.0,9,-999.0000,9,    25.00
  35TH20100608, OVIDE,    26,  1,     21,2,20100616,0834, 44.0770, -17.4250, 3775,    699.1,  10.2590,  35.5440,2,  35.5480,2,    186.8,2,    191.7,2,     8.46,2,    16.77,2,     0.92,2,   -999.0,9,   7.7580,2,    25.00
  35TH20100608, OVIDE,    26,  1,     22,2,20100616,0834, 44.0770, -17.4250, 3775,    600.5,  10.7830,  35.5310,2,  35.5310,2,    201.7,2,    201.8,2,     6.84,2,    15.50,2,     0.84,2,   -999.0,9,   7.7730,2,    25.00
  35TH20100608, OVIDE,    26,  1,     23,2,20100616,0834, 44.0770, -17.4250, 3775,    500.2,  11.2250,  35.5510,2,  35.5500,2,    213.7,2,    214.6,2,     5.37,2,    13.68,2,     0.74,2,   -999.0,9,   7.7940,2,    25.00
  35TH20100608, OVIDE,    26,  1,     24,2,20100616,0834, 44.0770, -17.4250, 3775,    400.0,  11.7370,  35.6130,2,  35.6130,2,    225.8,2,    220.5,2,     4.51,2,    12.12,2,     0.65,2,   -999.0,9,   7.8130,2,    25.00
  35TH20100608, OVIDE,    26,  1,     25,2,20100616,0834, 44.0770, -17.4250, 3775,    300.3,  12.2100,  35.6840,2,  35.6830,2,    238.5,2,    233.1,2,     3.58,2,     9.92,2,     0.53,2,   -999.0,9,   7.8350,2,    25.00
  35TH20100608, OVIDE,    26,  1,     26,2,20100616,0834, 44.0770, -17.4250, 3775,    199.3,  12.6170,  35.7510,2,  35.7470,2,    244.9,2,    239.9,2,     3.05,2,     8.37,2,     0.44,2,   -999.0,9,   7.8640,2,    25.00
  35TH20100608, OVIDE,    26,  1,     27,2,20100616,0834, 44.0770, -17.4250, 3775,    149.5,  12.8730,  35.7860,2,  35.7830,2,    245.7,2,    245.5,2,     2.88,2,     7.43,2,     0.40,2,   -999.0,9,   7.8750,2,    25.00
  35TH20100608, OVIDE,    26,  1,     28,2,20100616,0834, 44.0770, -17.4250, 3775,     99.2,  13.0850,  35.8140,2,  35.8110,2,    246.9,2,    241.9,2,     2.58,2,     7.24,2,     0.38,2,   -999.0,9,   7.8800,2,    25.00
  35TH20100608, OVIDE,    26,  1,     29,2,20100616,0834, 44.0770, -17.4250, 3775,     54.2,  13.8920,  35.8430,2,  35.8420,2,    261.1,2,    257.4,2,     1.27,2,     3.88,2,     0.26,2,   -999.0,9,   7.9230,2,    25.00
  35TH20100608, OVIDE,    26,  1,     30,2,20100616,0834, 44.0770, -17.4250, 3775,      7.1,  16.6560,  35.8830,2,  35.8820,2,    252.1,2,    247.8,2,     0.56,2,     0.03,2,     0.04,2,   -999.0,9,   7.9760,2,    25.00