BOTTLE,20010418WHPSIOKJU
#code : jjward hyd_to_exchange.pl 
#original files copied from HTML directory: 20010418
#original HYD file: pr16_nhy.txt   Fri Dec 10 13:05:32 1999
#original SUM file: pr16_nsu.txt.tmp   Wed Apr 18 16:17:54 2001
EXPOCODE,SECT_ID,STNNBR,CASTNO,SAMPNO,BTLNBR,BTLNBR_FLAG_W,DATE,TIME,LATITUDE,LONGITUDE,DEPTH,CTDPRS,CTDTMP,CTDSAL,CTDSAL_FLAG_W,SALNTY,SALNTY_FLAG_W,CTDOXY,CTDOXY_FLAG_W,OXYGEN,OXYGEN_FLAG_W
,,,,,,,,,,,,DBAR,ITS-90,PSS-78,,PSS-78,,UMOL/KG,,UMOL/KG,
   3175EP494_2,  PR16,    22,  1,     11,     11,2,19940916,0309, -8.0050,-109.9700, -999,      6.1,  23.3661,  35.2551,2,  35.2490,2,   -999.0,9,   -999.0,9
   3175EP494_2,  PR16,    22,  1,     10,     10,2,19940916,0309, -8.0050,-109.9700, -999,     10.3,  23.3291,  35.2718,2,  35.2509,2,   -999.0,9,   -999.0,9
   3175EP494_2,  PR16,    22,  1,      9,      9,2,19940916,0309, -8.0050,-109.9700, -999,     82.8,  21.7213,  36.0416,2,  36.0277,2,   -999.0,9,   -999.0,9
   3175EP494_2,  PR16,    22,  1,      8,      8,2,19940916,0309, -8.0050,-109.9700, -999,    149.4,  14.1316,  34.9749,2,  34.9582,2,   -999.0,9,   -999.0,9
   3175EP494_2,  PR16,    22,  1,      5,      5,2,19940916,0309, -8.0050,-109.9700, -999,    598.6,   7.0558,  34.5921,2,  34.5861,2,   -999.0,9,   -999.0,9
   3175EP494_2,  PR16,    22,  1,      6,      6,2,19940916,0309, -8.0050,-109.9700, -999,    599.2,   7.0538,  34.5906,2,  34.5829,2,   -999.0,9,   -999.0,9
   3175EP494_2,  PR16,    22,  1,      3,      3,2,19940916,0309, -8.0050,-109.9700, -999,    798.7,   5.4680,  34.5481,2,  34.5390,2,   -999.0,9,   -999.0,9
   3175EP494_2,  PR16,    22,  1,      4,      4,2,19940916,0309, -8.0050,-109.9700, -999,    799.0,   5.4690,  34.5481,2,  34.5386,2,   -999.0,9,   -999.0,9
   3175EP494_2,  PR16,    22,  1,      1,      1,2,19940916,0309, -8.0050,-109.9700, -999,   1002.1,   4.4792,  34.5493,2,  34.5409,2,   -999.0,9,   -999.0,9
   3175EP494_2,  PR16,    22,  1,      2,      2,2,19940916,0309, -8.0050,-109.9700, -999,   1004.1,   4.4772,  34.5492,2,  34.5410,2,   -999.0,9,   -999.0,9
   3175EP494_2,  PR16,    23,  1,     12,     12,2,19940916,0910, -7.0000,-109.9817, -999,      6.3,  23.0731,  35.1942,2,  35.1887,2,   -999.0,9,   -999.0,9
   3175EP494_2,  PR16,    23,  1,     11,     11,2,19940916,0910, -7.0000,-109.9817, -999,      7.3,  23.0811,  35.1929,2,  35.1884,2,   -999.0,9,   -999.0,9
   3175EP494_2,  PR16,    23,  1,     10,     10,2,19940916,0910, -7.0000,-109.9817, -999,      9.8,  23.1151,  35.1903,2,  35.1881,2,   -999.0,9,   -999.0,9
   3175EP494_2,  PR16,    23,  1,      9,      9,2,19940916,0910, -7.0000,-109.9817, -999,    149.2,  14.2526,  35.0267,2,  35.0254,2,   -999.0,9,   -999.0,9
   3175EP494_2,  PR16,    23,  1,      8,      8,2,19940916,0910, -7.0000,-109.9817, -999,    483.4,   8.5765,  34.6684,2,  34.6658,2,   -999.0,9,   -999.0,9
   3175EP494_2,  PR16,    23,  1,      6,      6,2,19940916,0910, -7.0000,-109.9817, -999,    597.7,   7.3087,  34.6032,2,  34.6039,2,   -999.0,9,   -999.0,9
   3175EP494_2,  PR16,    23,  1,      5,      5,2,19940916,0910, -7.0000,-109.9817, -999,    598.1,   7.3017,  34.6023,2,  34.5959,2,   -999.0,9,   -999.0,9
   3175EP494_2,  PR16,    23,  1,      3,      3,2,19940916,0910, -7.0000,-109.9817, -999,    798.4,   5.3640,  34.5465,2,  34.5389,2,   -999.0,9,   -999.0,9
   3175EP494_2,  PR16,    23,  1,      4,      4,2,19940916,0910, -7.0000,-109.9817, -999,    799.4,   5.3530,  34.5470,2,  34.5406,2,   -999.0,9,   -999.0,9
   3175EP494_2,  PR16,    23,  1,      1,      1,2,19940916,0910, -7.0000,-109.9817, -999,    999.7,   4.3412,  34.5560,2,  34.5450,2,   -999.0,9,   -999.0,9
   3175EP494_2,  PR16,    23,  1,      2,      2,2,19940916,0910, -7.0000,-109.9817, -999,   1001.3,   4.3372,  34.5547,2,  34.5463,2,   -999.0,9,   -999.0,9
   3175EP494_2,  PR16,    24,  1,     11,     11,2,19940916,1451, -6.0000,-109.9783, -999,      5.5,  23.2701,  35.1709,2,  35.1715,2,   -999.0,9,   -999.0,9
   3175EP494_2,  PR16,    24,  1,     12,     12,2,19940916,1451, -6.0000,-109.9783, -999,      5.8,  23.2711,  35.1707,2,  35.1671,2,   -999.0,9,   -999.0,9
   3175EP494_2,  PR16,    24,  1,      9,      9,2,19940916,1451, -6.0000,-109.9783, -999,    149.3,  13.5657,  34.9746,2,  34.9684,2,   -999.0,9,   -999.0,9
   3175EP494_2,  PR16,    24,  1,      8,      8,2,19940916,1451, -6.0000,-109.9783, -999,    498.7,   8.3725,  34.6591,2,  34.6542,2,   -999.0,9,   -999.0,9
   3175EP494_2,  PR16,    24,  1,      5,      5,2,19940916,1451, -6.0000,-109.9783, -999,    598.1,   7.1977,  34.6025,2,  34.5943,2,   -999.0,9,   -999.0,9
   3175EP494_2,  PR16,    24,  1,      6,      6,2,19940916,1451, -6.0000,-109.9783, -999,    598.5,   7.1967,  34.6022,2,  34.5958,2,   -999.0,9,   -999.0,9
   3175EP494_2,  PR16,    24,  1,      3,      3,2,19940916,1451, -6.0000,-109.9783, -999,    798.4,   5.5150,  34.5491,2,  34.5444,2,   -999.0,9,   -999.0,9
   3175EP494_2,  PR16,    24,  1,      4,      4,2,19940916,1451, -6.0000,-109.9783, -999,    798.5,   5.5380,  34.5517,2,  34.5440,2,   -999.0,9,   -999.0,9
   3175EP494_2,  PR16,    24,  1,      1,      1,2,19940916,1451, -6.0000,-109.9783, -999,    997.7,   4.5192,  34.5554,2,  34.5468,2,   -999.0,9,   -999.0,9
   3175EP494_2,  PR16,    24,  1,      2,      2,2,19940916,1451, -6.0000,-109.9783, -999,    998.0,   4.5152,  34.5547,2,  34.5461,2,   -999.0,9,   -999.0,9
   3175EP494_2,  PR16,    25,  1,     12,     12,2,19940916,2112, -4.9750,-109.9983, -999,      5.5,  23.7930,  35.3424,2,  35.3420,2,   -999.0,9,   -999.0,9
   3175EP494_2,  PR16,    25,  1,     11,     11,2,19940916,2112, -4.9750,-109.9983, -999,     10.0,  23.7660,  35.3473,2,  35.3447,2,   -999.0,9,   -999.0,9
   3175EP494_2,  PR16,    25,  1,     10,     10,2,19940916,2112, -4.9750,-109.9983, -999,    125.6,  13.5737,  35.0252,2,  34.9390,2,   -999.0,9,   -999.0,9
   3175EP494_2,  PR16,    25,  1,      9,      9,2,19940916,2112, -4.9750,-109.9983, -999,    149.8,  12.7478,  34.9418,2,  34.9322,2,   -999.0,9,   -999.0,9
   3175EP494_2,  PR16,    25,  1,      7,      7,2,19940916,2112, -4.9750,-109.9983, -999,    499.3,   8.5035,  34.6670,2,  34.6608,2,   -999.0,9,   -999.0,9
   3175EP494_2,  PR16,    25,  1,      8,      8,2,19940916,2112, -4.9750,-109.9983, -999,    499.7,   8.4985,  34.6706,2,  34.6606,2,   -999.0,9,   -999.0,9
   3175EP494_2,  PR16,    25,  1,      6,      6,2,19940916,2112, -4.9750,-109.9983, -999,    597.9,   7.4157,  34.6128,2,  34.6104,2,   -999.0,9,   -999.0,9
   3175EP494_2,  PR16,    25,  1,      5,      5,2,19940916,2112, -4.9750,-109.9983, -999,    598.3,   7.4007,  34.6113,2,  34.6043,2,   -999.0,9,   -999.0,9
   3175EP494_2,  PR16,    25,  1,      4,      4,2,19940916,2112, -4.9750,-109.9983, -999,    798.1,   5.6730,  34.5559,2,  34.5492,2,   -999.0,9,   -999.0,9
   3175EP494_2,  PR16,    25,  1,      3,      3,2,19940916,2112, -4.9750,-109.9983, -999,    798.1,   5.6740,  34.5560,2,  34.5484,2,   -999.0,9,   -999.0,9
   3175EP494_2,  PR16,    25,  1,      1,      1,2,19940916,2112, -4.9750,-109.9983, -999,   1000.2,   4.5092,  34.5610,2,  34.5529,2,   -999.0,9,   -999.0,9
   3175EP494_2,  PR16,    25,  1,      2,      2,2,19940916,2112, -4.9750,-109.9983, -999,   1001.5,   4.4982,  34.5601,2,  34.5523,2,   -999.0,9,   -999.0,9
   3175EP494_2,  PR16,    26,  1,     11,     11,2,19940917,0240, -3.9950,-109.9983, -999,      6.3,  23.9730,  35.5345,2,  35.5321,2,   -999.0,9,   -999.0,9
   3175EP494_2,  PR16,    26,  1,      9,      9,2,19940917,0240, -3.9950,-109.9983, -999,      9.8,  23.9880,  35.5350,2,  35.5204,2,   -999.0,9,   -999.0,9
   3175EP494_2,  PR16,    26,  1,      8,      8,2,19940917,0240, -3.9950,-109.9983, -999,    149.2,  12.9258,  34.9277,2,  34.9229,2,   -999.0,9,   -999.0,9
   3175EP494_2,  PR16,    26,  1,      7,      7,2,19940917,0240, -3.9950,-109.9983, -999,    498.1,   8.0166,  34.6422,2,  34.6482,2,   -999.0,9,   -999.0,9
   3175EP494_2,  PR16,    26,  1,      5,      5,2,19940917,0240, -3.9950,-109.9983, -999,    598.2,   7.0718,  34.6026,2,  34.6034,2,   -999.0,9,   -999.0,9
   3175EP494_2,  PR16,    26,  1,      6,      6,2,19940917,0240, -3.9950,-109.9983, -999,    599.6,   7.0688,  34.6049,2,  34.6045,2,   -999.0,9,   -999.0,9
   3175EP494_2,  PR16,    26,  1,      3,      3,2,19940917,0240, -3.9950,-109.9983, -999,    798.8,   5.3640,  34.5531,2,  34.5564,2,   -999.0,9,   -999.0,9
   3175EP494_2,  PR16,    26,  1,      1,      1,2,19940917,0240, -3.9950,-109.9983, -999,   1005.7,   4.3322,  34.5565,2,  34.5559,2,   -999.0,9,   -999.0,9
   3175EP494_2,  PR16,    27,  1,     12,     12,2,19940917,0816, -3.0017,-109.9800, -999,      7.5,  22.7182,  34.8884,2,  34.8866,2,   -999.0,9,   -999.0,9
   3175EP494_2,  PR16,    27,  1,     11,     11,2,19940917,0816, -3.0017,-109.9800, -999,      8.0,  22.7172,  34.8883,2,  34.8871,2,   -999.0,9,   -999.0,9
   3175EP494_2,  PR16,    27,  1,     10,     10,2,19940917,0816, -3.0017,-109.9800, -999,      9.3,  22.7172,  34.8886,2,  34.8870,2,   -999.0,9,   -999.0,9
   3175EP494_2,  PR16,    27,  1,      9,      9,2,19940917,0816, -3.0017,-109.9800, -999,    147.6,  13.2297,  34.9462,2,  34.9398,2,   -999.0,9,   -999.0,9
   3175EP494_2,  PR16,    27,  1,      8,      8,2,19940917,0816, -3.0017,-109.9800, -999,    498.7,   7.8216,  34.6329,2,  34.6329,2,   -999.0,9,   -999.0,9
   3175EP494_2,  PR16,    27,  1,      6,      6,2,19940917,0816, -3.0017,-109.9800, -999,    598.2,   7.0758,  34.6019,2,  34.5988,2,   -999.0,9,   -999.0,9
   3175EP494_2,  PR16,    27,  1,      3,      3,2,19940917,0816, -3.0017,-109.9800, -999,    796.3,   5.4860,  34.5616,2,  34.5613,2,   -999.0,9,   -999.0,9
   3175EP494_2,  PR16,    27,  1,      1,      1,2,19940917,0816, -3.0017,-109.9800, -999,   1005.0,   4.5892,  34.5641,2,  34.5757,2,   -999.0,9,   -999.0,9
   3175EP494_2,  PR16,    28,  1,     11,     11,2,19940917,1400, -2.0050,-109.9917, -999,      6.7,  22.2702,  34.8749,2,  34.8749,2,   -999.0,9,   -999.0,9
   3175EP494_2,  PR16,    28,  1,     12,     12,2,19940917,1400, -2.0050,-109.9917, -999,      7.2,  22.2652,  34.8741,2,  34.8736,2,   -999.0,9,   -999.0,9
   3175EP494_2,  PR16,    28,  1,     10,     10,2,19940917,1400, -2.0050,-109.9917, -999,     10.3,  22.2612,  34.8747,2,  34.9264,2,   -999.0,9,   -999.0,9
   3175EP494_2,  PR16,    28,  1,      8,      8,2,19940917,1400, -2.0050,-109.9917, -999,    498.6,   7.8676,  34.6305,2,  34.6324,2,   -999.0,9,   -999.0,9
   3175EP494_2,  PR16,    28,  1,      7,      7,2,19940917,1400, -2.0050,-109.9917, -999,    498.8,   7.8616,  34.6309,2,  34.6437,2,   -999.0,9,   -999.0,9
   3175EP494_2,  PR16,    28,  1,      5,      5,2,19940917,1400, -2.0050,-109.9917, -999,    597.7,   6.9368,  34.5954,2,  34.5970,2,   -999.0,9,   -999.0,9
   3175EP494_2,  PR16,    28,  1,      6,      6,2,19940917,1400, -2.0050,-109.9917, -999,    598.5,   6.9358,  34.5960,2,  34.5972,2,   -999.0,9,   -999.0,9
   3175EP494_2,  PR16,    28,  1,      3,      3,2,19940917,1400, -2.0050,-109.9917, -999,    798.6,   5.4550,  34.5592,2,  34.5597,2,   -999.0,9,   -999.0,9
   3175EP494_2,  PR16,    28,  1,      4,      4,2,19940917,1400, -2.0050,-109.9917, -999,    799.0,   5.4540,  34.5600,2,  34.5620,2,   -999.0,9,   -999.0,9
   3175EP494_2,  PR16,    28,  1,      2,      2,2,19940917,1400, -2.0050,-109.9917, -999,    999.6,   4.6232,  34.5676,2,  34.5690,2,   -999.0,9,   -999.0,9
   3175EP494_2,  PR16,    28,  1,      1,      1,2,19940917,1400, -2.0050,-109.9917, -999,   1002.0,   4.5922,  34.5683,2,  34.5691,2,   -999.0,9,   -999.0,9
   3175EP494_2,  PR16,    29,  1,     12,     12,2,19940917,1958, -0.9933,-110.0050, -999,      5.5,  22.2712,  34.9199,2,  34.9268,2,   -999.0,9,   -999.0,9
   3175EP494_2,  PR16,    29,  1,     10,     10,2,19940917,1958, -0.9933,-110.0050, -999,      9.5,  21.9403,  34.9365,2,  34.9224,2,   -999.0,9,   -999.0,9
   3175EP494_2,  PR16,    29,  1,      9,      9,2,19940917,1958, -0.9933,-110.0050, -999,    149.8,  13.2287,  34.9509,2,  34.9373,2,   -999.0,9,   -999.0,9
   3175EP494_2,  PR16,    29,  1,      7,      7,2,19940917,1958, -0.9933,-110.0050, -999,    498.5,   8.3745,  34.6519,2,  34.6511,2,   -999.0,9,   -999.0,9
   3175EP494_2,  PR16,    29,  1,      8,      8,2,19940917,1958, -0.9933,-110.0050, -999,    499.0,   8.3805,  34.6511,2,  34.6526,2,   -999.0,9,   -999.0,9
   3175EP494_2,  PR16,    29,  1,      5,      5,2,19940917,1958, -0.9933,-110.0050, -999,    598.2,   7.1257,  34.5924,2,  34.5936,2,   -999.0,9,   -999.0,9
   3175EP494_2,  PR16,    29,  1,      6,      6,2,19940917,1958, -0.9933,-110.0050, -999,    598.3,   7.1247,  34.5923,2,  34.5922,2,   -999.0,9,   -999.0,9
   3175EP494_2,  PR16,    29,  1,      4,      4,2,19940917,1958, -0.9933,-110.0050, -999,    798.1,   5.5670,  34.5552,2,  34.5569,2,   -999.0,9,   -999.0,9
   3175EP494_2,  PR16,    29,  1,      3,      3,2,19940917,1958, -0.9933,-110.0050, -999,    798.2,   5.5610,  34.5567,2,  34.5560,2,   -999.0,9,   -999.0,9
   3175EP494_2,  PR16,    29,  1,      2,      2,2,19940917,1958, -0.9933,-110.0050, -999,    997.0,   4.5412,  34.5667,2,  34.5662,2,   -999.0,9,   -999.0,9
   3175EP494_2,  PR16,    29,  1,      1,      1,2,19940917,1958, -0.9933,-110.0050, -999,    997.6,   4.5352,  34.5679,2,  34.5666,2,   -999.0,9,   -999.0,9
   3175EP494_2,  PR16,    30,  1,     12,     12,2,19940918,0603,  0.0133,-109.9950, -999,      8.5,  21.9633,  34.8568,2,  34.8828,2,   -999.0,9,   -999.0,9
   3175EP494_2,  PR16,    30,  1,     11,     11,2,19940918,0603,  0.0133,-109.9950, -999,    147.6,  14.1636,  34.9922,2,  34.9731,2,   -999.0,9,   -999.0,9
   3175EP494_2,  PR16,    30,  1,     10,     10,2,19940918,0603,  0.0133,-109.9950, -999,    498.2,   8.2136,  34.6434,2,  34.6377,2,   -999.0,9,   -999.0,9
   3175EP494_2,  PR16,    30,  1,      9,      9,2,19940918,0603,  0.0133,-109.9950, -999,    798.2,   5.5580,  34.5564,2,  34.5615,2,   -999.0,9,   -999.0,9
   3175EP494_2,  PR16,    30,  1,      8,      8,2,19940918,0603,  0.0133,-109.9950, -999,    998.3,   4.3652,  34.5680,2,  34.5721,2,   -999.0,9,   -999.0,9
   3175EP494_2,  PR16,    30,  1,      7,      7,2,19940918,0603,  0.0133,-109.9950, -999,   1496.3,   2.9394,  34.6144,2,  34.6153,2,   -999.0,9,   -999.0,9
   3175EP494_2,  PR16,    30,  1,      6,      6,2,19940918,0603,  0.0133,-109.9950, -999,   1997.0,   2.1886,  34.3236,2,  34.6493,2,   -999.0,9,   -999.0,9
   3175EP494_2,  PR16,    30,  1,      5,      5,2,19940918,0603,  0.0133,-109.9950, -999,   2248.7,   2.0056,  34.6627,2,  34.6628,2,   -999.0,9,   -999.0,9
   3175EP494_2,  PR16,    30,  1,      4,      4,2,19940918,0603,  0.0133,-109.9950, -999,   2499.4,   1.8406,  34.6719,2,  34.6657,2,   -999.0,9,   -999.0,9
   3175EP494_2,  PR16,    30,  1,      3,      3,2,19940918,0603,  0.0133,-109.9950, -999,   2749.5,   1.7466,  34.6789,2,  34.6779,2,   -999.0,9,   -999.0,9
   3175EP494_2,  PR16,    30,  1,      2,      2,2,19940918,0603,  0.0133,-109.9950, -999,   3005.6,   1.6606,  34.6840,2,  34.6846,2,   -999.0,9,   -999.0,9
   3175EP494_2,  PR16,    30,  1,      1,      1,2,19940918,0603,  0.0133,-109.9950, -999,   3006.5,   1.6606,  34.6836,2,  34.6818,2,   -999.0,9,   -999.0,9
   3175EP494_2,  PR16,    31,  1,      9,      9,2,19940919,0120,  0.0017,-110.0383, -999,      7.0,  23.5330,  34.6082,2,  34.6159,2,   -999.0,9,   -999.0,9
   3175EP494_2,  PR16,    31,  1,      8,      8,2,19940919,0120,  0.0017,-110.0383, -999,      9.9,  23.5300,  34.6058,2,  34.6110,2,   -999.0,9,   -999.0,9
   3175EP494_2,  PR16,    31,  1,      7,      7,2,19940919,0120,  0.0017,-110.0383, -999,     60.3,  21.7093,  34.0575,2,  34.8480,2,   -999.0,9,   -999.0,9
   3175EP494_2,  PR16,    31,  1,      6,      6,2,19940919,0120,  0.0017,-110.0383, -999,    149.4,  14.7945,  34.9613,2,  34.9496,2,   -999.0,9,   -999.0,9
   3175EP494_2,  PR16,    31,  1,      5,      5,2,19940919,0120,  0.0017,-110.0383, -999,    498.8,   8.0126,  34.6362,2,  34.6359,2,   -999.0,9,   -999.0,9
   3175EP494_2,  PR16,    31,  1,      4,      4,2,19940919,0120,  0.0017,-110.0383, -999,    597.9,   6.8488,  34.5879,2,  34.5912,2,   -999.0,9,   -999.0,9
   3175EP494_2,  PR16,    31,  1,      3,      3,2,19940919,0120,  0.0017,-110.0383, -999,    798.9,   5.3580,  34.5580,2,  34.5593,2,   -999.0,9,   -999.0,9
   3175EP494_2,  PR16,    31,  1,      1,      1,2,19940919,0120,  0.0017,-110.0383, -999,   1007.8,   4.2432,  34.5719,2,  34.5732,2,   -999.0,9,   -999.0,9
   3175EP494_2,  PR16,    31,  1,      2,      2,2,19940919,0120,  0.0017,-110.0383, -999,   1008.3,   4.2422,  34.5716,2,  34.5723,2,   -999.0,9,   -999.0,9