BOTTLE,20020809WHPSIObren
EXPOCODE,SECT_ID,STNNBR,CASTNO,SAMPNO,BTLNBR,BTLNBR_FLAG_W,DATE,TIME,LATITUDE,LONGITUDE,DEPTH,CTDPRS,CTDTMP,CTDSAL,CTDSAL_FLAG_W,SALNTY,SALNTY_FLAG_W,CTDOXY,CTDOXY_FLAG_W,OXYGEN,OXYGEN_FLAG_W,SILCAT,SILCAT_FLAG_W,NO2+NO3,NO2+NO3_FLAG_W,PHSPHT,PHSPHT_FLAG_W,CTDRAW,REVTMP,REVPRS,THETA
,,,,,,,,,,,,DBAR,ITS-90,PSS-78,,PSS-78,,UMOL/KG,,UMOL/KG,,UMOL/KG,,UMOL/KG,,UMOL/KG,,,DEG C,DBAR,ITS-90
     32MW062_1,  PRS2,     2, 14,     15,     15,2,19950407,0901, 22.7977,-158.0128, 4710,      4.7,  23.9509,  34.4623,2,  34.4622,2,    223.4,1,   -999.0,9,  -999.00,9,  -999.00,9,  -999.00,9,      5,-999.000,  -999.0, 23.9499
     32MW062_1,  PRS2,     2, 14,     14,     14,2,19950407,0901, 22.7977,-158.0128, 4710,     24.5,  23.9622,  34.4627,2,  34.4621,2,    223.3,1,   -999.0,9,  -999.00,9,  -999.00,9,  -999.00,9,     25,-999.000,  -999.0, 23.9570
     32MW062_1,  PRS2,     2, 14,     13,     13,2,19950407,0901, 22.7977,-158.0128, 4710,     44.4,  23.9424,  34.4866,2,  34.4863,2,    222.6,1,   -999.0,9,  -999.00,9,  -999.00,9,  -999.00,9,     44,-999.000,  -999.0, 23.9331
     32MW062_1,  PRS2,     2, 14,     12,     12,2,19950407,0901, 22.7977,-158.0128, 4710,     74.2,  23.2706,  34.7557,2,  34.7604,2,    222.2,1,   -999.0,9,  -999.00,9,  -999.00,9,  -999.00,9,     75,-999.000,  -999.0, 23.2554
     32MW062_1,  PRS2,     2, 14,     11,     11,2,19950407,0901, 22.7977,-158.0128, 4710,    100.6,  23.1209,  34.9212,2,  34.9140,2,    218.4,1,   -999.0,9,  -999.00,9,  -999.00,9,  -999.00,9,    101,-999.000,  -999.0, 23.1003
     32MW062_1,  PRS2,     2, 14,     10,     32,2,19950407,0901, 22.7977,-158.0128, 4710,    125.8,  22.7318,  35.0285,2,  35.0258,2,    216.4,1,   -999.0,9,  -999.00,9,  -999.00,9,  -999.00,9,    127,-999.000,  -999.0, 22.7063
     32MW062_1,  PRS2,     2, 14,      9,      3,2,19950407,0901, 22.7977,-158.0128, 4710,    134.3,  22.6285,  35.1154,2,  35.1159,2,    209.7,1,   -999.0,9,  -999.00,9,  -999.00,9,  -999.00,9,    134,-999.000,  -999.0, 22.6014
     32MW062_1,  PRS2,     2, 14,      8,     29,2,19950407,0901, 22.7977,-158.0128, 4710,    137.5,  22.4664,  35.1292,2,  35.1284,2,    209.9,1,   -999.0,9,  -999.00,9,  -999.00,9,  -999.00,9,    138,-999.000,  -999.0, 22.4388
     32MW062_1,  PRS2,     2, 14,      7,     28,2,19950407,0901, 22.7977,-158.0128, 4710,    145.4,  22.3596,  35.1347,2,  35.1347,2,    208.0,1,   -999.0,9,  -999.00,9,  -999.00,9,  -999.00,9,    146,-999.000,  -999.0, 22.3305
     32MW062_1,  PRS2,     2, 14,      6,      7,2,19950407,0901, 22.7977,-158.0128, 4710,    149.5,  22.3481,  35.1346,2,  35.1361,2,    207.5,1,   -999.0,9,  -999.00,9,  -999.00,9,  -999.00,9,    150,-999.000,  -999.0, 22.3182
     32MW062_1,  PRS2,     2, 14,      5,     23,2,19950407,0901, 22.7977,-158.0128, 4710,    174.6,  21.9585,  35.2228,2,  35.2193,2,    213.4,1,   -999.0,9,  -999.00,9,  -999.00,9,  -999.00,9,    175,-999.000,  -999.0, 21.9240
     32MW062_1,  PRS2,     2, 14,      4,     36,2,19950407,0901, 22.7977,-158.0128, 4710,    252.6,  18.3806,  34.9874,2,  34.9873,2,    191.0,1,   -999.0,9,  -999.00,9,  -999.00,9,  -999.00,9,    253,-999.000,  -999.0, 18.3365
     32MW062_1,  PRS2,     2, 14,      3,     35,2,19950407,0901, 22.7977,-158.0128, 4710,    500.5,   7.5780,  34.0432,2,  34.0424,2,    153.7,1,   -999.0,9,  -999.00,9,  -999.00,9,  -999.00,9,    501,-999.000,  -999.0,  7.5287
     32MW062_1,  PRS2,     2, 14,      2,     34,2,19950407,0901, 22.7977,-158.0128, 4710,    747.6,   4.8598,  34.2672,2,  34.2652,2,     32.0,1,   -999.0,9,  -999.00,9,  -999.00,9,  -999.00,9,    748,-999.000,  -999.0,  4.8000
     32MW062_1,  PRS2,     2, 14,      1,     33,4,19950407,0901, 22.7977,-158.0128, 4710,   1019.7,   3.9417,  34.4556,2,-999.0000,5,     46.3,1,   -999.0,9,  -999.00,9,  -999.00,9,  -999.00,9,   1020,-999.000,  -999.0,  3.8650
     32MW062_1,  PRS2,     2, 15,     23,     30,2,19950407,1200, 22.7545,-157.9993, 4720,      4.8,  23.9467,  34.4521,2,  34.4501,2,    223.0,1,   -999.0,9,     1.42,2,     0.00,2,     0.14,2,      5,-999.000,  -999.0, 23.9457
     32MW062_1,  PRS2,     2, 15,     24,     31,2,19950407,1200, 22.7545,-157.9993, 4720,      4.9,  23.9467,  34.4520,2,  34.4504,2,    223.0,1,   -999.0,9,  -999.00,5,  -999.00,5,  -999.00,5,      5,-999.000,  -999.0, 23.9457
     32MW062_1,  PRS2,     2, 15,     22,     22,2,19950407,1200, 22.7545,-157.9993, 4720,      9.7,  23.9559,  34.4528,2,  34.4518,2,    223.0,1,   -999.0,9,  -999.00,5,  -999.00,5,  -999.00,5,     10,-999.000,  -999.0, 23.9539
     32MW062_1,  PRS2,     2, 15,     21,     21,2,19950407,1200, 22.7545,-157.9993, 4720,     24.6,  23.9546,  34.4533,2,  34.4677,3,    223.0,1,   -999.0,9,     1.36,2,     0.00,2,     0.13,2,     25,-999.000,  -999.0, 23.9495
     32MW062_1,  PRS2,     2, 15,     20,     20,2,19950407,1200, 22.7545,-157.9993, 4720,     24.6,  23.9539,  34.4542,2,  34.4505,2,    223.0,1,   -999.0,9,  -999.00,5,  -999.00,5,  -999.00,5,     24,-999.000,  -999.0, 23.9487
     32MW062_1,  PRS2,     2, 15,     19,     19,2,19950407,1200, 22.7545,-157.9993, 4720,     44.2,  23.7723,  34.5565,2,  34.5627,2,    221.8,1,   -999.0,9,     1.26,2,     0.00,2,     0.13,2,     44,-999.000,  -999.0, 23.7631
     32MW062_1,  PRS2,     2, 15,     18,     18,2,19950407,1200, 22.7545,-157.9993, 4720,     50.0,  23.6042,  34.6293,2,  34.6524,3,    222.4,1,   -999.0,9,  -999.00,5,  -999.00,5,  -999.00,5,     50,-999.000,  -999.0, 23.5938
     32MW062_1,  PRS2,     2, 15,     17,     17,2,19950407,1200, 22.7545,-157.9993, 4720,     74.3,  23.2430,  34.8050,2,  34.8046,2,    222.3,1,   -999.0,9,     1.20,2,     0.00,2,     0.10,2,     74,-999.000,  -999.0, 23.2278
     32MW062_1,  PRS2,     2, 15,     16,     16,2,19950407,1200, 22.7545,-157.9993, 4720,     74.3,  23.2425,  34.8049,2,  34.8033,2,    222.3,1,   -999.0,9,  -999.00,5,  -999.00,5,  -999.00,5,     75,-999.000,  -999.0, 23.2272
     32MW062_1,  PRS2,     2, 15,     15,     15,2,19950407,1200, 22.7545,-157.9993, 4720,     99.0,  23.0455,  34.8617,2,  34.8679,2,    222.4,1,   -999.0,9,     1.16,2,     0.01,2,     0.10,2,     99,-999.000,  -999.0, 23.0253
     32MW062_1,  PRS2,     2, 15,     14,     14,2,19950407,1200, 22.7545,-157.9993, 4720,     99.1,  23.0457,  34.8626,2,  34.8723,2,    222.6,1,   -999.0,9,  -999.00,5,  -999.00,5,  -999.00,5,     99,-999.000,  -999.0, 23.0254
     32MW062_1,  PRS2,     2, 15,     13,     13,2,19950407,1200, 22.7545,-157.9993, 4720,    105.1,  22.9982,  34.8941,2,  34.9040,2,    221.5,1,   -999.0,9,  -999.00,5,  -999.00,5,  -999.00,5,    106,-999.000,  -999.0, 22.9768
     32MW062_1,  PRS2,     2, 15,     12,     12,2,19950407,1200, 22.7545,-157.9993, 4720,    115.1,  22.9532,  34.9890,2,  34.9871,2,    218.5,1,   -999.0,9,     1.14,2,     0.01,2,     0.09,2,    116,-999.000,  -999.0, 22.9298
     32MW062_1,  PRS2,     2, 15,     11,     11,2,19950407,1200, 22.7545,-157.9993, 4720,    124.3,  22.8256,  35.0293,2,  35.0248,2,    216.9,1,   -999.0,9,     1.13,2,     0.01,2,     0.10,2,    124,-999.000,  -999.0, 22.8003
     32MW062_1,  PRS2,     2, 15,      9,      3,2,19950407,1200, 22.7545,-157.9993, 4720,    149.5,  22.1041,  35.0748,2,  35.0765,2,    207.0,1,   -999.0,9,     1.23,2,     0.20,2,     0.12,2,    150,-999.000,  -999.0, 22.0744
     32MW062_1,  PRS2,     2, 15,     10,     32,2,19950407,1200, 22.7545,-157.9993, 4720,    149.6,  22.1037,  35.0746,2,  35.0753,2,    206.9,1,   -999.0,9,  -999.00,5,  -999.00,5,  -999.00,5,    150,-999.000,  -999.0, 22.0740
     32MW062_1,  PRS2,     2, 15,      8,     29,2,19950407,1200, 22.7545,-157.9993, 4720,    174.4,  21.0565,  35.1019,2,  35.1020,2,    192.5,1,   -999.0,9,     1.49,2,     0.78,2,     0.15,2,    175,-999.000,  -999.0, 21.0230
     32MW062_1,  PRS2,     2, 15,      7,     28,2,19950407,1200, 22.7545,-157.9993, 4720,    199.5,  19.7847,  35.1039,2,  35.1093,2,    179.5,1,   -999.0,9,     1.82,2,     1.55,2,     0.19,2,    200,-999.000,  -999.0, 19.7481
     32MW062_1,  PRS2,     2, 15,      6,      7,2,19950407,1200, 22.7545,-157.9993, 4720,    250.0,  17.8876,  34.9176,2,  34.9196,2,    186.3,1,   -999.0,9,     2.98,2,     3.12,2,     0.28,2,    250,-999.000,  -999.0, 17.8448
     32MW062_1,  PRS2,     2, 15,      5,     23,2,19950407,1200, 22.7545,-157.9993, 4720,    250.0,  17.8876,  34.9176,2,  34.9212,2,    185.2,1,   -999.0,9,  -999.00,5,  -999.00,5,  -999.00,5,    250,-999.000,  -999.0, 17.8448
     32MW062_1,  PRS2,     2, 15,      4,     36,2,19950407,1200, 22.7545,-157.9993, 4720,    299.9,  14.8554,  34.5144,2,  34.4938,2,    179.3,1,   -999.0,9,     6.30,2,     7.34,2,     0.57,2,    300,-999.000,  -999.0, 14.8104
     32MW062_1,  PRS2,     2, 15,      3,     35,2,19950407,1200, 22.7545,-157.9993, 4720,    500.9,   7.6525,  34.0404,2,  34.0394,2,    158.1,1,   -999.0,9,     6.69,4,     7.83,4,     0.65,4,    502,-999.000,  -999.0,  7.6028
     32MW062_1,  PRS2,     2, 15,      2,     34,2,19950407,1200, 22.7545,-157.9993, 4720,    750.3,   4.8271,  34.2444,2,  34.2486,2,     28.5,1,   -999.0,9,  -999.00,5,  -999.00,5,  -999.00,5,    751,-999.000,  -999.0,  4.7672
     32MW062_1,  PRS2,     2, 15,      1,     33,2,19950407,1200, 22.7545,-157.9993, 4720,   1020.0,   3.8953,  34.4439,2,  34.4474,2,     36.7,1,   -999.0,9,   114.21,2,    41.89,2,     3.06,2,   1020,-999.000,  -999.0,  3.8189
     32MW062_1,  PRS2,     2, 16,     24,     31,2,19950407,1458, 22.7813,-157.9807, 4705,      5.0,  23.9254,  34.4414,2,  34.4461,2,    225.4,1,   -999.0,9,  -999.00,5,  -999.00,5,  -999.00,5,      6,-999.000,  -999.0, 23.9243
     32MW062_1,  PRS2,     2, 16,     23,     30,2,19950407,1458, 22.7813,-157.9807, 4705,      9.9,  23.9275,  34.4412,2,  34.4402,2,    225.4,1,   -999.0,9,  -999.00,5,  -999.00,5,  -999.00,5,     10,-999.000,  -999.0, 23.9254
     32MW062_1,  PRS2,     2, 16,     22,     22,2,19950407,1458, 22.7813,-157.9807, 4705,     14.3,  23.9238,  34.4407,2,  34.4443,2,    225.7,1,   -999.0,9,  -999.00,5,  -999.00,5,  -999.00,5,     15,-999.000,  -999.0, 23.9209
     32MW062_1,  PRS2,     2, 16,     21,     21,2,19950407,1458, 22.7813,-157.9807, 4705,     20.0,  23.9341,  34.4406,2,  34.4413,2,    225.7,1,   -999.0,9,  -999.00,5,  -999.00,5,  -999.00,5,     20,-999.000,  -999.0, 23.9300
     32MW062_1,  PRS2,     2, 16,     20,     20,2,19950407,1458, 22.7813,-157.9807, 4705,     44.9,  23.6776,  34.5738,2,  34.5705,2,    224.7,1,   -999.0,9,  -999.00,5,  -999.00,5,  -999.00,5,     45,-999.000,  -999.0, 23.6683
     32MW062_1,  PRS2,     2, 16,     19,     19,2,19950407,1458, 22.7813,-157.9807, 4705,     65.5,  23.4295,  34.7980,2,  34.7958,2,    226.5,1,   -999.0,9,  -999.00,5,  -999.00,5,  -999.00,5,     66,-999.000,  -999.0, 23.4159
     32MW062_1,  PRS2,     2, 16,     18,     18,2,19950407,1458, 22.7813,-157.9807, 4705,     80.8,  23.1679,  34.7838,2,  34.7786,2,    220.5,1,   -999.0,9,  -999.00,5,  -999.00,5,  -999.00,5,     82,-999.000,  -999.0, 23.1513
     32MW062_1,  PRS2,     2, 16,     17,     17,2,19950407,1458, 22.7813,-157.9807, 4705,    100.0,  23.0461,  34.8556,2,  34.8669,2,    223.4,1,   -999.0,9,  -999.00,5,  -999.00,5,  -999.00,5,    100,-999.000,  -999.0, 23.0257
     32MW062_1,  PRS2,     2, 16,     16,     16,2,19950407,1458, 22.7813,-157.9807, 4705,    120.2,  22.8943,  34.9405,2,  34.9456,2,    221.8,1,   -999.0,9,  -999.00,5,  -999.00,5,  -999.00,5,    121,-999.000,  -999.0, 22.8699
     32MW062_1,  PRS2,     2, 16,     15,     15,2,19950407,1458, 22.7813,-157.9807, 4705,    139.8,  22.8105,  35.0358,2,  35.0335,2,    216.0,1,   -999.0,9,  -999.00,5,  -999.00,5,  -999.00,5,    140,-999.000,  -999.0, 22.7821
     32MW062_1,  PRS2,     2, 16,     14,     14,2,19950407,1458, 22.7813,-157.9807, 4705,    159.3,  22.5232,  35.1077,2,  35.1087,2,    214.5,1,   -999.0,9,  -999.00,5,  -999.00,5,  -999.00,5,    160,-999.000,  -999.0, 22.4911
     32MW062_1,  PRS2,     2, 16,     13,     13,2,19950407,1458, 22.7813,-157.9807, 4705,    170.3,  22.0910,  35.0794,2,  35.0825,2,    206.4,1,   -999.0,9,  -999.00,5,  -999.00,5,  -999.00,5,    171,-999.000,  -999.0, 22.0572
     32MW062_1,  PRS2,     2, 16,     12,     12,2,19950407,1458, 22.7813,-157.9807, 4705,    200.2,  20.7450,  35.1549,2,  35.1522,2,    192.6,1,   -999.0,9,     1.52,2,     1.04,2,     0.16,2,    200,-999.000,  -999.0, 20.7070
     32MW062_1,  PRS2,     2, 16,     11,     11,2,19950407,1458, 22.7813,-157.9807, 4705,    249.6,  17.6372,  34.8948,2,  34.8763,2,    188.5,1,   -999.0,9,     3.35,2,     3.56,2,     0.31,2,    250,-999.000,  -999.0, 17.5949
     32MW062_1,  PRS2,     2, 16,     10,     32,2,19950407,1458, 22.7813,-157.9807, 4705,    301.1,  14.9077,  34.5253,2,  34.5244,2,    195.0,1,   -999.0,9,     5.93,2,     6.88,2,     0.54,2,    301,-999.000,  -999.0, 14.8623
     32MW062_1,  PRS2,     2, 16,      9,      3,2,19950407,1458, 22.7813,-157.9807, 4705,    349.2,  12.0044,  34.2255,2,  34.2238,2,    162.4,1,   -999.0,9,    12.97,2,    14.18,2,     1.07,2,    351,-999.000,  -999.0, 11.9589
     32MW062_1,  PRS2,     2, 16,      8,     29,2,19950407,1458, 22.7813,-157.9807, 4705,    401.0,  10.3205,  34.1576,2,  34.1582,2,    180.7,1,   -999.0,9,    19.10,2,    16.83,2,     1.20,2,    401,-999.000,  -999.0, 10.2730
     32MW062_1,  PRS2,     2, 16,      7,     28,2,19950407,1458, 22.7813,-157.9807, 4705,    451.2,   9.1683,  34.0944,2,  34.0927,2,    212.1,1,   -999.0,9,    23.00,2,    18.60,2,     1.31,2,    452,-999.000,  -999.0,  9.1186
     32MW062_1,  PRS2,     2, 16,      6,      7,2,19950407,1458, 22.7813,-157.9807, 4705,    500.8,   7.5141,  34.0388,2,  34.0382,2,    147.2,1,   -999.0,9,    39.02,2,    25.86,2,     1.82,2,    501,-999.000,  -999.0,  7.4650
     32MW062_1,  PRS2,     2, 16,      5,     23,2,19950407,1458, 22.7813,-157.9807, 4705,    600.8,   5.8254,  34.0902,2,  34.0911,2,     56.3,1,   -999.0,9,    67.44,2,    35.38,2,     2.55,2,    601,-999.000,  -999.0,  5.7737
     32MW062_1,  PRS2,     2, 16,      4,     36,2,19950407,1458, 22.7813,-157.9807, 4705,    700.3,   4.8641,  34.2212,2,  34.2271,2,     33.5,1,   -999.0,9,    90.75,2,    40.36,2,     2.94,2,    701,-999.000,  -999.0,  4.8083
     32MW062_1,  PRS2,     2, 16,      3,     35,2,19950407,1458, 22.7813,-157.9807, 4705,    802.0,   4.6648,  34.3292,2,  34.3296,2,     31.2,1,   -999.0,9,    96.79,2,    41.17,2,     3.02,2,    801,-999.000,  -999.0,  4.6014
     32MW062_1,  PRS2,     2, 16,      2,     34,2,19950407,1458, 22.7813,-157.9807, 4705,    903.1,   4.1855,  34.3761,2,  34.3763,2,     32.0,1,   -999.0,9,   107.26,2,    41.74,2,     3.05,2,    903,-999.000,  -999.0,  4.1167
     32MW062_1,  PRS2,     2, 16,      1,     33,2,19950407,1458, 22.7813,-157.9807, 4705,   1020.4,   3.8911,  34.4681,2,  34.4713,2,     47.2,1,   -999.0,9,   112.98,2,    41.45,2,     3.02,2,   1020,-999.000,  -999.0,  3.8146