BOTTLE,20020809WHPSIObren
EXPOCODE,SECT_ID,STNNBR,CASTNO,SAMPNO,BTLNBR,BTLNBR_FLAG_W,DATE,TIME,LATITUDE,LONGITUDE,DEPTH,CTDPRS,CTDTMP,CTDSAL,CTDSAL_FLAG_W,SALNTY,SALNTY_FLAG_W,CTDOXY,CTDOXY_FLAG_W,OXYGEN,OXYGEN_FLAG_W,SILCAT,SILCAT_FLAG_W,NO2+NO3,NO2+NO3_FLAG_W,PHSPHT,PHSPHT_FLAG_W,CTDRAW,REVTMP,REVPRS,THETA
,,,,,,,,,,,,DBAR,ITS-90,PSS-78,,PSS-78,,UMOL/KG,,UMOL/KG,,UMOL/KG,,UMOL/KG,,UMOL/KG,,,DEG C,DBAR,ITS-90
     32MW062_1,  PRS2,     2, 17,     24,     31,2,19950407,1817, 22.7508,-158.0025, 4723,      9.6,  23.9418,  34.4215,2,  34.4216,2,    224.0,1,   -999.0,9,  -999.00,5,  -999.00,5,  -999.00,5,     10,-999.000,  -999.0, 23.9398
     32MW062_1,  PRS2,     2, 17,     23,     30,2,19950407,1817, 22.7508,-158.0025, 4723,     63.8,  23.5292,  34.6799,2,  34.6784,2,    219.1,1,   -999.0,9,     1.21,2,     0.00,2,     0.11,2,     64,-999.000,  -999.0, 23.5159
     32MW062_1,  PRS2,     2, 17,     22,     22,2,19950407,1817, 22.7508,-158.0025, 4723,    109.4,  23.0526,  34.9155,2,  34.9122,2,    222.2,1,   -999.0,9,     1.20,2,     0.00,2,     0.10,2,    110,-999.000,  -999.0, 23.0302
     32MW062_1,  PRS2,     2, 17,     21,     21,2,19950407,1817, 22.7508,-158.0025, 4723,    118.7,  22.8628,  34.9896,2,  34.9879,2,    215.6,1,   -999.0,9,     1.16,2,     0.00,2,     0.13,2,    119,-999.000,  -999.0, 22.8387
     32MW062_1,  PRS2,     2, 17,     20,     20,2,19950407,1817, 22.7508,-158.0025, 4723,    179.5,  21.4229,  35.0926,2,  35.0950,2,    191.7,1,   -999.0,9,     1.46,2,     0.59,2,     0.14,2,    180,-999.000,  -999.0, 21.3880
     32MW062_1,  PRS2,     2, 17,     19,     19,2,19950407,1817, 22.7508,-158.0025, 4723,    199.9,  20.9908,  35.1763,2,  35.1712,2,    199.6,1,   -999.0,9,     1.57,2,     0.93,2,     0.14,2,    200,-999.000,  -999.0, 20.9525
     32MW062_1,  PRS2,     2, 17,     18,     18,2,19950407,1817, 22.7508,-158.0025, 4723,    224.2,  19.6350,  35.0968,2,  35.0967,2,    180.7,1,   -999.0,9,     1.97,2,     1.71,2,     0.20,2,    225,-999.000,  -999.0, 19.5940
     32MW062_1,  PRS2,     2, 17,     17,     17,2,19950407,1817, 22.7508,-158.0025, 4723,    300.5,  15.9263,  34.6320,2,  34.6327,2,    169.0,1,   -999.0,9,     5.06,2,     5.81,2,     0.46,2,    301,-999.000,  -999.0, 15.8788
     32MW062_1,  PRS2,     2, 17,     16,     16,2,19950407,1817, 22.7508,-158.0025, 4723,    349.5,  12.0694,  34.2211,2,  34.2229,2,    146.6,1,   -999.0,9,    12.18,2,    13.32,2,     0.99,2,    350,-999.000,  -999.0, 12.0237
     32MW062_1,  PRS2,     2, 17,     15,     15,2,19950407,1817, 22.7508,-158.0025, 4723,    355.8,  11.8660,  34.2163,2,  34.2125,2,    147.5,1,   -999.0,9,    13.42,2,    14.36,2,     1.07,2,    356,-999.000,  -999.0, 11.8200
     32MW062_1,  PRS2,     2, 17,     14,     14,2,19950407,1817, 22.7508,-158.0025, 4723,    370.5,  11.1851,  34.1829,2,  34.1748,2,    186.3,1,   -999.0,9,    14.33,2,    14.08,2,     1.06,2,    371,-999.000,  -999.0, 11.1390
     32MW062_1,  PRS2,     2, 17,     13,     13,2,19950407,1817, 22.7508,-158.0025, 4723,    382.7,  10.5872,  34.1732,2,  34.1719,2,    191.8,1,   -999.0,9,    18.11,2,    16.12,2,     1.17,2,    384,-999.000,  -999.0, 10.5412
     32MW062_1,  PRS2,     2, 17,     12,     12,2,19950407,1817, 22.7508,-158.0025, 4723,    445.0,   8.9480,  34.0847,2,  34.0816,2,    205.9,1,   -999.0,9,    25.05,2,    19.55,2,     1.38,2,    446,-999.000,  -999.0,  8.8998
     32MW062_1,  PRS2,     2, 17,     11,     11,2,19950407,1817, 22.7508,-158.0025, 4723,    516.1,   7.3810,  34.0352,2,  34.0345,2,    143.9,1,   -999.0,9,    40.97,2,    26.45,2,     1.93,2,    516,-999.000,  -999.0,  7.3308
     32MW062_1,  PRS2,     2, 17,     10,     32,2,19950407,1817, 22.7508,-158.0025, 4723,    524.7,   7.2198,  34.0354,2,  34.0338,2,    140.8,1,   -999.0,9,    43.62,2,    27.54,2,     1.96,2,    525,-999.000,  -999.0,  7.1694
     32MW062_1,  PRS2,     2, 17,      9,      3,2,19950407,1817, 22.7508,-158.0025, 4723,    566.4,   6.5634,  34.0441,2,  34.0441,2,    112.0,1,   -999.0,9,    54.30,2,    31.52,2,     2.27,2,    567,-999.000,  -999.0,  6.5117
     32MW062_1,  PRS2,     2, 17,      8,     29,2,19950407,1817, 22.7508,-158.0025, 4723,    598.0,   5.9866,  34.0762,2,  34.0774,2,     64.8,1,   -999.0,9,    65.18,2,    34.93,2,     2.55,2,    598,-999.000,  -999.0,  5.9344
     32MW062_1,  PRS2,     2, 17,      7,     28,2,19950407,1817, 22.7508,-158.0025, 4723,    627.6,   5.4550,  34.1229,2,  34.1247,2,     44.2,1,   -999.0,9,    75.69,2,    37.60,2,     2.77,2,    628,-999.000,  -999.0,  5.4026
     32MW062_1,  PRS2,     2, 17,      6,      7,2,19950407,1817, 22.7508,-158.0025, 4723,    698.8,   4.8658,  34.2037,2,  34.1983,2,     33.5,1,   -999.0,9,    89.29,2,    40.10,2,     2.93,2,    699,-999.000,  -999.0,  4.8102
     32MW062_1,  PRS2,     2, 17,      5,     23,2,19950407,1817, 22.7508,-158.0025, 4723,    785.3,   4.6706,  34.3159,2,  34.3196,2,     26.9,1,   -999.0,9,    96.47,2,    40.96,2,     2.98,2,    786,-999.000,  -999.0,  4.6086
     32MW062_1,  PRS2,     2, 17,      4,     36,2,19950407,1817, 22.7508,-158.0025, 4723,    877.9,   4.2285,  34.3795,2,  34.3792,2,     27.3,1,   -999.0,9,   106.60,2,    41.64,2,     3.06,2,    879,-999.000,  -999.0,  4.1615
     32MW062_1,  PRS2,     2, 17,      3,     35,2,19950407,1817, 22.7508,-158.0025, 4723,    949.9,   3.9265,  34.4139,2,  34.4152,2,     29.8,1,   -999.0,9,   113.61,2,    41.85,2,     3.07,2,    950,-999.000,  -999.0,  3.8557
     32MW062_1,  PRS2,     2, 17,      2,     34,2,19950407,1817, 22.7508,-158.0025, 4723,   1019.5,   3.8766,  34.4637,2,  34.4638,2,     38.3,1,   -999.0,9,   114.35,2,    41.68,2,     3.07,2,   1020,-999.000,  -999.0,  3.8004
     32MW062_1,  PRS2,     2, 17,      1,     33,2,19950407,1817, 22.7508,-158.0025, 4723,   1019.5,   3.8766,  34.4637,2,  34.4681,2,     38.3,1,   -999.0,9,   114.21,2,    41.63,2,     3.06,2,   1020,-999.000,  -999.0,  3.8004
     32MW062_1,  PRS2,     2, 18,     24,     31,2,19950407,2025, 22.7637,-157.9960, 4715,      5.0,  24.0530,  34.4145,2,  34.4150,2,    229.2,2,    210.8,2,     1.47,2,     0.00,2,     0.13,2,      5,-999.000,  -999.0, 24.0519
     32MW062_1,  PRS2,     2, 18,     23,     30,2,19950407,2025, 22.7637,-157.9960, 4715,     99.8,  23.0797,  34.8978,2,  34.9025,2,    223.5,2,   -999.0,5,     1.31,2,     0.00,2,     0.09,2,    100,-999.000,  -999.0, 23.0593
     32MW062_1,  PRS2,     2, 18,     22,     22,2,19950407,2025, 22.7637,-157.9960, 4715,    194.6,  20.6001,  35.1285,2,  35.1256,2,    198.7,2,   -999.0,5,     1.80,2,     1.05,2,     0.16,2,    194,-999.000,  -999.0, 20.5633
     32MW062_1,  PRS2,     2, 18,     21,     21,2,19950407,2025, 22.7637,-157.9960, 4715,    541.2,   6.8439,  34.0462,2,  34.0455,2,    126.0,2,   -999.0,5,    49.13,2,    28.81,2,     2.04,2,    541,-999.000,  -999.0,  6.7934
     32MW062_1,  PRS2,     2, 18,     20,     20,2,19950407,2025, 22.7637,-157.9960, 4715,   1003.4,   3.9580,  34.4610,2,  34.4601,2,     43.7,2,     41.9,2,   111.39,2,    40.74,2,     3.00,2,   1003,-999.000,  -999.0,  3.8824
     32MW062_1,  PRS2,     2, 18,     19,     19,2,19950407,2025, 22.7637,-157.9960, 4715,   1400.3,   3.0742,  34.5535,2,  34.5534,2,     63.8,2,   -999.0,5,   129.87,2,    41.18,2,     2.97,2,   1401,-999.000,  -999.0,  2.9739
     32MW062_1,  PRS2,     2, 18,     18,     18,2,19950407,2025, 22.7637,-157.9960, 4715,   1600.4,   2.7285,  34.5773,2,  34.5770,2,     71.7,2,   -999.0,5,   138.11,2,    40.40,2,     2.89,2,   1601,-999.000,  -999.0,  2.6155
     32MW062_1,  PRS2,     2, 18,     17,     17,2,19950407,2025, 22.7637,-157.9960, 4715,   1800.7,   2.3727,  34.5987,2,  34.5977,2,     81.4,2,   -999.0,5,   146.04,2,    39.68,2,     2.89,2,   1801,-999.000,  -999.0,  2.2476
     32MW062_1,  PRS2,     2, 18,     16,     16,2,19950407,2025, 22.7637,-157.9960, 4715,   2001.9,   2.1480,  34.6141,2,  34.6143,2,     91.0,2,     94.7,2,   152.36,2,    39.25,2,     2.86,2,   2002,-999.000,  -999.0,  2.0092
     32MW062_1,  PRS2,     2, 18,     15,     15,2,19950407,2025, 22.7637,-157.9960, 4715,   2201.1,   1.9417,  34.6278,2,  34.6278,2,     97.6,2,   -999.0,5,   156.42,2,    38.86,2,     2.81,2,   2201,-999.000,  -999.0,  1.7891
     32MW062_1,  PRS2,     2, 18,     14,     14,2,19950407,2025, 22.7637,-157.9960, 4715,   2401.7,   1.8000,  34.6414,2,  34.6412,2,    105.1,2,   -999.0,5,   158.60,2,    38.53,2,     2.77,2,   2402,-999.000,  -999.0,  1.6322
     32MW062_1,  PRS2,     2, 18,     13,     13,2,19950407,2025, 22.7637,-157.9960, 4715,   2599.8,   1.6907,  34.6519,2,  34.6519,2,    111.7,2,   -999.0,5,   159.14,2,    37.79,2,     2.74,2,   2600,-999.000,  -999.0,  1.5072
     32MW062_1,  PRS2,     2, 18,     12,     12,2,19950407,2025, 22.7637,-157.9960, 4715,   2801.2,   1.6035,  34.6605,2,  34.6605,2,    118.8,2,   -999.0,5,   159.40,2,    37.33,2,     2.68,2,   2801,-999.000,  -999.0,  1.4033
     32MW062_1,  PRS2,     2, 18,     11,     11,2,19950407,2025, 22.7637,-157.9960, 4715,   3000.7,   1.5430,  34.6671,2,  34.6672,2,    125.2,2,   -999.0,5,   159.01,2,    37.03,2,     2.64,2,   3002,-999.000,  -999.0,  1.3252
     32MW062_1,  PRS2,     2, 18,     10,     32,2,19950407,2025, 22.7637,-157.9960, 4715,   3200.8,   1.4970,  34.6727,2,  34.6727,2,    133.2,2,   -999.0,5,   157.99,2,    36.61,2,     2.64,2,   3201,-999.000,  -999.0,  1.2609
     32MW062_1,  PRS2,     2, 18,      9,      3,2,19950407,2025, 22.7637,-157.9960, 4715,   3399.0,   1.4673,  34.6769,2,  34.6771,2,    137.7,2,   -999.0,5,   156.15,2,    36.33,2,     2.57,2,   3399,-999.000,  -999.0,  1.2122
     32MW062_1,  PRS2,     2, 18,      8,     29,2,19950407,2025, 22.7637,-157.9960, 4715,   3600.4,   1.4495,  34.6802,2,  34.6795,2,    143.2,2,   -999.0,5,   154.41,2,    36.01,2,     2.55,2,   3601,-999.000,  -999.0,  1.1744
     32MW062_1,  PRS2,     2, 18,      7,     28,2,19950407,2025, 22.7637,-157.9960, 4715,   3799.9,   1.4473,  34.6825,2,  34.6818,2,    147.0,2,   -999.0,5,   152.95,2,    35.81,2,     2.52,2,   3800,-999.000,  -999.0,  1.1513
     32MW062_1,  PRS2,     2, 18,      6,      7,2,19950407,2025, 22.7637,-157.9960, 4715,   4000.5,   1.4505,  34.6841,2,  34.6840,2,    149.5,2,    147.5,2,   152.08,2,    35.66,2,     2.50,2,   4000,-999.000,  -999.0,  1.1329
     32MW062_1,  PRS2,     2, 18,      5,     23,2,19950407,2025, 22.7637,-157.9960, 4715,   4200.4,   1.4603,  34.6852,2,  34.6848,2,    148.6,2,   -999.0,5,   150.45,2,    35.35,2,     2.49,2,   4201,-999.000,  -999.0,  1.1205
     32MW062_1,  PRS2,     2, 18,      4,     36,2,19950407,2025, 22.7637,-157.9960, 4715,   4399.9,   1.4756,  34.6861,2,  34.6865,2,    149.7,2,   -999.0,5,   150.21,2,    35.40,2,     2.48,2,   4401,-999.000,  -999.0,  1.1128
     32MW062_1,  PRS2,     2, 18,      3,     35,2,19950407,2025, 22.7637,-157.9960, 4715,   4501.6,   1.4860,  34.6861,2,  34.6853,2,    151.5,2,   -999.0,5,   150.29,2,    35.37,2,     2.53,2,   4502,-999.000,  -999.0,  1.1112
     32MW062_1,  PRS2,     2, 18,      2,     34,2,19950407,2025, 22.7637,-157.9960, 4715,   4601.7,   1.4955,  34.6864,2,  34.6851,2,    150.9,2,   -999.0,5,   149.42,2,    35.18,2,     2.47,2,   4602,-999.000,  -999.0,  1.1089
     32MW062_1,  PRS2,     2, 18,      1,     33,2,19950407,2025, 22.7637,-157.9960, 4715,   4803.3,   1.5175,  34.6868,2,  34.6864,2,    151.2,2,    152.1,2,   149.04,2,  -999.00,5,  -999.00,5,   4803,-999.000,  -999.0,  1.1064
     32MW062_1,  PRS2,     6,  1,     15,     15,3,19950405,0441, 21.8532,-158.3632, 2472,      5.3,  24.2159,  34.4730,2,  34.4747,2,    204.5,2,    210.3,2,  -999.00,9,  -999.00,9,  -999.00,9,      6,-999.000,  -999.0, 24.2148
     32MW062_1,  PRS2,     6,  1,     14,     14,3,19950405,0441, 21.8532,-158.3632, 2472,     25.4,  24.1134,  34.5338,2,  34.5354,2,    203.6,2,   -999.0,5,  -999.00,9,  -999.00,9,  -999.00,9,     26,-999.000,  -999.0, 24.1080
     32MW062_1,  PRS2,     6,  1,     13,     13,3,19950405,0441, 21.8532,-158.3632, 2472,     44.8,  23.8747,  34.6429,2,  34.6406,2,    208.0,2,   -999.0,5,  -999.00,9,  -999.00,9,  -999.00,9,     46,-999.000,  -999.0, 23.8653
     32MW062_1,  PRS2,     6,  1,     12,     12,3,19950405,0441, 21.8532,-158.3632, 2472,     60.7,  23.7034,  34.7800,2,  34.7784,2,    209.6,2,   -999.0,5,  -999.00,9,  -999.00,9,  -999.00,9,     62,-999.000,  -999.0, 23.6907
     32MW062_1,  PRS2,     6,  1,     11,     11,3,19950405,0441, 21.8532,-158.3632, 2472,     75.6,  23.3467,  34.8215,2,  34.8290,2,    210.8,2,   -999.0,5,  -999.00,9,  -999.00,9,  -999.00,9,     76,-999.000,  -999.0, 23.3311
     32MW062_1,  PRS2,     6,  1,     10,     32,3,19950405,0441, 21.8532,-158.3632, 2472,     92.0,  22.9753,  34.8648,2,  34.8659,2,    212.3,2,   -999.0,5,  -999.00,9,  -999.00,9,  -999.00,9,     92,-999.000,  -999.0, 22.9566
     32MW062_1,  PRS2,     6,  1,      9,      3,3,19950405,0441, 21.8532,-158.3632, 2472,    103.9,  22.5734,  34.9146,2,  34.9141,2,    207.8,2,   -999.0,5,  -999.00,9,  -999.00,9,  -999.00,9,    104,-999.000,  -999.0, 22.5525
     32MW062_1,  PRS2,     6,  1,      8,     29,3,19950405,0441, 21.8532,-158.3632, 2472,    114.2,  22.3388,  34.9594,2,  34.9559,2,    206.9,2,   -999.0,5,  -999.00,9,  -999.00,9,  -999.00,9,    114,-999.000,  -999.0, 22.3160
     32MW062_1,  PRS2,     6,  1,      7,     28,3,19950405,0441, 21.8532,-158.3632, 2472,    124.7,  22.0701,  35.0034,2,  35.0078,2,    206.7,2,   -999.0,5,  -999.00,9,  -999.00,9,  -999.00,9,    125,-999.000,  -999.0, 22.0454
     32MW062_1,  PRS2,     6,  1,      6,      7,3,19950405,0441, 21.8532,-158.3632, 2472,    149.2,  21.7588,  35.0877,2,  35.0951,2,    207.5,2,   -999.0,5,  -999.00,9,  -999.00,9,  -999.00,9,    149,-999.000,  -999.0, 21.7296
     32MW062_1,  PRS2,     6,  1,      5,     23,3,19950405,0441, 21.8532,-158.3632, 2472,    176.3,  20.5382,  35.0476,2,  35.0465,2,    201.1,2,    195.6,2,  -999.00,9,  -999.00,9,  -999.00,9,    177,-999.000,  -999.0, 20.5050
     32MW062_1,  PRS2,     6,  1,      4,     36,3,19950405,0441, 21.8532,-158.3632, 2472,    203.4,  19.0839,  34.9904,2,  34.9893,2,    197.7,2,   -999.0,5,  -999.00,9,  -999.00,9,  -999.00,9,    204,-999.000,  -999.0, 19.0475
     32MW062_1,  PRS2,     6,  1,      3,     35,3,19950405,0441, 21.8532,-158.3632, 2472,    452.6,   7.3601,  34.1137,2,  34.1090,2,    103.7,2,    105.2,2,  -999.00,9,  -999.00,9,  -999.00,9,    453,-999.000,  -999.0,  7.3163
     32MW062_1,  PRS2,     6,  1,      2,     34,3,19950405,0441, 21.8532,-158.3632, 2472,    728.7,   5.2827,  34.3568,2,  34.3530,2,     30.9,2,     29.6,2,  -999.00,9,  -999.00,9,  -999.00,9,    729,-999.000,  -999.0,  5.2221
     32MW062_1,  PRS2,     6,  1,      1,     33,3,19950405,0441, 21.8532,-158.3632, 2472,   2496.9,   1.7598,  34.6494,2,  34.6495,2,    110.5,2,    110.8,2,  -999.00,9,  -999.00,9,  -999.00,9,   2496,-999.000,  -999.0,  1.5843