BOTTLE,20020809WHPSIObren
#code : jjward hyd_to_exchange.pl 
#original files copied from HTML directory: 20020809
#original HYD file: /whpo/11/HOTS/BOTTLE/hot62/hot62.sea   Fri Aug  9 09:51:35 2002
#original SUM file: /whpo/11/HOTS/BOTTLE/hot62/hot62.sum   Fri Aug  9 13:30:39 2002
EXPOCODE,SECT_ID,STNNBR,CASTNO,SAMPNO,BTLNBR,BTLNBR_FLAG_W,DATE,TIME,LATITUDE,LONGITUDE,DEPTH,CTDPRS,CTDTMP,CTDSAL,CTDSAL_FLAG_W,SALNTY,SALNTY_FLAG_W,CTDOXY,CTDOXY_FLAG_W,OXYGEN,OXYGEN_FLAG_W,SILCAT,SILCAT_FLAG_W,NO2+NO3,NO2+NO3_FLAG_W,PHSPHT,PHSPHT_FLAG_W,CTDRAW,REVTMP,REVPRS,THETA
,,,,,,,,,,,,DBAR,ITS-90,PSS-78,,PSS-78,,UMOL/KG,,UMOL/KG,,UMOL/KG,,UMOL/KG,,UMOL/KG,,,DEG C,DBAR,ITS-90
     32MW062_1,  PRS2,     1,  1,     22,     22,2,19950404,2316, 21.3450,-158.2735, 1510,      5.1,  24.7173,  34.4172,2,  34.4286,2,    234.6,2,    209.9,2,  -999.00,5,  -999.00,5,  -999.00,5,      5,-999.000,  -999.0, 24.7162
     32MW062_1,  PRS2,     1,  1,     23,     30,2,19950404,2316, 21.3450,-158.2735, 1510,      5.2,  24.7180,  34.4173,2,  34.4180,2,    234.2,2,    212.2,6,  -999.00,5,  -999.00,5,  -999.00,5,      5,-999.000,  -999.0, 24.7168
     32MW062_1,  PRS2,     1,  1,     21,     21,2,19950404,2316, 21.3450,-158.2735, 1510,      5.2,  24.7084,  34.4168,2,  34.4202,2,    235.1,2,    209.3,2,     1.40,2,     0.00,2,     0.12,2,      5,-999.000,  -999.0, 24.7073
     32MW062_1,  PRS2,     1,  1,     20,     20,2,19950404,2316, 21.3450,-158.2735, 1510,     25.1,  24.3289,  34.4138,2,  34.4121,2,    235.7,2,    210.5,2,     1.36,2,     0.00,2,     0.13,2,     25,-999.000,  -999.0, 24.3236
     32MW062_1,  PRS2,     1,  1,     19,     19,2,19950404,2316, 21.3450,-158.2735, 1510,     45.0,  24.0835,  34.6092,2,  34.6163,2,    237.0,2,    213.0,2,     1.45,2,     0.00,2,     0.10,2,     45,-999.000,  -999.0, 24.0740
     32MW062_1,  PRS2,     1,  1,     18,     18,2,19950404,2316, 21.3450,-158.2735, 1510,     60.0,  23.7591,  34.6517,2,  34.6524,2,    229.8,2,    212.7,2,     1.24,2,     0.01,2,     0.11,2,     60,-999.000,  -999.0, 23.7466
     32MW062_1,  PRS2,     1,  1,     17,     17,2,19950404,2316, 21.3450,-158.2735, 1510,     75.1,  23.5760,  34.6666,2,  34.6695,2,    227.0,2,    212.7,2,     1.21,2,     0.01,2,     0.10,2,     75,-999.000,  -999.0, 23.5605
     32MW062_1,  PRS2,     1,  1,     16,     16,2,19950404,2316, 21.3450,-158.2735, 1510,     95.2,  22.8678,  34.9167,2,  34.9236,2,    218.4,2,    210.4,2,     1.13,2,     0.01,2,     0.09,2,     95,-999.000,  -999.0, 22.8484
     32MW062_1,  PRS2,     1,  1,     15,     15,2,19950404,2316, 21.3450,-158.2735, 1510,    105.0,  22.5596,  34.9799,2,  34.9764,2,    209.6,2,    208.1,2,     1.02,2,     0.06,2,     0.10,2,    106,-999.000,  -999.0, 22.5385
     32MW062_1,  PRS2,     1,  1,     14,     14,2,19950404,2316, 21.3450,-158.2735, 1510,    114.7,  22.3332,  34.9870,2,  34.9875,2,    205.4,2,    206.4,2,     1.18,2,     0.14,2,     0.11,2,    115,-999.000,  -999.0, 22.3103
     32MW062_1,  PRS2,     1,  1,     13,     13,2,19950404,2316, 21.3450,-158.2735, 1510,    125.0,  21.9806,  35.0321,2,  35.0304,2,    206.3,2,    203.6,2,     1.30,2,     0.40,2,     0.13,2,    125,-999.000,  -999.0, 21.9559
     32MW062_1,  PRS2,     1,  1,     12,     12,2,19950404,2316, 21.3450,-158.2735, 1510,    149.8,  21.3300,  35.0669,2,  35.0740,2,    197.6,2,    201.1,2,     1.54,2,     0.82,2,     0.17,2,    150,-999.000,  -999.0, 21.3010
     32MW062_1,  PRS2,     1,  1,     11,     11,2,19950404,2316, 21.3450,-158.2735, 1510,    165.2,  21.0313,  35.0993,2,  35.0988,2,    197.0,2,   -999.0,5,  -999.00,5,  -999.00,5,  -999.00,5,    165,-999.000,  -999.0, 20.9997
     32MW062_1,  PRS2,     1,  1,     10,     32,2,19950404,2316, 21.3450,-158.2735, 1510,    175.0,  20.5671,  35.1035,2,  35.1041,2,    199.1,2,    197.5,2,     1.66,2,     1.22,2,     0.18,2,    176,-999.000,  -999.0, 20.5341
     32MW062_1,  PRS2,     1,  1,      9,      3,2,19950404,2316, 21.3450,-158.2735, 1510,    199.8,  19.4395,  35.0185,2,  35.0185,2,    188.5,2,    191.5,2,     2.38,2,     2.40,2,     0.24,2,    200,-999.000,  -999.0, 19.4033
     32MW062_1,  PRS2,     1,  1,      8,     29,2,19950404,2316, 21.3450,-158.2735, 1510,    225.6,  17.5984,  34.8372,2,  34.8350,2,    185.7,2,    187.2,2,     4.12,2,     4.58,2,     0.38,2,    226,-999.000,  -999.0, 17.5603
     32MW062_1,  PRS2,     1,  1,      7,     28,2,19950404,2316, 21.3450,-158.2735, 1510,    250.5,  16.0926,  34.6720,2,  34.6727,2,    182.8,2,    185.3,2,     5.85,2,     6.44,2,     0.53,2,    250,-999.000,  -999.0, 16.0528
     32MW062_1,  PRS2,     1,  1,      6,      7,2,19950404,2316, 21.3450,-158.2735, 1510,    300.4,  12.2052,  34.2943,2,  34.2932,2,    178.0,2,    176.5,2,    13.79,2,    13.24,2,     0.97,2,    301,-999.000,  -999.0, 12.1657
     32MW062_1,  PRS2,     1,  1,      5,     23,2,19950404,2316, 21.3450,-158.2735, 1510,    399.3,   9.2602,  34.1479,2,  34.1473,2,    150.5,2,    152.0,2,    28.72,2,    21.22,2,     1.52,2,    399,-999.000,  -999.0,  9.2161
     32MW062_1,  PRS2,     1,  1,      4,     36,2,19950404,2316, 21.3450,-158.2735, 1510,    449.2,   8.2049,  34.1255,2,  34.0936,4,    121.3,3,   -999.0,5,  -999.00,5,  -999.00,5,  -999.00,5,    450,-999.000,  -999.0,  8.1586
     32MW062_1,  PRS2,     1,  1,      3,     35,2,19950404,2316, 21.3450,-158.2735, 1510,    499.8,   7.2546,  34.1381,2,  34.1406,2,     92.5,2,     88.3,2,    51.13,2,    30.81,2,     2.27,2,    499,-999.000,  -999.0,  7.2065
     32MW062_1,  PRS2,     1,  1,      2,     34,2,19950404,2316, 21.3450,-158.2735, 1510,    751.4,   5.0466,  34.3951,2,  34.3941,2,     29.8,2,     32.3,2,    89.50,2,    40.38,2,     2.96,2,    752,-999.000,  -999.0,  4.9852
     32MW062_1,  PRS2,     1,  1,      1,     33,2,19950404,2316, 21.3450,-158.2735, 1510,   1016.3,   4.2340,  34.4981,2,  34.5004,2,     45.4,2,     45.0,2,   104.98,2,    41.15,2,     3.03,2,   1016,-999.000,  -999.0,  4.1552
     32MW062_1,  PRS2,     2,  1,     24,     31,2,19950405,1603, 22.7492,-158.0032, 4730,      4.7,  23.7520,  34.4935,2,  34.4948,2,    209.6,2,    211.7,2,  -999.00,9,  -999.00,9,  -999.00,9,      5,-999.000,  -999.0, 23.7511
     32MW062_1,  PRS2,     2,  1,     23,     30,2,19950405,1603, 22.7492,-158.0032, 4730,     99.4,  23.1034,  34.8109,2,  34.8107,2,    213.0,2,    212.8,2,  -999.00,9,  -999.00,9,  -999.00,9,    100,-999.000,  -999.0, 23.0830
     32MW062_1,  PRS2,     2,  1,     22,     22,2,19950405,1603, 22.7492,-158.0032, 4730,    181.4,  21.9010,  35.1530,2,  35.1643,2,    205.1,2,    204.2,2,  -999.00,9,  -999.00,9,  -999.00,9,    182,-999.000,  -999.0, 21.8652
     32MW062_1,  PRS2,     2,  1,     21,     21,2,19950405,1603, 22.7492,-158.0032, 4730,    500.8,   7.5935,  34.0443,2,  34.0440,2,    139.6,2,    145.2,2,  -999.00,9,  -999.00,9,  -999.00,9,    501,-999.000,  -999.0,  7.5441
     32MW062_1,  PRS2,     2,  1,     20,     20,2,19950405,1603, 22.7492,-158.0032, 4730,   1000.3,   3.8691,  34.4489,2,  34.4495,2,     36.2,2,     37.9,2,  -999.00,9,  -999.00,9,  -999.00,9,    999,-999.000,  -999.0,  3.7946
     32MW062_1,  PRS2,     2,  1,     19,     19,2,19950405,1603, 22.7492,-158.0032, 4730,   1402.5,   3.0237,  34.5619,2,  34.5618,2,     62.0,2,     60.6,2,  -999.00,9,  -999.00,9,  -999.00,9,   1404,-999.000,  -999.0,  2.9237
     32MW062_1,  PRS2,     2,  1,     18,     18,2,19950405,1603, 22.7492,-158.0032, 4730,   1601.8,   2.5999,  34.5827,2,  34.5841,2,     72.0,2,     72.1,2,  -999.00,9,  -999.00,9,  -999.00,9,   1601,-999.000,  -999.0,  2.4884
     32MW062_1,  PRS2,     2,  1,     17,     17,2,19950405,1603, 22.7492,-158.0032, 4730,   1798.7,   2.3035,  34.6021,2,  34.6017,2,     80.1,2,     79.8,2,  -999.00,9,  -999.00,9,  -999.00,9,   1799,-999.000,  -999.0,  2.1795
     32MW062_1,  PRS2,     2,  1,     16,     16,2,19950405,1603, 22.7492,-158.0032, 4730,   1998.8,   2.0914,  34.6188,2,  34.6181,2,     88.3,2,     88.2,2,  -999.00,9,  -999.00,9,  -999.00,9,   1999,-999.000,  -999.0,  1.9537
     32MW062_1,  PRS2,     2,  1,     15,     15,2,19950405,1603, 22.7492,-158.0032, 4730,   2199.8,   1.9038,  34.6338,2,  34.6335,2,     97.4,2,     97.5,2,  -999.00,9,  -999.00,9,  -999.00,9,   2200,-999.000,  -999.0,  1.7519
     32MW062_1,  PRS2,     2,  1,     14,     14,2,19950405,1603, 22.7492,-158.0032, 4730,   2397.9,   1.7820,  34.6441,2,  34.6455,2,    103.6,2,    103.6,2,  -999.00,9,  -999.00,9,  -999.00,9,   2398,-999.000,  -999.0,  1.6149
     32MW062_1,  PRS2,     2,  1,     13,     13,2,19950405,1603, 22.7492,-158.0032, 4730,   2599.3,   1.6854,  34.6533,2,  34.6531,2,    111.4,2,    111.3,2,  -999.00,9,  -999.00,9,  -999.00,9,   2600,-999.000,  -999.0,  1.5021
     32MW062_1,  PRS2,     2,  1,     12,     12,2,19950405,1603, 22.7492,-158.0032, 4730,   2800.4,   1.5955,  34.6620,2,  34.6611,2,    119.8,2,    117.4,2,  -999.00,9,  -999.00,9,  -999.00,9,   2800,-999.000,  -999.0,  1.3955
     32MW062_1,  PRS2,     2,  1,     11,     11,2,19950405,1603, 22.7492,-158.0032, 4730,   2999.9,   1.5481,  34.6668,2,  34.6667,2,    125.1,2,    122.7,2,  -999.00,9,  -999.00,9,  -999.00,9,   3000,-999.000,  -999.0,  1.3303
     32MW062_1,  PRS2,     2,  1,     10,     32,2,19950405,1603, 22.7492,-158.0032, 4730,   3200.5,   1.5095,  34.6719,2,  34.6731,2,    131.1,2,    129.4,2,  -999.00,9,  -999.00,9,  -999.00,9,   3201,-999.000,  -999.0,  1.2731
     32MW062_1,  PRS2,     2,  1,      9,      3,2,19950405,1603, 22.7492,-158.0032, 4730,   3400.8,   1.4734,  34.6776,2,  34.6774,2,    137.5,2,    136.1,2,  -999.00,9,  -999.00,9,  -999.00,9,   3401,-999.000,  -999.0,  1.2180
     32MW062_1,  PRS2,     2,  1,      8,     29,2,19950405,1603, 22.7492,-158.0032, 4730,   3599.9,   1.4555,  34.6808,2,  34.6806,2,    140.2,2,    141.2,2,  -999.00,9,  -999.00,9,  -999.00,9,   3600,-999.000,  -999.0,  1.1803
     32MW062_1,  PRS2,     2,  1,      7,     28,2,19950405,1603, 22.7492,-158.0032, 4730,   3799.6,   1.4497,  34.6835,2,  34.6832,2,    144.6,2,    144.9,2,  -999.00,9,  -999.00,9,  -999.00,9,   3799,-999.000,  -999.0,  1.1537
     32MW062_1,  PRS2,     2,  1,      6,      7,2,19950405,1603, 22.7492,-158.0032, 4730,   4000.0,   1.4498,  34.6853,2,  34.6864,2,    146.2,2,    147.6,2,  -999.00,9,  -999.00,9,  -999.00,9,   4001,-999.000,  -999.0,  1.1323
     32MW062_1,  PRS2,     2,  1,      5,     23,2,19950405,1603, 22.7492,-158.0032, 4730,   4202.0,   1.4595,  34.6866,2,  34.6872,2,    148.8,2,    150.9,2,  -999.00,9,  -999.00,9,  -999.00,9,   4201,-999.000,  -999.0,  1.1195
     32MW062_1,  PRS2,     2,  1,      4,     36,2,19950405,1603, 22.7492,-158.0032, 4730,   4398.4,   1.4754,  34.6873,2,  34.6858,2,    149.9,2,    150.3,2,  -999.00,9,  -999.00,9,  -999.00,9,   4399,-999.000,  -999.0,  1.1129
     32MW062_1,  PRS2,     2,  1,      3,     35,2,19950405,1603, 22.7492,-158.0032, 4730,   4500.7,   1.4859,  34.6875,2,  34.6853,2,    149.9,2,    151.6,2,  -999.00,9,  -999.00,9,  -999.00,9,   4501,-999.000,  -999.0,  1.1113
     32MW062_1,  PRS2,     2,  1,      2,     34,2,19950405,1603, 22.7492,-158.0032, 4730,   4600.2,   1.4962,  34.6876,2,  34.6857,2,    151.1,2,    150.8,2,  -999.00,9,  -999.00,9,  -999.00,9,   4601,-999.000,  -999.0,  1.1097
     32MW062_1,  PRS2,     2,  1,      1,     33,2,19950405,1603, 22.7492,-158.0032, 4730,   4808.5,   1.5181,  34.6882,2,  34.6887,2,    152.3,2,    151.9,2,  -999.00,9,  -999.00,9,  -999.00,9,   4807,-999.000,  -999.0,  1.1063
     32MW062_1,  PRS2,     2,  2,     24,     31,2,19950405,2102, 22.7518,-158.0012, 4725,      9.9,  23.7234,  34.5127,2,  34.5125,2,    210.7,2,    212.1,2,  -999.00,9,  -999.00,9,  -999.00,9,     10,-999.000,  -999.0, 23.7214
     32MW062_1,  PRS2,     2,  2,     23,     30,2,19950405,2102, 22.7518,-158.0012, 4725,     46.9,  23.6662,  34.5222,2,  34.5249,2,    211.7,2,    212.6,2,  -999.00,9,  -999.00,9,  -999.00,9,     47,-999.000,  -999.0, 23.6565
     32MW062_1,  PRS2,     2,  2,     22,     22,2,19950405,2102, 22.7518,-158.0012, 4725,     80.3,  23.2362,  34.7139,2,  34.7141,2,    213.2,2,    214.1,2,  -999.00,9,  -999.00,9,  -999.00,9,     79,-999.000,  -999.0, 23.2197
     32MW062_1,  PRS2,     2,  2,     21,     21,2,19950405,2102, 22.7518,-158.0012, 4725,    127.6,  22.8947,  34.9294,2,  34.9265,2,    212.4,2,    216.4,2,  -999.00,9,  -999.00,9,  -999.00,9,    127,-999.000,  -999.0, 22.8688
     32MW062_1,  PRS2,     2,  2,     20,     20,2,19950405,2102, 22.7518,-158.0012, 4725,    178.4,  22.0012,  35.1999,2,  35.1975,2,    203.8,2,    205.1,2,  -999.00,9,  -999.00,9,  -999.00,9,    179,-999.000,  -999.0, 21.9658
     32MW062_1,  PRS2,     2,  2,     19,     19,2,19950405,2102, 22.7518,-158.0012, 4725,    182.5,  21.7280,  35.1843,2,  35.1882,2,    203.6,2,    203.1,2,  -999.00,9,  -999.00,9,  -999.00,9,    182,-999.000,  -999.0, 21.6922
     32MW062_1,  PRS2,     2,  2,     18,     18,2,19950405,2102, 22.7518,-158.0012, 4725,    231.2,  19.2588,  35.0885,2,  35.0734,2,    190.9,2,    194.5,2,  -999.00,9,  -999.00,9,  -999.00,9,    231,-999.000,  -999.0, 19.2171
     32MW062_1,  PRS2,     2,  2,     17,     17,2,19950405,2102, 22.7518,-158.0012, 4725,    276.1,  15.5327,  34.5754,2,  34.5777,2,    184.6,2,    184.1,2,  -999.00,9,  -999.00,9,  -999.00,9,    276,-999.000,  -999.0, 15.4900
     32MW062_1,  PRS2,     2,  2,     16,     16,2,19950405,2102, 22.7518,-158.0012, 4725,    344.7,  11.8907,  34.2535,2,  34.2606,2,    178.4,2,    182.2,2,  -999.00,9,  -999.00,9,  -999.00,9,    345,-999.000,  -999.0, 11.8461
     32MW062_1,  PRS2,     2,  2,     15,     15,2,19950405,2102, 22.7518,-158.0012, 4725,    354.5,  11.3562,  34.2207,2,  34.2219,2,    176.8,2,    181.8,2,  -999.00,9,  -999.00,9,  -999.00,9,    355,-999.000,  -999.0, 11.3116
     32MW062_1,  PRS2,     2,  2,     14,     14,2,19950405,2102, 22.7518,-158.0012, 4725,    374.7,  10.7545,  34.1828,2,  34.1794,2,    178.5,2,    184.0,2,  -999.00,9,  -999.00,9,  -999.00,9,    374,-999.000,  -999.0, 10.7090
     32MW062_1,  PRS2,     2,  2,     13,     13,2,19950405,2102, 22.7518,-158.0012, 4725,    406.2,   9.8624,  34.1300,2,  34.1278,2,    193.6,2,    194.1,2,  -999.00,9,  -999.00,9,  -999.00,9,    407,-999.000,  -999.0,  9.8157
     32MW062_1,  PRS2,     2,  2,     12,     12,2,19950405,2102, 22.7518,-158.0012, 4725,    437.1,   8.9770,  34.0889,2,  34.0867,2,    179.0,2,    181.5,2,  -999.00,9,  -999.00,9,  -999.00,9,    438,-999.000,  -999.0,  8.9295
     32MW062_1,  PRS2,     2,  2,     11,     11,2,19950405,2102, 22.7518,-158.0012, 4725,    512.2,   7.2213,  34.0445,2,  34.0806,4,    130.8,3,    127.4,2,  -999.00,9,  -999.00,9,  -999.00,9,    512,-999.000,  -999.0,  7.1722
     32MW062_1,  PRS2,     2,  2,     10,     32,2,19950405,2102, 22.7518,-158.0012, 4725,    545.1,   6.5776,  34.0439,2,  34.0420,2,    106.6,2,    106.0,2,  -999.00,9,  -999.00,9,  -999.00,9,    545,-999.000,  -999.0,  6.5278
     32MW062_1,  PRS2,     2,  2,      9,      3,2,19950405,2102, 22.7518,-158.0012, 4725,    601.0,   5.9711,  34.0798,2,  34.0802,2,     72.2,2,     71.6,2,  -999.00,9,  -999.00,9,  -999.00,9,    601,-999.000,  -999.0,  5.9187
     32MW062_1,  PRS2,     2,  2,      8,     29,2,19950405,2102, 22.7518,-158.0012, 4725,    654.5,   5.2713,  34.1345,2,  34.1341,2,     47.8,2,     47.8,2,  -999.00,9,  -999.00,9,  -999.00,9,    655,-999.000,  -999.0,  5.2175
     32MW062_1,  PRS2,     2,  2,      7,     28,2,19950405,2102, 22.7518,-158.0012, 4725,    714.6,   4.9216,  34.2003,2,  34.1992,2,     38.1,2,     34.0,2,  -999.00,9,  -999.00,9,  -999.00,9,    714,-999.000,  -999.0,  4.8644
     32MW062_1,  PRS2,     2,  2,      6,      7,2,19950405,2102, 22.7518,-158.0012, 4725,    795.6,   4.7681,  34.3139,2,  34.3137,2,     31.7,2,     29.9,2,  -999.00,9,  -999.00,9,  -999.00,9,    796,-999.000,  -999.0,  4.7047
     32MW062_1,  PRS2,     2,  2,      5,     23,2,19950405,2102, 22.7518,-158.0012, 4725,    840.9,   4.5679,  34.3431,2,  34.3430,2,     30.3,2,     29.7,2,  -999.00,9,  -999.00,9,  -999.00,9,    842,-999.000,  -999.0,  4.5018
     32MW062_1,  PRS2,     2,  2,      4,     36,2,19950405,2102, 22.7518,-158.0012, 4725,    893.2,   4.2253,  34.3674,2,  34.3664,2,     30.5,2,     31.0,2,  -999.00,9,  -999.00,9,  -999.00,9,    894,-999.000,  -999.0,  4.1570
     32MW062_1,  PRS2,     2,  2,      3,     35,2,19950405,2102, 22.7518,-158.0012, 4725,    926.0,   4.1844,  34.4027,2,  34.4028,2,     33.7,2,     33.0,2,  -999.00,9,  -999.00,9,  -999.00,9,    926,-999.000,  -999.0,  4.1137
     32MW062_1,  PRS2,     2,  2,      2,     34,2,19950405,2102, 22.7518,-158.0012, 4725,    974.5,   3.9246,  34.4304,2,  34.4315,2,     34.5,2,     34.6,2,  -999.00,9,  -999.00,9,  -999.00,9,    974,-999.000,  -999.0,  3.8517
     32MW062_1,  PRS2,     2,  2,      1,     33,2,19950405,2102, 22.7518,-158.0012, 4725,   1019.1,   3.7894,  34.4440,2,  34.4464,2,     37.2,2,     38.0,2,  -999.00,9,  -999.00,9,  -999.00,9,   1019,-999.000,  -999.0,  3.7139