BOTTLE,20020809WHPSIObren
EXPOCODE,SECT_ID,STNNBR,CASTNO,SAMPNO,BTLNBR,BTLNBR_FLAG_W,DATE,TIME,LATITUDE,LONGITUDE,DEPTH,CTDPRS,CTDTMP,CTDSAL,CTDSAL_FLAG_W,SALNTY,SALNTY_FLAG_W,CTDOXY,CTDOXY_FLAG_W,OXYGEN,OXYGEN_FLAG_W,SILCAT,SILCAT_FLAG_W,NO2+NO3,NO2+NO3_FLAG_W,PHSPHT,PHSPHT_FLAG_W,CTDRAW,REVTMP,REVPRS,THETA
,,,,,,,,,,,,DBAR,ITS-90,PSS-78,,PSS-78,,UMOL/KG,,UMOL/KG,,UMOL/KG,,UMOL/KG,,UMOL/KG,,,DEG C,DBAR,ITS-90
     32MW062_1,  PRS2,     2,  7,     17,     17,2,19950406,1204, 22.7662,-157.9992, 4715,      4.7,  23.7554,  34.5184,2,  34.5168,2,    217.1,2,   -999.0,5,  -999.00,9,  -999.00,9,  -999.00,9,      5,-999.000,  -999.0, 23.7545
     32MW062_1,  PRS2,     2,  7,     16,     16,2,19950406,1204, 22.7662,-157.9992, 4715,    110.1,  22.8552,  35.0658,2,  35.0661,2,    212.4,2,    206.2,6,  -999.00,9,  -999.00,9,  -999.00,9,    111,-999.000,  -999.0, 22.8328
     32MW062_1,  PRS2,     2,  7,     15,     15,2,19950406,1204, 22.7662,-157.9992, 4715,    119.9,  22.6512,  35.0993,2,  35.1012,2,    211.0,2,   -999.0,5,  -999.00,9,  -999.00,9,  -999.00,9,    121,-999.000,  -999.0, 22.6270
     32MW062_1,  PRS2,     2,  7,     14,     14,2,19950406,1204, 22.7662,-157.9992, 4715,    129.0,  22.4150,  35.1169,2,  35.1158,2,    211.2,2,    211.0,6,  -999.00,9,  -999.00,9,  -999.00,9,    130,-999.000,  -999.0, 22.3891
     32MW062_1,  PRS2,     2,  7,     13,     13,2,19950406,1204, 22.7662,-157.9992, 4715,    139.9,  22.1295,  35.0905,2,  35.0893,2,    212.6,2,    209.2,6,  -999.00,9,  -999.00,9,  -999.00,9,    140,-999.000,  -999.0, 22.1017
     32MW062_1,  PRS2,     2,  7,     12,     12,2,19950406,1204, 22.7662,-157.9992, 4715,    149.9,  21.8344,  35.0965,2,  35.1084,2,    213.1,2,    208.1,6,  -999.00,9,  -999.00,9,  -999.00,9,    150,-999.000,  -999.0, 21.8049
     32MW062_1,  PRS2,     2,  7,     11,     11,2,19950406,1204, 22.7662,-157.9992, 4715,    160.2,  21.4726,  35.1167,2,  35.1070,2,    208.2,2,    205.1,6,  -999.00,9,  -999.00,9,  -999.00,9,    160,-999.000,  -999.0, 21.4415
     32MW062_1,  PRS2,     2,  7,     10,     32,2,19950406,1204, 22.7662,-157.9992, 4715,    174.5,  21.0107,  35.1603,2,  35.1603,2,    202.9,2,    202.7,6,  -999.00,9,  -999.00,9,  -999.00,9,    176,-999.000,  -999.0, 20.9773
     32MW062_1,  PRS2,     2,  7,      9,      3,2,19950406,1204, 22.7662,-157.9992, 4715,    178.4,  20.7342,  35.1530,2,  35.1509,2,    201.2,2,    201.3,6,  -999.00,9,  -999.00,9,  -999.00,9,    179,-999.000,  -999.0, 20.7004
     32MW062_1,  PRS2,     2,  7,      8,     29,2,19950406,1204, 22.7662,-157.9992, 4715,    189.0,  20.1335,  35.1163,2,  35.1203,2,    203.0,2,    200.0,6,  -999.00,9,  -999.00,9,  -999.00,9,    189,-999.000,  -999.0, 20.0984
     32MW062_1,  PRS2,     2,  7,      7,     28,2,19950406,1204, 22.7662,-157.9992, 4715,    200.0,  19.2865,  35.0599,2,  35.0588,2,    193.6,2,    197.2,6,  -999.00,9,  -999.00,9,  -999.00,9,    201,-999.000,  -999.0, 19.2504
     32MW062_1,  PRS2,     2,  7,      5,     23,2,19950406,1204, 22.7662,-157.9992, 4715,    219.8,  18.7863,  35.0329,2,  35.0331,2,    197.6,2,   -999.0,5,  -999.00,9,  -999.00,9,  -999.00,9,    221,-999.000,  -999.0, 18.7474
     32MW062_1,  PRS2,     2,  7,      6,      7,2,19950406,1204, 22.7662,-157.9992, 4715,    220.0,  18.7702,  35.0336,2,  35.0326,2,    197.1,2,    197.6,6,  -999.00,9,  -999.00,9,  -999.00,9,    221,-999.000,  -999.0, 18.7313
     32MW062_1,  PRS2,     2,  7,      4,     36,2,19950406,1204, 22.7662,-157.9992, 4715,    250.2,  17.4449,  34.8459,2,  34.8475,2,    193.1,2,    194.2,6,  -999.00,9,  -999.00,9,  -999.00,9,    251,-999.000,  -999.0, 17.4028
     32MW062_1,  PRS2,     2,  7,      3,     35,2,19950406,1204, 22.7662,-157.9992, 4715,    300.7,  14.3632,  34.4329,2,  34.4560,3,    183.1,3,    187.4,6,  -999.00,9,  -999.00,9,  -999.00,9,    301,-999.000,  -999.0, 14.3191
     32MW062_1,  PRS2,     2,  7,      2,     34,2,19950406,1204, 22.7662,-157.9992, 4715,    500.9,   7.6218,  34.0426,2,  34.0437,2,    147.5,2,    149.8,6,  -999.00,9,  -999.00,9,  -999.00,9,    501,-999.000,  -999.0,  7.5723
     32MW062_1,  PRS2,     2,  7,      1,     33,2,19950406,1204, 22.7662,-157.9992, 4715,   1019.5,   3.8713,  34.4374,2,  34.4376,2,     26.4,2,   -999.0,5,  -999.00,9,  -999.00,9,  -999.00,9,   1019,-999.000,  -999.0,  3.7952
     32MW062_1,  PRS2,     2,  8,     14,     14,2,19950406,1446, 22.7532,-157.9997, 4720,      5.0,  23.7769,  34.4988,2,  34.4986,2,    219.3,1,   -999.0,9,  -999.00,9,  -999.00,9,  -999.00,9,      5,-999.000,  -999.0, 23.7759
     32MW062_1,  PRS2,     2,  8,     13,     13,2,19950406,1446, 22.7532,-157.9997, 4720,      9.7,  23.7815,  34.4983,2,  34.5062,2,    219.3,1,   -999.0,9,  -999.00,9,  -999.00,9,  -999.00,9,     10,-999.000,  -999.0, 23.7794
     32MW062_1,  PRS2,     2,  8,     12,     12,2,19950406,1446, 22.7532,-157.9997, 4720,     20.7,  23.7847,  34.5049,2,  34.5066,2,    219.3,1,   -999.0,9,  -999.00,9,  -999.00,9,  -999.00,9,     22,-999.000,  -999.0, 23.7804
     32MW062_1,  PRS2,     2,  8,     11,     11,2,19950406,1446, 22.7532,-157.9997, 4720,     29.4,  23.6880,  34.5468,2,  34.5491,2,    219.7,1,   -999.0,9,  -999.00,9,  -999.00,9,  -999.00,9,     30,-999.000,  -999.0, 23.6819
     32MW062_1,  PRS2,     2,  8,     10,     32,2,19950406,1446, 22.7532,-157.9997, 4720,     39.5,  23.5281,  34.6310,2,  34.6265,2,    220.0,1,   -999.0,9,  -999.00,9,  -999.00,9,  -999.00,9,     40,-999.000,  -999.0, 23.5199
     32MW062_1,  PRS2,     2,  8,      9,      3,2,19950406,1446, 22.7532,-157.9997, 4720,     59.5,  23.3989,  34.6774,2,  34.6872,2,    221.9,1,   -999.0,9,  -999.00,9,  -999.00,9,  -999.00,9,     60,-999.000,  -999.0, 23.3867
     32MW062_1,  PRS2,     2,  8,      8,     29,2,19950406,1446, 22.7532,-157.9997, 4720,     80.1,  23.1433,  34.7802,2,  34.7803,2,    221.0,1,   -999.0,9,  -999.00,9,  -999.00,9,  -999.00,9,     81,-999.000,  -999.0, 23.1269
     32MW062_1,  PRS2,     2,  8,      7,     28,2,19950406,1446, 22.7532,-157.9997, 4720,    125.1,  22.8905,  35.0525,2,  35.0586,2,    215.3,1,   -999.0,9,  -999.00,9,  -999.00,9,  -999.00,9,    124,-999.000,  -999.0, 22.8650
     32MW062_1,  PRS2,     2,  8,      6,      7,2,19950406,1446, 22.7532,-157.9997, 4720,    140.6,  22.6756,  35.1151,2,  35.1100,2,    215.2,1,   -999.0,9,  -999.00,9,  -999.00,9,  -999.00,9,    141,-999.000,  -999.0, 22.6471
     32MW062_1,  PRS2,     2,  8,      5,     23,2,19950406,1446, 22.7532,-157.9997, 4720,    167.4,  21.6599,  35.0970,2,  35.1023,2,    211.8,1,   -999.0,9,  -999.00,9,  -999.00,9,  -999.00,9,    167,-999.000,  -999.0, 21.6271
     32MW062_1,  PRS2,     2,  8,      4,     36,2,19950406,1446, 22.7532,-157.9997, 4720,    542.8,   6.8630,  34.0362,2,  34.0356,2,    120.8,1,   -999.0,9,  -999.00,9,  -999.00,9,  -999.00,9,    544,-999.000,  -999.0,  6.8123
     32MW062_1,  PRS2,     2,  8,      1,     33,2,19950406,1446, 22.7532,-157.9997, 4720,   1021.1,   3.8991,  34.4779,2,  34.4792,2,     32.2,1,   -999.0,9,  -999.00,9,  -999.00,9,  -999.00,9,   1021,-999.000,  -999.0,  3.8225
     32MW062_1,  PRS2,     2,  8,      2,     34,2,19950406,1446, 22.7532,-157.9997, 4720,   1022.0,   3.8967,  34.4779,2,  34.4787,2,     32.1,1,   -999.0,9,  -999.00,9,  -999.00,9,  -999.00,9,   1021,-999.000,  -999.0,  3.8200
     32MW062_1,  PRS2,     2,  8,      3,     35,2,19950406,1446, 22.7532,-157.9997, 4720,   1023.9,   3.8949,  34.4777,2,  34.4808,2,     32.1,1,   -999.0,9,  -999.00,9,  -999.00,9,  -999.00,9,   1023,-999.000,  -999.0,  3.8181
     32MW062_1,  PRS2,     2,  9,     16,     16,2,19950406,1759, 22.7895,-158.0300, 4720,      4.8,  23.6974,  34.5371,2,  34.5399,2,    218.4,1,   -999.0,9,  -999.00,9,  -999.00,9,  -999.00,9,      6,-999.000,  -999.0, 23.6964
     32MW062_1,  PRS2,     2,  9,     15,     15,2,19950406,1759, 22.7895,-158.0300, 4720,     24.5,  23.7002,  34.5366,2,  34.5356,2,    218.3,1,   -999.0,9,  -999.00,9,  -999.00,9,  -999.00,9,     25,-999.000,  -999.0, 23.6952
     32MW062_1,  PRS2,     2,  9,     14,     14,2,19950406,1759, 22.7895,-158.0300, 4720,     45.2,  23.6189,  34.5838,2,  34.5853,2,    218.7,1,   -999.0,9,  -999.00,9,  -999.00,9,  -999.00,9,     45,-999.000,  -999.0, 23.6096
     32MW062_1,  PRS2,     2,  9,     13,     13,2,19950406,1759, 22.7895,-158.0300, 4720,     74.4,  23.4015,  34.6823,2,  34.6823,2,    220.4,1,   -999.0,9,  -999.00,9,  -999.00,9,  -999.00,9,     75,-999.000,  -999.0, 23.3862
     32MW062_1,  PRS2,     2,  9,     12,     12,2,19950406,1759, 22.7895,-158.0300, 4720,     99.8,  23.0944,  34.8677,2,  34.8712,2,    218.4,1,   -999.0,9,  -999.00,9,  -999.00,9,  -999.00,9,    100,-999.000,  -999.0, 23.0740
     32MW062_1,  PRS2,     2,  9,     11,     11,2,19950406,1759, 22.7895,-158.0300, 4720,    110.3,  23.0024,  34.8791,2,  34.8811,2,    220.5,1,   -999.0,9,  -999.00,9,  -999.00,9,  -999.00,9,    110,-999.000,  -999.0, 22.9799
     32MW062_1,  PRS2,     2,  9,     10,     32,2,19950406,1759, 22.7895,-158.0300, 4720,    124.2,  22.9662,  35.0066,2,  35.0068,2,    216.0,1,   -999.0,9,  -999.00,9,  -999.00,9,  -999.00,9,    125,-999.000,  -999.0, 22.9409
     32MW062_1,  PRS2,     2,  9,      9,      3,2,19950406,1759, 22.7895,-158.0300, 4720,    139.5,  22.8843,  35.0256,2,  35.0451,3,    216.0,1,   -999.0,9,  -999.00,9,  -999.00,9,  -999.00,9,    140,-999.000,  -999.0, 22.8560
     32MW062_1,  PRS2,     2,  9,      8,     29,2,19950406,1759, 22.7895,-158.0300, 4720,    149.7,  22.7302,  35.0639,2,  35.0688,2,    214.7,1,   -999.0,9,  -999.00,9,  -999.00,9,  -999.00,9,    150,-999.000,  -999.0, 22.6999
     32MW062_1,  PRS2,     2,  9,      7,     28,2,19950406,1759, 22.7895,-158.0300, 4720,    159.4,  22.4211,  35.1001,2,  35.0861,2,    215.7,1,   -999.0,9,  -999.00,9,  -999.00,9,  -999.00,9,    160,-999.000,  -999.0, 22.3891
     32MW062_1,  PRS2,     2,  9,      6,      7,2,19950406,1759, 22.7895,-158.0300, 4720,    174.5,  22.0499,  35.1162,2,  35.1184,2,    211.3,1,   -999.0,9,  -999.00,9,  -999.00,9,  -999.00,9,    174,-999.000,  -999.0, 22.0153
     32MW062_1,  PRS2,     2,  9,      5,     23,3,19950406,1759, 22.7895,-158.0300, 4720,    249.6,  19.0027,  35.0378,2,  35.0412,2,    197.1,1,   -999.0,9,  -999.00,9,  -999.00,9,  -999.00,9,    250,-999.000,  -999.0, 18.9581
     32MW062_1,  PRS2,     2,  9,      4,     36,2,19950406,1759, 22.7895,-158.0300, 4720,    500.8,   7.7331,  34.0442,2,  34.0420,2,    147.0,1,   -999.0,9,  -999.00,9,  -999.00,9,  -999.00,9,    501,-999.000,  -999.0,  7.6831
     32MW062_1,  PRS2,     2,  9,      3,     35,2,19950406,1759, 22.7895,-158.0300, 4720,    530.8,   6.8722,  34.0355,2,  34.0338,2,    116.7,1,   -999.0,9,  -999.00,9,  -999.00,9,  -999.00,9,    531,-999.000,  -999.0,  6.8226
     32MW062_1,  PRS2,     2,  9,      2,     34,2,19950406,1759, 22.7895,-158.0300, 4720,    750.8,   4.8504,  34.2897,2,  34.2889,2,     23.3,1,   -999.0,9,  -999.00,9,  -999.00,9,  -999.00,9,    751,-999.000,  -999.0,  4.7903
     32MW062_1,  PRS2,     2,  9,      1,     33,2,19950406,1759, 22.7895,-158.0300, 4720,   1020.6,   3.7893,  34.4618,2,  34.4626,2,     29.9,1,   -999.0,9,  -999.00,9,  -999.00,9,  -999.00,9,   1021,-999.000,  -999.0,  3.7137
     32MW062_1,  PRS2,     2, 10,      4,     36,2,19950406,2058, 22.8170,-158.0593, 4715,      5.0,  23.7115,  34.5397,2,  34.5408,2,    218.4,1,   -999.0,9,  -999.00,9,  -999.00,9,  -999.00,9,      5,-999.000,  -999.0, 23.7105
     32MW062_1,  PRS2,     2, 10,      3,     35,2,19950406,2058, 22.8170,-158.0593, 4715,    161.0,  22.1514,  35.0622,2,  35.0535,2,    211.9,1,   -999.0,9,  -999.00,9,  -999.00,9,  -999.00,9,    160,-999.000,  -999.0, 22.1194
     32MW062_1,  PRS2,     2, 10,      2,     34,2,19950406,2058, 22.8170,-158.0593, 4715,    517.2,   7.3250,  34.0381,2,  34.0371,2,    133.0,1,   -999.0,9,  -999.00,9,  -999.00,9,  -999.00,9,    517,-999.000,  -999.0,  7.2749
     32MW062_1,  PRS2,     2, 10,      1,     33,2,19950406,2058, 22.8170,-158.0593, 4715,   1019.6,   3.8526,  34.4739,2,  34.4756,2,     29.7,1,   -999.0,9,  -999.00,9,  -999.00,9,  -999.00,9,   1021,-999.000,  -999.0,  3.7765
     32MW062_1,  PRS2,     2, 11,     16,     16,2,19950406,2359, 22.8177,-158.0485, 4710,      5.0,  23.8383,  34.4865,2,  34.4868,2,    215.1,1,   -999.0,9,  -999.00,9,  -999.00,9,  -999.00,9,      6,-999.000,  -999.0, 23.8372
     32MW062_1,  PRS2,     2, 11,     15,     15,2,19950406,2359, 22.8177,-158.0485, 4710,     24.9,  23.7953,  34.4900,2,  34.4896,2,    216.4,1,   -999.0,9,  -999.00,9,  -999.00,9,  -999.00,9,     25,-999.000,  -999.0, 23.7901
     32MW062_1,  PRS2,     2, 11,     14,     14,2,19950406,2359, 22.8177,-158.0485, 4710,     45.0,  23.7242,  34.5414,2,  34.5550,2,    217.6,1,   -999.0,9,  -999.00,9,  -999.00,9,  -999.00,9,     45,-999.000,  -999.0, 23.7148
     32MW062_1,  PRS2,     2, 11,     13,     13,2,19950406,2359, 22.8177,-158.0485, 4710,     74.4,  23.1801,  34.7606,2,  34.7559,2,    218.4,1,   -999.0,9,  -999.00,9,  -999.00,9,  -999.00,9,     74,-999.000,  -999.0, 23.1648
     32MW062_1,  PRS2,     2, 11,     12,     12,2,19950406,2359, 22.8177,-158.0485, 4710,     99.6,  22.9991,  34.9021,2,  34.9013,2,    216.2,1,   -999.0,9,  -999.00,9,  -999.00,9,  -999.00,9,    100,-999.000,  -999.0, 22.9788
     32MW062_1,  PRS2,     2, 11,     11,     11,2,19950406,2359, 22.8177,-158.0485, 4710,    109.8,  22.9801,  34.8982,2,  34.8990,2,    216.7,1,   -999.0,9,  -999.00,9,  -999.00,9,  -999.00,9,    110,-999.000,  -999.0, 22.9577
     32MW062_1,  PRS2,     2, 11,     10,     32,2,19950406,2359, 22.8177,-158.0485, 4710,    125.2,  22.8446,  35.0531,2,  35.0706,3,    214.6,1,   -999.0,9,  -999.00,9,  -999.00,9,  -999.00,9,    125,-999.000,  -999.0, 22.8192
     32MW062_1,  PRS2,     2, 11,      9,      3,2,19950406,2359, 22.8177,-158.0485, 4710,    140.4,  22.2760,  35.0787,2,  35.0856,2,    212.1,1,   -999.0,9,  -999.00,9,  -999.00,9,  -999.00,9,    140,-999.000,  -999.0, 22.2480
     32MW062_1,  PRS2,     2, 11,      8,     29,2,19950406,2359, 22.8177,-158.0485, 4710,    150.1,  22.1058,  35.0795,2,  35.0690,2,    210.6,1,   -999.0,9,  -999.00,9,  -999.00,9,  -999.00,9,    150,-999.000,  -999.0, 22.0760
     32MW062_1,  PRS2,     2, 11,      7,     28,2,19950406,2359, 22.8177,-158.0485, 4710,    160.3,  21.6746,  35.1226,2,  35.1219,2,    210.9,1,   -999.0,9,  -999.00,9,  -999.00,9,  -999.00,9,    160,-999.000,  -999.0, 21.6432
     32MW062_1,  PRS2,     2, 11,      6,      7,2,19950406,2359, 22.8177,-158.0485, 4710,    175.1,  21.1786,  35.1151,2,  35.1145,2,    205.7,1,   -999.0,9,  -999.00,9,  -999.00,9,  -999.00,9,    175,-999.000,  -999.0, 21.1449
     32MW062_1,  PRS2,     2, 11,      5,     23,2,19950406,2359, 22.8177,-158.0485, 4710,    250.7,  17.1972,  34.8141,2,  34.8195,2,    193.4,1,   -999.0,9,  -999.00,9,  -999.00,9,  -999.00,9,    252,-999.000,  -999.0, 17.1554
     32MW062_1,  PRS2,     2, 11,      4,     36,2,19950406,2359, 22.8177,-158.0485, 4710,    500.5,   7.8965,  34.0490,2,  34.0480,2,    158.2,1,   -999.0,9,  -999.00,9,  -999.00,9,  -999.00,9,    501,-999.000,  -999.0,  7.8460
     32MW062_1,  PRS2,     2, 11,      3,     35,2,19950406,2359, 22.8177,-158.0485, 4710,    542.3,   7.0273,  34.0349,2,  34.0341,2,    124.0,1,   -999.0,9,  -999.00,9,  -999.00,9,  -999.00,9,    542,-999.000,  -999.0,  6.9759
     32MW062_1,  PRS2,     2, 11,      2,     34,2,19950406,2359, 22.8177,-158.0485, 4710,    749.9,   4.9941,  34.2259,2,  34.2256,2,     20.2,1,   -999.0,9,  -999.00,9,  -999.00,9,  -999.00,9,    751,-999.000,  -999.0,  4.9333
     32MW062_1,  PRS2,     2, 11,      1,     33,2,19950406,2359, 22.8177,-158.0485, 4710,   1019.3,   3.9391,  34.4649,2,  34.4686,2,     29.1,1,   -999.0,9,  -999.00,9,  -999.00,9,  -999.00,9,   1020,-999.000,  -999.0,  3.8624
     32MW062_1,  PRS2,     2, 12,      9,      3,2,19950407,0257, 22.8193,-158.0380, 4705,      4.8,  23.8425,  34.4723,2,  34.4765,2,    221.0,2,   -999.0,5,  -999.00,9,  -999.00,9,  -999.00,9,      5,-999.000,  -999.0, 23.8415
     32MW062_1,  PRS2,     2, 12,      8,     29,2,19950407,0257, 22.8193,-158.0380, 4705,    174.8,  21.2617,  35.1183,2,  35.1184,2,    188.1,2,   -999.0,5,  -999.00,9,  -999.00,9,  -999.00,9,    176,-999.000,  -999.0, 21.2280
     32MW062_1,  PRS2,     2, 12,      7,     28,2,19950407,0257, 22.8193,-158.0380, 4705,    350.8,  12.0237,  34.2631,2,  34.2638,2,    175.6,2,    186.3,6,  -999.00,9,  -999.00,9,  -999.00,9,    351,-999.000,  -999.0, 11.9779
     32MW062_1,  PRS2,     2, 12,      6,      7,2,19950407,0257, 22.8193,-158.0380, 4705,    400.5,  10.1778,  34.1460,2,  34.1463,2,    204.7,2,    198.4,6,  -999.00,9,  -999.00,9,  -999.00,9,    400,-999.000,  -999.0, 10.1308
     32MW062_1,  PRS2,     2, 12,      5,     23,2,19950407,0257, 22.8193,-158.0380, 4705,    450.8,   8.4764,  34.0688,2,  34.0721,2,    176.7,2,    171.6,6,  -999.00,9,  -999.00,9,  -999.00,9,    451,-999.000,  -999.0,  8.4291
     32MW062_1,  PRS2,     2, 12,      4,     36,2,19950407,0257, 22.8193,-158.0380, 4705,    500.9,   7.5847,  34.0417,2,  34.0417,2,    156.4,2,   -999.0,5,  -999.00,9,  -999.00,9,  -999.00,9,    501,-999.000,  -999.0,  7.5352
     32MW062_1,  PRS2,     2, 12,      3,     35,2,19950407,0257, 22.8193,-158.0380, 4705,    549.7,   6.5280,  34.0433,2,  34.0418,2,    106.5,2,    105.2,6,  -999.00,9,  -999.00,9,  -999.00,9,    550,-999.000,  -999.0,  6.4780
     32MW062_1,  PRS2,     2, 12,      2,     34,2,19950407,0257, 22.8193,-158.0380, 4705,    603.0,   6.0874,  34.0649,2,  34.0637,2,     84.5,2,     80.9,6,  -999.00,9,  -999.00,9,  -999.00,9,    604,-999.000,  -999.0,  6.0343
     32MW062_1,  PRS2,     2, 12,      1,     33,2,19950407,0257, 22.8193,-158.0380, 4705,   1021.9,   3.9503,  34.4637,2,  34.4736,4,     40.5,3,   -999.0,5,  -999.00,9,  -999.00,9,  -999.00,9,   1022,-999.000,  -999.0,  3.8733
     32MW062_1,  PRS2,     2, 13,      5,     23,2,19950407,0645, 22.8102,-158.0400, 4715,      4.5,  23.9324,  34.4941,2,  34.4932,2,    217.7,1,   -999.0,9,  -999.00,9,  -999.00,9,  -999.00,9,      5,-999.000,  -999.0, 23.9314
     32MW062_1,  PRS2,     2, 13,      4,     36,2,19950407,0645, 22.8102,-158.0400, 4715,     24.8,  23.9391,  34.4936,2,  34.4942,2,    217.7,1,   -999.0,9,  -999.00,9,  -999.00,9,  -999.00,9,     25,-999.000,  -999.0, 23.9339
     32MW062_1,  PRS2,     2, 13,      3,     35,2,19950407,0645, 22.8102,-158.0400, 4715,    174.6,  22.1523,  35.2180,2,  35.2214,2,    206.9,1,   -999.0,9,  -999.00,9,  -999.00,9,  -999.00,9,    174,-999.000,  -999.0, 22.1176
     32MW062_1,  PRS2,     2, 13,      2,     34,2,19950407,0645, 22.8102,-158.0400, 4715,    541.0,   6.7180,  34.0403,2,  34.0391,2,    115.0,1,   -999.0,9,  -999.00,9,  -999.00,9,  -999.00,9,    542,-999.000,  -999.0,  6.6680
     32MW062_1,  PRS2,     2, 13,      1,     33,2,19950407,0645, 22.8102,-158.0400, 4715,   1018.9,   3.8964,  34.4534,2,  34.4541,2,     34.7,1,   -999.0,9,  -999.00,9,  -999.00,9,  -999.00,9,   1020,-999.000,  -999.0,  3.8200