BOTTLE,20020809WHPSIObren
EXPOCODE,SECT_ID,STNNBR,CASTNO,SAMPNO,BTLNBR,BTLNBR_FLAG_W,DATE,TIME,LATITUDE,LONGITUDE,DEPTH,CTDPRS,CTDTMP,CTDSAL,CTDSAL_FLAG_W,SALNTY,SALNTY_FLAG_W,CTDOXY,CTDOXY_FLAG_W,OXYGEN,OXYGEN_FLAG_W,SILCAT,SILCAT_FLAG_W,NO2+NO3,NO2+NO3_FLAG_W,PHSPHT,PHSPHT_FLAG_W,CTDRAW,REVTMP,REVPRS,THETA
,,,,,,,,,,,,DBAR,ITS-90,PSS-78,,PSS-78,,UMOL/KG,,UMOL/KG,,UMOL/KG,,UMOL/KG,,UMOL/KG,,,DEG C,DBAR,ITS-90
     32MW062_1,  PRS2,     2,  3,     16,     16,2,19950406,0000, 22.7790,-157.9923, 4715,      5.3,  23.7522,  34.5151,2,  34.5137,2,    210.2,1,   -999.0,9,  -999.00,9,  -999.00,9,  -999.00,9,      6,-999.000,  -999.0, 23.7511
     32MW062_1,  PRS2,     2,  3,     15,     15,2,19950406,0000, 22.7790,-157.9923, 4715,     24.7,  23.7110,  34.5187,2,  34.5163,2,    210.1,1,   -999.0,9,  -999.00,9,  -999.00,9,  -999.00,9,     26,-999.000,  -999.0, 23.7059
     32MW062_1,  PRS2,     2,  3,     14,     14,2,19950406,0000, 22.7790,-157.9923, 4715,     45.1,  23.6642,  34.5379,2,  34.5365,2,    211.7,1,   -999.0,9,  -999.00,9,  -999.00,9,  -999.00,9,     45,-999.000,  -999.0, 23.6549
     32MW062_1,  PRS2,     2,  3,     13,     13,2,19950406,0000, 22.7790,-157.9923, 4715,     75.3,  23.4084,  34.6828,2,  34.6836,2,    213.6,1,   -999.0,9,  -999.00,9,  -999.00,9,  -999.00,9,     76,-999.000,  -999.0, 23.3929
     32MW062_1,  PRS2,     2,  3,     12,     12,2,19950406,0000, 22.7790,-157.9923, 4715,     99.4,  23.0884,  34.8421,2,  34.8476,2,    213.2,1,   -999.0,9,  -999.00,9,  -999.00,9,  -999.00,9,     99,-999.000,  -999.0, 23.0681
     32MW062_1,  PRS2,     2,  3,     11,     11,2,19950406,0000, 22.7790,-157.9923, 4715,    109.5,  22.9298,  34.8872,2,  34.8873,2,    211.2,1,   -999.0,9,  -999.00,9,  -999.00,9,  -999.00,9,    109,-999.000,  -999.0, 22.9075
     32MW062_1,  PRS2,     2,  3,     10,     32,2,19950406,0000, 22.7790,-157.9923, 4715,    124.9,  22.4880,  35.0110,2,  35.0011,2,    207.5,1,   -999.0,9,  -999.00,9,  -999.00,9,  -999.00,9,    125,-999.000,  -999.0, 22.4629
     32MW062_1,  PRS2,     2,  3,      9,      3,2,19950406,0000, 22.7790,-157.9923, 4715,    140.1,  22.2582,  35.1523,2,  35.1536,2,    207.7,1,   -999.0,9,  -999.00,9,  -999.00,9,  -999.00,9,    141,-999.000,  -999.0, 22.2303
     32MW062_1,  PRS2,     2,  3,      8,     29,2,19950406,0000, 22.7790,-157.9923, 4715,    149.9,  22.1569,  35.1997,2,  35.1972,2,    205.4,1,   -999.0,9,  -999.00,9,  -999.00,9,  -999.00,9,    150,-999.000,  -999.0, 22.1271
     32MW062_1,  PRS2,     2,  3,      7,     28,2,19950406,0000, 22.7790,-157.9923, 4715,    159.9,  21.8582,  35.1832,2,  35.1946,2,    206.6,1,   -999.0,9,  -999.00,9,  -999.00,9,  -999.00,9,    160,-999.000,  -999.0, 21.8267
     32MW062_1,  PRS2,     2,  3,      6,      7,2,19950406,0000, 22.7790,-157.9923, 4715,    175.4,  20.8699,  35.1303,2,  35.1333,2,    195.1,1,   -999.0,9,  -999.00,9,  -999.00,9,  -999.00,9,    176,-999.000,  -999.0, 20.8364
     32MW062_1,  PRS2,     2,  3,      5,     23,2,19950406,0000, 22.7790,-157.9923, 4715,    250.6,  17.3187,  34.8309,2,  34.8284,2,    181.0,1,   -999.0,9,  -999.00,9,  -999.00,9,  -999.00,9,    250,-999.000,  -999.0, 17.2768
     32MW062_1,  PRS2,     2,  3,      4,     36,2,19950406,0000, 22.7790,-157.9923, 4715,    501.2,   7.7765,  34.0468,2,  34.0455,2,    151.9,1,   -999.0,9,  -999.00,9,  -999.00,9,  -999.00,9,    501,-999.000,  -999.0,  7.7263
     32MW062_1,  PRS2,     2,  3,      3,     35,2,19950406,0000, 22.7790,-157.9923, 4715,    520.3,   7.2181,  34.0400,2,  34.0404,2,    136.2,1,   -999.0,9,  -999.00,9,  -999.00,9,  -999.00,9,    521,-999.000,  -999.0,  7.1681
     32MW062_1,  PRS2,     2,  3,      2,     34,2,19950406,0000, 22.7790,-157.9923, 4715,    750.3,   4.9568,  34.2221,2,  34.2211,2,     30.3,1,   -999.0,9,  -999.00,9,  -999.00,9,  -999.00,9,    751,-999.000,  -999.0,  4.8962
     32MW062_1,  PRS2,     2,  3,      1,     33,2,19950406,0000, 22.7790,-157.9923, 4715,   1019.5,   3.9471,  34.4650,2,  34.4661,2,     41.1,1,   -999.0,9,  -999.00,9,  -999.00,9,  -999.00,9,   1019,-999.000,  -999.0,  3.8703
     32MW062_1,  PRS2,     2,  4,     17,     17,2,19950406,0259, 22.7497,-158.0008, 4720,      4.8,  23.7378,  34.5036,2,  34.5152,2,    208.9,2,   -999.0,5,  -999.00,9,  -999.00,9,  -999.00,9,      4,-999.000,  -999.0, 23.7369
     32MW062_1,  PRS2,     2,  4,     16,     16,2,19950406,0259, 22.7497,-158.0008, 4720,    175.1,  21.7076,  35.1454,2,  35.1672,3,    204.6,3,    205.2,2,  -999.00,9,  -999.00,9,  -999.00,9,    174,-999.000,  -999.0, 21.6733
     32MW062_1,  PRS2,     2,  4,     15,     15,2,19950406,0259, 22.7497,-158.0008, 4720,    210.4,  19.9292,  35.1179,2,  35.1163,2,    194.4,2,    196.0,2,  -999.00,9,  -999.00,9,  -999.00,9,    211,-999.000,  -999.0, 19.8903
     32MW062_1,  PRS2,     2,  4,     14,     14,2,19950406,0259, 22.7497,-158.0008, 4720,    225.2,  18.9434,  35.0432,2,  35.0387,2,    191.7,2,    194.7,2,  -999.00,9,  -999.00,9,  -999.00,9,    226,-999.000,  -999.0, 18.9033
     32MW062_1,  PRS2,     2,  4,     13,     13,2,19950406,0259, 22.7497,-158.0008, 4720,    234.1,  18.6727,  35.0112,2,  35.0122,2,    191.5,2,    194.3,2,  -999.00,9,  -999.00,9,  -999.00,9,    234,-999.000,  -999.0, 18.6314
     32MW062_1,  PRS2,     2,  4,     12,     12,2,19950406,0259, 22.7497,-158.0008, 4720,    250.0,  18.2061,  34.9533,2,  34.9571,2,    194.0,2,    194.2,2,  -999.00,9,  -999.00,9,  -999.00,9,    251,-999.000,  -999.0, 18.1628
     32MW062_1,  PRS2,     2,  4,     11,     11,2,19950406,0259, 22.7497,-158.0008, 4720,    275.0,  16.8033,  34.7596,2,  34.7572,2,    187.0,2,    190.8,2,  -999.00,9,  -999.00,9,  -999.00,9,    276,-999.000,  -999.0, 16.7582
     32MW062_1,  PRS2,     2,  4,     10,     32,2,19950406,0259, 22.7497,-158.0008, 4720,    300.5,  15.1540,  34.5213,2,  34.5264,2,    183.6,2,    181.9,2,  -999.00,9,  -999.00,9,  -999.00,9,    301,-999.000,  -999.0, 15.1082
     32MW062_1,  PRS2,     2,  4,      9,      3,2,19950406,0259, 22.7497,-158.0008, 4720,    325.2,  13.2671,  34.3145,2,  34.3143,2,    168.4,2,    169.4,2,  -999.00,9,  -999.00,9,  -999.00,9,    326,-999.000,  -999.0, 13.2218
     32MW062_1,  PRS2,     2,  4,      8,     29,2,19950406,0259, 22.7497,-158.0008, 4720,    351.3,  12.2599,  34.2803,2,  34.2799,2,    189.4,2,    183.2,2,  -999.00,9,  -999.00,9,  -999.00,9,    352,-999.000,  -999.0, 12.2135
     32MW062_1,  PRS2,     2,  4,      7,     28,2,19950406,0259, 22.7497,-158.0008, 4720,    402.6,  10.1995,  34.1479,2,  34.1459,2,    178.5,2,    187.0,2,  -999.00,9,  -999.00,9,  -999.00,9,    403,-999.000,  -999.0, 10.1522
     32MW062_1,  PRS2,     2,  4,      6,      7,2,19950406,0259, 22.7497,-158.0008, 4720,    502.0,   7.7068,  34.0472,2,  34.0494,2,    149.3,2,    148.6,2,  -999.00,9,  -999.00,9,  -999.00,9,    503,-999.000,  -999.0,  7.6568
     32MW062_1,  PRS2,     2,  4,      5,     23,3,19950406,0259, 22.7497,-158.0008, 4720,    602.2,   5.9643,  34.0789,2,  34.0762,2,     72.8,2,     73.0,2,  -999.00,9,  -999.00,9,  -999.00,9,    603,-999.000,  -999.0,  5.9118
     32MW062_1,  PRS2,     2,  4,      4,     36,2,19950406,0259, 22.7497,-158.0008, 4720,    699.5,   4.9767,  34.1773,2,  34.1765,2,     35.8,2,     39.0,2,  -999.00,9,  -999.00,9,  -999.00,9,    700,-999.000,  -999.0,  4.9204
     32MW062_1,  PRS2,     2,  4,      3,     35,2,19950406,0259, 22.7497,-158.0008, 4720,    799.9,   4.6317,  34.3360,2,  34.3355,2,     27.8,2,     29.0,2,  -999.00,9,  -999.00,9,  -999.00,9,    801,-999.000,  -999.0,  4.5687
     32MW062_1,  PRS2,     2,  4,      2,     34,2,19950406,0259, 22.7497,-158.0008, 4720,    896.3,   4.1633,  34.3829,2,  34.3827,2,     29.7,2,     31.9,2,  -999.00,9,  -999.00,9,  -999.00,9,    897,-999.000,  -999.0,  4.0952
     32MW062_1,  PRS2,     2,  4,      1,     33,2,19950406,0259, 22.7497,-158.0008, 4720,   1019.2,   3.9665,  34.4718,2,  34.4753,2,     38.2,2,     40.9,2,  -999.00,9,  -999.00,9,  -999.00,9,   1020,-999.000,  -999.0,  3.8895
     32MW062_1,  PRS2,     2,  5,     22,     22,2,19950406,0556, 22.7485,-157.9982, 4720,      4.4,  23.7336,  34.5322,2,  34.5326,2,    211.2,2,   -999.0,5,  -999.00,9,  -999.00,9,  -999.00,9,      4,-999.000,  -999.0, 23.7327
     32MW062_1,  PRS2,     2,  5,     21,     21,2,19950406,0556, 22.7485,-157.9982, 4720,      4.5,  23.7334,  34.5323,2,  34.5312,2,    211.2,2,    212.4,2,  -999.00,9,  -999.00,9,  -999.00,9,      5,-999.000,  -999.0, 23.7325
     32MW062_1,  PRS2,     2,  5,     20,     20,2,19950406,0556, 22.7485,-157.9982, 4720,     14.6,  23.7392,  34.5322,2,  34.5308,2,    211.2,2,    212.1,2,  -999.00,9,  -999.00,9,  -999.00,9,     15,-999.000,  -999.0, 23.7362
     32MW062_1,  PRS2,     2,  5,     19,     19,2,19950406,0556, 22.7485,-157.9982, 4720,     25.1,  23.7367,  34.5320,2,  34.5335,2,    211.3,2,   -999.0,5,  -999.00,9,  -999.00,9,  -999.00,9,     26,-999.000,  -999.0, 23.7315
     32MW062_1,  PRS2,     2,  5,     18,     18,2,19950406,0556, 22.7485,-157.9982, 4720,     25.1,  23.7358,  34.5322,2,  34.5314,2,    211.4,2,    211.8,2,  -999.00,9,  -999.00,9,  -999.00,9,     25,-999.000,  -999.0, 23.7306
     32MW062_1,  PRS2,     2,  5,     17,     17,2,19950406,0556, 22.7485,-157.9982, 4720,     33.6,  23.7424,  34.5322,2,  34.5328,2,    211.5,2,    212.0,2,  -999.00,9,  -999.00,9,  -999.00,9,     33,-999.000,  -999.0, 23.7354
     32MW062_1,  PRS2,     2,  5,     16,     16,2,19950406,0556, 22.7485,-157.9982, 4720,     44.8,  23.7287,  34.5352,2,  34.5340,2,    211.4,2,    212.2,2,  -999.00,9,  -999.00,9,  -999.00,9,     45,-999.000,  -999.0, 23.7194
     32MW062_1,  PRS2,     2,  5,     15,     15,2,19950406,0556, 22.7485,-157.9982, 4720,     60.9,  23.4270,  34.6146,2,  34.6080,2,    213.2,2,    214.2,2,  -999.00,9,  -999.00,9,  -999.00,9,     62,-999.000,  -999.0, 23.4144
     32MW062_1,  PRS2,     2,  5,     14,     14,2,19950406,0556, 22.7485,-157.9982, 4720,     75.2,  23.2643,  34.6952,2,  34.6959,2,    213.1,2,    214.3,2,  -999.00,9,  -999.00,9,  -999.00,9,     75,-999.000,  -999.0, 23.2488
     32MW062_1,  PRS2,     2,  5,     13,     13,2,19950406,0556, 22.7485,-157.9982, 4720,     84.9,  23.2160,  34.7390,2,  34.7366,2,    212.6,2,    214.1,2,  -999.00,9,  -999.00,9,  -999.00,9,     86,-999.000,  -999.0, 23.1985
     32MW062_1,  PRS2,     2,  5,     12,     12,2,19950406,0556, 22.7485,-157.9982, 4720,     93.3,  23.1526,  34.8149,2,  34.8137,2,    214.1,2,    213.3,2,  -999.00,9,  -999.00,9,  -999.00,9,     93,-999.000,  -999.0, 23.1335
     32MW062_1,  PRS2,     2,  5,     11,     11,2,19950406,0556, 22.7485,-157.9982, 4720,    104.5,  23.0435,  34.8399,2,  34.8386,2,    214.0,2,    213.7,2,  -999.00,9,  -999.00,9,  -999.00,9,    104,-999.000,  -999.0, 23.0222
     32MW062_1,  PRS2,     2,  5,     10,     32,2,19950406,0556, 22.7485,-157.9982, 4720,    114.4,  22.9443,  34.9125,2,  34.9044,2,    212.1,2,    212.1,2,  -999.00,9,  -999.00,9,  -999.00,9,    114,-999.000,  -999.0, 22.9210
     32MW062_1,  PRS2,     2,  5,      9,      3,2,19950406,0556, 22.7485,-157.9982, 4720,    124.0,  22.8247,  34.9471,2,  34.9435,2,    212.0,2,    214.3,2,  -999.00,9,  -999.00,9,  -999.00,9,    124,-999.000,  -999.0, 22.7995
     32MW062_1,  PRS2,     2,  5,      8,     29,2,19950406,0556, 22.7485,-157.9982, 4720,    134.9,  22.7584,  35.0205,2,  35.0124,2,    208.3,2,    208.8,2,  -999.00,9,  -999.00,9,  -999.00,9,    135,-999.000,  -999.0, 22.7311
     32MW062_1,  PRS2,     2,  5,      7,     28,2,19950406,0556, 22.7485,-157.9982, 4720,    149.2,  22.6627,  35.0847,2,  35.0852,2,    206.8,2,    208.3,2,  -999.00,9,  -999.00,9,  -999.00,9,    148,-999.000,  -999.0, 22.6326
     32MW062_1,  PRS2,     2,  5,      6,      7,2,19950406,0556, 22.7485,-157.9982, 4720,    160.2,  22.4922,  35.1300,2,  35.1268,2,    208.8,2,    208.4,2,  -999.00,9,  -999.00,9,  -999.00,9,    160,-999.000,  -999.0, 22.4599
     32MW062_1,  PRS2,     2,  5,      5,     23,3,19950406,0556, 22.7485,-157.9982, 4720,    173.8,  22.1907,  35.1187,2,  35.1229,2,    208.4,2,    207.1,2,  -999.00,9,  -999.00,9,  -999.00,9,    174,-999.000,  -999.0, 22.1560
     32MW062_1,  PRS2,     2,  5,      4,     36,2,19950406,0556, 22.7485,-157.9982, 4720,    183.6,  22.1098,  35.1853,2,  35.1895,2,    205.9,2,    206.3,2,  -999.00,9,  -999.00,9,  -999.00,9,    183,-999.000,  -999.0, 22.0733
     32MW062_1,  PRS2,     2,  5,      3,     35,2,19950406,0556, 22.7485,-157.9982, 4720,    200.3,  21.4376,  35.1327,2,  35.1098,3,    198.6,3,    202.1,2,  -999.00,9,  -999.00,9,  -999.00,9,    200,-999.000,  -999.0, 21.3986
     32MW062_1,  PRS2,     2,  5,      2,     34,2,19950406,0556, 22.7485,-157.9982, 4720,    503.4,   7.6824,  34.0456,2,  34.0455,2,    148.7,2,    148.2,2,  -999.00,9,  -999.00,9,  -999.00,9,    504,-999.000,  -999.0,  7.6324
     32MW062_1,  PRS2,     2,  5,      1,     33,2,19950406,0556, 22.7485,-157.9982, 4720,   1019.0,   3.7757,  34.4457,2,  34.4478,2,     32.0,2,     38.0,2,  -999.00,9,  -999.00,9,  -999.00,9,   1019,-999.000,  -999.0,  3.7004
     32MW062_1,  PRS2,     2,  6,     16,     16,2,19950406,0902, 22.7583,-157.9987, 4718,      3.3,  23.7449,  34.5375,2,  34.5380,2,    216.5,2,    214.8,6,  -999.00,9,  -999.00,9,  -999.00,9,      4,-999.000,  -999.0, 23.7442
     32MW062_1,  PRS2,     2,  6,     15,     15,2,19950406,0902, 22.7583,-157.9987, 4718,      9.7,  23.7536,  34.5371,2,  34.5371,2,    216.5,2,    215.1,6,  -999.00,9,  -999.00,9,  -999.00,9,     10,-999.000,  -999.0, 23.7516
     32MW062_1,  PRS2,     2,  6,     14,     14,2,19950406,0902, 22.7583,-157.9987, 4718,     20.6,  23.7561,  34.5374,2,  34.5365,2,    216.5,2,    215.0,6,  -999.00,9,  -999.00,9,  -999.00,9,     21,-999.000,  -999.0, 23.7519
     32MW062_1,  PRS2,     2,  6,     13,     13,2,19950406,0902, 22.7583,-157.9987, 4718,     30.3,  23.7580,  34.5371,2,  34.5399,2,    216.5,2,    214.8,6,  -999.00,9,  -999.00,9,  -999.00,9,     31,-999.000,  -999.0, 23.7516
     32MW062_1,  PRS2,     2,  6,     12,     12,2,19950406,0902, 22.7583,-157.9987, 4718,     39.8,  23.7593,  34.5373,2,  34.5611,4,    216.5,3,    215.3,6,  -999.00,9,  -999.00,9,  -999.00,9,     40,-999.000,  -999.0, 23.7510
     32MW062_1,  PRS2,     2,  6,     11,     11,2,19950406,0902, 22.7583,-157.9987, 4718,     49.6,  23.7603,  34.5359,2,  34.5354,2,    216.5,2,    215.4,6,  -999.00,9,  -999.00,9,  -999.00,9,     50,-999.000,  -999.0, 23.7499
     32MW062_1,  PRS2,     2,  6,     10,     32,2,19950406,0902, 22.7583,-157.9987, 4718,     60.1,  23.5846,  34.5965,2,  34.6134,3,    216.6,3,    217.1,6,  -999.00,9,  -999.00,9,  -999.00,9,     60,-999.000,  -999.0, 23.5722
     32MW062_1,  PRS2,     2,  6,      9,      3,2,19950406,0902, 22.7583,-157.9987, 4718,     70.0,  23.4668,  34.6388,2,  34.6384,2,    217.2,2,    217.4,6,  -999.00,9,  -999.00,9,  -999.00,9,     71,-999.000,  -999.0, 23.4524
     32MW062_1,  PRS2,     2,  6,      8,     29,2,19950406,0902, 22.7583,-157.9987, 4718,     79.8,  23.3572,  34.6601,2,  34.6622,2,    219.0,2,    217.9,6,  -999.00,9,  -999.00,9,  -999.00,9,     80,-999.000,  -999.0, 23.3407
     32MW062_1,  PRS2,     2,  6,      7,     28,2,19950406,0902, 22.7583,-157.9987, 4718,     89.8,  23.1871,  34.7624,2,  34.7576,2,    217.2,2,    216.8,6,  -999.00,9,  -999.00,9,  -999.00,9,     90,-999.000,  -999.0, 23.1686
     32MW062_1,  PRS2,     2,  6,      6,      7,2,19950406,0902, 22.7583,-157.9987, 4718,    100.2,  23.1333,  34.8140,2,  34.8166,2,    218.4,2,    217.0,6,  -999.00,9,  -999.00,9,  -999.00,9,    101,-999.000,  -999.0, 23.1127
     32MW062_1,  PRS2,     2,  6,      5,     23,2,19950406,0902, 22.7583,-157.9987, 4718,    110.1,  22.9164,  34.9270,2,  34.9290,2,    215.6,2,   -999.0,5,  -999.00,9,  -999.00,9,  -999.00,9,    111,-999.000,  -999.0, 22.8940
     32MW062_1,  PRS2,     2,  6,      4,     36,2,19950406,0902, 22.7583,-157.9987, 4718,    120.6,  22.8115,  35.0475,2,  35.0439,2,    212.5,2,    211.3,6,  -999.00,9,  -999.00,9,  -999.00,9,    121,-999.000,  -999.0, 22.7870
     32MW062_1,  PRS2,     2,  6,      3,     35,2,19950406,0902, 22.7583,-157.9987, 4718,    176.0,  21.3205,  35.1120,2,  35.1047,2,    201.9,2,    204.8,6,  -999.00,9,  -999.00,9,  -999.00,9,    178,-999.000,  -999.0, 21.2864
     32MW062_1,  PRS2,     2,  6,      2,     34,2,19950406,0902, 22.7583,-157.9987, 4718,    501.3,   7.3625,  34.0419,2,  34.0433,2,    136.8,2,   -999.0,5,  -999.00,9,  -999.00,9,  -999.00,9,    502,-999.000,  -999.0,  7.3139
     32MW062_1,  PRS2,     2,  6,      1,     33,2,19950406,0902, 22.7583,-157.9987, 4718,   1023.1,   3.8806,  34.4456,2,  34.4504,2,     31.7,2,   -999.0,5,  -999.00,9,  -999.00,9,  -999.00,9,   1023,-999.000,  -999.0,  3.8041