BOTTLE,20061211WHPSIODBK
EXPOCODE,SECT_ID,STNNBR,CASTNO,SAMPNO,BTLNBR,BTLNBR_FLAG_W,DATE,TIME,LATITUDE,LONGITUDE,DEPTH,CTDPRS,CTDTMP,CTDSAL,CTDSAL_FLAG_W,SALNTY,SALNTY_FLAG_W,THETA,OXYGEN,OXYGEN_FLAG_W,SILCAT,SILCAT_FLAG_W,NITRAT,NITRAT_FLAG_W,NITRIT,NITRIT_FLAG_W,PHSPHT,PHSPHT_FLAG_W,CFC-11,CFC-11_FLAG_W,CFC-12,CFC-12_FLAG_W,TRITUM,TRITUM_FLAG_W,HELIUM,HELIUM_FLAG_W,DELHE3,DELHE3_FLAG_W,NEON,NEON_FLAG_W,TCARBN,TCARBN_FLAG_W,HELIER,TRITER,NEONER,DELHER
,,,,,,,,,,,,DBAR,ITS-90,PSS-78,,PSS-78,,DEG C,UMOL/KG,,UMOL/KG,,UMOL/KG,,UMOL/KG,,UMOL/KG,,PMOL/KG,,PMOL/KG,,TU,,NMOL/KG,,PERCNT,,NMOL/KG,,UMOL/KG,,NMOL/KG,TU,NMOL/KG,PERCNT
    06AQANTX_4,   A12,   563,  1,     24,     24,2,19920601,2154,-44.2500,   1.8333, 4433,     28.5,   8.5262,  34.4163,2,  34.4172,2,  8.5233,    287.1,2,     2.42,2,    12.84,2,     0.31,2,     1.01,2, -999.000,9, -999.000,9, -999.000,9,-999.0000,9,    -9.00,9,-999.000,9,   -999.0,9,-999.0000,-999.000,-999.000,-999.000
    06AQANTX_4,   A12,   563,  1,     23,     23,2,19920601,2154,-44.2500,   1.8333, 4433,     70.3,   8.5170,  34.4153,2,  34.4151,2,  8.5097,    287.4,2,     2.39,2,    12.94,2,     0.31,2,     1.00,2, -999.000,9, -999.000,9, -999.000,9,-999.0000,9,    -9.00,9,-999.000,9,   -999.0,9,-999.0000,-999.000,-999.000,-999.000
    06AQANTX_4,   A12,   563,  1,     22,     22,2,19920601,2154,-44.2500,   1.8333, 4433,    140.5,   8.5225,  34.4155,2,  34.4155,2,  8.5079,    287.0,2,     2.09,2,    12.94,2,     0.31,2,     1.01,2, -999.000,9, -999.000,9, -999.000,9,-999.0000,9,    -9.00,9,-999.000,9,   -999.0,9,-999.0000,-999.000,-999.000,-999.000
    06AQANTX_4,   A12,   563,  1,     21,     21,2,19920601,2154,-44.2500,   1.8333, 4433,    220.4,   8.3580,  34.4409,2,  34.4887,4,  8.3353,    260.4,2,     4.54,2,    16.82,2,     0.08,2,     1.22,2, -999.000,9, -999.000,9, -999.000,9,-999.0000,9,    -9.00,9,-999.000,9,   -999.0,9,-999.0000,-999.000,-999.000,-999.000
    06AQANTX_4,   A12,   563,  1,     20,     20,2,19920601,2154,-44.2500,   1.8333, 4433,    297.2,   6.8685,  34.3965,2,  34.3927,2,  6.8410,    252.1,2,     7.90,2,    21.93,2,     0.04,2,     1.55,2, -999.000,9, -999.000,9, -999.000,9,-999.0000,9,    -9.00,9,-999.000,9,   -999.0,9,-999.0000,-999.000,-999.000,-999.000
    06AQANTX_4,   A12,   563,  1,     19,     19,2,19920601,2154,-44.2500,   1.8333, 4433,    399.3,   5.6396,  34.2804,2,  34.2736,2,  5.6063,    255.9,2,    10.94,2,    25.80,2,     0.03,2,     1.79,2, -999.000,9, -999.000,9, -999.000,9,-999.0000,9,    -9.00,9,-999.000,9,   -999.0,9,-999.0000,-999.000,-999.000,-999.000
    06AQANTX_4,   A12,   563,  1,     18,     18,2,19920601,2154,-44.2500,   1.8333, 4433,    499.6,   4.6565,  34.2066,2,  34.2023,2,  4.6183,    264.8,2,    14.09,2,    27.61,2,     0.04,2,     1.88,2, -999.000,9, -999.000,9, -999.000,9,-999.0000,9,    -9.00,9,-999.000,9,   -999.0,9,-999.0000,-999.000,-999.000,-999.000
    06AQANTX_4,   A12,   563,  1,     17,     17,2,19920601,2154,-44.2500,   1.8333, 4433,    598.4,   4.1184,  34.1928,2,  34.1938,2,  4.0747,    263.8,2,    17.58,2,    29.02,2,     0.04,2,     1.97,2, -999.000,9, -999.000,9, -999.000,9,-999.0000,9,    -9.00,9,-999.000,9,   -999.0,9,-999.0000,-999.000,-999.000,-999.000
    06AQANTX_4,   A12,   563,  1,     16,     16,2,19920601,2154,-44.2500,   1.8333, 4433,    698.7,   3.6639,  34.2096,2,  34.2090,2,  3.6149,    253.7,2,    23.63,2,    30.37,2,     0.03,2,     2.06,2, -999.000,9, -999.000,9, -999.000,9,-999.0000,9,    -9.00,9,-999.000,9,   -999.0,9,-999.0000,-999.000,-999.000,-999.000
    06AQANTX_4,   A12,   563,  1,     15,     15,2,19920601,2154,-44.2500,   1.8333, 4433,    800.8,   3.2857,  34.2236,2,  34.2246,2,  3.2312,    246.1,2,    29.26,2,    31.72,2,     0.03,2,     2.16,2, -999.000,9, -999.000,9, -999.000,9,-999.0000,9,    -9.00,9,-999.000,9,   -999.0,9,-999.0000,-999.000,-999.000,-999.000
    06AQANTX_4,   A12,   563,  1,     14,     14,2,19920601,2154,-44.2500,   1.8333, 4433,    901.3,   3.1190,  34.2689,2,  34.2692,2,  3.0581,    232.9,2,  -999.00,9,  -999.00,9,     0.04,2,  -999.00,9, -999.000,9, -999.000,9, -999.000,9,-999.0000,9,    -9.00,9,-999.000,9,   -999.0,9,-999.0000,-999.000,-999.000,-999.000
    06AQANTX_4,   A12,   563,  1,     13,     13,2,19920601,2154,-44.2500,   1.8333, 4433,    999.0,   2.9493,  34.3046,2,  34.3040,2,  2.8823,    223.4,2,    41.32,2,    33.69,2,     0.04,2,     2.29,2, -999.000,9, -999.000,9, -999.000,9,-999.0000,9,    -9.00,9,-999.000,9,   -999.0,9,-999.0000,-999.000,-999.000,-999.000
    06AQANTX_4,   A12,   563,  1,     12,     12,2,19920601,2154,-44.2500,   1.8333, 4433,   1200.0,   2.7229,  34.4030,2,  34.3994,2,  2.6424,    200.9,2,    54.44,2,    35.19,2,     0.03,2,     2.38,2, -999.000,9, -999.000,9, -999.000,9,-999.0000,9,    -9.00,9,-999.000,9,   -999.0,9,-999.0000,-999.000,-999.000,-999.000
    06AQANTX_4,   A12,   563,  1,     11,     11,2,19920601,2154,-44.2500,   1.8333, 4433,   1499.7,   2.6029,  34.5529,2,  34.5537,2,  2.4998,    184.3,2,    67.13,2,    34.73,2,     0.03,2,     2.39,2, -999.000,9, -999.000,9, -999.000,9,-999.0000,9,    -9.00,9,-999.000,9,   -999.0,9,-999.0000,-999.000,-999.000,-999.000
    06AQANTX_4,   A12,   563,  1,     10,     10,2,19920601,2154,-44.2500,   1.8333, 4433,   1798.7,   2.5914,  34.6697,2,  34.6702,2,  2.4634,    186.7,2,    70.53,2,    33.58,2,     0.03,2,     2.27,2, -999.000,9, -999.000,9, -999.000,9,-999.0000,9,    -9.00,9,-999.000,9,   -999.0,9,-999.0000,-999.000,-999.000,-999.000
    06AQANTX_4,   A12,   563,  1,      9,      9,2,19920601,2154,-44.2500,   1.8333, 4433,   2096.6,   2.5133,  34.7395,2,  34.7386,2,  2.3603,    197.0,2,    71.04,2,    31.59,2,     0.03,2,     2.13,2, -999.000,9, -999.000,9, -999.000,9,-999.0000,9,    -9.00,9,-999.000,9,   -999.0,9,-999.0000,-999.000,-999.000,-999.000
    06AQANTX_4,   A12,   563,  1,      8,      8,2,19920601,2154,-44.2500,   1.8333, 4433,   2398.6,   2.3450,  34.7741,2,  34.7731,2,  2.1674,    205.9,2,    72.83,2,    30.38,2,     0.03,2,     2.04,2, -999.000,9, -999.000,9, -999.000,9,-999.0000,9,    -9.00,9,-999.000,9,   -999.0,9,-999.0000,-999.000,-999.000,-999.000
    06AQANTX_4,   A12,   563,  1,      7,      7,2,19920601,2154,-44.2500,   1.8333, 4433,   2801.3,   2.0492,  34.7823,2,  34.7835,2,  1.8393,    214.6,2,    78.50,2,    29.90,2,     0.02,2,     2.02,2, -999.000,9, -999.000,9, -999.000,9,-999.0000,9,    -9.00,9,-999.000,9,   -999.0,9,-999.0000,-999.000,-999.000,-999.000
    06AQANTX_4,   A12,   563,  1,      6,      6,2,19920601,2154,-44.2500,   1.8333, 4433,   3199.4,   1.6992,  34.7683,2,  34.7685,2,  1.4582,    218.5,2,    88.38,2,    30.85,2,     0.02,2,     2.08,2, -999.000,9, -999.000,9, -999.000,9,-999.0000,9,    -9.00,9,-999.000,9,   -999.0,9,-999.0000,-999.000,-999.000,-999.000
    06AQANTX_4,   A12,   563,  1,      5,      5,2,19920601,2154,-44.2500,   1.8333, 4433,   3600.3,   1.3365,  34.7400,2,  34.7281,4,  1.0641,    217.3,2,   105.09,2,    32.53,2,     0.01,2,     2.22,2, -999.000,9, -999.000,9, -999.000,9,-999.0000,9,    -9.00,9,-999.000,9,   -999.0,9,-999.0000,-999.000,-999.000,-999.000
    06AQANTX_4,   A12,   563,  1,      4,      4,2,19920601,2154,-44.2500,   1.8333, 4433,   3903.4,   1.1201,  34.7283,2,  34.7280,2,  0.8221,    218.2,2,   107.33,2,    32.70,2,     0.02,2,     2.22,2, -999.000,9, -999.000,9, -999.000,9,-999.0000,9,    -9.00,9,-999.000,9,   -999.0,9,-999.0000,-999.000,-999.000,-999.000
    06AQANTX_4,   A12,   563,  1,      3,      3,2,19920601,2154,-44.2500,   1.8333, 4433,   4301.9,   0.9268,  34.7107,2,  34.7108,2,  0.5917,    217.9,2,   114.83,2,    33.62,2,     0.02,2,     2.29,2, -999.000,9, -999.000,9, -999.000,9,-999.0000,9,    -9.00,9,-999.000,9,   -999.0,9,-999.0000,-999.000,-999.000,-999.000
    06AQANTX_4,   A12,   563,  1,      2,      2,2,19920601,2154,-44.2500,   1.8333, 4433,   4497.7,   0.8501,  34.7022,2,  34.7025,2,  0.4958,   -999.0,9,   118.38,2,    34.16,2,     0.03,2,     2.30,2, -999.000,9, -999.000,9, -999.000,9,-999.0000,9,    -9.00,9,-999.000,9,   -999.0,9,-999.0000,-999.000,-999.000,-999.000
    06AQANTX_4,   A12,   563,  1,      1,      1,2,19920601,2154,-44.2500,   1.8333, 4433,   4498.1,   0.8502,  34.7026,2,  34.7037,2,  0.4958,    220.0,2,   118.46,2,    34.01,2,     0.02,2,     2.29,2, -999.000,9, -999.000,9, -999.000,9,-999.0000,9,    -9.00,9,-999.000,9,   -999.0,9,-999.0000,-999.000,-999.000,-999.000
    06AQANTX_4,   A12,   564,  1,     24,     24,2,19920602,0607,-44.8833,   1.5333, 4669,     31.5,   8.1444,  34.3297,2,  34.3314,2,  8.1412,    288.3,2,     2.54,2,    14.35,2,     0.33,2,     1.12,2,    4.077,2,    2.423,4,    0.385,2,   1.7410,2,    -1.94,2,   7.427,2,   2089.0,2,  0.0060,   0.066,   0.037,   0.320
    06AQANTX_4,   A12,   564,  1,     23,     23,2,19920602,0607,-44.8833,   1.5333, 4669,     69.9,   8.1835,  34.3353,2,  34.3366,2,  8.1765,    288.1,2,     2.44,2,    14.45,2,     0.34,2,     1.10,2,    4.011,2,    1.933,2, -999.000,9,   1.7490,2,    -1.42,2,   7.522,2,   2088.3,2,  0.0060,-999.000,   0.037,   0.310
    06AQANTX_4,   A12,   564,  1,     22,     22,2,19920602,0607,-44.8833,   1.5333, 4669,    136.8,   8.2029,  34.3396,2,  34.3399,2,  8.1890,    287.8,2,     2.43,2,    14.38,2,     0.33,2,     1.11,2, -999.000,9, -999.000,9, -999.000,9,-999.0000,9,    -9.00,9,-999.000,9,   2089.4,2,-999.0000,-999.000,-999.000,-999.000
    06AQANTX_4,   A12,   564,  1,     21,     21,2,19920602,0607,-44.8833,   1.5333, 4669,    219.3,   7.9585,  34.4987,2,  34.4969,2,  7.9365,    252.0,2,     5.92,2,    18.91,2,     0.05,2,     1.37,2, -999.000,9, -999.000,9,    0.395,2,   1.7470,2,    -0.61,2,   7.506,2,   -999.0,9,  0.0060,   0.013,   0.037,   0.310
    06AQANTX_4,   A12,   564,  1,     20,     20,2,19920602,0607,-44.8833,   1.5333, 4669,    259.6,   7.2582,  34.4310,2,  34.4277,2,  7.2335,    252.5,2,     7.35,2,    21.17,2,     0.06,2,     1.50,2,    3.363,2,    1.612,2,    0.265,2,-999.0000,5,    -9.00,5,-999.000,5,   -999.0,9,-999.0000,   0.009,-999.000,-999.000
    06AQANTX_4,   A12,   564,  1,     19,     19,2,19920602,0607,-44.8833,   1.5333, 4669,    300.5,   6.5259,  34.3718,2,  34.3610,3,  6.4989,    247.4,2,     9.13,2,    23.84,2,     0.05,2,     1.69,2,    3.168,2,    1.501,2,    0.311,2,   1.8130,4,    -0.27,2,   7.652,2,   -999.0,9,  0.0070,   0.014,   0.037,   0.310
    06AQANTX_4,   A12,   564,  1,     18,     18,2,19920602,0607,-44.8833,   1.5333, 4669,    400.6,   5.3162,  34.2640,2,  34.2600,2,  5.2838,    254.2,2,    12.10,2,    26.42,2,     0.05,2,     1.88,2,    3.058,2,    1.426,2, -999.000,9,   1.7650,2,     0.07,2,   7.736,2,   -999.0,9,  0.0060,-999.000,   0.038,   0.310
    06AQANTX_4,   A12,   564,  1,     17,     17,2,19920602,0607,-44.8833,   1.5333, 4669,    499.3,   4.6583,  34.2238,2,  34.2242,2,  4.6201,    259.5,2,    14.80,2,    27.67,2,     0.05,2,     1.93,2,    2.876,2,    1.352,2, -999.000,9,   1.7380,2,    -0.70,2,   7.548,2,   -999.0,9,  0.0060,-999.000,   0.038,   0.320
    06AQANTX_4,   A12,   564,  1,     16,     16,2,19920602,0607,-44.8833,   1.5333, 4669,    600.1,   4.1456,  34.2131,2,  34.2128,2,  4.1017,    257.7,2,    19.22,2,    29.44,2,     0.05,2,     2.02,2,    2.683,2,    1.241,2,    0.188,2,-999.0000,5,    -9.00,5,-999.000,5,   -999.0,9,-999.0000,   0.265,-999.000,-999.000
    06AQANTX_4,   A12,   564,  1,     15,     15,2,19920602,0607,-44.8833,   1.5333, 4669,    699.3,   3.6948,  34.2194,2,  34.2196,2,  3.6455,    253.8,2,    24.40,2,    30.60,2,     0.05,2,     2.12,2,    2.304,2,    1.223,4, -999.000,9,-999.0000,9,    -9.00,4,-999.000,9,   -999.0,9,-999.0000,-999.000,-999.000,-999.000
    06AQANTX_4,   A12,   564,  1,     14,     14,2,19920602,0607,-44.8833,   1.5333, 4669,    851.7,   3.1726,  34.2612,2,  34.2619,2,  3.1150,    237.7,2,    34.00,2,    32.65,2,     0.05,2,     2.27,2,    1.573,2,    0.732,2, -999.000,9,   1.7580,2,     1.73,2,   7.667,2,   -999.0,9,  0.0060,-999.000,   0.038,   0.310
    06AQANTX_4,   A12,   564,  1,     13,     13,2,19920602,0607,-44.8833,   1.5333, 4669,   1001.2,   2.9199,  34.3129,2,  34.3128,2,  2.8529,    221.8,2,    42.74,2,    34.09,2,     0.05,2,     2.37,2,    1.109,2,    0.525,2,    0.070,2,   2.1230,4,     3.07,2,   7.839,2,   -999.0,9,  0.0080,   0.004,   0.038,   0.310
    06AQANTX_4,   A12,   564,  1,     12,     12,2,19920602,0607,-44.8833,   1.5333, 4669,   1198.1,   2.7428,  34.4031,2,  34.4086,4,  2.6623,    203.3,2,    54.47,2,    35.58,2,     0.05,2,     2.42,2,    0.654,2,    0.323,2,    0.056,2,   1.7920,2,     5.25,2,   7.887,2,   -999.0,9,  0.0070,   0.013,   0.039,   0.310
    06AQANTX_4,   A12,   564,  1,     11,     11,2,19920602,0607,-44.8833,   1.5333, 4669,   1500.7,   2.6841,  34.5753,2,  34.5759,2,  2.5799,    187.6,2,    64.57,2,    34.86,2,     0.04,2,     2.37,2,    0.181,2,    0.101,4,    0.023,2,   1.7850,2,     7.00,2,   7.798,2,   -999.0,9,  0.0060,   0.006,   0.038,   0.310
    06AQANTX_4,   A12,   564,  1,     10,     10,2,19920602,0607,-44.8833,   1.5333, 4669,   1801.8,   2.6454,  34.6906,2,  34.6926,2,  2.5163,    194.0,2,    66.42,2,    32.53,2,     0.04,2,     2.23,2,    0.068,2,    0.040,4,    0.028,2,-999.0000,5,    -9.00,5,-999.000,5,   -999.0,9,-999.0000,   0.003,-999.000,-999.000
    06AQANTX_4,   A12,   564,  1,      9,      9,2,19920602,0607,-44.8833,   1.5333, 4669,   2200.7,   2.4901,  34.7660,2,  34.7666,2,  2.3281,    205.4,2,    68.62,2,    30.46,2,     0.05,2,     2.08,2, -999.000,9, -999.000,9,    0.020,2,   1.8310,2,     8.36,2,   7.984,2,   -999.0,9,  0.0070,   0.002,   0.039,   0.310
    06AQANTX_4,   A12,   564,  1,      8,      8,2,19920602,0607,-44.8833,   1.5333, 4669,   2600.8,   2.2492,  34.7928,2,  34.7918,2,  2.0544,    216.6,2,    71.07,2,    29.11,2,     0.05,2,     2.01,2,    0.042,2,    0.055,4,    0.015,2,-999.0000,5,    -9.00,5,-999.000,5,   -999.0,9,-999.0000,   0.005,-999.000,-999.000
    06AQANTX_4,   A12,   564,  1,      7,      7,2,19920602,0607,-44.8833,   1.5333, 4669,   3001.2,   1.9251,  34.7818,2,  34.7829,2,  1.6985,    217.9,2,    80.41,2,    29.72,2,     0.05,2,     2.07,2,    0.030,2,    0.066,4,    0.016,2,   1.8340,2,     8.36,2,   8.034,2,   -999.0,9,  0.0070,   0.003,   0.039,   0.310
    06AQANTX_4,   A12,   564,  1,      6,      6,2,19920602,0607,-44.8833,   1.5333, 4669,   3399.6,   1.5425,  34.7548,2,  34.7556,2,  1.2853,    216.8,2,    94.10,2,    31.14,2,     0.05,2,     2.17,2,    0.057,2,    0.048,4,    0.010,2,   1.8540,2,     8.91,2,   8.091,2,   -999.0,9,  0.0070,   0.002,   0.040,   0.310
    06AQANTX_4,   A12,   564,  1,      5,      5,2,19920602,0607,-44.8833,   1.5333, 4669,   3798.6,   1.2747,  34.7450,2,  34.7462,2,  0.9834,    220.6,2,   100.88,2,    31.85,2,     0.04,2,     2.21,2,    0.030,2,   -0.002,4,    0.009,2,   1.8390,2,     7.61,2,   8.007,2,   -999.0,9,  0.0070,   0.002,   0.039,   0.310
    06AQANTX_4,   A12,   564,  1,      4,      4,2,19920602,0607,-44.8833,   1.5333, 4669,   4199.1,   0.9641,  34.7178,2,  34.7168,2,  0.6390,    221.2,2,   111.75,2,    32.82,2,     0.05,2,     2.29,2,    0.053,2,    0.078,4, -999.000,9,   1.8720,2,     7.42,2,   8.132,2,   -999.0,9,  0.0070,-999.000,   0.040,   0.310
    06AQANTX_4,   A12,   564,  1,      3,      3,2,19920602,0607,-44.8833,   1.5333, 4669,   4501.3,   0.8484,  34.7023,2,  34.7010,2,  0.4937,    219.6,2,   116.93,2,    33.75,2,     0.05,2,     2.35,2,    0.111,2,    0.044,4, -999.000,9,-999.0000,5,    -9.00,5,-999.000,5,   -999.0,9,-999.0000,-999.000,-999.000,-999.000
    06AQANTX_4,   A12,   564,  1,      1,      1,2,19920602,0607,-44.8833,   1.5333, 4669,   4738.0,   0.8241,  34.6975,2,  34.6968,2,  0.4435,    219.5,2,   119.38,2,    33.79,2,     0.05,2,     2.34,2,    0.117,2,    0.034,4, -999.000,9,-999.0000,9,    -9.00,9,-999.000,9,   -999.0,9,-999.0000,-999.000,-999.000,-999.000
    06AQANTX_4,   A12,   564,  1,      2,      2,2,19920602,0607,-44.8833,   1.5333, 4669,   4739.0,   0.8239,  34.6973,2,  34.6972,2,  0.4432,   -999.0,9,   119.13,2,    34.06,2,     0.05,2,     2.36,2,    0.123,2,    0.068,4,    0.024,2,   1.8590,2,     8.69,2,   8.131,2,   -999.0,9,  0.0070,   0.002,   0.041,   0.320