BOTTLE,20061211WHPSIODBK
EXPOCODE,SECT_ID,STNNBR,CASTNO,SAMPNO,BTLNBR,BTLNBR_FLAG_W,DATE,TIME,LATITUDE,LONGITUDE,DEPTH,CTDPRS,CTDTMP,CTDSAL,CTDSAL_FLAG_W,SALNTY,SALNTY_FLAG_W,THETA,OXYGEN,OXYGEN_FLAG_W,SILCAT,SILCAT_FLAG_W,NITRAT,NITRAT_FLAG_W,NITRIT,NITRIT_FLAG_W,PHSPHT,PHSPHT_FLAG_W,CFC-11,CFC-11_FLAG_W,CFC-12,CFC-12_FLAG_W,TRITUM,TRITUM_FLAG_W,HELIUM,HELIUM_FLAG_W,DELHE3,DELHE3_FLAG_W,NEON,NEON_FLAG_W,TCARBN,TCARBN_FLAG_W,HELIER,TRITER,NEONER,DELHER
,,,,,,,,,,,,DBAR,ITS-90,PSS-78,,PSS-78,,DEG C,UMOL/KG,,UMOL/KG,,UMOL/KG,,UMOL/KG,,UMOL/KG,,PMOL/KG,,PMOL/KG,,TU,,NMOL/KG,,PERCNT,,NMOL/KG,,UMOL/KG,,NMOL/KG,TU,NMOL/KG,PERCNT
    06AQANTX_4,   A12,   550,  1,     24,     24,2,19920527,1727,-40.3167,  10.7833, 4664,     15.7,   9.7902,  34.3848,2,  34.3839,2,  9.7884,    289.4,2,     1.41,2,    11.09,2,     0.29,2,     0.86,2,    3.834,2,    1.890,2, -999.000,9,   1.7730,2,    -1.12,2,   7.544,2,   -999.0,9,  0.0070,-999.000,   0.038,   0.320
    06AQANTX_4,   A12,   550,  1,     23,     23,2,19920527,1727,-40.3167,  10.7833, 4664,     71.8,   9.7974,  34.3856,2,  34.3835,2,  9.7893,    288.8,2,     1.42,2,    11.09,2,     0.29,2,     0.87,2, -999.000,9, -999.000,9, -999.000,9,   1.7690,2,    -1.01,2,   7.516,2,   -999.0,9,  0.0070,-999.000,   0.038,   0.320
    06AQANTX_4,   A12,   550,  1,     22,     22,2,19920527,1727,-40.3167,  10.7833, 4664,    141.6,   9.7039,  34.3884,2,  34.3849,2,  9.6880,    288.5,2,  -999.00,9,  -999.00,9,  -999.00,9,  -999.00,9,    3.787,2,    1.875,2, -999.000,9,   1.7750,2,    -0.91,2,   7.608,4,   -999.0,9,  0.0070,-999.000,   0.038,   0.320
    06AQANTX_4,   A12,   550,  1,     21,     21,2,19920527,1727,-40.3167,  10.7833, 4664,    221.8,   8.2836,  34.4787,2,  34.4768,2,  8.2608,    260.8,2,     4.89,2,    17.51,2,     0.05,2,     1.26,2,    3.561,2,    1.761,2, -999.000,9,   1.7500,2,    -0.51,2,   7.475,2,   -999.0,9,  0.0070,-999.000,   0.037,   0.320
    06AQANTX_4,   A12,   550,  1,     20,     20,2,19920527,1727,-40.3167,  10.7833, 4664,    298.5,   7.4908,  34.4498,2,  34.4367,3,  7.4618,    256.0,2,     8.17,2,    21.18,2,     0.05,2,     1.48,2,    3.205,2,    1.575,2, -999.000,9,   1.7660,2,    -0.27,2,   7.621,2,   -999.0,9,  0.0070,-999.000,   0.038,   0.320
    06AQANTX_4,   A12,   550,  1,     19,     19,2,19920527,1727,-40.3167,  10.7833, 4664,    402.6,   5.7470,  34.2858,2,  34.2860,2,  5.7131,    254.5,2,    11.15,2,    25.62,2,     0.05,2,     1.77,2,    3.226,2,    1.556,2, -999.000,9,   1.7580,2,     0.30,2,   7.671,2,   -999.0,9,  0.0070,-999.000,   0.038,   0.320
    06AQANTX_4,   A12,   550,  1,     18,     18,2,19920527,1727,-40.3167,  10.7833, 4664,    451.3,   5.2610,  34.2583,2,  34.2584,2,  5.2245,    254.5,2,    13.06,2,    26.93,2,     0.05,2,     1.86,2,    3.057,2,    1.476,2, -999.000,9,   1.7610,2,     0.05,2,   7.689,2,   -999.0,9,  0.0070,-999.000,   0.038,   0.320
    06AQANTX_4,   A12,   550,  1,     17,     17,2,19920527,1727,-40.3167,  10.7833, 4664,    498.1,   4.8191,  34.2472,2,  34.2417,2,  4.7804,    254.7,2,    15.55,2,    27.99,2,     0.05,2,     1.95,2,    2.793,2,    1.321,2, -999.000,9,   1.7630,2,    -0.02,2,   7.701,2,   -999.0,9,  0.0070,-999.000,   0.039,   0.320
    06AQANTX_4,   A12,   550,  1,     16,     16,2,19920527,1727,-40.3167,  10.7833, 4664,    599.8,   4.1086,  34.2093,2,  34.2070,2,  4.0649,    258.6,2,    19.24,2,    29.18,2,     0.05,2,     2.02,2,    2.652,2,    1.255,2, -999.000,9,   1.8000,2,     0.73,2,   7.821,2,   -999.0,9,  0.0070,-999.000,   0.039,   0.320
    06AQANTX_4,   A12,   550,  1,     15,     15,2,19920527,1727,-40.3167,  10.7833, 4664,    700.8,   3.6640,  34.2145,2,  34.2128,2,  3.6148,    258.2,2,    24.68,2,    30.41,2,     0.04,2,     2.10,2,    2.360,2,    1.096,2, -999.000,9,   1.7900,2,     1.63,2,   7.814,2,   -999.0,9,  0.0070,-999.000,   0.039,   0.320
    06AQANTX_4,   A12,   550,  1,     14,     14,2,19920527,1727,-40.3167,  10.7833, 4664,    851.5,   3.1356,  34.2501,2,  34.2490,2,  3.0783,    242.5,2,    34.12,2,    32.38,2,     0.04,2,     2.25,2,    1.763,2,    0.780,2, -999.000,9,   1.7990,2,     2.39,2,   7.845,2,   -999.0,9,  0.0070,-999.000,   0.039,   0.320
    06AQANTX_4,   A12,   550,  1,     13,     13,2,19920527,1727,-40.3167,  10.7833, 4664,    999.2,   2.8332,  34.3149,2,  34.3126,2,  2.7671,    225.3,2,    44.96,2,    33.92,2,     0.04,2,     2.33,2,    1.200,2,    0.539,2, -999.000,9,   1.8520,2,     4.13,2,   8.019,2,   -999.0,9,  0.0070,-999.000,   0.040,   0.320
    06AQANTX_4,   A12,   550,  1,     12,     12,2,19920527,1727,-40.3167,  10.7833, 4664,   1197.2,   2.7938,  34.4352,2,  34.4338,2,  2.7128,    199.3,2,    57.44,2,    34.85,2,     0.03,2,     2.40,2,    0.539,2,    0.248,2, -999.000,9,   2.4170,4,     5.89,2,   9.396,4,   -999.0,9,  0.0090,-999.000,   0.047,   0.320
    06AQANTX_4,   A12,   550,  1,     11,     11,2,19920527,1727,-40.3167,  10.7833, 4664,   1500.1,   2.7680,  34.6095,2,  34.6091,2,  2.6628,    187.2,2,    67.88,2,    33.77,2,     0.04,2,     2.33,2,    0.120,2,    0.057,2, -999.000,9,   1.7350,4,     7.66,2,   7.549,4,   -999.0,9,  0.0060,-999.000,   0.038,   0.320
    06AQANTX_4,   A12,   550,  1,     10,     10,2,19920527,1727,-40.3167,  10.7833, 4664,   1801.5,   2.6587,  34.7244,2,  34.7225,2,  2.5294,    200.1,2,    66.58,2,    30.87,2,     0.03,2,     2.12,2,    0.058,4,    0.020,2, -999.000,9,   1.8280,2,     7.73,2,   7.909,2,   -999.0,9,  0.0070,-999.000,   0.040,   0.320
    06AQANTX_4,   A12,   550,  1,      9,      9,2,19920527,1727,-40.3167,  10.7833, 4664,   2201.3,   2.5762,  34.8093,2,  34.8085,2,  2.4125,    221.6,2,    60.00,2,    27.66,2,     0.03,2,     1.87,2,    0.022,2,    0.008,3, -999.000,9,   1.8400,2,     6.84,2,   7.950,2,   -999.0,9,  0.0070,-999.000,   0.040,   0.320
    06AQANTX_4,   A12,   550,  1,      8,      8,2,19920527,1727,-40.3167,  10.7833, 4664,   2600.5,   2.3935,  34.8306,2,  34.8294,2,  2.1958,    230.9,2,    60.94,2,    26.59,2,     0.03,2,     1.81,2,    0.009,3,    0.009,3, -999.000,9,   1.8160,2,     6.39,2,   7.792,4,   -999.0,9,  0.0070,-999.000,   0.039,   0.320
    06AQANTX_4,   A12,   550,  1,      7,      7,2,19920527,1727,-40.3167,  10.7833, 4664,   3001.8,   2.2285,  34.8353,2,  34.8347,2,  1.9950,    235.3,2,    64.04,2,    26.36,2,     0.02,2,     1.81,2,    0.013,2,    0.011,3, -999.000,9,   1.4450,4,     5.05,2,-999.000,9,   -999.0,9,  0.0050,-999.000,-999.000,   0.320
    06AQANTX_4,   A12,   550,  1,      6,      6,2,19920527,1727,-40.3167,  10.7833, 4664,   3401.3,   1.9096,  34.8111,2,  34.8111,2,  1.6429,    232.6,2,    76.19,2,    27.75,2,     0.02,2,     1.90,2,    0.026,2,    0.019,3, -999.000,9,   1.8420,2,     6.39,2,   8.010,2,   -999.0,9,  0.0070,-999.000,   0.040,   0.320
    06AQANTX_4,   A12,   550,  1,      5,      5,2,19920527,1727,-40.3167,  10.7833, 4664,   3800.3,   1.3925,  34.7644,2,  34.7633,2,  1.0977,    228.6,2,    96.45,2,    30.24,2,     0.03,2,     2.10,2,    0.010,3,    0.018,2, -999.000,9,   1.8560,2,     6.57,2,   8.023,2,   -999.0,9,  0.0070,-999.000,   0.040,   0.320
    06AQANTX_4,   A12,   550,  1,      4,      4,2,19920527,1727,-40.3167,  10.7833, 4664,   4187.7,   1.0870,  34.7363,2,  34.7350,2,  0.7594,    227.0,2,   108.16,2,    31.57,2,     0.02,2,     2.19,2,    0.046,3,    0.023,2, -999.000,9,   3.7850,4,     0.68,4,  13.884,4,   -999.0,9,  0.0140,-999.000,   0.069,   0.320
    06AQANTX_4,   A12,   550,  1,      3,      3,2,19920527,1727,-40.3167,  10.7833, 4664,   4698.3,   0.9659,  34.7217,2,  34.7204,2,  0.5850,   -999.0,9,   113.66,2,    32.16,2,     0.02,2,     2.22,2,    0.031,2,    0.026,2, -999.000,9,   1.8500,4,     7.36,4,   7.994,4,   -999.0,9,  0.0160,-999.000,   0.080,   0.320
    06AQANTX_4,   A12,   550,  1,      2,      2,2,19920527,1727,-40.3167,  10.7833, 4664,   4740.7,   0.9697,  34.7216,2,  34.7204,2,  0.5838,   -999.0,9,   114.24,2,    32.20,2,     0.03,2,     2.22,2, -999.000,9, -999.000,9, -999.000,9,   1.8420,2,     7.47,2,   8.060,2,   -999.0,9,  0.0070,-999.000,   0.040,   0.320
    06AQANTX_4,   A12,   550,  1,      1,      1,2,19920527,1727,-40.3167,  10.7833, 4664,   4742.7,   0.9699,  34.7216,2,  34.7205,2,  0.5838,    226.9,2,   113.49,2,    32.11,2,     0.04,2,     2.21,2,    0.033,2,    0.024,2, -999.000,9,-999.0000,9,    -9.00,9,-999.000,9,   -999.0,9,-999.0000,-999.000,-999.000,-999.000
    06AQANTX_4,   A12,   551,  1,     24,     24,2,19920528,0445,-40.8333,  10.2000, 4639,      4.3,  10.0106,  34.4383,2,  34.4400,2, 10.0101,    287.7,2,     1.40,2,    10.45,2,     0.29,2,     0.84,2, -999.000,9, -999.000,9, -999.000,9,-999.0000,9,    -9.00,9,-999.000,9,   2077.1,2,-999.0000,-999.000,-999.000,-999.000
    06AQANTX_4,   A12,   551,  1,     23,     23,2,19920528,0445,-40.8333,  10.2000, 4639,     69.3,   9.8686,  34.4125,2,  34.4052,2,  9.8607,    288.6,2,     1.26,2,    10.85,2,     0.29,2,     0.87,2, -999.000,9, -999.000,9, -999.000,9,-999.0000,9,    -9.00,9,-999.000,9,   2078.7,2,-999.0000,-999.000,-999.000,-999.000
    06AQANTX_4,   A12,   551,  1,     22,     22,2,19920528,0445,-40.8333,  10.2000, 4639,    143.1,   9.6689,  34.3846,2,  34.3849,2,  9.6528,    287.3,2,     1.33,2,    11.58,2,     0.27,2,     0.92,2, -999.000,9, -999.000,9, -999.000,9,-999.0000,9,    -9.00,9,-999.000,9,   2085.7,2,-999.0000,-999.000,-999.000,-999.000
    06AQANTX_4,   A12,   551,  1,     21,     21,2,19920528,0445,-40.8333,  10.2000, 4639,    220.5,   8.4004,  34.5001,2,  34.4932,2,  8.3776,    257.1,2,     5.04,2,    17.52,2,     0.05,2,     1.27,2, -999.000,9, -999.000,9, -999.000,9,-999.0000,9,    -9.00,9,-999.000,9,   2117.9,2,-999.0000,-999.000,-999.000,-999.000
    06AQANTX_4,   A12,   551,  1,     20,     20,2,19920528,0445,-40.8333,  10.2000, 4639,    262.4,   7.8833,  34.4736,2,  34.4720,2,  7.8571,    251.6,2,     6.40,2,    19.43,2,     0.06,2,     1.38,2, -999.000,9, -999.000,9, -999.000,9,-999.0000,9,    -9.00,9,-999.000,9,   2125.1,2,-999.0000,-999.000,-999.000,-999.000
    06AQANTX_4,   A12,   551,  1,     19,     19,2,19920528,0445,-40.8333,  10.2000, 4639,    301.1,   7.6496,  34.4702,2,  34.4696,2,  7.6200,    243.8,2,     7.40,2,    20.74,2,     0.06,2,     1.46,2, -999.000,9, -999.000,9, -999.000,9,-999.0000,9,    -9.00,9,-999.000,9,   2136.0,2,-999.0000,-999.000,-999.000,-999.000
    06AQANTX_4,   A12,   551,  1,     18,     18,2,19920528,0445,-40.8333,  10.2000, 4639,    400.8,   5.8392,  34.2932,2,  34.2904,2,  5.8051,    256.6,2,    10.26,2,    24.93,2,     0.06,2,     1.73,2, -999.000,9, -999.000,9, -999.000,9,-999.0000,9,    -9.00,9,-999.000,9,   2146.9,2,-999.0000,-999.000,-999.000,-999.000
    06AQANTX_4,   A12,   551,  1,     17,     17,2,19920528,0445,-40.8333,  10.2000, 4639,    504.7,   4.6662,  34.2286,2,  34.2192,2,  4.6275,    261.3,2,    15.03,2,    27.65,2,     0.06,2,     1.92,2, -999.000,9, -999.000,9, -999.000,9,-999.0000,9,    -9.00,9,-999.000,9,   2164.0,2,-999.0000,-999.000,-999.000,-999.000
    06AQANTX_4,   A12,   551,  1,     16,     16,2,19920528,0445,-40.8333,  10.2000, 4639,    599.1,   4.4223,  34.2642,2,  34.2651,2,  4.3771,    251.0,2,    21.45,2,    28.98,2,     0.06,2,     2.02,2, -999.000,9, -999.000,9, -999.000,9,-999.0000,9,    -9.00,9,-999.000,9,   2180.8,2,-999.0000,-999.000,-999.000,-999.000
    06AQANTX_4,   A12,   551,  1,     15,     15,2,19920528,0445,-40.8333,  10.2000, 4639,    697.9,   4.0987,  34.3007,2,  34.2989,2,  4.0472,    234.4,2,    29.52,2,    30.47,2,     0.05,2,     2.15,2, -999.000,9, -999.000,9, -999.000,9,-999.0000,9,    -9.00,9,-999.000,9,   2185.0,2,-999.0000,-999.000,-999.000,-999.000
    06AQANTX_4,   A12,   551,  1,     14,     14,2,19920528,0445,-40.8333,  10.2000, 4639,    850.2,   3.3531,  34.3126,2,  34.3088,2,  3.2943,    227.1,2,    38.56,2,    32.46,2,     0.05,2,     2.28,2,    1.311,2,    0.616,2, -999.000,9,-999.0000,9,    -9.00,9,-999.000,9,   2199.3,2,-999.0000,-999.000,-999.000,-999.000
    06AQANTX_4,   A12,   551,  1,     13,     13,2,19920528,0445,-40.8333,  10.2000, 4639,    998.7,   3.1893,  34.4055,2,  34.4067,2,  3.1203,    202.5,2,    51.19,2,    33.77,2,     0.05,2,     2.38,2,    0.687,2,    0.333,2, -999.000,9,-999.0000,9,    -9.00,9,-999.000,9,   2220.0,2,-999.0000,-999.000,-999.000,-999.000
    06AQANTX_4,   A12,   551,  1,     12,     12,2,19920528,0445,-40.8333,  10.2000, 4639,   1203.3,   2.6694,  34.4709,2,  34.4721,2,  2.5890,    199.3,2,    61.01,2,    34.56,2,     0.06,2,     2.41,2,    0.494,2,    0.257,2, -999.000,9,-999.0000,9,    -9.00,9,-999.000,9,   2233.9,2,-999.0000,-999.000,-999.000,-999.000
    06AQANTX_4,   A12,   551,  1,     11,     11,2,19920528,0445,-40.8333,  10.2000, 4639,   1502.1,   2.6459,  34.6233,2,  34.6237,2,  2.5419,    192.5,2,    68.32,2,    33.20,2,     0.05,2,     2.31,2,    0.146,2,    0.069,2, -999.000,9,-999.0000,9,    -9.00,9,-999.000,9,   2242.9,2,-999.0000,-999.000,-999.000,-999.000
    06AQANTX_4,   A12,   551,  1,     10,     10,2,19920528,0445,-40.8333,  10.2000, 4639,   1799.8,   2.5980,  34.7306,2,  34.7306,2,  2.4696,    202.4,2,    67.59,2,    30.52,2,     0.04,2,     2.12,2,    0.097,4,    0.036,2, -999.000,9,-999.0000,9,    -9.00,9,-999.000,9,   2234.1,2,-999.0000,-999.000,-999.000,-999.000
    06AQANTX_4,   A12,   551,  1,      9,      9,2,19920528,0445,-40.8333,  10.2000, 4639,   2202.2,   2.5416,  34.8053,2,  34.8044,2,  2.3784,    220.8,2,    60.76,2,    27.66,2,     0.04,2,     1.95,2,    0.035,2,    0.017,2, -999.000,9,-999.0000,9,    -9.00,9,-999.000,9,   2220.8,2,-999.0000,-999.000,-999.000,-999.000
    06AQANTX_4,   A12,   551,  1,      8,      8,2,19920528,0445,-40.8333,  10.2000, 4639,   2600.1,   2.3871,  34.8314,2,  34.8308,2,  2.1896,    231.9,2,    60.38,2,    26.37,2,     0.04,2,     1.84,2,    0.016,2,    0.015,3, -999.000,9,-999.0000,9,    -9.00,9,-999.000,9,   2213.7,2,-999.0000,-999.000,-999.000,-999.000
    06AQANTX_4,   A12,   551,  1,      7,      7,2,19920528,0445,-40.8333,  10.2000, 4639,   2997.5,   2.2178,  34.8376,2,  34.8379,2,  1.9849,    236.3,2,    63.15,2,    26.11,2,     0.04,2,     1.85,2,    0.015,2,    0.012,3, -999.000,9,-999.0000,9,    -9.00,9,-999.000,9,   2215.4,2,-999.0000,-999.000,-999.000,-999.000
    06AQANTX_4,   A12,   551,  1,      6,      6,2,19920528,0445,-40.8333,  10.2000, 4639,   3400.6,   1.8722,  34.8089,2,  34.8080,2,  1.6065,    232.0,2,    77.29,2,    27.71,2,     0.03,2,     1.92,2,    0.034,3,    0.028,3, -999.000,9,-999.0000,9,    -9.00,9,-999.000,9,   2228.1,2,-999.0000,-999.000,-999.000,-999.000
    06AQANTX_4,   A12,   551,  1,      5,      5,2,19920528,0445,-40.8333,  10.2000, 4639,   3802.0,   1.3682,  34.7631,2,  34.7614,2,  1.0739,    228.6,2,    96.58,2,    30.05,2,     0.03,2,     2.08,2,    0.026,3,    0.028,3, -999.000,9,-999.0000,9,    -9.00,9,-999.000,9,   2242.6,2,-999.0000,-999.000,-999.000,-999.000
    06AQANTX_4,   A12,   551,  1,      4,      4,2,19920528,0445,-40.8333,  10.2000, 4639,   4201.1,   1.0847,  34.7366,2,  34.7403,2,  0.7558,    227.0,2,   107.91,2,    31.50,2,     0.03,2,     2.20,2,    0.026,2,    0.012,2, -999.000,9,-999.0000,9,    -9.00,9,-999.000,9,   2254.1,2,-999.0000,-999.000,-999.000,-999.000
    06AQANTX_4,   A12,   551,  1,      3,      3,2,19920528,0445,-40.8333,  10.2000, 4639,   4499.0,   1.0550,  34.7311,2,  34.7329,2,  0.6939,    227.8,2,   109.13,2,    31.61,2,     0.03,2,     2.20,2,    0.079,4,    0.028,2, -999.000,9,-999.0000,9,    -9.00,9,-999.000,9,   2252.7,2,-999.0000,-999.000,-999.000,-999.000
    06AQANTX_4,   A12,   551,  1,      2,      2,2,19920528,0445,-40.8333,  10.2000, 4639,   4712.8,   1.0161,  34.7255,2,  34.7254,2,  0.6319,    228.2,2,   112.69,2,    31.79,2,     0.03,2,     2.21,2,    0.048,2,    0.040,2, -999.000,9,-999.0000,9,    -9.00,9,-999.000,9,   2257.6,2,-999.0000,-999.000,-999.000,-999.000
    06AQANTX_4,   A12,   551,  1,      1,      1,2,19920528,0445,-40.8333,  10.2000, 4639,   4713.6,   1.0160,  34.7256,2,  34.7257,2,  0.6317,   -999.0,9,   112.68,2,    31.46,2,     0.05,2,     2.22,2,    0.046,2,    0.038,2, -999.000,9,-999.0000,9,    -9.00,9,-999.000,9,   2255.5,2,-999.0000,-999.000,-999.000,-999.000