BOTTLE,20061211WHPSIODBK
EXPOCODE,SECT_ID,STNNBR,CASTNO,SAMPNO,BTLNBR,BTLNBR_FLAG_W,DATE,TIME,LATITUDE,LONGITUDE,DEPTH,CTDPRS,CTDTMP,CTDSAL,CTDSAL_FLAG_W,SALNTY,SALNTY_FLAG_W,THETA,OXYGEN,OXYGEN_FLAG_W,SILCAT,SILCAT_FLAG_W,NITRAT,NITRAT_FLAG_W,NITRIT,NITRIT_FLAG_W,PHSPHT,PHSPHT_FLAG_W,CFC-11,CFC-11_FLAG_W,CFC-12,CFC-12_FLAG_W,TRITUM,TRITUM_FLAG_W,HELIUM,HELIUM_FLAG_W,DELHE3,DELHE3_FLAG_W,NEON,NEON_FLAG_W,TCARBN,TCARBN_FLAG_W,HELIER,TRITER,NEONER,DELHER
,,,,,,,,,,,,DBAR,ITS-90,PSS-78,,PSS-78,,DEG C,UMOL/KG,,UMOL/KG,,UMOL/KG,,UMOL/KG,,UMOL/KG,,PMOL/KG,,PMOL/KG,,TU,,NMOL/KG,,PERCNT,,NMOL/KG,,UMOL/KG,,NMOL/KG,TU,NMOL/KG,PERCNT
    06AQANTX_4,   A12,   596,  1,      9,      9,2,19920615,1129,-66.5000,   0.0000, 4505,      3.3,  -1.7160,  34.3478,2,  34.3528,2, -1.7161,    319.9,2,    74.81,2,    29.03,2,     0.15,2,     2.13,2,    5.798,2,    2.625,2, -999.000,9,-999.0000,9,    -9.00,9,-999.000,9,   2217.3,2,-999.0000,-999.000,-999.000,-999.000
    06AQANTX_4,   A12,   596,  1,      8,      8,2,19920615,1129,-66.5000,   0.0000, 4505,      3.4,  -1.7168,  34.3444,2,  34.3545,2, -1.7169,    319.8,2,    75.06,2,    28.86,2,     0.15,2,  -999.00,9,    5.727,2,    2.592,2,    0.064,2,   0.1020,4,    -9.00,4,   0.277,4,   2217.1,2,  0.0000,   0.006,   0.001,-999.000
    06AQANTX_4,   A12,   596,  1,      7,      7,2,19920615,1129,-66.5000,   0.0000, 4505,     67.9,  -1.4787,  34.3973,2,  34.4027,2, -1.4802,    313.7,2,    75.99,2,    29.33,2,     0.14,2,     2.17,2,    5.455,2,    2.492,2,    0.070,2,   1.7850,2,     0.18,2,   8.005,2,   2218.3,2,  0.0060,   0.004,   0.039,   0.310
    06AQANTX_4,   A12,   596,  1,     22,     22,2,19920615,1129,-66.5000,   0.0000, 4505,    140.1,   1.1935,  34.6662,2,  34.6602,2,  1.1870,    190.6,2,    95.23,2,    31.87,2,     0.03,2,     2.35,2,    0.712,2,    0.313,2,    0.218,2,   1.8440,2,     8.89,2,   8.018,2,   2261.2,2,  0.0070,   0.007,   0.040,   0.320
    06AQANTX_4,   A12,   596,  1,     21,     21,2,19920615,1129,-66.5000,   0.0000, 4505,    169.8,   1.2312,  34.6758,2,  34.6788,2,  1.2232,    189.0,2,    96.84,2,  -999.00,9,     0.02,2,     2.31,2,    0.546,2,    0.228,2,    0.032,2,-999.0000,5,    -9.00,5,-999.000,5,   2264.0,2,-999.0000,   0.007,-999.000,-999.000
    06AQANTX_4,   A12,   596,  1,     20,     20,2,19920615,1129,-66.5000,   0.0000, 4505,    199.7,   1.2260,  34.6848,2,  34.6864,2,  1.2166,    190.3,2,    97.77,2,  -999.00,9,     0.01,2,     2.30,2,    0.507,2,    0.207,3,    0.023,2,   1.8400,2,     9.30,2,   8.072,2,   2257.5,2,  0.0070,   0.008,   0.040,   0.320
    06AQANTX_4,   A12,   596,  1,      6,      6,2,19920615,1129,-66.5000,   0.0000, 4505,    219.9,   1.2164,  34.6871,2,  34.4024,4,  1.2060,   -999.0,9,  -999.00,9,  -999.00,9,  -999.00,9,  -999.00,9,    5.442,4,    2.523,4, -999.000,9,   1.7680,2,    -1.05,2,   7.509,4,   -999.0,9,  0.0060,-999.000,   0.037,   0.310
    06AQANTX_4,   A12,   596,  1,     19,     19,2,19920615,1129,-66.5000,   0.0000, 4505,    249.0,   1.2010,  34.6912,2,  34.6938,2,  1.1892,    191.5,2,    99.00,2,    31.59,2,     0.01,2,     2.30,2,    0.454,2,    0.187,3, -999.000,9,-999.0000,5,    -9.00,5,-999.000,5,   2259.6,2,-999.0000,-999.000,-999.000,-999.000
    06AQANTX_4,   A12,   596,  1,     18,     18,2,19920615,1129,-66.5000,   0.0000, 4505,    299.9,   1.1448,  34.6961,2,  34.6981,2,  1.1306,    194.2,2,   100.41,2,    31.16,2,     0.02,2,     2.26,2,    0.416,2,    0.175,3,    0.011,2,   1.8330,2,     9.14,2,   7.971,2,   2258.4,2,  0.0070,   0.002,   0.040,   0.320
    06AQANTX_4,   A12,   596,  1,     17,     17,2,19920615,1129,-66.5000,   0.0000, 4505,    399.3,   1.0584,  34.7035,2,  34.7044,2,  1.0394,    196.2,2,   103.54,2,    31.01,2,     0.02,2,     2.24,2,    0.327,2,    0.139,3, -999.000,9,   1.8510,2,     9.68,2,   8.062,2,   2259.3,2,  0.0070,-999.000,   0.040,   0.320
    06AQANTX_4,   A12,   596,  1,      5,      5,2,19920615,1129,-66.5000,   0.0000, 4505,    499.8,   0.9509,  34.7034,2,  34.4028,4,  0.9271,    201.0,2,   106.43,2,  -999.00,9,     0.02,2,     2.26,2,    0.326,2,    0.155,2, -999.000,9,   1.8590,2,     9.08,2,   8.064,2,   -999.0,9,  0.0070,-999.000,   0.040,   0.310
    06AQANTX_4,   A12,   596,  1,     16,     16,2,19920615,1129,-66.5000,   0.0000, 4505,    599.5,   0.8553,  34.7010,2,  34.7016,2,  0.8267,    200.8,2,   108.50,2,    31.16,2,     0.01,2,     2.26,2,    0.298,2,    0.120,3,    0.022,2,-999.0000,5,    -9.00,5,-999.000,5,   2258.9,2,-999.0000,   0.003,-999.000,-999.000
    06AQANTX_4,   A12,   596,  1,     15,     15,2,19920615,1129,-66.5000,   0.0000, 4505,    699.7,   0.7679,  34.6991,2,  34.6995,2,  0.7344,    202.6,2,   111.53,2,    31.25,2,     0.01,2,     2.24,2,    0.277,2,    0.148,3, -999.000,9,-999.0000,5,    -9.00,5,-999.000,5,   2260.1,2,-999.0000,-999.000,-999.000,-999.000
    06AQANTX_4,   A12,   596,  1,     14,     14,2,19920615,1129,-66.5000,   0.0000, 4505,    849.9,   0.6414,  34.6938,2,  34.6946,2,  0.6005,    203.9,2,   115.07,2,    32.23,2,     0.01,2,     2.27,2,    0.223,2,    0.102,2,    0.013,2,   0.0360,4,   -16.76,4,-999.000,9,   -999.0,9,  0.0000,   0.003,-999.000,   0.320
    06AQANTX_4,   A12,   596,  1,     13,     13,2,19920615,1129,-66.5000,   0.0000, 4505,    999.8,   0.5300,  34.6896,2,  34.6898,2,  0.4815,    205.9,2,   117.83,2,    31.21,2,     0.01,2,     2.31,2,    0.221,2,    0.096,2, -999.000,9,   1.8560,2,     8.79,2,   8.192,2,   2261.6,2,  0.0070,-999.000,   0.041,   0.320
    06AQANTX_4,   A12,   596,  1,     12,     12,2,19920615,1129,-66.5000,   0.0000, 4505,   1199.7,   0.3982,  34.6834,2,  34.6837,2,  0.3392,    208.2,2,   121.45,2,    31.80,2,     0.02,2,     2.33,2,    0.184,2,    0.101,2, -999.000,9,   1.8510,2,     8.63,2,   8.116,2,   -999.0,9,  0.0070,-999.000,   0.041,   0.320
    06AQANTX_4,   A12,   596,  1,      4,      4,2,19920615,1129,-66.5000,   0.0000, 4505,   1500.7,   0.2425,  34.6772,2,  34.6768,2,  0.1668,    212.8,2,   123.98,2,  -999.00,9,     0.01,2,     2.32,2,    0.186,2,    0.096,2, -999.000,9,   1.7910,4,     7.95,2,   7.882,4,   2265.6,2,  0.0060,-999.000,   0.039,   0.310
    06AQANTX_4,   A12,   596,  1,     11,     11,2,19920615,1129,-66.5000,   0.0000, 4505,   1799.6,   0.1206,  34.6702,2,  34.6717,2,  0.0269,    216.4,2,   126.03,2,    31.81,2,     0.02,2,     2.35,2,    0.172,2,    0.090,2, -999.000,9,   1.8950,2,     7.42,2,-999.000,9,   2260.6,2,  0.0070,-999.000,-999.000,   0.320
    06AQANTX_4,   A12,   596,  1,     10,     10,2,19920615,1129,-66.5000,   0.0000, 4505,   2001.1,   0.0581,  34.6634,2,  34.6697,4, -0.0484,    218.4,2,   126.03,2,    31.92,2,     0.02,2,     2.32,2,    0.188,2,    0.091,2, -999.000,9,   1.8670,2,     7.55,2,   8.170,2,   2261.9,2,  0.0070,-999.000,   0.041,   0.320
    06AQANTX_4,   A12,   596,  1,      3,      3,2,19920615,1129,-66.5000,   0.0000, 4505,   3000.6,  -0.1795,  34.6595,2,  34.6601,2, -0.3586,    233.6,2,   126.57,2,    32.89,2,     0.01,2,     2.30,2,    0.339,2,    0.153,2, -999.000,9,   1.8710,2,     5.87,2,   8.234,2,   2259.4,2,  0.0070,-999.000,   0.040,   0.310
    06AQANTX_4,   A12,   596,  1,      2,      2,2,19920615,1129,-66.5000,   0.0000, 4505,   4474.5,  -0.2892,  34.6515,2,  34.6527,2, -0.6048,    241.7,2,   128.96,2,    32.28,2,     0.01,2,     2.29,2,    0.413,2,    0.192,2,    0.030,2,   1.8750,2,     5.32,2,   8.277,2,   -999.0,9,  0.0070,   0.003,   0.041,   0.310
    06AQANTX_4,   A12,   596,  1,      1,      1,2,19920615,1129,-66.5000,   0.0000, 4505,   4575.6,  -0.2887,  34.6510,2,  34.6521,2, -0.6149,    242.9,2,   129.72,2,    32.88,2,     0.02,2,     2.29,2,    0.400,2,    0.159,3, -999.000,9,   1.8710,2,     4.92,2,   8.212,2,   2255.2,2,  0.0070,-999.000,   0.040,   0.310
    06AQANTX_4,   A12,   597,  1,     24,     24,2,19920615,1908,-67.0000,   0.0000, 4660,     10.8,  -1.7794,  34.3480,2,-999.0000,9, -1.7796,    315.7,2,    72.29,2,    30.55,2,     0.16,2,     2.07,2,    5.746,2,    2.646,2, -999.000,9,-999.0000,9,    -9.00,9,-999.000,9,   -999.0,9,-999.0000,-999.000,-999.000,-999.000
    06AQANTX_4,   A12,   597,  1,     23,     23,2,19920615,1908,-67.0000,   0.0000, 4660,     49.9,  -1.7722,  34.3494,2,  34.3476,2, -1.7732,    315.5,2,    72.35,2,    30.27,2,     0.16,2,     2.03,2, -999.000,9, -999.000,9, -999.000,9,-999.0000,9,    -9.00,9,-999.000,9,   -999.0,9,-999.0000,-999.000,-999.000,-999.000
    06AQANTX_4,   A12,   597,  1,     22,     22,2,19920615,1908,-67.0000,   0.0000, 4660,     69.6,  -1.7530,  34.3492,2,  34.3530,2, -1.7544,    315.8,2,    72.41,2,    30.38,2,     0.15,2,     2.06,2,    5.731,2,    3.101,4, -999.000,9,-999.0000,9,    -9.00,9,-999.000,9,   -999.0,9,-999.0000,-999.000,-999.000,-999.000
    06AQANTX_4,   A12,   597,  1,     21,     21,2,19920615,1908,-67.0000,   0.0000, 4660,     99.0,  -0.8863,  34.4698,2,  34.5048,3, -0.8891,    244.3,2,    83.37,2,    33.26,2,     0.08,2,     2.20,2,    3.016,2,    1.333,2, -999.000,9,-999.0000,9,    -9.00,9,-999.000,9,   -999.0,9,-999.0000,-999.000,-999.000,-999.000
    06AQANTX_4,   A12,   597,  1,     20,     20,2,19920615,1908,-67.0000,   0.0000, 4660,    139.6,   1.1219,  34.6549,2,  34.6535,2,  1.1155,    187.4,2,    95.17,2,    34.93,2,     0.02,2,     2.33,2,    0.776,2,    0.328,2, -999.000,9,-999.0000,9,    -9.00,9,-999.000,9,   -999.0,9,-999.0000,-999.000,-999.000,-999.000
    06AQANTX_4,   A12,   597,  1,     19,     19,2,19920615,1908,-67.0000,   0.0000, 4660,    219.3,   1.2138,  34.6851,2,  34.6868,2,  1.2034,    190.0,2,    98.39,2,    34.58,2,     0.02,2,     2.26,2,    0.490,2,    0.200,3, -999.000,9,-999.0000,9,    -9.00,9,-999.000,9,   -999.0,9,-999.0000,-999.000,-999.000,-999.000
    06AQANTX_4,   A12,   597,  1,     18,     18,2,19920615,1908,-67.0000,   0.0000, 4660,    300.3,   1.1447,  34.6971,2,  34.6961,2,  1.1304,    193.8,2,   101.12,2,    33.89,2,     0.02,2,     2.22,2, -999.000,9, -999.000,9, -999.000,9,-999.0000,9,    -9.00,9,-999.000,9,   -999.0,9,-999.0000,-999.000,-999.000,-999.000
    06AQANTX_4,   A12,   597,  1,     17,     17,2,19920615,1908,-67.0000,   0.0000, 4660,    500.0,   0.9444,  34.7043,2,  34.7025,2,  0.9206,    198.8,2,   107.79,2,    33.32,2,     0.02,2,     2.22,2,    0.288,2,    0.134,2, -999.000,9,-999.0000,9,    -9.00,9,-999.000,9,   -999.0,9,-999.0000,-999.000,-999.000,-999.000
    06AQANTX_4,   A12,   597,  1,     16,     16,2,19920615,1908,-67.0000,   0.0000, 4660,    600.1,   0.8194,  34.7002,2,  34.6984,2,  0.7910,    200.4,2,   110.91,2,    33.32,2,     0.01,2,     2.23,2, -999.000,9, -999.000,9, -999.000,9,-999.0000,9,    -9.00,9,-999.000,9,   -999.0,9,-999.0000,-999.000,-999.000,-999.000
    06AQANTX_4,   A12,   597,  1,     15,     15,2,19920615,1908,-67.0000,   0.0000, 4660,    699.7,   0.7229,  34.6974,2,  34.6947,2,  0.6897,    202.6,2,   112.90,2,    32.58,2,     0.01,2,     2.24,2, -999.000,9, -999.000,9, -999.000,9,-999.0000,9,    -9.00,9,-999.000,9,   -999.0,9,-999.0000,-999.000,-999.000,-999.000
    06AQANTX_4,   A12,   597,  1,     14,     14,2,19920615,1908,-67.0000,   0.0000, 4660,    849.8,   0.6218,  34.6934,2,  34.6922,2,  0.5811,    204.2,2,   116.13,2,    33.15,2,     0.01,2,     2.26,2, -999.000,9, -999.000,9, -999.000,9,-999.0000,9,    -9.00,9,-999.000,9,   -999.0,9,-999.0000,-999.000,-999.000,-999.000
    06AQANTX_4,   A12,   597,  1,     13,     13,2,19920615,1908,-67.0000,   0.0000, 4660,    999.4,   0.4942,  34.6884,2,  34.6873,2,  0.4460,    205.7,2,   120.02,2,    33.84,2,     0.03,2,     2.26,2,    0.175,2,    0.069,3, -999.000,9,-999.0000,9,    -9.00,9,-999.000,9,   -999.0,9,-999.0000,-999.000,-999.000,-999.000
    06AQANTX_4,   A12,   597,  1,     12,     12,2,19920615,1908,-67.0000,   0.0000, 4660,   1199.2,   0.3668,  34.6835,2,  34.6815,2,  0.3082,    209.2,2,   122.96,2,    33.28,2,     0.02,2,     2.28,2, -999.000,9, -999.000,9, -999.000,9,-999.0000,9,    -9.00,9,-999.000,9,   -999.0,9,-999.0000,-999.000,-999.000,-999.000
    06AQANTX_4,   A12,   597,  1,     11,     11,2,19920615,1908,-67.0000,   0.0000, 4660,   1499.1,   0.2383,  34.6777,2,  34.6761,2,  0.1627,   -999.0,9,   125.81,2,    33.84,2,     0.02,2,     2.29,2, -999.000,9, -999.000,9, -999.000,9,-999.0000,9,    -9.00,9,-999.000,9,   -999.0,9,-999.0000,-999.000,-999.000,-999.000
    06AQANTX_4,   A12,   597,  1,     10,     10,2,19920615,1908,-67.0000,   0.0000, 4660,   1900.0,   0.0817,  34.6704,2,  34.6727,2, -0.0182,    216.5,2,   126.72,2,    33.96,2,     0.02,2,     2.26,2,    0.149,2,    0.073,2, -999.000,9,-999.0000,9,    -9.00,9,-999.000,9,   -999.0,9,-999.0000,-999.000,-999.000,-999.000
    06AQANTX_4,   A12,   597,  1,      9,      9,2,19920615,1908,-67.0000,   0.0000, 4660,   2400.1,  -0.0525,  34.6640,2,  34.6642,2, -0.1863,    223.9,2,   127.16,2,    33.31,2,     0.01,2,     2.27,2, -999.000,9, -999.000,9, -999.000,9,-999.0000,9,    -9.00,9,-999.000,9,   -999.0,9,-999.0000,-999.000,-999.000,-999.000
    06AQANTX_4,   A12,   597,  1,      8,      8,2,19920615,1908,-67.0000,   0.0000, 4660,   2599.9,  -0.1036,  34.6629,2,  34.6624,2, -0.2518,    226.8,2,   127.14,2,    33.60,2,     0.01,2,     2.26,2, -999.000,9, -999.000,9, -999.000,9,-999.0000,9,    -9.00,9,-999.000,9,   -999.0,9,-999.0000,-999.000,-999.000,-999.000
    06AQANTX_4,   A12,   597,  1,      7,      7,2,19920615,1908,-67.0000,   0.0000, 4660,   2999.2,  -0.1691,  34.6603,2,  34.6614,2, -0.3484,    231.0,2,   126.74,2,    33.22,2,     0.02,2,     2.26,2,    0.225,2,    0.102,2, -999.000,9,-999.0000,9,    -9.00,9,-999.000,9,   -999.0,9,-999.0000,-999.000,-999.000,-999.000
    06AQANTX_4,   A12,   597,  1,      6,      6,2,19920615,1908,-67.0000,   0.0000, 4660,   3399.5,  -0.2218,  34.6578,2,  34.6564,2, -0.4346,    234.5,2,   126.52,2,    32.97,2,     0.02,2,     2.23,2, -999.000,9, -999.000,9, -999.000,9,-999.0000,9,    -9.00,9,-999.000,9,   -999.0,9,-999.0000,-999.000,-999.000,-999.000
    06AQANTX_4,   A12,   597,  1,      5,      5,2,19920615,1908,-67.0000,   0.0000, 4660,   3799.7,  -0.2602,  34.6542,2,  34.6551,2, -0.5091,    238.2,2,   125.23,2,    32.61,2,     0.01,2,     2.24,2,    0.347,2,    0.136,3, -999.000,9,-999.0000,9,    -9.00,9,-999.000,9,   -999.0,9,-999.0000,-999.000,-999.000,-999.000
    06AQANTX_4,   A12,   597,  1,      4,      4,2,19920615,1908,-67.0000,   0.0000, 4660,   4199.4,  -0.2851,  34.6530,2,  34.6531,2, -0.5725,    241.1,2,   127.33,2,    32.81,2,     0.01,2,     2.23,2,    0.354,2,    0.151,3, -999.000,9,-999.0000,9,    -9.00,9,-999.000,9,   -999.0,9,-999.0000,-999.000,-999.000,-999.000
    06AQANTX_4,   A12,   597,  1,      3,      3,2,19920615,1908,-67.0000,   0.0000, 4660,   4600.4,  -0.2982,  34.6517,2,  34.6510,2, -0.6268,    242.0,2,   130.07,2,    32.90,2,     0.01,2,     2.23,2,    0.304,2,    0.133,2, -999.000,9,-999.0000,9,    -9.00,9,-999.000,9,   -999.0,9,-999.0000,-999.000,-999.000,-999.000
    06AQANTX_4,   A12,   597,  1,      2,      2,2,19920615,1908,-67.0000,   0.0000, 4660,   4678.7,  -0.3164,  34.6508,2,  34.6531,2, -0.6527,    242.8,2,   132.15,2,    32.75,2,     0.02,2,     2.22,2,    0.278,2,    0.127,2, -999.000,9,-999.0000,9,    -9.00,9,-999.000,9,   -999.0,9,-999.0000,-999.000,-999.000,-999.000
    06AQANTX_4,   A12,   597,  1,      1,      1,2,19920615,1908,-67.0000,   0.0000, 4660,   4750.4,  -0.3276,  34.6492,2,  34.6500,2, -0.6713,    242.9,2,   133.85,2,    32.85,2,     0.03,2,     2.27,2,    0.280,2,    0.132,2, -999.000,9,-999.0000,9,    -9.00,9,-999.000,9,   -999.0,9,-999.0000,-999.000,-999.000,-999.000