BOTTLE,20061211WHPSIODBK
EXPOCODE,SECT_ID,STNNBR,CASTNO,SAMPNO,BTLNBR,BTLNBR_FLAG_W,DATE,TIME,LATITUDE,LONGITUDE,DEPTH,CTDPRS,CTDTMP,CTDSAL,CTDSAL_FLAG_W,SALNTY,SALNTY_FLAG_W,THETA,OXYGEN,OXYGEN_FLAG_W,SILCAT,SILCAT_FLAG_W,NITRAT,NITRAT_FLAG_W,NITRIT,NITRIT_FLAG_W,PHSPHT,PHSPHT_FLAG_W,CFC-11,CFC-11_FLAG_W,CFC-12,CFC-12_FLAG_W,TRITUM,TRITUM_FLAG_W,HELIUM,HELIUM_FLAG_W,DELHE3,DELHE3_FLAG_W,NEON,NEON_FLAG_W,TCARBN,TCARBN_FLAG_W,HELIER,TRITER,NEONER,DELHER
,,,,,,,,,,,,DBAR,ITS-90,PSS-78,,PSS-78,,DEG C,UMOL/KG,,UMOL/KG,,UMOL/KG,,UMOL/KG,,UMOL/KG,,PMOL/KG,,PMOL/KG,,TU,,NMOL/KG,,PERCNT,,NMOL/KG,,UMOL/KG,,NMOL/KG,TU,NMOL/KG,PERCNT
    06AQANTX_4,  SR04,   635,  1,     24,     24,2,19920721,1910,-62.0000, -44.2833,  634,     10.1,  -1.7672,  34.0600,2,-999.0000,9, -1.7674,   -999.0,9,  -999.00,9,  -999.00,9,  -999.00,9,  -999.00,9, -999.000,9, -999.000,9, -999.000,9,-999.0000,9,    -9.00,9,-999.000,9,   -999.0,9,-999.0000,-999.000,-999.000,-999.000
    06AQANTX_4,  SR04,   635,  1,     23,     23,2,19920721,1910,-62.0000, -44.2833,  634,     10.1,  -1.7757,  34.0614,2,  34.0565,2, -1.7759,    315.0,2,  -999.00,9,  -999.00,9,     0.36,2,  -999.00,9,    5.482,6,    2.514,6,    0.145,2,   2.3920,5,     0.62,5,   8.249,2,   2191.8,2,  0.0090,   0.016,   0.040,   0.310
    06AQANTX_4,  SR04,   635,  1,     22,     22,2,19920721,1910,-62.0000, -44.2833,  634,     36.8,  -1.7782,  34.0620,2,-999.0000,9, -1.7789,   -999.0,9,  -999.00,9,  -999.00,9,  -999.00,9,  -999.00,9, -999.000,9, -999.000,9, -999.000,9,-999.0000,9,    -9.00,9,-999.000,9,   -999.0,9,-999.0000,-999.000,-999.000,-999.000
    06AQANTX_4,  SR04,   635,  1,     21,     21,2,19920721,1910,-62.0000, -44.2833,  634,     36.8,  -1.7810,  34.0632,2,  34.0521,2, -1.7817,    314.9,2,  -999.00,9,  -999.00,9,     0.36,2,  -999.00,9,    5.416,2,    2.502,2,    0.125,2,   2.2200,5,     0.37,5,   8.339,2,   2191.9,2,  0.0080,   0.008,   0.041,   0.310
    06AQANTX_4,  SR04,   635,  1,     20,     20,2,19920721,1910,-62.0000, -44.2833,  634,     77.9,  -1.6153,  34.1021,2,-999.0000,9, -1.6169,   -999.0,9,  -999.00,9,  -999.00,9,  -999.00,9,  -999.00,9, -999.000,9, -999.000,9, -999.000,9,-999.0000,9,    -9.00,9,-999.000,9,   -999.0,9,-999.0000,-999.000,-999.000,-999.000
    06AQANTX_4,  SR04,   635,  1,     19,     19,2,19920721,1910,-62.0000, -44.2833,  634,     77.9,  -1.6068,  34.0989,2,  34.0733,3, -1.6084,    311.0,2,  -999.00,9,  -999.00,9,     0.30,2,  -999.00,9,    5.178,2,    2.385,2, -999.000,9,   1.8200,2,     0.46,2,   8.182,2,   2195.2,2,  0.0070,-999.000,   0.040,   0.310
    06AQANTX_4,  SR04,   635,  1,     18,     18,2,19920721,1910,-62.0000, -44.2833,  634,     97.5,  -1.5225,  34.1227,2,-999.0000,9, -1.5246,   -999.0,9,  -999.00,9,  -999.00,9,  -999.00,9,  -999.00,9, -999.000,9, -999.000,9, -999.000,9,-999.0000,9,    -9.00,9,-999.000,9,   -999.0,9,-999.0000,-999.000,-999.000,-999.000
    06AQANTX_4,  SR04,   635,  1,     17,     17,2,19920721,1910,-62.0000, -44.2833,  634,     97.5,  -1.4985,  34.1493,2,  34.1300,3, -1.5006,    303.9,2,  -999.00,9,  -999.00,9,     0.25,2,  -999.00,9,    4.702,2,    2.151,2,    0.117,2,   1.8300,4,     0.70,4,   8.249,4,   2197.1,2,  0.0160,   0.013,   0.082,   0.310
    06AQANTX_4,  SR04,   635,  1,     16,     16,2,19920721,1910,-62.0000, -44.2833,  634,    118.1,  -1.1233,  34.2865,2,-999.0000,9, -1.1263,   -999.0,9,  -999.00,9,  -999.00,9,  -999.00,9,  -999.00,9, -999.000,9, -999.000,9, -999.000,9,-999.0000,9,    -9.00,9,-999.000,9,   -999.0,9,-999.0000,-999.000,-999.000,-999.000
    06AQANTX_4,  SR04,   635,  1,     15,     15,2,19920721,1910,-62.0000, -44.2833,  634,    118.1,  -1.1269,  34.2877,2,  34.4773,4, -1.1299,    246.4,2,  -999.00,9,  -999.00,9,     0.05,2,  -999.00,9,    1.542,4,    0.736,4,    0.086,2,   1.9120,4,     5.53,2,   8.334,2,   2240.9,2,  0.0070,   0.007,   0.041,   0.310
    06AQANTX_4,  SR04,   635,  1,     14,     14,2,19920721,1910,-62.0000, -44.2833,  634,    177.4,  -0.6119,  34.5026,2,-999.0000,9, -0.6174,   -999.0,9,  -999.00,9,  -999.00,9,  -999.00,9,  -999.00,9, -999.000,9, -999.000,9, -999.000,9,-999.0000,9,    -9.00,9,-999.000,9,   -999.0,9,-999.0000,-999.000,-999.000,-999.000
    06AQANTX_4,  SR04,   635,  1,     13,     13,2,19920721,1910,-62.0000, -44.2833,  634,    177.4,  -0.5963,  34.4998,2,  34.4872,3, -0.6019,    241.1,2,  -999.00,9,  -999.00,9,     0.01,2,  -999.00,9,    2.164,2,    0.986,2,    0.082,2,   1.8440,2,     5.31,2,   8.158,2,   2240.1,2,  0.0070,   0.007,   0.040,   0.310
    06AQANTX_4,  SR04,   635,  1,     12,     12,2,19920721,1910,-62.0000, -44.2833,  634,    198.1,  -0.4728,  34.5377,2,-999.0000,9, -0.4793,   -999.0,9,  -999.00,9,  -999.00,9,  -999.00,9,  -999.00,9, -999.000,9, -999.000,9, -999.000,9,-999.0000,9,    -9.00,9,-999.000,9,   -999.0,9,-999.0000,-999.000,-999.000,-999.000
    06AQANTX_4,  SR04,   635,  1,     11,     11,2,19920721,1910,-62.0000, -44.2833,  634,    198.1,  -0.4400,  34.5421,2,  34.5400,2, -0.4465,    234.5,2,  -999.00,9,  -999.00,9,     0.01,2,  -999.00,9,    1.863,2,    0.851,2,    0.077,2,   1.8450,2,     5.89,2,   8.173,2,   2244.8,2,  0.0070,   0.006,   0.040,   0.310
    06AQANTX_4,  SR04,   635,  1,     10,     10,2,19920721,1910,-62.0000, -44.2833,  634,    246.8,  -0.2531,  34.5832,2,-999.0000,9, -0.2617,   -999.0,9,  -999.00,9,  -999.00,9,  -999.00,9,  -999.00,9, -999.000,9, -999.000,9, -999.000,9,-999.0000,9,    -9.00,9,-999.000,9,   -999.0,9,-999.0000,-999.000,-999.000,-999.000
    06AQANTX_4,  SR04,   635,  1,      9,      9,2,19920721,1910,-62.0000, -44.2833,  634,    246.8,  -0.2383,  34.5843,2,  34.5723,3, -0.2470,    226.9,2,  -999.00,9,  -999.00,9,     0.01,2,  -999.00,9,    1.443,2,    0.663,2,    0.063,2,-999.0000,5,    -9.00,5,-999.000,5,   -999.0,9,-999.0000,   0.006,-999.000,-999.000
    06AQANTX_4,  SR04,   635,  1,      8,      8,2,19920721,1910,-62.0000, -44.2833,  634,    347.5,  -0.0115,  34.6291,2,-999.0000,9, -0.0247,   -999.0,9,  -999.00,9,  -999.00,9,  -999.00,9,  -999.00,9, -999.000,9, -999.000,9, -999.000,9,-999.0000,9,    -9.00,9,-999.000,9,   -999.0,9,-999.0000,-999.000,-999.000,-999.000
    06AQANTX_4,  SR04,   635,  1,      7,      7,2,19920721,1910,-62.0000, -44.2833,  634,    347.5,  -0.0081,  34.6308,2,  34.6291,2, -0.0213,    217.4,2,  -999.00,9,  -999.00,9,     0.01,2,  -999.00,9,    0.901,2,    0.411,2,    0.078,2,   1.8510,2,     7.27,2,   8.165,2,   2254.4,2,  0.0070,   0.008,   0.040,   0.310
    06AQANTX_4,  SR04,   635,  1,      6,      6,2,19920721,1910,-62.0000, -44.2833,  634,    497.7,  -0.0129,  34.6489,2,-999.0000,9, -0.0325,   -999.0,9,  -999.00,9,  -999.00,9,  -999.00,9,  -999.00,9, -999.000,9, -999.000,9, -999.000,9,-999.0000,9,    -9.00,9,-999.000,9,   -999.0,9,-999.0000,-999.000,-999.000,-999.000
    06AQANTX_4,  SR04,   635,  1,      5,      5,2,19920721,1910,-62.0000, -44.2833,  634,    497.7,  -0.0217,  34.6499,2,  34.6486,2, -0.0413,    217.6,2,  -999.00,9,  -999.00,9,     0.01,2,  -999.00,9,    0.625,2,    0.289,2,    0.043,2,   1.8610,2,     7.29,2,   8.159,2,   2255.4,2,  0.0070,   0.011,   0.041,   0.320
    06AQANTX_4,  SR04,   635,  1,      4,      4,2,19920721,1910,-62.0000, -44.2833,  634,    546.9,  -0.0298,  34.6540,2,  34.6534,2, -0.0516,    218.7,2,  -999.00,9,  -999.00,9,     0.01,2,  -999.00,9,    0.525,2,    0.242,2, -999.000,9,-999.0000,9,    -9.00,9,-999.000,9,   2256.0,2,-999.0000,-999.000,-999.000,-999.000
    06AQANTX_4,  SR04,   635,  1,      3,      3,2,19920721,1910,-62.0000, -44.2833,  634,    597.3,  -0.0718,  34.6552,2,  34.6406,4, -0.0956,   -999.0,9,  -999.00,9,  -999.00,9,     0.01,2,  -999.00,9,    0.574,2,    0.263,2,    0.034,2,-999.0000,5,    -9.00,5,-999.000,5,   2252.0,2,-999.0000,   0.006,-999.000,-999.000
    06AQANTX_4,  SR04,   635,  1,      2,      2,2,19920721,1910,-62.0000, -44.2833,  634,    650.0,  -0.0662,  34.6558,2,-999.0000,9, -0.0925,   -999.0,9,  -999.00,9,  -999.00,9,  -999.00,9,  -999.00,9, -999.000,9, -999.000,9, -999.000,9,-999.0000,9,    -9.00,9,-999.000,9,   -999.0,9,-999.0000,-999.000,-999.000,-999.000
    06AQANTX_4,  SR04,   635,  1,      1,      1,2,19920721,1910,-62.0000, -44.2833,  634,    650.0,  -0.0667,  34.6550,2,  34.6543,2, -0.0930,    219.8,2,  -999.00,9,  -999.00,9,     0.02,2,  -999.00,9,    0.572,2,    0.259,2,    0.016,2,   1.8580,2,     7.34,2,   8.193,2,   2255.8,2,  0.0070,   0.004,   0.040,   0.310
    06AQANTX_4,  SR04,   635,  3,     24,     24,2,19920724,1314,-61.9000, -43.1167,  666,      4.1,  -1.8116,  34.0299,2,-999.0000,9, -1.8117,   -999.0,9,  -999.00,9,  -999.00,9,  -999.00,9,  -999.00,9, -999.000,9, -999.000,9, -999.000,9,-999.0000,9,  -999.00,9,-999.000,9,   -999.0,9,-999.0000,-999.000,-999.000,-999.000
    06AQANTX_4,  SR04,   635,  3,     23,     23,2,19920724,1314,-61.9000, -43.1167,  666,     15.9,  -1.8145,  34.0360,2,  34.0340,2, -1.8148,    318.0,2,    72.83,2,    27.62,2,     0.38,2,     1.81,2, -999.000,9, -999.000,9, -999.000,9,-999.0000,9,  -999.00,9,-999.000,9,   2188.6,2,-999.0000,-999.000,-999.000,-999.000
    06AQANTX_4,  SR04,   635,  3,     22,     22,2,19920724,1314,-61.9000, -43.1167,  666,     26.1,  -1.8116,  34.0390,2,  34.0351,2, -1.8121,    318.2,2,    71.64,2,    27.64,2,     0.37,2,     1.81,2, -999.000,9, -999.000,9, -999.000,9,-999.0000,9,  -999.00,9,-999.000,9,   2188.3,2,-999.0000,-999.000,-999.000,-999.000
    06AQANTX_4,  SR04,   635,  3,     21,     21,2,19920724,1314,-61.9000, -43.1167,  666,     26.1,  -1.8103,  34.0416,2,-999.0000,9, -1.8108,   -999.0,9,    71.64,2,    27.64,2,  -999.00,9,     1.81,2, -999.000,9, -999.000,9, -999.000,9,-999.0000,9,  -999.00,9,-999.000,9,   -999.0,9,-999.0000,-999.000,-999.000,-999.000
    06AQANTX_4,  SR04,   635,  3,     20,     20,2,19920724,1314,-61.9000, -43.1167,  666,     47.2,  -1.8099,  34.0419,2,  34.0362,2, -1.8108,    317.7,2,    72.61,2,    27.55,2,     0.38,2,     1.80,2, -999.000,9, -999.000,9, -999.000,9,-999.0000,9,  -999.00,9,-999.000,9,   -999.0,9,-999.0000,-999.000,-999.000,-999.000
    06AQANTX_4,  SR04,   635,  3,     18,     18,2,19920724,1314,-61.9000, -43.1167,  666,     76.8,  -1.8004,  34.0431,2,-999.0000,9, -1.8019,   -999.0,9,  -999.00,9,  -999.00,9,  -999.00,9,  -999.00,9, -999.000,9, -999.000,9, -999.000,9,-999.0000,9,  -999.00,9,-999.000,9,   -999.0,9,-999.0000,-999.000,-999.000,-999.000
    06AQANTX_4,  SR04,   635,  3,     19,     19,2,19920724,1314,-61.9000, -43.1167,  666,     77.2,  -1.8018,  34.0419,2,  34.0402,2, -1.8033,    317.6,2,    72.65,2,    27.61,2,     0.37,2,     1.82,2, -999.000,9, -999.000,9, -999.000,9,-999.0000,9,  -999.00,9,-999.000,9,   2197.9,2,-999.0000,-999.000,-999.000,-999.000
    06AQANTX_4,  SR04,   635,  3,     16,     16,2,19920724,1314,-61.9000, -43.1167,  666,     97.2,  -1.1456,  34.2679,2,  34.3165,3, -1.1481,    276.9,2,    86.84,2,    31.22,2,     0.06,2,     2.00,2, -999.000,9, -999.000,9, -999.000,9,-999.0000,9,  -999.00,9,-999.000,9,   2218.4,2,-999.0000,-999.000,-999.000,-999.000
    06AQANTX_4,  SR04,   635,  3,     17,     17,2,19920724,1314,-61.9000, -43.1167,  666,     97.5,  -1.1005,  34.2891,2,-999.0000,9, -1.1030,   -999.0,9,  -999.00,9,  -999.00,9,  -999.00,9,  -999.00,9, -999.000,9, -999.000,9, -999.000,9,-999.0000,9,  -999.00,9,-999.000,9,   -999.0,9,-999.0000,-999.000,-999.000,-999.000
    06AQANTX_4,  SR04,   635,  3,     14,     14,2,19920724,1314,-61.9000, -43.1167,  666,    117.0,  -0.9216,  34.3885,2,  34.3887,2, -0.9248,    266.7,2,    90.52,2,    31.64,2,     0.02,2,     2.04,2, -999.000,9, -999.000,9, -999.000,9,-999.0000,9,  -999.00,9,-999.000,9,   2225.7,2,-999.0000,-999.000,-999.000,-999.000
    06AQANTX_4,  SR04,   635,  3,     15,     15,2,19920724,1314,-61.9000, -43.1167,  666,    117.3,  -0.9268,  34.3848,2,-999.0000,9, -0.9300,   -999.0,9,  -999.00,9,  -999.00,9,  -999.00,9,  -999.00,9, -999.000,9, -999.000,9, -999.000,9,-999.0000,9,  -999.00,9,-999.000,9,   -999.0,9,-999.0000,-999.000,-999.000,-999.000
    06AQANTX_4,  SR04,   635,  3,     13,     13,2,19920724,1314,-61.9000, -43.1167,  666,    137.1,  -0.7880,  34.4494,2,  34.4625,3, -0.7920,    253.9,2,    95.67,2,    32.29,2,     0.03,2,     2.10,2, -999.000,9, -999.000,9, -999.000,9,-999.0000,9,  -999.00,9,-999.000,9,   2234.7,2,-999.0000,-999.000,-999.000,-999.000
    06AQANTX_4,  SR04,   635,  3,     12,     12,2,19920724,1314,-61.9000, -43.1167,  666,    157.9,  -0.6871,  34.4878,2,  34.4915,2, -0.6919,    248.5,2,    97.67,2,    32.39,2,     0.03,2,     2.13,2, -999.000,9, -999.000,9, -999.000,9,-999.0000,9,  -999.00,9,-999.000,9,   2239.3,2,-999.0000,-999.000,-999.000,-999.000
    06AQANTX_4,  SR04,   635,  3,     10,     10,2,19920724,1314,-61.9000, -43.1167,  666,    198.3,  -0.4227,  34.5490,2,  34.5469,2, -0.4293,    239.7,2,   102.86,2,    32.85,2,     0.02,2,     2.16,2, -999.000,9, -999.000,9, -999.000,9,-999.0000,9,  -999.00,9,-999.000,9,   2243.8,2,-999.0000,-999.000,-999.000,-999.000
    06AQANTX_4,  SR04,   635,  3,     11,     11,2,19920724,1314,-61.9000, -43.1167,  666,    198.9,  -0.4221,  34.5491,2,-999.0000,9, -0.4287,   -999.0,9,  -999.00,9,  -999.00,9,  -999.00,9,  -999.00,9, -999.000,9, -999.000,9, -999.000,9,-999.0000,9,  -999.00,9,-999.000,9,   -999.0,9,-999.0000,-999.000,-999.000,-999.000
    06AQANTX_4,  SR04,   635,  3,      9,      9,2,19920724,1314,-61.9000, -43.1167,  666,    246.0,  -0.2374,  34.5851,2,  34.5870,2, -0.2460,    226.3,2,   106.96,2,    32.76,2,     0.02,2,     2.18,2, -999.000,9, -999.000,9, -999.000,9,-999.0000,9,  -999.00,9,-999.000,9,   2250.5,2,-999.0000,-999.000,-999.000,-999.000
    06AQANTX_4,  SR04,   635,  3,      7,      7,2,19920724,1314,-61.9000, -43.1167,  666,    298.6,  -0.0980,  34.6158,2,  34.6146,2, -0.1090,    222.4,2,   111.19,2,    33.41,2,     0.02,2,     2.20,2, -999.000,9, -999.000,9, -999.000,9,-999.0000,9,  -999.00,9,-999.000,9,   2251.7,2,-999.0000,-999.000,-999.000,-999.000
    06AQANTX_4,  SR04,   635,  3,      8,      8,2,19920724,1314,-61.9000, -43.1167,  666,    299.1,  -0.0971,  34.6161,2,-999.0000,9, -0.1081,   -999.0,9,  -999.00,9,  -999.00,9,  -999.00,9,  -999.00,9, -999.000,9, -999.000,9, -999.000,9,-999.0000,9,  -999.00,9,-999.000,9,   -999.0,9,-999.0000,-999.000,-999.000,-999.000
    06AQANTX_4,  SR04,   635,  3,      6,      6,2,19920724,1314,-61.9000, -43.1167,  666,    348.3,  -0.0240,  34.6316,2,  34.6320,2, -0.0372,    217.7,2,   112.27,2,    33.44,2,     0.02,2,     2.22,2, -999.000,9, -999.000,9, -999.000,9,-999.0000,9,  -999.00,9,-999.000,9,   2254.9,2,-999.0000,-999.000,-999.000,-999.000
    06AQANTX_4,  SR04,   635,  3,      5,      5,2,19920724,1314,-61.9000, -43.1167,  666,    398.4,   0.0204,  34.6428,2,  34.6417,2,  0.0049,    215.8,2,   115.68,2,    33.45,2,     0.02,2,     2.22,2, -999.000,9, -999.000,9, -999.000,9,-999.0000,9,  -999.00,9,-999.000,9,   -999.0,9,-999.0000,-999.000,-999.000,-999.000
    06AQANTX_4,  SR04,   635,  3,      4,      4,2,19920724,1314,-61.9000, -43.1167,  666,    498.3,   0.0188,  34.6523,2,  34.6515,2, -0.0010,    216.2,2,   118.52,2,    33.56,2,     0.01,2,     2.23,2, -999.000,9, -999.000,9, -999.000,9,-999.0000,9,  -999.00,9,-999.000,9,   2254.6,2,-999.0000,-999.000,-999.000,-999.000
    06AQANTX_4,  SR04,   635,  3,      3,      3,2,19920724,1314,-61.9000, -43.1167,  666,    567.9,  -0.0364,  34.6553,2,  34.6552,2, -0.0591,    215.0,2,   125.38,2,    33.64,2,     0.02,2,     2.26,2, -999.000,9, -999.000,9, -999.000,9,-999.0000,9,  -999.00,9,-999.000,9,   2259.7,2,-999.0000,-999.000,-999.000,-999.000
    06AQANTX_4,  SR04,   635,  3,      2,      2,2,19920724,1314,-61.9000, -43.1167,  666,    627.5,  -0.0532,  34.6556,2,  34.6542,2, -0.0785,    219.4,2,   129.98,2,    33.70,2,     0.01,2,     2.27,2, -999.000,9, -999.000,9, -999.000,9,-999.0000,9,  -999.00,9,-999.000,9,   2261.3,2,-999.0000,-999.000,-999.000,-999.000
    06AQANTX_4,  SR04,   635,  3,      1,      1,2,19920724,1314,-61.9000, -43.1167,  666,    680.3,  -0.0551,  34.6562,2,  34.6550,2, -0.0828,   -999.0,9,  -999.00,9,    33.75,2,     0.03,2,     2.28,2, -999.000,9, -999.000,9, -999.000,9,-999.0000,9,  -999.00,9,-999.000,9,   2259.6,2,-999.0000,-999.000,-999.000,-999.000