BOTTLE,20061211WHPSIODBK
EXPOCODE,SECT_ID,STNNBR,CASTNO,SAMPNO,BTLNBR,BTLNBR_FLAG_W,DATE,TIME,LATITUDE,LONGITUDE,DEPTH,CTDPRS,CTDTMP,CTDSAL,CTDSAL_FLAG_W,SALNTY,SALNTY_FLAG_W,THETA,OXYGEN,OXYGEN_FLAG_W,SILCAT,SILCAT_FLAG_W,NITRAT,NITRAT_FLAG_W,NITRIT,NITRIT_FLAG_W,PHSPHT,PHSPHT_FLAG_W,CFC-11,CFC-11_FLAG_W,CFC-12,CFC-12_FLAG_W,TRITUM,TRITUM_FLAG_W,HELIUM,HELIUM_FLAG_W,DELHE3,DELHE3_FLAG_W,NEON,NEON_FLAG_W,TCARBN,TCARBN_FLAG_W,HELIER,TRITER,NEONER,DELHER
,,,,,,,,,,,,DBAR,ITS-90,PSS-78,,PSS-78,,DEG C,UMOL/KG,,UMOL/KG,,UMOL/KG,,UMOL/KG,,UMOL/KG,,PMOL/KG,,PMOL/KG,,TU,,NMOL/KG,,PERCNT,,NMOL/KG,,UMOL/KG,,NMOL/KG,TU,NMOL/KG,PERCNT
    06AQANTX_4,  SR04,   625,  3,     24,     24,2,19920714,2332,-65.5500, -36.4500, 4743,      8.5,  -1.8378,  34.4108,2,  34.5685,4, -1.8380,    300.6,2,    72.46,2,    25.74,2,     0.07,2,     1.87,2,    5.612,2,    2.486,2, -999.000,9,   1.8120,2,     0.85,2,   8.284,2,   2217.6,2,  0.0070,-999.000,   0.041,   0.320
    06AQANTX_4,  SR04,   625,  3,     23,     23,2,19920714,2332,-65.5500, -36.4500, 4743,     39.7,  -1.8425,  34.4217,2,  34.5698,4, -1.8433,    302.1,2,    71.56,2,    25.38,2,     0.08,2,     1.89,2,    5.634,2,    2.494,2, -999.000,9,   1.8010,2,     0.59,2,   8.148,2,   2217.1,2,  0.0070,-999.000,   0.041,   0.320
    06AQANTX_4,  SR04,   625,  3,     22,     22,2,19920714,2332,-65.5500, -36.4500, 4743,     79.2,  -1.8116,  34.4254,2,  34.5506,4, -1.8132,    301.5,2,    71.63,2,    25.36,2,     0.08,2,     1.89,2,    5.660,2,    2.495,2, -999.000,9,   1.8050,2,     1.23,2,   8.132,2,   2217.9,2,  0.0070,-999.000,   0.041,   0.320
    06AQANTX_4,  SR04,   625,  3,     21,     21,2,19920714,2332,-65.5500, -36.4500, 4743,    118.2,  -0.8968,  34.5290,2,  34.5255,2, -0.9001,    243.9,2,    89.38,2,    31.68,2,     0.05,2,     2.22,2,    3.216,2,    1.417,2, -999.000,9,-999.0000,9,    -9.00,9,-999.000,9,   2244.3,2,-999.0000,-999.000,-999.000,-999.000
    06AQANTX_4,  SR04,   625,  3,     20,     20,2,19920714,2332,-65.5500, -36.4500, 4743,    179.9,   0.4728,  34.6738,2,  34.6740,2,  0.4655,    190.7,2,   112.99,2,    34.73,2,     0.01,2,     2.39,2,    0.551,2,    0.245,2, -999.000,9,   1.8760,2,     8.54,2,   8.125,2,   2268.1,2,  0.0070,-999.000,   0.041,   0.320
    06AQANTX_4,  SR04,   625,  3,     19,     19,2,19920714,2332,-65.5500, -36.4500, 4743,    248.9,   0.5247,  34.6825,2,  34.6832,2,  0.5143,    191.5,2,   118.14,2,    34.57,2,     0.02,2,     2.40,2,    0.313,2,    0.139,2, -999.000,9,   1.8630,2,     9.55,2,   8.106,2,   2267.1,2,  0.0070,-999.000,   0.041,   0.320
    06AQANTX_4,  SR04,   625,  3,     18,     18,2,19920714,2332,-65.5500, -36.4500, 4743,    348.5,   0.4643,  34.6831,2,  34.6827,2,  0.4496,    192.9,2,   122.25,2,    34.64,2,     0.02,2,     2.41,2,    0.191,2,    0.089,2, -999.000,9,   1.8590,2,     9.68,2,   8.054,2,   2271.8,2,  0.0070,-999.000,   0.040,   0.320
    06AQANTX_4,  SR04,   625,  3,     17,     17,2,19920714,2332,-65.5500, -36.4500, 4743,    498.3,   0.3722,  34.6802,2,  34.6394,4,  0.3509,    194.5,2,   125.51,2,    34.60,2,     0.01,2,     2.39,2, -999.000,9, -999.000,9, -999.000,9,-999.0000,9,    -9.00,9,-999.000,9,   -999.0,9,-999.0000,-999.000,-999.000,-999.000
    06AQANTX_4,  SR04,   625,  3,     16,     16,2,19920714,2332,-65.5500, -36.4500, 4743,    648.7,   0.2985,  34.6782,2,  34.6773,2,  0.2703,    197.5,2,   127.61,2,    34.56,2,     0.01,2,     2.36,2,    0.103,2,    0.054,2, -999.000,9,   1.8570,4,     8.73,4,   8.112,4,   2268.3,2,  0.0160,-999.000,   0.081,   0.320
    06AQANTX_4,  SR04,   625,  3,     15,     15,2,19920714,2332,-65.5500, -36.4500, 4743,    799.0,   0.2325,  34.6756,2,  34.6763,2,  0.1972,    200.0,2,   129.05,2,    34.44,2,     0.01,2,     2.37,2,    0.091,2,    0.044,3, -999.000,9,   1.8590,2,     8.92,2,   8.132,2,   2266.9,2,  0.0070,-999.000,   0.041,   0.320
    06AQANTX_4,  SR04,   625,  3,     14,     14,2,19920714,2332,-65.5500, -36.4500, 4743,    998.9,   0.1456,  34.6730,2,  34.6742,2,  0.1004,    206.4,2,   129.43,2,    34.22,2,     0.01,2,     2.34,2,    0.092,2,    0.050,2, -999.000,9,-999.0000,9,    -9.00,9,-999.000,9,   2265.3,2,-999.0000,-999.000,-999.000,-999.000
    06AQANTX_4,  SR04,   625,  3,     13,     13,2,19920714,2332,-65.5500, -36.4500, 4743,   1197.8,   0.0656,  34.6699,2,  34.6712,2,  0.0101,    212.0,2,   129.23,2,    33.97,2,     0.01,2,     2.34,2,    0.093,2,    0.048,2, -999.000,9,   1.8680,2,     7.15,2,   8.177,2,   2262.4,2,  0.0070,-999.000,   0.041,   0.320
    06AQANTX_4,  SR04,   625,  3,     12,     12,2,19920714,2332,-65.5500, -36.4500, 4743,   1499.0,  -0.0410,  34.6653,2,  34.6674,2, -0.1131,    219.4,2,   129.04,2,    33.72,2,     0.01,2,     2.33,2,    0.118,2,    0.066,2, -999.000,9,-999.0000,9,    -9.00,9,-999.000,9,   2258.9,2,-999.0000,-999.000,-999.000,-999.000
    06AQANTX_4,  SR04,   625,  3,     11,     11,2,19920714,2332,-65.5500, -36.4500, 4743,   1799.7,  -0.1282,  34.6621,2,  34.6524,4, -0.2182,    225.3,2,   128.56,2,    33.37,2,     0.01,2,     2.32,2,    0.141,2,    0.069,2, -999.000,9,   1.8630,2,     7.05,2,   8.214,2,   2255.9,2,  0.0070,-999.000,   0.041,   0.320
    06AQANTX_4,  SR04,   625,  3,     10,     10,2,19920714,2332,-65.5500, -36.4500, 4743,   2198.6,  -0.2129,  34.6591,2,  34.6591,2, -0.3289,    232.6,2,   127.41,2,    33.32,2,     0.01,2,     2.31,2,    0.188,2,    0.087,2, -999.000,9,   1.8600,2,     6.19,2,   8.192,2,   2254.5,2,  0.0070,-999.000,   0.041,   0.320
    06AQANTX_4,  SR04,   625,  3,      9,      9,2,19920714,2332,-65.5500, -36.4500, 4743,   2599.8,  -0.2670,  34.6566,2,  34.6474,4, -0.4118,    234.7,2,   127.20,2,    33.11,2,     0.00,2,     2.27,2,    0.156,2,    0.089,3, -999.000,9,   1.8600,2,     6.09,2,   8.286,2,   -999.0,9,  0.0070,-999.000,   0.041,   0.310
    06AQANTX_4,  SR04,   625,  3,      8,      8,2,19920714,2332,-65.5500, -36.4500, 4743,   2990.7,  -0.3048,  34.6557,2,  34.6489,4, -0.4802,    237.8,2,   127.11,2,    33.02,2,     0.00,2,     2.28,2,    0.129,2,    0.069,2, -999.000,9,   1.8670,2,     5.63,2,   8.234,2,   2249.7,2,  0.0070,-999.000,   0.040,   0.310
    06AQANTX_4,  SR04,   625,  3,      7,      7,2,19920714,2332,-65.5500, -36.4500, 4743,   3398.8,  -0.3451,  34.6522,2,  34.6455,4, -0.5546,    240.7,2,   126.53,2,    32.92,2,     0.00,2,     2.28,2,    0.161,2,    0.083,2, -999.000,9,-999.0000,5,    -9.00,5,-999.000,5,   2249.5,2,-999.0000,-999.000,-999.000,-999.000
    06AQANTX_4,  SR04,   625,  3,      6,      6,2,19920714,2332,-65.5500, -36.4500, 4743,   3798.8,  -0.3811,  34.6519,2,  34.6514,2, -0.6264,    243.7,2,   127.01,2,    32.98,2,     0.01,2,     2.27,2,    0.177,2,    0.090,2, -999.000,9,   1.8700,2,     5.37,2,   8.314,2,   2248.2,2,  0.0070,-999.000,   0.041,   0.310
    06AQANTX_4,  SR04,   625,  3,      5,      5,2,19920714,2332,-65.5500, -36.4500, 4743,   4199.7,  -0.4255,  34.6483,2,  34.6449,2, -0.7085,    246.9,2,   125.16,2,    32.96,2,     0.00,2,     2.27,2,    0.205,2,    0.103,2, -999.000,9,-999.0000,5,    -9.00,5,-999.000,5,   2247.3,2,-999.0000,-999.000,-999.000,-999.000
    06AQANTX_4,  SR04,   625,  3,      4,      4,2,19920714,2332,-65.5500, -36.4500, 4743,   4599.7,  -0.5081,  34.6444,2,  34.6372,4, -0.8296,    251.3,2,   121.79,2,    32.88,2,     0.00,2,     2.27,2,    0.333,2,    0.165,2, -999.000,9,-999.0000,5,    -9.00,5,-999.000,5,   2246.2,2,-999.0000,-999.000,-999.000,-999.000
    06AQANTX_4,  SR04,   625,  3,      3,      3,2,19920714,2332,-65.5500, -36.4500, 4743,   4748.9,  -0.5300,  34.6404,2,  34.6386,2, -0.8665,    251.9,2,   123.62,2,    33.18,2,     0.00,2,     2.24,2,    0.493,2,    0.234,2, -999.000,9,-999.0000,5,    -9.00,5,-999.000,5,   -999.0,9,-999.0000,-999.000,-999.000,-999.000
    06AQANTX_4,  SR04,   625,  3,      2,      2,2,19920714,2332,-65.5500, -36.4500, 4743,   4799.9,  -0.5486,  34.6374,2,  34.6356,2, -0.8900,    253.0,2,   123.81,2,    33.16,2,     0.01,2,     2.25,2,    0.701,2,    0.326,2, -999.000,9,   1.8730,2,     4.43,2,   8.454,2,   2246.7,2,  0.0070,-999.000,   0.042,   0.320
    06AQANTX_4,  SR04,   625,  3,      1,      1,2,19920714,2332,-65.5500, -36.4500, 4743,   4845.5,  -0.5462,  34.6356,2,  34.6285,4, -0.8926,    253.1,2,   123.51,2,    33.11,2,     0.02,2,     2.24,2, -999.000,9, -999.000,9, -999.000,9,-999.0000,5,    -9.00,5,-999.000,5,   2246.8,2,-999.0000,-999.000,-999.000,-999.000
    06AQANTX_4,  SR04,   626,  3,     24,     24,2,19920715,1505,-65.2833, -37.6667, 4726,      9.4,  -1.8505,  34.4123,2,  34.4165,2, -1.8507,    304.4,2,    71.94,2,    24.90,2,     0.06,2,     1.86,2,    5.682,2,    2.517,2,    0.230,2,   1.7910,2,    -0.09,2,   8.074,2,   2207.0,2,  0.0070,   0.024,   0.040,   0.320
    06AQANTX_4,  SR04,   626,  3,     23,     23,2,19920715,1505,-65.2833, -37.6667, 4726,     38.9,  -1.8553,  34.4184,2,  34.4153,2, -1.8560,    304.1,2,    72.36,2,    24.95,2,     0.06,2,     1.88,2,    5.633,2,    2.499,2,    0.260,2,   1.7770,2,     0.62,2,   8.011,2,   -999.0,9,  0.0070,   0.012,   0.040,   0.320
    06AQANTX_4,  SR04,   626,  3,     22,     22,2,19920715,1505,-65.2833, -37.6667, 4726,     79.6,  -1.8250,  34.4236,2,  34.4252,2, -1.8266,    298.0,2,    73.65,2,    25.84,2,     0.06,2,     1.91,2,    5.195,2,    2.309,2,    0.245,2,   1.7870,2,     1.23,2,   8.081,2,   2211.2,2,  0.0070,   0.023,   0.040,   0.320
    06AQANTX_4,  SR04,   626,  3,     21,     21,2,19920715,1505,-65.2833, -37.6667, 4726,    119.5,  -0.3151,  34.5986,2,  34.5898,2, -0.3191,    219.7,2,    98.05,2,    33.94,2,     0.02,2,     2.30,2,    2.180,2,    0.980,2, -999.000,9,   1.8180,2,     5.48,2,   8.046,2,   2256.8,2,  0.0070,-999.000,   0.040,   0.320
    06AQANTX_4,  SR04,   626,  3,     20,     20,2,19920715,1505,-65.2833, -37.6667, 4726,    178.9,   0.4048,  34.6662,2,  34.6641,2,  0.3976,    191.3,2,   110.34,2,    35.07,2,     0.02,2,     2.38,2,    0.703,2,    0.325,2, -999.000,9,   1.8530,2,     7.68,2,   8.062,2,   2270.2,2,  0.0070,-999.000,   0.040,   0.320
    06AQANTX_4,  SR04,   626,  3,     19,     19,2,19920715,1505,-65.2833, -37.6667, 4726,    248.3,   0.4676,  34.6747,2,  34.6738,2,  0.4573,    189.7,2,   113.90,2,    35.00,2,     0.02,2,     2.39,2,    0.494,2,    0.224,2,    0.117,2,   1.8320,2,     8.97,2,   8.019,2,   2269.2,2,  0.0070,   0.008,   0.040,   0.320
    06AQANTX_4,  SR04,   626,  3,     18,     18,2,19920715,1505,-65.2833, -37.6667, 4726,    348.7,   0.4989,  34.6833,2,  34.6814,2,  0.4841,    193.7,2,   120.03,2,    34.91,2,     0.02,2,     2.41,2,    0.249,2,    0.118,2,    0.090,2,-999.0000,9,    -9.00,1,-999.000,9,   2269.9,2,-999.0000,   0.007,-999.000,-999.000
    06AQANTX_4,  SR04,   626,  3,     17,     17,2,19920715,1505,-65.2833, -37.6667, 4726,    499.0,   0.4041,  34.6825,2,  34.6823,2,  0.3826,    194.3,2,   124.74,2,    34.84,2,     0.02,2,     2.40,2,    0.137,2,    0.066,2,    0.021,2,   3.5900,4,   -15.80,4,-999.000,9,   2270.8,2,  0.0130,   0.006,-999.000,   0.320
    06AQANTX_4,  SR04,   626,  3,     16,     16,2,19920715,1505,-65.2833, -37.6667, 4726,    649.3,   0.3180,  34.6795,2,  34.6781,2,  0.2897,    196.7,2,   126.92,2,    34.60,2,     0.02,2,     2.41,2,    0.115,2,    0.058,2, -999.000,9,   0.0000,4,    -9.00,4,   0.000,4,   2268.1,2,  0.0000,-999.000,   0.000,-999.000
    06AQANTX_4,  SR04,   626,  3,     15,     15,2,19920715,1505,-65.2833, -37.6667, 4726,    789.5,   0.2539,  34.6780,2,  34.6776,2,  0.2189,    199.1,2,   128.61,2,    34.55,2,     0.02,2,     2.40,2,    0.331,4,    0.504,4,    0.018,2,   0.0000,4,    -9.00,4,   0.000,4,   -999.0,9,  0.0000,   0.027,   0.000,-999.000
    06AQANTX_4,  SR04,   626,  3,     14,     14,2,19920715,1505,-65.2833, -37.6667, 4726,    999.0,   0.1599,  34.6741,2,  34.6742,2,  0.1145,    206.7,2,   129.24,2,    34.13,2,     0.02,2,     2.39,2,    0.094,2,    0.052,2,    0.011,2,   0.0000,4,    -9.00,4,   0.000,4,   2264.1,2,  0.0000,   0.004,   0.000,-999.000
    06AQANTX_4,  SR04,   626,  3,     13,     13,2,19920715,1505,-65.2833, -37.6667, 4726,   1199.3,   0.0813,  34.6713,2,  34.6713,2,  0.0255,    211.7,2,   129.20,2,    33.95,2,     0.01,2,     2.38,2,    0.092,2,    0.046,2,    0.017,2,   1.8500,2,     7.63,2,   8.164,2,   2263.4,2,  0.0070,   0.002,   0.041,   0.320
    06AQANTX_4,  SR04,   626,  3,     12,     12,2,19920715,1505,-65.2833, -37.6667, 4726,   1499.3,  -0.0239,  34.6670,2,  34.6664,2, -0.0963,    220.0,2,   129.00,2,    33.65,2,     0.01,2,     2.35,2,    0.138,4,    0.057,2,    0.024,2,   2.1420,4,     6.22,2,   8.147,2,   2261.5,2,  0.0080,   0.004,   0.040,   0.310
    06AQANTX_4,  SR04,   626,  3,     11,     11,2,19920715,1505,-65.2833, -37.6667, 4726,   1798.8,  -0.1180,  34.6634,2,  34.6627,2, -0.2081,    226.1,2,   129.06,2,    33.50,2,     0.01,2,     2.34,2,    0.116,2,    0.059,2,    0.011,2,   1.8590,2,     7.02,2,   8.078,2,   2258.4,2,  0.0070,   0.013,   0.040,   0.310
    06AQANTX_4,  SR04,   626,  3,     10,     10,2,19920715,1505,-65.2833, -37.6667, 4726,   2199.1,  -0.2076,  34.6595,2,  34.6607,2, -0.3237,    231.9,2,   128.17,2,    33.37,2,     0.01,2,     2.32,2,    0.167,2,    0.089,2,    0.066,2,-999.0000,5,    -9.00,5,-999.000,5,   2254.3,2,-999.0000,   0.005,-999.000,-999.000
    06AQANTX_4,  SR04,   626,  3,      9,      9,2,19920715,1505,-65.2833, -37.6667, 4726,   2599.3,  -0.2642,  34.6574,2,  34.6549,2, -0.4090,    234.6,2,   127.57,2,    33.24,2,     0.00,2,     2.30,2,    0.146,2,    0.082,2, -999.000,9,   1.8510,2,     5.78,2,   8.195,2,   2248.2,2,  0.0070,-999.000,   0.040,   0.310
    06AQANTX_4,  SR04,   626,  3,      8,      8,2,19920715,1505,-65.2833, -37.6667, 4726,   2998.8,  -0.3118,  34.6560,2,  34.6552,2, -0.4877,    237.4,2,   126.87,2,    33.22,2,     0.00,2,     2.30,2,    0.138,2,    0.075,2,    0.027,2,   2.7080,3,     5.01,2,  10.073,3,   2249.5,2,  0.0100,   0.022,   0.049,   0.310
    06AQANTX_4,  SR04,   626,  3,      7,      7,2,19920715,1505,-65.2833, -37.6667, 4726,   3399.4,  -0.3509,  34.6541,2,  34.6538,2, -0.5603,    241.0,2,   126.66,2,    33.23,2,     0.00,2,     2.30,2,    0.154,2,    0.079,2,    0.068,2,-999.0000,5,    -9.00,5,-999.000,5,   -999.0,9,-999.0000,   0.005,-999.000,-999.000
    06AQANTX_4,  SR04,   626,  3,      6,      6,2,19920715,1505,-65.2833, -37.6667, 4726,   3799.8,  -0.3862,  34.6519,2,  34.6530,2, -0.6314,    244.0,2,   126.91,2,    33.35,2,     0.00,2,     2.29,2,    0.173,2,    0.086,2,    0.071,2,   1.8750,2,     5.04,2,   8.223,2,   2248.1,2,  0.0070,   0.009,   0.040,   0.310
    06AQANTX_4,  SR04,   626,  3,      5,      5,2,19920715,1505,-65.2833, -37.6667, 4726,   4199.5,  -0.4387,  34.6485,2,  34.6459,2, -0.7213,    248.0,2,   123.90,2,    33.25,2,     0.00,2,     2.28,2,    0.245,2,    0.115,2,    0.060,2,-999.0000,5,    -9.00,5,-999.000,5,   2247.3,2,-999.0000,   0.005,-999.000,-999.000
    06AQANTX_4,  SR04,   626,  3,      4,      4,2,19920715,1505,-65.2833, -37.6667, 4726,   4597.9,  -0.5193,  34.6445,2,  34.6449,2, -0.8402,    252.0,2,   121.30,2,    33.16,2,     0.01,2,     2.28,2,    0.380,2,    0.181,2,    0.098,2,   1.8650,2,     4.59,2,   8.289,2,   2244.9,2,  0.0070,   0.018,   0.041,   0.310
    06AQANTX_4,  SR04,   626,  3,      3,      3,2,19920715,1505,-65.2833, -37.6667, 4726,   4698.6,  -0.5328,  34.6423,2,  34.6430,2, -0.8639,    252.4,2,   121.93,2,    33.21,2,     0.01,2,     2.27,2,    0.445,2,    0.207,2,    0.121,2,   1.8720,2,     4.51,2,   8.335,2,   2246.5,2,  0.0070,   0.006,   0.041,   0.310
    06AQANTX_4,  SR04,   626,  3,      2,      2,2,19920715,1505,-65.2833, -37.6667, 4726,   4780.0,  -0.5579,  34.6385,2,  34.6371,2, -0.8968,    253.3,2,   122.39,2,    33.31,2,     0.01,2,     2.27,2,    0.769,2,    0.354,2,    0.100,2,   1.8720,2,     4.13,2,   8.301,2,   2247.6,2,  0.0070,   0.005,   0.041,   0.310
    06AQANTX_4,  SR04,   626,  3,      1,      1,2,19920715,1505,-65.2833, -37.6667, 4726,   4835.6,  -0.5526,  34.6376,2,  34.6259,4, -0.8977,   -999.0,9,   116.80,2,    33.24,2,     0.03,2,     2.27,2,    0.352,4,    0.159,4,    0.121,2,   1.8640,2,     6.08,2,   8.258,2,   2256.3,2,  0.0070,   0.017,   0.040,   0.310