BOTTLE,20061211WHPSIODBK
EXPOCODE,SECT_ID,STNNBR,CASTNO,SAMPNO,BTLNBR,BTLNBR_FLAG_W,DATE,TIME,LATITUDE,LONGITUDE,DEPTH,CTDPRS,CTDTMP,CTDSAL,CTDSAL_FLAG_W,SALNTY,SALNTY_FLAG_W,THETA,OXYGEN,OXYGEN_FLAG_W,SILCAT,SILCAT_FLAG_W,NITRAT,NITRAT_FLAG_W,NITRIT,NITRIT_FLAG_W,PHSPHT,PHSPHT_FLAG_W,CFC-11,CFC-11_FLAG_W,CFC-12,CFC-12_FLAG_W,TRITUM,TRITUM_FLAG_W,HELIUM,HELIUM_FLAG_W,DELHE3,DELHE3_FLAG_W,NEON,NEON_FLAG_W,TCARBN,TCARBN_FLAG_W,HELIER,TRITER,NEONER,DELHER
,,,,,,,,,,,,DBAR,ITS-90,PSS-78,,PSS-78,,DEG C,UMOL/KG,,UMOL/KG,,UMOL/KG,,UMOL/KG,,UMOL/KG,,PMOL/KG,,PMOL/KG,,TU,,NMOL/KG,,PERCNT,,NMOL/KG,,UMOL/KG,,NMOL/KG,TU,NMOL/KG,PERCNT
    06AQANTX_4,   A12,   574,  1,     24,     24,2,19920607,1928,-53.0000,   0.0000, 2464,     20.0,  -0.0021,  33.8876,2,  33.8878,2, -0.0028,    340.9,2,    39.77,2,    25.41,2,     0.32,2,     1.72,2,    6.357,2,    3.101,2, -999.000,9,-999.0000,5,    -9.00,5,-999.000,5,   2163.6,2,-999.0000,-999.000,-999.000,-999.000
    06AQANTX_4,   A12,   574,  1,     23,     23,2,19920607,1928,-53.0000,   0.0000, 2464,     29.0,  -0.0030,  33.8886,2,  33.8875,2, -0.0040,    340.6,2,    39.87,2,    25.49,2,     0.32,2,     1.73,2, -999.000,9, -999.000,9, -999.000,9,-999.0000,9,    -9.00,9,-999.000,9,   2163.5,2,-999.0000,-999.000,-999.000,-999.000
    06AQANTX_4,   A12,   574,  1,     22,     22,2,19920607,1928,-53.0000,   0.0000, 2464,     52.0,   0.0014,  33.8880,2,  33.8871,2, -0.0004,    340.4,2,    39.98,2,    25.09,2,     0.32,2,     1.74,2, -999.000,9, -999.000,9, -999.000,9,-999.0000,9,    -9.00,9,-999.000,9,   -999.0,9,-999.0000,-999.000,-999.000,-999.000
    06AQANTX_4,   A12,   574,  1,     21,     21,2,19920607,1928,-53.0000,   0.0000, 2464,     68.7,   0.0060,  33.8879,2,  33.8885,2,  0.0036,    341.1,2,    39.90,2,    25.13,2,     0.32,2,     1.74,2,    6.280,2,    2.891,2, -999.000,9,   1.8120,2,    -1.48,2,   8.224,2,   2162.5,2,  0.0070,-999.000,   0.041,   0.320
    06AQANTX_4,   A12,   574,  1,     20,     20,2,19920607,1928,-53.0000,   0.0000, 2464,     97.0,   0.0155,  33.8880,2,  33.8887,2,  0.0121,    339.4,2,    40.00,2,    25.07,2,     0.32,2,     1.73,2,    6.268,2,    2.830,2, -999.000,9,-999.0000,9,    -9.00,9,-999.000,9,   -999.0,9,-999.0000,-999.000,-999.000,-999.000
    06AQANTX_4,   A12,   574,  1,     19,     19,2,19920607,1928,-53.0000,   0.0000, 2464,    124.7,   0.0127,  33.8881,2,  33.8880,2,  0.0084,    341.8,2,    40.21,2,    25.06,2,     0.33,2,     1.75,2, -999.000,9, -999.000,9, -999.000,9,-999.0000,9,    -9.00,9,-999.000,9,   2163.4,2,-999.0000,-999.000,-999.000,-999.000
    06AQANTX_4,   A12,   574,  1,     18,     18,2,19920607,1928,-53.0000,   0.0000, 2464,    142.7,   0.1331,  33.9117,2,  33.9214,2,  0.1279,    331.8,2,    53.71,2,    25.68,2,     0.30,2,     1.79,2,    6.037,2,    2.748,2, -999.000,9,-999.0000,5,    -9.00,5,-999.000,5,   2167.8,2,-999.0000,-999.000,-999.000,-999.000
    06AQANTX_4,   A12,   574,  1,     17,     17,2,19920607,1928,-53.0000,   0.0000, 2464,    196.5,   0.8910,  34.3273,2,  34.3243,2,  0.8824,    238.2,2,    66.74,2,    33.27,2,     0.10,2,     2.27,2, -999.000,9, -999.000,9, -999.000,9,-999.0000,9,    -9.00,9,-999.000,9,   2227.7,2,-999.0000,-999.000,-999.000,-999.000
    06AQANTX_4,   A12,   574,  1,     16,     16,2,19920607,1928,-53.0000,   0.0000, 2464,    221.2,   1.1615,  34.4017,2,  34.4064,2,  1.1512,    216.1,2,    73.43,2,    34.13,2,     0.10,2,     2.32,2,    2.282,2,    0.952,2, -999.000,9,   1.8340,2,     5.68,2,   8.030,2,   2249.7,2,  0.0070,-999.000,   0.040,   0.320
    06AQANTX_4,   A12,   574,  1,     15,     15,2,19920607,1928,-53.0000,   0.0000, 2464,    249.1,   1.4500,  34.4777,2,  34.4773,2,  1.4378,    196.8,2,    78.89,2,    34.47,2,     0.11,2,     2.37,2, -999.000,9, -999.000,9, -999.000,9,-999.0000,9,    -9.00,9,-999.000,9,   2251.7,2,-999.0000,-999.000,-999.000,-999.000
    06AQANTX_4,   A12,   574,  1,     14,     14,2,19920607,1928,-53.0000,   0.0000, 2464,    297.2,   1.6831,  34.5502,2,  34.5493,2,  1.6678,    180.8,2,    84.14,2,    34.97,2,     0.10,2,     2.37,2,    0.946,2,    0.328,4, -999.000,9,-999.0000,5,    -9.00,5,-999.000,5,   2260.9,2,-999.0000,-999.000,-999.000,-999.000
    06AQANTX_4,   A12,   574,  1,     13,     13,2,19920607,1928,-53.0000,   0.0000, 2464,    397.6,   1.8125,  34.6302,2,  34.6305,2,  1.7912,    176.1,2,    89.11,2,    34.23,2,     0.10,2,     2.31,2,    0.462,2,    0.127,4, -999.000,9,   1.8530,2,     9.77,2,   8.023,2,   2262.0,2,  0.0070,-999.000,   0.040,   0.320
    06AQANTX_4,   A12,   574,  1,     12,     12,2,19920607,1928,-53.0000,   0.0000, 2464,    498.6,   1.8070,  34.6691,2,  34.6701,2,  1.7798,    183.6,2,    91.24,2,    33.24,2,     0.09,2,     2.26,2,    0.371,2,    0.127,4, -999.000,9,   1.8370,2,     9.45,2,   7.998,2,   2261.3,2,  0.0070,-999.000,   0.040,   0.320
    06AQANTX_4,   A12,   574,  1,     11,     11,2,19920607,1928,-53.0000,   0.0000, 2464,    603.0,   1.7627,  34.6991,2,  34.6986,2,  1.7295,    185.3,2,    92.60,2,    32.62,2,     0.08,2,     2.20,2,    0.263,2,    0.123,4, -999.000,9,   1.8490,2,    10.58,2,   8.007,2,   2256.8,2,  0.0070,-999.000,   0.040,   0.320
    06AQANTX_4,   A12,   574,  1,     10,     10,2,19920607,1928,-53.0000,   0.0000, 2464,    696.2,   1.6865,  34.7132,2,  34.7136,2,  1.6480,    190.1,2,    94.15,2,    31.77,2,     0.08,2,     2.17,2,    0.212,2,    0.022,4, -999.000,9,   1.7490,4,    10.26,2,   7.643,4,   2256.2,2,  0.0070,-999.000,   0.038,   0.320
    06AQANTX_4,   A12,   574,  1,      9,      9,2,19920607,1928,-53.0000,   0.0000, 2464,    847.0,   1.5629,  34.7236,2,  34.7241,2,  1.5158,    194.8,2,    96.96,2,    31.10,2,     0.08,2,     2.14,2,    0.181,2,    0.036,4, -999.000,9,   1.8570,2,     9.80,2,   8.058,2,   2253.9,2,  0.0070,-999.000,   0.040,   0.320
    06AQANTX_4,   A12,   574,  1,      8,      8,2,19920607,1928,-53.0000,   0.0000, 2464,    997.9,   1.3859,  34.7215,2,  34.7207,2,  1.3306,    198.6,2,   101.63,2,    31.10,2,     0.08,2,     2.15,2,    0.305,4,    0.158,4, -999.000,9,-999.0000,5,    -9.00,5,-999.000,5,   2257.3,2,-999.0000,-999.000,-999.000,-999.000
    06AQANTX_4,   A12,   574,  1,      7,      7,2,19920607,1928,-53.0000,   0.0000, 2464,   1203.3,   1.1270,  34.7137,2,  34.7150,2,  1.0607,    202.9,2,   108.04,2,    31.54,2,     0.06,2,     2.17,2,    0.195,2,    0.076,4, -999.000,9,-999.0000,5,    -9.00,5,-999.000,5,   2256.3,2,-999.0000,-999.000,-999.000,-999.000
    06AQANTX_4,   A12,   574,  1,      6,      6,2,19920607,1928,-53.0000,   0.0000, 2464,   1501.2,   0.7745,  34.6991,2,  34.6989,2,  0.6923,    208.7,2,   117.36,2,    31.98,2,     0.06,2,     2.20,2,    0.197,2,    0.032,4, -999.000,9,   2.3040,4,     9.11,2,-999.000,9,   2260.5,2,  0.0090,-999.000,-999.000,   0.320
    06AQANTX_4,   A12,   574,  1,      5,      5,2,19920607,1928,-53.0000,   0.0000, 2464,   1797.7,   0.5879,  34.6903,2,  34.6903,2,  0.4877,    210.5,2,   123.27,2,    32.32,2,     0.05,2,     2.22,2,    0.204,2,    0.082,4, -999.000,9,   1.8820,4,    10.21,4,   8.140,4,   2262.6,2,  0.0160,-999.000,   0.081,   0.320
    06AQANTX_4,   A12,   574,  1,      4,      4,2,19920607,1928,-53.0000,   0.0000, 2464,   2201.9,   0.4182,  34.6811,2,  34.6819,2,  0.2910,    214.4,2,   127.54,2,    32.73,2,     0.05,2,     2.23,2,    0.220,2,    0.013,4, -999.000,9,   1.8730,2,     9.44,2,   8.151,2,   2263.3,2,  0.0070,-999.000,   0.041,   0.320
    06AQANTX_4,   A12,   574,  1,      3,      3,2,19920607,1928,-53.0000,   0.0000, 2464,   2349.2,   0.3791,  34.6804,2,  34.6795,2,  0.2413,    214.7,2,   129.75,2,    32.85,2,     0.05,2,     2.24,2,    0.222,2,    0.019,4, -999.000,9,   1.8790,2,     9.46,2,   8.169,2,   2265.1,2,  0.0070,-999.000,   0.041,   0.320
    06AQANTX_4,   A12,   574,  1,      2,      2,2,19920607,1928,-53.0000,   0.0000, 2464,   2425.2,   0.3704,  34.6791,2,  34.6791,2,  0.2268,    215.7,2,   130.90,2,    32.73,2,     0.06,2,     2.26,2,    0.208,2,    0.042,4, -999.000,9,-999.0000,9,    -9.00,9,-999.000,9,   2263.3,2,-999.0000,-999.000,-999.000,-999.000
    06AQANTX_4,   A12,   574,  1,      1,      1,2,19920607,1928,-53.0000,   0.0000, 2464,   2496.5,   0.3586,  34.6782,2,  34.6785,2,  0.2096,    218.0,2,   131.46,2,    32.78,2,     0.06,2,     2.23,2,    0.214,2,    0.085,4, -999.000,9,   1.8800,2,     9.04,2,   8.142,2,   2266.2,2,  0.0070,-999.000,   0.041,   0.320
    06AQANTX_4,   A12,   575,  1,     24,     24,2,19920608,0616,-54.0000,   0.0167, 2522,     19.1,  -0.1995,  33.9153,2,  33.9126,2, -0.2001,    336.4,2,    42.88,2,    25.34,2,     0.29,2,     1.72,2, -999.000,9, -999.000,9, -999.000,9,   1.7820,2,    -1.14,2,   8.088,2,   -999.0,9,  0.0060,-999.000,   0.040,   0.310
    06AQANTX_4,   A12,   575,  1,     23,     23,2,19920608,0616,-54.0000,   0.0167, 2522,     31.0,  -0.1985,  33.9146,2,  33.9126,2, -0.1995,    336.0,2,    42.81,2,    25.30,2,     0.28,2,     1.72,2, -999.000,9, -999.000,9, -999.000,9,   1.8050,2,    -1.12,2,   8.103,2,   -999.0,9,  0.0070,-999.000,   0.040,   0.310
    06AQANTX_4,   A12,   575,  1,     22,     22,2,19920608,0616,-54.0000,   0.0167, 2522,     39.8,  -0.1972,  33.9139,2,  33.9124,2, -0.1985,    336.6,2,    42.85,2,    25.20,2,     0.28,2,     1.72,2, -999.000,9, -999.000,9,    0.127,2,   1.7980,2,    -1.56,2,   8.097,2,   -999.0,9,  0.0070,   0.006,   0.040,   0.310
    06AQANTX_4,   A12,   575,  1,     21,     21,2,19920608,0616,-54.0000,   0.0167, 2522,     49.1,  -0.1974,  33.9135,2,  33.9123,2, -0.1990,    336.0,2,    42.93,2,    25.09,2,     0.28,2,     1.72,2,    6.201,2,    2.957,2,    0.135,2,   2.0410,5,    -1.44,5,   8.075,2,   -999.0,9,  0.0070,   0.006,   0.040,   0.310
    06AQANTX_4,   A12,   575,  1,     20,     20,2,19920608,0616,-54.0000,   0.0167, 2522,     68.3,  -0.1965,  33.9130,2,  33.9123,2, -0.1987,    336.1,2,    42.94,2,    25.26,2,     0.28,2,     1.73,2, -999.000,9, -999.000,9,    0.096,2,   1.8000,2,    -1.00,2,   8.131,2,   -999.0,9,  0.0070,   0.005,   0.040,   0.310
    06AQANTX_4,   A12,   575,  1,     19,     19,2,19920608,0616,-54.0000,   0.0167, 2522,     81.0,  -0.1970,  33.9122,2,  33.9123,2, -0.1997,    336.3,2,    42.98,2,    25.04,2,     0.28,2,     1.71,2, -999.000,9, -999.000,9, -999.000,9,   1.7900,2,    -0.94,2,   8.094,2,   -999.0,9,  0.0060,-999.000,   0.040,   0.310
    06AQANTX_4,   A12,   575,  1,     18,     18,2,19920608,0616,-54.0000,   0.0167, 2522,    101.2,  -0.1924,  33.9114,2,  33.9124,2, -0.1957,    334.1,2,    42.94,2,    25.26,2,     0.28,2,     1.73,2,    6.238,2,    3.167,2,    0.111,2,   1.8040,2,    -0.88,2,   8.168,2,   -999.0,9,  0.0070,   0.010,   0.040,   0.310
    06AQANTX_4,   A12,   575,  1,     17,     17,2,19920608,0616,-54.0000,   0.0167, 2522,    119.3,  -0.1824,  33.9101,2,  33.9141,2, -0.1864,    335.5,2,    43.02,2,    25.33,2,     0.28,2,     1.74,2,    6.212,2,    3.016,2, -999.000,9,   1.8010,2,    -0.60,2,   8.120,2,   -999.0,9,  0.0070,-999.000,   0.040,   0.310
    06AQANTX_4,   A12,   575,  1,     16,     16,2,19920608,0616,-54.0000,   0.0167, 2522,    180.4,   0.4641,  34.3702,2,  34.3771,2,  0.4569,    237.5,2,    75.01,2,    33.40,2,     0.04,2,     2.27,2,    2.954,2,    1.449,2,    0.081,2,   1.8220,2,     4.69,2,   8.075,2,   -999.0,9,  0.0070,   0.030,   0.040,   0.310
    06AQANTX_4,   A12,   575,  1,     15,     15,2,19920608,0616,-54.0000,   0.0167, 2522,    199.7,   0.9312,  34.4614,2,  34.4615,2,  0.9223,    209.1,2,    79.86,2,    34.21,2,     0.04,2,     2.32,2,    2.107,2,    0.991,2,    0.063,2,-999.0000,5,    -9.00,5,-999.000,5,   -999.0,9,-999.0000,   0.082,-999.000,-999.000
    06AQANTX_4,   A12,   575,  1,     14,     14,2,19920608,0616,-54.0000,   0.0167, 2522,    251.1,   1.3958,  34.5457,2,  34.5471,2,  1.3835,    186.8,2,    84.75,2,    34.89,2,     0.04,2,     2.36,2,    1.370,2,    1.749,4,    0.032,2,   1.8270,2,     8.46,2,   8.048,2,   -999.0,9,  0.0070,   0.032,   0.039,   0.310
    06AQANTX_4,   A12,   575,  1,     13,     13,2,19920608,0616,-54.0000,   0.0167, 2522,    299.9,   1.5887,  34.6055,2,  34.6057,2,  1.5734,    179.3,2,    88.38,2,    34.56,2,     0.04,2,     2.34,2,    0.765,2,    0.497,4,    0.038,2,   2.2140,3,     9.34,2,   9.060,3,   -999.0,9,  0.0080,   0.003,   0.044,   0.310
    06AQANTX_4,   A12,   575,  1,     12,     12,2,19920608,0616,-54.0000,   0.0167, 2522,    349.2,   1.6200,  34.6351,2,  34.6355,2,  1.6019,    183.0,2,    90.18,2,    34.16,2,     0.04,2,     2.31,2,    0.595,2,    0.425,4,    0.019,2,   1.8210,2,     9.91,2,   8.058,2,   -999.0,9,  0.0070,   0.003,   0.039,   0.310
    06AQANTX_4,   A12,   575,  1,     11,     11,2,19920608,0616,-54.0000,   0.0167, 2522,    500.5,   1.5813,  34.6912,2,  34.6915,2,  1.5549,    183.6,2,    94.01,2,    32.92,2,     0.04,2,     2.22,2,    0.363,2,    0.302,4,    0.017,2,   1.8380,2,    10.40,2,   8.046,2,   -999.0,9,  0.0070,   0.003,   0.039,   0.310
    06AQANTX_4,   A12,   575,  1,     10,     10,2,19920608,0616,-54.0000,   0.0167, 2522,    650.1,   1.4724,  34.7062,2,  34.7064,2,  1.4378,    190.5,2,    96.72,2,    32.42,2,     0.04,2,     2.21,2,    0.293,2,    0.264,4, -999.000,9,   1.8420,2,    10.55,2,   8.086,2,   -999.0,9,  0.0070,-999.000,   0.040,   0.310
    06AQANTX_4,   A12,   575,  1,      9,      9,2,19920608,0616,-54.0000,   0.0167, 2522,    800.1,   1.3438,  34.7137,2,  34.7139,2,  1.3011,    193.4,2,   100.82,2,    32.27,2,     0.03,2,     2.17,2,    1.714,4,    0.267,4,    0.020,2,-999.0000,5,    -9.00,5,-999.000,5,   -999.0,9,-999.0000,   0.003,-999.000,-999.000
    06AQANTX_4,   A12,   575,  1,      8,      8,2,19920608,0616,-54.0000,   0.0167, 2522,    999.9,   1.1048,  34.7090,2,  34.7090,2,  1.0516,    197.8,2,   106.74,2,    32.05,2,     0.03,2,     2.19,2,    0.287,2,    0.327,4,    0.016,2,   1.8400,2,     9.77,2,   8.083,2,   -999.0,9,  0.0070,   0.002,   0.040,   0.310
    06AQANTX_4,   A12,   575,  1,      7,      7,2,19920608,0616,-54.0000,   0.0167, 2522,   1201.3,   0.8459,  34.7005,2,  34.7004,2,  0.7825,    206.1,2,   113.07,2,    32.58,2,     0.03,2,     2.20,2,    0.239,2,    0.271,4,    0.024,2,   1.8420,2,    10.14,2,   8.085,2,   -999.0,9,  0.0070,   0.003,   0.040,   0.310
    06AQANTX_4,   A12,   575,  1,      6,      6,2,19920608,0616,-54.0000,   0.0167, 2522,   1502.5,   0.5975,  34.6917,2,  34.6921,2,  0.5174,    207.8,2,   119.92,2,    32.70,2,     0.04,2,     2.22,2,    0.208,2,    0.206,4,    0.018,2,   0.0020,4,    52.42,4,   0.001,4,   -999.0,9,  0.0000,   0.002,   0.000,   0.310
    06AQANTX_4,   A12,   575,  1,      5,      5,2,19920608,0616,-54.0000,   0.0167, 2522,   1800.1,   0.4043,  34.6823,2,  34.6823,2,  0.3066,    210.6,2,   124.32,2,    32.83,2,     0.04,2,     2.23,2,    0.208,2,    0.270,4,    0.032,2,   1.8570,2,     9.97,2,   8.185,2,   -999.0,9,  0.0070,   0.003,   0.040,   0.310
    06AQANTX_4,   A12,   575,  1,      4,      4,2,19920608,0616,-54.0000,   0.0167, 2522,   2199.1,   0.2965,  34.6774,2,  34.6774,2,  0.1716,    213.2,2,   127.27,2,    33.29,2,     0.03,2,     2.26,2,    0.210,2,    0.232,4, -999.000,9,   1.8560,2,     9.25,2,   8.180,2,   -999.0,9,  0.0070,-999.000,   0.040,   0.310
    06AQANTX_4,   A12,   575,  1,      3,      3,2,19920608,0616,-54.0000,   0.0167, 2522,   2402.2,   0.2634,  34.6756,2,  34.6754,2,  0.1236,    213.8,2,   130.93,2,    33.30,2,     0.03,2,     2.27,2,    0.210,2,    0.225,4,    0.029,2,   1.8410,2,     8.59,2,   8.120,2,   -999.0,9,  0.0070,   0.003,   0.040,   0.310
    06AQANTX_4,   A12,   575,  1,      2,      2,2,19920608,0616,-54.0000,   0.0167, 2522,   2491.9,   0.2595,  34.6751,2,  34.6752,2,  0.1127,    213.9,2,   131.35,2,    33.43,2,     0.03,2,     2.27,2,    0.208,2,    0.171,4,    0.024,2,-999.0000,5,    -9.00,5,-999.000,5,   -999.0,9,-999.0000,   0.003,-999.000,-999.000
    06AQANTX_4,   A12,   575,  1,      1,      1,2,19920608,0616,-54.0000,   0.0167, 2522,   2558.9,   0.2596,  34.6749,2,  34.6757,2,  0.1075,    214.1,2,   132.14,2,    33.31,2,     0.04,2,     2.26,2,    0.220,2,    0.233,4,    0.023,2,   1.8460,4,     8.40,2,   8.126,4,   -999.0,9,  0.0070,   0.003,   0.040,   0.310