BOTTLE,20061211WHPSIODBK
EXPOCODE,SECT_ID,STNNBR,CASTNO,SAMPNO,BTLNBR,BTLNBR_FLAG_W,DATE,TIME,LATITUDE,LONGITUDE,DEPTH,CTDPRS,CTDTMP,CTDSAL,CTDSAL_FLAG_W,SALNTY,SALNTY_FLAG_W,THETA,OXYGEN,OXYGEN_FLAG_W,SILCAT,SILCAT_FLAG_W,NITRAT,NITRAT_FLAG_W,NITRIT,NITRIT_FLAG_W,PHSPHT,PHSPHT_FLAG_W,CFC-11,CFC-11_FLAG_W,CFC-12,CFC-12_FLAG_W,TRITUM,TRITUM_FLAG_W,HELIUM,HELIUM_FLAG_W,DELHE3,DELHE3_FLAG_W,NEON,NEON_FLAG_W,TCARBN,TCARBN_FLAG_W,HELIER,TRITER,NEONER,DELHER
,,,,,,,,,,,,DBAR,ITS-90,PSS-78,,PSS-78,,DEG C,UMOL/KG,,UMOL/KG,,UMOL/KG,,UMOL/KG,,UMOL/KG,,PMOL/KG,,PMOL/KG,,TU,,NMOL/KG,,PERCNT,,NMOL/KG,,UMOL/KG,,NMOL/KG,TU,NMOL/KG,PERCNT
    06AQANTX_4,   A12,   540,  1,     24,     24,2,19920523,0326,-34.1167,  16.9333, 3391,     20.0,  18.0025,  35.4731,2,  35.4729,2, 17.9991,    244.0,2,     2.76,2,     1.28,2,     0.11,2,     0.20,2,    2.443,2,    1.311,2,    1.079,2,-999.0000,5,    -9.00,5,-999.000,5,   -999.0,9,-999.0000,   0.024,-999.000,-999.000
    06AQANTX_4,   A12,   540,  1,     23,     23,2,19920523,0326,-34.1167,  16.9333, 3391,     69.7,  16.7496,  35.3982,2,  35.1941,4, 16.7382,    238.5,2,     3.28,2,     3.02,2,     0.24,2,     0.35,2,    2.470,2,    1.295,2,    0.981,2,-999.0000,5,    -9.00,5,-999.000,5,   -999.0,9,-999.0000,   0.023,-999.000,-999.000
    06AQANTX_4,   A12,   540,  1,     21,     21,2,19920523,0326,-34.1167,  16.9333, 3391,    181.3,  13.0361,  35.0720,2,  35.0746,2, 13.0111,    221.8,2,     5.14,2,     9.98,2,     0.05,2,     0.76,2,    2.521,4,    1.641,4,    0.704,2,   1.7380,2,     0.60,2,   7.253,2,   -999.0,9,  0.0060,   0.017,   0.036,   0.320
    06AQANTX_4,   A12,   540,  1,     22,     22,2,19920523,0326,-34.1167,  16.9333, 3391,    181.6,  13.0397,  35.0822,2,  35.0727,2, 13.0147,    221.0,2,     4.98,2,     9.86,2,     0.05,2,     0.77,2,    2.417,2,    1.186,2, -999.000,9,-999.0000,9,    -9.00,9,-999.000,9,   -999.0,9,-999.0000,-999.000,-999.000,-999.000
    06AQANTX_4,   A12,   540,  1,     20,     20,2,19920523,0326,-34.1167,  16.9333, 3391,    220.5,  11.9525,  34.9871,2,  34.9961,2, 11.9238,    222.1,2,     5.83,2,    12.03,2,     0.03,2,     0.91,2,    2.056,2,    0.984,2,    0.565,2,   1.7570,2,     0.80,2,   7.461,2,   -999.0,9,  0.0070,   0.015,   0.037,   0.320
    06AQANTX_4,   A12,   540,  1,     19,     19,2,19920523,0326,-34.1167,  16.9333, 3391,    298.1,  10.6098,  34.8817,2,  34.8741,2, 10.5738,    198.3,2,    11.20,2,    17.32,2,     0.03,2,     1.31,2,    1.709,2,    0.840,2,    0.557,2,-999.0000,5,    -9.00,5,-999.000,5,   -999.0,9,-999.0000,   0.029,-999.000,-999.000
    06AQANTX_4,   A12,   540,  1,     17,     17,2,19920523,0326,-34.1167,  16.9333, 3391,    401.7,   8.3797,  34.6348,2,  34.6329,2,  8.3376,    174.4,2,    19.42,2,    24.69,2,     0.03,2,     1.77,2,    1.498,2,    0.754,2,    0.349,2,-999.0000,5,    -9.00,5,-999.000,5,   -999.0,9,-999.0000,   0.011,-999.000,-999.000
    06AQANTX_4,   A12,   540,  1,     18,     18,2,19920523,0326,-34.1167,  16.9333, 3391,    402.8,   8.3640,  34.6352,2,  34.6332,2,  8.3218,    172.1,2,  -999.00,9,  -999.00,9,  -999.00,9,  -999.00,9,    1.521,2,    0.753,2, -999.000,9,-999.0000,9,    -9.00,9,-999.000,9,   -999.0,9,-999.0000,-999.000,-999.000,-999.000
    06AQANTX_4,   A12,   540,  1,     16,     16,2,19920523,0326,-34.1167,  16.9333, 3391,    499.7,   6.7293,  34.4931,2,  34.4917,2,  6.6829,    208.0,2,    20.78,2,    26.38,2,     0.03,2,     1.79,2,    1.362,2,    0.679,2,    0.204,2,-999.0000,5,    -9.00,5,-999.000,5,   -999.0,9,-999.0000,   0.007,-999.000,-999.000
    06AQANTX_4,   A12,   540,  1,     15,     15,2,19920523,0326,-34.1167,  16.9333, 3391,    601.2,   5.2316,  34.3813,2,  34.3818,2,  5.1823,    219.9,2,    26.35,2,    28.99,2,     0.03,2,     1.98,2,    1.383,2,    0.677,2,    0.143,2,-999.0000,5,    -9.00,5,-999.000,5,   -999.0,9,-999.0000,   0.006,-999.000,-999.000
    06AQANTX_4,   A12,   540,  1,     14,     14,2,19920523,0326,-34.1167,  16.9333, 3391,    750.8,   4.8657,  34.4866,2,  34.4844,2,  4.8053,    184.9,2,    44.42,2,    31.86,2,     0.03,2,     2.18,2,    0.679,4,    0.773,4, -999.000,9,   1.8290,2,     4.86,2,   7.822,2,   -999.0,9,  0.0070,-999.000,   0.039,   0.320
    06AQANTX_4,   A12,   540,  1,     12,     12,2,19920523,0326,-34.1167,  16.9333, 3391,    801.7,   4.1992,  34.4326,2,  34.4337,2,  4.1386,    195.0,2,    45.03,2,    32.38,2,     0.03,2,     2.20,2,    0.746,2,    0.368,2, -999.000,9,-999.0000,5,    -9.00,5,-999.000,5,   -999.0,9,-999.0000,-999.000,-999.000,-999.000
    06AQANTX_4,   A12,   540,  1,     13,     13,2,19920523,0326,-34.1167,  16.9333, 3391,    801.8,   4.2016,  34.4334,2,  34.4337,2,  4.1410,    194.6,2,    44.94,2,    32.39,2,     0.02,2,     2.20,2,    0.706,2,    0.357,2,    0.037,2,-999.0000,9,    -9.00,9,-999.000,9,   -999.0,9,-999.0000,   0.005,-999.000,-999.000
    06AQANTX_4,   A12,   540,  1,     11,     11,2,19920523,0326,-34.1167,  16.9333, 3391,    845.3,   3.7256,  34.4130,2,  34.4160,2,  3.6646,    197.2,2,    46.74,2,    32.92,2,     0.02,2,     2.20,2,    0.648,2,    0.332,2,    0.081,2,-999.0000,5,    -9.00,5,-999.000,5,   -999.0,9,-999.0000,   0.004,-999.000,-999.000
    06AQANTX_4,   A12,   540,  1,     10,     10,2,19920523,0326,-34.1167,  16.9333, 3391,   1000.3,   3.3268,  34.4901,2,  34.4903,2,  3.2563,    183.4,2,    57.38,2,    33.49,2,     0.03,2,     2.24,2,    0.337,2,    0.151,2,    0.064,2,   1.8340,4,     6.43,4,   7.888,4,   -999.0,9,  0.0160,   0.004,   0.079,   0.320
    06AQANTX_4,   A12,   540,  1,      9,      9,2,19920523,0326,-34.1167,  16.9333, 3391,   1199.5,   2.9365,  34.5861,2,  34.5847,2,  2.8536,    184.4,2,    62.53,2,    33.21,2,     0.02,2,     2.24,2,    0.122,2,    0.061,2,    0.027,2,   1.8190,2,     7.09,2,   7.867,2,   -999.0,9,  0.0070,   0.003,   0.039,   0.320
    06AQANTX_4,   A12,   540,  1,      8,      8,2,19920523,0326,-34.1167,  16.9333, 3391,   1502.1,   2.7695,  34.7210,2,  34.7218,2,  2.6638,    193.7,2,    60.73,2,    30.10,2,     0.03,2,     2.01,2,    0.058,2,    0.022,3,    0.005,2,-999.0000,5,    -9.00,5,-999.000,5,   -999.0,9,-999.0000,   0.002,-999.000,-999.000
    06AQANTX_4,   A12,   540,  1,      7,      7,2,19920523,0326,-34.1167,  16.9333, 3391,   1801.6,   2.8071,  34.8136,2,  34.8150,2,  2.6753,    220.1,2,    49.94,2,    26.69,2,     0.02,2,     1.77,2,    0.334,4,    2.631,4,    0.005,2,-999.0000,5,    -9.00,5,-999.000,5,   -999.0,9,-999.0000,   0.004,-999.000,-999.000
    06AQANTX_4,   A12,   540,  1,      6,      6,2,19920523,0326,-34.1167,  16.9333, 3391,   2198.8,   2.5945,  34.8388,2,  34.8381,2,  2.4305,    229.8,2,    52.10,2,    25.72,2,     0.02,2,     1.72,2,    0.039,2,    0.024,3,    0.042,2,   1.7940,4,     5.65,2,   7.928,2,   -999.0,9,  0.0070,   0.003,   0.040,   0.320
    06AQANTX_4,   A12,   540,  1,      5,      5,2,19920523,0326,-34.1167,  16.9333, 3391,   2499.5,   2.4209,  34.8403,2,  34.8401,2,  2.2320,    233.3,2,    55.88,2,    25.61,2,     0.02,2,     1.74,2,    0.034,2,    0.016,2,    0.032,2,   1.8320,4,     5.76,4,   7.950,4,   -999.0,9,  0.0160,   0.003,   0.079,   0.320
    06AQANTX_4,   A12,   540,  1,      4,      4,2,19920523,0326,-34.1167,  16.9333, 3391,   2790.3,   2.3232,  34.8453,2,  34.8449,2,  2.1083,    236.6,2,    57.51,2,    25.35,2,     0.02,2,     1.71,2,    0.027,2,    0.005,3, -999.000,9,   1.8260,4,     5.37,4,   7.972,4,   -999.0,9,  0.0160,-999.000,   0.080,   0.320
    06AQANTX_4,   A12,   540,  1,      3,      3,2,19920523,0326,-34.1167,  16.9333, 3391,   3098.9,   2.1965,  34.8415,2,  34.8412,2,  1.9536,    239.5,2,    61.49,2,    25.50,2,     0.02,2,     1.70,2,    0.030,2,    0.010,3,   -0.001,2,   1.8320,2,     5.60,2,   7.999,2,   -999.0,9,  0.0070,   0.006,   0.040,   0.320
    06AQANTX_4,   A12,   540,  1,      2,      2,2,19920523,0326,-34.1167,  16.9333, 3391,   3437.8,   2.0394,  34.8282,2,  34.8207,4,  1.7654,   -999.0,9,    67.94,2,    26.28,2,     0.02,2,     1.76,2,    0.062,2,    0.026,3, -999.000,9,   0.8550,4,     2.87,4,-999.000,9,   -999.0,9,  0.0030,-999.000,-999.000,   0.320
    06AQANTX_4,   A12,   540,  1,      1,      1,2,19920523,0326,-34.1167,  16.9333, 3391,   3439.3,   2.0381,  34.8277,2,  34.8285,2,  1.7640,    239.4,2,    68.38,2,    26.32,2,     0.03,2,     1.80,2,    0.099,4,    0.034,2, -999.000,9,   1.8260,2,     5.38,2,   7.979,2,   -999.0,9,  0.0070,-999.000,   0.040,   0.320
    06AQANTX_4,   A12,   541,  1,     23,     23,2,19920523,1211,-34.6000,  16.3667, 4294,     30.1,  17.1581,  35.4285,2,  35.4310,2, 17.1531,   -999.0,9,     3.03,2,     1.81,2,     0.20,2,     0.27,2,    2.479,2,    1.343,2, -999.000,9,-999.0000,9,    -9.00,9,-999.000,9,   -999.0,9,-999.0000,-999.000,-999.000,-999.000
    06AQANTX_4,   A12,   541,  1,     24,     24,2,19920523,1211,-34.6000,  16.3667, 4294,     30.3,  17.1557,  35.4294,2,  35.4312,2, 17.1507,    244.6,2,     3.08,2,     1.82,2,     0.20,2,     0.25,2, -999.000,9, -999.000,9, -999.000,9,-999.0000,9,    -9.00,9,-999.000,9,   -999.0,9,-999.0000,-999.000,-999.000,-999.000
    06AQANTX_4,   A12,   541,  1,     22,     22,2,19920523,1211,-34.6000,  16.3667, 4294,     58.4,  15.8446,  35.3013,2,  35.1154,4, 15.8354,   -999.0,9,     5.27,2,     6.55,2,     0.18,2,     0.53,2, -999.000,9, -999.000,9, -999.000,9,-999.0000,9,    -9.00,9,-999.000,9,   -999.0,9,-999.0000,-999.000,-999.000,-999.000
    06AQANTX_4,   A12,   541,  1,     21,     21,2,19920523,1211,-34.6000,  16.3667, 4294,     59.4,  15.3702,  35.2928,2,  35.0769,4, 15.3611,    200.8,2,     1.75,2,     8.49,2,     0.09,2,     0.65,2, -999.000,9, -999.000,9, -999.000,9,-999.0000,9,    -9.00,9,-999.000,9,   -999.0,9,-999.0000,-999.000,-999.000,-999.000
    06AQANTX_4,   A12,   541,  1,     20,     20,2,19920523,1211,-34.6000,  16.3667, 4294,     98.7,  13.0158,  35.1556,2,  35.1547,2, 13.0022,   -999.0,9,     1.53,2,    13.21,2,     0.04,2,     0.93,2,    1.822,2,    0.912,2, -999.000,9,-999.0000,9,    -9.00,9,-999.000,9,   -999.0,9,-999.0000,-999.000,-999.000,-999.000
    06AQANTX_4,   A12,   541,  1,     19,     19,2,19920523,1211,-34.6000,  16.3667, 4294,    148.9,  11.6973,  35.0169,2,  35.0170,2, 11.6782,    189.0,2,     3.49,2,    15.45,2,     0.03,2,     1.08,2, -999.000,9, -999.000,9, -999.000,9,-999.0000,9,    -9.00,9,-999.000,9,   -999.0,9,-999.0000,-999.000,-999.000,-999.000
    06AQANTX_4,   A12,   541,  1,     18,     18,2,19920523,1211,-34.6000,  16.3667, 4294,    200.3,  10.6438,  34.9039,2,  34.9000,2, 10.6197,   -999.0,9,     6.79,2,    18.12,2,     0.03,2,     1.28,2,    1.505,2,    0.770,2, -999.000,9,-999.0000,9,    -9.00,9,-999.000,9,   -999.0,9,-999.0000,-999.000,-999.000,-999.000
    06AQANTX_4,   A12,   541,  1,     17,     17,2,19920523,1211,-34.6000,  16.3667, 4294,    249.4,  10.0244,  34.8347,2,  34.8275,2,  9.9954,   -999.0,9,  -999.00,9,  -999.00,9,  -999.00,9,  -999.00,9, -999.000,9, -999.000,9, -999.000,9,-999.0000,9,    -9.00,9,-999.000,9,   -999.0,9,-999.0000,-999.000,-999.000,-999.000
    06AQANTX_4,   A12,   541,  1,     16,     16,2,19920523,1211,-34.6000,  16.3667, 4294,    300.3,   8.7982,  34.6913,2,  34.6891,2,  8.7660,   -999.0,9,     9.12,2,    21.86,2,     0.03,2,     1.50,2,    1.456,2,    0.733,2, -999.000,9,-999.0000,9,    -9.00,9,-999.000,9,   -999.0,9,-999.0000,-999.000,-999.000,-999.000
    06AQANTX_4,   A12,   541,  1,     15,     15,2,19920523,1211,-34.6000,  16.3667, 4294,    399.6,   5.9084,  34.4538,2,  34.4505,2,  5.8741,   -999.0,9,    20.43,2,    28.26,2,     0.03,2,     1.87,2, -999.000,9, -999.000,9, -999.000,9,-999.0000,9,    -9.00,9,-999.000,9,   -999.0,9,-999.0000,-999.000,-999.000,-999.000
    06AQANTX_4,   A12,   541,  1,     14,     14,2,19920523,1211,-34.6000,  16.3667, 4294,    499.8,   4.6808,  34.4102,2,  34.4105,2,  4.6423,    200.1,2,    30.19,2,    30.83,2,     0.02,2,     2.04,2,    1.009,2,    0.498,2, -999.000,9,-999.0000,9,    -9.00,9,-999.000,9,   -999.0,9,-999.0000,-999.000,-999.000,-999.000
    06AQANTX_4,   A12,   541,  1,     13,     13,2,19920523,1211,-34.6000,  16.3667, 4294,    600.7,   4.1873,  34.4217,2,  34.4274,2,  4.1429,    193.5,2,    36.82,2,    32.14,2,     0.01,2,     2.12,2,    0.761,2,    0.382,2, -999.000,9,-999.0000,9,    -9.00,9,-999.000,9,   -999.0,9,-999.0000,-999.000,-999.000,-999.000
    06AQANTX_4,   A12,   541,  1,     12,     12,2,19920523,1211,-34.6000,  16.3667, 4294,    699.9,   3.7030,  34.4317,2,  34.4310,2,  3.6534,   -999.0,9,    42.89,2,    33.17,2,     0.01,2,     2.18,2,    0.657,2,    0.336,2, -999.000,9,-999.0000,9,    -9.00,9,-999.000,9,   -999.0,9,-999.0000,-999.000,-999.000,-999.000
    06AQANTX_4,   A12,   541,  1,     11,     11,2,19920523,1211,-34.6000,  16.3667, 4294,    801.7,   3.5291,  34.4547,2,  34.4554,2,  3.4727,   -999.0,9,    47.05,2,    33.62,2,     0.01,2,     2.20,2, -999.000,9, -999.000,9, -999.000,9,-999.0000,9,    -9.00,9,-999.000,9,   -999.0,9,-999.0000,-999.000,-999.000,-999.000
    06AQANTX_4,   A12,   541,  1,     10,     10,2,19920523,1211,-34.6000,  16.3667, 4294,    999.9,   3.1233,  34.5415,2,  34.5459,4,  3.0544,   -999.0,9,    56.57,2,    33.96,2,     0.01,2,     2.21,2,    0.572,2,    4.818,4, -999.000,9,-999.0000,9,    -9.00,9,-999.000,9,   -999.0,9,-999.0000,-999.000,-999.000,-999.000
    06AQANTX_4,   A12,   541,  1,      9,      9,2,19920523,1211,-34.6000,  16.3667, 4294,   1402.1,   2.7915,  34.6939,2,  34.6963,2,  2.6938,    196.8,2,    55.13,2,    31.06,2,     0.01,2,     1.99,2,    0.044,2,    0.035,3, -999.000,9,-999.0000,9,    -9.00,9,-999.000,9,   -999.0,9,-999.0000,-999.000,-999.000,-999.000
    06AQANTX_4,   A12,   541,  1,      8,      8,2,19920523,1211,-34.6000,  16.3667, 4294,   1800.3,   2.6955,  34.7969,2,  34.7983,2,  2.5656,    216.9,2,    49.06,2,    27.61,2,  -999.00,9,     1.76,2, -999.000,9, -999.000,9, -999.000,9,-999.0000,9,    -9.00,9,-999.000,9,   -999.0,9,-999.0000,-999.000,-999.000,-999.000
    06AQANTX_4,   A12,   541,  1,      7,      7,2,19920523,1211,-34.6000,  16.3667, 4294,   2000.0,   2.6214,  34.8214,2,  34.8219,2,  2.4750,    224.7,2,    46.79,2,    26.62,2,     0.01,2,     1.66,2,    0.034,2,    0.012,2, -999.000,9,-999.0000,9,    -9.00,9,-999.000,9,   -999.0,9,-999.0000,-999.000,-999.000,-999.000
    06AQANTX_4,   A12,   541,  1,      6,      6,2,19920523,1211,-34.6000,  16.3667, 4294,   2500.2,   2.5061,  34.8493,2,  34.8508,2,  2.3158,    237.5,2,    45.30,2,    25.19,2,     0.00,2,     1.56,2, -999.000,9, -999.000,9, -999.000,9,-999.0000,9,    -9.00,9,-999.000,9,   -999.0,9,-999.0000,-999.000,-999.000,-999.000
    06AQANTX_4,   A12,   541,  1,      5,      5,2,19920523,1211,-34.6000,  16.3667, 4294,   2998.7,   2.3050,  34.8460,2,  34.8471,2,  2.0701,    237.0,2,    50.78,2,    25.39,2,     0.00,2,     1.59,2,    0.018,2,    0.012,2, -999.000,9,-999.0000,9,    -9.00,9,-999.000,9,   -999.0,9,-999.0000,-999.000,-999.000,-999.000
    06AQANTX_4,   A12,   541,  1,      4,      4,2,19920523,1211,-34.6000,  16.3667, 4294,   3499.7,   2.0214,  34.8171,2,  34.8184,2,  1.7417,    233.9,2,    64.03,2,    27.00,2,     0.01,2,     1.67,2,    0.027,2,    0.005,3, -999.000,9,-999.0000,9,    -9.00,9,-999.000,9,   -999.0,9,-999.0000,-999.000,-999.000,-999.000
    06AQANTX_4,   A12,   541,  1,      3,      3,2,19920523,1211,-34.6000,  16.3667, 4294,   4000.3,   1.3693,  34.7577,2,  34.7573,2,  1.0538,    227.0,2,    89.56,2,    30.06,2,     0.01,2,     1.88,2,    0.016,2,    0.006,3, -999.000,9,-999.0000,9,    -9.00,9,-999.000,9,   -999.0,9,-999.0000,-999.000,-999.000,-999.000
    06AQANTX_4,   A12,   541,  1,      2,      2,2,19920523,1211,-34.6000,  16.3667, 4294,   4344.0,   0.9976,  34.7240,2,  34.7243,2,  0.6557,   -999.0,9,   108.39,2,    31.53,2,     0.01,2,     1.96,2, -999.000,9, -999.000,9, -999.000,9,-999.0000,9,    -9.00,9,-999.000,9,   -999.0,9,-999.0000,-999.000,-999.000,-999.000
    06AQANTX_4,   A12,   541,  1,      1,      1,2,19920523,1211,-34.6000,  16.3667, 4294,   4344.9,   0.9976,  34.7240,2,  34.7260,2,  0.6556,    229.7,2,   109.32,2,    31.46,2,     0.01,2,     1.96,2,    0.043,2,    0.030,2, -999.000,9,-999.0000,9,    -9.00,9,-999.000,9,   -999.0,9,-999.0000,-999.000,-999.000,-999.000