BOTTLE,20061211WHPSIODBK
EXPOCODE,SECT_ID,STNNBR,CASTNO,SAMPNO,BTLNBR,BTLNBR_FLAG_W,DATE,TIME,LATITUDE,LONGITUDE,DEPTH,CTDPRS,CTDTMP,CTDSAL,CTDSAL_FLAG_W,SALNTY,SALNTY_FLAG_W,THETA,OXYGEN,OXYGEN_FLAG_W,SILCAT,SILCAT_FLAG_W,NITRAT,NITRAT_FLAG_W,NITRIT,NITRIT_FLAG_W,PHSPHT,PHSPHT_FLAG_W,CFC-11,CFC-11_FLAG_W,CFC-12,CFC-12_FLAG_W,TRITUM,TRITUM_FLAG_W,HELIUM,HELIUM_FLAG_W,DELHE3,DELHE3_FLAG_W,NEON,NEON_FLAG_W,TCARBN,TCARBN_FLAG_W,HELIER,TRITER,NEONER,DELHER
,,,,,,,,,,,,DBAR,ITS-90,PSS-78,,PSS-78,,DEG C,UMOL/KG,,UMOL/KG,,UMOL/KG,,UMOL/KG,,UMOL/KG,,PMOL/KG,,PMOL/KG,,TU,,NMOL/KG,,PERCNT,,NMOL/KG,,UMOL/KG,,NMOL/KG,TU,NMOL/KG,PERCNT
    06AQANTX_4,   A12,   569,  1,     24,     24,2,19920603,1544,-47.4000,   0.2833, 3719,     17.8,   4.9553,  34.0251,2,  34.0256,2,  4.9540,    312.8,2,     4.54,2,    20.58,2,     0.32,2,     1.43,2, -999.000,9, -999.000,9, -999.000,9,-999.0000,9,    -9.00,9,-999.000,9,   2111.6,2,-999.0000,-999.000,-999.000,-999.000
    06AQANTX_4,   A12,   569,  1,     23,     23,2,19920603,1544,-47.4000,   0.2833, 3719,     50.3,   4.9496,  34.0247,2,  34.0244,2,  4.9458,    312.6,2,     4.70,2,    20.70,2,     0.32,2,     1.43,2, -999.000,9, -999.000,9, -999.000,9,-999.0000,9,    -9.00,9,-999.000,9,   2109.2,2,-999.0000,-999.000,-999.000,-999.000
    06AQANTX_4,   A12,   569,  1,     22,     22,2,19920603,1544,-47.4000,   0.2833, 3719,     98.3,   4.9279,  34.0233,2,  34.0233,2,  4.9205,    312.2,2,     4.69,2,    20.99,2,     0.31,2,     1.45,2, -999.000,9, -999.000,9, -999.000,9,-999.0000,9,    -9.00,9,-999.000,9,   2111.9,2,-999.0000,-999.000,-999.000,-999.000
    06AQANTX_4,   A12,   569,  1,     21,     21,2,19920603,1544,-47.4000,   0.2833, 3719,    141.1,   4.3321,  34.1469,2,  34.1493,2,  4.3221,    285.0,2,    12.17,2,    25.61,2,     0.03,2,     1.68,2, -999.000,9, -999.000,9, -999.000,9,-999.0000,9,    -9.00,9,-999.000,9,   2139.9,2,-999.0000,-999.000,-999.000,-999.000
    06AQANTX_4,   A12,   569,  1,     20,     20,2,19920603,1544,-47.4000,   0.2833, 3719,    201.7,   4.0877,  34.1700,2,  34.1686,2,  4.0737,    278.4,2,    14.86,2,    26.87,2,     0.03,2,     1.76,2, -999.000,9, -999.000,9, -999.000,9,-999.0000,9,    -9.00,9,-999.000,9,   2146.8,2,-999.0000,-999.000,-999.000,-999.000
    06AQANTX_4,   A12,   569,  1,     19,     19,2,19920603,1544,-47.4000,   0.2833, 3719,    248.3,   3.8971,  34.1692,2,  34.1689,2,  3.8801,    279.0,2,    16.80,2,    27.84,2,     0.03,2,     1.82,2, -999.000,9, -999.000,9, -999.000,9,-999.0000,9,    -9.00,9,-999.000,9,   2148.1,2,-999.0000,-999.000,-999.000,-999.000
    06AQANTX_4,   A12,   569,  1,     18,     18,2,19920603,1544,-47.4000,   0.2833, 3719,    297.1,   3.5889,  34.1645,2,  34.1666,2,  3.5692,    273.8,2,    18.98,2,    28.74,2,     0.03,2,     1.86,2, -999.000,9, -999.000,9, -999.000,9,-999.0000,9,    -9.00,9,-999.000,9,   2157.3,2,-999.0000,-999.000,-999.000,-999.000
    06AQANTX_4,   A12,   569,  1,     17,     17,2,19920603,1544,-47.4000,   0.2833, 3719,    399.0,   3.2602,  34.1913,2,  34.1873,2,  3.2344,    262.0,2,    24.64,2,    30.53,2,     0.03,2,     1.95,2, -999.000,9, -999.000,9, -999.000,9,-999.0000,9,    -9.00,9,-999.000,9,   2173.1,2,-999.0000,-999.000,-999.000,-999.000
    06AQANTX_4,   A12,   569,  1,     16,     16,2,19920603,1544,-47.4000,   0.2833, 3719,    495.1,   2.8629,  34.2172,2,  34.2167,2,  2.8321,    248.3,2,    32.14,2,    32.11,2,     0.03,2,     2.08,2, -999.000,9, -999.000,9, -999.000,9,-999.0000,9,    -9.00,9,-999.000,9,   2188.8,2,-999.0000,-999.000,-999.000,-999.000
    06AQANTX_4,   A12,   569,  1,     15,     15,2,19920603,1544,-47.4000,   0.2833, 3719,    599.9,   2.6137,  34.2705,2,  34.2708,2,  2.5770,    231.1,2,    40.77,2,    33.15,2,     0.03,2,     2.17,2, -999.000,9, -999.000,9, -999.000,9,-999.0000,9,    -9.00,9,-999.000,9,   2204.2,2,-999.0000,-999.000,-999.000,-999.000
    06AQANTX_4,   A12,   569,  1,     14,     14,2,19920603,1544,-47.4000,   0.2833, 3719,    701.0,   2.5776,  34.3389,2,  34.3386,2,  2.5343,    213.2,2,    48.72,2,    34.26,2,     0.02,2,     2.24,2, -999.000,9, -999.000,9, -999.000,9,-999.0000,9,    -9.00,9,-999.000,9,   2218.3,2,-999.0000,-999.000,-999.000,-999.000
    06AQANTX_4,   A12,   569,  1,     13,     13,2,19920603,1544,-47.4000,   0.2833, 3719,    801.3,   2.5697,  34.3952,2,  34.3956,2,  2.5195,    192.0,2,    54.91,2,    34.53,2,     0.03,2,     2.28,2, -999.000,9, -999.000,9, -999.000,9,-999.0000,9,    -9.00,9,-999.000,9,   2227.4,2,-999.0000,-999.000,-999.000,-999.000
    06AQANTX_4,   A12,   569,  1,     12,     12,2,19920603,1544,-47.4000,   0.2833, 3719,    902.1,   2.5604,  34.4700,2,  34.4677,2,  2.5031,   -999.0,9,    60.42,2,    34.31,2,     0.03,2,     2.29,2, -999.000,9, -999.000,9, -999.000,9,-999.0000,9,    -9.00,9,-999.000,9,   2237.9,2,-999.0000,-999.000,-999.000,-999.000
    06AQANTX_4,   A12,   569,  1,     11,     11,2,19920603,1544,-47.4000,   0.2833, 3719,   1000.2,   2.5108,  34.5081,2,  34.5079,2,  2.4468,    185.5,2,    64.67,2,    33.59,2,     0.03,2,     2.29,2, -999.000,9, -999.000,9, -999.000,9,-999.0000,9,    -9.00,9,-999.000,9,   2249.6,2,-999.0000,-999.000,-999.000,-999.000
    06AQANTX_4,   A12,   569,  1,     10,     10,2,19920603,1544,-47.4000,   0.2833, 3719,   1203.1,   2.4624,  34.6044,2,  34.6058,2,  2.3837,    181.0,2,    70.60,2,    32.87,2,     0.03,2,     2.24,2, -999.000,9, -999.000,9, -999.000,9,-999.0000,9,    -9.00,9,-999.000,9,   2253.5,2,-999.0000,-999.000,-999.000,-999.000
    06AQANTX_4,   A12,   569,  1,      9,      9,2,19920603,1544,-47.4000,   0.2833, 3719,   1498.6,   2.4343,  34.7025,2,  34.7032,2,  2.3329,    189.6,2,    71.39,2,    31.18,2,     0.02,2,     2.10,2, -999.000,9, -999.000,9, -999.000,9,-999.0000,9,    -9.00,9,-999.000,9,   2244.4,2,-999.0000,-999.000,-999.000,-999.000
    06AQANTX_4,   A12,   569,  1,      8,      8,2,19920603,1544,-47.4000,   0.2833, 3719,   1803.6,   2.3343,  34.7625,2,  34.7623,2,  2.2091,    204.9,2,    70.73,2,    29.24,2,     0.03,2,     1.95,2, -999.000,9, -999.000,9, -999.000,9,-999.0000,9,    -9.00,9,-999.000,9,   2238.2,2,-999.0000,-999.000,-999.000,-999.000
    06AQANTX_4,   A12,   569,  1,      7,      7,2,19920603,1544,-47.4000,   0.2833, 3719,   1985.1,   2.1843,  34.7732,2,  34.7742,2,  2.0460,    208.8,2,    73.31,2,    28.68,2,     0.03,2,     1.92,2, -999.000,9, -999.000,9, -999.000,9,-999.0000,9,    -9.00,9,-999.000,9,   2238.8,2,-999.0000,-999.000,-999.000,-999.000
    06AQANTX_4,   A12,   569,  1,      6,      6,2,19920603,1544,-47.4000,   0.2833, 3719,   2398.6,   1.7566,  34.7614,2,  34.7630,2,  1.5896,    212.5,2,    85.02,2,    29.35,2,     0.03,2,     1.97,2, -999.000,9, -999.000,9, -999.000,9,-999.0000,9,    -9.00,9,-999.000,9,   2242.5,2,-999.0000,-999.000,-999.000,-999.000
    06AQANTX_4,   A12,   569,  1,      5,      5,2,19920603,1544,-47.4000,   0.2833, 3719,   2802.6,   1.3657,  34.7385,2,  34.7386,2,  1.1701,    212.1,2,    96.71,2,    30.51,2,     0.02,2,     2.04,2, -999.000,9, -999.000,9, -999.000,9,-999.0000,9,    -9.00,9,-999.000,9,   2253.7,2,-999.0000,-999.000,-999.000,-999.000
    06AQANTX_4,   A12,   569,  1,      4,      4,2,19920603,1544,-47.4000,   0.2833, 3719,   3198.1,   1.0079,  34.7139,2,  34.7151,2,  0.7835,    214.4,2,   107.02,2,    31.78,2,     0.02,2,     2.13,2, -999.000,9, -999.000,9, -999.000,9,-999.0000,9,    -9.00,9,-999.000,9,   2258.1,2,-999.0000,-999.000,-999.000,-999.000
    06AQANTX_4,   A12,   569,  1,      3,      3,2,19920603,1544,-47.4000,   0.2833, 3719,   3596.3,   0.6703,  34.6923,2,  34.6931,2,  0.4159,    218.2,2,   115.85,2,    32.46,2,     0.02,2,     2.17,2, -999.000,9, -999.000,9, -999.000,9,-999.0000,9,    -9.00,9,-999.000,9,   2263.8,2,-999.0000,-999.000,-999.000,-999.000
    06AQANTX_4,   A12,   569,  1,      1,      1,2,19920603,1544,-47.4000,   0.2833, 3719,   3790.4,   0.6043,  34.6870,2,  34.6880,2,  0.3324,   -999.0,9,   119.86,2,    32.44,2,     0.03,2,     2.18,2, -999.000,9, -999.000,9, -999.000,9,-999.0000,9,    -9.00,9,-999.000,9,   2262.2,2,-999.0000,-999.000,-999.000,-999.000
    06AQANTX_4,   A12,   569,  1,      2,      2,2,19920603,1544,-47.4000,   0.2833, 3719,   3791.1,   0.6040,  34.6878,2,  34.6870,2,  0.3320,    219.7,2,  -999.00,9,  -999.00,9,  -999.00,9,  -999.00,9, -999.000,9, -999.000,9, -999.000,9,-999.0000,9,    -9.00,9,-999.000,9,   2263.1,2,-999.0000,-999.000,-999.000,-999.000
    06AQANTX_4,   A12,   570,  1,     24,     24,2,19920603,2336,-48.0000,   0.0000, 3895,     40.6,   4.2225,  33.9392,2,  33.9382,2,  4.2197,    319.7,2,     4.74,2,    21.04,2,     0.33,2,     1.47,2,    5.215,2,    2.458,2, -999.000,9,   1.7920,2,    -1.82,2,   7.829,2,   -999.0,9,  0.0070,-999.000,   0.039,   0.320
    06AQANTX_4,   A12,   570,  1,     23,     23,2,19920603,2336,-48.0000,   0.0000, 3895,     77.8,   4.2254,  33.9400,2,  33.9390,2,  4.2200,    319.6,2,     4.65,2,    20.90,2,     0.33,2,     1.47,2,    5.205,2,    2.456,2, -999.000,9,   1.7940,2,    -1.80,2,   7.886,2,   -999.0,9,  0.0070,-999.000,   0.039,   0.320
    06AQANTX_4,   A12,   570,  1,     22,     22,2,19920603,2336,-48.0000,   0.0000, 3895,    119.7,   4.2273,  33.9425,2,  33.9407,2,  4.2190,    318.9,2,     4.00,2,    21.02,2,     0.33,2,     1.47,2,    5.133,2,    2.552,2, -999.000,9,-999.0000,5,    -9.00,5,-999.000,5,   -999.0,9,-999.0000,-999.000,-999.000,-999.000
    06AQANTX_4,   A12,   570,  1,     21,     21,2,19920603,2336,-48.0000,   0.0000, 3895,    162.4,   4.2024,  33.9450,2,  33.9479,2,  4.1911,    317.6,2,     4.20,2,    21.51,2,     0.31,2,     1.50,2,    5.164,2,    2.511,2, -999.000,9,   1.7870,2,    -1.11,2,   7.815,2,   -999.0,9,  0.0070,-999.000,   0.039,   0.320
    06AQANTX_4,   A12,   570,  1,     20,     20,2,19920603,2336,-48.0000,   0.0000, 3895,    215.4,   3.0571,  34.1067,2,  34.1085,2,  3.0439,    293.2,2,    17.35,2,    27.54,2,     0.04,2,     1.87,2,    4.540,2,    2.113,2, -999.000,9,   1.7760,2,    -0.10,2,   7.864,2,   -999.0,9,  0.0070,-999.000,   0.039,   0.320
    06AQANTX_4,   A12,   570,  1,     19,     19,2,19920603,2336,-48.0000,   0.0000, 3895,    246.9,   2.7800,  34.1305,2,  34.1329,2,  2.7653,    286.4,2,    21.42,2,    28.44,2,     0.04,2,     1.91,2,    4.194,2,    1.931,2, -999.000,9,   1.6820,4,    -0.27,2,   7.495,4,   -999.0,9,  0.0060,-999.000,   0.037,   0.320
    06AQANTX_4,   A12,   570,  1,     18,     18,2,19920603,2336,-48.0000,   0.0000, 3895,    302.1,   2.6058,  34.1569,2,  34.1565,2,  2.5881,    277.2,2,    24.60,2,    29.33,2,     0.04,2,     1.97,2,    3.768,2,    1.726,2, -999.000,9,-999.0000,5,    -9.00,5,-999.000,5,   -999.0,9,-999.0000,-999.000,-999.000,-999.000
    06AQANTX_4,   A12,   570,  1,     17,     17,2,19920603,2336,-48.0000,   0.0000, 3895,    400.5,   2.3557,  34.2093,2,  34.2103,2,  2.3327,    253.7,2,    33.86,2,    31.19,2,     0.04,2,     2.10,2,    2.907,2,    1.338,2, -999.000,9,   1.8150,4,     0.71,4,   7.911,4,   -999.0,9,  0.0160,-999.000,   0.079,   0.320
    06AQANTX_4,   A12,   570,  1,     16,     16,2,19920603,2336,-48.0000,   0.0000, 3895,    497.6,   2.2177,  34.2609,2,  34.2610,2,  2.1893,    237.6,2,    41.10,2,    32.41,2,     0.04,2,     2.19,2,    2.293,2,    1.179,4, -999.000,9,-999.0000,5,    -9.00,5,-999.000,5,   -999.0,9,-999.0000,-999.000,-999.000,-999.000
    06AQANTX_4,   A12,   570,  1,     15,     15,2,19920603,2336,-48.0000,   0.0000, 3895,    599.4,   2.2745,  34.3415,2,  34.3405,2,  2.2394,    213.6,2,    50.66,2,    33.41,2,     0.04,2,     2.27,2,    1.534,2,    0.757,2, -999.000,9,   1.8030,2,     4.67,2,   7.919,2,   -999.0,9,  0.0070,-999.000,   0.040,   0.320
    06AQANTX_4,   A12,   570,  1,     14,     14,2,19920603,2336,-48.0000,   0.0000, 3895,    700.4,   2.3728,  34.4131,2,  34.4121,2,  2.3305,    195.9,2,    57.51,2,    34.19,2,     0.03,2,     2.31,2,    0.979,2,    0.511,2, -999.000,9,   1.8210,2,     6.01,2,   8.001,2,   -999.0,9,  0.0070,-999.000,   0.040,   0.320
    06AQANTX_4,   A12,   570,  1,     13,     13,2,19920603,2336,-48.0000,   0.0000, 3895,    804.5,   2.4414,  34.4951,2,  34.4945,2,  2.3916,    186.0,2,    64.11,2,    34.45,2,     0.03,2,     2.29,2,    0.535,2,    0.267,2, -999.000,9,-999.0000,5,    -9.00,5,-999.000,5,   -999.0,9,-999.0000,-999.000,-999.000,-999.000
    06AQANTX_4,   A12,   570,  1,     12,     12,2,19920603,2336,-48.0000,   0.0000, 3895,    900.7,   2.4416,  34.5424,2,  34.5395,2,  2.3851,    182.3,2,    66.88,2,    34.27,2,     0.03,2,     2.27,2, -999.000,9, -999.000,9, -999.000,9,-999.0000,9,    -9.00,9,-999.000,9,   -999.0,9,-999.0000,-999.000,-999.000,-999.000
    06AQANTX_4,   A12,   570,  1,     11,     11,2,19920603,2336,-48.0000,   0.0000, 3895,   1000.2,   2.4294,  34.5931,2,  34.5920,2,  2.3659,    180.6,2,    69.75,2,    33.61,2,     0.03,2,     2.23,2,    0.276,2,    0.129,2, -999.000,9,   1.7940,2,     9.18,2,   7.829,2,   -999.0,9,  0.0070,-999.000,   0.039,   0.320
    06AQANTX_4,   A12,   570,  1,     10,     10,2,19920603,2336,-48.0000,   0.0000, 3895,   1199.1,   2.4701,  34.6686,2,  34.6645,4,  2.3915,    184.7,2,    69.54,2,    32.25,2,     0.03,2,     2.12,2,    0.166,2,    0.071,2, -999.000,9,-999.0000,5,    -9.00,5,-999.000,5,   -999.0,9,-999.0000,-999.000,-999.000,-999.000
    06AQANTX_4,   A12,   570,  1,      9,      9,2,19920603,2336,-48.0000,   0.0000, 3895,   1504.0,   2.4521,  34.7457,2,  34.7437,2,  2.3499,    199.0,2,    67.98,2,    29.80,2,     0.02,2,     1.97,2,    0.099,2,    0.034,3, -999.000,9,-999.0000,5,    -9.00,5,-999.000,5,   -999.0,9,-999.0000,-999.000,-999.000,-999.000
    06AQANTX_4,   A12,   570,  1,      8,      8,2,19920603,2336,-48.0000,   0.0000, 3895,   1799.4,   2.2231,  34.7672,2,  34.7671,2,  2.0998,    204.4,2,    71.98,2,    29.16,2,     0.02,2,     1.90,2, -999.000,9, -999.000,9, -999.000,9,-999.0000,9,    -9.00,9,-999.000,9,   -999.0,9,-999.0000,-999.000,-999.000,-999.000
    06AQANTX_4,   A12,   570,  1,      7,      7,2,19920603,2336,-48.0000,   0.0000, 3895,   2000.7,   2.0540,  34.7681,2,  34.7668,2,  1.9163,    207.7,2,    76.06,2,    28.88,2,     0.02,2,     1.92,2,    0.062,3,    0.054,4, -999.000,9,   1.8010,2,     8.98,2,   7.929,2,   -999.0,9,  0.0070,-999.000,   0.040,   0.320
    06AQANTX_4,   A12,   570,  1,      6,      6,2,19920603,2336,-48.0000,   0.0000, 3895,   2401.6,   1.6026,  34.7515,2,  34.7488,2,  1.4381,    210.6,2,    88.60,2,    29.67,2,     0.02,2,     1.98,2, -999.000,9, -999.000,9, -999.000,9,-999.0000,9,    -9.00,9,-999.000,9,   -999.0,9,-999.0000,-999.000,-999.000,-999.000
    06AQANTX_4,   A12,   570,  1,      5,      5,2,19920603,2336,-48.0000,   0.0000, 3895,   2801.0,   1.2545,  34.7291,2,  34.7288,2,  1.0614,    211.8,2,    98.78,2,    30.36,2,     0.02,2,     2.07,2,    0.096,2,    0.074,4, -999.000,9,-999.0000,5,    -9.00,5,-999.000,5,   -999.0,9,-999.0000,-999.000,-999.000,-999.000
    06AQANTX_4,   A12,   570,  1,      4,      4,2,19920603,2336,-48.0000,   0.0000, 3895,   3200.4,   0.9192,  34.7089,2,  34.7075,2,  0.6967,    214.5,2,   108.29,2,    31.42,2,     0.02,2,     2.12,2,    0.146,2,    0.069,2, -999.000,9,   0.0000,4,    -9.00,4,   0.000,4,   -999.0,9,  0.0000,-999.000,   0.000,-999.000
    06AQANTX_4,   A12,   570,  1,      3,      3,2,19920603,2336,-48.0000,   0.0000, 3895,   3597.8,   0.6408,  34.6899,2,  34.6893,2,  0.3870,    214.6,2,   115.50,2,    31.90,2,     0.02,2,     2.18,2,    0.164,2,    0.076,2, -999.000,9,   1.8620,2,     8.47,2,   8.136,2,   -999.0,9,  0.0070,-999.000,   0.041,   0.320
    06AQANTX_4,   A12,   570,  1,      2,      2,2,19920603,2336,-48.0000,   0.0000, 3895,   3881.0,   0.5877,  34.6860,2,  34.6846,2,  0.3071,    219.1,2,   118.77,2,    32.42,2,     0.02,2,     2.21,2,    0.171,2,    0.095,2, -999.000,9,-999.0000,5,    -9.00,5,-999.000,5,   -999.0,9,-999.0000,-999.000,-999.000,-999.000
    06AQANTX_4,   A12,   570,  1,      1,      1,2,19920603,2336,-48.0000,   0.0000, 3895,   3979.8,   0.5917,  34.6855,2,  34.6865,2,  0.3008,    220.9,2,   119.72,2,    32.50,2,     0.03,2,     2.18,2,    0.169,2,    0.089,2, -999.000,9,-999.0000,5,    -9.00,5,-999.000,5,   -999.0,9,-999.0000,-999.000,-999.000,-999.000