BOTTLE,20061211WHPSIODBK
EXPOCODE,SECT_ID,STNNBR,CASTNO,SAMPNO,BTLNBR,BTLNBR_FLAG_W,DATE,TIME,LATITUDE,LONGITUDE,DEPTH,CTDPRS,CTDTMP,CTDSAL,CTDSAL_FLAG_W,SALNTY,SALNTY_FLAG_W,THETA,OXYGEN,OXYGEN_FLAG_W,SILCAT,SILCAT_FLAG_W,NITRAT,NITRAT_FLAG_W,NITRIT,NITRIT_FLAG_W,PHSPHT,PHSPHT_FLAG_W,CFC-11,CFC-11_FLAG_W,CFC-12,CFC-12_FLAG_W,TRITUM,TRITUM_FLAG_W,HELIUM,HELIUM_FLAG_W,DELHE3,DELHE3_FLAG_W,NEON,NEON_FLAG_W,TCARBN,TCARBN_FLAG_W,HELIER,TRITER,NEONER,DELHER
,,,,,,,,,,,,DBAR,ITS-90,PSS-78,,PSS-78,,DEG C,UMOL/KG,,UMOL/KG,,UMOL/KG,,UMOL/KG,,UMOL/KG,,PMOL/KG,,PMOL/KG,,TU,,NMOL/KG,,PERCNT,,NMOL/KG,,UMOL/KG,,NMOL/KG,TU,NMOL/KG,PERCNT
    06AQANTX_4,  SR04,   623,  3,     24,     24,2,19920713,1620,-65.9667, -33.5167, 4741,      3.3,  -1.8404,  34.4027,2,  34.4121,2, -1.8405,    303.6,2,    66.84,2,    26.72,2,     0.15,2,     1.87,2,    5.806,2,    2.594,2,    0.112,2,   1.8240,2,     1.32,2,   8.168,2,   2211.4,2,  0.0070,   0.006,   0.041,   0.320
    06AQANTX_4,  SR04,   623,  3,     23,     23,2,19920713,1620,-65.9667, -33.5167, 4741,     39.6,  -1.8505,  34.4157,2,  34.4158,2, -1.8513,    302.7,2,    67.21,2,    26.74,2,     0.15,2,     1.88,2,    5.828,2,    2.584,2,    0.116,2,   1.8460,2,     0.95,2,   8.284,2,   2209.9,2,  0.0070,   0.005,   0.041,   0.320
    06AQANTX_4,  SR04,   623,  3,     22,     22,2,19920713,1620,-65.9667, -33.5167, 4741,     80.5,  -1.5760,  34.4461,2,  34.4192,3, -1.5778,    302.0,2,    67.95,2,    26.86,2,     0.15,2,     1.91,2,    5.789,2,    2.565,2,    0.124,2,   1.8280,2,     1.13,2,   8.153,2,   2215.9,2,  0.0070,   0.013,   0.041,   0.320
    06AQANTX_4,  SR04,   623,  3,     21,     21,2,19920713,1620,-65.9667, -33.5167, 4741,    120.7,   0.0269,  34.6208,2,  34.6093,3,  0.0225,    215.3,2,   100.36,2,    33.92,2,     0.03,2,     2.31,2,    1.937,2,    0.866,2,    0.071,2,   1.8590,2,     6.47,2,   8.187,2,   2256.4,2,  0.0070,   0.016,   0.041,   0.320
    06AQANTX_4,  SR04,   623,  3,     20,     20,2,19920713,1620,-65.9667, -33.5167, 4741,    180.3,   0.4910,  34.6712,2,  34.6715,2,  0.4836,    192.0,2,   112.33,2,    34.87,2,     0.01,2,     2.36,2,    0.639,2,    0.288,2,    0.021,2,-999.0000,5,    -9.00,5,-999.000,5,   2268.4,2,-999.0000,   0.003,-999.000,-999.000
    06AQANTX_4,  SR04,   623,  3,     19,     19,2,19920713,1620,-65.9667, -33.5167, 4741,    250.8,   0.5766,  34.6824,2,  34.6831,2,  0.5660,    191.5,2,   117.47,2,    34.75,2,     0.02,2,     2.38,2,    0.350,2,    0.162,2,    0.041,2,-999.0000,5,    -9.00,5,-999.000,5,   2268.1,2,-999.0000,   0.003,-999.000,-999.000
    06AQANTX_4,  SR04,   623,  3,     18,     18,2,19920713,1620,-65.9667, -33.5167, 4741,    343.8,   0.5199,  34.6849,2,  34.6854,2,  0.5052,    194.7,2,   121.69,2,    34.67,2,     0.02,2,     2.37,2,    0.208,2,    0.096,2,    0.027,2,   1.8540,2,     9.61,2,   8.138,2,   2266.8,2,  0.0070,   0.010,   0.041,   0.320
    06AQANTX_4,  SR04,   623,  3,     17,     17,2,19920713,1620,-65.9667, -33.5167, 4741,    500.9,   0.3865,  34.6812,2,  34.6818,2,  0.3650,    195.4,2,   125.79,2,    35.00,2,     0.02,2,     2.39,2,    0.156,2,    0.080,2,    0.006,2,   1.8390,2,     9.11,2,   8.138,2,   2270.8,2,  0.0070,   0.002,   0.041,   0.320
    06AQANTX_4,  SR04,   623,  3,     16,     16,2,19920713,1620,-65.9667, -33.5167, 4741,    649.5,   0.3073,  34.6791,2,  34.6775,2,  0.2789,    197.3,2,   128.26,2,    35.10,2,     0.02,2,     2.38,2,    0.123,3,    0.069,2, -999.000,9,-999.0000,9,    -9.00,9,-999.000,9,   2272.0,2,-999.0000,-999.000,-999.000,-999.000
    06AQANTX_4,  SR04,   623,  3,     15,     15,2,19920713,1620,-65.9667, -33.5167, 4741,    792.8,   0.2405,  34.6773,2,  34.6508,4,  0.2054,    201.9,2,   128.87,2,    34.77,2,     0.01,2,     2.37,2,    0.118,2,    0.060,2,    0.007,2,   1.8580,4,     7.78,4,   8.162,4,   2265.6,2,  0.0160,   0.004,   0.082,   0.320
    06AQANTX_4,  SR04,   623,  3,     14,     14,2,19920713,1620,-65.9667, -33.5167, 4741,    999.1,   0.1516,  34.6740,2,  34.6749,2,  0.1061,    209.8,2,   129.61,2,    34.51,2,     0.02,2,     2.37,2,    0.098,2,    0.049,2, -999.000,9,-999.0000,9,    -9.00,9,-999.000,9,   2267.3,2,-999.0000,-999.000,-999.000,-999.000
    06AQANTX_4,  SR04,   623,  3,     13,     13,2,19920713,1620,-65.9667, -33.5167, 4741,   1200.3,   0.0720,  34.6707,2,  34.6711,2,  0.0161,    213.0,2,   129.92,2,    34.34,2,     0.02,2,     2.35,2,    0.097,2,    0.049,2,    0.011,2,   1.8720,2,     7.91,2,   8.242,2,   2264.1,2,  0.0070,   0.004,   0.041,   0.320
    06AQANTX_4,  SR04,   623,  3,     12,     12,2,19920713,1620,-65.9667, -33.5167, 4741,   1500.1,  -0.0274,  34.6670,2,  34.6604,4, -0.0999,    219.3,2,   130.07,2,    34.15,2,     0.02,2,     2.34,2,    0.116,2,    0.063,2, -999.000,9,-999.0000,9,    -9.00,9,-999.000,9,   2260.9,2,-999.0000,-999.000,-999.000,-999.000
    06AQANTX_4,  SR04,   623,  3,     11,     11,2,19920713,1620,-65.9667, -33.5167, 4741,   1799.8,  -0.1236,  34.6634,2,  34.6640,2, -0.2139,    227.4,2,   129.78,2,    33.92,2,     0.02,2,     2.34,2,    0.134,2,    0.072,2,    0.021,2,   1.8660,2,     7.02,2,   8.236,2,   -999.0,9,  0.0070,   0.004,   0.040,   0.310
    06AQANTX_4,  SR04,   623,  3,     10,     10,2,19920713,1620,-65.9667, -33.5167, 4741,   2200.5,  -0.2116,  34.6601,2,  34.6578,2, -0.3279,    232.4,2,   129.09,2,    33.81,2,     0.02,2,     2.33,2,    0.187,2,    0.106,3,    0.035,2,-999.0000,5,    -9.00,5,-999.000,5,   2256.3,2,-999.0000,   0.011,-999.000,-999.000
    06AQANTX_4,  SR04,   623,  3,      9,      9,2,19920713,1620,-65.9667, -33.5167, 4741,   2598.8,  -0.2709,  34.6589,2,  34.6565,2, -0.4158,   -999.0,9,   128.18,2,    33.59,2,     0.01,2,     2.32,2,    0.163,2,    0.090,3, -999.000,9,   1.6910,4,     6.96,4,   7.504,4,   2255.2,2,  0.0060,-999.000,   0.037,   0.310
    06AQANTX_4,  SR04,   623,  3,      8,      8,2,19920713,1620,-65.9667, -33.5167, 4741,   2999.8,  -0.3182,  34.6568,2,  34.6558,2, -0.4944,    238.6,2,   127.46,2,    33.41,2,     0.02,2,     2.30,2,    0.164,2,    0.082,2,    0.027,2,-999.0000,5,    -9.00,5,-999.000,5,   2252.0,2,-999.0000,   0.004,-999.000,-999.000
    06AQANTX_4,  SR04,   623,  3,      7,      7,2,19920713,1620,-65.9667, -33.5167, 4741,   3401.1,  -0.3557,  34.6539,2,  34.6538,2, -0.5656,    241.8,2,   126.96,2,    33.33,2,     0.02,2,     2.28,2,    0.177,2,    0.091,2, -999.000,9,   1.8610,2,     5.87,2,   8.243,2,   2250.0,2,  0.0070,-999.000,   0.040,   0.310
    06AQANTX_4,  SR04,   623,  3,      6,      6,2,19920713,1620,-65.9667, -33.5167, 4741,   3799.9,  -0.3899,  34.6524,2,  34.6519,2, -0.6355,    245.0,2,   126.49,2,    33.32,2,     0.01,2,     2.31,2,    0.196,2,    0.099,2,    0.047,2,-999.0000,5,    -9.00,5,-999.000,5,   -999.0,9,-999.0000,   0.003,-999.000,-999.000
    06AQANTX_4,  SR04,   623,  3,      5,      5,2,19920713,1620,-65.9667, -33.5167, 4741,   4198.9,  -0.4238,  34.6492,2,  34.6490,2, -0.7071,    247.2,2,   125.94,2,    33.23,2,     0.02,2,     2.28,2,    0.239,2,    0.110,2,    0.034,2,-999.0000,9,    -9.00,4,-999.000,9,   2247.7,2,-999.0000,   0.003,-999.000,-999.000
    06AQANTX_4,  SR04,   623,  3,      4,      4,2,19920713,1620,-65.9667, -33.5167, 4741,   4599.1,-999.0000,-999.0000,5,  34.6450,2,-999.0000,    251.1,2,   122.86,2,    33.05,2,     0.02,2,     2.28,2,    0.278,2,    0.141,2,    0.032,2,-999.0000,5,    -9.00,5,-999.000,5,   2248.1,2,-999.0000,   0.004,-999.000,-999.000
    06AQANTX_4,  SR04,   623,  3,      3,      3,2,19920713,1620,-65.9667, -33.5167, 4741,   4799.0,-999.0000,-999.0000,5,  34.6351,2,-999.0000,    255.1,2,   123.68,2,    34.15,2,     0.02,2,     2.27,2,    0.753,2,    0.344,2,    0.050,2,-999.0000,5,    -9.00,5,-999.000,5,   2249.4,2,-999.0000,   0.006,-999.000,-999.000
    06AQANTX_4,  SR04,   623,  3,      2,      2,2,19920713,1620,-65.9667, -33.5167, 4741,   4845.2,-999.0000,-999.0000,5,  34.6380,2,-999.0000,    255.6,2,   123.81,2,    34.15,2,     0.02,2,     2.24,2,    0.792,2,    0.366,2, -999.000,9,-999.0000,9,    -9.00,9,-999.000,9,   -999.0,9,-999.0000,-999.000,-999.000,-999.000
    06AQANTX_4,  SR04,   623,  3,      1,      1,2,19920713,1620,-65.9667, -33.5167, 4741,   4845.2,-999.0000,-999.0000,5,  34.6393,2,-999.0000,   -999.0,9,   123.81,2,    34.15,2,     0.02,2,     2.24,2,    0.791,2,    0.366,2,    0.080,2,-999.0000,5,    -9.00,5,-999.000,5,   2249.3,2,-999.0000,   0.012,-999.000,-999.000
    06AQANTX_4,  SR04,   624,  1,     24,     24,2,19920714,0250,-65.7833, -34.8667, 4726,      8.6,  -1.8403,-999.0000,5,  34.4293,2, -1.8399,    310.5,2,    70.15,2,    25.99,2,     0.09,2,     1.85,2,    5.922,2,    2.643,2, -999.000,9,-999.0000,9,    -9.00,9,-999.000,9,   2208.5,2,-999.0000,-999.000,-999.000,-999.000
    06AQANTX_4,  SR04,   624,  1,     23,     23,2,19920714,0250,-65.7833, -34.8667, 4726,     39.2,  -1.8478,  34.4305,2,  34.4294,2, -1.8485,    302.9,2,    68.59,2,    25.40,2,     0.09,2,     1.81,2,    5.952,2,    2.744,2, -999.000,9,-999.0000,9,    -9.00,9,-999.000,9,   2208.1,2,-999.0000,-999.000,-999.000,-999.000
    06AQANTX_4,  SR04,   624,  1,     22,     22,2,19920714,0250,-65.7833, -34.8667, 4726,     80.1,  -1.8464,  34.4290,2,  34.4291,2, -1.8480,    302.6,2,    68.03,2,    25.40,2,     0.09,2,     1.83,2,    5.862,2,    2.595,2, -999.000,9,-999.0000,9,    -9.00,9,-999.000,9,   2207.5,2,-999.0000,-999.000,-999.000,-999.000
    06AQANTX_4,  SR04,   624,  1,     21,     21,2,19920714,0250,-65.7833, -34.8667, 4726,    119.7,  -1.6409,  34.4498,2,  34.4539,2, -1.6435,   -999.0,9,    76.01,2,    28.11,2,     0.06,2,     1.96,2,    4.900,2,    2.179,2, -999.000,9,-999.0000,9,    -9.00,9,-999.000,9,   2220.8,2,-999.0000,-999.000,-999.000,-999.000
    06AQANTX_4,  SR04,   624,  1,     20,     20,2,19920714,0250,-65.7833, -34.8667, 4726,    178.9,   0.0683,  34.6287,2,  34.6383,2,  0.0616,    196.9,2,   108.80,2,    34.84,2,     0.00,2,     2.35,2,    1.037,2,    0.478,2, -999.000,9,-999.0000,9,    -9.00,9,-999.000,9,   2264.8,2,-999.0000,-999.000,-999.000,-999.000
    06AQANTX_4,  SR04,   624,  1,     19,     19,2,19920714,0250,-65.7833, -34.8667, 4726,    249.9,   0.4685,  34.6759,2,  34.6748,2,  0.4582,    189.2,2,   116.56,2,    35.21,2,     0.00,2,     2.36,2,    0.420,2,    0.195,2, -999.000,9,-999.0000,9,    -9.00,9,-999.000,9,   2270.4,2,-999.0000,-999.000,-999.000,-999.000
    06AQANTX_4,  SR04,   624,  1,     18,     18,2,19920714,0250,-65.7833, -34.8667, 4726,    348.4,   0.4470,  34.6806,2,  34.6793,2,  0.4324,    189.8,2,   121.94,2,    35.22,2,     0.00,2,     2.35,2,    0.234,2,    0.111,2, -999.000,9,-999.0000,9,    -9.00,9,-999.000,9,   2273.3,2,-999.0000,-999.000,-999.000,-999.000
    06AQANTX_4,  SR04,   624,  1,     17,     17,2,19920714,0250,-65.7833, -34.8667, 4726,    498.8,   0.3783,  34.6803,2,  34.6809,2,  0.3570,    195.0,2,   125.65,2,    35.10,2,     0.00,2,     2.35,2,    0.134,2,    0.063,2, -999.000,9,-999.0000,9,    -9.00,9,-999.000,9,   2271.0,2,-999.0000,-999.000,-999.000,-999.000
    06AQANTX_4,  SR04,   624,  1,     16,     16,2,19920714,0250,-65.7833, -34.8667, 4726,    649.1,   0.3006,  34.6781,2,  34.6785,2,  0.2724,    196.1,2,   127.83,2,    35.00,2,     0.00,2,     2.36,2,    0.116,2,    0.067,3, -999.000,9,-999.0000,9,    -9.00,9,-999.000,9,   2270.5,2,-999.0000,-999.000,-999.000,-999.000
    06AQANTX_4,  SR04,   624,  1,     15,     15,2,19920714,0250,-65.7833, -34.8667, 4726,    799.3,   0.2326,  34.6758,2,  34.6662,4,  0.1972,    199.4,2,   129.32,2,    34.87,2,     0.00,2,     2.36,2,    0.102,2,    0.052,2, -999.000,9,-999.0000,9,    -9.00,9,-999.000,9,   -999.0,9,-999.0000,-999.000,-999.000,-999.000
    06AQANTX_4,  SR04,   624,  1,     14,     14,2,19920714,0250,-65.7833, -34.8667, 4726,    999.2,   0.1480,  34.6719,2,  34.6743,2,  0.1027,    208.1,2,   129.10,2,    34.50,2,     0.00,2,     2.35,2,    0.105,3,    0.049,2, -999.000,9,-999.0000,9,    -9.00,9,-999.000,9,   -999.0,9,-999.0000,-999.000,-999.000,-999.000
    06AQANTX_4,  SR04,   624,  1,     13,     13,2,19920714,0250,-65.7833, -34.8667, 4726,   1199.9,   0.0765,  34.6687,2,  34.6714,2,  0.0207,    211.4,2,   129.81,2,    34.19,2,     0.00,2,     2.32,2,    0.095,2,    0.057,2, -999.000,9,-999.0000,9,    -9.00,9,-999.000,9,   2263.6,2,-999.0000,-999.000,-999.000,-999.000
    06AQANTX_4,  SR04,   624,  1,     12,     12,2,19920714,0250,-65.7833, -34.8667, 4726,   1498.3,  -0.0277,  34.6642,2,  34.6673,2, -0.1000,    218.6,2,   128.20,2,    33.95,2,     0.00,2,     2.31,2,    0.118,2,    0.067,2, -999.000,9,-999.0000,9,    -9.00,9,-999.000,9,   2263.4,2,-999.0000,-999.000,-999.000,-999.000
    06AQANTX_4,  SR04,   624,  1,     11,     11,2,19920714,0250,-65.7833, -34.8667, 4726,   1799.3,  -0.1156,  34.6613,2,  34.6629,2, -0.2058,    225.4,2,   129.03,2,    33.69,2,     0.00,2,     2.28,2,    0.123,2,    0.062,2, -999.000,9,-999.0000,9,    -9.00,9,-999.000,9,   2255.8,2,-999.0000,-999.000,-999.000,-999.000
    06AQANTX_4,  SR04,   624,  1,     10,     10,2,19920714,0250,-65.7833, -34.8667, 4726,   2199.1,  -0.2030,  34.6572,2,  34.6601,2, -0.3192,    230.6,2,   128.38,2,    33.55,2,     0.00,2,     2.27,2,    0.168,2,    0.090,2, -999.000,9,-999.0000,9,    -9.00,9,-999.000,9,   2255.0,2,-999.0000,-999.000,-999.000,-999.000
    06AQANTX_4,  SR04,   624,  1,      9,      9,2,19920714,0250,-65.7833, -34.8667, 4726,   2599.0,  -0.2622,  34.6560,2,  34.6540,2, -0.4070,    234.4,2,   127.65,2,    33.38,2,     0.00,2,     2.29,2,    0.170,2,    0.123,3, -999.000,9,-999.0000,9,    -9.00,9,-999.000,9,   2252.1,2,-999.0000,-999.000,-999.000,-999.000
    06AQANTX_4,  SR04,   624,  1,      8,      8,2,19920714,0250,-65.7833, -34.8667, 4726,   2999.5,  -0.3035,  34.6546,2,  34.6548,2, -0.4796,    236.7,2,   127.41,2,    33.26,2,     0.00,2,     2.27,2,    0.147,2,    0.075,2, -999.000,9,-999.0000,9,    -9.00,9,-999.000,9,   2250.4,2,-999.0000,-999.000,-999.000,-999.000
    06AQANTX_4,  SR04,   624,  1,      7,      7,2,19920714,0250,-65.7833, -34.8667, 4726,   3399.6,  -0.3462,  34.6520,2,  34.6525,2, -0.5557,    242.2,2,   127.18,2,    33.24,2,     0.00,2,     2.27,2,    0.169,2,    0.089,2, -999.000,9,-999.0000,9,    -9.00,9,-999.000,9,   2251.0,2,-999.0000,-999.000,-999.000,-999.000
    06AQANTX_4,  SR04,   624,  1,      6,      6,2,19920714,0250,-65.7833, -34.8667, 4726,   3799.4,  -0.3820,  34.6514,2,  34.6510,2, -0.6273,    244.0,2,   127.50,2,    33.19,2,     0.00,2,     2.27,2,    0.173,2,    0.090,2, -999.000,9,-999.0000,9,    -9.00,9,-999.000,9,   2249.9,2,-999.0000,-999.000,-999.000,-999.000
    06AQANTX_4,  SR04,   624,  1,      5,      5,2,19920714,0250,-65.7833, -34.8667, 4726,   4199.3,  -0.4176,  34.6477,2,  34.6472,2, -0.7008,    246.9,2,   125.79,2,    33.27,2,     0.00,2,     2.26,2,    0.208,2,    0.103,2, -999.000,9,-999.0000,9,    -9.00,9,-999.000,9,   2248.1,2,-999.0000,-999.000,-999.000,-999.000
    06AQANTX_4,  SR04,   624,  1,      4,      4,2,19920714,0250,-65.7833, -34.8667, 4726,   4599.5,  -0.4948,  34.6456,2,  34.6452,2, -0.8167,    250.5,2,   125.38,2,    33.26,2,     0.00,2,     2.26,2,    0.228,2,    0.119,2, -999.000,9,-999.0000,9,    -9.00,9,-999.000,9,   2247.6,2,-999.0000,-999.000,-999.000,-999.000
    06AQANTX_4,  SR04,   624,  1,      3,      3,2,19920714,0250,-65.7833, -34.8667, 4726,   4697.2,  -0.5195,  34.6442,2,  34.6232,4, -0.8509,    251.6,2,   124.63,2,    33.24,2,     0.00,2,     2.27,2,    0.385,2,    0.203,2, -999.000,9,-999.0000,9,    -9.00,9,-999.000,9,   2246.4,2,-999.0000,-999.000,-999.000,-999.000
    06AQANTX_4,  SR04,   624,  1,      2,      2,2,19920714,0250,-65.7833, -34.8667, 4726,   4769.4,  -0.5475,  34.6393,2,  34.6364,2, -0.8856,    252.2,2,   125.27,2,    33.30,2,     0.00,2,     2.27,2,    0.672,2,    0.316,2, -999.000,9,-999.0000,9,    -9.00,9,-999.000,9,   -999.0,9,-999.0000,-999.000,-999.000,-999.000
    06AQANTX_4,  SR04,   624,  1,      1,      1,2,19920714,0250,-65.7833, -34.8667, 4726,   4825.5,  -0.5502,  34.6381,2,  34.6373,2, -0.8943,    254.0,2,   123.47,2,    33.26,2,     0.01,2,     2.23,2,    0.771,2,    0.356,2, -999.000,9,-999.0000,9,    -9.00,9,-999.000,9,   2246.1,2,-999.0000,-999.000,-999.000,-999.000