BOTTLE,20061211WHPSIODBK
EXPOCODE,SECT_ID,STNNBR,CASTNO,SAMPNO,BTLNBR,BTLNBR_FLAG_W,DATE,TIME,LATITUDE,LONGITUDE,DEPTH,CTDPRS,CTDTMP,CTDSAL,CTDSAL_FLAG_W,SALNTY,SALNTY_FLAG_W,THETA,OXYGEN,OXYGEN_FLAG_W,SILCAT,SILCAT_FLAG_W,NITRAT,NITRAT_FLAG_W,NITRIT,NITRIT_FLAG_W,PHSPHT,PHSPHT_FLAG_W,CFC-11,CFC-11_FLAG_W,CFC-12,CFC-12_FLAG_W,TRITUM,TRITUM_FLAG_W,HELIUM,HELIUM_FLAG_W,DELHE3,DELHE3_FLAG_W,NEON,NEON_FLAG_W,TCARBN,TCARBN_FLAG_W,HELIER,TRITER,NEONER,DELHER
,,,,,,,,,,,,DBAR,ITS-90,PSS-78,,PSS-78,,DEG C,UMOL/KG,,UMOL/KG,,UMOL/KG,,UMOL/KG,,UMOL/KG,,PMOL/KG,,PMOL/KG,,TU,,NMOL/KG,,PERCNT,,NMOL/KG,,UMOL/KG,,NMOL/KG,TU,NMOL/KG,PERCNT
    06AQANTX_4,   A12,   556,  1,     24,     24,2,19920530,0644,-42.0000,   6.0500, 4790,     29.8,  10.1527,  34.4614,2,  34.4628,2, 10.1493,    285.8,2,     0.94,2,     8.28,2,     0.30,2,     0.73,2, -999.000,9, -999.000,9, -999.000,9,-999.0000,9,    -9.00,9,-999.000,9,   -999.0,9,-999.0000,-999.000,-999.000,-999.000
    06AQANTX_4,   A12,   556,  1,     23,     23,2,19920530,0644,-42.0000,   6.0500, 4790,     71.2,  10.1568,  34.4614,2,  34.4622,2, 10.1486,    285.3,2,     0.99,2,     8.27,2,     0.30,2,     0.74,2, -999.000,9, -999.000,9, -999.000,9,-999.0000,9,    -9.00,9,-999.000,9,   -999.0,9,-999.0000,-999.000,-999.000,-999.000
    06AQANTX_4,   A12,   556,  1,     22,     22,2,19920530,0644,-42.0000,   6.0500, 4790,    142.9,   9.9803,  34.4417,2,  34.4420,2,  9.9639,    284.7,2,     0.95,2,     8.70,2,     0.33,2,     0.78,2, -999.000,9, -999.000,9, -999.000,9,-999.0000,9,    -9.00,9,-999.000,9,   -999.0,9,-999.0000,-999.000,-999.000,-999.000
    06AQANTX_4,   A12,   556,  1,     21,     21,2,19920530,0644,-42.0000,   6.0500, 4790,    220.0,   8.9811,  34.5194,2,  34.5200,2,  8.9574,    264.0,2,     3.35,2,    14.22,2,     0.09,2,     1.06,2, -999.000,9, -999.000,9, -999.000,9,-999.0000,9,    -9.00,9,-999.000,9,   -999.0,9,-999.0000,-999.000,-999.000,-999.000
    06AQANTX_4,   A12,   556,  1,     20,     20,2,19920530,0644,-42.0000,   6.0500, 4790,    258.6,   8.7418,  34.5296,2,  34.5300,2,  8.7143,    258.0,2,     4.06,2,    15.66,2,     0.09,2,     1.14,2, -999.000,9, -999.000,9, -999.000,9,-999.0000,9,    -9.00,9,-999.000,9,   -999.0,9,-999.0000,-999.000,-999.000,-999.000
    06AQANTX_4,   A12,   556,  1,     19,     19,2,19920530,0644,-42.0000,   6.0500, 4790,    297.8,   8.5861,  34.5496,2,  34.5361,3,  8.5547,    251.5,2,     4.81,2,    17.00,2,     0.09,2,     1.22,2, -999.000,9, -999.000,9, -999.000,9,-999.0000,9,    -9.00,9,-999.000,9,   -999.0,9,-999.0000,-999.000,-999.000,-999.000
    06AQANTX_4,   A12,   556,  1,     18,     18,2,19920530,0644,-42.0000,   6.0500, 4790,    401.0,   7.1638,  34.4363,2,  34.4331,2,  7.1256,    238.9,2,     8.51,2,    22.43,2,     0.09,2,     1.53,2, -999.000,9, -999.000,9, -999.000,9,-999.0000,9,    -9.00,9,-999.000,9,   -999.0,9,-999.0000,-999.000,-999.000,-999.000
    06AQANTX_4,   A12,   556,  1,     17,     17,2,19920530,0644,-42.0000,   6.0500, 4790,    497.5,   5.9370,  34.3248,2,  34.3111,3,  5.8940,    244.5,2,    11.65,2,    25.67,2,     0.09,2,     1.74,2, -999.000,9, -999.000,9, -999.000,9,-999.0000,9,    -9.00,9,-999.000,9,   -999.0,9,-999.0000,-999.000,-999.000,-999.000
    06AQANTX_4,   A12,   556,  1,     16,     16,2,19920530,0644,-42.0000,   6.0500, 4790,    602.4,   4.9475,  34.2588,2,  34.2567,2,  4.8996,    250.1,2,    15.03,2,    27.23,2,     0.09,2,     1.85,2, -999.000,9, -999.000,9, -999.000,9,-999.0000,9,    -9.00,9,-999.000,9,   -999.0,9,-999.0000,-999.000,-999.000,-999.000
    06AQANTX_4,   A12,   556,  1,     15,     15,2,19920530,0644,-42.0000,   6.0500, 4790,    700.5,   4.3600,  34.2459,2,  34.2466,2,  4.3070,    250.4,2,    19.69,2,    28.62,2,     0.09,2,     1.94,2, -999.000,9, -999.000,9, -999.000,9,-999.0000,9,    -9.00,9,-999.000,9,   -999.0,9,-999.0000,-999.000,-999.000,-999.000
    06AQANTX_4,   A12,   556,  1,     14,     14,2,19920530,0644,-42.0000,   6.0500, 4790,    853.9,   3.4458,  34.2262,2,  34.2271,2,  3.3863,    249.6,2,    27.62,2,    30.66,2,     0.09,2,     2.08,2, -999.000,9, -999.000,9, -999.000,9,-999.0000,9,    -9.00,9,-999.000,9,   -999.0,9,-999.0000,-999.000,-999.000,-999.000
    06AQANTX_4,   A12,   556,  1,     13,     13,2,19920530,0644,-42.0000,   6.0500, 4790,   1002.0,   3.0612,  34.2795,2,  34.2812,2,  2.9931,    232.9,2,    37.59,2,    32.47,2,     0.09,2,     2.20,2, -999.000,9, -999.000,9, -999.000,9,-999.0000,9,    -9.00,9,-999.000,9,   -999.0,9,-999.0000,-999.000,-999.000,-999.000
    06AQANTX_4,   A12,   556,  1,     12,     12,2,19920530,0644,-42.0000,   6.0500, 4790,   1200.5,   2.7943,  34.3726,2,  34.3740,2,  2.7132,    210.5,2,    50.60,2,    34.11,2,     0.09,2,     2.29,2, -999.000,9, -999.000,9, -999.000,9,-999.0000,9,    -9.00,9,-999.000,9,   -999.0,9,-999.0000,-999.000,-999.000,-999.000
    06AQANTX_4,   A12,   556,  1,     11,     11,2,19920530,0644,-42.0000,   6.0500, 4790,   1497.9,   2.7410,  34.5566,2,  34.5571,2,  2.6365,    188.4,2,    65.06,2,    33.93,2,     0.09,2,     2.27,2, -999.000,9, -999.000,9, -999.000,9,-999.0000,9,    -9.00,9,-999.000,9,   -999.0,9,-999.0000,-999.000,-999.000,-999.000
    06AQANTX_4,   A12,   556,  1,     10,     10,2,19920530,0644,-42.0000,   6.0500, 4790,   1796.8,   2.6779,  34.6834,2,  34.6843,2,  2.5488,    194.6,2,    66.21,2,    31.39,2,     0.09,2,     2.12,2, -999.000,9, -999.000,9, -999.000,9,-999.0000,9,    -9.00,9,-999.000,9,   -999.0,9,-999.0000,-999.000,-999.000,-999.000
    06AQANTX_4,   A12,   556,  1,      9,      9,2,19920530,0644,-42.0000,   6.0500, 4790,   2200.5,   2.6344,  34.7846,2,  34.7838,2,  2.4699,    213.3,2,    60.61,2,    28.26,2,     0.07,2,     1.88,2, -999.000,9, -999.000,9, -999.000,9,-999.0000,9,    -9.00,9,-999.000,9,   -999.0,9,-999.0000,-999.000,-999.000,-999.000
    06AQANTX_4,   A12,   556,  1,      8,      8,2,19920530,0644,-42.0000,   6.0500, 4790,   2599.1,   2.4501,  34.8176,2,  34.8185,2,  2.2515,    226.6,2,    61.07,2,    26.77,2,     0.07,2,     1.78,2, -999.000,9, -999.000,9, -999.000,9,-999.0000,9,    -9.00,9,-999.000,9,   -999.0,9,-999.0000,-999.000,-999.000,-999.000
    06AQANTX_4,   A12,   556,  1,      7,      7,2,19920530,0644,-42.0000,   6.0500, 4790,   2998.0,   2.2738,  34.8263,2,  34.8253,2,  2.0397,    234.6,2,    64.15,2,    26.52,2,     0.06,2,     1.76,2, -999.000,9, -999.000,9, -999.000,9,-999.0000,9,    -9.00,9,-999.000,9,   -999.0,9,-999.0000,-999.000,-999.000,-999.000
    06AQANTX_4,   A12,   556,  1,      6,      6,2,19920530,0644,-42.0000,   6.0500, 4790,   3399.0,   2.1027,  34.8284,2,  34.8279,2,  1.8314,    234.8,2,  -999.00,9,  -999.00,9,     0.06,2,  -999.00,9, -999.000,9, -999.000,9, -999.000,9,-999.0000,9,    -9.00,9,-999.000,9,   -999.0,9,-999.0000,-999.000,-999.000,-999.000
    06AQANTX_4,   A12,   556,  1,      5,      5,2,19920530,0644,-42.0000,   6.0500, 4790,   3800.6,   1.4982,  34.7595,2,  34.7591,2,  1.2005,   -999.0,9,    94.51,2,    30.26,2,     0.06,2,     2.04,2, -999.000,9, -999.000,9, -999.000,9,-999.0000,9,    -9.00,9,-999.000,9,   -999.0,9,-999.0000,-999.000,-999.000,-999.000
    06AQANTX_4,   A12,   556,  1,      4,      4,2,19920530,0644,-42.0000,   6.0500, 4790,   4199.8,   1.2014,  34.7453,2,  34.7444,2,  0.8691,    229.7,2,   103.34,2,    30.82,2,     0.06,2,     2.08,2, -999.000,9, -999.000,9, -999.000,9,-999.0000,9,    -9.00,9,-999.000,9,   -999.0,9,-999.0000,-999.000,-999.000,-999.000
    06AQANTX_4,   A12,   556,  1,      3,      3,2,19920530,0644,-42.0000,   6.0500, 4790,   4602.0,   1.0622,  34.7309,2,  34.7340,2,  0.6892,    226.0,2,   108.66,2,    31.44,2,     0.06,2,     2.14,2, -999.000,9, -999.000,9, -999.000,9,-999.0000,9,    -9.00,9,-999.000,9,   -999.0,9,-999.0000,-999.000,-999.000,-999.000
    06AQANTX_4,   A12,   556,  1,      1,      1,2,19920530,0644,-42.0000,   6.0500, 4790,   4859.9,   1.0676,  34.7289,2,  34.7303,2,  0.6646,    226.9,2,   110.68,2,    31.40,2,     0.08,2,     2.14,2, -999.000,9, -999.000,9, -999.000,9,-999.0000,9,    -9.00,9,-999.000,9,   -999.0,9,-999.0000,-999.000,-999.000,-999.000
    06AQANTX_4,   A12,   556,  1,      2,      2,2,19920530,0644,-42.0000,   6.0500, 4790,   4861.1,   1.0675,  34.7285,2,  34.7305,2,  0.6643,    227.0,2,   110.36,2,    31.56,2,     0.06,2,     2.16,2, -999.000,9, -999.000,9, -999.000,9,-999.0000,9,    -9.00,9,-999.000,9,   -999.0,9,-999.0000,-999.000,-999.000,-999.000
    06AQANTX_4,   A12,   557,  1,     24,     24,2,19920530,1401,-42.2333,   5.2000, 4818,     21.2,  10.2136,  34.4730,2,  34.4723,2, 10.2111,    285.3,2,     1.50,2,     8.56,2,     0.29,2,     0.73,2,    3.785,2,    1.842,2, -999.000,9,   1.7590,2,    -1.31,2,   7.434,2,   -999.0,9,  0.0070,-999.000,   0.037,   0.320
    06AQANTX_4,   A12,   557,  1,     23,     23,2,19920530,1401,-42.2333,   5.2000, 4818,     69.5,  10.2154,  34.4732,2,  34.4730,2, 10.2073,    285.4,2,     1.55,2,     8.60,2,     0.29,2,     0.73,2,    3.788,2,    1.856,2, -999.000,9,-999.0000,5,    -9.00,5,-999.000,5,   -999.0,9,-999.0000,-999.000,-999.000,-999.000
    06AQANTX_4,   A12,   557,  1,     22,     22,2,19920530,1401,-42.2333,   5.2000, 4818,    138.5,   9.7133,  34.4716,2,  34.4763,2,  9.6977,    276.0,2,     2.39,2,    11.44,2,     0.20,2,     0.90,2,    3.816,2,    1.845,2, -999.000,9,   1.7310,2,    -1.47,2,   7.451,2,   -999.0,9,  0.0060,-999.000,   0.037,   0.320
    06AQANTX_4,   A12,   557,  1,     21,     21,2,19920530,1401,-42.2333,   5.2000, 4818,    221.2,   9.0004,  34.5734,2,  34.5732,2,  8.9765,    252.4,2,     4.49,2,    15.53,2,     0.08,2,     1.10,2,    3.468,2,    1.672,2, -999.000,9,-999.0000,5,    -9.00,5,-999.000,5,   -999.0,9,-999.0000,-999.000,-999.000,-999.000
    06AQANTX_4,   A12,   557,  1,     20,     20,2,19920530,1401,-42.2333,   5.2000, 4818,    260.6,   8.4410,  34.5298,2,  34.5294,2,  8.4139,    251.1,2,     5.46,2,    17.36,2,     0.08,2,     1.21,2,    3.439,2,    1.648,2, -999.000,9,   1.7500,2,    -0.46,2,   7.479,2,   -999.0,9,  0.0070,-999.000,   0.037,   0.320
    06AQANTX_4,   A12,   557,  1,     19,     19,2,19920530,1401,-42.2333,   5.2000, 4818,    304.3,   7.7994,  34.4712,2,  34.4809,2,  7.7691,    251.0,2,     6.54,2,    19.10,2,     0.09,2,     1.33,2,    3.392,2,    1.619,2, -999.000,9,   1.7600,2,    -0.41,2,   7.551,2,   -999.0,9,  0.0070,-999.000,   0.038,   0.320
    06AQANTX_4,   A12,   557,  1,     18,     18,2,19920530,1401,-42.2333,   5.2000, 4818,    400.4,   6.6864,  34.3902,2,  34.3888,2,  6.6497,    241.0,2,     9.73,2,    23.85,2,     0.09,2,     1.60,2,    2.910,2,    1.365,2, -999.000,9,   1.7650,2,     0.19,2,   7.598,2,   -999.0,9,  0.0070,-999.000,   0.038,   0.320
    06AQANTX_4,   A12,   557,  1,     17,     17,2,19920530,1401,-42.2333,   5.2000, 4818,    499.7,   5.4834,  34.2897,2,  34.2898,2,  5.4419,    245.4,2,    12.96,2,    26.42,2,     0.09,2,     1.78,2,    2.795,2,    1.306,2, -999.000,9,-999.0000,5,    -9.00,5,-999.000,5,   -999.0,9,-999.0000,-999.000,-999.000,-999.000
    06AQANTX_4,   A12,   557,  1,     16,     16,2,19920530,1401,-42.2333,   5.2000, 4818,    601.9,   4.6206,  34.2362,2,  34.2346,2,  4.5743,    256.2,2,    16.23,2,    27.75,2,     0.08,2,     1.87,2,    2.712,2,    1.245,2, -999.000,9,-999.0000,5,    -9.00,5,-999.000,5,   -999.0,9,-999.0000,-999.000,-999.000,-999.000
    06AQANTX_4,   A12,   557,  1,     15,     15,2,19920530,1401,-42.2333,   5.2000, 4818,    701.7,   4.1433,  34.2423,2,  34.2382,2,  4.0914,    250.6,2,    21.39,2,    29.01,2,     0.08,2,     1.96,2,    2.141,2,    0.991,2, -999.000,9,-999.0000,5,    -9.00,5,-999.000,5,   -999.0,9,-999.0000,-999.000,-999.000,-999.000
    06AQANTX_4,   A12,   557,  1,     14,     14,2,19920530,1401,-42.2333,   5.2000, 4818,    846.8,   3.5007,  34.2604,2,  34.2591,2,  3.4413,    240.0,2,    30.89,2,    31.13,2,     0.08,2,     2.10,2,    1.621,2,    0.761,2, -999.000,9,   1.7720,2,     2.09,2,   7.757,2,   -999.0,9,  0.0070,-999.000,   0.039,   0.320
    06AQANTX_4,   A12,   557,  1,     13,     13,2,19920530,1401,-42.2333,   5.2000, 4818,   1001.4,   3.0604,  34.3048,2,  34.3022,2,  2.9923,    233.9,2,    40.76,2,    32.72,2,     0.09,2,     2.23,2,    1.225,2,    0.570,2, -999.000,9,-999.0000,5,    -9.00,5,-999.000,5,   -999.0,9,-999.0000,-999.000,-999.000,-999.000
    06AQANTX_4,   A12,   557,  1,     12,     12,2,19920530,1401,-42.2333,   5.2000, 4818,   1200.5,   2.8966,  34.4222,2,  34.4192,2,  2.8144,   -999.0,9,    53.84,2,    33.80,2,     0.09,2,     2.29,2,    0.571,2,    0.280,2, -999.000,9,-999.0000,9,    -9.00,9,-999.000,9,   -999.0,9,-999.0000,-999.000,-999.000,-999.000
    06AQANTX_4,   A12,   557,  1,     11,     11,2,19920530,1401,-42.2333,   5.2000, 4818,   1498.9,   2.7641,  34.5840,2,  34.5837,2,  2.6591,    185.3,2,    65.98,2,    33.51,2,     0.09,2,     2.27,2,    0.176,2,    0.065,3, -999.000,9,   3.7430,4,     5.96,4,-999.000,9,   -999.0,9,  0.0140,-999.000,-999.000,   0.320
    06AQANTX_4,   A12,   557,  1,     10,     10,2,19920530,1401,-42.2333,   5.2000, 4818,   1798.7,   2.6631,  34.6945,2,-999.0000,9,  2.5340,   -999.0,9,  -999.00,9,  -999.00,9,  -999.00,9,  -999.00,9, -999.000,9, -999.000,9, -999.000,9,-999.0000,9,    -9.00,9,-999.000,9,   -999.0,9,-999.0000,-999.000,-999.000,-999.000
    06AQANTX_4,   A12,   557,  1,      9,      9,2,19920530,1401,-42.2333,   5.2000, 4818,   2198.3,   2.5349,  34.7764,2,  34.7770,2,  2.3723,    210.8,2,    64.78,2,    28.51,2,     0.08,2,     1.93,2,    0.024,2,    0.013,2, -999.000,9,-999.0000,5,    -9.00,5,-999.000,5,   -999.0,9,-999.0000,-999.000,-999.000,-999.000
    06AQANTX_4,   A12,   557,  1,      8,      8,2,19920530,1401,-42.2333,   5.2000, 4818,   2600.5,   2.4332,  34.8208,2,  34.8202,2,  2.2348,    229.5,2,    60.73,2,    26.37,2,     0.08,2,     1.79,2,    0.008,3,    0.007,2, -999.000,9,-999.0000,5,    -9.00,5,-999.000,5,   -999.0,9,-999.0000,-999.000,-999.000,-999.000
    06AQANTX_4,   A12,   557,  1,      7,      7,2,19920530,1401,-42.2333,   5.2000, 4818,   3001.8,   2.2726,  34.8305,2,  34.8311,2,  2.0381,    232.1,2,    62.90,2,    25.97,2,     0.08,2,     1.76,2,    0.011,3,    0.009,2, -999.000,9,   1.8370,2,     6.25,2,   7.914,2,   -999.0,9,  0.0070,-999.000,   0.040,   0.320
    06AQANTX_4,   A12,   557,  1,      6,      6,2,19920530,1401,-42.2333,   5.2000, 4818,   3398.8,   2.0062,  34.8120,2,  34.8122,2,  1.7374,    230.1,2,    72.99,2,    27.12,2,     0.07,2,     1.84,2,    0.022,2,    0.005,3, -999.000,9,   1.8290,2,     6.25,2,   7.994,2,   -999.0,9,  0.0070,-999.000,   0.040,   0.320
    06AQANTX_4,   A12,   557,  1,      5,      5,2,19920530,1401,-42.2333,   5.2000, 4818,   3798.7,   1.5634,  34.7721,2,  34.7722,2,  1.2641,    225.7,2,    90.76,2,    29.36,2,     0.08,2,     2.00,2,    0.026,2,    0.009,2, -999.000,9,   1.8320,2,     7.95,2,   7.990,2,   -999.0,9,  0.0070,-999.000,   0.040,   0.320
    06AQANTX_4,   A12,   557,  1,      4,      4,2,19920530,1401,-42.2333,   5.2000, 4818,   4200.9,   1.1817,  34.7432,2,  34.7433,2,  0.8499,    226.4,2,   103.47,2,    30.69,2,     0.08,2,     2.09,2,    0.014,3,    0.004,3, -999.000,9,-999.0000,5,    -9.00,5,-999.000,5,   -999.0,9,-999.0000,-999.000,-999.000,-999.000
    06AQANTX_4,   A12,   557,  1,      3,      3,2,19920530,1401,-42.2333,   5.2000, 4818,   4594.5,   1.0497,  34.7295,2,  34.7295,2,  0.6780,    225.9,2,   108.90,2,    31.50,2,     0.07,2,     2.14,2,    0.026,2,    0.015,2, -999.000,9,   1.8640,2,     7.26,2,   8.123,2,   -999.0,9,  0.0070,-999.000,   0.041,   0.320
    06AQANTX_4,   A12,   557,  1,      2,      2,2,19920530,1401,-42.2333,   5.2000, 4818,   4876.0,   1.0540,  34.7271,2,  34.7271,2,  0.6495,    225.8,2,   110.11,2,    31.62,2,     0.06,2,     2.15,2, -999.000,9, -999.000,9, -999.000,9,   1.8620,2,     7.27,2,   8.104,2,   -999.0,9,  0.0070,-999.000,   0.041,   0.320
    06AQANTX_4,   A12,   557,  1,      1,      1,2,19920530,1401,-42.2333,   5.2000, 4818,   4876.4,   1.0541,  34.7268,2,  34.7268,2,  0.6496,   -999.0,9,   110.34,2,    31.66,2,     0.06,2,     2.13,2,    0.029,2,    0.014,2, -999.000,9,-999.0000,9,    -9.00,9,-999.000,9,   -999.0,9,-999.0000,-999.000,-999.000,-999.000