BOTTLE,20061211WHPSIODBK
EXPOCODE,SECT_ID,STNNBR,CASTNO,SAMPNO,BTLNBR,BTLNBR_FLAG_W,DATE,TIME,LATITUDE,LONGITUDE,DEPTH,CTDPRS,CTDTMP,CTDSAL,CTDSAL_FLAG_W,SALNTY,SALNTY_FLAG_W,THETA,OXYGEN,OXYGEN_FLAG_W,SILCAT,SILCAT_FLAG_W,NITRAT,NITRAT_FLAG_W,NITRIT,NITRIT_FLAG_W,PHSPHT,PHSPHT_FLAG_W,CFC-11,CFC-11_FLAG_W,CFC-12,CFC-12_FLAG_W,TRITUM,TRITUM_FLAG_W,HELIUM,HELIUM_FLAG_W,DELHE3,DELHE3_FLAG_W,NEON,NEON_FLAG_W,TCARBN,TCARBN_FLAG_W,HELIER,TRITER,NEONER,DELHER
,,,,,,,,,,,,DBAR,ITS-90,PSS-78,,PSS-78,,DEG C,UMOL/KG,,UMOL/KG,,UMOL/KG,,UMOL/KG,,UMOL/KG,,PMOL/KG,,PMOL/KG,,TU,,NMOL/KG,,PERCNT,,NMOL/KG,,UMOL/KG,,NMOL/KG,TU,NMOL/KG,PERCNT
    06AQANTX_4,   A12,   602,  2,     24,     24,2,19920617,1252,-68.7333,   0.0000, 3694,      9.8,  -1.8711,  34.2985,2,  34.2958,2, -1.8713,    322.2,2,    61.94,2,    27.67,2,     0.18,2,     2.01,2,    5.610,2,    2.361,2,    0.111,2,   1.7860,2,     0.21,2,   8.070,2,   2204.3,2,  0.0060,   0.005,   0.040,   0.310
    06AQANTX_4,   A12,   602,  2,     23,     23,2,19920617,1252,-68.7333,   0.0000, 3694,     39.8,  -1.8680,  34.2990,2,  34.2948,2, -1.8687,    317.1,2,    61.93,2,    27.41,2,     0.18,2,     1.98,2,    5.637,2,    2.294,3,    0.134,2,   1.7840,2,    -0.17,2,   8.023,2,   2210.8,2,  0.0060,   0.006,   0.039,   0.310
    06AQANTX_4,   A12,   602,  2,     22,     22,2,19920617,1252,-68.7333,   0.0000, 3694,     79.9,  -1.8667,  34.2959,2,  34.2938,2, -1.8682,    318.9,2,    62.20,2,    27.13,2,     0.18,2,     1.98,2,    5.604,2,    2.367,2,    0.097,2,   1.7480,2,    -0.26,2,   7.887,2,   2204.1,2,  0.0060,   0.004,   0.039,   0.310
    06AQANTX_4,   A12,   602,  2,     21,     21,2,19920617,1252,-68.7333,   0.0000, 3694,    119.9,  -1.2737,  34.4192,2,  34.4506,4, -1.2767,    271.1,2,    72.55,2,    30.60,2,     0.06,2,     2.17,2,    3.782,2,    2.169,4,    0.118,2,   2.0630,5,     2.65,5,   8.240,2,   2229.0,2,  0.0070,   0.007,   0.040,   0.310
    06AQANTX_4,   A12,   602,  2,     20,     20,2,19920617,1252,-68.7333,   0.0000, 3694,    179.9,   0.3348,  34.5954,2,  34.5852,3,  0.3277,    218.1,2,    88.10,2,    32.31,2,     0.03,2,     2.27,2,    1.757,2,    0.755,2,    0.067,2,   1.8340,2,     6.95,2,   8.052,2,   2249.9,2,  0.0070,   0.007,   0.039,   0.310
    06AQANTX_4,   A12,   602,  2,     19,     19,2,19920617,1252,-68.7333,   0.0000, 3694,    249.9,   0.9081,  34.6576,2,  34.6591,2,  0.8969,    197.9,2,    95.17,2,    32.21,2,     0.02,2,     2.27,2,    0.844,2,    0.419,4,    0.033,2,-999.0000,5,    -9.00,5,-999.000,5,   2258.7,2,-999.0000,   0.018,-999.000,-999.000
    06AQANTX_4,   A12,   602,  2,     18,     18,2,19920617,1252,-68.7333,   0.0000, 3694,    300.4,   0.9981,  34.6791,2,  34.6748,2,  0.9842,    203.1,2,    97.22,2,    32.11,2,     0.02,2,     2.26,2,    0.672,2,    0.217,4,    0.044,2,   1.8410,2,     9.15,2,   8.104,2,   2258.3,2,  0.0070,   0.014,   0.040,   0.310
    06AQANTX_4,   A12,   602,  2,     17,     17,2,19920617,1252,-68.7333,   0.0000, 3694,    349.6,   0.9757,  34.6850,2,  34.6817,2,  0.9595,    201.8,2,    98.79,2,    32.06,2,     0.02,2,     2.24,2,    0.581,2,    0.439,3,    0.009,2,   1.8930,4,     8.98,2,   8.075,2,   2257.9,2,  0.0070,   0.002,   0.040,   0.310
    06AQANTX_4,   A12,   602,  2,     16,     16,2,19920617,1252,-68.7333,   0.0000, 3694,    499.5,   0.8060,  34.6963,2,  34.6822,3,  0.7828,    206.5,2,   102.80,2,    31.75,2,     0.02,2,     2.22,2,    0.555,2,    0.284,2,    0.024,2,   1.8330,2,     8.77,2,   8.050,2,   -999.0,9,  0.0070,   0.004,   0.039,   0.310
    06AQANTX_4,   A12,   602,  2,     15,     15,2,19920617,1252,-68.7333,   0.0000, 3694,    649.7,   0.6248,  34.6840,2,  34.6802,2,  0.5948,    207.8,2,   107.74,2,    31.58,2,     0.02,2,     2.22,2,    0.473,2,    0.227,2, -999.000,9,   1.8500,2,     9.01,2,   8.127,2,   2258.0,2,  0.0070,-999.000,   0.040,   0.310
    06AQANTX_4,   A12,   602,  2,     14,     14,2,19920617,1252,-68.7333,   0.0000, 3694,    800.5,   0.5191,  34.6839,2,  34.6799,4,  0.4817,    209.5,2,   112.11,2,    31.73,2,     0.02,2,     2.24,2,    0.391,2,    0.160,3,    0.012,2,   1.8520,2,     8.56,2,   8.114,2,   2258.1,2,  0.0070,   0.005,   0.040,   0.310
    06AQANTX_4,   A12,   602,  2,     13,     13,2,19920617,1252,-68.7333,   0.0000, 3694,    999.6,   0.4074,  34.6824,2,  34.6773,4,  0.3599,    209.8,2,   115.93,2,    32.33,2,     0.02,2,     2.26,2,    0.314,2,    0.123,3,    0.033,2,   1.8440,2,     8.29,2,   8.109,2,   2262.4,2,  0.0070,   0.005,   0.040,   0.310
    06AQANTX_4,   A12,   602,  2,     12,     12,2,19920617,1252,-68.7333,   0.0000, 3694,   1199.8,   0.2753,  34.6759,2,  34.6723,2,  0.2175,    213.1,2,   118.16,2,    32.27,2,     0.02,2,     2.28,2,    0.334,2,    0.126,3,    0.027,2,   0.0000,4,    -9.00,4,   0.000,4,   2262.5,2,  0.0000,   0.099,   0.000,-999.000
    06AQANTX_4,   A12,   602,  2,     11,     11,2,19920617,1252,-68.7333,   0.0000, 3694,   1399.8,   0.1836,  34.6728,2,  34.6687,4,  0.1148,    214.7,2,   120.40,2,    32.48,2,     0.02,2,     2.28,2,    0.346,2,    0.169,2,    0.024,2,-999.0000,5,    -9.00,5,-999.000,5,   -999.0,9,-999.0000,   0.004,-999.000,-999.000
    06AQANTX_4,   A12,   602,  2,     10,     10,2,19920617,1252,-68.7333,   0.0000, 3694,   1601.1,   0.1207,  34.6710,2,  34.6673,2,  0.0401,    218.9,2,   121.61,2,    33.23,2,     0.02,2,     2.28,2,    0.305,2,    0.098,3, -999.000,9,-999.0000,5,    -9.00,5,-999.000,5,   2262.1,2,-999.0000,-999.000,-999.000,-999.000
    06AQANTX_4,   A12,   602,  2,      9,      9,2,19920617,1252,-68.7333,   0.0000, 3694,   1800.1,   0.0510,  34.6681,2,  34.6653,2, -0.0417,    220.7,2,   123.09,2,    33.04,2,     0.02,2,     2.28,2,    0.286,2,    0.136,2,    0.019,2,-999.0000,5,    -9.00,5,-999.000,5,   -999.0,9,-999.0000,   0.008,-999.000,-999.000
    06AQANTX_4,   A12,   602,  2,      8,      8,2,19920617,1252,-68.7333,   0.0000, 3694,   2100.6,  -0.0157,  34.6674,2,  34.6647,2, -0.1281,    222.1,2,   124.11,2,    33.07,2,     0.02,2,     2.28,2,    0.221,4,    0.411,4,    0.012,2,-999.0000,5,    -9.00,5,-999.000,5,   2262.6,2,-999.0000,   0.004,-999.000,-999.000
    06AQANTX_4,   A12,   602,  2,      7,      7,2,19920617,1252,-68.7333,   0.0000, 3694,   2400.4,  -0.1018,  34.6646,2,  34.6612,2, -0.2347,    226.0,2,   124.58,2,    32.96,2,     0.02,2,     2.27,2,    0.296,2,    0.111,3, -999.000,9,-999.0000,5,    -9.00,5,-999.000,5,   2259.5,2,-999.0000,-999.000,-999.000,-999.000
    06AQANTX_4,   A12,   602,  2,      6,      6,2,19920617,1252,-68.7333,   0.0000, 3694,   2701.0,  -0.1637,  34.6629,2,  34.6575,4, -0.3187,    233.6,2,   123.63,2,    32.52,2,     0.02,2,     2.27,2,    0.437,2,    0.154,3,    0.024,2,   1.8840,2,     6.55,2,   8.236,2,   -999.0,9,  0.0070,   0.015,   0.041,   0.320
    06AQANTX_4,   A12,   602,  2,      5,      5,2,19920617,1252,-68.7333,   0.0000, 3694,   2999.8,  -0.2009,  34.6603,2,  34.6562,4, -0.3795,   -999.0,9,   124.37,2,    32.81,2,     0.02,2,     2.26,2,    0.500,2,    0.215,3,    0.034,2,   1.8770,2,     5.88,2,   8.232,2,   2258.7,2,  0.0070,   0.009,   0.041,   0.320
    06AQANTX_4,   A12,   602,  2,      4,      4,2,19920617,1252,-68.7333,   0.0000, 3694,   3301.3,  -0.1933,  34.6591,2,  34.6564,2, -0.3981,    234.2,2,   124.56,2,    33.01,2,     0.02,2,     2.27,2,    0.501,2,    0.183,3,    0.036,2,-999.0000,5,    -9.00,5,-999.000,5,   -999.0,9,-999.0000,   0.005,-999.000,-999.000
    06AQANTX_4,   A12,   602,  2,      3,      3,2,19920617,1252,-68.7333,   0.0000, 3694,   3622.1,  -0.2129,  34.6573,2,  34.6535,2, -0.4463,    236.6,2,   125.20,2,    33.29,2,     0.02,2,     2.27,2,    0.576,2,    0.224,3, -999.000,9,-999.0000,5,    -9.00,5,-999.000,5,   2258.6,2,-999.0000,-999.000,-999.000,-999.000
    06AQANTX_4,   A12,   602,  2,      2,      2,2,19920617,1252,-68.7333,   0.0000, 3694,   3690.7,  -0.2079,  34.6576,2,  34.6554,2, -0.4479,    238.1,2,   125.29,2,    32.99,2,     0.02,2,     2.26,2,    0.516,2,    0.251,2, -999.000,9,   0.0000,4,    -9.00,4,   0.000,4,   -999.0,9,  0.0000,-999.000,   0.000,-999.000
    06AQANTX_4,   A12,   602,  2,      1,      1,2,19920617,1252,-68.7333,   0.0000, 3694,   3758.2,  -0.2000,  34.6577,2,  34.6557,2, -0.4466,    238.2,2,   125.10,2,    33.07,2,     0.02,2,     2.22,2,    0.528,2,    0.186,3,    0.039,2,   1.8770,2,     5.90,2,   8.250,2,   2259.7,2,  0.0070,   0.004,   0.041,   0.320
    06AQANTX_4,   A12,   603,  3,     24,     24,2,19920617,2317,-69.0000,   0.0167, 3339,      9.6,  -1.8469,  34.2926,2,  34.3026,2, -1.8471,    312.8,2,    63.06,2,  -999.00,9,     0.17,2,     2.13,2,    5.403,2,    2.395,2, -999.000,9,-999.0000,9,    -9.00,9,-999.000,9,   2203.8,2,-999.0000,-999.000,-999.000,-999.000
    06AQANTX_4,   A12,   603,  3,     23,     23,2,19920617,2317,-69.0000,   0.0167, 3339,     40.1,  -1.8242,  34.2992,2,  34.2952,2, -1.8250,    312.7,2,    63.00,2,  -999.00,9,     0.16,2,     2.15,2, -999.000,9, -999.000,9, -999.000,9,-999.0000,9,    -9.00,9,-999.000,9,   2202.7,2,-999.0000,-999.000,-999.000,-999.000
    06AQANTX_4,   A12,   603,  3,     22,     22,2,19920617,2317,-69.0000,   0.0167, 3339,     69.5,  -1.7451,  34.3183,2,  34.3074,2, -1.7465,    311.4,2,    62.97,2,  -999.00,9,     0.16,2,     2.04,2, -999.000,9, -999.000,9, -999.000,9,-999.0000,9,    -9.00,9,-999.000,9,   2206.2,2,-999.0000,-999.000,-999.000,-999.000
    06AQANTX_4,   A12,   603,  3,     21,     21,2,19920617,2317,-69.0000,   0.0167, 3339,     99.9,  -1.1087,  34.4318,2,  34.4239,2, -1.1113,    278.3,2,    71.03,2,  -999.00,9,     0.09,2,     2.14,2,    4.114,2,    1.755,2, -999.000,9,-999.0000,9,    -9.00,9,-999.000,9,   2221.5,2,-999.0000,-999.000,-999.000,-999.000
    06AQANTX_4,   A12,   603,  3,     20,     20,2,19920617,2317,-69.0000,   0.0167, 3339,    150.3,   0.3006,  34.5906,2,  34.5865,2,  0.2948,    220.6,2,    89.04,2,  -999.00,9,     0.02,2,     2.24,2,    1.712,2,    0.669,3, -999.000,9,-999.0000,9,    -9.00,9,-999.000,9,   2247.3,2,-999.0000,-999.000,-999.000,-999.000
    06AQANTX_4,   A12,   603,  3,     19,     19,2,19920617,2317,-69.0000,   0.0167, 3339,    199.7,   0.6708,  34.6366,2,  34.6333,2,  0.6623,    207.2,2,    93.51,2,  -999.00,9,     0.01,2,     2.27,2,    1.151,2,    0.472,3, -999.000,9,-999.0000,9,    -9.00,9,-999.000,9,   2253.4,2,-999.0000,-999.000,-999.000,-999.000
    06AQANTX_4,   A12,   603,  3,     18,     18,2,19920617,2317,-69.0000,   0.0167, 3339,    249.9,   0.7310,  34.6542,2,  34.6487,2,  0.7201,    207.5,2,    95.61,2,  -999.00,9,     0.01,2,     2.26,2,    0.984,2,    0.410,3, -999.000,9,-999.0000,9,    -9.00,9,-999.000,9,   2253.5,2,-999.0000,-999.000,-999.000,-999.000
    06AQANTX_4,   A12,   603,  3,     17,     17,2,19920617,2317,-69.0000,   0.0167, 3339,    299.7,   0.7216,  34.6617,2,  34.6577,2,  0.7084,    209.5,2,    97.84,2,  -999.00,9,     0.01,2,     2.23,2, -999.000,9, -999.000,9, -999.000,9,-999.0000,9,    -9.00,9,-999.000,9,   2253.3,2,-999.0000,-999.000,-999.000,-999.000
    06AQANTX_4,   A12,   603,  3,     16,     16,2,19920617,2317,-69.0000,   0.0167, 3339,    399.5,   0.6858,  34.6755,2,  34.6707,2,  0.6680,    208.8,2,   101.94,2,  -999.00,9,     0.01,2,     2.27,2,    0.708,2,    0.290,3, -999.000,9,-999.0000,9,    -9.00,9,-999.000,9,   2252.2,2,-999.0000,-999.000,-999.000,-999.000
    06AQANTX_4,   A12,   603,  3,     15,     15,2,19920617,2317,-69.0000,   0.0167, 3339,    500.4,   0.6151,  34.6794,2,  34.6735,2,  0.5927,    210.4,2,   105.26,2,  -999.00,9,     0.02,2,     2.24,2, -999.000,9, -999.000,9, -999.000,9,-999.0000,9,    -9.00,9,-999.000,9,   -999.0,9,-999.0000,-999.000,-999.000,-999.000
    06AQANTX_4,   A12,   603,  3,     14,     14,2,19920617,2317,-69.0000,   0.0167, 3339,    600.3,   0.5670,  34.6820,2,  34.6759,2,  0.5398,    210.4,2,   107.78,2,  -999.00,9,     0.02,2,     2.27,2,    0.530,2,    0.186,3, -999.000,9,-999.0000,9,    -9.00,9,-999.000,9,   2255.5,2,-999.0000,-999.000,-999.000,-999.000
    06AQANTX_4,   A12,   603,  3,     13,     13,2,19920617,2317,-69.0000,   0.0167, 3339,    696.5,   0.4947,  34.6814,2,  34.6764,2,  0.4630,    211.1,2,   110.17,2,  -999.00,9,     0.01,2,     2.26,2, -999.000,9, -999.000,9, -999.000,9,-999.0000,9,    -9.00,9,-999.000,9,   -999.0,9,-999.0000,-999.000,-999.000,-999.000
    06AQANTX_4,   A12,   603,  3,     12,     12,2,19920617,2317,-69.0000,   0.0167, 3339,    800.1,   0.4322,  34.6818,2,  34.6759,4,  0.3954,    212.0,2,   112.12,2,  -999.00,9,     0.01,2,     2.23,2,    0.427,6,    0.165,3, -999.000,9,-999.0000,9,    -9.00,9,-999.000,9,   2257.3,2,-999.0000,-999.000,-999.000,-999.000
    06AQANTX_4,   A12,   603,  3,     11,     11,2,19920617,2317,-69.0000,   0.0167, 3339,    900.1,   0.3778,  34.6762,2,  34.6730,2,  0.3361,    212.4,2,   114.43,2,  -999.00,9,     0.01,2,     2.26,2, -999.000,9, -999.000,9, -999.000,9,-999.0000,9,    -9.00,9,-999.000,9,   2258.1,2,-999.0000,-999.000,-999.000,-999.000
    06AQANTX_4,   A12,   603,  3,     10,     10,2,19920617,2317,-69.0000,   0.0167, 3339,   1000.0,   0.3279,  34.6771,2,  34.6724,4,  0.2811,    212.6,2,   116.30,2,  -999.00,9,     0.01,2,     2.26,2, -999.000,9, -999.000,9, -999.000,9,-999.0000,9,    -9.00,9,-999.000,9,   -999.0,9,-999.0000,-999.000,-999.000,-999.000
    06AQANTX_4,   A12,   603,  3,      9,      9,2,19920617,2317,-69.0000,   0.0167, 3339,   1199.9,   0.2533,  34.6780,2,  34.6728,4,  0.1957,    214.4,2,   120.25,2,  -999.00,9,     0.01,2,     2.28,2,    0.279,2,    0.127,2, -999.000,9,-999.0000,9,    -9.00,9,-999.000,9,   -999.0,9,-999.0000,-999.000,-999.000,-999.000
    06AQANTX_4,   A12,   603,  3,      8,      8,2,19920617,2317,-69.0000,   0.0167, 3339,   1499.9,   0.1215,  34.6720,2,  34.6676,4,  0.0473,    221.5,2,   121.54,2,  -999.00,9,     0.02,2,     2.28,2, -999.000,9, -999.000,9, -999.000,9,-999.0000,9,    -9.00,9,-999.000,9,   2259.7,2,-999.0000,-999.000,-999.000,-999.000
    06AQANTX_4,   A12,   603,  3,      7,      7,2,19920617,2317,-69.0000,   0.0167, 3339,   1800.4,   0.0297,  34.6692,2,  34.6646,4, -0.0627,    220.3,2,   123.36,2,  -999.00,9,     0.01,2,     2.27,2,    0.289,2,    0.123,2, -999.000,9,-999.0000,9,    -9.00,9,-999.000,9,   2258.4,2,-999.0000,-999.000,-999.000,-999.000
    06AQANTX_4,   A12,   603,  3,      6,      6,2,19920617,2317,-69.0000,   0.0167, 3339,   2200.2,  -0.0776,  34.6653,2,  34.6612,4, -0.1961,    227.5,2,   124.09,2,  -999.00,9,     0.01,2,     2.27,2, -999.000,9, -999.000,9, -999.000,9,-999.0000,9,    -9.00,9,-999.000,9,   2259.5,2,-999.0000,-999.000,-999.000,-999.000
    06AQANTX_4,   A12,   603,  3,      5,      5,2,19920617,2317,-69.0000,   0.0167, 3339,   2700.2,  -0.1532,  34.6634,2,  34.6596,2, -0.3083,    232.9,2,   124.33,2,  -999.00,9,     0.01,2,     2.27,2,    0.446,2,    0.207,2, -999.000,9,-999.0000,9,    -9.00,9,-999.000,9,   2256.4,2,-999.0000,-999.000,-999.000,-999.000
    06AQANTX_4,   A12,   603,  3,      4,      4,2,19920617,2317,-69.0000,   0.0167, 3339,   3099.8,  -0.1707,  34.6616,2,  34.6584,2, -0.3585,    234.3,2,   125.04,2,  -999.00,9,     0.01,2,     2.27,2, -999.000,9, -999.000,9, -999.000,9,-999.0000,9,    -9.00,9,-999.000,9,   -999.0,9,-999.0000,-999.000,-999.000,-999.000
    06AQANTX_4,   A12,   603,  3,      3,      3,2,19920617,2317,-69.0000,   0.0167, 3339,   3260.4,  -0.1652,  34.6609,2,  34.6571,2, -0.3671,    234.5,2,   125.28,2,  -999.00,9,     0.02,2,     2.26,2,    0.504,2,    0.215,2, -999.000,9,-999.0000,9,    -9.00,9,-999.000,9,   -999.0,9,-999.0000,-999.000,-999.000,-999.000
    06AQANTX_4,   A12,   603,  3,      2,      2,2,19920617,2317,-69.0000,   0.0167, 3339,   3330.0,  -0.1662,  34.6605,2,  34.6552,4, -0.3742,    235.6,2,   125.05,2,  -999.00,9,     0.02,2,     2.26,2, -999.000,9, -999.000,9, -999.000,9,-999.0000,9,    -9.00,9,-999.000,9,   2256.6,2,-999.0000,-999.000,-999.000,-999.000
    06AQANTX_4,   A12,   603,  3,      1,      1,2,19920617,2317,-69.0000,   0.0167, 3339,   3407.7,  -0.1661,  34.6608,2,  34.6577,2, -0.3811,   -999.0,9,   125.47,2,  -999.00,9,     0.02,2,     2.22,2, -999.000,9, -999.000,9, -999.000,9,-999.0000,9,    -9.00,9,-999.000,9,   2259.9,2,-999.0000,-999.000,-999.000,-999.000