BOTTLE,20061211WHPSIODBK
EXPOCODE,SECT_ID,STNNBR,CASTNO,SAMPNO,BTLNBR,BTLNBR_FLAG_W,DATE,TIME,LATITUDE,LONGITUDE,DEPTH,CTDPRS,CTDTMP,CTDSAL,CTDSAL_FLAG_W,SALNTY,SALNTY_FLAG_W,THETA,OXYGEN,OXYGEN_FLAG_W,SILCAT,SILCAT_FLAG_W,NITRAT,NITRAT_FLAG_W,NITRIT,NITRIT_FLAG_W,PHSPHT,PHSPHT_FLAG_W,CFC-11,CFC-11_FLAG_W,CFC-12,CFC-12_FLAG_W,TRITUM,TRITUM_FLAG_W,HELIUM,HELIUM_FLAG_W,DELHE3,DELHE3_FLAG_W,NEON,NEON_FLAG_W,TCARBN,TCARBN_FLAG_W,HELIER,TRITER,NEONER,DELHER
,,,,,,,,,,,,DBAR,ITS-90,PSS-78,,PSS-78,,DEG C,UMOL/KG,,UMOL/KG,,UMOL/KG,,UMOL/KG,,UMOL/KG,,PMOL/KG,,PMOL/KG,,TU,,NMOL/KG,,PERCNT,,NMOL/KG,,UMOL/KG,,NMOL/KG,TU,NMOL/KG,PERCNT
    06AQANTX_4,   A12,   544,  1,     24,     24,2,19920524,2006,-37.0500,  14.6667, 4921,     29.3,  17.3992,  35.4427,2,  35.4442,2, 17.3943,    242.1,2,     3.01,2,     1.79,2,     0.28,2,     0.29,2,    2.406,3,    1.254,3, -999.000,9,   0.0000,4,    -9.00,4,   0.000,4,   -999.0,9,  0.0000,-999.000,   0.000,-999.000
    06AQANTX_4,   A12,   544,  1,     23,     23,2,19920524,2006,-37.0500,  14.6667, 4921,     68.9,  17.2787,  35.4345,2,  35.3823,4, 17.2672,    233.3,2,     3.86,2,     3.92,2,     0.24,2,     0.42,2,    2.352,3,    1.284,3, -999.000,9,   1.6860,4,    -0.32,4,   6.947,4,   -999.0,9,  0.0150,-999.000,   0.069,   0.320
    06AQANTX_4,   A12,   544,  1,     22,     22,2,19920524,2006,-37.0500,  14.6667, 4921,    137.7,  12.2269,  35.0592,2,  33.0865,4, 12.2088,    210.5,2,     8.03,2,    13.43,2,     0.05,2,     0.98,2,    1.954,2,    0.956,2, -999.000,9,   1.7470,2,     2.06,2,   7.373,2,   -999.0,9,  0.0070,-999.000,   0.037,   0.320
    06AQANTX_4,   A12,   544,  1,     21,     21,2,19920524,2006,-37.0500,  14.6667, 4921,    217.9,  10.2887,  34.8421,2,  34.8441,2, 10.2630,    210.3,2,    10.28,2,    17.18,2,     0.05,2,     1.20,2,    1.799,2,    0.881,2, -999.000,9,   1.7020,2,     1.57,2,   7.188,2,   -999.0,9,  0.0060,-999.000,   0.036,   0.320
    06AQANTX_4,   A12,   544,  1,     20,     20,2,19920524,2006,-37.0500,  14.6667, 4921,    298.3,   9.1188,  34.7324,2,  34.7308,2,  9.0861,    223.3,2,    14.71,2,    20.83,2,     0.05,2,     1.42,2,    1.302,2,    0.641,2, -999.000,9,-999.0000,5,    -9.00,5,-999.000,5,   -999.0,9,-999.0000,-999.000,-999.000,-999.000
    06AQANTX_4,   A12,   544,  1,     19,     19,2,19920524,2006,-37.0500,  14.6667, 4921,    398.4,   7.7710,  34.6209,2,  34.6218,2,  7.7311,    203.6,2,    21.66,2,    24.89,2,     0.05,2,     1.70,2,    0.873,2,    0.470,3, -999.000,9,-999.0000,5,    -9.00,5,-999.000,5,   -999.0,9,-999.0000,-999.000,-999.000,-999.000
    06AQANTX_4,   A12,   544,  1,     18,     18,2,19920524,2006,-37.0500,  14.6667, 4921,    497.7,   6.8690,  34.5596,2,  34.5587,2,  6.8222,    193.0,2,    27.65,2,    27.51,2,     0.05,2,     1.89,2,    0.832,2,    0.418,2, -999.000,9,   1.7940,2,     2.64,2,   7.673,2,   -999.0,9,  0.0070,-999.000,   0.038,   0.320
    06AQANTX_4,   A12,   544,  1,     17,     17,2,19920524,2006,-37.0500,  14.6667, 4921,    618.3,   5.3400,  34.4621,2,  34.4602,2,  5.2887,    202.5,2,    36.09,2,    30.74,2,     0.05,2,     2.10,2,    0.889,2,    0.442,2, -999.000,9,   1.7870,2,     4.15,2,   7.677,2,   -999.0,9,  0.0070,-999.000,   0.038,   0.320
    06AQANTX_4,   A12,   544,  1,     16,     16,2,19920524,2006,-37.0500,  14.6667, 4921,    751.5,   4.1418,  34.3919,2,  34.3917,2,  4.0857,    208.9,2,    41.13,2,    32.50,2,     0.05,2,     2.22,2,    0.962,2,    0.477,2, -999.000,9,   1.8020,2,     3.99,2,   7.819,2,   -999.0,9,  0.0070,-999.000,   0.039,   0.320
    06AQANTX_4,   A12,   544,  1,     15,     15,2,19920524,2006,-37.0500,  14.6667, 4921,    801.8,   3.7746,  34.3743,2,  34.3764,2,  3.7168,    211.7,2,    42.87,2,    33.13,2,     0.05,2,     2.29,2,    0.953,2,    0.488,2, -999.000,9,   1.8340,2,     4.27,2,   7.867,2,   -999.0,9,  0.0070,-999.000,   0.039,   0.320
    06AQANTX_4,   A12,   544,  1,     14,     14,2,19920524,2006,-37.0500,  14.6667, 4921,    879.5,   3.6926,  34.4401,2,  34.4386,2,  3.6291,    192.7,2,    51.39,2,    34.08,2,     0.05,2,     2.34,2,    0.656,6,    0.343,6, -999.000,9,   1.8130,2,     5.13,2,   7.830,2,   -999.0,9,  0.0070,-999.000,   0.039,   0.320
    06AQANTX_4,   A12,   544,  1,     13,     13,2,19920524,2006,-37.0500,  14.6667, 4921,    999.8,   3.4600,  34.5134,2,  34.5184,4,  3.3886,    179.1,2,    61.82,2,    34.86,2,     0.05,2,     2.38,2,    0.326,4,    0.201,2, -999.000,9,-999.0000,5,    -9.00,5,-999.000,5,   -999.0,9,-999.0000,-999.000,-999.000,-999.000
    06AQANTX_4,   A12,   544,  1,     12,     12,2,19920524,2006,-37.0500,  14.6667, 4921,   1197.5,   3.2097,  34.5965,2,  34.5980,2,  3.1245,    177.5,2,    69.48,2,    34.68,2,     0.05,2,     2.36,2,    0.148,2,    0.088,3, -999.000,9,   0.0000,4,    -9.00,4,   0.000,4,   -999.0,9,  0.0000,-999.000,   0.000,-999.000
    06AQANTX_4,   A12,   544,  1,     11,     11,2,19920524,2006,-37.0500,  14.6667, 4921,   1497.9,   2.8022,  34.6885,2,  34.6906,2,  2.6966,    191.1,2,    66.25,2,    32.16,2,     0.04,2,     2.16,2,    0.074,2,    0.082,3, -999.000,9,-999.0000,5,    -9.00,5,-999.000,5,   -999.0,9,-999.0000,-999.000,-999.000,-999.000
    06AQANTX_4,   A12,   544,  1,     10,     10,2,19920524,2006,-37.0500,  14.6667, 4921,   1802.8,   2.7313,  34.7678,2,  34.7689,2,  2.6007,    207.5,2,    59.99,2,    29.51,2,     0.04,2,     1.94,2,    0.066,2,    0.019,3, -999.000,9,   1.8540,2,     5.14,2,   8.021,2,   -999.0,9,  0.0070,-999.000,   0.040,   0.320
    06AQANTX_4,   A12,   544,  1,      9,      9,2,19920524,2006,-37.0500,  14.6667, 4921,   2197.5,   2.7318,  34.8360,2,  34.8384,2,  2.5658,    227.8,2,    51.10,2,    26.38,2,     0.05,2,     1.74,2,    0.040,2,    0.033,3, -999.000,9,   1.7270,4,    -1.28,4,-999.000,9,   -999.0,9,  0.0060,-999.000,-999.000,   0.320
    06AQANTX_4,   A12,   544,  1,      8,      8,2,19920524,2006,-37.0500,  14.6667, 4921,   2600.1,   2.4810,  34.8346,2,  34.8369,2,  2.2817,    230.8,2,    57.45,2,    26.51,2,     0.03,2,     1.73,2,    0.013,3,    0.014,3, -999.000,9,   0.0000,4,    -9.00,4,   0.000,4,   -999.0,9,  0.0000,-999.000,   0.000,-999.000
    06AQANTX_4,   A12,   544,  1,      7,      7,2,19920524,2006,-37.0500,  14.6667, 4921,   3001.6,   2.3352,  34.8376,2,  34.8399,2,  2.0993,    235.2,2,    60.59,2,    26.42,2,     0.04,2,     1.73,2,    0.025,2,    0.025,3, -999.000,9,   0.0720,4,    -9.00,4,   0.262,4,   -999.0,9,  0.0000,-999.000,   0.001,-999.000
    06AQANTX_4,   A12,   544,  1,      6,      6,2,19920524,2006,-37.0500,  14.6667, 4921,   3398.5,   2.1836,  34.8321,2,  34.8351,2,  1.9104,    233.9,2,    65.54,2,    26.69,2,     0.03,2,     1.75,2,    0.017,2,    0.023,3, -999.000,9,   0.0000,4,    -9.00,4,   0.000,4,   -999.0,9,  0.0000,-999.000,   0.000,-999.000
    06AQANTX_4,   A12,   544,  1,      5,      5,2,19920524,2006,-37.0500,  14.6667, 4921,   3801.6,   1.8584,  34.8010,2,  34.8018,2,  1.5507,    230.2,2,    79.22,2,    28.48,2,     0.03,2,     1.87,2,    0.019,2,    0.024,3, -999.000,9,-999.0000,5,    -9.00,5,-999.000,5,   -999.0,9,-999.0000,-999.000,-999.000,-999.000
    06AQANTX_4,   A12,   544,  1,      4,      4,2,19920524,2006,-37.0500,  14.6667, 4921,   4201.4,   1.3846,  34.7578,2,  34.7566,2,  1.0467,    227.7,2,    98.12,2,    30.57,2,     0.02,2,     2.04,2,    0.016,2,    0.021,3, -999.000,9,   1.8880,2,     7.08,2,   8.160,2,   -999.0,9,  0.0070,-999.000,   0.041,   0.320
    06AQANTX_4,   A12,   544,  1,      3,      3,2,19920524,2006,-37.0500,  14.6667, 4921,   4596.6,   1.1198,  34.7342,2,  34.7327,2,  0.7456,    224.6,2,   108.67,2,    32.07,2,     0.02,2,     2.14,2,    0.035,2,    0.018,2, -999.000,9,   1.8620,2,     7.50,2,   8.135,2,   -999.0,9,  0.0070,-999.000,   0.041,   0.320
    06AQANTX_4,   A12,   544,  1,      2,      2,2,19920524,2006,-37.0500,  14.6667, 4921,   4897.3,   0.9645,  34.7174,2,  34.7198,2,  0.5606,    225.7,2,   113.46,2,    32.47,2,     0.03,2,     2.19,2,    0.045,2,    0.042,3, -999.000,9,   1.8030,4,     7.18,2,-999.000,9,   -999.0,9,  0.0070,-999.000,-999.000,   0.320
    06AQANTX_4,   A12,   544,  1,      1,      1,2,19920524,2006,-37.0500,  14.6667, 4921,   4991.2,   0.9656,  34.7162,2,  34.7194,2,  0.5506,    227.1,2,   114.60,2,    32.34,2,     0.03,2,     2.17,2,    0.041,2,    0.039,3, -999.000,9,   1.8570,2,     7.63,2,   8.104,2,   -999.0,9,  0.0070,-999.000,   0.041,   0.320
    06AQANTX_4,   A12,   545,  1,     24,     24,2,19920525,0718,-37.5333,  14.1000, 4935,      9.0,  17.4188,  35.6026,2,  35.6057,2, 17.4173,    238.0,2,     3.02,2,     2.27,2,     0.20,2,     0.27,2,    2.418,2,    1.269,2, -999.000,9,-999.0000,9,    -9.00,9,-999.000,9,   -999.0,9,-999.0000,-999.000,-999.000,-999.000
    06AQANTX_4,   A12,   545,  1,     23,     23,2,19920525,0718,-37.5333,  14.1000, 4935,     68.2,  17.4176,  35.6015,2,  35.6037,2, 17.4061,    236.6,2,     2.99,2,     2.33,2,     0.20,2,     0.30,2, -999.000,9, -999.000,9, -999.000,9,-999.0000,9,    -9.00,9,-999.000,9,   -999.0,9,-999.0000,-999.000,-999.000,-999.000
    06AQANTX_4,   A12,   545,  1,     22,     22,2,19920525,0718,-37.5333,  14.1000, 4935,    136.6,  16.7244,  35.5000,2,  35.4848,3, 16.7021,    232.8,2,     3.16,2,     3.63,2,     0.20,2,     0.37,2,    2.394,2,    1.202,2, -999.000,9,-999.0000,9,    -9.00,9,-999.000,9,   -999.0,9,-999.0000,-999.000,-999.000,-999.000
    06AQANTX_4,   A12,   545,  1,     21,     21,2,19920525,0718,-37.5333,  14.1000, 4935,    201.2,  15.1373,  35.3056,2,  35.2868,3, 15.1066,    234.4,2,     3.03,2,     4.92,2,     0.20,2,     0.49,2,    2.637,2,    1.323,2, -999.000,9,-999.0000,9,    -9.00,9,-999.000,9,   -999.0,9,-999.0000,-999.000,-999.000,-999.000
    06AQANTX_4,   A12,   545,  1,     20,     20,2,19920525,0718,-37.5333,  14.1000, 4935,    241.1,  14.6041,  35.3556,2,  35.3555,2, 14.5681,    208.1,2,     4.85,2,     8.40,2,     0.03,2,     0.70,2,    2.174,2,    1.075,2, -999.000,9,-999.0000,9,    -9.00,9,-999.000,9,   -999.0,9,-999.0000,-999.000,-999.000,-999.000
    06AQANTX_4,   A12,   545,  1,     19,     19,2,19920525,0718,-37.5333,  14.1000, 4935,    300.1,  13.2319,  35.2155,2,  35.2182,2, 13.1899,    215.7,2,     5.05,2,    10.33,2,     0.04,2,     0.80,2,    2.104,2,    1.037,2, -999.000,9,-999.0000,9,    -9.00,9,-999.000,9,   -999.0,9,-999.0000,-999.000,-999.000,-999.000
    06AQANTX_4,   A12,   545,  1,     18,     18,2,19920525,0718,-37.5333,  14.1000, 4935,    399.5,  11.7107,  35.0292,2,  35.0307,2, 11.6590,    219.6,2,     6.31,2,    13.28,2,     0.03,2,     0.98,2,    1.882,2,    0.929,2, -999.000,9,-999.0000,9,    -9.00,9,-999.000,9,   -999.0,9,-999.0000,-999.000,-999.000,-999.000
    06AQANTX_4,   A12,   545,  1,     17,     17,2,19920525,0718,-37.5333,  14.1000, 4935,    500.4,  10.1306,  34.8231,2,  34.8180,2, 10.0713,    219.2,2,     8.34,2,    17.17,2,     0.04,2,     1.23,2,    1.535,2,    0.767,2, -999.000,9,-999.0000,9,    -9.00,9,-999.000,9,   -999.0,9,-999.0000,-999.000,-999.000,-999.000
    06AQANTX_4,   A12,   545,  1,     16,     16,2,19920525,0718,-37.5333,  14.1000, 4935,    599.0,   8.9882,  34.7121,2,  34.7101,2,  8.9220,    205.6,2,    13.80,2,    21.18,2,     0.03,2,     1.51,2,    1.134,2,    0.578,2, -999.000,9,-999.0000,9,    -9.00,9,-999.000,9,   -999.0,9,-999.0000,-999.000,-999.000,-999.000
    06AQANTX_4,   A12,   545,  1,     15,     15,2,19920525,0718,-37.5333,  14.1000, 4935,    750.6,   6.4135,  34.4588,2,  34.4476,4,  6.3444,    216.2,2,    20.80,2,    27.50,2,     0.05,2,     1.90,2,    1.534,2,    0.729,2, -999.000,9,-999.0000,9,    -9.00,9,-999.000,9,   -999.0,9,-999.0000,-999.000,-999.000,-999.000
    06AQANTX_4,   A12,   545,  1,     14,     14,2,19920525,0718,-37.5333,  14.1000, 4935,    801.1,   5.3692,  34.3646,2,  34.3647,2,  5.3016,    225.0,2,    23.00,2,    28.80,2,     0.05,2,     1.99,2, -999.000,9, -999.000,9, -999.000,9,-999.0000,9,    -9.00,9,-999.000,9,   -999.0,9,-999.0000,-999.000,-999.000,-999.000
    06AQANTX_4,   A12,   545,  1,     13,     13,2,19920525,0718,-37.5333,  14.1000, 4935,    851.2,   5.4057,  34.4231,2,  34.4253,2,  5.3332,    208.3,2,    29.80,2,    29.75,2,     0.04,2,     2.05,2,    1.196,2,    0.588,2, -999.000,9,-999.0000,9,    -9.00,9,-999.000,9,   -999.0,9,-999.0000,-999.000,-999.000,-999.000
    06AQANTX_4,   A12,   545,  1,     12,     12,2,19920525,0718,-37.5333,  14.1000, 4935,   1000.9,   4.3837,  34.4269,2,  34.4640,4,  4.3052,    199.2,2,    40.98,2,    31.47,2,     0.04,2,     2.21,2,    0.888,2,    0.439,2, -999.000,9,-999.0000,9,    -9.00,9,-999.000,9,   -999.0,9,-999.0000,-999.000,-999.000,-999.000
    06AQANTX_4,   A12,   545,  1,     11,     11,2,19920525,0718,-37.5333,  14.1000, 4935,   1200.6,   3.7761,  34.5624,2,  34.5624,2,  3.6855,   -999.0,9,    64.93,2,    34.98,2,     0.05,2,     2.42,2,    0.214,2,    0.118,3, -999.000,9,-999.0000,9,    -9.00,9,-999.000,9,   -999.0,9,-999.0000,-999.000,-999.000,-999.000
    06AQANTX_4,   A12,   545,  1,     10,     10,2,19920525,0718,-37.5333,  14.1000, 4935,   1497.7,   2.8094,  34.6235,2,  34.6216,2,  2.7039,   -999.0,9,    68.39,2,    33.85,2,     0.05,2,     2.31,2,    0.154,3,    0.057,2, -999.000,9,-999.0000,9,    -9.00,9,-999.000,9,   -999.0,9,-999.0000,-999.000,-999.000,-999.000
    06AQANTX_4,   A12,   545,  1,      9,      9,2,19920525,0718,-37.5333,  14.1000, 4935,   1801.3,   2.7694,  34.7591,2,  34.7598,2,  2.6385,    205.7,2,    59.65,2,    29.64,2,     0.04,2,     2.09,2,    0.037,2,    0.021,3, -999.000,9,-999.0000,9,    -9.00,9,-999.000,9,   -999.0,9,-999.0000,-999.000,-999.000,-999.000
    06AQANTX_4,   A12,   545,  1,      8,      8,2,19920525,0718,-37.5333,  14.1000, 4935,   2199.3,   2.6593,  34.8222,2,  34.8228,2,  2.4944,    223.4,2,    54.73,2,    27.03,2,     0.04,2,     1.85,2,    0.022,2,    0.021,3, -999.000,9,-999.0000,9,    -9.00,9,-999.000,9,   -999.0,9,-999.0000,-999.000,-999.000,-999.000
    06AQANTX_4,   A12,   545,  1,      7,      7,2,19920525,0718,-37.5333,  14.1000, 4935,   2599.7,   2.5002,  34.8346,2,  34.8358,2,  2.3005,   -999.0,9,    56.37,2,    26.56,2,     0.03,2,     1.84,2,    0.062,4,    0.214,4, -999.000,9,-999.0000,9,    -9.00,9,-999.000,9,   -999.0,9,-999.0000,-999.000,-999.000,-999.000
    06AQANTX_4,   A12,   545,  1,      6,      6,2,19920525,0718,-37.5333,  14.1000, 4935,   3002.3,   2.4259,  34.8377,2,  34.8387,2,  2.1880,   -999.0,9,    58.51,2,    26.34,2,     0.03,2,     1.84,2,    0.022,2,    0.013,3, -999.000,9,-999.0000,9,    -9.00,9,-999.000,9,   -999.0,9,-999.0000,-999.000,-999.000,-999.000
    06AQANTX_4,   A12,   545,  1,      5,      5,2,19920525,0718,-37.5333,  14.1000, 4935,   3400.5,   2.2858,  34.8346,2,  34.8354,2,  2.0099,   -999.0,9,    63.29,2,    26.54,2,     0.04,2,     1.81,2,    0.019,2,    0.013,3, -999.000,9,-999.0000,9,    -9.00,9,-999.000,9,   -999.0,9,-999.0000,-999.000,-999.000,-999.000
    06AQANTX_4,   A12,   545,  1,      4,      4,2,19920525,0718,-37.5333,  14.1000, 4935,   3799.5,   1.9796,  34.8108,2,  34.8112,2,  1.6688,   -999.0,9,    75.14,2,    27.94,2,     0.03,2,     1.91,2,    0.022,2,    0.048,4, -999.000,9,-999.0000,9,    -9.00,9,-999.000,9,   -999.0,9,-999.0000,-999.000,-999.000,-999.000
    06AQANTX_4,   A12,   545,  1,      3,      3,2,19920525,0718,-37.5333,  14.1000, 4935,   4203.7,   1.4468,  34.7633,2,  34.7653,2,  1.1067,   -999.0,9,    95.82,2,    30.38,2,     0.04,2,     2.07,2,    0.021,2,    0.019,3, -999.000,9,-999.0000,9,    -9.00,9,-999.000,9,   -999.0,9,-999.0000,-999.000,-999.000,-999.000
    06AQANTX_4,   A12,   545,  1,      2,      2,2,19920525,0718,-37.5333,  14.1000, 4935,   4601.5,   0.8926,  34.7154,2,  34.7179,2,  0.5252,    229.2,2,   114.18,2,    32.49,2,     0.04,2,     2.21,2,    0.099,4,    0.030,3, -999.000,9,-999.0000,9,    -9.00,9,-999.000,9,   -999.0,9,-999.0000,-999.000,-999.000,-999.000
    06AQANTX_4,   A12,   545,  1,      1,      1,2,19920525,0718,-37.5333,  14.1000, 4935,   5022.8,   0.9167,  34.7128,2,  34.7161,2,  0.4996,    226.6,2,   115.50,2,    32.57,2,     0.05,2,     2.21,2,    0.055,2,    0.028,3, -999.000,9,-999.0000,9,    -9.00,9,-999.000,9,   -999.0,9,-999.0000,-999.000,-999.000,-999.000