BOTTLE,20061211WHPSIODBK
EXPOCODE,SECT_ID,STNNBR,CASTNO,SAMPNO,BTLNBR,BTLNBR_FLAG_W,DATE,TIME,LATITUDE,LONGITUDE,DEPTH,CTDPRS,CTDTMP,CTDSAL,CTDSAL_FLAG_W,SALNTY,SALNTY_FLAG_W,THETA,OXYGEN,OXYGEN_FLAG_W,SILCAT,SILCAT_FLAG_W,NITRAT,NITRAT_FLAG_W,NITRIT,NITRIT_FLAG_W,PHSPHT,PHSPHT_FLAG_W,CFC-11,CFC-11_FLAG_W,CFC-12,CFC-12_FLAG_W,TRITUM,TRITUM_FLAG_W,HELIUM,HELIUM_FLAG_W,DELHE3,DELHE3_FLAG_W,NEON,NEON_FLAG_W,TCARBN,TCARBN_FLAG_W,HELIER,TRITER,NEONER,DELHER
,,,,,,,,,,,,DBAR,ITS-90,PSS-78,,PSS-78,,DEG C,UMOL/KG,,UMOL/KG,,UMOL/KG,,UMOL/KG,,UMOL/KG,,PMOL/KG,,PMOL/KG,,TU,,NMOL/KG,,PERCNT,,NMOL/KG,,UMOL/KG,,NMOL/KG,TU,NMOL/KG,PERCNT
    06AQANTX_4,   A12,   587,  1,     24,     24,2,19920612,1946,-62.0000,   0.0000, 5330,     29.1,  -1.8588,  34.1169,2,  34.1167,2, -1.8593,    341.5,2,    61.84,2,    24.26,2,     0.21,2,     1.84,2, -999.000,9, -999.000,9, -999.000,9,-999.0000,9,    -9.00,9,-999.000,9,   2183.8,2,-999.0000,-999.000,-999.000,-999.000
    06AQANTX_4,   A12,   587,  1,     23,     23,2,19920612,1946,-62.0000,   0.0000, 5330,     70.1,  -1.8534,  34.1174,2,  34.1170,2, -1.8547,    341.7,2,    61.96,2,    24.02,2,     0.21,2,     1.87,2, -999.000,9, -999.000,9, -999.000,9,-999.0000,9,    -9.00,9,-999.000,9,   2182.6,2,-999.0000,-999.000,-999.000,-999.000
    06AQANTX_4,   A12,   587,  1,     22,     22,2,19920612,1946,-62.0000,   0.0000, 5330,    140.1,   0.5276,  34.6663,2,  34.6733,2,  0.5219,    192.4,2,   111.73,2,    32.79,2,     0.02,2,     2.32,2, -999.000,9, -999.000,9, -999.000,9,-999.0000,9,    -9.00,9,-999.000,9,   2270.6,2,-999.0000,-999.000,-999.000,-999.000
    06AQANTX_4,   A12,   587,  1,     21,     21,2,19920612,1946,-62.0000,   0.0000, 5330,    219.2,   0.4943,  34.6812,2,  34.6868,2,  0.4852,    192.0,2,   116.97,2,    32.46,2,     0.02,2,     2.33,2, -999.000,9, -999.000,9, -999.000,9,-999.0000,9,    -9.00,9,-999.000,9,   2266.5,2,-999.0000,-999.000,-999.000,-999.000
    06AQANTX_4,   A12,   587,  1,     20,     20,2,19920612,1946,-62.0000,   0.0000, 5330,    320.0,   0.4032,  34.6815,2,  34.6831,2,  0.3899,    195.2,2,   120.78,2,    33.10,2,     0.02,2,     2.33,2, -999.000,9, -999.000,9, -999.000,9,-999.0000,9,    -9.00,9,-999.000,9,   2263.3,2,-999.0000,-999.000,-999.000,-999.000
    06AQANTX_4,   A12,   587,  1,     19,     19,2,19920612,1946,-62.0000,   0.0000, 5330,    449.1,   0.3321,  34.6806,2,  34.6820,2,  0.3132,    196.8,2,   123.16,2,    33.41,2,     0.02,2,     2.32,2, -999.000,9, -999.000,9, -999.000,9,-999.0000,9,    -9.00,9,-999.000,9,   -999.0,9,-999.0000,-999.000,-999.000,-999.000
    06AQANTX_4,   A12,   587,  1,     18,     18,2,19920612,1946,-62.0000,   0.0000, 5330,    579.1,   0.2640,  34.6779,2,  34.6796,2,  0.2393,    198.7,2,   124.54,2,    33.19,2,     0.01,2,     2.31,2, -999.000,9, -999.000,9, -999.000,9,-999.0000,9,    -9.00,9,-999.000,9,   2265.9,2,-999.0000,-999.000,-999.000,-999.000
    06AQANTX_4,   A12,   587,  1,     17,     17,2,19920612,1946,-62.0000,   0.0000, 5330,    699.4,   0.2096,  34.6768,2,  34.6812,2,  0.1794,   -999.0,9,   125.34,2,    33.29,2,     0.01,2,     2.29,2, -999.000,9, -999.000,9, -999.000,9,-999.0000,9,    -9.00,9,-999.000,9,   2263.7,2,-999.0000,-999.000,-999.000,-999.000
    06AQANTX_4,   A12,   587,  1,     16,     16,2,19920612,1946,-62.0000,   0.0000, 5330,    850.7,   0.1420,  34.6740,2,  34.6761,2,  0.1046,    206.2,2,   125.66,2,    33.39,2,     0.01,2,     2.28,2, -999.000,9, -999.000,9, -999.000,9,-999.0000,9,    -9.00,9,-999.000,9,   2265.2,2,-999.0000,-999.000,-999.000,-999.000
    06AQANTX_4,   A12,   587,  1,     15,     15,2,19920612,1946,-62.0000,   0.0000, 5330,   1000.7,   0.0801,  34.6720,2,  34.6737,2,  0.0353,    210.2,2,   125.51,2,    32.90,2,     0.01,2,     2.28,2, -999.000,9, -999.000,9, -999.000,9,-999.0000,9,    -9.00,9,-999.000,9,   2262.4,2,-999.0000,-999.000,-999.000,-999.000
    06AQANTX_4,   A12,   587,  1,     14,     14,2,19920612,1946,-62.0000,   0.0000, 5330,   1299.3,  -0.0285,  34.6670,2,  34.6701,2, -0.0890,    217.5,2,   125.46,2,    33.05,2,     0.01,2,     2.26,2, -999.000,9, -999.000,9, -999.000,9,-999.0000,9,    -9.00,9,-999.000,9,   2258.7,2,-999.0000,-999.000,-999.000,-999.000
    06AQANTX_4,   A12,   587,  1,     13,     13,2,19920612,1946,-62.0000,   0.0000, 5330,   1699.0,  -0.1527,  34.6618,2,  34.6642,2, -0.2359,    224.8,2,   125.20,2,    32.77,2,     0.01,2,     2.26,2, -999.000,9, -999.000,9, -999.000,9,-999.0000,9,    -9.00,9,-999.000,9,   2254.1,2,-999.0000,-999.000,-999.000,-999.000
    06AQANTX_4,   A12,   587,  1,     10,     10,2,19920612,1946,-62.0000,   0.0000, 5330,   2299.7,  -0.2680,  34.6574,2,  34.6565,2, -0.3904,    236.2,2,   124.11,2,    32.68,2,     0.01,2,     2.27,2, -999.000,9, -999.000,9, -999.000,9,-999.0000,9,    -9.00,9,-999.000,9,   -999.0,9,-999.0000,-999.000,-999.000,-999.000
    06AQANTX_4,   A12,   587,  1,     11,     11,2,19920612,1946,-62.0000,   0.0000, 5330,   2299.8,  -0.2678,  34.6503,2,  34.6598,4, -0.3901,   -999.0,9,  -999.00,9,  -999.00,9,  -999.00,9,  -999.00,9, -999.000,9, -999.000,9, -999.000,9,-999.0000,9,    -9.00,9,-999.000,9,   -999.0,9,-999.0000,-999.000,-999.000,-999.000
    06AQANTX_4,   A12,   587,  1,     12,     12,2,19920612,1946,-62.0000,   0.0000, 5330,   2301.6,  -0.2687,  34.6578,2,  34.6596,2, -0.3912,   -999.0,9,  -999.00,9,  -999.00,9,  -999.00,9,  -999.00,9, -999.000,9, -999.000,9, -999.000,9,-999.0000,9,    -9.00,9,-999.000,9,   -999.0,9,-999.0000,-999.000,-999.000,-999.000
    06AQANTX_4,   A12,   587,  1,      9,      9,2,19920612,1946,-62.0000,   0.0000, 5330,   2699.2,  -0.3249,  34.6556,2,  34.6556,2, -0.4764,   -999.0,9,   123.50,2,    32.77,2,     0.00,2,     2.21,2, -999.000,9, -999.000,9, -999.000,9,-999.0000,9,    -9.00,9,-999.000,9,   -999.0,9,-999.0000,-999.000,-999.000,-999.000
    06AQANTX_4,   A12,   587,  1,      8,      8,2,19920612,1946,-62.0000,   0.0000, 5330,   3099.6,  -0.3679,  34.6541,2,  34.6561,2, -0.5510,   -999.0,9,   123.92,2,    32.80,2,     0.00,2,     2.23,2, -999.000,9, -999.000,9, -999.000,9,-999.0000,9,    -9.00,9,-999.000,9,   -999.0,9,-999.0000,-999.000,-999.000,-999.000
    06AQANTX_4,   A12,   587,  1,      7,      7,2,19920612,1946,-62.0000,   0.0000, 5330,   3100.4,  -0.3685,  34.6448,2,  34.6563,4, -0.5516,    238.4,2,   123.75,2,    33.00,2,     0.00,2,     2.26,2, -999.000,9, -999.000,9, -999.000,9,-999.0000,9,    -9.00,9,-999.000,9,   -999.0,9,-999.0000,-999.000,-999.000,-999.000
    06AQANTX_4,   A12,   587,  1,      6,      6,2,19920612,1946,-62.0000,   0.0000, 5330,   3999.2,  -0.4765,  34.6498,2,  34.6497,2, -0.7384,    246.6,2,   119.75,2,    33.28,2,     0.00,2,     2.20,2, -999.000,9, -999.000,9, -999.000,9,-999.0000,9,    -9.00,9,-999.000,9,   -999.0,9,-999.0000,-999.000,-999.000,-999.000
    06AQANTX_4,   A12,   587,  1,      5,      5,2,19920612,1946,-62.0000,   0.0000, 5330,   4500.0,  -0.5094,  34.6459,2,  34.6456,2, -0.8206,    250.6,2,   117.51,2,    33.84,2,     0.00,2,     2.22,2, -999.000,9, -999.000,9, -999.000,9,-999.0000,9,    -9.00,9,-999.000,9,   -999.0,9,-999.0000,-999.000,-999.000,-999.000
    06AQANTX_4,   A12,   587,  1,      4,      4,2,19920612,1946,-62.0000,   0.0000, 5330,   4998.5,  -0.4777,  34.6449,2,  34.6449,2, -0.8434,    250.7,2,   118.98,2,    33.53,2,     0.01,2,     2.19,2, -999.000,9, -999.000,9, -999.000,9,-999.0000,9,    -9.00,9,-999.000,9,   -999.0,9,-999.0000,-999.000,-999.000,-999.000
    06AQANTX_4,   A12,   587,  1,      3,      3,2,19920612,1946,-62.0000,   0.0000, 5330,   5278.5,  -0.4464,  34.6456,2,  34.6447,2, -0.8448,    250.5,2,   120.62,2,    33.58,2,     0.01,2,  -999.00,9, -999.000,9, -999.000,9, -999.000,9,-999.0000,9,    -9.00,9,-999.000,9,   -999.0,9,-999.0000,-999.000,-999.000,-999.000
    06AQANTX_4,   A12,   587,  1,      2,      2,2,19920612,1946,-62.0000,   0.0000, 5330,   5359.9,  -0.4367,  34.6453,2,  34.6453,2, -0.8448,   -999.0,9,   120.55,2,  -999.00,9,     0.01,2,     2.21,2, -999.000,9, -999.000,9, -999.000,9,-999.0000,9,    -9.00,9,-999.000,9,   -999.0,9,-999.0000,-999.000,-999.000,-999.000
    06AQANTX_4,   A12,   587,  1,      1,      1,2,19920612,1946,-62.0000,   0.0000, 5330,   5434.9,  -0.4276,  34.6456,2,  34.6450,2, -0.8447,    250.6,2,   120.80,2,  -999.00,9,     0.01,2,  -999.00,9, -999.000,9, -999.000,9, -999.000,9,-999.0000,9,    -9.00,9,-999.000,9,   -999.0,9,-999.0000,-999.000,-999.000,-999.000
    06AQANTX_4,   A12,   588,  1,     24,     24,2,19920613,0204,-62.5000,   0.0000, 5307,      1.7,  -1.8448,  34.0852,2,  34.0890,2, -1.8448,    339.6,2,    59.43,2,    24.22,2,     0.21,2,     1.76,2,    6.603,2,    3.137,2, -999.000,9,   1.7860,2,    -0.77,2,   8.060,2,   -999.0,9,  0.0070,-999.000,   0.040,   0.320
    06AQANTX_4,   A12,   588,  1,     23,     23,2,19920613,0204,-62.5000,   0.0000, 5307,     29.2,  -1.8503,  34.0883,2,  34.0886,2, -1.8508,    343.0,2,    59.51,2,    24.44,2,     0.22,2,     1.76,2,    6.581,2,    3.166,2, -999.000,9,   1.7710,2,    -0.94,2,   8.063,2,   -999.0,9,  0.0070,-999.000,   0.040,   0.320
    06AQANTX_4,   A12,   588,  1,     22,     22,2,19920613,0204,-62.5000,   0.0000, 5307,     70.9,  -1.8469,  34.0871,2,  34.1234,3, -1.8482,    331.3,2,    62.20,2,    24.87,2,     0.21,2,     1.82,2,    6.283,3,    3.040,3,    0.145,2,   1.7870,2,    -0.43,2,   8.027,2,   -999.0,9,  0.0070,   0.006,   0.040,   0.320
    06AQANTX_4,   A12,   588,  1,     21,     21,2,19920613,0204,-62.5000,   0.0000, 5307,    140.2,   0.6376,  34.6486,2,  34.6548,2,  0.6317,    197.5,2,   104.97,2,    32.77,2,     0.02,2,     2.28,2,    0.829,3,    0.374,3,    0.039,2,   1.8520,2,     8.17,2,   8.105,2,   -999.0,9,  0.0070,   0.006,   0.041,   0.320
    06AQANTX_4,   A12,   588,  1,     20,     20,2,19920613,0204,-62.5000,   0.0000, 5307,    219.4,   0.6296,  34.6817,2,  34.6825,2,  0.6203,    195.8,2,   112.55,2,    33.17,2,     0.02,2,     2.27,2,    0.429,2,    0.180,2,    0.022,2,   0.0000,4,    -9.00,4,   0.000,4,   -999.0,9,  0.0000,   0.003,   0.000,-999.000
    06AQANTX_4,   A12,   588,  1,     19,     19,2,19920613,0204,-62.5000,   0.0000, 5307,    320.3,   0.5056,  34.6829,2,  34.6845,2,  0.4921,    195.5,2,   117.32,2,    33.58,2,     0.02,2,     2.28,2,    0.233,3,    0.136,3,    0.023,2,   1.8050,2,     8.89,2,   7.908,2,   -999.0,9,  0.0070,   0.003,   0.040,   0.320
    06AQANTX_4,   A12,   588,  1,     18,     18,2,19920613,0204,-62.5000,   0.0000, 5307,    449.6,   0.4071,  34.6822,2,  34.6834,2,  0.3879,    198.8,2,   120.42,2,    33.43,2,     0.02,2,     2.26,2,    0.220,2,    0.101,2, -999.000,9,   1.8680,2,     9.01,2,   8.144,2,   -999.0,9,  0.0070,-999.000,   0.041,   0.320
    06AQANTX_4,   A12,   588,  1,     17,     17,2,19920613,0204,-62.5000,   0.0000, 5307,    579.7,   0.3197,  34.6800,2,  34.6847,2,  0.2947,    198.2,2,   120.42,2,    33.84,2,     0.02,2,     2.29,2,    0.185,3,    0.124,4,    0.030,2,   1.8650,2,     8.84,2,   8.095,2,   -999.0,9,  0.0070,   0.003,   0.040,   0.320
    06AQANTX_4,   A12,   588,  1,     16,     16,2,19920613,0204,-62.5000,   0.0000, 5307,    700.6,   0.2651,  34.6788,2,  34.6785,2,  0.2345,    202.8,2,   124.17,2,    33.96,2,     0.02,2,     2.29,2,    0.145,2,    0.069,2,    0.021,2,-999.0000,5,    -9.00,5,-999.000,5,   -999.0,9,-999.0000,   0.003,-999.000,-999.000
    06AQANTX_4,   A12,   588,  1,     15,     15,2,19920613,0204,-62.5000,   0.0000, 5307,    849.6,   0.1889,  34.6757,2,  34.6769,2,  0.1512,    204.4,2,   125.10,2,    33.67,2,     0.02,2,     2.29,2, -999.000,9, -999.000,9,    0.031,2,   1.8640,2,     7.85,2,   8.151,2,   -999.0,9,  0.0070,   0.003,   0.041,   0.320
    06AQANTX_4,   A12,   588,  1,     14,     14,2,19920613,0204,-62.5000,   0.0000, 5307,    999.8,   0.1270,  34.6739,2,  34.6745,2,  0.0818,    208.5,2,   126.32,2,    33.60,2,     0.02,2,     2.26,2,    0.126,2,    0.064,2,    0.024,2,   1.8630,2,     8.00,2,   8.142,2,   -999.0,9,  0.0070,   0.003,   0.041,   0.320
    06AQANTX_4,   A12,   588,  1,     13,     13,2,19920613,0204,-62.5000,   0.0000, 5307,   1400.0,  -0.0252,  34.6675,2,  34.6697,2, -0.0916,    217.3,2,   126.23,2,    33.62,2,     0.01,2,     2.27,2,    0.143,2,    0.048,3,    0.031,2,   1.8700,2,     7.19,2,   8.203,2,   -999.0,9,  0.0070,   0.004,   0.041,   0.320
    06AQANTX_4,   A12,   588,  1,     12,     12,2,19920613,0204,-62.5000,   0.0000, 5307,   1799.4,  -0.1447,  34.6630,2,  34.6640,2, -0.2345,    229.6,2,   126.04,2,    33.48,2,     0.01,2,     2.27,2,    0.164,2,    0.077,2,    0.041,2,   1.8600,2,     6.42,2,   8.203,2,   -999.0,9,  0.0070,   0.012,   0.041,   0.320
    06AQANTX_4,   A12,   588,  1,     11,     11,2,19920613,0204,-62.5000,   0.0000, 5307,   2200.3,  -0.2268,  34.6596,2,  34.6616,2, -0.3427,    230.4,2,   125.66,2,    33.11,2,     0.01,2,     2.26,2,    0.185,2,    0.097,2,    0.008,2,-999.0000,5,    -9.00,5,-999.000,5,   -999.0,9,-999.0000,   0.002,-999.000,-999.000
    06AQANTX_4,   A12,   588,  1,     10,     10,2,19920613,0204,-62.5000,   0.0000, 5307,   2599.3,  -0.2890,  34.6571,2,  34.6594,2, -0.4334,    235.5,2,   125.19,2,    32.51,2,     0.02,2,     2.22,2,    0.182,2,    0.070,3, -999.000,9,   1.8530,2,     6.27,2,   8.185,2,   -999.0,9,  0.0070,-999.000,   0.041,   0.320
    06AQANTX_4,   A12,   588,  1,      9,      9,2,19920613,0204,-62.5000,   0.0000, 5307,   2999.6,  -0.3421,  34.6551,2,  34.6565,2, -0.5175,    238.7,2,   124.63,2,    32.75,2,     0.01,2,     2.22,2,    0.166,2,    0.095,3,    0.041,2,-999.0000,5,    -9.00,5,-999.000,5,   -999.0,9,-999.0000,   0.022,-999.000,-999.000
    06AQANTX_4,   A12,   588,  1,      8,      8,2,19920613,0204,-62.5000,   0.0000, 5307,   3399.4,  -0.3876,  34.6531,2,  34.6544,2, -0.5962,    241.8,2,   123.88,2,    32.99,2,     0.02,2,     2.22,2,    0.204,2,    0.120,3,    0.038,2,-999.0000,5,    -9.00,5,-999.000,5,   -999.0,9,-999.0000,   0.003,-999.000,-999.000
    06AQANTX_4,   A12,   588,  1,      7,      7,2,19920613,0204,-62.5000,   0.0000, 5307,   3799.4,  -0.4338,  34.6504,2,  34.6529,2, -0.6778,    244.7,2,   123.59,2,    32.53,2,     0.02,2,     2.21,2,    0.197,2,    0.112,3,    0.032,2,   1.8690,2,     4.77,2,   8.224,2,   -999.0,9,  0.0070,   0.012,   0.040,   0.310
    06AQANTX_4,   A12,   588,  1,      6,      6,2,19920613,0204,-62.5000,   0.0000, 5307,   4199.3,  -0.4936,  34.6474,2,  34.6484,2, -0.7747,    250.6,2,   118.98,2,    32.39,2,     0.02,2,     2.20,2,    0.377,2,    0.264,4,    0.053,2,   2.1170,4,     4.27,2,   8.325,2,   -999.0,9,  0.0080,   0.039,   0.041,   0.310
    06AQANTX_4,   A12,   588,  1,      5,      5,2,19920613,0204,-62.5000,   0.0000, 5307,   4599.6,  -0.5034,  34.6456,2,  34.6473,2, -0.8252,    251.9,2,   117.94,2,    32.37,2,     0.01,2,     2.20,2,    0.468,2,    0.234,2,    0.050,2,  -0.0010,4,    44.31,4,  -0.022,4,   -999.0,9,  0.0000,   0.005,   0.000,   0.310
    06AQANTX_4,   A12,   588,  1,      4,      4,2,19920613,0204,-62.5000,   0.0000, 5307,   4999.4,  -0.4755,  34.6442,2,  34.6459,2, -0.8414,    252.0,2,   119.35,2,    32.56,2,     0.01,2,     2.20,2,    0.450,2,    0.227,2, -999.000,9,   1.7500,4,     0.26,4,   7.950,4,   -999.0,9,  0.0060,-999.000,   0.039,   0.310
    06AQANTX_4,   A12,   588,  1,      3,      3,2,19920613,0204,-62.5000,   0.0000, 5307,   5279.4,  -0.4460,  34.6450,2,  34.6470,2, -0.8445,   -999.0,9,   120.76,2,    32.53,2,     0.01,2,     2.18,2, -999.000,9, -999.000,9, -999.000,9,-999.0000,9,    -9.00,9,-999.000,9,   -999.0,9,-999.0000,-999.000,-999.000,-999.000
    06AQANTX_4,   A12,   588,  1,      2,      2,2,19920613,0204,-62.5000,   0.0000, 5307,   5349.7,  -0.4374,  34.6446,2,  34.6460,2, -0.8443,    251.7,2,   120.85,2,    32.27,2,     0.01,2,     2.18,2,    0.438,2,    0.240,3,    0.051,2,   1.8860,2,     4.18,2,   8.329,2,   -999.0,9,  0.0070,   0.005,   0.041,   0.310
    06AQANTX_4,   A12,   588,  1,      1,      1,2,19920613,0204,-62.5000,   0.0000, 5307,   5416.8,  -0.4295,  34.6451,2,  34.6467,2, -0.8444,   -999.0,9,   121.13,2,    32.47,2,     0.02,2,     2.18,2,    0.429,2,    0.228,3,    0.047,2,   2.3540,4,     3.86,2,   8.254,2,   -999.0,9,  0.0090,   0.004,   0.040,   0.310