BOTTLE,20061211WHPSIODBK
EXPOCODE,SECT_ID,STNNBR,CASTNO,SAMPNO,BTLNBR,BTLNBR_FLAG_W,DATE,TIME,LATITUDE,LONGITUDE,DEPTH,CTDPRS,CTDTMP,CTDSAL,CTDSAL_FLAG_W,SALNTY,SALNTY_FLAG_W,THETA,OXYGEN,OXYGEN_FLAG_W,SILCAT,SILCAT_FLAG_W,NITRAT,NITRAT_FLAG_W,NITRIT,NITRIT_FLAG_W,PHSPHT,PHSPHT_FLAG_W,CFC-11,CFC-11_FLAG_W,CFC-12,CFC-12_FLAG_W,TRITUM,TRITUM_FLAG_W,HELIUM,HELIUM_FLAG_W,DELHE3,DELHE3_FLAG_W,NEON,NEON_FLAG_W,TCARBN,TCARBN_FLAG_W,HELIER,TRITER,NEONER,DELHER
,,,,,,,,,,,,DBAR,ITS-90,PSS-78,,PSS-78,,DEG C,UMOL/KG,,UMOL/KG,,UMOL/KG,,UMOL/KG,,UMOL/KG,,PMOL/KG,,PMOL/KG,,TU,,NMOL/KG,,PERCNT,,NMOL/KG,,UMOL/KG,,NMOL/KG,TU,NMOL/KG,PERCNT
    06AQANTX_4,   A12,   554,  1,     24,     24,2,19920529,1611,-41.5167,   7.7333, 4705,     30.1,   8.9544,  34.3537,2,  34.3553,2,  8.9512,    292.7,2,     1.94,2,    12.59,2,     0.29,2,     0.96,2,    4.097,2,    1.853,2, -999.000,9,-999.0000,9,    -9.00,9,-999.000,9,   -999.0,9,-999.0000,-999.000,-999.000,-999.000
    06AQANTX_4,   A12,   554,  1,     23,     23,2,19920529,1611,-41.5167,   7.7333, 4705,     72.5,   8.9468,  34.3534,2,  34.3550,2,  8.9391,    291.7,2,     2.04,2,    12.56,2,     0.29,2,     0.98,2,    4.082,2,    1.878,2, -999.000,9,   1.7640,2,    -1.11,2,   7.519,2,   -999.0,9,  0.0070,-999.000,   0.038,   0.320
    06AQANTX_4,   A12,   554,  1,     22,     22,2,19920529,1611,-41.5167,   7.7333, 4705,    140.2,   8.9212,  34.3507,2,  34.3528,2,  8.9062,    291.3,2,     1.89,2,    12.59,2,     0.29,2,     0.99,2,    4.061,2,    1.862,2, -999.000,9,-999.0000,9,    -9.00,9,-999.000,9,   -999.0,9,-999.0000,-999.000,-999.000,-999.000
    06AQANTX_4,   A12,   554,  1,     21,     21,2,19920529,1611,-41.5167,   7.7333, 4705,    182.1,   8.9012,  34.4898,2,  34.4908,2,  8.8817,    267.6,2,     3.23,2,    14.86,2,     0.10,2,     1.08,2,    3.744,2,    1.647,2, -999.000,9,-999.0000,9,    -9.00,9,-999.000,9,   -999.0,9,-999.0000,-999.000,-999.000,-999.000
    06AQANTX_4,   A12,   554,  1,     20,     20,2,19920529,1611,-41.5167,   7.7333, 4705,    220.3,   8.5686,  34.5237,2,  34.5217,2,  8.5455,    258.3,2,     4.53,2,    16.61,2,     0.08,2,     1.17,2,    3.670,2,    1.556,2, -999.000,9,   0.5560,4,    -9.71,4,-999.000,9,   -999.0,9,  0.0020,-999.000,-999.000,   0.320
    06AQANTX_4,   A12,   554,  1,     19,     19,2,19920529,1611,-41.5167,   7.7333, 4705,    299.8,   7.6327,  34.4506,2,  34.4485,2,  7.6032,    258.4,2,     6.26,2,    19.55,2,     0.07,2,     1.36,2,    3.526,2,    1.522,2, -999.000,9,   1.7450,2,    -0.02,2,   7.562,2,   -999.0,9,  0.0070,-999.000,   0.038,   0.320
    06AQANTX_4,   A12,   554,  1,     18,     18,2,19920529,1611,-41.5167,   7.7333, 4705,    398.5,   6.2043,  34.3418,2,  34.3323,2,  6.1693,    245.8,2,    10.38,2,    24.97,2,     0.07,2,     1.70,2,    2.964,2,    1.313,2, -999.000,9,   1.7460,2,    -0.52,2,   7.601,2,   -999.0,9,  0.0070,-999.000,   0.038,   0.320
    06AQANTX_4,   A12,   554,  1,     17,     17,2,19920529,1611,-41.5167,   7.7333, 4705,    498.5,   5.0496,  34.2527,2,  34.2520,2,  5.0099,    253.1,2,    13.69,2,    27.07,2,     0.07,2,     1.83,2,    2.858,2,    1.251,2, -999.000,9,   1.7750,2,     0.09,2,   7.709,2,   -999.0,9,  0.0070,-999.000,   0.039,   0.320
    06AQANTX_4,   A12,   554,  1,     16,     16,2,19920529,1611,-41.5167,   7.7333, 4705,    601.6,   4.3207,  34.2272,2,  34.2288,2,  4.2758,    256.3,2,    17.99,2,    28.42,2,     0.08,2,     1.91,2,    2.534,2,    1.090,2, -999.000,9,   1.7840,2,     0.84,2,   7.756,2,   -999.0,9,  0.0070,-999.000,   0.039,   0.320
    06AQANTX_4,   A12,   554,  1,     15,     15,2,19920529,1611,-41.5167,   7.7333, 4705,    700.8,   3.8040,  34.2271,2,  34.2287,2,  3.7540,    253.3,2,    23.44,2,    29.90,2,     0.07,2,     2.02,2,    2.175,2,    0.886,2, -999.000,9,   1.7900,2,     1.24,2,   7.788,2,   -999.0,9,  0.0070,-999.000,   0.039,   0.320
    06AQANTX_4,   A12,   554,  1,     14,     14,2,19920529,1611,-41.5167,   7.7333, 4705,    848.6,   3.2919,  34.2517,2,  34.2548,2,  3.2338,    242.1,2,    32.16,2,    31.55,2,     0.06,2,     2.14,2,    1.713,2,    0.740,2, -999.000,9,   1.7810,2,     2.23,2,   7.751,2,   -999.0,9,  0.0070,-999.000,   0.039,   0.320
    06AQANTX_4,   A12,   554,  1,     13,     13,2,19920529,1611,-41.5167,   7.7333, 4705,   1000.8,   2.9838,  34.3218,2,  34.3227,2,  2.9163,    221.6,2,    43.10,2,    33.26,2,     0.06,2,     2.24,2,    1.117,2,    0.464,2, -999.000,9,   1.7990,2,     4.29,2,   7.895,2,   -999.0,9,  0.0070,-999.000,   0.039,   0.320
    06AQANTX_4,   A12,   554,  1,     12,     12,2,19920529,1611,-41.5167,   7.7333, 4705,   1202.8,   2.8048,  34.4376,2,  34.4404,2,  2.7233,    199.7,2,    56.37,2,    34.16,2,     0.07,2,     2.31,2,    0.504,2,    0.265,2, -999.000,9,   1.8120,4,     6.13,4,   7.861,4,   -999.0,9,  0.0160,-999.000,   0.079,   0.320
    06AQANTX_4,   A12,   554,  1,     11,     11,2,19920529,1611,-41.5167,   7.7333, 4705,   1501.3,   2.6531,  34.5781,2,  34.5826,4,  2.5492,    187.8,2,    66.12,2,    33.76,2,     0.06,2,     2.28,2,    0.197,2,    0.103,2, -999.000,9,   1.8060,2,     6.02,2,   7.875,2,   -999.0,9,  0.0070,-999.000,   0.039,   0.320
    06AQANTX_4,   A12,   554,  1,     10,     10,2,19920529,1611,-41.5167,   7.7333, 4705,   1797.7,   2.6176,  34.6892,2,  34.6902,2,  2.4893,    193.7,2,    68.13,2,    31.48,2,     0.05,2,     2.12,2,    0.089,2,    0.003,4, -999.000,9,-999.0000,9,    -9.00,9,-999.000,9,   -999.0,9,-999.0000,-999.000,-999.000,-999.000
    06AQANTX_4,   A12,   554,  1,      9,      9,2,19920529,1611,-41.5167,   7.7333, 4705,   2202.6,   2.5521,  34.7867,2,  34.7883,2,  2.3888,    213.8,2,    62.50,2,    28.33,2,     0.05,2,     1.89,2,    0.032,2,    0.032,4, -999.000,9,   1.8370,2,     7.41,2,   7.947,2,   -999.0,9,  0.0070,-999.000,   0.040,   0.320
    06AQANTX_4,   A12,   554,  1,      8,      8,2,19920529,1611,-41.5167,   7.7333, 4705,   2600.6,   2.3547,  34.8120,2,  34.8134,2,  2.1578,    224.5,2,    64.03,2,    27.12,2,     0.05,2,     1.82,2,    0.010,2,   -0.001,4, -999.000,9,   1.8050,2,     6.79,2,   7.903,2,   -999.0,9,  0.0070,-999.000,   0.040,   0.320
    06AQANTX_4,   A12,   554,  1,      7,      7,2,19920529,1611,-41.5167,   7.7333, 4705,   3000.8,   2.2628,  34.8336,2,  34.8355,2,  2.0286,    235.3,2,    62.23,2,    26.09,2,     0.05,2,     1.73,2,    0.095,4,    0.205,4, -999.000,9,   1.8430,2,     6.49,2,   7.999,2,   -999.0,9,  0.0070,-999.000,   0.040,   0.320
    06AQANTX_4,   A12,   554,  1,      6,      6,2,19920529,1611,-41.5167,   7.7333, 4705,   3401.5,   2.0161,  34.8201,2,  34.8219,2,  1.7467,    233.4,2,    70.55,2,    26.95,2,     0.04,2,     1.80,2,    0.017,2,    0.037,4, -999.000,9,   1.8380,2,     5.95,2,   8.051,2,   -999.0,9,  0.0070,-999.000,   0.040,   0.320
    06AQANTX_4,   A12,   554,  1,      5,      5,2,19920529,1611,-41.5167,   7.7333, 4705,   3801.8,   1.5593,  34.7784,2,  34.7793,2,  1.2597,    228.8,2,    88.97,2,    28.96,2,     0.05,2,     1.95,2,    0.008,2,    0.035,4, -999.000,9,   1.8000,4,    -1.34,4,   7.968,2,   -999.0,9,  0.0070,-999.000,   0.040,   0.320
    06AQANTX_4,   A12,   554,  1,      4,      4,2,19920529,1611,-41.5167,   7.7333, 4705,   4202.0,   1.1411,  34.7402,2,  34.7402,2,  0.8104,    226.7,2,   103.71,2,    30.96,2,     0.05,2,     2.10,2,    0.011,2,    0.103,4, -999.000,9,   1.8460,2,     7.53,2,   8.001,2,   -999.0,9,  0.0070,-999.000,   0.040,   0.320
    06AQANTX_4,   A12,   554,  1,      3,      3,2,19920529,1611,-41.5167,   7.7333, 4705,   4493.5,   1.0452,  34.7302,2,  34.7316,2,  0.6851,    225.8,2,   107.80,2,    31.45,2,     0.05,2,     2.10,2,    0.023,2,    0.075,4, -999.000,9,   1.8520,2,     7.05,2,   8.062,2,   -999.0,9,  0.0070,-999.000,   0.040,   0.320
    06AQANTX_4,   A12,   554,  1,      1,      1,2,19920529,1611,-41.5167,   7.7333, 4705,   4777.6,   1.0530,  34.7279,2,  34.7287,2,  0.6601,   -999.0,9,   110.02,2,    31.74,2,     0.04,2,     2.16,2,    0.040,2,   -0.007,4, -999.000,9,-999.0000,9,    -9.00,9,-999.000,9,   -999.0,9,-999.0000,-999.000,-999.000,-999.000
    06AQANTX_4,   A12,   554,  1,      2,      2,2,19920529,1611,-41.5167,   7.7333, 4705,   4777.9,   1.0529,  34.7279,2,  34.7284,2,  0.6599,    226.2,2,   109.54,2,    31.71,2,     0.04,2,     2.13,2,    0.072,2,    0.034,4, -999.000,9,   1.8580,2,     7.10,2,   8.082,2,   -999.0,9,  0.0070,-999.000,   0.040,   0.320
    06AQANTX_4,   A12,   555,  1,     24,     24,2,19920529,2322,-41.7667,   6.9000, 4882,     27.1,   9.7940,  34.4337,2,  34.4347,2,  9.7909,    286.4,2,     1.36,2,     8.88,2,     0.33,2,     0.80,2,    3.779,2,    1.876,2, -999.000,9,-999.0000,9,    -9.00,9,-999.000,9,   -999.0,9,-999.0000,-999.000,-999.000,-999.000
    06AQANTX_4,   A12,   555,  1,     23,     23,2,19920529,2322,-41.7667,   6.9000, 4882,     66.5,   9.8062,  34.4370,2,  34.4360,2,  9.7987,    286.5,2,     1.29,2,     8.95,2,     0.33,2,     0.80,2, -999.000,9, -999.000,9, -999.000,9,-999.0000,9,    -9.00,9,-999.000,9,   -999.0,9,-999.0000,-999.000,-999.000,-999.000
    06AQANTX_4,   A12,   555,  1,     22,     22,2,19920529,2322,-41.7667,   6.9000, 4882,    139.4,   9.7152,  34.4369,2,  34.4347,2,  9.6995,    284.6,2,     1.38,2,     9.30,2,     0.32,2,     0.82,2,    3.774,2,    2.026,3, -999.000,9,-999.0000,9,    -9.00,9,-999.000,9,   -999.0,9,-999.0000,-999.000,-999.000,-999.000
    06AQANTX_4,   A12,   555,  1,     21,     21,2,19920529,2322,-41.7667,   6.9000, 4882,    179.2,   9.4489,  34.4954,2,  34.4989,2,  9.4290,    271.3,2,     2.46,2,    11.62,2,     0.12,2,     0.95,2,    3.834,2,    1.962,2, -999.000,9,-999.0000,9,    -9.00,9,-999.000,9,   -999.0,9,-999.0000,-999.000,-999.000,-999.000
    06AQANTX_4,   A12,   555,  1,     20,     20,2,19920529,2322,-41.7667,   6.9000, 4882,    216.7,   8.9416,  34.5249,2,  34.5225,2,  8.9183,    262.8,2,     3.46,2,    13.66,2,     0.10,2,     1.07,2,    3.630,2,    1.749,2, -999.000,9,-999.0000,9,    -9.00,9,-999.000,9,   -999.0,9,-999.0000,-999.000,-999.000,-999.000
    06AQANTX_4,   A12,   555,  1,     19,     19,2,19920529,2322,-41.7667,   6.9000, 4882,    300.9,   8.3298,  34.5147,2,  34.5133,2,  8.2986,    255.1,2,     4.92,2,    16.11,2,     0.11,2,     1.22,2,    3.455,2,    1.628,2, -999.000,9,-999.0000,9,    -9.00,9,-999.000,9,   -999.0,9,-999.0000,-999.000,-999.000,-999.000
    06AQANTX_4,   A12,   555,  1,     18,     18,2,19920529,2322,-41.7667,   6.9000, 4882,    400.2,   7.2399,  34.4301,2,  34.4280,2,  7.2015,    243.5,2,     7.56,2,    20.55,2,     0.11,2,     1.47,2,    3.123,2,    1.466,2, -999.000,9,-999.0000,9,    -9.00,9,-999.000,9,   -999.0,9,-999.0000,-999.000,-999.000,-999.000
    06AQANTX_4,   A12,   555,  1,     17,     17,2,19920529,2322,-41.7667,   6.9000, 4882,    501.0,   5.7685,  34.3113,2,  34.3101,2,  5.7258,    244.4,2,    11.32,2,    24.66,2,     0.11,2,     1.72,2, -999.000,9, -999.000,9, -999.000,9,-999.0000,9,    -9.00,9,-999.000,9,   -999.0,9,-999.0000,-999.000,-999.000,-999.000
    06AQANTX_4,   A12,   555,  1,     16,     16,2,19920529,2322,-41.7667,   6.9000, 4882,    602.1,   4.7569,  34.2421,2,  34.2404,2,  4.7099,    255.7,2,    14.90,2,    26.64,2,     0.12,2,     1.84,2,    2.673,2,    1.247,2, -999.000,9,-999.0000,9,    -9.00,9,-999.000,9,   -999.0,9,-999.0000,-999.000,-999.000,-999.000
    06AQANTX_4,   A12,   555,  1,     15,     15,2,19920529,2322,-41.7667,   6.9000, 4882,    700.1,   4.2724,  34.2345,2,  34.2309,2,  4.2199,    253.5,2,    18.93,2,    27.81,2,     0.12,2,     1.91,2, -999.000,9, -999.000,9, -999.000,9,-999.0000,9,    -9.00,9,-999.000,9,   -999.0,9,-999.0000,-999.000,-999.000,-999.000
    06AQANTX_4,   A12,   555,  1,     14,     14,2,19920529,2322,-41.7667,   6.9000, 4882,    850.0,   3.5467,  34.2425,2,  34.2401,2,  3.4868,    247.3,2,    27.59,2,    29.85,2,     0.11,2,     2.06,2,    1.887,2,    0.817,2, -999.000,9,-999.0000,9,    -9.00,9,-999.000,9,   -999.0,9,-999.0000,-999.000,-999.000,-999.000
    06AQANTX_4,   A12,   555,  1,     13,     13,2,19920529,2322,-41.7667,   6.9000, 4882,    999.9,   3.1344,  34.2828,2,  34.2814,2,  3.0659,    232.2,2,    36.85,2,    31.60,2,     0.12,2,     2.16,2,    1.445,2,    0.710,2, -999.000,9,-999.0000,9,    -9.00,9,-999.000,9,   -999.0,9,-999.0000,-999.000,-999.000,-999.000
    06AQANTX_4,   A12,   555,  1,     12,     12,2,19920529,2322,-41.7667,   6.9000, 4882,   1202.9,   2.8285,  34.3814,2,  34.3779,2,  2.7469,    209.2,2,    50.56,2,    33.25,2,     0.12,2,     2.28,2, -999.000,9, -999.000,9, -999.000,9,-999.0000,9,    -9.00,9,-999.000,9,   -999.0,9,-999.0000,-999.000,-999.000,-999.000
    06AQANTX_4,   A12,   555,  1,     11,     11,2,19920529,2322,-41.7667,   6.9000, 4882,   1499.1,   2.7240,  34.5559,2,  34.5537,2,  2.6196,    189.4,2,    64.20,2,    33.48,2,     0.11,2,     2.27,2,    0.190,2,    0.107,3, -999.000,9,-999.0000,9,    -9.00,9,-999.000,9,   -999.0,9,-999.0000,-999.000,-999.000,-999.000
    06AQANTX_4,   A12,   555,  1,     10,     10,2,19920529,2322,-41.7667,   6.9000, 4882,   1800.1,   2.7048,  34.6795,2,  34.6790,2,  2.5751,    193.0,2,    65.60,2,    31.23,2,     0.11,2,     2.11,2, -999.000,9, -999.000,9, -999.000,9,-999.0000,9,    -9.00,9,-999.000,9,   -999.0,9,-999.0000,-999.000,-999.000,-999.000
    06AQANTX_4,   A12,   555,  1,      9,      9,2,19920529,2322,-41.7667,   6.9000, 4882,   2200.8,   2.5967,  34.7821,2,  34.7811,2,  2.4328,    213.1,2,    61.76,2,    28.03,2,     0.10,2,     1.89,2,    0.018,2,    0.019,3, -999.000,9,-999.0000,9,    -9.00,9,-999.000,9,   -999.0,9,-999.0000,-999.000,-999.000,-999.000
    06AQANTX_4,   A12,   555,  1,      8,      8,2,19920529,2322,-41.7667,   6.9000, 4882,   2598.5,   2.4294,  34.8180,2,  34.8162,2,  2.2313,    227.4,2,    61.25,2,    26.58,2,     0.09,2,     1.79,2, -999.000,9, -999.000,9, -999.000,9,-999.0000,9,    -9.00,9,-999.000,9,   -999.0,9,-999.0000,-999.000,-999.000,-999.000
    06AQANTX_4,   A12,   555,  1,      7,      7,2,19920529,2322,-41.7667,   6.9000, 4882,   2998.3,   2.2453,  34.8261,2,  34.8245,2,  2.0118,    231.6,2,  -999.00,9,  -999.00,9,  -999.00,9,  -999.00,9,    0.018,2,    0.028,4, -999.000,9,-999.0000,9,    -9.00,9,-999.000,9,   -999.0,9,-999.0000,-999.000,-999.000,-999.000
    06AQANTX_4,   A12,   555,  1,      6,      6,2,19920529,2322,-41.7667,   6.9000, 4882,   3396.7,   1.9357,  34.8045,2,  34.8034,2,  1.6689,    229.5,2,    75.95,2,    27.58,2,     0.08,2,     1.85,2, -999.000,9, -999.000,9, -999.000,9,-999.0000,9,    -9.00,9,-999.000,9,   -999.0,9,-999.0000,-999.000,-999.000,-999.000
    06AQANTX_4,   A12,   555,  1,      5,      5,2,19920529,2322,-41.7667,   6.9000, 4882,   3800.3,   1.4921,  34.7665,2,  34.7650,2,  1.1946,    226.1,2,    92.88,2,    29.65,2,     0.06,2,     2.00,2,    0.010,2,    0.008,2, -999.000,9,-999.0000,9,    -9.00,9,-999.000,9,   -999.0,9,-999.0000,-999.000,-999.000,-999.000
    06AQANTX_4,   A12,   555,  1,      4,      4,2,19920529,2322,-41.7667,   6.9000, 4882,   4200.9,   1.1458,  34.7409,2,  34.7400,2,  0.8150,    226.5,2,   104.24,2,    30.85,2,     0.06,2,     2.09,2, -999.000,9, -999.000,9, -999.000,9,-999.0000,9,    -9.00,9,-999.000,9,   -999.0,9,-999.0000,-999.000,-999.000,-999.000
    06AQANTX_4,   A12,   555,  1,      3,      3,2,19920529,2322,-41.7667,   6.9000, 4882,   4499.5,   1.0548,  34.7307,2,  34.7289,2,  0.6937,    226.3,2,   107.71,2,    31.49,2,     0.07,2,     2.12,2, -999.000,9, -999.000,9, -999.000,9,-999.0000,9,    -9.00,9,-999.000,9,   -999.0,9,-999.0000,-999.000,-999.000,-999.000
    06AQANTX_4,   A12,   555,  1,      2,      2,2,19920529,2322,-41.7667,   6.9000, 4882,   4969.1,   1.0792,  34.7279,2,  34.7282,2,  0.6629,    226.5,2,   110.10,2,    31.32,2,     0.08,2,     2.14,2, -999.000,9, -999.000,9, -999.000,9,-999.0000,9,    -9.00,9,-999.000,9,   -999.0,9,-999.0000,-999.000,-999.000,-999.000
    06AQANTX_4,   A12,   555,  1,      1,      1,2,19920529,2322,-41.7667,   6.9000, 4882,   4970.5,   1.0786,  34.7279,2,  34.7270,2,  0.6621,    226.9,2,   109.70,2,    31.17,2,     0.10,2,     2.15,2, -999.000,9, -999.000,9, -999.000,9,-999.0000,9,    -9.00,9,-999.000,9,   -999.0,9,-999.0000,-999.000,-999.000,-999.000