BOTTLE,20061211WHPSIODBK
EXPOCODE,SECT_ID,STNNBR,CASTNO,SAMPNO,BTLNBR,BTLNBR_FLAG_W,DATE,TIME,LATITUDE,LONGITUDE,DEPTH,CTDPRS,CTDTMP,CTDSAL,CTDSAL_FLAG_W,SALNTY,SALNTY_FLAG_W,THETA,OXYGEN,OXYGEN_FLAG_W,SILCAT,SILCAT_FLAG_W,NITRAT,NITRAT_FLAG_W,NITRIT,NITRIT_FLAG_W,PHSPHT,PHSPHT_FLAG_W,CFC-11,CFC-11_FLAG_W,CFC-12,CFC-12_FLAG_W,TRITUM,TRITUM_FLAG_W,HELIUM,HELIUM_FLAG_W,DELHE3,DELHE3_FLAG_W,NEON,NEON_FLAG_W,TCARBN,TCARBN_FLAG_W,HELIER,TRITER,NEONER,DELHER
,,,,,,,,,,,,DBAR,ITS-90,PSS-78,,PSS-78,,DEG C,UMOL/KG,,UMOL/KG,,UMOL/KG,,UMOL/KG,,UMOL/KG,,PMOL/KG,,PMOL/KG,,TU,,NMOL/KG,,PERCNT,,NMOL/KG,,UMOL/KG,,NMOL/KG,TU,NMOL/KG,PERCNT
    06AQANTX_4,  SR04,   638,  1,     24,     24,2,19920726,1508,-60.2167, -47.1833,  542,      3.5,  -1.8385,  34.1573,2,-999.0000,9, -1.8386,   -999.0,9,    78.14,2,    28.55,2,     0.25,2,     1.90,2, -999.000,9, -999.000,9, -999.000,9,-999.0000,9,    -9.00,9,-999.000,9,   -999.0,9,-999.0000,-999.000,-999.000,-999.000
    06AQANTX_4,  SR04,   638,  1,     23,     23,2,19920726,1508,-60.2167, -47.1833,  542,      9.7,  -1.8406,  34.1585,2,-999.0000,9, -1.8408,   -999.0,9,  -999.00,9,  -999.00,9,  -999.00,9,  -999.00,9, -999.000,9, -999.000,9, -999.000,9,-999.0000,9,    -9.00,9,-999.000,9,   -999.0,9,-999.0000,-999.000,-999.000,-999.000
    06AQANTX_4,  SR04,   638,  1,     22,     22,2,19920726,1508,-60.2167, -47.1833,  542,      9.8,  -1.8422,  34.1597,2,  34.1582,2, -1.8424,    315.7,2,    78.00,2,    28.47,2,     0.25,2,     1.89,2,    5.665,2,    2.722,2,    0.107,2,   1.8260,2,     0.11,2,   8.175,2,   2199.2,2,  0.0070,   0.006,   0.040,   0.310
    06AQANTX_4,  SR04,   638,  1,     20,     20,2,19920726,1508,-60.2167, -47.1833,  542,     27.0,  -1.8408,  34.1644,2,-999.0000,9, -1.8413,   -999.0,9,  -999.00,9,  -999.00,9,  -999.00,9,  -999.00,9, -999.000,9, -999.000,9, -999.000,9,   1.8190,2,     0.31,2,   8.186,2,   -999.0,9,  0.0070,-999.000,   0.040,   0.310
    06AQANTX_4,  SR04,   638,  1,     21,     21,2,19920726,1508,-60.2167, -47.1833,  542,     27.1,  -1.8417,  34.1628,2,  34.1591,2, -1.8422,    316.1,2,    78.03,2,    28.44,2,     0.25,2,     1.90,2, -999.000,9, -999.000,9, -999.000,9,-999.0000,9,    -9.00,9,-999.000,9,   -999.0,9,-999.0000,-999.000,-999.000,-999.000
    06AQANTX_4,  SR04,   638,  1,     19,     19,2,19920726,1508,-60.2167, -47.1833,  542,     47.8,  -1.8401,  34.1657,2,-999.0000,9, -1.8410,   -999.0,9,  -999.00,9,  -999.00,9,  -999.00,9,  -999.00,9, -999.000,9, -999.000,9, -999.000,9,-999.0000,9,    -9.00,9,-999.000,9,   -999.0,9,-999.0000,-999.000,-999.000,-999.000
    06AQANTX_4,  SR04,   638,  1,     18,     18,2,19920726,1508,-60.2167, -47.1833,  542,     67.3,  -1.8346,  34.1660,2,  34.1624,2, -1.8359,    315.7,2,    77.89,2,    28.41,2,     0.25,2,     1.89,2,    5.293,2,    2.340,2,    0.103,2,   2.0600,5,     0.31,5,   8.124,2,   2200.2,2,  0.0070,   0.009,   0.040,   0.310
    06AQANTX_4,  SR04,   638,  1,     17,     17,2,19920726,1508,-60.2167, -47.1833,  542,     67.3,  -1.8310,  34.1681,2,-999.0000,9, -1.8323,   -999.0,9,    77.89,2,    28.41,2,  -999.00,9,     1.89,2, -999.000,9, -999.000,9, -999.000,9,-999.0000,9,    -9.00,9,-999.000,9,   -999.0,9,-999.0000,-999.000,-999.000,-999.000
    06AQANTX_4,  SR04,   638,  1,     15,     15,2,19920726,1508,-60.2167, -47.1833,  542,     97.3,  -1.6935,  34.2123,2,  34.2195,2, -1.6955,    304.1,2,    80.52,2,    29.16,2,     0.21,2,     1.95,2, -999.000,9, -999.000,9,    0.099,2,   1.8200,2,     1.03,2,   8.198,2,   2205.7,2,  0.0070,   0.007,   0.040,   0.310
    06AQANTX_4,  SR04,   638,  1,     16,     16,2,19920726,1508,-60.2167, -47.1833,  542,     97.4,  -1.6960,  34.2100,2,-999.0000,9, -1.6980,   -999.0,9,  -999.00,9,  -999.00,9,  -999.00,9,  -999.00,9, -999.000,9, -999.000,9, -999.000,9,-999.0000,9,    -9.00,9,-999.000,9,   -999.0,9,-999.0000,-999.000,-999.000,-999.000
    06AQANTX_4,  SR04,   638,  1,     13,     13,2,19920726,1508,-60.2167, -47.1833,  542,    117.8,  -1.5112,  34.2676,2,  34.3060,4, -1.5138,    285.5,2,    86.87,2,    30.43,2,     0.16,2,     2.04,2, -999.000,9, -999.000,9, -999.000,9,-999.0000,9,    -9.00,9,-999.000,9,   2219.4,2,-999.0000,-999.000,-999.000,-999.000
    06AQANTX_4,  SR04,   638,  1,     14,     14,2,19920726,1508,-60.2167, -47.1833,  542,    117.9,  -1.5304,  34.2490,2,-999.0000,9, -1.5330,   -999.0,9,  -999.00,9,  -999.00,9,  -999.00,9,  -999.00,9, -999.000,9, -999.000,9, -999.000,9,-999.0000,9,    -9.00,9,-999.000,9,   -999.0,9,-999.0000,-999.000,-999.000,-999.000
    06AQANTX_4,  SR04,   638,  1,     12,     12,2,19920726,1508,-60.2167, -47.1833,  542,    157.0,  -0.6074,  34.4812,2,  34.4787,2, -0.6123,    242.6,2,   100.20,2,    32.60,2,     0.06,2,     2.19,2, -999.000,9, -999.000,9,    0.072,2,   2.0490,5,     4.84,5,   8.107,2,   2240.8,2,  0.0070,   0.040,   0.040,   0.310
    06AQANTX_4,  SR04,   638,  1,     11,     11,2,19920726,1508,-60.2167, -47.1833,  542,    197.7,  -0.2982,  34.5538,2,  34.5686,3, -0.3049,    225.6,2,   107.33,2,    33.25,2,     0.02,2,     2.23,2,    1.488,2,    0.657,2,    0.050,2,   1.6070,4,    -9.00,9,   5.249,4,   2248.9,2,  0.0060,   0.041,   0.026,-999.000
    06AQANTX_4,  SR04,   638,  1,     10,     10,2,19920726,1508,-60.2167, -47.1833,  542,    247.5,  -0.0180,  34.6181,2,  34.6184,2, -0.0272,    216.9,2,   109.96,2,    33.24,2,     0.02,2,     2.25,2, -999.000,9, -999.000,9, -999.000,9,-999.0000,9,    -9.00,9,-999.000,9,   2253.6,2,-999.0000,-999.000,-999.000,-999.000
    06AQANTX_4,  SR04,   638,  1,      9,      9,2,19920726,1508,-60.2167, -47.1833,  542,    298.1,   0.0572,  34.6346,2,-999.0000,9,  0.0458,   -999.0,9,   112.40,2,    33.49,2,  -999.00,9,     2.25,2, -999.000,9, -999.000,9, -999.000,9,-999.0000,9,    -9.00,9,-999.000,9,   -999.0,9,-999.0000,-999.000,-999.000,-999.000
    06AQANTX_4,  SR04,   638,  1,      8,      8,2,19920726,1508,-60.2167, -47.1833,  542,    298.1,   0.0689,  34.6259,2,  34.6398,3,  0.0575,    214.5,2,   112.40,2,    33.49,2,     0.01,2,     2.25,2, -999.000,9, -999.000,9,    0.033,2,-999.0000,5,    -9.00,5,-999.000,5,   2255.7,2,-999.0000,   0.003,-999.000,-999.000
    06AQANTX_4,  SR04,   638,  1,      7,      7,2,19920726,1508,-60.2167, -47.1833,  542,    346.8,   0.1068,  34.6487,2,  34.6473,2,  0.0932,    212.2,2,   114.44,2,    33.57,2,     0.01,2,     2.27,2,    0.644,2,    0.291,2, -999.000,9,-999.0000,9,    -9.00,9,-999.000,9,   2255.4,2,-999.0000,-999.000,-999.000,-999.000
    06AQANTX_4,  SR04,   638,  1,      6,      6,2,19920726,1508,-60.2167, -47.1833,  542,    397.2,   0.1179,  34.6537,2,  34.6520,2,  0.1021,    212.2,2,   115.71,2,    33.59,2,     0.01,2,     2.28,2,    0.614,2,    0.278,2,    0.050,2,   1.8560,2,     7.63,2,   8.131,2,   2256.4,2,  0.0070,   0.010,   0.040,   0.310
    06AQANTX_4,  SR04,   638,  1,      5,      5,2,19920726,1508,-60.2167, -47.1833,  542,    445.9,   0.1254,  34.6546,2,  34.6536,2,  0.1075,    211.2,2,   115.88,2,    33.54,2,     0.01,2,     2.28,2,    0.584,2,    0.264,2,    0.045,2,-999.0000,5,    -9.00,5,-999.000,5,   2255.7,2,-999.0000,   0.005,-999.000,-999.000
    06AQANTX_4,  SR04,   638,  1,      4,      4,2,19920726,1508,-60.2167, -47.1833,  542,    497.1,   0.1310,  34.6561,2,-999.0000,9,  0.1108,   -999.0,9,   116.03,2,    33.52,2,  -999.00,9,     2.27,2, -999.000,9, -999.000,9, -999.000,9,-999.0000,9,    -9.00,9,-999.000,9,   -999.0,9,-999.0000,-999.000,-999.000,-999.000
    06AQANTX_4,  SR04,   638,  1,      3,      3,2,19920726,1508,-60.2167, -47.1833,  542,    497.1,   0.1314,  34.6557,2,  34.6557,2,  0.1112,    211.5,2,   116.03,2,    33.52,2,     0.01,2,     2.27,2,    0.563,2,    0.258,2,    0.053,2,   1.8540,2,     7.75,2,   8.140,2,   2257.0,2,  0.0070,   0.004,   0.040,   0.310
    06AQANTX_4,  SR04,   638,  1,      2,      2,2,19920726,1508,-60.2167, -47.1833,  542,    526.8,   0.1330,  34.6577,2,  34.6571,2,  0.1114,    211.4,2,   116.86,2,    33.57,2,     0.01,2,     2.27,2,    0.549,2,    0.251,2,    0.037,2,   1.8370,2,     7.33,2,   8.110,2,   2258.0,2,  0.0070,   0.007,   0.040,   0.310
    06AQANTX_4,  SR04,   638,  1,      1,      1,2,19920726,1508,-60.2167, -47.1833,  542,    545.6,   0.1357,  34.6586,2,  34.6566,2,  0.1132,    213.1,2,   117.20,2,    33.54,2,     0.02,2,     2.28,2,    0.536,2,    0.250,2,    0.044,2,-999.0000,5,    -9.00,5,-999.000,5,   2256.5,2,-999.0000,   0.005,-999.000,-999.000
    06AQANTX_4,  SR04,   639,  1,     18,     18,2,19920726,1905,-60.0833, -47.3000, 1531,      9.7,  -1.8337,  34.1654,2,  34.1629,2, -1.8339,    317.4,2,    78.61,2,    28.75,2,     0.26,2,     1.93,2,    5.248,2,    2.324,2,    0.176,2,-999.0000,5,    -9.00,5,-999.000,5,   2202.7,2,-999.0000,   0.006,-999.000,-999.000
    06AQANTX_4,  SR04,   639,  1,     17,     17,2,19920726,1905,-60.0833, -47.3000, 1531,     32.7,  -1.8322,  34.1704,2,  34.1640,2, -1.8328,    316.4,2,    78.39,2,    28.71,2,     0.26,2,     1.95,2,    5.505,2,    2.444,2,    0.142,2,-999.0000,5,    -9.00,5,-999.000,5,   2200.5,2,-999.0000,   0.006,-999.000,-999.000
    06AQANTX_4,  SR04,   639,  1,     16,     16,2,19920726,1905,-60.0833, -47.3000, 1531,     77.7,  -1.7889,  34.1883,2,  34.1889,2, -1.7904,    314.0,2,    79.40,2,    28.78,2,     0.24,2,     1.96,2, -999.000,9, -999.000,9,    0.159,2,-999.0000,5,    -9.00,5,-999.000,5,   2205.4,2,-999.0000,   0.005,-999.000,-999.000
    06AQANTX_4,  SR04,   639,  1,     15,     15,2,19920726,1905,-60.0833, -47.3000, 1531,    117.5,  -1.5866,  34.2421,2,  34.2446,2, -1.5891,   -999.0,9,    83.15,2,    29.66,2,     0.20,2,     2.01,2,    4.815,2,    2.137,2,    0.120,2,   1.8270,2,     1.49,2,   8.176,2,   2212.0,2,  0.0070,   0.005,   0.040,   0.310
    06AQANTX_4,  SR04,   639,  1,     14,     14,2,19920726,1905,-60.0833, -47.3000, 1531,    177.4,  -0.7986,  34.4285,2,  34.4425,3, -0.8038,    252.5,2,    97.85,2,    32.43,2,     0.06,2,     2.18,2,    2.737,2,    1.213,2,    0.085,2,   2.2120,5,     3.94,5,   8.223,2,   2235.6,2,  0.0080,   0.004,   0.040,   0.310
    06AQANTX_4,  SR04,   639,  1,     13,     13,2,19920726,1905,-60.0833, -47.3000, 1531,    247.5,  -0.3304,  34.5607,2,  34.5699,2, -0.3389,    230.3,2,   103.95,2,    33.08,2,     0.01,2,     2.20,2,    1.655,2,    0.735,2,    0.070,2,-999.0000,5,    -9.00,5,-999.000,5,   2247.5,2,-999.0000,   0.003,-999.000,-999.000
    06AQANTX_4,  SR04,   639,  1,     12,     12,2,19920726,1905,-60.0833, -47.3000, 1531,    347.2,   0.0882,  34.6383,2,  34.6346,2,  0.0747,    215.7,2,   108.36,2,    33.24,2,     0.00,2,     2.24,2,    0.932,2,    0.411,2,    0.059,2,   1.9530,4,     7.43,2,   8.616,4,   2257.1,2,  0.0070,   0.005,   0.042,   0.310
    06AQANTX_4,  SR04,   639,  1,     11,     11,2,19920726,1905,-60.0833, -47.3000, 1531,    497.3,   0.2367,  34.6597,2,  34.6583,2,  0.2160,    209.8,2,   113.64,2,    33.42,2,     0.00,2,     2.25,2,    0.573,2,    0.262,2,    0.059,2,   1.9460,5,     7.53,5,   8.116,2,   2257.9,2,  0.0070,   0.006,   0.040,   0.310
    06AQANTX_4,  SR04,   639,  1,     10,     10,2,19920726,1905,-60.0833, -47.3000, 1531,    647.2,   0.3547,  34.6768,2,  34.6749,2,  0.3263,    205.0,2,   117.43,2,    33.68,2,     0.00,2,     2.27,2,    0.292,2,    0.136,2,    0.050,2,-999.0000,5,    -9.00,5,-999.000,5,   2259.2,2,-999.0000,   0.013,-999.000,-999.000
    06AQANTX_4,  SR04,   639,  1,      9,      9,2,19920726,1905,-60.0833, -47.3000, 1531,    796.9,   0.2289,  34.6698,2,  34.6673,2,  0.1937,    209.9,2,   117.81,2,    33.60,2,     0.00,2,     2.26,2,    0.385,2,    0.186,2,    0.051,2,-999.0000,5,    -9.00,5,-999.000,5,   2257.6,2,-999.0000,   0.003,-999.000,-999.000
    06AQANTX_4,  SR04,   639,  1,      8,      8,2,19920726,1905,-60.0833, -47.3000, 1531,    997.1,   0.1307,  34.6643,2,  34.6642,2,  0.0857,   -999.0,9,   118.86,2,    33.54,2,     0.00,2,     2.26,2,    0.429,2,    0.192,2,    0.053,2,   1.8570,2,     7.14,2,   8.170,2,   2257.8,2,  0.0070,   0.008,   0.040,   0.310
    06AQANTX_4,  SR04,   639,  1,      7,      7,2,19920726,1905,-60.0833, -47.3000, 1531,   1196.7,   0.1307,  34.6665,2,  34.6637,2,  0.0746,    215.5,2,   119.61,2,    33.54,2,     0.00,2,     2.27,2,    0.386,2,    0.175,2,    0.033,2,   1.8700,4,     7.27,4,   8.159,4,   2256.0,2,  0.0160,   0.006,   0.081,   0.310
    06AQANTX_4,  SR04,   639,  1,      6,      6,2,19920726,1905,-60.0833, -47.3000, 1531,   1296.9,   0.1329,  34.6666,2,  34.6637,2,  0.0709,    215.0,2,   119.71,2,    33.53,2,     0.00,2,     2.26,2,    0.374,2,    0.179,2,    0.028,2,-999.0000,5,    -9.00,5,-999.000,5,   2256.3,2,-999.0000,   0.009,-999.000,-999.000
    06AQANTX_4,  SR04,   639,  1,      5,      5,2,19920726,1905,-60.0833, -47.3000, 1531,   1347.3,   0.1447,  34.6702,2,  34.6663,2,  0.0796,    215.8,2,   119.80,2,    33.52,2,     0.00,2,     2.26,2,    0.325,2,    0.150,2, -999.000,9,-999.0000,9,    -9.00,9,-999.000,9,   2257.4,2,-999.0000,-999.000,-999.000,-999.000
    06AQANTX_4,  SR04,   639,  1,      4,      4,2,19920726,1905,-60.0833, -47.3000, 1531,   1396.2,   0.1269,  34.6688,2,  34.6652,2,  0.0591,    216.0,2,   120.76,2,    33.51,2,     0.00,2,     2.28,2,    0.327,2,    0.150,2,    0.030,2,   1.8610,2,     7.93,2,   8.163,2,   2256.8,2,  0.0070,   0.003,   0.040,   0.310
    06AQANTX_4,  SR04,   639,  1,      3,      3,2,19920726,1905,-60.0833, -47.3000, 1531,   1446.7,   0.1179,  34.6687,2,  34.6649,2,  0.0471,    218.0,2,   120.95,2,    33.56,2,     0.00,2,     2.28,2,    0.331,2,    0.157,2,    0.026,2,   1.8550,2,     7.18,2,   8.124,2,   -999.0,9,  0.0070,   0.003,   0.040,   0.310
    06AQANTX_4,  SR04,   639,  1,      2,      2,2,19920726,1905,-60.0833, -47.3000, 1531,   1497.0,   0.1064,  34.6682,2,  34.6654,2,  0.0326,    218.9,2,   121.04,2,    33.55,2,     0.00,2,     2.28,2,    0.331,2,    0.161,2,    0.028,2,   1.8620,2,     7.33,2,   8.193,2,   2257.3,2,  0.0070,   0.003,   0.040,   0.310
    06AQANTX_4,  SR04,   639,  1,      1,      1,2,19920726,1905,-60.0833, -47.3000, 1531,   1544.3,   0.1021,  34.6680,2,  34.6650,2,  0.0254,    223.5,2,   121.52,2,    33.59,2,     0.00,2,     2.26,2,    0.333,2,    0.152,2,    0.035,2,   2.0040,4,     5.68,3,   8.317,4,   2256.4,2,  0.0070,   0.007,   0.041,   0.310