BOTTLE,20061211WHPSIODBK
EXPOCODE,SECT_ID,STNNBR,CASTNO,SAMPNO,BTLNBR,BTLNBR_FLAG_W,DATE,TIME,LATITUDE,LONGITUDE,DEPTH,CTDPRS,CTDTMP,CTDSAL,CTDSAL_FLAG_W,SALNTY,SALNTY_FLAG_W,THETA,OXYGEN,OXYGEN_FLAG_W,SILCAT,SILCAT_FLAG_W,NITRAT,NITRAT_FLAG_W,NITRIT,NITRIT_FLAG_W,PHSPHT,PHSPHT_FLAG_W,CFC-11,CFC-11_FLAG_W,CFC-12,CFC-12_FLAG_W,TRITUM,TRITUM_FLAG_W,HELIUM,HELIUM_FLAG_W,DELHE3,DELHE3_FLAG_W,NEON,NEON_FLAG_W,TCARBN,TCARBN_FLAG_W,HELIER,TRITER,NEONER,DELHER
,,,,,,,,,,,,DBAR,ITS-90,PSS-78,,PSS-78,,DEG C,UMOL/KG,,UMOL/KG,,UMOL/KG,,UMOL/KG,,UMOL/KG,,PMOL/KG,,PMOL/KG,,TU,,NMOL/KG,,PERCNT,,NMOL/KG,,UMOL/KG,,NMOL/KG,TU,NMOL/KG,PERCNT
    06AQANTX_4,   A12,   560,  1,     23,     23,2,19920531,2258,-42.9333,   2.6667, 3938,     64.4,   9.4484,  34.4588,2,  34.4583,2,  9.4413,    283.1,2,     1.63,2,    11.03,2,     0.26,2,     0.84,2, -999.000,9, -999.000,9, -999.000,9,-999.0000,9,    -9.00,9,-999.000,9,   -999.0,9,-999.0000,-999.000,-999.000,-999.000
    06AQANTX_4,   A12,   560,  1,     22,     22,2,19920531,2258,-42.9333,   2.6667, 3938,    138.2,   9.3416,  34.4625,2,  34.4593,2,  9.3264,    280.7,2,  -999.00,9,  -999.00,9,  -999.00,9,  -999.00,9, -999.000,9, -999.000,9, -999.000,9,-999.0000,9,    -9.00,9,-999.000,9,   -999.0,9,-999.0000,-999.000,-999.000,-999.000
    06AQANTX_4,   A12,   560,  1,     21,     21,2,19920531,2258,-42.9333,   2.6667, 3938,    218.9,   8.7493,  34.5235,2,  34.5247,2,  8.7261,    257.1,2,     4.43,2,    15.93,2,     0.05,2,     1.12,2, -999.000,9, -999.000,9, -999.000,9,-999.0000,9,    -9.00,9,-999.000,9,   -999.0,9,-999.0000,-999.000,-999.000,-999.000
    06AQANTX_4,   A12,   560,  1,     20,     20,2,19920531,2258,-42.9333,   2.6667, 3938,    299.2,   7.4612,  34.4455,2,  34.4415,2,  7.4322,    251.7,2,     7.16,2,    20.07,2,     0.04,2,     1.42,2, -999.000,9, -999.000,9, -999.000,9,-999.0000,9,    -9.00,9,-999.000,9,   -999.0,9,-999.0000,-999.000,-999.000,-999.000
    06AQANTX_4,   A12,   560,  1,     19,     19,2,19920531,2258,-42.9333,   2.6667, 3938,    399.0,   6.2432,  34.3586,2,  34.6725,4,  6.2080,    235.0,2,    11.15,2,    24.92,2,     0.04,2,     1.71,2, -999.000,9, -999.000,9, -999.000,9,-999.0000,9,    -9.00,9,-999.000,9,   -999.0,9,-999.0000,-999.000,-999.000,-999.000
    06AQANTX_4,   A12,   560,  1,     18,     18,2,19920531,2258,-42.9333,   2.6667, 3938,    500.2,   5.0969,  34.2578,2,  34.2574,2,  5.0569,    251.0,2,    13.44,2,    26.62,2,     0.04,2,     1.84,2, -999.000,9, -999.000,9, -999.000,9,-999.0000,9,    -9.00,9,-999.000,9,   -999.0,9,-999.0000,-999.000,-999.000,-999.000
    06AQANTX_4,   A12,   560,  1,     17,     17,2,19920531,2258,-42.9333,   2.6667, 3938,    596.9,   4.4130,  34.2294,2,  34.2289,2,  4.3680,    254.0,2,    17.45,2,    27.87,2,     0.04,2,     1.92,2, -999.000,9, -999.000,9, -999.000,9,-999.0000,9,    -9.00,9,-999.000,9,   -999.0,9,-999.0000,-999.000,-999.000,-999.000
    06AQANTX_4,   A12,   560,  1,     16,     16,2,19920531,2258,-42.9333,   2.6667, 3938,    699.6,   3.9661,  34.2225,2,  34.2217,2,  3.9153,    251.7,2,    21.70,2,    29.15,2,     0.04,2,     2.00,2, -999.000,9, -999.000,9, -999.000,9,-999.0000,9,    -9.00,9,-999.000,9,   -999.0,9,-999.0000,-999.000,-999.000,-999.000
    06AQANTX_4,   A12,   560,  1,     15,     15,2,19920531,2258,-42.9333,   2.6667, 3938,    848.5,   3.3819,  34.2415,2,  34.2407,2,  3.3232,    243.1,2,    30.04,2,    30.93,2,     0.04,2,     2.13,2, -999.000,9, -999.000,9, -999.000,9,-999.0000,9,    -9.00,9,-999.000,9,   -999.0,9,-999.0000,-999.000,-999.000,-999.000
    06AQANTX_4,   A12,   560,  1,     14,     14,2,19920531,2258,-42.9333,   2.6667, 3938,    996.5,   3.0444,  34.3018,2,  34.3015,2,  2.9768,    223.6,2,    40.60,2,    32.53,2,     0.04,2,     2.24,2, -999.000,9, -999.000,9, -999.000,9,-999.0000,9,    -9.00,9,-999.000,9,   -999.0,9,-999.0000,-999.000,-999.000,-999.000
    06AQANTX_4,   A12,   560,  1,     13,     13,2,19920531,2258,-42.9333,   2.6667, 3938,   1199.0,   2.8553,  34.4098,2,  34.4090,2,  2.7736,    200.1,2,    53.61,2,    33.95,2,     0.04,2,     2.34,2, -999.000,9, -999.000,9, -999.000,9,-999.0000,9,    -9.00,9,-999.000,9,   -999.0,9,-999.0000,-999.000,-999.000,-999.000
    06AQANTX_4,   A12,   560,  1,     12,     12,2,19920531,2258,-42.9333,   2.6667, 3938,   1500.5,   2.6552,  34.5622,2,  34.5617,2,  2.5514,    185.6,2,    65.52,2,    33.69,2,     0.04,2,     2.30,2, -999.000,9, -999.000,9, -999.000,9,-999.0000,9,    -9.00,9,-999.000,9,   -999.0,9,-999.0000,-999.000,-999.000,-999.000
    06AQANTX_4,   A12,   560,  1,     11,     11,2,19920531,2258,-42.9333,   2.6667, 3938,   1802.2,   2.6301,  34.6740,2,-999.0000,9,  2.5013,    190.2,2,  -999.00,9,  -999.00,9,  -999.00,9,  -999.00,9, -999.000,9, -999.000,9, -999.000,9,-999.0000,9,    -9.00,9,-999.000,9,   -999.0,9,-999.0000,-999.000,-999.000,-999.000
    06AQANTX_4,   A12,   560,  1,     10,     10,2,19920531,2258,-42.9333,   2.6667, 3938,   2203.8,   2.5189,  34.7651,2,  34.7645,2,  2.3561,    206.5,2,    66.57,2,    29.13,2,     0.03,2,     1.97,2, -999.000,9, -999.000,9, -999.000,9,-999.0000,9,    -9.00,9,-999.000,9,   -999.0,9,-999.0000,-999.000,-999.000,-999.000
    06AQANTX_4,   A12,   560,  1,      9,      9,2,19920531,2258,-42.9333,   2.6667, 3938,   2596.9,   2.3160,  34.7978,2,  34.7974,2,  2.1203,    216.9,2,    68.20,2,    27.84,2,     0.03,2,     1.87,2, -999.000,9, -999.000,9, -999.000,9,-999.0000,9,    -9.00,9,-999.000,9,   -999.0,9,-999.0000,-999.000,-999.000,-999.000
    06AQANTX_4,   A12,   560,  1,      8,      8,2,19920531,2258,-42.9333,   2.6667, 3938,   2800.4,   2.1936,  34.8040,2,  34.8043,2,  1.9808,    221.7,2,    70.02,2,    27.60,2,     0.03,2,     1.85,2, -999.000,9, -999.000,9, -999.000,9,-999.0000,9,    -9.00,9,-999.000,9,   -999.0,9,-999.0000,-999.000,-999.000,-999.000
    06AQANTX_4,   A12,   560,  1,      7,      7,2,19920531,2258,-42.9333,   2.6667, 3938,   2898.0,   2.2530,  34.8285,2,  34.8275,2,  2.0293,   -999.0,9,  -999.00,9,  -999.00,9,     0.03,2,  -999.00,9, -999.000,9, -999.000,9, -999.000,9,-999.0000,9,    -9.00,9,-999.000,9,   -999.0,9,-999.0000,-999.000,-999.000,-999.000
    06AQANTX_4,   A12,   560,  1,      6,      6,2,19920531,2258,-42.9333,   2.6667, 3938,   2999.7,   2.1688,  34.8225,2,  34.8221,2,  1.9368,   -999.0,9,  -999.00,9,  -999.00,9,     0.03,2,  -999.00,9, -999.000,9, -999.000,9, -999.000,9,-999.0000,9,    -9.00,9,-999.000,9,   -999.0,9,-999.0000,-999.000,-999.000,-999.000
    06AQANTX_4,   A12,   560,  1,      5,      5,2,19920531,2258,-42.9333,   2.6667, 3938,   3099.0,   2.0368,  34.8060,2,  34.8051,2,  1.7979,    223.7,2,    73.48,2,    27.60,2,     0.03,2,     1.85,2, -999.000,9, -999.000,9, -999.000,9,-999.0000,9,    -9.00,9,-999.000,9,   -999.0,9,-999.0000,-999.000,-999.000,-999.000
    06AQANTX_4,   A12,   560,  1,      4,      4,2,19920531,2258,-42.9333,   2.6667, 3938,   3398.1,   1.7673,  34.7879,2,  34.7868,2,  1.5045,   -999.0,9,    82.94,2,    28.70,2,     0.03,2,     1.92,2, -999.000,9, -999.000,9, -999.000,9,-999.0000,9,    -9.00,9,-999.000,9,   -999.0,9,-999.0000,-999.000,-999.000,-999.000
    06AQANTX_4,   A12,   560,  1,      3,      3,2,19920531,2258,-42.9333,   2.6667, 3938,   3599.2,   1.5523,  34.7669,2,  34.7645,2,  1.2743,    220.4,2,    92.18,2,    29.93,2,     0.03,2,     2.00,2, -999.000,9, -999.000,9, -999.000,9,-999.0000,9,    -9.00,9,-999.000,9,   -999.0,9,-999.0000,-999.000,-999.000,-999.000
    06AQANTX_4,   A12,   560,  1,      2,      2,2,19920531,2258,-42.9333,   2.6667, 3938,   3870.5,   1.2785,  34.7451,2,  34.7436,2,  0.9795,    219.8,2,   101.75,2,    30.94,2,     0.03,2,     2.09,2, -999.000,9, -999.000,9, -999.000,9,-999.0000,9,    -9.00,9,-999.000,9,   -999.0,9,-999.0000,-999.000,-999.000,-999.000
    06AQANTX_4,   A12,   560,  1,      1,      1,2,19920531,2258,-42.9333,   2.6667, 3938,   3925.1,   1.2265,  34.7411,2,  34.7415,2,  0.9232,    221.1,2,   103.21,2,    31.13,2,     0.03,2,     2.08,2, -999.000,9, -999.000,9, -999.000,9,-999.0000,9,    -9.00,9,-999.000,9,   -999.0,9,-999.0000,-999.000,-999.000,-999.000
    06AQANTX_4,   A12,   562,  1,     24,     24,2,19920601,1234,-43.6000,   2.1333, 4523,     19.4,   8.6828,  34.4373,2,  34.4370,2,  8.6808,    286.1,2,     2.27,2,     8.94,2,     0.31,2,     0.98,2,    4.010,2,    1.931,2, -999.000,9,   1.7400,2,    -1.53,2,   7.520,2,   -999.0,9,  0.0060,-999.000,   0.038,   0.320
    06AQANTX_4,   A12,   562,  1,     23,     23,2,19920601,1234,-43.6000,   2.1333, 4523,     67.6,   8.6849,  34.4365,2,  34.4355,2,  8.6778,    286.0,2,     2.13,2,     8.89,2,     0.31,2,     0.98,2,    4.033,2,    1.947,2, -999.000,9,   1.7710,2,    -0.72,2,   7.527,2,   -999.0,9,  0.0070,-999.000,   0.038,   0.320
    06AQANTX_4,   A12,   562,  1,     22,     22,2,19920601,1234,-43.6000,   2.1333, 4523,    139.6,   8.6890,  34.4374,2,  34.4356,2,  8.6743,    286.2,2,     2.09,2,     8.98,2,     0.31,2,     0.98,2,    4.043,2,    1.930,2, -999.000,9,   1.7730,2,    -1.14,2,   7.523,2,   -999.0,9,  0.0070,-999.000,   0.038,   0.320
    06AQANTX_4,   A12,   562,  1,     21,     21,2,19920601,1234,-43.6000,   2.1333, 4523,    219.2,   8.6396,  34.4351,2,  34.4349,2,  8.6165,    283.8,2,     0.67,2,     9.45,2,     0.27,2,     1.00,2,    4.013,2,    1.873,2, -999.000,9,   1.5810,4,    -1.88,2,-999.000,9,   -999.0,9,  0.0060,-999.000,-999.000,   0.320
    06AQANTX_4,   A12,   562,  1,     20,     20,2,19920601,1234,-43.6000,   2.1333, 4523,    300.0,   8.1541,  34.5220,2,  34.5229,2,  8.1234,    249.7,2,     5.05,2,    15.26,2,     0.03,2,     1.29,2,    3.524,2,    1.664,2, -999.000,9,   1.7710,2,    -1.11,2,   7.573,2,   -999.0,9,  0.0070,-999.000,   0.038,   0.320
    06AQANTX_4,   A12,   562,  1,     19,     19,2,19920601,1234,-43.6000,   2.1333, 4523,    398.2,   6.0751,  34.3288,2,  34.3273,2,  6.0405,    246.9,2,     9.72,2,    23.21,2,     0.03,2,     1.69,2, -999.000,9, -999.000,9, -999.000,9,-999.0000,9,    -9.00,9,-999.000,9,   -999.0,9,-999.0000,-999.000,-999.000,-999.000
    06AQANTX_4,   A12,   562,  1,     18,     18,2,19920601,1234,-43.6000,   2.1333, 4523,    500.0,   4.8357,  34.2295,2,  34.2300,2,  4.7968,    257.9,2,    13.83,2,    25.63,2,     0.04,2,     1.85,2,    3.075,2,    1.405,2, -999.000,9,-999.0000,5,    -9.00,5,-999.000,5,   -999.0,9,-999.0000,-999.000,-999.000,-999.000
    06AQANTX_4,   A12,   562,  1,     17,     17,2,19920601,1234,-43.6000,   2.1333, 4523,    599.2,   4.3797,  34.2174,2,  34.2166,2,  4.3347,    257.6,2,    17.16,2,    27.11,2,     0.04,2,     1.94,2,    2.811,2,    1.276,2, -999.000,9,   1.7880,2,     0.39,2,   7.741,2,   -999.0,9,  0.0070,-999.000,   0.039,   0.320
    06AQANTX_4,   A12,   562,  1,     16,     16,2,19920601,1234,-43.6000,   2.1333, 4523,    697.0,   3.8560,  34.2011,2,  34.2798,4,  3.8060,    264.2,2,  -999.00,9,  -999.00,9,  -999.00,9,  -999.00,9,    3.040,3,    1.416,3, -999.000,9,-999.0000,9,    -9.00,9,-999.000,9,   -999.0,9,-999.0000,-999.000,-999.000,-999.000
    06AQANTX_4,   A12,   562,  1,     15,     15,2,19920601,1234,-43.6000,   2.1333, 4523,    849.9,   3.4702,  34.2363,2,  34.2362,2,  3.4108,    243.9,2,    28.55,2,    30.81,2,     0.03,2,     2.14,2,    1.928,2,    0.894,2, -999.000,9,   1.7990,2,     1.85,2,   7.843,2,   -999.0,9,  0.0070,-999.000,   0.039,   0.320
    06AQANTX_4,   A12,   562,  1,     14,     14,2,19920601,1234,-43.6000,   2.1333, 4523,    901.0,   3.2750,  34.2575,2,  34.2559,2,  3.2130,    237.5,2,    32.66,2,    32.29,2,     0.04,2,     2.19,2,    1.636,2,    0.805,2, -999.000,9,-999.0000,5,    -9.00,5,-999.000,5,   -999.0,9,-999.0000,-999.000,-999.000,-999.000
    06AQANTX_4,   A12,   562,  1,     13,     13,2,19920601,1234,-43.6000,   2.1333, 4523,    999.7,   3.0040,  34.2863,2,  34.2861,2,  2.9365,    227.8,2,    39.07,2,    33.22,2,     0.03,2,     2.27,2,    1.344,2,    0.663,2, -999.000,9,-999.0000,5,    -9.00,5,-999.000,5,   -999.0,9,-999.0000,-999.000,-999.000,-999.000
    06AQANTX_4,   A12,   562,  1,     12,     12,2,19920601,1234,-43.6000,   2.1333, 4523,   1201.4,   2.7718,  34.3760,2,  34.3747,2,  2.6908,    208.0,2,    50.95,2,    35.03,2,     0.03,2,     2.35,2,    0.824,2,    0.421,2, -999.000,9,-999.0000,5,    -9.00,5,-999.000,5,   -999.0,9,-999.0000,-999.000,-999.000,-999.000
    06AQANTX_4,   A12,   562,  1,     11,     11,2,19920601,1234,-43.6000,   2.1333, 4523,   1501.9,   2.6868,  34.5303,2,  34.5295,2,  2.5826,    187.4,2,    63.43,2,    35.53,2,     0.03,2,     2.35,2,    0.279,2,    0.184,4, -999.000,9,   0.0000,4,    -9.00,4,   0.000,4,   -999.0,9,  0.0000,-999.000,   0.000,-999.000
    06AQANTX_4,   A12,   562,  1,     10,     10,2,19920601,1234,-43.6000,   2.1333, 4523,   1800.6,   2.6255,  34.6633,2,  34.6629,2,  2.4969,    187.5,2,    68.56,2,    32.97,2,     0.03,2,     2.24,2,    0.133,2,    0.120,4, -999.000,9,   0.0000,4,    -9.00,4,   0.000,4,   -999.0,9,  0.0000,-999.000,   0.000,-999.000
    06AQANTX_4,   A12,   562,  1,      9,      9,2,19920601,1234,-43.6000,   2.1333, 4523,   2099.3,   2.5743,  34.7454,2,  34.7452,2,  2.4201,    200.8,2,    67.14,2,    29.61,2,     0.02,2,     2.06,2,    0.047,4,    0.082,4, -999.000,9,   1.8420,2,     7.70,2,   7.986,2,   -999.0,9,  0.0070,-999.000,   0.040,   0.320
    06AQANTX_4,   A12,   562,  1,      8,      8,2,19920601,1234,-43.6000,   2.1333, 4523,   2400.4,   2.4169,  34.7752,2,  34.7753,2,  2.2378,    207.8,2,    69.20,2,    28.63,2,     0.03,2,     1.99,2,    0.083,2,    0.044,2, -999.000,9,   1.8490,2,     8.34,2,   7.983,2,   -999.0,9,  0.0070,-999.000,   0.040,   0.320
    06AQANTX_4,   A12,   562,  1,      7,      7,2,19920601,1234,-43.6000,   2.1333, 4523,   2800.2,   2.0740,  34.7836,2,  34.7830,2,  1.8637,    214.5,2,    77.37,2,    28.65,2,     0.02,2,     2.01,2,    0.042,2,    0.039,4, -999.000,9,   1.8540,4,     8.46,4,   7.991,4,   -999.0,9,  0.0160,-999.000,   0.080,   0.320
    06AQANTX_4,   A12,   562,  1,      6,      6,2,19920601,1234,-43.6000,   2.1333, 4523,   3199.5,   1.7667,  34.7768,2,  34.7769,2,  1.5241,    218.4,2,    85.11,2,    29.10,2,     0.03,2,     2.02,2,    0.030,2,    0.028,4, -999.000,9,   1.8400,2,     7.92,2,   7.986,2,   -999.0,9,  0.0070,-999.000,   0.040,   0.320
    06AQANTX_4,   A12,   562,  1,      5,      5,2,19920601,1234,-43.6000,   2.1333, 4523,   3601.6,   1.4285,  34.7523,2,  34.7525,2,  1.1535,    218.5,2,    96.40,2,    30.44,2,     0.03,2,     2.11,2,    0.041,2,    0.055,4, -999.000,9,   1.8520,2,     7.87,2,   8.090,2,   -999.0,9,  0.0070,-999.000,   0.040,   0.320
    06AQANTX_4,   A12,   562,  1,      4,      4,2,19920601,1234,-43.6000,   2.1333, 4523,   3999.7,   1.1794,  34.7358,2,  34.7363,2,  0.8695,    219.5,2,   105.02,2,    31.72,2,     0.03,2,     2.18,2,    0.037,2,    0.058,4, -999.000,9,-999.0000,5,    -9.00,5,-999.000,5,   -999.0,9,-999.0000,-999.000,-999.000,-999.000
    06AQANTX_4,   A12,   562,  1,      3,      3,2,19920601,1234,-43.6000,   2.1333, 4523,   4297.4,   0.9934,  34.7204,2,  34.7200,2,  0.6567,    219.9,2,   111.31,2,    32.95,2,     0.03,2,     2.22,2,    0.047,2,    0.059,4, -999.000,9,   1.8640,2,     7.97,2,   8.153,2,   -999.0,9,  0.0070,-999.000,   0.041,   0.320
    06AQANTX_4,   A12,   562,  1,      2,      2,2,19920601,1234,-43.6000,   2.1333, 4523,   4607.5,   0.9054,  34.7062,2,  34.7073,2,  0.5369,    218.3,2,   117.15,2,    33.42,2,     0.04,2,     2.27,2,    0.086,2,    0.096,4, -999.000,9,   1.8520,2,     8.20,2,   8.100,2,   -999.0,9,  0.0070,-999.000,   0.041,   0.320
    06AQANTX_4,   A12,   562,  1,      1,      1,2,19920601,1234,-43.6000,   2.1333, 4523,   4608.2,   0.9028,  34.7060,2,  34.7059,2,  0.5343,    218.7,2,   117.32,2,    33.28,2,     0.03,2,     2.29,2,    0.089,2,    0.025,4, -999.000,9,-999.0000,9,    -9.00,9,-999.000,9,   -999.0,9,-999.0000,-999.000,-999.000,-999.000