BOTTLE,20061211WHPSIODBK
EXPOCODE,SECT_ID,STNNBR,CASTNO,SAMPNO,BTLNBR,BTLNBR_FLAG_W,DATE,TIME,LATITUDE,LONGITUDE,DEPTH,CTDPRS,CTDTMP,CTDSAL,CTDSAL_FLAG_W,SALNTY,SALNTY_FLAG_W,THETA,OXYGEN,OXYGEN_FLAG_W,SILCAT,SILCAT_FLAG_W,NITRAT,NITRAT_FLAG_W,NITRIT,NITRIT_FLAG_W,PHSPHT,PHSPHT_FLAG_W,CFC-11,CFC-11_FLAG_W,CFC-12,CFC-12_FLAG_W,TRITUM,TRITUM_FLAG_W,HELIUM,HELIUM_FLAG_W,DELHE3,DELHE3_FLAG_W,NEON,NEON_FLAG_W,TCARBN,TCARBN_FLAG_W,HELIER,TRITER,NEONER,DELHER
,,,,,,,,,,,,DBAR,ITS-90,PSS-78,,PSS-78,,DEG C,UMOL/KG,,UMOL/KG,,UMOL/KG,,UMOL/KG,,UMOL/KG,,PMOL/KG,,PMOL/KG,,TU,,NMOL/KG,,PERCNT,,NMOL/KG,,UMOL/KG,,NMOL/KG,TU,NMOL/KG,PERCNT
    06AQANTX_4,   A12,   565,  1,     24,     24,2,19920602,1455,-45.5000,   1.2333, 4319,     22.2,   6.1573,  34.1202,2,  34.1158,2,  6.1554,    303.9,2,     3.71,2,    17.90,2,     0.30,2,     1.25,2,    4.606,2,    2.183,2, -999.000,9,-999.0000,9,    -9.00,9,-999.000,9,   2101.2,2,-999.0000,-999.000,-999.000,-999.000
    06AQANTX_4,   A12,   565,  1,     23,     23,2,19920602,1455,-45.5000,   1.2333, 4319,     69.9,   5.7594,  34.0731,2,  34.0709,2,  5.7537,    306.8,2,     4.12,2,    18.67,2,     0.32,2,     1.33,2,    4.737,2,    2.206,2, -999.000,9,-999.0000,9,    -9.00,9,-999.000,9,   2105.7,2,-999.0000,-999.000,-999.000,-999.000
    06AQANTX_4,   A12,   565,  1,     22,     22,2,19920602,1455,-45.5000,   1.2333, 4319,    103.1,   6.0781,  34.1593,2,  34.1316,3,  6.0694,    299.1,2,     4.34,2,    18.78,2,     0.26,2,     1.32,2,    4.573,2,    2.258,2, -999.000,9,-999.0000,9,    -9.00,9,-999.000,9,   2110.2,2,-999.0000,-999.000,-999.000,-999.000
    06AQANTX_4,   A12,   565,  1,     21,     21,2,19920602,1455,-45.5000,   1.2333, 4319,    138.1,   6.4351,  34.3573,2,  34.3483,2,  6.4230,    270.5,2,     6.88,2,    20.09,2,     0.05,2,     1.37,2,    4.098,2,    1.926,2, -999.000,9,-999.0000,9,    -9.00,9,-999.000,9,   2124.1,2,-999.0000,-999.000,-999.000,-999.000
    06AQANTX_4,   A12,   565,  1,     20,     20,2,19920602,1455,-45.5000,   1.2333, 4319,    176.9,   5.6647,  34.2837,2,  34.2788,2,  5.6502,    270.0,2,     9.22,2,    22.71,2,     0.05,2,     1.50,2, -999.000,9, -999.000,9, -999.000,9,-999.0000,9,    -9.00,9,-999.000,9,   2133.1,2,-999.0000,-999.000,-999.000,-999.000
    06AQANTX_4,   A12,   565,  1,     19,     19,2,19920602,1455,-45.5000,   1.2333, 4319,    219.5,   5.1450,  34.2392,2,  34.2403,2,  5.1278,    268.6,2,    10.36,2,    24.05,2,     0.05,2,     1.59,2,    3.896,2,    1.823,2, -999.000,9,-999.0000,9,    -9.00,9,-999.000,9,   -999.0,9,-999.0000,-999.000,-999.000,-999.000
    06AQANTX_4,   A12,   565,  1,     18,     18,2,19920602,1455,-45.5000,   1.2333, 4319,    302.5,   4.3843,  34.1926,2,  34.1901,2,  4.3623,    271.7,2,    13.61,2,    25.90,2,     0.05,2,     1.72,2,    3.762,2,    1.711,2, -999.000,9,-999.0000,9,    -9.00,9,-999.000,9,   2144.5,2,-999.0000,-999.000,-999.000,-999.000
    06AQANTX_4,   A12,   565,  1,     17,     17,2,19920602,1455,-45.5000,   1.2333, 4319,    402.5,   3.8733,  34.1842,2,  34.1842,2,  3.8453,    273.8,2,    17.38,2,    26.91,2,     0.05,2,     1.78,2,    3.538,2,    1.648,2, -999.000,9,-999.0000,9,    -9.00,9,-999.000,9,   2154.3,2,-999.0000,-999.000,-999.000,-999.000
    06AQANTX_4,   A12,   565,  1,     16,     16,2,19920602,1455,-45.5000,   1.2333, 4319,    500.7,   3.3749,  34.1905,2,  34.1904,2,  3.3417,    266.5,2,    22.64,2,    28.31,2,     0.05,2,     1.88,2,    3.200,2,    1.405,2, -999.000,9,-999.0000,9,    -9.00,9,-999.000,9,   2165.9,2,-999.0000,-999.000,-999.000,-999.000
    06AQANTX_4,   A12,   565,  1,     15,     15,2,19920602,1455,-45.5000,   1.2333, 4319,    601.6,   3.0319,  34.2086,2,  34.2086,2,  2.9931,    255.3,2,    28.49,2,    29.69,2,     0.05,2,     1.96,2, -999.000,9, -999.000,9, -999.000,9,-999.0000,9,    -9.00,9,-999.000,9,   2176.3,2,-999.0000,-999.000,-999.000,-999.000
    06AQANTX_4,   A12,   565,  1,     14,     14,2,19920602,1455,-45.5000,   1.2333, 4319,    699.6,   2.7117,  34.2384,2,  34.2397,2,  2.6678,    244.1,2,    35.43,2,    31.39,2,     0.04,2,     2.06,2,    2.390,2,    1.124,2, -999.000,9,-999.0000,9,    -9.00,9,-999.000,9,   2190.4,2,-999.0000,-999.000,-999.000,-999.000
    06AQANTX_4,   A12,   565,  1,     13,     13,2,19920602,1455,-45.5000,   1.2333, 4319,    849.9,   2.5569,  34.3254,2,  34.3250,2,  2.5035,    216.9,2,    47.56,2,    32.91,2,     0.04,2,     2.19,2,    1.452,2,    0.724,2, -999.000,9,-999.0000,9,    -9.00,9,-999.000,9,   2212.1,2,-999.0000,-999.000,-999.000,-999.000
    06AQANTX_4,   A12,   565,  1,     12,     12,2,19920602,1455,-45.5000,   1.2333, 4319,    994.2,   2.5156,  34.4122,2,  34.4090,2,  2.4521,   -999.0,9,    57.25,2,    33.77,2,     0.04,2,     2.23,2,    0.879,2,    0.502,3, -999.000,9,-999.0000,9,    -9.00,9,-999.000,9,   -999.0,9,-999.0000,-999.000,-999.000,-999.000
    06AQANTX_4,   A12,   565,  1,     11,     11,2,19920602,1455,-45.5000,   1.2333, 4319,   1202.4,   2.5376,  34.5341,2,  34.5337,2,  2.4584,    183.6,2,    65.86,2,    33.81,2,     0.04,2,     2.22,2,    0.379,2,    0.169,2, -999.000,9,-999.0000,9,    -9.00,9,-999.000,9,   2241.8,2,-999.0000,-999.000,-999.000,-999.000
    06AQANTX_4,   A12,   565,  1,     10,     10,2,19920602,1455,-45.5000,   1.2333, 4319,   1503.7,   2.5164,  34.6584,2,  34.6574,2,  2.4137,    185.7,2,    70.29,2,    31.87,2,     0.04,2,     2.11,2,    0.152,2,    0.066,2, -999.000,9,-999.0000,9,    -9.00,9,-999.000,9,   2243.7,2,-999.0000,-999.000,-999.000,-999.000
    06AQANTX_4,   A12,   565,  1,      9,      9,2,19920602,1455,-45.5000,   1.2333, 4319,   1801.7,   2.5201,  34.7407,2,  34.7403,2,  2.3926,    200.0,2,    67.70,2,    29.49,2,     0.04,2,     1.95,2,    0.070,2,    0.019,3, -999.000,9,-999.0000,9,    -9.00,9,-999.000,9,   2231.8,2,-999.0000,-999.000,-999.000,-999.000
    06AQANTX_4,   A12,   565,  1,      8,      8,2,19920602,1455,-45.5000,   1.2333, 4319,   2200.0,   2.2906,  34.7886,2,  34.7892,2,  2.1318,    212.8,2,    68.03,2,    27.59,2,     0.04,2,     1.82,2,    0.033,4,    0.034,4, -999.000,9,-999.0000,9,    -9.00,9,-999.000,9,   2226.2,2,-999.0000,-999.000,-999.000,-999.000
    06AQANTX_4,   A12,   565,  1,      7,      7,2,19920602,1455,-45.5000,   1.2333, 4319,   2601.8,   1.9249,  34.7767,2,  34.7773,2,  1.7363,    216.8,2,    79.07,2,    28.37,2,     0.04,2,     1.87,2,    0.047,2,    0.020,2, -999.000,9,-999.0000,9,    -9.00,9,-999.000,9,   2232.5,2,-999.0000,-999.000,-999.000,-999.000
    06AQANTX_4,   A12,   565,  1,      6,      6,2,19920602,1455,-45.5000,   1.2333, 4319,   3003.4,   1.6304,  34.7654,2,  34.7659,2,  1.4101,    217.3,2,    87.01,2,    28.72,2,     0.04,2,     1.91,2,    0.044,2,    0.018,2, -999.000,9,-999.0000,9,    -9.00,9,-999.000,9,   2248.1,2,-999.0000,-999.000,-999.000,-999.000
    06AQANTX_4,   A12,   565,  1,      5,      5,2,19920602,1455,-45.5000,   1.2333, 4319,   3401.2,   1.3152,  34.7405,2,  34.7410,2,  1.0635,   -999.0,9,    97.68,2,    29.90,2,     0.04,2,     2.01,2,    0.066,2,    0.034,2, -999.000,9,-999.0000,9,    -9.00,9,-999.000,9,   2246.3,2,-999.0000,-999.000,-999.000,-999.000
    06AQANTX_4,   A12,   565,  1,      4,      4,2,19920602,1455,-45.5000,   1.2333, 4319,   3799.1,   0.9680,  34.7164,2,  34.7179,2,  0.6851,    217.6,2,   107.96,2,    30.92,2,     0.03,2,     2.08,2,    0.100,2,    0.043,2, -999.000,9,-999.0000,9,    -9.00,9,-999.000,9,   2253.9,2,-999.0000,-999.000,-999.000,-999.000
    06AQANTX_4,   A12,   565,  1,      3,      3,2,19920602,1455,-45.5000,   1.2333, 4319,   4000.5,   0.8560,  34.7070,2,  34.7063,2,  0.5553,    218.8,2,   112.15,2,    31.35,2,     0.03,2,     2.10,2,    0.096,2,    0.042,2, -999.000,9,-999.0000,9,    -9.00,9,-999.000,9,   2255.1,2,-999.0000,-999.000,-999.000,-999.000
    06AQANTX_4,   A12,   565,  1,      2,      2,2,19920602,1455,-45.5000,   1.2333, 4319,   4292.2,   0.8002,  34.6992,2,  34.6994,2,  0.4701,    218.2,2,   115.17,2,    31.88,2,     0.03,2,     2.13,2, -999.000,9, -999.000,9, -999.000,9,-999.0000,9,    -9.00,9,-999.000,9,   -999.0,9,-999.0000,-999.000,-999.000,-999.000
    06AQANTX_4,   A12,   565,  1,      1,      1,2,19920602,1455,-45.5000,   1.2333, 4319,   4293.2,   0.7988,  34.6987,2,  34.7007,2,  0.4686,   -999.0,9,   115.43,2,    31.86,2,     0.04,2,     2.12,2,    0.131,2,    0.045,2, -999.000,9,-999.0000,9,    -9.00,9,-999.000,9,   2256.5,2,-999.0000,-999.000,-999.000,-999.000
    06AQANTX_4,   A12,   566,  1,     24,     24,2,19920602,2002,-45.8167,   1.0667, 4309,     19.5,   5.3412,  33.9530,2,  33.9533,2,  5.3397,   -999.0,9,     3.94,2,    19.25,2,     0.36,2,     1.35,2, -999.000,9, -999.000,9, -999.000,9,-999.0000,9,    -9.00,9,-999.000,9,   -999.0,9,-999.0000,-999.000,-999.000,-999.000
    06AQANTX_4,   A12,   566,  1,     23,     23,2,19920602,2002,-45.8167,   1.0667, 4309,     19.9,   5.3417,  33.9530,2,  33.9536,2,  5.3402,    313.2,2,     3.85,2,    19.14,2,     0.36,2,     1.34,2,    4.915,2,    2.275,2, -999.000,9,-999.0000,9,    -9.00,9,-999.000,9,   -999.0,9,-999.0000,-999.000,-999.000,-999.000
    06AQANTX_4,   A12,   566,  1,     22,     22,2,19920602,2002,-45.8167,   1.0667, 4309,     30.0,   5.3431,  33.9532,2,  33.9530,2,  5.3408,   -999.0,9,     3.84,2,    19.18,2,     0.37,2,     1.35,2, -999.000,9, -999.000,9, -999.000,9,-999.0000,9,    -9.00,9,-999.000,9,   -999.0,9,-999.0000,-999.000,-999.000,-999.000
    06AQANTX_4,   A12,   566,  1,     21,     21,2,19920602,2002,-45.8167,   1.0667, 4309,     31.1,   5.3438,  33.9533,2,  33.9535,2,  5.3414,    314.2,2,     3.92,2,    19.06,2,     0.37,2,     1.34,2,    4.854,2,    2.396,2, -999.000,9,-999.0000,9,    -9.00,9,-999.000,9,   -999.0,9,-999.0000,-999.000,-999.000,-999.000
    06AQANTX_4,   A12,   566,  1,     20,     20,2,19920602,2002,-45.8167,   1.0667, 4309,     49.6,   5.3450,  33.9529,2,  33.9529,2,  5.3411,   -999.0,9,     4.07,2,    19.24,2,     0.37,2,     1.34,2, -999.000,9, -999.000,9, -999.000,9,-999.0000,9,    -9.00,9,-999.000,9,   -999.0,9,-999.0000,-999.000,-999.000,-999.000
    06AQANTX_4,   A12,   566,  1,     19,     19,2,19920602,2002,-45.8167,   1.0667, 4309,     50.5,   5.3447,  33.9530,2,  33.9532,2,  5.3408,    313.0,2,     3.64,2,    19.28,2,     0.37,2,     1.38,2,    4.907,2,    2.338,2, -999.000,9,-999.0000,9,    -9.00,9,-999.000,9,   -999.0,9,-999.0000,-999.000,-999.000,-999.000
    06AQANTX_4,   A12,   566,  1,     18,     18,2,19920602,2002,-45.8167,   1.0667, 4309,     69.8,   5.3454,  33.9534,2,  33.9529,2,  5.3399,   -999.0,9,     3.72,2,    19.22,2,     0.37,2,     1.34,2, -999.000,9, -999.000,9, -999.000,9,-999.0000,9,    -9.00,9,-999.000,9,   -999.0,9,-999.0000,-999.000,-999.000,-999.000
    06AQANTX_4,   A12,   566,  1,     17,     17,2,19920602,2002,-45.8167,   1.0667, 4309,     70.0,   5.3448,  33.9532,2,  33.9531,2,  5.3393,    314.0,2,     3.70,2,    19.21,2,     0.37,2,     1.34,2,    4.866,2,    2.351,2, -999.000,9,-999.0000,9,    -9.00,9,-999.000,9,   -999.0,9,-999.0000,-999.000,-999.000,-999.000
    06AQANTX_4,   A12,   566,  1,     16,     16,2,19920602,2002,-45.8167,   1.0667, 4309,     99.2,   5.3589,  33.9550,2,  33.9557,2,  5.3511,    314.1,2,     3.69,2,    19.32,2,     0.37,2,     1.34,2, -999.000,9, -999.000,9, -999.000,9,-999.0000,9,    -9.00,9,-999.000,9,   -999.0,9,-999.0000,-999.000,-999.000,-999.000
    06AQANTX_4,   A12,   566,  1,     15,     15,2,19920602,2002,-45.8167,   1.0667, 4309,     99.5,   5.3858,  33.9616,2,  33.9573,2,  5.3780,   -999.0,9,     3.77,2,    19.20,2,     0.37,2,     1.35,2,    4.907,2,    2.259,2, -999.000,9,-999.0000,9,    -9.00,9,-999.000,9,   -999.0,9,-999.0000,-999.000,-999.000,-999.000
    06AQANTX_4,   A12,   566,  1,     14,     14,2,19920602,2002,-45.8167,   1.0667, 4309,    124.4,   5.6109,  34.0385,2,  34.0388,2,  5.6008,   -999.0,9,     4.34,2,    19.33,2,     0.35,2,     1.36,2,    4.759,2,    2.219,2, -999.000,9,-999.0000,9,    -9.00,9,-999.000,9,   -999.0,9,-999.0000,-999.000,-999.000,-999.000
    06AQANTX_4,   A12,   566,  1,     13,     13,2,19920602,2002,-45.8167,   1.0667, 4309,    138.5,   5.5164,  34.0390,2,  34.0425,2,  5.5053,    316.2,2,     4.82,2,    20.02,2,     0.32,2,     1.41,2,    4.758,2,    2.226,2, -999.000,9,-999.0000,9,    -9.00,9,-999.000,9,   -999.0,9,-999.0000,-999.000,-999.000,-999.000
    06AQANTX_4,   A12,   566,  1,     12,     12,2,19920602,2002,-45.8167,   1.0667, 4309,    197.3,   4.2980,  34.1773,2,  34.1777,2,  4.2839,    281.4,2,    13.67,2,    25.55,2,     0.05,2,     1.71,2, -999.000,9, -999.000,9, -999.000,9,-999.0000,9,    -9.00,9,-999.000,9,   -999.0,9,-999.0000,-999.000,-999.000,-999.000
    06AQANTX_4,   A12,   566,  1,     11,     11,2,19920602,2002,-45.8167,   1.0667, 4309,    219.8,   4.0031,  34.1700,2,  34.1684,2,  3.9879,    282.4,2,    15.34,2,    26.25,2,     0.05,2,     1.76,2,    4.047,2,    1.916,2, -999.000,9,-999.0000,9,    -9.00,9,-999.000,9,   -999.0,9,-999.0000,-999.000,-999.000,-999.000
    06AQANTX_4,   A12,   566,  1,     10,     10,2,19920602,2002,-45.8167,   1.0667, 4309,    250.3,   3.7856,  34.1664,2,  34.1674,2,  3.7687,    285.5,2,    17.00,2,    26.74,2,     0.05,2,     1.78,2, -999.000,9, -999.000,9, -999.000,9,-999.0000,9,    -9.00,9,-999.000,9,   -999.0,9,-999.0000,-999.000,-999.000,-999.000
    06AQANTX_4,   A12,   566,  1,      9,      9,2,19920602,2002,-45.8167,   1.0667, 4309,    300.3,   3.5503,  34.1641,2,  34.1662,2,  3.5304,    282.4,2,    18.41,2,    27.12,2,     0.05,2,     1.83,2,    3.902,2,    1.828,2, -999.000,9,-999.0000,9,    -9.00,9,-999.000,9,   -999.0,9,-999.0000,-999.000,-999.000,-999.000
    06AQANTX_4,   A12,   566,  1,      8,      8,2,19920602,2002,-45.8167,   1.0667, 4309,    400.2,   3.0684,  34.1837,2,  34.1837,2,  3.0432,    267.9,2,    25.57,2,    28.96,2,     0.05,2,     1.94,2, -999.000,9, -999.000,9, -999.000,9,-999.0000,9,    -9.00,9,-999.000,9,   -999.0,9,-999.0000,-999.000,-999.000,-999.000
    06AQANTX_4,   A12,   566,  1,      7,      7,2,19920602,2002,-45.8167,   1.0667, 4309,    502.5,   2.8337,  34.2236,2,  34.2239,2,  2.8025,    247.9,2,    33.41,2,    30.53,2,     0.05,2,     2.06,2, -999.000,9, -999.000,9, -999.000,9,-999.0000,9,    -9.00,9,-999.000,9,   -999.0,9,-999.0000,-999.000,-999.000,-999.000
    06AQANTX_4,   A12,   566,  1,      6,      6,2,19920602,2002,-45.8167,   1.0667, 4309,    597.7,   2.5287,  34.2538,2,  34.2555,2,  2.4926,    238.6,2,    39.41,2,    31.77,2,     0.05,2,     2.12,2,    2.195,2,    1.012,2, -999.000,9,-999.0000,9,    -9.00,9,-999.000,9,   -999.0,9,-999.0000,-999.000,-999.000,-999.000
    06AQANTX_4,   A12,   566,  1,      5,      5,2,19920602,2002,-45.8167,   1.0667, 4309,    699.7,   2.4903,  34.3121,2,  34.3186,2,  2.4476,    221.8,2,    47.07,2,    32.43,2,     0.05,2,     2.18,2, -999.000,9, -999.000,9, -999.000,9,-999.0000,9,    -9.00,9,-999.000,9,   -999.0,9,-999.0000,-999.000,-999.000,-999.000
    06AQANTX_4,   A12,   566,  1,      4,      4,2,19920602,2002,-45.8167,   1.0667, 4309,    848.3,   2.4864,  34.4069,2,  34.4095,2,  2.4335,    199.3,2,    57.08,2,    33.57,2,     0.05,2,     2.24,2,    0.912,2,    0.476,2, -999.000,9,-999.0000,9,    -9.00,9,-999.000,9,   -999.0,9,-999.0000,-999.000,-999.000,-999.000
    06AQANTX_4,   A12,   566,  1,      3,      3,2,19920602,2002,-45.8167,   1.0667, 4309,   1001.7,   2.5213,  34.5006,2,  34.5006,2,  2.4571,    186.5,2,    63.99,2,    33.14,2,     0.05,2,     2.22,2, -999.000,9, -999.000,9, -999.000,9,-999.0000,9,    -9.00,9,-999.000,9,   -999.0,9,-999.0000,-999.000,-999.000,-999.000
    06AQANTX_4,   A12,   566,  1,      1,      1,2,19920602,2002,-45.8167,   1.0667, 4309,   1201.0,   2.4823,  34.5832,2,  34.5833,2,  2.4036,   -999.0,9,    69.96,2,    32.67,2,     0.04,2,     2.18,2, -999.000,9, -999.000,9, -999.000,9,-999.0000,9,    -9.00,9,-999.000,9,   -999.0,9,-999.0000,-999.000,-999.000,-999.000
    06AQANTX_4,   A12,   566,  1,      2,      2,2,19920602,2002,-45.8167,   1.0667, 4309,   1203.3,   2.4815,  34.5833,2,  34.5799,2,  2.4027,    184.4,2,    69.39,2,    32.51,2,     0.05,2,     2.18,2,    0.303,2,    0.136,2, -999.000,9,-999.0000,9,    -9.00,9,-999.000,9,   -999.0,9,-999.0000,-999.000,-999.000,-999.000