BOTTLE,20061211WHPSIODBK
EXPOCODE,SECT_ID,STNNBR,CASTNO,SAMPNO,BTLNBR,BTLNBR_FLAG_W,DATE,TIME,LATITUDE,LONGITUDE,DEPTH,CTDPRS,CTDTMP,CTDSAL,CTDSAL_FLAG_W,SALNTY,SALNTY_FLAG_W,THETA,OXYGEN,OXYGEN_FLAG_W,SILCAT,SILCAT_FLAG_W,NITRAT,NITRAT_FLAG_W,NITRIT,NITRIT_FLAG_W,PHSPHT,PHSPHT_FLAG_W,CFC-11,CFC-11_FLAG_W,CFC-12,CFC-12_FLAG_W,TRITUM,TRITUM_FLAG_W,HELIUM,HELIUM_FLAG_W,DELHE3,DELHE3_FLAG_W,NEON,NEON_FLAG_W,TCARBN,TCARBN_FLAG_W,HELIER,TRITER,NEONER,DELHER
,,,,,,,,,,,,DBAR,ITS-90,PSS-78,,PSS-78,,DEG C,UMOL/KG,,UMOL/KG,,UMOL/KG,,UMOL/KG,,UMOL/KG,,PMOL/KG,,PMOL/KG,,TU,,NMOL/KG,,PERCNT,,NMOL/KG,,UMOL/KG,,NMOL/KG,TU,NMOL/KG,PERCNT
    06AQANTX_4,   A12,   558,  1,     24,     24,2,19920531,0601,-42.4500,   4.3667, 4646,     20.2,   8.6360,  34.4161,2,  34.4166,2,  8.6339,    292.3,2,     1.97,2,    12.75,2,     0.35,2,     0.99,2,    4.008,2,    1.926,2,    0.378,2,   1.7770,2,    -1.28,2,   7.651,2,   2086.7,2,  0.0070,   0.011,   0.038,   0.320
    06AQANTX_4,   A12,   558,  1,     23,     23,2,19920531,0601,-42.4500,   4.3667, 4646,     70.6,   8.6470,  34.4161,2,  34.4167,2,  8.6396,    292.4,2,     2.28,2,    12.53,2,     0.35,2,     0.99,2,    4.018,2,    1.924,2,    0.447,2,   1.7680,2,    -1.14,2,   7.556,2,   2086.0,2,  0.0060,   0.012,   0.037,   0.310
    06AQANTX_4,   A12,   558,  1,     22,     22,2,19920531,0601,-42.4500,   4.3667, 4646,    138.4,   8.6420,  34.4174,2,  34.4156,2,  8.6275,    292.2,2,     2.23,2,    12.68,2,     0.35,2,     0.99,2,    4.008,2,    1.945,2,    0.370,2,   1.7880,2,    -1.10,2,   7.577,2,   2087.0,2,  0.0060,   0.015,   0.037,   0.310
    06AQANTX_4,   A12,   558,  1,     21,     21,2,19920531,0601,-42.4500,   4.3667, 4646,    220.5,   8.6302,  34.5109,2,  34.5175,2,  8.6070,    265.7,2,     4.50,2,    16.12,2,     0.05,2,     1.16,2,    3.667,2,    1.739,2,    0.401,2,-999.0000,5,    -9.00,5,-999.000,5,   2111.5,2,-999.0000,   0.012,-999.000,-999.000
    06AQANTX_4,   A12,   558,  1,     20,     20,2,19920531,0601,-42.4500,   4.3667, 4646,    302.5,   7.6300,  34.4620,2,  34.4598,2,  7.6003,    255.6,2,     6.58,2,    19.58,2,     0.04,2,     1.36,2,    3.434,2,    1.635,2,    0.371,2,   1.7390,4,    -0.37,4,   7.580,4,   2124.3,2,  0.0150,   0.010,   0.075,   0.310
    06AQANTX_4,   A12,   558,  1,     19,     19,2,19920531,0601,-42.4500,   4.3667, 4646,    399.7,   6.3515,  34.3517,2,  34.3451,2,  6.3159,    249.3,2,     9.81,2,    23.92,2,     0.05,2,     1.63,2,    3.147,2,    1.484,2,    0.277,2,   1.7500,2,     0.09,2,   7.629,2,   2139.3,2,  0.0060,   0.009,   0.037,   0.310
    06AQANTX_4,   A12,   558,  1,     18,     18,2,19920531,0601,-42.4500,   4.3667, 4646,    499.9,   5.0305,  34.2442,2,  34.2480,2,  4.9908,    255.9,2,    13.78,2,    26.78,2,     0.04,2,     1.82,2,    2.969,2,    1.365,2,    0.220,2,   1.7610,2,     0.37,2,   7.752,2,   2147.6,2,  0.0060,   0.008,   0.038,   0.310
    06AQANTX_4,   A12,   558,  1,     17,     17,2,19920531,0601,-42.4500,   4.3667, 4646,    599.0,   4.3926,  34.2264,2,  34.2255,2,  4.3476,    257.4,2,    17.69,2,    28.21,2,     0.04,2,     1.91,2,    2.611,2,    1.198,2,    0.188,2,   2.0450,4,     0.50,2,   7.772,2,   2158.1,2,  0.0070,   0.007,   0.038,   0.310
    06AQANTX_4,   A12,   558,  1,     16,     16,2,19920531,0601,-42.4500,   4.3667, 4646,    699.7,   3.9151,  34.2206,2,  34.2202,2,  3.8646,    255.4,2,    22.27,2,    29.61,2,     0.04,2,     1.99,2,    2.333,2,    1.094,2,    0.158,2,   2.9800,4,     4.16,4,  10.085,4,   2165.9,2,  0.0110,   0.007,   0.049,   0.310
    06AQANTX_4,   A12,   558,  1,     15,     15,2,19920531,0601,-42.4500,   4.3667, 4646,    851.6,   3.3512,  34.2453,2,  34.2449,2,  3.2925,    243.9,2,    30.88,2,    31.35,2,     0.05,2,     2.12,2,    1.799,2,    0.836,2,    0.108,2,   1.7840,2,     1.75,2,   7.859,2,   2182.8,2,  0.0060,   0.005,   0.039,   0.310
    06AQANTX_4,   A12,   558,  1,     14,     14,2,19920531,0601,-42.4500,   4.3667, 4646,    901.8,   3.2642,  34.2551,2,  34.2546,2,  3.2022,    243.5,2,    33.26,2,    31.75,2,     0.04,2,     2.16,2,    1.660,2,    0.774,2, -999.000,9,   1.9560,4,     2.32,2,   8.268,4,   2185.5,2,  0.0070,-999.000,   0.041,   0.310
    06AQANTX_4,   A12,   558,  1,     13,     13,2,19920531,0601,-42.4500,   4.3667, 4646,   1001.0,   3.0724,  34.2989,2,  34.3000,2,  3.0043,    227.3,2,    40.18,2,    32.72,2,     0.04,2,     2.23,2,    1.270,2,    0.584,2,    0.102,2,   2.0580,4,     3.13,2,   7.852,2,   2199.6,2,  0.0070,   0.005,   0.038,   0.310
    06AQANTX_4,   A12,   558,  1,     12,     12,2,19920531,0601,-42.4500,   4.3667, 4646,   1200.6,   2.7735,  34.3963,2,  34.3970,2,  2.6925,    207.4,2,    53.17,2,    34.12,2,     0.04,2,     2.32,2,    0.764,2,    0.371,2,    0.082,2,   2.0980,4,     4.53,2,   7.946,2,   2222.1,2,  0.0080,   0.005,   0.039,   0.310
    06AQANTX_4,   A12,   558,  1,     11,     11,2,19920531,0601,-42.4500,   4.3667, 4646,   1501.0,   2.6839,  34.5624,2,  34.5636,2,  2.5797,    188.6,2,    64.98,2,    33.83,2,     0.04,2,     2.29,2,    0.212,2,    0.108,2,    0.876,4,   2.2370,4,     6.20,2,   7.919,2,   2238.7,2,  0.0080,   0.118,   0.039,   0.310
    06AQANTX_4,   A12,   558,  1,     10,     10,2,19920531,0601,-42.4500,   4.3667, 4646,   1801.1,   2.6189,  34.6809,2,  34.6809,2,  2.4903,    192.2,2,    68.41,2,    32.11,2,     0.04,2,     2.17,2,    0.097,2,    0.054,2,    0.039,2,   1.8290,2,     8.78,2,   7.981,2,   2239.0,2,  0.0070,   0.003,   0.039,   0.310
    06AQANTX_4,   A12,   558,  1,      9,      9,2,19920531,0601,-42.4500,   4.3667, 4646,   2201.3,   2.5401,  34.7775,2,  34.7785,2,  2.3771,    212.3,2,    64.30,2,    28.84,2,     0.04,2,     1.95,2,    0.027,2,    0.029,3,    0.019,2,   1.8330,2,     7.46,2,   7.976,2,   2221.4,2,  0.0070,   0.003,   0.039,   0.310
    06AQANTX_4,   A12,   558,  1,      8,      8,2,19920531,0601,-42.4500,   4.3667, 4646,   2600.8,   2.3744,  34.8067,2,  34.8083,2,  2.1771,    223.0,2,    65.24,2,    27.57,2,     0.04,2,     1.85,2,    0.022,2,    0.008,4,    0.189,4,   2.7070,4,     5.96,2,   8.040,2,   2218.5,2,  0.0100,   0.007,   0.039,   0.310
    06AQANTX_4,   A12,   558,  1,      7,      7,2,19920531,0601,-42.4500,   4.3667, 4646,   3001.8,   2.2203,  34.8192,2,  34.8192,2,  1.9870,    229.7,2,    66.87,2,    27.00,2,     0.03,2,     1.83,2,    0.018,6,    0.021,3,    0.256,4,   2.7510,4,     5.85,4,   9.924,4,   2217.5,2,  0.0100,   0.008,   0.049,   0.310
    06AQANTX_4,   A12,   558,  1,      6,      6,2,19920531,0601,-42.4500,   4.3667, 4646,   3402.0,   1.9553,  34.8055,2,  34.8063,2,  1.6875,    229.4,2,    75.56,2,    27.83,2,     0.03,2,     1.86,2,    0.017,2,    0.015,3,    0.021,2,   2.0420,4,     5.84,2,   8.035,2,   2225.1,2,  0.0070,   0.003,   0.039,   0.310
    06AQANTX_4,   A12,   558,  1,      5,      5,2,19920531,0601,-42.4500,   4.3667, 4646,   3801.7,   1.5049,  34.7703,2,  34.7696,2,  1.2069,    227.0,2,    92.00,2,    29.59,2,     0.03,2,     2.01,2,    0.014,2,    0.023,4,    0.086,2,-999.0000,5,    -9.00,5,-999.000,5,   2239.8,2,-999.0000,   0.004,-999.000,-999.000
    06AQANTX_4,   A12,   558,  1,      4,      4,2,19920531,0601,-42.4500,   4.3667, 4646,   4200.0,   1.1074,  34.7363,2,  34.7364,2,  0.7779,    225.5,2,   106.54,2,    31.53,2,     0.03,2,     2.14,2,    0.016,2,    0.012,3,    0.439,4,-999.0000,5,    -9.00,5,-999.000,5,   2250.5,2,-999.0000,   0.014,-999.000,-999.000
    06AQANTX_4,   A12,   558,  1,      3,      3,2,19920531,0601,-42.4500,   4.3667, 4646,   4601.4,   1.0162,  34.7254,2,  34.7254,2,  0.6448,    225.7,2,   111.24,2,    32.02,2,     0.03,2,     2.18,2,    0.026,2,    0.025,3,    0.024,2,   1.8450,2,     7.79,2,   8.107,2,   2253.8,2,  0.0070,   0.002,   0.040,   0.310
    06AQANTX_4,   A12,   558,  1,      2,      2,2,19920531,0601,-42.4500,   4.3667, 4646,   4732.0,   1.0152,  34.7228,2,  34.7244,2,  0.6288,   -999.0,9,   112.04,2,    32.03,2,     0.03,2,     2.19,2, -999.000,9, -999.000,9, -999.000,9,-999.0000,9,    -9.00,9,-999.000,9,   2254.8,2,-999.0000,-999.000,-999.000,-999.000
    06AQANTX_4,   A12,   558,  1,      1,      1,2,19920531,0601,-42.4500,   4.3667, 4646,   4732.2,   1.0148,  34.7226,2,  34.7229,2,  0.6284,    224.9,2,   112.58,2,    32.04,2,     0.03,2,     2.16,2,    0.037,2,    0.034,3,    0.018,2,   1.8560,2,     7.45,2,   8.172,2,   2254.3,2,  0.0070,   0.003,   0.040,   0.310
    06AQANTX_4,   A12,   559,  1,     24,     24,2,19920531,1354,-42.6833,   3.5333, 4555,     21.5,   8.7264,  34.4243,2,  34.4224,2,  8.7242,    286.4,2,     1.67,2,    12.61,2,     0.32,2,     0.97,2,    3.881,2,    1.903,2, -999.000,9,-999.0000,9,    -9.00,9,-999.000,9,   -999.0,9,-999.0000,-999.000,-999.000,-999.000
    06AQANTX_4,   A12,   559,  1,     23,     23,2,19920531,1354,-42.6833,   3.5333, 4555,     70.8,   8.7336,  34.4270,2,  34.4285,2,  8.7262,    286.6,2,     1.49,2,    12.43,2,     0.33,2,     0.97,2,    3.880,2,    1.891,2, -999.000,9,-999.0000,9,    -9.00,9,-999.000,9,   -999.0,9,-999.0000,-999.000,-999.000,-999.000
    06AQANTX_4,   A12,   559,  1,     22,     22,2,19920531,1354,-42.6833,   3.5333, 4555,    141.4,   8.7434,  34.4283,2,  34.4296,2,  8.7285,    288.6,2,     1.46,2,    12.40,2,     0.34,2,     0.97,2,    3.890,2,    1.894,2, -999.000,9,-999.0000,9,    -9.00,9,-999.000,9,   -999.0,9,-999.0000,-999.000,-999.000,-999.000
    06AQANTX_4,   A12,   559,  1,     21,     21,2,19920531,1354,-42.6833,   3.5333, 4555,    221.8,   8.6354,  34.4880,2,  34.4721,3,  8.6120,    271.9,2,     2.52,2,    14.47,2,     0.14,2,     1.07,2,    3.728,2,    1.817,2, -999.000,9,-999.0000,9,    -9.00,9,-999.000,9,   -999.0,9,-999.0000,-999.000,-999.000,-999.000
    06AQANTX_4,   A12,   559,  1,     20,     20,2,19920531,1354,-42.6833,   3.5333, 4555,    302.3,   7.7391,  34.5207,2,  34.4767,4,  7.7091,    252.5,2,     5.58,2,    18.90,2,     0.04,2,     1.33,2,    3.413,2,    1.640,2, -999.000,9,-999.0000,9,    -9.00,9,-999.000,9,   -999.0,9,-999.0000,-999.000,-999.000,-999.000
    06AQANTX_4,   A12,   559,  1,     19,     19,2,19920531,1354,-42.6833,   3.5333, 4555,    401.1,   6.2733,  34.3443,2,  34.3272,3,  6.2378,    249.2,2,     9.29,2,    24.13,2,     0.04,2,     1.63,2,    3.206,2,    1.520,2, -999.000,9,-999.0000,9,    -9.00,9,-999.000,9,   -999.0,9,-999.0000,-999.000,-999.000,-999.000
    06AQANTX_4,   A12,   559,  1,     18,     18,2,19920531,1354,-42.6833,   3.5333, 4555,    500.7,   5.0852,  34.2503,2,  34.2531,2,  5.0452,    252.6,2,    12.71,2,    26.40,2,     0.04,2,     1.79,2,    2.918,2,    1.366,2, -999.000,9,-999.0000,9,    -9.00,9,-999.000,9,   -999.0,9,-999.0000,-999.000,-999.000,-999.000
    06AQANTX_4,   A12,   559,  1,     17,     17,2,19920531,1354,-42.6833,   3.5333, 4555,    593.8,   4.5415,  34.2320,2,  34.2353,2,  4.4962,    253.7,2,    16.11,2,    27.69,2,     0.04,2,     1.87,2,    2.609,2,    1.234,2, -999.000,9,-999.0000,9,    -9.00,9,-999.000,9,   -999.0,9,-999.0000,-999.000,-999.000,-999.000
    06AQANTX_4,   A12,   559,  1,     16,     16,2,19920531,1354,-42.6833,   3.5333, 4555,    700.8,   3.9876,  34.2180,2,  34.2177,2,  3.9366,    254.8,2,    20.74,2,    28.86,2,     0.04,2,     1.98,2,    2.417,2,    1.112,2, -999.000,9,-999.0000,9,    -9.00,9,-999.000,9,   -999.0,9,-999.0000,-999.000,-999.000,-999.000
    06AQANTX_4,   A12,   559,  1,     15,     15,2,19920531,1354,-42.6833,   3.5333, 4555,    851.1,   3.4448,  34.2355,2,  34.2359,2,  3.3855,    246.1,2,    28.57,2,    30.65,2,     0.04,2,     2.10,2,    1.912,2,    0.892,2, -999.000,9,-999.0000,9,    -9.00,9,-999.000,9,   -999.0,9,-999.0000,-999.000,-999.000,-999.000
    06AQANTX_4,   A12,   559,  1,     14,     14,2,19920531,1354,-42.6833,   3.5333, 4555,    901.1,   3.3211,  34.2484,2,  34.2472,2,  3.2588,    242.6,2,    31.35,2,    31.25,2,     0.04,2,     2.15,2,    1.923,2,    1.451,4, -999.000,9,-999.0000,9,    -9.00,9,-999.000,9,   -999.0,9,-999.0000,-999.000,-999.000,-999.000
    06AQANTX_4,   A12,   559,  1,     13,     13,2,19920531,1354,-42.6833,   3.5333, 4555,   1002.0,   3.1275,  34.2752,2,  34.2761,2,  3.0589,    231.9,2,    36.58,2,    32.08,2,     0.04,2,     2.21,2,    1.470,2,    0.683,2, -999.000,9,-999.0000,9,    -9.00,9,-999.000,9,   -999.0,9,-999.0000,-999.000,-999.000,-999.000
    06AQANTX_4,   A12,   559,  1,     12,     12,2,19920531,1354,-42.6833,   3.5333, 4555,   1199.4,   2.8108,  34.3808,2,  34.3774,2,  2.7296,    208.1,2,    51.00,2,    33.88,2,     0.03,2,     2.31,2,    0.789,2,    0.370,2, -999.000,9,-999.0000,9,    -9.00,9,-999.000,9,   -999.0,9,-999.0000,-999.000,-999.000,-999.000
    06AQANTX_4,   A12,   559,  1,     11,     11,2,19920531,1354,-42.6833,   3.5333, 4555,   1491.7,   2.7062,  34.5530,2,  34.5536,2,  2.6026,    188.4,2,    64.47,2,    33.57,2,     0.04,2,     2.31,2,    0.267,2,    0.113,2, -999.000,9,-999.0000,9,    -9.00,9,-999.000,9,   -999.0,9,-999.0000,-999.000,-999.000,-999.000
    06AQANTX_4,   A12,   559,  1,     10,     10,2,19920531,1354,-42.6833,   3.5333, 4555,   1800.0,   2.6695,  34.6848,2,  34.6855,2,  2.5403,    191.7,2,    66.45,2,    31.42,2,     0.03,2,     2.15,2,    0.091,2,    0.033,2, -999.000,9,-999.0000,9,    -9.00,9,-999.000,9,   -999.0,9,-999.0000,-999.000,-999.000,-999.000
    06AQANTX_4,   A12,   559,  1,      9,      9,2,19920531,1354,-42.6833,   3.5333, 4555,   2099.9,   2.6315,  34.7619,2,  34.7637,2,  2.4763,    204.7,2,    63.28,2,    28.97,2,     0.03,2,     2.01,2,    0.029,2,    0.011,2, -999.000,9,-999.0000,9,    -9.00,9,-999.000,9,   -999.0,9,-999.0000,-999.000,-999.000,-999.000
    06AQANTX_4,   A12,   559,  1,      8,      8,2,19920531,1354,-42.6833,   3.5333, 4555,   2399.6,   2.5357,  34.8057,2,  34.8075,2,  2.3545,    217.2,2,    60.58,2,    27.30,2,     0.03,2,     1.85,2,    0.016,2,    0.003,3, -999.000,9,-999.0000,9,    -9.00,9,-999.000,9,   -999.0,9,-999.0000,-999.000,-999.000,-999.000
    06AQANTX_4,   A12,   559,  1,      7,      7,2,19920531,1354,-42.6833,   3.5333, 4555,   2800.2,   2.3359,  34.8214,2,  34.8233,2,  2.1201,    227.5,2,    62.84,2,    26.52,2,     0.03,2,     1.80,2,    0.018,2,    0.010,2, -999.000,9,-999.0000,9,    -9.00,9,-999.000,9,   -999.0,9,-999.0000,-999.000,-999.000,-999.000
    06AQANTX_4,   A12,   559,  1,      6,      6,2,19920531,1354,-42.6833,   3.5333, 4555,   3200.5,   1.9536,  34.7903,2,  34.7908,2,  1.7065,   -999.0,9,    78.89,2,    28.27,2,     0.03,2,     1.93,2,    0.029,2,    0.012,2, -999.000,9,-999.0000,9,    -9.00,9,-999.000,9,   -999.0,9,-999.0000,-999.000,-999.000,-999.000
    06AQANTX_4,   A12,   559,  1,      5,      5,2,19920531,1354,-42.6833,   3.5333, 4555,   3600.1,   1.6717,  34.7788,2,  34.7800,2,  1.3905,    223.5,2,    87.21,2,    28.98,2,     0.03,2,     2.01,2,    0.023,2,    0.008,2, -999.000,9,-999.0000,9,    -9.00,9,-999.000,9,   -999.0,9,-999.0000,-999.000,-999.000,-999.000
    06AQANTX_4,   A12,   559,  1,      4,      4,2,19920531,1354,-42.6833,   3.5333, 4555,   4000.2,   1.3201,  34.7476,2,  34.7491,2,  1.0061,   -999.0,9,   100.74,2,    30.57,2,     0.02,2,     2.07,2,    0.031,2,    0.010,2, -999.000,9,-999.0000,9,    -9.00,9,-999.000,9,   -999.0,9,-999.0000,-999.000,-999.000,-999.000
    06AQANTX_4,   A12,   559,  1,      3,      3,2,19920531,1354,-42.6833,   3.5333, 4555,   4299.5,   1.1095,  34.7329,2,  34.7344,2,  0.7690,    222.9,2,   107.35,2,    31.26,2,     0.03,2,     2.13,2,    0.033,2,    0.009,2, -999.000,9,-999.0000,9,    -9.00,9,-999.000,9,   -999.0,9,-999.0000,-999.000,-999.000,-999.000
    06AQANTX_4,   A12,   559,  1,      2,      2,2,19920531,1354,-42.6833,   3.5333, 4555,   4603.4,   0.9618,  34.7158,2,  34.7159,2,  0.5920,    222.2,2,   114.39,2,    32.13,2,     0.03,2,     2.22,2,    0.065,2,    0.022,2, -999.000,9,-999.0000,9,    -9.00,9,-999.000,9,   -999.0,9,-999.0000,-999.000,-999.000,-999.000
    06AQANTX_4,   A12,   559,  1,      1,      1,2,19920531,1354,-42.6833,   3.5333, 4555,   4604.5,   0.9617,  34.7164,2,  34.7164,2,  0.5917,   -999.0,9,   115.22,2,    32.04,2,     0.03,2,     2.22,2,    0.063,2,    0.021,2, -999.000,9,-999.0000,9,    -9.00,9,-999.000,9,   -999.0,9,-999.0000,-999.000,-999.000,-999.000