BOTTLE,20061211WHPSIODBK
EXPOCODE,SECT_ID,STNNBR,CASTNO,SAMPNO,BTLNBR,BTLNBR_FLAG_W,DATE,TIME,LATITUDE,LONGITUDE,DEPTH,CTDPRS,CTDTMP,CTDSAL,CTDSAL_FLAG_W,SALNTY,SALNTY_FLAG_W,THETA,OXYGEN,OXYGEN_FLAG_W,SILCAT,SILCAT_FLAG_W,NITRAT,NITRAT_FLAG_W,NITRIT,NITRIT_FLAG_W,PHSPHT,PHSPHT_FLAG_W,CFC-11,CFC-11_FLAG_W,CFC-12,CFC-12_FLAG_W,TRITUM,TRITUM_FLAG_W,HELIUM,HELIUM_FLAG_W,DELHE3,DELHE3_FLAG_W,NEON,NEON_FLAG_W,TCARBN,TCARBN_FLAG_W,HELIER,TRITER,NEONER,DELHER
,,,,,,,,,,,,DBAR,ITS-90,PSS-78,,PSS-78,,DEG C,UMOL/KG,,UMOL/KG,,UMOL/KG,,UMOL/KG,,UMOL/KG,,PMOL/KG,,PMOL/KG,,TU,,NMOL/KG,,PERCNT,,NMOL/KG,,UMOL/KG,,NMOL/KG,TU,NMOL/KG,PERCNT
    06AQANTX_4,  SR04,   627,  1,     24,     24,2,19920716,2146,-65.1333, -40.2167, 4727,     11.8,  -1.8663,  34.3968,2,  34.3970,2, -1.8665,    303.3,2,    76.02,2,    23.81,2,     0.06,2,     1.86,2,    5.887,2,    2.595,2, -999.000,9,   1.8340,2,     0.11,2,   8.250,2,   2206.6,2,  0.0070,-999.000,   0.041,   0.320
    06AQANTX_4,  SR04,   627,  1,     23,     23,2,19920716,2146,-65.1333, -40.2167, 4727,     39.0,  -1.8663,  34.4004,2,  34.3993,2, -1.8670,    303.0,2,    76.07,2,    23.85,2,     0.06,2,     1.86,2,    5.851,2,    2.590,2, -999.000,9,-999.0000,5,    -9.00,5,-999.000,5,   2209.9,2,-999.0000,-999.000,-999.000,-999.000
    06AQANTX_4,  SR04,   627,  1,     22,     22,2,19920716,2146,-65.1333, -40.2167, 4727,     79.1,  -1.8628,  34.4026,2,  34.3987,2, -1.8643,    302.4,2,    75.94,2,    23.97,2,     0.06,2,     1.86,2,    5.836,2,    2.568,2, -999.000,9,-999.0000,5,    -9.00,5,-999.000,5,   -999.0,9,-999.0000,-999.000,-999.000,-999.000
    06AQANTX_4,  SR04,   627,  1,     21,     21,2,19920716,2146,-65.1333, -40.2167, 4727,    118.7,  -1.6220,  34.4570,2,  34.4531,2, -1.6246,    282.9,2,    81.53,2,    29.33,2,     0.05,2,     2.07,2,    4.880,2,    2.152,2, -999.000,9,   1.8230,2,     1.35,2,   8.186,2,   2230.9,2,  0.0070,-999.000,   0.041,   0.320
    06AQANTX_4,  SR04,   627,  1,     20,     20,2,19920716,2146,-65.1333, -40.2167, 4727,    179.3,   0.1014,  34.6293,2,  34.6369,2,  0.0947,    202.9,2,   108.55,2,    34.84,2,     0.02,2,     2.36,2,    1.232,2,    0.542,2, -999.000,9,   1.8510,4,     7.22,4,   8.127,4,   2267.4,2,  0.0160,-999.000,   0.081,   0.320
    06AQANTX_4,  SR04,   627,  1,     19,     19,2,19920716,2146,-65.1333, -40.2167, 4727,    248.7,   0.4232,  34.6771,2,  34.6671,3,  0.4130,    189.3,2,   117.89,2,    35.24,2,     0.02,2,     2.42,2,    0.373,2,    0.168,2, -999.000,9,   1.8560,2,     8.86,2,   8.100,2,   2278.9,2,  0.0070,-999.000,   0.040,   0.320
    06AQANTX_4,  SR04,   627,  1,     18,     18,2,19920716,2146,-65.1333, -40.2167, 4727,    348.7,   0.4119,  34.6813,2,  34.6770,2,  0.3973,    188.9,2,   123.22,2,    35.31,2,     0.02,2,     2.41,2,    0.190,2,    0.093,2, -999.000,9,   1.8620,2,     8.71,2,   8.115,2,   2273.6,2,  0.0070,-999.000,   0.041,   0.320
    06AQANTX_4,  SR04,   627,  1,     17,     17,2,19920716,2146,-65.1333, -40.2167, 4727,    498.9,   0.3353,  34.6810,2,  34.6793,2,  0.3141,    192.1,2,   126.94,2,    35.11,2,     0.02,2,     2.40,2,    0.119,2,    0.058,2, -999.000,9,   1.8600,2,     9.34,2,   8.115,2,   2272.5,2,  0.0070,-999.000,   0.041,   0.320
    06AQANTX_4,  SR04,   627,  1,     16,     16,2,19920716,2146,-65.1333, -40.2167, 4727,    648.3,   0.2694,  34.6798,2,  34.6776,2,  0.2414,    195.9,2,   128.18,2,    35.01,2,     0.01,2,     2.41,2,    0.089,2,    0.049,2, -999.000,9,   1.8540,2,     8.26,2,   8.179,2,   2269.7,2,  0.0070,-999.000,   0.041,   0.320
    06AQANTX_4,  SR04,   627,  1,     15,     15,2,19920716,2146,-65.1333, -40.2167, 4727,    799.3,   0.2022,  34.6766,2,  34.6760,2,  0.1670,    201.6,2,   129.32,2,    34.57,2,     0.01,2,     2.39,2,    0.137,4,    0.156,4, -999.000,9,   1.8620,2,     8.27,2,   8.163,2,   2267.5,2,  0.0070,-999.000,   0.041,   0.320
    06AQANTX_4,  SR04,   627,  1,     14,     14,2,19920716,2146,-65.1333, -40.2167, 4727,    999.3,   0.1148,  34.6732,2,  34.6731,2,  0.0698,    206.9,2,   129.13,2,    34.49,2,     0.01,2,     2.38,2,    0.149,3,    0.088,3, -999.000,9,-999.0000,9,    -9.00,9,-999.000,9,   2264.7,2,-999.0000,-999.000,-999.000,-999.000
    06AQANTX_4,  SR04,   627,  1,     13,     13,2,19920716,2146,-65.1333, -40.2167, 4727,   1198.6,   0.0417,  34.6698,2,  34.6708,2, -0.0137,    212.6,2,   129.12,2,    34.22,2,     0.01,2,     2.36,2,    0.091,2,    0.045,2, -999.000,9,-999.0000,5,    -9.00,5,-999.000,5,   2262.2,2,-999.0000,-999.000,-999.000,-999.000
    06AQANTX_4,  SR04,   627,  1,     12,     12,2,19920716,2146,-65.1333, -40.2167, 4727,   1498.9,  -0.0631,  34.6655,2,  34.6545,4, -0.1350,    220.9,2,   128.06,2,    33.92,2,     0.00,2,     2.35,2,    0.116,2,    0.063,2, -999.000,9,-999.0000,9,    -9.00,9,-999.000,9,   -999.0,9,-999.0000,-999.000,-999.000,-999.000
    06AQANTX_4,  SR04,   627,  1,     11,     11,2,19920716,2146,-65.1333, -40.2167, 4727,   1798.8,  -0.1502,  34.6627,2,  34.6491,4, -0.2399,    227.2,2,   127.87,2,    33.74,2,     0.00,2,     2.32,2,    0.132,2,    0.068,2, -999.000,9,   1.8830,2,     6.87,2,   8.267,2,   2256.7,2,  0.0070,-999.000,   0.041,   0.320
    06AQANTX_4,  SR04,   627,  1,     10,     10,2,19920716,2146,-65.1333, -40.2167, 4727,   2198.4,  -0.2318,  34.6591,2,  34.6587,2, -0.3474,    233.3,2,   127.00,2,    33.54,2,     0.00,2,     2.30,2,    0.178,2,    0.090,2, -999.000,9,-999.0000,9,    -9.00,9,-999.000,9,   2254.8,2,-999.0000,-999.000,-999.000,-999.000
    06AQANTX_4,  SR04,   627,  1,      9,      9,2,19920716,2146,-65.1333, -40.2167, 4727,   2599.3,  -0.2780,  34.6580,2,  34.6561,2, -0.4225,    234.7,2,   127.18,2,    33.24,2,     0.01,2,     2.29,2,    0.156,2,    0.102,3, -999.000,9,   1.8690,2,     5.92,2,   8.245,2,   2252.9,2,  0.0070,-999.000,   0.040,   0.310
    06AQANTX_4,  SR04,   627,  1,      8,      8,2,19920716,2146,-65.1333, -40.2167, 4727,   2999.1,  -0.3225,  34.6557,2,  34.6559,2, -0.4982,    238.1,2,   126.11,2,    33.17,2,     0.01,2,     2.31,2,    0.128,6,    0.066,6, -999.000,9,-999.0000,9,    -9.00,9,-999.000,9,   2257.1,2,-999.0000,-999.000,-999.000,-999.000
    06AQANTX_4,  SR04,   627,  1,      7,      7,2,19920716,2146,-65.1333, -40.2167, 4727,   3399.1,  -0.3613,  34.6541,2,-999.0000,9, -0.5704,    241.3,2,   125.44,2,    33.14,2,     0.00,2,     2.30,2,    0.143,2,    0.076,2, -999.000,9,   1.8610,2,     5.69,2,   8.267,2,   2251.8,2,  0.0070,-999.000,   0.041,   0.310
    06AQANTX_4,  SR04,   627,  1,      6,      6,2,19920716,2146,-65.1333, -40.2167, 4727,   3799.2,  -0.4011,  34.6521,2,  34.6458,4, -0.6459,    244.2,2,   125.62,2,    33.05,2,     0.01,2,     2.29,2,    0.196,2,    0.100,2, -999.000,9,-999.0000,9,    -9.00,9,-999.000,9,   2248.2,2,-999.0000,-999.000,-999.000,-999.000
    06AQANTX_4,  SR04,   627,  1,      5,      5,2,19920716,2146,-65.1333, -40.2167, 4727,   4199.4,  -0.4700,  34.6477,2,  34.6397,4, -0.7516,    249.5,2,   120.99,2,    32.96,2,     0.01,2,     2.27,2,    0.372,2,    0.181,2, -999.000,9,   1.8620,2,     4.88,2,   8.249,2,   2246.8,2,  0.0070,-999.000,   0.040,   0.310
    06AQANTX_4,  SR04,   627,  1,      4,      4,2,19920716,2146,-65.1333, -40.2167, 4727,   4599.2,  -0.5368,  34.6424,2,  34.6435,2, -0.8573,    252.5,2,   120.01,2,    32.93,2,     0.01,2,     2.28,2,    0.475,2,    0.230,2, -999.000,9,   1.8650,2,     4.66,2,   8.306,2,   2246.5,2,  0.0070,-999.000,   0.041,   0.310
    06AQANTX_4,  SR04,   627,  1,      3,      3,2,19920716,2146,-65.1333, -40.2167, 4727,   4718.7,  -0.5584,  34.6388,2,  34.6258,4, -0.8908,    253.8,2,   120.38,2,    32.97,2,     0.01,2,     2.27,2,    0.693,2,    0.328,2, -999.000,9,-999.0000,5,    -9.00,5,-999.000,5,   2246.5,2,-999.0000,-999.000,-999.000,-999.000
    06AQANTX_4,  SR04,   627,  1,      2,      2,2,19920716,2146,-65.1333, -40.2167, 4727,   4777.1,  -0.5663,  34.6369,2,  34.6371,2, -0.9046,    253.9,2,   120.47,2,    33.02,2,     0.01,2,     2.28,2,    0.798,2,    0.367,2, -999.000,9,   2.2210,4,     9.34,4,   6.579,4,   2245.5,2,  0.0080,-999.000,   0.032,   0.310
    06AQANTX_4,  SR04,   627,  1,      1,      1,2,19920716,2146,-65.1333, -40.2167, 4727,   4827.6,  -0.5583,  34.6356,2,  34.6372,2, -0.9023,    255.8,2,   120.46,2,    33.12,2,     0.01,2,     2.26,2,    1.011,2,    0.731,4, -999.000,9,-999.0000,5,    -9.00,5,-999.000,5,   2247.3,2,-999.0000,-999.000,-999.000,-999.000
    06AQANTX_4,  SR04,   628,  3,     24,     24,2,19920717,1538,-64.9333, -41.3167, 4701,     10.3,  -1.8599,  34.4014,2,  34.4060,2, -1.8601,    302.2,2,    76.92,2,    24.31,2,     0.07,2,     1.86,2,    5.712,2,    2.532,2, -999.000,9,-999.0000,9,    -9.00,9,-999.000,9,   2205.9,2,-999.0000,-999.000,-999.000,-999.000
    06AQANTX_4,  SR04,   628,  3,     23,     23,2,19920717,1538,-64.9333, -41.3167, 4701,     39.5,  -1.8619,  34.4067,2,  34.4064,2, -1.8626,    301.9,2,    76.86,2,    24.29,2,     0.06,2,     1.86,2,    5.698,2,    2.536,2, -999.000,9,-999.0000,9,    -9.00,9,-999.000,9,   2205.0,2,-999.0000,-999.000,-999.000,-999.000
    06AQANTX_4,  SR04,   628,  3,     22,     22,2,19920717,1538,-64.9333, -41.3167, 4701,     80.1,  -1.8587,  34.4058,2,  34.4102,2, -1.8602,    300.0,2,    77.10,2,    24.82,2,     0.06,2,     1.88,2,    5.681,2,    2.519,2, -999.000,9,-999.0000,9,    -9.00,9,-999.000,9,   2206.8,2,-999.0000,-999.000,-999.000,-999.000
    06AQANTX_4,  SR04,   628,  3,     21,     21,2,19920717,1538,-64.9333, -41.3167, 4701,    120.0,  -1.3687,  34.5109,2,  34.5097,2, -1.3716,    259.2,2,    88.00,2,    31.75,2,     0.04,2,     2.15,2,    3.868,3,    1.707,2, -999.000,9,-999.0000,9,    -9.00,9,-999.000,9,   2240.9,2,-999.0000,-999.000,-999.000,-999.000
    06AQANTX_4,  SR04,   628,  3,     20,     20,2,19920717,1538,-64.9333, -41.3167, 4701,    180.2,   0.1786,  34.6474,2,  34.6499,2,  0.1717,    195.8,2,   111.36,2,    35.29,2,     0.02,2,     2.38,2,    0.992,2,    0.440,2, -999.000,9,-999.0000,9,    -9.00,9,-999.000,9,   2266.2,2,-999.0000,-999.000,-999.000,-999.000
    06AQANTX_4,  SR04,   628,  3,     19,     19,2,19920717,1538,-64.9333, -41.3167, 4701,    249.9,   0.3937,  34.6765,2,  34.6559,3,  0.3835,    188.5,2,   118.68,2,    35.47,2,     0.02,2,     2.40,2,    0.391,2,    0.179,2, -999.000,9,-999.0000,9,    -9.00,9,-999.000,9,   -999.0,9,-999.0000,-999.000,-999.000,-999.000
    06AQANTX_4,  SR04,   628,  3,     18,     18,2,19920717,1538,-64.9333, -41.3167, 4701,    350.1,   0.4051,  34.6814,2,  34.6648,3,  0.3905,    188.7,2,   123.68,2,    35.53,2,     0.02,2,     2.40,2,    0.200,2,    0.096,2, -999.000,9,-999.0000,9,    -9.00,9,-999.000,9,   2271.7,2,-999.0000,-999.000,-999.000,-999.000
    06AQANTX_4,  SR04,   628,  3,     17,     17,2,19920717,1538,-64.9333, -41.3167, 4701,    499.6,   0.3426,  34.6816,2,  34.6829,2,  0.3214,    191.2,2,   127.54,2,    35.46,2,     0.02,2,     2.41,2,    0.115,2,    0.055,2, -999.000,9,-999.0000,9,    -9.00,9,-999.000,9,   2270.0,2,-999.0000,-999.000,-999.000,-999.000
    06AQANTX_4,  SR04,   628,  3,     16,     16,2,19920717,1538,-64.9333, -41.3167, 4701,    648.8,   0.2705,  34.6800,2,  34.6795,2,  0.2425,    197.6,2,   129.24,2,    35.26,2,     0.01,2,     2.38,2,    0.155,4,    0.261,4, -999.000,9,-999.0000,9,    -9.00,9,-999.000,9,   2269.4,2,-999.0000,-999.000,-999.000,-999.000
    06AQANTX_4,  SR04,   628,  3,     15,     15,2,19920717,1538,-64.9333, -41.3167, 4701,    801.0,   0.2012,  34.6777,2,  34.6774,2,  0.1660,    201.5,2,   129.51,2,    35.00,2,     0.01,2,     2.38,2, -999.000,9, -999.000,9, -999.000,9,-999.0000,9,    -9.00,9,-999.000,9,   2264.2,2,-999.0000,-999.000,-999.000,-999.000
    06AQANTX_4,  SR04,   628,  3,     14,     14,2,19920717,1538,-64.9333, -41.3167, 4701,    998.5,   0.1178,  34.6741,2,  34.6749,2,  0.0728,    207.6,2,   129.74,2,    34.61,2,     0.02,2,     2.34,2,    0.116,2,    0.053,2, -999.000,9,-999.0000,9,    -9.00,9,-999.000,9,   2262.5,2,-999.0000,-999.000,-999.000,-999.000
    06AQANTX_4,  SR04,   628,  3,     13,     13,2,19920717,1538,-64.9333, -41.3167, 4701,   1198.5,   0.0478,  34.6708,2,  34.6723,2, -0.0076,    213.4,2,   129.81,2,    34.39,2,     0.02,2,     2.33,2,    0.093,2,    0.045,2, -999.000,9,-999.0000,9,    -9.00,9,-999.000,9,   2259.8,2,-999.0000,-999.000,-999.000,-999.000
    06AQANTX_4,  SR04,   628,  3,     12,     12,2,19920717,1538,-64.9333, -41.3167, 4701,   1499.5,  -0.0586,  34.6662,2,  34.6674,2, -0.1306,    220.1,2,   129.40,2,    34.15,2,     0.01,2,     2.34,2,    0.118,2,    0.058,2, -999.000,9,-999.0000,9,    -9.00,9,-999.000,9,   2257.2,2,-999.0000,-999.000,-999.000,-999.000
    06AQANTX_4,  SR04,   628,  3,     11,     11,2,19920717,1538,-64.9333, -41.3167, 4701,   1798.8,  -0.1437,  34.6632,2,  34.6610,2, -0.2334,    226.6,2,   128.80,2,    33.81,2,     0.01,2,     2.32,2,    0.139,2,    0.071,2, -999.000,9,-999.0000,9,    -9.00,9,-999.000,9,   -999.0,9,-999.0000,-999.000,-999.000,-999.000
    06AQANTX_4,  SR04,   628,  3,     10,     10,2,19920717,1538,-64.9333, -41.3167, 4701,   2200.7,  -0.2272,  34.6592,2,  34.6600,2, -0.3431,    234.7,2,   127.72,2,    33.88,2,     0.01,2,     2.33,2,    0.177,6,    0.088,6, -999.000,9,-999.0000,9,    -9.00,9,-999.000,9,   2251.7,2,-999.0000,-999.000,-999.000,-999.000
    06AQANTX_4,  SR04,   628,  3,      9,      9,2,19920717,1538,-64.9333, -41.3167, 4701,   2598.6,  -0.2754,  34.6584,2,  34.6580,2, -0.4199,    236.8,2,   127.21,2,    33.61,2,     0.01,2,     2.30,2,    0.133,2,    0.075,3, -999.000,9,-999.0000,9,    -9.00,9,-999.000,9,   2251.8,2,-999.0000,-999.000,-999.000,-999.000
    06AQANTX_4,  SR04,   628,  3,      8,      8,2,19920717,1538,-64.9333, -41.3167, 4701,   2999.1,  -0.3194,  34.6562,2,  34.6556,2, -0.4951,    237.4,2,   126.89,2,    33.48,2,     0.01,2,     2.28,2,    0.123,2,    0.062,2, -999.000,9,-999.0000,9,    -9.00,9,-999.000,9,   2245.4,2,-999.0000,-999.000,-999.000,-999.000
    06AQANTX_4,  SR04,   628,  3,      7,      7,2,19920717,1538,-64.9333, -41.3167, 4701,   3398.4,  -0.3590,  34.6544,2,  34.6543,2, -0.5681,    241.2,2,   126.84,2,    33.34,2,     0.02,2,     2.29,2,    0.145,2,    0.072,2, -999.000,9,-999.0000,9,    -9.00,9,-999.000,9,   -999.0,9,-999.0000,-999.000,-999.000,-999.000
    06AQANTX_4,  SR04,   628,  3,      6,      6,2,19920717,1538,-64.9333, -41.3167, 4701,   3798.7,  -0.3961,  34.6528,2,  34.6527,2, -0.6410,    243.6,2,   126.83,2,    33.35,2,     0.01,2,     2.29,2,    0.172,2,    0.084,2, -999.000,9,-999.0000,9,    -9.00,9,-999.000,9,   2244.0,2,-999.0000,-999.000,-999.000,-999.000
    06AQANTX_4,  SR04,   628,  3,      5,      5,2,19920717,1538,-64.9333, -41.3167, 4701,   4198.5,  -0.4598,  34.6483,2,  34.6454,2, -0.7417,    248.5,2,   122.40,2,    33.23,2,     0.01,2,     2.28,2,    0.276,2,    0.131,2, -999.000,9,-999.0000,9,    -9.00,9,-999.000,9,   2244.3,2,-999.0000,-999.000,-999.000,-999.000
    06AQANTX_4,  SR04,   628,  3,      4,      4,2,19920717,1538,-64.9333, -41.3167, 4701,   4600.0,  -0.5352,  34.6439,2,  34.6446,2, -0.8558,    254.6,2,   120.83,2,    33.23,2,     0.01,2,     2.27,2,    0.462,2,    0.207,2, -999.000,9,-999.0000,9,    -9.00,9,-999.000,9,   2240.8,2,-999.0000,-999.000,-999.000,-999.000
    06AQANTX_4,  SR04,   628,  3,      3,      3,2,19920717,1538,-64.9333, -41.3167, 4701,   4698.8,  -0.5543,  34.6407,2,  34.6405,2, -0.8847,    253.8,2,   121.08,2,    33.24,2,     0.01,2,     2.27,2,    0.589,2,    0.267,2, -999.000,9,-999.0000,9,    -9.00,9,-999.000,9,   2243.2,2,-999.0000,-999.000,-999.000,-999.000
    06AQANTX_4,  SR04,   628,  3,      2,      2,2,19920717,1538,-64.9333, -41.3167, 4701,   4764.3,  -0.5660,  34.6381,2,  34.6379,2, -0.9030,    254.6,2,   120.85,2,    33.27,2,     0.02,2,     2.28,2,    0.818,2,    0.368,2, -999.000,9,-999.0000,9,    -9.00,9,-999.000,9,   2245.1,2,-999.0000,-999.000,-999.000,-999.000
    06AQANTX_4,  SR04,   628,  3,      1,      1,2,19920717,1538,-64.9333, -41.3167, 4701,   4808.5,  -0.5610,  34.6384,2,  34.6377,2, -0.9029,    254.7,2,   120.73,2,    33.26,2,     0.01,2,     2.27,2,    0.808,2,    0.364,2, -999.000,9,-999.0000,9,    -9.00,9,-999.000,9,   -999.0,9,-999.0000,-999.000,-999.000,-999.000