BOTTLE,20061211WHPSIODBK
EXPOCODE,SECT_ID,STNNBR,CASTNO,SAMPNO,BTLNBR,BTLNBR_FLAG_W,DATE,TIME,LATITUDE,LONGITUDE,DEPTH,CTDPRS,CTDTMP,CTDSAL,CTDSAL_FLAG_W,SALNTY,SALNTY_FLAG_W,THETA,OXYGEN,OXYGEN_FLAG_W,SILCAT,SILCAT_FLAG_W,NITRAT,NITRAT_FLAG_W,NITRIT,NITRIT_FLAG_W,PHSPHT,PHSPHT_FLAG_W,CFC-11,CFC-11_FLAG_W,CFC-12,CFC-12_FLAG_W,TRITUM,TRITUM_FLAG_W,HELIUM,HELIUM_FLAG_W,DELHE3,DELHE3_FLAG_W,NEON,NEON_FLAG_W,TCARBN,TCARBN_FLAG_W,HELIER,TRITER,NEONER,DELHER
,,,,,,,,,,,,DBAR,ITS-90,PSS-78,,PSS-78,,DEG C,UMOL/KG,,UMOL/KG,,UMOL/KG,,UMOL/KG,,UMOL/KG,,PMOL/KG,,PMOL/KG,,TU,,NMOL/KG,,PERCNT,,NMOL/KG,,UMOL/KG,,NMOL/KG,TU,NMOL/KG,PERCNT
    06AQANTX_4,   A12,   591,  2,     24,     24,2,19920614,0044,-64.0000,   0.0000, 5160,      7.2,  -1.8017,  34.0834,2,  34.0839,2, -1.8018,    340.4,2,    57.67,2,    26.29,2,     0.23,2,  -999.00,9, -999.000,9, -999.000,9, -999.000,9,-999.0000,9,    -9.00,9,-999.000,9,   -999.0,9,-999.0000,-999.000,-999.000,-999.000
    06AQANTX_4,   A12,   591,  2,     23,     23,2,19920614,0044,-64.0000,   0.0000, 5160,     29.9,  -1.7896,  34.0837,2,  34.0846,2, -1.7902,    342.7,2,    57.25,2,    26.37,2,     0.23,2,  -999.00,9, -999.000,9, -999.000,9, -999.000,9,-999.0000,9,    -9.00,9,-999.000,9,   -999.0,9,-999.0000,-999.000,-999.000,-999.000
    06AQANTX_4,   A12,   591,  2,     22,     22,2,19920614,0044,-64.0000,   0.0000, 5160,     79.6,   0.1481,  34.4973,2,  34.4855,2,  0.1452,    233.3,2,    86.31,2,    32.35,2,     0.06,2,  -999.00,9, -999.000,9, -999.000,9, -999.000,9,-999.0000,9,    -9.00,9,-999.000,9,   -999.0,9,-999.0000,-999.000,-999.000,-999.000
    06AQANTX_4,   A12,   591,  2,     21,     21,2,19920614,0044,-64.0000,   0.0000, 5160,    140.2,   1.0606,  34.6542,2,  34.6550,2,  1.0543,    207.7,2,    97.47,2,    33.47,2,     0.02,2,  -999.00,9, -999.000,9, -999.000,9, -999.000,9,-999.0000,9,    -9.00,9,-999.000,9,   -999.0,9,-999.0000,-999.000,-999.000,-999.000
    06AQANTX_4,   A12,   591,  2,     20,     20,2,19920614,0044,-64.0000,   0.0000, 5160,    220.8,   1.1127,  34.6864,2,  34.6869,2,  1.1024,    193.4,2,   100.63,2,    32.73,2,     0.02,2,  -999.00,9, -999.000,9, -999.000,9, -999.000,9,-999.0000,9,    -9.00,9,-999.000,9,   -999.0,9,-999.0000,-999.000,-999.000,-999.000
    06AQANTX_4,   A12,   591,  2,     19,     19,2,19920614,0044,-64.0000,   0.0000, 5160,    319.6,   1.0513,  34.6980,2,  34.6981,2,  1.0363,    194.7,2,   103.61,2,    32.62,2,     0.02,2,  -999.00,9, -999.000,9, -999.000,9, -999.000,9,-999.0000,9,    -9.00,9,-999.000,9,   -999.0,9,-999.0000,-999.000,-999.000,-999.000
    06AQANTX_4,   A12,   591,  2,     18,     18,2,19920614,0044,-64.0000,   0.0000, 5160,    450.7,   0.8859,  34.6980,2,  34.6973,2,  0.8649,    198.0,2,   108.26,2,    32.94,2,     0.02,2,  -999.00,9, -999.000,9, -999.000,9, -999.000,9,-999.0000,9,    -9.00,9,-999.000,9,   -999.0,9,-999.0000,-999.000,-999.000,-999.000
    06AQANTX_4,   A12,   591,  2,     17,     17,2,19920614,0044,-64.0000,   0.0000, 5160,    580.1,   0.7331,  34.6942,2,  34.6981,2,  0.7061,    198.0,2,   108.13,2,    32.90,2,     0.02,2,  -999.00,9, -999.000,9, -999.000,9, -999.000,9,-999.0000,9,    -9.00,9,-999.000,9,   -999.0,9,-999.0000,-999.000,-999.000,-999.000
    06AQANTX_4,   A12,   591,  2,     16,     16,2,19920614,0044,-64.0000,   0.0000, 5160,    699.5,   0.5745,  34.6886,2,  34.6944,2,  0.5422,    200.5,2,   112.41,2,    32.94,2,     0.01,2,  -999.00,9, -999.000,9, -999.000,9, -999.000,9,-999.0000,9,    -9.00,9,-999.000,9,   -999.0,9,-999.0000,-999.000,-999.000,-999.000
    06AQANTX_4,   A12,   591,  2,     15,     15,2,19920614,0044,-64.0000,   0.0000, 5160,    849.1,   0.4563,  34.6849,2,  34.6859,2,  0.4168,    200.7,2,   119.80,2,    33.68,2,     0.01,2,  -999.00,9, -999.000,9, -999.000,9, -999.000,9,-999.0000,9,    -9.00,9,-999.000,9,   -999.0,9,-999.0000,-999.000,-999.000,-999.000
    06AQANTX_4,   A12,   591,  2,     14,     14,2,19920614,0044,-64.0000,   0.0000, 5160,   1000.2,   0.3601,  34.6814,2,  34.6794,2,  0.3130,   -999.0,9,   122.77,2,    34.31,2,     0.02,2,  -999.00,9, -999.000,9, -999.000,9, -999.000,9,-999.0000,9,    -9.00,9,-999.000,9,   -999.0,9,-999.0000,-999.000,-999.000,-999.000
    06AQANTX_4,   A12,   591,  2,     13,     13,2,19920614,0044,-64.0000,   0.0000, 5160,   1200.2,   0.2727,  34.6776,2,  34.6778,2,  0.2149,    201.9,2,   124.33,2,    34.43,2,     0.02,2,  -999.00,9, -999.000,9, -999.000,9, -999.000,9,-999.0000,9,    -9.00,9,-999.000,9,   -999.0,9,-999.0000,-999.000,-999.000,-999.000
    06AQANTX_4,   A12,   591,  2,     12,     12,2,19920614,0044,-64.0000,   0.0000, 5160,   1499.7,   0.1414,  34.6740,2,  34.6724,2,  0.0669,    213.2,2,   125.60,2,    33.71,2,     0.01,2,  -999.00,9, -999.000,9, -999.000,9, -999.000,9,-999.0000,9,    -9.00,9,-999.000,9,   -999.0,9,-999.0000,-999.000,-999.000,-999.000
    06AQANTX_4,   A12,   591,  2,     11,     11,2,19920614,0044,-64.0000,   0.0000, 5160,   1800.3,   0.0390,  34.6688,2,  34.6680,2, -0.0535,    220.9,2,   125.37,2,    33.01,2,     0.01,2,  -999.00,9, -999.000,9, -999.000,9, -999.000,9,-999.0000,9,    -9.00,9,-999.000,9,   -999.0,9,-999.0000,-999.000,-999.000,-999.000
    06AQANTX_4,   A12,   591,  2,     10,     10,2,19920614,0044,-64.0000,   0.0000, 5160,   2199.8,  -0.0803,  34.6641,2,  34.6631,2, -0.1987,   -999.0,9,   126.26,2,    33.47,2,     0.01,2,  -999.00,9, -999.000,9, -999.000,9, -999.000,9,-999.0000,9,    -9.00,9,-999.000,9,   -999.0,9,-999.0000,-999.000,-999.000,-999.000
    06AQANTX_4,   A12,   591,  2,      9,      9,2,19920614,0044,-64.0000,   0.0000, 5160,   2199.8,  -0.0805,  34.6643,2,  34.6607,2, -0.1989,    230.8,2,   125.82,2,    33.18,2,     0.01,2,  -999.00,9, -999.000,9, -999.000,9, -999.000,9,-999.0000,9,    -9.00,9,-999.000,9,   -999.0,9,-999.0000,-999.000,-999.000,-999.000
    06AQANTX_4,   A12,   591,  2,      8,      8,2,19920614,0044,-64.0000,   0.0000, 5160,   2701.0,  -0.1861,  34.6591,2,  34.6563,2, -0.3406,   -999.0,9,   124.57,2,    33.57,2,     0.02,2,  -999.00,9, -999.000,9, -999.000,9, -999.000,9,-999.0000,9,    -9.00,9,-999.000,9,   -999.0,9,-999.0000,-999.000,-999.000,-999.000
    06AQANTX_4,   A12,   591,  2,      7,      7,2,19920614,0044,-64.0000,   0.0000, 5160,   3200.2,  -0.2437,  34.6559,2,  34.6567,2, -0.4384,    234.7,2,   124.33,2,    32.99,2,     0.01,2,  -999.00,9, -999.000,9, -999.000,9, -999.000,9,-999.0000,9,    -9.00,9,-999.000,9,   -999.0,9,-999.0000,-999.000,-999.000,-999.000
    06AQANTX_4,   A12,   591,  2,      6,      6,2,19920614,0044,-64.0000,   0.0000, 5160,   3698.3,  -0.2924,  34.6548,2,  34.6516,2, -0.5308,    245.1,2,   125.22,2,    33.20,2,     0.01,2,  -999.00,9, -999.000,9, -999.000,9, -999.000,9,-999.0000,9,    -9.00,9,-999.000,9,   -999.0,9,-999.0000,-999.000,-999.000,-999.000
    06AQANTX_4,   A12,   591,  2,      5,      5,2,19920614,0044,-64.0000,   0.0000, 5160,   4200.5,  -0.3247,  34.6525,2,  34.6509,2, -0.6110,    246.4,2,   125.27,2,    33.28,2,     0.01,2,  -999.00,9, -999.000,9, -999.000,9, -999.000,9,-999.0000,9,    -9.00,9,-999.000,9,   -999.0,9,-999.0000,-999.000,-999.000,-999.000
    06AQANTX_4,   A12,   591,  2,      4,      4,2,19920614,0044,-64.0000,   0.0000, 5160,   4599.6,  -0.3569,  34.6514,2,  34.6469,4, -0.6835,    248.9,2,   120.80,2,    32.65,2,     0.01,2,  -999.00,9, -999.000,9, -999.000,9, -999.000,9,-999.0000,9,    -9.00,9,-999.000,9,   -999.0,9,-999.0000,-999.000,-999.000,-999.000
    06AQANTX_4,   A12,   591,  2,      3,      3,2,19920614,0044,-64.0000,   0.0000, 5160,   5129.4,  -0.4340,  34.6463,2,  34.6447,2, -0.8159,    250.8,2,   120.26,2,    32.61,2,     0.02,2,  -999.00,9, -999.000,9, -999.000,9, -999.000,9,-999.0000,9,    -9.00,9,-999.000,9,   -999.0,9,-999.0000,-999.000,-999.000,-999.000
    06AQANTX_4,   A12,   591,  2,      2,      2,2,19920614,0044,-64.0000,   0.0000, 5160,   5201.2,  -0.4371,  34.6463,2,  34.6444,2, -0.8270,    251.8,2,   120.22,2,    32.98,2,     0.02,2,  -999.00,9, -999.000,9, -999.000,9, -999.000,9,-999.0000,9,    -9.00,9,-999.000,9,   -999.0,9,-999.0000,-999.000,-999.000,-999.000
    06AQANTX_4,   A12,   591,  2,      1,      1,2,19920614,0044,-64.0000,   0.0000, 5160,   5269.6,  -0.4375,  34.6452,2,  34.6448,2, -0.8352,   -999.0,9,   120.76,2,    32.36,2,     0.02,2,  -999.00,9, -999.000,9, -999.000,9, -999.000,9,-999.0000,9,    -9.00,9,-999.000,9,   -999.0,9,-999.0000,-999.000,-999.000,-999.000
    06AQANTX_4,   A12,   592,  3,     24,     24,2,19920614,0829,-64.5000,   0.0000, 4619,      9.4,  -1.8386,  34.0847,2,  34.0861,2, -1.8388,    338.8,2,    57.97,2,    26.47,2,     0.23,2,     1.85,2,    6.588,2,    3.093,2,    0.101,2,-999.0000,5,    -9.00,5,-999.000,5,   -999.0,9,-999.0000,   0.005,-999.000,-999.000
    06AQANTX_4,   A12,   592,  3,     23,     23,2,19920614,0829,-64.5000,   0.0000, 4619,     49.8,  -1.8068,  34.0872,2,  34.0863,2, -1.8077,    283.2,2,    58.15,2,    26.39,2,     0.23,2,     1.87,2,    6.588,3,    3.084,3, -999.000,9,-999.0000,5,    -9.00,5,-999.000,5,   -999.0,9,-999.0000,-999.000,-999.000,-999.000
    06AQANTX_4,   A12,   592,  3,     22,     22,2,19920614,0829,-64.5000,   0.0000, 4619,     79.9,  -1.1715,  34.1953,2,  34.3016,4, -1.1735,    208.8,2,    73.36,2,    29.74,2,     0.17,2,     2.10,2,    4.486,3,    2.043,3,    0.092,2,-999.0000,5,    -9.00,5,-999.000,5,   -999.0,9,-999.0000,   0.007,-999.000,-999.000
    06AQANTX_4,   A12,   592,  3,     21,     21,2,19920614,0829,-64.5000,   0.0000, 4619,    139.4,   0.5991,  34.5962,2,  34.6059,2,  0.5933,    198.5,2,    97.24,2,    33.35,2,     0.02,2,     2.30,2,    1.356,2,    0.566,2,    0.026,2,   1.8360,2,     7.70,2,   8.049,2,   -999.0,9,  0.0070,   0.003,   0.039,   0.310
    06AQANTX_4,   A12,   592,  3,     20,     20,2,19920614,0829,-64.5000,   0.0000, 4619,    220.5,   0.7930,  34.6701,2,  34.6703,2,  0.7833,    199.2,2,   104.50,2,    32.80,2,     0.03,2,     2.27,2,    0.648,2,    0.263,3,    0.020,2,   1.8330,4,     9.30,4,   8.086,4,   -999.0,9,  0.0160,   0.003,   0.080,   0.310
    06AQANTX_4,   A12,   592,  3,     19,     19,2,19920614,0829,-64.5000,   0.0000, 4619,    300.7,   0.7140,  34.6826,2,  34.6843,2,  0.7008,    198.8,2,   109.89,2,    32.83,2,     0.02,2,     2.27,2,    0.441,2,    0.173,3,    0.020,2,-999.0000,5,    -9.00,5,-999.000,5,   -999.0,9,-999.0000,   0.003,-999.000,-999.000
    06AQANTX_4,   A12,   592,  3,     18,     18,2,19920614,0829,-64.5000,   0.0000, 4619,    400.6,   0.7062,  34.6919,2,  34.6912,2,  0.6883,   -999.0,9,   112.11,2,    32.93,2,     0.03,2,     2.27,2,    0.311,2,    0.114,3,    0.013,2,   1.8390,2,     9.11,2,   8.132,2,   -999.0,9,  0.0070,   0.017,   0.040,   0.310
    06AQANTX_4,   A12,   592,  3,     17,     17,2,19920614,0829,-64.5000,   0.0000, 4619,    499.8,   0.5518,  34.6839,2,  34.6914,2,  0.5297,   -999.0,9,   111.99,2,    32.87,2,     0.02,2,     2.28,2, -999.000,9, -999.000,9,    0.025,2,-999.0000,5,    -9.00,5,-999.000,5,   -999.0,9,-999.0000,   0.017,-999.000,-999.000
    06AQANTX_4,   A12,   592,  3,     16,     16,2,19920614,0829,-64.5000,   0.0000, 4619,    600.4,   0.4903,  34.6860,2,  34.6850,2,  0.4635,    199.8,2,   118.23,2,    33.22,2,     0.02,2,     2.29,2,    0.258,2,    0.115,2, -999.000,9,-999.0000,5,    -9.00,5,-999.000,5,   -999.0,9,-999.0000,-999.000,-999.000,-999.000
    06AQANTX_4,   A12,   592,  3,     15,     15,2,19920614,0829,-64.5000,   0.0000, 4619,    699.7,   0.4114,  34.6822,2,  34.6841,2,  0.3800,    199.4,2,   120.73,2,    33.89,2,     0.02,2,     2.33,2,    0.230,2,    0.105,2,    0.013,2,   1.8630,2,     8.63,2,   8.167,2,   -999.0,9,  0.0070,   0.037,   0.041,   0.320
    06AQANTX_4,   A12,   592,  3,     14,     14,2,19920614,0829,-64.5000,   0.0000, 4619,    849.9,   0.3529,  34.6817,2,  34.6817,2,  0.3140,    202.5,2,   122.19,2,    33.24,2,     0.02,2,     2.31,2,    0.178,2,    0.127,4,    0.025,2,   1.8300,4,     8.19,2,   7.947,4,   -999.0,9,  0.0070,   0.009,   0.040,   0.320
    06AQANTX_4,   A12,   592,  3,     13,     13,2,19920614,0829,-64.5000,   0.0000, 4619,   1000.0,   0.2818,  34.6792,2,  34.6792,2,  0.2353,    205.0,2,   123.30,2,    33.38,2,     0.02,2,     2.31,2,    0.173,2,    0.677,4,    0.021,2,   1.8660,2,     8.65,2,   8.187,2,   -999.0,9,  0.0070,   0.006,   0.041,   0.320
    06AQANTX_4,   A12,   592,  3,     12,     12,2,19920614,0829,-64.5000,   0.0000, 4619,   1200.9,   0.1968,  34.6761,2,  34.6763,2,  0.1397,    207.5,2,   125.23,2,    33.22,2,     0.02,2,     2.31,2,    0.145,2,    0.093,3,    0.020,2,   1.8630,2,     8.37,2,   8.194,2,   -999.0,9,  0.0070,   0.007,   0.041,   0.320
    06AQANTX_4,   A12,   592,  3,     11,     11,2,19920614,0829,-64.5000,   0.0000, 4619,   1500.3,   0.0983,  34.6721,2,  34.6720,2,  0.0243,    213.8,2,   125.95,2,    33.18,2,     0.02,2,     2.29,2,    0.165,2,    0.659,4,    0.018,2,-999.0000,5,    -9.00,5,-999.000,5,   -999.0,9,-999.0000,   0.009,-999.000,-999.000
    06AQANTX_4,   A12,   592,  3,     10,     10,2,19920614,0829,-64.5000,   0.0000, 4619,   1799.8,   0.0068,  34.6673,2,-999.0000,9, -0.0852,   -999.0,9,  -999.00,9,  -999.00,9,  -999.00,9,  -999.00,9,    0.306,4,    0.165,4, -999.000,9,-999.0000,9,    -9.00,9,-999.000,9,   -999.0,9,-999.0000,-999.000,-999.000,-999.000
    06AQANTX_4,   A12,   592,  3,      9,      9,2,19920614,0829,-64.5000,   0.0000, 4619,   2200.4,  -0.1032,  34.6628,2,  34.6639,2, -0.2213,    226.0,2,   125.90,2,    33.04,2,     0.02,2,     2.28,2,    0.166,2,    0.377,4,    0.017,2,   1.9460,4,     6.72,2,   8.285,2,   -999.0,9,  0.0070,   0.005,   0.041,   0.320
    06AQANTX_4,   A12,   592,  3,      8,      8,2,19920614,0829,-64.5000,   0.0000, 4619,   2598.4,  -0.1730,  34.6607,2,  34.6615,2, -0.3197,    231.5,2,   125.12,2,    32.40,2,     0.02,2,     2.27,2,    0.262,3,    0.111,3,    0.033,2,-999.0000,5,    -9.00,5,-999.000,5,   -999.0,9,-999.0000,   0.016,-999.000,-999.000
    06AQANTX_4,   A12,   592,  3,      7,      7,2,19920614,0829,-64.5000,   0.0000, 4619,   3000.2,  -0.2299,  34.6581,2,  34.6597,2, -0.4079,    233.7,2,   125.11,2,    32.30,2,     0.02,2,     2.27,2,    0.203,3,    0.600,4,    0.026,2,-999.0000,5,    -9.00,5,-999.000,5,   -999.0,9,-999.0000,   0.003,-999.000,-999.000
    06AQANTX_4,   A12,   592,  3,      6,      6,2,19920614,0829,-64.5000,   0.0000, 4619,   3399.9,  -0.2673,  34.6556,2,  34.6563,2, -0.4790,    237.5,2,   124.16,2,    33.04,2,     0.01,2,     2.26,2,    0.295,2,    0.413,4,    0.033,2,-999.0000,5,    -9.00,5,-999.000,5,   -999.0,9,-999.0000,   0.007,-999.000,-999.000
    06AQANTX_4,   A12,   592,  3,      5,      5,2,19920614,0829,-64.5000,   0.0000, 4619,   3799.9,  -0.3042,  34.6535,2,  34.6548,2, -0.5519,    240.6,2,   124.23,2,    31.65,2,     0.01,2,     2.23,2,    0.379,2,    0.432,4,    0.038,2,   1.8620,2,     6.82,2,   8.141,2,   -999.0,9,  0.0070,   0.006,   0.041,   0.320
    06AQANTX_4,   A12,   592,  3,      4,      4,2,19920614,0829,-64.5000,   0.0000, 4619,   4200.6,  -0.3279,  34.6533,2,  34.6541,2, -0.6141,   -999.0,9,   124.29,2,    31.60,2,     0.02,2,     2.23,2,    0.380,2,    0.160,3, -999.000,9,-999.0000,5,    -9.00,5,-999.000,5,   -999.0,9,-999.0000,-999.000,-999.000,-999.000
    06AQANTX_4,   A12,   592,  3,      3,      3,2,19920614,0829,-64.5000,   0.0000, 4619,   4539.2,  -0.3314,  34.6527,2,  34.6521,2, -0.6524,    243.5,2,   128.74,2,    32.01,2,     0.02,2,     2.22,2,    0.319,2,    0.157,2,    0.039,2,   0.6080,4,   -22.05,4,-999.000,9,   -999.0,9,  0.0020,   0.003,-999.000,   0.320
    06AQANTX_4,   A12,   592,  3,      2,      2,2,19920614,0829,-64.5000,   0.0000, 4619,   4619.2,  -0.3285,  34.6521,2,  34.6520,2, -0.6581,    243.5,2,   128.07,2,    32.44,2,     0.02,2,     2.22,2,    0.283,2,    0.353,4,    0.059,2,-999.0000,5,    -9.00,5,-999.000,5,   -999.0,9,-999.0000,   0.004,-999.000,-999.000
    06AQANTX_4,   A12,   592,  3,      1,      1,2,19920614,0829,-64.5000,   0.0000, 4619,   4696.7,  -0.3398,  34.6519,2,  34.6528,2, -0.6773,    245.6,2,   127.11,2,    32.47,2,     0.02,2,     2.22,2,    0.276,2,    0.101,3,    0.039,2,   1.8970,2,     5.09,2,   8.255,2,   -999.0,9,  0.0070,   0.003,   0.041,   0.320