BOTTLE,20061211WHPSIODBK
EXPOCODE,SECT_ID,STNNBR,CASTNO,SAMPNO,BTLNBR,BTLNBR_FLAG_W,DATE,TIME,LATITUDE,LONGITUDE,DEPTH,CTDPRS,CTDTMP,CTDSAL,CTDSAL_FLAG_W,SALNTY,SALNTY_FLAG_W,THETA,OXYGEN,OXYGEN_FLAG_W,SILCAT,SILCAT_FLAG_W,NITRAT,NITRAT_FLAG_W,NITRIT,NITRIT_FLAG_W,PHSPHT,PHSPHT_FLAG_W,CFC-11,CFC-11_FLAG_W,CFC-12,CFC-12_FLAG_W,TRITUM,TRITUM_FLAG_W,HELIUM,HELIUM_FLAG_W,DELHE3,DELHE3_FLAG_W,NEON,NEON_FLAG_W,TCARBN,TCARBN_FLAG_W,HELIER,TRITER,NEONER,DELHER
,,,,,,,,,,,,DBAR,ITS-90,PSS-78,,PSS-78,,DEG C,UMOL/KG,,UMOL/KG,,UMOL/KG,,UMOL/KG,,UMOL/KG,,PMOL/KG,,PMOL/KG,,TU,,NMOL/KG,,PERCNT,,NMOL/KG,,UMOL/KG,,NMOL/KG,TU,NMOL/KG,PERCNT
    06AQANTX_4,   A12,   567,  1,     24,     24,2,19920602,2350,-46.1333,   0.9167, 4456,      8.2,   5.6331,  34.0406,2,  34.0399,2,  5.6324,   -999.0,9,     3.73,2,    18.87,2,     0.35,2,     1.33,2,    4.803,2,    2.549,3, -999.000,9,-999.0000,9,    -9.00,9,-999.000,9,   -999.0,9,-999.0000,-999.000,-999.000,-999.000
    06AQANTX_4,   A12,   567,  1,     23,     23,2,19920602,2350,-46.1333,   0.9167, 4456,     84.8,   5.6314,  34.0400,2,  34.0388,2,  5.6246,    308.6,2,     3.62,2,    18.61,2,     0.34,2,     1.33,2,    4.711,2,    2.217,2, -999.000,9,-999.0000,9,    -9.00,9,-999.000,9,   -999.0,9,-999.0000,-999.000,-999.000,-999.000
    06AQANTX_4,   A12,   567,  1,     22,     22,2,19920602,2350,-46.1333,   0.9167, 4456,    139.3,   5.3422,  34.0373,2,  34.0364,2,  5.3312,    303.0,2,  -999.00,9,  -999.00,9,     0.31,2,  -999.00,9,    4.709,2,    2.205,2, -999.000,9,-999.0000,9,    -9.00,9,-999.000,9,   -999.0,9,-999.0000,-999.000,-999.000,-999.000
    06AQANTX_4,   A12,   567,  1,     21,     21,2,19920602,2350,-46.1333,   0.9167, 4456,    178.7,   4.6048,  34.1852,2,  34.1847,2,  4.5917,    275.1,2,    11.81,2,    24.83,2,     0.04,2,     1.66,2,    4.107,2,    1.936,2, -999.000,9,-999.0000,9,    -9.00,9,-999.000,9,   -999.0,9,-999.0000,-999.000,-999.000,-999.000
    06AQANTX_4,   A12,   567,  1,     20,     20,2,19920602,2350,-46.1333,   0.9167, 4456,    221.8,   4.2667,  34.1789,2,  34.1790,2,  4.2509,    280.1,2,    13.54,2,    25.54,2,     0.04,2,     1.71,2,    4.009,2,    1.908,2, -999.000,9,-999.0000,9,    -9.00,9,-999.000,9,   -999.0,9,-999.0000,-999.000,-999.000,-999.000
    06AQANTX_4,   A12,   567,  1,     19,     19,2,19920602,2350,-46.1333,   0.9167, 4456,    259.5,   4.0066,  34.1721,2,  34.1717,2,  3.9886,    281.8,2,    14.69,2,    25.95,2,     0.05,2,     1.74,2,    4.017,2,    1.875,2, -999.000,9,-999.0000,9,    -9.00,9,-999.000,9,   -999.0,9,-999.0000,-999.000,-999.000,-999.000
    06AQANTX_4,   A12,   567,  1,     18,     18,2,19920602,2350,-46.1333,   0.9167, 4456,    360.0,   3.4618,  34.1746,2,  34.1734,2,  3.4381,    276.6,2,    19.68,2,    27.36,2,     0.04,2,     1.84,2,    3.638,2,    1.717,2, -999.000,9,-999.0000,9,    -9.00,9,-999.000,9,   -999.0,9,-999.0000,-999.000,-999.000,-999.000
    06AQANTX_4,   A12,   567,  1,     17,     17,2,19920602,2350,-46.1333,   0.9167, 4456,    460.4,   3.0883,  34.1938,2,  34.1948,2,  3.0590,    263.0,2,    26.09,2,    28.97,2,     0.04,2,     1.96,2,    3.044,2,    1.429,2, -999.000,9,-999.0000,9,    -9.00,9,-999.000,9,   -999.0,9,-999.0000,-999.000,-999.000,-999.000
    06AQANTX_4,   A12,   567,  1,     16,     16,2,19920602,2350,-46.1333,   0.9167, 4456,    559.7,   2.7604,  34.2296,2,  34.2295,2,  2.7257,    245.9,2,    33.90,2,    30.35,2,     0.04,2,     2.07,2,    2.430,2,    1.133,2, -999.000,9,-999.0000,9,    -9.00,9,-999.000,9,   -999.0,9,-999.0000,-999.000,-999.000,-999.000
    06AQANTX_4,   A12,   567,  1,     15,     15,2,19920602,2350,-46.1333,   0.9167, 4456,    760.8,   2.5120,  34.3521,2,  34.3541,2,  2.4650,    210.4,2,    50.84,2,    32.50,2,     0.04,2,     2.23,2,    1.249,2,    0.577,2, -999.000,9,-999.0000,9,    -9.00,9,-999.000,9,   -999.0,9,-999.0000,-999.000,-999.000,-999.000
    06AQANTX_4,   A12,   567,  1,     14,     14,2,19920602,2350,-46.1333,   0.9167, 4456,    912.1,   2.4930,  34.4611,2,  34.4610,2,  2.4355,    190.8,2,    61.32,2,    33.10,2,     0.04,2,     2.26,2, -999.000,9, -999.000,9, -999.000,9,-999.0000,9,    -9.00,9,-999.000,9,   -999.0,9,-999.0000,-999.000,-999.000,-999.000
    06AQANTX_4,   A12,   567,  1,     13,     13,2,19920602,2350,-46.1333,   0.9167, 4456,   1060.0,   2.5268,  34.5393,2,  34.5390,2,  2.4583,   -999.0,9,    65.65,2,    32.65,2,     0.04,2,     2.24,2,    0.367,2,    0.170,2, -999.000,9,-999.0000,9,    -9.00,9,-999.000,9,   -999.0,9,-999.0000,-999.000,-999.000,-999.000
    06AQANTX_4,   A12,   567,  1,     12,     12,2,19920602,2350,-46.1333,   0.9167, 4456,   1260.9,   2.5120,  34.6357,2,  34.6353,2,  2.4284,    184.3,2,    69.12,2,    31.32,2,     0.04,2,     2.15,2, -999.000,9, -999.000,9, -999.000,9,-999.0000,9,    -9.00,9,-999.000,9,   -999.0,9,-999.0000,-999.000,-999.000,-999.000
    06AQANTX_4,   A12,   567,  1,     11,     11,2,19920602,2350,-46.1333,   0.9167, 4456,   1559.2,   2.5764,  34.7285,2,  34.7280,2,  2.4684,    201.4,2,    63.88,2,    28.70,2,     0.04,2,     1.96,2,    0.063,3,    0.033,2, -999.000,9,-999.0000,9,    -9.00,9,-999.000,9,   -999.0,9,-999.0000,-999.000,-999.000,-999.000
    06AQANTX_4,   A12,   567,  1,     10,     10,2,19920602,2350,-46.1333,   0.9167, 4456,   1859.7,   2.3938,  34.7764,2,  34.7757,2,  2.2630,    211.2,2,    66.28,2,    27.14,2,     0.04,2,     1.84,2, -999.000,9, -999.000,9, -999.000,9,-999.0000,9,    -9.00,9,-999.000,9,   -999.0,9,-999.0000,-999.000,-999.000,-999.000
    06AQANTX_4,   A12,   567,  1,      9,      9,2,19920602,2350,-46.1333,   0.9167, 4456,   2260.0,   2.1632,  34.7883,2,  34.7882,2,  2.0012,    214.2,2,    70.51,2,    26.74,2,     0.04,2,     1.81,2, -999.000,9, -999.000,9, -999.000,9,-999.0000,9,    -9.00,9,-999.000,9,   -999.0,9,-999.0000,-999.000,-999.000,-999.000
    06AQANTX_4,   A12,   567,  1,      8,      8,2,19920602,2350,-46.1333,   0.9167, 4456,   2661.3,   1.7157,  34.7700,2,  34.7689,2,  1.5258,    215.9,2,    83.10,2,    27.74,2,     0.04,2,     1.89,2, -999.000,9, -999.000,9, -999.000,9,-999.0000,9,    -9.00,9,-999.000,9,   -999.0,9,-999.0000,-999.000,-999.000,-999.000
    06AQANTX_4,   A12,   567,  1,      7,      7,2,19920602,2350,-46.1333,   0.9167, 4456,   3060.6,   1.3811,  34.7483,2,  34.7492,2,  1.1610,    217.3,2,    93.24,2,    28.67,2,     0.04,2,     1.97,2, -999.000,9, -999.000,9, -999.000,9,-999.0000,9,    -9.00,9,-999.000,9,   -999.0,9,-999.0000,-999.000,-999.000,-999.000
    06AQANTX_4,   A12,   567,  1,      6,      6,2,19920602,2350,-46.1333,   0.9167, 4456,   3482.2,   1.0511,  34.7192,2,  34.7195,2,  0.7980,    217.6,2,   105.16,2,    30.12,2,     0.04,2,     2.05,2, -999.000,9, -999.000,9, -999.000,9,-999.0000,9,    -9.00,9,-999.000,9,   -999.0,9,-999.0000,-999.000,-999.000,-999.000
    06AQANTX_4,   A12,   567,  1,      5,      5,2,19920602,2350,-46.1333,   0.9167, 4456,   3879.2,   0.7826,  34.6979,2,  34.6978,2,  0.4967,    218.9,2,   113.08,2,    31.18,2,     0.03,2,     2.13,2, -999.000,9, -999.000,9, -999.000,9,-999.0000,9,    -9.00,9,-999.000,9,   -999.0,9,-999.0000,-999.000,-999.000,-999.000
    06AQANTX_4,   A12,   567,  1,      3,      3,2,19920602,2350,-46.1333,   0.9167, 4456,   4172.5,   0.6834,  34.6895,2,  34.6896,2,  0.3697,   -999.0,9,   117.02,2,    31.40,2,     0.03,2,     2.18,2, -999.000,9, -999.000,9, -999.000,9,-999.0000,9,    -9.00,9,-999.000,9,   -999.0,9,-999.0000,-999.000,-999.000,-999.000
    06AQANTX_4,   A12,   567,  1,      4,      4,2,19920602,2350,-46.1333,   0.9167, 4456,   4173.4,   0.6835,  34.6899,2,  34.6898,2,  0.3697,    217.6,2,   116.46,2,    31.38,2,     0.03,2,     2.17,2, -999.000,9, -999.000,9, -999.000,9,-999.0000,9,    -9.00,9,-999.000,9,   -999.0,9,-999.0000,-999.000,-999.000,-999.000
    06AQANTX_4,   A12,   567,  1,      1,      1,2,19920602,2350,-46.1333,   0.9167, 4456,   4541.0,   0.6716,  34.6869,2,  34.6884,2,  0.3182,   -999.0,9,   119.61,2,    31.71,2,     0.04,2,     2.17,2, -999.000,9, -999.000,9, -999.000,9,-999.0000,9,    -9.00,9,-999.000,9,   -999.0,9,-999.0000,-999.000,-999.000,-999.000
    06AQANTX_4,   A12,   567,  1,      2,      2,2,19920602,2350,-46.1333,   0.9167, 4456,   4543.0,   0.6715,  34.6868,2,  34.6870,2,  0.3179,    219.9,2,   119.07,2,    31.83,2,     0.04,2,     2.17,2, -999.000,9, -999.000,9, -999.000,9,-999.0000,9,    -9.00,9,-999.000,9,   -999.0,9,-999.0000,-999.000,-999.000,-999.000
    06AQANTX_4,   A12,   568,  1,     24,     24,2,19920603,0809,-46.7667,   0.6000, 4162,     21.2,   4.9093,  33.9692,2,-999.0000,9,  4.9077,    316.4,2,     3.81,2,    19.29,2,     0.39,2,     1.37,2,    4.954,2,    2.314,2, -999.000,9,   1.2710,4,    -8.74,4,-999.000,9,   -999.0,9,  0.0050,-999.000,-999.000,   0.320
    06AQANTX_4,   A12,   568,  1,     23,     23,2,19920603,0809,-46.7667,   0.6000, 4162,     49.7,   4.8820,  33.9747,2,  33.9756,2,  4.8783,    316.2,2,     4.14,2,    19.79,2,     0.37,2,     1.39,2,    4.999,2,    2.335,2, -999.000,9,-999.0000,5,    -9.00,5,-999.000,5,   -999.0,9,-999.0000,-999.000,-999.000,-999.000
    06AQANTX_4,   A12,   568,  1,     22,     22,2,19920603,0809,-46.7667,   0.6000, 4162,    102.0,   4.8413,  33.9777,2,  33.9767,2,  4.8337,    315.6,2,     4.04,2,    19.43,2,     0.37,2,     1.41,2,    4.994,2,    2.336,2, -999.000,9,-999.0000,5,    -9.00,5,-999.000,5,   -999.0,9,-999.0000,-999.000,-999.000,-999.000
    06AQANTX_4,   A12,   568,  1,     21,     21,2,19920603,0809,-46.7667,   0.6000, 4162,    142.7,   4.7789,  33.9779,2,  33.9779,2,  4.7683,    315.5,2,     4.21,2,    19.70,2,     0.37,2,     1.41,2,    4.956,2,    2.228,2, -999.000,9,   1.7860,2,    -1.51,2,   7.803,2,   -999.0,9,  0.0070,-999.000,   0.039,   0.320
    06AQANTX_4,   A12,   568,  1,     20,     20,2,19920603,0809,-46.7667,   0.6000, 4162,    199.7,   4.1699,  34.0989,2,  34.1251,3,  4.1559,    294.3,2,    12.73,2,    24.69,2,     0.06,2,     1.70,2,    4.505,2,    2.063,2, -999.000,9,   1.7830,2,    -1.32,2,   7.811,2,   -999.0,9,  0.0070,-999.000,   0.039,   0.320
    06AQANTX_4,   A12,   568,  1,     19,     19,2,19920603,0809,-46.7667,   0.6000, 4162,    250.8,   3.7270,  34.1455,2,  34.1467,2,  3.7102,    283.4,2,    16.08,2,    26.33,2,     0.05,2,     1.79,2,    4.007,2,    1.850,2, -999.000,9,-999.0000,5,    -9.00,5,-999.000,5,   -999.0,9,-999.0000,-999.000,-999.000,-999.000
    06AQANTX_4,   A12,   568,  1,     18,     18,2,19920603,0809,-46.7667,   0.6000, 4162,    300.0,   3.4274,  34.1529,2,  34.1544,2,  3.4079,    278.7,2,    18.92,2,    27.51,2,     0.05,2,     1.85,2,    3.787,2,    1.768,2, -999.000,9,-999.0000,5,    -9.00,5,-999.000,5,   -999.0,9,-999.0000,-999.000,-999.000,-999.000
    06AQANTX_4,   A12,   568,  1,     17,     17,2,19920603,0809,-46.7667,   0.6000, 4162,    398.8,   3.0305,  34.1816,2,  34.1802,2,  3.0055,    265.3,2,    25.37,2,    28.83,2,     0.05,2,     1.96,2,    3.261,2,    1.494,2, -999.000,9,   1.7910,2,     0.66,2,   7.862,2,   -999.0,9,  0.0070,-999.000,   0.039,   0.320
    06AQANTX_4,   A12,   568,  1,     16,     16,2,19920603,0809,-46.7667,   0.6000, 4162,    502.0,   2.7183,  34.2237,2,  34.2205,2,  2.6876,    248.2,2,    33.33,2,    30.32,2,     0.05,2,     2.08,2,    2.578,2,    1.193,2, -999.000,9,   1.7750,2,   -19.91,4,   7.911,2,   -999.0,9,  0.0070,-999.000,   0.040,   0.320
    06AQANTX_4,   A12,   568,  1,     15,     15,2,19920603,0809,-46.7667,   0.6000, 4162,    600.5,   2.5005,  34.2691,2,  34.2693,2,  2.4643,    232.1,2,    41.54,2,    31.92,2,     0.04,2,     2.17,2,    2.031,2,    0.938,2, -999.000,9,-999.0000,5,    -9.00,5,-999.000,5,   -999.0,9,-999.0000,-999.000,-999.000,-999.000
    06AQANTX_4,   A12,   568,  1,     14,     14,2,19920603,0809,-46.7667,   0.6000, 4162,    700.2,   2.4619,  34.3261,2,  34.3261,2,  2.4193,    217.6,2,    48.34,2,    32.62,2,     0.04,2,     2.22,2,    1.489,2,    0.697,2, -999.000,9,   1.8090,2,     4.16,2,   7.892,2,   -999.0,9,  0.0070,-999.000,   0.039,   0.320
    06AQANTX_4,   A12,   568,  1,     13,     13,2,19920603,0809,-46.7667,   0.6000, 4162,    799.8,   2.4971,  34.3962,2,  34.3975,2,  2.4474,    200.2,2,    55.73,2,    33.27,2,     0.04,2,     2.28,2,    0.954,2,    0.531,3, -999.000,9,   1.8380,2,     5.68,2,   7.987,2,   -999.0,9,  0.0070,-999.000,   0.040,   0.320
    06AQANTX_4,   A12,   568,  1,     12,     12,2,19920603,0809,-46.7667,   0.6000, 4162,    901.4,   2.4778,  34.4585,2,  34.4601,2,  2.4211,    190.9,2,    61.52,2,    33.14,2,     0.04,2,     2.28,2,    0.669,2,    0.339,2, -999.000,9,   1.8440,2,     6.92,2,   7.978,2,   -999.0,9,  0.0070,-999.000,   0.040,   0.320
    06AQANTX_4,   A12,   568,  1,     11,     11,2,19920603,0809,-46.7667,   0.6000, 4162,    996.9,   2.4903,  34.5206,2,  34.5191,2,  2.4267,    185.1,2,    65.64,2,    33.22,2,     0.04,2,     2.26,2,    0.432,2,    0.265,3, -999.000,9,   1.8450,4,     7.06,4,   7.932,4,   -999.0,9,  0.0160,-999.000,   0.079,   0.320
    06AQANTX_4,   A12,   568,  1,     10,     10,2,19920603,0809,-46.7667,   0.6000, 4162,   1201.0,   2.4900,  34.6154,2,  34.6181,2,  2.4112,    182.5,2,    69.68,2,    32.06,2,     0.05,2,     2.19,2,    0.216,2,    0.110,2, -999.000,9,   1.8230,2,     8.50,2,   7.918,2,   -999.0,9,  0.0070,-999.000,   0.040,   0.320
    06AQANTX_4,   A12,   568,  1,      9,      9,2,19920603,0809,-46.7667,   0.6000, 4162,   1500.6,   2.4462,  34.7021,2,  34.7021,2,  2.3445,    190.0,2,    71.02,2,    30.29,2,     0.04,2,     2.06,2,    0.113,2,    0.053,2, -999.000,9,   1.7780,4,     9.22,2,   7.870,2,   -999.0,9,  0.0070,-999.000,   0.039,   0.320
    06AQANTX_4,   A12,   568,  1,      8,      8,2,19920603,0809,-46.7667,   0.6000, 4162,   1799.8,   2.3141,  34.7522,2,  34.7515,2,  2.1896,    201.3,2,    72.54,2,    28.93,2,     0.04,2,     1.95,2,    0.088,2,    0.044,2, -999.000,9,-999.0000,5,    -9.00,5,-999.000,5,   -999.0,9,-999.0000,-999.000,-999.000,-999.000
    06AQANTX_4,   A12,   568,  1,      7,      7,2,19920603,0809,-46.7667,   0.6000, 4162,   2000.2,   2.1829,  34.7689,2,  34.7689,2,  2.0433,    206.6,2,    73.98,2,    28.30,2,     0.04,2,     1.91,2,    0.063,3,    0.039,2, -999.000,9,   1.8580,2,     8.63,2,   8.025,2,   -999.0,9,  0.0070,-999.000,   0.040,   0.320
    06AQANTX_4,   A12,   568,  1,      6,      6,2,19920603,0809,-46.7667,   0.6000, 4162,   2401.6,   1.8105,  34.7619,2,  34.7626,2,  1.6422,    210.7,2,    83.73,2,    28.73,2,     0.04,2,     1.95,2,    0.064,2,    0.035,2, -999.000,9,-999.0000,5,    -9.00,5,-999.000,5,   -999.0,9,-999.0000,-999.000,-999.000,-999.000
    06AQANTX_4,   A12,   568,  1,      5,      5,2,19920603,0809,-46.7667,   0.6000, 4162,   2801.0,   1.4017,  34.7370,2,  34.7368,2,  1.2055,    211.0,2,    96.12,2,    29.99,2,     0.03,2,     2.02,2,    0.091,2,    0.042,2, -999.000,9,   1.8490,2,     9.47,2,   8.008,2,   -999.0,9,  0.0070,-999.000,   0.040,   0.320
    06AQANTX_4,   A12,   568,  1,      4,      4,2,19920603,0809,-46.7667,   0.6000, 4162,   3201.1,   1.0172,  34.7135,2,  34.7108,2,  0.7923,    213.7,2,   106.56,2,    30.96,2,     0.04,2,     2.09,2,    0.154,2,    0.097,3, -999.000,9,   1.8680,2,     8.91,2,   8.144,2,   -999.0,9,  0.0070,-999.000,   0.041,   0.320
    06AQANTX_4,   A12,   568,  1,      3,      3,2,19920603,0809,-46.7667,   0.6000, 4162,   3499.8,   0.8039,  34.7006,2,  34.7001,2,  0.5555,    216.5,2,   112.65,2,    31.23,2,     0.04,2,     2.13,2,    0.139,2,    0.081,3, -999.000,9,   1.8620,2,     8.32,2,   8.139,2,   -999.0,9,  0.0070,-999.000,   0.041,   0.320
    06AQANTX_4,   A12,   568,  1,      2,      2,2,19920603,0809,-46.7667,   0.6000, 4162,   3800.2,   0.6389,  34.6893,2,  34.6881,2,  0.3650,    219.6,2,   117.12,2,    31.63,2,     0.03,2,     2.16,2,    0.172,2,    0.118,3, -999.000,9,   1.8610,2,     8.32,2,   8.141,2,   -999.0,9,  0.0070,-999.000,   0.041,   0.320
    06AQANTX_4,   A12,   568,  1,      1,      1,2,19920603,0809,-46.7667,   0.6000, 4162,   4218.2,   0.6055,  34.6856,2,  34.6855,2,  0.2893,    219.9,2,   120.44,2,    32.08,2,     0.03,2,     2.18,2,    0.175,2,    0.076,2, -999.000,9,   1.8480,2,     8.25,2,   8.098,2,   -999.0,9,  0.0070,-999.000,   0.040,   0.320