BOTTLE,20061211WHPSIODBK
EXPOCODE,SECT_ID,STNNBR,CASTNO,SAMPNO,BTLNBR,BTLNBR_FLAG_W,DATE,TIME,LATITUDE,LONGITUDE,DEPTH,CTDPRS,CTDTMP,CTDSAL,CTDSAL_FLAG_W,SALNTY,SALNTY_FLAG_W,THETA,OXYGEN,OXYGEN_FLAG_W,SILCAT,SILCAT_FLAG_W,NITRAT,NITRAT_FLAG_W,NITRIT,NITRIT_FLAG_W,PHSPHT,PHSPHT_FLAG_W,CFC-11,CFC-11_FLAG_W,CFC-12,CFC-12_FLAG_W,TRITUM,TRITUM_FLAG_W,HELIUM,HELIUM_FLAG_W,DELHE3,DELHE3_FLAG_W,NEON,NEON_FLAG_W,TCARBN,TCARBN_FLAG_W,HELIER,TRITER,NEONER,DELHER
,,,,,,,,,,,,DBAR,ITS-90,PSS-78,,PSS-78,,DEG C,UMOL/KG,,UMOL/KG,,UMOL/KG,,UMOL/KG,,UMOL/KG,,PMOL/KG,,PMOL/KG,,TU,,NMOL/KG,,PERCNT,,NMOL/KG,,UMOL/KG,,NMOL/KG,TU,NMOL/KG,PERCNT
    06AQANTX_4,   A12,   578,  1,     24,     24,2,19920609,1837,-57.0000,   0.0000, 3963,     17.2,  -1.2784,  34.1451,2,  34.1446,2, -1.2788,    337.6,2,    67.87,2,    26.72,2,     0.21,2,     1.90,2,    6.283,2,    2.877,2, -999.000,9,-999.0000,5,    -9.00,5,-999.000,5,   2187.9,2,-999.0000,-999.000,-999.000,-999.000
    06AQANTX_4,   A12,   578,  1,     23,     23,2,19920609,1837,-57.0000,   0.0000, 3963,     40.2,  -1.2301,  34.1547,2,  34.1545,2, -1.2311,    334.3,2,    68.25,2,    27.41,2,     0.21,2,     1.93,2, -999.000,9, -999.000,9, -999.000,9,-999.0000,9,    -9.00,9,-999.000,9,   -999.0,9,-999.0000,-999.000,-999.000,-999.000
    06AQANTX_4,   A12,   578,  1,     22,     22,2,19920609,1837,-57.0000,   0.0000, 3963,     78.1,  -1.1768,  34.1611,2,  34.1594,2, -1.1787,    330.2,2,    68.44,2,    27.29,2,     0.20,2,     1.94,2,    6.144,2,    2.875,2, -999.000,9,-999.0000,5,    -9.00,5,-999.000,5,   2191.0,2,-999.0000,-999.000,-999.000,-999.000
    06AQANTX_4,   A12,   578,  1,     21,     21,2,19920609,1837,-57.0000,   0.0000, 3963,    120.7,  -1.1590,  34.1619,2,  34.1616,2, -1.1621,    332.6,2,    68.24,2,    27.61,2,     0.20,2,     1.95,2,    6.092,2,    2.855,2, -999.000,9,-999.0000,5,    -9.00,5,-999.000,5,   2191.6,2,-999.0000,-999.000,-999.000,-999.000
    06AQANTX_4,   A12,   578,  1,     20,     20,2,19920609,1837,-57.0000,   0.0000, 3963,    178.6,  -0.6279,  34.4163,2,  34.4148,2, -0.6334,    266.1,2,    83.44,2,    30.96,2,     0.06,2,     2.14,2,    3.892,2,    1.753,2, -999.000,9,   1.8390,2,     3.41,2,   8.172,2,   2225.5,2,  0.0070,-999.000,   0.041,   0.320
    06AQANTX_4,   A12,   578,  1,     19,     19,2,19920609,1837,-57.0000,   0.0000, 3963,    249.4,   0.2572,  34.5790,2,-999.0000,9,  0.2474,   -999.0,9,  -999.00,9,  -999.00,9,  -999.00,9,  -999.00,9, -999.000,9, -999.000,9, -999.000,9,-999.0000,9,    -9.00,9,-999.000,9,   -999.0,9,-999.0000,-999.000,-999.000,-999.000
    06AQANTX_4,   A12,   578,  1,     18,     18,2,19920609,1837,-57.0000,   0.0000, 3963,    299.8,   0.6505,  34.6433,2,  34.6425,2,  0.6375,    206.1,2,   101.86,2,    32.37,2,     0.04,2,     2.27,2,    1.051,2,    0.470,2, -999.000,9,   1.8360,2,     8.38,2,   8.154,2,   2249.9,2,  0.0070,-999.000,   0.041,   0.320
    06AQANTX_4,   A12,   578,  1,     17,     17,2,19920609,1837,-57.0000,   0.0000, 3963,    350.3,   0.5452,  34.6534,2,  34.6525,2,  0.5302,    206.9,2,   106.62,2,    32.81,2,     0.04,2,     2.27,2,    0.894,2,    0.398,2, -999.000,9,-999.0000,9,    -9.00,9,-999.000,9,   2253.8,2,-999.0000,-999.000,-999.000,-999.000
    06AQANTX_4,   A12,   578,  1,     16,     16,2,19920609,1837,-57.0000,   0.0000, 3963,    400.7,   0.6250,  34.6709,2,  34.6710,2,  0.6074,    201.9,2,   109.54,2,    32.33,2,     0.03,2,     2.27,2, -999.000,9, -999.000,9, -999.000,9,-999.0000,9,    -9.00,9,-999.000,9,   2254.5,2,-999.0000,-999.000,-999.000,-999.000
    06AQANTX_4,   A12,   578,  1,     15,     15,2,19920609,1837,-57.0000,   0.0000, 3963,    499.2,   0.5828,  34.6803,2,  34.6797,2,  0.5606,    204.8,2,   113.33,2,    32.76,2,     0.04,2,     2.28,2,    0.453,2,    0.189,3, -999.000,9,   1.8600,4,     9.00,4,   8.094,4,   2258.5,2,  0.0160,-999.000,   0.081,   0.320
    06AQANTX_4,   A12,   578,  1,     14,     14,2,19920609,1837,-57.0000,   0.0000, 3963,    651.8,   0.4876,  34.6816,2,  34.6817,2,  0.4582,    205.9,2,   117.03,2,    33.22,2,     0.03,2,     2.28,2,    0.362,2,    0.162,2, -999.000,9,-999.0000,9,    -9.00,9,-999.000,9,   2259.0,2,-999.0000,-999.000,-999.000,-999.000
    06AQANTX_4,   A12,   578,  1,     13,     13,2,19920609,1837,-57.0000,   0.0000, 3963,    799.0,   0.4040,  34.6809,2,  34.6791,2,  0.3675,    204.1,2,   117.05,2,    33.26,2,     0.03,2,     2.29,2,    0.360,2,    0.160,2, -999.000,9,-999.0000,5,    -9.00,5,-999.000,5,   2258.1,2,-999.0000,-999.000,-999.000,-999.000
    06AQANTX_4,   A12,   578,  1,     12,     12,2,19920609,1837,-57.0000,   0.0000, 3963,    997.7,   0.3199,  34.6803,2,  34.6768,2,  0.2733,    204.9,2,   124.16,2,    33.63,2,     0.03,2,     2.34,2,    0.313,2,    0.279,4, -999.000,9,   1.8510,2,     8.04,2,   8.075,2,   2269.9,2,  0.0070,-999.000,   0.040,   0.320
    06AQANTX_4,   A12,   578,  1,     11,     11,2,19920609,1837,-57.0000,   0.0000, 3963,   1200.1,   0.2253,  34.6773,2,  34.6738,2,  0.1680,    209.7,2,   124.46,2,    33.19,2,     0.04,2,     2.31,2,    0.213,2,    0.093,2, -999.000,9,   1.8710,2,     8.29,2,   8.120,2,   2260.2,2,  0.0070,-999.000,   0.041,   0.320
    06AQANTX_4,   A12,   578,  1,     10,     10,2,19920609,1837,-57.0000,   0.0000, 3963,   1500.4,   0.1059,  34.6723,2,  34.6695,2,  0.0318,    214.4,2,   126.13,2,    33.19,2,     0.03,2,     2.30,2,    0.189,2,    0.086,2, -999.000,9,-999.0000,9,    -9.00,9,-999.000,9,   2258.3,2,-999.0000,-999.000,-999.000,-999.000
    06AQANTX_4,   A12,   578,  1,      9,      9,2,19920609,1837,-57.0000,   0.0000, 3963,   1800.8,   0.0018,  34.6681,2,  34.6644,2, -0.0902,    220.4,2,   126.26,2,    32.93,2,     0.03,2,     2.30,2,    0.208,2,    0.096,2, -999.000,9,   1.8670,2,     8.15,2,   8.150,2,   2254.3,2,  0.0070,-999.000,   0.041,   0.320
    06AQANTX_4,   A12,   578,  1,      8,      8,2,19920609,1837,-57.0000,   0.0000, 3963,   2200.2,  -0.1077,  34.6634,2,  34.6598,2, -0.2257,    226.7,2,   126.66,2,    33.12,2,     0.03,2,     2.29,2,    0.231,2,    0.120,3, -999.000,9,   1.8600,2,     6.82,2,   8.175,2,   2254.0,2,  0.0070,-999.000,   0.041,   0.320
    06AQANTX_4,   A12,   578,  1,      7,      7,2,19920609,1837,-57.0000,   0.0000, 3963,   2603.7,  -0.2102,  34.6585,2,  34.6571,2, -0.3565,    232.4,2,   126.57,2,    32.93,2,     0.03,2,     2.27,2,    0.271,2,    0.120,2, -999.000,9,   1.8530,4,     6.78,4,   8.199,4,   2252.9,2,  0.0160,-999.000,   0.082,   0.320
    06AQANTX_4,   A12,   578,  1,      6,      6,2,19920609,1837,-57.0000,   0.0000, 3963,   3001.3,  -0.2662,  34.6564,2,  34.6524,4, -0.4434,    236.0,2,   126.00,2,    32.73,2,     0.03,2,     2.27,2,    0.295,2,    0.136,2, -999.000,9,-999.0000,9,    -9.00,9,-999.000,9,   2250.4,2,-999.0000,-999.000,-999.000,-999.000
    06AQANTX_4,   A12,   578,  1,      5,      5,2,19920609,1837,-57.0000,   0.0000, 3963,   3498.4,  -0.3140,  34.6537,2,  34.6500,2, -0.5334,    240.0,2,   125.45,2,    32.52,2,     0.03,2,     2.27,2,    0.341,2,    0.150,2, -999.000,9,   1.8600,2,     5.65,2,   8.231,2,   2248.1,2,  0.0070,-999.000,   0.041,   0.320
    06AQANTX_4,   A12,   578,  1,      4,      4,2,19920609,1837,-57.0000,   0.0000, 3963,   3759.6,  -0.3362,  34.6525,2,  34.6493,2, -0.5792,   -999.0,9,   125.06,2,    32.44,2,     0.03,2,     2.26,2,    0.405,3,    0.169,2, -999.000,9,   1.8680,2,     5.48,2,   8.256,2,   2247.7,2,  0.0070,-999.000,   0.041,   0.320
    06AQANTX_4,   A12,   578,  1,      3,      3,2,19920609,1837,-57.0000,   0.0000, 3963,   3850.4,  -0.3320,  34.6522,2,  34.6485,2, -0.5837,    241.8,2,   125.28,2,    32.59,2,     0.03,2,     2.27,2, -999.000,9, -999.000,9, -999.000,9,-999.0000,9,    -9.00,9,-999.000,9,   2246.7,2,-999.0000,-999.000,-999.000,-999.000
    06AQANTX_4,   A12,   578,  1,      2,      2,2,19920609,1837,-57.0000,   0.0000, 3963,   3851.6,  -0.3323,  34.6526,2,  34.6498,2, -0.5841,    241.7,2,   125.11,2,    32.53,2,     0.02,2,     2.27,2,    0.383,2,    0.167,2, -999.000,9,-999.0000,9,    -9.00,9,-999.000,9,   2247.3,2,-999.0000,-999.000,-999.000,-999.000
    06AQANTX_4,   A12,   578,  1,      1,      1,2,19920609,1837,-57.0000,   0.0000, 3963,   3929.7,  -0.3278,  34.6524,2,  34.6488,2, -0.5873,    242.5,2,   125.30,2,    32.32,2,     0.03,2,     2.26,2,    0.395,2,    0.178,2, -999.000,9,   1.8620,2,     5.36,2,   8.171,2,   2248.3,2,  0.0070,-999.000,   0.041,   0.320
    06AQANTX_4,   A12,   579,  1,     24,     24,2,19920610,0610,-58.0000,   0.0000, 4501,      4.8,  -1.6084,  34.1311,2,  34.1348,2, -1.6085,    342.6,2,    68.28,2,    25.25,2,     0.24,2,     1.88,2,    6.463,2,    3.216,2, -999.000,9,-999.0000,9,    -9.00,9,-999.000,9,   -999.0,9,-999.0000,-999.000,-999.000,-999.000
    06AQANTX_4,   A12,   579,  1,     23,     23,2,19920610,0610,-58.0000,   0.0000, 4501,     48.8,  -1.6541,  34.1610,2,  34.1625,2, -1.6551,    343.2,2,    68.91,2,    24.79,2,     0.24,2,     1.88,2, -999.000,9, -999.000,9, -999.000,9,-999.0000,9,    -9.00,9,-999.000,9,   -999.0,9,-999.0000,-999.000,-999.000,-999.000
    06AQANTX_4,   A12,   579,  1,     22,     22,2,19920610,0610,-58.0000,   0.0000, 4501,     70.8,  -1.6259,  34.1686,2,  34.1692,2, -1.6274,    342.8,2,    69.17,2,    24.60,2,     0.24,2,     1.88,2,    6.392,2,    3.166,2, -999.000,9,-999.0000,9,    -9.00,9,-999.000,9,   -999.0,9,-999.0000,-999.000,-999.000,-999.000
    06AQANTX_4,   A12,   579,  1,     21,     21,2,19920610,0610,-58.0000,   0.0000, 4501,    140.1,  -0.8055,  34.4347,2,  34.4507,3, -0.8096,    264.3,2,    87.72,2,    29.61,2,     0.06,2,     2.20,2,    3.642,2,    1.757,2, -999.000,9,-999.0000,9,    -9.00,9,-999.000,9,   -999.0,9,-999.0000,-999.000,-999.000,-999.000
    06AQANTX_4,   A12,   579,  1,     20,     20,2,19920610,0610,-58.0000,   0.0000, 4501,    207.9,   0.5177,  34.6350,2,  34.6320,2,  0.5091,    211.8,2,   103.43,2,    31.31,2,     0.04,2,     2.29,2,    1.156,2,    0.585,2, -999.000,9,-999.0000,9,    -9.00,9,-999.000,9,   -999.0,9,-999.0000,-999.000,-999.000,-999.000
    06AQANTX_4,   A12,   579,  1,     19,     19,2,19920610,0610,-58.0000,   0.0000, 4501,    299.1,   0.5705,  34.6727,2,  34.6748,2,  0.5577,    204.6,2,   112.10,2,    31.50,2,     0.03,2,     2.29,2,    0.570,2,    0.299,2, -999.000,9,-999.0000,9,    -9.00,9,-999.000,9,   -999.0,9,-999.0000,-999.000,-999.000,-999.000
    06AQANTX_4,   A12,   579,  1,     18,     18,2,19920610,0610,-58.0000,   0.0000, 4501,    400.4,   0.4445,  34.6780,2,  34.6783,2,  0.4275,    204.9,2,   116.88,2,    32.07,2,     0.04,2,     2.34,2,    0.432,2,    0.251,3, -999.000,9,-999.0000,9,    -9.00,9,-999.000,9,   -999.0,9,-999.0000,-999.000,-999.000,-999.000
    06AQANTX_4,   A12,   579,  1,     17,     17,2,19920610,0610,-58.0000,   0.0000, 4501,    500.8,   0.4003,  34.6804,2,  34.6796,2,  0.3788,    200.1,2,   120.26,2,    32.40,2,     0.03,2,     2.37,2,    0.300,2,    0.188,3, -999.000,9,-999.0000,9,    -9.00,9,-999.000,9,   -999.0,9,-999.0000,-999.000,-999.000,-999.000
    06AQANTX_4,   A12,   579,  1,     16,     16,2,19920610,0610,-58.0000,   0.0000, 4501,    601.8,   0.3751,  34.6813,2,  34.6814,2,  0.3488,    200.8,2,   122.74,2,    32.79,2,     0.03,2,     2.38,2,    0.230,2,    0.093,3, -999.000,9,-999.0000,9,    -9.00,9,-999.000,9,   -999.0,9,-999.0000,-999.000,-999.000,-999.000
    06AQANTX_4,   A12,   579,  1,     15,     15,2,19920610,0610,-58.0000,   0.0000, 4501,    699.5,   0.3392,  34.6810,2,  34.6813,2,  0.3082,    198.8,2,   124.02,2,    32.97,2,     0.03,2,     2.38,2,    0.197,2,    0.125,3, -999.000,9,-999.0000,9,    -9.00,9,-999.000,9,   -999.0,9,-999.0000,-999.000,-999.000,-999.000
    06AQANTX_4,   A12,   579,  1,     14,     14,2,19920610,0610,-58.0000,   0.0000, 4501,    849.0,   0.2563,  34.6794,2,  34.6790,2,  0.2182,   -999.0,9,   124.32,2,    33.10,2,     0.03,2,     2.35,2,    0.229,3,    0.099,2, -999.000,9,-999.0000,9,    -9.00,9,-999.000,9,   -999.0,9,-999.0000,-999.000,-999.000,-999.000
    06AQANTX_4,   A12,   579,  1,     13,     13,2,19920610,0610,-58.0000,   0.0000, 4501,    997.4,   0.1927,  34.6773,2,  34.6761,2,  0.1471,    208.5,2,   125.56,2,    33.26,2,     0.03,2,     2.35,2, -999.000,9, -999.000,9, -999.000,9,-999.0000,9,    -9.00,9,-999.000,9,   -999.0,9,-999.0000,-999.000,-999.000,-999.000
    06AQANTX_4,   A12,   579,  1,     12,     12,2,19920610,0610,-58.0000,   0.0000, 4501,   1199.2,   0.0950,  34.6735,2,  34.6729,2,  0.0390,    213.3,2,   126.60,2,    33.13,2,     0.03,2,     2.34,2,    0.187,2,    0.102,2, -999.000,9,-999.0000,9,    -9.00,9,-999.000,9,   -999.0,9,-999.0000,-999.000,-999.000,-999.000
    06AQANTX_4,   A12,   579,  1,     11,     11,2,19920610,0610,-58.0000,   0.0000, 4501,   1501.5,  -0.0178,  34.6686,2,  34.6681,2, -0.0904,    219.6,2,   127.54,2,    32.59,2,     0.03,2,     2.33,2,    0.180,2,    0.069,3, -999.000,9,-999.0000,9,    -9.00,9,-999.000,9,   -999.0,9,-999.0000,-999.000,-999.000,-999.000
    06AQANTX_4,   A12,   579,  1,     10,     10,2,19920610,0610,-58.0000,   0.0000, 4501,   1800.3,  -0.0983,  34.6652,2,  34.6649,2, -0.1889,    224.2,2,   126.77,2,    32.58,2,     0.04,2,     2.34,2,    0.208,2,    0.115,3, -999.000,9,-999.0000,9,    -9.00,9,-999.000,9,   -999.0,9,-999.0000,-999.000,-999.000,-999.000
    06AQANTX_4,   A12,   579,  1,      9,      9,2,19920610,0610,-58.0000,   0.0000, 4501,   2199.8,  -0.1982,  34.6605,2,  34.6612,2, -0.3146,    230.4,2,   126.99,2,    32.35,2,     0.03,2,     2.32,2, -999.000,9, -999.000,9, -999.000,9,-999.0000,9,    -9.00,9,-999.000,9,   -999.0,9,-999.0000,-999.000,-999.000,-999.000
    06AQANTX_4,   A12,   579,  1,      8,      8,2,19920610,0610,-58.0000,   0.0000, 4501,   2601.6,  -0.2742,  34.6575,2,  34.6567,2, -0.4191,    234.8,2,   126.22,2,    32.46,2,     0.03,2,     2.32,2,    0.275,2,    0.238,4, -999.000,9,-999.0000,9,    -9.00,9,-999.000,9,   -999.0,9,-999.0000,-999.000,-999.000,-999.000
    06AQANTX_4,   A12,   579,  1,      7,      7,2,19920610,0610,-58.0000,   0.0000, 4501,   3001.0,  -0.3248,  34.6544,2,  34.6544,2, -0.5007,    238.6,2,   125.93,2,    32.38,2,     0.02,2,     2.31,2, -999.000,9, -999.000,9, -999.000,9,-999.0000,9,    -9.00,9,-999.000,9,   -999.0,9,-999.0000,-999.000,-999.000,-999.000
    06AQANTX_4,   A12,   579,  1,      6,      6,2,19920610,0610,-58.0000,   0.0000, 4501,   3400.5,  -0.3635,  34.6524,2,  34.6531,2, -0.5728,    241.0,2,   124.63,2,    32.80,2,     0.02,2,     2.31,2,    0.364,2,    0.202,3, -999.000,9,-999.0000,9,    -9.00,9,-999.000,9,   -999.0,9,-999.0000,-999.000,-999.000,-999.000
    06AQANTX_4,   A12,   579,  1,      5,      5,2,19920610,0610,-58.0000,   0.0000, 4501,   3801.0,  -0.3969,  34.6507,2,  34.6512,2, -0.6421,    245.2,2,   122.68,2,    33.14,2,     0.02,2,     2.30,2,    0.454,2,    0.239,3, -999.000,9,-999.0000,9,    -9.00,9,-999.000,9,   -999.0,9,-999.0000,-999.000,-999.000,-999.000
    06AQANTX_4,   A12,   579,  1,      4,      4,2,19920610,0610,-58.0000,   0.0000, 4501,   4200.5,  -0.4164,  34.6486,2,  34.6481,2, -0.6999,    247.4,2,   121.77,2,    33.09,2,     0.02,2,     2.30,2,    0.509,2,    0.309,3, -999.000,9,-999.0000,9,    -9.00,9,-999.000,9,   -999.0,9,-999.0000,-999.000,-999.000,-999.000
    06AQANTX_4,   A12,   579,  1,      3,      3,2,19920610,0610,-58.0000,   0.0000, 4501,   4402.3,  -0.4168,  34.6472,2,  34.6476,2, -0.7208,    248.0,2,   121.47,2,    32.82,2,     0.01,2,     2.29,2, -999.000,9, -999.000,9, -999.000,9,-999.0000,9,    -9.00,9,-999.000,9,   -999.0,9,-999.0000,-999.000,-999.000,-999.000
    06AQANTX_4,   A12,   579,  1,      2,      2,2,19920610,0610,-58.0000,   0.0000, 4501,   4480.0,  -0.4181,  34.6471,2,  34.6467,2, -0.7301,   -999.0,9,   121.04,2,    32.77,2,     0.02,2,     2.29,2,    0.549,2,    0.275,2, -999.000,9,-999.0000,9,    -9.00,9,-999.000,9,   -999.0,9,-999.0000,-999.000,-999.000,-999.000
    06AQANTX_4,   A12,   579,  1,      1,      1,2,19920610,0610,-58.0000,   0.0000, 4501,   4553.5,  -0.4130,  34.6476,2,  34.6475,2, -0.7329,    249.4,2,   121.44,2,    32.64,2,     0.03,2,     2.27,2,    0.547,2,    0.292,2, -999.000,9,-999.0000,9,    -9.00,9,-999.000,9,   -999.0,9,-999.0000,-999.000,-999.000,-999.000