BOTTLE,20061211WHPSIODBK
EXPOCODE,SECT_ID,STNNBR,CASTNO,SAMPNO,BTLNBR,BTLNBR_FLAG_W,DATE,TIME,LATITUDE,LONGITUDE,DEPTH,CTDPRS,CTDTMP,CTDSAL,CTDSAL_FLAG_W,SALNTY,SALNTY_FLAG_W,THETA,OXYGEN,OXYGEN_FLAG_W,SILCAT,SILCAT_FLAG_W,NITRAT,NITRAT_FLAG_W,NITRIT,NITRIT_FLAG_W,PHSPHT,PHSPHT_FLAG_W,CFC-11,CFC-11_FLAG_W,CFC-12,CFC-12_FLAG_W,TRITUM,TRITUM_FLAG_W,HELIUM,HELIUM_FLAG_W,DELHE3,DELHE3_FLAG_W,NEON,NEON_FLAG_W,TCARBN,TCARBN_FLAG_W,HELIER,TRITER,NEONER,DELHER
,,,,,,,,,,,,DBAR,ITS-90,PSS-78,,PSS-78,,DEG C,UMOL/KG,,UMOL/KG,,UMOL/KG,,UMOL/KG,,UMOL/KG,,PMOL/KG,,PMOL/KG,,TU,,NMOL/KG,,PERCNT,,NMOL/KG,,UMOL/KG,,NMOL/KG,TU,NMOL/KG,PERCNT
    06AQANTX_4,   A12,   604,  1,     24,     24,2,19920618,1032,-69.2333,  -0.0167, 2564,     14.7,  -1.8532,  34.3271,2,  34.3221,2, -1.8535,    314.6,2,    62.19,2,    26.96,2,     0.15,2,     1.98,2,    5.380,2,    1.975,4, -999.000,9,-999.0000,9,    -9.00,9,-999.000,9,   2204.5,2,-999.0000,-999.000,-999.000,-999.000
    06AQANTX_4,   A12,   604,  1,     23,     23,2,19920618,1032,-69.2333,  -0.0167, 2564,     40.0,  -1.8521,  34.3272,2,  34.3235,2, -1.8529,    313.6,2,    62.37,2,    26.82,2,     0.15,2,     1.99,2,    5.435,2,    2.024,4, -999.000,9,-999.0000,9,    -9.00,9,-999.000,9,   2204.7,2,-999.0000,-999.000,-999.000,-999.000
    06AQANTX_4,   A12,   604,  1,     22,     22,2,19920618,1032,-69.2333,  -0.0167, 2564,     69.5,  -1.8408,  34.3306,2,  34.3263,2, -1.8421,    313.8,2,    62.17,2,    26.68,2,     0.15,2,     1.99,2,    5.439,2,    1.787,4, -999.000,9,-999.0000,9,    -9.00,9,-999.000,9,   -999.0,9,-999.0000,-999.000,-999.000,-999.000
    06AQANTX_4,   A12,   604,  1,     21,     21,2,19920618,1032,-69.2333,  -0.0167, 2564,     98.8,  -1.7649,  34.3528,2,  34.3505,2, -1.7669,    310.3,2,    62.82,2,    27.35,2,     0.14,2,     2.01,2, -999.000,9, -999.000,9, -999.000,9,-999.0000,9,    -9.00,9,-999.000,9,   2205.1,2,-999.0000,-999.000,-999.000,-999.000
    06AQANTX_4,   A12,   604,  1,     20,     20,2,19920618,1032,-69.2333,  -0.0167, 2564,    149.1,  -0.8159,  34.4637,2,  34.4913,3, -0.8202,    254.9,2,    76.53,2,    30.25,2,     0.05,2,     2.15,2,    3.051,2,    1.047,4, -999.000,9,-999.0000,9,    -9.00,9,-999.000,9,   2230.5,2,-999.0000,-999.000,-999.000,-999.000
    06AQANTX_4,   A12,   604,  1,     19,     19,2,19920618,1032,-69.2333,  -0.0167, 2564,    199.9,   0.2506,  34.5790,2,-999.0000,9,  0.2428,    223.4,2,    86.69,2,    31.13,2,     0.03,2,     2.22,2,    1.827,2,    0.837,4, -999.000,9,-999.0000,9,    -9.00,9,-999.000,9,   -999.0,9,-999.0000,-999.000,-999.000,-999.000
    06AQANTX_4,   A12,   604,  1,     18,     18,2,19920618,1032,-69.2333,  -0.0167, 2564,    250.4,   0.5061,  34.6132,2,  34.6107,2,  0.4957,    214.3,2,    90.33,2,    31.52,2,     0.03,2,     2.22,2,    1.412,2,    0.332,4, -999.000,9,-999.0000,9,    -9.00,9,-999.000,9,   2249.9,2,-999.0000,-999.000,-999.000,-999.000
    06AQANTX_4,   A12,   604,  1,     17,     17,2,19920618,1032,-69.2333,  -0.0167, 2564,    300.4,   0.6691,  34.6425,2,  34.6373,2,  0.6561,   -999.0,9,    93.49,2,    31.20,2,     0.02,2,     2.22,2,    1.111,2,    0.526,4, -999.000,9,-999.0000,9,    -9.00,9,-999.000,9,   2251.2,2,-999.0000,-999.000,-999.000,-999.000
    06AQANTX_4,   A12,   604,  1,     16,     16,2,19920618,1032,-69.2333,  -0.0167, 2564,    400.2,   0.7069,  34.6627,2,  34.6595,2,  0.6890,    209.3,2,    97.31,2,    31.33,2,     0.02,2,     2.20,2,    0.901,2,    0.206,4, -999.000,9,-999.0000,9,    -9.00,9,-999.000,9,   2259.8,2,-999.0000,-999.000,-999.000,-999.000
    06AQANTX_4,   A12,   604,  1,     15,     15,2,19920618,1032,-69.2333,  -0.0167, 2564,    499.7,   0.6742,  34.6740,2,  34.6722,2,  0.6516,    210.0,2,   101.03,2,    31.07,2,     0.02,2,     2.19,2,    0.735,2,    0.355,4, -999.000,9,-999.0000,9,    -9.00,9,-999.000,9,   2253.6,2,-999.0000,-999.000,-999.000,-999.000
    06AQANTX_4,   A12,   604,  1,     14,     14,2,19920618,1032,-69.2333,  -0.0167, 2564,    600.2,   0.5975,  34.6749,2,  34.6712,2,  0.5702,    212.0,2,   103.18,2,    30.53,2,     0.02,2,     2.19,2,    0.685,2,    0.140,4, -999.000,9,-999.0000,9,    -9.00,9,-999.000,9,   2254.6,2,-999.0000,-999.000,-999.000,-999.000
    06AQANTX_4,   A12,   604,  1,     13,     13,2,19920618,1032,-69.2333,  -0.0167, 2564,    699.9,   0.5088,  34.6762,2,  34.6731,2,  0.4768,    212.9,2,   107.47,2,    31.07,2,     0.02,2,     2.22,2,    0.616,2,    0.464,4, -999.000,9,-999.0000,9,    -9.00,9,-999.000,9,   2253.9,2,-999.0000,-999.000,-999.000,-999.000
    06AQANTX_4,   A12,   604,  1,     12,     12,2,19920618,1032,-69.2333,  -0.0167, 2564,    800.2,   0.4477,  34.6764,2,  34.6725,2,  0.4108,    213.0,2,   109.80,2,    31.59,2,     0.02,2,     2.24,2,    0.565,2,    0.070,4, -999.000,9,-999.0000,9,    -9.00,9,-999.000,9,   2254.5,2,-999.0000,-999.000,-999.000,-999.000
    06AQANTX_4,   A12,   604,  1,     11,     11,2,19920618,1032,-69.2333,  -0.0167, 2564,    899.8,   0.3714,  34.6744,2,  34.6694,4,  0.3297,    215.3,2,   111.95,2,    32.33,2,     0.03,2,     2.23,2,    0.533,2,    0.120,4, -999.000,9,-999.0000,9,    -9.00,9,-999.000,9,   2254.3,2,-999.0000,-999.000,-999.000,-999.000
    06AQANTX_4,   A12,   604,  1,     10,     10,2,19920618,1032,-69.2333,  -0.0167, 2564,   1000.2,   0.3092,  34.6719,2,  34.6679,4,  0.2625,    217.6,2,   113.53,2,    32.66,2,     0.02,2,     2.23,2, -999.000,9, -999.000,9, -999.000,9,-999.0000,9,    -9.00,9,-999.000,9,   2254.9,2,-999.0000,-999.000,-999.000,-999.000
    06AQANTX_4,   A12,   604,  1,      9,      9,2,19920618,1032,-69.2333,  -0.0167, 2564,   1200.0,   0.1962,  34.6696,2,  34.6642,4,  0.1392,    217.6,2,   116.70,2,    32.99,2,     0.02,2,     2.26,2,    0.502,2,    0.054,4, -999.000,9,-999.0000,9,    -9.00,9,-999.000,9,   2257.4,2,-999.0000,-999.000,-999.000,-999.000
    06AQANTX_4,   A12,   604,  1,      8,      8,2,19920618,1032,-69.2333,  -0.0167, 2564,   1400.1,   0.1274,  34.6680,2,  34.6637,4,  0.0593,    219.0,2,   119.03,2,    32.73,2,     0.02,2,     2.26,2, -999.000,9, -999.000,9, -999.000,9,-999.0000,9,    -9.00,9,-999.000,9,   2256.7,2,-999.0000,-999.000,-999.000,-999.000
    06AQANTX_4,   A12,   604,  1,      7,      7,2,19920618,1032,-69.2333,  -0.0167, 2564,   1600.0,   0.0710,  34.6674,2,  34.6629,4, -0.0089,    221.1,2,   120.71,2,    32.40,2,     0.02,2,     2.26,2,    0.429,2,    0.195,4, -999.000,9,-999.0000,9,    -9.00,9,-999.000,9,   2257.3,2,-999.0000,-999.000,-999.000,-999.000
    06AQANTX_4,   A12,   604,  1,      6,      6,2,19920618,1032,-69.2333,  -0.0167, 2564,   1800.3,   0.0410,  34.6670,2,  34.6622,4, -0.0516,    221.8,2,   121.82,2,    32.32,2,     0.03,2,     2.26,2, -999.000,9, -999.000,9, -999.000,9,-999.0000,9,    -9.00,9,-999.000,9,   2257.2,2,-999.0000,-999.000,-999.000,-999.000
    06AQANTX_4,   A12,   604,  1,      5,      5,2,19920618,1032,-69.2333,  -0.0167, 2564,   2000.0,   0.0030,  34.6671,2,  34.6617,4, -0.1026,    223.1,2,   123.13,2,    32.46,2,     0.02,2,     2.26,2,    0.391,2,    0.140,4, -999.000,9,-999.0000,9,    -9.00,9,-999.000,9,   2256.3,2,-999.0000,-999.000,-999.000,-999.000
    06AQANTX_4,   A12,   604,  1,      4,      4,2,19920618,1032,-69.2333,  -0.0167, 2564,   2199.9,  -0.0243,  34.6665,2,  34.6614,4, -0.1437,   -999.0,9,   123.87,2,    32.87,2,     0.02,2,     2.27,2,    0.354,2,    0.195,4, -999.000,9,-999.0000,9,    -9.00,9,-999.000,9,   2258.5,2,-999.0000,-999.000,-999.000,-999.000
    06AQANTX_4,   A12,   604,  1,      3,      3,2,19920618,1032,-69.2333,  -0.0167, 2564,   2400.6,  -0.0357,  34.6661,2,  34.6617,4, -0.1698,    224.6,2,   124.53,2,    33.54,2,     0.02,2,     2.27,2,    0.398,2,    0.125,4, -999.000,9,-999.0000,9,    -9.00,9,-999.000,9,   2258.5,2,-999.0000,-999.000,-999.000,-999.000
    06AQANTX_4,   A12,   604,  1,      2,      2,2,19920618,1032,-69.2333,  -0.0167, 2564,   2499.9,  -0.0566,  34.6658,2,  34.6591,4, -0.1979,    226.3,2,   124.33,2,    32.74,2,     0.02,2,     2.27,2,    0.401,2,    0.148,4, -999.000,9,-999.0000,9,    -9.00,9,-999.000,9,   2255.3,2,-999.0000,-999.000,-999.000,-999.000
    06AQANTX_4,   A12,   604,  1,      1,      1,2,19920618,1032,-69.2333,  -0.0167, 2564,   2591.8,  -0.0791,  34.6643,2,  34.6615,2, -0.2271,    228.3,2,   124.70,2,    32.87,2,     0.02,2,     2.24,2,    0.405,2,    0.020,4, -999.000,9,-999.0000,9,    -9.00,9,-999.000,9,   -999.0,9,-999.0000,-999.000,-999.000,-999.000
    06AQANTX_4,   A12,   605,  1,     24,     24,2,19920618,2043,-69.5000,  -0.3667, 1799,      8.6,  -1.8628,  34.2655,2,  34.2752,2, -1.8630,    319.2,2,    59.61,2,    29.15,2,     0.12,2,     2.08,2,    5.542,2,    2.214,3,    0.104,2,   1.8320,4,     0.12,4,   8.096,4,   2198.6,2,  0.0160,   0.047,   0.081,   0.320
    06AQANTX_4,   A12,   605,  1,     23,     23,2,19920618,2043,-69.5000,  -0.3667, 1799,     39.7,  -1.8288,  34.2890,2,  34.2860,2, -1.8295,    318.4,2,    59.76,2,    28.39,2,     0.11,2,     2.13,2,    5.503,2,    2.347,2,    0.123,2,   1.8160,2,     0.19,2,   8.167,2,   2200.1,2,  0.0070,   0.007,   0.041,   0.320
    06AQANTX_4,   A12,   605,  1,     22,     22,2,19920618,2043,-69.5000,  -0.3667, 1799,     68.9,  -1.8209,  34.2927,2,  34.2889,2, -1.8222,    317.7,2,    59.05,2,    29.19,2,     0.11,2,     2.07,2,    5.487,2,    2.267,3,    0.092,2,   1.8150,2,     0.34,2,   8.199,2,   2199.9,2,  0.0070,   0.005,   0.041,   0.320
    06AQANTX_4,   A12,   605,  1,     21,     21,2,19920618,2043,-69.5000,  -0.3667, 1799,     99.4,  -1.8166,  34.2975,2,  34.2935,2, -1.8185,    317.4,2,    58.05,2,    29.34,2,     0.10,2,     2.06,2, -999.000,9, -999.000,9, -999.000,9,-999.0000,9,    -9.00,9,-999.000,9,   2200.5,2,-999.0000,-999.000,-999.000,-999.000
    06AQANTX_4,   A12,   605,  1,     20,     20,2,19920618,2043,-69.5000,  -0.3667, 1799,    149.9,  -1.8112,  34.3022,2,  34.2978,2, -1.8142,    317.5,2,    58.87,2,    28.15,2,     0.13,2,     2.04,2,    5.510,2,    2.353,2,    0.100,2,   1.8110,2,     0.09,2,   8.204,2,   2199.4,2,  0.0070,   0.005,   0.041,   0.320
    06AQANTX_4,   A12,   605,  1,     19,     19,2,19920618,2043,-69.5000,  -0.3667, 1799,    200.3,  -1.8044,  34.3060,2,  34.3039,2, -1.8086,   -999.0,9,    59.37,2,    28.97,2,     0.11,2,     2.05,2,    5.489,2,    2.361,2, -999.000,9,-999.0000,5,    -9.00,5,-999.000,5,   2202.8,2,-999.0000,-999.000,-999.000,-999.000
    06AQANTX_4,   A12,   605,  1,     18,     18,2,19920618,2043,-69.5000,  -0.3667, 1799,    250.3,  -1.8090,  34.3100,2,  34.3090,2, -1.8143,    316.9,2,    59.43,2,    28.38,2,     0.11,2,     2.05,2,    5.527,2,    2.162,3, -999.000,9,-999.0000,5,    -9.00,5,-999.000,5,   2202.0,2,-999.0000,-999.000,-999.000,-999.000
    06AQANTX_4,   A12,   605,  1,     17,     17,2,19920618,2043,-69.5000,  -0.3667, 1799,    300.7,  -1.7848,  34.3190,2,  34.3191,2, -1.7914,    312.8,2,    60.50,2,    28.67,2,     0.10,2,     2.04,2,    5.369,2,    2.222,3,    0.130,2,   1.8190,2,     0.26,2,   8.148,2,   2204.4,2,  0.0070,   0.007,   0.041,   0.320
    06AQANTX_4,   A12,   605,  1,     16,     16,2,19920618,2043,-69.5000,  -0.3667, 1799,    350.4,  -1.4186,  34.3588,2,  34.3551,2, -1.4276,    296.5,2,    65.20,2,    29.89,2,     0.07,2,     2.12,2, -999.000,9, -999.000,9, -999.000,9,-999.0000,9,    -9.00,9,-999.000,9,   2212.3,2,-999.0000,-999.000,-999.000,-999.000
    06AQANTX_4,   A12,   605,  1,     15,     15,2,19920618,2043,-69.5000,  -0.3667, 1799,    400.5,  -0.9184,  34.4182,2,  34.4130,2, -0.9306,    274.9,2,    71.98,2,    30.83,2,     0.03,2,     2.17,2,    3.792,2,    1.870,2,    0.073,2,   1.8250,2,     1.16,2,   8.124,2,   2228.4,2,  0.0070,   0.004,   0.041,   0.320
    06AQANTX_4,   A12,   605,  1,     14,     14,2,19920618,2043,-69.5000,  -0.3667, 1799,    434.9,  -0.9111,  34.4422,2,  34.4476,2, -0.9246,    270.0,2,    71.35,2,    31.72,2,     0.03,2,     2.15,2,    3.656,2,    1.528,3,    0.085,2,-999.0000,5,    -9.00,5,-999.000,5,   2233.1,2,-999.0000,   0.004,-999.000,-999.000
    06AQANTX_4,   A12,   605,  1,     13,     13,2,19920618,2043,-69.5000,  -0.3667, 1799,    500.4,   0.0594,  34.5572,2,  34.5538,2,  0.0394,    233.0,2,    82.44,2,    32.37,2,     0.02,2,     2.23,2,    2.189,2,    0.964,2, -999.000,9,-999.0000,5,    -9.00,5,-999.000,5,   2241.0,2,-999.0000,-999.000,-999.000,-999.000
    06AQANTX_4,   A12,   605,  1,     12,     12,2,19920618,2043,-69.5000,  -0.3667, 1799,    600.5,   0.5429,  34.6262,2,  34.6268,2,  0.5159,    215.4,2,    92.48,2,    32.20,2,     0.03,2,     2.23,2,    1.283,2,    0.545,3,    0.034,2,   1.8550,2,     7.71,2,   8.103,2,   2248.4,2,  0.0070,   0.002,   0.041,   0.320
    06AQANTX_4,   A12,   605,  1,     11,     11,2,19920618,2043,-69.5000,  -0.3667, 1799,    700.0,   0.6878,  34.6583,2,  34.6520,2,  0.6548,    216.0,2,    96.81,2,    32.85,2,     0.03,2,     2.22,2,    0.969,2,    0.357,3, -999.000,9,   1.8570,2,     7.70,2,   8.076,2,   2254.0,2,  0.0070,-999.000,   0.040,   0.320
    06AQANTX_4,   A12,   605,  1,     10,     10,2,19920618,2043,-69.5000,  -0.3667, 1799,    800.6,   0.5955,  34.6651,2,  34.6587,4,  0.5577,    213.3,2,   101.42,2,    32.31,2,     0.02,2,     2.23,2,    0.844,2,    0.317,3,    0.028,2,   1.8470,2,     7.76,2,   8.147,2,   -999.0,9,  0.0070,   0.118,   0.040,   0.310
    06AQANTX_4,   A12,   605,  1,      9,      9,2,19920618,2043,-69.5000,  -0.3667, 1799,    861.9,   0.5219,  34.6661,2,  34.6620,4,  0.4812,    214.4,2,   103.82,2,    32.76,2,     0.02,2,     2.23,2,    0.789,2,    0.434,4,    0.024,2,   1.8600,2,     8.16,2,   8.139,2,   2252.4,2,  0.0070,   0.003,   0.040,   0.310
    06AQANTX_4,   A12,   605,  1,      8,      8,2,19920618,2043,-69.5000,  -0.3667, 1799,    920.7,   0.4961,  34.6675,2,  34.6622,4,  0.4524,    214.1,2,   104.64,2,    32.37,2,     0.02,2,     2.23,2,    0.761,2,    0.298,3,    0.037,2,-999.0000,5,    -9.00,5,-999.000,5,   -999.0,9,-999.0000,   0.003,-999.000,-999.000
    06AQANTX_4,   A12,   605,  1,      7,      7,2,19920618,2043,-69.5000,  -0.3667, 1799,   1000.2,   0.4477,  34.6660,2,  34.6621,2,  0.3999,    215.6,2,   106.07,2,    31.98,2,     0.02,2,     2.23,2,    0.740,2,    0.219,4,    0.023,2,   1.8580,2,     7.57,2,   8.128,2,   2253.6,2,  0.0070,   0.003,   0.040,   0.310
    06AQANTX_4,   A12,   605,  1,      6,      6,2,19920618,2043,-69.5000,  -0.3667, 1799,   1200.5,   0.3622,  34.6700,2,  34.6651,4,  0.3036,    216.2,2,   111.28,2,    32.44,2,     0.02,2,     2.28,2, -999.000,9, -999.000,9, -999.000,9,-999.0000,9,    -9.00,9,-999.000,9,   2254.6,2,-999.0000,-999.000,-999.000,-999.000
    06AQANTX_4,   A12,   605,  1,      5,      5,2,19920618,2043,-69.5000,  -0.3667, 1799,   1399.3,   0.2783,  34.6693,2,  34.6631,4,  0.2085,    217.3,2,   114.79,2,    32.34,2,     0.02,2,     2.27,2,    0.533,2,    0.250,2,    0.052,2,   1.8640,2,     7.47,2,   8.189,2,   2255.5,2,  0.0070,   0.004,   0.040,   0.310
    06AQANTX_4,   A12,   605,  1,      4,      4,2,19920618,2043,-69.5000,  -0.3667, 1799,   1600.3,   0.2339,  34.6693,2,  34.6648,4,  0.1519,    217.0,2,   116.99,2,    31.84,2,     0.04,2,     2.27,2,    0.473,2,    0.179,4,    0.032,2,   1.8600,2,     7.30,2,   8.153,2,   2256.0,2,  0.0070,   0.002,   0.040,   0.310
    06AQANTX_4,   A12,   605,  1,      3,      3,2,19920618,2043,-69.5000,  -0.3667, 1799,   1679.5,   0.2185,  34.6698,2,  34.6642,4,  0.1315,    216.7,2,   118.08,2,    32.30,2,     0.03,2,     2.28,2,    0.455,2,    0.340,4,    0.022,2,-999.0000,9,    -9.00,9,-999.000,9,   -999.0,9,-999.0000,   0.002,-999.000,-999.000
    06AQANTX_4,   A12,   605,  1,      2,      2,2,19920618,2043,-69.5000,  -0.3667, 1799,   1739.9,   0.2178,  34.6708,2,  34.6626,4,  0.1268,    216.8,2,   118.49,2,    32.03,2,     0.02,2,     2.27,2,    0.453,2,    0.240,2,    0.034,2,   9.9880,4,    68.02,4,  23.741,4,   2257.8,2,  0.0360,   0.003,   0.116,   0.310
    06AQANTX_4,   A12,   605,  1,      1,      1,2,19920618,2043,-69.5000,  -0.3667, 1799,   1795.2,   0.2088,  34.6694,2,  34.6662,2,  0.1142,    216.7,2,   119.29,2,    31.72,2,     0.03,2,     2.26,2,    0.448,2,    0.222,2,    0.021,2,-999.0000,5,    -9.00,5,-999.000,5,   2259.4,2,-999.0000,   0.002,-999.000,-999.000