BOTTLE,20061211WHPSIODBK
EXPOCODE,SECT_ID,STNNBR,CASTNO,SAMPNO,BTLNBR,BTLNBR_FLAG_W,DATE,TIME,LATITUDE,LONGITUDE,DEPTH,CTDPRS,CTDTMP,CTDSAL,CTDSAL_FLAG_W,SALNTY,SALNTY_FLAG_W,THETA,OXYGEN,OXYGEN_FLAG_W,SILCAT,SILCAT_FLAG_W,NITRAT,NITRAT_FLAG_W,NITRIT,NITRIT_FLAG_W,PHSPHT,PHSPHT_FLAG_W,CFC-11,CFC-11_FLAG_W,CFC-12,CFC-12_FLAG_W,TRITUM,TRITUM_FLAG_W,HELIUM,HELIUM_FLAG_W,DELHE3,DELHE3_FLAG_W,NEON,NEON_FLAG_W,TCARBN,TCARBN_FLAG_W,HELIER,TRITER,NEONER,DELHER
,,,,,,,,,,,,DBAR,ITS-90,PSS-78,,PSS-78,,DEG C,UMOL/KG,,UMOL/KG,,UMOL/KG,,UMOL/KG,,UMOL/KG,,PMOL/KG,,PMOL/KG,,TU,,NMOL/KG,,PERCNT,,NMOL/KG,,UMOL/KG,,NMOL/KG,TU,NMOL/KG,PERCNT
    06AQANTX_4,  SR04,   640,  1,     22,     21,2,19920727,0342,-60.1667, -47.9500, 2185,      9.1,  -1.8310,  34.0932,2,  34.0930,2, -1.8312,    319.9,2,    74.30,2,    27.65,2,     0.30,2,     1.92,2,    5.848,2,    2.579,2, -999.000,9,-999.0000,9,    -9.00,9,-999.000,9,   2193.4,2,-999.0000,-999.000,-999.000,-999.000
    06AQANTX_4,  SR04,   640,  1,     21,     20,2,19920727,0342,-60.1667, -47.9500, 2185,     36.0,  -1.8267,  34.0989,2,  34.0938,2, -1.8274,    319.8,2,    75.56,2,    27.73,2,     0.30,2,     1.93,2,    5.778,2,    2.543,2, -999.000,9,-999.0000,9,    -9.00,9,-999.000,9,   2192.7,2,-999.0000,-999.000,-999.000,-999.000
    06AQANTX_4,  SR04,   640,  1,     20,     19,2,19920727,0342,-60.1667, -47.9500, 2185,     77.0,  -1.8192,  34.1006,2,  34.1077,2, -1.8207,    317.6,2,    74.75,2,    27.90,2,     0.32,2,     1.95,2,    5.721,2,    2.531,2, -999.000,9,-999.0000,9,    -9.00,9,-999.000,9,   2196.4,2,-999.0000,-999.000,-999.000,-999.000
    06AQANTX_4,  SR04,   640,  1,     19,     18,2,19920727,0342,-60.1667, -47.9500, 2185,    117.0,  -1.5874,  34.2005,2,  34.2414,4, -1.5899,    297.4,2,    79.29,2,    29.89,2,     0.20,2,     2.05,2,    4.463,2,    1.970,2, -999.000,9,-999.0000,9,    -9.00,9,-999.000,9,   2208.3,2,-999.0000,-999.000,-999.000,-999.000
    06AQANTX_4,  SR04,   640,  1,     18,     17,2,19920727,0342,-60.1667, -47.9500, 2185,    177.1,  -1.2299,  34.3637,2,  34.3613,2, -1.2344,    283.0,2,    80.94,2,    30.78,2,     0.09,2,     2.10,2,    3.989,2,    1.756,2, -999.000,9,-999.0000,9,    -9.00,9,-999.000,9,   2217.0,2,-999.0000,-999.000,-999.000,-999.000
    06AQANTX_4,  SR04,   640,  1,     17,     16,2,19920727,0342,-60.1667, -47.9500, 2185,    246.3,  -0.8460,  34.4994,2,  34.4982,2, -0.8533,    262.4,2,    87.32,2,    31.74,2,     0.02,2,     2.17,2,    2.989,2,    1.302,2, -999.000,9,-999.0000,9,    -9.00,9,-999.000,9,   2231.1,2,-999.0000,-999.000,-999.000,-999.000
    06AQANTX_4,  SR04,   640,  1,     16,     15,2,19920727,0342,-60.1667, -47.9500, 2185,    337.2,  -0.4138,  34.5689,2,  34.5714,2, -0.4254,    241.1,2,    96.51,2,    32.30,2,     0.02,2,     2.21,2,    2.025,2,    0.880,2, -999.000,9,-999.0000,9,    -9.00,9,-999.000,9,   2240.5,2,-999.0000,-999.000,-999.000,-999.000
    06AQANTX_4,  SR04,   640,  1,     15,     14,2,19920727,0342,-60.1667, -47.9500, 2185,    495.9,   0.0677,  34.6305,2,  34.6297,2,  0.0478,    221.1,2,   106.89,2,    32.97,2,     0.02,2,     2.26,2,    1.088,2,    0.477,2, -999.000,9,-999.0000,9,    -9.00,9,-999.000,9,   2251.6,2,-999.0000,-999.000,-999.000,-999.000
    06AQANTX_4,  SR04,   640,  1,     14,     13,2,19920727,0342,-60.1667, -47.9500, 2185,    646.5,   0.1908,  34.6552,2,  34.6567,2,  0.1633,    216.1,2,   111.76,2,    33.12,2,     0.02,2,     2.27,2,    0.707,2,    0.325,2, -999.000,9,-999.0000,9,    -9.00,9,-999.000,9,   2255.4,2,-999.0000,-999.000,-999.000,-999.000
    06AQANTX_4,  SR04,   640,  1,     13,     12,2,19920727,0342,-60.1667, -47.9500, 2185,    796.8,   0.2097,  34.6630,2,  34.6627,2,  0.1746,    213.4,2,   114.57,2,    33.18,2,     0.02,2,     2.27,2,    0.583,2,    0.260,2, -999.000,9,-999.0000,9,    -9.00,9,-999.000,9,   2256.1,2,-999.0000,-999.000,-999.000,-999.000
    06AQANTX_4,  SR04,   640,  1,     12,     11,2,19920727,0342,-60.1667, -47.9500, 2185,    997.2,   0.1913,  34.6688,2,  34.6688,2,  0.1458,    212.6,2,   119.44,2,    33.35,2,     0.01,2,     2.26,2,    0.395,2,    0.180,2, -999.000,9,-999.0000,9,    -9.00,9,-999.000,9,   2258.6,2,-999.0000,-999.000,-999.000,-999.000
    06AQANTX_4,  SR04,   640,  1,     11,     10,2,19920727,0342,-60.1667, -47.9500, 2185,   1190.8,   0.0784,  34.6636,2,  34.6623,2,  0.0231,    218.1,2,   118.09,2,    33.14,2,     0.02,2,     2.27,2,    0.507,2,    0.228,2, -999.000,9,-999.0000,9,    -9.00,9,-999.000,9,   2255.3,2,-999.0000,-999.000,-999.000,-999.000
    06AQANTX_4,  SR04,   640,  1,     10,      9,2,19920727,0342,-60.1667, -47.9500, 2185,   1497.0,  -0.0740,  34.6563,2,  34.6548,2, -0.1456,    226.1,2,   115.52,2,    33.00,2,     0.02,2,     2.27,2,    0.744,2,    0.349,2, -999.000,9,-999.0000,9,    -9.00,9,-999.000,9,   2253.1,2,-999.0000,-999.000,-999.000,-999.000
    06AQANTX_4,  SR04,   640,  1,      9,      8,2,19920727,0342,-60.1667, -47.9500, 2185,   1646.5,  -0.1037,  34.6539,2,  34.6529,2, -0.1842,    227.8,2,   115.41,2,    32.87,2,     0.02,2,     2.27,2,    0.772,2,    0.345,2, -999.000,9,-999.0000,9,    -9.00,9,-999.000,9,   2252.4,2,-999.0000,-999.000,-999.000,-999.000
    06AQANTX_4,  SR04,   640,  1,      8,      7,2,19920727,0342,-60.1667, -47.9500, 2185,   1756.8,  -0.1154,  34.6549,2,  34.6531,2, -0.2028,    227.5,2,   115.94,2,    32.94,2,     0.01,2,     2.27,2,    0.764,2,    0.338,2, -999.000,9,-999.0000,9,    -9.00,9,-999.000,9,   2251.6,2,-999.0000,-999.000,-999.000,-999.000
    06AQANTX_4,  SR04,   640,  1,      7,      6,2,19920727,0342,-60.1667, -47.9500, 2185,   1817.4,  -0.1180,  34.6553,2,  34.6540,2, -0.2093,    229.5,2,   116.58,2,    33.01,2,     0.01,2,     2.28,2,    0.718,2,    0.321,2, -999.000,9,-999.0000,9,    -9.00,9,-999.000,9,   2252.4,2,-999.0000,-999.000,-999.000,-999.000
    06AQANTX_4,  SR04,   640,  1,      6,      5,2,19920727,0342,-60.1667, -47.9500, 2185,   1947.0,  -0.0832,  34.6624,2,  34.6607,2, -0.1837,    225.6,2,   121.47,2,    33.11,2,     0.01,2,     2.28,2,    0.415,2,    0.189,2, -999.000,9,-999.0000,9,    -9.00,9,-999.000,9,   2253.9,2,-999.0000,-999.000,-999.000,-999.000
    06AQANTX_4,  SR04,   640,  1,      5,      4,2,19920727,0342,-60.1667, -47.9500, 2185,   2027.3,  -0.0905,  34.6616,2,  34.6606,2, -0.1964,    225.7,2,   121.93,2,    33.13,2,     0.01,2,     2.28,2,    0.416,2,    0.190,2, -999.000,9,-999.0000,9,    -9.00,9,-999.000,9,   2254.5,2,-999.0000,-999.000,-999.000,-999.000
    06AQANTX_4,  SR04,   640,  1,      4,      3,2,19920727,0342,-60.1667, -47.9500, 2185,   2077.6,  -0.1028,  34.6612,2,  34.6598,2, -0.2121,    229.5,2,   121.72,2,    33.09,2,     0.01,2,     2.27,2,    0.431,2,    0.198,2, -999.000,9,-999.0000,9,    -9.00,9,-999.000,9,   2253.2,2,-999.0000,-999.000,-999.000,-999.000
    06AQANTX_4,  SR04,   640,  1,      3,      2,2,19920727,0342,-60.1667, -47.9500, 2185,   2146.8,  -0.1216,  34.6597,2,  34.6588,2, -0.2354,    227.9,2,   121.51,2,    33.13,2,     0.01,2,     2.27,2,    0.456,2,    0.208,2, -999.000,9,-999.0000,9,    -9.00,9,-999.000,9,   2254.5,2,-999.0000,-999.000,-999.000,-999.000
    06AQANTX_4,  SR04,   640,  1,      1,     24,2,19920727,0342,-60.1667, -47.9500, 2185,   2215.9,  -0.1408,  34.6590,2,  34.6590,2, -0.2593,    228.8,2,  -999.00,9,  -999.00,9,     0.02,2,  -999.00,9, -999.000,9, -999.000,9, -999.000,9,-999.0000,9,    -9.00,9,-999.000,9,   -999.0,9,-999.0000,-999.000,-999.000,-999.000
    06AQANTX_4,  SR04,   640,  1,      2,      1,2,19920727,0342,-60.1667, -47.9500, 2185,   2216.1,  -0.1397,  34.6583,2,  34.6580,2, -0.2582,    229.2,2,   121.40,2,    33.12,2,     0.01,2,     2.24,2,    0.482,2,    0.221,2, -999.000,9,-999.0000,9,    -9.00,9,-999.000,9,   2253.1,2,-999.0000,-999.000,-999.000,-999.000
    06AQANTX_4,  SR04,   641,  1,     24,     24,2,19920727,1101,-60.1667, -48.6500, 1544,      6.5,  -1.8452,  34.1629,2,-999.0000,9, -1.8453,   -999.0,9,    76.24,2,    28.79,2,  -999.00,9,     1.99,2, -999.000,9, -999.000,9, -999.000,9,-999.0000,9,    -9.00,9,-999.000,9,   -999.0,9,-999.0000,-999.000,-999.000,-999.000
    06AQANTX_4,  SR04,   641,  1,     23,     23,2,19920727,1101,-60.1667, -48.6500, 1544,      6.5,  -1.8455,  34.1608,2,  34.1622,2, -1.8456,    313.7,2,    76.24,2,    28.79,2,     0.42,2,     1.99,2,    5.243,2,    2.542,2,    0.112,2,   1.8650,2,     0.36,2,   8.317,2,   2200.7,2,  0.0070,   0.005,   0.042,   0.320
    06AQANTX_4,  SR04,   641,  1,     22,     22,2,19920727,1101,-60.1667, -48.6500, 1544,     36.7,  -1.8447,  34.1690,2,  34.1705,2, -1.8454,    312.7,2,    76.62,2,    28.96,2,     0.40,2,     1.99,2,    5.335,2,    2.360,2,    0.096,2,   1.8450,2,     0.98,2,   8.303,2,   2200.6,2,  0.0070,   0.007,   0.041,   0.310
    06AQANTX_4,  SR04,   641,  1,     21,     21,2,19920727,1101,-60.1667, -48.6500, 1544,     77.0,  -1.8205,  34.1858,2,  34.1891,2, -1.8220,    311.9,2,    77.09,2,    29.21,2,     0.35,2,     2.00,2,    5.188,2,    2.291,2,    0.122,2,   1.8190,2,    -0.53,2,   8.214,2,   2202.2,2,  0.0070,   0.006,   0.040,   0.310
    06AQANTX_4,  SR04,   641,  1,     19,     19,2,19920727,1101,-60.1667, -48.6500, 1544,    116.0,  -1.4050,  34.3164,2,  34.3250,2, -1.4077,    290.5,2,    81.89,2,    30.76,2,     0.14,2,     2.07,2,    4.175,2,    1.863,2, -999.000,9,   1.8320,2,     0.03,2,   8.221,2,   2213.6,2,  0.0070,-999.000,   0.040,   0.310
    06AQANTX_4,  SR04,   641,  1,     20,     20,2,19920727,1101,-60.1667, -48.6500, 1544,    116.1,  -1.3975,  34.3115,2,-999.0000,9, -1.4002,   -999.0,9,  -999.00,9,  -999.00,9,  -999.00,9,  -999.00,9, -999.000,9, -999.000,9, -999.000,9,-999.0000,9,    -9.00,9,-999.000,9,   -999.0,9,-999.0000,-999.000,-999.000,-999.000
    06AQANTX_4,  SR04,   641,  1,     18,     18,2,19920727,1101,-60.1667, -48.6500, 1544,    176.5,  -1.2323,  34.4109,2,  34.4147,2, -1.2368,    276.4,2,    85.35,2,    31.10,2,     0.03,2,     2.10,2,    3.532,2,    1.551,2, -999.000,9,-999.0000,9,    -9.00,9,-999.000,9,   2221.3,2,-999.0000,-999.000,-999.000,-999.000
    06AQANTX_4,  SR04,   641,  1,     17,     17,2,19920727,1101,-60.1667, -48.6500, 1544,    247.0,  -0.8003,  34.4888,2,  34.4919,2, -0.8078,    262.6,2,    91.95,2,    31.89,2,     0.01,2,     2.15,2,    2.810,2,    1.234,2,    0.080,2,   1.8460,2,     3.67,2,   8.223,2,   2233.2,2,  0.0070,   0.008,   0.040,   0.310
    06AQANTX_4,  SR04,   641,  1,     15,     15,2,19920727,1101,-60.1667, -48.6500, 1544,    297.6,  -0.4962,  34.5372,2,  34.5403,2, -0.5061,    250.3,2,    98.07,2,    32.22,2,     0.01,2,     2.17,2,    2.241,2,    0.993,2,    0.085,2,   1.8600,2,     5.12,2,   8.194,2,   2237.9,2,  0.0070,   0.006,   0.040,   0.310
    06AQANTX_4,  SR04,   641,  1,     16,     16,2,19920727,1101,-60.1667, -48.6500, 1544,    297.7,  -0.5036,  34.5386,2,-999.0000,9, -0.5135,   -999.0,9,  -999.00,9,  -999.00,9,  -999.00,9,  -999.00,9, -999.000,9, -999.000,9, -999.000,9,-999.0000,9,    -9.00,9,-999.000,9,   -999.0,9,-999.0000,-999.000,-999.000,-999.000
    06AQANTX_4,  SR04,   641,  1,     14,     14,2,19920727,1101,-60.1667, -48.6500, 1544,    396.2,  -0.2813,  34.5832,2,  34.5834,2, -0.2956,    239.0,2,   101.47,2,    32.50,2,     0.01,2,     2.20,2,    1.729,2,    0.772,2,    0.070,2,   1.7970,4,     1.34,2,   8.053,4,   2241.0,2,  0.0070,   0.005,   0.039,   0.310
    06AQANTX_4,  SR04,   641,  1,     12,     12,2,19920727,1101,-60.1667, -48.6500, 1544,    496.8,  -0.0819,  34.6159,2,-999.0000,9, -0.1012,   -999.0,9,  -999.00,9,  -999.00,9,  -999.00,9,  -999.00,9, -999.000,9, -999.000,9, -999.000,9,-999.0000,9,    -9.00,9,-999.000,9,   -999.0,9,-999.0000,-999.000,-999.000,-999.000
    06AQANTX_4,  SR04,   641,  1,     13,     13,2,19920727,1101,-60.1667, -48.6500, 1544,    497.1,  -0.0825,  34.6149,2,  34.6154,2, -0.1018,    229.7,2,   106.50,2,    32.82,2,     0.01,2,     2.23,2,    1.336,2,    0.587,2,    0.066,2,   1.8550,2,     6.54,2,   8.139,2,   2245.7,2,  0.0070,   0.006,   0.040,   0.310
    06AQANTX_4,  SR04,   641,  1,     11,     11,2,19920727,1101,-60.1667, -48.6500, 1544,    647.4,   0.0654,  34.6403,2,  34.6401,2,  0.0386,    223.6,2,   110.65,2,    33.02,2,     0.01,2,     2.24,2,    0.960,2,    0.422,2, -999.000,9,-999.0000,9,    -9.00,9,-999.000,9,   2252.9,2,-999.0000,-999.000,-999.000,-999.000
    06AQANTX_4,  SR04,   641,  1,     10,     10,2,19920727,1101,-60.1667, -48.6500, 1544,    797.6,   0.1056,  34.6541,2,  34.6534,2,  0.0712,    220.2,2,   114.00,2,    33.15,2,     0.01,2,     2.24,2,    0.758,2,    0.337,2,    0.068,2,   1.8600,2,     7.10,2,   8.159,2,   2253.1,2,  0.0070,   0.007,   0.040,   0.310
    06AQANTX_4,  SR04,   641,  1,      9,      9,2,19920727,1101,-60.1667, -48.6500, 1544,    897.3,   0.0217,  34.6488,2,  34.6479,2, -0.0172,    222.6,2,   112.82,2,    32.97,2,     0.01,2,     2.27,2,    0.875,2,    0.396,2, -999.000,9,   1.8620,2,     6.75,2,   8.129,2,   2252.2,2,  0.0070,-999.000,   0.040,   0.310
    06AQANTX_4,  SR04,   641,  1,      7,      7,2,19920727,1101,-60.1667, -48.6500, 1544,    996.8,  -0.0256,  34.6482,2,  34.6470,2, -0.0693,    225.0,2,   112.76,2,    32.91,2,     0.01,2,     2.25,2,    0.914,2,    0.403,2,    0.042,2,   1.8550,2,     7.45,2,   8.138,2,   2249.0,2,  0.0070,   0.003,   0.040,   0.310
    06AQANTX_4,  SR04,   641,  1,      8,      8,2,19920727,1101,-60.1667, -48.6500, 1544,    997.0,  -0.0227,  34.6478,2,-999.0000,9, -0.0664,   -999.0,9,  -999.00,9,  -999.00,9,  -999.00,9,  -999.00,9, -999.000,9, -999.000,9, -999.000,9,-999.0000,9,    -9.00,9,-999.000,9,   -999.0,9,-999.0000,-999.000,-999.000,-999.000
    06AQANTX_4,  SR04,   641,  1,      6,      6,2,19920727,1101,-60.1667, -48.6500, 1544,   1097.3,  -0.0547,  34.6496,2,  34.6485,2, -0.1035,    226.3,2,   112.46,2,    33.00,2,     0.01,2,     2.26,2,    0.908,2,    0.404,2, -999.000,9,-999.0000,9,    -9.00,9,-999.000,9,   2250.9,2,-999.0000,-999.000,-999.000,-999.000
    06AQANTX_4,  SR04,   641,  1,      5,      5,2,19920727,1101,-60.1667, -48.6500, 1544,   1196.9,  -0.0758,  34.6486,2,  34.6473,2, -0.1299,    227.6,2,   112.31,2,    32.92,2,     0.01,2,     2.26,2,    0.939,2,    0.420,2,    0.039,2,   1.8680,2,     6.50,2,   8.199,2,   2249.6,2,  0.0070,   0.002,   0.040,   0.310
    06AQANTX_4,  SR04,   641,  1,      4,      4,2,19920727,1101,-60.1667, -48.6500, 1544,   1396.7,  -0.0901,  34.6484,2,  34.6476,2, -0.1555,    228.5,2,   112.46,2,    32.94,2,     0.01,2,     2.24,2,    0.928,2,    0.416,2,    0.055,2,   1.8770,4,     7.05,4,   8.192,4,   -999.0,9,  0.0160,   0.006,   0.081,   0.310
    06AQANTX_4,  SR04,   641,  1,      3,      3,2,19920727,1101,-60.1667, -48.6500, 1544,   1464.8,  -0.0937,  34.6497,2,  34.6480,2, -0.1631,    228.2,2,   112.38,2,    32.97,2,     0.01,2,     2.26,2,    0.928,2,    0.417,2,    0.041,2,-999.0000,5,    -9.00,5,-999.000,5,   2250.9,2,-999.0000,   0.003,-999.000,-999.000
    06AQANTX_4,  SR04,   641,  1,      2,      2,2,19920727,1101,-60.1667, -48.6500, 1544,   1512.5,  -0.1039,  34.6497,2,  34.6487,2, -0.1761,    228.6,2,   112.58,2,    32.97,2,     0.01,2,     2.25,2,    0.928,2,    0.411,2,    0.051,2,   1.8700,2,     6.52,2,   8.186,2,   2250.1,2,  0.0070,   0.007,   0.040,   0.310
    06AQANTX_4,  SR04,   641,  1,      1,      1,2,19920727,1101,-60.1667, -48.6500, 1544,   1563.8,  -0.1027,  34.6491,2,  34.6489,2, -0.1780,    228.8,2,   112.65,2,    33.02,2,     0.01,2,     2.22,2,    0.936,2,    0.408,2,    0.045,2,   1.8360,4,     5.52,2,   7.968,2,   2249.6,2,  0.0070,   0.007,   0.039,   0.310