BOTTLE,20061211WHPSIODBK
EXPOCODE,SECT_ID,STNNBR,CASTNO,SAMPNO,BTLNBR,BTLNBR_FLAG_W,DATE,TIME,LATITUDE,LONGITUDE,DEPTH,CTDPRS,CTDTMP,CTDSAL,CTDSAL_FLAG_W,SALNTY,SALNTY_FLAG_W,THETA,OXYGEN,OXYGEN_FLAG_W,SILCAT,SILCAT_FLAG_W,NITRAT,NITRAT_FLAG_W,NITRIT,NITRIT_FLAG_W,PHSPHT,PHSPHT_FLAG_W,CFC-11,CFC-11_FLAG_W,CFC-12,CFC-12_FLAG_W,TRITUM,TRITUM_FLAG_W,HELIUM,HELIUM_FLAG_W,DELHE3,DELHE3_FLAG_W,NEON,NEON_FLAG_W,TCARBN,TCARBN_FLAG_W,HELIER,TRITER,NEONER,DELHER
,,,,,,,,,,,,DBAR,ITS-90,PSS-78,,PSS-78,,DEG C,UMOL/KG,,UMOL/KG,,UMOL/KG,,UMOL/KG,,UMOL/KG,,PMOL/KG,,PMOL/KG,,TU,,NMOL/KG,,PERCNT,,NMOL/KG,,UMOL/KG,,NMOL/KG,TU,NMOL/KG,PERCNT
    06AQANTX_4,   A12,   580,  3,     24,     24,2,19920610,1528,-58.5000,   0.0000, 4580,     20.7,  -1.5971,  34.2076,2,  34.2030,2, -1.5975,    340.0,2,    71.28,2,    25.21,2,     0.25,2,     1.87,2,    6.303,2,    2.951,2,    0.104,2,   1.7820,2,    -1.05,2,   8.086,2,   -999.0,9,  0.0060,   0.023,   0.040,   0.310
    06AQANTX_4,   A12,   580,  3,     23,     23,2,19920610,1528,-58.5000,   0.0000, 4580,     49.0,  -1.5134,  34.2156,2,  34.2104,2, -1.5145,    338.3,2,    71.59,2,    25.66,2,     0.25,2,     1.87,2,    6.205,2,    2.921,2,    0.097,2,   1.7820,2,    -1.38,2,   8.093,2,   2192.4,2,  0.0060,   0.007,   0.040,   0.310
    06AQANTX_4,   A12,   580,  3,     22,     22,2,19920610,1528,-58.5000,   0.0000, 4580,     70.3,  -1.4625,  34.2214,2,  34.2189,2, -1.4641,    337.9,2,    72.29,2,    25.62,2,     0.25,2,     1.88,2,    6.201,2,    3.038,2,    0.129,2,   2.0710,5,    -0.66,5,   8.133,2,   -999.0,9,  0.0070,   0.006,   0.040,   0.310
    06AQANTX_4,   A12,   580,  3,     21,     21,2,19920610,1528,-58.5000,   0.0000, 4580,    137.8,  -0.3426,  34.5088,2,  34.5019,2, -0.3472,    247.9,2,    96.41,2,    31.98,2,     0.11,2,     2.23,2,    2.821,2,    1.305,2,    0.063,2,   1.8150,2,     5.14,2,   8.142,2,   2242.2,2,  0.0070,   0.004,   0.040,   0.310
    06AQANTX_4,   A12,   580,  3,     20,     20,2,19920610,1528,-58.5000,   0.0000, 4580,    221.0,   0.5335,  34.6833,2,  34.6807,2,  0.5243,    192.5,2,   117.82,2,    34.31,2,     0.06,2,     2.36,2,    0.318,2,    0.121,3,    0.037,2,-999.0000,5,    -9.00,5,-999.000,5,   2266.3,2,-999.0000,   0.007,-999.000,-999.000
    06AQANTX_4,   A12,   580,  3,     19,     19,2,19920610,1528,-58.5000,   0.0000, 4580,    298.4,   0.4714,  34.6843,2,  34.6818,2,  0.4589,    193.9,2,   120.29,2,    34.33,2,     0.05,2,     2.39,2,    0.230,2,    0.132,3,    0.018,2,   2.0220,5,     8.15,5,   8.169,2,   2268.8,2,  0.0070,   0.014,   0.040,   0.310
    06AQANTX_4,   A12,   580,  3,     18,     18,2,19920610,1528,-58.5000,   0.0000, 4580,    402.1,   0.3971,  34.6831,2,  34.6816,2,  0.3802,    196.7,2,   123.23,2,    34.80,2,     0.06,2,     2.36,2,    0.187,2,    0.240,4,    0.033,2,   1.8560,2,     8.75,2,   8.129,2,   2270.4,2,  0.0070,   0.011,   0.040,   0.310
    06AQANTX_4,   A12,   580,  3,     17,     17,2,19920610,1528,-58.5000,   0.0000, 4580,    499.9,   0.3310,  34.6819,2,  34.6733,2,  0.3098,    197.4,2,   125.03,2,    34.54,2,     0.05,2,     2.37,2,    0.159,2,    0.185,4,    0.026,2,-999.0000,5,    -9.00,5,-999.000,5,   2270.0,2,-999.0000,   0.006,-999.000,-999.000
    06AQANTX_4,   A12,   580,  3,     16,     16,2,19920610,1528,-58.5000,   0.0000, 4580,    600.3,   0.2887,  34.6809,2,  34.6774,2,  0.2629,    198.1,2,   126.55,2,    34.27,2,     0.06,2,     2.36,2,    0.131,2,    0.066,2,    0.021,2,   1.8790,4,     8.59,4,   8.149,4,   2268.5,2,  0.0160,   0.209,   0.081,   0.310
    06AQANTX_4,   A12,   580,  3,     15,     15,2,19920610,1528,-58.5000,   0.0000, 4580,    699.9,   0.2442,  34.6791,2,  34.6759,2,  0.2138,    201.5,2,   127.03,2,    34.00,2,     0.06,2,     2.37,2,    0.126,2,    0.055,2,    0.026,2,   2.1230,4,     7.62,2,   8.133,2,   2269.2,2,  0.0080,   0.003,   0.040,   0.310
    06AQANTX_4,   A12,   580,  3,     14,     14,2,19920610,1528,-58.5000,   0.0000, 4580,    852.6,   0.1770,  34.6773,2,  34.6736,2,  0.1392,    205.5,2,   127.39,2,    33.45,2,     0.06,2,     2.37,2,    0.124,2,    0.079,3,    0.040,2,   1.8700,2,     8.24,2,   8.209,2,   2266.3,2,  0.0070,   0.003,   0.040,   0.310
    06AQANTX_4,   A12,   580,  3,     13,     13,2,19920610,1528,-58.5000,   0.0000, 4580,   1001.9,   0.0865,  34.6741,2,  34.6703,2,  0.0415,    211.0,2,   127.96,2,    33.11,2,     0.05,2,     2.35,2,    0.132,2,    0.074,2,    0.027,2,-999.0000,5,    -9.00,5,-999.000,5,   2261.8,2,-999.0000,   0.003,-999.000,-999.000
    06AQANTX_4,   A12,   580,  3,     12,     12,2,19920610,1528,-58.5000,   0.0000, 4580,   1199.8,   0.0199,  34.6710,2,  34.6675,2, -0.0354,    217.6,2,   127.47,2,    32.69,2,     0.05,2,     2.34,2,    0.192,4,    0.223,4,    0.015,2,-999.0000,5,    -9.00,5,-999.000,5,   2260.8,2,-999.0000,   0.050,-999.000,-999.000
    06AQANTX_4,   A12,   580,  3,     11,     11,2,19920610,1528,-58.5000,   0.0000, 4580,   1500.4,  -0.0788,  34.6672,2,  34.6644,2, -0.1506,    221.8,2,   128.13,2,    32.78,2,     0.05,2,     2.31,2,    0.138,2,    0.069,2,    0.022,2,   1.8560,2,     7.46,2,   8.189,2,   2258.4,2,  0.0070,   0.003,   0.040,   0.310
    06AQANTX_4,   A12,   580,  3,     10,     10,2,19920610,1528,-58.5000,   0.0000, 4580,   1800.9,  -0.1615,  34.6632,2,  34.6594,2, -0.2512,    226.9,2,   127.55,2,    32.60,2,     0.05,2,     2.31,2,    0.158,2,    0.095,3,    0.013,2,   1.8590,2,     6.79,2,   8.180,2,   2259.1,2,  0.0070,   0.030,   0.040,   0.310
    06AQANTX_4,   A12,   580,  3,      9,      9,2,19920610,1528,-58.5000,   0.0000, 4580,   2200.4,  -0.2381,  34.6605,2,  34.6588,2, -0.3539,    232.7,2,   127.07,2,    33.08,2,     0.05,2,     2.32,2,    0.175,2,    0.100,3,    0.019,2,   1.8570,2,     6.25,2,   8.203,2,   2254.0,2,  0.0070,   0.003,   0.040,   0.310
    06AQANTX_4,   A12,   580,  3,      8,      8,2,19920610,1528,-58.5000,   0.0000, 4580,   2600.0,  -0.3007,  34.6582,2,  34.6560,2, -0.4449,    236.3,2,   126.68,2,    32.32,2,     0.05,2,     2.28,2,    0.165,2,    0.080,2,    0.044,2,   1.8630,2,     5.69,2,-999.000,9,   2249.7,2,  0.0070,   0.004,-999.000,   0.320
    06AQANTX_4,   A12,   580,  3,      7,      7,2,19920610,1528,-58.5000,   0.0000, 4580,   3000.3,  -0.3455,  34.6555,2,  34.6523,2, -0.5208,    239.7,2,   125.43,2,    32.36,2,     0.05,2,     2.29,2,    0.245,2,    0.134,3,    0.046,2,-999.0000,5,    -9.00,5,-999.000,5,   2250.6,2,-999.0000,   0.003,-999.000,-999.000
    06AQANTX_4,   A12,   580,  3,      6,      6,2,19920610,1528,-58.5000,   0.0000, 4580,   3401.4,  -0.3825,  34.6539,2,  34.6514,2, -0.5914,    243.6,2,   124.66,2,    32.49,2,     0.05,2,     2.27,2,    0.294,2,    0.131,2, -999.000,9,   1.8610,2,     5.73,2,   8.283,2,   2248.9,2,  0.0070,-999.000,   0.041,   0.310
    06AQANTX_4,   A12,   580,  3,      5,      5,2,19920610,1528,-58.5000,   0.0000, 4580,   3802.9,  -0.4364,  34.6503,2,  34.6479,2, -0.6807,    246.6,2,   123.22,2,    32.63,2,     0.04,2,     2.27,2,    0.367,2,    0.304,4,    0.051,2,   1.8750,2,     5.74,2,   8.342,2,   2249.1,2,  0.0070,   0.004,   0.041,   0.310
    06AQANTX_4,   A12,   580,  3,      4,      4,2,19920610,1528,-58.5000,   0.0000, 4580,   4194.5,  -0.4801,  34.6470,2,  34.6442,2, -0.7611,    250.0,2,   119.10,2,    32.28,2,     0.03,2,     2.24,2,    0.551,2,    0.280,2,    0.081,2,-999.0000,5,    -9.00,5,-999.000,5,   2249.6,2,-999.0000,   0.004,-999.000,-999.000
    06AQANTX_4,   A12,   580,  3,      3,      3,2,19920610,1528,-58.5000,   0.0000, 4580,   4500.7,  -0.4645,  34.6470,2,  34.6434,2, -0.7772,    251.0,2,   119.00,2,    32.37,2,     0.03,2,     2.21,2,    0.608,2,    0.348,3, -999.000,9,-999.0000,5,    -9.00,5,-999.000,5,   2247.6,2,-999.0000,-999.000,-999.000,-999.000
    06AQANTX_4,   A12,   580,  3,      2,      2,2,19920610,1528,-58.5000,   0.0000, 4580,   4569.5,  -0.4652,  34.6470,2,  34.6434,2, -0.7850,    252.0,2,   118.99,2,    32.68,2,     0.03,2,     2.22,2,    0.616,2,    0.276,2,    0.102,2,   1.8670,2,     4.47,2,   8.266,2,   2245.0,2,  0.0070,   0.005,   0.041,   0.310
    06AQANTX_4,   A12,   580,  3,      1,      1,2,19920610,1528,-58.5000,   0.0000, 4580,   4656.3,  -0.4578,  34.6464,2,  34.6432,2, -0.7871,    252.7,2,   118.89,2,    32.85,2,     0.03,2,     2.22,2,    0.590,2,    0.266,2, -999.000,9,-999.0000,5,    -9.00,5,-999.000,5,   2244.2,2,-999.0000,-999.000,-999.000,-999.000
    06AQANTX_4,   A12,   581,  1,     24,     24,2,19920610,2225,-59.0000,   0.0000, 4557,     28.2,  -1.5664,  34.2183,2,  34.2128,2, -1.5670,    338.6,2,    70.31,2,    24.61,2,     0.24,2,     1.93,2, -999.000,9, -999.000,9, -999.000,9,-999.0000,9,    -9.00,9,-999.000,9,   -999.0,9,-999.0000,-999.000,-999.000,-999.000
    06AQANTX_4,   A12,   581,  1,     23,     23,2,19920610,2225,-59.0000,   0.0000, 4557,     70.4,  -1.5600,  34.2185,2,  34.2136,2, -1.5615,    338.5,2,    69.91,2,    24.68,2,     0.24,2,     1.93,2, -999.000,9, -999.000,9, -999.000,9,-999.0000,9,    -9.00,9,-999.000,9,   -999.0,9,-999.0000,-999.000,-999.000,-999.000
    06AQANTX_4,   A12,   581,  1,     22,     22,2,19920610,2225,-59.0000,   0.0000, 4557,    143.0,  -0.5063,  34.5098,2,  34.4941,3, -0.5108,    251.1,2,    94.66,2,    30.87,2,     0.10,2,     2.27,2, -999.000,9, -999.000,9, -999.000,9,-999.0000,9,    -9.00,9,-999.000,9,   -999.0,9,-999.0000,-999.000,-999.000,-999.000
    06AQANTX_4,   A12,   581,  1,     21,     21,2,19920610,2225,-59.0000,   0.0000, 4557,    201.8,   0.5559,  34.6807,2,  34.6794,2,  0.5475,    193.5,2,   115.64,2,    33.77,2,     0.05,2,     2.42,2, -999.000,9, -999.000,9, -999.000,9,-999.0000,9,    -9.00,9,-999.000,9,   -999.0,9,-999.0000,-999.000,-999.000,-999.000
    06AQANTX_4,   A12,   581,  1,     20,     20,2,19920610,2225,-59.0000,   0.0000, 4557,    248.9,   0.5239,  34.6854,2,  34.6819,2,  0.5135,    193.5,2,   118.55,2,    33.40,2,     0.05,2,     2.43,2, -999.000,9, -999.000,9, -999.000,9,-999.0000,9,    -9.00,9,-999.000,9,   -999.0,9,-999.0000,-999.000,-999.000,-999.000
    06AQANTX_4,   A12,   581,  1,     19,     19,2,19920610,2225,-59.0000,   0.0000, 4557,    301.8,   0.4587,  34.6848,2,  34.6812,2,  0.4461,    195.0,2,   120.83,2,    33.53,2,     0.05,2,     2.41,2, -999.000,9, -999.000,9, -999.000,9,-999.0000,9,    -9.00,9,-999.000,9,   -999.0,9,-999.0000,-999.000,-999.000,-999.000
    06AQANTX_4,   A12,   581,  1,     18,     18,2,19920610,2225,-59.0000,   0.0000, 4557,    400.8,   0.3710,  34.6834,2,  34.6795,2,  0.3542,    195.9,2,   123.38,2,    33.94,2,     0.04,2,     2.44,2, -999.000,9, -999.000,9, -999.000,9,-999.0000,9,    -9.00,9,-999.000,9,   -999.0,9,-999.0000,-999.000,-999.000,-999.000
    06AQANTX_4,   A12,   581,  1,     17,     17,2,19920610,2225,-59.0000,   0.0000, 4557,    501.2,   0.3058,  34.6813,2,  34.6775,2,  0.2846,    197.8,2,   125.56,2,    34.14,2,     0.04,2,     2.39,2, -999.000,9, -999.000,9, -999.000,9,-999.0000,9,    -9.00,9,-999.000,9,   -999.0,9,-999.0000,-999.000,-999.000,-999.000
    06AQANTX_4,   A12,   581,  1,     16,     16,2,19920610,2225,-59.0000,   0.0000, 4557,    601.2,   0.2596,  34.6798,2,  34.6769,2,  0.2339,    199.5,2,   126.88,2,    34.52,2,     0.04,2,     2.42,2, -999.000,9, -999.000,9, -999.000,9,-999.0000,9,    -9.00,9,-999.000,9,   -999.0,9,-999.0000,-999.000,-999.000,-999.000
    06AQANTX_4,   A12,   581,  1,     15,     15,2,19920610,2225,-59.0000,   0.0000, 4557,    700.8,   0.2021,  34.6785,2,  34.6753,2,  0.1719,    202.7,2,   127.62,2,    34.43,2,     0.04,2,     2.41,2, -999.000,9, -999.000,9, -999.000,9,-999.0000,9,    -9.00,9,-999.000,9,   -999.0,9,-999.0000,-999.000,-999.000,-999.000
    06AQANTX_4,   A12,   581,  1,     14,     14,2,19920610,2225,-59.0000,   0.0000, 4557,    849.4,   0.1381,  34.6759,2,  34.6724,2,  0.1008,    208.2,2,   127.71,2,    33.93,2,     0.04,2,     2.39,2, -999.000,9, -999.000,9, -999.000,9,-999.0000,9,    -9.00,9,-999.000,9,   -999.0,9,-999.0000,-999.000,-999.000,-999.000
    06AQANTX_4,   A12,   581,  1,     13,     13,2,19920610,2225,-59.0000,   0.0000, 4557,    999.1,   0.0894,  34.6730,2,  34.6694,2,  0.0446,    211.8,2,   127.80,2,    33.63,2,     0.04,2,     2.38,2, -999.000,9, -999.000,9, -999.000,9,-999.0000,9,    -9.00,9,-999.000,9,   -999.0,9,-999.0000,-999.000,-999.000,-999.000
    06AQANTX_4,   A12,   581,  1,     12,     12,2,19920610,2225,-59.0000,   0.0000, 4557,   1201.0,   0.0131,  34.6706,2,  34.6673,2, -0.0422,    217.0,2,   127.49,2,    33.05,2,     0.04,2,     2.39,2, -999.000,9, -999.000,9, -999.000,9,-999.0000,9,    -9.00,9,-999.000,9,   -999.0,9,-999.0000,-999.000,-999.000,-999.000
    06AQANTX_4,   A12,   581,  1,     11,     11,2,19920610,2225,-59.0000,   0.0000, 4557,   1501.7,  -0.0952,  34.6665,2,  34.6635,2, -0.1669,    222.9,2,   127.67,2,    32.50,2,     0.04,2,     2.37,2, -999.000,9, -999.000,9, -999.000,9,-999.0000,9,    -9.00,9,-999.000,9,   -999.0,9,-999.0000,-999.000,-999.000,-999.000
    06AQANTX_4,   A12,   581,  1,     10,     10,2,19920610,2225,-59.0000,   0.0000, 4557,   1803.0,  -0.1714,  34.6632,2,  34.6594,2, -0.2611,    227.6,2,   127.48,2,    32.77,2,     0.04,2,     2.37,2, -999.000,9, -999.000,9, -999.000,9,-999.0000,9,    -9.00,9,-999.000,9,   -999.0,9,-999.0000,-999.000,-999.000,-999.000
    06AQANTX_4,   A12,   581,  1,      9,      9,2,19920610,2225,-59.0000,   0.0000, 4557,   2197.8,  -0.2557,  34.6599,2,  34.6576,2, -0.3710,    233.8,2,   126.31,2,    32.44,2,     0.03,2,     2.39,2, -999.000,9, -999.000,9, -999.000,9,-999.0000,9,    -9.00,9,-999.000,9,   -999.0,9,-999.0000,-999.000,-999.000,-999.000
    06AQANTX_4,   A12,   581,  1,      8,      8,2,19920610,2225,-59.0000,   0.0000, 4557,   2599.5,  -0.3117,  34.6582,2,  34.6551,2, -0.4557,    236.0,2,   125.82,2,    32.47,2,     0.03,2,     2.33,2, -999.000,9, -999.000,9, -999.000,9,-999.0000,9,    -9.00,9,-999.000,9,   -999.0,9,-999.0000,-999.000,-999.000,-999.000
    06AQANTX_4,   A12,   581,  1,      7,      7,2,19920610,2225,-59.0000,   0.0000, 4557,   3001.0,  -0.3596,  34.6563,2,  34.6524,2, -0.5347,    239.4,2,   125.33,2,    32.35,2,     0.04,2,     2.32,2, -999.000,9, -999.000,9, -999.000,9,-999.0000,9,    -9.00,9,-999.000,9,   -999.0,9,-999.0000,-999.000,-999.000,-999.000
    06AQANTX_4,   A12,   581,  1,      6,      6,2,19920610,2225,-59.0000,   0.0000, 4557,   3399.2,  -0.4043,  34.6534,2,  34.6509,2, -0.6125,    243.0,2,   125.22,2,    32.44,2,     0.03,2,     2.32,2, -999.000,9, -999.000,9, -999.000,9,-999.0000,9,    -9.00,9,-999.000,9,   -999.0,9,-999.0000,-999.000,-999.000,-999.000
    06AQANTX_4,   A12,   581,  1,      5,      5,2,19920610,2225,-59.0000,   0.0000, 4557,   3798.1,  -0.4660,  34.6493,2,  34.6468,2, -0.7090,    249.5,2,   121.49,2,    32.60,2,     0.02,2,     2.30,2, -999.000,9, -999.000,9, -999.000,9,-999.0000,9,    -9.00,9,-999.000,9,   -999.0,9,-999.0000,-999.000,-999.000,-999.000
    06AQANTX_4,   A12,   581,  1,      4,      4,2,19920610,2225,-59.0000,   0.0000, 4557,   4198.3,  -0.4943,  34.6463,2,  34.6430,2, -0.7752,    251.0,2,   119.00,2,    33.30,2,     0.02,2,     2.30,2, -999.000,9, -999.000,9, -999.000,9,-999.0000,9,    -9.00,9,-999.000,9,   -999.0,9,-999.0000,-999.000,-999.000,-999.000
    06AQANTX_4,   A12,   581,  1,      3,      3,2,19920610,2225,-59.0000,   0.0000, 4557,   4450.2,  -0.4937,  34.6461,2,  34.6421,4, -0.8002,    252.8,2,   118.21,2,    32.79,2,     0.02,2,     2.29,2, -999.000,9, -999.000,9, -999.000,9,-999.0000,9,    -9.00,9,-999.000,9,   -999.0,9,-999.0000,-999.000,-999.000,-999.000
    06AQANTX_4,   A12,   581,  1,      2,      2,2,19920610,2225,-59.0000,   0.0000, 4557,   4530.2,  -0.4958,  34.6455,2,  34.6414,4, -0.8105,   -999.0,9,   118.11,2,    32.74,2,     0.03,2,     2.29,2, -999.000,9, -999.000,9, -999.000,9,-999.0000,9,    -9.00,9,-999.000,9,   -999.0,9,-999.0000,-999.000,-999.000,-999.000
    06AQANTX_4,   A12,   581,  1,      1,      1,2,19920610,2225,-59.0000,   0.0000, 4557,   4610.7,  -0.4932,  34.6458,2,  34.6416,4, -0.8165,    252.6,2,   118.48,2,    32.20,2,     0.04,2,     2.27,2, -999.000,9, -999.000,9, -999.000,9,-999.0000,9,    -9.00,9,-999.000,9,   -999.0,9,-999.0000,-999.000,-999.000,-999.000