BOTTLE,20061211WHPSIODBK
EXPOCODE,SECT_ID,STNNBR,CASTNO,SAMPNO,BTLNBR,BTLNBR_FLAG_W,DATE,TIME,LATITUDE,LONGITUDE,DEPTH,CTDPRS,CTDTMP,CTDSAL,CTDSAL_FLAG_W,SALNTY,SALNTY_FLAG_W,THETA,OXYGEN,OXYGEN_FLAG_W,SILCAT,SILCAT_FLAG_W,NITRAT,NITRAT_FLAG_W,NITRIT,NITRIT_FLAG_W,PHSPHT,PHSPHT_FLAG_W,CFC-11,CFC-11_FLAG_W,CFC-12,CFC-12_FLAG_W,TRITUM,TRITUM_FLAG_W,HELIUM,HELIUM_FLAG_W,DELHE3,DELHE3_FLAG_W,NEON,NEON_FLAG_W,TCARBN,TCARBN_FLAG_W,HELIER,TRITER,NEONER,DELHER
,,,,,,,,,,,,DBAR,ITS-90,PSS-78,,PSS-78,,DEG C,UMOL/KG,,UMOL/KG,,UMOL/KG,,UMOL/KG,,UMOL/KG,,PMOL/KG,,PMOL/KG,,TU,,NMOL/KG,,PERCNT,,NMOL/KG,,UMOL/KG,,NMOL/KG,TU,NMOL/KG,PERCNT
    06AQANTX_4,   A12,   585,  1,     24,     24,2,19920612,0529,-61.0000,   0.0000, 5347,      7.6,  -1.8420,  34.1169,2,  34.1169,2, -1.8421,    339.0,2,    61.65,2,    25.13,2,     0.20,2,     1.85,2, -999.000,9, -999.000,9, -999.000,9,-999.0000,9,    -9.00,9,-999.000,9,   2184.3,2,-999.0000,-999.000,-999.000,-999.000
    06AQANTX_4,   A12,   585,  1,     23,     23,2,19920612,0529,-61.0000,   0.0000, 5347,     39.9,  -1.8397,  34.1166,2,  34.1158,2, -1.8404,    339.5,2,    61.63,2,    25.06,2,     0.20,2,     1.84,2, -999.000,9, -999.000,9, -999.000,9,-999.0000,9,    -9.00,9,-999.000,9,   2187.4,2,-999.0000,-999.000,-999.000,-999.000
    06AQANTX_4,   A12,   585,  1,     22,     22,2,19920612,0529,-61.0000,   0.0000, 5347,     80.4,  -1.8346,  34.1168,2,  34.1111,2, -1.8361,    339.0,2,    61.89,2,    24.98,2,     0.20,2,     1.84,2, -999.000,9, -999.000,9, -999.000,9,-999.0000,9,    -9.00,9,-999.000,9,   2184.3,2,-999.0000,-999.000,-999.000,-999.000
    06AQANTX_4,   A12,   585,  1,     21,     21,2,19920612,0529,-61.0000,   0.0000, 5347,    118.0,   0.6359,  34.6410,2,  34.6301,3,  0.6310,    198.8,2,    99.75,2,    33.04,2,     0.02,2,     2.29,2, -999.000,9, -999.000,9, -999.000,9,-999.0000,9,    -9.00,9,-999.000,9,   2257.0,2,-999.0000,-999.000,-999.000,-999.000
    06AQANTX_4,   A12,   585,  1,     20,     20,2,19920612,0529,-61.0000,   0.0000, 5347,    177.3,   0.7387,  34.6773,2,  34.6735,2,  0.7311,    196.7,2,   107.77,2,    32.90,2,     0.02,2,     2.27,2, -999.000,9, -999.000,9, -999.000,9,-999.0000,9,    -9.00,9,-999.000,9,   2258.1,2,-999.0000,-999.000,-999.000,-999.000
    06AQANTX_4,   A12,   585,  1,     19,     19,2,19920612,0529,-61.0000,   0.0000, 5347,    250.1,   0.6452,  34.6851,2,  34.6802,2,  0.6345,    197.6,2,   112.43,2,    33.08,2,     0.02,2,     2.28,2, -999.000,9, -999.000,9, -999.000,9,-999.0000,9,    -9.00,9,-999.000,9,   2261.8,2,-999.0000,-999.000,-999.000,-999.000
    06AQANTX_4,   A12,   585,  1,     18,     18,2,19920612,0529,-61.0000,   0.0000, 5347,    350.1,   0.5266,  34.6863,2,  34.6793,2,  0.5116,    199.4,2,   116.72,2,    33.33,2,     0.02,2,     2.29,2, -999.000,9, -999.000,9, -999.000,9,-999.0000,9,    -9.00,9,-999.000,9,   2263.8,2,-999.0000,-999.000,-999.000,-999.000
    06AQANTX_4,   A12,   585,  1,     17,     17,2,19920612,0529,-61.0000,   0.0000, 5347,    499.4,   0.4024,  34.6835,2,  34.6766,2,  0.3809,    199.4,2,   120.82,2,    33.67,2,     0.02,2,     2.30,2, -999.000,9, -999.000,9, -999.000,9,-999.0000,9,    -9.00,9,-999.000,9,   2265.2,2,-999.0000,-999.000,-999.000,-999.000
    06AQANTX_4,   A12,   585,  1,     16,     16,2,19920612,0529,-61.0000,   0.0000, 5347,    650.5,   0.3132,  34.6807,2,  34.6753,2,  0.2848,    202.3,2,   122.77,2,    33.56,2,     0.02,2,     2.31,2, -999.000,9, -999.000,9, -999.000,9,-999.0000,9,    -9.00,9,-999.000,9,   -999.0,9,-999.0000,-999.000,-999.000,-999.000
    06AQANTX_4,   A12,   585,  1,     15,     15,2,19920612,0529,-61.0000,   0.0000, 5347,    799.5,   0.2373,  34.6772,2,  34.6722,2,  0.2019,    205.2,2,   123.98,2,    33.62,2,     0.01,2,     2.30,2, -999.000,9, -999.000,9, -999.000,9,-999.0000,9,    -9.00,9,-999.000,9,   -999.0,9,-999.0000,-999.000,-999.000,-999.000
    06AQANTX_4,   A12,   585,  1,     14,     14,2,19920612,0529,-61.0000,   0.0000, 5347,    999.2,   0.1533,  34.6743,2,  34.6689,4,  0.1079,    209.2,2,   125.75,2,    33.50,2,     0.02,2,     2.31,2, -999.000,9, -999.000,9, -999.000,9,-999.0000,9,    -9.00,9,-999.000,9,   -999.0,9,-999.0000,-999.000,-999.000,-999.000
    06AQANTX_4,   A12,   585,  1,     13,     13,2,19920612,0529,-61.0000,   0.0000, 5347,   1199.4,   0.0672,  34.6730,2,  34.6651,4,  0.0115,    214.4,2,   125.46,2,    33.11,2,     0.01,2,     2.30,2, -999.000,9, -999.000,9, -999.000,9,-999.0000,9,    -9.00,9,-999.000,9,   -999.0,9,-999.0000,-999.000,-999.000,-999.000
    06AQANTX_4,   A12,   585,  1,     12,     12,2,19920612,0529,-61.0000,   0.0000, 5347,   1499.9,  -0.0380,  34.6680,2,  34.6606,4, -0.1103,    221.9,2,   125.55,2,    32.87,2,     0.01,2,     2.30,2, -999.000,9, -999.000,9, -999.000,9,-999.0000,9,    -9.00,9,-999.000,9,   -999.0,9,-999.0000,-999.000,-999.000,-999.000
    06AQANTX_4,   A12,   585,  1,     11,     11,2,19920612,0529,-61.0000,   0.0000, 5347,   1799.7,  -0.1264,  34.6649,2,  34.6574,4, -0.2165,    225.9,2,   125.36,2,    32.93,2,     0.01,2,     2.27,2, -999.000,9, -999.000,9, -999.000,9,-999.0000,9,    -9.00,9,-999.000,9,   -999.0,9,-999.0000,-999.000,-999.000,-999.000
    06AQANTX_4,   A12,   585,  1,     10,     10,2,19920612,0529,-61.0000,   0.0000, 5347,   2298.5,  -0.2307,  34.6596,2,  34.6534,4, -0.3537,    231.6,2,   124.60,2,    32.47,2,     0.01,2,  -999.00,9, -999.000,9, -999.000,9, -999.000,9,-999.0000,9,    -9.00,9,-999.000,9,   -999.0,9,-999.0000,-999.000,-999.000,-999.000
    06AQANTX_4,   A12,   585,  1,      8,      8,2,19920612,0529,-61.0000,   0.0000, 5347,   2590.3,  -0.2677,  34.6595,2,  34.6533,4, -0.4119,   -999.0,9,   125.05,2,    32.75,2,     0.01,2,     2.27,2, -999.000,9, -999.000,9, -999.000,9,-999.0000,9,    -9.00,9,-999.000,9,   -999.0,9,-999.0000,-999.000,-999.000,-999.000
    06AQANTX_4,   A12,   585,  1,      7,      7,2,19920612,0529,-61.0000,   0.0000, 5347,   3500.4,  -0.3722,  34.6545,2,  34.6525,2, -0.5903,    235.3,2,   124.58,2,    32.87,2,     0.02,2,     2.26,2, -999.000,9, -999.000,9, -999.000,9,-999.0000,9,    -9.00,9,-999.000,9,   -999.0,9,-999.0000,-999.000,-999.000,-999.000
    06AQANTX_4,   A12,   585,  1,      6,      6,2,19920612,0529,-61.0000,   0.0000, 5347,   4201.1,  -0.4488,  34.6508,2,  34.6424,4, -0.7314,    245.3,2,   120.82,2,    32.37,2,     0.02,2,     2.22,2, -999.000,9, -999.000,9, -999.000,9,-999.0000,9,    -9.00,9,-999.000,9,   -999.0,9,-999.0000,-999.000,-999.000,-999.000
    06AQANTX_4,   A12,   585,  1,      5,      5,2,19920612,0529,-61.0000,   0.0000, 5347,   4698.6,  -0.4841,  34.6475,2,  34.6390,4, -0.8170,    249.5,2,   117.54,2,    32.38,2,     0.02,2,     2.21,2, -999.000,9, -999.000,9, -999.000,9,-999.0000,9,    -9.00,9,-999.000,9,   -999.0,9,-999.0000,-999.000,-999.000,-999.000
    06AQANTX_4,   A12,   585,  1,      4,      4,2,19920612,0529,-61.0000,   0.0000, 5347,   5100.6,  -0.4635,  34.6461,2,  34.6380,4, -0.8411,    253.1,2,   118.65,2,    32.64,2,     0.01,2,     2.22,2, -999.000,9, -999.000,9, -999.000,9,-999.0000,9,    -9.00,9,-999.000,9,   -999.0,9,-999.0000,-999.000,-999.000,-999.000
    06AQANTX_4,   A12,   585,  1,      3,      3,2,19920612,0529,-61.0000,   0.0000, 5347,   5249.7,  -0.4476,  34.6462,2,  34.6391,4, -0.8426,    252.8,2,   119.21,2,    32.66,2,     0.01,2,     2.21,2, -999.000,9, -999.000,9, -999.000,9,-999.0000,9,    -9.00,9,-999.000,9,   -999.0,9,-999.0000,-999.000,-999.000,-999.000
    06AQANTX_4,   A12,   585,  1,      2,      2,2,19920612,0529,-61.0000,   0.0000, 5347,   5330.8,  -0.4382,  34.6455,2,  34.6367,4, -0.8429,    251.0,2,   119.67,2,    33.12,2,     0.01,2,     2.20,2, -999.000,9, -999.000,9, -999.000,9,-999.0000,9,    -9.00,9,-999.000,9,   -999.0,9,-999.0000,-999.000,-999.000,-999.000
    06AQANTX_4,   A12,   585,  1,      1,      1,2,19920612,0529,-61.0000,   0.0000, 5347,   5466.3,  -0.4220,  34.6459,2,  34.6382,4, -0.8430,    251.8,2,   120.22,2,    32.96,2,     0.02,2,     2.19,2, -999.000,9, -999.000,9, -999.000,9,-999.0000,9,    -9.00,9,-999.000,9,   -999.0,9,-999.0000,-999.000,-999.000,-999.000
    06AQANTX_4,   A12,   586,  3,     24,      9,2,19920612,1335,-61.5000,   0.0333, 5347,      1.6,  -1.8063,  34.1202,2,  34.1258,2, -1.8063,    341.4,2,    63.52,2,    24.48,2,     0.22,2,     1.82,2,    6.485,2,    3.073,2, -999.000,9,-999.0000,9,    -9.00,9,-999.000,9,   2188.4,2,-999.0000,-999.000,-999.000,-999.000
    06AQANTX_4,   A12,   586,  3,     23,      8,2,19920612,1335,-61.5000,   0.0333, 5347,     29.0,  -1.8144,  34.1245,2,  34.1259,2, -1.8149,    341.5,2,    63.35,2,    24.67,2,     0.22,2,     1.83,2,    6.475,2,    3.094,2, -999.000,9,-999.0000,9,    -9.00,9,-999.000,9,   2187.4,2,-999.0000,-999.000,-999.000,-999.000
    06AQANTX_4,   A12,   586,  3,     22,      7,2,19920612,1335,-61.5000,   0.0333, 5347,     69.7,  -1.8056,  34.1256,2,  34.1271,2, -1.8069,    341.3,2,    63.81,2,    24.89,2,     0.21,2,     1.84,2,    6.497,2,    3.093,2, -999.000,9,-999.0000,9,    -9.00,9,-999.000,9,   2190.8,2,-999.0000,-999.000,-999.000,-999.000
    06AQANTX_4,   A12,   586,  3,     21,      6,2,19920612,1335,-61.5000,   0.0333, 5347,    140.4,   0.4743,  34.6699,2,  34.6672,2,  0.4686,    193.7,2,   113.41,2,    33.17,2,     0.02,2,     2.33,2,    0.562,2,    0.264,2, -999.000,9,-999.0000,9,    -9.00,9,-999.000,9,   2266.9,2,-999.0000,-999.000,-999.000,-999.000
    06AQANTX_4,   A12,   586,  3,     20,      5,2,19920612,1335,-61.5000,   0.0333, 5347,    220.1,   0.4618,  34.6815,2,  34.6821,2,  0.4528,    193.0,2,   119.09,2,    32.93,2,     0.02,2,     2.34,2,    0.269,2,    0.133,2, -999.000,9,-999.0000,9,    -9.00,9,-999.000,9,   2266.4,2,-999.0000,-999.000,-999.000,-999.000
    06AQANTX_4,   A12,   586,  3,     19,      4,2,19920612,1335,-61.5000,   0.0333, 5347,    320.6,   0.3875,  34.6827,2,  34.6816,2,  0.3743,    194.5,2,   121.49,2,    33.44,2,     0.01,2,     2.33,2,    0.209,2,    0.091,2, -999.000,9,-999.0000,9,    -9.00,9,-999.000,9,   -999.0,9,-999.0000,-999.000,-999.000,-999.000
    06AQANTX_4,   A12,   586,  3,     18,      3,2,19920612,1335,-61.5000,   0.0333, 5347,    448.6,   0.3175,  34.6809,2,  34.6803,2,  0.2987,    196.4,2,   123.95,2,    33.22,2,     0.01,2,     2.33,2,    0.154,2,    0.050,3, -999.000,9,-999.0000,9,    -9.00,9,-999.000,9,   -999.0,9,-999.0000,-999.000,-999.000,-999.000
    06AQANTX_4,   A12,   586,  3,     17,      2,2,19920612,1335,-61.5000,   0.0333, 5347,    579.9,   0.2562,  34.6796,2,  34.6788,2,  0.2315,    199.8,2,   125.03,2,    33.39,2,     0.01,2,     2.32,2,    0.136,2,    0.039,3, -999.000,9,-999.0000,9,    -9.00,9,-999.000,9,   -999.0,9,-999.0000,-999.000,-999.000,-999.000
    06AQANTX_4,   A12,   586,  3,     16,      1,2,19920612,1335,-61.5000,   0.0333, 5347,    698.8,   0.2026,  34.6772,2,  34.6781,2,  0.1724,    203.0,2,   126.10,2,    32.91,2,     0.01,2,     2.32,2,    0.129,2,    0.041,3, -999.000,9,-999.0000,9,    -9.00,9,-999.000,9,   -999.0,9,-999.0000,-999.000,-999.000,-999.000
    06AQANTX_4,   A12,   586,  3,     15,     24,2,19920612,1335,-61.5000,   0.0333, 5347,    850.2,   0.1372,  34.6742,2,  34.6759,2,  0.0998,    208.1,2,   126.52,2,    33.12,2,     0.01,2,     2.31,2,    0.130,2,    0.048,3, -999.000,9,-999.0000,9,    -9.00,9,-999.000,9,   -999.0,9,-999.0000,-999.000,-999.000,-999.000
    06AQANTX_4,   A12,   586,  3,     14,     23,2,19920612,1335,-61.5000,   0.0333, 5347,   1000.6,   0.0743,  34.6730,2,  34.6733,2,  0.0295,    210.8,2,   126.74,2,    33.01,2,     0.01,2,     2.32,2,    0.116,2,    0.041,3, -999.000,9,-999.0000,9,    -9.00,9,-999.000,9,   -999.0,9,-999.0000,-999.000,-999.000,-999.000
    06AQANTX_4,   A12,   586,  3,     13,     22,2,19920612,1335,-61.5000,   0.0333, 5347,   1399.9,  -0.0614,  34.6670,2,  34.6675,2, -0.1274,    221.3,2,   126.43,2,    32.58,2,     0.01,2,     2.29,2,    0.132,2,    0.142,4, -999.000,9,-999.0000,9,    -9.00,9,-999.000,9,   -999.0,9,-999.0000,-999.000,-999.000,-999.000
    06AQANTX_4,   A12,   586,  3,     12,     21,2,19920612,1335,-61.5000,   0.0333, 5347,   1799.7,  -0.1745,  34.6626,2,  34.6633,2, -0.2639,    229.4,2,   126.10,2,    32.08,2,     0.01,2,     2.27,2,    0.159,2,    0.079,2, -999.000,9,-999.0000,9,    -9.00,9,-999.000,9,   -999.0,9,-999.0000,-999.000,-999.000,-999.000
    06AQANTX_4,   A12,   586,  3,     11,     20,2,19920612,1335,-61.5000,   0.0333, 5347,   2199.8,  -0.2477,  34.6606,2,  34.6598,2, -0.3633,    232.5,2,   125.16,2,    31.94,2,     0.01,2,     2.27,2,    0.168,2,    0.092,2, -999.000,9,-999.0000,9,    -9.00,9,-999.000,9,   -999.0,9,-999.0000,-999.000,-999.000,-999.000
    06AQANTX_4,   A12,   586,  3,     10,     19,2,19920612,1335,-61.5000,   0.0333, 5347,   2599.1,  -0.3041,  34.6586,2,  34.6575,2, -0.4482,    235.4,2,   124.67,2,    31.67,2,     0.01,2,     2.26,2,    0.149,2,    0.115,4, -999.000,9,-999.0000,9,    -9.00,9,-999.000,9,   -999.0,9,-999.0000,-999.000,-999.000,-999.000
    06AQANTX_4,   A12,   586,  3,      9,     18,2,19920612,1335,-61.5000,   0.0333, 5347,   3099.4,  -0.3582,  34.6560,2,  34.6603,4, -0.5415,    241.1,2,   123.86,2,    31.72,2,     0.01,2,     2.23,2,    0.155,2,    0.078,2, -999.000,9,-999.0000,9,    -9.00,9,-999.000,9,   -999.0,9,-999.0000,-999.000,-999.000,-999.000
    06AQANTX_4,   A12,   586,  3,      8,     17,2,19920612,1335,-61.5000,   0.0333, 5347,   3600.0,  -0.4159,  34.6532,2,  34.6534,2, -0.6419,    245.9,2,   123.99,2,    31.75,2,     0.01,2,     2.23,2,    0.176,2,    0.083,2, -999.000,9,-999.0000,9,    -9.00,9,-999.000,9,   -999.0,9,-999.0000,-999.000,-999.000,-999.000
    06AQANTX_4,   A12,   586,  3,      7,     16,2,19920612,1335,-61.5000,   0.0333, 5347,   3894.9,  -0.4438,  34.6524,2,  34.6549,2, -0.6966,    246.8,2,   122.89,2,    31.45,2,     0.01,2,     2.22,2,    0.205,2,    0.086,2, -999.000,9,-999.0000,9,    -9.00,9,-999.000,9,   -999.0,9,-999.0000,-999.000,-999.000,-999.000
    06AQANTX_4,   A12,   586,  3,      6,     15,2,19920612,1335,-61.5000,   0.0333, 5347,   4199.3,  -0.4895,  34.6494,2,  34.6477,2, -0.7707,    250.2,2,   119.15,2,    31.61,2,     0.01,2,     2.21,2,    0.325,2,    0.136,2, -999.000,9,-999.0000,9,    -9.00,9,-999.000,9,   -999.0,9,-999.0000,-999.000,-999.000,-999.000
    06AQANTX_4,   A12,   586,  3,      5,     14,2,19920612,1335,-61.5000,   0.0333, 5347,   4600.7,  -0.4959,  34.6474,2,  34.6467,2, -0.8180,    251.7,2,   118.62,2,    31.71,2,     0.01,2,     2.21,2,    0.404,2,    0.180,2, -999.000,9,-999.0000,9,    -9.00,9,-999.000,9,   -999.0,9,-999.0000,-999.000,-999.000,-999.000
    06AQANTX_4,   A12,   586,  3,      4,     13,2,19920612,1335,-61.5000,   0.0333, 5347,   5000.1,  -0.4745,  34.6446,2,  34.6450,2, -0.8405,    251.9,2,   119.22,2,    31.66,2,     0.00,2,     2.21,2,    0.422,2,    0.189,2, -999.000,9,-999.0000,9,    -9.00,9,-999.000,9,   -999.0,9,-999.0000,-999.000,-999.000,-999.000
    06AQANTX_4,   A12,   586,  3,      3,     12,2,19920612,1335,-61.5000,   0.0333, 5347,   5319.3,  -0.4406,  34.6453,2,  34.6442,2, -0.8438,    253.0,2,   120.74,2,    31.24,2,     0.00,2,     2.21,2,    0.478,4,    0.264,4, -999.000,9,-999.0000,9,    -9.00,9,-999.000,9,   -999.0,9,-999.0000,-999.000,-999.000,-999.000
    06AQANTX_4,   A12,   586,  3,      2,     11,2,19920612,1335,-61.5000,   0.0333, 5347,   5390.3,  -0.4322,  34.6452,2,  34.6455,2, -0.8440,   -999.0,9,   120.91,2,    31.60,2,     0.01,2,     2.20,2,    0.420,2,    0.181,2, -999.000,9,-999.0000,9,    -9.00,9,-999.000,9,   -999.0,9,-999.0000,-999.000,-999.000,-999.000
    06AQANTX_4,   A12,   586,  3,      1,     10,2,19920612,1335,-61.5000,   0.0333, 5347,   5456.9,  -0.4237,  34.6454,2,  34.6445,2, -0.8435,    253.6,2,   121.51,2,  -999.00,9,     0.01,2,     2.18,2,    0.426,2,    0.200,2, -999.000,9,-999.0000,9,    -9.00,9,-999.000,9,   -999.0,9,-999.0000,-999.000,-999.000,-999.000