BOTTLE,20061211WHPSIODBK
EXPOCODE,SECT_ID,STNNBR,CASTNO,SAMPNO,BTLNBR,BTLNBR_FLAG_W,DATE,TIME,LATITUDE,LONGITUDE,DEPTH,CTDPRS,CTDTMP,CTDSAL,CTDSAL_FLAG_W,SALNTY,SALNTY_FLAG_W,THETA,OXYGEN,OXYGEN_FLAG_W,SILCAT,SILCAT_FLAG_W,NITRAT,NITRAT_FLAG_W,NITRIT,NITRIT_FLAG_W,PHSPHT,PHSPHT_FLAG_W,CFC-11,CFC-11_FLAG_W,CFC-12,CFC-12_FLAG_W,TRITUM,TRITUM_FLAG_W,HELIUM,HELIUM_FLAG_W,DELHE3,DELHE3_FLAG_W,NEON,NEON_FLAG_W,TCARBN,TCARBN_FLAG_W,HELIER,TRITER,NEONER,DELHER
,,,,,,,,,,,,DBAR,ITS-90,PSS-78,,PSS-78,,DEG C,UMOL/KG,,UMOL/KG,,UMOL/KG,,UMOL/KG,,UMOL/KG,,PMOL/KG,,PMOL/KG,,TU,,NMOL/KG,,PERCNT,,NMOL/KG,,UMOL/KG,,NMOL/KG,TU,NMOL/KG,PERCNT
    06AQANTX_4,  SR04,   636,  1,     23,     23,2,19920725,1104,-60.9667, -42.9833,  386,      4.2,  -1.8009,  34.0046,2,-999.0000,9, -1.8010,   -999.0,9,  -999.00,9,  -999.00,9,  -999.00,9,  -999.00,9, -999.000,9, -999.000,9, -999.000,9,-999.0000,9,    -9.00,9,-999.000,9,   -999.0,9,-999.0000,-999.000,-999.000,-999.000
    06AQANTX_4,  SR04,   636,  1,     22,     22,2,19920725,1104,-60.9667, -42.9833,  386,     10.7,  -1.8037,  34.0078,2,-999.0000,9, -1.8039,   -999.0,9,  -999.00,9,  -999.00,9,  -999.00,9,  -999.00,9, -999.000,9, -999.000,9, -999.000,9,-999.0000,9,    -9.00,9,-999.000,9,   -999.0,9,-999.0000,-999.000,-999.000,-999.000
    06AQANTX_4,  SR04,   636,  1,     21,     21,2,19920725,1104,-60.9667, -42.9833,  386,     10.8,  -1.8047,  34.0078,2,  34.0072,2, -1.8049,    316.4,2,    73.56,2,    27.64,2,     0.38,2,     1.90,2,    5.358,2,    2.900,3,    0.158,2,-999.0000,5,    -9.00,5,-999.000,5,   2188.1,2,-999.0000,   0.005,-999.000,-999.000
    06AQANTX_4,  SR04,   636,  1,     20,     20,2,19920725,1104,-60.9667, -42.9833,  386,     27.3,  -1.8041,  34.0129,2,-999.0000,9, -1.8046,   -999.0,9,    73.61,2,    27.64,2,  -999.00,9,     1.91,2, -999.000,9, -999.000,9, -999.000,9,-999.0000,9,    -9.00,9,-999.000,9,   -999.0,9,-999.0000,-999.000,-999.000,-999.000
    06AQANTX_4,  SR04,   636,  1,     19,     19,2,19920725,1104,-60.9667, -42.9833,  386,     27.3,  -1.8052,  34.0148,2,  34.0109,2, -1.8057,    315.8,2,    73.61,2,    27.64,2,     0.38,2,     1.91,2,    5.268,2,    2.423,2, -999.000,9,   1.8100,2,    -0.04,2,   8.186,2,   2188.1,2,  0.0070,-999.000,   0.040,   0.310
    06AQANTX_4,  SR04,   636,  1,     18,     18,2,19920725,1104,-60.9667, -42.9833,  386,     66.9,  -1.7849,  34.0212,2,-999.0000,9, -1.7862,   -999.0,9,    74.21,2,    27.77,2,  -999.00,9,     1.96,2, -999.000,9, -999.000,9, -999.000,9,-999.0000,9,    -9.00,9,-999.000,9,   -999.0,9,-999.0000,-999.000,-999.000,-999.000
    06AQANTX_4,  SR04,   636,  1,     17,     17,2,19920725,1104,-60.9667, -42.9833,  386,     66.9,  -1.7828,  34.0215,2,  34.0210,2, -1.7841,    315.1,2,    74.21,2,    27.77,2,     0.37,2,     1.96,2,    5.290,3,    2.397,3, -999.000,9,   1.8060,2,     0.28,2,   8.162,2,   2187.1,2,  0.0070,-999.000,   0.040,   0.310
    06AQANTX_4,  SR04,   636,  1,     16,     16,2,19920725,1104,-60.9667, -42.9833,  386,     97.5,  -1.1836,  34.2577,2,-999.0000,9, -1.1860,   -999.0,9,  -999.00,9,  -999.00,9,  -999.00,9,  -999.00,9, -999.000,9, -999.000,9, -999.000,9,-999.0000,9,    -9.00,9,-999.000,9,   -999.0,9,-999.0000,-999.000,-999.000,-999.000
    06AQANTX_4,  SR04,   636,  1,     15,     15,2,19920725,1104,-60.9667, -42.9833,  386,     97.6,  -1.1746,  34.2650,2,  34.3342,4, -1.1770,    266.9,2,    89.82,2,    31.60,2,     0.03,2,     2.14,2,    3.299,2,    1.543,2,    0.153,2,   1.8290,2,     2.69,2,   8.189,2,   2222.2,2,  0.0070,   0.005,   0.040,   0.310
    06AQANTX_4,  SR04,   636,  1,     13,     13,2,19920725,1104,-60.9667, -42.9833,  386,    120.6,  -0.8493,  34.4205,2,  34.4163,2, -0.8527,    255.6,2,    94.19,2,    32.10,2,     0.02,2,     2.18,2,    2.852,2,    1.336,2,    0.127,2,   1.8350,2,     3.71,2,   8.180,2,   2230.4,2,  0.0070,   0.005,   0.040,   0.310
    06AQANTX_4,  SR04,   636,  1,     14,     14,2,19920725,1104,-60.9667, -42.9833,  386,    122.8,  -0.8453,  34.4209,2,-999.0000,9, -0.8488,   -999.0,9,  -999.00,9,  -999.00,9,  -999.00,9,  -999.00,9, -999.000,9, -999.000,9, -999.000,9,-999.0000,9,    -9.00,9,-999.000,9,   -999.0,9,-999.0000,-999.000,-999.000,-999.000
    06AQANTX_4,  SR04,   636,  1,     11,     11,2,19920725,1104,-60.9667, -42.9833,  386,    148.5,  -0.7025,  34.4727,2,  34.4691,2, -0.7070,    248.0,2,    97.56,2,    32.39,2,     0.02,2,     2.22,2,    2.454,2,    1.096,2,    0.128,2,-999.0000,5,    -9.00,5,-999.000,5,   2235.2,2,-999.0000,   0.005,-999.000,-999.000
    06AQANTX_4,  SR04,   636,  1,     12,     12,2,19920725,1104,-60.9667, -42.9833,  386,    153.4,  -0.6090,  34.5014,2,-999.0000,9, -0.6137,   -999.0,9,  -999.00,9,  -999.00,9,  -999.00,9,  -999.00,9, -999.000,9, -999.000,9, -999.000,9,-999.0000,9,    -9.00,9,-999.000,9,   -999.0,9,-999.0000,-999.000,-999.000,-999.000
    06AQANTX_4,  SR04,   636,  1,     10,     10,2,19920725,1104,-60.9667, -42.9833,  386,    194.0,  -0.3274,  34.5656,2,-999.0000,9, -0.3340,   -999.0,9,  -999.00,9,  -999.00,9,  -999.00,9,  -999.00,9, -999.000,9, -999.000,9, -999.000,9,-999.0000,9,    -9.00,9,-999.000,9,   -999.0,9,-999.0000,-999.000,-999.000,-999.000
    06AQANTX_4,  SR04,   636,  1,      9,      9,2,19920725,1104,-60.9667, -42.9833,  386,    195.8,  -0.3252,  34.5656,2,  34.5645,2, -0.3318,    227.8,2,   106.77,2,    33.21,2,     0.02,2,     2.29,2,    1.714,2,    0.807,2,    0.079,2,   2.1430,5,     5.44,5,   8.160,2,   2248.5,2,  0.0080,   0.003,   0.040,   0.310
    06AQANTX_4,  SR04,   636,  1,      8,      8,2,19920725,1104,-60.9667, -42.9833,  386,    245.1,  -0.1514,  34.6038,2,-999.0000,9, -0.1602,   -999.0,9,  -999.00,9,  -999.00,9,  -999.00,9,  -999.00,9, -999.000,9, -999.000,9, -999.000,9,-999.0000,9,    -9.00,9,-999.000,9,   -999.0,9,-999.0000,-999.000,-999.000,-999.000
    06AQANTX_4,  SR04,   636,  1,      7,      7,2,19920725,1104,-60.9667, -42.9833,  386,    246.9,  -0.1480,  34.6035,2,  34.6039,2, -0.1569,    221.1,2,   110.69,2,    33.37,2,     0.01,2,     2.30,2,    1.189,2,    0.530,2,    0.069,2,   1.8480,2,     6.55,2,   8.174,2,   2253.0,2,  0.0070,   0.003,   0.040,   0.310
    06AQANTX_4,  SR04,   636,  1,      6,      6,2,19920725,1104,-60.9667, -42.9833,  386,    285.2,  -0.0483,  34.6261,2,-999.0000,9, -0.0589,   -999.0,9,  -999.00,9,  -999.00,9,  -999.00,9,  -999.00,9, -999.000,9, -999.000,9, -999.000,9,-999.0000,9,    -9.00,9,-999.000,9,   -999.0,9,-999.0000,-999.000,-999.000,-999.000
    06AQANTX_4,  SR04,   636,  1,      5,      5,2,19920725,1104,-60.9667, -42.9833,  386,    286.0,  -0.0479,  34.6266,2,  34.6255,2, -0.0585,    215.0,2,   116.24,2,    33.39,2,     0.01,2,     2.31,2,    0.949,2,    0.437,2,    0.053,2,   1.8500,2,     7.08,2,   8.211,2,   2254.1,2,  0.0070,   0.010,   0.040,   0.310
    06AQANTX_4,  SR04,   636,  1,      4,      4,2,19920725,1104,-60.9667, -42.9833,  386,    347.6,   0.0029,  34.6518,2,-999.0000,9, -0.0104,   -999.0,9,  -999.00,9,  -999.00,9,  -999.00,9,  -999.00,9, -999.000,9, -999.000,9, -999.000,9,-999.0000,9,    -9.00,9,-999.000,9,   -999.0,9,-999.0000,-999.000,-999.000,-999.000
    06AQANTX_4,  SR04,   636,  1,      3,      3,2,19920725,1104,-60.9667, -42.9833,  386,    347.9,   0.0008,  34.6530,2,  34.6514,2, -0.0125,    212.6,2,   123.14,2,    33.37,2,     0.02,2,     2.30,2,    0.629,2,    0.301,2,    0.046,2,   1.8540,2,     6.99,2,   8.148,2,   2259.3,2,  0.0070,   0.002,   0.040,   0.310
    06AQANTX_4,  SR04,   636,  1,      1,      1,2,19920725,1104,-60.9667, -42.9833,  386,    398.8,   0.0060,  34.6521,2,-999.0000,9, -0.0094,   -999.0,9,  -999.00,9,  -999.00,9,  -999.00,9,  -999.00,9, -999.000,9, -999.000,9, -999.000,9,-999.0000,9,    -9.00,9,-999.000,9,   -999.0,9,-999.0000,-999.000,-999.000,-999.000
    06AQANTX_4,  SR04,   636,  1,      2,      2,2,19920725,1104,-60.9667, -42.9833,  386,    399.3,   0.0058,  34.6529,2,  34.6521,2, -0.0097,    214.0,2,   123.20,2,    33.50,2,     0.03,2,     2.28,2,    0.608,2,    0.292,2,    0.052,2,-999.0000,5,    -9.00,5,-999.000,5,   2258.2,2,-999.0000,   0.003,-999.000,-999.000
    06AQANTX_4,  SR04,   637,  1,     18,     18,2,19920726,0408,-60.4333, -46.9833,  273,      8.9,  -1.7665,  34.1838,2,  34.1846,2, -1.7667,    308.8,2,    79.51,2,    28.56,2,     0.23,2,     1.95,2,    5.430,2,    2.383,2,    0.118,2,   1.8280,2,     0.57,2,   8.165,2,   2204.7,2,  0.0070,   0.004,   0.040,   0.310
    06AQANTX_4,  SR04,   637,  1,     17,     17,2,19920726,0408,-60.4333, -46.9833,  273,      9.0,  -1.7659,  34.1848,2,-999.0000,9, -1.7661,   -999.0,9,  -999.00,9,  -999.00,9,  -999.00,9,  -999.00,9, -999.000,9, -999.000,9, -999.000,9,-999.0000,9,    -9.00,9,-999.000,9,   -999.0,9,-999.0000,-999.000,-999.000,-999.000
    06AQANTX_4,  SR04,   637,  1,     15,     15,2,19920726,0408,-60.4333, -46.9833,  273,     27.9,  -1.7605,  34.1935,2,-999.0000,9, -1.7610,   -999.0,9,  -999.00,9,  -999.00,9,  -999.00,9,  -999.00,9, -999.000,9, -999.000,9, -999.000,9,-999.0000,9,    -9.00,9,-999.000,9,   -999.0,9,-999.0000,-999.000,-999.000,-999.000
    06AQANTX_4,  SR04,   637,  1,     16,     16,2,19920726,0408,-60.4333, -46.9833,  273,     28.7,  -1.7639,  34.1893,2,  34.1956,2, -1.7644,    307.6,2,    80.19,2,    28.54,2,     0.22,2,     1.95,2, -999.000,9, -999.000,9,    0.095,2,   1.9780,5,     0.70,5,   8.249,2,   2204.4,2,  0.0070,   0.004,   0.040,   0.310
    06AQANTX_4,  SR04,   637,  1,     13,     13,2,19920726,0408,-60.4333, -46.9833,  273,     67.6,  -1.5486,  34.2389,2,-999.0000,9, -1.5501,   -999.0,9,  -999.00,9,  -999.00,9,  -999.00,9,  -999.00,9, -999.000,9, -999.000,9, -999.000,9,-999.0000,9,    -9.00,9,-999.000,9,   -999.0,9,-999.0000,-999.000,-999.000,-999.000
    06AQANTX_4,  SR04,   637,  1,     14,     14,2,19920726,0408,-60.4333, -46.9833,  273,     68.2,  -1.6493,  34.2294,2,  34.2903,4, -1.6507,    285.6,2,    87.09,2,    29.96,2,     0.16,2,     2.06,2, -999.000,9, -999.000,9,    0.082,2,   2.2580,5,     1.73,5,   8.303,2,   2217.6,2,  0.0080,   0.008,   0.041,   0.310
    06AQANTX_4,  SR04,   637,  1,     12,     12,2,19920726,0408,-60.4333, -46.9833,  273,     98.3,  -1.0658,  34.3535,2,  34.3608,2, -1.0684,    268.6,2,    92.46,2,    31.34,2,     0.11,2,     2.12,2,    3.640,2,    1.589,2,    0.092,2,   1.8370,2,     2.72,2,   8.218,2,   2227.1,2,  0.0070,   0.008,   0.040,   0.310
    06AQANTX_4,  SR04,   637,  1,     11,     11,2,19920726,0408,-60.4333, -46.9833,  273,     98.4,  -1.0781,  34.3548,2,-999.0000,9, -1.0807,   -999.0,9,  -999.00,9,  -999.00,9,  -999.00,9,  -999.00,9, -999.000,9, -999.000,9, -999.000,9,-999.0000,9,    -9.00,9,-999.000,9,   -999.0,9,-999.0000,-999.000,-999.000,-999.000
    06AQANTX_4,  SR04,   637,  1,      9,      9,2,19920726,0408,-60.4333, -46.9833,  273,    118.9,  -0.7183,  34.4422,2,-999.0000,9, -0.7218,   -999.0,9,  -999.00,9,  -999.00,9,  -999.00,9,  -999.00,9, -999.000,9, -999.000,9, -999.000,9,-999.0000,9,    -9.00,9,-999.000,9,   -999.0,9,-999.0000,-999.000,-999.000,-999.000
    06AQANTX_4,  SR04,   637,  1,     10,     10,2,19920726,0408,-60.4333, -46.9833,  273,    119.6,  -0.7260,  34.4388,2,  34.4396,2, -0.7295,    254.9,2,    97.84,2,    32.24,2,     0.09,2,     2.19,2,    2.814,2,    1.233,2,    0.088,2,-999.0000,5,    -9.00,5,-999.000,5,   2236.9,2,-999.0000,   0.005,-999.000,-999.000
    06AQANTX_4,  SR04,   637,  1,      7,      7,2,19920726,0408,-60.4333, -46.9833,  273,    148.1,  -0.5745,  34.4753,2,-999.0000,9, -0.5791,   -999.0,9,  -999.00,9,  -999.00,9,  -999.00,9,  -999.00,9, -999.000,9, -999.000,9, -999.000,9,-999.0000,9,    -9.00,9,-999.000,9,   -999.0,9,-999.0000,-999.000,-999.000,-999.000
    06AQANTX_4,  SR04,   637,  1,      8,      8,2,19920726,0408,-60.4333, -46.9833,  273,    149.2,  -0.5537,  34.4838,2,  34.4783,2, -0.5584,    243.9,2,   100.91,2,    32.47,2,     0.06,2,     2.24,2,    2.437,2,    1.068,2, -999.000,9,   0.0000,4,    -9.00,9,  -0.002,4,   2240.2,2,  0.0000,-999.000,   0.000,-999.000
    06AQANTX_4,  SR04,   637,  1,      5,      5,2,19920726,0408,-60.4333, -46.9833,  273,    198.5,  -0.1703,  34.5828,2,-999.0000,9, -0.1773,   -999.0,9,  -999.00,9,  -999.00,9,  -999.00,9,  -999.00,9, -999.000,9, -999.000,9, -999.000,9,-999.0000,9,    -9.00,9,-999.000,9,   -999.0,9,-999.0000,-999.000,-999.000,-999.000
    06AQANTX_4,  SR04,   637,  1,      6,      6,2,19920726,0408,-60.4333, -46.9833,  273,    199.3,  -0.1662,  34.5843,2,  34.5801,2, -0.1732,    222.4,2,   107.90,2,    33.37,2,     0.02,2,     2.29,2,    1.458,2,    0.640,2,    0.052,2,   1.8440,2,     6.76,2,   8.132,2,   2251.4,2,  0.0070,   0.003,   0.040,   0.310
    06AQANTX_4,  SR04,   637,  1,      3,      3,2,19920726,0408,-60.4333, -46.9833,  273,    249.0,   0.0584,  34.6403,2,-999.0000,9,  0.0490,   -999.0,9,  -999.00,9,  -999.00,9,  -999.00,9,  -999.00,9, -999.000,9, -999.000,9, -999.000,9,-999.0000,9,    -9.00,9,-999.000,9,   -999.0,9,-999.0000,-999.000,-999.000,-999.000
    06AQANTX_4,  SR04,   637,  1,      4,      4,2,19920726,0408,-60.4333, -46.9833,  273,    249.7,   0.0591,  34.6408,2,  34.6386,2,  0.0497,    212.8,2,   114.93,2,    33.57,2,     0.02,2,     2.29,2,    0.771,2,    0.343,2,    0.107,2,   1.4850,4,     4.01,4,   7.085,4,   -999.0,9,  0.0050,   0.009,   0.035,   0.310
    06AQANTX_4,  SR04,   637,  1,      2,      2,2,19920726,0408,-60.4333, -46.9833,  273,    281.9,   0.0723,  34.6580,2,  34.6530,2,  0.0615,    212.9,2,   118.05,2,    33.55,2,     0.01,2,     2.29,2,    0.584,2,    0.261,2,    0.071,2,   1.8730,2,     7.32,2,   8.129,2,   2255.8,2,  0.0070,   0.003,   0.040,   0.310
    06AQANTX_4,  SR04,   637,  1,      1,      1,2,19920726,0408,-60.4333, -46.9833,  273,    282.1,   0.0725,  34.6601,2,-999.0000,9,  0.0617,   -999.0,9,  -999.00,9,  -999.00,9,  -999.00,9,  -999.00,9, -999.000,9, -999.000,9, -999.000,9,-999.0000,9,    -9.00,9,-999.000,9,   -999.0,9,-999.0000,-999.000,-999.000,-999.000