BOTTLE,20061211WHPSIODBK
EXPOCODE,SECT_ID,STNNBR,CASTNO,SAMPNO,BTLNBR,BTLNBR_FLAG_W,DATE,TIME,LATITUDE,LONGITUDE,DEPTH,CTDPRS,CTDTMP,CTDSAL,CTDSAL_FLAG_W,SALNTY,SALNTY_FLAG_W,THETA,OXYGEN,OXYGEN_FLAG_W,SILCAT,SILCAT_FLAG_W,NITRAT,NITRAT_FLAG_W,NITRIT,NITRIT_FLAG_W,PHSPHT,PHSPHT_FLAG_W,CFC-11,CFC-11_FLAG_W,CFC-12,CFC-12_FLAG_W,TRITUM,TRITUM_FLAG_W,HELIUM,HELIUM_FLAG_W,DELHE3,DELHE3_FLAG_W,NEON,NEON_FLAG_W,TCARBN,TCARBN_FLAG_W,HELIER,TRITER,NEONER,DELHER
,,,,,,,,,,,,DBAR,ITS-90,PSS-78,,PSS-78,,DEG C,UMOL/KG,,UMOL/KG,,UMOL/KG,,UMOL/KG,,UMOL/KG,,PMOL/KG,,PMOL/KG,,TU,,NMOL/KG,,PERCNT,,NMOL/KG,,UMOL/KG,,NMOL/KG,TU,NMOL/KG,PERCNT
    06AQANTX_4,   A12,   606,  2,     24,     24,2,19920619,0111,-69.7000,  -0.7000, 2028,      4.8,  -1.8855,  34.1526,2,-999.0000,9, -1.8856,   -999.0,9,  -999.00,9,  -999.00,9,  -999.00,9,  -999.00,9, -999.000,9, -999.000,9, -999.000,9,-999.0000,9,    -9.00,9,-999.000,9,   -999.0,9,-999.0000,-999.000,-999.000,-999.000
    06AQANTX_4,   A12,   606,  2,     23,     23,2,19920619,0111,-69.7000,  -0.7000, 2028,      9.7,  -1.8882,  34.1553,2,  34.1500,2, -1.8884,   -999.0,9,    57.13,2,    26.82,2,     0.16,2,     1.97,2, -999.000,9, -999.000,9, -999.000,9,-999.0000,9,    -9.00,9,-999.000,9,   2192.3,2,-999.0000,-999.000,-999.000,-999.000
    06AQANTX_4,   A12,   606,  2,     22,     22,2,19920619,0111,-69.7000,  -0.7000, 2028,     29.4,  -1.8871,  34.1551,2,-999.0000,9, -1.8876,   -999.0,9,    57.06,2,    28.13,2,  -999.00,9,     1.97,2, -999.000,9, -999.000,9, -999.000,9,-999.0000,9,    -9.00,9,-999.000,9,   -999.0,9,-999.0000,-999.000,-999.000,-999.000
    06AQANTX_4,   A12,   606,  2,     21,     21,2,19920619,0111,-69.7000,  -0.7000, 2028,     29.4,  -1.8871,  34.1565,2,  34.1505,2, -1.8876,   -999.0,9,    57.06,2,    28.13,2,     0.16,2,     1.97,2, -999.000,9, -999.000,9, -999.000,9,-999.0000,9,    -9.00,9,-999.000,9,   2189.3,2,-999.0000,-999.000,-999.000,-999.000
    06AQANTX_4,   A12,   606,  2,     20,     20,2,19920619,0111,-69.7000,  -0.7000, 2028,     69.8,  -1.8858,  34.1538,2,  34.1504,2, -1.8871,    326.7,2,    57.01,2,    28.03,2,     0.16,2,     1.95,2, -999.000,9, -999.000,9, -999.000,9,-999.0000,9,    -9.00,9,-999.000,9,   2191.9,2,-999.0000,-999.000,-999.000,-999.000
    06AQANTX_4,   A12,   606,  2,     19,     19,2,19920619,0111,-69.7000,  -0.7000, 2028,     69.8,  -1.8871,  34.1546,2,-999.0000,9, -1.8884,   -999.0,9,    57.01,2,    28.03,2,  -999.00,9,     1.95,2, -999.000,9, -999.000,9, -999.000,9,-999.0000,9,    -9.00,9,-999.000,9,   -999.0,9,-999.0000,-999.000,-999.000,-999.000
    06AQANTX_4,   A12,   606,  2,     18,     18,2,19920619,0111,-69.7000,  -0.7000, 2028,    100.5,  -1.8856,  34.1534,2,  34.1488,2, -1.8875,    328.2,2,    56.94,2,    28.30,2,     0.15,2,     1.97,2, -999.000,9, -999.000,9, -999.000,9,-999.0000,9,    -9.00,9,-999.000,9,   2191.3,2,-999.0000,-999.000,-999.000,-999.000
    06AQANTX_4,   A12,   606,  2,     17,     17,2,19920619,0111,-69.7000,  -0.7000, 2028,    100.5,  -1.8867,  34.1540,2,-999.0000,9, -1.8886,   -999.0,9,    56.94,2,    28.30,2,  -999.00,9,     1.97,2, -999.000,9, -999.000,9, -999.000,9,-999.0000,9,    -9.00,9,-999.000,9,   -999.0,9,-999.0000,-999.000,-999.000,-999.000
    06AQANTX_4,   A12,   606,  2,     16,     16,2,19920619,0111,-69.7000,  -0.7000, 2028,    125.7,  -1.8861,  34.1525,2,-999.0000,9, -1.8885,   -999.0,9,  -999.00,9,  -999.00,9,  -999.00,9,  -999.00,9, -999.000,9, -999.000,9, -999.000,9,-999.0000,9,    -9.00,9,-999.000,9,   -999.0,9,-999.0000,-999.000,-999.000,-999.000
    06AQANTX_4,   A12,   606,  2,     15,     15,2,19920619,0111,-69.7000,  -0.7000, 2028,    150.5,  -1.8466,  34.2017,2,-999.0000,9, -1.8496,   -999.0,9,    57.66,2,    29.95,2,  -999.00,9,     2.00,2, -999.000,9, -999.000,9, -999.000,9,-999.0000,9,    -9.00,9,-999.000,9,   -999.0,9,-999.0000,-999.000,-999.000,-999.000
    06AQANTX_4,   A12,   606,  2,     14,     14,2,19920619,0111,-69.7000,  -0.7000, 2028,    150.5,  -1.8447,  34.2017,2,  34.1995,2, -1.8477,    323.7,2,    57.66,2,    29.95,2,     0.14,2,     2.00,2, -999.000,9, -999.000,9, -999.000,9,-999.0000,9,    -9.00,9,-999.000,9,   2196.5,2,-999.0000,-999.000,-999.000,-999.000
    06AQANTX_4,   A12,   606,  2,     13,     13,2,19920619,0111,-69.7000,  -0.7000, 2028,    199.2,  -1.8253,  34.2278,2,  34.2228,2, -1.8294,    322.0,2,    58.37,2,    30.33,2,     0.13,2,     2.00,2, -999.000,9, -999.000,9, -999.000,9,-999.0000,9,    -9.00,9,-999.000,9,   2199.6,2,-999.0000,-999.000,-999.000,-999.000
    06AQANTX_4,   A12,   606,  2,     12,     12,2,19920619,0111,-69.7000,  -0.7000, 2028,    299.7,  -1.8133,  34.2445,2,-999.0000,9, -1.8197,   -999.0,9,  -999.00,9,  -999.00,9,  -999.00,9,  -999.00,9, -999.000,9, -999.000,9, -999.000,9,-999.0000,9,    -9.00,9,-999.000,9,   -999.0,9,-999.0000,-999.000,-999.000,-999.000
    06AQANTX_4,   A12,   606,  2,     11,     11,2,19920619,0111,-69.7000,  -0.7000, 2028,    399.8,  -1.8133,  34.2511,2,  34.2465,2, -1.8223,    318.8,2,    59.88,2,    29.77,2,     0.12,2,     2.02,2, -999.000,9, -999.000,9, -999.000,9,-999.0000,9,    -9.00,9,-999.000,9,   2201.3,2,-999.0000,-999.000,-999.000,-999.000
    06AQANTX_4,   A12,   606,  2,     10,     10,2,19920619,0111,-69.7000,  -0.7000, 2028,    500.8,  -1.8067,  34.2597,2,-999.0000,9, -1.8185,   -999.0,9,  -999.00,9,  -999.00,9,  -999.00,9,  -999.00,9, -999.000,9, -999.000,9, -999.000,9,-999.0000,9,    -9.00,9,-999.000,9,   -999.0,9,-999.0000,-999.000,-999.000,-999.000
    06AQANTX_4,   A12,   606,  2,      9,      9,2,19920619,0111,-69.7000,  -0.7000, 2028,    700.0,  -1.6868,  34.2952,2,  34.2921,2, -1.7054,    312.6,2,    61.38,2,    29.46,2,     0.10,2,     2.04,2, -999.000,9, -999.000,9, -999.000,9,-999.0000,9,    -9.00,9,-999.000,9,   2206.0,2,-999.0000,-999.000,-999.000,-999.000
    06AQANTX_4,   A12,   606,  2,      8,      8,2,19920619,0111,-69.7000,  -0.7000, 2028,    850.7,  -0.9794,  34.4093,2,  34.4045,4, -1.0085,    278.4,2,    71.55,2,    31.73,2,     0.04,2,     2.11,2, -999.000,9, -999.000,9, -999.000,9,-999.0000,9,    -9.00,9,-999.000,9,   2222.1,2,-999.0000,-999.000,-999.000,-999.000
    06AQANTX_4,   A12,   606,  2,      6,      6,2,19920619,0111,-69.7000,  -0.7000, 2028,    998.7,   0.1916,  34.5819,2,  34.5828,2,  0.1461,    228.9,2,    90.37,2,    33.03,2,     0.01,2,     2.20,2, -999.000,9, -999.000,9, -999.000,9,-999.0000,9,    -9.00,9,-999.000,9,   2245.3,2,-999.0000,-999.000,-999.000,-999.000
    06AQANTX_4,   A12,   606,  2,      7,      7,2,19920619,0111,-69.7000,  -0.7000, 2028,    999.6,   0.1920,  34.5825,2,-999.0000,9,  0.1465,   -999.0,9,  -999.00,9,  -999.00,9,  -999.00,9,  -999.00,9, -999.000,9, -999.000,9, -999.000,9,-999.0000,9,    -9.00,9,-999.000,9,   -999.0,9,-999.0000,-999.000,-999.000,-999.000
    06AQANTX_4,   A12,   606,  2,      5,      5,2,19920619,0111,-69.7000,  -0.7000, 2028,   1300.5,   0.4278,  34.6591,2,  34.6539,4,  0.3625,    216.9,2,   106.85,2,    33.39,2,     0.01,2,     2.22,2, -999.000,9, -999.000,9, -999.000,9,-999.0000,9,    -9.00,9,-999.000,9,   2254.3,2,-999.0000,-999.000,-999.000,-999.000
    06AQANTX_4,   A12,   606,  2,      4,      4,2,19920619,0111,-69.7000,  -0.7000, 2028,   1699.8,   0.3286,  34.6710,2,  34.6659,4,  0.2388,    214.9,2,   115.47,2,    33.28,2,     0.01,2,     2.23,2, -999.000,9, -999.000,9, -999.000,9,-999.0000,9,    -9.00,9,-999.000,9,   -999.0,9,-999.0000,-999.000,-999.000,-999.000
    06AQANTX_4,   A12,   606,  2,      3,      3,2,19920619,0111,-69.7000,  -0.7000, 2028,   1930.3,   0.2255,  34.6703,2,  34.6660,4,  0.1213,    216.5,2,   119.76,2,    32.73,2,     0.01,2,     2.26,2, -999.000,9, -999.000,9, -999.000,9,-999.0000,9,    -9.00,9,-999.000,9,   2258.0,2,-999.0000,-999.000,-999.000,-999.000
    06AQANTX_4,   A12,   606,  2,      2,      2,2,19920619,0111,-69.7000,  -0.7000, 2028,   2000.1,   0.2010,  34.6702,2,  34.6657,4,  0.0923,    219.4,2,   121.30,2,    32.41,2,     0.00,2,     2.27,2, -999.000,9, -999.000,9, -999.000,9,-999.0000,9,    -9.00,9,-999.000,9,   -999.0,9,-999.0000,-999.000,-999.000,-999.000
    06AQANTX_4,   A12,   606,  2,      1,      1,2,19920619,0111,-69.7000,  -0.7000, 2028,   2072.1,   0.1080,  34.6691,2,  34.6640,4, -0.0044,    218.9,2,   124.01,2,    32.30,2,     0.00,2,     2.27,2, -999.000,9, -999.000,9, -999.000,9,-999.0000,9,    -9.00,9,-999.000,9,   -999.0,9,-999.0000,-999.000,-999.000,-999.000
    06AQANTX_4,  SR04,   610,  1,     10,     10,2,19920630,0609,-70.5167,  -9.1500,  391,      3.7,  -1.8731,  34.1979,2,  34.2125,2, -1.8732,    329.1,2,    56.63,2,    26.23,2,     0.17,2,     1.94,2,    6.406,2,    2.870,2, -999.000,9,-999.0000,9,    -9.00,9,-999.000,9,   -999.0,9,-999.0000,-999.000,-999.000,-999.000
    06AQANTX_4,  SR04,   610,  1,      9,      9,2,19920630,0609,-70.5167,  -9.1500,  391,     10.0,  -1.8768,  34.1979,2,  34.2100,2, -1.8770,    328.8,2,    56.49,2,    26.57,2,     0.17,2,     1.93,2, -999.000,9, -999.000,9, -999.000,9,-999.0000,9,    -9.00,9,-999.000,9,   2195.6,2,-999.0000,-999.000,-999.000,-999.000
    06AQANTX_4,  SR04,   610,  1,      8,      8,2,19920630,0609,-70.5167,  -9.1500,  391,     49.2,  -1.8771,  34.2087,2,  34.2212,2, -1.8780,    328.7,2,    56.35,2,    26.75,2,     0.16,2,     1.95,2,    6.397,2,    2.889,2, -999.000,9,-999.0000,9,    -9.00,9,-999.000,9,   2197.2,2,-999.0000,-999.000,-999.000,-999.000
    06AQANTX_4,  SR04,   610,  1,      7,      7,2,19920630,0609,-70.5167,  -9.1500,  391,    100.4,  -1.8770,  34.2107,2,  34.2161,2, -1.8789,    329.5,2,    56.20,2,    26.69,2,     0.16,2,     1.95,2,    6.346,2,    2.733,3, -999.000,9,-999.0000,9,    -9.00,9,-999.000,9,   2196.1,2,-999.0000,-999.000,-999.000,-999.000
    06AQANTX_4,  SR04,   610,  1,      6,      6,2,19920630,0609,-70.5167,  -9.1500,  391,    149.9,  -1.8757,  34.2109,2,  34.2182,2, -1.8786,    328.3,2,    56.06,2,    27.22,2,     0.16,2,     1.97,2,    6.623,2,    3.268,2, -999.000,9,-999.0000,9,    -9.00,9,-999.000,9,   -999.0,9,-999.0000,-999.000,-999.000,-999.000
    06AQANTX_4,  SR04,   610,  1,      5,      5,2,19920630,0609,-70.5167,  -9.1500,  391,    200.0,  -1.8750,  34.2113,2,  34.2105,2, -1.8790,    328.7,2,    56.30,2,    27.05,2,     0.16,2,     1.94,2,    6.459,2,    3.129,2, -999.000,9,-999.0000,9,    -9.00,9,-999.000,9,   2195.5,2,-999.0000,-999.000,-999.000,-999.000
    06AQANTX_4,  SR04,   610,  1,      4,      4,2,19920630,0609,-70.5167,  -9.1500,  391,    249.4,  -1.8739,  34.2115,2,  34.1982,3, -1.8790,    328.2,2,    56.54,2,    26.26,2,     0.16,2,     2.03,2, -999.000,9, -999.000,9, -999.000,9,-999.0000,9,    -9.00,9,-999.000,9,   -999.0,9,-999.0000,-999.000,-999.000,-999.000
    06AQANTX_4,  SR04,   610,  1,      3,      3,2,19920630,0609,-70.5167,  -9.1500,  391,    300.0,  -1.8717,  34.2119,2,  34.2020,2, -1.8780,    328.6,2,    56.40,2,    26.92,2,     0.16,2,     1.96,2, -999.000,9, -999.000,9, -999.000,9,-999.0000,9,    -9.00,9,-999.000,9,   2195.7,2,-999.0000,-999.000,-999.000,-999.000
    06AQANTX_4,  SR04,   610,  1,      2,      2,2,19920630,0609,-70.5167,  -9.1500,  391,    350.3,  -1.8409,  34.2145,2,  34.2172,2, -1.8485,    323.1,2,    57.80,2,    28.51,2,     0.12,2,     2.00,2, -999.000,9, -999.000,9, -999.000,9,-999.0000,9,    -9.00,9,-999.000,9,   -999.0,9,-999.0000,-999.000,-999.000,-999.000
    06AQANTX_4,  SR04,   610,  1,      1,      1,2,19920630,0609,-70.5167,  -9.1500,  391,    397.5,  -1.8293,  34.2235,2,  34.2332,2, -1.8382,    322.4,2,    57.66,2,    28.48,2,     0.10,2,     1.97,2,    6.023,2,    3.113,3, -999.000,9,-999.0000,9,    -9.00,9,-999.000,9,   2201.6,2,-999.0000,-999.000,-999.000,-999.000
    06AQANTX_4,  SR04,   611,  1,     24,     24,2,19920630,0946,-70.5000,  -9.7000,  949,      2.0,  -1.8718,  34.2005,2,-999.0000,9, -1.8718,   -999.0,9,  -999.00,9,  -999.00,9,  -999.00,9,  -999.00,9, -999.000,9, -999.000,9, -999.000,9,-999.0000,9,    -9.00,9,-999.000,9,   -999.0,9,-999.0000,-999.000,-999.000,-999.000
    06AQANTX_4,  SR04,   611,  1,     22,     22,2,19920630,0946,-70.5000,  -9.7000,  949,      7.3,  -1.8783,  34.2035,2,  34.2032,2, -1.8784,    328.0,2,    56.39,2,    28.77,2,     0.18,2,     1.93,2,    5.781,2,    2.927,3, -999.000,9,-999.0000,9,    -9.00,9,-999.000,9,   2193.7,2,-999.0000,-999.000,-999.000,-999.000
    06AQANTX_4,  SR04,   611,  1,     23,     23,2,19920630,0946,-70.5000,  -9.7000,  949,      7.4,  -1.8791,  34.2033,2,-999.0000,9, -1.8792,   -999.0,9,  -999.00,9,  -999.00,9,  -999.00,9,  -999.00,9, -999.000,9, -999.000,9, -999.000,9,-999.0000,9,    -9.00,9,-999.000,9,   -999.0,9,-999.0000,-999.000,-999.000,-999.000
    06AQANTX_4,  SR04,   611,  1,     21,     21,2,19920630,0946,-70.5000,  -9.7000,  949,     29.5,  -1.8796,  34.2042,2,-999.0000,9, -1.8801,   -999.0,9,  -999.00,9,  -999.00,9,  -999.00,9,  -999.00,9, -999.000,9, -999.000,9, -999.000,9,-999.0000,9,    -9.00,9,-999.000,9,   -999.0,9,-999.0000,-999.000,-999.000,-999.000
    06AQANTX_4,  SR04,   611,  1,     20,     20,2,19920630,0946,-70.5000,  -9.7000,  949,     50.1,  -1.8791,  34.2033,2,-999.0000,9, -1.8800,   -999.0,9,  -999.00,9,  -999.00,9,  -999.00,9,  -999.00,9, -999.000,9, -999.000,9, -999.000,9,-999.0000,9,    -9.00,9,-999.000,9,   -999.0,9,-999.0000,-999.000,-999.000,-999.000
    06AQANTX_4,  SR04,   611,  1,     19,     19,2,19920630,0946,-70.5000,  -9.7000,  949,     69.8,  -1.8764,  34.2026,2,-999.0000,9, -1.8777,   -999.0,9,  -999.00,9,  -999.00,9,  -999.00,9,  -999.00,9, -999.000,9, -999.000,9, -999.000,9,-999.0000,9,    -9.00,9,-999.000,9,   -999.0,9,-999.0000,-999.000,-999.000,-999.000
    06AQANTX_4,  SR04,   611,  1,     18,     18,2,19920630,0946,-70.5000,  -9.7000,  949,    100.0,  -1.8738,  34.2011,2,  34.1905,3, -1.8757,    326.5,2,    56.60,2,    28.38,2,     0.17,2,     1.93,2,    6.039,2,    3.019,2, -999.000,9,-999.0000,9,    -9.00,9,-999.000,9,   2193.3,2,-999.0000,-999.000,-999.000,-999.000
    06AQANTX_4,  SR04,   611,  1,     17,     17,2,19920630,0946,-70.5000,  -9.7000,  949,    100.0,  -1.8745,  34.2022,2,-999.0000,9, -1.8764,   -999.0,9,  -999.00,9,  -999.00,9,  -999.00,9,  -999.00,9, -999.000,9, -999.000,9, -999.000,9,-999.0000,9,    -9.00,9,-999.000,9,   -999.0,9,-999.0000,-999.000,-999.000,-999.000
    06AQANTX_4,  SR04,   611,  1,     16,     16,2,19920630,0946,-70.5000,  -9.7000,  949,    125.1,  -1.8715,  34.2044,2,-999.0000,9, -1.8739,   -999.0,9,  -999.00,9,  -999.00,9,  -999.00,9,  -999.00,9, -999.000,9, -999.000,9, -999.000,9,-999.0000,9,    -9.00,9,-999.000,9,   -999.0,9,-999.0000,-999.000,-999.000,-999.000
    06AQANTX_4,  SR04,   611,  1,     15,     15,2,19920630,0946,-70.5000,  -9.7000,  949,    150.0,  -1.8673,  34.2064,2,-999.0000,9, -1.8702,   -999.0,9,  -999.00,9,  -999.00,9,  -999.00,9,  -999.00,9, -999.000,9, -999.000,9, -999.000,9,-999.0000,9,    -9.00,9,-999.000,9,   -999.0,9,-999.0000,-999.000,-999.000,-999.000
    06AQANTX_4,  SR04,   611,  1,     13,     13,2,19920630,0946,-70.5000,  -9.7000,  949,    199.8,  -1.8600,  34.2086,2,  34.2070,2, -1.8640,    325.0,2,    56.58,2,    28.58,2,     0.16,2,     1.97,2, -999.000,9, -999.000,9, -999.000,9,-999.0000,9,    -9.00,9,-999.000,9,   2196.1,2,-999.0000,-999.000,-999.000,-999.000
    06AQANTX_4,  SR04,   611,  1,     14,     14,2,19920630,0946,-70.5000,  -9.7000,  949,    199.9,  -1.8595,  34.2075,2,-999.0000,9, -1.8635,   -999.0,9,  -999.00,9,  -999.00,9,  -999.00,9,  -999.00,9, -999.000,9, -999.000,9, -999.000,9,-999.0000,9,    -9.00,9,-999.000,9,   -999.0,9,-999.0000,-999.000,-999.000,-999.000
    06AQANTX_4,  SR04,   611,  1,     12,     12,2,19920630,0946,-70.5000,  -9.7000,  949,    249.6,  -1.8380,  34.2225,2,-999.0000,9, -1.8432,   -999.0,9,  -999.00,9,  -999.00,9,  -999.00,9,  -999.00,9, -999.000,9, -999.000,9, -999.000,9,-999.0000,9,    -9.00,9,-999.000,9,   -999.0,9,-999.0000,-999.000,-999.000,-999.000
    06AQANTX_4,  SR04,   611,  1,     10,     10,2,19920630,0946,-70.5000,  -9.7000,  949,    299.9,  -1.8222,  34.2362,2,-999.0000,9, -1.8286,   -999.0,9,  -999.00,9,  -999.00,9,  -999.00,9,  -999.00,9, -999.000,9, -999.000,9, -999.000,9,-999.0000,9,    -9.00,9,-999.000,9,   -999.0,9,-999.0000,-999.000,-999.000,-999.000
    06AQANTX_4,  SR04,   611,  1,     11,     11,2,19920630,0946,-70.5000,  -9.7000,  949,    300.2,  -1.8234,  34.2357,2,  34.2233,3, -1.8298,    319.7,2,    58.16,2,    30.06,2,     0.13,2,     1.97,2,    5.791,2,    2.930,3, -999.000,9,-999.0000,9,    -9.00,9,-999.000,9,   2200.7,2,-999.0000,-999.000,-999.000,-999.000
    06AQANTX_4,  SR04,   611,  1,      8,      8,2,19920630,0946,-70.5000,  -9.7000,  949,    499.4,  -1.7598,  34.2711,2,-999.0000,9, -1.7718,   -999.0,9,  -999.00,9,  -999.00,9,  -999.00,9,  -999.00,9, -999.000,9, -999.000,9, -999.000,9,-999.0000,9,    -9.00,9,-999.000,9,   -999.0,9,-999.0000,-999.000,-999.000,-999.000
    06AQANTX_4,  SR04,   611,  1,      9,      9,2,19920630,0946,-70.5000,  -9.7000,  949,    499.8,  -1.7607,  34.2697,2,  34.2699,2, -1.7727,    314.2,2,    58.85,2,    30.18,2,     0.11,2,     2.02,2, -999.000,9, -999.000,9, -999.000,9,-999.0000,9,    -9.00,9,-999.000,9,   2205.1,2,-999.0000,-999.000,-999.000,-999.000
    06AQANTX_4,  SR04,   611,  1,      7,      7,2,19920630,0946,-70.5000,  -9.7000,  949,    599.1,  -1.7349,  34.2847,2,  34.2831,2, -1.7500,    312.8,2,    59.26,2,    29.98,2,     0.10,2,     2.00,2,    5.521,2,    2.571,2, -999.000,9,-999.0000,9,    -9.00,9,-999.000,9,   2206.8,2,-999.0000,-999.000,-999.000,-999.000
    06AQANTX_4,  SR04,   611,  1,      6,      6,2,19920630,0946,-70.5000,  -9.7000,  949,    689.8,  -1.5630,  34.3225,2,  34.3192,2, -1.5820,    304.5,2,    61.82,2,    30.20,2,     0.09,2,     2.04,2, -999.000,9, -999.000,9, -999.000,9,-999.0000,9,    -9.00,9,-999.000,9,   -999.0,9,-999.0000,-999.000,-999.000,-999.000
    06AQANTX_4,  SR04,   611,  1,      5,      5,2,19920630,0946,-70.5000,  -9.7000,  949,    749.9,  -1.4428,  34.3607,2,  34.3569,2, -1.4648,    297.9,2,    63.33,2,    30.20,2,     0.09,2,     2.04,2,    4.971,2,    2.380,2, -999.000,9,-999.0000,9,    -9.00,9,-999.000,9,   2215.2,2,-999.0000,-999.000,-999.000,-999.000
    06AQANTX_4,  SR04,   611,  1,      4,      4,2,19920630,0946,-70.5000,  -9.7000,  949,    799.7,  -1.4070,  34.3782,2,  34.3773,2, -1.4311,    296.3,2,    64.74,2,    30.77,2,     0.09,2,     2.02,2, -999.000,9, -999.000,9, -999.000,9,-999.0000,9,    -9.00,9,-999.000,9,   -999.0,9,-999.0000,-999.000,-999.000,-999.000
    06AQANTX_4,  SR04,   611,  1,      3,      3,2,19920630,0946,-70.5000,  -9.7000,  949,    850.3,  -0.9633,  34.4313,2,  34.4296,2, -0.9925,    275.5,2,    70.41,2,    31.52,2,     0.06,2,     2.09,2,    4.067,2,    1.919,2, -999.000,9,-999.0000,9,    -9.00,9,-999.000,9,   2225.3,2,-999.0000,-999.000,-999.000,-999.000
    06AQANTX_4,  SR04,   611,  1,      2,      2,2,19920630,0946,-70.5000,  -9.7000,  949,    900.3,  -0.6078,  34.4765,2,  34.4802,2, -0.6419,    258.7,2,    76.72,2,    31.69,2,     0.05,2,     2.13,2, -999.000,9, -999.000,9, -999.000,9,-999.0000,9,    -9.00,9,-999.000,9,   -999.0,9,-999.0000,-999.000,-999.000,-999.000
    06AQANTX_4,  SR04,   611,  1,      1,      1,2,19920630,0946,-70.5000,  -9.7000,  949,    952.7,  -0.2058,  34.5281,2,  34.5283,2, -0.2456,    246.0,2,    82.48,2,    31.62,2,     0.03,2,     2.15,2,    2.638,2,    1.263,2, -999.000,9,-999.0000,9,    -9.00,9,-999.000,9,   2245.5,2,-999.0000,-999.000,-999.000,-999.000