BOTTLE,20061211WHPSIODBK
EXPOCODE,SECT_ID,STNNBR,CASTNO,SAMPNO,BTLNBR,BTLNBR_FLAG_W,DATE,TIME,LATITUDE,LONGITUDE,DEPTH,CTDPRS,CTDTMP,CTDSAL,CTDSAL_FLAG_W,SALNTY,SALNTY_FLAG_W,THETA,OXYGEN,OXYGEN_FLAG_W,SILCAT,SILCAT_FLAG_W,NITRAT,NITRAT_FLAG_W,NITRIT,NITRIT_FLAG_W,PHSPHT,PHSPHT_FLAG_W,CFC-11,CFC-11_FLAG_W,CFC-12,CFC-12_FLAG_W,TRITUM,TRITUM_FLAG_W,HELIUM,HELIUM_FLAG_W,DELHE3,DELHE3_FLAG_W,NEON,NEON_FLAG_W,TCARBN,TCARBN_FLAG_W,HELIER,TRITER,NEONER,DELHER
,,,,,,,,,,,,DBAR,ITS-90,PSS-78,,PSS-78,,DEG C,UMOL/KG,,UMOL/KG,,UMOL/KG,,UMOL/KG,,UMOL/KG,,PMOL/KG,,PMOL/KG,,TU,,NMOL/KG,,PERCNT,,NMOL/KG,,UMOL/KG,,NMOL/KG,TU,NMOL/KG,PERCNT
    06AQANTX_4,   A12,   552,  1,     24,     24,2,19920528,1915,-41.0500,   9.4000, 4701,      9.9,  10.0178,  34.4874,2,  34.4891,2, 10.0167,    286.9,2,     1.78,2,    10.84,2,     0.28,2,     0.95,2,    3.808,2,    1.832,2,    0.489,2,   1.8880,4,     4.32,2,   8.356,4,   2081.9,2,  0.0070,   0.013,   0.041,   0.310
    06AQANTX_4,   A12,   552,  1,     23,     23,2,19920528,1915,-41.0500,   9.4000, 4701,     71.1,   9.5652,  34.4328,2,  34.4296,2,  9.5573,    286.5,2,     1.93,2,    11.81,2,     0.29,2,     0.92,2,    3.861,2,    1.885,2,    0.410,2,   1.7660,2,    -0.22,2,   7.529,2,   2080.4,2,  0.0060,   0.012,   0.037,   0.310
    06AQANTX_4,   A12,   552,  1,     22,     22,2,19920528,1915,-41.0500,   9.4000, 4701,    140.3,   8.8297,  34.4049,2,  34.4108,2,  8.8148,    273.2,2,     3.07,2,    16.04,2,     0.09,2,     1.14,2,    3.907,2,    1.843,2,    0.404,2,-999.0000,5,    -9.00,5,-999.000,5,   2101.4,2,-999.0000,   0.018,-999.000,-999.000
    06AQANTX_4,   A12,   552,  1,     21,     21,2,19920528,1915,-41.0500,   9.4000, 4701,    218.9,   7.8923,  34.4279,2,  34.4197,2,  7.8705,    265.9,2,     4.84,2,    18.61,2,     0.08,2,     1.28,2,    3.805,2,    1.795,2,    0.359,2,   1.7660,2,    -1.20,2,   7.538,2,   2115.8,2,  0.0060,   0.011,   0.037,   0.310
    06AQANTX_4,   A12,   552,  1,     20,     20,2,19920528,1915,-41.0500,   9.4000, 4701,    299.9,   6.7176,  34.3534,2,  34.3560,2,  6.6903,    255.5,2,     8.08,2,    22.72,2,     0.09,2,     1.53,2,    3.466,2,    1.615,2,    0.320,2,   1.7590,2,     0.05,2,   7.626,2,   2132.7,2,  0.0060,   0.031,   0.037,   0.310
    06AQANTX_4,   A12,   552,  1,     19,     19,2,19920528,1915,-41.0500,   9.4000, 4701,    398.9,   6.1891,  34.3606,2,  34.3602,2,  6.1541,    235.2,2,    13.73,2,    26.29,2,     0.08,2,     1.75,2,    2.552,6,    1.173,6,    0.268,2,   1.7720,2,     0.86,2,   7.702,2,   2150.4,2,  0.0060,   0.010,   0.038,   0.310
    06AQANTX_4,   A12,   552,  1,     18,     18,2,19920528,1915,-41.0500,   9.4000, 4701,    450.3,   5.7541,  34.3480,2,  34.3450,2,  5.7159,    236.7,2,    15.68,2,    26.95,2,     0.09,2,     1.82,2,    2.387,2,    1.106,2,    0.222,2,   1.7630,2,     1.69,2,   7.671,2,   2156.0,2,  0.0060,   0.016,   0.038,   0.310
    06AQANTX_4,   A12,   552,  1,     17,     17,2,19920528,1915,-41.0500,   9.4000, 4701,    498.7,   5.5153,  34.3537,2,  34.3420,3,  5.4737,    232.5,2,    18.83,2,    28.00,2,     0.08,2,     1.88,2, -999.000,9, -999.000,9, -999.000,9,   1.7660,2,     1.51,2,   7.691,2,   2163.9,2,  0.0060,-999.000,   0.038,   0.310
    06AQANTX_4,   A12,   552,  1,     16,     16,2,19920528,1915,-41.0500,   9.4000, 4701,    600.2,   4.0444,  34.2158,2,  34.2200,2,  4.0009,    256.3,2,    20.41,2,    29.44,2,     0.08,2,     1.98,2,    2.459,2,    1.134,2, -999.000,9,   1.7720,2,     0.86,2,   7.766,2,   2162.6,2,  0.0060,-999.000,   0.038,   0.310
    06AQANTX_4,   A12,   552,  1,     15,     15,2,19920528,1915,-41.0500,   9.4000, 4701,    698.5,   4.3827,  34.3383,2,  34.3331,2,  4.3296,    226.5,2,    30.31,2,    30.69,2,     0.08,2,     2.09,2,    1.507,2,    0.712,2,    0.110,2,   1.7860,2,     2.97,2,   7.819,2,   2187.4,2,  0.0060,   0.005,   0.038,   0.310
    06AQANTX_4,   A12,   552,  1,     14,     14,2,19920528,1915,-41.0500,   9.4000, 4701,    848.2,   3.1879,  34.2939,2,  34.2920,2,  3.1304,    230.1,2,    37.78,2,    32.89,2,     0.08,2,     2.23,2,    1.411,2,    0.643,2,    0.088,2,   1.7860,2,     3.24,2,   7.851,2,   2198.1,2,  0.0060,   0.005,   0.038,   0.310
    06AQANTX_4,   A12,   552,  1,     13,     13,2,19920528,1915,-41.0500,   9.4000, 4701,    997.1,   3.2284,  34.3942,2,  34.3940,2,  3.1592,    204.5,2,    49.04,2,    34.16,2,     0.08,2,     2.31,2,    0.748,2,    0.358,2,    0.066,2,   1.8040,2,     4.86,2,   7.968,2,   2217.1,2,  0.0070,   0.004,   0.039,   0.310
    06AQANTX_4,   A12,   552,  1,     12,     12,2,19920528,1915,-41.0500,   9.4000, 4701,   1198.8,   2.7872,  34.4758,2,  34.4730,2,  2.7061,    196.3,2,    60.07,2,    35.05,2,     0.07,2,     2.35,2, -999.000,9, -999.000,9,    0.038,2,   1.8110,2,     6.82,2,   7.932,2,   2234.0,2,  0.0070,   0.003,   0.039,   0.310
    06AQANTX_4,   A12,   552,  1,     11,     11,2,19920528,1915,-41.0500,   9.4000, 4701,   1500.3,   2.6443,  34.6057,2,  34.6031,2,  2.5406,    187.9,2,    67.03,2,    34.01,2,     0.06,2,     2.27,2,    0.165,2,    0.085,2, -999.000,9,   2.0360,4,     7.32,2,   7.964,2,   2242.1,2,  0.0070,-999.000,   0.039,   0.310
    06AQANTX_4,   A12,   552,  1,     10,     10,2,19920528,1915,-41.0500,   9.4000, 4701,   1797.6,   2.6207,  34.7231,2,  34.7216,2,  2.4922,    198.3,2,    66.64,2,    31.30,2,     0.06,2,     2.08,2,    0.092,3,    0.033,2,    0.031,2,   1.8320,2,     8.24,2,   7.965,2,   2237.7,2,  0.0070,   0.003,   0.039,   0.310
    06AQANTX_4,   A12,   552,  1,      9,      9,2,19920528,1915,-41.0500,   9.4000, 4701,   2199.0,   2.5546,  34.8023,2,  34.8006,2,  2.3915,    218.6,2,    60.56,2,    28.23,2,     0.05,2,     1.86,2,    0.029,2,    0.019,2,    0.035,2,   1.8340,2,     7.31,2,   8.040,2,   2223.4,2,  0.0070,   0.041,   0.039,   0.310
    06AQANTX_4,   A12,   552,  1,      8,      8,2,19920528,1915,-41.0500,   9.4000, 4701,   2597.5,   2.3995,  34.8305,2,  34.8281,2,  2.2020,    231.1,2,    59.92,2,    26.74,2,     0.05,2,     1.79,2,    0.019,2,    0.022,3,    0.040,2,   1.8200,2,     6.55,2,   8.033,2,   2212.5,2,  0.0070,   0.051,   0.039,   0.310
    06AQANTX_4,   A12,   552,  1,      7,      7,2,19920528,1915,-41.0500,   9.4000, 4701,   2996.9,   2.2644,  34.8387,2,  34.8376,2,  2.0305,    235.5,2,    61.88,2,    26.30,2,     0.05,2,     1.78,2,    0.063,4,    0.023,2,    0.027,2,   1.8130,2,     5.88,2,   7.967,2,   2213.6,2,  0.0070,   0.007,   0.039,   0.310
    06AQANTX_4,   A12,   552,  1,      6,      6,2,19920528,1915,-41.0500,   9.4000, 4701,   3399.3,   2.0157,  34.8216,2,  34.8225,2,  1.7466,    233.4,2,    71.43,2,    27.35,2,     0.05,2,     1.84,2,    0.010,3,    0.012,2,    0.013,2,-999.0000,5,    -9.00,5,-999.000,5,   2219.8,2,-999.0000,   0.002,-999.000,-999.000
    06AQANTX_4,   A12,   552,  1,      5,      5,2,19920528,1915,-41.0500,   9.4000, 4701,   3796.9,   1.4604,  34.7705,2,  34.7686,2,  1.1641,    229.0,2,    92.84,2,    30.03,2,     0.06,2,     2.04,2,    0.015,2,    0.013,3,    0.031,2,   1.8370,2,     7.59,2,   8.141,2,   2240.3,2,  0.0070,   0.003,   0.040,   0.310
    06AQANTX_4,   A12,   552,  1,      4,      4,2,19920528,1915,-41.0500,   9.4000, 4701,   4199.0,   1.1062,  34.7391,2,  34.7408,2,  0.7768,    228.2,2,   105.19,2,    31.64,2,     0.05,2,     2.17,2,    0.017,2,    0.019,3,    0.015,2,-999.0000,5,    -9.00,5,-999.000,5,   2258.0,2,-999.0000,   0.002,-999.000,-999.000
    06AQANTX_4,   A12,   552,  1,      3,      3,2,19920528,1915,-41.0500,   9.4000, 4701,   4498.3,   1.0430,  34.7305,2,  34.7290,2,  0.6824,    230.1,2,   109.22,2,    31.80,2,     0.06,2,     2.18,2,    0.034,2,    0.024,3,    0.021,2,   2.8490,4,     5.79,4,   8.182,2,   2259.4,2,  0.0100,   0.002,   0.040,   0.310
    06AQANTX_4,   A12,   552,  1,      2,      2,2,19920528,1915,-41.0500,   9.4000, 4701,   4778.1,   1.0079,  34.7249,2,  34.7239,2,  0.6164,    226.5,2,   111.09,2,    31.91,2,     0.06,2,     2.22,2, -999.000,9, -999.000,9, -999.000,9,-999.0000,9,    -9.00,9,-999.000,9,   2256.9,2,-999.0000,-999.000,-999.000,-999.000
    06AQANTX_4,   A12,   552,  1,      1,      1,2,19920528,1915,-41.0500,   9.4000, 4701,   4780.2,   1.0079,  34.7252,2,  34.7241,2,  0.6162,    226.6,2,   111.23,2,    32.01,2,     0.08,2,     2.19,2,    0.055,2,    0.024,2,    0.015,2,   1.8100,4,     5.93,2,-999.000,9,   2256.9,2,  0.0070,   0.003,-999.000,   0.320
    06AQANTX_4,   A12,   553,  1,     24,     24,2,19920529,0438,-41.3000,   8.5500, 4740,     22.2,   9.4879,  34.4079,2,  34.4048,2,  9.4855,    288.9,2,     2.05,2,    11.72,2,     0.30,2,     0.92,2,    3.810,2,    1.887,2, -999.000,9,-999.0000,9,    -9.00,9,-999.000,9,   2081.4,2,-999.0000,-999.000,-999.000,-999.000
    06AQANTX_4,   A12,   553,  1,     23,     23,2,19920529,0438,-41.3000,   8.5500, 4740,     69.9,   9.3639,  34.3956,2,  34.3962,2,  9.3562,    289.6,2,     2.10,2,    11.94,2,     0.31,2,     1.01,2,    3.860,2,    1.910,2, -999.000,9,-999.0000,9,    -9.00,9,-999.000,9,   2080.8,2,-999.0000,-999.000,-999.000,-999.000
    06AQANTX_4,   A12,   553,  1,     22,     22,2,19920529,0438,-41.3000,   8.5500, 4740,    143.3,   9.3112,  34.3950,2,  34.3950,2,  9.2955,    287.9,2,     2.11,2,    12.16,2,     0.31,2,     0.97,2,    3.855,2,    1.863,2, -999.000,9,-999.0000,9,    -9.00,9,-999.000,9,   2082.3,2,-999.0000,-999.000,-999.000,-999.000
    06AQANTX_4,   A12,   553,  1,     21,     21,2,19920529,0438,-41.3000,   8.5500, 4740,    223.2,   8.2534,  34.4624,2,  34.4618,2,  8.2305,    263.9,2,     5.16,2,    17.44,2,     0.07,2,     1.26,2,    3.674,2,    1.745,2, -999.000,9,-999.0000,9,    -9.00,9,-999.000,9,   2113.7,2,-999.0000,-999.000,-999.000,-999.000
    06AQANTX_4,   A12,   553,  1,     20,     20,2,19920529,0438,-41.3000,   8.5500, 4740,    300.0,   7.3943,  34.4241,2,  34.4232,2,  7.3654,    255.6,2,     7.87,2,    20.70,2,     0.08,2,     1.47,2,    3.403,2,    1.605,2, -999.000,9,-999.0000,9,    -9.00,9,-999.000,9,   2126.3,2,-999.0000,-999.000,-999.000,-999.000
    06AQANTX_4,   A12,   553,  1,     19,     19,2,19920529,0438,-41.3000,   8.5500, 4740,    399.7,   6.2382,  34.3455,2,  34.3430,2,  6.2030,    245.5,2,    10.94,2,    25.05,2,     0.08,2,     1.74,2,    2.998,2,    1.418,2, -999.000,9,-999.0000,9,    -9.00,9,-999.000,9,   2144.8,2,-999.0000,-999.000,-999.000,-999.000
    06AQANTX_4,   A12,   553,  1,     18,     18,2,19920529,0438,-41.3000,   8.5500, 4740,    501.3,   5.0540,  34.2456,2,  34.2446,2,  5.0141,    254.0,2,    13.60,2,    27.37,2,     0.07,2,     1.87,2,    3.030,2,    1.395,2, -999.000,9,-999.0000,9,    -9.00,9,-999.000,9,   2151.9,2,-999.0000,-999.000,-999.000,-999.000
    06AQANTX_4,   A12,   553,  1,     17,     17,2,19920529,0438,-41.3000,   8.5500, 4740,    563.0,   4.6640,  34.2361,2,  34.2355,2,  4.6206,    254.6,2,    16.37,2,    28.28,2,     0.06,2,     1.95,2,    2.772,6,    1.266,6, -999.000,9,-999.0000,9,    -9.00,9,-999.000,9,   2157.6,2,-999.0000,-999.000,-999.000,-999.000
    06AQANTX_4,   A12,   553,  1,     16,     16,2,19920529,0438,-41.3000,   8.5500, 4740,    599.3,   4.4626,  34.2351,2,  34.2355,2,  4.4172,    254.7,2,    18.13,2,    28.79,2,     0.06,2,     1.98,2,    2.580,2,    1.192,2, -999.000,9,-999.0000,9,    -9.00,9,-999.000,9,   2161.6,2,-999.0000,-999.000,-999.000,-999.000
    06AQANTX_4,   A12,   553,  1,     15,     15,2,19920529,0438,-41.3000,   8.5500, 4740,    701.3,   3.9064,  34.2281,2,  34.2279,2,  3.8558,    252.9,2,    23.81,2,    30.09,2,     0.06,2,     2.09,2,    2.253,2,    1.253,4, -999.000,9,-999.0000,9,    -9.00,9,-999.000,9,   2170.6,2,-999.0000,-999.000,-999.000,-999.000
    06AQANTX_4,   A12,   553,  1,     14,     14,2,19920529,0438,-41.3000,   8.5500, 4740,    852.8,   3.8506,  34.3434,2,  34.3417,2,  3.7883,    221.4,2,    38.22,2,    32.35,2,     0.05,2,     2.26,2,    1.230,2,    0.567,2, -999.000,9,-999.0000,9,    -9.00,9,-999.000,9,   2197.7,2,-999.0000,-999.000,-999.000,-999.000
    06AQANTX_4,   A12,   553,  1,     13,     13,2,19920529,0438,-41.3000,   8.5500, 4740,   1050.3,   3.1158,  34.4062,2,  34.4082,2,  3.0434,    201.8,2,    53.11,2,    34.37,2,     0.05,2,     2.42,2,    0.687,2,    0.326,2, -999.000,9,-999.0000,9,    -9.00,9,-999.000,9,   2221.6,2,-999.0000,-999.000,-999.000,-999.000
    06AQANTX_4,   A12,   553,  1,     12,     12,2,19920529,0438,-41.3000,   8.5500, 4740,   1202.0,   2.8391,  34.4513,2,  34.4517,2,  2.7573,    196.6,2,    59.04,2,    35.01,2,     0.04,2,     2.43,2,    0.490,2,    0.245,2, -999.000,9,-999.0000,9,    -9.00,9,-999.000,9,   2229.9,2,-999.0000,-999.000,-999.000,-999.000
    06AQANTX_4,   A12,   553,  1,     11,     11,2,19920529,0438,-41.3000,   8.5500, 4740,   1504.4,   2.6819,  34.5982,2,  34.5970,2,  2.5774,    188.6,2,    69.71,2,    31.99,2,     0.03,2,     2.21,2,    0.185,2,    0.084,2, -999.000,9,-999.0000,9,    -9.00,9,-999.000,9,   2239.1,2,-999.0000,-999.000,-999.000,-999.000
    06AQANTX_4,   A12,   553,  1,     10,     10,2,19920529,0438,-41.3000,   8.5500, 4740,   1802.4,   2.5908,  34.7068,2,  34.7071,2,  2.4624,    200.0,2,    65.14,2,    29.09,2,     0.03,2,     2.00,2,    0.126,4,    0.045,2, -999.000,9,-999.0000,9,    -9.00,9,-999.000,9,   2233.3,2,-999.0000,-999.000,-999.000,-999.000
    06AQANTX_4,   A12,   553,  1,      9,      9,2,19920529,0438,-41.3000,   8.5500, 4740,   2198.5,   2.5174,  34.7851,2,  34.7853,2,  2.3551,    215.1,2,    62.65,2,    27.24,2,     0.02,2,     1.85,2,    0.028,3,    0.022,2, -999.000,9,-999.0000,9,    -9.00,9,-999.000,9,   2221.5,2,-999.0000,-999.000,-999.000,-999.000
    06AQANTX_4,   A12,   553,  1,      8,      8,2,19920529,0438,-41.3000,   8.5500, 4740,   2602.3,   2.3780,  34.8238,2,  34.8247,2,  2.1805,    229.0,2,    64.70,2,    26.74,2,     0.03,2,     1.82,2,    0.031,2,    0.003,3, -999.000,9,-999.0000,9,    -9.00,9,-999.000,9,   2213.6,2,-999.0000,-999.000,-999.000,-999.000
    06AQANTX_4,   A12,   553,  1,      7,      7,2,19920529,0438,-41.3000,   8.5500, 4740,   3000.2,   2.2400,  34.8338,2,  34.8338,2,  2.0064,    233.9,2,    75.73,2,    27.96,2,     0.03,2,     1.93,2,    0.021,2,    0.010,2, -999.000,9,-999.0000,9,    -9.00,9,-999.000,9,   2212.3,2,-999.0000,-999.000,-999.000,-999.000
    06AQANTX_4,   A12,   553,  1,      6,      6,2,19920529,0438,-41.3000,   8.5500, 4740,   3400.1,   1.9457,  34.8115,2,  34.8118,2,  1.6783,    231.7,2,    94.26,2,    30.26,2,     0.02,2,     2.08,2,    0.024,2,    0.011,2, -999.000,9,-999.0000,9,    -9.00,9,-999.000,9,   2221.7,2,-999.0000,-999.000,-999.000,-999.000
    06AQANTX_4,   A12,   553,  1,      5,      5,2,19920529,0438,-41.3000,   8.5500, 4740,   3800.7,   1.4592,  34.7694,2,  34.7696,2,  1.1625,    228.1,2,   106.75,2,    31.76,2,     0.03,2,     2.21,2,    0.022,2,    0.008,2, -999.000,9,-999.0000,9,    -9.00,9,-999.000,9,   2238.3,2,-999.0000,-999.000,-999.000,-999.000
    06AQANTX_4,   A12,   553,  1,      4,      4,2,19920529,0438,-41.3000,   8.5500, 4740,   4200.3,   1.1311,  34.7396,2,  34.7387,2,  0.8008,    226.7,2,  -999.00,9,  -999.00,9,  -999.00,9,  -999.00,9,    0.015,3,    0.011,2, -999.000,9,-999.0000,9,    -9.00,9,-999.000,9,   2247.3,2,-999.0000,-999.000,-999.000,-999.000
    06AQANTX_4,   A12,   553,  1,      3,      3,2,19920529,0438,-41.3000,   8.5500, 4740,   4598.0,   1.0496,  34.7299,2,  34.7291,2,  0.6775,    227.5,2,   110.76,2,    32.33,2,     0.03,2,     2.23,2,    0.025,2,    0.016,2, -999.000,9,-999.0000,9,    -9.00,9,-999.000,9,   2251.8,2,-999.0000,-999.000,-999.000,-999.000
    06AQANTX_4,   A12,   553,  1,      2,      2,2,19920529,0438,-41.3000,   8.5500, 4740,   4877.5,   1.0692,  34.7279,2,  34.7287,2,  0.6640,    227.3,2,   110.90,2,    32.17,2,     0.05,2,     2.22,2, -999.000,9, -999.000,9, -999.000,9,-999.0000,9,    -9.00,9,-999.000,9,   -999.0,9,-999.0000,-999.000,-999.000,-999.000
    06AQANTX_4,   A12,   553,  1,      1,      1,2,19920529,0438,-41.3000,   8.5500, 4740,   4879.3,   1.0688,  34.7284,2,  34.7287,2,  0.6634,    227.5,2,   111.49,2,    32.15,2,     0.06,2,     2.21,2,    0.037,2,    0.017,2, -999.000,9,-999.0000,9,    -9.00,9,-999.000,9,   2251.4,2,-999.0000,-999.000,-999.000,-999.000