BOTTLE,20061211WHPSIODBK
EXPOCODE,SECT_ID,STNNBR,CASTNO,SAMPNO,BTLNBR,BTLNBR_FLAG_W,DATE,TIME,LATITUDE,LONGITUDE,DEPTH,CTDPRS,CTDTMP,CTDSAL,CTDSAL_FLAG_W,SALNTY,SALNTY_FLAG_W,THETA,OXYGEN,OXYGEN_FLAG_W,SILCAT,SILCAT_FLAG_W,NITRAT,NITRAT_FLAG_W,NITRIT,NITRIT_FLAG_W,PHSPHT,PHSPHT_FLAG_W,CFC-11,CFC-11_FLAG_W,CFC-12,CFC-12_FLAG_W,TRITUM,TRITUM_FLAG_W,HELIUM,HELIUM_FLAG_W,DELHE3,DELHE3_FLAG_W,NEON,NEON_FLAG_W,TCARBN,TCARBN_FLAG_W,HELIER,TRITER,NEONER,DELHER
,,,,,,,,,,,,DBAR,ITS-90,PSS-78,,PSS-78,,DEG C,UMOL/KG,,UMOL/KG,,UMOL/KG,,UMOL/KG,,UMOL/KG,,PMOL/KG,,PMOL/KG,,TU,,NMOL/KG,,PERCNT,,NMOL/KG,,UMOL/KG,,NMOL/KG,TU,NMOL/KG,PERCNT
    06AQANTX_4,  SR04,   633,  1,     24,     24,2,19920720,2324,-62.6667, -43.5500, 3120,     13.4,  -1.8482,  34.2459,2,  34.2428,2, -1.8484,    302.2,2,    77.84,2,    28.84,2,     0.48,2,     1.97,2,    4.898,2,    2.129,2,    0.143,2,   1.8370,2,     0.80,2,   8.236,2,   2208.2,2,  0.0070,   0.032,   0.040,   0.310
    06AQANTX_4,  SR04,   633,  1,     23,     23,2,19920720,2324,-62.6667, -43.5500, 3120,     13.4,  -1.8482,  34.2490,2,  34.2408,2, -1.8484,   -999.0,9,    77.84,2,    28.84,2,     0.48,2,     1.97,2,    4.785,2,    2.170,2,    0.180,2,   1.8320,2,     1.31,2,   8.236,2,   2207.8,2,  0.0070,   0.008,   0.040,   0.310
    06AQANTX_4,  SR04,   633,  1,     22,     22,2,19920720,2324,-62.6667, -43.5500, 3120,     78.2,  -1.8320,  34.2596,2,  34.2802,3, -1.8335,    293.5,2,    79.14,2,    29.53,2,     0.38,2,     1.99,2,    4.434,2,    1.956,2, -999.000,9,-999.0000,5,    -9.00,5,-999.000,5,   2212.7,2,-999.0000,-999.000,-999.000,-999.000
    06AQANTX_4,  SR04,   633,  1,     21,     21,2,19920720,2324,-62.6667, -43.5500, 3120,    118.5,  -1.0921,  34.4673,2,  34.4635,2, -1.0952,    263.0,2,    86.21,2,    31.80,2,     0.03,2,     2.07,2,    3.102,2,    1.390,2,    0.123,2,-999.0000,5,    -9.00,5,-999.000,5,   2228.6,2,-999.0000,   0.006,-999.000,-999.000
    06AQANTX_4,  SR04,   633,  1,     20,     20,2,19920720,2324,-62.6667, -43.5500, 3120,    178.1,  -0.4245,  34.5801,2,  34.5780,2, -0.4304,    234.5,2,    96.37,2,    32.54,2,     0.01,2,     2.12,2,    1.889,2,    0.839,2, -999.000,9,-999.0000,5,    -9.00,5,-999.000,5,   2244.2,2,-999.0000,-999.000,-999.000,-999.000
    06AQANTX_4,  SR04,   633,  1,     19,     19,2,19920720,2324,-62.6667, -43.5500, 3120,    248.0,   0.1449,  34.6335,2,  34.6374,2,  0.1354,    213.9,2,   104.12,2,    33.06,2,     0.01,2,     2.16,2,    0.983,2,    0.437,2,    0.080,2,   1.8430,2,     7.78,2,   8.098,2,   2252.2,2,  0.0070,   0.005,   0.040,   0.310
    06AQANTX_4,  SR04,   633,  1,     18,     18,2,19920720,2324,-62.6667, -43.5500, 3120,    348.1,   0.3628,  34.6651,2,  34.6624,2,  0.3484,    205.8,2,   108.60,2,    32.80,2,     0.01,2,     2.18,2,    0.663,2,    0.300,2, -999.000,9,-999.0000,5,    -9.00,5,-999.000,5,   2255.0,2,-999.0000,-999.000,-999.000,-999.000
    06AQANTX_4,  SR04,   633,  1,     17,     17,2,19920720,2324,-62.6667, -43.5500, 3120,    498.0,   0.4334,  34.6783,2,  34.6762,2,  0.4119,    202.1,2,   114.10,2,    33.52,2,     0.01,2,     2.20,2,    0.350,2,    0.159,2,    0.071,2,   1.8460,2,     8.51,2,   8.157,2,   2257.1,2,  0.0070,   0.006,   0.040,   0.310
    06AQANTX_4,  SR04,   633,  1,     16,     16,2,19920720,2324,-62.6667, -43.5500, 3120,    649.2,   0.4090,  34.6816,2,  34.6795,2,  0.3802,    202.1,2,   119.34,2,    33.68,2,     0.01,2,     2.21,2,    0.198,2,    0.092,2,    0.077,2,-999.0000,5,    -9.00,5,-999.000,5,   2262.7,2,-999.0000,   0.007,-999.000,-999.000
    06AQANTX_4,  SR04,   633,  1,     15,     15,2,19920720,2324,-62.6667, -43.5500, 3120,    798.5,   0.3787,  34.6818,2,  34.6804,2,  0.3424,    203.4,2,   121.30,2,  -999.00,9,     0.01,2,     2.22,2, -999.000,9, -999.000,9, -999.000,9,-999.0000,9,    -9.00,9,-999.000,9,   2261.3,2,-999.0000,-999.000,-999.000,-999.000
    06AQANTX_4,  SR04,   633,  1,     14,     14,2,19920720,2324,-62.6667, -43.5500, 3120,    998.0,   0.2815,  34.6791,2,  34.6770,2,  0.2352,    206.0,2,   124.10,2,    33.77,2,     0.01,2,     2.22,2,    0.119,2,    0.057,2,    0.032,2,   1.8550,2,     8.26,2,   8.137,2,   2261.7,2,  0.0070,   0.003,   0.040,   0.310
    06AQANTX_4,  SR04,   633,  1,     13,     13,2,19920720,2324,-62.6667, -43.5500, 3120,   1198.3,   0.1661,  34.6737,2,  34.6715,2,  0.1095,    210.9,2,   124.57,2,    33.67,2,     0.00,2,     2.22,2, -999.000,9, -999.000,9, -999.000,9,-999.0000,9,    -9.00,9,-999.000,9,   2259.1,2,-999.0000,-999.000,-999.000,-999.000
    06AQANTX_4,  SR04,   633,  1,     12,     12,2,19920720,2324,-62.6667, -43.5500, 3120,   1498.1,   0.0503,  34.6693,2,  34.6663,2, -0.0229,    216.5,2,   125.79,2,    33.55,2,     0.00,2,     2.22,2,    0.135,2,    0.067,2,    0.048,2,-999.0000,5,    -9.00,5,-999.000,5,   2257.2,2,-999.0000,   0.004,-999.000,-999.000
    06AQANTX_4,  SR04,   633,  1,     11,     11,2,19920720,2324,-62.6667, -43.5500, 3120,   1798.3,  -0.0780,  34.6613,2,  34.6581,2, -0.1686,    223.4,2,   124.00,2,    33.28,2,     0.00,2,     2.21,2, -999.000,9, -999.000,9, -999.000,9,-999.0000,9,    -9.00,9,-999.000,9,   2254.1,2,-999.0000,-999.000,-999.000,-999.000
    06AQANTX_4,  SR04,   633,  1,     10,     10,2,19920720,2324,-62.6667, -43.5500, 3120,   2198.3,  -0.2089,  34.6574,2,  34.6555,2, -0.3249,    230.3,2,   122.78,2,    33.02,2,     0.00,2,     2.20,2,    0.391,2,    0.181,2,    0.049,2,   1.8640,2,     6.50,2,   8.243,2,   2251.6,2,  0.0070,   0.004,   0.040,   0.310
    06AQANTX_4,  SR04,   633,  1,      9,      9,2,19920720,2324,-62.6667, -43.5500, 3120,   2398.4,  -0.2981,  34.6523,2,  34.6494,2, -0.4270,    235.4,2,   120.16,2,    32.88,2,     0.01,2,     2.17,2,    0.591,2,    0.282,2, -999.000,9,   1.8680,2,     5.99,2,   8.271,2,   -999.0,9,  0.0070,-999.000,   0.041,   0.310
    06AQANTX_4,  SR04,   633,  1,      8,      8,2,19920720,2324,-62.6667, -43.5500, 3120,   2598.8,  -0.3986,  34.6439,2,  34.6412,2, -0.5406,    241.6,2,   114.06,2,    32.64,2,     0.01,2,     2.17,2,    1.041,3,    0.467,3,    0.040,2,   0.0000,4,   -41.90,4,   0.001,4,   2246.2,2,  0.0000,   0.005,   0.000,   0.310
    06AQANTX_4,  SR04,   633,  1,      7,      7,2,19920720,2324,-62.6667, -43.5500, 3120,   2698.8,  -0.4146,  34.6441,2,  34.6415,2, -0.5640,    242.0,2,   114.71,2,    32.66,2,     0.01,2,     2.17,2,    0.973,2,    0.438,2, -999.000,9,   1.8900,4,     5.21,4,   8.251,4,   2246.8,2,  0.0160,-999.000,   0.082,   0.310
    06AQANTX_4,  SR04,   633,  1,      6,      6,2,19920720,2324,-62.6667, -43.5500, 3120,   2797.6,  -0.4622,  34.6401,2,  34.6373,2, -0.6184,    246.3,2,   111.80,2,    32.58,2,     0.01,2,     2.16,2,    1.105,2,    0.497,2, -999.000,9,   1.8690,2,     5.42,2,   8.324,2,   2244.5,2,  0.0070,-999.000,   0.041,   0.310
    06AQANTX_4,  SR04,   633,  1,      5,      5,2,19920720,2324,-62.6667, -43.5500, 3120,   2898.3,  -0.4953,  34.6382,2,  34.6355,2, -0.6588,    248.1,2,   110.39,2,    32.36,2,     0.01,2,     2.15,2,    1.284,2,    0.575,2,    0.066,2,-999.0000,5,    -9.00,5,-999.000,5,   2245.3,2,-999.0000,   0.005,-999.000,-999.000
    06AQANTX_4,  SR04,   633,  1,      4,      4,2,19920720,2324,-62.6667, -43.5500, 3120,   2998.8,  -0.5199,  34.6355,2,  34.6328,2, -0.6910,    247.7,2,   108.70,2,    32.50,2,     0.01,2,     2.16,2,    1.384,2,    0.624,2,    0.066,2,   2.0640,4,     4.04,2,   8.254,2,   -999.0,9,  0.0070,   0.004,   0.040,   0.310
    06AQANTX_4,  SR04,   633,  1,      3,      3,2,19920720,2324,-62.6667, -43.5500, 3120,   3087.8,  -0.5835,  34.6315,2,  34.6267,4, -0.7604,    252.2,2,   106.44,2,    32.39,2,     0.01,2,     2.16,2,    1.637,2,    0.734,2, -999.000,9,   2.0430,4,     3.59,2,   8.383,2,   2242.5,2,  0.0070,-999.000,   0.041,   0.310
    06AQANTX_4,  SR04,   633,  1,      2,      2,2,19920720,2324,-62.6667, -43.5500, 3120,   3138.6,  -0.5940,  34.6315,2,  34.6304,2, -0.7749,    253.3,2,   105.77,2,    32.41,2,     0.01,2,     2.15,2,    1.652,2,    0.743,2,    0.097,2,   1.8880,2,     4.19,2,   8.307,2,   2242.9,2,  0.0070,   0.008,   0.042,   0.320
    06AQANTX_4,  SR04,   633,  1,      1,      1,2,19920720,2324,-62.6667, -43.5500, 3120,   3182.8,  -0.5879,  34.6310,2,  34.6286,2, -0.7726,    253.7,2,   105.96,2,    32.41,2,     0.02,2,     2.12,2,    1.667,2,    0.746,2,    0.081,2,   1.8660,2,     4.50,2,   8.299,2,   2242.0,2,  0.0070,   0.011,   0.041,   0.310
    06AQANTX_4,  SR04,   634,  1,     24,     24,2,19920721,0733,-62.3333, -43.6833, 1142,      9.8,  -1.8525,  34.1784,2,-999.0000,9, -1.8527,   -999.0,9,    75.11,2,    28.43,2,  -999.00,9,     1.90,2, -999.000,9, -999.000,9, -999.000,9,-999.0000,9,    -9.00,9,-999.000,9,   -999.0,9,-999.0000,-999.000,-999.000,-999.000
    06AQANTX_4,  SR04,   634,  1,     23,     23,2,19920721,0733,-62.3333, -43.6833, 1142,      9.8,  -1.8556,  34.1805,2,  34.1773,2, -1.8558,    308.3,2,    75.11,2,    28.43,2,     0.48,2,     1.90,2,    5.148,2,    2.328,2, -999.000,9,   1.8720,2,     0.44,2,   8.357,2,   2200.9,2,  0.0070,-999.000,   0.042,   0.320
    06AQANTX_4,  SR04,   634,  1,     22,     22,2,19920721,0733,-62.3333, -43.6833, 1142,     37.5,  -1.8557,  34.1836,2,-999.0000,9, -1.8564,   -999.0,9,    75.49,2,    28.40,2,  -999.00,9,     1.92,2, -999.000,9, -999.000,9, -999.000,9,-999.0000,9,    -9.00,9,-999.000,9,   -999.0,9,-999.0000,-999.000,-999.000,-999.000
    06AQANTX_4,  SR04,   634,  1,     21,     21,2,19920721,0733,-62.3333, -43.6833, 1142,     37.5,  -1.8566,  34.1835,2,  34.1772,2, -1.8573,   -999.0,9,    75.49,2,    28.40,2,     0.47,2,     1.92,2,    5.054,2,    2.328,2, -999.000,9,-999.0000,5,    -9.00,5,-999.000,5,   2200.7,2,-999.0000,-999.000,-999.000,-999.000
    06AQANTX_4,  SR04,   634,  1,     20,     20,2,19920721,0733,-62.3333, -43.6833, 1142,     77.9,  -1.8519,  34.1909,2,-999.0000,9, -1.8534,   -999.0,9,    75.30,2,    28.33,2,  -999.00,9,     1.92,2, -999.000,9, -999.000,9, -999.000,9,-999.0000,9,    -9.00,9,-999.000,9,   -999.0,9,-999.0000,-999.000,-999.000,-999.000
    06AQANTX_4,  SR04,   634,  1,     19,     19,2,19920721,0733,-62.3333, -43.6833, 1142,     77.9,  -1.8528,  34.1955,2,  34.1623,3, -1.8543,    307.9,2,    75.30,2,    28.33,2,     0.46,2,     1.92,2,    4.991,2,    2.325,2,    0.103,2,-999.0000,5,    -9.00,5,-999.000,5,   2199.2,2,-999.0000,   0.011,-999.000,-999.000
    06AQANTX_4,  SR04,   634,  1,     17,     17,2,19920721,0733,-62.3333, -43.6833, 1142,     97.6,  -1.7443,  34.2156,2,  34.2220,2, -1.7463,    301.4,2,    77.09,2,    29.12,2,     0.38,2,     1.93,2,    4.727,2,    2.163,2, -999.000,9,-999.0000,9,    -9.00,9,-999.000,9,   2204.5,2,-999.0000,-999.000,-999.000,-999.000
    06AQANTX_4,  SR04,   634,  1,     18,     18,2,19920721,0733,-62.3333, -43.6833, 1142,     97.8,  -1.7651,  34.2221,2,-999.0000,9, -1.7670,   -999.0,9,  -999.00,9,  -999.00,9,  -999.00,9,  -999.00,9, -999.000,9, -999.000,9, -999.000,9,-999.0000,9,    -9.00,9,-999.000,9,   -999.0,9,-999.0000,-999.000,-999.000,-999.000
    06AQANTX_4,  SR04,   634,  1,     16,     16,2,19920721,0733,-62.3333, -43.6833, 1142,    147.1,  -0.8515,  34.4600,2,-999.0000,9, -0.8557,   -999.0,9,    93.27,2,    31.95,2,  -999.00,9,     2.08,2, -999.000,9, -999.000,9, -999.000,9,-999.0000,9,    -9.00,9,-999.000,9,   -999.0,9,-999.0000,-999.000,-999.000,-999.000
    06AQANTX_4,  SR04,   634,  1,     15,     15,2,19920721,0733,-62.3333, -43.6833, 1142,    147.1,  -0.8393,  34.4617,2,  34.4680,2, -0.8435,    255.2,2,    93.27,2,    31.95,2,     0.03,2,     2.08,2,    2.719,2,    1.239,2,    0.072,2,-999.0000,5,    -9.00,5,-999.000,5,   2233.2,2,-999.0000,   0.008,-999.000,-999.000
    06AQANTX_4,  SR04,   634,  1,     14,     14,2,19920721,0733,-62.3333, -43.6833, 1142,    197.3,  -0.3871,  34.5573,2,  34.5551,2, -0.3937,   -999.0,9,   102.23,2,    32.51,2,  -999.00,9,     2.14,2, -999.000,9, -999.000,9, -999.000,9,-999.0000,9,    -9.00,9,-999.000,9,   -999.0,9,-999.0000,-999.000,-999.000,-999.000
    06AQANTX_4,  SR04,   634,  1,     13,     13,2,19920721,0733,-62.3333, -43.6833, 1142,    197.3,  -0.3835,  34.5589,2,  34.5465,3, -0.3901,    232.0,2,   102.23,2,    32.51,2,     0.01,2,     2.14,2,    1.658,2,    0.746,2, -999.000,9,-999.0000,9,    -9.00,9,-999.000,9,   2246.1,2,-999.0000,-999.000,-999.000,-999.000
    06AQANTX_4,  SR04,   634,  1,     12,     12,2,19920721,0733,-62.3333, -43.6833, 1142,    247.3,  -0.0679,  34.6084,2,  34.6022,2, -0.0770,    222.5,2,   107.05,2,    32.88,2,     0.01,2,     2.16,2,    1.258,2,    0.577,2, -999.000,9,   1.8650,2,     6.37,2,   8.161,2,   2249.2,2,  0.0070,-999.000,   0.041,   0.320
    06AQANTX_4,  SR04,   634,  1,     11,     11,2,19920721,0733,-62.3333, -43.6833, 1142,    297.2,   0.0487,  34.6321,2,-999.0000,9,  0.0374,   -999.0,9,   110.70,2,    33.24,2,  -999.00,9,     2.18,2, -999.000,9, -999.000,9, -999.000,9,-999.0000,9,    -9.00,9,-999.000,9,   -999.0,9,-999.0000,-999.000,-999.000,-999.000
    06AQANTX_4,  SR04,   634,  1,     10,     10,2,19920721,0733,-62.3333, -43.6833, 1142,    297.2,   0.0537,  34.6304,2,  34.6224,2,  0.0424,    214.1,2,   110.70,2,    33.24,2,     0.01,2,     2.18,2,    0.933,2,    0.413,2, -999.000,9,-999.0000,9,    -9.00,9,-999.000,9,   2254.6,2,-999.0000,-999.000,-999.000,-999.000
    06AQANTX_4,  SR04,   634,  1,      9,      9,2,19920721,0733,-62.3333, -43.6833, 1142,    347.1,   0.1451,  34.6444,2,  34.6418,2,  0.1314,    211.0,2,   112.21,2,    33.31,2,     0.02,2,     2.17,2,    0.754,2,    0.358,2,    0.044,2,   1.8520,2,     7.74,2,   8.141,2,   2256.4,2,  0.0070,   0.006,   0.040,   0.310
    06AQANTX_4,  SR04,   634,  1,      8,      8,2,19920721,0733,-62.3333, -43.6833, 1142,    498.2,   0.2391,  34.6637,2,-999.0000,9,  0.2184,   -999.0,9,   116.08,2,    33.47,2,  -999.00,9,     2.19,2, -999.000,9, -999.000,9, -999.000,9,-999.0000,9,    -9.00,9,-999.000,9,   -999.0,9,-999.0000,-999.000,-999.000,-999.000
    06AQANTX_4,  SR04,   634,  1,      7,      7,2,19920721,0733,-62.3333, -43.6833, 1142,    498.2,   0.2297,  34.6634,2,  34.6623,2,  0.2090,    208.3,2,   116.08,2,    33.47,2,     0.01,2,     2.19,2,    0.474,2,    0.216,2,    0.057,2,   1.8480,2,     7.92,2,   8.131,2,   2258.7,2,  0.0070,   0.007,   0.040,   0.310
    06AQANTX_4,  SR04,   634,  1,      6,      6,2,19920721,0733,-62.3333, -43.6833, 1142,    647.7,   0.1608,  34.6659,2,  34.6529,4,  0.1334,    210.3,2,   120.06,2,    33.17,2,     0.01,2,     2.18,2,    0.396,2,    0.181,2,    0.059,2,   1.8500,2,     7.95,2,   8.172,2,   2260.5,2,  0.0070,   0.011,   0.040,   0.310
    06AQANTX_4,  SR04,   634,  1,      5,      5,2,19920721,0733,-62.3333, -43.6833, 1142,    798.0,   0.0058,  34.6589,2,  34.6341,4, -0.0280,    218.0,2,   120.18,2,    33.16,2,     0.01,2,     2.17,2,    0.483,2,    0.220,2,    0.048,2,   1.8570,2,     7.26,2,   8.169,2,   2253.9,2,  0.0070,   0.014,   0.040,   0.310
    06AQANTX_4,  SR04,   634,  1,      4,      4,2,19920721,0733,-62.3333, -43.6833, 1142,    997.5,  -0.1496,  34.6549,2,  34.6531,2, -0.1923,    224.6,2,   119.61,2,    33.11,2,     0.01,2,     2.17,2,    0.581,2,    0.264,2,    0.069,2,   1.8510,2,     6.85,2,   8.214,2,   2253.2,2,  0.0070,   0.017,   0.040,   0.310
    06AQANTX_4,  SR04,   634,  1,      3,      3,2,19920721,0733,-62.3333, -43.6833, 1142,   1058.6,  -0.1778,  34.6555,2,  34.6463,4, -0.2235,    226.7,2,   119.85,2,    33.03,2,     0.01,2,     2.15,2,    0.542,2,    0.241,2,    0.067,2,   1.8640,2,     6.68,2,   8.240,2,   2253.4,2,  0.0070,   0.006,   0.040,   0.310
    06AQANTX_4,  SR04,   634,  1,      2,      2,2,19920721,0733,-62.3333, -43.6833, 1142,   1109.5,  -0.2124,  34.6541,2,  34.6502,2, -0.2604,    228.4,2,   119.18,2,    32.84,2,     0.02,2,     2.17,2,    0.616,2,    0.284,2, -999.000,9,-999.0000,9,    -9.00,9,-999.000,9,   -999.0,9,-999.0000,-999.000,-999.000,-999.000
    06AQANTX_4,  SR04,   634,  1,      1,      1,2,19920721,0733,-62.3333, -43.6833, 1142,   1160.8,  -0.2335,  34.6523,2,  34.6411,4, -0.2841,    228.1,2,   117.60,2,    32.79,2,     0.02,2,     2.15,2,    0.634,2,    0.289,2,    0.074,2,   1.8610,2,     6.64,2,   8.231,2,   2252.4,2,  0.0070,   0.017,   0.040,   0.310