BOTTLE,20061211WHPSIODBK
EXPOCODE,SECT_ID,STNNBR,CASTNO,SAMPNO,BTLNBR,BTLNBR_FLAG_W,DATE,TIME,LATITUDE,LONGITUDE,DEPTH,CTDPRS,CTDTMP,CTDSAL,CTDSAL_FLAG_W,SALNTY,SALNTY_FLAG_W,THETA,OXYGEN,OXYGEN_FLAG_W,SILCAT,SILCAT_FLAG_W,NITRAT,NITRAT_FLAG_W,NITRIT,NITRIT_FLAG_W,PHSPHT,PHSPHT_FLAG_W,CFC-11,CFC-11_FLAG_W,CFC-12,CFC-12_FLAG_W,TRITUM,TRITUM_FLAG_W,HELIUM,HELIUM_FLAG_W,DELHE3,DELHE3_FLAG_W,NEON,NEON_FLAG_W,TCARBN,TCARBN_FLAG_W,HELIER,TRITER,NEONER,DELHER
,,,,,,,,,,,,DBAR,ITS-90,PSS-78,,PSS-78,,DEG C,UMOL/KG,,UMOL/KG,,UMOL/KG,,UMOL/KG,,UMOL/KG,,PMOL/KG,,PMOL/KG,,TU,,NMOL/KG,,PERCNT,,NMOL/KG,,UMOL/KG,,NMOL/KG,TU,NMOL/KG,PERCNT
    06AQANTX_4,   A12,   600,  1,     24,     24,2,19920616,2328,-68.2500,   0.0000, 4399,      9.4,  -1.8213,  34.3345,2,  34.3342,2, -1.8215,    307.8,2,    68.93,2,    27.77,2,     0.17,2,     2.04,2,    5.450,2,    2.530,2, -999.000,9,-999.0000,9,    -9.00,9,-999.000,9,   -999.0,9,-999.0000,-999.000,-999.000,-999.000
    06AQANTX_4,   A12,   600,  1,     23,     23,2,19920616,2328,-68.2500,   0.0000, 4399,     39.5,  -1.8229,  34.3359,2,  34.3357,2, -1.8237,    309.7,2,    68.72,2,    27.79,2,     0.17,2,     2.04,2, -999.000,9, -999.000,9, -999.000,9,-999.0000,9,    -9.00,9,-999.000,9,   -999.0,9,-999.0000,-999.000,-999.000,-999.000
    06AQANTX_4,   A12,   600,  1,     22,     22,2,19920616,2328,-68.2500,   0.0000, 4399,     69.7,  -1.8182,  34.3356,2,  34.3356,2, -1.8196,    308.1,2,    68.87,2,    27.83,2,     0.17,2,     2.02,2,    5.410,2,    2.479,2, -999.000,9,-999.0000,9,    -9.00,9,-999.000,9,   -999.0,9,-999.0000,-999.000,-999.000,-999.000
    06AQANTX_4,   A12,   600,  1,     21,     21,2,19920616,2328,-68.2500,   0.0000, 4399,    139.7,   0.7735,  34.6557,2,  34.6594,2,  0.7675,    203.8,2,    95.14,2,    31.77,2,     0.02,2,     2.24,2,    1.069,2,    0.500,2, -999.000,9,-999.0000,9,    -9.00,9,-999.000,9,   -999.0,9,-999.0000,-999.000,-999.000,-999.000
    06AQANTX_4,   A12,   600,  1,     20,     20,2,19920616,2328,-68.2500,   0.0000, 4399,    220.2,   0.7556,  34.6703,2,  34.6705,2,  0.7460,    207.1,2,    97.51,2,    31.44,2,     0.01,2,     2.22,2,    0.957,2,    0.442,2, -999.000,9,-999.0000,9,    -9.00,9,-999.000,9,   -999.0,9,-999.0000,-999.000,-999.000,-999.000
    06AQANTX_4,   A12,   600,  1,     19,     19,2,19920616,2328,-68.2500,   0.0000, 4399,    299.0,   0.6734,  34.6722,2,  34.6714,2,  0.6604,    206.4,2,    99.23,2,    31.10,2,     0.01,2,     2.22,2,    0.931,2,    0.419,2, -999.000,9,-999.0000,9,    -9.00,9,-999.000,9,   -999.0,9,-999.0000,-999.000,-999.000,-999.000
    06AQANTX_4,   A12,   600,  1,     18,     18,2,19920616,2328,-68.2500,   0.0000, 4399,    399.4,   0.7075,  34.6834,2,  34.6832,2,  0.6897,    203.9,2,   103.30,2,    31.64,2,     0.01,2,     2.23,2,    0.690,2,    0.377,3, -999.000,9,-999.0000,9,    -9.00,9,-999.000,9,   -999.0,9,-999.0000,-999.000,-999.000,-999.000
    06AQANTX_4,   A12,   600,  1,     17,     17,2,19920616,2328,-68.2500,   0.0000, 4399,    499.8,   0.7260,  34.6912,2,  34.6912,2,  0.7031,    202.4,2,   106.36,2,    32.30,2,     0.01,2,     2.23,2,    1.074,4,    0.513,4, -999.000,9,-999.0000,9,    -9.00,9,-999.000,9,   -999.0,9,-999.0000,-999.000,-999.000,-999.000
    06AQANTX_4,   A12,   600,  1,     16,     16,2,19920616,2328,-68.2500,   0.0000, 4399,    599.5,   0.7216,  34.6947,2,  34.6958,2,  0.6937,    205.1,2,   109.76,2,    31.28,2,     0.01,2,     2.26,2, -999.000,9, -999.000,9, -999.000,9,-999.0000,9,    -9.00,9,-999.000,9,   -999.0,9,-999.0000,-999.000,-999.000,-999.000
    06AQANTX_4,   A12,   600,  1,     15,     15,2,19920616,2328,-68.2500,   0.0000, 4399,    699.9,   0.6621,  34.6946,2,  34.6941,2,  0.6292,    203.1,2,   112.36,2,    31.47,2,     0.01,2,     2.26,2, -999.000,9, -999.000,9, -999.000,9,-999.0000,9,    -9.00,9,-999.000,9,   -999.0,9,-999.0000,-999.000,-999.000,-999.000
    06AQANTX_4,   A12,   600,  1,     14,     14,2,19920616,2328,-68.2500,   0.0000, 4399,    849.9,   0.5842,  34.6923,2,  34.6932,2,  0.5437,    203.7,2,   115.75,2,    31.46,2,     0.01,2,     2.26,2,    0.205,2,    0.114,3, -999.000,9,-999.0000,9,    -9.00,9,-999.000,9,   -999.0,9,-999.0000,-999.000,-999.000,-999.000
    06AQANTX_4,   A12,   600,  1,     13,     13,2,19920616,2328,-68.2500,   0.0000, 4399,   1000.5,   0.4746,  34.6882,2,  34.6876,2,  0.4265,    205.1,2,   118.80,2,    31.69,2,     0.01,2,     2.28,2, -999.000,9, -999.000,9, -999.000,9,-999.0000,9,    -9.00,9,-999.000,9,   -999.0,9,-999.0000,-999.000,-999.000,-999.000
    06AQANTX_4,   A12,   600,  1,     12,     12,2,19920616,2328,-68.2500,   0.0000, 4399,   1200.1,   0.3480,  34.6828,2,  34.6818,2,  0.2895,    209.1,2,   120.74,2,    32.17,2,     0.01,2,     2.29,2, -999.000,9, -999.000,9, -999.000,9,-999.0000,9,    -9.00,9,-999.000,9,   -999.0,9,-999.0000,-999.000,-999.000,-999.000
    06AQANTX_4,   A12,   600,  1,     11,     11,2,19920616,2328,-68.2500,   0.0000, 4399,   1500.3,   0.2130,  34.6762,2,  34.6758,2,  0.1376,    212.6,2,   123.79,2,    32.78,2,     0.01,2,     2.30,2,    0.177,2,    0.091,2, -999.000,9,-999.0000,9,    -9.00,9,-999.000,9,   -999.0,9,-999.0000,-999.000,-999.000,-999.000
    06AQANTX_4,   A12,   600,  1,     10,     10,2,19920616,2328,-68.2500,   0.0000, 4399,   1800.1,   0.1033,  34.6712,2,  34.6715,2,  0.0099,    216.3,2,   124.82,2,    32.70,2,     0.01,2,     2.29,2, -999.000,9, -999.000,9, -999.000,9,-999.0000,9,    -9.00,9,-999.000,9,   -999.0,9,-999.0000,-999.000,-999.000,-999.000
    06AQANTX_4,   A12,   600,  1,      9,      9,2,19920616,2328,-68.2500,   0.0000, 4399,   2200.3,  -0.0170,  34.6673,2,  34.6664,2, -0.1366,    223.7,2,   126.02,2,    32.87,2,     0.01,2,     2.29,2, -999.000,9, -999.000,9, -999.000,9,-999.0000,9,    -9.00,9,-999.000,9,   -999.0,9,-999.0000,-999.000,-999.000,-999.000
    06AQANTX_4,   A12,   600,  1,      8,      8,2,19920616,2328,-68.2500,   0.0000, 4399,   2600.8,  -0.1096,  34.6633,2,  34.6631,2, -0.2577,    226.9,2,   126.03,2,    33.02,2,     0.01,2,     2.31,2, -999.000,9, -999.000,9, -999.000,9,-999.0000,9,    -9.00,9,-999.000,9,   -999.0,9,-999.0000,-999.000,-999.000,-999.000
    06AQANTX_4,   A12,   600,  1,      7,      7,2,19920616,2328,-68.2500,   0.0000, 4399,   2999.4,  -0.1756,  34.6610,2,  34.6610,2, -0.3547,    231.5,2,   125.50,2,    32.70,2,     0.01,2,     2.28,2,    0.328,2,    0.137,3, -999.000,9,-999.0000,9,    -9.00,9,-999.000,9,   -999.0,9,-999.0000,-999.000,-999.000,-999.000
    06AQANTX_4,   A12,   600,  1,      6,      6,2,19920616,2328,-68.2500,   0.0000, 4399,   3400.1,  -0.2231,  34.6579,2,  34.6585,2, -0.4360,    235.6,2,   125.34,2,    32.29,2,     0.01,2,     2.28,2, -999.000,9, -999.000,9, -999.000,9,-999.0000,9,    -9.00,9,-999.000,9,   -999.0,9,-999.0000,-999.000,-999.000,-999.000
    06AQANTX_4,   A12,   600,  1,      5,      5,2,19920616,2328,-68.2500,   0.0000, 4399,   3799.9,  -0.2555,  34.6557,2,  34.6545,2, -0.5045,    239.3,2,   125.36,2,    32.72,2,     0.01,2,     2.27,2, -999.000,9, -999.000,9, -999.000,9,-999.0000,9,    -9.00,9,-999.000,9,   -999.0,9,-999.0000,-999.000,-999.000,-999.000
    06AQANTX_4,   A12,   600,  1,      4,      4,2,19920616,2328,-68.2500,   0.0000, 4399,   4200.4,  -0.2660,  34.6538,2,  34.6541,2, -0.5541,    240.7,2,   126.77,2,    32.33,2,     0.01,2,     2.27,2,    0.450,2,    0.235,2, -999.000,9,-999.0000,9,    -9.00,9,-999.000,9,   -999.0,9,-999.0000,-999.000,-999.000,-999.000
    06AQANTX_4,   A12,   600,  1,      3,      3,2,19920616,2328,-68.2500,   0.0000, 4399,   4340.4,  -0.2724,  34.6534,2,  34.6526,2, -0.5746,    241.0,2,   128.92,2,    32.89,2,     0.01,2,     2.27,2,    0.428,2,    0.216,2, -999.000,9,-999.0000,9,    -9.00,9,-999.000,9,   -999.0,9,-999.0000,-999.000,-999.000,-999.000
    06AQANTX_4,   A12,   600,  1,      2,      2,2,19920616,2328,-68.2500,   0.0000, 4399,   4409.2,  -0.2765,  34.6535,2,  34.6525,2, -0.5857,    240.9,2,   130.37,2,    32.73,2,     0.01,2,     2.28,2,    0.406,2,    0.215,2, -999.000,9,-999.0000,9,    -9.00,9,-999.000,9,   -999.0,9,-999.0000,-999.000,-999.000,-999.000
    06AQANTX_4,   A12,   600,  1,      1,      1,2,19920616,2328,-68.2500,   0.0000, 4399,   4484.2,  -0.2754,  34.6533,2,  34.6528,2, -0.5924,   -999.0,9,   131.44,2,    32.98,2,     0.02,2,     2.26,2,    0.406,2,    0.205,2, -999.000,9,-999.0000,9,    -9.00,9,-999.000,9,   -999.0,9,-999.0000,-999.000,-999.000,-999.000
    06AQANTX_4,   A12,   601,  1,     24,     24,2,19920617,0521,-68.5000,   0.0167, 4214,      7.5,  -1.8377,  34.3037,2,  34.3004,2, -1.8378,    312.6,2,    65.46,2,    28.36,2,     0.18,2,     2.01,2, -999.000,9, -999.000,9, -999.000,9,-999.0000,9,    -9.00,9,-999.000,9,   -999.0,9,-999.0000,-999.000,-999.000,-999.000
    06AQANTX_4,   A12,   601,  1,     23,     23,2,19920617,0521,-68.5000,   0.0167, 4214,     19.7,  -1.8425,  34.3030,2,  34.3038,2, -1.8429,    312.8,2,    65.85,2,    28.38,2,     0.18,2,     1.98,2, -999.000,9, -999.000,9, -999.000,9,-999.0000,9,    -9.00,9,-999.000,9,   -999.0,9,-999.0000,-999.000,-999.000,-999.000
    06AQANTX_4,   A12,   601,  1,     22,     22,2,19920617,0521,-68.5000,   0.0167, 4214,     78.3,  -1.6067,  34.3317,2,  34.3583,3, -1.6084,    296.0,2,    68.05,2,    29.30,2,     0.15,2,     2.04,2, -999.000,9, -999.000,9, -999.000,9,-999.0000,9,    -9.00,9,-999.000,9,   -999.0,9,-999.0000,-999.000,-999.000,-999.000
    06AQANTX_4,   A12,   601,  1,     21,     21,2,19920617,0521,-68.5000,   0.0167, 4214,    119.4,   0.1719,  34.5593,2,  34.5776,3,  0.1674,    219.6,2,    87.84,2,    32.73,2,     0.04,2,     2.26,2, -999.000,9, -999.000,9, -999.000,9,-999.0000,9,    -9.00,9,-999.000,9,   -999.0,9,-999.0000,-999.000,-999.000,-999.000
    06AQANTX_4,   A12,   601,  1,     20,     20,2,19920617,0521,-68.5000,   0.0167, 4214,    179.6,   0.8181,  34.6509,2,-999.0000,9,  0.8103,    199.4,2,    94.08,2,    32.65,2,     0.04,2,     2.27,2, -999.000,9, -999.000,9, -999.000,9,-999.0000,9,    -9.00,9,-999.000,9,   -999.0,9,-999.0000,-999.000,-999.000,-999.000
    06AQANTX_4,   A12,   601,  1,     19,     19,2,19920617,0521,-68.5000,   0.0167, 4214,    250.0,   0.9248,  34.6717,2,  34.6672,2,  0.9135,    200.2,2,    97.31,2,    32.70,2,     0.04,2,     2.24,2, -999.000,9, -999.000,9, -999.000,9,-999.0000,9,    -9.00,9,-999.000,9,   -999.0,9,-999.0000,-999.000,-999.000,-999.000
    06AQANTX_4,   A12,   601,  1,     18,     18,2,19920617,0521,-68.5000,   0.0167, 4214,    300.2,   0.9470,  34.6821,2,  34.6802,2,  0.9333,    201.9,2,    98.92,2,    32.17,2,     0.04,2,     2.22,2, -999.000,9, -999.000,9, -999.000,9,-999.0000,9,    -9.00,9,-999.000,9,   -999.0,9,-999.0000,-999.000,-999.000,-999.000
    06AQANTX_4,   A12,   601,  1,     17,     17,2,19920617,0521,-68.5000,   0.0167, 4214,    349.9,   0.9257,  34.6858,2,  34.6841,2,  0.9096,    200.7,2,   100.84,2,    32.46,2,     0.04,2,     2.22,2, -999.000,9, -999.000,9, -999.000,9,-999.0000,9,    -9.00,9,-999.000,9,   -999.0,9,-999.0000,-999.000,-999.000,-999.000
    06AQANTX_4,   A12,   601,  1,     16,     16,2,19920617,0521,-68.5000,   0.0167, 4214,    498.9,   0.8591,  34.6949,2,  34.6946,2,  0.8357,    203.0,2,   105.86,2,    32.51,2,     0.04,2,     2.22,2, -999.000,9, -999.000,9, -999.000,9,-999.0000,9,    -9.00,9,-999.000,9,   -999.0,9,-999.0000,-999.000,-999.000,-999.000
    06AQANTX_4,   A12,   601,  1,     15,     15,2,19920617,0521,-68.5000,   0.0167, 4214,    650.2,   0.7372,  34.6949,2,  34.6944,2,  0.7065,    203.2,2,   110.42,2,    31.99,2,     0.04,2,     2.22,2, -999.000,9, -999.000,9, -999.000,9,-999.0000,9,    -9.00,9,-999.000,9,   -999.0,9,-999.0000,-999.000,-999.000,-999.000
    06AQANTX_4,   A12,   601,  1,     14,     14,2,19920617,0521,-68.5000,   0.0167, 4214,    800.1,   0.6250,  34.6941,2,  34.6907,2,  0.5870,    205.5,2,   114.02,2,    32.47,2,     0.03,2,     2.24,2, -999.000,9, -999.000,9, -999.000,9,-999.0000,9,    -9.00,9,-999.000,9,   -999.0,9,-999.0000,-999.000,-999.000,-999.000
    06AQANTX_4,   A12,   601,  1,     13,     13,2,19920617,0521,-68.5000,   0.0167, 4214,   1000.2,   0.4771,  34.6874,2,  34.6848,2,  0.4290,    208.5,2,   117.92,2,    32.96,2,     0.03,2,     2.27,2, -999.000,9, -999.000,9, -999.000,9,-999.0000,9,    -9.00,9,-999.000,9,   -999.0,9,-999.0000,-999.000,-999.000,-999.000
    06AQANTX_4,   A12,   601,  1,     12,     12,2,19920617,0521,-68.5000,   0.0167, 4214,   1200.0,   0.3497,  34.6824,2,  34.6784,4,  0.2912,    209.7,2,   120.50,2,    33.07,2,     0.03,2,     2.27,2, -999.000,9, -999.000,9, -999.000,9,-999.0000,9,    -9.00,9,-999.000,9,   -999.0,9,-999.0000,-999.000,-999.000,-999.000
    06AQANTX_4,   A12,   601,  1,     11,     11,2,19920617,0521,-68.5000,   0.0167, 4214,   1500.3,   0.2234,  34.6763,2,  34.6742,2,  0.1479,    214.6,2,   124.02,2,    32.53,2,     0.03,2,     2.30,2, -999.000,9, -999.000,9, -999.000,9,-999.0000,9,    -9.00,9,-999.000,9,   -999.0,9,-999.0000,-999.000,-999.000,-999.000
    06AQANTX_4,   A12,   601,  1,     10,     10,2,19920617,0521,-68.5000,   0.0167, 4214,   1799.1,   0.0891,  34.6708,2,  34.6702,2, -0.0041,    217.6,2,   125.58,2,    32.34,2,     0.03,2,     2.32,2, -999.000,9, -999.000,9, -999.000,9,-999.0000,9,    -9.00,9,-999.000,9,   -999.0,9,-999.0000,-999.000,-999.000,-999.000
    06AQANTX_4,   A12,   601,  1,      9,      9,2,19920617,0521,-68.5000,   0.0167, 4214,   2199.8,  -0.0378,  34.6662,2,  34.6656,2, -0.1570,    227.2,2,   126.17,2,    32.13,2,     0.01,2,     2.27,2, -999.000,9, -999.000,9, -999.000,9,-999.0000,9,    -9.00,9,-999.000,9,   -999.0,9,-999.0000,-999.000,-999.000,-999.000
    06AQANTX_4,   A12,   601,  1,      8,      8,2,19920617,0521,-68.5000,   0.0167, 4214,   2600.1,  -0.1175,  34.6637,2,  34.6651,2, -0.2654,    228.6,2,   126.37,2,    32.42,2,     0.01,2,     2.28,2, -999.000,9, -999.000,9, -999.000,9,-999.0000,9,    -9.00,9,-999.000,9,   -999.0,9,-999.0000,-999.000,-999.000,-999.000
    06AQANTX_4,   A12,   601,  1,      7,      7,2,19920617,0521,-68.5000,   0.0167, 4214,   3000.5,  -0.1799,  34.6612,2,  34.6619,2, -0.3590,    233.1,2,   126.42,2,    32.72,2,     0.02,2,     2.27,2, -999.000,9, -999.000,9, -999.000,9,-999.0000,9,    -9.00,9,-999.000,9,   -999.0,9,-999.0000,-999.000,-999.000,-999.000
    06AQANTX_4,   A12,   601,  1,      6,      6,2,19920617,0521,-68.5000,   0.0167, 4214,   3400.4,  -0.2155,  34.6589,2,  34.6597,2, -0.4286,    235.3,2,   126.16,2,    32.77,2,     0.01,2,     2.29,2, -999.000,9, -999.000,9, -999.000,9,-999.0000,9,    -9.00,9,-999.000,9,   -999.0,9,-999.0000,-999.000,-999.000,-999.000
    06AQANTX_4,   A12,   601,  1,      5,      5,2,19920617,0521,-68.5000,   0.0167, 4214,   3799.0,  -0.2415,  34.6564,2,  34.6574,2, -0.4908,    238.5,2,   126.56,2,    32.32,2,     0.01,2,     2.28,2, -999.000,9, -999.000,9, -999.000,9,-999.0000,9,    -9.00,9,-999.000,9,   -999.0,9,-999.0000,-999.000,-999.000,-999.000
    06AQANTX_4,   A12,   601,  1,      4,      4,2,19920617,0521,-68.5000,   0.0167, 4214,   3999.7,  -0.2524,  34.6525,2,  34.6573,4, -0.5209,    239.7,2,   127.35,2,    32.52,2,     0.01,2,     2.28,2, -999.000,9, -999.000,9, -999.000,9,-999.0000,9,    -9.00,9,-999.000,9,   -999.0,9,-999.0000,-999.000,-999.000,-999.000
    06AQANTX_4,   A12,   601,  1,      3,      3,2,19920617,0521,-68.5000,   0.0167, 4214,   4130.1,  -0.2588,  34.6519,2,  34.6589,4, -0.5400,   -999.0,9,   127.10,2,    32.51,2,     0.01,2,     2.28,2, -999.000,9, -999.000,9, -999.000,9,-999.0000,9,    -9.00,9,-999.000,9,   -999.0,9,-999.0000,-999.000,-999.000,-999.000
    06AQANTX_4,   A12,   601,  1,      2,      2,2,19920617,0521,-68.5000,   0.0167, 4214,   4210.2,  -0.2745,  34.6512,2,  34.6561,4, -0.5633,    239.9,2,   130.35,2,    33.26,2,     0.01,2,     2.29,2, -999.000,9, -999.000,9, -999.000,9,-999.0000,9,    -9.00,9,-999.000,9,   -999.0,9,-999.0000,-999.000,-999.000,-999.000
    06AQANTX_4,   A12,   601,  1,      1,      1,2,19920617,0521,-68.5000,   0.0167, 4214,   4295.0,  -0.2881,  34.6498,2,  34.6623,4, -0.5851,   -999.0,9,   134.06,2,    32.91,2,     0.03,2,     2.27,2, -999.000,9, -999.000,9, -999.000,9,-999.0000,9,    -9.00,9,-999.000,9,   -999.0,9,-999.0000,-999.000,-999.000,-999.000