BOTTLE,20061211WHPSIODBK
EXPOCODE,SECT_ID,STNNBR,CASTNO,SAMPNO,BTLNBR,BTLNBR_FLAG_W,DATE,TIME,LATITUDE,LONGITUDE,DEPTH,CTDPRS,CTDTMP,CTDSAL,CTDSAL_FLAG_W,SALNTY,SALNTY_FLAG_W,THETA,OXYGEN,OXYGEN_FLAG_W,SILCAT,SILCAT_FLAG_W,NITRAT,NITRAT_FLAG_W,NITRIT,NITRIT_FLAG_W,PHSPHT,PHSPHT_FLAG_W,CFC-11,CFC-11_FLAG_W,CFC-12,CFC-12_FLAG_W,TRITUM,TRITUM_FLAG_W,HELIUM,HELIUM_FLAG_W,DELHE3,DELHE3_FLAG_W,NEON,NEON_FLAG_W,TCARBN,TCARBN_FLAG_W,HELIER,TRITER,NEONER,DELHER
,,,,,,,,,,,,DBAR,ITS-90,PSS-78,,PSS-78,,DEG C,UMOL/KG,,UMOL/KG,,UMOL/KG,,UMOL/KG,,UMOL/KG,,PMOL/KG,,PMOL/KG,,TU,,NMOL/KG,,PERCNT,,NMOL/KG,,UMOL/KG,,NMOL/KG,TU,NMOL/KG,PERCNT
    06AQANTX_4,  SR04,   629,  1,     24,     24,2,19920718,0619,-64.6833, -41.9500, 4688,      7.2,  -1.8629,  34.3943,2,  34.3985,2, -1.8630,    300.8,2,    77.72,2,    24.50,2,     0.07,2,     1.87,2,    5.685,2,    2.488,2,    0.138,2,   1.8390,2,     0.96,2,   8.292,2,   2208.7,2,  0.0070,   0.007,   0.041,   0.320
    06AQANTX_4,  SR04,   629,  1,     23,     23,2,19920718,0619,-64.6833, -41.9500, 4688,     30.0,  -1.8662,  34.4000,2,  34.3972,2, -1.8668,    301.0,2,    77.51,2,    24.51,2,     0.07,2,     1.87,2,    5.702,2,    2.499,2,    0.146,2,-999.0000,5,    -9.00,5,-999.000,5,   2209.8,2,-999.0000,   0.006,-999.000,-999.000
    06AQANTX_4,  SR04,   629,  1,     22,     22,2,19920718,0619,-64.6833, -41.9500, 4688,     79.2,  -1.8594,  34.4025,2,  34.3986,2, -1.8609,    301.4,2,    77.35,2,    23.95,2,     0.06,2,     1.87,2,    5.618,2,    2.458,2,    0.160,2,   1.8010,2,     0.08,2,   8.158,2,   2208.4,2,  0.0070,   0.008,   0.041,   0.320
    06AQANTX_4,  SR04,   629,  1,     21,     21,2,19920718,0619,-64.6833, -41.9500, 4688,    120.0,  -1.8338,  34.3990,2,  34.4292,4, -1.8362,    288.9,2,    80.41,2,    26.86,2,     0.06,2,     1.95,2,    5.176,2,    2.250,2,    0.146,2,   0.9190,4,     7.80,2,-999.000,9,   2218.7,2,  0.0030,   0.017,-999.000,   0.320
    06AQANTX_4,  SR04,   629,  1,     20,     20,2,19920718,0619,-64.6833, -41.9500, 4688,    179.4,  -0.3632,  34.5967,2,  34.6108,3, -0.3692,    211.0,2,   105.73,2,    34.67,2,     0.01,2,     2.34,2,    1.759,2,    0.757,2,    0.067,2,-999.0000,5,    -9.00,5,-999.000,5,   2267.1,2,-999.0000,   0.013,-999.000,-999.000
    06AQANTX_4,  SR04,   629,  1,     19,     19,2,19920718,0619,-64.6833, -41.9500, 4688,    248.5,   0.3107,  34.6676,2,  34.6724,2,  0.3008,    187.1,2,   118.79,2,    35.78,2,     0.01,2,     2.43,2,    0.423,2,    0.185,2,    0.075,2,   1.8510,2,     8.55,2,   8.097,2,   2274.4,2,  0.0070,   0.006,   0.040,   0.320
    06AQANTX_4,  SR04,   629,  1,     18,     18,2,19920718,0619,-64.6833, -41.9500, 4688,    348.6,   0.3867,  34.6818,2,  34.6799,2,  0.3722,    186.8,2,   124.05,2,    35.65,2,     0.01,2,     2.43,2,    0.176,2,    0.081,2,    0.044,2,-999.0000,5,    -9.00,5,-999.000,5,   2272.5,2,-999.0000,   0.014,-999.000,-999.000
    06AQANTX_4,  SR04,   629,  1,     17,     17,2,19920718,0619,-64.6833, -41.9500, 4688,    498.6,   0.3156,  34.6805,2,  34.6809,2,  0.2945,    190.5,2,   127.04,2,    35.43,2,     0.01,2,     2.41,2,    0.103,2,    0.048,2,    0.038,2,   1.8460,4,     8.72,4,   8.055,4,   2271.4,2,  0.0160,   0.017,   0.081,   0.320
    06AQANTX_4,  SR04,   629,  1,     16,     16,2,19920718,0619,-64.6833, -41.9500, 4688,    649.1,   0.2456,  34.6786,2,  34.6782,2,  0.2177,    198.5,2,   128.32,2,    35.04,2,     0.01,2,     2.39,2,    0.091,2,    0.046,2,    0.042,2,-999.0000,5,    -9.00,5,-999.000,5,   2269.7,2,-999.0000,   0.006,-999.000,-999.000
    06AQANTX_4,  SR04,   629,  1,     15,     15,2,19920718,0619,-64.6833, -41.9500, 4688,    798.3,   0.1797,  34.6765,2,  34.6763,2,  0.1447,    201.2,2,   128.58,2,    34.79,2,     0.01,2,     2.39,2,    0.097,2,    0.052,2, -999.000,9,-999.0000,5,    -9.00,5,-999.000,5,   2266.3,2,-999.0000,-999.000,-999.000,-999.000
    06AQANTX_4,  SR04,   629,  1,     14,     14,2,19920718,0619,-64.6833, -41.9500, 4688,    998.9,   0.0992,  34.6731,2,  34.6730,2,  0.0543,    207.3,2,   128.93,2,    34.54,2,     0.01,2,     2.36,2,    0.092,2,    0.045,2,    0.034,2,-999.0000,5,    -9.00,5,-999.000,5,   -999.0,9,-999.0000,   0.009,-999.000,-999.000
    06AQANTX_4,  SR04,   629,  1,     13,     13,2,19920718,0619,-64.6833, -41.9500, 4688,   1198.8,   0.0274,  34.6698,2,  34.6689,2, -0.0278,    213.3,2,   128.80,2,    34.26,2,     0.01,2,     2.35,2,    0.097,2,    0.049,2,    0.033,2,-999.0000,5,    -9.00,5,-999.000,5,   2260.0,2,-999.0000,   0.007,-999.000,-999.000
    06AQANTX_4,  SR04,   629,  1,     12,     12,2,19920718,0619,-64.6833, -41.9500, 4688,   1499.2,  -0.0729,  34.6659,2,  34.6652,2, -0.1447,    220.2,2,   128.30,2,    33.90,2,     0.01,2,     2.33,2,    0.114,2,    0.058,2,    0.040,2,-999.0000,5,    -9.00,5,-999.000,5,   2257.7,2,-999.0000,   0.012,-999.000,-999.000
    06AQANTX_4,  SR04,   629,  1,     11,     11,2,19920718,0619,-64.6833, -41.9500, 4688,   1799.0,  -0.1569,  34.6620,2,  34.6626,2, -0.2465,    226.2,2,   127.59,2,    33.52,2,     0.00,2,     2.33,2,    0.137,2,    0.066,2,    0.053,2,   1.8690,2,     6.58,2,   8.215,2,   2255.6,2,  0.0070,   0.014,   0.040,   0.310
    06AQANTX_4,  SR04,   629,  1,     10,     10,2,19920718,0619,-64.6833, -41.9500, 4688,   2199.6,  -0.2297,  34.6597,2,  34.6594,2, -0.3455,    233.8,2,   127.11,2,    33.57,2,     0.00,2,     2.32,2,    0.255,6,    0.134,6,    0.053,2,   1.8550,2,     6.10,2,   8.180,2,   2253.4,2,  0.0070,   0.022,   0.040,   0.310
    06AQANTX_4,  SR04,   629,  1,      9,      9,2,19920718,0619,-64.6833, -41.9500, 4688,   2568.0,  -0.2747,  34.6572,2,  34.6576,2, -0.4169,    234.7,2,   126.60,2,    33.19,2,     0.00,2,     2.31,2,    0.166,2,    0.103,3,    0.050,2,-999.0000,5,    -9.00,5,-999.000,5,   2250.1,2,-999.0000,   0.007,-999.000,-999.000
    06AQANTX_4,  SR04,   629,  1,      8,      8,2,19920718,0619,-64.6833, -41.9500, 4688,   2998.7,  -0.3224,  34.6558,2,  34.6564,2, -0.4980,    237.8,2,   126.08,2,    33.24,2,     0.00,2,     2.29,2,    0.119,2,    0.059,2,    0.035,2,-999.0000,5,    -9.00,5,-999.000,5,   2250.5,2,-999.0000,   0.003,-999.000,-999.000
    06AQANTX_4,  SR04,   629,  1,      7,      7,2,19920718,0619,-64.6833, -41.9500, 4688,   3398.6,  -0.3606,  34.6547,2,  34.6538,2, -0.5697,    241.2,2,   125.38,2,    33.03,2,     0.00,2,     2.28,2,    0.140,2,    0.070,2,    0.039,2,   2.2880,4,     5.56,2,   9.329,4,   2246.3,2,  0.0080,   0.004,   0.046,   0.310
    06AQANTX_4,  SR04,   629,  1,      6,      6,2,19920718,0619,-64.6833, -41.9500, 4688,   3799.3,  -0.4026,  34.6518,2,  34.6516,2, -0.6473,    244.3,2,   125.26,2,    33.10,2,     0.00,2,     2.28,2,    0.193,2,    0.096,2,    0.035,2,   1.8660,2,     5.38,2,   8.254,2,   -999.0,9,  0.0070,   0.005,   0.040,   0.310
    06AQANTX_4,  SR04,   629,  1,      5,      5,2,19920718,0619,-64.6833, -41.9500, 4688,   4200.9,  -0.4805,  34.6457,2,  34.6466,2, -0.7620,    249.3,2,   120.09,2,    32.92,2,     0.00,2,     2.27,2,    0.369,2,    0.170,2,    0.043,2,-999.0000,5,    -9.00,5,-999.000,5,   2244.5,2,-999.0000,   0.005,-999.000,-999.000
    06AQANTX_4,  SR04,   629,  1,      4,      4,2,19920718,0619,-64.6833, -41.9500, 4688,   4598.0,  -0.5551,  34.6415,2,  34.6406,2, -0.8748,    253.5,2,   118.13,2,    33.01,2,     0.01,2,     2.27,2,    0.596,2,    0.282,2,    0.072,2,   1.8690,2,     4.21,2,   8.276,2,   2245.2,2,  0.0070,   0.004,   0.041,   0.310
    06AQANTX_4,  SR04,   629,  1,      3,      3,2,19920718,0619,-64.6833, -41.9500, 4688,   4668.6,  -0.5662,  34.6395,2,  34.6391,2, -0.8930,    253.2,2,   118.10,2,    33.03,2,     0.01,2,     2.27,2,    0.710,2,    0.323,2,    0.078,2,-999.0000,5,    -9.00,5,-999.000,5,   2243.0,2,-999.0000,   0.021,-999.000,-999.000
    06AQANTX_4,  SR04,   629,  1,      2,      2,2,19920718,0619,-64.6833, -41.9500, 4688,   4740.0,  -0.5720,  34.6373,2,  34.6374,2, -0.9062,    254.1,2,   118.17,2,    33.14,2,     0.01,2,     2.26,2,    0.860,2,    0.380,2, -999.000,9,-999.0000,5,    -9.00,5,-999.000,5,   2245.2,2,-999.0000,-999.000,-999.000,-999.000
    06AQANTX_4,  SR04,   629,  1,      1,      1,2,19920718,0619,-64.6833, -41.9500, 4688,   4794.3,  -0.5670,  34.6368,2,  34.6372,2, -0.9071,    254.8,2,   117.83,2,    33.05,2,     0.01,2,     2.27,2,    0.886,2,    0.418,2,    0.076,2,   1.8590,2,     3.84,2,   8.292,2,   2245.0,2,  0.0070,   0.005,   0.041,   0.310
    06AQANTX_4,  SR04,   630,  3,     24,     24,2,19920719,0850,-63.7167, -43.3667, 4124,     11.1,  -1.8338,  34.3802,2,  34.3830,2, -1.8340,    308.1,2,    70.53,2,    27.15,2,     0.10,2,     1.84,2,    5.179,2,    2.302,2, -999.000,9,   1.7830,2,     0.40,2,   8.021,2,   2204.9,2,  0.0060,-999.000,   0.039,   0.310
    06AQANTX_4,  SR04,   630,  3,     23,     23,2,19920719,0850,-63.7167, -43.3667, 4124,     38.0,  -1.8321,  34.3844,2,  34.3818,2, -1.8328,    309.2,2,    70.77,2,    27.19,2,     0.10,2,     1.86,2,    5.200,2,    2.309,2, -999.000,9,   1.7860,2,     0.64,2,   8.053,2,   2204.7,2,  0.0060,-999.000,   0.039,   0.310
    06AQANTX_4,  SR04,   630,  3,     22,     22,2,19920719,0850,-63.7167, -43.3667, 4124,     79.1,  -1.6301,  34.4104,2,  34.4141,2, -1.6318,    295.6,2,    76.10,2,    28.50,2,     0.09,2,     1.93,2,    4.626,2,    2.071,2, -999.000,9,   1.7950,2,     1.31,2,   8.053,2,   2213.3,2,  0.0070,-999.000,   0.039,   0.310
    06AQANTX_4,  SR04,   630,  3,     21,     21,2,19920719,0850,-63.7167, -43.3667, 4124,    118.7,  -0.9059,  34.5262,2,  34.5225,2, -0.9092,    253.9,2,    87.06,2,    31.71,2,     0.06,2,     2.07,2,    2.995,2,    1.323,2, -999.000,9,   1.7950,2,     3.58,2,   7.960,2,   2235.5,2,  0.0070,-999.000,   0.040,   0.320
    06AQANTX_4,  SR04,   630,  3,     20,     20,2,19920719,0850,-63.7167, -43.3667, 4124,    178.9,   0.3004,  34.6557,2,  34.6622,2,  0.2934,    202.4,2,   106.13,2,    33.69,2,     0.01,2,     2.22,2,    0.880,2,    0.392,2, -999.000,9,   1.8340,2,     7.88,2,   8.069,2,   2258.6,2,  0.0070,-999.000,   0.040,   0.310
    06AQANTX_4,  SR04,   630,  3,     19,     19,2,19920719,0850,-63.7167, -43.3667, 4124,    247.9,   0.4378,  34.6723,2,  34.6718,2,  0.4276,    199.3,2,   109.18,2,    33.89,2,     0.01,2,     2.23,2,    0.668,2,    0.302,2, -999.000,9,   1.8480,2,     8.20,2,   8.121,2,   -999.0,9,  0.0070,-999.000,   0.040,   0.310
    06AQANTX_4,  SR04,   630,  3,     18,     18,2,19920719,0850,-63.7167, -43.3667, 4124,    290.8,   0.4611,  34.6759,2,  34.6756,2,  0.4490,    197.0,2,   111.10,2,    33.93,2,     0.01,2,     2.23,2,    0.557,2,    0.250,2, -999.000,9,   1.8530,4,     8.73,4,   8.094,4,   2261.9,2,  0.0160,-999.000,   0.080,   0.310
    06AQANTX_4,  SR04,   630,  3,     17,     17,2,19920719,0850,-63.7167, -43.3667, 4124,    498.8,   0.4873,  34.6859,2,  34.6859,2,  0.4655,    196.3,2,   119.46,2,    33.99,2,     0.00,2,     2.26,2,    0.175,2,    0.085,2, -999.000,9,   1.8440,2,     8.38,2,   8.082,2,   2265.6,2,  0.0070,-999.000,   0.040,   0.310
    06AQANTX_4,  SR04,   630,  3,     16,     16,2,19920719,0850,-63.7167, -43.3667, 4124,    649.5,   0.3938,  34.6828,2,  34.6844,2,  0.3651,    194.9,2,   123.09,2,    33.98,2,     0.00,2,     2.26,2,    0.121,2,    0.064,2, -999.000,9,-999.0000,5,    -9.00,5,-999.000,5,   2267.0,2,-999.0000,-999.000,-999.000,-999.000
    06AQANTX_4,  SR04,   630,  3,     15,     15,2,19920719,0850,-63.7167, -43.3667, 4124,    798.5,   0.3128,  34.6798,2,  34.6804,2,  0.2769,    197.5,2,   124.75,2,    34.50,2,     0.00,2,     2.26,2,    0.113,2,    0.060,2, -999.000,9,   1.8420,2,     8.22,2,   8.139,2,   2268.8,2,  0.0070,-999.000,   0.040,   0.310
    06AQANTX_4,  SR04,   630,  3,     14,     14,2,19920719,0850,-63.7167, -43.3667, 4124,    999.5,   0.2034,  34.6769,2,  34.6776,2,  0.1577,    205.8,2,   125.73,2,    33.91,2,     0.00,2,     2.24,2,    0.105,2,    0.049,2, -999.000,9,   2.0170,5,     7.78,5,   8.196,2,   2270.6,2,  0.0070,-999.000,   0.040,   0.310
    06AQANTX_4,  SR04,   630,  3,     13,     13,2,19920719,0850,-63.7167, -43.3667, 4124,   1198.9,   0.1262,  34.6739,2,  34.6739,2,  0.0700,    210.1,2,   126.83,2,    33.85,2,     0.00,2,     2.24,2,    0.083,2,    0.043,2, -999.000,9,   1.8530,2,     7.61,2,   8.181,2,   2264.0,2,  0.0070,-999.000,   0.040,   0.310
    06AQANTX_4,  SR04,   630,  3,     12,     12,2,19920719,0850,-63.7167, -43.3667, 4124,   1499.0,   0.0156,  34.6691,2,  34.6671,2, -0.0572,    216.1,2,   126.33,2,    33.63,2,     0.00,2,     2.23,2,    0.105,2,    0.055,2, -999.000,9,   1.8530,2,     8.00,2,   8.163,2,   2259.1,2,  0.0070,-999.000,   0.040,   0.310
    06AQANTX_4,  SR04,   630,  3,     11,     11,2,19920719,0850,-63.7167, -43.3667, 4124,   1799.1,  -0.0846,  34.6649,2,  34.6652,2, -0.1752,    222.4,2,   126.39,2,    33.46,2,     0.00,2,     2.20,2,    0.126,2,    0.067,2, -999.000,9,-999.0000,5,    -9.00,5,-999.000,5,   2254.5,2,-999.0000,-999.000,-999.000,-999.000
    06AQANTX_4,  SR04,   630,  3,     10,     10,2,19920719,0850,-63.7167, -43.3667, 4124,   2199.1,  -0.1939,  34.6608,2,  34.6605,2, -0.3102,    228.6,2,   126.07,2,    33.13,2,     0.00,2,     2.20,2,    0.166,2,    0.080,2, -999.000,9,-999.0000,5,    -9.00,5,-999.000,5,   2254.7,2,-999.0000,-999.000,-999.000,-999.000
    06AQANTX_4,  SR04,   630,  3,      9,      9,2,19920719,0850,-63.7167, -43.3667, 4124,   2599.1,  -0.2519,  34.6583,2,  34.6572,2, -0.3969,    232.5,2,   125.18,2,    32.85,2,     0.00,2,     2.19,2,    0.232,2,    0.115,2, -999.000,9,-999.0000,5,    -9.00,5,-999.000,5,   2250.9,2,-999.0000,-999.000,-999.000,-999.000
    06AQANTX_4,  SR04,   630,  3,      8,      8,2,19920719,0850,-63.7167, -43.3667, 4124,   2998.6,  -0.2995,  34.6565,2,  34.6560,2, -0.4756,    235.8,2,   124.98,2,    32.95,2,     0.00,2,     2.18,2,    0.234,2,    0.115,2, -999.000,9,-999.0000,5,    -9.00,5,-999.000,5,   2251.6,2,-999.0000,-999.000,-999.000,-999.000
    06AQANTX_4,  SR04,   630,  3,      7,      7,2,19920719,0850,-63.7167, -43.3667, 4124,   3398.4,  -0.3580,  34.6544,2,  34.6519,2, -0.5672,    240.0,2,   124.55,2,    32.89,2,     0.00,2,     2.19,2,    0.298,2,    0.258,4, -999.000,9,-999.0000,5,    -9.00,5,-999.000,5,   2250.0,2,-999.0000,-999.000,-999.000,-999.000
    06AQANTX_4,  SR04,   630,  3,      6,      6,2,19920719,0850,-63.7167, -43.3667, 4124,   3799.3,  -0.4153,  34.6501,2,  34.6491,2, -0.6597,    244.0,2,   122.26,2,    32.77,2,     0.00,2,     2.17,2,    0.475,2,    0.225,2, -999.000,9,-999.0000,9,    -9.00,4,-999.000,9,   2247.3,2,-999.0000,-999.000,-999.000,-999.000
    06AQANTX_4,  SR04,   630,  3,      5,      5,2,19920719,0850,-63.7167, -43.3667, 4124,   3896.7,  -0.4504,  34.6455,2,  34.6444,2, -0.7030,    246.7,2,   118.17,2,    32.71,2,     0.00,2,     2.16,2,    0.744,2,    0.341,2, -999.000,9,   1.8750,2,     3.95,2,   8.286,2,   2246.1,2,  0.0070,-999.000,   0.041,   0.310
    06AQANTX_4,  SR04,   630,  3,      4,      4,2,19920719,0850,-63.7167, -43.3667, 4124,   3998.2,  -0.4688,  34.6446,2,  34.6421,2, -0.7307,    248.6,2,   117.46,2,    32.70,2,     0.00,2,     2.17,2,    0.813,2,    0.368,2, -999.000,9,   1.8720,2,     4.55,2,   8.271,2,   2246.4,2,  0.0070,-999.000,   0.041,   0.310
    06AQANTX_4,  SR04,   630,  3,      3,      3,2,19920719,0850,-63.7167, -43.3667, 4124,   4098.4,  -0.5050,  34.6421,2,  34.6412,2, -0.7756,    252.3,2,   114.86,2,  -999.00,9,     0.00,2,     2.17,2,    0.974,2,    0.438,2, -999.000,9,   1.8550,2,     4.47,2,   8.192,2,   2245.8,2,  0.0070,-999.000,   0.040,   0.310
    06AQANTX_4,  SR04,   630,  3,      2,      2,2,19920719,0850,-63.7167, -43.3667, 4124,   4149.3,  -0.4922,  34.6422,2,  34.6410,2, -0.7682,    250.7,2,   115.00,2,    32.68,2,     0.00,2,     2.15,2,    1.029,2,    0.460,2, -999.000,9,   1.8730,2,     4.67,2,   8.271,2,   2244.3,2,  0.0070,-999.000,   0.041,   0.310
    06AQANTX_4,  SR04,   630,  3,      1,      1,2,19920719,0850,-63.7167, -43.3667, 4124,   4197.3,  -0.5300,  34.6390,2,  34.6379,2, -0.8096,    253.6,2,   112.24,2,    32.61,2,     0.01,2,     2.13,2,    1.256,2,    0.563,2, -999.000,9,   1.8700,2,     4.67,2,   8.275,2,   2244.7,2,  0.0070,-999.000,   0.041,   0.310