BOTTLE,20061211WHPSIODBK
EXPOCODE,SECT_ID,STNNBR,CASTNO,SAMPNO,BTLNBR,BTLNBR_FLAG_W,DATE,TIME,LATITUDE,LONGITUDE,DEPTH,CTDPRS,CTDTMP,CTDSAL,CTDSAL_FLAG_W,SALNTY,SALNTY_FLAG_W,THETA,OXYGEN,OXYGEN_FLAG_W,SILCAT,SILCAT_FLAG_W,NITRAT,NITRAT_FLAG_W,NITRIT,NITRIT_FLAG_W,PHSPHT,PHSPHT_FLAG_W,CFC-11,CFC-11_FLAG_W,CFC-12,CFC-12_FLAG_W,TRITUM,TRITUM_FLAG_W,HELIUM,HELIUM_FLAG_W,DELHE3,DELHE3_FLAG_W,NEON,NEON_FLAG_W,TCARBN,TCARBN_FLAG_W,HELIER,TRITER,NEONER,DELHER
,,,,,,,,,,,,DBAR,ITS-90,PSS-78,,PSS-78,,DEG C,UMOL/KG,,UMOL/KG,,UMOL/KG,,UMOL/KG,,UMOL/KG,,PMOL/KG,,PMOL/KG,,TU,,NMOL/KG,,PERCNT,,NMOL/KG,,UMOL/KG,,NMOL/KG,TU,NMOL/KG,PERCNT
    06AQANTX_4,  SR04,   612,  1,     24,     24,2,19920630,1232,-70.4833,  -9.9167, 1426,      3.0,  -1.8764,  34.2037,2,-999.0000,9, -1.8765,   -999.0,9,    56.27,2,    26.60,2,     0.18,2,     1.94,2, -999.000,9, -999.000,9, -999.000,9,-999.0000,9,    -9.00,9,-999.000,9,   -999.0,9,-999.0000,-999.000,-999.000,-999.000
    06AQANTX_4,  SR04,   612,  1,     23,     23,2,19920630,1232,-70.4833,  -9.9167, 1426,      3.0,  -1.8771,  34.2045,2,  34.2055,2, -1.8772,    327.8,2,    56.82,2,    26.70,2,     0.19,2,     1.93,2, -999.000,9, -999.000,9, -999.000,9,-999.0000,9,    -9.00,9,-999.000,9,   2204.4,2,-999.0000,-999.000,-999.000,-999.000
    06AQANTX_4,  SR04,   612,  1,     22,     22,2,19920630,1232,-70.4833,  -9.9167, 1426,     48.2,  -1.8765,  34.2045,2,-999.0000,9, -1.8774,   -999.0,9,    56.51,2,    27.15,2,     0.19,2,     1.91,2, -999.000,9, -999.000,9, -999.000,9,-999.0000,9,    -9.00,9,-999.000,9,   -999.0,9,-999.0000,-999.000,-999.000,-999.000
    06AQANTX_4,  SR04,   612,  1,     21,     21,2,19920630,1232,-70.4833,  -9.9167, 1426,     70.2,  -1.8771,  34.2046,2,  34.2023,2, -1.8784,    327.4,2,    56.60,2,    27.19,2,     0.18,2,     1.97,2, -999.000,9, -999.000,9, -999.000,9,-999.0000,9,    -9.00,9,-999.000,9,   2207.1,2,-999.0000,-999.000,-999.000,-999.000
    06AQANTX_4,  SR04,   612,  1,     19,     19,2,19920630,1232,-70.4833,  -9.9167, 1426,     99.9,  -1.8764,  34.2043,2,-999.0000,9, -1.8783,   -999.0,9,    56.57,2,  -999.00,9,     0.18,2,     1.93,2, -999.000,9, -999.000,9, -999.000,9,-999.0000,9,    -9.00,9,-999.000,9,   2203.3,2,-999.0000,-999.000,-999.000,-999.000
    06AQANTX_4,  SR04,   612,  1,     20,     20,2,19920630,1232,-70.4833,  -9.9167, 1426,    100.0,  -1.8767,  34.2047,2,  34.2029,2, -1.8786,    327.6,2,    56.58,2,    26.59,2,     0.18,2,     1.95,2, -999.000,9, -999.000,9, -999.000,9,-999.0000,9,    -9.00,9,-999.000,9,   -999.0,9,-999.0000,-999.000,-999.000,-999.000
    06AQANTX_4,  SR04,   612,  1,     18,     18,2,19920630,1232,-70.4833,  -9.9167, 1426,    150.0,  -1.8419,  34.2220,2,-999.0000,9, -1.8449,   -999.0,9,    57.74,2,    27.56,2,     0.15,2,     1.96,2, -999.000,9, -999.000,9, -999.000,9,-999.0000,9,    -9.00,9,-999.000,9,   -999.0,9,-999.0000,-999.000,-999.000,-999.000
    06AQANTX_4,  SR04,   612,  1,     16,     16,2,19920630,1232,-70.4833,  -9.9167, 1426,    200.5,  -1.8284,  34.2316,2,-999.0000,9, -1.8325,   -999.0,9,    58.46,2,    27.67,2,     0.14,2,     1.96,2, -999.000,9, -999.000,9, -999.000,9,-999.0000,9,    -9.00,9,-999.000,9,   2211.8,2,-999.0000,-999.000,-999.000,-999.000
    06AQANTX_4,  SR04,   612,  1,     17,     17,2,19920630,1232,-70.4833,  -9.9167, 1426,    200.6,  -1.8280,  34.2323,2,  34.2331,2, -1.8321,    320.2,2,    58.10,2,    27.67,2,     0.14,2,     1.98,2, -999.000,9, -999.000,9, -999.000,9,-999.0000,9,    -9.00,9,-999.000,9,   -999.0,9,-999.0000,-999.000,-999.000,-999.000
    06AQANTX_4,  SR04,   612,  1,     14,     14,2,19920630,1232,-70.4833,  -9.9167, 1426,    300.2,  -1.8222,  34.2425,2,  34.2027,4, -1.8286,   -999.0,9,  -999.00,9,  -999.00,9,  -999.00,9,  -999.00,9, -999.000,9, -999.000,9, -999.000,9,-999.0000,9,    -9.00,9,-999.000,9,   2206.9,2,-999.0000,-999.000,-999.000,-999.000
    06AQANTX_4,  SR04,   612,  1,     15,     15,2,19920630,1232,-70.4833,  -9.9167, 1426,    300.3,  -1.8228,  34.2426,2,  34.2427,2, -1.8292,    318.4,2,    57.92,2,    27.86,2,     0.12,2,     2.02,2, -999.000,9, -999.000,9, -999.000,9,-999.0000,9,    -9.00,9,-999.000,9,   -999.0,9,-999.0000,-999.000,-999.000,-999.000
    06AQANTX_4,  SR04,   612,  1,     12,     12,2,19920630,1232,-70.4833,  -9.9167, 1426,    499.4,  -1.7396,  34.2729,2,  34.2731,2, -1.7517,   -999.0,9,    59.92,2,    28.23,2,     0.11,2,     2.02,2, -999.000,9, -999.000,9, -999.000,9,-999.0000,9,    -9.00,9,-999.000,9,   2205.3,2,-999.0000,-999.000,-999.000,-999.000
    06AQANTX_4,  SR04,   612,  1,     13,     13,2,19920630,1232,-70.4833,  -9.9167, 1426,    499.7,  -1.7412,  34.2732,2,  34.2728,2, -1.7533,    314.0,2,    59.80,2,    28.25,2,     0.12,2,     2.01,2, -999.000,9, -999.000,9, -999.000,9,-999.0000,9,    -9.00,9,-999.000,9,   -999.0,9,-999.0000,-999.000,-999.000,-999.000
    06AQANTX_4,  SR04,   612,  1,     11,     11,2,19920630,1232,-70.4833,  -9.9167, 1426,    599.3,  -1.5446,  34.3221,2,  34.3220,2, -1.5607,    302.8,2,    62.69,2,    28.57,2,     0.10,2,     2.05,2, -999.000,9, -999.000,9, -999.000,9,-999.0000,9,    -9.00,9,-999.000,9,   -999.0,9,-999.0000,-999.000,-999.000,-999.000
    06AQANTX_4,  SR04,   612,  1,     10,     10,2,19920630,1232,-70.4833,  -9.9167, 1426,    700.3,  -1.5216,  34.3568,2,  34.3570,2, -1.5413,    301.2,2,    63.83,2,    29.80,2,     0.10,2,     2.03,2, -999.000,9, -999.000,9, -999.000,9,-999.0000,9,    -9.00,9,-999.000,9,   2214.1,2,-999.0000,-999.000,-999.000,-999.000
    06AQANTX_4,  SR04,   612,  1,      9,      9,2,19920630,1232,-70.4833,  -9.9167, 1426,    750.2,  -1.0551,  34.4174,2,  34.4146,2, -1.0796,    280.1,2,    69.92,2,    29.26,2,     0.08,2,     2.09,2, -999.000,9, -999.000,9, -999.000,9,-999.0000,9,    -9.00,9,-999.000,9,   -999.0,9,-999.0000,-999.000,-999.000,-999.000
    06AQANTX_4,  SR04,   612,  1,      8,      8,2,19920630,1232,-70.4833,  -9.9167, 1426,    800.9,  -0.6677,  34.4688,2,  34.4698,2, -0.6969,    263.4,2,    75.00,2,    29.79,2,     0.04,2,     2.13,2, -999.000,9, -999.000,9, -999.000,9,-999.0000,9,    -9.00,9,-999.000,9,   2230.2,2,-999.0000,-999.000,-999.000,-999.000
    06AQANTX_4,  SR04,   612,  1,      7,      7,2,19920630,1232,-70.4833,  -9.9167, 1426,    850.4,  -0.3238,  34.5126,2,  34.5176,4, -0.3577,    250.1,2,    80.10,2,    30.06,2,     0.03,2,     2.14,2, -999.000,9, -999.000,9, -999.000,9,-999.0000,9,    -9.00,9,-999.000,9,   -999.0,9,-999.0000,-999.000,-999.000,-999.000
    06AQANTX_4,  SR04,   612,  1,      6,      6,2,19920630,1232,-70.4833,  -9.9167, 1426,    900.8,   0.0393,  34.5665,2,  34.5648,2,  0.0002,    237.5,2,    86.46,2,    30.68,2,     0.03,2,     2.15,2, -999.000,9, -999.000,9, -999.000,9,-999.0000,9,    -9.00,9,-999.000,9,   2244.3,2,-999.0000,-999.000,-999.000,-999.000
    06AQANTX_4,  SR04,   612,  1,      5,      5,2,19920630,1232,-70.4833,  -9.9167, 1426,   1000.7,   0.0881,  34.5836,2,  34.5818,2,  0.0434,    232.0,2,    91.09,2,    30.91,2,     0.04,2,     2.16,2, -999.000,9, -999.000,9, -999.000,9,-999.0000,9,    -9.00,9,-999.000,9,   -999.0,9,-999.0000,-999.000,-999.000,-999.000
    06AQANTX_4,  SR04,   612,  1,      4,      4,2,19920630,1232,-70.4833,  -9.9167, 1426,   1100.6,   0.2783,  34.6217,2,  34.6240,2,  0.2263,    221.8,2,    99.13,2,    30.02,2,     0.03,2,     2.19,2, -999.000,9, -999.000,9, -999.000,9,-999.0000,9,    -9.00,9,-999.000,9,   2251.0,2,-999.0000,-999.000,-999.000,-999.000
    06AQANTX_4,  SR04,   612,  1,      3,      3,2,19920630,1232,-70.4833,  -9.9167, 1426,   1199.5,   0.3580,  34.6414,2,  34.6394,2,  0.2995,    218.0,2,   103.05,2,    30.58,2,     0.04,2,     2.18,2, -999.000,9, -999.000,9, -999.000,9,-999.0000,9,    -9.00,9,-999.000,9,   -999.0,9,-999.0000,-999.000,-999.000,-999.000
    06AQANTX_4,  SR04,   612,  1,      2,      2,2,19920630,1232,-70.4833,  -9.9167, 1426,   1349.9,   0.3917,  34.6620,2,  34.6589,2,  0.3237,    213.8,2,   109.69,2,    30.55,2,     0.03,2,     2.19,2, -999.000,9, -999.000,9, -999.000,9,-999.0000,9,    -9.00,9,-999.000,9,   2256.8,2,-999.0000,-999.000,-999.000,-999.000
    06AQANTX_4,  SR04,   612,  1,      1,      1,2,19920630,1232,-70.4833,  -9.9167, 1426,   1430.2,   0.3930,  34.6648,2,  34.6655,2,  0.3200,    213.5,2,   111.57,2,    30.75,2,     0.03,2,     2.17,2, -999.000,9, -999.000,9, -999.000,9,-999.0000,9,    -9.00,9,-999.000,9,   -999.0,9,-999.0000,-999.000,-999.000,-999.000
    06AQANTX_4,  SR04,   613,  1,     24,     24,2,19920701,1203,-70.8167, -12.3167, 1982,      2.5,  -1.8662,  34.2397,2,-999.0000,9, -1.8662,   -999.0,9,  -999.00,9,  -999.00,9,  -999.00,9,  -999.00,9, -999.000,9, -999.000,9, -999.000,9,-999.0000,9,    -9.00,9,-999.000,9,   -999.0,9,-999.0000,-999.000,-999.000,-999.000
    06AQANTX_4,  SR04,   613,  1,     23,     23,2,19920701,1203,-70.8167, -12.3167, 1982,      9.9,  -1.8672,  34.2433,2,  34.2459,2, -1.8674,    323.3,2,    56.03,2,    28.25,2,     0.14,2,     1.94,2,    5.836,6,    2.758,6, -999.000,9,-999.0000,5,    -9.00,5,-999.000,5,   2203.1,2,-999.0000,-999.000,-999.000,-999.000
    06AQANTX_4,  SR04,   613,  1,     22,     22,2,19920701,1203,-70.8167, -12.3167, 1982,     47.3,  -1.8681,  34.2435,2,  34.2418,2, -1.8690,    323.0,2,    56.37,2,    28.20,2,     0.14,2,     1.96,2,    5.842,2,    2.739,2,    0.111,2,-999.0000,9,    -9.00,9,-999.000,9,   2205.7,2,-999.0000,   0.012,-999.000,-999.000
    06AQANTX_4,  SR04,   613,  1,     21,     21,2,19920701,1203,-70.8167, -12.3167, 1982,     47.3,  -1.8679,  34.2430,2,-999.0000,9, -1.8688,   -999.0,9,  -999.00,9,  -999.00,9,  -999.00,9,  -999.00,9, -999.000,9, -999.000,9,    0.122,2,   1.8120,2,    -0.39,2,   8.179,2,   -999.0,9,  0.0070,   0.022,   0.040,   0.310
    06AQANTX_4,  SR04,   613,  1,     20,     20,2,19920701,1203,-70.8167, -12.3167, 1982,     78.7,  -1.8641,  34.2429,2,  34.2454,2, -1.8656,    323.0,2,    56.51,2,    28.22,2,     0.14,2,     1.96,2,    5.490,2,    2.580,2,    0.110,2,   2.0440,4,    -0.43,2,   8.236,2,   2201.0,2,  0.0070,   0.007,   0.040,   0.310
    06AQANTX_4,  SR04,   613,  1,     19,     19,2,19920701,1203,-70.8167, -12.3167, 1982,    100.0,  -1.8609,  34.2439,2,-999.0000,9, -1.8628,   -999.0,9,  -999.00,9,  -999.00,9,  -999.00,9,  -999.00,9, -999.000,9, -999.000,9, -999.000,9,-999.0000,9,    -9.00,9,-999.000,9,   -999.0,9,-999.0000,-999.000,-999.000,-999.000
    06AQANTX_4,  SR04,   613,  1,     18,     18,2,19920701,1203,-70.8167, -12.3167, 1982,    118.7,  -1.8652,  34.2438,2,  34.2444,2, -1.8675,    323.2,2,    56.38,2,    28.18,2,     0.14,2,     1.96,2,    5.785,2,    2.716,2,    0.062,2,   1.8250,2,    -0.63,2,   8.218,2,   2206.8,2,  0.0070,   0.004,   0.040,   0.310
    06AQANTX_4,  SR04,   613,  1,     17,     17,2,19920701,1203,-70.8167, -12.3167, 1982,    180.4,  -1.8130,  34.2613,2,  34.2648,2, -1.8167,    316.5,2,    57.24,2,    28.99,2,     0.09,2,     2.00,2,    5.696,2,    2.753,2,    0.116,2,   1.8300,2,    -0.22,2,   8.276,2,   2206.1,2,  0.0070,   0.007,   0.041,   0.310
    06AQANTX_4,  SR04,   613,  1,     16,     16,2,19920701,1203,-70.8167, -12.3167, 1982,    199.7,  -1.8077,  34.2637,2,-999.0000,9, -1.8118,   -999.0,9,  -999.00,9,  -999.00,9,  -999.00,9,  -999.00,9, -999.000,9, -999.000,9, -999.000,9,-999.0000,9,    -9.00,9,-999.000,9,   -999.0,9,-999.0000,-999.000,-999.000,-999.000
    06AQANTX_4,  SR04,   613,  1,     15,     15,2,19920701,1203,-70.8167, -12.3167, 1982,    250.8,  -1.7738,  34.2775,2,  34.2770,2, -1.7792,    314.9,2,    58.03,2,    29.05,2,     0.09,2,     1.99,2,    5.589,2,    2.543,2,    0.131,2,   1.7910,2,    -0.30,2,   8.123,2,   2207.8,2,  0.0060,   0.008,   0.040,   0.310
    06AQANTX_4,  SR04,   613,  1,     14,     14,2,19920701,1203,-70.8167, -12.3167, 1982,    301.0,  -1.7293,  34.2977,2,-999.0000,9, -1.7360,   -999.0,9,  -999.00,9,  -999.00,9,  -999.00,9,  -999.00,9, -999.000,9, -999.000,9, -999.000,9,-999.0000,9,    -9.00,9,-999.000,9,   -999.0,9,-999.0000,-999.000,-999.000,-999.000
    06AQANTX_4,  SR04,   613,  1,     13,     13,2,19920701,1203,-70.8167, -12.3167, 1982,    350.2,  -1.5918,  34.3299,2,  34.3302,2, -1.6002,    305.1,2,    61.11,2,    29.42,2,     0.08,2,     2.04,2,    5.142,2,    2.441,2,    0.022,2,   1.8240,2,     0.88,2,   8.176,2,   2213.2,2,  0.0070,   0.027,   0.040,   0.310
    06AQANTX_4,  SR04,   613,  1,     11,     11,2,19920701,1203,-70.8167, -12.3167, 1982,    503.2,  -0.9662,  34.4374,2,-999.0000,9, -0.9819,   -999.0,9,  -999.00,9,  -999.00,9,  -999.00,9,  -999.00,9, -999.000,9, -999.000,9, -999.000,9,-999.0000,9,    -9.00,9,-999.000,9,   -999.0,9,-999.0000,-999.000,-999.000,-999.000
    06AQANTX_4,  SR04,   613,  1,     12,     12,2,19920701,1203,-70.8167, -12.3167, 1982,    505.9,  -0.9495,  34.4409,2,  34.4385,2, -0.9653,    274.5,2,    69.53,2,    31.00,2,     0.00,2,     2.12,2,    3.904,2,    1.919,2,    0.088,2,  -0.0040,4,    46.60,4,  -0.018,4,   2231.1,2,  0.0000,   0.008,   0.000,   0.310
    06AQANTX_4,  SR04,   613,  1,     10,     10,2,19920701,1203,-70.8167, -12.3167, 1982,    652.2,   0.1815,  34.5928,2,  34.5933,2,  0.1538,    227.3,2,    90.45,2,    31.82,2,     0.00,2,     2.21,2,    1.741,2,    0.858,2, -999.000,9,   1.8170,2,     5.71,2,   8.007,2,   2251.2,2,  0.0070,-999.000,   0.039,   0.310
    06AQANTX_4,  SR04,   613,  1,      9,      9,2,19920701,1203,-70.8167, -12.3167, 1982,    803.0,   0.8105,  34.6797,2,  34.6808,2,  0.7711,    201.9,2,   100.99,2,    32.08,2,     0.00,2,     2.22,2,    0.596,2,    0.327,3,    0.023,2,   1.8530,2,     8.61,2,   8.051,2,   2260.9,2,  0.0070,   0.005,   0.039,   0.310
    06AQANTX_4,  SR04,   613,  1,      8,      8,2,19920701,1203,-70.8167, -12.3167, 1982,    998.3,   0.7407,  34.6918,2,  34.6925,2,  0.6906,    203.1,2,   107.66,2,    32.10,2,     0.00,2,     2.22,2,    0.352,2,    0.197,3,    0.017,2,-999.0000,5,    -9.00,5,-999.000,5,   2263.2,2,-999.0000,   0.004,-999.000,-999.000
    06AQANTX_4,  SR04,   613,  1,      7,      7,2,19920701,1203,-70.8167, -12.3167, 1982,   1202.0,   0.5669,  34.6872,2,  34.6874,2,  0.5062,    205.0,2,   112.04,2,    32.22,2,     0.00,2,     2.23,2, -999.000,9, -999.000,9,    0.020,2,   1.8570,2,     8.43,2,   8.125,2,   2264.3,2,  0.0070,   0.008,   0.040,   0.310
    06AQANTX_4,  SR04,   613,  1,      6,      6,2,19920701,1203,-70.8167, -12.3167, 1982,   1501.5,   0.3491,  34.6773,2,  34.6695,4,  0.2720,    211.0,2,   116.24,2,    32.44,2,     0.00,2,     2.23,2,    0.324,2,    0.205,3,    0.029,2,   1.8560,2,     7.94,2,   8.171,2,   2263.7,2,  0.0070,   0.008,   0.040,   0.310
    06AQANTX_4,  SR04,   613,  1,      5,      5,2,19920701,1203,-70.8167, -12.3167, 1982,   1699.3,   0.2683,  34.6742,2,  34.6701,4,  0.1793,    213.1,2,   117.13,2,    32.53,2,     0.00,2,     2.23,2,    0.335,2,    0.207,3,    0.018,2,   1.8370,2,     7.05,2,   8.039,2,   2263.5,2,  0.0070,   0.007,   0.039,   0.310
    06AQANTX_4,  SR04,   613,  1,      4,      4,2,19920701,1203,-70.8167, -12.3167, 1982,   1846.6,   0.1876,  34.6705,2,  34.6703,2,  0.0898,    215.2,2,   119.58,2,    32.64,2,     0.00,2,     2.22,2,    0.342,2,    0.174,2,    0.016,2,   1.8550,2,     7.69,2,   8.140,2,   2265.2,2,  0.0070,   0.005,   0.040,   0.310
    06AQANTX_4,  SR04,   613,  1,      3,      3,2,19920701,1203,-70.8167, -12.3167, 1982,   1899.0,   0.1617,  34.6702,2,  34.6522,4,  0.0606,    216.2,2,   120.01,2,    32.62,2,     0.00,2,     2.22,2,    0.345,2,    0.199,3,    0.014,2,   3.9750,4,   -35.48,4,  29.800,4,   2263.1,2,  0.0140,   0.006,   0.146,   0.310
    06AQANTX_4,  SR04,   613,  1,      2,      2,2,19920701,1203,-70.8167, -12.3167, 1982,   1949.2,   0.1266,  34.6691,2,  34.6635,4,  0.0226,    217.3,2,   120.80,2,    32.67,2,     0.00,2,     2.22,2,    0.348,2,    0.192,3,    0.029,2,   1.8440,2,     7.07,2,   8.158,2,   2265.0,2,  0.0070,   0.005,   0.040,   0.310
    06AQANTX_4,  SR04,   613,  1,      1,      1,2,19920701,1203,-70.8167, -12.3167, 1982,   2006.1,   0.1246,  34.6688,2,  34.6694,2,  0.0166,    217.1,2,   121.54,2,    32.53,2,     0.00,2,     2.22,2,    0.325,2,    0.164,2,    0.017,2,   1.8320,2,     7.18,2,   8.020,2,   -999.0,9,  0.0070,   0.007,   0.039,   0.310