BOTTLE,20061211WHPSIODBK
EXPOCODE,SECT_ID,STNNBR,CASTNO,SAMPNO,BTLNBR,BTLNBR_FLAG_W,DATE,TIME,LATITUDE,LONGITUDE,DEPTH,CTDPRS,CTDTMP,CTDSAL,CTDSAL_FLAG_W,SALNTY,SALNTY_FLAG_W,THETA,OXYGEN,OXYGEN_FLAG_W,SILCAT,SILCAT_FLAG_W,NITRAT,NITRAT_FLAG_W,NITRIT,NITRIT_FLAG_W,PHSPHT,PHSPHT_FLAG_W,CFC-11,CFC-11_FLAG_W,CFC-12,CFC-12_FLAG_W,TRITUM,TRITUM_FLAG_W,HELIUM,HELIUM_FLAG_W,DELHE3,DELHE3_FLAG_W,NEON,NEON_FLAG_W,TCARBN,TCARBN_FLAG_W,HELIER,TRITER,NEONER,DELHER
,,,,,,,,,,,,DBAR,ITS-90,PSS-78,,PSS-78,,DEG C,UMOL/KG,,UMOL/KG,,UMOL/KG,,UMOL/KG,,UMOL/KG,,PMOL/KG,,PMOL/KG,,TU,,NMOL/KG,,PERCNT,,NMOL/KG,,UMOL/KG,,NMOL/KG,TU,NMOL/KG,PERCNT
    06AQANTX_4,  SR04,   631,  1,     24,     24,2,19920719,1642,-63.4167, -43.5833, 3776,     10.1,  -1.8385,  34.2777,2,  34.2815,2, -1.8387,    303.5,2,    80.00,2,    29.18,2,     0.32,2,     1.95,2,    4.703,2,    2.090,2,    0.126,2,   1.7860,2,     0.46,2,   7.972,2,   2207.5,2,  0.0060,   0.012,   0.039,   0.310
    06AQANTX_4,  SR04,   631,  1,     23,     23,2,19920719,1642,-63.4167, -43.5833, 3776,     39.0,  -1.8318,  34.2863,2,  34.2831,2, -1.8325,    303.4,2,    80.22,2,    29.17,2,     0.31,2,     1.96,2,    4.679,2,    2.108,2,    0.156,2,   1.8460,2,     0.92,2,   8.217,2,   2209.5,2,  0.0070,   0.007,   0.040,   0.310
    06AQANTX_4,  SR04,   631,  1,     22,     22,2,19920719,1642,-63.4167, -43.5833, 3776,     79.9,  -1.4135,  34.4237,2,  34.4246,2, -1.4153,    277.3,2,    83.97,2,    30.77,2,     0.08,2,     2.01,2,    3.661,2,    1.616,2,    0.173,2,   1.8300,2,     3.02,2,   8.215,2,   2221.8,2,  0.0070,   0.007,   0.040,   0.310
    06AQANTX_4,  SR04,   631,  1,     21,     21,2,19920719,1642,-63.4167, -43.5833, 3776,    119.1,  -1.0043,  34.5104,2,  34.5135,2, -1.0075,    254.0,2,    89.15,2,    31.98,2,     0.02,2,     2.08,2,    2.619,2,    1.141,2,    0.084,2,   1.8450,2,     4.29,2,   8.134,2,   2241.8,2,  0.0070,   0.007,   0.040,   0.310
    06AQANTX_4,  SR04,   631,  1,     20,     20,2,19920719,1642,-63.4167, -43.5833, 3776,    178.1,  -0.2907,  34.5895,2,  34.5925,2, -0.2968,    230.7,2,    97.26,2,    32.70,2,     0.01,2,     2.11,2,    1.791,2,    0.783,2,    0.064,2,   1.8540,2,     6.31,2,   8.189,2,   2246.1,2,  0.0070,   0.004,   0.040,   0.310
    06AQANTX_4,  SR04,   631,  1,     19,     19,2,19920719,1642,-63.4167, -43.5833, 3776,    248.3,   0.0980,  34.6360,2,  34.6221,3,  0.0885,    216.6,2,   102.26,2,    33.09,2,     0.01,2,     2.15,2,    1.237,2,    0.545,2,    0.038,2,-999.0000,5,    -9.00,5,-999.000,5,   2251.0,2,-999.0000,   0.004,-999.000,-999.000
    06AQANTX_4,  SR04,   631,  1,     18,     18,2,19920719,1642,-63.4167, -43.5833, 3776,    348.5,   0.3316,  34.6612,2,  34.6603,2,  0.3173,    209.0,2,   107.13,2,    33.39,2,     0.01,2,     2.18,2,    0.807,2,    0.355,2,    0.044,2,   1.8520,2,     7.93,2,   8.077,2,   2258.0,2,  0.0070,   0.006,   0.040,   0.310
    06AQANTX_4,  SR04,   631,  1,     17,     17,2,19920719,1642,-63.4167, -43.5833, 3776,    498.8,   0.4413,  34.6774,2,  34.6797,2,  0.4197,    208.7,2,   112.79,2,    33.59,2,     0.01,2,     2.20,2,    0.448,2,    0.201,2,    0.036,2,   1.8520,2,     8.57,2,   8.153,2,   2259.6,2,  0.0070,   0.003,   0.040,   0.310
    06AQANTX_4,  SR04,   631,  1,     16,     16,2,19920719,1642,-63.4167, -43.5833, 3776,    649.0,   0.4623,  34.6837,2,  34.6841,2,  0.4332,    201.5,2,   118.24,2,    33.62,2,     0.01,2,     2.21,2,    0.202,2,    0.096,2,    0.031,2,   1.8160,4,     7.86,2,   7.885,2,   2267.8,2,  0.0070,   0.003,   0.039,   0.320
    06AQANTX_4,  SR04,   631,  1,     15,     15,2,19920719,1642,-63.4167, -43.5833, 3776,    799.7,   0.4178,  34.6835,2,  34.6849,2,  0.3812,    201.3,2,   121.36,2,    33.89,2,     0.01,2,     2.24,2,    0.129,2,    0.063,2,    0.030,2,   1.8720,2,     8.54,2,   8.177,2,   2271.0,2,  0.0070,   0.003,   0.040,   0.310
    06AQANTX_4,  SR04,   631,  1,     14,     14,2,19920719,1642,-63.4167, -43.5833, 3776,    999.0,   0.3251,  34.6809,2,  34.6822,2,  0.2784,    206.1,2,   123.29,2,    33.70,2,     0.01,2,     2.24,2,    0.117,2,    0.055,2,    0.047,2,   1.8640,2,     8.16,2,   8.180,2,   2260.9,2,  0.0070,   0.019,   0.040,   0.310
    06AQANTX_4,  SR04,   631,  1,     13,     13,2,19920719,1642,-63.4167, -43.5833, 3776,   1198.8,   0.2192,  34.6764,2,  34.6623,4,  0.1621,    209.4,2,   124.45,2,    33.78,2,     0.00,2,     2.25,2,    0.110,2,    0.055,2,    0.037,2,   1.8540,2,     7.93,2,   8.147,2,   2261.7,2,  0.0070,   0.003,   0.040,   0.310
    06AQANTX_4,  SR04,   631,  1,     12,     12,2,19920719,1642,-63.4167, -43.5833, 3776,   1499.6,   0.1117,  34.6726,2,  34.6618,4,  0.0377,    212.7,2,   125.90,2,    33.63,2,     0.01,2,     2.23,2,    0.105,2,    0.054,2,    0.047,2,   1.8780,4,     7.31,4,   8.173,4,   2259.2,2,  0.0160,   0.004,   0.081,   0.310
    06AQANTX_4,  SR04,   631,  1,     11,     11,2,19920719,1642,-63.4167, -43.5833, 3776,   1799.4,  -0.0077,  34.6669,2,  34.6683,2, -0.0994,    221.5,2,   125.60,2,    33.47,2,     0.00,2,     2.22,2,    0.152,2,    0.073,2,    0.043,2,   1.8720,2,     7.04,2,   8.205,2,   2257.1,2,  0.0070,   0.004,   0.040,   0.310
    06AQANTX_4,  SR04,   631,  1,     10,     10,2,19920719,1642,-63.4167, -43.5833, 3776,   2197.8,  -0.1273,  34.6620,2,  34.6570,4, -0.2447,    227.5,2,   124.80,2,    33.25,2,     0.01,2,     2.21,2,    0.195,2,    0.095,2,    0.055,2,   1.8660,2,     6.86,2,   8.209,2,   2252.9,2,  0.0070,   0.004,   0.040,   0.310
    06AQANTX_4,  SR04,   631,  1,      9,      9,2,19920719,1642,-63.4167, -43.5833, 3776,   2598.1,  -0.2219,  34.6579,2,  34.6561,2, -0.3675,    231.2,2,   123.37,2,    33.08,2,     0.01,2,     2.20,2,    0.332,2,    0.198,3, -999.000,9,   1.8650,2,     6.22,2,   8.211,2,   -999.0,9,  0.0070,-999.000,   0.040,   0.310
    06AQANTX_4,  SR04,   631,  1,      8,      8,2,19920719,1642,-63.4167, -43.5833, 3776,   2997.3,  -0.3269,  34.6495,2,  34.6492,2, -0.5023,    239.1,2,   117.63,2,    32.87,2,     0.01,2,     2.18,2,    0.679,4,    0.303,4,    0.072,2,   1.8790,2,     5.75,2,   8.249,2,   2248.5,2,  0.0070,   0.012,   0.040,   0.310
    06AQANTX_4,  SR04,   631,  1,      7,      7,2,19920719,1642,-63.4167, -43.5833, 3776,   3198.3,  -0.3541,  34.6522,2,  34.6530,2, -0.5458,    240.0,2,  -999.00,9,    32.87,2,     0.00,2,     2.18,2,    0.491,3,    0.313,2,    0.078,2,-999.0000,5,    -9.00,5,-999.000,5,   2247.7,2,-999.0000,   0.019,-999.000,-999.000
    06AQANTX_4,  SR04,   631,  1,      6,      6,2,19920719,1642,-63.4167, -43.5833, 3776,   3398.9,  -0.4479,  34.6474,2,  34.6275,4, -0.6548,    246.7,2,   112.89,2,    32.60,2,     0.00,2,     2.17,2,    1.096,2,    0.493,2,    0.090,2,   1.8690,2,     4.24,2,   8.245,2,   2244.8,2,  0.0070,   0.005,   0.040,   0.310
    06AQANTX_4,  SR04,   631,  1,      5,      5,2,19920719,1642,-63.4167, -43.5833, 3776,   3548.1,  -0.5291,  34.6381,2,  34.6226,4, -0.7472,    251.8,2,   109.29,2,    32.43,2,     0.00,2,     2.17,2,    1.327,2,    0.589,2, -999.000,9,   1.8750,2,     4.26,2,   8.306,2,   2244.0,2,  0.0070,-999.000,   0.041,   0.310
    06AQANTX_4,  SR04,   631,  1,      4,      4,2,19920719,1642,-63.4167, -43.5833, 3776,   3648.3,  -0.6062,  34.6339,2,  34.6351,2, -0.8313,    256.3,2,   105.68,2,    32.35,2,     0.01,2,     2.16,2,    1.646,2,    0.729,2,    0.131,2,   1.8560,2,     4.07,2,   8.224,2,   2241.1,2,  0.0070,   0.010,   0.040,   0.310
    06AQANTX_4,  SR04,   631,  1,      3,      3,2,19920719,1642,-63.4167, -43.5833, 3776,   3699.6,  -0.6591,  34.6304,2,  34.6232,4, -0.8874,    260.0,2,   102.37,2,    32.24,2,     0.01,2,     2.14,2,    1.884,2,    0.829,2,    0.172,2,   1.8620,2,     3.38,2,   8.240,2,   2242.0,2,  0.0070,   0.007,   0.040,   0.310
    06AQANTX_4,  SR04,   631,  1,      2,      2,2,19920719,1642,-63.4167, -43.5833, 3776,   3797.6,  -0.7386,  34.6273,2,  34.6116,4, -0.9737,    264.4,2,    98.49,2,    32.11,2,     0.01,2,     2.13,2,    2.177,2,    0.953,2,    0.154,2,   1.8730,2,     3.43,2,   8.328,2,   2240.8,2,  0.0070,   0.009,   0.041,   0.310
    06AQANTX_4,  SR04,   631,  1,      1,      1,2,19920719,1642,-63.4167, -43.5833, 3776,   3854.6,  -0.7913,  34.6237,2,  34.6231,2, -1.0302,    266.9,2,    95.91,2,    32.01,2,     0.01,2,     2.10,2,    2.398,2,    1.056,2,    0.159,2,   1.8760,2,     3.02,2,   8.310,2,   2238.5,2,  0.0070,   0.007,   0.041,   0.310
    06AQANTX_4,  SR04,   632,  1,     24,     24,2,19920720,1654,-62.9833, -43.3333, 3500,     10.8,  -1.8566,  34.2760,2,  34.3814,4, -1.8568,    303.1,2,    79.77,2,    29.31,2,     0.38,2,     2.01,2,    4.416,2,    2.005,2,    0.146,2,   1.8150,2,     0.62,2,   8.130,2,   -999.0,9,  0.0070,   0.017,   0.040,   0.310
    06AQANTX_4,  SR04,   632,  1,     23,     23,2,19920720,1654,-62.9833, -43.3333, 3500,     38.2,  -1.8593,  34.2806,2,  34.3823,4, -1.8600,    302.9,2,    79.50,2,    29.07,2,     0.37,2,     1.99,2,    4.625,2,    2.142,2,    0.116,2,   1.8320,2,     1.35,2,   8.260,2,   -999.0,9,  0.0070,   0.007,   0.040,   0.310
    06AQANTX_4,  SR04,   632,  1,     22,     22,2,19920720,1654,-62.9833, -43.3333, 3500,     78.2,  -1.8125,  34.2996,2,  34.2834,3, -1.8140,    301.4,2,    79.78,2,    29.34,2,     0.33,2,     1.97,2,    4.529,2,    2.056,2,    0.115,2,   1.8190,2,     0.89,2,   8.177,2,   -999.0,9,  0.0070,   0.007,   0.040,   0.310
    06AQANTX_4,  SR04,   632,  1,     21,     21,2,19920720,1654,-62.9833, -43.3333, 3500,    118.3,  -1.2407,  34.4531,2,  34.4315,3, -1.2437,    269.7,2,    84.39,2,    30.96,2,     0.08,2,     2.06,2,    3.375,2,    1.528,2,    0.081,2,   1.8290,2,     3.16,2,   8.171,2,   2223.6,2,  0.0070,   0.006,   0.040,   0.310
    06AQANTX_4,  SR04,   632,  1,     20,     20,2,19920720,1654,-62.9833, -43.3333, 3500,    178.1,  -0.7242,  34.5364,2,  34.5300,2, -0.7296,    247.4,2,    90.48,2,    32.12,2,     0.01,2,     2.11,2,    2.556,2,    1.142,2,    0.079,2,   1.8340,2,     4.51,2,   8.154,2,   2237.1,2,  0.0070,   0.005,   0.040,   0.310
    06AQANTX_4,  SR04,   632,  1,     19,     19,2,19920720,1654,-62.9833, -43.3333, 3500,    248.1,   0.0980,  34.6226,2,  34.5896,4,  0.0886,    222.0,2,   101.11,2,    32.92,2,     0.01,2,     2.18,2,    1.359,2,    0.633,2, -999.000,9,   1.8380,2,     6.51,2,   8.085,2,   2250.3,2,  0.0070,-999.000,   0.040,   0.310
    06AQANTX_4,  SR04,   632,  1,     18,     18,2,19920720,1654,-62.9833, -43.3333, 3500,    348.1,   0.3401,  34.6581,2,  34.6274,4,  0.3258,    209.1,2,   106.84,2,    33.12,2,     0.01,2,     2.19,2,    0.806,2,    0.370,2,    0.047,2,   1.8360,2,     7.92,2,   8.101,2,   2253.9,2,  0.0070,   0.006,   0.040,   0.310
    06AQANTX_4,  SR04,   632,  1,     17,     17,2,19920720,1654,-62.9833, -43.3333, 3500,    498.0,   0.4224,  34.6728,2,  34.6718,2,  0.4009,    204.1,2,   112.02,2,    33.42,2,     0.01,2,     2.21,2,    0.502,2,    0.222,2, -999.000,9,   1.8460,2,     8.23,2,   8.102,2,   -999.0,9,  0.0070,-999.000,   0.040,   0.310
    06AQANTX_4,  SR04,   632,  1,     16,     16,2,19920720,1654,-62.9833, -43.3333, 3500,    648.2,   0.4396,  34.6806,2,  34.6791,2,  0.4107,    201.2,2,   116.10,2,    33.63,2,     0.01,2,     2.23,2,    0.269,2,    0.127,2,    0.036,2,   1.9040,5,     8.30,5,   8.116,2,   2263.4,2,  0.0070,   0.007,   0.040,   0.310
    06AQANTX_4,  SR04,   632,  1,     15,     15,2,19920720,1654,-62.9833, -43.3333, 3500,    797.7,   0.4157,  34.6812,2,  34.6793,2,  0.3792,    202.0,2,   119.91,2,    33.75,2,     0.01,2,     2.23,2,    0.195,2,    0.092,2,    0.036,2,   1.8540,2,     8.35,2,   8.104,2,   2261.5,2,  0.0070,   0.006,   0.040,   0.310
    06AQANTX_4,  SR04,   632,  1,     14,     14,2,19920720,1654,-62.9833, -43.3333, 3500,    997.8,   0.3197,  34.6790,2,  34.6785,2,  0.2731,    205.4,2,   122.51,2,    33.79,2,     0.01,2,     2.23,2,    0.162,2,    0.078,2, -999.000,9,-999.0000,5,    -9.00,5,-999.000,5,   2261.7,2,-999.0000,-999.000,-999.000,-999.000
    06AQANTX_4,  SR04,   632,  1,     13,     13,2,19920720,1654,-62.9833, -43.3333, 3500,   1198.2,   0.2379,  34.6761,2,  34.6706,4,  0.1806,    206.9,2,   124.01,2,    33.83,2,     0.01,2,     2.23,2, -999.000,9, -999.000,9,    0.038,2,   1.9720,5,     7.57,5,   8.107,2,   2261.9,2,  0.0070,   0.006,   0.040,   0.310
    06AQANTX_4,  SR04,   632,  1,     12,     12,2,19920720,1654,-62.9833, -43.3333, 3500,   1497.9,   0.0925,  34.6683,2,  34.6325,4,  0.0188,   -999.0,9,   124.11,2,    33.62,2,     0.00,2,     2.22,2,    0.228,2,    0.112,2,    0.025,2,   1.8590,2,     7.30,2,   8.119,2,   2255.3,2,  0.0070,   0.004,   0.040,   0.310
    06AQANTX_4,  SR04,   632,  1,     11,     11,2,19920720,1654,-62.9833, -43.3333, 3500,   1795.9,  -0.0327,  34.6623,2,  34.6611,2, -0.1238,    222.6,2,   123.38,2,    33.19,2,     0.00,2,     2.21,2, -999.000,9, -999.000,9,    0.041,2,   1.8410,4,     6.94,2,   8.104,4,   2254.8,2,  0.0070,   0.009,   0.040,   0.310
    06AQANTX_4,  SR04,   632,  1,     10,     10,2,19920720,1654,-62.9833, -43.3333, 3500,   2198.1,  -0.1797,  34.6570,2,  34.6247,4, -0.2962,    230.9,2,   122.93,2,    32.73,2,     0.01,2,     2.21,2,    0.371,2,    0.190,2,    0.056,2,   1.8600,2,     5.87,2,   8.193,2,   2252.4,2,  0.0070,   0.007,   0.040,   0.310
    06AQANTX_4,  SR04,   632,  1,      9,      9,2,19920720,1654,-62.9833, -43.3333, 3500,   2597.9,  -0.3286,  34.6494,2,  34.6433,4, -0.4720,    239.5,2,   118.50,2,    32.77,2,     0.01,2,     2.19,2,    0.712,2,    0.387,3,    0.065,2,-999.0000,5,    -9.00,5,-999.000,5,   2248.6,2,-999.0000,   0.006,-999.000,-999.000
    06AQANTX_4,  SR04,   632,  1,      8,      8,2,19920720,1654,-62.9833, -43.3333, 3500,   2998.1,  -0.5346,  34.6355,2,  34.6341,2, -0.7053,    248.3,2,   108.50,2,    32.54,2,     0.01,2,     2.17,2,    1.377,2,    0.633,2,    0.082,2,   1.8770,2,     4.50,2,   8.282,2,   2243.7,2,  0.0070,   0.019,   0.041,   0.320
    06AQANTX_4,  SR04,   632,  1,      7,      7,2,19920720,1654,-62.9833, -43.3333, 3500,   3098.6,  -0.5692,  34.6316,2,  34.6587,4, -0.7473,    251.4,2,   106.56,2,    32.43,2,     0.01,2,     2.17,2,    1.567,2,    0.710,2,    0.067,2,-999.0000,5,    -9.00,5,-999.000,5,   2242.9,2,-999.0000,   0.017,-999.000,-999.000
    06AQANTX_4,  SR04,   632,  1,      6,      6,2,19920720,1654,-62.9833, -43.3333, 3500,   3198.4,  -0.5845,  34.6325,2,  34.6243,4, -0.7706,    253.7,2,   105.74,2,    32.37,2,     0.01,2,     2.15,2,    1.632,2,    0.755,2,    0.081,2,   1.8670,2,     4.48,2,   8.251,2,   -999.0,9,  0.0070,   0.010,   0.040,   0.310
    06AQANTX_4,  SR04,   632,  1,      5,      5,2,19920720,1654,-62.9833, -43.3333, 3500,   3298.6,  -0.5985,  34.6319,2,  34.6470,4, -0.7928,    252.1,2,   105.56,2,    32.41,2,     0.01,2,     2.15,2,    1.555,3,    0.699,3,    0.068,2,   1.8490,2,     4.05,2,   8.237,2,   2243.8,2,  0.0070,   0.005,   0.040,   0.310
    06AQANTX_4,  SR04,   632,  1,      4,      4,2,19920720,1654,-62.9833, -43.3333, 3500,   3398.6,  -0.6281,  34.6298,2,  34.6367,4, -0.8303,    256.3,2,   103.71,2,    32.39,2,     0.01,2,     2.12,2,    1.830,2,    0.844,2,    0.076,2,   1.8390,2,     4.10,2,   8.198,2,   2241.8,2,  0.0070,   0.005,   0.040,   0.310
    06AQANTX_4,  SR04,   632,  1,      3,      3,2,19920720,1654,-62.9833, -43.3333, 3500,   3469.9,  -0.6479,  34.6285,2,  34.6169,4, -0.8558,    257.8,2,   102.70,2,    32.28,2,     0.01,2,     2.11,2,    1.885,2,    0.848,2,    0.069,2,   1.8580,2,     4.25,2,   8.260,2,   2242.1,2,  0.0070,   0.007,   0.040,   0.310
    06AQANTX_4,  SR04,   632,  1,      2,      2,2,19920720,1654,-62.9833, -43.3333, 3500,   3519.1,  -0.6654,  34.6287,2,  34.5969,4, -0.8772,    259.0,2,   101.96,2,    32.20,2,     0.01,2,     2.12,2,    1.882,2,    0.891,2,    0.095,2,-999.0000,9,     3.78,2,-999.000,9,   -999.0,9,-999.0000,   0.013,-999.000,   0.310
    06AQANTX_4,  SR04,   632,  1,      1,      1,2,19920720,1654,-62.9833, -43.3333, 3500,   3572.9,  -0.7030,  34.6264,2,  34.6312,4, -0.9186,    259.3,2,   100.94,2,    32.19,2,     0.03,2,     2.10,2,    1.982,2,    0.911,2,    0.074,2,   1.8600,2,     3.52,2,   8.307,2,   2244.4,2,  0.0070,   0.005,   0.041,   0.310