BOTTLE,20061211WHPSIODBK
EXPOCODE,SECT_ID,STNNBR,CASTNO,SAMPNO,BTLNBR,BTLNBR_FLAG_W,DATE,TIME,LATITUDE,LONGITUDE,DEPTH,CTDPRS,CTDTMP,CTDSAL,CTDSAL_FLAG_W,SALNTY,SALNTY_FLAG_W,THETA,OXYGEN,OXYGEN_FLAG_W,SILCAT,SILCAT_FLAG_W,NITRAT,NITRAT_FLAG_W,NITRIT,NITRIT_FLAG_W,PHSPHT,PHSPHT_FLAG_W,CFC-11,CFC-11_FLAG_W,CFC-12,CFC-12_FLAG_W,TRITUM,TRITUM_FLAG_W,HELIUM,HELIUM_FLAG_W,DELHE3,DELHE3_FLAG_W,NEON,NEON_FLAG_W,TCARBN,TCARBN_FLAG_W,HELIER,TRITER,NEONER,DELHER
,,,,,,,,,,,,DBAR,ITS-90,PSS-78,,PSS-78,,DEG C,UMOL/KG,,UMOL/KG,,UMOL/KG,,UMOL/KG,,UMOL/KG,,PMOL/KG,,PMOL/KG,,TU,,NMOL/KG,,PERCNT,,NMOL/KG,,UMOL/KG,,NMOL/KG,TU,NMOL/KG,PERCNT
    06AQANTX_4,   A12,   546,  1,     23,     23,2,19920525,1656,-38.0500,  13.5500, 5168,     69.4,  14.8193,  35.1718,2,  35.1735,2, 14.8089,    249.6,2,     1.71,2,     2.59,2,     0.20,2,     0.37,2,    3.031,2,    1.536,2,    0.789,2,   1.7000,2,    -1.46,2,   7.027,2,   -999.0,9,  0.0060,   0.019,   0.034,   0.310
    06AQANTX_4,   A12,   546,  1,     24,     24,2,19920525,1656,-38.0500,  13.5500, 5168,     71.4,  14.8181,  35.1713,2,  35.1729,2, 14.8074,    250.6,2,     1.63,2,     2.61,2,     0.19,2,     0.37,2,    2.980,2,    1.502,2, -999.000,9,-999.0000,9,    -9.00,9,-999.000,9,   -999.0,9,-999.0000,-999.000,-999.000,-999.000
    06AQANTX_4,   A12,   546,  1,     22,     22,2,19920525,1656,-38.0500,  13.5500, 5168,    140.5,  13.7754,  35.0904,2,  35.0572,4, 13.7553,    243.0,2,     2.04,2,     5.48,2,     0.11,2,     0.54,2,    3.097,2,    1.518,2, -999.000,9,   1.9340,4,    -0.88,2,   7.237,2,   -999.0,9,  0.0070,-999.000,   0.035,   0.310
    06AQANTX_4,   A12,   546,  1,     21,     21,2,19920525,1656,-38.0500,  13.5500, 5168,    220.6,  12.7777,  34.9817,2,  34.9711,3, 12.7477,    241.1,2,     2.21,2,     7.30,2,     0.03,2,     0.64,2,    3.147,2,    1.543,2,    0.623,2,   1.7550,2,    -0.92,2,   7.392,2,   -999.0,9,  0.0060,   0.016,   0.036,   0.310
    06AQANTX_4,   A12,   546,  1,     20,     20,2,19920525,1656,-38.0500,  13.5500, 5168,    301.2,  11.7781,  34.9556,2,  34.9549,2, 11.7391,    230.2,2,     4.28,2,    11.52,2,     0.03,2,     0.87,2,    2.794,2,    1.350,2,    0.582,2,   1.7390,2,     0.21,2,   7.369,2,   -999.0,9,  0.0060,   0.016,   0.036,   0.310
    06AQANTX_4,   A12,   546,  1,     19,     19,2,19920525,1656,-38.0500,  13.5500, 5168,    400.7,  10.2592,  34.7878,2,  34.7860,2, 10.2116,    226.8,2,     5.05,2,    15.06,2,     0.04,2,     1.10,2,    2.742,2,    1.312,2,    0.495,2,   2.0790,4,     0.29,2,   7.469,2,   -999.0,9,  0.0070,   0.031,   0.037,   0.310
    06AQANTX_4,   A12,   546,  1,     18,     18,2,19920525,1656,-38.0500,  13.5500, 5168,    500.2,   8.6177,  34.6346,2,  34.6336,2,  8.5641,    215.0,2,    11.12,2,    20.74,2,     0.04,2,     1.47,2,    2.027,2,    0.989,2,    0.342,2,-999.0000,5,    -9.00,5,-999.000,5,   -999.0,9,-999.0000,   0.042,-999.000,-999.000
    06AQANTX_4,   A12,   546,  1,     17,     17,2,19920525,1656,-38.0500,  13.5500, 5168,    602.7,   7.0417,  34.4881,2,  34.4878,2,  6.9839,    214.6,2,    15.36,2,    24.84,2,     0.04,2,     1.76,2,    1.882,2,    0.999,3,    0.300,2,-999.0000,5,    -9.00,5,-999.000,5,   -999.0,9,-999.0000,   0.073,-999.000,-999.000
    06AQANTX_4,   A12,   546,  1,     16,     16,2,19920525,1656,-38.0500,  13.5500, 5168,    702.2,   5.8220,  34.3915,2,  34.3907,2,  5.7608,    222.2,2,    20.12,2,    27.54,2,     0.04,2,     1.92,2,    1.735,2,    0.832,2,    0.174,2,   1.7660,2,     1.23,2,   7.687,2,   -999.0,9,  0.0060,   0.019,   0.038,   0.310
    06AQANTX_4,   A12,   546,  1,     15,     15,2,19920525,1656,-38.0500,  13.5500, 5168,    854.1,   4.3821,  34.3096,2,  34.3108,2,  4.3162,    232.3,2,    27.13,2,    30.15,2,     0.04,2,     2.08,2,    1.680,2,    0.792,2,    0.137,2,   1.7820,2,     1.33,2,   7.759,2,   -999.0,9,  0.0060,   0.006,   0.038,   0.310
    06AQANTX_4,   A12,   546,  1,     14,     14,2,19920525,1656,-38.0500,  13.5500, 5168,   1002.5,   3.6439,  34.3425,2,  34.3442,2,  3.5711,    215.7,2,    39.35,2,    32.58,2,     0.03,2,     2.25,2,    1.017,2,    0.479,2,    0.088,2,-999.0000,5,    -9.00,5,-999.000,5,   -999.0,9,-999.0000,   0.016,-999.000,-999.000
    06AQANTX_4,   A12,   546,  1,     13,     13,2,19920525,1656,-38.0500,  13.5500, 5168,   1200.8,   3.1362,  34.4399,2,  34.4402,2,  3.0517,    195.1,2,    55.22,2,    34.60,2,     0.04,2,     2.36,2,    0.479,2,    0.243,2, -999.000,9,   1.7920,2,     2.66,2,   7.842,2,   -999.0,9,  0.0070,-999.000,   0.038,   0.310
    06AQANTX_4,   A12,   546,  1,     12,     12,2,19920525,1656,-38.0500,  13.5500, 5168,   1500.7,   2.8307,  34.6167,2,  34.6170,2,  2.7247,    185.5,2,    67.34,2,    33.81,2,     0.03,2,     2.30,2,    0.120,2,    0.069,3,    0.030,2,-999.0000,5,    -9.00,5,-999.000,5,   -999.0,9,-999.0000,   0.012,-999.000,-999.000
    06AQANTX_4,   A12,   546,  1,     11,     11,2,19920525,1656,-38.0500,  13.5500, 5168,   1801.7,   2.7702,  34.7422,2,  34.7442,2,  2.6393,    202.9,2,    61.78,2,    30.25,2,     0.02,2,     2.03,2,    0.044,2,    0.035,3,    0.024,2,   1.8250,2,     7.16,2,   7.937,2,   -999.0,9,  0.0070,   0.003,   0.039,   0.310
    06AQANTX_4,   A12,   546,  1,     10,     10,2,19920525,1656,-38.0500,  13.5500, 5168,   2201.3,   2.6415,  34.8143,2,  34.8164,2,  2.4768,    222.1,2,    56.74,2,    27.43,2,     0.02,2,     1.81,2,    0.039,2,   -0.005,4,    0.042,2,   1.8210,2,     6.34,2,   7.937,2,   -999.0,9,  0.0070,   0.003,   0.039,   0.310
    06AQANTX_4,   A12,   546,  1,      9,      9,2,19920525,1656,-38.0500,  13.5500, 5168,   2599.1,   2.4739,  34.8347,2,  34.8357,2,  2.2748,    231.4,2,    57.78,2,    26.35,2,     0.03,2,     1.75,2,    0.034,2,    0.015,2,    0.011,2,   1.8290,2,     6.13,2,   8.017,2,   -999.0,9,  0.0070,   0.003,   0.039,   0.310
    06AQANTX_4,   A12,   546,  1,      8,      8,2,19920525,1656,-38.0500,  13.5500, 5168,   3199.5,   2.2416,  34.8453,2,  34.8468,2,  1.9877,    238.3,2,    61.49,2,    26.02,2,     0.03,2,     1.72,2,    0.020,2,    0.017,3,    0.020,2,-999.0000,5,    -9.00,5,-999.000,5,   -999.0,9,-999.0000,   0.004,-999.000,-999.000
    06AQANTX_4,   A12,   546,  1,      6,      6,2,19920525,1656,-38.0500,  13.5500, 5168,   3800.0,   1.5670,  34.7786,2,  34.7802,2,  1.2674,    229.5,2,    89.68,2,    29.49,2,     0.02,2,     1.97,2,    0.022,3,    0.017,3,    0.046,2,   1.8750,2,     6.53,2,   8.080,2,   -999.0,9,  0.0070,   0.003,   0.040,   0.310
    06AQANTX_4,   A12,   546,  1,      7,      7,2,19920525,1656,-38.0500,  13.5500, 5168,   3802.1,   1.5662,  34.7786,2,  34.7802,2,  1.2664,    229.2,2,    89.33,2,    29.54,2,     0.02,2,     1.96,2,    0.016,2,    0.018,3, -999.000,9,-999.0000,9,    -9.00,9,-999.000,9,   -999.0,9,-999.0000,-999.000,-999.000,-999.000
    06AQANTX_4,   A12,   546,  1,      5,      5,2,19920525,1656,-38.0500,  13.5500, 5168,   4200.5,   1.2277,  34.7467,2,  34.7494,2,  0.8945,    226.3,2,   103.04,2,    31.22,2,     0.02,2,     2.08,2,    0.022,2,    0.021,3,   -0.001,2,-999.0000,5,    -9.00,5,-999.000,5,   -999.0,9,-999.0000,   0.002,-999.000,-999.000
    06AQANTX_4,   A12,   546,  1,      4,      4,2,19920525,1656,-38.0500,  13.5500, 5168,   4602.3,   1.1019,  34.7325,2,  34.7366,4,  0.7276,    225.5,2,   108.85,2,    31.88,2,     0.03,2,     2.15,2,    0.059,3,    0.019,2,    0.052,2,   1.8720,2,     7.48,2,   8.165,2,   -999.0,9,  0.0070,   0.004,   0.040,   0.310
    06AQANTX_4,   A12,   546,  1,      3,      3,2,19920525,1656,-38.0500,  13.5500, 5168,   4901.7,   1.0846,  34.7282,2,  34.7292,2,  0.6761,    225.8,2,   110.49,2,    31.99,2,     0.01,2,     2.15,2, -999.000,9, -999.000,9,    0.013,2,   0.5920,4,    21.59,4,   2.367,4,   -999.0,9,  0.0020,   0.002,   0.012,   0.310
    06AQANTX_4,   A12,   546,  1,      1,      1,2,19920525,1656,-38.0500,  13.5500, 5168,   5147.2,   1.0724,  34.7248,2,  34.7261,2,  0.6350,    225.8,2,   111.70,2,    32.19,2,     0.03,2,     2.16,2, -999.000,9, -999.000,9,    0.007,2,   1.8110,2,     6.20,2,   7.867,2,   -999.0,9,  0.0070,   0.002,   0.039,   0.320
    06AQANTX_4,   A12,   546,  1,      2,      2,2,19920525,1656,-38.0500,  13.5500, 5168,   5154.9,   1.0737,  34.7241,2,  34.7247,2,  0.6353,   -999.0,9,   111.79,2,    32.26,2,     0.01,2,     2.17,2, -999.000,9, -999.000,9,    0.041,2,-999.0000,9,    -9.00,9,-999.000,9,   -999.0,9,-999.0000,   0.003,-999.000,-999.000
    06AQANTX_4,   A12,   547,  1,     24,     24,2,19920526,0251,-38.5333,  12.9833, 5054,     20.4,  17.0506,  35.4911,2,  35.4900,2, 17.0472,    242.1,2,     1.69,2,     2.41,2,     0.31,2,     0.32,2,    2.578,3,    1.368,3, -999.000,9,-999.0000,9,    -9.00,9,-999.000,9,   -999.0,9,-999.0000,-999.000,-999.000,-999.000
    06AQANTX_4,   A12,   547,  1,     23,     23,2,19920526,0251,-38.5333,  12.9833, 5054,     67.6,  17.0116,  35.4798,2,  35.4909,2, 17.0004,    242.2,2,     1.69,2,     2.47,2,     0.30,2,     0.35,2,    2.627,3,    1.489,2, -999.000,9,-999.0000,9,    -9.00,9,-999.000,9,   -999.0,9,-999.0000,-999.000,-999.000,-999.000
    06AQANTX_4,   A12,   547,  1,     22,     22,2,19920526,0251,-38.5333,  12.9833, 5054,    138.4,  14.0983,  35.2066,2,  35.1977,2, 14.0782,    225.0,2,     2.48,2,     7.31,2,     0.04,2,     0.65,2,    2.670,2,    1.299,2, -999.000,9,-999.0000,9,    -9.00,9,-999.000,9,   -999.0,9,-999.0000,-999.000,-999.000,-999.000
    06AQANTX_4,   A12,   547,  1,     21,     21,2,19920526,0251,-38.5333,  12.9833, 5054,    220.3,  12.0829,  35.0513,2,-999.0000,9, 12.0540,    219.6,2,     5.20,2,    12.68,2,     0.04,2,     0.97,2,    2.413,2,    3.723,4, -999.000,9,-999.0000,9,    -9.00,9,-999.000,9,   -999.0,9,-999.0000,-999.000,-999.000,-999.000
    06AQANTX_4,   A12,   547,  1,     20,     20,2,19920526,0251,-38.5333,  12.9833, 5054,    298.5,  10.7891,  34.8884,2,  34.8909,2, 10.7526,    219.1,2,     6.33,2,    15.45,2,     0.04,2,     1.15,2,    2.012,2,    0.974,2, -999.000,9,-999.0000,9,    -9.00,9,-999.000,9,   -999.0,9,-999.0000,-999.000,-999.000,-999.000
    06AQANTX_4,   A12,   547,  1,     19,     19,2,19920526,0251,-38.5333,  12.9833, 5054,    401.0,   9.4023,  34.7360,2,  34.7364,2,  9.3572,    211.6,2,    10.33,2,    19.56,2,     0.03,2,     1.39,2,    1.542,2,    0.751,2, -999.000,9,-999.0000,9,    -9.00,9,-999.000,9,   -999.0,9,-999.0000,-999.000,-999.000,-999.000
    06AQANTX_4,   A12,   547,  1,     18,     18,2,19920526,0251,-38.5333,  12.9833, 5054,    499.4,   8.0178,  34.6116,2,  34.6074,2,  7.9665,    205.7,2,    15.80,2,    23.81,2,     0.04,2,     1.66,2,    1.425,2,    0.705,2, -999.000,9,-999.0000,9,    -9.00,9,-999.000,9,   -999.0,9,-999.0000,-999.000,-999.000,-999.000
    06AQANTX_4,   A12,   547,  1,     17,     17,2,19920526,0251,-38.5333,  12.9833, 5054,    602.3,   6.6160,  34.4881,2,  34.4912,2,  6.5602,    207.6,2,    21.05,2,    27.16,2,     0.04,2,     1.89,2,    1.440,2,    0.685,2, -999.000,9,-999.0000,9,    -9.00,9,-999.000,9,   -999.0,9,-999.0000,-999.000,-999.000,-999.000
    06AQANTX_4,   A12,   547,  1,     16,     16,2,19920526,0251,-38.5333,  12.9833, 5054,    701.5,   5.7879,  34.4728,2,  34.4749,2,  5.7268,    199.7,2,    30.68,2,    29.87,2,     0.03,2,     2.05,2,    1.016,2,    0.497,2, -999.000,9,-999.0000,9,    -9.00,9,-999.000,9,   -999.0,9,-999.0000,-999.000,-999.000,-999.000
    06AQANTX_4,   A12,   547,  1,     15,     15,2,19920526,0251,-38.5333,  12.9833, 5054,    800.0,   4.8215,  34.4167,2,  34.4185,2,  4.7573,    204.1,2,    36.00,2,    31.58,2,     0.03,2,     2.19,2,    1.082,2,    0.529,2, -999.000,9,-999.0000,9,    -9.00,9,-999.000,9,   -999.0,9,-999.0000,-999.000,-999.000,-999.000
    06AQANTX_4,   A12,   547,  1,     14,     14,2,19920526,0251,-38.5333,  12.9833, 5054,    851.0,   4.5840,  34.4232,2,  34.4237,2,  4.5169,    200.6,2,    39.64,2,    32.12,2,     0.03,2,     2.26,2,    0.969,2,    0.699,4, -999.000,9,-999.0000,9,    -9.00,9,-999.000,9,   -999.0,9,-999.0000,-999.000,-999.000,-999.000
    06AQANTX_4,   A12,   547,  1,     13,     13,2,19920526,0251,-38.5333,  12.9833, 5054,   1002.5,   3.9604,  34.4758,2,  34.4758,2,  3.8850,    188.8,2,    52.65,2,    34.16,2,     0.03,2,     2.39,2,    0.562,2,    0.283,2, -999.000,9,-999.0000,9,    -9.00,9,-999.000,9,   -999.0,9,-999.0000,-999.000,-999.000,-999.000
    06AQANTX_4,   A12,   547,  1,     12,     12,2,19920526,0251,-38.5333,  12.9833, 5054,   1200.6,   3.2115,  34.5199,2,  34.5189,2,  3.1262,    181.6,2,    62.46,2,    34.98,2,     0.04,2,     2.45,2,    0.325,2,    0.163,2, -999.000,9,-999.0000,9,    -9.00,9,-999.000,9,   -999.0,9,-999.0000,-999.000,-999.000,-999.000
    06AQANTX_4,   A12,   547,  1,     11,     11,2,19920526,0251,-38.5333,  12.9833, 5054,   1501.6,   2.7481,  34.6396,2,  34.6380,2,  2.6430,    187.0,2,    67.15,2,    33.32,2,     0.04,2,     2.34,2,    0.099,2,    0.063,3, -999.000,9,-999.0000,9,    -9.00,9,-999.000,9,   -999.0,9,-999.0000,-999.000,-999.000,-999.000
    06AQANTX_4,   A12,   547,  1,     10,     10,2,19920526,0251,-38.5333,  12.9833, 5054,   1800.1,   2.7597,  34.7590,2,  34.7589,2,  2.6290,    206.6,2,    58.88,2,    29.67,2,     0.04,2,     2.06,2,    0.047,2,    0.022,2, -999.000,9,-999.0000,9,    -9.00,9,-999.000,9,   -999.0,9,-999.0000,-999.000,-999.000,-999.000
    06AQANTX_4,   A12,   547,  1,      9,      9,2,19920526,0251,-38.5333,  12.9833, 5054,   2200.3,   2.6085,  34.8205,2,  34.8208,2,  2.4444,    224.2,2,    55.50,2,    27.14,2,     0.04,2,     1.87,2,    0.081,4,    0.025,4, -999.000,9,-999.0000,9,    -9.00,9,-999.000,9,   -999.0,9,-999.0000,-999.000,-999.000,-999.000
    06AQANTX_4,   A12,   547,  1,      8,      8,2,19920526,0251,-38.5333,  12.9833, 5054,   2600.9,   2.4565,  34.8381,2,  34.8373,2,  2.2575,    233.9,2,    56.42,2,    26.07,2,     0.04,2,     1.82,2,    0.015,2,    0.011,3, -999.000,9,-999.0000,9,    -9.00,9,-999.000,9,   -999.0,9,-999.0000,-999.000,-999.000,-999.000
    06AQANTX_4,   A12,   547,  1,      7,      7,2,19920526,0251,-38.5333,  12.9833, 5054,   3001.6,   2.2997,  34.8426,2,  34.8417,2,  2.0646,    236.5,2,    59.36,2,    25.85,2,     0.04,2,     1.80,2,    0.070,4,    0.026,4, -999.000,9,-999.0000,9,    -9.00,9,-999.000,9,   -999.0,9,-999.0000,-999.000,-999.000,-999.000
    06AQANTX_4,   A12,   547,  1,      6,      6,2,19920526,0251,-38.5333,  12.9833, 5054,   3400.8,   2.1044,  34.8311,2,  34.8302,2,  1.8329,   -999.0,9,    66.62,2,    26.49,2,     0.04,2,     1.85,2,    0.022,3,    0.015,3, -999.000,9,-999.0000,9,    -9.00,9,-999.000,9,   -999.0,9,-999.0000,-999.000,-999.000,-999.000
    06AQANTX_4,   A12,   547,  1,      5,      5,2,19920526,0251,-38.5333,  12.9833, 5054,   3801.1,   1.7169,  34.7925,2,  34.7911,2,  1.4131,    234.9,2,    83.44,2,    28.57,2,     0.05,2,     1.91,2,    0.010,3,    0.010,2, -999.000,9,-999.0000,9,    -9.00,9,-999.000,9,   -999.0,9,-999.0000,-999.000,-999.000,-999.000
    06AQANTX_4,   A12,   547,  1,      4,      4,2,19920526,0251,-38.5333,  12.9833, 5054,   4201.1,   1.2485,  34.7496,2,  34.7488,2,  0.9146,    229.8,2,   101.17,2,    30.73,2,     0.04,2,     2.11,2,    0.015,3,    0.015,3, -999.000,9,-999.0000,9,    -9.00,9,-999.000,9,   -999.0,9,-999.0000,-999.000,-999.000,-999.000
    06AQANTX_4,   A12,   547,  1,      3,      3,2,19920526,0251,-38.5333,  12.9833, 5054,   4600.8,   1.1070,  34.7334,2,  34.7346,2,  0.7327,    227.7,2,   107.99,2,    31.62,2,     0.05,2,     2.18,2,    0.021,3,    0.019,3, -999.000,9,-999.0000,9,    -9.00,9,-999.000,9,   -999.0,9,-999.0000,-999.000,-999.000,-999.000
    06AQANTX_4,   A12,   547,  1,      2,      2,2,19920526,0251,-38.5333,  12.9833, 5054,   4874.6,   1.0865,  34.7287,2,  34.7284,2,  0.6811,    226.9,2,   109.59,2,    32.00,2,     0.03,2,     2.18,2,    0.026,2,    0.019,2, -999.000,9,-999.0000,9,    -9.00,9,-999.000,9,   -999.0,9,-999.0000,-999.000,-999.000,-999.000
    06AQANTX_4,   A12,   547,  1,      1,      1,2,19920526,0251,-38.5333,  12.9833, 5054,   5140.9,   1.0353,  34.7226,2,  34.7216,2,  0.5999,    228.2,2,   112.05,2,    32.35,2,     0.04,2,     2.17,2,    0.036,2,    0.019,2, -999.000,9,-999.0000,9,    -9.00,9,-999.000,9,   -999.0,9,-999.0000,-999.000,-999.000,-999.000