BOTTLE,20061211WHPSIODBK
EXPOCODE,SECT_ID,STNNBR,CASTNO,SAMPNO,BTLNBR,BTLNBR_FLAG_W,DATE,TIME,LATITUDE,LONGITUDE,DEPTH,CTDPRS,CTDTMP,CTDSAL,CTDSAL_FLAG_W,SALNTY,SALNTY_FLAG_W,THETA,OXYGEN,OXYGEN_FLAG_W,SILCAT,SILCAT_FLAG_W,NITRAT,NITRAT_FLAG_W,NITRIT,NITRIT_FLAG_W,PHSPHT,PHSPHT_FLAG_W,CFC-11,CFC-11_FLAG_W,CFC-12,CFC-12_FLAG_W,TRITUM,TRITUM_FLAG_W,HELIUM,HELIUM_FLAG_W,DELHE3,DELHE3_FLAG_W,NEON,NEON_FLAG_W,TCARBN,TCARBN_FLAG_W,HELIER,TRITER,NEONER,DELHER
,,,,,,,,,,,,DBAR,ITS-90,PSS-78,,PSS-78,,DEG C,UMOL/KG,,UMOL/KG,,UMOL/KG,,UMOL/KG,,UMOL/KG,,PMOL/KG,,PMOL/KG,,TU,,NMOL/KG,,PERCNT,,NMOL/KG,,UMOL/KG,,NMOL/KG,TU,NMOL/KG,PERCNT
    06AQANTX_4,   A12,   571,  1,     24,     24,2,19920604,0005,-49.9833,   0.0333, 3509,     24.5,   2.8885,  33.9217,2,  33.9218,2,  2.8871,    325.6,2,     8.00,2,    21.88,2,     0.24,2,     1.50,2,    5.338,2,    2.586,2,    0.153,2,-999.0000,5,    -9.00,5,-999.000,5,   -999.0,9,-999.0000,   0.007,-999.000,-999.000
    06AQANTX_4,   A12,   571,  1,     23,     23,2,19920604,0005,-49.9833,   0.0333, 3509,     49.8,   2.5628,  33.9438,2,  33.9380,2,  2.5600,    324.1,2,    10.84,2,    22.83,2,     0.21,2,     1.57,2,    5.400,2,    2.612,2,    0.135,2,-999.0000,5,    -9.00,5,-999.000,5,   -999.0,9,-999.0000,   0.006,-999.000,-999.000
    06AQANTX_4,   A12,   571,  1,     22,     22,2,19920604,0005,-49.9833,   0.0333, 3509,     75.6,   2.3681,  33.9379,2,  33.9375,2,  2.3640,    326.7,2,    11.33,2,    22.95,2,     0.21,2,     1.59,2,    5.438,2,    2.609,2,    0.152,2,-999.0000,5,    -9.00,5,-999.000,5,   -999.0,9,-999.0000,   0.007,-999.000,-999.000
    06AQANTX_4,   A12,   571,  1,     21,     21,2,19920604,0005,-49.9833,   0.0333, 3509,    100.2,   2.2173,  33.9356,2,  33.9364,2,  2.2120,    329.0,2,    11.71,2,    22.77,2,     0.21,2,     1.59,2,    5.554,2,    2.681,2, -999.000,9,   1.7840,2,    -1.14,2,   7.970,2,   -999.0,9,  0.0060,-999.000,   0.039,   0.310
    06AQANTX_4,   A12,   571,  1,     20,     20,2,19920604,0005,-49.9833,   0.0333, 3509,    149.6,   1.9295,  34.0678,2,  34.0753,2,  1.9218,    294.3,2,    24.38,2,    28.36,2,     0.08,2,     1.92,2,    4.733,2,    2.257,2,    0.108,2,   1.7810,2,    -0.52,2,   7.924,2,   -999.0,9,  0.0060,   0.015,   0.039,   0.310
    06AQANTX_4,   A12,   571,  1,     19,     19,2,19920604,0005,-49.9833,   0.0333, 3509,    199.0,   1.8173,  34.1291,2,  34.1263,2,  1.8071,    280.4,2,    30.31,2,    30.10,2,     0.06,2,     2.02,2,    4.113,2,    1.929,2,    0.096,2,-999.0000,5,    -9.00,5,-999.000,5,   -999.0,9,-999.0000,   0.016,-999.000,-999.000
    06AQANTX_4,   A12,   571,  1,     18,     18,2,19920604,0005,-49.9833,   0.0333, 3509,    249.4,   1.8526,  34.1951,2,  34.1971,2,  1.8396,    260.7,2,    37.67,2,    31.76,2,     0.06,2,     2.12,2,    3.233,2,    1.509,2, -999.000,9,-999.0000,5,    -9.00,5,-999.000,5,   -999.0,9,-999.0000,-999.000,-999.000,-999.000
    06AQANTX_4,   A12,   571,  1,     17,     17,2,19920604,0005,-49.9833,   0.0333, 3509,    299.8,   1.8739,  34.2398,2,  34.2394,2,  1.8581,    243.2,2,    42.03,2,    32.49,2,     0.06,2,     2.17,2,    2.783,2,    1.291,2,    0.085,2,-999.0000,5,    -9.00,5,-999.000,5,   -999.0,9,-999.0000,   0.005,-999.000,-999.000
    06AQANTX_4,   A12,   571,  1,     16,     16,2,19920604,0005,-49.9833,   0.0333, 3509,    398.1,   2.0092,  34.3149,2,  34.3233,2,  1.9874,    216.8,2,    51.78,2,    33.60,2,     0.06,2,     2.25,2,    1.874,2,    0.856,2, -999.000,9,   1.3370,4,     4.83,4,   5.902,4,   -999.0,9,  0.0050,-999.000,   0.029,   0.310
    06AQANTX_4,   A12,   571,  1,     15,     15,2,19920604,0005,-49.9833,   0.0333, 3509,    498.5,   2.1863,  34.4332,2,  34.4294,2,  2.1578,    192.1,2,    62.51,2,    34.66,2,     0.05,2,     2.30,2,    1.064,2,    0.485,2, -999.000,9,   1.8130,2,     7.14,2,   7.928,2,   -999.0,9,  0.0070,-999.000,   0.039,   0.310
    06AQANTX_4,   A12,   571,  1,     14,     14,2,19920604,0005,-49.9833,   0.0333, 3509,    598.6,   2.2123,  34.4902,2,  34.4877,2,  2.1774,    183.4,2,    67.57,2,    34.41,2,     0.05,2,     2.31,2,    0.751,2,    0.356,2, -999.000,9,   1.8220,2,     8.10,2,   7.985,2,   -999.0,9,  0.0070,-999.000,   0.039,   0.310
    06AQANTX_4,   A12,   571,  1,     13,     13,2,19920604,0005,-49.9833,   0.0333, 3509,    698.0,   2.2453,  34.5520,2,  34.5516,2,  2.2037,   -999.0,9,    71.72,2,    34.27,2,     0.05,2,     2.28,2,    0.495,2,    0.232,2,    0.024,2,   1.8170,2,     8.86,2,   7.986,2,   -999.0,9,  0.0070,   0.004,   0.039,   0.310
    06AQANTX_4,   A12,   571,  1,     12,     12,2,19920604,0005,-49.9833,   0.0333, 3509,    798.2,   2.2594,  34.6023,2,  34.6003,2,  2.2111,    183.3,2,    74.43,2,    33.74,2,     0.05,2,     2.23,2,    0.418,3,    0.255,4,    0.017,2,-999.0000,5,    -9.00,5,-999.000,5,   -999.0,9,-999.0000,   0.042,-999.000,-999.000
    06AQANTX_4,   A12,   571,  1,     11,     11,2,19920604,0005,-49.9833,   0.0333, 3509,    900.2,   2.2599,  34.6318,2,  34.6265,4,  2.2046,   -999.0,9,    75.92,2,    33.04,2,     0.04,2,     2.21,2,    0.282,2,    0.166,3,    0.028,2,   1.6920,4,    10.13,4,   7.361,4,   -999.0,9,  0.0060,   0.105,   0.036,   0.310
    06AQANTX_4,   A12,   571,  1,     10,     10,2,19920604,0005,-49.9833,   0.0333, 3509,    998.4,   2.2523,  34.6659,2,  34.6643,2,  2.1902,    180.7,2,    76.89,2,    32.63,2,     0.04,2,     2.16,2,    0.206,2,    0.115,3, -999.000,9,-999.0000,5,    -9.00,5,-999.000,5,   -999.0,9,-999.0000,-999.000,-999.000,-999.000
    06AQANTX_4,   A12,   571,  1,      9,      9,2,19920604,0005,-49.9833,   0.0333, 3509,   1200.4,   2.1099,  34.7061,2,  34.7050,2,  2.0345,    186.5,2,    80.14,2,    31.60,2,     0.04,2,     2.11,2,    0.166,2,    0.076,2,    0.014,2,   1.8390,2,    10.71,2,   8.009,2,   -999.0,9,  0.0070,   0.003,   0.039,   0.310
    06AQANTX_4,   A12,   571,  1,      8,      8,2,19920604,0005,-49.9833,   0.0333, 3509,   1498.3,   1.9231,  34.7378,2,  34.7414,2,  1.8275,    197.3,2,    82.81,2,    30.51,2,     0.03,2,     2.02,2,    0.182,4,    0.134,4,    0.023,2,-999.0000,5,    -9.00,5,-999.000,5,   -999.0,9,-999.0000,   0.003,-999.000,-999.000
    06AQANTX_4,   A12,   571,  1,      7,      7,2,19920604,0005,-49.9833,   0.0333, 3509,   1799.2,   1.7018,  34.7479,2,  34.7477,2,  1.5858,    204.9,2,    86.97,2,    30.26,2,     0.02,2,     2.00,2,    0.127,2,    0.060,2,    0.013,2,-999.0000,5,    -9.00,5,-999.000,5,   -999.0,9,-999.0000,   0.005,-999.000,-999.000
    06AQANTX_4,   A12,   571,  1,      6,      6,2,19920604,0005,-49.9833,   0.0333, 3509,   2098.4,   1.3548,  34.7303,2,  34.7272,2,  1.2201,    206.8,2,  -999.00,9,  -999.00,9,     0.02,2,  -999.00,9,    0.127,2,    0.063,2,    0.011,2,   1.9980,4,     9.23,2,   8.049,2,   -999.0,9,  0.0070,   0.215,   0.039,   0.310
    06AQANTX_4,   A12,   571,  1,      5,      5,2,19920604,0005,-49.9833,   0.0333, 3509,   2498.7,   0.9632,  34.7116,2,  34.7117,2,  0.8024,    211.0,2,   106.90,2,    31.60,2,     0.02,2,     2.12,2,    0.147,2,    0.077,2,    0.012,2,-999.0000,5,    -9.00,5,-999.000,5,   -999.0,9,-999.0000,   0.004,-999.000,-999.000
    06AQANTX_4,   A12,   571,  1,      4,      4,2,19920604,0005,-49.9833,   0.0333, 3509,   2800.0,   0.7103,  34.6967,2,  34.6895,4,  0.5288,    213.9,2,   113.39,2,    32.56,2,     0.02,2,     2.15,2,    0.171,2,    0.095,3,    0.025,2,   1.8440,2,     3.93,4,   8.071,2,   -999.0,9,  0.0070,   0.003,   0.040,   0.310
    06AQANTX_4,   A12,   571,  1,      3,      3,2,19920604,0005,-49.9833,   0.0333, 3509,   3200.2,   0.5079,  34.6856,2,  34.6844,2,  0.2952,    217.4,2,   118.38,2,    33.05,2,     0.02,2,     2.17,2,    0.179,2,    0.100,3,    0.016,2,   1.8470,2,     9.02,2,   8.196,4,   -999.0,9,  0.0070,   0.003,   0.040,   0.310
    06AQANTX_4,   A12,   571,  1,      2,      2,2,19920604,0005,-49.9833,   0.0333, 3509,   3480.2,   0.4839,  34.6828,2,  34.6756,4,  0.2456,    217.7,2,   121.85,2,    32.76,2,     0.03,2,     2.17,2,    0.192,2,    0.108,3,    0.014,2,   1.8490,2,     8.11,2,   8.135,2,   -999.0,9,  0.0070,   0.229,   0.040,   0.310
    06AQANTX_4,   A12,   571,  1,      1,      1,2,19920604,0005,-49.9833,   0.0333, 3509,   3573.1,   0.4918,  34.6832,2,  34.6791,4,  0.2444,    219.1,2,   122.03,2,    32.81,2,     0.03,2,     2.18,2,    0.195,2,    0.109,3, -999.000,9,   1.8380,2,     8.61,2,   8.102,2,   -999.0,9,  0.0070,-999.000,   0.040,   0.310
    06AQANTX_4,   A12,   572,  1,     24,     24,2,19920605,0644,-50.4833,   0.0000, 3362,     20.1,   1.9581,  33.9295,2,  33.9319,2,  1.9571,    331.1,2,    16.90,2,    23.29,2,  -999.00,9,     1.65,2,    5.584,2,    2.689,2, -999.000,9,-999.0000,9,    -9.00,9,-999.000,9,   2137.0,2,-999.0000,-999.000,-999.000,-999.000
    06AQANTX_4,   A12,   572,  1,     23,     23,2,19920605,0644,-50.4833,   0.0000, 3362,     28.7,   1.9572,  33.9289,2,  33.9296,2,  1.9558,    330.6,2,    17.41,2,    23.14,2,  -999.00,9,     1.67,2, -999.000,9, -999.000,9, -999.000,9,-999.0000,9,    -9.00,9,-999.000,9,   2138.8,2,-999.0000,-999.000,-999.000,-999.000
    06AQANTX_4,   A12,   572,  1,     22,     22,2,19920605,0644,-50.4833,   0.0000, 3362,     48.1,   1.9969,  33.9363,2,  33.9357,2,  1.9944,    329.5,2,    16.62,2,    23.19,2,  -999.00,9,     1.72,2,    5.548,2,    2.668,2, -999.000,9,-999.0000,9,    -9.00,9,-999.000,9,   2138.5,2,-999.0000,-999.000,-999.000,-999.000
    06AQANTX_4,   A12,   572,  1,     21,     21,2,19920605,0644,-50.4833,   0.0000, 3362,     81.8,   2.0012,  33.9365,2,  33.9374,2,  1.9970,    329.2,2,    16.68,2,    22.93,2,  -999.00,9,     1.77,2, -999.000,9, -999.000,9, -999.000,9,-999.0000,9,    -9.00,9,-999.000,9,   2138.8,2,-999.0000,-999.000,-999.000,-999.000
    06AQANTX_4,   A12,   572,  1,     20,     20,2,19920605,0644,-50.4833,   0.0000, 3362,    102.9,   1.9941,  33.9368,2,  33.9375,2,  1.9888,    329.6,2,    16.58,2,    23.01,2,  -999.00,9,  -999.00,9,    5.567,2,    2.687,2, -999.000,9,-999.0000,9,    -9.00,9,-999.000,9,   2140.8,2,-999.0000,-999.000,-999.000,-999.000
    06AQANTX_4,   A12,   572,  1,     19,     19,2,19920605,0644,-50.4833,   0.0000, 3362,    118.7,   1.9518,  33.9414,2,  33.9416,2,  1.9457,    329.7,2,    17.65,2,    23.10,2,  -999.00,9,     1.73,2, -999.000,9, -999.000,9, -999.000,9,-999.0000,9,    -9.00,9,-999.000,9,   2142.7,2,-999.0000,-999.000,-999.000,-999.000
    06AQANTX_4,   A12,   572,  1,     18,     18,2,19920605,0644,-50.4833,   0.0000, 3362,    148.2,   1.7022,  33.9867,2,-999.0000,9,  1.6949,    315.9,2,    28.27,2,    27.12,2,  -999.00,9,     1.92,2,    5.129,2,    2.435,2, -999.000,9,-999.0000,9,    -9.00,9,-999.000,9,   2163.5,2,-999.0000,-999.000,-999.000,-999.000
    06AQANTX_4,   A12,   572,  1,     17,     17,2,19920605,0644,-50.4833,   0.0000, 3362,    248.4,   1.6041,  34.2927,2,  34.3010,2,  1.5917,    228.0,2,    54.45,2,    32.99,2,  -999.00,9,     2.36,2, -999.000,9, -999.000,9, -999.000,9,-999.0000,9,    -9.00,9,-999.000,9,   2217.9,2,-999.0000,-999.000,-999.000,-999.000
    06AQANTX_4,   A12,   572,  1,     16,     16,2,19920605,0644,-50.4833,   0.0000, 3362,    353.1,   2.0625,  34.4541,2,  34.4590,2,  2.0431,    188.8,2,    67.15,2,    34.20,2,  -999.00,9,     2.35,2,    1.035,2,    0.474,2, -999.000,9,-999.0000,9,    -9.00,9,-999.000,9,   2243.3,2,-999.0000,-999.000,-999.000,-999.000
    06AQANTX_4,   A12,   572,  1,     15,     15,2,19920605,0644,-50.4833,   0.0000, 3362,    500.2,   2.1176,  34.5601,2,  34.5605,2,  2.0891,    179.0,2,    74.37,2,  -999.00,9,  -999.00,9,     2.34,2, -999.000,9, -999.000,9, -999.000,9,-999.0000,9,    -9.00,9,-999.000,9,   2250.2,2,-999.0000,-999.000,-999.000,-999.000
    06AQANTX_4,   A12,   572,  1,     14,     14,2,19920605,0644,-50.4833,   0.0000, 3362,    600.4,   2.1382,  34.6075,2,  34.6099,2,  2.1034,    177.7,2,    77.24,2,    33.28,2,  -999.00,9,     2.32,2,    0.377,2,    0.173,2, -999.000,9,-999.0000,9,    -9.00,9,-999.000,9,   2251.2,2,-999.0000,-999.000,-999.000,-999.000
    06AQANTX_4,   A12,   572,  1,     13,     13,2,19920605,0644,-50.4833,   0.0000, 3362,    698.3,   2.1338,  34.6506,2,  34.6502,2,  2.0927,    178.7,2,    79.62,2,    32.40,2,  -999.00,9,     2.24,2, -999.000,9, -999.000,9, -999.000,9,-999.0000,9,    -9.00,9,-999.000,9,   2251.9,2,-999.0000,-999.000,-999.000,-999.000
    06AQANTX_4,   A12,   572,  1,     12,     12,2,19920605,0644,-50.4833,   0.0000, 3362,    849.1,   2.1286,  34.6811,2,  34.6821,2,  2.0776,    183.5,2,    79.43,2,    31.73,2,  -999.00,9,     2.20,2,    0.243,2,    0.125,2, -999.000,9,-999.0000,9,    -9.00,9,-999.000,9,   2246.9,2,-999.0000,-999.000,-999.000,-999.000
    06AQANTX_4,   A12,   572,  1,     11,     11,2,19920605,0644,-50.4833,   0.0000, 3362,    999.8,   2.1705,  34.7270,2,  34.7269,2,  2.1088,    191.9,2,    77.75,2,    30.07,2,  -999.00,9,     2.10,2, -999.000,9, -999.000,9, -999.000,9,-999.0000,9,    -9.00,9,-999.000,9,   2240.7,2,-999.0000,-999.000,-999.000,-999.000
    06AQANTX_4,   A12,   572,  1,     10,     10,2,19920605,0644,-50.4833,   0.0000, 3362,   1199.7,   2.0452,  34.7473,2,  34.7472,2,  1.9704,    198.1,2,    79.14,2,    29.36,2,  -999.00,9,     2.05,2,    0.106,2,    0.042,3, -999.000,9,-999.0000,9,    -9.00,9,-999.000,9,   2238.2,2,-999.0000,-999.000,-999.000,-999.000
    06AQANTX_4,   A12,   572,  1,      9,      9,2,19920605,0644,-50.4833,   0.0000, 3362,   1500.9,   1.7678,  34.7542,2,  34.7547,2,  1.6738,    204.6,2,    84.66,2,    29.12,2,  -999.00,9,     2.00,2,    0.099,2,    0.034,3, -999.000,9,-999.0000,9,    -9.00,9,-999.000,9,   2240.7,2,-999.0000,-999.000,-999.000,-999.000
    06AQANTX_4,   A12,   572,  1,      8,      8,2,19920605,0644,-50.4833,   0.0000, 3362,   1802.9,   1.4383,  34.7374,2,  34.7372,2,  1.3257,    205.7,2,    95.10,2,    30.31,2,  -999.00,9,     2.07,2,    0.129,2,    0.079,4, -999.000,9,-999.0000,9,    -9.00,9,-999.000,9,   2246.0,2,-999.0000,-999.000,-999.000,-999.000
    06AQANTX_4,   A12,   572,  1,      7,      7,2,19920605,0644,-50.4833,   0.0000, 3362,   2200.3,   0.9942,  34.7141,2,  34.7140,2,  0.8573,    210.2,2,   106.91,2,    31.09,2,  -999.00,9,     2.18,2, -999.000,9, -999.000,9, -999.000,9,-999.0000,9,    -9.00,9,-999.000,9,   2250.0,2,-999.0000,-999.000,-999.000,-999.000
    06AQANTX_4,   A12,   572,  1,      6,      6,2,19920605,0644,-50.4833,   0.0000, 3362,   2603.0,   0.6914,  34.6973,2,  34.6969,2,  0.5271,    214.3,2,   113.73,2,    31.42,2,  -999.00,9,     2.16,2,    0.160,2,    0.077,2, -999.000,9,-999.0000,9,    -9.00,9,-999.000,9,   2255.0,2,-999.0000,-999.000,-999.000,-999.000
    06AQANTX_4,   A12,   572,  1,      5,      5,2,19920605,0644,-50.4833,   0.0000, 3362,   3003.3,   0.5334,  34.6878,2,  34.6873,2,  0.3379,   -999.0,9,   118.91,2,    32.09,2,  -999.00,9,     2.20,2, -999.000,9, -999.000,9, -999.000,9,-999.0000,9,    -9.00,9,-999.000,9,   2256.6,2,-999.0000,-999.000,-999.000,-999.000
    06AQANTX_4,   A12,   572,  1,      4,      4,2,19920605,0644,-50.4833,   0.0000, 3362,   3204.3,   0.5149,  34.6861,2,  34.6854,2,  0.3016,    217.5,2,   119.64,2,    32.21,2,  -999.00,9,     2.22,2,    0.168,2,    0.077,2, -999.000,9,-999.0000,9,    -9.00,9,-999.000,9,   2261.8,2,-999.0000,-999.000,-999.000,-999.000
    06AQANTX_4,   A12,   572,  1,      3,      3,2,19920605,0644,-50.4833,   0.0000, 3362,   3302.2,   0.5181,  34.6854,2,  34.6855,2,  0.2957,    217.0,2,  -999.00,9,  -999.00,9,  -999.00,9,  -999.00,9, -999.000,9, -999.000,9, -999.000,9,-999.0000,9,    -9.00,9,-999.000,9,   2255.9,2,-999.0000,-999.000,-999.000,-999.000
    06AQANTX_4,   A12,   572,  1,      2,      2,2,19920605,0644,-50.4833,   0.0000, 3362,   3399.1,   0.5264,  34.6850,2,  34.6862,2,  0.2947,    217.1,2,   120.35,2,    32.17,2,  -999.00,9,     2.21,2,    0.174,2,    0.082,2, -999.000,9,-999.0000,9,    -9.00,9,-999.000,9,   2257.7,2,-999.0000,-999.000,-999.000,-999.000
    06AQANTX_4,   A12,   572,  1,      1,      1,2,19920605,0644,-50.4833,   0.0000, 3362,   3486.4,   0.5333,  34.6851,2,  34.6856,2,  0.2931,    217.6,2,   120.24,2,    32.22,2,  -999.00,9,     2.20,2,    0.182,2,    0.079,2, -999.000,9,-999.0000,9,    -9.00,9,-999.000,9,   2257.9,2,-999.0000,-999.000,-999.000,-999.000
    06AQANTX_4,   A12,   573,  1,      7,      7,2,19920605,1220,-50.9833,   0.0000, 2246,   1195.2,   2.0825,  34.7351,2,  34.7354,2,  2.0077,    192.5,2,    77.88,2,    27.69,2,     0.05,2,     1.88,2, -999.000,9, -999.000,9, -999.000,9,-999.0000,9,    -9.00,9,-999.000,9,   -999.0,9,-999.0000,-999.000,-999.000,-999.000
    06AQANTX_4,   A12,   573,  1,      6,      6,2,19920605,1220,-50.9833,   0.0000, 2246,   1398.8,   1.8823,  34.7463,2,  34.7470,2,  1.7946,    200.3,2,    82.64,2,    27.72,2,     0.03,2,     1.88,2, -999.000,9, -999.000,9, -999.000,9,-999.0000,9,    -9.00,9,-999.000,9,   -999.0,9,-999.0000,-999.000,-999.000,-999.000
    06AQANTX_4,   A12,   573,  1,      5,      5,2,19920605,1220,-50.9833,   0.0000, 2246,   1600.6,   1.6406,  34.7446,2,  34.7456,2,  1.5407,    202.4,2,    88.31,2,    27.84,2,     0.03,2,     1.92,2, -999.000,9, -999.000,9, -999.000,9,-999.0000,9,    -9.00,9,-999.000,9,   -999.0,9,-999.0000,-999.000,-999.000,-999.000
    06AQANTX_4,   A12,   573,  1,      4,      4,2,19920605,1220,-50.9833,   0.0000, 2246,   1802.4,   1.3855,  34.7329,2,  34.7337,2,  1.2737,    204.1,2,    96.10,2,    28.34,2,     0.02,2,     1.93,2, -999.000,9, -999.000,9, -999.000,9,-999.0000,9,    -9.00,9,-999.000,9,   -999.0,9,-999.0000,-999.000,-999.000,-999.000
    06AQANTX_4,   A12,   573,  1,      3,      3,2,19920605,1220,-50.9833,   0.0000, 2246,   2000.3,   1.1164,  34.7193,2,  34.7196,2,  0.9933,    207.7,2,   103.45,2,    28.96,2,     0.04,2,     1.94,2, -999.000,9, -999.000,9, -999.000,9,-999.0000,9,    -9.00,9,-999.000,9,   -999.0,9,-999.0000,-999.000,-999.000,-999.000
    06AQANTX_4,   A12,   573,  1,      2,      2,2,19920605,1220,-50.9833,   0.0000, 2246,   2127.4,   0.9647,  34.7113,2,  34.7125,2,  0.8341,    209.2,2,   108.73,2,    29.32,2,     0.03,2,     1.93,2, -999.000,9, -999.000,9, -999.000,9,-999.0000,9,    -9.00,9,-999.000,9,   -999.0,9,-999.0000,-999.000,-999.000,-999.000
    06AQANTX_4,   A12,   573,  1,      1,      1,2,19920605,1220,-50.9833,   0.0000, 2246,   2236.7,   0.8535,  34.7048,2,  34.7087,2,  0.7161,    209.8,2,   106.22,2,    29.69,2,     0.03,2,     1.87,2, -999.000,9, -999.000,9, -999.000,9,-999.0000,9,    -9.00,9,-999.000,9,   -999.0,9,-999.0000,-999.000,-999.000,-999.000