BOTTLE,20061211WHPSIODBK
EXPOCODE,SECT_ID,STNNBR,CASTNO,SAMPNO,BTLNBR,BTLNBR_FLAG_W,DATE,TIME,LATITUDE,LONGITUDE,DEPTH,CTDPRS,CTDTMP,CTDSAL,CTDSAL_FLAG_W,SALNTY,SALNTY_FLAG_W,THETA,OXYGEN,OXYGEN_FLAG_W,SILCAT,SILCAT_FLAG_W,NITRAT,NITRAT_FLAG_W,NITRIT,NITRIT_FLAG_W,PHSPHT,PHSPHT_FLAG_W,CFC-11,CFC-11_FLAG_W,CFC-12,CFC-12_FLAG_W,TRITUM,TRITUM_FLAG_W,HELIUM,HELIUM_FLAG_W,DELHE3,DELHE3_FLAG_W,NEON,NEON_FLAG_W,TCARBN,TCARBN_FLAG_W,HELIER,TRITER,NEONER,DELHER
,,,,,,,,,,,,DBAR,ITS-90,PSS-78,,PSS-78,,DEG C,UMOL/KG,,UMOL/KG,,UMOL/KG,,UMOL/KG,,UMOL/KG,,PMOL/KG,,PMOL/KG,,TU,,NMOL/KG,,PERCNT,,NMOL/KG,,UMOL/KG,,NMOL/KG,TU,NMOL/KG,PERCNT
    06AQANTX_4,   A12,   542,  1,     24,     24,2,19920523,2113,-36.1000,  15.8000, 4647,     29.4,  17.9662,  35.5596,2,  35.5618,2, 17.9612,    240.1,2,     2.60,2,     1.76,2,     0.27,2,     0.23,2, -999.000,9, -999.000,9, -999.000,9,-999.0000,9,    -9.00,9,-999.000,9,   -999.0,9,-999.0000,-999.000,-999.000,-999.000
    06AQANTX_4,   A12,   542,  1,     23,     23,2,19920523,2113,-36.1000,  15.8000, 4647,     74.0,  17.8989,  35.5540,2,  35.5573,2, 17.8862,    238.4,2,     2.75,2,     1.99,2,     0.26,2,     0.26,2, -999.000,9, -999.000,9, -999.000,9,-999.0000,9,    -9.00,9,-999.000,9,   -999.0,9,-999.0000,-999.000,-999.000,-999.000
    06AQANTX_4,   A12,   542,  1,     22,     22,2,19920523,2113,-36.1000,  15.8000, 4647,    101.3,  17.0213,  35.5483,2,  35.5472,2, 17.0045,    213.2,2,     3.73,2,     5.07,2,     0.05,2,     0.42,2, -999.000,9, -999.000,9, -999.000,9,-999.0000,9,    -9.00,9,-999.000,9,   -999.0,9,-999.0000,-999.000,-999.000,-999.000
    06AQANTX_4,   A12,   542,  1,     21,     21,2,19920523,2113,-36.1000,  15.8000, 4647,    143.3,  14.4305,  35.1566,2,  35.1838,3, 14.4094,   -999.0,9,     2.28,2,     4.24,2,     0.32,2,     0.44,2, -999.000,9, -999.000,9, -999.000,9,-999.0000,9,    -9.00,9,-999.000,9,   -999.0,9,-999.0000,-999.000,-999.000,-999.000
    06AQANTX_4,   A12,   542,  1,     20,     20,2,19920523,2113,-36.1000,  15.8000, 4647,    216.7,  13.7768,  35.1990,2,  35.1960,2, 13.7457,    225.0,2,     3.85,2,     8.02,2,     0.05,2,     0.65,2, -999.000,9, -999.000,9, -999.000,9,-999.0000,9,    -9.00,9,-999.000,9,   -999.0,9,-999.0000,-999.000,-999.000,-999.000
    06AQANTX_4,   A12,   542,  1,     19,     19,2,19920523,2113,-36.1000,  15.8000, 4647,    301.0,  12.1877,  35.0774,2,  35.0480,3, 12.1478,    225.5,2,     4.85,2,    11.57,2,     0.05,2,     0.86,2, -999.000,9, -999.000,9, -999.000,9,-999.0000,9,    -9.00,9,-999.000,9,   -999.0,9,-999.0000,-999.000,-999.000,-999.000
    06AQANTX_4,   A12,   542,  1,     18,     18,2,19920523,2113,-36.1000,  15.8000, 4647,    403.2,  10.8361,  34.9078,2,  34.9096,2, 10.7865,    218.2,2,     7.46,2,    15.11,2,     0.05,2,     1.09,2, -999.000,9, -999.000,9, -999.000,9,-999.0000,9,    -9.00,9,-999.000,9,   -999.0,9,-999.0000,-999.000,-999.000,-999.000
    06AQANTX_4,   A12,   542,  1,     17,     17,2,19920523,2113,-36.1000,  15.8000, 4647,    496.7,   8.1634,  34.5456,2,  34.5530,2,  8.1119,   -999.0,9,     9.36,2,    20.59,2,     0.04,2,     1.43,2, -999.000,9, -999.000,9, -999.000,9,-999.0000,9,    -9.00,9,-999.000,9,   -999.0,9,-999.0000,-999.000,-999.000,-999.000
    06AQANTX_4,   A12,   542,  1,     16,     16,2,19920523,2113,-36.1000,  15.8000, 4647,    605.2,   7.0216,  34.5201,2,  34.5156,2,  6.9636,   -999.0,9,    19.49,2,    25.97,2,     0.04,2,     1.82,2, -999.000,9, -999.000,9, -999.000,9,-999.0000,9,    -9.00,9,-999.000,9,   -999.0,9,-999.0000,-999.000,-999.000,-999.000
    06AQANTX_4,   A12,   542,  1,     15,     15,2,19920523,2113,-36.1000,  15.8000, 4647,    705.5,   5.6068,  34.4264,2,  34.4258,2,  5.5464,    204.6,2,    26.55,2,    28.74,2,     0.04,2,     2.01,2, -999.000,9, -999.000,9, -999.000,9,-999.0000,9,    -9.00,9,-999.000,9,   -999.0,9,-999.0000,-999.000,-999.000,-999.000
    06AQANTX_4,   A12,   542,  1,     14,     14,2,19920523,2113,-36.1000,  15.8000, 4647,    847.7,   4.3158,  34.3919,2,  34.3913,2,  4.2508,    201.5,2,    38.20,2,    31.63,2,     0.04,2,     2.24,2, -999.000,9, -999.000,9, -999.000,9,-999.0000,9,    -9.00,9,-999.000,9,   -999.0,9,-999.0000,-999.000,-999.000,-999.000
    06AQANTX_4,   A12,   542,  1,     13,     13,2,19920523,2113,-36.1000,  15.8000, 4647,   1010.5,   3.6518,  34.4230,2,  34.4229,2,  3.5782,    190.9,2,    48.23,2,    33.38,2,     0.01,2,     2.34,2, -999.000,9, -999.000,9, -999.000,9,-999.0000,9,    -9.00,9,-999.000,9,   -999.0,9,-999.0000,-999.000,-999.000,-999.000
    06AQANTX_4,   A12,   542,  1,     12,     12,2,19920523,2113,-36.1000,  15.8000, 4647,   1103.8,   3.2287,  34.4456,2,  34.4454,2,  3.1511,    189.1,2,    52.93,2,    33.95,2,     0.02,2,     2.37,2, -999.000,9, -999.000,9, -999.000,9,-999.0000,9,    -9.00,9,-999.000,9,   -999.0,9,-999.0000,-999.000,-999.000,-999.000
    06AQANTX_4,   A12,   542,  1,     11,     11,2,19920523,2113,-36.1000,  15.8000, 4647,   1205.0,   3.0424,  34.5078,2,  34.5096,2,  2.9583,   -999.0,9,    59.74,2,    34.10,2,     0.02,2,     2.37,2, -999.000,9, -999.000,9, -999.000,9,-999.0000,9,    -9.00,9,-999.000,9,   -999.0,9,-999.0000,-999.000,-999.000,-999.000
    06AQANTX_4,   A12,   542,  1,     10,     10,2,19920523,2113,-36.1000,  15.8000, 4647,   1502.1,   2.7774,  34.6793,2,  34.6789,2,  2.6718,    185.9,2,    63.17,2,    31.63,2,     0.02,2,     2.18,2, -999.000,9, -999.000,9, -999.000,9,-999.0000,9,    -9.00,9,-999.000,9,   -999.0,9,-999.0000,-999.000,-999.000,-999.000
    06AQANTX_4,   A12,   542,  1,      9,      9,2,19920523,2113,-36.1000,  15.8000, 4647,   1804.8,   2.7354,  34.7800,2,  34.7790,2,  2.6046,    204.7,2,    56.36,2,    28.40,2,     0.02,2,     1.94,2, -999.000,9, -999.000,9, -999.000,9,-999.0000,9,    -9.00,9,-999.000,9,   -999.0,9,-999.0000,-999.000,-999.000,-999.000
    06AQANTX_4,   A12,   542,  1,      8,      8,2,19920523,2113,-36.1000,  15.8000, 4647,   2199.8,   2.5846,  34.8259,2,  34.8252,2,  2.4209,    219.4,2,    53.90,2,    26.42,2,     0.03,2,     1.81,2, -999.000,9, -999.000,9, -999.000,9,-999.0000,9,    -9.00,9,-999.000,9,   -999.0,9,-999.0000,-999.000,-999.000,-999.000
    06AQANTX_4,   A12,   542,  1,      7,      7,2,19920523,2113,-36.1000,  15.8000, 4647,   2600.0,   2.4067,  34.8395,2,  34.8395,2,  2.2088,    227.2,2,    55.88,2,    25.67,2,     0.04,2,     1.75,2, -999.000,9, -999.000,9, -999.000,9,-999.0000,9,    -9.00,9,-999.000,9,   -999.0,9,-999.0000,-999.000,-999.000,-999.000
    06AQANTX_4,   A12,   542,  1,      6,      6,2,19920523,2113,-36.1000,  15.8000, 4647,   3000.1,   2.2562,  34.8422,2,  34.8412,2,  2.0222,   -999.0,9,    59.00,2,    25.63,2,     0.02,2,     1.77,2, -999.000,9, -999.000,9, -999.000,9,-999.0000,9,    -9.00,9,-999.000,9,   -999.0,9,-999.0000,-999.000,-999.000,-999.000
    06AQANTX_4,   A12,   542,  1,      5,      5,2,19920523,2113,-36.1000,  15.8000, 4647,   3402.6,   1.9635,  34.8186,2,  34.8173,2,  1.6953,    226.8,2,  -999.00,9,  -999.00,9,     0.03,2,  -999.00,9, -999.000,9, -999.000,9, -999.000,9,-999.0000,9,    -9.00,9,-999.000,9,   -999.0,9,-999.0000,-999.000,-999.000,-999.000
    06AQANTX_4,   A12,   542,  1,      4,      4,2,19920523,2113,-36.1000,  15.8000, 4647,   3800.9,   1.4247,  34.7669,2,  34.7657,2,  1.1290,    221.5,2,  -999.00,9,  -999.00,9,     0.02,2,  -999.00,9, -999.000,9, -999.000,9, -999.000,9,-999.0000,9,    -9.00,9,-999.000,9,   -999.0,9,-999.0000,-999.000,-999.000,-999.000
    06AQANTX_4,   A12,   542,  1,      3,      3,2,19920523,2113,-36.1000,  15.8000, 4647,   4194.7,   1.1234,  34.7380,2,  34.7387,2,  0.7940,    218.3,2,  -999.00,9,  -999.00,9,     0.02,2,  -999.00,9, -999.000,9, -999.000,9, -999.000,9,-999.0000,9,    -9.00,9,-999.000,9,   -999.0,9,-999.0000,-999.000,-999.000,-999.000
    06AQANTX_4,   A12,   542,  1,      2,      2,2,19920523,2113,-36.1000,  15.8000, 4647,   4597.9,   1.0663,  34.7278,2,  34.7314,2,  0.6937,   -999.0,9,   106.44,2,    31.37,2,     0.01,2,     2.17,2, -999.000,9, -999.000,9, -999.000,9,-999.0000,9,    -9.00,9,-999.000,9,   -999.0,9,-999.0000,-999.000,-999.000,-999.000
    06AQANTX_4,   A12,   542,  1,      1,      1,2,19920523,2113,-36.1000,  15.8000, 4647,   4720.9,   1.0258,  34.7241,2,  34.7634,4,  0.6404,   -999.0,9,   107.84,2,    31.51,2,     0.02,2,     2.16,2, -999.000,9, -999.000,9, -999.000,9,-999.0000,9,    -9.00,9,-999.000,9,   -999.0,9,-999.0000,-999.000,-999.000,-999.000
    06AQANTX_4,   A12,   543,  1,     24,     24,2,19920524,0632,-36.5833,  15.2333, 4822,     29.6,  17.8543,  35.4528,2,  35.4544,2, 17.8493,    239.9,2,     2.97,2,     1.89,2,     0.26,2,     0.28,2,    2.258,3,    1.215,3, -999.000,9,-999.0000,9,    -9.00,9,-999.000,9,   -999.0,9,-999.0000,-999.000,-999.000,-999.000
    06AQANTX_4,   A12,   543,  1,     23,     23,2,19920524,0632,-36.5833,  15.2333, 4822,     69.9,  17.8420,  35.4554,2,  35.4414,2, 17.8301,    236.9,2,     3.40,2,     2.37,2,     0.24,2,     0.29,2,    2.458,3,    0.557,4, -999.000,9,-999.0000,9,    -9.00,9,-999.000,9,   -999.0,9,-999.0000,-999.000,-999.000,-999.000
    06AQANTX_4,   A12,   543,  1,     22,     22,2,19920524,0632,-36.5833,  15.2333, 4822,    139.4,  12.6928,  35.1185,2,  35.1160,2, 12.6740,    203.7,2,     8.20,2,    13.25,2,     0.04,2,     0.97,2,    1.890,2,    1.462,4, -999.000,9,-999.0000,9,    -9.00,9,-999.000,9,   -999.0,9,-999.0000,-999.000,-999.000,-999.000
    06AQANTX_4,   A12,   543,  1,     21,     21,2,19920524,0632,-36.5833,  15.2333, 4822,    221.3,  10.1625,  34.8465,2,  34.8520,2, 10.1366,    203.8,2,    12.72,2,    18.57,2,     0.04,2,     1.30,2,    1.499,2,    2.279,4, -999.000,9,-999.0000,9,    -9.00,9,-999.000,9,   -999.0,9,-999.0000,-999.000,-999.000,-999.000
    06AQANTX_4,   A12,   543,  1,     20,     20,2,19920524,0632,-36.5833,  15.2333, 4822,    299.0,   8.6521,  34.7089,2,  34.7127,2,  8.6203,    196.7,2,    19.38,2,    22.77,2,     0.03,2,     1.58,2,    0.972,2,    0.507,3, -999.000,9,-999.0000,9,    -9.00,9,-999.000,9,   -999.0,9,-999.0000,-999.000,-999.000,-999.000
    06AQANTX_4,   A12,   543,  1,     19,     19,2,19920524,0632,-36.5833,  15.2333, 4822,    404.2,   6.9010,  34.5491,2,  34.5507,2,  6.8632,    195.7,2,    26.04,2,    27.44,2,     0.03,2,     1.92,2,    0.876,2,    0.462,3, -999.000,9,-999.0000,9,    -9.00,9,-999.000,9,   -999.0,9,-999.0000,-999.000,-999.000,-999.000
    06AQANTX_4,   A12,   543,  1,     18,     18,2,19920524,0632,-36.5833,  15.2333, 4822,    500.8,   5.6333,  34.4828,2,  34.4818,2,  5.5910,    193.4,2,    36.58,2,    30.65,2,     0.02,2,     2.12,2,    0.781,2,    0.465,3, -999.000,9,-999.0000,9,    -9.00,9,-999.000,9,   -999.0,9,-999.0000,-999.000,-999.000,-999.000
    06AQANTX_4,   A12,   543,  1,     17,     17,2,19920524,0632,-36.5833,  15.2333, 4822,    597.3,   4.9239,  34.4916,2,  34.4976,2,  4.8763,    182.5,2,    46.15,2,    32.60,2,     0.02,2,     2.32,2,    0.562,2,    0.306,3, -999.000,9,-999.0000,9,    -9.00,9,-999.000,9,   -999.0,9,-999.0000,-999.000,-999.000,-999.000
    06AQANTX_4,   A12,   543,  1,     16,     16,2,19920524,0632,-36.5833,  15.2333, 4822,    647.6,   4.3973,  34.4531,2,  34.4537,2,  4.3481,    190.5,2,    46.93,2,    33.13,2,     0.02,2,     2.31,2,    0.638,2,    0.348,3, -999.000,9,-999.0000,9,    -9.00,9,-999.000,9,   -999.0,9,-999.0000,-999.000,-999.000,-999.000
    06AQANTX_4,   A12,   543,  1,     15,     15,2,19920524,0632,-36.5833,  15.2333, 4822,    691.3,   4.0697,  34.4254,2,  34.4292,2,  4.0188,    196.9,2,    46.65,2,    33.35,2,     0.02,2,     2.28,2,    0.676,2,    0.355,2, -999.000,9,-999.0000,9,    -9.00,9,-999.000,9,   -999.0,9,-999.0000,-999.000,-999.000,-999.000
    06AQANTX_4,   A12,   543,  1,     14,     14,2,19920524,0632,-36.5833,  15.2333, 4822,    709.5,   3.9911,  34.4311,2,  34.4334,2,  3.9392,    194.7,2,    47.79,2,    33.14,2,     0.02,2,     2.30,2,    0.684,2,    0.350,3, -999.000,9,-999.0000,9,    -9.00,9,-999.000,9,   -999.0,9,-999.0000,-999.000,-999.000,-999.000
    06AQANTX_4,   A12,   543,  1,     13,     13,2,19920524,0632,-36.5833,  15.2333, 4822,    851.2,   3.6823,  34.5151,2,  34.5155,2,  3.6210,    177.1,2,    60.49,2,    34.81,2,     0.02,2,     2.40,2,    0.326,2,    0.185,3, -999.000,9,-999.0000,9,    -9.00,9,-999.000,9,   -999.0,9,-999.0000,-999.000,-999.000,-999.000
    06AQANTX_4,   A12,   543,  1,     12,     12,2,19920524,0632,-36.5833,  15.2333, 4822,   1002.9,   3.1414,  34.5423,2,  34.5441,2,  3.0722,    179.5,2,    65.53,2,    34.92,2,     0.02,2,     2.43,2,    0.194,2,    0.122,3, -999.000,9,-999.0000,9,    -9.00,9,-999.000,9,   -999.0,9,-999.0000,-999.000,-999.000,-999.000
    06AQANTX_4,   A12,   543,  1,     11,     11,2,19920524,0632,-36.5833,  15.2333, 4822,   1202.6,   2.9179,  34.6237,2,  34.6233,2,  2.8349,    182.0,2,    68.55,2,    33.98,2,     0.03,2,     2.29,2,    0.084,2,    0.063,3, -999.000,9,-999.0000,9,    -9.00,9,-999.000,9,   -999.0,9,-999.0000,-999.000,-999.000,-999.000
    06AQANTX_4,   A12,   543,  1,     10,     10,2,19920524,0632,-36.5833,  15.2333, 4822,   1447.3,   2.7809,  34.7167,2,  34.7177,2,  2.6796,    198.0,2,    63.58,2,    31.35,2,     0.03,2,     2.15,2,    0.051,2,    0.025,2, -999.000,9,-999.0000,9,    -9.00,9,-999.000,9,   -999.0,9,-999.0000,-999.000,-999.000,-999.000
    06AQANTX_4,   A12,   543,  1,      9,      9,2,19920524,0632,-36.5833,  15.2333, 4822,   1801.4,   2.6549,  34.7956,2,  34.7957,2,  2.5254,    215.3,2,    58.70,2,    28.50,2,     0.02,2,     1.92,2,    0.027,2,    0.021,3, -999.000,9,-999.0000,9,    -9.00,9,-999.000,9,   -999.0,9,-999.0000,-999.000,-999.000,-999.000
    06AQANTX_4,   A12,   543,  1,      8,      8,2,19920524,0632,-36.5833,  15.2333, 4822,   2198.8,   2.5372,  34.8252,2,  34.8250,2,  2.3744,    226.5,2,    57.11,2,    27.21,2,     0.02,2,     1.80,2,    0.012,2,    0.022,3, -999.000,9,-999.0000,9,    -9.00,9,-999.000,9,   -999.0,9,-999.0000,-999.000,-999.000,-999.000
    06AQANTX_4,   A12,   543,  1,      7,      7,2,19920524,0632,-36.5833,  15.2333, 4822,   2599.9,   2.4007,  34.8344,2,  34.8358,2,  2.2029,    231.7,2,    59.54,2,    26.70,2,     0.03,2,     1.83,2,    0.009,2,    0.017,3, -999.000,9,-999.0000,9,    -9.00,9,-999.000,9,   -999.0,9,-999.0000,-999.000,-999.000,-999.000
    06AQANTX_4,   A12,   543,  1,      6,      6,2,19920524,0632,-36.5833,  15.2333, 4822,   2999.7,   2.2711,  34.8403,2,  34.8387,2,  2.0368,    236.1,2,    61.62,2,    26.42,2,     0.02,2,     1.81,2,    0.020,3,    0.017,3, -999.000,9,-999.0000,9,    -9.00,9,-999.000,9,   -999.0,9,-999.0000,-999.000,-999.000,-999.000
    06AQANTX_4,   A12,   543,  1,      5,      5,2,19920524,0632,-36.5833,  15.2333, 4822,   3400.2,   2.0711,  34.8285,2,  34.8282,2,  1.8005,    237.0,2,    68.75,2,    27.07,2,     0.02,2,     1.83,2,    0.013,3,    0.015,3, -999.000,9,-999.0000,9,    -9.00,9,-999.000,9,   -999.0,9,-999.0000,-999.000,-999.000,-999.000
    06AQANTX_4,   A12,   543,  1,      4,      4,2,19920524,0632,-36.5833,  15.2333, 4822,   3801.5,   1.6779,  34.7892,2,-999.0000,9,  1.3751,    229.8,2,    85.01,2,    29.14,2,     0.02,2,     1.94,2,    0.009,2,    0.015,3, -999.000,9,-999.0000,9,    -9.00,9,-999.000,9,   -999.0,9,-999.0000,-999.000,-999.000,-999.000
    06AQANTX_4,   A12,   543,  1,      3,      3,2,19920524,0632,-36.5833,  15.2333, 4822,   4202.7,   1.2058,  34.7434,2,  34.7429,2,  0.8731,    226.6,2,  -999.00,9,  -999.00,9,  -999.00,9,  -999.00,9,    0.049,4,    0.015,3, -999.000,9,-999.0000,9,    -9.00,9,-999.000,9,   -999.0,9,-999.0000,-999.000,-999.000,-999.000
    06AQANTX_4,   A12,   543,  1,      2,      2,2,19920524,0632,-36.5833,  15.2333, 4822,   4600.0,   1.0567,  34.7278,2,  34.7281,2,  0.6841,    226.9,2,   109.50,2,    32.05,2,     0.02,2,     2.18,2,    0.028,2,    0.032,3, -999.000,9,-999.0000,9,    -9.00,9,-999.000,9,   -999.0,9,-999.0000,-999.000,-999.000,-999.000
    06AQANTX_4,   A12,   543,  1,      1,      1,2,19920524,0632,-36.5833,  15.2333, 4822,   4896.6,   0.9055,  34.7123,2,  34.7132,2,  0.5037,    228.4,2,   114.63,2,    32.48,2,     0.03,2,     2.19,2,    0.039,2,    0.034,3, -999.000,9,-999.0000,9,    -9.00,9,-999.000,9,   -999.0,9,-999.0000,-999.000,-999.000,-999.000