BOTTLE,20061211WHPSIODBK
EXPOCODE,SECT_ID,STNNBR,CASTNO,SAMPNO,BTLNBR,BTLNBR_FLAG_W,DATE,TIME,LATITUDE,LONGITUDE,DEPTH,CTDPRS,CTDTMP,CTDSAL,CTDSAL_FLAG_W,SALNTY,SALNTY_FLAG_W,THETA,OXYGEN,OXYGEN_FLAG_W,SILCAT,SILCAT_FLAG_W,NITRAT,NITRAT_FLAG_W,NITRIT,NITRIT_FLAG_W,PHSPHT,PHSPHT_FLAG_W,CFC-11,CFC-11_FLAG_W,CFC-12,CFC-12_FLAG_W,TRITUM,TRITUM_FLAG_W,HELIUM,HELIUM_FLAG_W,DELHE3,DELHE3_FLAG_W,NEON,NEON_FLAG_W,TCARBN,TCARBN_FLAG_W,HELIER,TRITER,NEONER,DELHER
,,,,,,,,,,,,DBAR,ITS-90,PSS-78,,PSS-78,,DEG C,UMOL/KG,,UMOL/KG,,UMOL/KG,,UMOL/KG,,UMOL/KG,,PMOL/KG,,PMOL/KG,,TU,,NMOL/KG,,PERCNT,,NMOL/KG,,UMOL/KG,,NMOL/KG,TU,NMOL/KG,PERCNT
    06AQANTX_4,   A12,   598,  3,     24,     24,2,19920616,0856,-67.5000,  -0.0333, 4590,      9.0,  -1.7901,  34.3252,2,  34.3259,2, -1.7903,    314.3,2,    70.55,2,    28.12,2,     0.18,2,     2.04,2,    5.422,2,    2.751,2, -999.000,9,-999.0000,9,    -9.00,9,-999.000,9,   2219.6,2,-999.0000,-999.000,-999.000,-999.000
    06AQANTX_4,   A12,   598,  3,     23,     23,2,19920616,0856,-67.5000,  -0.0333, 4590,     40.1,  -1.7884,  34.3252,2,  34.3258,2, -1.7892,    310.3,2,    70.45,2,    28.39,2,     0.18,2,     2.05,2,    5.461,2,    2.752,2, -999.000,9,-999.0000,9,    -9.00,9,-999.000,9,   -999.0,9,-999.0000,-999.000,-999.000,-999.000
    06AQANTX_4,   A12,   598,  3,     22,     22,2,19920616,0856,-67.5000,  -0.0333, 4590,     70.2,  -1.7845,  34.3250,2,  34.3428,3, -1.7859,    304.9,2,    71.59,2,    28.80,2,     0.18,2,     2.06,2,    5.277,2,    2.561,2, -999.000,9,-999.0000,9,    -9.00,9,-999.000,9,   2219.8,2,-999.0000,-999.000,-999.000,-999.000
    06AQANTX_4,   A12,   598,  3,     21,     21,2,19920616,0856,-67.5000,  -0.0333, 4590,     90.0,  -0.7653,  34.4400,2,  34.5727,4, -0.7679,    216.6,2,    88.86,2,    32.40,2,     0.06,2,     2.28,2,    1.810,2,    0.717,4, -999.000,9,-999.0000,9,    -9.00,9,-999.000,9,   2251.1,2,-999.0000,-999.000,-999.000,-999.000
    06AQANTX_4,   A12,   598,  3,     20,     20,2,19920616,0856,-67.5000,  -0.0333, 4590,    139.1,   1.1518,  34.6583,2,  34.6648,2,  1.1454,    187.1,2,    96.19,2,    32.98,2,     0.01,2,     2.30,2,    0.636,2,    0.193,4, -999.000,9,-999.0000,9,    -9.00,9,-999.000,9,   2266.0,2,-999.0000,-999.000,-999.000,-999.000
    06AQANTX_4,   A12,   598,  3,     19,     19,2,19920616,0856,-67.5000,  -0.0333, 4590,    219.6,   1.0992,  34.6794,2,  34.6759,2,  1.0890,    192.9,2,    97.92,2,    32.40,2,     0.01,2,     2.27,2,    0.646,2,    0.150,4, -999.000,9,-999.0000,9,    -9.00,9,-999.000,9,   2258.4,2,-999.0000,-999.000,-999.000,-999.000
    06AQANTX_4,   A12,   598,  3,     18,     18,2,19920616,0856,-67.5000,  -0.0333, 4590,    300.0,   1.0534,  34.6843,2,  34.6869,2,  1.0394,    194.9,2,   100.03,2,    32.03,2,     0.01,2,     2.24,2,    0.566,2,    0.113,4, -999.000,9,-999.0000,9,    -9.00,9,-999.000,9,   2258.1,2,-999.0000,-999.000,-999.000,-999.000
    06AQANTX_4,   A12,   598,  3,     17,     17,2,19920616,0856,-67.5000,  -0.0333, 4590,    399.4,   1.0341,  34.6996,2,  34.6998,2,  1.0152,    196.3,2,   104.23,2,    31.38,2,     0.02,2,     2.23,2,    0.367,2,    0.055,4, -999.000,9,-999.0000,9,    -9.00,9,-999.000,9,   -999.0,9,-999.0000,-999.000,-999.000,-999.000
    06AQANTX_4,   A12,   598,  3,     16,     16,2,19920616,0856,-67.5000,  -0.0333, 4590,    499.7,   0.9267,  34.7006,2,  34.7018,2,  0.9030,    197.6,2,   107.58,2,    32.13,2,     0.02,2,     2.23,2,    0.321,2,    0.037,4, -999.000,9,-999.0000,9,    -9.00,9,-999.000,9,   2260.3,2,-999.0000,-999.000,-999.000,-999.000
    06AQANTX_4,   A12,   598,  3,     15,     15,2,19920616,0856,-67.5000,  -0.0333, 4590,    600.1,   0.8047,  34.6993,2,  34.6984,2,  0.7763,    200.2,2,   110.83,2,    32.56,2,     0.01,2,     2.24,2,    0.276,2,    0.007,4, -999.000,9,-999.0000,9,    -9.00,9,-999.000,9,   2261.0,2,-999.0000,-999.000,-999.000,-999.000
    06AQANTX_4,   A12,   598,  3,     14,     14,2,19920616,0856,-67.5000,  -0.0333, 4590,    698.9,   0.6890,  34.6946,2,  34.6940,2,  0.6560,    202.0,2,   114.19,2,    32.78,2,     0.01,2,     2.24,2,    0.241,2,    0.073,4, -999.000,9,-999.0000,9,    -9.00,9,-999.000,9,   2261.9,2,-999.0000,-999.000,-999.000,-999.000
    06AQANTX_4,   A12,   598,  3,     13,     13,2,19920616,0856,-67.5000,  -0.0333, 4590,    850.3,   0.5739,  34.6910,2,  34.6912,2,  0.5335,    203.6,2,   117.83,2,    32.33,2,     0.01,2,     2.27,2,    0.195,2,    0.066,4, -999.000,9,-999.0000,9,    -9.00,9,-999.000,9,   2262.4,2,-999.0000,-999.000,-999.000,-999.000
    06AQANTX_4,   A12,   598,  3,     12,     12,2,19920616,0856,-67.5000,  -0.0333, 4590,    999.4,   0.4691,  34.6860,2,  34.6866,2,  0.4211,    206.7,2,   120.90,2,    32.68,2,     0.01,2,     2.29,2,    0.177,2,    0.057,4, -999.000,9,-999.0000,9,    -9.00,9,-999.000,9,   2263.6,2,-999.0000,-999.000,-999.000,-999.000
    06AQANTX_4,   A12,   598,  3,     11,     11,2,19920616,0856,-67.5000,  -0.0333, 4590,   1199.9,   0.3370,  34.6813,2,  34.6821,2,  0.2786,    206.1,2,   123.79,2,    33.56,2,     0.01,2,     2.32,2,    0.164,2,    0.035,4, -999.000,9,-999.0000,9,    -9.00,9,-999.000,9,   2263.5,2,-999.0000,-999.000,-999.000,-999.000
    06AQANTX_4,   A12,   598,  3,     10,     10,2,19920616,0856,-67.5000,  -0.0333, 4590,   1600.3,   0.1531,  34.6732,2,  34.6738,2,  0.0721,    212.0,2,   126.76,2,    33.65,2,     0.01,2,     2.32,2,    0.150,2,    0.034,4, -999.000,9,-999.0000,9,    -9.00,9,-999.000,9,   -999.0,9,-999.0000,-999.000,-999.000,-999.000
    06AQANTX_4,   A12,   598,  3,      9,      9,2,19920616,0856,-67.5000,  -0.0333, 4590,   1999.2,   0.0192,  34.6691,2,  34.6681,2, -0.0866,    220.0,2,  -999.00,9,  -999.00,9,     0.01,2,  -999.00,9,    0.190,2,    0.056,4, -999.000,9,-999.0000,9,    -9.00,9,-999.000,9,   2258.7,2,-999.0000,-999.000,-999.000,-999.000
    06AQANTX_4,   A12,   598,  3,      8,      8,2,19920616,0856,-67.5000,  -0.0333, 4590,   2499.9,  -0.1108,  34.6635,2,  34.6630,2, -0.2511,    227.5,2,   127.86,2,    34.16,2,     0.01,2,     2.29,2,    0.241,2,    0.125,2, -999.000,9,-999.0000,9,    -9.00,9,-999.000,9,   2257.2,2,-999.0000,-999.000,-999.000,-999.000
    06AQANTX_4,   A12,   598,  3,      7,      7,2,19920616,0856,-67.5000,  -0.0333, 4590,   2998.4,  -0.1999,  34.6596,2,  34.6596,2, -0.3784,    233.2,2,   127.30,2,    32.72,2,     0.01,2,     2.27,2,    0.266,2,    0.128,2, -999.000,9,-999.0000,9,    -9.00,9,-999.000,9,   -999.0,9,-999.0000,-999.000,-999.000,-999.000
    06AQANTX_4,   A12,   598,  3,      6,      6,2,19920616,0856,-67.5000,  -0.0333, 4590,   3371.9,  -0.2405,  34.6570,2,  34.6572,2, -0.4504,    235.6,2,   126.82,2,    32.90,2,     0.01,2,     2.27,2,    0.313,2,    0.101,4, -999.000,9,-999.0000,9,    -9.00,9,-999.000,9,   2254.1,2,-999.0000,-999.000,-999.000,-999.000
    06AQANTX_4,   A12,   598,  3,      5,      5,2,19920616,0856,-67.5000,  -0.0333, 4590,   3782.1,  -0.2764,  34.6538,2,  34.6533,2, -0.5232,    239.0,2,   127.04,2,    32.96,2,     0.01,2,     2.27,2,    0.362,2,    0.136,3, -999.000,9,-999.0000,9,    -9.00,9,-999.000,9,   2251.7,2,-999.0000,-999.000,-999.000,-999.000
    06AQANTX_4,   A12,   598,  3,      4,      4,2,19920616,0856,-67.5000,  -0.0333, 4590,   4200.3,  -0.2984,  34.6521,2,  34.6534,2, -0.5855,    241.1,2,   128.86,2,    32.37,2,     0.01,2,     2.27,2,    0.339,2,    0.113,4, -999.000,9,-999.0000,9,    -9.00,9,-999.000,9,   2251.4,2,-999.0000,-999.000,-999.000,-999.000
    06AQANTX_4,   A12,   598,  3,      3,      3,2,19920616,0856,-67.5000,  -0.0333, 4590,   4519.6,  -0.3032,  34.6520,2,  34.6520,2, -0.6231,    242.3,2,   130.51,2,    32.85,2,     0.02,2,     2.28,2,    0.290,2,    0.124,3, -999.000,9,-999.0000,9,    -9.00,9,-999.000,9,   -999.0,9,-999.0000,-999.000,-999.000,-999.000
    06AQANTX_4,   A12,   598,  3,      2,      2,2,19920616,0856,-67.5000,  -0.0333, 4590,   4599.5,  -0.3122,  34.6525,2,  34.6511,2, -0.6402,    242.6,2,   131.77,2,    32.82,2,     0.01,2,     2.27,2,    0.265,2,    0.129,2, -999.000,9,-999.0000,9,    -9.00,9,-999.000,9,   2251.2,2,-999.0000,-999.000,-999.000,-999.000
    06AQANTX_4,   A12,   598,  3,      1,      1,2,19920616,0856,-67.5000,  -0.0333, 4590,   4681.3,  -0.3347,  34.6508,2,  34.6502,2, -0.6707,    243.1,2,   138.21,2,    32.95,2,     0.03,2,     2.24,2,    0.264,2,    0.109,3, -999.000,9,-999.0000,9,    -9.00,9,-999.000,9,   2252.6,2,-999.0000,-999.000,-999.000,-999.000
    06AQANTX_4,   A12,   599,  1,     24,     24,2,19920616,1758,-68.0000,   0.0167, 4462,      2.5,  -1.8466,  34.3265,2,  34.3301,2, -1.8466,    310.2,2,    69.53,2,    28.17,2,     0.17,2,     2.02,2,    5.503,2,    2.546,2, -999.000,9,-999.0000,9,    -9.00,9,-999.000,9,   2218.4,2,-999.0000,-999.000,-999.000,-999.000
    06AQANTX_4,   A12,   599,  1,     23,     23,2,19920616,1758,-68.0000,   0.0167, 4462,     40.0,  -1.8532,  34.3310,2,  34.3327,2, -1.8540,    310.8,2,    69.54,2,    28.17,2,     0.17,2,     2.02,2, -999.000,9, -999.000,9, -999.000,9,-999.0000,9,    -9.00,9,-999.000,9,   2217.7,2,-999.0000,-999.000,-999.000,-999.000
    06AQANTX_4,   A12,   599,  1,     22,     22,2,19920616,1758,-68.0000,   0.0167, 4462,     69.9,  -1.8404,  34.3274,2,  34.3576,3, -1.8417,    300.8,2,    71.11,2,    28.35,2,     0.16,2,     2.06,2,    5.068,2,    2.265,2, -999.000,9,-999.0000,9,    -9.00,9,-999.000,9,   2223.1,2,-999.0000,-999.000,-999.000,-999.000
    06AQANTX_4,   A12,   599,  1,     21,     21,2,19920616,1758,-68.0000,   0.0167, 4462,    139.7,   0.8204,  34.6612,2,  34.6635,2,  0.8144,    202.4,2,    96.02,2,    32.09,2,     0.02,2,     2.26,2,    0.957,2,    0.409,2, -999.000,9,-999.0000,9,    -9.00,9,-999.000,9,   2261.8,2,-999.0000,-999.000,-999.000,-999.000
    06AQANTX_4,   A12,   599,  1,     20,     20,2,19920616,1758,-68.0000,   0.0167, 4462,    219.6,   0.7985,  34.6768,2,  34.6790,2,  0.7889,    205.3,2,    98.60,2,    32.87,2,     0.02,2,     2.21,2,    0.850,2,    0.396,2, -999.000,9,-999.0000,9,    -9.00,9,-999.000,9,   2262.6,2,-999.0000,-999.000,-999.000,-999.000
    06AQANTX_4,   A12,   599,  1,     19,     19,2,19920616,1758,-68.0000,   0.0167, 4462,    299.3,   0.8472,  34.6880,2,  34.6871,2,  0.8337,    203.2,2,   101.75,2,    32.89,2,     0.01,2,     2.23,2,    0.635,2,    0.285,2, -999.000,9,-999.0000,9,    -9.00,9,-999.000,9,   -999.0,9,-999.0000,-999.000,-999.000,-999.000
    06AQANTX_4,   A12,   599,  1,     18,     18,2,19920616,1758,-68.0000,   0.0167, 4462,    399.5,   0.8326,  34.6964,2,  34.6908,2,  0.8143,    202.0,2,   105.29,2,    32.02,2,     0.01,2,     2.22,2,    0.438,2,    0.224,2, -999.000,9,-999.0000,9,    -9.00,9,-999.000,9,   2264.9,2,-999.0000,-999.000,-999.000,-999.000
    06AQANTX_4,   A12,   599,  1,     17,     17,2,19920616,1758,-68.0000,   0.0167, 4462,    498.8,   0.7749,  34.6976,2,  34.6972,2,  0.7519,    203.5,2,   108.83,2,    32.20,2,     0.02,2,     2.23,2,    0.350,2,    0.158,2, -999.000,9,-999.0000,9,    -9.00,9,-999.000,9,   2269.2,2,-999.0000,-999.000,-999.000,-999.000
    06AQANTX_4,   A12,   599,  1,     16,     16,2,19920616,1758,-68.0000,   0.0167, 4462,    599.8,   0.7332,  34.6993,2,  34.6947,2,  0.7052,    204.7,2,   111.49,2,    31.89,2,     0.01,2,     2.22,2, -999.000,9, -999.000,9, -999.000,9,-999.0000,9,    -9.00,9,-999.000,9,   2264.2,2,-999.0000,-999.000,-999.000,-999.000
    06AQANTX_4,   A12,   599,  1,     15,     15,2,19920616,1758,-68.0000,   0.0167, 4462,    699.7,   0.5988,  34.6915,2,  34.6928,2,  0.5663,    207.7,2,   112.94,2,    31.57,2,     0.01,2,     2.22,2, -999.000,9, -999.000,9, -999.000,9,-999.0000,9,    -9.00,9,-999.000,9,   2257.7,2,-999.0000,-999.000,-999.000,-999.000
    06AQANTX_4,   A12,   599,  1,     14,     14,2,19920616,1758,-68.0000,   0.0167, 4462,    850.1,   0.5360,  34.6916,2,  34.6920,2,  0.4958,    205.9,2,   117.42,2,    32.47,2,     0.01,2,     2.24,2,    0.178,2,    0.090,2, -999.000,9,-999.0000,9,    -9.00,9,-999.000,9,   -999.0,9,-999.0000,-999.000,-999.000,-999.000
    06AQANTX_4,   A12,   599,  1,     13,     13,2,19920616,1758,-68.0000,   0.0167, 4462,    999.8,   0.4214,  34.6864,2,  34.6859,2,  0.3738,    207.3,2,   119.86,2,    32.89,2,     0.01,2,     2.26,2, -999.000,9, -999.000,9, -999.000,9,-999.0000,9,    -9.00,9,-999.000,9,   2261.9,2,-999.0000,-999.000,-999.000,-999.000
    06AQANTX_4,   A12,   599,  1,     12,     12,2,19920616,1758,-68.0000,   0.0167, 4462,   1199.8,   0.3037,  34.6809,2,  34.6804,2,  0.2457,    210.1,2,   121.97,2,    32.80,2,     0.01,2,     2.26,2, -999.000,9, -999.000,9, -999.000,9,-999.0000,9,    -9.00,9,-999.000,9,   -999.0,9,-999.0000,-999.000,-999.000,-999.000
    06AQANTX_4,   A12,   599,  1,     11,     11,2,19920616,1758,-68.0000,   0.0167, 4462,   1499.7,   0.1887,  34.6755,2,  34.6762,2,  0.1137,    211.9,2,   125.31,2,    33.28,2,     0.01,2,     2.29,2,    0.143,2,    0.076,2, -999.000,9,-999.0000,9,    -9.00,9,-999.000,9,   2262.7,2,-999.0000,-999.000,-999.000,-999.000
    06AQANTX_4,   A12,   599,  1,     10,     10,2,19920616,1758,-68.0000,   0.0167, 4462,   1798.8,   0.0762,  34.6704,2,  34.6708,2, -0.0168,    217.1,2,   126.03,2,    33.17,2,     0.01,2,     2.28,2, -999.000,9, -999.000,9, -999.000,9,-999.0000,9,    -9.00,9,-999.000,9,   2262.3,2,-999.0000,-999.000,-999.000,-999.000
    06AQANTX_4,   A12,   599,  1,      9,      9,2,19920616,1758,-68.0000,   0.0167, 4462,   2199.8,  -0.0519,  34.6657,2,  34.6665,2, -0.1708,    224.3,2,   126.51,2,    33.06,2,     0.01,2,     2.27,2,    0.184,2,    0.123,3, -999.000,9,-999.0000,9,    -9.00,9,-999.000,9,   -999.0,9,-999.0000,-999.000,-999.000,-999.000
    06AQANTX_4,   A12,   599,  1,      8,      8,2,19920616,1758,-68.0000,   0.0167, 4462,   2598.7,  -0.1445,  34.6630,2,  34.6636,2, -0.2918,    229.6,2,   126.68,2,    33.40,2,     0.01,2,     2.27,2, -999.000,9, -999.000,9, -999.000,9,-999.0000,9,    -9.00,9,-999.000,9,   2258.9,2,-999.0000,-999.000,-999.000,-999.000
    06AQANTX_4,   A12,   599,  1,      7,      7,2,19920616,1758,-68.0000,   0.0167, 4462,   2999.2,  -0.2036,  34.6605,2,  34.6602,2, -0.3821,    233.3,2,   125.86,2,    33.96,2,     0.00,2,     2.27,2,    0.282,2,    0.126,2, -999.000,9,-999.0000,9,    -9.00,9,-999.000,9,   2255.8,2,-999.0000,-999.000,-999.000,-999.000
    06AQANTX_4,   A12,   599,  1,      6,      6,2,19920616,1758,-68.0000,   0.0167, 4462,   3399.1,  -0.2462,  34.6567,2,  34.6568,2, -0.4584,    237.2,2,   124.67,2,    33.71,2,     0.01,2,     2.24,2, -999.000,9, -999.000,9, -999.000,9,-999.0000,9,    -9.00,9,-999.000,9,   -999.0,9,-999.0000,-999.000,-999.000,-999.000
    06AQANTX_4,   A12,   599,  1,      5,      5,2,19920616,1758,-68.0000,   0.0167, 4462,   3799.4,  -0.2781,  34.6549,2,  34.6537,2, -0.5265,    240.9,2,   126.57,2,    33.24,2,     0.01,2,     2.23,2, -999.000,9, -999.000,9, -999.000,9,-999.0000,9,    -9.00,9,-999.000,9,   2254.7,2,-999.0000,-999.000,-999.000,-999.000
    06AQANTX_4,   A12,   599,  1,      4,      4,2,19920616,1758,-68.0000,   0.0167, 4462,   4198.8,  -0.2869,  34.6530,2,  34.6535,2, -0.5742,    241.4,2,   127.86,2,    32.75,2,     0.01,2,     2.24,2,    0.383,2,    0.175,2, -999.000,9,-999.0000,9,    -9.00,9,-999.000,9,   -999.0,9,-999.0000,-999.000,-999.000,-999.000
    06AQANTX_4,   A12,   599,  1,      3,      3,2,19920616,1758,-68.0000,   0.0167, 4462,   4389.2,  -0.2895,  34.6531,2,  34.6525,2, -0.5962,    242.5,2,   128.66,2,    33.04,2,     0.01,2,     2.23,2, -999.000,9, -999.000,9, -999.000,9,-999.0000,9,    -9.00,9,-999.000,9,   2250.5,2,-999.0000,-999.000,-999.000,-999.000
    06AQANTX_4,   A12,   599,  1,      2,      2,2,19920616,1758,-68.0000,   0.0167, 4462,   4460.1,  -0.2937,  34.6531,2,  34.6517,2, -0.6076,    243.7,2,   129.08,2,    32.89,2,     0.02,2,     2.24,2,    0.345,2,    0.168,2, -999.000,9,-999.0000,9,    -9.00,9,-999.000,9,   2250.4,2,-999.0000,-999.000,-999.000,-999.000
    06AQANTX_4,   A12,   599,  1,      1,      1,2,19920616,1758,-68.0000,   0.0167, 4462,   4545.8,  -0.3065,  34.6524,2,  34.6581,4, -0.6290,   -999.0,9,   134.61,2,    32.01,2,     0.03,2,     2.24,2,    0.291,2,    0.137,2, -999.000,9,-999.0000,9,    -9.00,9,-999.000,9,   2254.4,2,-999.0000,-999.000,-999.000,-999.000