BOTTLE,20061211WHPSIODBK
EXPOCODE,SECT_ID,STNNBR,CASTNO,SAMPNO,BTLNBR,BTLNBR_FLAG_W,DATE,TIME,LATITUDE,LONGITUDE,DEPTH,CTDPRS,CTDTMP,CTDSAL,CTDSAL_FLAG_W,SALNTY,SALNTY_FLAG_W,THETA,OXYGEN,OXYGEN_FLAG_W,SILCAT,SILCAT_FLAG_W,NITRAT,NITRAT_FLAG_W,NITRIT,NITRIT_FLAG_W,PHSPHT,PHSPHT_FLAG_W,CFC-11,CFC-11_FLAG_W,CFC-12,CFC-12_FLAG_W,TRITUM,TRITUM_FLAG_W,HELIUM,HELIUM_FLAG_W,DELHE3,DELHE3_FLAG_W,NEON,NEON_FLAG_W,TCARBN,TCARBN_FLAG_W,HELIER,TRITER,NEONER,DELHER
,,,,,,,,,,,,DBAR,ITS-90,PSS-78,,PSS-78,,DEG C,UMOL/KG,,UMOL/KG,,UMOL/KG,,UMOL/KG,,UMOL/KG,,PMOL/KG,,PMOL/KG,,TU,,NMOL/KG,,PERCNT,,NMOL/KG,,UMOL/KG,,NMOL/KG,TU,NMOL/KG,PERCNT
    06AQANTX_4,   A12,   576,  1,     24,     24,2,19920608,1828,-54.9833,   0.0167, 1685,     17.8,  -0.8497,  33.9011,2,  33.8997,2, -0.8502,   -999.0,9,    45.31,2,    26.34,2,     0.21,2,     1.81,2, -999.000,9, -999.000,9, -999.000,9,-999.0000,9,    -9.00,9,-999.000,9,   -999.0,9,-999.0000,-999.000,-999.000,-999.000
    06AQANTX_4,   A12,   576,  1,     23,     23,2,19920608,1828,-54.9833,   0.0167, 1685,     18.6,  -0.8524,  33.9009,2,  33.8992,2, -0.8529,    339.9,2,    45.37,2,    25.90,2,     0.21,2,     1.81,2,    6.402,6,    3.039,6, -999.000,9,-999.0000,9,    -9.00,9,-999.000,9,   2167.0,2,-999.0000,-999.000,-999.000,-999.000
    06AQANTX_4,   A12,   576,  1,     21,     21,2,19920608,1828,-54.9833,   0.0167, 1685,     39.5,  -0.8511,  33.8995,2,  33.8989,2, -0.8522,   -999.0,9,    45.42,2,    26.25,2,     0.21,2,     1.80,2, -999.000,9, -999.000,9, -999.000,9,-999.0000,9,    -9.00,9,-999.000,9,   -999.0,9,-999.0000,-999.000,-999.000,-999.000
    06AQANTX_4,   A12,   576,  1,     22,     22,2,19920608,1828,-54.9833,   0.0167, 1685,     39.9,  -0.8517,  33.8986,2,  33.8985,2, -0.8528,    339.6,2,    45.44,2,    26.14,2,     0.21,2,     1.81,2, -999.000,9, -999.000,9, -999.000,9,-999.0000,9,    -9.00,9,-999.000,9,   2167.4,2,-999.0000,-999.000,-999.000,-999.000
    06AQANTX_4,   A12,   576,  1,     20,     20,2,19920608,1828,-54.9833,   0.0167, 1685,     79.5,  -0.8506,  33.8994,2,  33.9002,2, -0.8528,   -999.0,9,    45.79,2,    26.16,2,     0.21,2,     1.81,2, -999.000,9, -999.000,9, -999.000,9,-999.0000,9,    -9.00,9,-999.000,9,   -999.0,9,-999.0000,-999.000,-999.000,-999.000
    06AQANTX_4,   A12,   576,  1,     19,     19,2,19920608,1828,-54.9833,   0.0167, 1685,     80.4,  -0.8510,  33.9001,2,  33.9013,2, -0.8532,    338.0,2,    45.67,2,    26.28,2,     0.21,2,     1.80,2,    6.375,6,    3.040,6, -999.000,9,-999.0000,9,    -9.00,9,-999.000,9,   2166.9,2,-999.0000,-999.000,-999.000,-999.000
    06AQANTX_4,   A12,   576,  1,     18,     18,2,19920608,1828,-54.9833,   0.0167, 1685,    121.1,  -0.8450,  33.8992,2,  33.9036,2, -0.8483,   -999.0,9,    45.95,2,    26.16,2,     0.21,2,     1.82,2, -999.000,9, -999.000,9, -999.000,9,-999.0000,9,    -9.00,9,-999.000,9,   -999.0,9,-999.0000,-999.000,-999.000,-999.000
    06AQANTX_4,   A12,   576,  1,     17,     17,2,19920608,1828,-54.9833,   0.0167, 1685,    121.4,  -0.8430,  33.8986,2,  33.9038,2, -0.8463,    339.2,2,    46.21,2,    26.24,2,     0.21,2,     1.82,2,    6.422,3,    3.237,3, -999.000,9,-999.0000,9,    -9.00,9,-999.000,9,   2167.5,2,-999.0000,-999.000,-999.000,-999.000
    06AQANTX_4,   A12,   576,  1,     15,     15,2,19920608,1828,-54.9833,   0.0167, 1685,    179.8,   0.8446,  34.3438,2,  34.3449,2,  0.8368,   -999.0,9,    68.47,2,    33.77,2,     0.04,2,     2.32,2,    2.879,2,    1.353,2, -999.000,9,-999.0000,5,    -9.00,5,-999.000,5,   -999.0,9,-999.0000,-999.000,-999.000,-999.000
    06AQANTX_4,   A12,   576,  1,     16,     16,2,19920608,1828,-54.9833,   0.0167, 1685,    180.8,   0.8129,  34.3347,2,  34.3403,2,  0.8051,    233.6,2,    68.39,2,    33.83,2,     0.04,2,     2.30,2, -999.000,9, -999.000,9, -999.000,9,-999.0000,9,    -9.00,9,-999.000,9,   2227.9,2,-999.0000,-999.000,-999.000,-999.000
    06AQANTX_4,   A12,   576,  1,     13,     13,2,19920608,1828,-54.9833,   0.0167, 1685,    248.9,   1.1443,  34.4900,2,  34.4949,2,  1.1327,   -999.0,9,    81.01,2,    34.63,2,     0.04,2,     2.36,2,    1.651,2,    0.765,2, -999.000,9,-999.0000,9,    -9.00,9,-999.000,9,   -999.0,9,-999.0000,-999.000,-999.000,-999.000
    06AQANTX_4,   A12,   576,  1,     14,     14,2,19920608,1828,-54.9833,   0.0167, 1685,    249.2,   1.1682,  34.4815,2,  34.4824,2,  1.1565,    205.8,2,    80.35,2,    34.46,2,     0.04,2,     2.34,2, -999.000,9, -999.000,9, -999.000,9,-999.0000,5,    -9.00,5,-999.000,5,   2247.4,2,-999.0000,-999.000,-999.000,-999.000
    06AQANTX_4,   A12,   576,  1,     12,     12,2,19920608,1828,-54.9833,   0.0167, 1685,    299.7,   1.5788,  34.5617,2,  34.5635,2,  1.5636,   -999.0,9,    84.62,2,    34.64,2,     0.04,2,     2.37,2, -999.000,9, -999.000,9, -999.000,9,-999.0000,5,    -9.00,5,-999.000,5,   -999.0,9,-999.0000,-999.000,-999.000,-999.000
    06AQANTX_4,   A12,   576,  1,     11,     11,2,19920608,1828,-54.9833,   0.0167, 1685,    299.7,   1.6008,  34.5635,2,  34.5683,2,  1.5855,    185.3,2,    84.51,2,    34.74,2,     0.04,2,     2.38,2,    0.986,2,    0.462,2, -999.000,9,-999.0000,5,    -9.00,5,-999.000,5,   2254.7,2,-999.0000,-999.000,-999.000,-999.000
    06AQANTX_4,   A12,   576,  1,     10,     10,2,19920608,1828,-54.9833,   0.0167, 1685,    349.6,   1.6842,  34.6061,2,  34.6087,2,  1.6660,    181.3,2,    87.23,2,    34.24,2,     0.04,2,     2.33,2,    0.706,2,    0.328,2, -999.000,9,-999.0000,9,    -9.00,9,-999.000,9,   2255.7,2,-999.0000,-999.000,-999.000,-999.000
    06AQANTX_4,   A12,   576,  1,      9,      9,2,19920608,1828,-54.9833,   0.0167, 1685,    501.5,   1.7082,  34.6725,2,  34.6744,2,  1.6812,    182.7,2,    91.04,2,    32.93,2,     0.03,2,     2.26,2,    0.393,2,    0.179,2, -999.000,9,-999.0000,9,    -9.00,9,-999.000,9,   2254.3,2,-999.0000,-999.000,-999.000,-999.000
    06AQANTX_4,   A12,   576,  1,      8,      8,2,19920608,1828,-54.9833,   0.0167, 1685,    650.3,   1.5378,  34.6956,2,  34.6984,2,  1.5029,    189.5,2,    94.84,2,    32.51,2,     0.03,2,     2.21,2,    0.384,4,    0.203,4, -999.000,9,-999.0000,5,    -9.00,5,-999.000,5,   2256.5,2,-999.0000,-999.000,-999.000,-999.000
    06AQANTX_4,   A12,   576,  1,      7,      7,2,19920608,1828,-54.9833,   0.0167, 1685,    799.6,   1.4252,  34.7127,2,  34.7135,2,  1.3820,    194.2,2,    97.57,2,    32.02,2,     0.03,2,     2.18,2,    0.272,2,    0.129,2, -999.000,9,-999.0000,5,    -9.00,5,-999.000,5,   2253.4,2,-999.0000,-999.000,-999.000,-999.000
    06AQANTX_4,   A12,   576,  1,      6,      6,2,19920608,1828,-54.9833,   0.0167, 1685,    999.3,   1.1659,  34.7066,2,  34.7066,2,  1.1123,    198.7,2,   104.33,2,    32.17,2,     0.03,2,     2.19,2,    0.277,2,    0.129,2, -999.000,9,-999.0000,9,    -9.00,9,-999.000,9,   2256.9,2,-999.0000,-999.000,-999.000,-999.000
    06AQANTX_4,   A12,   576,  1,      5,      5,2,19920608,1828,-54.9833,   0.0167, 1685,   1199.7,   0.9489,  34.7023,2,  34.7021,2,  0.8846,    201.3,2,   110.69,2,    32.81,2,     0.02,2,     2.21,2,    0.241,2,    0.115,2, -999.000,9,-999.0000,9,    -9.00,9,-999.000,9,   2257.9,2,-999.0000,-999.000,-999.000,-999.000
    06AQANTX_4,   A12,   576,  1,      4,      4,2,19920608,1828,-54.9833,   0.0167, 1685,   1500.6,   0.6807,  34.6922,2,  34.6919,2,  0.5997,    205.6,2,   117.47,2,    32.83,2,     0.03,2,     2.24,2,    0.275,2,    0.130,2, -999.000,9,-999.0000,9,    -9.00,9,-999.000,9,   2259.2,2,-999.0000,-999.000,-999.000,-999.000
    06AQANTX_4,   A12,   576,  1,      3,      3,2,19920608,1828,-54.9833,   0.0167, 1685,   1600.7,   0.6100,  34.6891,2,  34.6893,2,  0.5232,   -999.0,9,   119.31,2,    32.92,2,     0.03,2,     2.24,2, -999.000,9, -999.000,9, -999.000,9,-999.0000,5,    -9.00,5,-999.000,5,   2261.9,2,-999.0000,-999.000,-999.000,-999.000
    06AQANTX_4,   A12,   576,  1,      2,      2,2,19920608,1828,-54.9833,   0.0167, 1685,   1669.9,   0.5625,  34.6876,2,  34.6873,2,  0.4716,    205.7,2,   120.85,2,    32.83,2,     0.03,2,     2.26,2,    0.248,2,    0.115,2, -999.000,9,-999.0000,9,    -9.00,9,-999.000,9,   2261.5,2,-999.0000,-999.000,-999.000,-999.000
    06AQANTX_4,   A12,   576,  1,      1,      1,2,19920608,1828,-54.9833,   0.0167, 1685,   1707.8,   0.5600,  34.6870,2,  34.6873,2,  0.4665,    207.5,2,   120.83,2,    32.85,2,     0.03,2,     2.23,2,    0.251,6,    0.114,6, -999.000,9,-999.0000,9,    -9.00,9,-999.000,9,   2261.0,2,-999.0000,-999.000,-999.000,-999.000
    06AQANTX_4,   A12,   577,  1,     24,     24,2,19920609,0837,-56.0000,   0.0000, 3493,     19.4,  -1.0096,  34.1203,2,  34.1113,2, -1.0101,    333.0,2,    64.79,2,    28.12,2,     0.20,2,     1.98,2,    6.159,2,    2.837,2, -999.000,9,   0.2030,4,     1.39,2,-999.000,9,   2188.8,2,  0.0010,-999.000,-999.000,   0.320
    06AQANTX_4,   A12,   577,  1,     23,     23,2,19920609,0837,-56.0000,   0.0000, 3493,     51.2,  -0.9981,  34.1175,2,  34.1113,2, -0.9994,    332.0,2,    65.10,2,    28.18,2,     0.19,2,     1.98,2, -999.000,9, -999.000,9, -999.000,9,-999.0000,9,    -9.00,9,-999.000,9,   2189.2,2,-999.0000,-999.000,-999.000,-999.000
    06AQANTX_4,   A12,   577,  1,     22,     22,2,19920609,0837,-56.0000,   0.0000, 3493,     70.3,  -1.0051,  34.1180,2,  34.1094,2, -1.0069,    333.5,2,    65.02,2,    27.98,2,     0.19,2,     1.97,2,    6.117,2,    2.815,2, -999.000,9,   1.8150,2,    -0.55,2,   8.176,2,   2189.3,2,  0.0070,-999.000,   0.041,   0.320
    06AQANTX_4,   A12,   577,  1,     21,     21,2,19920609,0837,-56.0000,   0.0000, 3493,    100.6,  -0.9337,  34.1273,2,  34.1384,3, -0.9364,    323.0,2,    66.42,2,    28.38,2,     0.18,2,     2.00,2, -999.000,9, -999.000,9, -999.000,9,-999.0000,9,    -9.00,9,-999.000,9,   2193.2,2,-999.0000,-999.000,-999.000,-999.000
    06AQANTX_4,   A12,   577,  1,     20,     20,2,19920609,0837,-56.0000,   0.0000, 3493,    140.2,   0.5444,  34.4499,2,  34.4474,2,  0.5387,    231.3,2,    82.85,2,    32.37,2,     0.07,2,     2.28,2,    2.547,2,    1.159,2, -999.000,9,   1.8420,2,     5.09,2,   8.144,2,   2235.9,2,  0.0070,-999.000,   0.041,   0.320
    06AQANTX_4,   A12,   577,  1,     19,     19,2,19920609,0837,-56.0000,   0.0000, 3493,    197.7,   1.2246,  34.5893,2,  34.5877,2,  1.2153,    195.9,2,    89.72,2,    33.71,2,     0.04,2,     2.35,2, -999.000,9, -999.000,9, -999.000,9,-999.0000,9,    -9.00,9,-999.000,9,   2248.7,2,-999.0000,-999.000,-999.000,-999.000
    06AQANTX_4,   A12,   577,  1,     18,     18,2,19920609,0837,-56.0000,   0.0000, 3493,    248.9,   1.3601,  34.6389,2,  34.6349,2,  1.3480,    191.4,2,    93.00,2,    33.23,2,     0.04,2,     2.32,2,    0.854,2,    0.436,2, -999.000,9,   1.8560,2,     9.25,2,   8.061,2,   2252.9,2,  0.0070,-999.000,   0.040,   0.320
    06AQANTX_4,   A12,   577,  1,     17,     17,2,19920609,0837,-56.0000,   0.0000, 3493,    302.2,   1.3965,  34.6594,2,  34.6558,2,  1.3815,    190.5,2,    94.21,2,    32.64,2,     0.03,2,     2.30,2,    0.646,2,    0.296,2, -999.000,9,-999.0000,9,    -9.00,9,-999.000,9,   2254.4,2,-999.0000,-999.000,-999.000,-999.000
    06AQANTX_4,   A12,   577,  1,     16,     16,2,19920609,0837,-56.0000,   0.0000, 3493,    399.0,   1.2740,  34.6832,2,  34.6815,2,  1.2543,    194.3,2,    99.13,2,    32.30,2,     0.02,2,     2.29,2,    0.519,2,    0.240,2, -999.000,9,   1.8510,2,    10.37,2,   8.067,4,   2254.7,2,  0.0070,-999.000,   0.040,   0.320
    06AQANTX_4,   A12,   577,  1,     15,     15,2,19920609,0837,-56.0000,   0.0000, 3493,    499.1,   1.1212,  34.6882,2,  34.6864,2,  1.0968,    198.4,2,   103.21,2,    32.12,2,     0.03,2,     2.27,2,    0.482,2,    0.219,2, -999.000,9,-999.0000,9,    -9.00,9,-999.000,9,   2255.4,2,-999.0000,-999.000,-999.000,-999.000
    06AQANTX_4,   A12,   577,  1,     14,     14,2,19920609,0837,-56.0000,   0.0000, 3493,    598.9,   0.9613,  34.6878,2,  34.6864,2,  0.9322,    200.9,2,   106.59,2,    32.30,2,     0.03,2,     2.28,2,    0.475,2,    0.208,2, -999.000,9,   0.0000,4,     7.93,2,   0.000,4,   2254.6,2,  0.0000,-999.000,   0.000,   0.320
    06AQANTX_4,   A12,   577,  1,     13,     13,2,19920609,0837,-56.0000,   0.0000, 3493,    700.5,   0.8939,  34.6922,2,  34.6906,2,  0.8597,    201.7,2,   109.67,2,    32.23,2,     0.04,2,     2.28,2,    0.381,4,    0.177,4, -999.000,9,-999.0000,9,    -9.00,9,-999.000,9,   2256.3,2,-999.0000,-999.000,-999.000,-999.000
    06AQANTX_4,   A12,   577,  1,     12,     12,2,19920609,0837,-56.0000,   0.0000, 3493,    799.0,   0.7850,  34.6899,2,  34.6885,2,  0.7460,    203.4,2,   112.07,2,    31.88,2,     0.03,2,     2.28,2,    0.391,2,    0.206,3, -999.000,9,-999.0000,9,    -9.00,9,-999.000,9,   2256.0,2,-999.0000,-999.000,-999.000,-999.000
    06AQANTX_4,   A12,   577,  1,     11,     11,2,19920609,0837,-56.0000,   0.0000, 3493,    999.0,   0.5058,  34.6779,2,  34.6768,2,  0.4576,    205.8,2,   117.11,2,    32.79,2,     0.02,2,     2.31,2,    0.387,2,    0.180,2, -999.000,9,-999.0000,9,    -9.00,9,-999.000,9,   2262.4,2,-999.0000,-999.000,-999.000,-999.000
    06AQANTX_4,   A12,   577,  1,     10,     10,2,19920609,0837,-56.0000,   0.0000, 3493,   1202.5,   0.4205,  34.6799,2,  34.6787,2,  0.3612,    202.8,2,   121.71,2,    33.41,2,     0.02,2,     2.33,2,    0.271,2,    0.122,2, -999.000,9,-999.0000,9,    -9.00,9,-999.000,9,   2261.6,2,-999.0000,-999.000,-999.000,-999.000
    06AQANTX_4,   A12,   577,  1,      9,      9,2,19920609,0837,-56.0000,   0.0000, 3493,   1500.1,   0.2876,  34.6761,2,  34.6756,2,  0.2114,    206.6,2,   125.77,2,    33.27,2,     0.02,2,     2.36,2,    0.195,2,    0.103,2, -999.000,9,   1.9820,4,   -17.04,4,-999.000,9,   2262.5,2,  0.0070,-999.000,-999.000,   0.320
    06AQANTX_4,   A12,   577,  1,      8,      8,2,19920609,0837,-56.0000,   0.0000, 3493,   1802.4,   0.1633,  34.6724,2,  34.6704,2,  0.0688,    213.3,2,   126.34,2,    33.23,2,     0.03,2,     2.35,2,    0.245,4,    0.169,4, -999.000,9,-999.0000,9,    -9.00,9,-999.000,9,   2261.0,2,-999.0000,-999.000,-999.000,-999.000
    06AQANTX_4,   A12,   577,  1,      7,      7,2,19920609,0837,-56.0000,   0.0000, 3493,   2199.6,   0.0112,  34.6630,2,  34.6656,2, -0.1088,    221.9,2,   127.97,2,    32.72,2,     0.03,2,     2.33,2,    0.227,2,    0.107,2, -999.000,9,-999.0000,9,    -9.00,9,-999.000,9,   2256.8,2,-999.0000,-999.000,-999.000,-999.000
    06AQANTX_4,   A12,   577,  1,      6,      6,2,19920609,0837,-56.0000,   0.0000, 3493,   2500.8,  -0.0778,  34.6622,2,  34.6601,2, -0.2188,    225.8,2,   130.20,2,    32.70,2,     0.03,2,     2.32,2,    0.256,2,    0.120,2, -999.000,9,-999.0000,9,    -9.00,9,-999.000,9,   2254.6,2,-999.0000,-999.000,-999.000,-999.000
    06AQANTX_4,   A12,   577,  1,      5,      5,2,19920609,0837,-56.0000,   0.0000, 3493,   2800.8,  -0.1231,  34.6585,2,  34.6580,2, -0.2869,    227.3,2,   130.15,2,    32.73,2,     0.02,2,     2.33,2,    0.252,2,    0.119,2, -999.000,9,   4.8040,4,    -9.00,9,-999.000,9,   2253.0,2,  0.0180,-999.000,-999.000,-999.000
    06AQANTX_4,   A12,   577,  1,      4,      4,2,19920609,0837,-56.0000,   0.0000, 3493,   3201.9,  -0.2151,  34.6565,2,  34.6534,2, -0.4106,    234.4,2,   127.85,2,    32.62,2,     0.02,2,     2.33,2,    0.268,2,    0.135,2, -999.000,9,-999.0000,9,    -9.00,9,-999.000,9,   2252.3,2,-999.0000,-999.000,-999.000,-999.000
    06AQANTX_4,   A12,   577,  1,      3,      3,2,19920609,0837,-56.0000,   0.0000, 3493,   3452.2,  -0.2866,  34.6537,2,  34.6519,2, -0.5025,    238.0,2,   126.30,2,    32.66,2,     0.02,2,     2.32,2,    0.321,2,    0.155,2, -999.000,9,-999.0000,9,    -9.00,9,-999.000,9,   2248.5,2,-999.0000,-999.000,-999.000,-999.000
    06AQANTX_4,   A12,   577,  1,      2,      2,2,19920609,0837,-56.0000,   0.0000, 3493,   3521.8,  -0.2877,  34.6538,2,  34.6535,2, -0.5099,    238.7,2,   126.47,2,    32.51,2,     0.03,2,     2.31,2,    0.324,2,    0.160,2, -999.000,9,-999.0000,9,    -9.00,9,-999.000,9,   2249.2,2,-999.0000,-999.000,-999.000,-999.000
    06AQANTX_4,   A12,   577,  1,      1,      1,2,19920609,0837,-56.0000,   0.0000, 3493,   3579.9,  -0.2861,  34.6537,2,  34.6503,2, -0.5137,    239.7,2,   126.04,2,    32.04,2,     0.02,2,     2.26,2,    0.329,2,    0.175,2, -999.000,9,   1.8830,2,     6.02,2,   8.254,2,   2245.6,2,  0.0070,-999.000,   0.041,   0.320