BOTTLE,20061211WHPSIODBK
EXPOCODE,SECT_ID,STNNBR,CASTNO,SAMPNO,BTLNBR,BTLNBR_FLAG_W,DATE,TIME,LATITUDE,LONGITUDE,DEPTH,CTDPRS,CTDTMP,CTDSAL,CTDSAL_FLAG_W,SALNTY,SALNTY_FLAG_W,THETA,OXYGEN,OXYGEN_FLAG_W,SILCAT,SILCAT_FLAG_W,NITRAT,NITRAT_FLAG_W,NITRIT,NITRIT_FLAG_W,PHSPHT,PHSPHT_FLAG_W,CFC-11,CFC-11_FLAG_W,CFC-12,CFC-12_FLAG_W,TRITUM,TRITUM_FLAG_W,HELIUM,HELIUM_FLAG_W,DELHE3,DELHE3_FLAG_W,NEON,NEON_FLAG_W,TCARBN,TCARBN_FLAG_W,HELIER,TRITER,NEONER,DELHER
,,,,,,,,,,,,DBAR,ITS-90,PSS-78,,PSS-78,,DEG C,UMOL/KG,,UMOL/KG,,UMOL/KG,,UMOL/KG,,UMOL/KG,,PMOL/KG,,PMOL/KG,,TU,,NMOL/KG,,PERCNT,,NMOL/KG,,UMOL/KG,,NMOL/KG,TU,NMOL/KG,PERCNT
    06AQANTX_4,  SR04,   618,  3,     13,     13,2,19920710,1901,-69.2167, -25.0000, 4658,      4.4,  -1.7729,  34.4299,2,-999.0000,9, -1.7730,   -999.0,9,  -999.00,9,  -999.00,9,  -999.00,9,  -999.00,9,    4.938,2,    2.191,2, -999.000,9,-999.0000,9,    -9.00,9,-999.000,9,   -999.0,9,-999.0000,-999.000,-999.000,-999.000
    06AQANTX_4,  SR04,   618,  3,     12,     12,2,19920710,1901,-69.2167, -25.0000, 4658,      4.6,  -1.7928,  34.4399,2,  34.4399,2, -1.7929,   -999.0,9,  -999.00,9,  -999.00,9,  -999.00,9,  -999.00,9, -999.000,9, -999.000,9, -999.000,9,-999.0000,9,    -9.00,9,-999.000,9,   -999.0,9,-999.0000,-999.000,-999.000,-999.000
    06AQANTX_4,  SR04,   618,  3,     11,     11,2,19920710,1901,-69.2167, -25.0000, 4658,     28.0,  -1.7722,  34.4420,2,  34.4421,2, -1.7727,   -999.0,9,  -999.00,9,  -999.00,9,  -999.00,9,  -999.00,9,    4.918,2,    2.166,2, -999.000,9,-999.0000,9,    -9.00,9,-999.000,9,   -999.0,9,-999.0000,-999.000,-999.000,-999.000
    06AQANTX_4,  SR04,   618,  3,     10,     10,2,19920710,1901,-69.2167, -25.0000, 4658,     49.1,  -1.7035,  34.4571,2,  34.5046,3, -1.7045,   -999.0,9,  -999.00,9,  -999.00,9,  -999.00,9,  -999.00,9,    3.709,2,    1.636,2, -999.000,9,-999.0000,9,    -9.00,9,-999.000,9,   -999.0,9,-999.0000,-999.000,-999.000,-999.000
    06AQANTX_4,  SR04,   618,  3,      9,      9,2,19920710,1901,-69.2167, -25.0000, 4658,     99.5,   0.2317,  34.6140,2,  34.6265,2,  0.2279,   -999.0,9,  -999.00,9,  -999.00,9,  -999.00,9,  -999.00,9,    1.452,2,    0.676,2, -999.000,9,-999.0000,9,    -9.00,9,-999.000,9,   -999.0,9,-999.0000,-999.000,-999.000,-999.000
    06AQANTX_4,  SR04,   618,  3,      8,      8,2,19920710,1901,-69.2167, -25.0000, 4658,    149.3,   0.5278,  34.6521,2,  34.6500,2,  0.5217,   -999.0,9,  -999.00,9,  -999.00,9,  -999.00,9,  -999.00,9,    1.014,2,    0.447,2, -999.000,9,-999.0000,9,    -9.00,9,-999.000,9,   -999.0,9,-999.0000,-999.000,-999.000,-999.000
    06AQANTX_4,  SR04,   618,  3,      7,      7,2,19920710,1901,-69.2167, -25.0000, 4658,    199.8,   0.7638,  34.6744,2,  34.6745,2,  0.7551,   -999.0,9,  -999.00,9,  -999.00,9,  -999.00,9,  -999.00,9, -999.000,9, -999.000,9, -999.000,9,-999.0000,9,    -9.00,9,-999.000,9,   -999.0,9,-999.0000,-999.000,-999.000,-999.000
    06AQANTX_4,  SR04,   618,  3,      6,      6,2,19920710,1901,-69.2167, -25.0000, 4658,    249.4,   0.8603,  34.6891,2,  34.6891,2,  0.8492,   -999.0,9,  -999.00,9,  -999.00,9,  -999.00,9,  -999.00,9,    0.469,2,    0.209,2, -999.000,9,-999.0000,9,    -9.00,9,-999.000,9,   -999.0,9,-999.0000,-999.000,-999.000,-999.000
    06AQANTX_4,  SR04,   618,  3,      5,      5,2,19920710,1901,-69.2167, -25.0000, 4658,    300.1,   0.8312,  34.6893,2,  34.6700,3,  0.8177,   -999.0,9,  -999.00,9,  -999.00,9,  -999.00,9,  -999.00,9,    0.438,2,    0.199,2, -999.000,9,-999.0000,9,    -9.00,9,-999.000,9,   -999.0,9,-999.0000,-999.000,-999.000,-999.000
    06AQANTX_4,  SR04,   618,  3,      4,      4,2,19920710,1901,-69.2167, -25.0000, 4658,    349.6,   0.7803,  34.6934,2,  34.6935,2,  0.7646,   -999.0,9,  -999.00,9,  -999.00,9,  -999.00,9,  -999.00,9,    0.353,2,    0.161,2, -999.000,9,-999.0000,9,    -9.00,9,-999.000,9,   -999.0,9,-999.0000,-999.000,-999.000,-999.000
    06AQANTX_4,  SR04,   618,  3,      3,      3,2,19920710,1901,-69.2167, -25.0000, 4658,    396.6,   0.7396,  34.6938,2,  34.6794,3,  0.7218,   -999.0,9,  -999.00,9,  -999.00,9,  -999.00,9,  -999.00,9,    0.334,2,    0.166,2, -999.000,9,-999.0000,9,    -9.00,9,-999.000,9,   -999.0,9,-999.0000,-999.000,-999.000,-999.000
    06AQANTX_4,  SR04,   618,  3,      2,      2,2,19920710,1901,-69.2167, -25.0000, 4658,    449.8,   0.6884,  34.6916,2,  34.6820,2,  0.6682,   -999.0,9,  -999.00,9,  -999.00,9,  -999.00,9,  -999.00,9,    0.305,2,    0.140,2, -999.000,9,-999.0000,9,    -9.00,9,-999.000,9,   -999.0,9,-999.0000,-999.000,-999.000,-999.000
    06AQANTX_4,  SR04,   618,  3,      1,      1,2,19920710,1901,-69.2167, -25.0000, 4658,    496.1,   0.6528,  34.6920,2,  34.6879,2,  0.6304,   -999.0,9,  -999.00,9,  -999.00,9,  -999.00,9,  -999.00,9,    0.276,2,    0.128,2, -999.000,9,-999.0000,9,    -9.00,9,-999.000,9,   -999.0,9,-999.0000,-999.000,-999.000,-999.000
    06AQANTX_4,  SR04,   619,  1,     24,     24,2,19920711,0535,-68.7167, -26.2667, 4698,      6.4,  -1.8099,  34.4530,2,  34.4553,2, -1.8100,    299.0,2,    68.51,2,    28.26,2,     0.18,2,     2.01,2,    5.059,2,    2.225,2,    0.147,2,-999.0000,5,    -9.00,5,-999.000,5,   2217.9,2,-999.0000,   0.008,-999.000,-999.000
    06AQANTX_4,  SR04,   619,  1,     23,     23,2,19920711,0535,-68.7167, -26.2667, 4698,     40.1,  -1.8082,  34.4527,2,  34.4543,2, -1.8090,    300.4,2,    68.48,2,    28.26,2,     0.18,2,     2.00,2,    5.379,2,    2.422,2,    0.123,2,   1.8000,2,     1.41,2,   8.147,2,   2216.4,2,  0.0070,   0.008,   0.040,   0.310
    06AQANTX_4,  SR04,   619,  1,     22,     22,2,19920711,0535,-68.7167, -26.2667, 4698,     78.9,  -1.8073,  34.4547,2,  34.4546,2, -1.8089,    300.0,2,    68.36,2,    28.23,2,     0.18,2,     1.99,2,    5.456,2,    2.396,2,    0.065,2,   1.8190,2,     1.14,2,   8.121,2,   2219.1,2,  0.0070,   0.004,   0.040,   0.310
    06AQANTX_4,  SR04,   619,  1,     21,     21,2,19920711,0535,-68.7167, -26.2667, 4698,    120.2,   0.3448,  34.6380,2,  34.6366,2,  0.3401,    203.4,2,    99.99,2,    33.95,2,     0.03,2,     2.29,2, -999.000,9, -999.000,9,    0.032,2,   1.8260,2,     7.98,2,   8.043,2,   2255.9,2,  0.0070,   0.005,   0.039,   0.310
    06AQANTX_4,  SR04,   619,  1,     20,     20,2,19920711,0535,-68.7167, -26.2667, 4698,    179.2,   0.4946,  34.6545,2,  34.6549,2,  0.4873,    199.9,2,   103.18,2,    34.05,2,     0.02,2,     2.32,2,    0.973,2,    0.432,2,    0.035,2,   3.9610,4,     0.09,4,  11.986,4,   2258.0,2,  0.0140,   0.003,   0.059,   0.310
    06AQANTX_4,  SR04,   619,  1,     19,     19,2,19920711,0535,-68.7167, -26.2667, 4698,    249.7,   0.6075,  34.6690,2,  34.6694,2,  0.5969,    197.2,2,   106.42,2,    34.04,2,     0.01,2,     2.31,2,    0.745,2,    0.340,2,    0.038,2,   1.8430,2,     8.12,2,   8.053,2,   2260.0,2,  0.0070,   0.004,   0.039,   0.310
    06AQANTX_4,  SR04,   619,  1,     18,     18,2,19920711,0535,-68.7167, -26.2667, 4698,    350.8,   0.7602,  34.6902,2,  34.6896,2,  0.7445,    196.1,2,   113.13,2,    33.86,2,     0.01,2,     2.30,2,    0.334,2,    0.154,2,    0.033,2,   1.8450,2,     9.33,2,   8.051,2,   2264.1,2,  0.0070,   0.003,   0.039,   0.310
    06AQANTX_4,  SR04,   619,  1,     17,     17,2,19920711,0535,-68.7167, -26.2667, 4698,    499.7,   0.6123,  34.6894,2,  34.6930,2,  0.5899,    199.8,2,   118.44,2,    33.99,2,     0.01,2,     2.31,2,    0.301,2,    0.119,3, -999.000,9,   1.8500,2,     9.08,2,   8.150,2,   2261.4,2,  0.0070,-999.000,   0.040,   0.310
    06AQANTX_4,  SR04,   619,  1,     16,     16,2,19920711,0535,-68.7167, -26.2667, 4698,    649.7,   0.4809,  34.6860,2,  34.6862,2,  0.4516,    200.7,2,   122.26,2,    34.21,2,     0.01,2,     2.36,2,    0.214,2,    0.093,2,    0.014,2,   1.8560,2,     8.63,2,   8.117,2,   2263.5,2,  0.0070,   0.004,   0.040,   0.310
    06AQANTX_4,  SR04,   619,  1,     15,     15,2,19920711,0535,-68.7167, -26.2667, 4698,    799.6,   0.3799,  34.6815,2,  34.6818,2,  0.3435,    202.1,2,   124.91,2,    34.32,2,     0.01,2,     2.32,2,    0.150,2,    0.074,2,    0.010,2,   1.8540,2,     8.44,2,   8.139,2,   2262.9,2,  0.0070,   0.002,   0.040,   0.310
    06AQANTX_4,  SR04,   619,  1,     14,     14,2,19920711,0535,-68.7167, -26.2667, 4698,    999.6,   0.2737,  34.6781,2,  34.6784,2,  0.2273,    205.0,2,   127.08,2,    34.44,2,     0.01,2,     2.33,2,    0.130,2,    0.065,2,    0.024,2,   1.8520,2,     8.66,2,   8.101,2,   2263.5,2,  0.0070,   0.011,   0.040,   0.310
    06AQANTX_4,  SR04,   619,  1,     13,     13,2,19920711,0535,-68.7167, -26.2667, 4698,   1200.8,   0.1884,  34.6744,2,  34.6755,2,  0.1314,    207.3,2,   128.26,2,    34.42,2,     0.01,2,     2.34,2,    0.133,2,    0.071,2, -999.000,9,   1.8590,2,     8.27,2,   8.199,2,   2262.8,2,  0.0070,-999.000,   0.040,   0.310
    06AQANTX_4,  SR04,   619,  1,     12,     12,2,19920711,0535,-68.7167, -26.2667, 4698,   1501.3,   0.0769,  34.6717,2,  34.6714,2,  0.0031,    213.1,2,   128.64,2,    34.36,2,     0.01,2,     2.32,2,    0.141,2,    0.077,2,    0.017,2,   1.8700,2,     7.58,2,   8.148,2,   2261.4,2,  0.0070,   0.003,   0.041,   0.320
    06AQANTX_4,  SR04,   619,  1,     11,     11,2,19920711,0535,-68.7167, -26.2667, 4698,   1802.0,  -0.0302,  34.6678,2,  34.6656,2, -0.1219,    218.8,2,   128.41,2,    34.03,2,     0.01,2,     2.32,2,    0.404,4,    0.590,4,    0.008,2,   1.8750,2,     8.01,2,   8.189,2,   2260.9,2,  0.0070,   0.005,   0.041,   0.320
    06AQANTX_4,  SR04,   619,  1,     10,     10,2,19920711,0535,-68.7167, -26.2667, 4698,   2179.1,  -0.1243,  34.6611,2,  34.6625,2, -0.2405,    223.9,2,   128.71,2,    33.29,2,     0.01,2,     2.30,2,    0.162,2,    0.082,2,    0.013,2,-999.0000,5,    -9.00,5,-999.000,5,   2256.5,2,-999.0000,   0.011,-999.000,-999.000
    06AQANTX_4,  SR04,   619,  1,      9,      9,2,19920711,0535,-68.7167, -26.2667, 4698,   2601.0,  -0.2087,  34.6574,2,  34.6592,2, -0.3549,    229.1,2,   128.06,2,    33.69,2,     0.01,2,     2.30,2,    0.202,2,    0.154,4,    0.011,2,   1.8970,4,     6.78,4,   8.190,4,   2253.5,2,  0.0160,   0.004,   0.082,   0.320
    06AQANTX_4,  SR04,   619,  1,      8,      8,2,19920711,0535,-68.7167, -26.2667, 4698,   3001.9,  -0.2594,  34.6566,2,  34.6568,2, -0.4369,    233.2,2,   127.69,2,    33.57,2,     0.02,2,     2.29,2,    0.213,2,    0.105,2,    0.011,2,   1.8700,2,     6.26,2,   8.193,2,   2253.7,2,  0.0070,   0.003,   0.041,   0.320
    06AQANTX_4,  SR04,   619,  1,      7,      7,2,19920711,0535,-68.7167, -26.2667, 4698,   3401.1,  -0.3023,  34.6551,2,  34.6543,2, -0.5133,    236.3,2,   127.28,2,    33.46,2,     0.01,2,     2.28,2,    0.214,2,    0.103,2,    0.021,2,-999.0000,5,    -9.00,5,-999.000,5,   2251.5,2,-999.0000,   0.010,-999.000,-999.000
    06AQANTX_4,  SR04,   619,  1,      6,      6,2,19920711,0535,-68.7167, -26.2667, 4698,   3801.3,  -0.3344,  34.6516,2,  34.6543,2, -0.5814,    238.8,2,   125.47,2,    33.44,2,     0.01,2,     2.28,2,    0.242,2,    0.116,2,    0.014,2,   1.8650,4,     4.91,4,   8.172,4,   2250.4,2,  0.0160,   0.003,   0.082,   0.320
    06AQANTX_4,  SR04,   619,  1,      5,      5,2,19920711,0535,-68.7167, -26.2667, 4698,   4202.2,  -0.3497,  34.6510,2,  34.6520,2, -0.6355,    241.5,2,   129.39,2,    33.40,2,     0.01,2,     2.28,2,    0.212,2,    0.106,2,    0.012,2,-999.0000,5,    -9.00,5,-999.000,5,   2250.5,2,-999.0000,   0.003,-999.000,-999.000
    06AQANTX_4,  SR04,   619,  1,      4,      4,2,19920711,0535,-68.7167, -26.2667, 4698,   4496.5,  -0.3679,  34.6494,2,  34.6521,2, -0.6833,    243.0,2,   130.03,2,    33.41,2,     0.01,2,     2.27,2,    0.158,2,    0.082,2,    0.023,2,   1.8880,2,     5.05,2,   8.288,2,   2249.7,2,  0.0070,   0.005,   0.041,   0.320
    06AQANTX_4,  SR04,   619,  1,      3,      3,2,19920711,0535,-68.7167, -26.2667, 4698,   4640.5,  -0.4183,  34.6485,2,  34.6484,2, -0.7473,    245.5,2,   127.85,2,    33.39,2,     0.01,2,     2.27,2,    0.158,2,    0.083,2,    0.025,2,   1.9210,4,     4.59,4,   8.360,4,   2249.1,2,  0.0170,   0.005,   0.084,   0.320
    06AQANTX_4,  SR04,   619,  1,      2,      2,2,19920711,0535,-68.7167, -26.2667, 4698,   4720.8,  -0.4561,  34.6464,2,  34.6467,2, -0.7924,    251.3,2,   129.88,2,    33.43,2,     0.01,2,     2.27,2,    0.199,2,    0.108,2, -999.000,9,   1.9070,2,     4.30,2,   8.384,2,   2249.4,2,  0.0070,-999.000,   0.042,   0.320
    06AQANTX_4,  SR04,   619,  1,      1,      1,2,19920711,0535,-68.7167, -26.2667, 4698,   4791.0,  -0.4605,  34.6464,2,  34.6467,2, -0.8042,   -999.0,9,   134.57,2,    33.58,2,     0.02,2,     2.26,2,    0.203,2,    0.102,2,    0.038,2,   1.9270,2,     4.30,2,   8.390,2,   2250.6,2,  0.0070,   0.008,   0.042,   0.320