BOTTLE,20061211WHPSIODBK
EXPOCODE,SECT_ID,STNNBR,CASTNO,SAMPNO,BTLNBR,BTLNBR_FLAG_W,DATE,TIME,LATITUDE,LONGITUDE,DEPTH,CTDPRS,CTDTMP,CTDSAL,CTDSAL_FLAG_W,SALNTY,SALNTY_FLAG_W,THETA,OXYGEN,OXYGEN_FLAG_W,SILCAT,SILCAT_FLAG_W,NITRAT,NITRAT_FLAG_W,NITRIT,NITRIT_FLAG_W,PHSPHT,PHSPHT_FLAG_W,CFC-11,CFC-11_FLAG_W,CFC-12,CFC-12_FLAG_W,TRITUM,TRITUM_FLAG_W,HELIUM,HELIUM_FLAG_W,DELHE3,DELHE3_FLAG_W,NEON,NEON_FLAG_W,TCARBN,TCARBN_FLAG_W,HELIER,TRITER,NEONER,DELHER
,,,,,,,,,,,,DBAR,ITS-90,PSS-78,,PSS-78,,DEG C,UMOL/KG,,UMOL/KG,,UMOL/KG,,UMOL/KG,,UMOL/KG,,PMOL/KG,,PMOL/KG,,TU,,NMOL/KG,,PERCNT,,NMOL/KG,,UMOL/KG,,NMOL/KG,TU,NMOL/KG,PERCNT
    06AQANTX_4,   A12,   589,  3,     24,     24,2,19920613,1048,-62.9833,   0.0000, 5274,      9.8,  -1.8433,  34.0405,2,  34.0383,2, -1.8435,    340.4,2,    57.16,2,    25.00,2,     0.23,2,     1.78,2,    6.626,2,    3.205,2, -999.000,9,-999.0000,9,    -9.00,9,-999.000,9,   -999.0,9,-999.0000,-999.000,-999.000,-999.000
    06AQANTX_4,   A12,   589,  3,     23,     23,2,19920613,1048,-62.9833,   0.0000, 5274,     29.3,  -1.8425,  34.0389,2,  34.0395,2, -1.8430,    341.7,2,    57.20,2,    24.99,2,     0.23,2,     1.80,2, -999.000,9, -999.000,9, -999.000,9,-999.0000,9,    -9.00,9,-999.000,9,   -999.0,9,-999.0000,-999.000,-999.000,-999.000
    06AQANTX_4,   A12,   589,  3,     22,     22,2,19920613,1048,-62.9833,   0.0000, 5274,     79.8,  -1.8414,  34.0579,2,  34.0620,2, -1.8429,    340.8,2,    57.99,2,    24.94,2,     0.22,2,     1.79,2,    6.608,2,    3.202,2, -999.000,9,-999.0000,9,    -9.00,9,-999.000,9,   -999.0,9,-999.0000,-999.000,-999.000,-999.000
    06AQANTX_4,   A12,   589,  3,     21,     21,2,19920613,1048,-62.9833,   0.0000, 5274,    139.7,   0.2434,  34.6066,2,  34.6545,4,  0.2380,    199.9,2,   103.89,2,    33.42,2,     0.02,2,     2.27,2,    0.755,2,    0.314,2, -999.000,9,-999.0000,9,    -9.00,9,-999.000,9,   -999.0,9,-999.0000,-999.000,-999.000,-999.000
    06AQANTX_4,   A12,   589,  3,     20,     20,2,19920613,1048,-62.9833,   0.0000, 5274,    220.6,   0.6697,  34.6875,2,  34.6877,2,  0.6603,    198.0,2,   112.11,2,    33.70,2,     0.02,2,     2.28,2,    0.362,2,    0.138,3, -999.000,9,-999.0000,9,    -9.00,9,-999.000,9,   -999.0,9,-999.0000,-999.000,-999.000,-999.000
    06AQANTX_4,   A12,   589,  3,     19,     19,2,19920613,1048,-62.9833,   0.0000, 5274,    320.3,   0.4227,  34.6777,2,  34.6787,2,  0.4094,    191.4,2,   120.05,2,    34.26,2,     0.02,2,     2.34,2, -999.000,9, -999.000,9, -999.000,9,-999.0000,9,    -9.00,9,-999.000,9,   -999.0,9,-999.0000,-999.000,-999.000,-999.000
    06AQANTX_4,   A12,   589,  3,     18,     18,2,19920613,1048,-62.9833,   0.0000, 5274,    449.9,   0.3754,  34.6798,2,  34.6815,2,  0.3563,    194.5,2,   121.97,2,    34.48,2,     0.02,2,     2.34,2,    0.204,2,    0.074,3, -999.000,9,-999.0000,9,    -9.00,9,-999.000,9,   -999.0,9,-999.0000,-999.000,-999.000,-999.000
    06AQANTX_4,   A12,   589,  3,     17,     17,2,19920613,1048,-62.9833,   0.0000, 5274,    580.9,   0.3114,  34.6794,2,  34.6800,2,  0.2864,    196.6,2,   124.12,2,    33.88,2,     0.02,2,     2.31,2, -999.000,9, -999.000,9, -999.000,9,-999.0000,9,    -9.00,9,-999.000,9,   -999.0,9,-999.0000,-999.000,-999.000,-999.000
    06AQANTX_4,   A12,   589,  3,     16,     16,2,19920613,1048,-62.9833,   0.0000, 5274,    701.7,   0.2501,  34.6780,2,  34.6782,2,  0.2195,    201.9,2,   125.00,2,    33.61,2,     0.02,2,     2.30,2,    0.151,2,    0.057,3, -999.000,9,-999.0000,9,    -9.00,9,-999.000,9,   -999.0,9,-999.0000,-999.000,-999.000,-999.000
    06AQANTX_4,   A12,   589,  3,     15,     15,2,19920613,1048,-62.9833,   0.0000, 5274,    850.0,   0.1876,  34.6768,2,  34.6763,2,  0.1499,    205.3,2,   125.71,2,    33.38,2,     0.01,2,     2.30,2, -999.000,9, -999.000,9, -999.000,9,-999.0000,9,    -9.00,9,-999.000,9,   -999.0,9,-999.0000,-999.000,-999.000,-999.000
    06AQANTX_4,   A12,   589,  3,     14,     14,2,19920613,1048,-62.9833,   0.0000, 5274,   1000.2,   0.1236,  34.6735,2,  34.6737,2,  0.0784,    209.9,2,   125.92,2,    33.12,2,     0.01,2,     2.29,2,    0.150,2,    0.066,3, -999.000,9,-999.0000,9,    -9.00,9,-999.000,9,   -999.0,9,-999.0000,-999.000,-999.000,-999.000
    06AQANTX_4,   A12,   589,  3,     13,     13,2,19920613,1048,-62.9833,   0.0000, 5274,   1200.7,   0.0472,  34.6706,2,  34.6740,2, -0.0084,    214.8,2,   125.96,2,    32.79,2,     0.01,2,     2.28,2, -999.000,9, -999.000,9, -999.000,9,-999.0000,9,    -9.00,9,-999.000,9,   -999.0,9,-999.0000,-999.000,-999.000,-999.000
    06AQANTX_4,   A12,   589,  3,     12,     12,2,19920613,1048,-62.9833,   0.0000, 5274,   1499.7,  -0.0507,  34.6663,2,  34.6664,2, -0.1228,    220.7,2,   125.47,2,    32.83,2,     0.02,2,     2.27,2,    0.149,2,    0.035,4, -999.000,9,-999.0000,9,    -9.00,9,-999.000,9,   -999.0,9,-999.0000,-999.000,-999.000,-999.000
    06AQANTX_4,   A12,   589,  3,     11,     11,2,19920613,1048,-62.9833,   0.0000, 5274,   1800.6,  -0.1316,  34.6632,2,  34.6628,2, -0.2217,    224.2,2,   125.11,2,    33.01,2,     0.01,2,     2.27,2, -999.000,9, -999.000,9, -999.000,9,-999.0000,9,    -9.00,9,-999.000,9,   -999.0,9,-999.0000,-999.000,-999.000,-999.000
    06AQANTX_4,   A12,   589,  3,     10,     10,2,19920613,1048,-62.9833,   0.0000, 5274,   2199.5,  -0.2156,  34.6594,2,  34.6601,2, -0.3317,    230.4,2,   125.28,2,    32.51,2,     0.01,2,     2.26,2,    0.183,2,    0.078,3, -999.000,9,-999.0000,9,    -9.00,9,-999.000,9,   -999.0,9,-999.0000,-999.000,-999.000,-999.000
    06AQANTX_4,   A12,   589,  3,      9,      9,2,19920613,1048,-62.9833,   0.0000, 5274,   2700.9,  -0.2856,  34.6564,2,  34.6578,2, -0.4380,    234.9,2,   125.04,2,    32.63,2,     0.01,2,     2.22,2, -999.000,9, -999.000,9, -999.000,9,-999.0000,9,    -9.00,9,-999.000,9,   -999.0,9,-999.0000,-999.000,-999.000,-999.000
    06AQANTX_4,   A12,   589,  3,      8,      8,2,19920613,1048,-62.9833,   0.0000, 5274,   3198.8,  -0.3391,  34.6539,2,  34.6555,2, -0.5314,    239.2,2,   124.12,2,    32.24,2,     0.02,2,     2.24,2,    0.209,2,    0.087,3, -999.000,9,-999.0000,9,    -9.00,9,-999.000,9,   -999.0,9,-999.0000,-999.000,-999.000,-999.000
    06AQANTX_4,   A12,   589,  3,      7,      7,2,19920613,1048,-62.9833,   0.0000, 5274,   3702.3,  -0.3848,  34.6520,2,  34.6539,2, -0.6211,    243.2,2,   123.79,2,    32.30,2,     0.02,2,     2.22,2, -999.000,9, -999.000,9, -999.000,9,-999.0000,9,    -9.00,9,-999.000,9,   -999.0,9,-999.0000,-999.000,-999.000,-999.000
    06AQANTX_4,   A12,   589,  3,      6,      6,2,19920613,1048,-62.9833,   0.0000, 5274,   4200.2,  -0.4353,  34.6503,2,  34.6503,2, -0.7182,    245.9,2,   124.32,2,    32.30,2,     0.02,2,     2.22,2,    0.210,2,    0.089,3, -999.000,9,-999.0000,9,    -9.00,9,-999.000,9,   -999.0,9,-999.0000,-999.000,-999.000,-999.000
    06AQANTX_4,   A12,   589,  3,      5,      5,2,19920613,1048,-62.9833,   0.0000, 5274,   4601.4,  -0.4704,  34.6470,2,  34.6476,2, -0.7934,    251.1,2,   120.32,2,    32.26,2,     0.01,2,     2.21,2, -999.000,9, -999.000,9, -999.000,9,-999.0000,9,    -9.00,9,-999.000,9,   -999.0,9,-999.0000,-999.000,-999.000,-999.000
    06AQANTX_4,   A12,   589,  3,      4,      4,2,19920613,1048,-62.9833,   0.0000, 5274,   4997.7,  -0.4615,  34.6451,2,  34.6484,2, -0.8277,    249.6,2,   120.43,2,    32.36,2,     0.02,2,     2.22,2,    0.325,2,    0.157,2, -999.000,9,-999.0000,9,    -9.00,9,-999.000,9,   -999.0,9,-999.0000,-999.000,-999.000,-999.000
    06AQANTX_4,   A12,   589,  3,      3,      3,2,19920613,1048,-62.9833,   0.0000, 5274,   5199.9,  -0.4486,  34.6440,2,  34.6450,2, -0.8379,    251.6,2,   120.87,2,    32.25,2,     0.02,2,     2.21,2, -999.000,9, -999.000,9, -999.000,9,-999.0000,9,    -9.00,9,-999.000,9,   -999.0,9,-999.0000,-999.000,-999.000,-999.000
    06AQANTX_4,   A12,   589,  3,      2,      2,2,19920613,1048,-62.9833,   0.0000, 5274,   5291.8,  -0.4385,  34.6439,2,  34.6449,2, -0.8387,    251.6,2,   121.20,2,    32.20,2,     0.02,2,     2.22,2,    0.408,2,    0.192,2, -999.000,9,-999.0000,9,    -9.00,9,-999.000,9,   -999.0,9,-999.0000,-999.000,-999.000,-999.000
    06AQANTX_4,   A12,   589,  3,      1,      1,2,19920613,1048,-62.9833,   0.0000, 5274,   5366.1,  -0.4307,  34.6447,2,  34.6460,2, -0.8397,    251.2,2,   121.23,2,    32.08,2,     0.02,2,     2.19,2,    0.417,2,    0.195,2, -999.000,9,-999.0000,9,    -9.00,9,-999.000,9,   -999.0,9,-999.0000,-999.000,-999.000,-999.000
    06AQANTX_4,   A12,   590,  1,     23,     23,2,19920613,1716,-63.5000,   0.0000, 5208,      2.8,  -1.8562,  34.0590,2,  34.0629,2, -1.8562,    341.8,2,    56.57,2,    25.37,2,     0.24,2,     1.82,2,    6.782,2,    3.220,2, -999.000,9,-999.0000,9,    -9.00,9,-999.000,9,   -999.0,9,-999.0000,-999.000,-999.000,-999.000
    06AQANTX_4,   A12,   590,  1,     24,     24,2,19920613,1716,-63.5000,   0.0000, 5208,     11.0,  -1.8588,  34.0620,2,  34.0630,2, -1.8590,    342.8,2,    56.68,2,    25.17,2,     0.24,2,     1.82,2,    6.710,2,    3.227,2, -999.000,9,-999.0000,9,    -9.00,9,-999.000,9,   -999.0,9,-999.0000,-999.000,-999.000,-999.000
    06AQANTX_4,   A12,   590,  1,     22,     22,2,19920613,1716,-63.5000,   0.0000, 5208,     30.0,  -1.8621,  34.0610,2,  34.0609,2, -1.8626,    343.7,2,    55.97,2,    25.38,2,     0.24,2,     1.82,2,    6.716,2,    3.202,2, -999.000,9,-999.0000,9,    -9.00,9,-999.000,9,   -999.0,9,-999.0000,-999.000,-999.000,-999.000
    06AQANTX_4,   A12,   590,  1,     21,     21,2,19920613,1716,-63.5000,   0.0000, 5208,     81.0,  -1.8283,  34.0846,2,  34.0783,2, -1.8298,    339.9,2,    56.91,2,    25.82,2,     0.23,2,     1.82,2,    6.576,2,    3.166,2, -999.000,9,-999.0000,9,    -9.00,9,-999.000,9,   -999.0,9,-999.0000,-999.000,-999.000,-999.000
    06AQANTX_4,   A12,   590,  1,     20,     20,2,19920613,1716,-63.5000,   0.0000, 5208,    139.3,   0.6020,  34.6383,2,  34.6304,2,  0.5962,    201.7,2,   101.03,2,    34.33,2,     0.02,2,     2.30,2,    1.067,2,    0.449,2, -999.000,9,-999.0000,9,    -9.00,9,-999.000,9,   -999.0,9,-999.0000,-999.000,-999.000,-999.000
    06AQANTX_4,   A12,   590,  1,     19,     19,2,19920613,1716,-63.5000,   0.0000, 5208,    219.7,   0.6770,  34.6797,2,  34.6803,2,  0.6676,    197.0,2,   109.96,2,    34.04,2,     0.01,2,     2.28,2,    0.470,2,    0.225,2, -999.000,9,-999.0000,9,    -9.00,9,-999.000,9,   -999.0,9,-999.0000,-999.000,-999.000,-999.000
    06AQANTX_4,   A12,   590,  1,     18,     18,2,19920613,1716,-63.5000,   0.0000, 5208,    319.5,   0.5531,  34.6830,2,  34.6847,2,  0.5395,    196.2,2,   115.41,2,    34.33,2,     0.01,2,     2.30,2,    0.313,2,    0.142,2, -999.000,9,-999.0000,9,    -9.00,9,-999.000,9,   -999.0,9,-999.0000,-999.000,-999.000,-999.000
    06AQANTX_4,   A12,   590,  1,     17,     17,2,19920613,1716,-63.5000,   0.0000, 5208,    448.1,   0.4258,  34.6822,2,  34.6848,2,  0.4066,    196.7,2,   115.69,2,    34.30,2,     0.02,2,     2.28,2,    0.316,4,    0.135,3, -999.000,9,-999.0000,9,    -9.00,9,-999.000,9,   -999.0,9,-999.0000,-999.000,-999.000,-999.000
    06AQANTX_4,   A12,   590,  1,     16,     16,2,19920613,1716,-63.5000,   0.0000, 5208,    580.2,   0.3513,  34.6807,2,  34.6811,2,  0.3262,    199.5,2,   122.28,2,    34.52,2,     0.01,2,     2.31,2,    0.198,2,    0.090,2, -999.000,9,-999.0000,9,    -9.00,9,-999.000,9,   -999.0,9,-999.0000,-999.000,-999.000,-999.000
    06AQANTX_4,   A12,   590,  1,     15,     15,2,19920613,1716,-63.5000,   0.0000, 5208,    700.8,   0.2839,  34.6782,2,  34.6801,2,  0.2532,    201.8,2,   123.87,2,    34.53,2,     0.01,2,     2.30,2,    0.170,2,    0.076,3, -999.000,9,-999.0000,9,    -9.00,9,-999.000,9,   -999.0,9,-999.0000,-999.000,-999.000,-999.000
    06AQANTX_4,   A12,   590,  1,     14,     14,2,19920613,1716,-63.5000,   0.0000, 5208,    850.2,   0.2219,  34.6771,2,  34.6777,2,  0.1839,    204.7,2,   124.81,2,    34.27,2,     0.02,2,     2.29,2,    0.155,2,    0.062,3, -999.000,9,-999.0000,9,    -9.00,9,-999.000,9,   -999.0,9,-999.0000,-999.000,-999.000,-999.000
    06AQANTX_4,   A12,   590,  1,     13,     13,2,19920613,1716,-63.5000,   0.0000, 5208,    999.6,   0.1523,  34.6740,2,  34.6755,2,  0.1069,    208.7,2,   125.37,2,    33.81,2,     0.01,2,     2.30,2,    0.149,2,    0.061,3, -999.000,9,-999.0000,9,    -9.00,9,-999.000,9,   -999.0,9,-999.0000,-999.000,-999.000,-999.000
    06AQANTX_4,   A12,   590,  1,     12,     12,2,19920613,1716,-63.5000,   0.0000, 5208,   1200.3,   0.0781,  34.6713,2,  34.6724,2,  0.0222,    214.6,2,   125.83,2,    34.40,2,     0.01,2,     2.30,2,    0.149,2,    0.066,3, -999.000,9,-999.0000,9,    -9.00,9,-999.000,9,   -999.0,9,-999.0000,-999.000,-999.000,-999.000
    06AQANTX_4,   A12,   590,  1,     11,     11,2,19920613,1716,-63.5000,   0.0000, 5208,   1500.0,  -0.0305,  34.6675,2,  34.6679,2, -0.1029,    220.2,2,   125.73,2,    33.65,2,     0.01,2,     2.27,2,    0.165,2,    0.070,3, -999.000,9,-999.0000,9,    -9.00,9,-999.000,9,   -999.0,9,-999.0000,-999.000,-999.000,-999.000
    06AQANTX_4,   A12,   590,  1,     10,     10,2,19920613,1716,-63.5000,   0.0000, 5208,   1799.6,  -0.1079,  34.6637,2,  34.6631,2, -0.1983,    224.2,2,   125.81,2,    33.53,2,     0.01,2,     2.27,2,    0.185,2,    0.074,3, -999.000,9,-999.0000,9,    -9.00,9,-999.000,9,   -999.0,9,-999.0000,-999.000,-999.000,-999.000
    06AQANTX_4,   A12,   590,  1,      9,      9,2,19920613,1716,-63.5000,   0.0000, 5208,   2198.2,  -0.1959,  34.6605,2,  34.6607,2, -0.3122,    230.0,2,   125.62,2,    33.55,2,     0.01,2,     2.26,2,    0.207,2,    0.094,2, -999.000,9,-999.0000,9,    -9.00,9,-999.000,9,   -999.0,9,-999.0000,-999.000,-999.000,-999.000
    06AQANTX_4,   A12,   590,  1,      8,      8,2,19920613,1716,-63.5000,   0.0000, 5208,   2700.0,  -0.2688,  34.6574,2,  34.6577,2, -0.4215,    234.1,2,   124.95,2,    33.22,2,     0.01,2,     2.23,2,    0.252,2,    0.116,2, -999.000,9,-999.0000,9,    -9.00,9,-999.000,9,   -999.0,9,-999.0000,-999.000,-999.000,-999.000
    06AQANTX_4,   A12,   590,  1,      7,      7,2,19920613,1716,-63.5000,   0.0000, 5208,   3198.9,  -0.3240,  34.6553,2,  34.6567,2, -0.5166,    238.7,2,   124.57,2,    33.26,2,     0.01,2,     2.22,2,    0.239,2,    0.108,2, -999.000,9,-999.0000,9,    -9.00,9,-999.000,9,   -999.0,9,-999.0000,-999.000,-999.000,-999.000
    06AQANTX_4,   A12,   590,  1,      6,      6,2,19920613,1716,-63.5000,   0.0000, 5208,   4199.5,  -0.4149,  34.6511,2,  34.6508,2, -0.6984,    245.2,2,   123.80,2,    32.69,2,     0.01,2,     2.22,2,    0.199,2,    0.095,2, -999.000,9,-999.0000,9,    -9.00,9,-999.000,9,   -999.0,9,-999.0000,-999.000,-999.000,-999.000
    06AQANTX_4,   A12,   590,  1,      5,      5,2,19920613,1716,-63.5000,   0.0000, 5208,   4597.6,  -0.4706,  34.6473,2,  34.6475,2, -0.7932,    249.2,2,   119.44,2,    33.08,2,     0.01,2,     2.22,2,    0.318,2,    0.147,2, -999.000,9,-999.0000,9,    -9.00,9,-999.000,9,   -999.0,9,-999.0000,-999.000,-999.000,-999.000
    06AQANTX_4,   A12,   590,  1,      4,      4,2,19920613,1716,-63.5000,   0.0000, 5208,   4999.3,  -0.4714,  34.6447,2,  34.6460,2, -0.8374,    248.7,2,   119.63,2,    32.93,2,     0.01,2,     2.22,2,    0.312,2,    0.140,2, -999.000,9,-999.0000,9,    -9.00,9,-999.000,9,   -999.0,9,-999.0000,-999.000,-999.000,-999.000
    06AQANTX_4,   A12,   590,  1,      3,      3,2,19920613,1716,-63.5000,   0.0000, 5208,   5149.9,  -0.4587,  34.6441,2,  34.6447,2, -0.8420,    249.6,2,   120.75,2,    32.85,2,     0.01,2,     2.21,2,    0.415,2,    0.194,2, -999.000,9,-999.0000,9,    -9.00,9,-999.000,9,   -999.0,9,-999.0000,-999.000,-999.000,-999.000
    06AQANTX_4,   A12,   590,  1,      2,      2,2,19920613,1716,-63.5000,   0.0000, 5208,   5229.8,  -0.4498,  34.6447,2,  34.6438,2, -0.8425,    250.0,2,   121.12,2,    32.74,2,     0.02,2,     2.22,2,    0.409,2,    0.181,2, -999.000,9,-999.0000,9,    -9.00,9,-999.000,9,   -999.0,9,-999.0000,-999.000,-999.000,-999.000
    06AQANTX_4,   A12,   590,  1,      1,      1,2,19920613,1716,-63.5000,   0.0000, 5208,   5311.8,  -0.4401,  34.6448,2,  34.6457,2, -0.8425,    251.0,2,   121.78,2,    32.29,2,     0.02,2,     2.20,2,    0.408,2,    0.180,2, -999.000,9,-999.0000,9,    -9.00,9,-999.000,9,   -999.0,9,-999.0000,-999.000,-999.000,-999.000