BOTTLE,20061211WHPSIODBK
EXPOCODE,SECT_ID,STNNBR,CASTNO,SAMPNO,BTLNBR,BTLNBR_FLAG_W,DATE,TIME,LATITUDE,LONGITUDE,DEPTH,CTDPRS,CTDTMP,CTDSAL,CTDSAL_FLAG_W,SALNTY,SALNTY_FLAG_W,THETA,OXYGEN,OXYGEN_FLAG_W,SILCAT,SILCAT_FLAG_W,NITRAT,NITRAT_FLAG_W,NITRIT,NITRIT_FLAG_W,PHSPHT,PHSPHT_FLAG_W,CFC-11,CFC-11_FLAG_W,CFC-12,CFC-12_FLAG_W,TRITUM,TRITUM_FLAG_W,HELIUM,HELIUM_FLAG_W,DELHE3,DELHE3_FLAG_W,NEON,NEON_FLAG_W,TCARBN,TCARBN_FLAG_W,HELIER,TRITER,NEONER,DELHER
,,,,,,,,,,,,DBAR,ITS-90,PSS-78,,PSS-78,,DEG C,UMOL/KG,,UMOL/KG,,UMOL/KG,,UMOL/KG,,UMOL/KG,,PMOL/KG,,PMOL/KG,,TU,,NMOL/KG,,PERCNT,,NMOL/KG,,UMOL/KG,,NMOL/KG,TU,NMOL/KG,PERCNT
    06AQANTX_4,  SR04,   642,  1,     16,     16,2,19920727,1703,-60.1667, -49.3167, 1168,      6.8,  -1.8264,  34.1982,2,  34.2003,2, -1.8265,    309.5,2,    76.83,2,    29.61,2,     0.29,2,     2.01,2, -999.000,9, -999.000,9, -999.000,9,-999.0000,9,    -9.00,9,-999.000,9,   2200.5,2,-999.0000,-999.000,-999.000,-999.000
    06AQANTX_4,  SR04,   642,  1,     15,     15,2,19920727,1703,-60.1667, -49.3167, 1168,     36.3,  -1.8295,  34.2052,2,  34.2012,2, -1.8302,    310.6,2,    76.72,2,    29.58,2,     0.29,2,     2.00,2, -999.000,9, -999.000,9, -999.000,9,-999.0000,9,    -9.00,9,-999.000,9,   2203.7,2,-999.0000,-999.000,-999.000,-999.000
    06AQANTX_4,  SR04,   642,  1,     14,     14,2,19920727,1703,-60.1667, -49.3167, 1168,     75.5,  -1.8034,  34.2159,2,  34.2282,2, -1.8049,    305.4,2,    77.34,2,    29.72,2,     0.26,2,     2.01,2, -999.000,9, -999.000,9, -999.000,9,-999.0000,9,    -9.00,9,-999.000,9,   2205.5,2,-999.0000,-999.000,-999.000,-999.000
    06AQANTX_4,  SR04,   642,  1,     13,     13,2,19920727,1703,-60.1667, -49.3167, 1168,    116.6,  -1.2923,  34.3872,2,  34.3826,2, -1.2952,    282.9,2,    82.08,2,    31.23,2,     0.04,2,     2.06,2, -999.000,9, -999.000,9, -999.000,9,-999.0000,9,    -9.00,9,-999.000,9,   2220.3,2,-999.0000,-999.000,-999.000,-999.000
    06AQANTX_4,  SR04,   642,  1,     12,     12,2,19920727,1703,-60.1667, -49.3167, 1168,    176.3,  -1.0570,  34.4526,2,  34.4492,2, -1.0618,    270.8,2,    85.92,2,    31.62,2,     0.02,2,     2.11,2, -999.000,9, -999.000,9, -999.000,9,-999.0000,9,    -9.00,9,-999.000,9,   2225.7,2,-999.0000,-999.000,-999.000,-999.000
    06AQANTX_4,  SR04,   642,  1,     11,     11,2,19920727,1703,-60.1667, -49.3167, 1168,    246.8,  -0.7405,  34.5088,2,  34.5071,2, -0.7481,    258.5,2,    89.89,2,    31.95,2,     0.02,2,     2.14,2, -999.000,9, -999.000,9, -999.000,9,-999.0000,9,    -9.00,9,-999.000,9,   2231.0,2,-999.0000,-999.000,-999.000,-999.000
    06AQANTX_4,  SR04,   642,  1,     10,     10,2,19920727,1703,-60.1667, -49.3167, 1168,    345.9,  -0.5379,  34.5474,2,  34.5513,2, -0.5495,    248.3,2,    94.00,2,    32.17,2,     0.02,2,     2.15,2, -999.000,9, -999.000,9, -999.000,9,-999.0000,9,    -9.00,9,-999.000,9,   2236.6,2,-999.0000,-999.000,-999.000,-999.000
    06AQANTX_4,  SR04,   642,  1,      9,      9,2,19920727,1703,-60.1667, -49.3167, 1168,    496.4,  -0.2313,  34.5938,2,  34.5973,2, -0.2499,    235.3,2,   101.05,2,    32.56,2,     0.01,2,     2.18,2, -999.000,9, -999.000,9, -999.000,9,-999.0000,9,    -9.00,9,-999.000,9,   2243.5,2,-999.0000,-999.000,-999.000,-999.000
    06AQANTX_4,  SR04,   642,  1,      8,      8,2,19920727,1703,-60.1667, -49.3167, 1168,    646.3,  -0.0741,  34.6213,2,  34.6208,2, -0.1001,    229.7,2,   104.76,2,    32.76,2,     0.01,2,     2.22,2, -999.000,9, -999.000,9, -999.000,9,-999.0000,9,    -9.00,9,-999.000,9,   2246.6,2,-999.0000,-999.000,-999.000,-999.000
    06AQANTX_4,  SR04,   642,  1,      7,      7,2,19920727,1703,-60.1667, -49.3167, 1168,    796.4,  -0.0553,  34.6298,2,  34.6282,2, -0.0886,    227.6,2,   107.19,2,    32.84,2,     0.01,2,     2.22,2, -999.000,9, -999.000,9, -999.000,9,-999.0000,9,    -9.00,9,-999.000,9,   2248.2,2,-999.0000,-999.000,-999.000,-999.000
    06AQANTX_4,  SR04,   642,  1,      6,      6,2,19920727,1703,-60.1667, -49.3167, 1168,    897.0,   0.0800,  34.6456,2,  34.6446,2,  0.0407,    220.9,2,   108.43,2,    32.90,2,     0.01,2,     2.22,2, -999.000,9, -999.000,9, -999.000,9,-999.0000,9,    -9.00,9,-999.000,9,   2253.1,2,-999.0000,-999.000,-999.000,-999.000
    06AQANTX_4,  SR04,   642,  1,      5,      5,2,19920727,1703,-60.1667, -49.3167, 1168,    996.6,   0.0271,  34.6427,2,  34.6426,2, -0.0170,    223.9,2,   109.83,2,    32.96,2,     0.01,2,     2.22,2, -999.000,9, -999.000,9, -999.000,9,-999.0000,9,    -9.00,9,-999.000,9,   2249.5,2,-999.0000,-999.000,-999.000,-999.000
    06AQANTX_4,  SR04,   642,  1,      4,      4,2,19920727,1703,-60.1667, -49.3167, 1168,   1046.8,   0.0107,  34.6439,2,  34.6425,2, -0.0359,    224.8,2,   109.77,2,    32.95,2,     0.01,2,     2.22,2, -999.000,9, -999.000,9, -999.000,9,-999.0000,9,    -9.00,9,-999.000,9,   2249.3,2,-999.0000,-999.000,-999.000,-999.000
    06AQANTX_4,  SR04,   642,  1,      3,      3,2,19920727,1703,-60.1667, -49.3167, 1168,   1095.7,  -0.0203,  34.6421,2,  34.6408,2, -0.0693,    226.2,2,   109.18,2,    32.94,2,     0.01,2,     2.22,2, -999.000,9, -999.000,9, -999.000,9,-999.0000,9,    -9.00,9,-999.000,9,   2248.6,2,-999.0000,-999.000,-999.000,-999.000
    06AQANTX_4,  SR04,   642,  1,      2,      2,2,19920727,1703,-60.1667, -49.3167, 1168,   1146.3,  -0.0174,  34.6457,2,  34.6448,2, -0.0692,    226.5,2,   110.46,2,    32.96,2,     0.01,2,     2.23,2, -999.000,9, -999.000,9, -999.000,9,-999.0000,9,    -9.00,9,-999.000,9,   -999.0,9,-999.0000,-999.000,-999.000,-999.000
    06AQANTX_4,  SR04,   642,  1,      1,      1,2,19920727,1703,-60.1667, -49.3167, 1168,   1179.1,  -0.0221,  34.6457,2,  34.6452,2, -0.0757,    224.8,2,   110.31,2,    33.01,2,     0.01,2,     2.22,2, -999.000,9, -999.000,9, -999.000,9,-999.0000,9,    -9.00,9,-999.000,9,   2249.6,2,-999.0000,-999.000,-999.000,-999.000
    06AQANTX_4,  SR04,   643,  1,     19,     19,2,19920727,2133,-60.2000, -49.8500, 1320,      3.0,  -1.8109,  34.2331,2,  34.2347,2, -1.8110,    308.7,2,    78.27,2,    30.50,2,     0.24,2,     2.04,2, -999.000,9, -999.000,9, -999.000,9,-999.0000,9,    -9.00,9,-999.000,9,   2211.1,2,-999.0000,-999.000,-999.000,-999.000
    06AQANTX_4,  SR04,   643,  1,     18,     18,2,19920727,2133,-60.2000, -49.8500, 1320,      9.5,  -1.8142,  34.2368,2,  34.2405,2, -1.8144,    302.2,2,    78.39,2,    30.56,2,     0.24,2,     2.06,2,    4.742,2,    2.113,2,    0.104,2,   0.0130,4,    72.09,4,   0.006,4,   2207.7,2,  0.0000,   0.012,   0.000,   0.310
    06AQANTX_4,  SR04,   643,  1,     17,     17,2,19920727,2133,-60.2000, -49.8500, 1320,     36.7,  -1.7001,  34.2678,2,  34.2635,2, -1.7008,    298.9,2,    78.71,2,    30.66,2,     0.21,2,     2.07,2,    4.351,2,    1.925,2,    0.093,2,-999.0000,5,    -9.00,5,-999.000,5,   2218.4,2,-999.0000,   0.005,-999.000,-999.000
    06AQANTX_4,  SR04,   643,  1,     16,     16,2,19920727,2133,-60.2000, -49.8500, 1320,     76.5,  -1.4226,  34.3366,2,  34.3367,2, -1.4243,    285.7,2,    82.77,2,    31.13,2,     0.14,2,     2.08,2,    3.768,2,    1.674,2,    0.095,2,   1.8370,2,     2.73,2,   8.239,2,   2226.0,2,  0.0070,   0.021,   0.040,   0.310
    06AQANTX_4,  SR04,   643,  1,     15,     15,2,19920727,2133,-60.2000, -49.8500, 1320,    116.4,  -1.1237,  34.4030,2,  34.4064,2, -1.1267,    273.0,2,    86.27,2,    31.62,2,     0.07,2,     2.10,2, -999.000,9, -999.000,9, -999.000,9,-999.0000,9,    -9.00,9,-999.000,9,   2228.9,2,-999.0000,-999.000,-999.000,-999.000
    06AQANTX_4,  SR04,   643,  1,     14,     14,2,19920727,2133,-60.2000, -49.8500, 1320,    176.5,  -0.8686,  34.4556,2,  34.4642,2, -0.8737,    262.8,2,    90.45,2,    31.80,2,     0.03,2,     2.13,2,    2.889,2,    1.285,2,    0.090,2,   1.8570,2,     3.82,2,   8.187,2,   2234.5,2,  0.0070,   0.016,   0.040,   0.310
    06AQANTX_4,  SR04,   643,  1,     13,     13,2,19920727,2133,-60.2000, -49.8500, 1320,    246.3,  -0.5676,  34.5254,2,  34.5272,2, -0.5755,    251.3,2,    94.89,2,    32.29,2,     0.00,2,     2.16,2,    2.371,2,    1.043,2,    0.073,2,   1.8610,2,     4.86,2,   8.216,2,   2243.3,2,  0.0070,   0.004,   0.040,   0.310
    06AQANTX_4,  SR04,   643,  1,     12,     12,2,19920727,2133,-60.2000, -49.8500, 1320,    346.0,  -0.4340,  34.5658,2,  34.5655,2, -0.4459,    244.4,2,    98.00,2,    32.35,2,     0.01,2,     2.18,2,    2.005,2,    0.885,2,    0.077,2,-999.0000,5,    -9.00,5,-999.000,5,   2248.4,2,-999.0000,   0.008,-999.000,-999.000
    06AQANTX_4,  SR04,   643,  1,     11,     11,2,19920727,2133,-60.2000, -49.8500, 1320,    496.2,  -0.2796,  34.5910,2,  34.5902,2, -0.2980,    238.1,2,   100.81,2,    32.53,2,     0.00,2,     2.21,2,    1.706,2,    0.751,2,    0.053,2,-999.0000,5,    -9.00,5,-999.000,5,   2251.4,2,-999.0000,   0.004,-999.000,-999.000
    06AQANTX_4,  SR04,   643,  1,     10,     10,2,19920727,2133,-60.2000, -49.8500, 1320,    646.5,  -0.2637,  34.5928,2,  34.5915,2, -0.2887,    237.7,2,   101.31,2,    32.53,2,     0.00,2,     2.20,2,    1.682,2,    0.736,2,    0.064,2,   1.8520,2,     5.81,2,   8.165,2,   2252.4,2,  0.0070,   0.004,   0.040,   0.310
    06AQANTX_4,  SR04,   643,  1,      9,      9,2,19920727,2133,-60.2000, -49.8500, 1320,    796.6,  -0.2387,  34.5968,2,  34.5958,2, -0.2707,    236.9,2,   101.00,2,    32.53,2,     0.00,2,     2.22,2,    1.638,2,    0.734,2,    0.109,2,   2.2200,5,     5.54,5,   8.178,2,   2252.7,2,  0.0080,   0.005,   0.040,   0.310
    06AQANTX_4,  SR04,   643,  1,      8,      8,2,19920727,2133,-60.2000, -49.8500, 1320,    896.5,  -0.2179,  34.6011,2,  34.5980,2, -0.2549,    236.2,2,   102.40,2,    32.45,2,     0.00,2,     2.22,2,    1.604,2,    0.711,2,    0.109,2,  -0.0030,4,   -48.70,4,  -0.014,4,   2254.2,2,  0.0000,   0.005,   0.000,   0.310
    06AQANTX_4,  SR04,   643,  1,      7,      7,2,19920727,2133,-60.2000, -49.8500, 1320,    993.0,  -0.0472,  34.6287,2,  34.6271,2, -0.0905,    228.1,2,   106.22,2,    32.76,2,     0.00,2,     2.24,2,    1.216,2,    0.542,2,    0.082,2,   2.2400,5,     6.03,5,   8.240,2,   2256.7,2,  0.0080,   0.018,   0.040,   0.310
    06AQANTX_4,  SR04,   643,  1,      6,      6,2,19920727,2133,-60.2000, -49.8500, 1320,   1096.1,  -0.0334,  34.6301,2,  34.6300,2, -0.0823,    227.2,2,   106.22,2,    32.81,2,     0.00,2,     2.24,2, -999.000,9, -999.000,9, -999.000,9,-999.0000,9,    -9.00,9,-999.000,9,   2257.4,2,-999.0000,-999.000,-999.000,-999.000
    06AQANTX_4,  SR04,   643,  1,      5,      5,2,19920727,2133,-60.2000, -49.8500, 1320,   1146.4,  -0.0236,  34.6356,2,  34.6336,2, -0.0753,    226.7,2,   107.29,2,    32.81,2,     0.00,2,     2.26,2,    1.095,2,    0.496,2,    0.052,2,   2.1340,5,     5.97,5,   8.182,2,   2260.5,2,  0.0080,   0.012,   0.040,   0.310
    06AQANTX_4,  SR04,   643,  1,      4,      4,2,19920727,2133,-60.2000, -49.8500, 1320,   1196.5,  -0.0396,  34.6358,2,  34.6355,2, -0.0940,   -999.0,9,   107.46,2,    32.88,2,     0.00,2,     2.26,2, -999.000,9, -999.000,9, -999.000,9,-999.0000,9,    -9.00,9,-999.000,9,   2257.8,2,-999.0000,-999.000,-999.000,-999.000
    06AQANTX_4,  SR04,   643,  1,      3,      3,2,19920727,2133,-60.2000, -49.8500, 1320,   1246.0,  -0.0352,  34.6384,2,  34.6385,2, -0.0924,    226.3,2,   108.78,2,    32.73,2,     0.00,2,     2.26,2,    1.053,2,    0.474,2,    0.090,2,   1.8590,2,     6.77,2,   8.192,2,   -999.0,9,  0.0070,   0.004,   0.040,   0.310
    06AQANTX_4,  SR04,   643,  1,      2,      2,2,19920727,2133,-60.2000, -49.8500, 1320,   1296.8,  -0.0652,  34.6485,2,  34.6470,2, -0.1250,    226.6,2,   110.80,2,    32.91,2,     0.01,2,     2.27,2, -999.000,9, -999.000,9, -999.000,9,-999.0000,9,    -9.00,9,-999.000,9,   2260.0,2,-999.0000,-999.000,-999.000,-999.000
    06AQANTX_4,  SR04,   643,  1,      1,      1,2,19920727,2133,-60.2000, -49.8500, 1320,   1333.9,  -0.0731,  34.6506,2,  34.6494,2, -0.1350,    227.1,2,   111.35,2,    32.96,2,     0.01,2,     2.26,2,    0.934,2,    0.421,2,    0.083,2,   2.1750,5,     5.71,5,   8.156,2,   2260.2,2,  0.0080,   0.007,   0.040,   0.310
    06AQANTX_4,  SR04,   644,  1,     22,     22,2,19920728,0029,-60.2167, -50.2667,  478,      2.2,  -1.8264,  34.2597,2,-999.0000,9, -1.8264,   -999.0,9,  -999.00,9,  -999.00,9,  -999.00,9,  -999.00,9, -999.000,9, -999.000,9, -999.000,9,-999.0000,9,    -9.00,9,-999.000,9,   -999.0,9,-999.0000,-999.000,-999.000,-999.000
    06AQANTX_4,  SR04,   644,  1,     21,     21,2,19920728,0029,-60.2167, -50.2667,  478,     25.7,  -1.8325,  34.2670,2,-999.0000,9, -1.8330,   -999.0,9,  -999.00,9,  -999.00,9,  -999.00,9,  -999.00,9, -999.000,9, -999.000,9, -999.000,9,-999.0000,9,    -9.00,9,-999.000,9,   -999.0,9,-999.0000,-999.000,-999.000,-999.000
    06AQANTX_4,  SR04,   644,  1,     20,     20,2,19920728,0029,-60.2167, -50.2667,  478,     46.4,  -1.8055,  34.2740,2,-999.0000,9, -1.8064,   -999.0,9,    78.68,2,    30.95,2,  -999.00,9,     2.05,2, -999.000,9, -999.000,9, -999.000,9,-999.0000,9,    -9.00,9,-999.000,9,   -999.0,9,-999.0000,-999.000,-999.000,-999.000
    06AQANTX_4,  SR04,   644,  1,     19,     19,2,19920728,0029,-60.2167, -50.2667,  478,     46.4,  -1.8023,  34.2737,2,  34.2705,2, -1.8032,    297.8,2,    78.68,2,    30.95,2,     0.18,2,     2.05,2,    4.458,2,    1.958,2,    0.221,2,   1.8390,2,     1.52,2,   8.236,2,   2217.9,2,  0.0070,   0.007,   0.040,   0.310
    06AQANTX_4,  SR04,   644,  1,     18,     18,2,19920728,0029,-60.2167, -50.2667,  478,     66.0,  -1.7704,  34.2860,2,  34.2855,2, -1.7717,    297.3,2,    79.35,2,    31.09,2,     0.15,2,     2.06,2, -999.000,9, -999.000,9, -999.000,9,-999.0000,9,    -9.00,9,-999.000,9,   2220.7,2,-999.0000,-999.000,-999.000,-999.000
    06AQANTX_4,  SR04,   644,  1,     17,     17,2,19920728,0029,-60.2167, -50.2667,  478,     95.5,  -1.4988,  34.3489,2,-999.0000,9, -1.5009,   -999.0,9,    83.41,2,    31.50,2,  -999.00,9,     2.08,2, -999.000,9, -999.000,9, -999.000,9,-999.0000,9,    -9.00,9,-999.000,9,   -999.0,9,-999.0000,-999.000,-999.000,-999.000
    06AQANTX_4,  SR04,   644,  1,     16,     16,2,19920728,0029,-60.2167, -50.2667,  478,     95.5,  -1.4570,  34.3584,2,  34.3603,2, -1.4592,    284.8,2,    83.40,2,    31.50,2,     0.08,2,     2.08,2,    3.588,2,    1.595,2,    0.200,2,   1.8450,2,     2.37,2,   8.223,2,   2220.4,2,  0.0070,   0.007,   0.040,   0.310
    06AQANTX_4,  SR04,   644,  1,     14,     14,2,19920728,0029,-60.2167, -50.2667,  478,    120.3,  -0.9633,  34.4573,2,-999.0000,9, -0.9666,   -999.0,9,  -999.00,9,  -999.00,9,  -999.00,9,  -999.00,9, -999.000,9, -999.000,9, -999.000,9,-999.0000,9,    -9.00,9,-999.000,9,   -999.0,9,-999.0000,-999.000,-999.000,-999.000
    06AQANTX_4,  SR04,   644,  1,     15,     15,2,19920728,0029,-60.2167, -50.2667,  478,    120.4,  -0.9771,  34.4575,2,  34.4581,2, -0.9804,    265.2,2,    89.28,2,    32.04,2,     0.03,2,     2.12,2, -999.000,9, -999.000,9, -999.000,9,-999.0000,9,    -9.00,9,-999.000,9,   -999.0,9,-999.0000,-999.000,-999.000,-999.000
    06AQANTX_4,  SR04,   644,  1,     13,     13,2,19920728,0029,-60.2167, -50.2667,  478,    141.4,  -0.7971,  34.4907,2,-999.0000,9, -0.8012,    259.4,2,    91.17,2,    32.15,2,     0.02,2,     2.14,2,    2.730,2,    1.203,2, -999.000,9,   1.8410,2,     4.18,2,   8.126,2,   -999.0,9,  0.0070,-999.000,   0.040,   0.310
    06AQANTX_4,  SR04,   644,  1,     12,     12,2,19920728,0029,-60.2167, -50.2667,  478,    141.4,  -0.8000,  34.4884,2,  34.4892,2, -0.8041,   -999.0,9,    91.17,2,    32.15,2,  -999.00,9,     2.14,2, -999.000,9, -999.000,9, -999.000,9,-999.0000,9,    -9.00,9,-999.000,9,   -999.0,9,-999.0000,-999.000,-999.000,-999.000
    06AQANTX_4,  SR04,   644,  1,     10,     10,2,19920728,0029,-60.2167, -50.2667,  478,    195.2,  -0.4342,  34.5524,2,-999.0000,9, -0.4406,   -999.0,9,  -999.00,9,  -999.00,9,  -999.00,9,  -999.00,9, -999.000,9, -999.000,9, -999.000,9,-999.0000,9,    -9.00,9,-999.000,9,   -999.0,9,-999.0000,-999.000,-999.000,-999.000
    06AQANTX_4,  SR04,   644,  1,     11,     11,2,19920728,0029,-60.2167, -50.2667,  478,    195.3,  -0.4359,  34.5523,2,  34.5520,2, -0.4423,    246.1,2,    97.48,2,    32.56,2,     0.01,2,     2.17,2,    2.085,2,    0.914,2,    0.110,2,   1.8450,2,     5.21,2,   8.116,2,   2236.0,2,  0.0070,   0.005,   0.040,   0.310
    06AQANTX_4,  SR04,   644,  1,      9,      9,2,19920728,0029,-60.2167, -50.2667,  478,    245.8,  -0.3696,  34.5749,2,-999.0000,9, -0.3780,   -999.0,9,  -999.00,9,  -999.00,9,  -999.00,9,  -999.00,9, -999.000,9, -999.000,9, -999.000,9,-999.0000,9,    -9.00,9,-999.000,9,   -999.0,9,-999.0000,-999.000,-999.000,-999.000
    06AQANTX_4,  SR04,   644,  1,      8,      8,2,19920728,0029,-60.2167, -50.2667,  478,    245.8,  -0.3705,  34.5762,2,  34.5730,2, -0.3789,    242.3,2,    98.46,2,    32.59,2,     0.01,2,     2.19,2, -999.000,9, -999.000,9, -999.000,9,-999.0000,9,    -9.00,9,-999.000,9,   2245.0,2,-999.0000,-999.000,-999.000,-999.000
    06AQANTX_4,  SR04,   644,  1,      6,      6,2,19920728,0029,-60.2167, -50.2667,  478,    296.3,  -0.2878,  34.5909,2,-999.0000,9, -0.2982,   -999.0,9,  -999.00,9,  -999.00,9,  -999.00,9,  -999.00,9, -999.000,9, -999.000,9, -999.000,9,-999.0000,9,    -9.00,9,-999.000,9,   -999.0,9,-999.0000,-999.000,-999.000,-999.000
    06AQANTX_4,  SR04,   644,  1,      7,      7,2,19920728,0029,-60.2167, -50.2667,  478,    296.4,  -0.2875,  34.5890,2,  34.5893,2, -0.2979,    241.5,2,  -999.00,9,    32.62,2,     0.01,2,     2.21,2,    1.731,2,    0.760,2, -999.000,9,   2.1220,5,     5.08,5,   8.223,2,   2243.0,2,  0.0080,-999.000,   0.040,   0.310
    06AQANTX_4,  SR04,   644,  1,      5,      5,2,19920728,0029,-60.2167, -50.2667,  478,    346.1,  -0.3537,  34.5945,2,  34.5924,2, -0.3658,    239.1,2,    98.95,2,    32.56,2,     0.01,2,     2.19,2,    1.780,2,    0.784,2, -999.000,9,   2.0390,5,     5.01,5,   8.151,2,   2242.4,2,  0.0070,-999.000,   0.040,   0.310
    06AQANTX_4,  SR04,   644,  1,      4,      4,2,19920728,0029,-60.2167, -50.2667,  478,    396.5,  -0.2273,  34.6137,2,  34.6116,2, -0.2418,    234.5,2,   101.34,2,    32.47,2,     0.01,2,     2.20,2,    1.529,2,    0.669,2,    0.053,2,-999.0000,5,    -9.00,5,-999.000,5,   2247.3,2,-999.0000,   0.004,-999.000,-999.000
    06AQANTX_4,  SR04,   644,  1,      3,      3,2,19920728,0029,-60.2167, -50.2667,  478,    436.4,  -0.0685,  34.6361,2,  34.6333,2, -0.0853,   -999.0,9,   106.09,2,    32.69,2,     0.01,2,     2.23,2,    1.163,2,    0.516,2,    0.054,2,   2.0260,5,     5.96,5,   8.187,2,   2247.7,2,  0.0070,   0.011,   0.040,   0.310
    06AQANTX_4,  SR04,   644,  1,      1,      1,2,19920728,0029,-60.2167, -50.2667,  478,    484.4,  -0.1159,  34.6318,2,  34.6316,2, -0.1345,    230.3,2,   105.76,2,    32.66,2,     0.02,2,     2.23,2,    1.230,2,    0.533,2,    0.050,2,-999.0000,5,    -9.00,5,-999.000,5,   2249.8,2,-999.0000,   0.005,-999.000,-999.000
    06AQANTX_4,  SR04,   644,  1,      2,      2,2,19920728,0029,-60.2167, -50.2667,  478,    484.5,  -0.1165,  34.6319,2,-999.0000,9, -0.1351,   -999.0,9,  -999.00,9,  -999.00,9,  -999.00,9,  -999.00,9, -999.000,9, -999.000,9, -999.000,9,-999.0000,9,    -9.00,9,-999.000,9,   -999.0,9,-999.0000,-999.000,-999.000,-999.000