BOTTLE,20061211WHPSIODBK
EXPOCODE,SECT_ID,STNNBR,CASTNO,SAMPNO,BTLNBR,BTLNBR_FLAG_W,DATE,TIME,LATITUDE,LONGITUDE,DEPTH,CTDPRS,CTDTMP,CTDSAL,CTDSAL_FLAG_W,SALNTY,SALNTY_FLAG_W,THETA,OXYGEN,OXYGEN_FLAG_W,SILCAT,SILCAT_FLAG_W,NITRAT,NITRAT_FLAG_W,NITRIT,NITRIT_FLAG_W,PHSPHT,PHSPHT_FLAG_W,CFC-11,CFC-11_FLAG_W,CFC-12,CFC-12_FLAG_W,TRITUM,TRITUM_FLAG_W,HELIUM,HELIUM_FLAG_W,DELHE3,DELHE3_FLAG_W,NEON,NEON_FLAG_W,TCARBN,TCARBN_FLAG_W,HELIER,TRITER,NEONER,DELHER
,,,,,,,,,,,,DBAR,ITS-90,PSS-78,,PSS-78,,DEG C,UMOL/KG,,UMOL/KG,,UMOL/KG,,UMOL/KG,,UMOL/KG,,PMOL/KG,,PMOL/KG,,TU,,NMOL/KG,,PERCNT,,NMOL/KG,,UMOL/KG,,NMOL/KG,TU,NMOL/KG,PERCNT
    06AQANTX_4,   A12,   548,  1,     24,     24,2,19920526,2007,-39.3500,  11.9833, 4777,     30.1,  16.7310,  35.4711,2,  35.4714,2, 16.7261,    243.9,2,     2.65,2,     1.97,2,     0.31,2,     0.29,2,    2.660,3,    1.462,2, -999.000,9,   1.7420,2,    -0.97,2,   7.212,2,   -999.0,9,  0.0060,-999.000,   0.036,   0.320
    06AQANTX_4,   A12,   548,  1,     23,     23,2,19920526,2007,-39.3500,  11.9833, 4777,     68.1,  16.7300,  35.4720,2,  35.2797,4, 16.7189,    246.1,2,     2.61,2,     3.60,2,     0.26,2,     0.41,2,    2.763,3,    1.499,2, -999.000,9,   1.7370,2,    -0.46,2,   7.161,2,   -999.0,9,  0.0060,-999.000,   0.036,   0.320
    06AQANTX_4,   A12,   548,  1,     22,     22,2,19920526,2007,-39.3500,  11.9833, 4777,    138.0,  11.9788,  34.7076,2,  34.8015,4, 11.9609,    259.8,2,     1.77,2,     7.48,2,     0.21,2,     0.67,2,    3.297,2,    1.625,2, -999.000,9,   1.7530,2,    -0.83,2,   7.355,2,   -999.0,9,  0.0070,-999.000,   0.037,   0.320
    06AQANTX_4,   A12,   548,  1,     21,     21,2,19920526,2007,-39.3500,  11.9833, 4777,    217.5,  10.9134,  34.7354,2,  34.7624,3, 10.8868,    246.7,2,     3.02,2,    11.57,2,     0.05,2,     0.90,2,    3.196,2,    1.599,2, -999.000,9,   1.7430,2,    -0.34,2,   7.453,2,   -999.0,9,  0.0060,-999.000,   0.037,   0.320
    06AQANTX_4,   A12,   548,  1,     20,     20,2,19920526,2007,-39.3500,  11.9833, 4777,    302.2,   9.6348,  34.6301,2,  34.6301,2,  9.6005,    248.2,2,     4.27,2,    15.17,2,     0.05,2,     1.11,2,    3.227,2,    1.596,2, -999.000,9,   1.7440,2,    -0.17,2,   7.436,2,   -999.0,9,  0.0070,-999.000,   0.037,   0.320
    06AQANTX_4,   A12,   548,  1,     19,     19,2,19920526,2007,-39.3500,  11.9833, 4777,    401.0,   7.8842,  34.4696,2,  34.4720,2,  7.8438,    254.4,2,     6.12,2,    19.68,2,     0.05,2,     1.36,2,    3.352,2,    1.627,2, -999.000,9,   1.7450,2,    -0.26,2,   7.535,2,   -999.0,9,  0.0070,-999.000,   0.038,   0.320
    06AQANTX_4,   A12,   548,  1,     18,     18,2,19920526,2007,-39.3500,  11.9833, 4777,    451.1,   7.6550,  34.5035,2,  34.4983,2,  7.6101,    230.5,2,     5.87,2,    22.47,2,     0.05,2,     1.52,2,    2.658,2,    1.282,2, -999.000,9,   1.6850,4,     0.75,2,-999.000,9,   -999.0,9,  0.0060,-999.000,-999.000,   0.320
    06AQANTX_4,   A12,   548,  1,     17,     17,2,19920526,2007,-39.3500,  11.9833, 4777,    500.0,   6.8669,  34.4237,2,  34.4234,2,  6.8200,    229.5,2,     9.76,2,    24.68,2,     0.05,2,     1.67,2,    2.541,2,    1.210,2, -999.000,9,   1.1440,4,    -0.24,2,-999.000,9,   -999.0,9,  0.0040,-999.000,-999.000,   0.320
    06AQANTX_4,   A12,   548,  1,     16,     16,2,19920526,2007,-39.3500,  11.9833, 4777,    599.2,   5.4760,  34.3048,2,  34.3044,2,  5.4259,    244.1,2,    12.91,2,    27.51,2,     0.04,2,     1.84,2,    2.526,2,    1.181,2, -999.000,9,   1.7670,2,     0.46,2,   7.739,2,   -999.0,9,  0.0070,-999.000,   0.039,   0.320
    06AQANTX_4,   A12,   548,  1,     15,     15,2,19920526,2007,-39.3500,  11.9833, 4777,    648.3,   4.9135,  34.2638,2,  34.2677,2,  4.8619,    247.8,2,    15.82,2,    28.20,2,     0.04,2,     1.93,2,    2.509,2,    1.187,2, -999.000,9,   1.7850,2,     0.27,2,   7.839,2,   -999.0,9,  0.0070,-999.000,   0.039,   0.320
    06AQANTX_4,   A12,   548,  1,     14,     14,2,19920526,2007,-39.3500,  11.9833, 4777,    700.8,   4.8132,  34.2958,2,  34.2980,2,  4.7576,    240.8,2,    20.42,2,    28.84,2,     0.04,2,     1.99,2,    2.077,2,    0.972,2, -999.000,9,   1.7650,2,     0.77,2,   7.705,2,   -999.0,9,  0.0070,-999.000,   0.039,   0.320
    06AQANTX_4,   A12,   548,  1,     13,     13,2,19920526,2007,-39.3500,  11.9833, 4777,    850.2,   3.9822,  34.2959,2,  34.2973,2,  3.9193,    233.4,2,    30.82,2,    30.96,2,     0.05,2,     2.10,2,    1.634,2,    0.758,2, -999.000,9,   1.7970,2,     2.19,2,   7.806,2,   -999.0,9,  0.0070,-999.000,   0.039,   0.320
    06AQANTX_4,   A12,   548,  1,     12,     12,2,19920526,2007,-39.3500,  11.9833, 4777,   1000.3,   3.3608,  34.3178,2,  34.4551,4,  3.2904,    231.2,2,  -999.00,9,  -999.00,9,  -999.00,9,  -999.00,9,    1.604,2,    0.789,2, -999.000,9,   1.7940,2,     2.52,2,   7.751,2,   -999.0,9,  0.0070,-999.000,   0.039,   0.320
    06AQANTX_4,   A12,   548,  1,     11,     11,2,19920526,2007,-39.3500,  11.9833, 4777,   1200.9,   2.9740,  34.4316,2,  34.4350,2,  2.8910,    197.7,2,    56.16,2,    34.43,2,     0.04,2,     2.36,2,    0.520,2,    0.264,2, -999.000,9,   1.8240,2,     6.29,2,   7.938,2,   -999.0,9,  0.0070,-999.000,   0.040,   0.320
    06AQANTX_4,   A12,   548,  1,     10,     10,2,19920526,2007,-39.3500,  11.9833, 4777,   1496.5,   2.7241,  34.6060,2,  34.6089,2,  2.6197,    186.4,2,    67.30,2,    33.84,2,     0.04,2,     2.30,2,    0.142,2,    0.082,3, -999.000,9,   1.8350,2,     8.04,2,   7.970,2,   -999.0,9,  0.0070,-999.000,   0.040,   0.320
    06AQANTX_4,   A12,   548,  1,      9,      9,2,19920526,2007,-39.3500,  11.9833, 4777,   1801.0,   2.6812,  34.7202,2,  34.7236,2,  2.5516,    199.4,2,    65.70,2,    31.05,2,     0.04,2,     2.11,2,    0.051,2,    0.026,2, -999.000,9,   1.8630,2,     7.44,2,   8.063,2,   -999.0,9,  0.0070,-999.000,   0.040,   0.320
    06AQANTX_4,   A12,   548,  1,      8,      8,2,19920526,2007,-39.3500,  11.9833, 4777,   2201.1,   2.6246,  34.8084,2,  34.8107,2,  2.4602,    220.1,2,    56.39,2,    27.56,2,     0.04,2,     1.86,2,    0.038,2,    0.003,3, -999.000,9,   1.8160,2,     7.03,2,-999.000,9,   -999.0,9,  0.0070,-999.000,-999.000,   0.320
    06AQANTX_4,   A12,   548,  1,      7,      7,2,19920526,2007,-39.3500,  11.9833, 4777,   2598.4,   2.4784,  34.8337,2,  34.8379,4,  2.2793,    236.8,2,    56.55,2,    26.35,2,     0.05,2,     1.78,2,    0.014,2,    0.007,2, -999.000,9,   1.8290,2,     6.34,2,   7.917,2,   -999.0,9,  0.0070,-999.000,   0.040,   0.320
    06AQANTX_4,   A12,   548,  1,      6,      6,2,19920526,2007,-39.3500,  11.9833, 4777,   2999.7,   2.3227,  34.8390,2,  34.8424,2,  2.0873,    235.9,2,    59.75,2,    26.13,2,     0.05,2,     1.76,2,    0.014,2,    0.008,2, -999.000,9,   1.8440,2,     5.87,2,   8.052,2,   -999.0,9,  0.0070,-999.000,   0.040,   0.320
    06AQANTX_4,   A12,   548,  1,      5,      5,2,19920526,2007,-39.3500,  11.9833, 4777,   3400.6,   2.1012,  34.8266,2,  34.8298,2,  1.8298,    234.0,2,    68.56,2,    26.87,2,     0.03,2,     1.81,2,    0.014,2,    0.014,3, -999.000,9,   1.8430,2,     6.16,2,   7.966,2,   -999.0,9,  0.0070,-999.000,   0.040,   0.320
    06AQANTX_4,   A12,   548,  1,      4,      4,2,19920526,2007,-39.3500,  11.9833, 4777,   3798.1,   1.6590,  34.7863,2,  34.7879,2,  1.3571,    229.6,2,    85.80,2,    29.07,2,     0.03,2,     1.95,2,    0.068,4,    0.006,2, -999.000,9,   1.8040,4,     7.03,2,   7.850,4,   -999.0,9,  0.0070,-999.000,   0.039,   0.320
    06AQANTX_4,   A12,   548,  1,      3,      3,2,19920526,2007,-39.3500,  11.9833, 4777,   4200.9,   1.2462,  34.7473,2,-999.0000,9,  0.9124,    227.2,2,   102.43,2,    31.04,2,     0.03,2,     2.10,2,    0.014,2,    0.009,2, -999.000,9,-999.0000,5,    -9.00,5,-999.000,5,   -999.0,9,-999.0000,-999.000,-999.000,-999.000
    06AQANTX_4,   A12,   548,  1,      2,      2,2,19920526,2007,-39.3500,  11.9833, 4777,   4603.0,   1.0771,  34.7295,2,  34.7332,2,  0.7035,    226.3,2,   109.52,2,    31.87,2,     0.03,2,     2.16,2,    0.029,2,    0.020,2, -999.000,9,-999.0000,5,    -9.00,5,-999.000,5,   -999.0,9,-999.0000,-999.000,-999.000,-999.000
    06AQANTX_4,   A12,   548,  1,      1,      1,2,19920526,2007,-39.3500,  11.9833, 4777,   4857.7,   1.0430,  34.7245,2,  34.7282,2,  0.6411,   -999.0,9,   111.44,2,    31.91,2,     0.03,2,     2.16,2,    0.036,2,    0.003,3, -999.000,9,   1.8920,2,     7.13,2,   8.213,2,   -999.0,9,  0.0070,-999.000,   0.041,   0.320
    06AQANTX_4,   A12,   549,  1,     24,     24,2,19920527,0610,-39.8500,  11.4000, 4827,     11.4,   9.7914,  34.3889,2,  34.3895,2,  9.7901,    302.9,2,     1.45,2,    11.04,2,  -999.00,9,     0.86,2,    3.805,2,    1.901,2, -999.000,9,-999.0000,9,    -9.00,9,-999.000,9,   -999.0,9,-999.0000,-999.000,-999.000,-999.000
    06AQANTX_4,   A12,   549,  1,     23,     23,2,19920527,0610,-39.8500,  11.4000, 4827,     71.2,   9.7923,  34.3880,2,  34.3883,2,  9.7843,    293.1,2,     1.45,2,    11.09,2,  -999.00,9,     0.83,2,    3.808,2,    1.922,2, -999.000,9,-999.0000,9,    -9.00,9,-999.000,9,   -999.0,9,-999.0000,-999.000,-999.000,-999.000
    06AQANTX_4,   A12,   549,  1,     22,     22,2,19920527,0610,-39.8500,  11.4000, 4827,    139.2,   9.5319,  34.4736,2,  34.4985,3,  9.5164,    284.7,2,  -999.00,9,  -999.00,9,  -999.00,9,  -999.00,9,    3.693,2,    1.834,2, -999.000,9,-999.0000,9,    -9.00,9,-999.000,9,   -999.0,9,-999.0000,-999.000,-999.000,-999.000
    06AQANTX_4,   A12,   549,  1,     21,     21,2,19920527,0610,-39.8500,  11.4000, 4827,    221.6,   9.6653,  34.7138,2,  34.7189,2,  9.6402,    237.8,2,     6.41,2,    16.70,2,  -999.00,9,     1.14,2,    2.591,2,    1.283,2, -999.000,9,-999.0000,9,    -9.00,9,-999.000,9,   -999.0,9,-999.0000,-999.000,-999.000,-999.000
    06AQANTX_4,   A12,   549,  1,     20,     20,2,19920527,0610,-39.8500,  11.4000, 4827,    258.6,   9.2416,  34.6714,2,  34.6690,2,  9.2131,    241.4,2,     7.81,2,    18.39,2,  -999.00,9,     1.26,2,    2.489,2,    1.222,2, -999.000,9,-999.0000,9,    -9.00,9,-999.000,9,   -999.0,9,-999.0000,-999.000,-999.000,-999.000
    06AQANTX_4,   A12,   549,  1,     19,     19,2,19920527,0610,-39.8500,  11.4000, 4827,    299.9,   8.3935,  34.5549,2,  34.5586,2,  8.3623,    241.6,2,     7.55,2,    19.52,2,  -999.00,9,     1.34,2,    2.875,2,    1.398,2, -999.000,9,-999.0000,9,    -9.00,9,-999.000,9,   -999.0,9,-999.0000,-999.000,-999.000,-999.000
    06AQANTX_4,   A12,   549,  1,     18,     18,2,19920527,0610,-39.8500,  11.4000, 4827,    401.5,   6.4849,  34.3474,2,  34.3485,2,  6.4487,    263.4,2,     8.94,2,    23.38,2,  -999.00,9,     1.58,2,    3.344,2,    1.642,2, -999.000,9,-999.0000,9,    -9.00,9,-999.000,9,   -999.0,9,-999.0000,-999.000,-999.000,-999.000
    06AQANTX_4,   A12,   549,  1,     17,     17,2,19920527,0610,-39.8500,  11.4000, 4827,    499.9,   5.2071,  34.2635,2,  34.2657,2,  5.1667,    257.7,2,    13.55,2,    27.17,2,  -999.00,9,     1.83,2,    2.836,2,    1.410,2, -999.000,9,-999.0000,9,    -9.00,9,-999.000,9,   -999.0,9,-999.0000,-999.000,-999.000,-999.000
    06AQANTX_4,   A12,   549,  1,     16,     16,2,19920527,0610,-39.8500,  11.4000, 4827,    600.7,   4.3810,  34.2247,2,  34.2247,2,  4.3359,    260.1,2,    18.07,2,    28.72,2,  -999.00,9,     1.92,2,    2.640,2,    1.271,2, -999.000,9,-999.0000,9,    -9.00,9,-999.000,9,   -999.0,9,-999.0000,-999.000,-999.000,-999.000
    06AQANTX_4,   A12,   549,  1,     15,     15,2,19920527,0610,-39.8500,  11.4000, 4827,    697.8,   3.7709,  34.2137,2,  34.2142,2,  3.7213,    260.2,2,    23.54,2,    29.99,2,  -999.00,9,     2.03,2,    2.393,2,    1.143,2, -999.000,9,-999.0000,9,    -9.00,9,-999.000,9,   -999.0,9,-999.0000,-999.000,-999.000,-999.000
    06AQANTX_4,   A12,   549,  1,     14,     14,2,19920527,0610,-39.8500,  11.4000, 4827,    852.4,   3.2231,  34.2407,2,  34.2409,2,  3.1652,    249.9,2,    32.47,2,    31.85,2,  -999.00,9,     2.16,2,    1.863,2,    0.860,2, -999.000,9,-999.0000,9,    -9.00,9,-999.000,9,   -999.0,9,-999.0000,-999.000,-999.000,-999.000
    06AQANTX_4,   A12,   549,  1,     13,     13,2,19920527,0610,-39.8500,  11.4000, 4827,    999.9,   2.9048,  34.3022,2,  34.3042,2,  2.8381,    229.1,2,    43.15,2,    33.39,2,  -999.00,9,     2.28,2,    1.269,2,    0.618,2, -999.000,9,-999.0000,9,    -9.00,9,-999.000,9,   -999.0,9,-999.0000,-999.000,-999.000,-999.000
    06AQANTX_4,   A12,   549,  1,     12,     12,2,19920527,0610,-39.8500,  11.4000, 4827,   1199.4,   3.0718,  34.4828,2,  34.4819,2,  2.9880,    196.2,2,    60.55,2,    34.69,2,  -999.00,9,     2.37,2,    0.391,2,    0.198,2, -999.000,9,-999.0000,9,    -9.00,9,-999.000,9,   -999.0,9,-999.0000,-999.000,-999.000,-999.000
    06AQANTX_4,   A12,   549,  1,     11,     11,2,19920527,0610,-39.8500,  11.4000, 4827,   1501.2,   2.7685,  34.6286,2,  34.6305,2,  2.6632,    191.1,2,    67.92,2,    33.28,2,  -999.00,9,     2.27,2,    0.102,2,    0.059,3, -999.000,9,-999.0000,9,    -9.00,9,-999.000,9,   -999.0,9,-999.0000,-999.000,-999.000,-999.000
    06AQANTX_4,   A12,   549,  1,     10,     10,2,19920527,0610,-39.8500,  11.4000, 4827,   1797.9,   2.6678,  34.7358,2,  34.7359,2,  2.5386,    208.8,2,    65.65,2,    30.42,2,  -999.00,9,     2.06,2,    0.043,2,    0.023,2, -999.000,9,-999.0000,9,    -9.00,9,-999.000,9,   -999.0,9,-999.0000,-999.000,-999.000,-999.000
    06AQANTX_4,   A12,   549,  1,      9,      9,2,19920527,0610,-39.8500,  11.4000, 4827,   2196.8,   2.6081,  34.8118,2,  34.8137,2,  2.4443,    228.2,2,    58.80,2,    27.47,2,  -999.00,9,     1.85,2,    0.058,4,    0.009,2, -999.000,9,-999.0000,9,    -9.00,9,-999.000,9,   -999.0,9,-999.0000,-999.000,-999.000,-999.000
    06AQANTX_4,   A12,   549,  1,      8,      8,2,19920527,0610,-39.8500,  11.4000, 4827,   2599.7,   2.4659,  34.8357,2,  34.8362,2,  2.2669,    236.3,2,    58.71,2,    26.36,2,  -999.00,9,     1.78,2,    0.009,2,    0.005,2, -999.000,9,-999.0000,9,    -9.00,9,-999.000,9,   -999.0,9,-999.0000,-999.000,-999.000,-999.000
    06AQANTX_4,   A12,   549,  1,      7,      7,2,19920527,0610,-39.8500,  11.4000, 4827,   3000.2,   2.3260,  34.8413,2,  34.8417,2,  2.0905,    241.5,2,    61.13,2,    25.97,2,  -999.00,9,     1.76,2, -999.000,9, -999.000,9, -999.000,9,-999.0000,9,    -9.00,9,-999.000,9,   -999.0,9,-999.0000,-999.000,-999.000,-999.000
    06AQANTX_4,   A12,   549,  1,      6,      6,2,19920527,0610,-39.8500,  11.4000, 4827,   3400.2,   2.1376,  34.8340,2,  34.8342,2,  1.8654,    237.6,2,    67.27,2,    26.51,2,  -999.00,9,     1.82,2,    0.017,2,    0.008,2, -999.000,9,-999.0000,9,    -9.00,9,-999.000,9,   -999.0,9,-999.0000,-999.000,-999.000,-999.000
    06AQANTX_4,   A12,   549,  1,      5,      5,2,19920527,0610,-39.8500,  11.4000, 4827,   3801.1,   1.6714,  34.7885,2,  34.7887,2,  1.3689,    233.2,2,    86.39,2,    28.95,2,  -999.00,9,     1.97,2,    0.020,2,   -0.002,3, -999.000,9,-999.0000,9,    -9.00,9,-999.000,9,   -999.0,9,-999.0000,-999.000,-999.000,-999.000
    06AQANTX_4,   A12,   549,  1,      4,      4,2,19920527,0610,-39.8500,  11.4000, 4827,   4201.6,   1.1971,  34.7458,2,  34.7462,2,  0.8647,    230.2,2,   104.22,2,    31.11,2,  -999.00,9,     2.13,2,    0.010,3,   -0.002,3, -999.000,9,-999.0000,9,    -9.00,9,-999.000,9,   -999.0,9,-999.0000,-999.000,-999.000,-999.000
    06AQANTX_4,   A12,   549,  1,      3,      3,2,19920527,0610,-39.8500,  11.4000, 4827,   4600.4,   1.0636,  34.7312,2,  34.7303,2,  0.6908,    232.1,2,   109.92,2,    31.77,2,  -999.00,9,     2.16,2,    0.015,3,    0.017,3, -999.000,9,-999.0000,9,    -9.00,9,-999.000,9,   -999.0,9,-999.0000,-999.000,-999.000,-999.000
    06AQANTX_4,   A12,   549,  1,      2,      2,2,19920527,0610,-39.8500,  11.4000, 4827,   4906.9,   1.0159,  34.7239,2,  34.7253,2,  0.6091,   -999.0,9,   112.67,2,    32.00,2,  -999.00,9,     2.18,2,    0.066,4,    0.028,3, -999.000,9,-999.0000,9,    -9.00,9,-999.000,9,   -999.0,9,-999.0000,-999.000,-999.000,-999.000
    06AQANTX_4,   A12,   549,  1,      1,      1,2,19920527,0610,-39.8500,  11.4000, 4827,   4907.8,   1.0158,  34.7243,2,  34.7260,2,  0.6089,    230.5,2,  -999.00,9,  -999.00,9,  -999.00,9,  -999.00,9,    0.036,2,    0.017,2, -999.000,9,-999.0000,9,    -9.00,9,-999.000,9,   -999.0,9,-999.0000,-999.000,-999.000,-999.000