BOTTLE,20061211WHPSIODBK
EXPOCODE,SECT_ID,STNNBR,CASTNO,SAMPNO,BTLNBR,BTLNBR_FLAG_W,DATE,TIME,LATITUDE,LONGITUDE,DEPTH,CTDPRS,CTDTMP,CTDSAL,CTDSAL_FLAG_W,SALNTY,SALNTY_FLAG_W,THETA,OXYGEN,OXYGEN_FLAG_W,SILCAT,SILCAT_FLAG_W,NITRAT,NITRAT_FLAG_W,NITRIT,NITRIT_FLAG_W,PHSPHT,PHSPHT_FLAG_W,CFC-11,CFC-11_FLAG_W,CFC-12,CFC-12_FLAG_W,TRITUM,TRITUM_FLAG_W,HELIUM,HELIUM_FLAG_W,DELHE3,DELHE3_FLAG_W,NEON,NEON_FLAG_W,TCARBN,TCARBN_FLAG_W,HELIER,TRITER,NEONER,DELHER
,,,,,,,,,,,,DBAR,ITS-90,PSS-78,,PSS-78,,DEG C,UMOL/KG,,UMOL/KG,,UMOL/KG,,UMOL/KG,,UMOL/KG,,PMOL/KG,,PMOL/KG,,TU,,NMOL/KG,,PERCNT,,NMOL/KG,,UMOL/KG,,NMOL/KG,TU,NMOL/KG,PERCNT
    06AQANTX_4,   A12,   593,  3,     24,     24,2,19920614,1703,-65.0000,   0.0000, 3680,     14.2,  -1.6091,  34.2575,2,  34.2577,2, -1.6094,    328.4,2,    67.10,2,    28.36,2,     0.19,2,     2.01,2,    6.042,2,    2.949,2, -999.000,9,-999.0000,9,    -9.00,9,-999.000,9,   2205.6,2,-999.0000,-999.000,-999.000,-999.000
    06AQANTX_4,   A12,   593,  3,     23,     23,2,19920614,1703,-65.0000,   0.0000, 3680,     14.3,  -1.6056,  34.2573,2,  34.2578,2, -1.6059,    327.8,2,    67.07,2,    28.87,2,     0.18,2,     2.00,2, -999.000,9, -999.000,9, -999.000,9,-999.0000,9,    -9.00,9,-999.000,9,   2207.1,2,-999.0000,-999.000,-999.000,-999.000
    06AQANTX_4,   A12,   593,  3,     22,     22,2,19920614,1703,-65.0000,   0.0000, 3680,     14.7,  -1.6082,  34.2576,2,  34.2574,2, -1.6085,    328.0,2,    66.30,2,    28.36,2,     0.18,2,     2.02,2, -999.000,9, -999.000,9, -999.000,9,-999.0000,9,    -9.00,9,-999.000,9,   2205.6,2,-999.0000,-999.000,-999.000,-999.000
    06AQANTX_4,   A12,   593,  3,     21,     21,2,19920614,1703,-65.0000,   0.0000, 3680,     39.5,  -1.4527,  34.2690,2,  34.2736,2, -1.4536,    324.1,2,    67.13,2,    29.13,2,     0.18,2,     2.03,2, -999.000,9, -999.000,9, -999.000,9,-999.0000,9,    -9.00,9,-999.000,9,   2206.0,2,-999.0000,-999.000,-999.000,-999.000
    06AQANTX_4,   A12,   593,  3,     20,     20,2,19920614,1703,-65.0000,   0.0000, 3680,     79.6,  -1.0364,  34.3548,2,  34.3521,2, -1.0385,    311.7,2,    71.46,2,    30.10,2,     0.16,2,     2.05,2,    5.328,2,    2.636,2, -999.000,9,-999.0000,9,    -9.00,9,-999.000,9,   2215.8,2,-999.0000,-999.000,-999.000,-999.000
    06AQANTX_4,   A12,   593,  3,     19,     19,2,19920614,1703,-65.0000,   0.0000, 3680,    119.0,   0.7842,  34.6264,2,  34.6053,3,  0.7791,    202.2,2,    89.89,2,    33.65,2,     0.04,2,     2.28,2, -999.000,9, -999.000,9, -999.000,9,-999.0000,9,    -9.00,9,-999.000,9,   2256.1,2,-999.0000,-999.000,-999.000,-999.000
    06AQANTX_4,   A12,   593,  3,     18,     18,2,19920614,1703,-65.0000,   0.0000, 3680,    149.5,   1.2605,  34.6612,2,  34.6612,2,  1.2535,    186.9,2,    94.11,2,    33.59,2,     0.01,2,     2.29,2,    0.662,2,    0.315,2, -999.000,9,-999.0000,9,    -9.00,9,-999.000,9,   2263.3,2,-999.0000,-999.000,-999.000,-999.000
    06AQANTX_4,   A12,   593,  3,     17,     17,2,19920614,1703,-65.0000,   0.0000, 3680,    199.7,   1.2845,  34.6813,2,  34.6622,3,  1.2750,    186.6,2,    93.87,2,    33.71,2,     0.01,2,     2.29,2,    0.657,2,    0.279,2, -999.000,9,-999.0000,9,    -9.00,9,-999.000,9,   2263.7,2,-999.0000,-999.000,-999.000,-999.000
    06AQANTX_4,   A12,   593,  3,     16,     16,2,19920614,1703,-65.0000,   0.0000, 3680,    258.4,   1.2568,  34.6921,2,  34.6916,2,  1.2444,    191.3,2,    97.28,2,    32.86,2,     0.01,2,     2.24,2,    0.457,2,    0.190,2, -999.000,9,-999.0000,9,    -9.00,9,-999.000,9,   2262.2,2,-999.0000,-999.000,-999.000,-999.000
    06AQANTX_4,   A12,   593,  3,     15,     15,2,19920614,1703,-65.0000,   0.0000, 3680,    349.5,   1.1988,  34.7062,2,  34.7050,2,  1.1819,    195.3,2,    99.93,2,    32.71,2,     0.01,2,     2.22,2,    0.330,2,    0.179,3, -999.000,9,-999.0000,9,    -9.00,9,-999.000,9,   2258.1,2,-999.0000,-999.000,-999.000,-999.000
    06AQANTX_4,   A12,   593,  3,     14,     14,2,19920614,1703,-65.0000,   0.0000, 3680,    499.7,   1.0524,  34.7081,2,  34.7080,2,  1.0282,    199.1,2,   104.44,2,    32.28,2,     0.02,2,     2.20,2,    0.268,2,    0.173,3, -999.000,9,-999.0000,9,    -9.00,9,-999.000,9,   -999.0,9,-999.0000,-999.000,-999.000,-999.000
    06AQANTX_4,   A12,   593,  3,     13,     13,2,19920614,1703,-65.0000,   0.0000, 3680,    649.6,   0.8807,  34.7048,2,  34.7037,2,  0.8493,    201.9,2,   108.76,2,    32.79,2,     0.02,2,     2.22,2, -999.000,9, -999.000,9, -999.000,9,-999.0000,9,    -9.00,9,-999.000,9,   2260.1,2,-999.0000,-999.000,-999.000,-999.000
    06AQANTX_4,   A12,   593,  3,     12,     12,2,19920614,1703,-65.0000,   0.0000, 3680,    700.0,   0.8240,  34.7024,2,  34.7015,2,  0.7902,    202.7,2,   110.17,2,    32.74,2,     0.02,2,     2.24,2,    0.249,2,    0.105,3, -999.000,9,-999.0000,9,    -9.00,9,-999.000,9,   -999.0,9,-999.0000,-999.000,-999.000,-999.000
    06AQANTX_4,   A12,   593,  3,     11,     11,2,19920614,1703,-65.0000,   0.0000, 3680,    797.8,   0.7075,  34.6978,2,  34.6975,2,  0.6690,    204.5,2,   112.50,2,    33.24,2,     0.02,2,     2.24,2, -999.000,9, -999.000,9, -999.000,9,-999.0000,9,    -9.00,9,-999.000,9,   2263.1,2,-999.0000,-999.000,-999.000,-999.000
    06AQANTX_4,   A12,   593,  3,     10,     10,2,19920614,1703,-65.0000,   0.0000, 3680,    999.3,   0.5459,  34.6923,2,  34.6886,2,  0.4973,   -999.0,9,   116.45,2,    33.37,2,     0.01,2,     2.26,2, -999.000,9, -999.000,9, -999.000,9,-999.0000,9,    -9.00,9,-999.000,9,   2263.9,2,-999.0000,-999.000,-999.000,-999.000
    06AQANTX_4,   A12,   593,  3,      9,      9,2,19920614,1703,-65.0000,   0.0000, 3680,   1200.0,   0.3982,  34.6822,2,  34.6825,2,  0.3392,    209.9,2,   119.65,2,    33.75,2,     0.02,2,     2.28,2,    0.232,2,    0.136,3, -999.000,9,-999.0000,9,    -9.00,9,-999.000,9,   2264.0,2,-999.0000,-999.000,-999.000,-999.000
    06AQANTX_4,   A12,   593,  3,      8,      8,2,19920614,1703,-65.0000,   0.0000, 3680,   1499.7,   0.2372,  34.6762,2,  34.6759,2,  0.1616,    212.3,2,   123.23,2,    33.31,2,     0.02,2,     2.30,2, -999.000,9, -999.000,9, -999.000,9,-999.0000,9,    -9.00,9,-999.000,9,   2266.3,2,-999.0000,-999.000,-999.000,-999.000
    06AQANTX_4,   A12,   593,  3,      7,      7,2,19920614,1703,-65.0000,   0.0000, 3680,   1799.0,   0.1108,  34.6702,2,  34.6701,2,  0.0173,    217.7,2,   124.34,2,    33.32,2,     0.01,2,     2.29,2,    0.228,2,    0.101,2, -999.000,9,-999.0000,9,    -9.00,9,-999.000,9,   2264.8,2,-999.0000,-999.000,-999.000,-999.000
    06AQANTX_4,   A12,   593,  3,      6,      6,2,19920614,1703,-65.0000,   0.0000, 3680,   2200.5,  -0.0277,  34.6657,2,  34.6662,2, -0.1471,    223.4,2,   125.64,2,    33.64,2,     0.01,2,     2.28,2, -999.000,9, -999.000,9, -999.000,9,-999.0000,9,    -9.00,9,-999.000,9,   2262.7,2,-999.0000,-999.000,-999.000,-999.000
    06AQANTX_4,   A12,   593,  3,      5,      5,2,19920614,1703,-65.0000,   0.0000, 3680,   2598.3,  -0.1323,  34.6622,2,  34.6621,2, -0.2798,    228.9,2,   125.51,2,    33.18,2,     0.00,2,     2.27,2,    0.333,3,    0.427,4, -999.000,9,-999.0000,9,    -9.00,9,-999.000,9,   2259.6,2,-999.0000,-999.000,-999.000,-999.000
    06AQANTX_4,   A12,   593,  3,      4,      4,2,19920614,1703,-65.0000,   0.0000, 3680,   3399.9,  -0.2523,  34.6563,2,  34.6628,4, -0.4644,    235.3,2,   125.50,2,    32.90,2,     0.01,2,     2.28,2,    0.323,3,    0.219,3, -999.000,9,-999.0000,9,    -9.00,9,-999.000,9,   2260.6,2,-999.0000,-999.000,-999.000,-999.000
    06AQANTX_4,   A12,   593,  3,      3,      3,2,19920614,1703,-65.0000,   0.0000, 3680,   3600.3,  -0.2769,  34.6549,2,  34.6554,2, -0.5066,    238.1,2,   127.09,2,    33.11,2,     0.01,2,     2.27,2, -999.000,9, -999.000,9, -999.000,9,-999.0000,9,    -9.00,9,-999.000,9,   2257.9,2,-999.0000,-999.000,-999.000,-999.000
    06AQANTX_4,   A12,   593,  3,      2,      2,2,19920614,1703,-65.0000,   0.0000, 3680,   3675.2,  -0.2848,  34.6545,2,  34.6577,2, -0.5212,    238.6,2,   127.54,2,    33.54,2,     0.00,2,     2.27,2,    0.448,2,    0.218,2, -999.000,9,-999.0000,9,    -9.00,9,-999.000,9,   -999.0,9,-999.0000,-999.000,-999.000,-999.000
    06AQANTX_4,   A12,   593,  3,      1,      1,2,19920614,1703,-65.0000,   0.0000, 3680,   3749.1,  -0.3044,  34.6531,2,  34.6548,2, -0.5472,    240.3,2,   129.68,2,    33.56,2,     0.00,2,     2.23,2,    0.476,2,    0.213,2, -999.000,9,-999.0000,9,    -9.00,9,-999.000,9,   2256.4,2,-999.0000,-999.000,-999.000,-999.000
    06AQANTX_4,   A12,   594,  1,     24,     24,2,19920614,2239,-65.5000,   0.0000, 3863,     12.7,  -1.6613,  34.1934,2,  34.1941,2, -1.6616,    328.1,2,    64.57,2,    28.16,2,     0.20,2,     1.97,2,    6.182,2,    2.989,2, -999.000,9,-999.0000,9,    -9.00,9,-999.000,9,   -999.0,9,-999.0000,-999.000,-999.000,-999.000
    06AQANTX_4,   A12,   594,  1,     23,     23,2,19920614,2239,-65.5000,   0.0000, 3863,     12.7,  -1.6432,  34.1937,2,  34.1960,2, -1.6435,   -999.0,9,    64.33,2,    28.18,2,     0.20,2,     1.98,2, -999.000,9, -999.000,9, -999.000,9,-999.0000,9,    -9.00,9,-999.000,9,   -999.0,9,-999.0000,-999.000,-999.000,-999.000
    06AQANTX_4,   A12,   594,  1,     22,     22,2,19920614,2239,-65.5000,   0.0000, 3863,     39.3,  -1.4155,  34.1919,2,  34.2449,4, -1.4164,    320.2,2,    66.50,2,    28.56,2,     0.19,2,     1.97,2,    5.805,2,    2.879,2, -999.000,9,-999.0000,9,    -9.00,9,-999.000,9,   -999.0,9,-999.0000,-999.000,-999.000,-999.000
    06AQANTX_4,   A12,   594,  1,     21,     21,2,19920614,2239,-65.5000,   0.0000, 3863,     79.9,  -0.3941,  34.4722,2,  34.4730,2, -0.3967,    270.0,2,    82.98,2,    30.86,2,     0.12,2,     2.15,2,    3.904,2,    1.840,2, -999.000,9,-999.0000,9,    -9.00,9,-999.000,9,   -999.0,9,-999.0000,-999.000,-999.000,-999.000
    06AQANTX_4,   A12,   594,  1,     20,     20,2,19920614,2239,-65.5000,   0.0000, 3863,    119.1,   0.8723,  34.6186,2,  34.6062,3,  0.8671,    205.8,2,    92.02,2,    33.22,2,     0.05,2,     2.27,2,    1.467,2,    0.677,2, -999.000,9,-999.0000,9,    -9.00,9,-999.000,9,   -999.0,9,-999.0000,-999.000,-999.000,-999.000
    06AQANTX_4,   A12,   594,  1,     19,     19,2,19920614,2239,-65.5000,   0.0000, 3863,    199.2,   1.0330,  34.6710,2,  34.6721,2,  1.0239,    194.9,2,   100.03,2,    33.09,2,     0.02,2,     2.24,2,    0.673,2,    0.320,2, -999.000,9,-999.0000,9,    -9.00,9,-999.000,9,   -999.0,9,-999.0000,-999.000,-999.000,-999.000
    06AQANTX_4,   A12,   594,  1,     18,     18,2,19920614,2239,-65.5000,   0.0000, 3863,    299.3,   1.0353,  34.6947,2,  34.6967,2,  1.0214,    196.4,2,   104.07,2,    32.78,2,     0.02,2,     2.22,2,    0.389,2,    0.203,2, -999.000,9,-999.0000,9,    -9.00,9,-999.000,9,   -999.0,9,-999.0000,-999.000,-999.000,-999.000
    06AQANTX_4,   A12,   594,  1,     17,     17,2,19920614,2239,-65.5000,   0.0000, 3863,    399.1,   0.8388,  34.6907,2,  34.6973,2,  0.8205,    196.6,2,   104.08,2,    32.37,2,     0.03,2,     2.22,2,    0.388,2,    0.177,2, -999.000,9,-999.0000,9,    -9.00,9,-999.000,9,   -999.0,9,-999.0000,-999.000,-999.000,-999.000
    06AQANTX_4,   A12,   594,  1,     16,     16,2,19920614,2239,-65.5000,   0.0000, 3863,    499.5,   0.8423,  34.6993,2,  34.6994,2,  0.8190,    201.9,2,   109.93,2,    32.71,2,     0.02,2,     2.21,2,    0.275,2,    0.128,2, -999.000,9,-999.0000,9,    -9.00,9,-999.000,9,   -999.0,9,-999.0000,-999.000,-999.000,-999.000
    06AQANTX_4,   A12,   594,  1,     15,     15,2,19920614,2239,-65.5000,   0.0000, 3863,    599.9,   0.7502,  34.6988,2,  34.6966,2,  0.7221,    202.3,2,   112.52,2,    33.09,2,     0.02,2,     2.22,2,    0.264,2,    0.139,3, -999.000,9,-999.0000,9,    -9.00,9,-999.000,9,   -999.0,9,-999.0000,-999.000,-999.000,-999.000
    06AQANTX_4,   A12,   594,  1,     14,     14,2,19920614,2239,-65.5000,   0.0000, 3863,    699.1,   0.5950,  34.6884,2,  34.6874,2,  0.5626,    200.1,2,   116.38,2,    33.29,2,     0.02,2,     2.27,2,    0.286,4,    0.108,2, -999.000,9,-999.0000,9,    -9.00,9,-999.000,9,   -999.0,9,-999.0000,-999.000,-999.000,-999.000
    06AQANTX_4,   A12,   594,  1,     13,     13,2,19920614,2239,-65.5000,   0.0000, 3863,    799.4,   0.5444,  34.6901,2,  34.6887,2,  0.5069,    203.0,2,   117.81,2,    33.26,2,     0.02,2,     2.26,2,    0.233,2,    0.109,2, -999.000,9,-999.0000,9,    -9.00,9,-999.000,9,   -999.0,9,-999.0000,-999.000,-999.000,-999.000
    06AQANTX_4,   A12,   594,  1,     12,     12,2,19920614,2239,-65.5000,   0.0000, 3863,    998.8,   0.4326,  34.6862,2,  34.6848,2,  0.3850,    205.4,2,   121.59,2,    34.10,2,     0.01,2,     2.27,2,    0.168,2,    0.081,2, -999.000,9,-999.0000,9,    -9.00,9,-999.000,9,   -999.0,9,-999.0000,-999.000,-999.000,-999.000
    06AQANTX_4,   A12,   594,  1,     11,     11,2,19920614,2239,-65.5000,   0.0000, 3863,   1200.1,   0.3118,  34.6805,2,  34.6792,2,  0.2537,    206.6,2,   124.21,2,    34.08,2,     0.01,2,     2.29,2,    0.150,2,    0.072,2, -999.000,9,-999.0000,9,    -9.00,9,-999.000,9,   -999.0,9,-999.0000,-999.000,-999.000,-999.000
    06AQANTX_4,   A12,   594,  1,     10,     10,2,19920614,2239,-65.5000,   0.0000, 3863,   1499.8,   0.1514,  34.6738,2,  34.6737,2,  0.0768,    211.6,2,   127.32,2,    34.55,2,     0.01,2,     2.32,2,    0.153,2,    0.094,3, -999.000,9,-999.0000,9,    -9.00,9,-999.000,9,   -999.0,9,-999.0000,-999.000,-999.000,-999.000
    06AQANTX_4,   A12,   594,  1,      9,      9,2,19920614,2239,-65.5000,   0.0000, 3863,   1799.3,   0.0545,  34.6694,2,  34.6692,2, -0.0382,    215.9,2,   127.71,2,    35.24,2,     0.02,2,     2.29,2,    0.163,2,    0.094,3, -999.000,9,-999.0000,9,    -9.00,9,-999.000,9,   -999.0,9,-999.0000,-999.000,-999.000,-999.000
    06AQANTX_4,   A12,   594,  1,      8,      8,2,19920614,2239,-65.5000,   0.0000, 3863,   1999.2,  -0.0043,  34.6668,2,  34.6664,2, -0.1098,    220.7,2,   127.61,2,    34.84,2,     0.02,2,     2.29,2,    0.175,2,    0.096,3, -999.000,9,-999.0000,9,    -9.00,9,-999.000,9,   -999.0,9,-999.0000,-999.000,-999.000,-999.000
    06AQANTX_4,   A12,   594,  1,      7,      7,2,19920614,2239,-65.5000,   0.0000, 3863,   2399.7,  -0.1273,  34.6615,2,  34.6626,2, -0.2596,    227.0,2,   127.43,2,    34.70,2,     0.02,2,     2.27,2,    0.194,2,    0.083,3, -999.000,9,-999.0000,9,    -9.00,9,-999.000,9,   -999.0,9,-999.0000,-999.000,-999.000,-999.000
    06AQANTX_4,   A12,   594,  1,      6,      6,2,19920614,2239,-65.5000,   0.0000, 3863,   2799.6,  -0.1856,  34.6606,2,  34.6600,2, -0.3480,    231.6,2,   126.86,2,    33.99,2,     0.01,2,     2.24,2,    0.303,2,    0.152,2, -999.000,9,-999.0000,9,    -9.00,9,-999.000,9,   -999.0,9,-999.0000,-999.000,-999.000,-999.000
    06AQANTX_4,   A12,   594,  1,      5,      5,2,19920614,2239,-65.5000,   0.0000, 3863,   3199.6,  -0.2334,  34.6577,2,  34.6579,2, -0.4283,    235.3,2,   126.86,2,    33.77,2,     0.01,2,     2.23,2,    0.382,2,    0.182,2, -999.000,9,-999.0000,9,    -9.00,9,-999.000,9,   -999.0,9,-999.0000,-999.000,-999.000,-999.000
    06AQANTX_4,   A12,   594,  1,      4,      4,2,19920614,2239,-65.5000,   0.0000, 3863,   3500.1,  -0.2624,  34.6560,2,  34.6559,2, -0.4833,    238.7,2,   126.91,2,    34.18,2,     0.01,2,     2.23,2,    0.431,2,    0.197,2, -999.000,9,-999.0000,9,    -9.00,9,-999.000,9,   -999.0,9,-999.0000,-999.000,-999.000,-999.000
    06AQANTX_4,   A12,   594,  1,      3,      3,2,19920614,2239,-65.5000,   0.0000, 3863,   3774.6,  -0.2872,  34.6540,2,  34.6533,2, -0.5329,    240.2,2,   128.74,2,    34.33,2,     0.02,2,     2.24,2,    0.457,2,    0.219,2, -999.000,9,-999.0000,9,    -9.00,9,-999.000,9,   -999.0,9,-999.0000,-999.000,-999.000,-999.000
    06AQANTX_4,   A12,   594,  1,      2,      2,2,19920614,2239,-65.5000,   0.0000, 3863,   3849.9,  -0.2841,  34.6546,2,  34.6539,2, -0.5371,    240.1,2,   129.08,2,    33.69,2,     0.02,2,     2.24,2,    0.477,2,    0.236,2, -999.000,9,-999.0000,9,    -9.00,9,-999.000,9,   -999.0,9,-999.0000,-999.000,-999.000,-999.000
    06AQANTX_4,   A12,   594,  1,      1,      1,2,19920614,2239,-65.5000,   0.0000, 3863,   3977.8,  -0.2893,  34.6543,2,  34.6527,2, -0.5546,    240.6,2,   129.99,2,    33.52,2,     0.03,2,     2.24,2,    0.463,2,    0.203,2, -999.000,9,-999.0000,9,    -9.00,9,-999.000,9,   -999.0,9,-999.0000,-999.000,-999.000,-999.000
    06AQANTX_4,   A12,   595,  3,      8,      8,2,19920615,0550,-66.0000,   0.0000, 3368,   2100.5,  -0.0557,  34.6656,2,  34.6659,2, -0.1674,    222.9,2,   127.10,2,    32.57,2,     0.02,2,     2.35,2,    0.159,2,    0.076,2, -999.000,9,-999.0000,9,    -9.00,9,-999.000,9,   -999.0,9,-999.0000,-999.000,-999.000,-999.000
    06AQANTX_4,   A12,   595,  3,      7,      7,2,19920615,0550,-66.0000,   0.0000, 3368,   2401.1,  -0.1208,  34.6624,2,  34.6662,2, -0.2534,    223.2,2,   127.17,2,    32.47,2,     0.02,2,     2.37,2,    0.310,2,    0.387,4, -999.000,9,-999.0000,9,    -9.00,9,-999.000,9,   -999.0,9,-999.0000,-999.000,-999.000,-999.000
    06AQANTX_4,   A12,   595,  3,      6,      6,2,19920615,0550,-66.0000,   0.0000, 3368,   2800.9,  -0.1849,  34.6597,2,  34.6611,2, -0.3474,    231.5,2,   126.40,2,    32.32,2,     0.02,2,     2.35,2,    0.279,2,    0.145,2, -999.000,9,-999.0000,9,    -9.00,9,-999.000,9,   -999.0,9,-999.0000,-999.000,-999.000,-999.000
    06AQANTX_4,   A12,   595,  3,      5,      5,2,19920615,0550,-66.0000,   0.0000, 3368,   3000.9,  -0.2188,  34.6588,2,  34.6597,2, -0.3971,    235.4,2,   125.82,2,    32.70,2,     0.02,2,     2.32,2,    0.378,2,    0.188,2, -999.000,9,-999.0000,9,    -9.00,9,-999.000,9,   -999.0,9,-999.0000,-999.000,-999.000,-999.000
    06AQANTX_4,   A12,   595,  3,      4,      4,2,19920615,0550,-66.0000,   0.0000, 3368,   3101.5,  -0.2426,  34.6578,2,  34.6585,2, -0.4288,    235.9,2,   126.47,2,    32.60,2,     0.01,2,     2.31,2,    0.353,2,    0.169,2, -999.000,9,-999.0000,9,    -9.00,9,-999.000,9,   -999.0,9,-999.0000,-999.000,-999.000,-999.000
    06AQANTX_4,   A12,   595,  3,      3,      3,2,19920615,0550,-66.0000,   0.0000, 3368,   3270.3,  -0.2667,  34.6560,2,  34.6622,4, -0.4669,   -999.0,9,   125.60,2,    32.77,2,     0.01,2,     2.34,2, -999.000,9, -999.000,9, -999.000,9,-999.0000,9,    -9.00,9,-999.000,9,   -999.0,9,-999.0000,-999.000,-999.000,-999.000
    06AQANTX_4,   A12,   595,  3,      2,      2,2,19920615,0550,-66.0000,   0.0000, 3368,   3339.9,  -0.2798,  34.6557,2,  34.6569,2, -0.4859,    236.8,2,   127.41,2,    33.01,2,     0.01,2,     2.32,2,    0.413,2,    0.189,2, -999.000,9,-999.0000,9,    -9.00,9,-999.000,9,   -999.0,9,-999.0000,-999.000,-999.000,-999.000
    06AQANTX_4,   A12,   595,  3,      1,      1,2,19920615,0550,-66.0000,   0.0000, 3368,   3421.7,  -0.2954,  34.6538,2,  34.6559,2, -0.5083,    239.7,2,   128.74,2,    32.90,2,     0.02,2,     2.26,2, -999.000,9, -999.000,9, -999.000,9,-999.0000,9,    -9.00,9,-999.000,9,   -999.0,9,-999.0000,-999.000,-999.000,-999.000