BOTTLE,20061211WHPSIODBK
#code : jjward hyd_to_exchange.pl 
#original files copied from HTML directory: 20061204
#original HYD file: a12hy.txt   Mon Dec 11 12:45:49 2006
#original SUM file: a12su.txt   Tue Nov 14 13:24:41 2006
EXPOCODE,SECT_ID,STNNBR,CASTNO,SAMPNO,BTLNBR,BTLNBR_FLAG_W,DATE,TIME,LATITUDE,LONGITUDE,DEPTH,CTDPRS,CTDTMP,CTDSAL,CTDSAL_FLAG_W,SALNTY,SALNTY_FLAG_W,THETA,OXYGEN,OXYGEN_FLAG_W,SILCAT,SILCAT_FLAG_W,NITRAT,NITRAT_FLAG_W,NITRIT,NITRIT_FLAG_W,PHSPHT,PHSPHT_FLAG_W,CFC-11,CFC-11_FLAG_W,CFC-12,CFC-12_FLAG_W,TRITUM,TRITUM_FLAG_W,HELIUM,HELIUM_FLAG_W,DELHE3,DELHE3_FLAG_W,NEON,NEON_FLAG_W,TCARBN,TCARBN_FLAG_W,HELIER,TRITER,NEONER,DELHER
,,,,,,,,,,,,DBAR,ITS-90,PSS-78,,PSS-78,,DEG C,UMOL/KG,,UMOL/KG,,UMOL/KG,,UMOL/KG,,UMOL/KG,,PMOL/KG,,PMOL/KG,,TU,,NMOL/KG,,PERCNT,,NMOL/KG,,UMOL/KG,,NMOL/KG,TU,NMOL/KG,PERCNT
    06AQANTX_4,   A12,   536,  1,     11,     11,2,19920522,1109,-34.1833,  17.9667,  261,      3.1,  18.1776,  35.5224,2,  35.5214,2, 18.1771,   -999.0,9,     3.57,2,     1.62,2,     0.11,2,     0.22,2, -999.000,9, -999.000,9, -999.000,9,-999.0000,9,    -9.00,9,-999.000,9,   -999.0,9,-999.0000,-999.000,-999.000,-999.000
    06AQANTX_4,   A12,   536,  1,     10,     10,2,19920522,1109,-34.1833,  17.9667,  261,     18.1,  18.1281,  35.5073,2,  35.5084,2, 18.1250,   -999.0,9,     3.66,2,     1.68,2,     0.13,2,     0.22,2, -999.000,9, -999.000,9, -999.000,9,-999.0000,9,    -9.00,9,-999.000,9,   -999.0,9,-999.0000,-999.000,-999.000,-999.000
    06AQANTX_4,   A12,   536,  1,      9,      9,2,19920522,1109,-34.1833,  17.9667,  261,     49.7,  14.3192,  35.3417,2,  35.2548,4, 14.3119,   -999.0,9,     7.99,2,    10.98,2,     0.29,2,     0.79,2, -999.000,9, -999.000,9, -999.000,9,-999.0000,9,    -9.00,9,-999.000,9,   -999.0,9,-999.0000,-999.000,-999.000,-999.000
    06AQANTX_4,   A12,   536,  1,      8,      8,2,19920522,1109,-34.1833,  17.9667,  261,     70.7,  12.2495,  35.1123,2,-999.0000,9, 12.2402,   -999.0,9,    10.21,2,    14.80,2,     0.08,2,     1.04,2, -999.000,9, -999.000,9, -999.000,9,-999.0000,9,    -9.00,9,-999.000,9,   -999.0,9,-999.0000,-999.000,-999.000,-999.000
    06AQANTX_4,   A12,   536,  1,      7,      7,2,19920522,1109,-34.1833,  17.9667,  261,     89.6,  11.7270,  35.0531,2,-999.0000,9, 11.7155,   -999.0,9,    11.15,2,    16.37,2,     0.05,2,     1.12,2, -999.000,9, -999.000,9, -999.000,9,-999.0000,9,    -9.00,9,-999.000,9,   -999.0,9,-999.0000,-999.000,-999.000,-999.000
    06AQANTX_4,   A12,   536,  1,      6,      6,2,19920522,1109,-34.1833,  17.9667,  261,    120.2,  10.9479,  34.9522,2,-999.0000,9, 10.9332,   -999.0,9,    11.57,2,    17.32,2,     0.04,2,     1.20,2, -999.000,9, -999.000,9, -999.000,9,-999.0000,9,    -9.00,9,-999.000,9,   -999.0,9,-999.0000,-999.000,-999.000,-999.000
    06AQANTX_4,   A12,   536,  1,      5,      5,2,19920522,1109,-34.1833,  17.9667,  261,    143.2,  10.3309,  34.8444,2,  34.8451,2, 10.3140,   -999.0,9,     8.60,2,    17.06,2,     0.04,2,     1.17,2, -999.000,9, -999.000,9, -999.000,9,-999.0000,9,    -9.00,9,-999.000,9,   -999.0,9,-999.0000,-999.000,-999.000,-999.000
    06AQANTX_4,   A12,   536,  1,      4,      4,2,19920522,1109,-34.1833,  17.9667,  261,    201.4,   9.8260,  34.8069,2,  34.8054,2,  9.8029,   -999.0,9,    12.78,2,    19.83,2,     0.03,2,     1.37,2, -999.000,9, -999.000,9, -999.000,9,-999.0000,9,    -9.00,9,-999.000,9,   -999.0,9,-999.0000,-999.000,-999.000,-999.000
    06AQANTX_4,   A12,   536,  1,      1,      1,2,19920522,1109,-34.1833,  17.9667,  261,    240.2,   8.6399,  34.6871,2,-999.0000,9,  8.6145,   -999.0,9,    18.58,2,    23.32,2,     0.06,2,     1.66,2, -999.000,9, -999.000,9, -999.000,9,-999.0000,9,    -9.00,9,-999.000,9,   -999.0,9,-999.0000,-999.000,-999.000,-999.000
    06AQANTX_4,   A12,   536,  1,      2,      2,2,19920522,1109,-34.1833,  17.9667,  261,    240.4,   8.6459,  34.6868,2,  34.6877,2,  8.6204,   -999.0,9,    18.41,2,    23.51,2,     0.06,2,     1.68,2, -999.000,9, -999.000,9, -999.000,9,-999.0000,9,    -9.00,9,-999.000,9,   -999.0,9,-999.0000,-999.000,-999.000,-999.000
    06AQANTX_4,   A12,   536,  1,      3,      3,2,19920522,1109,-34.1833,  17.9667,  261,    240.5,   8.6543,  34.6882,2,  34.6951,2,  8.6288,   -999.0,9,    18.15,2,    23.41,2,     0.05,2,     1.67,2, -999.000,9, -999.000,9, -999.000,9,-999.0000,9,    -9.00,9,-999.000,9,   -999.0,9,-999.0000,-999.000,-999.000,-999.000
    06AQANTX_4,   A12,   537,  1,     12,     12,2,19920522,1413,-34.3667,  17.7667,  431,      6.3,  18.3715,  35.5306,2,  35.5284,2, 18.3704,    242.6,2,     2.71,2,     1.17,2,     0.12,2,     0.19,2,    2.041,3,    1.265,3,    1.134,2,-999.0000,5,    -9.00,5,-999.000,5,   -999.0,9,-999.0000,   0.026,-999.000,-999.000
    06AQANTX_4,   A12,   537,  1,     11,     11,2,19920522,1413,-34.3667,  17.7667,  431,     70.2,  15.8173,  35.2983,2,  35.3029,2, 15.8063,    228.8,2,     3.93,2,     5.16,2,     0.50,2,     0.43,2,    2.069,3,    1.074,3, -999.000,9,-999.0000,5,    -9.00,5,-999.000,5,   -999.0,9,-999.0000,-999.000,-999.000,-999.000
    06AQANTX_4,   A12,   537,  1,     10,     10,2,19920522,1413,-34.3667,  17.7667,  431,    100.8,  13.6042,  35.1956,2,  35.1939,2, 13.5899,    221.2,2,     4.28,2,     8.36,2,     0.04,2,     0.60,2, -999.000,9, -999.000,9, -999.000,9,-999.0000,9,    -9.00,9,-999.000,9,   -999.0,9,-999.0000,-999.000,-999.000,-999.000
    06AQANTX_4,   A12,   537,  1,      9,      9,2,19920522,1413,-34.3667,  17.7667,  431,    139.4,  12.5715,  35.0984,2,  35.0962,2, 12.5528,   -999.0,9,     5.05,2,    10.68,2,     0.03,2,     0.74,2,    2.097,2,    1.061,2, -999.000,9,   1.7810,2,     0.24,2,   7.419,2,   -999.0,9,  0.0070,-999.000,   0.037,   0.320
    06AQANTX_4,   A12,   537,  1,      8,      8,2,19920522,1413,-34.3667,  17.7667,  431,    178.3,  11.9685,  35.0519,2,  35.0517,2, 11.9453,    221.1,2,     6.28,2,    12.45,2,     0.03,2,     0.90,2, -999.000,9, -999.000,9, -999.000,9,-999.0000,9,    -9.00,9,-999.000,9,   -999.0,9,-999.0000,-999.000,-999.000,-999.000
    06AQANTX_4,   A12,   537,  1,      7,      7,2,19920522,1413,-34.3667,  17.7667,  431,    219.9,  10.6917,  34.8829,2,  34.8867,2, 10.6651,    220.1,2,     7.49,2,    15.26,2,     0.03,2,     1.03,2,    1.807,2,    0.915,2,    0.515,2,   1.7710,2,     0.24,2,   7.465,2,   -999.0,9,  0.0070,   0.014,   0.037,   0.320
    06AQANTX_4,   A12,   537,  1,      6,      6,2,19920522,1413,-34.3667,  17.7667,  431,    250.3,  10.3747,  34.8717,2,  34.8760,2, 10.3449,    212.6,2,     9.98,2,    17.01,2,     0.02,2,     1.14,2, -999.000,9, -999.000,9, -999.000,9,-999.0000,9,    -9.00,9,-999.000,9,   -999.0,9,-999.0000,-999.000,-999.000,-999.000
    06AQANTX_4,   A12,   537,  1,      5,      5,2,19920522,1413,-34.3667,  17.7667,  431,    300.7,   9.5059,  34.7734,2,  34.7672,2,  9.4720,    203.5,2,    12.91,2,    19.75,2,     0.03,2,     1.35,2,    1.345,6,    0.678,6,    0.243,2,   1.7590,2,     1.65,2,   7.415,2,   -999.0,9,  0.0070,   0.021,   0.037,   0.320
    06AQANTX_4,   A12,   537,  1,      4,      4,2,19920522,1413,-34.3667,  17.7667,  431,    350.5,   8.5139,  34.6646,2,  34.6606,2,  8.4769,    201.9,2,    14.81,2,    22.26,2,     0.11,2,     1.50,2, -999.000,9, -999.000,9, -999.000,9,-999.0000,9,    -9.00,9,-999.000,9,   -999.0,9,-999.0000,-999.000,-999.000,-999.000
    06AQANTX_4,   A12,   537,  1,      3,      3,2,19920522,1413,-34.3667,  17.7667,  431,    396.9,   7.8356,  34.6069,2,  34.6074,2,  7.7956,   -999.0,9,    20.05,2,    25.24,2,     0.03,2,     1.79,2,    1.365,6,    0.635,6,    0.204,2,   1.8090,2,     2.04,2,   7.693,2,   -999.0,9,  0.0070,   0.007,   0.038,   0.320
    06AQANTX_4,   A12,   537,  1,      1,      1,2,19920522,1413,-34.3667,  17.7667,  431,    423.8,   7.2397,  34.5611,2,  34.5645,2,  7.1989,   -999.0,9,    21.08,2,    25.78,2,     0.04,2,     1.72,2,    1.293,6,    0.623,6,    0.131,2,   0.0000,4,    -9.00,4,   0.000,4,   -999.0,9,  0.0000,   0.005,   0.000,-999.000
    06AQANTX_4,   A12,   537,  1,      2,      2,2,19920522,1413,-34.3667,  17.7667,  431,    424.6,   7.2192,  34.5629,2,  34.5680,2,  7.1783,    200.9,2,    21.08,2,    25.84,2,     0.03,2,     1.76,2, -999.000,9, -999.000,9, -999.000,9,-999.0000,9,    -9.00,9,-999.000,9,   -999.0,9,-999.0000,-999.000,-999.000,-999.000
    06AQANTX_4,   A12,   538,  1,     24,      1,2,19920522,1720,-34.5500,  17.5500, 2066,      2.0,  18.0224,  35.4766,2,  35.4766,2, 18.0221,    246.5,2,  -999.00,9,  -999.00,9,  -999.00,9,  -999.00,9,    2.159,3,    1.439,3, -999.000,9,-999.0000,9,    -9.00,9,-999.000,9,   -999.0,9,-999.0000,-999.000,-999.000,-999.000
    06AQANTX_4,   A12,   538,  1,     23,     24,2,19920522,1720,-34.5500,  17.5500, 2066,     49.3,  16.9409,  35.4032,2,-999.0000,9, 16.9328,    232.3,2,     3.29,2,     3.77,2,     0.37,2,     0.35,2, -999.000,9, -999.000,9, -999.000,9,-999.0000,9,    -9.00,9,-999.000,9,   -999.0,9,-999.0000,-999.000,-999.000,-999.000
    06AQANTX_4,   A12,   538,  1,     22,     23,2,19920522,1720,-34.5500,  17.5500, 2066,     97.5,  14.5580,  35.3309,2,-999.0000,9, 14.5435,    212.1,2,     5.04,2,     8.41,2,     0.05,2,     0.58,2,    2.029,2,    1.027,2, -999.000,9,-999.0000,9,    -9.00,9,-999.000,9,   -999.0,9,-999.0000,-999.000,-999.000,-999.000
    06AQANTX_4,   A12,   538,  1,     21,     22,2,19920522,1720,-34.5500,  17.5500, 2066,    198.6,  11.4136,  35.0086,2,-999.0000,9, 11.3885,    188.5,2,    12.34,2,    16.72,2,     0.03,2,     1.20,2, -999.000,9, -999.000,9, -999.000,9,-999.0000,9,    -9.00,9,-999.000,9,   -999.0,9,-999.0000,-999.000,-999.000,-999.000
    06AQANTX_4,   A12,   538,  1,     20,     21,2,19920522,1720,-34.5500,  17.5500, 2066,    299.7,   9.2925,  34.7555,2,  34.7365,3,  9.2592,    212.0,2,    11.95,2,    19.65,2,     0.02,2,     1.33,2,    1.290,2,    0.654,2, -999.000,9,-999.0000,9,    -9.00,9,-999.000,9,   -999.0,9,-999.0000,-999.000,-999.000,-999.000
    06AQANTX_4,   A12,   538,  1,     19,     20,2,19920522,1720,-34.5500,  17.5500, 2066,    496.7,   6.2604,  34.4607,2,  34.4607,2,  6.2161,    212.1,2,    21.76,2,    26.89,2,     0.02,2,     1.84,2, -999.000,9, -999.000,9, -999.000,9,-999.0000,9,    -9.00,9,-999.000,9,   -999.0,9,-999.0000,-999.000,-999.000,-999.000
    06AQANTX_4,   A12,   538,  1,     18,     19,2,19920522,1720,-34.5500,  17.5500, 2066,    698.8,   4.3827,  34.4084,2,  34.4084,2,  4.3294,    206.4,2,    37.67,2,    31.26,2,     0.01,2,     2.15,2,    0.845,2,    0.413,2, -999.000,9,-999.0000,9,    -9.00,9,-999.000,9,   -999.0,9,-999.0000,-999.000,-999.000,-999.000
    06AQANTX_4,   A12,   538,  1,     17,     18,2,19920522,1720,-34.5500,  17.5500, 2066,    797.9,   3.7403,  34.3939,2,  34.3945,2,  3.6829,    206.7,2,    43.03,2,    32.55,2,     0.01,2,     2.24,2, -999.000,9, -999.000,9, -999.000,9,-999.0000,9,    -9.00,9,-999.000,9,   -999.0,9,-999.0000,-999.000,-999.000,-999.000
    06AQANTX_4,   A12,   538,  1,     16,     17,2,19920522,1720,-34.5500,  17.5500, 2066,   1100.9,   3.2132,  34.5263,2,  34.5250,2,  3.1357,    182.6,2,    60.13,2,    33.63,2,     0.02,2,     2.35,2, -999.000,9, -999.000,9, -999.000,9,-999.0000,9,    -9.00,9,-999.000,9,   -999.0,9,-999.0000,-999.000,-999.000,-999.000
    06AQANTX_4,   A12,   538,  1,     15,     16,2,19920522,1720,-34.5500,  17.5500, 2066,   1384.1,   2.8302,  34.6701,2,  34.6715,2,  2.7335,    190.4,2,    63.42,2,    31.94,2,     0.02,2,     2.17,2,    0.053,2,    0.027,2, -999.000,9,-999.0000,9,    -9.00,9,-999.000,9,   -999.0,9,-999.0000,-999.000,-999.000,-999.000
    06AQANTX_4,   A12,   538,  1,     14,     15,2,19920522,1720,-34.5500,  17.5500, 2066,   1573.3,   2.9726,  34.7745,2,  34.7744,2,  2.8584,    205.3,2,    52.10,2,    28.69,2,     0.03,2,     1.92,2, -999.000,9, -999.000,9, -999.000,9,-999.0000,9,    -9.00,9,-999.000,9,   -999.0,9,-999.0000,-999.000,-999.000,-999.000
    06AQANTX_4,   A12,   538,  1,     13,     14,2,19920522,1720,-34.5500,  17.5500, 2066,   1988.5,   2.8478,  34.8615,2,  34.8609,2,  2.6988,    227.4,2,    46.03,2,    25.16,2,     0.03,2,     1.65,2,    0.034,2,    0.019,2, -999.000,9,-999.0000,9,    -9.00,9,-999.000,9,   -999.0,9,-999.0000,-999.000,-999.000,-999.000
    06AQANTX_4,   A12,   538,  1,     12,     13,2,19920522,1720,-34.5500,  17.5500, 2066,   2082.0,   2.7395,  34.8691,2,  34.8695,2,  2.5837,    232.2,2,    47.33,2,    24.90,2,     0.03,2,     1.62,2,    0.032,2,    0.011,3, -999.000,9,-999.0000,9,    -9.00,9,-999.000,9,   -999.0,9,-999.0000,-999.000,-999.000,-999.000
    06AQANTX_4,   A12,   539,  1,     18,     18,2,19920522,2115,-34.7500,  17.3500, 2563,      5.8,  18.4676,  35.4828,2,  33.5238,4, 18.4666,    243.4,2,     3.27,2,     3.01,2,     0.24,2,     0.33,2, -999.000,9, -999.000,9, -999.000,9,-999.0000,9,    -9.00,9,-999.000,9,   -999.0,9,-999.0000,-999.000,-999.000,-999.000
    06AQANTX_4,   A12,   539,  1,     17,     17,2,19920522,2115,-34.7500,  17.3500, 2563,     68.9,  16.6469,  35.3783,2,  33.4068,4, 16.6357,    242.0,2,     2.15,2,    11.12,2,     0.05,2,     0.69,2, -999.000,9, -999.000,9, -999.000,9,-999.0000,9,    -9.00,9,-999.000,9,   -999.0,9,-999.0000,-999.000,-999.000,-999.000
    06AQANTX_4,   A12,   539,  1,     16,     16,2,19920522,2115,-34.7500,  17.3500, 2563,    140.3,  13.2953,  35.1823,2,  33.2116,4, 13.2757,    209.7,2,     5.77,2,    16.05,2,     0.04,2,     1.02,2, -999.000,9, -999.000,9, -999.000,9,-999.0000,9,    -9.00,9,-999.000,9,   -999.0,9,-999.0000,-999.000,-999.000,-999.000
    06AQANTX_4,   A12,   539,  1,     15,     15,2,19920522,2115,-34.7500,  17.3500, 2563,    218.9,  11.3335,  34.9683,2,  34.9626,2, 11.3060,    197.2,2,    10.85,2,    21.49,2,     0.03,2,     1.46,2, -999.000,9, -999.000,9, -999.000,9,-999.0000,9,    -9.00,9,-999.000,9,   -999.0,9,-999.0000,-999.000,-999.000,-999.000
    06AQANTX_4,   A12,   539,  1,     14,     14,2,19920522,2115,-34.7500,  17.3500, 2563,    300.1,   9.6249,  34.7790,2,  34.7754,2,  9.5908,    178.5,2,    14.94,2,    26.92,2,     0.04,2,     1.70,2, -999.000,9, -999.000,9, -999.000,9,-999.0000,9,    -9.00,9,-999.000,9,   -999.0,9,-999.0000,-999.000,-999.000,-999.000
    06AQANTX_4,   A12,   539,  1,     13,     13,2,19920522,2115,-34.7500,  17.3500, 2563,    400.3,   7.6025,  34.5396,2,-999.0000,9,  7.5629,   -999.0,9,  -999.00,9,  -999.00,9,  -999.00,9,  -999.00,9, -999.000,9, -999.000,9, -999.000,9,-999.0000,9,    -9.00,9,-999.000,9,   -999.0,9,-999.0000,-999.000,-999.000,-999.000
    06AQANTX_4,   A12,   539,  1,     12,     12,2,19920522,2115,-34.7500,  17.3500, 2563,    498.7,   6.3754,  34.4499,2,  34.4497,2,  6.3304,    223.2,2,    27.57,2,    29.35,2,     0.04,2,     1.87,2, -999.000,9, -999.000,9, -999.000,9,-999.0000,9,    -9.00,9,-999.000,9,   -999.0,9,-999.0000,-999.000,-999.000,-999.000
    06AQANTX_4,   A12,   539,  1,     11,     11,2,19920522,2115,-34.7500,  17.3500, 2563,    598.8,   5.0589,  34.3775,2,  34.3658,4,  5.0106,    218.8,2,    37.85,2,    31.05,2,     0.03,2,     1.99,2, -999.000,9, -999.000,9, -999.000,9,-999.0000,9,    -9.00,9,-999.000,9,   -999.0,9,-999.0000,-999.000,-999.000,-999.000
    06AQANTX_4,   A12,   539,  1,     10,     10,2,19920522,2115,-34.7500,  17.3500, 2563,    700.4,   4.5101,  34.3846,2,  34.3846,2,  4.4560,    212.7,2,    49.95,2,    33.00,2,     0.04,2,     2.07,2, -999.000,9, -999.000,9, -999.000,9,-999.0000,9,    -9.00,9,-999.000,9,   -999.0,9,-999.0000,-999.000,-999.000,-999.000
    06AQANTX_4,   A12,   539,  1,      9,      9,2,19920522,2115,-34.7500,  17.3500, 2563,    849.2,   3.8414,  34.4205,2,  34.4207,2,  3.7793,    198.8,2,    60.62,2,    33.77,2,     0.05,2,     2.13,2, -999.000,9, -999.000,9, -999.000,9,-999.0000,9,    -9.00,9,-999.000,9,   -999.0,9,-999.0000,-999.000,-999.000,-999.000
    06AQANTX_4,   A12,   539,  1,      8,      8,2,19920522,2115,-34.7500,  17.3500, 2563,   1001.0,   3.3870,  34.4855,2,  34.4859,2,  3.3160,    183.6,2,    67.76,2,    33.38,2,     0.04,2,     2.08,2, -999.000,9, -999.000,9, -999.000,9,-999.0000,9,    -9.00,9,-999.000,9,   -999.0,9,-999.0000,-999.000,-999.000,-999.000
    06AQANTX_4,   A12,   539,  1,      7,      7,2,19920522,2115,-34.7500,  17.3500, 2563,   1200.0,   2.9892,  34.5802,2,  34.5778,2,  2.9058,    180.9,2,    68.21,2,    33.87,2,     0.03,2,     2.06,2, -999.000,9, -999.000,9, -999.000,9,-999.0000,9,    -9.00,9,-999.000,9,   -999.0,9,-999.0000,-999.000,-999.000,-999.000
    06AQANTX_4,   A12,   539,  1,      6,      6,2,19920522,2115,-34.7500,  17.3500, 2563,   1500.1,   2.8013,  34.7126,2,  34.7120,2,  2.6954,    198.1,2,    63.30,2,    30.81,2,     0.03,2,     1.83,2, -999.000,9, -999.000,9, -999.000,9,-999.0000,9,    -9.00,9,-999.000,9,   -999.0,9,-999.0000,-999.000,-999.000,-999.000
    06AQANTX_4,   A12,   539,  1,      5,      5,2,19920522,2115,-34.7500,  17.3500, 2563,   1797.3,   2.8265,  34.8091,2,  34.8100,2,  2.6949,    221.1,2,    52.57,2,    27.22,2,     0.03,2,     1.56,2, -999.000,9, -999.000,9, -999.000,9,-999.0000,9,    -9.00,9,-999.000,9,   -999.0,9,-999.0000,-999.000,-999.000,-999.000
    06AQANTX_4,   A12,   539,  1,      4,      4,2,19920522,2115,-34.7500,  17.3500, 2563,   2198.3,   2.7139,  34.8521,2,  34.8513,2,  2.5479,    235.8,2,    49.16,2,    25.34,2,     0.03,2,     1.45,2, -999.000,9, -999.000,9, -999.000,9,-999.0000,9,    -9.00,9,-999.000,9,   -999.0,9,-999.0000,-999.000,-999.000,-999.000
    06AQANTX_4,   A12,   539,  1,      3,      3,2,19920522,2115,-34.7500,  17.3500, 2563,   2399.0,   2.5670,  34.8496,2,  34.8494,2,  2.3849,    247.2,2,    52.42,2,    25.29,2,     0.03,2,     1.43,2, -999.000,9, -999.000,9, -999.000,9,-999.0000,9,    -9.00,9,-999.000,9,   -999.0,9,-999.0000,-999.000,-999.000,-999.000
    06AQANTX_4,   A12,   539,  1,      2,      2,2,19920522,2115,-34.7500,  17.3500, 2563,   2500.0,   2.5505,  34.8520,2,  34.9306,4,  2.3592,   -999.0,9,    52.44,2,    25.10,2,     0.02,2,     1.43,2, -999.000,9, -999.000,9, -999.000,9,-999.0000,9,    -9.00,9,-999.000,9,   -999.0,9,-999.0000,-999.000,-999.000,-999.000
    06AQANTX_4,   A12,   539,  1,      1,      1,2,19920522,2115,-34.7500,  17.3500, 2563,   2552.4,   2.4941,  34.8480,2,  34.8485,2,  2.2988,    243.3,2,    54.17,2,    25.31,2,     0.02,2,  -999.00,9, -999.000,9, -999.000,9, -999.000,9,-999.0000,9,    -9.00,9,-999.000,9,   -999.0,9,-999.0000,-999.000,-999.000,-999.000