BOTTLE,20061211WHPSIODBK
EXPOCODE,SECT_ID,STNNBR,CASTNO,SAMPNO,BTLNBR,BTLNBR_FLAG_W,DATE,TIME,LATITUDE,LONGITUDE,DEPTH,CTDPRS,CTDTMP,CTDSAL,CTDSAL_FLAG_W,SALNTY,SALNTY_FLAG_W,THETA,OXYGEN,OXYGEN_FLAG_W,SILCAT,SILCAT_FLAG_W,NITRAT,NITRAT_FLAG_W,NITRIT,NITRIT_FLAG_W,PHSPHT,PHSPHT_FLAG_W,CFC-11,CFC-11_FLAG_W,CFC-12,CFC-12_FLAG_W,TRITUM,TRITUM_FLAG_W,HELIUM,HELIUM_FLAG_W,DELHE3,DELHE3_FLAG_W,NEON,NEON_FLAG_W,TCARBN,TCARBN_FLAG_W,HELIER,TRITER,NEONER,DELHER
,,,,,,,,,,,,DBAR,ITS-90,PSS-78,,PSS-78,,DEG C,UMOL/KG,,UMOL/KG,,UMOL/KG,,UMOL/KG,,UMOL/KG,,PMOL/KG,,PMOL/KG,,TU,,NMOL/KG,,PERCNT,,NMOL/KG,,UMOL/KG,,NMOL/KG,TU,NMOL/KG,PERCNT
    06AQANTX_4,   A12,   582,  1,     24,     24,2,19920611,0818,-59.6167,   0.0000, 5130,     19.9,  -1.6071,  34.2165,2,  34.2077,2, -1.6075,    335.7,2,    68.45,2,    26.42,2,     0.21,2,     1.94,2,    6.195,2,    2.843,2, -999.000,9,-999.0000,9,    -9.00,9,-999.000,9,   2183.5,2,-999.0000,-999.000,-999.000,-999.000
    06AQANTX_4,   A12,   582,  1,     23,     23,2,19920611,0818,-59.6167,   0.0000, 5130,     69.4,  -1.5962,  34.2170,2,  34.2088,2, -1.5977,    335.9,2,    68.64,2,    26.45,2,     0.21,2,     1.93,2,    6.140,2,    2.913,2, -999.000,9,-999.0000,9,    -9.00,9,-999.000,9,   2186.8,2,-999.0000,-999.000,-999.000,-999.000
    06AQANTX_4,   A12,   582,  1,     22,     22,2,19920611,0818,-59.6167,   0.0000, 5130,    141.6,   0.6839,  34.6758,2,  34.6681,2,  0.6779,    193.0,2,   108.85,2,    34.70,2,     0.02,2,     2.40,2,    0.560,2,    0.236,2, -999.000,9,-999.0000,9,    -9.00,9,-999.000,9,   2259.1,2,-999.0000,-999.000,-999.000,-999.000
    06AQANTX_4,   A12,   582,  1,     21,     21,2,19920611,0818,-59.6167,   0.0000, 5130,    219.6,   0.5965,  34.6877,2,  34.6812,2,  0.5872,    194.2,2,   115.64,2,    34.53,2,     0.02,2,     2.38,2,    0.446,2,    0.411,4, -999.000,9,-999.0000,9,    -9.00,9,-999.000,9,   2267.1,2,-999.0000,-999.000,-999.000,-999.000
    06AQANTX_4,   A12,   582,  1,     20,     20,2,19920611,0818,-59.6167,   0.0000, 5130,    301.4,   0.5125,  34.6873,2,  34.6796,2,  0.4998,    196.3,2,   118.50,2,    34.34,2,     0.02,2,     2.39,2, -999.000,9, -999.000,9, -999.000,9,-999.0000,9,    -9.00,9,-999.000,9,   2265.7,2,-999.0000,-999.000,-999.000,-999.000
    06AQANTX_4,   A12,   582,  1,     19,     19,2,19920611,0818,-59.6167,   0.0000, 5130,    399.9,   0.4233,  34.6856,2,  34.6774,2,  0.4064,    197.6,2,   120.97,2,    34.61,2,     0.02,2,     2.40,2,    0.202,2,    0.082,3, -999.000,9,-999.0000,9,    -9.00,9,-999.000,9,   2265.1,2,-999.0000,-999.000,-999.000,-999.000
    06AQANTX_4,   A12,   582,  1,     18,     18,2,19920611,0818,-59.6167,   0.0000, 5130,    498.6,   0.3445,  34.6832,2,  34.6762,2,  0.3233,    198.8,2,   123.83,2,    34.81,2,     0.02,2,     2.40,2, -999.000,9, -999.000,9, -999.000,9,-999.0000,9,    -9.00,9,-999.000,9,   2267.0,2,-999.0000,-999.000,-999.000,-999.000
    06AQANTX_4,   A12,   582,  1,     17,     17,2,19920611,0818,-59.6167,   0.0000, 5130,    598.9,   0.2884,  34.6808,2,  34.6742,2,  0.2627,    200.8,2,   124.79,2,    34.43,2,     0.03,2,     2.41,2,    0.154,2,    0.054,3, -999.000,9,-999.0000,9,    -9.00,9,-999.000,9,   2266.5,2,-999.0000,-999.000,-999.000,-999.000
    06AQANTX_4,   A12,   582,  1,     16,     16,2,19920611,0818,-59.6167,   0.0000, 5130,    698.6,   0.2379,  34.6794,2,  34.6722,2,  0.2076,    203.3,2,   125.58,2,    34.15,2,     0.02,2,     2.40,2, -999.000,9, -999.000,9, -999.000,9,-999.0000,9,    -9.00,9,-999.000,9,   2265.3,2,-999.0000,-999.000,-999.000,-999.000
    06AQANTX_4,   A12,   582,  1,     15,     15,2,19920611,0818,-59.6167,   0.0000, 5130,    848.9,   0.1699,  34.6772,2,  34.6704,4,  0.1324,    207.0,2,   126.64,2,    33.90,2,     0.02,2,     2.37,2,    0.150,2,    0.078,3, -999.000,9,-999.0000,9,    -9.00,9,-999.000,9,   -999.0,9,-999.0000,-999.000,-999.000,-999.000
    06AQANTX_4,   A12,   582,  1,     14,     14,2,19920611,0818,-59.6167,   0.0000, 5130,   1002.1,   0.1072,  34.6753,2,  34.6674,4,  0.0621,    211.3,2,   126.96,2,    34.22,2,     0.02,2,     2.37,2,    0.132,2,    0.064,2, -999.000,9,-999.0000,9,    -9.00,9,-999.000,9,   2261.3,2,-999.0000,-999.000,-999.000,-999.000
    06AQANTX_4,   A12,   582,  1,     13,     13,2,19920611,0818,-59.6167,   0.0000, 5130,   1298.5,  -0.0186,  34.6705,2,  34.6626,4, -0.0791,    218.5,2,   127.07,2,    33.80,2,     0.02,2,     2.36,2,    0.133,2,    0.548,4, -999.000,9,-999.0000,9,    -9.00,9,-999.000,9,   2259.3,2,-999.0000,-999.000,-999.000,-999.000
    06AQANTX_4,   A12,   582,  1,     12,     12,2,19920611,0818,-59.6167,   0.0000, 5130,   1699.9,  -0.1379,  34.6652,2,  34.6577,4, -0.2214,    226.3,2,   126.99,2,    33.63,2,     0.02,2,     2.36,2,    0.184,2,    0.170,4, -999.000,9,-999.0000,9,    -9.00,9,-999.000,9,   2254.4,2,-999.0000,-999.000,-999.000,-999.000
    06AQANTX_4,   A12,   582,  1,     11,     11,2,19920611,0818,-59.6167,   0.0000, 5130,   2200.0,  -0.2480,  34.6617,2,  34.6541,4, -0.3636,    232.7,2,   126.56,2,    33.72,2,     0.01,2,     2.32,2,    0.180,2,    0.085,2, -999.000,9,-999.0000,9,    -9.00,9,-999.000,9,   2253.3,2,-999.0000,-999.000,-999.000,-999.000
    06AQANTX_4,   A12,   582,  1,     10,     10,2,19920611,0818,-59.6167,   0.0000, 5130,   2200.2,  -0.2479,  34.6614,2,  34.6544,4, -0.3635,   -999.0,9,   126.77,2,    33.85,2,     0.01,2,     2.32,2,    0.176,2,    0.064,3, -999.000,9,-999.0000,9,    -9.00,9,-999.000,9,   2253.2,2,-999.0000,-999.000,-999.000,-999.000
    06AQANTX_4,   A12,   582,  1,      9,      9,2,19920611,0818,-59.6167,   0.0000, 5130,   2599.1,  -0.3118,  34.6582,2,  34.6535,4, -0.4557,    232.3,2,   126.51,2,    33.77,2,     0.01,2,     2.32,2,    0.179,2,    0.074,3, -999.000,9,-999.0000,9,    -9.00,9,-999.000,9,   2254.2,2,-999.0000,-999.000,-999.000,-999.000
    06AQANTX_4,   A12,   582,  1,      8,      8,2,19920611,0818,-59.6167,   0.0000, 5130,   3001.8,  -0.3632,  34.6565,2,  34.6521,4, -0.5383,    236.2,2,   125.77,2,    33.40,2,     0.02,2,     2.31,2,    0.198,2,    0.256,4, -999.000,9,-999.0000,9,    -9.00,9,-999.000,9,   2249.8,2,-999.0000,-999.000,-999.000,-999.000
    06AQANTX_4,   A12,   582,  1,      7,      7,2,19920611,0818,-59.6167,   0.0000, 5130,   3400.0,  -0.4065,  34.6540,2,  34.6471,4, -0.6147,    244.3,2,   125.42,2,    32.74,2,     0.02,2,     2.30,2,    0.182,2,    0.121,3, -999.000,9,-999.0000,9,    -9.00,9,-999.000,9,   2248.9,2,-999.0000,-999.000,-999.000,-999.000
    06AQANTX_4,   A12,   582,  1,      6,      6,2,19920611,0818,-59.6167,   0.0000, 5130,   3797.9,  -0.4555,  34.6525,2,  34.6446,4, -0.6988,    245.7,2,   124.69,2,    32.31,2,     0.02,2,     2.29,2,    0.184,2,    0.094,2, -999.000,9,-999.0000,9,    -9.00,9,-999.000,9,   2248.2,2,-999.0000,-999.000,-999.000,-999.000
    06AQANTX_4,   A12,   582,  1,      5,      5,2,19920611,0818,-59.6167,   0.0000, 5130,   4203.2,  -0.5097,  34.6493,2,  34.6418,4, -0.7907,    250.1,2,   120.45,2,    32.10,2,     0.02,2,     2.29,2,    0.311,2,    0.138,2, -999.000,9,-999.0000,9,    -9.00,9,-999.000,9,   2246.4,2,-999.0000,-999.000,-999.000,-999.000
    06AQANTX_4,   A12,   582,  1,      4,      4,2,19920611,0818,-59.6167,   0.0000, 5130,   4599.9,  -0.5121,  34.6467,2,  34.6391,4, -0.8336,    251.5,2,   120.19,2,    32.07,2,     0.02,2,     2.28,2,    0.382,2,    0.219,3, -999.000,9,-999.0000,9,    -9.00,9,-999.000,9,   2246.7,2,-999.0000,-999.000,-999.000,-999.000
    06AQANTX_4,   A12,   582,  1,      3,      3,2,19920611,0818,-59.6167,   0.0000, 5130,   4999.8,  -0.4760,  34.6462,2,  34.6377,4, -0.8419,    251.3,2,   121.84,2,    31.72,2,     0.03,2,     2.29,2,    0.405,2,    0.198,2, -999.000,9,-999.0000,9,    -9.00,9,-999.000,9,   -999.0,9,-999.0000,-999.000,-999.000,-999.000
    06AQANTX_4,   A12,   582,  1,      2,      2,2,19920611,0818,-59.6167,   0.0000, 5130,   5098.8,  -0.4644,  34.6460,2,  34.6387,4, -0.8417,    250.7,2,   121.95,2,    31.88,2,     0.03,2,     2.30,2,    0.407,2,    0.184,2, -999.000,9,-999.0000,9,    -9.00,9,-999.000,9,   -999.0,9,-999.0000,-999.000,-999.000,-999.000
    06AQANTX_4,   A12,   582,  1,      1,      1,2,19920611,0818,-59.6167,   0.0000, 5130,   5170.3,  -0.4558,  34.6462,2,  34.6395,4, -0.8415,    251.5,2,   121.78,2,    32.08,2,     0.02,2,     2.28,2,    0.417,2,    0.726,4, -999.000,9,-999.0000,9,    -9.00,9,-999.000,9,   2247.9,2,-999.0000,-999.000,-999.000,-999.000
    06AQANTX_4,   A12,   583,  3,      7,      7,2,19920611,1606,-60.0000,   0.0167, 5349,   4203.1,  -0.4630,  34.6511,2,  34.6438,4, -0.7454,   -999.0,9,   122.28,2,    33.26,2,     0.00,2,     2.37,2, -999.000,9, -999.000,9, -999.000,9,-999.0000,9,    -9.00,9,-999.000,9,   -999.0,9,-999.0000,-999.000,-999.000,-999.000
    06AQANTX_4,   A12,   583,  3,      6,      6,2,19920611,1606,-60.0000,   0.0167, 5349,   4602.0,  -0.4922,  34.6481,2,  34.6439,4, -0.8146,    251.9,2,   119.52,2,    33.00,2,     0.00,2,     2.34,2, -999.000,9, -999.000,9, -999.000,9,-999.0000,9,    -9.00,9,-999.000,9,   -999.0,9,-999.0000,-999.000,-999.000,-999.000
    06AQANTX_4,   A12,   583,  3,      5,      5,2,19920611,1606,-60.0000,   0.0167, 5349,   4899.4,  -0.4816,  34.6470,2,  34.6409,4, -0.8363,    252.8,2,   120.19,2,    32.55,2,     0.01,2,     2.33,2, -999.000,9, -999.000,9, -999.000,9,-999.0000,9,    -9.00,9,-999.000,9,   -999.0,9,-999.0000,-999.000,-999.000,-999.000
    06AQANTX_4,   A12,   583,  3,      4,      4,2,19920611,1606,-60.0000,   0.0167, 5349,   5289.9,  -0.4415,  34.6472,2,  34.6417,4, -0.8414,   -999.0,9,   121.09,2,    32.44,2,     0.01,2,     2.32,2, -999.000,9, -999.000,9, -999.000,9,-999.0000,9,    -9.00,9,-999.000,9,   -999.0,9,-999.0000,-999.000,-999.000,-999.000
    06AQANTX_4,   A12,   583,  3,      3,      3,2,19920611,1606,-60.0000,   0.0167, 5349,   5370.6,  -0.4323,  34.6463,2,  34.6418,4, -0.8418,    251.5,2,   120.96,2,    32.10,2,     0.02,2,     2.32,2, -999.000,9, -999.000,9, -999.000,9,-999.0000,9,    -9.00,9,-999.000,9,   -999.0,9,-999.0000,-999.000,-999.000,-999.000
    06AQANTX_4,   A12,   583,  3,      2,      2,2,19920611,1606,-60.0000,   0.0167, 5349,   5441.2,  -0.4236,  34.6464,2,  34.6418,4, -0.8416,    251.3,2,   120.94,2,    32.21,2,     0.02,2,     2.34,2, -999.000,9, -999.000,9, -999.000,9,-999.0000,9,    -9.00,9,-999.000,9,   -999.0,9,-999.0000,-999.000,-999.000,-999.000
    06AQANTX_4,   A12,   583,  3,      1,      1,2,19920611,1606,-60.0000,   0.0167, 5349,   5442.0,  -0.4234,  34.6470,2,  34.6452,2, -0.8415,    251.5,2,   120.77,2,    32.22,2,     0.02,2,     2.30,2, -999.000,9, -999.000,9, -999.000,9,-999.0000,9,    -9.00,9,-999.000,9,   -999.0,9,-999.0000,-999.000,-999.000,-999.000
    06AQANTX_4,   A12,   584,  1,     24,     24,2,19920611,2321,-60.5000,  -0.0167, 5326,     23.0,  -1.6755,  34.1704,2,  34.1633,2, -1.6760,    334.0,2,    65.98,2,    25.99,2,     0.18,2,     1.88,2,    6.122,2,    2.875,2,    0.103,2,   1.7950,2,    -0.80,2,   8.127,2,   -999.0,9,  0.0070,   0.004,   0.041,   0.320
    06AQANTX_4,   A12,   584,  1,     23,     23,2,19920611,2321,-60.5000,  -0.0167, 5326,     68.6,  -1.6629,  34.1713,2,  34.1641,2, -1.6643,    333.3,2,    66.08,2,    26.07,2,     0.18,2,     1.88,2,    6.085,2,    2.919,2, -999.000,9,   1.7870,2,    -0.57,2,   8.100,2,   -999.0,9,  0.0070,-999.000,   0.041,   0.320
    06AQANTX_4,   A12,   584,  1,     22,     22,2,19920611,2321,-60.5000,  -0.0167, 5326,    138.4,   0.6186,  34.6342,2,  34.6280,2,  0.6129,    199.2,2,   101.12,2,    33.29,2,     0.02,2,     2.29,2,    1.072,2,    0.489,2, -999.000,9,   1.8530,2,     8.52,2,   8.069,2,   -999.0,9,  0.0070,-999.000,   0.040,   0.320
    06AQANTX_4,   A12,   584,  1,     21,     21,2,19920611,2321,-60.5000,  -0.0167, 5326,    219.7,   0.5353,  34.6751,2,  34.6693,2,  0.5262,    200.5,2,   113.69,2,    33.70,2,     0.02,2,     2.33,2,    0.654,2,    0.580,4,    0.037,2,   1.8350,2,     8.80,2,   8.076,2,   -999.0,9,  0.0070,   0.003,   0.040,   0.320
    06AQANTX_4,   A12,   584,  1,     20,     20,2,19920611,2321,-60.5000,  -0.0167, 5326,    321.0,   0.4619,  34.6834,2,  34.6757,2,  0.4484,    194.7,2,   119.25,2,    33.63,2,     0.02,2,     2.30,2,    0.260,2,    0.114,2,    0.033,2,   1.8570,2,     8.56,2,   8.128,2,   -999.0,9,  0.0070,   0.002,   0.041,   0.320
    06AQANTX_4,   A12,   584,  1,     19,     19,2,19920611,2321,-60.5000,  -0.0167, 5326,    449.5,   0.3910,  34.6824,2,  34.6757,2,  0.3719,    194.7,2,   121.99,2,    34.00,2,     0.02,2,     2.32,2,    0.194,2,    0.074,3,    0.029,2,   1.8220,2,     8.01,2,   7.974,2,   -999.0,9,  0.0070,   0.003,   0.040,   0.320
    06AQANTX_4,   A12,   584,  1,     18,     18,2,19920611,2321,-60.5000,  -0.0167, 5326,    580.3,   0.3096,  34.6812,2,  34.6745,2,  0.2847,    196.1,2,   124.43,2,    34.16,2,     0.02,2,     2.33,2,    0.159,2,    0.080,2,    0.027,2,   1.8610,2,     8.29,2,   8.168,2,   -999.0,9,  0.0070,   0.002,   0.041,   0.320
    06AQANTX_4,   A12,   584,  1,     17,     17,2,19920611,2321,-60.5000,  -0.0167, 5326,    700.0,   0.2563,  34.6794,2,  34.6727,2,  0.2258,    203.7,2,   124.64,2,    33.86,2,     0.02,2,     2.30,2,    0.150,2,    0.069,2,    0.016,2,   1.8780,2,     8.62,2,   8.169,2,   -999.0,9,  0.0070,   0.003,   0.041,   0.320
    06AQANTX_4,   A12,   584,  1,     16,     16,2,19920611,2321,-60.5000,  -0.0167, 5326,    851.0,   0.1820,  34.6768,2,  34.6701,4,  0.1443,    207.2,2,   125.04,2,    33.85,2,     0.02,2,     2.30,2,    0.151,2,    0.054,3,    0.054,2,   1.8710,2,     8.09,2,   8.161,2,   -999.0,9,  0.0070,   0.004,   0.041,   0.320
    06AQANTX_4,   A12,   584,  1,     15,     15,2,19920611,2321,-60.5000,  -0.0167, 5326,   1001.5,   0.1153,  34.6746,2,  34.6677,4,  0.0701,    210.5,2,   126.00,2,    33.57,2,     0.01,2,     2.27,2,    0.147,2,    0.052,3,    0.027,2,   1.8670,2,     7.97,2,   8.150,2,   -999.0,9,  0.0070,   0.003,   0.041,   0.320
    06AQANTX_4,   A12,   584,  1,     14,     14,2,19920611,2321,-60.5000,  -0.0167, 5326,   1401.0,  -0.0247,  34.6680,2,  34.6628,4, -0.0912,    220.9,2,   126.02,2,    33.01,2,     0.01,2,     2.27,2,    0.150,2,    0.064,3,    0.019,2,   1.8680,2,     7.42,2,   8.156,2,   -999.0,9,  0.0070,   0.003,   0.041,   0.320
    06AQANTX_4,   A12,   584,  1,     13,     13,2,19920611,2321,-60.5000,  -0.0167, 5326,   1800.7,  -0.1375,  34.6635,2,  34.6576,4, -0.2275,    226.6,2,   126.03,2,    33.32,2,     0.01,2,     2.26,2,    0.179,2,    0.069,3,    0.046,2,   1.8690,2,     6.99,2,   8.232,2,   -999.0,9,  0.0070,   0.004,   0.041,   0.320
    06AQANTX_4,   A12,   584,  1,     12,     12,2,19920611,2321,-60.5000,  -0.0167, 5326,   2202.0,  -0.2268,  34.6610,2,  34.6534,4, -0.3429,    233.1,2,   125.78,2,    33.17,2,     0.01,2,     2.26,2,    0.182,2,    0.092,2,    0.075,2,   1.8590,2,     6.02,2,   8.206,4,   -999.0,9,  0.0070,   0.007,   0.041,   0.320
    06AQANTX_4,   A12,   584,  1,     11,     11,2,19920611,2321,-60.5000,  -0.0167, 5326,   2800.5,  -0.3130,  34.6571,2,  34.6513,4, -0.4728,    236.8,2,   124.86,2,    33.46,2,     0.01,2,     2.22,2,    0.210,2,    0.102,2,    0.031,2,   1.8700,2,     5.67,2,   8.223,2,   -999.0,9,  0.0070,   0.003,   0.041,   0.320
    06AQANTX_4,   A12,   584,  1,      8,      8,2,19920611,2321,-60.5000,  -0.0167, 5326,   3397.8,  -0.3733,  34.6542,2,  34.6476,4, -0.5821,   -999.0,9,   124.71,2,    33.61,2,     0.01,2,     2.22,2, -999.000,9, -999.000,9, -999.000,9,-999.0000,9,    -9.00,9,-999.000,9,   -999.0,9,-999.0000,-999.000,-999.000,-999.000
    06AQANTX_4,   A12,   584,  1,     10,     10,2,19920611,2321,-60.5000,  -0.0167, 5326,   3399.0,  -0.3735,  34.6540,2,  34.6484,4, -0.5824,    242.1,2,   124.23,2,    33.54,2,     0.01,2,     2.22,2,    0.194,2,    0.077,3,    0.024,2,   1.8450,2,     5.40,2,   8.182,2,   -999.0,9,  0.0070,   0.013,   0.041,   0.320
    06AQANTX_4,   A12,   584,  1,      7,      7,2,19920611,2321,-60.5000,  -0.0167, 5326,   3800.1,  -0.4136,  34.6526,2,  34.6473,4, -0.6582,    245.0,2,   125.03,2,    33.52,2,     0.01,2,     2.22,2,    0.204,2,    0.089,2,    0.050,2,-999.0000,5,    -9.00,5,-999.000,5,   -999.0,9,-999.0000,   0.003,-999.000,-999.000
    06AQANTX_4,   A12,   584,  1,      6,      6,2,19920611,2321,-60.5000,  -0.0167, 5326,   4198.8,  -0.4630,  34.6504,2,  34.6447,4, -0.7450,    248.4,2,   121.10,2,    33.65,2,     0.01,2,     2.21,2,    0.266,2,    0.122,2, -999.000,9,-999.0000,5,    -9.00,5,-999.000,5,   -999.0,9,-999.0000,-999.000,-999.000,-999.000
    06AQANTX_4,   A12,   584,  1,      5,      5,2,19920611,2321,-60.5000,  -0.0167, 5326,   4598.3,  -0.4921,  34.6468,2,  34.6411,4, -0.8141,    253.1,2,   118.51,2,    33.65,2,     0.01,2,     2.20,2,    0.395,2,    0.191,2,    0.065,2,-999.0000,5,    -9.00,5,-999.000,5,   -999.0,9,-999.0000,   0.004,-999.000,-999.000
    06AQANTX_4,   A12,   584,  1,      4,      4,2,19920611,2321,-60.5000,  -0.0167, 5326,   4799.4,  -0.4860,  34.6460,2,  34.6396,4, -0.8296,    251.7,2,   118.43,2,    33.29,2,     0.01,2,     2.20,2,    0.429,2,    0.198,2, -999.000,9,   1.8680,2,     4.78,2,   8.277,2,   -999.0,9,  0.0070,-999.000,   0.041,   0.310
    06AQANTX_4,   A12,   584,  1,      3,      3,2,19920611,2321,-60.5000,  -0.0167, 5326,   4998.9,  -0.4730,  34.6455,2,  34.6385,4, -0.8389,    251.3,2,   119.11,2,    32.95,2,     0.02,2,     2.19,2,    0.431,2,    0.200,2,    0.102,2,   1.8850,2,     4.10,2,   8.306,2,   -999.0,9,  0.0070,   0.005,   0.041,   0.310
    06AQANTX_4,   A12,   584,  1,      2,      2,2,19920611,2321,-60.5000,  -0.0167, 5326,   5327.9,  -0.4374,  34.6457,2,  34.6391,4, -0.8418,    251.5,2,   119.96,2,    32.93,2,     0.02,2,     2.19,2,    0.427,2,    0.199,2,    0.085,2,-999.0000,5,    -9.00,5,-999.000,5,   -999.0,9,-999.0000,   0.005,-999.000,-999.000
    06AQANTX_4,   A12,   584,  1,      1,      1,2,19920611,2321,-60.5000,  -0.0167, 5326,   5433.9,  -0.4256,  34.6449,2,  34.6372,4, -0.8427,    252.1,2,   120.45,2,    32.92,2,     0.02,2,     2.17,2,    0.446,2,    0.208,2,    0.049,2,   2.3760,4,     3.21,2,   8.316,2,   -999.0,9,  0.0090,   0.004,   0.041,   0.310