BOTTLE,20020809WHPSIObren
EXPOCODE,SECT_ID,STNNBR,CASTNO,SAMPNO,BTLNBR,BTLNBR_FLAG_W,DATE,TIME,LATITUDE,LONGITUDE,DEPTH,CTDPRS,CTDTMP,CTDSAL,CTDSAL_FLAG_W,SALNTY,SALNTY_FLAG_W,CTDOXY,CTDOXY_FLAG_W,OXYGEN,OXYGEN_FLAG_W,SILCAT,SILCAT_FLAG_W,NO2+NO3,NO2+NO3_FLAG_W,PHSPHT,PHSPHT_FLAG_W,CTDRAW,REVTMP,REVPRS,THETA
,,,,,,,,,,,,DBAR,ITS-90,PSS-78,,PSS-78,,UMOL/KG,,UMOL/KG,,UMOL/KG,,UMOL/KG,,UMOL/KG,,,DEG C,DBAR,ITS-90
     33KA015_1,  PRS2,     2,  4,     23,     23,2,19900318,2326, 22.7733,-158.1033, 4700,      1.7,  23.4239,  34.8482,2,  34.8480,2,   -999.0,5,    214.0,2,     1.08,2,     0.00,2,     0.13,2,      2,-999.000,  -999.0, 23.4236
     33KA015_1,  PRS2,     2,  4,     22,     22,2,19900318,2326, 22.7733,-158.1033, 4700,     24.6,  23.3273,  34.8425,2,  34.8401,2,   -999.0,5,    213.9,2,     1.08,2,     0.02,2,     0.13,2,     26,-999.000,  -999.0, 23.3223
     33KA015_1,  PRS2,     2,  4,     21,     21,2,19900318,2326, 22.7733,-158.1033, 4700,     49.4,  23.2632,  34.8449,2,  34.8429,2,   -999.0,5,    214.3,2,     1.08,2,     0.00,2,     0.13,2,     50,-999.000,  -999.0, 23.2531
     33KA015_1,  PRS2,     2,  4,     20,     20,2,19900318,2326, 22.7733,-158.1033, 4700,     75.5,  23.1832,  34.8360,2,  34.8377,2,   -999.0,5,    214.6,2,     1.08,2,     0.00,2,     0.12,2,     75,-999.000,  -999.0, 23.1677
     33KA015_1,  PRS2,     2,  4,     19,     19,2,19900318,2326, 22.7733,-158.1033, 4700,    108.0,  22.9946,  34.9452,2,  34.9399,2,   -999.0,5,    212.0,2,     1.29,2,     0.00,2,     0.11,2,    107,-999.000,  -999.0, 22.9725
     33KA015_1,  PRS2,     2,  4,     18,     18,2,19900318,2326, 22.7733,-158.1033, 4700,    142.0,  21.3386,  35.0926,2,  35.0808,2,   -999.0,5,    198.7,2,     3.16,3,     0.96,2,     0.20,2,    139,-999.000,  -999.0, 21.3111
     33KA015_1,  PRS2,     2,  4,     17,     17,2,19900318,2326, 22.7733,-158.1033, 4700,    153.2,  20.4725,  35.0678,2,  35.0699,2,   -999.0,5,    191.3,2,     1.71,2,     1.65,2,     0.27,2,    150,-999.000,  -999.0, 20.4437
     33KA015_1,  PRS2,     2,  4,     16,     16,2,19900318,2326, 22.7733,-158.1033, 4700,    174.1,  18.9970,  34.9572,2,  34.9584,2,   -999.0,5,    180.7,2,     2.74,2,     3.85,2,     0.40,2,    171,-999.000,  -999.0, 18.9659
     33KA015_1,  PRS2,     2,  4,     15,     15,2,19900318,2326, 22.7733,-158.1033, 4700,    174.1,  18.9970,  34.9572,2,  34.9570,2,   -999.0,5,    180.9,2,     2.95,2,     3.85,2,     0.40,2,    171,-999.000,  -999.0, 18.9659
     33KA015_1,  PRS2,     2,  4,     14,     14,2,19900318,2326, 22.7733,-158.1033, 4700,    226.7,  15.6687,  34.5480,2,  34.5597,2,   -999.0,5,    176.6,2,     5.66,2,     7.38,2,     0.64,2,    222,-999.000,  -999.0, 15.6335
     33KA015_1,  PRS2,     2,  4,     13,     13,3,19900318,2326, 22.7733,-158.1033, 4700,    296.1,  11.9977,  34.2492,2,  34.2459,2,   -999.0,5,    144.3,2,    15.83,2,    17.04,2,     1.32,2,    292,-999.000,  -999.0, 11.9592
     33KA015_1,  PRS2,     2,  4,     12,     12,2,19900318,2326, 22.7733,-158.1033, 4700,    395.0,   8.8673,  34.0872,2,  34.0850,2,   -999.0,5,    166.3,2,    28.51,2,    21.65,2,     1.58,2,    390,-999.000,  -999.0,  8.8248
     33KA015_1,  PRS2,     2,  4,     11,     11,2,19900318,2326, 22.7733,-158.1033, 4700,    395.0,   8.8673,  34.0872,2,  34.0855,2,   -999.0,5,    166.2,2,    27.46,2,    21.53,2,     1.57,2,    390,-999.000,  -999.0,  8.8248
     33KA015_1,  PRS2,     2,  4,     10,     10,2,19900318,2326, 22.7733,-158.1033, 4700,    469.2,   7.2783,  34.0650,2,  34.0610,2,   -999.0,5,    113.5,2,    46.16,2,    29.29,2,     2.14,2,    465,-999.000,  -999.0,  7.2331
     33KA015_1,  PRS2,     2,  4,      9,      9,2,19900318,2326, 22.7733,-158.1033, 4700,    508.3,   6.7295,  34.1110,2,  34.1063,2,   -999.0,5,     78.0,2,    56.54,2,    33.35,2,     2.43,2,    503,-999.000,  -999.0,  6.6825
     33KA015_1,  PRS2,     2,  4,      8,      8,2,19900318,2326, 22.7733,-158.1033, 4700,    508.3,   6.7295,  34.1110,2,  34.1077,2,   -999.0,5,     77.4,2,    56.54,2,    33.47,2,     2.44,2,    503,-999.000,  -999.0,  6.6825
     33KA015_1,  PRS2,     2,  4,      7,      7,2,19900318,2326, 22.7733,-158.1033, 4700,    557.7,   5.8947,  34.1296,2,  34.1262,2,   -999.0,5,     52.4,2,    70.04,2,    37.29,2,     2.72,2,    552,-999.000,  -999.0,  5.8465
     33KA015_1,  PRS2,     2,  4,      6,      6,2,19900318,2326, 22.7733,-158.1033, 4700,    652.1,   4.9491,  34.2280,2,  34.2241,2,   -999.0,5,     27.8,2,    90.80,2,    41.12,2,     2.98,2,    646,-999.000,  -999.0,  4.8969
     33KA015_1,  PRS2,     2,  4,      5,      5,2,19900318,2326, 22.7733,-158.1033, 4700,    730.5,   4.7044,  34.3506,2,  34.3477,2,   -999.0,5,     24.5,2,    98.06,2,    42.06,2,     3.05,2,    724,-999.000,  -999.0,  4.6468
     33KA015_1,  PRS2,     2,  4,      4,      4,2,19900318,2326, 22.7733,-158.1033, 4700,    820.6,   4.5344,  34.4213,2,  34.4172,2,   -999.0,5,     30.4,2,   101.80,2,    42.19,2,     3.04,2,    811,-999.000,  -999.0,  4.4702
     33KA015_1,  PRS2,     2,  4,      3,      3,2,19900318,2326, 22.7733,-158.1033, 4700,    820.6,   4.5344,  34.4213,2,  34.4170,2,   -999.0,5,     30.4,2,   101.80,2,    42.19,2,     3.04,2,    811,-999.000,  -999.0,  4.4702
     33KA015_1,  PRS2,     2,  4,      2,      2,2,19900318,2326, 22.7733,-158.1033, 4700,    911.2,   4.2784,  34.4586,2,  34.4547,2,   -999.0,5,     35.2,2,   106.36,2,    42.19,2,     3.04,2,    901,-999.000,  -999.0,  4.2082
     33KA015_1,  PRS2,     2,  4,      1,      1,2,19900318,2326, 22.7733,-158.1033, 4700,   1025.3,   3.9923,  34.5037,2,  34.5006,2,   -999.0,5,     41.8,2,   111.55,2,    42.19,2,     3.03,2,   1014,   4.025,  1026.7,  3.9146
     33KA015_1,  PRS2,     2,  5,     15,     15,2,19900319,0210, 22.7800,-158.0967, 4700,      4.1,  23.5584,  34.8607,2,  34.8598,2,   -999.0,5,   -999.0,9,  -999.00,9,  -999.00,9,  -999.00,9,      4,-999.000,  -999.0, 23.5576
     33KA015_1,  PRS2,     2,  5,     14,     14,4,19900319,0210, 22.7800,-158.0967, 4700,     23.7,  23.1929,  34.8454,2,-999.0000,5,   -999.0,5,   -999.0,9,  -999.00,9,  -999.00,9,  -999.00,9,     24,-999.000,  -999.0, 23.1881
     33KA015_1,  PRS2,     2,  5,     13,     13,2,19900319,0210, 22.7800,-158.0967, 4700,     44.6,  23.1314,  34.8329,2,  34.8357,2,   -999.0,5,   -999.0,9,  -999.00,9,  -999.00,9,  -999.00,9,     45,-999.000,  -999.0, 23.1222
     33KA015_1,  PRS2,     2,  5,     12,     12,2,19900319,0210, 22.7800,-158.0967, 4700,     60.4,  23.1180,  34.8373,2,  34.8490,2,   -999.0,5,   -999.0,9,  -999.00,9,  -999.00,9,  -999.00,9,     60,-999.000,  -999.0, 23.1056
     33KA015_1,  PRS2,     2,  5,     11,     11,2,19900319,0210, 22.7800,-158.0967, 4700,     75.0,  23.0282,  34.8343,2,  34.8343,2,   -999.0,5,   -999.0,9,  -999.00,9,  -999.00,9,  -999.00,9,     75,-999.000,  -999.0, 23.0129
     33KA015_1,  PRS2,     2,  5,     10,     10,2,19900319,0210, 22.7800,-158.0967, 4700,     85.3,  23.0036,  34.8318,2,  34.8330,2,   -999.0,5,   -999.0,9,  -999.00,9,  -999.00,9,  -999.00,9,     86,-999.000,  -999.0, 22.9862
     33KA015_1,  PRS2,     2,  5,      9,      9,2,19900319,0210, 22.7800,-158.0967, 4700,     95.3,  22.9678,  34.8755,2,  34.8735,2,   -999.0,5,   -999.0,9,  -999.00,9,  -999.00,9,  -999.00,9,     95,-999.000,  -999.0, 22.9483
     33KA015_1,  PRS2,     2,  5,      8,      8,2,19900319,0210, 22.7800,-158.0967, 4700,    105.6,  22.9534,  34.9353,2,  34.8772,4,   -999.0,5,   -999.0,9,  -999.00,9,  -999.00,9,  -999.00,9,    104,-999.000,  -999.0, 22.9319
     33KA015_1,  PRS2,     2,  5,      7,      7,2,19900319,0210, 22.7800,-158.0967, 4700,    116.3,  22.8113,  34.9972,2,  34.9274,4,   -999.0,5,   -999.0,9,  -999.00,9,  -999.00,9,  -999.00,9,    115,-999.000,  -999.0, 22.7877
     33KA015_1,  PRS2,     2,  5,      6,      6,2,19900319,0210, 22.7800,-158.0967, 4700,    136.5,  21.5028,  35.1055,2,  35.1074,2,   -999.0,5,   -999.0,9,  -999.00,9,  -999.00,9,  -999.00,9,    134,-999.000,  -999.0, 21.4762
     33KA015_1,  PRS2,     2,  5,      5,      5,2,19900319,0210, 22.7800,-158.0967, 4700,    153.0,  20.4685,  35.1192,2,  35.1115,2,   -999.0,5,   -999.0,9,  -999.00,9,  -999.00,9,  -999.00,9,    151,-999.000,  -999.0, 20.4398
     33KA015_1,  PRS2,     2,  5,      4,      4,2,19900319,0210, 22.7800,-158.0967, 4700,    178.4,  19.0254,  34.9697,2,-999.0000,5,   -999.0,5,   -999.0,9,  -999.00,9,  -999.00,9,  -999.00,9,    174,-999.000,  -999.0, 18.9936
     33KA015_1,  PRS2,     2,  5,      3,      3,2,19900319,0210, 22.7800,-158.0967, 4700,    204.9,  17.2284,  34.7393,2,  34.7601,2,   -999.0,5,   -999.0,9,  -999.00,9,  -999.00,9,  -999.00,9,    200,-999.000,  -999.0, 17.1943
     33KA015_1,  PRS2,     2,  5,      2,      2,2,19900319,0210, 22.7800,-158.0967, 4700,    204.9,  17.2284,  34.7393,2,  34.7565,2,   -999.0,5,   -999.0,9,  -999.00,9,  -999.00,9,  -999.00,9,    200,-999.000,  -999.0, 17.1943
     33KA015_1,  PRS2,     2,  5,      1,      1,2,19900319,0210, 22.7800,-158.0967, 4700,    461.4,   7.0218,  34.0763,2,  34.0805,2,   -999.0,5,   -999.0,9,  -999.00,9,  -999.00,9,  -999.00,9,    454,-999.000,  -999.0,  6.9783
     33KA015_1,  PRS2,     2,  6,     23,     23,2,19900319,0714, 22.7800,-158.1133, 4700,    116.7,  22.9859,  35.0359,2,  35.0337,2,   -999.0,5,    210.0,2,     1.08,2,     0.00,2,     0.11,2,    115,-999.000,  -999.0, 22.9621
     33KA015_1,  PRS2,     2,  6,     22,     22,2,19900319,0714, 22.7800,-158.1133, 4700,    126.9,  22.7262,  35.0338,2,  35.0329,2,   -999.0,5,    210.0,2,     1.29,2,     0.02,2,     0.12,2,    124,-999.000,  -999.0, 22.7005
     33KA015_1,  PRS2,     2,  6,     21,     21,2,19900319,0714, 22.7800,-158.1133, 4700,    137.2,  22.1570,  35.1021,2,  35.0965,2,   -999.0,5,    206.7,2,     1.08,2,     0.20,2,     0.14,2,    135,-999.000,  -999.0, 22.1297
     33KA015_1,  PRS2,     2,  6,     20,     20,2,19900319,0714, 22.7800,-158.1133, 4700,    151.7,  21.4533,  35.1076,2,  35.1066,2,   -999.0,5,    196.9,2,     1.29,2,     1.01,2,     0.20,2,    151,-999.000,  -999.0, 21.4239
     33KA015_1,  PRS2,     2,  6,     19,     19,2,19900319,0714, 22.7800,-158.1133, 4700,    163.1,  20.6124,  35.0916,2,  35.1078,2,   -999.0,5,    196.6,2,  -999.00,5,  -999.00,5,  -999.00,5,    160,-999.000,  -999.0, 20.5816
     33KA015_1,  PRS2,     2,  6,     18,     18,2,19900319,0714, 22.7800,-158.1133, 4700,    177.8,  19.7702,  35.0134,2,  35.0100,2,   -999.0,5,    184.8,2,     2.33,2,     2.91,2,     0.34,2,    175,-999.000,  -999.0, 19.7376
     33KA015_1,  PRS2,     2,  6,     17,     17,2,19900319,0714, 22.7800,-158.1133, 4700,    187.9,  19.3335,  34.9808,2,  34.9812,2,   -999.0,5,    181.0,2,  -999.00,5,  -999.00,5,  -999.00,5,    184,-999.000,  -999.0, 19.2995
     33KA015_1,  PRS2,     2,  6,     16,     16,2,19900319,0714, 22.7800,-158.1133, 4700,    203.7,  18.0363,  34.8429,2,  34.8431,2,   -999.0,5,    177.2,2,     3.72,2,     5.36,2,     0.49,2,    201,-999.000,  -999.0, 18.0013
     33KA015_1,  PRS2,     2,  6,     15,     15,2,19900319,0714, 22.7800,-158.1133, 4700,    213.8,  17.7078,  34.8036,2,  34.8131,2,   -999.0,5,    177.3,2,  -999.00,5,  -999.00,5,  -999.00,5,    212,-999.000,  -999.0, 17.6716
     33KA015_1,  PRS2,     2,  6,     14,     14,2,19900319,0714, 22.7800,-158.1133, 4700,    213.8,  17.7078,  34.8036,2,  34.8071,2,   -999.0,5,    177.3,2,     3.57,2,     5.37,2,     0.49,2,    212,-999.000,  -999.0, 17.6716
     33KA015_1,  PRS2,     2,  6,     13,     13,2,19900319,0714, 22.7800,-158.1133, 4700,    239.4,  15.7644,  34.5768,2,  34.5758,2,   -999.0,5,    177.7,2,  -999.00,5,  -999.00,5,  -999.00,5,    236,-999.000,  -999.0, 15.7269
     33KA015_1,  PRS2,     2,  6,     12,     12,2,19900319,0714, 22.7800,-158.1133, 4700,    239.4,  15.7644,  34.5768,2,  34.5745,2,   -999.0,5,    178.3,2,     6.49,2,     7.42,2,     0.64,2,    236,-999.000,  -999.0, 15.7269
     33KA015_1,  PRS2,     2,  6,     11,     11,2,19900319,0714, 22.7800,-158.1133, 4700,    256.3,  13.9713,  34.3515,2,  34.3689,2,   -999.0,5,    178.7,2,     7.73,2,     9.49,2,     0.77,2,    252,-999.000,  -999.0, 13.9345
     33KA015_1,  PRS2,     2,  6,     10,     10,2,19900319,0714, 22.7800,-158.1133, 4700,    303.7,  11.6121,  34.2278,2,  34.2253,2,   -999.0,5,    149.7,2,    17.08,2,    17.40,2,     1.33,2,    299,-999.000,  -999.0, 11.5735
     33KA015_1,  PRS2,     2,  6,      9,      9,2,19900319,0714, 22.7800,-158.1133, 4700,    331.4,  10.6567,  34.1606,2,  34.1579,2,   -999.0,5,    186.1,2,    20.82,2,    17.94,2,     1.31,2,    326,-999.000,  -999.0, 10.6168
     33KA015_1,  PRS2,     2,  6,      8,      8,2,19900319,0714, 22.7800,-158.1133, 4700,    355.6,   9.8283,  34.1184,2,  34.1177,2,   -999.0,5,    184.3,2,    17.08,2,    15.79,2,     1.17,2,    353,-999.000,  -999.0,  9.7876
     33KA015_1,  PRS2,     2,  6,      7,      7,2,19900319,0714, 22.7800,-158.1133, 4700,    407.8,   8.6026,  34.0784,2,  34.0797,2,   -999.0,5,    163.3,2,    29.54,2,    22.36,2,     1.60,2,    401,-999.000,  -999.0,  8.5595
     33KA015_1,  PRS2,     2,  6,      6,      6,2,19900319,0714, 22.7800,-158.1133, 4700,    502.3,   6.7260,  34.1018,2,  34.1022,2,   -999.0,5,     81.0,2,    56.12,2,    33.12,2,     2.41,2,    497,-999.000,  -999.0,  6.6797
     33KA015_1,  PRS2,     2,  6,      5,      5,2,19900319,0714, 22.7800,-158.1133, 4700,    604.3,   5.3786,  34.1414,2,  34.1391,2,   -999.0,5,     44.9,2,    79.39,2,    39.09,2,     2.81,2,    597,-999.000,  -999.0,  5.3286
     33KA015_1,  PRS2,     2,  6,      4,      4,2,19900319,0714, 22.7800,-158.1133, 4700,    708.9,   4.8622,  34.3003,2,  34.2971,2,   -999.0,5,     25.9,2,    93.91,2,    41.59,2,     3.01,2,    702,-999.000,  -999.0,  4.8056
     33KA015_1,  PRS2,     2,  6,      3,      3,2,19900319,0714, 22.7800,-158.1133, 4700,    805.3,   4.6210,  34.4123,2,  34.4081,2,   -999.0,5,     29.0,2,    99.72,2,    42.19,2,     3.04,2,    803,-999.000,  -999.0,  4.5575
     33KA015_1,  PRS2,     2,  6,      2,      2,2,19900319,0714, 22.7800,-158.1133, 4700,    805.3,   4.6210,  34.4123,2,  34.4080,2,   -999.0,5,     32.1,2,   100.14,2,    42.19,2,     3.04,2,    803,-999.000,  -999.0,  4.5575
     33KA015_1,  PRS2,     2,  6,      1,      1,2,19900319,0714, 22.7800,-158.1133, 4700,   1012.9,   4.0266,  34.4998,2,  34.4973,2,   -999.0,5,     41.8,2,   112.17,2,    42.19,2,     3.03,2,   1004,-999.000,  -999.0,  3.9496
     33KA015_1,  PRS2,     2,  7,     13,     13,2,19900319,1046, 22.7500,-158.0350, 4750,      5.6,  23.0890,  34.8519,2,-999.0000,5,   -999.0,5,    214.9,2,     1.50,2,     0.00,2,     0.13,2,      6,-999.000,  -999.0, 23.0879
     33KA015_1,  PRS2,     2,  7,     12,     12,2,19900319,1046, 22.7500,-158.0350, 4750,     15.7,  23.1019,  34.8508,2,-999.0000,5,   -999.0,5,    214.2,2,     1.71,2,     0.00,2,     0.13,2,     17,-999.000,  -999.0, 23.0987
     33KA015_1,  PRS2,     2,  7,     11,     11,2,19900319,1046, 22.7500,-158.0350, 4750,     25.5,  23.1056,  34.8506,2,-999.0000,5,   -999.0,5,    215.0,2,     1.08,2,     0.00,2,     0.13,2,     26,-999.000,  -999.0, 23.1004
     33KA015_1,  PRS2,     2,  7,     10,     10,2,19900319,1046, 22.7500,-158.0350, 4750,     35.1,  23.1045,  34.8491,2,  34.8507,2,   -999.0,5,    214.1,2,     1.29,2,     0.00,2,     0.13,2,     36,-999.000,  -999.0, 23.0973
     33KA015_1,  PRS2,     2,  7,      9,      9,2,19900319,1046, 22.7500,-158.0350, 4750,     45.3,  23.1089,  34.8496,2,-999.0000,5,   -999.0,5,    214.6,2,     0.88,2,     0.02,2,     0.13,2,     45,-999.000,  -999.0, 23.0997
     33KA015_1,  PRS2,     2,  7,      8,      8,2,19900319,1046, 22.7500,-158.0350, 4750,     60.6,  23.1094,  34.8486,2,-999.0000,5,   -999.0,5,    214.3,2,     0.88,2,     0.00,2,     0.12,2,     61,-999.000,  -999.0, 23.0970
     33KA015_1,  PRS2,     2,  7,      7,      7,2,19900319,1046, 22.7500,-158.0350, 4750,     75.1,  23.1032,  34.8462,2,-999.0000,5,   -999.0,5,    215.3,2,     0.88,2,     0.00,2,     0.14,2,     74,-999.000,  -999.0, 23.0879
     33KA015_1,  PRS2,     2,  7,      6,      6,2,19900319,1046, 22.7500,-158.0350, 4750,     87.1,  23.0993,  34.8456,2,-999.0000,5,   -999.0,5,    215.0,2,     0.88,2,     0.00,2,     0.14,2,     87,-999.000,  -999.0, 23.0815
     33KA015_1,  PRS2,     2,  7,      5,      5,2,19900319,1046, 22.7500,-158.0350, 4750,     99.0,  23.0777,  34.8588,2,-999.0000,5,   -999.0,5,    214.2,2,     0.88,2,     0.04,2,     0.14,2,     98,-999.000,  -999.0, 23.0575
     33KA015_1,  PRS2,     2,  7,      4,      4,2,19900319,1046, 22.7500,-158.0350, 4750,    110.0,  23.0273,  34.9967,2,-999.0000,5,   -999.0,5,    235.2,4,     1.71,2,     0.05,2,     0.12,2,    108,-999.000,  -999.0, 23.0048
     33KA015_1,  PRS2,     2,  7,      3,      3,2,19900319,1046, 22.7500,-158.0350, 4750,    143.8,  21.2805,  35.1015,2,  35.1011,2,   -999.0,5,   -999.0,5,  -999.00,5,  -999.00,5,  -999.00,5,    138,-999.000,  -999.0, 21.2528
     33KA015_1,  PRS2,     2,  7,      2,      2,2,19900319,1046, 22.7500,-158.0350, 4750,    449.0,   7.3826,  34.0640,2,  34.0618,2,   -999.0,5,   -999.0,5,  -999.00,5,  -999.00,5,  -999.00,5,    443,-999.000,  -999.0,  7.3392
     33KA015_1,  PRS2,     2,  7,      1,      1,2,19900319,1046, 22.7500,-158.0350, 4750,   1014.1,   4.0113,  34.4971,2,  34.4955,2,   -999.0,5,   -999.0,5,  -999.00,5,  -999.00,5,  -999.00,5,   1005,-999.000,  -999.0,  3.9344
     33KA015_1,  PRS2,     2,  8,     21,     21,2,19900319,1304, 22.7417,-158.0183, 4750,      5.6,  23.1504,  34.8546,2,  34.8534,2,   -999.0,5,   -999.0,9,  -999.00,9,  -999.00,9,  -999.00,9,      6,-999.000,  -999.0, 23.1493
     33KA015_1,  PRS2,     2,  8,     20,     20,2,19900319,1304, 22.7417,-158.0183, 4750,     26.3,  23.1474,  34.8521,2,  34.8531,2,   -999.0,5,   -999.0,9,  -999.00,9,  -999.00,9,  -999.00,9,     27,-999.000,  -999.0, 23.1420
     33KA015_1,  PRS2,     2,  8,     19,     19,2,19900319,1304, 22.7417,-158.0183, 4750,     46.2,  23.1185,  34.8487,2,  34.8473,2,   -999.0,5,   -999.0,9,  -999.00,9,  -999.00,9,  -999.00,9,     45,-999.000,  -999.0, 23.1091
     33KA015_1,  PRS2,     2,  8,     18,     18,2,19900319,1304, 22.7417,-158.0183, 4750,     75.9,  23.0716,  34.8494,2,  34.8491,2,   -999.0,5,   -999.0,9,  -999.00,9,  -999.00,9,  -999.00,9,     75,-999.000,  -999.0, 23.0561
     33KA015_1,  PRS2,     2,  8,     17,     17,2,19900319,1304, 22.7417,-158.0183, 4750,    100.6,  22.9276,  34.8839,2,  34.8777,2,   -999.0,5,   -999.0,9,  -999.00,9,  -999.00,9,  -999.00,9,    100,-999.000,  -999.0, 22.9072
     33KA015_1,  PRS2,     2,  8,     16,     16,2,19900319,1304, 22.7417,-158.0183, 4750,    125.3,  22.1109,  35.1114,2,  35.1080,2,   -999.0,5,   -999.0,9,  -999.00,9,  -999.00,9,  -999.00,9,    125,-999.000,  -999.0, 22.0860
     33KA015_1,  PRS2,     2,  8,     15,     15,2,19900319,1304, 22.7417,-158.0183, 4750,    149.5,  20.3542,  35.0708,2,  35.0706,3,   -999.0,5,   -999.0,9,  -999.00,9,  -999.00,9,  -999.00,9,    153,-999.000,  -999.0, 20.3262
     33KA015_1,  PRS2,     2,  8,     14,     14,2,19900319,1304, 22.7417,-158.0183, 4750,    149.5,  20.3542,  35.0708,2,  35.0690,3,   -999.0,5,   -999.0,9,  -999.00,9,  -999.00,9,  -999.00,9,    153,-999.000,  -999.0, 20.3262