BOTTLE,20020809WHPSIObren
EXPOCODE,SECT_ID,STNNBR,CASTNO,SAMPNO,BTLNBR,BTLNBR_FLAG_W,DATE,TIME,LATITUDE,LONGITUDE,DEPTH,CTDPRS,CTDTMP,CTDSAL,CTDSAL_FLAG_W,SALNTY,SALNTY_FLAG_W,CTDOXY,CTDOXY_FLAG_W,OXYGEN,OXYGEN_FLAG_W,SILCAT,SILCAT_FLAG_W,NO2+NO3,NO2+NO3_FLAG_W,PHSPHT,PHSPHT_FLAG_W,CTDRAW,REVTMP,REVPRS,THETA
,,,,,,,,,,,,DBAR,ITS-90,PSS-78,,PSS-78,,UMOL/KG,,UMOL/KG,,UMOL/KG,,UMOL/KG,,UMOL/KG,,,DEG C,DBAR,ITS-90
     33KA015_1,  PRS2,     2,  9,      8,      8,2,19900319,1425, 22.7617,-158.0333, 4750,   -999.0,-999.0000,-999.0000,5,  34.8524,2,   -999.0,5,   -999.0,9,  -999.00,9,  -999.00,9,  -999.00,9,      5,-999.000,  -999.0,-999.0000
     33KA015_1,  PRS2,     2,  9,      7,      7,2,19900319,1425, 22.7617,-158.0333, 4750,   -999.0,-999.0000,-999.0000,5,  34.8490,2,   -999.0,5,   -999.0,9,  -999.00,9,  -999.00,9,  -999.00,9,     25,-999.000,  -999.0,-999.0000
     33KA015_1,  PRS2,     2,  9,      6,      6,2,19900319,1425, 22.7617,-158.0333, 4750,   -999.0,-999.0000,-999.0000,5,  34.8483,2,   -999.0,5,   -999.0,9,  -999.00,9,  -999.00,9,  -999.00,9,     45,-999.000,  -999.0,-999.0000
     33KA015_1,  PRS2,     2,  9,      5,      5,2,19900319,1425, 22.7617,-158.0333, 4750,   -999.0,-999.0000,-999.0000,5,  34.8485,2,   -999.0,5,   -999.0,9,  -999.00,9,  -999.00,9,  -999.00,9,     75,-999.000,  -999.0,-999.0000
     33KA015_1,  PRS2,     2,  9,      4,      4,2,19900319,1425, 22.7617,-158.0333, 4750,   -999.0,-999.0000,-999.0000,5,  34.8648,2,   -999.0,5,   -999.0,9,  -999.00,9,  -999.00,9,  -999.00,9,    100,-999.000,  -999.0,-999.0000
     33KA015_1,  PRS2,     2,  9,      3,      3,2,19900319,1425, 22.7617,-158.0333, 4750,    124.7,  22.6668,  35.0736,2,  35.0701,2,   -999.0,5,   -999.0,9,  -999.00,9,  -999.00,9,  -999.00,9,    125,-999.000,  -999.0, 22.6416
     33KA015_1,  PRS2,     2,  9,      2,      2,2,19900319,1425, 22.7617,-158.0333, 4750,    149.5,  21.2412,  35.1051,2,  35.1048,2,   -999.0,5,   -999.0,9,  -999.00,9,  -999.00,9,  -999.00,9,    150,-999.000,  -999.0, 21.2124
     33KA015_1,  PRS2,     2,  9,      1,      1,2,19900319,1425, 22.7617,-158.0333, 4750,    175.2,  19.1569,  34.9674,2,  34.9987,3,   -999.0,5,   -999.0,9,  -999.00,9,  -999.00,9,  -999.00,9,    176,-999.000,  -999.0, 19.1255
     33KA015_1,  PRS2,     2, 10,     23,     23,2,19900319,2133, 22.7700,-158.0750, 4750,      1.0,  23.2866,  34.8546,2,-999.0000,9,   -999.0,5,   -999.0,9,  -999.00,9,  -999.00,9,  -999.00,9,      2,-999.000,  -999.0, 23.2864
     33KA015_1,  PRS2,     2, 10,     22,     22,2,19900319,2133, 22.7700,-158.0750, 4750,      9.6,  23.1804,  34.8521,2,-999.0000,9,   -999.0,5,   -999.0,9,  -999.00,9,  -999.00,9,  -999.00,9,     10,-999.000,  -999.0, 23.1784
     33KA015_1,  PRS2,     2, 10,     21,     21,2,19900319,2133, 22.7700,-158.0750, 4750,     19.6,  23.1593,  34.8514,2,-999.0000,9,   -999.0,5,   -999.0,9,  -999.00,9,  -999.00,9,  -999.00,9,     20,-999.000,  -999.0, 23.1552
     33KA015_1,  PRS2,     2, 10,     20,     20,2,19900319,2133, 22.7700,-158.0750, 4750,     39.6,  23.1528,  34.8508,2,-999.0000,9,   -999.0,5,   -999.0,9,  -999.00,9,  -999.00,9,  -999.00,9,     40,-999.000,  -999.0, 23.1447
     33KA015_1,  PRS2,     2, 10,     19,     19,2,19900319,2133, 22.7700,-158.0750, 4750,     49.8,  23.1519,  34.8506,2,-999.0000,9,   -999.0,5,   -999.0,9,  -999.00,9,  -999.00,9,  -999.00,9,     49,-999.000,  -999.0, 23.1417
     33KA015_1,  PRS2,     2, 10,     18,     18,2,19900319,2133, 22.7700,-158.0750, 4750,     59.6,  23.1510,  34.8501,2,-999.0000,9,   -999.0,5,   -999.0,9,  -999.00,9,  -999.00,9,  -999.00,9,     59,-999.000,  -999.0, 23.1388
     33KA015_1,  PRS2,     2, 10,     17,     17,2,19900319,2133, 22.7700,-158.0750, 4750,     75.5,  23.1450,  34.8499,2,-999.0000,9,   -999.0,5,   -999.0,9,  -999.00,9,  -999.00,9,  -999.00,9,     75,-999.000,  -999.0, 23.1296
     33KA015_1,  PRS2,     2, 10,     16,     16,2,19900319,2133, 22.7700,-158.0750, 4750,     80.2,  23.1429,  34.8499,2,-999.0000,9,   -999.0,5,   -999.0,9,  -999.00,9,  -999.00,9,  -999.00,9,     81,-999.000,  -999.0, 23.1264
     33KA015_1,  PRS2,     2, 10,     15,     15,2,19900319,2133, 22.7700,-158.0750, 4750,     91.3,  23.0405,  34.8576,2,-999.0000,9,   -999.0,5,   -999.0,9,  -999.00,9,  -999.00,9,  -999.00,9,     91,-999.000,  -999.0, 23.0218
     33KA015_1,  PRS2,     2, 10,     14,     14,2,19900319,2133, 22.7700,-158.0750, 4750,    101.4,  22.9180,  34.8724,2,-999.0000,9,   -999.0,5,   -999.0,9,  -999.00,9,  -999.00,9,  -999.00,9,    100,-999.000,  -999.0, 22.8974
     33KA015_1,  PRS2,     2, 10,     13,     13,2,19900319,2133, 22.7700,-158.0750, 4750,    101.5,  22.8948,  34.8752,2,-999.0000,9,   -999.0,5,   -999.0,9,  -999.00,9,  -999.00,9,  -999.00,9,    100,-999.000,  -999.0, 22.8742
     33KA015_1,  PRS2,     2, 10,     12,     12,2,19900319,2133, 22.7700,-158.0750, 4750,    111.0,  22.7819,  34.9132,2,-999.0000,9,   -999.0,5,   -999.0,9,  -999.00,9,  -999.00,9,  -999.00,9,    111,-999.000,  -999.0, 22.7594
     33KA015_1,  PRS2,     2, 10,     11,     11,2,19900319,2133, 22.7700,-158.0750, 4750,    121.2,  22.7398,  34.9388,2,-999.0000,9,   -999.0,5,   -999.0,9,  -999.00,9,  -999.00,9,  -999.00,9,    119,-999.000,  -999.0, 22.7152
     33KA015_1,  PRS2,     2, 10,     10,     10,2,19900319,2133, 22.7700,-158.0750, 4750,    121.3,  22.7384,  34.9793,2,-999.0000,9,   -999.0,5,   -999.0,9,  -999.00,9,  -999.00,9,  -999.00,9,    119,-999.000,  -999.0, 22.7139
     33KA015_1,  PRS2,     2, 10,      9,      9,2,19900319,2133, 22.7700,-158.0750, 4750,    132.0,  22.5643,  35.0723,2,-999.0000,9,   -999.0,5,   -999.0,9,  -999.00,9,  -999.00,9,  -999.00,9,    131,-999.000,  -999.0, 22.5378
     33KA015_1,  PRS2,     2, 10,      8,      8,2,19900319,2133, 22.7700,-158.0750, 4750,    143.2,  22.0149,  35.1091,2,-999.0000,9,   -999.0,5,   -999.0,9,  -999.00,9,  -999.00,9,  -999.00,9,    141,-999.000,  -999.0, 21.9866
     33KA015_1,  PRS2,     2, 10,      7,      7,2,19900319,2133, 22.7700,-158.0750, 4750,    163.0,  20.5981,  35.0785,2,-999.0000,9,   -999.0,5,   -999.0,9,  -999.00,9,  -999.00,9,  -999.00,9,    160,-999.000,  -999.0, 20.5673
     33KA015_1,  PRS2,     2, 10,      6,      6,2,19900319,2133, 22.7700,-158.0750, 4750,    183.9,  19.0117,  34.9469,2,-999.0000,9,   -999.0,5,   -999.0,9,  -999.00,9,  -999.00,9,  -999.00,9,    180,-999.000,  -999.0, 18.9789
     33KA015_1,  PRS2,     2, 10,      5,      5,2,19900319,2133, 22.7700,-158.0750, 4750,    203.7,  17.7164,  34.7672,2,-999.0000,9,   -999.0,5,   -999.0,9,  -999.00,9,  -999.00,9,  -999.00,9,    200,-999.000,  -999.0, 17.6819
     33KA015_1,  PRS2,     2, 10,      4,      4,2,19900319,2133, 22.7700,-158.0750, 4750,    230.3,  16.1549,  34.6384,2,-999.0000,9,   -999.0,5,   -999.0,9,  -999.00,9,  -999.00,9,  -999.00,9,    226,-999.000,  -999.0, 16.1183
     33KA015_1,  PRS2,     2, 10,      3,      3,2,19900319,2133, 22.7700,-158.0750, 4750,    255.6,  14.1925,  34.3827,2,-999.0000,9,   -999.0,5,   -999.0,9,  -999.00,9,  -999.00,9,  -999.00,9,    250,-999.000,  -999.0, 14.1554
     33KA015_1,  PRS2,     2, 10,      2,      2,2,19900319,2133, 22.7700,-158.0750, 4750,    448.5,   7.5735,  34.0567,2,-999.0000,9,   -999.0,5,   -999.0,9,  -999.00,9,  -999.00,9,  -999.00,9,    439,-999.000,  -999.0,  7.5295
     33KA015_1,  PRS2,     2, 10,      1,      1,2,19900319,2133, 22.7700,-158.0750, 4750,   1023.4,   3.9728,  34.5032,2,-999.0000,9,   -999.0,5,   -999.0,9,  -999.00,9,  -999.00,9,  -999.00,9,   1014,-999.000,  -999.0,  3.8954
     33KA015_1,  PRS2,     2, 11,     23,     23,2,19900319,2323, 22.7617,-158.0467, 4700,      1.9,  23.3815,  34.8560,2,-999.0000,5,   -999.0,5,    213.6,2,  -999.00,9,  -999.00,9,  -999.00,9,      2,-999.000,  -999.0, 23.3811
     33KA015_1,  PRS2,     2, 11,     22,     22,2,19900319,2323, 22.7617,-158.0467, 4700,     10.1,  23.1972,  34.8522,2,-999.0000,5,   -999.0,5,   -999.0,5,  -999.00,9,  -999.00,9,  -999.00,9,     11,-999.000,  -999.0, 23.1951
     33KA015_1,  PRS2,     2, 11,     21,     21,2,19900319,2323, 22.7617,-158.0467, 4700,     19.9,  23.1708,  34.8514,2,-999.0000,5,   -999.0,5,   -999.0,5,  -999.00,9,  -999.00,9,  -999.00,9,     20,-999.000,  -999.0, 23.1667
     33KA015_1,  PRS2,     2, 11,     20,     20,2,19900319,2323, 22.7617,-158.0467, 4700,     39.6,  23.1625,  34.8513,2,-999.0000,5,   -999.0,5,    213.8,2,  -999.00,9,  -999.00,9,  -999.00,9,     39,-999.000,  -999.0, 23.1544
     33KA015_1,  PRS2,     2, 11,     19,     19,2,19900319,2323, 22.7617,-158.0467, 4700,     49.5,  23.1606,  34.8511,2,  34.8484,2,   -999.0,5,   -999.0,5,  -999.00,9,  -999.00,9,  -999.00,9,     49,-999.000,  -999.0, 23.1504
     33KA015_1,  PRS2,     2, 11,     18,     18,2,19900319,2323, 22.7617,-158.0467, 4700,     59.4,  23.1590,  34.8505,2,-999.0000,5,   -999.0,5,   -999.0,5,  -999.00,9,  -999.00,9,  -999.00,9,     59,-999.000,  -999.0, 23.1468
     33KA015_1,  PRS2,     2, 11,     17,     17,2,19900319,2323, 22.7617,-158.0467, 4700,     74.5,  23.1550,  34.8498,2,  34.8497,2,   -999.0,5,   -999.0,5,  -999.00,9,  -999.00,9,  -999.00,9,     74,-999.000,  -999.0, 23.1398
     33KA015_1,  PRS2,     2, 11,     16,     16,2,19900319,2323, 22.7617,-158.0467, 4700,     79.5,  23.1535,  34.8496,2,-999.0000,5,   -999.0,5,   -999.0,5,  -999.00,9,  -999.00,9,  -999.00,9,     80,-999.000,  -999.0, 23.1372
     33KA015_1,  PRS2,     2, 11,     15,     15,2,19900319,2323, 22.7617,-158.0467, 4700,     90.0,  23.1143,  34.8548,2,-999.0000,5,   -999.0,5,   -999.0,5,  -999.00,9,  -999.00,9,  -999.00,9,     91,-999.000,  -999.0, 23.0959
     33KA015_1,  PRS2,     2, 11,     13,     13,2,19900319,2323, 22.7617,-158.0467, 4700,    101.4,  22.9934,  34.8643,2,  34.8613,2,   -999.0,5,   -999.0,5,  -999.00,9,  -999.00,9,  -999.00,9,    100,-999.000,  -999.0, 22.9727
     33KA015_1,  PRS2,     2, 11,     14,     14,2,19900319,2323, 22.7617,-158.0467, 4700,    101.6,  22.9964,  34.8639,2,-999.0000,5,   -999.0,5,   -999.0,5,  -999.00,9,  -999.00,9,  -999.00,9,    100,-999.000,  -999.0, 22.9757
     33KA015_1,  PRS2,     2, 11,     12,     12,2,19900319,2323, 22.7617,-158.0467, 4700,    111.3,  22.8952,  34.8755,2,-999.0000,5,   -999.0,5,   -999.0,5,  -999.00,9,  -999.00,9,  -999.00,9,    110,-999.000,  -999.0, 22.8726
     33KA015_1,  PRS2,     2, 11,     11,     11,2,19900319,2323, 22.7617,-158.0467, 4700,    122.3,  22.7802,  34.9124,2,-999.0000,5,   -999.0,5,   -999.0,5,  -999.00,9,  -999.00,9,  -999.00,9,    120,-999.000,  -999.0, 22.7554
     33KA015_1,  PRS2,     2, 11,     10,     10,2,19900319,2323, 22.7617,-158.0467, 4700,    122.4,  22.7639,  34.9150,2,  34.9113,2,   -999.0,5,   -999.0,5,  -999.00,9,  -999.00,9,  -999.00,9,    120,-999.000,  -999.0, 22.7391
     33KA015_1,  PRS2,     2, 11,      9,      9,2,19900319,2323, 22.7617,-158.0467, 4700,    131.9,  22.6654,  35.0453,2,-999.0000,5,   -999.0,5,   -999.0,5,  -999.00,9,  -999.00,9,  -999.00,9,    130,-999.000,  -999.0, 22.6388
     33KA015_1,  PRS2,     2, 11,      8,      8,2,19900319,2323, 22.7617,-158.0467, 4700,    142.9,  21.6776,  35.1126,2,  35.1061,2,   -999.0,5,   -999.0,5,  -999.00,9,  -999.00,9,  -999.00,9,    141,-999.000,  -999.0, 21.6496
     33KA015_1,  PRS2,     2, 11,      7,      7,2,19900319,2323, 22.7617,-158.0467, 4700,    162.9,  20.4969,  35.0794,2,  35.0719,2,   -999.0,5,   -999.0,5,  -999.00,9,  -999.00,9,  -999.00,9,    160,-999.000,  -999.0, 20.4663
     33KA015_1,  PRS2,     2, 11,      6,      6,2,19900319,2323, 22.7617,-158.0467, 4700,    183.9,  18.8322,  34.9213,2,  35.0778,4,   -999.0,5,   -999.0,5,  -999.00,9,  -999.00,9,  -999.00,9,    181,-999.000,  -999.0, 18.7997
     33KA015_1,  PRS2,     2, 11,      5,      5,2,19900319,2323, 22.7617,-158.0467, 4700,    203.9,  17.1129,  34.7173,2,  34.7199,2,   -999.0,5,   -999.0,5,  -999.00,9,  -999.00,9,  -999.00,9,    199,-999.000,  -999.0, 17.0791
     33KA015_1,  PRS2,     2, 11,      4,      4,2,19900319,2323, 22.7617,-158.0467, 4700,    228.3,  16.2531,  34.6500,2,  34.6512,2,   -999.0,5,   -999.0,5,  -999.00,9,  -999.00,9,  -999.00,9,    225,-999.000,  -999.0, 16.2166
     33KA015_1,  PRS2,     2, 11,      3,      3,2,19900319,2323, 22.7617,-158.0467, 4700,    253.3,  14.6132,  34.4352,2,  34.4375,2,   -999.0,5,   -999.0,5,  -999.00,9,  -999.00,9,  -999.00,9,    248,-999.000,  -999.0, 14.5757
     33KA015_1,  PRS2,     2, 11,      2,      2,2,19900319,2323, 22.7617,-158.0467, 4700,    447.8,   7.6207,  34.0556,2,  34.0517,2,   -999.0,5,   -999.0,5,  -999.00,9,  -999.00,9,  -999.00,9,    441,-999.000,  -999.0,  7.5766
     33KA015_1,  PRS2,     2, 11,      1,      1,2,19900319,2323, 22.7617,-158.0467, 4700,   1025.4,   3.9856,  34.5025,2,  34.0536,4,   -999.0,5,   -999.0,5,  -999.00,9,  -999.00,9,  -999.00,9,   1017,-999.000,  -999.0,  3.9080
     33KA015_1,  PRS2,     2, 12,     23,     23,2,19900320,0206, 22.7717,-158.1133, 4700,      0.3,  23.2878,  34.8388,2,  34.8354,2,   -999.0,5,   -999.0,9,  -999.00,9,  -999.00,9,  -999.00,9,      0,-999.000,  -999.0, 23.2878
     33KA015_1,  PRS2,     2, 12,     22,     22,2,19900320,0206, 22.7717,-158.1133, 4700,      9.8,  23.1195,  34.8366,2,  34.8331,2,   -999.0,5,   -999.0,9,  -999.00,9,  -999.00,9,  -999.00,9,     10,-999.000,  -999.0, 23.1175
     33KA015_1,  PRS2,     2, 12,     21,     21,2,19900320,0206, 22.7717,-158.1133, 4700,      9.8,  23.1034,  34.8360,2,  34.8338,2,   -999.0,5,   -999.0,9,  -999.00,9,  -999.00,9,  -999.00,9,     10,-999.000,  -999.0, 23.1014
     33KA015_1,  PRS2,     2, 12,     20,     20,2,19900320,0206, 22.7717,-158.1133, 4700,     29.5,  23.0427,  34.8337,2,  34.8311,2,   -999.0,5,   -999.0,9,  -999.00,9,  -999.00,9,  -999.00,9,     29,-999.000,  -999.0, 23.0367
     33KA015_1,  PRS2,     2, 12,     19,     19,2,19900320,0206, 22.7717,-158.1133, 4700,     49.5,  23.0319,  34.8374,2,  34.8308,2,   -999.0,5,   -999.0,9,  -999.00,9,  -999.00,9,  -999.00,9,     48,-999.000,  -999.0, 23.0219
     33KA015_1,  PRS2,     2, 12,     18,     18,2,19900320,0206, 22.7717,-158.1133, 4700,    100.7,  22.7212,  34.9072,2,  34.9082,2,   -999.0,5,   -999.0,9,  -999.00,9,  -999.00,9,  -999.00,9,    101,-999.000,  -999.0, 22.7008
     33KA015_1,  PRS2,     2, 12,     17,     17,2,19900320,0206, 22.7717,-158.1133, 4700,    100.8,  22.7208,  34.9072,2,-999.0000,5,   -999.0,5,   -999.0,9,  -999.00,9,  -999.00,9,  -999.00,9,    101,-999.000,  -999.0, 22.7004
     33KA015_1,  PRS2,     2, 12,     16,     16,2,19900320,0206, 22.7717,-158.1133, 4700,    111.1,  22.6851,  34.9748,2,-999.0000,5,   -999.0,5,   -999.0,9,  -999.00,9,  -999.00,9,  -999.00,9,    109,-999.000,  -999.0, 22.6626
     33KA015_1,  PRS2,     2, 12,     15,     15,2,19900320,0206, 22.7717,-158.1133, 4700,    123.0,  22.1311,  35.1035,2,-999.0000,5,   -999.0,5,   -999.0,9,  -999.00,9,  -999.00,9,  -999.00,9,    121,-999.000,  -999.0, 22.1067
     33KA015_1,  PRS2,     2, 12,     13,     13,2,19900320,0206, 22.7717,-158.1133, 4700,    134.2,  21.1709,  35.0998,2,-999.0000,5,   -999.0,5,   -999.0,9,  -999.00,9,  -999.00,9,  -999.00,9,    131,-999.000,  -999.0, 21.1451
     33KA015_1,  PRS2,     2, 12,     14,     14,2,19900320,0206, 22.7717,-158.1133, 4700,    134.3,  21.1726,  35.1003,2,  35.1067,2,   -999.0,5,   -999.0,9,  -999.00,9,  -999.00,9,  -999.00,9,    130,-999.000,  -999.0, 21.1468
     33KA015_1,  PRS2,     2, 12,     12,     12,2,19900320,0206, 22.7717,-158.1133, 4700,    145.1,  20.2366,  35.0640,2,-999.0000,5,   -999.0,5,   -999.0,9,  -999.00,9,  -999.00,9,  -999.00,9,    141,-999.000,  -999.0, 20.2095
     33KA015_1,  PRS2,     2, 12,     11,     11,2,19900320,0206, 22.7717,-158.1133, 4700,    155.0,  19.7137,  35.0345,2,-999.0000,5,   -999.0,5,   -999.0,9,  -999.00,9,  -999.00,9,  -999.00,9,    150,-999.000,  -999.0, 19.6853
     33KA015_1,  PRS2,     2, 12,      9,      9,2,19900320,0206, 22.7717,-158.1133, 4700,    207.0,  16.0714,  34.6187,2,-999.0000,5,   -999.0,5,   -999.0,9,  -999.00,9,  -999.00,9,  -999.00,9,    201,-999.000,  -999.0, 16.0386
     33KA015_1,  PRS2,     2, 12,     10,     10,2,19900320,0206, 22.7717,-158.1133, 4700,    207.1,  16.0783,  34.6190,2,  34.6161,2,   -999.0,5,   -999.0,9,  -999.00,9,  -999.00,9,  -999.00,9,    201,-999.000,  -999.0, 16.0455
     33KA015_1,  PRS2,     2, 12,      8,      8,2,19900320,0206, 22.7717,-158.1133, 4700,    257.4,  13.4171,  34.3013,2,-999.0000,5,   -999.0,5,   -999.0,9,  -999.00,9,  -999.00,9,  -999.00,9,    251,-999.000,  -999.0, 13.3811
     33KA015_1,  PRS2,     2, 12,      6,      6,2,19900320,0206, 22.7717,-158.1133, 4700,    307.9,  11.3255,  34.1715,2,-999.0000,5,   -999.0,5,   -999.0,9,  -999.00,9,  -999.00,9,  -999.00,9,    301,-999.000,  -999.0, 11.2869
     33KA015_1,  PRS2,     2, 12,      7,      7,2,19900320,0206, 22.7717,-158.1133, 4700,    308.0,  11.3232,  34.1709,2,  34.1680,2,   -999.0,5,   -999.0,9,  -999.00,9,  -999.00,9,  -999.00,9,    301,-999.000,  -999.0, 11.2847
     33KA015_1,  PRS2,     2, 12,      5,      5,2,19900320,0206, 22.7717,-158.1133, 4700,    357.7,   9.5005,  34.1154,2,-999.0000,5,   -999.0,5,   -999.0,9,  -999.00,9,  -999.00,9,  -999.00,9,    350,-999.000,  -999.0,  9.4604
     33KA015_1,  PRS2,     2, 12,      4,      4,2,19900320,0206, 22.7717,-158.1133, 4700,    407.5,   8.2070,  34.0615,2,-999.0000,5,   -999.0,5,   -999.0,9,  -999.00,9,  -999.00,9,  -999.00,9,    401,-999.000,  -999.0,  8.1652
     33KA015_1,  PRS2,     2, 12,      3,      3,2,19900320,0206, 22.7717,-158.1133, 4700,    457.3,   7.2265,  34.0650,2,  34.0562,2,   -999.0,5,   -999.0,9,  -999.00,9,  -999.00,9,  -999.00,9,    448,-999.000,  -999.0,  7.1827
     33KA015_1,  PRS2,     2, 12,      2,      2,2,19900320,0206, 22.7717,-158.1133, 4700,    505.7,   6.5671,  34.1245,2,-999.0000,5,   -999.0,5,   -999.0,9,  -999.00,9,  -999.00,9,  -999.00,9,    497,-999.000,  -999.0,  6.5210
     33KA015_1,  PRS2,     2, 12,      1,      1,2,19900320,0206, 22.7717,-158.1133, 4700,    607.5,   5.2185,  34.1818,2,  34.1765,2,   -999.0,5,   -999.0,9,  -999.00,9,  -999.00,9,  -999.00,9,    598,-999.000,  -999.0,  5.1690
     33KA015_1,  PRS2,     2, 13,      8,      8,2,19900320,1057, 22.7450,-158.0367, 4750,      5.7,  23.2352,  34.8461,2,-999.0000,9,   -999.0,5,   -999.0,9,  -999.00,9,  -999.00,9,  -999.00,9,      6,-999.000,  -999.0, 23.2340
     33KA015_1,  PRS2,     2, 13,      7,      7,2,19900320,1057, 22.7450,-158.0367, 4750,     25.5,  23.2041,  34.8450,2,-999.0000,9,   -999.0,5,   -999.0,9,  -999.00,9,  -999.00,9,  -999.00,9,     26,-999.000,  -999.0, 23.1989
     33KA015_1,  PRS2,     2, 13,      6,      6,2,19900320,1057, 22.7450,-158.0367, 4750,     45.4,  23.1188,  34.8481,2,-999.0000,9,   -999.0,5,   -999.0,9,  -999.00,9,  -999.00,9,  -999.00,9,     46,-999.000,  -999.0, 23.1095
     33KA015_1,  PRS2,     2, 13,      5,      5,2,19900320,1057, 22.7450,-158.0367, 4750,     75.3,  22.9829,  34.8375,2,-999.0000,9,   -999.0,5,   -999.0,9,  -999.00,9,  -999.00,9,  -999.00,9,     76,-999.000,  -999.0, 22.9676
     33KA015_1,  PRS2,     2, 13,      4,      4,2,19900320,1057, 22.7450,-158.0367, 4750,     99.9,  22.9628,  34.8429,2,-999.0000,9,   -999.0,5,   -999.0,9,  -999.00,9,  -999.00,9,  -999.00,9,    100,-999.000,  -999.0, 22.9425
     33KA015_1,  PRS2,     2, 13,      3,      3,2,19900320,1057, 22.7450,-158.0367, 4750,    123.8,  22.6667,  35.0731,2,-999.0000,9,   -999.0,5,   -999.0,9,  -999.00,9,  -999.00,9,  -999.00,9,    125,-999.000,  -999.0, 22.6417
     33KA015_1,  PRS2,     2, 13,      2,      2,2,19900320,1057, 22.7450,-158.0367, 4750,    149.2,  21.1091,  35.1110,2,-999.0000,9,   -999.0,5,   -999.0,9,  -999.00,9,  -999.00,9,  -999.00,9,    149,-999.000,  -999.0, 21.0805
     33KA015_1,  PRS2,     2, 13,      1,      1,2,19900320,1057, 22.7450,-158.0367, 4750,    174.4,  19.3363,  34.9569,2,-999.0000,9,   -999.0,5,   -999.0,9,  -999.00,9,  -999.00,9,  -999.00,9,    174,-999.000,  -999.0, 19.3049