BOTTLE,20020809WHPSIObren
#code : jjward hyd_to_exchange.pl 
#original files copied from HTML directory: 20020809
#original HYD file: /whpo/11/HOTS/BOTTLE/hot15/hot15.sea   Fri Aug  9 09:51:29 2002
#original SUM file: /whpo/11/HOTS/BOTTLE/hot15/hot15.sum   Fri Aug  9 13:30:34 2002
EXPOCODE,SECT_ID,STNNBR,CASTNO,SAMPNO,BTLNBR,BTLNBR_FLAG_W,DATE,TIME,LATITUDE,LONGITUDE,DEPTH,CTDPRS,CTDTMP,CTDSAL,CTDSAL_FLAG_W,SALNTY,SALNTY_FLAG_W,CTDOXY,CTDOXY_FLAG_W,OXYGEN,OXYGEN_FLAG_W,SILCAT,SILCAT_FLAG_W,NO2+NO3,NO2+NO3_FLAG_W,PHSPHT,PHSPHT_FLAG_W,CTDRAW,REVTMP,REVPRS,THETA
,,,,,,,,,,,,DBAR,ITS-90,PSS-78,,PSS-78,,UMOL/KG,,UMOL/KG,,UMOL/KG,,UMOL/KG,,UMOL/KG,,,DEG C,DBAR,ITS-90
     33KA015_1,  PRS2,     1,  1,     23,     23,2,19900314,2106, 21.3433,-158.2783, 1500,      4.7,  23.4904,  34.9328,2,  34.9306,2,   -999.0,5,    213.3,2,     1.71,2,     0.00,2,     0.12,2,      5,-999.000,  -999.0, 23.4895
     33KA015_1,  PRS2,     1,  1,     22,     22,2,19900314,2106, 21.3433,-158.2783, 1500,      4.7,  23.4904,  34.9328,2,  34.9261,2,   -999.0,5,    215.0,2,     1.91,2,     0.00,2,     0.11,2,      5,-999.000,  -999.0, 23.4895
     33KA015_1,  PRS2,     1,  1,     21,     21,2,19900314,2106, 21.3433,-158.2783, 1500,     24.3,  23.2271,  34.9261,2,  34.9252,2,   -999.0,5,    213.5,2,     1.91,2,     0.00,2,     0.11,2,     25,-999.000,  -999.0, 23.2221
     33KA015_1,  PRS2,     1,  1,     20,     20,2,19900314,2106, 21.3433,-158.2783, 1500,     47.3,  23.1584,  34.9263,2,  34.9190,2,   -999.0,5,    213.3,2,     1.71,2,     0.03,2,     0.11,2,     48,-999.000,  -999.0, 23.1487
     33KA015_1,  PRS2,     1,  1,     19,     19,2,19900314,2106, 21.3433,-158.2783, 1500,     62.1,  23.0498,  34.9189,2,  34.9221,2,   -999.0,5,    212.9,2,     1.50,2,     0.05,2,     0.12,2,     61,-999.000,  -999.0, 23.0371
     33KA015_1,  PRS2,     1,  1,     17,     17,2,19900314,2106, 21.3433,-158.2783, 1500,     77.1,  22.9896,  34.9554,2,  35.0498,4,   -999.0,5,    211.2,2,     1.29,2,     0.05,2,     0.11,2,     75,-999.000,  -999.0, 22.9739
     33KA015_1,  PRS2,     1,  1,     18,     18,2,19900314,2106, 21.3433,-158.2783, 1500,     77.2,  23.0014,  34.9513,2,-999.0000,5,   -999.0,5,   -999.0,5,  -999.00,5,  -999.00,5,  -999.00,5,     76,-999.000,  -999.0, 22.9857
     33KA015_1,  PRS2,     1,  1,     16,     16,2,19900314,2106, 21.3433,-158.2783, 1500,     98.0,  22.1909,  35.1579,2,  35.1579,2,   -999.0,5,    204.0,2,     1.50,2,     0.43,2,     0.13,2,     96,-999.000,  -999.0, 22.1714
     33KA015_1,  PRS2,     1,  1,     15,     15,2,19900314,2106, 21.3433,-158.2783, 1500,    108.7,  22.0095,  35.1564,2,  35.1572,2,   -999.0,5,    203.5,2,     1.29,2,     0.43,2,     0.13,2,    106,-999.000,  -999.0, 21.9880
     33KA015_1,  PRS2,     1,  1,     14,     14,2,19900314,2106, 21.3433,-158.2783, 1500,    118.8,  21.3768,  35.1787,2,  35.1791,2,   -999.0,5,    196.7,2,     1.50,2,     1.05,2,     0.19,2,    115,-999.000,  -999.0, 21.3538
     33KA015_1,  PRS2,     1,  1,     13,     13,2,19900314,2106, 21.3433,-158.2783, 1500,    128.5,  21.1540,  35.2055,2,  35.2086,2,   -999.0,5,    198.4,2,     1.50,2,     1.01,2,     0.18,2,    125,-999.000,  -999.0, 21.1293
     33KA015_1,  PRS2,     1,  1,     12,     12,2,19900314,2106, 21.3433,-158.2783, 1500,    156.2,  19.5880,  35.0654,2,  35.0665,2,   -999.0,5,    186.1,2,     2.54,2,     3.02,2,     0.32,2,    152,-999.000,  -999.0, 19.5595
     33KA015_1,  PRS2,     1,  1,     11,     11,2,19900314,2106, 21.3433,-158.2783, 1500,    183.2,  17.1146,  34.7847,2,  34.7929,2,   -999.0,5,    185.6,2,     4.41,2,     5.27,2,     0.47,2,    178,-999.000,  -999.0, 17.0843
     33KA015_1,  PRS2,     1,  1,     10,     10,2,19900314,2106, 21.3433,-158.2783, 1500,    234.3,  11.8841,  34.2383,2,  34.2499,2,   -999.0,5,    191.5,2,    12.10,2,    12.28,2,     0.93,2,    228,-999.000,  -999.0, 11.8539
     33KA015_1,  PRS2,     1,  1,      9,      9,2,19900314,2106, 21.3433,-158.2783, 1500,    234.3,  11.8841,  34.2383,2,  34.2542,2,   -999.0,5,    191.0,2,    11.88,2,    12.20,2,     0.92,2,    228,-999.000,  -999.0, 11.8539
     33KA015_1,  PRS2,     1,  1,      8,      8,2,19900314,2106, 21.3433,-158.2783, 1500,    258.0,  10.9627,  34.1866,2,  34.1850,2,   -999.0,5,    186.6,2,    16.04,2,    14.95,2,     1.10,2,    252,-999.000,  -999.0, 10.9311
     33KA015_1,  PRS2,     1,  1,      7,      7,2,19900314,2106, 21.3433,-158.2783, 1500,    308.6,   9.5910,  34.1359,2,  34.1335,2,   -999.0,5,    174.3,2,    23.31,2,    19.26,2,     1.39,2,    301,-999.000,  -999.0,  9.5563
     33KA015_1,  PRS2,     1,  1,      6,      6,2,19900314,2106, 21.3433,-158.2783, 1500,    411.9,   7.8045,  34.1191,2,  34.1192,2,   -999.0,5,    118.9,2,    43.04,2,    27.73,2,     2.01,2,    403,-999.000,  -999.0,  7.7634
     33KA015_1,  PRS2,     1,  1,      5,      5,2,19900314,2106, 21.3433,-158.2783, 1500,    509.2,   6.4141,  34.1788,2,  34.1774,2,   -999.0,5,   -999.0,5,  -999.00,5,  -999.00,5,  -999.00,5,    502,-999.000,  -999.0,  6.3682
     33KA015_1,  PRS2,     1,  1,      4,      4,2,19900314,2106, 21.3433,-158.2783, 1500,    612.8,   5.6575,  34.2795,2,  34.2767,2,   -999.0,5,     37.1,2,    78.34,2,    39.09,2,     2.83,2,    605,-999.000,  -999.0,  5.6053
     33KA015_1,  PRS2,     1,  1,      3,      3,2,19900314,2106, 21.3433,-158.2783, 1500,    762.4,   4.9912,  34.3998,2,  34.3972,2,   -999.0,5,   -999.0,5,  -999.00,5,  -999.00,5,  -999.00,5,    752,-999.000,  -999.0,  4.9292
     33KA015_1,  PRS2,     1,  1,      2,      2,2,19900314,2106, 21.3433,-158.2783, 1500,    810.8,   4.8605,  34.4257,2,  34.4231,2,   -999.0,5,   -999.0,5,  -999.00,5,  -999.00,5,  -999.00,5,    802,-999.000,  -999.0,  4.7950
     33KA015_1,  PRS2,     1,  1,      1,      1,2,19900314,2106, 21.3433,-158.2783, 1500,    914.8,   4.5695,  34.4701,2,  34.4678,2,   -999.0,5,     40.3,2,    99.71,2,    41.58,2,     2.99,2,    906,-999.000,  -999.0,  4.4969
     33KA015_1,  PRS2,     2,  1,     15,     15,2,19900318,1108, 22.7000,-158.0217, 4750,      5.0,  23.2923,  34.8402,2,-999.0000,5,   -999.0,5,   -999.0,9,  -999.00,9,  -999.00,9,  -999.00,9,      5,-999.000,  -999.0, 23.2913
     33KA015_1,  PRS2,     2,  1,     14,     14,4,19900318,1108, 22.7000,-158.0217, 4750,     25.7,  23.3033,  34.8395,2,-999.0000,5,   -999.0,5,   -999.0,9,  -999.00,9,  -999.00,9,  -999.00,9,     25,-999.000,  -999.0, 23.2980
     33KA015_1,  PRS2,     2,  1,     13,     13,4,19900318,1108, 22.7000,-158.0217, 4750,     46.5,  23.2769,  34.8384,2,-999.0000,5,   -999.0,5,   -999.0,9,  -999.00,9,  -999.00,9,  -999.00,9,     46,-999.000,  -999.0, 23.2674
     33KA015_1,  PRS2,     2,  1,     12,     12,2,19900318,1108, 22.7000,-158.0217, 4750,     76.0,  23.1330,  34.8412,2,  34.8409,2,   -999.0,5,   -999.0,9,  -999.00,9,  -999.00,9,  -999.00,9,     75,-999.000,  -999.0, 23.1175
     33KA015_1,  PRS2,     2,  1,     11,     11,2,19900318,1108, 22.7000,-158.0217, 4750,    100.9,  22.9985,  34.9093,2,  34.8930,2,   -999.0,5,   -999.0,9,  -999.00,9,  -999.00,9,  -999.00,9,    100,-999.000,  -999.0, 22.9779
     33KA015_1,  PRS2,     2,  1,     10,     10,2,19900318,1108, 22.7000,-158.0217, 4750,    126.8,  22.3570,  35.0992,2,  35.0978,2,   -999.0,5,   -999.0,9,  -999.00,9,  -999.00,9,  -999.00,9,    126,-999.000,  -999.0, 22.3317
     33KA015_1,  PRS2,     2,  1,      9,      9,2,19900318,1108, 22.7000,-158.0217, 4750,    176.4,  18.8216,  34.9453,2,  34.9407,2,   -999.0,5,   -999.0,9,  -999.00,9,  -999.00,9,  -999.00,9,    176,-999.000,  -999.0, 18.7903
     33KA015_1,  PRS2,     2,  1,      8,      8,2,19900318,1108, 22.7000,-158.0217, 4750,    176.4,  18.8216,  34.9453,2,  34.9413,2,   -999.0,5,   -999.0,9,  -999.00,9,  -999.00,9,  -999.00,9,    176,-999.000,  -999.0, 18.7903
     33KA015_1,  PRS2,     2,  2,      9,      9,2,19900318,1302, 22.7333,-158.0583, 4750,      5.1,  23.2772,  34.8381,2,-999.0000,5,   -999.0,5,   -999.0,9,  -999.00,9,  -999.00,9,  -999.00,9,      5,-999.000,  -999.0, 23.2762
     33KA015_1,  PRS2,     2,  2,      8,      8,2,19900318,1302, 22.7333,-158.0583, 4750,      5.2,  23.2801,  34.8380,2,  34.8350,2,   -999.0,5,   -999.0,9,  -999.00,9,  -999.00,9,  -999.00,9,      5,-999.000,  -999.0, 23.2790
     33KA015_1,  PRS2,     2,  2,      7,      7,2,19900318,1302, 22.7333,-158.0583, 4750,     27.3,  23.2793,  34.8372,2,  34.8348,2,   -999.0,5,   -999.0,9,  -999.00,9,  -999.00,9,  -999.00,9,     26,-999.000,  -999.0, 23.2736
     33KA015_1,  PRS2,     2,  2,      6,      6,2,19900318,1302, 22.7333,-158.0583, 4750,     47.0,  23.2820,  34.8372,2,  34.8369,2,   -999.0,5,   -999.0,9,  -999.00,9,  -999.00,9,  -999.00,9,     46,-999.000,  -999.0, 23.2723
     33KA015_1,  PRS2,     2,  2,      5,      5,2,19900318,1302, 22.7333,-158.0583, 4750,     76.2,  23.0553,  34.8431,2,  34.8411,2,   -999.0,5,   -999.0,9,  -999.00,9,  -999.00,9,  -999.00,9,     74,-999.000,  -999.0, 23.0398
     33KA015_1,  PRS2,     2,  2,      4,      4,2,19900318,1302, 22.7333,-158.0583, 4750,     98.4,  22.8453,  34.9869,2,  34.9743,2,   -999.0,5,   -999.0,9,  -999.00,9,  -999.00,9,  -999.00,9,    100,-999.000,  -999.0, 22.8253
     33KA015_1,  PRS2,     2,  2,      3,      3,2,19900318,1302, 22.7333,-158.0583, 4750,    123.2,  22.0163,  35.0754,2,  35.0803,2,   -999.0,5,   -999.0,9,  -999.00,9,  -999.00,9,  -999.00,9,    124,-999.000,  -999.0, 21.9919
     33KA015_1,  PRS2,     2,  2,      2,      2,2,19900318,1302, 22.7333,-158.0583, 4750,    148.5,  19.8465,  35.0066,2,  35.0053,2,   -999.0,5,   -999.0,9,  -999.00,9,  -999.00,9,  -999.00,9,    151,-999.000,  -999.0, 19.8193
     33KA015_1,  PRS2,     2,  2,      1,      1,2,19900318,1302, 22.7333,-158.0583, 4750,    174.3,  18.3075,  34.9009,2,-999.0000,5,   -999.0,5,   -999.0,9,  -999.00,9,  -999.00,9,  -999.00,9,    176,-999.000,  -999.0, 18.2772
     33KA015_1,  PRS2,     2,  3,     22,     22,2,19900318,1809, 22.7133,-158.0000, 4750,    797.3,   4.6606,  34.3969,2,  34.3946,2,   -999.0,5,     27.9,2,    99.10,2,    42.06,2,     3.02,2,    796,-999.000,  -999.0,  4.5976
     33KA015_1,  PRS2,     2,  3,     21,     21,4,19900318,1809, 22.7133,-158.0000, 4750,    898.5,   4.3430,  34.4555,2,-999.0000,5,   -999.0,5,   -999.0,5,  -999.00,5,  -999.00,5,  -999.00,5,    897,-999.000,  -999.0,  4.2734
     33KA015_1,  PRS2,     2,  3,     20,     20,2,19900318,1809, 22.7133,-158.0000, 4750,    999.1,   4.0045,  34.4914,2,  34.4883,2,   -999.0,5,     41.8,2,   112.59,2,    42.19,2,     3.02,2,   1000,-999.000,  -999.0,  3.9289
     33KA015_1,  PRS2,     2,  3,     19,     19,2,19900318,1809, 22.7133,-158.0000, 4750,   1099.0,   3.7569,  34.5168,2,  34.5128,2,   -999.0,5,     47.8,2,   116.74,2,    41.94,2,     2.98,2,   1099,-999.000,  -999.0,  3.6750
     33KA015_1,  PRS2,     2,  3,     18,     18,2,19900318,1809, 22.7133,-158.0000, 4750,   1255.0,   3.3798,  34.5431,2,  34.5398,2,   -999.0,5,     52.8,2,   125.67,2,    41.82,2,     2.98,2,   1254,-999.000,  -999.0,  3.2883
     33KA015_1,  PRS2,     2,  3,     17,     17,2,19900318,1809, 22.7133,-158.0000, 4750,   1407.8,   3.0363,  34.5647,2,  34.5619,2,   -999.0,5,     63.7,2,   132.31,2,    41.34,2,     2.93,2,   1408,-999.000,  -999.0,  2.9358
     33KA015_1,  PRS2,     2,  3,     16,     16,2,19900318,1809, 22.7133,-158.0000, 4750,   1554.3,   2.7735,  34.5829,2,  34.5799,2,   -999.0,5,     68.6,2,   137.08,2,    41.11,2,     2.91,2,   1553,-999.000,  -999.0,  2.6638
     33KA015_1,  PRS2,     2,  3,     15,     15,2,19900318,1809, 22.7133,-158.0000, 4750,   1690.7,   2.5638,  34.5958,2,  34.5935,2,   -999.0,5,     75.2,2,   141.23,2,    40.86,2,     2.88,2,   1691,-999.000,  -999.0,  2.4454
     33KA015_1,  PRS2,     2,  3,     14,     14,2,19900318,1809, 22.7133,-158.0000, 4750,   1845.3,   2.3454,  34.6079,2,  34.6053,2,   -999.0,5,     80.9,2,   146.84,2,    40.50,2,     2.84,2,   1847,-999.000,  -999.0,  2.2170
     33KA015_1,  PRS2,     2,  3,     13,     13,2,19900318,1809, 22.7133,-158.0000, 4750,   1999.2,   2.1627,  34.6211,2,  34.6191,2,   -999.0,5,     88.1,2,   149.53,2,    40.02,2,     2.81,2,   1998,-999.000,  -999.0,  2.0239
     33KA015_1,  PRS2,     2,  3,     12,     12,2,19900318,1809, 22.7133,-158.0000, 4750,   2201.5,   1.9572,  34.6360,2,  34.6351,2,   -999.0,5,     97.9,2,   153.68,2,    39.43,2,     2.75,2,   2203,-999.000,  -999.0,  1.8043
     33KA015_1,  PRS2,     2,  3,     11,     11,2,19900318,1809, 22.7133,-158.0000, 4750,   2401.9,   1.8172,  34.6471,2,  34.6442,2,   -999.0,5,    104.6,2,   159.08,2,    39.19,2,     2.73,2,   2401,-999.000,  -999.0,  1.6491
     33KA015_1,  PRS2,     2,  3,     10,     10,2,19900318,1809, 22.7133,-158.0000, 4750,   2603.5,   1.6911,  34.6579,2,  34.6556,2,   -999.0,5,    112.8,2,   157.83,2,    38.60,2,     2.70,2,   2603,-999.000,  -999.0,  1.5073
     33KA015_1,  PRS2,     2,  3,      9,      9,2,19900318,1809, 22.7133,-158.0000, 4750,   2804.6,   1.6247,  34.6650,2,  34.6620,2,   -999.0,5,    119.3,2,   158.25,2,    38.12,2,     2.65,2,   2806,-999.000,  -999.0,  1.4236
     33KA015_1,  PRS2,     2,  3,      8,      8,2,19900318,1809, 22.7133,-158.0000, 4750,   3004.1,   1.5669,  34.6708,2,  34.6687,2,   -999.0,5,    124.3,2,   157.21,2,    37.76,2,     2.63,2,   3007,-999.000,  -999.0,  1.3483
     33KA015_1,  PRS2,     2,  3,      7,      7,2,19900318,1809, 22.7133,-158.0000, 4750,   3205.0,   1.5278,  34.6761,2,  34.6738,2,   -999.0,5,    128.8,2,   153.68,2,    37.16,2,     2.57,2,   3206,-999.000,  -999.0,  1.2905
     33KA015_1,  PRS2,     2,  3,      6,      6,2,19900318,1809, 22.7133,-158.0000, 4750,   3405.7,   1.4913,  34.6811,2,  34.6785,2,   -999.0,5,    135.7,2,   154.71,2,    36.80,2,     2.55,2,   3405,-999.000,  -999.0,  1.2349
     33KA015_1,  PRS2,     2,  3,      5,      5,2,19900318,1809, 22.7133,-158.0000, 4750,   3606.8,   1.4673,  34.6844,2,  34.6825,2,   -999.0,5,    141.1,2,   152.02,2,    36.33,2,     2.50,2,   3605,-999.000,  -999.0,  1.1910
     33KA015_1,  PRS2,     2,  3,      4,      4,2,19900318,1809, 22.7133,-158.0000, 4750,   3800.4,   1.4563,  34.6871,2,  34.6843,2,   -999.0,5,    145.4,2,   150.98,2,    36.33,2,     2.50,2,   3800,-999.000,  -999.0,  1.1601
     33KA015_1,  PRS2,     2,  3,      3,      3,2,19900318,1809, 22.7133,-158.0000, 4750,   4000.6,   1.4579,  34.6891,2,  34.6862,2,   -999.0,5,    148.5,2,   150.56,2,    36.20,2,     2.49,2,   4002,-999.000,  -999.0,  1.1401
     33KA015_1,  PRS2,     2,  3,      2,      2,2,19900318,1809, 22.7133,-158.0000, 4750,   4204.3,   1.4649,  34.6905,2,  34.6879,2,   -999.0,5,    150.4,2,   148.49,2,    35.85,2,     2.48,2,   4205,-999.000,  -999.0,  1.1245
     33KA015_1,  PRS2,     2,  3,      1,      1,2,19900318,1809, 22.7133,-158.0000, 4750,   4396.1,   1.4798,  34.6912,2,  34.6884,2,   -999.0,5,    151.0,2,   149.94,2,    35.72,2,     2.48,2,   4396,   1.481,  4422.6,  1.1173