BOTTLE,20020809WHPSIObren
EXPOCODE,SECT_ID,STNNBR,CASTNO,SAMPNO,BTLNBR,BTLNBR_FLAG_W,DATE,TIME,LATITUDE,LONGITUDE,DEPTH,CTDPRS,CTDTMP,CTDSAL,CTDSAL_FLAG_W,SALNTY,SALNTY_FLAG_W,CTDOXY,CTDOXY_FLAG_W,OXYGEN,OXYGEN_FLAG_W,SILCAT,SILCAT_FLAG_W,NO2+NO3,NO2+NO3_FLAG_W,PHSPHT,PHSPHT_FLAG_W,CTDRAW,REVTMP,REVPRS,THETA
,,,,,,,,,,,,DBAR,ITS-90,PSS-78,,PSS-78,,UMOL/KG,,UMOL/KG,,UMOL/KG,,UMOL/KG,,UMOL/KG,,,DEG C,DBAR,ITS-90
     33KA015_1,  PRS2,     2, 14,      8,      8,2,19900320,1238, 22.7350,-158.0217, 4750,      6.0,  23.3038,  34.8380,2,  34.8350,2,   -999.0,5,   -999.0,9,  -999.00,9,  -999.00,9,  -999.00,9,      6,-999.000,  -999.0, 23.3026
     33KA015_1,  PRS2,     2, 14,      7,      7,2,19900320,1238, 22.7350,-158.0217, 4750,     25.8,  23.2495,  34.8365,2,  34.8333,2,   -999.0,5,   -999.0,9,  -999.00,9,  -999.00,9,  -999.00,9,     26,-999.000,  -999.0, 23.2442
     33KA015_1,  PRS2,     2, 14,      6,      6,2,19900320,1238, 22.7350,-158.0217, 4750,     45.7,  23.1503,  34.8376,2,  34.8337,2,   -999.0,5,   -999.0,9,  -999.00,9,  -999.00,9,  -999.00,9,     45,-999.000,  -999.0, 23.1409
     33KA015_1,  PRS2,     2, 14,      5,      5,2,19900320,1238, 22.7350,-158.0217, 4750,     75.1,  23.1191,  34.8540,2,  34.8506,2,   -999.0,5,   -999.0,9,  -999.00,9,  -999.00,9,  -999.00,9,     75,-999.000,  -999.0, 23.1037
     33KA015_1,  PRS2,     2, 14,      4,      4,2,19900320,1238, 22.7350,-158.0217, 4750,     99.3,  23.0180,  34.8817,2,  34.8797,2,   -999.0,5,   -999.0,9,  -999.00,9,  -999.00,9,  -999.00,9,     98,-999.000,  -999.0, 22.9978
     33KA015_1,  PRS2,     2, 14,      3,      3,2,19900320,1238, 22.7350,-158.0217, 4750,    124.0,  22.2206,  35.1099,2,  35.0999,2,   -999.0,5,   -999.0,9,  -999.00,9,  -999.00,9,  -999.00,9,    124,-999.000,  -999.0, 22.1958
     33KA015_1,  PRS2,     2, 14,      2,      2,2,19900320,1238, 22.7350,-158.0217, 4750,    149.6,  20.9655,  35.1065,2,  35.1019,2,   -999.0,5,   -999.0,9,  -999.00,9,  -999.00,9,  -999.00,9,    148,-999.000,  -999.0, 20.9369
     33KA015_1,  PRS2,     2, 14,      1,      1,2,19900320,1238, 22.7350,-158.0217, 4750,    175.2,  19.1755,  34.9392,2,  34.9340,2,   -999.0,5,   -999.0,9,  -999.00,9,  -999.00,9,  -999.00,9,    174,-999.000,  -999.0, 19.1441
     33KA015_1,  PRS2,     2, 15,     18,     18,2,19900320,1445, 22.7433,-158.0383, 4750,      6.3,  23.2977,  34.8374,2,-999.0000,5,   -999.0,5,   -999.0,9,  -999.00,9,  -999.00,9,  -999.00,9,      6,-999.000,  -999.0, 23.2964
     33KA015_1,  PRS2,     2, 15,     17,     17,2,19900320,1445, 22.7433,-158.0383, 4750,      6.3,  23.2955,  34.8375,2,  34.8339,2,   -999.0,5,   -999.0,9,  -999.00,9,  -999.00,9,  -999.00,9,      7,-999.000,  -999.0, 23.2942
     33KA015_1,  PRS2,     2, 15,     16,     16,2,19900320,1445, 22.7433,-158.0383, 4750,     26.1,  23.2701,  34.8380,2,  34.8333,2,   -999.0,5,   -999.0,9,  -999.00,9,  -999.00,9,  -999.00,9,     26,-999.000,  -999.0, 23.2648
     33KA015_1,  PRS2,     2, 15,     15,     15,2,19900320,1445, 22.7433,-158.0383, 4750,     45.0,  23.1772,  34.8392,2,  34.8368,2,   -999.0,5,   -999.0,9,  -999.00,9,  -999.00,9,  -999.00,9,     46,-999.000,  -999.0, 23.1680
     33KA015_1,  PRS2,     2, 15,     14,     14,2,19900320,1445, 22.7433,-158.0383, 4750,     74.7,  23.0490,  34.8490,2,  34.8466,2,   -999.0,5,   -999.0,9,  -999.00,9,  -999.00,9,  -999.00,9,     74,-999.000,  -999.0, 23.0338
     33KA015_1,  PRS2,     2, 15,     13,     13,2,19900320,1445, 22.7433,-158.0383, 4750,     99.9,  22.9192,  34.9931,2,  34.9863,2,   -999.0,5,   -999.0,9,  -999.00,9,  -999.00,9,  -999.00,9,     99,-999.000,  -999.0, 22.8989
     33KA015_1,  PRS2,     2, 15,     12,     12,2,19900320,1445, 22.7433,-158.0383, 4750,    124.3,  22.2194,  35.1281,2,  35.1251,2,   -999.0,5,   -999.0,9,  -999.00,9,  -999.00,9,  -999.00,9,    124,-999.000,  -999.0, 22.1946
     33KA015_1,  PRS2,     2, 15,     11,     11,2,19900320,1445, 22.7433,-158.0383, 4750,    124.3,  22.2194,  35.1281,2,  35.1253,2,   -999.0,5,   -999.0,9,  -999.00,9,  -999.00,9,  -999.00,9,    124,-999.000,  -999.0, 22.1946
     33KA015_1,  PRS2,     2, 15,     10,     10,2,19900320,1445, 22.7433,-158.0383, 4750,    173.3,  19.3934,  34.9933,2,  34.9893,2,   -999.0,5,   -999.0,9,  -999.00,9,  -999.00,9,  -999.00,9,    174,-999.000,  -999.0, 19.3620
     33KA015_1,  PRS2,     2, 16,     12,     12,2,19900320,2022, 22.7600,-158.0983, 4750,      6.5,  23.2147,  34.8378,2,-999.0000,9,   -999.0,5,   -999.0,9,  -999.00,9,  -999.00,9,  -999.00,9,      6,-999.000,  -999.0, 23.2134
     33KA015_1,  PRS2,     2, 16,     11,     11,2,19900320,2022, 22.7600,-158.0983, 4750,     26.5,  23.1898,  34.8367,2,-999.0000,9,   -999.0,5,   -999.0,9,  -999.00,9,  -999.00,9,  -999.00,9,     26,-999.000,  -999.0, 23.1844
     33KA015_1,  PRS2,     2, 16,     10,     10,2,19900320,2022, 22.7600,-158.0983, 4750,     47.2,  23.0373,  34.8371,2,-999.0000,9,   -999.0,5,   -999.0,9,  -999.00,9,  -999.00,9,  -999.00,9,     47,-999.000,  -999.0, 23.0277
     33KA015_1,  PRS2,     2, 16,      9,      9,4,19900320,2022, 22.7600,-158.0983, 4750,     77.9,  23.0218,  34.8883,2,-999.0000,9,   -999.0,5,   -999.0,9,  -999.00,9,  -999.00,9,  -999.00,9,     77,-999.000,  -999.0, 23.0059
     33KA015_1,  PRS2,     2, 16,      8,      8,2,19900320,2022, 22.7600,-158.0983, 4750,    102.8,  22.5338,  35.0666,2,-999.0000,9,   -999.0,5,   -999.0,9,  -999.00,9,  -999.00,9,  -999.00,9,    101,-999.000,  -999.0, 22.5132
     33KA015_1,  PRS2,     2, 16,      7,      7,4,19900320,2022, 22.7600,-158.0983, 4750,    129.7,  21.5348,  35.0969,2,-999.0000,9,   -999.0,5,   -999.0,9,  -999.00,9,  -999.00,9,  -999.00,9,    127,-999.000,  -999.0, 21.5095
     33KA015_1,  PRS2,     2, 16,      6,      6,2,19900320,2022, 22.7600,-158.0983, 4750,    156.4,  20.2605,  35.0458,2,-999.0000,9,   -999.0,5,   -999.0,9,  -999.00,9,  -999.00,9,  -999.00,9,    153,-999.000,  -999.0, 20.2313
     33KA015_1,  PRS2,     2, 16,      5,      5,2,19900320,2022, 22.7600,-158.0983, 4750,    182.6,  19.0935,  35.0051,2,-999.0000,9,   -999.0,5,   -999.0,9,  -999.00,9,  -999.00,9,  -999.00,9,    177,-999.000,  -999.0, 19.0609
     33KA015_1,  PRS2,     2, 16,      4,      4,2,19900320,2022, 22.7600,-158.0983, 4750,    257.9,  13.3847,  34.2995,2,-999.0000,9,   -999.0,5,   -999.0,9,  -999.00,9,  -999.00,9,  -999.00,9,    251,-999.000,  -999.0, 13.3487
     33KA015_1,  PRS2,     2, 16,      3,      3,2,19900320,2022, 22.7600,-158.0983, 4750,    512.3,   6.8981,  34.1147,2,-999.0000,9,   -999.0,5,   -999.0,9,  -999.00,9,  -999.00,9,  -999.00,9,    503,-999.000,  -999.0,  6.8501
     33KA015_1,  PRS2,     2, 16,      2,      2,2,19900320,2022, 22.7600,-158.0983, 4750,    756.6,   4.6985,  34.3621,2,-999.0000,9,   -999.0,5,   -999.0,9,  -999.00,9,  -999.00,9,  -999.00,9,    747,-999.000,  -999.0,  4.6387
     33KA015_1,  PRS2,     2, 16,      1,      1,2,19900320,2022, 22.7600,-158.0983, 4750,   1009.5,   3.9922,  34.4983,2,-999.0000,9,   -999.0,5,   -999.0,9,  -999.00,9,  -999.00,9,  -999.00,9,   1001,-999.000,  -999.0,  3.9159
     33KA015_1,  PRS2,     2, 17,      4,      4,2,19900320,2317, 22.7700,-158.1350, 4700,      9.7,  23.1968,  34.8438,2,-999.0000,5,   -999.0,5,   -999.0,9,  -999.00,9,  -999.00,9,  -999.00,9,     10,-999.000,  -999.0, 23.1948
     33KA015_1,  PRS2,     2, 17,      3,      3,2,19900320,2317, 22.7700,-158.1350, 4700,     74.4,  23.0505,  34.8456,2,  34.8471,2,   -999.0,5,   -999.0,9,  -999.00,9,  -999.00,9,  -999.00,9,     74,-999.000,  -999.0, 23.0354
     33KA015_1,  PRS2,     2, 17,      2,      2,2,19900320,2317, 22.7700,-158.1350, 4700,    126.4,  22.7140,  35.0558,2,  35.0604,2,   -999.0,5,   -999.0,9,  -999.00,9,  -999.00,9,  -999.00,9,    125,-999.000,  -999.0, 22.6884
     33KA015_1,  PRS2,     2, 17,      1,      1,2,19900320,2317, 22.7700,-158.1350, 4700,    249.4,  14.5310,  34.4238,2,  34.4733,3,   -999.0,5,   -999.0,9,  -999.00,9,  -999.00,9,  -999.00,9,    250,-999.000,  -999.0, 14.4942
     33KA015_1,  PRS2,     2, 18,     14,     14,2,19900321,0209, 22.7867,-158.1533, 4700,      4.7,  23.2932,  34.8426,2,-999.0000,5,   -999.0,5,   -999.0,9,  -999.00,9,  -999.00,9,  -999.00,9,      5,-999.000,  -999.0, 23.2922
     33KA015_1,  PRS2,     2, 18,     13,     13,2,19900321,0209, 22.7867,-158.1533, 4700,      9.6,  23.2921,  34.8422,2,  34.8432,2,   -999.0,5,   -999.0,9,  -999.00,9,  -999.00,9,  -999.00,9,      9,-999.000,  -999.0, 23.2902
     33KA015_1,  PRS2,     2, 18,     12,     12,2,19900321,0209, 22.7867,-158.1533, 4700,     24.6,  23.2513,  34.8382,2,  34.8388,2,   -999.0,5,   -999.0,9,  -999.00,9,  -999.00,9,  -999.00,9,     24,-999.000,  -999.0, 23.2463
     33KA015_1,  PRS2,     2, 18,     11,     11,2,19900321,0209, 22.7867,-158.1533, 4700,     44.2,  23.0927,  34.8262,2,  34.8252,2,   -999.0,5,   -999.0,9,  -999.00,9,  -999.00,9,  -999.00,9,     43,-999.000,  -999.0, 23.0836
     33KA015_1,  PRS2,     2, 18,     10,     10,2,19900321,0209, 22.7867,-158.1533, 4700,     73.7,  23.0007,  34.9188,2,  34.9177,2,   -999.0,5,   -999.0,9,  -999.00,9,  -999.00,9,  -999.00,9,     74,-999.000,  -999.0, 22.9857
     33KA015_1,  PRS2,     2, 18,      9,      9,2,19900321,0209, 22.7867,-158.1533, 4700,    104.3,  22.4441,  35.0489,2,  35.0468,2,   -999.0,5,   -999.0,9,  -999.00,9,  -999.00,9,  -999.00,9,    103,-999.000,  -999.0, 22.4231
     33KA015_1,  PRS2,     2, 18,      8,      8,2,19900321,0209, 22.7867,-158.1533, 4700,    128.9,  20.8958,  35.0525,2,  35.0545,2,   -999.0,5,   -999.0,9,  -999.00,9,  -999.00,9,  -999.00,9,    126,-999.000,  -999.0, 20.8712
     33KA015_1,  PRS2,     2, 18,      7,      7,2,19900321,0209, 22.7867,-158.1533, 4700,    152.2,  19.6957,  35.0107,2,  35.0107,2,   -999.0,5,   -999.0,9,  -999.00,9,  -999.00,9,  -999.00,9,    150,-999.000,  -999.0, 19.6679
     33KA015_1,  PRS2,     2, 18,      6,      6,2,19900321,0209, 22.7867,-158.1533, 4700,    176.0,  18.7703,  34.9693,2,  34.9756,2,   -999.0,5,   -999.0,9,  -999.00,9,  -999.00,9,  -999.00,9,    172,-999.000,  -999.0, 18.7392
     33KA015_1,  PRS2,     2, 18,      4,      4,2,19900321,0209, 22.7867,-158.1533, 4700,    256.9,  13.5389,  34.3132,2,-999.0000,5,   -999.0,5,   -999.0,9,  -999.00,9,  -999.00,9,  -999.00,9,    251,-999.000,  -999.0, 13.5027
     33KA015_1,  PRS2,     2, 18,      5,      5,2,19900321,0209, 22.7867,-158.1533, 4700,    257.3,  13.5288,  34.3116,2,  34.3132,2,   -999.0,5,   -999.0,9,  -999.00,9,  -999.00,9,  -999.00,9,    250,-999.000,  -999.0, 13.4927
     33KA015_1,  PRS2,     2, 18,      3,      3,2,19900321,0209, 22.7867,-158.1533, 4700,    508.1,   6.6509,  34.1103,2,-999.0000,5,   -999.0,5,   -999.0,9,  -999.00,9,  -999.00,9,  -999.00,9,    500,-999.000,  -999.0,  6.6043
     33KA015_1,  PRS2,     2, 18,      2,      2,2,19900321,0209, 22.7867,-158.1533, 4700,    758.1,   4.7139,  34.3505,2,  34.3488,2,   -999.0,5,   -999.0,9,  -999.00,9,  -999.00,9,  -999.00,9,    749,-999.000,  -999.0,  4.6540
     33KA015_1,  PRS2,     2, 18,      1,      1,2,19900321,0209, 22.7867,-158.1533, 4700,   1018.5,   4.0655,  34.4971,2,  34.4961,2,   -999.0,5,   -999.0,9,  -999.00,9,  -999.00,9,  -999.00,9,   1008,-999.000,  -999.0,  3.9878