BOTTLE,20010813WHPSIOKJU
EXPOCODE,SECT_ID,STNNBR,CASTNO,SAMPNO,BTLNBR,BTLNBR_FLAG_W,DATE,TIME,LATITUDE,LONGITUDE,DEPTH,CTDPRS,CTDTMP,CTDSAL,CTDSAL_FLAG_W,SALNTY,SALNTY_FLAG_W,OXYGEN,OXYGEN_FLAG_W,SILCAT,SILCAT_FLAG_W,NITRAT,NITRAT_FLAG_W,NITRIT,NITRIT_FLAG_W,PHSPHT,PHSPHT_FLAG_W,CFC-11,CFC-11_FLAG_W,CFC-12,CFC-12_FLAG_W
,,,,,,,,,,,,DBAR,IPTS-68,PSS-78,,PSS-78,,UMOL/KG,,UMOL/KG,,UMOL/KG,,UMOL/KG,,UMOL/KG,,PMOL/KG,,PMOL/KG,
     21OR287_1,  PR20,    14,  1,     12,      0,1,19910627,1509, 21.7650, 122.9985, 4509,      0.0,  29.1710,  34.6510,2,  34.7350,2,    215.3,3,     0.90,2,     0.00,2,     0.06,2,     0.03,2, -999.000,9, -999.000,9
     21OR287_1,  PR20,    14,  1,     11,     6A,2,19910627,1509, 21.7650, 122.9985, 4509,     50.0,  27.4450,  34.6040,2,  34.6058,2,    297.9,3,     0.90,2,     0.00,2,     0.00,2,     0.04,2, -999.000,9, -999.000,9
     21OR287_1,  PR20,    14,  1,     10,      3,2,19910627,1509, 21.7650, 122.9985, 4509,    149.0,  22.1550,  34.9800,2,  34.9600,2,    258.1,3,     1.70,2,     0.92,2,     0.06,2,     0.09,2, -999.000,9, -999.000,9
     21OR287_1,  PR20,    14,  1,      9,    11A,2,19910627,1509, 21.7650, 122.9985, 4509,    350.0,  16.1800,  34.7230,2,  34.6802,2,    282.4,3,     7.70,2,     7.96,2,     0.01,2,     0.54,2, -999.000,9, -999.000,9
     21OR287_1,  PR20,    14,  1,      8,     10,2,19910627,1509, 21.7650, 122.9985, 4509,    549.0,   9.6910,  34.2470,2,  34.2101,2,    207.0,3,    37.00,2,    23.56,2,     0.02,2,     1.64,2, -999.000,9, -999.000,9
     21OR287_1,  PR20,    14,  1,      7,      6,2,19910627,1509, 21.7650, 122.9985, 4509,    699.0,   6.4830,  34.1940,2,  34.1843,2,    127.8,3,    66.20,2,    33.66,2,     0.00,2,     2.41,2, -999.000,9, -999.000,9
     21OR287_1,  PR20,    14,  1,      6,      8,2,19910627,1509, 21.7650, 122.9985, 4509,    748.0,   5.8490,  34.2020,2,  34.2038,2,    123.4,3,    75.70,2,    36.10,2,     0.00,2,     2.61,2, -999.000,9, -999.000,9
     21OR287_1,  PR20,    14,  1,      5,     2A,2,19910627,1509, 21.7650, 122.9985, 4509,    899.0,   4.6570,  34.2760,2,  34.2671,2,     77.8,3,    97.20,2,    39.76,2,     0.01,2,     2.80,2, -999.000,9, -999.000,9
     21OR287_1,  PR20,    14,  1,      4,      1,2,19910627,1509, 21.7650, 122.9985, 4509,   1097.0,   3.6270,  34.4170,2,  34.4296,2,     91.9,3,   119.50,2,    41.59,2,     0.02,2,     2.97,2, -999.000,9, -999.000,9
     21OR287_1,  PR20,    14,  1,      3,     12,2,19910627,1509, 21.7650, 122.9985, 4509,   1297.0,   3.0340,  34.5110,2,  34.5170,2,    127.8,3,   127.30,2,    40.66,2,     0.00,2,     2.88,2, -999.000,9, -999.000,9
     21OR287_1,  PR20,    14,  1,      2,      7,2,19910627,1509, 21.7650, 122.9985, 4509,   1497.0,   2.7570,  34.5590,2,  34.5554,2,    149.2,3,   139.30,2,    39.43,2,     0.01,2,     2.80,2, -999.000,9, -999.000,9
     21OR287_1,  PR20,    14,  1,      1,     11,2,19910627,1509, 21.7650, 122.9985, 4509,   1699.0,   2.4270,  34.5960,2,  34.6022,2,    154.1,3,   142.80,2,    39.43,2,     0.01,2,     2.78,2, -999.000,9, -999.000,9
     21OR287_1,  PR20,    17,  1,     11,      7,2,19910628,0022, 21.7517, 123.9950, 5558,    899.0,   4.4140,  34.2980,2,-999.0000,9,   -999.0,9,   104.90,2,    39.83,2,     0.00,2,     2.88,2, -999.000,9, -999.000,9
     21OR287_1,  PR20,    17,  1,     10,      9,2,19910628,0022, 21.7517, 123.9950, 5558,    900.0,   4.4110,  34.2980,2,-999.0000,9,   -999.0,9,   107.50,2,    40.24,2,     0.00,2,     2.91,2, -999.000,9, -999.000,9
     21OR287_1,  PR20,    17,  1,      8,      2,2,19910628,0022, 21.7517, 123.9950, 5558,   1003.0,   3.8630,  34.4080,2,-999.0000,9,   -999.0,9,   117.00,2,    40.75,2,     0.00,2,     2.95,2, -999.000,9, -999.000,9
     21OR287_1,  PR20,    17,  1,      6,     10,2,19910628,0022, 21.7517, 123.9950, 5558,   1103.0,   3.4150,  34.4430,2,-999.0000,9,   -999.0,9,   122.10,2,    41.27,2,     0.00,2,     2.96,2, -999.000,9, -999.000,9
     21OR287_1,  PR20,    17,  1,      7,      8,2,19910628,0022, 21.7517, 123.9950, 5558,   1106.0,   3.4080,  34.4440,2,-999.0000,9,   -999.0,9,   126.40,2,    41.16,2,     0.00,2,     2.94,2, -999.000,9, -999.000,9
     21OR287_1,  PR20,    17,  1,      3,     13,2,19910628,0022, 21.7517, 123.9950, 5558,   1495.0,   2.6290,  34.5620,2,-999.0000,9,   -999.0,9,   135.90,2,    39.39,2,     0.00,2,     2.81,2, -999.000,9, -999.000,9
     21OR287_1,  PR20,    17,  1,      2,      6,2,19910628,0022, 21.7517, 123.9950, 5558,   1496.0,   2.6280,  34.5620,2,-999.0000,9,   -999.0,9,   135.00,2,    39.49,2,     0.00,2,     2.81,2, -999.000,9, -999.000,9
     21OR287_1,  PR20,    17,  1,      1,     11,2,19910628,0022, 21.7517, 123.9950, 5558,   1497.0,   2.6240,  34.5620,2,-999.0000,9,   -999.0,9,   136.70,2,    39.60,2,     0.00,2,     2.80,2, -999.000,9, -999.000,9
     21OR287_1,  PR20,    17,  2,     11,      9,2,19910628,0152, 21.7517, 123.9883, 5558,    401.0,  14.1840,  34.5690,2,-999.0000,9,   -999.0,9,  -999.00,1,    12.18,2,     0.00,2,     0.88,2, -999.000,9, -999.000,9
     21OR287_1,  PR20,    17,  2,     10,      5,2,19910628,0152, 21.7517, 123.9883, 5558,    499.0,  10.8190,  34.3220,2,-999.0000,9,   -999.0,9,    24.90,2,    15.87,2,     0.00,2,     1.33,2, -999.000,9, -999.000,9
     21OR287_1,  PR20,    17,  2,      8,      2,2,19910628,0152, 21.7517, 123.9883, 5558,    499.0,  10.8190,  34.3220,2,-999.0000,9,   -999.0,9,    43.90,2,    18.98,2,     0.00,2,     1.37,2, -999.000,9, -999.000,9
     21OR287_1,  PR20,    17,  2,      7,      8,2,19910628,0152, 21.7517, 123.9883, 5558,    600.0,   8.1170,  34.1740,2,-999.0000,9,   -999.0,9,    43.90,2,    24.64,2,     0.00,2,     1.87,2, -999.000,9, -999.000,9
     21OR287_1,  PR20,    17,  2,      6,     10,2,19910628,0152, 21.7517, 123.9883, 5558,    600.0,   8.1170,  34.1740,2,-999.0000,9,   -999.0,9,    73.10,2,    25.78,2,     0.01,2,     1.89,2, -999.000,9, -999.000,9
     21OR287_1,  PR20,    17,  2,      3,     12,2,19910628,0152, 21.7517, 123.9883, 5558,    701.0,   6.0160,  34.1560,2,-999.0000,9,   -999.0,9,    88.60,2,  -999.00,1,     0.00,2,     2.46,2, -999.000,9, -999.000,9
     21OR287_1,  PR20,    17,  2,      2,      6,2,19910628,0152, 21.7517, 123.9883, 5558,    801.0,   5.1230,  34.2080,2,-999.0000,9,   -999.0,9,    86.90,2,    36.53,2,     0.00,2,     2.74,2, -999.000,9, -999.000,9
     21OR287_1,  PR20,    17,  2,      1,     11,2,19910628,0152, 21.7517, 123.9883, 5558,    804.0,   5.0930,  34.2150,2,-999.0000,9,   -999.0,9,    87.70,2,    37.09,2,     0.00,2,     2.72,2, -999.000,9, -999.000,9
     21OR287_1,  PR20,    17,  3,     12,      0,1,19910628,0250, 21.7533, 123.9833, 5558,      0.0,  29.3780,  34.7270,2,-999.0000,9,   -999.0,9,     0.90,2,     0.00,2,     0.01,2,     0.00,2, -999.000,9, -999.000,9
     21OR287_1,  PR20,    17,  3,     11,      7,2,19910628,0250, 21.7533, 123.9833, 5558,     11.0,  29.3580,  34.7270,2,-999.0000,9,   -999.0,9,     1.70,2,     0.00,2,     0.01,2,     0.02,2, -999.000,9, -999.000,9
     21OR287_1,  PR20,    17,  3,     10,      9,2,19910628,0250, 21.7533, 123.9833, 5558,     11.0,  29.3580,  34.7270,2,-999.0000,9,   -999.0,9,     1.70,2,     0.00,2,     0.00,2,     0.02,2, -999.000,9, -999.000,9
     21OR287_1,  PR20,    17,  3,      8,      2,2,19910628,0250, 21.7533, 123.9833, 5558,     52.0,  29.2810,  34.7220,2,-999.0000,9,   -999.0,9,     1.70,2,     0.00,2,     0.00,2,     0.01,2, -999.000,9, -999.000,9
     21OR287_1,  PR20,    17,  3,      9,      5,2,19910628,0250, 21.7533, 123.9833, 5558,     53.0,  29.2800,  34.7220,2,-999.0000,9,   -999.0,9,     1.70,2,     0.00,2,     0.01,2,     0.02,2, -999.000,9, -999.000,9
     21OR287_1,  PR20,    17,  3,      6,     10,2,19910628,0250, 21.7533, 123.9833, 5558,    102.0,  25.6190,  34.7150,2,-999.0000,9,   -999.0,9,     0.90,2,     0.00,2,     0.02,2,     0.03,2, -999.000,9, -999.000,9
     21OR287_1,  PR20,    17,  3,      7,      8,2,19910628,0250, 21.7533, 123.9833, 5558,    103.0,  25.5980,  34.7160,2,-999.0000,9,   -999.0,9,     1.70,2,     0.00,2,     0.01,2,     0.04,2, -999.000,9, -999.000,9
     21OR287_1,  PR20,    17,  3,      5,     12,2,19910628,0250, 21.7533, 123.9833, 5558,    202.0,  21.0670,  34.9630,2,-999.0000,9,   -999.0,9,     2.60,2,     0.00,2,     0.02,2,     0.20,2, -999.000,9, -999.000,9
     21OR287_1,  PR20,    17,  3,      4,      1,2,19910628,0250, 21.7533, 123.9833, 5558,    202.0,  21.0670,  34.9630,2,-999.0000,9,   -999.0,9,     2.60,2,     0.00,2,     0.03,2,     0.21,2, -999.000,9, -999.000,9
     21OR287_1,  PR20,    17,  3,      3,     13,2,19910628,0250, 21.7533, 123.9833, 5558,    301.0,  17.6420,  34.8220,2,-999.0000,9,   -999.0,9,  -999.00,1,     5.64,2,     0.01,2,     0.37,2, -999.000,9, -999.000,9
     21OR287_1,  PR20,    17,  3,      2,      6,2,19910628,0250, 21.7533, 123.9833, 5558,    301.0,  17.6420,  34.8220,2,-999.0000,9,   -999.0,9,     5.20,2,     4.51,2,     0.01,2,     0.36,2, -999.000,9, -999.000,9
     21OR287_1,  PR20,    17,  3,      1,     11,2,19910628,0250, 21.7533, 123.9833, 5558,    302.0,  17.6070,  34.8210,2,-999.0000,9,   -999.0,9,     4.30,2,     3.67,2,     0.01,2,     0.36,2, -999.000,9, -999.000,9
     21OR287_1,  PR20,    18,  1,     12,      0,1,19910628,0600, 21.7517, 124.5050, 5806,      0.0,  29.8020,  34.7650,2,-999.0000,9,    247.4,3,     1.00,2,     0.00,2,     0.02,2,     0.01,2, -999.000,9, -999.000,9
     21OR287_1,  PR20,    18,  1,     11,     11,2,19910628,0600, 21.7517, 124.5050, 5806,     48.0,  29.3540,  34.7380,2,-999.0000,9,    268.8,3,     1.00,2,     0.00,2,     0.00,2,     0.02,2, -999.000,9, -999.000,9
     21OR287_1,  PR20,    18,  1,     10,      6,2,19910628,0600, 21.7517, 124.5050, 5806,    151.0,  23.9930,  34.8840,2,-999.0000,9,    235.7,3,     1.90,2,     0.00,2,     0.09,2,     0.04,2, -999.000,9, -999.000,9
     21OR287_1,  PR20,    18,  1,      9,      7,2,19910628,0600, 21.7517, 124.5050, 5806,    351.0,  15.5330,  34.6740,2,-999.0000,9,    221.1,3,     8.50,2,     8.15,2,     0.02,2,     0.57,2, -999.000,9, -999.000,9
     21OR287_1,  PR20,    18,  1,      8,      8,2,19910628,0600, 21.7517, 124.5050, 5806,    550.0,   9.4260,  34.2430,2,-999.0000,9,    184.7,3,    35.20,2,    22.50,2,     0.00,2,     1.64,2, -999.000,9, -999.000,9
     21OR287_1,  PR20,    18,  1,      7,     10,2,19910628,0600, 21.7517, 124.5050, 5806,    699.0,   6.2870,  34.1520,2,-999.0000,9,    157.0,3,    65.60,2,    31.82,2,     0.01,2,     2.33,2, -999.000,9, -999.000,9
     21OR287_1,  PR20,    18,  1,      6,    11A,2,19910628,0600, 21.7517, 124.5050, 5806,    800.0,   5.0770,  34.2160,2,-999.0000,9,     88.5,3,    90.30,2,    37.77,2,     0.01,2,     2.74,2, -999.000,9, -999.000,9
     21OR287_1,  PR20,    18,  1,      5,     2A,2,19910628,0600, 21.7517, 124.5050, 5806,   1000.0,   3.8250,  34.4140,2,-999.0000,9,     88.9,3,   115.90,2,    40.35,2,     0.01,2,     2.94,2, -999.000,9, -999.000,9
     21OR287_1,  PR20,    18,  1,      4,     12,2,19910628,0600, 21.7517, 124.5050, 5806,   1200.0,   3.1350,  34.4840,2,-999.0000,9,     83.6,3,   131.10,2,    40.68,2,     0.00,2,     2.95,2, -999.000,9, -999.000,9
     21OR287_1,  PR20,    18,  1,      3,      1,2,19910628,0600, 21.7517, 124.5050, 5806,   1401.0,   2.9070,  34.5430,2,-999.0000,9,    131.7,3,   136.80,2,    39.87,2,     0.00,2,     2.84,2, -999.000,9, -999.000,9
     21OR287_1,  PR20,    18,  1,      2,      3,2,19910628,0600, 21.7517, 124.5050, 5806,   1599.0,   2.5310,  34.5840,2,-999.0000,9,    137.5,3,   141.50,2,    39.06,2,     0.00,2,     2.79,2, -999.000,9, -999.000,9
     21OR287_1,  PR20,    18,  1,      1,     6A,2,19910628,0600, 21.7517, 124.5050, 5806,   1801.0,   2.2880,  34.6060,2,-999.0000,9,    131.7,3,   144.40,2,    38.54,2,     0.00,2,     2.77,2, -999.000,9, -999.000,9
     21OR287_1,  PR20,    19,  1,     12,      0,1,19910628,0937, 21.7500, 125.0027, 3898,      0.0,  29.7450,  34.7080,2,-999.0000,9,    230.9,3,     1.80,2,     0.00,2,     0.03,2,     0.03,2, -999.000,9, -999.000,9
     21OR287_1,  PR20,    19,  1,     11,     11,2,19910628,0937, 21.7500, 125.0027, 3898,     50.0,  29.3610,  34.7310,2,-999.0000,9,    246.9,3,     0.90,2,     0.00,2,     0.00,2,     0.01,2, -999.000,9, -999.000,9
     21OR287_1,  PR20,    19,  1,     10,      6,2,19910628,0937, 21.7500, 125.0027, 3898,    150.0,  23.4570,  34.8650,2,-999.0000,9,    270.7,3,     0.90,2,     0.00,2,     0.01,2,     0.01,2, -999.000,9, -999.000,9
     21OR287_1,  PR20,    19,  1,      9,      7,2,19910628,0937, 21.7500, 125.0027, 3898,    351.0,  16.1640,  34.7220,2,-999.0000,9,    212.9,3,     6.40,2,     5.76,2,     0.01,2,     0.41,2, -999.000,9, -999.000,9
     21OR287_1,  PR20,    19,  1,      8,      8,2,19910628,0937, 21.7500, 125.0027, 3898,    549.0,  10.3490,  34.2870,2,-999.0000,9,    154.5,3,    27.60,2,    19.49,2,     0.01,2,     1.41,2, -999.000,9, -999.000,9
     21OR287_1,  PR20,    19,  1,      7,     10,2,19910628,0937, 21.7500, 125.0027, 3898,    700.0,   6.7480,  34.1830,2,-999.0000,9,    105.5,3,    66.20,2,    31.58,2,     0.01,2,     2.34,2, -999.000,9, -999.000,9
     21OR287_1,  PR20,    19,  1,      6,    11A,2,19910628,0937, 21.7500, 125.0027, 3898,    898.0,   4.4400,  34.2950,2,-999.0000,9,     86.0,3,   104.90,2,    39.02,2,     0.01,2,     2.88,2, -999.000,9, -999.000,9
     21OR287_1,  PR20,    19,  1,      5,     2A,2,19910628,0937, 21.7500, 125.0027, 3898,   1099.0,   3.4850,  34.4310,2,-999.0000,9,    122.5,3,   127.90,2,    40.70,2,     0.01,2,     2.91,2, -999.000,9, -999.000,9
     21OR287_1,  PR20,    19,  1,      4,     12,2,19910628,0937, 21.7500, 125.0027, 3898,   1298.0,   2.9770,  34.5300,2,-999.0000,9,    132.2,3,   135.20,2,    40.17,2,     0.01,2,     2.83,2, -999.000,9, -999.000,9
     21OR287_1,  PR20,    19,  1,      3,      1,2,19910628,0937, 21.7500, 125.0027, 3898,   1499.0,   2.6170,  34.5790,2,-999.0000,9,    142.4,3,   137.10,2,    38.82,2,     0.01,2,     2.76,2, -999.000,9, -999.000,9
     21OR287_1,  PR20,    19,  1,      2,      3,2,19910628,0937, 21.7500, 125.0027, 3898,   1700.0,   2.3930,  34.6020,2,-999.0000,9,    146.8,3,   142.60,2,    38.85,2,     0.01,2,     2.73,2, -999.000,9, -999.000,9
     21OR287_1,  PR20,    19,  1,      1,     6A,2,19910628,0937, 21.7500, 125.0027, 3898,   1904.0,   2.1940,  34.6180,2,-999.0000,9,   -999.0,1,   143.50,2,    38.32,2,     0.01,2,     2.71,2, -999.000,9, -999.000,9
     21OR287_1,  PR20,    20,  1,     12,      0,1,19910628,1250, 21.7515, 125.5008, 4509,      0.0,  29.5600,  34.6870,2,-999.0000,9,    246.4,2,     1.90,2,     0.00,2,     0.02,2,     0.02,2, -999.000,9, -999.000,9
     21OR287_1,  PR20,    20,  1,     11,     11,2,19910628,1250, 21.7515, 125.5008, 4509,     51.0,  28.5200,  34.6560,2,-999.0000,9,    230.4,2,     2.90,2,     0.00,2,     0.00,2,     0.01,2, -999.000,9, -999.000,9
     21OR287_1,  PR20,    20,  1,     10,      6,2,19910628,1250, 21.7515, 125.5008, 4509,    150.0,  24.0590,  34.8750,2,-999.0000,9,    213.4,2,     2.90,2,     0.00,2,     0.01,2,     0.02,2, -999.000,9, -999.000,9
     21OR287_1,  PR20,    20,  1,      9,      7,2,19910628,1250, 21.7515, 125.5008, 4509,    349.0,  16.5080,  34.7460,2,-999.0000,9,    217.2,2,     6.60,2,     5.79,2,     0.00,2,     0.39,2, -999.000,9, -999.000,9
     21OR287_1,  PR20,    20,  1,      8,      8,2,19910628,1250, 21.7515, 125.5008, 4509,    551.0,  10.6070,  34.2990,2,-999.0000,9,    177.9,2,    27.50,2,    18.73,2,     0.01,2,     1.35,2, -999.000,9, -999.000,9
     21OR287_1,  PR20,    20,  1,      7,     10,2,19910628,1250, 21.7515, 125.5008, 4509,    699.0,   6.7690,  34.1550,2,-999.0000,9,    127.8,2,    62.70,2,    30.55,2,     0.00,2,     2.21,2, -999.000,9, -999.000,9
     21OR287_1,  PR20,    20,  1,      6,    11A,2,19910628,1250, 21.7515, 125.5008, 4509,    899.0,   4.5020,  34.3180,2,-999.0000,9,     65.1,2,   106.40,2,    40.14,2,     0.00,2,     2.86,2, -999.000,9, -999.000,9
     21OR287_1,  PR20,    20,  1,      5,     2A,2,19910628,1250, 21.7515, 125.5008, 4509,   1098.0,   3.5900,  34.4250,2,-999.0000,9,     65.6,2,   127.30,2,    40.64,2,     0.01,2,     2.90,2, -999.000,9, -999.000,9
     21OR287_1,  PR20,    20,  1,      4,     12,2,19910628,1250, 21.7515, 125.5008, 4509,   1299.0,   2.9800,  34.5100,2,-999.0000,9,     84.6,2,   138.70,2,    41.15,2,     0.01,2,     2.89,2, -999.000,9, -999.000,9
     21OR287_1,  PR20,    20,  1,      3,      1,2,19910628,1250, 21.7515, 125.5008, 4509,   1501.0,   2.6210,  34.5600,2,-999.0000,9,     99.6,2,   143.50,2,    39.47,2,     0.01,2,     2.80,2, -999.000,9, -999.000,9
     21OR287_1,  PR20,    20,  1,      2,      3,2,19910628,1250, 21.7515, 125.5008, 4509,   1701.0,   2.3600,  34.5950,2,-999.0000,9,    115.2,2,   143.50,2,    38.61,2,     0.00,2,     2.74,2, -999.000,9, -999.000,9
     21OR287_1,  PR20,    20,  1,      1,     6A,2,19910628,1250, 21.7515, 125.5008, 4509,   1902.0,   2.1160,  34.6180,2,-999.0000,9,    123.9,2,   146.30,2,    38.57,2,     0.01,2,     2.71,2, -999.000,9, -999.000,9
     21OR287_1,  PR20,    21,  1,     12,      0,1,19910628,1640, 21.7517, 126.0017, 5022,      0.0,  29.5910,  34.6740,2,-999.0000,9,    212.4,2,     2.60,2,     0.00,2,     0.02,2,     0.02,2, -999.000,9, -999.000,9
     21OR287_1,  PR20,    21,  1,     11,     11,2,19910628,1640, 21.7517, 126.0017, 5022,     50.0,  28.0810,  34.6600,2,-999.0000,9,    226.5,2,     2.60,2,     0.00,2,     0.00,2,     0.01,2, -999.000,9, -999.000,9
     21OR287_1,  PR20,    21,  1,     10,      6,2,19910628,1640, 21.7517, 126.0017, 5022,    149.0,  24.1470,  34.8570,2,-999.0000,9,    217.2,2,     0.90,2,     0.26,2,     0.11,2,     0.00,2, -999.000,9, -999.000,9
     21OR287_1,  PR20,    21,  1,      9,      7,2,19910628,1640, 21.7517, 126.0017, 5022,    354.0,  16.3520,  34.7360,2,-999.0000,9,    210.9,2,     6.10,2,     6.25,2,     0.01,2,     0.41,2, -999.000,9, -999.000,9
     21OR287_1,  PR20,    21,  1,      8,      8,2,19910628,1640, 21.7517, 126.0017, 5022,    550.0,   9.9520,  34.2690,2,-999.0000,9,    175.9,2,    27.00,2,    18.50,2,     0.00,2,     1.18,2, -999.000,9, -999.000,9
     21OR287_1,  PR20,    21,  1,      7,     10,2,19910628,1640, 21.7517, 126.0017, 5022,    695.0,   7.1630,  34.1800,2,-999.0000,9,    116.2,2,    57.40,2,    30.49,2,     0.00,2,     2.23,2, -999.000,9, -999.000,9
     21OR287_1,  PR20,    21,  1,      6,    11A,2,19910628,1640, 21.7517, 126.0017, 5022,    900.0,   4.9080,  34.2860,2,-999.0000,9,     67.1,2,    97.40,2,    38.33,2,     0.00,2,     2.81,2, -999.000,9, -999.000,9
     21OR287_1,  PR20,    21,  1,      5,     2A,2,19910628,1640, 21.7517, 126.0017, 5022,   1100.0,   3.8020,  34.4050,2,-999.0000,9,     71.0,2,   124.40,2,    40.95,2,     0.01,2,     2.94,2, -999.000,9, -999.000,9
     21OR287_1,  PR20,    21,  1,      4,     12,2,19910628,1640, 21.7517, 126.0017, 5022,   1301.0,   3.0510,  34.4990,2,-999.0000,9,     79.7,2,   138.30,2,    40.97,2,     0.00,2,     2.93,2, -999.000,9, -999.000,9
     21OR287_1,  PR20,    21,  1,      3,      1,2,19910628,1640, 21.7517, 126.0017, 5022,   1498.0,   2.6480,  34.5560,2,-999.0000,9,    100.6,2,   144.40,2,    39.42,2,     0.00,2,     2.83,2, -999.000,9, -999.000,9
     21OR287_1,  PR20,    21,  1,      2,      3,2,19910628,1640, 21.7517, 126.0017, 5022,   1702.0,   2.3580,  34.5970,2,-999.0000,9,    115.2,2,   145.30,2,    39.44,2,     0.02,2,     2.72,2, -999.000,9, -999.000,9
     21OR287_1,  PR20,    21,  1,      1,     6A,2,19910628,1640, 21.7517, 126.0017, 5022,   1739.0,   2.3180,  34.6020,2,-999.0000,4,    117.6,4,   141.80,4,    39.20,4,     0.02,4,     2.76,4, -999.000,9, -999.000,9