BOTTLE,20010813WHPSIOKJU
#code : jjward hyd_to_exchange.pl 
#original files copied from HTML directory: 20010813
#original HYD file: pr20_bhy.txt   Mon Aug 13 10:02:43 2001
#original SUM file: pr20_bsu.txt   Mon Aug 13 10:00:40 2001
EXPOCODE,SECT_ID,STNNBR,CASTNO,SAMPNO,BTLNBR,BTLNBR_FLAG_W,DATE,TIME,LATITUDE,LONGITUDE,DEPTH,CTDPRS,CTDTMP,CTDSAL,CTDSAL_FLAG_W,SALNTY,SALNTY_FLAG_W,OXYGEN,OXYGEN_FLAG_W,SILCAT,SILCAT_FLAG_W,NITRAT,NITRAT_FLAG_W,NITRIT,NITRIT_FLAG_W,PHSPHT,PHSPHT_FLAG_W,CFC-11,CFC-11_FLAG_W,CFC-12,CFC-12_FLAG_W
,,,,,,,,,,,,DBAR,IPTS-68,PSS-78,,PSS-78,,UMOL/KG,,UMOL/KG,,UMOL/KG,,UMOL/KG,,UMOL/KG,,PMOL/KG,,PMOL/KG,
     21OR287_1,  PR20,     1,  1,     12,      0,1,19910626,1504, 21.9118, 120.8895,  276,      0.0,  28.6960,  33.8350,2,  33.8350,2,    258.1,3,     1.70,2,     0.00,2,     0.05,2,     0.05,2, -999.000,9, -999.000,9
     21OR287_1,  PR20,     1,  1,     11,     6A,2,19910626,1504, 21.9118, 120.8895,  276,      8.0,  28.6450,  33.8500,2,  33.8500,2,    226.5,3,     0.90,2,     0.25,2,     0.00,2,     0.00,2, -999.000,9, -999.000,9
     21OR287_1,  PR20,     1,  1,     10,      3,2,19910626,1504, 21.9118, 120.8895,  276,     21.0,  27.3780,  34.2400,2,  34.2400,2,    248.3,3,     2.60,2,     0.50,2,     0.05,2,     0.05,2, -999.000,9, -999.000,9
     21OR287_1,  PR20,     1,  1,      9,    11A,2,19910626,1504, 21.9118, 120.8895,  276,     32.0,  25.2810,  34.4380,2,  34.4380,2,    263.4,3,     4.30,2,     1.99,2,     0.10,2,     0.17,2, -999.000,9, -999.000,9
     21OR287_1,  PR20,     1,  1,      8,     10,2,19910626,1504, 21.9118, 120.8895,  276,     42.0,  24.5070,  34.4520,2,  34.4520,2,    207.5,3,     5.20,2,     2.74,2,     0.12,2,     0.20,2, -999.000,9, -999.000,9
     21OR287_1,  PR20,     1,  1,      7,      6,2,19910626,1504, 21.9118, 120.8895,  276,     53.0,  24.0880,  34.4440,2,  34.4440,2,    204.6,3,     5.20,2,     2.99,2,     0.13,2,     0.21,2, -999.000,9, -999.000,9
     21OR287_1,  PR20,     1,  1,      6,      8,2,19910626,1504, 21.9118, 120.8895,  276,     73.0,  22.0000,  34.6410,2,  34.6410,2,    193.4,3,     7.70,2,     5.24,2,     0.13,2,     0.43,2, -999.000,9, -999.000,9
     21OR287_1,  PR20,     1,  1,      5,     2A,2,19910626,1504, 21.9118, 120.8895,  276,     89.0,  20.9980,  34.6410,2,  34.6410,2,    214.8,3,     8.60,2,     5.99,2,     0.10,2,     0.57,2, -999.000,9, -999.000,9
     21OR287_1,  PR20,     1,  1,      4,      1,2,19910626,1504, 21.9118, 120.8895,  276,    101.0,  19.8100,  34.6670,2,  34.6670,2,    189.1,3,     9.50,2,     6.74,2,     0.08,2,     0.54,2, -999.000,9, -999.000,9
     21OR287_1,  PR20,     1,  1,      3,     12,2,19910626,1504, 21.9118, 120.8895,  276,    113.0,  19.3340,  34.6500,2,  34.6500,2,    186.1,3,    11.20,2,     7.24,2,     0.06,2,     0.52,2, -999.000,9, -999.000,9
     21OR287_1,  PR20,     1,  1,      2,      7,2,19910626,1504, 21.9118, 120.8895,  276,    121.0,  18.7810,  34.6540,2,  34.6540,2,    199.3,3,    13.80,2,     8.25,2,     0.02,2,     0.65,2, -999.000,9, -999.000,9
     21OR287_1,  PR20,     1,  1,      1,     11,2,19910626,1504, 21.9118, 120.8895,  276,    131.0,  18.0220,  34.6710,2,  34.6710,2,    185.2,3,    13.80,2,     8.00,2,     0.05,2,     0.59,2, -999.000,9, -999.000,9
     21OR287_1,  PR20,     2,  1,     12,      0,1,19910626,1542, 21.8783, 120.8950,  753,      0.0,  28.6100,  33.8410,2,-999.0000,9,    267.8,4,     3.50,2,     0.75,2,     0.03,2,     0.02,2, -999.000,9, -999.000,9
     21OR287_1,  PR20,     2,  1,     11,     6A,2,19910626,1542, 21.8783, 120.8950,  753,     53.0,  23.4250,  34.5420,2,-999.0000,9,    258.6,4,     5.20,2,     1.00,2,     0.06,2,     0.10,2, -999.000,9, -999.000,9
     21OR287_1,  PR20,     2,  1,     10,      3,2,19910626,1542, 21.8783, 120.8950,  753,    101.0,  19.9240,  34.5670,2,-999.0000,9,    187.6,2,    10.40,2,     4.00,2,     0.09,2,     0.33,2, -999.000,9, -999.000,9
     21OR287_1,  PR20,     2,  1,      9,    11A,2,19910626,1542, 21.8783, 120.8950,  753,    151.0,  16.6390,  34.6510,2,-999.0000,9,    178.8,2,    10.40,2,    10.00,2,     0.04,2,     0.71,2, -999.000,9, -999.000,9
     21OR287_1,  PR20,     2,  1,      8,     10,2,19910626,1542, 21.8783, 120.8950,  753,    203.0,  15.1620,  34.6260,2,-999.0000,9,    207.0,4,    21.80,2,    11.75,2,     0.02,2,     0.82,2, -999.000,9, -999.000,9
     21OR287_1,  PR20,     2,  1,      7,      6,2,19910626,1542, 21.8783, 120.8950,  753,    251.0,  13.3990,  34.5460,2,-999.0000,9,    173.5,2,    27.00,2,    14.75,2,     0.02,2,     1.05,2, -999.000,9, -999.000,9
     21OR287_1,  PR20,     2,  1,      6,      8,2,19910626,1542, 21.8783, 120.8950,  753,    303.0,  11.8840,  34.4850,2,-999.0000,9,    163.3,2,    34.80,2,    17.75,2,     0.02,2,     1.24,2, -999.000,9, -999.000,9
     21OR287_1,  PR20,     2,  1,      5,     2A,2,19910626,1542, 21.8783, 120.8950,  753,    396.0,  10.0740,  34.4230,2,-999.0000,9,    156.5,2,    48.70,2,    22.25,2,     0.02,2,     1.59,2, -999.000,9, -999.000,9
     21OR287_1,  PR20,     2,  1,      4,      1,2,19910626,1542, 21.8783, 120.8950,  753,    465.0,   8.5500,  34.3850,2,-999.0000,9,    169.6,4,    61.80,2,    26.50,2,     0.02,2,     1.93,2, -999.000,9, -999.000,9
     21OR287_1,  PR20,     2,  1,      3,     12,2,19910626,1542, 21.8783, 120.8950,  753,    592.0,   6.4670,  34.3980,2,-999.0000,9,    115.2,2,    80.90,2,    32.00,2,     0.02,2,     2.29,2, -999.000,9, -999.000,9
     21OR287_1,  PR20,     2,  1,      2,      7,2,19910626,1542, 21.8783, 120.8950,  753,    692.0,   5.8320,  34.4100,2,-999.0000,9,    115.2,2,    89.60,2,    33.00,2,     0.00,2,     2.38,2, -999.000,9, -999.000,9
     21OR287_1,  PR20,     2,  1,      1,     11,2,19910626,1542, 21.8783, 120.8950,  753,    750.0,   5.5190,  34.4260,2,-999.0000,9,    112.8,2,   100.10,2,    33.00,2,     0.02,2,     2.44,2, -999.000,9, -999.000,9
     21OR287_1,  PR20,     3,  1,     12,      0,1,19910626,1645, 21.8883, 121.0000, 1289,      0.0,  28.3780,  33.9900,2,-999.0000,9,    249.3,3,     0.90,2,     0.00,2,     0.03,2,     0.03,2, -999.000,9, -999.000,9
     21OR287_1,  PR20,     3,  1,     11,     6A,2,19910626,1645, 21.8883, 121.0000, 1289,     50.0,  27.3480,  34.2410,2,-999.0000,9,    262.4,3,     0.90,2,     0.00,2,     0.01,2,     0.01,2, -999.000,9, -999.000,9
     21OR287_1,  PR20,     3,  1,     10,      3,2,19910626,1645, 21.8883, 121.0000, 1289,     99.0,  22.6380,  34.7110,2,-999.0000,9,    200.7,3,     2.60,2,     1.83,2,     0.11,2,     0.20,2, -999.000,9, -999.000,9
     21OR287_1,  PR20,     3,  1,      9,    11A,2,19910626,1645, 21.8883, 121.0000, 1289,    151.0,  18.3070,  34.6100,2,-999.0000,9,    219.7,3,    14.60,2,     7.62,2,     0.07,2,     0.61,2, -999.000,9, -999.000,9
     21OR287_1,  PR20,     3,  1,      8,     10,2,19910626,1645, 21.8883, 121.0000, 1289,    202.0,  15.2840,  34.6280,2,-999.0000,9,    199.3,3,    20.60,2,    12.50,2,     0.04,2,     0.85,2, -999.000,9, -999.000,9
     21OR287_1,  PR20,     3,  1,      7,      6,2,19910626,1645, 21.8883, 121.0000, 1289,    301.0,  11.9150,  34.4910,2,-999.0000,9,    181.3,3,    35.30,2,    19.23,2,     0.01,2,     1.37,2, -999.000,9, -999.000,9
     21OR287_1,  PR20,     3,  1,      6,      8,2,19910626,1645, 21.8883, 121.0000, 1289,    400.0,   9.9510,  34.4240,2,-999.0000,9,    168.2,3,    47.30,2,    23.21,2,     0.01,2,     1.62,2, -999.000,9, -999.000,9
     21OR287_1,  PR20,     3,  1,      5,     2A,2,19910626,1645, 21.8883, 121.0000, 1289,    531.0,   7.8450,  34.3470,2,-999.0000,9,    134.1,3,    66.20,2,    29.03,2,     0.00,2,     2.03,2, -999.000,9, -999.000,9
     21OR287_1,  PR20,     3,  1,      4,      1,2,19910626,1645, 21.8883, 121.0000, 1289,    699.0,   6.1190,  34.3920,2,-999.0000,9,    130.2,3,    84.30,2,    33.02,2,     0.02,2,     2.36,2, -999.000,9, -999.000,9
     21OR287_1,  PR20,     3,  1,      3,     12,2,19910626,1645, 21.8883, 121.0000, 1289,    897.0,   3.9580,  34.5230,2,-999.0000,9,    129.3,3,   113.50,2,    36.40,2,     0.00,2,     2.60,2, -999.000,9, -999.000,9
     21OR287_1,  PR20,     3,  1,      2,      7,2,19910626,1645, 21.8883, 121.0000, 1289,    998.0,   3.7690,  34.5380,2,-999.0000,9,    132.2,3,   121.30,2,    36.43,2,     0.00,2,     2.60,2, -999.000,9, -999.000,9
     21OR287_1,  PR20,     3,  1,      1,     11,2,19910626,1645, 21.8883, 121.0000, 1289,   1270.0,   3.3430,  34.5650,2,-999.0000,9,    131.7,3,   125.60,2,    36.75,2,     0.01,2,     2.65,2, -999.000,9, -999.000,9
     21OR287_1,  PR20,     6,  1,     12,      0,1,19910626,2208, 21.8175, 121.5042,  805,      0.0,  28.7830,  33.7880,2,-999.0000,9,    232.8,2,     1.70,2,     0.00,2,     0.03,2,     0.02,2, -999.000,9, -999.000,9
     21OR287_1,  PR20,     6,  1,     11,     6A,2,19910626,2208, 21.8175, 121.5042,  805,     55.0,  26.6740,  34.6030,2,-999.0000,9,    229.4,2,     2.60,2,     0.00,2,     0.00,2,     0.01,2, -999.000,9, -999.000,9
     21OR287_1,  PR20,     6,  1,     10,      3,2,19910626,2208, 21.8175, 121.5042,  805,    104.0,  25.0110,  34.6890,2,-999.0000,9,    215.3,2,     1.70,2,     0.00,2,     0.10,2,     0.06,2, -999.000,9, -999.000,9
     21OR287_1,  PR20,     6,  1,      9,    11A,2,19910626,2208, 21.8175, 121.5042,  805,    154.0,  22.9290,  34.8560,2,-999.0000,9,    199.3,2,     2.60,2,     1.52,2,     0.08,2,     0.15,2, -999.000,9, -999.000,9
     21OR287_1,  PR20,     6,  1,      8,     10,2,19910626,2208, 21.8175, 121.5042,  805,    203.0,  19.6290,  34.8160,2,-999.0000,9,    192.0,2,     3.50,2,     3.86,2,     0.04,2,     0.32,2, -999.000,9, -999.000,9
     21OR287_1,  PR20,     6,  1,      7,      6,2,19910626,2208, 21.8175, 121.5042,  805,    248.0,  16.1420,  34.6810,2,-999.0000,9,    190.0,2,    14.80,2,     5.95,2,     0.03,2,     0.46,2, -999.000,9, -999.000,9
     21OR287_1,  PR20,     6,  1,      6,      8,2,19910626,2208, 21.8175, 121.5042,  805,    352.0,  12.5340,  34.4810,2,-999.0000,9,    172.0,2,    28.70,2,    15.35,2,     0.02,2,     1.16,2, -999.000,9, -999.000,9
     21OR287_1,  PR20,     6,  1,      5,     2A,2,19910626,2208, 21.8175, 121.5042,  805,    450.0,  10.5150,  34.4070,2,-999.0000,9,    153.1,2,    42.60,2,    20.80,2,     0.01,2,     1.56,2, -999.000,9, -999.000,9
     21OR287_1,  PR20,     6,  1,      4,      1,2,19910626,2208, 21.8175, 121.5042,  805,    550.0,   9.4190,  34.3900,2,-999.0000,9,    150.2,2,    53.90,2,    24.66,2,     0.02,2,     1.78,2, -999.000,9, -999.000,9
     21OR287_1,  PR20,     6,  1,      3,     12,2,19910626,2208, 21.8175, 121.5042,  805,    649.0,   6.8590,  34.3710,2,-999.0000,9,    117.6,2,    82.70,2,    31.12,2,     0.01,2,     2.23,2, -999.000,9, -999.000,9
     21OR287_1,  PR20,     6,  1,      1,     11,2,19910626,2208, 21.8175, 121.5042,  805,    754.0,   6.1930,  34.3830,2,-999.0000,9,    108.9,2,  -999.00,9,    31.23,2,     0.01,2,     2.36,2, -999.000,9, -999.000,9
     21OR287_1,  PR20,     6,  1,      2,      7,4,19910626,2208, 21.8175, 121.5042,  805,    755.0,   6.1910,  34.3840,2,-999.0000,9,    111.3,4,    93.10,4,    29.57,4,     0.02,4,     1.94,4, -999.000,9, -999.000,9
     21OR287_1,  PR20,     9,  1,     12,      0,1,19910627,0254, 21.7500, 122.0007, 4000,      0.0,  28.6020,  33.5690,2,  34.1354,2,    218.2,2,     2.90,2,     0.29,2,     0.04,2,     0.04,2, -999.000,9, -999.000,9
     21OR287_1,  PR20,     9,  1,     11,     6A,2,19910627,0254, 21.7500, 122.0007, 4000,    152.0,  22.9570,  34.8720,2,  34.8231,2,    220.6,2,     1.90,2,     0.58,2,     0.11,2,     0.03,2, -999.000,9, -999.000,9
     21OR287_1,  PR20,     9,  1,     10,      3,2,19910627,0254, 21.7500, 122.0007, 4000,    350.0,  14.7170,  34.5890,2,  34.5951,2,    231.8,4,    19.00,2,    12.47,2,     0.04,2,     0.77,2, -999.000,9, -999.000,9
     21OR287_1,  PR20,     9,  1,      9,    11A,2,19910627,0254, 21.7500, 122.0007, 4000,    550.0,   8.7910,  34.2020,2,  34.2007,2,    167.2,2,    41.80,2,    24.72,2,     0.03,2,     1.65,2, -999.000,9, -999.000,9
     21OR287_1,  PR20,     9,  1,      8,     10,2,19910627,0254, 21.7500, 122.0007, 4000,    699.0,   6.7280,  34.2300,2,  34.2311,2,    130.2,2,    72.20,2,    32.69,2,     0.01,2,     2.23,2, -999.000,9, -999.000,9
     21OR287_1,  PR20,     9,  1,      7,      6,2,19910627,0254, 21.7500, 122.0007, 4000,    850.0,   5.2180,  34.3490,2,  34.3456,2,     90.9,2,   101.60,2,    37.78,2,     0.02,2,     2.61,2, -999.000,9, -999.000,9
     21OR287_1,  PR20,     9,  1,      6,      8,2,19910627,0254, 21.7500, 122.0007, 4000,    995.0,   4.3340,  34.4410,2,  34.4412,2,    134.6,4,   121.60,2,    39.38,2,     0.02,2,     2.67,2, -999.000,9, -999.000,9
     21OR287_1,  PR20,    10,  1,     12,      0,1,19910627,0605, 21.7517, 122.2467, 4509,      0.0,  28.9920,  34.6450,2,-999.0000,9,    214.8,2,     2.70,2,     0.00,2,     0.03,2,     0.01,2, -999.000,9, -999.000,9
     21OR287_1,  PR20,    10,  1,     11,     6A,2,19910627,0605, 21.7517, 122.2467, 4509,     53.0,  27.6640,  34.7210,2,-999.0000,9,    212.4,2,     2.70,2,     0.00,2,     0.00,2,     0.00,2, -999.000,9, -999.000,9
     21OR287_1,  PR20,    10,  1,     10,      3,2,19910627,0605, 21.7517, 122.2467, 4509,    155.0,  21.6670,  34.9170,2,-999.0000,9,    202.7,2,     3.60,2,     1.11,2,     0.13,2,     0.13,2, -999.000,9, -999.000,9
     21OR287_1,  PR20,    10,  1,      9,    11A,2,19910627,0605, 21.7517, 122.2467, 4509,    350.0,  14.6900,  34.6090,2,-999.0000,9,    208.0,2,    11.70,2,     9.22,2,     0.01,2,     0.65,2, -999.000,9, -999.000,9
     21OR287_1,  PR20,    10,  1,      8,     10,2,19910627,0605, 21.7517, 122.2467, 4509,    550.0,   9.3060,  34.2720,2,-999.0000,9,    151.6,2,    35.10,2,    22.72,2,     0.01,2,     1.68,2, -999.000,9, -999.000,9
     21OR287_1,  PR20,    10,  1,      7,      6,2,19910627,0605, 21.7517, 122.2467, 4509,    698.0,   6.0920,  34.1670,2,-999.0000,9,    105.0,2,    73.80,2,    32.92,2,     0.00,2,     2.43,2, -999.000,9, -999.000,9
     21OR287_1,  PR20,    10,  1,      6,      8,2,19910627,0605, 21.7517, 122.2467, 4509,    745.0,   5.5360,  34.1890,2,-999.0000,9,     91.9,2,  -999.00,9,    35.29,2,     0.01,2,     2.54,2, -999.000,9, -999.000,9
     21OR287_1,  PR20,    10,  1,      5,     2A,2,19910627,0605, 21.7517, 122.2467, 4509,    898.0,   4.5090,  34.3050,2,-999.0000,9,     66.1,2,   106.20,2,    39.37,2,     0.01,2,     2.83,2, -999.000,9, -999.000,9
     21OR287_1,  PR20,    10,  1,      4,      1,2,19910627,0605, 21.7517, 122.2467, 4509,   1097.0,   3.6910,  34.4690,2,-999.0000,9,     88.9,2,   129.60,2,    38.93,2,     0.01,2,     2.80,2, -999.000,9, -999.000,9
     21OR287_1,  PR20,    10,  1,      3,     12,2,19910627,0605, 21.7517, 122.2467, 4509,   1292.0,   3.1440,  34.5480,2,-999.0000,9,    105.5,2,   135.00,2,    38.49,2,     0.01,2,     2.71,2, -999.000,9, -999.000,9
     21OR287_1,  PR20,    10,  1,      2,      7,2,19910627,0605, 21.7517, 122.2467, 4509,   1499.0,   2.7530,  34.5990,2,-999.0000,9,    121.5,2,   143.10,2,    38.04,2,     0.00,2,     2.70,2, -999.000,9, -999.000,9
     21OR287_1,  PR20,    10,  1,      1,     11,2,19910627,0605, 21.7517, 122.2467, 4509,   1738.0,   2.5260,  34.6090,2,-999.0000,9,    148.2,2,   144.90,2,    38.46,2,     0.01,2,     2.73,2, -999.000,9, -999.000,9
     21OR287_1,  PR20,    11,  1,     12,      0,1,19910627,0840, 21.7563, 122.4958, 4611,      0.0,  29.3700,  34.7250,2,-999.0000,9,    262.0,3,     1.80,2,     0.00,2,     0.02,2,     0.02,2, -999.000,9, -999.000,9
     21OR287_1,  PR20,    11,  1,     11,     6A,2,19910627,0840, 21.7563, 122.4958, 4611,     56.0,  28.9710,  34.7170,2,-999.0000,9,    251.7,3,     0.90,2,     0.00,2,     0.00,2,     0.01,2, -999.000,9, -999.000,9
     21OR287_1,  PR20,    11,  1,     10,      3,2,19910627,0840, 21.7563, 122.4958, 4611,    155.0,  22.2020,  34.9660,2,-999.0000,9,    253.2,3,     1.80,2,     0.00,2,     0.06,2,     0.04,2, -999.000,9, -999.000,9
     21OR287_1,  PR20,    11,  1,      9,    11A,2,19910627,0840, 21.7563, 122.4958, 4611,    354.0,  15.9210,  34.7090,2,-999.0000,9,    225.0,3,     7.40,2,     7.82,2,     0.01,2,     0.55,2, -999.000,9, -999.000,9
     21OR287_1,  PR20,    11,  1,      8,     10,2,19910627,0840, 21.7563, 122.4958, 4611,    553.0,   9.3530,  34.2740,2,-999.0000,9,    120.5,3,    36.80,2,    24.69,2,     0.01,2,     1.79,2, -999.000,9, -999.000,9
     21OR287_1,  PR20,    11,  1,      7,      6,2,19910627,0840, 21.7563, 122.4958, 4611,    701.0,   6.1920,  34.1890,2,-999.0000,9,    107.9,3,    69.00,2,    33.46,2,     0.01,2,     2.43,2, -999.000,9, -999.000,9
     21OR287_1,  PR20,    11,  1,      6,      8,2,19910627,0840, 21.7563, 122.4958, 4611,    752.0,   5.2930,  34.2100,2,-999.0000,9,    101.6,3,    88.30,2,    37.13,2,     0.01,2,     2.61,2, -999.000,9, -999.000,9
     21OR287_1,  PR20,    11,  1,      5,     2A,2,19910627,0840, 21.7563, 122.4958, 4611,    902.0,   4.4500,  34.3190,2,-999.0000,9,     80.7,3,   107.60,2,    39.61,2,     0.01,2,     2.87,2, -999.000,9, -999.000,9
     21OR287_1,  PR20,    11,  1,      4,      1,2,19910627,0840, 21.7563, 122.4958, 4611,   1103.0,   3.7510,  34.5090,2,-999.0000,9,    117.1,3,   131.60,2,    38.00,2,     0.01,2,     2.71,2, -999.000,9, -999.000,9
     21OR287_1,  PR20,    11,  1,      3,     12,2,19910627,0840, 21.7563, 122.4958, 4611,   1301.0,   3.2230,  34.5560,2,-999.0000,9,    125.4,3,   136.20,2,    37.29,2,     0.00,2,     2.72,2, -999.000,9, -999.000,9
     21OR287_1,  PR20,    11,  1,      2,      7,2,19910627,0840, 21.7563, 122.4958, 4611,   1448.0,   2.9460,  34.5690,2,-999.0000,9,    134.6,3,   142.60,2,    37.65,2,     0.01,2,     2.72,2, -999.000,9, -999.000,9
     21OR287_1,  PR20,    11,  1,      1,     11,2,19910627,0840, 21.7563, 122.4958, 4611,   1579.0,   2.7610,  34.5880,2,-999.0000,9,    147.3,3,   145.40,2,    38.61,2,     0.00,2,     2.76,2, -999.000,9, -999.000,9