BOTTLE,20010813WHPSIOKJU
EXPOCODE,SECT_ID,STNNBR,CASTNO,SAMPNO,BTLNBR,BTLNBR_FLAG_W,DATE,TIME,LATITUDE,LONGITUDE,DEPTH,CTDPRS,CTDTMP,CTDSAL,CTDSAL_FLAG_W,SALNTY,SALNTY_FLAG_W,OXYGEN,OXYGEN_FLAG_W,SILCAT,SILCAT_FLAG_W,NITRAT,NITRAT_FLAG_W,NITRIT,NITRIT_FLAG_W,PHSPHT,PHSPHT_FLAG_W,CFC-11,CFC-11_FLAG_W,CFC-12,CFC-12_FLAG_W
,,,,,,,,,,,,DBAR,IPTS-68,PSS-78,,PSS-78,,UMOL/KG,,UMOL/KG,,UMOL/KG,,UMOL/KG,,UMOL/KG,,PMOL/KG,,PMOL/KG,
     21OR287_1,  PR20,    22,  1,     12,      0,1,19910628,2005, 21.7482, 126.5018, 5537,      0.0,  29.3720,  34.6360,2,-999.0000,9,    211.9,2,     2.60,2,     0.00,2,     0.03,2,     0.03,2, -999.000,9, -999.000,9
     21OR287_1,  PR20,    22,  1,     11,     11,2,19910628,2005, 21.7482, 126.5018, 5537,     50.0,  29.0100,  34.6550,2,-999.0000,9,    213.4,2,     1.70,2,     0.26,2,     0.00,2,     0.03,2, -999.000,9, -999.000,9
     21OR287_1,  PR20,    22,  1,     10,      6,2,19910628,2005, 21.7482, 126.5018, 5537,    151.0,  24.4680,  34.8350,2,-999.0000,9,    213.8,2,     2.60,2,     0.51,2,     0.13,2,     0.06,2, -999.000,9, -999.000,9
     21OR287_1,  PR20,    22,  1,      9,      7,2,19910628,2005, 21.7482, 126.5018, 5537,    351.0,  16.2910,  34.7360,2,-999.0000,9,    210.9,2,     6.90,2,     6.93,2,     0.01,2,     0.48,2, -999.000,9, -999.000,9
     21OR287_1,  PR20,    22,  1,      8,      8,2,19910628,2005, 21.7482, 126.5018, 5537,    550.0,  10.7680,  34.3180,2,-999.0000,9,    172.5,2,    26.70,2,    19.02,2,     0.01,2,     1.40,2, -999.000,9, -999.000,9
     21OR287_1,  PR20,    22,  1,      7,     10,2,19910628,2005, 21.7482, 126.5018, 5537,    700.0,   7.4590,  34.1960,2,-999.0000,9,    116.6,2,    56.80,2,    30.89,2,     0.00,2,     2.24,2, -999.000,9, -999.000,9
     21OR287_1,  PR20,    22,  1,      6,    11A,2,19910628,2005, 21.7482, 126.5018, 5537,    900.0,   4.9410,  34.3190,2,-999.0000,9,     70.5,2,    96.30,2,    39.70,2,     0.01,2,     2.83,2, -999.000,9, -999.000,9
     21OR287_1,  PR20,    22,  1,      5,     2A,2,19910628,2005, 21.7482, 126.5018, 5537,   1102.0,   3.7530,  34.4360,2,-999.0000,9,     73.4,2,   125.60,2,    41.32,2,     0.01,2,     2.93,2, -999.000,9, -999.000,9
     21OR287_1,  PR20,    22,  1,      4,     12,2,19910628,2005, 21.7482, 126.5018, 5537,   1301.0,   3.0700,  34.4970,2,-999.0000,9,     79.2,2,   137.60,2,    41.65,2,     0.01,2,     2.89,2, -999.000,9, -999.000,9
     21OR287_1,  PR20,    22,  1,      3,      1,2,19910628,2005, 21.7482, 126.5018, 5537,   1500.0,   2.6880,  34.5470,2,-999.0000,9,     95.3,2,   143.60,2,    39.90,2,     0.01,2,     2.86,2, -999.000,9, -999.000,9
     21OR287_1,  PR20,    22,  1,      2,      3,2,19910628,2005, 21.7482, 126.5018, 5537,   1703.0,   2.3860,  34.5850,2,-999.0000,9,    109.4,2,   145.30,2,    39.97,2,     0.01,2,     2.80,2, -999.000,9, -999.000,9
     21OR287_1,  PR20,    22,  1,      1,     6A,2,19910628,2005, 21.7482, 126.5018, 5537,   1889.0,   2.1390,  34.6160,2,-999.0000,9,    121.5,2,   145.30,2,    39.51,2,     0.01,2,     2.74,2, -999.000,9, -999.000,9
     21OR287_1,  PR20,    23,  1,     12,      0,1,19910628,2322, 21.7490, 127.0027, 5434,      0.0,  29.4430,  34.6710,2,-999.0000,9,    212.4,2,     4.30,2,     0.00,2,     0.02,2,     0.02,2, -999.000,9, -999.000,9
     21OR287_1,  PR20,    23,  1,     11,     11,2,19910628,2322, 21.7490, 127.0027, 5434,     50.0,  29.0980,  34.6520,2,-999.0000,9,    217.2,2,     4.30,2,     0.00,2,     0.00,2,     0.04,2, -999.000,9, -999.000,9
     21OR287_1,  PR20,    23,  1,     10,      6,2,19910628,2322, 21.7490, 127.0027, 5434,    150.0,  23.9020,  34.8580,2,-999.0000,9,    220.2,2,     4.30,2,     0.00,2,     0.09,2,     0.04,2, -999.000,9, -999.000,9
     21OR287_1,  PR20,    23,  1,      9,      7,2,19910628,2322, 21.7490, 127.0027, 5434,    349.0,  16.2800,  34.7300,2,-999.0000,9,    215.3,2,     7.70,2,     5.86,2,     0.01,2,     0.47,2, -999.000,9, -999.000,9
     21OR287_1,  PR20,    23,  1,      8,      8,2,19910628,2322, 21.7490, 127.0027, 5434,    551.0,  10.0080,  34.2760,2,-999.0000,9,    169.1,2,    29.20,2,    20.34,2,     0.01,2,     1.46,2, -999.000,9, -999.000,9
     21OR287_1,  PR20,    23,  1,      7,     10,2,19910628,2322, 21.7490, 127.0027, 5434,    701.0,   6.6730,  34.1970,2,-999.0000,9,    105.9,2,    65.40,2,    32.55,2,     0.00,2,     2.39,2, -999.000,9, -999.000,9
     21OR287_1,  PR20,    23,  1,      6,    11A,2,19910628,2322, 21.7490, 127.0027, 5434,    901.0,   4.6100,  34.3280,2,-999.0000,9,     66.1,2,   105.80,2,    39.45,2,     0.01,2,     2.88,2, -999.000,9, -999.000,9
     21OR287_1,  PR20,    23,  1,      5,     2A,2,19910628,2322, 21.7490, 127.0027, 5434,   1101.0,   3.6980,  34.4410,2,-999.0000,9,     71.0,2,   123.00,2,    41.34,2,     0.00,2,     2.95,2, -999.000,9, -999.000,9
     21OR287_1,  PR20,    23,  1,      4,     12,2,19910628,2322, 21.7490, 127.0027, 5434,   1300.0,   3.0390,  34.5040,2,-999.0000,9,     79.7,2,   140.20,2,    41.00,2,     0.01,2,     2.90,2, -999.000,9, -999.000,9
     21OR287_1,  PR20,    23,  1,      3,      1,2,19910628,2322, 21.7490, 127.0027, 5434,   1502.0,   2.6540,  34.5520,2,-999.0000,9,     98.2,2,   140.20,2,    39.01,3,     0.00,2,     2.86,2, -999.000,9, -999.000,9
     21OR287_1,  PR20,    23,  1,      2,      3,2,19910628,2322, 21.7490, 127.0027, 5434,   1700.0,   2.3740,  34.5880,2,-999.0000,9,    111.3,2,   143.60,2,    38.95,2,     0.04,2,     2.74,2, -999.000,9, -999.000,9
     21OR287_1,  PR20,    23,  1,      1,     6A,2,19910628,2322, 21.7490, 127.0027, 5434,   1902.0,   2.1870,  34.6120,2,-999.0000,9,    121.5,2,   143.60,2,    38.07,2,     0.01,2,     2.72,2, -999.000,9, -999.000,9
     21OR287_1,  PR20,    24,  1,     12,      0,1,19910629,0328, 21.7508, 127.4983, 5022,      0.0,  29.6630,  34.8270,2,  34.8097,2,    212.4,2,     1.80,2,     0.00,2,     0.02,2,     0.02,2, -999.000,9, -999.000,9
     21OR287_1,  PR20,    24,  1,     11,     11,2,19910629,0328, 21.7508, 127.4983, 5022,     51.0,  26.0550,  34.7010,2,  34.6676,2,    228.4,2,     1.80,2,     0.00,2,     0.00,2,     0.01,2, -999.000,9, -999.000,9
     21OR287_1,  PR20,    24,  1,     10,      6,2,19910629,0328, 21.7508, 127.4983, 5022,    150.0,  21.8170,  34.9670,2,  34.9089,2,    111.8,4,     1.80,2,     0.82,2,     0.13,2,     0.05,2, -999.000,9, -999.000,9
     21OR287_1,  PR20,    24,  1,      9,      7,2,19910629,0328, 21.7508, 127.4983, 5022,    349.0,  16.5060,  34.7790,2,  34.7636,2,    216.3,2,     6.20,2,     6.06,2,     0.02,2,     0.44,2, -999.000,9, -999.000,9
     21OR287_1,  PR20,    24,  1,      8,      8,2,19910629,0328, 21.7508, 127.4983, 5022,    551.0,  10.5040,  34.3260,2,  34.3088,2,    171.6,2,    27.30,2,    19.32,2,     0.01,2,     1.45,2, -999.000,9, -999.000,9
     21OR287_1,  PR20,    24,  1,      7,     10,2,19910629,0328, 21.7508, 127.4983, 5022,    700.0,   7.0400,  34.2090,2,  34.1704,2,    114.7,2,    61.60,2,    31.27,2,     0.01,2,     2.30,2, -999.000,9, -999.000,9
     21OR287_1,  PR20,    24,  1,      6,    11A,2,19910629,0328, 21.7508, 127.4983, 5022,    900.0,   4.6550,  34.2990,2,  34.2817,2,     69.5,2,   102.10,2,    39.38,2,     0.01,2,     2.85,2, -999.000,9, -999.000,9
     21OR287_1,  PR20,    24,  1,      5,     2A,2,19910629,0328, 21.7508, 127.4983, 5022,   1100.0,   3.6670,  34.4530,2,  34.4499,2,     73.4,2,   125.00,2,    40.59,2,     0.01,2,     2.93,2, -999.000,9, -999.000,9
     21OR287_1,  PR20,    24,  1,      4,     12,2,19910629,0328, 21.7508, 127.4983, 5022,   1300.0,   2.9860,  34.5120,2,  34.5087,2,     82.6,2,   141.70,2,    40.69,2,     0.00,2,     2.93,2, -999.000,9, -999.000,9
     21OR287_1,  PR20,    24,  1,      3,      1,2,19910629,0328, 21.7508, 127.4983, 5022,   1498.0,   2.7010,  34.5650,2,  34.5634,2,    104.5,2,   142.60,2,    39.39,2,     0.00,2,     2.84,2, -999.000,9, -999.000,9
     21OR287_1,  PR20,    24,  1,      2,      3,2,19910629,0328, 21.7508, 127.4983, 5022,   1749.0,   2.3450,  34.6050,2,  34.5991,2,    119.6,2,   145.20,2,    38.64,2,     0.00,2,     2.79,2, -999.000,9, -999.000,9
     21OR287_1,  PR20,    24,  1,      1,     6A,2,19910629,0328, 21.7508, 127.4983, 5022,   1995.0,-999.0000,-999.0000,1,  34.6009,2,    118.6,2,   145.20,2,    39.01,2,     0.00,2,     2.77,2, -999.000,9, -999.000,9
     21OR287_1,  PR20,    25,  1,     12,      0,1,19910629,0653, 21.7500, 128.0000, 4816,      0.0,  29.8170,  34.7300,2,-999.0000,9,    212.4,2,     0.90,2,     0.00,2,     0.01,2,     0.02,2, -999.000,9, -999.000,9
     21OR287_1,  PR20,    25,  1,     11,     11,2,19910629,0653, 21.7500, 128.0000, 4816,     50.0,  25.4870,  34.7580,2,-999.0000,9,    229.9,2,     0.90,2,     0.00,2,     0.00,2,     0.02,2, -999.000,9, -999.000,9
     21OR287_1,  PR20,    25,  1,     10,      6,2,19910629,0653, 21.7500, 128.0000, 4816,    150.0,  21.0630,  34.9300,2,-999.0000,9,    218.2,2,     0.90,2,     1.05,2,     0.05,2,     0.13,2, -999.000,9, -999.000,9
     21OR287_1,  PR20,    25,  1,      9,      7,2,19910629,0653, 21.7500, 128.0000, 4816,    348.0,  16.0740,  34.7170,2,-999.0000,9,    213.4,2,     5.40,2,     7.13,2,     0.01,2,     0.54,2, -999.000,9, -999.000,9
     21OR287_1,  PR20,    25,  1,      8,      8,2,19910629,0653, 21.7500, 128.0000, 4816,    546.0,  10.2530,  34.2850,2,-999.0000,9,    168.2,2,    27.00,2,    20.90,2,     0.00,2,     1.50,2, -999.000,9, -999.000,9
     21OR287_1,  PR20,    25,  1,      7,     10,2,19910629,0653, 21.7500, 128.0000, 4816,    701.0,   6.1800,  34.1600,2,-999.0000,9,    114.7,2,    64.80,2,    33.68,2,     0.01,2,     2.37,2, -999.000,9, -999.000,9
     21OR287_1,  PR20,    25,  1,      6,    11A,2,19910629,0653, 21.7500, 128.0000, 4816,    898.0,   4.2880,  34.3110,2,-999.0000,9,     64.6,2,   108.00,2,    41.21,4,     0.00,2,     2.93,2, -999.000,9, -999.000,9
     21OR287_1,  PR20,    25,  1,      5,     2A,2,19910629,0653, 21.7500, 128.0000, 4816,   1099.0,   3.5930,  34.4520,2,-999.0000,9,     71.0,2,   123.30,2,    39.71,2,     0.00,2,     2.95,2, -999.000,9, -999.000,9
     21OR287_1,  PR20,    25,  1,      4,     12,2,19910629,0653, 21.7500, 128.0000, 4816,   1299.0,   3.0330,  34.5080,2,-999.0000,9,     83.1,2,   134.10,2,    40.08,2,     0.00,2,     2.93,2, -999.000,9, -999.000,9
     21OR287_1,  PR20,    25,  1,      3,      1,2,19910629,0653, 21.7500, 128.0000, 4816,   1501.0,   2.6600,  34.5660,2,-999.0000,9,    104.0,2,   140.40,2,    39.10,2,     0.00,2,     2.84,2, -999.000,9, -999.000,9
     21OR287_1,  PR20,    25,  1,      2,      3,2,19910629,0653, 21.7500, 128.0000, 4816,   1700.0,   2.3730,  34.5950,2,-999.0000,9,    116.2,2,   144.90,2,    38.67,2,     0.00,2,     2.80,2, -999.000,9, -999.000,9
     21OR287_1,  PR20,    25,  1,      1,     6A,2,19910629,0653, 21.7500, 128.0000, 4816,   1856.0,   2.1950,  34.6150,2,-999.0000,9,    123.4,2,   144.00,2,    38.49,2,     0.00,2,     2.78,2, -999.000,9, -999.000,9
     21OR287_1,  PR20,    26,  1,     12,      0,1,19910629,1025, 21.7497, 128.5013, 4509,      0.0,  30.1010,  34.7360,2,-999.0000,9,    215.8,2,     5.20,2,     0.00,2,     0.00,2,     0.02,2, -999.000,9, -999.000,9
     21OR287_1,  PR20,    26,  1,     11,     11,2,19910629,1025, 21.7497, 128.5013, 4509,     50.0,  26.7230,  34.7130,2,-999.0000,9,    233.8,2,     4.30,2,     0.00,2,     0.00,2,     0.01,2, -999.000,9, -999.000,9
     21OR287_1,  PR20,    26,  1,     10,      6,2,19910629,1025, 21.7497, 128.5013, 4509,    150.0,  21.1340,  34.9290,2,-999.0000,9,    218.2,2,     5.20,2,     1.08,2,     0.03,2,     0.12,2, -999.000,9, -999.000,9
     21OR287_1,  PR20,    26,  1,      9,      7,2,19910629,1025, 21.7497, 128.5013, 4509,    351.0,  16.1300,  34.7210,2,-999.0000,9,    216.8,2,     9.50,2,     6.49,2,     0.01,2,     0.48,2, -999.000,9, -999.000,9
     21OR287_1,  PR20,    26,  1,      8,      8,2,19910629,1025, 21.7497, 128.5013, 4509,    553.0,  10.2540,  34.2780,2,-999.0000,9,    187.1,2,    30.10,2,    18.95,2,     0.00,2,     1.37,2, -999.000,9, -999.000,9
     21OR287_1,  PR20,    26,  1,      7,     10,2,19910629,1025, 21.7497, 128.5013, 4509,    702.0,   6.4190,  34.1480,2,-999.0000,9,    117.1,2,    69.70,2,    32.52,2,     0.00,2,     2.36,2, -999.000,9, -999.000,9
     21OR287_1,  PR20,    26,  1,      6,    11A,2,19910629,1025, 21.7497, 128.5013, 4509,    898.0,   4.3870,  34.2960,2,-999.0000,9,     68.0,2,   112.70,2,    39.88,2,     0.00,2,     2.88,2, -999.000,9, -999.000,9
     21OR287_1,  PR20,    26,  1,      5,     2A,2,19910629,1025, 21.7497, 128.5013, 4509,   1099.0,   3.4920,  34.4360,2,-999.0000,9,     72.9,2,   132.40,2,    41.29,2,     0.00,2,     2.98,2, -999.000,9, -999.000,9
     21OR287_1,  PR20,    26,  1,      4,     12,2,19910629,1025, 21.7497, 128.5013, 4509,   1299.0,   2.9510,  34.5190,2,-999.0000,9,     83.6,2,   141.90,2,    40.79,2,     0.00,2,     2.94,2, -999.000,9, -999.000,9
     21OR287_1,  PR20,    26,  1,      3,      1,2,19910629,1025, 21.7497, 128.5013, 4509,   1502.0,   2.6180,  34.5600,2,-999.0000,9,    100.1,2,   142.80,2,    40.02,2,     0.00,2,     2.87,2, -999.000,9, -999.000,9
     21OR287_1,  PR20,    26,  1,      2,      3,2,19910629,1025, 21.7497, 128.5013, 4509,   1702.0,   2.3290,  34.5910,2,-999.0000,9,    112.8,2,   145.30,2,    39.25,2,     0.00,2,     2.82,2, -999.000,9, -999.000,9
     21OR287_1,  PR20,    26,  1,      1,     6A,2,19910629,1025, 21.7497, 128.5013, 4509,   1902.0,   2.0780,  34.6130,2,-999.0000,9,    123.9,2,   147.10,2,    39.02,2,     0.00,2,     2.77,2, -999.000,9, -999.000,9
     21OR287_1,  PR20,    27,  1,     12,   -999,1,19910629,1402, 21.7540, 129.0037, 5022,      0.0,  29.8780,  34.7040,2,-999.0000,9,    218.2,2,     1.60,2,     0.00,2,     0.04,2,     0.04,2, -999.000,9, -999.000,9
     21OR287_1,  PR20,    27,  1,     11,     11,2,19910629,1402, 21.7540, 129.0037, 5022,     52.0,  26.6180,  34.7060,2,-999.0000,9,    233.8,2,     2.40,2,     0.00,2,     0.01,2,     0.03,2, -999.000,9, -999.000,9
     21OR287_1,  PR20,    27,  1,     10,      6,2,19910629,1402, 21.7540, 129.0037, 5022,    152.0,  21.5840,  34.9460,2,-999.0000,9,    231.8,2,     5.70,2,     0.82,2,     0.08,2,     0.02,2, -999.000,9, -999.000,9
     21OR287_1,  PR20,    27,  1,      9,      7,2,19910629,1402, 21.7540, 129.0037, 5022,    350.0,  16.0490,  34.7170,2,-999.0000,9,    218.2,2,     5.70,2,     6.82,2,     0.02,2,     0.48,2, -999.000,9, -999.000,9
     21OR287_1,  PR20,    27,  1,      8,      8,2,19910629,1402, 21.7540, 129.0037, 5022,    551.0,  10.2050,  34.2710,2,-999.0000,9,    184.7,2,    27.50,2,    19.37,2,     0.01,2,     1.39,2, -999.000,9, -999.000,9
     21OR287_1,  PR20,    27,  1,      7,     10,2,19910629,1402, 21.7540, 129.0037, 5022,    700.0,   6.8850,  34.1370,2,-999.0000,9,    132.7,2,    56.70,2,    30.29,2,     0.00,2,     2.16,2, -999.000,9, -999.000,9
     21OR287_1,  PR20,    27,  1,      6,    11A,2,19910629,1402, 21.7540, 129.0037, 5022,    900.0,   4.5460,  34.2720,2,-999.0000,9,     73.9,2,    98.00,2,    39.29,2,     0.00,2,     2.82,2, -999.000,9, -999.000,9
     21OR287_1,  PR20,    27,  1,      5,     2A,2,19910629,1402, 21.7540, 129.0037, 5022,   1098.0,   3.4940,  34.4260,2,-999.0000,9,     67.6,2,   125.60,2,    41.75,2,     0.00,2,     2.97,2, -999.000,9, -999.000,9
     21OR287_1,  PR20,    27,  1,      4,     12,2,19910629,1402, 21.7540, 129.0037, 5022,   1299.0,   2.8980,  34.5050,2,-999.0000,9,     82.6,2,   135.30,2,    40.66,2,     0.00,2,     2.87,2, -999.000,9, -999.000,9
     21OR287_1,  PR20,    27,  1,      3,      1,2,19910629,1402, 21.7540, 129.0037, 5022,   1499.0,   2.6210,  34.5520,2,-999.0000,9,     99.6,2,   139.30,2,    40.11,2,     0.00,2,     2.86,2, -999.000,9, -999.000,9
     21OR287_1,  PR20,    27,  1,      2,      3,2,19910629,1402, 21.7540, 129.0037, 5022,   1702.0,   2.3390,  34.5910,2,-999.0000,9,    115.7,2,   142.60,2,    39.56,2,     0.01,2,     2.79,2, -999.000,9, -999.000,9
     21OR287_1,  PR20,    27,  1,      1,     6A,2,19910629,1402, 21.7540, 129.0037, 5022,   1870.0,   2.1470,  34.6110,2,-999.0000,9,    124.9,2,   144.20,2,    38.75,2,     0.00,2,     2.73,2, -999.000,9, -999.000,9