BOTTLE,20020809WHPSIObren
EXPOCODE,SECT_ID,STNNBR,CASTNO,SAMPNO,BTLNBR,BTLNBR_FLAG_W,DATE,TIME,LATITUDE,LONGITUDE,DEPTH,CTDPRS,CTDTMP,CTDSAL,CTDSAL_FLAG_W,SALNTY,SALNTY_FLAG_W,CTDOXY,CTDOXY_FLAG_W,OXYGEN,OXYGEN_FLAG_W,SILCAT,SILCAT_FLAG_W,NO2+NO3,NO2+NO3_FLAG_W,PHSPHT,PHSPHT_FLAG_W,CTDRAW,REVTMP,REVPRS,THETA
,,,,,,,,,,,,DBAR,ITS-90,PSS-78,,PSS-78,,UMOL/KG,,UMOL/KG,,UMOL/KG,,UMOL/KG,,UMOL/KG,,,DEG C,DBAR,ITS-90
     32MW082_1,  PRS2,     2,  4,     12,     12,2,19970408,2358, 22.7485,-157.9973, 4725,      4.2,  23.7623,  34.9578,2,  34.9587,2,    212.9,1,   -999.0,9,  -999.00,9,  -999.00,9,  -999.00,9,      4,-999.000,  -999.0, 23.7614
     32MW082_1,  PRS2,     2,  4,     11,     11,2,19970408,2358, 22.7485,-157.9973, 4725,     24.7,  23.2481,  34.9667,2,  34.9651,2,    214.7,1,   -999.0,9,  -999.00,9,  -999.00,9,  -999.00,9,     24,-999.000,  -999.0, 23.2430
     32MW082_1,  PRS2,     2,  4,     10,     32,2,19970408,2358, 22.7485,-157.9973, 4725,     45.2,  22.4569,  35.0450,2,  35.0438,2,    215.1,1,   -999.0,9,  -999.00,9,  -999.00,9,  -999.00,9,     45,-999.000,  -999.0, 22.4479
     32MW082_1,  PRS2,     2,  4,      9,      3,2,19970408,2358, 22.7485,-157.9973, 4725,     74.2,  20.4256,  35.0300,2,  35.0311,2,    197.8,1,   -999.0,9,  -999.00,9,  -999.00,9,  -999.00,9,     75,-999.000,  -999.0, 20.4117
     32MW082_1,  PRS2,     2,  4,      8,     29,2,19970408,2358, 22.7485,-157.9973, 4725,     99.4,  19.2524,  34.9724,2,  34.9732,2,    192.2,1,   -999.0,9,  -999.00,9,  -999.00,9,  -999.00,9,    100,-999.000,  -999.0, 19.2346
     32MW082_1,  PRS2,     2,  4,      7,     28,2,19970408,2358, 22.7485,-157.9973, 4725,    124.4,  18.4545,  34.9187,2,  34.9042,3,    193.2,1,   -999.0,9,  -999.00,9,  -999.00,9,  -999.00,9,    125,-999.000,  -999.0, 18.4328
     32MW082_1,  PRS2,     2,  4,      6,      7,2,19970408,2358, 22.7485,-157.9973, 4725,    149.4,  17.6053,  34.8175,2,  34.8155,2,    188.3,1,   -999.0,9,  -999.00,9,  -999.00,9,  -999.00,9,    150,-999.000,  -999.0, 17.5801
     32MW082_1,  PRS2,     2,  4,      5,     38,2,19970408,2358, 22.7485,-157.9973, 4725,    175.5,  16.6342,  34.7101,2,  34.7102,2,    187.2,1,   -999.0,9,  -999.00,9,  -999.00,9,  -999.00,9,    176,-999.000,  -999.0, 16.6057
     32MW082_1,  PRS2,     2,  4,      4,     36,2,19970408,2358, 22.7485,-157.9973, 4725,    250.5,  13.5594,  34.3955,2,  34.4000,2,    196.4,1,   -999.0,9,  -999.00,9,  -999.00,9,  -999.00,9,    251,-999.000,  -999.0, 13.5241
     32MW082_1,  PRS2,     2,  4,      3,     35,2,19970408,2358, 22.7485,-157.9973, 4725,    498.9,   6.2895,  34.0589,2,  34.0580,2,     94.3,1,   -999.0,9,  -999.00,9,  -999.00,9,  -999.00,9,    500,-999.000,  -999.0,  6.2452
     32MW082_1,  PRS2,     2,  4,      2,     34,2,19970408,2358, 22.7485,-157.9973, 4725,    749.3,   4.6978,  34.3834,2,  34.3773,2,     29.5,1,   -999.0,9,  -999.00,9,  -999.00,9,  -999.00,9,    749,-999.000,  -999.0,  4.6386
     32MW082_1,  PRS2,     2,  4,      1,     33,2,19970408,2358, 22.7485,-157.9973, 4725,   1019.9,   3.9159,  34.5074,2,  34.5069,2,     41.3,1,   -999.0,9,  -999.00,9,  -999.00,9,  -999.00,9,   1020,-999.000,  -999.0,  3.8393
     32MW082_1,  PRS2,     2,  5,     17,     17,2,19970409,0256, 22.7498,-157.9950, 4723,      4.7,  24.0237,  34.9664,2,  34.9647,2,    212.4,2,    213.3,2,  -999.00,5,  -999.00,5,  -999.00,5,      5,-999.000,  -999.0, 24.0227
     32MW082_1,  PRS2,     2,  5,     16,     16,2,19970409,0256, 22.7498,-157.9950, 4723,     59.6,  21.5222,  35.0438,2,  35.0489,2,    212.8,2,    210.0,2,  -999.00,5,  -999.00,5,  -999.00,5,     59,-999.000,  -999.0, 21.5106
     32MW082_1,  PRS2,     2,  5,     15,     15,2,19970409,0256, 22.7498,-157.9950, 4723,    209.5,  15.3569,  34.5620,2,  34.5610,2,    188.2,2,    187.7,2,  -999.00,5,  -999.00,5,  -999.00,5,    210,-999.000,  -999.0, 15.3248
     32MW082_1,  PRS2,     2,  5,     14,     14,2,19970409,0256, 22.7498,-157.9950, 4723,    224.1,  14.7670,  34.5064,2,  34.5061,2,    186.9,2,    190.8,2,     7.43,2,     7.35,2,     0.58,2,    225,-999.000,  -999.0, 14.7335
     32MW082_1,  PRS2,     2,  5,     13,     13,2,19970409,0256, 22.7498,-157.9950, 4723,    234.8,  14.1764,  34.4624,2,  34.4225,4,    195.3,3,    193.9,2,     7.99,2,     7.78,2,     0.59,2,    236,-999.000,  -999.0, 14.1423
     32MW082_1,  PRS2,     2,  5,     12,     12,2,19970409,0256, 22.7498,-157.9950, 4723,    249.6,  13.8346,  34.4173,2,  34.4167,2,    196.3,2,    194.2,2,     8.85,2,     8.53,2,     0.64,2,    250,-999.000,  -999.0, 13.7989
     32MW082_1,  PRS2,     2,  5,     11,     11,2,19970409,0256, 22.7498,-157.9950, 4723,    274.5,  13.2903,  34.3642,2,  34.3645,2,    197.6,2,    195.0,2,     9.80,2,     9.40,2,     0.70,2,    275,-999.000,  -999.0, 13.2521
     32MW082_1,  PRS2,     2,  5,     10,     32,2,19970409,0256, 22.7498,-157.9950, 4723,    300.0,  11.9764,  34.2429,2,  34.2417,2,    178.8,2,    184.2,2,    13.05,2,    12.89,2,     0.95,2,    301,-999.000,  -999.0, 11.9375
     32MW082_1,  PRS2,     2,  5,      9,      3,2,19970409,0256, 22.7498,-157.9950, 4723,    325.3,  11.0122,  34.1749,2,  34.1737,2,    200.3,2,    197.1,2,    14.54,2,    13.74,2,     0.99,2,    326,-999.000,  -999.0, 10.9722
     32MW082_1,  PRS2,     2,  5,      8,     29,2,19970409,0256, 22.7498,-157.9950, 4723,    351.0,  10.1676,  34.1256,2,  34.1262,2,    181.0,2,    189.8,2,    18.83,2,    16.16,2,     1.17,2,    352,-999.000,  -999.0, 10.1266
     32MW082_1,  PRS2,     2,  5,      7,     28,2,19970409,0256, 22.7498,-157.9950, 4723,    399.6,   9.2420,  34.0952,2,  34.1002,2,    171.4,2,    173.3,2,    24.61,2,    19.65,2,     1.41,2,    399,-999.000,  -999.0,  9.1979
     32MW082_1,  PRS2,     2,  5,      6,      7,2,19970409,0256, 22.7498,-157.9950, 4723,    501.1,   7.1659,  34.0513,2,  34.0517,2,    127.9,2,    121.5,2,    45.29,2,    28.19,2,     1.99,2,    500,-999.000,  -999.0,  7.1180
     32MW082_1,  PRS2,     2,  5,      5,     38,2,19970409,0256, 22.7498,-157.9950, 4723,    600.0,   5.7735,  34.1108,2,  34.1085,2,     69.0,2,     61.7,2,    70.16,2,    36.17,2,     2.58,2,    600,-999.000,  -999.0,  5.7221
     32MW082_1,  PRS2,     2,  5,      4,     36,2,19970409,0256, 22.7498,-157.9950, 4723,    700.0,   5.0167,  34.2849,2,  34.2837,2,     29.6,2,     27.7,2,    90.06,2,    40.42,2,     2.92,2,    701,-999.000,  -999.0,  4.9600
     32MW082_1,  PRS2,     2,  5,      3,     35,2,19970409,0256, 22.7498,-157.9950, 4723,    800.2,   4.6277,  34.3988,2,  34.3997,2,     29.7,2,     28.8,2,    98.49,2,    41.43,2,     3.01,2,    801,-999.000,  -999.0,  4.5646
     32MW082_1,  PRS2,     2,  5,      2,     34,2,19970409,0256, 22.7498,-157.9950, 4723,    899.9,   4.3512,  34.4610,2,  34.4608,2,     33.6,2,     34.4,2,   104.21,2,    41.56,2,     3.00,2,    900,-999.000,  -999.0,  4.2814
     32MW082_1,  PRS2,     2,  5,      1,     33,2,19970409,0256, 22.7498,-157.9950, 4723,   1020.6,   4.0280,  34.4957,2,  34.4959,2,     39.3,2,     41.3,2,   109.92,2,    41.51,2,     3.00,2,   1021,-999.000,  -999.0,  3.9504
     32MW082_1,  PRS2,     2,  6,     23,     30,2,19970409,0556, 22.7500,-157.9978, 4720,      5.0,  23.8665,  34.9765,2,  34.9753,2,    216.0,2,   -999.0,5,  -999.00,5,  -999.00,5,  -999.00,5,      6,-999.000,  -999.0, 23.8655
     32MW082_1,  PRS2,     2,  6,     22,     22,2,19970409,0556, 22.7500,-157.9978, 4720,      5.1,  23.8658,  34.9767,2,  34.9756,2,    216.0,2,    213.6,2,     1.69,3,     0.01,2,     0.07,2,      5,-999.000,  -999.0, 23.8647
     32MW082_1,  PRS2,     2,  6,     21,     21,2,19970409,0556, 22.7500,-157.9978, 4720,     15.2,  23.3793,  34.9644,2,  34.9631,2,    211.5,2,    214.1,2,     3.81,3,     0.00,2,     0.08,2,     15,-999.000,  -999.0, 23.3762
     32MW082_1,  PRS2,     2,  6,     20,     20,2,19970409,0556, 22.7500,-157.9978, 4720,     25.4,  23.2901,  34.9649,2,  34.9643,2,    216.0,2,   -999.0,5,  -999.00,5,  -999.00,5,  -999.00,5,     26,-999.000,  -999.0, 23.2848
     32MW082_1,  PRS2,     2,  6,     19,     19,2,19970409,0556, 22.7500,-157.9978, 4720,     25.4,  23.2899,  34.9650,2,  34.9659,2,    216.1,2,    214.5,2,     1.80,3,     0.01,2,     0.07,2,     26,-999.000,  -999.0, 23.2846
     32MW082_1,  PRS2,     2,  6,     18,     18,2,19970409,0556, 22.7500,-157.9978, 4720,     34.9,  23.2562,  34.9723,2,  34.9713,2,    216.1,2,    215.3,2,     1.85,3,     0.00,2,     0.07,2,     36,-999.000,  -999.0, 23.2490
     32MW082_1,  PRS2,     2,  6,     17,     17,2,19970409,0556, 22.7500,-157.9978, 4720,     44.3,  23.1594,  34.9756,2,  34.9763,2,    216.2,2,    215.3,2,     2.69,3,     0.02,2,     0.06,2,     44,-999.000,  -999.0, 23.1504
     32MW082_1,  PRS2,     2,  6,     16,     16,2,19970409,0556, 22.7500,-157.9978, 4720,     60.1,  22.0307,  35.0480,2,  35.0449,2,    211.7,2,    213.9,2,     2.46,3,     0.01,2,     0.08,2,     60,-999.000,  -999.0, 22.0188
     32MW082_1,  PRS2,     2,  6,     15,     15,2,19970409,0556, 22.7500,-157.9978, 4720,     75.0,  20.9058,  35.0445,2,  35.0445,2,    205.5,2,    204.2,2,     3.35,3,     0.38,2,     0.15,2,     75,-999.000,  -999.0, 20.8915
     32MW082_1,  PRS2,     2,  6,     14,     14,2,19970409,0556, 22.7500,-157.9978, 4720,     85.1,  20.6742,  35.0417,2,  35.0416,2,    203.0,2,    201.2,2,     3.45,3,     0.70,2,     0.16,2,     85,-999.000,  -999.0, 20.6582
     32MW082_1,  PRS2,     2,  6,     13,     13,2,19970409,0556, 22.7500,-157.9978, 4720,     95.0,  20.3327,  35.0261,2,  35.0250,2,    190.1,2,    193.2,2,     3.94,3,     1.55,2,     0.22,2,     96,-999.000,  -999.0, 20.3149
     32MW082_1,  PRS2,     2,  6,     12,     12,2,19970409,0556, 22.7500,-157.9978, 4720,    105.1,  20.1524,  35.0206,2,  35.0357,4,    194.4,3,    191.9,2,     4.12,3,     1.71,2,     0.26,2,    106,-999.000,  -999.0, 20.1329
     32MW082_1,  PRS2,     2,  6,     11,     11,2,19970409,0556, 22.7500,-157.9978, 4720,    115.1,  19.5856,  34.9764,2,  34.9657,2,    190.4,2,    189.6,2,     4.71,3,     2.52,2,     0.27,2,    116,-999.000,  -999.0, 19.5646
     32MW082_1,  PRS2,     2,  6,     10,     32,2,19970409,0556, 22.7500,-157.9978, 4720,    125.0,  18.9831,  34.9504,2,  34.9483,2,    183.6,2,    190.4,2,     5.35,3,     2.86,2,     0.30,2,    125,-999.000,  -999.0, 18.9609
     32MW082_1,  PRS2,     2,  6,      9,      3,2,19970409,0556, 22.7500,-157.9978, 4720,    134.8,  18.6064,  34.9221,2,  34.9174,2,    189.5,2,    189.1,2,     6.05,3,     3.23,2,     0.31,2,    135,-999.000,  -999.0, 18.5827
     32MW082_1,  PRS2,     2,  6,      8,     29,2,19970409,0556, 22.7500,-157.9978, 4720,    149.9,  17.7656,  34.8365,2,  34.8404,2,    185.8,2,    189.0,2,     6.33,3,     3.98,2,     0.36,2,    151,-999.000,  -999.0, 17.7401
     32MW082_1,  PRS2,     2,  6,      7,     28,2,19970409,0556, 22.7500,-157.9978, 4720,    159.8,  17.0654,  34.7563,2,  34.7632,2,    186.9,2,    188.2,2,  -999.00,5,  -999.00,5,  -999.00,5,    160,-999.000,  -999.0, 17.0390
     32MW082_1,  PRS2,     2,  6,      6,      7,2,19970409,0556, 22.7500,-157.9978, 4720,    175.1,  16.4353,  34.6913,2,  34.6966,2,    190.9,2,    181.0,4,     6.61,3,     5.16,2,     0.43,2,    175,-999.000,  -999.0, 16.4072
     32MW082_1,  PRS2,     2,  6,      5,     38,2,19970409,0556, 22.7500,-157.9978, 4720,    184.7,  16.1231,  34.6580,2,  34.6575,2,    192.3,2,    191.5,2,  -999.00,5,  -999.00,5,  -999.00,5,    185,-999.000,  -999.0, 16.0938
     32MW082_1,  PRS2,     2,  6,      4,     36,2,19970409,0556, 22.7500,-157.9978, 4720,    200.1,  15.4948,  34.5806,2,  34.5839,2,    189.7,2,    189.5,2,     6.85,3,     6.37,2,     0.51,2,    200,-999.000,  -999.0, 15.4639
     32MW082_1,  PRS2,     2,  6,      3,     35,2,19970409,0556, 22.7500,-157.9978, 4720,    510.4,   6.8418,  34.0483,2,  34.0477,2,    118.5,2,    111.1,2,  -999.00,5,  -999.00,5,  -999.00,5,    511,-999.000,  -999.0,  6.7942
     32MW082_1,  PRS2,     2,  6,      2,     34,2,19970409,0556, 22.7500,-157.9978, 4720,    760.0,   4.7327,  34.3490,2,  34.3504,2,     28.3,2,     26.9,2,  -999.00,5,  -999.00,5,  -999.00,5,    760,-999.000,  -999.0,  4.6724
     32MW082_1,  PRS2,     2,  6,      1,     33,2,19970409,0556, 22.7500,-157.9978, 4720,   1019.5,   4.0462,  34.4951,2,  34.4950,2,     38.8,2,     41.3,2,  -999.00,5,  -999.00,5,  -999.00,5,   1019,-999.000,  -999.0,  3.9686
     32MW082_1,  PRS2,     2,  7,      4,     36,2,19970409,0856, 22.7498,-157.9995, 4720,      4.6,  23.3691,  34.9707,2,  34.9721,2,    215.2,1,   -999.0,9,  -999.00,9,  -999.00,9,  -999.00,9,      5,-999.000,  -999.0, 23.3681
     32MW082_1,  PRS2,     2,  7,      3,     35,2,19970409,0856, 22.7498,-157.9995, 4720,     49.7,  21.7454,  35.0465,2,  35.0459,2,    208.7,1,   -999.0,9,  -999.00,9,  -999.00,9,  -999.00,9,     50,-999.000,  -999.0, 21.7357
     32MW082_1,  PRS2,     2,  7,      2,     34,2,19970409,0856, 22.7498,-157.9995, 4720,    459.9,   7.2665,  34.0399,2,  34.0379,2,    133.5,1,   -999.0,9,  -999.00,9,  -999.00,9,  -999.00,9,    460,-999.000,  -999.0,  7.2223
     32MW082_1,  PRS2,     2,  7,      1,     33,2,19970409,0856, 22.7498,-157.9995, 4720,   1019.6,   4.0034,  34.5008,2,  34.4989,2,     39.4,1,   -999.0,9,  -999.00,9,  -999.00,9,  -999.00,9,   1020,-999.000,  -999.0,  3.9261
     32MW082_1,  PRS2,     2,  8,     21,     21,2,19970409,1156, 22.7485,-157.9738, 4720,      4.5,  23.5038,  34.9755,2,  34.9748,2,    215.2,1,   -999.0,9,  -999.00,9,  -999.00,9,  -999.00,9,      5,-999.000,  -999.0, 23.5029
     32MW082_1,  PRS2,     2,  8,     20,     20,2,19970409,1156, 22.7485,-157.9738, 4720,     24.3,  23.2474,  34.9664,2,  34.9652,2,    215.6,1,   -999.0,9,  -999.00,9,  -999.00,9,  -999.00,9,     25,-999.000,  -999.0, 23.2424
     32MW082_1,  PRS2,     2,  8,     19,     19,2,19970409,1156, 22.7485,-157.9738, 4720,     49.5,  21.9356,  35.0555,2,  35.0568,2,    209.4,1,   -999.0,9,  -999.00,9,  -999.00,9,  -999.00,9,     50,-999.000,  -999.0, 21.9259
     32MW082_1,  PRS2,     2,  8,     18,     18,2,19970409,1156, 22.7485,-157.9738, 4720,     73.6,  20.2701,  35.0224,2,  35.0023,4,    190.3,1,   -999.0,9,  -999.00,9,  -999.00,9,  -999.00,9,     74,-999.000,  -999.0, 20.2564
     32MW082_1,  PRS2,     2,  8,     17,     17,2,19970409,1156, 22.7485,-157.9738, 4720,     99.5,  19.4860,  34.9958,2,  34.9944,2,    192.6,1,   -999.0,9,  -999.00,9,  -999.00,9,  -999.00,9,    100,-999.000,  -999.0, 19.4680
     32MW082_1,  PRS2,     2,  8,     16,     16,2,19970409,1156, 22.7485,-157.9738, 4720,    124.5,  18.4786,  34.9212,2,  34.9245,2,    193.9,1,   -999.0,9,  -999.00,9,  -999.00,9,  -999.00,9,    125,-999.000,  -999.0, 18.4568
     32MW082_1,  PRS2,     2,  8,     15,     15,2,19970409,1156, 22.7485,-157.9738, 4720,    149.3,  17.0678,  34.7612,2,  34.7589,2,    179.8,1,   -999.0,9,  -999.00,9,  -999.00,9,  -999.00,9,    150,-999.000,  -999.0, 17.0432
     32MW082_1,  PRS2,     2,  8,     14,     14,2,19970409,1156, 22.7485,-157.9738, 4720,    174.7,  15.9793,  34.6341,2,  34.6362,2,    186.9,1,   -999.0,9,  -999.00,9,  -999.00,9,  -999.00,9,    175,-999.000,  -999.0, 15.9517
     32MW082_1,  PRS2,     2,  8,     13,     13,2,19970409,1156, 22.7485,-157.9738, 4720,    199.5,  14.8311,  34.5133,2,  34.5137,2,    189.3,1,   -999.0,9,  -999.00,9,  -999.00,9,  -999.00,9,    200,-999.000,  -999.0, 14.8012
     32MW082_1,  PRS2,     2,  8,     12,     12,2,19970409,1156, 22.7485,-157.9738, 4720,    224.4,  13.4976,  34.4023,2,  34.4097,2,    197.1,1,   -999.0,9,  -999.00,9,  -999.00,9,  -999.00,9,    225,-999.000,  -999.0, 13.4661
     32MW082_1,  PRS2,     2,  8,     11,     11,2,19970409,1156, 22.7485,-157.9738, 4720,    249.1,  12.5689,  34.3070,2,  34.3107,2,    197.5,1,   -999.0,9,  -999.00,9,  -999.00,9,  -999.00,9,    250,-999.000,  -999.0, 12.5356
     32MW082_1,  PRS2,     2,  8,     10,     32,2,19970409,1156, 22.7485,-157.9738, 4720,    298.9,  11.0907,  34.1815,2,  34.1810,2,    186.9,1,   -999.0,9,  -999.00,9,  -999.00,9,  -999.00,9,    299,-999.000,  -999.0, 11.0538
     32MW082_1,  PRS2,     2,  8,      9,      3,2,19970409,1156, 22.7485,-157.9738, 4720,    324.5,  10.6399,  34.1516,2,  34.1516,2,    191.5,1,   -999.0,9,  -999.00,9,  -999.00,9,  -999.00,9,    326,-999.000,  -999.0, 10.6009
     32MW082_1,  PRS2,     2,  8,      8,     29,2,19970409,1156, 22.7485,-157.9738, 4720,    349.2,   9.9490,  34.1286,2,  34.1257,2,    182.3,1,   -999.0,9,  -999.00,9,  -999.00,9,  -999.00,9,    349,-999.000,  -999.0,  9.9087
     32MW082_1,  PRS2,     2,  8,      7,     28,2,19970409,1156, 22.7485,-157.9738, 4720,    399.1,   8.7813,  34.0836,2,  34.0822,2,    162.3,1,   -999.0,9,  -999.00,9,  -999.00,9,  -999.00,9,    400,-999.000,  -999.0,  8.7386
     32MW082_1,  PRS2,     2,  8,      6,      7,2,19970409,1156, 22.7485,-157.9738, 4720,    498.5,   6.6313,  34.0521,2,  34.0518,2,    102.8,1,   -999.0,9,  -999.00,9,  -999.00,9,  -999.00,9,    499,-999.000,  -999.0,  6.5857
     32MW082_1,  PRS2,     2,  8,      5,     38,2,19970409,1156, 22.7485,-157.9738, 4720,    599.4,   5.3614,  34.1599,2,  34.1632,2,     48.0,1,   -999.0,9,  -999.00,9,  -999.00,9,  -999.00,9,    600,-999.000,  -999.0,  5.3118
     32MW082_1,  PRS2,     2,  8,      4,     36,2,19970409,1156, 22.7485,-157.9738, 4720,    701.4,   4.9830,  34.3034,2,  34.3065,2,     28.5,1,   -999.0,9,  -999.00,9,  -999.00,9,  -999.00,9,    702,-999.000,  -999.0,  4.9264
     32MW082_1,  PRS2,     2,  8,      3,     35,2,19970409,1156, 22.7485,-157.9738, 4720,    799.2,   4.5702,  34.4139,2,  34.4139,2,     28.6,1,   -999.0,9,  -999.00,9,  -999.00,9,  -999.00,9,    800,-999.000,  -999.0,  4.5076
     32MW082_1,  PRS2,     2,  8,      2,     34,2,19970409,1156, 22.7485,-157.9738, 4720,    899.0,   4.3042,  34.4638,2,  34.4666,2,     33.1,1,   -999.0,9,  -999.00,9,  -999.00,9,  -999.00,9,    899,-999.000,  -999.0,  4.2348
     32MW082_1,  PRS2,     2,  8,      1,     33,2,19970409,1156, 22.7485,-157.9738, 4720,   1020.4,   3.9190,  34.5064,2,  34.5066,2,     40.6,1,   -999.0,9,  -999.00,9,  -999.00,9,  -999.00,9,   1021,-999.000,  -999.0,  3.8422