BOTTLE,20020809WHPSIObren
EXPOCODE,SECT_ID,STNNBR,CASTNO,SAMPNO,BTLNBR,BTLNBR_FLAG_W,DATE,TIME,LATITUDE,LONGITUDE,DEPTH,CTDPRS,CTDTMP,CTDSAL,CTDSAL_FLAG_W,SALNTY,SALNTY_FLAG_W,CTDOXY,CTDOXY_FLAG_W,OXYGEN,OXYGEN_FLAG_W,SILCAT,SILCAT_FLAG_W,NO2+NO3,NO2+NO3_FLAG_W,PHSPHT,PHSPHT_FLAG_W,CTDRAW,REVTMP,REVPRS,THETA
,,,,,,,,,,,,DBAR,ITS-90,PSS-78,,PSS-78,,UMOL/KG,,UMOL/KG,,UMOL/KG,,UMOL/KG,,UMOL/KG,,,DEG C,DBAR,ITS-90
     32MW082_1,  PRS2,     2, 14,     18,     18,2,19970410,0556, 22.7737,-157.9720, 4705,      5.4,  23.8716,  34.7497,2,  34.7673,3,    211.3,1,   -999.0,9,  -999.00,9,  -999.00,9,  -999.00,9,      6,-999.000,  -999.0, 23.8704
     32MW082_1,  PRS2,     2, 14,     17,     17,2,19970410,0556, 22.7737,-157.9720, 4705,      5.4,  23.8723,  34.7500,2,  34.7596,2,    211.0,1,   -999.0,9,  -999.00,9,  -999.00,9,  -999.00,9,      6,-999.000,  -999.0, 23.8712
     32MW082_1,  PRS2,     2, 14,     16,     16,2,19970410,0556, 22.7737,-157.9720, 4705,     20.1,  23.4521,  34.9720,2,  34.9714,2,    208.5,1,   -999.0,9,  -999.00,9,  -999.00,9,  -999.00,9,     21,-999.000,  -999.0, 23.4479
     32MW082_1,  PRS2,     2, 14,     14,     14,2,19970410,0556, 22.7737,-157.9720, 4705,     25.6,  23.3338,  34.9702,2,  34.9718,2,    211.9,1,   -999.0,9,  -999.00,9,  -999.00,9,  -999.00,9,     26,-999.000,  -999.0, 23.3286
     32MW082_1,  PRS2,     2, 14,     15,     15,2,19970410,0556, 22.7737,-157.9720, 4705,     25.7,  23.3336,  34.9703,2,  34.9705,2,    211.9,1,   -999.0,9,  -999.00,9,  -999.00,9,  -999.00,9,     26,-999.000,  -999.0, 23.3283
     32MW082_1,  PRS2,     2, 14,     13,     13,2,19970410,0556, 22.7737,-157.9720, 4705,     39.6,  23.1994,  34.9780,2,  34.9774,2,    211.8,1,   -999.0,9,  -999.00,9,  -999.00,9,  -999.00,9,     40,-999.000,  -999.0, 23.1913
     32MW082_1,  PRS2,     2, 14,     12,     12,2,19970410,0556, 22.7737,-157.9720, 4705,     46.5,  22.9884,  34.9908,2,  34.9887,2,    211.5,1,   -999.0,9,  -999.00,9,  -999.00,9,  -999.00,9,     47,-999.000,  -999.0, 22.9789
     32MW082_1,  PRS2,     2, 14,     11,     11,2,19970410,0556, 22.7737,-157.9720, 4705,     59.4,  22.0357,  35.0551,2,  35.0554,2,    210.6,1,   -999.0,9,  -999.00,9,  -999.00,9,  -999.00,9,     60,-999.000,  -999.0, 22.0240
     32MW082_1,  PRS2,     2, 14,     10,     32,2,19970410,0556, 22.7737,-157.9720, 4705,     75.3,  21.3304,  35.0660,2,  35.0652,2,    200.8,1,   -999.0,9,  -999.00,9,  -999.00,9,  -999.00,9,     75,-999.000,  -999.0, 21.3159
     32MW082_1,  PRS2,     2, 14,      9,      3,2,19970410,0556, 22.7737,-157.9720, 4705,     79.9,  21.1956,  35.0644,2,  35.0646,2,    206.2,1,   -999.0,9,  -999.00,9,  -999.00,9,  -999.00,9,     80,-999.000,  -999.0, 21.1802
     32MW082_1,  PRS2,     2, 14,      8,     29,2,19970410,0556, 22.7737,-157.9720, 4705,     99.2,  20.4045,  35.0304,2,  35.0314,2,    201.3,1,   -999.0,9,  -999.00,9,  -999.00,9,  -999.00,9,    100,-999.000,  -999.0, 20.3859
     32MW082_1,  PRS2,     2, 14,      7,     28,2,19970410,0556, 22.7737,-157.9720, 4705,    119.8,  19.7216,  34.9938,2,  35.0036,2,    189.1,1,   -999.0,9,  -999.00,9,  -999.00,9,  -999.00,9,    120,-999.000,  -999.0, 19.6997
     32MW082_1,  PRS2,     2, 14,      6,      7,2,19970410,0556, 22.7737,-157.9720, 4705,    124.5,  19.4245,  34.9683,2,  34.9685,2,    184.6,1,   -999.0,9,  -999.00,9,  -999.00,9,  -999.00,9,    125,-999.000,  -999.0, 19.4020
     32MW082_1,  PRS2,     2, 14,      5,     38,2,19970410,0556, 22.7737,-157.9720, 4705,    140.2,  18.6310,  34.9141,2,  34.9193,2,    182.8,1,   -999.0,9,  -999.00,9,  -999.00,9,  -999.00,9,    141,-999.000,  -999.0, 18.6064
     32MW082_1,  PRS2,     2, 14,      4,     36,2,19970410,0556, 22.7737,-157.9720, 4705,    150.3,  18.3429,  34.8903,2,  34.9055,2,    186.8,1,   -999.0,9,  -999.00,9,  -999.00,9,  -999.00,9,    151,-999.000,  -999.0, 18.3168
     32MW082_1,  PRS2,     2, 14,      3,     35,2,19970410,0556, 22.7737,-157.9720, 4705,    176.2,  17.1290,  34.7656,2,  34.7954,4,    181.7,1,   -999.0,9,  -999.00,9,  -999.00,9,  -999.00,9,    176,-999.000,  -999.0, 17.0998
     32MW082_1,  PRS2,     2, 14,      2,     34,2,19970410,0556, 22.7737,-157.9720, 4705,    511.0,   6.7731,  34.0526,2,  34.0564,2,    108.1,1,   -999.0,9,  -999.00,9,  -999.00,9,  -999.00,9,    512,-999.000,  -999.0,  6.7258
     32MW082_1,  PRS2,     2, 14,      1,     33,2,19970410,0556, 22.7737,-157.9720, 4705,   1020.8,   4.0669,  34.4915,2,  34.4929,2,     36.5,1,   -999.0,9,  -999.00,9,  -999.00,9,  -999.00,9,   1021,-999.000,  -999.0,  3.9890
     32MW082_1,  PRS2,     8,  1,     12,     12,2,19970411,0054, 22.4805,-158.1182, 4827,      5.7,  23.8582,  34.9406,2,  34.9442,2,    213.5,2,    212.9,2,  -999.00,9,  -999.00,9,  -999.00,9,      6,-999.000,  -999.0, 23.8570
     32MW082_1,  PRS2,     8,  1,     11,     11,2,19970411,0054, 22.4805,-158.1182, 4827,     25.2,  23.4921,  34.9342,2,  34.9363,2,    213.6,2,    213.9,2,  -999.00,9,  -999.00,9,  -999.00,9,     25,-999.000,  -999.0, 23.4869
     32MW082_1,  PRS2,     8,  1,     10,     32,2,19970411,0054, 22.4805,-158.1182, 4827,     50.2,  23.3148,  34.9741,2,  34.9729,2,    213.8,2,    214.6,2,  -999.00,9,  -999.00,9,  -999.00,9,     50,-999.000,  -999.0, 23.3045
     32MW082_1,  PRS2,     8,  1,      9,      3,2,19970411,0054, 22.4805,-158.1182, 4827,     75.3,  21.8937,  35.0175,2,  35.0194,2,    205.5,2,    206.9,2,  -999.00,9,  -999.00,9,  -999.00,9,     75,-999.000,  -999.0, 21.8788
     32MW082_1,  PRS2,     8,  1,      8,     29,2,19970411,0054, 22.4805,-158.1182, 4827,    101.5,  21.0605,  35.0417,2,  35.0419,2,    205.1,2,    205.2,2,  -999.00,9,  -999.00,9,  -999.00,9,    101,-999.000,  -999.0, 21.0410
     32MW082_1,  PRS2,     8,  1,      7,     28,2,19970411,0054, 22.4805,-158.1182, 4827,    124.4,  20.2580,  35.0048,2,  35.0048,2,    197.7,2,    196.2,2,  -999.00,9,  -999.00,9,  -999.00,9,    124,-999.000,  -999.0, 20.2348
     32MW082_1,  PRS2,     8,  1,      6,      7,2,19970411,0054, 22.4805,-158.1182, 4827,    149.1,  19.0791,  34.9177,2,  34.9137,2,    187.0,2,    186.7,2,  -999.00,9,  -999.00,9,  -999.00,9,    149,-999.000,  -999.0, 19.0525
     32MW082_1,  PRS2,     8,  1,      5,     38,2,19970411,0054, 22.4805,-158.1182, 4827,    175.2,  17.4884,  34.7872,2,  34.7934,2,    183.9,2,    184.4,2,  -999.00,9,  -999.00,9,  -999.00,9,    176,-999.000,  -999.0, 17.4590
     32MW082_1,  PRS2,     8,  1,      4,     36,2,19970411,0054, 22.4805,-158.1182, 4827,    202.1,  16.3193,  34.6495,2,  34.6779,3,    184.0,3,    180.9,2,  -999.00,9,  -999.00,9,  -999.00,9,    202,-999.000,  -999.0, 16.2870
     32MW082_1,  PRS2,     8,  1,      3,     35,2,19970411,0054, 22.4805,-158.1182, 4827,    226.6,  15.1515,  34.5119,2,  34.5089,2,    173.2,2,    175.3,2,  -999.00,9,  -999.00,9,  -999.00,9,    227,-999.000,  -999.0, 15.1170
     32MW082_1,  PRS2,     8,  1,      2,     34,2,19970411,0054, 22.4805,-158.1182, 4827,    251.2,  14.4166,  34.4861,2,  34.4798,2,    196.2,2,    196.5,2,  -999.00,9,  -999.00,9,  -999.00,9,    252,-999.000,  -999.0, 14.3797
     32MW082_1,  PRS2,     8,  1,      1,     33,2,19970411,0054, 22.4805,-158.1182, 4827,    304.8,  11.8969,  34.2675,2,  34.2650,2,    198.7,2,    199.9,2,  -999.00,9,  -999.00,9,  -999.00,9,    305,-999.000,  -999.0, 11.8575
     32MW082_1,  PRS2,     8,  2,      7,     28,2,19970411,0214, 22.4598,-158.1222, 4823,      4.7,  23.9267,  34.9140,2,  34.9216,2,    214.1,2,    212.8,2,  -999.00,9,  -999.00,9,  -999.00,9,      5,-999.000,  -999.0, 23.9257
     32MW082_1,  PRS2,     8,  2,      6,      7,2,19970411,0214, 22.4598,-158.1222, 4823,     70.8,  22.0516,  35.0308,2,  35.0240,2,    209.5,2,   -999.0,5,  -999.00,9,  -999.00,9,  -999.00,9,     71,-999.000,  -999.0, 22.0376
     32MW082_1,  PRS2,     8,  2,      5,     38,2,19970411,0214, 22.4598,-158.1222, 4823,    176.3,  16.5343,  34.6689,2,  34.6816,2,    181.2,2,    182.2,2,  -999.00,9,  -999.00,9,  -999.00,9,    177,-999.000,  -999.0, 16.5058
     32MW082_1,  PRS2,     8,  2,      4,     36,2,19970411,0214, 22.4598,-158.1222, 4823,    202.5,  15.1357,  34.5090,2,  34.5116,2,    173.8,2,    174.1,2,  -999.00,9,  -999.00,9,  -999.00,9,    203,-999.000,  -999.0, 15.1049
     32MW082_1,  PRS2,     8,  2,      3,     35,2,19970411,0214, 22.4598,-158.1222, 4823,    502.2,   7.3718,  34.0597,2,  34.0603,2,    131.3,2,    127.9,2,  -999.00,9,  -999.00,9,  -999.00,9,    502,-999.000,  -999.0,  7.3230
     32MW082_1,  PRS2,     8,  2,      2,     34,2,19970411,0214, 22.4598,-158.1222, 4823,    748.9,   4.8223,  34.3622,2,  34.3602,2,     31.3,2,     29.7,2,  -999.00,9,  -999.00,9,  -999.00,9,    749,-999.000,  -999.0,  4.7624
     32MW082_1,  PRS2,     8,  2,      1,     33,2,19970411,0214, 22.4598,-158.1222, 4823,   1021.5,   3.8442,  34.4895,2,  34.4890,2,     41.4,2,     44.1,2,  -999.00,9,  -999.00,9,  -999.00,9,   1022,-999.000,  -999.0,  3.7680