BOTTLE,20020809WHPSIObren
EXPOCODE,SECT_ID,STNNBR,CASTNO,SAMPNO,BTLNBR,BTLNBR_FLAG_W,DATE,TIME,LATITUDE,LONGITUDE,DEPTH,CTDPRS,CTDTMP,CTDSAL,CTDSAL_FLAG_W,SALNTY,SALNTY_FLAG_W,CTDOXY,CTDOXY_FLAG_W,OXYGEN,OXYGEN_FLAG_W,SILCAT,SILCAT_FLAG_W,NO2+NO3,NO2+NO3_FLAG_W,PHSPHT,PHSPHT_FLAG_W,CTDRAW,REVTMP,REVPRS,THETA
,,,,,,,,,,,,DBAR,ITS-90,PSS-78,,PSS-78,,UMOL/KG,,UMOL/KG,,UMOL/KG,,UMOL/KG,,UMOL/KG,,,DEG C,DBAR,ITS-90
     32MW082_1,  PRS2,     2,  9,     24,     31,2,19970409,1535, 22.7603,-157.9945, 4715,      1.9,  23.4707,  34.9767,2,  34.9746,2,    214.5,1,   -999.0,9,  -999.00,9,  -999.00,9,  -999.00,9,      2,-999.000,  -999.0, 23.4703
     32MW082_1,  PRS2,     2,  9,     23,     30,2,19970409,1535, 22.7603,-157.9945, 4715,      4.6,  23.4651,  34.9771,2,  34.9746,2,    214.4,1,   -999.0,9,  -999.00,9,  -999.00,9,  -999.00,9,      5,-999.000,  -999.0, 23.4641
     32MW082_1,  PRS2,     2,  9,     22,     22,2,19970409,1535, 22.7603,-157.9945, 4715,      9.5,  23.4418,  34.9758,2,  34.9726,2,    214.3,1,   -999.0,9,  -999.00,9,  -999.00,9,  -999.00,9,      9,-999.000,  -999.0, 23.4398
     32MW082_1,  PRS2,     2,  9,     21,     21,2,19970409,1535, 22.7603,-157.9945, 4715,     14.6,  23.3698,  34.9740,2,  34.9722,2,    214.2,1,   -999.0,9,  -999.00,9,  -999.00,9,  -999.00,9,     15,-999.000,  -999.0, 23.3668
     32MW082_1,  PRS2,     2,  9,     20,     20,2,19970409,1535, 22.7603,-157.9945, 4715,     19.6,  23.3197,  34.9731,2,  34.9722,2,    214.1,1,   -999.0,9,  -999.00,9,  -999.00,9,  -999.00,9,     20,-999.000,  -999.0, 23.3157
     32MW082_1,  PRS2,     2,  9,     19,     19,2,19970409,1535, 22.7603,-157.9945, 4715,     24.7,  23.3026,  34.9732,2,  34.9726,2,    214.0,1,   -999.0,9,  -999.00,9,  -999.00,9,  -999.00,9,     25,-999.000,  -999.0, 23.2975
     32MW082_1,  PRS2,     2,  9,     18,     18,2,19970409,1535, 22.7603,-157.9945, 4715,     29.4,  23.2798,  34.9720,2,  34.9716,2,    214.9,1,   -999.0,9,  -999.00,9,  -999.00,9,  -999.00,9,     30,-999.000,  -999.0, 23.2738
     32MW082_1,  PRS2,     2,  9,     17,     17,2,19970409,1535, 22.7603,-157.9945, 4715,     34.2,  23.2638,  34.9720,2,  34.9710,2,    215.2,1,   -999.0,9,  -999.00,9,  -999.00,9,  -999.00,9,     34,-999.000,  -999.0, 23.2567
     32MW082_1,  PRS2,     2,  9,     16,     16,2,19970409,1535, 22.7603,-157.9945, 4715,     39.7,  23.2001,  34.9718,2,  34.9708,2,    214.9,1,   -999.0,9,  -999.00,9,  -999.00,9,  -999.00,9,     40,-999.000,  -999.0, 23.1919
     32MW082_1,  PRS2,     2,  9,     15,     15,2,19970409,1535, 22.7603,-157.9945, 4715,     45.0,  23.1111,  34.9799,2,  34.9806,2,    215.7,1,   -999.0,9,  -999.00,9,  -999.00,9,  -999.00,9,     45,-999.000,  -999.0, 23.1019
     32MW082_1,  PRS2,     2,  9,     14,     14,2,19970409,1535, 22.7603,-157.9945, 4715,     49.8,  22.8388,  34.9998,2,  34.9977,2,    213.7,1,   -999.0,9,  -999.00,9,  -999.00,9,  -999.00,9,     50,-999.000,  -999.0, 22.8286
     32MW082_1,  PRS2,     2,  9,     13,     13,2,19970409,1535, 22.7603,-157.9945, 4715,     54.7,  22.5382,  35.0114,2,  35.0107,2,    212.4,1,   -999.0,9,  -999.00,9,  -999.00,9,  -999.00,9,     55,-999.000,  -999.0, 22.5272
     32MW082_1,  PRS2,     2,  9,     12,     12,2,19970409,1535, 22.7603,-157.9945, 4715,     64.9,  21.8104,  35.0512,2,  35.0516,2,    211.8,1,   -999.0,9,  -999.00,9,  -999.00,9,  -999.00,9,     65,-999.000,  -999.0, 21.7976
     32MW082_1,  PRS2,     2,  9,     11,     11,2,19970409,1535, 22.7603,-157.9945, 4715,     75.0,  21.2341,  35.0420,2,  35.0538,3,    207.1,1,   -999.0,9,  -999.00,9,  -999.00,9,  -999.00,9,     76,-999.000,  -999.0, 21.2196
     32MW082_1,  PRS2,     2,  9,     10,     32,2,19970409,1535, 22.7603,-157.9945, 4715,     85.4,  20.8410,  35.0665,2,  35.0657,2,    202.2,1,   -999.0,9,  -999.00,9,  -999.00,9,  -999.00,9,     86,-999.000,  -999.0, 20.8247
     32MW082_1,  PRS2,     2,  9,      9,      3,2,19970409,1535, 22.7603,-157.9945, 4715,     94.4,  20.2811,  35.0210,2,  35.0243,2,    195.9,1,   -999.0,9,  -999.00,9,  -999.00,9,  -999.00,9,     94,-999.000,  -999.0, 20.2635
     32MW082_1,  PRS2,     2,  9,      8,     29,2,19970409,1535, 22.7603,-157.9945, 4715,    104.6,  19.8029,  35.0012,2,  35.0058,2,    179.6,1,   -999.0,9,  -999.00,9,  -999.00,9,  -999.00,9,    105,-999.000,  -999.0, 19.7837
     32MW082_1,  PRS2,     2,  9,      7,     28,2,19970409,1535, 22.7603,-157.9945, 4715,    114.7,  19.5690,  34.9794,2,  34.9729,2,    177.4,1,   -999.0,9,  -999.00,9,  -999.00,9,  -999.00,9,    115,-999.000,  -999.0, 19.5482
     32MW082_1,  PRS2,     2,  9,      6,      7,2,19970409,1535, 22.7603,-157.9945, 4715,    124.4,  19.1694,  34.9486,2,  34.9451,2,    185.7,1,   -999.0,9,  -999.00,9,  -999.00,9,  -999.00,9,    124,-999.000,  -999.0, 19.1471
     32MW082_1,  PRS2,     2,  9,      5,     38,2,19970409,1535, 22.7603,-157.9945, 4715,    151.3,  18.5604,  34.9241,2,  34.9344,2,    194.4,1,   -999.0,9,  -999.00,9,  -999.00,9,  -999.00,9,    152,-999.000,  -999.0, 18.5338
     32MW082_1,  PRS2,     2,  9,      4,     36,2,19970409,1535, 22.7603,-157.9945, 4715,    174.9,  17.6239,  34.8201,2,  34.8233,2,    188.0,1,   -999.0,9,  -999.00,9,  -999.00,9,  -999.00,9,    175,-999.000,  -999.0, 17.5944
     32MW082_1,  PRS2,     2,  9,      3,     35,2,19970409,1535, 22.7603,-157.9945, 4715,    249.2,  14.0955,  34.4354,2,  34.4342,2,    187.1,1,   -999.0,9,  -999.00,9,  -999.00,9,  -999.00,9,    250,-999.000,  -999.0, 14.0594
     32MW082_1,  PRS2,     2,  9,      2,     34,2,19970409,1535, 22.7603,-157.9945, 4715,    749.4,   4.7742,  34.3405,2,  34.3404,2,     26.6,1,   -999.0,9,  -999.00,9,  -999.00,9,  -999.00,9,    749,-999.000,  -999.0,  4.7146
     32MW082_1,  PRS2,     2,  9,      1,     33,2,19970409,1535, 22.7603,-157.9945, 4715,   1025.1,   3.9145,  34.5060,2,  34.5082,2,     39.9,1,   -999.0,9,  -999.00,9,  -999.00,9,  -999.00,9,   1025,-999.000,  -999.0,  3.8374
     32MW082_1,  PRS2,     2, 10,     12,     12,2,19970409,1759, 22.7688,-157.9785, 4710,      4.5,  23.5466,  34.9681,2,  34.9666,2,    214.0,1,   -999.0,9,  -999.00,9,  -999.00,9,  -999.00,9,      5,-999.000,  -999.0, 23.5457
     32MW082_1,  PRS2,     2, 10,     11,     11,2,19970409,1759, 22.7688,-157.9785, 4710,     24.4,  23.2350,  34.9633,2,  34.9615,2,    215.2,1,   -999.0,9,  -999.00,9,  -999.00,9,  -999.00,9,     24,-999.000,  -999.0, 23.2300
     32MW082_1,  PRS2,     2, 10,     10,     32,2,19970409,1759, 22.7688,-157.9785, 4710,     44.3,  22.7600,  35.0149,2,  35.0108,2,    215.9,1,   -999.0,9,  -999.00,9,  -999.00,9,  -999.00,9,     45,-999.000,  -999.0, 22.7510
     32MW082_1,  PRS2,     2, 10,      9,      3,2,19970409,1759, 22.7688,-157.9785, 4710,     73.9,  21.0411,  35.0513,2,  35.0536,2,    199.3,1,   -999.0,9,  -999.00,9,  -999.00,9,  -999.00,9,     74,-999.000,  -999.0, 21.0270
     32MW082_1,  PRS2,     2, 10,      8,     29,2,19970409,1759, 22.7688,-157.9785, 4710,     99.8,  20.0039,  35.0086,2,  35.0042,2,    187.4,1,   -999.0,9,  -999.00,9,  -999.00,9,  -999.00,9,    100,-999.000,  -999.0, 19.9855
     32MW082_1,  PRS2,     2, 10,      7,     28,2,19970409,1759, 22.7688,-157.9785, 4710,    124.4,  19.1054,  34.9782,2,  34.9745,2,    193.4,1,   -999.0,9,  -999.00,9,  -999.00,9,  -999.00,9,    125,-999.000,  -999.0, 19.0832
     32MW082_1,  PRS2,     2, 10,      6,      7,2,19970409,1759, 22.7688,-157.9785, 4710,    149.8,  18.0565,  34.8714,2,  34.8706,2,    184.9,1,   -999.0,9,  -999.00,9,  -999.00,9,  -999.00,9,    150,-999.000,  -999.0, 18.0307
     32MW082_1,  PRS2,     2, 10,      5,     38,2,19970409,1759, 22.7688,-157.9785, 4710,    175.8,  16.8683,  34.7398,2,  34.7430,2,    186.4,1,   -999.0,9,  -999.00,9,  -999.00,9,  -999.00,9,    176,-999.000,  -999.0, 16.8396
     32MW082_1,  PRS2,     2, 10,      4,     36,2,19970409,1759, 22.7688,-157.9785, 4710,    250.7,  13.3356,  34.3649,2,  34.3662,2,    192.8,1,   -999.0,9,  -999.00,9,  -999.00,9,  -999.00,9,    251,-999.000,  -999.0, 13.3007
     32MW082_1,  PRS2,     2, 10,      3,     35,2,19970409,1759, 22.7688,-157.9785, 4710,    501.6,   6.6925,  34.0536,2,  34.0532,2,    104.8,1,   -999.0,9,  -999.00,9,  -999.00,9,  -999.00,9,    502,-999.000,  -999.0,  6.6464
     32MW082_1,  PRS2,     2, 10,      2,     34,2,19970409,1759, 22.7688,-157.9785, 4710,    755.4,   4.9041,  34.3133,2,  34.3139,2,     25.8,1,   -999.0,9,  -999.00,9,  -999.00,9,  -999.00,9,    756,-999.000,  -999.0,  4.8433
     32MW082_1,  PRS2,     2, 10,      1,     33,2,19970409,1759, 22.7688,-157.9785, 4710,   1027.6,   4.0083,  34.5014,2,  34.4983,2,     38.1,1,   -999.0,9,  -999.00,9,  -999.00,9,  -999.00,9,   1028,-999.000,  -999.0,  3.9303
     32MW082_1,  PRS2,     2, 11,     11,     11,2,19970409,2058, 22.7948,-157.9688, 4695,      4.3,  23.6086,  34.9667,2,  34.9668,2,    215.3,1,   -999.0,9,  -999.00,9,  -999.00,9,  -999.00,9,      5,-999.000,  -999.0, 23.6077
     32MW082_1,  PRS2,     2, 11,     10,     32,2,19970409,2058, 22.7948,-157.9688, 4695,     24.4,  23.2114,  34.9670,2,  34.9643,2,    215.6,1,   -999.0,9,  -999.00,9,  -999.00,9,  -999.00,9,     24,-999.000,  -999.0, 23.2064
     32MW082_1,  PRS2,     2, 11,      9,      3,2,19970409,2058, 22.7948,-157.9688, 4695,     45.3,  22.4597,  35.0281,2,  35.0319,2,    211.9,1,   -999.0,9,  -999.00,9,  -999.00,9,  -999.00,9,     46,-999.000,  -999.0, 22.4506
     32MW082_1,  PRS2,     2, 11,      8,     29,2,19970409,2058, 22.7948,-157.9688, 4695,     45.5,  22.4407,  35.0290,2,  35.0288,2,    211.7,1,   -999.0,9,  -999.00,9,  -999.00,9,  -999.00,9,     46,-999.000,  -999.0, 22.4316
     32MW082_1,  PRS2,     2, 11,      7,     28,2,19970409,2058, 22.7948,-157.9688, 4695,     74.9,  20.9811,  35.0507,2,  35.0493,2,    204.0,1,   -999.0,9,  -999.00,9,  -999.00,9,  -999.00,9,     75,-999.000,  -999.0, 20.9668
     32MW082_1,  PRS2,     2, 11,      6,      7,2,19970409,2058, 22.7948,-157.9688, 4695,    100.1,  20.0594,  35.0085,2,  35.0063,2,    192.6,1,   -999.0,9,  -999.00,9,  -999.00,9,  -999.00,9,    101,-999.000,  -999.0, 20.0409
     32MW082_1,  PRS2,     2, 11,      5,     38,2,19970409,2058, 22.7948,-157.9688, 4695,    125.1,  18.9111,  34.9655,2,  34.9666,2,    188.5,1,   -999.0,9,  -999.00,9,  -999.00,9,  -999.00,9,    126,-999.000,  -999.0, 18.8889
     32MW082_1,  PRS2,     2, 11,      4,     36,2,19970409,2058, 22.7948,-157.9688, 4695,    149.7,  17.6953,  34.8282,2,  34.8276,2,    184.4,1,   -999.0,9,  -999.00,9,  -999.00,9,  -999.00,9,    150,-999.000,  -999.0, 17.6700
     32MW082_1,  PRS2,     2, 11,      3,     35,2,19970409,2058, 22.7948,-157.9688, 4695,    175.2,  16.7520,  34.7287,2,  34.7280,2,    183.9,1,   -999.0,9,  -999.00,9,  -999.00,9,  -999.00,9,    176,-999.000,  -999.0, 16.7235
     32MW082_1,  PRS2,     2, 11,      2,     34,2,19970409,2058, 22.7948,-157.9688, 4695,    753.8,   4.8621,  34.3106,2,  34.3104,2,     25.6,1,   -999.0,9,  -999.00,9,  -999.00,9,  -999.00,9,    754,-999.000,  -999.0,  4.8017
     32MW082_1,  PRS2,     2, 11,      1,     33,2,19970409,2058, 22.7948,-157.9688, 4695,   1020.0,   3.9860,  34.5039,2,  34.5043,2,     38.4,1,   -999.0,9,  -999.00,9,  -999.00,9,  -999.00,9,   1020,-999.000,  -999.0,  3.9088
     32MW082_1,  PRS2,     2, 12,     12,     12,2,19970409,2358, 22.8022,-157.9613, 4690,      5.5,  23.4750,  34.9776,2,  34.9788,2,    216.4,1,   -999.0,9,  -999.00,9,  -999.00,9,  -999.00,9,      5,-999.000,  -999.0, 23.4739
     32MW082_1,  PRS2,     2, 12,     11,     11,2,19970409,2358, 22.8022,-157.9613, 4690,     25.2,  23.1463,  34.9809,2,  34.9774,2,    214.6,1,   -999.0,9,  -999.00,9,  -999.00,9,  -999.00,9,     25,-999.000,  -999.0, 23.1412
     32MW082_1,  PRS2,     2, 12,     10,     32,2,19970409,2358, 22.8022,-157.9613, 4690,     49.4,  21.8313,  35.0471,2,  35.0457,2,    211.3,1,   -999.0,9,  -999.00,9,  -999.00,9,  -999.00,9,     50,-999.000,  -999.0, 21.8216
     32MW082_1,  PRS2,     2, 12,      9,      3,2,19970409,2358, 22.8022,-157.9613, 4690,     74.5,  20.8907,  35.0584,2,  35.0590,2,    209.5,1,   -999.0,9,  -999.00,9,  -999.00,9,  -999.00,9,     75,-999.000,  -999.0, 20.8765
     32MW082_1,  PRS2,     2, 12,      8,     29,2,19970409,2358, 22.8022,-157.9613, 4690,     99.5,  19.6459,  34.9784,2,  34.9770,2,    188.0,1,   -999.0,9,  -999.00,9,  -999.00,9,  -999.00,9,    100,-999.000,  -999.0, 19.6278
     32MW082_1,  PRS2,     2, 12,      7,     28,2,19970409,2358, 22.8022,-157.9613, 4690,    124.5,  18.4874,  34.9204,2,  34.9214,2,    191.2,1,   -999.0,9,  -999.00,9,  -999.00,9,  -999.00,9,    124,-999.000,  -999.0, 18.4656
     32MW082_1,  PRS2,     2, 12,      6,      7,2,19970409,2358, 22.8022,-157.9613, 4690,    150.5,  17.0627,  34.7579,2,  34.7606,2,    182.7,1,   -999.0,9,  -999.00,9,  -999.00,9,  -999.00,9,    150,-999.000,  -999.0, 17.0378
     32MW082_1,  PRS2,     2, 12,      5,     38,2,19970409,2358, 22.8022,-157.9613, 4690,    174.2,  16.2396,  34.6684,2,  34.6713,2,    191.5,1,   -999.0,9,  -999.00,9,  -999.00,9,  -999.00,9,    174,-999.000,  -999.0, 16.2119
     32MW082_1,  PRS2,     2, 12,      4,     36,2,19970409,2358, 22.8022,-157.9613, 4690,    249.1,  12.9381,  34.3238,2,  34.3291,2,    186.4,1,   -999.0,9,  -999.00,9,  -999.00,9,  -999.00,9,    249,-999.000,  -999.0, 12.9042
     32MW082_1,  PRS2,     2, 12,      3,     35,2,19970409,2358, 22.8022,-157.9613, 4690,    500.5,   6.8754,  34.0678,2,  34.0668,2,     99.8,1,   -999.0,9,  -999.00,9,  -999.00,9,  -999.00,9,    500,-999.000,  -999.0,  6.8287
     32MW082_1,  PRS2,     2, 12,      2,     34,2,19970409,2358, 22.8022,-157.9613, 4690,    749.0,   4.7630,  34.3334,2,  34.3338,2,     25.0,1,   -999.0,9,  -999.00,9,  -999.00,9,  -999.00,9,    749,-999.000,  -999.0,  4.7036
     32MW082_1,  PRS2,     2, 12,      1,     33,2,19970409,2358, 22.8022,-157.9613, 4690,   1020.3,   3.9608,  34.5049,2,  34.5057,2,     38.8,1,   -999.0,9,  -999.00,9,  -999.00,9,  -999.00,9,   1020,-999.000,  -999.0,  3.8837
     32MW082_1,  PRS2,     2, 13,     24,     31,2,19970410,0257, 22.7868,-157.9540, 4692,      1.2,  24.1134,  34.9876,2,  35.0169,4,    210.2,1,   -999.0,9,  -999.00,9,  -999.00,9,  -999.00,9,      1,-999.000,  -999.0, 24.1131
     32MW082_1,  PRS2,     2, 13,     23,     30,2,19970410,0257, 22.7868,-157.9540, 4692,      4.5,  23.6295,  34.9880,2,  34.9806,2,    214.9,1,   -999.0,9,  -999.00,9,  -999.00,9,  -999.00,9,      4,-999.000,  -999.0, 23.6285
     32MW082_1,  PRS2,     2, 13,     22,     22,2,19970410,0257, 22.7868,-157.9540, 4692,      9.9,  23.4405,  34.9757,2,  34.9740,2,    202.9,1,   -999.0,9,  -999.00,9,  -999.00,9,  -999.00,9,     11,-999.000,  -999.0, 23.4385
     32MW082_1,  PRS2,     2, 13,     21,     21,2,19970410,0257, 22.7868,-157.9540, 4692,     13.7,  23.3270,  34.9708,2,  34.9903,4,    211.3,1,   -999.0,9,  -999.00,9,  -999.00,9,  -999.00,9,     13,-999.000,  -999.0, 23.3242
     32MW082_1,  PRS2,     2, 13,     20,     20,2,19970410,0257, 22.7868,-157.9540, 4692,     19.0,  23.2636,  34.9746,2,  34.9873,2,    214.0,1,   -999.0,9,  -999.00,9,  -999.00,9,  -999.00,9,     19,-999.000,  -999.0, 23.2597
     32MW082_1,  PRS2,     2, 13,     19,     19,2,19970410,0257, 22.7868,-157.9540, 4692,     24.4,  22.7870,  35.0058,2,  35.0070,2,    213.0,1,   -999.0,9,  -999.00,9,  -999.00,9,  -999.00,9,     25,-999.000,  -999.0, 22.7821
     32MW082_1,  PRS2,     2, 13,     18,     18,2,19970410,0257, 22.7868,-157.9540, 4692,     28.7,  22.5178,  35.0149,2,  35.0191,2,    211.7,1,   -999.0,9,  -999.00,9,  -999.00,9,  -999.00,9,     28,-999.000,  -999.0, 22.5121
     32MW082_1,  PRS2,     2, 13,     17,     17,2,19970410,0257, 22.7868,-157.9540, 4692,     34.6,  22.1712,  35.0487,2,  35.0602,3,    217.5,1,   -999.0,9,  -999.00,9,  -999.00,9,  -999.00,9,     34,-999.000,  -999.0, 22.1643
     32MW082_1,  PRS2,     2, 13,     16,     16,2,19970410,0257, 22.7868,-157.9540, 4692,     39.3,  22.0839,  35.0497,2,  35.0516,2,    216.2,1,   -999.0,9,  -999.00,9,  -999.00,9,  -999.00,9,     39,-999.000,  -999.0, 22.0761
     32MW082_1,  PRS2,     2, 13,     15,     15,2,19970410,0257, 22.7868,-157.9540, 4692,     43.9,  21.7507,  35.0462,2,  35.0469,2,    211.4,1,   -999.0,9,  -999.00,9,  -999.00,9,  -999.00,9,     43,-999.000,  -999.0, 21.7421
     32MW082_1,  PRS2,     2, 13,     14,     14,2,19970410,0257, 22.7868,-157.9540, 4692,     48.0,  21.5249,  35.0499,2,  35.0480,2,    205.1,1,   -999.0,9,  -999.00,9,  -999.00,9,  -999.00,9,     48,-999.000,  -999.0, 21.5156
     32MW082_1,  PRS2,     2, 13,     13,     13,2,19970410,0257, 22.7868,-157.9540, 4692,     54.0,  21.2900,  35.0614,2,  35.0599,2,    207.9,1,   -999.0,9,  -999.00,9,  -999.00,9,  -999.00,9,     54,-999.000,  -999.0, 21.2796
     32MW082_1,  PRS2,     2, 13,     12,     12,2,19970410,0257, 22.7868,-157.9540, 4692,     63.6,  21.1181,  35.0619,2,  35.0642,2,    208.8,1,   -999.0,9,  -999.00,9,  -999.00,9,  -999.00,9,     64,-999.000,  -999.0, 21.1059
     32MW082_1,  PRS2,     2, 13,     11,     11,2,19970410,0257, 22.7868,-157.9540, 4692,     74.8,  20.7708,  35.0593,2,  35.0635,2,    207.4,1,   -999.0,9,  -999.00,9,  -999.00,9,  -999.00,9,     75,-999.000,  -999.0, 20.7566
     32MW082_1,  PRS2,     2, 13,     10,     32,2,19970410,0257, 22.7868,-157.9540, 4692,     84.8,  20.3634,  35.0237,2,  35.0268,2,    201.5,1,   -999.0,9,  -999.00,9,  -999.00,9,  -999.00,9,     84,-999.000,  -999.0, 20.3475
     32MW082_1,  PRS2,     2, 13,      9,      3,2,19970410,0257, 22.7868,-157.9540, 4692,     93.5,  19.8941,  34.9934,2,  34.9973,2,    189.8,1,   -999.0,9,  -999.00,9,  -999.00,9,  -999.00,9,     93,-999.000,  -999.0, 19.8769
     32MW082_1,  PRS2,     2, 13,      8,     29,2,19970410,0257, 22.7868,-157.9540, 4692,    105.4,  19.3144,  34.9603,2,  34.9657,2,    184.3,1,   -999.0,9,  -999.00,9,  -999.00,9,  -999.00,9,    107,-999.000,  -999.0, 19.2954
     32MW082_1,  PRS2,     2, 13,      7,     28,2,19970410,0257, 22.7868,-157.9540, 4692,    114.9,  18.8739,  34.9459,2,  34.9476,2,    183.6,1,   -999.0,9,  -999.00,9,  -999.00,9,  -999.00,9,    115,-999.000,  -999.0, 18.8535
     32MW082_1,  PRS2,     2, 13,      6,      7,2,19970410,0257, 22.7868,-157.9540, 4692,    124.4,  18.4945,  34.9227,2,  34.9246,2,    189.4,1,   -999.0,9,  -999.00,9,  -999.00,9,  -999.00,9,    124,-999.000,  -999.0, 18.4727
     32MW082_1,  PRS2,     2, 13,      5,     38,2,19970410,0257, 22.7868,-157.9540, 4692,    149.5,  17.5121,  34.8053,2,  34.7976,2,    181.1,1,   -999.0,9,  -999.00,9,  -999.00,9,  -999.00,9,    150,-999.000,  -999.0, 17.4869
     32MW082_1,  PRS2,     2, 13,      4,     36,2,19970410,0257, 22.7868,-157.9540, 4692,    172.4,  16.7940,  34.7330,2,  34.7289,2,    189.7,1,   -999.0,9,  -999.00,9,  -999.00,9,  -999.00,9,    173,-999.000,  -999.0, 16.7659
     32MW082_1,  PRS2,     2, 13,      3,     35,2,19970410,0257, 22.7868,-157.9540, 4692,    250.8,  13.7864,  34.4214,2,  34.4218,2,    197.9,1,   -999.0,9,  -999.00,9,  -999.00,9,  -999.00,9,    252,-999.000,  -999.0, 13.7506
     32MW082_1,  PRS2,     2, 13,      2,     34,2,19970410,0257, 22.7868,-157.9540, 4692,    489.3,   6.9033,  34.0467,2,  34.0486,2,    114.3,1,   -999.0,9,  -999.00,9,  -999.00,9,  -999.00,9,    489,-999.000,  -999.0,  6.8576
     32MW082_1,  PRS2,     2, 13,      1,     33,2,19970410,0257, 22.7868,-157.9540, 4692,   1021.0,   4.0550,  34.4982,2,  34.5017,2,     37.5,1,   -999.0,9,  -999.00,9,  -999.00,9,  -999.00,9,   1021,-999.000,  -999.0,  3.9772