BOTTLE,20020809WHPSIObren
#code : jjward hyd_to_exchange.pl 
#original files copied from HTML directory: 20020809
#original HYD file: /whpo/11/HOTS/BOTTLE/hot82/hot82.sea   Fri Aug  9 09:51:37 2002
#original SUM file: /whpo/11/HOTS/BOTTLE/hot82/hot82.sum   Fri Aug  9 13:30:41 2002
EXPOCODE,SECT_ID,STNNBR,CASTNO,SAMPNO,BTLNBR,BTLNBR_FLAG_W,DATE,TIME,LATITUDE,LONGITUDE,DEPTH,CTDPRS,CTDTMP,CTDSAL,CTDSAL_FLAG_W,SALNTY,SALNTY_FLAG_W,CTDOXY,CTDOXY_FLAG_W,OXYGEN,OXYGEN_FLAG_W,SILCAT,SILCAT_FLAG_W,NO2+NO3,NO2+NO3_FLAG_W,PHSPHT,PHSPHT_FLAG_W,CTDRAW,REVTMP,REVPRS,THETA
,,,,,,,,,,,,DBAR,ITS-90,PSS-78,,PSS-78,,UMOL/KG,,UMOL/KG,,UMOL/KG,,UMOL/KG,,UMOL/KG,,,DEG C,DBAR,ITS-90
     32MW082_1,  PRS2,     1,  1,     24,     31,2,19970407,2314, 21.3418,-158.2730, 1500,      4.5,  25.4160,  34.7822,2,-999.0000,5,    206.3,2,    207.3,2,     1.34,2,     0.01,2,     0.10,2,      5,-999.000,  -999.0, 25.4150
     32MW082_1,  PRS2,     1,  1,     23,     30,2,19970407,2314, 21.3418,-158.2730, 1500,     24.5,  25.1487,  34.7747,2,  34.7763,2,    205.5,2,    207.5,2,     1.17,2,     0.01,2,     0.10,2,     25,-999.000,  -999.0, 25.1434
     32MW082_1,  PRS2,     1,  1,     22,     22,2,19970407,2314, 21.3418,-158.2730, 1500,     44.6,  25.1277,  34.7739,2,  34.7759,2,    207.1,2,    207.4,2,     0.66,2,     0.00,2,     0.11,2,     45,-999.000,  -999.0, 25.1180
     32MW082_1,  PRS2,     1,  1,     21,     21,2,19970407,2314, 21.3418,-158.2730, 1500,     59.9,  25.1146,  34.7732,2,  34.7750,2,    207.8,2,    207.6,2,     0.65,2,     0.01,2,     0.11,2,     60,-999.000,  -999.0, 25.1016
     32MW082_1,  PRS2,     1,  1,     20,     20,2,19970407,2314, 21.3418,-158.2730, 1500,     74.7,  25.0970,  34.7725,2,  34.7739,2,    208.0,2,    207.3,2,     0.74,2,     0.00,2,     0.11,2,     75,-999.000,  -999.0, 25.0808
     32MW082_1,  PRS2,     1,  1,     19,     19,2,19970407,2314, 21.3418,-158.2730, 1500,     94.6,  24.8404,  34.7966,2,  34.8367,3,    210.0,3,    210.5,2,     0.86,2,     0.00,2,     0.09,2,     95,-999.000,  -999.0, 24.8200
     32MW082_1,  PRS2,     1,  1,     18,     18,2,19970407,2314, 21.3418,-158.2730, 1500,    104.6,  24.4011,  34.8840,2,  34.8854,2,    212.5,2,    211.9,2,     1.18,2,     0.01,2,     0.07,2,    104,-999.000,  -999.0, 24.3788
     32MW082_1,  PRS2,     1,  1,     17,     17,2,19970407,2314, 21.3418,-158.2730, 1500,    114.7,  24.0285,  34.9319,2,  34.9350,2,    214.4,2,    212.1,2,     1.31,2,     0.04,2,     0.08,2,    115,-999.000,  -999.0, 24.0043
     32MW082_1,  PRS2,     1,  1,     16,     16,2,19970407,2314, 21.3418,-158.2730, 1500,    125.1,  23.5058,  34.9370,2,  34.9390,2,    211.9,2,    188.9,4,     1.28,2,     0.01,2,     0.10,2,    125,-999.000,  -999.0, 23.4798
     32MW082_1,  PRS2,     1,  1,     15,     15,2,19970407,2314, 21.3418,-158.2730, 1500,    148.7,  21.0033,  35.0102,2,  35.0090,2,    193.8,2,    195.1,2,     1.93,2,     1.18,2,     0.19,2,    150,-999.000,  -999.0, 20.9749
     32MW082_1,  PRS2,     1,  1,     14,     14,2,19970407,2314, 21.3418,-158.2730, 1500,    174.6,  19.2120,  34.9739,2,  35.0093,4,    191.8,3,    211.5,4,     2.38,2,     2.41,2,     0.24,2,    175,-999.000,  -999.0, 19.1806
     32MW082_1,  PRS2,     1,  1,     13,     13,2,19970407,2314, 21.3418,-158.2730, 1500,    199.7,  17.2633,  34.8057,2,  34.8234,2,    191.6,2,    190.7,2,     4.29,2,     4.40,2,     0.38,2,    199,-999.000,  -999.0, 17.2300
     32MW082_1,  PRS2,     1,  1,     12,     12,2,19970407,2314, 21.3418,-158.2730, 1500,    224.2,  16.8709,  34.7614,2,  34.7643,2,    193.4,2,    190.2,2,     4.91,2,     5.04,2,     0.42,2,    225,-999.000,  -999.0, 16.8341
     32MW082_1,  PRS2,     1,  1,     11,     11,2,19970407,2314, 21.3418,-158.2730, 1500,    249.2,  14.9900,  34.5397,2,  34.5381,2,    182.9,2,    184.6,2,     7.57,2,     8.00,2,     0.63,2,    250,-999.000,  -999.0, 14.9523
     32MW082_1,  PRS2,     1,  1,     10,     32,2,19970407,2314, 21.3418,-158.2730, 1500,    300.1,  12.5262,  34.3219,2,  34.3246,2,    184.4,2,    185.7,3,    12.03,2,    11.93,2,     0.87,2,    300,-999.000,  -999.0, 12.4861
     32MW082_1,  PRS2,     1,  1,      9,      3,2,19970407,2314, 21.3418,-158.2730, 1500,    349.7,  10.3791,  34.1712,2,  34.5654,4,    168.2,3,    187.7,4,     8.45,4,     8.30,4,     0.64,4,    350,-999.000,  -999.0, 10.3377
     32MW082_1,  PRS2,     1,  1,      8,     29,2,19970407,2314, 21.3418,-158.2730, 1500,    398.4,   9.0187,  34.1202,2,  34.1208,2,    155.5,2,    156.8,2,    29.26,2,    21.55,2,     1.51,2,    399,-999.000,  -999.0,  8.9753
     32MW082_1,  PRS2,     1,  1,      7,     28,2,19970407,2314, 21.3418,-158.2730, 1500,    449.4,   7.9530,  34.1228,2,  34.1227,2,    123.5,2,    122.6,2,    41.38,2,    26.71,2,     1.92,2,    450,-999.000,  -999.0,  7.9076
     32MW082_1,  PRS2,     1,  1,      6,      7,2,19970407,2314, 21.3418,-158.2730, 1500,    501.3,   6.9547,  34.1636,2,  34.1637,2,     76.2,2,     75.0,2,    55.16,2,    32.65,2,     2.36,2,    501,-999.000,  -999.0,  6.9076
     32MW082_1,  PRS2,     1,  1,      5,     38,2,19970407,2314, 21.3418,-158.2730, 1500,    600.2,   5.8504,  34.2318,2,  34.2322,2,     47.4,2,     44.9,2,    73.43,2,    37.68,2,     2.70,2,    600,-999.000,  -999.0,  5.7985
     32MW082_1,  PRS2,     1,  1,      4,     36,2,19970407,2314, 21.3418,-158.2730, 1500,    699.4,   5.0191,  34.3212,2,  34.3230,2,     31.5,2,     29.9,2,    89.96,2,    40.61,2,     2.90,2,    700,-999.000,  -999.0,  4.9624
     32MW082_1,  PRS2,     1,  1,      3,     35,2,19970407,2314, 21.3418,-158.2730, 1500,    799.3,   4.7584,  34.4162,2,  34.4195,2,     33.2,2,     32.6,2,    95.20,2,    41.01,2,     2.94,2,    799,-999.000,  -999.0,  4.6946
     32MW082_1,  PRS2,     1,  1,      2,     34,2,19970407,2314, 21.3418,-158.2730, 1500,    899.4,   4.4188,  34.4670,2,  34.4667,2,     36.1,2,     38.1,2,   101.91,2,    41.35,2,     2.98,2,    901,-999.000,  -999.0,  4.3486
     32MW082_1,  PRS2,     1,  1,      1,     33,2,19970407,2314, 21.3418,-158.2730, 1500,   1023.4,   4.0114,  34.4998,2,  34.5028,2,     41.4,2,     44.0,2,   109.20,2,    41.23,2,     2.98,2,   1024,-999.000,  -999.0,  3.9337
     32MW082_1,  PRS2,     2,  1,     24,     31,2,19970408,1215, 22.7535,-158.0032, 4725,      4.8,  23.2580,  34.9588,2,  34.9633,2,    213.4,2,    201.4,4,     1.28,2,     0.00,2,     0.08,2,      5,-999.000,  -999.0, 23.2570
     32MW082_1,  PRS2,     2,  1,     23,     30,2,19970408,1215, 22.7535,-158.0032, 4725,     60.7,  21.5971,  35.0491,2,  35.0465,2,    203.4,2,    209.0,2,     1.53,2,     0.00,2,     0.09,2,     60,-999.000,  -999.0, 21.5853
     32MW082_1,  PRS2,     2,  1,     22,     22,2,19970408,1215, 22.7535,-158.0032, 4725,    775.3,   4.7713,  34.3722,2,  34.3713,2,     30.0,2,     27.2,2,    93.52,2,    40.36,2,     2.83,4,    775,-999.000,  -999.0,  4.7095
     32MW082_1,  PRS2,     2,  1,     21,     21,2,19970408,1215, 22.7535,-158.0032, 4725,    999.6,   4.1042,  34.4885,2,  34.4884,2,     40.1,2,     40.7,2,   107.15,2,    41.50,2,     2.96,2,   1000,-999.000,  -999.0,  4.0278
     32MW082_1,  PRS2,     2,  1,     20,     20,2,19970408,1215, 22.7535,-158.0032, 4725,   1204.3,   3.5269,  34.5334,2,  34.5361,2,     50.6,2,     50.6,2,   118.71,2,    41.33,2,     2.95,2,   1205,-999.000,  -999.0,  3.4382
     32MW082_1,  PRS2,     2,  1,     19,     19,2,19970408,1215, 22.7535,-158.0032, 4725,   1405.3,   3.0369,  34.5671,2,  34.5676,2,     59.9,2,     60.0,2,   129.36,2,    41.15,2,     2.92,2,   1405,-999.000,  -999.0,  2.9366
     32MW082_1,  PRS2,     2,  1,     18,     18,2,19970408,1215, 22.7535,-158.0032, 4725,   1613.8,   2.6512,  34.5858,2,  34.5860,2,     70.6,2,     69.4,2,   138.35,2,    40.37,2,     2.86,2,   1614,-999.000,  -999.0,  2.5380
     32MW082_1,  PRS2,     2,  1,     17,     17,2,19970408,1215, 22.7535,-158.0032, 4725,   1792.2,   2.3190,  34.6061,2,  34.6065,2,     80.2,2,     81.2,2,   145.76,2,    39.84,2,     2.82,2,   1792,-999.000,  -999.0,  2.1953
     32MW082_1,  PRS2,     2,  1,     16,     16,2,19970408,1215, 22.7535,-158.0032, 4725,   1998.6,   2.0781,  34.6226,2,  34.6229,2,     88.6,2,     89.5,2,   150.75,2,    39.26,2,     2.76,2,   1998,-999.000,  -999.0,  1.9406
     32MW082_1,  PRS2,     2,  1,     15,     15,2,19970408,1215, 22.7535,-158.0032, 4725,   2196.9,   1.8929,  34.6374,2,  34.6372,2,     98.8,2,    100.6,2,   154.13,2,    38.78,2,     2.73,2,   2197,-999.000,  -999.0,  1.7414
     32MW082_1,  PRS2,     2,  1,     14,     14,2,19970408,1215, 22.7535,-158.0032, 4725,   2397.3,   1.7881,  34.6462,2,  34.6457,2,    104.6,2,    105.3,2,   156.25,2,    38.43,2,     2.70,2,   2396,-999.000,  -999.0,  1.6210
     32MW082_1,  PRS2,     2,  1,     13,     13,2,19970408,1215, 22.7535,-158.0032, 4725,   2597.8,   1.6837,  34.6548,2,  34.6548,2,    110.2,2,    111.4,2,   158.31,2,    38.07,2,     2.68,2,   2598,-999.000,  -999.0,  1.5005
     32MW082_1,  PRS2,     2,  1,     12,     12,2,19970408,1215, 22.7535,-158.0032, 4725,   2796.2,   1.5949,  34.6627,2,  34.6632,2,    117.5,2,    118.2,2,   159.98,2,    37.69,2,     2.64,2,   2795,-999.000,  -999.0,  1.3953
     32MW082_1,  PRS2,     2,  1,     11,     11,2,19970408,1215, 22.7535,-158.0032, 4725,   2997.5,   1.5331,  34.6702,2,  34.6683,2,    125.3,2,    125.8,2,   158.96,2,    37.18,2,     2.60,2,   2997,-999.000,  -999.0,  1.3159
     32MW082_1,  PRS2,     2,  1,     10,     32,2,19970408,1215, 22.7535,-158.0032, 4725,   3198.0,   1.4952,  34.6757,2,  34.6755,2,    132.0,2,    131.6,2,   157.02,2,    36.74,2,     2.56,2,   3197,-999.000,  -999.0,  1.2594
     32MW082_1,  PRS2,     2,  1,      9,      3,2,19970408,1215, 22.7535,-158.0032, 4725,   3398.0,   1.4669,  34.6798,2,  34.6811,2,    137.9,2,    137.5,2,   155.57,2,    36.36,2,     2.53,2,   3398,-999.000,  -999.0,  1.2119
     32MW082_1,  PRS2,     2,  1,      8,     29,2,19970408,1215, 22.7535,-158.0032, 4725,   3596.8,   1.4498,  34.6830,2,  34.6833,2,    142.2,2,    142.8,2,   153.80,2,    36.16,2,     2.52,2,   3597,-999.000,  -999.0,  1.1750
     32MW082_1,  PRS2,     2,  1,      7,     28,2,19970408,1215, 22.7535,-158.0032, 4725,   3798.9,   1.4437,  34.6853,2,  34.6859,2,    146.9,2,    146.7,2,   151.90,2,    35.90,2,     2.50,2,   3798,-999.000,  -999.0,  1.1479
     32MW082_1,  PRS2,     2,  1,      6,      7,2,19970408,1215, 22.7535,-158.0032, 4725,   4000.9,   1.4470,  34.6871,2,  34.6897,2,    149.6,2,    148.5,2,   150.43,2,    35.74,2,     2.48,2,   4001,-999.000,  -999.0,  1.1295
     32MW082_1,  PRS2,     2,  1,      5,     38,2,19970408,1215, 22.7535,-158.0032, 4725,   4199.6,   1.4588,  34.6881,2,  34.6878,2,    150.8,2,    150.1,2,   149.15,3,    35.58,2,     2.48,2,   4200,-999.000,  -999.0,  1.1191
     32MW082_1,  PRS2,     2,  1,      4,     36,2,19970408,1215, 22.7535,-158.0032, 4725,   4400.3,   1.4752,  34.6888,2,  34.6875,2,    152.0,2,    152.1,2,   149.53,2,    35.59,2,     2.48,2,   4399,-999.000,  -999.0,  1.1124
     32MW082_1,  PRS2,     2,  1,      3,     35,2,19970408,1215, 22.7535,-158.0032, 4725,   4499.7,   1.4846,  34.6891,2,  34.6890,2,    152.2,2,    152.0,2,   149.03,2,    35.54,2,     2.47,2,   4500,-999.000,  -999.0,  1.1101
     32MW082_1,  PRS2,     2,  1,      2,     34,2,19970408,1215, 22.7535,-158.0032, 4725,   4600.4,   1.4939,  34.6895,2,  34.6889,2,    153.0,2,    152.7,2,   148.48,2,    35.58,2,     2.50,2,   4599,-999.000,  -999.0,  1.1074
     32MW082_1,  PRS2,     2,  1,      1,     33,2,19970408,1215, 22.7535,-158.0032, 4725,   4810.2,   1.5054,  34.6904,2,  34.6866,3,    154.5,3,    154.6,2,   147.09,2,    35.33,2,     2.45,2,   4810,-999.000,  -999.0,  1.0939
     32MW082_1,  PRS2,     2,  2,     24,     31,2,19970408,1802, 22.7482,-157.9992, 4725,      9.3,  23.4261,  34.9635,2,  34.9676,2,    212.8,2,    213.5,2,     2.07,2,     0.00,2,     0.07,2,      9,-999.000,  -999.0, 23.4242
     32MW082_1,  PRS2,     2,  2,     23,     30,2,19970408,1802, 22.7482,-157.9992, 4725,     49.9,  22.4774,  35.0381,2,  35.0423,2,    212.6,2,    215.1,2,     1.38,2,     0.01,2,     0.07,2,     50,-999.000,  -999.0, 22.4674
     32MW082_1,  PRS2,     2,  2,     22,     22,2,19970408,1802, 22.7482,-157.9992, 4725,     77.7,  21.0799,  35.0425,2,  35.0762,4,    204.7,3,    206.2,2,     3.25,2,     0.18,2,     0.13,2,     78,-999.000,  -999.0, 21.0650
     32MW082_1,  PRS2,     2,  2,     21,     21,2,19970408,1802, 22.7482,-157.9992, 4725,    129.1,  19.1347,  34.9839,2,  35.0037,2,    194.2,2,    193.7,2,     2.80,2,     2.35,2,     0.23,2,    129,-999.000,  -999.0, 19.1116
     32MW082_1,  PRS2,     2,  2,     20,     20,2,19970408,1802, 22.7482,-157.9992, 4725,    149.5,  18.2288,  34.8858,2,  34.8938,2,    188.2,2,    189.4,2,     4.63,2,     3.44,2,     0.30,2,    150,-999.000,  -999.0, 18.2029
     32MW082_1,  PRS2,     2,  2,     19,     19,2,19970408,1802, 22.7482,-157.9992, 4725,    190.0,  15.8919,  34.6244,2,  34.6271,2,    189.7,2,    189.0,2,     5.44,2,     5.84,2,     0.47,2,    191,-999.000,  -999.0, 15.8621
     32MW082_1,  PRS2,     2,  2,     18,     18,2,19970408,1802, 22.7482,-157.9992, 4725,    226.0,  13.8805,  34.4210,2,  34.4244,2,    191.8,2,    195.0,2,     7.81,2,     8.30,2,     0.63,2,    226,-999.000,  -999.0, 13.8482
     32MW082_1,  PRS2,     2,  2,     17,     17,2,19970408,1802, 22.7482,-157.9992, 4725,    269.5,  11.8310,  34.2364,2,  34.2384,2,    184.6,2,    189.3,2,    12.56,2,    12.66,2,     0.91,2,    270,-999.000,  -999.0, 11.7963
     32MW082_1,  PRS2,     2,  2,     16,     16,2,19970408,1802, 22.7482,-157.9992, 4725,    323.5,  10.2973,  34.1374,2,  34.1361,2,    198.6,2,    191.9,2,    17.62,2,    15.70,2,     1.11,2,    324,-999.000,  -999.0, 10.2592
     32MW082_1,  PRS2,     2,  2,     15,     15,2,19970408,1802, 22.7482,-157.9992, 4725,    359.3,   9.4552,  34.0978,2,  34.0976,2,    182.0,2,    181.9,2,    22.37,2,    18.54,2,     1.30,2,    360,-999.000,  -999.0,  9.4150
     32MW082_1,  PRS2,     2,  2,     14,     14,2,19970408,1802, 22.7482,-157.9992, 4725,    400.4,   8.6785,  34.0791,2,  34.0805,2,    162.1,2,    162.2,2,    28.87,2,    21.75,2,     1.54,2,    401,-999.000,  -999.0,  8.6360
     32MW082_1,  PRS2,     2,  2,     13,     13,2,19970408,1802, 22.7482,-157.9992, 4725,    441.1,   8.0938,  34.0671,2,  34.0664,2,    153.8,2,    148.4,2,    34.90,2,    24.32,2,     1.72,2,    441,-999.000,  -999.0,  8.0488
     32MW082_1,  PRS2,     2,  2,     12,     12,2,19970408,1802, 22.7482,-157.9992, 4725,    477.3,   7.4757,  34.0656,2,  34.0678,2,    128.0,2,    121.9,2,    43.05,2,    27.78,2,     1.98,2,    478,-999.000,  -999.0,  7.4291
     32MW082_1,  PRS2,     2,  2,     11,     11,2,19970408,1802, 22.7482,-157.9992, 4725,    517.3,   6.6530,  34.0529,2,  34.0535,2,    106.6,2,    102.5,2,    54.23,2,    31.26,2,     2.23,2,    517,-999.000,  -999.0,  6.6056
     32MW082_1,  PRS2,     2,  2,     10,     32,2,19970408,1802, 22.7482,-157.9992, 4725,    568.3,   5.8296,  34.0941,2,  34.0925,2,     74.1,2,     66.1,2,    69.15,2,    35.59,2,     2.57,2,    568,-999.000,  -999.0,  5.7807
     32MW082_1,  PRS2,     2,  2,      9,      3,2,19970408,1802, 22.7482,-157.9992, 4725,    599.9,   5.4390,  34.1535,2,  34.1540,2,     53.4,2,     49.7,2,    89.94,4,    37.89,2,     2.74,2,    600,-999.000,  -999.0,  5.3891
     32MW082_1,  PRS2,     2,  2,      8,     29,2,19970408,1802, 22.7482,-157.9992, 4725,    682.3,   5.1183,  34.2510,2,  34.2513,2,     36.3,2,     31.4,2,    99.15,4,    39.77,2,     2.90,2,    682,-999.000,  -999.0,  5.0627
     32MW082_1,  PRS2,     2,  2,      7,     28,2,19970408,1802, 22.7482,-157.9992, 4725,    725.4,   4.9242,  34.2827,2,  34.2828,2,     31.5,2,     26.8,2,   103.38,4,    40.50,2,     2.95,2,    726,-999.000,  -999.0,  4.8659
     32MW082_1,  PRS2,     2,  2,      6,      7,2,19970408,1802, 22.7482,-157.9992, 4725,    765.9,   4.8514,  34.3398,2,  34.3406,2,     29.5,2,     26.4,2,   104.95,4,    40.42,2,     2.96,2,    766,-999.000,  -999.0,  4.7899
     32MW082_1,  PRS2,     2,  2,      5,     38,2,19970408,1802, 22.7482,-157.9992, 4725,    799.4,   4.7101,  34.3673,2,  34.3641,2,     28.7,2,     29.0,2,   109.25,4,    41.08,2,     3.00,2,    799,-999.000,  -999.0,  4.6466
     32MW082_1,  PRS2,     2,  2,      4,     36,2,19970408,1802, 22.7482,-157.9992, 4725,    866.1,   4.5295,  34.4274,2,  34.4257,2,     31.4,2,     30.9,2,   112.59,4,    41.22,2,     2.99,2,    866,-999.000,  -999.0,  4.4614
     32MW082_1,  PRS2,     2,  2,      3,     35,2,19970408,1802, 22.7482,-157.9992, 4725,    949.8,   4.2644,  34.4683,2,  34.4696,2,     36.1,2,     36.9,2,   110.25,2,    41.43,2,     3.01,2,    949,-999.000,  -999.0,  4.1910
     32MW082_1,  PRS2,     2,  2,      2,     34,2,19970408,1802, 22.7482,-157.9992, 4725,   1009.4,   4.0947,  34.4895,2,  34.4967,3,     38.7,3,     38.6,2,   109.55,2,    41.38,2,     2.99,2,   1010,-999.000,  -999.0,  4.0175
     32MW082_1,  PRS2,     2,  2,      1,     33,2,19970408,1802, 22.7482,-157.9992, 4725,   1020.6,   4.0523,  34.4938,2,  34.1032,4,     40.2,3,     41.6,2,   109.65,2,    41.50,2,     3.01,2,   1021,-999.000,  -999.0,  3.9745
     32MW082_1,  PRS2,     2,  3,     12,     12,2,19970408,2058, 22.7530,-157.9760, 4725,      4.5,  23.5383,  34.9704,2,  34.9710,2,    216.1,1,   -999.0,9,  -999.00,9,  -999.00,9,  -999.00,9,      5,-999.000,  -999.0, 23.5374
     32MW082_1,  PRS2,     2,  3,     11,     11,2,19970408,2058, 22.7530,-157.9760, 4725,     25.4,  23.3995,  34.9680,2,  34.9666,2,    214.9,1,   -999.0,9,  -999.00,9,  -999.00,9,  -999.00,9,     26,-999.000,  -999.0, 23.3942
     32MW082_1,  PRS2,     2,  3,     10,     32,2,19970408,2058, 22.7530,-157.9760, 4725,     45.2,  23.0316,  35.0134,2,  35.0078,2,    215.6,1,   -999.0,9,  -999.00,9,  -999.00,9,  -999.00,9,     45,-999.000,  -999.0, 23.0224
     32MW082_1,  PRS2,     2,  3,      9,      3,2,19970408,2058, 22.7530,-157.9760, 4725,     75.3,  21.1074,  35.0543,2,  35.0543,2,    208.1,1,   -999.0,9,  -999.00,9,  -999.00,9,  -999.00,9,     76,-999.000,  -999.0, 21.0930
     32MW082_1,  PRS2,     2,  3,      8,     29,2,19970408,2058, 22.7530,-157.9760, 4725,     99.6,  20.0361,  35.0183,2,  35.0272,2,    198.3,1,   -999.0,9,  -999.00,9,  -999.00,9,  -999.00,9,    100,-999.000,  -999.0, 20.0177
     32MW082_1,  PRS2,     2,  3,      7,     28,2,19970408,2058, 22.7530,-157.9760, 4725,    125.3,  19.0593,  34.9808,2,  34.9806,2,    194.8,1,   -999.0,9,  -999.00,9,  -999.00,9,  -999.00,9,    125,-999.000,  -999.0, 19.0370
     32MW082_1,  PRS2,     2,  3,      6,      7,2,19970408,2058, 22.7530,-157.9760, 4725,    150.7,  18.0124,  34.8621,2,  34.8642,2,    182.4,1,   -999.0,9,  -999.00,9,  -999.00,9,  -999.00,9,    151,-999.000,  -999.0, 17.9866
     32MW082_1,  PRS2,     2,  3,      5,     38,2,19970408,2058, 22.7530,-157.9760, 4725,    176.2,  16.4602,  34.6924,2,  34.6985,2,    188.5,1,   -999.0,9,  -999.00,9,  -999.00,9,  -999.00,9,    176,-999.000,  -999.0, 16.4318
     32MW082_1,  PRS2,     2,  3,      4,     36,2,19970408,2058, 22.7530,-157.9760, 4725,    252.9,  12.4652,  34.2917,2,  34.2959,2,    183.1,1,   -999.0,9,  -999.00,9,  -999.00,9,  -999.00,9,    253,-999.000,  -999.0, 12.4315
     32MW082_1,  PRS2,     2,  3,      3,     35,2,19970408,2058, 22.7530,-157.9760, 4725,    511.2,   6.5967,  34.0532,2,  34.0535,2,    103.4,1,   -999.0,9,  -999.00,9,  -999.00,9,  -999.00,9,    512,-999.000,  -999.0,  6.5500
     32MW082_1,  PRS2,     2,  3,      2,     34,2,19970408,2058, 22.7530,-157.9760, 4725,    752.0,   4.8811,  34.3329,2,  34.1543,4,     29.2,1,   -999.0,9,  -999.00,9,  -999.00,9,  -999.00,9,    752,-999.000,  -999.0,  4.8207
     32MW082_1,  PRS2,     2,  3,      1,     33,2,19970408,2058, 22.7530,-157.9760, 4725,   1020.4,   3.9511,  34.5035,2,  34.5024,2,     41.3,1,   -999.0,9,  -999.00,9,  -999.00,9,  -999.00,9,   1021,-999.000,  -999.0,  3.8742