BOTTLE,20010806WHPSIOKJU
EXPOCODE,SECT_ID,STNNBR,CASTNO,SAMPNO,BTLNBR,BTLNBR_FLAG_W,DATE,TIME,LATITUDE,LONGITUDE,DEPTH,CTDPRS,CTDTMP,CTDSAL,CTDSAL_FLAG_W,SALNTY,SALNTY_FLAG_W,OXYGEN,OXYGEN_FLAG_W,NITRAT,NITRAT_FLAG_W,NITRIT,NITRIT_FLAG_W,PHSPHT,PHSPHT_FLAG_W
,,,,,,,,,,,,DBAR,DEG C,PSS-78,,PSS-78,,UMOL/KG,,UMOL/KG,,UMOL/KG,,UMOL/KG,
    49TU9401_1,  PR18,  PN-2,  2,   -999,   -999,2,19940121,0631, 27.7812, 127.8022,  353,      1.8,  21.5598,  34.8605,2,  -9.9999,9,    217.0,3,     0.20,2,     0.26,2,     0.03,2
    49TU9401_1,  PR18,  PN-2,  2,   -999,      7,2,19940121,0631, 27.7812, 127.8022,  353,      8.8,  21.5597,  34.8584,2,  34.8593,2,    218.0,3,     0.10,2,     0.25,2,     0.02,2
    49TU9401_1,  PR18,  PN-2,  2,   -999,      6,2,19940121,0631, 27.7812, 127.8022,  353,     19.0,  21.5668,  34.8583,2,  34.8587,2,    218.0,3,     0.10,2,     0.25,2,     0.02,2
    49TU9401_1,  PR18,  PN-2,  2,   -999,      5,2,19940121,0631, 27.7812, 127.8022,  353,     28.6,  21.5791,  34.8581,2,  34.8581,2,    217.0,3,     0.10,2,     0.25,2,     0.02,2
    49TU9401_1,  PR18,  PN-2,  2,   -999,      4,2,19940121,0631, 27.7812, 127.8022,  353,     48.4,  21.5905,  34.8632,2,  34.8643,2,    216.0,3,     0.20,2,     0.27,2,     0.05,2
    49TU9401_1,  PR18,  PN-2,  2,   -999,      3,2,19940121,0631, 27.7812, 127.8022,  353,     73.3,  21.5868,  34.8614,2,  34.8646,2,    216.0,3,     0.20,2,     0.27,2,     0.02,2
    49TU9401_1,  PR18,  PN-2,  2,   -999,      2,2,19940121,0631, 27.7812, 127.8022,  353,    101.1,  21.6143,  34.8880,2,  34.8662,3,    215.0,3,     0.20,2,     0.29,2,     0.02,2
    49TU9401_1,  PR18,  PN-2,  2,   -999,      1,2,19940121,0631, 27.7812, 127.8022,  353,    126.3,  21.5974,  34.9153,2,  34.9167,2,    213.0,3,     0.40,2,     0.37,2,     0.04,2
    49TU9401_1,  PR18,  PN-2,  2,   -999,     12,2,19940121,0631, 27.7812, 127.8022,  353,    149.6,  21.5400,  34.9211,2,  34.9214,2,    214.0,3,     0.40,2,     0.38,2,     0.03,2
    49TU9401_1,  PR18,  PN-2,  2,   -999,     11,2,19940121,0631, 27.7812, 127.8022,  353,    202.4,  20.6357,  34.8851,2,  34.8836,2,    200.0,3,     2.30,2,     0.09,2,     0.12,2
    49TU9401_1,  PR18,  PN-2,  2,   -999,     10,2,19940121,0631, 27.7812, 127.8022,  353,    252.5,  18.6764,  34.8280,2,  34.8294,2,    195.0,3,     4.20,2,     0.05,2,     0.23,2
    49TU9401_1,  PR18,  PN-2,  2,   -999,      9,2,19940121,0631, 27.7812, 127.8022,  353,    272.7,  17.9804,  34.8093,2,  34.8148,2,    197.0,3,     4.70,2,     0.04,2,     0.32,2
    49TU9401_1,  PR18,  PN-1,  1,   -999,      3,2,19940121,1039, 27.4892, 128.2400,  224,    403.6,  15.2933,  34.6531,2,  34.6331,3,    184.0,3,    10.10,2,     0.02,2,     0.64,2
    49TU9401_1,  PR18,  PN-1,  1,   -999,      2,2,19940121,1039, 27.4892, 128.2400,  224,    504.4,  12.3417,  34.4754,2,  34.4729,2,    166.0,3,    16.50,2,     0.03,2,     1.13,2
    49TU9401_1,  PR18,  PN-1,  1,   -999,      1,2,19940121,1039, 27.4892, 128.2400,  224,    603.6,   9.0772,  34.3363,2,  34.3380,2,    133.0,3,    24.80,2,     0.03,2,     1.75,2
    49TU9401_1,  PR18,  PN-1,  1,   -999,     12,2,19940121,1039, 27.4892, 128.2400,  224,    706.8,   7.5546,  34.3178,2,  34.3145,3,    116.0,3,    29.50,2,     0.03,2,     2.12,2
    49TU9401_1,  PR18,  PN-1,  1,   -999,     11,2,19940121,1039, 27.4892, 128.2400,  224,    805.5,   6.9374,  34.3295,2,  34.3268,3,    107.0,3,    34.90,2,     0.07,2,     2.66,2
    49TU9401_1,  PR18,  PN-1,  1,   -999,     10,2,19940121,1039, 27.4892, 128.2400,  224,    906.5,   6.5425,  34.3284,2,  34.3290,2,    100.0,3,  -999.00,5,  -999.00,5,  -999.00,5
    49TU9401_1,  PR18,  PN-1,  1,   -999,      9,2,19940121,1039, 27.4892, 128.2400,  224,    988.4,   5.9433,  34.3330,2,  -9.9999,9,     95.0,3,    33.60,2,     0.06,2,     2.46,2
    49TU9401_1,  PR18,  PN-1,  2,   -999,   -999,2,19940121,1118, 27.4683, 128.2397,  340,      0.0,  21.2093,  34.8795,2,  -9.9999,9,    217.0,3,     0.90,2,     0.29,2,     0.05,2
    49TU9401_1,  PR18,  PN-1,  2,   -999,      2,2,19940121,1118, 27.4683, 128.2397,  340,     10.2,  21.2385,  34.8785,2,  -9.9999,9,    217.0,3,     0.20,2,     0.26,2,     0.03,2
    49TU9401_1,  PR18,  PN-1,  2,   -999,      1,2,19940121,1118, 27.4683, 128.2397,  340,     19.2,  21.2326,  34.8783,2,  -9.9999,9,    217.0,3,     0.20,2,     0.26,2,     0.03,2
    49TU9401_1,  PR18,  PN-1,  2,   -999,     12,2,19940121,1118, 27.4683, 128.2397,  340,     30.9,  21.2514,  34.8784,2,  -9.9999,9,    216.0,3,     0.20,2,     0.27,2,     0.03,2
    49TU9401_1,  PR18,  PN-1,  2,   -999,     11,2,19940121,1118, 27.4683, 128.2397,  340,     48.9,  21.2555,  34.8780,2,  -9.9999,9,    216.0,3,     0.50,2,     0.27,2,     0.16,2
    49TU9401_1,  PR18,  PN-1,  2,   -999,     10,2,19940121,1118, 27.4683, 128.2397,  340,     74.4,  21.2066,  34.8850,2,  -9.9999,9,    215.0,3,     0.40,2,     0.26,2,     0.04,2
    49TU9401_1,  PR18,  PN-1,  2,   -999,      9,2,19940121,1118, 27.4683, 128.2397,  340,    100.9,  21.1678,  34.8915,2,  -9.9999,9,    212.0,3,     0.80,2,     0.23,2,     0.05,2
    49TU9401_1,  PR18,  PN-1,  2,   -999,      8,2,19940121,1118, 27.4683, 128.2397,  340,    126.0,  20.9092,  34.8980,2,  -9.9999,9,    207.0,3,     1.50,2,     0.16,2,     0.09,2
    49TU9401_1,  PR18,  PN-1,  2,   -999,      7,2,19940121,1118, 27.4683, 128.2397,  340,    150.9,  20.4579,  34.8804,2,  -9.9999,9,    200.0,3,     2.40,2,     0.08,2,     0.11,2
    49TU9401_1,  PR18,  PN-1,  2,   -999,      6,2,19940121,1118, 27.4683, 128.2397,  340,    199.8,  19.4109,  34.8511,2,  -9.9999,9,    196.0,3,     3.30,2,     0.05,2,     0.19,2
    49TU9401_1,  PR18,  PN-1,  2,   -999,      5,2,19940121,1118, 27.4683, 128.2397,  340,    250.7,  18.5310,  34.8186,2,  -9.9999,9,    193.0,3,     4.40,2,     0.04,2,     0.23,2
    49TU9401_1,  PR18,  PN-1,  2,   -999,      4,2,19940121,1118, 27.4683, 128.2397,  340,    304.8,  17.4114,  34.7681,2,  -9.9999,9,    193.0,3,     6.20,2,     0.06,2,     0.48,2