BOTTLE,20010806WHPSIOKJU
#code : jjward hyd_to_exchange.pl 
#original files copied from HTML directory: 20010806
#original HYD file: pr18_lhy.txt   Mon Aug  6 10:27:43 2001
#original SUM file: pr18_lsu.txt.tmp   Mon Aug  6 10:30:23 2001
EXPOCODE,SECT_ID,STNNBR,CASTNO,SAMPNO,BTLNBR,BTLNBR_FLAG_W,DATE,TIME,LATITUDE,LONGITUDE,DEPTH,CTDPRS,CTDTMP,CTDSAL,CTDSAL_FLAG_W,SALNTY,SALNTY_FLAG_W,OXYGEN,OXYGEN_FLAG_W,NITRAT,NITRAT_FLAG_W,NITRIT,NITRIT_FLAG_W,PHSPHT,PHSPHT_FLAG_W
,,,,,,,,,,,,DBAR,DEG C,PSS-78,,PSS-78,,UMOL/KG,,UMOL/KG,,UMOL/KG,,UMOL/KG,
    49TU9401_1,  PR18,  PN-9,  1,   -999,   -999,2,19940119,1014, 29.9975, 124.5202,   60,      0.6,  16.0405,  34.2168,2,  -9.9999,9,    244.0,3,     4.60,2,     0.21,2,     0.40,2
    49TU9401_1,  PR18,  PN-9,  1,   -999,      5,2,19940119,1014, 29.9975, 124.5202,   60,     10.5,  16.0512,  34.2174,2,  -9.9999,9,    244.0,3,     4.50,2,     0.23,2,     0.41,2
    49TU9401_1,  PR18,  PN-9,  1,   -999,      4,2,19940119,1014, 29.9975, 124.5202,   60,     20.4,  16.0482,  34.2146,2,  -9.9999,9,    245.0,3,     4.50,2,     0.21,2,     0.42,2
    49TU9401_1,  PR18,  PN-9,  1,   -999,      3,2,19940119,1014, 29.9975, 124.5202,   60,     29.6,  16.0665,  34.2134,2,  -9.9999,9,    245.0,3,     4.40,2,     0.48,2,     0.44,2
    49TU9401_1,  PR18,  PN-9,  1,   -999,      2,2,19940119,1014, 29.9975, 124.5202,   60,     49.7,  16.0683,  34.2135,2,  -9.9999,9,    242.0,3,     4.70,2,     0.30,2,     0.59,2
    49TU9401_1,  PR18,  PN-9,  1,   -999,      1,2,19940119,1014, 29.9975, 124.5202,   60,     58.0,  16.0609,  34.2102,2,  -9.9999,9,    244.0,3,     4.50,2,     0.29,2,     0.41,2
    49TU9401_1,  PR18,  PN-8,  1,   -999,   -999,2,19940119,1410, 29.6023, 125.0915,   84,      0.0,  16.8811,  34.5257,2,  -9.9999,9,    240.0,3,     3.60,2,     0.32,2,     0.35,2
    49TU9401_1,  PR18,  PN-8,  1,   -999,     12,2,19940119,1410, 29.6023, 125.0915,   84,      8.8,  16.9025,  34.5267,2,  34.5238,2,    240.0,3,     3.30,2,     0.32,2,     0.33,2
    49TU9401_1,  PR18,  PN-8,  1,   -999,     11,2,19940119,1410, 29.6023, 125.0915,   84,     19.4,  16.8995,  34.5270,2,  34.5204,3,    240.0,3,     3.30,2,     0.25,2,     0.33,2
    49TU9401_1,  PR18,  PN-8,  1,   -999,     10,2,19940119,1410, 29.6023, 125.0915,   84,     28.1,  16.9086,  34.5264,2,  34.5236,2,    240.0,3,     3.30,2,     0.26,2,     0.34,2
    49TU9401_1,  PR18,  PN-8,  1,   -999,      9,2,19940119,1410, 29.6023, 125.0915,   84,     49.1,  16.9207,  34.5262,2,  34.5226,2,    240.0,3,     3.40,2,     0.22,2,     0.34,2
    49TU9401_1,  PR18,  PN-8,  1,   -999,      8,2,19940119,1410, 29.6023, 125.0915,   84,     73.7,  16.9265,  34.5266,2,  34.5240,2,    240.0,3,     3.30,2,     0.26,2,     0.36,2
    49TU9401_1,  PR18,  PN-8,  1,   -999,      7,2,19940119,1410, 29.6023, 125.0915,   84,     79.4,  16.9290,  34.5267,2,  34.5238,2,    240.0,3,     3.40,2,     0.19,2,     0.33,2
    49TU9401_1,  PR18,  PN-7,  1,   -999,   -999,2,19940119,1740, 29.2953, 125.5457,   91,      0.2,  17.6313,  34.6900,2,  -9.9999,9,    236.0,3,     2.20,2,     0.32,2,     0.22,2
    49TU9401_1,  PR18,  PN-7,  1,   -999,      6,2,19940119,1740, 29.2953, 125.5457,   91,      9.0,  17.6462,  34.6891,2,  -9.9999,9,    235.0,3,     2.20,2,     0.33,2,     0.22,2
    49TU9401_1,  PR18,  PN-7,  1,   -999,      5,2,19940119,1740, 29.2953, 125.5457,   91,     19.5,  17.6568,  34.6893,2,  -9.9999,9,    236.0,3,     2.20,2,     0.33,2,     0.22,2
    49TU9401_1,  PR18,  PN-7,  1,   -999,      4,2,19940119,1740, 29.2953, 125.5457,   91,     29.0,  17.6538,  34.6898,2,  -9.9999,9,    235.0,3,     2.10,2,     0.36,2,     0.24,2
    49TU9401_1,  PR18,  PN-7,  1,   -999,      3,2,19940119,1740, 29.2953, 125.5457,   91,     50.0,  17.6448,  34.6906,2,  -9.9999,9,    235.0,3,     2.10,2,     0.38,2,     0.25,2
    49TU9401_1,  PR18,  PN-7,  1,   -999,      2,2,19940119,1740, 29.2953, 125.5457,   91,     76.1,  17.6538,  34.6903,2,  -9.9999,9,    235.0,3,     2.10,2,     0.41,2,     0.24,2
    49TU9401_1,  PR18,  PN-7,  1,   -999,      1,2,19940119,1740, 29.2953, 125.5457,   91,     85.7,  17.6533,  34.6898,2,  -9.9999,9,    235.0,3,     2.10,2,     0.37,2,     0.24,2
    49TU9401_1,  PR18,  PN-6,  1,   -999,   -999,2,19940119,2057, 28.9973, 125.9933,  113,      0.0,  19.7680,  34.7059,2,  -9.9999,9,    225.0,3,     0.80,2,     0.30,2,     0.13,2
    49TU9401_1,  PR18,  PN-6,  1,   -999,      1,2,19940119,2057, 28.9973, 125.9933,  113,      9.1,  19.7755,  34.7071,2,  -9.9999,9,    224.0,3,     0.80,2,     0.22,2,     0.12,2
    49TU9401_1,  PR18,  PN-6,  1,   -999,     12,2,19940119,2057, 28.9973, 125.9933,  113,     19.0,  19.7859,  34.7078,2,  -9.9999,9,    225.0,3,     0.80,2,     0.23,2,     0.12,2
    49TU9401_1,  PR18,  PN-6,  1,   -999,     11,2,19940119,2057, 28.9973, 125.9933,  113,     29.7,  19.7863,  34.7077,2,  -9.9999,9,    224.0,3,     0.80,2,     0.21,2,     0.14,2
    49TU9401_1,  PR18,  PN-6,  1,   -999,     10,2,19940119,2057, 28.9973, 125.9933,  113,     49.5,  18.4464,  34.6133,2,  -9.9999,9,    206.0,3,     5.40,2,     0.48,2,     0.43,2
    49TU9401_1,  PR18,  PN-6,  1,   -999,      9,2,19940119,2057, 28.9973, 125.9933,  113,     74.1,  18.1401,  34.6229,2,  -9.9999,9,    205.0,3,     5.10,2,     0.42,2,     0.41,2
    49TU9401_1,  PR18,  PN-6,  1,   -999,      8,2,19940119,2057, 28.9973, 125.9933,  113,    100.0,  17.9288,  34.6281,2,  -9.9999,9,    169.0,3,     4.30,2,     0.14,2,     0.35,2
    49TU9401_1,  PR18,  PN-6,  1,   -999,      7,2,19940119,2057, 28.9973, 125.9933,  113,    108.9,  17.9350,  34.6331,2,  -9.9999,9,    182.0,3,     4.20,2,     0.18,2,     0.40,2
    49TU9401_1,  PR18,  PN-5,  1,   -999,   -999,2,19940120,0006, 28.7167, 126.4370,  128,      0.0,  19.9026,  34.7291,2,  -9.9999,9,    224.0,3,     1.00,2,     0.33,2,     0.13,2
    49TU9401_1,  PR18,  PN-5,  1,   -999,      8,2,19940120,0006, 28.7167, 126.4370,  128,      9.9,  19.9467,  34.7289,2,  34.7268,2,    225.0,3,     0.80,2,     0.31,2,     0.11,2
    49TU9401_1,  PR18,  PN-5,  1,   -999,      7,2,19940120,0006, 28.7167, 126.4370,  128,     19.6,  19.9081,  34.7281,2,  34.7264,2,    224.0,3,     0.80,2,     0.31,2,     0.12,2
    49TU9401_1,  PR18,  PN-5,  1,   -999,      6,2,19940120,0006, 28.7167, 126.4370,  128,     30.2,  19.8936,  34.7286,2,  34.7254,2,    224.0,3,     0.90,2,     0.32,2,     0.12,2
    49TU9401_1,  PR18,  PN-5,  1,   -999,      5,2,19940120,0006, 28.7167, 126.4370,  128,     50.6,  19.9022,  34.7274,2,  34.7254,2,    224.0,3,     1.00,2,     0.32,2,     0.17,2
    49TU9401_1,  PR18,  PN-5,  1,   -999,      4,2,19940120,0006, 28.7167, 126.4370,  128,     76.3,  19.9123,  34.7279,2,  34.7286,2,    223.0,3,     1.00,2,     0.46,2,     0.15,2
    49TU9401_1,  PR18,  PN-5,  1,   -999,      3,2,19940120,0006, 28.7167, 126.4370,  128,    100.4,  19.3777,  34.7060,2,  34.6825,3,    222.0,3,     2.00,2,     0.23,2,     0.19,2
    49TU9401_1,  PR18,  PN-5,  1,   -999,      2,2,19940120,0006, 28.7167, 126.4370,  128,    121.7,  18.7440,  34.6829,2,  34.7032,3,    220.0,3,     3.20,2,     0.12,2,     0.31,2
    49TU9401_1,  PR18, PN-4',  1,   -999,   -999,2,19940120,1423, 28.5362, 126.6693,  165,      0.1,  20.4619,  34.7129,2,  -9.9999,9,    224.0,3,     1.50,2,     0.22,2,     0.11,2
    49TU9401_1,  PR18, PN-4',  1,   -999,      4,2,19940120,1423, 28.5362, 126.6693,  165,     10.1,  20.4406,  34.7133,2,  -9.9999,9,    223.0,3,     0.50,2,     0.19,2,     0.08,2
    49TU9401_1,  PR18, PN-4',  1,   -999,      3,2,19940120,1423, 28.5362, 126.6693,  165,     20.2,  20.3565,  34.7129,2,  -9.9999,9,    223.0,3,     0.50,2,     0.19,2,     0.09,2
    49TU9401_1,  PR18, PN-4',  1,   -999,      2,2,19940120,1423, 28.5362, 126.6693,  165,     30.6,  20.2437,  34.7166,2,  -9.9999,9,    223.0,3,     0.60,2,     0.24,2,     0.11,2
    49TU9401_1,  PR18, PN-4',  1,   -999,      1,2,19940120,1423, 28.5362, 126.6693,  165,     50.4,  20.2075,  34.7216,2,  -9.9999,9,    222.0,3,     2.10,2,     0.30,2,     0.92,2
    49TU9401_1,  PR18, PN-4',  1,   -999,     12,2,19940120,1423, 28.5362, 126.6693,  165,     75.8,  20.0882,  34.7277,2,  -9.9999,9,    222.0,3,     0.80,2,     0.35,2,     0.13,2
    49TU9401_1,  PR18, PN-4',  1,   -999,     11,2,19940120,1423, 28.5362, 126.6693,  165,    102.5,  18.9082,  34.6720,2,  -9.9999,9,    218.0,3,     3.30,2,     0.12,2,     0.32,2
    49TU9401_1,  PR18, PN-4',  1,   -999,     10,2,19940120,1423, 28.5362, 126.6693,  165,    123.0,  18.2420,  34.6431,2,  -9.9999,9,    209.0,3,     5.30,2,     0.06,2,     0.51,2
    49TU9401_1,  PR18, PN-4',  1,   -999,      9,2,19940120,1423, 28.5362, 126.6693,  165,    138.7,  16.6646,  34.6062,2,  -9.9999,9,    198.0,3,     8.20,2,     0.09,2,     0.59,2
    49TU9401_1,  PR18,  PN-4,  1,   -999,   -999,2,19940120,1639, 28.3973, 126.9008,  278,      0.0,  20.9658,  34.7043,2,  -9.9999,9,    221.0,3,     0.40,2,     0.24,2,     0.10,2
    49TU9401_1,  PR18,  PN-4,  1,   -999,      2,2,19940120,1639, 28.3973, 126.9008,  278,      9.2,  20.9927,  34.7041,2,  -9.9999,9,    220.0,3,     0.60,2,     0.28,2,     0.09,2
    49TU9401_1,  PR18,  PN-4,  1,   -999,      1,2,19940120,1639, 28.3973, 126.9008,  278,     17.8,  20.9846,  34.7042,2,  -9.9999,9,    220.0,3,     0.60,2,     0.24,2,     0.38,2
    49TU9401_1,  PR18,  PN-4,  1,   -999,     12,2,19940120,1639, 28.3973, 126.9008,  278,     30.2,  20.9725,  34.7051,2,  -9.9999,9,    222.0,3,     0.80,2,     0.23,2,     0.10,2
    49TU9401_1,  PR18,  PN-4,  1,   -999,     11,2,19940120,1639, 28.3973, 126.9008,  278,     49.1,  20.9843,  34.7043,2,  -9.9999,9,    222.0,3,     0.40,2,     0.20,2,     0.09,2
    49TU9401_1,  PR18,  PN-4,  1,   -999,     10,2,19940120,1639, 28.3973, 126.9008,  278,     73.5,  20.9221,  34.7020,2,  -9.9999,9,    222.0,3,     0.50,2,     0.35,2,     0.16,2
    49TU9401_1,  PR18,  PN-4,  1,   -999,      9,2,19940120,1639, 28.3973, 126.9008,  278,     98.7,  20.4170,  34.6548,2,  -9.9999,9,    215.0,3,     1.70,2,     0.28,2,     0.17,2
    49TU9401_1,  PR18,  PN-4,  1,   -999,      8,2,19940120,1639, 28.3973, 126.9008,  278,    124.7,  18.8435,  34.6766,2,  -9.9999,9,    196.0,3,     5.70,2,     0.22,2,     0.62,2
    49TU9401_1,  PR18,  PN-4,  1,   -999,      7,2,19940120,1639, 28.3973, 126.9008,  278,    149.8,  17.7005,  34.7108,2,  -9.9999,9,    181.0,3,     7.80,2,     0.28,2,     0.87,2
    49TU9401_1,  PR18,  PN-4,  1,   -999,      6,2,19940120,1639, 28.3973, 126.9008,  278,    199.6,  14.3285,  34.5655,2,  -9.9999,9,    175.0,3,    12.80,2,     0.03,2,     0.94,2
    49TU9401_1,  PR18,  PN-4,  1,   -999,      5,2,19940120,1639, 28.3973, 126.9008,  278,    253.5,  12.9034,  34.4923,2,  -9.9999,9,    163.0,3,    16.30,2,     0.07,2,     1.20,2
    49TU9401_1,  PR18, PN-3',  1,   -999,      9,2,19940120,1949, 28.2532, 127.1437,  116,    404.8,  10.8980,  34.3856,2,  34.3838,3,    156.0,3,    19.90,2,     0.03,2,     1.42,2
    49TU9401_1,  PR18, PN-3',  1,   -999,      8,2,19940120,1949, 28.2532, 127.1437,  116,    503.8,   8.1662,  34.3111,2,  34.3097,3,    121.0,3,    27.70,2,     0.01,2,     2.03,2
    49TU9401_1,  PR18, PN-3',  1,   -999,      7,2,19940120,1949, 28.2532, 127.1437,  116,    604.9,   6.7402,  34.3202,2,  34.3178,3,    104.0,3,    31.80,2,     0.16,2,     2.34,2
    49TU9401_1,  PR18, PN-3',  1,   -999,      6,2,19940120,1949, 28.2532, 127.1437,  116,    705.1,   5.7029,  34.3073,2,  34.3266,3,     96.0,3,    33.80,2,     0.23,2,     2.47,2
    49TU9401_1,  PR18, PN-3',  1,   -999,      5,2,19940120,1949, 28.2532, 127.1437,  116,    805.3,   5.3330,  34.3591,2,  34.3608,2,     88.0,3,    35.60,2,     0.08,2,     2.62,2
    49TU9401_1,  PR18, PN-3',  1,   -999,      4,2,19940120,1949, 28.2532, 127.1437,  116,    906.8,   5.0382,  34.3735,2,  34.3724,2,     85.0,3,    36.40,2,     0.04,2,     2.71,2
    49TU9401_1,  PR18, PN-3',  1,   -999,      3,2,19940120,1949, 28.2532, 127.1437,  116,    940.5,   4.8614,  34.3797,2,  34.3791,2,     91.0,3,    36.80,2,     0.11,2,     2.73,2
    49TU9401_1,  PR18, PN-3',  2,   -999,   -999,2,19940120,2036, 28.2495, 127.1700,  360,      0.0,  22.8435,  34.8567,2,  -9.9999,9,    213.0,3,     0.40,2,     0.09,2,     0.05,2
    49TU9401_1,  PR18, PN-3',  2,   -999,      8,2,19940120,2036, 28.2495, 127.1700,  360,      9.8,  22.8685,  34.8543,2,  34.8526,2,    212.0,3,     0.30,2,     0.11,2,     0.08,2
    49TU9401_1,  PR18, PN-3',  2,   -999,      7,2,19940120,2036, 28.2495, 127.1700,  360,     19.9,  22.8712,  34.8539,2,  34.8522,2,    212.0,3,     0.20,2,     0.07,2,     0.00,2
    49TU9401_1,  PR18, PN-3',  2,   -999,      6,2,19940120,2036, 28.2495, 127.1700,  360,     30.4,  22.8759,  34.8546,2,  34.8542,2,    212.0,3,     0.20,2,     0.09,2,     0.02,2
    49TU9401_1,  PR18, PN-3',  2,   -999,      5,2,19940120,2036, 28.2495, 127.1700,  360,     50.5,  22.8694,  34.8537,2,  34.8536,2,    212.0,3,     0.50,2,     0.23,2,     0.06,2
    49TU9401_1,  PR18, PN-3',  2,   -999,      4,2,19940120,2036, 28.2495, 127.1700,  360,     75.9,  22.8756,  34.8542,2,  34.8558,2,    213.0,3,     0.30,2,     0.17,2,     0.01,2
    49TU9401_1,  PR18, PN-3',  2,   -999,      3,2,19940120,2036, 28.2495, 127.1700,  360,    100.5,  22.8920,  34.8569,2,  34.8562,2,    212.0,3,     0.60,2,     0.16,2,     0.01,2
    49TU9401_1,  PR18, PN-3',  2,   -999,      2,2,19940120,2036, 28.2495, 127.1700,  360,    125.9,  22.8252,  34.8478,2,  34.8471,2,    211.0,3,     0.60,2,     0.09,2,     0.09,2
    49TU9401_1,  PR18, PN-3',  2,   -999,      1,2,19940120,2036, 28.2495, 127.1700,  360,    151.7,  21.1282,  34.7338,2,  34.7333,2,    191.0,3,     3.90,2,     0.38,2,     0.27,2
    49TU9401_1,  PR18, PN-3',  2,   -999,     12,2,19940120,2036, 28.2495, 127.1700,  360,    201.3,  19.6166,  34.8398,2,  34.8190,3,    198.0,3,     3.50,2,     0.07,2,     0.22,2
    49TU9401_1,  PR18, PN-3',  2,   -999,     11,2,19940120,2036, 28.2495, 127.1700,  360,    250.2,  16.1967,  34.6575,2,  34.6615,2,    183.0,3,     9.80,2,     0.93,2,     0.68,2
    49TU9401_1,  PR18, PN-3',  2,   -999,     10,2,19940120,2036, 28.2495, 127.1700,  360,    297.2,  14.4652,  34.5825,2,  34.5871,2,    181.0,3,    11.60,2,     0.38,2,     0.80,2
    49TU9401_1,  PR18,  PN-3,  1,   -999,      3,2,19940120,2352, 28.0907, 127.3572,  270,    405.6,  13.0809,  34.5121,2,  34.5114,2,    165.0,3,    15.80,2,     0.60,2,     1.11,2
    49TU9401_1,  PR18,  PN-3,  1,   -999,      2,2,19940120,2352, 28.0907, 127.3572,  270,    501.7,  10.4002,  34.3792,2,  34.3779,3,    149.0,3,    21.40,2,     0.37,2,     1.56,2
    49TU9401_1,  PR18,  PN-3,  1,   -999,      1,2,19940120,2352, 28.0907, 127.3572,  270,    603.0,   8.3074,  34.3070,2,  34.3084,2,    124.0,3,    27.40,2,     0.03,2,     1.95,2
    49TU9401_1,  PR18,  PN-3,  1,   -999,     12,2,19940120,2352, 28.0907, 127.3572,  270,    704.3,   6.3346,  34.3241,2,  34.3251,2,    101.0,3,    32.80,2,     0.18,2,     2.40,2
    49TU9401_1,  PR18,  PN-3,  1,   -999,     11,2,19940120,2352, 28.0907, 127.3572,  270,    804.9,   5.3222,  34.3179,2,  34.3172,3,     85.0,3,    36.00,2,     0.22,2,     2.67,2
    49TU9401_1,  PR18,  PN-3,  1,   -999,     10,2,19940120,2352, 28.0907, 127.3572,  270,    903.7,   4.8021,  34.3637,2,  34.3701,3,     80.0,3,    37.30,2,     0.33,2,     2.71,2
    49TU9401_1,  PR18,  PN-3,  1,   -999,      9,2,19940120,2352, 28.0907, 127.3572,  270,    974.4,   4.6128,  34.3891,2,  34.3887,2,     79.0,3,    37.90,2,     0.47,2,     2.76,2
    49TU9401_1,  PR18,  PN-3,  2,   -999,   -999,2,19940121,0037, 28.0785, 127.3750,  392,      0.0,  22.7306,  34.8515,2,  -9.9999,9,    213.0,3,     0.00,2,     0.18,2,     0.03,2
    49TU9401_1,  PR18,  PN-3,  2,   -999,      2,2,19940121,0037, 28.0785, 127.3750,  392,      9.5,  22.7320,  34.8492,2,  34.8548,2,    212.0,3,     0.00,2,     0.33,2,     0.03,2
    49TU9401_1,  PR18,  PN-3,  2,   -999,      1,2,19940121,0037, 28.0785, 127.3750,  392,     20.0,  22.7558,  34.8496,2,  34.8532,2,    211.0,3,     0.00,2,     0.64,2,     0.04,2
    49TU9401_1,  PR18,  PN-3,  2,   -999,     12,2,19940121,0037, 28.0785, 127.3750,  392,     28.7,  22.7512,  34.8501,2,  34.8479,2,    211.0,3,     0.10,2,     0.21,2,     0.03,2
    49TU9401_1,  PR18,  PN-3,  2,   -999,     11,2,19940121,0037, 28.0785, 127.3750,  392,     50.5,  22.7576,  34.8505,2,  34.8499,2,    211.0,3,     0.20,2,     0.30,2,     0.06,2
    49TU9401_1,  PR18,  PN-3,  2,   -999,     10,2,19940121,0037, 28.0785, 127.3750,  392,     74.6,  22.7676,  34.8504,2,  34.8516,2,    211.0,3,     0.20,2,     0.46,2,     0.08,2
    49TU9401_1,  PR18,  PN-3,  2,   -999,      9,2,19940121,0037, 28.0785, 127.3750,  392,    101.1,  22.7499,  34.8507,2,  34.8509,2,    211.0,3,     0.50,2,     0.34,2,     0.04,2
    49TU9401_1,  PR18,  PN-3,  2,   -999,      8,2,19940121,0037, 28.0785, 127.3750,  392,    126.6,  22.7517,  34.8506,2,  34.8520,2,    211.0,3,     0.20,2,     0.35,2,     0.04,2
    49TU9401_1,  PR18,  PN-3,  2,   -999,      7,2,19940121,0037, 28.0785, 127.3750,  392,    152.6,  21.7370,  34.8861,2,  34.8977,3,    199.0,3,     1.60,2,     0.27,2,     0.11,2
    49TU9401_1,  PR18,  PN-3,  2,   -999,      6,2,19940121,0037, 28.0785, 127.3750,  392,    201.8,  20.0184,  34.8868,2,  34.8841,2,    199.0,3,     2.40,2,     0.19,2,     0.14,2
    49TU9401_1,  PR18,  PN-3,  2,   -999,      5,2,19940121,0037, 28.0785, 127.3750,  392,    249.9,  18.5557,  34.8409,2,  34.8387,2,    204.0,3,     3.20,2,     0.15,2,     0.20,2
    49TU9401_1,  PR18,  PN-3,  2,   -999,      4,2,19940121,0037, 28.0785, 127.3750,  392,    299.8,  17.5725,  34.7769,2,  34.7955,3,    199.0,3,     5.30,2,     0.51,2,     0.33,2
    49TU9401_1,  PR18,  PN-2,  1,   -999,      8,2,19940121,0555, 27.7918, 127.8003,  989,    403.5,  15.0825,  34.6230,2,  34.6339,3,    186.0,3,    10.30,2,     0.06,2,     0.68,2
    49TU9401_1,  PR18,  PN-2,  1,   -999,      6,2,19940121,0555, 27.7918, 127.8003,  989,    601.3,   9.8441,  34.3555,2,  34.3640,3,    143.0,3,    22.50,2,     0.04,2,     1.62,2
    49TU9401_1,  PR18,  PN-2,  1,   -999,      5,2,19940121,0555, 27.7918, 127.8003,  989,    704.0,   7.2186,  34.2891,2,  34.2901,2,    112.0,3,    30.30,2,     0.05,2,     2.19,2
    49TU9401_1,  PR18,  PN-2,  1,   -999,      4,2,19940121,0555, 27.7918, 127.8003,  989,    801.5,   5.6559,  34.3264,2,  34.3249,2,     91.0,3,    34.70,2,     0.03,2,     2.55,2
    49TU9401_1,  PR18,  PN-2,  1,   -999,      3,2,19940121,0555, 27.7918, 127.8003,  989,    820.8,   5.3274,  34.3489,2,  34.3504,2,     87.0,3,    35.40,2,     0.04,2,     2.65,2