BOTTLE,20010813WHPSIOKJU
EXPOCODE,SECT_ID,STNNBR,CASTNO,SAMPNO,BTLNBR,BTLNBR_FLAG_W,DATE,TIME,LATITUDE,LONGITUDE,DEPTH,CTDPRS,CTDTMP,CTDSAL,CTDSAL_FLAG_W,SALNTY,SALNTY_FLAG_W,CTDOXY,CTDOXY_FLAG_W,OXYGEN,OXYGEN_FLAG_W,SILCAT,SILCAT_FLAG_W,NITRAT,NITRAT_FLAG_W,NITRIT,NITRIT_FLAG_W,PHSPHT,PHSPHT_FLAG_W,CFC-11,CFC-11_FLAG_W,CFC-12,CFC-12_FLAG_W
,,,,,,,,,,,,DBAR,DEG C,PSS-78,,PSS-78,,UMOL/KG,,UMOL/KG,,UMOL/KG,,UMOL/KG,,UMOL/KG,,UMOL/KG,,PMOL/KG,,PMOL/KG,
     21OR257_1,  PRS2,    25,  1,      2,      7,2,19901015,0816, 21.7517, 128.0000, 4971,    102.0,  24.7473,  34.9966,2,-999.0000,9,    202.2,1,   -999.0,9,     2.30,1,     0.00,2,  -999.00,9,     0.00,2, -999.000,9, -999.000,9
     21OR257_1,  PRS2,    25,  1,      3,      3,2,19901015,0816, 21.7517, 128.0000, 4971,    252.8,  19.0555,  34.8539,2,-999.0000,9,    205.1,1,   -999.0,9,     2.80,1,     2.20,2,  -999.00,9,     0.11,2, -999.000,9, -999.000,9
     21OR257_1,  PRS2,    25,  1,      4,     10,2,19901015,0816, 21.7517, 128.0000, 4971,    452.0,  13.2979,  34.4783,2,-999.0000,9,    199.3,1,   -999.0,9,    13.30,1,    11.93,2,  -999.00,9,     0.80,2, -999.000,9, -999.000,9
     21OR257_1,  PRS2,    25,  1,      5,     24,2,19901015,0816, 21.7517, 128.0000, 4971,    722.2,   6.6724,  34.1733,2,-999.0000,9,    112.5,1,   -999.0,9,    63.50,1,    32.62,2,  -999.00,9,     2.30,2, -999.000,9, -999.000,9
     21OR257_1,  PRS2,    25,  1,      6,      5,3,19901015,0816, 21.7517, 128.0000, 4971,    919.6,   4.5959,  34.2717,2,-999.0000,9,     63.9,1,   -999.0,9,   103.30,1,    40.61,2,  -999.00,9,     2.84,2, -999.000,9, -999.000,9
     21OR257_1,  PRS2,    25,  1,     12,      8,2,19901015,0816, 21.7517, 128.0000, 4971,   1096.3,   3.5460,  34.4257,2,-999.0000,9,     62.8,1,   -999.0,9,   148.60,4,    41.35,2,  -999.00,9,     2.97,2, -999.000,9, -999.000,9
     21OR257_1,  PRS2,    25,  1,      7,      9,4,19901015,0816, 21.7517, 128.0000, 4971,   1120.6,   3.4772,  34.4327,2,-999.0000,9,     64.5,1,   -999.0,9,   139.00,3,    41.16,3,  -999.00,9,     2.92,3, -999.000,9, -999.000,9
     21OR257_1,  PRS2,    25,  1,      8,      1,2,19901015,0816, 21.7517, 128.0000, 4971,   1321.5,   3.0046,  34.5044,2,-999.0000,9,     76.5,1,   -999.0,9,   139.80,1,    40.82,2,  -999.00,9,     2.91,2, -999.000,9, -999.000,9
     21OR257_1,  PRS2,    25,  1,      9,     21,3,19901015,0816, 21.7517, 128.0000, 4971,   1520.7,   2.6865,  34.5653,2,-999.0000,9,    101.3,1,   -999.0,9,   143.60,3,    39.26,3,  -999.00,9,     2.78,3, -999.000,9, -999.000,9
     21OR257_1,  PRS2,    25,  1,     10,      2,2,19901015,0816, 21.7517, 128.0000, 4971,   1720.4,   2.4754,  34.5870,2,-999.0000,9,    109.1,1,   -999.0,9,   146.10,1,    38.81,2,  -999.00,9,     2.78,2, -999.000,9, -999.000,9
     21OR257_1,  PRS2,    25,  1,     11,     12,2,19901015,0816, 21.7517, 128.0000, 4971,   1921.3,   2.1985,  34.6116,2,-999.0000,9,    118.3,1,   -999.0,9,   147.60,1,    38.25,2,  -999.00,9,     2.70,2, -999.000,9, -999.000,9
     21OR257_1,  PRS2,    26,  1,      2,      7,2,19901015,1157, 21.7500, 128.5033, 4929,    100.4,  24.6306,  34.9551,2,-999.0000,9,    202.2,1,   -999.0,9,     1.80,1,     0.00,2,  -999.00,9,     0.00,2, -999.000,9, -999.000,9
     21OR257_1,  PRS2,    26,  1,      3,      3,2,19901015,1157, 21.7500, 128.5033, 4929,    201.8,  19.6905,  34.8747,2,-999.0000,9,    201.8,1,   -999.0,9,     2.50,1,     1.52,2,  -999.00,9,     0.08,2, -999.000,9, -999.000,9
     21OR257_1,  PRS2,    26,  1,      4,     10,2,19901015,1157, 21.7500, 128.5033, 4929,    299.9,  17.3182,  34.7879,2,-999.0000,9,    200.2,1,   -999.0,9,     4.30,1,     4.78,2,  -999.00,9,     0.37,2, -999.000,9, -999.000,9
     21OR257_1,  PRS2,    26,  1,      5,     24,2,19901015,1157, 21.7500, 128.5033, 4929,    684.3,   6.6262,  34.1607,2,-999.0000,9,    116.1,1,   -999.0,9,    70.50,1,    31.79,2,  -999.00,9,     2.28,2, -999.000,9, -999.000,9
     21OR257_1,  PRS2,    26,  1,      6,      5,3,19901015,1157, 21.7500, 128.5033, 4929,    798.9,   5.2171,  34.2036,2,-999.0000,9,     75.7,1,   -999.0,9,    85.10,1,    37.76,2,  -999.00,9,     2.71,2, -999.000,9, -999.000,9
     21OR257_1,  PRS2,    26,  1,      7,      9,4,19901015,1157, 21.7500, 128.5033, 4929,    949.5,   4.0528,  34.3535,2,-999.0000,9,     57.5,1,   -999.0,9,   113.30,1,    40.67,2,  -999.00,9,     2.90,2, -999.000,9, -999.000,9
     21OR257_1,  PRS2,    26,  1,      8,      1,2,19901015,1157, 21.7500, 128.5033, 4929,   1149.5,   3.2747,  34.4580,2,-999.0000,9,     63.7,1,   -999.0,9,   129.70,1,    41.24,2,  -999.00,9,     2.96,2, -999.000,9, -999.000,9
     21OR257_1,  PRS2,    26,  1,      9,     21,3,19901015,1157, 21.7500, 128.5033, 4929,   1349.0,   2.8469,  34.5262,2,-999.0000,9,     82.9,1,   -999.0,9,   139.30,1,    39.14,2,  -999.00,9,     2.80,2, -999.000,9, -999.000,9
     21OR257_1,  PRS2,    26,  1,     10,      2,2,19901015,1157, 21.7500, 128.5033, 4929,   1550.6,   2.5389,  34.5696,2,-999.0000,9,    100.1,1,   -999.0,9,   141.50,1,    38.79,2,  -999.00,9,     2.77,2, -999.000,9, -999.000,9
     21OR257_1,  PRS2,    26,  1,     11,     12,2,19901015,1157, 21.7500, 128.5033, 4929,   1751.9,   2.2702,  34.5958,2,-999.0000,9,    110.9,1,   -999.0,9,   140.00,1,    38.12,2,  -999.00,9,     2.69,2, -999.000,9, -999.000,9
     21OR257_1,  PRS2,    26,  1,     12,      8,2,19901015,1157, 21.7500, 128.5033, 4929,   2004.2,   2.0478,  34.6189,2,-999.0000,9,    121.0,1,   -999.0,9,  -999.00,5,    38.07,2,  -999.00,9,     2.73,2, -999.000,9, -999.000,9
     21OR257_1,  PRS2,    27,  1,      2,      7,2,19901015,1557, 21.7500, 129.0033, 5434,    101.9,  23.9506,  34.9608,2,-999.0000,9,    202.0,1,   -999.0,9,     2.00,1,     0.00,2,  -999.00,9,     0.00,2, -999.000,9, -999.000,9
     21OR257_1,  PRS2,    27,  1,      3,      3,2,19901015,1557, 21.7500, 129.0033, 5434,    204.0,  19.1616,  34.8349,2,-999.0000,9,    201.1,1,   -999.0,9,     2.80,1,     2.44,2,  -999.00,9,     0.26,2, -999.000,9, -999.000,9
     21OR257_1,  PRS2,    27,  1,      4,     10,2,19901015,1557, 21.7500, 129.0033, 5434,    300.7,  16.8226,  34.7530,2,-999.0000,9,    201.2,1,   -999.0,9,     5.50,1,     5.77,2,  -999.00,9,     0.45,2, -999.000,9, -999.000,9
     21OR257_1,  PRS2,    27,  1,      5,     24,2,19901015,1557, 21.7500, 129.0033, 5434,    502.6,  10.7893,  34.3174,2,-999.0000,9,    184.7,1,   -999.0,9,    23.90,1,    17.54,2,  -999.00,9,     1.25,2, -999.000,9, -999.000,9
     21OR257_1,  PRS2,    27,  1,      6,      5,3,19901015,1557, 21.7500, 129.0033, 5434,    700.6,   6.2857,  34.1560,2,-999.0000,9,    111.3,1,   -999.0,9,    66.70,1,    32.79,2,  -999.00,9,     2.40,2, -999.000,9, -999.000,9
     21OR257_1,  PRS2,    27,  1,      7,      9,4,19901015,1557, 21.7500, 129.0033, 5434,    902.9,   4.3142,  34.3185,2,-999.0000,9,     60.2,1,   -999.0,9,   125.40,3,    41.41,3,  -999.00,9,     2.99,3, -999.000,9, -999.000,9
     21OR257_1,  PRS2,    27,  1,      8,      1,2,19901015,1557, 21.7500, 129.0033, 5434,   1102.5,   3.4970,  34.4346,2,-999.0000,9,     64.4,1,   -999.0,9,   123.70,1,    41.11,2,  -999.00,9,     2.99,2, -999.000,9, -999.000,9
     21OR257_1,  PRS2,    27,  1,      9,     21,3,19901015,1557, 21.7500, 129.0033, 5434,   1302.9,   3.0253,  34.5111,2,-999.0000,9,     79.6,1,   -999.0,9,   139.30,3,    39.77,3,  -999.00,9,     2.89,3, -999.000,9, -999.000,9
     21OR257_1,  PRS2,    27,  1,     10,      2,2,19901015,1557, 21.7500, 129.0033, 5434,   1501.9,   2.6535,  34.5491,2,-999.0000,9,     93.0,1,   -999.0,9,   137.80,1,    39.45,2,  -999.00,9,     2.88,2, -999.000,9, -999.000,9
     21OR257_1,  PRS2,    27,  1,     11,     12,2,19901015,1557, 21.7500, 129.0033, 5434,   1703.0,   2.3170,  34.5900,2,-999.0000,9,    109.3,1,   -999.0,9,   141.00,1,    38.18,2,  -999.00,9,     2.79,2, -999.000,9, -999.000,9
     21OR257_1,  PRS2,    27,  1,     12,      8,2,19901015,1557, 21.7500, 129.0033, 5434,   1907.2,   2.0840,  34.6134,2,-999.0000,9,    119.4,1,   -999.0,9,   143.80,1,    38.12,2,  -999.00,9,     2.78,2, -999.000,9, -999.000,9
     21OR257_1,  PRS2,    28,  1,      2,      7,2,19901015,1917, 21.7483, 129.5017, 5744,    102.6,  21.9380,  34.8966,2,-999.0000,9,    194.0,1,   -999.0,9,     2.50,1,     1.13,2,  -999.00,9,     0.06,2, -999.000,9, -999.000,9
     21OR257_1,  PRS2,    28,  1,      3,      3,2,19901015,1917, 21.7483, 129.5017, 5744,    203.3,  18.5275,  34.8341,2,-999.0000,9,    200.8,1,   -999.0,9,     3.50,1,     3.32,2,  -999.00,9,     0.27,2, -999.000,9, -999.000,9
     21OR257_1,  PRS2,    28,  1,      4,     10,2,19901015,1917, 21.7483, 129.5017, 5744,    302.4,  16.1192,  34.7042,2,-999.0000,9,    200.0,1,   -999.0,9,     7.10,1,     6.85,2,  -999.00,9,     0.49,2, -999.000,9, -999.000,9
     21OR257_1,  PRS2,    28,  1,      5,     24,2,19901015,1917, 21.7483, 129.5017, 5744,    502.7,  10.3378,  34.2849,2,-999.0000,9,    180.3,1,   -999.0,9,    26.40,1,    19.15,2,  -999.00,9,     1.36,2, -999.000,9, -999.000,9
     21OR257_1,  PRS2,    28,  1,      6,      5,3,19901015,1917, 21.7483, 129.5017, 5744,    682.3,   6.4141,  34.1643,2,-999.0000,9,    114.8,1,   -999.0,9,    66.20,1,    32.52,2,  -999.00,9,     2.34,2, -999.000,9, -999.000,9
     21OR257_1,  PRS2,    28,  1,      7,      9,4,19901015,1917, 21.7483, 129.5017, 5744,    884.7,   4.4886,  34.3240,2,-999.0000,9,     64.9,1,   -999.0,9,   127.40,3,    41.18,3,  -999.00,9,     2.95,3, -999.000,9, -999.000,9
     21OR257_1,  PRS2,    28,  1,      8,      1,2,19901015,1917, 21.7483, 129.5017, 5744,   1087.2,   3.5124,  34.4320,2,-999.0000,9,     64.8,1,   -999.0,9,   127.20,1,    41.25,2,  -999.00,9,     2.97,2, -999.000,9, -999.000,9
     21OR257_1,  PRS2,    28,  1,      9,     21,3,19901015,1917, 21.7483, 129.5017, 5744,   1286.3,   2.9470,  34.5004,2,-999.0000,9,     73.5,1,   -999.0,9,   142.30,3,    39.60,3,  -999.00,9,     2.84,3, -999.000,9, -999.000,9
     21OR257_1,  PRS2,    28,  1,     10,      2,2,19901015,1917, 21.7483, 129.5017, 5744,   1486.2,   2.6474,  34.5580,2,-999.0000,9,     97.0,1,   -999.0,9,   142.30,1,    39.49,2,  -999.00,9,     2.84,2, -999.000,9, -999.000,9
     21OR257_1,  PRS2,    28,  1,     11,     12,2,19901015,1917, 21.7483, 129.5017, 5744,   1684.5,   2.3588,  34.5841,2,-999.0000,9,    106.8,1,   -999.0,9,   144.10,1,    38.79,2,  -999.00,9,     2.78,2, -999.000,9, -999.000,9
     21OR257_1,  PRS2,    28,  1,     12,      8,2,19901015,1917, 21.7483, 129.5017, 5744,   1884.9,   2.1190,  34.6093,2,-999.0000,9,    116.9,1,   -999.0,9,  -999.00,1,    38.54,2,  -999.00,9,     2.77,2, -999.000,9, -999.000,9
     21OR257_1,  PRS2,    29,  1,      2,      7,2,19901015,2314, 21.7517, 130.0033, 5073,    105.0,  21.1931,  34.9180,2,  34.8990,2,    196.4,1,    207.0,1,     3.00,1,     1.06,2,  -999.00,9,     0.10,2, -999.000,9, -999.000,9
     21OR257_1,  PRS2,    29,  1,      3,      3,2,19901015,2314, 21.7517, 130.0033, 5073,    202.4,  18.0744,  34.8118,2,  34.8230,2,    198.1,1,    203.0,1,     5.00,1,     4.26,2,  -999.00,9,     0.36,2, -999.000,9, -999.000,9
     21OR257_1,  PRS2,    29,  1,      4,     10,2,19901015,2314, 21.7517, 130.0033, 5073,    303.8,  15.6673,  34.6681,2,  34.6790,2,    197.1,1,   -999.0,5,     8.10,1,     8.21,2,  -999.00,9,     0.58,2, -999.000,9, -999.000,9
     21OR257_1,  PRS2,    29,  1,      5,     24,2,19901015,2314, 21.7517, 130.0033, 5073,    502.0,  10.1148,  34.2624,2,  34.2610,2,    179.0,1,    176.7,1,    27.70,1,    19.54,2,  -999.00,9,     1.39,2, -999.000,9, -999.000,9
     21OR257_1,  PRS2,    29,  1,      6,      5,3,19901015,2314, 21.7517, 130.0033, 5073,    680.8,   6.1586,  34.1495,2,  34.1410,2,    111.2,1,    110.6,1,    71.00,1,    33.26,2,  -999.00,9,     2.41,2, -999.000,9, -999.000,9
     21OR257_1,  PRS2,    29,  1,      7,      9,4,19901015,2314, 21.7517, 130.0033, 5073,    903.5,   4.3646,  34.3589,2,  34.4500,3,     62.1,1,     69.6,3,   131.00,3,    41.66,3,  -999.00,9,     2.96,3, -999.000,9, -999.000,9
     21OR257_1,  PRS2,    29,  1,      8,      1,2,19901015,2314, 21.7517, 130.0033, 5073,   1106.5,   3.3422,  34.4559,2,  34.4490,2,     66.4,1,     67.4,1,   130.70,1,    41.83,2,  -999.00,9,     2.97,2, -999.000,9, -999.000,9
     21OR257_1,  PRS2,    29,  1,      9,     21,3,19901015,2314, 21.7517, 130.0033, 5073,   1300.9,   2.9410,  34.5331,2,  34.5300,2,     89.7,1,     88.8,1,   138.00,1,    40.39,2,  -999.00,9,     2.88,2, -999.000,9, -999.000,9
     21OR257_1,  PRS2,    29,  1,     10,      2,2,19901015,2314, 21.7517, 130.0033, 5073,   1503.1,   2.5236,  34.5664,2,  34.5610,2,     99.1,1,     99.0,1,   143.80,1,    40.01,2,  -999.00,9,     2.85,2, -999.000,9, -999.000,9
     21OR257_1,  PRS2,    29,  1,     11,     12,2,19901015,2314, 21.7517, 130.0033, 5073,   1702.1,   2.2591,  34.5970,2,  34.5950,2,    111.8,1,    111.5,1,   146.60,1,    39.10,2,  -999.00,9,     2.78,2, -999.000,9, -999.000,9
     21OR257_1,  PRS2,    29,  1,     12,      8,2,19901015,2314, 21.7517, 130.0033, 5073,   1905.7,   2.0887,  34.6171,2,  34.6130,2,    119.7,1,    119.6,1,   147.60,1,    39.05,2,  -999.00,9,     2.76,2, -999.000,9, -999.000,9