BOTTLE,20010813WHPSIOKJU
#code : jjward hyd_to_exchange.pl 
#original files copied from HTML directory: 20010813
#original HYD file: pr20_ahy.txt   Mon Aug 13 11:57:01 2001
#original SUM file: pr20_asu.txt   Mon Aug 13 11:54:42 2001
EXPOCODE,SECT_ID,STNNBR,CASTNO,SAMPNO,BTLNBR,BTLNBR_FLAG_W,DATE,TIME,LATITUDE,LONGITUDE,DEPTH,CTDPRS,CTDTMP,CTDSAL,CTDSAL_FLAG_W,SALNTY,SALNTY_FLAG_W,CTDOXY,CTDOXY_FLAG_W,OXYGEN,OXYGEN_FLAG_W,SILCAT,SILCAT_FLAG_W,NITRAT,NITRAT_FLAG_W,NITRIT,NITRIT_FLAG_W,PHSPHT,PHSPHT_FLAG_W,CFC-11,CFC-11_FLAG_W,CFC-12,CFC-12_FLAG_W
,,,,,,,,,,,,DBAR,DEG C,PSS-78,,PSS-78,,UMOL/KG,,UMOL/KG,,UMOL/KG,,UMOL/KG,,UMOL/KG,,UMOL/KG,,PMOL/KG,,PMOL/KG,
     21OR257_1,  PRS2,     1,  1,      8,      7,2,19901011,1358, 21.9000, 120.8950,  195,     12.0,  26.9434,  34.2475,3,-999.0000,9,   -999.0,5,   -999.0,9,     3.30,1,     0.00,2,  -999.00,9,     0.00,2, -999.000,9, -999.000,9
     21OR257_1,  PRS2,     1,  1,      7,      3,2,19901011,1358, 21.9000, 120.8950,  195,     25.0,  26.9404,  34.2778,3,-999.0000,9,   -999.0,5,   -999.0,9,     2.50,1,     0.00,2,  -999.00,9,     0.00,2, -999.000,9, -999.000,9
     21OR257_1,  PRS2,     1,  1,      6,     10,2,19901011,1358, 21.9000, 120.8950,  195,     50.0,  26.6777,  34.2982,3,-999.0000,9,   -999.0,5,   -999.0,9,     2.80,1,     0.00,2,  -999.00,9,     0.03,2, -999.000,9, -999.000,9
     21OR257_1,  PRS2,     1,  1,      5,     24,2,19901011,1358, 21.9000, 120.8950,  195,     77.0,  26.4503,  34.3499,3,-999.0000,9,   -999.0,5,   -999.0,9,     2.80,1,     0.00,2,  -999.00,9,     0.00,2, -999.000,9, -999.000,9
     21OR257_1,  PRS2,     1,  1,      4,      5,3,19901011,1358, 21.9000, 120.8950,  195,     97.0,  26.0135,  34.3603,3,-999.0000,9,   -999.0,5,   -999.0,9,     3.30,1,     1.00,2,  -999.00,9,     0.03,2, -999.000,9, -999.000,9
     21OR257_1,  PRS2,     1,  1,      2,      1,2,19901011,1358, 21.9000, 120.8950,  195,    147.0,  17.3465,  34.6849,3,-999.0000,9,   -999.0,5,   -999.0,9,    13.30,1,    10.95,2,  -999.00,9,     0.64,2, -999.000,9, -999.000,9
     21OR257_1,  PRS2,     1,  1,      1,     21,3,19901011,1358, 21.9000, 120.8950,  195,    176.0,  16.8308,  34.6819,3,-999.0000,9,   -999.0,5,   -999.0,9,    14.90,1,    11.57,2,  -999.00,9,     0.69,2, -999.000,9, -999.000,9
     21OR257_1,  PRS2,     2,  1,     10,      2,2,19901011,1505, 21.8983, 120.9300,  649,     27.0,  26.9534,  34.2918,2,  34.2990,2,   -999.0,5,    211.0,1,     2.50,1,     0.00,2,  -999.00,9,     0.01,2, -999.000,9, -999.000,9
     21OR257_1,  PRS2,     2,  1,      9,     12,2,19901011,1505, 21.8983, 120.9300,  649,     49.0,  26.9454,  34.3061,2,  34.3100,2,   -999.0,5,    206.1,1,     2.50,1,     0.00,2,  -999.00,9,     0.01,2, -999.000,9, -999.000,9
     21OR257_1,  PRS2,     2,  1,      8,      8,2,19901011,1505, 21.8983, 120.9300,  649,     73.0,  26.4503,  34.3949,2,  34.4300,2,   -999.0,5,    199.4,1,     4.50,1,     1.35,2,  -999.00,9,     0.07,2, -999.000,9, -999.000,9
     21OR257_1,  PRS2,     2,  1,      7,      7,2,19901011,1505, 21.8983, 120.9300,  649,    115.0,  21.3440,  34.5896,2,  34.5490,2,   -999.0,5,    187.4,1,     9.10,1,     5.22,2,  -999.00,9,     0.26,2, -999.000,9, -999.000,9
     21OR257_1,  PRS2,     2,  1,      6,      3,2,19901011,1505, 21.8983, 120.9300,  649,    150.0,  18.1443,  34.6854,2,  34.6650,2,   -999.0,5,    180.2,1,    12.60,1,     7.71,2,  -999.00,9,     0.41,2, -999.000,9, -999.000,9
     21OR257_1,  PRS2,     2,  1,      5,     10,2,19901011,1505, 21.8983, 120.9300,  649,    201.0,  15.8551,  34.6673,2,  34.6680,2,   -999.0,5,    178.9,1,    16.40,1,    10.73,2,  -999.00,9,     0.62,2, -999.000,9, -999.000,9
     21OR257_1,  PRS2,     2,  1,      4,     24,2,19901011,1505, 21.8983, 120.9300,  649,    251.0,  13.9201,  34.5923,2,  34.5880,2,   -999.0,5,   -999.0,5,    23.90,1,    14.60,2,  -999.00,9,     0.87,2, -999.000,9, -999.000,9
     21OR257_1,  PRS2,     2,  1,      3,      5,3,19901011,1505, 21.8983, 120.9300,  649,    300.0,  12.8009,  34.6010,4,  34.4710,3,   -999.0,5,    157.5,1,    35.80,3,    19.63,3,  -999.00,9,     1.26,3, -999.000,9, -999.000,9
     21OR257_1,  PRS2,     2,  1,      2,      9,4,19901011,1505, 21.8983, 120.9300,  649,    352.0,  11.4840,  34.5765,4,  34.3980,3,   -999.0,5,    138.8,1,    51.90,3,    25.05,3,  -999.00,9,     1.59,3, -999.000,9, -999.000,9
     21OR257_1,  PRS2,     2,  1,      1,      1,2,19901011,1505, 21.8983, 120.9300,  649,    453.0,   9.4357,  34.5198,4,  34.3910,2,   -999.0,5,   -999.0,5,    52.40,1,    25.18,2,  -999.00,9,     1.62,2, -999.000,9, -999.000,9
     21OR257_1,  PRS2,     3,  1,     11,      7,2,19901011,1650, 21.8867, 120.9967, 1091,     51.9,  26.7088,  34.4812,4,-999.0000,9,   -999.0,5,    209.2,1,     2.50,1,     0.13,2,  -999.00,9,     0.00,2, -999.000,9, -999.000,9
     21OR257_1,  PRS2,     3,  1,     10,      3,2,19901011,1650, 21.8867, 120.9967, 1091,     96.1,  24.9834,  34.6501,4,-999.0000,9,   -999.0,5,    199.9,1,     3.30,1,     1.28,2,  -999.00,9,     0.06,2, -999.000,9, -999.000,9
     21OR257_1,  PRS2,     3,  1,      9,     10,2,19901011,1650, 21.8867, 120.9967, 1091,    120.9,  22.9183,  34.9121,4,-999.0000,9,   -999.0,5,    252.1,3,     2.50,1,     1.37,2,  -999.00,9,     0.08,2, -999.000,9, -999.000,9
     21OR257_1,  PRS2,     3,  1,      8,     24,2,19901011,1650, 21.8867, 120.9967, 1091,    176.2,  18.4550,  34.7684,4,-999.0000,9,   -999.0,5,    182.0,1,    13.10,1,     8.02,2,  -999.00,9,     0.52,2, -999.000,9, -999.000,9
     21OR257_1,  PRS2,     3,  1,      7,      5,3,19901011,1650, 21.8867, 120.9967, 1091,    336.2,  11.5450,  34.5984,4,-999.0000,9,   -999.0,5,    157.0,1,    35.30,1,    20.13,2,  -999.00,9,     1.34,2, -999.000,9, -999.000,9
     21OR257_1,  PRS2,     3,  1,      6,      9,4,19901011,1650, 21.8867, 120.9967, 1091,    418.4,   9.1909,  34.4997,4,-999.0000,9,   -999.0,5,    125.8,3,    61.20,3,    29.73,3,  -999.00,9,     2.02,3, -999.000,9, -999.000,9
     21OR257_1,  PRS2,     3,  1,      5,      1,2,19901011,1650, 21.8867, 120.9967, 1091,    504.4,   7.9059,  34.4526,4,-999.0000,9,   -999.0,5,    124.9,1,    61.50,1,    29.76,2,  -999.00,9,     2.05,2, -999.000,9, -999.000,9
     21OR257_1,  PRS2,     3,  1,      4,     21,3,19901011,1650, 21.8867, 120.9967, 1091,    590.2,   6.6498,  34.4645,4,-999.0000,9,   -999.0,5,    108.0,1,    77.60,1,    33.16,2,  -999.00,9,     2.30,2, -999.000,9, -999.000,9
     21OR257_1,  PRS2,     3,  1,      3,      2,2,19901011,1650, 21.8867, 120.9967, 1091,    700.9,   5.9578,  34.5084,4,-999.0000,9,   -999.0,5,    102.6,1,   114.80,1,    34.94,2,  -999.00,9,     2.46,2, -999.000,9, -999.000,9
     21OR257_1,  PRS2,     3,  1,      2,     12,2,19901011,1650, 21.8867, 120.9967, 1091,    804.1,   5.0815,  34.5832,4,-999.0000,9,   -999.0,5,    105.3,1,   129.20,1,    35.93,2,  -999.00,9,     2.49,2, -999.000,9, -999.000,9
     21OR257_1,  PRS2,     3,  1,      1,      8,2,19901011,1650, 21.8867, 120.9967, 1091,    931.2,   4.3235,  34.6137,4,-999.0000,9,   -999.0,5,    104.4,1,   142.50,1,    37.28,2,  -999.00,9,     2.57,2, -999.000,9, -999.000,9
     21OR257_1,  PRS2,     4,  1,      1,   -999,1,19901011,1954, 21.8667, 121.1633,  830,      0.0,  26.6463,  34.7127,4,-999.0000,9,   -999.0,5,   -999.0,9,     4.00,1,     0.00,2,  -999.00,9,     0.05,2, -999.000,9, -999.000,9
     21OR257_1,  PRS2,     4,  1,      2,      7,2,19901011,1954, 21.8667, 121.1633,  830,     50.1,  26.2459,  34.7208,4,-999.0000,9,   -999.0,5,    210.1,1,     4.00,1,     0.00,2,  -999.00,9,     0.02,2, -999.000,9, -999.000,9
     21OR257_1,  PRS2,     4,  1,      3,      3,2,19901011,1954, 21.8667, 121.1633,  830,    106.7,  21.6792,  34.9806,4,-999.0000,9,   -999.0,5,   -999.0,9,     4.70,1,     1.30,2,  -999.00,9,     0.08,2, -999.000,9, -999.000,9
     21OR257_1,  PRS2,     4,  1,      4,     10,2,19901011,1954, 21.8667, 121.1633,  830,    125.6,  20.9608,  34.9553,4,-999.0000,9,   -999.0,5,   -999.0,9,     5.10,1,     2.10,2,  -999.00,9,     0.14,2, -999.000,9, -999.000,9
     21OR257_1,  PRS2,     4,  1,      5,     24,2,19901011,1954, 21.8667, 121.1633,  830,    191.6,  18.6150,  34.9415,4,-999.0000,9,   -999.0,5,    195.0,1,     6.20,1,     4.52,2,  -999.00,9,     0.35,2, -999.000,9, -999.000,9
     21OR257_1,  PRS2,     4,  1,      6,      5,3,19901011,1954, 21.8667, 121.1633,  830,    219.5,  17.9065,  34.9289,4,-999.0000,9,   -999.0,5,   -999.0,9,    21.20,1,    13.55,2,  -999.00,9,     0.89,2, -999.000,9, -999.000,9
     21OR257_1,  PRS2,     4,  1,      7,      9,4,19901011,1954, 21.8667, 121.1633,  830,    309.5,  14.6102,  34.7406,4,-999.0000,9,   -999.0,5,   -999.0,9,    34.30,3,    18.45,3,  -999.00,9,     1.25,3, -999.000,9, -999.000,9
     21OR257_1,  PRS2,     4,  1,      8,      1,2,19901011,1954, 21.8667, 121.1633,  830,    368.1,  12.0958,  34.6292,4,-999.0000,9,   -999.0,5,    159.7,1,    33.90,1,    18.51,2,  -999.00,9,     1.26,2, -999.000,9, -999.000,9
     21OR257_1,  PRS2,     4,  1,      9,     21,3,19901011,1954, 21.8667, 121.1633,  830,    502.1,   8.4007,  34.5015,4,-999.0000,9,   -999.0,5,   -999.0,9,    70.80,3,    30.43,3,  -999.00,9,     2.12,3, -999.000,9, -999.000,9
     21OR257_1,  PRS2,     4,  1,     10,      2,2,19901011,1954, 21.8667, 121.1633,  830,    600.5,-999.0000,-999.0000,5,-999.0000,9,   -999.0,5,    119.6,1,    71.20,1,    30.71,2,  -999.00,9,     2.13,2, -999.000,9, -999.000,9
     21OR257_1,  PRS2,     4,  1,     11,     12,2,19901011,1954, 21.8667, 121.1633,  830,    698.7,-999.0000,-999.0000,5,-999.0000,9,   -999.0,5,   -999.0,9,    88.30,1,    33.61,2,  -999.00,9,     2.34,2, -999.000,9, -999.000,9
     21OR257_1,  PRS2,     4,  1,     12,      8,2,19901011,1954, 21.8667, 121.1633,  830,    770.8,-999.0000,-999.0000,5,-999.0000,9,   -999.0,5,    107.5,1,   100.70,1,    35.19,2,  -999.00,9,     2.47,2, -999.000,9, -999.000,9
     21OR257_1,  PRS2,     5,  1,     11,      7,2,19901011,2226, 21.8333, 121.3333, 2840,     27.6,  26.9428,  34.5161,2,-999.0000,9,   -999.0,5,   -999.0,9,     3.70,1,     0.00,2,  -999.00,9,     0.00,2, -999.000,9, -999.000,9
     21OR257_1,  PRS2,     5,  1,     10,      3,2,19901011,2226, 21.8333, 121.3333, 2840,     49.6,  26.9249,  34.5193,2,-999.0000,9,   -999.0,5,   -999.0,9,     3.70,1,     0.00,2,  -999.00,9,     0.00,2, -999.000,9, -999.000,9
     21OR257_1,  PRS2,     5,  1,      9,     10,2,19901011,2226, 21.8333, 121.3333, 2840,     98.8,  22.9507,  34.7503,2,-999.0000,9,   -999.0,5,   -999.0,9,     4.40,1,     1.30,2,  -999.00,9,     0.02,2, -999.000,9, -999.000,9
     21OR257_1,  PRS2,     5,  1,      8,     24,2,19901011,2226, 21.8333, 121.3333, 2840,    143.8,  20.5658,  34.8283,2,-999.0000,9,   -999.0,5,   -999.0,9,     4.70,1,     2.21,2,  -999.00,9,     0.11,2, -999.000,9, -999.000,9
     21OR257_1,  PRS2,     5,  1,      7,      5,3,19901011,2226, 21.8333, 121.3333, 2840,    190.0,  19.0585,  34.7868,2,-999.0000,9,   -999.0,5,   -999.0,9,     6.20,1,     4.02,2,  -999.00,9,     0.33,2, -999.000,9, -999.000,9
     21OR257_1,  PRS2,     5,  1,      6,      9,4,19901011,2226, 21.8333, 121.3333, 2840,    299.0,  14.8392,  34.6020,2,-999.0000,9,   -999.0,5,   -999.0,9,    15.30,1,    11.17,2,  -999.00,9,     0.75,2, -999.000,9, -999.000,9
     21OR257_1,  PRS2,     5,  1,      5,      1,2,19901011,2226, 21.8333, 121.3333, 2840,    438.5,  10.6516,  34.4217,2,-999.0000,9,   -999.0,5,   -999.0,9,    43.10,1,    21.86,2,  -999.00,9,     1.50,2, -999.000,9, -999.000,9
     21OR257_1,  PRS2,     5,  1,      4,     21,3,19901011,2226, 21.8333, 121.3333, 2840,    800.9,   5.2118,  34.4664,2,-999.0000,9,   -999.0,5,   -999.0,9,   114.20,3,    37.22,3,  -999.00,9,     2.60,3, -999.000,9, -999.000,9
     21OR257_1,  PRS2,     5,  1,      3,      2,2,19901011,2226, 21.8333, 121.3333, 2840,    996.1,   4.5684,  34.4987,2,-999.0000,9,   -999.0,5,   -999.0,9,   116.80,1,    37.19,2,  -999.00,9,     2.61,2, -999.000,9, -999.000,9
     21OR257_1,  PRS2,     5,  1,      2,     12,2,19901011,2226, 21.8333, 121.3333, 2840,   1511.1,   2.8313,  34.5735,2,-999.0000,9,   -999.0,5,   -999.0,9,   134.30,1,    38.99,2,  -999.00,9,     2.74,2, -999.000,9, -999.000,9
     21OR257_1,  PRS2,     5,  1,      1,      8,2,19901011,2226, 21.8333, 121.3333, 2840,   2010.1,   2.2730,  34.6060,2,-999.0000,9,   -999.0,5,   -999.0,9,   138.70,1,    39.28,2,  -999.00,9,     2.74,2, -999.000,9, -999.000,9
     21OR257_1,  PRS2,     6,  1,     11,      7,2,19901012,0124, 21.8133, 121.4900,  775,     49.0,  24.9360,  34.6363,2,-999.0000,9,   -999.0,5,   -999.0,9,     4.40,1,     0.60,2,  -999.00,9,     0.13,2, -999.000,9, -999.000,9
     21OR257_1,  PRS2,     6,  1,     10,      3,2,19901012,0124, 21.8133, 121.4900,  775,     99.0,  21.9221,  34.8342,2,-999.0000,9,   -999.0,5,   -999.0,9,     4.70,1,     1.73,2,  -999.00,9,     0.28,2, -999.000,9, -999.000,9
     21OR257_1,  PRS2,     6,  1,      9,     10,2,19901012,0124, 21.8133, 121.4900,  775,    149.0,  18.7420,  34.7679,2,-999.0000,9,   -999.0,5,   -999.0,9,     7.70,1,     4.96,2,  -999.00,9,     0.44,2, -999.000,9, -999.000,9
     21OR257_1,  PRS2,     6,  1,      8,     24,2,19901012,0124, 21.8133, 121.4900,  775,    195.0,  18.3101,  34.7349,2,-999.0000,9,   -999.0,5,   -999.0,9,     9.50,1,     5.65,2,  -999.00,9,     0.48,2, -999.000,9, -999.000,9
     21OR257_1,  PRS2,     6,  1,      7,      5,3,19901012,0124, 21.8133, 121.4900,  775,    248.0,  17.0827,  34.6955,2,-999.0000,9,   -999.0,5,   -999.0,9,    12.00,3,     9.22,3,  -999.00,9,     0.74,3, -999.000,9, -999.000,9
     21OR257_1,  PRS2,     6,  1,      6,      9,4,19901012,0124, 21.8133, 121.4900,  775,    295.0,  16.0089,  34.6789,2,-999.0000,9,   -999.0,5,   -999.0,9,    11.70,1,     9.19,2,  -999.00,9,     0.74,2, -999.000,9, -999.000,9
     21OR257_1,  PRS2,     6,  1,      5,      1,2,19901012,0124, 21.8133, 121.4900,  775,    322.0,  13.6285,  34.5146,2,-999.0000,9,   -999.0,5,   -999.0,9,    22.30,1,    13.96,2,  -999.00,9,     1.07,2, -999.000,9, -999.000,9
     21OR257_1,  PRS2,     6,  1,      4,     21,3,19901012,0124, 21.8133, 121.4900,  775,    400.0,  10.3932,  34.4137,2,-999.0000,9,   -999.0,5,   -999.0,9,    44.90,1,    22.11,2,  -999.00,9,     1.62,2, -999.000,9, -999.000,9
     21OR257_1,  PRS2,     6,  1,      3,      2,2,19901012,0124, 21.8133, 121.4900,  775,    498.0,   8.1264,  34.3580,2,-999.0000,9,   -999.0,5,   -999.0,9,    66.40,3,    28.76,3,  -999.00,9,     2.14,3, -999.000,9, -999.000,9
     21OR257_1,  PRS2,     6,  1,      2,     12,2,19901012,0124, 21.8133, 121.4900,  775,    600.0,   7.3819,  34.3508,2,-999.0000,9,   -999.0,5,   -999.0,9,    68.30,1,    29.15,2,  -999.00,9,     2.18,2, -999.000,9, -999.000,9
     21OR257_1,  PRS2,     6,  1,      1,      8,2,19901012,0124, 21.8133, 121.4900,  775,    701.0,   6.2628,  34.4223,2,-999.0000,9,   -999.0,5,   -999.0,9,    89.80,1,    33.04,2,  -999.00,9,     2.48,2, -999.000,9, -999.000,9
     21OR257_1,  PRS2,     7,  1,      1,   -999,1,19901012,0343, 21.7933, 121.6633, 1038,      0.0,  27.1329,  34.5474,2,-999.0000,9,   -999.0,5,    207.9,1,     2.50,2,     0.00,2,  -999.00,9,     0.00,2, -999.000,9, -999.000,9
     21OR257_1,  PRS2,     7,  1,      2,      7,2,19901012,0343, 21.7933, 121.6633, 1038,     46.0,  24.6323,  34.6237,2,-999.0000,9,   -999.0,5,    199.0,1,     3.30,2,     1.08,2,  -999.00,9,     0.02,2, -999.000,9, -999.000,9
     21OR257_1,  PRS2,     7,  1,      3,      3,2,19901012,0343, 21.7933, 121.6633, 1038,    100.0,  21.3795,  34.7889,2,-999.0000,9,   -999.0,5,    194.5,1,     4.50,2,     2.61,2,  -999.00,9,     0.13,2, -999.000,9, -999.000,9
     21OR257_1,  PRS2,     7,  1,      4,     10,2,19901012,0343, 21.7933, 121.6633, 1038,    197.0,  18.6405,  34.7507,2,-999.0000,9,   -999.0,5,    191.4,1,     7.30,2,     5.26,2,  -999.00,9,     0.35,2, -999.000,9, -999.000,9
     21OR257_1,  PRS2,     7,  1,      5,     24,2,19901012,0343, 21.7933, 121.6633, 1038,    246.0,  17.9142,  34.7231,2,-999.0000,9,   -999.0,5,    190.1,1,     8.80,2,     6.40,2,  -999.00,9,     0.40,2, -999.000,9, -999.000,9
     21OR257_1,  PRS2,     7,  1,      6,      5,3,19901012,0343, 21.7933, 121.6633, 1038,    350.0,  13.1037,  34.5137,2,-999.0000,9,   -999.0,5,    171.3,1,    25.20,2,    15.68,2,  -999.00,9,     1.02,2, -999.000,9, -999.000,9
     21OR257_1,  PRS2,     7,  1,      7,      9,4,19901012,0343, 21.7933, 121.6633, 1038,    448.0,   9.6554,  34.3982,2,-999.0000,9,   -999.0,5,    144.1,1,    49.60,2,    24.01,2,  -999.00,9,     1.54,2, -999.000,9, -999.000,9
     21OR257_1,  PRS2,     7,  1,      8,      1,2,19901012,0343, 21.7933, 121.6633, 1038,    500.0,   8.8859,  34.3772,2,-999.0000,9,   -999.0,5,    137.0,1,    83.10,2,    26.28,2,  -999.00,9,     1.82,2, -999.000,9, -999.000,9
     21OR257_1,  PRS2,     7,  1,      9,     21,3,19901012,0343, 21.7933, 121.6633, 1038,    549.0,   7.5647,  34.3560,2,-999.0000,9,   -999.0,5,    118.7,1,   100.00,2,    30.58,2,  -999.00,9,     2.12,2, -999.000,9, -999.000,9
     21OR257_1,  PRS2,     7,  1,     10,      2,2,19901012,0343, 21.7933, 121.6633, 1038,    591.0,   7.2699,  34.3689,2,-999.0000,9,   -999.0,5,    119.6,1,   100.50,2,    30.87,2,  -999.00,9,     2.12,2, -999.000,9, -999.000,9
     21OR257_1,  PRS2,     7,  1,     11,     12,2,19901012,0343, 21.7933, 121.6633, 1038,    701.0,   5.7159,  34.4297,2,-999.0000,9,   -999.0,5,    111.1,1,   120.90,2,    34.29,2,  -999.00,9,     2.41,2, -999.000,9, -999.000,9
     21OR257_1,  PRS2,     7,  1,     12,      8,2,19901012,0343, 21.7933, 121.6633, 1038,    751.0,   5.4990,  34.4315,2,-999.0000,9,   -999.0,5,    108.0,1,   123.90,2,    34.55,2,  -999.00,9,     2.41,2, -999.000,9, -999.000,9