BOTTLE,20010813WHPSIOKJU
EXPOCODE,SECT_ID,STNNBR,CASTNO,SAMPNO,BTLNBR,BTLNBR_FLAG_W,DATE,TIME,LATITUDE,LONGITUDE,DEPTH,CTDPRS,CTDTMP,CTDSAL,CTDSAL_FLAG_W,SALNTY,SALNTY_FLAG_W,CTDOXY,CTDOXY_FLAG_W,OXYGEN,OXYGEN_FLAG_W,SILCAT,SILCAT_FLAG_W,NITRAT,NITRAT_FLAG_W,NITRIT,NITRIT_FLAG_W,PHSPHT,PHSPHT_FLAG_W,CFC-11,CFC-11_FLAG_W,CFC-12,CFC-12_FLAG_W
,,,,,,,,,,,,DBAR,DEG C,PSS-78,,PSS-78,,UMOL/KG,,UMOL/KG,,UMOL/KG,,UMOL/KG,,UMOL/KG,,UMOL/KG,,PMOL/KG,,PMOL/KG,
     21OR257_1,  PRS2,    15,  1,      1,   -999,1,19901013,0429, 21.7517, 123.2517, 5641,      0.0,  27.2269,  34.6287,2,-999.0000,9,    196.0,1,   -999.0,9,     4.40,1,     0.00,2,  -999.00,9,     0.00,2, -999.000,9, -999.000,9
     21OR257_1,  PRS2,    15,  1,      2,      7,2,19901013,0429, 21.7517, 123.2517, 5641,     90.0,  22.6662,  34.9083,2,-999.0000,9,    200.4,1,   -999.0,9,     3.70,1,     0.29,2,  -999.00,9,     0.00,2, -999.000,9, -999.000,9
     21OR257_1,  PRS2,    15,  1,      3,      3,2,19901013,0429, 21.7517, 123.2517, 5641,    124.0,  21.7697,  34.9078,2,-999.0000,9,    196.9,1,   -999.0,9,     3.70,1,     0.69,2,  -999.00,9,     0.02,2, -999.000,9, -999.000,9
     21OR257_1,  PRS2,    15,  1,      4,     10,2,19901013,0429, 21.7517, 123.2517, 5641,    254.0,  16.7572,  34.7526,2,-999.0000,9,    200.7,1,   -999.0,9,     6.90,1,     5.58,2,  -999.00,9,     0.36,2, -999.000,9, -999.000,9
     21OR257_1,  PRS2,    15,  1,      5,     24,2,19901013,0429, 21.7517, 123.2517, 5641,    463.0,  11.2256,  34.3396,2,-999.0000,9,    183.2,1,   -999.0,9,    24.50,1,    16.97,2,  -999.00,9,     1.08,2, -999.000,9, -999.000,9
     21OR257_1,  PRS2,    15,  1,      6,      5,3,19901013,0429, 21.7517, 123.2517, 5641,    687.0,   5.9600,  34.1832,2,-999.0000,9,     98.5,1,   -999.0,9,    70.80,1,    33.33,2,  -999.00,9,     2.35,2, -999.000,9, -999.000,9
     21OR257_1,  PRS2,    15,  1,      7,      9,4,19901013,0429, 21.7517, 123.2517, 5641,    905.0,   4.8095,  34.3769,2,-999.0000,9,     65.0,1,   -999.0,9,   123.00,3,    40.64,3,  -999.00,9,     2.94,3, -999.000,9, -999.000,9
     21OR257_1,  PRS2,    15,  1,      8,      1,2,19901013,0429, 21.7517, 123.2517, 5641,   1112.0,   3.5608,  34.4769,2,-999.0000,9,     75.0,1,   -999.0,9,   123.70,1,    40.76,2,  -999.00,9,     2.94,2, -999.000,9, -999.000,9
     21OR257_1,  PRS2,    15,  1,      9,     21,3,19901013,0429, 21.7517, 123.2517, 5641,   1316.0,   3.1138,  34.5349,2,-999.0000,9,     92.0,1,   -999.0,9,   138.30,3,    39.05,3,  -999.00,9,     2.77,3, -999.000,9, -999.000,9
     21OR257_1,  PRS2,    15,  1,     10,      2,2,19901013,0429, 21.7517, 123.2517, 5641,   1535.0,   2.6199,  34.5852,2,-999.0000,9,    109.0,1,   -999.0,9,   137.20,1,    39.13,2,  -999.00,9,     2.81,2, -999.000,9, -999.000,9
     21OR257_1,  PRS2,    15,  1,     11,     12,2,19901013,0429, 21.7517, 123.2517, 5641,   1749.0,   2.3712,  34.6046,2,-999.0000,9,    115.0,1,   -999.0,9,   139.80,1,    38.88,2,  -999.00,9,     2.79,2, -999.000,9, -999.000,9
     21OR257_1,  PRS2,    15,  1,     12,      8,2,19901013,0429, 21.7517, 123.2517, 5641,   1975.0,   2.1203,  34.6234,2,-999.0000,9,    122.7,1,   -999.0,9,   143.40,1,    38.54,2,  -999.00,9,     2.76,2, -999.000,9, -999.000,9
     21OR257_1,  PRS2,    16,  1,     11,      7,2,19901013,0721, 21.7500, 123.5833, 5073,     54.5,  26.4914,  34.6307,2,-999.0000,9,    196.4,1,   -999.0,9,     3.70,1,     0.24,2,  -999.00,9,     0.00,2, -999.000,9, -999.000,9
     21OR257_1,  PRS2,    16,  1,     10,      3,2,19901013,0721, 21.7500, 123.5833, 5073,    112.4,  21.6925,  34.9205,2,-999.0000,9,    197.7,1,   -999.0,9,     4.40,1,     0.71,2,  -999.00,9,     0.00,2, -999.000,9, -999.000,9
     21OR257_1,  PRS2,    16,  1,      9,     10,2,19901013,0721, 21.7500, 123.5833, 5073,    252.6,  17.4305,  34.7889,2,-999.0000,9,    200.0,1,   -999.0,9,     6.60,1,     4.85,2,  -999.00,9,     0.33,2, -999.000,9, -999.000,9
     21OR257_1,  PRS2,    16,  1,      8,     24,2,19901013,0721, 21.7500, 123.5833, 5073,    453.4,  11.9514,  34.3989,2,-999.0000,9,    186.1,1,   -999.0,9,    20.40,1,    15.51,2,  -999.00,9,     0.94,2, -999.000,9, -999.000,9
     21OR257_1,  PRS2,    16,  1,      7,      5,3,19901013,0721, 21.7500, 123.5833, 5073,    627.7,   7.0331,  34.1779,2,-999.0000,9,    124.9,1,   -999.0,9,    61.30,1,    30.84,2,  -999.00,9,     2.16,2, -999.000,9, -999.000,9
     21OR257_1,  PRS2,    16,  1,      6,      9,4,19901013,0721, 21.7500, 123.5833, 5073,    830.5,   4.7113,  34.3108,2,-999.0000,9,     65.4,1,   -999.0,9,   102.20,1,    40.21,2,  -999.00,9,     2.83,2, -999.000,9, -999.000,9
     21OR257_1,  PRS2,    16,  1,      5,      1,2,19901013,0721, 21.7500, 123.5833, 5073,   1031.0,   3.8204,  34.4204,2,-999.0000,9,     65.2,1,   -999.0,9,   121.50,1,    41.46,2,  -999.00,9,     2.93,2, -999.000,9, -999.000,9
     21OR257_1,  PRS2,    16,  1,      4,     21,3,19901013,0721, 21.7500, 123.5833, 5073,   1230.3,   3.2912,  34.5100,2,-999.0000,9,     87.3,1,   -999.0,9,   136.90,3,    39.81,3,  -999.00,9,     2.78,3, -999.000,9, -999.000,9
     21OR257_1,  PRS2,    16,  1,      3,      2,2,19901013,0721, 21.7500, 123.5833, 5073,   1432.0,   2.8568,  34.5540,2,-999.0000,9,     98.7,1,   -999.0,9,   137.20,1,    39.07,2,  -999.00,9,     2.83,2, -999.000,9, -999.000,9
     21OR257_1,  PRS2,    16,  1,      2,     12,2,19901013,0721, 21.7500, 123.5833, 5073,   1631.5,   2.4860,  34.5936,2,-999.0000,9,    112.4,1,   -999.0,9,   139.80,1,    39.14,2,  -999.00,9,     2.76,2, -999.000,9, -999.000,9
     21OR257_1,  PRS2,    16,  1,      1,      8,2,19901013,0721, 21.7500, 123.5833, 5073,   1830.6,   2.2919,  34.6081,2,-999.0000,9,    117.2,1,   -999.0,9,   143.10,1,    38.92,2,  -999.00,9,     2.76,2, -999.000,9, -999.000,9
     21OR257_1,  PRS2,    17,  1,     11,      7,2,19901013,1130, 21.7550, 124.0017, 5558,   2251.0,   1.8397,  34.6425,2,  34.6310,2,    138.5,1,    133.0,1,   145.60,1,    38.63,2,  -999.00,9,     2.54,2, -999.000,9, -999.000,9
     21OR257_1,  PRS2,    17,  1,     10,      3,2,19901013,1130, 21.7550, 124.0017, 5558,   2500.0,   1.7484,  34.6498,2,  34.6660,2,    139.3,1,    140.1,1,   146.70,1,    38.31,2,  -999.00,9,     2.59,2, -999.000,9, -999.000,9
     21OR257_1,  PRS2,    17,  1,      9,     10,2,19901013,1130, 21.7550, 124.0017, 5558,   2753.0,   1.6417,  34.6599,2,  34.6660,2,    146.1,1,    146.3,1,   147.50,1,    38.17,2,  -999.00,9,     2.55,2, -999.000,9, -999.000,9
     21OR257_1,  PRS2,    17,  1,      8,     24,2,19901013,1130, 21.7550, 124.0017, 5558,   3000.0,   1.5843,  34.6665,2,  34.6730,2,    151.4,1,    150.8,1,   146.40,1,    37.83,2,  -999.00,9,     2.56,2, -999.000,9, -999.000,9
     21OR257_1,  PRS2,    17,  1,      7,      5,3,19901013,1130, 21.7550, 124.0017, 5558,   3301.0,   1.5582,  34.6710,2,-999.0000,5,    154.0,1,    154.4,1,   145.60,1,    37.82,2,  -999.00,9,     2.42,2, -999.000,9, -999.000,9
     21OR257_1,  PRS2,    17,  1,      6,      9,4,19901013,1130, 21.7550, 124.0017, 5558,   3600.0,   1.5553,  34.6738,2,  34.6810,2,    154.9,1,    156.2,1,   146.00,1,    37.45,2,  -999.00,9,     2.51,2, -999.000,9, -999.000,9
     21OR257_1,  PRS2,    17,  1,      1,      8,2,19901013,1130, 21.7550, 124.0017, 5558,   4284.6,   1.5827,  34.6781,2,-999.0000,9,    155.8,1,    160.2,1,   144.50,1,    36.96,2,  -999.00,9,     2.51,2, -999.000,9, -999.000,9
     21OR257_1,  PRS2,    17,  1,      2,     12,2,19901013,1130, 21.7550, 124.0017, 5558,   4288.3,   1.5822,  34.6782,2,  34.6770,2,    155.9,1,    158.8,1,   143.10,1,    36.74,2,  -999.00,9,     2.53,2, -999.000,9, -999.000,9
     21OR257_1,  PRS2,    17,  1,      3,      2,2,19901013,1130, 21.7550, 124.0017, 5558,   4294.0,   1.5826,  34.6776,2,  34.6830,2,    156.1,1,    160.6,1,   144.50,1,    36.94,2,  -999.00,9,     2.53,2, -999.000,9, -999.000,9
     21OR257_1,  PRS2,    17,  1,      4,     21,3,19901013,1130, 21.7550, 124.0017, 5558,   4296.2,   1.5827,  34.6780,2,  34.6820,2,    156.2,1,    159.3,1,   144.50,1,    36.76,2,  -999.00,9,     2.51,2, -999.000,9, -999.000,9
     21OR257_1,  PRS2,    17,  1,      5,      1,2,19901013,1130, 21.7550, 124.0017, 5558,   4296.2,   1.5827,  34.6780,2,  34.6780,2,    156.2,1,    158.4,1,   146.00,1,    36.88,2,  -999.00,9,     2.54,2, -999.000,9, -999.000,9
     21OR257_1,  PRS2,    17,  2,     23,      7,2,19901013,1433, 21.7517, 124.0017, 5537,    603.0,   7.1920,  34.1562,2,  34.1430,2,    135.7,1,    136.1,1,    60.20,1,    29.95,2,  -999.00,9,     2.02,2, -999.000,9, -999.000,9
     21OR257_1,  PRS2,    17,  2,     22,      3,2,19901013,1433, 21.7517, 124.0017, 5537,    688.0,   6.0881,  34.1822,2,  34.1770,2,     95.5,1,   -999.0,9,    76.70,1,    35.86,2,  -999.00,9,     2.43,2, -999.000,9, -999.000,9
     21OR257_1,  PRS2,    17,  2,     21,     10,2,19901013,1433, 21.7517, 124.0017, 5537,    797.0,   5.3429,  34.2901,2,  34.2870,2,     68.9,1,   -999.0,9,    94.20,1,    39.90,2,  -999.00,9,     2.67,2, -999.000,9, -999.000,9
     21OR257_1,  PRS2,    17,  2,     20,     24,2,19901013,1433, 21.7517, 124.0017, 5537,    900.0,   4.4994,  34.3632,2,  34.3660,2,     61.8,1,   -999.0,9,   109.50,1,    41.85,2,  -999.00,9,     2.78,2, -999.000,9, -999.000,9
     21OR257_1,  PRS2,    17,  2,     19,      5,3,19901013,1433, 21.7517, 124.0017, 5537,   1002.0,   4.0258,  34.3953,2,  34.3920,2,     61.2,1,     65.1,1,   119.00,1,    42.85,2,  -999.00,9,     2.87,2, -999.000,9, -999.000,9
     21OR257_1,  PRS2,    17,  2,     17,      9,4,19901013,1433, 21.7517, 124.0017, 5537,   1106.0,   3.6011,  34.4357,2,-999.0000,9,     64.5,1,   -999.0,9,   128.80,1,    42.67,2,  -999.00,9,     2.85,2, -999.000,9, -999.000,9
     21OR257_1,  PRS2,    17,  2,     18,      9,4,19901013,1433, 21.7517, 124.0017, 5537,   1106.0,   3.6011,  34.4357,2,  34.4330,2,     64.5,1,   -999.0,9,   128.50,1,    42.84,2,  -999.00,9,     2.80,2, -999.000,9, -999.000,9
     21OR257_1,  PRS2,    17,  2,     16,      1,2,19901013,1433, 21.7517, 124.0017, 5537,   1207.0,   3.3510,  34.4858,2,  34.5420,2,     76.8,1,   -999.0,9,   138.70,1,    41.02,2,  -999.00,9,     2.79,2, -999.000,9, -999.000,9
     21OR257_1,  PRS2,    17,  2,     15,     21,3,19901013,1433, 21.7517, 124.0017, 5537,   1404.0,   3.0463,  34.5406,2,  34.5810,2,     95.3,1,   -999.0,9,   144.50,3,    40.54,3,  -999.00,9,     2.70,3, -999.000,9, -999.000,9
     21OR257_1,  PRS2,    17,  2,     14,      2,2,19901013,1433, 21.7517, 124.0017, 5537,   1602.0,   2.6096,  34.5786,2,  34.5840,2,    107.2,1,   -999.0,9,   144.20,1,    40.38,2,  -999.00,9,     2.77,2, -999.000,9, -999.000,9
     21OR257_1,  PRS2,    17,  2,     13,     12,2,19901013,1433, 21.7517, 124.0017, 5537,   1801.0,   2.3806,  34.6014,2,  34.6190,2,    114.4,1,    115.6,1,  -999.00,5,    39.66,2,  -999.00,9,     2.66,2, -999.000,9, -999.000,9
     21OR257_1,  PRS2,    17,  2,     12,      8,2,19901013,1433, 21.7517, 124.0017, 5537,   1996.0,   2.1715,  34.6170,2,  34.6350,2,    120.4,1,    120.0,1,  -999.00,5,    39.31,2,  -999.00,9,     2.66,2, -999.000,9, -999.000,9
     21OR257_1,  PRS2,    17,  3,     34,      7,2,19901013,1545, 21.7483, 124.0033, 5579,     74.9,  27.3006,  34.6831,2,  34.6970,2,    192.3,1,   -999.0,9,     4.40,1,     0.18,2,  -999.00,9,     0.00,2, -999.000,9, -999.000,9
     21OR257_1,  PRS2,    17,  3,     33,      3,2,19901013,1545, 21.7483, 124.0033, 5579,    111.0,  22.6697,  34.8949,2,  34.8930,2,    199.6,1,   -999.0,9,     4.40,1,     0.18,2,  -999.00,9,     0.00,2, -999.000,9, -999.000,9
     21OR257_1,  PRS2,    17,  3,     32,     10,2,19901013,1545, 21.7483, 124.0033, 5579,    151.4,  20.9065,  34.9055,2,  34.9050,2,    193.5,1,   -999.0,9,     4.70,1,     1.42,2,  -999.00,9,     0.02,2, -999.000,9, -999.000,9
     21OR257_1,  PRS2,    17,  3,     31,     24,2,19901013,1545, 21.7483, 124.0033, 5579,    201.0,  19.2398,  34.8925,2,  34.9060,2,    188.9,1,    194.5,1,     5.80,1,     3.49,2,  -999.00,9,     0.16,2, -999.000,9, -999.000,9
     21OR257_1,  PRS2,    17,  3,     30,      5,3,19901013,1545, 21.7483, 124.0033, 5579,    253.7,  17.5063,  34.8022,2,-999.0000,9,    196.6,1,   -999.0,9,     7.30,1,     5.10,2,  -999.00,9,     0.35,2, -999.000,9, -999.000,9
     21OR257_1,  PRS2,    17,  3,     29,      9,4,19901013,1545, 21.7483, 124.0033, 5579,    301.9,  16.5528,  34.7299,2,  34.6570,3,    198.9,1,    195.9,3,    12.00,3,     9.35,3,  -999.00,9,     0.53,3, -999.000,9, -999.000,9
     21OR257_1,  PRS2,    17,  3,     28,      1,2,19901013,1545, 21.7483, 124.0033, 5579,    351.9,  15.4011,  34.6471,2,  34.6590,2,    192.2,1,   -999.0,9,    11.70,1,     9.35,2,  -999.00,9,     0.58,2, -999.000,9, -999.000,9
     21OR257_1,  PRS2,    17,  3,     27,     21,3,19901013,1545, 21.7483, 124.0033, 5579,    401.0,  13.8186,  34.5271,2,  34.5360,2,    192.9,1,    195.4,1,    15.70,1,    11.41,2,  -999.00,9,     0.72,2, -999.000,9, -999.000,9
     21OR257_1,  PRS2,    17,  3,     26,      2,2,19901013,1545, 21.7483, 124.0033, 5579,    452.4,  12.2109,  34.4112,2,-999.0000,9,    187.4,1,   -999.0,9,    21.20,1,    14.92,2,  -999.00,9,     0.98,2, -999.000,9, -999.000,9
     21OR257_1,  PRS2,    17,  3,     25,     12,2,19901013,1545, 21.7483, 124.0033, 5579,    552.3,   8.9631,  34.2060,2,  34.2080,2,    165.1,1,    166.0,1,    40.20,1,    22.85,2,  -999.00,9,     1.57,2, -999.000,9, -999.000,9
     21OR257_1,  PRS2,    17,  3,     24,      8,2,19901013,1545, 21.7483, 124.0033, 5579,    680.2,   6.4062,  34.1509,2,-999.0000,9,    112.1,1,   -999.0,9,    70.40,1,    33.25,2,  -999.00,9,     2.32,2, -999.000,9, -999.000,9
     21OR257_1,  PRS2,    18,  1,      2,      7,2,19901013,1954, 21.7500, 124.5000, 5848,     76.9,  27.4725,  34.6570,2,-999.0000,9,    190.7,1,   -999.0,9,     1.80,1,     0.00,2,  -999.00,9,     0.00,2, -999.000,9, -999.000,9
     21OR257_1,  PRS2,    18,  1,      3,      3,2,19901013,1954, 21.7500, 124.5000, 5848,    119.9,  23.7762,  34.9254,2,-999.0000,9,    198.6,1,   -999.0,9,     1.80,1,     0.00,2,  -999.00,9,     0.00,2, -999.000,9, -999.000,9
     21OR257_1,  PRS2,    18,  1,      4,      8,2,19901013,1954, 21.7500, 124.5000, 5848,    299.0,  16.2696,  34.7146,2,-999.0000,9,    200.3,1,   -999.0,9,     7.10,1,     7.67,2,  -999.00,9,     0.53,2, -999.000,9, -999.000,9
     21OR257_1,  PRS2,    18,  1,      5,     10,2,19901013,1954, 21.7500, 124.5000, 5848,    453.3,  11.6335,  34.3866,2,-999.0000,9,    190.3,1,   -999.0,9,    18.10,1,    15.55,2,  -999.00,9,     1.02,2, -999.000,9, -999.000,9
     21OR257_1,  PRS2,    18,  1,      6,     24,3,19901013,1954, 21.7500, 124.5000, 5848,    602.2,   7.5157,  34.1496,2,-999.0000,9,    144.2,1,   -999.0,9,    48.60,1,    27.37,2,  -999.00,9,     1.90,2, -999.000,9, -999.000,9
     21OR257_1,  PRS2,    18,  1,      7,      5,4,19901013,1954, 21.7500, 124.5000, 5848,    849.3,   5.0439,  34.2808,2,-999.0000,9,     70.8,1,   -999.0,9,    90.70,1,    39.11,2,  -999.00,9,     2.76,2, -999.000,9, -999.000,9
     21OR257_1,  PRS2,    18,  1,      8,      9,2,19901013,1954, 21.7500, 124.5000, 5848,   1048.6,   3.9835,  34.4018,2,-999.0000,9,     66.2,1,   -999.0,9,   128.90,3,    40.51,3,  -999.00,9,     2.86,3, -999.000,9, -999.000,9
     21OR257_1,  PRS2,    18,  1,      9,      1,3,19901013,1954, 21.7500, 124.5000, 5848,   1250.3,   3.1924,  34.4960,2,-999.0000,9,     78.4,1,   -999.0,9,   128.40,1,    40.49,2,  -999.00,9,     2.88,2, -999.000,9, -999.000,9
     21OR257_1,  PRS2,    18,  1,     10,     21,2,19901013,1954, 21.7500, 124.5000, 5848,   1450.8,   2.8185,  34.5541,2,-999.0000,9,     97.8,1,   -999.0,9,   138.50,3,    38.53,3,  -999.00,9,     2.71,3, -999.000,9, -999.000,9
     21OR257_1,  PRS2,    18,  1,     11,      2,2,19901013,1954, 21.7500, 124.5000, 5848,   1651.7,   2.4687,  34.5827,2,-999.0000,9,    108.2,1,   -999.0,9,   138.30,1,    39.02,2,  -999.00,9,     2.78,2, -999.000,9, -999.000,9
     21OR257_1,  PRS2,    18,  1,     12,     12,2,19901013,1954, 21.7500, 124.5000, 5848,   1851.2,   2.1962,  34.6105,2,-999.0000,9,    119.7,1,   -999.0,9,   140.30,1,    38.35,2,  -999.00,9,     2.70,2, -999.000,9, -999.000,9
     21OR257_1,  PRS2,    19,  1,      2,      7,2,19901013,0028, 21.7517, 124.9850, 5166,     74.5,  24.5493,  34.8213,2,-999.0000,9,    205.3,1,   -999.0,9,     2.30,1,     0.00,2,  -999.00,9,     0.00,2, -999.000,9, -999.000,9
     21OR257_1,  PRS2,    19,  1,      3,      3,2,19901013,0028, 21.7517, 124.9850, 5166,    147.8,  20.7028,  34.8813,2,-999.0000,9,    200.8,1,   -999.0,9,     2.50,1,     1.01,2,  -999.00,9,     0.05,2, -999.000,9, -999.000,9
     21OR257_1,  PRS2,    19,  1,      4,     10,2,19901013,0028, 21.7517, 124.9850, 5166,    301.1,  16.5919,  34.7325,2,-999.0000,9,    199.6,1,   -999.0,9,     5.80,1,     6.00,2,  -999.00,9,     0.39,2, -999.000,9, -999.000,9
     21OR257_1,  PRS2,    19,  1,      5,     24,2,19901013,0028, 21.7517, 124.9850, 5166,    499.7,  11.0125,  34.3239,2,-999.0000,9,    182.1,1,   -999.0,9,    23.40,1,    17.35,2,  -999.00,9,     1.14,2, -999.000,9, -999.000,9
     21OR257_1,  PRS2,    19,  1,      6,      5,3,19901013,0028, 21.7517, 124.9850, 5166,    648.3,   6.8492,  34.1455,2,-999.0000,9,    123.5,1,   -999.0,9,    58.90,1,    31.08,2,  -999.00,9,     2.19,2, -999.000,9, -999.000,9
     21OR257_1,  PRS2,    19,  1,      7,      9,4,19901013,0028, 21.7517, 124.9850, 5166,    850.9,   4.7043,  34.3174,2,-999.0000,9,     65.3,1,   -999.0,9,    99.70,1,    39.83,2,  -999.00,9,     2.85,2, -999.000,9, -999.000,9
     21OR257_1,  PRS2,    19,  1,      8,      1,2,19901013,0028, 21.7517, 124.9850, 5166,   1048.9,   3.7002,  34.4245,2,-999.0000,9,     63.5,1,   -999.0,9,   133.00,1,    41.01,2,  -999.00,9,     2.91,2, -999.000,9, -999.000,9
     21OR257_1,  PRS2,    19,  1,      9,     21,3,19901013,0028, 21.7517, 124.9850, 5166,   1252.7,   3.1077,  34.4884,2,-999.0000,9,     72.6,1,   -999.0,9,   137.50,3,    39.16,3,  -999.00,9,     2.76,3, -999.000,9, -999.000,9
     21OR257_1,  PRS2,    19,  1,     10,      2,2,19901013,0028, 21.7517, 124.9850, 5166,   1450.3,   2.8268,  34.5543,2,-999.0000,9,     98.4,1,   -999.0,9,   138.00,1,    39.19,2,  -999.00,9,     2.80,2, -999.000,9, -999.000,9
     21OR257_1,  PRS2,    19,  1,     11,     12,2,19901013,0028, 21.7517, 124.9850, 5166,   1647.4,   2.5288,  34.5843,2,-999.0000,9,    108.6,1,   -999.0,9,   140.80,1,    38.63,2,  -999.00,9,     2.70,2, -999.000,9, -999.000,9
     21OR257_1,  PRS2,    19,  1,     12,      8,2,19901013,0028, 21.7517, 124.9850, 5166,   1851.6,   2.3016,  34.6075,2,-999.0000,9,    116.0,1,   -999.0,9,   143.60,1,    38.67,2,  -999.00,9,     2.73,2, -999.000,9, -999.000,9