BOTTLE,20010813WHPSIOKJU
EXPOCODE,SECT_ID,STNNBR,CASTNO,SAMPNO,BTLNBR,BTLNBR_FLAG_W,DATE,TIME,LATITUDE,LONGITUDE,DEPTH,CTDPRS,CTDTMP,CTDSAL,CTDSAL_FLAG_W,SALNTY,SALNTY_FLAG_W,CTDOXY,CTDOXY_FLAG_W,OXYGEN,OXYGEN_FLAG_W,SILCAT,SILCAT_FLAG_W,NITRAT,NITRAT_FLAG_W,NITRIT,NITRIT_FLAG_W,PHSPHT,PHSPHT_FLAG_W,CFC-11,CFC-11_FLAG_W,CFC-12,CFC-12_FLAG_W
,,,,,,,,,,,,DBAR,DEG C,PSS-78,,PSS-78,,UMOL/KG,,UMOL/KG,,UMOL/KG,,UMOL/KG,,UMOL/KG,,UMOL/KG,,PMOL/KG,,PMOL/KG,
     21OR257_1,  PRS2,    20,  1,      2,      7,2,19901014,0455, 21.7500, 125.5000, 6056,     77.3,  26.3719,  34.7960,2,-999.0000,9,    197.2,1,   -999.0,9,     1.80,1,     0.00,2,  -999.00,9,     0.00,2, -999.000,9, -999.000,9
     21OR257_1,  PRS2,    20,  1,      3,      3,2,19901014,0455, 21.7500, 125.5000, 6056,    149.2,  20.0434,  34.8675,2,-999.0000,9,    200.0,1,   -999.0,9,     2.50,1,     1.95,2,  -999.00,9,     0.08,2, -999.000,9, -999.000,9
     21OR257_1,  PRS2,    20,  1,      4,     10,2,19901014,0455, 21.7500, 125.5000, 6056,    299.8,  16.6585,  34.7398,2,-999.0000,9,    199.6,1,   -999.0,9,     5.80,1,     6.30,2,  -999.00,9,     0.43,2, -999.000,9, -999.000,9
     21OR257_1,  PRS2,    20,  1,      5,     24,2,19901014,0455, 21.7500, 125.5000, 6056,    498.6,  10.1805,  34.2780,2,-999.0000,9,    179.5,1,   -999.0,9,    29.00,1,    19.44,2,  -999.00,9,     1.29,2, -999.000,9, -999.000,9
     21OR257_1,  PRS2,    20,  1,      6,      5,3,19901014,0455, 21.7500, 125.5000, 6056,    622.5,   7.6427,  34.1946,2,-999.0000,9,    128.9,1,   -999.0,9,    51.90,1,    29.01,2,  -999.00,9,     1.89,2, -999.000,9, -999.000,9
     21OR257_1,  PRS2,    20,  1,      7,      9,4,19901014,0455, 21.7500, 125.5000, 6056,    745.6,   5.8238,  34.1595,2,-999.0000,9,     97.4,1,   -999.0,9,    77.80,1,    35.26,2,  -999.00,9,     2.51,2, -999.000,9, -999.000,9
     21OR257_1,  PRS2,    20,  1,      8,      1,2,19901014,0455, 21.7500, 125.5000, 6056,    945.9,   4.5081,  34.3555,2,-999.0000,9,     64.1,1,   -999.0,9,   107.00,1,    40.24,2,  -999.00,9,     2.85,2, -999.000,9, -999.000,9
     21OR257_1,  PRS2,    20,  1,      9,     21,3,19901014,0455, 21.7500, 125.5000, 6056,   1149.4,   3.5681,  34.4394,2,-999.0000,9,     65.2,1,   -999.0,9,   127.90,1,    40.79,2,  -999.00,9,     2.85,2, -999.000,9, -999.000,9
     21OR257_1,  PRS2,    20,  1,     10,      2,2,19901014,0455, 21.7500, 125.5000, 6056,   1345.7,   3.0017,  34.5048,2,-999.0000,9,     77.7,1,   -999.0,9,   143.10,1,    38.97,2,  -999.00,9,     2.74,2, -999.000,9, -999.000,9
     21OR257_1,  PRS2,    20,  1,     11,     12,2,19901014,0455, 21.7500, 125.5000, 6056,   1548.6,   2.6725,  34.5696,2,-999.0000,9,    104.1,1,   -999.0,9,   140.80,1,    38.30,2,  -999.00,9,     2.57,3, -999.000,9, -999.000,9
     21OR257_1,  PRS2,    20,  1,     12,      8,2,19901014,0455, 21.7500, 125.5000, 6056,   1744.8,   2.3937,  34.5982,2,-999.0000,9,    113.6,1,   -999.0,9,   146.10,1,    38.71,2,  -999.00,9,     2.34,3, -999.000,9, -999.000,9
     21OR257_1,  PRS2,    21,  1,      2,      7,2,19901014,0923, 21.7533, 125.9983, 5537,     77.8,  25.7753,  34.8776,2,-999.0000,9,    200.0,1,   -999.0,9,     2.50,1,     0.00,2,  -999.00,9,     0.00,2, -999.000,9, -999.000,9
     21OR257_1,  PRS2,    21,  1,      3,      3,2,19901014,0923, 21.7533, 125.9983, 5537,    105.3,  23.2207,  34.9499,2,-999.0000,9,    200.0,1,   -999.0,9,     2.50,1,     0.00,2,  -999.00,9,     0.00,2, -999.000,9, -999.000,9
     21OR257_1,  PRS2,    21,  1,      4,     10,2,19901014,0923, 21.7533, 125.9983, 5537,    351.6,  15.7234,  34.6720,2,-999.0000,9,    201.4,1,   -999.0,9,     6.80,1,     7.54,2,  -999.00,9,     0.49,2, -999.000,9, -999.000,9
     21OR257_1,  PRS2,    21,  1,      5,     24,2,19901014,0923, 21.7533, 125.9983, 5537,    551.4,   9.3059,  34.2229,2,-999.0000,9,    173.9,1,   -999.0,9,    40.30,1,    21.75,2,  -999.00,9,     1.45,2, -999.000,9, -999.000,9
     21OR257_1,  PRS2,    21,  1,      6,      5,3,19901014,0923, 21.7533, 125.9983, 5537,    750.3,   5.8658,  34.1824,2,-999.0000,9,     91.5,1,   -999.0,9,    76.30,1,    35.81,2,  -999.00,9,     2.50,2, -999.000,9, -999.000,9
     21OR257_1,  PRS2,    21,  1,      7,      9,4,19901014,0923, 21.7533, 125.9983, 5537,    950.1,   4.3989,  34.3462,2,-999.0000,9,     63.1,1,   -999.0,9,   128.20,3,    41.62,3,  -999.00,9,     2.87,3, -999.000,9, -999.000,9
     21OR257_1,  PRS2,    21,  1,      8,      1,2,19901014,0923, 21.7533, 125.9983, 5537,   1150.7,   3.4698,  34.4509,2,-999.0000,9,     67.4,1,   -999.0,9,   128.40,1,    41.33,2,  -999.00,9,     2.93,2, -999.000,9, -999.000,9
     21OR257_1,  PRS2,    21,  1,      9,     21,3,19901014,0923, 21.7533, 125.9983, 5537,   1351.1,   2.9188,  34.5138,2,-999.0000,9,     79.8,1,   -999.0,9,   140.80,3,    39.20,3,  -999.00,9,     2.73,3, -999.000,9, -999.000,9
     21OR257_1,  PRS2,    21,  1,     10,      2,2,19901014,0923, 21.7533, 125.9983, 5537,   1550.5,   2.6857,  34.5698,2,-999.0000,9,    104.0,1,   -999.0,9,   140.30,1,    39.11,2,  -999.00,9,     2.79,2, -999.000,9, -999.000,9
     21OR257_1,  PRS2,    21,  1,     11,     12,2,19901014,0923, 21.7533, 125.9983, 5537,   1751.4,   2.4337,  34.5959,2,-999.0000,9,    111.9,1,   -999.0,9,   143.10,1,    39.17,2,  -999.00,9,     2.75,2, -999.000,9, -999.000,9
     21OR257_1,  PRS2,    21,  1,     12,      8,2,19901014,0923, 21.7533, 125.9983, 5537,   2000.1,   2.1416,  34.6176,2,-999.0000,9,    121.0,1,   -999.0,9,   145.80,1,    38.42,2,  -999.00,9,     2.68,2, -999.000,9, -999.000,9
     21OR257_1,  PRS2,    22,  1,      1,   -999,1,19901014,1603, 21.7500, 126.5000, 5537,      0.0,-999.0000,-999.0000,5,-999.0000,9,    182.7,1,    187.4,1,     1.80,1,     0.00,2,  -999.00,9,     0.03,2, -999.000,9, -999.000,9
     21OR257_1,  PRS2,    22,  1,      2,      7,2,19901014,1603, 21.7500, 126.5000, 5537,     75.0,  27.5908,  34.7213,2,-999.0000,9,    189.0,1,    209.2,1,     1.80,1,     0.00,2,  -999.00,9,     0.00,2, -999.000,9, -999.000,9
     21OR257_1,  PRS2,    22,  1,      3,      3,2,19901014,1603, 21.7500, 126.5000, 5537,     98.0,  24.4700,  34.9852,2,-999.0000,9,    200.4,1,    224.9,1,     1.80,1,     0.00,2,  -999.00,9,     0.00,2, -999.000,9, -999.000,9
     21OR257_1,  PRS2,    22,  1,      4,     10,2,19901014,1603, 21.7500, 126.5000, 5537,    349.0,  16.0670,  34.7004,2,-999.0000,9,    200.8,1,    206.1,1,     6.30,1,     7.16,2,  -999.00,9,     0.42,2, -999.000,9, -999.000,9
     21OR257_1,  PRS2,    22,  1,      5,     24,2,19901014,1603, 21.7500, 126.5000, 5537,    549.0,   9.6364,  34.2430,2,-999.0000,9,    166.6,1,    166.4,1,    32.20,1,    22.17,2,  -999.00,9,     1.29,2, -999.000,9, -999.000,9
     21OR257_1,  PRS2,    22,  1,      6,      5,3,19901014,1603, 21.7500, 126.5000, 5537,    748.0,   5.9365,  34.2037,2,-999.0000,9,     91.5,1,     91.5,1,    76.30,1,    36.44,2,  -999.00,9,     2.37,2, -999.000,9, -999.000,9
     21OR257_1,  PRS2,    22,  1,      7,      9,4,19901014,1603, 21.7500, 126.5000, 5537,    949.0,   4.2755,  34.3230,2,-999.0000,9,     59.5,3,     70.5,3,   127.70,3,    41.81,3,  -999.00,9,     2.83,3, -999.000,9, -999.000,9
     21OR257_1,  PRS2,    22,  1,      8,      1,2,19901014,1603, 21.7500, 126.5000, 5537,   1150.0,   3.5440,  34.4419,2,-999.0000,9,     68.1,1,     68.7,1,   127.20,1,    41.99,2,  -999.00,9,     2.71,2, -999.000,9, -999.000,9
     21OR257_1,  PRS2,    22,  1,      9,     21,3,19901014,1603, 21.7500, 126.5000, 5537,   1349.0,   2.9287,  34.5100,2,-999.0000,9,     79.9,1,     80.3,1,   142.80,1,    41.24,2,  -999.00,9,     2.85,2, -999.000,9, -999.000,9
     21OR257_1,  PRS2,    22,  1,     10,      2,2,19901014,1603, 21.7500, 126.5000, 5537,   1548.0,   2.6834,  34.5700,2,-999.0000,9,    113.4,1,    113.8,1,   145.30,1,    39.06,2,  -999.00,9,     2.76,2, -999.000,9, -999.000,9
     21OR257_1,  PRS2,    22,  1,     11,     12,2,19901014,1603, 21.7500, 126.5000, 5537,   1747.0,   2.4089,  34.5953,2,-999.0000,9,    123.0,1,    122.7,1,   145.60,1,    39.00,2,  -999.00,9,     2.75,2, -999.000,9, -999.000,9
     21OR257_1,  PRS2,    22,  1,     12,      8,2,19901014,1603, 21.7500, 126.5000, 5537,   2002.0,   2.1080,  34.6210,2,-999.0000,9,    123.0,1,    207.0,4,   148.80,1,    38.70,2,  -999.00,9,     2.68,2, -999.000,9, -999.000,9
     21OR257_1,  PRS2,    23,  1,     10,      3,2,19901014,2039, 21.7500, 127.0000, 5765,   2502.0,   1.7957,  34.6470,2,  34.6500,2,    135.8,1,    135.2,1,   150.10,1,    38.11,2,  -999.00,9,     2.64,2, -999.000,9, -999.000,9
     21OR257_1,  PRS2,    23,  1,      9,     10,2,19901014,2039, 21.7500, 127.0000, 5765,   2750.0,   1.6947,  34.6561,2,  34.6600,2,    141.6,1,    144.1,1,   150.40,1,    37.65,2,  -999.00,9,     2.59,2, -999.000,9, -999.000,9
     21OR257_1,  PRS2,    23,  1,      8,     24,2,19901014,2039, 21.7500, 127.0000, 5765,   3000.0,   1.6313,  34.6635,2,  34.6660,2,    147.0,1,    146.8,1,   150.10,1,    37.06,2,  -999.00,9,     2.55,2, -999.000,9, -999.000,9
     21OR257_1,  PRS2,    23,  1,      7,      5,3,19901014,2039, 21.7500, 127.0000, 5765,   3298.0,   1.5981,  34.6687,2,  34.6760,2,    150.3,1,   -999.0,9,   150.10,1,    36.30,2,  -999.00,9,     2.57,2, -999.000,9, -999.000,9
     21OR257_1,  PRS2,    23,  1,      6,      9,4,19901014,2039, 21.7500, 127.0000, 5765,   3600.0,   1.5800,  34.6730,2,  34.6770,2,    152.2,1,    158.4,1,   150.10,1,    36.31,2,  -999.00,9,     2.56,2, -999.000,9, -999.000,9
     21OR257_1,  PRS2,    23,  1,      5,      1,2,19901014,2039, 21.7500, 127.0000, 5765,   3899.0,   1.5731,  34.6762,2,  34.6720,2,    154.8,1,    157.0,1,   148.80,1,    36.10,2,  -999.00,9,     2.52,2, -999.000,9, -999.000,9
     21OR257_1,  PRS2,    23,  1,      4,     21,3,19901014,2039, 21.7500, 127.0000, 5765,   4201.0,   1.5841,  34.6782,2,  34.6810,2,    155.3,1,   -999.0,9,   149.90,1,    36.15,2,  -999.00,9,     2.52,2, -999.000,9, -999.000,9
     21OR257_1,  PRS2,    23,  1,      3,      2,2,19901014,2039, 21.7500, 127.0000, 5765,   4604.0,   1.6102,  34.6791,2,  34.6770,2,    154.6,1,    161.1,1,   149.10,1,    35.94,2,  -999.00,9,     2.54,2, -999.000,9, -999.000,9
     21OR257_1,  PRS2,    23,  1,      1,      8,2,19901014,2039, 21.7500, 127.0000, 5765,   5000.0,   1.6492,  34.6802,2,  34.6790,2,    153.7,1,   -999.0,9,   148.80,1,    35.95,2,  -999.00,9,     2.49,2, -999.000,9, -999.000,9
     21OR257_1,  PRS2,    23,  1,      2,     12,2,19901014,2039, 21.7500, 127.0000, 5765,   5000.0,   1.6492,  34.6802,2,  34.6800,2,    153.7,1,    162.4,1,   148.60,1,    35.94,2,  -999.00,9,     2.52,2, -999.000,9, -999.000,9
     21OR257_1,  PRS2,    23,  2,     22,      7,2,19901014,2339, 21.7500, 127.0000, 5786,    562.0,  10.2928,  34.2809,2,  34.2790,2,    173.1,1,    175.3,1,     2.80,4,    20.15,2,  -999.00,9,     1.25,2, -999.000,9, -999.000,9
     21OR257_1,  PRS2,    23,  2,     21,      3,2,19901014,2339, 21.7500, 127.0000, 5786,    698.0,   7.4492,  34.1826,2,-999.0000,9,    121.4,1,   -999.0,5,    54.90,1,    30.85,2,  -999.00,9,     2.11,2, -999.000,9, -999.000,9
     21OR257_1,  PRS2,    23,  2,     20,     10,2,19901014,2339, 21.7500, 127.0000, 5786,    798.0,   5.6172,  34.2188,2,-999.0000,9,     80.1,1,   -999.0,9,    82.60,1,    38.51,2,  -999.00,9,     2.59,2, -999.000,9, -999.000,9
     21OR257_1,  PRS2,    23,  2,     19,     24,2,19901014,2339, 21.7500, 127.0000, 5786,    900.0,   4.8457,  34.2766,2,-999.0000,9,     71.6,1,   -999.0,5,    98.20,1,    40.92,2,  -999.00,9,     2.73,2, -999.000,9, -999.000,9
     21OR257_1,  PRS2,    23,  2,     18,      5,3,19901014,2339, 21.7500, 127.0000, 5786,   1003.0,   4.1139,  34.3531,2,  34.4150,2,     57.5,1,   -999.0,9,   126.90,1,    43.15,2,  -999.00,9,     2.94,2, -999.000,9, -999.000,9
     21OR257_1,  PRS2,    23,  2,     17,      9,4,19901014,2339, 21.7500, 127.0000, 5786,   1099.0,   3.5956,  34.4229,2,-999.0000,9,     59.7,1,     70.0,1,   133.70,3,    43.09,3,  -999.00,9,     2.85,3, -999.000,9, -999.000,9
     21OR257_1,  PRS2,    23,  2,     16,      1,2,19901014,2339, 21.7500, 127.0000, 5786,   1199.0,   3.2609,  34.4696,2,-999.0000,9,     65.2,1,   -999.0,9,   134.00,1,    42.85,2,  -999.00,9,     2.93,2, -999.000,9, -999.000,9
     21OR257_1,  PRS2,    23,  2,     15,     21,3,19901014,2339, 21.7500, 127.0000, 5786,   1400.0,   2.8261,  34.5520,2,-999.0000,9,     94.3,1,    106.2,1,   143.80,1,    40.43,2,  -999.00,9,     2.75,2, -999.000,9, -999.000,9
     21OR257_1,  PRS2,    23,  2,     14,      2,2,19901014,2339, 21.7500, 127.0000, 5786,   1600.0,   2.5321,  34.5821,2,  34.6080,2,    105.9,1,   -999.0,9,   146.60,1,    39.83,2,  -999.00,9,     2.69,2, -999.000,9, -999.000,9
     21OR257_1,  PRS2,    23,  2,     13,     12,2,19901014,2339, 21.7500, 127.0000, 5786,   1800.0,   2.2674,  34.6104,2,-999.0000,9,    116.6,1,    122.7,1,   146.10,1,    39.13,2,  -999.00,9,     2.66,2, -999.000,9, -999.000,9
     21OR257_1,  PRS2,    23,  2,     12,      8,2,19901014,2339, 21.7500, 127.0000, 5786,   2002.0,   2.1035,  34.6253,2,  34.6190,2,    121.2,1,    121.8,1,   148.60,1,    39.60,2,  -999.00,9,     2.70,2, -999.000,9, -999.000,9
     21OR257_1,  PRS2,    23,  2,     11,      7,2,19901014,2339, 21.7500, 127.0000, 5786,   2251.0,   1.9411,  34.6366,2,  34.6370,2,    129.1,1,   -999.0,9,   148.30,1,    38.76,2,  -999.00,9,     2.64,2, -999.000,9, -999.000,9
     21OR257_1,  PRS2,    23,  3,     33,      7,2,19901015,0053, 21.7483, 127.0000, 5796,     76.1,  25.4670,  34.9489,2,-999.0000,9,    198.5,1,   -999.0,9,     2.00,1,     0.00,2,  -999.00,9,     0.00,2, -999.000,9, -999.000,9
     21OR257_1,  PRS2,    23,  3,     32,      3,2,19901015,0053, 21.7483, 127.0000, 5796,    107.6,  23.7044,  35.0124,2,-999.0000,9,    196.6,1,   -999.0,9,     2.00,1,     0.06,2,  -999.00,9,     0.02,2, -999.000,9, -999.000,9
     21OR257_1,  PRS2,    23,  3,     31,     10,2,19901015,0053, 21.7483, 127.0000, 5796,    151.1,  22.1517,  34.9839,2,-999.0000,9,    193.7,1,    205.2,1,     2.50,1,     0.83,2,  -999.00,9,     0.02,2, -999.000,9, -999.000,9
     21OR257_1,  PRS2,    23,  3,     30,     24,2,19901015,0053, 21.7483, 127.0000, 5796,    199.9,  20.4982,  34.9035,2,-999.0000,9,    200.2,1,   -999.0,9,     2.50,1,     1.21,2,  -999.00,9,     0.03,2, -999.000,9, -999.000,9
     21OR257_1,  PRS2,    23,  3,     29,      5,3,19901015,0053, 21.7483, 127.0000, 5796,    251.9,  18.9395,  34.8584,2,-999.0000,9,    205.1,1,   -999.0,9,     3.50,1,     2.96,2,  -999.00,9,     0.16,2, -999.000,9, -999.000,9
     21OR257_1,  PRS2,    23,  3,     28,      9,4,19901015,0053, 21.7483, 127.0000, 5796,    301.6,  18.0057,  34.8268,2,-999.0000,9,    206.5,1,   -999.0,5,     5.00,3,     5.47,3,  -999.00,9,     0.40,3, -999.000,9, -999.000,9
     21OR257_1,  PRS2,    23,  3,     27,      1,2,19901015,0053, 21.7483, 127.0000, 5796,    353.9,  16.6820,  34.7444,2,-999.0000,9,    204.6,1,   -999.0,9,     5.50,1,     5.50,2,  -999.00,9,     0.40,2, -999.000,9, -999.000,9
     21OR257_1,  PRS2,    23,  3,     26,     21,3,19901015,0053, 21.7483, 127.0000, 5796,    404.2,  15.6169,  34.6630,2,  34.6760,2,    200.6,1,   -999.0,9,     7.60,1,     7.65,2,  -999.00,9,     0.48,2, -999.000,9, -999.000,9
     21OR257_1,  PRS2,    23,  3,     25,      2,2,19901015,0053, 21.7483, 127.0000, 5796,    452.8,  14.3026,  34.5652,2,-999.0000,9,    196.7,1,   -999.0,9,    10.60,1,    10.21,2,  -999.00,9,     0.68,2, -999.000,9, -999.000,9
     21OR257_1,  PRS2,    23,  3,     24,     12,2,19901015,0053, 21.7483, 127.0000, 5796,    551.4,  11.0855,  34.3317,2,-999.0000,9,    181.5,1,    181.1,1,    22.20,1,    17.73,2,  -999.00,9,     1.16,2, -999.000,9, -999.000,9
     21OR257_1,  PRS2,    23,  3,     23,      8,2,19901015,0053, 21.7483, 127.0000, 5796,    731.3,   6.5814,  34.2011,2,-999.0000,9,     99.7,1,   -999.0,9,    65.50,1,    35.01,2,  -999.00,9,     2.36,2, -999.000,9, -999.000,9
     21OR257_1,  PRS2,    24,  1,      2,      7,2,19901015,0425, 21.7500, 127.5033, 5155,    116.5,  23.5733,  35.0187,2,-999.0000,9,    198.1,1,   -999.0,9,     3.00,1,     0.98,2,  -999.00,9,     0.06,2, -999.000,9, -999.000,9
     21OR257_1,  PRS2,    24,  1,      3,      3,2,19901015,0425, 21.7500, 127.5033, 5155,    254.6,  18.8757,  34.8541,2,-999.0000,9,    207.2,1,   -999.0,9,     2.80,1,     2.37,2,  -999.00,9,     0.16,2, -999.000,9, -999.000,9
     21OR257_1,  PRS2,    24,  1,      4,     10,2,19901015,0425, 21.7500, 127.5033, 5155,    449.1,  13.5356,  34.5043,2,-999.0000,9,    197.2,1,   -999.0,9,    12.60,1,    11.95,2,  -999.00,9,     0.82,2, -999.000,9, -999.000,9
     21OR257_1,  PRS2,    24,  1,      5,     24,2,19901015,0425, 21.7500, 127.5033, 5155,    658.2,   7.9191,  34.1857,2,-999.0000,9,    137.6,1,   -999.0,9,    47.90,1,    27.79,2,  -999.00,9,     1.94,2, -999.000,9, -999.000,9
     21OR257_1,  PRS2,    24,  1,      6,      5,3,19901015,0425, 21.7500, 127.5033, 5155,    859.6,   4.8658,  34.2486,2,-999.0000,9,     69.9,1,   -999.0,9,   125.90,3,    42.28,3,  -999.00,9,     3.00,3, -999.000,9, -999.000,9
     21OR257_1,  PRS2,    24,  1,      7,      9,4,19901015,0425, 21.7500, 127.5033, 5155,   1059.4,   3.6675,  34.4097,2,-999.0000,9,     60.5,1,   -999.0,9,   138.00,3,    41.84,3,  -999.00,9,     2.97,3, -999.000,9, -999.000,9
     21OR257_1,  PRS2,    24,  1,      8,      1,2,19901015,0425, 21.7500, 127.5033, 5155,   1259.8,   3.1833,  34.4799,2,-999.0000,9,     68.6,1,   -999.0,9,   137.80,1,    41.70,2,  -999.00,9,     2.96,2, -999.000,9, -999.000,9
     21OR257_1,  PRS2,    24,  1,      9,     21,3,19901015,0425, 21.7500, 127.5033, 5155,   1461.2,   2.8502,  34.5362,2,-999.0000,9,     88.0,1,   -999.0,9,   142.50,3,    39.77,3,  -999.00,9,     2.80,3, -999.000,9, -999.000,9
     21OR257_1,  PRS2,    24,  1,     10,      2,2,19901015,0425, 21.7500, 127.5033, 5155,   1663.2,   2.6311,  34.5755,2,-999.0000,9,    104.2,1,   -999.0,9,   143.60,1,    39.62,2,  -999.00,9,     2.82,2, -999.000,9, -999.000,9
     21OR257_1,  PRS2,    24,  1,     11,     12,2,19901015,0425, 21.7500, 127.5033, 5155,   1859.2,   2.3177,  34.6028,2,-999.0000,9,    113.6,1,   -999.0,9,   146.10,1,    38.98,2,  -999.00,9,     2.73,2, -999.000,9, -999.000,9
     21OR257_1,  PRS2,    24,  1,     12,      8,2,19901015,0425, 21.7500, 127.5033, 5155,   2003.5,   2.1633,  34.6171,2,-999.0000,9,    120.1,1,   -999.0,9,   148.60,1,    38.83,2,  -999.00,9,     2.74,2, -999.000,9, -999.000,9