BOTTLE,20010813WHPSIOKJU
EXPOCODE,SECT_ID,STNNBR,CASTNO,SAMPNO,BTLNBR,BTLNBR_FLAG_W,DATE,TIME,LATITUDE,LONGITUDE,DEPTH,CTDPRS,CTDTMP,CTDSAL,CTDSAL_FLAG_W,SALNTY,SALNTY_FLAG_W,CTDOXY,CTDOXY_FLAG_W,OXYGEN,OXYGEN_FLAG_W,SILCAT,SILCAT_FLAG_W,NITRAT,NITRAT_FLAG_W,NITRIT,NITRIT_FLAG_W,PHSPHT,PHSPHT_FLAG_W,CFC-11,CFC-11_FLAG_W,CFC-12,CFC-12_FLAG_W
,,,,,,,,,,,,DBAR,DEG C,PSS-78,,PSS-78,,UMOL/KG,,UMOL/KG,,UMOL/KG,,UMOL/KG,,UMOL/KG,,UMOL/KG,,PMOL/KG,,PMOL/KG,
     21OR257_1,  PRS2,     8,  1,     11,      7,2,19901012,0612, 21.7683, 121.8317, 3817,    105.5,  23.3174,  34.8303,2,-999.0000,9,   -999.0,5,   -999.0,9,     3.80,1,     0.70,2,  -999.00,9,     0.00,2, -999.000,9, -999.000,9
     21OR257_1,  PRS2,     8,  1,     10,      3,2,19901012,0612, 21.7683, 121.8317, 3817,    201.5,  18.4726,  34.7665,2,-999.0000,9,   -999.0,5,   -999.0,9,     7.80,1,     5.46,2,  -999.00,9,     0.34,2, -999.000,9, -999.000,9
     21OR257_1,  PRS2,     8,  1,      9,     10,2,19901012,0612, 21.7683, 121.8317, 3817,    399.7,  12.3093,  34.4884,2,-999.0000,9,   -999.0,5,   -999.0,9,    30.20,1,    17.06,2,  -999.00,9,     1.07,2, -999.000,9, -999.000,9
     21OR257_1,  PRS2,     8,  1,      8,     24,2,19901012,0612, 21.7683, 121.8317, 3817,    480.2,   8.5443,  34.4044,2,-999.0000,9,   -999.0,5,   -999.0,9,    62.00,1,    26.84,2,  -999.00,9,     1.81,2, -999.000,9, -999.000,9
     21OR257_1,  PRS2,     8,  1,      7,      5,3,19901012,0612, 21.7683, 121.8317, 3817,    649.3,   6.1148,  34.3968,2,-999.0000,9,   -999.0,5,   -999.0,9,   113.30,1,    33.96,3,  -999.00,9,     2.34,3, -999.000,9, -999.000,9
     21OR257_1,  PRS2,     8,  1,      6,      9,4,19901012,0612, 21.7683, 121.8317, 3817,    852.9,   4.7692,  34.4430,2,-999.0000,9,   -999.0,5,   -999.0,9,   145.80,3,    37.99,3,  -999.00,9,     2.68,3, -999.000,9, -999.000,9
     21OR257_1,  PRS2,     8,  1,      5,      1,2,19901012,0612, 21.7683, 121.8317, 3817,   1049.3,   3.9369,  34.5047,2,-999.0000,9,   -999.0,5,   -999.0,9,   145.10,1,    37.89,2,  -999.00,9,     2.69,2, -999.000,9, -999.000,9
     21OR257_1,  PRS2,     8,  1,      4,     21,3,19901012,0612, 21.7683, 121.8317, 3817,   1250.6,   3.4337,  34.5304,2,-999.0000,9,   -999.0,5,   -999.0,9,  -999.00,5,    39.21,2,  -999.00,9,     2.73,2, -999.000,9, -999.000,9
     21OR257_1,  PRS2,     8,  1,      3,      2,2,19901012,0612, 21.7683, 121.8317, 3817,   1445.6,   2.8345,  34.5635,2,-999.0000,9,   -999.0,5,   -999.0,9,  -999.00,5,    39.15,2,  -999.00,9,     2.76,2, -999.000,9, -999.000,9
     21OR257_1,  PRS2,     8,  1,      2,     12,2,19901012,0612, 21.7683, 121.8317, 3817,   1648.6,   2.4740,  34.5854,2,-999.0000,9,   -999.0,5,   -999.0,9,   137.60,1,    38.87,2,  -999.00,9,     2.71,2, -999.000,9, -999.000,9
     21OR257_1,  PRS2,     8,  1,      1,      8,2,19901012,0612, 21.7683, 121.8317, 3817,   1849.1,   2.2192,  34.6064,2,-999.0000,9,   -999.0,5,   -999.0,9,   142.70,1,    38.65,2,  -999.00,9,     2.73,2, -999.000,9, -999.000,9
     21OR257_1,  PRS2,     9,  1,     11,      7,2,19901012,1057, 21.7500, 122.0000, 4632,     26.8,  26.8372,  34.5464,2,  34.5420,2,   -999.0,5,    203.4,1,     3.70,1,     0.25,2,  -999.00,9,     0.00,2, -999.000,9, -999.000,9
     21OR257_1,  PRS2,     9,  1,     10,      3,2,19901012,1057, 21.7500, 122.0000, 4632,     51.8,  26.0055,  34.5727,2,  34.5510,2,   -999.0,5,    209.2,1,     4.00,1,     0.30,2,  -999.00,9,     0.00,2, -999.000,9, -999.000,9
     21OR257_1,  PRS2,     9,  1,      9,     10,2,19901012,1057, 21.7500, 122.0000, 4632,    101.1,  21.7626,  34.7814,2,  34.7550,2,   -999.0,5,    198.1,1,     4.70,1,     2.59,2,  -999.00,9,     0.14,2, -999.000,9, -999.000,9
     21OR257_1,  PRS2,     9,  1,      8,     24,2,19901012,1057, 21.7500, 122.0000, 4632,    150.5,  19.7928,  34.8131,2,  34.8330,2,   -999.0,5,    199.0,1,     5.80,1,     3.51,2,  -999.00,9,     0.28,2, -999.000,9, -999.000,9
     21OR257_1,  PRS2,     9,  1,      7,      5,3,19901012,1057, 21.7500, 122.0000, 4632,    200.7,  17.4580,  34.7191,2,  34.7290,2,   -999.0,5,    193.6,1,     9.50,1,     7.02,2,  -999.00,9,     0.50,2, -999.000,9, -999.000,9
     21OR257_1,  PRS2,     9,  1,      6,      9,4,19901012,1057, 21.7500, 122.0000, 4632,    401.2,  11.8034,  34.4418,2,  34.3680,3,   -999.0,5,    128.0,3,    69.70,3,    28.84,3,  -999.00,9,     2.11,3, -999.000,9, -999.000,9
     21OR257_1,  PRS2,     9,  1,      5,      1,2,19901012,1057, 21.7500, 122.0000, 4632,    598.3,   7.6642,  34.3684,2,  34.3640,2,   -999.0,5,    124.5,1,    69.70,1,    28.80,2,  -999.00,9,     2.12,2, -999.000,9, -999.000,9
     21OR257_1,  PRS2,     9,  1,      4,     21,3,19901012,1057, 21.7500, 122.0000, 4632,    791.7,   5.3361,  34.3913,2,  34.4690,3,   -999.0,5,     78.5,3,   124.50,3,    39.98,3,  -999.00,9,     2.92,3, -999.000,9, -999.000,9
     21OR257_1,  PRS2,     9,  1,      3,      2,2,19901012,1057, 21.7500, 122.0000, 4632,    995.8,   3.6160,  34.4670,2,  34.5910,3,   -999.0,5,    108.4,1,   139.40,1,    38.49,2,  -999.00,9,     2.84,2, -999.000,9, -999.000,9
     21OR257_1,  PRS2,     9,  1,      2,     12,2,19901012,1057, 21.7500, 122.0000, 4632,   1500.4,   2.4988,  34.5817,2,  34.5890,2,   -999.0,5,    108.9,1,   135.10,1,    37.39,2,  -999.00,9,     2.77,2, -999.000,9, -999.000,9
     21OR257_1,  PRS2,     9,  1,      1,      8,2,19901012,1057, 21.7500, 122.0000, 4632,   1994.5,   2.0191,  34.6252,2,  34.6270,2,   -999.0,5,    125.4,1,   144.50,1,    37.86,2,  -999.00,9,     2.76,2, -999.000,9, -999.000,9
     21OR257_1,  PRS2,    10,  1,     11,      7,2,19901012,1510, 21.7533, 122.2517, 4837,    102.0,  22.8448,  34.8889,2,-999.0000,9,    197.2,1,   -999.0,9,     4.70,1,     0.26,2,  -999.00,9,     0.00,2, -999.000,9, -999.000,9
     21OR257_1,  PRS2,    10,  1,     10,      3,2,19901012,1510, 21.7533, 122.2517, 4837,    200.0,  17.7774,  34.8064,2,-999.0000,9,    198.0,1,   -999.0,9,     6.60,1,     4.28,2,  -999.00,9,     0.30,2, -999.000,9, -999.000,9
     21OR257_1,  PRS2,    10,  1,      9,     10,2,19901012,1510, 21.7533, 122.2517, 4837,    403.0,  11.0740,  34.3251,2,-999.0000,9,    181.0,1,   -999.0,9,    25.60,1,    17.27,2,  -999.00,9,     1.04,2, -999.000,9, -999.000,9
     21OR257_1,  PRS2,    10,  1,      8,     24,2,19901012,1510, 21.7533, 122.2517, 4837,    553.0,   7.7957,  34.2114,2,-999.0000,9,    125.7,1,   -999.0,9,    55.10,1,    28.53,2,  -999.00,9,     2.00,2, -999.000,9, -999.000,9
     21OR257_1,  PRS2,    10,  1,      7,      5,3,19901012,1510, 21.7533, 122.2517, 4837,    681.0,   6.2911,  34.2217,2,-999.0000,9,     91.4,1,   -999.0,9,   121.20,3,    40.59,3,  -999.00,9,     2.93,3, -999.000,9, -999.000,9
     21OR257_1,  PRS2,    10,  1,      6,      9,4,19901012,1510, 21.7533, 122.2517, 4837,    997.0,   3.8827,  34.4151,2,-999.0000,9,     63.8,1,   -999.0,9,   135.10,3,    39.84,3,  -999.00,9,     2.87,3, -999.000,9, -999.000,9
     21OR257_1,  PRS2,    10,  1,      5,      1,2,19901012,1510, 21.7533, 122.2517, 4837,   1199.0,   3.1712,  34.4941,2,-999.0000,9,     76.3,1,   -999.0,9,   135.40,1,    40.06,2,  -999.00,9,     2.91,2, -999.000,9, -999.000,9
     21OR257_1,  PRS2,    10,  1,      4,     21,3,19901012,1510, 21.7533, 122.2517, 4837,   1402.0,   2.7729,  34.5585,2,-999.0000,9,     97.9,1,   -999.0,9,   146.00,1,    38.58,2,  -999.00,9,     2.62,3, -999.000,9, -999.000,9
     21OR257_1,  PRS2,    10,  1,      3,      2,2,19901012,1510, 21.7533, 122.2517, 4837,   1601.0,   2.3481,  34.5888,2,-999.0000,9,    106.4,1,   -999.0,9,   146.00,1,    38.63,2,  -999.00,9,     2.81,2, -999.000,9, -999.000,9
     21OR257_1,  PRS2,    10,  1,      2,     12,2,19901012,1510, 21.7533, 122.2517, 4837,   1799.0,   2.2259,  34.6097,2,-999.0000,9,    115.4,1,   -999.0,9,   146.70,1,    38.10,2,  -999.00,9,     2.71,2, -999.000,9, -999.000,9
     21OR257_1,  PRS2,    10,  1,      1,      8,2,19901012,1510, 21.7533, 122.2517, 4837,   1998.0,   2.0500,  34.6245,2,-999.0000,9,    121.2,1,   -999.0,9,   148.90,1,    37.71,2,  -999.00,9,     2.69,2, -999.000,9, -999.000,9
     21OR257_1,  PRS2,    11,  1,     11,      7,2,19901012,1813, 21.7433, 122.5083, 4868,    103.6,  23.4342,  34.8468,2,-999.0000,9,    200.3,1,   -999.0,9,     4.40,1,     0.26,2,  -999.00,9,     0.00,2, -999.000,9, -999.000,9
     21OR257_1,  PRS2,    11,  1,     10,      3,2,19901012,1813, 21.7433, 122.5083, 4868,    203.4,  17.7688,  34.8120,2,-999.0000,9,    197.7,1,   -999.0,9,     6.20,1,     4.50,2,  -999.00,9,     0.14,2, -999.000,9, -999.000,9
     21OR257_1,  PRS2,    11,  1,      9,     10,2,19901012,1813, 21.7433, 122.5083, 4868,    402.3,  12.3039,  34.4097,2,-999.0000,9,    188.0,1,   -999.0,9,    19.00,1,    14.62,2,  -999.00,9,     0.87,2, -999.000,9, -999.000,9
     21OR257_1,  PRS2,    11,  1,      8,     24,2,19901012,1813, 21.7433, 122.5083, 4868,    598.8,   6.7426,  34.1805,2,-999.0000,9,    113.8,1,   -999.0,9,    66.10,1,    31.58,2,  -999.00,9,     2.18,2, -999.000,9, -999.000,9
     21OR257_1,  PRS2,    11,  1,      7,      5,3,19901012,1813, 21.7433, 122.5083, 4868,    803.1,   4.9710,  34.3620,2,-999.0000,9,     67.0,1,   -999.0,9,    98.60,1,    38.97,2,  -999.00,9,     2.77,2, -999.000,9, -999.000,9
     21OR257_1,  PRS2,    11,  1,      6,      9,4,19901012,1813, 21.7433, 122.5083, 4868,   1002.1,   3.7968,  34.4356,2,-999.0000,9,     67.7,1,   -999.0,9,   134.00,1,    39.10,2,  -999.00,9,     2.79,2, -999.000,9, -999.000,9
     21OR257_1,  PRS2,    11,  1,      5,      1,2,19901012,1813, 21.7433, 122.5083, 4868,   1202.5,   3.1625,  34.5320,2,-999.0000,9,     93.1,1,   -999.0,9,   139.10,1,    38.87,2,  -999.00,9,     2.77,2, -999.000,9, -999.000,9
     21OR257_1,  PRS2,    11,  1,      4,     21,3,19901012,1813, 21.7433, 122.5083, 4868,   1401.1,   2.7666,  34.5681,2,-999.0000,9,    105.4,1,   -999.0,9,   143.10,1,    38.52,2,  -999.00,9,     2.63,3, -999.000,9, -999.000,9
     21OR257_1,  PRS2,    11,  1,      3,      2,2,19901012,1813, 21.7433, 122.5083, 4868,   1604.5,   2.4582,  34.5846,2,-999.0000,9,    109.1,1,   -999.0,9,   143.10,1,    38.76,2,  -999.00,9,     2.79,2, -999.000,9, -999.000,9
     21OR257_1,  PRS2,    11,  1,      2,     12,2,19901012,1813, 21.7433, 122.5083, 4868,   1801.9,   2.2560,  34.6057,2,-999.0000,9,    117.3,1,   -999.0,9,   143.40,1,    38.25,2,  -999.00,9,     2.68,2, -999.000,9, -999.000,9
     21OR257_1,  PRS2,    11,  1,      1,      8,2,19901012,1813, 21.7433, 122.5083, 4868,   2003.1,   2.0366,  34.6251,2,-999.0000,9,    127.4,1,   -999.0,9,   144.90,1,    37.08,3,  -999.00,9,     2.70,2, -999.000,9, -999.000,9
     21OR257_1,  PRS2,    12,  1,     11,      7,2,19901012,2045, 21.7517, 122.6650, 4234,     50.2,  27.1543,  34.6592,2,-999.0000,9,    191.5,1,   -999.0,9,     4.00,1,     0.44,2,  -999.00,9,     0.00,2, -999.000,9, -999.000,9
     21OR257_1,  PRS2,    12,  1,     10,      3,2,19901012,2045, 21.7517, 122.6650, 4234,    120.4,  21.2708,  34.9344,2,-999.0000,9,    190.7,1,   -999.0,9,     4.40,1,     1.17,2,  -999.00,9,     0.03,2, -999.000,9, -999.000,9
     21OR257_1,  PRS2,    12,  1,      9,     10,2,19901012,2045, 21.7517, 122.6650, 4234,    321.1,  15.2940,  34.6408,2,-999.0000,9,    196.5,1,   -999.0,9,    11.00,1,     8.77,2,  -999.00,9,     0.55,2, -999.000,9, -999.000,9
     21OR257_1,  PRS2,    12,  1,      8,     24,2,19901012,2045, 21.7517, 122.6650, 4234,    542.9,   7.9416,  34.1684,2,-999.0000,9,    142.2,1,   -999.0,9,    49.60,1,    27.02,2,  -999.00,9,     1.88,2, -999.000,9, -999.000,9
     21OR257_1,  PRS2,    12,  1,      7,      5,3,19901012,2045, 21.7517, 122.6650, 4234,    617.3,   6.5238,  34.1468,2,-999.0000,9,    115.3,1,   -999.0,9,    66.80,1,    31.98,2,  -999.00,9,     2.30,2, -999.000,9, -999.000,9
     21OR257_1,  PRS2,    12,  1,      6,      9,4,19901012,2045, 21.7517, 122.6650, 4234,    818.2,   5.2194,  34.3398,2,-999.0000,9,     66.4,1,   -999.0,9,   121.90,3,    40.44,3,  -999.00,9,     2.91,3, -999.000,9, -999.000,9
     21OR257_1,  PRS2,    12,  1,      5,      1,2,19901012,2045, 21.7517, 122.6650, 4234,   1021.4,   3.8262,  34.5845,4,-999.0000,9,     68.6,1,   -999.0,9,   122.60,1,    40.56,2,  -999.00,9,     2.90,2, -999.000,9, -999.000,9
     21OR257_1,  PRS2,    12,  1,      4,     21,3,19901012,2045, 21.7517, 122.6650, 4234,   1203.2,   3.3121,  34.6749,4,-999.0000,9,     88.5,1,   -999.0,9,   130.70,1,    39.79,2,  -999.00,9,     2.82,2, -999.000,9, -999.000,9
     21OR257_1,  PRS2,    12,  1,      3,      2,2,19901012,2045, 21.7517, 122.6650, 4234,   1413.8,   2.8538,  34.7198,4,-999.0000,9,    102.5,1,   -999.0,9,   137.20,1,    39.17,2,  -999.00,9,     2.82,2, -999.000,9, -999.000,9
     21OR257_1,  PRS2,    12,  1,      2,     12,2,19901012,2045, 21.7517, 122.6650, 4234,   1622.7,   2.5116,  34.7374,4,-999.0000,9,    105.9,1,   -999.0,9,   139.80,1,    39.16,2,  -999.00,9,     2.76,2, -999.000,9, -999.000,9
     21OR257_1,  PRS2,    12,  1,      1,      8,2,19901012,2045, 21.7517, 122.6650, 4234,   1823.1,   2.3088,  34.7400,4,-999.0000,9,    115.3,1,   -999.0,9,   143.10,1,    38.83,2,  -999.00,9,     2.76,2, -999.000,9, -999.000,9
     21OR257_1,  PRS2,    13,  1,     11,      7,2,19901012,2314, 21.7517, 122.8417, 4888,     50.8,  26.9716,  34.6686,2,-999.0000,9,    190.5,1,   -999.0,9,     3.70,1,     0.38,2,  -999.00,9,     0.00,2, -999.000,9, -999.000,9
     21OR257_1,  PRS2,    13,  1,     10,      3,2,19901012,2314, 21.7517, 122.8417, 4888,    122.1,  21.8554,  34.9408,2,-999.0000,9,    193.4,1,   -999.0,9,     4.00,1,     0.76,2,  -999.00,9,     0.02,2, -999.000,9, -999.000,9
     21OR257_1,  PRS2,    13,  1,      9,     10,2,19901012,2314, 21.7517, 122.8417, 4888,    321.6,  15.2617,  34.6405,2,-999.0000,9,    197.7,1,   -999.0,9,    10.20,1,     8.61,2,  -999.00,9,     0.49,2, -999.000,9, -999.000,9
     21OR257_1,  PRS2,    13,  1,      8,     24,2,19901012,2314, 21.7517, 122.8417, 4888,    519.9,   9.5381,  34.2393,2,-999.0000,9,    165.9,1,   -999.0,9,    35.40,1,    22.12,2,  -999.00,9,     1.44,2, -999.000,9, -999.000,9
     21OR257_1,  PRS2,    13,  1,      7,      5,3,19901012,2314, 21.7517, 122.8417, 4888,    621.8,   7.2920,  34.1607,2,-999.0000,9,    129.1,1,   -999.0,9,    58.40,1,    29.90,2,  -999.00,9,     2.09,2, -999.000,9, -999.000,9
     21OR257_1,  PRS2,    13,  1,      6,      9,4,19901012,2314, 21.7517, 122.8417, 4888,    720.4,   5.9804,  34.1883,2,-999.0000,9,     92.9,1,   -999.0,9,    79.60,1,    35.33,2,  -999.00,9,     2.41,2, -999.000,9, -999.000,9
     21OR257_1,  PRS2,    13,  1,      5,      1,2,19901012,2314, 21.7517, 122.8417, 4888,   1020.5,   3.8217,  34.5999,4,-999.0000,9,     78.4,1,   -999.0,9,   121.50,1,    40.40,2,  -999.00,9,     2.83,2, -999.000,9, -999.000,9
     21OR257_1,  PRS2,    13,  1,      4,     21,3,19901012,2314, 21.7517, 122.8417, 4888,   1220.4,   3.2379,  34.6521,4,-999.0000,9,     91.4,1,   -999.0,9,   130.70,3,    39.42,3,  -999.00,9,     2.73,3, -999.000,9, -999.000,9
     21OR257_1,  PRS2,    13,  1,      3,      2,2,19901012,2314, 21.7517, 122.8417, 4888,   1419.4,   2.8090,  34.6957,4,-999.0000,9,    105.7,1,   -999.0,9,   137.20,1,    39.38,2,  -999.00,9,     2.80,2, -999.000,9, -999.000,9
     21OR257_1,  PRS2,    13,  1,      2,     12,2,19901012,2314, 21.7517, 122.8417, 4888,   1622.3,   2.4357,  34.7245,4,-999.0000,9,    113.6,1,   -999.0,9,   139.80,1,    39.10,2,  -999.00,9,     2.76,2, -999.000,9, -999.000,9
     21OR257_1,  PRS2,    13,  1,      1,      8,2,19901012,2314, 21.7517, 122.8417, 4888,   1821.5,   2.2154,  34.7534,4,-999.0000,9,    119.3,1,   -999.0,9,   143.10,1,    39.14,2,  -999.00,9,     2.74,2, -999.000,9, -999.000,9
     21OR257_1,  PRS2,    14,  1,     11,      7,2,19901013,0143, 21.7517, 123.0000, 4509,     50.0,  25.7882,  34.7332,2,  34.7120,2,    195.7,1,    188.7,1,     4.40,1,     0.19,2,  -999.00,9,     0.00,2, -999.000,9, -999.000,9
     21OR257_1,  PRS2,    14,  1,     10,      3,2,19901013,0143, 21.7517, 123.0000, 4509,    100.0,  21.3924,  34.9244,2,  34.9130,2,    197.8,1,    207.9,1,     4.40,1,     0.67,2,  -999.00,9,     0.02,2, -999.000,9, -999.000,9
     21OR257_1,  PRS2,    14,  1,      9,     10,2,19901013,0143, 21.7517, 123.0000, 4509,    251.0,  17.4803,  34.7809,2,  34.8110,2,    202.2,1,    209.7,1,     6.90,1,     4.59,2,  -999.00,9,     0.30,2, -999.000,9, -999.000,9
     21OR257_1,  PRS2,    14,  1,      8,     24,2,19901013,0143, 21.7517, 123.0000, 4509,    450.0,  11.8607,  34.3749,2,  34.3890,2,    182.8,1,    184.3,1,    21.90,1,    15.63,2,  -999.00,9,     0.98,2, -999.000,9, -999.000,9
     21OR257_1,  PRS2,    14,  1,      7,      5,3,19901013,0143, 21.7517, 123.0000, 4509,    670.0,   6.1833,  34.1751,2,  34.1570,2,    101.2,1,    101.3,1,    75.60,1,    34.54,2,  -999.00,9,     2.44,2, -999.000,9, -999.000,9
     21OR257_1,  PRS2,    14,  1,      6,      9,4,19901013,0143, 21.7517, 123.0000, 4509,    852.0,   4.8391,  34.3411,2,  34.4580,3,     65.9,1,     76.7,3,   125.60,3,    40.80,3,  -999.00,9,     2.88,3, -999.000,9, -999.000,9
     21OR257_1,  PRS2,    14,  1,      5,      1,2,19901013,0143, 21.7517, 123.0000, 4509,   1053.0,   3.7614,  34.5956,4,-999.0000,5,     76.0,1,     73.6,1,   125.60,1,    40.72,2,  -999.00,9,     2.89,2, -999.000,9, -999.000,9
     21OR257_1,  PRS2,    14,  1,      4,     21,3,19901013,0143, 21.7517, 123.0000, 4509,   1256.0,   3.0975,  34.6741,4,  34.5980,2,     96.7,1,     96.8,1,   135.80,1,    39.81,2,  -999.00,9,     2.79,2, -999.000,9, -999.000,9
     21OR257_1,  PRS2,    14,  1,      3,      2,2,19901013,0143, 21.7517, 123.0000, 4509,   1500.0,   2.6500,  34.7218,4,  34.6090,2,    109.5,1,    112.9,1,   144.90,1,    38.94,2,  -999.00,9,     2.79,2, -999.000,9, -999.000,9
     21OR257_1,  PRS2,    14,  1,      2,     12,2,19901013,0143, 21.7517, 123.0000, 4509,   1755.0,   2.3658,  34.7374,4,  34.6080,2,    115.3,1,    114.2,1,   146.00,1,    38.77,2,  -999.00,9,     2.76,2, -999.000,9, -999.000,9
     21OR257_1,  PRS2,    14,  1,      1,      8,2,19901013,0143, 21.7517, 123.0000, 4509,   2001.0,   2.1596,  34.7592,4,  34.6220,2,    121.1,1,    118.7,1,   146.00,1,    38.39,2,  -999.00,9,     2.70,2, -999.000,9, -999.000,9