BOTTLE,20120807PRINUNIVRMK
EXPOCODE,SECT_ID,STNNBR,CASTNO,SAMPNO,BTLNBR,BTLNBR_FLAG_W,DATE,TIME,LATITUDE,LONGITUDE,DEPTH,CTDPRS,CTDTMP,CTDSAL,CTDSAL_FLAG_W,SALNTY,SALNTY_FLAG_W,CTDOXY,CTDOXY_FLAG_W,OXYGEN,OXYGEN_FLAG_W,THETA
,,,,,,,,,,,METERS,DBAR,ITS-90,PSS-78,,PSS-78,,UMOL/KG,,UMOL/KG,,DEG C
  35A320030412,  AR04,    20,  1,      7,      7,2,20030417,0749, 12.2843, -60.0358, 1896,     24.9,  27.2801,  35.1724,2,  35.0938,3,    205.9,0,    210.0,6,  27.2743
  35A320030412,  AR04,    20,  1,      6,      6,2,20030417,0749, 12.2843, -60.0358, 1896,    279.5,  12.2142,  35.2474,2,-999.0000,9,    153.4,0,   -999.0,9,  12.1771
  35A320030412,  AR04,    20,  1,      5,      5,2,20030417,0749, 12.2843, -60.0358, 1896,    585.7,   8.5264,  34.8658,2,-999.0000,9,    120.0,0,   -999.0,9,   8.4635
  35A320030412,  AR04,    20,  1,      4,      4,2,20030417,0749, 12.2843, -60.0358, 1896,    862.9,   5.5991,  34.6586,2,  34.6509,2,    135.1,0,    134.8,2,   5.5239
  35A320030412,  AR04,    20,  1,      3,      3,2,20030417,0749, 12.2843, -60.0358, 1896,   1305.8,   4.9018,  35.0198,2,  35.0231,2,    227.6,0,    227.7,2,   4.7900
  35A320030412,  AR04,    20,  1,      2,      2,2,20030417,0749, 12.2843, -60.0358, 1896,   1648.4,   4.0063,  34.9896,2,-999.0000,9,    258.0,0,    257.2,2,   3.8723
  35A320030412,  AR04,    20,  1,      1,      1,2,20030417,0749, 12.2843, -60.0358, 1896,   1895.6,   3.8119,  34.9869,2,  34.9872,2,    256.4,0,    255.9,6,   3.6571
  35A320030412,  AR04,    21,  1,      8,      8,2,20030417,1031, 12.4673, -59.9625, 2103,     29.2,  27.2303,  35.3413,2,  34.9429,3,    205.7,0,    205.2,2,  27.2236
  35A320030412,  AR04,    21,  1,      6,      7,2,20030417,1031, 12.4673, -59.9625, 2103,    505.9,   9.4488,  34.9609,2,-999.0000,9,    124.6,0,   -999.0,9,   9.3912
  35A320030412,  AR04,    21,  1,      7,      6,2,20030417,1031, 12.4673, -59.9625, 2103,    511.4,   9.4455,  34.9612,2,  34.9604,2,    124.4,0,    122.2,2,   9.3873
  35A320030412,  AR04,    21,  1,      5,      5,2,20030417,1031, 12.4673, -59.9625, 2103,    511.8,   9.4427,  34.9623,2,-999.0000,9,    124.3,0,   -999.0,9,   9.3844
  35A320030412,  AR04,    21,  1,      4,      4,2,20030417,1031, 12.4673, -59.9625, 2103,    766.5,   6.5605,  34.7030,2,-999.0000,9,    127.4,0,    129.1,2,   6.4886
  35A320030412,  AR04,    21,  1,      3,      3,2,20030417,1031, 12.4673, -59.9625, 2103,   1137.5,   5.2672,  34.9956,2,  34.9974,2,    204.1,0,    205.6,2,   5.1681
  35A320030412,  AR04,    21,  1,      2,      2,2,20030417,1031, 12.4673, -59.9625, 2103,   1599.4,   3.9729,  34.9874,2,-999.0000,9,    259.6,0,    259.0,6,   3.8438
  35A320030412,  AR04,    21,  1,      1,      1,2,20030417,1031, 12.4673, -59.9625, 2103,   2101.2,   3.8218,  34.9860,2,  34.9894,2,    255.6,0,    254.6,2,   3.6469
  35A320030412,  AR04,    22,  1,      5,      5,2,20030417,1305, 12.6528, -59.8903, 1736,     14.5,  27.1366,  35.1610,2,  35.1646,2,    204.7,0,    218.8,3,  27.1333
  35A320030412,  AR04,    22,  1,      4,      4,2,20030417,1305, 12.6528, -59.8903, 1736,    110.8,  24.8136,  37.2371,2,  37.2253,3,    191.6,0,    206.9,3,  24.7895
  35A320030412,  AR04,    22,  1,      3,      3,2,20030417,1305, 12.6528, -59.8903, 1736,    500.3,   9.2344,  34.9552,2,  34.9419,3,    121.9,0,    122.6,2,   9.1783
  35A320030412,  AR04,    22,  1,      2,      2,2,20030417,1305, 12.6528, -59.8903, 1736,    999.1,   5.4690,  34.8523,2,  34.8552,2,    161.0,0,    163.4,2,   5.3816
  35A320030412,  AR04,    22,  1,      1,      1,2,20030417,1305, 12.6528, -59.8903, 1736,   1501.7,   4.2447,  35.0011,2,  35.0010,2,    252.2,0,    252.0,2,   4.1215
  35A320030412,  AR04,    23,  1,      8,      8,2,20030417,1522, 12.8343, -59.8247, 1309,     12.1,  27.1729,  35.0642,2,-999.0000,9,    204.5,0,   -999.0,9,  27.1701
  35A320030412,  AR04,    23,  1,      5,      7,2,20030417,1522, 12.8343, -59.8247, 1309,     12.4,  27.1715,  35.0638,2,  35.1512,3,    204.4,0,    208.7,2,  27.1686
  35A320030412,  AR04,    23,  1,      6,      6,2,20030417,1522, 12.8343, -59.8247, 1309,     12.6,  27.1702,  35.0636,2,-999.0000,9,    204.4,0,   -999.0,9,  27.1673
  35A320030412,  AR04,    23,  1,      7,      5,2,20030417,1522, 12.8343, -59.8247, 1309,     12.6,  27.1708,  35.0635,2,-999.0000,9,    204.4,0,   -999.0,9,  27.1679
  35A320030412,  AR04,    23,  1,      4,      4,2,20030417,1522, 12.8343, -59.8247, 1309,    200.5,  17.4818,  36.2079,2,  36.0766,3,    156.7,0,    157.1,2,  17.4478
  35A320030412,  AR04,    23,  1,      3,      3,2,20030417,1522, 12.8343, -59.8247, 1309,    402.0,  10.0366,  35.0441,2,  35.0268,3,    130.0,0,    134.4,6,   9.9893
  35A320030412,  AR04,    23,  1,      2,      2,2,20030417,1522, 12.8343, -59.8247, 1309,    721.9,   6.4677,  34.7032,2,  34.6892,3,    128.0,0,    130.4,2,   6.4007
  35A320030412,  AR04,    23,  1,      1,      1,2,20030417,1522, 12.8343, -59.8247, 1309,    998.1,   5.4724,  34.8631,2,  34.8737,3,    163.4,0,    169.9,2,   5.3851
  35A320030412,  AR04,    24,  1,      4,      4,2,20030417,1752, 13.0177, -59.8015, 1094,      8.8,  27.3552,  35.0388,2,  35.1240,3,    204.1,0,    209.2,2,  27.3532
  35A320030412,  AR04,    24,  1,      3,      3,2,20030417,1752, 13.0177, -59.8015, 1094,    256.3,  15.1984,  35.8116,2,-999.0000,9,    153.6,0,    154.9,2,  15.1589
  35A320030412,  AR04,    24,  1,      2,      2,2,20030417,1752, 13.0177, -59.8015, 1094,    695.6,   6.8309,  34.6916,2,  34.7004,3,    125.6,0,    125.6,2,   6.7646
  35A320030412,  AR04,    24,  1,      1,      1,2,20030417,1752, 13.0177, -59.8015, 1094,   1092.5,   5.4437,  34.9110,2,  34.9111,2,    176.6,0,    177.3,2,   5.3476
  35A320030412,  AR04,    25,  1,      4,      4,2,20030417,1918, 13.0852, -59.8283, 1361,     13.0,  27.3413,  34.9833,2,-999.0000,9,    205.7,0,    204.8,2,  27.3383
  35A320030412,  AR04,    25,  1,      3,      3,2,20030417,1918, 13.0852, -59.8283, 1361,    515.5,   8.8897,  34.9112,2,  34.9036,2,    122.7,0,    121.3,6,   8.8331
  35A320030412,  AR04,    25,  1,      2,      2,2,20030417,1918, 13.0852, -59.8283, 1361,    896.5,   5.8007,  34.6962,2,  34.6926,2,    132.9,0,    133.0,2,   5.7210
  35A320030412,  AR04,    25,  1,      1,      1,2,20030417,1918, 13.0852, -59.8283, 1361,   1350.1,   4.7802,  35.0174,2,  35.0203,2,    232.8,0,    231.2,2,   4.6654
  35A320030412,  AR04,    26,  1,      6,      6,2,20030417,2107, 13.1473, -59.9080, 1680,     24.8,  27.2828,  35.0399,2,  35.0678,3,    206.6,0,    214.4,6,  27.2771
  35A320030412,  AR04,    26,  1,      5,      5,2,20030417,2107, 13.1473, -59.9080, 1680,    489.3,   9.4110,  34.9828,2,-999.0000,9,    122.1,0,    121.8,2,   9.3555
  35A320030412,  AR04,    26,  1,      4,      4,2,20030417,2107, 13.1473, -59.9080, 1680,    709.9,   6.7595,  34.6911,2,  34.6882,2,    125.5,0,    125.6,2,   6.6922
  35A320030412,  AR04,    26,  1,      3,      3,2,20030417,2107, 13.1473, -59.9080, 1680,   1001.2,   5.4914,  34.8608,2,-999.0000,9,    163.0,0,    165.6,6,   5.4037
  35A320030412,  AR04,    26,  1,      2,      2,2,20030417,2107, 13.1473, -59.9080, 1680,   1296.2,   4.8429,  35.0227,2,  35.0211,2,    229.9,0,    231.6,2,   4.7326
  35A320030412,  AR04,    26,  1,      1,      1,2,20030417,2107, 13.1473, -59.9080, 1680,   1678.8,   3.9809,  34.9894,2,  34.9909,2,    258.8,0,    256.8,2,   3.8443
  35A320030412,  AR04,    27,  1,      5,      5,2,20030417,2333, 13.2820, -60.0680, 2171,      9.6,  27.2508,  34.8655,2,  34.9210,3,    205.6,0,    206.1,2,  27.2486
  35A320030412,  AR04,    27,  1,      4,      4,2,20030417,2333, 13.2820, -60.0680, 2171,    474.2,  10.1919,  35.0716,2,  35.0706,2,    125.8,0,    123.9,2,  10.1354
  35A320030412,  AR04,    27,  1,      3,      3,2,20030417,2333, 13.2820, -60.0680, 2171,    989.9,   5.5379,  34.8595,2,  34.8654,2,    161.3,0,    165.2,2,   5.4509
  35A320030412,  AR04,    27,  1,      2,      2,2,20030417,2333, 13.2820, -60.0680, 2171,   1498.3,   4.1878,  34.9979,2,  34.9998,2,    254.1,0,    254.2,2,   4.0655
  35A320030412,  AR04,    27,  1,      1,      1,2,20030417,2333, 13.2820, -60.0680, 2171,   1996.1,   3.8242,  34.9866,2,  34.9880,2,    257.8,0,    257.2,2,   3.6596
  35A320030412,  AR04,    28,  1,      5,      5,2,20030418,0202, 13.4188, -60.2260, 2147,     10.9,  27.3303,  34.9075,2,  35.5510,3,    177.7,0,    169.0,2,  27.3278
  35A320030412,  AR04,    28,  1,      4,      4,2,20030418,0202, 13.4188, -60.2260, 2147,     88.8,  26.6510,  36.1230,2,  36.1150,2,    205.2,0,    205.5,2,  26.6307
  35A320030412,  AR04,    28,  1,      3,      3,2,20030418,0202, 13.4188, -60.2260, 2147,    496.1,   9.0893,  34.9425,2,  34.9338,2,    123.9,0,    124.4,2,   9.0342
  35A320030412,  AR04,    28,  1,      2,      2,2,20030418,0202, 13.4188, -60.2260, 2147,   1502.5,   4.1665,  34.9975,2,  34.9967,2,    255.1,0,    255.5,2,   4.0441
  35A320030412,  AR04,    28,  1,      1,      1,2,20030418,0202, 13.4188, -60.2260, 2147,   1899.6,   3.8342,  34.9863,2,  34.9874,2,    259.1,0,    262.4,2,   3.6787
  35A320030412,  AR04,    29,  1,      7,      7,2,20030418,0835, 13.5453, -60.3812, 1946,     13.5,  27.2273,  34.9404,2,  35.0818,3,    205.0,0,    206.1,6,  27.2242
  35A320030412,  AR04,    29,  1,      6,      6,2,20030418,0835, 13.5453, -60.3812, 1946,    297.7,  13.9643,  35.7276,2,-999.0000,9,    131.4,0,    131.8,2,  13.9209
  35A320030412,  AR04,    29,  1,      5,      5,2,20030418,0835, 13.5453, -60.3812, 1946,    608.4,   7.8638,  34.8223,2,-999.0000,9,    122.1,0,    120.0,2,   7.8014
  35A320030412,  AR04,    29,  1,      4,      4,2,20030418,0835, 13.5453, -60.3812, 1946,   1004.2,   5.5083,  34.8018,2,  34.8103,3,    153.6,0,    155.2,2,   5.4203
  35A320030412,  AR04,    29,  1,      3,      3,2,20030418,0835, 13.5453, -60.3812, 1946,   1310.6,   4.9122,  35.0213,2,  35.0233,2,    226.8,0,    227.3,6,   4.7999
  35A320030412,  AR04,    29,  1,      2,      2,2,20030418,0835, 13.5453, -60.3812, 1946,   1582.2,   4.0734,  34.9926,2,-999.0000,9,    259.3,0,    258.5,2,   3.9447
  35A320030412,  AR04,    29,  1,      1,      1,2,20030418,0835, 13.5453, -60.3812, 1946,   1944.7,   3.8163,  34.9862,2,  34.9866,2,    257.9,0,    255.9,2,   3.6568
  35A320030412,  AR04,    30,  1,      6,      6,2,20030418,1101, 13.6802, -60.5420, 1497,     26.9,  27.2567,  35.3589,2,  35.0609,3,    205.4,0,    204.8,2,  27.2505
  35A320030412,  AR04,    30,  1,      5,      5,2,20030418,1101, 13.6802, -60.5420, 1497,    376.9,  10.9192,  35.1973,2,-999.0000,9,    124.5,0,    124.4,2,  10.8725
  35A320030412,  AR04,    30,  1,      4,      4,2,20030418,1101, 13.6802, -60.5420, 1497,    669.6,   7.0531,  34.7200,2,-999.0000,9,    125.2,0,    127.8,2,   6.9883
  35A320030412,  AR04,    30,  1,      3,      3,2,20030418,1101, 13.6802, -60.5420, 1497,    889.4,   5.5289,  34.7395,2,  34.7428,2,    143.4,0,    145.6,2,   5.4516
  35A320030412,  AR04,    30,  1,      2,      2,2,20030418,1101, 13.6802, -60.5420, 1497,   1241.3,   4.9974,  34.9997,2,  34.7410,3,    212.2,0,    144.7,4,   4.8909
  35A320030412,  AR04,    30,  1,      1,      1,2,20030418,1101, 13.6802, -60.5420, 1497,   1495.4,   4.3553,  35.0076,2,  35.0091,2,    250.8,0,    248.1,2,   4.2314
  35A320030412,  AR04,    31,  1,      4,      4,2,20030418,1346, 13.8000, -60.6913,  988,     12.0,  27.2698,  35.1185,2,  35.3527,3,    205.4,0,    205.7,6,  27.2670
  35A320030412,  AR04,    31,  1,      3,      3,2,20030418,1346, 13.8000, -60.6913,  988,     97.3,  26.3498,  36.2768,2,  36.5391,3,    208.6,0,    205.4,2,  26.3278
  35A320030412,  AR04,    31,  1,      2,      2,2,20030418,1346, 13.8000, -60.6913,  988,    507.6,   8.4146,  34.8493,2,  34.8329,3,    122.0,0,    121.7,2,   8.3607
  35A320030412,  AR04,    31,  1,      1,      1,2,20030418,1346, 13.8000, -60.6913,  988,    798.5,   6.0088,  34.7069,2,  34.7245,3,    133.9,0,    138.7,2,   5.9370
  35A320030412,  AR04,    32,  1,     22,     22,2,20030418,1518, 13.8155, -60.8165,  489,     13.6,  27.2600,  35.4092,2,  35.7429,3,    205.3,0,    206.5,2,  27.2569
  35A320030412,  AR04,    32,  1,     21,     21,2,20030418,1518, 13.8155, -60.8165,  489,     13.7,  27.2601,  35.4125,2,-999.0000,9,    205.3,0,   -999.0,9,  27.2569
  35A320030412,  AR04,    32,  1,     19,     20,2,20030418,1518, 13.8155, -60.8165,  489,     86.5,  26.5837,  36.1218,2,-999.0000,9,    209.1,0,   -999.0,9,  26.5640
  35A320030412,  AR04,    32,  1,     20,     19,2,20030418,1518, 13.8155, -60.8165,  489,     87.7,  26.5797,  36.1758,2,-999.0000,9,    208.9,0,   -999.0,9,  26.5597
  35A320030412,  AR04,    32,  1,     18,     18,2,20030418,1518, 13.8155, -60.8165,  489,     88.2,  26.5614,  36.1870,2,-999.0000,9,    208.8,0,   -999.0,9,  26.5413
  35A320030412,  AR04,    32,  1,     16,     17,2,20030418,1518, 13.8155, -60.8165,  489,     89.1,  26.5323,  36.2043,2,-999.0000,9,    208.7,0,   -999.0,9,  26.5120
  35A320030412,  AR04,    32,  1,     17,     16,2,20030418,1518, 13.8155, -60.8165,  489,     89.2,  26.5296,  36.2064,2,-999.0000,9,    208.7,0,   -999.0,9,  26.5093
  35A320030412,  AR04,    32,  1,     15,     15,2,20030418,1518, 13.8155, -60.8165,  489,     90.7,  26.5086,  36.2173,2,-999.0000,9,    208.7,0,   -999.0,9,  26.4880
  35A320030412,  AR04,    32,  1,     13,     14,2,20030418,1518, 13.8155, -60.8165,  489,     92.5,  26.4689,  36.2347,2,-999.0000,9,    208.8,0,   -999.0,9,  26.4479
  35A320030412,  AR04,    32,  1,     14,     13,2,20030418,1518, 13.8155, -60.8165,  489,     93.6,  26.4601,  36.2390,2,-999.0000,9,    208.9,0,   -999.0,9,  26.4389
  35A320030412,  AR04,    32,  1,     12,     12,2,20030418,1518, 13.8155, -60.8165,  489,     94.2,  26.4504,  36.2474,2,-999.0000,9,    208.9,0,   -999.0,9,  26.4290
  35A320030412,  AR04,    32,  1,      9,     11,2,20030418,1518, 13.8155, -60.8165,  489,     96.1,  26.4032,  36.2699,2,-999.0000,9,    209.1,0,   -999.0,9,  26.3814
  35A320030412,  AR04,    32,  1,     11,     10,2,20030418,1518, 13.8155, -60.8165,  489,     96.8,  26.3928,  36.2849,2,-999.0000,9,    209.1,0,   -999.0,9,  26.3709
  35A320030412,  AR04,    32,  1,     10,      9,2,20030418,1518, 13.8155, -60.8165,  489,     97.5,  26.3819,  36.2858,2,-999.0000,9,    209.2,0,   -999.0,9,  26.3598
  35A320030412,  AR04,    32,  1,      8,      8,2,20030418,1518, 13.8155, -60.8165,  489,    103.5,  26.3534,  36.3342,2,-999.0000,9,    204.7,0,   -999.0,9,  26.3300
  35A320030412,  AR04,    32,  1,      5,      7,2,20030418,1518, 13.8155, -60.8165,  489,    103.8,  26.3446,  36.3596,2,-999.0000,9,    204.3,0,   -999.0,9,  26.3211
  35A320030412,  AR04,    32,  1,      6,      6,2,20030418,1518, 13.8155, -60.8165,  489,    103.8,  26.3465,  36.3582,2,-999.0000,9,    204.3,0,   -999.0,9,  26.3230
  35A320030412,  AR04,    32,  1,      7,      5,2,20030418,1518, 13.8155, -60.8165,  489,    103.8,  26.3465,  36.3582,2,-999.0000,9,    204.3,0,   -999.0,9,  26.3230
  35A320030412,  AR04,    32,  1,      4,      4,2,20030418,1518, 13.8155, -60.8165,  489,    107.7,  26.3022,  36.6624,2,-999.0000,9,    199.1,0,   -999.0,9,  26.2778
  35A320030412,  AR04,    32,  1,      3,      3,2,20030418,1518, 13.8155, -60.8165,  489,    107.8,  26.1971,  36.6418,2,  36.5846,3,    198.9,0,    195.8,2,  26.1728
  35A320030412,  AR04,    32,  1,      2,      2,2,20030418,1518, 13.8155, -60.8165,  489,    198.5,  18.5015,  36.3480,2,  36.3263,3,    147.9,0,    146.2,2,  18.4664
  35A320030412,  AR04,    32,  1,      1,      1,2,20030418,1518, 13.8155, -60.8165,  489,    415.0,  11.6674,  35.3486,2,  35.3467,2,    127.5,0,    127.4,2,  11.6135
  35A320030412,  AR04,    33,  1,      2,      2,2,20030418,1741, 14.1737, -60.9087,  340,     10.1,  27.2908,  35.6325,2,  35.6211,3,    204.9,0,    209.5,2,  27.2885
  35A320030412,  AR04,    33,  1,      1,      1,2,20030418,1741, 14.1737, -60.9087,  340,    339.3,  11.7766,  35.3877,2,  35.3892,2,    127.5,0,    128.3,6,  11.7324
  35A320030412,  AR04,    34,  1,      3,      3,2,20030418,1827, 14.2203, -60.8970,  791,     11.5,  27.3446,  35.5230,2,-999.0000,9,    204.9,0,    206.1,6,  27.3419
  35A320030412,  AR04,    34,  1,      2,      2,2,20030418,1827, 14.2203, -60.8970,  791,    480.5,   9.0043,  34.9870,2,  34.9825,2,    122.7,0,    123.1,2,   8.9512
  35A320030412,  AR04,    34,  1,      1,      1,2,20030418,1827, 14.2203, -60.8970,  791,    790.4,   5.4932,  34.8615,2,  34.8658,2,    165.3,0,    166.0,2,   5.4251
  35A320030412,  AR04,    35,  1,      3,      3,2,20030418,1930, 14.2652, -60.8907,  944,     16.1,  27.3924,  35.5429,2,-999.0000,9,    205.7,0,    206.9,6,  27.3887
  35A320030412,  AR04,    35,  1,      2,      2,2,20030418,1930, 14.2652, -60.8907,  944,    589.2,   8.1446,  34.8558,2,  34.8875,3,    124.4,0,    125.7,2,   8.0830
  35A320030412,  AR04,    35,  1,      1,      1,2,20030418,1930, 14.2652, -60.8907,  944,    943.9,   4.5541,  34.9489,2,  34.9462,2,    197.3,0,    197.7,2,   4.4784
  35A320030412,  AR04,    36,  1,      3,      3,2,20030418,2033, 14.3137, -60.8812,  942,     13.8,  27.3757,  35.5152,2,  35.6646,3,    206.6,0,    207.4,6,  27.3725
  35A320030412,  AR04,    36,  1,      2,      2,2,20030418,2033, 14.3137, -60.8812,  942,    526.1,   9.7268,  35.0790,2,  35.0702,2,    123.4,0,    123.5,2,   9.6657
  35A320030412,  AR04,    36,  1,      1,      1,2,20030418,2033, 14.3137, -60.8812,  942,    939.3,   4.6325,  34.9344,2,  34.9371,2,    194.1,0,    194.3,2,   4.5566
  35A320030412,  AR04,    37,  1,      3,      3,2,20030418,2140, 14.3567, -60.8725,  403,     11.7,  27.4076,  35.5319,2,  35.5037,3,    206.5,0,    207.4,2,  27.4049
  35A320030412,  AR04,    37,  1,      2,      2,2,20030418,2140, 14.3567, -60.8725,  403,    229.3,  16.7153,  36.1507,2,-999.0000,9,    142.8,0,    141.8,6,  16.6776
  35A320030412,  AR04,    37,  1,      1,      1,2,20030418,2140, 14.3567, -60.8725,  403,    402.9,  12.1358,  35.4470,2,  35.4482,2,    126.7,0,    127.9,2,  12.0822
  35A320030412,  AR04,    38,  1,      2,      2,2,20030419,1301, 14.9460, -61.1493,  415,     12.6,  27.2688,  35.6590,2,  35.6557,2,    204.4,0,    204.7,2,  27.2659
  35A320030412,  AR04,    38,  1,      1,      1,2,20030419,1301, 14.9460, -61.1493,  415,    304.5,  14.5830,  35.8635,2,  35.8363,3,    136.2,0,    134.8,2,  14.5373
  35A320030412,  AR04,    39,  1,      3,      3,2,20030419,1358, 15.0002, -61.1785,  590,     12.2,  27.2413,  35.4488,2,  35.4469,2,    204.6,0,    205.6,2,  27.2385
  35A320030412,  AR04,    39,  1,      2,      2,2,20030419,1358, 15.0002, -61.1785,  590,    238.7,  16.1221,  36.1495,2,  36.1370,3,    144.6,0,    145.7,2,  16.0837
  35A320030412,  AR04,    39,  1,      1,      1,2,20030419,1358, 15.0002, -61.1785,  590,    486.8,   9.3199,  35.0187,2,  35.0205,2,    123.9,0,    123.9,2,   9.2650
  35A320030412,  AR04,    40,  1,      4,      4,2,20030419,1458, 15.0592, -61.2103, 1516,      9.4,  27.1746,  35.5399,2,-999.0000,9,    204.8,0,    205.2,2,  27.1724
  35A320030412,  AR04,    40,  1,      3,      3,2,20030419,1458, 15.0592, -61.2103, 1516,    112.5,  25.9681,  36.5289,2,-999.0000,9,    196.8,0,    192.7,2,  25.9429
  35A320030412,  AR04,    40,  1,      2,      2,2,20030419,1458, 15.0592, -61.2103, 1516,   1006.0,   5.3932,  34.8914,2,  34.9013,3,    171.5,0,    174.7,2,   5.3057
  35A320030412,  AR04,    40,  1,      1,      1,2,20030419,1458, 15.0592, -61.2103, 1516,   1231.9,   4.4126,  34.9573,2,  34.9574,2,    201.8,0,    202.1,2,   4.3125