BOTTLE,20120807PRINUNIVRMK
#
#BOTTLE,20090519WHPSIOCBG
#code : jjward hyd_to_exchange.pl 
#original files copied from HTML directory: 20090219
#original HYD file: ar04_35A3200304hy.csv   Tue May 19 16:05:55 2009
#original SUM file: ar04_35A3200304su.txt   Tue May 19 15:59:10 2009
#
# 3/14/2012 Initialized README file  
# Data source: CCHDO and R. Steinfeldt 
# SHIP: L'Atlante 
# Cruise: CARIBINFLOW 
# Region: Off Brazil/ AR04 
# EXPOCODE: 35A320030412 
# DATES:4/12 - 4/25/2003 
# Chief Scientist: Monika Rhein 
# 71 stations with 24 place Rosette 
# Hydro: Who - R.Steinfeldt; Status - final 
# 	Notes: 	bottle numbers fabricated 
# O2: Who - R.Steinfeldt; Status - final 
# 	Notes: 
# References: 
EXPOCODE,SECT_ID,STNNBR,CASTNO,SAMPNO,BTLNBR,BTLNBR_FLAG_W,DATE,TIME,LATITUDE,LONGITUDE,DEPTH,CTDPRS,CTDTMP,CTDSAL,CTDSAL_FLAG_W,SALNTY,SALNTY_FLAG_W,CTDOXY,CTDOXY_FLAG_W,OXYGEN,OXYGEN_FLAG_W,THETA
,,,,,,,,,,,METERS,DBAR,ITS-90,PSS-78,,PSS-78,,UMOL/KG,,UMOL/KG,,DEG C
  35A320030412,  AR04,     1,  1,      3,      3,2,20030414,1902, 13.6143, -60.9327,  340,     11.5,  27.5221,  36.0228,2,  36.0235,2,    202.1,0,    203.8,2,  27.5194
  35A320030412,  AR04,     1,  1,      2,      2,2,20030414,1902, 13.6143, -60.9327,  340,    276.2,  15.8972,  35.9578,2,  36.0310,3,    136.6,0,    203.2,4,  15.8533
  35A320030412,  AR04,     1,  1,      1,      1,2,20030414,1902, 13.6143, -60.9327,  340,    338.9,  11.6462,  35.3550,2,  35.3578,2,    126.4,0,    124.4,2,  11.6024
  35A320030412,  AR04,     2,  1,      3,      3,2,20030414,2027, 13.5508, -60.9792,  337,     16.0,  27.3639,  35.9982,2,-999.0000,9,    203.6,0,   -999.0,9,  27.3602
  35A320030412,  AR04,     2,  1,      2,      2,2,20030414,2027, 13.5508, -60.9792,  337,    281.6,  15.4917,  35.9911,2,-999.0000,9,    135.4,0,    134.9,2,  15.4477
  35A320030412,  AR04,     2,  1,      1,      1,2,20030414,2027, 13.5508, -60.9792,  337,    335.4,  13.9879,  35.6802,2,-999.0000,9,    131.6,0,    131.4,2,  13.9389
  35A320030412,  AR04,     3,  1,      3,      3,2,20030414,2123, 13.5093, -61.0060,  365,     18.3,  27.4085,  35.9784,2,  35.9823,2,    203.2,0,   -999.0,9,  27.4042
  35A320030412,  AR04,     3,  1,      2,      2,2,20030414,2123, 13.5093, -61.0060,  365,    307.5,  11.4312,  35.3049,2,  35.2481,3,    126.6,0,    125.7,2,  11.3920
  35A320030412,  AR04,     3,  1,      1,      1,2,20030414,2123, 13.5093, -61.0060,  365,    363.2,   9.8082,  35.0362,2,  35.0418,2,    124.9,0,    124.8,2,   9.7662
  35A320030412,  AR04,     4,  1,      4,      4,2,20030414,2222, 13.4653, -61.0372,  855,     10.0,  27.4972,  35.8369,2,  35.8541,2,    202.8,0,    202.5,2,  27.4949
  35A320030412,  AR04,     4,  1,      3,      3,2,20030414,2222, 13.4653, -61.0372,  855,     12.9,  27.4462,  35.8275,2,-999.0000,9,    202.8,0,   -999.0,9,  27.4432
  35A320030412,  AR04,     4,  1,      2,      2,2,20030414,2222, 13.4653, -61.0372,  855,    636.4,   7.3512,  34.7212,2,  34.7152,2,    123.4,0,    122.6,2,   7.2883
  35A320030412,  AR04,     4,  1,      1,      1,2,20030414,2222, 13.4653, -61.0372,  855,    854.9,   6.4256,  34.6997,2,  34.7014,2,    131.4,0,    131.7,6,   6.3458
  35A320030412,  AR04,     5,  1,      5,      5,2,20030415,0020, 13.4163, -61.0735, 1107,     12.8,  27.4760,  35.7297,2,  35.7292,2,    202.9,0,    135.3,4,  27.4730
  35A320030412,  AR04,     5,  1,      4,      4,2,20030415,0020, 13.4163, -61.0735, 1107,    386.4,  10.3816,  35.1049,2,  35.1015,2,    124.1,0,    126.5,2,  10.3352
  35A320030412,  AR04,     5,  1,      3,      3,2,20030415,0020, 13.4163, -61.0735, 1107,    582.5,   7.7361,  34.7929,2,  34.7768,3,    121.4,0,    124.8,2,   7.6770
  35A320030412,  AR04,     5,  1,      2,      2,2,20030415,0020, 13.4163, -61.0735, 1107,    879.5,   5.2489,  34.8492,2,  34.8448,2,    168.1,0,    167.3,2,   5.1742
  35A320030412,  AR04,     5,  1,      1,      1,2,20030415,0020, 13.4163, -61.0735, 1107,   1105.0,   4.5968,  34.9301,2,  34.9342,2,    192.8,0,    193.4,2,   4.5065
  35A320030412,  AR04,     6,  1,      2,      2,2,20030415,0159, 13.3883, -61.0930,  465,     12.4,  27.2758,  35.9083,2,  35.8992,2,    202.2,0,    228.7,4,  27.2729
  35A320030412,  AR04,     6,  1,      1,      1,2,20030415,0159, 13.3883, -61.0930,  465,    464.5,   7.2897,  34.7648,2,  34.7678,2,    124.9,0,    126.5,2,   7.2445
  35A320030412,  AR04,     7,  1,      2,      2,2,20030415,0415, 13.1662, -61.0640,  447,     17.4,  27.1854,  36.0160,2,  35.9987,3,    200.1,0,    220.4,4,  27.1814
  35A320030412,  AR04,     7,  1,      1,      1,2,20030415,0415, 13.1662, -61.0640,  447,    404.4,  10.2679,  35.1305,2,  35.1252,2,    122.0,0,    123.1,2,  10.2196
  35A320030412,  AR04,     8,  1,      9,      9,2,20030415,0629, 12.9432, -60.9835, 1062,      8.2,  27.4102,  35.8157,2,  35.8400,3,    202.7,0,    218.7,3,  27.4083
  35A320030412,  AR04,     8,  1,      8,      8,2,20030415,0629, 12.9432, -60.9835, 1062,    303.8,  12.4041,  35.4489,2,-999.0000,9,    127.7,0,    239.2,4,  12.3632
  35A320030412,  AR04,     8,  1,      7,      7,2,20030415,0629, 12.9432, -60.9835, 1062,    503.7,   8.5722,  34.8718,2,-999.0000,9,    119.6,0,    121.7,2,   8.5182
  35A320030412,  AR04,     8,  1,      6,      6,2,20030415,0629, 12.9432, -60.9835, 1062,    747.7,   5.9948,  34.6419,2,  34.6493,3,    130.9,0,    133.0,2,   5.9280
  35A320030412,  AR04,     8,  1,      1,      5,2,20030415,0629, 12.9432, -60.9835, 1062,    990.7,   5.5116,  34.8565,2,-999.0000,9,    161.2,0,   -999.0,9,   5.4247
  35A320030412,  AR04,     8,  1,      2,      4,2,20030415,0629, 12.9432, -60.9835, 1062,   1059.8,   5.2595,  34.9085,2,-999.0000,9,    179.3,0,   -999.0,9,   5.1680
  35A320030412,  AR04,     8,  1,      3,      3,2,20030415,0629, 12.9432, -60.9835, 1062,   1059.9,   5.2592,  34.9082,2,  34.9064,2,    179.4,0,   -999.0,9,   5.1677
  35A320030412,  AR04,     8,  1,      4,      2,2,20030415,0629, 12.9432, -60.9835, 1062,   1059.9,   5.2592,  34.9082,2,-999.0000,9,    179.4,0,   -999.0,9,   5.1677
  35A320030412,  AR04,     8,  1,      5,      1,2,20030415,0629, 12.9432, -60.9835, 1062,   1060.0,   5.2590,  34.9085,2,-999.0000,9,    179.4,0,    173.4,2,   5.1675
  35A320030412,  AR04,     9,  1,      5,      5,2,20030415,0924, 12.7120, -60.9128, 1393,     10.3,  27.2989,  36.0271,2,-999.0000,9,    201.2,0,   -999.0,9,  27.2965
  35A320030412,  AR04,     9,  1,      4,      4,2,20030415,0924, 12.7120, -60.9128, 1393,    206.5,  16.8074,  36.1548,2,  36.0700,3,    136.7,0,    135.7,6,  16.7733
  35A320030412,  AR04,     9,  1,      3,      3,2,20030415,0924, 12.7120, -60.9128, 1393,    606.2,   7.0496,  34.7076,2,  34.6930,3,    123.4,0,    123.9,2,   6.9912
  35A320030412,  AR04,     9,  1,      2,      2,2,20030415,0924, 12.7120, -60.9128, 1393,   1005.8,   5.5275,  34.8451,2,  34.8548,3,    156.9,0,    160.4,2,   5.4391
  35A320030412,  AR04,     9,  1,      1,      1,2,20030415,0924, 12.7120, -60.9128, 1393,   1392.4,   4.6254,  35.0150,2,  35.0152,2,    237.8,0,    139.1,4,   4.5082
  35A320030412,  AR04,    10,  1,     22,     22,2,20030415,1205, 12.4887, -60.8107, 2267,     33.7,  27.3281,  36.1593,2,  36.0821,3,    200.4,0,    209.9,3,  27.3203
  35A320030412,  AR04,    10,  1,     21,     21,2,20030415,1205, 12.4887, -60.8107, 2267,    601.7,   7.3761,  34.7329,2,-999.0000,9,    122.1,0,    123.0,2,   7.3166
  35A320030412,  AR04,    10,  1,     20,     20,2,20030415,1205, 12.4887, -60.8107, 2267,    986.5,   5.4708,  34.7893,2,-999.0000,9,    147.1,0,    153.0,2,   5.3847
  35A320030412,  AR04,    10,  1,     10,     19,2,20030415,1205, 12.4887, -60.8107, 2267,   1578.3,   4.0903,  34.9942,2,-999.0000,9,    257.0,0,   -999.0,9,   3.9618
  35A320030412,  AR04,    10,  1,     12,     18,2,20030415,1205, 12.4887, -60.8107, 2267,   1578.3,   4.0900,  34.9945,2,-999.0000,9,    257.0,0,   -999.0,9,   3.9615
  35A320030412,  AR04,    10,  1,      6,     17,2,20030415,1205, 12.4887, -60.8107, 2267,   1578.4,   4.0900,  34.9941,2,-999.0000,9,    257.0,0,   -999.0,9,   3.9615
  35A320030412,  AR04,    10,  1,      8,     16,2,20030415,1205, 12.4887, -60.8107, 2267,   1578.5,   4.0898,  34.9945,2,-999.0000,9,    257.0,0,   -999.0,9,   3.9613
  35A320030412,  AR04,    10,  1,     15,     15,2,20030415,1205, 12.4887, -60.8107, 2267,   1578.5,   4.0898,  34.9945,2,-999.0000,9,    257.0,0,   -999.0,9,   3.9613
  35A320030412,  AR04,    10,  1,      7,     14,2,20030415,1205, 12.4887, -60.8107, 2267,   1578.6,   4.0897,  34.9941,2,-999.0000,9,    257.0,0,   -999.0,9,   3.9611
  35A320030412,  AR04,    10,  1,     11,     13,2,20030415,1205, 12.4887, -60.8107, 2267,   1578.6,   4.0897,  34.9941,2,-999.0000,9,    257.0,0,   -999.0,9,   3.9611
  35A320030412,  AR04,    10,  1,      5,     12,2,20030415,1205, 12.4887, -60.8107, 2267,   1578.7,   4.0895,  34.9944,2,-999.0000,9,    257.0,0,   -999.0,9,   3.9609
  35A320030412,  AR04,    10,  1,      9,     11,2,20030415,1205, 12.4887, -60.8107, 2267,   1578.7,   4.0892,  34.9948,2,-999.0000,9,    257.0,0,   -999.0,9,   3.9606
  35A320030412,  AR04,    10,  1,     13,     10,2,20030415,1205, 12.4887, -60.8107, 2267,   1578.7,   4.0895,  34.9944,2,-999.0000,9,    257.0,0,   -999.0,9,   3.9609
  35A320030412,  AR04,    10,  1,     18,      9,2,20030415,1205, 12.4887, -60.8107, 2267,   1578.7,   4.0895,  34.9944,2,-999.0000,9,    257.0,0,   -999.0,9,   3.9609
  35A320030412,  AR04,    10,  1,     16,      8,2,20030415,1205, 12.4887, -60.8107, 2267,   1579.0,   4.0885,  34.9945,2,-999.0000,9,    257.1,0,   -999.0,9,   3.9599
  35A320030412,  AR04,    10,  1,     14,      7,2,20030415,1205, 12.4887, -60.8107, 2267,   1579.4,   4.0881,  34.9942,2,-999.0000,9,    257.1,0,   -999.0,9,   3.9595
  35A320030412,  AR04,    10,  1,     17,      6,2,20030415,1205, 12.4887, -60.8107, 2267,   1579.5,   4.0876,  34.9945,2,-999.0000,9,    257.1,0,   -999.0,9,   3.9590
  35A320030412,  AR04,    10,  1,     19,      5,2,20030415,1205, 12.4887, -60.8107, 2267,   1579.5,   4.0876,  34.9945,2,-999.0000,9,    257.1,0,   -999.0,9,   3.9590
  35A320030412,  AR04,    10,  1,      4,      4,2,20030415,1205, 12.4887, -60.8107, 2267,   1594.2,   4.0667,  34.9939,2,  34.9933,2,    257.4,0,   -999.0,9,   3.9370
  35A320030412,  AR04,    10,  1,      3,      3,2,20030415,1205, 12.4887, -60.8107, 2267,   1776.4,   3.8974,  34.9879,2,  34.9872,2,    260.0,0,   -999.0,9,   3.7528
  35A320030412,  AR04,    10,  1,      2,      2,2,20030415,1205, 12.4887, -60.8107, 2267,   1987.8,   3.8331,  34.9850,2,  34.9858,2,    259.9,0,    257.2,2,   3.6692
  35A320030412,  AR04,    10,  1,      1,      1,2,20030415,1205, 12.4887, -60.8107, 2267,   2265.7,   3.8346,  34.9869,2,  34.9850,2,    256.0,0,   -999.0,9,   3.6432
  35A320030412,  AR04,    11,  1,      5,      5,2,20030415,1531, 12.2617, -60.7238, 2327,      7.0,  27.4360,  34.3217,2,-999.0000,9,    148.9,0,    114.0,4,  27.4344
  35A320030412,  AR04,    11,  1,      4,      4,2,20030415,1531, 12.2617, -60.7238, 2327,    590.3,   7.7927,  34.7714,2,-999.0000,9,    121.9,0,    123.0,2,   7.7325
  35A320030412,  AR04,    11,  1,      3,      3,2,20030415,1531, 12.2617, -60.7238, 2327,   1708.3,   3.9222,  34.9885,2,  34.9886,2,    259.5,0,    257.7,2,   3.7836
  35A320030412,  AR04,    11,  1,      2,      2,2,20030415,1531, 12.2617, -60.7238, 2327,   1993.8,   3.8212,  34.9850,2,  34.9848,2,    258.9,0,    257.7,2,   3.6569
  35A320030412,  AR04,    11,  1,      1,      1,2,20030415,1531, 12.2617, -60.7238, 2327,   2326.7,   3.8342,  34.9870,2,  34.9876,2,    254.6,0,    252.5,2,   3.6366
  35A320030412,  AR04,    12,  1,      5,      5,2,20030415,1851, 12.0403, -60.6423, 2297,     12.0,  27.4782,  35.6501,2,-999.0000,9,    200.7,0,   -999.0,9,  27.4754
  35A320030412,  AR04,    12,  1,      4,      4,2,20030415,1851, 12.0403, -60.6423, 2297,    291.0,  11.5489,  35.1659,2,  35.1469,3,    150.5,0,    151.8,2,  11.5117
  35A320030412,  AR04,    12,  1,      3,      3,2,20030415,1851, 12.0403, -60.6423, 2297,    902.6,   5.4701,  34.6965,2,  34.6845,2,    138.8,0,    140.0,6,   5.3920
  35A320030412,  AR04,    12,  1,      2,      2,2,20030415,1851, 12.0403, -60.6423, 2297,   1799.9,   3.8985,  34.9870,2,  34.9876,2,    260.7,0,    257.7,2,   3.7516
  35A320030412,  AR04,    12,  1,      1,      1,2,20030415,1851, 12.0403, -60.6423, 2297,   2295.9,   3.8349,  34.9872,2,  34.9896,2,    255.7,0,    252.9,2,   3.6404
  35A320030412,  AR04,    13,  1,      4,      4,2,20030416,0144, 11.8128, -60.5552, 1552,     13.8,  27.4969,  35.6915,2,  35.7251,3,    201.7,0,    215.2,3,  27.4937
  35A320030412,  AR04,    13,  1,      3,      3,2,20030416,0144, 11.8128, -60.5552, 1552,    508.6,   9.0097,  34.9331,2,  34.8765,3,    123.5,0,   -999.0,9,   8.9534
  35A320030412,  AR04,    13,  1,      2,      2,2,20030416,0144, 11.8128, -60.5552, 1552,   1007.2,   5.1414,  34.7412,2,  34.7831,3,    152.1,0,    157.3,2,   5.0560
  35A320030412,  AR04,    13,  1,      1,      1,2,20030416,0144, 11.8128, -60.5552, 1552,   1402.7,   4.5330,  35.0113,2,  35.0101,2,    242.7,0,    243.3,2,   4.4159
  35A320030412,  AR04,    14,  1,      4,      4,2,20030416,1105, 11.5902, -60.4692, 1026,     11.7,  27.4865,  35.5318,2,  35.5272,2,    201.5,0,    218.7,3,  27.4838
  35A320030412,  AR04,    14,  1,      3,      3,2,20030416,1105, 11.5902, -60.4692, 1026,    403.5,  10.3575,  35.1080,2,  35.0915,3,    130.1,0,    130.5,2,  10.3091
  35A320030412,  AR04,    14,  1,      2,      2,2,20030416,1105, 11.5902, -60.4692, 1026,    702.3,   6.1285,  34.6361,2,  34.6304,2,    129.0,0,    129.6,2,   6.0653
  35A320030412,  AR04,    14,  1,      1,      1,2,20030416,1105, 11.5902, -60.4692, 1026,   1025.1,   5.4631,  34.8405,2,  34.8310,2,    158.2,0,    159.5,2,   5.3734
  35A320030412,  AR04,    15,  1,      6,      8,2,20030416,1530, 11.3638, -60.4013, 1143,     11.4,  27.6060,  35.7072,2,-999.0000,9,    200.9,0,   -999.0,9,  27.6033
  35A320030412,  AR04,    15,  1,      7,      7,2,20030416,1530, 11.3638, -60.4013, 1143,     11.4,  27.6110,  35.7062,2,-999.0000,9,    200.9,0,    202.6,2,  27.6083
  35A320030412,  AR04,    15,  1,      8,      6,2,20030416,1530, 11.3638, -60.4013, 1143,     11.4,  27.6110,  35.7062,2,-999.0000,9,    200.9,0,   -999.0,9,  27.6083
  35A320030412,  AR04,    15,  1,      5,      5,2,20030416,1530, 11.3638, -60.4013, 1143,     11.5,  27.6022,  35.7087,2,-999.0000,9,    200.9,0,    202.1,2,  27.5995
  35A320030412,  AR04,    15,  1,      4,      4,2,20030416,1530, 11.3638, -60.4013, 1143,    196.5,  16.5081,  36.0461,2,-999.0000,9,    152.4,0,    150.1,2,  16.4761
  35A320030412,  AR04,    15,  1,      3,      3,2,20030416,1530, 11.3638, -60.4013, 1143,    590.3,   6.7062,  34.6866,2,  34.6776,2,    126.3,0,    126.1,2,   6.6509
  35A320030412,  AR04,    15,  1,      2,      2,2,20030416,1530, 11.3638, -60.4013, 1143,    797.6,   5.5871,  34.6704,2,-999.0000,9,    135.8,0,    135.6,2,   5.5180
  35A320030412,  AR04,    15,  1,      1,      1,2,20030416,1530, 11.3638, -60.4013, 1143,    999.3,   5.4434,  34.8250,2,  34.8369,3,    156.2,0,    160.4,2,   5.3563
  35A320030412,  AR04,    16,  1,      7,      7,2,20030416,1752, 11.5545, -60.3138, 1512,     13.5,  27.5963,  35.4639,2,-999.0000,9,    202.2,0,    214.4,3,  27.5932
  35A320030412,  AR04,    16,  1,      6,      6,2,20030416,1752, 11.5545, -60.3138, 1512,    194.2,  16.5789,  36.2684,2,-999.0000,9,    153.6,0,    148.3,2,  16.5471
  35A320030412,  AR04,    16,  1,      5,      5,2,20030416,1752, 11.5545, -60.3138, 1512,    508.4,   8.3560,  34.8372,2,-999.0000,9,    121.1,0,    123.1,2,   8.3023
  35A320030412,  AR04,    16,  1,      4,      4,2,20030416,1752, 11.5545, -60.3138, 1512,    870.6,   5.5128,  34.6746,2,  34.6721,2,    137.8,0,    136.5,2,   5.4374
  35A320030412,  AR04,    16,  1,      3,      3,2,20030416,1752, 11.5545, -60.3138, 1512,   1198.2,   4.9956,  34.9949,2,  34.9957,2,    212.8,0,    214.2,2,   4.8931
  35A320030412,  AR04,    16,  1,      2,      2,2,20030416,1752, 11.5545, -60.3138, 1512,   1398.1,   4.6668,  35.0164,2,  35.0156,2,    236.7,0,    235.1,2,   4.5487
  35A320030412,  AR04,    16,  1,      1,      1,2,20030416,1752, 11.5545, -60.3138, 1512,   1510.6,   4.4437,  35.0093,2,-999.0000,9,    245.9,0,    244.6,6,   4.3174
  35A320030412,  AR04,    17,  1,      7,      9,2,20030416,2007, 11.7283, -60.2445, 1527,     12.5,  27.5809,  35.9127,2,-999.0000,9,    202.1,0,    202.5,2,  27.5780
  35A320030412,  AR04,    17,  1,      8,      8,2,20030416,2007, 11.7283, -60.2445, 1527,     12.6,  27.5723,  35.9050,2,-999.0000,9,    202.2,0,    202.1,2,  27.5694
  35A320030412,  AR04,    17,  1,      9,      7,2,20030416,2007, 11.7283, -60.2445, 1527,     16.4,  27.4133,  35.9337,2,-999.0000,9,    202.5,0,   -999.0,9,  27.4095
  35A320030412,  AR04,    17,  1,      6,      6,2,20030416,2007, 11.7283, -60.2445, 1527,    356.8,  10.9358,  35.0980,2,-999.0000,9,    147.0,0,   -999.0,9,  10.8916
  35A320030412,  AR04,    17,  1,      5,      5,2,20030416,2007, 11.7283, -60.2445, 1527,    453.5,   9.7125,  35.0203,2,  34.9635,3,    122.6,0,   -999.0,9,   9.6601
  35A320030412,  AR04,    17,  1,      4,      4,2,20030416,2007, 11.7283, -60.2445, 1527,    457.0,   9.6704,  35.0124,2,-999.0000,9,    122.6,0,    122.2,2,   9.6177
  35A320030412,  AR04,    17,  1,      3,      3,2,20030416,2007, 11.7283, -60.2445, 1527,    795.4,   5.6137,  34.6328,2,  34.6361,2,    133.4,0,    133.0,2,   5.5447
  35A320030412,  AR04,    17,  1,      2,      2,2,20030416,2007, 11.7283, -60.2445, 1527,   1261.7,   4.9045,  35.0223,2,  35.0203,2,    227.4,0,    127.8,3,   4.7969
  35A320030412,  AR04,    17,  1,      1,      1,2,20030416,2007, 11.7283, -60.2445, 1527,   1525.3,   4.2357,  34.9995,2,  34.9980,2,    251.9,0,    251.2,2,   4.1104
  35A320030412,  AR04,    18,  1,      5,      5,2,20030417,0228, 11.9182, -60.1755, 1797,     16.2,  27.3256,  35.5941,2,  35.5930,2,    202.9,0,    216.5,3,  27.3218
  35A320030412,  AR04,    18,  1,      4,      4,2,20030417,0228, 11.9182, -60.1755, 1797,    614.6,   8.0644,  34.8041,2,  34.7932,2,    122.1,0,    122.2,2,   8.0004
  35A320030412,  AR04,    18,  1,      3,      3,2,20030417,0228, 11.9182, -60.1755, 1797,    787.8,   5.9398,  34.6316,2,  34.6398,3,    128.5,0,    129.1,2,   5.8696
  35A320030412,  AR04,    18,  1,      2,      2,2,20030417,0228, 11.9182, -60.1755, 1797,   1203.9,   5.1908,  35.0087,2,  35.0077,2,    209.8,0,    214.2,2,   5.0860
  35A320030412,  AR04,    18,  1,      1,      1,2,20030417,0228, 11.9182, -60.1755, 1797,   1598.4,   4.0510,  34.9920,2,  34.9913,2,    259.1,0,    257.7,2,   3.9211
  35A320030412,  AR04,    19,  1,      5,      5,2,20030417,0500, 12.1027, -60.1017, 2012,     23.1,  27.3528,  35.2224,2,  35.2921,3,    204.6,0,    215.3,3,  27.3474
  35A320030412,  AR04,    19,  1,      4,      4,2,20030417,0500, 12.1027, -60.1017, 2012,    405.6,  10.6911,  35.0799,2,  35.0690,2,    144.1,0,    145.7,2,  10.6415
  35A320030412,  AR04,    19,  1,      3,      3,2,20030417,0500, 12.1027, -60.1017, 2012,    811.9,   5.7287,  34.6340,2,-999.0000,9,    131.6,0,    134.8,2,   5.6575
  35A320030412,  AR04,    19,  1,      2,      2,2,20030417,0500, 12.1027, -60.1017, 2012,   1704.8,   3.9453,  34.9886,2,  34.9864,2,    259.9,0,    258.1,2,   3.8068
  35A320030412,  AR04,    19,  1,      1,      1,2,20030417,0500, 12.1027, -60.1017, 2012,   2010.4,   3.8299,  34.9863,2,  34.9856,2,    257.9,0,    255.5,2,   3.6638