BOTTLE,20120807PRINUNIVRMK
EXPOCODE,SECT_ID,STNNBR,CASTNO,SAMPNO,BTLNBR,BTLNBR_FLAG_W,DATE,TIME,LATITUDE,LONGITUDE,DEPTH,CTDPRS,CTDTMP,CTDSAL,CTDSAL_FLAG_W,SALNTY,SALNTY_FLAG_W,CTDOXY,CTDOXY_FLAG_W,OXYGEN,OXYGEN_FLAG_W,THETA
,,,,,,,,,,,METERS,DBAR,ITS-90,PSS-78,,PSS-78,,UMOL/KG,,UMOL/KG,,DEG C
  35A320030412,  AR04,    41,  1,      9,      9,2,20030419,1622, 15.1027, -61.2288, 2044,      4.0,  27.2028,  35.6648,2,-999.0000,9,    205.2,0,    205.6,2,  27.2019
  35A320030412,  AR04,    41,  1,      8,      8,2,20030419,1622, 15.1027, -61.2288, 2044,    136.4,  24.4960,  36.8381,2,  36.7013,3,    186.2,0,   -999.0,9,  24.4666
  35A320030412,  AR04,    41,  1,      7,      7,2,20030419,1622, 15.1027, -61.2288, 2044,    618.1,   8.0686,  34.9078,2,-999.0000,9,    124.4,0,    123.9,2,   8.0041
  35A320030412,  AR04,    41,  1,      6,      6,2,20030419,1622, 15.1027, -61.2288, 2044,   1224.5,   4.4039,  34.9576,2,  34.9586,2,    202.2,0,    201.6,2,   4.3045
  35A320030412,  AR04,    41,  1,      5,      5,2,20030419,1622, 15.1027, -61.2288, 2044,   1609.0,   4.1804,  34.9684,2,  34.9683,2,    209.2,0,    208.1,2,   4.0480
  35A320030412,  AR04,    41,  1,      4,      4,2,20030419,1622, 15.1027, -61.2288, 2044,   1976.3,   4.1309,  34.9726,2,-999.0000,9,    209.5,0,   -999.0,9,   3.9638
  35A320030412,  AR04,    41,  1,      3,      3,2,20030419,1622, 15.1027, -61.2288, 2044,   1978.1,   4.1315,  34.9723,2,-999.0000,9,    209.4,0,   -999.0,9,   3.9642
  35A320030412,  AR04,    41,  1,      2,      2,2,20030419,1622, 15.1027, -61.2288, 2044,   1985.5,   4.1318,  34.9724,2,  34.9736,2,    209.3,0,    207.7,2,   3.9637
  35A320030412,  AR04,    41,  1,      1,      1,2,20030419,1622, 15.1027, -61.2288, 2044,   2043.3,   4.1361,  34.9725,2,-999.0000,9,    209.3,0,    207.7,2,   3.9622
  35A320030412,  AR04,    42,  1,      7,      7,2,20030419,2133, 15.1515, -61.2557, 1451,     25.6,  27.2829,  35.5192,2,  35.4447,3,    205.6,0,    206.5,6,  27.2770
  35A320030412,  AR04,    42,  1,      6,      6,2,20030419,2133, 15.1515, -61.2557, 1451,    273.1,  15.8641,  36.1455,2,-999.0000,9,    155.4,0,    153.6,2,  15.8207
  35A320030412,  AR04,    42,  1,      5,      5,2,20030419,2133, 15.1515, -61.2557, 1451,    630.8,   8.1391,  34.9252,2,-999.0000,9,    123.9,0,    124.8,2,   8.0729
  35A320030412,  AR04,    42,  1,      4,      4,2,20030419,2133, 15.1515, -61.2557, 1451,    751.7,   6.5424,  34.7543,2,  34.7532,2,    127.8,0,    128.2,2,   6.4720
  35A320030412,  AR04,    42,  1,      3,      3,2,20030419,2133, 15.1515, -61.2557, 1451,   1140.4,   4.5595,  34.9466,2,-999.0000,9,    197.0,0,    199.9,2,   4.4663
  35A320030412,  AR04,    42,  1,      2,      2,2,20030419,2133, 15.1515, -61.2557, 1451,   1360.4,   4.2423,  34.9649,2,-999.0000,9,    206.5,0,   -999.0,9,   4.1322
  35A320030412,  AR04,    42,  1,      1,      1,2,20030419,2133, 15.1515, -61.2557, 1451,   1447.4,   4.2058,  34.9665,2,  34.9681,2,    207.7,0,    207.3,2,   4.0881
  35A320030412,  AR04,    43,  1,      4,      4,2,20030419,2310, 15.2020, -61.2800,  703,     16.6,  26.7827,  36.1773,2,  36.2166,3,    204.3,0,    203.7,6,  26.7789
  35A320030412,  AR04,    43,  1,      3,      3,2,20030419,2310, 15.2020, -61.2800,  703,    227.3,  17.4446,  36.4207,2,-999.0000,9,    164.1,0,    163.2,2,  17.4060
  35A320030412,  AR04,    43,  1,      2,      2,2,20030419,2310, 15.2020, -61.2800,  703,    372.1,  12.0519,  35.4807,2,  35.4575,3,    130.0,0,    126.5,2,  12.0026
  35A320030412,  AR04,    43,  1,      1,      1,2,20030419,2310, 15.2020, -61.2800,  703,    702.6,   7.3574,  34.8088,2,  34.8093,2,    126.4,0,    124.3,2,   7.2875
  35A320030412,  AR04,    44,  1,      2,      2,2,20030420,0712, 15.6697, -61.4413,  714,     24.0,  27.2961,  35.5088,2,  35.4889,3,    205.6,0,    206.1,2,  27.2905
  35A320030412,  AR04,    44,  1,      1,      1,2,20030420,0712, 15.6697, -61.4413,  714,    708.6,   7.6039,  34.8582,2,  34.8631,2,    129.4,0,    128.3,2,   7.5320
  35A320030412,  AR04,    45,  1,      4,      4,2,20030420,0830, 15.7037, -61.4598, 1083,     14.3,  27.4076,  35.4343,2,  35.4946,3,    206.1,0,    205.6,6,  27.4043
  35A320030412,  AR04,    45,  1,      3,      3,2,20030420,0830, 15.7037, -61.4598, 1083,    514.3,   9.3036,  35.0432,2,-999.0000,9,    123.7,0,    122.6,2,   9.2455
  35A320030412,  AR04,    45,  1,      2,      2,2,20030420,0830, 15.7037, -61.4598, 1083,    900.0,   6.4624,  34.8524,2,  34.8471,2,    147.0,0,    145.6,2,   6.3776
  35A320030412,  AR04,    45,  1,      1,      1,2,20030420,0830, 15.7037, -61.4598, 1083,   1081.6,   5.2533,  34.9018,2,  34.9033,2,    177.6,0,    175.6,2,   5.1598
  35A320030412,  AR04,    46,  1,      3,      3,2,20030420,0948, 15.7462, -61.4767,  675,     15.3,  27.3322,  35.5270,2,  35.5948,3,    204.3,0,    203.9,6,  27.3287
  35A320030412,  AR04,    46,  1,      2,      2,2,20030420,0948, 15.7462, -61.4767,  675,    402.4,  11.0416,  35.2750,2,-999.0000,9,    126.3,0,    203.5,4,  10.9912
  35A320030412,  AR04,    46,  1,      1,      1,2,20030420,0948, 15.7462, -61.4767,  675,    673.4,   7.1204,  34.8416,2,  34.8432,2,    134.1,0,    133.9,2,   7.0547
  35A320030412,  AR04,    47,  1,      2,      2,2,20030420,1048, 15.8003, -61.4968,  470,     12.9,  27.0923,  35.7194,2,  35.7290,2,    204.5,0,    205.1,6,  27.0893
  35A320030412,  AR04,    47,  1,      1,      1,2,20030420,1048, 15.8003, -61.4968,  470,    469.4,   9.8461,  35.0974,2,  35.1382,3,    124.5,0,    123.5,2,   9.7913
  35A320030412,  AR04,    48,  1,      2,      2,2,20030420,1211, 15.9522, -61.5563,  247,     12.7,  27.1889,  35.8082,2,-999.0000,9,    204.6,0,    203.8,2,  27.1860
  35A320030412,  AR04,    48,  1,      1,      1,2,20030420,1211, 15.9522, -61.5563,  247,     13.0,  27.1890,  35.8076,2,  35.8022,2,    204.6,0,    204.3,2,  27.1860
  35A320030412,  AR04,    49,  1,      2,      2,2,20030420,1915, 16.2930, -60.8195,  535,     10.4,  27.2718,  35.4842,2,-999.0000,9,    205.6,0,    208.2,2,  27.2694
  35A320030412,  AR04,    49,  1,      1,      1,2,20030420,1915, 16.2930, -60.8195,  535,    534.1,   9.7964,  35.1067,2,  35.1053,2,    124.8,0,    123.9,2,   9.7341
  35A320030412,  AR04,    50,  1,      4,      4,2,20030420,2022, 16.2900, -60.7532, 1058,     18.5,  27.2242,  35.4843,2,  35.4905,2,    206.9,0,    206.5,2,  27.2199
  35A320030412,  AR04,    50,  1,      3,      3,2,20030420,2022, 16.2900, -60.7532, 1058,    503.3,   9.8241,  35.1085,2,  35.0992,2,    124.7,0,    123.1,6,   9.7653
  35A320030412,  AR04,    50,  1,      2,      2,2,20030420,2022, 16.2900, -60.7532, 1058,    821.0,   6.5505,  34.8457,2,-999.0000,9,    141.2,0,    123.5,4,   6.4731
  35A320030412,  AR04,    50,  1,      1,      1,2,20030420,2022, 16.2900, -60.7532, 1058,   1056.8,   5.6732,  34.9402,2,  34.9379,2,    178.2,0,    176.5,2,   5.5786
  35A320030412,  AR04,    51,  1,      6,      6,2,20030420,2142, 16.2888, -60.6832, 1765,     13.2,  27.3323,  35.6088,2,  35.6225,3,    206.2,0,    206.0,2,  27.3292
  35A320030412,  AR04,    51,  1,      5,      5,2,20030420,2142, 16.2888, -60.6832, 1765,    420.9,  11.4636,  35.3771,2,-999.0000,9,    128.0,0,    124.4,2,  11.4096
  35A320030412,  AR04,    51,  1,      4,      4,2,20030420,2142, 16.2888, -60.6832, 1765,    608.7,   8.5227,  34.9227,2,-999.0000,9,    124.5,0,    123.0,2,   8.4572
  35A320030412,  AR04,    51,  1,      3,      3,2,20030420,2142, 16.2888, -60.6832, 1765,   1174.2,   5.2680,  35.0037,2,  35.0063,2,    207.9,0,    208.6,2,   5.1654
  35A320030412,  AR04,    51,  1,      2,      2,2,20030420,2142, 16.2888, -60.6832, 1765,   1509.0,   4.3893,  35.0021,2,  35.0035,2,    246.4,0,    206.4,4,   4.2638
  35A320030412,  AR04,    51,  1,      1,      1,2,20030420,2142, 16.2888, -60.6832, 1765,   1761.7,   3.8409,  34.9786,2,  34.9819,2,    265.1,0,    263.8,2,   3.6984
  35A320030412,  AR04,    52,  1,      5,      5,2,20030421,0251, 16.2943, -60.6302, 2619,     13.8,  27.2910,  35.5752,2,-999.0000,9,    206.3,0,    206.5,2,  27.2878
  35A320030412,  AR04,    52,  1,      4,      4,2,20030421,0251, 16.2943, -60.6302, 2619,    972.8,   5.8956,  34.9076,2,-999.0000,9,    163.9,0,    164.7,2,   5.8075
  35A320030412,  AR04,    52,  1,      3,      3,2,20030421,0251, 16.2943, -60.6302, 2619,   1397.0,   4.6302,  35.0172,2,  35.0225,2,    240.2,0,    244.2,2,   4.5125
  35A320030412,  AR04,    52,  1,      2,      2,2,20030421,0251, 16.2943, -60.6302, 2619,   1812.9,   3.8422,  34.9762,2,-999.0000,9,    266.5,0,   -999.0,9,   3.6949
  35A320030412,  AR04,    52,  1,      1,      1,2,20030421,0251, 16.2943, -60.6302, 2619,   2477.8,   3.1764,  34.9565,2,  34.9572,2,    267.3,0,    265.5,2,   2.9753
  35A320030412,  AR04,    53,  1,      4,      4,2,20030421,0504, 16.2915, -60.6120, 2955,     20.6,  27.2559,  35.6775,2,-999.0000,9,    206.7,0,    205.6,2,  27.2511
  35A320030412,  AR04,    53,  1,      3,      3,2,20030421,0504, 16.2915, -60.6120, 2955,   2002.5,   3.6526,  34.9692,2,  34.9702,2,    268.5,0,    267.2,2,   3.4900
  35A320030412,  AR04,    53,  1,      2,      2,2,20030421,0504, 16.2915, -60.6120, 2955,   2497.9,   3.2154,  34.9589,2,-999.0000,9,    267.0,0,   -999.0,9,   3.0116
  35A320030412,  AR04,    53,  1,      1,      1,2,20030421,0504, 16.2915, -60.6120, 2955,   2931.5,   2.7935,  34.9329,2,  34.9336,2,    269.0,0,    267.6,2,   2.5542
  35A320030412,  AR04,    54,  1,      7,      7,2,20030421,0735, 16.2952, -60.5760, 3535,     20.3,  27.2791,  35.6419,2,  35.8141,3,    205.4,0,    205.6,2,  27.2744
  35A320030412,  AR04,    54,  1,      6,      6,2,20030421,0735, 16.2952, -60.5760, 3535,    506.1,  10.2482,  35.1906,2,-999.0000,9,    125.4,0,    122.2,6,  10.1875
  35A320030412,  AR04,    54,  1,      5,      5,2,20030421,0735, 16.2952, -60.5760, 3535,   1989.0,   3.6239,  34.9689,2,  34.9685,2,    268.6,0,    266.8,2,   3.4630
  35A320030412,  AR04,    54,  1,      4,      4,2,20030421,0735, 16.2952, -60.5760, 3535,   2539.8,   3.1320,  34.9575,2,  34.9584,2,    264.5,0,    263.3,2,   2.9256
  35A320030412,  AR04,    54,  1,      3,      3,2,20030421,0735, 16.2952, -60.5760, 3535,   2978.3,   2.7773,  34.9321,2,  34.9572,3,    269.1,0,    263.7,2,   2.5336
  35A320030412,  AR04,    54,  1,      2,      2,2,20030421,0735, 16.2952, -60.5760, 3535,   2980.1,   2.7773,  34.9325,2,-999.0000,9,    269.1,0,   -999.0,9,   2.5334
  35A320030412,  AR04,    54,  1,      1,      1,2,20030421,0735, 16.2952, -60.5760, 3535,   3533.7,   2.4580,  34.9075,2,  34.9143,3,    270.9,0,    270.2,2,   2.1629
  35A320030412,  AR04,    55,  1,      7,      7,2,20030421,1035, 16.2938, -60.5450, 4257,    100.8,  26.0985,  36.6623,2,-999.0000,9,    198.2,0,    182.3,3,  26.0758
  35A320030412,  AR04,    55,  1,      6,      6,2,20030421,1035, 16.2938, -60.5450, 4257,    504.3,   9.6402,  35.0493,2,-999.0000,9,    124.3,0,    122.6,6,   9.5820
  35A320030412,  AR04,    55,  1,      5,      5,2,20030421,1035, 16.2938, -60.5450, 4257,    978.9,   5.8604,  34.9084,2,  34.9102,2,    163.5,0,    173.0,2,   5.7720
  35A320030412,  AR04,    55,  1,      4,      4,2,20030421,1035, 16.2938, -60.5450, 4257,   2019.0,   3.6059,  34.9688,2,  34.9691,2,    268.5,0,    266.8,2,   3.4424
  35A320030412,  AR04,    55,  1,      3,      3,2,20030421,1035, 16.2938, -60.5450, 4257,   3018.0,   2.7199,  34.9287,2,  34.9293,2,    269.0,0,    268.9,2,   2.4733
  35A320030412,  AR04,    55,  1,      2,      2,2,20030421,1035, 16.2938, -60.5450, 4257,   3777.6,   2.4000,  34.9050,2,-999.0000,9,    271.7,0,   -999.0,9,   2.0796
  35A320030412,  AR04,    55,  1,      1,      1,2,20030421,1035, 16.2938, -60.5450, 4257,   4256.6,   2.3342,  34.8970,2,  34.8979,2,    270.7,0,    271.6,2,   1.9608
  35A320030412,  AR04,    56,  1,      8,      8,2,20030421,1407, 16.2938, -60.5283, 4777,     21.0,  27.2724,  35.6942,2,-999.0000,9,    205.9,0,    206.5,2,  27.2675
  35A320030412,  AR04,    56,  1,      7,      7,2,20030421,1407, 16.2938, -60.5283, 4777,    494.3,   9.9468,  35.1081,2,-999.0000,9,    123.3,0,   -999.0,9,   9.8887
  35A320030412,  AR04,    56,  1,      6,      6,2,20030421,1407, 16.2938, -60.5283, 4777,   2995.2,   2.7570,  34.9310,2,-999.0000,9,    268.1,0,    267.2,2,   2.5120
  35A320030412,  AR04,    56,  1,      5,      5,2,20030421,1407, 16.2938, -60.5283, 4777,   3470.6,   2.5523,  34.9162,2,  34.9161,2,    270.1,0,    270.2,2,   2.2617
  35A320030412,  AR04,    56,  1,      4,      4,2,20030421,1407, 16.2938, -60.5283, 4777,   4060.9,   2.3545,  34.9003,2,  34.9015,2,    271.6,0,    279.8,3,   2.0033
  35A320030412,  AR04,    56,  1,      3,      3,2,20030421,1407, 16.2938, -60.5283, 4777,   4402.8,   2.3450,  34.8968,2,  34.8983,2,    270.8,0,    269.8,2,   1.9540
  35A320030412,  AR04,    56,  1,      2,      2,2,20030421,1407, 16.2938, -60.5283, 4777,   4729.8,   2.3359,  34.8934,2,-999.0000,9,    269.2,0,    268.9,2,   1.9056
  35A320030412,  AR04,    56,  1,      1,      1,2,20030421,1407, 16.2938, -60.5283, 4777,   4732.5,   2.3333,  34.8929,2,  34.8912,2,    269.2,0,    268.1,2,   1.9028
  35A320030412,  AR04,    57,  1,      8,      8,2,20030421,1740, 16.2982, -60.4340, 4824,     16.4,  27.1573,  35.7022,2,-999.0000,9,    205.6,0,    206.5,2,  27.1535
  35A320030412,  AR04,    57,  1,      7,      7,2,20030421,1740, 16.2982, -60.4340, 4824,    461.1,  10.5415,  35.1596,2,  35.0891,3,    122.2,0,    120.9,2,  10.4854
  35A320030412,  AR04,    57,  1,      6,      6,2,20030421,1740, 16.2982, -60.4340, 4824,   1462.0,   4.3990,  35.0102,2,  35.0073,2,    249.6,0,    251.6,6,   4.2778
  35A320030412,  AR04,    57,  1,      5,      5,2,20030421,1740, 16.2982, -60.4340, 4824,   2803.0,   2.9615,  34.9441,2,  34.9415,2,    267.5,0,    267.6,2,   2.7319
  35A320030412,  AR04,    57,  1,      4,      4,2,20030421,1740, 16.2982, -60.4340, 4824,   3295.9,   2.6058,  34.9201,2,  34.9206,2,    269.8,0,    269.8,2,   2.3327
  35A320030412,  AR04,    57,  1,      3,      3,2,20030421,1740, 16.2982, -60.4340, 4824,   3798.3,   2.3831,  34.9037,2,  34.9035,2,    271.2,0,    272.0,2,   2.0608
  35A320030412,  AR04,    57,  1,      2,      2,2,20030421,1740, 16.2982, -60.4340, 4824,   4498.4,   2.3104,  34.8930,2,  34.8918,2,    269.3,0,    269.8,2,   1.9091
  35A320030412,  AR04,    57,  1,      1,      1,2,20030421,1740, 16.2982, -60.4340, 4824,   4823.0,   2.2984,  34.8883,2,  34.8883,2,    267.1,0,    267.6,2,   1.8578
  35A320030412,  AR04,    58,  1,     10,     10,2,20030421,2215, 16.2942, -60.1842, 5287,    110.3,  25.9850,  37.1467,2,-999.0000,9,    204.9,0,    190.0,3,  25.9602
  35A320030412,  AR04,    58,  1,      9,      9,2,20030421,2215, 16.2942, -60.1842, 5287,    482.7,   9.6732,  35.0541,2,-999.0000,9,    123.5,0,   -999.0,9,   9.6175
  35A320030412,  AR04,    58,  1,      8,      8,2,20030421,2215, 16.2942, -60.1842, 5287,    496.0,   9.5147,  35.0368,2,-999.0000,9,    123.3,0,    121.3,2,   9.4580
  35A320030412,  AR04,    58,  1,      7,      7,2,20030421,2215, 16.2942, -60.1842, 5287,   1000.5,   6.0231,  34.8765,2,-999.0000,9,    149.1,0,    158.2,2,   5.9314
  35A320030412,  AR04,    58,  1,      6,      6,2,20030421,2215, 16.2942, -60.1842, 5287,   2013.2,   3.5822,  34.9675,2,-999.0000,9,    267.8,0,    267.7,2,   3.4196
  35A320030412,  AR04,    58,  1,      5,      5,2,20030421,2215, 16.2942, -60.1842, 5287,   3057.4,   2.7974,  34.9338,2,  34.9299,2,    266.4,0,    265.5,2,   2.5450
  35A320030412,  AR04,    58,  1,      4,      4,2,20030421,2215, 16.2942, -60.1842, 5287,   4056.2,   2.3215,  34.8987,2,  34.8981,2,    270.9,0,    270.7,2,   1.9717
  35A320030412,  AR04,    58,  1,      3,      3,2,20030421,2215, 16.2942, -60.1842, 5287,   4574.5,   2.2784,  34.8897,2,  34.8891,2,    267.6,0,    267.6,2,   1.8689
  35A320030412,  AR04,    58,  1,      2,      2,2,20030421,2215, 16.2942, -60.1842, 5287,   5088.8,   2.1808,  34.8708,2,  34.8704,2,    261.0,0,    260.3,2,   1.7110
  35A320030412,  AR04,    58,  1,      1,      1,2,20030421,2215, 16.2942, -60.1842, 5287,   5285.7,   2.0991,  34.8582,2,  34.8568,2,    256.7,0,    256.3,2,   1.6071
  35A320030412,  AR04,    59,  1,      7,      7,2,20030422,0252, 16.2977, -59.9407, 4975,     15.1,  27.2399,  35.7594,2,-999.0000,9,    205.9,0,    206.9,2,  27.2364
  35A320030412,  AR04,    59,  1,      6,      6,2,20030422,0252, 16.2977, -59.9407, 4975,    904.2,   5.8148,  34.6869,2,  34.7121,3,    132.7,0,    134.8,2,   5.7342
  35A320030412,  AR04,    59,  1,      5,      5,2,20030422,0252, 16.2977, -59.9407, 4975,   1919.2,   3.7597,  34.9722,2,-999.0000,9,    266.6,0,    268.1,2,   3.6035
  35A320030412,  AR04,    59,  1,      4,      4,2,20030422,0252, 16.2977, -59.9407, 4975,   2904.7,   2.8691,  34.9388,2,  34.9379,2,    265.9,0,    266.8,2,   2.6310
  35A320030412,  AR04,    59,  1,      3,      3,2,20030422,0252, 16.2977, -59.9407, 4975,   3560.7,   2.4445,  34.9091,2,  34.9103,2,    268.4,0,    270.2,2,   2.1468
  35A320030412,  AR04,    59,  1,      2,      2,2,20030422,0252, 16.2977, -59.9407, 4975,   4198.0,   2.2852,  34.8945,2,  34.8942,2,    269.1,0,    270.7,2,   1.9201
  35A320030412,  AR04,    59,  1,      1,      1,2,20030422,0252, 16.2977, -59.9407, 4975,   4973.2,   2.1707,  34.8709,2,  34.8710,2,    260.4,0,    261.1,2,   1.7158
  35A320030412,  AR04,    60,  1,      8,      8,2,20030422,0718, 16.2693, -59.6858, 5105,     13.4,  26.8839,  35.9179,2,  35.9671,3,    204.7,0,    206.8,2,  26.8808
  35A320030412,  AR04,    60,  1,      7,      7,2,20030422,0718, 16.2693, -59.6858, 5105,    322.0,  13.4847,  35.6806,2,-999.0000,9,    135.9,0,    135.3,6,  13.4388
  35A320030412,  AR04,    60,  1,      6,      6,2,20030422,0718, 16.2693, -59.6858, 5105,   1914.2,   3.8145,  34.9764,2,  34.9760,2,    265.4,0,    267.2,2,   3.6579
  35A320030412,  AR04,    60,  1,      5,      5,2,20030422,0718, 16.2693, -59.6858, 5105,   2497.0,   3.1700,  34.9579,2,-999.0000,9,    264.7,0,    265.9,2,   2.9671
  35A320030412,  AR04,    60,  1,      4,      4,2,20030422,0718, 16.2693, -59.6858, 5105,   3322.2,   2.5352,  34.9156,2,-999.0000,9,    268.0,0,    269.8,2,   2.2610
  35A320030412,  AR04,    60,  1,      3,      3,2,20030422,0718, 16.2693, -59.6858, 5105,   3769.5,   2.3521,  34.9018,2,  34.9011,2,    269.2,0,    270.2,6,   2.0339
  35A320030412,  AR04,    60,  1,      2,      2,2,20030422,0718, 16.2693, -59.6858, 5105,   4501.4,   2.2586,  34.8884,2,  34.8903,2,    267.0,0,    266.8,2,   1.8585
  35A320030412,  AR04,    60,  1,      1,      1,2,20030422,0718, 16.2693, -59.6858, 5105,   5103.8,   2.0487,  34.8545,2,  34.8568,2,    255.3,0,    255.9,2,   1.5816