BOTTLE,20120807PRINUNIVRMK
EXPOCODE,SECT_ID,STNNBR,CASTNO,SAMPNO,BTLNBR,BTLNBR_FLAG_W,DATE,TIME,LATITUDE,LONGITUDE,DEPTH,CTDPRS,CTDTMP,CTDSAL,CTDSAL_FLAG_W,SALNTY,SALNTY_FLAG_W,CTDOXY,CTDOXY_FLAG_W,OXYGEN,OXYGEN_FLAG_W,THETA
,,,,,,,,,,,METERS,DBAR,ITS-90,PSS-78,,PSS-78,,UMOL/KG,,UMOL/KG,,DEG C
  35A320030412,  AR04,    61,  1,     10,     10,2,20030422,1205, 16.2473, -59.4332, 5177,     13.4,  26.7917,  35.8468,2,-999.0000,9,    205.5,0,    206.0,2,  26.7886
  35A320030412,  AR04,    61,  1,      9,      9,2,20030422,1205, 16.2473, -59.4332, 5177,     95.3,  25.6941,  37.2412,2,-999.0000,9,    212.2,0,    200.5,2,  25.6728
  35A320030412,  AR04,    61,  1,      8,      8,2,20030422,1205, 16.2473, -59.4332, 5177,    488.7,   9.5307,  35.0354,2,-999.0000,9,    121.9,0,    121.3,2,   9.4748
  35A320030412,  AR04,    61,  1,      7,      7,2,20030422,1205, 16.2473, -59.4332, 5177,   1003.0,   5.8120,  34.7675,2,-999.0000,9,    139.4,0,    145.2,2,   5.7218
  35A320030412,  AR04,    61,  1,      6,      6,2,20030422,1205, 16.2473, -59.4332, 5177,   2019.5,   3.6077,  34.9712,2,-999.0000,9,    266.7,0,    267.2,2,   3.4441
  35A320030412,  AR04,    61,  1,      5,      5,2,20030422,1205, 16.2473, -59.4332, 5177,   3041.5,   2.6451,  34.9243,2,  34.9241,2,    266.7,0,    266.8,2,   2.3978
  35A320030412,  AR04,    61,  1,      4,      4,2,20030422,1205, 16.2473, -59.4332, 5177,   3536.6,   2.4011,  34.9070,2,  34.9058,2,    269.8,0,    271.1,2,   2.1072
  35A320030412,  AR04,    61,  1,      3,      3,2,20030422,1205, 16.2473, -59.4332, 5177,   4060.8,   2.2973,  34.8962,2,  34.8950,2,    269.8,0,    270.2,2,   1.9477
  35A320030412,  AR04,    61,  1,      2,      2,2,20030422,1205, 16.2473, -59.4332, 5177,   4575.0,   2.2391,  34.8851,2,  34.8836,2,    265.2,0,    265.5,2,   1.8308
  35A320030412,  AR04,    61,  1,      1,      1,2,20030422,1205, 16.2473, -59.4332, 5177,   5085.1,   2.0393,  34.8535,2,  34.8518,2,    255.9,0,    255.5,2,   1.5749
  35A320030412,  AR04,    62,  1,      8,      8,2,20030422,1632, 16.2323, -59.1853, 5400,      8.0,  26.7169,  35.7670,2,-999.0000,9,    206.7,0,    208.6,2,  26.7151
  35A320030412,  AR04,    62,  1,      7,      7,2,20030422,1632, 16.2323, -59.1853, 5400,    129.3,  23.8928,  37.2761,2,-999.0000,9,    198.0,0,    189.0,2,  23.8654
  35A320030412,  AR04,    62,  1,      6,      6,2,20030422,1632, 16.2323, -59.1853, 5400,    618.1,   7.9466,  34.8003,2,-999.0000,9,    123.4,0,    123.0,6,   7.8828
  35A320030412,  AR04,    62,  1,      5,      5,2,20030422,1632, 16.2323, -59.1853, 5400,   2488.0,   3.0791,  34.9522,2,-999.0000,9,    264.7,0,    266.3,2,   2.8788
  35A320030412,  AR04,    62,  1,      4,      4,2,20030422,1632, 16.2323, -59.1853, 5400,   3296.6,   2.5152,  34.9147,2,-999.0000,9,    268.0,0,    269.4,2,   2.2442
  35A320030412,  AR04,    62,  1,      3,      3,2,20030422,1632, 16.2323, -59.1853, 5400,   3971.2,   2.2971,  34.8967,2,-999.0000,9,    268.5,0,    271.6,2,   1.9577
  35A320030412,  AR04,    62,  1,      2,      2,2,20030422,1632, 16.2323, -59.1853, 5400,   4646.0,   2.1850,  34.8776,2,-999.0000,9,    262.6,0,    263.3,2,   1.7699
  35A320030412,  AR04,    62,  1,      1,      1,2,20030422,1632, 16.2323, -59.1853, 5400,   5398.0,   1.9501,  34.8373,2,-999.0000,9,    250.1,0,    251.6,2,   1.4491
  35A320030412,  AR04,    63,  1,      7,      7,2,20030423,0322, 16.0112, -60.6498, 1332,     18.5,  27.2945,  35.7180,2,-999.0000,9,    205.8,0,   -999.0,9,  27.2902
  35A320030412,  AR04,    63,  1,      6,      6,2,20030423,0322, 16.0112, -60.6498, 1332,     58.6,  26.7787,  36.1781,2,-999.0000,9,    205.3,0,    204.2,2,  26.7653
  35A320030412,  AR04,    63,  1,      5,      5,2,20030423,0322, 16.0112, -60.6498, 1332,    252.0,  17.2576,  36.4084,2,-999.0000,9,    182.4,0,    178.4,2,  17.2151
  35A320030412,  AR04,    63,  1,      4,      4,2,20030423,0322, 16.0112, -60.6498, 1332,    498.4,   9.1918,  34.9992,2,-999.0000,9,    123.4,0,    123.9,2,   9.1360
  35A320030412,  AR04,    63,  1,      3,      3,2,20030423,0322, 16.0112, -60.6498, 1332,    597.8,   8.0231,  34.8470,2,-999.0000,9,    124.6,0,    125.2,2,   7.9611
  35A320030412,  AR04,    63,  1,      2,      2,2,20030423,0322, 16.0112, -60.6498, 1332,    804.6,   6.6035,  34.7356,2,-999.0000,9,    127.0,0,    126.9,2,   6.5275
  35A320030412,  AR04,    63,  1,      1,      1,2,20030423,0322, 16.0112, -60.6498, 1332,   1208.0,   5.0946,  35.0037,2,-999.0000,9,    212.3,0,    216.9,2,   4.9903
  35A320030412,  AR04,    64,  1,      8,      8,2,20030423,0605, 15.7347, -60.6673, 2057,     10.3,  27.3288,  35.7587,2,-999.0000,9,    204.6,0,    205.6,2,  27.3264
  35A320030412,  AR04,    64,  1,      7,      7,2,20030423,0605, 15.7347, -60.6673, 2057,    404.4,  11.7597,  35.4298,2,-999.0000,9,    128.8,0,    127.4,2,  11.7069
  35A320030412,  AR04,    64,  1,      6,      6,2,20030423,0605, 15.7347, -60.6673, 2057,   1041.0,   5.5601,  34.9187,2,-999.0000,9,    172.8,0,    173.0,2,   5.4680
  35A320030412,  AR04,    64,  1,      5,      5,2,20030423,0605, 15.7347, -60.6673, 2057,   1602.3,   4.2303,  34.9943,2,-999.0000,9,    253.1,0,    255.1,2,   4.0979
  35A320030412,  AR04,    64,  1,      2,      4,2,20030423,0605, 15.7347, -60.6673, 2057,   2022.9,   3.6059,  34.9668,2,-999.0000,9,    266.4,0,   -999.0,9,   3.4420
  35A320030412,  AR04,    64,  1,      4,      3,2,20030423,0605, 15.7347, -60.6673, 2057,   2022.9,   3.6061,  34.9672,2,-999.0000,9,    266.4,0,   -999.0,9,   3.4422
  35A320030412,  AR04,    64,  1,      3,      2,2,20030423,0605, 15.7347, -60.6673, 2057,   2023.1,   3.6057,  34.9674,2,-999.0000,9,    266.4,0,   -999.0,9,   3.4418
  35A320030412,  AR04,    64,  1,      1,      1,2,20030423,0605, 15.7347, -60.6673, 2057,   2056.2,   3.5237,  34.9670,2,-999.0000,9,    266.3,0,    267.7,2,   3.3579
  35A320030412,  AR04,    65,  1,      7,      7,2,20030423,0920, 15.4678, -60.6858, 2437,     13.6,  27.4151,  35.6555,2,-999.0000,9,    203.9,0,    205.2,2,  27.4119
  35A320030412,  AR04,    65,  1,      6,      6,2,20030423,0920, 15.4678, -60.6858, 2437,    104.6,  25.2693,  36.6493,2,-999.0000,9,    193.8,0,    177.9,3,  25.2463
  35A320030412,  AR04,    65,  1,      5,      5,2,20030423,0920, 15.4678, -60.6858, 2437,    534.5,   9.7778,  35.1527,2,-999.0000,9,    125.8,0,    125.7,6,   9.7154
  35A320030412,  AR04,    65,  1,      4,      4,2,20030423,0920, 15.4678, -60.6858, 2437,    536.5,   9.6867,  35.1460,2,-999.0000,9,    126.0,0,   -999.0,9,   9.6245
  35A320030412,  AR04,    65,  1,      3,      3,2,20030423,0920, 15.4678, -60.6858, 2437,   1235.3,   4.9890,  35.0142,2,-999.0000,9,    219.9,0,    224.2,2,   4.8831
  35A320030412,  AR04,    65,  1,      2,      2,2,20030423,0920, 15.4678, -60.6858, 2437,   2058.1,   3.5838,  34.9678,2,-999.0000,9,    266.6,0,    267.2,2,   3.4169
  35A320030412,  AR04,    65,  1,      1,      1,2,20030423,0920, 15.4678, -60.6858, 2437,   2435.8,   3.1708,  34.9540,2,-999.0000,9,    265.6,0,    265.9,2,   2.9740
  35A320030412,  AR04,    66,  1,      7,      7,2,20030423,1235, 15.2017, -60.6992, 1968,     37.6,  27.2954,  35.7880,2,-999.0000,9,    207.3,0,    205.6,2,  27.2867
  35A320030412,  AR04,    66,  1,      6,      6,2,20030423,1235, 15.2017, -60.6992, 1968,     96.2,  26.1880,  36.5134,2,-999.0000,9,    202.3,0,   -999.0,9,  26.1663
  35A320030412,  AR04,    66,  1,      5,      5,2,20030423,1235, 15.2017, -60.6992, 1968,    579.5,   8.9792,  35.0176,2,-999.0000,9,    124.7,0,    124.4,6,   8.9149
  35A320030412,  AR04,    66,  1,      4,      4,2,20030423,1235, 15.2017, -60.6992, 1968,   1012.5,   5.5287,  34.8709,2,-999.0000,9,    162.7,0,    167.3,2,   5.4396
  35A320030412,  AR04,    66,  1,      3,      3,2,20030423,1235, 15.2017, -60.6992, 1968,   1423.6,   4.5363,  35.0084,2,-999.0000,9,    240.3,0,    240.3,2,   4.4172
  35A320030412,  AR04,    66,  1,      2,      2,2,20030423,1235, 15.2017, -60.6992, 1968,   1621.7,   4.1851,  34.9898,2,-999.0000,9,    255.3,0,    256.8,2,   4.0514
  35A320030412,  AR04,    66,  1,      1,      1,2,20030423,1235, 15.2017, -60.6992, 1968,   1820.8,   3.8028,  34.9751,2,-999.0000,9,    265.1,0,    265.9,2,   3.6553
  35A320030412,  AR04,    67,  1,      3,      3,2,20030423,1522, 14.9357, -60.7015, 1039,      8.9,  27.3688,  35.5872,2,-999.0000,9,    206.5,0,    206.9,2,  27.3667
  35A320030412,  AR04,    67,  1,      2,      2,2,20030423,1522, 14.9357, -60.7015, 1039,    500.7,  10.1451,  35.1892,2,-999.0000,9,    126.7,0,   -999.0,9,  10.0854
  35A320030412,  AR04,    67,  1,      1,      1,2,20030423,1522, 14.9357, -60.7015, 1039,    804.8,   6.3956,  34.7553,2,-999.0000,9,    134.5,0,    135.2,2,   6.3208
  35A320030412,  AR04,    68,  1,      3,      3,2,20030423,1752, 14.6667, -60.6993,  576,      9.6,  27.3955,  35.9316,2,-999.0000,9,    206.2,0,    209.1,2,  27.3933
  35A320030412,  AR04,    68,  1,      2,      2,2,20030423,1752, 14.6667, -60.6993,  576,    204.5,  19.0757,  36.5023,2,-999.0000,9,    149.0,0,    146.2,2,  19.0388
  35A320030412,  AR04,    68,  1,      1,      1,2,20030423,1752, 14.6667, -60.6993,  576,    575.8,   8.5665,  34.9322,2,-999.0000,9,    124.7,0,    124.8,6,   8.5044
  35A320030412,  AR04,    69,  1,      5,      5,2,20030423,2012, 14.3987, -60.7008, 1409,     14.8,  27.4454,  35.9414,2,-999.0000,9,    206.5,0,    206.4,2,  27.4420
  35A320030412,  AR04,    69,  1,      4,      4,2,20030423,2012, 14.3987, -60.7008, 1409,    368.8,  12.3668,  35.4724,2,-999.0000,9,    128.0,0,    124.4,2,  12.3171
  35A320030412,  AR04,    69,  1,      3,      3,2,20030423,2012, 14.3987, -60.7008, 1409,    669.1,   7.8713,  34.9342,2,-999.0000,9,    127.9,0,    133.0,2,   7.8022
  35A320030412,  AR04,    69,  1,      2,      2,2,20030423,2012, 14.3987, -60.7008, 1409,    835.7,   5.6369,  34.7047,2,-999.0000,9,    138.3,0,    138.2,2,   5.5639
  35A320030412,  AR04,    69,  1,      1,      1,2,20030423,2012, 14.3987, -60.7008, 1409,   1407.8,   4.6126,  35.0116,2,-999.0000,9,    240.0,0,    240.3,2,   4.4941
  35A320030412,  AR04,    70,  1,      3,      3,2,20030423,2255, 14.1348, -60.6998, 1088,     12.1,  27.5472,  35.9185,2,-999.0000,9,    206.3,0,    206.4,6,  27.5444
  35A320030412,  AR04,    70,  1,      2,      2,2,20030423,2255, 14.1348, -60.6998, 1088,    519.6,   8.9044,  34.9195,2,-999.0000,9,    122.4,0,    120.9,2,   8.8473
  35A320030412,  AR04,    70,  1,      1,      1,2,20030423,2255, 14.1348, -60.6998, 1088,   1087.3,   5.0288,  34.9420,2,-999.0000,9,    193.0,0,    192.5,2,   4.9365