BOTTLE,20020809WHPSIObren
EXPOCODE,SECT_ID,STNNBR,CASTNO,SAMPNO,BTLNBR,BTLNBR_FLAG_W,DATE,TIME,LATITUDE,LONGITUDE,DEPTH,CTDPRS,CTDTMP,CTDSAL,CTDSAL_FLAG_W,SALNTY,SALNTY_FLAG_W,CTDOXY,CTDOXY_FLAG_W,OXYGEN,OXYGEN_FLAG_W,SILCAT,SILCAT_FLAG_W,NO2+NO3,NO2+NO3_FLAG_W,PHSPHT,PHSPHT_FLAG_W,CTDRAW,REVTMP,REVPRS,THETA
,,,,,,,,,,,,DBAR,IPTS-68,PSS-78,,PSS-78,,UMOL/KG,,UMOL/KG,,UMOL/KG,,UMOL/KG,,UMOL/KG,,,DEG C,DBAR,IPTS-68
     31MW012_1,  PRS2,     2,  5,     12,     12,2,19891128,1728, 22.7517,-157.9833, 4700,      4.6,  25.0660,  34.9998,2,-999.0000,5,    212.5,1,   -999.0,9,  -999.00,9,  -999.00,9,  -999.00,9,      5,-999.000,  -999.0, 25.0650
     31MW012_1,  PRS2,     2,  5,     11,     11,2,19891128,1728, 22.7517,-157.9833, 4700,     26.6,  25.0700,  35.0100,2,-999.0000,5,    212.5,1,   -999.0,9,  -999.00,9,  -999.00,9,  -999.00,9,     26,-999.000,  -999.0, 25.0642
     31MW012_1,  PRS2,     2,  5,     10,     10,2,19891128,1728, 22.7517,-157.9833, 4700,     47.4,  25.0636,  35.0049,2,  34.9333,3,    212.6,1,   -999.0,9,  -999.00,9,  -999.00,9,  -999.00,9,     46,-999.000,  -999.0, 25.0533
     31MW012_1,  PRS2,     2,  5,      9,      9,2,19891128,1728, 22.7517,-157.9833, 4700,     78.0,  24.3767,  35.0172,2,-999.0000,5,    214.5,1,   -999.0,9,  -999.00,9,  -999.00,9,  -999.00,9,     76,-999.000,  -999.0, 24.3601
     31MW012_1,  PRS2,     2,  5,      8,      8,2,19891128,1728, 22.7517,-157.9833, 4700,    104.0,  22.9920,  35.1453,2,  35.1224,2,    212.9,1,   -999.0,9,  -999.00,9,  -999.00,9,  -999.00,9,    101,-999.000,  -999.0, 22.9707
     31MW012_1,  PRS2,     2,  5,      7,      7,2,19891128,1728, 22.7517,-157.9833, 4700,    129.0,  22.0662,  35.2594,2,-999.0000,5,    210.6,1,   -999.0,9,  -999.00,9,  -999.00,9,  -999.00,9,    126,-999.000,  -999.0, 22.0406
     31MW012_1,  PRS2,     2,  5,      6,      6,2,19891128,1728, 22.7517,-157.9833, 4700,    155.2,  20.4485,  35.1838,2,-999.0000,5,    196.4,1,   -999.0,9,  -999.00,9,  -999.00,9,  -999.00,9,    151,-999.000,  -999.0, 20.4193
     31MW012_1,  PRS2,     2,  5,      5,      5,2,19891128,1728, 22.7517,-157.9833, 4700,    179.9,  19.1444,  35.0755,2,  35.0757,2,    194.0,1,   -999.0,9,  -999.00,9,  -999.00,9,  -999.00,9,    175,-999.000,  -999.0, 19.1121
     31MW012_1,  PRS2,     2,  5,      4,      4,2,19891128,1728, 22.7517,-157.9833, 4700,    254.3,  15.2975,  34.5951,2,  34.6046,2,    201.8,1,   -999.0,9,  -999.00,9,  -999.00,9,  -999.00,9,    247,-999.000,  -999.0, 15.2585
     31MW012_1,  PRS2,     2,  5,      3,      3,2,19891128,1728, 22.7517,-157.9833, 4700,    508.5,   6.6265,  34.0426,2,  34.0400,2,    117.8,1,   -999.0,9,  -999.00,9,  -999.00,9,  -999.00,9,    499,-999.000,  -999.0,  6.5800
     31MW012_1,  PRS2,     2,  5,      2,      2,2,19891128,1728, 22.7517,-157.9833, 4700,    760.8,   4.7122,  34.3243,2,  34.3230,2,     25.5,1,   -999.0,9,  -999.00,9,  -999.00,9,  -999.00,9,    751,-999.000,  -999.0,  4.6521
     31MW012_1,  PRS2,     2,  5,      1,      1,2,19891128,1728, 22.7517,-157.9833, 4700,   1012.1,   3.9892,  34.4830,2,  34.4824,2,     40.1,1,   -999.0,9,  -999.00,9,  -999.00,9,  -999.00,9,   1003,-999.000,  -999.0,  3.9126
     31MW012_1,  PRS2,     2,  6,     13,     13,2,19891128,1948, 22.7567,-157.9817, 4700,      5.8,  25.0727,  35.0197,2,-999.0000,5,    210.3,2,    210.9,2,     1.04,2,     0.01,2,     0.08,2,      6,-999.000,  -999.0, 25.0715
     31MW012_1,  PRS2,     2,  6,     12,     12,2,19891128,1948, 22.7567,-157.9817, 4700,     25.3,  25.0709,  35.0200,2,  34.9348,2,    210.4,2,    210.7,2,     1.23,2,     0.04,2,     0.07,2,     25,-999.000,  -999.0, 25.0654
     31MW012_1,  PRS2,     2,  6,     11,     11,2,19891128,1948, 22.7567,-157.9817, 4700,     45.6,  25.0714,  35.0195,2,  34.9360,2,    210.4,2,    211.9,2,     2.14,2,     0.01,2,     0.07,2,     45,-999.000,  -999.0, 25.0615
     31MW012_1,  PRS2,     2,  6,     10,     10,2,19891128,1948, 22.7567,-157.9817, 4700,     61.6,  25.0586,  35.0177,2,  34.9356,2,    210.5,2,    209.7,2,     0.68,2,     0.01,2,     0.11,2,     61,-999.000,  -999.0, 25.0452
     31MW012_1,  PRS2,     2,  6,      9,      9,2,19891128,1948, 22.7567,-157.9817, 4700,     76.5,  24.9052,  35.0239,2,-999.0000,5,    211.0,2,    210.3,2,     1.23,2,     0.01,2,     0.07,2,     75,-999.000,  -999.0, 24.8887
     31MW012_1,  PRS2,     2,  6,      8,      8,2,19891128,1948, 22.7567,-157.9817, 4700,     86.6,  23.6889,  35.0894,2,  35.0098,2,    213.4,2,    212.6,2,     1.23,2,     0.01,2,     0.08,2,     86,-999.000,  -999.0, 23.6708
     31MW012_1,  PRS2,     2,  6,      7,      7,2,19891128,1948, 22.7567,-157.9817, 4700,     96.3,  23.1498,  35.1647,2,  35.1068,2,    212.6,2,    210.0,2,     1.32,2,     0.06,2,     0.08,2,     94,-999.000,  -999.0, 23.1300
     31MW012_1,  PRS2,     2,  6,      6,      6,2,19891128,1948, 22.7567,-157.9817, 4700,    106.7,  22.8187,  35.2048,2,-999.0000,5,    208.1,2,    209.2,2,     1.04,2,     0.24,2,     0.10,2,    104,-999.000,  -999.0, 22.7970
     31MW012_1,  PRS2,     2,  6,      5,      5,2,19891128,1948, 22.7567,-157.9817, 4700,    119.6,  22.0430,  35.2725,2,  35.2326,2,    207.2,2,    204.0,2,     1.95,2,     0.53,2,     0.11,2,    117,-999.000,  -999.0, 22.0193
     31MW012_1,  PRS2,     2,  6,      4,      4,2,19891128,1948, 22.7567,-157.9817, 4700,    130.6,  21.6276,  35.2753,2,  35.2332,2,    201.8,2,    201.2,2,     1.23,2,     0.67,2,     0.14,2,    126,-999.000,  -999.0, 21.6020
     31MW012_1,  PRS2,     2,  6,      3,      3,2,19891128,1948, 22.7567,-157.9817, 4700,    155.4,  20.3403,  35.2027,2,  35.1719,2,    192.3,2,    201.2,2,     1.95,2,     1.58,2,     0.20,2,    150,-999.000,  -999.0, 20.3112
     31MW012_1,  PRS2,     2,  6,      2,      2,2,19891128,1948, 22.7567,-157.9817, 4700,    181.5,  18.8762,  35.0480,2,  35.0179,2,    194.7,2,    194.5,2,     2.77,2,     2.66,2,     0.26,2,    176,-999.000,  -999.0, 18.8440
     31MW012_1,  PRS2,     2,  6,      1,      1,2,19891128,1948, 22.7567,-157.9817, 4700,    201.3,  17.8859,  34.9115,2,  34.9123,2,    193.5,2,    195.4,2,     3.22,2,     3.20,2,     0.29,2,    195,-999.000,  -999.0, 17.8515
     31MW012_1,  PRS2,     2,  7,     14,     14,2,19891128,2339, 22.7617,-157.9900, 4750,    231.2,  16.3666,  34.7409,2,  34.7351,2,    201.4,2,    201.7,2,     4.32,2,     4.34,2,     0.38,2,    226,-999.000,  -999.0, 16.3295
     31MW012_1,  PRS2,     2,  7,     13,     13,2,19891128,2339, 22.7617,-157.9900, 4750,    256.3,  14.8730,  34.5486,2,  34.5261,2,    201.7,2,    202.0,2,     6.13,2,     6.48,2,     0.53,2,    251,-999.000,  -999.0, 14.8345
     31MW012_1,  PRS2,     2,  7,     12,     12,2,19891128,2339, 22.7617,-157.9900, 4750,    281.2,  13.4099,  34.3829,2,  34.3893,2,    204.7,2,    204.0,2,     7.77,2,     8.16,2,     0.64,2,    275,-999.000,  -999.0, 13.3705
     31MW012_1,  PRS2,     2,  7,     11,     11,2,19891128,2339, 22.7617,-157.9900, 4750,    306.4,  12.1602,  34.2556,2,  34.2555,2,    203.6,2,    202.1,2,    10.86,2,    10.92,2,     0.83,2,    302,-999.000,  -999.0, 12.1200
     31MW012_1,  PRS2,     2,  7,     10,     10,2,19891128,2339, 22.7617,-157.9900, 4750,    331.5,  10.9035,  34.1634,2,  34.1770,2,    198.3,2,    200.2,2,    14.67,2,    13.67,2,     1.00,2,    325,-999.000,  -999.0, 10.8629
     31MW012_1,  PRS2,     2,  7,      9,      9,2,19891128,2339, 22.7617,-157.9900, 4750,    356.6,  10.2275,  34.1250,2,  34.1275,2,    196.6,2,    194.1,2,    18.29,2,    15.91,2,     1.17,2,    350,-999.000,  -999.0, 10.1856
     31MW012_1,  PRS2,     2,  7,      8,      8,2,19891128,2339, 22.7617,-157.9900, 4750,    381.6,   9.6480,  34.1084,2,  34.1158,2,    189.9,2,    190.2,2,    21.02,2,    17.67,2,     1.28,2,    374,-999.000,  -999.0,  9.6048
     31MW012_1,  PRS2,     2,  7,      7,      7,2,19891128,2339, 22.7617,-157.9900, 4750,    409.8,   8.6666,  34.0655,2,  34.0668,2,    169.8,2,    171.0,2,    28.29,2,    21.67,2,     1.58,2,    402,-999.000,  -999.0,  8.6231
     31MW012_1,  PRS2,     2,  7,      6,      6,2,19891128,2339, 22.7617,-157.9900, 4750,    509.4,   6.6993,  34.0352,2,  34.0358,2,    122.2,2,    115.0,2,    51.36,2,    30.49,2,     2.17,2,    501,-999.000,  -999.0,  6.6525
     31MW012_1,  PRS2,     2,  7,      5,      5,2,19891128,2339, 22.7617,-157.9900, 4750,    610.8,   5.5108,  34.1440,2,  34.1428,2,     46.8,2,     47.3,2,    75.87,2,    38.54,2,     2.84,2,    601,-999.000,  -999.0,  5.4596
     31MW012_1,  PRS2,     2,  7,      4,      4,2,19891128,2339, 22.7617,-157.9900, 4750,    709.0,   4.8824,  34.2878,2,  34.2871,2,     26.6,2,     26.4,2,    92.75,2,    41.42,2,     3.07,2,    699,-999.000,  -999.0,  4.8257
     31MW012_1,  PRS2,     2,  7,      3,      3,2,19891128,2339, 22.7617,-157.9900, 4750,    812.1,   4.5210,  34.3773,2,  34.3793,2,     25.5,2,     24.2,2,   101.64,2,    42.12,2,     3.10,2,    802,-999.000,  -999.0,  4.4576
     31MW012_1,  PRS2,     2,  7,      2,      2,2,19891128,2339, 22.7617,-157.9900, 4750,    911.6,   4.2064,  34.4472,2,  34.4452,2,     34.7,2,     32.7,2,   107.27,2,    42.24,2,     3.08,2,    901,-999.000,  -999.0,  4.1366
     31MW012_1,  PRS2,     2,  7,      1,      1,2,19891128,2339, 22.7617,-157.9900, 4750,   1019.4,   3.9395,  34.4890,2,  34.4879,2,     41.7,2,     40.2,2,   112.16,2,    42.12,2,     3.06,2,   1010,-999.000,  -999.0,  3.8627
     31MW012_1,  PRS2,     2,  8,     11,     11,2,19891129,0155, 22.7433,-158.0000, 4750,     11.2,  25.1013,  35.0117,2,-999.0000,5,    212.4,1,   -999.0,9,  -999.00,9,  -999.00,9,  -999.00,9,     11,-999.000,  -999.0, 25.0989
     31MW012_1,  PRS2,     2,  8,     10,     10,2,19891129,0155, 22.7433,-158.0000, 4750,    112.5,  22.2881,  35.2421,2,  35.1960,2,    204.1,1,   -999.0,9,  -999.00,9,  -999.00,9,  -999.00,9,    110,-999.000,  -999.0, 22.2656
     31MW012_1,  PRS2,     2,  8,      9,      9,2,19891129,0155, 22.7433,-158.0000, 4750,    134.7,  21.2865,  35.2640,2,  35.2296,2,    202.4,1,   -999.0,9,  -999.00,9,  -999.00,9,  -999.00,9,    132,-999.000,  -999.0, 21.2605
     31MW012_1,  PRS2,     2,  8,      8,      8,2,19891129,0155, 22.7433,-158.0000, 4750,    154.5,  20.4648,  35.2167,2,  35.1930,2,    194.7,1,   -999.0,9,  -999.00,9,  -999.00,9,  -999.00,9,    151,-999.000,  -999.0, 20.4358
     31MW012_1,  PRS2,     2,  8,      7,      7,2,19891129,0155, 22.7433,-158.0000, 4750,    164.5,  20.2409,  35.2002,2,  35.1740,2,    192.2,1,   -999.0,9,  -999.00,9,  -999.00,9,  -999.00,9,    161,-999.000,  -999.0, 20.2102
     31MW012_1,  PRS2,     2,  8,      6,      6,2,19891129,0155, 22.7433,-158.0000, 4750,    177.3,  19.8417,  35.1609,2,  35.1357,2,    191.5,1,   -999.0,9,  -999.00,9,  -999.00,9,  -999.00,9,    171,-999.000,  -999.0, 19.8091
     31MW012_1,  PRS2,     2,  8,      5,      5,2,19891129,0155, 22.7433,-158.0000, 4750,    196.8,  19.3862,  35.1192,2,  35.0994,2,    193.0,1,   -999.0,9,  -999.00,9,  -999.00,9,  -999.00,9,    190,-999.000,  -999.0, 19.3506
     31MW012_1,  PRS2,     2,  8,      4,      4,2,19891129,0155, 22.7433,-158.0000, 4750,    507.9,   6.6734,  34.0369,2,  34.0376,2,    119.2,1,   -999.0,9,  -999.00,9,  -999.00,9,  -999.00,9,    499,-999.000,  -999.0,  6.6267
     31MW012_1,  PRS2,     2,  8,      3,      3,2,19891129,0155, 22.7433,-158.0000, 4750,    610.4,   5.5156,  34.1421,2,  34.1403,2,     48.2,1,   -999.0,9,  -999.00,9,  -999.00,9,  -999.00,9,    601,-999.000,  -999.0,  5.4644
     31MW012_1,  PRS2,     2,  8,      2,      2,2,19891129,0155, 22.7433,-158.0000, 4750,    710.5,   4.8916,  34.2864,2,  34.2854,2,     26.4,1,   -999.0,9,  -999.00,9,  -999.00,9,  -999.00,9,    700,-999.000,  -999.0,  4.8347
     31MW012_1,  PRS2,     2,  8,      1,      1,2,19891129,0155, 22.7433,-158.0000, 4750,    810.4,   4.5538,  34.3708,2,  34.2856,4,     25.3,1,   -999.0,9,  -999.00,9,  -999.00,9,  -999.00,9,    800,-999.000,  -999.0,  4.4903