BOTTLE,20020809WHPSIObren
#code : jjward hyd_to_exchange.pl 
#original files copied from HTML directory: 20020809
#original HYD file: /whpo/11/HOTS/BOTTLE/hot12/hot12.sea   Fri Aug  9 09:51:27 2002
#original SUM file: /whpo/11/HOTS/BOTTLE/hot12/hot12.sum   Fri Aug  9 13:30:33 2002
EXPOCODE,SECT_ID,STNNBR,CASTNO,SAMPNO,BTLNBR,BTLNBR_FLAG_W,DATE,TIME,LATITUDE,LONGITUDE,DEPTH,CTDPRS,CTDTMP,CTDSAL,CTDSAL_FLAG_W,SALNTY,SALNTY_FLAG_W,CTDOXY,CTDOXY_FLAG_W,OXYGEN,OXYGEN_FLAG_W,SILCAT,SILCAT_FLAG_W,NO2+NO3,NO2+NO3_FLAG_W,PHSPHT,PHSPHT_FLAG_W,CTDRAW,REVTMP,REVPRS,THETA
,,,,,,,,,,,,DBAR,IPTS-68,PSS-78,,PSS-78,,UMOL/KG,,UMOL/KG,,UMOL/KG,,UMOL/KG,,UMOL/KG,,,DEG C,DBAR,IPTS-68
     31MW012_1,  PRS2,     2,  1,     19,     19,2,19891128,0031, 22.7383,-158.0500, 4700,      0.3,  25.2694,  35.0111,2,  34.9474,2,    213.1,1,   -999.0,9,  -999.00,9,  -999.00,9,  -999.00,9,      2,-999.000,  -999.0, 25.2694
     31MW012_1,  PRS2,     2,  1,     18,     18,2,19891128,0031, 22.7383,-158.0500, 4700,      4.4,  25.2695,  35.0169,2,  34.9532,2,    211.7,1,   -999.0,9,  -999.00,9,  -999.00,9,  -999.00,9,      7,-999.000,  -999.0, 25.2685
     31MW012_1,  PRS2,     2,  1,     17,     17,2,19891128,0031, 22.7383,-158.0500, 4700,      8.6,  25.2335,  35.0167,2,  34.9358,2,    208.6,1,   -999.0,9,  -999.00,9,  -999.00,9,  -999.00,9,     11,-999.000,  -999.0, 25.2317
     31MW012_1,  PRS2,     2,  1,     16,     16,2,19891128,0031, 22.7383,-158.0500, 4700,     18.4,  25.1413,  35.0132,2,  34.9426,2,    209.0,1,   -999.0,9,  -999.00,9,  -999.00,9,  -999.00,9,     20,-999.000,  -999.0, 25.1373
     31MW012_1,  PRS2,     2,  1,     15,     15,2,19891128,0031, 22.7383,-158.0500, 4700,     23.4,  25.1375,  35.0118,2,  34.9456,2,    209.2,1,   -999.0,9,  -999.00,9,  -999.00,9,  -999.00,9,     25,-999.000,  -999.0, 25.1324
     31MW012_1,  PRS2,     2,  1,     14,     14,2,19891128,0031, 22.7383,-158.0500, 4700,     28.3,  25.1270,  35.0094,2,  34.9425,2,    209.3,1,   -999.0,9,  -999.00,9,  -999.00,9,  -999.00,9,     30,-999.000,  -999.0, 25.1208
     31MW012_1,  PRS2,     2,  1,     13,     13,2,19891128,0031, 22.7383,-158.0500, 4700,     39.1,  25.1213,  35.0039,2,  34.9424,2,    209.6,1,   -999.0,9,  -999.00,9,  -999.00,9,  -999.00,9,     41,-999.000,  -999.0, 25.1128
     31MW012_1,  PRS2,     2,  1,     12,     12,2,19891128,0031, 22.7383,-158.0500, 4700,     44.4,  25.1207,  35.0009,2,  34.9467,2,    209.9,1,   -999.0,9,  -999.00,9,  -999.00,9,  -999.00,9,     45,-999.000,  -999.0, 25.1110
     31MW012_1,  PRS2,     2,  1,     11,     11,2,19891128,0031, 22.7383,-158.0500, 4700,     49.2,  25.1207,  34.9974,2,  34.9319,2,    210.1,1,   -999.0,9,  -999.00,9,  -999.00,9,  -999.00,9,     50,-999.000,  -999.0, 25.1100
     31MW012_1,  PRS2,     2,  1,     10,     10,2,19891128,0031, 22.7383,-158.0500, 4700,     59.1,  25.1183,  34.9890,2,  34.9423,2,    210.2,1,   -999.0,9,  -999.00,9,  -999.00,9,  -999.00,9,     60,-999.000,  -999.0, 25.1055
     31MW012_1,  PRS2,     2,  1,      9,      9,2,19891128,0031, 22.7383,-158.0500, 4700,     70.1,  24.5190,  35.0660,2,  35.0289,2,    211.5,1,   -999.0,9,  -999.00,9,  -999.00,9,  -999.00,9,     71,-999.000,  -999.0, 24.5040
     31MW012_1,  PRS2,     2,  1,      8,      8,2,19891128,0031, 22.7383,-158.0500, 4700,     75.6,  24.1571,  35.1207,2,  35.1057,2,    215.7,1,   -999.0,9,  -999.00,9,  -999.00,9,  -999.00,9,     77,-999.000,  -999.0, 24.1411
     31MW012_1,  PRS2,     2,  1,      7,      7,2,19891128,0031, 22.7383,-158.0500, 4700,     81.1,  23.9695,  35.1763,2,  35.1526,2,    219.7,1,   -999.0,9,  -999.00,9,  -999.00,9,  -999.00,9,     81,-999.000,  -999.0, 23.9524
     31MW012_1,  PRS2,     2,  1,      6,      6,2,19891128,0031, 22.7383,-158.0500, 4700,     90.7,  23.5978,  35.1982,2,  35.1765,2,    221.9,1,   -999.0,9,  -999.00,9,  -999.00,9,  -999.00,9,     90,-999.000,  -999.0, 23.5789
     31MW012_1,  PRS2,     2,  1,      4,      4,2,19891128,0031, 22.7383,-158.0500, 4700,    103.1,  22.9088,  35.2436,2,  35.2315,2,    216.4,1,   -999.0,9,  -999.00,9,  -999.00,9,  -999.00,9,    102,-999.000,  -999.0, 22.8878
     31MW012_1,  PRS2,     2,  1,      5,      5,2,19891128,0031, 22.7383,-158.0500, 4700,    104.9,  22.8377,  35.2491,2,  35.2409,2,    216.6,1,   -999.0,9,  -999.00,9,  -999.00,9,  -999.00,9,    104,-999.000,  -999.0, 22.8163
     31MW012_1,  PRS2,     2,  1,      3,      3,2,19891128,0031, 22.7383,-158.0500, 4700,    129.1,  21.7976,  35.2877,2,  35.2864,2,    204.3,1,   -999.0,9,  -999.00,9,  -999.00,9,  -999.00,9,    127,-999.000,  -999.0, 21.7723
     31MW012_1,  PRS2,     2,  1,      2,      2,2,19891128,0031, 22.7383,-158.0500, 4700,    154.9,  20.9127,  35.2563,2,  35.2610,2,    188.1,1,   -999.0,9,  -999.00,9,  -999.00,9,  -999.00,9,    151,-999.000,  -999.0, 20.8831
     31MW012_1,  PRS2,     2,  1,      1,      1,2,19891128,0031, 22.7383,-158.0500, 4700,    184.2,  20.0389,  35.1657,2,  35.1701,2,    188.1,1,   -999.0,9,  -999.00,9,  -999.00,9,  -999.00,9,    179,-999.000,  -999.0, 20.0048
     31MW012_1,  PRS2,     2,  2,     23,     23,2,19891128,0322, 22.7450,-158.0283, 4700,    898.9,   4.3056,  34.4265,2,  34.4260,2,     30.0,2,     34.2,2,   105.45,2,    42.12,2,     3.06,2,    898,-999.000,  -999.0,  4.2363
     31MW012_1,  PRS2,     2,  2,     22,     22,2,19891128,0322, 22.7450,-158.0283, 4700,    998.3,   3.9880,  34.4813,2,  34.4823,2,     38.8,2,     38.7,2,   112.16,2,    42.00,2,     3.04,2,    998,-999.000,  -999.0,  3.9126
     31MW012_1,  PRS2,     2,  2,     21,     21,2,19891128,0322, 22.7450,-158.0283, 4700,   1098.2,   3.7131,  34.5088,2,  34.5100,2,     45.4,2,     44.7,2,   117.61,2,    41.88,2,     3.03,2,   1098,-999.000,  -999.0,  3.6316
     31MW012_1,  PRS2,     2,  2,     20,     20,2,19891128,0322, 22.7450,-158.0283, 4700,   1244.8,   3.3326,  34.5386,2,  34.5413,2,     52.6,2,     53.0,2,   124.87,2,    41.53,2,     3.02,2,   1245,-999.000,  -999.0,  3.2424
     31MW012_1,  PRS2,     2,  2,     19,     19,2,19891128,0322, 22.7450,-158.0283, 4700,   1398.0,   2.9940,  34.5631,2,  34.5386,4,     60.5,3,     53.3,4,   125.41,4,    41.65,4,     2.99,4,   1398,-999.000,  -999.0,  2.8946
     31MW012_1,  PRS2,     2,  2,     18,     18,2,19891128,0322, 22.7450,-158.0283, 4700,   1550.8,   2.7077,  34.5815,2,  34.5827,2,     69.9,2,     69.7,2,   138.48,2,    40.93,2,     2.92,2,   1551,-999.000,  -999.0,  2.5990
     31MW012_1,  PRS2,     2,  2,     17,     17,2,19891128,0322, 22.7450,-158.0283, 4700,   1698.2,   2.4669,  34.5968,2,  34.5964,2,     75.0,2,     76.7,2,   143.02,2,    40.58,2,     2.87,2,   1697,-999.000,  -999.0,  2.3491
     31MW012_1,  PRS2,     2,  2,     16,     16,2,19891128,0322, 22.7450,-158.0283, 4700,   1850.9,   2.2804,  34.6098,2,  34.6096,2,     82.1,2,     84.9,2,   145.73,2,    40.23,2,     2.85,2,   1851,-999.000,  -999.0,  2.1524
     31MW012_1,  PRS2,     2,  2,     15,     15,2,19891128,0322, 22.7450,-158.0283, 4700,   1997.3,   2.1079,  34.6209,2,  34.6115,4,     88.5,3,     82.9,4,   146.28,4,    40.23,4,     2.84,4,   1998,-999.000,  -999.0,  1.9701
     31MW012_1,  PRS2,     2,  2,     14,     14,2,19891128,0322, 22.7450,-158.0283, 4700,   2200.2,   1.9374,  34.6342,2,  34.6350,2,     96.0,2,     96.3,2,   154.18,2,    39.47,2,     2.78,2,   2202,-999.000,  -999.0,  1.7849
     31MW012_1,  PRS2,     2,  2,     13,     13,2,19891128,0322, 22.7450,-158.0283, 4700,   2401.9,   1.8083,  34.6452,2,  34.6463,2,    101.0,2,    104.2,2,   156.62,2,    39.06,2,     2.75,2,   2403,-999.000,  -999.0,  1.6403
     31MW012_1,  PRS2,     2,  2,     12,     12,2,19891128,0322, 22.7450,-158.0283, 4700,   2597.7,   1.7012,  34.6551,2,  34.6546,2,    108.6,2,    111.7,2,   161.16,2,    38.59,2,     2.73,2,   2598,-999.000,  -999.0,  1.5176
     31MW012_1,  PRS2,     2,  2,     11,     11,2,19891128,0322, 22.7450,-158.0283, 4700,   2796.5,   1.6256,  34.6625,2,  34.6622,2,    115.2,2,    118.7,2,   159.35,2,    38.23,2,     2.66,2,   2796,-999.000,  -999.0,  1.4253
     31MW012_1,  PRS2,     2,  2,     10,     10,2,19891128,0322, 22.7450,-158.0283, 4700,   2998.6,   1.5594,  34.6701,2,  34.6726,3,    122.7,3,    124.7,2,   157.17,2,    37.65,2,     2.61,2,   2998,-999.000,  -999.0,  1.3414
     31MW012_1,  PRS2,     2,  2,      9,      9,2,19891128,0322, 22.7450,-158.0283, 4700,   3200.2,   1.5162,  34.6749,2,  34.6740,2,    130.1,2,    130.3,2,   156.62,2,    37.29,2,     2.58,2,   3201,-999.000,  -999.0,  1.2796
     31MW012_1,  PRS2,     2,  2,      8,      8,2,19891128,0322, 22.7450,-158.0283, 4700,   3392.1,   1.4904,  34.6790,2,  34.6801,2,    134.7,2,    135.7,2,   155.72,2,    36.93,2,     2.55,2,   3392,-999.000,  -999.0,  1.2354
     31MW012_1,  PRS2,     2,  2,      7,      7,2,19891128,0322, 22.7450,-158.0283, 4700,   3595.0,   1.4675,  34.6831,2,  34.6829,2,    141.3,2,    145.1,2,   152.99,2,    36.58,2,     2.53,2,   3596,-999.000,  -999.0,  1.1924
     31MW012_1,  PRS2,     2,  2,      6,      6,2,19891128,0322, 22.7450,-158.0283, 4700,   3799.5,   1.4576,  34.6859,2,  34.6868,2,    145.8,2,    147.2,2,   152.36,2,    36.29,2,     2.51,2,   3799,-999.000,  -999.0,  1.1613
     31MW012_1,  PRS2,     2,  2,      5,      5,2,19891128,0322, 22.7450,-158.0283, 4700,   3993.2,   1.4567,  34.6879,2,  34.6879,2,    149.2,2,    149.1,2,   150.82,2,    36.11,2,     2.50,2,   3993,-999.000,  -999.0,  1.1397
     31MW012_1,  PRS2,     2,  2,      4,      4,2,19891128,0322, 22.7450,-158.0283, 4700,   4197.3,   1.4661,  34.6890,2,  34.6945,4,    151.5,3,    151.7,2,   148.09,2,    36.00,2,     2.50,2,   4198,-999.000,  -999.0,  1.1263
     31MW012_1,  PRS2,     2,  2,      3,      3,2,19891128,0322, 22.7450,-158.0283, 4700,   4390.6,   1.4794,  34.6899,2,  34.6924,3,    153.8,3,    153.1,2,   148.45,2,    36.00,2,     2.49,2,   4391,-999.000,  -999.0,  1.1175
     31MW012_1,  PRS2,     2,  2,      2,      2,2,19891128,0322, 22.7450,-158.0283, 4700,   4491.9,   1.4880,  34.6903,2,  34.6897,2,    153.6,2,    152.9,2,   147.54,2,    35.88,2,     2.46,2,   4491,-999.000,  -999.0,  1.1142
     31MW012_1,  PRS2,     2,  2,      1,      1,2,19891128,0322, 22.7450,-158.0283, 4700,   4694.5,   1.5079,  34.6906,2,  34.6903,2,    156.4,2,    153.4,2,   147.54,2,    35.76,2,     2.49,2,   4694,-999.000,  -999.0,  1.1099
     31MW012_1,  PRS2,     2,  3,     22,     22,2,19891128,0940, 22.7517,-158.0000, 4750,     30.6,  25.0952,  35.0363,2,  34.9467,3,    211.0,3,    209.7,2,     0.68,2,     0.04,2,     0.08,2,     31,-999.000,  -999.0, 25.0886
     31MW012_1,  PRS2,     2,  3,     21,     21,2,19891128,0940, 22.7517,-158.0000, 4750,     56.4,  25.0893,  35.0245,2,  34.9546,2,    211.3,2,    210.3,2,     0.14,2,     0.01,2,     0.07,2,     56,-999.000,  -999.0, 25.0771
     31MW012_1,  PRS2,     2,  3,     20,     20,2,19891128,0940, 22.7517,-158.0000, 4750,     80.0,  25.0651,  35.0163,2,  34.9571,2,    211.9,2,    210.7,2,     0.50,2,     0.04,2,     0.07,2,     79,-999.000,  -999.0, 25.0478
     31MW012_1,  PRS2,     2,  3,     19,     19,2,19891128,0940, 22.7517,-158.0000, 4750,     99.3,  23.2684,  35.1083,2,  35.0783,2,    212.5,2,    210.3,2,     0.32,2,     0.06,2,     0.10,2,     97,-999.000,  -999.0, 23.2479
     31MW012_1,  PRS2,     2,  3,     18,     18,2,19891128,0940, 22.7517,-158.0000, 4750,    121.6,  22.0189,  35.2607,2,  35.2467,2,    205.6,2,    207.7,2,     0.50,2,     0.41,2,     0.11,2,    120,-999.000,  -999.0, 21.9948
     31MW012_1,  PRS2,     2,  3,     17,     17,2,19891128,0940, 22.7517,-158.0000, 4750,    147.2,  20.5865,  35.1911,2,  35.2014,2,    194.8,2,    205.5,2,     0.86,2,     1.35,2,     0.19,2,    144,-999.000,  -999.0, 20.5587
     31MW012_1,  PRS2,     2,  3,     16,     16,2,19891128,0940, 22.7517,-158.0000, 4750,    166.3,  19.3883,  35.0639,2,-999.0000,5,    191.0,2,   -999.0,5,  -999.00,5,  -999.00,5,  -999.00,5,    162,-999.000,  -999.0, 19.3583
     31MW012_1,  PRS2,     2,  3,     15,     15,2,19891128,0940, 22.7517,-158.0000, 4750,    226.9,  16.0732,  34.6889,2,  34.6957,2,    200.0,2,    204.2,2,     3.77,2,     4.70,2,     0.40,2,    223,-999.000,  -999.0, 16.0372
     31MW012_1,  PRS2,     2,  3,     14,     14,2,19891128,0940, 22.7517,-158.0000, 4750,    299.8,  11.7692,  34.2167,2,  34.2166,2,    200.4,2,    202.0,2,    11.39,2,    11.72,2,     0.88,2,    295,-999.000,  -999.0, 11.7307
     31MW012_1,  PRS2,     2,  3,     13,     13,2,19891128,0940, 22.7517,-158.0000, 4750,    342.7,  10.2072,  34.1307,2,  34.1326,2,    197.5,2,    196.6,2,    17.76,2,    15.91,2,     1.16,2,    337,-999.000,  -999.0, 10.1670
     31MW012_1,  PRS2,     2,  3,     12,     12,2,19891128,0940, 22.7517,-158.0000, 4750,    407.0,   8.5906,  34.0643,2,  34.0669,2,    171.1,2,    169.7,2,    29.56,2,    21.90,2,     1.59,2,    401,-999.000,  -999.0,  8.5477
     31MW012_1,  PRS2,     2,  3,     11,     11,2,19891128,0940, 22.7517,-158.0000, 4750,    437.0,   8.2867,  34.0622,2,  34.0722,2,    162.6,2,    157.0,2,    33.19,2,    23.55,2,     1.69,2,    431,-999.000,  -999.0,  8.2414
     31MW012_1,  PRS2,     2,  3,     10,     10,2,19891128,0940, 22.7517,-158.0000, 4750,    467.1,   7.5212,  34.0424,2,  34.0449,2,    141.6,2,    145.3,2,    40.46,2,    26.38,2,     1.87,2,    460,-999.000,  -999.0,  7.4754
     31MW012_1,  PRS2,     2,  3,      9,      9,2,19891128,0940, 22.7517,-158.0000, 4750,    505.2,   6.8109,  34.0440,2,  34.0467,2,    116.3,2,    112.3,2,    51.36,2,    30.61,2,     2.20,2,    498,-999.000,  -999.0,  6.7640
     31MW012_1,  PRS2,     2,  3,      8,      8,2,19891128,0940, 22.7517,-158.0000, 4750,    569.9,   5.8317,  34.1091,2,  34.1086,2,     57.3,2,     59.6,2,    70.06,2,    36.83,2,     2.70,2,    563,-999.000,  -999.0,  5.7827
     31MW012_1,  PRS2,     2,  3,      7,      7,2,19891128,0940, 22.7517,-158.0000, 4750,    598.9,   5.5680,  34.1294,2,  34.1257,2,     53.9,2,     47.7,2,    74.60,2,    38.02,2,     2.79,2,    591,-999.000,  -999.0,  5.5176
     31MW012_1,  PRS2,     2,  3,      6,      6,2,19891128,0940, 22.7517,-158.0000, 4750,    621.4,   5.4267,  34.1518,2,  34.1484,2,     43.4,2,     41.4,2,    78.59,2,    38.84,2,     2.87,2,    614,-999.000,  -999.0,  5.3749
     31MW012_1,  PRS2,     2,  3,      5,      5,2,19891128,0940, 22.7517,-158.0000, 4750,    689.9,   5.0808,  34.2429,2,  34.2434,2,     30.3,2,     28.7,2,    88.21,2,    40.59,2,     3.00,2,    682,-999.000,  -999.0,  5.0248
     31MW012_1,  PRS2,     2,  3,      4,      4,2,19891128,0940, 22.7517,-158.0000, 4750,    763.1,   4.6827,  34.3282,2,  34.3272,2,     25.3,2,     23.1,2,    97.65,2,    41.83,2,     3.08,2,    755,-999.000,  -999.0,  4.6225
     31MW012_1,  PRS2,     2,  3,      3,      3,2,19891128,0940, 22.7517,-158.0000, 4750,    825.6,   4.4611,  34.3884,2,  34.3874,2,     27.5,2,     27.5,2,    98.19,3,    42.24,2,     3.10,2,    817,-999.000,  -999.0,  4.3969
     31MW012_1,  PRS2,     2,  3,      2,      2,2,19891128,0940, 22.7517,-158.0000, 4750,    905.9,   4.2271,  34.4408,2,  34.4399,2,     32.6,2,     32.3,2,   102.99,3,    42.24,2,     3.08,2,    897,-999.000,  -999.0,  4.1577
     31MW012_1,  PRS2,     2,  3,      1,      1,2,19891128,0940, 22.7517,-158.0000, 4750,   1023.0,   3.9004,  34.4914,2,  34.4916,2,     41.2,2,     42.5,2,   107.63,3,    42.12,2,     3.07,2,   1013,-999.000,  -999.0,  3.8236
     31MW012_1,  PRS2,     2,  4,     13,     13,2,19891128,1420, 22.7500,-157.9950, 4700,     80.1,  25.0592,  35.0160,2,  34.9498,2,    212.3,1,   -999.0,9,  -999.00,9,  -999.00,9,  -999.00,9,     79,-999.000,  -999.0, 25.0418
     31MW012_1,  PRS2,     2,  4,     12,     12,2,19891128,1420, 22.7500,-157.9950, 4700,    101.3,  23.4870,  35.0872,2,  35.0402,2,    216.0,1,   -999.0,9,  -999.00,9,  -999.00,9,  -999.00,9,    100,-999.000,  -999.0, 23.4660
     31MW012_1,  PRS2,     2,  4,     11,     11,2,19891128,1420, 22.7500,-157.9950, 4700,    122.5,  22.7485,  35.1860,2,  35.1503,2,    209.0,1,   -999.0,9,  -999.00,9,  -999.00,9,  -999.00,9,    121,-999.000,  -999.0, 22.7237
     31MW012_1,  PRS2,     2,  4,     10,     10,2,19891128,1420, 22.7500,-157.9950, 4700,    142.4,  21.5348,  35.2515,2,  35.2316,2,    201.7,1,   -999.0,9,  -999.00,9,  -999.00,9,  -999.00,9,    140,-999.000,  -999.0, 21.5071
     31MW012_1,  PRS2,     2,  4,      9,      9,2,19891128,1420, 22.7500,-157.9950, 4700,    163.1,  20.5663,  35.2010,2,-999.0000,5,    196.3,1,   -999.0,9,  -999.00,9,  -999.00,9,  -999.00,9,    160,-999.000,  -999.0, 20.5355
     31MW012_1,  PRS2,     2,  4,      8,      8,2,19891128,1420, 22.7500,-157.9950, 4700,    184.5,  19.0120,  35.0406,2,  35.0402,2,    192.0,1,   -999.0,9,  -999.00,9,  -999.00,9,  -999.00,9,    181,-999.000,  -999.0, 18.9791
     31MW012_1,  PRS2,     2,  4,      7,      7,2,19891128,1420, 22.7500,-157.9950, 4700,    205.6,  18.1814,  34.9430,2,  34.9351,2,    193.3,1,   -999.0,9,  -999.00,9,  -999.00,9,  -999.00,9,    201,-999.000,  -999.0, 18.1458
     31MW012_1,  PRS2,     2,  4,      6,      6,2,19891128,1420, 22.7500,-157.9950, 4700,    256.4,  15.6057,  34.6465,2,  34.6355,2,    202.0,1,   -999.0,9,  -999.00,9,  -999.00,9,  -999.00,9,    251,-999.000,  -999.0, 15.5658
     31MW012_1,  PRS2,     2,  4,      5,      5,2,19891128,1420, 22.7500,-157.9950, 4700,    308.5,  12.9600,  34.3426,2,  34.3341,2,    207.0,1,   -999.0,9,  -999.00,9,  -999.00,9,  -999.00,9,    302,-999.000,  -999.0, 12.9177
     31MW012_1,  PRS2,     2,  4,      4,      4,2,19891128,1420, 22.7500,-157.9950, 4700,    358.0,  10.7753,  34.1642,2,  34.1550,2,    198.3,1,   -999.0,9,  -999.00,9,  -999.00,9,  -999.00,9,    351,-999.000,  -999.0, 10.7318
     31MW012_1,  PRS2,     2,  4,      3,      3,2,19891128,1420, 22.7500,-157.9950, 4700,    407.6,   9.2638,  34.0854,2,  34.0791,2,    183.2,1,   -999.0,9,  -999.00,9,  -999.00,9,  -999.00,9,    399,-999.000,  -999.0,  9.2187
     31MW012_1,  PRS2,     2,  4,      2,      2,2,19891128,1420, 22.7500,-157.9950, 4700,    508.3,   6.9700,  34.0427,2,  34.0323,2,    133.3,1,   -999.0,9,  -999.00,9,  -999.00,9,  -999.00,9,    500,-999.000,  -999.0,  6.9222
     31MW012_1,  PRS2,     2,  4,      1,      1,2,19891128,1420, 22.7500,-157.9950, 4700,    809.7,   4.4696,  34.3968,2,  34.3959,2,     27.7,1,   -999.0,9,  -999.00,9,  -999.00,9,  -999.00,9,    799,-999.000,  -999.0,  4.4067