BOTTLE,20010424WHPSIOKJU
#code : jjward hyd_to_exchange.pl 
#original files copied from HTML directory: 20010420
#original HYD file: pr15_ddhy.txt   Mon Sep 18 11:18:24 2000
#original SUM file: pr15_ddsu.txt   Mon Sep 18 11:18:12 2000
EXPOCODE,SECT_ID,STNNBR,CASTNO,SAMPNO,BTLNBR,BTLNBR_FLAG_W,DATE,TIME,LATITUDE,LONGITUDE,DEPTH,CTDPRS,CTDTMP,CTDSAL,CTDSAL_FLAG_W,SALNTY,SALNTY_FLAG_W,CTDOXY,CTDOXY_FLAG_W,OXYGEN,OXYGEN_FLAG_W
,,,,,,,,,,,,DBAR,ITS-90,PSS-78,,PSS-78,,UMOL/KG,,UMOL/KG,
   33KMGP497_1,  PR15,     1,  1,     12,     12,2,19970608,1328,  8.7000, 167.2700, -999,      9.7,  28.8642,  34.2338,2,  34.2337,2,   -999.0,9,   -999.0,9
   33KMGP497_1,  PR15,     1,  1,     11,     11,2,19970608,1328,  8.7000, 167.2700, -999,    500.2,   7.7708,  34.5635,2,  34.5628,2,   -999.0,9,   -999.0,9
   33KMGP497_1,  PR15,     1,  1,     10,     10,2,19970608,1328,  8.7000, 167.2700, -999,   1000.4,   4.5887,  34.5519,2,  34.5513,2,   -999.0,9,   -999.0,9
   33KMGP497_1,  PR15,     1,  1,      9,      9,2,19970608,1328,  8.7000, 167.2700, -999,   1501.8,   3.0388,  34.5971,2,  34.5931,2,   -999.0,9,   -999.0,9
   33KMGP497_1,  PR15,     1,  1,      8,      8,2,19970608,1328,  8.7000, 167.2700, -999,   1998.3,   2.2379,  34.6346,2,  34.6343,2,   -999.0,9,   -999.0,9
   33KMGP497_1,  PR15,     1,  1,      7,      7,2,19970608,1328,  8.7000, 167.2700, -999,   2500.2,   1.8615,  34.6586,2,  34.6589,2,   -999.0,9,   -999.0,9
   33KMGP497_1,  PR15,     1,  1,      6,      6,2,19970608,1328,  8.7000, 167.2700, -999,   2751.7,   1.7557,  34.6656,2,  34.6472,4,   -999.0,9,   -999.0,9
   33KMGP497_1,  PR15,     1,  1,      5,      5,2,19970608,1328,  8.7000, 167.2700, -999,   3001.2,   1.6664,  34.6714,2,  34.6701,2,   -999.0,9,   -999.0,9
   33KMGP497_1,  PR15,     1,  1,      4,      4,2,19970608,1328,  8.7000, 167.2700, -999,   3248.5,   1.5867,  34.6767,2,  34.6769,2,   -999.0,9,   -999.0,9
   33KMGP497_1,  PR15,     1,  1,      3,      3,2,19970608,1328,  8.7000, 167.2700, -999,   3499.5,   1.5019,  34.6828,2,  34.6829,2,   -999.0,9,   -999.0,9
   33KMGP497_1,  PR15,     1,  1,      2,      2,2,19970608,1328,  8.7000, 167.2700, -999,   3750.2,   1.4378,  34.6882,2,  34.6917,4,   -999.0,9,   -999.0,9
   33KMGP497_1,  PR15,     1,  1,      1,      1,2,19970608,1328,  8.7000, 167.2700, -999,   4001.6,   1.3982,  34.6927,2,  34.6926,2,   -999.0,9,   -999.0,9
   33KMGP497_1,  PR15,     2,  1,     11,     11,2,19970609,1014,  7.9700, 164.9800, 5183,     75.3,  24.5641,  34.6933,2,  34.6966,2,   -999.0,9,   -999.0,9
   33KMGP497_1,  PR15,     2,  1,     10,     10,2,19970609,1014,  7.9700, 164.9800, 5183,    150.0,  13.8301,  34.5414,2,  34.5423,2,   -999.0,9,   -999.0,9
   33KMGP497_1,  PR15,     2,  1,      9,      9,2,19970609,1014,  7.9700, 164.9800, 5183,    300.1,   9.2502,  34.6023,2,  34.6028,2,   -999.0,9,   -999.0,9
   33KMGP497_1,  PR15,     2,  1,      8,      8,2,19970609,1014,  7.9700, 164.9800, 5183,    500.7,   7.4851,  34.5665,2,  34.5658,2,   -999.0,9,   -999.0,9
   33KMGP497_1,  PR15,     2,  1,      6,      6,2,19970609,1014,  7.9700, 164.9800, 5183,   1000.3,   4.4500,  34.5567,2,  34.5571,2,   -999.0,9,   -999.0,9
   33KMGP497_1,  PR15,     2,  1,      7,      7,2,19970609,1014,  7.9700, 164.9800, 5183,   1000.8,   4.4487,  34.5568,2,  34.5570,2,   -999.0,9,   -999.0,9
   33KMGP497_1,  PR15,     2,  1,      5,      5,2,19970609,1014,  7.9700, 164.9800, 5183,   1501.8,   3.0677,  34.5985,2,  34.5984,2,   -999.0,9,   -999.0,9
   33KMGP497_1,  PR15,     2,  1,      4,      4,2,19970609,1014,  7.9700, 164.9800, 5183,   2000.6,   2.2504,  34.6342,2,  34.6352,2,   -999.0,9,   -999.0,9
   33KMGP497_1,  PR15,     2,  1,      3,      3,2,19970609,1014,  7.9700, 164.9800, 5183,   2500.2,   1.8775,  34.6586,2,  34.6641,4,   -999.0,9,   -999.0,9
   33KMGP497_1,  PR15,     2,  1,      1,      1,2,19970609,1014,  7.9700, 164.9800, 5183,   3004.1,   1.6780,  34.6705,2,  34.6713,2,   -999.0,9,   -999.0,9
   33KMGP497_1,  PR15,     2,  2,      6,      6,2,19970609,2342,  7.9900, 165.0700, 5210,      9.3,  28.9499,  34.1717,2,  34.1717,2,   -999.0,9,   -999.0,9
   33KMGP497_1,  PR15,     2,  2,      5,      5,2,19970609,2342,  7.9900, 165.0700, 5210,    199.8,  10.5974,  34.5194,2,  34.5191,2,   -999.0,9,   -999.0,9
   33KMGP497_1,  PR15,     2,  2,      4,      4,2,19970609,2342,  7.9900, 165.0700, 5210,    600.5,   6.7165,  34.5459,2,  34.5452,2,   -999.0,9,   -999.0,9
   33KMGP497_1,  PR15,     2,  2,      1,      1,2,19970609,2342,  7.9900, 165.0700, 5210,   1005.3,   4.4817,  34.5558,2,  34.5573,2,   -999.0,9,   -999.0,9
   33KMGP497_1,  PR15,     2,  2,      2,      2,2,19970609,2342,  7.9900, 165.0700, 5210,   1005.7,   4.4807,  34.5557,2,  34.5571,2,   -999.0,9,   -999.0,9
   33KMGP497_1,  PR15,     3,  1,      6,      6,2,19970610,0525,  7.0000, 165.0000, 5121,     10.6,  28.8868,  34.1697,2,  34.1700,2,   -999.0,9,   -999.0,9
   33KMGP497_1,  PR15,     3,  1,      5,      5,2,19970610,0525,  7.0000, 165.0000, 5121,    201.4,  10.9852,  34.5461,2,  34.5454,2,   -999.0,9,   -999.0,9
   33KMGP497_1,  PR15,     3,  1,      4,      4,2,19970610,0525,  7.0000, 165.0000, 5121,    602.3,   6.7278,  34.5528,2,  34.5508,2,   -999.0,9,   -999.0,9
   33KMGP497_1,  PR15,     3,  1,      3,      3,2,19970610,0525,  7.0000, 165.0000, 5121,    799.2,   5.3972,  34.5444,2,  34.5446,2,   -999.0,9,   -999.0,9
   33KMGP497_1,  PR15,     3,  1,      2,      2,2,19970610,0525,  7.0000, 165.0000, 5121,   1002.0,   4.4102,  34.5581,2,  34.5578,2,   -999.0,9,   -999.0,9
   33KMGP497_1,  PR15,     3,  1,      1,      1,2,19970610,0525,  7.0000, 165.0000, 5121,   1002.6,   4.4058,  34.5583,2,  34.5576,2,   -999.0,9,   -999.0,9
   33KMGP497_1,  PR15,     4,  1,      7,      7,2,19970610,1153,  6.0000, 165.0000, 4998,     10.5,  28.6381,  34.2519,2,  34.2517,2,   -999.0,9,   -999.0,9
   33KMGP497_1,  PR15,     4,  1,      6,      6,2,19970610,1153,  6.0000, 165.0000, 4998,    202.6,  11.5518,  34.5573,2,  34.5577,2,   -999.0,9,   -999.0,9
   33KMGP497_1,  PR15,     4,  1,      4,      4,2,19970610,1153,  6.0000, 165.0000, 4998,    602.5,   6.9585,  34.5602,2,  34.5589,2,   -999.0,9,   -999.0,9
   33KMGP497_1,  PR15,     4,  1,      3,      3,2,19970610,1153,  6.0000, 165.0000, 4998,    801.9,   5.4081,  34.5438,2,  34.5432,2,   -999.0,9,   -999.0,9
   33KMGP497_1,  PR15,     4,  1,      1,      1,2,19970610,1153,  6.0000, 165.0000, 4998,   1000.5,   4.3975,  34.5584,2,  34.5599,2,   -999.0,9,   -999.0,9
   33KMGP497_1,  PR15,     4,  1,      2,      2,2,19970610,1153,  6.0000, 165.0000, 4998,   1000.8,   4.3966,  34.5584,2,  34.5597,2,   -999.0,9,   -999.0,9
   33KMGP497_1,  PR15,     5,  1,      6,      6,2,19970611,0401,  5.0400, 165.0400, 4786,      9.0,  28.7566,  34.3086,2,  34.3091,2,   -999.0,9,   -999.0,9
   33KMGP497_1,  PR15,     5,  1,      5,      5,2,19970611,0401,  5.0400, 165.0400, 4786,    200.0,  11.6188,  34.5469,2,  34.5425,2,   -999.0,9,   -999.0,9
   33KMGP497_1,  PR15,     5,  1,      4,      4,2,19970611,0401,  5.0400, 165.0400, 4786,    600.4,   6.9094,  34.5637,2,  34.5642,2,   -999.0,9,   -999.0,9
   33KMGP497_1,  PR15,     5,  1,      3,      3,2,19970611,0401,  5.0400, 165.0400, 4786,    797.8,   5.5827,  34.5425,2,  34.5425,2,   -999.0,9,   -999.0,9
   33KMGP497_1,  PR15,     5,  1,      1,      1,2,19970611,0401,  5.0400, 165.0400, 4786,   1004.1,   4.4350,  34.5583,2,  34.5585,2,   -999.0,9,   -999.0,9
   33KMGP497_1,  PR15,     5,  1,      2,      2,2,19970611,0401,  5.0400, 165.0400, 4786,   1004.1,   4.4349,  34.5583,2,  34.5584,2,   -999.0,9,   -999.0,9
   33KMGP497_1,  PR15,     6,  1,      6,      6,2,19970612,0852,  1.5800, 162.8900, 4254,     10.6,  29.1116,  34.5547,2,  34.5534,2,   -999.0,9,   -999.0,9
   33KMGP497_1,  PR15,     6,  1,      5,      5,2,19970612,0852,  1.5800, 162.8900, 4254,    200.6,  12.8541,  34.9324,2,  34.9295,2,   -999.0,9,   -999.0,9
   33KMGP497_1,  PR15,     6,  1,      4,      4,2,19970612,0852,  1.5800, 162.8900, 4254,    600.7,   6.7364,  34.5624,2,  34.5613,2,   -999.0,9,   -999.0,9
   33KMGP497_1,  PR15,     6,  1,      3,      3,2,19970612,0852,  1.5800, 162.8900, 4254,    800.9,   5.6812,  34.5389,2,  34.5387,2,   -999.0,9,   -999.0,9
   33KMGP497_1,  PR15,     6,  1,      1,      1,2,19970612,0852,  1.5800, 162.8900, 4254,   1001.1,   4.3161,  34.5593,2,  34.5585,2,   -999.0,9,   -999.0,9
   33KMGP497_1,  PR15,     6,  1,      2,      2,2,19970612,0852,  1.5800, 162.8900, 4254,   1001.2,   4.3164,  34.5593,2,  34.5594,2,   -999.0,9,   -999.0,9
   33KMGP497_1,  PR15,     7,  1,      6,      6,2,19970612,1458,  1.0000, 163.6500, 4295,     10.3,  29.1385,  34.6180,2,  34.6168,2,   -999.0,9,   -999.0,9
   33KMGP497_1,  PR15,     7,  1,      5,      5,2,19970612,1458,  1.0000, 163.6500, 4295,    200.8,  13.2395,  34.6784,2,  34.6810,2,   -999.0,9,   -999.0,9
   33KMGP497_1,  PR15,     7,  1,      4,      4,2,19970612,1458,  1.0000, 163.6500, 4295,    601.2,   6.8084,  34.5628,2,  34.5619,2,   -999.0,9,   -999.0,9
   33KMGP497_1,  PR15,     7,  1,      3,      3,2,19970612,1458,  1.0000, 163.6500, 4295,    802.1,   5.5732,  34.5406,2,  34.5400,2,   -999.0,9,   -999.0,9
   33KMGP497_1,  PR15,     7,  1,      2,      2,2,19970612,1458,  1.0000, 163.6500, 4295,   1005.6,   4.5032,  34.5537,2,  34.5520,2,   -999.0,9,   -999.0,9
   33KMGP497_1,  PR15,     7,  1,      1,      1,2,19970612,1458,  1.0000, 163.6500, 4295,   1005.8,   4.5027,  34.5537,2,  34.5541,2,   -999.0,9,   -999.0,9
   33KMGP497_1,  PR15,     8,  1,     12,     12,2,19970613,1008,  0.0100, 165.2600, 4387,      9.7,  29.1706,  34.5286,2,  34.5265,2,   -999.0,9,   -999.0,9
   33KMGP497_1,  PR15,     8,  1,     11,     11,2,19970613,1008,  0.0100, 165.2600, 4387,     75.9,  29.1587,  34.5709,2,  34.5716,2,   -999.0,9,   -999.0,9
   33KMGP497_1,  PR15,     8,  1,     10,     10,2,19970613,1008,  0.0100, 165.2600, 4387,    151.1,  19.5182,  35.3187,2,  35.3195,2,   -999.0,9,   -999.0,9
   33KMGP497_1,  PR15,     8,  1,      9,      9,2,19970613,1008,  0.0100, 165.2600, 4387,    300.4,  11.4952,  34.8304,2,  34.8330,2,   -999.0,9,   -999.0,9
   33KMGP497_1,  PR15,     8,  1,      8,      8,2,19970613,1008,  0.0100, 165.2600, 4387,    501.1,   7.8020,  34.5940,2,  34.5927,2,   -999.0,9,   -999.0,9
   33KMGP497_1,  PR15,     8,  1,      7,      7,2,19970613,1008,  0.0100, 165.2600, 4387,   1001.0,   4.4998,  34.5554,2,  34.5541,2,   -999.0,9,   -999.0,9
   33KMGP497_1,  PR15,     8,  1,      6,      6,2,19970613,1008,  0.0100, 165.2600, 4387,   1500.1,   3.0716,  34.5998,2,  34.5989,2,   -999.0,9,   -999.0,9
   33KMGP497_1,  PR15,     8,  1,      5,      5,2,19970613,1008,  0.0100, 165.2600, 4387,   2001.4,   2.2482,  34.6384,2,  34.6375,2,   -999.0,9,   -999.0,9
   33KMGP497_1,  PR15,     8,  1,      4,      4,2,19970613,1008,  0.0100, 165.2600, 4387,   2500.0,   1.8522,  34.6614,2,  34.6617,2,   -999.0,9,   -999.0,9
   33KMGP497_1,  PR15,     8,  1,      1,      1,2,19970613,1008,  0.0100, 165.2600, 4387,   3001.6,   1.6305,  34.6733,2,  34.6728,2,   -999.0,9,   -999.0,9
   33KMGP497_1,  PR15,     8,  1,      2,      2,2,19970613,1008,  0.0100, 165.2600, 4387,   3002.1,   1.6299,  34.6734,2,  34.6728,2,   -999.0,9,   -999.0,9
   33KMGP497_1,  PR15,     8,  1,      3,      3,2,19970613,1008,  0.0100, 165.2600, 4387,   3002.3,   1.6303,  34.6733,2,  34.6726,2,   -999.0,9,   -999.0,9
   33KMGP497_1,  PR15,     9,  1,      6,      6,2,19970614,0122,  0.0100, 165.0100, 4387,      9.9,  29.1596,  34.5388,2,  34.5402,2,   -999.0,9,   -999.0,9
   33KMGP497_1,  PR15,     9,  1,      5,      5,2,19970614,0122,  0.0100, 165.0100, 4387,    199.8,  17.3190,  35.3009,2,  35.2939,2,   -999.0,9,   -999.0,9
   33KMGP497_1,  PR15,     9,  1,      4,      4,2,19970614,0122,  0.0100, 165.0100, 4387,    601.5,   7.1736,  34.5736,2,  34.5736,2,   -999.0,9,   -999.0,9
   33KMGP497_1,  PR15,     9,  1,      3,      3,2,19970614,0122,  0.0100, 165.0100, 4387,    800.2,   5.7164,  34.5417,2,  34.5427,2,   -999.0,9,   -999.0,9
   33KMGP497_1,  PR15,     9,  1,      1,      1,2,19970614,0122,  0.0100, 165.0100, 4387,   1001.6,   4.6175,  34.5505,2,  34.5523,2,   -999.0,9,   -999.0,9
   33KMGP497_1,  PR15,     9,  1,      2,      2,2,19970614,0122,  0.0100, 165.0100, 4387,   1002.1,   4.6177,  34.5506,2,  34.5520,2,   -999.0,9,   -999.0,9
   33KMGP497_1,  PR15,    10,  1,      6,      6,2,19970614,0540, -0.5000, 165.0100, 4417,      9.5,  29.2096,  34.4659,2,  34.4670,2,   -999.0,9,   -999.0,9
   33KMGP497_1,  PR15,    10,  1,      5,      5,2,19970614,0540, -0.5000, 165.0100, 4417,    200.0,  15.5556,  35.1658,2,  33.1967,4,   -999.0,9,   -999.0,9
   33KMGP497_1,  PR15,    10,  1,      4,      4,2,19970614,0540, -0.5000, 165.0100, 4417,    600.2,   7.0963,  34.5733,2,  34.5737,2,   -999.0,9,   -999.0,9
   33KMGP497_1,  PR15,    10,  1,      3,      3,2,19970614,0540, -0.5000, 165.0100, 4417,    800.4,   5.6259,  34.5399,2,  34.5403,2,   -999.0,9,   -999.0,9
   33KMGP497_1,  PR15,    10,  1,      1,      1,2,19970614,0540, -0.5000, 165.0100, 4417,   1004.2,   4.6006,  34.5507,2,  34.5511,2,   -999.0,9,   -999.0,9
   33KMGP497_1,  PR15,    10,  1,      2,      2,2,19970614,0540, -0.5000, 165.0100, 4417,   1006.0,   4.6007,  34.5506,2,  34.5519,2,   -999.0,9,   -999.0,9
   33KMGP497_1,  PR15,    11,  1,      5,      5,2,19970614,1016, -1.0000, 164.7800, 4387,    198.6,  16.2376,  35.2790,2,  33.3158,4,   -999.0,9,   -999.0,9
   33KMGP497_1,  PR15,    11,  1,      4,      4,2,19970614,1016, -1.0000, 164.7800, 4387,    600.3,   6.8455,  34.5644,2,  34.5641,2,   -999.0,9,   -999.0,9
   33KMGP497_1,  PR15,    11,  1,      3,      3,2,19970614,1016, -1.0000, 164.7800, 4387,    800.5,   5.8204,  34.5312,2,  34.5319,2,   -999.0,9,   -999.0,9
   33KMGP497_1,  PR15,    11,  1,      1,      1,2,19970614,1016, -1.0000, 164.7800, 4387,   1001.5,   4.5679,  34.5446,2,  34.5490,2,   -999.0,9,   -999.0,9
   33KMGP497_1,  PR15,    11,  1,      2,      2,2,19970614,1016, -1.0000, 164.7800, 4387,   1002.5,   4.5661,  34.5451,2,  34.5465,2,   -999.0,9,   -999.0,9
   33KMGP497_1,  PR15,    12,  1,      6,      6,2,19970615,0205, -1.5000, 164.4200, 4306,      8.7,  29.3108,  34.7568,2,  34.7558,2,   -999.0,9,   -999.0,9
   33KMGP497_1,  PR15,    12,  1,      5,      5,2,19970615,0205, -1.5000, 164.4200, 4306,    200.1,  15.0997,  35.2178,2,  35.2399,2,   -999.0,9,   -999.0,9
   33KMGP497_1,  PR15,    12,  1,      4,      4,2,19970615,0205, -1.5000, 164.4200, 4306,    601.2,   6.9525,  34.5682,2,  34.5676,2,   -999.0,9,   -999.0,9
   33KMGP497_1,  PR15,    12,  1,      3,      3,2,19970615,0205, -1.5000, 164.4200, 4306,    800.6,   5.6565,  34.5217,2,  34.5228,2,   -999.0,9,   -999.0,9
   33KMGP497_1,  PR15,    12,  1,      1,      1,2,19970615,0205, -1.5000, 164.4200, 4306,   1001.2,   4.2698,  34.5512,2,  34.5601,2,   -999.0,9,   -999.0,9
   33KMGP497_1,  PR15,    12,  1,      2,      2,2,19970615,0205, -1.5000, 164.4200, 4306,   1001.3,   4.2692,  34.5514,2,  34.5527,2,   -999.0,9,   -999.0,9
   33KMGP497_1,  PR15,    13,  1,      6,      6,2,19970615,0402, -1.9100, 164.4200, 4437,      8.8,  29.3387,  34.7705,2,  34.7700,2,   -999.0,9,   -999.0,9
   33KMGP497_1,  PR15,    13,  1,      5,      5,2,19970615,0402, -1.9100, 164.4200, 4437,    201.8,  16.4044,  35.3450,2,  35.3597,2,   -999.0,9,   -999.0,9
   33KMGP497_1,  PR15,    13,  1,      4,      4,2,19970615,0402, -1.9100, 164.4200, 4437,    599.8,   6.9219,  34.5676,2,  34.5662,2,   -999.0,9,   -999.0,9
   33KMGP497_1,  PR15,    13,  1,      3,      3,2,19970615,0402, -1.9100, 164.4200, 4437,    800.4,   5.6035,  34.5412,2,  34.5406,2,   -999.0,9,   -999.0,9
   33KMGP497_1,  PR15,    13,  1,      1,      1,2,19970615,0402, -1.9100, 164.4200, 4437,   1003.9,   4.4438,  34.5500,2,  34.5506,2,   -999.0,9,   -999.0,9
   33KMGP497_1,  PR15,    13,  1,      2,      2,2,19970615,0402, -1.9100, 164.4200, 4437,   1004.0,   4.4424,  34.5499,2,  34.5506,2,   -999.0,9,   -999.0,9
   33KMGP497_1,  PR15,    14,  1,      6,      6,2,19970615,1144, -3.0000, 164.6400, 4203,      9.9,  29.1624,  34.8066,2,  34.8101,2,   -999.0,9,   -999.0,9
   33KMGP497_1,  PR15,    14,  1,      5,      5,2,19970615,1144, -3.0000, 164.6400, 4203,    201.0,  17.3474,  35.4363,2,  35.4353,2,   -999.0,9,   -999.0,9
   33KMGP497_1,  PR15,    14,  1,      4,      4,2,19970615,1144, -3.0000, 164.6400, 4203,    601.3,   6.9549,  34.5598,2,  34.5589,2,   -999.0,9,   -999.0,9
   33KMGP497_1,  PR15,    14,  1,      3,      3,2,19970615,1144, -3.0000, 164.6400, 4203,    800.8,   5.3358,  34.5367,2,  34.5359,2,   -999.0,9,   -999.0,9
   33KMGP497_1,  PR15,    14,  1,      1,      1,2,19970615,1144, -3.0000, 164.6400, 4203,   1000.2,   4.4669,  34.5477,2,  34.5469,2,   -999.0,9,   -999.0,9
   33KMGP497_1,  PR15,    14,  1,      2,      2,2,19970615,1144, -3.0000, 164.6400, 4203,   1000.6,   4.4663,  34.5478,2,  34.5478,2,   -999.0,9,   -999.0,9
   33KMGP497_1,  PR15,    15,  1,      6,      6,2,19970615,1902, -4.0000, 164.9200, 3807,     10.5,  29.1761,  34.8548,2,  34.8546,2,   -999.0,9,   -999.0,9
   33KMGP497_1,  PR15,    15,  1,      5,      5,2,19970615,1902, -4.0000, 164.9200, 3807,    199.5,  16.6777,  35.3807,2,  33.4072,4,   -999.0,9,   -999.0,9
   33KMGP497_1,  PR15,    15,  1,      4,      4,2,19970615,1902, -4.0000, 164.9200, 3807,    600.3,   6.9134,  34.5730,2,  34.5722,2,   -999.0,9,   -999.0,9
   33KMGP497_1,  PR15,    15,  1,      3,      3,2,19970615,1902, -4.0000, 164.9200, 3807,    797.1,   5.0872,  34.5315,2,  34.5314,2,   -999.0,9,   -999.0,9
   33KMGP497_1,  PR15,    15,  1,      2,      2,2,19970615,1902, -4.0000, 164.9200, 3807,   1002.3,   4.3582,  34.5493,2,  34.5498,2,   -999.0,9,   -999.0,9
   33KMGP497_1,  PR15,    15,  1,      1,      1,2,19970615,1902, -4.0000, 164.9200, 3807,   1002.7,   4.3593,  34.5489,2,  34.5490,2,   -999.0,9,   -999.0,9
   33KMGP497_1,  PR15,    16,  1,      6,      6,2,19970616,0230, -4.9700, 165.2000, 2539,      9.5,  29.2099,  34.6310,2,  34.6315,2,   -999.0,9,   -999.0,9
   33KMGP497_1,  PR15,    16,  1,      5,      5,2,19970616,0230, -4.9700, 165.2000, 2539,    200.7,  17.5214,  35.4773,2,  35.4744,2,   -999.0,9,   -999.0,9
   33KMGP497_1,  PR15,    16,  1,      4,      4,2,19970616,0230, -4.9700, 165.2000, 2539,    600.8,   6.9989,  34.5574,2,  34.5561,2,   -999.0,9,   -999.0,9
   33KMGP497_1,  PR15,    16,  1,      3,      3,2,19970616,0230, -4.9700, 165.2000, 2539,    799.2,   5.3641,  34.5176,2,  34.5177,2,   -999.0,9,   -999.0,9
   33KMGP497_1,  PR15,    16,  1,      2,      2,2,19970616,0230, -4.9700, 165.2000, 2539,   1003.0,   4.2850,  34.5377,2,  34.5382,2,   -999.0,9,   -999.0,9
   33KMGP497_1,  PR15,    16,  1,      1,      1,2,19970616,0230, -4.9700, 165.2000, 2539,   1003.8,   4.2830,  34.5376,2,  34.5379,2,   -999.0,9,   -999.0,9
   33KMGP497_1,  PR15,    17,  1,      6,      6,2,19970617,0348, -8.0200, 164.8400, 3899,     10.3,  28.9369,  34.7243,2,  34.7241,2,   -999.0,9,   -999.0,9
   33KMGP497_1,  PR15,    17,  1,      5,      5,2,19970617,0348, -8.0200, 164.8400, 3899,    201.6,  21.1479,  35.8449,2,  33.8735,4,   -999.0,9,   -999.0,9
   33KMGP497_1,  PR15,    17,  1,      4,      4,2,19970617,0348, -8.0200, 164.8400, 3899,    601.0,   6.9846,  34.5534,2,  34.5540,2,   -999.0,9,   -999.0,9
   33KMGP497_1,  PR15,    17,  1,      3,      3,2,19970617,0348, -8.0200, 164.8400, 3899,    798.5,   5.2778,  34.5107,2,  34.5108,2,   -999.0,9,   -999.0,9
   33KMGP497_1,  PR15,    17,  1,      1,      1,2,19970617,0348, -8.0200, 164.8400, 3899,   1003.7,   4.4095,  34.5294,2,  34.5297,2,   -999.0,9,   -999.0,9
   33KMGP497_1,  PR15,    17,  1,      2,      2,2,19970617,0348, -8.0200, 164.8400, 3899,   1004.0,   4.4077,  34.5294,2,  34.5303,2,   -999.0,9,   -999.0,9