BOTTLE,20010803WHPSIOKJU
EXPOCODE,SECT_ID,STNNBR,CASTNO,SAMPNO,BTLNBR,BTLNBR_FLAG_W,DATE,TIME,LATITUDE,LONGITUDE,DEPTH,CTDPRS,CTDTMP,CTDSAL,CTDSAL_FLAG_W,SALNTY,SALNTY_FLAG_W,OXYGEN,OXYGEN_FLAG_W,NITRAT,NITRAT_FLAG_W,NITRIT,NITRIT_FLAG_W,PHSPHT,PHSPHT_FLAG_W
,,,,,,,,,,,,DBAR,ITS-90,PSS-78,,PSS-78,,UMOL/KG,,UMOL/KG,,UMOL/KG,,UMOL/KG,
    49TU9307_1,  PR18,  PN-2,  2,      1,   -999,9,19930725,1215, 27.8187, 127.7872, 1034,      0.0,  28.8948,  34.6982,2,  -9.9999,9,    200.0,3,     0.10,2,     0.02,2,     0.04,2
    49TU9307_1,  PR18,  PN-2,  2,      2,      6,2,19930725,1215, 27.8187, 127.7872, 1034,      9.7,  28.7794,  34.7037,2,  34.7056,2,    202.0,3,     0.00,2,     0.00,2,     0.04,2
    49TU9307_1,  PR18,  PN-2,  2,      3,      5,2,19930725,1215, 27.8187, 127.7872, 1034,     19.5,  28.5259,  34.6965,2,  34.6977,2,    205.0,3,     0.00,2,     0.00,2,     0.03,2
    49TU9307_1,  PR18,  PN-2,  2,      4,      4,2,19930725,1215, 27.8187, 127.7872, 1034,     30.2,  28.2368,  34.6958,2,  34.7321,3,    207.0,3,     0.00,2,     0.00,2,     0.03,2
    49TU9307_1,  PR18,  PN-2,  2,      5,      3,2,19930725,1215, 27.8187, 127.7872, 1034,     49.5,  27.1169,  34.7343,2,  34.7327,2,    211.0,3,     0.10,2,     0.00,2,     0.03,2
    49TU9307_1,  PR18,  PN-2,  2,      6,      2,2,19930725,1215, 27.8187, 127.7872, 1034,     74.8,  24.6209,  34.8009,2,  34.8012,2,    213.0,3,     0.10,2,     0.01,2,     0.04,2
    49TU9307_1,  PR18,  PN-2,  2,      7,      1,2,19930725,1215, 27.8187, 127.7872, 1034,    100.3,  23.7085,  34.8231,2,  34.8245,2,    210.0,3,     0.00,2,     0.10,2,     0.05,2
    49TU9307_1,  PR18,  PN-2,  2,      8,     12,2,19930725,1215, 27.8187, 127.7872, 1034,    124.7,  22.5307,  34.8570,2,  34.8581,2,    205.0,3,     0.70,2,     0.09,2,     0.08,2
    49TU9307_1,  PR18,  PN-2,  2,      9,     11,2,19930725,1215, 27.8187, 127.7872, 1034,    148.9,  21.7981,  34.8704,2,  34.8723,2,    204.0,3,     1.00,2,     0.05,2,     0.10,2
    49TU9307_1,  PR18,  PN-2,  2,     10,     10,2,19930725,1215, 27.8187, 127.7872, 1034,    200.3,  20.2534,  34.8796,2,  34.8713,3,    200.0,3,     2.30,2,     0.03,2,     0.19,2
    49TU9307_1,  PR18,  PN-2,  2,     11,      9,2,19930725,1215, 27.8187, 127.7872, 1034,    250.6,  18.6617,  34.8265,2,  34.8262,2,    195.0,3,     4.40,2,     0.02,2,     0.32,2
    49TU9307_1,  PR18,  PN-2,  2,     12,      8,2,19930725,1215, 27.8187, 127.7872, 1034,    303.0,  17.6701,  34.7813,2,  34.7863,2,    194.0,3,     5.70,2,     0.02,2,     0.41,2
    49TU9307_1,  PR18,  PN-1,  1,      1,      2,2,19930725,1633, 27.5132, 128.2522, 1029,    403.4,  15.0873,  34.6312,2,  -9.9999,9,    184.0,3,    10.30,2,     0.01,2,     0.74,2
    49TU9307_1,  PR18,  PN-1,  1,      2,      1,2,19930725,1633, 27.5132, 128.2522, 1029,    503.7,  12.5771,  34.4830,2,  -9.9999,9,    167.0,3,    15.90,2,     0.02,2,     1.20,2
    49TU9307_1,  PR18,  PN-1,  1,      3,     12,2,19930725,1633, 27.5132, 128.2522, 1029,    604.8,   9.1278,  34.3536,2,  -9.9999,9,    134.0,3,    25.00,2,     0.02,2,     1.92,2
    49TU9307_1,  PR18,  PN-1,  1,      4,     11,2,19930725,1633, 27.5132, 128.2522, 1029,    705.9,   7.5859,  34.3419,2,  -9.9999,9,    115.0,3,    29.20,2,     0.01,2,     2.25,2
    49TU9307_1,  PR18,  PN-1,  1,      5,     10,2,19930725,1633, 27.5132, 128.2522, 1029,    807.1,   6.7231,  34.3372,2,  -9.9999,9,    105.0,3,    31.50,2,     0.01,2,     2.42,2
    49TU9307_1,  PR18,  PN-1,  1,      6,      9,2,19930725,1633, 27.5132, 128.2522, 1029,    907.7,   6.2207,  34.3433,2,  -9.9999,9,     97.0,3,    33.00,2,     0.02,2,     2.54,2
    49TU9307_1,  PR18,  PN-1,  1,      7,      8,2,19930725,1633, 27.5132, 128.2522, 1029,   1018.1,   5.8088,  34.3447,2,  -9.9999,9,     92.0,3,    34.30,2,     0.02,2,     2.63,2
    49TU9307_1,  PR18,  PN-1,  2,      1,   -999,9,19930725,1724, 27.5275, 128.2542,  968,      1.5,  28.4819,  34.6972,2,  -9.9999,9,    202.0,3,     0.10,2,     0.02,2,     0.04,2
    49TU9307_1,  PR18,  PN-1,  2,      2,      1,2,19930725,1724, 27.5275, 128.2542,  968,      9.6,  28.4763,  34.6989,2,  -9.9999,9,    203.0,3,     0.00,2,     0.00,2,     0.04,2
    49TU9307_1,  PR18,  PN-1,  2,      3,     12,2,19930725,1724, 27.5275, 128.2542,  968,     19.3,  28.4793,  34.6983,2,  -9.9999,9,    203.0,3,     0.00,2,     0.00,2,     0.04,2
    49TU9307_1,  PR18,  PN-1,  2,      4,     11,2,19930725,1724, 27.5275, 128.2542,  968,     29.3,  28.4567,  34.6969,2,  -9.9999,9,    202.0,3,     0.00,2,     0.00,2,     0.04,2
    49TU9307_1,  PR18,  PN-1,  2,      5,     10,2,19930725,1724, 27.5275, 128.2542,  968,     49.5,  27.3893,  34.7337,2,  -9.9999,9,    212.0,3,     0.00,2,     0.00,2,     0.04,2
    49TU9307_1,  PR18,  PN-1,  2,      6,      9,2,19930725,1724, 27.5275, 128.2542,  968,     74.6,  24.6583,  34.8010,2,  -9.9999,9,    213.0,3,     0.00,2,     0.00,2,     0.05,2
    49TU9307_1,  PR18,  PN-1,  2,      7,      8,2,19930725,1724, 27.5275, 128.2542,  968,    100.2,  24.0336,  34.8151,2,  -9.9999,9,    213.0,3,     0.00,2,     0.01,2,     0.05,2
    49TU9307_1,  PR18,  PN-1,  2,      8,      7,2,19930725,1724, 27.5275, 128.2542,  968,    125.7,  22.8385,  34.8457,2,  -9.9999,9,    206.0,3,     0.60,2,     0.12,2,     0.08,2
    49TU9307_1,  PR18,  PN-1,  2,      9,      6,2,19930725,1724, 27.5275, 128.2542,  968,    150.4,  22.2137,  34.8625,2,  -9.9999,9,    206.0,3,     0.70,2,     0.08,2,     0.09,2
    49TU9307_1,  PR18,  PN-1,  2,     10,      5,2,19930725,1724, 27.5275, 128.2542,  968,    201.3,  20.2905,  34.8599,2,  -9.9999,9,    202.0,3,     2.20,2,     0.03,2,     0.18,2
    49TU9307_1,  PR18,  PN-1,  2,     11,      4,2,19930725,1724, 27.5275, 128.2542,  968,    251.5,  19.2674,  34.8567,2,  -9.9999,9,    201.0,3,     2.90,2,     0.03,2,     0.23,2
    49TU9307_1,  PR18,  PN-1,  2,     12,      3,2,19930725,1724, 27.5275, 128.2542,  968,    301.9,  17.6655,  34.7801,2,  -9.9999,9,    198.0,3,     4.20,2,     0.03,2,     0.32,2