BOTTLE,20010803WHPSIOKJU
#code : jjward hyd_to_exchange.pl 
#original files copied from HTML directory: 20010803
#original HYD file: pr18_jhy.txt   Fri Aug  3 16:08:50 2001
#original SUM file: pr18_jsu.txt   Fri Apr 27 14:12:16 2001
EXPOCODE,SECT_ID,STNNBR,CASTNO,SAMPNO,BTLNBR,BTLNBR_FLAG_W,DATE,TIME,LATITUDE,LONGITUDE,DEPTH,CTDPRS,CTDTMP,CTDSAL,CTDSAL_FLAG_W,SALNTY,SALNTY_FLAG_W,OXYGEN,OXYGEN_FLAG_W,NITRAT,NITRAT_FLAG_W,NITRIT,NITRIT_FLAG_W,PHSPHT,PHSPHT_FLAG_W
,,,,,,,,,,,,DBAR,ITS-90,PSS-78,,PSS-78,,UMOL/KG,,UMOL/KG,,UMOL/KG,,UMOL/KG,
    49TU9307_1,  PR18,  PN-9,  1,      1,   -999,9,19930723,1810, 30.0032, 124.5005,   65,      1.6,  26.8015,  31.7890,2,  -9.9999,9,    207.0,3,     0.30,2,     0.07,2,     0.04,2
    49TU9307_1,  PR18,  PN-9,  1,      2,      5,2,19930723,1810, 30.0032, 124.5005,   65,      9.8,  26.7745,  31.7932,2,  -9.9999,9,    206.0,3,     0.00,2,     0.00,2,     0.03,2
    49TU9307_1,  PR18,  PN-9,  1,      3,      4,2,19930723,1810, 30.0032, 124.5005,   65,     19.4,  25.2464,  33.9998,2,  -9.9999,9,    179.0,3,     0.20,2,     0.39,2,     0.09,2
    49TU9307_1,  PR18,  PN-9,  1,      4,      3,2,19930723,1810, 30.0032, 124.5005,   65,     30.0,  22.3237,  34.5150,2,  -9.9999,9,    157.0,3,     3.60,2,     0.24,2,     0.38,2
    49TU9307_1,  PR18,  PN-9,  1,      5,      2,2,19930723,1810, 30.0032, 124.5005,   65,     49.5,  21.5703,  34.4740,2,  -9.9999,9,    148.0,3,     6.80,2,     0.12,2,     0.61,2
    49TU9307_1,  PR18,  PN-9,  1,      6,      1,2,19930723,1810, 30.0032, 124.5005,   65,     60.7,  21.5732,  34.4734,2,  -9.9999,9,    148.0,3,     6.80,2,     0.13,2,     0.62,2
    49TU9307_1,  PR18,  PN-8,  1,      1,   -999,9,19930723,2205, 29.6045, 125.0995,   84,      0.6,  26.8919,  32.0066,2,  -9.9999,9,    206.0,3,     0.00,2,     0.00,2,     0.03,2
    49TU9307_1,  PR18,  PN-8,  1,      2,     11,2,19930723,2205, 29.6045, 125.0995,   84,     10.5,  26.8674,  32.0045,2,  32.0055,2,    205.0,3,     0.00,2,     0.00,2,     0.03,2
    49TU9307_1,  PR18,  PN-8,  1,      3,     10,2,19930723,2205, 29.6045, 125.0995,   84,     19.8,  25.5039,  34.0882,2,  34.0476,3,    202.0,3,     0.00,2,     0.10,2,     0.10,2
    49TU9307_1,  PR18,  PN-8,  1,      4,      9,2,19930723,2205, 29.6045, 125.0995,   84,     30.3,  24.9197,  34.4054,2,  34.3942,3,    188.0,3,     0.20,2,     0.28,2,     0.18,2
    49TU9307_1,  PR18,  PN-8,  1,      5,      8,2,19930723,2205, 29.6045, 125.0995,   84,     50.6,  20.4857,  34.3805,2,  34.3775,2,    156.0,3,     7.60,2,     0.08,2,     0.66,2
    49TU9307_1,  PR18,  PN-8,  1,      6,      7,2,19930723,2205, 29.6045, 125.0995,   84,     81.5,  19.9426,  34.3193,2,  34.3198,2,    151.0,3,     6.80,2,     0.05,2,     0.63,2
    49TU9307_1,  PR18,  PN-7,  1,      1,   -999,9,19930724,0138, 29.3043, 125.5483,   93,      0.0,  27.4513,  32.6138,2,  -9.9999,9,    206.0,3,     0.00,2,     0.00,2,     0.03,2
    49TU9307_1,  PR18,  PN-7,  1,      2,      5,2,19930724,0138, 29.3043, 125.5483,   93,      9.4,  27.2975,  32.7369,2,  -9.9999,9,    206.0,3,     0.00,2,     0.00,2,     0.03,2
    49TU9307_1,  PR18,  PN-7,  1,      3,      4,2,19930724,0138, 29.3043, 125.5483,   93,     19.4,  26.2118,  33.2839,2,  -9.9999,9,    212.0,3,     0.00,2,     0.00,2,     0.04,2
    49TU9307_1,  PR18,  PN-7,  1,      4,      3,2,19930724,0138, 29.3043, 125.5483,   93,     29.0,  25.1617,  34.2456,2,  -9.9999,9,    203.0,3,     0.00,2,     0.00,2,     0.10,2
    49TU9307_1,  PR18,  PN-7,  1,      5,      2,2,19930724,0138, 29.3043, 125.5483,   93,     50.1,  21.5139,  34.4131,2,  -9.9999,9,    175.0,3,     4.00,2,     0.23,2,     0.46,2
    49TU9307_1,  PR18,  PN-7,  1,      6,      1,2,19930724,0138, 29.3043, 125.5483,   93,     74.3,  19.7295,  34.5182,2,  -9.9999,9,    158.0,3,     7.70,2,     0.05,2,     0.71,2
    49TU9307_1,  PR18,  PN-7,  1,      7,     12,2,19930724,0138, 29.3043, 125.5483,   93,     89.9,  19.7014,  34.5224,2,  -9.9999,9,    157.0,3,     7.80,2,     0.06,2,     0.72,2
    49TU9307_1,  PR18,  PN-6,  1,      1,   -999,9,19930724,0512, 29.0018, 126.0013,  113,      0.0,  27.7083,  32.9176,2,  -9.9999,9,    205.0,3,     0.10,2,     0.00,2,     0.04,2
    49TU9307_1,  PR18,  PN-6,  1,      2,     11,2,19930724,0512, 29.0018, 126.0013,  113,      9.4,  27.8399,  33.1463,2,  -9.9999,9,    204.0,3,     0.00,2,     0.00,2,     0.05,2
    49TU9307_1,  PR18,  PN-6,  1,      3,     10,2,19930724,0512, 29.0018, 126.0013,  113,     20.2,  27.6442,  33.4173,2,  -9.9999,9,    205.0,3,     0.00,2,     0.00,2,     0.05,2
    49TU9307_1,  PR18,  PN-6,  1,      4,      9,2,19930724,0512, 29.0018, 126.0013,  113,     29.7,  24.9948,  34.0116,2,  -9.9999,9,    207.0,3,     0.00,2,     0.00,2,     0.07,2
    49TU9307_1,  PR18,  PN-6,  1,      5,      8,2,19930724,0512, 29.0018, 126.0013,  113,     49.9,  21.7616,  34.5057,2,  -9.9999,9,    171.0,3,     4.90,2,     0.10,2,     0.44,2
    49TU9307_1,  PR18,  PN-6,  1,      6,      7,2,19930724,0512, 29.0018, 126.0013,  113,     74.2,  18.9005,  34.6628,2,  -9.9999,9,    164.0,3,     8.60,2,     0.03,2,     0.72,2
    49TU9307_1,  PR18,  PN-6,  1,      7,      6,2,19930724,0512, 29.0018, 126.0013,  113,    106.9,  18.9054,  34.6623,2,  -9.9999,9,    164.0,3,     8.60,2,     0.03,2,     0.72,2
    49TU9307_1,  PR18,  PN-5,  1,      1,   -999,9,19930724,0826, 28.6967, 126.4402,  126,      0.0,  28.2034,  33.6412,2,  -9.9999,9,    203.0,3,     0.00,2,     0.01,2,     0.05,2
    49TU9307_1,  PR18,  PN-5,  1,      2,      6,2,19930724,0826, 28.6967, 126.4402,  126,      9.3,  28.2332,  33.6544,2,  33.6438,3,    203.0,3,     0.00,2,     0.00,2,     0.06,2
    49TU9307_1,  PR18,  PN-5,  1,      3,      5,2,19930724,0826, 28.6967, 126.4402,  126,     19.5,  27.9612,  33.7168,2,  33.6438,3,    205.0,3,     0.00,2,     0.00,2,     0.06,2
    49TU9307_1,  PR18,  PN-5,  1,      4,      4,2,19930724,0826, 28.6967, 126.4402,  126,     30.2,  26.4363,  33.8913,2,  33.8725,3,    214.0,3,     0.00,2,     0.00,2,     0.07,2
    49TU9307_1,  PR18,  PN-5,  1,      5,      3,2,19930724,0826, 28.6967, 126.4402,  126,     50.4,  24.4413,  34.4639,2,  34.4585,3,    193.0,3,     0.40,2,     0.13,2,     0.16,2
    49TU9307_1,  PR18,  PN-5,  1,      6,      2,2,19930724,0826, 28.6967, 126.4402,  126,     75.2,  19.3681,  34.6558,2,  34.6493,3,    168.0,3,     7.80,2,     0.03,2,     0.65,2
    49TU9307_1,  PR18,  PN-5,  1,      7,      1,2,19930724,0826, 28.6967, 126.4402,  126,    100.1,  18.7234,  34.6813,2,  34.6829,2,    167.0,3,     8.60,2,     0.02,2,     0.70,2
    49TU9307_1,  PR18,  PN-5,  1,      8,     12,2,19930724,0826, 28.6967, 126.4402,  126,    122.7,  16.7844,  34.6096,2,  34.6215,3,    161.0,3,    11.50,2,     0.05,2,     0.96,2
    49TU9307_1,  PR18, PN-4',  1,      1,   -999,9,19930724,1912, 28.5547, 126.6853,  151,      0.2,  28.8448,  33.5318,2,  -9.9999,9,    200.0,3,     0.10,2,     0.00,2,     0.06,2
    49TU9307_1,  PR18, PN-4',  1,      2,      2,2,19930724,1912, 28.5547, 126.6853,  151,     10.7,  28.8478,  33.5302,2,  -9.9999,9,    200.0,3,     0.00,2,     0.00,2,     0.06,2
    49TU9307_1,  PR18, PN-4',  1,      3,      1,2,19930724,1912, 28.5547, 126.6853,  151,     20.8,  28.7268,  33.8070,2,  -9.9999,9,    201.0,3,     0.00,2,     0.00,2,     0.05,2
    49TU9307_1,  PR18, PN-4',  1,      4,     12,2,19930724,1912, 28.5547, 126.6853,  151,     30.5,  28.1080,  33.8510,2,  -9.9999,9,    206.0,3,     0.00,2,     0.00,2,     0.04,2
    49TU9307_1,  PR18, PN-4',  1,      5,     11,2,19930724,1912, 28.5547, 126.6853,  151,     50.3,  25.6675,  34.4811,2,  -9.9999,9,    211.0,3,     0.00,2,     0.00,2,     0.07,2
    49TU9307_1,  PR18, PN-4',  1,      6,     10,2,19930724,1912, 28.5547, 126.6853,  151,     75.4,  21.8512,  34.3255,2,  -9.9999,9,    188.0,3,     3.50,2,     0.12,2,     0.32,2
    49TU9307_1,  PR18, PN-4',  1,      7,      9,2,19930724,1912, 28.5547, 126.6853,  151,    101.7,  18.4319,  34.7025,2,  -9.9999,9,    168.0,3,     8.60,2,     0.02,2,     0.69,2
    49TU9307_1,  PR18, PN-4',  1,      8,      8,2,19930724,1912, 28.5547, 126.6853,  151,    126.1,  18.0980,  34.7049,2,  -9.9999,9,    165.0,3,     9.10,2,     0.03,2,     0.72,2
    49TU9307_1,  PR18, PN-4',  1,      9,      7,2,19930724,1912, 28.5547, 126.6853,  151,    145.5,  12.5923,  34.4620,2,  -9.9999,9,    159.0,3,    16.80,2,     0.07,2,     1.32,2
    49TU9307_1,  PR18,  PN-4,  1,      1,   -999,9,19930724,2124, 28.4042, 126.9013,  270,      0.0,  28.9142,  33.9560,2,  -9.9999,9,    202.0,3,     0.00,2,     0.00,2,     0.05,2
    49TU9307_1,  PR18,  PN-4,  1,      2,      1,2,19930724,2124, 28.4042, 126.9013,  270,     10.3,  28.8989,  33.9525,2,  -9.9999,9,    200.0,3,     0.00,2,     0.00,2,     0.05,2
    49TU9307_1,  PR18,  PN-4,  1,      3,     12,2,19930724,2124, 28.4042, 126.9013,  270,     19.9,  28.9760,  33.9936,2,  -9.9999,9,    202.0,3,     0.00,2,     0.00,2,     0.05,2
    49TU9307_1,  PR18,  PN-4,  1,      4,     11,2,19930724,2124, 28.4042, 126.9013,  270,     29.5,  28.8152,  34.0725,2,  -9.9999,9,    204.0,3,     0.00,2,     0.00,2,     0.05,2
    49TU9307_1,  PR18,  PN-4,  1,      5,     10,2,19930724,2124, 28.4042, 126.9013,  270,     50.0,  26.3023,  34.3445,2,  -9.9999,9,    216.0,3,     0.00,2,     0.00,2,     0.07,2
    49TU9307_1,  PR18,  PN-4,  1,      6,      9,2,19930724,2124, 28.4042, 126.9013,  270,     74.7,  24.2250,  34.3460,2,  -9.9999,9,    210.0,3,     0.70,2,     0.34,2,     0.16,2
    49TU9307_1,  PR18,  PN-4,  1,      7,      8,2,19930724,2124, 28.4042, 126.9013,  270,    100.0,  21.7494,  34.3461,2,  -9.9999,9,    186.0,3,     4.70,2,     0.57,2,     0.44,2
    49TU9307_1,  PR18,  PN-4,  1,      8,      7,2,19930724,2124, 28.4042, 126.9013,  270,    124.9,  20.0827,  34.6770,2,  -9.9999,9,    181.0,3,     5.80,2,     0.13,2,     0.51,2
    49TU9307_1,  PR18,  PN-4,  1,      9,      6,2,19930724,2124, 28.4042, 126.9013,  270,    151.1,  19.0634,  34.7713,2,  -9.9999,9,    184.0,3,     6.00,2,     0.04,2,     0.51,2
    49TU9307_1,  PR18,  PN-4,  1,     10,      5,2,19930724,2124, 28.4042, 126.9013,  270,    201.2,  13.7844,  34.5333,2,  -9.9999,9,    165.0,3,    14.80,2,     0.03,2,     1.14,2
    49TU9307_1,  PR18,  PN-4,  1,     11,      4,2,19930724,2124, 28.4042, 126.9013,  270,    251.1,  11.3425,  34.4013,2,  -9.9999,9,    157.0,3,    19.20,2,     0.03,2,     1.49,2
    49TU9307_1,  PR18,  PN-4,  1,     12,      3,2,19930724,2124, 28.4042, 126.9013,  270,    261.6,  11.2958,  34.4010,2,  -9.9999,9,    158.0,3,    19.30,2,     0.04,2,     1.51,2
    49TU9307_1,  PR18, PN-3',  1,      1,      5,2,19930725,0039, 28.2667, 127.1377,  961,    404.9,  11.9716,  34.3993,2,  34.4029,2,    175.0,3,    16.00,2,     0.02,2,     1.20,2
    49TU9307_1,  PR18, PN-3',  1,      2,      4,2,19930725,0039, 28.2667, 127.1377,  961,    505.0,   8.8967,  34.3279,2,  34.3284,2,    131.0,3,    25.50,2,     0.02,2,     1.96,2
    49TU9307_1,  PR18, PN-3',  1,      3,      3,2,19930725,0039, 28.2667, 127.1377,  961,    604.8,   7.0864,  34.3086,2,  34.3143,3,    112.0,3,    30.10,2,     0.01,2,     2.30,2
    49TU9307_1,  PR18, PN-3',  1,      4,      2,2,19930725,0039, 28.2667, 127.1377,  961,    704.8,   5.5754,  34.3509,2,  34.3481,2,     88.0,3,    35.00,2,     0.00,2,     2.68,2
    49TU9307_1,  PR18, PN-3',  1,      5,      1,2,19930725,0039, 28.2667, 127.1377,  961,    804.1,   4.9398,  34.3762,2,  34.3756,2,     81.0,3,    36.20,2,     0.01,2,     2.79,2
    49TU9307_1,  PR18, PN-3',  1,      6,     12,2,19930725,0039, 28.2667, 127.1377,  961,    930.2,   4.6227,  34.3910,2,  34.3942,2,     80.0,3,    35.80,2,     0.02,2,     2.78,2
    49TU9307_1,  PR18, PN-3',  2,      1,   -999,9,19930725,0134, 28.2965, 127.1542,  970,      0.0,  29.3413,  34.6039,2,  -9.9999,9,    201.0,3,     0.00,2,     0.00,2,     0.03,2
    49TU9307_1,  PR18, PN-3',  2,      2,      6,2,19930725,0134, 28.2965, 127.1542,  970,     10.0,  29.3281,  34.6042,2,  34.6036,2,    200.0,3,     0.00,2,     0.00,2,     0.03,2
    49TU9307_1,  PR18, PN-3',  2,      3,      5,2,19930725,0134, 28.2965, 127.1542,  970,     19.9,  28.5706,  34.6532,2,  34.6489,2,    205.0,3,     0.00,2,     0.00,2,     0.04,2
    49TU9307_1,  PR18, PN-3',  2,      4,      4,2,19930725,0134, 28.2965, 127.1542,  970,     29.5,  28.0469,  34.6712,2,  34.6694,2,    209.0,3,     0.00,2,     0.00,2,     0.04,2
    49TU9307_1,  PR18, PN-3',  2,      5,      3,2,19930725,0134, 28.2965, 127.1542,  970,     50.1,  27.4016,  34.6793,2,  34.6790,2,    208.0,3,     0.00,2,     0.00,2,     0.05,2
    49TU9307_1,  PR18, PN-3',  2,      6,      2,2,19930725,0134, 28.2965, 127.1542,  970,     74.7,  26.1725,  34.7436,2,  34.7408,2,    202.0,3,     0.00,2,     0.07,2,     0.06,2
    49TU9307_1,  PR18, PN-3',  2,      7,      1,2,19930725,0134, 28.2965, 127.1542,  970,    100.8,  23.8308,  34.9051,2,  34.8981,3,    205.0,3,     0.00,2,     0.16,2,     0.06,2
    49TU9307_1,  PR18, PN-3',  2,      8,     12,2,19930725,0134, 28.2965, 127.1542,  970,    125.1,  22.6089,  34.9100,2,  34.9066,2,    202.0,3,     0.70,2,     0.14,2,     0.09,2
    49TU9307_1,  PR18, PN-3',  2,      9,     11,2,19930725,0134, 28.2965, 127.1542,  970,    149.8,  20.4246,  34.7489,2,  34.7526,2,    184.0,3,     4.80,2,     0.07,2,     0.40,2
    49TU9307_1,  PR18, PN-3',  2,     10,     10,2,19930725,0134, 28.2965, 127.1542,  970,    200.7,  18.1222,  34.8338,2,  34.8375,2,    193.0,3,     4.90,2,     0.01,2,     0.36,2
    49TU9307_1,  PR18, PN-3',  2,     11,      9,2,19930725,0134, 28.2965, 127.1542,  970,    252.0,  16.6406,  34.7392,2,  34.7406,2,    198.0,3,     6.70,2,     0.01,2,     0.49,2
    49TU9307_1,  PR18, PN-3',  2,     12,      8,2,19930725,0134, 28.2965, 127.1542,  970,    304.6,  15.1068,  34.6234,2,  34.6274,2,    191.0,3,     9.60,2,     0.01,2,     0.71,2
    49TU9307_1,  PR18,  PN-3,  1,      1,      1,2,19930725,0513, 28.1063, 127.3510, 1015,    403.1,  13.9801,  34.5449,2,  34.5468,2,    183.0,3,    11.80,2,     0.01,2,     0.89,2
    49TU9307_1,  PR18,  PN-3,  1,      2,     12,2,19930725,0513, 28.1063, 127.3510, 1015,    504.1,  11.0134,  34.3890,2,  34.3899,2,    157.0,3,    19.40,2,     0.02,2,     1.49,2
    49TU9307_1,  PR18,  PN-3,  1,      3,     11,2,19930725,0513, 28.1063, 127.3510, 1015,    604.6,   8.4485,  34.3040,2,  34.3042,2,    127.0,3,    26.60,2,     0.02,2,     2.06,2
    49TU9307_1,  PR18,  PN-3,  1,      4,     10,2,19930725,0513, 28.1063, 127.3510, 1015,    706.1,   6.9140,  34.3180,2,  34.3188,2,    106.0,3,    31.00,2,     0.02,2,     2.41,2
    49TU9307_1,  PR18,  PN-3,  1,      5,      9,2,19930725,0513, 28.1063, 127.3510, 1015,    806.5,   5.9270,  34.3428,2,  34.3433,2,     95.0,3,    33.80,2,     0.01,2,     2.65,2
    49TU9307_1,  PR18,  PN-3,  1,      6,      8,2,19930725,0513, 28.1063, 127.3510, 1015,    907.5,   5.2520,  34.3657,2,  34.3673,2,     86.0,3,    35.70,2,     0.01,2,     2.76,2
    49TU9307_1,  PR18,  PN-3,  1,      7,      7,2,19930725,0513, 28.1063, 127.3510, 1015,   1004.8,   4.4760,  34.3974,2,  34.4025,3,     80.0,3,    37.60,2,     0.01,2,     2.91,2
    49TU9307_1,  PR18,  PN-3,  2,      1,   -999,9,19930725,0611, 28.1257, 127.3615,  983,      0.0,  29.2448,  34.6464,2,  -9.9999,9,    201.0,3,     0.00,2,     0.00,2,     0.04,2
    49TU9307_1,  PR18,  PN-3,  2,      2,     12,2,19930725,0611, 28.1257, 127.3615,  983,      9.5,  29.2572,  34.6639,2,  34.6642,2,    201.0,3,     0.00,2,     0.00,2,     0.04,2
    49TU9307_1,  PR18,  PN-3,  2,      3,     11,2,19930725,0611, 28.1257, 127.3615,  983,     19.9,  29.2398,  34.6627,2,  34.6664,2,    201.0,3,     0.00,2,     0.00,2,     0.04,2
    49TU9307_1,  PR18,  PN-3,  2,      4,     10,2,19930725,0611, 28.1257, 127.3615,  983,     28.7,  28.6167,  34.6257,2,  34.6247,2,    206.0,3,     0.00,2,     0.00,2,     0.04,2
    49TU9307_1,  PR18,  PN-3,  2,      5,      9,2,19930725,0611, 28.1257, 127.3615,  983,     49.7,  27.5252,  34.6929,2,  34.6975,3,    209.0,3,     0.00,2,     0.00,2,     0.05,2
    49TU9307_1,  PR18,  PN-3,  2,      6,      8,2,19930725,0611, 28.1257, 127.3615,  983,     75.2,  25.2723,  34.8673,2,  34.8682,2,    216.0,3,     0.00,2,     0.00,2,     0.04,2
    49TU9307_1,  PR18,  PN-3,  2,      7,      7,2,19930725,0611, 28.1257, 127.3615,  983,    100.2,  24.0114,  34.8991,2,  34.9009,2,    213.0,3,     0.00,2,     0.02,2,     0.05,2
    49TU9307_1,  PR18,  PN-3,  2,      8,      6,2,19930725,0611, 28.1257, 127.3615,  983,    125.0,  22.8010,  34.9129,2,  34.9129,2,    207.0,3,     0.10,2,     0.13,2,     0.06,2
    49TU9307_1,  PR18,  PN-3,  2,      9,      5,2,19930725,0611, 28.1257, 127.3615,  983,    149.9,  21.9633,  34.9177,2,  34.9165,2,    202.0,3,     0.70,2,     0.06,2,     0.09,2
    49TU9307_1,  PR18,  PN-3,  2,     10,      4,2,19930725,0611, 28.1257, 127.3615,  983,    199.5,  19.9415,  34.8939,2,  34.9080,3,    197.0,3,     2.30,2,     0.03,2,     0.19,2
    49TU9307_1,  PR18,  PN-3,  2,     11,      3,2,19930725,0611, 28.1257, 127.3615,  983,    250.6,  18.2298,  34.8324,2,  34.8381,2,    195.0,3,     4.40,2,     0.03,2,     0.33,2
    49TU9307_1,  PR18,  PN-3,  2,     12,      2,2,19930725,0611, 28.1257, 127.3615,  983,    303.9,  16.7824,  34.7486,2,  34.7528,2,    196.0,3,     6.40,2,     0.03,2,     0.47,2
    49TU9307_1,  PR18,  PN-2,  1,      1,      7,2,19930725,1122, 27.8060, 127.7948,  971,    402.5,  15.3930,  34.6496,2,  34.6469,2,    185.0,3,     9.60,2,     0.01,2,     0.71,2
    49TU9307_1,  PR18,  PN-2,  1,      2,      6,2,19930725,1122, 27.8060, 127.7948,  971,    504.0,  12.5411,  34.4744,2,  34.4729,2,    167.0,3,    16.00,2,     0.02,2,     1.20,2
    49TU9307_1,  PR18,  PN-2,  1,      3,      5,2,19930725,1122, 27.8060, 127.7948,  971,    602.8,  10.1633,  34.3669,2,  34.3648,2,    146.0,3,    22.00,2,     0.03,2,     1.68,2
    49TU9307_1,  PR18,  PN-2,  1,      4,      4,2,19930725,1122, 27.8060, 127.7948,  971,    703.9,   7.4931,  34.3091,2,  34.3054,2,    115.0,3,    29.60,2,     0.01,2,     2.28,2
    49TU9307_1,  PR18,  PN-2,  1,      5,      3,2,19930725,1122, 27.8060, 127.7948,  971,    805.6,   5.6782,  34.3509,2,  34.3492,2,     91.0,3,    34.70,2,     0.02,2,     2.68,2
    49TU9307_1,  PR18,  PN-2,  1,      6,      2,2,19930725,1122, 27.8060, 127.7948,  971,    906.4,   4.7607,  34.3835,2,  34.3844,2,     80.0,3,    35.90,2,     0.01,2,     2.70,2
    49TU9307_1,  PR18,  PN-2,  1,      7,      1,2,19930725,1122, 27.8060, 127.7948,  971,    950.4,   4.6242,  34.3899,2,  34.3927,2,     79.0,3,    37.20,2,     0.01,2,     2.88,2