BOTTLE,20040301WHPSIODBK
EXPOCODE,SECT_ID,STNNBR,CASTNO,SAMPNO,BTLNBR,BTLNBR_FLAG_W,DATE,TIME,LATITUDE,LONGITUDE,DEPTH,CTDPRS,CTDTMP,CTDSAL,CTDSAL_FLAG_W,SALNTY,SALNTY_FLAG_W,CTDOXY,CTDOXY_FLAG_W,OXYGEN,OXYGEN_FLAG_W,THETA
,,,,,,,,,,,,DBAR,ITS-90,PSS-78,,PSS-78,,UMOL/KG,,UMOL/KG,,DEG C
  33KM200307_1,  PR15,    20,  1,     12,     12,2,20030718,0316, -4.9933, 165.1767, 2498,      2.8,  29.7998,  35.1891,2,  35.1898,2,   -999.0,9,   -999.0,9, 29.7992
  33KM200307_1,  PR15,    20,  1,     11,     11,2,20030718,0316, -4.9933, 165.1767, 2498,      9.1,  29.8035,  35.1893,2,  35.1881,2,   -999.0,9,   -999.0,9, 29.8013
  33KM200307_1,  PR15,    20,  1,     10,     10,2,20030718,0316, -4.9933, 165.1767, 2498,     25.1,  29.8057,  35.2036,2,  35.2028,2,   -999.0,9,   -999.0,9, 29.7995
  33KM200307_1,  PR15,    20,  1,      9,      9,2,20030718,0316, -4.9933, 165.1767, 2498,     39.0,  29.8232,  35.2157,2,  35.2186,2,   -999.0,9,   -999.0,9, 29.8136
  33KM200307_1,  PR15,    20,  1,      8,      8,2,20030718,0316, -4.9933, 165.1767, 2498,     65.7,  29.8078,  35.5549,2,  35.5498,2,   -999.0,9,   -999.0,9, 29.7916
  33KM200307_1,  PR15,    20,  1,      7,      7,2,20030718,0316, -4.9933, 165.1767, 2498,     97.7,  29.4944,  35.6048,2,  35.5991,2,   -999.0,9,   -999.0,9, 29.4704
  33KM200307_1,  PR15,    20,  1,      6,      6,2,20030718,0316, -4.9933, 165.1767, 2498,    147.6,  25.8095,  35.9620,2,  35.9630,2,   -999.0,9,   -999.0,9, 25.7766
  33KM200307_1,  PR15,    20,  1,      5,      5,2,20030718,0316, -4.9933, 165.1767, 2498,    198.4,  19.0630,  35.6126,2,  35.6210,2,   -999.0,9,   -999.0,9, 19.0274
  33KM200307_1,  PR15,    20,  1,      4,      4,2,20030718,0316, -4.9933, 165.1767, 2498,    397.8,   9.3696,  34.7023,2,  34.7022,2,   -999.0,9,   -999.0,9,  9.3250
  33KM200307_1,  PR15,    20,  1,      3,      3,2,20030718,0316, -4.9933, 165.1767, 2498,    598.0,   7.1068,  34.5629,2,  34.5646,2,   -999.0,9,   -999.0,9,  7.0491
  33KM200307_1,  PR15,    20,  1,      2,      2,2,20030718,0316, -4.9933, 165.1767, 2498,    799.7,   5.6409,  34.5360,2,  34.5362,2,   -999.0,9,   -999.0,9,  5.5715
  33KM200307_1,  PR15,    20,  1,      1,      1,2,20030718,0316, -4.9933, 165.1767, 2498,   1002.0,   4.4603,  34.5406,2,  34.5409,2,   -999.0,9,   -999.0,9,  4.3809
  33KM200307_1,  PR15,    21,  1,     12,     12,2,20030718,1038, -5.9983, 165.0533, 3597,      2.3,  29.6290,  35.1719,2,  35.1714,2,   -999.0,9,   -999.0,9, 29.6284
  33KM200307_1,  PR15,    21,  1,     11,     11,2,20030718,1038, -5.9983, 165.0533, 3597,      9.8,  29.6314,  35.1723,2,  35.1713,2,   -999.0,9,   -999.0,9, 29.6290
  33KM200307_1,  PR15,    21,  1,     10,     10,2,20030718,1038, -5.9983, 165.0533, 3597,     25.5,  29.6345,  35.1730,2,  35.1762,2,   -999.0,9,   -999.0,9, 29.6282
  33KM200307_1,  PR15,    21,  1,      9,      9,2,20030718,1038, -5.9983, 165.0533, 3597,     40.3,  29.6352,  35.1715,2,  35.1710,2,   -999.0,9,   -999.0,9, 29.6253
  33KM200307_1,  PR15,    21,  1,      8,      8,2,20030718,1038, -5.9983, 165.0533, 3597,     61.5,  29.6535,  35.1896,2,  35.1882,2,   -999.0,9,   -999.0,9, 29.6384
  33KM200307_1,  PR15,    21,  1,      7,      7,2,20030718,1038, -5.9983, 165.0533, 3597,     99.4,  29.4349,  35.5327,2,  35.5350,2,   -999.0,9,   -999.0,9, 29.4106
  33KM200307_1,  PR15,    21,  1,      6,      6,2,20030718,1038, -5.9983, 165.0533, 3597,    149.9,  27.2422,  35.8511,2,  35.8415,2,   -999.0,9,   -999.0,9, 27.2074
  33KM200307_1,  PR15,    21,  1,      5,      5,2,20030718,1038, -5.9983, 165.0533, 3597,    201.0,  21.7014,  35.8978,2,  35.8982,2,   -999.0,9,   -999.0,9, 21.6618
  33KM200307_1,  PR15,    21,  1,      4,      4,2,20030718,1038, -5.9983, 165.0533, 3597,    401.9,   8.8324,  34.6693,2,  34.6706,2,   -999.0,9,   -999.0,9,  8.7889
  33KM200307_1,  PR15,    21,  1,      3,      3,2,20030718,1038, -5.9983, 165.0533, 3597,    601.3,   6.6510,  34.5462,2,  34.5470,2,   -999.0,9,   -999.0,9,  6.5950
  33KM200307_1,  PR15,    21,  1,      2,      2,2,20030718,1038, -5.9983, 165.0533, 3597,    799.1,   5.3623,  34.5239,2,  34.5224,2,   -999.0,9,   -999.0,9,  5.2947
  33KM200307_1,  PR15,    21,  1,      1,      1,2,20030718,1038, -5.9983, 165.0533, 3597,    999.5,   4.2632,  34.5381,2,  34.5380,2,   -999.0,9,   -999.0,9,  4.1855
  33KM200307_1,  PR15,    22,  1,     12,     12,2,20030718,1739, -7.0067, 164.9167, 3716,      2.8,  29.6456,  34.9726,2,  34.9716,2,   -999.0,9,   -999.0,9, 29.6449
  33KM200307_1,  PR15,    22,  1,     11,     11,2,20030718,1739, -7.0067, 164.9167, 3716,      9.4,  29.6556,  34.9727,2,  34.9737,2,   -999.0,9,   -999.0,9, 29.6533
  33KM200307_1,  PR15,    22,  1,     10,     10,2,20030718,1739, -7.0067, 164.9167, 3716,     25.2,  29.6616,  34.9755,2,  34.9749,2,   -999.0,9,   -999.0,9, 29.6554
  33KM200307_1,  PR15,    22,  1,      9,      9,2,20030718,1739, -7.0067, 164.9167, 3716,     39.1,  29.7722,  35.1068,2,  35.0683,2,   -999.0,9,   -999.0,9, 29.7625
  33KM200307_1,  PR15,    22,  1,      8,      8,2,20030718,1739, -7.0067, 164.9167, 3716,     60.9,  29.4330,  35.5454,2,  35.5480,2,   -999.0,9,   -999.0,9, 29.4181
  33KM200307_1,  PR15,    22,  1,      7,      7,2,20030718,1739, -7.0067, 164.9167, 3716,    100.6,  28.4313,  35.6614,2,  35.6593,2,   -999.0,9,   -999.0,9, 28.4072
  33KM200307_1,  PR15,    22,  1,      6,      6,2,20030718,1739, -7.0067, 164.9167, 3716,    147.9,  27.0959,  35.9105,2,  35.9164,2,   -999.0,9,   -999.0,9, 27.0618
  33KM200307_1,  PR15,    22,  1,      5,      5,2,20030718,1739, -7.0067, 164.9167, 3716,    198.4,  22.1186,  35.8904,2,  35.8962,2,   -999.0,9,   -999.0,9, 22.0790
  33KM200307_1,  PR15,    22,  1,      4,      4,2,20030718,1739, -7.0067, 164.9167, 3716,    397.8,   8.9797,  34.6763,2,  34.6819,2,   -999.0,9,   -999.0,9,  8.9363
  33KM200307_1,  PR15,    22,  1,      3,      3,2,20030718,1739, -7.0067, 164.9167, 3716,    601.9,   6.5761,  34.5446,2,  34.5462,2,   -999.0,9,   -999.0,9,  6.5204
  33KM200307_1,  PR15,    22,  1,      1,      1,2,20030718,1739, -7.0067, 164.9167, 3716,   1001.3,   4.1863,  34.5349,2,  34.5377,2,   -999.0,9,   -999.0,9,  4.1090