BOTTLE,20040301WHPSIODBK
#code : jjward hyd_to_exchange.pl 
#original files copied from HTML directory: 20040229
#original HYD file: pr15_2003a_hy.txt   Mon Mar  1 11:52:55 2004
#original SUM file: pr15_2003a_su.txt   Mon Mar  1 11:55:27 2004
EXPOCODE,SECT_ID,STNNBR,CASTNO,SAMPNO,BTLNBR,BTLNBR_FLAG_W,DATE,TIME,LATITUDE,LONGITUDE,DEPTH,CTDPRS,CTDTMP,CTDSAL,CTDSAL_FLAG_W,SALNTY,SALNTY_FLAG_W,CTDOXY,CTDOXY_FLAG_W,OXYGEN,OXYGEN_FLAG_W,THETA
,,,,,,,,,,,,DBAR,ITS-90,PSS-78,,PSS-78,,UMOL/KG,,UMOL/KG,,DEG C
  33KM200307_1,  PR15,     1,  1,     12,     12,2,20030712,1803,  8.0200, 165.0967, 5216,      3.2,  29.0126,  34.0331,2,  34.0375,2,   -999.0,9,   -999.0,9, 29.0119
  33KM200307_1,  PR15,     1,  1,     11,     11,2,20030712,1803,  8.0200, 165.0967, 5216,     10.3,  29.0296,  34.0356,2,  34.0377,2,   -999.0,9,   -999.0,9, 29.0271
  33KM200307_1,  PR15,     1,  1,     10,     10,2,20030712,1803,  8.0200, 165.0967, 5216,     25.8,  29.0444,  34.0437,2,  34.0471,2,   -999.0,9,   -999.0,9, 29.0382
  33KM200307_1,  PR15,     1,  1,      9,      9,2,20030712,1803,  8.0200, 165.0967, 5216,     41.5,  29.0812,  34.0748,2,  34.0813,2,   -999.0,9,   -999.0,9, 29.0712
  33KM200307_1,  PR15,     1,  1,      8,      8,2,20030712,1803,  8.0200, 165.0967, 5216,     59.9,  28.8789,  34.2042,2,  34.2006,2,   -999.0,9,   -999.0,9, 28.8645
  33KM200307_1,  PR15,     1,  1,      7,      7,2,20030712,1803,  8.0200, 165.0967, 5216,    100.5,  24.3219,  34.7745,2,  34.7580,2,   -999.0,9,   -999.0,9, 24.3005
  33KM200307_1,  PR15,     1,  1,      6,      6,2,20030712,1803,  8.0200, 165.0967, 5216,    148.9,  15.9482,  34.6319,2,  34.6384,2,   -999.0,9,   -999.0,9, 15.9248
  33KM200307_1,  PR15,     1,  1,      5,      5,2,20030712,1803,  8.0200, 165.0967, 5216,    199.5,  11.2604,  34.5315,2,  34.5318,2,   -999.0,9,   -999.0,9, 11.2355
  33KM200307_1,  PR15,     1,  1,      4,      4,2,20030712,1803,  8.0200, 165.0967, 5216,    499.1,   7.7044,  34.5693,2,  34.5725,2,   -999.0,9,   -999.0,9,  7.6543
  33KM200307_1,  PR15,     1,  1,      3,      3,2,20030712,1803,  8.0200, 165.0967, 5216,   1498.7,   2.9695,  34.6026,2,  34.6059,2,   -999.0,9,   -999.0,9,  2.8620
  33KM200307_1,  PR15,     1,  1,      2,      2,2,20030712,1803,  8.0200, 165.0967, 5216,   2997.7,   1.6224,  34.6747,2,  34.6746,2,   -999.0,9,   -999.0,9,  1.4031
  33KM200307_1,  PR15,     1,  1,      1,      1,2,20030712,1803,  8.0200, 165.0967, 5216,   3501.1,   1.4898,  34.6848,2,  34.6833,2,   -999.0,9,   -999.0,9,  1.2238
  33KM200307_1,  PR15,     2,  1,     12,     12,2,20030713,1144,  7.0083, 165.0583, 5163,      2.5,  29.1321,  34.0762,2,  34.0750,2,   -999.0,9,   -999.0,9, 29.1315
  33KM200307_1,  PR15,     2,  1,     11,     11,2,20030713,1144,  7.0083, 165.0583, 5163,      9.3,  29.1332,  34.0766,2,  34.0784,2,   -999.0,9,   -999.0,9, 29.1310
  33KM200307_1,  PR15,     2,  1,     10,     10,2,20030713,1144,  7.0083, 165.0583, 5163,     24.9,  29.1430,  34.0781,2,  34.0753,2,   -999.0,9,   -999.0,9, 29.1370
  33KM200307_1,  PR15,     2,  1,      9,      9,2,20030713,1144,  7.0083, 165.0583, 5163,     39.0,  29.1454,  34.0817,2,  34.0865,2,   -999.0,9,   -999.0,9, 29.1360
  33KM200307_1,  PR15,     2,  1,      8,      8,2,20030713,1144,  7.0083, 165.0583, 5163,     59.3,  28.6540,  34.3012,2,  34.2952,2,   -999.0,9,   -999.0,9, 28.6398
  33KM200307_1,  PR15,     2,  1,      7,      7,2,20030713,1144,  7.0083, 165.0583, 5163,     98.0,  26.7569,  34.6286,2,  34.6218,2,   -999.0,9,   -999.0,9, 26.7346
  33KM200307_1,  PR15,     2,  1,      6,      6,2,20030713,1144,  7.0083, 165.0583, 5163,    150.3,  16.9249,  34.7020,2,  34.7099,2,   -999.0,9,   -999.0,9, 16.9003
  33KM200307_1,  PR15,     2,  1,      5,      5,2,20030713,1144,  7.0083, 165.0583, 5163,    200.6,  11.3488,  34.5495,2,  34.5447,2,   -999.0,9,   -999.0,9, 11.3237
  33KM200307_1,  PR15,     2,  1,      4,      4,2,20030713,1144,  7.0083, 165.0583, 5163,    398.5,   8.7512,  34.6182,2,  34.6167,2,   -999.0,9,   -999.0,9,  8.7083
  33KM200307_1,  PR15,     2,  1,      3,      3,2,20030713,1144,  7.0083, 165.0583, 5163,    603.8,   6.9910,  34.5582,2,  34.5571,2,   -999.0,9,   -999.0,9,  6.9332
  33KM200307_1,  PR15,     2,  1,      2,      2,2,20030713,1144,  7.0083, 165.0583, 5163,    803.4,   5.5294,  34.5432,2,  34.5448,2,   -999.0,9,   -999.0,9,  5.4603
  33KM200307_1,  PR15,     2,  1,      1,      1,2,20030713,1144,  7.0083, 165.0583, 5163,   1001.3,   4.5972,  34.5560,2,  34.5543,2,   -999.0,9,   -999.0,9,  4.5167
  33KM200307_1,  PR15,     3,  1,     12,     12,2,20030713,1910,  6.0017, 165.0350, 5009,      2.7,  29.3857,  33.8187,2,  33.8198,2,   -999.0,9,   -999.0,9, 29.3851
  33KM200307_1,  PR15,     3,  1,     11,     11,2,20030713,1910,  6.0017, 165.0350, 5009,     10.2,  29.4008,  33.8195,2,  33.8201,2,   -999.0,9,   -999.0,9, 29.3984
  33KM200307_1,  PR15,     3,  1,     10,     10,2,20030713,1910,  6.0017, 165.0350, 5009,     25.7,  29.4555,  33.8514,2,  33.8522,2,   -999.0,9,   -999.0,9, 29.4493
  33KM200307_1,  PR15,     3,  1,      9,      9,2,20030713,1910,  6.0017, 165.0350, 5009,     40.2,  29.5094,  33.9337,2,  33.9285,2,   -999.0,9,   -999.0,9, 29.4996
  33KM200307_1,  PR15,     3,  1,      8,      8,2,20030713,1910,  6.0017, 165.0350, 5009,     60.4,  28.3380,  34.4753,2,  34.4698,2,   -999.0,9,   -999.0,9, 28.3237
  33KM200307_1,  PR15,     3,  1,      7,      7,2,20030713,1910,  6.0017, 165.0350, 5009,     99.6,  23.7551,  34.8984,2,  34.8815,2,   -999.0,9,   -999.0,9, 23.7343
  33KM200307_1,  PR15,     3,  1,      6,      6,2,20030713,1910,  6.0017, 165.0350, 5009,    150.0,  16.8654,  34.7312,2,  34.7308,2,   -999.0,9,   -999.0,9, 16.8409
  33KM200307_1,  PR15,     3,  1,      5,      5,2,20030713,1910,  6.0017, 165.0350, 5009,    201.9,  11.1327,  34.5740,2,  34.5684,2,   -999.0,9,   -999.0,9, 11.1078
  33KM200307_1,  PR15,     3,  1,      4,      4,2,20030713,1910,  6.0017, 165.0350, 5009,    397.9,   8.5774,  34.6175,2,  34.6169,2,   -999.0,9,   -999.0,9,  8.5352
  33KM200307_1,  PR15,     3,  1,      3,      3,2,20030713,1910,  6.0017, 165.0350, 5009,    598.9,   7.0825,  34.5662,2,  34.5675,2,   -999.0,9,   -999.0,9,  7.0248
  33KM200307_1,  PR15,     3,  1,      2,      2,2,20030713,1910,  6.0017, 165.0350, 5009,    800.0,   5.5264,  34.5434,2,  34.5412,2,   -999.0,9,   -999.0,9,  5.4576
  33KM200307_1,  PR15,     3,  1,      1,      1,2,20030713,1910,  6.0017, 165.0350, 5009,   1004.1,   4.4847,  34.5598,2,  34.5618,2,   -999.0,9,   -999.0,9,  4.4049
  33KM200307_1,  PR15,     4,  1,     12,     12,2,20030714,0226,  5.0500, 165.0050, 4787,      2.7,  29.7206,  33.9495,2,  33.9489,2,   -999.0,9,   -999.0,9, 29.7199
  33KM200307_1,  PR15,     4,  1,     11,     11,2,20030714,0226,  5.0500, 165.0050, 4787,      9.8,  29.6508,  33.9469,2,  33.9484,2,   -999.0,9,   -999.0,9, 29.6484
  33KM200307_1,  PR15,     4,  1,     10,     10,2,20030714,0226,  5.0500, 165.0050, 4787,     25.1,  29.6329,  33.9485,2,  33.9478,2,   -999.0,9,   -999.0,9, 29.6267
  33KM200307_1,  PR15,     4,  1,      9,      9,2,20030714,0226,  5.0500, 165.0050, 4787,     39.6,  29.6279,  33.9494,2,  33.9489,2,   -999.0,9,   -999.0,9, 29.6182
  33KM200307_1,  PR15,     4,  1,      8,      8,2,20030714,0226,  5.0500, 165.0050, 4787,     59.0,  29.3162,  34.3809,2,  34.3741,2,   -999.0,9,   -999.0,9, 29.3018
  33KM200307_1,  PR15,     4,  1,      7,      7,2,20030714,0226,  5.0500, 165.0050, 4787,     99.4,  25.1100,  34.7901,2,  34.7871,2,   -999.0,9,   -999.0,9, 25.0884
  33KM200307_1,  PR15,     4,  1,      6,      6,2,20030714,0226,  5.0500, 165.0050, 4787,    150.9,  17.5683,  34.7524,2,  34.7593,2,   -999.0,9,   -999.0,9, 17.5429
  33KM200307_1,  PR15,     4,  1,      5,      5,2,20030714,0226,  5.0500, 165.0050, 4787,    205.6,  11.0616,  34.5817,2,  34.5780,2,   -999.0,9,   -999.0,9, 11.0363
  33KM200307_1,  PR15,     4,  1,      4,      4,2,20030714,0226,  5.0500, 165.0050, 4787,    399.4,   8.3805,  34.6115,2,  34.6098,2,   -999.0,9,   -999.0,9,  8.3386
  33KM200307_1,  PR15,     4,  1,      3,      3,2,20030714,0226,  5.0500, 165.0050, 4787,    598.5,   6.9741,  34.5635,2,  34.5621,2,   -999.0,9,   -999.0,9,  6.9169
  33KM200307_1,  PR15,     4,  1,      2,      2,2,20030714,0226,  5.0500, 165.0050, 4787,    800.4,   5.5576,  34.5457,2,  34.5441,2,   -999.0,9,   -999.0,9,  5.4886
  33KM200307_1,  PR15,     4,  1,      1,      1,2,20030714,0226,  5.0500, 165.0050, 4787,   1001.8,   4.5357,  34.5599,2,  34.5586,2,   -999.0,9,   -999.0,9,  4.4557
  33KM200307_1,  PR15,     5,  1,     12,     12,2,20030714,1117,  4.0050, 165.0050, 4495,      2.1,  29.8206,  34.0459,2,  34.0517,2,   -999.0,9,   -999.0,9, 29.8201
  33KM200307_1,  PR15,     5,  1,     11,     11,2,20030714,1117,  4.0050, 165.0050, 4495,     10.1,  29.8195,  34.0480,2,  34.0388,2,   -999.0,9,   -999.0,9, 29.8171
  33KM200307_1,  PR15,     5,  1,     10,     10,2,20030714,1117,  4.0050, 165.0050, 4495,     23.9,  29.7754,  34.0601,2,  34.0607,2,   -999.0,9,   -999.0,9, 29.7695
  33KM200307_1,  PR15,     5,  1,      9,      9,2,20030714,1117,  4.0050, 165.0050, 4495,     39.8,  29.7138,  34.0839,2,  34.0791,2,   -999.0,9,   -999.0,9, 29.7040
  33KM200307_1,  PR15,     5,  1,      8,      8,2,20030714,1117,  4.0050, 165.0050, 4495,     59.9,  29.3288,  34.5327,2,  34.5289,2,   -999.0,9,   -999.0,9, 29.3142
  33KM200307_1,  PR15,     5,  1,      7,      7,2,20030714,1117,  4.0050, 165.0050, 4495,    100.1,  26.0922,  34.8054,2,  34.8080,2,   -999.0,9,   -999.0,9, 26.0699
  33KM200307_1,  PR15,     5,  1,      6,      6,2,20030714,1117,  4.0050, 165.0050, 4495,    150.3,  20.0269,  34.8555,2,  34.8569,2,   -999.0,9,   -999.0,9, 19.9991
  33KM200307_1,  PR15,     5,  1,      5,      5,2,20030714,1117,  4.0050, 165.0050, 4495,    201.5,  13.0850,  34.5844,2,  34.5931,2,   -999.0,9,   -999.0,9, 13.0572
  33KM200307_1,  PR15,     5,  1,      4,      4,2,20030714,1117,  4.0050, 165.0050, 4495,    403.0,   8.3461,  34.6109,2,  34.6103,2,   -999.0,9,   -999.0,9,  8.3040
  33KM200307_1,  PR15,     5,  1,      3,      3,2,20030714,1117,  4.0050, 165.0050, 4495,    598.8,   6.8247,  34.5607,2,  34.5607,2,   -999.0,9,   -999.0,9,  6.7681
  33KM200307_1,  PR15,     5,  1,      2,      2,2,20030714,1117,  4.0050, 165.0050, 4495,    801.9,   5.4507,  34.5440,2,  34.5451,2,   -999.0,9,   -999.0,9,  5.3822
  33KM200307_1,  PR15,     5,  1,      1,      1,2,20030714,1117,  4.0050, 165.0050, 4495,   1000.3,   4.5220,  34.5590,2,  34.5575,2,   -999.0,9,   -999.0,9,  4.4422
  33KM200307_1,  PR15,     6,  1,     12,     12,2,20030714,1833,  2.9983, 165.0200, 4255,      2.2,  29.9244,  34.1093,2,  34.1075,2,   -999.0,9,   -999.0,9, 29.9239
  33KM200307_1,  PR15,     6,  1,     11,     11,2,20030714,1833,  2.9983, 165.0200, 4255,      9.9,  29.9349,  34.1097,2,  34.1091,2,   -999.0,9,   -999.0,9, 29.9325
  33KM200307_1,  PR15,     6,  1,     10,     10,2,20030714,1833,  2.9983, 165.0200, 4255,     25.2,  29.9386,  34.1108,2,  34.1077,2,   -999.0,9,   -999.0,9, 29.9324
  33KM200307_1,  PR15,     6,  1,      9,      9,2,20030714,1833,  2.9983, 165.0200, 4255,     39.8,  30.0682,  34.2496,2,  34.2390,2,   -999.0,9,   -999.0,9, 30.0583
  33KM200307_1,  PR15,     6,  1,      8,      8,2,20030714,1833,  2.9983, 165.0200, 4255,     59.7,  29.6204,  34.2500,2,  34.2437,2,   -999.0,9,   -999.0,9, 29.6058
  33KM200307_1,  PR15,     6,  1,      7,      7,2,20030714,1833,  2.9983, 165.0200, 4255,    101.5,  26.1643,  34.9492,2,  34.9435,2,   -999.0,9,   -999.0,9, 26.1416
  33KM200307_1,  PR15,     6,  1,      6,      6,2,20030714,1833,  2.9983, 165.0200, 4255,    147.8,  20.4907,  34.8717,2,  34.8803,2,   -999.0,9,   -999.0,9, 20.4629
  33KM200307_1,  PR15,     6,  1,      5,      5,2,20030714,1833,  2.9983, 165.0200, 4255,    202.7,  16.0315,  34.7672,2,  34.7670,2,   -999.0,9,   -999.0,9, 15.9994
  33KM200307_1,  PR15,     6,  1,      4,      4,2,20030714,1833,  2.9983, 165.0200, 4255,    398.1,   8.7772,  34.5898,2,  34.5912,2,   -999.0,9,   -999.0,9,  8.7343
  33KM200307_1,  PR15,     6,  1,      3,      3,2,20030714,1833,  2.9983, 165.0200, 4255,    597.0,   6.9845,  34.5637,2,  34.5614,2,   -999.0,9,   -999.0,9,  6.9274
  33KM200307_1,  PR15,     6,  1,      2,      2,2,20030714,1833,  2.9983, 165.0200, 4255,    799.6,   5.4303,  34.5441,2,  34.5471,2,   -999.0,9,   -999.0,9,  5.3622
  33KM200307_1,  PR15,     6,  1,      1,      1,2,20030714,1833,  2.9983, 165.0200, 4255,   1002.9,   4.4756,  34.5577,2,  34.5592,2,   -999.0,9,   -999.0,9,  4.3960
  33KM200307_1,  PR15,     7,  1,     12,     12,2,20030714,2247,  2.5033, 165.0117, 4123,      2.8,  30.1834,  34.3312,2,  34.3500,2,   -999.0,9,   -999.0,9, 30.1827
  33KM200307_1,  PR15,     7,  1,     11,     11,2,20030714,2247,  2.5033, 165.0117, 4123,     10.6,  30.1852,  34.3313,2,  34.3308,2,   -999.0,9,   -999.0,9, 30.1825
  33KM200307_1,  PR15,     7,  1,     10,     10,2,20030714,2247,  2.5033, 165.0117, 4123,     25.8,  30.1660,  34.3323,2,  34.3299,2,   -999.0,9,   -999.0,9, 30.1595
  33KM200307_1,  PR15,     7,  1,      9,      9,2,20030714,2247,  2.5033, 165.0117, 4123,     40.1,  30.0024,  34.3640,2,  34.3519,2,   -999.0,9,   -999.0,9, 29.9925
  33KM200307_1,  PR15,     7,  1,      8,      8,2,20030714,2247,  2.5033, 165.0117, 4123,     59.6,  29.6484,  34.7246,2,  34.6770,2,   -999.0,9,   -999.0,9, 29.6337
  33KM200307_1,  PR15,     7,  1,      7,      7,2,20030714,2247,  2.5033, 165.0117, 4123,    100.8,  27.4988,  34.9293,2,  34.9310,2,   -999.0,9,   -999.0,9, 27.4754
  33KM200307_1,  PR15,     7,  1,      6,      6,2,20030714,2247,  2.5033, 165.0117, 4123,    149.4,  22.1937,  34.9691,2,  34.8894,2,   -999.0,9,   -999.0,9, 22.1639
  33KM200307_1,  PR15,     7,  1,      4,      4,2,20030714,2247,  2.5033, 165.0117, 4123,    398.1,   9.2350,  34.6713,2,  34.6698,2,   -999.0,9,   -999.0,9,  9.1907
  33KM200307_1,  PR15,     7,  1,      3,      3,2,20030714,2247,  2.5033, 165.0117, 4123,    599.1,   7.0773,  34.5619,2,  34.5603,2,   -999.0,9,   -999.0,9,  7.0196
  33KM200307_1,  PR15,     7,  1,      2,      2,2,20030714,2247,  2.5033, 165.0117, 4123,    799.2,   5.5043,  34.5406,2,  34.5373,2,   -999.0,9,   -999.0,9,  5.4357
  33KM200307_1,  PR15,     7,  1,      1,      1,2,20030714,2247,  2.5033, 165.0117, 4123,   1001.0,   4.3861,  34.5606,2,  34.5591,2,   -999.0,9,   -999.0,9,  4.3073
  33KM200307_1,  PR15,     8,  1,     12,     12,2,20030715,1005,  2.0167, 164.9883, 4167,      2.6,  30.0506,  34.3140,2,  34.3158,2,   -999.0,9,   -999.0,9, 30.0499
  33KM200307_1,  PR15,     8,  1,     11,     11,2,20030715,1005,  2.0167, 164.9883, 4167,     10.5,  30.0648,  34.3176,2,  34.3152,2,   -999.0,9,   -999.0,9, 30.0622
  33KM200307_1,  PR15,     8,  1,     10,     10,2,20030715,1005,  2.0167, 164.9883, 4167,     24.6,  30.0361,  34.3093,2,  34.3119,2,   -999.0,9,   -999.0,9, 30.0300
  33KM200307_1,  PR15,     8,  1,      9,      9,2,20030715,1005,  2.0167, 164.9883, 4167,     39.5,  29.9594,  34.3629,2,  34.3540,2,   -999.0,9,   -999.0,9, 29.9496
  33KM200307_1,  PR15,     8,  1,      8,      8,2,20030715,1005,  2.0167, 164.9883, 4167,     60.6,  29.5833,  34.9686,2,  34.9113,2,   -999.0,9,   -999.0,9, 29.5684
  33KM200307_1,  PR15,     8,  1,      7,      7,2,20030715,1005,  2.0167, 164.9883, 4167,    101.0,  26.4837,  35.1125,2,  35.1190,2,   -999.0,9,   -999.0,9, 26.4609
  33KM200307_1,  PR15,     8,  1,      6,      6,2,20030715,1005,  2.0167, 164.9883, 4167,    148.3,  20.4163,  34.9174,2,  34.9351,2,   -999.0,9,   -999.0,9, 20.3885
  33KM200307_1,  PR15,     8,  1,      5,      5,2,20030715,1005,  2.0167, 164.9883, 4167,    204.6,  13.8419,  34.7983,2,  34.8084,2,   -999.0,9,   -999.0,9, 13.8126
  33KM200307_1,  PR15,     8,  1,      3,      3,2,20030715,1005,  2.0167, 164.9883, 4167,    601.1,   6.9885,  34.5563,2,  34.5562,2,   -999.0,9,   -999.0,9,  6.9310
  33KM200307_1,  PR15,     8,  1,      2,      2,2,20030715,1005,  2.0167, 164.9883, 4167,    802.7,   5.4189,  34.5416,2,  34.5417,2,   -999.0,9,   -999.0,9,  5.3505
  33KM200307_1,  PR15,     8,  1,      1,      1,2,20030715,1005,  2.0167, 164.9883, 4167,    996.8,   4.4308,  34.5570,2,  34.5572,2,   -999.0,9,   -999.0,9,  4.3520
  33KM200307_1,  PR15,     9,  1,     12,     12,2,20030715,1445,  1.5067, 165.0067, 4261,      2.5,  30.0408,  34.4028,2,  34.4027,2,   -999.0,9,   -999.0,9, 30.0402
  33KM200307_1,  PR15,     9,  1,     11,     11,2,20030715,1445,  1.5067, 165.0067, 4261,     10.4,  30.0443,  34.4046,2,  34.4027,2,   -999.0,9,   -999.0,9, 30.0417
  33KM200307_1,  PR15,     9,  1,     10,     10,2,20030715,1445,  1.5067, 165.0067, 4261,     23.9,  30.0513,  34.4184,2,  34.4160,2,   -999.0,9,   -999.0,9, 30.0454
  33KM200307_1,  PR15,     9,  1,      9,      9,2,20030715,1445,  1.5067, 165.0067, 4261,     39.9,  29.9651,  34.5866,2,  34.5847,2,   -999.0,9,   -999.0,9, 29.9552
  33KM200307_1,  PR15,     9,  1,      8,      8,2,20030715,1445,  1.5067, 165.0067, 4261,     59.4,  29.8150,  34.9399,2,  34.9350,2,   -999.0,9,   -999.0,9, 29.8004
  33KM200307_1,  PR15,     9,  1,      7,      7,2,20030715,1445,  1.5067, 165.0067, 4261,     99.1,  26.9526,  35.2191,2,  35.2784,2,   -999.0,9,   -999.0,9, 26.9299
  33KM200307_1,  PR15,     9,  1,      6,      6,2,20030715,1445,  1.5067, 165.0067, 4261,    151.8,  20.5330,  34.9626,2,  34.9530,2,   -999.0,9,   -999.0,9, 20.5044
  33KM200307_1,  PR15,     9,  1,      5,      5,2,20030715,1445,  1.5067, 165.0067, 4261,    199.6,  15.2227,  34.6665,2,  34.6628,2,   -999.0,9,   -999.0,9, 15.1923
  33KM200307_1,  PR15,     9,  1,      4,      4,2,20030715,1445,  1.5067, 165.0067, 4261,    400.3,   9.7744,  34.7102,2,  34.7107,2,   -999.0,9,   -999.0,9,  9.7282
  33KM200307_1,  PR15,     9,  1,      3,      3,2,20030715,1445,  1.5067, 165.0067, 4261,    597.6,   7.0284,  34.5682,2,  34.5672,2,   -999.0,9,   -999.0,9,  6.9711
  33KM200307_1,  PR15,     9,  1,      2,      2,2,20030715,1445,  1.5067, 165.0067, 4261,    800.4,   5.2861,  34.5420,2,  34.5394,2,   -999.0,9,   -999.0,9,  5.2188
  33KM200307_1,  PR15,     9,  1,      1,      1,2,20030715,1445,  1.5067, 165.0067, 4261,   1005.2,   4.4291,  34.5575,2,  34.5567,2,   -999.0,9,   -999.0,9,  4.3496