BOTTLE,20040301WHPSIODBK
EXPOCODE,SECT_ID,STNNBR,CASTNO,SAMPNO,BTLNBR,BTLNBR_FLAG_W,DATE,TIME,LATITUDE,LONGITUDE,DEPTH,CTDPRS,CTDTMP,CTDSAL,CTDSAL_FLAG_W,SALNTY,SALNTY_FLAG_W,CTDOXY,CTDOXY_FLAG_W,OXYGEN,OXYGEN_FLAG_W,THETA
,,,,,,,,,,,,DBAR,ITS-90,PSS-78,,PSS-78,,UMOL/KG,,UMOL/KG,,DEG C
  33KM200307_1,  PR15,    10,  1,     12,     12,2,20030715,1856,  0.9983, 165.0150, 4333,      1.9,  30.0922,  34.4221,2,  34.4217,2,   -999.0,9,   -999.0,9, 30.0917
  33KM200307_1,  PR15,    10,  1,     11,     11,2,20030715,1856,  0.9983, 165.0150, 4333,      9.6,  30.0835,  34.4224,2,  34.4259,2,   -999.0,9,   -999.0,9, 30.0811
  33KM200307_1,  PR15,    10,  1,     10,     10,2,20030715,1856,  0.9983, 165.0150, 4333,     25.5,  30.0972,  34.4318,2,  34.4333,2,   -999.0,9,   -999.0,9, 30.0908
  33KM200307_1,  PR15,    10,  1,      9,      9,2,20030715,1856,  0.9983, 165.0150, 4333,     40.1,  29.9816,  34.7407,2,  34.6376,2,   -999.0,9,   -999.0,9, 29.9717
  33KM200307_1,  PR15,    10,  1,      8,      8,2,20030715,1856,  0.9983, 165.0150, 4333,     58.8,  29.5681,  35.1687,2,  35.1716,2,   -999.0,9,   -999.0,9, 29.5537
  33KM200307_1,  PR15,    10,  1,      7,      7,2,20030715,1856,  0.9983, 165.0150, 4333,    101.3,  26.2168,  35.2162,2,  35.2237,2,   -999.0,9,   -999.0,9, 26.1940
  33KM200307_1,  PR15,    10,  1,      6,      6,2,20030715,1856,  0.9983, 165.0150, 4333,    151.2,  20.1726,  34.9759,2,  34.9753,2,   -999.0,9,   -999.0,9, 20.1444
  33KM200307_1,  PR15,    10,  1,      5,      5,2,20030715,1856,  0.9983, 165.0150, 4333,    198.0,  16.7036,  35.0997,2,  35.1009,2,   -999.0,9,   -999.0,9, 16.6713
  33KM200307_1,  PR15,    10,  1,      3,      3,2,20030715,1856,  0.9983, 165.0150, 4333,    601.2,   6.8210,  34.5617,2,  34.5630,2,   -999.0,9,   -999.0,9,  6.7642
  33KM200307_1,  PR15,    10,  1,      2,      2,2,20030715,1856,  0.9983, 165.0150, 4333,    798.4,   5.3199,  34.5412,2,  34.5453,2,   -999.0,9,   -999.0,9,  5.2526
  33KM200307_1,  PR15,    10,  1,      1,      1,2,20030715,1856,  0.9983, 165.0150, 4333,   1001.5,   4.4725,  34.5556,2,  34.5545,2,   -999.0,9,   -999.0,9,  4.3930
  33KM200307_1,  PR15,    11,  1,     12,     12,2,20030715,2305,  0.5033, 165.0117, 4366,      2.9,  30.1760,  34.4712,2,  34.4719,2,   -999.0,9,   -999.0,9, 30.1752
  33KM200307_1,  PR15,    11,  1,     11,     11,2,20030715,2305,  0.5033, 165.0117, 4366,      9.1,  30.0765,  34.4668,2,  34.4694,2,   -999.0,9,   -999.0,9, 30.0742
  33KM200307_1,  PR15,    11,  1,     10,     10,2,20030715,2305,  0.5033, 165.0117, 4366,     24.4,  30.0606,  34.4670,2,  34.4651,2,   -999.0,9,   -999.0,9, 30.0545
  33KM200307_1,  PR15,    11,  1,      9,      9,2,20030715,2305,  0.5033, 165.0117, 4366,     40.2,  29.8000,  35.0386,2,  35.0373,2,   -999.0,9,   -999.0,9, 29.7901
  33KM200307_1,  PR15,    11,  1,      8,      8,2,20030715,2305,  0.5033, 165.0117, 4366,     61.1,  29.7161,  35.1867,2,  35.1689,2,   -999.0,9,   -999.0,9, 29.7010
  33KM200307_1,  PR15,    11,  1,      7,      7,2,20030715,2305,  0.5033, 165.0117, 4366,    101.4,  26.1380,  35.3419,2,  35.3401,2,   -999.0,9,   -999.0,9, 26.1153
  33KM200307_1,  PR15,    11,  1,      6,      6,2,20030715,2305,  0.5033, 165.0117, 4366,    152.6,  20.2468,  35.1017,2,  35.0683,2,   -999.0,9,   -999.0,9, 20.2184
  33KM200307_1,  PR15,    11,  1,      5,      5,2,20030715,2305,  0.5033, 165.0117, 4366,    198.5,  16.8146,  35.1957,2,  35.2129,2,   -999.0,9,   -999.0,9, 16.7820
  33KM200307_1,  PR15,    11,  1,      4,      4,2,20030715,2305,  0.5033, 165.0117, 4366,    406.5,   9.3525,  34.6841,2,  34.6835,2,   -999.0,9,   -999.0,9,  9.3069
  33KM200307_1,  PR15,    11,  1,      3,      3,2,20030715,2305,  0.5033, 165.0117, 4366,    598.6,   7.0160,  34.5682,2,  34.5698,2,   -999.0,9,   -999.0,9,  6.9586
  33KM200307_1,  PR15,    11,  1,      2,      2,2,20030715,2305,  0.5033, 165.0117, 4366,    799.6,   5.3441,  34.5419,2,  34.5407,2,   -999.0,9,   -999.0,9,  5.2765
  33KM200307_1,  PR15,    11,  1,      1,      1,2,20030715,2305,  0.5033, 165.0117, 4366,   1003.8,   4.4615,  34.5570,2,  34.5625,2,   -999.0,9,   -999.0,9,  4.3819
  33KM200307_1,  PR15,    12,  1,     12,     12,2,20030716,0901,  0.0200, 165.0017, 4411,      1.9,  30.3957,  34.4596,2,  34.4595,2,   -999.0,9,   -999.0,9, 30.3952
  33KM200307_1,  PR15,    12,  1,     11,     11,2,20030716,0901,  0.0200, 165.0017, 4411,      9.7,  30.0836,  34.4360,2,  34.4361,2,   -999.0,9,   -999.0,9, 30.0812
  33KM200307_1,  PR15,    12,  1,     10,     10,2,20030716,0901,  0.0200, 165.0017, 4411,     25.5,  30.0674,  34.4571,2,  34.4545,2,   -999.0,9,   -999.0,9, 30.0611
  33KM200307_1,  PR15,    12,  1,      9,      9,2,20030716,0901,  0.0200, 165.0017, 4411,     40.0,  29.9992,  34.8996,2,  34.8907,2,   -999.0,9,   -999.0,9, 29.9893
  33KM200307_1,  PR15,    12,  1,      8,      8,2,20030716,0901,  0.0200, 165.0017, 4411,     59.2,  29.9317,  34.9913,2,  34.9899,2,   -999.0,9,   -999.0,9, 29.9171
  33KM200307_1,  PR15,    12,  1,      7,      7,2,20030716,0901,  0.0200, 165.0017, 4411,     99.9,  27.0161,  35.3517,2,  35.3517,2,   -999.0,9,   -999.0,9, 26.9932
  33KM200307_1,  PR15,    12,  1,      6,      6,2,20030716,0901,  0.0200, 165.0017, 4411,    150.9,  21.0799,  35.0764,2,  35.0795,2,   -999.0,9,   -999.0,9, 21.0510
  33KM200307_1,  PR15,    12,  1,      5,      5,2,20030716,0901,  0.0200, 165.0017, 4411,    203.0,  16.0156,  35.1981,2,  35.1669,2,   -999.0,9,   -999.0,9, 15.9833
  33KM200307_1,  PR15,    12,  1,      4,      4,2,20030716,0901,  0.0200, 165.0017, 4411,    498.8,   8.3456,  34.6283,2,  34.6274,2,   -999.0,9,   -999.0,9,  8.2931
  33KM200307_1,  PR15,    12,  1,      3,      3,2,20030716,0901,  0.0200, 165.0017, 4411,   1501.5,   2.9606,  34.6075,2,  34.6048,2,   -999.0,9,   -999.0,9,  2.8530
  33KM200307_1,  PR15,    12,  1,      2,      2,2,20030716,0901,  0.0200, 165.0017, 4411,   3002.0,   1.6705,  34.6740,2,  34.6710,2,   -999.0,9,   -999.0,9,  1.4497
  33KM200307_1,  PR15,    12,  1,      1,      1,2,20030716,0901,  0.0200, 165.0017, 4411,   4000.6,   1.4291,  34.6950,2,  34.6938,2,   -999.0,9,   -999.0,9,  1.1120
  33KM200307_1,  PR15,    13,  1,     12,     12,2,20030716,1514, -0.5017, 165.0150, 4440,      2.0,  30.1786,  34.3585,2,  34.3524,2,   -999.0,9,   -999.0,9, 30.1781
  33KM200307_1,  PR15,    13,  1,     11,     11,2,20030716,1514, -0.5017, 165.0150, 4440,      9.9,  30.0563,  34.4136,2,  34.4126,2,   -999.0,9,   -999.0,9, 30.0538
  33KM200307_1,  PR15,    13,  1,     10,     10,2,20030716,1514, -0.5017, 165.0150, 4440,     23.8,  30.0452,  34.4453,2,  34.4406,2,   -999.0,9,   -999.0,9, 30.0393
  33KM200307_1,  PR15,    13,  1,      9,      9,2,20030716,1514, -0.5017, 165.0150, 4440,     38.7,  30.0320,  34.7859,2,  34.7798,2,   -999.0,9,   -999.0,9, 30.0224
  33KM200307_1,  PR15,    13,  1,      7,      7,2,20030716,1514, -0.5017, 165.0150, 4440,    100.8,  26.2168,  35.3507,2,  35.3520,2,   -999.0,9,   -999.0,9, 26.1942
  33KM200307_1,  PR15,    13,  1,      6,      6,2,20030716,1514, -0.5017, 165.0150, 4440,    149.6,  22.3442,  35.1563,2,  35.1523,2,   -999.0,9,   -999.0,9, 22.3143
  33KM200307_1,  PR15,    13,  1,      5,      5,2,20030716,1514, -0.5017, 165.0150, 4440,    198.5,  17.4586,  35.3535,2,  35.3594,2,   -999.0,9,   -999.0,9, 17.4251
  33KM200307_1,  PR15,    13,  1,      4,      4,2,20030716,1514, -0.5017, 165.0150, 4440,    398.9,   9.3977,  34.6900,2,  34.6888,2,   -999.0,9,   -999.0,9,  9.3529
  33KM200307_1,  PR15,    13,  1,      3,      3,2,20030716,1514, -0.5017, 165.0150, 4440,    597.5,   6.9695,  34.5659,2,  34.5651,2,   -999.0,9,   -999.0,9,  6.9125
  33KM200307_1,  PR15,    13,  1,      2,      2,2,20030716,1514, -0.5017, 165.0150, 4440,    800.1,   5.3372,  34.5369,2,  34.5348,2,   -999.0,9,   -999.0,9,  5.2696
  33KM200307_1,  PR15,    13,  1,      1,      1,2,20030716,1514, -0.5017, 165.0150, 4440,   1003.2,   4.4669,  34.5559,2,  34.5544,2,   -999.0,9,   -999.0,9,  4.3873
  33KM200307_1,  PR15,    14,  1,     12,     12,2,20030716,1924, -1.0033, 165.0167, 4437,      2.5,  29.9843,  34.2693,2,  34.2706,2,   -999.0,9,   -999.0,9, 29.9837
  33KM200307_1,  PR15,    14,  1,      8,      8,2,20030716,1924, -1.0033, 165.0167, 4437,     59.5,  29.8690,  34.9765,2,  34.9640,2,   -999.0,9,   -999.0,9, 29.8543
  33KM200307_1,  PR15,    14,  1,      7,      7,2,20030716,1924, -1.0033, 165.0167, 4437,    100.3,  26.5979,  35.3950,2,  35.3913,2,   -999.0,9,   -999.0,9, 26.5751
  33KM200307_1,  PR15,    14,  1,      6,      6,2,20030716,1924, -1.0033, 165.0167, 4437,    151.6,  21.9764,  35.2295,2,  35.2125,2,   -999.0,9,   -999.0,9, 21.9464
  33KM200307_1,  PR15,    14,  1,      5,      5,2,20030716,1924, -1.0033, 165.0167, 4437,    199.5,  17.4824,  35.3859,2,  35.3854,2,   -999.0,9,   -999.0,9, 17.4487
  33KM200307_1,  PR15,    14,  1,      4,      4,2,20030716,1924, -1.0033, 165.0167, 4437,    398.6,  10.1356,  34.7427,2,  34.7407,2,   -999.0,9,   -999.0,9, 10.0886
  33KM200307_1,  PR15,    14,  1,      3,      3,2,20030716,1924, -1.0033, 165.0167, 4437,    599.3,   7.1291,  34.5719,2,  34.5702,2,   -999.0,9,   -999.0,9,  7.0711
  33KM200307_1,  PR15,    14,  1,      1,      1,2,20030716,1924, -1.0033, 165.0167, 4437,   1002.0,   4.4587,  34.5569,2,  34.5565,2,   -999.0,9,   -999.0,9,  4.3793
  33KM200307_1,  PR15,    15,  1,     12,     12,2,20030716,2328, -1.4950, 165.0083, 4458,      3.5,  29.9347,  34.2309,2,  34.2318,2,   -999.0,9,   -999.0,9, 29.9338
  33KM200307_1,  PR15,    15,  1,     11,     11,2,20030716,2328, -1.4950, 165.0083, 4458,     10.6,  29.9082,  34.2430,2,  34.2310,2,   -999.0,9,   -999.0,9, 29.9056
  33KM200307_1,  PR15,    15,  1,     10,     10,2,20030716,2328, -1.4950, 165.0083, 4458,     25.0,  29.9703,  34.3376,2,  34.3301,2,   -999.0,9,   -999.0,9, 29.9641
  33KM200307_1,  PR15,    15,  1,      9,      9,2,20030716,2328, -1.4950, 165.0083, 4458,     39.9,  30.0667,  34.6715,2,  34.6650,2,   -999.0,9,   -999.0,9, 30.0568
  33KM200307_1,  PR15,    15,  1,      8,      8,2,20030716,2328, -1.4950, 165.0083, 4458,     60.5,  29.9710,  35.0608,2,  35.0568,2,   -999.0,9,   -999.0,9, 29.9560
  33KM200307_1,  PR15,    15,  1,      7,      7,2,20030716,2328, -1.4950, 165.0083, 4458,     99.9,  26.9020,  35.4477,2,  35.4438,2,   -999.0,9,   -999.0,9, 26.8792
  33KM200307_1,  PR15,    15,  1,      6,      6,2,20030716,2328, -1.4950, 165.0083, 4458,    150.7,  23.0654,  35.3178,2,  35.3109,2,   -999.0,9,   -999.0,9, 23.0345
  33KM200307_1,  PR15,    15,  1,      5,      5,2,20030716,2328, -1.4950, 165.0083, 4458,    198.1,  20.4023,  35.6164,2,  35.6162,2,   -999.0,9,   -999.0,9, 20.3650
  33KM200307_1,  PR15,    15,  1,      3,      3,2,20030716,2328, -1.4950, 165.0083, 4458,    599.8,   6.9258,  34.5655,2,  34.5636,2,   -999.0,9,   -999.0,9,  6.8687
  33KM200307_1,  PR15,    15,  1,      2,      2,2,20030716,2328, -1.4950, 165.0083, 4458,    799.6,   5.2881,  34.5389,2,  34.5378,2,   -999.0,9,   -999.0,9,  5.2209
  33KM200307_1,  PR15,    15,  1,      1,      1,2,20030716,2328, -1.4950, 165.0083, 4458,   1000.0,   4.4226,  34.5547,2,  34.5519,2,   -999.0,9,   -999.0,9,  4.3436
  33KM200307_1,  PR15,    16,  1,     12,     12,2,20030717,0343, -2.0033, 165.0117, 4467,      3.2,  29.8279,  34.2930,2,  34.2936,2,   -999.0,9,   -999.0,9, 29.8271
  33KM200307_1,  PR15,    16,  1,     11,     11,2,20030717,0343, -2.0033, 165.0117, 4467,      9.1,  29.8174,  34.2977,2,  34.2967,2,   -999.0,9,   -999.0,9, 29.8152
  33KM200307_1,  PR15,    16,  1,     10,     10,2,20030717,0343, -2.0033, 165.0117, 4467,     23.9,  30.0014,  34.5576,2,  34.4763,2,   -999.0,9,   -999.0,9, 29.9955
  33KM200307_1,  PR15,    16,  1,      9,      9,2,20030717,0343, -2.0033, 165.0117, 4467,     39.2,  30.1533,  35.1316,2,  35.1319,2,   -999.0,9,   -999.0,9, 30.1435
  33KM200307_1,  PR15,    16,  1,      8,      8,2,20030717,0343, -2.0033, 165.0117, 4467,     59.2,  29.5227,  35.2605,2,  35.2652,2,   -999.0,9,   -999.0,9, 29.5082
  33KM200307_1,  PR15,    16,  1,      7,      7,2,20030717,0343, -2.0033, 165.0117, 4467,     99.6,  29.1010,  35.5452,2,  35.5436,2,   -999.0,9,   -999.0,9, 29.0768
  33KM200307_1,  PR15,    16,  1,      6,      6,2,20030717,0343, -2.0033, 165.0117, 4467,    148.6,  24.2159,  35.4492,2,  35.4477,2,   -999.0,9,   -999.0,9, 24.1843
  33KM200307_1,  PR15,    16,  1,      5,      5,2,20030717,0343, -2.0033, 165.0117, 4467,    200.0,  18.9772,  35.5080,2,  35.5112,2,   -999.0,9,   -999.0,9, 18.9415
  33KM200307_1,  PR15,    16,  1,      4,      4,2,20030717,0343, -2.0033, 165.0117, 4467,    399.4,   9.9051,  34.7344,2,  34.7329,2,   -999.0,9,   -999.0,9,  9.8587
  33KM200307_1,  PR15,    16,  1,      3,      3,2,20030717,0343, -2.0033, 165.0117, 4467,    599.3,   6.8816,  34.5581,2,  34.5578,2,   -999.0,9,   -999.0,9,  6.8248
  33KM200307_1,  PR15,    16,  1,      2,      2,2,20030717,0343, -2.0033, 165.0117, 4467,    800.0,   5.3040,  34.5359,2,  34.5374,2,   -999.0,9,   -999.0,9,  5.2366
  33KM200307_1,  PR15,    16,  1,      1,      1,2,20030717,0343, -2.0033, 165.0117, 4467,   1001.7,   4.3389,  34.5544,2,  34.5559,2,   -999.0,9,   -999.0,9,  4.2604
  33KM200307_1,  PR15,    17,  1,     12,     12,2,20030717,0812, -2.4950, 165.0283, 2688,      2.2,  29.9060,  34.5970,2,  34.5967,2,   -999.0,9,   -999.0,9, 29.9055
  33KM200307_1,  PR15,    17,  1,     11,     11,2,20030717,0812, -2.4950, 165.0283, 2688,     10.3,  29.9036,  34.5969,2,  34.5957,2,   -999.0,9,   -999.0,9, 29.9011
  33KM200307_1,  PR15,    17,  1,     10,     10,2,20030717,0812, -2.4950, 165.0283, 2688,     24.9,  30.2764,  35.0241,2,  34.9918,2,   -999.0,9,   -999.0,9, 30.2702
  33KM200307_1,  PR15,    17,  1,      9,      9,2,20030717,0812, -2.4950, 165.0283, 2688,     40.1,  30.3053,  35.3305,2,  35.3273,2,   -999.0,9,   -999.0,9, 30.2953
  33KM200307_1,  PR15,    17,  1,      8,      8,2,20030717,0812, -2.4950, 165.0283, 2688,     60.3,  29.3977,  35.3807,2,  35.3850,2,   -999.0,9,   -999.0,9, 29.3830
  33KM200307_1,  PR15,    17,  1,      7,      7,2,20030717,0812, -2.4950, 165.0283, 2688,    100.2,  29.1532,  35.5105,2,  35.5086,2,   -999.0,9,   -999.0,9, 29.1288
  33KM200307_1,  PR15,    17,  1,      6,      6,2,20030717,0812, -2.4950, 165.0283, 2688,    150.3,  25.1797,  35.6255,2,  35.6260,2,   -999.0,9,   -999.0,9, 25.1468
  33KM200307_1,  PR15,    17,  1,      5,      5,2,20030717,0812, -2.4950, 165.0283, 2688,    202.4,  15.8054,  35.2835,2,  35.2913,2,   -999.0,9,   -999.0,9, 15.7736
  33KM200307_1,  PR15,    17,  1,      4,      4,2,20030717,0812, -2.4950, 165.0283, 2688,    401.2,   9.8276,  34.7282,2,  34.7268,2,   -999.0,9,   -999.0,9,  9.7813
  33KM200307_1,  PR15,    17,  1,      3,      3,2,20030717,0812, -2.4950, 165.0283, 2688,    601.9,   6.9892,  34.5670,2,  34.5692,2,   -999.0,9,   -999.0,9,  6.9316
  33KM200307_1,  PR15,    17,  1,      2,      2,2,20030717,0812, -2.4950, 165.0283, 2688,    803.8,   5.2620,  34.5302,2,  34.5324,2,   -999.0,9,   -999.0,9,  5.1946
  33KM200307_1,  PR15,    17,  1,      1,      1,2,20030717,0812, -2.4950, 165.0283, 2688,    999.4,   4.3482,  34.5528,2,  34.5530,2,   -999.0,9,   -999.0,9,  4.2698
  33KM200307_1,  PR15,    18,  1,     12,     12,2,20030717,1224, -2.9950, 165.0617, 4204,      2.6,  29.9059,  34.7258,2,  34.7244,2,   -999.0,9,   -999.0,9, 29.9053
  33KM200307_1,  PR15,    18,  1,     11,     11,2,20030717,1224, -2.9950, 165.0617, 4204,     10.8,  29.9088,  34.7256,2,  34.7234,2,   -999.0,9,   -999.0,9, 29.9061
  33KM200307_1,  PR15,    18,  1,     10,     10,2,20030717,1224, -2.9950, 165.0617, 4204,     25.0,  30.0547,  35.3540,2,  35.3482,2,   -999.0,9,   -999.0,9, 30.0485
  33KM200307_1,  PR15,    18,  1,      9,      9,2,20030717,1224, -2.9950, 165.0617, 4204,     39.2,  29.5754,  35.3696,2,  35.3700,2,   -999.0,9,   -999.0,9, 29.5658
  33KM200307_1,  PR15,    18,  1,      8,      8,2,20030717,1224, -2.9950, 165.0617, 4204,     58.8,  29.4451,  35.4855,2,  35.4816,2,   -999.0,9,   -999.0,9, 29.4307
  33KM200307_1,  PR15,    18,  1,      7,      7,2,20030717,1224, -2.9950, 165.0617, 4204,     99.3,  29.1477,  35.5554,2,  35.5518,2,   -999.0,9,   -999.0,9, 29.1236
  33KM200307_1,  PR15,    18,  1,      6,      6,2,20030717,1224, -2.9950, 165.0617, 4204,    149.0,  26.1457,  35.6473,2,  35.6324,2,   -999.0,9,   -999.0,9, 26.1122
  33KM200307_1,  PR15,    18,  1,      5,      5,2,20030717,1224, -2.9950, 165.0617, 4204,    200.5,  16.3491,  35.3104,2,  35.3197,2,   -999.0,9,   -999.0,9, 16.3168
  33KM200307_1,  PR15,    18,  1,      4,      4,2,20030717,1224, -2.9950, 165.0617, 4204,    397.9,   9.3488,  34.7009,2,  34.7012,2,   -999.0,9,   -999.0,9,  9.3042
  33KM200307_1,  PR15,    18,  1,      3,      3,2,20030717,1224, -2.9950, 165.0617, 4204,    597.5,   6.8035,  34.5581,2,  34.5576,2,   -999.0,9,   -999.0,9,  6.7472
  33KM200307_1,  PR15,    18,  1,      2,      2,2,20030717,1224, -2.9950, 165.0617, 4204,    801.7,   5.2716,  34.5314,2,  34.5312,2,   -999.0,9,   -999.0,9,  5.2043
  33KM200307_1,  PR15,    18,  1,      1,      1,2,20030717,1224, -2.9950, 165.0617, 4204,   1001.9,   4.3563,  34.5502,2,  34.5465,2,   -999.0,9,   -999.0,9,  4.2776
  33KM200307_1,  PR15,    19,  1,     12,     12,2,20030717,1934, -4.0033, 165.1267, 3383,      3.1,  29.8237,  35.0227,2,  35.0225,2,   -999.0,9,   -999.0,9, 29.8230
  33KM200307_1,  PR15,    19,  1,     10,     10,2,20030717,1934, -4.0033, 165.1267, 3383,     24.3,  29.8302,  35.0201,2,  35.0217,2,   -999.0,9,   -999.0,9, 29.8242
  33KM200307_1,  PR15,    19,  1,      9,      9,2,20030717,1934, -4.0033, 165.1267, 3383,     40.4,  30.1220,  35.3908,2,  35.1417,2,   -999.0,9,   -999.0,9, 30.1119
  33KM200307_1,  PR15,    19,  1,      8,      8,2,20030717,1934, -4.0033, 165.1267, 3383,     60.5,  29.9159,  35.5069,2,  35.5086,2,   -999.0,9,   -999.0,9, 29.9009
  33KM200307_1,  PR15,    19,  1,      7,      7,2,20030717,1934, -4.0033, 165.1267, 3383,    103.2,  29.1622,  35.5243,2,  35.5444,2,   -999.0,9,   -999.0,9, 29.1371
  33KM200307_1,  PR15,    19,  1,      6,      6,2,20030717,1934, -4.0033, 165.1267, 3383,    152.2,  27.8613,  35.7566,2,  35.7454,2,   -999.0,9,   -999.0,9, 27.8255
  33KM200307_1,  PR15,    19,  1,      5,      5,2,20030717,1934, -4.0033, 165.1267, 3383,    203.3,  19.1314,  35.6121,2,  35.6283,2,   -999.0,9,   -999.0,9, 19.0948
  33KM200307_1,  PR15,    19,  1,      4,      4,2,20030717,1934, -4.0033, 165.1267, 3383,    398.4,   8.9604,  34.6761,2,  34.6756,2,   -999.0,9,   -999.0,9,  8.9170
  33KM200307_1,  PR15,    19,  1,      3,      3,2,20030717,1934, -4.0033, 165.1267, 3383,    604.0,   6.8500,  34.5613,2,  34.5627,2,   -999.0,9,   -999.0,9,  6.7928
  33KM200307_1,  PR15,    19,  1,      2,      2,2,20030717,1934, -4.0033, 165.1267, 3383,    798.1,   5.4171,  34.5361,2,  34.5385,2,   -999.0,9,   -999.0,9,  5.3492
  33KM200307_1,  PR15,    19,  1,      1,      1,2,20030717,1934, -4.0033, 165.1267, 3383,    999.6,   4.5716,  34.5442,2,  34.5438,2,   -999.0,9,   -999.0,9,  4.4915