BOTTLE,20010706WHPSIOKJU
EXPOCODE,SECT_ID,STNNBR,CASTNO,SAMPNO,BTLNBR,BTLNBR_FLAG_W,DATE,TIME,LATITUDE,LONGITUDE,DEPTH,CTDPRS,CTDTMP,CTDSAL,CTDSAL_FLAG_W,SALNTY,SALNTY_FLAG_W,CTDOXY,CTDOXY_FLAG_W,SILCAT,SILCAT_FLAG_W,NO2+NO3,NO2+NO3_FLAG_W,PHSPHT,PHSPHT_FLAG_W,CFC-11,CFC-11_FLAG_W,CFC-12,CFC-12_FLAG_W,CFC113,CFC113_FLAG_W,CCL4,CCL4_FLAG_W
,,,,,,,,,,,,DBAR,ITS-90,PSS-78,,PSS-78,,UMOL/KG,,UMOL/KG,,UMOL/KG,,UMOL/KG,,PMOL/KG,,PMOL/KG,,PMOL/KG,,PMOL/KG,
   18HU93019_1, AR07W,    15,  2, 126177,   BO17,2,19930621,1313, 56.5428, -52.6915, 3489,      3.4,   4.7537,  34.5101,2,  34.5113,2,    270.5,1,     4.56,6,     6.63,6,     0.49,6,    4.004,2,    2.439,2,    1.011,3,    8.580,2
   18HU93019_1, AR07W,    15,  2, 126176,    OC1,2,19930621,1313, 56.5428, -52.6915, 3489,     30.0,   4.1965,  34.5236,2,  34.5226,2,    265.8,1,     6.03,6,     8.19,6,     0.60,6,    4.439,2,    2.387,2,    0.725,2,    9.773,2
   18HU93019_1, AR07W,    15,  2, 126175,    OC7,3,19930621,1313, 56.5428, -52.6915, 3489,     55.4,   3.0618,  34.6151,2,  34.5978,4,    259.0,1,     7.76,6,    11.67,6,     0.86,6,    4.362,2,    2.291,2,    0.601,2,    9.600,2
   18HU93019_1, AR07W,    15,  2, 126174,    OC6,2,19930621,1313, 56.5428, -52.6915, 3489,    102.5,   2.9206,  34.7876,2,  34.7910,2,    245.8,1,     8.86,6,    15.84,6,     1.03,6, -999.000,5, -999.000,5, -999.000,5, -999.000,5
   18HU93019_1, AR07W,    15,  2, 126173,    BO5,2,19930621,1313, 56.5428, -52.6915, 3489,    202.4,   2.9177,  34.8255,2,  34.8256,2,    243.6,1,     9.26,6,    16.28,6,     1.04,6,    3.412,2,    1.802,2,    0.575,2,    7.250,2
   18HU93019_1, AR07W,    15,  2, 126172,    BO8,2,19930621,1313, 56.5428, -52.6915, 3489,    402.3,   2.8623,  34.8335,2,  34.8340,2,    242.5,1,     9.55,6,    16.45,6,     1.06,6, -999.000,5, -999.000,5, -999.000,5, -999.000,5
   18HU93019_1, AR07W,    15,  2, 126171,    OC4,2,19930621,1313, 56.5428, -52.6915, 3489,    588.1,   2.8213,  34.8341,2,  34.8354,2,    242.7,1,     9.52,6,    16.40,6,     1.08,6,    2.826,2,    1.588,2,    0.357,2,    5.727,2
   18HU93019_1, AR07W,    15,  2, 126170,    OC9,2,19930621,1313, 56.5428, -52.6915, 3489,    789.8,   2.7976,  34.8344,2,  34.8355,6,    242.2,1,     9.41,6,    16.11,6,     1.05,6,    2.874,2,    1.654,2, -999.000,5,    5.830,2
   18HU93019_1, AR07W,    15,  2, 126169,   OC26,2,19930621,1313, 56.5428, -52.6915, 3489,    985.9,   2.7891,  34.8349,2,  34.8357,2,    241.9,1,     9.38,6,    16.12,6,     1.04,6,    2.902,2,    1.789,2,    0.709,2,    6.196,2
   18HU93019_1, AR07W,    15,  2, 126168,    OC2,2,19930621,1313, 56.5428, -52.6915, 3489,   1168.0,   2.7967,  34.8364,2,  34.8372,2,    242.3,1,     9.41,6,    16.19,6,     1.04,6,    2.741,2,    1.593,2, -999.000,5,    5.444,2
   18HU93019_1, AR07W,    15,  2, 126167,    BO1,2,19930621,1313, 56.5428, -52.6915, 3489,   1359.5,   2.7955,  34.8360,2,  34.8338,2,    243.6,1,     9.46,6,    16.18,6,     1.05,6,    2.923,2,    2.005,2,    0.725,2, -999.000,5
   18HU93019_1, AR07W,    15,  2, 126166,   BO15,2,19930621,1313, 56.5428, -52.6915, 3489,   1560.9,   2.8113,  34.8373,2,  34.8376,2,    241.2,1,     9.52,6,    16.07,6,     1.05,6,    3.157,2,    1.889,2, -999.000,5,    6.778,2
   18HU93019_1, AR07W,    15,  2, 126165,   BO16,2,19930621,1313, 56.5428, -52.6915, 3489,   1770.6,   2.8255,  34.8387,2,  34.8403,2,    240.9,1,     9.44,6,    16.18,6,     1.04,6,    3.000,2,    1.797,2,    0.745,2,    6.373,2
   18HU93019_1, AR07W,    15,  2, 126164,    OC8,2,19930621,1313, 56.5428, -52.6915, 3489,   1975.4,   2.8428,  34.8405,2,  34.8413,2,    240.2,1,     9.78,6,    16.77,6,     1.05,6,    2.997,2,    1.867,2,    0.827,2,    6.386,2
   18HU93019_1, AR07W,    15,  2, 126163,   BO12,3,19930621,1313, 56.5428, -52.6915, 3489,   2185.8,   2.8755,  34.8474,2,-999.0000,5,    237.0,1,     9.44,6,    16.05,6,     1.05,6,    3.213,6,    2.076,6,    0.880,6,    6.409,6
   18HU93019_1, AR07W,    15,  2, 126162,   BO10,2,19930621,1313, 56.5428, -52.6915, 3489,   2387.7,   3.1209,  34.9033,2,  34.9023,2,    223.5,1,    11.15,6,    16.56,6,     1.07,6,    1.629,2,    1.055,2,    0.473,2,    3.913,2
   18HU93019_1, AR07W,    15,  2, 126161,   BO11,3,19930621,1313, 56.5428, -52.6915, 3489,   2589.4,   3.0327,  34.9192,2,  34.8868,4,    221.2,1,    11.17,6,    16.31,6,     1.05,6,    1.327,2,    0.718,2,    0.142,2,    2.982,2
   18HU93019_1, AR07W,    15,  2, 126160,   BO18,2,19930621,1313, 56.5428, -52.6915, 3489,   2997.0,   2.6716,  34.9186,2,  34.9189,6,    222.2,1,    12.78,6,    15.81,6,     1.03,6,    1.217,2,    1.007,2,    0.352,2,    3.106,2
   18HU93019_1, AR07W,    15,  2, 126159,   OC19,2,19930621,1313, 56.5428, -52.6915, 3489,   3148.9,   2.4685,  34.9132,2,  34.9132,2,    223.0,1,    13.76,6,    15.81,6,     1.11,6,    1.221,2,    0.961,2,    0.343,2,    3.045,2
   18HU93019_1, AR07W,    15,  2, 126158,    OC3,2,19930621,1313, 56.5428, -52.6915, 3489,   3518.8,   1.7676,  34.8856,2,  34.8825,2,    236.1,1,    10.87,6,    14.56,6,     0.96,6,    2.292,2,    1.361,2,    0.344,2,    4.938,2
   18HU93019_1, AR07W,    16,  1, 126197,   BO17,2,19930621,1824, 56.9592, -52.2265, 3514,      6.5,   4.3253,  34.4439,2,-999.0000,5,    286.0,1,     5.48,6,     3.88,6,     0.42,6, -999.000,5, -999.000,5, -999.000,5, -999.000,5
   18HU93019_1, AR07W,    16,  1, 126196,    OC1,2,19930621,1824, 56.9592, -52.2265, 3514,     31.1,   4.0602,  34.4612,2,  34.4744,2,    274.7,1,     6.02,6,     6.25,6,     0.57,6, -999.000,5, -999.000,5, -999.000,5, -999.000,5
   18HU93019_1, AR07W,    16,  1, 126195,    OC7,2,19930621,1824, 56.9592, -52.2265, 3514,     56.7,   2.6345,  34.6340,2,  34.6303,2,    261.0,1,     8.40,6,    13.92,6,     0.97,6, -999.000,5, -999.000,5, -999.000,5, -999.000,5
   18HU93019_1, AR07W,    16,  1, 126194,    OC6,2,19930621,1824, 56.9592, -52.2265, 3514,    105.3,   2.8429,  34.7772,2,  34.7767,2,    248.7,1,     8.82,6,    15.80,6,     1.03,6, -999.000,5, -999.000,5, -999.000,5, -999.000,5
   18HU93019_1, AR07W,    16,  1, 126193,    BO5,2,19930621,1824, 56.9592, -52.2265, 3514,    203.5,   2.9155,  34.8219,2,  34.8224,2,    244.4,1,     9.11,6,    16.27,6,     1.05,6, -999.000,5, -999.000,5, -999.000,5, -999.000,5
   18HU93019_1, AR07W,    16,  1, 126192,    BO8,2,19930621,1824, 56.9592, -52.2265, 3514,    402.6,   2.8444,  34.8306,2,  34.8303,2,    244.2,1,     9.49,6,    16.31,6,     1.06,6, -999.000,5, -999.000,5, -999.000,5, -999.000,5
   18HU93019_1, AR07W,    16,  1, 126191,    OC4,2,19930621,1824, 56.9592, -52.2265, 3514,    605.8,   2.8287,  34.8346,2,  34.8373,2,    242.4,1,     9.42,6,    16.28,6,     1.07,6, -999.000,5, -999.000,5, -999.000,5, -999.000,5
   18HU93019_1, AR07W,    16,  1, 126190,    OC9,2,19930621,1824, 56.9592, -52.2265, 3514,    802.0,   2.8061,  34.8350,2,  34.8394,2,    242.5,1,     9.45,6,    16.36,6,     1.06,6, -999.000,5, -999.000,5, -999.000,5, -999.000,5
   18HU93019_1, AR07W,    16,  1, 126189,   OC26,2,19930621,1824, 56.9592, -52.2265, 3514,   1006.1,   2.7897,  34.8345,2,  34.8368,2,    241.7,1,     9.29,6,    16.28,6,     1.06,6, -999.000,5, -999.000,5, -999.000,5, -999.000,5
   18HU93019_1, AR07W,    16,  1, 126188,    OC2,2,19930621,1824, 56.9592, -52.2265, 3514,   1209.2,   2.7903,  34.8352,2,  34.8355,2,    242.2,1,     9.40,6,    16.11,6,     1.06,6, -999.000,5, -999.000,5, -999.000,5, -999.000,5
   18HU93019_1, AR07W,    16,  1, 126187,    BO1,2,19930621,1824, 56.9592, -52.2265, 3514,   1612.6,   2.8197,  34.8380,2,  34.8361,2,    242.2,1,     9.32,6,    16.02,6,     1.06,6,    3.174,2,    1.752,2,    0.419,2,    6.850,2
   18HU93019_1, AR07W,    16,  1, 126186,   BO15,2,19930621,1824, 56.9592, -52.2265, 3514,   1817.3,   2.8319,  34.8384,2,  34.8354,2,    240.7,1,     9.30,6,    16.10,6,     1.04,6, -999.000,5, -999.000,5, -999.000,5, -999.000,5
   18HU93019_1, AR07W,    16,  1, 126185,   BO16,2,19930621,1824, 56.9592, -52.2265, 3514,   2022.4,   2.8506,  34.8405,2,  34.8421,2,    240.9,1,     9.42,6,    16.26,6,     1.05,6, -999.000,5, -999.000,5, -999.000,5, -999.000,5
   18HU93019_1, AR07W,    16,  1, 126184,    OC8,2,19930621,1824, 56.9592, -52.2265, 3514,   2226.1,   2.8677,  34.8420,2,  34.8435,2,    239.6,1,     9.44,6,    16.25,6,     1.04,6, -999.000,5, -999.000,5, -999.000,5, -999.000,5
   18HU93019_1, AR07W,    16,  1, 126183,   BO12,2,19930621,1824, 56.9592, -52.2265, 3514,   2426.4,   3.1408,  34.9040,2,-999.0000,5,    221.8,1,    10.13,6,    15.99,6,     1.05,6, -999.000,5, -999.000,5, -999.000,5, -999.000,5
   18HU93019_1, AR07W,    16,  1, 126182,   BO10,2,19930621,1824, 56.9592, -52.2265, 3514,   2836.2,   2.8692,  34.9185,2,  34.9175,6,    222.7,1,    11.74,6,    16.05,6,     1.04,6, -999.000,5, -999.000,5, -999.000,5, -999.000,5
   18HU93019_1, AR07W,    16,  1, 126181,   BO11,3,19930621,1824, 56.9592, -52.2265, 3514,   3038.0,   2.6935,  34.9228,2,  34.8912,4,    216.9,1,    11.49,6,    16.30,6,     1.05,6, -999.000,5, -999.000,5, -999.000,5, -999.000,5
   18HU93019_1, AR07W,    16,  1, 126180,   BO18,2,19930621,1824, 56.9592, -52.2265, 3514,   3236.1,   2.3970,  34.9100,2,  34.9080,2,    224.9,1,    12.98,6,    15.69,6,     1.02,6, -999.000,5, -999.000,5, -999.000,5, -999.000,5
   18HU93019_1, AR07W,    16,  1, 126179,   OC19,2,19930621,1824, 56.9592, -52.2265, 3514,   3442.3,   1.9987,  34.8940,2,  34.8944,6,    230.5,1,    11.54,6,    14.71,6,     0.96,6, -999.000,5, -999.000,5, -999.000,5, -999.000,5
   18HU93019_1, AR07W,    16,  1, 126178,    OC3,2,19930621,1824, 56.9592, -52.2265, 3514,   3547.9,   1.7829,  34.8873,2,  34.8855,2,    236.6,1,    10.78,6,    14.40,6,     0.95,6, -999.000,5, -999.000,5, -999.000,5, -999.000,5
   18HU93019_1, AR07W,    17,  1, 126217,   BO17,2,19930621,2342, 57.3685, -51.8038, 3533,      2.2,   3.3229,  34.1589,2,  34.1613,6,    295.4,1,     4.94,6,     2.70,6,     0.36,6,    4.358,2,    2.332,2,    0.874,2,   10.571,3
   18HU93019_1, AR07W,    17,  1, 126216,    OC1,2,19930621,2342, 57.3685, -51.8038, 3533,     30.4,   2.9945,  34.1828,2,  34.1631,2,    272.3,1,     4.98,6,     2.73,6,     0.38,6,    4.374,2,    2.387,2,    0.721,2,    9.435,2
   18HU93019_1, AR07W,    17,  1, 126215,    OC7,3,19930621,2342, 57.3685, -51.8038, 3533,     58.3,   2.2720,  34.5350,2,  34.5049,4,    260.8,1,     8.12,6,    13.68,6,     0.95,6,    4.501,2,    2.498,2,    0.819,2,   10.182,3
   18HU93019_1, AR07W,    17,  1, 126214,    OC6,2,19930621,2342, 57.3685, -51.8038, 3533,    108.8,   3.3206,  34.7821,2,  34.7800,2,    242.6,1,     8.59,6,    15.57,6,     1.04,6,    3.304,2,    1.861,2,    0.530,2,    6.671,2
   18HU93019_1, AR07W,    17,  1, 126213,    BO5,2,19930621,2342, 57.3685, -51.8038, 3533,    205.9,   3.1713,  34.8229,2,  34.8221,2,    241.1,1,     8.92,6,    15.81,6,     1.05,6,    3.198,2,    1.779,2,    0.515,2,    6.583,2
   18HU93019_1, AR07W,    17,  1, 126212,    BO8,2,19930621,2342, 57.3685, -51.8038, 3533,    405.4,   3.0652,  34.8444,2,  34.8426,2,    240.0,1,     9.32,6,    16.20,6,     1.07,6,    2.978,2,    1.623,2,    0.414,2,    6.192,2
   18HU93019_1, AR07W,    17,  1, 126211,    OC4,2,19930621,2342, 57.3685, -51.8038, 3533,    602.5,   2.9585,  34.8433,2,  34.8430,2,    239.8,1,     9.51,6,    16.34,6,     1.08,6,    2.806,2,    2.269,2, -999.000,5,    5.859,2
   18HU93019_1, AR07W,    17,  1, 126210,    OC9,2,19930621,2342, 57.3685, -51.8038, 3533,    785.5,   2.9221,  34.8453,2,  34.8455,2,    238.9,1,     9.42,6,    16.37,6,     1.08,6,    2.657,2,    1.435,2,    0.358,2,    5.847,2
   18HU93019_1, AR07W,    17,  1, 126209,   OC26,2,19930621,2342, 57.3685, -51.8038, 3533,   1195.5,   2.8122,  34.8356,2,  34.8343,2,    240.2,1,     9.28,6,    16.17,6,     1.06,6,    2.971,2,    1.608,2,    0.435,2,    6.286,2
   18HU93019_1, AR07W,    17,  1, 126208,    OC2,2,19930621,2342, 57.3685, -51.8038, 3533,   1400.6,   2.8242,  34.8382,2,  34.8375,2,    240.2,1,     9.41,6,    16.20,6,     1.06,6,    2.830,2,    1.605,2,    0.361,2,    6.023,2
   18HU93019_1, AR07W,    17,  1, 126207,    BO1,2,19930621,2342, 57.3685, -51.8038, 3533,   1790.1,   2.8226,  34.8376,2,  34.8355,2,    239.9,1,     9.26,6,    16.24,6,     0.98,6,    2.783,2,    1.475,2,    0.376,2,    6.417,2
   18HU93019_1, AR07W,    17,  1, 126206,   BO15,2,19930621,2342, 57.3685, -51.8038, 3533,   1990.1,   2.8374,  34.8389,2,  34.8357,2,    240.0,1,     9.30,6,    16.06,6,     0.97,6,    2.752,2,    1.486,2,    0.403,2,    5.971,2
   18HU93019_1, AR07W,    17,  1, 126205,   BO16,2,19930621,2342, 57.3685, -51.8038, 3533,   2184.3,   2.8514,  34.8392,2,  34.8386,2,    239.7,1,     9.28,6,    16.00,6,     1.00,6,    2.859,2,    1.562,2,    0.439,2,    5.988,2
   18HU93019_1, AR07W,    17,  1, 126204,    OC8,2,19930621,2342, 57.3685, -51.8038, 3533,   2393.8,   2.9133,  34.8495,2,-999.0000,5,    236.8,1,     9.43,6,    16.09,6,     1.00,6,    2.684,2,    1.583,2,    0.431,2,    5.702,2
   18HU93019_1, AR07W,    17,  1, 126203,    OC5,3,19930621,2342, 57.3685, -51.8038, 3533,   2583.8,   3.1343,  34.9076,2,  31.2153,4,    226.7,1,    10.76,6,    16.34,6,     1.01,6,    1.545,2,    0.872,2,    0.129,2,    3.399,2
   18HU93019_1, AR07W,    17,  1, 126202,   BO10,2,19930621,2342, 57.3685, -51.8038, 3533,   2780.6,   3.0155,  34.9151,2,  34.9134,2,    222.9,1,    11.43,6,    16.12,6,     1.02,6,    1.415,2,    0.760,2,    0.097,2,    3.061,2
   18HU93019_1, AR07W,    17,  1, 126201,   BO11,3,19930621,2342, 57.3685, -51.8038, 3533,   2982.0,   2.8576,  34.9180,2,  34.8589,4,    223.8,1,    10.69,6,    16.19,6,     1.03,6,    1.445,2,    0.715,2,    0.102,2,    3.134,2
   18HU93019_1, AR07W,    17,  1, 126200,   OC11,2,19930621,2342, 57.3685, -51.8038, 3533,   3198.6,   2.6064,  34.9160,2,  34.9147,2,    223.2,1,    12.60,6,    15.53,6,     1.03,6,    1.287,2,    0.665,2,    0.170,2,    3.129,2
   18HU93019_1, AR07W,    17,  1, 126199,   OC19,2,19930621,2342, 57.3685, -51.8038, 3533,   3389.7,   2.3011,  34.9010,2,  34.9017,2,    228.4,1,    11.85,6,    15.35,6,     1.01,6,    1.645,2,    0.987,2,    0.319,2,    3.490,2
   18HU93019_1, AR07W,    17,  1, 126198,    OC3,2,19930621,2342, 57.3685, -51.8038, 3533,   3583.0,   1.7810,  34.8859,2,  34.8818,2,    236.5,1,    10.69,6,    14.63,6,     0.95,6,    2.045,2,    1.066,2,    0.261,2,    4.369,2
   18HU93019_1, AR07W,    18,  1, 126237,   BO17,2,19930622,0516, 57.7810, -51.3560, 3565,      3.8,   3.5340,  34.1640,2,  34.1685,2,    301.3,1,     2.96,6,     0.00,6,     0.19,6, -999.000,9, -999.000,9, -999.000,9, -999.000,9
   18HU93019_1, AR07W,    18,  1, 126236,    OC1,2,19930622,0516, 57.7810, -51.3560, 3565,     28.2,   3.3268,  34.2073,2,  34.2079,2,    291.6,1,     3.66,6,     1.33,6,     0.33,6, -999.000,9, -999.000,9, -999.000,9, -999.000,9
   18HU93019_1, AR07W,    18,  1, 126235,    OC7,2,19930622,0516, 57.7810, -51.3560, 3565,     56.5,   2.6292,  34.5848,2,  34.5886,2,    258.7,1,     8.13,6,    13.57,6,     0.93,6, -999.000,9, -999.000,9, -999.000,9, -999.000,9
   18HU93019_1, AR07W,    18,  1, 126234,    OC6,2,19930622,0516, 57.7810, -51.3560, 3565,    106.4,   2.9066,  34.7506,2,  34.7536,2,    252.9,1,     8.91,6,    15.24,6,     1.01,6, -999.000,9, -999.000,9, -999.000,9, -999.000,9
   18HU93019_1, AR07W,    18,  1, 126233,    BO5,2,19930622,0516, 57.7810, -51.3560, 3565,    206.3,   3.0165,  34.8131,2,  34.8186,2,    244.0,1,     9.16,6,    15.99,6,     1.04,6, -999.000,9, -999.000,9, -999.000,9, -999.000,9
   18HU93019_1, AR07W,    18,  1, 126232,    BO8,2,19930622,0516, 57.7810, -51.3560, 3565,    385.0,   3.0983,  34.8521,2,  34.8516,2,    240.0,1,     9.45,6,    16.33,6,     1.05,6, -999.000,9, -999.000,9, -999.000,9, -999.000,9
   18HU93019_1, AR07W,    18,  1, 126231,    OC4,2,19930622,0516, 57.7810, -51.3560, 3565,    603.6,   2.8655,  34.8352,2,  34.8356,2,    241.9,1,     9.52,6,    16.29,6,     1.08,6, -999.000,9, -999.000,9, -999.000,9, -999.000,9
   18HU93019_1, AR07W,    18,  1, 126230,    OC9,2,19930622,0516, 57.7810, -51.3560, 3565,    810.4,   2.8177,  34.8337,2,  34.8346,2,    241.1,1,     9.46,6,    15.96,6,     1.07,6, -999.000,9, -999.000,9, -999.000,9, -999.000,9
   18HU93019_1, AR07W,    18,  1, 126229,   OC26,2,19930622,0516, 57.7810, -51.3560, 3565,   1218.0,   2.7906,  34.8348,2,  34.8363,2,    241.4,1,     9.58,6,    16.03,6,     1.06,6, -999.000,9, -999.000,9, -999.000,9, -999.000,9
   18HU93019_1, AR07W,    18,  1, 126228,    OC2,2,19930622,0516, 57.7810, -51.3560, 3565,   1419.2,   2.7899,  34.8343,2,  34.8346,2,    242.7,1,     9.56,6,    16.25,6,     1.06,6, -999.000,9, -999.000,9, -999.000,9, -999.000,9
   18HU93019_1, AR07W,    18,  1, 126227,    BO1,2,19930622,0516, 57.7810, -51.3560, 3565,   1821.3,   2.8128,  34.8359,2,  34.8340,2,    242.1,1,     9.45,6,    16.21,6,     1.06,6, -999.000,9, -999.000,9, -999.000,9, -999.000,9
   18HU93019_1, AR07W,    18,  1, 126226,   BO15,3,19930622,0516, 57.7810, -51.3560, 3565,   2022.3,   2.8287,  34.8372,2,  34.8302,4,    241.3,1,     9.46,6,    16.08,6,     1.06,6, -999.000,9, -999.000,9, -999.000,9, -999.000,9
   18HU93019_1, AR07W,    18,  1, 126225,   BO16,2,19930622,0516, 57.7810, -51.3560, 3565,   2227.2,   2.8534,  34.8396,2,  34.8403,2,    240.1,1,     9.52,6,    16.14,6,     1.06,6, -999.000,9, -999.000,9, -999.000,9, -999.000,9
   18HU93019_1, AR07W,    18,  1, 126224,    OC8,2,19930622,0516, 57.7810, -51.3560, 3565,   2426.2,   2.9798,  34.8647,2,  34.8666,2,    232.5,1,    10.11,6,    16.16,6,     1.05,6, -999.000,9, -999.000,9, -999.000,9, -999.000,9
   18HU93019_1, AR07W,    18,  1, 126223,    OC5,2,19930622,0516, 57.7810, -51.3560, 3565,   2626.2,   3.0621,  34.9152,2,  34.9159,2,    222.9,1,    11.62,6,    16.22,6,     1.06,6, -999.000,9, -999.000,9, -999.000,9, -999.000,9
   18HU93019_1, AR07W,    18,  1, 126222,   BO10,2,19930622,0516, 57.7810, -51.3560, 3565,   2824.3,   2.9438,  34.9188,2,  34.9186,2,    222.3,1,    12.17,6,    16.05,6,     1.07,6, -999.000,9, -999.000,9, -999.000,9, -999.000,9
   18HU93019_1, AR07W,    18,  1, 126221,   BO11,3,19930622,0516, 57.7810, -51.3560, 3565,   3023.2,   2.7892,  34.9195,2,-999.0000,5,    222.5,1,    10.82,6,    16.21,6,     1.06,6, -999.000,9, -999.000,9, -999.000,9, -999.000,9
   18HU93019_1, AR07W,    18,  1, 126220,   OC11,2,19930622,0516, 57.7810, -51.3560, 3565,   3228.4,   2.4739,  34.9090,2,  34.9082,2,    225.0,1,    12.59,6,    15.73,6,     1.03,6, -999.000,9, -999.000,9, -999.000,9, -999.000,9
   18HU93019_1, AR07W,    18,  1, 126219,   OC19,2,19930622,0516, 57.7810, -51.3560, 3565,   3431.4,   2.0064,  34.8897,2,  34.8924,2,    231.6,1,    11.51,6,    14.86,6,     0.98,6, -999.000,9, -999.000,9, -999.000,9, -999.000,9
   18HU93019_1, AR07W,    18,  1, 126218,    OC3,2,19930622,0516, 57.7810, -51.3560, 3565,   3580.5,   1.7915,  34.8871,2,  34.8838,2,    234.9,1,    11.27,6,    14.40,6,     0.96,6, -999.000,9, -999.000,9, -999.000,9, -999.000,9