BOTTLE,20010706WHPSIOKJU
EXPOCODE,SECT_ID,STNNBR,CASTNO,SAMPNO,BTLNBR,BTLNBR_FLAG_W,DATE,TIME,LATITUDE,LONGITUDE,DEPTH,CTDPRS,CTDTMP,CTDSAL,CTDSAL_FLAG_W,SALNTY,SALNTY_FLAG_W,CTDOXY,CTDOXY_FLAG_W,SILCAT,SILCAT_FLAG_W,NO2+NO3,NO2+NO3_FLAG_W,PHSPHT,PHSPHT_FLAG_W,CFC-11,CFC-11_FLAG_W,CFC-12,CFC-12_FLAG_W,CFC113,CFC113_FLAG_W,CCL4,CCL4_FLAG_W
,,,,,,,,,,,,DBAR,ITS-90,PSS-78,,PSS-78,,UMOL/KG,,UMOL/KG,,UMOL/KG,,UMOL/KG,,PMOL/KG,,PMOL/KG,,PMOL/KG,,PMOL/KG,
   18HU93019_1, AR07W,    11,  1, 126099,    BO5,2,19930620,1349, 55.4100, -53.8080, 2661,      3.0,   3.3321,  33.3195,2,  33.3162,2,    299.5,1,     0.59,6,     0.06,6,     0.21,6,    4.638,2,    2.405,2,    0.628,2,   10.401,3
   18HU93019_1, AR07W,    11,  1, 126098,    BO8,2,19930620,1349, 55.4100, -53.8080, 2661,     93.8,   3.0095,  34.6639,2,-999.0000,5,    246.8,1,  -999.00,5,  -999.00,5,  -999.00,5,    3.651,2,    1.975,2,    0.521,2,    7.591,2
   18HU93019_1, AR07W,    11,  1, 126097,    OC4,2,19930620,1349, 55.4100, -53.8080, 2661,    173.5,   3.4808,  34.8115,2,  34.8131,2,    238.0,1,     8.99,6,    15.82,6,     1.07,6, -999.000,5, -999.000,5, -999.000,5, -999.000,5
   18HU93019_1, AR07W,    11,  1, 126096,    OC9,2,19930620,1349, 55.4100, -53.8080, 2661,    372.3,   3.4658,  34.8725,2,  34.8743,6,    235.4,1,     9.46,6,    16.50,6,     1.11,6,    3.115,2,    1.650,2,    0.394,2,    6.096,2
   18HU93019_1, AR07W,    11,  1, 126095,   OC26,2,19930620,1349, 55.4100, -53.8080, 2661,    577.8,   3.2074,  34.8618,2,  34.8617,2,    235.7,1,     9.86,6,    16.29,6,     1.10,6,    2.821,2,    1.466,2,    0.498,2,    6.036,2
   18HU93019_1, AR07W,    11,  1, 126094,    OC2,2,19930620,1349, 55.4100, -53.8080, 2661,    724.7,   3.0952,  34.8558,2,  34.8587,2,    236.5,1,     9.61,6,    16.49,6,     1.10,6,    2.813,2,    1.571,2,    0.275,2,    5.990,2
   18HU93019_1, AR07W,    11,  1, 126093,    BO1,2,19930620,1349, 55.4100, -53.8080, 2661,    914.0,   2.9649,  34.8475,2,  34.8466,2,    236.3,1,     9.57,6,    16.49,6,     1.10,6,    2.711,2,    1.455,2,    0.257,2,    5.932,2
   18HU93019_1, AR07W,    11,  1, 126092,   OC13,2,19930620,1349, 55.4100, -53.8080, 2661,   1140.8,   2.8933,  34.8442,2,  34.8467,2,    237.6,1,     9.62,6,    16.40,6,     1.08,6, -999.000,5,    1.550,2,    0.300,2,    5.988,2
   18HU93019_1, AR07W,    11,  1, 126091,   OC23,2,19930620,1349, 55.4100, -53.8080, 2661,   1338.3,   2.8388,  34.8430,2,  34.8436,2,    239.1,1,     9.63,6,    16.15,6,     1.09,6,    2.775,2,    1.527,2,    0.303,2,    5.975,2
   18HU93019_1, AR07W,    11,  1, 126090,    BO2,2,19930620,1349, 55.4100, -53.8080, 2661,   1527.4,   2.8455,  34.8471,2,  34.8467,6,    237.5,1,     9.57,6,    16.24,6,     1.08,6,    2.939,2,    1.513,2,    0.315,2,    5.940,2
   18HU93019_1, AR07W,    11,  1, 126089,   OC17,2,19930620,1349, 55.4100, -53.8080, 2661,   1747.6,   3.0067,  34.8866,2,  34.8861,2,    229.1,1,    10.69,6,    16.35,6,     1.09,6,    2.076,2,    1.007,2,    0.140,2,    4.237,2
   18HU93019_1, AR07W,    11,  1, 126088,   BO10,2,19930620,1349, 55.4100, -53.8080, 2661,   1976.6,   2.8858,  34.9148,2,  34.9156,2,    223.6,1,    11.85,6,    16.11,6,     1.06,6,    1.344,2,    0.726,2,    0.078,2,    3.075,2
   18HU93019_1, AR07W,    11,  1, 126087,    BO3,2,19930620,1349, 55.4100, -53.8080, 2661,   2186.5,   2.5698,  34.9111,2,  34.9105,2,    224.6,1,    12.05,6,    15.91,6,     1.04,6,    1.471,2,    0.782,2,    0.112,2,    3.325,2
   18HU93019_1, AR07W,    11,  1, 126086,   BO18,2,19930620,1349, 55.4100, -53.8080, 2661,   2389.2,   2.1839,  34.8987,2,  34.8985,2,    229.3,1,    11.86,6,    15.37,6,     1.01,6,    1.746,2,    0.882,2,    0.145,2,    3.817,2
   18HU93019_1, AR07W,    11,  1, 126085,   OC19,2,19930620,1349, 55.4100, -53.8080, 2661,   2595.6,   2.0585,  34.8952,2,  34.8953,2,    232.1,1,    11.70,6,    14.93,6,     1.02,6,    2.348,2,    0.995,2,    0.174,2,    4.017,2
   18HU93019_1, AR07W,    11,  1, 126084,    OC3,3,19930620,1349, 55.4100, -53.8080, 2661,   2678.7,   2.0025,  34.8933,2,  34.8844,4,    234.1,1,    11.61,6,    14.75,6,     1.03,6,    1.934,2,    0.992,2,    0.093,2,    4.211,2
   18HU93019_1, AR07W,    12,  1, 126117,    OC7,2,19930620,1735, 55.6012, -53.5983, 2904,      4.3,   2.3273,  32.8754,2,  32.8785,2,    328.1,1,     0.56,6,     0.14,6,     0.21,6, -999.000,5, -999.000,5, -999.000,5, -999.000,5
   18HU93019_1, AR07W,    12,  1, 126116,    OC6,2,19930620,1735, 55.6012, -53.5983, 2904,     36.9,   0.7523,  33.7018,2,  33.6993,2,    300.1,1,     2.94,6,     5.89,6,     0.59,6, -999.000,5, -999.000,5, -999.000,5, -999.000,5
   18HU93019_1, AR07W,    12,  1, 126115,    BO5,3,19930620,1735, 55.6012, -53.5983, 2904,    104.0,   3.3874,  34.6937,2,  34.6805,4,    241.3,1,     7.76,6,    14.63,6,     1.03,6,    3.440,2,    2.056,2,    0.468,2,    6.581,2
   18HU93019_1, AR07W,    12,  1, 126114,    BO8,3,19930620,1735, 55.6012, -53.5983, 2904,    201.0,   3.5339,  34.8192,2,  34.8574,3,    239.1,1,     9.01,6,    15.76,6,     1.08,6,    3.297,2,    1.869,2,    0.638,2,    6.697,2
   18HU93019_1, AR07W,    12,  1, 126113,    OC4,2,19930620,1735, 55.6012, -53.5983, 2904,    381.0,   3.4660,  34.8587,2,  34.8570,2,    236.6,1,     9.33,6,    16.03,6,     1.08,6,    3.162,2,    1.979,2,    0.371,2,    6.589,2
   18HU93019_1, AR07W,    12,  1, 126112,    OC9,2,19930620,1735, 55.6012, -53.5983, 2904,    599.4,   3.3570,  34.8721,2,  34.8721,2,    235.4,1,     9.79,6,    16.46,6,     1.10,6,    2.890,2,    1.879,2,    0.345,2,    5.988,2
   18HU93019_1, AR07W,    12,  1, 126111,   OC26,2,19930620,1735, 55.6012, -53.5983, 2904,    792.7,   3.1210,  34.8578,2,  34.8589,2,    236.5,1,     9.86,6,    16.51,6,     1.11,6,    2.587,2,    1.424,2,    0.287,2,    5.311,2
   18HU93019_1, AR07W,    12,  1, 126110,    OC2,2,19930620,1735, 55.6012, -53.5983, 2904,    979.6,   2.9813,  34.8495,2,  34.8503,2,    236.7,1,     9.74,6,    16.46,6,     1.10,6,    2.738,2,    1.576,2,    0.401,2,    5.807,2
   18HU93019_1, AR07W,    12,  1, 126109,    BO1,2,19930620,1735, 55.6012, -53.5983, 2904,   1175.6,   2.9247,  34.8436,2,  34.8426,2,    238.4,1,     9.72,6,    16.38,6,     1.12,6,    2.690,2,    1.473,2,    0.284,2,    5.576,2
   18HU93019_1, AR07W,    12,  1, 126108,   OC13,2,19930620,1735, 55.6012, -53.5983, 2904,   1380.8,   2.8875,  34.8417,2,  34.8435,6,    238.9,1,     9.79,6,    16.21,6,     1.11,6,    2.992,2,    1.901,2,    0.392,2,    5.902,2
   18HU93019_1, AR07W,    12,  1, 126107,   OC23,2,19930620,1735, 55.6012, -53.5983, 2904,   1571.3,   2.9022,  34.8509,2,  34.8523,2,    237.4,1,     9.95,6,    16.31,6,     1.11,6,    2.635,2,    1.586,2,    0.422,2,    5.659,2
   18HU93019_1, AR07W,    12,  1, 126106,    BO2,3,19930620,1735, 55.6012, -53.5983, 2904,   1756.6,   2.9636,  34.8664,2,-999.0000,5,    232.9,1,    10.14,6,    16.03,6,     1.09,6,    2.439,2,    1.474,2,    0.317,2,    5.329,2
   18HU93019_1, AR07W,    12,  1, 126105,   OC17,2,19930620,1735, 55.6012, -53.5983, 2904,   1951.7,   3.0444,  34.8999,2,  34.9002,2,    225.9,1,    11.20,6,    16.55,6,     1.11,6, -999.000,5, -999.000,5, -999.000,5, -999.000,5
   18HU93019_1, AR07W,    12,  1, 126104,   BO10,2,19930620,1735, 55.6012, -53.5983, 2904,   2155.9,   2.8827,  34.9115,2,  34.9122,2,    225.6,1,    11.61,6,    16.13,6,     1.09,6,    1.813,2,    0.844,2,    0.113,2,    3.313,2
   18HU93019_1, AR07W,    12,  1, 126103,   BO11,3,19930620,1735, 55.6012, -53.5983, 2904,   2356.2,   2.5766,  34.9099,2,  34.8839,4,    224.8,1,    11.02,6,    16.14,6,     1.10,6,    2.421,2,    0.772,2,    0.120,2,    3.116,2
   18HU93019_1, AR07W,    12,  1, 126102,   BO18,2,19930620,1735, 55.6012, -53.5983, 2904,   2577.5,   2.3059,  34.9029,2,  34.9030,2,    227.4,1,    12.38,6,    15.31,6,     1.04,6, -999.000,5, -999.000,5, -999.000,5, -999.000,5
   18HU93019_1, AR07W,    12,  1, 126101,   OC19,2,19930620,1735, 55.6012, -53.5983, 2904,   2776.3,   1.7647,  34.8883,2,  34.8890,2,    234.4,1,    11.46,6,    14.48,6,     0.99,6,    2.103,2,    1.488,2,    0.202,2,    4.447,2
   18HU93019_1, AR07W,    12,  1, 126100,    OC3,2,19930620,1735, 55.6012, -53.5983, 2904,   2893.9,   1.7034,  34.8871,2,  34.8865,2,    237.3,1,    11.52,6,    14.48,6,     0.98,6,    2.164,2,    1.369,2,    0.285,2,    4.577,2
   18HU93019_1, AR07W,    13,  3, 126137,   BO17,3,19930621,0152, 55.8367, -53.3703, 3117,      4.9,   2.4995,  32.7730,2,  32.8926,4,    323.6,1,     0.70,6,     0.00,6,     0.15,6, -999.000,5, -999.000,5, -999.000,5, -999.000,5
   18HU93019_1, AR07W,    13,  3, 126136,    OC1,2,19930621,0152, 55.8367, -53.3703, 3117,     31.2,   0.2211,  33.8707,2,  33.9143,2,    281.8,1,     5.97,6,     9.87,6,     0.75,6,    4.192,2,    2.099,2,    0.558,2,    9.997,2
   18HU93019_1, AR07W,    13,  3, 126135,    OC7,3,19930621,0152, 55.8367, -53.3703, 3117,     53.4,   0.1698,  34.3689,2,  34.1555,4,    267.0,1,     6.32,6,    11.58,6,     0.85,6,    3.978,2,    1.987,2,    0.469,2,    8.938,2
   18HU93019_1, AR07W,    13,  3, 126134,    OC6,3,19930621,0152, 55.8367, -53.3703, 3117,    106.2,   3.1369,  34.6860,2,  34.6272,4,    244.7,1,     7.82,6,    14.38,6,     0.97,6, -999.000,5,    1.639,2,    0.402,2,    6.371,2
   18HU93019_1, AR07W,    13,  3, 126133,    BO5,2,19930621,0152, 55.8367, -53.3703, 3117,    204.0,   4.1264,  34.8649,2,  34.8662,2,    238.1,1,     8.55,6,    15.75,6,     1.11,6,    2.547,2,    1.772,2,    0.544,2,    5.463,2
   18HU93019_1, AR07W,    13,  3, 126132,    BO8,2,19930621,0152, 55.8367, -53.3703, 3117,    380.2,   3.8742,  34.8974,2,  34.8936,2,    237.4,1,     9.44,6,    16.40,6,     1.15,6,    2.478,2,    1.711,2, -999.000,5,    5.481,2
   18HU93019_1, AR07W,    13,  3, 126131,    OC4,2,19930621,0152, 55.8367, -53.3703, 3117,    576.0,   3.5635,  34.8853,2,  34.8866,2,    239.0,1,     9.58,6,    16.45,6,     1.13,6,    2.360,2,    1.407,2,    0.609,2,    5.470,2
   18HU93019_1, AR07W,    13,  3, 126130,    OC9,3,19930621,0152, 55.8367, -53.3703, 3117,    770.2,   3.4141,  34.8644,2,  34.8797,4,    237.8,1,     9.51,6,    16.63,6,     1.15,6,    2.340,2,    1.953,2,    0.239,2,    5.463,2
   18HU93019_1, AR07W,    13,  3, 126129,   OC26,2,19930621,0152, 55.8367, -53.3703, 3117,    973.6,   3.2149,  34.8698,2,  34.8679,2,    238.4,1,     9.49,6,    16.62,6,     1.15,6,    2.316,2,    1.556,2,    0.219,2,    5.344,2
   18HU93019_1, AR07W,    13,  3, 126128,    OC2,2,19930621,0152, 55.8367, -53.3703, 3117,   1172.9,   3.1038,  34.8599,2,  34.8599,2,    239.3,1,     9.66,6,    16.62,6,     1.14,6,    2.009,2,    1.613,2,    0.559,2,    5.148,2
   18HU93019_1, AR07W,    13,  3, 126127,    BO1,2,19930621,0152, 55.8367, -53.3703, 3117,   1363.7,   3.0369,  34.8561,2,  34.8595,2,    238.2,1,     9.55,6,    16.26,6,     1.14,6,    2.066,2,    1.223,2,    0.178,2,    5.093,2
   18HU93019_1, AR07W,    13,  3, 126126,   BO15,9,19930621,0152, 55.8367, -53.3703, 3117,   1556.6,   3.0316,  34.8647,2,-999.0000,9,    236.1,1,  -999.00,9,  -999.00,9,  -999.00,9, -999.000,9, -999.000,9, -999.000,9, -999.000,9
   18HU93019_1, AR07W,    13,  3, 126125,   BO16,2,19930621,0152, 55.8367, -53.3703, 3117,   1752.5,   2.9583,  34.8586,2,  34.8615,2,    238.3,1,    10.19,6,    16.07,6,     1.12,6,    1.959,2,    1.312,2,    0.190,2,    4.930,2
   18HU93019_1, AR07W,    13,  3, 126124,    OC8,2,19930621,0152, 55.8367, -53.3703, 3117,   1959.9,   3.0591,  34.8945,2,  34.8933,2,    228.2,1,    10.84,6,    16.27,6,     1.14,6,    1.626,6,    1.067,6,    0.112,6,    3.810,6
   18HU93019_1, AR07W,    13,  3, 126123,   BO12,3,19930621,0152, 55.8367, -53.3703, 3117,   2150.3,   2.9858,  34.9092,2,  34.8762,4,    227.4,1,    10.70,6,    16.06,6,     1.10,6,    1.486,2, -999.000,5,    0.154,2,    3.977,2
   18HU93019_1, AR07W,    13,  3, 126122,   BO10,2,19930621,0152, 55.8367, -53.3703, 3117,   2338.9,   2.8219,  34.9145,2,  34.9149,2,    226.9,1,    11.61,6,    16.09,6,     1.10,6,    1.037,2,    0.966,2,    0.105,2,    3.157,2
   18HU93019_1, AR07W,    13,  3, 126121,   BO11,3,19930621,0152, 55.8367, -53.3703, 3117,   2517.7,   2.7011,  34.9113,2,  34.8846,4,    227.3,1,    10.60,6,    16.29,6,     1.11,6,    0.988,2,    0.932,2,    0.050,2,    3.009,2
   18HU93019_1, AR07W,    13,  3, 126120,   BO18,2,19930621,0152, 55.8367, -53.3703, 3117,   2677.7,   2.4828,  34.9106,2,  34.9088,2,    228.9,1,    12.24,6,    15.45,6,     1.08,6,    1.043,2, -999.000,5,    0.099,2,    3.084,2
   18HU93019_1, AR07W,    13,  3, 126119,   OC19,3,19930621,0152, 55.8367, -53.3703, 3117,   2849.0,   2.1821,  34.8964,2,  34.9155,3,    231.6,1,    12.44,6,    15.19,6,     1.05,6,    1.123,2, -999.000,5,    0.090,2,    3.367,2
   18HU93019_1, AR07W,    13,  3, 126118,    OC3,2,19930621,0152, 55.8367, -53.3703, 3117,   3141.4,   1.7279,  34.8889,2,  34.8881,6,    237.8,1,    11.34,6,    14.58,6,     0.99,6, -999.000,5, -999.000,5,    0.148,2,    3.974,2
   18HU93019_1, AR07W,    14,  1, 126157,   BO17,3,19930621,0642, 56.1137, -53.1400, 3335,      6.6,   3.1300,  32.9249,2,  33.1768,4,    308.1,1,     4.86,6,     0.52,6,     0.33,6, -999.000,9, -999.000,9, -999.000,9, -999.000,9
   18HU93019_1, AR07W,    14,  1, 126156,    OC1,3,19930621,0642, 56.1137, -53.1400, 3335,     30.9,   0.4995,  34.1062,2,  33.2922,4,    274.2,1,     5.15,6,     2.11,6,     0.39,6, -999.000,9, -999.000,9, -999.000,9, -999.000,9
   18HU93019_1, AR07W,    14,  1, 126155,    OC7,3,19930621,0642, 56.1137, -53.1400, 3335,     54.8,   1.2556,  34.3910,2,-999.0000,5,    268.0,1,     7.39,6,    12.44,6,     0.91,6, -999.000,9, -999.000,9, -999.000,9, -999.000,9
   18HU93019_1, AR07W,    14,  1, 126154,    OC6,2,19930621,0642, 56.1137, -53.1400, 3335,    106.3,   3.4129,  34.7678,2,  34.7717,2,    248.5,1,     8.56,6,    15.31,6,     1.05,6, -999.000,9, -999.000,9, -999.000,9, -999.000,9
   18HU93019_1, AR07W,    14,  1, 126153,    BO5,2,19930621,0642, 56.1137, -53.1400, 3335,    198.9,   3.1453,  34.8278,2,  34.8258,2,    246.2,1,     9.11,6,    16.07,6,     1.08,6, -999.000,9, -999.000,9, -999.000,9, -999.000,9
   18HU93019_1, AR07W,    14,  1, 126152,    BO8,2,19930621,0642, 56.1137, -53.1400, 3335,    400.5,   2.9406,  34.8407,2,  34.8375,2,    244.4,1,     9.57,6,    16.40,6,     1.05,6, -999.000,9, -999.000,9, -999.000,9, -999.000,9
   18HU93019_1, AR07W,    14,  1, 126151,    OC4,2,19930621,0642, 56.1137, -53.1400, 3335,    599.6,   2.8512,  34.8390,2,  34.8365,2,    245.8,1,     9.47,6,    16.35,6,     1.06,6, -999.000,9, -999.000,9, -999.000,9, -999.000,9
   18HU93019_1, AR07W,    14,  1, 126150,    OC9,2,19930621,0642, 56.1137, -53.1400, 3335,    809.3,   2.8171,  34.8379,2,-999.0000,5,    245.1,1,     9.52,6,    16.13,6,     1.05,6, -999.000,9, -999.000,9, -999.000,9, -999.000,9
   18HU93019_1, AR07W,    14,  1, 126149,   OC26,2,19930621,0642, 56.1137, -53.1400, 3335,   1012.3,   2.7811,  34.8357,2,-999.0000,5,    246.4,1,     9.52,6,    16.04,6,     1.06,6, -999.000,9, -999.000,9, -999.000,9, -999.000,9
   18HU93019_1, AR07W,    14,  1, 126148,    OC2,2,19930621,0642, 56.1137, -53.1400, 3335,   1215.0,   2.7864,  34.8369,2,-999.0000,5,    245.8,1,     9.60,6,    16.16,6,     1.06,6, -999.000,9, -999.000,9, -999.000,9, -999.000,9
   18HU93019_1, AR07W,    14,  1, 126147,    BO1,2,19930621,0642, 56.1137, -53.1400, 3335,   1412.0,   2.7971,  34.8380,2,-999.0000,5,    245.0,1,     9.63,6,    16.22,6,     1.06,6, -999.000,9, -999.000,9, -999.000,9, -999.000,9
   18HU93019_1, AR07W,    14,  1, 126146,   BO15,3,19930621,0642, 56.1137, -53.1400, 3335,   1610.3,   2.8051,  34.8393,2,-999.0000,9,    244.3,1,     9.59,6,    16.21,6,     1.06,6, -999.000,9, -999.000,9, -999.000,9, -999.000,9
   18HU93019_1, AR07W,    14,  1, 126145,   BO16,2,19930621,0642, 56.1137, -53.1400, 3335,   1819.0,   2.8180,  34.8404,2,-999.0000,5,    243.9,1,     9.52,6,    16.37,6,     1.05,6, -999.000,9, -999.000,9, -999.000,9, -999.000,9
   18HU93019_1, AR07W,    14,  1, 126144,    OC8,2,19930621,0642, 56.1137, -53.1400, 3335,   2022.6,   2.8913,  34.8523,2,-999.0000,9,    240.4,1,     9.90,6,    16.28,6,     1.08,6, -999.000,9, -999.000,9, -999.000,9, -999.000,9
   18HU93019_1, AR07W,    14,  1, 126143,   BO12,2,19930621,0642, 56.1137, -53.1400, 3335,   2225.1,   3.0811,  34.9151,2,-999.0000,5,    226.5,1,  -999.00,5,  -999.00,5,  -999.00,5, -999.000,9, -999.000,9, -999.000,9, -999.000,9
   18HU93019_1, AR07W,    14,  1, 126142,   BO10,2,19930621,0642, 56.1137, -53.1400, 3335,   2429.8,   2.9279,  34.9199,2,  34.9225,2,    227.5,1,    12.38,6,    16.17,6,     1.06,6, -999.000,9, -999.000,9, -999.000,9, -999.000,9
   18HU93019_1, AR07W,    14,  1, 126141,   BO11,3,19930621,0642, 56.1137, -53.1400, 3335,   2624.0,   2.7643,  34.9234,2,-999.0000,5,    225.8,1,  -999.00,5,  -999.00,5,  -999.00,5, -999.000,9, -999.000,9, -999.000,9, -999.000,9
   18HU93019_1, AR07W,    14,  1, 126140,   BO18,2,19930621,0642, 56.1137, -53.1400, 3335,   3011.4,   2.2810,  34.9061,2,  34.9025,2,    229.4,1,    12.81,6,    15.45,6,     1.02,6, -999.000,9, -999.000,9, -999.000,9, -999.000,9
   18HU93019_1, AR07W,    14,  1, 126139,   OC19,2,19930621,0642, 56.1137, -53.1400, 3335,   3170.8,   2.0208,  34.8954,2,-999.0000,5,    232.8,1,    12.22,6,    15.16,6,     0.98,6, -999.000,9, -999.000,9, -999.000,9, -999.000,9
   18HU93019_1, AR07W,    14,  1, 126138,    OC3,2,19930621,0642, 56.1137, -53.1400, 3335,   3359.1,   1.7693,  34.8892,2,-999.0000,5,    237.1,1,    11.40,6,    14.61,6,     0.94,6, -999.000,9, -999.000,9, -999.000,9, -999.000,9