BOTTLE,20010706WHPSIOKJU
#code : jjward hyd_to_exchange.pl 
#original files copied from HTML directory: 20010706
#original HYD file: ar07wdhy.txt   Fri Jul  6 10:58:25 2001
#original SUM file: ar07wdsu.txt.tmp   Wed May  9 14:58:53 2001
EXPOCODE,SECT_ID,STNNBR,CASTNO,SAMPNO,BTLNBR,BTLNBR_FLAG_W,DATE,TIME,LATITUDE,LONGITUDE,DEPTH,CTDPRS,CTDTMP,CTDSAL,CTDSAL_FLAG_W,SALNTY,SALNTY_FLAG_W,CTDOXY,CTDOXY_FLAG_W,SILCAT,SILCAT_FLAG_W,NO2+NO3,NO2+NO3_FLAG_W,PHSPHT,PHSPHT_FLAG_W,CFC-11,CFC-11_FLAG_W,CFC-12,CFC-12_FLAG_W,CFC113,CFC113_FLAG_W,CCL4,CCL4_FLAG_W
,,,,,,,,,,,,DBAR,ITS-90,PSS-78,,PSS-78,,UMOL/KG,,UMOL/KG,,UMOL/KG,,UMOL/KG,,PMOL/KG,,PMOL/KG,,PMOL/KG,,PMOL/KG,
   18HU93019_1, AR07W,     1,  1, 126009,   OC13,2,19930619,1308, 53.8592, -55.9892,  122,     53.6,  -1.7816,  32.9465,2,  32.9465,2,    264.7,1,     9.68,6,     7.21,6,     1.00,6,    5.492,2,    2.780,2,    0.964,2,    9.934,2
   18HU93019_1, AR07W,     1,  1, 126012,   OC26,2,19930619,1308, 53.8592, -55.9892,  122,     53.6,  -1.7808,  32.9470,2,  32.9465,2,    260.5,1,     9.63,6,     7.22,6,     0.97,6,    4.876,2,    2.372,2,    0.838,2,    9.716,2
   18HU93019_1, AR07W,     1,  1, 126004,    BO3,2,19930619,1308, 53.8592, -55.9892,  122,     53.7,  -1.7780,  32.9455,2,  32.9469,2,    272.2,1,     9.60,6,     7.16,6,     1.04,6,    5.439,6,    2.596,6,    1.063,6,   10.576,6
   18HU93019_1, AR07W,     1,  1, 126005,   BO10,2,19930619,1308, 53.8592, -55.9892,  122,     53.7,  -1.7813,  32.9466,2,  32.9468,2,    270.9,1,     9.52,6,     7.22,6,     1.01,6,    5.521,2,    2.878,2,    1.056,3,    9.694,2
   18HU93019_1, AR07W,     1,  1, 126008,   OC23,2,19930619,1308, 53.8592, -55.9892,  122,     53.7,  -1.7814,  32.9471,2,  32.9459,2,    265.1,1,     9.47,6,     7.15,6,     0.99,6,    5.066,2,    2.548,2,    1.114,3,    9.097,2
   18HU93019_1, AR07W,     1,  1, 126014,    OC4,2,19930619,1308, 53.8592, -55.9892,  122,     53.7,  -1.7818,  32.9476,2,  32.9465,2,    259.3,1,     9.80,6,     7.16,6,     0.98,6,    4.711,2,    2.438,2,    0.794,2,    9.624,2
   18HU93019_1, AR07W,     1,  1, 126019,    OC1,2,19930619,1308, 53.8592, -55.9892,  122,     53.7,  -1.7830,  32.9476,2,  32.9467,2,    255.0,1,     9.69,6,     7.17,6,     0.98,6,    4.797,2,    2.499,2,    0.938,2,    9.722,2
   18HU93019_1, AR07W,     1,  1, 126002,    BO6,2,19930619,1308, 53.8592, -55.9892,  122,     53.8,  -1.7832,  32.9472,2,  32.9464,2,    274.2,1,     9.43,6,     7.17,6,     1.09,6,    5.587,2,    2.706,2,    1.039,3,   10.118,3
   18HU93019_1, AR07W,     1,  1, 126003,   BO18,2,19930619,1308, 53.8592, -55.9892,  122,     53.8,  -1.7811,  32.9471,2,  32.9465,2,    274.3,1,     9.59,6,     7.11,6,     0.99,6,    5.238,2,    2.634,2,    1.035,3,    9.365,2
   18HU93019_1, AR07W,     1,  1, 126007,    BO2,2,19930619,1308, 53.8592, -55.9892,  122,     53.8,  -1.7821,  32.9472,2,  32.9442,2,    266.5,1,     9.37,6,     7.18,6,     1.00,6,    6.140,2,    2.798,2,    1.012,3,   11.280,3
   18HU93019_1, AR07W,     1,  1, 126010,    BO1,2,19930619,1308, 53.8592, -55.9892,  122,     53.8,  -1.7820,  32.9470,2,  32.9460,2,    263.2,1,     9.62,6,     7.25,6,     0.98,6,    5.007,2,    2.554,2,    1.260,3,    8.879,2
   18HU93019_1, AR07W,     1,  1, 126011,    OC2,2,19930619,1308, 53.8592, -55.9892,  122,     53.8,  -1.7835,  32.9471,2,  32.9452,2,    259.7,1,     9.63,6,     7.26,6,     0.98,6,    4.685,2,    3.038,2,    0.812,2,    9.590,2
   18HU93019_1, AR07W,     1,  1, 126016,    BO5,2,19930619,1308, 53.8592, -55.9892,  122,     53.8,  -1.7844,  32.9477,2,  32.9438,2,    257.1,1,     9.71,6,     7.24,6,     0.99,6,    5.061,6,    2.836,6,    0.927,6,    9.995,6
   18HU93019_1, AR07W,     1,  1, 126017,    OC6,2,19930619,1308, 53.8592, -55.9892,  122,     53.8,  -1.7836,  32.9481,2,  32.9407,2,    256.5,1,     9.58,6,     7.20,6,     1.00,6,    4.808,2,    2.474,2,    0.829,2,    9.851,2
   18HU93019_1, AR07W,     1,  1, 126020,   BO17,2,19930619,1308, 53.8592, -55.9892,  122,     53.8,  -1.7826,  32.9481,2,  32.9471,2,    255.1,1,     9.65,6,     7.20,6,     0.98,6,    4.930,2,    2.956,2,    0.774,2,    9.439,2
   18HU93019_1, AR07W,     1,  1, 126001,    OC3,2,19930619,1308, 53.8592, -55.9892,  122,     53.9,  -1.7822,  32.9470,2,  32.9453,2,    280.6,1,     9.48,6,     7.18,6,     1.03,6,    5.397,2,    2.688,2,    1.090,3,   10.161,3
   18HU93019_1, AR07W,     1,  1, 126006,   BO14,2,19930619,1308, 53.8592, -55.9892,  122,     53.9,  -1.7825,  32.9468,2,  32.9439,2,    267.8,1,     9.42,6,     7.21,6,     1.01,6,    6.020,2,    2.700,2,    1.143,3,    9.987,2
   18HU93019_1, AR07W,     1,  1, 126013,    OC9,2,19930619,1308, 53.8592, -55.9892,  122,     53.9,  -1.7823,  32.9473,2,  32.9475,2,    260.0,1,     9.59,6,     7.23,6,     0.99,6,    5.438,6,    2.536,6,    0.948,6,    9.815,6
   18HU93019_1, AR07W,     1,  1, 126018,    OC7,2,19930619,1308, 53.8592, -55.9892,  122,     53.9,  -1.7840,  32.9482,2,  32.9459,2,    255.8,1,     9.65,6,     7.20,6,     0.98,6,    4.643,2,    2.770,2,    0.834,2,    9.553,2
   18HU93019_1, AR07W,     1,  1, 126015,    BO8,2,19930619,1308, 53.8592, -55.9892,  122,     54.0,  -1.7846,  32.9476,2,  32.9429,2,    258.6,1,     9.78,6,     7.18,6,     1.01,6,    4.617,2,    2.402,2,    0.798,2,    9.381,2
   18HU93019_1, AR07W,     2,  1, 126024,    BO3,3,19930619,1527, 53.6777, -55.5415,  162,      3.1,   2.5246,  30.9769,2,-999.0000,5,    268.3,1,     0.73,6,     0.00,6,     0.32,6,    5.392,2,    2.454,2,    1.919,4,   10.324,3
   18HU93019_1, AR07W,     2,  1, 126023,   BO18,2,19930619,1527, 53.6777, -55.5415,  162,     53.8,  -1.7549,  33.0252,2,  33.0191,6,    251.2,1,    10.81,6,     7.78,6,     1.01,6,    4.677,2,    2.434,2, -999.000,5,    9.245,2
   18HU93019_1, AR07W,     2,  1, 126022,    BO6,9,19930619,1527, 53.6777, -55.5415,  162,    104.0,  -1.6565,  33.1323,2,-999.0000,9,    254.8,1,  -999.00,9,  -999.00,9,  -999.00,9, -999.000,9, -999.000,9, -999.000,9, -999.000,9
   18HU93019_1, AR07W,     2,  1, 126021,    OC3,2,19930619,1527, 53.6777, -55.5415,  162,    140.3,  -1.5928,  33.1733,2,  33.1730,6,    263.1,1,    11.69,6,     8.41,6,     1.01,6,    5.661,2,    2.337,2,    0.720,2,    8.952,2
   18HU93019_1, AR07W,     3,  1, 126029,   BO10,2,19930619,1634, 53.7948, -55.4435,  205,      3.4,   1.0253,  31.7382,2,  31.7244,2,    271.6,1,     3.28,6,     0.00,6,     0.44,6,    5.011,2,    2.564,2, -999.000,5,   11.195,3
   18HU93019_1, AR07W,     3,  1, 126028,    BO3,2,19930619,1634, 53.7948, -55.4435,  205,     53.8,  -1.7445,  33.0111,2,  33.0098,2,    249.8,1,     9.59,6,     7.34,6,     1.00,6,    4.544,2,    2.362,2,    1.586,4,    9.103,2
   18HU93019_1, AR07W,     3,  1, 126027,   BO18,2,19930619,1634, 53.7948, -55.4435,  205,    104.1,  -1.6401,  33.2441,2,  33.2417,2,    245.8,1,    10.67,6,     7.58,6,     0.99,6,    4.474,2,    2.289,2,    0.929,2,    8.652,2
   18HU93019_1, AR07W,     3,  1, 126026,   OC19,2,19930619,1634, 53.7948, -55.4435,  205,    144.4,  -1.5102,  33.4373,2,  33.4360,2,    250.8,1,    10.63,6,     8.55,6,     0.99,6,    4.682,2,    2.287,2, -999.000,5,    8.609,2
   18HU93019_1, AR07W,     3,  1, 126025,    OC3,2,19930619,1634, 53.7948, -55.4435,  205,    192.2,  -0.6619,  33.7057,2,  33.6970,6,    250.6,1,     9.22,6,     9.08,6,     0.94,6,    4.128,2,    2.164,2, -999.000,5,    8.383,2
   18HU93019_1, AR07W,     4,  1, 126034,   BO10,2,19930619,1811, 53.9927, -55.2217,  154,      3.1,   0.8823,  31.5731,2,  31.5769,2,    292.2,1,     1.25,6,     0.06,6,     0.35,6,    4.724,2,    2.420,2,    0.766,2,   10.181,3
   18HU93019_1, AR07W,     4,  1, 126033,    BO3,2,19930619,1811, 53.9927, -55.2217,  154,     23.8,  -1.6482,  32.8921,2,  32.8668,2,    260.1,1,     9.77,6,     5.51,6,     0.91,6,    4.399,2,    2.537,2, -999.000,5,    8.688,2
   18HU93019_1, AR07W,     4,  1, 126032,   BO18,2,19930619,1811, 53.9927, -55.2217,  154,     54.2,  -1.7612,  33.0168,2,  33.0153,6,    256.3,1,    10.68,6,     7.62,6,     1.03,6,    4.605,2,    2.607,2,    0.806,2,   11.649,3
   18HU93019_1, AR07W,     4,  1, 126031,   OC19,2,19930619,1811, 53.9927, -55.2217,  154,    104.4,  -1.6776,  33.1958,2,  33.1973,2,    256.3,1,    10.77,6,     8.26,6,     1.03,6,    4.277,2,    2.201,2,    0.640,2,    8.348,2
   18HU93019_1, AR07W,     4,  1, 126030,    OC3,2,19930619,1811, 53.9927, -55.2217,  154,    134.6,  -1.3025,  33.4515,2,  33.4490,2,    255.1,1,    11.18,6,     9.36,6,     0.98,6,    3.947,2,    2.478,2, -999.000,5,    7.780,2
   18HU93019_1, AR07W,     5,  1, 126038,    BO3,2,19930619,2019, 54.2220, -55.0258,  174,      3.4,   0.8325,  31.2939,2,  31.3170,2,    269.9,1,     0.72,6,     0.00,6,     0.31,6,    5.056,2,    2.639,2,    1.063,3,   11.220,3
   18HU93019_1, AR07W,     5,  1, 126037,   BO18,2,19930619,2019, 54.2220, -55.0258,  174,     42.2,  -1.7345,  32.9724,2,  32.9699,2,    250.1,1,    11.27,6,     7.80,6,     1.02,6,    4.190,2,    2.202,2,    0.800,2,    9.223,2
   18HU93019_1, AR07W,     5,  1, 126036,   OC19,2,19930619,2019, 54.2220, -55.0258,  174,     91.8,  -1.7094,  33.1363,2,  33.1369,6,    252.9,1,    11.51,6,     8.39,6,     1.02,6,    3.967,2,    1.942,2,    0.646,2,    8.668,2
   18HU93019_1, AR07W,     5,  1, 126035,    OC3,2,19930619,2019, 54.2220, -55.0258,  174,    160.0,  -1.0646,  33.5173,2,  33.5147,2,    245.0,1,    13.55,6,     9.98,6,     1.00,6,    4.521,2,    2.179,2,    0.690,2,    8.217,2
   18HU93019_1, AR07W,     6,  1, 126044,   OC17,2,19930619,2230, 54.4920, -54.7533,  200,      3.2,   1.3350,  30.9487,2,  30.9949,2,    284.1,1,     0.83,6,     0.00,6,     0.27,6,    4.889,2,    3.126,2,    0.886,2,   10.082,3
   18HU93019_1, AR07W,     6,  1, 126043,   BO10,2,19930619,2230, 54.4920, -54.7533,  200,     23.6,  -1.5058,  32.5211,2,  32.5054,2,    279.2,1,     4.28,2,  -999.00,5,     0.64,2,    4.140,2,    2.537,2, -999.000,5,    8.335,2
   18HU93019_1, AR07W,     6,  1, 126042,    BO3,2,19930619,2230, 54.4920, -54.7533,  200,     53.7,  -1.6650,  33.0437,2,  33.0430,2,    249.0,1,    11.57,6,     8.19,6,     1.01,6,    4.057,2,    2.483,2,    0.695,2,    7.974,2
   18HU93019_1, AR07W,     6,  1, 126041,   BO18,2,19930619,2230, 54.4920, -54.7533,  200,    103.9,  -1.5709,  33.3200,2,  33.3186,2,    248.7,1,    11.36,6,     8.86,6,     0.99,6,    4.373,6,    2.262,6,    0.623,6,    8.190,6
   18HU93019_1, AR07W,     6,  1, 126040,   OC19,2,19930619,2230, 54.4920, -54.7533,  200,    154.2,  -1.3178,  33.4607,2,  33.4596,2,    248.9,1,    10.92,6,     9.36,6,     0.92,6,    4.309,2,    2.172,2,    0.849,2,    8.059,2
   18HU93019_1, AR07W,     6,  1, 126039,    OC3,2,19930619,2230, 54.4920, -54.7533,  200,    189.9,  -0.3920,  33.7711,2,  33.7697,6,    246.1,1,    10.99,6,    10.74,6,     0.91,6, -999.000,5, -999.000,5, -999.000,5, -999.000,5
   18HU93019_1, AR07W,     7,  1, 126050,   OC17,2,19930620,0039, 54.7578, -54.4835,  245,      3.2,  -0.2195,  31.0953,2,  31.1419,6,    297.5,1,     2.35,6,     0.00,6,     0.36,6,    3.943,2,    2.204,2,    0.691,2,    7.964,2
   18HU93019_1, AR07W,     7,  1, 126049,   BO10,2,19930620,0039, 54.7578, -54.4835,  245,     53.1,  -1.7496,  33.0178,2,  33.0178,2,    253.2,1,    11.85,6,     8.41,6,     1.03,6,    4.219,2,    2.199,2,    0.846,2,    8.041,2
   18HU93019_1, AR07W,     7,  1, 126048,    BO3,2,19930620,0039, 54.7578, -54.4835,  245,    103.7,  -1.6155,  33.2414,2,  33.2414,2,    251.2,1,    12.23,6,     8.86,6,     1.02,6,    3.570,2,    1.947,2,    0.700,2,    6.582,2
   18HU93019_1, AR07W,     7,  1, 126047,   BO18,2,19930620,0039, 54.7578, -54.4835,  245,    153.0,  -1.4112,  33.5177,2,  33.5163,2,    257.4,1,     8.85,6,     9.26,6,     0.89,6,    4.268,2,    2.276,2,    0.845,2,    8.939,2
   18HU93019_1, AR07W,     7,  1, 126046,   OC19,2,19930620,0039, 54.7578, -54.4835,  245,    204.1,   0.6406,  33.9872,2,  33.9820,2,    229.8,1,    12.01,6,    11.97,6,     1.01,6,    3.368,2,    1.796,2,    0.518,2,    6.275,2
   18HU93019_1, AR07W,     7,  1, 126045,    OC3,2,19930620,0039, 54.7578, -54.4835,  245,    235.3,   2.3684,  34.4451,2,  34.4441,6,    223.3,1,    11.02,6,    13.94,6,     1.01,6,    3.255,2,    1.765,2,    0.910,2,    6.088,2
   18HU93019_1, AR07W,     8,  1, 126058,   OC23,2,19930620,0515, 54.9628, -54.2550,  393,      3.1,  -0.3861,  31.2080,2,  31.2151,6,    311.1,1,     4.50,6,     0.00,6,     0.43,6,    4.839,2,    2.480,2,    1.206,3,   10.219,3
   18HU93019_1, AR07W,     8,  1, 126057,    BO2,2,19930620,0515, 54.9628, -54.2550,  393,     13.7,  -1.0644,  31.4810,2,-999.0000,9,    308.0,1,  -999.00,5,  -999.00,5,  -999.00,5,    4.697,2,    2.557,2,    1.147,3,    9.703,2
   18HU93019_1, AR07W,     8,  1, 126056,   OC17,2,19930620,0515, 54.9628, -54.2550,  393,     53.9,  -1.6168,  33.5381,2,  33.5389,2,    270.5,1,     7.19,6,     8.95,6,     0.79,6,    4.748,2,    2.463,2,    1.300,3,    9.989,2
   18HU93019_1, AR07W,     8,  1, 126055,   BO10,2,19930620,0515, 54.9628, -54.2550,  393,    103.9,   0.4112,  33.9601,2,  33.9604,2,    244.4,1,     9.13,6,    11.36,6,     0.91,6,    4.015,2,    2.134,2,    0.944,2,    8.096,2
   18HU93019_1, AR07W,     8,  1, 126054,    BO3,2,19930620,0515, 54.9628, -54.2550,  393,    153.5,   1.9660,  34.2755,2,  34.2713,2,    228.8,1,    10.96,6,    13.15,6,     0.92,6, -999.000,5,    1.826,2,    0.789,2,    6.235,2
   18HU93019_1, AR07W,     8,  1, 126053,   BO18,3,19930620,0515, 54.9628, -54.2550,  393,    204.6,   2.3866,  34.4121,2,  34.3849,3,    227.7,1,    10.87,6,    13.50,6,     0.99,6, -999.000,5, -999.000,5, -999.000,5, -999.000,5
   18HU93019_1, AR07W,     8,  1, 126052,   OC19,2,19930620,0515, 54.9628, -54.2550,  393,    305.5,   3.8152,  34.7508,2,  34.7494,2,    223.2,1,     9.39,6,    14.81,6,     0.99,6,    2.945,6,    1.962,6,    0.544,6,    5.994,6
   18HU93019_1, AR07W,     8,  1, 126051,    OC3,2,19930620,0515, 54.9628, -54.2550,  393,    382.9,   3.9304,  34.7938,2,  34.7919,2,    222.0,1,     9.68,6,    15.18,6,     1.01,6,    2.257,2,    1.328,2,    0.192,2,    3.795,2
   18HU93019_1, AR07W,     9,  1, 126069,    OC2,3,19930620,0727, 55.1017, -54.1273,  858,      3.8,   0.0881,  32.5501,2,  32.6640,4,    300.4,1,     8.71,6,     2.37,6,     0.60,6,    4.207,2,    2.019,2,    0.707,2,   10.176,3
   18HU93019_1, AR07W,     9,  1, 126068,    BO1,2,19930620,0727, 55.1017, -54.1273,  858,     24.2,  -1.0554,  33.4942,2,  33.5000,2,    286.6,1,     6.53,6,     7.88,6,     0.71,6,    6.858,2,    2.338,2,    0.698,2,   10.405,3
   18HU93019_1, AR07W,     9,  1, 126067,   OC13,3,19930620,0727, 55.1017, -54.1273,  858,     79.1,  -1.0816,  33.9600,2,  33.9424,4,    277.9,1,     5.80,6,    10.15,6,     0.75,6,    4.292,2,    2.130,2,    0.639,2,   10.273,3
   18HU93019_1, AR07W,     9,  1, 126066,   OC23,2,19930620,0727, 55.1017, -54.1273,  858,    148.0,   2.6837,  34.5493,2,  34.5463,2,    241.4,1,     7.23,6,    12.96,6,     0.90,6, -999.000,5,    1.682,2,    0.518,2,    6.973,2
   18HU93019_1, AR07W,     9,  1, 126065,    BO2,2,19930620,0727, 55.1017, -54.1273,  858,    288.7,   4.0294,  34.8480,2,-999.0000,9,    230.7,1,  -999.00,5,  -999.00,5,  -999.00,5,    2.990,6,    1.724,6,    0.581,6,    6.255,6
   18HU93019_1, AR07W,     9,  1, 126064,   OC17,2,19930620,0727, 55.1017, -54.1273,  858,    390.5,   3.9347,  34.8790,2,  34.8784,2,    227.1,1,    10.02,6,    15.81,6,     1.04,6,    2.548,2,    1.472,2,    0.477,2,    5.741,2
   18HU93019_1, AR07W,     9,  1, 126063,   BO10,2,19930620,0727, 55.1017, -54.1273,  858,    493.6,   3.8109,  34.8867,2,  34.8883,2,    231.3,1,     9.78,6,    15.89,6,     1.02,6,    2.500,2,    1.566,2,    0.456,2,    5.724,2
   18HU93019_1, AR07W,     9,  1, 126062,    BO3,2,19930620,0727, 55.1017, -54.1273,  858,    594.7,   3.6692,  34.8875,2,  34.8888,2,    233.0,1,     9.64,6,    16.17,6,     1.02,6,    2.505,2,    1.412,2,    0.459,2,    5.660,2
   18HU93019_1, AR07W,     9,  1, 126061,   BO18,2,19930620,0727, 55.1017, -54.1273,  858,    697.2,   3.5228,  34.8827,2,  34.8843,2,    232.2,1,     9.92,6,    16.18,6,     1.01,6,    2.725,2,    1.614,2,    0.496,2, -999.000,5
   18HU93019_1, AR07W,     9,  1, 126060,   OC19,2,19930620,0727, 55.1017, -54.1273,  858,    796.2,   3.4444,  34.8798,2,  34.8818,6,    233.6,1,     9.76,6,    16.08,6,     1.03,6,    2.357,2,    1.528,2,    0.451,2,    5.954,2
   18HU93019_1, AR07W,     9,  1, 126059,    OC3,3,19930620,0727, 55.1017, -54.1273,  858,    899.8,   3.2502,  34.8697,2,  34.8763,4,    236.1,1,     9.94,6,    15.86,6,     1.01,6,    2.317,2,    1.335,2,    0.519,2,    6.132,2
   18HU93019_1, AR07W,    10,  1, 126083,    OC4,2,19930620,1037, 55.2412, -53.9508, 1997,      3.2,   3.3014,  33.4117,2,  33.4162,2,    299.2,1,     0.27,6,     0.00,6,     0.19,6,    3.980,2,    1.067,2,    1.185,3,   10.205,3
   18HU93019_1, AR07W,    10,  1, 126082,    OC9,2,19930620,1037, 55.2412, -53.9508, 1997,     98.3,   3.5355,  34.7422,2,  34.7389,2,    237.4,1,     7.90,6,    14.55,6,     0.99,6,    2.911,2,    1.711,2,    0.494,2,    6.486,2
   18HU93019_1, AR07W,    10,  1, 126081,   OC26,2,19930620,1037, 55.2412, -53.9508, 1997,    193.6,   3.7720,  34.8303,2,  34.8290,2,    234.7,1,     8.45,6,    15.17,6,     1.02,6,    2.762,2,    1.691,2,    0.471,2,    6.077,2
   18HU93019_1, AR07W,    10,  1, 126080,    OC2,2,19930620,1037, 55.2412, -53.9508, 1997,    288.0,   3.5567,  34.8553,2,  34.8563,2,    235.1,1,     8.69,6,    15.53,6,     1.03,6,    3.101,2,    1.299,2,    0.503,2,    6.054,2
   18HU93019_1, AR07W,    10,  1, 126079,    BO1,2,19930620,1037, 55.2412, -53.9508, 1997,    368.8,   3.5177,  34.8757,2,  34.8742,2,    233.5,1,     9.16,6,    16.08,6,     1.04,6,    2.451,2,    1.487,2,    0.468,2,    5.721,2
   18HU93019_1, AR07W,    10,  1, 126078,   OC13,2,19930620,1037, 55.2412, -53.9508, 1997,    520.3,   3.3479,  34.8747,2,  34.8749,2,    233.4,1,     9.44,6,    16.11,6,     1.06,6,    2.256,2,    1.228,2,    0.496,2,    5.461,2
   18HU93019_1, AR07W,    10,  1, 126077,   OC23,2,19930620,1037, 55.2412, -53.9508, 1997,    666.5,   3.1897,  34.8646,2,  34.8654,2,    234.4,1,     9.31,6,    15.86,6,     1.03,6,    2.243,2,    1.461,2,    0.444,2,    5.326,2
   18HU93019_1, AR07W,    10,  1, 126076,    BO2,2,19930620,1037, 55.2412, -53.9508, 1997,    922.4,   3.0579,  34.8578,2,  34.8549,2,    234.7,1,     9.49,6,    15.68,6,     1.04,6, -999.000,5,    1.421,2,    0.445,2,    5.220,2
   18HU93019_1, AR07W,    10,  1, 126075,   OC17,2,19930620,1037, 55.2412, -53.9508, 1997,   1166.7,   2.9181,  34.8446,2,  34.8453,2,    237.2,1,     9.49,6,    15.76,6,     1.04,6,    2.596,6,    1.399,6,    0.502,6,    5.727,6
   18HU93019_1, AR07W,    10,  1, 126074,   BO10,2,19930620,1037, 55.2412, -53.9508, 1997,   1376.1,   2.9142,  34.8523,2,  34.8499,2,    234.7,1,     9.63,6,    15.79,6,     1.04,6,    3.493,2,    1.221,2,    0.490,2,    5.238,2
   18HU93019_1, AR07W,    10,  1, 126073,    BO3,2,19930620,1037, 55.2412, -53.9508, 1997,   1568.4,   2.8560,  34.8489,2,  34.8504,2,    238.4,1,     9.57,6,    15.84,6,     1.03,6,    2.184,2,    1.441,2,    0.425,2,    5.436,2
   18HU93019_1, AR07W,    10,  1, 126072,   BO18,2,19930620,1037, 55.2412, -53.9508, 1997,   1741.4,   2.9995,  34.8975,2,  34.8979,6,    228.2,1,    10.83,6,    15.87,6,     1.02,6,    1.342,2,    1.221,2,    0.000,2,    3.559,2
   18HU93019_1, AR07W,    10,  1, 126071,   OC19,2,19930620,1037, 55.2412, -53.9508, 1997,   1911.9,   2.9858,  34.8992,2,  34.9012,2,    228.4,1,    11.00,6,    15.59,6,     1.04,6,    1.343,2,    1.110,2,    0.405,2,    3.615,2
   18HU93019_1, AR07W,    10,  1, 126070,    OC3,2,19930620,1037, 55.2412, -53.9508, 1997,   2018.6,   2.9599,  34.9058,2,  34.9066,2,    228.3,1,    11.18,6,    15.52,6,     1.02,6,    1.202,2,    1.050,2,    0.434,2,    3.251,2