BOTTLE,20010706WHPSIOKJU
EXPOCODE,SECT_ID,STNNBR,CASTNO,SAMPNO,BTLNBR,BTLNBR_FLAG_W,DATE,TIME,LATITUDE,LONGITUDE,DEPTH,CTDPRS,CTDTMP,CTDSAL,CTDSAL_FLAG_W,SALNTY,SALNTY_FLAG_W,CTDOXY,CTDOXY_FLAG_W,SILCAT,SILCAT_FLAG_W,NO2+NO3,NO2+NO3_FLAG_W,PHSPHT,PHSPHT_FLAG_W,CFC-11,CFC-11_FLAG_W,CFC-12,CFC-12_FLAG_W,CFC113,CFC113_FLAG_W,CCL4,CCL4_FLAG_W
,,,,,,,,,,,,DBAR,ITS-90,PSS-78,,PSS-78,,UMOL/KG,,UMOL/KG,,UMOL/KG,,UMOL/KG,,PMOL/KG,,PMOL/KG,,PMOL/KG,,PMOL/KG,
   18HU93019_1, AR07W,    23,  1, 126337,   BO17,2,19930623,0853, 59.7562, -49.1827, 3212,      3.9,   4.5129,  34.1910,2,  34.1924,2,    433.3,1,     6.64,6,     0.00,6,     0.17,6, -999.000,9, -999.000,9, -999.000,9, -999.000,9
   18HU93019_1, AR07W,    23,  1, 126336,    OC1,2,19930623,0853, 59.7562, -49.1827, 3212,     31.6,   4.2406,  34.4352,2,  34.4223,2,    438.0,1,     6.88,6,     0.68,6,     0.27,6, -999.000,9, -999.000,9, -999.000,9, -999.000,9
   18HU93019_1, AR07W,    23,  1, 126335,    OC7,2,19930623,0853, 59.7562, -49.1827, 3212,     56.6,   3.3648,  34.4933,2,  34.4916,2,    416.0,1,     7.63,6,     5.60,6,     0.66,6, -999.000,9, -999.000,9, -999.000,9, -999.000,9
   18HU93019_1, AR07W,    23,  1, 126334,    OC6,3,19930623,0853, 59.7562, -49.1827, 3212,    105.1,   2.8374,  34.6350,2,  34.8086,4,    397.5,1,     8.59,6,    12.68,6,     0.94,6, -999.000,9, -999.000,9, -999.000,9, -999.000,9
   18HU93019_1, AR07W,    23,  1, 126333,    BO5,3,19930623,0853, 59.7562, -49.1827, 3212,    201.8,   3.4168,  34.8377,2,  34.8082,4,    374.0,1,     8.91,6,    15.67,6,     1.04,6, -999.000,9, -999.000,9, -999.000,9, -999.000,9
   18HU93019_1, AR07W,    23,  1, 126332,    BO8,2,19930623,0853, 59.7562, -49.1827, 3212,    401.0,   3.3773,  34.8718,2,  34.8725,2,    365.4,1,     9.28,6,    15.81,6,     1.05,6, -999.000,9, -999.000,9, -999.000,9, -999.000,9
   18HU93019_1, AR07W,    23,  1, 126331,    OC4,2,19930623,0853, 59.7562, -49.1827, 3212,    603.5,   3.2804,  34.8758,2,  34.8765,2,    360.3,1,     9.42,6,    15.92,6,     1.04,6, -999.000,9, -999.000,9, -999.000,9, -999.000,9
   18HU93019_1, AR07W,    23,  1, 126330,    OC9,2,19930623,0853, 59.7562, -49.1827, 3212,    801.8,   3.0672,  34.8561,2,  34.8582,2,    363.6,1,     9.57,6,    16.09,6,     1.08,6, -999.000,9, -999.000,9, -999.000,9, -999.000,9
   18HU93019_1, AR07W,    23,  1, 126329,   OC26,3,19930623,0853, 59.7562, -49.1827, 3212,   1098.8,   2.9432,  34.8484,2,  34.8655,4,    361.6,1,     9.73,6,    16.04,6,     1.04,6, -999.000,9, -999.000,9, -999.000,9, -999.000,9
   18HU93019_1, AR07W,    23,  1, 126328,    OC2,2,19930623,0853, 59.7562, -49.1827, 3212,   1295.3,   2.8769,  34.8427,2,  34.8460,6,    362.9,1,     9.53,6,    16.04,6,     1.03,6, -999.000,9, -999.000,9, -999.000,9, -999.000,9
   18HU93019_1, AR07W,    23,  1, 126327,    BO1,2,19930623,0853, 59.7562, -49.1827, 3212,   1485.5,   2.8659,  34.8433,2,  34.8443,2,    362.6,1,     9.68,6,    15.67,6,     1.04,6, -999.000,9, -999.000,9, -999.000,9, -999.000,9
   18HU93019_1, AR07W,    23,  1, 126326,   BO15,2,19930623,0853, 59.7562, -49.1827, 3212,   1678.7,   2.8639,  34.8452,2,  34.8420,2,    362.9,1,     9.61,6,    15.72,6,     1.05,6, -999.000,9, -999.000,9, -999.000,9, -999.000,9
   18HU93019_1, AR07W,    23,  1, 126325,   BO16,2,19930623,0853, 59.7562, -49.1827, 3212,   1869.8,   2.9065,  34.8560,2,  34.8573,2,    359.6,1,     9.87,6,    15.83,6,     1.05,6, -999.000,9, -999.000,9, -999.000,9, -999.000,9
   18HU93019_1, AR07W,    23,  1, 126324,    OC8,2,19930623,0853, 59.7562, -49.1827, 3212,   2070.9,   3.0421,  34.9028,2,  34.9020,2,    342.6,1,    11.04,6,    15.80,6,     1.06,6, -999.000,9, -999.000,9, -999.000,9, -999.000,9
   18HU93019_1, AR07W,    23,  1, 126323,    OC5,2,19930623,0853, 59.7562, -49.1827, 3212,   2377.9,   2.8459,  34.9200,2,  34.9209,2,    336.5,1,    12.56,6,    15.84,6,     1.04,6, -999.000,9, -999.000,9, -999.000,9, -999.000,9
   18HU93019_1, AR07W,    23,  1, 126322,   BO10,2,19930623,0853, 59.7562, -49.1827, 3212,   2589.4,   2.5116,  34.8987,2,  34.8999,2,    344.3,1,    11.79,6,    15.27,6,     1.01,6, -999.000,9, -999.000,9, -999.000,9, -999.000,9
   18HU93019_1, AR07W,    23,  1, 126321,   BO11,3,19930623,0853, 59.7562, -49.1827, 3212,   2800.3,   2.2093,  34.8955,2,  34.8672,4,    346.8,1,    11.73,6,    14.81,6,     0.98,6, -999.000,9, -999.000,9, -999.000,9, -999.000,9
   18HU93019_1, AR07W,    23,  1, 126320,   OC11,2,19930623,0853, 59.7562, -49.1827, 3212,   3011.1,   1.7411,  34.8684,2,  34.8686,2,    361.4,1,     9.39,6,    13.79,6,     0.93,6, -999.000,9, -999.000,9, -999.000,9, -999.000,9
   18HU93019_1, AR07W,    23,  1, 126319,   OC19,2,19930623,0853, 59.7562, -49.1827, 3212,   3113.6,   1.5660,  34.8696,2,  34.8692,2,    364.2,1,     9.28,6,    13.82,6,     0.93,6, -999.000,9, -999.000,9, -999.000,9, -999.000,9
   18HU93019_1, AR07W,    23,  1, 126318,    OC3,2,19930623,0853, 59.7562, -49.1827, 3212,   3232.1,   1.4568,  34.8670,2,  34.8633,6,    368.8,1,     9.20,6,    13.61,6,     0.92,6, -999.000,9, -999.000,9, -999.000,9, -999.000,9
   18HU93019_1, AR07W,    24,  1, 126353,    BO5,2,19930623,1240, 59.9700, -48.8862, 3007,      3.6,   4.2369,  34.0434,2,-999.0000,5,    456.3,1,     2.36,6,     0.00,6,     0.13,6,    4.319,2,    2.380,2, -999.000,5,    9.552,2
   18HU93019_1, AR07W,    24,  1, 126352,    BO8,2,19930623,1240, 59.9700, -48.8862, 3007,     28.8,   3.1483,  34.1348,2,-999.0000,5,    440.2,1,     4.37,6,     0.00,6,     0.21,6,    4.320,2,    2.320,2,    0.616,2,    9.444,2
   18HU93019_1, AR07W,    24,  1, 126351,    OC4,3,19930623,1240, 59.9700, -48.8862, 3007,     52.9,   2.1533,  34.3944,2,  34.4033,3,    416.2,1,     7.85,6,    10.22,6,     0.81,6, -999.000,5, -999.000,5, -999.000,5, -999.000,5
   18HU93019_1, AR07W,    24,  1, 126350,    OC9,3,19930623,1240, 59.9700, -48.8862, 3007,    101.1,   2.7646,  34.6432,2,  34.6331,4,    389.2,1,     8.51,6,    14.11,6,     0.97,6,    3.918,2,    2.134,2,    0.794,2,    8.378,2
   18HU93019_1, AR07W,    24,  1, 126349,   OC26,2,19930623,1240, 59.9700, -48.8862, 3007,    195.7,   3.2713,  34.8017,2,  34.8016,2,    367.0,1,     8.88,6,    15.39,6,     1.02,6,    3.331,2,    1.838,2,    0.657,2,    6.774,2
   18HU93019_1, AR07W,    24,  1, 126348,    OC2,2,19930623,1240, 59.9700, -48.8862, 3007,    395.0,   3.3491,  34.8584,2,  34.8600,2,    362.7,1,     9.46,6,    15.96,6,     1.06,6,    3.175,2,    1.776,2, -999.000,5,    6.661,2
   18HU93019_1, AR07W,    24,  1, 126347,    BO1,2,19930623,1240, 59.9700, -48.8862, 3007,    586.8,   3.2041,  34.8584,2,  34.8565,2,    360.6,1,     9.47,6,    16.17,6,     1.03,6,    3.088,6,    1.730,6,    0.456,6,    6.446,6
   18HU93019_1, AR07W,    24,  1, 126346,   BO15,2,19930623,1240, 59.9700, -48.8862, 3007,    793.1,   3.1432,  34.8632,2,  34.8622,2,    361.2,1,     9.57,6,    16.25,6,     1.03,6,    2.913,2,    1.585,2,    0.760,2,    6.138,2
   18HU93019_1, AR07W,    24,  1, 126345,   BO16,2,19930623,1240, 59.9700, -48.8862, 3007,    999.3,   3.0093,  34.8525,2,  34.8528,2,    361.1,1,     9.64,6,    16.24,6,     1.03,6,    2.814,2,    1.520,2,    0.294,2,    6.004,2
   18HU93019_1, AR07W,    24,  1, 126344,    OC8,2,19930623,1240, 59.9700, -48.8862, 3007,   1200.9,   2.9058,  34.8430,2,  34.8440,6,    364.1,1,     9.83,6,    16.22,6,     1.03,6,    2.873,2,    1.723,2,    0.345,2,    6.160,2
   18HU93019_1, AR07W,    24,  1, 126343,    OC5,2,19930623,1240, 59.9700, -48.8862, 3007,   1490.5,   2.8700,  34.8442,2,  34.8442,2,    364.5,1,     9.73,6,    15.98,6,     1.04,6,    2.759,2,    1.512,2,    0.531,2,    5.804,2
   18HU93019_1, AR07W,    24,  1, 126342,   BO10,2,19930623,1240, 59.9700, -48.8862, 3007,   1761.6,   3.0019,  34.8782,2,  34.8784,6,    349.8,1,    10.49,6,    16.00,6,     1.02,6,    1.964,2,    0.840,2,    0.690,2,    2.954,2
   18HU93019_1, AR07W,    24,  1, 126341,   BO11,2,19930623,1240, 59.9700, -48.8862, 3007,   1952.2,   2.9731,  34.9048,2,  34.9007,2,    340.9,1,    10.93,6,    15.94,6,     1.03,6,    1.591,2,    0.835,2, -999.000,5,    3.477,2
   18HU93019_1, AR07W,    24,  1, 126340,   OC11,2,19930623,1240, 59.9700, -48.8862, 3007,   2343.4,   2.6887,  34.9138,2,  34.9156,2,    339.2,1,    12.23,6,    15.74,6,     1.03,6,    2.759,2,    1.512,2,    0.531,2,    5.804,2
   18HU93019_1, AR07W,    24,  1, 126339,   OC19,2,19930623,1240, 59.9700, -48.8862, 3007,   2760.1,   1.6834,  34.8636,2,  34.8653,2,    362.3,1,     9.60,6,    14.17,6,     0.93,6,    2.360,2,    1.307,2, -999.000,5,    5.083,2
   18HU93019_1, AR07W,    24,  1, 126338,    OC3,2,19930623,1240, 59.9700, -48.8862, 3007,   3033.2,   1.4606,  34.8661,2,  34.8632,2,    366.5,1,     9.32,6,    13.59,6,     0.90,6, -999.000,5, -999.000,5, -999.000,5, -999.000,5
   18HU93019_1, AR07W,    25,  1, 126371,    OC7,2,19930623,1605, 60.1820, -48.6828, 2857,      2.6,   4.2237,  34.0736,2,  34.0741,2,    471.7,1,     2.07,6,     0.00,6,     0.15,6, -999.000,9, -999.000,9, -999.000,9, -999.000,9
   18HU93019_1, AR07W,    25,  1, 126370,    OC6,3,19930623,1605, 60.1820, -48.6828, 2857,    107.6,   2.4902,  34.5761,2,  34.0746,4,    389.4,1,     2.19,6,     0.00,6,     0.17,6, -999.000,5, -999.000,5, -999.000,5, -999.000,5
   18HU93019_1, AR07W,    25,  1, 126369,    BO5,2,19930623,1605, 60.1820, -48.6828, 2857,    208.0,   3.3496,  34.8306,2,  34.8302,2,    368.6,1,     8.81,6,    15.49,6,     1.02,6, -999.000,9, -999.000,9, -999.000,9, -999.000,9
   18HU93019_1, AR07W,    25,  1, 126368,    BO8,2,19930623,1605, 60.1820, -48.6828, 2857,    358.1,   3.4034,  34.8745,2,  34.8747,2,    363.2,1,     9.21,6,    15.96,6,     1.04,6, -999.000,5, -999.000,5, -999.000,5, -999.000,5
   18HU93019_1, AR07W,    25,  1, 126367,    OC4,2,19930623,1605, 60.1820, -48.6828, 2857,    506.5,   3.1474,  34.8567,2,  34.8589,2,    361.3,1,     9.40,6,    16.20,6,     1.05,6, -999.000,9, -999.000,9, -999.000,9, -999.000,9
   18HU93019_1, AR07W,    25,  1, 126366,    OC9,2,19930623,1605, 60.1820, -48.6828, 2857,    659.0,   3.1322,  34.8658,2,  34.8666,2,    361.8,1,     9.59,6,    16.14,6,     1.06,6, -999.000,5, -999.000,5, -999.000,5, -999.000,5
   18HU93019_1, AR07W,    25,  1, 126365,   OC26,2,19930623,1605, 60.1820, -48.6828, 2857,    859.8,   3.0345,  34.8606,2,  34.8609,2,    359.0,1,     9.77,6,    16.22,6,     1.06,6, -999.000,9, -999.000,9, -999.000,9, -999.000,9
   18HU93019_1, AR07W,    25,  1, 126364,    OC2,2,19930623,1605, 60.1820, -48.6828, 2857,   1010.7,   2.8570,  34.8382,2,  34.8411,6,    363.5,1,     9.54,6,    16.27,6,     1.04,6,    3.015,2,    1.726,2,    0.582,2,    6.397,2
   18HU93019_1, AR07W,    25,  1, 126363,    BO1,2,19930623,1605, 60.1820, -48.6828, 2857,   1265.4,   2.8093,  34.8365,2,  34.8371,2,    364.5,1,     9.39,6,    15.99,6,     1.05,6,    2.954,2,    1.610,2,    0.416,2,    6.357,2
   18HU93019_1, AR07W,    25,  1, 126362,   BO15,2,19930623,1605, 60.1820, -48.6828, 2857,   1518.2,   2.7977,  34.8369,2,  34.8351,2,    366.6,1,     9.48,6,    15.86,6,     1.05,6,    3.057,2,    1.697,2,    0.454,2,    6.555,2
   18HU93019_1, AR07W,    25,  1, 126361,   BO16,2,19930623,1605, 60.1820, -48.6828, 2857,   1742.8,   2.8140,  34.8395,2,  34.8401,2,    365.4,1,     9.60,6,    16.00,6,     1.04,6, -999.000,5, -999.000,5, -999.000,5, -999.000,5
   18HU93019_1, AR07W,    25,  1, 126360,    OC8,2,19930623,1605, 60.1820, -48.6828, 2857,   1951.3,   3.0439,  34.8913,2,  34.8918,2,    345.6,1,    10.64,6,    16.05,6,     1.02,6,    1.904,2,    1.037,2,    0.185,2,    4.214,2
   18HU93019_1, AR07W,    25,  1, 126359,    OC5,2,19930623,1605, 60.1820, -48.6828, 2857,   2078.5,   3.0028,  34.9036,2,  34.9035,6,    341.8,1,    11.11,6,    15.89,6,     1.05,6, -999.000,5, -999.000,5, -999.000,5, -999.000,5
   18HU93019_1, AR07W,    25,  1, 126358,   BO10,2,19930623,1605, 60.1820, -48.6828, 2857,   2231.0,   2.8325,  34.9085,2,  34.9093,2,    341.0,1,    11.76,6,    15.70,6,     1.03,6,    1.609,2,    0.864,2,    0.147,2,    3.587,2
   18HU93019_1, AR07W,    25,  1, 126357,   BO11,3,19930623,1605, 60.1820, -48.6828, 2857,   2383.2,   2.6627,  34.9192,2,  34.8999,4,    335.8,1,    11.97,6,    15.99,6,     1.03,6,    1.294,2,    0.677,2,    0.156,2,    2.944,2
   18HU93019_1, AR07W,    25,  1, 126356,   OC11,2,19930623,1605, 60.1820, -48.6828, 2857,   2534.9,   2.3916,  34.9066,2,  34.9079,2,    342.6,1,    12.67,6,    15.61,6,     1.01,6, -999.000,5, -999.000,5, -999.000,5, -999.000,5
   18HU93019_1, AR07W,    25,  1, 126355,   OC19,2,19930623,1605, 60.1820, -48.6828, 2857,   2736.5,   1.9007,  34.8849,2,  34.8849,2,    355.2,1,    10.84,6,    14.33,6,     0.95,6,    2.098,2,    1.184,2,    0.276,2,    4.560,2
   18HU93019_1, AR07W,    25,  1, 126354,    OC3,2,19930623,1605, 60.1820, -48.6828, 2857,   2869.5,   1.6993,  34.8756,2,  34.8764,2,    363.9,1,    10.22,6,    14.05,6,     0.93,6,    2.318,2,    1.260,2,    0.395,2,    4.975,2
   18HU93019_1, AR07W,    26,  1, 126389,    OC7,2,19930623,2025, 60.3038, -48.6237, 2763,      2.5,   0.6218,  32.7150,2,  32.6729,2,    461.2,1,     6.48,6,     2.35,6,     0.38,6,    4.124,2,    2.400,2,    0.724,2,    9.077,2
   18HU93019_1, AR07W,    26,  1, 126388,    OC6,4,19930623,2025, 60.3038, -48.6237, 2763,     29.8,   4.3215,  34.5427,2,-999.0000,9,    431.9,1,  -999.00,9,  -999.00,9,  -999.00,9, -999.000,9, -999.000,9, -999.000,9, -999.000,9
   18HU93019_1, AR07W,    26,  1, 126387,    BO5,2,19930623,2025, 60.3038, -48.6237, 2763,     55.3,   4.4340,  34.7663,2,  34.7659,2,    401.1,1,     8.02,6,     5.27,6,     0.65,6,    4.287,2,    2.438,2,    0.524,2,    9.175,2
   18HU93019_1, AR07W,    26,  1, 126386,    BO8,2,19930623,2025, 60.3038, -48.6237, 2763,    104.3,   4.4725,  34.8397,2,-999.0000,5,    390.7,1,     8.26,6,     8.89,6,     0.90,6,    3.570,2,    2.083,2,    0.597,2,    7.597,2
   18HU93019_1, AR07W,    26,  1, 126385,    OC4,2,19930623,2025, 60.3038, -48.6237, 2763,    201.7,   4.2391,  34.9022,2,  34.9058,2,    373.9,1,     8.67,6,    13.56,6,     0.92,6,    3.934,2,    2.281,2,    0.530,2,    8.617,2
   18HU93019_1, AR07W,    26,  1, 126384,    OC9,2,19930623,2025, 60.3038, -48.6237, 2763,    297.1,   3.9262,  34.9105,2,-999.0000,5,    365.9,1,     8.40,6,    13.31,6,     0.92,6,    3.519,6,    2.039,6,    0.629,6,    7.263,6
   18HU93019_1, AR07W,    26,  1, 126383,   OC26,2,19930623,2025, 60.3038, -48.6237, 2763,    380.4,   3.8310,  34.9090,2,-999.0000,5,    364.1,1,     9.06,6,    15.96,6,     1.04,6,    3.489,2,    2.038,2,    0.440,2,    7.527,2
   18HU93019_1, AR07W,    26,  1, 126382,    OC2,2,19930623,2025, 60.3038, -48.6237, 2763,    558.6,   3.5610,  34.8954,2,  34.8967,2,    360.8,1,     9.47,6,    16.14,6,     1.04,6,    3.279,2,    1.934,2,    0.569,2,    7.068,2
   18HU93019_1, AR07W,    26,  1, 126381,    BO1,2,19930623,2025, 60.3038, -48.6237, 2763,    754.9,   3.4453,  34.8897,2,  34.8912,2,    360.4,1,     9.38,6,    16.00,6,     1.05,6, -999.000,5, -999.000,5, -999.000,5, -999.000,5
   18HU93019_1, AR07W,    26,  1, 126380,   BO15,2,19930623,2025, 60.3038, -48.6237, 2763,    943.5,   3.3428,  34.8843,2,  34.8849,2,    357.5,1,     9.51,6,    15.88,6,     1.05,6,    2.947,2,    1.760,2,    0.356,2,    6.542,2
   18HU93019_1, AR07W,    26,  1, 126379,   BO16,2,19930623,2025, 60.3038, -48.6237, 2763,   1175.2,   3.2321,  34.8760,2,  34.8764,2,    358.9,1,     9.66,6,    16.20,6,     1.06,6,    2.946,2,    1.742,2,    0.852,2,    6.626,2
   18HU93019_1, AR07W,    26,  1, 126378,    OC8,2,19930623,2025, 60.3038, -48.6237, 2763,   1464.5,   3.1301,  34.8683,2,  34.8692,2,    357.7,1,     9.72,6,    16.24,6,     1.05,6, -999.000,5, -999.000,5, -999.000,5, -999.000,5
   18HU93019_1, AR07W,    26,  1, 126377,    OC5,2,19930623,2025, 60.3038, -48.6237, 2763,   1647.6,   3.1040,  34.8707,2,  34.8705,2,    354.5,1,     9.89,6,    16.03,6,     1.04,6,    2.360,2,    1.354,2,    0.701,2,    5.236,2
   18HU93019_1, AR07W,    26,  1, 126376,   BO10,2,19930623,2025, 60.3038, -48.6237, 2763,   1813.8,   3.0734,  34.8746,2,  34.8748,6,    353.8,1,    10.04,6,    15.69,6,     1.03,6,    2.471,2,    1.429,2,    0.219,2,    5.949,2
   18HU93019_1, AR07W,    26,  1, 126375,   OC16,2,19930623,2025, 60.3038, -48.6237, 2763,   1938.4,   3.0424,  34.8838,2,  34.8831,2,    349.8,1,    10.35,6,    16.00,6,     1.04,6, -999.000,5, -999.000,5, -999.000,5, -999.000,5
   18HU93019_1, AR07W,    26,  1, 126374,   OC11,2,19930623,2025, 60.3038, -48.6237, 2763,   2093.2,   2.9523,  34.8959,2,  34.8975,2,    345.3,1,    10.88,6,    15.70,6,     1.03,6,    1.869,2,    1.183,2,    0.193,2,    4.789,2
   18HU93019_1, AR07W,    26,  1, 126373,   OC19,2,19930623,2025, 60.3038, -48.6237, 2763,   2263.3,   2.7960,  34.8964,2,  34.8995,2,    345.2,1,    10.94,6,    15.39,6,     1.01,6, -999.000,5, -999.000,5, -999.000,5, -999.000,5
   18HU93019_1, AR07W,    26,  1, 126372,    OC3,3,19930623,2025, 60.3038, -48.6237, 2763,   2728.1,   2.3911,  34.9018,2,  34.8827,4,    347.1,1,    12.43,6,    15.27,6,     0.99,6, -999.000,5, -999.000,5, -999.000,5, -999.000,5