BOTTLE,20010706WHPSIOKJU
EXPOCODE,SECT_ID,STNNBR,CASTNO,SAMPNO,BTLNBR,BTLNBR_FLAG_W,DATE,TIME,LATITUDE,LONGITUDE,DEPTH,CTDPRS,CTDTMP,CTDSAL,CTDSAL_FLAG_W,SALNTY,SALNTY_FLAG_W,CTDOXY,CTDOXY_FLAG_W,SILCAT,SILCAT_FLAG_W,NO2+NO3,NO2+NO3_FLAG_W,PHSPHT,PHSPHT_FLAG_W,CFC-11,CFC-11_FLAG_W,CFC-12,CFC-12_FLAG_W,CFC113,CFC113_FLAG_W,CCL4,CCL4_FLAG_W
,,,,,,,,,,,,DBAR,ITS-90,PSS-78,,PSS-78,,UMOL/KG,,UMOL/KG,,UMOL/KG,,UMOL/KG,,PMOL/KG,,PMOL/KG,,PMOL/KG,,PMOL/KG,
   18HU93019_1, AR07W,    19,  1, 126257,   BO17,2,19930622,1103, 58.2182, -50.8963, 3561,      3.3,   3.3792,  34.2118,2,  34.2133,2,    292.9,1,     5.23,6,     3.48,6,     0.40,6,    4.444,2,    1.996,2,    0.813,2,    9.667,2
   18HU93019_1, AR07W,    19,  1, 126256,    OC1,2,19930622,1103, 58.2182, -50.8963, 3561,     31.1,   3.3393,  34.2134,2,  34.2347,2,    280.4,1,     4.96,6,     3.62,6,     0.43,6,    4.444,2,    2.374,2,    0.850,2,    9.876,2
   18HU93019_1, AR07W,    19,  1, 126255,    OC7,2,19930622,1103, 58.2182, -50.8963, 3561,     54.8,   2.7093,  34.4989,2,  34.4955,2,    257.1,1,     7.48,6,    11.40,6,     0.84,6,    4.227,2,    2.182,2,    0.781,2,    9.207,2
   18HU93019_1, AR07W,    19,  1, 126254,    OC6,3,19930622,1103, 58.2182, -50.8963, 3561,    105.6,   3.4605,  34.7836,2,  34.7903,4,    242.2,1,     8.71,6,    15.55,6,     1.03,6,    3.361,2,    1.607,2,    0.569,2,    6.873,2
   18HU93019_1, AR07W,    19,  1, 126253,    BO5,2,19930622,1103, 58.2182, -50.8963, 3561,    192.1,   2.8853,  34.7942,2,  34.7948,2,    246.0,1,     9.17,6,    15.63,6,     1.04,6,    3.474,2,    1.855,2,    0.616,2,    7.626,2
   18HU93019_1, AR07W,    19,  1, 126252,    BO8,2,19930622,1103, 58.2182, -50.8963, 3561,    390.8,   2.9079,  34.8300,2,  34.8302,2,    241.9,1,     9.85,6,    16.14,6,     1.06,6,    3.081,2,    1.625,2,    0.468,2,    6.721,2
   18HU93019_1, AR07W,    19,  1, 126251,    OC4,2,19930622,1103, 58.2182, -50.8963, 3561,    593.9,   2.8705,  34.8375,2,  34.8393,2,    240.8,1,     9.52,6,    16.18,6,     1.06,6,    2.928,2,    1.566,2,    0.401,2,    6.440,2
   18HU93019_1, AR07W,    19,  1, 126250,    OC9,2,19930622,1103, 58.2182, -50.8963, 3561,    895.3,   2.8192,  34.8364,2,  34.8379,2,    240.0,1,     9.54,6,    16.22,6,     1.05,6,    2.981,2,    1.662,2,    0.524,2,    6.470,2
   18HU93019_1, AR07W,    19,  1, 126249,   OC26,2,19930622,1103, 58.2182, -50.8963, 3561,   1198.3,   2.7963,  34.8349,2,  34.8369,2,    240.8,1,     9.65,6,    16.28,6,     1.06,6,    2.907,2,    1.562,2,    0.419,2,    6.526,2
   18HU93019_1, AR07W,    19,  1, 126248,    OC2,2,19930622,1103, 58.2182, -50.8963, 3561,   1397.3,   2.8048,  34.8362,2,  34.8385,6,    240.8,1,     9.45,6,    16.17,6,     1.04,6,    3.058,2,    1.647,2,    0.519,2,    6.616,2
   18HU93019_1, AR07W,    19,  1, 126247,    BO1,2,19930622,1103, 58.2182, -50.8963, 3561,   1597.8,   2.8135,  34.8373,2,  34.8372,2,    241.2,1,     9.60,6,    15.87,6,     1.05,6,    2.789,6,    1.482,6,    0.652,6,    6.140,6
   18HU93019_1, AR07W,    19,  1, 126246,   BO15,2,19930622,1103, 58.2182, -50.8963, 3561,   1805.2,   2.8163,  34.8370,2,  34.8378,2,    239.5,1,     9.52,6,    15.86,6,     1.05,6,    3.093,2,    1.751,2,    0.503,2,    6.677,2
   18HU93019_1, AR07W,    19,  1, 126245,   BO16,2,19930622,1103, 58.2182, -50.8963, 3561,   2004.8,   2.8315,  34.8378,2,  34.8405,2,    240.6,1,     9.65,6,    16.00,6,     1.06,6,    3.073,2,    1.772,2,    0.561,2,    6.875,2
   18HU93019_1, AR07W,    19,  1, 126244,    OC8,2,19930622,1103, 58.2182, -50.8963, 3561,   2210.2,   2.8683,  34.8432,2,  34.8449,2,    238.1,1,     9.80,6,    16.07,6,     1.05,6,    3.297,2,    1.612,2,    0.842,2,    6.566,2
   18HU93019_1, AR07W,    19,  1, 126243,    OC5,2,19930622,1103, 58.2182, -50.8963, 3561,   2517.1,   3.1221,  34.9108,2,  34.9117,2,    221.9,1,    11.50,6,    16.33,6,     1.06,6,    1.305,2,    0.725,2,    0.124,2,    3.590,2
   18HU93019_1, AR07W,    19,  1, 126242,   BO10,2,19930622,1103, 58.2182, -50.8963, 3561,   2822.1,   2.8918,  34.9168,2,  34.9167,2,    220.9,1,    11.85,6,    15.99,6,     1.05,6,    1.308,2,    0.738,2,    0.155,2,    3.457,2
   18HU93019_1, AR07W,    19,  1, 126241,   BO11,3,19930622,1103, 58.2182, -50.8963, 3561,   3028.2,   2.6931,  34.9142,2,  34.8791,4,    222.9,1,    10.87,6,    15.88,6,     1.08,6,    3.058,2,    1.647,2,    0.519,2,    6.616,2
   18HU93019_1, AR07W,    19,  1, 126240,   OC11,2,19930622,1103, 58.2182, -50.8963, 3561,   3233.6,   2.4041,  34.9037,2,  34.9065,2,    225.4,1,    12.20,6,    15.23,6,     1.01,6,    1.444,2,    0.805,2,    0.142,2,    3.793,2
   18HU93019_1, AR07W,    19,  1, 126239,   OC19,2,19930622,1103, 58.2182, -50.8963, 3561,   3439.4,   1.9795,  34.8929,2,  34.8927,2,    229.7,1,    11.25,6,    14.57,6,     0.97,6,    1.955,2,    1.104,2,    0.300,2,    4.551,2
   18HU93019_1, AR07W,    19,  1, 126238,    OC3,2,19930622,1103, 58.2182, -50.8963, 3561,   3597.3,   1.7889,  34.8882,2,  34.8860,6,    235.0,1,    11.36,6,    14.50,6,     0.95,6,    2.199,2,    1.251,2,    0.351,2,    4.714,2
   18HU93019_1, AR07W,    20,  2, 126277,   BO17,2,19930622,1847, 58.6622, -50.4630, 3521,      5.6,   3.5666,  34.2014,2,  34.2031,2,    453.9,1,     2.32,6,     1.61,6,     0.27,6, -999.000,9, -999.000,9, -999.000,9, -999.000,9
   18HU93019_1, AR07W,    20,  2, 126276,    OC1,2,19930622,1847, 58.6622, -50.4630, 3521,     33.1,   2.3135,  34.2528,2,  34.2455,2,    435.0,1,     3.00,6,     6.43,6,     0.57,6, -999.000,9, -999.000,9, -999.000,9, -999.000,9
   18HU93019_1, AR07W,    20,  2, 126275,    OC7,2,19930622,1847, 58.6622, -50.4630, 3521,     57.8,   2.0188,  34.4828,2,  34.4792,2,    398.5,1,     7.81,6,    13.81,6,     0.95,6, -999.000,9, -999.000,9, -999.000,9, -999.000,9
   18HU93019_1, AR07W,    20,  2, 126274,    OC6,2,19930622,1847, 58.6622, -50.4630, 3521,    104.8,   3.6695,  34.7894,2,  34.7856,6,    364.8,1,     8.32,6,    15.13,6,     1.02,6, -999.000,9, -999.000,9, -999.000,9, -999.000,9
   18HU93019_1, AR07W,    20,  2, 126273,    BO5,2,19930622,1847, 58.6622, -50.4630, 3521,    205.3,   3.1320,  34.7990,2,  34.7997,2,    369.8,1,     8.72,6,    15.59,6,     1.03,6, -999.000,9, -999.000,9, -999.000,9, -999.000,9
   18HU93019_1, AR07W,    20,  2, 126272,    BO8,2,19930622,1847, 58.6622, -50.4630, 3521,    405.9,   3.0677,  34.8430,2,  34.8412,2,    366.0,1,     9.13,6,    16.10,6,     1.05,6, -999.000,9, -999.000,9, -999.000,9, -999.000,9
   18HU93019_1, AR07W,    20,  2, 126271,    OC4,2,19930622,1847, 58.6622, -50.4630, 3521,    607.5,   2.8868,  34.8376,2,  34.8413,2,    368.5,1,     9.37,6,    16.07,6,     1.07,6, -999.000,9, -999.000,9, -999.000,9, -999.000,9
   18HU93019_1, AR07W,    20,  2, 126270,    OC9,2,19930622,1847, 58.6622, -50.4630, 3521,    908.0,   2.8194,  34.8349,2,  34.8305,2,    368.0,1,     9.71,6,    16.16,6,     1.06,6, -999.000,9, -999.000,9, -999.000,9, -999.000,9
   18HU93019_1, AR07W,    20,  2, 126269,   OC26,3,19930622,1847, 58.6622, -50.4630, 3521,   1209.0,   2.7970,  34.8350,2,  34.7749,4,    368.2,1,     9.50,6,    16.05,6,     1.06,6, -999.000,9, -999.000,9, -999.000,9, -999.000,9
   18HU93019_1, AR07W,    20,  2, 126268,    OC2,3,19930622,1847, 58.6622, -50.4630, 3521,   1515.7,   2.8069,  34.8365,2,  34.3261,4,    365.8,1,     9.36,6,    15.97,6,     1.06,6, -999.000,9, -999.000,9, -999.000,9, -999.000,9
   18HU93019_1, AR07W,    20,  2, 126267,    BO1,2,19930622,1847, 58.6622, -50.4630, 3521,   1819.3,   2.8186,  34.8370,2,  34.8378,2,    367.7,1,     9.40,6,    16.10,6,     1.05,6, -999.000,9, -999.000,9, -999.000,9, -999.000,9
   18HU93019_1, AR07W,    20,  2, 126266,   BO15,2,19930622,1847, 58.6622, -50.4630, 3521,   2019.6,   2.8315,  34.8375,2,  34.8367,2,    368.4,1,     9.52,6,    16.07,6,     1.05,6, -999.000,9, -999.000,9, -999.000,9, -999.000,9
   18HU93019_1, AR07W,    20,  2, 126265,   BO16,2,19930622,1847, 58.6622, -50.4630, 3521,   2223.8,   2.8663,  34.8422,2,  34.8457,2,    365.7,1,     9.57,6,    15.83,6,     1.06,6, -999.000,9, -999.000,9, -999.000,9, -999.000,9
   18HU93019_1, AR07W,    20,  2, 126264,    OC8,2,19930622,1847, 58.6622, -50.4630, 3521,   2429.0,   3.0568,  34.8839,2,  34.8853,6,    349.9,1,    10.50,6,    16.04,6,     1.08,6, -999.000,9, -999.000,9, -999.000,9, -999.000,9
   18HU93019_1, AR07W,    20,  2, 126263,    OC5,2,19930622,1847, 58.6622, -50.4630, 3521,   2635.7,   3.0473,  34.9142,2,  34.9143,2,    340.3,1,    10.43,6,    16.01,6,     1.06,6, -999.000,9, -999.000,9, -999.000,9, -999.000,9
   18HU93019_1, AR07W,    20,  2, 126262,   BO10,2,19930622,1847, 58.6622, -50.4630, 3521,   2839.1,   2.8888,  34.9162,2,  34.9180,2,    339.1,1,    11.85,6,    15.94,6,     1.05,6, -999.000,9, -999.000,9, -999.000,9, -999.000,9
   18HU93019_1, AR07W,    20,  2, 126261,   BO11,3,19930622,1847, 58.6622, -50.4630, 3521,   3041.9,   2.7273,  34.9221,2,  34.8364,4,    338.3,1,    11.61,6,    16.02,6,     1.06,6, -999.000,9, -999.000,9, -999.000,9, -999.000,9
   18HU93019_1, AR07W,    20,  2, 126260,   OC11,2,19930622,1847, 58.6622, -50.4630, 3521,   3246.2,   2.4076,  34.9083,2,  34.9098,2,    345.2,1,    13.36,6,    15.55,6,     1.04,6, -999.000,9, -999.000,9, -999.000,9, -999.000,9
   18HU93019_1, AR07W,    20,  2, 126259,   OC19,2,19930622,1847, 58.6622, -50.4630, 3521,   3445.8,   1.9335,  34.8910,2,  34.8915,2,    355.8,1,    10.95,6,    14.66,6,     0.97,6, -999.000,9, -999.000,9, -999.000,9, -999.000,9
   18HU93019_1, AR07W,    20,  2, 126258,    OC3,2,19930622,1847, 58.6622, -50.4630, 3521,   3546.5,   1.7595,  34.8861,2,  34.8880,2,    360.8,1,    10.97,6,    14.69,6,     0.97,6, -999.000,9, -999.000,9, -999.000,9, -999.000,9
   18HU93019_1, AR07W,    21,  1, 126297,   BO17,2,19930622,2348, 59.0655, -49.9603, 3466,      3.3,   3.1531,  33.9565,2,  33.9592,2,    464.3,1,     2.06,6,     0.00,6,     0.17,6, -999.000,9, -999.000,9, -999.000,9, -999.000,9
   18HU93019_1, AR07W,    21,  1, 126296,    OC1,2,19930622,2348, 59.0655, -49.9603, 3466,     27.5,   3.0783,  33.9577,2,  33.9596,2,    460.5,1,     2.04,6,     0.00,6,     0.18,6, -999.000,9, -999.000,9, -999.000,9, -999.000,9
   18HU93019_1, AR07W,    21,  1, 126295,    OC7,2,19930622,2348, 59.0655, -49.9603, 3466,     48.8,   1.5949,  34.2643,2,  34.2273,2,    418.6,1,     4.91,6,     9.05,6,     0.72,6,    4.536,2,    2.401,2,    0.964,2,    9.434,2
   18HU93019_1, AR07W,    21,  1, 126294,    OC6,3,19930622,2348, 59.0655, -49.9603, 3466,    103.6,   3.6999,  34.7847,2,  33.9581,4,    359.0,1,     2.00,6,     0.00,6,     0.17,6,    4.512,2,    2.392,2,    1.022,3,    9.764,2
   18HU93019_1, AR07W,    21,  1, 126293,    BO5,2,19930622,2348, 59.0655, -49.9603, 3466,    194.0,   3.5025,  34.8439,2,  34.8454,2,    359.2,1,     9.04,6,    16.06,6,     1.04,6,    3.150,2,    1.736,2,    0.653,2,    6.170,2
   18HU93019_1, AR07W,    21,  1, 126292,    BO8,2,19930622,2348, 59.0655, -49.9603, 3466,    400.7,   3.1350,  34.8440,2,  34.8444,2,    363.0,1,     9.42,6,    16.32,6,     1.06,6,    2.977,2,    1.642,2,    0.552,2,    6.113,2
   18HU93019_1, AR07W,    21,  1, 126291,    OC4,2,19930622,2348, 59.0655, -49.9603, 3466,    696.4,   2.9543,  34.8424,2,  34.8449,2,    363.7,1,     9.53,6,    16.41,6,     1.06,6,    2.832,2,    1.559,2,    0.520,2,    5.899,2
   18HU93019_1, AR07W,    21,  1, 126290,    OC9,2,19930622,2348, 59.0655, -49.9603, 3466,   1003.7,   2.8707,  34.8367,2,  34.8370,2,    363.8,1,     9.55,6,    16.21,6,     1.04,6,    2.889,2,    1.620,2,    0.445,2,    6.044,2
   18HU93019_1, AR07W,    21,  1, 126289,   OC26,2,19930622,2348, 59.0655, -49.9603, 3466,   1200.7,   2.8381,  34.8370,2,  34.8351,2,    365.2,1,     9.54,6,    16.07,6,     1.04,6, -999.000,5, -999.000,5, -999.000,5, -999.000,5
   18HU93019_1, AR07W,    21,  1, 126288,    OC2,2,19930622,2348, 59.0655, -49.9603, 3466,   1393.5,   2.8240,  34.8391,2,  34.8357,6,    366.9,1,     9.36,6,    15.89,6,     1.04,6,    2.889,2,    1.555,2,    0.447,2,    6.021,2
   18HU93019_1, AR07W,    21,  1, 126287,    BO1,2,19930622,2348, 59.0655, -49.9603, 3466,   1615.0,   2.8385,  34.8380,2,  34.8406,2,    365.5,1,     9.51,6,    16.23,6,     1.04,6,    2.847,2,    1.544,2,    0.581,2,    6.009,2
   18HU93019_1, AR07W,    21,  1, 126286,   BO15,2,19930622,2348, 59.0655, -49.9603, 3466,   1792.1,   2.8290,  34.8367,2,  34.8342,2,    367.1,1,     9.34,6,    16.16,6,     1.03,6,    2.952,2,    1.720,2,    0.512,2,    6.126,2
   18HU93019_1, AR07W,    21,  1, 126285,   BO16,2,19930622,2348, 59.0655, -49.9603, 3466,   1976.8,   2.8375,  34.8377,2,  34.8405,2,    367.1,1,     9.44,6,    16.27,6,     1.04,6,    2.816,2,    1.558,2,    0.393,2,    5.892,2
   18HU93019_1, AR07W,    21,  1, 126284,    OC8,2,19930622,2348, 59.0655, -49.9603, 3466,   2220.5,   2.8555,  34.8389,2,  34.8405,2,    367.0,1,     9.52,6,    16.00,6,     1.09,6,    2.848,2,    1.566,2,    0.443,2,    5.972,2
   18HU93019_1, AR07W,    21,  1, 126283,    OC5,2,19930622,2348, 59.0655, -49.9603, 3466,   2410.1,   2.9501,  34.8572,2,  34.8563,2,    359.9,1,     9.90,6,    15.91,6,     1.04,6,    2.554,2,    1.399,2,    0.401,2,    5.401,2
   18HU93019_1, AR07W,    21,  1, 126282,   BO10,2,19930622,2348, 59.0655, -49.9603, 3466,   2606.3,   3.0856,  34.9108,2,  34.9106,2,    348.5,1,    10.05,6,    16.06,6,     1.05,6,    1.537,2,    0.796,2,    0.170,2,    3.319,2
   18HU93019_1, AR07W,    21,  1, 126281,   BO11,3,19930622,2348, 59.0655, -49.9603, 3466,   2812.3,   2.9132,  34.9154,2,  34.8626,4,    339.4,1,    10.05,6,    15.96,6,     1.04,6,    2.308,2,    1.244,2,    0.377,2,    4.842,2
   18HU93019_1, AR07W,    21,  1, 126280,   OC11,2,19930622,2348, 59.0655, -49.9603, 3466,   3022.8,   2.7108,  34.9180,2,  34.9183,2,    339.2,1,    12.63,6,    15.88,6,     1.05,6,    1.297,2,    0.710,2,    0.135,2,    2.782,2
   18HU93019_1, AR07W,    21,  1, 126279,   OC19,2,19930622,2348, 59.0655, -49.9603, 3466,   3249.2,   2.3191,  34.9040,2,  34.9048,2,    350.1,1,    12.15,6,    15.35,6,     1.03,6,    1.628,2,    0.896,2,    0.214,2,    3.442,2
   18HU93019_1, AR07W,    21,  1, 126278,    OC3,2,19930622,2348, 59.0655, -49.9603, 3466,   3513.8,   1.7277,  34.8835,2,  34.8842,6,    362.0,1,    10.67,6,    14.10,6,     0.96,6,    2.145,2,    1.132,2,    0.313,2,    4.377,2
   18HU93019_1, AR07W,    22,  1, 126317,   BO17,2,19930623,0444, 59.4833, -49.4832, 3394,      3.8,   2.7695,  33.7981,2,  33.7990,2,    475.4,1,     0.92,6,     0.00,6,     0.17,6,    4.973,2,    2.765,2,    1.341,3,   10.730,3
   18HU93019_1, AR07W,    22,  1, 126316,    OC1,2,19930623,0444, 59.4833, -49.4832, 3394,     30.2,   3.4371,  34.3187,2,  34.2752,2,    434.7,1,     4.98,6,     4.68,6,     0.53,6,    4.524,2,    2.401,2,    0.952,2,   10.274,3
   18HU93019_1, AR07W,    22,  1, 126315,    OC7,3,19930623,0444, 59.4833, -49.4832, 3394,     54.8,   1.7812,  34.4056,2,  34.3758,4,    402.1,1,     6.49,6,    12.49,6,     0.88,6,    4.546,2,    2.632,2,    0.873,2,    9.290,2
   18HU93019_1, AR07W,    22,  1, 126314,    OC6,3,19930623,0444, 59.4833, -49.4832, 3394,    105.8,   3.4819,  34.7933,2,  34.3833,4,    363.6,1,     6.43,6,    12.62,6,     0.88,6,    4.587,2,    2.573,2,    0.864,2,    9.473,2
   18HU93019_1, AR07W,    22,  1, 126313,    BO5,2,19930623,0444, 59.4833, -49.4832, 3394,    207.1,   3.2831,  34.8404,2,  34.8338,2,    363.2,1,     8.87,6,    15.89,6,     1.03,6,    3.470,2,    2.006,2,    0.604,2,    7.173,2
   18HU93019_1, AR07W,    22,  1, 126312,    BO8,2,19930623,0444, 59.4833, -49.4832, 3394,    406.9,   3.1325,  34.8582,2,  34.8503,2,    360.0,1,     9.30,6,    15.92,6,     1.04,6,    2.987,2,    1.854,2,    0.880,2,    6.474,2
   18HU93019_1, AR07W,    22,  1, 126311,    OC4,2,19930623,0444, 59.4833, -49.4832, 3394,    601.3,   2.8905,  34.8373,2,  34.8389,2,    366.7,1,     9.40,6,    16.29,6,     1.09,6,    3.082,2,    1.906,2,    1.259,3,    6.670,2
   18HU93019_1, AR07W,    22,  1, 126310,    OC9,2,19930623,0444, 59.4833, -49.4832, 3394,    882.0,   2.8273,  34.8351,2,-999.0000,5,    365.6,1,     9.40,6,    16.25,6,     1.13,6,    3.451,2,    1.605,2,    0.572,2,    6.604,2
   18HU93019_1, AR07W,    22,  1, 126309,   OC26,2,19930623,0444, 59.4833, -49.4832, 3394,   1188.0,   2.8076,  34.8364,2,  34.8362,2,    367.6,1,     9.36,6,    16.22,6,     1.04,6,    3.072,2,    1.826,2,    0.682,2,    6.737,2
   18HU93019_1, AR07W,    22,  1, 126308,    OC2,2,19930623,0444, 59.4833, -49.4832, 3394,   1392.0,   2.8087,  34.8365,2,  34.8376,2,    366.8,1,     9.50,6,    16.13,6,     1.06,6,    3.044,2,    1.904,2,    0.540,2,    6.628,2
   18HU93019_1, AR07W,    22,  1, 126307,    BO1,2,19930623,0444, 59.4833, -49.4832, 3394,   1569.7,   2.8140,  34.8366,2,  34.8374,2,    368.3,1,     9.60,6,    15.93,6,     1.04,6,    3.193,2,    1.842,2,    0.486,2,    6.852,2
   18HU93019_1, AR07W,    22,  1, 126306,   BO15,3,19930623,0444, 59.4833, -49.4832, 3394,   1771.5,   2.8342,  34.8393,2,  34.8317,4,    365.9,1,     9.60,6,    15.90,6,     1.03,6,    3.053,2,    1.717,2,    0.645,2,    6.734,2
   18HU93019_1, AR07W,    22,  1, 126305,   BO16,2,19930623,0444, 59.4833, -49.4832, 3394,   1979.6,   2.8439,  34.8404,2,  34.8408,2,    366.2,1,     9.48,6,    16.04,6,     1.03,6,    3.053,2,    1.693,2,    0.501,2,    6.540,2
   18HU93019_1, AR07W,    22,  1, 126304,    OC8,2,19930623,0444, 59.4833, -49.4832, 3394,   2191.4,   2.8755,  34.8448,2,  34.8449,2,    366.1,1,     9.62,6,    16.06,6,     1.03,6,    2.991,2,    1.770,2,    0.498,2,    6.577,2
   18HU93019_1, AR07W,    22,  1, 126303,    OC5,2,19930623,0444, 59.4833, -49.4832, 3394,   2406.2,   3.1125,  34.9039,2,  34.9008,2,    342.1,1,    11.01,6,    16.22,6,     1.05,6,    3.053,2,    1.717,2,    0.645,2,    6.734,2
   18HU93019_1, AR07W,    22,  1, 126302,   BO10,2,19930623,0444, 59.4833, -49.4832, 3394,   2615.3,   2.9945,  34.9158,2,  34.9154,2,    338.8,1,    11.67,6,    15.91,6,     1.05,6,    1.336,2,    0.976,2,    0.103,2,    3.628,2
   18HU93019_1, AR07W,    22,  1, 126301,   BO11,3,19930623,0444, 59.4833, -49.4832, 3394,   2819.1,   2.8092,  34.9214,2,-999.0000,5,    338.2,1,    10.34,6,    15.85,6,     1.05,6,    1.644,2,    0.946,2,    0.232,2,    4.181,2
   18HU93019_1, AR07W,    22,  1, 126300,   OC11,2,19930623,0444, 59.4833, -49.4832, 3394,   3018.2,   2.5608,  34.9109,2,  34.9113,2,    341.8,1,    12.33,6,    15.42,6,     1.03,6,    1.382,2,    0.846,2, -999.000,5,    3.534,2
   18HU93019_1, AR07W,    22,  1, 126299,   OC19,2,19930623,0444, 59.4833, -49.4832, 3394,   3219.3,   2.1842,  34.8966,2,  34.8976,2,    349.3,1,    11.71,6,    15.01,6,     0.98,6,    1.683,2,    1.009,2,    0.227,2,    4.184,2
   18HU93019_1, AR07W,    22,  1, 126298,    OC3,3,19930623,0444, 59.4833, -49.4832, 3394,   3417.6,   1.7436,  34.8846,2,  34.8675,4,    360.5,1,    10.85,6,    14.29,6,     0.95,6,    2.167,2,    1.292,2,    0.308,2,    4.853,2