BOTTLE,20020603WHPSIOKJU
#code : jjward hyd_to_exchange.pl 
#original files copied from HTML directory: 20020603
#original HYD file: pr16_bbhy.txt   Mon Jun  3 12:46:26 2002
#original SUM file: pr16_bbsu.txt   Mon Jun  3 12:52:48 2002
EXPOCODE,SECT_ID,STNNBR,CASTNO,SAMPNO,BTLNBR,BTLNBR_FLAG_W,DATE,TIME,LATITUDE,LONGITUDE,DEPTH,CTDPRS,CTDTMP,CTDSAL,CTDSAL_FLAG_W,SALNTY,SALNTY_FLAG_W,CTDOXY,CTDOXY_FLAG_W,OXYGEN,OXYGEN_FLAG_W,THETA
,,,,,,,,,,,,DBAR,ITS-90,PSS-78,,PSS-78,,UMOL/KG,,UMOL/KG,,DEG C
   33RBGP700_1,  PR16,     1,  1,     15,     15,2,20001022,0806,  8.0533,-110.1700, 4280,      1.7,  27.6935,  32.0685,2,  32.2167,2,   -999.0,9,   -999.0,9, 27.6931
   33RBGP700_1,  PR16,     1,  1,     14,     14,2,20001022,0806,  8.0533,-110.1700, 4280,     11.5,  27.8428,  32.9000,2,  32.9311,2,   -999.0,9,   -999.0,9, 27.8401
   33RBGP700_1,  PR16,     1,  1,     13,     13,2,20001022,0806,  8.0533,-110.1700, 4280,     23.7,  27.5880,  33.0809,2,  33.1031,2,   -999.0,9,   -999.0,9, 27.5825
   33RBGP700_1,  PR16,     1,  1,     12,     12,2,20001022,0806,  8.0533,-110.1700, 4280,     39.5,  26.7009,  33.7078,2,  33.6991,2,   -999.0,9,   -999.0,9, 26.6919
   33RBGP700_1,  PR16,     1,  1,     10,     10,2,20001022,0806,  8.0533,-110.1700, 4280,     60.0,  19.6060,  34.5634,2,  34.6106,2,   -999.0,9,   -999.0,9, 19.5951
   33RBGP700_1,  PR16,     1,  1,      8,      8,2,20001022,0806,  8.0533,-110.1700, 4280,     99.9,  13.3267,  34.8044,2,  34.8113,2,   -999.0,9,   -999.0,9, 13.3128
   33RBGP700_1,  PR16,     1,  1,      6,      6,2,20001022,0806,  8.0533,-110.1700, 4280,    148.7,  11.9785,  34.7809,2,  34.7812,2,   -999.0,9,   -999.0,9, 11.9592
   33RBGP700_1,  PR16,     1,  1,      5,      5,2,20001022,0806,  8.0533,-110.1700, 4280,    200.8,  11.2749,  34.7542,2,  34.7517,2,   -999.0,9,   -999.0,9, 11.2498
   33RBGP700_1,  PR16,     1,  1,      4,      4,2,20001022,0806,  8.0533,-110.1700, 4280,   1000.7,   4.6134,  34.5669,2,  34.5673,2,   -999.0,9,   -999.0,9,  4.5329
   33RBGP700_1,  PR16,     1,  1,      3,      3,2,20001022,0806,  8.0533,-110.1700, 4280,   1999.8,   2.1771,  34.6516,2,  34.6522,2,   -999.0,9,   -999.0,9,  2.0379
   33RBGP700_1,  PR16,     1,  1,      2,      2,2,20001022,0806,  8.0533,-110.1700, 4280,   2999.1,   1.6994,  34.6806,2,  34.6817,2,   -999.0,9,   -999.0,9,  1.4782
   33RBGP700_1,  PR16,     2,  1,     15,     15,2,20001023,0416,  7.0000,-111.6483, 4285,      3.1,  27.5515,  32.7466,2,  32.7471,2,    200.6,2,    205.9,2, 27.5508
   33RBGP700_1,  PR16,     2,  1,     14,     14,2,20001023,0416,  7.0000,-111.6483, 4285,     11.6,  27.5736,  32.7461,2,  32.7465,2,   -999.0,9,   -999.0,9, 27.5709
   33RBGP700_1,  PR16,     2,  1,     13,     13,2,20001023,0416,  7.0000,-111.6483, 4285,     25.7,  27.5859,  32.7608,2,  32.7695,2,   -999.0,9,   -999.0,9, 27.5799
   33RBGP700_1,  PR16,     2,  1,     12,     12,2,20001023,0416,  7.0000,-111.6483, 4285,     39.0,  27.4287,  33.2658,2,  33.2636,2,   -999.0,9,   -999.0,9, 27.4197
   33RBGP700_1,  PR16,     2,  1,     10,     10,2,20001023,0416,  7.0000,-111.6483, 4285,     61.2,  21.2891,  34.5961,2,  34.6136,2,   -999.0,9,   -999.0,9, 21.2773
   33RBGP700_1,  PR16,     2,  1,      9,      9,2,20001023,0416,  7.0000,-111.6483, 4285,     80.5,  15.0176,  34.7579,2,-999.0000,9,     10.4,2,      9.8,2, 15.0055
   33RBGP700_1,  PR16,     2,  1,      8,      8,2,20001023,0416,  7.0000,-111.6483, 4285,    100.9,  13.4653,  34.7947,2,  34.8203,2,   -999.0,9,   -999.0,9, 13.4511
   33RBGP700_1,  PR16,     2,  1,      6,      6,2,20001023,0416,  7.0000,-111.6483, 4285,    149.4,  11.7917,  34.7663,2,  34.7661,2,   -999.0,9,   -999.0,9, 11.7725
   33RBGP700_1,  PR16,     2,  1,      5,      5,2,20001023,0416,  7.0000,-111.6483, 4285,    201.3,  10.9906,  34.7341,2,  34.7379,2,   -999.0,9,   -999.0,9, 10.9658
   33RBGP700_1,  PR16,     2,  1,      4,      4,2,20001023,0416,  7.0000,-111.6483, 4285,    400.6,   9.0674,  34.6580,2,  34.6564,2,   -999.0,9,   -999.0,9,  9.0234
   33RBGP700_1,  PR16,     2,  1,      3,      3,2,20001023,0416,  7.0000,-111.6483, 4285,    599.6,   6.7729,  34.5815,2,  34.5807,2,   -999.0,9,   -999.0,9,  6.7165
   33RBGP700_1,  PR16,     2,  1,      2,      2,2,20001023,0416,  7.0000,-111.6483, 4285,    800.6,   5.4484,  34.5608,2,  34.5609,2,   -999.0,9,   -999.0,9,  5.3800
   33RBGP700_1,  PR16,     2,  1,      1,      1,2,20001023,0416,  7.0000,-111.6483, 4285,   1000.3,   4.5287,  34.5688,2,  34.5691,2,   -999.0,9,   -999.0,9,  4.4489
   33RBGP700_1,  PR16,     3,  1,     15,     15,2,20001023,1327,  6.0000,-112.9833, 4007,      3.1,  27.0971,  33.3551,2,  33.3546,2,   -999.0,9,   -999.0,9, 27.0964
   33RBGP700_1,  PR16,     3,  1,     14,     14,2,20001023,1327,  6.0000,-112.9833, 4007,     10.7,  27.1077,  33.3546,2,  33.3558,2,   -999.0,9,   -999.0,9, 27.1052
   33RBGP700_1,  PR16,     3,  1,     13,     13,2,20001023,1327,  6.0000,-112.9833, 4007,     25.2,  27.1776,  33.4220,2,  33.4664,2,   -999.0,9,   -999.0,9, 27.1718
   33RBGP700_1,  PR16,     3,  1,      3,      3,2,20001023,1327,  6.0000,-112.9833, 4007,    601.0,   7.0067,  34.5864,2,  34.5848,2,   -999.0,9,   -999.0,9,  6.9491
   33RBGP700_1,  PR16,     3,  1,      2,      2,2,20001023,1327,  6.0000,-112.9833, 4007,    800.1,   5.3868,  34.5614,2,  34.5605,2,   -999.0,9,   -999.0,9,  5.3189
   33RBGP700_1,  PR16,     3,  1,      1,      1,2,20001023,1327,  6.0000,-112.9833, 4007,   1001.3,   4.5892,  34.5692,2,  34.5693,2,   -999.0,9,   -999.0,9,  4.5088
   33RBGP700_1,  PR16,     4,  1,     15,     15,2,20001023,2325,  5.1767,-113.9050, 3914,      3.0,  26.9422,  33.9073,2,  33.9074,2,    201.1,2,    203.2,2, 26.9415
   33RBGP700_1,  PR16,     4,  1,     14,     14,2,20001023,2325,  5.1767,-113.9050, 3914,     10.3,  26.9501,  33.9063,2,  33.9066,2,   -999.0,9,   -999.0,9, 26.9478
   33RBGP700_1,  PR16,     4,  1,     13,     13,2,20001023,2325,  5.1767,-113.9050, 3914,     25.0,  26.9569,  33.9065,2,  33.9074,2,   -999.0,9,   -999.0,9, 26.9512
   33RBGP700_1,  PR16,     4,  1,     12,     12,2,20001023,2325,  5.1767,-113.9050, 3914,     40.8,  27.0597,  34.3026,2,  34.1916,2,   -999.0,9,   -999.0,9, 27.0504
   33RBGP700_1,  PR16,     4,  1,     11,     11,2,20001023,2325,  5.1767,-113.9050, 3914,     50.8,  26.8165,  34.4928,2,-999.0000,9,    202.0,2,    205.9,2, 26.8049
   33RBGP700_1,  PR16,     4,  1,     10,     10,2,20001023,2325,  5.1767,-113.9050, 3914,     58.3,  26.6127,  34.5731,2,  34.5799,2,   -999.0,9,   -999.0,9, 26.5995
   33RBGP700_1,  PR16,     4,  1,      9,      9,2,20001023,2325,  5.1767,-113.9050, 3914,     80.9,  25.6211,  34.7413,2,-999.0000,9,    197.9,2,    199.8,2, 25.6033
   33RBGP700_1,  PR16,     4,  1,      8,      8,2,20001023,2325,  5.1767,-113.9050, 3914,    100.0,  20.4825,  34.7197,2,  34.7277,2,   -999.0,9,   -999.0,9, 20.4637
   33RBGP700_1,  PR16,     4,  1,      7,      7,2,20001023,2325,  5.1767,-113.9050, 3914,    124.6,  15.4523,  34.7239,2,-999.0000,9,      7.4,2,     12.6,2, 15.4331
   33RBGP700_1,  PR16,     4,  1,      6,      6,2,20001023,2325,  5.1767,-113.9050, 3914,    150.9,  12.6784,  34.7764,2,  34.7372,2,   -999.0,9,   -999.0,9, 12.6580
   33RBGP700_1,  PR16,     4,  1,      5,      5,2,20001023,2325,  5.1767,-113.9050, 3914,    200.1,  11.2076,  34.7458,2,  34.7456,2,   -999.0,9,   -999.0,9, 11.1827
   33RBGP700_1,  PR16,     4,  1,      3,      3,2,20001023,2325,  5.1767,-113.9050, 3914,    599.7,   7.0211,  34.5878,2,  34.5868,2,     17.6,2,     19.8,2,  6.9636
   33RBGP700_1,  PR16,     4,  1,      2,      2,2,20001023,2325,  5.1767,-113.9050, 3914,    800.8,   5.3737,  34.5605,2,  34.5607,2,   -999.0,9,   -999.0,9,  5.3058
   33RBGP700_1,  PR16,     4,  1,      1,      1,2,20001023,2325,  5.1767,-113.9050, 3914,   1001.1,   4.6146,  34.5668,2,  34.5691,2,   -999.0,9,   -999.0,9,  4.5340
   33RBGP700_1,  PR16,     5,  1,     15,     15,2,20001024,0916,  4.0000,-112.4567, 3922,      1.5,  26.3764,  34.4094,2,  34.4090,2,   -999.0,9,   -999.0,9, 26.3760
   33RBGP700_1,  PR16,     5,  1,     14,     14,2,20001024,0916,  4.0000,-112.4567, 3922,     10.6,  26.3853,  34.4088,2,  34.4087,2,   -999.0,9,   -999.0,9, 26.3829
   33RBGP700_1,  PR16,     5,  1,     13,     13,2,20001024,0916,  4.0000,-112.4567, 3922,     25.4,  26.3875,  34.4100,2,  34.4110,2,   -999.0,9,   -999.0,9, 26.3818
   33RBGP700_1,  PR16,     5,  1,      3,      3,2,20001024,0916,  4.0000,-112.4567, 3922,    598.8,   6.8852,  34.5909,2,  34.5895,2,   -999.0,9,   -999.0,9,  6.8284
   33RBGP700_1,  PR16,     5,  1,      2,      2,2,20001024,0916,  4.0000,-112.4567, 3922,    798.9,   5.5279,  34.5637,2,  34.5640,2,   -999.0,9,   -999.0,9,  5.4592
   33RBGP700_1,  PR16,     5,  1,      1,      1,2,20001024,0916,  4.0000,-112.4567, 3922,   1002.1,   4.4955,  34.5701,2,  34.5711,2,   -999.0,9,   -999.0,9,  4.4158
   33RBGP700_1,  PR16,     6,  1,     14,     14,2,20001024,1801,  3.0000,-111.2267, 3790,      3.9,  25.2452,  34.2011,2,  34.2014,2,   -999.0,9,   -999.0,9, 25.2444
   33RBGP700_1,  PR16,     6,  1,     13,     13,2,20001024,1801,  3.0000,-111.2267, 3790,      9.7,  25.2288,  34.1997,2,  34.2014,2,   -999.0,9,   -999.0,9, 25.2267
   33RBGP700_1,  PR16,     6,  1,     12,     12,2,20001024,1801,  3.0000,-111.2267, 3790,     25.2,  25.2163,  34.1983,2,  34.2006,2,   -999.0,9,   -999.0,9, 25.2109
   33RBGP700_1,  PR16,     6,  1,      4,      4,2,20001024,1801,  3.0000,-111.2267, 3790,    398.8,   9.6503,  34.6915,2,-999.0000,9,     21.2,2,     18.4,2,  9.6047
   33RBGP700_1,  PR16,     6,  1,      3,      3,2,20001024,1801,  3.0000,-111.2267, 3790,    598.9,   6.6098,  34.5719,2,  34.5717,2,     54.5,2,     55.1,2,  6.5542
   33RBGP700_1,  PR16,     6,  1,      2,      2,2,20001024,1801,  3.0000,-111.2267, 3790,    799.2,   5.4723,  34.5622,2,  34.5626,2,   -999.0,9,   -999.0,9,  5.4039
   33RBGP700_1,  PR16,     6,  1,      1,      1,2,20001024,1801,  3.0000,-111.2267, 3790,   1002.9,   4.4155,  34.5687,2,  34.5701,2,     67.5,2,     68.4,2,  4.3363
   33RBGP700_1,  PR16,     7,  1,     15,     15,2,20001024,2311,  2.4967,-110.6200, 3726,      1.4,  25.2604,  34.2075,2,  34.2126,2,   -999.0,9,   -999.0,9, 25.2601
   33RBGP700_1,  PR16,     7,  1,     14,     14,2,20001024,2311,  2.4967,-110.6200, 3726,     10.5,  25.2662,  34.2071,2,  34.2071,2,   -999.0,9,   -999.0,9, 25.2640
   33RBGP700_1,  PR16,     7,  1,     13,     13,2,20001024,2311,  2.4967,-110.6200, 3726,     26.2,  25.2551,  34.2051,2,  34.2061,2,   -999.0,9,   -999.0,9, 25.2494
   33RBGP700_1,  PR16,     7,  1,     11,     11,2,20001024,2311,  2.4967,-110.6200, 3726,     50.7,  25.2311,  34.2032,2,-999.0000,9,    206.6,2,    214.0,2, 25.2201
   33RBGP700_1,  PR16,     7,  1,     10,     10,2,20001024,2311,  2.4967,-110.6200, 3726,     60.2,  24.5482,  34.3424,2,-999.0000,9,    189.8,2,    152.6,2, 24.5354
   33RBGP700_1,  PR16,     7,  1,      9,      9,2,20001024,2311,  2.4967,-110.6200, 3726,     80.1,  18.3733,  34.8781,2,-999.0000,9,    128.6,2,    109.2,2, 18.3594
   33RBGP700_1,  PR16,     7,  1,      8,      8,2,20001024,2311,  2.4967,-110.6200, 3726,    100.4,  15.1825,  34.9302,2,-999.0000,9,     77.7,2,     66.2,2, 15.1672
   33RBGP700_1,  PR16,     7,  1,      3,      3,2,20001024,2311,  2.4967,-110.6200, 3726,    600.7,   7.0382,  34.5797,2,  34.5803,2,   -999.0,9,   -999.0,9,  6.9805
   33RBGP700_1,  PR16,     7,  1,      2,      2,2,20001024,2311,  2.4967,-110.6200, 3726,    801.5,   5.4824,  34.5613,2,  34.5626,2,   -999.0,9,   -999.0,9,  5.4137
   33RBGP700_1,  PR16,     7,  1,      1,      1,2,20001024,2311,  2.4967,-110.6200, 3726,    998.7,   4.3656,  34.5675,2,  34.5691,2,   -999.0,9,   -999.0,9,  4.2871
   33RBGP700_1,  PR16,     8,  1,     15,     15,2,20001025,1049,  2.0150,-110.0367, 3718,      2.0,  25.2193,  34.2242,2,  34.2246,2,   -999.0,9,   -999.0,9, 25.2189
   33RBGP700_1,  PR16,     8,  1,     14,     14,2,20001025,1049,  2.0150,-110.0367, 3718,     11.7,  25.2288,  34.2234,2,  34.2232,2,   -999.0,9,   -999.0,9, 25.2263
   33RBGP700_1,  PR16,     8,  1,     13,     13,2,20001025,1049,  2.0150,-110.0367, 3718,     27.1,  25.2348,  34.2223,2,  34.2238,2,   -999.0,9,   -999.0,9, 25.2289
   33RBGP700_1,  PR16,     8,  1,     12,     12,2,20001025,1049,  2.0150,-110.0367, 3718,     41.3,  25.2339,  34.2218,2,  34.2267,2,   -999.0,9,   -999.0,9, 25.2250
   33RBGP700_1,  PR16,     8,  1,     11,     11,2,20001025,1049,  2.0150,-110.0367, 3718,     50.2,  25.2250,  34.2208,2,-999.0000,9,    207.1,2,    202.9,2, 25.2141
   33RBGP700_1,  PR16,     8,  1,     10,     10,2,20001025,1049,  2.0150,-110.0367, 3718,     59.5,  24.0031,  34.3583,2,  34.3768,2,    182.5,2,    185.3,2, 23.9907
   33RBGP700_1,  PR16,     8,  1,      9,      9,2,20001025,1049,  2.0150,-110.0367, 3718,     81.6,  17.0413,  34.9125,2,-999.0000,9,    114.9,2,    106.2,2, 17.0279
   33RBGP700_1,  PR16,     8,  1,      8,      8,2,20001025,1049,  2.0150,-110.0367, 3718,    101.7,  14.0058,  34.9575,2,  34.9577,2,     67.5,2,     64.8,2, 13.9912
   33RBGP700_1,  PR16,     8,  1,      6,      6,2,20001025,1049,  2.0150,-110.0367, 3718,    150.0,  13.3636,  34.9404,2,  34.9394,2,   -999.0,9,   -999.0,9, 13.3426
   33RBGP700_1,  PR16,     8,  1,      5,      5,2,20001025,1049,  2.0150,-110.0367, 3718,    200.1,  12.8050,  34.9069,2,  34.9034,2,   -999.0,9,   -999.0,9, 12.7778
   33RBGP700_1,  PR16,     8,  1,      3,      3,2,20001025,1049,  2.0150,-110.0367, 3718,   1001.5,   4.3955,  34.5658,2,  34.5696,2,   -999.0,9,   -999.0,9,  4.3166
   33RBGP700_1,  PR16,     8,  1,      2,      2,2,20001025,1049,  2.0150,-110.0367, 3718,   2001.0,   2.3142,  34.6458,2,  34.6459,2,   -999.0,9,   -999.0,9,  2.1729
   33RBGP700_1,  PR16,     8,  1,      1,      1,2,20001025,1049,  2.0150,-110.0367, 3718,   3000.4,   1.7094,  34.6784,2,  34.6784,2,   -999.0,9,   -999.0,9,  1.4879
   33RBGP700_1,  PR16,     9,  1,     15,     15,2,20001025,1505,  1.5000,-110.0000, 3778,      3.3,  24.8626,  34.0042,2,  34.0030,2,    205.8,2,    210.2,2, 24.8619
   33RBGP700_1,  PR16,     9,  1,     14,     14,2,20001025,1505,  1.5000,-110.0000, 3778,     12.3,  24.8550,  34.0055,2,  34.0026,2,   -999.0,9,   -999.0,9, 24.8524
   33RBGP700_1,  PR16,     9,  1,     13,     13,2,20001025,1505,  1.5000,-110.0000, 3778,     19.5,  24.8237,  34.0147,2,  34.0297,2,   -999.0,9,   -999.0,9, 24.8196
   33RBGP700_1,  PR16,     9,  1,      3,      3,2,20001025,1505,  1.5000,-110.0000, 3778,    600.7,   6.9534,  34.5907,2,  34.5892,2,   -999.0,9,   -999.0,9,  6.8961
   33RBGP700_1,  PR16,     9,  1,      1,      1,2,20001025,1505,  1.5000,-110.0000, 3778,   1000.9,   4.3680,  34.5653,2,  34.5673,2,   -999.0,9,   -999.0,9,  4.2893
   33RBGP700_1,  PR16,    10,  1,     15,     15,2,20001025,1840,  1.0017,-110.0000, 3811,      4.3,  23.7849,  34.2432,2,  34.2436,2,   -999.0,9,   -999.0,9, 23.7840
   33RBGP700_1,  PR16,    10,  1,     14,     14,2,20001025,1840,  1.0017,-110.0000, 3811,      9.7,  23.6988,  34.2428,2,  34.2413,2,   -999.0,9,   -999.0,9, 23.6968
   33RBGP700_1,  PR16,    10,  1,     13,     13,2,20001025,1840,  1.0017,-110.0000, 3811,     24.0,  23.1595,  34.3747,2,  34.3876,2,   -999.0,9,   -999.0,9, 23.1546
   33RBGP700_1,  PR16,    10,  1,      3,      3,2,20001025,1840,  1.0017,-110.0000, 3811,    599.9,   6.8626,  34.5811,2,  34.5799,2,   -999.0,9,   -999.0,9,  6.8057
   33RBGP700_1,  PR16,    10,  1,      2,      2,2,20001025,1840,  1.0017,-110.0000, 3811,    798.4,   5.3708,  34.5543,2,  34.5536,2,   -999.0,9,   -999.0,9,  5.3031
   33RBGP700_1,  PR16,    10,  1,      1,      1,2,20001025,1840,  1.0017,-110.0000, 3811,   1008.1,   4.4056,  34.5654,2,  34.5685,2,   -999.0,9,   -999.0,9,  4.3261
   33RBGP700_1,  PR16,    11,  1,     15,     15,2,20001025,2210,  0.4933,-110.0333, 3807,      1.9,  22.5961,  34.6271,2,  34.6263,2,   -999.0,9,   -999.0,9, 22.5957
   33RBGP700_1,  PR16,    11,  1,     14,     14,2,20001025,2210,  0.4933,-110.0333, 3807,      9.3,  22.5943,  34.6257,2,  34.6259,2,   -999.0,9,   -999.0,9, 22.5924
   33RBGP700_1,  PR16,    11,  1,     13,     13,2,20001025,2210,  0.4933,-110.0333, 3807,     26.4,  21.9542,  34.7194,2,  34.7132,2,   -999.0,9,   -999.0,9, 21.9490
   33RBGP700_1,  PR16,    11,  1,      3,      3,2,20001025,2210,  0.4933,-110.0333, 3807,    569.0,   7.2087,  34.5914,2,  34.5915,2,   -999.0,9,   -999.0,9,  7.1534
   33RBGP700_1,  PR16,    11,  1,      2,      2,2,20001025,2210,  0.4933,-110.0333, 3807,    802.2,   5.3535,  34.5526,2,  34.5534,2,   -999.0,9,   -999.0,9,  5.2856
   33RBGP700_1,  PR16,    11,  1,      1,      1,2,20001025,2210,  0.4933,-110.0333, 3807,   1001.2,   4.5193,  34.5653,2,  34.5658,2,   -999.0,9,   -999.0,9,  4.4395
   33RBGP700_1,  PR16,    12,  1,     15,     15,2,20001026,0714,  0.1333,-110.0583, 3815,      2.0,  22.1191,  34.7149,2,  34.7134,2,   -999.0,9,   -999.0,9, 22.1187
   33RBGP700_1,  PR16,    12,  1,     14,     14,2,20001026,0714,  0.1333,-110.0583, 3815,     10.5,  22.1135,  34.7158,2,  34.7165,2,   -999.0,9,   -999.0,9, 22.1114
   33RBGP700_1,  PR16,    12,  1,     13,     13,2,20001026,0714,  0.1333,-110.0583, 3815,     24.2,  21.8264,  34.7550,2,  34.7554,2,   -999.0,9,   -999.0,9, 21.8216
   33RBGP700_1,  PR16,    12,  1,     12,     12,2,20001026,0714,  0.1333,-110.0583, 3815,     39.5,  21.2465,  34.8835,2,  34.8904,2,   -999.0,9,   -999.0,9, 21.2389
   33RBGP700_1,  PR16,    12,  1,     10,     10,2,20001026,0714,  0.1333,-110.0583, 3815,     59.9,  20.6678,  35.0435,2,  35.0473,2,   -999.0,9,   -999.0,9, 20.6565
   33RBGP700_1,  PR16,    12,  1,      8,      8,2,20001026,0714,  0.1333,-110.0583, 3815,    100.8,  13.9137,  34.8598,2,  34.8607,2,   -999.0,9,   -999.0,9, 13.8992
   33RBGP700_1,  PR16,    12,  1,      6,      6,2,20001026,0714,  0.1333,-110.0583, 3815,    148.7,  12.8643,  34.9146,2,  34.9122,2,   -999.0,9,   -999.0,9, 12.8441
   33RBGP700_1,  PR16,    12,  1,      5,      5,2,20001026,0714,  0.1333,-110.0583, 3815,    198.7,  12.5611,  34.8975,2,  34.8971,2,   -999.0,9,   -999.0,9, 12.5344
   33RBGP700_1,  PR16,    12,  1,      4,      4,2,20001026,0714,  0.1333,-110.0583, 3815,    999.9,   4.3947,  34.5665,2,  34.5679,2,   -999.0,9,   -999.0,9,  4.3159
   33RBGP700_1,  PR16,    12,  1,      3,      3,2,20001026,0714,  0.1333,-110.0583, 3815,   1999.1,   2.1992,  34.6508,2,  34.6507,2,   -999.0,9,   -999.0,9,  2.0597
   33RBGP700_1,  PR16,    12,  1,      2,      2,2,20001026,0714,  0.1333,-110.0583, 3815,   2997.4,   1.6907,  34.6798,2,  34.6790,2,   -999.0,9,   -999.0,9,  1.4699
   33RBGP700_1,  PR16,    12,  1,      1,      1,2,20001026,0714,  0.1333,-110.0583, 3815,   3250.4,   1.6124,  34.6843,2,  34.6849,2,   -999.0,9,   -999.0,9,  1.3686