BOTTLE,20020603WHPSIOKJU
EXPOCODE,SECT_ID,STNNBR,CASTNO,SAMPNO,BTLNBR,BTLNBR_FLAG_W,DATE,TIME,LATITUDE,LONGITUDE,DEPTH,CTDPRS,CTDTMP,CTDSAL,CTDSAL_FLAG_W,SALNTY,SALNTY_FLAG_W,CTDOXY,CTDOXY_FLAG_W,OXYGEN,OXYGEN_FLAG_W,THETA
,,,,,,,,,,,,DBAR,ITS-90,PSS-78,,PSS-78,,UMOL/KG,,UMOL/KG,,DEG C
   33RBGP700_1,  PR16,    13,  1,     15,     15,2,20001027,0544, -0.5000,-110.0033, 3801,      1.5,  22.1850,  34.7545,2,  34.7533,2,   -999.0,9,   -999.0,9, 22.1847
   33RBGP700_1,  PR16,    13,  1,     14,     14,2,20001027,0544, -0.5000,-110.0033, 3801,     10.4,  22.1222,  34.7613,2,  34.7592,2,   -999.0,9,   -999.0,9, 22.1201
   33RBGP700_1,  PR16,    13,  1,     13,     13,2,20001027,0544, -0.5000,-110.0033, 3801,     24.0,  21.5659,  34.8830,2,  34.8835,2,   -999.0,9,   -999.0,9, 21.5613
   33RBGP700_1,  PR16,    13,  1,      5,      5,2,20001027,0544, -0.5000,-110.0033, 3801,    200.6,  12.6753,  34.9092,2,-999.0000,9,     88.1,2,     85.6,2, 12.6481
   33RBGP700_1,  PR16,    13,  1,      4,      4,2,20001027,0544, -0.5000,-110.0033, 3801,    400.1,   8.9043,  34.6771,2,-999.0000,9,     26.1,2,     24.0,2,  8.8607
   33RBGP700_1,  PR16,    13,  1,      3,      3,2,20001027,0544, -0.5000,-110.0033, 3801,    601.0,   6.4062,  34.5701,2,  34.5707,2,   -999.0,9,   -999.0,9,  6.3513
   33RBGP700_1,  PR16,    13,  1,      2,      2,2,20001027,0544, -0.5000,-110.0033, 3801,    799.7,   5.4403,  34.5530,2,  34.5542,2,   -999.0,9,   -999.0,9,  5.3721
   33RBGP700_1,  PR16,    13,  1,      1,      1,2,20001027,0544, -0.5000,-110.0033, 3801,   1001.3,   4.6544,  34.5615,2,  34.5607,2,   -999.0,9,   -999.0,9,  4.5735
   33RBGP700_1,  PR16,    14,  1,     15,     15,2,20001028,0137, -1.9900,-110.0133, 3964,      2.1,  22.4001,  34.9504,2,  34.9492,2,   -999.0,9,   -999.0,9, 22.3997
   33RBGP700_1,  PR16,    14,  1,     14,     14,2,20001028,0137, -1.9900,-110.0133, 3964,     10.7,  22.3471,  34.9516,2,  34.9532,2,   -999.0,9,   -999.0,9, 22.3450
   33RBGP700_1,  PR16,    14,  1,     13,     13,2,20001028,0137, -1.9900,-110.0133, 3964,     25.1,  22.1239,  34.9805,2,  34.9841,2,   -999.0,9,   -999.0,9, 22.1189
   33RBGP700_1,  PR16,    14,  1,     12,     12,2,20001028,0137, -1.9900,-110.0133, 3964,     40.4,  21.9593,  35.0351,2,  35.0392,2,   -999.0,9,   -999.0,9, 21.9514
   33RBGP700_1,  PR16,    14,  1,     10,     10,2,20001028,0137, -1.9900,-110.0133, 3964,     61.4,  18.1173,  35.1082,2,  35.1101,2,   -999.0,9,   -999.0,9, 18.1068
   33RBGP700_1,  PR16,    14,  1,      8,      8,2,20001028,0137, -1.9900,-110.0133, 3964,    100.6,  13.4143,  34.9430,2,  34.9396,2,   -999.0,9,   -999.0,9, 13.4002
   33RBGP700_1,  PR16,    14,  1,      6,      6,2,20001028,0137, -1.9900,-110.0133, 3964,    150.8,  13.0465,  34.9295,2,  34.9276,2,   -999.0,9,   -999.0,9, 13.0257
   33RBGP700_1,  PR16,    14,  1,      5,      5,2,20001028,0137, -1.9900,-110.0133, 3964,    201.5,  12.7510,  34.9097,2,  34.9095,2,   -999.0,9,   -999.0,9, 12.7237
   33RBGP700_1,  PR16,    14,  1,      4,      4,2,20001028,0137, -1.9900,-110.0133, 3964,   1001.1,   4.3389,  34.5658,2,  34.5648,2,   -999.0,9,   -999.0,9,  4.2604
   33RBGP700_1,  PR16,    14,  1,      3,      3,2,20001028,0137, -1.9900,-110.0133, 3964,   2000.9,   2.2438,  34.6512,2,  34.6516,2,   -999.0,9,   -999.0,9,  2.1035
   33RBGP700_1,  PR16,    14,  1,      2,      2,2,20001028,0137, -1.9900,-110.0133, 3964,   3001.0,   1.6421,  34.6811,2,  34.6798,2,   -999.0,9,   -999.0,9,  1.4220
   33RBGP700_1,  PR16,    14,  1,      1,      1,2,20001028,0137, -1.9900,-110.0133, 3964,   3251.1,   1.6267,  34.6838,2,  34.6831,2,   -999.0,9,   -999.0,9,  1.3825
   33RBGP700_1,  PR16,    15,  1,     15,     15,2,20001028,0541, -2.5000,-110.0067, 3930,      2.2,  22.5212,  34.9485,2,  34.9478,2,   -999.0,9,   -999.0,9, 22.5208
   33RBGP700_1,  PR16,    15,  1,     14,     14,2,20001028,0541, -2.5000,-110.0067, 3930,      9.7,  22.5210,  34.9478,2,  34.9476,2,   -999.0,9,   -999.0,9, 22.5190
   33RBGP700_1,  PR16,    15,  1,     13,     13,2,20001028,0541, -2.5000,-110.0067, 3930,     25.0,  22.4593,  34.9472,2,  34.9478,2,   -999.0,9,   -999.0,9, 22.4543
   33RBGP700_1,  PR16,    15,  1,      3,      3,2,20001028,0541, -2.5000,-110.0067, 3930,    599.8,   7.0336,  34.5944,2,  34.5945,2,   -999.0,9,   -999.0,9,  6.9760
   33RBGP700_1,  PR16,    15,  1,      1,      1,2,20001028,0541, -2.5000,-110.0067, 3930,   1001.4,   4.2652,  34.5635,2,  34.5644,2,   -999.0,9,   -999.0,9,  4.1872
   33RBGP700_1,  PR16,    15,  1,      2,      2,2,20001028,0541, -2.5000,-110.0067, 3930,   1001.5,   4.2655,  34.5635,2,  34.5644,2,   -999.0,9,   -999.0,9,  4.1875
   33RBGP700_1,  PR16,    16,  1,     15,     15,2,20001028,0909, -2.9983,-110.0033, 3783,     10.1,  22.6595,  34.9187,2,  34.9181,2,   -999.0,9,   -999.0,9, 22.6574
   33RBGP700_1,  PR16,    16,  1,     14,     14,2,20001028,0909, -2.9983,-110.0033, 3783,     14.4,  22.6621,  34.9179,2,  34.9162,2,   -999.0,9,   -999.0,9, 22.6592
   33RBGP700_1,  PR16,    16,  1,     13,     13,2,20001028,0909, -2.9983,-110.0033, 3783,     24.6,  22.6457,  34.9176,2,  34.9166,2,   -999.0,9,   -999.0,9, 22.6407
   33RBGP700_1,  PR16,    16,  1,      3,      3,2,20001028,0909, -2.9983,-110.0033, 3783,    599.1,   6.7856,  34.5852,2,  34.5856,2,   -999.0,9,   -999.0,9,  6.7292
   33RBGP700_1,  PR16,    16,  1,      2,      2,2,20001028,0909, -2.9983,-110.0033, 3783,    801.0,   5.3011,  34.5516,2,  34.5512,2,   -999.0,9,   -999.0,9,  5.2336
   33RBGP700_1,  PR16,    16,  1,      1,      1,2,20001028,0909, -2.9983,-110.0033, 3783,   1003.5,   4.3559,  34.5609,2,  34.5622,2,   -999.0,9,   -999.0,9,  4.2771
   33RBGP700_1,  PR16,    17,  1,     15,     15,2,20001028,1458, -4.0000,-110.0017, 3824,      3.3,  22.8868,  34.9788,2,  34.9774,2,   -999.0,9,   -999.0,9, 22.8861
   33RBGP700_1,  PR16,    17,  1,     14,     14,2,20001028,1458, -4.0000,-110.0017, 3824,      9.8,  22.8861,  34.9780,2,  34.9778,2,   -999.0,9,   -999.0,9, 22.8841
   33RBGP700_1,  PR16,    17,  1,     13,     13,2,20001028,1458, -4.0000,-110.0017, 3824,     25.9,  22.8856,  34.9772,2,  34.9794,2,   -999.0,9,   -999.0,9, 22.8803
   33RBGP700_1,  PR16,    17,  1,      3,      3,2,20001028,1458, -4.0000,-110.0017, 3824,    601.1,   7.0408,  34.5917,2,  34.5923,2,   -999.0,9,   -999.0,9,  6.9830
   33RBGP700_1,  PR16,    17,  1,      2,      2,2,20001028,1458, -4.0000,-110.0017, 3824,    800.6,   5.6356,  34.5514,2,  34.5516,2,   -999.0,9,   -999.0,9,  5.5662
   33RBGP700_1,  PR16,    17,  1,      1,      1,2,20001028,1458, -4.0000,-110.0017, 3824,   1000.6,   4.4547,  34.5561,2,  34.5579,2,   -999.0,9,   -999.0,9,  4.3754
   33RBGP700_1,  PR16,    18,  1,     15,     15,2,20001028,2152, -5.0200,-109.9983, 3578,      2.0,  23.3374,  35.1378,2,  35.1434,2,   -999.0,9,   -999.0,9, 23.3370
   33RBGP700_1,  PR16,    18,  1,     14,     14,2,20001028,2152, -5.0200,-109.9983, 3578,     11.2,  23.3294,  35.1376,2,  35.1363,2,   -999.0,9,   -999.0,9, 23.3271
   33RBGP700_1,  PR16,    18,  1,     13,     13,2,20001028,2152, -5.0200,-109.9983, 3578,     25.0,  23.1660,  35.1370,2,  35.1367,2,   -999.0,9,   -999.0,9, 23.1609
   33RBGP700_1,  PR16,    18,  1,     12,     12,2,20001028,2152, -5.0200,-109.9983, 3578,     40.6,  23.1475,  35.1348,2,  35.1329,2,   -999.0,9,   -999.0,9, 23.1392
   33RBGP700_1,  PR16,    18,  1,     10,     10,2,20001028,2152, -5.0200,-109.9983, 3578,     60.4,  22.1734,  35.0999,2,  35.1077,2,   -999.0,9,   -999.0,9, 22.1614
   33RBGP700_1,  PR16,    18,  1,      8,      8,2,20001028,2152, -5.0200,-109.9983, 3578,    101.1,  13.6684,  34.9779,2,  34.9697,2,   -999.0,9,   -999.0,9, 13.6541
   33RBGP700_1,  PR16,    18,  1,      6,      6,2,20001028,2152, -5.0200,-109.9983, 3578,    150.0,  13.0388,  34.9344,2,  34.9356,2,   -999.0,9,   -999.0,9, 13.0181
   33RBGP700_1,  PR16,    18,  1,      5,      5,2,20001028,2152, -5.0200,-109.9983, 3578,    200.9,  12.5705,  34.9025,2,  34.9024,2,   -999.0,9,   -999.0,9, 12.5435
   33RBGP700_1,  PR16,    18,  1,      4,      4,2,20001028,2152, -5.0200,-109.9983, 3578,   1001.4,   4.4605,  34.5522,2,  34.5528,2,   -999.0,9,   -999.0,9,  4.3811
   33RBGP700_1,  PR16,    18,  1,      3,      3,2,20001028,2152, -5.0200,-109.9983, 3578,   2000.7,   2.2861,  34.6451,2,  34.6452,2,   -999.0,9,   -999.0,9,  2.1451
   33RBGP700_1,  PR16,    18,  1,      2,      2,2,20001028,2152, -5.0200,-109.9983, 3578,   3002.5,   1.6701,  34.6840,2,  34.6841,2,   -999.0,9,   -999.0,9,  1.4492
   33RBGP700_1,  PR16,    18,  1,      1,      1,2,20001028,2152, -5.0200,-109.9983, 3578,   3249.5,   1.5388,  34.6914,2,  34.6913,2,   -999.0,9,   -999.0,9,  1.2968
   33RBGP700_1,  PR16,    19,  1,     15,     15,2,20001029,0349, -6.0000,-109.9767, 3801,      3.4,  23.6067,  35.3492,2,  35.3484,2,   -999.0,9,   -999.0,9, 23.6060
   33RBGP700_1,  PR16,    19,  1,     14,     14,2,20001029,0349, -6.0000,-109.9767, 3801,     10.7,  23.6045,  35.3488,2,  35.3468,2,   -999.0,9,   -999.0,9, 23.6023
   33RBGP700_1,  PR16,    19,  1,     13,     13,2,20001029,0349, -6.0000,-109.9767, 3801,     25.4,  23.5358,  35.3456,2,  35.3438,2,   -999.0,9,   -999.0,9, 23.5306
   33RBGP700_1,  PR16,    19,  1,      3,      3,2,20001029,0349, -6.0000,-109.9767, 3801,    601.4,   7.2909,  34.6046,2,  34.6060,2,   -999.0,9,   -999.0,9,  7.2320
   33RBGP700_1,  PR16,    19,  1,      2,      2,2,20001029,0349, -6.0000,-109.9767, 3801,    801.6,   5.6100,  34.5527,2,  34.5534,2,   -999.0,9,   -999.0,9,  5.5405
   33RBGP700_1,  PR16,    19,  1,      1,      1,2,20001029,0349, -6.0000,-109.9767, 3801,    999.6,   4.5680,  34.5527,2,  34.5540,2,   -999.0,9,   -999.0,9,  4.4879
   33RBGP700_1,  PR16,    20,  1,     15,     15,2,20001029,0929, -7.0000,-109.9500, 3512,      2.3,  23.5086,  35.2922,2,  35.2906,2,   -999.0,9,   -999.0,9, 23.5081
   33RBGP700_1,  PR16,    20,  1,     14,     14,2,20001029,0929, -7.0000,-109.9500, 3512,     10.6,  23.5152,  35.2916,2,  35.2892,2,   -999.0,9,   -999.0,9, 23.5130
   33RBGP700_1,  PR16,    20,  1,     13,     13,2,20001029,0929, -7.0000,-109.9500, 3512,     24.9,  23.5138,  35.2905,2,  35.2906,2,   -999.0,9,   -999.0,9, 23.5086
   33RBGP700_1,  PR16,    20,  1,      3,      3,2,20001029,0929, -7.0000,-109.9500, 3512,    600.3,   7.1994,  34.5987,2,  34.5980,2,   -999.0,9,   -999.0,9,  7.1410
   33RBGP700_1,  PR16,    20,  1,      2,      2,2,20001029,0929, -7.0000,-109.9500, 3512,    800.5,   5.7872,  34.5514,2,  34.5526,2,   -999.0,9,   -999.0,9,  5.7168
   33RBGP700_1,  PR16,    20,  1,      1,      1,2,20001029,0929, -7.0000,-109.9500, 3512,   1000.0,   4.7766,  34.5431,2,  34.5447,2,   -999.0,9,   -999.0,9,  4.6949
   33RBGP700_1,  PR16,    21,  1,     15,     15,2,20001030,0630, -8.0000,-109.9800, 3422,      2.4,  24.0130,  35.3949,2,  35.3931,2,   -999.0,9,   -999.0,9, 24.0125
   33RBGP700_1,  PR16,    21,  1,     14,     14,2,20001030,0630, -8.0000,-109.9800, 3422,     10.2,  24.0243,  35.3957,2,  35.3966,2,   -999.0,9,   -999.0,9, 24.0222
   33RBGP700_1,  PR16,    21,  1,     13,     13,2,20001030,0630, -8.0000,-109.9800, 3422,     24.5,  24.0414,  35.4161,2,  35.4231,2,   -999.0,9,   -999.0,9, 24.0363
   33RBGP700_1,  PR16,    21,  1,     12,     12,2,20001030,0630, -8.0000,-109.9800, 3422,     39.7,  24.0536,  35.4806,2,  35.4819,2,   -999.0,9,   -999.0,9, 24.0452
   33RBGP700_1,  PR16,    21,  1,     10,     10,2,20001030,0630, -8.0000,-109.9800, 3422,     59.8,  24.0192,  35.4875,2,  35.4894,2,   -999.0,9,   -999.0,9, 24.0066
   33RBGP700_1,  PR16,    21,  1,      8,      8,2,20001030,0630, -8.0000,-109.9800, 3422,     99.9,  20.9488,  35.6987,2,  35.6978,2,   -999.0,9,   -999.0,9, 20.9296
   33RBGP700_1,  PR16,    21,  1,      6,      6,2,20001030,0630, -8.0000,-109.9800, 3422,    149.6,  14.3618,  35.0161,2,  35.0175,2,   -999.0,9,   -999.0,9, 14.3398
   33RBGP700_1,  PR16,    21,  1,      5,      5,2,20001030,0630, -8.0000,-109.9800, 3422,    200.6,  12.6611,  34.9286,2,  34.9266,2,   -999.0,9,   -999.0,9, 12.6340
   33RBGP700_1,  PR16,    21,  1,      4,      4,2,20001030,0630, -8.0000,-109.9800, 3422,    999.1,   4.6509,  34.5441,2,  34.5446,2,   -999.0,9,   -999.0,9,  4.5702
   33RBGP700_1,  PR16,    21,  1,      3,      3,2,20001030,0630, -8.0000,-109.9800, 3422,   2000.5,   2.2629,  34.6463,2,  34.6471,2,   -999.0,9,   -999.0,9,  2.1223
   33RBGP700_1,  PR16,    21,  1,      2,      2,2,20001030,0630, -8.0000,-109.9800, 3422,   2999.9,   1.7245,  34.6827,2,  34.6839,2,   -999.0,9,   -999.0,9,  1.5027
   33RBGP700_1,  PR16,    21,  1,      1,      1,2,20001030,0630, -8.0000,-109.9800, 3422,   3152.6,   1.6265,  34.6884,2,  34.6888,2,   -999.0,9,   -999.0,9,  1.3920