BOTTLE,20020809WHPSIObren
#code : jjward hyd_to_exchange.pl 
#original files copied from HTML directory: 20020809
#original HYD file: /whpo/11/HOTS/BOTTLE/hot86/hot86.sea   Fri Aug  9 09:51:38 2002
#original SUM file: /whpo/11/HOTS/BOTTLE/hot86/hot86.sum   Fri Aug  9 13:30:42 2002
EXPOCODE,SECT_ID,STNNBR,CASTNO,SAMPNO,BTLNBR,BTLNBR_FLAG_W,DATE,TIME,LATITUDE,LONGITUDE,DEPTH,CTDPRS,CTDTMP,CTDSAL,CTDSAL_FLAG_W,SALNTY,SALNTY_FLAG_W,CTDOXY,CTDOXY_FLAG_W,OXYGEN,OXYGEN_FLAG_W,SILCAT,SILCAT_FLAG_W,NO2+NO3,NO2+NO3_FLAG_W,PHSPHT,PHSPHT_FLAG_W,CTDRAW,REVTMP,REVPRS,THETA
,,,,,,,,,,,,DBAR,ITS-90,PSS-78,,PSS-78,,UMOL/KG,,UMOL/KG,,UMOL/KG,,UMOL/KG,,UMOL/KG,,,DEG C,DBAR,ITS-90
     32MW086_1,  PRS2,     1,  1,     24,     31,2,19970731,2236, 21.3420,-158.2737, 1510,      5.0,  27.2782,  34.7180,2,  34.7367,4,    201.7,3,    202.0,2,     1.03,2,     0.01,2,     0.16,2,      5,-999.000,  -999.0, 27.2770
     32MW086_1,  PRS2,     1,  1,     22,     22,2,19970731,2236, 21.3420,-158.2737, 1510,     25.1,  26.8906,  34.7145,2,  34.7134,2,    202.2,2,    203.0,2,     1.11,2,     0.00,2,     0.15,2,     25,-999.000,  -999.0, 26.8848
     32MW086_1,  PRS2,     1,  1,     23,     30,2,19970731,2236, 21.3420,-158.2737, 1510,     25.4,  26.8904,  34.7136,2,  34.7171,2,    202.1,2,   -999.0,5,  -999.00,5,  -999.00,5,  -999.00,5,     26,-999.000,  -999.0, 26.8846
     32MW086_1,  PRS2,     1,  1,     21,     21,2,19970731,2236, 21.3420,-158.2737, 1510,     43.8,  26.0693,  34.8106,2,  34.8120,2,    208.4,2,    209.4,2,     1.40,2,     0.01,2,     0.12,2,     44,-999.000,  -999.0, 26.0595
     32MW086_1,  PRS2,     1,  1,     20,     20,2,19970731,2236, 21.3420,-158.2737, 1510,     59.4,  24.9591,  34.9025,2,  34.9025,2,    217.1,2,    216.4,2,     1.24,2,     0.00,2,     0.10,2,     59,-999.000,  -999.0, 24.9463
     32MW086_1,  PRS2,     1,  1,     19,     19,2,19970731,2236, 21.3420,-158.2737, 1510,     74.3,  24.3669,  34.9362,2,  34.9342,2,    217.2,2,    216.5,2,     1.31,2,     0.01,2,     0.11,2,     75,-999.000,  -999.0, 24.3511
     32MW086_1,  PRS2,     1,  1,     18,     18,2,19970731,2236, 21.3420,-158.2737, 1510,     95.3,  23.4676,  34.9898,2,  34.9889,2,    213.9,2,    213.2,2,     1.32,2,     0.02,2,     0.10,2,     95,-999.000,  -999.0, 23.4479
     32MW086_1,  PRS2,     1,  1,     17,     17,2,19970731,2236, 21.3420,-158.2737, 1510,    105.0,  22.6846,  35.0136,2,  35.0121,2,    210.2,2,    209.0,2,     1.44,2,     0.03,2,     0.13,2,    105,-999.000,  -999.0, 22.6634
     32MW086_1,  PRS2,     1,  1,     16,     16,2,19970731,2236, 21.3420,-158.2737, 1510,    114.6,  22.3139,  35.0232,2,  35.0221,2,    207.0,2,    206.0,2,     1.53,2,     0.10,2,     0.14,2,    115,-999.000,  -999.0, 22.2910
     32MW086_1,  PRS2,     1,  1,     15,     15,2,19970731,2236, 21.3420,-158.2737, 1510,    125.1,  21.7134,  35.0477,2,  35.0457,2,    202.6,2,    202.8,2,     1.52,2,     0.21,2,     0.15,2,    125,-999.000,  -999.0, 21.6889
     32MW086_1,  PRS2,     1,  1,     13,     13,2,19970731,2236, 21.3420,-158.2737, 1510,    149.3,  20.3233,  35.0062,2,  35.0065,2,    189.0,2,    191.7,2,     2.13,2,     1.46,2,     0.23,2,    149,-999.000,  -999.0, 20.2954
     32MW086_1,  PRS2,     1,  1,     14,     14,2,19970731,2236, 21.3420,-158.2737, 1510,    149.4,  20.3263,  35.0056,2,  35.0051,2,    189.0,2,   -999.0,5,  -999.00,5,  -999.00,5,  -999.00,5,    149,-999.000,  -999.0, 20.2984
     32MW086_1,  PRS2,     1,  1,     12,     12,2,19970731,2236, 21.3420,-158.2737, 1510,    174.6,  19.0051,  34.9384,2,  34.9329,2,    189.3,2,    189.7,2,     2.79,2,     2.71,2,     0.31,2,    174,-999.000,  -999.0, 18.9740
     32MW086_1,  PRS2,     1,  1,     11,     11,2,19970731,2236, 21.3420,-158.2737, 1510,    199.7,  17.9453,  34.8338,2,  34.8350,2,    189.5,2,    188.8,2,     3.59,2,     3.70,2,     0.37,2,    200,-999.000,  -999.0, 17.9111
     32MW086_1,  PRS2,     1,  1,     10,     32,2,19970731,2236, 21.3420,-158.2737, 1510,    225.0,  16.5192,  34.6839,2,  34.6830,2,    187.9,2,    187.5,2,     5.15,2,     5.39,2,     0.48,2,    225,-999.000,  -999.0, 16.4828
     32MW086_1,  PRS2,     1,  1,      9,      3,2,19970731,2236, 21.3420,-158.2737, 1510,    249.5,  15.1565,  34.5399,2,  34.5396,2,    187.5,2,    187.2,2,     7.08,2,     7.30,2,     0.62,2,    250,-999.000,  -999.0, 15.1185
     32MW086_1,  PRS2,     1,  1,      8,     29,2,19970731,2236, 21.3420,-158.2737, 1510,    299.9,  11.9358,  34.2636,2,  34.2608,2,    178.0,2,    179.8,2,    14.47,2,    13.42,2,     1.02,2,    301,-999.000,  -999.0, 11.8970
     32MW086_1,  PRS2,     1,  1,      7,     28,2,19970731,2236, 21.3420,-158.2737, 1510,    449.5,   7.5864,  34.1095,2,  34.1103,2,    111.1,2,    109.2,2,    44.12,2,    28.24,2,     2.10,2,    450,-999.000,  -999.0,  7.5422
     32MW086_1,  PRS2,     1,  1,      6,      7,2,19970731,2236, 21.3420,-158.2737, 1510,    500.3,   6.8157,  34.1219,2,  34.1219,2,     88.2,2,     88.6,2,    54.82,2,    31.74,2,     2.34,2,    500,-999.000,  -999.0,  6.7692
     32MW086_1,  PRS2,     1,  1,      5,     38,2,19970731,2236, 21.3420,-158.2737, 1510,    599.1,   5.6652,  34.2736,2,  34.2712,2,     38.1,2,   -999.0,5,    77.11,2,    38.55,2,     2.86,2,    599,-999.000,  -999.0,  5.6142
     32MW086_1,  PRS2,     1,  1,      4,     36,2,19970731,2236, 21.3420,-158.2737, 1510,    699.5,   5.1210,  34.3716,2,  34.3714,2,     31.0,2,   -999.0,5,    87.98,2,    40.48,2,     2.97,2,    700,-999.000,  -999.0,  5.0638
     32MW086_1,  PRS2,     1,  1,      3,     35,2,19970731,2236, 21.3420,-158.2737, 1510,    800.1,   4.7071,  34.4200,2,  34.4217,2,     34.3,2,     34.2,2,    95.48,2,    41.06,2,     3.00,2,    800,-999.000,  -999.0,  4.6435
     32MW086_1,  PRS2,     1,  1,      2,     34,2,19970731,2236, 21.3420,-158.2737, 1510,    899.6,   4.3346,  34.4666,2,  34.4662,2,     38.7,2,     38.6,2,   103.06,2,    41.28,2,     3.00,2,    900,-999.000,  -999.0,  4.2649
     32MW086_1,  PRS2,     1,  1,      1,     33,2,19970731,2236, 21.3420,-158.2737, 1510,   1022.1,   3.9262,  34.4992,2,  34.4992,2,     45.9,2,     46.5,2,   111.04,2,    41.39,2,     3.01,2,   1022,-999.000,  -999.0,  3.8493
     32MW086_1,  PRS2,     2,  1,     23,     30,2,19970802,0400, 22.7497,-157.9893, 4720,      4.5,  25.9474,  35.1301,2,  35.1303,2,    208.1,2,    206.5,2,  -999.00,5,  -999.00,5,  -999.00,5,      5,-999.000,  -999.0, 25.9464
     32MW086_1,  PRS2,     2,  1,     22,     22,2,19970802,0400, 22.7497,-157.9893, 4720,      4.6,  25.9471,  35.1304,2,  35.1300,2,    208.1,2,    206.3,2,  -999.00,5,  -999.00,5,  -999.00,5,      5,-999.000,  -999.0, 25.9460
     32MW086_1,  PRS2,     2,  1,     21,     21,2,19970802,0400, 22.7497,-157.9893, 4720,     98.5,  23.2622,  35.0409,2,  35.0402,2,    219.8,2,    220.3,2,  -999.00,5,  -999.00,5,  -999.00,5,     99,-999.000,  -999.0, 23.2419
     32MW086_1,  PRS2,     2,  1,     20,     20,2,19970802,0400, 22.7497,-157.9893, 4720,    210.0,  18.9273,  34.9668,2,  34.9706,2,    192.6,2,    192.4,2,  -999.00,5,  -999.00,5,  -999.00,5,    210,-999.000,  -999.0, 18.8899
     32MW086_1,  PRS2,     2,  1,     19,     19,2,19970802,0400, 22.7497,-157.9893, 4720,    225.0,  18.1395,  34.8851,2,  34.8916,2,    194.8,2,    192.8,2,     4.07,2,     2.88,2,     0.26,2,    225,-999.000,  -999.0, 18.1007
     32MW086_1,  PRS2,     2,  1,     18,     18,2,19970802,0400, 22.7497,-157.9893, 4720,    233.5,  17.8839,  34.8599,2,  34.8584,2,    194.4,2,    193.7,2,     3.57,2,     3.13,2,     0.30,2,    233,-999.000,  -999.0, 17.8440
     32MW086_1,  PRS2,     2,  1,     17,     17,2,19970802,0400, 22.7497,-157.9893, 4720,    248.7,  17.1862,  34.7735,2,  34.7718,2,    195.0,2,   -999.0,5,  -999.00,5,  -999.00,5,  -999.00,5,    249,-999.000,  -999.0, 17.1448
     32MW086_1,  PRS2,     2,  1,     16,     16,2,19970802,0400, 22.7497,-157.9893, 4720,    248.9,  17.1803,  34.7731,2,  34.7711,2,    194.9,2,    193.5,2,     4.49,2,     3.77,2,     0.33,2,    250,-999.000,  -999.0, 17.1389
     32MW086_1,  PRS2,     2,  1,     15,     15,2,19970802,0400, 22.7497,-157.9893, 4720,    273.8,  15.7262,  34.6056,2,  34.6004,2,    196.9,2,    196.1,2,     5.36,2,     5.30,2,     0.44,2,    274,-999.000,  -999.0, 15.6834
     32MW086_1,  PRS2,     2,  1,     13,     13,2,19970802,0400, 22.7497,-157.9893, 4720,    299.4,  13.4021,  34.3489,2,  34.3557,2,    198.1,2,    198.2,2,     8.59,2,     8.43,2,     0.64,2,    299,-999.000,  -999.0, 13.3602
     32MW086_1,  PRS2,     2,  1,     14,     14,2,19970802,0400, 22.7497,-157.9893, 4720,    299.5,  13.4021,  34.3488,2,  34.3517,2,    198.3,2,   -999.0,5,  -999.00,5,  -999.00,5,  -999.00,5,    300,-999.000,  -999.0, 13.3602
     32MW086_1,  PRS2,     2,  1,     12,     12,2,19970802,0400, 22.7497,-157.9893, 4720,    325.2,  12.5038,  34.2501,2,  34.2501,2,    194.6,2,    194.3,2,    10.07,2,    10.46,2,     0.77,2,    325,-999.000,  -999.0, 12.4603
     32MW086_1,  PRS2,     2,  1,     11,     11,2,19970802,0400, 22.7497,-157.9893, 4720,    349.9,  11.3269,  34.1617,2,  34.1611,2,    194.0,2,    193.6,2,    13.60,2,    12.99,2,     0.96,2,    350,-999.000,  -999.0, 11.2830
     32MW086_1,  PRS2,     2,  1,      9,      3,2,19970802,0400, 22.7497,-157.9893, 4720,    402.4,   9.8577,  34.1067,2,  34.1051,2,    196.6,2,    193.3,2,    19.14,2,    16.55,2,     1.15,2,    402,-999.000,  -999.0,  9.8114
     32MW086_1,  PRS2,     2,  1,     10,     32,2,19970802,0400, 22.7497,-157.9893, 4720,    402.6,   9.8572,  34.1066,2,  34.1050,2,    196.5,2,   -999.0,5,  -999.00,5,  -999.00,5,  -999.00,5,    402,-999.000,  -999.0,  9.8110
     32MW086_1,  PRS2,     2,  1,      7,     28,2,19970802,0400, 22.7497,-157.9893, 4720,    502.1,   7.4359,  34.0383,2,  34.0382,2,    143.5,2,    143.6,2,    40.16,2,    25.95,2,     1.82,2,    502,-999.000,  -999.0,  7.3869
     32MW086_1,  PRS2,     2,  1,      8,     29,2,19970802,0400, 22.7497,-157.9893, 4720,    502.9,   7.4190,  34.0375,2,  34.0365,2,    143.9,2,   -999.0,5,  -999.00,5,  -999.00,5,  -999.00,5,    503,-999.000,  -999.0,  7.3700
     32MW086_1,  PRS2,     2,  1,      6,      7,2,19970802,0400, 22.7497,-157.9893, 4720,    599.9,   5.8969,  34.1005,2,  34.0994,2,     67.2,2,   -999.0,5,  -999.00,5,  -999.00,5,  -999.00,5,    600,-999.000,  -999.0,  5.8449
     32MW086_1,  PRS2,     2,  1,      5,     38,2,19970802,0400, 22.7497,-157.9893, 4720,    599.9,   5.8908,  34.1012,2,  34.0975,2,     66.8,2,     64.1,2,    67.39,2,    35.78,2,     2.59,2,    599,-999.000,  -999.0,  5.8388
     32MW086_1,  PRS2,     2,  1,      4,     36,2,19970802,0400, 22.7497,-157.9893, 4720,    698.9,   4.9887,  34.1921,2,  34.1890,2,     34.5,2,     32.7,2,    88.31,2,    40.13,2,     2.96,2,    700,-999.000,  -999.0,  4.9324
     32MW086_1,  PRS2,     2,  1,      3,     35,2,19970802,0400, 22.7497,-157.9893, 4720,    797.6,   4.5513,  34.3240,2,  34.3220,2,     24.4,2,     23.0,2,    99.78,2,    41.83,2,     3.05,2,    797,-999.000,  -999.0,  4.4890
     32MW086_1,  PRS2,     2,  1,      2,     34,2,19970802,0400, 22.7497,-157.9893, 4720,    897.8,   4.3969,  34.4328,2,  34.4319,2,     32.8,2,     31.3,2,   102.91,2,    41.76,2,     3.04,2,    897,-999.000,  -999.0,  4.3270
     32MW086_1,  PRS2,     2,  1,      1,     33,2,19970802,0400, 22.7497,-157.9893, 4720,   1021.4,   4.0523,  34.4843,2,  34.4833,2,     40.3,2,     39.1,2,   109.16,2,    41.80,2,     3.04,2,   1021,-999.000,  -999.0,  3.9745
     32MW086_1,  PRS2,     2,  2,     23,     30,2,19970802,0659, 22.7528,-157.9950, 4725,      4.6,  25.8938,  35.1260,2,  35.1237,2,    206.4,2,   -999.0,5,  -999.00,5,  -999.00,5,  -999.00,5,      5,-999.000,  -999.0, 25.8927
     32MW086_1,  PRS2,     2,  2,     22,     22,2,19970802,0659, 22.7528,-157.9950, 4725,      4.6,  25.8939,  35.1255,2,  35.1242,2,    206.4,2,    206.0,2,     1.12,2,     0.02,2,     0.06,2,      5,-999.000,  -999.0, 25.8929
     32MW086_1,  PRS2,     2,  2,     21,     21,2,19970802,0659, 22.7528,-157.9950, 4725,     14.3,  25.8956,  35.1272,2,  35.1251,2,    206.4,2,    206.2,2,     1.12,2,     0.01,2,     0.05,2,     15,-999.000,  -999.0, 25.8925
     32MW086_1,  PRS2,     2,  2,     20,     20,2,19970802,0659, 22.7528,-157.9950, 4725,     24.9,  25.8768,  35.1291,2,  35.1280,2,    207.1,2,   -999.0,5,  -999.00,5,  -999.00,5,  -999.00,5,     25,-999.000,  -999.0, 25.8712
     32MW086_1,  PRS2,     2,  2,     19,     19,2,19970802,0659, 22.7528,-157.9950, 4725,     24.9,  25.8752,  35.1290,2,  35.1284,2,    207.1,2,    206.5,2,     3.01,3,     0.01,2,     0.05,2,     25,-999.000,  -999.0, 25.8697
     32MW086_1,  PRS2,     2,  2,     18,     18,2,19970802,0659, 22.7528,-157.9950, 4725,     35.3,  25.8124,  35.1277,2,  35.1271,2,    207.0,2,    206.5,2,     1.16,2,     0.01,2,     0.05,2,     35,-999.000,  -999.0, 25.8045
     32MW086_1,  PRS2,     2,  2,     17,     17,2,19970802,0659, 22.7528,-157.9950, 4725,     43.9,  25.7954,  35.1265,2,  35.1268,2,    207.1,2,    206.5,2,     1.10,2,     0.00,2,     0.05,2,     45,-999.000,  -999.0, 25.7856
     32MW086_1,  PRS2,     2,  2,     16,     16,2,19970802,0659, 22.7528,-157.9950, 4725,     59.9,  25.0052,  35.1071,2,  35.1064,2,    215.5,2,    215.0,2,     1.20,2,     0.02,2,     0.05,2,     60,-999.000,  -999.0, 24.9922
     32MW086_1,  PRS2,     2,  2,     15,     15,2,19970802,0659, 22.7528,-157.9950, 4725,     77.3,  24.1298,  35.0426,2,  35.0424,2,    222.3,2,    223.7,2,     1.35,2,     0.02,2,     0.07,2,     77,-999.000,  -999.0, 24.1135
     32MW086_1,  PRS2,     2,  2,     14,     14,2,19970802,0659, 22.7528,-157.9950, 4725,     85.1,  23.7532,  35.0405,2,  35.0396,2,    222.5,2,    222.7,2,     1.37,2,     0.01,2,     0.04,2,     85,-999.000,  -999.0, 23.7355
     32MW086_1,  PRS2,     2,  2,     13,     13,2,19970802,0659, 22.7528,-157.9950, 4725,     94.7,  23.3121,  35.0411,2,  35.0398,2,    219.7,2,    220.6,2,     1.40,2,     0.02,2,     0.05,2,     95,-999.000,  -999.0, 23.2926
     32MW086_1,  PRS2,     2,  2,     12,     12,2,19970802,0659, 22.7528,-157.9950, 4725,    101.7,  23.0287,  35.0470,2,  35.0458,2,    218.1,2,    217.4,2,     1.41,2,     0.03,2,     0.04,2,    101,-999.000,  -999.0, 23.0079
     32MW086_1,  PRS2,     2,  2,     11,     11,2,19970802,0659, 22.7528,-157.9950, 4725,    114.3,  22.0093,  35.0782,2,  35.0761,2,    202.2,2,    205.0,2,     1.58,2,     0.15,2,     0.07,2,    116,-999.000,  -999.0, 21.9867
     32MW086_1,  PRS2,     2,  2,     10,     32,2,19970802,0659, 22.7528,-157.9950, 4725,    124.7,  21.6509,  35.0861,2,  35.0848,2,    199.0,2,    200.7,2,     1.69,2,     0.40,2,     0.08,2,    126,-999.000,  -999.0, 21.6266
     32MW086_1,  PRS2,     2,  2,      9,      3,2,19970802,0659, 22.7528,-157.9950, 4725,    134.1,  21.2164,  35.0724,2,  35.0791,2,    198.4,2,    200.0,2,     1.84,2,     0.53,2,     0.10,2,    134,-999.000,  -999.0, 21.1905
     32MW086_1,  PRS2,     2,  2,      8,     29,2,19970802,0659, 22.7528,-157.9950, 4725,    149.5,  20.4605,  35.0702,2,  35.0698,2,    193.6,2,    194.9,2,     2.14,2,     1.16,2,     0.14,2,    149,-999.000,  -999.0, 20.4325
     32MW086_1,  PRS2,     2,  2,      7,     28,2,19970802,0659, 22.7528,-157.9950, 4725,    159.7,  20.0140,  35.0507,2,  35.0517,2,    193.0,2,    195.0,2,  -999.00,5,  -999.00,5,  -999.00,5,    160,-999.000,  -999.0, 19.9844
     32MW086_1,  PRS2,     2,  2,      6,      7,2,19970802,0659, 22.7528,-157.9950, 4725,    175.0,  19.7115,  35.0225,2,  35.0217,2,    196.8,2,    196.7,2,     2.55,2,     1.67,2,     0.18,2,    175,-999.000,  -999.0, 19.6795
     32MW086_1,  PRS2,     2,  2,      5,     38,2,19970802,0659, 22.7528,-157.9950, 4725,    183.5,  19.1578,  34.9940,2,  35.0109,3,    191.8,3,    192.1,2,  -999.00,5,  -999.00,5,  -999.00,5,    183,-999.000,  -999.0, 19.1249
     32MW086_1,  PRS2,     2,  2,      4,     36,2,19970802,0659, 22.7528,-157.9950, 4725,    199.6,  18.6012,  34.9371,2,  34.9320,2,    189.8,2,    193.5,2,     3.23,2,     2.52,2,     0.23,2,    200,-999.000,  -999.0, 18.5662
     32MW086_1,  PRS2,     2,  2,      3,     35,2,19970802,0659, 22.7528,-157.9950, 4725,    451.5,   8.3479,  34.0595,2,  34.0577,2,    173.5,2,    170.7,2,  -999.00,5,  -999.00,5,  -999.00,5,    452,-999.000,  -999.0,  8.3010
     32MW086_1,  PRS2,     2,  2,      2,     34,3,19970802,0659, 22.7528,-157.9950, 4725,    806.6,   4.5973,  34.3501,2,  34.3481,2,     25.7,2,     24.6,2,  -999.00,5,  -999.00,5,  -999.00,5,    806,-999.000,  -999.0,  4.5339
     32MW086_1,  PRS2,     2,  2,      1,     33,3,19970802,0659, 22.7528,-157.9950, 4725,   1019.6,   3.9934,  34.4886,2,  34.4886,2,     40.4,2,     40.3,2,  -999.00,5,  -999.00,5,  -999.00,5,   1019,-999.000,  -999.0,  3.9162