BOTTLE,20020809WHPSIObren
EXPOCODE,SECT_ID,STNNBR,CASTNO,SAMPNO,BTLNBR,BTLNBR_FLAG_W,DATE,TIME,LATITUDE,LONGITUDE,DEPTH,CTDPRS,CTDTMP,CTDSAL,CTDSAL_FLAG_W,SALNTY,SALNTY_FLAG_W,CTDOXY,CTDOXY_FLAG_W,OXYGEN,OXYGEN_FLAG_W,SILCAT,SILCAT_FLAG_W,NO2+NO3,NO2+NO3_FLAG_W,PHSPHT,PHSPHT_FLAG_W,CTDRAW,REVTMP,REVPRS,THETA
,,,,,,,,,,,,DBAR,ITS-90,PSS-78,,PSS-78,,UMOL/KG,,UMOL/KG,,UMOL/KG,,UMOL/KG,,UMOL/KG,,,DEG C,DBAR,ITS-90
     32MW086_1,  PRS2,     2,  7,     10,     32,2,19970802,2156, 22.7717,-158.0382, 4740,      4.4,  25.9423,  35.1121,2,  35.1139,2,    206.4,1,   -999.0,9,  -999.00,9,  -999.00,9,  -999.00,9,      5,-999.000,  -999.0, 25.9413
     32MW086_1,  PRS2,     2,  7,      9,      3,4,19970802,2156, 22.7717,-158.0382, 4740,     24.6,  25.8491,  35.1103,2,-999.0000,5,    206.3,1,   -999.0,9,  -999.00,9,  -999.00,9,  -999.00,9,     25,-999.000,  -999.0, 25.8436
     32MW086_1,  PRS2,     2,  7,      8,     29,2,19970802,2156, 22.7717,-158.0382, 4740,     45.2,  25.8250,  35.1118,2,  35.1136,2,    206.7,1,   -999.0,9,  -999.00,9,  -999.00,9,  -999.00,9,     45,-999.000,  -999.0, 25.8150
     32MW086_1,  PRS2,     2,  7,      7,     28,2,19970802,2156, 22.7717,-158.0382, 4740,     74.3,  23.6671,  35.0399,2,  35.0420,2,    220.3,1,   -999.0,9,  -999.00,9,  -999.00,9,  -999.00,9,     74,-999.000,  -999.0, 23.6516
     32MW086_1,  PRS2,     2,  7,      6,      7,2,19970802,2156, 22.7717,-158.0382, 4740,     99.0,  22.5929,  35.0560,2,  35.0585,2,    212.0,1,   -999.0,9,  -999.00,9,  -999.00,9,  -999.00,9,    100,-999.000,  -999.0, 22.5730
     32MW086_1,  PRS2,     2,  7,      5,     38,2,19970802,2156, 22.7717,-158.0382, 4740,    124.4,  21.7428,  35.0838,2,  35.0881,2,    200.2,1,   -999.0,9,  -999.00,9,  -999.00,9,  -999.00,9,    125,-999.000,  -999.0, 21.7184
     32MW086_1,  PRS2,     2,  7,      4,     36,2,19970802,2156, 22.7717,-158.0382, 4740,    149.6,  20.5499,  35.0586,2,  35.0637,2,    196.0,1,   -999.0,9,  -999.00,9,  -999.00,9,  -999.00,9,    150,-999.000,  -999.0, 20.5217
     32MW086_1,  PRS2,     2,  7,      3,     35,2,19970802,2156, 22.7717,-158.0382, 4740,    175.1,  19.5143,  35.0194,2,  35.0254,2,    194.0,1,   -999.0,9,  -999.00,9,  -999.00,9,  -999.00,9,    176,-999.000,  -999.0, 19.4825
     32MW086_1,  PRS2,     2,  7,      2,     34,2,19970802,2156, 22.7717,-158.0382, 4740,    479.4,   7.7286,  34.0469,2,  34.0475,2,    149.9,1,   -999.0,9,  -999.00,9,  -999.00,9,  -999.00,9,    480,-999.000,  -999.0,  7.6809
     32MW086_1,  PRS2,     2,  7,      1,     33,2,19970802,2156, 22.7717,-158.0382, 4740,   1020.2,   3.9975,  34.4893,2,  34.4893,2,     40.8,1,   -999.0,9,  -999.00,9,  -999.00,9,  -999.00,9,   1020,-999.000,  -999.0,  3.9202
     32MW086_1,  PRS2,     2,  8,     18,     18,2,19970803,0059, 22.7690,-158.0692, 4735,      4.8,  25.9835,  35.1173,2,  35.1161,2,    206.1,1,   -999.0,9,  -999.00,9,  -999.00,9,  -999.00,9,      5,-999.000,  -999.0, 25.9824
     32MW086_1,  PRS2,     2,  8,     17,     17,2,19970803,0059, 22.7690,-158.0692, 4735,     24.6,  25.8479,  35.1195,2,  35.1200,2,    206.8,1,   -999.0,9,  -999.00,9,  -999.00,9,  -999.00,9,     25,-999.000,  -999.0, 25.8424
     32MW086_1,  PRS2,     2,  8,     16,     16,2,19970803,0059, 22.7690,-158.0692, 4735,     44.1,  25.7679,  35.1180,2,  35.1179,2,    207.6,1,   -999.0,9,  -999.00,9,  -999.00,9,  -999.00,9,     45,-999.000,  -999.0, 25.7582
     32MW086_1,  PRS2,     2,  8,     15,     15,2,19970803,0059, 22.7690,-158.0692, 4735,     74.5,  23.9041,  35.0422,2,  35.0414,2,    222.6,1,   -999.0,9,  -999.00,9,  -999.00,9,  -999.00,9,     74,-999.000,  -999.0, 23.8885
     32MW086_1,  PRS2,     2,  8,     14,     14,2,19970803,0059, 22.7690,-158.0692, 4735,     99.9,  23.1124,  35.0466,2,  35.0466,2,    218.4,1,   -999.0,9,  -999.00,9,  -999.00,9,  -999.00,9,    100,-999.000,  -999.0, 23.0919
     32MW086_1,  PRS2,     2,  8,     13,     13,2,19970803,0059, 22.7690,-158.0692, 4735,    124.4,  22.5019,  35.0615,2,  35.0620,2,    211.8,1,   -999.0,9,  -999.00,9,  -999.00,9,  -999.00,9,    125,-999.000,  -999.0, 22.4769
     32MW086_1,  PRS2,     2,  8,     11,     11,2,19970803,0059, 22.7690,-158.0692, 4735,    150.1,  21.7135,  35.0843,2,  35.0855,2,    201.8,1,   -999.0,9,  -999.00,9,  -999.00,9,  -999.00,9,    150,-999.000,  -999.0, 21.6840
     32MW086_1,  PRS2,     2,  8,     12,     12,2,19970803,0059, 22.7690,-158.0692, 4735,    150.5,  21.6700,  35.0869,2,  35.0855,2,    201.9,1,   -999.0,9,  -999.00,9,  -999.00,9,  -999.00,9,    150,-999.000,  -999.0, 21.6405
     32MW086_1,  PRS2,     2,  8,      9,      3,4,19970803,0059, 22.7690,-158.0692, 4735,    174.8,  20.5088,  35.0677,2,-999.0000,5,    193.9,1,   -999.0,9,  -999.00,9,  -999.00,9,  -999.00,9,    175,-999.000,  -999.0, 20.4759
     32MW086_1,  PRS2,     2,  8,     10,     32,2,19970803,0059, 22.7690,-158.0692, 4735,    174.9,  20.4958,  35.0691,2,  35.0685,2,    194.1,1,   -999.0,9,  -999.00,9,  -999.00,9,  -999.00,9,    175,-999.000,  -999.0, 20.4629
     32MW086_1,  PRS2,     2,  8,      8,     29,2,19970803,0059, 22.7690,-158.0692, 4735,    249.0,  17.6260,  34.8263,2,  34.8263,2,    194.3,1,   -999.0,9,  -999.00,9,  -999.00,9,  -999.00,9,    249,-999.000,  -999.0, 17.5839
     32MW086_1,  PRS2,     2,  8,      7,     28,2,19970803,0059, 22.7690,-158.0692, 4735,    249.4,  17.6123,  34.8243,2,  34.8228,2,    194.5,1,   -999.0,9,  -999.00,9,  -999.00,9,  -999.00,9,    250,-999.000,  -999.0, 17.5701
     32MW086_1,  PRS2,     2,  8,      6,      7,2,19970803,0059, 22.7690,-158.0692, 4735,    500.1,   7.5492,  34.0448,2,  34.0450,2,    147.2,1,   -999.0,9,  -999.00,9,  -999.00,9,  -999.00,9,    501,-999.000,  -999.0,  7.5000
     32MW086_1,  PRS2,     2,  8,      5,     38,2,19970803,0059, 22.7690,-158.0692, 4735,    500.2,   7.5416,  34.0450,2,  34.0444,2,    146.9,1,   -999.0,9,  -999.00,9,  -999.00,9,  -999.00,9,    500,-999.000,  -999.0,  7.4924
     32MW086_1,  PRS2,     2,  8,      4,     36,2,19970803,0059, 22.7690,-158.0692, 4735,    748.8,   4.7481,  34.2789,2,  34.2790,2,     25.2,1,   -999.0,9,  -999.00,9,  -999.00,9,  -999.00,9,    749,-999.000,  -999.0,  4.6888
     32MW086_1,  PRS2,     2,  8,      3,     35,2,19970803,0059, 22.7690,-158.0692, 4735,    749.1,   4.7479,  34.2797,2,  34.2789,2,     25.2,1,   -999.0,9,  -999.00,9,  -999.00,9,  -999.00,9,    749,-999.000,  -999.0,  4.6886
     32MW086_1,  PRS2,     2,  8,      2,     34,2,19970803,0059, 22.7690,-158.0692, 4735,   1020.1,   3.9845,  34.4915,2,  34.4908,2,     40.9,1,   -999.0,9,  -999.00,9,  -999.00,9,  -999.00,9,   1021,-999.000,  -999.0,  3.9073
     32MW086_1,  PRS2,     2,  8,      1,     33,2,19970803,0059, 22.7690,-158.0692, 4735,   1020.1,   3.9832,  34.4915,2,  34.4913,2,     40.9,1,   -999.0,9,  -999.00,9,  -999.00,9,  -999.00,9,   1020,-999.000,  -999.0,  3.9060
     32MW086_1,  PRS2,     2,  9,     24,     31,2,19970803,0357, 22.7682,-158.0768, 4735,      2.8,  25.9474,  35.1186,2,  35.1159,2,    207.2,1,   -999.0,9,  -999.00,9,  -999.00,9,  -999.00,9,      3,-999.000,  -999.0, 25.9468
     32MW086_1,  PRS2,     2,  9,     23,     30,2,19970803,0357, 22.7682,-158.0768, 4735,      4.9,  25.9516,  35.1185,2,  35.1160,2,    207.1,1,   -999.0,9,  -999.00,9,  -999.00,9,  -999.00,9,      6,-999.000,  -999.0, 25.9505
     32MW086_1,  PRS2,     2,  9,     22,     22,2,19970803,0357, 22.7682,-158.0768, 4735,      9.6,  25.9538,  35.1192,2,  35.1174,2,    207.1,1,   -999.0,9,  -999.00,9,  -999.00,9,  -999.00,9,     10,-999.000,  -999.0, 25.9516
     32MW086_1,  PRS2,     2,  9,     21,     21,2,19970803,0357, 22.7682,-158.0768, 4735,     14.6,  25.9465,  35.1193,2,  35.1170,2,    207.1,1,   -999.0,9,  -999.00,9,  -999.00,9,  -999.00,9,     15,-999.000,  -999.0, 25.9432
     32MW086_1,  PRS2,     2,  9,     20,     20,2,19970803,0357, 22.7682,-158.0768, 4735,     19.4,  25.9234,  35.1193,2,  35.1178,2,    207.1,1,   -999.0,9,  -999.00,9,  -999.00,9,  -999.00,9,     19,-999.000,  -999.0, 25.9191
     32MW086_1,  PRS2,     2,  9,     19,     19,2,19970803,0357, 22.7682,-158.0768, 4735,     24.4,  25.8871,  35.1215,2,  35.1213,2,    207.2,1,   -999.0,9,  -999.00,9,  -999.00,9,  -999.00,9,     25,-999.000,  -999.0, 25.8817
     32MW086_1,  PRS2,     2,  9,     18,     18,2,19970803,0357, 22.7682,-158.0768, 4735,     30.2,  25.8485,  35.1236,2,  35.1218,2,    207.2,1,   -999.0,9,  -999.00,9,  -999.00,9,  -999.00,9,     30,-999.000,  -999.0, 25.8418
     32MW086_1,  PRS2,     2,  9,     17,     17,2,19970803,0357, 22.7682,-158.0768, 4735,     34.0,  25.8473,  35.1233,2,  35.1222,2,    207.3,1,   -999.0,9,  -999.00,9,  -999.00,9,  -999.00,9,     34,-999.000,  -999.0, 25.8397
     32MW086_1,  PRS2,     2,  9,     16,     16,2,19970803,0357, 22.7682,-158.0768, 4735,     39.2,  25.8415,  35.1226,2,  35.1213,2,    207.5,1,   -999.0,9,  -999.00,9,  -999.00,9,  -999.00,9,     40,-999.000,  -999.0, 25.8328
     32MW086_1,  PRS2,     2,  9,     15,     15,2,19970803,0357, 22.7682,-158.0768, 4735,     44.7,  25.8251,  35.1217,2,  35.1472,4,    207.6,1,   -999.0,9,  -999.00,9,  -999.00,9,  -999.00,9,     45,-999.000,  -999.0, 25.8152
     32MW086_1,  PRS2,     2,  9,     14,     14,2,19970803,0357, 22.7682,-158.0768, 4735,     50.4,  25.6462,  35.1134,2,  35.1143,2,    208.8,1,   -999.0,9,  -999.00,9,  -999.00,9,  -999.00,9,     51,-999.000,  -999.0, 25.6350
     32MW086_1,  PRS2,     2,  9,     13,     13,2,19970803,0357, 22.7682,-158.0768, 4735,     54.3,  25.3963,  35.1150,2,  35.1138,2,    212.2,1,   -999.0,9,  -999.00,9,  -999.00,9,  -999.00,9,     55,-999.000,  -999.0, 25.3844
     32MW086_1,  PRS2,     2,  9,     12,     12,2,19970803,0357, 22.7682,-158.0768, 4735,     64.6,  24.2552,  35.0415,2,  35.0476,2,    221.6,1,   -999.0,9,  -999.00,9,  -999.00,9,  -999.00,9,     65,-999.000,  -999.0, 24.2415
     32MW086_1,  PRS2,     2,  9,     11,     11,2,19970803,0357, 22.7682,-158.0768, 4735,     73.4,  23.5431,  35.0433,2,  35.0539,2,    222.6,1,   -999.0,9,  -999.00,9,  -999.00,9,  -999.00,9,     73,-999.000,  -999.0, 23.5279
     32MW086_1,  PRS2,     2,  9,     10,     32,2,19970803,0357, 22.7682,-158.0768, 4735,     83.9,  23.2718,  35.0476,2,  35.0455,2,    221.4,1,   -999.0,9,  -999.00,9,  -999.00,9,  -999.00,9,     84,-999.000,  -999.0, 23.2545
     32MW086_1,  PRS2,     2,  9,      9,      3,2,19970803,0357, 22.7682,-158.0768, 4735,     94.3,  22.8437,  35.0530,2,  35.0546,2,    216.1,1,   -999.0,9,  -999.00,9,  -999.00,9,  -999.00,9,     94,-999.000,  -999.0, 22.8245
     32MW086_1,  PRS2,     2,  9,      8,     29,2,19970803,0357, 22.7682,-158.0768, 4735,    104.4,  22.5069,  35.0626,2,  35.0623,2,    210.8,1,   -999.0,9,  -999.00,9,  -999.00,9,  -999.00,9,    105,-999.000,  -999.0, 22.4859
     32MW086_1,  PRS2,     2,  9,      7,     28,2,19970803,0357, 22.7682,-158.0768, 4735,    114.6,  22.1562,  35.0721,2,  35.0736,2,    206.7,1,   -999.0,9,  -999.00,9,  -999.00,9,  -999.00,9,    115,-999.000,  -999.0, 22.1334
     32MW086_1,  PRS2,     2,  9,      6,      7,2,19970803,0357, 22.7682,-158.0768, 4735,    125.6,  21.8061,  35.0833,2,  35.0819,2,    202.4,1,   -999.0,9,  -999.00,9,  -999.00,9,  -999.00,9,    126,-999.000,  -999.0, 21.7814
     32MW086_1,  PRS2,     2,  9,      5,     38,2,19970803,0357, 22.7682,-158.0768, 4735,    148.7,  20.9214,  35.0872,2,  35.0884,2,    194.2,1,   -999.0,9,  -999.00,9,  -999.00,9,  -999.00,9,    149,-999.000,  -999.0, 20.8930
     32MW086_1,  PRS2,     2,  9,      4,     36,2,19970803,0357, 22.7682,-158.0768, 4735,    177.2,  20.0889,  35.0653,2,  35.0674,2,    193.2,1,   -999.0,9,  -999.00,9,  -999.00,9,  -999.00,9,    177,-999.000,  -999.0, 20.0560
     32MW086_1,  PRS2,     2,  9,      3,     35,2,19970803,0357, 22.7682,-158.0768, 4735,    249.3,  17.6185,  34.8240,2,  34.8257,2,    193.3,1,   -999.0,9,  -999.00,9,  -999.00,9,  -999.00,9,    249,-999.000,  -999.0, 17.5763
     32MW086_1,  PRS2,     2,  9,      2,     34,2,19970803,0357, 22.7682,-158.0768, 4735,    499.6,   7.2960,  34.0381,2,  34.0368,2,    139.1,1,   -999.0,9,  -999.00,9,  -999.00,9,  -999.00,9,    501,-999.000,  -999.0,  7.2478
     32MW086_1,  PRS2,     2,  9,      1,     33,2,19970803,0357, 22.7682,-158.0768, 4735,   1021.4,   4.0683,  34.4844,2,  34.4831,2,     39.4,1,   -999.0,9,  -999.00,9,  -999.00,9,  -999.00,9,   1022,-999.000,  -999.0,  3.9903
     32MW086_1,  PRS2,     2, 10,     22,     22,2,19970803,0657, 22.7460,-158.0093, 4725,      4.8,  25.8763,  35.0968,2,  35.0943,2,    206.8,1,   -999.0,9,  -999.00,9,  -999.00,9,  -999.00,9,      5,-999.000,  -999.0, 25.8752
     32MW086_1,  PRS2,     2, 10,     23,     30,2,19970803,0657, 22.7460,-158.0093, 4725,      5.0,  25.8773,  35.0969,2,  35.1016,2,    206.8,1,   -999.0,9,  -999.00,9,  -999.00,9,  -999.00,9,      6,-999.000,  -999.0, 25.8762
     32MW086_1,  PRS2,     2, 10,     21,     21,2,19970803,0657, 22.7460,-158.0093, 4725,     19.4,  25.8788,  35.0966,2,  35.0950,2,    206.9,1,   -999.0,9,  -999.00,9,  -999.00,9,  -999.00,9,     19,-999.000,  -999.0, 25.8745
     32MW086_1,  PRS2,     2, 10,     20,     20,2,19970803,0657, 22.7460,-158.0093, 4725,     23.3,  25.8849,  35.0961,2,  35.0948,2,    206.9,1,   -999.0,9,  -999.00,9,  -999.00,9,  -999.00,9,     23,-999.000,  -999.0, 25.8797
     32MW086_1,  PRS2,     2, 10,     19,     19,2,19970803,0657, 22.7460,-158.0093, 4725,     23.3,  25.8849,  35.0960,2,  35.0938,2,    206.9,1,   -999.0,9,  -999.00,9,  -999.00,9,  -999.00,9,     24,-999.000,  -999.0, 25.8797
     32MW086_1,  PRS2,     2, 10,     18,     18,2,19970803,0657, 22.7460,-158.0093, 4725,     23.4,  25.8848,  35.0959,2,  35.0944,2,    206.9,1,   -999.0,9,  -999.00,9,  -999.00,9,  -999.00,9,     24,-999.000,  -999.0, 25.8796
     32MW086_1,  PRS2,     2, 10,     17,     17,2,19970803,0657, 22.7460,-158.0093, 4725,     40.4,  25.8784,  35.0956,2,  35.0946,2,    206.8,1,   -999.0,9,  -999.00,9,  -999.00,9,  -999.00,9,     40,-999.000,  -999.0, 25.8695
     32MW086_1,  PRS2,     2, 10,     16,     16,2,19970803,0657, 22.7460,-158.0093, 4725,     45.0,  25.8130,  35.0930,2,  35.0939,2,    207.0,1,   -999.0,9,  -999.00,9,  -999.00,9,  -999.00,9,     45,-999.000,  -999.0, 25.8030
     32MW086_1,  PRS2,     2, 10,     15,     15,2,19970803,0657, 22.7460,-158.0093, 4725,     60.4,  25.1339,  35.1284,2,  35.1295,2,    213.3,1,   -999.0,9,  -999.00,9,  -999.00,9,  -999.00,9,     61,-999.000,  -999.0, 25.1207
     32MW086_1,  PRS2,     2, 10,     14,     14,2,19970803,0657, 22.7460,-158.0093, 4725,     74.7,  24.1485,  35.0493,2,  35.0494,2,    221.4,1,   -999.0,9,  -999.00,9,  -999.00,9,  -999.00,9,     74,-999.000,  -999.0, 24.1327
     32MW086_1,  PRS2,     2, 10,     13,     13,2,19970803,0657, 22.7460,-158.0093, 4725,     79.0,  23.8550,  35.0386,2,  35.0401,2,    225.4,1,   -999.0,9,  -999.00,9,  -999.00,9,  -999.00,9,     79,-999.000,  -999.0, 23.8385
     32MW086_1,  PRS2,     2, 10,     12,     12,2,19970803,0657, 22.7460,-158.0093, 4725,     99.5,  23.1331,  35.0495,2,  35.0506,2,    217.5,1,   -999.0,9,  -999.00,9,  -999.00,9,  -999.00,9,    100,-999.000,  -999.0, 23.1127
     32MW086_1,  PRS2,     2, 10,     11,     11,2,19970803,0657, 22.7460,-158.0093, 4725,    120.6,  21.9734,  35.0771,2,  35.0778,2,    203.1,1,   -999.0,9,  -999.00,9,  -999.00,9,  -999.00,9,    121,-999.000,  -999.0, 21.9496
     32MW086_1,  PRS2,     2, 10,      7,     28,2,19970803,0657, 22.7460,-158.0093, 4725,    120.6,  21.9673,  35.0779,2,  35.0774,2,    201.9,1,   -999.0,9,  -999.00,9,  -999.00,9,  -999.00,9,    121,-999.000,  -999.0, 21.9435
     32MW086_1,  PRS2,     2, 10,      6,      7,2,19970803,0657, 22.7460,-158.0093, 4725,    120.6,  21.9770,  35.0771,2,  35.0781,2,    201.9,1,   -999.0,9,  -999.00,9,  -999.00,9,  -999.00,9,    121,-999.000,  -999.0, 21.9532
     32MW086_1,  PRS2,     2, 10,     10,     32,2,19970803,0657, 22.7460,-158.0093, 4725,    120.7,  21.9522,  35.0779,2,  35.0773,2,    202.7,1,   -999.0,9,  -999.00,9,  -999.00,9,  -999.00,9,    121,-999.000,  -999.0, 21.9284
     32MW086_1,  PRS2,     2, 10,      9,      3,2,19970803,0657, 22.7460,-158.0093, 4725,    120.7,  21.9415,  35.0785,2,  35.0776,2,    202.3,1,   -999.0,9,  -999.00,9,  -999.00,9,  -999.00,9,    121,-999.000,  -999.0, 21.9177
     32MW086_1,  PRS2,     2, 10,      8,     29,2,19970803,0657, 22.7460,-158.0093, 4725,    120.7,  21.9478,  35.0775,2,  35.0766,2,    202.0,1,   -999.0,9,  -999.00,9,  -999.00,9,  -999.00,9,    121,-999.000,  -999.0, 21.9239
     32MW086_1,  PRS2,     2, 10,      5,     38,2,19970803,0657, 22.7460,-158.0093, 4725,    123.8,  21.8256,  35.0811,2,  35.0825,2,    201.6,1,   -999.0,9,  -999.00,9,  -999.00,9,  -999.00,9,    124,-999.000,  -999.0, 21.8012
     32MW086_1,  PRS2,     2, 10,      4,     36,2,19970803,0657, 22.7460,-158.0093, 4725,    149.4,  20.8160,  35.0893,2,  35.0899,2,    191.6,1,   -999.0,9,  -999.00,9,  -999.00,9,  -999.00,9,    150,-999.000,  -999.0, 20.7876
     32MW086_1,  PRS2,     2, 10,      3,     35,2,19970803,0657, 22.7460,-158.0093, 4725,    173.8,  19.6923,  35.0389,2,  35.0409,2,    189.7,1,   -999.0,9,  -999.00,9,  -999.00,9,  -999.00,9,    173,-999.000,  -999.0, 19.6605
     32MW086_1,  PRS2,     2, 10,      2,     34,2,19970803,0657, 22.7460,-158.0093, 4725,    499.3,   7.3744,  34.0300,2,  34.0295,2,    145.7,1,   -999.0,9,  -999.00,9,  -999.00,9,  -999.00,9,    499,-999.000,  -999.0,  7.3260
     32MW086_1,  PRS2,     2, 10,      1,     33,2,19970803,0657, 22.7460,-158.0093, 4725,   1021.4,   4.0349,  34.4858,2,  34.4877,2,     39.5,1,   -999.0,9,  -999.00,9,  -999.00,9,  -999.00,9,   1022,-999.000,  -999.0,  3.9572