BOTTLE,20020809WHPSIObren
EXPOCODE,SECT_ID,STNNBR,CASTNO,SAMPNO,BTLNBR,BTLNBR_FLAG_W,DATE,TIME,LATITUDE,LONGITUDE,DEPTH,CTDPRS,CTDTMP,CTDSAL,CTDSAL_FLAG_W,SALNTY,SALNTY_FLAG_W,CTDOXY,CTDOXY_FLAG_W,OXYGEN,OXYGEN_FLAG_W,SILCAT,SILCAT_FLAG_W,NO2+NO3,NO2+NO3_FLAG_W,PHSPHT,PHSPHT_FLAG_W,CTDRAW,REVTMP,REVPRS,THETA
,,,,,,,,,,,,DBAR,ITS-90,PSS-78,,PSS-78,,UMOL/KG,,UMOL/KG,,UMOL/KG,,UMOL/KG,,UMOL/KG,,,DEG C,DBAR,ITS-90
     32MW086_1,  PRS2,     8,  1,     19,     19,2,19970804,0229, 22.4763,-158.1333, 4830,      4.2,  26.1587,  35.0165,2,  35.0150,2,    205.4,2,    205.2,2,  -999.00,9,  -999.00,9,  -999.00,9,      4,-999.000,  -999.0, 26.1577
     32MW086_1,  PRS2,     8,  1,     18,     18,2,19970804,0229, 22.4763,-158.1333, 4830,     24.8,  26.0310,  35.0456,2,  35.0322,2,    206.0,2,   -999.0,5,  -999.00,9,  -999.00,9,  -999.00,9,     25,-999.000,  -999.0, 26.0255
     32MW086_1,  PRS2,     8,  1,     17,     17,2,19970804,0229, 22.4763,-158.1333, 4830,     44.4,  25.7595,  35.1063,2,  35.1063,2,    208.5,2,   -999.0,5,  -999.00,9,  -999.00,9,  -999.00,9,     44,-999.000,  -999.0, 25.7497
     32MW086_1,  PRS2,     8,  1,     16,     16,2,19970804,0229, 22.4763,-158.1333, 4830,     50.2,  25.4540,  35.1115,2,  35.1080,2,    210.8,2,   -999.0,5,  -999.00,9,  -999.00,9,  -999.00,9,     51,-999.000,  -999.0, 25.4430
     32MW086_1,  PRS2,     8,  1,     15,     15,2,19970804,0229, 22.4763,-158.1333, 4830,     54.6,  25.1983,  35.1106,2,  35.1105,2,    212.0,2,   -999.0,5,  -999.00,9,  -999.00,9,  -999.00,9,     54,-999.000,  -999.0, 25.1864
     32MW086_1,  PRS2,     8,  1,     14,     14,2,19970804,0229, 22.4763,-158.1333, 4830,     74.5,  23.7101,  35.0409,2,  35.0409,2,    224.0,2,    224.7,2,  -999.00,9,  -999.00,9,  -999.00,9,     75,-999.000,  -999.0, 23.6945
     32MW086_1,  PRS2,     8,  1,     13,     13,2,19970804,0229, 22.4763,-158.1333, 4830,     89.1,  23.1851,  35.0489,2,  35.0465,2,    220.4,2,   -999.0,5,  -999.00,9,  -999.00,9,  -999.00,9,     90,-999.000,  -999.0, 23.1668
     32MW086_1,  PRS2,     8,  1,     12,     12,2,19970804,0229, 22.4763,-158.1333, 4830,     99.1,  22.8480,  35.0600,2,  35.0598,2,    217.1,2,   -999.0,5,  -999.00,9,  -999.00,9,  -999.00,9,    100,-999.000,  -999.0, 22.8279
     32MW086_1,  PRS2,     8,  1,     11,     11,2,19970804,0229, 22.4763,-158.1333, 4830,    110.5,  22.0464,  35.0599,2,  35.0579,2,    210.6,2,   -999.0,5,  -999.00,9,  -999.00,9,  -999.00,9,    111,-999.000,  -999.0, 22.0245
     32MW086_1,  PRS2,     8,  1,     10,     32,2,19970804,0229, 22.4763,-158.1333, 4830,    124.4,  21.5742,  35.0635,2,  35.0632,2,    209.2,2,    208.4,2,  -999.00,9,  -999.00,9,  -999.00,9,    124,-999.000,  -999.0, 21.5500
     32MW086_1,  PRS2,     8,  1,      9,      3,2,19970804,0229, 22.4763,-158.1333, 4830,    127.9,  21.5231,  35.0634,2,  35.0638,2,    209.2,2,   -999.0,5,  -999.00,9,  -999.00,9,  -999.00,9,    128,-999.000,  -999.0, 21.4982
     32MW086_1,  PRS2,     8,  1,      8,     29,2,19970804,0229, 22.4763,-158.1333, 4830,    139.6,  21.3031,  35.0797,2,  35.0785,2,    205.0,2,   -999.0,5,  -999.00,9,  -999.00,9,  -999.00,9,    140,-999.000,  -999.0, 21.2761
     32MW086_1,  PRS2,     8,  1,      6,      7,2,19970804,0229, 22.4763,-158.1333, 4830,    153.3,  20.9189,  35.0877,2,  35.0882,2,    197.5,2,   -999.0,5,  -999.00,9,  -999.00,9,  -999.00,9,    153,-999.000,  -999.0, 20.8896
     32MW086_1,  PRS2,     8,  1,      7,     28,2,19970804,0229, 22.4763,-158.1333, 4830,    153.7,  20.9111,  35.0877,2,  35.0880,2,    197.5,2,   -999.0,5,  -999.00,9,  -999.00,9,  -999.00,9,    154,-999.000,  -999.0, 20.8818
     32MW086_1,  PRS2,     8,  1,      5,     38,2,19970804,0229, 22.4763,-158.1333, 4830,    176.4,  20.0148,  35.0303,2,  35.0308,2,    194.6,2,    194.9,2,  -999.00,9,  -999.00,9,  -999.00,9,    176,-999.000,  -999.0, 19.9821
     32MW086_1,  PRS2,     8,  1,      4,     36,2,19970804,0229, 22.4763,-158.1333, 4830,    251.9,  16.9552,  34.7588,2,  34.7664,2,    195.9,2,    195.9,2,  -999.00,9,  -999.00,9,  -999.00,9,    252,-999.000,  -999.0, 16.9137
     32MW086_1,  PRS2,     8,  1,      3,     35,2,19970804,0229, 22.4763,-158.1333, 4830,    500.1,   7.1964,  34.0267,2,  34.0288,2,    137.1,2,    137.2,2,  -999.00,9,  -999.00,9,  -999.00,9,    501,-999.000,  -999.0,  7.1485
     32MW086_1,  PRS2,     8,  1,      2,     34,2,19970804,0229, 22.4763,-158.1333, 4830,    798.3,   4.7192,  34.3593,2,  34.3574,2,     26.2,2,     26.2,2,  -999.00,9,  -999.00,9,  -999.00,9,    798,-999.000,  -999.0,  4.6558
     32MW086_1,  PRS2,     8,  1,      1,     33,2,19970804,0229, 22.4763,-158.1333, 4830,   1024.4,   4.0579,  34.4866,2,  34.4871,2,     39.2,2,     39.2,2,  -999.00,9,  -999.00,9,  -999.00,9,   1024,-999.000,  -999.0,  3.9798