BOTTLE,20020809WHPSIObren
EXPOCODE,SECT_ID,STNNBR,CASTNO,SAMPNO,BTLNBR,BTLNBR_FLAG_W,DATE,TIME,LATITUDE,LONGITUDE,DEPTH,CTDPRS,CTDTMP,CTDSAL,CTDSAL_FLAG_W,SALNTY,SALNTY_FLAG_W,CTDOXY,CTDOXY_FLAG_W,OXYGEN,OXYGEN_FLAG_W,SILCAT,SILCAT_FLAG_W,NO2+NO3,NO2+NO3_FLAG_W,PHSPHT,PHSPHT_FLAG_W,CTDRAW,REVTMP,REVPRS,THETA
,,,,,,,,,,,,DBAR,ITS-90,PSS-78,,PSS-78,,UMOL/KG,,UMOL/KG,,UMOL/KG,,UMOL/KG,,UMOL/KG,,,DEG C,DBAR,ITS-90
     32MW086_1,  PRS2,     2, 11,     24,     31,2,19970803,0958, 22.7487,-157.9950, 4725,      4.1,  25.8491,  35.0971,2,  35.0963,2,    207.1,1,   -999.0,9,  -999.00,9,  -999.00,9,  -999.00,9,      5,-999.000,  -999.0, 25.8482
     32MW086_1,  PRS2,     2, 11,     23,     30,2,19970803,0958, 22.7487,-157.9950, 4725,     25.2,  25.8575,  35.0965,2,  35.0960,2,    207.1,1,   -999.0,9,  -999.00,9,  -999.00,9,  -999.00,9,     26,-999.000,  -999.0, 25.8519
     32MW086_1,  PRS2,     2, 11,     22,     22,2,19970803,0958, 22.7487,-157.9950, 4725,     25.2,  25.8565,  35.0963,2,  35.0992,2,    207.1,1,   -999.0,9,  -999.00,9,  -999.00,9,  -999.00,9,     25,-999.000,  -999.0, 25.8510
     32MW086_1,  PRS2,     2, 11,     21,     21,2,19970803,0958, 22.7487,-157.9950, 4725,     45.6,  25.4815,  35.0996,2,  35.1010,2,    208.9,1,   -999.0,9,  -999.00,9,  -999.00,9,  -999.00,9,     46,-999.000,  -999.0, 25.4715
     32MW086_1,  PRS2,     2, 11,     20,     20,2,19970803,0958, 22.7487,-157.9950, 4725,     74.9,  23.6172,  35.0483,2,-999.0000,5,    221.3,1,   -999.0,9,  -999.00,9,  -999.00,9,  -999.00,9,     75,-999.000,  -999.0, 23.6016
     32MW086_1,  PRS2,     2, 11,     19,     19,2,19970803,0958, 22.7487,-157.9950, 4725,    100.0,  22.5271,  35.0605,2,  35.0617,2,    211.6,1,   -999.0,9,  -999.00,9,  -999.00,9,  -999.00,9,    101,-999.000,  -999.0, 22.5070
     32MW086_1,  PRS2,     2, 11,     18,     18,2,19970803,0958, 22.7487,-157.9950, 4725,    100.2,  22.5219,  35.0602,2,  35.0607,2,    211.5,1,   -999.0,9,  -999.00,9,  -999.00,9,  -999.00,9,    101,-999.000,  -999.0, 22.5017
     32MW086_1,  PRS2,     2, 11,     15,     15,2,19970803,0958, 22.7487,-157.9950, 4725,    119.6,  21.5168,  35.0907,2,  35.0903,2,    196.1,1,   -999.0,9,  -999.00,9,  -999.00,9,  -999.00,9,    120,-999.000,  -999.0, 21.4936
     32MW086_1,  PRS2,     2, 11,     17,     17,2,19970803,0958, 22.7487,-157.9950, 4725,    119.8,  21.5206,  35.0904,2,  35.0903,2,    196.7,1,   -999.0,9,  -999.00,9,  -999.00,9,  -999.00,9,    120,-999.000,  -999.0, 21.4973
     32MW086_1,  PRS2,     2, 11,     16,     16,2,19970803,0958, 22.7487,-157.9950, 4725,    119.8,  21.5205,  35.0902,2,  35.0900,2,    196.3,1,   -999.0,9,  -999.00,9,  -999.00,9,  -999.00,9,    121,-999.000,  -999.0, 21.4972
     32MW086_1,  PRS2,     2, 11,     14,     14,2,19970803,0958, 22.7487,-157.9950, 4725,    125.3,  21.3616,  35.0925,2,  35.0926,2,    196.0,1,   -999.0,9,  -999.00,9,  -999.00,9,  -999.00,9,    125,-999.000,  -999.0, 21.3373
     32MW086_1,  PRS2,     2, 11,     12,     12,2,19970803,0958, 22.7487,-157.9950, 4725,    150.3,  20.5336,  35.0832,2,  35.0841,2,    191.9,1,   -999.0,9,  -999.00,9,  -999.00,9,  -999.00,9,    150,-999.000,  -999.0, 20.5053
     32MW086_1,  PRS2,     2, 11,     13,     13,2,19970803,0958, 22.7487,-157.9950, 4725,    150.4,  20.5360,  35.0835,2,  35.0841,2,    192.1,1,   -999.0,9,  -999.00,9,  -999.00,9,  -999.00,9,    151,-999.000,  -999.0, 20.5076
     32MW086_1,  PRS2,     2, 11,     10,     32,2,19970803,0958, 22.7487,-157.9950, 4725,    175.1,  19.3578,  35.0098,2,  35.0167,2,    191.3,1,   -999.0,9,  -999.00,9,  -999.00,9,  -999.00,9,    176,-999.000,  -999.0, 19.3261
     32MW086_1,  PRS2,     2, 11,     11,     11,2,19970803,0958, 22.7487,-157.9950, 4725,    175.5,  19.3420,  35.0083,2,  35.0138,2,    191.1,1,   -999.0,9,  -999.00,9,  -999.00,9,  -999.00,9,    176,-999.000,  -999.0, 19.3104
     32MW086_1,  PRS2,     2, 11,      9,      3,2,19970803,0958, 22.7487,-157.9950, 4725,    199.6,  18.3731,  34.9283,2,  34.9335,2,    200.3,1,   -999.0,9,  -999.00,9,  -999.00,9,  -999.00,9,    200,-999.000,  -999.0, 18.3383
     32MW086_1,  PRS2,     2, 11,      8,     29,2,19970803,0958, 22.7487,-157.9950, 4725,    249.1,  15.8015,  34.6170,2,  34.6164,2,    192.8,1,   -999.0,9,  -999.00,9,  -999.00,9,  -999.00,9,    249,-999.000,  -999.0, 15.7625
     32MW086_1,  PRS2,     2, 11,      7,     28,2,19970803,0958, 22.7487,-157.9950, 4725,    249.4,  15.7927,  34.6153,2,  34.6165,2,    192.9,1,   -999.0,9,  -999.00,9,  -999.00,9,  -999.00,9,    250,-999.000,  -999.0, 15.7536
     32MW086_1,  PRS2,     2, 11,      5,     38,2,19970803,0958, 22.7487,-157.9950, 4725,    500.7,   7.2206,  34.0282,2,  34.0277,2,    139.0,1,   -999.0,9,  -999.00,9,  -999.00,9,  -999.00,9,    501,-999.000,  -999.0,  7.1726
     32MW086_1,  PRS2,     2, 11,      6,      7,2,19970803,0958, 22.7487,-157.9950, 4725,    501.0,   7.2185,  34.0282,2,  34.0293,2,    139.2,1,   -999.0,9,  -999.00,9,  -999.00,9,  -999.00,9,    500,-999.000,  -999.0,  7.1705
     32MW086_1,  PRS2,     2, 11,      4,     36,2,19970803,0958, 22.7487,-157.9950, 4725,    749.9,   4.6539,  34.2682,2,  34.2686,2,     23.7,1,   -999.0,9,  -999.00,9,  -999.00,9,  -999.00,9,    750,-999.000,  -999.0,  4.5951
     32MW086_1,  PRS2,     2, 11,      3,     35,2,19970803,0958, 22.7487,-157.9950, 4725,    749.9,   4.6532,  34.2683,2,  34.2667,2,     23.7,1,   -999.0,9,  -999.00,9,  -999.00,9,  -999.00,9,    750,-999.000,  -999.0,  4.5944
     32MW086_1,  PRS2,     2, 11,      1,     33,2,19970803,0958, 22.7487,-157.9950, 4725,   1020.3,   4.0578,  34.4844,2,  34.4835,2,     39.4,1,   -999.0,9,  -999.00,9,  -999.00,9,  -999.00,9,   1021,-999.000,  -999.0,  3.9800
     32MW086_1,  PRS2,     2, 11,      2,     34,2,19970803,0958, 22.7487,-157.9950, 4725,   1020.4,   4.0532,  34.4846,2,  34.4844,2,     39.4,1,   -999.0,9,  -999.00,9,  -999.00,9,  -999.00,9,   1020,-999.000,  -999.0,  3.9755
     32MW086_1,  PRS2,     2, 12,     24,     31,2,19970803,1259, 22.7508,-157.9967, 4725,      4.9,  25.8308,  35.1036,2,  35.1274,4,    206.0,3,    206.1,2,     1.05,2,     0.00,2,     0.07,2,      5,-999.000,  -999.0, 25.8297
     32MW086_1,  PRS2,     2, 12,     23,     30,2,19970803,1259, 22.7508,-157.9967, 4725,     51.3,  25.7996,  35.1006,2,  35.1023,2,    207.0,2,    206.7,2,     0.91,2,     0.03,2,     0.06,2,     51,-999.000,  -999.0, 25.7882
     32MW086_1,  PRS2,     2, 12,     22,     22,2,19970803,1259, 22.7508,-157.9967, 4725,     90.4,  23.4423,  35.0412,2,  35.0454,2,    221.1,2,    222.3,2,     0.98,2,     0.01,2,     0.05,2,     91,-999.000,  -999.0, 23.4236
     32MW086_1,  PRS2,     2, 12,     21,     21,2,19970803,1259, 22.7508,-157.9967, 4725,    130.7,  22.0319,  35.0556,2,  35.0577,2,    209.6,2,    210.5,2,     1.17,2,     0.00,2,     0.07,2,    131,-999.000,  -999.0, 22.0060
     32MW086_1,  PRS2,     2, 12,     20,     20,2,19970803,1259, 22.7508,-157.9967, 4725,    141.6,  21.6037,  35.0716,2,  35.0755,2,    202.7,2,    204.8,2,     1.27,2,     0.19,2,     0.10,2,    141,-999.000,  -999.0, 21.5760
     32MW086_1,  PRS2,     2, 12,     19,     19,2,19970803,1259, 22.7508,-157.9967, 4725,    190.5,  19.5652,  35.0285,2,  35.0296,2,    189.9,2,    192.0,2,     2.03,2,     1.90,2,     0.21,2,    191,-999.000,  -999.0, 19.5305
     32MW086_1,  PRS2,     2, 12,     18,     18,2,19970803,1259, 22.7508,-157.9967, 4725,    227.7,  18.0020,  34.8930,2,  34.8938,2,    200.2,2,    199.7,2,     3.36,2,     2.59,2,     0.25,2,    228,-999.000,  -999.0, 17.9629
     32MW086_1,  PRS2,     2, 12,     17,     17,2,19970803,1259, 22.7508,-157.9967, 4725,    275.3,  16.0762,  34.6546,2,  34.6370,2,    195.3,2,    197.5,2,     4.72,2,     4.85,2,     0.40,2,    276,-999.000,  -999.0, 16.0325
     32MW086_1,  PRS2,     2, 12,     16,     16,2,19970803,1259, 22.7508,-157.9967, 4725,    329.9,  12.0706,  34.2199,2,  34.2216,2,    193.3,2,    194.9,2,    10.44,2,    11.05,2,     0.81,2,    330,-999.000,  -999.0, 12.0275
     32MW086_1,  PRS2,     2, 12,     15,     15,2,19970803,1259, 22.7508,-157.9967, 4725,    368.7,  10.4321,  34.1129,2,  34.1158,2,    189.0,2,    191.5,2,    15.92,2,    15.15,2,     1.08,2,    369,-999.000,  -999.0, 10.3883
     32MW086_1,  PRS2,     2, 12,     14,     14,2,19970803,1259, 22.7508,-157.9967, 4725,    428.8,   8.7442,  34.0714,2,  34.0733,2,    181.3,2,    181.3,2,    25.51,2,    19.96,2,     1.38,2,    429,-999.000,  -999.0,  8.6983
     32MW086_1,  PRS2,     2, 12,     13,     13,2,19970803,1259, 22.7508,-157.9967, 4725,    500.7,   7.0282,  34.0248,2,  34.0266,2,    137.3,2,    133.5,2,    45.07,2,    28.06,2,     1.98,2,    500,-999.000,  -999.0,  6.9810
     32MW086_1,  PRS2,     2, 12,     12,     12,2,19970803,1259, 22.7508,-157.9967, 4725,    530.0,   6.5333,  34.0269,2,  34.0280,2,    117.0,2,    115.3,2,    52.05,2,    30.53,2,     2.41,2,    529,-999.000,  -999.0,  6.4851
     32MW086_1,  PRS2,     2, 12,     11,     11,2,19970803,1259, 22.7508,-157.9967, 4725,    547.7,   6.2988,  34.0484,2,  34.0462,2,    103.6,2,     97.8,2,    55.48,2,    31.33,2,     2.27,2,    549,-999.000,  -999.0,  6.2499
     32MW086_1,  PRS2,     2, 12,     10,     32,2,19970803,1259, 22.7508,-157.9967, 4725,    592.0,   5.9187,  34.1042,2,  34.1049,2,     69.5,2,     63.6,2,    67.22,2,    36.57,2,     2.61,2,    592,-999.000,  -999.0,  5.8673
     32MW086_1,  PRS2,     2, 12,      9,      3,2,19970803,1259, 22.7508,-157.9967, 4725,    629.9,   5.4429,  34.1445,2,  34.1525,2,     49.9,2,     43.4,2,    77.18,2,    38.59,2,     2.80,2,    629,-999.000,  -999.0,  5.3903
     32MW086_1,  PRS2,     2, 12,      8,     29,2,19970803,1259, 22.7508,-157.9967, 4725,    696.8,   4.9832,  34.1972,2,  34.2015,2,     33.4,2,     31.0,2,    87.79,2,    40.42,2,     2.94,2,    697,-999.000,  -999.0,  4.9271
     32MW086_1,  PRS2,     2, 12,      7,     28,2,19970803,1259, 22.7508,-157.9967, 4725,    739.1,   4.6272,  34.2765,2,  34.2756,2,     23.6,2,     22.5,2,    96.43,2,    41.65,2,     3.04,2,    739,-999.000,  -999.0,  4.5694
     32MW086_1,  PRS2,     2, 12,      6,      7,2,19970803,1259, 22.7508,-157.9967, 4725,    749.6,   4.5915,  34.2933,2,  34.2980,2,     23.6,2,     22.8,2,    97.77,2,    41.78,2,     3.04,2,    749,-999.000,  -999.0,  4.5331
     32MW086_1,  PRS2,     2, 12,      5,     38,2,19970803,1259, 22.7508,-157.9967, 4725,    798.7,   4.5264,  34.3722,2,  34.3745,2,     26.0,2,     25.9,2,   100.08,2,    41.77,2,     3.06,2,    798,-999.000,  -999.0,  4.4641
     32MW086_1,  PRS2,     2, 12,      4,     36,2,19970803,1259, 22.7508,-157.9967, 4725,    836.5,   4.5176,  34.4061,2,  34.4044,2,     28.3,2,     28.8,2,    99.90,2,    41.76,2,     3.05,2,    836,-999.000,  -999.0,  4.4521
     32MW086_1,  PRS2,     2, 12,      3,     35,2,19970803,1259, 22.7508,-157.9967, 4725,    899.8,   4.3599,  34.4395,2,  34.4402,2,     32.8,2,     32.2,2,   108.17,2,    41.83,2,     3.03,2,    900,-999.000,  -999.0,  4.2901
     32MW086_1,  PRS2,     2, 12,      2,     34,2,19970803,1259, 22.7508,-157.9967, 4725,    949.8,   4.2693,  34.4588,2,  34.4593,2,     34.7,2,     34.3,2,   104.71,2,    41.91,2,     3.04,2,    950,-999.000,  -999.0,  4.1959
     32MW086_1,  PRS2,     2, 12,      1,     33,2,19970803,1259, 22.7508,-157.9967, 4725,   1021.1,   4.0807,  34.4827,2,  34.4832,2,     38.8,2,     39.1,2,   103.58,2,    41.84,2,     3.05,2,   1021,-999.000,  -999.0,  4.0027
     32MW086_1,  PRS2,     2, 13,     24,     31,2,19970803,1546, 22.8173,-158.0028, 4700,      4.8,  25.8222,  35.1150,2,  35.1180,2,    207.0,2,    206.0,2,     1.01,2,     0.00,2,     0.07,2,      5,-999.000,  -999.0, 25.8212
     32MW086_1,  PRS2,     2, 13,     23,     30,2,19970803,1546, 22.8173,-158.0028, 4700,     77.2,  24.2897,  35.0686,2,  35.0700,2,    219.4,2,    221.7,2,     1.00,2,     0.00,2,     0.05,2,     77,-999.000,  -999.0, 24.2733
     32MW086_1,  PRS2,     2, 13,     22,     22,2,19970803,1546, 22.8173,-158.0028, 4700,    500.7,   7.6561,  34.0437,2,  34.0471,2,    152.4,2,    147.4,2,    36.96,2,    24.72,2,     1.73,2,    501,-999.000,  -999.0,  7.6064
     32MW086_1,  PRS2,     2, 13,     21,     21,2,19970803,1546, 22.8173,-158.0028, 4700,    770.6,   4.7227,  34.3086,2,  34.3065,2,     24.2,2,     23.8,2,    97.70,2,    40.83,2,     2.96,2,    771,-999.000,  -999.0,  4.6617
     32MW086_1,  PRS2,     2, 13,     20,     20,2,19970803,1546, 22.8173,-158.0028, 4700,   1200.6,   3.5638,  34.5250,2,  34.5262,2,     48.6,2,     48.9,2,   119.71,2,    41.35,2,     2.97,2,   1201,-999.000,  -999.0,  3.4751
     32MW086_1,  PRS2,     2, 13,     19,     19,2,19970803,1546, 22.8173,-158.0028, 4700,   1399.1,   3.1294,  34.5553,2,  34.5564,2,     57.6,2,     57.6,2,   128.17,2,    41.12,2,     2.95,2,   1399,-999.000,  -999.0,  3.0286
     32MW086_1,  PRS2,     2, 13,     18,     18,2,19970803,1546, 22.8173,-158.0028, 4700,   1600.7,   2.7150,  34.5822,2,  34.5837,2,     67.6,2,     68.3,2,   137.52,2,    40.68,2,     2.90,2,   1601,-999.000,  -999.0,  2.6021
     32MW086_1,  PRS2,     2, 13,     17,     17,2,19970803,1546, 22.8173,-158.0028, 4700,   1801.3,   2.4044,  34.6022,2,  34.6026,2,     77.0,2,     77.2,2,   145.81,2,    40.30,2,     2.85,2,   1801,-999.000,  -999.0,  2.2789
     32MW086_1,  PRS2,     2, 13,     16,     16,2,19970803,1546, 22.8173,-158.0028, 4700,   1999.6,   2.1630,  34.6171,2,  34.6195,2,     84.1,2,     84.5,2,   150.89,2,    39.87,2,     2.82,2,   1999,-999.000,  -999.0,  2.0241
     32MW086_1,  PRS2,     2, 13,     15,     15,2,19970803,1546, 22.8173,-158.0028, 4700,   2201.0,   1.9571,  34.6318,2,  34.6321,2,     91.4,2,     91.5,2,   156.51,2,    39.49,2,     2.78,2,   2201,-999.000,  -999.0,  1.8042
     32MW086_1,  PRS2,     2, 13,     14,     14,2,19970803,1546, 22.8173,-158.0028, 4700,   2400.8,   1.7929,  34.6451,2,  34.6464,2,     99.6,2,    100.5,2,   158.81,2,    38.98,2,     2.75,2,   2401,-999.000,  -999.0,  1.6254
     32MW086_1,  PRS2,     2, 13,     13,     13,2,19970803,1546, 22.8173,-158.0028, 4700,   2600.4,   1.6823,  34.6553,2,  34.6571,2,    107.4,2,    108.8,2,   160.38,2,    38.47,2,     2.70,2,   2600,-999.000,  -999.0,  1.4989
     32MW086_1,  PRS2,     2, 13,     12,     12,2,19970803,1546, 22.8173,-158.0028, 4700,   2800.9,   1.6103,  34.6637,2,  34.6642,2,    115.9,2,    116.5,2,   159.85,2,    37.96,2,     2.67,2,   2800,-999.000,  -999.0,  1.4099
     32MW086_1,  PRS2,     2, 13,     11,     11,2,19970803,1546, 22.8173,-158.0028, 4700,   3000.7,   1.5478,  34.6712,2,  34.6712,2,    123.6,2,    124.6,2,   158.96,2,    37.33,2,     2.62,2,   3000,-999.000,  -999.0,  1.3299
     32MW086_1,  PRS2,     2, 13,     10,     32,2,19970803,1546, 22.8173,-158.0028, 4700,   3199.9,   1.5202,  34.6755,2,  34.6744,2,    128.2,2,    129.0,2,   157.84,2,    36.93,2,     2.60,2,   3198,-999.000,  -999.0,  1.2836
     32MW086_1,  PRS2,     2, 13,      9,      3,2,19970803,1546, 22.8173,-158.0028, 4700,   3399.8,   1.4897,  34.6795,2,  34.6794,2,    133.6,2,    134.7,2,   156.45,2,    36.99,2,     2.58,2,   3399,-999.000,  -999.0,  1.2340
     32MW086_1,  PRS2,     2, 13,      8,     29,2,19970803,1546, 22.8173,-158.0028, 4700,   3600.0,   1.4641,  34.6837,2,  34.6832,2,    139.9,2,    140.4,2,   154.79,2,    36.55,2,     2.53,2,   3600,-999.000,  -999.0,  1.1886
     32MW086_1,  PRS2,     2, 13,      7,     28,2,19970803,1546, 22.8173,-158.0028, 4700,   3800.3,   1.4558,  34.6861,2,  34.6854,2,    143.5,2,    144.3,2,   153.31,2,    36.20,2,     2.50,2,   3800,-999.000,  -999.0,  1.1595
     32MW086_1,  PRS2,     2, 13,      6,      7,2,19970803,1546, 22.8173,-158.0028, 4700,   4002.0,   1.4539,  34.6882,2,  34.6889,2,    147.4,2,    147.6,2,   151.62,2,    36.02,2,     2.50,2,   4002,-999.000,  -999.0,  1.1360
     32MW086_1,  PRS2,     2, 13,      5,     38,2,19970803,1546, 22.8173,-158.0028, 4700,   4201.8,   1.4605,  34.6898,2,  34.6890,2,    150.2,2,    149.8,2,   150.54,2,    35.81,2,     2.47,2,   4202,-999.000,  -999.0,  1.1205
     32MW086_1,  PRS2,     2, 13,      4,     36,2,19970803,1546, 22.8173,-158.0028, 4700,   4401.0,   1.4750,  34.6906,2,  34.6904,2,    151.6,2,    150.7,2,   149.57,2,    35.87,2,     2.49,2,   4400,-999.000,  -999.0,  1.1121
     32MW086_1,  PRS2,     2, 13,      3,     35,2,19970803,1546, 22.8173,-158.0028, 4700,   4501.1,   1.4839,  34.6908,2,  34.6902,2,    152.0,2,    151.8,2,   148.89,2,    35.85,2,     2.48,2,   4501,-999.000,  -999.0,  1.1093
     32MW086_1,  PRS2,     2, 13,      2,     34,2,19970803,1546, 22.8173,-158.0028, 4700,   4601.2,   1.4918,  34.6912,2,  34.6900,2,    153.2,2,    152.1,2,   149.11,2,    35.87,2,     2.48,2,   4600,-999.000,  -999.0,  1.1053
     32MW086_1,  PRS2,     2, 13,      1,     33,2,19970803,1546, 22.8173,-158.0028, 4700,   4776.2,   1.5038,  34.6922,2,  34.6916,2,    154.9,2,    153.5,2,   147.62,2,    35.71,2,     2.46,2,   4776,-999.000,  -999.0,  1.0963