BOTTLE,20020809WHPSIObren
EXPOCODE,SECT_ID,STNNBR,CASTNO,SAMPNO,BTLNBR,BTLNBR_FLAG_W,DATE,TIME,LATITUDE,LONGITUDE,DEPTH,CTDPRS,CTDTMP,CTDSAL,CTDSAL_FLAG_W,SALNTY,SALNTY_FLAG_W,CTDOXY,CTDOXY_FLAG_W,OXYGEN,OXYGEN_FLAG_W,SILCAT,SILCAT_FLAG_W,NO2+NO3,NO2+NO3_FLAG_W,PHSPHT,PHSPHT_FLAG_W,CTDRAW,REVTMP,REVPRS,THETA
,,,,,,,,,,,,DBAR,ITS-90,PSS-78,,PSS-78,,UMOL/KG,,UMOL/KG,,UMOL/KG,,UMOL/KG,,UMOL/KG,,,DEG C,DBAR,ITS-90
     32MW086_1,  PRS2,     2,  3,     22,     22,2,19970802,0959, 22.7622,-158.0075, 4720,      4.5,  25.8678,  35.1267,2,  35.1249,2,    206.6,1,   -999.0,9,  -999.00,9,  -999.00,9,  -999.00,9,      5,-999.000,  -999.0, 25.8668
     32MW086_1,  PRS2,     2,  3,     21,     21,2,19970802,0959, 22.7622,-158.0075, 4720,      9.5,  25.8677,  35.1261,2,  35.1244,2,    206.6,1,   -999.0,9,  -999.00,9,  -999.00,9,  -999.00,9,     10,-999.000,  -999.0, 25.8656
     32MW086_1,  PRS2,     2,  3,     20,     20,2,19970802,0959, 22.7622,-158.0075, 4720,      9.5,  25.8669,  35.1262,2,  35.1249,2,    206.6,1,   -999.0,9,  -999.00,9,  -999.00,9,  -999.00,9,      9,-999.000,  -999.0, 25.8648
     32MW086_1,  PRS2,     2,  3,     19,     19,2,19970802,0959, 22.7622,-158.0075, 4720,     20.5,  25.8654,  35.1260,2,  35.1254,2,    206.9,1,   -999.0,9,  -999.00,9,  -999.00,9,  -999.00,9,     21,-999.000,  -999.0, 25.8608
     32MW086_1,  PRS2,     2,  3,     18,     18,2,19970802,0959, 22.7622,-158.0075, 4720,     20.5,  25.8657,  35.1257,2,  35.1245,2,    206.9,1,   -999.0,9,  -999.00,9,  -999.00,9,  -999.00,9,     21,-999.000,  -999.0, 25.8611
     32MW086_1,  PRS2,     2,  3,     17,     17,2,19970802,0959, 22.7622,-158.0075, 4720,     30.4,  25.8538,  35.1258,2,  35.1249,2,    206.9,1,   -999.0,9,  -999.00,9,  -999.00,9,  -999.00,9,     31,-999.000,  -999.0, 25.8471
     32MW086_1,  PRS2,     2,  3,     16,     16,2,19970802,0959, 22.7622,-158.0075, 4720,     30.4,  25.8498,  35.1262,2,  35.1242,2,    206.9,1,   -999.0,9,  -999.00,9,  -999.00,9,  -999.00,9,     31,-999.000,  -999.0, 25.8430
     32MW086_1,  PRS2,     2,  3,     14,     14,2,19970802,0959, 22.7622,-158.0075, 4720,     40.0,  25.7171,  35.1232,2,  35.1241,2,    207.6,1,   -999.0,9,  -999.00,9,  -999.00,9,  -999.00,9,     40,-999.000,  -999.0, 25.7083
     32MW086_1,  PRS2,     2,  3,     15,     15,2,19970802,0959, 22.7622,-158.0075, 4720,     40.1,  25.6830,  35.1218,2,  35.1238,2,    207.4,1,   -999.0,9,  -999.00,9,  -999.00,9,  -999.00,9,     40,-999.000,  -999.0, 25.6742
     32MW086_1,  PRS2,     2,  3,     13,     13,2,19970802,0959, 22.7622,-158.0075, 4720,     50.3,  25.1915,  35.1209,2,  35.1212,2,    213.2,1,   -999.0,9,  -999.00,9,  -999.00,9,  -999.00,9,     50,-999.000,  -999.0, 25.1805
     32MW086_1,  PRS2,     2,  3,     12,     12,2,19970802,0959, 22.7622,-158.0075, 4720,     50.3,  25.1928,  35.1208,2,  35.1215,2,    213.3,1,   -999.0,9,  -999.00,9,  -999.00,9,  -999.00,9,     51,-999.000,  -999.0, 25.1818
     32MW086_1,  PRS2,     2,  3,     10,     32,2,19970802,0959, 22.7622,-158.0075, 4720,     60.1,  24.6645,  35.0825,2,  35.0864,2,    216.4,1,   -999.0,9,  -999.00,9,  -999.00,9,  -999.00,9,     60,-999.000,  -999.0, 24.6515
     32MW086_1,  PRS2,     2,  3,     11,     11,2,19970802,0959, 22.7622,-158.0075, 4720,     60.3,  24.6618,  35.0820,2,  35.0846,2,    216.2,1,   -999.0,9,  -999.00,9,  -999.00,9,  -999.00,9,     60,-999.000,  -999.0, 24.6488
     32MW086_1,  PRS2,     2,  3,      8,     29,2,19970802,0959, 22.7622,-158.0075, 4720,     69.6,  24.1119,  35.0493,2,  35.0527,2,    221.1,1,   -999.0,9,  -999.00,9,  -999.00,9,  -999.00,9,     70,-999.000,  -999.0, 24.0972
     32MW086_1,  PRS2,     2,  3,      9,      3,2,19970802,0959, 22.7622,-158.0075, 4720,     69.7,  24.1153,  35.0500,2,  35.0512,2,    220.9,1,   -999.0,9,  -999.00,9,  -999.00,9,  -999.00,9,     70,-999.000,  -999.0, 24.1006
     32MW086_1,  PRS2,     2,  3,      7,     28,2,19970802,0959, 22.7622,-158.0075, 4720,     80.1,  23.5832,  35.0378,2,  35.0394,2,    221.5,1,   -999.0,9,  -999.00,9,  -999.00,9,  -999.00,9,     80,-999.000,  -999.0, 23.5665
     32MW086_1,  PRS2,     2,  3,      6,      7,2,19970802,0959, 22.7622,-158.0075, 4720,     80.1,  23.5778,  35.0379,2,  35.0413,2,    221.4,1,   -999.0,9,  -999.00,9,  -999.00,9,  -999.00,9,     81,-999.000,  -999.0, 23.5612
     32MW086_1,  PRS2,     2,  3,      5,     38,2,19970802,0959, 22.7622,-158.0075, 4720,     90.8,  22.9573,  35.0451,2,  35.0491,2,    214.9,1,   -999.0,9,  -999.00,9,  -999.00,9,  -999.00,9,     91,-999.000,  -999.0, 22.9388
     32MW086_1,  PRS2,     2,  3,      4,     36,2,19970802,0959, 22.7622,-158.0075, 4720,     90.8,  22.9015,  35.0493,2,  35.0488,2,    214.4,1,   -999.0,9,  -999.00,9,  -999.00,9,  -999.00,9,     92,-999.000,  -999.0, 22.8830
     32MW086_1,  PRS2,     2,  3,      3,     35,2,19970802,0959, 22.7622,-158.0075, 4720,    110.0,  21.8505,  35.0808,2,  35.0810,2,    202.1,1,   -999.0,9,  -999.00,9,  -999.00,9,  -999.00,9,    110,-999.000,  -999.0, 21.8289
     32MW086_1,  PRS2,     2,  3,      2,     34,2,19970802,0959, 22.7622,-158.0075, 4720,    449.4,   8.2366,  34.0550,2,  34.0545,2,    170.2,1,   -999.0,9,  -999.00,9,  -999.00,9,  -999.00,9,    450,-999.000,  -999.0,  8.1902
     32MW086_1,  PRS2,     2,  3,      1,     33,2,19970802,0959, 22.7622,-158.0075, 4720,   1022.6,   4.0285,  34.4878,2,  34.4857,2,     40.4,1,   -999.0,9,  -999.00,9,  -999.00,9,  -999.00,9,   1022,-999.000,  -999.0,  3.9508
     32MW086_1,  PRS2,     2,  4,     24,     31,2,19970802,1258, 22.7717,-158.0205, 4725,      5.3,  25.8336,  35.1252,2,-999.0000,5,    205.9,1,   -999.0,9,  -999.00,9,  -999.00,9,  -999.00,9,      5,-999.000,  -999.0, 25.8325
     32MW086_1,  PRS2,     2,  4,     23,     30,2,19970802,1258, 22.7717,-158.0205, 4725,      5.3,  25.8336,  35.1252,2,  35.1260,2,    205.9,1,   -999.0,9,  -999.00,9,  -999.00,9,  -999.00,9,      6,-999.000,  -999.0, 25.8325
     32MW086_1,  PRS2,     2,  4,     22,     22,2,19970802,1258, 22.7717,-158.0205, 4725,      5.3,  25.8367,  35.1253,2,  35.1265,2,    206.0,1,   -999.0,9,  -999.00,9,  -999.00,9,  -999.00,9,      5,-999.000,  -999.0, 25.8356
     32MW086_1,  PRS2,     2,  4,     21,     21,2,19970802,1258, 22.7717,-158.0205, 4725,      5.3,  25.8372,  35.1252,2,  35.1242,2,    206.0,1,   -999.0,9,  -999.00,9,  -999.00,9,  -999.00,9,      5,-999.000,  -999.0, 25.8361
     32MW086_1,  PRS2,     2,  4,     20,     20,2,19970802,1258, 22.7717,-158.0205, 4725,      5.3,  25.8384,  35.1251,2,  35.1259,2,    206.1,1,   -999.0,9,  -999.00,9,  -999.00,9,  -999.00,9,      5,-999.000,  -999.0, 25.8372
     32MW086_1,  PRS2,     2,  4,     19,     19,2,19970802,1258, 22.7717,-158.0205, 4725,     44.8,  25.8293,  35.1245,2,-999.0000,5,    206.5,1,   -999.0,9,  -999.00,9,  -999.00,9,  -999.00,9,     45,-999.000,  -999.0, 25.8194
     32MW086_1,  PRS2,     2,  4,     18,     18,2,19970802,1258, 22.7717,-158.0205, 4725,     99.8,  23.7008,  35.0399,2,  35.0389,2,    221.5,1,   -999.0,9,  -999.00,9,  -999.00,9,  -999.00,9,    100,-999.000,  -999.0, 23.6799
     32MW086_1,  PRS2,     2,  4,     17,     17,2,19970802,1258, 22.7717,-158.0205, 4725,     99.8,  23.7008,  35.0400,2,  35.0392,2,    221.4,1,   -999.0,9,  -999.00,9,  -999.00,9,  -999.00,9,    100,-999.000,  -999.0, 23.6800
     32MW086_1,  PRS2,     2,  4,     15,     15,2,19970802,1258, 22.7717,-158.0205, 4725,    120.2,  22.8367,  35.0545,2,  35.0527,2,    212.7,1,   -999.0,9,  -999.00,9,  -999.00,9,  -999.00,9,    121,-999.000,  -999.0, 22.8123
     32MW086_1,  PRS2,     2,  4,     16,     16,2,19970802,1258, 22.7717,-158.0205, 4725,    120.3,  22.8364,  35.0540,2,  35.0532,2,    212.9,1,   -999.0,9,  -999.00,9,  -999.00,9,  -999.00,9,    121,-999.000,  -999.0, 22.8120
     32MW086_1,  PRS2,     2,  4,     14,     14,2,19970802,1258, 22.7717,-158.0205, 4725,    130.0,  22.3934,  35.0700,2,  35.0683,2,    206.1,1,   -999.0,9,  -999.00,9,  -999.00,9,  -999.00,9,    131,-999.000,  -999.0, 22.3673
     32MW086_1,  PRS2,     2,  4,     12,     12,2,19970802,1258, 22.7717,-158.0205, 4725,    140.2,  21.9769,  35.0798,2,  35.0792,2,    200.9,1,   -999.0,9,  -999.00,9,  -999.00,9,  -999.00,9,    141,-999.000,  -999.0, 21.9492
     32MW086_1,  PRS2,     2,  4,     13,     13,2,19970802,1258, 22.7717,-158.0205, 4725,    140.4,  21.9773,  35.0799,2,  35.0789,2,    200.9,1,   -999.0,9,  -999.00,9,  -999.00,9,  -999.00,9,    141,-999.000,  -999.0, 21.9495
     32MW086_1,  PRS2,     2,  4,     11,     11,2,19970802,1258, 22.7717,-158.0205, 4725,    150.1,  21.6225,  35.0884,2,  35.0879,2,    198.7,1,   -999.0,9,  -999.00,9,  -999.00,9,  -999.00,9,    151,-999.000,  -999.0, 21.5931
     32MW086_1,  PRS2,     2,  4,      9,      3,2,19970802,1258, 22.7717,-158.0205, 4725,    159.9,  21.3974,  35.0920,2,  35.1003,2,    196.9,1,   -999.0,9,  -999.00,9,  -999.00,9,  -999.00,9,    160,-999.000,  -999.0, 21.3664
     32MW086_1,  PRS2,     2,  4,     10,     32,2,19970802,1258, 22.7717,-158.0205, 4725,    160.1,  21.3980,  35.0914,2,  35.0908,2,    196.8,1,   -999.0,9,  -999.00,9,  -999.00,9,  -999.00,9,    160,-999.000,  -999.0, 21.3669
     32MW086_1,  PRS2,     2,  4,      8,     29,2,19970802,1258, 22.7717,-158.0205, 4725,    170.5,  20.6680,  35.0578,2,  35.0587,2,    195.5,1,   -999.0,9,  -999.00,9,  -999.00,9,  -999.00,9,    171,-999.000,  -999.0, 20.6358
     32MW086_1,  PRS2,     2,  4,      7,     28,2,19970802,1258, 22.7717,-158.0205, 4725,    179.8,  20.4148,  35.0762,2,  35.0751,2,    192.9,1,   -999.0,9,  -999.00,9,  -999.00,9,  -999.00,9,    180,-999.000,  -999.0, 20.3810
     32MW086_1,  PRS2,     2,  4,      6,      7,2,19970802,1258, 22.7717,-158.0205, 4725,    189.7,  19.9727,  35.0584,2,  35.0565,2,    191.0,1,   -999.0,9,  -999.00,9,  -999.00,9,  -999.00,9,    190,-999.000,  -999.0, 19.9377
     32MW086_1,  PRS2,     2,  4,      5,     38,2,19970802,1258, 22.7717,-158.0205, 4725,    200.0,  19.4988,  35.0160,2,  35.0155,2,    192.5,1,   -999.0,9,  -999.00,9,  -999.00,9,  -999.00,9,    200,-999.000,  -999.0, 19.4625
     32MW086_1,  PRS2,     2,  4,      4,     36,2,19970802,1258, 22.7717,-158.0205, 4725,    225.6,  17.9990,  34.8694,2,  34.8733,2,    190.9,1,   -999.0,9,  -999.00,9,  -999.00,9,  -999.00,9,    226,-999.000,  -999.0, 17.9603
     32MW086_1,  PRS2,     2,  4,      3,     35,2,19970802,1258, 22.7717,-158.0205, 4725,    250.0,  16.5846,  34.7068,2,  34.7076,2,    193.8,1,   -999.0,9,  -999.00,9,  -999.00,9,  -999.00,9,    250,-999.000,  -999.0, 16.5441
     32MW086_1,  PRS2,     2,  4,      2,     34,2,19970802,1258, 22.7717,-158.0205, 4725,    475.9,   7.9069,  34.0482,2,  34.0478,2,    157.2,1,   -999.0,9,  -999.00,9,  -999.00,9,  -999.00,9,    476,-999.000,  -999.0,  7.8588
     32MW086_1,  PRS2,     2,  4,      1,     33,2,19970802,1258, 22.7717,-158.0205, 4725,   1020.1,   4.1024,  34.4796,2,  34.4646,4,     38.7,1,   -999.0,9,  -999.00,9,  -999.00,9,  -999.00,9,   1020,-999.000,  -999.0,  4.0243
     32MW086_1,  PRS2,     2,  5,     24,     31,2,19970802,1559, 22.7612,-157.9957, 4720,      1.7,  25.8403,  35.1123,2,  35.1102,2,    206.5,1,   -999.0,9,  -999.00,9,  -999.00,9,  -999.00,9,      2,-999.000,  -999.0, 25.8399
     32MW086_1,  PRS2,     2,  5,     23,     30,2,19970802,1559, 22.7612,-157.9957, 4720,      4.8,  25.8269,  35.1109,2,  35.1096,2,    206.5,1,   -999.0,9,  -999.00,9,  -999.00,9,  -999.00,9,      5,-999.000,  -999.0, 25.8258
     32MW086_1,  PRS2,     2,  5,     22,     22,2,19970802,1559, 22.7612,-157.9957, 4720,     10.2,  25.8253,  35.1108,2,  35.1098,2,    206.4,1,   -999.0,9,  -999.00,9,  -999.00,9,  -999.00,9,     11,-999.000,  -999.0, 25.8231
     32MW086_1,  PRS2,     2,  5,     21,     21,2,19970802,1559, 22.7612,-157.9957, 4720,     14.7,  25.8274,  35.1105,2,  35.1094,2,    206.4,1,   -999.0,9,  -999.00,9,  -999.00,9,  -999.00,9,     15,-999.000,  -999.0, 25.8241
     32MW086_1,  PRS2,     2,  5,     20,     20,2,19970802,1559, 22.7612,-157.9957, 4720,     19.3,  25.8305,  35.1100,2,  35.1097,2,    206.4,1,   -999.0,9,  -999.00,9,  -999.00,9,  -999.00,9,     19,-999.000,  -999.0, 25.8263
     32MW086_1,  PRS2,     2,  5,     19,     19,2,19970802,1559, 22.7612,-157.9957, 4720,     24.9,  25.8313,  35.1097,2,  35.1098,2,    206.4,1,   -999.0,9,  -999.00,9,  -999.00,9,  -999.00,9,     25,-999.000,  -999.0, 25.8258
     32MW086_1,  PRS2,     2,  5,     18,     18,2,19970802,1559, 22.7612,-157.9957, 4720,     29.4,  25.8295,  35.1102,2,  35.1085,2,    206.4,1,   -999.0,9,  -999.00,9,  -999.00,9,  -999.00,9,     30,-999.000,  -999.0, 25.8230
     32MW086_1,  PRS2,     2,  5,     17,     17,2,19970802,1559, 22.7612,-157.9957, 4720,     34.8,  25.8308,  35.1099,2,  35.1096,2,    206.4,1,   -999.0,9,  -999.00,9,  -999.00,9,  -999.00,9,     35,-999.000,  -999.0, 25.8231
     32MW086_1,  PRS2,     2,  5,     16,     16,2,19970802,1559, 22.7612,-157.9957, 4720,     39.7,  25.8327,  35.1097,2,  35.1105,2,    206.4,1,   -999.0,9,  -999.00,9,  -999.00,9,  -999.00,9,     40,-999.000,  -999.0, 25.8239
     32MW086_1,  PRS2,     2,  5,     15,     15,2,19970802,1559, 22.7612,-157.9957, 4720,     44.4,  25.8302,  35.1099,2,  35.1199,2,    206.5,1,   -999.0,9,  -999.00,9,  -999.00,9,  -999.00,9,     44,-999.000,  -999.0, 25.8203
     32MW086_1,  PRS2,     2,  5,     14,     14,2,19970802,1559, 22.7612,-157.9957, 4720,     50.0,  25.8305,  35.1100,2,  35.1121,2,    206.5,1,   -999.0,9,  -999.00,9,  -999.00,9,  -999.00,9,     51,-999.000,  -999.0, 25.8194
     32MW086_1,  PRS2,     2,  5,     13,     13,2,19970802,1559, 22.7612,-157.9957, 4720,     55.4,  25.8291,  35.1105,2,  35.1131,2,    206.4,1,   -999.0,9,  -999.00,9,  -999.00,9,  -999.00,9,     56,-999.000,  -999.0, 25.8168
     32MW086_1,  PRS2,     2,  5,     12,     12,2,19970802,1559, 22.7612,-157.9957, 4720,     65.0,  25.5713,  35.1036,2,  35.1049,2,    207.2,1,   -999.0,9,  -999.00,9,  -999.00,9,  -999.00,9,     66,-999.000,  -999.0, 25.5570
     32MW086_1,  PRS2,     2,  5,     11,     11,2,19970802,1559, 22.7612,-157.9957, 4720,     74.4,  24.8246,  35.0755,2,  35.0788,2,    214.5,1,   -999.0,9,  -999.00,9,  -999.00,9,  -999.00,9,     75,-999.000,  -999.0, 24.8086
     32MW086_1,  PRS2,     2,  5,     10,     32,2,19970802,1559, 22.7612,-157.9957, 4720,     84.9,  24.1567,  35.0489,2,  35.0501,2,    221.2,1,   -999.0,9,  -999.00,9,  -999.00,9,  -999.00,9,     85,-999.000,  -999.0, 24.1387
     32MW086_1,  PRS2,     2,  5,      9,      3,2,19970802,1559, 22.7612,-157.9957, 4720,     94.4,  23.6458,  35.0410,2,  35.0434,2,    220.5,1,   -999.0,9,  -999.00,9,  -999.00,9,  -999.00,9,     94,-999.000,  -999.0, 23.6262
     32MW086_1,  PRS2,     2,  5,      8,     29,2,19970802,1559, 22.7612,-157.9957, 4720,    104.7,  23.1737,  35.0449,2,  35.0444,2,    218.0,1,   -999.0,9,  -999.00,9,  -999.00,9,  -999.00,9,    104,-999.000,  -999.0, 23.1522
     32MW086_1,  PRS2,     2,  5,      7,     28,2,19970802,1559, 22.7612,-157.9957, 4720,    114.6,  22.7288,  35.0565,2,  35.0580,2,    212.7,1,   -999.0,9,  -999.00,9,  -999.00,9,  -999.00,9,    115,-999.000,  -999.0, 22.7056
     32MW086_1,  PRS2,     2,  5,      6,      7,2,19970802,1559, 22.7612,-157.9957, 4720,    124.6,  22.3032,  35.0692,2,  35.0737,2,    207.2,1,   -999.0,9,  -999.00,9,  -999.00,9,  -999.00,9,    125,-999.000,  -999.0, 22.2783
     32MW086_1,  PRS2,     2,  5,      5,     38,2,19970802,1559, 22.7612,-157.9957, 4720,    149.7,  21.3107,  35.0939,2,  35.0933,2,    194.5,1,   -999.0,9,  -999.00,9,  -999.00,9,  -999.00,9,    150,-999.000,  -999.0, 21.2818
     32MW086_1,  PRS2,     2,  5,      4,     36,2,19970802,1559, 22.7612,-157.9957, 4720,    174.8,  20.0117,  35.0624,2,  35.0632,2,    189.9,1,   -999.0,9,  -999.00,9,  -999.00,9,  -999.00,9,    175,-999.000,  -999.0, 19.9794
     32MW086_1,  PRS2,     2,  5,      3,     35,2,19970802,1559, 22.7612,-157.9957, 4720,    248.9,  16.1353,  34.6576,2,  34.6580,2,    196.1,1,   -999.0,9,  -999.00,9,  -999.00,9,  -999.00,9,    249,-999.000,  -999.0, 16.0957
     32MW086_1,  PRS2,     2,  5,      2,     34,2,19970802,1559, 22.7612,-157.9957, 4720,    475.7,   8.0625,  34.0504,2,  34.0506,2,    165.4,1,   -999.0,9,  -999.00,9,  -999.00,9,  -999.00,9,    475,-999.000,  -999.0,  8.0140
     32MW086_1,  PRS2,     2,  5,      1,     33,2,19970802,1559, 22.7612,-157.9957, 4720,   1023.6,   3.9945,  34.4907,2,  34.4897,2,     40.9,1,   -999.0,9,  -999.00,9,  -999.00,9,  -999.00,9,   1024,-999.000,  -999.0,  3.9170
     32MW086_1,  PRS2,     2,  6,     13,     13,2,19970802,1900, 22.7595,-158.0250, 4725,      4.8,  25.8546,  35.1132,2,  35.1135,2,    206.6,1,   -999.0,9,  -999.00,9,  -999.00,9,  -999.00,9,      5,-999.000,  -999.0, 25.8535
     32MW086_1,  PRS2,     2,  6,     12,     12,2,19970802,1900, 22.7595,-158.0250, 4725,     24.7,  25.8448,  35.1122,2,  35.1215,2,    206.6,1,   -999.0,9,  -999.00,9,  -999.00,9,  -999.00,9,     25,-999.000,  -999.0, 25.8394
     32MW086_1,  PRS2,     2,  6,     11,     11,2,19970802,1900, 22.7595,-158.0250, 4725,     44.6,  25.8316,  35.1120,2,  35.1131,2,    206.4,1,   -999.0,9,  -999.00,9,  -999.00,9,  -999.00,9,     45,-999.000,  -999.0, 25.8217
     32MW086_1,  PRS2,     2,  6,     10,     32,2,19970802,1900, 22.7595,-158.0250, 4725,     73.8,  24.7673,  35.0720,2,  35.0727,2,    217.5,1,   -999.0,9,  -999.00,9,  -999.00,9,  -999.00,9,     75,-999.000,  -999.0, 24.7514
     32MW086_1,  PRS2,     2,  6,      9,      3,2,19970802,1900, 22.7595,-158.0250, 4725,    101.3,  22.8838,  35.0533,2,  35.0554,2,    214.4,1,   -999.0,9,  -999.00,9,  -999.00,9,  -999.00,9,    101,-999.000,  -999.0, 22.8632
     32MW086_1,  PRS2,     2,  6,      8,     29,2,19970802,1900, 22.7595,-158.0250, 4725,    125.0,  21.8441,  35.0826,2,  35.0824,2,    201.4,1,   -999.0,9,  -999.00,9,  -999.00,9,  -999.00,9,    126,-999.000,  -999.0, 21.8195
     32MW086_1,  PRS2,     2,  6,      7,     28,2,19970802,1900, 22.7595,-158.0250, 4725,    127.8,  21.7946,  35.0837,2,  35.0886,2,    201.3,1,   -999.0,9,  -999.00,9,  -999.00,9,  -999.00,9,    128,-999.000,  -999.0, 21.7695
     32MW086_1,  PRS2,     2,  6,      6,      7,2,19970802,1900, 22.7595,-158.0250, 4725,    149.4,  21.1818,  35.0915,2,  35.0921,2,    195.8,1,   -999.0,9,  -999.00,9,  -999.00,9,  -999.00,9,    149,-999.000,  -999.0, 21.1530
     32MW086_1,  PRS2,     2,  6,      5,     38,2,19970802,1900, 22.7595,-158.0250, 4725,    176.1,  20.2200,  35.0719,2,  35.0732,2,    192.1,1,   -999.0,9,  -999.00,9,  -999.00,9,  -999.00,9,    176,-999.000,  -999.0, 20.1872
     32MW086_1,  PRS2,     2,  6,      4,     36,2,19970802,1900, 22.7595,-158.0250, 4725,    250.8,  15.5922,  34.5898,2,  34.5930,2,    197.3,1,   -999.0,9,  -999.00,9,  -999.00,9,  -999.00,9,    251,-999.000,  -999.0, 15.5533
     32MW086_1,  PRS2,     2,  6,      3,     35,2,19970802,1900, 22.7595,-158.0250, 4725,    501.1,   7.6620,  34.0454,2,  34.0449,2,    149.0,1,   -999.0,9,  -999.00,9,  -999.00,9,  -999.00,9,    501,-999.000,  -999.0,  7.6123
     32MW086_1,  PRS2,     2,  6,      2,     34,2,19970802,1900, 22.7595,-158.0250, 4725,    751.1,   4.7791,  34.2473,2,  34.2472,2,     26.5,1,   -999.0,9,  -999.00,9,  -999.00,9,  -999.00,9,    751,-999.000,  -999.0,  4.7194
     32MW086_1,  PRS2,     2,  6,      1,     33,2,19970802,1900, 22.7595,-158.0250, 4725,   1020.4,   3.9279,  34.4965,2,  34.4968,2,     42.1,1,   -999.0,9,  -999.00,9,  -999.00,9,  -999.00,9,   1021,-999.000,  -999.0,  3.8511