BOTTLE,20080821WHPSIOSCD
EXPOCODE,SECT_ID,STNNBR,CASTNO,SAMPNO,BTLNBR,BTLNBR_FLAG_W,DATE,TIME,LATITUDE,LONGITUDE,DEPTH,CTDRAW,CTDPRS,CTDTMP,CTDSAL,CTDSAL_FLAG_W,SALNTY,SALNTY_FLAG_W,CTDOXY,CTDOXY_FLAG_W,THETA,OXYGEN,OXYGEN_FLAG_W,SILCAT,SILCAT_FLAG_W,NITRAT,NITRAT_FLAG_W,NITRIT,NITRIT_FLAG_W,PHSPHT,PHSPHT_FLAG_W,CFC-11,CFC-11_FLAG_W,CFC-12,CFC-12_FLAG_W,TRITUM,TRITUM_FLAG_W,HELIUM,HELIUM_FLAG_W,DELHE3,DELHE3_FLAG_W,DELC14,DELC14_FLAG_W,DELC13,DELC13_FLAG_W,NEON,NEON_FLAG_W,TCARBN,TCARBN_FLAG_W,ALKALI,ALKALI_FLAG_W,C14ERR,DELHER,HELIER,NEONER,TRITER
,,,,,,,,,,,,,DBAR,ITS-90,PSS-78,,PSS-78,,UMOL/KG,,DEG C,UMOL/KG,,UMOL/KG,,UMOL/KG,,UMOL/KG,,UMOL/KG,,PMOL/KG,,PMOL/KG,,TU,,NMOL/KG,,PERCNT,,/MILLE,,/MILLE,,NMOL/KG,,UMOL/KG,,UMOL/KG,,/MILLE,PERCNT,NMOL/KG,NMOL/KG,TU
    316N145_10,  I07N,   774,  1,     36,     36,2,19950802,1324,  5.5940,  60.6242, 3157,   -999,      8.0,  28.4009,  36.0889,2,  36.0893,2,    197.0,2, 28.3993,    194.4,2,     2.89,2,     0.04,2,     0.00,2,     0.20,2,    1.579,2,    0.900,2, -999.000,9,-999.0000,9,  -999.00,9,   -999.0,9,  -999.00,9,-999.000,9,   1993.5,2,   2360.4,2,  -999.0, -999.00,-999.0000,-999.000,-999.000
    316N145_10,  I07N,   774,  1,     35,     35,2,19950802,1324,  5.5940,  60.6242, 3157,   -999,     36.5,  28.2768,  36.0874,2,  36.0887,2,    194.3,2, 28.2684,    194.4,2,     2.88,2,     0.04,2,     0.00,2,     0.21,2, -999.000,9, -999.000,9, -999.000,9,-999.0000,9,  -999.00,9,   -999.0,9,  -999.00,9,-999.000,9,   1994.2,2,   2357.0,2,  -999.0, -999.00,-999.0000,-999.000,-999.000
    316N145_10,  I07N,   774,  1,     34,     34,2,19950802,1324,  5.5940,  60.6242, 3157,   -999,     76.4,  28.0481,  36.1531,2,  36.1693,2,    194.5,2, 28.0303,    191.1,2,     2.68,2,     0.04,2,     0.00,2,     0.24,2,    1.586,2,    0.915,2, -999.000,9,-999.0000,9,  -999.00,9,   -999.0,9,  -999.00,9,-999.000,9,   2005.9,2,   2363.3,2,  -999.0, -999.00,-999.0000,-999.000,-999.000
    316N145_10,  I07N,   774,  1,     33,     33,2,19950802,1324,  5.5940,  60.6242, 3157,   -999,    101.0,  26.0400,  36.0819,2,  36.0198,2,    161.9,2, 26.0176,    144.3,2,     5.27,2,     5.93,2,     0.23,2,     0.69,2,    1.606,2,    0.905,2, -999.000,9,-999.0000,9,  -999.00,9,   -999.0,9,  -999.00,9,-999.000,9,   2067.6,2,   2347.4,2,  -999.0, -999.00,-999.0000,-999.000,-999.000
    316N145_10,  I07N,   774,  1,     32,     32,2,19950802,1324,  5.5940,  60.6242, 3157,   -999,    127.0,  20.4819,  35.6286,2,  35.6317,2,     78.7,2, 20.4582,     59.0,2,    13.83,2,    20.26,2,     0.02,2,     1.56,2, -999.000,9, -999.000,9, -999.000,9,-999.0000,9,  -999.00,9,   -999.0,9,  -999.00,9,-999.000,9,   2163.3,2,   2329.3,2,  -999.0, -999.00,-999.0000,-999.000,-999.000
    316N145_10,  I07N,   774,  1,     31,     31,2,19950802,1324,  5.5940,  60.6242, 3157,   -999,    147.6,  18.1695,  35.4831,2,  35.4829,2,     47.9,2, 18.1442,     45.6,2,    17.73,2,    22.91,2,     0.00,2,     1.78,2,    1.120,2,    0.631,2, -999.000,9,-999.0000,9,  -999.00,9,   -999.0,9,  -999.00,9,-999.000,9,   2187.7,2,   2322.8,2,  -999.0, -999.00,-999.0000,-999.000,-999.000
    316N145_10,  I07N,   774,  1,     30,     30,2,19950802,1324,  5.5940,  60.6242, 3157,   -999,    196.6,  14.5971,  35.3080,2,  35.3065,2,     60.8,2, 14.5680,     61.9,2,    21.64,2,    23.81,2,     0.00,2,     1.78,2,    0.954,2,    0.508,2, -999.000,9,-999.0000,9,  -999.00,9,   -999.0,9,  -999.00,9,-999.000,9,   2199.3,2,   2321.4,2,  -999.0, -999.00,-999.0000,-999.000,-999.000
    316N145_10,  I07N,   774,  1,     29,     29,2,19950802,1324,  5.5940,  60.6242, 3157,   -999,    247.3,  13.1722,  35.2402,2,  35.2420,2,     63.5,2, 13.1379,     65.4,2,    23.68,2,    25.20,2,     0.00,2,     1.84,2,    0.790,2,    0.424,2, -999.000,9,-999.0000,9,  -999.00,9,   -999.0,9,  -999.00,9,-999.000,9,   2206.6,2,   2318.2,2,  -999.0, -999.00,-999.0000,-999.000,-999.000
    316N145_10,  I07N,   774,  1,     28,     28,2,19950802,1324,  5.5940,  60.6242, 3157,   -999,    287.4,  12.4834,  35.2259,2,  35.2292,2,     64.6,2, 12.4448,     68.6,2,    25.35,2,    25.83,2,     0.00,2,     1.89,2,    0.717,2,    0.376,2, -999.000,9,-999.0000,9,  -999.00,9,   -999.0,9,  -999.00,9,-999.000,9,   2212.1,2,   2323.0,2,  -999.0, -999.00,-999.0000,-999.000,-999.000
    316N145_10,  I07N,   774,  1,     27,     27,2,19950802,1324,  5.5940,  60.6242, 3157,   -999,    317.8,  11.9302,  35.1725,2,  35.1793,2,     73.0,2, 11.8888,     73.4,2,    26.65,2,    26.42,2,     0.00,2,     1.91,2, -999.000,9, -999.000,9, -999.000,9,-999.0000,9,  -999.00,9,   -999.0,9,  -999.00,9,-999.000,9,   2211.4,2,   2320.0,2,  -999.0, -999.00,-999.0000,-999.000,-999.000
    316N145_10,  I07N,   774,  1,     26,     26,2,19950802,1324,  5.5940,  60.6242, 3157,   -999,    357.0,  11.5343,  35.1739,2,  35.1710,2,     67.5,2, 11.4886,     67.8,2,    28.88,2,    27.68,2,     0.00,2,     2.01,2,    0.549,2,    0.294,2, -999.000,9,-999.0000,9,  -999.00,9,   -999.0,9,  -999.00,9,-999.000,9,   2220.1,2,   2321.9,2,  -999.0, -999.00,-999.0000,-999.000,-999.000
    316N145_10,  I07N,   774,  1,     25,     25,2,19950802,1324,  5.5940,  60.6242, 3157,   -999,    448.5,  11.0483,  35.2619,2,  35.2619,2,     47.9,2, 10.9922,     46.5,2,    36.88,2,    30.16,2,     0.00,2,     2.26,2,    0.295,2,    0.162,2, -999.000,9,-999.0000,9,  -999.00,9,   -999.0,9,  -999.00,9,-999.000,9,   2242.6,2,   2327.9,2,  -999.0, -999.00,-999.0000,-999.000,-999.000
    316N145_10,  I07N,   774,  1,     24,     24,2,19950802,1324,  5.5940,  60.6242, 3157,   -999,    497.9,  10.9751,  35.3090,2,  35.3125,2,     40.0,2, 10.9128,     39.0,2,    40.04,2,    30.75,2,     0.00,2,     2.35,2,    0.232,2,    0.133,2, -999.000,9,-999.0000,9,  -999.00,9,   -999.0,9,  -999.00,9,-999.000,9,   2252.0,2,   2334.2,2,  -999.0, -999.00,-999.0000,-999.000,-999.000
    316N145_10,  I07N,   774,  1,     23,     23,2,19950802,1324,  5.5940,  60.6242, 3157,   -999,    598.3,  10.3134,  35.3328,2,  35.3327,2,     30.8,2, 10.2410,     30.8,2,    49.74,2,    32.48,2,     0.00,2,     2.51,2, -999.000,9, -999.000,9, -999.000,9,-999.0000,9,  -999.00,9,   -999.0,9,  -999.00,9,-999.000,9,   2267.0,2,   2340.3,2,  -999.0, -999.00,-999.0000,-999.000,-999.000
    316N145_10,  I07N,   774,  1,     22,     22,2,19950802,1324,  5.5940,  60.6242, 3157,   -999,    698.8,   9.4473,  35.2785,2,  35.2782,2,     31.8,2,  9.3668,     31.0,2,    59.25,2,    33.98,2,     0.00,2,     2.62,2,    0.067,2,    0.044,2, -999.000,9,-999.0000,9,  -999.00,9,   -999.0,9,  -999.00,9,-999.000,9,   2278.9,2,   2350.8,2,  -999.0, -999.00,-999.0000,-999.000,-999.000
    316N145_10,  I07N,   774,  1,     21,     21,2,19950802,1324,  5.5940,  60.6242, 3157,   -999,    799.8,   8.8772,  35.2558,2,  35.2526,2,     30.7,2,  8.7879,     30.8,2,    66.91,2,    34.95,2,     0.00,2,     2.69,2, -999.000,9, -999.000,9, -999.000,9,-999.0000,9,  -999.00,9,   -999.0,9,  -999.00,9,-999.000,9,   2288.0,2,   2355.1,2,  -999.0, -999.00,-999.0000,-999.000,-999.000
    316N145_10,  I07N,   774,  1,     20,     20,2,19950802,1324,  5.5940,  60.6242, 3157,   -999,    899.7,   8.0693,  35.1719,2,  35.1722,2,     33.8,2,  7.9736,     34.7,2,    74.02,2,    35.78,2,     0.00,2,     2.74,2,    0.024,2,    0.017,2, -999.000,9,-999.0000,9,  -999.00,9,   -999.0,9,  -999.00,9,-999.000,9,   2296.9,2,   2363.6,2,  -999.0, -999.00,-999.0000,-999.000,-999.000
    316N145_10,  I07N,   774,  1,     19,     19,2,19950802,1324,  5.5940,  60.6242, 3157,   -999,    996.2,   7.3996,  35.1089,2,  35.1071,2,     38.0,2,  7.2980,     39.5,2,    80.59,2,    36.34,2,     0.00,2,     2.77,2, -999.000,9, -999.000,9, -999.000,9,-999.0000,9,  -999.00,9,   -999.0,9,  -999.00,9,-999.000,9,   2303.0,2,   2364.7,2,  -999.0, -999.00,-999.0000,-999.000,-999.000
    316N145_10,  I07N,   774,  1,     18,     18,2,19950802,1324,  5.5940,  60.6242, 3157,   -999,   1096.5,   6.9160,  35.0653,2,  35.0678,2,     43.4,2,  6.8074,     43.9,2,    85.09,2,    36.71,2,     0.00,2,     2.79,2,    0.007,2,    0.006,2, -999.000,9,-999.0000,9,  -999.00,9,   -999.0,9,  -999.00,9,-999.000,9,   2307.7,2,   2371.7,2,  -999.0, -999.00,-999.0000,-999.000,-999.000
    316N145_10,  I07N,   774,  1,     17,     17,2,19950802,1324,  5.5940,  60.6242, 3157,   -999,   1197.1,   6.4046,  35.0249,2,  35.0250,2,     49.9,2,  6.2898,     49.8,2,    90.17,2,    36.91,2,     0.00,2,     2.79,2, -999.000,9, -999.000,9, -999.000,9,-999.0000,9,  -999.00,9,   -999.0,9,  -999.00,9,-999.000,9,   2310.1,2,   2372.8,2,  -999.0, -999.00,-999.0000,-999.000,-999.000
    316N145_10,  I07N,   774,  1,     16,     16,2,19950802,1324,  5.5940,  60.6242, 3157,   -999,   1298.3,   5.8828,  34.9857,2,  34.9886,2,     58.0,2,  5.7625,     57.0,2,    94.70,2,    36.96,2,     0.00,2,     2.81,2,    0.003,2,    0.002,2, -999.000,9,-999.0000,9,  -999.00,9,   -999.0,9,  -999.00,9,-999.000,9,   2312.4,2,   2381.5,2,  -999.0, -999.00,-999.0000,-999.000,-999.000
    316N145_10,  I07N,   774,  1,     15,     15,2,19950802,1324,  5.5940,  60.6242, 3157,   -999,   1398.9,   5.3628,  34.9581,2,  34.9564,2,     66.4,2,  5.2376,     65.2,2,   100.37,2,    36.92,2,     0.00,2,     2.79,2, -999.000,9, -999.000,9, -999.000,9,-999.0000,9,  -999.00,9,   -999.0,9,  -999.00,9,-999.000,9,   2314.6,2,   2384.2,2,  -999.0, -999.00,-999.0000,-999.000,-999.000
    316N145_10,  I07N,   774,  1,     14,     14,2,19950802,1324,  5.5940,  60.6242, 3157,   -999,   1500.0,   4.7333,  34.9115,2,  34.9130,2,     77.9,2,  4.6051,     77.0,2,   106.44,2,    36.80,2,     0.00,2,     2.76,2,    0.001,2,   -0.001,2, -999.000,9,-999.0000,9,  -999.00,9,   -999.0,9,  -999.00,9,-999.000,9,   2318.0,2,   2391.8,2,  -999.0, -999.00,-999.0000,-999.000,-999.000
    316N145_10,  I07N,   774,  1,     13,     13,2,19950802,1324,  5.5940,  60.6242, 3157,   -999,   1600.9,   4.1468,  34.8710,2,  34.8713,2,     89.8,2,  4.0159,     90.2,2,   111.58,2,    36.48,2,     0.00,2,     2.71,2, -999.000,9, -999.000,9, -999.000,9,-999.0000,9,  -999.00,9,   -999.0,9,  -999.00,9,-999.000,9,   2317.6,2,   2393.0,2,  -999.0, -999.00,-999.0000,-999.000,-999.000
    316N145_10,  I07N,   774,  1,     12,     12,2,19950802,1324,  5.5940,  60.6242, 3157,   -999,   1702.1,   3.7198,  34.8466,2,  34.8476,2,     99.0,2,  3.5849,     99.1,2,   115.98,2,    36.22,2,     0.00,2,     2.68,2,    0.000,2,    0.003,2, -999.000,9,-999.0000,9,  -999.00,9,   -999.0,9,  -999.00,9,-999.000,9,   2319.9,2,   2401.2,2,  -999.0, -999.00,-999.0000,-999.000,-999.000
    316N145_10,  I07N,   774,  1,     11,     11,2,19950802,1324,  5.5940,  60.6242, 3157,   -999,   1803.1,   3.4299,  34.8318,2,  34.8315,2,    108.0,2,  3.2896,    106.0,2,   119.24,2,    35.95,2,     0.00,2,     2.66,2, -999.000,9, -999.000,9, -999.000,9,-999.0000,9,  -999.00,9,   -999.0,9,  -999.00,9,-999.000,9,   2318.8,2,   2399.8,2,  -999.0, -999.00,-999.0000,-999.000,-999.000
    316N145_10,  I07N,   774,  1,     10,     10,2,19950802,1324,  5.5940,  60.6242, 3157,   -999,   1949.3,   3.0123,  34.8096,2,  34.8083,2,    113.9,2,  2.8647,    115.3,2,   123.66,2,    35.82,2,     0.00,2,     2.62,2, -999.000,9, -999.000,9, -999.000,9,-999.0000,9,  -999.00,9,   -999.0,9,  -999.00,9,-999.000,9,   2320.4,2,   2409.6,2,  -999.0, -999.00,-999.0000,-999.000,-999.000
    316N145_10,  I07N,   774,  1,      9,      9,2,19950802,1324,  5.5940,  60.6242, 3157,   -999,   2099.9,   2.6182,  34.7874,2,  34.7857,2,    122.7,2,  2.4631,    126.6,2,   127.53,2,    35.37,2,     0.00,2,     2.58,2, -999.000,9, -999.000,9, -999.000,9,-999.0000,9,  -999.00,9,   -999.0,9,  -999.00,9,-999.000,9,   2320.0,2,   2410.8,2,  -999.0, -999.00,-999.0000,-999.000,-999.000
    316N145_10,  I07N,   774,  1,      8,      8,2,19950802,1324,  5.5940,  60.6242, 3157,   -999,   2302.2,   2.2856,  34.7702,2,  34.7684,2,    134.5,2,  2.1178,    136.2,2,   130.83,2,    35.11,2,     0.00,2,     2.55,2, -999.000,9, -999.000,9, -999.000,9,-999.0000,9,  -999.00,9,   -999.0,9,  -999.00,9,-999.000,9,   2318.9,2,   2417.7,2,  -999.0, -999.00,-999.0000,-999.000,-999.000
    316N145_10,  I07N,   774,  1,      7,      7,2,19950802,1324,  5.5940,  60.6242, 3157,   -999,   2496.3,   2.1216,  34.7610,2,  34.7600,2,    140.8,2,  1.9390,    141.7,2,   132.00,2,    34.93,2,     0.00,2,     2.52,2, -999.000,9, -999.000,9, -999.000,9,-999.0000,9,  -999.00,9,   -999.0,9,  -999.00,9,-999.000,9,   2317.6,2,   2412.4,2,  -999.0, -999.00,-999.0000,-999.000,-999.000
    316N145_10,  I07N,   774,  1,      6,      6,2,19950802,1324,  5.5940,  60.6242, 3157,   -999,   2699.6,   2.0091,  34.7542,2,  34.7539,2,    145.4,2,  1.8098,    145.9,2,   133.17,2,    34.80,2,     0.00,2,     2.50,2, -999.000,9, -999.000,9, -999.000,9,-999.0000,9,  -999.00,9,   -999.0,9,  -999.00,9,-999.000,9,   2317.1,2,   2419.7,2,  -999.0, -999.00,-999.0000,-999.000,-999.000
    316N145_10,  I07N,   774,  1,      5,      5,2,19950802,1324,  5.5940,  60.6242, 3157,   -999,   2902.2,   1.8987,  34.7491,2,  34.7475,2,    150.0,2,  1.6824,    150.6,2,   133.76,2,    34.63,2,     0.00,2,     2.49,2, -999.000,9, -999.000,9, -999.000,9,-999.0000,9,  -999.00,9,   -999.0,9,  -999.00,9,-999.000,9,   2314.4,2,   2415.5,2,  -999.0, -999.00,-999.0000,-999.000,-999.000
    316N145_10,  I07N,   774,  1,      4,      4,2,19950802,1324,  5.5940,  60.6242, 3157,   -999,   3100.2,   1.8390,  34.7457,2,  34.7455,2,    153.7,2,  1.6047,    153.6,2,   133.96,2,    34.50,2,     0.00,2,     2.47,2, -999.000,9, -999.000,9, -999.000,9,-999.0000,9,  -999.00,9,   -999.0,9,  -999.00,9,-999.000,9,   2313.2,2,   2419.4,2,  -999.0, -999.00,-999.0000,-999.000,-999.000
    316N145_10,  I07N,   774,  1,      3,      3,2,19950802,1324,  5.5940,  60.6242, 3157,   -999,   3150.8,   1.8266,  34.7453,2,  34.7429,2,    155.2,2,  1.5876,    154.4,2,   133.76,2,    34.46,2,     0.00,2,     2.46,2, -999.000,9, -999.000,9, -999.000,9,-999.0000,9,  -999.00,9,   -999.0,9,  -999.00,9,-999.000,9,   2312.2,2,   2413.7,2,  -999.0, -999.00,-999.0000,-999.000,-999.000
    316N145_10,  I07N,   774,  1,      2,      2,2,19950802,1324,  5.5940,  60.6242, 3157,   -999,   3177.8,   1.8096,  34.7438,2,  34.7455,2,    156.0,2,  1.5683,    155.2,2,   133.57,2,    34.42,2,     0.00,2,     2.46,2, -999.000,9, -999.000,9, -999.000,9,-999.0000,9,  -999.00,9,   -999.0,9,  -999.00,9,-999.000,9,   2312.8,2,   2418.9,2,  -999.0, -999.00,-999.0000,-999.000,-999.000
    316N145_10,  I07N,   774,  1,      1,      1,2,19950802,1324,  5.5940,  60.6242, 3157,   -999,   3203.2,   1.8047,  34.7438,2,  34.7437,2,    156.0,2,  1.5610,    155.3,2,   133.38,2,    34.43,2,     0.00,2,     2.46,2, -999.000,9, -999.000,9, -999.000,9,-999.0000,9,  -999.00,9,   -999.0,9,  -999.00,9,-999.000,9,   2311.0,2,   2415.9,2,  -999.0, -999.00,-999.0000,-999.000,-999.000