BOTTLE,20080821WHPSIOSCD
EXPOCODE,SECT_ID,STNNBR,CASTNO,SAMPNO,BTLNBR,BTLNBR_FLAG_W,DATE,TIME,LATITUDE,LONGITUDE,DEPTH,CTDRAW,CTDPRS,CTDTMP,CTDSAL,CTDSAL_FLAG_W,SALNTY,SALNTY_FLAG_W,CTDOXY,CTDOXY_FLAG_W,THETA,OXYGEN,OXYGEN_FLAG_W,SILCAT,SILCAT_FLAG_W,NITRAT,NITRAT_FLAG_W,NITRIT,NITRIT_FLAG_W,PHSPHT,PHSPHT_FLAG_W,CFC-11,CFC-11_FLAG_W,CFC-12,CFC-12_FLAG_W,TRITUM,TRITUM_FLAG_W,HELIUM,HELIUM_FLAG_W,DELHE3,DELHE3_FLAG_W,DELC14,DELC14_FLAG_W,DELC13,DELC13_FLAG_W,NEON,NEON_FLAG_W,TCARBN,TCARBN_FLAG_W,ALKALI,ALKALI_FLAG_W,C14ERR,DELHER,HELIER,NEONER,TRITER
,,,,,,,,,,,,,DBAR,ITS-90,PSS-78,,PSS-78,,UMOL/KG,,DEG C,UMOL/KG,,UMOL/KG,,UMOL/KG,,UMOL/KG,,UMOL/KG,,PMOL/KG,,PMOL/KG,,TU,,NMOL/KG,,PERCNT,,/MILLE,,/MILLE,,NMOL/KG,,UMOL/KG,,UMOL/KG,,/MILLE,PERCNT,NMOL/KG,NMOL/KG,TU
    316N145_10,  I07N,   718,  1,     36,     36,2,19950718,1126,-13.3905,  54.9938, 4515,   -999,      7.8,  26.3715,  34.8274,2,  34.8264,2,    204.1,2, 26.3700,    203.0,2,     3.57,2,     0.08,2,     0.00,2,     0.16,2,    1.722,2,    0.974,2, -999.000,9,-999.0000,9,  -999.00,9,   -999.0,9,  -999.00,9,-999.000,9,   1939.7,2,   2282.0,2,  -999.0, -999.00,-999.0000,-999.000,-999.000
    316N145_10,  I07N,   718,  1,     35,     35,2,19950718,1126,-13.3905,  54.9938, 4515,   -999,     33.0,  26.3775,  34.8273,2,  34.8265,2,    201.5,2, 26.3704,    202.3,2,     3.56,2,     0.08,2,     0.00,2,     0.16,2, -999.000,9, -999.000,9, -999.000,9,-999.0000,9,  -999.00,9,   -999.0,9,  -999.00,9,-999.000,9,   -999.9,9,   -999.9,9,  -999.0, -999.00,-999.0000,-999.000,-999.000
    316N145_10,  I07N,   718,  1,     34,     34,2,19950718,1126,-13.3905,  54.9938, 4515,   -999,     63.4,  24.1038,  35.0453,2,  35.0375,2,    199.6,2, 24.0906,    180.6,2,     5.81,2,     2.30,2,     0.20,2,     0.37,2,    1.727,2,    0.960,2, -999.000,9,-999.0000,9,  -999.00,9,   -999.0,9,  -999.00,9,-999.000,9,   -999.9,9,   -999.9,9,  -999.0, -999.00,-999.0000,-999.000,-999.000
    316N145_10,  I07N,   718,  1,     33,     33,2,19950718,1126,-13.3905,  54.9938, 4515,   -999,     92.4,  21.6859,  35.1809,2,  35.1850,2,    164.9,2, 21.6681,    160.4,2,     7.71,2,     5.40,2,     0.49,2,     0.54,2,    1.752,2,    1.004,2, -999.000,9,-999.0000,9,  -999.00,9,   -999.0,9,  -999.00,9,-999.000,9,   -999.9,9,   -999.9,9,  -999.0, -999.00,-999.0000,-999.000,-999.000
    316N145_10,  I07N,   718,  1,     32,     32,2,19950718,1126,-13.3905,  54.9938, 4515,   -999,    123.1,  19.4261,  35.2809,2,  35.2786,2,    132.3,2, 19.4040,    135.8,2,    11.52,2,    10.81,2,     0.01,2,     0.81,2,    1.695,2,    0.923,2, -999.000,9,-999.0000,9,  -999.00,9,   -999.0,9,  -999.00,9,-999.000,9,   -999.9,9,   -999.9,9,  -999.0, -999.00,-999.0000,-999.000,-999.000
    316N145_10,  I07N,   718,  1,     31,     31,2,19950718,1126,-13.3905,  54.9938, 4515,   -999,    153.0,  17.1446,  35.2702,2,  35.2705,2,    132.9,2, 17.1193,    127.5,2,    15.33,2,    13.59,2,     0.01,2,     0.99,2,    1.574,2,    0.842,2, -999.000,9,-999.0000,9,  -999.00,9,   -999.0,9,  -999.00,9,-999.000,9,   -999.9,9,   -999.9,9,  -999.0, -999.00,-999.0000,-999.000,-999.000
    316N145_10,  I07N,   718,  1,     30,     30,2,19950718,1126,-13.3905,  54.9938, 4515,   -999,    181.5,  15.1126,  35.1270,2,  35.1102,2,    120.6,2, 15.0851,    114.5,2,    21.22,2,    17.95,2,     0.00,2,     1.29,2,    1.265,3,    0.661,3, -999.000,9,-999.0000,9,  -999.00,9,   -999.0,9,  -999.00,9,-999.000,9,   -999.9,9,   -999.9,9,  -999.0, -999.00,-999.0000,-999.000,-999.000
    316N145_10,  I07N,   718,  1,     29,     29,2,19950718,1126,-13.3905,  54.9938, 4515,   -999,    202.7,  14.2475,  35.0637,2,  35.0681,2,    109.8,2, 14.2180,    114.5,2,    22.25,2,    18.92,2,     0.00,2,     1.36,2, -999.000,9, -999.000,9, -999.000,9,-999.0000,9,  -999.00,9,   -999.0,9,  -999.00,9,-999.000,9,   -999.9,9,   -999.9,9,  -999.0, -999.00,-999.0000,-999.000,-999.000
    316N145_10,  I07N,   718,  1,     28,     28,2,19950718,1126,-13.3905,  54.9938, 4515,   -999,    228.5,  13.8830,  35.2159,2,  35.2207,2,    133.6,2, 13.8503,    157.5,2,    14.59,2,    14.07,2,     0.00,2,     1.05,2,    1.687,2,    0.879,2, -999.000,9,-999.0000,9,  -999.00,9,   -999.0,9,  -999.00,9,-999.000,9,   -999.9,9,   -999.9,9,  -999.0, -999.00,-999.0000,-999.000,-999.000
    316N145_10,  I07N,   718,  1,     27,     27,2,19950718,1126,-13.3905,  54.9938, 4515,   -999,    253.5,  13.1302,  35.1177,2,  35.1080,2,    156.2,2, 13.0951,    149.4,2,    17.53,2,    16.49,2,     0.00,2,     1.20,2,    1.519,2,    0.810,2, -999.000,9,-999.0000,9,  -999.00,9,   -999.0,9,  -999.00,9,-999.000,9,   -999.9,9,   -999.9,9,  -999.0, -999.00,-999.0000,-999.000,-999.000
    316N145_10,  I07N,   718,  1,     26,     26,2,19950718,1126,-13.3905,  54.9938, 4515,   -999,    301.6,  12.0956,  35.0356,2,  35.0347,2,    149.4,2, 12.0560,    164.7,2,    16.31,2,    16.58,2,     0.00,2,     1.21,2,    1.631,2,    0.862,2, -999.000,9,-999.0000,9,  -999.00,9,   -999.0,9,  -999.00,9,-999.000,9,   -999.9,9,   -999.9,9,  -999.0, -999.00,-999.0000,-999.000,-999.000
    316N145_10,  I07N,   718,  1,     25,     25,2,19950718,1126,-13.3905,  54.9938, 4515,   -999,    353.4,  11.3848,  34.9604,2,  34.9561,2,    159.4,2, 11.3401,    162.6,2,    18.20,2,    18.25,2,     0.00,2,     1.31,2,    1.511,2,    0.765,2, -999.000,9,-999.0000,9,  -999.00,9,   -999.0,9,  -999.00,9,-999.000,9,   -999.9,9,   -999.9,9,  -999.0, -999.00,-999.0000,-999.000,-999.000
    316N145_10,  I07N,   718,  1,     24,     24,2,19950718,1126,-13.3905,  54.9938, 4515,   -999,    395.0,  10.8647,  34.9096,2,  34.9131,2,    164.7,2, 10.8161,    166.8,2,    18.19,2,    18.73,2,     0.00,2,     1.34,2,    1.464,2,    0.741,2, -999.000,9,-999.0000,9,  -999.00,9,   -999.0,9,  -999.00,9,-999.000,9,   -999.9,9,   -999.9,9,  -999.0, -999.00,-999.0000,-999.000,-999.000
    316N145_10,  I07N,   718,  1,     23,     23,2,19950718,1126,-13.3905,  54.9938, 4515,   -999,    454.0,   9.8200,  34.8015,2,  34.7964,2,    186.8,2,  9.7675,    189.7,2,    15.05,2,    19.04,2,     0.00,2,     1.35,2,    1.494,2,    0.766,2, -999.000,9,-999.0000,9,  -999.00,9,   -999.0,9,  -999.00,9,-999.000,9,   -999.9,9,   -999.9,9,  -999.0, -999.00,-999.0000,-999.000,-999.000
    316N145_10,  I07N,   718,  1,     22,     22,2,19950718,1126,-13.3905,  54.9938, 4515,   -999,    544.4,   8.9488,  34.7441,2,  34.7429,2,    140.5,2,  8.8890,    142.7,2,    30.32,2,    25.40,2,     0.00,2,     1.78,2,    0.705,2,    0.365,2, -999.000,9,-999.0000,9,  -999.00,9,   -999.0,9,  -999.00,9,-999.000,9,   -999.9,9,   -999.9,9,  -999.0, -999.00,-999.0000,-999.000,-999.000
    316N145_10,  I07N,   718,  1,     21,     21,2,19950718,1126,-13.3905,  54.9938, 4515,   -999,    637.7,   7.7428,  34.6803,2,  34.6791,2,    147.6,2,  7.6781,    142.9,2,    37.60,2,    27.75,2,     0.00,2,     1.96,2,    0.424,2,    0.226,2, -999.000,9,-999.0000,9,  -999.00,9,   -999.0,9,  -999.00,9,-999.000,9,   -999.9,9,   -999.9,9,  -999.0, -999.00,-999.0000,-999.000,-999.000
    316N145_10,  I07N,   718,  1,     20,     20,2,19950718,1126,-13.3905,  54.9938, 4515,   -999,    748.4,   6.8865,  34.7030,2,  34.7026,2,    112.6,2,  6.8147,    111.4,2,    57.25,2,    31.85,2,     0.00,2,     2.29,2, -999.000,9, -999.000,9, -999.000,9,-999.0000,9,  -999.00,9,   -999.0,9,  -999.00,9,-999.000,9,   -999.9,9,   -999.9,9,  -999.0, -999.00,-999.0000,-999.000,-999.000
    316N145_10,  I07N,   718,  1,     19,     19,2,19950718,1126,-13.3905,  54.9938, 4515,   -999,    847.8,   6.4183,  34.7114,2,  34.7122,2,    106.5,2,  6.3393,    108.3,2,    64.04,2,    32.84,2,     0.00,2,     2.38,2,    0.073,2,    0.045,2, -999.000,9,-999.0000,9,  -999.00,9,   -999.0,9,  -999.00,9,-999.000,9,   -999.9,9,   -999.9,9,  -999.0, -999.00,-999.0000,-999.000,-999.000
    316N145_10,  I07N,   718,  1,     18,     18,2,19950718,1126,-13.3905,  54.9938, 4515,   -999,    959.6,   6.0045,  34.7336,2,  34.7350,2,    100.7,2,  5.9173,    103.0,2,    72.42,2,    33.86,2,     0.00,2,     2.47,2,    0.051,2,    0.022,2, -999.000,9,-999.0000,9,  -999.00,9,   -999.0,9,  -999.00,9,-999.000,9,   -999.9,9,   -999.9,9,  -999.0, -999.00,-999.0000,-999.000,-999.000
    316N145_10,  I07N,   718,  1,     17,     17,2,19950718,1126,-13.3905,  54.9938, 4515,   -999,   1045.9,   5.4768,  34.7302,2,  34.7301,2,    105.8,2,  5.3853,    105.5,2,    78.02,2,    34.27,2,     0.00,2,     2.49,2,    0.023,2,    0.008,2, -999.000,9,-999.0000,9,  -999.00,9,   -999.0,9,  -999.00,9,-999.000,9,   -999.9,9,   -999.9,9,  -999.0, -999.00,-999.0000,-999.000,-999.000
    316N145_10,  I07N,   718,  1,     16,     16,2,19950718,1126,-13.3905,  54.9938, 4515,   -999,   1193.2,   4.8131,  34.7240,2,  34.7238,2,    112.9,2,  4.7134,    112.7,2,    84.69,2,    34.44,2,     0.00,2,     2.52,2,    0.012,2,    0.006,2, -999.000,9,-999.0000,9,  -999.00,9,   -999.0,9,  -999.00,9,-999.000,9,   -999.9,9,   -999.9,9,  -999.0, -999.00,-999.0000,-999.000,-999.000
    316N145_10,  I07N,   718,  1,     15,     15,2,19950718,1126,-13.3905,  54.9938, 4515,   -999,   1399.6,   4.0790,  34.7129,2,  34.7130,2,    124.6,2,  3.9677,    125.0,2,    91.21,2,    34.26,2,     0.00,2,     2.50,2,    0.002,2,   -0.002,2, -999.000,9,-999.0000,9,  -999.00,9,   -999.0,9,  -999.00,9,-999.000,9,   -999.9,9,   -999.9,9,  -999.0, -999.00,-999.0000,-999.000,-999.000
    316N145_10,  I07N,   718,  1,     14,     14,2,19950718,1126,-13.3905,  54.9938, 4515,   -999,   1596.1,   3.4013,  34.7153,2,  34.7169,2,    137.2,2,  3.2802,    137.7,2,    97.58,2,    33.98,2,     0.00,2,     2.45,2,   -0.002,2,   -0.003,2, -999.000,9,-999.0000,9,  -999.00,9,   -999.0,9,  -999.00,9,-999.000,9,   -999.9,9,   -999.9,9,  -999.0, -999.00,-999.0000,-999.000,-999.000
    316N145_10,  I07N,   718,  1,     13,     13,2,19950718,1126,-13.3905,  54.9938, 4515,   -999,   1797.5,   2.9532,  34.7246,2,  34.7253,2,    145.1,2,  2.8202,    144.9,2,   105.24,2,    33.84,2,     0.00,2,     2.44,2, -999.000,9, -999.000,9, -999.000,9,-999.0000,9,  -999.00,9,   -999.0,9,  -999.00,9,-999.000,9,   -999.9,9,   -999.9,9,  -999.0, -999.00,-999.0000,-999.000,-999.000
    316N145_10,  I07N,   718,  1,     12,     12,2,19950718,1126,-13.3905,  54.9938, 4515,   -999,   1998.0,   2.6495,  34.7282,2,  34.7279,2,    151.2,2,  2.5032,    150.5,2,   109.34,2,    33.61,2,     0.00,2,     2.42,2, -999.000,9, -999.000,9, -999.000,9,-999.0000,9,  -999.00,9,   -999.0,9,  -999.00,9,-999.000,9,   -999.9,9,   -999.9,9,  -999.0, -999.00,-999.0000,-999.000,-999.000
    316N145_10,  I07N,   718,  1,     11,     11,2,19950718,1126,-13.3905,  54.9938, 4515,   -999,   2196.2,   2.4194,  34.7342,2,  34.7340,2,    153.8,2,  2.2591,    153.0,2,   114.91,2,    33.52,2,     0.00,2,     2.43,2, -999.000,9, -999.000,9, -999.000,9,-999.0000,9,  -999.00,9,   -999.0,9,  -999.00,9,-999.000,9,   -999.9,9,   -999.9,9,  -999.0, -999.00,-999.0000,-999.000,-999.000
    316N145_10,  I07N,   718,  1,     10,     10,2,19950718,1126,-13.3905,  54.9938, 4515,   -999,   2403.8,   2.1690,  34.7388,2,  34.7375,2,    157.3,2,  1.9941,    156.2,2,   121.05,2,    33.65,2,     0.00,2,     2.42,2, -999.000,9, -999.000,9, -999.000,9,-999.0000,9,  -999.00,9,   -999.0,9,  -999.00,9,-999.000,9,   -999.9,9,   -999.9,9,  -999.0, -999.00,-999.0000,-999.000,-999.000
    316N145_10,  I07N,   718,  1,      9,      9,2,19950718,1126,-13.3905,  54.9938, 4515,   -999,   2602.7,   2.0375,  34.7392,2,  34.7379,2,    157.9,2,  1.8468,    158.2,2,   124.31,2,    33.69,2,     0.00,2,     2.43,2, -999.000,9, -999.000,9, -999.000,9,-999.0000,9,  -999.00,9,   -999.0,9,  -999.00,9,-999.000,9,   -999.9,9,   -999.9,9,  -999.0, -999.00,-999.0000,-999.000,-999.000
    316N145_10,  I07N,   718,  1,      8,      8,2,19950718,1126,-13.3905,  54.9938, 4515,   -999,   2898.6,   1.8954,  34.7377,2,  34.7371,2,    161.4,2,  1.6796,    161.1,2,   127.39,2,    33.64,2,     0.00,2,     2.40,2, -999.000,9, -999.000,9, -999.000,9,-999.0000,9,  -999.00,9,   -999.0,9,  -999.00,9,-999.000,9,   -999.9,9,   -999.9,9,  -999.0, -999.00,-999.0000,-999.000,-999.000
    316N145_10,  I07N,   718,  1,      7,      7,2,19950718,1126,-13.3905,  54.9938, 4515,   -999,   3184.8,   1.7683,  34.7345,2,  34.7339,2,    165.7,2,  1.5272,    165.3,2,   128.83,2,    33.50,2,     0.00,2,     2.40,2, -999.000,9, -999.000,9, -999.000,9,-999.0000,9,  -999.00,9,   -999.0,9,  -999.00,9,-999.000,9,   -999.9,9,   -999.9,9,  -999.0, -999.00,-999.0000,-999.000,-999.000
    316N145_10,  I07N,   718,  1,      6,      6,2,19950718,1126,-13.3905,  54.9938, 4515,   -999,   3488.8,   1.6727,  34.7316,2,  34.7300,2,    169.0,2,  1.4032,    169.9,2,   129.90,2,    33.45,2,     0.00,2,     2.38,2, -999.000,9, -999.000,9, -999.000,9,-999.0000,9,  -999.00,9,   -999.0,9,  -999.00,9,-999.000,9,   -999.9,9,   -999.9,9,  -999.0, -999.00,-999.0000,-999.000,-999.000
    316N145_10,  I07N,   718,  1,      5,      5,2,19950718,1126,-13.3905,  54.9938, 4515,   -999,   3796.3,   1.5586,  34.7272,2,  34.7269,2,    175.0,2,  1.2598,    175.4,2,   129.87,2,    33.14,2,     0.00,2,     2.37,2,   -0.002,2,    0.002,2, -999.000,9,-999.0000,9,  -999.00,9,   -999.0,9,  -999.00,9,-999.000,9,   -999.9,9,   -999.9,9,  -999.0, -999.00,-999.0000,-999.000,-999.000
    316N145_10,  I07N,   718,  1,      4,      4,2,19950718,1126,-13.3905,  54.9938, 4515,   -999,   4095.0,   1.4249,  34.7218,2,  34.7212,2,    183.4,2,  1.0977,    183.7,2,   128.73,2,    32.73,2,     0.00,2,     2.32,2, -999.000,9, -999.000,9, -999.000,9,-999.0000,9,  -999.00,9,   -999.0,9,  -999.00,9,-999.000,9,   -999.9,9,   -999.9,9,  -999.0, -999.00,-999.0000,-999.000,-999.000
    316N145_10,  I07N,   718,  1,      3,      3,2,19950718,1126,-13.3905,  54.9938, 4515,   -999,   4486.7,   1.2876,  34.7164,2,  34.7190,3,    192.0,2,  0.9207,    192.7,2,   127.60,2,    32.32,2,     0.00,2,     2.29,2, -999.000,9, -999.000,9, -999.000,9,-999.0000,9,  -999.00,9,   -999.0,9,  -999.00,9,-999.000,9,   -999.9,9,   -999.9,9,  -999.0, -999.00,-999.0000,-999.000,-999.000
    316N145_10,  I07N,   718,  1,      2,      2,2,19950718,1126,-13.3905,  54.9938, 4515,   -999,   4554.7,   1.2619,  34.7152,2,  34.7147,2,    193.6,2,  0.8880,    193.8,2,   127.20,2,    32.23,2,     0.00,2,     2.28,2, -999.000,9, -999.000,9, -999.000,9,-999.0000,9,  -999.00,9,   -999.0,9,  -999.00,9,-999.000,9,   -999.9,9,   -999.9,9,  -999.0, -999.00,-999.0000,-999.000,-999.000
    316N145_10,  I07N,   718,  1,      1,      1,2,19950718,1126,-13.3905,  54.9938, 4515,   -999,   4587.8,   1.2524,  34.7138,2,  34.7137,2,    194.4,2,  0.8750,    194.4,2,   127.16,2,    32.22,2,     0.00,2,     2.28,2, -999.000,9, -999.000,9, -999.000,9,-999.0000,9,  -999.00,9,   -999.0,9,  -999.00,9,-999.000,9,   -999.9,9,   -999.9,9,  -999.0, -999.00,-999.0000,-999.000,-999.000