BOTTLE,20080821WHPSIOSCD
EXPOCODE,SECT_ID,STNNBR,CASTNO,SAMPNO,BTLNBR,BTLNBR_FLAG_W,DATE,TIME,LATITUDE,LONGITUDE,DEPTH,CTDRAW,CTDPRS,CTDTMP,CTDSAL,CTDSAL_FLAG_W,SALNTY,SALNTY_FLAG_W,CTDOXY,CTDOXY_FLAG_W,THETA,OXYGEN,OXYGEN_FLAG_W,SILCAT,SILCAT_FLAG_W,NITRAT,NITRAT_FLAG_W,NITRIT,NITRIT_FLAG_W,PHSPHT,PHSPHT_FLAG_W,CFC-11,CFC-11_FLAG_W,CFC-12,CFC-12_FLAG_W,TRITUM,TRITUM_FLAG_W,HELIUM,HELIUM_FLAG_W,DELHE3,DELHE3_FLAG_W,DELC14,DELC14_FLAG_W,DELC13,DELC13_FLAG_W,NEON,NEON_FLAG_W,TCARBN,TCARBN_FLAG_W,ALKALI,ALKALI_FLAG_W,C14ERR,DELHER,HELIER,NEONER,TRITER
,,,,,,,,,,,,,DBAR,ITS-90,PSS-78,,PSS-78,,UMOL/KG,,DEG C,UMOL/KG,,UMOL/KG,,UMOL/KG,,UMOL/KG,,UMOL/KG,,PMOL/KG,,PMOL/KG,,TU,,NMOL/KG,,PERCNT,,/MILLE,,/MILLE,,NMOL/KG,,UMOL/KG,,UMOL/KG,,/MILLE,PERCNT,NMOL/KG,NMOL/KG,TU
    316N145_10,  I07N,   822,  1,     36,     36,2,19950815,0327, 21.7337,  62.8673, 3251,   -999,     10.0,  25.9150,  36.3907,2,  36.3904,2,    196.3,2, 25.9130,    192.3,2,     3.71,2,     3.44,2,     0.27,2,     0.64,2,    1.747,2,    0.984,2,    0.803,2,   1.6590,2,    -0.90,2,   -999.0,9,  -999.00,9,   6.770,2,   2062.5,2,   2377.5,2,  -999.0,    0.20,  0.0080,   0.135,   0.008
    316N145_10,  I07N,   822,  1,     35,     35,2,19950815,0327, 21.7337,  62.8673, 3251,   -999,     35.4,  25.9070,  36.3899,2,  36.3897,2,    197.3,2, 25.8994,    191.6,2,     3.87,2,     3.48,2,     0.27,2,     0.64,2, -999.000,9, -999.000,9, -999.000,9,-999.0000,9,  -999.00,9,   -999.0,9,  -999.00,9,-999.000,9,   2062.6,2,   2381.7,2,  -999.0, -999.00,-999.0000,-999.000,-999.000
    316N145_10,  I07N,   822,  1,     34,     34,2,19950815,0327, 21.7337,  62.8673, 3251,   -999,     53.1,  24.0574,  36.5275,2,  36.5176,2,    123.7,2, 24.0464,    111.9,2,     5.93,2,    12.49,2,     0.20,2,     1.09,2, -999.000,9, -999.000,9, -999.000,9,-999.0000,9,  -999.00,9,   -999.0,9,  -999.00,9,-999.000,9,   2131.0,2,   2385.2,2,  -999.0, -999.00,-999.0000,-999.000,-999.000
    316N145_10,  I07N,   822,  1,     33,     33,2,19950815,0327, 21.7337,  62.8673, 3251,   -999,     79.6,  22.9427,  36.4543,2,  36.4431,2,     82.1,2, 22.9266,     73.4,2,     9.02,2,    17.42,2,     0.04,2,     1.46,2,    1.676,2,    0.962,2,    0.695,2,   1.7480,2,     1.80,2,   -999.0,9,  -999.00,9,   7.007,2,   2170.2,2,   2373.8,2,  -999.0,    0.20,  0.0090,   0.140,   0.008
    316N145_10,  I07N,   822,  1,     32,     32,2,19950815,0327, 21.7337,  62.8673, 3251,   -999,    104.5,  21.4666,  36.2242,2,  36.2128,2,     17.4,2, 21.4464,     10.5,2,    14.17,2,    23.38,2,     0.04,2,     1.99,2,    1.411,2,    0.808,2, -999.000,9,-999.0000,9,  -999.00,9,   -999.0,9,  -999.00,9,-999.000,9,   2220.4,2,   2360.2,2,  -999.0, -999.00,-999.0000,-999.000,-999.000
    316N145_10,  I07N,   822,  1,     31,     31,2,19950815,0327, 21.7337,  62.8673, 3251,   -999,    125.3,  20.2424,  36.0888,2,  36.0943,2,      1.3,2, 20.2192,      2.3,2,    18.12,2,    23.51,2,     0.00,2,     2.13,2, -999.000,9, -999.000,9, -999.000,9,-999.0000,9,  -999.00,9,   -999.0,9,  -999.00,9,-999.000,9,   2234.3,2,   2350.7,2,  -999.0, -999.00,-999.0000,-999.000,-999.000
    316N145_10,  I07N,   822,  1,     30,     30,2,19950815,0327, 21.7337,  62.8673, 3251,   -999,    150.2,  19.4270,  36.1811,2,  36.1759,2,      3.6,2, 19.3998,      5.2,2,    20.35,2,    22.19,2,     0.00,2,     2.15,2,    1.030,2,    0.628,2,    0.504,2,   1.7530,2,     4.90,2,   -999.0,9,  -999.00,9,   7.136,2,   2241.4,2,   2354.9,2,  -999.0,    0.20,  0.0090,   0.143,   0.008
    316N145_10,  I07N,   822,  1,     29,     29,2,19950815,0327, 21.7337,  62.8673, 3251,   -999,    175.5,  18.5551,  36.2473,2,  36.2618,2,      6.2,2, 18.5243,      8.0,2,    22.39,2,    21.44,2,     0.00,2,     2.15,2, -999.000,9, -999.000,9, -999.000,9,-999.0000,9,  -999.00,9,   -999.0,9,  -999.00,9,-999.000,9,   2246.4,2,   2362.0,2,  -999.0, -999.00,-999.0000,-999.000,-999.000
    316N145_10,  I07N,   822,  1,     28,     28,2,19950815,0327, 21.7337,  62.8673, 3251,   -999,    199.5,  18.4514,  36.3947,2,  36.3844,2,     10.7,2, 18.4164,     12.2,2,    22.38,2,    20.92,2,     0.01,2,     2.10,2,    0.898,2,    0.568,2, -999.000,9,-999.0000,9,  -999.00,9,   -999.0,9,  -999.00,9,-999.000,9,   2246.4,2,   2364.4,2,  -999.0, -999.00,-999.0000,-999.000,-999.000
    316N145_10,  I07N,   822,  1,     27,     27,2,19950815,0327, 21.7337,  62.8673, 3251,   -999,    219.4,  17.3202,  36.2317,2,  36.2360,2,      4.3,2, 17.2834,      4.3,2,    24.94,2,    21.67,2,     0.00,2,     2.22,2, -999.000,9, -999.000,9, -999.000,9,-999.0000,9,  -999.00,9,   -999.0,9,  -999.00,9,-999.000,9,   2257.1,2,   2361.6,2,  -999.0, -999.00,-999.0000,-999.000,-999.000
    316N145_10,  I07N,   822,  1,     26,     26,2,19950815,0327, 21.7337,  62.8673, 3251,   -999,    234.4,  17.3901,  36.3387,2,  36.3249,2,      6.9,2, 17.3506,      7.8,2,    24.93,2,    21.52,2,     0.01,2,     2.17,2, -999.000,9, -999.000,9, -999.000,9,-999.0000,9,  -999.00,9,   -999.0,9,  -999.00,9,-999.000,9,   2257.6,2,   2362.6,2,  -999.0, -999.00,-999.0000,-999.000,-999.000
    316N145_10,  I07N,   822,  1,     25,     25,2,19950815,0327, 21.7337,  62.8673, 3251,   -999,    271.4,  16.1026,  36.1932,2,  36.1967,2,      2.6,2, 16.0592,      3.6,2,    27.49,2,    22.70,2,     0.00,2,     2.26,2,    0.623,2,    0.382,2,    0.387,2,   1.7660,2,     4.90,2,   -999.0,9,  -999.00,9,   7.323,2,   2265.2,2,   2361.6,2,  -999.0,    0.20,  0.0090,   0.146,   0.008
    316N145_10,  I07N,   822,  1,     24,     24,2,19950815,0327, 21.7337,  62.8673, 3251,   -999,    335.4,  14.9541,  36.0561,2,  36.0521,2,      1.4,2, 14.9030,      1.2,2,    31.26,2,    23.55,2,     0.00,2,     2.36,2,    0.461,2,    0.283,2, -999.000,9,-999.0000,9,  -999.00,9,   -999.0,9,  -999.00,9,-999.000,9,   2271.1,2,   2354.1,2,  -999.0, -999.00,-999.0000,-999.000,-999.000
    316N145_10,  I07N,   822,  1,     23,     23,2,19950815,0327, 21.7337,  62.8673, 3251,   -999,    399.2,  13.8772,  35.9081,2,  35.9073,2,      1.5,2, 13.8192,      1.1,2,    35.55,2,    24.67,2,     0.00,2,     2.45,2,    0.329,2,    0.193,2, -999.000,9,-999.0000,9,  -999.00,9,   -999.0,9,  -999.00,9,-999.000,9,   2275.0,2,   2354.3,2,  -999.0, -999.00,-999.0000,-999.000,-999.000
    316N145_10,  I07N,   822,  1,     22,     22,2,19950815,0327, 21.7337,  62.8673, 3251,   -999,    500.1,  12.7526,  35.7727,2,  35.7716,2,      1.6,2, 12.6835,      1.5,2,    41.73,2,    26.22,2,     0.00,2,     2.55,2,    0.180,2,    0.109,2,    0.121,2,-999.0000,9,  -999.00,9,   -999.0,9,  -999.00,9,-999.000,9,   2279.7,2,   2349.7,2,  -999.0, -999.00,-999.0000,-999.000,   0.008
    316N145_10,  I07N,   822,  1,     21,     21,2,19950815,0327, 21.7337,  62.8673, 3251,   -999,    600.0,  11.7867,  35.6707,2,  35.6701,2,      1.7,2, 11.7076,      1.8,2,    48.94,2,    28.68,2,     0.00,2,     2.65,2,    0.089,2,    0.055,2, -999.000,9,-999.0000,9,  -999.00,9,   -999.0,9,  -999.00,9,-999.000,9,   2285.2,2,   2355.8,2,  -999.0, -999.00,-999.0000,-999.000,-999.000
    316N145_10,  I07N,   822,  1,     20,     20,2,19950815,0327, 21.7337,  62.8673, 3251,   -999,    649.9,  11.4263,  35.6386,2,  35.6383,2,      1.7,2, 11.3421,      1.3,2,    52.70,2,    29.52,2,     0.00,2,     2.68,2,    0.066,2,    0.038,2, -999.000,9,-999.0000,9,  -999.00,9,   -999.0,9,  -999.00,9,-999.000,9,   2290.1,2,   2358.1,2,  -999.0, -999.00,-999.0000,-999.000,-999.000
    316N145_10,  I07N,   822,  1,     19,     19,2,19950815,0327, 21.7337,  62.8673, 3251,   -999,    748.7,  10.6627,  35.5806,2,  35.5784,2,      1.8,2, 10.5694,      1.8,2,    60.10,2,    32.03,2,     0.00,2,     2.75,2,    0.045,2,    0.025,2,    0.062,2,   1.8690,2,    10.10,2,   -999.0,9,  -999.00,9,   7.694,2,   2297.5,2,   2360.6,2,  -999.0,    0.20,  0.0090,   0.154,   0.008
    316N145_10,  I07N,   822,  1,     18,     18,2,19950815,0327, 21.7337,  62.8673, 3251,   -999,    849.6,   9.8292,  35.5062,2,  35.5072,2,      2.0,2,  9.7279,      1.8,2,    67.50,2,    34.08,2,     0.00,2,     2.83,2,    0.024,2,    0.017,2, -999.000,9,-999.0000,9,  -999.00,9,   -999.0,9,  -999.00,9,-999.000,9,   2307.2,2,   2369.5,2,  -999.0, -999.00,-999.0000,-999.000,-999.000
    316N145_10,  I07N,   822,  1,     17,     17,2,19950815,0327, 21.7337,  62.8673, 3251,   -999,    949.7,   8.9499,  35.4191,2,  35.4190,2,      2.1,2,  8.8422,      2.9,2,    75.44,2,    36.03,2,     0.00,2,     2.91,2, -999.000,9, -999.000,9, -999.000,9,-999.0000,9,  -999.00,9,   -999.0,9,  -999.00,9,-999.000,9,   2318.0,2,   2370.7,2,  -999.0, -999.00,-999.0000,-999.000,-999.000
    316N145_10,  I07N,   822,  1,     16,     16,2,19950815,0327, 21.7337,  62.8673, 3251,   -999,   1050.7,   8.3161,  35.3524,2,  35.3516,2,      3.7,2,  8.2012,      4.6,2,    81.32,2,    37.18,2,     0.00,2,     2.97,2,    0.013,2,    0.008,2,    0.000,2,   1.7930,2,     8.00,2,   -999.0,9,  -999.00,9,   7.506,2,   2324.4,2,   2377.8,2,  -999.0,    0.20,  0.0090,   0.150,   0.008
    316N145_10,  I07N,   822,  1,     15,     15,2,19950815,0327, 21.7337,  62.8673, 3251,   -999,   1228.0,   7.0639,  35.2162,2,  35.2151,2,     12.2,2,  6.9395,     13.1,2,    92.66,2,    38.48,2,     0.00,2,     3.03,2,    0.004,2,    0.003,2, -999.000,9,-999.0000,9,  -999.00,9,   -999.0,9,  -999.00,9,-999.000,9,   2337.3,2,   2381.7,2,  -999.0, -999.00,-999.0000,-999.000,-999.000
    316N145_10,  I07N,   822,  1,     14,     14,2,19950815,0327, 21.7337,  62.8673, 3251,   -999,   1404.5,   6.0519,  35.1114,2,  35.1123,2,     25.1,2,  5.9186,     24.7,2,   102.87,2,    38.92,2,     0.00,2,     3.04,2,    0.000,2,    0.000,2,    0.000,2,-999.0000,9,  -999.00,9,   -999.0,9,  -999.00,9,-999.000,9,   2346.2,2,   2395.6,2,  -999.0, -999.00,-999.0000,-999.000,   0.008
    316N145_10,  I07N,   822,  1,     13,     13,2,19950815,0327, 21.7337,  62.8673, 3251,   -999,   1572.6,   4.9497,  35.0061,2,  35.0056,2,     43.4,2,  4.8117,     43.0,2,   114.48,2,    38.87,2,     0.00,2,     2.98,2,    0.001,2,    0.000,2, -999.000,9,-999.0000,9,  -999.00,9,   -999.0,9,  -999.00,9,-999.000,9,   2352.3,2,   2403.3,2,  -999.0, -999.00,-999.0000,-999.000,-999.000
    316N145_10,  I07N,   822,  1,     12,     12,2,19950815,0327, 21.7337,  62.8673, 3251,   -999,   1750.7,   4.0597,  34.9241,2,  34.9266,2,     61.4,2,  3.9157,     59.7,2,   124.28,2,    38.57,2,     0.00,2,     2.93,2,    0.001,2,    0.002,2,    0.000,2,   1.8690,2,    13.20,2,   -999.0,9,  -999.00,9,   7.859,2,   2352.6,2,   2417.2,2,  -999.0,    0.20,  0.0090,   0.157,   0.008
    316N145_10,  I07N,   822,  1,     11,     11,2,19950815,0327, 21.7337,  62.8673, 3251,   -999,   1924.6,   3.3552,  34.8643,2,  34.8637,2,     76.9,2,  3.2047,     75.9,2,   132.03,2,    38.19,2,     0.00,2,     2.84,2,    0.001,2,    0.001,2, -999.000,9,-999.0000,9,  -999.00,9,   -999.0,9,  -999.00,9,-999.000,9,   2362.0,2,   2422.0,2,  -999.0, -999.00,-999.0000,-999.000,-999.000
    316N145_10,  I07N,   822,  1,     10,     10,2,19950815,0327, 21.7337,  62.8673, 3251,   -999,   2102.2,   2.8657,  34.8227,2,  34.8229,2,     90.3,2,  2.7064,     89.9,2,   136.88,2,    37.70,2,     0.00,2,     2.78,2,   -0.001,2,   -0.001,2,    0.000,2,   1.8870,2,    13.10,2,   -999.0,9,  -999.00,9,   8.117,2,   2365.4,2,   2432.2,2,  -999.0,    0.20,  0.0090,   0.162,   0.008
    316N145_10,  I07N,   822,  1,      9,      9,2,19950815,0327, 21.7337,  62.8673, 3251,   -999,   2273.6,   2.5091,  34.7948,2,  34.7952,2,     99.8,2,  2.3400,     99.9,2,   141.02,2,    37.36,2,     0.00,2,     2.73,2,    0.000,2,    0.000,2, -999.000,9,   1.9090,2,    14.30,2,   -999.0,9,  -999.00,9,   8.287,2,   2357.7,2,   2433.6,2,  -999.0,    0.20,  0.0100,   0.166,-999.000
    316N145_10,  I07N,   822,  1,      8,      8,2,19950815,0327, 21.7337,  62.8673, 3251,   -999,   2446.4,   2.2667,  34.7770,2,  34.7776,2,    106.4,2,  2.0860,    106.3,2,   144.24,2,    37.17,2,     0.00,2,     2.70,2,    0.000,2,    0.004,2,    0.000,2,   1.9000,2,    13.70,2,   -999.0,9,  -999.00,9,   8.398,2,   2359.5,2,   2442.9,2,  -999.0,    0.20,  0.0090,   0.168,   0.008
    316N145_10,  I07N,   822,  1,      7,      7,2,19950815,0327, 21.7337,  62.8673, 3251,   -999,   2623.5,   2.0572,  34.7627,2,  34.7633,2,    111.8,2,  1.8641,    111.7,2,   147.10,2,    36.92,2,     0.00,2,     2.66,2,    0.000,2,   -0.001,2, -999.000,9,-999.0000,9,  -999.00,9,   -999.0,9,  -999.00,9,-999.000,9,   2360.8,2,   2445.0,2,  -999.0, -999.00,-999.0000,-999.000,-999.000
    316N145_10,  I07N,   822,  1,      6,      6,2,19950815,0327, 21.7337,  62.8673, 3251,   -999,   2797.6,   1.9068,  34.7522,2,  34.7525,2,    115.1,2,  1.7003,    115.5,2,   149.79,2,    36.82,2,     0.00,2,     2.64,2,    0.002,2,    0.002,2, -999.000,9,   1.9090,2,    14.80,2,   -999.0,9,  -999.00,9,   8.380,2,   2364.3,2,   2455.9,2,  -999.0,    0.20,  0.0100,   0.168,-999.000
    316N145_10,  I07N,   822,  1,      5,      5,2,19950815,0327, 21.7337,  62.8673, 3251,   -999,   2939.8,   1.8260,  34.7469,2,  34.7468,2,    118.3,2,  1.6077,    118.6,2,   150.33,2,    36.68,2,     0.00,2,     2.62,2, -999.000,9, -999.000,9, -999.000,9,-999.0000,9,  -999.00,9,   -999.0,9,  -999.00,9,-999.000,9,   2365.9,2,   2452.3,2,  -999.0, -999.00,-999.0000,-999.000,-999.000
    316N145_10,  I07N,   822,  1,      4,      4,2,19950815,0327, 21.7337,  62.8673, 3251,   -999,   3042.1,   1.7852,  34.7438,2,  34.7433,2,    119.6,2,  1.5578,    120.3,2,   150.68,2,    36.63,2,     0.00,2,     2.61,2,    0.002,2,    0.007,2, -999.000,9,   1.8960,2,    13.90,2,   -999.0,9,  -999.00,9,   8.322,2,   2363.9,2,   2458.5,2,  -999.0,    0.20,  0.0090,   0.166,-999.000
    316N145_10,  I07N,   822,  1,      3,      3,2,19950815,0327, 21.7337,  62.8673, 3251,   -999,   3138.2,   1.7523,  34.7416,2,  34.7411,2,    120.5,2,  1.5162,    121.0,2,   151.42,2,    36.62,2,     0.00,2,     2.60,2,    0.005,2,    0.010,2, -999.000,9,   1.9000,2,    14.10,2,   -999.0,9,  -999.00,9,   8.340,2,   2365.9,2,   2457.9,2,  -999.0,    0.20,  0.0090,   0.167,-999.000
    316N145_10,  I07N,   822,  1,      2,      2,2,19950815,0327, 21.7337,  62.8673, 3251,   -999,   3238.3,   1.7329,  34.7398,2,  34.7394,2,    121.1,2,  1.4873,    121.0,2,   152.16,2,    36.62,2,     0.00,2,     2.60,2,    0.006,2,    0.013,2, -999.000,9,-999.0000,9,  -999.00,9,   -999.0,9,  -999.00,9,-999.000,9,   2369.2,2,   2460.1,2,  -999.0, -999.00,-999.0000,-999.000,-999.000
    316N145_10,  I07N,   822,  1,      1,      1,2,19950815,0327, 21.7337,  62.8673, 3251,   -999,   3295.5,   1.7361,  34.7396,2,  34.7394,2,    120.7,2,  1.4847,    121.0,2,   151.91,2,    36.61,2,     0.00,2,     2.62,2,    0.007,2,    0.013,2,    0.000,2,   1.8910,2,    14.40,2,   -999.0,9,  -999.00,9,   8.318,2,   2368.1,2,   2464.0,2,  -999.0,    0.20,  0.0090,   0.166,   0.008