BOTTLE,20080821WHPSIOSCD
EXPOCODE,SECT_ID,STNNBR,CASTNO,SAMPNO,BTLNBR,BTLNBR_FLAG_W,DATE,TIME,LATITUDE,LONGITUDE,DEPTH,CTDRAW,CTDPRS,CTDTMP,CTDSAL,CTDSAL_FLAG_W,SALNTY,SALNTY_FLAG_W,CTDOXY,CTDOXY_FLAG_W,THETA,OXYGEN,OXYGEN_FLAG_W,SILCAT,SILCAT_FLAG_W,NITRAT,NITRAT_FLAG_W,NITRIT,NITRIT_FLAG_W,PHSPHT,PHSPHT_FLAG_W,CFC-11,CFC-11_FLAG_W,CFC-12,CFC-12_FLAG_W,TRITUM,TRITUM_FLAG_W,HELIUM,HELIUM_FLAG_W,DELHE3,DELHE3_FLAG_W,DELC14,DELC14_FLAG_W,DELC13,DELC13_FLAG_W,NEON,NEON_FLAG_W,TCARBN,TCARBN_FLAG_W,ALKALI,ALKALI_FLAG_W,C14ERR,DELHER,HELIER,NEONER,TRITER
,,,,,,,,,,,,,DBAR,ITS-90,PSS-78,,PSS-78,,UMOL/KG,,DEG C,UMOL/KG,,UMOL/KG,,UMOL/KG,,UMOL/KG,,UMOL/KG,,PMOL/KG,,PMOL/KG,,TU,,NMOL/KG,,PERCNT,,/MILLE,,/MILLE,,NMOL/KG,,UMOL/KG,,UMOL/KG,,/MILLE,PERCNT,NMOL/KG,NMOL/KG,TU
    316N145_10,  I07N,   819,  1,     36,     36,2,19950814,1039, 20.7172,  63.9997, 3375,   -999,      5.7,  27.4614,  36.6393,2,  36.6425,2,    199.4,2, 27.4603,    195.8,2,     2.02,2,     0.08,2,     0.00,2,     0.38,2,    1.631,2,    0.923,2, -999.000,9,-999.0000,9,  -999.00,9,   -999.0,9,  -999.00,9,-999.000,9,   2032.9,2,   2392.3,2,  -999.0, -999.00,-999.0000,-999.000,-999.000
    316N145_10,  I07N,   819,  1,     35,     35,2,19950814,1039, 20.7172,  63.9997, 3375,   -999,     39.8,  27.4651,  36.6412,2,  36.6421,2,    197.8,2, 27.4561,    194.9,2,     2.00,2,     0.08,2,     0.00,2,     0.37,2, -999.000,9, -999.000,9, -999.000,9,-999.0000,9,  -999.00,9,   -999.0,9,  -999.00,9,-999.000,9,   -999.9,9,   -999.9,9,  -999.0, -999.00,-999.0000,-999.000,-999.000
    316N145_10,  I07N,   819,  1,     34,     34,2,19950814,1039, 20.7172,  63.9997, 3375,   -999,     74.9,  23.6632,  36.3800,2,  36.4060,2,    108.0,2, 23.6477,    109.2,2,     6.49,2,    13.21,2,     0.03,2,     1.19,2,    1.725,2,    0.969,2, -999.000,9,-999.0000,9,  -999.00,9,   -999.0,9,  -999.00,9,-999.000,9,   -999.9,9,   -999.9,9,  -999.0, -999.00,-999.0000,-999.000,-999.000
    316N145_10,  I07N,   819,  1,     33,     33,2,19950814,1039, 20.7172,  63.9997, 3375,   -999,     89.8,  23.3509,  36.4146,2,  36.3813,2,    121.9,2, 23.3325,     91.3,2,     8.09,2,    15.16,2,     0.03,2,     1.35,2,    1.661,2,    0.947,2, -999.000,9,-999.0000,9,  -999.00,9,   -999.0,9,  -999.00,9,-999.000,9,   -999.9,9,   -999.9,9,  -999.0, -999.00,-999.0000,-999.000,-999.000
    316N145_10,  I07N,   819,  1,     32,     32,2,19950814,1039, 20.7172,  63.9997, 3375,   -999,    119.7,  21.5802,  36.1742,2,  36.1710,2,     21.2,2, 21.5569,     18.1,2,    13.29,2,    22.49,2,     0.02,2,     1.95,2,    1.432,2,    0.818,2, -999.000,9,-999.0000,9,  -999.00,9,   -999.0,9,  -999.00,9,-999.000,9,   -999.9,9,   -999.9,9,  -999.0, -999.00,-999.0000,-999.000,-999.000
    316N145_10,  I07N,   819,  1,     31,     31,2,19950814,1039, 20.7172,  63.9997, 3375,   -999,    185.4,  17.9679,  35.9411,2,  35.9560,2,      1.0,2, 17.9361,      1.1,2,    23.70,2,    17.42,2,     3.56,2,     2.33,2,    0.749,2,    0.483,2, -999.000,9,-999.0000,9,  -999.00,9,   -999.0,9,  -999.00,9,-999.000,9,   -999.9,9,   -999.9,9,  -999.0, -999.00,-999.0000,-999.000,-999.000
    316N145_10,  I07N,   819,  1,     30,     30,2,19950814,1039, 20.7172,  63.9997, 3375,   -999,    224.8,  17.0617,  36.0716,2,  36.0762,2,      1.0,2, 17.0244,      1.3,2,    26.01,2,    19.49,2,     1.30,2,     2.33,2,    0.643,2,    0.406,2, -999.000,9,-999.0000,9,  -999.00,9,   -999.0,9,  -999.00,9,-999.000,9,   -999.9,9,   -999.9,9,  -999.0, -999.00,-999.0000,-999.000,-999.000
    316N145_10,  I07N,   819,  1,     29,     29,2,19950814,1039, 20.7172,  63.9997, 3375,   -999,    279.9,  15.8290,  36.1129,2,  36.1127,2,      1.1,2, 15.7847,      0.9,2,    29.04,2,    20.06,2,     1.10,2,     2.37,2, -999.000,9, -999.000,9, -999.000,9,-999.0000,9,  -999.00,9,   -999.0,9,  -999.00,9,-999.000,9,   -999.9,9,   -999.9,9,  -999.0, -999.00,-999.0000,-999.000,-999.000
    316N145_10,  I07N,   819,  1,     28,     28,2,19950814,1039, 20.7172,  63.9997, 3375,   -999,    350.1,  14.5773,  36.0051,2,  36.0081,2,      1.2,2, 14.5248,      1.0,2,    32.97,2,    20.56,2,     1.62,2,     2.46,2,    0.366,2,    0.242,2, -999.000,9,-999.0000,9,  -999.00,9,   -999.0,9,  -999.00,9,-999.000,9,   -999.9,9,   -999.9,9,  -999.0, -999.00,-999.0000,-999.000,-999.000
    316N145_10,  I07N,   819,  1,     27,     27,2,19950814,1039, 20.7172,  63.9997, 3375,   -999,    426.9,  13.5561,  35.8875,2,  35.8853,2,      1.3,2, 13.4949,      0.9,2,    37.98,2,    22.48,2,     1.02,2,     2.56,2,    0.236,2,    0.154,2, -999.000,9,-999.0000,9,  -999.00,9,   -999.0,9,  -999.00,9,-999.000,9,   -999.9,9,   -999.9,9,  -999.0, -999.00,-999.0000,-999.000,-999.000
    316N145_10,  I07N,   819,  1,     26,     26,2,19950814,1039, 20.7172,  63.9997, 3375,   -999,    476.9,  12.9780,  35.8137,2,  35.8141,2,      1.3,2, 12.9114,      1.2,2,    41.18,2,    23.56,2,     0.82,2,     2.61,2,    0.172,2,    0.109,2, -999.000,9,-999.0000,9,  -999.00,9,   -999.0,9,  -999.00,9,-999.000,9,   -999.9,9,   -999.9,9,  -999.0, -999.00,-999.0000,-999.000,-999.000
    316N145_10,  I07N,   819,  1,     25,     25,2,19950814,1039, 20.7172,  63.9997, 3375,   -999,    547.3,  12.2848,  35.7258,2,  35.7260,2,      1.4,2, 12.2109,      1.2,2,    45.46,2,    25.86,2,     0.20,2,     2.66,2,    0.115,2,    0.077,2, -999.000,9,-999.0000,9,  -999.00,9,   -999.0,9,  -999.00,9,-999.000,9,   -999.9,9,   -999.9,9,  -999.0, -999.00,-999.0000,-999.000,-999.000
    316N145_10,  I07N,   819,  1,     24,     24,2,19950814,1039, 20.7172,  63.9997, 3375,   -999,    653.8,  11.3893,  35.6323,2,  35.6314,2,      1.5,2, 11.3048,      1.6,2,    52.26,2,    29.45,2,     0.00,2,     2.73,2,    0.062,2,    0.038,2, -999.000,9,-999.0000,9,  -999.00,9,   -999.0,9,  -999.00,9,-999.000,9,   -999.9,9,   -999.9,9,  -999.0, -999.00,-999.0000,-999.000,-999.000
    316N145_10,  I07N,   819,  1,     23,     23,2,19950814,1039, 20.7172,  63.9997, 3375,   -999,    748.7,  10.7367,  35.5838,2,  35.5835,2,      1.6,2, 10.6430,      2.2,2,    58.34,2,    31.76,2,     0.00,2,     2.78,2,    0.045,2,    0.030,2, -999.000,9,-999.0000,9,  -999.00,9,   -999.0,9,  -999.00,9,-999.000,9,   -999.9,9,   -999.9,9,  -999.0, -999.00,-999.0000,-999.000,-999.000
    316N145_10,  I07N,   819,  1,     22,     22,2,19950814,1039, 20.7172,  63.9997, 3375,   -999,    847.6,   9.9209,  35.5119,2,  35.5136,2,      1.7,2,  9.8193,      1.8,2,    65.86,2,    33.52,2,     0.00,2,     2.87,2, -999.000,9, -999.000,9, -999.000,9,-999.0000,9,  -999.00,9,   -999.0,9,  -999.00,9,-999.000,9,   -999.9,9,   -999.9,9,  -999.0, -999.00,-999.0000,-999.000,-999.000
    316N145_10,  I07N,   819,  1,     21,     21,2,19950814,1039, 20.7172,  63.9997, 3375,   -999,    948.1,   9.1492,  35.4367,2,  35.4368,2,      1.8,2,  9.0403,      2.3,2,    72.86,2,    35.28,2,     0.00,2,     2.94,2,    0.014,2,    0.009,2, -999.000,9,-999.0000,9,  -999.00,9,   -999.0,9,  -999.00,9,-999.000,9,   -999.9,9,   -999.9,9,  -999.0, -999.00,-999.0000,-999.000,-999.000
    316N145_10,  I07N,   819,  1,     20,     20,2,19950814,1039, 20.7172,  63.9997, 3375,   -999,   1050.0,   8.3989,  35.3598,2,  35.3608,2,      3.5,2,  8.2834,      4.5,2,    79.32,2,    36.66,2,     0.00,2,     2.99,2, -999.000,9, -999.000,9, -999.000,9,-999.0000,9,  -999.00,9,   -999.0,9,  -999.00,9,-999.000,9,   -999.9,9,   -999.9,9,  -999.0, -999.00,-999.0000,-999.000,-999.000
    316N145_10,  I07N,   819,  1,     19,     19,2,19950814,1039, 20.7172,  63.9997, 3375,   -999,   1149.5,   7.6274,  35.2772,2,  35.2722,2,      7.2,2,  7.5068,      8.4,2,    86.35,2,    37.62,2,     0.00,2,     3.05,2,    0.008,2,    0.006,2, -999.000,9,-999.0000,9,  -999.00,9,   -999.0,9,  -999.00,9,-999.000,9,   -999.9,9,   -999.9,9,  -999.0, -999.00,-999.0000,-999.000,-999.000
    316N145_10,  I07N,   819,  1,     18,     18,2,19950814,1039, 20.7172,  63.9997, 3375,   -999,   1247.9,   6.9053,  35.1986,2,  35.2000,2,     13.6,2,  6.7803,     14.8,2,    92.49,2,    38.15,2,     0.00,2,     3.06,2, -999.000,9, -999.000,9, -999.000,9,-999.0000,9,  -999.00,9,   -999.0,9,  -999.00,9,-999.000,9,   -999.9,9,   -999.9,9,  -999.0, -999.00,-999.0000,-999.000,-999.000
    316N145_10,  I07N,   819,  1,     17,     17,2,19950814,1039, 20.7172,  63.9997, 3375,   -999,   1349.8,   6.2779,  35.1340,2,  35.1310,2,     21.3,2,  6.1481,     22.5,2,    98.66,2,    38.44,2,     0.00,2,     3.06,2,    0.002,2,    0.001,2, -999.000,9,-999.0000,9,  -999.00,9,   -999.0,9,  -999.00,9,-999.000,9,   -999.9,9,   -999.9,9,  -999.0, -999.00,-999.0000,-999.000,-999.000
    316N145_10,  I07N,   819,  1,     16,     16,2,19950814,1039, 20.7172,  63.9997, 3375,   -999,   1448.5,   5.6105,  35.0682,2,  35.0691,2,     32.0,2,  5.4775,     31.7,2,   105.41,2,    38.44,2,     0.00,2,     3.05,2, -999.000,9, -999.000,9, -999.000,9,-999.0000,9,  -999.00,9,   -999.0,9,  -999.00,9,-999.000,9,   -999.9,9,   -999.9,9,  -999.0, -999.00,-999.0000,-999.000,-999.000
    316N145_10,  I07N,   819,  1,     15,     15,2,19950814,1039, 20.7172,  63.9997, 3375,   -999,   1549.1,   4.9875,  35.0102,2,  35.0095,2,     41.2,2,  4.8514,     42.2,2,   111.83,2,    38.35,2,     0.00,2,     3.02,2,    0.000,2,    0.001,2, -999.000,9,-999.0000,9,  -999.00,9,   -999.0,9,  -999.00,9,-999.000,9,   -999.9,9,   -999.9,9,  -999.0, -999.00,-999.0000,-999.000,-999.000
    316N145_10,  I07N,   819,  1,     14,     14,2,19950814,1039, 20.7172,  63.9997, 3375,   -999,   1649.5,   4.3714,  34.9538,2,  34.9541,2,     53.5,2,  4.2330,     52.7,2,   118.50,2,    38.25,2,     0.00,2,     2.98,2, -999.000,9, -999.000,9, -999.000,9,-999.0000,9,  -999.00,9,   -999.0,9,  -999.00,9,-999.000,9,   -999.9,9,   -999.9,9,  -999.0, -999.00,-999.0000,-999.000,-999.000
    316N145_10,  I07N,   819,  1,     13,     13,2,19950814,1039, 20.7172,  63.9997, 3375,   -999,   1750.5,   3.9041,  34.9104,2,  34.9115,2,     64.8,2,  3.7621,     63.2,2,   123.33,2,    38.06,2,     0.00,2,     2.93,2,    0.002,2,    0.003,2, -999.000,9,-999.0000,9,  -999.00,9,   -999.0,9,  -999.00,9,-999.000,9,   -999.9,9,   -999.9,9,  -999.0, -999.00,-999.0000,-999.000,-999.000
    316N145_10,  I07N,   819,  1,     12,     12,2,19950814,1039, 20.7172,  63.9997, 3375,   -999,   1850.7,   3.5575,  34.8814,2,  34.8814,2,     73.2,2,  3.4110,     71.9,2,   126.86,2,    37.72,2,     0.00,2,     2.89,2, -999.000,9, -999.000,9, -999.000,9,-999.0000,9,  -999.00,9,   -999.0,9,  -999.00,9,-999.000,9,   -999.9,9,   -999.9,9,  -999.0, -999.00,-999.0000,-999.000,-999.000
    316N145_10,  I07N,   819,  1,     11,     11,2,19950814,1039, 20.7172,  63.9997, 3375,   -999,   1948.2,   3.2323,  34.8542,2,  34.8559,2,     79.3,2,  3.0814,     78.8,2,   130.80,2,    37.58,2,     0.00,2,     2.84,2, -999.000,9, -999.000,9, -999.000,9,-999.0000,9,  -999.00,9,   -999.0,9,  -999.00,9,-999.000,9,   -999.9,9,   -999.9,9,  -999.0, -999.00,-999.0000,-999.000,-999.000
    316N145_10,  I07N,   819,  1,     10,     10,2,19950814,1039, 20.7172,  63.9997, 3375,   -999,   2101.8,   2.8287,  34.8211,2,  34.8207,2,     90.2,2,  2.6699,     89.3,2,   135.35,2,    37.34,2,     0.00,2,     2.79,2,    0.003,2,    0.001,2, -999.000,9,-999.0000,9,  -999.00,9,   -999.0,9,  -999.00,9,-999.000,9,   -999.9,9,   -999.9,9,  -999.0, -999.00,-999.0000,-999.000,-999.000
    316N145_10,  I07N,   819,  1,      9,      9,2,19950814,1039, 20.7172,  63.9997, 3375,   -999,   2299.5,   2.4556,  34.7928,2,  34.7907,2,    101.0,2,  2.2851,     99.6,2,   139.74,2,    36.90,2,     0.00,2,     2.73,2, -999.000,9, -999.000,9, -999.000,9,-999.0000,9,  -999.00,9,   -999.0,9,  -999.00,9,-999.000,9,   -999.9,9,   -999.9,9,  -999.0, -999.00,-999.0000,-999.000,-999.000
    316N145_10,  I07N,   819,  1,      8,      8,2,19950814,1039, 20.7172,  63.9997, 3375,   -999,   2496.0,   2.1728,  34.7721,2,  34.7705,2,    107.5,2,  1.9893,    106.9,2,   142.99,2,    36.71,2,     0.00,2,     2.70,2,    0.002,2,    0.003,2, -999.000,9,-999.0000,9,  -999.00,9,   -999.0,9,  -999.00,9,-999.000,9,   -999.9,9,   -999.9,9,  -999.0, -999.00,-999.0000,-999.000,-999.000
    316N145_10,  I07N,   819,  1,      7,      7,2,19950814,1039, 20.7172,  63.9997, 3375,   -999,   2700.4,   1.9649,  34.7573,2,  34.7565,2,    113.3,2,  1.7664,    113.3,2,   145.87,2,    36.47,2,     0.00,2,     2.66,2,    0.003,2,    0.002,2, -999.000,9,-999.0000,9,  -999.00,9,   -999.0,9,  -999.00,9,-999.000,9,   -999.9,9,   -999.9,9,  -999.0, -999.00,-999.0000,-999.000,-999.000
    316N145_10,  I07N,   819,  1,      6,      6,2,19950814,1039, 20.7172,  63.9997, 3375,   -999,   2899.7,   1.8423,  34.7483,2,  34.7469,2,    117.2,2,  1.6275,    116.2,2,   148.17,2,    36.37,2,     0.00,2,     2.65,2, -999.000,9, -999.000,9, -999.000,9,-999.0000,9,  -999.00,9,   -999.0,9,  -999.00,9,-999.000,9,   -999.9,9,   -999.9,9,  -999.0, -999.00,-999.0000,-999.000,-999.000
    316N145_10,  I07N,   819,  1,      5,      5,2,19950814,1039, 20.7172,  63.9997, 3375,   -999,   3102.3,   1.7691,  34.7418,2,  34.7424,2,    120.8,2,  1.5361,    121.3,2,   148.89,2,    36.13,2,     0.00,2,     2.62,2,    0.007,2,    0.017,2, -999.000,9,-999.0000,9,  -999.00,9,   -999.0,9,  -999.00,9,-999.000,9,   -999.9,9,   -999.9,9,  -999.0, -999.00,-999.0000,-999.000,-999.000
    316N145_10,  I07N,   819,  1,      4,      4,2,19950814,1039, 20.7172,  63.9997, 3375,   -999,   3301.5,   1.7242,  34.7391,2,  34.7398,2,    124.7,2,  1.4725,    125.0,2,   148.61,2,    36.09,2,     0.00,2,     2.60,2,    0.006,2,    0.016,2, -999.000,9,-999.0000,9,  -999.00,9,   -999.0,9,  -999.00,9,-999.000,9,   -999.9,9,   -999.9,9,  -999.0, -999.00,-999.0000,-999.000,-999.000
    316N145_10,  I07N,   819,  1,      3,      3,2,19950814,1039, 20.7172,  63.9997, 3375,   -999,   3317.0,   1.7204,  34.7388,2,  34.7375,2,    125.3,2,  1.4672,    124.5,2,   149.13,2,    36.13,2,     0.00,2,     2.59,2, -999.000,9, -999.000,9, -999.000,9,-999.0000,9,  -999.00,9,   -999.0,9,  -999.00,9,-999.000,9,   -999.9,9,   -999.9,9,  -999.0, -999.00,-999.0000,-999.000,-999.000
    316N145_10,  I07N,   819,  1,      2,      2,2,19950814,1039, 20.7172,  63.9997, 3375,   -999,   3342.5,   1.7157,  34.7389,2,  34.7384,2,    125.0,2,  1.4600,    124.3,2,   150.05,2,    36.23,2,     0.00,2,     2.59,2,    0.011,2,    0.021,2, -999.000,9,-999.0000,9,  -999.00,9,   -999.0,9,  -999.00,9,-999.000,9,   -999.9,9,   -999.9,9,  -999.0, -999.00,-999.0000,-999.000,-999.000
    316N145_10,  I07N,   819,  1,      1,      1,2,19950814,1039, 20.7172,  63.9997, 3375,   -999,   3419.0,   1.7055,  34.7375,2,  34.7374,2,    121.9,2,  1.4423,    122.7,2,   151.57,2,    36.27,2,     0.00,2,     2.60,2,    0.011,2,    0.032,2, -999.000,9,-999.0000,9,  -999.00,9,   -999.0,9,  -999.00,9,-999.000,9,   -999.9,9,   -999.9,9,  -999.0, -999.00,-999.0000,-999.000,-999.000