BOTTLE,20080821WHPSIOSCD
EXPOCODE,SECT_ID,STNNBR,CASTNO,SAMPNO,BTLNBR,BTLNBR_FLAG_W,DATE,TIME,LATITUDE,LONGITUDE,DEPTH,CTDRAW,CTDPRS,CTDTMP,CTDSAL,CTDSAL_FLAG_W,SALNTY,SALNTY_FLAG_W,CTDOXY,CTDOXY_FLAG_W,THETA,OXYGEN,OXYGEN_FLAG_W,SILCAT,SILCAT_FLAG_W,NITRAT,NITRAT_FLAG_W,NITRIT,NITRIT_FLAG_W,PHSPHT,PHSPHT_FLAG_W,CFC-11,CFC-11_FLAG_W,CFC-12,CFC-12_FLAG_W,TRITUM,TRITUM_FLAG_W,HELIUM,HELIUM_FLAG_W,DELHE3,DELHE3_FLAG_W,DELC14,DELC14_FLAG_W,DELC13,DELC13_FLAG_W,NEON,NEON_FLAG_W,TCARBN,TCARBN_FLAG_W,ALKALI,ALKALI_FLAG_W,C14ERR,DELHER,HELIER,NEONER,TRITER
,,,,,,,,,,,,,DBAR,ITS-90,PSS-78,,PSS-78,,UMOL/KG,,DEG C,UMOL/KG,,UMOL/KG,,UMOL/KG,,UMOL/KG,,UMOL/KG,,PMOL/KG,,PMOL/KG,,TU,,NMOL/KG,,PERCNT,,/MILLE,,/MILLE,,NMOL/KG,,UMOL/KG,,UMOL/KG,,/MILLE,PERCNT,NMOL/KG,NMOL/KG,TU
    316N145_10,  I07N,   781,  1,     36,     36,2,19950804,1525,  8.3963,  63.1947, 4621,   -999,      5.5,  28.1726,  36.5584,2,  36.5601,2,    194.8,2, 28.1715,    194.1,2,     2.06,2,     0.00,2,     0.00,2,     0.27,2,    1.624,2,    0.915,2, -999.000,9,-999.0000,9,  -999.00,9,   -999.0,9,  -999.00,9,-999.000,9,   2019.7,2,   2385.1,2,  -999.0, -999.00,-999.0000,-999.000,-999.000
    316N145_10,  I07N,   781,  1,     35,     35,2,19950804,1525,  8.3963,  63.1947, 4621,   -999,     27.1,  28.1701,  36.5589,2,  36.5613,2,    194.4,2, 28.1639,    194.4,2,     2.04,2,     0.00,2,     0.00,2,     0.27,2, -999.000,9, -999.000,9, -999.000,9,-999.0000,9,  -999.00,9,   -999.0,9,  -999.00,9,-999.000,9,   -999.9,9,   -999.9,9,  -999.0, -999.00,-999.0000,-999.000,-999.000
    316N145_10,  I07N,   781,  1,     34,     34,2,19950804,1525,  8.3963,  63.1947, 4621,   -999,     52.5,  28.1015,  36.5631,2,  36.5641,2,    194.5,2, 28.0893,    193.1,2,     2.02,2,     0.00,2,     0.00,2,     0.27,2,    1.605,2,    0.922,2, -999.000,9,-999.0000,9,  -999.00,9,   -999.0,9,  -999.00,9,-999.000,9,   -999.9,9,   -999.9,9,  -999.0, -999.00,-999.0000,-999.000,-999.000
    316N145_10,  I07N,   781,  1,     33,     33,2,19950804,1525,  8.3963,  63.1947, 4621,   -999,     76.8,  28.0927,  36.5604,2,  36.5615,2,    195.8,2, 28.0748,    193.0,2,     2.01,2,     0.07,2,     0.02,2,     0.28,2, -999.000,9, -999.000,9, -999.000,9,-999.0000,9,  -999.00,9,   -999.0,9,  -999.00,9,-999.000,9,   -999.9,9,   -999.9,9,  -999.0, -999.00,-999.0000,-999.000,-999.000
    316N145_10,  I07N,   781,  1,     32,     32,2,19950804,1525,  8.3963,  63.1947, 4621,   -999,    102.2,  28.0073,  36.5468,2,  36.5403,2,    184.1,2, 27.9833,    186.6,2,     2.19,2,     0.40,2,     0.14,2,     0.32,2,    1.607,2,    0.907,2, -999.000,9,-999.0000,9,  -999.00,9,   -999.0,9,  -999.00,9,-999.000,9,   -999.9,9,   -999.9,9,  -999.0, -999.00,-999.0000,-999.000,-999.000
    316N145_10,  I07N,   781,  1,     31,     31,2,19950804,1525,  8.3963,  63.1947, 4621,   -999,    128.8,  21.5802,  35.6055,2,  35.6060,2,     47.3,2, 21.5552,     30.8,2,    14.47,2,    21.80,2,     0.04,2,     1.68,2, -999.000,9, -999.000,9, -999.000,9,-999.0000,9,  -999.00,9,   -999.0,9,  -999.00,9,-999.000,9,   -999.9,9,   -999.9,9,  -999.0, -999.00,-999.0000,-999.000,-999.000
    316N145_10,  I07N,   781,  1,     30,     30,2,19950804,1525,  8.3963,  63.1947, 4621,   -999,    164.9,  17.0901,  35.3885,2,  35.3811,2,      4.7,2, 17.0629,      7.0,2,    22.59,2,    26.73,2,     0.01,2,     2.16,2,    0.734,2,    0.411,2, -999.000,9,-999.0000,9,  -999.00,9,   -999.0,9,  -999.00,9,-999.000,9,   -999.9,9,   -999.9,9,  -999.0, -999.00,-999.0000,-999.000,-999.000
    316N145_10,  I07N,   781,  1,     29,     29,2,19950804,1525,  8.3963,  63.1947, 4621,   -999,    186.8,  15.6241,  35.2526,2,  35.2587,2,      8.8,2, 15.5951,     12.9,2,    24.54,2,    27.78,2,     0.00,2,     2.15,2,    0.620,2,    0.335,2, -999.000,9,-999.0000,9,  -999.00,9,   -999.0,9,  -999.00,9,-999.000,9,   -999.9,9,   -999.9,9,  -999.0, -999.00,-999.0000,-999.000,-999.000
    316N145_10,  I07N,   781,  1,     28,     28,2,19950804,1525,  8.3963,  63.1947, 4621,   -999,    223.2,  14.3495,  35.2736,2,  35.2759,2,     24.9,2, 14.3168,     35.2,2,    23.72,2,    26.65,2,     0.00,2,     2.03,2,    0.673,2,    0.356,2, -999.000,9,-999.0000,9,  -999.00,9,   -999.0,9,  -999.00,9,-999.000,9,   -999.9,9,   -999.9,9,  -999.0, -999.00,-999.0000,-999.000,-999.000
    316N145_10,  I07N,   781,  1,     27,     27,2,19950804,1525,  8.3963,  63.1947, 4621,   -999,    257.5,  13.0315,  35.2381,2,  35.2391,2,     44.0,2, 12.9960,     44.6,2,    25.08,2,    27.28,2,     0.00,2,     2.03,2,    0.579,2,    0.315,2, -999.000,9,-999.0000,9,  -999.00,9,   -999.0,9,  -999.00,9,-999.000,9,   -999.9,9,   -999.9,9,  -999.0, -999.00,-999.0000,-999.000,-999.000
    316N145_10,  I07N,   781,  1,     26,     26,2,19950804,1525,  8.3963,  63.1947, 4621,   -999,    327.1,  11.9860,  35.2189,2,  35.2200,2,     47.3,2, 11.9432,     39.3,2,    29.02,2,    29.47,2,     0.00,2,     2.15,2,    0.385,2,    0.207,2, -999.000,9,-999.0000,9,  -999.00,9,   -999.0,9,  -999.00,9,-999.000,9,   -999.9,9,   -999.9,9,  -999.0, -999.00,-999.0000,-999.000,-999.000
    316N145_10,  I07N,   781,  1,     25,     25,2,19950804,1525,  8.3963,  63.1947, 4621,   -999,    377.6,  11.3343,  35.2056,2,  35.2054,2,     31.9,2, 11.2865,     31.9,2,    33.74,2,    31.39,2,     0.00,2,     2.30,2,    0.215,2,    0.121,2, -999.000,9,-999.0000,9,  -999.00,9,   -999.0,9,  -999.00,9,-999.000,9,   -999.9,9,   -999.9,9,  -999.0, -999.00,-999.0000,-999.000,-999.000
    316N145_10,  I07N,   781,  1,     24,     24,2,19950804,1525,  8.3963,  63.1947, 4621,   -999,    422.5,  11.0600,  35.2059,2,  35.2066,2,     30.2,2, 11.0073,     37.6,2,    35.49,2,    31.25,2,     0.00,2,     2.31,2,    0.220,2,    0.124,2, -999.000,9,-999.0000,9,  -999.00,9,   -999.0,9,  -999.00,9,-999.000,9,   -999.9,9,   -999.9,9,  -999.0, -999.00,-999.0000,-999.000,-999.000
    316N145_10,  I07N,   781,  1,     23,     23,2,19950804,1525,  8.3963,  63.1947, 4621,   -999,    505.2,  10.5838,  35.2214,2,  35.2231,2,     31.5,2, 10.5221,     31.4,2,    41.79,2,    32.44,2,     0.00,2,     2.45,2,    0.118,2,    0.078,2, -999.000,9,-999.0000,9,  -999.00,9,   -999.0,9,  -999.00,9,-999.000,9,   -999.9,9,   -999.9,9,  -999.0, -999.00,-999.0000,-999.000,-999.000
    316N145_10,  I07N,   781,  1,     22,     22,2,19950804,1525,  8.3963,  63.1947, 4621,   -999,    648.6,  10.0612,  35.2550,2,  35.2568,2,     25.0,2,  9.9838,     24.1,2,    50.85,2,    33.69,2,     0.00,2,     2.59,2,    0.060,2,    0.039,2, -999.000,9,-999.0000,9,  -999.00,9,   -999.0,9,  -999.00,9,-999.000,9,   -999.9,9,   -999.9,9,  -999.0, -999.00,-999.0000,-999.000,-999.000
    316N145_10,  I07N,   781,  1,     21,     21,2,19950804,1525,  8.3963,  63.1947, 4621,   -999,    699.6,   9.7545,  35.2447,2,  35.2479,2,     21.4,2,  9.6724,     23.0,2,    54.57,2,    34.19,2,     0.00,2,     2.64,2,    0.042,2,    0.028,2, -999.000,9,-999.0000,9,  -999.00,9,   -999.0,9,  -999.00,9,-999.000,9,   -999.9,9,   -999.9,9,  -999.0, -999.00,-999.0000,-999.000,-999.000
    316N145_10,  I07N,   781,  1,     20,     20,2,19950804,1525,  8.3963,  63.1947, 4621,   -999,    799.5,   8.7598,  35.1429,2,  35.1435,2,     22.4,2,  8.6713,     22.9,2,    65.02,2,    35.86,2,     0.00,2,     2.75,2,    0.012,2,    0.007,2, -999.000,9,-999.0000,9,  -999.00,9,   -999.0,9,  -999.00,9,-999.000,9,   -999.9,9,   -999.9,9,  -999.0, -999.00,-999.0000,-999.000,-999.000
    316N145_10,  I07N,   781,  1,     19,     19,2,19950804,1525,  8.3963,  63.1947, 4621,   -999,    899.9,   8.1954,  35.1144,2,  35.1226,3,     25.8,2,  8.0989,     25.9,2,    71.91,2,    36.42,2,     0.00,2,     2.79,2,    0.008,2,    0.007,2, -999.000,9,-999.0000,9,  -999.00,9,   -999.0,9,  -999.00,9,-999.000,9,   -999.9,9,   -999.9,9,  -999.0, -999.00,-999.0000,-999.000,-999.000
    316N145_10,  I07N,   781,  1,     18,     18,2,19950804,1525,  8.3963,  63.1947, 4621,   -999,    996.0,   7.6261,  35.0897,2,  35.0930,2,     31.1,2,  7.5229,     30.8,2,    78.40,2,    36.70,2,     0.00,2,     2.81,2,    0.002,2,   -0.001,2, -999.000,9,-999.0000,9,  -999.00,9,   -999.0,9,  -999.00,9,-999.000,9,   -999.9,9,   -999.9,9,  -999.0, -999.00,-999.0000,-999.000,-999.000
    316N145_10,  I07N,   781,  1,     17,     17,2,19950804,1525,  8.3963,  63.1947, 4621,   -999,   1196.7,   6.7282,  35.0636,2,  35.0611,2,     42.0,2,  6.6105,     41.2,2,    88.29,2,    36.98,2,     0.00,2,     2.84,2,    0.003,2,    0.000,2, -999.000,9,-999.0000,9,  -999.00,9,   -999.0,9,  -999.00,9,-999.000,9,   -999.9,9,   -999.9,9,  -999.0, -999.00,-999.0000,-999.000,-999.000
    316N145_10,  I07N,   781,  1,     16,     16,2,19950804,1525,  8.3963,  63.1947, 4621,   -999,   1396.9,   5.6231,  34.9892,2,  34.9914,2,     57.2,2,  5.4954,     56.2,2,    98.21,2,    37.03,2,     0.00,2,     2.84,2, -999.000,9, -999.000,9, -999.000,9,-999.0000,9,  -999.00,9,   -999.0,9,  -999.00,9,-999.000,9,   -999.9,9,   -999.9,9,  -999.0, -999.00,-999.0000,-999.000,-999.000
    316N145_10,  I07N,   781,  1,     15,     15,2,19950804,1525,  8.3963,  63.1947, 4621,   -999,   1599.0,   4.4279,  34.8987,2,  34.8497,3,     78.9,2,  4.2937,     76.4,2,   110.20,2,    36.89,2,     0.00,2,     2.79,2,    0.002,2,    0.001,2, -999.000,9,-999.0000,9,  -999.00,9,   -999.0,9,  -999.00,9,-999.000,9,   -999.9,9,   -999.9,9,  -999.0, -999.00,-999.0000,-999.000,-999.000
    316N145_10,  I07N,   781,  1,     14,     14,2,19950804,1525,  8.3963,  63.1947, 4621,   -999,   1795.8,   3.6304,  34.8473,2,  34.8489,2,     95.9,2,  3.4880,     95.1,2,   117.41,2,    36.38,2,     0.00,2,     2.72,2,   -0.003,2,    0.001,2, -999.000,9,-999.0000,9,  -999.00,9,   -999.0,9,  -999.00,9,-999.000,9,   -999.9,9,   -999.9,9,  -999.0, -999.00,-999.0000,-999.000,-999.000
    316N145_10,  I07N,   781,  1,     13,     13,2,19950804,1525,  8.3963,  63.1947, 4621,   -999,   1993.9,   2.9525,  34.8047,2,  34.8048,2,    112.7,2,  2.8017,    115.2,2,   122.84,2,    35.64,2,     0.00,2,     2.63,2, -999.000,9, -999.000,9, -999.000,9,-999.0000,9,  -999.00,9,   -999.0,9,  -999.00,9,-999.000,9,   -999.9,9,   -999.9,9,  -999.0, -999.00,-999.0000,-999.000,-999.000
    316N145_10,  I07N,   781,  1,     12,     12,2,19950804,1525,  8.3963,  63.1947, 4621,   -999,   2196.5,   2.5760,  34.7865,2,  34.7871,2,    124.3,2,  2.4128,    125.5,2,   127.06,2,    35.32,2,     0.00,2,     2.59,2,    0.000,2,    0.000,2, -999.000,9,-999.0000,9,  -999.00,9,   -999.0,9,  -999.00,9,-999.000,9,   -999.9,9,   -999.9,9,  -999.0, -999.00,-999.0000,-999.000,-999.000
    316N145_10,  I07N,   781,  1,     11,     11,2,19950804,1525,  8.3963,  63.1947, 4621,   -999,   2394.9,   2.2894,  34.7701,2,  34.7700,2,    132.8,2,  2.1131,    134.6,2,   129.24,2,    34.99,2,     0.00,2,     2.55,2,    0.000,2,    0.002,2, -999.000,9,-999.0000,9,  -999.00,9,   -999.0,9,  -999.00,9,-999.000,9,   -999.9,9,   -999.9,9,  -999.0, -999.00,-999.0000,-999.000,-999.000
    316N145_10,  I07N,   781,  1,     10,     10,2,19950804,1525,  8.3963,  63.1947, 4621,   -999,   2598.1,   2.1320,  34.7620,2,  34.7628,2,    138.7,2,  1.9398,    139.0,2,   131.63,2,    34.95,2,     0.00,2,     2.54,2, -999.000,9, -999.000,9, -999.000,9,-999.0000,9,  -999.00,9,   -999.0,9,  -999.00,9,-999.000,9,   -999.9,9,   -999.9,9,  -999.0, -999.00,-999.0000,-999.000,-999.000
    316N145_10,  I07N,   781,  1,      9,      9,2,19950804,1525,  8.3963,  63.1947, 4621,   -999,   2784.7,   1.9765,  34.7543,2,  34.7543,2,    142.6,2,  1.7698,    144.0,2,   132.79,2,    34.71,2,     0.00,2,     2.51,2,    0.002,2,    0.003,2, -999.000,9,-999.0000,9,  -999.00,9,   -999.0,9,  -999.00,9,-999.000,9,   -999.9,9,   -999.9,9,  -999.0, -999.00,-999.0000,-999.000,-999.000
    316N145_10,  I07N,   781,  1,      8,      8,2,19950804,1525,  8.3963,  63.1947, 4621,   -999,   3096.7,   1.8284,  34.7442,2,  34.7453,2,    148.7,2,  1.5947,    149.3,2,   134.16,2,    34.53,2,     0.00,2,     2.48,2,    0.000,2,   -0.001,2, -999.000,9,-999.0000,9,  -999.00,9,   -999.0,9,  -999.00,9,-999.000,9,   -999.9,9,   -999.9,9,  -999.0, -999.00,-999.0000,-999.000,-999.000
    316N145_10,  I07N,   781,  1,      7,      7,2,19950804,1525,  8.3963,  63.1947, 4621,   -999,   3385.5,   1.7398,  34.7409,2,  34.7398,2,    153.8,2,  1.4792,    153.6,2,   135.52,2,    34.35,2,     0.00,2,     2.47,2, -999.000,9, -999.000,9, -999.000,9,-999.0000,9,  -999.00,9,   -999.0,9,  -999.00,9,-999.000,9,   -999.9,9,   -999.9,9,  -999.0, -999.00,-999.0000,-999.000,-999.000
    316N145_10,  I07N,   781,  1,      6,      6,2,19950804,1525,  8.3963,  63.1947, 4621,   -999,   3700.7,   1.6605,  34.7355,2,  34.7343,2,    158.0,2,  1.3692,    157.8,2,   135.86,2,    34.16,2,     0.00,2,     2.45,2, -999.000,9, -999.000,9, -999.000,9,-999.0000,9,  -999.00,9,   -999.0,9,  -999.00,9,-999.000,9,   -999.9,9,   -999.9,9,  -999.0, -999.00,-999.0000,-999.000,-999.000
    316N145_10,  I07N,   781,  1,      5,      5,2,19950804,1525,  8.3963,  63.1947, 4621,   -999,   4002.5,   1.6280,  34.7330,2,  34.7317,2,    161.5,2,  1.3051,    161.4,2,   134.75,2,    33.98,2,     0.00,2,     2.44,2, -999.000,9, -999.000,9, -999.000,9,-999.0000,9,  -999.00,9,   -999.0,9,  -999.00,9,-999.000,9,   -999.9,9,   -999.9,9,  -999.0, -999.00,-999.0000,-999.000,-999.000
    316N145_10,  I07N,   781,  1,      4,      4,2,19950804,1525,  8.3963,  63.1947, 4621,   -999,   4299.0,   1.6349,  34.7312,2,  34.7314,2,    163.1,2,  1.2787,    162.9,2,   134.06,2,    33.89,2,     0.00,2,     2.43,2, -999.000,9, -999.000,9, -999.000,9,-999.0000,9,  -999.00,9,   -999.0,9,  -999.00,9,-999.000,9,   -999.9,9,   -999.9,9,  -999.0, -999.00,-999.0000,-999.000,-999.000
    316N145_10,  I07N,   781,  1,      3,      3,2,19950804,1525,  8.3963,  63.1947, 4621,   -999,   4559.3,   1.6476,  34.7308,2,  34.7302,2,    164.8,2,  1.2610,    164.4,2,   134.18,2,    33.89,2,     0.00,2,     2.42,2, -999.000,9, -999.000,9, -999.000,9,-999.0000,9,  -999.00,9,   -999.0,9,  -999.00,9,-999.000,9,   -999.9,9,   -999.9,9,  -999.0, -999.00,-999.0000,-999.000,-999.000
    316N145_10,  I07N,   781,  1,      2,      2,2,19950804,1525,  8.3963,  63.1947, 4621,   -999,   4667.2,   1.6533,  34.7299,2,  34.7290,2,    164.8,2,  1.2538,    164.9,2,   134.73,2,    33.89,2,     0.00,2,     2.42,2, -999.000,9, -999.000,9, -999.000,9,-999.0000,9,  -999.00,9,   -999.0,9,  -999.00,9,-999.000,9,   -999.9,9,   -999.9,9,  -999.0, -999.00,-999.0000,-999.000,-999.000
    316N145_10,  I07N,   781,  1,      1,      1,2,19950804,1525,  8.3963,  63.1947, 4621,   -999,   4692.9,   1.6542,  34.7296,2,  34.7310,2,    165.4,2,  1.2516,    165.1,2,   134.85,2,    33.79,2,     0.00,2,     2.42,2, -999.000,9, -999.000,9, -999.000,9,-999.0000,9,  -999.00,9,   -999.0,9,  -999.00,9,-999.000,9,   -999.9,9,   -999.9,9,  -999.0, -999.00,-999.0000,-999.000,-999.000