BOTTLE,20080821WHPSIOSCD
EXPOCODE,SECT_ID,STNNBR,CASTNO,SAMPNO,BTLNBR,BTLNBR_FLAG_W,DATE,TIME,LATITUDE,LONGITUDE,DEPTH,CTDRAW,CTDPRS,CTDTMP,CTDSAL,CTDSAL_FLAG_W,SALNTY,SALNTY_FLAG_W,CTDOXY,CTDOXY_FLAG_W,THETA,OXYGEN,OXYGEN_FLAG_W,SILCAT,SILCAT_FLAG_W,NITRAT,NITRAT_FLAG_W,NITRIT,NITRIT_FLAG_W,PHSPHT,PHSPHT_FLAG_W,CFC-11,CFC-11_FLAG_W,CFC-12,CFC-12_FLAG_W,TRITUM,TRITUM_FLAG_W,HELIUM,HELIUM_FLAG_W,DELHE3,DELHE3_FLAG_W,DELC14,DELC14_FLAG_W,DELC13,DELC13_FLAG_W,NEON,NEON_FLAG_W,TCARBN,TCARBN_FLAG_W,ALKALI,ALKALI_FLAG_W,C14ERR,DELHER,HELIER,NEONER,TRITER
,,,,,,,,,,,,,DBAR,ITS-90,PSS-78,,PSS-78,,UMOL/KG,,DEG C,UMOL/KG,,UMOL/KG,,UMOL/KG,,UMOL/KG,,UMOL/KG,,PMOL/KG,,PMOL/KG,,TU,,NMOL/KG,,PERCNT,,/MILLE,,/MILLE,,NMOL/KG,,UMOL/KG,,UMOL/KG,,/MILLE,PERCNT,NMOL/KG,NMOL/KG,TU
    316N145_10,  I07N,   729,  1,     36,     36,2,19950721,0920, -9.6320,  51.8723, 3984,   -999,      7.5,  25.7611,  35.2163,2,  35.2147,2,    203.4,2, 25.7597,    199.9,2,     2.78,2,     1.43,2,     0.06,2,     0.27,2,    1.749,2,    0.979,2, -999.000,9,-999.0000,9,  -999.00,9,   -999.0,9,  -999.00,9,-999.000,9,   1984.7,2,   2304.7,2,  -999.0, -999.00,-999.0000,-999.000,-999.000
    316N145_10,  I07N,   729,  1,     35,     35,2,19950721,0920, -9.6320,  51.8723, 3984,   -999,     31.8,  25.6828,  35.2139,2,  35.2129,2,    197.4,2, 25.6760,    198.6,2,     2.74,2,     1.47,2,     0.06,2,     0.27,2,    1.729,2,    0.961,2, -999.000,9,-999.0000,9,  -999.00,9,   -999.0,9,  -999.00,9,-999.000,9,   -999.9,9,   -999.9,9,  -999.0, -999.00,-999.0000,-999.000,-999.000
    316N145_10,  I07N,   729,  1,     34,     34,2,19950721,0920, -9.6320,  51.8723, 3984,   -999,     76.7,  19.4702,  35.2134,2,  35.2127,2,    121.7,2, 19.4564,    120.4,2,    12.02,2,    13.12,2,     0.36,2,     1.00,2,    1.553,2,    0.817,2, -999.000,9,-999.0000,9,  -999.00,9,   -999.0,9,  -999.00,9,-999.000,9,   -999.9,9,   -999.9,9,  -999.0, -999.00,-999.0000,-999.000,-999.000
    316N145_10,  I07N,   729,  1,     33,     33,2,19950721,0920, -9.6320,  51.8723, 3984,   -999,    122.4,  16.6208,  35.1866,2,  35.1848,2,    107.5,2, 16.6012,    106.7,2,    15.43,2,    17.73,2,     0.02,2,     1.27,2, -999.000,9, -999.000,9, -999.000,9,-999.0000,9,  -999.00,9,   -999.0,9,  -999.00,9,-999.000,9,   -999.9,9,   -999.9,9,  -999.0, -999.00,-999.0000,-999.000,-999.000
    316N145_10,  I07N,   729,  1,     32,     32,2,19950721,0920, -9.6320,  51.8723, 3984,   -999,    152.4,  14.4878,  35.1164,2,  35.1128,2,    103.6,2, 14.4655,    103.0,2,    18.85,2,    20.28,2,     0.00,2,     1.44,2,    1.230,2,    0.621,2, -999.000,9,-999.0000,9,  -999.00,9,   -999.0,9,  -999.00,9,-999.000,9,   -999.9,9,   -999.9,9,  -999.0, -999.00,-999.0000,-999.000,-999.000
    316N145_10,  I07N,   729,  1,     31,     31,2,19950721,0920, -9.6320,  51.8723, 3984,   -999,    181.1,  13.6370,  35.0979,2,  35.0976,2,    106.0,2, 13.6115,    113.0,2,    18.63,2,    20.16,2,     0.00,2,     1.44,2,    1.231,2,    0.623,2, -999.000,9,-999.0000,9,  -999.00,9,   -999.0,9,  -999.00,9,-999.000,9,   -999.9,9,   -999.9,9,  -999.0, -999.00,-999.0000,-999.000,-999.000
    316N145_10,  I07N,   729,  1,     30,     30,2,19950721,0920, -9.6320,  51.8723, 3984,   -999,    215.3,  13.3004,  35.0927,2,  35.0929,2,    116.1,2, 13.2704,    119.1,2,    18.07,2,    19.94,2,     0.00,2,     1.42,2,    1.253,2,    0.626,2, -999.000,9,-999.0000,9,  -999.00,9,   -999.0,9,  -999.00,9,-999.000,9,   -999.9,9,   -999.9,9,  -999.0, -999.00,-999.0000,-999.000,-999.000
    316N145_10,  I07N,   729,  1,     29,     29,2,19950721,0920, -9.6320,  51.8723, 3984,   -999,    242.1,  12.2865,  35.0286,2,  35.0312,2,    122.7,2, 12.2545,    124.8,2,    19.06,2,    20.87,2,     0.00,2,     1.48,2,    1.167,2,    0.571,2, -999.000,9,-999.0000,9,  -999.00,9,   -999.0,9,  -999.00,9,-999.000,9,   -999.9,9,   -999.9,9,  -999.0, -999.00,-999.0000,-999.000,-999.000
    316N145_10,  I07N,   729,  1,     28,     28,2,19950721,0920, -9.6320,  51.8723, 3984,   -999,    267.0,  11.8151,  34.9969,2,  35.0015,2,    125.1,2, 11.7806,    128.8,2,    19.71,2,    21.22,2,     0.00,2,     1.50,2,    1.126,2,    0.573,2, -999.000,9,-999.0000,9,  -999.00,9,   -999.0,9,  -999.00,9,-999.000,9,   -999.9,9,   -999.9,9,  -999.0, -999.00,-999.0000,-999.000,-999.000
    316N145_10,  I07N,   729,  1,     27,     27,2,19950721,0920, -9.6320,  51.8723, 3984,   -999,    317.1,  10.4535,  34.8971,2,  34.8974,2,    132.7,2, 10.4156,    132.3,2,    23.12,2,    23.37,2,     0.00,2,     1.65,2, -999.000,9, -999.000,9, -999.000,9,-999.0000,9,  -999.00,9,   -999.0,9,  -999.00,9,-999.000,9,   -999.9,9,   -999.9,9,  -999.0, -999.00,-999.0000,-999.000,-999.000
    316N145_10,  I07N,   729,  1,     26,     26,2,19950721,0920, -9.6320,  51.8723, 3984,   -999,    349.0,  10.3521,  34.8906,2,  34.8866,2,    130.9,2, 10.3106,    132.0,2,    23.59,2,    23.60,2,     0.00,2,     1.67,2,    0.897,6,    0.448,6, -999.000,9,-999.0000,9,  -999.00,9,   -999.0,9,  -999.00,9,-999.000,9,   -999.9,9,   -999.9,9,  -999.0, -999.00,-999.0000,-999.000,-999.000
    316N145_10,  I07N,   729,  1,     25,     25,2,19950721,0920, -9.6320,  51.8723, 3984,   -999,    429.5,   9.6067,  34.8357,2,  34.8353,2,    131.4,2,  9.5577,    133.0,2,    27.35,2,    24.96,2,     0.00,2,     1.77,2,    0.735,2,    0.369,2, -999.000,9,-999.0000,9,  -999.00,9,   -999.0,9,  -999.00,9,-999.000,9,   -999.9,9,   -999.9,9,  -999.0, -999.00,-999.0000,-999.000,-999.000
    316N145_10,  I07N,   729,  1,     24,     24,2,19950721,0920, -9.6320,  51.8723, 3984,   -999,    524.1,   8.8981,  34.8009,2,  34.8002,2,    126.3,2,  8.8408,    126.5,2,    33.52,2,    26.90,2,     0.00,2,     1.92,2, -999.000,9, -999.000,9, -999.000,9,-999.0000,9,  -999.00,9,   -999.0,9,  -999.00,9,-999.000,9,   -999.9,9,   -999.9,9,  -999.0, -999.00,-999.0000,-999.000,-999.000
    316N145_10,  I07N,   729,  1,     23,     23,2,19950721,0920, -9.6320,  51.8723, 3984,   -999,    653.4,   7.9506,  34.7865,2,  34.7862,2,    109.4,2,  7.8831,    111.7,2,    46.45,2,    29.82,2,     0.00,2,     2.18,2,    0.300,2,    0.165,2, -999.000,9,-999.0000,9,  -999.00,9,   -999.0,9,  -999.00,9,-999.000,9,   -999.9,9,   -999.9,9,  -999.0, -999.00,-999.0000,-999.000,-999.000
    316N145_10,  I07N,   729,  1,     22,     22,2,19950721,0920, -9.6320,  51.8723, 3984,   -999,    774.7,   6.7748,  34.7378,2,  34.7352,2,     98.1,2,  6.7009,    113.9,2,    57.67,2,    31.60,2,     0.00,2,     2.32,2,    0.165,2,    0.080,2, -999.000,9,-999.0000,9,  -999.00,9,   -999.0,9,  -999.00,9,-999.000,9,   -999.9,9,   -999.9,9,  -999.0, -999.00,-999.0000,-999.000,-999.000
    316N145_10,  I07N,   729,  1,     21,     21,2,19950721,0920, -9.6320,  51.8723, 3984,   -999,    890.0,   6.1878,  34.7738,2,  34.7737,2,    115.3,2,  6.1061,     96.2,2,    72.41,2,    33.84,2,     0.00,2,     2.51,2,    0.058,2,    0.047,2, -999.000,9,-999.0000,9,  -999.00,9,   -999.0,9,  -999.00,9,-999.000,9,   -999.9,9,   -999.9,9,  -999.0, -999.00,-999.0000,-999.000,-999.000
    316N145_10,  I07N,   729,  1,     20,     20,2,19950721,0920, -9.6320,  51.8723, 3984,   -999,   1004.7,   5.5271,  34.7687,2,  34.7693,2,     89.5,2,  5.4390,     99.2,2,    79.87,2,    34.33,2,     0.00,2,     2.56,2,    0.027,2,    0.017,2, -999.000,9,-999.0000,9,  -999.00,9,   -999.0,9,  -999.00,9,-999.000,9,   -999.9,9,   -999.9,9,  -999.0, -999.00,-999.0000,-999.000,-999.000
    316N145_10,  I07N,   729,  1,     19,     19,2,19950721,0920, -9.6320,  51.8723, 3984,   -999,   1100.2,   5.0337,  34.7490,2,  34.7497,2,    105.9,2,  4.9407,    107.5,2,    83.51,2,    34.38,2,     0.00,2,     2.55,2,    0.023,2,    0.005,2, -999.000,9,-999.0000,9,  -999.00,9,   -999.0,9,  -999.00,9,-999.000,9,   -999.9,9,   -999.9,9,  -999.0, -999.00,-999.0000,-999.000,-999.000
    316N145_10,  I07N,   729,  1,     18,     18,2,19950721,0920, -9.6320,  51.8723, 3984,   -999,   1197.9,   4.4866,  34.7448,2,  34.7458,2,    115.8,2,  4.3893,    116.2,2,    89.26,2,    34.34,2,     0.00,2,     2.54,2,    0.009,2,    0.014,2, -999.000,9,-999.0000,9,  -999.00,9,   -999.0,9,  -999.00,9,-999.000,9,   -999.9,9,   -999.9,9,  -999.0, -999.00,-999.0000,-999.000,-999.000
    316N145_10,  I07N,   729,  1,     17,     17,2,19950721,0920, -9.6320,  51.8723, 3984,   -999,   1299.2,   4.1715,  34.7324,2,  34.7312,2,    119.9,2,  4.0682,    122.1,2,    90.97,2,    34.22,2,     0.00,2,     2.52,2,    0.003,2,    0.014,2, -999.000,9,-999.0000,9,  -999.00,9,   -999.0,9,  -999.00,9,-999.000,9,   -999.9,9,   -999.9,9,  -999.0, -999.00,-999.0000,-999.000,-999.000
    316N145_10,  I07N,   729,  1,     16,     16,2,19950721,0920, -9.6320,  51.8723, 3984,   -999,   1399.8,   3.8862,  34.7380,2,  34.7385,2,    125.4,2,  3.7769,    124.8,2,    95.51,2,    34.27,2,     0.00,2,     2.52,2,    0.000,2,   -0.004,2, -999.000,9,-999.0000,9,  -999.00,9,   -999.0,9,  -999.00,9,-999.000,9,   -999.9,9,   -999.9,9,  -999.0, -999.00,-999.0000,-999.000,-999.000
    316N145_10,  I07N,   729,  1,     15,     15,2,19950721,0920, -9.6320,  51.8723, 3984,   -999,   1500.3,   3.3009,  34.6971,2,  34.6957,2,    136.2,2,  3.1894,    143.6,2,    93.34,2,    33.56,2,     0.00,2,     2.44,2, -999.000,9, -999.000,9, -999.000,9,-999.0000,9,  -999.00,9,   -999.0,9,  -999.00,9,-999.000,9,   -999.9,9,   -999.9,9,  -999.0, -999.00,-999.0000,-999.000,-999.000
    316N145_10,  I07N,   729,  1,     14,     14,2,19950721,0920, -9.6320,  51.8723, 3984,   -999,   1702.0,   3.0193,  34.7263,2,  34.7253,2,    145.1,2,  2.8937,    143.7,2,   103.21,2,    33.70,2,     0.00,2,     2.45,2, -999.000,9, -999.000,9, -999.000,9,-999.0000,9,  -999.00,9,   -999.0,9,  -999.00,9,-999.000,9,   -999.9,9,   -999.9,9,  -999.0, -999.00,-999.0000,-999.000,-999.000
    316N145_10,  I07N,   729,  1,     13,     13,2,19950721,0920, -9.6320,  51.8723, 3984,   -999,   1898.5,   2.6822,  34.7327,2,  34.7318,2,    149.0,2,  2.5442,    148.7,2,   108.87,2,    33.57,2,     0.00,2,     2.44,2, -999.000,9, -999.000,9, -999.000,9,-999.0000,9,  -999.00,9,   -999.0,9,  -999.00,9,-999.000,9,   -999.9,9,   -999.9,9,  -999.0, -999.00,-999.0000,-999.000,-999.000
    316N145_10,  I07N,   729,  1,     12,     12,2,19950721,0920, -9.6320,  51.8723, 3984,   -999,   2099.7,   2.3764,  34.7393,2,  34.7389,2,    152.1,2,  2.2252,    152.2,2,   115.29,2,    33.57,2,     0.00,2,     2.44,2, -999.000,9, -999.000,9, -999.000,9,-999.0000,9,  -999.00,9,   -999.0,9,  -999.00,9,-999.000,9,   -999.9,9,   -999.9,9,  -999.0, -999.00,-999.0000,-999.000,-999.000
    316N145_10,  I07N,   729,  1,     11,     11,2,19950721,0920, -9.6320,  51.8723, 3984,   -999,   2302.4,   2.1677,  34.7446,2,  34.7432,2,    153.7,2,  2.0020,    153.7,2,   121.93,2,    33.66,2,     0.00,2,     2.43,2, -999.000,9, -999.000,9, -999.000,9,-999.0000,9,  -999.00,9,   -999.0,9,  -999.00,9,-999.000,9,   -999.9,9,   -999.9,9,  -999.0, -999.00,-999.0000,-999.000,-999.000
    316N145_10,  I07N,   729,  1,     10,     10,2,19950721,0920, -9.6320,  51.8723, 3984,   -999,   2499.9,   2.0404,  34.7430,2,  34.7426,2,    155.0,2,  1.8591,    155.7,2,   125.14,2,    33.67,2,     0.00,2,     2.43,2, -999.000,9, -999.000,9, -999.000,9,-999.0000,9,  -999.00,9,   -999.0,9,  -999.00,9,-999.000,9,   -999.9,9,   -999.9,9,  -999.0, -999.00,-999.0000,-999.000,-999.000
    316N145_10,  I07N,   729,  1,      9,      9,2,19950721,0920, -9.6320,  51.8723, 3984,   -999,   2701.4,   1.9724,  34.7425,2,  34.7420,2,    157.2,2,  1.7737,    157.3,2,   126.91,2,    33.68,2,     0.00,2,     2.43,2,   -0.002,2,   -0.002,2, -999.000,9,-999.0000,9,  -999.00,9,   -999.0,9,  -999.00,9,-999.000,9,   -999.9,9,   -999.9,9,  -999.0, -999.00,-999.0000,-999.000,-999.000
    316N145_10,  I07N,   729,  1,      8,      8,2,19950721,0920, -9.6320,  51.8723, 3984,   -999,   2900.0,   1.8500,  34.7387,2,  34.7383,2,    160.8,2,  1.6350,    160.8,2,   127.95,2,    33.63,2,     0.00,2,     2.42,2, -999.000,9, -999.000,9, -999.000,9,-999.0000,9,  -999.00,9,   -999.0,9,  -999.00,9,-999.000,9,   -999.9,9,   -999.9,9,  -999.0, -999.00,-999.0000,-999.000,-999.000
    316N145_10,  I07N,   729,  1,      7,      7,2,19950721,0920, -9.6320,  51.8723, 3984,   -999,   3093.8,   1.7578,  34.7355,2,  34.7343,2,    164.6,2,  1.5260,    163.3,2,   129.17,2,    33.42,2,     0.00,2,     2.40,2,    0.000,2,    0.009,3, -999.000,9,-999.0000,9,  -999.00,9,   -999.0,9,  -999.00,9,-999.000,9,   -999.9,9,   -999.9,9,  -999.0, -999.00,-999.0000,-999.000,-999.000
    316N145_10,  I07N,   729,  1,      6,      6,2,19950721,0920, -9.6320,  51.8723, 3984,   -999,   3298.2,   1.6717,  34.7336,2,  34.7314,2,    167.5,2,  1.4216,    169.8,3,   129.85,2,    33.33,2,     0.00,2,     2.39,2, -999.000,9, -999.000,9, -999.000,9,-999.0000,9,  -999.00,9,   -999.0,9,  -999.00,9,-999.000,9,   -999.9,9,   -999.9,9,  -999.0, -999.00,-999.0000,-999.000,-999.000
    316N145_10,  I07N,   729,  1,      5,      5,2,19950721,0920, -9.6320,  51.8723, 3984,   -999,   3491.8,   1.6132,  34.7300,2,  34.7290,2,    171.2,2,  1.3449,    171.4,2,   130.15,2,    33.20,2,     0.00,2,     2.38,2, -999.000,9, -999.000,9, -999.000,9,-999.0000,9,  -999.00,9,   -999.0,9,  -999.00,9,-999.000,9,   -999.9,9,   -999.9,9,  -999.0, -999.00,-999.0000,-999.000,-999.000
    316N145_10,  I07N,   729,  1,      4,      4,2,19950721,0920, -9.6320,  51.8723, 3984,   -999,   3697.2,   1.3715,  34.7229,2,  34.7204,2,    182.9,2,  1.0882,    183.7,2,   128.45,2,    32.63,2,     0.00,2,     2.32,2, -999.000,9, -999.000,9, -999.000,9,-999.0000,9,  -999.00,9,   -999.0,9,  -999.00,9,-999.000,9,   -999.9,9,   -999.9,9,  -999.0, -999.00,-999.0000,-999.000,-999.000
    316N145_10,  I07N,   729,  1,      3,      3,2,19950721,0920, -9.6320,  51.8723, 3984,   -999,   3957.6,   1.1169,  34.7131,2,  34.7115,2,    197.6,2,  0.8133,    198.1,2,   125.65,2,    32.05,2,     0.00,2,     2.26,2, -999.000,9, -999.000,9, -999.000,9,-999.0000,9,  -999.00,9,   -999.0,9,  -999.00,9,-999.000,9,   -999.9,9,   -999.9,9,  -999.0, -999.00,-999.0000,-999.000,-999.000
    316N145_10,  I07N,   729,  1,      2,      2,2,19950721,0920, -9.6320,  51.8723, 3984,   -999,   4035.7,   1.0382,  34.7107,2,  34.7100,2,    201.3,2,  0.7285,    201.5,2,   125.04,2,    31.84,2,     0.00,2,     2.24,2, -999.000,9, -999.000,9, -999.000,9,-999.0000,9,  -999.00,9,   -999.0,9,  -999.00,9,-999.000,9,   -999.9,9,   -999.9,9,  -999.0, -999.00,-999.0000,-999.000,-999.000
    316N145_10,  I07N,   729,  1,      1,      1,2,19950721,0920, -9.6320,  51.8723, 3984,   -999,   4061.2,   1.0364,  34.7106,2,  34.7094,2,    201.3,2,  0.7241,    201.6,2,   124.98,2,    31.89,2,     0.00,2,     2.24,2, -999.000,9, -999.000,9, -999.000,9,-999.0000,9,  -999.00,9,   -999.0,9,  -999.00,9,-999.000,9,   -999.9,9,   -999.9,9,  -999.0, -999.00,-999.0000,-999.000,-999.000