BOTTLE,20080821WHPSIOSCD
EXPOCODE,SECT_ID,STNNBR,CASTNO,SAMPNO,BTLNBR,BTLNBR_FLAG_W,DATE,TIME,LATITUDE,LONGITUDE,DEPTH,CTDRAW,CTDPRS,CTDTMP,CTDSAL,CTDSAL_FLAG_W,SALNTY,SALNTY_FLAG_W,CTDOXY,CTDOXY_FLAG_W,THETA,OXYGEN,OXYGEN_FLAG_W,SILCAT,SILCAT_FLAG_W,NITRAT,NITRAT_FLAG_W,NITRIT,NITRIT_FLAG_W,PHSPHT,PHSPHT_FLAG_W,CFC-11,CFC-11_FLAG_W,CFC-12,CFC-12_FLAG_W,TRITUM,TRITUM_FLAG_W,HELIUM,HELIUM_FLAG_W,DELHE3,DELHE3_FLAG_W,DELC14,DELC14_FLAG_W,DELC13,DELC13_FLAG_W,NEON,NEON_FLAG_W,TCARBN,TCARBN_FLAG_W,ALKALI,ALKALI_FLAG_W,C14ERR,DELHER,HELIER,NEONER,TRITER
,,,,,,,,,,,,,DBAR,ITS-90,PSS-78,,PSS-78,,UMOL/KG,,DEG C,UMOL/KG,,UMOL/KG,,UMOL/KG,,UMOL/KG,,UMOL/KG,,PMOL/KG,,PMOL/KG,,TU,,NMOL/KG,,PERCNT,,/MILLE,,/MILLE,,NMOL/KG,,UMOL/KG,,UMOL/KG,,/MILLE,PERCNT,NMOL/KG,NMOL/KG,TU
    316N145_10,  I07N,   813,  1,     27,     27,2,19950812,1342, 19.3327,  61.5332, 3637,   -999,      6.0,  26.8762,  36.3147,2,  36.3158,2,    216.4,2, 26.8751,    213.5,2,     2.09,2,     0.27,2,     0.01,2,     0.39,2,    1.709,2,    0.950,2, -999.000,9,-999.0000,9,  -999.00,9,   -999.0,9,  -999.00,9,-999.000,9,   2017.7,2,   -999.9,5,  -999.0, -999.00,-999.0000,-999.000,-999.000
    316N145_10,  I07N,   813,  1,     26,     26,2,19950812,1342, 19.3327,  61.5332, 3637,   -999,     31.7,  26.7835,  36.3032,2,  36.2915,2,    211.1,2, 26.7765,    206.6,2,     2.25,2,     0.94,2,     0.11,2,     0.47,2, -999.000,9, -999.000,9, -999.000,9,-999.0000,9,  -999.00,9,   -999.0,9,  -999.00,9,-999.000,9,   -999.9,9,   -999.9,9,  -999.0, -999.00,-999.0000,-999.000,-999.000
    316N145_10,  I07N,   813,  1,     25,     25,2,19950812,1342, 19.3327,  61.5332, 3637,   -999,     76.8,  25.4341,  36.1737,2,  36.1773,2,    191.2,2, 25.4174,    175.1,2,     3.83,2,     6.60,2,     0.86,2,     0.93,2,    1.753,2,    0.983,2, -999.000,9,-999.0000,9,  -999.00,9,   -999.0,9,  -999.00,9,-999.000,9,   -999.9,9,   -999.9,9,  -999.0, -999.00,-999.0000,-999.000,-999.000
    316N145_10,  I07N,   813,  1,     24,     24,2,19950812,1342, 19.3327,  61.5332, 3637,   -999,    116.1,  21.0232,  35.9655,2,  35.9652,2,     23.5,2, 21.0011,     15.8,2,    14.08,2,    23.70,2,     0.03,2,     2.02,2, -999.000,9, -999.000,9, -999.000,9,-999.0000,9,  -999.00,9,   -999.0,9,  -999.00,9,-999.000,9,   -999.9,9,   -999.9,9,  -999.0, -999.00,-999.0000,-999.000,-999.000
    316N145_10,  I07N,   813,  1,     23,     23,2,19950812,1342, 19.3327,  61.5332, 3637,   -999,    182.1,  17.7884,  35.8722,2,  35.8617,2,      2.2,2, 17.7574,      4.2,2,    22.39,2,    23.18,2,     0.00,2,     2.28,2,    0.861,2,    0.505,2, -999.000,9,-999.0000,9,  -999.00,9,   -999.0,9,  -999.00,9,-999.000,9,   -999.9,9,   -999.9,9,  -999.0, -999.00,-999.0000,-999.000,-999.000
    316N145_10,  I07N,   813,  1,     22,     22,2,19950812,1342, 19.3327,  61.5332, 3637,   -999,    221.8,  17.0112,  36.0175,2,  36.0019,2,      3.0,2, 16.9745,      4.3,2,    24.49,2,    22.81,2,     0.00,2,     2.30,2, -999.000,9, -999.000,9, -999.000,9,-999.0000,9,  -999.00,9,   -999.0,9,  -999.00,9,-999.000,9,   -999.9,9,   -999.9,9,  -999.0, -999.00,-999.0000,-999.000,-999.000
    316N145_10,  I07N,   813,  1,     21,     21,2,19950812,1342, 19.3327,  61.5332, 3637,   -999,    272.7,  15.5062,  35.9141,2,  35.9037,2,      5.4,2, 15.4637,      4.7,2,    27.31,2,    23.86,2,     0.00,2,     2.34,2,    0.585,2,    0.349,2, -999.000,9,-999.0000,9,  -999.00,9,   -999.0,9,  -999.00,9,-999.000,9,   -999.9,9,   -999.9,9,  -999.0, -999.00,-999.0000,-999.000,-999.000
    316N145_10,  I07N,   813,  1,     20,     20,2,19950812,1342, 19.3327,  61.5332, 3637,   -999,    348.0,  14.1697,  35.8481,2,  35.8484,2,      2.8,2, 14.1186,      3.4,2,    31.71,2,    25.14,2,     0.00,2,     2.43,2,    0.409,2,    0.240,2, -999.000,9,-999.0000,9,  -999.00,9,   -999.0,9,  -999.00,9,-999.000,9,   -999.9,9,   -999.9,9,  -999.0, -999.00,-999.0000,-999.000,-999.000
    316N145_10,  I07N,   813,  1,     19,     19,2,19950812,1342, 19.3327,  61.5332, 3637,   -999,    447.7,  12.9334,  35.7450,2,  35.7465,2,      1.9,2, 12.8711,      4.9,2,    37.89,2,    26.93,2,     0.00,2,     2.53,2,    0.242,2,    0.138,2, -999.000,9,-999.0000,9,  -999.00,9,   -999.0,9,  -999.00,9,-999.000,9,   -999.9,9,   -999.9,9,  -999.0, -999.00,-999.0000,-999.000,-999.000
    316N145_10,  I07N,   813,  1,     18,     18,2,19950812,1342, 19.3327,  61.5332, 3637,   -999,    548.7,  12.2897,  35.6968,2,  35.6899,3,      2.0,2, 12.2156,      1.7,2,    43.71,2,    27.39,2,     0.00,2,     2.65,2, -999.000,9, -999.000,9, -999.000,9,-999.0000,9,  -999.00,9,   -999.0,9,  -999.00,9,-999.000,9,   -999.9,9,   -999.9,9,  -999.0, -999.00,-999.0000,-999.000,-999.000
    316N145_10,  I07N,   813,  1,     17,     17,2,19950812,1342, 19.3327,  61.5332, 3637,   -999,    648.9,  11.5304,  35.6270,2,  35.6270,2,      2.0,2, 11.4459,      1.9,2,    50.25,2,    29.28,2,     0.00,2,     2.73,2,    0.060,2,    0.037,2, -999.000,9,-999.0000,9,  -999.00,9,   -999.0,9,  -999.00,9,-999.000,9,   -999.9,9,   -999.9,9,  -999.0, -999.00,-999.0000,-999.000,-999.000
    316N145_10,  I07N,   813,  1,     16,     16,2,19950812,1342, 19.3327,  61.5332, 3637,   -999,    749.5,  10.8602,  35.5843,2,  35.5848,2,      2.1,2, 10.7657,      2.3,2,    56.43,2,    31.49,2,     0.00,2,     2.79,2, -999.000,9, -999.000,9, -999.000,9,-999.0000,9,  -999.00,9,   -999.0,9,  -999.00,9,-999.000,9,   -999.9,9,   -999.9,9,  -999.0, -999.00,-999.0000,-999.000,-999.000
    316N145_10,  I07N,   813,  1,     15,     15,2,19950812,1342, 19.3327,  61.5332, 3637,   -999,    900.3,   9.8797,  35.5140,2,  35.5155,2,      3.1,2,  9.7718,      3.6,2,    66.17,2,    33.81,2,     0.00,2,     2.86,2,    0.035,2,    0.018,2, -999.000,9,-999.0000,9,  -999.00,9,   -999.0,9,  -999.00,9,-999.000,9,   -999.9,9,   -999.9,9,  -999.0, -999.00,-999.0000,-999.000,-999.000
    316N145_10,  I07N,   813,  1,     14,     14,2,19950812,1342, 19.3327,  61.5332, 3637,   -999,   1000.9,   9.0555,  35.4327,2,  35.4330,2,      4.4,2,  8.9409,      4.9,2,    73.27,2,    35.40,2,     0.00,2,     2.92,2, -999.000,9, -999.000,9, -999.000,9,-999.0000,9,  -999.00,9,   -999.0,9,  -999.00,9,-999.000,9,   -999.9,9,   -999.9,9,  -999.0, -999.00,-999.0000,-999.000,-999.000
    316N145_10,  I07N,   813,  1,     13,     13,2,19950812,1342, 19.3327,  61.5332, 3637,   -999,   1101.5,   8.2820,  35.3489,2,  35.3519,2,      7.7,2,  8.1614,      8.2,2,    79.49,2,    36.48,2,     0.00,2,     2.97,2,    0.017,2,    0.008,2, -999.000,9,-999.0000,9,  -999.00,9,   -999.0,9,  -999.00,9,-999.000,9,   -999.9,9,   -999.9,9,  -999.0, -999.00,-999.0000,-999.000,-999.000
    316N145_10,  I07N,   813,  1,     12,     12,2,19950812,1342, 19.3327,  61.5332, 3637,   -999,   1202.3,   7.5290,  35.2639,2,  35.2645,2,     11.8,2,  7.4034,     14.0,2,    85.73,2,    37.28,2,     0.00,2,     3.00,2, -999.000,9, -999.000,9, -999.000,9,-999.0000,9,  -999.00,9,   -999.0,9,  -999.00,9,-999.000,9,   -999.9,9,   -999.9,9,  -999.0, -999.00,-999.0000,-999.000,-999.000
    316N145_10,  I07N,   813,  1,     11,     11,2,19950812,1342, 19.3327,  61.5332, 3637,   -999,   1302.9,   6.8853,  35.1885,2,  35.1886,2,     20.5,2,  6.7545,     20.4,2,    91.28,2,    37.75,2,     0.00,2,     3.01,2,    0.008,2,    0.004,2, -999.000,9,-999.0000,9,  -999.00,9,   -999.0,9,  -999.00,9,-999.000,9,   -999.9,9,   -999.9,9,  -999.0, -999.00,-999.0000,-999.000,-999.000
    316N145_10,  I07N,   813,  1,     10,     10,2,19950812,1342, 19.3327,  61.5332, 3637,   -999,   1399.7,   6.3565,  35.1395,2,  35.1372,2,     22.6,2,  6.2206,     23.8,2,    97.39,2,    38.08,2,     0.00,2,     3.04,2, -999.000,9, -999.000,9, -999.000,9,-999.0000,9,  -999.00,9,   -999.0,9,  -999.00,9,-999.000,9,   -999.9,9,   -999.9,9,  -999.0, -999.00,-999.0000,-999.000,-999.000
    316N145_10,  I07N,   813,  1,      9,      9,2,19950812,1342, 19.3327,  61.5332, 3637,   -999,   1501.5,   5.7357,  35.0731,2,  35.0737,2,     35.9,2,  5.5958,     35.7,2,   103.17,2,    37.94,2,     0.00,2,     3.00,2,    0.003,2,    0.002,2, -999.000,9,-999.0000,9,  -999.00,9,   -999.0,9,  -999.00,9,-999.000,9,   -999.9,9,   -999.9,9,  -999.0, -999.00,-999.0000,-999.000,-999.000
    316N145_10,  I07N,   813,  1,      8,      8,2,19950812,1342, 19.3327,  61.5332, 3637,   -999,   1600.0,   5.0686,  35.0094,2,  35.0118,2,     44.7,2,  4.9265,     43.9,2,   110.45,2,    38.03,2,     0.00,2,     3.01,2, -999.000,9, -999.000,9, -999.000,9,-999.0000,9,  -999.00,9,   -999.0,9,  -999.00,9,-999.000,9,   -999.9,9,   -999.9,9,  -999.0, -999.00,-999.0000,-999.000,-999.000
    316N145_10,  I07N,   813,  1,      7,      7,2,19950812,1342, 19.3327,  61.5332, 3637,   -999,   1701.9,   4.5102,  34.9619,2,  34.9631,2,     55.4,2,  4.3650,     54.2,2,   117.06,2,    37.80,2,     0.00,2,     2.96,2,    0.001,2,    0.001,2, -999.000,9,-999.0000,9,  -999.00,9,   -999.0,9,  -999.00,9,-999.000,9,   -999.9,9,   -999.9,9,  -999.0, -999.00,-999.0000,-999.000,-999.000
    316N145_10,  I07N,   813,  1,      6,      6,2,19950812,1342, 19.3327,  61.5332, 3637,   -999,   1797.8,   4.0490,  34.9216,2,  34.9226,2,     63.9,2,  3.9007,     63.0,2,   122.24,2,    37.66,2,     0.00,2,     2.93,2, -999.000,9, -999.000,9, -999.000,9,-999.0000,9,  -999.00,9,   -999.0,9,  -999.00,9,-999.000,9,   -999.9,9,   -999.9,9,  -999.0, -999.00,-999.0000,-999.000,-999.000
    316N145_10,  I07N,   813,  1,      5,      5,2,19950812,1342, 19.3327,  61.5332, 3637,   -999,   1899.3,   3.6705,  34.8878,2,  34.8904,2,     72.8,2,  3.5178,     70.7,2,   126.53,2,    37.51,2,     0.00,2,     2.89,2,    0.003,2,    0.003,2, -999.000,9,-999.0000,9,  -999.00,9,   -999.0,9,  -999.00,9,-999.000,9,   -999.9,9,   -999.9,9,  -999.0, -999.00,-999.0000,-999.000,-999.000
    316N145_10,  I07N,   813,  1,      4,      4,2,19950812,1342, 19.3327,  61.5332, 3637,   -999,   1999.7,   3.3334,  34.8616,2,  34.8609,2,     79.4,2,  3.1763,     78.1,2,   130.46,2,    37.28,2,     0.00,2,     2.85,2, -999.000,9, -999.000,9, -999.000,9,-999.0000,9,  -999.00,9,   -999.0,9,  -999.00,9,-999.000,9,   -999.9,9,   -999.9,9,  -999.0, -999.00,-999.0000,-999.000,-999.000
    316N145_10,  I07N,   813,  1,      3,      3,2,19950812,1342, 19.3327,  61.5332, 3637,   -999,   2101.0,   3.0588,  34.8390,2,  34.8389,2,     85.1,2,  2.8965,     84.3,2,   133.48,2,    37.14,2,     0.00,2,     2.82,2, -999.000,9, -999.000,9, -999.000,9,-999.0000,9,  -999.00,9,   -999.0,9,  -999.00,9,-999.000,9,   -999.9,9,   -999.9,9,  -999.0, -999.00,-999.0000,-999.000,-999.000
    316N145_10,  I07N,   813,  1,      2,      2,2,19950812,1342, 19.3327,  61.5332, 3637,   -999,   2198.6,   2.8553,  34.8225,2,  34.8228,2,     90.7,2,  2.6873,     89.5,2,   135.74,2,    36.99,2,     0.00,2,     2.79,2, -999.000,9, -999.000,9, -999.000,9,-999.0000,9,  -999.00,9,   -999.0,9,  -999.00,9,-999.000,9,   -999.9,9,   -999.9,9,  -999.0, -999.00,-999.0000,-999.000,-999.000
    316N145_10,  I07N,   813,  1,      1,      1,2,19950812,1342, 19.3327,  61.5332, 3637,   -999,   2299.3,   2.6228,  34.8050,2,  34.8050,2,     94.8,2,  2.4494,     95.7,2,   138.78,2,    36.81,2,     0.00,2,     2.76,2,    0.000,2,    0.001,2, -999.000,9,-999.0000,9,  -999.00,9,   -999.0,9,  -999.00,9,-999.000,9,   -999.9,9,   -999.9,9,  -999.0, -999.00,-999.0000,-999.000,-999.000
    316N145_10,  I07N,   813,  1,     36,     36,2,19950812,1342, 19.3327,  61.5332, 3637,   -999,   2400.9,   2.4742,  34.7929,2,  34.7934,2,     98.6,2,  2.2940,     99.0,2,   140.49,2,    36.66,2,     0.00,2,     2.75,2,    0.000,2,    0.001,2, -999.000,9,-999.0000,9,  -999.00,9,   -999.0,9,  -999.00,9,-999.000,9,   -999.9,5,   2372.3,3,  -999.0, -999.00,-999.0000,-999.000,-999.000
    316N145_10,  I07N,   813,  1,     35,     35,2,19950812,1342, 19.3327,  61.5332, 3637,   -999,   2599.5,   2.1750,  34.7709,2,  34.7698,2,    105.4,2,  1.9818,    107.0,2,   144.54,2,    36.29,2,     0.00,2,     2.69,2,    0.001,2,    0.003,2, -999.000,9,-999.0000,9,  -999.00,9,   -999.0,9,  -999.00,9,-999.000,9,   -999.9,9,   -999.9,9,  -999.0, -999.00,-999.0000,-999.000,-999.000
    316N145_10,  I07N,   813,  1,     34,     34,2,19950812,1342, 19.3327,  61.5332, 3637,   -999,   2801.1,   1.9634,  34.7562,2,  34.7563,2,    111.3,2,  1.7554,    112.1,2,   148.10,2,    36.24,2,     0.00,2,     2.69,2,    0.003,2,    0.008,2, -999.000,9,-999.0000,9,  -999.00,9,   -999.0,9,  -999.00,9,-999.000,9,   -999.9,9,   -999.9,9,  -999.0, -999.00,-999.0000,-999.000,-999.000
    316N145_10,  I07N,   813,  1,     33,     33,2,19950812,1342, 19.3327,  61.5332, 3637,   -999,   3000.3,   1.8577,  34.7480,2,  34.7480,2,    115.4,2,  1.6328,    116.7,2,   149.45,2,    36.05,2,     0.00,2,     2.67,2,    0.006,2,    0.014,2, -999.000,9,-999.0000,9,  -999.00,9,   -999.0,9,  -999.00,9,-999.000,9,   -999.9,9,   -999.9,9,  -999.0, -999.00,-999.0000,-999.000,-999.000
    316N145_10,  I07N,   813,  1,     32,     32,2,19950812,1342, 19.3327,  61.5332, 3637,   -999,   3198.8,   1.7962,  34.7436,2,  34.7441,2,    120.7,2,  1.5531,    121.1,2,   149.61,2,    35.86,2,     0.00,2,     2.66,2,    0.010,2,    0.020,2, -999.000,9,-999.0000,9,  -999.00,9,   -999.0,9,  -999.00,9,-999.000,9,   -999.9,9,   -999.9,9,  -999.0, -999.00,-999.0000,-999.000,-999.000
    316N145_10,  I07N,   813,  1,     31,     31,2,19950812,1342, 19.3327,  61.5332, 3637,   -999,   3401.5,   1.7490,  34.7407,2,  34.7396,2,    126.8,2,  1.4865,    126.6,2,   149.17,2,    35.72,2,     0.00,2,     2.63,2,    0.008,2,    0.018,2, -999.000,9,-999.0000,9,  -999.00,9,   -999.0,9,  -999.00,9,-999.000,9,   -999.9,9,   -999.9,9,  -999.0, -999.00,-999.0000,-999.000,-999.000
    316N145_10,  I07N,   813,  1,     30,     30,2,19950812,1342, 19.3327,  61.5332, 3637,   -999,   3600.2,   1.6927,  34.7360,2,  34.7356,2,    131.4,2,  1.4111,    131.7,2,   148.93,2,    35.58,2,     0.00,2,     2.59,2,    0.008,2,    0.022,2, -999.000,9,-999.0000,9,  -999.00,9,   -999.0,9,  -999.00,9,-999.000,9,   -999.9,9,   -999.9,9,  -999.0, -999.00,-999.0000,-999.000,-999.000
    316N145_10,  I07N,   813,  1,     29,     29,2,19950812,1342, 19.3327,  61.5332, 3637,   -999,   3661.9,   1.6401,  34.7325,2,  34.7333,2,    144.8,2,  1.3534,    144.8,2,   144.74,2,    34.92,2,     0.00,2,     2.55,2,    0.009,2,    0.006,2, -999.000,9,-999.0000,9,  -999.00,9,   -999.0,9,  -999.00,9,-999.000,9,   -999.9,9,   -999.9,9,  -999.0, -999.00,-999.0000,-999.000,-999.000
    316N145_10,  I07N,   813,  1,     28,     28,2,19950812,1342, 19.3327,  61.5332, 3637,   -999,   3688.5,   1.6429,  34.7335,2,  34.7352,2,    147.1,2,  1.3533,    146.6,2,   144.90,2,    34.92,2,     0.00,2,     2.55,2,    0.011,2,    0.013,2, -999.000,9,-999.0000,9,  -999.00,9,   -999.0,9,  -999.00,9,-999.000,9,   -999.9,9,   -999.9,9,  -999.0, -999.00,-999.0000,-999.000,-999.000