BOTTLE,20080821WHPSIOSCD
EXPOCODE,SECT_ID,STNNBR,CASTNO,SAMPNO,BTLNBR,BTLNBR_FLAG_W,DATE,TIME,LATITUDE,LONGITUDE,DEPTH,CTDRAW,CTDPRS,CTDTMP,CTDSAL,CTDSAL_FLAG_W,SALNTY,SALNTY_FLAG_W,CTDOXY,CTDOXY_FLAG_W,THETA,OXYGEN,OXYGEN_FLAG_W,SILCAT,SILCAT_FLAG_W,NITRAT,NITRAT_FLAG_W,NITRIT,NITRIT_FLAG_W,PHSPHT,PHSPHT_FLAG_W,CFC-11,CFC-11_FLAG_W,CFC-12,CFC-12_FLAG_W,TRITUM,TRITUM_FLAG_W,HELIUM,HELIUM_FLAG_W,DELHE3,DELHE3_FLAG_W,DELC14,DELC14_FLAG_W,DELC13,DELC13_FLAG_W,NEON,NEON_FLAG_W,TCARBN,TCARBN_FLAG_W,ALKALI,ALKALI_FLAG_W,C14ERR,DELHER,HELIER,NEONER,TRITER
,,,,,,,,,,,,,DBAR,ITS-90,PSS-78,,PSS-78,,UMOL/KG,,DEG C,UMOL/KG,,UMOL/KG,,UMOL/KG,,UMOL/KG,,UMOL/KG,,PMOL/KG,,PMOL/KG,,TU,,NMOL/KG,,PERCNT,,/MILLE,,/MILLE,,NMOL/KG,,UMOL/KG,,UMOL/KG,,/MILLE,PERCNT,NMOL/KG,NMOL/KG,TU
    316N145_10,  I07N,   842,  1,     36,     36,2,19950819,1633, 23.1588,  61.2603, 3344,   -999,      3.9,  24.6621,  36.1739,2,  36.1748,2,    162.8,2, 24.6615,    198.5,2,     5.63,2,    10.48,2,     0.52,2,     1.11,2,    1.851,2,    1.021,2, -999.000,9,   1.6640,2,    -0.90,2,     49.1,2,     0.46,2,   6.793,2,   2102.1,2,   2361.6,2,     4.4,    0.20,  0.0080,   0.136,-999.000
    316N145_10,  I07N,   842,  1,     35,     35,2,19950819,1633, 23.1588,  61.2603, 3344,   -999,     26.3,  23.8710,  36.4999,2,  36.5126,2,     89.9,2, 23.8657,    104.2,2,     5.96,2,    13.61,2,     0.21,2,     1.19,2,    1.780,2,    1.009,2, -999.000,9,-999.0000,9,  -999.00,9,   -999.0,9,  -999.00,9,-999.000,9,   2137.8,2,   2383.4,2,  -999.0, -999.00,-999.0000,-999.000,-999.000
    316N145_10,  I07N,   842,  1,     34,     34,2,19950819,1633, 23.1588,  61.2603, 3344,   -999,     51.3,  23.1968,  36.5024,2,  36.4924,2,     76.6,2, 23.1864,     83.4,2,     7.86,2,    16.36,2,     0.05,2,     1.40,2,    1.722,2,    0.970,2, -999.000,9,-999.0000,9,  -999.00,9,   -999.0,9,  -999.00,9,-999.000,9,   2163.3,2,   2379.7,2,  -999.0, -999.00,-999.0000,-999.000,-999.000
    316N145_10,  I07N,   842,  1,     33,     33,2,19950819,1633, 23.1588,  61.2603, 3344,   -999,     74.6,  21.6856,  36.2461,2,  36.2072,2,     16.2,2, 21.6712,     11.8,2,    13.78,2,    23.27,2,     0.03,2,     2.02,2,    1.439,2,    0.821,2, -999.000,9,-999.0000,9,  -999.00,9,   -999.0,9,  -999.00,9,-999.000,9,   2217.7,2,   2355.1,2,  -999.0, -999.00,-999.0000,-999.000,-999.000
    316N145_10,  I07N,   842,  1,     32,     32,2,19950819,1633, 23.1588,  61.2603, 3344,   -999,     98.3,  20.3510,  36.0739,2,  36.0644,2,      3.4,2, 20.3327,      3.0,2,    17.25,2,    23.64,2,     0.00,2,     2.17,2,    1.239,2,    0.716,2,    0.694,2,   1.7570,2,     3.90,2,     36.5,2,    -0.25,2,   7.198,2,   2231.5,2,   2352.7,2,     4.2,    0.20,  0.0090,   0.144,   0.008
    316N145_10,  I07N,   842,  1,     31,     31,2,19950819,1633, 23.1588,  61.2603, 3344,   -999,    159.0,  17.6965,  35.9062,2,  35.8705,2,      1.4,2, 17.6695,      2.0,2,    23.52,2,    22.55,2,     0.00,2,     2.28,2,    0.786,2,    0.475,2, -999.000,9,-999.0000,9,  -999.00,9,      1.5,2,    -0.35,2,-999.000,9,   2245.7,2,   2343.7,2,     3.7, -999.00,-999.0000,-999.000,-999.000
    316N145_10,  I07N,   842,  1,     30,     30,2,19950819,1633, 23.1588,  61.2603, 3344,   -999,    229.0,  17.2663,  36.2813,2,  36.2706,2,      9.4,2, 17.2279,      9.1,2,    24.18,2,    21.74,2,     0.00,2,     2.18,2,    0.785,2,    0.494,2, -999.000,9,-999.0000,9,  -999.00,9,      4.8,2,    -0.21,2,-999.000,9,   2253.0,2,   2363.6,2,     3.8, -999.00,-999.0000,-999.000,-999.000
    316N145_10,  I07N,   842,  1,     29,     29,2,19950819,1633, 23.1588,  61.2603, 3344,   -999,    299.7,  15.4556,  36.0784,2,  36.0900,2,      1.5,2, 15.4089,      2.3,2,    29.04,2,    22.97,2,     0.00,2,     2.34,2,    0.530,2,    0.325,2, -999.000,9,   1.7970,2,     2.10,2,    -17.3,2,    -0.22,2,   7.453,2,   2270.2,2,   2355.2,2,     3.8,    0.20,  0.0090,   0.149,-999.000
    316N145_10,  I07N,   842,  1,     28,     28,2,19950819,1633, 23.1588,  61.2603, 3344,   -999,    399.3,  13.9990,  35.9191,2,  35.9094,2,      1.7,2, 13.9406,      2.0,2,    34.43,2,    24.54,2,     0.00,2,     2.47,2,    0.342,2,    0.201,2, -999.000,9,-999.0000,9,  -999.00,9,    -36.9,2,    -0.21,2,-999.000,9,   2274.2,2,   2353.9,2,     5.8, -999.00,-999.0000,-999.000,-999.000
    316N145_10,  I07N,   842,  1,     27,     27,2,19950819,1633, 23.1588,  61.2603, 3344,   -999,    449.5,  13.5575,  35.8855,2,  35.8894,2,      1.8,2, 13.4930,      1.3,2,    37.54,2,    24.26,2,     0.00,2,     2.52,2,    0.268,2,    0.164,2,    0.223,2,-999.0000,9,  -999.00,9,   -999.0,9,  -999.00,9,-999.000,9,   2277.6,2,   2351.4,2,  -999.0, -999.00,-999.0000,-999.000,   0.008
    316N145_10,  I07N,   842,  1,     26,     26,2,19950819,1633, 23.1588,  61.2603, 3344,   -999,    499.5,  13.2269,  35.8655,2,  35.8591,2,      1.9,2, 13.1562,      1.4,2,    40.13,2,    24.35,2,     0.00,2,     2.56,2,    0.224,2,    0.133,2,    0.160,2,   1.7840,2,    10.00,2,    -83.1,2,    -0.21,2,   7.395,2,   2281.9,2,   2357.6,2,     4.9,    0.20,  0.0090,   0.148,   0.008
    316N145_10,  I07N,   842,  1,     25,     25,2,19950819,1633, 23.1588,  61.2603, 3344,   -999,    600.0,  12.0609,  35.7011,2,  35.7013,2,      2.0,2, 11.9807,      1.4,2,    47.08,2,    26.91,2,     0.00,2,     2.65,2,    0.104,2,    0.067,2, -999.000,9,-999.0000,9,  -999.00,9,    -99.4,2,    -0.13,2,-999.000,9,   2286.2,2,   2352.6,2,     3.1, -999.00,-999.0000,-999.000,-999.000
    316N145_10,  I07N,   842,  1,     24,     24,2,19950819,1633, 23.1588,  61.2603, 3344,   -999,    670.5,  11.5282,  35.6492,2,  35.6504,2,      2.1,2, 11.4408,      2.0,2,    51.41,2,    28.72,2,     0.00,2,     2.70,2,    0.076,2,    0.044,2, -999.000,9,-999.0000,9,  -999.00,9,   -109.1,2,    -0.17,2,-999.000,9,   2288.9,2,   2357.4,2,     3.3, -999.00,-999.0000,-999.000,-999.000
    316N145_10,  I07N,   842,  1,     23,     23,2,19950819,1633, 23.1588,  61.2603, 3344,   -999,    801.3,  10.5569,  35.5704,2,  35.5706,2,      2.3,2, 10.4574,      2.2,2,    60.29,2,    31.82,2,     0.00,2,     2.79,2,    0.042,2,    0.025,2,    0.038,2,   1.8380,2,     7.40,2,   -131.4,2,    -0.23,2,   7.618,2,   2299.2,2,   2360.1,2,     3.1,    0.20,  0.0090,   0.152,   0.008
    316N145_10,  I07N,   842,  1,     22,     22,2,19950819,1633, 23.1588,  61.2603, 3344,   -999,    899.8,   9.8471,  35.5098,2,  35.5129,2,      2.5,2,  9.7395,      2.8,2,    66.55,2,    33.64,2,     0.00,2,     2.85,2,    0.031,2,    0.019,2, -999.000,9,-999.0000,9,  -999.00,9,   -137.2,2,    -0.21,2,-999.000,9,   2307.1,2,   2367.2,2,     4.2, -999.00,-999.0000,-999.000,-999.000
    316N145_10,  I07N,   842,  1,     21,     21,2,19950819,1633, 23.1588,  61.2603, 3344,   -999,   1000.3,   9.1403,  35.4375,2,  35.4382,2,      2.9,2,  9.0251,      3.0,2,    73.00,2,    35.09,2,     0.00,2,     2.92,2, -999.000,9, -999.000,9, -999.000,9,-999.0000,9,  -999.00,9,   -999.0,9,  -999.00,9,-999.000,9,   2314.8,2,   2369.3,2,  -999.0, -999.00,-999.0000,-999.000,-999.000
    316N145_10,  I07N,   842,  1,     20,     20,2,19950819,1633, 23.1588,  61.2603, 3344,   -999,   1102.4,   8.4534,  35.3645,2,  35.3646,2,      3.7,2,  8.3314,      4.1,2,    79.29,2,    36.34,2,     0.00,2,     2.99,2,    0.009,2,    0.007,2, -999.000,9,   1.8550,2,     5.40,2,   -152.3,2,    -0.26,2,   7.676,2,   2324.1,2,   2377.5,2,     4.2,    0.20,  0.0090,   0.154,-999.000
    316N145_10,  I07N,   842,  1,     19,     19,2,19950819,1633, 23.1588,  61.2603, 3344,   -999,   1201.0,   7.6776,  35.2822,2,  35.2839,2,      7.9,2,  7.5508,      8.5,2,    86.13,2,    37.32,2,     0.00,2,     3.02,2,    0.008,2,    0.005,2, -999.000,9,-999.0000,9,  -999.00,9,   -158.6,2,    -0.25,2,-999.000,9,   2331.1,2,   2378.9,2,     4.1, -999.00,-999.0000,-999.000,-999.000
    316N145_10,  I07N,   842,  1,     18,     18,2,19950819,1633, 23.1588,  61.2603, 3344,   -999,   1301.0,   6.9934,  35.2087,2,  35.2068,2,     12.3,2,  6.8617,     13.9,2,    92.82,2,    37.95,2,     0.00,2,     3.05,2, -999.000,9, -999.000,9, -999.000,9,   1.8640,2,    11.70,2,   -999.0,9,  -999.00,9,   7.778,2,   2337.6,2,   2386.7,2,  -999.0,    0.20,  0.0090,   0.156,-999.000
    316N145_10,  I07N,   842,  1,     17,     17,2,19950819,1633, 23.1588,  61.2603, 3344,   -999,   1399.4,   6.3334,  35.1396,2,  35.1399,2,     20.2,2,  6.1977,     21.6,2,    99.01,2,    38.19,2,     0.00,2,     3.05,2,    0.002,2,    0.000,2, -999.000,9,-999.0000,9,  -999.00,9,   -170.6,2,    -0.29,2,-999.000,9,   2343.3,2,   2388.8,2,     3.2, -999.00,-999.0000,-999.000,-999.000
    316N145_10,  I07N,   842,  1,     16,     16,2,19950819,1633, 23.1588,  61.2603, 3344,   -999,   1500.8,   5.6718,  35.0746,2,  35.0756,2,     28.0,2,  5.5327,     30.2,2,   106.51,2,    38.20,2,     0.00,2,     3.05,2,   -0.001,2,   -0.001,2, -999.000,9,   1.8870,2,    12.50,2,   -171.9,2,    -0.31,2,   7.921,2,   2348.5,2,   2401.0,2,     4.6,    0.20,  0.0090,   0.158,-999.000
    316N145_10,  I07N,   842,  1,     15,     15,2,19950819,1633, 23.1588,  61.2603, 3344,   -999,   1602.1,   5.1578,  35.0258,2,  35.0263,2,     36.9,2,  5.0144,     37.8,2,   111.70,2,    38.25,2,     0.00,2,     3.02,2, -999.000,9, -999.000,9, -999.000,9,   1.8730,2,    12.40,2,   -183.8,2,    -0.21,2,   8.046,2,   2353.1,2,   2401.5,2,     3.0,    0.20,  0.0090,   0.161,-999.000
    316N145_10,  I07N,   842,  1,     14,     14,2,19950819,1633, 23.1588,  61.2603, 3344,   -999,   1703.5,   4.5623,  34.9716,2,  34.9717,2,     48.5,2,  4.4163,     48.2,2,   118.04,2,    38.15,2,     0.00,2,     2.99,2,    0.000,2,    0.000,2, -999.000,9,   1.8820,2,    12.70,2,   -999.0,9,  -999.00,9,   8.073,2,   2355.3,2,   2412.9,2,  -999.0,    0.20,  0.0090,   0.161,-999.000
    316N145_10,  I07N,   842,  1,     13,     13,2,19950819,1633, 23.1588,  61.2603, 3344,   -999,   1800.3,   4.1889,  34.9362,2,  34.9371,2,     56.3,2,  4.0383,     55.9,2,   121.66,2,    38.06,2,     0.00,2,     2.96,2,    0.004,2,    0.004,2, -999.000,9,   1.9090,2,    12.90,2,   -999.0,9,  -999.00,9,   8.211,2,   2357.4,2,   2412.6,2,  -999.0,    0.20,  0.0100,   0.164,-999.000
    316N145_10,  I07N,   842,  1,     12,     12,2,19950819,1633, 23.1588,  61.2603, 3344,   -999,   1901.3,   3.7173,  34.8946,2,  34.8960,2,     66.9,2,  3.5637,     66.0,2,   126.79,2,    37.77,2,     0.00,2,     2.92,2, -999.000,9, -999.000,9, -999.000,9,   1.8910,2,    13.00,2,   -999.0,9,  -999.00,9,   8.251,2,   2359.6,2,   2423.1,2,  -999.0,    0.20,  0.0090,   0.165,-999.000
    316N145_10,  I07N,   842,  1,     11,     11,2,19950819,1633, 23.1588,  61.2603, 3344,   -999,   2003.6,   3.3500,  34.8631,2,  34.8624,2,     77.1,2,  3.1923,     76.1,2,   130.48,2,    37.53,2,     0.00,2,     2.86,2,    0.003,2,    0.002,2, -999.000,9,   1.9040,2,    14.90,2,   -999.0,9,  -999.00,9,   8.349,2,   2358.7,2,   2421.8,2,  -999.0,    0.20,  0.0100,   0.167,-999.000
    316N145_10,  I07N,   842,  1,     10,     10,2,19950819,1633, 23.1588,  61.2603, 3344,   -999,   2101.2,   3.0485,  34.8386,2,  34.8379,2,     83.7,2,  2.8863,     82.2,2,   134.38,2,    37.34,2,     0.00,2,     2.83,2, -999.000,9, -999.000,9, -999.000,9,   1.8870,2,    13.30,2,   -999.0,9,  -999.00,9,   8.309,2,   2360.9,2,   2432.9,2,  -999.0,    0.20,  0.0090,   0.166,-999.000
    316N145_10,  I07N,   842,  1,      9,      9,2,19950819,1633, 23.1588,  61.2603, 3344,   -999,   2203.0,   2.7654,  34.8172,2,  34.8162,2,     90.0,2,  2.5984,     88.5,2,   137.74,2,    37.24,2,     0.00,2,     2.80,2, -999.000,9, -999.000,9, -999.000,9,   1.8960,2,    12.90,2,   -999.0,9,  -999.00,9,   8.345,2,   2362.3,2,   2432.0,2,  -999.0,    0.20,  0.0090,   0.167,-999.000
    316N145_10,  I07N,   842,  1,      8,      8,2,19950819,1633, 23.1588,  61.2603, 3344,   -999,   2299.9,   2.6002,  34.8036,2,  34.8031,2,     94.1,2,  2.4270,     93.0,2,   139.97,2,    37.05,2,     0.00,2,     2.78,2,    0.002,2,    0.005,2, -999.000,9,   1.8910,2,    12.80,2,   -999.0,9,  -999.00,9,   8.385,2,   2363.7,2,   2439.6,2,  -999.0,    0.20,  0.0090,   0.168,-999.000
    316N145_10,  I07N,   842,  1,      7,      7,2,19950819,1633, 23.1588,  61.2603, 3344,   -999,   2501.6,   2.2713,  34.7788,2,  34.7781,2,    102.7,2,  2.0854,    101.4,2,   144.34,2,    36.81,2,     0.00,2,     2.73,2, -999.000,9, -999.000,9, -999.000,9,   1.9090,2,    12.10,2,   -999.0,9,  -999.00,9,   8.447,2,   2369.6,2,   2443.0,2,  -999.0,    0.20,  0.0100,   0.169,-999.000
    316N145_10,  I07N,   842,  1,      6,      6,2,19950819,1633, 23.1588,  61.2603, 3344,   -999,   2699.5,   2.0341,  34.7608,2,  34.7609,2,    108.7,2,  1.8343,    107.9,2,   147.59,2,    36.61,2,     0.00,2,     2.69,2, -999.000,9, -999.000,9, -999.000,9,-999.0000,9,  -999.00,9,   -999.0,9,  -999.00,9,-999.000,9,   2369.0,2,   2455.9,2,  -999.0, -999.00,-999.0000,-999.000,-999.000
    316N145_10,  I07N,   842,  1,      5,      5,2,19950819,1633, 23.1588,  61.2603, 3344,   -999,   2897.5,   1.9070,  34.7512,2,  34.7508,2,    111.6,2,  1.6909,    111.0,2,   149.68,2,    36.47,2,     0.00,2,     2.69,2,    0.004,2,    0.014,2, -999.000,9,   1.8870,2,    12.20,2,   -999.0,9,  -999.00,9,   8.380,2,   2370.8,2,   2457.8,2,  -999.0,    0.20,  0.0090,   0.168,-999.000
    316N145_10,  I07N,   842,  1,      4,      4,2,19950819,1633, 23.1588,  61.2603, 3344,   -999,   3102.2,   1.8303,  34.7461,2,  34.7455,2,    111.2,2,  1.5960,    111.4,2,   152.18,2,    36.33,2,     0.00,2,     2.69,2,    0.014,2,    0.031,2, -999.000,9,-999.0000,9,  -999.00,9,   -999.0,9,  -999.00,9,-999.000,9,   2376.4,2,   2467.9,2,  -999.0, -999.00,-999.0000,-999.000,-999.000
    316N145_10,  I07N,   842,  1,      3,      3,2,19950819,1633, 23.1588,  61.2603, 3344,   -999,   3300.2,   1.7808,  34.7422,2,  34.7408,2,    109.5,2,  1.5278,    108.5,2,   154.90,2,    36.04,2,     0.00,2,     2.70,2,    0.028,2,    0.086,2, -999.000,9,   1.8960,2,    11.60,2,   -999.0,9,  -999.00,9,   8.407,2,   2384.2,2,   2469.5,2,  -999.0,    0.20,  0.0090,   0.168,-999.000
    316N145_10,  I07N,   842,  1,      2,      2,2,19950819,1633, 23.1588,  61.2603, 3344,   -999,   3351.3,   1.7799,  34.7417,2,  34.7416,2,    109.9,2,  1.5218,    108.9,2,   155.03,2,    36.04,2,     0.00,2,     2.71,2,    0.026,2,    0.088,2, -999.000,9,-999.0000,9,  -999.00,9,   -999.0,9,  -999.00,9,-999.000,9,   2384.8,2,   2464.0,3,  -999.0, -999.00,-999.0000,-999.000,-999.000
    316N145_10,  I07N,   842,  1,      1,      1,2,19950819,1633, 23.1588,  61.2603, 3344,   -999,   3390.0,   1.7841,  34.7416,2,  34.7420,2,    109.2,2,  1.5219,    108.9,2,   154.76,2,    35.99,2,     0.00,2,     2.71,2,    0.027,2,    0.088,2, -999.000,9,   1.9000,2,    11.70,2,   -999.0,9,  -999.00,9,   8.434,2,   2382.4,2,   2481.6,2,  -999.0,    0.20,  0.0090,   0.169,-999.000