BOTTLE,20080821WHPSIOSCD
EXPOCODE,SECT_ID,STNNBR,CASTNO,SAMPNO,BTLNBR,BTLNBR_FLAG_W,DATE,TIME,LATITUDE,LONGITUDE,DEPTH,CTDRAW,CTDPRS,CTDTMP,CTDSAL,CTDSAL_FLAG_W,SALNTY,SALNTY_FLAG_W,CTDOXY,CTDOXY_FLAG_W,THETA,OXYGEN,OXYGEN_FLAG_W,SILCAT,SILCAT_FLAG_W,NITRAT,NITRAT_FLAG_W,NITRIT,NITRIT_FLAG_W,PHSPHT,PHSPHT_FLAG_W,CFC-11,CFC-11_FLAG_W,CFC-12,CFC-12_FLAG_W,TRITUM,TRITUM_FLAG_W,HELIUM,HELIUM_FLAG_W,DELHE3,DELHE3_FLAG_W,DELC14,DELC14_FLAG_W,DELC13,DELC13_FLAG_W,NEON,NEON_FLAG_W,TCARBN,TCARBN_FLAG_W,ALKALI,ALKALI_FLAG_W,C14ERR,DELHER,HELIER,NEONER,TRITER
,,,,,,,,,,,,,DBAR,ITS-90,PSS-78,,PSS-78,,UMOL/KG,,DEG C,UMOL/KG,,UMOL/KG,,UMOL/KG,,UMOL/KG,,UMOL/KG,,PMOL/KG,,PMOL/KG,,TU,,NMOL/KG,,PERCNT,,/MILLE,,/MILLE,,NMOL/KG,,UMOL/KG,,UMOL/KG,,/MILLE,PERCNT,NMOL/KG,NMOL/KG,TU
    316N145_10,  I07N,   846,  1,     36,     36,2,19950820,1408, 23.7588,  59.1925, 3326,   -999,      5.4,  28.9013,  36.8020,2,  36.8015,2,    401.5,2, 28.9002,    196.3,2,     2.75,2,     0.09,2,     0.00,2,     0.33,2,    1.578,2,    0.873,2, -999.000,9,-999.0000,9,  -999.00,9,   -999.0,9,  -999.00,9,-999.000,9,   2029.3,2,   2406.4,2,  -999.0, -999.00,-999.0000,-999.000,-999.000
    316N145_10,  I07N,   846,  1,     35,     35,2,19950820,1408, 23.7588,  59.1925, 3326,   -999,     26.6,  22.6268,  36.4296,2,  36.4102,2,     58.8,2, 22.6216,     44.9,2,     9.84,2,    19.47,2,     0.28,2,     1.69,2, -999.000,9, -999.000,9, -999.000,9,-999.0000,9,  -999.00,9,   -999.0,9,  -999.00,9,-999.000,9,   2195.7,2,   2377.7,2,  -999.0, -999.00,-999.0000,-999.000,-999.000
    316N145_10,  I07N,   846,  1,     34,     34,2,19950820,1408, 23.7588,  59.1925, 3326,   -999,     51.7,  21.0670,  36.2383,2,  36.2388,2,      8.8,2, 21.0572,      8.3,2,    15.32,2,    22.84,2,     0.02,2,     2.09,2,    1.338,2,    0.765,2, -999.000,9,-999.0000,9,  -999.00,9,   -999.0,9,  -999.00,9,-999.000,9,   2229.1,2,   2359.6,2,  -999.0, -999.00,-999.0000,-999.000,-999.000
    316N145_10,  I07N,   846,  1,     33,     33,2,19950820,1408, 23.7588,  59.1925, 3326,   -999,     81.9,  19.8200,  36.1727,2,  36.1793,2,      3.8,2, 19.8051,      5.9,2,    19.04,2,    22.24,2,     0.00,2,     2.18,2,    1.114,2,    0.658,2, -999.000,9,-999.0000,9,  -999.00,9,   -999.0,9,  -999.00,9,-999.000,9,   2239.7,2,   2368.2,2,  -999.0, -999.00,-999.0000,-999.000,-999.000
    316N145_10,  I07N,   846,  1,     32,     32,2,19950820,1408, 23.7588,  59.1925, 3326,   -999,    121.7,  19.0088,  36.5430,2,  36.5524,2,     14.2,2, 18.9871,     17.9,2,    20.61,2,    20.03,2,     0.00,2,     2.06,2,    0.995,2,    0.678,2, -999.000,9,-999.0000,9,  -999.00,9,   -999.0,9,  -999.00,9,-999.000,9,   2243.1,2,   2373.7,2,  -999.0, -999.00,-999.0000,-999.000,-999.000
    316N145_10,  I07N,   846,  1,     31,     31,2,19950820,1408, 23.7588,  59.1925, 3326,   -999,    171.9,  18.4249,  36.7507,2,  36.7671,2,     26.5,2, 18.3947,     26.1,2,    21.30,2,    19.32,2,     0.00,2,     1.99,2,    0.981,2,    1.186,3, -999.000,9,-999.0000,9,  -999.00,9,   -999.0,9,  -999.00,9,-999.000,9,   2244.0,2,   2387.0,2,  -999.0, -999.00,-999.0000,-999.000,-999.000
    316N145_10,  I07N,   846,  1,     30,     30,2,19950820,1408, 23.7588,  59.1925, 3326,   -999,    257.7,  15.9160,  36.3169,2,  36.3073,3,      8.5,2, 15.8750,      7.3,2,    28.56,2,    21.72,2,     0.00,2,     2.28,2,    0.608,2,    0.675,3, -999.000,9,-999.0000,9,  -999.00,9,   -999.0,9,  -999.00,9,-999.000,9,   2265.7,2,   2365.3,2,  -999.0, -999.00,-999.0000,-999.000,-999.000
    316N145_10,  I07N,   846,  1,     29,     29,2,19950820,1408, 23.7588,  59.1925, 3326,   -999,    348.0,  13.8588,  35.9479,2,  35.9437,2,      1.1,2, 13.8084,      1.6,2,    36.34,2,    23.66,2,     0.00,2,     2.49,2,    0.314,2,    0.201,2, -999.000,9,-999.0000,9,  -999.00,9,   -999.0,9,  -999.00,9,-999.000,9,   2276.0,2,   2360.2,2,  -999.0, -999.00,-999.0000,-999.000,-999.000
    316N145_10,  I07N,   846,  1,     28,     28,2,19950820,1408, 23.7588,  59.1925, 3326,   -999,    448.3,  12.7563,  35.7889,2,  35.7867,2,      1.3,2, 12.6945,      0.7,2,    42.89,2,    24.90,2,     0.04,2,     2.59,2, -999.000,9, -999.000,9, -999.000,9,-999.0000,9,  -999.00,9,   -999.0,9,  -999.00,9,-999.000,9,   2282.2,2,   2356.6,2,  -999.0, -999.00,-999.0000,-999.000,-999.000
    316N145_10,  I07N,   846,  1,     27,     27,2,19950820,1408, 23.7588,  59.1925, 3326,   -999,    574.2,  11.3094,  35.6312,2,  35.6298,2,      1.6,2, 11.2358,      1.2,2,    54.05,2,    29.24,2,     0.00,2,     2.72,2,    0.059,2,    0.037,2, -999.000,9,-999.0000,9,  -999.00,9,   -999.0,9,  -999.00,9,-999.000,9,   2292.1,2,   2361.1,2,  -999.0, -999.00,-999.0000,-999.000,-999.000
    316N145_10,  I07N,   846,  1,     26,     26,2,19950820,1408, 23.7588,  59.1925, 3326,   -999,    699.9,  10.3398,  35.5509,2,  35.5502,2,      1.8,2, 10.2545,      1.8,2,    63.09,2,    32.29,2,     0.00,2,     2.80,2,    0.035,2,    0.019,2, -999.000,9,-999.0000,9,  -999.00,9,   -999.0,9,  -999.00,9,-999.000,9,   2302.0,2,   2364.7,2,  -999.0, -999.00,-999.0000,-999.000,-999.000
    316N145_10,  I07N,   846,  1,     25,     25,2,19950820,1408, 23.7588,  59.1925, 3326,   -999,    799.9,   9.4700,  35.4708,2,  35.4708,2,      1.9,2,  9.3770,      2.3,2,    71.08,2,    34.44,2,     0.00,2,     2.87,2, -999.000,9, -999.000,9, -999.000,9,-999.0000,9,  -999.00,9,   -999.0,9,  -999.00,9,-999.000,9,   2311.7,2,   2372.5,2,  -999.0, -999.00,-999.0000,-999.000,-999.000
    316N145_10,  I07N,   846,  1,     24,     24,2,19950820,1408, 23.7588,  59.1925, 3326,   -999,    899.9,   8.7949,  35.4008,2,  35.4009,2,      2.1,2,  8.6942,      2.6,2,    77.12,2,    35.78,2,     0.00,2,     2.96,2,    0.014,2,    0.006,2, -999.000,9,-999.0000,9,  -999.00,9,   -999.0,9,  -999.00,9,-999.000,9,   2320.0,2,   2373.6,2,  -999.0, -999.00,-999.0000,-999.000,-999.000
    316N145_10,  I07N,   846,  1,     23,     23,2,19950820,1408, 23.7588,  59.1925, 3326,   -999,   1000.2,   8.1627,  35.3349,2,  35.3334,2,      3.7,2,  8.0547,      4.3,2,    83.00,2,    36.79,2,     0.00,2,     3.00,2,    0.010,2,    0.005,2, -999.000,9,-999.0000,9,  -999.00,9,   -999.0,9,  -999.00,9,-999.000,9,   2326.9,2,   2381.8,2,  -999.0, -999.00,-999.0000,-999.000,-999.000
    316N145_10,  I07N,   846,  1,     22,     22,2,19950820,1408, 23.7588,  59.1925, 3326,   -999,   1094.8,   7.5666,  35.2712,2,  35.2694,2,      7.0,2,  7.4526,      7.6,2,    88.36,2,    37.57,2,     0.00,2,     3.05,2, -999.000,9, -999.000,9, -999.000,9,-999.0000,9,  -999.00,9,   -999.0,9,  -999.00,9,-999.000,9,   2333.3,2,   2382.1,2,  -999.0, -999.00,-999.0000,-999.000,-999.000
    316N145_10,  I07N,   846,  1,     21,     21,2,19950820,1408, 23.7588,  59.1925, 3326,   -999,   1194.6,   6.9195,  35.2027,2,  35.2001,2,     12.5,2,  6.8001,     13.4,2,    94.46,2,    38.10,2,     0.00,2,     3.05,2,    0.004,2,   -0.002,2, -999.000,9,-999.0000,9,  -999.00,9,   -999.0,9,  -999.00,9,-999.000,9,   2338.2,2,   2389.1,2,  -999.0, -999.00,-999.0000,-999.000,-999.000
    316N145_10,  I07N,   846,  1,     20,     20,2,19950820,1408, 23.7588,  59.1925, 3326,   -999,   1294.8,   6.3022,  35.1387,2,  35.1388,2,     20.3,2,  6.1779,     20.8,2,   100.58,2,    38.39,2,     0.00,2,     3.07,2,    0.000,2,    0.005,2, -999.000,9,-999.0000,9,  -999.00,9,   -999.0,9,  -999.00,9,-999.000,9,   2341.9,2,   2391.1,2,  -999.0, -999.00,-999.0000,-999.000,-999.000
    316N145_10,  I07N,   846,  1,     19,     19,2,19950820,1408, 23.7588,  59.1925, 3326,   -999,   1395.5,   5.6872,  35.0783,2,  35.0778,2,     29.5,2,  5.5587,     29.6,2,   106.93,2,    38.44,2,     0.00,2,     3.06,2, -999.000,9, -999.000,9, -999.000,9,-999.0000,9,  -999.00,9,   -999.0,9,  -999.00,9,-999.000,9,   2344.2,2,   2401.4,2,  -999.0, -999.00,-999.0000,-999.000,-999.000
    316N145_10,  I07N,   846,  1,     18,     18,2,19950820,1408, 23.7588,  59.1925, 3326,   -999,   1496.4,   5.0188,  35.0138,2,  35.0137,2,     39.5,2,  4.8876,     40.6,2,   114.25,2,    38.49,2,     0.00,2,     3.03,2,    0.000,2,    0.004,2, -999.000,9,-999.0000,9,  -999.00,9,   -999.0,9,  -999.00,9,-999.000,9,   2352.5,2,   2405.3,2,  -999.0, -999.00,-999.0000,-999.000,-999.000
    316N145_10,  I07N,   846,  1,     17,     17,2,19950820,1408, 23.7588,  59.1925, 3326,   -999,   1597.0,   4.4427,  34.9619,2,  34.9599,2,     49.6,2,  4.3084,     50.4,2,   120.53,2,    38.34,2,     0.00,2,     2.98,2, -999.000,9, -999.000,9, -999.000,9,-999.0000,9,  -999.00,9,   -999.0,9,  -999.00,9,-999.000,9,   2356.7,2,   2416.5,2,  -999.0, -999.00,-999.0000,-999.000,-999.000
    316N145_10,  I07N,   846,  1,     16,     16,2,19950820,1408, 23.7588,  59.1925, 3326,   -999,   1697.4,   4.0007,  34.9211,2,  34.9210,2,     59.4,2,  3.8625,     59.7,2,   125.36,2,    38.15,2,     0.00,2,     2.94,2,   -0.002,2,    0.004,2, -999.000,9,-999.0000,9,  -999.00,9,   -999.0,9,  -999.00,9,-999.000,9,   2357.5,2,   2420.7,2,  -999.0, -999.00,-999.0000,-999.000,-999.000
    316N145_10,  I07N,   846,  1,     15,     15,2,19950820,1408, 23.7588,  59.1925, 3326,   -999,   1798.2,   3.6025,  34.8868,2,  34.8858,2,     67.7,2,  3.4602,     67.9,2,   129.66,2,    37.91,2,     0.00,2,     2.91,2, -999.000,9, -999.000,9, -999.000,9,-999.0000,9,  -999.00,9,   -999.0,9,  -999.00,9,-999.000,9,   2360.9,2,   2425.7,2,  -999.0, -999.00,-999.0000,-999.000,-999.000
    316N145_10,  I07N,   846,  1,     14,     14,2,19950820,1408, 23.7588,  59.1925, 3326,   -999,   1898.4,   3.2894,  34.8610,2,  34.8599,2,     76.9,2,  3.1423,     75.1,2,   133.42,2,    37.81,2,     0.00,2,     2.85,2,    0.002,2,    0.008,2, -999.000,9,-999.0000,9,  -999.00,9,   -999.0,9,  -999.00,9,-999.000,9,   2362.5,2,   2430.1,2,  -999.0, -999.00,-999.0000,-999.000,-999.000
    316N145_10,  I07N,   846,  1,     13,     13,2,19950820,1408, 23.7588,  59.1925, 3326,   -999,   1998.9,   3.0075,  34.8372,2,  34.8363,2,     83.8,2,  2.8553,     81.8,2,   136.64,2,    37.52,2,     0.00,2,     2.82,2, -999.000,9, -999.000,9, -999.000,9,-999.0000,9,  -999.00,9,   -999.0,9,  -999.00,9,-999.000,9,   2363.9,2,   2435.6,2,  -999.0, -999.00,-999.0000,-999.000,-999.000
    316N145_10,  I07N,   846,  1,     12,     12,2,19950820,1408, 23.7588,  59.1925, 3326,   -999,   2094.2,   2.7908,  34.8195,2,  34.8194,2,     89.5,2,  2.6333,     87.0,2,   139.10,2,    37.38,2,     0.00,2,     2.80,2, -999.000,9, -999.000,9, -999.000,9,-999.0000,9,  -999.00,9,   -999.0,9,  -999.00,9,-999.000,9,   2364.8,2,   2432.7,2,  -999.0, -999.00,-999.0000,-999.000,-999.000
    316N145_10,  I07N,   846,  1,     11,     11,2,19950820,1408, 23.7588,  59.1925, 3326,   -999,   2194.5,   2.6333,  34.8076,2,  34.8068,2,     94.2,2,  2.4693,     91.6,2,   140.99,2,    37.23,2,     0.00,2,     2.77,2, -999.000,9, -999.000,9, -999.000,9,-999.0000,9,  -999.00,9,   -999.0,9,  -999.00,9,-999.000,9,   2365.5,2,   2440.8,2,  -999.0, -999.00,-999.0000,-999.000,-999.000
    316N145_10,  I07N,   846,  1,     10,     10,2,19950820,1408, 23.7588,  59.1925, 3326,   -999,   2294.9,   2.4379,  34.7926,2,  34.7913,2,     99.3,2,  2.2681,     96.0,2,   143.68,2,    37.04,2,     0.00,2,     2.74,2, -999.000,9, -999.000,9, -999.000,9,-999.0000,9,  -999.00,9,   -999.0,9,  -999.00,9,-999.000,9,   2368.2,2,   2439.9,2,  -999.0, -999.00,-999.0000,-999.000,-999.000
    316N145_10,  I07N,   846,  1,      9,      9,2,19950820,1408, 23.7588,  59.1925, 3326,   -999,   2396.0,   2.2966,  34.7814,2,  34.7799,2,    102.9,2,  2.1200,     99.6,2,   145.59,2,    36.89,2,     0.00,2,     2.74,2, -999.000,9, -999.000,9, -999.000,9,-999.0000,9,  -999.00,9,   -999.0,9,  -999.00,9,-999.000,9,   2366.4,2,   2448.6,2,  -999.0, -999.00,-999.0000,-999.000,-999.000
    316N145_10,  I07N,   846,  1,      8,      8,2,19950820,1408, 23.7588,  59.1925, 3326,   -999,   2497.2,   2.1370,  34.7700,2,  34.7689,2,    106.6,2,  1.9540,    104.0,2,   147.71,2,    36.70,2,     0.00,2,     2.70,2, -999.000,9, -999.000,9, -999.000,9,-999.0000,9,  -999.00,9,   -999.0,9,  -999.00,9,-999.000,9,   2368.0,2,   2449.2,2,  -999.0, -999.00,-999.0000,-999.000,-999.000
    316N145_10,  I07N,   846,  1,      7,      7,2,19950820,1408, 23.7588,  59.1925, 3326,   -999,   2598.9,   2.0205,  34.7612,2,  34.7609,2,    109.1,2,  1.8304,    107.7,2,   148.85,2,    36.55,2,     0.00,2,     2.69,2,    0.004,2,    0.015,2, -999.000,9,-999.0000,9,  -999.00,9,   -999.0,9,  -999.00,9,-999.000,9,   2367.4,2,   2454.2,2,  -999.0, -999.00,-999.0000,-999.000,-999.000
    316N145_10,  I07N,   846,  1,      6,      6,2,19950820,1408, 23.7588,  59.1925, 3326,   -999,   2695.7,   1.9543,  34.7568,2,  34.7552,2,    110.0,2,  1.7564,    108.1,2,   150.38,2,    36.50,2,     0.00,2,     2.70,2, -999.000,9, -999.000,9, -999.000,9,-999.0000,9,  -999.00,9,   -999.0,9,  -999.00,9,-999.000,9,   2371.0,2,   2452.8,2,  -999.0, -999.00,-999.0000,-999.000,-999.000
    316N145_10,  I07N,   846,  1,      5,      5,2,19950820,1408, 23.7588,  59.1925, 3326,   -999,   2895.2,   1.8656,  34.7492,2,  34.7475,2,    110.8,2,  1.6507,    110.6,2,   151.93,2,    36.41,2,     0.00,2,     2.68,2,    0.011,2,    0.022,2, -999.000,9,-999.0000,9,  -999.00,9,   -999.0,9,  -999.00,9,-999.000,9,   2373.1,2,   2462.7,2,  -999.0, -999.00,-999.0000,-999.000,-999.000
    316N145_10,  I07N,   846,  1,      4,      4,2,19950820,1408, 23.7588,  59.1925, 3326,   -999,   2997.4,   1.8382,  34.7481,2,  34.7467,2,    110.1,2,  1.6140,    110.6,2,   153.08,2,    36.31,2,     0.00,2,     2.68,2,    0.012,2,    0.032,2, -999.000,9,-999.0000,9,  -999.00,9,   -999.0,9,  -999.00,9,-999.000,9,   2375.1,2,   -999.9,5,  -999.0, -999.00,-999.0000,-999.000,-999.000
    316N145_10,  I07N,   846,  1,      3,      3,2,19950820,1408, 23.7588,  59.1925, 3326,   -999,   3252.1,   1.7984,  34.7438,2,  34.7414,2,    103.0,2,  1.5499,    105.6,2,   156.45,2,    36.02,2,     0.00,2,     2.72,2,    0.027,2,    0.085,2, -999.000,9,-999.0000,9,  -999.00,9,   -999.0,9,  -999.00,9,-999.000,9,   2387.7,2,   2476.3,2,  -999.0, -999.00,-999.0000,-999.000,-999.000
    316N145_10,  I07N,   846,  1,      2,      2,2,19950820,1408, 23.7588,  59.1925, 3326,   -999,   3334.0,   1.7955,  34.7421,2,  34.7422,2,     99.8,2,  1.5388,    103.3,2,   157.41,2,    35.88,2,     0.00,2,     2.73,2, -999.000,9, -999.000,9, -999.000,9,-999.0000,9,  -999.00,9,   -999.0,9,  -999.00,9,-999.000,9,   2391.3,2,   2476.5,2,  -999.0, -999.00,-999.0000,-999.000,-999.000
    316N145_10,  I07N,   846,  1,      1,      1,2,19950820,1408, 23.7588,  59.1925, 3326,   -999,   3367.0,   1.7988,  34.7438,2,  34.7420,2,     98.8,2,  1.5387,    103.1,2,   157.56,2,    35.97,2,     0.00,2,     2.73,2,    0.028,2,    0.097,2, -999.000,9,-999.0000,9,  -999.00,9,   -999.0,9,  -999.00,9,-999.000,9,   2391.6,2,   2480.8,2,  -999.0, -999.00,-999.0000,-999.000,-999.000