BOTTLE,20080821WHPSIOSCD
EXPOCODE,SECT_ID,STNNBR,CASTNO,SAMPNO,BTLNBR,BTLNBR_FLAG_W,DATE,TIME,LATITUDE,LONGITUDE,DEPTH,CTDRAW,CTDPRS,CTDTMP,CTDSAL,CTDSAL_FLAG_W,SALNTY,SALNTY_FLAG_W,CTDOXY,CTDOXY_FLAG_W,THETA,OXYGEN,OXYGEN_FLAG_W,SILCAT,SILCAT_FLAG_W,NITRAT,NITRAT_FLAG_W,NITRIT,NITRIT_FLAG_W,PHSPHT,PHSPHT_FLAG_W,CFC-11,CFC-11_FLAG_W,CFC-12,CFC-12_FLAG_W,TRITUM,TRITUM_FLAG_W,HELIUM,HELIUM_FLAG_W,DELHE3,DELHE3_FLAG_W,DELC14,DELC14_FLAG_W,DELC13,DELC13_FLAG_W,NEON,NEON_FLAG_W,TCARBN,TCARBN_FLAG_W,ALKALI,ALKALI_FLAG_W,C14ERR,DELHER,HELIER,NEONER,TRITER
,,,,,,,,,,,,,DBAR,ITS-90,PSS-78,,PSS-78,,UMOL/KG,,DEG C,UMOL/KG,,UMOL/KG,,UMOL/KG,,UMOL/KG,,UMOL/KG,,PMOL/KG,,PMOL/KG,,TU,,NMOL/KG,,PERCNT,,/MILLE,,/MILLE,,NMOL/KG,,UMOL/KG,,UMOL/KG,,/MILLE,PERCNT,NMOL/KG,NMOL/KG,TU
    316N145_10,  I07N,   721,  1,     36,     36,2,19950719,0715,-11.8757,  54.5507, 4574,   -999,      9.5,  25.7674,  34.8708,2,  34.8717,2,    205.8,2, 25.7655,    204.4,2,     3.67,2,     0.04,2,     0.00,2,     0.17,2,    1.750,2,    0.989,2, -999.000,9,-999.0000,9,  -999.00,9,   -999.0,9,  -999.00,9,-999.000,9,   1949.4,2,   -999.9,5,  -999.0, -999.00,-999.0000,-999.000,-999.000
    316N145_10,  I07N,   721,  1,     35,     35,2,19950719,0715,-11.8757,  54.5507, 4574,   -999,     30.8,  25.7582,  34.8701,2,  34.8694,2,    202.5,2, 25.7516,    204.8,2,     3.65,2,     0.04,2,     0.00,2,     0.17,2,    1.739,2,    0.989,2, -999.000,9,-999.0000,9,  -999.00,9,   -999.0,9,  -999.00,9,-999.000,9,   -999.9,9,   -999.9,9,  -999.0, -999.00,-999.0000,-999.000,-999.000
    316N145_10,  I07N,   721,  1,     34,     34,2,19950719,0715,-11.8757,  54.5507, 4574,   -999,     60.9,  22.5986,  35.1558,2,  35.1533,2,    192.6,2, 22.5866,    188.2,2,     5.71,2,     2.41,2,     0.15,2,     0.34,2,    1.849,2,    1.017,2, -999.000,9,-999.0000,9,  -999.00,9,   -999.0,9,  -999.00,9,-999.000,9,   -999.9,9,   -999.9,9,  -999.0, -999.00,-999.0000,-999.000,-999.000
    316N145_10,  I07N,   721,  1,     33,     33,2,19950719,0715,-11.8757,  54.5507, 4574,   -999,     90.6,  19.8436,  35.2993,2,  35.2994,2,    151.7,2, 19.8271,    145.2,2,    10.53,2,     9.44,2,     0.08,2,     0.74,2,    1.746,2,    0.965,2, -999.000,9,-999.0000,9,  -999.00,9,   -999.0,9,  -999.00,9,-999.000,9,   -999.9,9,   -999.9,9,  -999.0, -999.00,-999.0000,-999.000,-999.000
    316N145_10,  I07N,   721,  1,     32,     32,2,19950719,0715,-11.8757,  54.5507, 4574,   -999,    118.7,  17.1281,  35.2893,2,  35.2988,2,    136.8,2, 17.1086,    135.3,2,    13.79,2,    12.82,2,     0.01,2,     0.95,2,    1.641,2,    0.879,2, -999.000,9,-999.0000,9,  -999.00,9,   -999.0,9,  -999.00,9,-999.000,9,   -999.9,9,   -999.9,9,  -999.0, -999.00,-999.0000,-999.000,-999.000
    316N145_10,  I07N,   721,  1,     31,     31,2,19950719,0715,-11.8757,  54.5507, 4574,   -999,    148.3,  14.9710,  35.2172,2,  35.2150,2,    142.4,2, 14.9488,    133.9,2,    16.54,2,    15.44,2,     0.00,2,     1.13,2,    1.523,2,    0.793,2, -999.000,9,-999.0000,9,  -999.00,9,   -999.0,9,  -999.00,9,-999.000,9,   -999.9,9,   -999.9,9,  -999.0, -999.00,-999.0000,-999.000,-999.000
    316N145_10,  I07N,   721,  1,     30,     30,2,19950719,0715,-11.8757,  54.5507, 4574,   -999,    197.8,  12.8233,  35.0655,2,  35.0654,2,    132.7,2, 12.7964,    134.7,2,    18.43,2,    18.71,2,     0.00,2,     1.33,2,    1.336,2,    0.682,2, -999.000,9,-999.0000,9,  -999.00,9,   -999.0,9,  -999.00,9,-999.000,9,   -999.9,9,   -999.9,9,  -999.0, -999.00,-999.0000,-999.000,-999.000
    316N145_10,  I07N,   721,  1,     37,     37,2,19950719,0715,-11.8757,  54.5507, 4574,   -999,    248.2,  11.6911,  34.9933,2,  34.9935,2,    148.1,2, 11.6593,    158.2,2,    17.03,2,    18.10,2,     0.00,2,     1.30,2,    1.457,2,    0.741,2, -999.000,9,-999.0000,9,  -999.00,9,   -999.0,9,  -999.00,9,-999.000,9,   -999.9,9,   -999.9,9,  -999.0, -999.00,-999.0000,-999.000,-999.000
    316N145_10,  I07N,   721,  1,     28,     28,2,19950719,0715,-11.8757,  54.5507, 4574,   -999,    299.1,  10.9375,  34.9381,2,  34.9286,2,    162.9,2, 10.9007,    162.2,2,    17.87,2,    19.02,2,     0.00,2,     1.36,2,    1.398,2,    0.701,2, -999.000,9,-999.0000,9,  -999.00,9,   -999.0,9,  -999.00,9,-999.000,9,   -999.9,9,   -999.9,9,  -999.0, -999.00,-999.0000,-999.000,-999.000
    316N145_10,  I07N,   721,  1,     27,     27,2,19950719,0715,-11.8757,  54.5507, 4574,   -999,    378.9,   9.9271,  34.8281,2,  34.8279,2,    161.8,2,  9.8832,    164.6,2,    19.93,2,    21.07,2,     0.00,2,     1.49,2,    1.173,2,    0.590,2, -999.000,9,-999.0000,9,  -999.00,9,   -999.0,9,  -999.00,9,-999.000,9,   -999.9,9,   -999.9,9,  -999.0, -999.00,-999.0000,-999.000,-999.000
    316N145_10,  I07N,   721,  1,     26,     26,2,19950719,0715,-11.8757,  54.5507, 4574,   -999,    489.6,   8.8759,  34.7632,2,  34.7649,2,    143.5,2,  8.8226,    144.1,2,    29.07,2,    25.19,2,     0.00,2,     1.78,2,    0.673,2,    0.323,2, -999.000,9,-999.0000,9,  -999.00,9,   -999.0,9,  -999.00,9,-999.000,9,   -999.9,9,   -999.9,9,  -999.0, -999.00,-999.0000,-999.000,-999.000
    316N145_10,  I07N,   721,  1,     25,     25,2,19950719,0715,-11.8757,  54.5507, 4574,   -999,    599.1,   7.7432,  34.7110,2,  34.7122,2,    131.7,2,  7.6825,    131.3,2,    41.34,2,    28.53,2,     0.00,2,     2.04,2,    0.319,2,    0.164,2, -999.000,9,-999.0000,9,  -999.00,9,   -999.0,9,  -999.00,9,-999.000,9,   -999.9,9,   -999.9,9,  -999.0, -999.00,-999.0000,-999.000,-999.000
    316N145_10,  I07N,   721,  1,     24,     24,2,19950719,0715,-11.8757,  54.5507, 4574,   -999,    699.4,   7.2100,  34.7515,2,  34.7525,2,    110.5,2,  7.1414,    109.8,2,    54.14,2,    31.22,2,     0.00,2,     2.27,2,    0.179,2,    0.092,2, -999.000,9,-999.0000,9,  -999.00,9,   -999.0,9,  -999.00,9,-999.000,9,   -999.9,9,   -999.9,9,  -999.0, -999.00,-999.0000,-999.000,-999.000
    316N145_10,  I07N,   721,  1,     23,     23,2,19950719,0715,-11.8757,  54.5507, 4574,   -999,    800.5,   6.7079,  34.7630,2,  34.7625,2,    102.3,2,  6.6318,    101.2,2,    63.85,2,    32.69,2,     0.00,2,     2.38,2,    0.098,2,    0.054,2, -999.000,9,-999.0000,9,  -999.00,9,   -999.0,9,  -999.00,9,-999.000,9,   -999.9,9,   -999.9,9,  -999.0, -999.00,-999.0000,-999.000,-999.000
    316N145_10,  I07N,   721,  1,     22,     22,2,19950719,0715,-11.8757,  54.5507, 4574,   -999,    902.9,   6.2063,  34.7679,2,  34.7674,2,     97.6,2,  6.1233,     99.1,2,    71.32,2,    33.62,2,     0.00,2,     2.47,2,    0.055,2,    0.024,2, -999.000,9,-999.0000,9,  -999.00,9,   -999.0,9,  -999.00,9,-999.000,9,   -999.9,9,   -999.9,9,  -999.0, -999.00,-999.0000,-999.000,-999.000
    316N145_10,  I07N,   721,  1,     21,     21,2,19950719,0715,-11.8757,  54.5507, 4574,   -999,    991.4,   5.7006,  34.7710,2,  34.7727,2,     98.3,2,  5.6125,     97.8,2,    78.99,2,    34.25,2,     0.00,2,     2.53,2,    0.034,2,    0.013,2, -999.000,9,-999.0000,9,  -999.00,9,   -999.0,9,  -999.00,9,-999.000,9,   -999.9,9,   -999.9,9,  -999.0, -999.00,-999.0000,-999.000,-999.000
    316N145_10,  I07N,   721,  1,     20,     20,2,19950719,0715,-11.8757,  54.5507, 4574,   -999,   1198.8,   4.6901,  34.7416,2,  34.7419,2,    108.9,2,  4.5909,    109.4,2,    88.99,2,    34.56,2,     0.00,2,     2.53,2,    0.008,2,    0.012,2, -999.000,9,-999.0000,9,  -999.00,9,   -999.0,9,  -999.00,9,-999.000,9,   -999.9,9,   -999.9,9,  -999.0, -999.00,-999.0000,-999.000,-999.000
    316N145_10,  I07N,   721,  1,     19,     19,2,19950719,0715,-11.8757,  54.5507, 4574,   -999,   1394.6,   3.9000,  34.7254,2,  34.7258,2,    124.4,2,  3.7910,    125.4,2,    94.62,2,    34.20,2,     0.00,2,     2.49,2,    0.002,2,   -0.003,2, -999.000,9,-999.0000,9,  -999.00,9,   -999.0,9,  -999.00,9,-999.000,9,   -999.9,9,   -999.9,9,  -999.0, -999.00,-999.0000,-999.000,-999.000
    316N145_10,  I07N,   721,  1,     18,     18,2,19950719,0715,-11.8757,  54.5507, 4574,   -999,   1594.2,   3.2587,  34.7236,2,  34.7240,2,    138.8,2,  3.1395,    139.3,2,   100.80,2,    33.80,2,     0.00,2,     2.45,2,    0.000,2,   -0.004,2, -999.000,9,-999.0000,9,  -999.00,9,   -999.0,9,  -999.00,9,-999.000,9,   -999.9,9,   -999.9,9,  -999.0, -999.00,-999.0000,-999.000,-999.000
    316N145_10,  I07N,   721,  1,     17,     17,2,19950719,0715,-11.8757,  54.5507, 4574,   -999,   1791.1,   2.7987,  34.7284,2,  34.7275,2,    144.6,2,  2.6683,    147.2,2,   107.20,2,    33.40,2,     0.00,2,     2.41,2, -999.000,9, -999.000,9, -999.000,9,-999.0000,9,  -999.00,9,   -999.0,9,  -999.00,9,-999.000,9,   -999.9,9,   -999.9,9,  -999.0, -999.00,-999.0000,-999.000,-999.000
    316N145_10,  I07N,   721,  1,     16,     16,2,19950719,0715,-11.8757,  54.5507, 4574,   -999,   1996.5,   2.4244,  34.7361,2,  34.7361,2,    151.9,2,  2.2816,    151.9,2,   115.08,2,    33.49,2,     0.00,2,     2.41,2, -999.000,9, -999.000,9, -999.000,9,-999.0000,9,  -999.00,9,   -999.0,9,  -999.00,9,-999.000,9,   -999.9,9,   -999.9,9,  -999.0, -999.00,-999.0000,-999.000,-999.000
    316N145_10,  I07N,   721,  1,     15,     15,2,19950719,0715,-11.8757,  54.5507, 4574,   -999,   2197.5,   2.2473,  34.7405,2,  34.7399,2,    154.1,2,  2.0896,    153.3,2,   119.93,2,    33.53,2,     0.00,2,     2.42,2, -999.000,9, -999.000,9, -999.000,9,-999.0000,9,  -999.00,9,   -999.0,9,  -999.00,9,-999.000,9,   -999.9,9,   -999.9,9,  -999.0, -999.00,-999.0000,-999.000,-999.000
    316N145_10,  I07N,   721,  1,     14,     14,2,19950719,0715,-11.8757,  54.5507, 4574,   -999,   2394.6,   2.0879,  34.7415,2,  34.7412,2,    156.2,2,  1.9153,    155.8,2,   123.17,2,    33.57,2,     0.00,2,     2.41,2, -999.000,9, -999.000,9, -999.000,9,-999.0000,9,  -999.00,9,   -999.0,9,  -999.00,9,-999.000,9,   -999.9,9,   -999.9,9,  -999.0, -999.00,-999.0000,-999.000,-999.000
    316N145_10,  I07N,   721,  1,     13,     13,2,19950719,0715,-11.8757,  54.5507, 4574,   -999,   2598.8,   1.9676,  34.7407,2,  34.7401,2,    158.7,2,  1.7786,    158.6,2,   126.06,2,    33.57,2,     0.00,2,     2.41,2, -999.000,9, -999.000,9, -999.000,9,-999.0000,9,  -999.00,9,   -999.0,9,  -999.00,9,-999.000,9,   -999.9,9,   -999.9,9,  -999.0, -999.00,-999.0000,-999.000,-999.000
    316N145_10,  I07N,   721,  1,     12,     12,2,19950719,0715,-11.8757,  54.5507, 4574,   -999,   2801.1,   1.8932,  34.7394,2,  34.7401,2,    160.6,2,  1.6867,    160.2,2,   127.85,2,    33.57,2,     0.00,2,     2.40,2, -999.000,9, -999.000,9, -999.000,9,-999.0000,9,  -999.00,9,   -999.0,9,  -999.00,9,-999.000,9,   -999.9,9,   -999.9,9,  -999.0, -999.00,-999.0000,-999.000,-999.000
    316N145_10,  I07N,   721,  1,     11,     11,2,19950719,0715,-11.8757,  54.5507, 4574,   -999,   2996.2,   1.8165,  34.7368,2,  34.7365,2,    163.2,2,  1.5929,    162.3,2,   128.92,2,    33.48,2,     0.00,2,     2.39,2, -999.000,9, -999.000,9, -999.000,9,-999.0000,9,  -999.00,9,   -999.0,9,  -999.00,9,-999.000,9,   -999.9,9,   -999.9,9,  -999.0, -999.00,-999.0000,-999.000,-999.000
    316N145_10,  I07N,   721,  1,     10,     10,2,19950719,0715,-11.8757,  54.5507, 4574,   -999,   3198.6,   1.7485,  34.7345,2,  34.7349,2,    164.8,2,  1.5065,    165.0,2,   129.80,2,    33.48,2,     0.00,2,     2.38,2, -999.000,9, -999.000,9, -999.000,9,-999.0000,9,  -999.00,9,   -999.0,9,  -999.00,9,-999.000,9,   -999.9,9,   -999.9,9,  -999.0, -999.00,-999.0000,-999.000,-999.000
    316N145_10,  I07N,   721,  1,      9,      9,2,19950719,0715,-11.8757,  54.5507, 4574,   -999,   3400.7,   1.6652,  34.7315,2,  34.7306,2,    168.0,2,  1.4049,    169.2,2,   130.14,2,    33.31,2,     0.00,2,     2.38,2, -999.000,9, -999.000,9, -999.000,9,-999.0000,9,  -999.00,9,   -999.0,9,  -999.00,9,-999.000,9,   -999.9,9,   -999.9,9,  -999.0, -999.00,-999.0000,-999.000,-999.000
    316N145_10,  I07N,   721,  1,      8,      8,2,19950719,0715,-11.8757,  54.5507, 4574,   -999,   3604.5,   1.5986,  34.7294,2,  34.7292,2,    171.4,2,  1.3190,    172.4,2,   129.92,2,    33.13,2,     0.00,2,     2.36,2, -999.000,9, -999.000,9, -999.000,9,-999.0000,9,  -999.00,9,   -999.0,9,  -999.00,9,-999.000,9,   -999.9,9,   -999.9,9,  -999.0, -999.00,-999.0000,-999.000,-999.000
    316N145_10,  I07N,   721,  1,      7,      7,2,19950719,0715,-11.8757,  54.5507, 4574,   -999,   3797.9,   1.5033,  34.7257,2,  34.7243,2,    176.7,2,  1.2059,    177.9,2,   129.70,2,    32.86,2,     0.00,2,     2.32,2, -999.000,9, -999.000,9, -999.000,9,-999.0000,9,  -999.00,9,   -999.0,9,  -999.00,9,-999.000,9,   -999.9,9,   -999.9,9,  -999.0, -999.00,-999.0000,-999.000,-999.000
    316N145_10,  I07N,   721,  1,      6,      6,2,19950719,0715,-11.8757,  54.5507, 4574,   -999,   3998.7,   1.4247,  34.7221,2,  34.7210,2,    182.6,2,  1.1080,    182.5,2,   129.30,2,    32.68,2,     0.00,2,     2.32,2,   -0.001,2,   -0.003,2, -999.000,9,-999.0000,9,  -999.00,9,   -999.0,9,  -999.00,9,-999.000,9,   -999.9,9,   -999.9,9,  -999.0, -999.00,-999.0000,-999.000,-999.000
    316N145_10,  I07N,   721,  1,      5,      5,2,19950719,0715,-11.8757,  54.5507, 4574,   -999,   4183.6,   1.3145,  34.7179,2,  34.7173,2,    188.4,2,  0.9807,    188.9,2,   128.35,2,    32.37,2,     0.00,2,     2.28,2, -999.000,9, -999.000,9, -999.000,9,-999.0000,9,  -999.00,9,   -999.0,9,  -999.00,9,-999.000,9,   -999.9,9,   -999.9,9,  -999.0, -999.00,-999.0000,-999.000,-999.000
    316N145_10,  I07N,   721,  1,      4,      4,2,19950719,0715,-11.8757,  54.5507, 4574,   -999,   4407.0,   1.2216,  34.7141,2,  34.7139,2,    194.6,2,  0.8658,    194.6,2,   126.85,2,    32.06,2,     0.00,2,     2.27,2, -999.000,9, -999.000,9, -999.000,9,-999.0000,9,  -999.00,9,   -999.0,9,  -999.00,9,-999.000,9,   -999.9,9,   -999.9,9,  -999.0, -999.00,-999.0000,-999.000,-999.000
    316N145_10,  I07N,   721,  1,      3,      3,2,19950719,0715,-11.8757,  54.5507, 4574,   -999,   4501.4,   1.1908,  34.7132,2,  34.7119,2,    196.3,2,  0.8252,    196.5,2,   126.64,2,    31.79,2,     0.00,2,     2.25,2, -999.000,9, -999.000,9, -999.000,9,-999.0000,9,  -999.00,9,   -999.0,9,  -999.00,9,-999.000,9,   -999.9,9,   -999.9,9,  -999.0, -999.00,-999.0000,-999.000,-999.000
    316N145_10,  I07N,   721,  1,      2,      2,2,19950719,0715,-11.8757,  54.5507, 4574,   -999,   4602.3,   1.1615,  34.7118,2,  34.7110,2,    198.9,2,  0.7853,    198.6,2,   126.24,2,    31.93,2,     0.00,2,     2.25,2, -999.000,9, -999.000,9, -999.000,9,-999.0000,9,  -999.00,9,   -999.0,9,  -999.00,9,-999.000,9,   -999.9,9,   -999.9,9,  -999.0, -999.00,-999.0000,-999.000,-999.000
    316N145_10,  I07N,   721,  1,      1,      1,2,19950719,0715,-11.8757,  54.5507, 4574,   -999,   4646.6,   1.1580,  34.7116,2,  34.7104,2,    199.9,2,  0.7768,    199.4,2,   126.02,2,    31.88,2,     0.00,2,     2.23,2,    0.000,2,   -0.004,2, -999.000,9,-999.0000,9,  -999.00,9,   -999.0,9,  -999.00,9,-999.000,9,   -999.9,9,   -999.9,9,  -999.0, -999.00,-999.0000,-999.000,-999.000