BOTTLE,20080821WHPSIOSCD
EXPOCODE,SECT_ID,STNNBR,CASTNO,SAMPNO,BTLNBR,BTLNBR_FLAG_W,DATE,TIME,LATITUDE,LONGITUDE,DEPTH,CTDRAW,CTDPRS,CTDTMP,CTDSAL,CTDSAL_FLAG_W,SALNTY,SALNTY_FLAG_W,CTDOXY,CTDOXY_FLAG_W,THETA,OXYGEN,OXYGEN_FLAG_W,SILCAT,SILCAT_FLAG_W,NITRAT,NITRAT_FLAG_W,NITRIT,NITRIT_FLAG_W,PHSPHT,PHSPHT_FLAG_W,CFC-11,CFC-11_FLAG_W,CFC-12,CFC-12_FLAG_W,TRITUM,TRITUM_FLAG_W,HELIUM,HELIUM_FLAG_W,DELHE3,DELHE3_FLAG_W,DELC14,DELC14_FLAG_W,DELC13,DELC13_FLAG_W,NEON,NEON_FLAG_W,TCARBN,TCARBN_FLAG_W,ALKALI,ALKALI_FLAG_W,C14ERR,DELHER,HELIER,NEONER,TRITER
,,,,,,,,,,,,,DBAR,ITS-90,PSS-78,,PSS-78,,UMOL/KG,,DEG C,UMOL/KG,,UMOL/KG,,UMOL/KG,,UMOL/KG,,UMOL/KG,,PMOL/KG,,PMOL/KG,,TU,,NMOL/KG,,PERCNT,,/MILLE,,/MILLE,,NMOL/KG,,UMOL/KG,,UMOL/KG,,/MILLE,PERCNT,NMOL/KG,NMOL/KG,TU
    316N145_10,  I07N,   800,  1,     36,     36,2,19950809,1216, 16.8090,  61.9620, 3866,   -999,      4.8,  26.1924,  36.0613,2,  36.0620,2,    216.6,2, 26.1915,    208.9,2,     4.00,2,     4.59,2,     0.25,2,     0.64,2,    1.780,2,    1.008,2,    0.716,2,   1.6810,2,    -0.80,2,     57.9,2,     1.11,2,   6.859,2,   2046.8,2,   2353.5,2,     3.1,    0.20,  0.0080,   0.137,   0.008
    316N145_10,  I07N,   800,  1,     35,     35,2,19950809,1216, 16.8090,  61.9620, 3866,   -999,     22.8,  26.1548,  36.0613,2,  36.0620,2,    209.7,2, 26.1500,    208.1,2,     4.00,2,     4.59,2,     0.25,2,     0.64,2, -999.000,9, -999.000,9, -999.000,9,-999.0000,9,  -999.00,9,   -999.0,9,  -999.00,9,-999.000,9,   2046.0,2,   2353.8,2,  -999.0, -999.00,-999.0000,-999.000,-999.000
    316N145_10,  I07N,   800,  1,     34,     34,2,19950809,1216, 16.8090,  61.9620, 3866,   -999,     47.1,  25.9917,  36.0583,2,  36.0550,2,    198.8,2, 25.9814,    202.0,2,     4.30,2,     4.88,2,     0.24,2,     0.68,2,    1.759,2,    0.993,2, -999.000,9,-999.0000,9,  -999.00,9,   -999.0,9,  -999.00,9,-999.000,9,   2051.8,2,   2353.2,2,  -999.0, -999.00,-999.0000,-999.000,-999.000
    316N145_10,  I07N,   800,  1,     33,     33,2,19950809,1216, 16.8090,  61.9620, 3866,   -999,     61.9,  25.1891,  36.2521,2,  36.2300,2,    149.4,2, 25.1758,    153.9,2,     5.08,2,     8.98,2,     0.59,2,     0.90,2,    1.768,2,    0.985,2,    0.616,2,   1.7300,2,    -0.10,2,     51.7,2,     0.79,2,   7.051,2,   2084.3,2,   2358.0,2,     3.3,    0.20,  0.0090,   0.141,   0.008
    316N145_10,  I07N,   800,  1,     32,     32,2,19950809,1216, 16.8090,  61.9620, 3866,   -999,    101.7,  20.8269,  35.8808,2,  35.9160,2,      5.6,2, 20.8077,      9.1,2,    14.16,2,    24.51,2,     0.06,2,     2.03,2,    1.347,2,    0.751,2, -999.000,9,-999.0000,9,  -999.00,9,   -999.0,9,  -999.00,9,-999.000,9,   2210.1,2,   2340.9,2,  -999.0, -999.00,-999.0000,-999.000,-999.000
    316N145_10,  I07N,   800,  1,     31,     31,2,19950809,1216, 16.8090,  61.9620, 3866,   -999,    141.4,  18.3842,  35.7551,2,  35.7560,2,      4.1,2, 18.3596,      3.9,2,    21.29,2,    23.44,2,     0.00,2,     2.26,2,    0.952,2,    0.555,2, -999.000,9,-999.0000,9,  -999.00,9,     19.1,2,    -0.28,2,-999.000,9,   2237.6,2,   2341.3,2,     2.9, -999.00,-999.0000,-999.000,-999.000
    316N145_10,  I07N,   800,  1,     30,     30,2,19950809,1216, 16.8090,  61.9620, 3866,   -999,    176.3,  17.2471,  35.8436,2,  35.8170,2,      1.7,2, 17.2177,      1.3,2,    25.00,2,    21.58,2,     0.62,2,     2.32,2,    0.708,2,    0.430,2, -999.000,9,   1.7620,2,     5.80,2,      6.9,2,    -0.27,2,   7.328,2,   2253.1,2,   2344.2,2,     2.9,    0.20,  0.0090,   0.147,-999.000
    316N145_10,  I07N,   800,  1,     29,     29,2,19950809,1216, 16.8090,  61.9620, 3866,   -999,    238.5,  15.5685,  35.8432,2,  35.8430,2,      2.4,2, 15.5313,      2.2,2,    27.64,2,    23.93,2,     0.00,2,     2.33,2, -999.000,9, -999.000,9, -999.000,9,-999.0000,9,  -999.00,9,    -15.4,2,    -0.29,2,-999.000,9,   2261.3,2,   2343.7,2,     3.4, -999.00,-999.0000,-999.000,-999.000
    316N145_10,  I07N,   800,  1,     28,     28,2,19950809,1216, 16.8090,  61.9620, 3866,   -999,    302.5,  14.5728,  35.8063,2,  35.8130,2,      1.9,2, 14.5276,      1.7,2,    30.18,2,    24.51,2,     0.00,2,     2.38,2,    0.436,2,    0.260,2, -999.000,9,-999.0000,9,  -999.00,9,    -32.9,2,    -0.30,2,-999.000,9,   2270.3,2,   2347.3,2,     2.7, -999.00,-999.0000,-999.000,-999.000
    316N145_10,  I07N,   800,  1,     27,     27,2,19950809,1216, 16.8090,  61.9620, 3866,   -999,    348.6,  13.7969,  35.7672,2,  35.7640,2,      2.0,2, 13.7466,      2.2,2,    32.82,2,    25.69,2,     0.00,2,     2.43,2,    0.341,2,    0.204,2,    0.273,2,   1.8330,2,     4.30,2,    -40.3,2,    -0.29,2,   7.359,2,   2272.7,2,   2343.0,2,     2.7,    0.20,  0.0090,   0.147,   0.008
    316N145_10,  I07N,   800,  1,     26,     26,2,19950809,1216, 16.8090,  61.9620, 3866,   -999,    384.0,  13.1696,  35.6644,2,  35.6620,2,      2.1,2, 13.1158,      1.7,2,    34.58,2,    27.15,2,     0.00,2,     2.48,2,    0.252,2,    0.146,2, -999.000,9,-999.0000,9,  -999.00,9,   -999.0,9,  -999.00,9,-999.000,9,   2272.9,2,   2343.0,2,  -999.0, -999.00,-999.0000,-999.000,-999.000
    316N145_10,  I07N,   800,  1,     25,     25,2,19950809,1216, 16.8090,  61.9620, 3866,   -999,    449.0,  12.6642,  35.6647,2,  35.6640,2,      2.6,2, 12.6027,      3.0,2,    38.09,2,    28.03,2,     0.00,2,     2.54,2, -999.000,9, -999.000,9, -999.000,9,-999.0000,9,  -999.00,9,    -59.1,2,    -0.14,2,-999.000,9,   2275.0,2,   2344.1,2,     2.7, -999.00,-999.0000,-999.000,-999.000
    316N145_10,  I07N,   800,  1,     24,     24,2,19950809,1216, 16.8090,  61.9620, 3866,   -999,    473.2,  12.6604,  35.6965,2,  35.6930,2,      4.8,2, 12.5955,      4.8,2,    39.07,2,    27.74,2,     0.00,2,     2.54,2,    0.201,2,    0.117,2,    0.174,2,   1.8200,2,     6.40,2,    -66.6,2,    -0.09,2,   7.408,2,   2276.1,2,   2347.2,2,     2.6,    0.20,  0.0090,   0.148,   0.008
    316N145_10,  I07N,   800,  1,     23,     23,2,19950809,1216, 16.8090,  61.9620, 3866,   -999,    499.1,  12.5670,  35.7109,2,  35.7090,2,      3.6,2, 12.4988,      4.8,2,    40.53,2,    27.44,2,     0.00,2,     2.56,2,    0.182,2,    0.111,2, -999.000,9,-999.0000,9,  -999.00,9,    -67.9,2,    -0.09,2,-999.000,9,   2277.8,2,   2347.0,2,     3.8, -999.00,-999.0000,-999.000,-999.000
    316N145_10,  I07N,   800,  1,     22,     22,2,19950809,1216, 16.8090,  61.9620, 3866,   -999,    599.2,  11.5300,  35.5848,2,  35.5830,2,      3.1,2, 11.4522,      3.0,2,    47.96,2,    30.38,2,     0.00,2,     2.68,2,    0.075,2,    0.047,2,    0.113,2,   1.8640,2,     6.80,2,    -98.2,2,    -0.09,2,   7.359,2,   2285.5,2,   2350.8,2,     2.6,    0.20,  0.0090,   0.147,   0.008
    316N145_10,  I07N,   800,  1,     21,     21,2,19950809,1216, 16.8090,  61.9620, 3866,   -999,    650.2,  11.3185,  35.6121,2,  35.6160,2,      4.5,2, 11.2348,      4.3,2,    51.28,2,    30.77,2,     0.00,2,     2.71,2, -999.000,9, -999.000,9, -999.000,9,-999.0000,9,  -999.00,9,    -97.7,2,    -0.09,2,-999.000,9,   2286.8,2,   2353.4,2,     2.9, -999.00,-999.0000,-999.000,-999.000
    316N145_10,  I07N,   800,  1,     20,     20,2,19950809,1216, 16.8090,  61.9620, 3866,   -999,    700.1,  10.8492,  35.5796,2,  35.5800,2,      4.1,2, 10.7612,      4.3,2,    56.26,2,    31.94,2,     0.00,2,     2.76,2,    0.054,2,    0.037,2,    0.104,2,   1.8550,2,     7.30,2,   -109.8,2,    -0.23,2,   7.341,2,   2293.2,2,   2358.5,2,     2.8,    0.20,  0.0090,   0.147,   0.008
    316N145_10,  I07N,   800,  1,     19,     19,2,19950809,1216, 16.8090,  61.9620, 3866,   -999,    749.4,  10.6157,  35.5800,2,  35.5790,2,      4.9,2, 10.5225,      5.2,2,    58.80,2,    32.62,2,     0.00,2,     2.76,2,    0.060,2,    0.033,2, -999.000,9,-999.0000,9,  -999.00,9,   -108.7,2,    -0.09,2,-999.000,9,   2295.6,2,   2358.1,2,     2.6, -999.00,-999.0000,-999.000,-999.000
    316N145_10,  I07N,   800,  1,     18,     18,2,19950809,1216, 16.8090,  61.9620, 3866,   -999,    800.3,  10.3173,  35.5596,2,  35.5580,2,      3.9,2, 10.2193,      3.9,2,    62.51,2,    32.82,2,     0.00,2,     2.82,2, -999.000,9, -999.000,9, -999.000,9,-999.0000,9,  -999.00,9,   -118.8,2,    -0.14,2,-999.000,9,   2298.9,2,   2364.5,2,     3.1, -999.00,-999.0000,-999.000,-999.000
    316N145_10,  I07N,   800,  1,     17,     17,2,19950809,1216, 16.8090,  61.9620, 3866,   -999,    895.2,   9.5777,  35.4808,2,  35.4750,3,      3.1,2,  9.4724,      3.5,2,    69.16,2,    34.39,2,     0.00,2,     2.90,2,    0.024,2,    0.016,2,    0.008,2,   1.8730,2,    10.40,2,   -131.7,2,    -0.18,2,   7.448,2,   2309.9,2,   2367.2,2,     2.7,    0.20,  0.0090,   0.149,   0.008
    316N145_10,  I07N,   800,  1,     16,     16,2,19950809,1216, 16.8090,  61.9620, 3866,   -999,    996.5,   8.9185,  35.4245,2,  35.4250,2,      9.8,2,  8.8055,     10.0,2,    73.85,2,    35.66,2,     0.00,2,     2.89,2,    0.030,2,    0.015,2,    0.001,2,   1.8690,2,    11.70,2,   -127.4,2,    -0.16,2,   7.582,2,   2312.4,2,   2373.8,2,     3.4,    0.20,  0.0090,   0.152,   0.008
    316N145_10,  I07N,   800,  1,     15,     15,2,19950809,1216, 16.8090,  61.9620, 3866,   -999,   1097.3,   8.1222,  35.3366,2,  35.3360,2,     13.0,2,  8.0034,     12.6,2,    80.89,2,    36.64,2,     0.00,2,     2.95,2, -999.000,9, -999.000,9,    0.000,2,   1.8640,2,    12.50,2,   -136.4,2,    -0.23,2,   7.711,2,   2321.1,2,   2375.4,2,     4.5,    0.20,  0.0090,   0.154,   0.008
    316N145_10,  I07N,   800,  1,     14,     14,2,19950809,1216, 16.8090,  61.9620, 3866,   -999,   1198.1,   7.3149,  35.2455,2,  35.2440,2,     20.9,2,  7.1916,     20.4,2,    87.83,2,    37.22,2,     0.00,2,     2.97,2,    0.016,2,    0.008,2,    0.000,2,   1.8820,2,    13.00,2,   -151.8,2,    -0.12,2,   7.765,2,   2326.4,2,   2383.6,2,     4.4,    0.20,  0.0090,   0.155,   0.008
    316N145_10,  I07N,   800,  1,     13,     13,2,19950809,1216, 16.8090,  61.9620, 3866,   -999,   1294.8,   6.6296,  35.1641,2,  35.1610,2,     26.3,2,  6.5021,     26.5,2,    93.80,2,    37.72,2,     0.00,2,     2.99,2,    0.008,2,    0.005,2,    0.000,2,   1.8870,2,    13.90,2,   -158.5,2,    -0.10,2,   7.738,2,   2332.2,2,   2385.8,2,     3.0,    0.20,  0.0090,   0.155,   0.008
    316N145_10,  I07N,   800,  1,     12,     12,2,19950809,1216, 16.8090,  61.9620, 3866,   -999,   1394.7,   5.8650,  35.0846,2,  35.0870,2,     36.5,2,  5.7347,     36.5,2,   101.33,2,    37.91,2,     0.00,2,     2.99,2, -999.000,9, -999.000,9, -999.000,9,   1.9000,2,    15.50,2,   -159.9,2,    -0.09,2,   7.894,2,   2337.3,2,   2395.5,2,     2.8,    0.20,  0.0090,   0.158,-999.000
    316N145_10,  I07N,   800,  1,     11,     11,2,19950809,1216, 16.8090,  61.9620, 3866,   -999,   1592.6,   4.6652,  34.9718,2,  34.9730,2,     55.0,2,  4.5287,     56.1,2,   114.43,2,    37.72,2,     0.00,2,     2.95,2,    0.000,2,   -0.003,2, -999.000,9,   1.9180,2,    16.30,2,   -175.4,2,    -0.08,2,   7.890,2,   2346.3,2,   2405.2,2,     2.6,    0.20,  0.0100,   0.158,-999.000
    316N145_10,  I07N,   800,  1,     10,     10,2,19950809,1216, 16.8090,  61.9620, 3866,   -999,   1793.4,   3.7384,  34.8893,2,  34.8900,2,     75.1,2,  3.5946,     76.0,2,   124.21,2,    37.33,2,     0.00,2,     2.86,2,    0.000,2,    0.003,2, -999.000,9,   1.9130,2,    15.10,2,   -182.4,2,    -0.10,2,   7.912,2,   2347.7,2,   2418.1,2,     2.7,    0.20,  0.0100,   0.158,-999.000
    316N145_10,  I07N,   800,  1,      9,      9,2,19950809,1216, 16.8090,  61.9620, 3866,   -999,   1991.6,   3.1035,  34.8409,2,  34.8410,2,     88.0,2,  2.9506,     87.8,2,   132.23,2,    37.14,2,     0.00,2,     2.81,2, -999.000,9, -999.000,9, -999.000,9,   1.9090,2,    15.40,2,   -187.3,2,    -0.06,2,   8.037,2,   2352.0,2,   2423.1,2,     2.8,    0.20,  0.0100,   0.161,-999.000
    316N145_10,  I07N,   800,  1,      8,      8,2,19950809,1216, 16.8090,  61.9620, 3866,   -999,   2192.7,   2.6678,  34.8087,2,  34.8080,2,     98.6,2,  2.5034,     97.8,2,   137.61,2,    36.85,2,     0.00,2,     2.77,2, -999.000,9, -999.000,9, -999.000,9,   1.9000,2,    15.10,2,   -189.4,2,    -0.09,2,   8.175,2,   2354.8,2,   2435.4,2,     2.6,    0.20,  0.0090,   0.164,-999.000
    316N145_10,  I07N,   800,  1,      7,      7,2,19950809,1216, 16.8090,  61.9620, 3866,   -999,   2487.3,   2.2003,  34.7732,2,  34.7740,2,    109.5,2,  2.0171,    108.2,2,   143.57,2,    36.46,2,     0.00,2,     2.72,2, -999.000,9, -999.000,9, -999.000,9,   1.8910,2,    14.90,2,   -188.9,2,    -0.07,2,   8.287,2,   2358.9,2,   2442.2,2,     4.0,    0.20,  0.0090,   0.166,-999.000
    316N145_10,  I07N,   800,  1,      6,      6,2,19950809,1216, 16.8090,  61.9620, 3866,   -999,   2792.6,   1.8954,  34.7523,2,  34.7500,2,    117.6,2,  1.6896,    116.0,2,   147.78,2,    36.16,2,     0.00,2,     2.67,2, -999.000,9, -999.000,9, -999.000,9,   1.9040,2,    14.30,2,   -191.9,2,    -0.07,2,   8.322,2,   2361.6,2,   2452.8,2,     4.0,    0.20,  0.0100,   0.166,-999.000
    316N145_10,  I07N,   800,  1,      5,      5,2,19950809,1216, 16.8090,  61.9620, 3866,   -999,   3094.0,   1.7804,  34.7424,2,  34.7410,2,    126.1,2,  1.5480,    126.0,2,   147.29,2,    35.87,2,     0.00,2,     2.62,2, -999.000,9, -999.000,9, -999.000,9,   1.9130,2,    14.00,2,   -190.8,2,    -0.16,2,   8.255,2,   2356.3,2,   2451.0,3,     7.9,    0.20,  0.0100,   0.165,-999.000
    316N145_10,  I07N,   800,  1,      4,      4,2,19950809,1216, 16.8090,  61.9620, 3866,   -999,   3398.4,   1.7242,  34.7387,2,  34.7370,2,    134.6,2,  1.4627,    135.1,2,   144.95,2,    35.48,2,     0.00,2,     2.57,2, -999.000,9, -999.000,9, -999.000,9,   1.9000,2,    13.80,2,   -191.5,2,     0.03,2,   8.313,2,   2347.7,2,   2448.4,2,     3.3,    0.20,  0.0090,   0.166,-999.000
    316N145_10,  I07N,   800,  1,      3,      3,2,19950809,1216, 16.8090,  61.9620, 3866,   -999,   3701.9,   1.7048,  34.7357,2,  34.7320,3,    134.7,2,  1.4122,    134.3,2,   145.04,2,    35.77,2,     0.00,2,     2.58,2, -999.000,9, -999.000,9, -999.000,9,   1.8960,2,    12.40,2,   -197.3,2,    -0.16,2,   8.358,2,   2355.7,2,   2458.4,2,     2.5,    0.20,  0.0090,   0.167,-999.000
    316N145_10,  I07N,   800,  1,      2,      2,2,19950809,1216, 16.8090,  61.9620, 3866,   -999,   3896.7,   1.7005,  34.7344,2,  34.7350,2,    127.4,2,  1.3871,    127.7,2,   151.10,2,    36.07,2,     0.00,2,     2.57,2, -999.000,9, -999.000,9, -999.000,9,-999.0000,9,  -999.00,9,   -191.1,2,    -0.04,2,-999.000,9,   2368.9,2,   2473.5,2,     3.2, -999.00,-999.0000,-999.000,-999.000
    316N145_10,  I07N,   800,  1,      1,      1,2,19950809,1216, 16.8090,  61.9620, 3866,   -999,   3920.3,   1.7027,  34.7357,2,  34.7340,2,    126.2,2,  1.3866,    127.7,2,   150.81,2,    35.97,2,     0.00,2,     2.60,2, -999.000,9, -999.000,9, -999.000,9,   1.9090,2,    12.10,2,   -184.3,2,    -0.24,2,   8.385,2,   2368.0,2,   -999.9,5,     3.4,    0.20,  0.0100,   0.168,-999.000