BOTTLE,20080821WHPSIOSCD
EXPOCODE,SECT_ID,STNNBR,CASTNO,SAMPNO,BTLNBR,BTLNBR_FLAG_W,DATE,TIME,LATITUDE,LONGITUDE,DEPTH,CTDRAW,CTDPRS,CTDTMP,CTDSAL,CTDSAL_FLAG_W,SALNTY,SALNTY_FLAG_W,CTDOXY,CTDOXY_FLAG_W,THETA,OXYGEN,OXYGEN_FLAG_W,SILCAT,SILCAT_FLAG_W,NITRAT,NITRAT_FLAG_W,NITRIT,NITRIT_FLAG_W,PHSPHT,PHSPHT_FLAG_W,CFC-11,CFC-11_FLAG_W,CFC-12,CFC-12_FLAG_W,TRITUM,TRITUM_FLAG_W,HELIUM,HELIUM_FLAG_W,DELHE3,DELHE3_FLAG_W,DELC14,DELC14_FLAG_W,DELC13,DELC13_FLAG_W,NEON,NEON_FLAG_W,TCARBN,TCARBN_FLAG_W,ALKALI,ALKALI_FLAG_W,C14ERR,DELHER,HELIER,NEONER,TRITER
,,,,,,,,,,,,,DBAR,ITS-90,PSS-78,,PSS-78,,UMOL/KG,,DEG C,UMOL/KG,,UMOL/KG,,UMOL/KG,,UMOL/KG,,UMOL/KG,,PMOL/KG,,PMOL/KG,,TU,,NMOL/KG,,PERCNT,,/MILLE,,/MILLE,,NMOL/KG,,UMOL/KG,,UMOL/KG,,/MILLE,PERCNT,NMOL/KG,NMOL/KG,TU
    316N145_10,  I07N,   776,  1,     36,     36,2,19950803,0245,  6.3948,  61.3570, 3015,   -999,      9.2,  28.3003,  36.3708,2,  36.3718,2,    196.0,2, 28.2984,    193.5,2,     1.61,2,     0.07,2,     0.00,2,     0.25,2,    1.609,2,    0.916,2,    0.871,2,   1.6370,2,    -0.40,2,     46.7,2,     1.25,2,   6.699,2,   2009.5,2,   2379.6,2,     3.7,    0.20,  0.0080,   0.134,   0.008
    316N145_10,  I07N,   776,  1,     35,     35,2,19950803,0245,  6.3948,  61.3570, 3015,   -999,     40.7,  28.3036,  36.3709,2,  36.3728,2,    193.6,2, 28.2942,    193.4,2,     2.35,2,     0.07,2,     0.00,2,     0.25,2,    1.587,2,    0.906,2, -999.000,9,-999.0000,9,  -999.00,9,   -999.0,9,  -999.00,9,-999.000,9,   2009.4,2,   2374.7,2,  -999.0, -999.00,-999.0000,-999.000,-999.000
    316N145_10,  I07N,   776,  1,     34,     34,2,19950803,0245,  6.3948,  61.3570, 3015,   -999,     60.7,  28.1401,  36.4301,2,  36.4282,2,    194.0,2, 28.1259,    191.4,2,     2.34,2,     0.07,2,     0.01,2,     0.26,2,    1.606,2,    0.912,2,    0.792,2,   1.6460,2,    -0.40,2,     51.0,2,     1.39,2,   6.739,2,   2015.1,2,   2412.0,3,     5.1,    0.20,  0.0080,   0.135,   0.008
    316N145_10,  I07N,   776,  1,     33,     33,2,19950803,0245,  6.3948,  61.3570, 3015,   -999,     80.7,  28.0860,  36.4453,2,  36.4469,2,    195.0,2, 28.0671,    189.1,2,     2.14,2,     0.14,2,     0.06,2,     0.29,2,    1.591,2,    0.916,2, -999.000,9,-999.0000,9,  -999.00,9,   -999.0,9,  -999.00,9,-999.000,9,   2019.9,2,   -999.9,5,  -999.0, -999.00,-999.0000,-999.000,-999.000
    316N145_10,  I07N,   776,  1,     32,     32,2,19950803,0245,  6.3948,  61.3570, 3015,   -999,     95.8,  26.7522,  36.2211,2,  36.2380,2,    161.3,2, 26.7305,    157.0,2,     3.63,2,     3.08,2,     0.55,2,     0.56,2,    1.603,2,    0.908,2, -999.000,9,-999.0000,9,  -999.00,9,     51.0,2,     1.08,2,-999.000,9,   2052.2,2,   2368.5,2,     4.2, -999.00,-999.0000,-999.000,-999.000
    316N145_10,  I07N,   776,  1,     31,     31,2,19950803,0245,  6.3948,  61.3570, 3015,   -999,    124.2,  22.5782,  35.9038,2,  35.8404,2,     61.7,2, 22.5533,     33.2,2,    12.30,2,    21.62,2,     0.05,2,     1.69,2,    1.308,2,    0.734,2,    0.622,2,-999.0000,9,  -999.00,9,     34.3,2,     0.04,2,-999.000,9,   2172.7,2,   2440.4,3,     3.7, -999.00,-999.0000,-999.000,   0.008
    316N145_10,  I07N,   776,  1,     30,     30,2,19950803,0245,  6.3948,  61.3570, 3015,   -999,    164.9,  16.5471,  35.3352,2,  35.3323,2,     15.9,2, 16.5206,     17.1,2,    22.10,2,    26.75,2,     0.01,2,     2.07,2,    0.765,2,    0.409,2, -999.000,9,-999.0000,9,  -999.00,9,      7.0,2,     0.00,2,-999.000,9,   2215.7,2,   2318.0,2,     4.2, -999.00,-999.0000,-999.000,-999.000
    316N145_10,  I07N,   776,  1,     29,     29,2,19950803,0245,  6.3948,  61.3570, 3015,   -999,    190.0,  15.1386,  35.3040,2,  35.3057,2,     44.0,2, 15.1097,     50.4,2,    20.95,2,    24.51,2,     0.01,2,     1.89,2,    0.934,2,    0.499,2, -999.000,9,-999.0000,9,  -999.00,9,     18.9,2,     0.19,2,-999.000,9,   2203.4,2,   2324.9,2,     5.3, -999.00,-999.0000,-999.000,-999.000
    316N145_10,  I07N,   776,  1,     28,     28,2,19950803,0245,  6.3948,  61.3570, 3015,   -999,    229.4,  13.5697,  35.2619,2,  35.2577,2,     66.0,2, 13.5373,     64.3,2,    22.83,2,    24.83,2,     0.00,2,     1.85,2,    0.841,2,    0.441,2,    0.541,2,   1.7970,2,     3.30,2,     10.1,2,     0.29,2,   7.283,2,   2207.3,2,   2319.8,2,     3.8,    0.20,  0.0090,   0.146,   0.008
    316N145_10,  I07N,   776,  1,     27,     27,2,19950803,0245,  6.3948,  61.3570, 3015,   -999,    271.2,  12.8466,  35.2686,2,  35.2689,2,     55.0,2, 12.8095,     50.6,2,    25.27,2,    26.90,2,     0.00,2,     2.00,2,    0.643,2,    0.333,2, -999.000,9,-999.0000,9,  -999.00,9,   -999.0,9,  -999.00,9,-999.000,9,   2224.3,2,   2323.4,2,  -999.0, -999.00,-999.0000,-999.000,-999.000
    316N145_10,  I07N,   776,  1,     26,     26,2,19950803,0245,  6.3948,  61.3570, 3015,   -999,    321.5,  12.0009,  35.2360,2,  35.2368,2,     54.0,2, 11.9588,     54.4,2,    27.90,2,    27.94,2,     0.00,2,     2.04,2,    0.536,2,    0.283,2,    0.311,2,   1.8200,2,     2.90,2,    -20.0,2,     0.33,2,   7.488,2,   2226.4,2,   2320.2,2,     4.5,    0.20,  0.0090,   0.150,   0.008
    316N145_10,  I07N,   776,  1,     25,     25,2,19950803,0245,  6.3948,  61.3570, 3015,   -999,    425.7,  11.0241,  35.2366,2,  35.2364,2,     41.3,2, 10.9709,     40.6,2,    36.00,2,    30.93,2,     0.00,2,     2.29,2,    0.255,2,    0.141,2, -999.000,9,-999.0000,9,  -999.00,9,   -999.0,9,  -999.00,9,-999.000,9,   2248.2,2,   2327.7,2,  -999.0, -999.00,-999.0000,-999.000,-999.000
    316N145_10,  I07N,   776,  1,     24,     24,2,19950803,0245,  6.3948,  61.3570, 3015,   -999,    526.1,  10.5576,  35.2941,2,  35.2923,2,     37.4,2, 10.4934,     37.0,2,    43.54,2,    31.70,2,     0.00,2,     2.42,2,    0.167,2,    0.094,2,    0.122,2,   1.8150,2,     6.80,2,    -77.8,2,     0.14,2,   7.604,2,   2257.5,2,   -999.9,5,     3.3,    0.20,  0.0090,   0.152,   0.008
    316N145_10,  I07N,   776,  1,     23,     23,2,19950803,0245,  6.3948,  61.3570, 3015,   -999,    617.2,   9.9750,  35.2685,2,  35.2681,2,     34.5,2,  9.9019,     36.3,2,    50.14,2,    32.79,2,     0.00,2,     2.52,2,    0.116,2,    0.069,2, -999.000,9,-999.0000,9,  -999.00,9,   -999.0,9,  -999.00,9,-999.000,9,   2267.5,2,   2342.7,2,  -999.0, -999.00,-999.0000,-999.000,-999.000
    316N145_10,  I07N,   776,  1,     22,     22,2,19950803,0245,  6.3948,  61.3570, 3015,   -999,    743.4,   9.3687,  35.2639,2,  35.2626,2,     30.5,2,  9.2833,     31.1,2,    59.00,2,    34.16,2,     0.00,2,     2.61,2,    0.060,2,    0.038,2,    0.074,2,   1.8600,2,     8.50,2,   -108.1,2,     0.05,2,   7.707,2,   2281.8,2,   2342.2,2,     3.7,    0.20,  0.0090,   0.154,   0.008
    316N145_10,  I07N,   776,  1,     21,     21,2,19950803,0245,  6.3948,  61.3570, 3015,   -999,    848.8,   8.4721,  35.2035,2,  35.2059,2,     32.8,2,  8.3796,     32.1,2,    68.83,2,    35.45,2,     0.00,2,     2.72,2,    0.034,2,    0.024,2, -999.000,9,-999.0000,9,  -999.00,9,   -999.0,9,  -999.00,9,-999.000,9,   2294.2,2,   2359.2,2,  -999.0, -999.00,-999.0000,-999.000,-999.000
    316N145_10,  I07N,   776,  1,     20,     20,2,19950803,0245,  6.3948,  61.3570, 3015,   -999,    949.0,   8.0022,  35.1566,2,  35.1566,2,     35.4,2,  7.9015,     34.6,2,    73.17,2,    35.96,2,     0.00,2,     2.74,2,    0.021,2,    0.014,2,    0.002,2,   1.8780,2,    11.10,2,   -134.8,2,    -0.02,2,   7.774,2,   2299.4,2,   2365.1,2,     4.2,    0.20,  0.0090,   0.155,   0.008
    316N145_10,  I07N,   776,  1,     19,     19,2,19950803,0245,  6.3948,  61.3570, 3015,   -999,   1049.9,   7.2550,  35.0925,2,  35.0942,2,     41.0,2,  7.1487,     39.9,2,    80.75,2,    36.65,2,     0.00,2,     2.79,2,    0.008,2,    0.005,2, -999.000,9,-999.0000,9,  -999.00,9,   -999.0,9,  -999.00,9,-999.000,9,   2305.0,2,   2369.7,2,  -999.0, -999.00,-999.0000,-999.000,-999.000
    316N145_10,  I07N,   776,  1,     18,     18,2,19950803,0245,  6.3948,  61.3570, 3015,   -999,   1149.6,   6.7598,  35.0692,2,  35.0708,2,     44.4,2,  6.6468,     44.3,2,    86.06,2,    36.84,2,     0.00,2,     2.78,2,    0.008,2,    0.006,2,    0.000,2,-999.0000,9,  -999.00,9,   -151.5,2,    -0.13,2,-999.000,9,   2310.0,2,   2360.7,3,     3.5, -999.00,-999.0000,-999.000,   0.008
    316N145_10,  I07N,   776,  1,     17,     17,2,19950803,0245,  6.3948,  61.3570, 3015,   -999,   1276.5,   6.1117,  35.0185,2,  35.0190,2,     51.3,2,  5.9913,     53.1,2,    92.33,2,    36.98,2,     0.00,2,     2.80,2,    0.003,2,    0.002,2, -999.000,9,-999.0000,9,  -999.00,9,   -999.0,9,  -999.00,9,-999.000,9,   2314.7,2,   2382.3,2,  -999.0, -999.00,-999.0000,-999.000,-999.000
    316N145_10,  I07N,   776,  1,     16,     16,2,19950803,0245,  6.3948,  61.3570, 3015,   -999,   1401.4,   5.4254,  34.9640,2,  34.9641,2,     63.6,2,  5.2993,     64.4,2,    98.43,2,    36.94,2,     0.00,2,     2.78,2,    0.005,2,    0.003,2,    0.000,2,   1.8820,2,    14.50,2,   -163.3,2,    -0.02,2,   7.863,2,   2315.7,2,   2386.9,2,     3.0,    0.20,  0.0090,   0.157,   0.008
    316N145_10,  I07N,   776,  1,     15,     15,2,19950803,0245,  6.3948,  61.3570, 3015,   -999,   1527.1,   4.6714,  34.9046,2,  34.9030,2,     75.7,2,  4.5413,     79.7,2,   105.12,2,    36.71,2,     0.00,2,     2.74,2,   -0.002,2,   -0.001,2, -999.000,9,-999.0000,9,  -999.00,9,   -999.0,9,  -999.00,9,-999.000,9,   2317.3,2,   -999.9,5,  -999.0, -999.00,-999.0000,-999.000,-999.000
    316N145_10,  I07N,   776,  1,     14,     14,2,19950803,0245,  6.3948,  61.3570, 3015,   -999,   1649.2,   4.2031,  34.8773,2,  34.8775,2,     88.6,2,  4.0670,     87.9,2,   110.30,2,    36.53,2,     0.00,2,     2.72,2,    0.001,2,    0.001,2,    0.000,2,   1.9000,2,    14.90,2,   -174.2,2,    -0.07,2,   7.974,2,   2319.5,2,   2397.8,2,     4.2,    0.20,  0.0090,   0.159,   0.008
    316N145_10,  I07N,   776,  1,     13,     13,2,19950803,0245,  6.3948,  61.3570, 3015,   -999,   1775.1,   3.6067,  34.8395,2,  34.8425,2,    101.4,2,  3.4666,    101.6,2,   116.08,2,    36.21,2,     0.00,2,     2.67,2,   -0.002,2,    0.001,2,    0.000,2,   1.8910,2,    15.30,2,   -182.5,2,    -0.13,2,   8.001,2,   2322.3,2,   2400.7,2,     3.3,    0.20,  0.0090,   0.160,   0.008
    316N145_10,  I07N,   776,  1,     12,     12,2,19950803,0245,  6.3948,  61.3570, 3015,   -999,   1902.1,   3.2237,  34.8170,2,  34.8196,2,    110.9,2,  3.0773,    111.1,2,   119.74,2,    35.94,2,     0.00,2,     2.63,2, -999.000,9, -999.000,9, -999.000,9,   1.8960,2,    14.70,2,   -183.0,2,     0.29,3,   8.131,2,   2321.1,2,   2407.0,2,     3.9,    0.20,  0.0090,   0.163,-999.000
    316N145_10,  I07N,   776,  1,     11,     11,2,19950803,0245,  6.3948,  61.3570, 3015,   -999,   2024.4,   2.9652,  34.8056,2,  34.8068,2,    116.0,2,  2.8115,    116.3,2,   123.04,2,    35.76,2,     0.00,2,     2.61,2, -999.000,9, -999.000,9, -999.000,9,   1.9040,2,    15.10,2,   -999.0,9,  -999.00,9,   8.032,2,   2322.5,2,   2405.2,2,  -999.0,    0.20,  0.0100,   0.161,-999.000
    316N145_10,  I07N,   776,  1,     10,     10,2,19950803,0245,  6.3948,  61.3570, 3015,   -999,   2150.5,   2.6755,  34.7901,2,  34.7903,2,    123.3,2,  2.5149,    123.9,2,   126.34,2,    35.63,2,     0.00,2,     2.60,2, -999.000,9, -999.000,9, -999.000,9,-999.0000,9,  -999.00,9,   -999.0,9,  -999.00,9,-999.000,9,   2323.0,2,   2413.0,2,  -999.0, -999.00,-999.0000,-999.000,-999.000
    316N145_10,  I07N,   776,  1,      9,      9,2,19950803,0245,  6.3948,  61.3570, 3015,   -999,   2267.1,   2.4103,  34.7772,2,  34.7777,2,    129.2,2,  2.2436,    130.0,2,   129.26,2,    35.31,2,     0.00,2,     2.54,2, -999.000,9, -999.000,9, -999.000,9,   1.9040,2,    14.60,2,   -999.0,9,  -999.00,9,   8.269,2,   2323.3,2,   -999.9,5,  -999.0,    0.20,  0.0100,   0.165,-999.000
    316N145_10,  I07N,   776,  1,      8,      8,2,19950803,0245,  6.3948,  61.3570, 3015,   -999,   2398.6,   2.1580,  34.7649,2,  34.7630,2,    135.4,2,  1.9837,    136.8,2,   131.99,2,    35.17,2,     0.00,2,     2.51,2, -999.000,9, -999.000,9, -999.000,9,   1.9000,2,    13.80,2,   -999.0,9,  -999.00,9,   8.202,2,   2324.1,2,   2421.3,2,  -999.0,    0.20,  0.0090,   0.164,-999.000
    316N145_10,  I07N,   776,  1,      7,      7,2,19950803,0245,  6.3948,  61.3570, 3015,   -999,   2526.3,   2.0377,  34.7587,2,  34.7597,2,    140.4,2,  1.8540,    140.8,2,   133.55,2,    34.99,2,     0.00,2,     2.51,2, -999.000,9, -999.000,9, -999.000,9,   1.9090,2,    13.40,2,   -999.0,9,  -999.00,9,   8.309,2,   2323.6,2,   2416.5,2,  -999.0,    0.20,  0.0100,   0.166,-999.000
    316N145_10,  I07N,   776,  1,      6,      6,2,19950803,0245,  6.3948,  61.3570, 3015,   -999,   2652.2,   1.9532,  34.7547,2,  34.7524,2,    142.4,2,  1.7594,    143.1,2,   135.31,2,    34.99,2,     0.00,2,     2.51,2, -999.000,9, -999.000,9, -999.000,9,   1.8910,2,    13.70,2,   -999.0,9,  -999.00,9,   8.376,2,   2323.7,2,   2423.9,2,  -999.0,    0.20,  0.0090,   0.168,-999.000
    316N145_10,  I07N,   776,  1,      5,      5,2,19950803,0245,  6.3948,  61.3570, 3015,   -999,   2779.4,   1.8974,  34.7500,2,  34.7518,2,    145.3,2,  1.6928,    145.7,2,   135.30,2,    34.91,2,     0.00,2,     2.50,2, -999.000,9, -999.000,9, -999.000,9,   1.9040,2,    13.20,2,   -999.0,9,  -999.00,9,   8.420,2,   2321.8,2,   -999.9,5,  -999.0,    0.20,  0.0100,   0.168,-999.000
    316N145_10,  I07N,   776,  1,      4,      4,2,19950803,0245,  6.3948,  61.3570, 3015,   -999,   2906.6,   1.8907,  34.7500,2,  34.7504,2,    146.7,2,  1.6741,    146.3,2,   135.30,2,    34.91,2,     0.00,2,     2.50,2, -999.000,9, -999.000,9, -999.000,9,   1.9000,2,    14.10,2,   -999.0,9,  -999.00,9,   8.358,2,   2321.9,2,   2423.3,2,  -999.0,    0.20,  0.0090,   0.167,-999.000
    316N145_10,  I07N,   776,  1,      3,      3,2,19950803,0245,  6.3948,  61.3570, 3015,   -999,   2981.4,   1.8507,  34.7472,2,  34.7463,2,    149.1,2,  1.6278,    148.5,2,   135.48,2,    34.82,2,     0.00,2,     2.51,2, -999.000,9, -999.000,9, -999.000,9,   1.8960,2,    13.80,2,   -999.0,9,  -999.00,9,   8.376,2,   2321.7,2,   2423.8,2,  -999.0,    0.20,  0.0090,   0.168,-999.000
    316N145_10,  I07N,   776,  1,      2,      2,2,19950803,0245,  6.3948,  61.3570, 3015,   -999,   3031.6,   1.8331,  34.7458,2,  34.7461,2,    150.1,2,  1.6057,    149.7,2,   135.67,2,    34.78,2,     0.00,2,     2.48,2, -999.000,9, -999.000,9, -999.000,9,   1.9000,2,    13.30,2,   -999.0,9,  -999.00,9,   8.389,2,   2320.9,2,   -999.9,5,  -999.0,    0.20,  0.0090,   0.168,-999.000
    316N145_10,  I07N,   776,  1,      1,      1,2,19950803,0245,  6.3948,  61.3570, 3015,   -999,   3083.2,   1.7869,  34.7444,2,  34.7441,2,    151.4,2,  1.5555,    150.6,2,   135.07,2,    34.78,2,     0.00,2,     2.47,2, -999.000,9, -999.000,9, -999.000,9,   1.9090,2,    13.30,2,   -999.0,9,  -999.00,9,   8.349,2,   2320.6,2,   2424.5,2,  -999.0,    0.20,  0.0100,   0.167,-999.000