BOTTLE,20080821WHPSIOSCD
EXPOCODE,SECT_ID,STNNBR,CASTNO,SAMPNO,BTLNBR,BTLNBR_FLAG_W,DATE,TIME,LATITUDE,LONGITUDE,DEPTH,CTDRAW,CTDPRS,CTDTMP,CTDSAL,CTDSAL_FLAG_W,SALNTY,SALNTY_FLAG_W,CTDOXY,CTDOXY_FLAG_W,THETA,OXYGEN,OXYGEN_FLAG_W,SILCAT,SILCAT_FLAG_W,NITRAT,NITRAT_FLAG_W,NITRIT,NITRIT_FLAG_W,PHSPHT,PHSPHT_FLAG_W,CFC-11,CFC-11_FLAG_W,CFC-12,CFC-12_FLAG_W,TRITUM,TRITUM_FLAG_W,HELIUM,HELIUM_FLAG_W,DELHE3,DELHE3_FLAG_W,DELC14,DELC14_FLAG_W,DELC13,DELC13_FLAG_W,NEON,NEON_FLAG_W,TCARBN,TCARBN_FLAG_W,ALKALI,ALKALI_FLAG_W,C14ERR,DELHER,HELIER,NEONER,TRITER
,,,,,,,,,,,,,DBAR,ITS-90,PSS-78,,PSS-78,,UMOL/KG,,DEG C,UMOL/KG,,UMOL/KG,,UMOL/KG,,UMOL/KG,,UMOL/KG,,PMOL/KG,,PMOL/KG,,TU,,NMOL/KG,,PERCNT,,/MILLE,,/MILLE,,NMOL/KG,,UMOL/KG,,UMOL/KG,,/MILLE,PERCNT,NMOL/KG,NMOL/KG,TU
    316N145_10,  I07N,   745,  1,     36,     36,2,19950725,0619, -5.5885,  54.9570, 3453,   -999,      9.3,  26.6263,  35.2591,2,  35.2583,2,    205.8,2, 26.6244,    201.1,2,     3.59,2,     0.34,2,     0.01,2,     0.22,2,    1.729,2,    0.978,2, -999.000,9,-999.0000,9,  -999.00,9,   -999.0,9,  -999.00,9,-999.000,9,   1977.2,2,   2307.7,2,  -999.0, -999.00,-999.0000,-999.000,-999.000
    316N145_10,  I07N,   745,  1,     35,     35,2,19950725,0619, -5.5885,  54.9570, 3453,   -999,     31.0,  26.5527,  35.2585,2,  35.2593,2,    198.9,2, 26.5460,    200.5,2,     3.56,2,     0.39,2,     0.02,2,     0.22,2, -999.000,9, -999.000,9, -999.000,9,-999.0000,9,  -999.00,9,   -999.0,9,  -999.00,9,-999.000,9,   -999.9,9,   -999.9,9,  -999.0, -999.00,-999.0000,-999.000,-999.000
    316N145_10,  I07N,   745,  1,     34,     34,2,19950725,0619, -5.5885,  54.9570, 3453,   -999,     41.3,  25.4188,  35.2063,2,  35.2147,2,    187.4,2, 25.4100,    189.6,2,     4.57,2,     1.89,2,     0.11,2,     0.32,2, -999.000,9, -999.000,9, -999.000,9,-999.0000,9,  -999.00,9,   -999.0,9,  -999.00,9,-999.000,9,   -999.9,9,   -999.9,9,  -999.0, -999.00,-999.0000,-999.000,-999.000
    316N145_10,  I07N,   745,  1,     33,     33,2,19950725,0619, -5.5885,  54.9570, 3453,   -999,     51.0,  22.0369,  35.2033,2,  35.2040,2,    161.1,2, 22.0271,    152.0,2,     8.64,2,     7.76,2,     0.40,2,     0.69,2,    1.618,2,    0.882,2, -999.000,9,-999.0000,9,  -999.00,9,   -999.0,9,  -999.00,9,-999.000,9,   -999.9,9,   -999.9,9,  -999.0, -999.00,-999.0000,-999.000,-999.000
    316N145_10,  I07N,   745,  1,     32,     32,2,19950725,0619, -5.5885,  54.9570, 3453,   -999,     60.8,  19.5908,  35.2202,2,  35.2196,2,    128.4,2, 19.5799,    122.2,2,    12.03,2,    13.39,2,     0.08,2,     1.00,2, -999.000,9, -999.000,9, -999.000,9,-999.0000,9,  -999.00,9,   -999.0,9,  -999.00,9,-999.000,9,   -999.9,9,   -999.9,9,  -999.0, -999.00,-999.0000,-999.000,-999.000
    316N145_10,  I07N,   745,  1,     31,     31,2,19950725,0619, -5.5885,  54.9570, 3453,   -999,     70.8,  19.1115,  35.2212,2,  35.2257,3,    120.7,2, 19.0990,    119.6,2,    12.51,2,    14.17,2,     0.06,2,     1.05,2, -999.000,9, -999.000,9, -999.000,9,-999.0000,9,  -999.00,9,   -999.0,9,  -999.00,9,-999.000,9,   -999.9,9,   -999.9,9,  -999.0, -999.00,-999.0000,-999.000,-999.000
    316N145_10,  I07N,   745,  1,     30,     30,2,19950725,0619, -5.5885,  54.9570, 3453,   -999,     80.9,  17.6046,  35.2066,2,  35.2107,2,    116.6,2, 17.5911,    112.7,2,    14.20,2,    16.19,2,     0.01,2,     1.17,2, -999.000,9, -999.000,9, -999.000,9,-999.0000,9,  -999.00,9,   -999.0,9,  -999.00,9,-999.000,9,   -999.9,9,   -999.9,9,  -999.0, -999.00,-999.0000,-999.000,-999.000
    316N145_10,  I07N,   745,  1,     29,     29,2,19950725,0619, -5.5885,  54.9570, 3453,   -999,     93.2,  16.7671,  35.2063,2,  35.2060,2,    112.2,2, 16.7520,    112.3,2,    14.86,2,    17.14,2,     0.01,2,     1.23,2, -999.000,9, -999.000,9, -999.000,9,-999.0000,9,  -999.00,9,   -999.0,9,  -999.00,9,-999.000,9,   -999.9,9,   -999.9,9,  -999.0, -999.00,-999.0000,-999.000,-999.000
    316N145_10,  I07N,   745,  1,     28,     28,2,19950725,0619, -5.5885,  54.9570, 3453,   -999,    101.8,  16.2253,  35.2007,2,  35.1999,2,    114.3,2, 16.2092,    113.1,2,    15.18,2,    17.55,2,     0.00,2,     1.26,2,    1.460,2,    0.769,2, -999.000,9,-999.0000,9,  -999.00,9,   -999.0,9,  -999.00,9,-999.000,9,   -999.9,9,   -999.9,9,  -999.0, -999.00,-999.0000,-999.000,-999.000
    316N145_10,  I07N,   745,  1,     27,     27,2,19950725,0619, -5.5885,  54.9570, 3453,   -999,    121.8,  15.7657,  35.1945,2,  35.1951,2,    114.7,2, 15.7468,    114.1,2,    15.49,2,    17.74,2,     0.00,2,     1.27,2, -999.000,9, -999.000,9, -999.000,9,-999.0000,9,  -999.00,9,   -999.0,9,  -999.00,9,-999.000,9,   -999.9,9,   -999.9,9,  -999.0, -999.00,-999.0000,-999.000,-999.000
    316N145_10,  I07N,   745,  1,     26,     26,2,19950725,0619, -5.5885,  54.9570, 3453,   -999,    152.0,  15.4076,  35.1936,2,  35.1924,2,    116.7,2, 15.3843,    115.3,2,    15.64,2,    17.96,2,     0.00,2,     1.29,2,    1.459,2,    0.760,2, -999.000,9,-999.0000,9,  -999.00,9,   -999.0,9,  -999.00,9,-999.000,9,   -999.9,9,   -999.9,9,  -999.0, -999.00,-999.0000,-999.000,-999.000
    316N145_10,  I07N,   745,  1,     25,     25,2,19950725,0619, -5.5885,  54.9570, 3453,   -999,    181.2,  13.9354,  35.1605,2,  35.1586,2,    121.0,2, 13.9095,    124.2,2,    16.30,2,    18.60,2,     0.00,2,     1.33,2, -999.000,9, -999.000,9, -999.000,9,-999.0000,9,  -999.00,9,   -999.0,9,  -999.00,9,-999.000,9,   -999.9,9,   -999.9,9,  -999.0, -999.00,-999.0000,-999.000,-999.000
    316N145_10,  I07N,   745,  1,     24,     24,2,19950725,0619, -5.5885,  54.9570, 3453,   -999,    211.8,  13.4030,  35.1386,2,  35.1259,2,    126.1,2, 13.3733,    129.6,2,    16.45,2,    18.83,2,     0.00,2,     1.35,2,    1.410,2,    0.721,2, -999.000,9,-999.0000,9,  -999.00,9,   -999.0,9,  -999.00,9,-999.000,9,   -999.9,9,   -999.9,9,  -999.0, -999.00,-999.0000,-999.000,-999.000
    316N145_10,  I07N,   745,  1,     23,     23,2,19950725,0619, -5.5885,  54.9570, 3453,   -999,    251.4,  12.7255,  35.0900,2,  35.0899,2,    130.8,2, 12.6914,    136.8,2,    16.77,2,    19.15,2,     0.00,2,     1.37,2,    1.388,2,    0.703,2, -999.000,9,-999.0000,9,  -999.00,9,   -999.0,9,  -999.00,9,-999.000,9,   -999.9,9,   -999.9,9,  -999.0, -999.00,-999.0000,-999.000,-999.000
    316N145_10,  I07N,   745,  1,     22,     22,2,19950725,0619, -5.5885,  54.9570, 3453,   -999,    290.9,  12.1285,  35.0424,2,  35.0424,2,    134.9,2, 12.0903,    135.7,2,    17.94,2,    20.09,2,     0.00,2,     1.43,2,    1.254,2,    0.649,2, -999.000,9,-999.0000,9,  -999.00,9,   -999.0,9,  -999.00,9,-999.000,9,   -999.9,9,   -999.9,9,  -999.0, -999.00,-999.0000,-999.000,-999.000
    316N145_10,  I07N,   745,  1,     21,     21,2,19950725,0619, -5.5885,  54.9570, 3453,   -999,    349.9,  11.1602,  34.9595,2,  34.9537,2,    126.4,2, 11.1165,    128.8,2,    21.15,2,    22.66,2,     0.00,2,     1.59,2,    0.995,2,    0.510,2, -999.000,9,-999.0000,9,  -999.00,9,   -999.0,9,  -999.00,9,-999.000,9,   -999.9,9,   -999.9,9,  -999.0, -999.00,-999.0000,-999.000,-999.000
    316N145_10,  I07N,   745,  1,     20,     20,2,19950725,0619, -5.5885,  54.9570, 3453,   -999,    388.1,  10.7449,  34.9281,2,  34.9213,2,    125.5,2, 10.6975,    126.0,2,    23.00,2,    23.97,2,     0.00,2,     1.67,2,    0.857,2,    0.441,2, -999.000,9,-999.0000,9,  -999.00,9,   -999.0,9,  -999.00,9,-999.000,9,   -999.9,9,   -999.9,9,  -999.0, -999.00,-999.0000,-999.000,-999.000
    316N145_10,  I07N,   745,  1,     19,     19,2,19950725,0619, -5.5885,  54.9570, 3453,   -999,    503.2,   9.4620,  34.8463,2,  34.8467,2,    109.7,2,  9.4049,    112.5,2,    31.67,2,    27.59,2,     0.00,2,     1.93,2,    0.479,2,    0.251,2, -999.000,9,-999.0000,9,  -999.00,9,   -999.0,9,  -999.00,9,-999.000,9,   -999.9,9,   -999.9,9,  -999.0, -999.00,-999.0000,-999.000,-999.000
    316N145_10,  I07N,   745,  1,     18,     18,2,19950725,0619, -5.5885,  54.9570, 3453,   -999,    612.9,   8.5846,  34.8296,2,  34.8292,2,     95.3,2,  8.5185,     96.8,2,    43.25,2,    30.54,2,     0.00,2,     2.20,2,    0.238,6,    0.134,6, -999.000,9,-999.0000,9,  -999.00,9,   -999.0,9,  -999.00,9,-999.000,9,   -999.9,9,   -999.9,9,  -999.0, -999.00,-999.0000,-999.000,-999.000
    316N145_10,  I07N,   745,  1,     17,     17,2,19950725,0619, -5.5885,  54.9570, 3453,   -999,    733.4,   7.7236,  34.8256,2,  34.8257,2,     85.2,2,  7.6486,     84.5,2,    56.90,2,    33.01,2,     0.00,2,     2.41,2,    0.101,2,    0.059,2, -999.000,9,-999.0000,9,  -999.00,9,   -999.0,9,  -999.00,9,-999.000,9,   -999.9,9,   -999.9,9,  -999.0, -999.00,-999.0000,-999.000,-999.000
    316N145_10,  I07N,   745,  1,     16,     16,2,19950725,0619, -5.5885,  54.9570, 3453,   -999,    832.8,   6.8725,  34.8458,2,  34.8459,2,     75.8,2,  6.7921,     76.6,2,    71.30,2,    34.76,2,     0.00,2,     2.58,2,    0.040,2,    0.031,2, -999.000,9,-999.0000,9,  -999.00,9,   -999.0,9,  -999.00,9,-999.000,9,   -999.9,9,   -999.9,9,  -999.0, -999.00,-999.0000,-999.000,-999.000
    316N145_10,  I07N,   745,  1,     15,     15,2,19950725,0619, -5.5885,  54.9570, 3453,   -999,    941.1,   6.5154,  34.8638,2,  34.8641,2,     74.6,2,  6.4263,     74.6,2,    77.30,2,    35.36,2,     0.00,2,     2.64,2,    0.020,2,    0.012,2, -999.000,9,-999.0000,9,  -999.00,9,   -999.0,9,  -999.00,9,-999.000,9,   -999.9,9,   -999.9,9,  -999.0, -999.00,-999.0000,-999.000,-999.000
    316N145_10,  I07N,   745,  1,     14,     14,2,19950725,0619, -5.5885,  54.9570, 3453,   -999,   1048.3,   5.8605,  34.8676,2,  34.8681,2,     74.4,2,  5.7655,     76.5,2,    86.11,2,    35.92,2,     0.00,2,     2.70,2,    0.012,2,    0.016,2, -999.000,9,-999.0000,9,  -999.00,9,   -999.0,9,  -999.00,9,-999.000,9,   -999.9,9,   -999.9,9,  -999.0, -999.00,-999.0000,-999.000,-999.000
    316N145_10,  I07N,   745,  1,     13,     13,2,19950725,0619, -5.5885,  54.9570, 3453,   -999,   1249.3,   5.2111,  34.8310,2,  34.7717,4,     89.0,2,  5.1022,     88.1,2,    92.00,2,    35.89,2,     0.00,2,     2.67,2,    0.004,2,    0.004,2, -999.000,9,-999.0000,9,  -999.00,9,   -999.0,9,  -999.00,9,-999.000,9,   -999.9,9,   -999.9,9,  -999.0, -999.00,-999.0000,-999.000,-999.000
    316N145_10,  I07N,   745,  1,     12,     12,2,19950725,0619, -5.5885,  54.9570, 3453,   -999,   1450.7,   4.4996,  34.7917,2,  34.7927,2,    102.8,2,  4.3790,    101.9,2,    97.39,2,    35.58,2,     0.00,2,     2.64,2,    0.002,2,    0.001,2, -999.000,9,-999.0000,9,  -999.00,9,   -999.0,9,  -999.00,9,-999.000,9,   -999.9,9,   -999.9,9,  -999.0, -999.00,-999.0000,-999.000,-999.000
    316N145_10,  I07N,   745,  1,     11,     11,2,19950725,0619, -5.5885,  54.9570, 3453,   -999,   1649.2,   3.4895,  34.7680,2,  34.7683,2,    123.3,2,  3.3625,    121.9,2,   107.21,2,    34.94,2,     0.00,2,     2.57,2,   -0.001,2,    0.000,2, -999.000,9,-999.0000,9,  -999.00,9,   -999.0,9,  -999.00,9,-999.000,9,   -999.9,9,   -999.9,9,  -999.0, -999.00,-999.0000,-999.000,-999.000
    316N145_10,  I07N,   745,  1,     10,     10,2,19950725,0619, -5.5885,  54.9570, 3453,   -999,   1820.7,   3.0349,  34.7561,2,  34.7569,2,    133.5,2,  2.8986,    133.2,2,   112.32,2,    34.73,2,     0.00,2,     2.54,2,    0.000,2,    0.002,2, -999.000,9,-999.0000,9,  -999.00,9,   -999.0,9,  -999.00,9,-999.000,9,   -999.9,9,   -999.9,9,  -999.0, -999.00,-999.0000,-999.000,-999.000
    316N145_10,  I07N,   745,  1,      9,      9,2,19950725,0619, -5.5885,  54.9570, 3453,   -999,   2053.3,   2.5540,  34.7491,2,  34.7489,2,    144.9,2,  2.4041,    143.8,2,   118.00,2,    34.37,2,     0.00,2,     2.50,2,   -0.002,2,   -0.002,2, -999.000,9,-999.0000,9,  -999.00,9,   -999.0,9,  -999.00,9,-999.000,9,   -999.9,9,   -999.9,9,  -999.0, -999.00,-999.0000,-999.000,-999.000
    316N145_10,  I07N,   745,  1,      8,      8,2,19950725,0619, -5.5885,  54.9570, 3453,   -999,   2252.1,   2.2809,  34.7455,2,  34.7453,2,    149.7,2,  2.1178,    150.1,2,   121.91,2,    34.24,2,     0.00,2,     2.48,2, -999.000,9, -999.000,9, -999.000,9,-999.0000,9,  -999.00,9,   -999.0,9,  -999.00,9,-999.000,9,   -999.9,9,   -999.9,9,  -999.0, -999.00,-999.0000,-999.000,-999.000
    316N145_10,  I07N,   745,  1,      7,      7,2,19950725,0619, -5.5885,  54.9570, 3453,   -999,   2449.0,   2.1011,  34.7431,2,  34.7418,2,    154.7,2,  1.9233,    153.9,2,   124.22,2,    34.07,2,     0.00,2,     2.46,2, -999.000,9, -999.000,9, -999.000,9,-999.0000,9,  -999.00,9,   -999.0,9,  -999.00,9,-999.000,9,   -999.9,9,   -999.9,9,  -999.0, -999.00,-999.0000,-999.000,-999.000
    316N145_10,  I07N,   745,  1,      6,      6,2,19950725,0619, -5.5885,  54.9570, 3453,   -999,   2652.7,   1.9361,  34.7396,2,  34.7390,2,    157.9,2,  1.7427,    157.9,2,   126.89,2,    34.08,2,     0.00,2,     2.45,2, -999.000,9, -999.000,9, -999.000,9,-999.0000,9,  -999.00,9,   -999.0,9,  -999.00,9,-999.000,9,   -999.9,9,   -999.9,9,  -999.0, -999.00,-999.0000,-999.000,-999.000
    316N145_10,  I07N,   745,  1,      5,      5,2,19950725,0619, -5.5885,  54.9570, 3453,   -999,   2852.0,   1.8469,  34.7389,2,  34.7367,2,    161.3,2,  1.6366,    160.9,2,   128.30,2,    34.00,2,     0.00,2,     2.44,2, -999.000,9, -999.000,9, -999.000,9,-999.0000,9,  -999.00,9,   -999.0,9,  -999.00,9,-999.000,9,   -999.9,9,   -999.9,9,  -999.0, -999.00,-999.0000,-999.000,-999.000
    316N145_10,  I07N,   745,  1,      4,      4,2,19950725,0619, -5.5885,  54.9570, 3453,   -999,   3049.2,   1.7699,  34.7364,2,  34.7349,2,    163.8,2,  1.5422,    163.5,2,   129.35,2,    33.87,2,     0.00,2,     2.42,2, -999.000,9, -999.000,9, -999.000,9,-999.0000,9,  -999.00,9,   -999.0,9,  -999.00,9,-999.000,9,   -999.9,9,   -999.9,9,  -999.0, -999.00,-999.0000,-999.000,-999.000
    316N145_10,  I07N,   745,  1,      3,      3,2,19950725,0619, -5.5885,  54.9570, 3453,   -999,   3252.1,   1.7134,  34.7335,2,  34.7322,2,    165.1,2,  1.4669,    165.4,2,   130.41,2,    33.88,2,     0.00,2,     2.43,2, -999.000,9, -999.000,9, -999.000,9,-999.0000,9,  -999.00,9,   -999.0,9,  -999.00,9,-999.000,9,   -999.9,9,   -999.9,9,  -999.0, -999.00,-999.0000,-999.000,-999.000
    316N145_10,  I07N,   745,  1,      2,      2,2,19950725,0619, -5.5885,  54.9570, 3453,   -999,   3374.7,   1.6400,  34.7316,2,  34.7300,2,    167.2,2,  1.3830,    167.6,2,   132.01,2,    33.79,2,     0.00,2,     2.42,2, -999.000,9, -999.000,9, -999.000,9,-999.0000,9,  -999.00,9,   -999.0,9,  -999.00,9,-999.000,9,   -999.9,9,   -999.9,9,  -999.0, -999.00,-999.0000,-999.000,-999.000
    316N145_10,  I07N,   745,  1,      1,      1,2,19950725,0619, -5.5885,  54.9570, 3453,   -999,   3496.4,   1.6271,  34.7297,2,  34.7296,2,    168.2,2,  1.3580,    168.0,2,   132.88,2,    33.80,2,     0.00,2,     2.42,2, -999.000,9, -999.000,9, -999.000,9,-999.0000,9,  -999.00,9,   -999.0,9,  -999.00,9,-999.000,9,   -999.9,9,   -999.9,9,  -999.0, -999.00,-999.0000,-999.000,-999.000