BOTTLE,20080821WHPSIOSCD
EXPOCODE,SECT_ID,STNNBR,CASTNO,SAMPNO,BTLNBR,BTLNBR_FLAG_W,DATE,TIME,LATITUDE,LONGITUDE,DEPTH,CTDRAW,CTDPRS,CTDTMP,CTDSAL,CTDSAL_FLAG_W,SALNTY,SALNTY_FLAG_W,CTDOXY,CTDOXY_FLAG_W,THETA,OXYGEN,OXYGEN_FLAG_W,SILCAT,SILCAT_FLAG_W,NITRAT,NITRAT_FLAG_W,NITRIT,NITRIT_FLAG_W,PHSPHT,PHSPHT_FLAG_W,CFC-11,CFC-11_FLAG_W,CFC-12,CFC-12_FLAG_W,TRITUM,TRITUM_FLAG_W,HELIUM,HELIUM_FLAG_W,DELHE3,DELHE3_FLAG_W,DELC14,DELC14_FLAG_W,DELC13,DELC13_FLAG_W,NEON,NEON_FLAG_W,TCARBN,TCARBN_FLAG_W,ALKALI,ALKALI_FLAG_W,C14ERR,DELHER,HELIER,NEONER,TRITER
,,,,,,,,,,,,,DBAR,ITS-90,PSS-78,,PSS-78,,UMOL/KG,,DEG C,UMOL/KG,,UMOL/KG,,UMOL/KG,,UMOL/KG,,UMOL/KG,,PMOL/KG,,PMOL/KG,,TU,,NMOL/KG,,PERCNT,,/MILLE,,/MILLE,,NMOL/KG,,UMOL/KG,,UMOL/KG,,/MILLE,PERCNT,NMOL/KG,NMOL/KG,TU
    316N145_10,  I07N,   806,  1,     36,     36,2,19950810,2112, 18.7620,  59.2420, 3498,   -999,      9.3,  25.7712,  35.9586,2,  35.9580,2,    216.0,2, 25.7693,    208.6,2,     3.46,2,     6.69,2,     0.35,2,     0.89,2,    1.775,2,    0.988,2, -999.000,9,-999.0000,9,  -999.00,9,   -999.0,9,  -999.00,9,-999.000,9,   -999.9,5,   2350.1,2,  -999.0, -999.00,-999.0000,-999.000,-999.000
    316N145_10,  I07N,   806,  1,     35,     35,2,19950810,2112, 18.7620,  59.2420, 3498,   -999,     26.3,  25.2534,  35.9055,2,  35.9016,2,    202.0,2, 25.2479,    201.3,2,     5.14,2,     8.74,2,     0.52,2,     1.10,2, -999.000,9, -999.000,9, -999.000,9,-999.0000,9,  -999.00,9,   -999.0,9,  -999.00,9,-999.000,9,   -999.9,5,   2345.9,2,  -999.0, -999.00,-999.0000,-999.000,-999.000
    316N145_10,  I07N,   806,  1,     34,     34,2,19950810,2112, 18.7620,  59.2420, 3498,   -999,     36.3,  22.4893,  35.8299,2,  35.8282,2,    149.7,2, 22.4822,    139.1,2,     9.64,2,    15.68,2,     2.38,2,     1.62,2, -999.000,9, -999.000,9, -999.000,9,-999.0000,9,  -999.00,9,   -999.0,9,  -999.00,9,-999.000,9,   -999.9,5,   2341.0,2,  -999.0, -999.00,-999.0000,-999.000,-999.000
    316N145_10,  I07N,   806,  1,     33,     33,2,19950810,2112, 18.7620,  59.2420, 3498,   -999,     56.1,  21.1462,  35.7758,2,  35.7639,2,     85.0,2, 21.1356,    109.5,2,    13.58,2,    20.23,2,     0.44,2,     1.78,2,    1.626,2,    0.912,2, -999.000,9,-999.0000,9,  -999.00,9,   -999.0,9,  -999.00,9,-999.000,9,   -999.9,5,   2333.1,2,  -999.0, -999.00,-999.0000,-999.000,-999.000
    316N145_10,  I07N,   806,  1,     32,     32,2,19950810,2112, 18.7620,  59.2420, 3498,   -999,     76.2,  20.5538,  35.7358,2,  35.7426,2,    123.1,2, 20.5396,    121.6,2,    14.88,2,    21.41,2,     0.32,2,     1.89,2, -999.000,9, -999.000,9, -999.000,9,-999.0000,9,  -999.00,9,   -999.0,9,  -999.00,9,-999.000,9,   -999.9,5,   2335.0,2,  -999.0, -999.00,-999.0000,-999.000,-999.000
    316N145_10,  I07N,   806,  1,     31,     31,2,19950810,2112, 18.7620,  59.2420, 3498,   -999,    101.5,  19.2421,  35.8167,2,  35.8075,2,     12.5,2, 19.2240,     12.7,2,    19.94,2,    25.22,2,     0.04,2,     2.22,2, -999.000,9, -999.000,9, -999.000,9,-999.0000,9,  -999.00,9,   -999.0,9,  -999.00,9,-999.000,9,   -999.9,5,   2334.3,2,  -999.0, -999.00,-999.0000,-999.000,-999.000
    316N145_10,  I07N,   806,  1,     30,     30,2,19950810,2112, 18.7620,  59.2420, 3498,   -999,    116.4,  18.2907,  35.7167,2,  35.7469,2,     17.9,2, 18.2706,     13.4,2,    20.68,2,    24.37,2,     0.01,2,     2.16,2,    1.055,2,    0.594,2, -999.000,9,-999.0000,9,  -999.00,9,   -999.0,9,  -999.00,9,-999.000,9,   -999.9,5,   2336.1,2,  -999.0, -999.00,-999.0000,-999.000,-999.000
    316N145_10,  I07N,   806,  1,     29,     29,2,19950810,2112, 18.7620,  59.2420, 3498,   -999,    131.2,  17.9200,  35.7852,2,  35.7869,2,      4.5,2, 17.8976,      5.5,2,    21.79,2,    24.05,2,     0.00,2,     2.26,2,    0.926,2,    0.539,2, -999.000,9,-999.0000,9,  -999.00,9,   -999.0,9,  -999.00,9,-999.000,9,   -999.9,5,   2338.9,2,  -999.0, -999.00,-999.0000,-999.000,-999.000
    316N145_10,  I07N,   806,  1,     28,     28,2,19950810,2112, 18.7620,  59.2420, 3498,   -999,    176.7,  16.4772,  35.8179,2,  35.8195,2,      4.7,2, 16.4487,      5.5,2,    25.16,2,    23.99,2,     0.02,2,     2.29,2, -999.000,9, -999.000,9, -999.000,9,-999.0000,9,  -999.00,9,   -999.0,9,  -999.00,9,-999.000,9,   -999.9,5,   2343.9,2,  -999.0, -999.00,-999.0000,-999.000,-999.000
    316N145_10,  I07N,   806,  1,     27,     27,2,19950810,2112, 18.7620,  59.2420, 3498,   -999,    211.9,  15.6665,  35.8310,2,  35.8311,2,      2.8,2, 15.6334,      3.8,2,    27.02,2,    23.62,2,     0.01,2,     2.34,2, -999.000,9, -999.000,9, -999.000,9,-999.0000,9,  -999.00,9,   -999.0,9,  -999.00,9,-999.000,9,   -999.9,5,   2342.2,2,  -999.0, -999.00,-999.0000,-999.000,-999.000
    316N145_10,  I07N,   806,  1,     26,     26,2,19950810,2112, 18.7620,  59.2420, 3498,   -999,    256.9,  15.1275,  35.8871,2,  35.8905,2,      1.8,2, 15.0881,      1.8,2,    29.07,2,    23.66,2,     0.01,2,     2.39,2,    0.501,2,    0.297,2, -999.000,9,-999.0000,9,  -999.00,9,   -999.0,9,  -999.00,9,-999.000,9,   -999.9,5,   2349.2,2,  -999.0, -999.00,-999.0000,-999.000,-999.000
    316N145_10,  I07N,   806,  1,     25,     25,2,19950810,2112, 18.7620,  59.2420, 3498,   -999,    287.4,  14.6644,  35.8738,2,  35.8731,2,      3.6,2, 14.6213,      3.3,2,    29.99,2,    24.83,2,     0.01,2,     2.40,2, -999.000,9, -999.000,9, -999.000,9,-999.0000,9,  -999.00,9,   -999.0,9,  -999.00,9,-999.000,9,   -999.9,5,   2347.0,2,  -999.0, -999.00,-999.0000,-999.000,-999.000
    316N145_10,  I07N,   806,  1,     24,     24,2,19950810,2112, 18.7620,  59.2420, 3498,   -999,    310.7,  14.3751,  35.8582,2,  35.8573,2,      2.4,2, 14.3291,      2.6,2,    31.29,2,    25.03,2,     0.00,2,     2.43,2,    0.427,2,    0.253,2, -999.000,9,-999.0000,9,  -999.00,9,   -999.0,9,  -999.00,9,-999.000,9,   -999.9,5,   2349.5,2,  -999.0, -999.00,-999.0000,-999.000,-999.000
    316N145_10,  I07N,   806,  1,     23,     23,2,19950810,2112, 18.7620,  59.2420, 3498,   -999,    350.0,  13.5073,  35.7251,2,  35.7258,2,      2.9,2, 13.4574,      3.6,2,    33.72,2,    26.94,2,     0.00,2,     2.47,2, -999.000,9, -999.000,9, -999.000,9,-999.0000,9,  -999.00,9,   -999.0,9,  -999.00,9,-999.000,9,   -999.9,5,   2341.7,2,  -999.0, -999.00,-999.0000,-999.000,-999.000
    316N145_10,  I07N,   806,  1,     22,     22,2,19950810,2112, 18.7620,  59.2420, 3498,   -999,    402.8,  13.3159,  35.7843,2,  35.7806,2,      3.1,2, 13.2589,      3.2,2,    36.33,2,    26.56,2,     0.00,2,     2.52,2,    0.294,2,    0.167,2, -999.000,9,-999.0000,9,  -999.00,9,   -999.0,9,  -999.00,9,-999.000,9,   -999.9,5,   2348.9,2,  -999.0, -999.00,-999.0000,-999.000,-999.000
    316N145_10,  I07N,   806,  1,     21,     21,2,19950810,2112, 18.7620,  59.2420, 3498,   -999,    502.0,  12.5228,  35.7123,2,  35.7122,2,      4.1,2, 12.4543,      4.4,2,    40.83,2,    28.01,2,     0.00,2,     2.59,2,    0.185,2,    0.106,2, -999.000,9,-999.0000,9,  -999.00,9,   -999.0,9,  -999.00,9,-999.000,9,   -999.9,5,   2346.0,2,  -999.0, -999.00,-999.0000,-999.000,-999.000
    316N145_10,  I07N,   806,  1,     20,     20,2,19950810,2112, 18.7620,  59.2420, 3498,   -999,    601.7,  11.8981,  35.6769,2,  35.6759,2,      4.5,2, 11.8183,      4.0,2,    46.64,2,    29.00,2,     0.00,2,     2.66,2,    0.119,2,    0.070,2, -999.000,9,-999.0000,9,  -999.00,9,   -999.0,9,  -999.00,9,-999.000,9,   -999.9,5,   2354.3,2,  -999.0, -999.00,-999.0000,-999.000,-999.000
    316N145_10,  I07N,   806,  1,     19,     19,2,19950810,2112, 18.7620,  59.2420, 3498,   -999,    700.8,  11.3701,  35.6378,2,  35.6367,2,      5.8,2, 11.2794,      5.9,2,    51.32,2,    30.68,2,     0.00,2,     2.70,2,    0.096,2,    0.059,2, -999.000,9,-999.0000,9,  -999.00,9,   -999.0,9,  -999.00,9,-999.000,9,   -999.9,5,   2351.7,2,  -999.0, -999.00,-999.0000,-999.000,-999.000
    316N145_10,  I07N,   806,  1,     18,     18,2,19950810,2112, 18.7620,  59.2420, 3498,   -999,    760.0,  10.8602,  35.6098,2,  35.6095,2,      5.6,2, 10.7643,      4.5,2,    56.95,2,    32.00,2,     0.00,2,     2.77,2, -999.000,9, -999.000,9, -999.000,9,-999.0000,9,  -999.00,9,   -999.0,9,  -999.00,9,-999.000,9,   -999.9,5,   2359.2,2,  -999.0, -999.00,-999.0000,-999.000,-999.000
    316N145_10,  I07N,   806,  1,     17,     17,2,19950810,2112, 18.7620,  59.2420, 3498,   -999,    848.8,  10.0006,  35.5441,2,  35.5431,2,      5.9,2,  9.8983,      5.5,2,    65.22,2,    33.89,2,     0.00,2,     2.84,2,    0.046,2,    0.027,2, -999.000,9,-999.0000,9,  -999.00,9,   -999.0,9,  -999.00,9,-999.000,9,   -999.9,5,   2364.7,2,  -999.0, -999.00,-999.0000,-999.000,-999.000
    316N145_10,  I07N,   806,  1,     16,     16,2,19950810,2112, 18.7620,  59.2420, 3498,   -999,    949.5,   9.3138,  35.4628,2,  35.4621,2,      5.1,2,  9.2036,      4.6,2,    71.05,2,    35.22,2,     0.00,2,     2.92,2,    0.028,2,    0.011,2, -999.000,9,-999.0000,9,  -999.00,9,   -999.0,9,  -999.00,9,-999.000,9,   -999.9,5,   2371.6,2,  -999.0, -999.00,-999.0000,-999.000,-999.000
    316N145_10,  I07N,   806,  1,     15,     15,2,19950810,2112, 18.7620,  59.2420, 3498,   -999,   1040.5,   8.5992,  35.3990,2,  35.3981,2,      8.0,2,  8.4832,     10.0,2,    76.89,2,    36.12,2,     0.00,2,     2.93,2,    0.026,2,    0.015,2, -999.000,9,-999.0000,9,  -999.00,9,   -999.0,9,  -999.00,9,-999.000,9,   -999.9,5,   2371.7,2,  -999.0, -999.00,-999.0000,-999.000,-999.000
    316N145_10,  I07N,   806,  1,     14,     14,2,19950810,2112, 18.7620,  59.2420, 3498,   -999,   1251.3,   7.0707,  35.2252,2,  35.2242,2,     22.1,2,  6.9437,     22.2,2,    90.73,2,    37.46,2,     0.00,2,     2.99,2,    0.013,2,    0.009,2, -999.000,9,-999.0000,9,  -999.00,9,   -999.0,9,  -999.00,9,-999.000,9,   -999.9,5,   2385.5,2,  -999.0, -999.00,-999.0000,-999.000,-999.000
    316N145_10,  I07N,   806,  1,     13,     13,2,19950810,2112, 18.7620,  59.2420, 3498,   -999,   1453.8,   5.6481,  35.0713,2,  35.0712,2,     38.7,2,  5.5141,     39.1,2,   104.48,2,    37.94,2,     0.00,2,     3.01,2,    0.006,2,    0.004,2, -999.000,9,-999.0000,9,  -999.00,9,   -999.0,9,  -999.00,9,-999.000,9,   -999.9,5,   2393.1,2,  -999.0, -999.00,-999.0000,-999.000,-999.000
    316N145_10,  I07N,   806,  1,     12,     12,2,19950810,2112, 18.7620,  59.2420, 3498,   -999,   1627.4,   4.6972,  34.9808,2,  34.9838,2,     47.8,2,  4.5569,     47.2,2,   115.48,2,    38.32,2,     0.00,2,     3.04,2,   -0.001,2,    0.003,2, -999.000,9,-999.0000,9,  -999.00,9,   -999.0,9,  -999.00,9,-999.000,9,   -999.9,5,   2409.4,2,  -999.0, -999.00,-999.0000,-999.000,-999.000
    316N145_10,  I07N,   806,  1,     11,     11,2,19950810,2112, 18.7620,  59.2420, 3498,   -999,   1825.1,   3.7244,  34.8927,2,  34.8952,2,     69.5,2,  3.5779,     70.8,2,   125.82,2,    37.80,2,     0.00,2,     2.92,2,   -0.001,2,    0.001,2, -999.000,9,-999.0000,9,  -999.00,9,   -999.0,9,  -999.00,9,-999.000,9,   -999.9,5,   2416.2,2,  -999.0, -999.00,-999.0000,-999.000,-999.000
    316N145_10,  I07N,   806,  1,     10,     10,2,19950810,2112, 18.7620,  59.2420, 3498,   -999,   2051.7,   3.0694,  34.8415,2,  34.8398,2,     84.1,2,  2.9115,     85.4,2,   133.52,2,    37.41,2,     0.00,2,     2.85,2,   -0.002,2,    0.002,2, -999.000,9,-999.0000,9,  -999.00,9,   -999.0,9,  -999.00,9,-999.000,9,   -999.9,5,   2428.2,2,  -999.0, -999.00,-999.0000,-999.000,-999.000
    316N145_10,  I07N,   806,  1,      9,      9,2,19950810,2112, 18.7620,  59.2420, 3498,   -999,   2272.1,   2.5728,  34.8011,2,  34.8009,2,     97.9,2,  2.4027,   -999.0,9,   139.30,2,    37.08,2,     0.00,2,     2.79,2, -999.000,9, -999.000,9, -999.000,9,-999.0000,9,  -999.00,9,   -999.0,9,  -999.00,9,-999.000,9,   -999.9,5,   2433.7,2,  -999.0, -999.00,-999.0000,-999.000,-999.000
    316N145_10,  I07N,   806,  1,      8,      8,2,19950810,2112, 18.7620,  59.2420, 3498,   -999,   2498.2,   2.2178,  34.7752,2,  34.7744,2,    106.9,2,  2.0333,    106.1,2,   144.12,2,    36.84,2,     0.00,2,     2.74,2, -999.000,9, -999.000,9, -999.000,9,-999.0000,9,  -999.00,9,   -999.0,9,  -999.00,9,-999.000,9,   -999.9,5,   2445.8,2,  -999.0, -999.00,-999.0000,-999.000,-999.000
    316N145_10,  I07N,   806,  1,      7,      7,2,19950810,2112, 18.7620,  59.2420, 3498,   -999,   2700.4,   1.9969,  34.7595,2,  34.7595,2,    112.5,2,  1.7978,    112.4,2,   147.14,2,    36.51,2,     0.00,2,     2.71,2, -999.000,9, -999.000,9, -999.000,9,-999.0000,9,  -999.00,9,   -999.0,9,  -999.00,9,-999.000,9,   -999.9,5,   2448.2,2,  -999.0, -999.00,-999.0000,-999.000,-999.000
    316N145_10,  I07N,   806,  1,      6,      6,2,19950810,2112, 18.7620,  59.2420, 3498,   -999,   2899.1,   1.8716,  34.7504,2,  34.7496,2,    117.1,2,  1.6562,    116.3,2,   148.74,2,    36.36,2,     0.00,2,     2.68,2, -999.000,9, -999.000,9, -999.000,9,-999.0000,9,  -999.00,9,   -999.0,9,  -999.00,9,-999.000,9,   -999.9,5,   2455.5,2,  -999.0, -999.00,-999.0000,-999.000,-999.000
    316N145_10,  I07N,   806,  1,      5,      5,2,19950810,2112, 18.7620,  59.2420, 3498,   -999,   3098.6,   1.8092,  34.7446,2,  34.7439,2,    120.8,2,  1.5758,    118.8,2,   149.94,2,    36.27,2,     0.00,2,     2.67,2, -999.000,9, -999.000,9, -999.000,9,-999.0000,9,  -999.00,9,   -999.0,9,  -999.00,9,-999.000,9,   -999.9,5,   2456.5,2,  -999.0, -999.00,-999.0000,-999.000,-999.000
    316N145_10,  I07N,   806,  1,      4,      4,2,19950810,2112, 18.7620,  59.2420, 3498,   -999,   3307.9,   1.7596,  34.7402,2,  34.7406,2,    124.9,2,  1.5063,    125.4,2,   149.08,2,    36.03,2,     0.00,2,     2.64,2, -999.000,9, -999.000,9, -999.000,9,-999.0000,9,  -999.00,9,   -999.0,9,  -999.00,9,-999.000,9,   -999.9,5,   2457.0,2,  -999.0, -999.00,-999.0000,-999.000,-999.000
    316N145_10,  I07N,   806,  1,      3,      3,2,19950810,2112, 18.7620,  59.2420, 3498,   -999,   3405.8,   1.7405,  34.7389,2,  34.7386,2,    126.0,2,  1.4778,    126.4,2,   149.46,2,    35.98,2,     0.00,2,     2.64,2, -999.000,9, -999.000,9, -999.000,9,-999.0000,9,  -999.00,9,   -999.0,9,  -999.00,9,-999.000,9,   -999.9,5,   2454.8,2,  -999.0, -999.00,-999.0000,-999.000,-999.000
    316N145_10,  I07N,   806,  1,      2,      2,2,19950810,2112, 18.7620,  59.2420, 3498,   -999,   3503.3,   1.7202,  34.7378,2,  34.7369,2,    128.3,2,  1.4480,    128.2,2,   150.86,2,    35.83,2,     0.00,2,     2.63,2, -999.000,9, -999.000,9, -999.000,9,-999.0000,9,  -999.00,9,   -999.0,9,  -999.00,9,-999.000,9,   -999.9,5,   2458.7,2,  -999.0, -999.00,-999.0000,-999.000,-999.000
    316N145_10,  I07N,   806,  1,      1,      1,2,19950810,2112, 18.7620,  59.2420, 3498,   -999,   3543.4,   1.7206,  34.7373,2,  34.7382,2,    124.6,2,  1.4442,    125.4,2,   152.88,2,    35.88,2,     0.00,2,     2.64,2, -999.000,9, -999.000,9, -999.000,9,-999.0000,9,  -999.00,9,   -999.0,9,  -999.00,9,-999.000,9,   -999.9,5,   2467.1,2,  -999.0, -999.00,-999.0000,-999.000,-999.000