BOTTLE,20080821WHPSIOSCD
EXPOCODE,SECT_ID,STNNBR,CASTNO,SAMPNO,BTLNBR,BTLNBR_FLAG_W,DATE,TIME,LATITUDE,LONGITUDE,DEPTH,CTDRAW,CTDPRS,CTDTMP,CTDSAL,CTDSAL_FLAG_W,SALNTY,SALNTY_FLAG_W,CTDOXY,CTDOXY_FLAG_W,THETA,OXYGEN,OXYGEN_FLAG_W,SILCAT,SILCAT_FLAG_W,NITRAT,NITRAT_FLAG_W,NITRIT,NITRIT_FLAG_W,PHSPHT,PHSPHT_FLAG_W,CFC-11,CFC-11_FLAG_W,CFC-12,CFC-12_FLAG_W,TRITUM,TRITUM_FLAG_W,HELIUM,HELIUM_FLAG_W,DELHE3,DELHE3_FLAG_W,DELC14,DELC14_FLAG_W,DELC13,DELC13_FLAG_W,NEON,NEON_FLAG_W,TCARBN,TCARBN_FLAG_W,ALKALI,ALKALI_FLAG_W,C14ERR,DELHER,HELIER,NEONER,TRITER
,,,,,,,,,,,,,DBAR,ITS-90,PSS-78,,PSS-78,,UMOL/KG,,DEG C,UMOL/KG,,UMOL/KG,,UMOL/KG,,UMOL/KG,,UMOL/KG,,PMOL/KG,,PMOL/KG,,TU,,NMOL/KG,,PERCNT,,/MILLE,,/MILLE,,NMOL/KG,,UMOL/KG,,UMOL/KG,,/MILLE,PERCNT,NMOL/KG,NMOL/KG,TU
    316N145_10,  I07N,   767,  1,     36,     36,2,19950731,0841,  2.7998,  58.0615, 5122,   -999,      3.4,  28.1891,  35.7028,2,  35.7050,2,    196.0,2, 28.1885,    196.7,2,     3.30,2,     0.13,2,     0.00,2,     0.20,2,    1.618,2,    0.924,2, -999.000,9,-999.0000,9,  -999.00,9,   -999.0,9,  -999.00,9,-999.000,9,   1977.7,2,   2339.3,2,  -999.0, -999.00,-999.0000,-999.000,-999.000
    316N145_10,  I07N,   767,  1,     35,     35,2,19950731,0841,  2.7998,  58.0615, 5122,   -999,     41.9,  28.0687,  35.7049,2,  35.7073,2,    193.9,2, 28.0590,    196.6,2,     3.28,2,     0.13,2,     0.00,2,     0.20,2,    1.608,2,    0.928,2, -999.000,9,-999.0000,9,  -999.00,9,   -999.0,9,  -999.00,9,-999.000,9,   -999.9,9,   -999.9,9,  -999.0, -999.00,-999.0000,-999.000,-999.000
    316N145_10,  I07N,   767,  1,     34,     34,2,19950731,0841,  2.7998,  58.0615, 5122,   -999,     82.0,  27.9908,  35.7499,2,  35.7497,2,    202.0,2, 27.9717,    195.6,2,     3.09,2,     0.13,2,     0.00,2,     0.21,2,    1.616,2,    0.924,2, -999.000,9,-999.0000,9,  -999.00,9,   -999.0,9,  -999.00,9,-999.000,9,   -999.9,9,   -999.9,9,  -999.0, -999.00,-999.0000,-999.000,-999.000
    316N145_10,  I07N,   767,  1,     33,     33,2,19950731,0841,  2.7998,  58.0615, 5122,   -999,    101.7,  27.6323,  35.8539,2,  35.8509,2,    189.1,2, 27.6087,    184.0,2,     3.41,2,     0.85,2,     0.23,2,     0.31,2,    1.603,2,    0.913,2, -999.000,9,-999.0000,9,  -999.00,9,   -999.0,9,  -999.00,9,-999.000,9,   -999.9,9,   -999.9,9,  -999.0, -999.00,-999.0000,-999.000,-999.000
    316N145_10,  I07N,   767,  1,     32,     32,2,19950731,0841,  2.7998,  58.0615, 5122,   -999,    121.9,  21.4466,  35.4383,2,  35.4270,2,    113.0,2, 21.4231,    110.9,2,    10.44,2,    13.30,2,     0.05,2,     1.06,2,    1.518,2,    0.827,2, -999.000,9,-999.0000,9,  -999.00,9,   -999.0,9,  -999.00,9,-999.000,9,   -999.9,9,   -999.9,9,  -999.0, -999.00,-999.0000,-999.000,-999.000
    316N145_10,  I07N,   767,  1,     31,     31,2,19950731,0841,  2.7998,  58.0615, 5122,   -999,    141.6,  18.3917,  35.3003,2,  35.3018,2,    106.1,2, 18.3671,    105.6,2,    13.51,2,    16.47,2,     0.02,2,     1.23,2,    1.456,2,    0.788,2, -999.000,9,-999.0000,9,  -999.00,9,   -999.0,9,  -999.00,9,-999.000,9,   -999.9,9,   -999.9,9,  -999.0, -999.00,-999.0000,-999.000,-999.000
    316N145_10,  I07N,   767,  1,     30,     30,2,19950731,0841,  2.7998,  58.0615, 5122,   -999,    191.8,  15.5483,  35.2015,2,  35.2029,2,     79.2,2, 15.5186,     80.1,2,    17.95,2,    21.59,2,     0.00,2,     1.56,2,    1.123,2,    0.594,2, -999.000,9,-999.0000,9,  -999.00,9,   -999.0,9,  -999.00,9,-999.000,9,   -999.9,9,   -999.9,9,  -999.0, -999.00,-999.0000,-999.000,-999.000
    316N145_10,  I07N,   767,  1,     29,     29,2,19950731,0841,  2.7998,  58.0615, 5122,   -999,    252.8,  13.6438,  35.1618,2,  35.1639,2,    111.6,2, 13.6080,    117.4,2,    17.25,2,    19.49,2,     0.00,2,     1.42,2,    1.296,2,    0.676,2, -999.000,9,-999.0000,9,  -999.00,9,   -999.0,9,  -999.00,9,-999.000,9,   -999.9,9,   -999.9,9,  -999.0, -999.00,-999.0000,-999.000,-999.000
    316N145_10,  I07N,   767,  1,     28,     28,2,19950731,0841,  2.7998,  58.0615, 5122,   -999,    352.4,  12.0230,  35.0669,2,  35.0704,2,    109.7,2, 11.9768,    106.7,2,    20.66,2,    23.05,2,     0.00,2,     1.64,2,    0.941,2,    0.480,2, -999.000,9,-999.0000,9,  -999.00,9,   -999.0,9,  -999.00,9,-999.000,9,   -999.9,9,   -999.9,9,  -999.0, -999.00,-999.0000,-999.000,-999.000
    316N145_10,  I07N,   767,  1,     27,     27,2,19950731,0841,  2.7998,  58.0615, 5122,   -999,    460.8,  11.1544,  35.1769,2,  35.1787,2,     69.6,2, 11.0965,     67.8,2,    30.76,2,    27.90,2,     0.00,2,     2.08,2,    0.507,2,    0.267,2, -999.000,9,-999.0000,9,  -999.00,9,   -999.0,9,  -999.00,9,-999.000,9,   -999.9,9,   -999.9,9,  -999.0, -999.00,-999.0000,-999.000,-999.000
    316N145_10,  I07N,   767,  1,     26,     26,2,19950731,0841,  2.7998,  58.0615, 5122,   -999,    510.8,  10.2650,  35.0807,2,  35.0827,2,     71.9,2, 10.2038,     72.8,2,    34.69,2,    29.24,2,     0.00,2,     2.15,2,    0.369,6,    0.194,6, -999.000,9,-999.0000,9,  -999.00,9,   -999.0,9,  -999.00,9,-999.000,9,   -999.9,9,   -999.9,9,  -999.0, -999.00,-999.0000,-999.000,-999.000
    316N145_10,  I07N,   767,  1,     25,     25,2,19950731,0841,  2.7998,  58.0615, 5122,   -999,    630.5,   9.5633,  35.1421,2,  35.1437,2,     46.7,2,  9.4905,     45.9,2,    48.74,2,    32.69,2,     0.00,2,     2.48,2,    0.104,2,    0.062,2, -999.000,9,-999.0000,9,  -999.00,9,   -999.0,9,  -999.00,9,-999.000,9,   -999.9,9,   -999.9,9,  -999.0, -999.00,-999.0000,-999.000,-999.000
    316N145_10,  I07N,   767,  1,     24,     24,2,19950731,0841,  2.7998,  58.0615, 5122,   -999,    750.6,   9.0945,  35.1437,2,  35.1455,2,     40.0,2,  9.0098,     40.2,2,    56.11,2,    33.90,2,     0.00,2,     2.59,2,    0.057,2,    0.038,2, -999.000,9,-999.0000,9,  -999.00,9,   -999.0,9,  -999.00,9,-999.000,9,   -999.9,9,   -999.9,9,  -999.0, -999.00,-999.0000,-999.000,-999.000
    316N145_10,  I07N,   767,  1,     23,     23,2,19950731,0841,  2.7998,  58.0615, 5122,   -999,    850.7,   8.2212,  35.0814,2,  35.0833,2,     41.3,2,  8.1301,     41.2,2,    66.06,2,    35.11,2,     0.00,2,     2.67,2,    0.028,2,    0.015,2, -999.000,9,-999.0000,9,  -999.00,9,   -999.0,9,  -999.00,9,-999.000,9,   -999.9,9,   -999.9,9,  -999.0, -999.00,-999.0000,-999.000,-999.000
    316N145_10,  I07N,   767,  1,     22,     22,2,19950731,0841,  2.7998,  58.0615, 5122,   -999,    946.3,   7.7887,  35.1000,2,  35.1018,2,     43.2,2,  7.6898,     43.2,2,    72.24,2,    35.44,2,     0.00,2,     2.73,2,    0.025,2,    0.013,2, -999.000,9,-999.0000,9,  -999.00,9,   -999.0,9,  -999.00,9,-999.000,9,   -999.9,9,   -999.9,9,  -999.0, -999.00,-999.0000,-999.000,-999.000
    316N145_10,  I07N,   767,  1,     21,     21,2,19950731,0841,  2.7998,  58.0615, 5122,   -999,   1097.2,   6.4200,  34.9858,2,  34.9845,2,     53.3,2,  6.3154,     53.7,2,    86.23,2,    36.56,2,     0.00,2,     2.81,2,    0.009,2,    0.008,2, -999.000,9,-999.0000,9,  -999.00,9,   -999.0,9,  -999.00,9,-999.000,9,   -999.9,9,   -999.9,9,  -999.0, -999.00,-999.0000,-999.000,-999.000
    316N145_10,  I07N,   767,  1,     20,     20,2,19950731,0841,  2.7998,  58.0615, 5122,   -999,   1324.9,   5.2316,  34.9111,2,  34.9143,2,     70.7,2,  5.1151,     72.2,2,    96.65,2,    36.47,2,     0.00,2,     2.75,2,    0.003,2,    0.001,2, -999.000,9,-999.0000,9,  -999.00,9,   -999.0,9,  -999.00,9,-999.000,9,   -999.9,9,   -999.9,9,  -999.0, -999.00,-999.0000,-999.000,-999.000
    316N145_10,  I07N,   767,  1,     19,     19,2,19950731,0841,  2.7998,  58.0615, 5122,   -999,   1546.9,   4.4900,  34.8846,2,  34.8863,2,     85.5,2,  4.3602,     85.3,2,   104.50,2,    36.19,2,     0.00,2,     2.73,2,    0.004,2,    0.003,2, -999.000,9,-999.0000,9,  -999.00,9,   -999.0,9,  -999.00,9,-999.000,9,   -999.9,9,   -999.9,9,  -999.0, -999.00,-999.0000,-999.000,-999.000
    316N145_10,  I07N,   767,  1,     18,     18,2,19950731,0841,  2.7998,  58.0615, 5122,   -999,   1800.9,   3.2469,  34.8111,2,  34.8112,2,    113.5,2,  3.1093,    113.3,2,   116.50,2,    35.50,2,     0.00,2,     2.63,2,    0.001,2,    0.001,2, -999.000,9,-999.0000,9,  -999.00,9,   -999.0,9,  -999.00,9,-999.000,9,   -999.9,9,   -999.9,9,  -999.0, -999.00,-999.0000,-999.000,-999.000
    316N145_10,  I07N,   767,  1,     17,     17,2,19950731,0841,  2.7998,  58.0615, 5122,   -999,   2003.1,   2.6382,  34.7813,2,  34.7789,2,    126.7,2,  2.4915,    128.8,2,   122.91,2,    35.03,2,     0.00,2,     2.57,2,   -0.001,2,   -0.001,2, -999.000,9,-999.0000,9,  -999.00,9,   -999.0,9,  -999.00,9,-999.000,9,   -999.9,9,   -999.9,9,  -999.0, -999.00,-999.0000,-999.000,-999.000
    316N145_10,  I07N,   767,  1,     16,     16,2,19950731,0841,  2.7998,  58.0615, 5122,   -999,   2038.5,   2.5899,  34.7787,2,  34.7792,2,    127.6,2,  2.4407,    130.2,2,   123.41,2,    34.94,2,     0.00,2,     2.56,2, -999.000,9, -999.000,9, -999.000,9,-999.0000,9,  -999.00,9,   -999.0,9,  -999.00,9,-999.000,9,   -999.9,9,   -999.9,9,  -999.0, -999.00,-999.0000,-999.000,-999.000
    316N145_10,  I07N,   767,  1,     15,     15,2,19950731,0841,  2.7998,  58.0615, 5122,   -999,   2200.4,   2.3463,  34.7659,2,  34.7655,2,    138.9,2,  2.1866,    137.8,2,   125.36,2,    34.71,2,     0.00,2,     2.53,2, -999.000,9, -999.000,9, -999.000,9,-999.0000,9,  -999.00,9,   -999.0,9,  -999.00,9,-999.000,9,   -999.9,9,   -999.9,9,  -999.0, -999.00,-999.0000,-999.000,-999.000
    316N145_10,  I07N,   767,  1,     14,     14,2,19950731,0841,  2.7998,  58.0615, 5122,   -999,   2396.2,   2.1203,  34.7532,2,  34.7539,2,    147.0,2,  1.9469,    146.4,2,   126.77,2,    34.44,2,     0.00,2,     2.48,2, -999.000,9, -999.000,9, -999.000,9,-999.0000,9,  -999.00,9,   -999.0,9,  -999.00,9,-999.000,9,   -999.9,9,   -999.9,9,  -999.0, -999.00,-999.0000,-999.000,-999.000
    316N145_10,  I07N,   767,  1,     13,     13,2,19950731,0841,  2.7998,  58.0615, 5122,   -999,   2696.1,   1.9245,  34.7458,2,  34.7457,2,    154.5,2,  1.7272,    152.3,2,   129.27,2,    34.21,2,     0.00,2,     2.46,2, -999.000,9, -999.000,9, -999.000,9,-999.0000,9,  -999.00,9,   -999.0,9,  -999.00,9,-999.000,9,   -999.9,9,   -999.9,9,  -999.0, -999.00,-999.0000,-999.000,-999.000
    316N145_10,  I07N,   767,  1,     12,     12,2,19950731,0841,  2.7998,  58.0615, 5122,   -999,   2898.6,   1.8356,  34.7416,2,  34.7429,2,    155.8,2,  1.6210,    155.7,2,   130.15,2,    34.16,2,     0.00,2,     2.45,2, -999.000,9, -999.000,9, -999.000,9,-999.0000,9,  -999.00,9,   -999.0,9,  -999.00,9,-999.000,9,   -999.9,9,   -999.9,9,  -999.0, -999.00,-999.0000,-999.000,-999.000
    316N145_10,  I07N,   767,  1,     11,     11,2,19950731,0841,  2.7998,  58.0615, 5122,   -999,   3152.4,   1.7300,  34.7373,2,  34.7386,2,    160.9,2,  1.4930,    161.1,2,   130.11,2,    33.88,2,     0.00,2,     2.42,2, -999.000,9, -999.000,9, -999.000,9,-999.0000,9,  -999.00,9,   -999.0,9,  -999.00,9,-999.000,9,   -999.9,9,   -999.9,9,  -999.0, -999.00,-999.0000,-999.000,-999.000
    316N145_10,  I07N,   767,  1,     10,     10,2,19950731,0841,  2.7998,  58.0615, 5122,   -999,   3299.6,   1.6710,  34.7337,2,  34.7335,2,    164.1,2,  1.4208,    164.3,2,   130.44,2,    33.79,2,     0.00,2,     2.41,2, -999.000,9, -999.000,9, -999.000,9,-999.0000,9,  -999.00,9,   -999.0,9,  -999.00,9,-999.000,9,   -999.9,9,   -999.9,9,  -999.0, -999.00,-999.0000,-999.000,-999.000
    316N145_10,  I07N,   767,  1,      9,      9,2,19950731,0841,  2.7998,  58.0615, 5122,   -999,   3499.7,   1.6020,  34.7304,2,  34.7294,2,    168.2,2,  1.3332,    168.4,2,   130.41,2,    33.56,2,     0.00,2,     2.39,2, -999.000,9, -999.000,9, -999.000,9,-999.0000,9,  -999.00,9,   -999.0,9,  -999.00,9,-999.000,9,   -999.9,9,   -999.9,9,  -999.0, -999.00,-999.0000,-999.000,-999.000
    316N145_10,  I07N,   767,  1,      8,      8,2,19950731,0841,  2.7998,  58.0615, 5122,   -999,   3697.8,   1.5537,  34.7266,2,  34.7268,2,    170.9,2,  1.2655,    171.0,2,   130.56,2,    33.52,2,     0.00,2,     2.39,2, -999.000,9, -999.000,9, -999.000,9,-999.0000,9,  -999.00,9,   -999.0,9,  -999.00,9,-999.000,9,   -999.9,9,   -999.9,9,  -999.0, -999.00,-999.0000,-999.000,-999.000
    316N145_10,  I07N,   767,  1,      7,      7,2,19950731,0841,  2.7998,  58.0615, 5122,   -999,   3989.6,   1.4965,  34.7244,2,  34.7241,2,    174.3,2,  1.1787,    175.0,2,   130.53,2,    33.24,2,     0.00,2,     2.36,2, -999.000,9, -999.000,9, -999.000,9,-999.0000,9,  -999.00,9,   -999.0,9,  -999.00,9,-999.000,9,   -999.9,9,   -999.9,9,  -999.0, -999.00,-999.0000,-999.000,-999.000
    316N145_10,  I07N,   767,  1,      6,      6,2,19950731,0841,  2.7998,  58.0615, 5122,   -999,   4296.8,   1.4287,  34.7204,2,  34.7198,2,    179.2,2,  1.0789,    179.4,2,   130.68,2,    33.20,2,     0.00,2,     2.36,2, -999.000,9, -999.000,9, -999.000,9,-999.0000,9,  -999.00,9,   -999.0,9,  -999.00,9,-999.000,9,   -999.9,9,   -999.9,9,  -999.0, -999.00,-999.0000,-999.000,-999.000
    316N145_10,  I07N,   767,  1,      5,      5,2,19950731,0841,  2.7998,  58.0615, 5122,   -999,   4593.5,   1.3971,  34.7187,2,  34.7172,2,    182.2,2,  1.0145,    182.3,2,   130.46,2,    33.06,2,     0.00,2,     2.35,2, -999.000,9, -999.000,9, -999.000,9,-999.0000,9,  -999.00,9,   -999.0,9,  -999.00,9,-999.000,9,   -999.9,9,   -999.9,9,  -999.0, -999.00,-999.0000,-999.000,-999.000
    316N145_10,  I07N,   767,  1,      4,      4,2,19950731,0841,  2.7998,  58.0615, 5122,   -999,   4896.5,   1.4068,  34.7182,2,  34.7178,2,    183.6,2,  0.9881,    183.6,2,   130.25,2,    32.93,2,     0.00,2,     2.33,2, -999.000,9, -999.000,9, -999.000,9,-999.0000,9,  -999.00,9,   -999.0,9,  -999.00,9,-999.000,9,   -999.9,9,   -999.9,9,  -999.0, -999.00,-999.0000,-999.000,-999.000
    316N145_10,  I07N,   767,  1,      3,      3,2,19950731,0841,  2.7998,  58.0615, 5122,   -999,   5111.3,   1.4257,  34.7183,2,  34.7170,2,    184.4,2,  0.9803,    184.1,2,   130.40,2,    32.98,2,     0.00,2,     2.33,2, -999.000,9, -999.000,9, -999.000,9,-999.0000,9,  -999.00,9,   -999.0,9,  -999.00,9,-999.000,9,   -999.9,9,   -999.9,9,  -999.0, -999.00,-999.0000,-999.000,-999.000
    316N145_10,  I07N,   767,  1,      2,      2,2,19950731,0841,  2.7998,  58.0615, 5122,   -999,   5187.4,   1.4355,  34.7175,2,  34.7188,2,    184.2,2,  0.9804,    184.2,2,   130.18,2,    32.98,2,     0.00,2,     2.33,2, -999.000,9, -999.000,9, -999.000,9,-999.0000,9,  -999.00,9,   -999.0,9,  -999.00,9,-999.000,9,   -999.9,9,   -999.9,9,  -999.0, -999.00,-999.0000,-999.000,-999.000
    316N145_10,  I07N,   767,  1,      1,      1,2,19950731,0841,  2.7998,  58.0615, 5122,   -999,   5214.4,   1.4379,  34.7173,2,  34.7180,2,    184.0,2,  0.9794,    184.1,2,   129.79,2,    33.03,2,     0.00,2,     2.33,2, -999.000,9, -999.000,9, -999.000,9,-999.0000,9,  -999.00,9,   -999.0,9,  -999.00,9,-999.000,9,   -999.9,9,   -999.9,9,  -999.0, -999.00,-999.0000,-999.000,-999.000