BOTTLE,20080821WHPSIOSCD
EXPOCODE,SECT_ID,STNNBR,CASTNO,SAMPNO,BTLNBR,BTLNBR_FLAG_W,DATE,TIME,LATITUDE,LONGITUDE,DEPTH,CTDRAW,CTDPRS,CTDTMP,CTDSAL,CTDSAL_FLAG_W,SALNTY,SALNTY_FLAG_W,CTDOXY,CTDOXY_FLAG_W,THETA,OXYGEN,OXYGEN_FLAG_W,SILCAT,SILCAT_FLAG_W,NITRAT,NITRAT_FLAG_W,NITRIT,NITRIT_FLAG_W,PHSPHT,PHSPHT_FLAG_W,CFC-11,CFC-11_FLAG_W,CFC-12,CFC-12_FLAG_W,TRITUM,TRITUM_FLAG_W,HELIUM,HELIUM_FLAG_W,DELHE3,DELHE3_FLAG_W,DELC14,DELC14_FLAG_W,DELC13,DELC13_FLAG_W,NEON,NEON_FLAG_W,TCARBN,TCARBN_FLAG_W,ALKALI,ALKALI_FLAG_W,C14ERR,DELHER,HELIER,NEONER,TRITER
,,,,,,,,,,,,,DBAR,ITS-90,PSS-78,,PSS-78,,UMOL/KG,,DEG C,UMOL/KG,,UMOL/KG,,UMOL/KG,,UMOL/KG,,UMOL/KG,,PMOL/KG,,PMOL/KG,,TU,,NMOL/KG,,PERCNT,,/MILLE,,/MILLE,,NMOL/KG,,UMOL/KG,,UMOL/KG,,/MILLE,PERCNT,NMOL/KG,NMOL/KG,TU
    316N145_10,  I07N,   742,  1,     36,     36,2,19950724,1200, -7.0385,  53.9592, 3888,   -999,      6.5,  26.3029,  35.1776,2,  35.1783,2,    206.7,2, 26.3017,    202.9,2,     2.91,2,     0.38,2,     0.00,2,     0.21,2,    1.754,2,    0.959,2, -999.000,9,-999.0000,9,  -999.00,9,   -999.0,9,  -999.00,9,-999.000,9,   1972.3,2,   2302.5,2,  -999.0, -999.00,-999.0000,-999.000,-999.000
    316N145_10,  I07N,   742,  1,     35,     35,2,19950724,1200, -7.0385,  53.9592, 3888,   -999,     31.7,  26.2480,  35.2046,2,  35.2066,2,    204.6,2, 26.2411,    201.0,2,     2.89,2,     0.47,2,     0.01,2,     0.22,2,    1.747,2,    0.975,2, -999.000,9,-999.0000,9,  -999.00,9,   -999.0,9,  -999.00,9,-999.000,9,   1976.0,2,   2309.8,2,  -999.0, -999.00,-999.0000,-999.000,-999.000
    316N145_10,  I07N,   742,  1,     34,     34,2,19950724,1200, -7.0385,  53.9592, 3888,   -999,     57.4,  21.4695,  35.1878,2,  35.1885,2,    154.5,2, 21.4585,    139.9,2,    10.15,2,     9.94,2,     0.51,2,     0.84,2, -999.000,9, -999.000,9, -999.000,9,-999.0000,9,  -999.00,9,   -999.0,9,  -999.00,9,-999.000,9,   -999.9,5,   2310.4,2,  -999.0, -999.00,-999.0000,-999.000,-999.000
    316N145_10,  I07N,   742,  1,     33,     33,2,19950724,1200, -7.0385,  53.9592, 3888,   -999,     87.9,  17.0968,  35.1773,2,  35.1731,2,    105.4,2, 17.0824,    105.2,2,    15.72,2,    17.81,2,     0.01,2,     1.27,2,    1.426,2,    0.748,2, -999.000,9,-999.0000,9,  -999.00,9,   -999.0,9,  -999.00,9,-999.000,9,   2137.8,2,   2314.7,2,  -999.0, -999.00,-999.0000,-999.000,-999.000
    316N145_10,  I07N,   742,  1,     32,     32,2,19950724,1200, -7.0385,  53.9592, 3888,   -999,    147.5,  13.7798,  35.1201,2,  35.1216,2,    115.6,2, 13.7589,    117.0,2,    17.73,2,    19.61,2,     0.00,2,     1.40,2,    1.323,2,    0.684,2, -999.000,9,-999.0000,9,  -999.00,9,   -999.0,9,  -999.00,9,-999.000,9,   2158.7,2,   2304.6,3,  -999.0, -999.00,-999.0000,-999.000,-999.000
    316N145_10,  I07N,   742,  1,     31,     31,2,19950724,1200, -7.0385,  53.9592, 3888,   -999,    187.9,  13.1072,  35.0876,2,  35.0895,2,    119.2,2, 13.0813,    120.1,2,    18.22,2,    20.24,2,     0.00,2,     1.44,2,    1.264,2,    0.645,2, -999.000,9,-999.0000,9,  -999.00,9,   -999.0,9,  -999.00,9,-999.000,9,   2161.9,2,   2316.6,2,  -999.0, -999.00,-999.0000,-999.000,-999.000
    316N145_10,  I07N,   742,  1,     30,     30,2,19950724,1200, -7.0385,  53.9592, 3888,   -999,    247.5,  11.8065,  34.9968,2,  34.9965,2,    126.1,2, 11.7746,    122.8,2,    20.41,2,    21.90,2,     0.00,2,     1.54,2,    1.076,2,    0.532,2, -999.000,9,-999.0000,9,  -999.00,9,   -999.0,9,  -999.00,9,-999.000,9,   2171.8,2,   2315.2,2,  -999.0, -999.00,-999.0000,-999.000,-999.000
    316N145_10,  I07N,   742,  1,     29,     29,2,19950724,1200, -7.0385,  53.9592, 3888,   -999,    297.8,  11.0858,  34.9433,2,  34.9431,2,    131.0,2, 11.0489,    128.1,2,    21.24,2,    22.66,2,     0.00,2,     1.58,2,    1.015,2,    0.518,2, -999.000,9,-999.0000,9,  -999.00,9,   -999.0,9,  -999.00,9,-999.000,9,   2174.1,2,   2312.4,2,  -999.0, -999.00,-999.0000,-999.000,-999.000
    316N145_10,  I07N,   742,  1,     28,     28,2,19950724,1200, -7.0385,  53.9592, 3888,   -999,    347.7,  10.4484,  34.9019,2,  34.9014,2,    117.3,2, 10.4068,    121.4,2,    23.93,2,    24.64,2,     0.00,2,     1.72,2,    0.782,2,    0.389,2, -999.000,9,-999.0000,9,  -999.00,9,   -999.0,9,  -999.00,9,-999.000,9,   2183.3,2,   2312.1,2,  -999.0, -999.00,-999.0000,-999.000,-999.000
    316N145_10,  I07N,   742,  1,     27,     27,2,19950724,1200, -7.0385,  53.9592, 3888,   -999,    403.3,   9.9933,  34.8651,2,  34.8659,2,    123.7,2,  9.9462,    125.2,2,    25.78,2,    25.19,2,     0.00,2,     1.76,2,    0.735,2,    0.374,2, -999.000,9,-999.0000,9,  -999.00,9,   -999.0,9,  -999.00,9,-999.000,9,   2186.3,2,   2313.7,2,  -999.0, -999.00,-999.0000,-999.000,-999.000
    316N145_10,  I07N,   742,  1,     26,     26,2,19950724,1200, -7.0385,  53.9592, 3888,   -999,    523.8,   8.9280,  34.8047,2,  34.8050,2,    116.0,2,  8.8706,    118.7,2,    34.41,2,    27.89,2,     0.00,2,     1.99,2,    0.454,2,    0.232,2, -999.000,9,-999.0000,9,  -999.00,9,   -999.0,9,  -999.00,9,-999.000,9,   -999.9,5,   2323.2,2,  -999.0, -999.00,-999.0000,-999.000,-999.000
    316N145_10,  I07N,   742,  1,     25,     25,2,19950724,1200, -7.0385,  53.9592, 3888,   -999,    609.4,   8.2676,  34.7972,2,  34.7969,2,    102.3,2,  8.2033,    103.4,2,    44.57,2,    30.48,2,     0.00,2,     2.20,2,    0.240,2,    0.133,2, -999.000,9,-999.0000,9,  -999.00,9,   -999.0,9,  -999.00,9,-999.000,9,   2225.5,2,   2330.4,2,  -999.0, -999.00,-999.0000,-999.000,-999.000
    316N145_10,  I07N,   742,  1,     24,     24,2,19950724,1200, -7.0385,  53.9592, 3888,   -999,    697.7,   7.6884,  34.8083,2,  34.8093,2,     93.7,2,  7.6174,     94.5,2,    53.91,2,    32.07,2,     0.00,2,     2.35,2,    0.159,2,    0.079,2, -999.000,9,-999.0000,9,  -999.00,9,   -999.0,9,  -999.00,9,-999.000,9,   -999.9,5,   2340.1,2,  -999.0, -999.00,-999.0000,-999.000,-999.000
    316N145_10,  I07N,   742,  1,     23,     23,2,19950724,1200, -7.0385,  53.9592, 3888,   -999,    837.9,   7.1217,  34.8252,2,  34.8252,2,     83.8,2,  7.0391,     82.8,2,    65.31,2,    33.99,2,     0.00,2,     2.52,2,    0.065,2,    0.038,2, -999.000,9,-999.0000,9,  -999.00,9,   -999.0,9,  -999.00,9,-999.000,9,   2262.5,2,   2346.8,2,  -999.0, -999.00,-999.0000,-999.000,-999.000
    316N145_10,  I07N,   742,  1,     22,     22,2,19950724,1200, -7.0385,  53.9592, 3888,   -999,    947.8,   6.4632,  34.8203,2,  34.8175,2,     81.0,2,  6.3737,     82.5,2,    74.55,2,    34.91,2,     0.00,2,     2.59,2,    0.033,2,    0.024,2, -999.000,9,-999.0000,9,  -999.00,9,   -999.0,9,  -999.00,9,-999.000,9,   2273.8,2,   2387.9,3,  -999.0, -999.00,-999.0000,-999.000,-999.000
    316N145_10,  I07N,   742,  1,     21,     21,2,19950724,1200, -7.0385,  53.9592, 3888,   -999,   1037.6,   5.7201,  34.7841,2,  34.7839,2,     88.3,2,  5.6274,     89.6,2,    81.76,2,    35.15,2,     0.00,2,     2.61,2,    0.019,2,    0.008,2, -999.000,9,-999.0000,9,  -999.00,9,   -999.0,9,  -999.00,9,-999.000,9,   2280.8,2,   2361.4,2,  -999.0, -999.00,-999.0000,-999.000,-999.000
    316N145_10,  I07N,   742,  1,     20,     20,2,19950724,1200, -7.0385,  53.9592, 3888,   -999,   1248.6,   4.9289,  34.8076,2,  34.8074,2,     96.4,2,  4.8228,     93.9,2,    92.82,2,    35.66,2,     0.00,2,     2.66,2,    0.005,2,    0.002,2, -999.000,9,-999.0000,9,  -999.00,9,   -999.0,9,  -999.00,9,-999.000,9,   2293.3,2,   2363.9,3,  -999.0, -999.00,-999.0000,-999.000,-999.000
    316N145_10,  I07N,   742,  1,     19,     19,2,19950724,1200, -7.0385,  53.9592, 3888,   -999,   1399.5,   4.2971,  34.7850,2,  34.7858,2,    105.8,2,  4.1834,    106.3,2,    98.56,2,    35.44,2,     0.00,2,     2.62,2,    0.003,2,    0.002,2, -999.000,9,-999.0000,9,  -999.00,9,   -999.0,9,  -999.00,9,-999.000,9,   2295.5,2,   2382.7,2,  -999.0, -999.00,-999.0000,-999.000,-999.000
    316N145_10,  I07N,   742,  1,     18,     18,2,19950724,1200, -7.0385,  53.9592, 3888,   -999,   1500.7,   3.9901,  34.7789,2,  34.7797,2,    111.8,2,  3.8705,    112.7,2,   102.04,2,    35.35,2,     0.00,2,     2.61,2,    0.002,2,    0.002,2, -999.000,9,-999.0000,9,  -999.00,9,   -999.0,9,  -999.00,9,-999.000,9,   2296.7,2,   2386.3,2,  -999.0, -999.00,-999.0000,-999.000,-999.000
    316N145_10,  I07N,   742,  1,     17,     17,2,19950724,1200, -7.0385,  53.9592, 3888,   -999,   1601.2,   3.6552,  34.7697,2,  34.7695,2,    120.0,2,  3.5305,    118.8,2,   105.19,2,    35.18,2,     0.00,2,     2.59,2,    0.003,2,    0.001,2, -999.000,9,-999.0000,9,  -999.00,9,   -999.0,9,  -999.00,9,-999.000,9,   2297.2,2,   2385.0,2,  -999.0, -999.00,-999.0000,-999.000,-999.000
    316N145_10,  I07N,   742,  1,     16,     16,2,19950724,1200, -7.0385,  53.9592, 3888,   -999,   1697.0,   3.4000,  34.7599,2,  34.7599,2,    130.1,2,  3.2699,    126.0,2,   106.59,2,    34.91,2,     0.00,2,     2.55,2,    0.001,2,    0.001,2, -999.000,9,-999.0000,9,  -999.00,9,   -999.0,9,  -999.00,9,-999.000,9,   2296.2,2,   2389.5,2,  -999.0, -999.00,-999.0000,-999.000,-999.000
    316N145_10,  I07N,   742,  1,     15,     15,2,19950724,1200, -7.0385,  53.9592, 3888,   -999,   1799.2,   3.0978,  34.7563,2,  34.7555,2,    133.9,2,  2.9626,    131.7,2,   110.46,2,    34.73,2,     0.00,2,     2.53,2, -999.000,9, -999.000,9, -999.000,9,-999.0000,9,  -999.00,9,   -999.0,9,  -999.00,9,-999.000,9,   -999.9,5,   2407.9,3,  -999.0, -999.00,-999.0000,-999.000,-999.000
    316N145_10,  I07N,   742,  1,     14,     14,2,19950724,1200, -7.0385,  53.9592, 3888,   -999,   1899.4,   2.9014,  34.7527,2,  34.7522,2,    136.5,2,  2.7601,    137.0,2,   112.21,2,    34.56,2,     0.00,2,     2.51,2, -999.000,9, -999.000,9, -999.000,9,-999.0000,9,  -999.00,9,   -999.0,9,  -999.00,9,-999.000,9,   2297.2,2,   2392.4,2,  -999.0, -999.00,-999.0000,-999.000,-999.000
    316N145_10,  I07N,   742,  1,     13,     13,2,19950724,1200, -7.0385,  53.9592, 3888,   -999,   2001.0,   2.7047,  34.7496,2,  34.7494,2,    141.2,2,  2.5572,    141.1,2,   115.22,2,    34.47,2,     0.00,2,     2.49,2, -999.000,9, -999.000,9, -999.000,9,-999.0000,9,  -999.00,9,   -999.0,9,  -999.00,9,-999.000,9,   2298.3,2,   2396.5,2,  -999.0, -999.00,-999.0000,-999.000,-999.000
    316N145_10,  I07N,   742,  1,     12,     12,2,19950724,1200, -7.0385,  53.9592, 3888,   -999,   2100.0,   2.5458,  34.7470,2,  34.7468,2,    144.9,2,  2.3919,    146.0,2,   116.63,2,    34.29,2,     0.00,2,     2.48,2, -999.000,9, -999.000,9, -999.000,9,-999.0000,9,  -999.00,9,   -999.0,9,  -999.00,9,-999.000,9,   -999.9,5,   2396.0,2,  -999.0, -999.00,-999.0000,-999.000,-999.000
    316N145_10,  I07N,   742,  1,     11,     11,2,19950724,1200, -7.0385,  53.9592, 3888,   -999,   2195.8,   2.3754,  34.7467,2,  34.7451,2,    147.8,2,  2.2157,    148.0,2,   119.83,2,    34.30,2,     0.00,2,     2.48,2, -999.000,9, -999.000,9, -999.000,9,-999.0000,9,  -999.00,9,   -999.0,9,  -999.00,9,-999.000,9,   2299.4,2,   2402.2,2,  -999.0, -999.00,-999.0000,-999.000,-999.000
    316N145_10,  I07N,   742,  1,     10,     10,2,19950724,1200, -7.0385,  53.9592, 3888,   -999,   2397.8,   2.1032,  34.7434,2,  34.7427,2,    154.8,2,  1.9300,    154.1,2,   123.58,2,    34.12,2,     0.00,2,     2.45,2, -999.000,9, -999.000,9, -999.000,9,-999.0000,9,  -999.00,9,   -999.0,9,  -999.00,9,-999.000,9,   -999.9,5,   2403.5,2,  -999.0, -999.00,-999.0000,-999.000,-999.000
    316N145_10,  I07N,   742,  1,      9,      9,2,19950724,1200, -7.0385,  53.9592, 3888,   -999,   2597.8,   1.9649,  34.7404,2,  34.7395,2,    156.8,2,  1.7760,    157.4,2,   125.91,2,    34.04,2,     0.00,2,     2.45,2, -999.000,9, -999.000,9, -999.000,9,-999.0000,9,  -999.00,9,   -999.0,9,  -999.00,9,-999.000,9,   2301.9,2,   2406.3,2,  -999.0, -999.00,-999.0000,-999.000,-999.000
    316N145_10,  I07N,   742,  1,      8,      8,2,19950724,1200, -7.0385,  53.9592, 3888,   -999,   2800.7,   1.8510,  34.7377,2,  34.7378,2,    158.2,2,  1.6454,    160.8,2,   127.70,2,    33.96,2,     0.00,2,     2.44,2, -999.000,9, -999.000,9, -999.000,9,-999.0000,9,  -999.00,9,   -999.0,9,  -999.00,9,-999.000,9,   2302.1,2,   2409.1,2,  -999.0, -999.00,-999.0000,-999.000,-999.000
    316N145_10,  I07N,   742,  1,      7,      7,2,19950724,1200, -7.0385,  53.9592, 3888,   -999,   2997.3,   1.7786,  34.7358,2,  34.7344,2,    163.2,2,  1.5557,    163.5,2,   128.77,2,    33.78,2,     0.00,2,     2.43,2, -999.000,9, -999.000,9, -999.000,9,-999.0000,9,  -999.00,9,   -999.0,9,  -999.00,9,-999.000,9,   2300.5,2,   2409.7,2,  -999.0, -999.00,-999.0000,-999.000,-999.000
    316N145_10,  I07N,   742,  1,      6,      6,2,19950724,1200, -7.0385,  53.9592, 3888,   -999,   3201.0,   1.7110,  34.7340,2,  34.7322,2,    165.8,2,  1.4697,    166.0,2,   129.85,2,    33.79,2,     0.00,2,     2.41,2, -999.000,9, -999.000,9, -999.000,9,-999.0000,9,  -999.00,9,   -999.0,9,  -999.00,9,-999.000,9,   -999.9,5,   2407.9,2,  -999.0, -999.00,-999.0000,-999.000,-999.000
    316N145_10,  I07N,   742,  1,      5,      5,2,19950724,1200, -7.0385,  53.9592, 3888,   -999,   3400.4,   1.6618,  34.7311,2,  34.7306,2,    167.5,2,  1.4016,    168.0,2,   129.83,2,    33.70,2,     0.00,2,     2.40,2, -999.000,9, -999.000,9, -999.000,9,-999.0000,9,  -999.00,9,   -999.0,9,  -999.00,9,-999.000,9,   2298.5,2,   2407.5,2,  -999.0, -999.00,-999.0000,-999.000,-999.000
    316N145_10,  I07N,   742,  1,      4,      4,2,19950724,1200, -7.0385,  53.9592, 3888,   -999,   3593.5,   1.6181,  34.7307,2,  34.7289,2,    169.7,2,  1.3392,    170.3,2,   131.09,2,    33.62,2,     0.00,2,     2.38,2, -999.000,9, -999.000,9, -999.000,9,-999.0000,9,  -999.00,9,   -999.0,9,  -999.00,9,-999.000,9,   2297.5,2,   2406.9,2,  -999.0, -999.00,-999.0000,-999.000,-999.000
    316N145_10,  I07N,   742,  1,      3,      3,2,19950724,1200, -7.0385,  53.9592, 3888,   -999,   3798.2,   1.5456,  34.7269,2,  34.7249,2,    174.0,2,  1.2470,    174.0,2,   131.44,2,    33.58,2,     0.00,2,     2.37,2, -999.000,9, -999.000,9, -999.000,9,-999.0000,9,  -999.00,9,   -999.0,9,  -999.00,9,-999.000,9,   2295.3,2,   2406.5,2,  -999.0, -999.00,-999.0000,-999.000,-999.000
    316N145_10,  I07N,   742,  1,      2,      2,2,19950724,1200, -7.0385,  53.9592, 3888,   -999,   3914.8,   1.5046,  34.7253,2,  34.7237,2,    176.9,2,  1.1946,    176.6,2,   131.43,2,    33.45,2,     0.00,2,     2.36,2, -999.000,9, -999.000,9, -999.000,9,-999.0000,9,  -999.00,9,   -999.0,9,  -999.00,9,-999.000,9,   2294.8,2,   2405.7,2,  -999.0, -999.00,-999.0000,-999.000,-999.000
    316N145_10,  I07N,   742,  1,      1,      1,2,19950724,1200, -7.0385,  53.9592, 3888,   -999,   3942.2,   1.5067,  34.7262,2,  34.7243,2,    176.9,2,  1.1937,    176.0,2,   131.24,2,    33.45,2,     0.00,2,     2.36,2, -999.000,9, -999.000,9, -999.000,9,-999.0000,9,  -999.00,9,   -999.0,9,  -999.00,9,-999.000,9,   2294.7,2,   2404.3,2,  -999.0, -999.00,-999.0000,-999.000,-999.000