BOTTLE,20080821WHPSIOSCD
EXPOCODE,SECT_ID,STNNBR,CASTNO,SAMPNO,BTLNBR,BTLNBR_FLAG_W,DATE,TIME,LATITUDE,LONGITUDE,DEPTH,CTDRAW,CTDPRS,CTDTMP,CTDSAL,CTDSAL_FLAG_W,SALNTY,SALNTY_FLAG_W,CTDOXY,CTDOXY_FLAG_W,THETA,OXYGEN,OXYGEN_FLAG_W,SILCAT,SILCAT_FLAG_W,NITRAT,NITRAT_FLAG_W,NITRIT,NITRIT_FLAG_W,PHSPHT,PHSPHT_FLAG_W,CFC-11,CFC-11_FLAG_W,CFC-12,CFC-12_FLAG_W,TRITUM,TRITUM_FLAG_W,HELIUM,HELIUM_FLAG_W,DELHE3,DELHE3_FLAG_W,DELC14,DELC14_FLAG_W,DELC13,DELC13_FLAG_W,NEON,NEON_FLAG_W,TCARBN,TCARBN_FLAG_W,ALKALI,ALKALI_FLAG_W,C14ERR,DELHER,HELIER,NEONER,TRITER
,,,,,,,,,,,,,DBAR,ITS-90,PSS-78,,PSS-78,,UMOL/KG,,DEG C,UMOL/KG,,UMOL/KG,,UMOL/KG,,UMOL/KG,,UMOL/KG,,PMOL/KG,,PMOL/KG,,TU,,NMOL/KG,,PERCNT,,/MILLE,,/MILLE,,NMOL/KG,,UMOL/KG,,UMOL/KG,,/MILLE,PERCNT,NMOL/KG,NMOL/KG,TU
    316N145_10,  I07N,   728,  1,     36,     36,2,19950721,0321, -9.8157,  52.0942, 4218,   -999,      8.3,  25.9713,  35.2215,2,  35.2227,2,    202.7,2, 25.9696,    199.3,2,     4.05,2,     1.12,2,     0.05,2,     0.24,2,    1.704,2,    0.944,2, -999.000,9,-999.0000,9,  -999.00,9,     58.8,2,     1.29,2,-999.000,9,   1979.4,2,   2310.1,2,     3.4, -999.00,-999.0000,-999.000,-999.000
    316N145_10,  I07N,   728,  1,     35,     35,2,19950721,0321, -9.8157,  52.0942, 4218,   -999,     37.0,  25.9695,  35.2211,2,  35.2193,2,    198.8,2, 25.9615,    199.0,2,     4.04,2,     1.11,2,     0.05,2,     0.25,2, -999.000,9, -999.000,9, -999.000,9,-999.0000,9,  -999.00,9,   -999.0,9,  -999.00,9,-999.000,9,   1981.6,2,   2303.6,2,  -999.0, -999.00,-999.0000,-999.000,-999.000
    316N145_10,  I07N,   728,  1,     34,     34,2,19950721,0321, -9.8157,  52.0942, 4218,   -999,     63.7,  24.8578,  35.2045,2,  35.2012,2,    185.5,2, 24.8442,    184.6,2,     5.24,2,     3.07,2,     0.16,2,     0.37,2,    1.657,2,    0.916,2, -999.000,9,-999.0000,9,  -999.00,9,     60.2,2,     1.16,2,-999.000,9,   2003.6,2,   2305.2,2,     4.1, -999.00,-999.0000,-999.000,-999.000
    316N145_10,  I07N,   728,  1,     33,     33,2,19950721,0321, -9.8157,  52.0942, 4218,   -999,     87.1,  19.5457,  35.3102,2,  35.3080,2,    146.1,2, 19.5301,    144.1,2,    10.07,2,     9.47,2,     0.26,2,     0.74,2, -999.000,9, -999.000,9, -999.000,9,-999.0000,9,  -999.00,9,     60.6,2,     0.56,2,-999.000,9,   2081.2,2,   2315.9,2,     3.5, -999.00,-999.0000,-999.000,-999.000
    316N145_10,  I07N,   728,  1,     32,     32,2,19950721,0321, -9.8157,  52.0942, 4218,   -999,    107.2,  18.0731,  35.2893,2,  35.2882,2,    131.2,2, 18.0549,    129.1,2,    12.66,2,    12.88,2,     0.06,2,     0.94,2,    1.638,2,    0.873,2, -999.000,9,-999.0000,9,  -999.00,9,     53.8,2,     0.47,2,-999.000,9,   2106.0,2,   2315.5,2,     3.5, -999.00,-999.0000,-999.000,-999.000
    316N145_10,  I07N,   728,  1,     31,     31,2,19950721,0321, -9.8157,  52.0942, 4218,   -999,    132.4,  16.8767,  35.2282,2,  35.2229,2,    116.3,2, 16.8551,    111.8,2,    15.25,2,    16.70,2,     0.02,2,     1.19,2, -999.000,9, -999.000,9, -999.000,9,-999.0000,9,  -999.00,9,   -999.0,9,  -999.00,9,-999.000,9,   2134.9,2,   2314.5,2,  -999.0, -999.00,-999.0000,-999.000,-999.000
    316N145_10,  I07N,   728,  1,     30,     30,2,19950721,0321, -9.8157,  52.0942, 4218,   -999,    152.6,  15.8361,  35.1876,2,  35.1867,2,    104.6,2, 15.8123,    106.9,2,    16.44,2,    18.38,2,     0.01,2,     1.30,2,    1.377,2,    0.727,2, -999.000,9,-999.0000,9,  -999.00,9,     31.0,2,     0.49,2,-999.000,9,   2147.7,2,   2314.7,2,     4.3, -999.00,-999.0000,-999.000,-999.000
    316N145_10,  I07N,   728,  1,     29,     29,2,19950721,0321, -9.8157,  52.0942, 4218,   -999,    201.0,  13.9686,  35.1166,2,  35.1163,2,    112.6,2, 13.9398,    114.4,2,    18.34,2,    19.70,2,     0.01,2,     1.40,2,    1.276,2,    0.666,2, -999.000,9,-999.0000,9,  -999.00,9,     38.5,2,     0.50,2,-999.000,9,   2159.7,2,   2324.0,2,     6.3, -999.00,-999.0000,-999.000,-999.000
    316N145_10,  I07N,   728,  1,     28,     28,2,19950721,0321, -9.8157,  52.0942, 4218,   -999,    252.5,  12.9520,  35.0650,2,  35.0646,2,    120.3,2, 12.9175,    123.7,2,    19.01,2,    20.10,2,     0.00,2,     1.42,2,    1.243,2,    0.636,2, -999.000,9,-999.0000,9,  -999.00,9,   -999.0,9,  -999.00,9,-999.000,9,   2161.0,2,   2314.3,2,  -999.0, -999.00,-999.0000,-999.000,-999.000
    316N145_10,  I07N,   728,  1,     27,     27,2,19950721,0321, -9.8157,  52.0942, 4218,   -999,    303.0,  11.4214,  34.9597,2,  34.9612,2,    138.4,2, 11.3832,    140.6,2,    20.73,2,    20.90,2,     0.00,2,     1.48,2,    1.191,2,    0.605,2, -999.000,9,-999.0000,9,  -999.00,9,     20.1,2,     0.68,2,-999.000,9,   2163.5,2,   2311.8,2,     5.7, -999.00,-999.0000,-999.000,-999.000
    316N145_10,  I07N,   728,  1,     26,     26,2,19950721,0321, -9.8157,  52.0942, 4218,   -999,    373.1,  10.3400,  34.8802,2,  34.8801,2,    141.6,2, 10.2958,    143.5,2,    23.84,2,    22.62,2,     0.00,2,     1.60,2,    1.024,2,    0.521,2, -999.000,9,-999.0000,9,  -999.00,9,     -5.7,2,     0.75,2,-999.000,9,   2172.6,2,   2313.0,2,     4.9, -999.00,-999.0000,-999.000,-999.000
    316N145_10,  I07N,   728,  1,     25,     25,2,19950721,0321, -9.8157,  52.0942, 4218,   -999,    498.2,   9.2538,  34.8062,2,  34.8076,2,    132.0,2,  9.1983,    133.3,2,    30.06,2,    25.72,2,     0.00,2,     1.82,2,    0.671,2,    0.346,2, -999.000,9,-999.0000,9,  -999.00,9,    -32.4,2,     0.71,2,-999.000,9,   2190.7,2,   2319.5,2,     5.6, -999.00,-999.0000,-999.000,-999.000
    316N145_10,  I07N,   728,  1,     24,     24,2,19950721,0321, -9.8157,  52.0942, 4218,   -999,    609.4,   8.0028,  34.7070,2,  34.7087,2,    142.3,2,  7.9401,    144.5,2,    35.43,2,    27.10,2,     0.00,2,     1.94,2,    0.528,2,    0.279,2, -999.000,9,-999.0000,9,  -999.00,9,    -61.0,2,     0.74,2,-999.000,9,   2196.6,2,   2318.6,2,     3.6, -999.00,-999.0000,-999.000,-999.000
    316N145_10,  I07N,   728,  1,     23,     23,2,19950721,0321, -9.8157,  52.0942, 4218,   -999,    700.9,   7.3478,  34.7624,2,  34.7631,2,    103.4,2,  7.2785,    104.1,2,    55.39,2,    31.69,2,     0.00,2,     2.31,2,    0.157,2,    0.087,2, -999.000,9,-999.0000,9,  -999.00,9,    -98.2,2,     0.43,2,-999.000,9,   2241.2,2,   2334.6,2,     3.7, -999.00,-999.0000,-999.000,-999.000
    316N145_10,  I07N,   728,  1,     22,     22,2,19950721,0321, -9.8157,  52.0942, 4218,   -999,    761.1,   7.1505,  34.7692,2,  34.7692,2,    100.9,2,  7.0760,    102.5,2,    58.68,2,    32.19,2,     0.00,2,     2.35,2, -999.000,9, -999.000,9, -999.000,9,-999.0000,9,  -999.00,9,   -999.0,9,  -999.00,9,-999.000,9,   2245.1,2,   2339.7,2,  -999.0, -999.00,-999.0000,-999.000,-999.000
    316N145_10,  I07N,   728,  1,     21,     21,2,19950721,0321, -9.8157,  52.0942, 4218,   -999,    809.7,   6.7793,  34.7764,2,  34.7770,2,     96.5,2,  6.7020,     95.3,2,    65.46,2,    33.31,2,     0.00,2,     2.45,2,    0.081,2,    0.038,2, -999.000,9,-999.0000,9,  -999.00,9,   -107.5,2,     0.34,2,-999.000,9,   2258.9,2,   2343.6,2,     6.6, -999.00,-999.0000,-999.000,-999.000
    316N145_10,  I07N,   728,  1,     20,     20,2,19950721,0321, -9.8157,  52.0942, 4218,   -999,    902.9,   6.4314,  34.7904,2,  34.7921,2,     89.8,2,  6.3470,     88.1,2,    73.14,2,    34.30,2,     0.00,2,     2.54,2,    0.041,2,    0.019,2, -999.000,9,-999.0000,9,  -999.00,9,   -999.0,9,  -999.00,9,-999.000,9,   2270.6,2,   2354.3,2,  -999.0, -999.00,-999.0000,-999.000,-999.000
    316N145_10,  I07N,   728,  1,     19,     19,2,19950721,0321, -9.8157,  52.0942, 4218,   -999,   1001.6,   5.7976,  34.7824,2,  34.7845,2,     84.9,2,  5.7081,     90.1,2,    81.72,2,    34.93,2,     0.00,2,     2.60,2, -999.000,9, -999.000,9, -999.000,9,-999.0000,9,  -999.00,9,   -151.0,2,    -0.28,4,-999.000,9,   2280.7,2,   2361.9,2,     6.9, -999.00,-999.0000,-999.000,-999.000
    316N145_10,  I07N,   728,  1,     18,     18,2,19950721,0321, -9.8157,  52.0942, 4218,   -999,   1042.8,   5.5662,  34.7799,2,  34.7819,2,     91.9,2,  5.4745,     93.3,2,    83.81,2,    35.07,2,     0.00,2,     2.61,2,    0.016,2,    0.002,2, -999.000,9,-999.0000,9,  -999.00,9,   -999.0,9,  -999.00,9,-999.000,9,   2281.6,2,   2364.5,2,  -999.0, -999.00,-999.0000,-999.000,-999.000
    316N145_10,  I07N,   728,  1,     17,     17,2,19950721,0321, -9.8157,  52.0942, 4218,   -999,   1194.2,   4.7292,  34.7451,2,  34.7468,2,    104.0,2,  4.6304,    108.7,2,    89.26,2,    34.89,2,     0.00,2,     2.56,2,    0.013,2,   -0.001,2, -999.000,9,-999.0000,9,  -999.00,9,   -152.4,2,     0.24,2,-999.000,9,   2283.8,2,   2366.8,2,     3.9, -999.00,-999.0000,-999.000,-999.000
    316N145_10,  I07N,   728,  1,     16,     16,2,19950721,0321, -9.8157,  52.0942, 4218,   -999,   1298.7,   4.2996,  34.7398,2,  34.7448,2,    117.8,2,  4.1955,    115.3,2,    93.49,2,    34.76,2,     0.00,2,     2.55,2,    0.007,2,    0.005,2, -999.000,9,-999.0000,9,  -999.00,9,   -175.3,2,     0.25,2,-999.000,9,   2286.0,2,   2373.0,2,     5.8, -999.00,-999.0000,-999.000,-999.000
    316N145_10,  I07N,   728,  1,     15,     15,2,19950721,0321, -9.8157,  52.0942, 4218,   -999,   1501.4,   3.5995,  34.7263,2,  34.7283,2,    130.5,2,  3.4849,    130.9,2,    98.80,2,    34.40,2,     0.00,2,     2.52,2,   -0.003,2,    0.005,2, -999.000,9,-999.0000,9,  -999.00,9,   -191.9,2,     0.28,2,-999.000,9,   2284.6,2,   2375.5,2,     6.1, -999.00,-999.0000,-999.000,-999.000
    316N145_10,  I07N,   728,  1,     14,     14,2,19950721,0321, -9.8157,  52.0942, 4218,   -999,   1695.6,   2.9411,  34.7255,2,  34.7276,2,    143.8,2,  2.8176,    143.9,2,   106.28,2,    33.95,2,     0.00,2,     2.47,2,   -0.001,2,   -0.003,2, -999.000,9,-999.0000,9,  -999.00,9,   -999.0,9,  -999.00,9,-999.000,9,   2288.1,2,   2385.8,2,  -999.0, -999.00,-999.0000,-999.000,-999.000
    316N145_10,  I07N,   728,  1,     13,     13,2,19950721,0321, -9.8157,  52.0942, 4218,   -999,   1899.9,   2.4783,  34.7364,2,  34.7358,2,    151.4,2,  2.3404,    149.9,2,   114.71,2,    33.81,2,     0.00,2,     2.45,2,    0.001,2,   -0.002,2, -999.000,9,-999.0000,9,  -999.00,9,   -999.0,9,  -999.00,9,-999.000,9,   2293.0,2,   2395.1,2,  -999.0, -999.00,-999.0000,-999.000,-999.000
    316N145_10,  I07N,   728,  1,     12,     12,2,19950721,0321, -9.8157,  52.0942, 4218,   -999,   2097.7,   2.2811,  34.7410,2,  34.7407,2,    151.5,2,  2.1290,    152.2,2,   119.40,2,    33.81,2,     0.00,2,     2.44,2,   -0.001,2,   -0.003,2, -999.000,9,-999.0000,9,  -999.00,9,   -999.0,9,  -999.00,9,-999.000,9,   2298.0,2,   2396.8,2,  -999.0, -999.00,-999.0000,-999.000,-999.000
    316N145_10,  I07N,   728,  1,     11,     11,2,19950721,0321, -9.8157,  52.0942, 4218,   -999,   2297.8,   2.1330,  34.7427,2,  34.7417,2,    154.3,2,  1.9661,    154.0,2,   123.38,2,    33.91,2,     0.00,2,     2.44,2, -999.000,9, -999.000,9, -999.000,9,-999.0000,9,  -999.00,9,   -999.0,9,  -999.00,9,-999.000,9,   2301.0,2,   2404.2,2,  -999.0, -999.00,-999.0000,-999.000,-999.000
    316N145_10,  I07N,   728,  1,     10,     10,2,19950721,0321, -9.8157,  52.0942, 4218,   -999,   2496.6,   2.0099,  34.7434,2,  34.7431,2,    156.2,2,  1.8267,    155.2,2,   126.83,2,    33.95,2,     0.00,2,     2.45,2, -999.000,9, -999.000,9, -999.000,9,-999.0000,9,  -999.00,9,   -999.0,9,  -999.00,9,-999.000,9,   2304.6,2,   2408.3,2,  -999.0, -999.00,-999.0000,-999.000,-999.000
    316N145_10,  I07N,   728,  1,      9,      9,2,19950721,0321, -9.8157,  52.0942, 4218,   -999,   2746.0,   1.9041,  34.7414,2,  34.7401,2,    158.3,2,  1.6996,    157.9,2,   128.82,2,    33.86,2,     0.00,2,     2.43,2, -999.000,9, -999.000,9, -999.000,9,-999.0000,9,  -999.00,9,   -999.0,9,  -999.00,9,-999.000,9,   2304.6,2,   2406.6,2,  -999.0, -999.00,-999.0000,-999.000,-999.000
    316N145_10,  I07N,   728,  1,      8,      8,2,19950721,0321, -9.8157,  52.0942, 4218,   -999,   2994.5,   1.8038,  34.7379,2,  34.7372,2,    160.3,2,  1.5777,    161.0,2,   130.08,2,    33.91,2,     0.00,2,     2.42,2, -999.000,9, -999.000,9, -999.000,9,-999.0000,9,  -999.00,9,   -999.0,9,  -999.00,9,-999.000,9,   2304.4,2,   2410.7,2,  -999.0, -999.00,-999.0000,-999.000,-999.000
    316N145_10,  I07N,   728,  1,      7,      7,2,19950721,0321, -9.8157,  52.0942, 4218,   -999,   3294.9,   1.6763,  34.7329,2,  34.7321,2,    166.1,2,  1.4234,    166.9,2,   131.16,2,    33.59,2,     0.00,2,     2.40,2, -999.000,9, -999.000,9, -999.000,9,-999.0000,9,  -999.00,9,   -999.0,9,  -999.00,9,-999.000,9,   2300.7,2,   2409.5,2,  -999.0, -999.00,-999.0000,-999.000,-999.000
    316N145_10,  I07N,   728,  1,      6,      6,2,19950721,0321, -9.8157,  52.0942, 4218,   -999,   3543.5,   1.5163,  34.7274,2,  34.7266,2,    174.4,2,  1.2419,    174.9,2,   130.95,2,    33.28,2,     0.00,2,     2.36,2, -999.000,9, -999.000,9, -999.000,9,-999.0000,9,  -999.00,9,   -999.0,9,  -999.00,9,-999.000,9,   2295.0,2,   2405.9,2,  -999.0, -999.00,-999.0000,-999.000,-999.000
    316N145_10,  I07N,   728,  1,      5,      5,2,19950721,0321, -9.8157,  52.0942, 4218,   -999,   3747.9,   1.3321,  34.7219,2,  34.7207,2,    182.9,2,  1.0411,    183.9,2,   129.45,2,    32.87,2,     0.00,2,     2.33,2, -999.000,9, -999.000,9, -999.000,9,-999.0000,9,  -999.00,9,   -999.0,9,  -999.00,9,-999.000,9,   2286.7,2,   2399.3,2,  -999.0, -999.00,-999.0000,-999.000,-999.000
    316N145_10,  I07N,   728,  1,      4,      4,2,19950721,0321, -9.8157,  52.0942, 4218,   -999,   3900.5,   1.2123,  34.7168,2,  34.7168,2,    190.4,2,  0.9089,    191.1,2,   127.95,2,    32.52,2,     0.00,2,     2.30,2, -999.000,9, -999.000,9, -999.000,9,-999.0000,9,  -999.00,9,   -999.0,9,  -999.00,9,-999.000,9,   2279.2,2,   2386.7,2,  -999.0, -999.00,-999.0000,-999.000,-999.000
    316N145_10,  I07N,   728,  1,      3,      3,2,19950721,0321, -9.8157,  52.0942, 4218,   -999,   4098.3,   1.0215,  34.7101,2,  34.7089,2,    201.7,2,  0.7025,    201.5,2,   126.27,2,    31.93,2,     0.00,2,     2.25,2, -999.000,9, -999.000,9, -999.000,9,-999.0000,9,  -999.00,9,   -999.0,9,  -999.00,9,-999.000,9,   2269.0,2,   2380.2,2,  -999.0, -999.00,-999.0000,-999.000,-999.000
    316N145_10,  I07N,   728,  1,      2,      2,2,19950721,0321, -9.8157,  52.0942, 4218,   -999,   4202.2,   1.0104,  34.7086,2,  34.7087,2,    204.2,2,  0.6837,    204.0,2,   126.06,2,    31.89,2,     0.00,2,     2.24,2, -999.000,9, -999.000,9, -999.000,9,-999.0000,9,  -999.00,9,   -999.0,9,  -999.00,9,-999.000,9,   2267.3,2,   2379.8,2,  -999.0, -999.00,-999.0000,-999.000,-999.000
    316N145_10,  I07N,   728,  1,      1,      1,2,19950721,0321, -9.8157,  52.0942, 4218,   -999,   4275.1,   1.0084,  34.7084,2,  34.7087,2,    204.8,2,  0.6767,    204.0,2,   125.85,2,    31.89,2,     0.00,2,     2.24,2, -999.000,9, -999.000,9, -999.000,9,-999.0000,9,  -999.00,9,   -999.0,9,  -999.00,9,-999.000,9,   2267.1,2,   2380.2,2,  -999.0, -999.00,-999.0000,-999.000,-999.000