BOTTLE,20080821WHPSIOSCD
EXPOCODE,SECT_ID,STNNBR,CASTNO,SAMPNO,BTLNBR,BTLNBR_FLAG_W,DATE,TIME,LATITUDE,LONGITUDE,DEPTH,CTDRAW,CTDPRS,CTDTMP,CTDSAL,CTDSAL_FLAG_W,SALNTY,SALNTY_FLAG_W,CTDOXY,CTDOXY_FLAG_W,THETA,OXYGEN,OXYGEN_FLAG_W,SILCAT,SILCAT_FLAG_W,NITRAT,NITRAT_FLAG_W,NITRIT,NITRIT_FLAG_W,PHSPHT,PHSPHT_FLAG_W,CFC-11,CFC-11_FLAG_W,CFC-12,CFC-12_FLAG_W,TRITUM,TRITUM_FLAG_W,HELIUM,HELIUM_FLAG_W,DELHE3,DELHE3_FLAG_W,DELC14,DELC14_FLAG_W,DELC13,DELC13_FLAG_W,NEON,NEON_FLAG_W,TCARBN,TCARBN_FLAG_W,ALKALI,ALKALI_FLAG_W,C14ERR,DELHER,HELIER,NEONER,TRITER
,,,,,,,,,,,,,DBAR,ITS-90,PSS-78,,PSS-78,,UMOL/KG,,DEG C,UMOL/KG,,UMOL/KG,,UMOL/KG,,UMOL/KG,,UMOL/KG,,PMOL/KG,,PMOL/KG,,TU,,NMOL/KG,,PERCNT,,/MILLE,,/MILLE,,NMOL/KG,,UMOL/KG,,UMOL/KG,,/MILLE,PERCNT,NMOL/KG,NMOL/KG,TU
    316N145_10,  I07N,   785,  1,     36,     36,2,19950805,2125,  9.9920,  64.6687, 4426,   -999,     42.0,  27.8166,  36.5733,2,  36.5730,2,    202.4,2, 27.8069,    196.0,2,     1.65,2,     0.05,2,     0.00,2,     0.24,2, -999.000,9, -999.000,9, -999.000,9,-999.0000,9,  -999.00,9,   -999.0,9,  -999.00,9,-999.000,9,   2014.7,2,   2396.4,2,  -999.0, -999.00,-999.0000,-999.000,-999.000
    316N145_10,  I07N,   785,  1,     35,     35,2,19950805,2125,  9.9920,  64.6687, 4426,   -999,     46.0,  27.8112,  36.5752,2,  36.5738,2,    194.3,2, 27.8006,    196.1,2,     1.64,2,     0.05,2,     0.00,2,     0.24,2,    1.613,2,    0.928,2, -999.000,9,-999.0000,9,  -999.00,9,   -999.0,9,  -999.00,9,-999.000,9,   -999.9,5,   2387.9,2,  -999.0, -999.00,-999.0000,-999.000,-999.000
    316N145_10,  I07N,   785,  1,     34,     34,2,19950805,2125,  9.9920,  64.6687, 4426,   -999,     90.5,  27.6477,  36.6888,2,  36.6877,2,    187.0,2, 27.6267,    186.1,2,     2.20,2,     0.12,2,     0.54,2,     0.34,2,    1.622,2,    0.922,2, -999.000,9,-999.0000,9,  -999.00,9,   -999.0,9,  -999.00,9,-999.000,9,   -999.9,9,   -999.9,9,  -999.0, -999.00,-999.0000,-999.000,-999.000
    316N145_10,  I07N,   785,  1,     33,     33,2,19950805,2125,  9.9920,  64.6687, 4426,   -999,    116.0,  23.3743,  35.8530,2,  35.8254,2,     72.0,2, 23.3505,     62.5,2,    10.92,2,    17.91,2,     0.04,2,     1.43,2,    1.363,2,    0.759,2, -999.000,9,-999.0000,9,  -999.00,9,   -999.0,9,  -999.00,9,-999.000,9,   -999.9,9,   -999.9,9,  -999.0, -999.00,-999.0000,-999.000,-999.000
    316N145_10,  I07N,   785,  1,     32,     32,2,19950805,2125,  9.9920,  64.6687, 4426,   -999,    131.9,  21.0934,  35.7459,2,  35.7347,2,     16.1,2, 21.0682,     10.9,2,    14.89,2,    24.66,2,     0.02,2,     1.96,2,    1.223,2,    0.678,2, -999.000,9,-999.0000,9,  -999.00,9,   -999.0,9,  -999.00,9,-999.000,9,   -999.9,9,   -999.9,9,  -999.0, -999.00,-999.0000,-999.000,-999.000
    316N145_10,  I07N,   785,  1,     31,     31,2,19950805,2125,  9.9920,  64.6687, 4426,   -999,    141.7,  20.4694,  35.6878,2,  35.6997,2,     10.7,2, 20.4429,     10.8,2,    15.64,2,    24.94,2,     0.01,2,     2.00,2, -999.000,9, -999.000,9, -999.000,9,-999.0000,9,  -999.00,9,   -999.0,9,  -999.00,9,-999.000,9,   -999.9,9,   -999.9,9,  -999.0, -999.00,-999.0000,-999.000,-999.000
    316N145_10,  I07N,   785,  1,     30,     30,2,19950805,2125,  9.9920,  64.6687, 4426,   -999,    196.3,  16.2909,  35.4646,2,  35.4771,2,      5.4,2, 16.2595,      8.2,2,    23.78,2,    25.52,2,     0.00,2,     2.25,3,    0.678,2,    0.386,2, -999.000,9,-999.0000,9,  -999.00,9,   -999.0,9,  -999.00,9,-999.000,9,   -999.9,9,   -999.9,9,  -999.0, -999.00,-999.0000,-999.000,-999.000
    316N145_10,  I07N,   785,  1,     29,     29,2,19950805,2125,  9.9920,  64.6687, 4426,   -999,    244.2,  14.0300,  35.3218,2,  35.3218,2,     33.4,2, 13.9947,     33.4,2,    24.53,2,    26.63,2,     0.00,2,     2.10,2,    0.645,2,    0.340,2, -999.000,9,-999.0000,9,  -999.00,9,   -999.0,9,  -999.00,9,-999.000,9,   -999.9,9,   -999.9,9,  -999.0, -999.00,-999.0000,-999.000,-999.000
    316N145_10,  I07N,   785,  1,     28,     28,2,19950805,2125,  9.9920,  64.6687, 4426,   -999,    355.0,  12.0404,  35.3342,2,  35.3355,2,     16.7,2, 11.9937,     16.1,2,    33.23,2,    30.91,2,     0.00,2,     2.40,2,    0.242,2,    0.140,2, -999.000,9,-999.0000,9,  -999.00,9,   -999.0,9,  -999.00,9,-999.000,9,   -999.9,9,   -999.9,9,  -999.0, -999.00,-999.0000,-999.000,-999.000
    316N145_10,  I07N,   785,  1,     27,     27,2,19950805,2125,  9.9920,  64.6687, 4426,   -999,    404.3,  11.7414,  35.3438,2,  35.3440,2,     13.3,2, 11.6889,     18.0,2,    35.68,2,    31.33,2,     0.00,2,     2.44,2,    0.204,2,    0.118,2, -999.000,9,-999.0000,9,  -999.00,9,   -999.0,9,  -999.00,9,-999.000,9,   -999.9,9,   -999.9,9,  -999.0, -999.00,-999.0000,-999.000,-999.000
    316N145_10,  I07N,   785,  1,     26,     26,2,19950805,2125,  9.9920,  64.6687, 4426,   -999,    503.3,  11.0568,  35.3235,2,  35.3231,2,     20.1,2, 10.9936,     20.5,2,    41.53,2,    32.27,2,     0.00,2,     2.53,2,    0.117,2,    0.069,2, -999.000,9,-999.0000,9,  -999.00,9,   -999.0,9,  -999.00,9,-999.000,9,   -999.9,9,   -999.9,9,  -999.0, -999.00,-999.0000,-999.000,-999.000
    316N145_10,  I07N,   785,  1,     25,     25,2,19950805,2125,  9.9920,  64.6687, 4426,   -999,    601.2,  10.5139,  35.3298,2,  35.3302,2,     16.7,2, 10.4404,     16.5,2,    49.66,2,    33.39,2,     0.00,2,     2.65,2,    0.059,2,    0.036,2, -999.000,9,-999.0000,9,  -999.00,9,   -999.0,9,  -999.00,9,-999.000,9,   -999.9,9,   -999.9,9,  -999.0, -999.00,-999.0000,-999.000,-999.000
    316N145_10,  I07N,   785,  1,     24,     24,2,19950805,2125,  9.9920,  64.6687, 4426,   -999,    688.4,  10.1758,  35.3523,2,  35.3520,2,     17.1,2, 10.0928,     17.3,2,    54.76,2,    33.82,2,     0.00,2,     2.69,2,    0.057,2,    0.032,2, -999.000,9,-999.0000,9,  -999.00,9,   -999.0,9,  -999.00,9,-999.000,9,   -999.9,9,   -999.9,9,  -999.0, -999.00,-999.0000,-999.000,-999.000
    316N145_10,  I07N,   785,  1,     23,     23,2,19950805,2125,  9.9920,  64.6687, 4426,   -999,    788.2,   9.5017,  35.3203,2,  35.3126,2,     18.6,2,  9.4101,     18.4,2,    62.14,2,    34.85,2,     0.00,2,     2.76,2,    0.039,2,    0.026,2, -999.000,9,-999.0000,9,  -999.00,9,   -999.0,9,  -999.00,9,-999.000,9,   -999.9,9,   -999.9,9,  -999.0, -999.00,-999.0000,-999.000,-999.000
    316N145_10,  I07N,   785,  1,     22,     22,2,19950805,2125,  9.9920,  64.6687, 4426,   -999,    836.5,   9.5466,  35.3936,2,  35.3947,2,     15.9,2,  9.4487,     15.9,2,    64.01,2,    34.67,2,     0.00,2,     2.78,2, -999.000,9, -999.000,9, -999.000,9,-999.0000,9,  -999.00,9,   -999.0,9,  -999.00,9,-999.000,9,   -999.9,9,   -999.9,9,  -999.0, -999.00,-999.0000,-999.000,-999.000
    316N145_10,  I07N,   785,  1,     21,     21,2,19950805,2125,  9.9920,  64.6687, 4426,   -999,    952.1,   8.5953,  35.3099,2,  35.3087,2,     21.5,2,  8.4899,     20.6,2,    73.10,2,    35.85,2,     0.00,2,     2.84,2,    0.026,2,    0.016,2, -999.000,9,-999.0000,9,  -999.00,9,   -999.0,9,  -999.00,9,-999.000,9,   -999.9,9,   -999.9,9,  -999.0, -999.00,-999.0000,-999.000,-999.000
    316N145_10,  I07N,   785,  1,     20,     20,2,19950805,2125,  9.9920,  64.6687, 4426,   -999,   1101.9,   7.3679,  35.1675,2,  35.1680,2,     29.1,2,  7.2549,     29.8,2,    83.37,2,    36.94,2,     0.00,2,     2.89,2,    0.008,2,    0.003,2, -999.000,9,-999.0000,9,  -999.00,9,   -999.0,9,  -999.00,9,-999.000,9,   -999.9,9,   -999.9,9,  -999.0, -999.00,-999.0000,-999.000,-999.000
    316N145_10,  I07N,   785,  1,     19,     19,2,19950805,2125,  9.9920,  64.6687, 4426,   -999,   1294.1,   6.0451,  35.0433,2,  35.0441,2,     45.7,2,  5.9235,     46.3,2,    95.60,2,    37.28,2,     0.00,2,     2.91,2,    0.002,2,    0.002,2, -999.000,9,-999.0000,9,  -999.00,9,   -999.0,9,  -999.00,9,-999.000,9,   -999.9,9,   -999.9,9,  -999.0, -999.00,-999.0000,-999.000,-999.000
    316N145_10,  I07N,   785,  1,     18,     18,2,19950805,2125,  9.9920,  64.6687, 4426,   -999,   1495.0,   4.8371,  34.9427,2,  34.9447,2,     64.2,2,  4.7082,     66.7,2,   107.54,2,    37.14,2,     0.00,2,     2.87,2,    0.001,2,    0.000,2, -999.000,9,-999.0000,9,  -999.00,9,   -999.0,9,  -999.00,9,-999.000,9,   -999.9,9,   -999.9,9,  -999.0, -999.00,-999.0000,-999.000,-999.000
    316N145_10,  I07N,   785,  1,     17,     17,2,19950805,2125,  9.9920,  64.6687, 4426,   -999,   1694.2,   3.9174,  34.8719,2,  34.8724,2,     86.7,2,  3.7806,     87.7,2,   116.46,2,    36.68,2,     0.00,2,     2.79,2,   -0.002,2,    0.002,2, -999.000,9,-999.0000,9,  -999.00,9,   -999.0,9,  -999.00,9,-999.000,9,   -999.9,9,   -999.9,9,  -999.0, -999.00,-999.0000,-999.000,-999.000
    316N145_10,  I07N,   785,  1,     16,     16,2,19950805,2125,  9.9920,  64.6687, 4426,   -999,   1897.5,   3.2411,  34.8303,2,  34.8300,2,    103.1,2,  3.0948,    102.6,2,   123.50,2,    36.30,2,     0.00,2,     2.73,2,   -0.002,2,   -0.004,2, -999.000,9,-999.0000,9,  -999.00,9,   -999.0,9,  -999.00,9,-999.000,9,   -999.9,9,   -999.9,9,  -999.0, -999.00,-999.0000,-999.000,-999.000
    316N145_10,  I07N,   785,  1,     15,     15,2,19950805,2125,  9.9920,  64.6687, 4426,   -999,   2098.8,   2.7376,  34.7943,2,  34.7940,2,    117.0,2,  2.5807,    117.3,2,   128.21,2,    35.83,2,     0.00,2,     2.67,2,   -0.002,2,    0.000,2, -999.000,9,-999.0000,9,  -999.00,9,   -999.0,9,  -999.00,9,-999.000,9,   -999.9,9,   -999.9,9,  -999.0, -999.00,-999.0000,-999.000,-999.000
    316N145_10,  I07N,   785,  1,     14,     14,2,19950805,2125,  9.9920,  64.6687, 4426,   -999,   2302.1,   2.4061,  34.7773,2,  34.7767,2,    127.3,2,  2.2362,    127.3,2,   131.55,2,    35.51,2,     0.00,2,     2.62,2, -999.000,9, -999.000,9, -999.000,9,-999.0000,9,  -999.00,9,   -999.0,9,  -999.00,9,-999.000,9,   -999.9,9,   -999.9,9,  -999.0, -999.00,-999.0000,-999.000,-999.000
    316N145_10,  I07N,   785,  1,     13,     13,2,19950805,2125,  9.9920,  64.6687, 4426,   -999,   2453.0,   2.2251,  34.7704,2,  34.7700,2,    129.4,2,  2.0446,    129.9,2,   134.71,2,    35.41,2,     0.00,2,     2.62,2, -999.000,9, -999.000,9, -999.000,9,-999.0000,9,  -999.00,9,   -999.0,9,  -999.00,9,-999.000,9,   -999.9,9,   -999.9,9,  -999.0, -999.00,-999.0000,-999.000,-999.000
    316N145_10,  I07N,   785,  1,     12,     12,2,19950805,2125,  9.9920,  64.6687, 4426,   -999,   2676.9,   1.9856,  34.7571,2,  34.7561,2,    136.9,2,  1.7888,    137.1,2,   137.07,2,    35.14,2,     0.00,2,     2.58,2, -999.000,9, -999.000,9, -999.000,9,-999.0000,9,  -999.00,9,   -999.0,9,  -999.00,9,-999.000,9,   -999.9,9,   -999.9,9,  -999.0, -999.00,-999.0000,-999.000,-999.000
    316N145_10,  I07N,   785,  1,     11,     11,2,19950805,2125,  9.9920,  64.6687, 4426,   -999,   2900.4,   1.8375,  34.7461,2,  34.7476,2,    146.4,2,  1.6227,    145.3,2,   136.83,2,    34.81,2,     0.00,2,     2.55,2, -999.000,9, -999.000,9, -999.000,9,-999.0000,9,  -999.00,9,   -999.0,9,  -999.00,9,-999.000,9,   -999.9,9,   -999.9,9,  -999.0, -999.00,-999.0000,-999.000,-999.000
    316N145_10,  I07N,   785,  1,     10,     10,2,19950805,2125,  9.9920,  64.6687, 4426,   -999,   3102.4,   1.7770,  34.7419,2,  34.7405,2,    152.9,2,  1.5439,    151.8,2,   135.98,2,    34.58,2,     0.00,2,     2.51,2, -999.000,9, -999.000,9, -999.000,9,-999.0000,9,  -999.00,9,   -999.0,9,  -999.00,9,-999.000,9,   -999.9,9,   -999.9,9,  -999.0, -999.00,-999.0000,-999.000,-999.000
    316N145_10,  I07N,   785,  1,      9,      9,2,19950805,2125,  9.9920,  64.6687, 4426,   -999,   3300.2,   1.7357,  34.7392,2,  34.7356,3,    154.9,2,  1.4838,    154.4,2,   136.14,2,    34.49,2,     0.00,2,     2.50,2, -999.000,9, -999.000,9, -999.000,9,-999.0000,9,  -999.00,9,   -999.0,9,  -999.00,9,-999.000,9,   -999.9,9,   -999.9,9,  -999.0, -999.00,-999.0000,-999.000,-999.000
    316N145_10,  I07N,   785,  1,      8,      8,2,19950805,2125,  9.9920,  64.6687, 4426,   -999,   3499.2,   1.7136,  34.7379,2,  34.7348,2,    156.4,2,  1.4420,    155.4,2,   136.50,2,    34.44,2,     0.00,2,     2.49,2, -999.000,9, -999.000,9, -999.000,9,-999.0000,9,  -999.00,9,   -999.0,9,  -999.00,9,-999.000,9,   -999.9,9,   -999.9,9,  -999.0, -999.00,-999.0000,-999.000,-999.000
    316N145_10,  I07N,   785,  1,      7,      7,2,19950805,2125,  9.9920,  64.6687, 4426,   -999,   3698.1,   1.6976,  34.7365,2,  34.7354,2,    156.6,2,  1.4056,    156.6,2,   136.65,2,    34.40,2,     0.00,2,     2.49,2, -999.000,9, -999.000,9, -999.000,9,-999.0000,9,  -999.00,9,   -999.0,9,  -999.00,9,-999.000,9,   -999.9,9,   -999.9,9,  -999.0, -999.00,-999.0000,-999.000,-999.000
    316N145_10,  I07N,   785,  1,      6,      6,2,19950805,2125,  9.9920,  64.6687, 4426,   -999,   3900.5,   1.6827,  34.7351,2,  34.7336,2,    158.2,2,  1.3693,    157.6,2,   136.81,2,    34.30,2,     0.00,2,     2.48,2, -999.000,9, -999.000,9, -999.000,9,-999.0000,9,  -999.00,9,   -999.0,9,  -999.00,9,-999.000,9,   -999.9,9,   -999.9,9,  -999.0, -999.00,-999.0000,-999.000,-999.000
    316N145_10,  I07N,   785,  1,      5,      5,2,19950805,2125,  9.9920,  64.6687, 4426,   -999,   4100.2,   1.6760,  34.7338,2,  34.7310,2,    158.1,2,  1.3409,    158.1,2,   137.37,2,    34.31,2,     0.00,2,     2.47,2, -999.000,9, -999.000,9, -999.000,9,-999.0000,9,  -999.00,9,   -999.0,9,  -999.00,9,-999.000,9,   -999.9,9,   -999.9,9,  -999.0, -999.00,-999.0000,-999.000,-999.000
    316N145_10,  I07N,   785,  1,      4,      4,2,19950805,2125,  9.9920,  64.6687, 4426,   -999,   4202.2,   1.6740,  34.7336,2,  34.7330,2,    158.0,2,  1.3275,    158.0,2,   137.53,2,    34.40,2,     0.00,2,     2.48,2, -999.000,9, -999.000,9, -999.000,9,-999.0000,9,  -999.00,9,   -999.0,9,  -999.00,9,-999.000,9,   -999.9,9,   -999.9,9,  -999.0, -999.00,-999.0000,-999.000,-999.000
    316N145_10,  I07N,   785,  1,      3,      3,2,19950805,2125,  9.9920,  64.6687, 4426,   -999,   4299.9,   1.6733,  34.7323,2,  34.7312,2,    158.1,2,  1.3158,    157.8,2,   137.48,2,    34.36,2,     0.00,2,     2.48,2, -999.000,9, -999.000,9, -999.000,9,-999.0000,9,  -999.00,9,   -999.0,9,  -999.00,9,-999.000,9,   -999.9,9,   -999.9,9,  -999.0, -999.00,-999.0000,-999.000,-999.000
    316N145_10,  I07N,   785,  1,      2,      2,2,19950805,2125,  9.9920,  64.6687, 4426,   -999,   4408.0,   1.6667,  34.7319,2,  34.7310,2,    159.2,2,  1.2970,    159.4,2,   137.44,2,    34.32,2,     0.00,2,     2.47,2, -999.000,9, -999.000,9, -999.000,9,-999.0000,9,  -999.00,9,   -999.0,9,  -999.00,9,-999.000,9,   -999.9,9,   -999.9,9,  -999.0, -999.00,-999.0000,-999.000,-999.000
    316N145_10,  I07N,   785,  1,      1,      1,2,19950805,2125,  9.9920,  64.6687, 4426,   -999,   4496.0,   1.6626,  34.7308,2,  34.7304,2,    155.7,2,  1.2829,    158.3,2,   138.40,2,    34.41,2,     0.00,2,     2.47,2, -999.000,9, -999.000,9, -999.000,9,-999.0000,9,  -999.00,9,   -999.0,9,  -999.00,9,-999.000,9,   -999.9,9,   -999.9,9,  -999.0, -999.00,-999.0000,-999.000,-999.000