BOTTLE,20080821WHPSIOSCD
EXPOCODE,SECT_ID,STNNBR,CASTNO,SAMPNO,BTLNBR,BTLNBR_FLAG_W,DATE,TIME,LATITUDE,LONGITUDE,DEPTH,CTDRAW,CTDPRS,CTDTMP,CTDSAL,CTDSAL_FLAG_W,SALNTY,SALNTY_FLAG_W,CTDOXY,CTDOXY_FLAG_W,THETA,OXYGEN,OXYGEN_FLAG_W,SILCAT,SILCAT_FLAG_W,NITRAT,NITRAT_FLAG_W,NITRIT,NITRIT_FLAG_W,PHSPHT,PHSPHT_FLAG_W,CFC-11,CFC-11_FLAG_W,CFC-12,CFC-12_FLAG_W,TRITUM,TRITUM_FLAG_W,HELIUM,HELIUM_FLAG_W,DELHE3,DELHE3_FLAG_W,DELC14,DELC14_FLAG_W,DELC13,DELC13_FLAG_W,NEON,NEON_FLAG_W,TCARBN,TCARBN_FLAG_W,ALKALI,ALKALI_FLAG_W,C14ERR,DELHER,HELIER,NEONER,TRITER
,,,,,,,,,,,,,DBAR,ITS-90,PSS-78,,PSS-78,,UMOL/KG,,DEG C,UMOL/KG,,UMOL/KG,,UMOL/KG,,UMOL/KG,,UMOL/KG,,PMOL/KG,,PMOL/KG,,TU,,NMOL/KG,,PERCNT,,/MILLE,,/MILLE,,NMOL/KG,,UMOL/KG,,UMOL/KG,,/MILLE,PERCNT,NMOL/KG,NMOL/KG,TU
    316N145_10,  I07N,   754,  1,     36,     36,2,19950727,2004, -1.7707,  57.2205, 4459,   -999,      8.2,  27.2009,  35.2564,2,  35.2583,2,    203.7,2, 27.1992,    200.7,2,     2.88,2,     0.29,2,     0.03,2,     0.20,2,    1.725,2,    0.956,2,    0.795,2,   1.6190,2,    -0.70,2,     65.2,2,     1.29,2,   6.717,2,   1974.2,2,   2306.9,2,     3.5,    0.20,  0.0080,   0.134,   0.008
    316N145_10,  I07N,   754,  1,     35,     35,2,19950727,2004, -1.7707,  57.2205, 4459,   -999,     30.6,  26.8594,  35.2504,2,  35.2501,2,    199.4,2, 26.8526,    196.8,2,     3.04,2,     0.74,2,     0.08,2,     0.23,2, -999.000,9, -999.000,9, -999.000,9,-999.0000,9,  -999.00,9,   -999.0,9,  -999.00,9,-999.000,9,   1979.9,2,   2307.4,2,  -999.0, -999.00,-999.0000,-999.000,-999.000
    316N145_10,  I07N,   754,  1,     34,     34,2,19950727,2004, -1.7707,  57.2205, 4459,   -999,     60.7,  25.2861,  35.2341,2,  35.2322,2,    190.0,2, 25.2731,    188.3,2,     4.07,2,     2.31,2,     0.20,2,     0.35,2,    1.705,2,    0.941,2, -999.000,9,   1.6900,2,     0.90,2,     59.8,2,     1.02,2,   6.761,2,   1999.9,2,   2306.3,2,     3.5,    0.20,  0.0080,   0.135,-999.000
    316N145_10,  I07N,   754,  1,     33,     33,2,19950727,2004, -1.7707,  57.2205, 4459,   -999,     90.1,  23.8060,  35.2145,2,  35.2062,2,    178.0,2, 23.7874,    169.2,2,     6.32,2,     5.29,2,     0.45,2,     0.54,2, -999.000,9, -999.000,9, -999.000,9,-999.0000,9,  -999.00,9,   -999.0,9,  -999.00,9,-999.000,9,   2027.1,2,   2305.7,2,  -999.0, -999.00,-999.0000,-999.000,-999.000
    316N145_10,  I07N,   754,  1,     32,     32,2,19950727,2004, -1.7707,  57.2205, 4459,   -999,    120.3,  22.0732,  35.2378,2,  35.2444,2,    152.7,2, 22.0496,    140.4,2,     8.40,2,     9.65,2,     0.04,2,     0.78,2,    1.662,2,    0.904,2,    0.641,2,   1.7440,2,     7.10,2,     51.6,2,     0.69,2,   7.051,2,   2065.2,2,   2306.9,2,     4.9,    0.20,  0.0090,   0.141,   0.008
    316N145_10,  I07N,   754,  1,     31,     31,2,19950727,2004, -1.7707,  57.2205, 4459,   -999,    175.7,  14.5388,  35.1673,2,  35.1647,2,     83.0,2, 14.5129,     81.8,2,    19.17,2,    22.46,2,     0.00,2,     1.60,2,    1.064,2,    0.550,2, -999.000,9,-999.0000,9,  -999.00,9,     16.1,2,     0.31,2,-999.000,9,   -999.9,5,   2312.6,2,     3.6, -999.00,-999.0000,-999.000,-999.000
    316N145_10,  I07N,   754,  1,     30,     30,2,19950727,2004, -1.7707,  57.2205, 4459,   -999,    259.8,  12.7192,  35.0951,2,  35.0841,2,    123.2,2, 12.6840,    124.0,2,    18.12,2,    20.45,2,     0.00,2,     1.47,2,    1.240,2,    0.623,2, -999.000,9,   1.7930,2,     6.00,2,     14.1,2,     0.65,2,   7.323,2,   2180.3,2,   2312.7,2,     7.4,    0.20,  0.0090,   0.146,-999.000
    316N145_10,  I07N,   754,  1,     29,     29,2,19950727,2004, -1.7707,  57.2205, 4459,   -999,    350.4,  10.8878,  34.9709,2,  34.9719,2,    135.2,2, 10.8447,    132.1,2,    21.41,2,    22.60,2,     0.00,2,     1.60,2,    1.067,2,    0.532,2, -999.000,9,-999.0000,9,  -999.00,9,    -17.8,2,     0.75,2,-999.000,9,   2177.8,2,   2312.8,2,     4.8, -999.00,-999.0000,-999.000,-999.000
    316N145_10,  I07N,   754,  1,     28,     28,2,19950727,2004, -1.7707,  57.2205, 4459,   -999,    400.1,  10.6627,  34.9701,2,  34.9790,2,    108.1,2, 10.6140,    111.8,2,    24.87,2,    25.08,2,     0.00,2,     1.77,2,    0.774,2,    0.388,2, -999.000,9,-999.0000,9,  -999.00,9,    -13.1,2,     0.56,2,-999.000,9,   2193.6,2,   2313.6,2,     3.2, -999.00,-999.0000,-999.000,-999.000
    316N145_10,  I07N,   754,  1,     27,     27,2,19950727,2004, -1.7707,  57.2205, 4459,   -999,    500.1,  10.1528,  34.9447,2,  34.9454,2,    112.8,2, 10.0935,    113.2,2,    27.64,2,    25.91,2,     0.00,2,     1.83,2,    0.700,2,    0.356,2,    0.157,2,   1.8200,2,     6.20,2,    -27.6,2,     0.62,2,   7.435,2,   2198.1,2,   2312.5,2,     3.2,    0.20,  0.0090,   0.149,   0.008
    316N145_10,  I07N,   754,  1,     26,     26,2,19950727,2004, -1.7707,  57.2205, 4459,   -999,    599.1,   8.9892,  34.9008,2,  34.9004,2,     90.8,2,  8.9229,     94.2,2,    40.14,2,    29.87,2,     0.00,2,     2.15,2,    0.298,2,    0.153,2, -999.000,9,-999.0000,9,  -999.00,9,    -70.5,2,     0.37,2,-999.000,9,   2225.7,2,   2323.6,2,     3.3, -999.00,-999.0000,-999.000,-999.000
    316N145_10,  I07N,   754,  1,     25,     25,2,19950727,2004, -1.7707,  57.2205, 4459,   -999,    700.0,   8.7011,  35.0018,2,  35.0014,2,     63.4,2,  8.6245,     63.3,2,    52.99,2,    32.96,2,     0.00,2,     2.44,2,    0.111,2,    0.058,2,    0.074,2,   1.8550,2,     7.70,2,   -115.3,2,     0.12,2,   7.551,2,   2259.0,2,   2336.4,2,     3.0,    0.20,  0.0090,   0.151,   0.008
    316N145_10,  I07N,   754,  1,     24,     24,2,19950727,2004, -1.7707,  57.2205, 4459,   -999,    799.1,   8.0705,  34.9912,2,  34.9878,2,     60.0,2,  7.9862,     58.4,2,    62.89,2,    34.36,2,     0.00,2,     2.58,2,    0.056,2,    0.030,2,    0.044,2,   1.8420,2,     9.40,2,   -128.4,2,     0.12,2,   7.600,2,   2274.0,2,   2347.0,2,     3.7,    0.20,  0.0090,   0.152,   0.008
    316N145_10,  I07N,   754,  1,     23,     23,3,19950727,2004, -1.7707,  57.2205, 4459,   -999,    899.6,   7.4132,  34.9936,2,-999.0000,9,     56.1,2,  7.3220,     64.0,3,  -999.00,9,  -999.00,9,  -999.00,9,  -999.00,9, -999.000,9, -999.000,9, -999.000,9,-999.0000,9,  -999.00,9,   -154.9,2,    -0.48,2,-999.000,9,   2284.5,2,   2375.8,2,     4.5, -999.00,-999.0000,-999.000,-999.000
    316N145_10,  I07N,   754,  1,     22,     22,2,19950727,2004, -1.7707,  57.2205, 4459,   -999,   1000.7,   6.9754,  34.9848,2,  34.9847,2,     51.0,2,  6.8766,     52.6,2,    79.28,2,    36.09,2,     0.00,2,     2.72,2,    0.009,2,    0.008,2, -999.000,9,-999.0000,9,  -999.00,9,   -999.0,9,  -999.00,9,-999.000,9,   2297.4,2,   2363.3,2,  -999.0, -999.00,-999.0000,-999.000,-999.000
    316N145_10,  I07N,   754,  1,     21,     21,2,19950727,2004, -1.7707,  57.2205, 4459,   -999,   1140.8,   6.4023,  34.9512,2,  34.9511,2,     60.2,2,  6.2934,     60.3,2,    84.69,2,    36.29,2,     0.00,2,     2.73,2,    0.009,2,   -0.002,2,    0.000,2,   1.8600,2,    10.10,2,   -164.3,2,    -0.45,2,   7.743,2,   2301.5,2,   2367.7,2,     3.0,    0.20,  0.0090,   0.155,   0.008
    316N145_10,  I07N,   754,  1,     20,     20,2,19950727,2004, -1.7707,  57.2205, 4459,   -999,   1251.3,   5.2367,  34.8525,2,  34.8537,2,     80.2,2,  5.1274,     79.5,2,    94.16,2,    36.20,2,     0.00,2,     2.70,2,    0.001,2,    0.002,2, -999.000,9,-999.0000,9,  -999.00,9,   -191.6,3,    -0.78,2,-999.000,9,   2303.3,2,   2375.9,2,     3.7, -999.00,-999.0000,-999.000,-999.000
    316N145_10,  I07N,   754,  1,     19,     19,2,19950727,2004, -1.7707,  57.2205, 4459,   -999,   1402.9,   4.6499,  34.8319,2,  34.8326,2,     88.5,2,  4.5320,     87.8,2,   100.32,2,    36.20,2,     0.00,2,     2.68,2,    0.002,2,    0.002,2,    0.000,2,   1.8550,2,    11.50,2,   -173.4,2,    -0.34,2,   7.809,2,   2307.0,2,   2382.1,2,     3.2,    0.20,  0.0090,   0.156,   0.008
    316N145_10,  I07N,   754,  1,     18,     18,2,19950727,2004, -1.7707,  57.2205, 4459,   -999,   1503.7,   4.2308,  34.8207,2,  34.8207,2,     95.5,2,  4.1081,     96.0,2,   104.54,2,    36.07,2,     0.00,2,     2.67,2,   -0.002,2,   -0.004,2, -999.000,9,-999.0000,9,  -999.00,9,   -171.4,2,     0.04,2,-999.000,9,   2309.0,2,   2387.3,2,     4.0, -999.00,-999.0000,-999.000,-999.000
    316N145_10,  I07N,   754,  1,     17,     17,2,19950727,2004, -1.7707,  57.2205, 4459,   -999,   1624.1,   3.5758,  34.7944,2,  34.7936,2,    117.3,2,  3.4499,    114.7,2,   108.25,2,    35.37,2,     0.00,2,     2.60,2, -999.000,9, -999.000,9, -999.000,9,-999.0000,9,  -999.00,9,   -999.0,9,  -999.00,9,-999.000,9,   2305.3,2,   2387.2,2,  -999.0, -999.00,-999.0000,-999.000,-999.000
    316N145_10,  I07N,   754,  1,     16,     16,2,19950727,2004, -1.7707,  57.2205, 4459,   -999,   1699.0,   3.2967,  34.7854,2,  34.7836,2,    121.4,2,  3.1677,    121.0,2,   110.89,2,    35.15,2,     0.00,2,     2.56,2,    0.001,2,   -0.001,2,    0.000,2,   1.8690,2,    11.90,2,   -999.0,9,  -999.00,9,   7.774,2,   2305.7,2,   2393.0,2,  -999.0,    0.20,  0.0090,   0.155,   0.008
    316N145_10,  I07N,   754,  1,     15,     15,2,19950727,2004, -1.7707,  57.2205, 4459,   -999,   1801.1,   3.1260,  34.7835,2,  34.7812,2,    125.7,2,  2.9902,    124.6,2,   113.18,2,    35.01,2,     0.00,2,     2.57,2, -999.000,9, -999.000,9, -999.000,9,-999.0000,9,  -999.00,9,   -999.0,9,  -999.00,9,-999.000,9,   2306.7,2,   2395.7,2,  -999.0, -999.00,-999.0000,-999.000,-999.000
    316N145_10,  I07N,   754,  1,     14,     14,2,19950727,2004, -1.7707,  57.2205, 4459,   -999,   1998.2,   2.6258,  34.7651,2,  34.7639,2,    137.8,2,  2.4797,    136.8,2,   118.72,2,    34.65,2,     0.00,2,     2.51,2,    0.000,2,    0.003,2, -999.000,9,   1.8870,2,    12.40,2,   -999.0,9,  -999.00,9,   8.113,2,   2306.2,2,   2400.2,2,  -999.0,    0.20,  0.0090,   0.162,-999.000
    316N145_10,  I07N,   754,  1,     13,     13,2,19950727,2004, -1.7707,  57.2205, 4459,   -999,   2201.7,   2.3433,  34.7563,2,  34.7569,2,    144.3,2,  2.1836,    143.9,2,   122.11,2,    34.42,2,     0.00,2,     2.48,2, -999.000,9, -999.000,9,    0.000,2,-999.0000,9,  -999.00,9,   -999.0,9,  -999.00,9,-999.000,9,   2306.3,2,   2403.0,2,  -999.0, -999.00,-999.0000,-999.000,   0.008
    316N145_10,  I07N,   754,  1,     12,     12,2,19950727,2004, -1.7707,  57.2205, 4459,   -999,   2398.7,   2.1860,  34.7511,2,  34.7514,2,    146.9,2,  2.0112,    147.9,2,   124.43,2,    34.28,2,     0.00,2,     2.47,2, -999.000,9, -999.000,9, -999.000,9,   1.9090,2,    14.90,2,   -999.0,9,  -999.00,9,   8.166,2,   2307.0,2,   2406.3,2,  -999.0,    0.20,  0.0100,   0.163,-999.000
    316N145_10,  I07N,   754,  1,     11,     11,2,19950727,2004, -1.7707,  57.2205, 4459,   -999,   2602.3,   1.9481,  34.7385,2,  34.7396,2,    157.7,2,  1.7591,    158.4,2,   124.03,2,    33.82,2,     0.00,2,     2.42,2, -999.000,9, -999.000,9, -999.000,9,-999.0000,9,  -999.00,9,   -999.0,9,  -999.00,9,-999.000,9,   2301.5,2,   2404.2,2,  -999.0, -999.00,-999.0000,-999.000,-999.000
    316N145_10,  I07N,   754,  1,     10,     10,2,19950727,2004, -1.7707,  57.2205, 4459,   -999,   2800.0,   1.8311,  34.7351,2,  34.7361,2,    161.1,2,  1.6260,    161.7,2,   126.35,2,    33.83,2,     0.00,2,     2.43,2, -999.000,9, -999.000,9, -999.000,9,   1.8960,2,    15.20,2,   -999.0,9,  -999.00,9,   8.264,2,   2303.2,2,   2407.4,2,  -999.0,    0.20,  0.0090,   0.165,-999.000
    316N145_10,  I07N,   754,  1,      9,      9,2,19950727,2004, -1.7707,  57.2205, 4459,   -999,   2997.7,   1.7688,  34.7355,2,  34.7353,2,    162.4,2,  1.5461,    161.7,2,   128.68,2,    33.97,2,     0.00,2,     2.42,2, -999.000,9, -999.000,9, -999.000,9,-999.0000,9,  -999.00,9,   -999.0,9,  -999.00,9,-999.000,9,   2305.4,2,   2408.3,2,  -999.0, -999.00,-999.0000,-999.000,-999.000
    316N145_10,  I07N,   754,  1,      8,      8,2,19950727,2004, -1.7707,  57.2205, 4459,   -999,   3201.7,   1.6923,  34.7335,2,  34.7327,2,    165.2,2,  1.4514,    165.2,2,   129.74,2,    33.79,2,     0.00,2,     2.40,2, -999.000,9, -999.000,9, -999.000,9,   1.9000,2,    14.70,2,   -999.0,9,  -999.00,9,   8.224,2,   2303.6,2,   2409.9,2,  -999.0,    0.20,  0.0090,   0.164,-999.000
    316N145_10,  I07N,   754,  1,      7,      7,2,19950727,2004, -1.7707,  57.2205, 4459,   -999,   3400.8,   1.6584,  34.7319,2,  34.7319,2,    166.3,2,  1.3983,    166.1,2,   130.61,2,    33.80,2,     0.00,2,     2.40,2, -999.000,9, -999.000,9, -999.000,9,-999.0000,9,  -999.00,9,   -999.0,9,  -999.00,9,-999.000,9,   2304.1,2,   2408.6,2,  -999.0, -999.00,-999.0000,-999.000,-999.000
    316N145_10,  I07N,   754,  1,      6,      6,2,19950727,2004, -1.7707,  57.2205, 4459,   -999,   3598.5,   1.6282,  34.7293,2,  34.7310,2,    168.1,2,  1.3485,    169.3,2,   130.94,2,    33.71,2,     0.00,2,     2.40,2, -999.000,9, -999.000,9, -999.000,9,   1.9130,2,    13.30,2,   -999.0,9,  -999.00,9,   8.336,2,   2304.4,2,   2411.6,2,  -999.0,    0.20,  0.0100,   0.167,-999.000
    316N145_10,  I07N,   754,  1,      5,      5,2,19950727,2004, -1.7707,  57.2205, 4459,   -999,   3797.7,   1.5767,  34.7275,2,  34.7286,2,    170.3,2,  1.2773,    171.3,2,   130.90,2,    33.67,2,     0.00,2,     2.39,2, -999.000,9, -999.000,9, -999.000,9,   1.9000,2,    12.10,2,   -999.0,9,  -999.00,9,   8.394,2,   2310.9,3,   2409.5,2,  -999.0,    0.20,  0.0090,   0.168,-999.000
    316N145_10,  I07N,   754,  1,      4,      4,2,19950727,2004, -1.7707,  57.2205, 4459,   -999,   3996.5,   1.5448,  34.7268,2,  34.7264,2,    172.7,2,  1.2248,    172.7,2,   131.05,2,    33.58,2,     0.00,2,     2.37,2, -999.000,9, -999.000,9, -999.000,9,   1.9040,2,    10.70,2,   -999.0,9,  -999.00,9,   8.434,2,   2301.0,2,   2409.5,2,  -999.0,    0.20,  0.0100,   0.169,-999.000
    316N145_10,  I07N,   754,  1,      3,      3,2,19950727,2004, -1.7707,  57.2205, 4459,   -999,   4200.3,   1.4501,  34.7224,2,  34.7223,2,    177.4,2,  1.1105,    177.1,2,   131.19,2,    33.40,2,     0.00,2,     2.35,2, -999.000,9, -999.000,9, -999.000,9,   1.9090,2,     9.70,2,   -999.0,9,  -999.00,9,   8.501,2,   2297.3,2,   2405.8,2,  -999.0,    0.20,  0.0100,   0.170,-999.000
    316N145_10,  I07N,   754,  1,      2,      2,2,19950727,2004, -1.7707,  57.2205, 4459,   -999,   4404.9,   1.4163,  34.7204,2,  34.7213,2,    180.3,2,  1.0547,    180.3,2,   131.15,2,    33.22,2,     0.00,2,     2.35,2, -999.000,9, -999.000,9, -999.000,9,   1.9130,2,     9.20,2,   -999.0,9,  -999.00,9,   8.425,2,   2296.1,2,   2406.0,2,  -999.0,    0.20,  0.0100,   0.168,-999.000
    316N145_10,  I07N,   754,  1,      1,      1,2,19950727,2004, -1.7707,  57.2205, 4459,   -999,   4523.3,   1.4022,  34.7210,2,  34.7210,2,    182.0,2,  1.0275,    180.7,2,   131.66,2,    33.27,2,     0.00,2,     2.34,2, -999.000,9, -999.000,9, -999.000,9,   1.9040,2,     9.00,2,   -999.0,9,  -999.00,9,   8.376,2,   2297.0,2,   2405.7,2,  -999.0,    0.20,  0.0100,   0.168,-999.000