BOTTLE,20080821WHPSIOSCD
EXPOCODE,SECT_ID,STNNBR,CASTNO,SAMPNO,BTLNBR,BTLNBR_FLAG_W,DATE,TIME,LATITUDE,LONGITUDE,DEPTH,CTDRAW,CTDPRS,CTDTMP,CTDSAL,CTDSAL_FLAG_W,SALNTY,SALNTY_FLAG_W,CTDOXY,CTDOXY_FLAG_W,THETA,OXYGEN,OXYGEN_FLAG_W,SILCAT,SILCAT_FLAG_W,NITRAT,NITRAT_FLAG_W,NITRIT,NITRIT_FLAG_W,PHSPHT,PHSPHT_FLAG_W,CFC-11,CFC-11_FLAG_W,CFC-12,CFC-12_FLAG_W,TRITUM,TRITUM_FLAG_W,HELIUM,HELIUM_FLAG_W,DELHE3,DELHE3_FLAG_W,DELC14,DELC14_FLAG_W,DELC13,DELC13_FLAG_W,NEON,NEON_FLAG_W,TCARBN,TCARBN_FLAG_W,ALKALI,ALKALI_FLAG_W,C14ERR,DELHER,HELIER,NEONER,TRITER
,,,,,,,,,,,,,DBAR,ITS-90,PSS-78,,PSS-78,,UMOL/KG,,DEG C,UMOL/KG,,UMOL/KG,,UMOL/KG,,UMOL/KG,,UMOL/KG,,PMOL/KG,,PMOL/KG,,TU,,NMOL/KG,,PERCNT,,/MILLE,,/MILLE,,NMOL/KG,,UMOL/KG,,UMOL/KG,,/MILLE,PERCNT,NMOL/KG,NMOL/KG,TU
    316N145_10,  I07N,   711,  1,     36,     36,2,19950716,1401,-17.3653,  54.9973, 4664,   -999,     12.2,  25.1378,  34.8918,2,  34.8921,2,    201.0,2, 25.1353,    207.3,2,     3.74,2,     0.06,2,     0.00,2,     0.14,2,    1.812,2,    1.039,2, -999.000,9,-999.0000,9,  -999.00,9,   -999.0,9,  -999.00,9,-999.000,9,   1947.9,2,   2281.2,2,  -999.0, -999.00,-999.0000,-999.000,-999.000
    316N145_10,  I07N,   711,  1,     35,     35,2,19950716,1401,-17.3653,  54.9973, 4664,   -999,     33.3,  25.1445,  34.8923,2,  34.8913,2,    201.1,2, 25.1375,    207.2,2,     3.73,2,     0.06,2,     0.00,2,     0.14,2, -999.000,9, -999.000,9, -999.000,9,-999.0000,9,  -999.00,9,   -999.0,9,  -999.00,9,-999.000,9,   1947.5,2,   2278.8,2,  -999.0, -999.00,-999.0000,-999.000,-999.000
    316N145_10,  I07N,   711,  1,     34,     34,2,19950716,1401,-17.3653,  54.9973, 4664,   -999,     63.2,  25.1509,  34.8920,2,  34.8978,2,    201.8,2, 25.1374,    207.1,2,     3.71,2,     0.06,2,     0.00,2,     0.14,2,    1.794,2,    1.023,2, -999.000,9,-999.0000,9,  -999.00,9,   -999.0,9,  -999.00,9,-999.000,9,   1949.8,2,   2278.1,2,  -999.0, -999.00,-999.0000,-999.000,-999.000
    316N145_10,  I07N,   711,  1,     33,     33,2,19950716,1401,-17.3653,  54.9973, 4664,   -999,     99.1,  24.3398,  35.1337,2,  35.1356,2,    204.3,2, 24.3190,    206.3,2,     3.70,2,     0.09,2,     0.02,2,     0.15,2,    1.862,2,    1.077,2, -999.000,9,-999.0000,9,  -999.00,9,   -999.0,9,  -999.00,9,-999.000,9,   1973.3,2,   2296.9,2,  -999.0, -999.00,-999.0000,-999.000,-999.000
    316N145_10,  I07N,   711,  1,     32,     32,2,19950716,1401,-17.3653,  54.9973, 4664,   -999,    122.7,  22.1759,  35.3191,2,  35.3163,2,    195.2,2, 22.1517,    192.4,2,     4.38,2,     1.48,2,     0.19,2,     0.27,2,    1.969,2,    1.108,2, -999.000,9,-999.0000,9,  -999.00,9,   -999.0,9,  -999.00,9,-999.000,9,   2012.1,2,   2310.6,2,  -999.0, -999.00,-999.0000,-999.000,-999.000
    316N145_10,  I07N,   711,  1,     31,     31,2,19950716,1401,-17.3653,  54.9973, 4664,   -999,    153.2,  21.3160,  35.4291,2,  35.4291,2,    186.6,2, 21.2865,    187.3,2,     4.72,2,     2.58,2,     0.03,2,     0.32,2, -999.000,9, -999.000,9, -999.000,9,-999.0000,9,  -999.00,9,   -999.0,9,  -999.00,9,-999.000,9,   2027.5,2,   2315.8,2,  -999.0, -999.00,-999.0000,-999.000,-999.000
    316N145_10,  I07N,   711,  1,     30,     30,2,19950716,1401,-17.3653,  54.9973, 4664,   -999,    202.4,  19.7660,  35.5660,2,  35.5653,2,    184.1,2, 19.7290,    181.6,2,     5.40,2,     4.04,2,     0.01,2,     0.40,2,    2.059,2,    1.132,2, -999.000,9,-999.0000,9,  -999.00,9,   -999.0,9,  -999.00,9,-999.000,9,   2056.5,2,   2326.8,2,  -999.0, -999.00,-999.0000,-999.000,-999.000
    316N145_10,  I07N,   711,  1,     29,     29,2,19950716,1401,-17.3653,  54.9973, 4664,   -999,    227.1,  19.1696,  35.6092,2,  35.6026,2,    183.0,2, 19.1289,    181.9,2,     5.73,2,     4.49,2,     0.01,2,     0.44,2,    2.089,2,    1.156,2, -999.000,9,-999.0000,9,  -999.00,9,   -999.0,9,  -999.00,9,-999.000,9,   2067.9,2,   2329.6,2,  -999.0, -999.00,-999.0000,-999.000,-999.000
    316N145_10,  I07N,   711,  1,     28,     28,2,19950716,1401,-17.3653,  54.9973, 4664,   -999,    252.7,  17.2944,  35.5277,2,  35.5261,2,    180.7,2, 17.2522,    174.0,2,     8.17,2,     7.08,2,     0.00,2,     0.60,2,    2.021,2,    1.096,2, -999.000,9,-999.0000,9,  -999.00,9,   -999.0,9,  -999.00,9,-999.000,9,   2091.0,2,   2330.0,2,  -999.0, -999.00,-999.0000,-999.000,-999.000
    316N145_10,  I07N,   711,  1,     27,     27,2,19950716,1401,-17.3653,  54.9973, 4664,   -999,    303.6,  15.9295,  35.5274,2,  35.5225,2,    194.0,2, 15.8814,    196.3,2,     6.05,2,     6.10,2,     0.00,2,     0.56,2, -999.000,9, -999.000,9, -999.000,9,-999.0000,9,  -999.00,9,   -999.0,9,  -999.00,9,-999.000,9,   2095.4,2,   2331.3,2,  -999.0, -999.00,-999.0000,-999.000,-999.000
    316N145_10,  I07N,   711,  1,     26,     26,2,19950716,1401,-17.3653,  54.9973, 4664,   -999,    425.0,  12.4837,  35.1531,2,  35.1421,2,    224.1,2, 12.4263,    224.7,2,     4.82,2,     9.68,2,     0.00,2,     0.76,2,    2.591,2,    1.348,2, -999.000,9,-999.0000,9,  -999.00,9,   -999.0,9,  -999.00,9,-999.000,9,   2102.8,2,   2314.3,2,  -999.0, -999.00,-999.0000,-999.000,-999.000
    316N145_10,  I07N,   711,  1,     25,     25,2,19950716,1401,-17.3653,  54.9973, 4664,   -999,    552.8,  10.0855,  34.8140,2,  34.8107,2,    209.7,2, 10.0201,    210.5,2,     9.87,2,    16.35,2,     0.00,2,     1.17,2,    1.889,2,    0.948,2, -999.000,9,-999.0000,9,  -999.00,9,   -999.0,9,  -999.00,9,-999.000,9,   2127.2,2,   2300.7,2,  -999.0, -999.00,-999.0000,-999.000,-999.000
    316N145_10,  I07N,   711,  1,     24,     24,2,19950716,1401,-17.3653,  54.9973, 4664,   -999,    603.2,   9.3365,  34.7289,2,  34.7286,2,    196.5,2,  9.2683,    208.5,2,    11.78,2,    18.23,2,     0.00,2,     1.29,2,    1.642,2,    0.834,2, -999.000,9,-999.0000,9,  -999.00,9,   -999.0,9,  -999.00,9,-999.000,9,   2134.1,2,   2298.1,2,  -999.0, -999.00,-999.0000,-999.000,-999.000
    316N145_10,  I07N,   711,  1,     23,     23,2,19950716,1401,-17.3653,  54.9973, 4664,   -999,    743.7,   7.0215,  34.5849,2,  34.5857,2,    162.5,2,  6.9496,    166.8,2,    35.01,2,    27.08,2,     0.00,2,     1.91,2, -999.000,9, -999.000,9, -999.000,9,-999.0000,9,  -999.00,9,   -999.0,9,  -999.00,9,-999.000,9,   2191.0,2,   2310.9,2,  -999.0, -999.00,-999.0000,-999.000,-999.000
    316N145_10,  I07N,   711,  1,     22,     22,2,19950716,1401,-17.3653,  54.9973, 4664,   -999,    805.4,   6.3307,  34.5913,2,  34.5916,2,    136.2,2,  6.2566,    148.5,2,    47.77,2,    29.83,2,     0.00,2,     2.12,2,    0.249,2,    0.146,2, -999.000,9,-999.0000,9,  -999.00,9,   -999.0,9,  -999.00,9,-999.000,9,   2215.6,2,   2320.6,2,  -999.0, -999.00,-999.0000,-999.000,-999.000
    316N145_10,  I07N,   711,  1,     21,     21,2,19950716,1401,-17.3653,  54.9973, 4664,   -999,    901.6,   5.6573,  34.6258,2,  34.6275,2,    124.9,2,  5.5783,    129.1,2,    63.36,2,    32.33,2,     0.00,2,     2.33,2,    0.090,2,    0.045,2, -999.000,9,-999.0000,9,  -999.00,9,   -999.0,9,  -999.00,9,-999.000,9,   2244.6,2,   2337.0,2,  -999.0, -999.00,-999.0000,-999.000,-999.000
    316N145_10,  I07N,   711,  1,     20,     20,2,19950716,1401,-17.3653,  54.9973, 4664,   -999,    982.7,   5.2433,  34.6540,2,  34.6506,2,    115.6,2,  5.1596,    121.6,2,    73.02,2,    33.42,2,     0.00,2,     2.42,2,    0.044,2,    0.022,2, -999.000,9,-999.0000,9,  -999.00,9,   -999.0,9,  -999.00,9,-999.000,9,   2259.7,2,   2346.7,2,  -999.0, -999.00,-999.0000,-999.000,-999.000
    316N145_10,  I07N,   711,  1,     19,     19,2,19950716,1401,-17.3653,  54.9973, 4664,   -999,   1031.3,   5.0880,  34.6637,2,  34.6647,2,    119.0,2,  5.0010,    117.8,2,    77.59,2,    33.83,2,     0.00,2,     2.45,2,    0.031,2,    0.013,2, -999.000,9,-999.0000,9,  -999.00,9,   -999.0,9,  -999.00,9,-999.000,9,   2265.7,2,   2353.3,2,  -999.0, -999.00,-999.0000,-999.000,-999.000
    316N145_10,  I07N,   711,  1,     18,     18,2,19950716,1401,-17.3653,  54.9973, 4664,   -999,   1201.4,   4.2156,  34.6543,2,  34.6555,2,    134.0,2,  4.1207,    131.3,2,    81.98,2,    33.78,2,     0.00,2,     2.45,2,    0.017,2,    0.003,2, -999.000,9,-999.0000,9,  -999.00,9,   -999.0,9,  -999.00,9,-999.000,9,   2268.1,2,   2355.5,2,  -999.0, -999.00,-999.0000,-999.000,-999.000
    316N145_10,  I07N,   711,  1,     17,     17,2,19950716,1401,-17.3653,  54.9973, 4664,   -999,   1397.9,   3.4256,  34.6583,2,  34.6594,2,    146.6,2,  3.3215,    147.7,2,    87.63,2,    33.51,2,     0.00,2,     2.40,2,    0.005,2,    0.001,2, -999.000,9,-999.0000,9,  -999.00,9,   -999.0,9,  -999.00,9,-999.000,9,   2273.8,2,   2360.0,2,  -999.0, -999.00,-999.0000,-999.000,-999.000
    316N145_10,  I07N,   711,  1,     16,     16,2,19950716,1401,-17.3653,  54.9973, 4664,   -999,   1599.6,   2.8934,  34.6823,2,  34.6820,2,    155.4,2,  2.7783,    157.2,2,    93.83,2,    33.00,2,     0.00,2,     2.35,2,    0.004,2,   -0.001,2, -999.000,9,-999.0000,9,  -999.00,9,   -999.0,9,  -999.00,9,-999.000,9,   2270.8,2,   2370.2,2,  -999.0, -999.00,-999.0000,-999.000,-999.000
    316N145_10,  I07N,   711,  1,     15,     15,2,19950716,1401,-17.3653,  54.9973, 4664,   -999,   1798.2,   2.5789,  34.7063,2,  34.7067,2,    160.9,2,  2.4509,    161.1,2,   100.96,2,    32.77,2,     0.00,2,     2.34,2,    0.000,2,    0.000,2, -999.000,9,-999.0000,9,  -999.00,9,   -999.0,9,  -999.00,9,-999.000,9,   2275.4,2,   2374.5,2,  -999.0, -999.00,-999.0000,-999.000,-999.000
    316N145_10,  I07N,   711,  1,     14,     14,2,19950716,1401,-17.3653,  54.9973, 4664,   -999,   2001.1,   2.3945,  34.7246,2,  34.7243,2,    160.5,2,  2.2517,    159.4,2,   109.03,2,    33.00,2,     0.00,2,     2.35,2, -999.000,9, -999.000,9, -999.000,9,-999.0000,9,  -999.00,9,   -999.0,9,  -999.00,9,-999.000,9,   2283.8,2,   2380.3,2,  -999.0, -999.00,-999.0000,-999.000,-999.000
    316N145_10,  I07N,   711,  1,     13,     13,2,19950716,1401,-17.3653,  54.9973, 4664,   -999,   2195.7,   2.1939,  34.7349,2,  34.7355,2,    159.4,2,  2.0372,    159.0,2,   116.98,2,    33.27,2,     0.00,2,     2.38,2, -999.000,9, -999.000,9, -999.000,9,-999.0000,9,  -999.00,9,   -999.0,9,  -999.00,9,-999.000,9,   2291.9,2,   2393.1,2,  -999.0, -999.00,-999.0000,-999.000,-999.000
    316N145_10,  I07N,   711,  1,     12,     12,2,19950716,1401,-17.3653,  54.9973, 4664,   -999,   2399.4,   2.0688,  34.7375,2,  34.7384,2,    160.8,2,  1.8961,    158.4,2,   122.05,2,    33.45,2,     0.00,2,     2.39,2, -999.000,9, -999.000,9, -999.000,9,-999.0000,9,  -999.00,9,   -999.0,9,  -999.00,9,-999.000,9,   2298.0,2,   2397.3,2,  -999.0, -999.00,-999.0000,-999.000,-999.000
    316N145_10,  I07N,   711,  1,     11,     11,2,19950716,1401,-17.3653,  54.9973, 4664,   -999,   2597.1,   1.9764,  34.7392,2,  34.7388,2,    160.1,2,  1.7873,    159.6,2,   125.13,2,    33.54,2,     0.00,2,     2.39,2, -999.000,9, -999.000,9, -999.000,9,-999.0000,9,  -999.00,9,   -999.0,9,  -999.00,9,-999.000,9,   2300.0,2,   2402.4,2,  -999.0, -999.00,-999.0000,-999.000,-999.000
    316N145_10,  I07N,   711,  1,     10,     10,2,19950716,1401,-17.3653,  54.9973, 4664,   -999,   2799.0,   1.8960,  34.7366,2,  34.7374,2,    162.0,2,  1.6897,    161.5,2,   126.75,2,    33.49,2,     0.00,2,     2.39,2, -999.000,9, -999.000,9, -999.000,9,-999.0000,9,  -999.00,9,   -999.0,9,  -999.00,9,-999.000,9,   2299.6,2,   2401.4,2,  -999.0, -999.00,-999.0000,-999.000,-999.000
    316N145_10,  I07N,   711,  1,      9,      9,2,19950716,1401,-17.3653,  54.9973, 4664,   -999,   2997.9,   1.8014,  34.7351,2,  34.7348,2,    164.9,2,  1.5780,    165.1,2,   128.55,2,    33.45,2,     0.00,2,     2.38,2, -999.000,9, -999.000,9, -999.000,9,-999.0000,9,  -999.00,9,   -999.0,9,  -999.00,9,-999.000,9,   2300.7,2,   2405.8,2,  -999.0, -999.00,-999.0000,-999.000,-999.000
    316N145_10,  I07N,   711,  1,      8,      8,2,19950716,1401,-17.3653,  54.9973, 4664,   -999,   3246.5,   1.7096,  34.7333,2,  34.7332,2,    166.8,2,  1.4638,    166.8,2,   129.98,2,    33.35,2,     0.00,2,     2.38,2, -999.000,9, -999.000,9, -999.000,9,-999.0000,9,  -999.00,9,   -999.0,9,  -999.00,9,-999.000,9,   -999.9,5,   2417.4,3,  -999.0, -999.00,-999.0000,-999.000,-999.000
    316N145_10,  I07N,   711,  1,      7,      7,2,19950716,1401,-17.3653,  54.9973, 4664,   -999,   3495.6,   1.5736,  34.7281,2,  34.7293,2,    173.1,2,  1.3059,    174.0,2,   129.94,2,    33.13,2,     0.00,2,     2.35,2, -999.000,9, -999.000,9, -999.000,9,-999.0000,9,  -999.00,9,   -999.0,9,  -999.00,9,-999.000,9,   2298.9,2,   2407.9,2,  -999.0, -999.00,-999.0000,-999.000,-999.000
    316N145_10,  I07N,   711,  1,      6,      6,2,19950716,1401,-17.3653,  54.9973, 4664,   -999,   3747.9,   1.4349,  34.7235,2,  34.7262,3,    180.5,2,  1.1447,    181.1,2,   129.34,2,    32.81,2,     0.00,2,     2.32,2, -999.000,9, -999.000,9, -999.000,9,-999.0000,9,  -999.00,9,   -999.0,9,  -999.00,9,-999.000,9,   2289.0,2,   2395.8,2,  -999.0, -999.00,-999.0000,-999.000,-999.000
    316N145_10,  I07N,   711,  1,      5,      5,2,19950716,1401,-17.3653,  54.9973, 4664,   -999,   3991.8,   1.2932,  34.7182,2,  34.7177,2,    187.7,2,  0.9809,    189.9,2,   127.45,2,    32.35,2,     0.00,2,     2.28,2, -999.000,9, -999.000,9, -999.000,9,-999.0000,9,  -999.00,9,   -999.0,9,  -999.00,9,-999.000,9,   2280.3,2,   2391.7,2,  -999.0, -999.00,-999.0000,-999.000,-999.000
    316N145_10,  I07N,   711,  1,      4,      4,2,19950716,1401,-17.3653,  54.9973, 4664,   -999,   4291.7,   1.1318,  34.7120,2,  34.7122,2,    197.8,2,  0.7915,    199.1,2,   125.75,2,    31.90,2,     0.00,2,     2.24,2, -999.000,9, -999.000,9, -999.000,9,-999.0000,9,  -999.00,9,   -999.0,9,  -999.00,9,-999.000,9,   2271.7,2,   2380.7,2,  -999.0, -999.00,-999.0000,-999.000,-999.000
    316N145_10,  I07N,   711,  1,      3,      3,2,19950716,1401,-17.3653,  54.9973, 4664,   -999,   4638.4,   1.0714,  34.7093,2,  34.7080,2,    204.0,2,  0.6940,    203.2,2,   125.33,2,    31.76,2,     0.00,2,     2.23,2, -999.000,9, -999.000,9, -999.000,9,-999.0000,9,  -999.00,9,   -999.0,9,  -999.00,9,-999.000,9,   2267.0,2,   2377.3,2,  -999.0, -999.00,-999.0000,-999.000,-999.000
    316N145_10,  I07N,   711,  1,      2,      2,2,19950716,1401,-17.3653,  54.9973, 4664,   -999,   4717.0,   1.0726,  34.7088,2,  34.7074,2,    203.8,2,  0.6861,    203.5,2,   125.47,2,    31.76,2,     0.00,2,     2.23,2, -999.000,9, -999.000,9, -999.000,9,-999.0000,9,  -999.00,9,   -999.0,9,  -999.00,9,-999.000,9,   2267.4,2,   2379.3,2,  -999.0, -999.00,-999.0000,-999.000,-999.000
    316N145_10,  I07N,   711,  1,      1,      1,2,19950716,1401,-17.3653,  54.9973, 4664,   -999,   4741.8,   1.0746,  34.7085,2,  34.7078,2,    203.8,2,  0.6852,    203.6,2,   125.43,2,    31.76,2,     0.00,2,     2.22,2, -999.000,9, -999.000,9, -999.000,9,-999.0000,9,  -999.00,9,   -999.0,9,  -999.00,9,-999.000,9,   2266.1,2,   2376.4,2,  -999.0, -999.00,-999.0000,-999.000,-999.000