BOTTLE,20080821WHPSIOSCD
EXPOCODE,SECT_ID,STNNBR,CASTNO,SAMPNO,BTLNBR,BTLNBR_FLAG_W,DATE,TIME,LATITUDE,LONGITUDE,DEPTH,CTDRAW,CTDPRS,CTDTMP,CTDSAL,CTDSAL_FLAG_W,SALNTY,SALNTY_FLAG_W,CTDOXY,CTDOXY_FLAG_W,THETA,OXYGEN,OXYGEN_FLAG_W,SILCAT,SILCAT_FLAG_W,NITRAT,NITRAT_FLAG_W,NITRIT,NITRIT_FLAG_W,PHSPHT,PHSPHT_FLAG_W,CFC-11,CFC-11_FLAG_W,CFC-12,CFC-12_FLAG_W,TRITUM,TRITUM_FLAG_W,HELIUM,HELIUM_FLAG_W,DELHE3,DELHE3_FLAG_W,DELC14,DELC14_FLAG_W,DELC13,DELC13_FLAG_W,NEON,NEON_FLAG_W,TCARBN,TCARBN_FLAG_W,ALKALI,ALKALI_FLAG_W,C14ERR,DELHER,HELIER,NEONER,TRITER
,,,,,,,,,,,,,DBAR,ITS-90,PSS-78,,PSS-78,,UMOL/KG,,DEG C,UMOL/KG,,UMOL/KG,,UMOL/KG,,UMOL/KG,,UMOL/KG,,PMOL/KG,,PMOL/KG,,TU,,NMOL/KG,,PERCNT,,/MILLE,,/MILLE,,NMOL/KG,,UMOL/KG,,UMOL/KG,,/MILLE,PERCNT,NMOL/KG,NMOL/KG,TU
    316N145_10,  I07N,   839,  1,     24,     24,2,19950818,1541, 21.6838,  59.9493, 2189,   -999,      3.3,  23.8110,  35.8834,2,  35.8838,2,    213.6,2, 23.8106,    207.0,2,     8.09,2,    11.69,2,     0.43,2,     1.29,2,    1.907,2,    1.060,2, -999.000,9,-999.0000,9,  -999.00,9,   -999.0,9,  -999.00,9,-999.000,9,   -999.9,5,   2345.5,2,  -999.0, -999.00,-999.0000,-999.000,-999.000
    316N145_10,  I07N,   839,  1,     23,     23,2,19950818,1541, 21.6838,  59.9493, 2189,   -999,     25.1,  23.1180,  35.8176,2,  35.8043,2,    191.0,2, 23.1131,    200.2,2,     5.63,2,    13.26,2,     0.90,2,     1.38,2,    1.921,2,    1.058,2, -999.000,9,-999.0000,9,  -999.00,9,   -999.0,9,  -999.00,9,-999.000,9,   -999.9,5,   2341.1,2,  -999.0, -999.00,-999.0000,-999.000,-999.000
    316N145_10,  I07N,   839,  1,     22,     22,2,19950818,1541, 21.6838,  59.9493, 2189,   -999,     50.6,  20.9813,  35.7967,2,  35.8059,2,     71.6,2, 20.9718,     88.4,2,    15.04,2,    22.20,2,     0.03,2,     1.89,2,    1.570,2,    0.878,2, -999.000,9,-999.0000,9,  -999.00,9,   -999.0,9,  -999.00,9,-999.000,9,   -999.9,5,   2336.5,2,  -999.0, -999.00,-999.0000,-999.000,-999.000
    316N145_10,  I07N,   839,  1,     21,     21,2,19950818,1541, 21.6838,  59.9493, 2189,   -999,     75.3,  20.1149,  35.8827,2,  35.8767,2,     10.2,2, 20.1011,     11.5,2,    16.60,2,    24.31,2,     0.01,2,     2.08,2,    1.278,2,    0.723,2, -999.000,9,-999.0000,9,  -999.00,9,   -999.0,9,  -999.00,9,-999.000,9,   -999.9,5,   2335.1,2,  -999.0, -999.00,-999.0000,-999.000,-999.000
    316N145_10,  I07N,   839,  1,     20,     20,2,19950818,1541, 21.6838,  59.9493, 2189,   -999,    120.2,  18.3652,  35.8280,2,  35.8217,2,      3.1,2, 18.3444,      2.6,2,    21.47,2,    23.71,2,     0.01,2,     2.24,2,    0.944,2,    0.552,2, -999.000,9,-999.0000,9,  -999.00,9,   -999.0,9,  -999.00,9,-999.000,9,   -999.9,5,   2340.3,2,  -999.0, -999.00,-999.0000,-999.000,-999.000
    316N145_10,  I07N,   839,  1,     19,     19,2,19950818,1541, 21.6838,  59.9493, 2189,   -999,    161.3,  17.1355,  35.7999,2,  35.7966,2,      5.9,2, 17.1088,      7.5,2,    23.55,2,    24.19,2,     0.00,2,     2.21,2,    0.851,2,    0.492,2, -999.000,9,-999.0000,9,  -999.00,9,   -999.0,9,  -999.00,9,-999.000,9,   -999.9,5,   2335.3,2,  -999.0, -999.00,-999.0000,-999.000,-999.000
    316N145_10,  I07N,   839,  1,     18,     18,2,19950818,1541, 21.6838,  59.9493, 2189,   -999,    191.1,  16.5798,  35.8652,2,  35.8724,2,      3.3,2, 16.5488,      3.4,2,    25.45,2,    22.84,2,     0.00,2,     2.28,2,    0.678,2,    0.405,2, -999.000,9,-999.0000,9,  -999.00,9,   -999.0,9,  -999.00,9,-999.000,9,   -999.9,5,   2344.2,2,  -999.0, -999.00,-999.0000,-999.000,-999.000
    316N145_10,  I07N,   839,  1,     17,     17,2,19950818,1541, 21.6838,  59.9493, 2189,   -999,    299.9,  14.5708,  35.8269,2,  35.8270,2,      2.8,2, 14.5260,      3.7,2,    29.96,2,    25.03,2,     0.00,2,     2.34,2,    0.460,2,    0.279,2, -999.000,9,-999.0000,9,  -999.00,9,   -999.0,9,  -999.00,9,-999.000,9,   -999.9,5,   2341.3,2,  -999.0, -999.00,-999.0000,-999.000,-999.000
    316N145_10,  I07N,   839,  1,     16,     16,2,19950818,1541, 21.6838,  59.9493, 2189,   -999,    399.3,  13.6024,  35.8186,2,  35.8124,2,      2.5,2, 13.5452,      3.5,2,    35.18,2,    25.96,2,     0.00,2,     2.45,2,    0.339,2,    0.188,2, -999.000,9,-999.0000,9,  -999.00,9,   -999.0,9,  -999.00,9,-999.000,9,   -999.9,5,   2347.7,2,  -999.0, -999.00,-999.0000,-999.000,-999.000
    316N145_10,  I07N,   839,  1,     15,     15,2,19950818,1541, 21.6838,  59.9493, 2189,   -999,    449.7,  13.3352,  35.8542,2,  35.8471,2,      1.4,2, 13.2713,      1.1,2,    38.48,2,    24.84,2,     0.00,2,     2.53,2,    0.238,2,    0.143,2, -999.000,9,-999.0000,9,  -999.00,9,   -999.0,9,  -999.00,9,-999.000,9,   -999.9,5,   2351.2,2,  -999.0, -999.00,-999.0000,-999.000,-999.000
    316N145_10,  I07N,   839,  1,     14,     14,2,19950818,1541, 21.6838,  59.9493, 2189,   -999,    600.0,  11.7574,  35.6729,2,  35.6711,2,      1.6,2, 11.6784,      1.2,2,    49.81,2,    27.83,2,     0.00,2,     2.68,2,    0.080,2,    0.054,2, -999.000,9,-999.0000,9,  -999.00,9,   -999.0,9,  -999.00,9,-999.000,9,   -999.9,5,   2358.2,2,  -999.0, -999.00,-999.0000,-999.000,-999.000
    316N145_10,  I07N,   839,  1,     13,     13,2,19950818,1541, 21.6838,  59.9493, 2189,   -999,    693.6,  11.2002,  35.6227,2,  35.6218,2,      1.8,2, 11.1113,      2.1,2,    54.51,2,    30.08,2,     0.00,2,     2.72,2,    0.064,2,    0.035,2, -999.000,9,-999.0000,9,  -999.00,9,   -999.0,9,  -999.00,9,-999.000,9,   -999.9,5,   2353.6,2,  -999.0, -999.00,-999.0000,-999.000,-999.000
    316N145_10,  I07N,   839,  1,     12,     12,2,19950818,1541, 21.6838,  59.9493, 2189,   -999,    801.3,  10.3533,  35.5562,2,  35.5556,2,      1.9,2, 10.2550,      2.7,2,    62.36,2,    32.58,2,     0.00,2,     2.79,2,    0.039,2,    0.023,2, -999.000,9,-999.0000,9,  -999.00,9,   -999.0,9,  -999.00,9,-999.000,9,   -999.9,5,   2363.4,2,  -999.0, -999.00,-999.0000,-999.000,-999.000
    316N145_10,  I07N,   839,  1,     11,     11,2,19950818,1541, 21.6838,  59.9493, 2189,   -999,    899.8,   9.6318,  35.4883,2,  35.4884,2,      2.1,2,  9.5255,      2.7,2,    69.00,2,    34.23,2,     0.00,2,     2.86,2,    0.025,2,    0.016,2, -999.000,9,-999.0000,9,  -999.00,9,   -999.0,9,  -999.00,9,-999.000,9,   -999.9,5,   2363.9,2,  -999.0, -999.00,-999.0000,-999.000,-999.000
    316N145_10,  I07N,   839,  1,     10,     10,2,19950818,1541, 21.6838,  59.9493, 2189,   -999,   1000.2,   8.9389,  35.4169,2,  35.4170,2,      2.2,2,  8.8252,      3.2,2,    75.13,2,    35.61,2,     0.00,2,     2.92,2, -999.000,9, -999.000,9, -999.000,9,-999.0000,9,  -999.00,9,   -999.0,9,  -999.00,9,-999.000,9,   -999.9,5,   2372.0,2,  -999.0, -999.00,-999.0000,-999.000,-999.000
    316N145_10,  I07N,   839,  1,      9,      9,2,19950818,1541, 21.6838,  59.9493, 2189,   -999,   1101.0,   8.0328,  35.3210,2,  35.3193,2,      6.2,2,  7.9143,      6.9,2,    83.21,2,    37.04,2,     0.00,2,     2.99,2,    0.012,2,    0.008,2, -999.000,9,-999.0000,9,  -999.00,9,   -999.0,9,  -999.00,9,-999.000,9,   -999.9,5,   2375.8,2,  -999.0, -999.00,-999.0000,-999.000,-999.000
    316N145_10,  I07N,   839,  1,      8,      8,2,19950818,1541, 21.6838,  59.9493, 2189,   -999,   1201.9,   7.2511,  35.2374,2,  35.2377,2,     12.7,2,  7.1280,     12.4,2,    90.45,2,    37.67,2,     0.00,2,     3.02,2,    0.007,2,    0.007,2, -999.000,9,-999.0000,9,  -999.00,9,   -999.0,9,  -999.00,9,-999.000,9,   -999.9,5,   2383.8,2,  -999.0, -999.00,-999.0000,-999.000,-999.000
    316N145_10,  I07N,   839,  1,      7,      7,2,19950818,1541, 21.6838,  59.9493, 2189,   -999,   1298.7,   6.6720,  35.1767,2,  35.1720,2,     17.8,2,  6.5437,     17.1,2,    96.13,2,    38.24,2,     0.00,2,     3.05,2, -999.000,9, -999.000,9, -999.000,9,-999.0000,9,  -999.00,9,   -999.0,9,  -999.00,9,-999.000,9,   -999.9,5,   2385.3,2,  -999.0, -999.00,-999.0000,-999.000,-999.000
    316N145_10,  I07N,   839,  1,      6,      6,2,19950818,1541, 21.6838,  59.9493, 2189,   -999,   1500.9,   5.2983,  35.0399,2,  35.0421,2,     36.3,2,  5.1635,     35.6,2,   109.96,2,    38.49,2,     0.00,2,     3.02,2,    0.003,2,    0.002,2, -999.000,9,-999.0000,9,  -999.00,9,   -999.0,9,  -999.00,9,-999.000,9,   -999.9,5,   2401.9,2,  -999.0, -999.00,-999.0000,-999.000,-999.000
    316N145_10,  I07N,   839,  1,      5,      5,2,19950818,1541, 21.6838,  59.9493, 2189,   -999,   1702.3,   4.3557,  34.9535,2,  34.9534,2,     49.6,2,  4.2124,     52.4,2,   120.73,2,    38.25,2,     0.00,2,     2.97,2,   -0.001,2,    0.003,2, -999.000,9,-999.0000,9,  -999.00,9,   -999.0,9,  -999.00,9,-999.000,9,   -999.9,5,   2409.9,2,  -999.0, -999.00,-999.0000,-999.000,-999.000
    316N145_10,  I07N,   839,  1,      4,      4,2,19950818,1541, 21.6838,  59.9493, 2189,   -999,   1899.5,   3.2964,  34.8614,2,  34.8592,2,     68.4,2,  3.1491,     75.3,2,   132.84,2,    37.77,2,     0.00,2,     2.87,2, -999.000,9, -999.000,9, -999.000,9,-999.0000,9,  -999.00,9,   -999.0,9,  -999.00,9,-999.000,9,   -999.9,5,   2428.7,2,  -999.0, -999.00,-999.0000,-999.000,-999.000
    316N145_10,  I07N,   839,  1,      3,      3,2,19950818,1541, 21.6838,  59.9493, 2189,   -999,   2102.2,   2.8933,  34.8267,2,  34.8271,2,     75.3,2,  2.7335,     84.5,2,   137.56,2,    37.49,2,     0.00,2,     2.83,2,    0.000,2,    0.004,2, -999.000,9,-999.0000,9,  -999.00,9,   -999.0,9,  -999.00,9,-999.000,9,   -999.9,5,   2433.9,2,  -999.0, -999.00,-999.0000,-999.000,-999.000
    316N145_10,  I07N,   839,  1,      2,      2,2,19950818,1541, 21.6838,  59.9493, 2189,   -999,   2172.8,   2.7539,  34.8163,2,  34.8167,2,     78.6,2,  2.5899,     87.9,2,   139.44,2,    37.39,2,     0.00,2,     2.81,2,   -0.001,2,    0.005,2, -999.000,9,-999.0000,9,  -999.00,9,   -999.0,9,  -999.00,9,-999.000,9,   -999.9,5,   2438.3,2,  -999.0, -999.00,-999.0000,-999.000,-999.000
    316N145_10,  I07N,   839,  1,      1,      1,2,19950818,1541, 21.6838,  59.9493, 2189,   -999,   2216.6,   2.5701,  34.8012,2,  34.8024,2,     82.6,2,  2.4051,     92.4,2,   141.91,2,    37.21,2,     0.00,2,     2.79,2,    0.002,2,    0.006,2, -999.000,9,-999.0000,9,  -999.00,9,   -999.0,9,  -999.00,9,-999.000,9,   -999.9,5,   2438.6,2,  -999.0, -999.00,-999.0000,-999.000,-999.000
    316N145_10,  I07N,   840,  1,     10,     10,2,19950818,1847, 21.9013,  59.7925,  481,   -999,      3.2,  22.7542,  35.9648,2,  35.9654,2,    164.8,2, 22.7537,    179.6,2,     5.80,2,    15.05,2,     0.61,2,     1.47,2,    1.786,2,    1.002,2, -999.000,9,-999.0000,9,  -999.00,9,   -999.0,9,  -999.00,9,-999.000,9,   2142.2,2,   2350.7,2,  -999.0, -999.00,-999.0000,-999.000,-999.000
    316N145_10,  I07N,   840,  1,      9,      9,2,19950818,1847, 21.9013,  59.7925,  481,   -999,     23.8,  22.2053,  35.9735,2,  35.9743,2,    124.8,2, 22.2007,    145.5,2,     8.22,2,    17.14,2,     0.70,2,     1.64,2,    1.676,2,    0.930,2, -999.000,9,-999.0000,9,  -999.00,9,   -999.0,9,  -999.00,9,-999.000,9,   -999.9,9,   -999.9,9,  -999.0, -999.00,-999.0000,-999.000,-999.000
    316N145_10,  I07N,   840,  1,      8,      8,2,19950818,1847, 21.9013,  59.7925,  481,   -999,     48.8,  20.9008,  35.9004,2,  35.9046,2,     33.8,2, 20.8917,     27.3,2,    14.12,2,    23.53,2,     0.30,2,     1.99,2,    1.441,2,    0.800,2, -999.000,9,-999.0000,9,  -999.00,9,   -999.0,9,  -999.00,9,-999.000,9,   -999.9,9,   -999.9,9,  -999.0, -999.00,-999.0000,-999.000,-999.000
    316N145_10,  I07N,   840,  1,      7,      7,2,19950818,1847, 21.9013,  59.7925,  481,   -999,     98.3,  19.3538,  35.8439,2,  35.8424,2,      5.5,2, 19.3362,      5.4,2,    18.45,2,    24.23,2,     0.11,2,     2.19,2,    1.154,2,    0.658,2, -999.000,9,-999.0000,9,  -999.00,9,   -999.0,9,  -999.00,9,-999.000,9,   -999.9,9,   -999.9,9,  -999.0, -999.00,-999.0000,-999.000,-999.000
    316N145_10,  I07N,   840,  1,      6,      6,2,19950818,1847, 21.9013,  59.7925,  481,   -999,    148.0,  17.6042,  35.8144,2,  35.8146,2,      1.9,2, 17.5792,      1.7,2,    22.78,2,    22.97,2,     0.02,2,     2.28,2,    0.832,2,    0.492,2, -999.000,9,-999.0000,9,  -999.00,9,   -999.0,9,  -999.00,9,-999.000,9,   -999.9,9,   -999.9,9,  -999.0, -999.00,-999.0000,-999.000,-999.000
    316N145_10,  I07N,   840,  1,      5,      5,2,19950818,1847, 21.9013,  59.7925,  481,   -999,    197.2,  16.2791,  35.8889,2,  35.8868,2,      2.2,2, 16.2475,      3.0,2,    25.72,2,    23.13,2,     0.00,2,     2.30,2, -999.000,9, -999.000,9, -999.000,9,-999.0000,9,  -999.00,9,   -999.0,9,  -999.00,9,-999.000,9,   -999.9,9,   -999.9,9,  -999.0, -999.00,-999.0000,-999.000,-999.000
    316N145_10,  I07N,   840,  1,      4,      4,2,19950818,1847, 21.9013,  59.7925,  481,   -999,    272.9,  15.0808,  35.8902,2,  35.8895,2,      1.9,2, 15.0390,      2.8,2,    28.65,2,    24.06,2,     0.00,2,     2.35,2,    0.513,2,    0.304,2, -999.000,9,-999.0000,9,  -999.00,9,   -999.0,9,  -999.00,9,-999.000,9,   -999.9,9,   -999.9,9,  -999.0, -999.00,-999.0000,-999.000,-999.000
    316N145_10,  I07N,   840,  1,      3,      3,2,19950818,1847, 21.9013,  59.7925,  481,   -999,    347.2,  13.6111,  35.8315,2,  35.8326,2,      2.0,2, 13.5614,      2.5,2,    35.07,2,    25.46,2,     0.00,2,     2.47,2,    0.333,2,    0.187,2, -999.000,9,-999.0000,9,  -999.00,9,   -999.0,9,  -999.00,9,-999.000,9,   -999.9,9,   -999.9,9,  -999.0, -999.00,-999.0000,-999.000,-999.000
    316N145_10,  I07N,   840,  1,      2,      2,2,19950818,1847, 21.9013,  59.7925,  481,   -999,    446.0,  12.6578,  35.7451,2,  35.7454,2,      2.3,2, 12.5966,      2.8,2,    41.48,2,    26.91,2,     0.00,2,     2.56,2,    0.197,2,    0.114,2, -999.000,9,-999.0000,9,  -999.00,9,   -999.0,9,  -999.00,9,-999.000,9,   -999.9,9,   -999.9,9,  -999.0, -999.00,-999.0000,-999.000,-999.000
    316N145_10,  I07N,   840,  1,      1,      1,2,19950818,1847, 21.9013,  59.7925,  481,   -999,    471.5,  12.3794,  35.7194,2,  35.7224,3,      2.4,2, 12.3156,      2.6,2,    43.20,2,    27.38,2,     0.00,2,     2.58,2,    0.168,2,    0.098,2, -999.000,9,-999.0000,9,  -999.00,9,   -999.0,9,  -999.00,9,-999.000,9,   -999.9,9,   -999.9,9,  -999.0, -999.00,-999.0000,-999.000,-999.000