BOTTLE,20080821WHPSIOSCD
EXPOCODE,SECT_ID,STNNBR,CASTNO,SAMPNO,BTLNBR,BTLNBR_FLAG_W,DATE,TIME,LATITUDE,LONGITUDE,DEPTH,CTDRAW,CTDPRS,CTDTMP,CTDSAL,CTDSAL_FLAG_W,SALNTY,SALNTY_FLAG_W,CTDOXY,CTDOXY_FLAG_W,THETA,OXYGEN,OXYGEN_FLAG_W,SILCAT,SILCAT_FLAG_W,NITRAT,NITRAT_FLAG_W,NITRIT,NITRIT_FLAG_W,PHSPHT,PHSPHT_FLAG_W,CFC-11,CFC-11_FLAG_W,CFC-12,CFC-12_FLAG_W,TRITUM,TRITUM_FLAG_W,HELIUM,HELIUM_FLAG_W,DELHE3,DELHE3_FLAG_W,DELC14,DELC14_FLAG_W,DELC13,DELC13_FLAG_W,NEON,NEON_FLAG_W,TCARBN,TCARBN_FLAG_W,ALKALI,ALKALI_FLAG_W,C14ERR,DELHER,HELIER,NEONER,TRITER
,,,,,,,,,,,,,DBAR,ITS-90,PSS-78,,PSS-78,,UMOL/KG,,DEG C,UMOL/KG,,UMOL/KG,,UMOL/KG,,UMOL/KG,,UMOL/KG,,PMOL/KG,,PMOL/KG,,TU,,NMOL/KG,,PERCNT,,/MILLE,,/MILLE,,NMOL/KG,,UMOL/KG,,UMOL/KG,,/MILLE,PERCNT,NMOL/KG,NMOL/KG,TU
    316N145_10,  I07N,   743,  1,     36,     36,2,19950724,1835, -6.5525,  54.2903, 3773,   -999,      8.4,  26.1897,  35.2003,2,  35.1993,2,    204.9,2, 26.1880,    201.4,2,     3.37,2,     0.74,2,     0.02,2,     0.23,2,    1.747,2,    0.974,2, -999.000,9,-999.0000,9,  -999.00,9,   -999.0,9,  -999.00,9,-999.000,9,   1976.8,2,   2305.7,2,  -999.0, -999.00,-999.0000,-999.000,-999.000
    316N145_10,  I07N,   743,  1,     35,     35,2,19950724,1835, -6.5525,  54.2903, 3773,   -999,     15.7,  26.1928,  35.2000,2,  35.1989,2,    201.7,2, 26.1895,    201.1,2,     3.32,2,     0.74,2,     0.02,2,     0.23,2, -999.000,9, -999.000,9, -999.000,9,-999.0000,9,  -999.00,9,   -999.0,9,  -999.00,9,-999.000,9,   -999.9,9,   -999.9,9,  -999.0, -999.00,-999.0000,-999.000,-999.000
    316N145_10,  I07N,   743,  1,     34,     34,2,19950724,1835, -6.5525,  54.2903, 3773,   -999,     49.7,  24.8324,  35.1914,2,  35.1905,2,    192.2,2, 24.8219,    181.8,2,     4.82,2,     3.15,2,     0.17,2,     0.39,2,    1.669,2,    0.929,2, -999.000,9,-999.0000,9,  -999.00,9,   -999.0,9,  -999.00,9,-999.000,9,   -999.9,9,   -999.9,9,  -999.0, -999.00,-999.0000,-999.000,-999.000
    316N145_10,  I07N,   743,  1,     33,     33,2,19950724,1835, -6.5525,  54.2903, 3773,   -999,     75.0,  19.4188,  35.1946,2,  35.1975,2,    119.6,2, 19.4054,    118.6,2,    12.18,2,    14.03,2,     0.21,2,     1.04,2,    1.526,2,    0.811,2, -999.000,9,-999.0000,9,  -999.00,9,   -999.0,9,  -999.00,9,-999.000,9,   -999.9,9,   -999.9,9,  -999.0, -999.00,-999.0000,-999.000,-999.000
    316N145_10,  I07N,   743,  1,     32,     32,2,19950724,1835, -6.5525,  54.2903, 3773,   -999,    110.6,  17.1548,  35.1916,2,  35.1889,2,    106.4,2, 17.1366,    105.4,2,    14.72,2,    17.51,2,     0.02,2,     1.24,2,    1.444,2,    0.754,2, -999.000,9,-999.0000,9,  -999.00,9,   -999.0,9,  -999.00,9,-999.000,9,   -999.9,9,   -999.9,9,  -999.0, -999.00,-999.0000,-999.000,-999.000
    316N145_10,  I07N,   743,  1,     31,     31,2,19950724,1835, -6.5525,  54.2903, 3773,   -999,    149.8,  14.3775,  35.1120,2,  35.1145,2,    102.9,2, 14.3557,    103.2,2,    18.46,2,    20.54,2,     0.00,2,     1.43,2, -999.000,9, -999.000,9, -999.000,9,-999.0000,9,  -999.00,9,   -999.0,9,  -999.00,9,-999.000,9,   -999.9,9,   -999.9,9,  -999.0, -999.00,-999.0000,-999.000,-999.000
    316N145_10,  I07N,   743,  1,     30,     30,2,19950724,1835, -6.5525,  54.2903, 3773,   -999,    174.8,  13.5062,  35.0859,2,  35.0852,2,    111.8,2, 13.4816,    110.2,2,    18.94,2,    20.81,2,     0.00,2,     1.45,2,    1.204,2,    0.624,2, -999.000,9,-999.0000,9,  -999.00,9,   -999.0,9,  -999.00,9,-999.000,9,   -999.9,9,   -999.9,9,  -999.0, -999.00,-999.0000,-999.000,-999.000
    316N145_10,  I07N,   743,  1,     29,     29,2,19950724,1835, -6.5525,  54.2903, 3773,   -999,    201.8,  12.7670,  35.0650,2,  35.0614,2,    115.5,2, 12.7397,    117.9,2,    18.72,2,    21.00,2,     0.00,2,     1.46,2, -999.000,9, -999.000,9, -999.000,9,-999.0000,9,  -999.00,9,   -999.0,9,  -999.00,9,-999.000,9,   -999.9,9,   -999.9,9,  -999.0, -999.00,-999.0000,-999.000,-999.000
    316N145_10,  I07N,   743,  1,     28,     28,2,19950724,1835, -6.5525,  54.2903, 3773,   -999,    252.0,  11.9209,  35.0099,2,  35.0066,2,    120.2,2, 11.8882,    121.4,2,    19.71,2,    21.99,2,     0.00,2,     1.52,2,    1.072,2,    0.536,2, -999.000,9,-999.0000,9,  -999.00,9,   -999.0,9,  -999.00,9,-999.000,9,   -999.9,9,   -999.9,9,  -999.0, -999.00,-999.0000,-999.000,-999.000
    316N145_10,  I07N,   743,  1,     27,     27,2,19950724,1835, -6.5525,  54.2903, 3773,   -999,    302.8,  11.2193,  34.9599,2,  34.9600,2,    120.5,2, 11.1815,    125.5,2,    20.53,2,    22.80,2,     0.00,2,     1.57,2,    0.998,2,    0.509,2, -999.000,9,-999.0000,9,  -999.00,9,   -999.0,9,  -999.00,9,-999.000,9,   -999.9,9,   -999.9,9,  -999.0, -999.00,-999.0000,-999.000,-999.000
    316N145_10,  I07N,   743,  1,     26,     26,2,19950724,1835, -6.5525,  54.2903, 3773,   -999,    375.9,  10.0853,  34.8747,2,  34.8751,2,    126.4,2, 10.0412,    127.4,2,    24.81,2,    24.83,2,     0.00,2,     1.71,2,    0.784,2,    0.409,2, -999.000,9,-999.0000,9,  -999.00,9,   -999.0,9,  -999.00,9,-999.000,9,   -999.9,9,   -999.9,9,  -999.0, -999.00,-999.0000,-999.000,-999.000
    316N145_10,  I07N,   743,  1,     25,     25,2,19950724,1835, -6.5525,  54.2903, 3773,   -999,    451.7,   9.4936,  34.8378,2,  34.8390,2,    120.0,2,  9.4424,    120.4,2,    29.26,2,    26.69,2,     0.00,2,     1.84,2, -999.000,9, -999.000,9, -999.000,9,-999.0000,9,  -999.00,9,   -999.0,9,  -999.00,9,-999.000,9,   -999.9,9,   -999.9,9,  -999.0, -999.00,-999.0000,-999.000,-999.000
    316N145_10,  I07N,   743,  1,     24,     24,2,19950724,1835, -6.5525,  54.2903, 3773,   -999,    501.3,   9.0345,  34.8317,2,  34.8319,2,    104.2,2,  8.9792,    107.2,2,    35.80,2,    28.73,2,     0.00,2,     2.01,2,    0.385,2,    0.197,2, -999.000,9,-999.0000,9,  -999.00,9,   -999.0,9,  -999.00,9,-999.000,9,   -999.9,9,   -999.9,9,  -999.0, -999.00,-999.0000,-999.000,-999.000
    316N145_10,  I07N,   743,  1,     23,     23,2,19950724,1835, -6.5525,  54.2903, 3773,   -999,    602.6,   8.4257,  34.8146,2,  34.8150,2,    100.5,2,  8.3616,    100.1,2,    43.73,2,    30.51,2,     0.00,2,     2.17,2,    0.253,2,    0.127,2, -999.000,9,-999.0000,9,  -999.00,9,   -999.0,9,  -999.00,9,-999.000,9,   -999.9,9,   -999.9,9,  -999.0, -999.00,-999.0000,-999.000,-999.000
    316N145_10,  I07N,   743,  1,     22,     22,2,19950724,1835, -6.5525,  54.2903, 3773,   -999,    702.3,   7.7341,  34.8292,2,  34.8288,2,     87.8,2,  7.6624,     88.0,2,    55.50,2,    32.56,2,     0.00,2,     2.35,2, -999.000,9, -999.000,9, -999.000,9,-999.0000,9,  -999.00,9,   -999.0,9,  -999.00,9,-999.000,9,   -999.9,9,   -999.9,9,  -999.0, -999.00,-999.0000,-999.000,-999.000
    316N145_10,  I07N,   743,  1,     21,     21,2,19950724,1835, -6.5525,  54.2903, 3773,   -999,    796.2,   7.1123,  34.8335,2,  34.8325,2,     80.2,2,  7.0341,     80.3,2,    66.27,2,    34.16,2,     0.00,2,     2.49,2,    0.059,2,    0.034,2, -999.000,9,-999.0000,9,  -999.00,9,   -999.0,9,  -999.00,9,-999.000,9,   -999.9,9,   -999.9,9,  -999.0, -999.00,-999.0000,-999.000,-999.000
    316N145_10,  I07N,   743,  1,     20,     20,2,19950724,1835, -6.5525,  54.2903, 3773,   -999,    897.4,   6.5499,  34.8462,2,  34.8456,2,     77.5,2,  6.4650,     76.9,2,    75.35,2,    35.08,2,     0.00,2,     2.58,2,    0.032,2,    0.026,2, -999.000,9,-999.0000,9,  -999.00,9,   -999.0,9,  -999.00,9,-999.000,9,   -999.9,9,   -999.9,9,  -999.0, -999.00,-999.0000,-999.000,-999.000
    316N145_10,  I07N,   743,  1,     19,     19,2,19950724,1835, -6.5525,  54.2903, 3773,   -999,    998.0,   6.2669,  34.8537,2,  34.8537,2,     76.5,2,  6.1738,     75.7,2,    80.24,2,    35.54,2,     0.00,2,     2.61,2,    0.020,2,    0.010,2, -999.000,9,-999.0000,9,  -999.00,9,   -999.0,9,  -999.00,9,-999.000,9,   -999.9,9,   -999.9,9,  -999.0, -999.00,-999.0000,-999.000,-999.000
    316N145_10,  I07N,   743,  1,     18,     18,2,19950724,1835, -6.5525,  54.2903, 3773,   -999,   1139.0,   5.8490,  34.8541,2,  34.8548,2,     76.2,2,  5.7452,     77.9,2,    85.68,2,    35.82,2,     0.00,2,     2.65,2,    0.011,2,    0.002,2, -999.000,9,-999.0000,9,  -999.00,9,   -999.0,9,  -999.00,9,-999.000,9,   -999.9,9,   -999.9,9,  -999.0, -999.00,-999.0000,-999.000,-999.000
    316N145_10,  I07N,   743,  1,     17,     17,2,19950724,1835, -6.5525,  54.2903, 3773,   -999,   1198.5,   5.4658,  34.8161,2,  34.8175,2,     85.9,2,  5.3596,     86.5,2,    87.96,2,    35.68,2,     0.00,2,     2.63,2,    0.008,2,    0.003,2, -999.000,9,-999.0000,9,  -999.00,9,   -999.0,9,  -999.00,9,-999.000,9,   -999.9,9,   -999.9,9,  -999.0, -999.00,-999.0000,-999.000,-999.000
    316N145_10,  I07N,   743,  1,     16,     16,2,19950724,1835, -6.5525,  54.2903, 3773,   -999,   1299.0,   4.9846,  34.8059,2,  34.8059,2,     90.4,2,  4.8732,     94.0,2,    92.55,2,    35.64,2,     0.00,2,     2.63,2,    0.008,2,    0.010,2, -999.000,9,-999.0000,9,  -999.00,9,   -999.0,9,  -999.00,9,-999.000,9,   -999.9,9,   -999.9,9,  -999.0, -999.00,-999.0000,-999.000,-999.000
    316N145_10,  I07N,   743,  1,     15,     15,2,19950724,1835, -6.5525,  54.2903, 3773,   -999,   1401.3,   4.5316,  34.8127,2,  34.8126,2,    101.7,2,  4.4152,     96.8,2,    99.29,2,    35.87,2,     0.00,2,     2.64,2,    0.002,2,    0.002,2, -999.000,9,-999.0000,9,  -999.00,9,   -999.0,9,  -999.00,9,-999.000,9,   -999.9,9,   -999.9,9,  -999.0, -999.00,-999.0000,-999.000,-999.000
    316N145_10,  I07N,   743,  1,     14,     14,2,19950724,1835, -6.5525,  54.2903, 3773,   -999,   1503.8,   4.0725,  34.7792,2,  34.7802,2,    111.6,2,  3.9517,    110.4,2,   101.42,2,    35.36,2,     0.00,2,     2.60,2,    0.001,2,    0.000,2, -999.000,9,-999.0000,9,  -999.00,9,   -999.0,9,  -999.00,9,-999.000,9,   -999.9,9,   -999.9,9,  -999.0, -999.00,-999.0000,-999.000,-999.000
    316N145_10,  I07N,   743,  1,     13,     13,2,19950724,1835, -6.5525,  54.2903, 3773,   -999,   1597.1,   3.7856,  34.7777,2,  34.7788,3,    113.8,2,  3.6597,    114.7,2,   104.99,2,    35.22,2,     0.00,2,     2.60,2, -999.000,9, -999.000,9, -999.000,9,-999.0000,9,  -999.00,9,   -999.0,9,  -999.00,9,-999.000,9,   -999.9,9,   -999.9,9,  -999.0, -999.00,-999.0000,-999.000,-999.000
    316N145_10,  I07N,   743,  1,     12,     12,2,19950724,1835, -6.5525,  54.2903, 3773,   -999,   1796.7,   3.0963,  34.7585,2,  34.7576,2,    129.8,2,  2.9614,    132.2,2,   111.47,2,    34.72,2,     0.00,2,     2.53,2, -999.000,9, -999.000,9, -999.000,9,-999.0000,9,  -999.00,9,   -999.0,9,  -999.00,9,-999.000,9,   -999.9,9,   -999.9,9,  -999.0, -999.00,-999.0000,-999.000,-999.000
    316N145_10,  I07N,   743,  1,     11,     11,2,19950724,1835, -6.5525,  54.2903, 3773,   -999,   2000.6,   2.5587,  34.7481,2,  34.7478,2,    143.6,2,  2.4134,    143.7,2,   118.53,2,    34.40,2,     0.00,2,     2.49,2, -999.000,9, -999.000,9, -999.000,9,-999.0000,9,  -999.00,9,   -999.0,9,  -999.00,9,-999.000,9,   -999.9,9,   -999.9,9,  -999.0, -999.00,-999.0000,-999.000,-999.000
    316N145_10,  I07N,   743,  1,     10,     10,2,19950724,1835, -6.5525,  54.2903, 3773,   -999,   2197.8,   2.2961,  34.7446,2,  34.7440,2,    151.2,2,  2.1376,    149.7,2,   121.62,2,    34.21,2,     0.00,2,     2.46,2, -999.000,9, -999.000,9, -999.000,9,-999.0000,9,  -999.00,9,   -999.0,9,  -999.00,9,-999.000,9,   -999.9,9,   -999.9,9,  -999.0, -999.00,-999.0000,-999.000,-999.000
    316N145_10,  I07N,   743,  1,      9,      9,2,19950724,1835, -6.5525,  54.2903, 3773,   -999,   2456.3,   2.0853,  34.7426,2,  34.7424,2,    153.9,2,  1.9072,    154.1,2,   125.28,2,    34.07,2,     0.00,2,     2.44,2,    0.000,2,    0.002,2, -999.000,9,-999.0000,9,  -999.00,9,   -999.0,9,  -999.00,9,-999.000,9,   -999.9,9,   -999.9,9,  -999.0, -999.00,-999.0000,-999.000,-999.000
    316N145_10,  I07N,   743,  1,      8,      8,2,19950724,1835, -6.5525,  54.2903, 3773,   -999,   2593.5,   1.9329,  34.7398,2,  34.7393,2,    158.9,2,  1.7450,    157.5,2,   127.66,2,    33.94,2,     0.00,2,     2.43,2,   -0.002,2,   -0.002,2, -999.000,9,-999.0000,9,  -999.00,9,   -999.0,9,  -999.00,9,-999.000,9,   -999.9,9,   -999.9,9,  -999.0, -999.00,-999.0000,-999.000,-999.000
    316N145_10,  I07N,   743,  1,      7,      7,2,19950724,1835, -6.5525,  54.2903, 3773,   -999,   2796.9,   1.8261,  34.7380,2,  34.7379,2,    161.0,2,  1.6214,    160.8,2,   129.32,2,    33.89,2,     0.00,2,     2.43,2, -999.000,9, -999.000,9, -999.000,9,-999.0000,9,  -999.00,9,   -999.0,9,  -999.00,9,-999.000,9,   -999.9,9,   -999.9,9,  -999.0, -999.00,-999.0000,-999.000,-999.000
    316N145_10,  I07N,   743,  1,      6,      6,2,19950724,1835, -6.5525,  54.2903, 3773,   -999,   2994.2,   1.7666,  34.7356,2,  34.7350,2,    163.7,2,  1.5443,    162.9,2,   130.23,2,    33.80,2,     0.00,2,     2.42,2, -999.000,9, -999.000,9, -999.000,9,-999.0000,9,  -999.00,9,   -999.0,9,  -999.00,9,-999.000,9,   -999.9,9,   -999.9,9,  -999.0, -999.00,-999.0000,-999.000,-999.000
    316N145_10,  I07N,   743,  1,      5,      5,2,19950724,1835, -6.5525,  54.2903, 3773,   -999,   3248.7,   1.6941,  34.7336,2,  34.7326,2,    165.9,2,  1.4484,    165.8,2,   130.23,2,    33.66,2,     0.00,2,     2.40,2, -999.000,9, -999.000,9, -999.000,9,-999.0000,9,  -999.00,9,   -999.0,9,  -999.00,9,-999.000,9,   -999.9,9,   -999.9,9,  -999.0, -999.00,-999.0000,-999.000,-999.000
    316N145_10,  I07N,   743,  1,      4,      4,2,19950724,1835, -6.5525,  54.2903, 3773,   -999,   3502.8,   1.6329,  34.7311,2,  34.7300,2,    169.1,2,  1.3630,    169.1,2,   131.70,2,    33.57,2,     0.00,2,     2.39,2, -999.000,9, -999.000,9, -999.000,9,-999.0000,9,  -999.00,9,   -999.0,9,  -999.00,9,-999.000,9,   -999.9,9,   -999.9,9,  -999.0, -999.00,-999.0000,-999.000,-999.000
    316N145_10,  I07N,   743,  1,      3,      3,2,19950724,1835, -6.5525,  54.2903, 3773,   -999,   3748.2,   1.5410,  34.7271,2,  34.7259,2,    173.2,2,  1.2478,    172.5,2,   133.74,2,    33.52,2,     0.00,2,     2.38,2, -999.000,9, -999.000,9, -999.000,9,-999.0000,9,  -999.00,9,   -999.0,9,  -999.00,9,-999.000,9,   -999.9,9,   -999.9,9,  -999.0, -999.00,-999.0000,-999.000,-999.000
    316N145_10,  I07N,   743,  1,      2,      2,2,19950724,1835, -6.5525,  54.2903, 3773,   -999,   3798.8,   1.5407,  34.7272,2,  34.7265,2,    173.4,2,  1.2422,    173.2,2,   133.73,2,    33.43,2,     0.00,2,     2.37,2, -999.000,9, -999.000,9, -999.000,9,-999.0000,9,  -999.00,9,   -999.0,9,  -999.00,9,-999.000,9,   -999.9,9,   -999.9,9,  -999.0, -999.00,-999.0000,-999.000,-999.000
    316N145_10,  I07N,   743,  1,      1,      1,2,19950724,1835, -6.5525,  54.2903, 3773,   -999,   3824.6,   1.5396,  34.7268,2,  34.7265,2,    172.5,2,  1.2383,    173.6,2,   133.73,2,    33.48,2,     0.00,2,     2.36,2, -999.000,9, -999.000,9, -999.000,9,-999.0000,9,  -999.00,9,   -999.0,9,  -999.00,9,-999.000,9,   -999.9,9,   -999.9,9,  -999.0, -999.00,-999.0000,-999.000,-999.000