BOTTLE,20080821WHPSIOSCD
EXPOCODE,SECT_ID,STNNBR,CASTNO,SAMPNO,BTLNBR,BTLNBR_FLAG_W,DATE,TIME,LATITUDE,LONGITUDE,DEPTH,CTDRAW,CTDPRS,CTDTMP,CTDSAL,CTDSAL_FLAG_W,SALNTY,SALNTY_FLAG_W,CTDOXY,CTDOXY_FLAG_W,THETA,OXYGEN,OXYGEN_FLAG_W,SILCAT,SILCAT_FLAG_W,NITRAT,NITRAT_FLAG_W,NITRIT,NITRIT_FLAG_W,PHSPHT,PHSPHT_FLAG_W,CFC-11,CFC-11_FLAG_W,CFC-12,CFC-12_FLAG_W,TRITUM,TRITUM_FLAG_W,HELIUM,HELIUM_FLAG_W,DELHE3,DELHE3_FLAG_W,DELC14,DELC14_FLAG_W,DELC13,DELC13_FLAG_W,NEON,NEON_FLAG_W,TCARBN,TCARBN_FLAG_W,ALKALI,ALKALI_FLAG_W,C14ERR,DELHER,HELIER,NEONER,TRITER
,,,,,,,,,,,,,DBAR,ITS-90,PSS-78,,PSS-78,,UMOL/KG,,DEG C,UMOL/KG,,UMOL/KG,,UMOL/KG,,UMOL/KG,,UMOL/KG,,PMOL/KG,,PMOL/KG,,TU,,NMOL/KG,,PERCNT,,/MILLE,,/MILLE,,NMOL/KG,,UMOL/KG,,UMOL/KG,,/MILLE,PERCNT,NMOL/KG,NMOL/KG,TU
    316N145_10,  I07N,   713,  1,     36,     36,2,19950717,0334,-16.2275,  54.9970, 4634,   -999,     12.9,  25.5027,  34.8684,2,  34.8684,2,    201.8,2, 25.5001,    205.6,2,     3.41,2,     0.05,2,     0.00,2,     0.14,2,    1.745,2,    1.020,2, -999.000,9,-999.0000,9,  -999.00,9,   -999.0,9,  -999.00,9,-999.000,9,   1945.4,2,   2279.9,2,  -999.0, -999.00,-999.0000,-999.000,-999.000
    316N145_10,  I07N,   713,  1,     35,     35,2,19950717,0334,-16.2275,  54.9970, 4634,   -999,     61.9,  25.5043,  34.8692,2,  34.8682,2,    203.3,2, 25.4910,    205.4,2,     3.39,2,     0.05,2,     0.00,2,     0.15,2,    1.767,2,    1.016,2, -999.000,9,-999.0000,9,  -999.00,9,   -999.0,9,  -999.00,9,-999.000,9,   1946.2,2,   2295.4,3,  -999.0, -999.00,-999.0000,-999.000,-999.000
    316N145_10,  I07N,   713,  1,     34,     34,2,19950717,0334,-16.2275,  54.9970, 4634,   -999,     92.3,  23.0476,  35.0936,2,  35.0922,2,    188.3,2, 23.0289,    184.4,2,     5.48,2,     2.46,2,     0.25,2,     0.35,2, -999.000,9, -999.000,9, -999.000,9,-999.0000,9,  -999.00,9,   -999.0,9,  -999.00,9,-999.000,9,   2007.6,2,   2300.4,2,  -999.0, -999.00,-999.0000,-999.000,-999.000
    316N145_10,  I07N,   713,  1,     33,     33,2,19950717,0334,-16.2275,  54.9970, 4634,   -999,    126.1,  21.4347,  35.2702,2,  35.2664,2,    175.9,2, 21.4103,    173.1,2,     6.16,2,     4.36,2,     0.21,2,     0.44,2,    1.898,2,    1.066,2, -999.000,9,-999.0000,9,  -999.00,9,   -999.0,9,  -999.00,9,-999.000,9,   2033.3,2,   2324.6,3,  -999.0, -999.00,-999.0000,-999.000,-999.000
    316N145_10,  I07N,   713,  1,     32,     32,2,19950717,0334,-16.2275,  54.9970, 4634,   -999,    152.2,  20.3103,  35.3432,2,  35.3520,2,    167.2,2, 20.2820,    161.4,2,     7.89,2,     6.80,2,     0.02,2,     0.57,2,    1.866,2,    1.050,2, -999.000,9,-999.0000,9,  -999.00,9,   -999.0,9,  -999.00,9,-999.000,9,   2060.5,2,   2317.7,2,  -999.0, -999.00,-999.0000,-999.000,-999.000
    316N145_10,  I07N,   713,  1,     31,     31,2,19950717,0334,-16.2275,  54.9970, 4634,   -999,    207.7,  16.2614,  35.2980,2,  35.2969,2,    141.1,2, 16.2283,    141.9,2,    14.33,2,    12.96,2,     0.01,2,     0.96,2,    1.656,2,    0.913,2, -999.000,9,-999.0000,9,  -999.00,9,   -999.0,9,  -999.00,9,-999.000,9,   2118.8,2,   2322.5,2,  -999.0, -999.00,-999.0000,-999.000,-999.000
    316N145_10,  I07N,   713,  1,     30,     30,2,19950717,0334,-16.2275,  54.9970, 4634,   -999,    248.1,  15.2908,  35.3510,2,  35.3508,2,    177.7,2, 15.2527,    165.1,2,    11.70,2,    11.06,2,     0.01,2,     0.85,2,    1.880,2,    1.010,2, -999.000,9,-999.0000,9,  -999.00,9,   -999.0,9,  -999.00,9,-999.000,9,   2115.0,2,   2334.0,2,  -999.0, -999.00,-999.0000,-999.000,-999.000
    316N145_10,  I07N,   713,  1,     29,     29,2,19950717,0334,-16.2275,  54.9970, 4634,   -999,    309.1,  13.3012,  35.2169,2,  35.2473,2,    208.8,2, 13.2579,    197.9,2,     8.03,2,    10.35,2,     0.01,2,     0.81,2,    2.266,2,    1.200,2, -999.000,9,-999.0000,9,  -999.00,9,   -999.0,9,  -999.00,9,-999.000,9,   2109.5,2,   2323.3,2,  -999.0, -999.00,-999.0000,-999.000,-999.000
    316N145_10,  I07N,   713,  1,     28,     28,2,19950717,0334,-16.2275,  54.9970, 4634,   -999,    373.0,  11.9296,  35.0286,2,  35.0277,2,    174.5,2, 11.8810,    172.4,2,    14.47,2,    16.24,2,     0.00,2,     1.17,2, -999.000,9, -999.000,9, -999.000,9,-999.0000,9,  -999.00,9,   -999.0,9,  -999.00,9,-999.000,9,   2136.6,2,   2312.1,2,  -999.0, -999.00,-999.0000,-999.000,-999.000
    316N145_10,  I07N,   713,  1,     27,     27,2,19950717,0334,-16.2275,  54.9970, 4634,   -999,    392.3,  11.7331,  35.0363,2,  35.0379,2,    211.2,2, 11.6823,    213.8,2,     7.31,2,    12.30,2,     0.00,2,     0.92,2,    2.332,2,    1.194,2, -999.000,9,-999.0000,9,  -999.00,9,   -999.0,9,  -999.00,9,-999.000,9,   2112.4,2,   2312.2,2,  -999.0, -999.00,-999.0000,-999.000,-999.000
    316N145_10,  I07N,   713,  1,     26,     26,2,19950717,0334,-16.2275,  54.9970, 4634,   -999,    468.3,  10.6931,  34.8946,2,  34.8937,2,    207.8,2, 10.6359,    210.1,2,     9.05,2,    15.10,2,     0.00,2,     1.08,2, -999.000,9, -999.000,9, -999.000,9,-999.0000,9,  -999.00,9,   -999.0,9,  -999.00,9,-999.000,9,   2121.3,2,   2302.4,2,  -999.0, -999.00,-999.0000,-999.000,-999.000
    316N145_10,  I07N,   713,  1,     25,     25,2,19950717,0334,-16.2275,  54.9970, 4634,   -999,    503.3,  10.0523,  34.8148,2,  34.8127,2,    205.7,2,  9.9930,    202.7,2,    11.47,2,    17.27,2,     0.00,2,     1.22,2,    1.737,2,    0.877,2, -999.000,9,-999.0000,9,  -999.00,9,   -999.0,9,  -999.00,9,-999.000,9,   2130.2,2,   2302.2,2,  -999.0, -999.00,-999.0000,-999.000,-999.000
    316N145_10,  I07N,   713,  1,     24,     24,2,19950717,0334,-16.2275,  54.9970, 4634,   -999,    605.2,   8.5432,  34.7106,2,  34.7111,2,    154.8,2,  8.4783,    156.5,2,    28.19,2,    24.90,2,     0.00,2,     1.74,2,    0.736,2,    0.385,2, -999.000,9,-999.0000,9,  -999.00,9,   -999.0,9,  -999.00,9,-999.000,9,   2178.6,2,   2308.2,2,  -999.0, -999.00,-999.0000,-999.000,-999.000
    316N145_10,  I07N,   713,  1,     23,     23,2,19950717,0334,-16.2275,  54.9970, 4634,   -999,    681.7,   7.6838,  34.6882,2,  34.6893,2,    135.4,2,  7.6147,    134.6,2,    40.90,2,    28.61,2,     0.00,2,     2.00,2,    0.361,2,    0.186,2, -999.000,9,-999.0000,9,  -999.00,9,   -999.0,9,  -999.00,9,-999.000,9,   2208.1,2,   2319.4,2,  -999.0, -999.00,-999.0000,-999.000,-999.000
    316N145_10,  I07N,   713,  1,     22,     22,2,19950717,0334,-16.2275,  54.9970, 4634,   -999,    750.7,   6.6240,  34.6135,2,  34.6147,2,    143.5,2,  6.5536,    146.9,2,    45.25,2,    29.64,2,     0.00,2,     2.09,2,    0.259,2,    0.127,2, -999.000,9,-999.0000,9,  -999.00,9,   -999.0,9,  -999.00,9,-999.000,9,   2211.7,2,   2317.4,2,  -999.0, -999.00,-999.0000,-999.000,-999.000
    316N145_10,  I07N,   713,  1,     21,     21,2,19950717,0334,-16.2275,  54.9970, 4634,   -999,    849.6,   6.0282,  34.6397,2,  34.6416,2,    124.9,2,  5.9516,    129.5,2,    58.52,2,    31.88,2,     0.00,2,     2.28,2,    0.114,2,    0.066,2, -999.000,9,-999.0000,9,  -999.00,9,   -999.0,9,  -999.00,9,-999.000,9,   2236.5,2,   2334.4,2,  -999.0, -999.00,-999.0000,-999.000,-999.000
    316N145_10,  I07N,   713,  1,     20,     20,2,19950717,0334,-16.2275,  54.9970, 4634,   -999,   1001.4,   5.3895,  34.6871,2,  34.6877,2,    116.4,2,  5.3029,    115.7,2,    73.61,2,    33.64,2,     0.00,2,     2.41,2,    0.040,2,    0.018,2, -999.000,9,-999.0000,9,  -999.00,9,   -999.0,9,  -999.00,9,-999.000,9,   2260.6,2,   2348.2,2,  -999.0, -999.00,-999.0000,-999.000,-999.000
    316N145_10,  I07N,   713,  1,     19,     19,2,19950717,0334,-16.2275,  54.9970, 4634,   -999,   1201.5,   4.4249,  34.6868,2,  34.6897,2,    122.6,2,  4.3280,    123.5,2,    84.54,2,    34.23,2,     0.00,2,     2.45,2,    0.006,2,    0.001,2, -999.000,9,-999.0000,9,  -999.00,9,   -999.0,9,  -999.00,9,-999.000,9,   2271.8,2,   2360.7,2,  -999.0, -999.00,-999.0000,-999.000,-999.000
    316N145_10,  I07N,   713,  1,     18,     18,2,19950717,0334,-16.2275,  54.9970, 4634,   -999,   1398.9,   3.6395,  34.6762,2,  34.6767,2,    138.8,2,  3.5330,    139.1,2,    89.30,2,    33.91,2,     0.00,2,     2.40,2,    0.003,2,   -0.004,2, -999.000,9,-999.0000,9,  -999.00,9,   -999.0,9,  -999.00,9,-999.000,9,   2271.8,2,   2360.6,2,  -999.0, -999.00,-999.0000,-999.000,-999.000
    316N145_10,  I07N,   713,  1,     17,     17,2,19950717,0334,-16.2275,  54.9970, 4634,   -999,   1599.6,   3.1366,  34.6858,2,  34.6869,2,    149.3,2,  3.0185,    149.2,2,    94.08,2,    33.50,2,     0.00,2,     2.37,2,    0.003,2,   -0.004,2, -999.000,9,-999.0000,9,  -999.00,9,   -999.0,9,  -999.00,9,-999.000,9,   2272.8,2,   2365.7,2,  -999.0, -999.00,-999.0000,-999.000,-999.000
    316N145_10,  I07N,   713,  1,     16,     16,2,19950717,0334,-16.2275,  54.9970, 4634,   -999,   1799.0,   2.6789,  34.7099,2,  34.7110,2,    155.5,2,  2.5496,    155.4,2,   103.00,2,    33.32,2,     0.00,2,     2.34,2,    0.002,2,   -0.004,2, -999.000,9,-999.0000,9,  -999.00,9,   -999.0,9,  -999.00,9,-999.000,9,   2278.4,2,   2378.5,2,  -999.0, -999.00,-999.0000,-999.000,-999.000
    316N145_10,  I07N,   713,  1,     15,     15,2,19950717,0334,-16.2275,  54.9970, 4634,   -999,   2001.7,   2.4254,  34.7265,2,  34.7277,2,    154.9,2,  2.2822,    156.2,2,   111.45,2,    33.41,2,     0.00,2,     2.36,2,    0.002,2,   -0.003,2, -999.000,9,-999.0000,9,  -999.00,9,   -999.0,9,  -999.00,9,-999.000,9,   2286.6,2,   2385.2,2,  -999.0, -999.00,-999.0000,-999.000,-999.000
    316N145_10,  I07N,   713,  1,     14,     14,2,19950717,0334,-16.2275,  54.9970, 4634,   -999,   2197.7,   2.2629,  34.7342,2,  34.7365,2,    156.9,2,  2.1050,    156.8,2,   117.05,2,    33.45,2,     0.00,2,     2.38,2, -999.000,9, -999.000,9, -999.000,9,-999.0000,9,  -999.00,9,   -999.0,9,  -999.00,9,-999.000,9,   2291.9,2,   2395.5,2,  -999.0, -999.00,-999.0000,-999.000,-999.000
    316N145_10,  I07N,   713,  1,     13,     13,2,19950717,0334,-16.2275,  54.9970, 4634,   -999,   2376.1,   2.1187,  34.7396,2,  34.7391,2,    157.2,2,  1.9472,    157.2,2,   121.95,2,    33.77,2,     0.00,2,     2.38,2, -999.000,9, -999.000,9, -999.000,9,-999.0000,9,  -999.00,9,   -999.0,9,  -999.00,9,-999.000,9,   2296.2,2,   2394.9,2,  -999.0, -999.00,-999.0000,-999.000,-999.000
    316N145_10,  I07N,   713,  1,     12,     12,2,19950717,0334,-16.2275,  54.9970, 4634,   -999,   2444.0,   2.0716,  34.7389,2,  34.7395,2,    159.9,2,  1.8949,    157.9,2,   123.02,2,    33.77,2,     0.00,2,     2.38,2, -999.000,9, -999.000,9, -999.000,9,-999.0000,9,  -999.00,9,   -999.0,9,  -999.00,9,-999.000,9,   2296.9,2,   2401.2,2,  -999.0, -999.00,-999.0000,-999.000,-999.000
    316N145_10,  I07N,   713,  1,     11,     11,2,19950717,0334,-16.2275,  54.9970, 4634,   -999,   2745.1,   1.9240,  34.7377,2,  34.7377,2,    161.1,2,  1.7222,    160.9,2,   126.29,2,    33.73,2,     0.00,2,     2.37,2, -999.000,9, -999.000,9, -999.000,9,-999.0000,9,  -999.00,9,   -999.0,9,  -999.00,9,-999.000,9,   2299.5,2,   2401.0,2,  -999.0, -999.00,-999.0000,-999.000,-999.000
    316N145_10,  I07N,   713,  1,     10,     10,2,19950717,0334,-16.2275,  54.9970, 4634,   -999,   3001.0,   1.8586,  34.7376,2,  34.7383,2,    162.3,2,  1.6337,    161.4,2,   129.40,2,    33.82,2,     0.00,2,     2.38,2, -999.000,9, -999.000,9, -999.000,9,-999.0000,9,  -999.00,9,   -999.0,9,  -999.00,9,-999.000,9,   -999.9,5,   2406.3,2,  -999.0, -999.00,-999.0000,-999.000,-999.000
    316N145_10,  I07N,   713,  1,      9,      9,2,19950717,0334,-16.2275,  54.9970, 4634,   -999,   3242.3,   1.7296,  34.7337,2,  34.7339,2,    166.4,2,  1.4838,    166.4,2,   130.29,2,    33.68,2,     0.00,2,     2.35,2, -999.000,9, -999.000,9, -999.000,9,-999.0000,9,  -999.00,9,   -999.0,9,  -999.00,9,-999.000,9,   2302.1,2,   2402.0,2,  -999.0, -999.00,-999.0000,-999.000,-999.000
    316N145_10,  I07N,   713,  1,      8,      8,2,19950717,0334,-16.2275,  54.9970, 4634,   -999,   3597.4,   1.5622,  34.7279,2,  34.7281,2,    174.0,2,  1.2843,    174.0,2,   130.45,2,    33.32,2,     0.00,2,     2.35,2, -999.000,9, -999.000,9, -999.000,9,-999.0000,9,  -999.00,9,   -999.0,9,  -999.00,9,-999.000,9,   2293.0,2,   2405.0,2,  -999.0, -999.00,-999.0000,-999.000,-999.000
    316N145_10,  I07N,   713,  1,      7,      7,2,19950717,0334,-16.2275,  54.9970, 4634,   -999,   3749.8,   1.4800,  34.7253,2,  34.7251,2,    178.4,2,  1.1883,    178.9,2,   130.05,2,    33.09,2,     0.00,2,     2.33,2, -999.000,9, -999.000,9, -999.000,9,-999.0000,9,  -999.00,9,   -999.0,9,  -999.00,9,-999.000,9,   2289.8,2,   2394.5,2,  -999.0, -999.00,-999.0000,-999.000,-999.000
    316N145_10,  I07N,   713,  1,      6,      6,2,19950717,0334,-16.2275,  54.9970, 4634,   -999,   3997.0,   1.3148,  34.7197,2,  34.7190,2,    187.1,2,  1.0013,    188.1,2,   128.73,2,    32.64,2,     0.00,2,     2.29,2, -999.000,9, -999.000,9, -999.000,9,-999.0000,9,  -999.00,9,   -999.0,9,  -999.00,9,-999.000,9,   2281.7,2,   2391.1,2,  -999.0, -999.00,-999.0000,-999.000,-999.000
    316N145_10,  I07N,   713,  1,      5,      5,2,19950717,0334,-16.2275,  54.9970, 4634,   -999,   4199.4,   1.1945,  34.7149,2,  34.7137,2,    194.4,2,  0.8625,    195.8,2,   126.86,2,    32.28,2,     0.00,2,     2.26,2, -999.000,9, -999.000,9, -999.000,9,-999.0000,9,  -999.00,9,   -999.0,9,  -999.00,9,-999.000,9,   2273.8,2,   2381.2,2,  -999.0, -999.00,-999.0000,-999.000,-999.000
    316N145_10,  I07N,   713,  1,      4,      4,2,19950717,0334,-16.2275,  54.9970, 4634,   -999,   4400.4,   1.1035,  34.7118,2,  34.7112,2,    199.5,2,  0.7520,    200.6,2,   126.09,2,    32.01,2,     0.00,2,     2.24,2, -999.000,9, -999.000,9, -999.000,9,-999.0000,9,  -999.00,9,   -999.0,9,  -999.00,9,-999.000,9,   2268.5,2,   2378.8,2,  -999.0, -999.00,-999.0000,-999.000,-999.000
    316N145_10,  I07N,   713,  1,      3,      3,2,19950717,0334,-16.2275,  54.9970, 4634,   -999,   4600.1,   1.0538,  34.7079,2,  34.7078,2,    204.4,2,  0.6814,    203.6,2,   125.88,2,    31.92,2,     0.00,2,     2.23,2,    0.000,2,   -0.003,2, -999.000,9,-999.0000,9,  -999.00,9,   -999.0,9,  -999.00,9,-999.000,9,   2267.0,2,   2372.9,2,  -999.0, -999.00,-999.0000,-999.000,-999.000
    316N145_10,  I07N,   713,  1,      2,      2,2,19950717,0334,-16.2275,  54.9970, 4634,   -999,   4652.0,   1.0489,  34.7082,2,  34.7080,2,    204.4,2,  0.6707,    204.2,2,   125.85,2,    31.87,2,     0.00,2,     2.22,2, -999.000,9, -999.000,9, -999.000,9,-999.0000,9,  -999.00,9,   -999.0,9,  -999.00,9,-999.000,9,   2266.6,2,   2376.8,2,  -999.0, -999.00,-999.0000,-999.000,-999.000
    316N145_10,  I07N,   713,  1,      1,      1,2,19950717,0334,-16.2275,  54.9970, 4634,   -999,   4703.8,   1.0404,  34.7079,2,  34.7078,2,    205.3,2,  0.6565,    204.7,2,   125.82,2,    31.87,2,     0.00,2,     2.22,2, -999.000,9, -999.000,9, -999.000,9,-999.0000,9,  -999.00,9,   -999.0,9,  -999.00,9,-999.000,9,   2264.5,2,   2371.3,2,  -999.0, -999.00,-999.0000,-999.000,-999.000