BOTTLE,20080821WHPSIOSCD
EXPOCODE,SECT_ID,STNNBR,CASTNO,SAMPNO,BTLNBR,BTLNBR_FLAG_W,DATE,TIME,LATITUDE,LONGITUDE,DEPTH,CTDRAW,CTDPRS,CTDTMP,CTDSAL,CTDSAL_FLAG_W,SALNTY,SALNTY_FLAG_W,CTDOXY,CTDOXY_FLAG_W,THETA,OXYGEN,OXYGEN_FLAG_W,SILCAT,SILCAT_FLAG_W,NITRAT,NITRAT_FLAG_W,NITRIT,NITRIT_FLAG_W,PHSPHT,PHSPHT_FLAG_W,CFC-11,CFC-11_FLAG_W,CFC-12,CFC-12_FLAG_W,TRITUM,TRITUM_FLAG_W,HELIUM,HELIUM_FLAG_W,DELHE3,DELHE3_FLAG_W,DELC14,DELC14_FLAG_W,DELC13,DELC13_FLAG_W,NEON,NEON_FLAG_W,TCARBN,TCARBN_FLAG_W,ALKALI,ALKALI_FLAG_W,C14ERR,DELHER,HELIER,NEONER,TRITER
,,,,,,,,,,,,,DBAR,ITS-90,PSS-78,,PSS-78,,UMOL/KG,,DEG C,UMOL/KG,,UMOL/KG,,UMOL/KG,,UMOL/KG,,UMOL/KG,,PMOL/KG,,PMOL/KG,,TU,,NMOL/KG,,PERCNT,,/MILLE,,/MILLE,,NMOL/KG,,UMOL/KG,,UMOL/KG,,/MILLE,PERCNT,NMOL/KG,NMOL/KG,TU
    316N145_10,  I07N,   716,  1,     36,     36,2,19950717,2247,-14.5183,  55.0042, 4474,   -999,     13.9,  25.9777,  34.8960,2,  34.8961,2,    206.1,2, 25.9748,    202.9,2,     3.53,2,     0.12,2,     0.01,2,     0.19,2,    1.712,2,    0.988,2, -999.000,9,-999.0000,9,  -999.00,9,   -999.0,9,  -999.00,9,-999.000,9,   1945.8,2,   -999.9,5,  -999.0, -999.00,-999.0000,-999.000,-999.000
    316N145_10,  I07N,   716,  1,     35,     35,2,19950717,2247,-14.5183,  55.0042, 4474,   -999,     60.3,  25.9884,  34.8973,2,  34.8966,2,    212.0,2, 25.9752,    202.3,2,     3.52,2,     0.16,2,     0.01,2,     0.19,2,    1.703,2,    0.966,2, -999.000,9,-999.0000,9,  -999.00,9,   -999.0,9,  -999.00,9,-999.000,9,   -999.9,9,   -999.9,9,  -999.0, -999.00,-999.0000,-999.000,-999.000
    316N145_10,  I07N,   716,  1,     34,     34,2,19950717,2247,-14.5183,  55.0042, 4474,   -999,     92.2,  22.1954,  35.1259,2,  35.1224,2,    152.9,2, 22.1773,    156.9,2,     8.22,2,     5.64,2,     0.62,2,     0.58,2, -999.000,9, -999.000,9, -999.000,9,-999.0000,9,  -999.00,9,   -999.0,9,  -999.00,9,-999.000,9,   -999.9,9,   -999.9,9,  -999.0, -999.00,-999.0000,-999.000,-999.000
    316N145_10,  I07N,   716,  1,     33,     33,2,19950717,2247,-14.5183,  55.0042, 4474,   -999,    122.0,  20.3701,  35.1842,2,  35.1808,2,    131.4,2, 20.3474,    125.2,2,    11.87,2,    11.70,2,     0.03,2,     0.88,2,    1.586,2,    0.856,2, -999.000,9,-999.0000,9,  -999.00,9,   -999.0,9,  -999.00,9,-999.000,9,   -999.9,9,   -999.9,9,  -999.0, -999.00,-999.0000,-999.000,-999.000
    316N145_10,  I07N,   716,  1,     32,     32,2,19950717,2247,-14.5183,  55.0042, 4474,   -999,    158.9,  18.1304,  35.3267,2,  35.3244,2,    144.2,2, 18.1031,    141.2,2,    12.90,2,    11.18,2,     0.01,2,     0.84,2,    1.705,2,    0.915,2, -999.000,9,-999.0000,9,  -999.00,9,   -999.0,9,  -999.00,9,-999.000,9,   -999.9,9,   -999.9,9,  -999.0, -999.00,-999.0000,-999.000,-999.000
    316N145_10,  I07N,   716,  1,     31,     31,2,19950717,2247,-14.5183,  55.0042, 4474,   -999,    190.7,  17.0316,  35.3659,2,  35.3655,2,    140.7,2, 17.0002,    142.9,2,    13.58,2,    11.76,2,     0.01,2,     0.88,2, -999.000,9, -999.000,9, -999.000,9,-999.0000,9,  -999.00,9,   -999.0,9,  -999.00,9,-999.000,9,   -999.9,9,   -999.9,9,  -999.0, -999.00,-999.0000,-999.000,-999.000
    316N145_10,  I07N,   716,  1,     30,     30,2,19950717,2247,-14.5183,  55.0042, 4474,   -999,    225.6,  15.0475,  35.1993,2,  35.1922,2,    126.1,2, 15.0133,    129.7,2,    18.28,2,    15.91,2,     0.01,2,     1.15,2,    1.461,2,    0.757,2, -999.000,9,-999.0000,9,  -999.00,9,   -999.0,9,  -999.00,9,-999.000,9,   -999.9,9,   -999.9,9,  -999.0, -999.00,-999.0000,-999.000,-999.000
    316N145_10,  I07N,   716,  1,     29,     29,2,19950717,2247,-14.5183,  55.0042, 4474,   -999,    260.5,  14.1044,  35.1332,2,  35.1385,2,    135.6,2, 14.0666,    134.8,2,    19.31,2,    16.62,2,     0.01,2,     1.21,2, -999.000,9, -999.000,9, -999.000,9,-999.0000,9,  -999.00,9,   -999.0,9,  -999.00,9,-999.000,9,   -999.9,9,   -999.9,9,  -999.0, -999.00,-999.0000,-999.000,-999.000
    316N145_10,  I07N,   716,  1,     28,     28,2,19950717,2247,-14.5183,  55.0042, 4474,   -999,    299.4,  13.4248,  35.1322,2,  35.1310,2,    140.6,2, 13.3826,    149.2,2,    17.19,2,    15.96,2,     0.00,2,     1.17,2,    1.571,2,    0.794,2, -999.000,9,-999.0000,9,  -999.00,9,   -999.0,9,  -999.00,9,-999.000,9,   -999.9,9,   -999.9,9,  -999.0, -999.00,-999.0000,-999.000,-999.000
    316N145_10,  I07N,   716,  1,     27,     27,2,19950717,2247,-14.5183,  55.0042, 4474,   -999,    410.1,  11.1870,  34.9418,2,  34.9525,2,    166.6,2, 11.1356,    170.1,2,    16.82,2,    17.68,2,     0.00,2,     1.27,2,    1.585,2,    0.799,2, -999.000,9,-999.0000,9,  -999.00,9,   -999.0,9,  -999.00,9,-999.000,9,   -999.9,9,   -999.9,9,  -999.0, -999.00,-999.0000,-999.000,-999.000
    316N145_10,  I07N,   716,  1,     26,     26,2,19950717,2247,-14.5183,  55.0042, 4474,   -999,    477.8,  10.0989,  34.8382,2,  34.8394,2,    166.7,2, 10.0426,    164.7,2,    19.77,2,    20.78,2,     0.00,2,     1.46,2,    1.225,2,    0.610,2, -999.000,9,-999.0000,9,  -999.00,9,   -999.0,9,  -999.00,9,-999.000,9,   -999.9,9,   -999.9,9,  -999.0, -999.00,-999.0000,-999.000,-999.000
    316N145_10,  I07N,   716,  1,     25,     25,2,19950717,2247,-14.5183,  55.0042, 4474,   -999,    600.3,   8.5115,  34.7240,2,  34.7238,2,    146.2,2,  8.4473,    148.1,2,    30.58,2,    25.75,2,     0.00,2,     1.81,2, -999.000,9, -999.000,9, -999.000,9,-999.0000,9,  -999.00,9,   -999.0,9,  -999.00,9,-999.000,9,   -999.9,9,   -999.9,9,  -999.0, -999.00,-999.0000,-999.000,-999.000
    316N145_10,  I07N,   716,  1,     24,     24,2,19950717,2247,-14.5183,  55.0042, 4474,   -999,    698.5,   7.5458,  34.6985,2,  34.6996,2,    128.0,2,  7.4756,    128.2,2,    44.20,2,    29.36,2,     0.00,2,     2.09,2,    0.272,2,    0.135,2, -999.000,9,-999.0000,9,  -999.00,9,   -999.0,9,  -999.00,9,-999.000,9,   -999.9,9,   -999.9,9,  -999.0, -999.00,-999.0000,-999.000,-999.000
    316N145_10,  I07N,   716,  1,     23,     23,2,19950717,2247,-14.5183,  55.0042, 4474,   -999,    789.0,   6.7814,  34.6919,2,  34.6914,2,    117.7,2,  6.7061,    118.7,2,    55.39,2,    31.46,2,     0.00,2,     2.26,2, -999.000,9, -999.000,9, -999.000,9,-999.0000,9,  -999.00,9,   -999.0,9,  -999.00,9,-999.000,9,   -999.9,9,   -999.9,9,  -999.0, -999.00,-999.0000,-999.000,-999.000
    316N145_10,  I07N,   716,  1,     22,     22,2,19950717,2247,-14.5183,  55.0042, 4474,   -999,    898.4,   6.0817,  34.7055,2,  34.7076,2,    108.1,2,  5.9999,    109.6,2,    67.48,2,    33.21,2,     0.00,2,     2.41,2,    0.060,2,    0.033,2, -999.000,9,-999.0000,9,  -999.00,9,   -999.0,9,  -999.00,9,-999.000,9,   -999.9,9,   -999.9,9,  -999.0, -999.00,-999.0000,-999.000,-999.000
    316N145_10,  I07N,   716,  1,     21,     21,2,19950717,2247,-14.5183,  55.0042, 4474,   -999,   1000.4,   5.5827,  34.7124,2,  34.7143,2,    109.2,2,  5.4948,    108.0,2,    75.03,2,    34.07,2,     0.00,2,     2.47,2, -999.000,9, -999.000,9, -999.000,9,-999.0000,9,  -999.00,9,   -999.0,9,  -999.00,9,-999.000,9,   -999.9,9,   -999.9,9,  -999.0, -999.00,-999.0000,-999.000,-999.000
    316N145_10,  I07N,   716,  1,     20,     20,2,19950717,2247,-14.5183,  55.0042, 4474,   -999,   1199.7,   4.7999,  34.7101,2,  34.7112,2,    113.2,2,  4.6998,    115.1,2,    83.32,2,    34.43,2,     0.00,2,     2.50,2, -999.000,9, -999.000,9, -999.000,9,-999.0000,9,  -999.00,9,   -999.0,9,  -999.00,9,-999.000,9,   -999.9,9,   -999.9,9,  -999.0, -999.00,-999.0000,-999.000,-999.000
    316N145_10,  I07N,   716,  1,     19,     19,2,19950717,2247,-14.5183,  55.0042, 4474,   -999,   1396.7,   3.9859,  34.6995,2,  34.7002,2,    128.7,2,  3.8759,    128.6,2,    90.04,2,    34.25,2,     0.00,2,     2.48,2,    0.002,2,   -0.003,2, -999.000,9,-999.0000,9,  -999.00,9,   -999.0,9,  -999.00,9,-999.000,9,   -999.9,9,   -999.9,9,  -999.0, -999.00,-999.0000,-999.000,-999.000
    316N145_10,  I07N,   716,  1,     18,     18,2,19950717,2247,-14.5183,  55.0042, 4474,   -999,   1503.5,   3.5356,  34.6910,2,  34.6917,2,    139.9,2,  3.4212,    139.0,2,    91.97,2,    33.89,2,     0.00,2,     2.44,2, -999.000,9, -999.000,9, -999.000,9,-999.0000,9,  -999.00,9,   -999.0,9,  -999.00,9,-999.000,9,   -999.9,9,   -999.9,9,  -999.0, -999.00,-999.0000,-999.000,-999.000
    316N145_10,  I07N,   716,  1,     17,     17,2,19950717,2247,-14.5183,  55.0042, 4474,   -999,   1608.5,   3.1906,  34.6926,2,  34.6919,2,    146.2,2,  3.0711,    146.3,2,    95.33,2,    33.66,2,     0.00,2,     2.41,2,    0.003,2,   -0.004,2, -999.000,9,-999.0000,9,  -999.00,9,   -999.0,9,  -999.00,9,-999.000,9,   -999.9,9,   -999.9,9,  -999.0, -999.00,-999.0000,-999.000,-999.000
    316N145_10,  I07N,   716,  1,     16,     16,2,19950717,2247,-14.5183,  55.0042, 4474,   -999,   1807.0,   2.7761,  34.7093,2,  34.7105,2,    151.5,2,  2.6447,    152.4,2,   103.18,2,    33.48,2,     0.00,2,     2.39,2, -999.000,9, -999.000,9, -999.000,9,-999.0000,9,  -999.00,9,   -999.0,9,  -999.00,9,-999.000,9,   -999.9,9,   -999.9,9,  -999.0, -999.00,-999.0000,-999.000,-999.000
    316N145_10,  I07N,   716,  1,     15,     15,2,19950717,2247,-14.5183,  55.0042, 4474,   -999,   2000.1,   2.4691,  34.7229,2,  34.7244,2,    154.9,2,  2.3253,    155.2,2,   110.90,2,    33.43,2,     0.00,2,     2.39,2, -999.000,9, -999.000,9, -999.000,9,-999.0000,9,  -999.00,9,   -999.0,9,  -999.00,9,-999.000,9,   -999.9,9,   -999.9,9,  -999.0, -999.00,-999.0000,-999.000,-999.000
    316N145_10,  I07N,   716,  1,     14,     14,2,19950717,2247,-14.5183,  55.0042, 4474,   -999,   2200.5,   2.2850,  34.7314,2,  34.7315,2,    156.8,2,  2.1265,    156.5,2,   116.31,2,    33.61,2,     0.00,2,     2.40,2, -999.000,9, -999.000,9, -999.000,9,-999.0000,9,  -999.00,9,   -999.0,9,  -999.00,9,-999.000,9,   -999.9,9,   -999.9,9,  -999.0, -999.00,-999.0000,-999.000,-999.000
    316N145_10,  I07N,   716,  1,     13,     13,2,19950717,2247,-14.5183,  55.0042, 4474,   -999,   2392.2,   2.1473,  34.7351,2,  34.7350,2,    158.6,2,  1.9739,    157.7,2,   120.29,2,    33.61,2,     0.00,2,     2.40,2, -999.000,9, -999.000,9, -999.000,9,-999.0000,9,  -999.00,9,   -999.0,9,  -999.00,9,-999.000,9,   -999.9,9,   -999.9,9,  -999.0, -999.00,-999.0000,-999.000,-999.000
    316N145_10,  I07N,   716,  1,     12,     12,2,19950717,2247,-14.5183,  55.0042, 4474,   -999,   2592.9,   2.0179,  34.7359,2,  34.7376,2,    160.0,2,  1.8285,    158.4,2,   124.46,2,    33.70,2,     0.00,2,     2.41,2, -999.000,9, -999.000,9, -999.000,9,-999.0000,9,  -999.00,9,   -999.0,9,  -999.00,9,-999.000,9,   -999.9,9,   -999.9,9,  -999.0, -999.00,-999.0000,-999.000,-999.000
    316N145_10,  I07N,   716,  1,     11,     11,2,19950717,2247,-14.5183,  55.0042, 4474,   -999,   2797.1,   1.9158,  34.7379,2,  34.7372,2,    161.7,2,  1.7092,    160.3,2,   127.00,2,    33.70,2,     0.00,2,     2.40,2, -999.000,9, -999.000,9, -999.000,9,-999.0000,9,  -999.00,9,   -999.0,9,  -999.00,9,-999.000,9,   -999.9,9,   -999.9,9,  -999.0, -999.00,-999.0000,-999.000,-999.000
    316N145_10,  I07N,   716,  1,     10,     10,2,19950717,2247,-14.5183,  55.0042, 4474,   -999,   2993.9,   1.8240,  34.7367,2,  34.7366,2,    163.2,2,  1.6005,    162.8,2,   128.62,2,    33.70,2,     0.00,2,     2.39,2, -999.000,9, -999.000,9, -999.000,9,-999.0000,9,  -999.00,9,   -999.0,9,  -999.00,9,-999.000,9,   -999.9,9,   -999.9,9,  -999.0, -999.00,-999.0000,-999.000,-999.000
    316N145_10,  I07N,   716,  1,      9,      9,2,19950717,2247,-14.5183,  55.0042, 4474,   -999,   3196.2,   1.7313,  34.7327,2,  34.7328,2,    164.7,2,  1.4900,    166.1,2,   129.68,2,    33.61,2,     0.00,2,     2.39,2, -999.000,9, -999.000,9, -999.000,9,-999.0000,9,  -999.00,9,   -999.0,9,  -999.00,9,-999.000,9,   -999.9,9,   -999.9,9,  -999.0, -999.00,-999.0000,-999.000,-999.000
    316N145_10,  I07N,   716,  1,      8,      8,2,19950717,2247,-14.5183,  55.0042, 4474,   -999,   3391.1,   1.6645,  34.7314,2,  34.7310,2,    168.1,2,  1.4052,    168.9,2,   130.19,2,    33.52,2,     0.00,2,     2.38,2, -999.000,9, -999.000,9, -999.000,9,-999.0000,9,  -999.00,9,   -999.0,9,  -999.00,9,-999.000,9,   -999.9,9,   -999.9,9,  -999.0, -999.00,-999.0000,-999.000,-999.000
    316N145_10,  I07N,   716,  1,      7,      7,2,19950717,2247,-14.5183,  55.0042, 4474,   -999,   3595.0,   1.5798,  34.7282,2,  34.7281,2,    172.9,2,  1.3016,    173.5,2,   130.15,2,    33.34,2,     0.00,2,     2.36,2, -999.000,9, -999.000,9, -999.000,9,-999.0000,9,  -999.00,9,   -999.0,9,  -999.00,9,-999.000,9,   -999.9,9,   -999.9,9,  -999.0, -999.00,-999.0000,-999.000,-999.000
    316N145_10,  I07N,   716,  1,      6,      6,2,19950717,2247,-14.5183,  55.0042, 4474,   -999,   3790.9,   1.4820,  34.7251,2,  34.7240,2,    177.8,2,  1.1859,    178.6,2,   129.92,2,    33.11,2,     0.00,2,     2.34,2, -999.000,9, -999.000,9, -999.000,9,-999.0000,9,  -999.00,9,   -999.0,9,  -999.00,9,-999.000,9,   -999.9,9,   -999.9,9,  -999.0, -999.00,-999.0000,-999.000,-999.000
    316N145_10,  I07N,   716,  1,      5,      5,2,19950717,2247,-14.5183,  55.0042, 4474,   -999,   3987.0,   1.4040,  34.7215,2,  34.7202,2,    182.8,2,  1.0891,    183.5,2,   128.96,2,    32.89,2,     0.00,2,     2.32,2, -999.000,9, -999.000,9, -999.000,9,-999.0000,9,  -999.00,9,   -999.0,9,  -999.00,9,-999.000,9,   -999.9,9,   -999.9,9,  -999.0, -999.00,-999.0000,-999.000,-999.000
    316N145_10,  I07N,   716,  1,      4,      4,2,19950717,2247,-14.5183,  55.0042, 4474,   -999,   4191.2,   1.3763,  34.7215,2,  34.7188,2,    186.0,2,  1.0398,    185.9,2,   128.73,2,    32.75,2,     0.00,2,     2.31,2, -999.000,9, -999.000,9, -999.000,9,-999.0000,9,  -999.00,9,   -999.0,9,  -999.00,9,-999.000,9,   -999.9,9,   -999.9,9,  -999.0, -999.00,-999.0000,-999.000,-999.000
    316N145_10,  I07N,   716,  1,      3,      3,2,19950717,2247,-14.5183,  55.0042, 4474,   -999,   4399.0,   1.3338,  34.7180,2,  34.7163,2,    188.5,2,  0.9754,    188.8,2,   128.32,2,    32.61,2,     0.00,2,     2.31,2, -999.000,9, -999.000,9, -999.000,9,-999.0000,9,  -999.00,9,   -999.0,9,  -999.00,9,-999.000,9,   -999.9,9,   -999.9,9,  -999.0, -999.00,-999.0000,-999.000,-999.000
    316N145_10,  I07N,   716,  1,      2,      2,2,19950717,2247,-14.5183,  55.0042, 4474,   -999,   4501.5,   1.3151,  34.7182,2,  34.7165,2,    190.4,2,  0.9456,    190.7,2,   127.91,2,    32.48,2,     0.00,2,     2.28,2, -999.000,9, -999.000,9, -999.000,9,-999.0000,9,  -999.00,9,   -999.0,9,  -999.00,9,-999.000,9,   -999.9,9,   -999.9,9,  -999.0, -999.00,-999.0000,-999.000,-999.000
    316N145_10,  I07N,   716,  1,      1,      1,2,19950717,2247,-14.5183,  55.0042, 4474,   -999,   4556.0,   1.3180,  34.7174,2,  34.7164,2,    190.8,2,  0.9422,    190.5,2,   127.86,2,    32.52,2,     0.00,2,     2.32,3, -999.000,9, -999.000,9, -999.000,9,-999.0000,9,  -999.00,9,   -999.0,9,  -999.00,9,-999.000,9,   -999.9,9,   -999.9,9,  -999.0, -999.00,-999.0000,-999.000,-999.000