BOTTLE,20080821WHPSIOSCD
EXPOCODE,SECT_ID,STNNBR,CASTNO,SAMPNO,BTLNBR,BTLNBR_FLAG_W,DATE,TIME,LATITUDE,LONGITUDE,DEPTH,CTDRAW,CTDPRS,CTDTMP,CTDSAL,CTDSAL_FLAG_W,SALNTY,SALNTY_FLAG_W,CTDOXY,CTDOXY_FLAG_W,THETA,OXYGEN,OXYGEN_FLAG_W,SILCAT,SILCAT_FLAG_W,NITRAT,NITRAT_FLAG_W,NITRIT,NITRIT_FLAG_W,PHSPHT,PHSPHT_FLAG_W,CFC-11,CFC-11_FLAG_W,CFC-12,CFC-12_FLAG_W,TRITUM,TRITUM_FLAG_W,HELIUM,HELIUM_FLAG_W,DELHE3,DELHE3_FLAG_W,DELC14,DELC14_FLAG_W,DELC13,DELC13_FLAG_W,NEON,NEON_FLAG_W,TCARBN,TCARBN_FLAG_W,ALKALI,ALKALI_FLAG_W,C14ERR,DELHER,HELIER,NEONER,TRITER
,,,,,,,,,,,,,DBAR,ITS-90,PSS-78,,PSS-78,,UMOL/KG,,DEG C,UMOL/KG,,UMOL/KG,,UMOL/KG,,UMOL/KG,,UMOL/KG,,PMOL/KG,,PMOL/KG,,TU,,NMOL/KG,,PERCNT,,/MILLE,,/MILLE,,NMOL/KG,,UMOL/KG,,UMOL/KG,,/MILLE,PERCNT,NMOL/KG,NMOL/KG,TU
    316N145_10,  I07N,   817,  1,     36,     36,2,19950813,2238, 19.8330,  64.9998, 3136,   -999,     10.3,  27.5769,  36.7434,2,  36.7432,2,    202.1,2, 27.5748,    195.8,2,     1.62,2,     0.07,2,     0.00,2,     0.32,2,    1.645,2,    0.930,2, -999.000,9,-999.0000,9,  -999.00,9,   -999.0,9,  -999.00,9,-999.000,9,   2038.8,2,   2399.9,2,  -999.0, -999.00,-999.0000,-999.000,-999.000
    316N145_10,  I07N,   817,  1,     35,     35,2,19950813,2238, 19.8330,  64.9998, 3136,   -999,     32.3,  27.5861,  36.7451,2,  36.7432,2,    197.2,2, 27.5788,    195.3,2,     1.80,2,     0.08,2,     0.00,2,     0.32,2, -999.000,9, -999.000,9, -999.000,9,-999.0000,9,  -999.00,9,   -999.0,9,  -999.00,9,-999.000,9,   -999.9,9,   -999.9,9,  -999.0, -999.00,-999.0000,-999.000,-999.000
    316N145_10,  I07N,   817,  1,     34,     34,2,19950813,2238, 19.8330,  64.9998, 3136,   -999,     62.4,  27.5693,  36.7462,2,  36.7410,2,    198.2,2, 27.5550,    193.5,2,     1.80,2,     0.25,2,     0.01,2,     0.33,2,    1.632,2,    0.927,2, -999.000,9,-999.0000,9,  -999.00,9,   -999.0,9,  -999.00,9,-999.000,9,   -999.9,9,   -999.9,9,  -999.0, -999.00,-999.0000,-999.000,-999.000
    316N145_10,  I07N,   817,  1,     33,     33,2,19950813,2238, 19.8330,  64.9998, 3136,   -999,     87.2,  24.1259,  36.5066,2,  36.5069,2,    135.7,2, 24.1076,    136.2,2,     4.60,2,     9.71,2,     0.07,2,     0.94,2, -999.000,9, -999.000,9, -999.000,9,-999.0000,9,  -999.00,9,   -999.0,9,  -999.00,9,-999.000,9,   -999.9,9,   -999.9,9,  -999.0, -999.00,-999.0000,-999.000,-999.000
    316N145_10,  I07N,   817,  1,     32,     32,2,19950813,2238, 19.8330,  64.9998, 3136,   -999,    112.3,  23.0504,  36.3731,2,  36.3704,2,     92.4,2, 23.0275,     91.6,2,     8.71,2,    14.93,2,     0.04,2,     1.30,2,    1.675,2,    0.959,2, -999.000,9,-999.0000,9,  -999.00,9,   -999.0,9,  -999.00,9,-999.000,9,   -999.9,9,   -999.9,9,  -999.0, -999.00,-999.0000,-999.000,-999.000
    316N145_10,  I07N,   817,  1,     31,     31,2,19950813,2238, 19.8330,  64.9998, 3136,   -999,    137.4,  21.0054,  36.0973,2,  36.0511,2,      9.2,2, 20.9792,      2.7,2,    16.20,2,    23.63,2,     0.04,2,     2.09,2, -999.000,9, -999.000,9, -999.000,9,-999.0000,9,  -999.00,9,   -999.0,9,  -999.00,9,-999.000,9,   -999.9,9,   -999.9,9,  -999.0, -999.00,-999.0000,-999.000,-999.000
    316N145_10,  I07N,   817,  1,     30,     30,2,19950813,2238, 19.8330,  64.9998, 3136,   -999,    160.8,  19.3421,  35.9847,2,  35.9887,2,      0.6,2, 19.3132,      0.5,2,    19.76,2,    22.13,2,     0.65,2,     2.19,2,    1.040,2,    0.617,2, -999.000,9,-999.0000,9,  -999.00,9,   -999.0,9,  -999.00,9,-999.000,9,   -999.9,9,   -999.9,9,  -999.0, -999.00,-999.0000,-999.000,-999.000
    316N145_10,  I07N,   817,  1,     29,     29,2,19950813,2238, 19.8330,  64.9998, 3136,   -999,    189.8,  18.1482,  36.0196,2,  36.0211,2,      0.6,2, 18.1154,      0.5,2,    23.13,2,    19.93,2,     1.63,2,     2.25,2, -999.000,9, -999.000,9, -999.000,9,-999.0000,9,  -999.00,9,   -999.0,9,  -999.00,9,-999.000,9,   -999.9,9,   -999.9,9,  -999.0, -999.00,-999.0000,-999.000,-999.000
    316N145_10,  I07N,   817,  1,     28,     28,2,19950813,2238, 19.8330,  64.9998, 3136,   -999,    221.2,  17.1707,  36.1176,2,  36.1255,2,      0.6,2, 17.1338,      1.4,2,    25.00,2,    21.84,2,     0.01,2,     2.23,2,    0.694,2,    0.422,2, -999.000,9,-999.0000,9,  -999.00,9,   -999.0,9,  -999.00,9,-999.000,9,   -999.9,9,   -999.9,9,  -999.0, -999.00,-999.0000,-999.000,-999.000
    316N145_10,  I07N,   817,  1,     27,     27,2,19950813,2238, 19.8330,  64.9998, 3136,   -999,    251.3,  16.7017,  36.2304,2,  36.2268,2,      0.6,2, 16.6604,      1.3,2,    26.31,2,    21.57,2,     0.00,2,     2.23,2, -999.000,9, -999.000,9, -999.000,9,-999.0000,9,  -999.00,9,   -999.0,9,  -999.00,9,-999.000,9,   -999.9,9,   -999.9,9,  -999.0, -999.00,-999.0000,-999.000,-999.000
    316N145_10,  I07N,   817,  1,     26,     26,2,19950813,2238, 19.8330,  64.9998, 3136,   -999,    286.4,  15.7652,  36.1291,2,  36.1139,2,      0.7,2, 15.7200,      0.5,2,    28.94,2,    19.70,2,     1.68,2,     2.30,2,    0.505,2,    0.320,2, -999.000,9,-999.0000,9,  -999.00,9,   -999.0,9,  -999.00,9,-999.000,9,   -999.9,9,   -999.9,9,  -999.0, -999.00,-999.0000,-999.000,-999.000
    316N145_10,  I07N,   817,  1,     25,     25,2,19950813,2238, 19.8330,  64.9998, 3136,   -999,    320.6,  14.9653,  36.0384,2,  36.0343,2,      0.7,2, 14.9164,      0.6,2,    30.81,2,    20.25,2,     1.85,2,     2.35,2, -999.000,9, -999.000,9, -999.000,9,-999.0000,9,  -999.00,9,   -999.0,9,  -999.00,9,-999.000,9,   -999.9,9,   -999.9,9,  -999.0, -999.00,-999.0000,-999.000,-999.000
    316N145_10,  I07N,   817,  1,     24,     24,2,19950813,2238, 19.8330,  64.9998, 3136,   -999,    360.3,  14.2913,  35.9481,2,  35.9500,2,      0.7,2, 14.2380,      0.6,2,    33.63,2,    20.37,2,     2.16,2,     2.45,2,    0.322,2,    0.207,2, -999.000,9,-999.0000,9,  -999.00,9,   -999.0,9,  -999.00,9,-999.000,9,   -999.9,9,   -999.9,9,  -999.0, -999.00,-999.0000,-999.000,-999.000
    316N145_10,  I07N,   817,  1,     23,     23,2,19950813,2238, 19.8330,  64.9998, 3136,   -999,    399.4,  13.8331,  35.8934,2,  35.8941,2,      0.7,2, 13.7752,      0.5,2,    35.51,2,    21.96,2,     1.46,2,     2.52,2, -999.000,9, -999.000,9, -999.000,9,-999.0000,9,  -999.00,9,   -999.0,9,  -999.00,9,-999.000,9,   -999.9,9,   -999.9,9,  -999.0, -999.00,-999.0000,-999.000,-999.000
    316N145_10,  I07N,   817,  1,     22,     22,2,19950813,2238, 19.8330,  64.9998, 3136,   -999,    449.2,  13.2716,  35.8290,2,  35.8294,2,      0.8,2, 13.2080,      2.2,2,    38.33,2,    23.35,2,     1.01,2,     2.57,2,    0.199,2,    0.131,2, -999.000,9,-999.0000,9,  -999.00,9,   -999.0,9,  -999.00,9,-999.000,9,   -999.9,9,   -999.9,9,  -999.0, -999.00,-999.0000,-999.000,-999.000
    316N145_10,  I07N,   817,  1,     21,     21,2,19950813,2238, 19.8330,  64.9998, 3136,   -999,    499.2,  12.6773,  35.7592,2,  35.7604,2,      0.8,2, 12.6086,      0.5,2,    41.91,2,    25.00,2,     0.49,2,     2.63,2, -999.000,9, -999.000,9, -999.000,9,-999.0000,9,  -999.00,9,   -999.0,9,  -999.00,9,-999.000,9,   -999.9,9,   -999.9,9,  -999.0, -999.00,-999.0000,-999.000,-999.000
    316N145_10,  I07N,   817,  1,     20,     20,2,19950813,2238, 19.8330,  64.9998, 3136,   -999,    599.4,  11.6677,  35.6453,2,  35.6464,2,      0.9,2, 11.5892,      0.8,2,    49.25,2,    28.51,2,     0.01,2,     2.71,2,    0.060,2,    0.042,2, -999.000,9,-999.0000,9,  -999.00,9,   -999.0,9,  -999.00,9,-999.000,9,   -999.9,9,   -999.9,9,  -999.0, -999.00,-999.0000,-999.000,-999.000
    316N145_10,  I07N,   817,  1,     19,     19,2,19950813,2238, 19.8330,  64.9998, 3136,   -999,    639.5,  11.2775,  35.6125,2,  35.6139,2,      0.9,2, 11.1954,      1.0,2,    52.83,2,    29.98,2,     0.01,2,     2.76,2, -999.000,9, -999.000,9, -999.000,9,-999.0000,9,  -999.00,9,   -999.0,9,  -999.00,9,-999.000,9,   -999.9,9,   -999.9,9,  -999.0, -999.00,-999.0000,-999.000,-999.000
    316N145_10,  I07N,   817,  1,     18,     18,2,19950813,2238, 19.8330,  64.9998, 3136,   -999,    700.4,  10.8324,  35.5781,2,  35.5787,2,      1.0,2, 10.7445,      1.1,2,    56.98,2,    31.37,2,     0.01,2,     2.80,2,    0.034,2,    0.020,2, -999.000,9,-999.0000,9,  -999.00,9,   -999.0,9,  -999.00,9,-999.000,9,   -999.9,9,   -999.9,9,  -999.0, -999.00,-999.0000,-999.000,-999.000
    316N145_10,  I07N,   817,  1,     17,     17,2,19950813,2238, 19.8330,  64.9998, 3136,   -999,    800.1,  10.0998,  35.5241,2,  35.5235,2,      1.0,2, 10.0031,      1.5,2,    63.97,2,    33.57,2,     0.01,2,     2.86,2,    0.024,2,    0.014,2, -999.000,9,-999.0000,9,  -999.00,9,   -999.0,9,  -999.00,9,-999.000,9,   -999.9,9,   -999.9,9,  -999.0, -999.00,-999.0000,-999.000,-999.000
    316N145_10,  I07N,   817,  1,     16,     16,2,19950813,2238, 19.8330,  64.9998, 3136,   -999,    901.4,   9.3498,  35.4553,2,  35.4549,2,      1.5,2,  9.2452,      2.7,2,    70.59,2,    35.40,2,     0.00,2,     2.92,2, -999.000,9, -999.000,9, -999.000,9,-999.0000,9,  -999.00,9,   -999.0,9,  -999.00,9,-999.000,9,   -999.9,9,   -999.9,9,  -999.0, -999.00,-999.0000,-999.000,-999.000
    316N145_10,  I07N,   817,  1,     15,     15,2,19950813,2238, 19.8330,  64.9998, 3136,   -999,   1002.5,   8.6973,  35.3905,2,  35.3880,2,      3.0,2,  8.5851,      4.2,2,    76.10,2,    36.56,2,     0.00,2,     2.97,2,    0.014,2,    0.011,2, -999.000,9,-999.0000,9,  -999.00,9,   -999.0,9,  -999.00,9,-999.000,9,   -999.9,9,   -999.9,9,  -999.0, -999.00,-999.0000,-999.000,-999.000
    316N145_10,  I07N,   817,  1,     14,     14,2,19950813,2238, 19.8330,  64.9998, 3136,   -999,   1200.2,   7.1995,  35.2274,2,  35.2266,2,     10.8,2,  7.0770,     12.3,2,    89.42,2,    38.30,2,     0.00,2,     3.06,2,    0.006,2,    0.003,2, -999.000,9,-999.0000,9,  -999.00,9,   -999.0,9,  -999.00,9,-999.000,9,   -999.9,9,   -999.9,9,  -999.0, -999.00,-999.0000,-999.000,-999.000
    316N145_10,  I07N,   817,  1,     13,     13,2,19950813,2238, 19.8330,  64.9998, 3136,   -999,   1398.5,   6.0091,  35.1053,2,  35.1021,2,     25.7,2,  5.8769,     27.1,2,   101.50,2,    38.71,2,     0.00,2,     3.07,2, -999.000,9, -999.000,9, -999.000,9,-999.0000,9,  -999.00,9,   -999.0,9,  -999.00,9,-999.000,9,   -999.9,9,   -999.9,9,  -999.0, -999.00,-999.0000,-999.000,-999.000
    316N145_10,  I07N,   817,  1,     12,     12,2,19950813,2238, 19.8330,  64.9998, 3136,   -999,   1602.3,   4.7126,  34.9819,2,  34.9838,2,     47.2,2,  4.5745,     47.2,2,   114.49,2,    38.66,2,     0.00,2,     3.02,2,    0.002,2,    0.001,2, -999.000,9,-999.0000,9,  -999.00,9,   -999.0,9,  -999.00,9,-999.000,9,   -999.9,9,   -999.9,9,  -999.0, -999.00,-999.0000,-999.000,-999.000
    316N145_10,  I07N,   817,  1,     11,     11,2,19950813,2238, 19.8330,  64.9998, 3136,   -999,   1801.3,   3.6947,  34.8910,2,  34.8946,2,     69.0,2,  3.5508,     68.2,2,   124.90,2,    38.19,2,     0.00,2,     2.93,2, -999.000,9, -999.000,9, -999.000,9,-999.0000,9,  -999.00,9,   -999.0,9,  -999.00,9,-999.000,9,   -999.9,9,   -999.9,9,  -999.0, -999.00,-999.0000,-999.000,-999.000
    316N145_10,  I07N,   817,  1,     10,     10,2,19950813,2238, 19.8330,  64.9998, 3136,   -999,   2000.5,   3.0732,  34.8404,2,  34.8398,2,     83.3,2,  2.9200,     83.6,2,   132.66,2,    37.81,2,     0.00,2,     2.85,2,    0.000,2,    0.002,2, -999.000,9,-999.0000,9,  -999.00,9,   -999.0,9,  -999.00,9,-999.000,9,   -999.9,9,   -999.9,9,  -999.0, -999.00,-999.0000,-999.000,-999.000
    316N145_10,  I07N,   817,  1,      9,      9,2,19950813,2238, 19.8330,  64.9998, 3136,   -999,   2198.7,   2.6216,  34.8048,2,  34.8045,2,     96.2,2,  2.4575,     95.4,2,   137.50,2,    37.43,2,     0.00,2,     2.79,2, -999.000,9, -999.000,9, -999.000,9,-999.0000,9,  -999.00,9,   -999.0,9,  -999.00,9,-999.000,9,   -999.9,9,   -999.9,9,  -999.0, -999.00,-999.0000,-999.000,-999.000
    316N145_10,  I07N,   817,  1,      8,      8,2,19950813,2238, 19.8330,  64.9998, 3136,   -999,   2401.5,   2.2704,  34.7782,2,  34.7778,2,    104.9,2,  2.0938,    105.0,2,   140.96,2,    37.05,2,     0.00,2,     2.73,2,    0.002,2,    0.005,2, -999.000,9,-999.0000,9,  -999.00,9,   -999.0,9,  -999.00,9,-999.000,9,   -999.9,9,   -999.9,9,  -999.0, -999.00,-999.0000,-999.000,-999.000
    316N145_10,  I07N,   817,  1,      7,      7,2,19950813,2238, 19.8330,  64.9998, 3136,   -999,   2603.8,   2.0065,  34.7602,2,  34.7595,2,    112.9,2,  1.8162,    112.5,2,   143.63,2,    36.77,2,     0.00,2,     2.69,2, -999.000,9, -999.000,9, -999.000,9,-999.0000,9,  -999.00,9,   -999.0,9,  -999.00,9,-999.000,9,   -999.9,9,   -999.9,9,  -999.0, -999.00,-999.0000,-999.000,-999.000
    316N145_10,  I07N,   817,  1,      6,      6,2,19950813,2238, 19.8330,  64.9998, 3136,   -999,   2802.9,   1.8596,  34.7491,2,  34.7489,2,    118.2,2,  1.6536,    118.0,2,   145.09,2,    36.58,2,     0.00,2,     2.65,2,    0.000,2,    0.001,2, -999.000,9,-999.0000,9,  -999.00,9,   -999.0,9,  -999.00,9,-999.000,9,   -999.9,9,   -999.9,9,  -999.0, -999.00,-999.0000,-999.000,-999.000
    316N145_10,  I07N,   817,  1,      5,      5,2,19950813,2238, 19.8330,  64.9998, 3136,   -999,   2903.6,   1.7996,  34.7444,2,  34.7449,2,    120.4,2,  1.5853,    120.2,2,   145.73,2,    36.49,2,     0.00,2,     2.64,2, -999.000,9, -999.000,9, -999.000,9,-999.0000,9,  -999.00,9,   -999.0,9,  -999.00,9,-999.000,9,   -999.9,9,   -999.9,9,  -999.0, -999.00,-999.0000,-999.000,-999.000
    316N145_10,  I07N,   817,  1,      4,      4,2,19950813,2238, 19.8330,  64.9998, 3136,   -999,   3005.4,   1.7561,  34.7420,2,  34.7420,2,    122.2,2,  1.5329,    122.6,2,   145.96,2,    36.45,2,     0.00,2,     2.62,2,    0.002,2,    0.003,2, -999.000,9,-999.0000,9,  -999.00,9,   -999.0,9,  -999.00,9,-999.000,9,   -999.9,9,   -999.9,9,  -999.0, -999.00,-999.0000,-999.000,-999.000
    316N145_10,  I07N,   817,  1,      3,      3,2,19950813,2238, 19.8330,  64.9998, 3136,   -999,   3051.6,   1.7375,  34.7413,2,  34.7400,2,    123.1,2,  1.5102,    123.5,2,   146.60,2,    36.45,2,     0.00,2,     2.63,2,   -0.001,2,    0.006,2, -999.000,9,-999.0000,9,  -999.00,9,   -999.0,9,  -999.00,9,-999.000,9,   -999.9,9,   -999.9,9,  -999.0, -999.00,-999.0000,-999.000,-999.000
    316N145_10,  I07N,   817,  1,      2,      2,2,19950813,2238, 19.8330,  64.9998, 3136,   -999,   3138.6,   1.7017,  34.7376,2,  34.7384,2,    120.9,2,  1.4668,    119.2,2,   148.68,2,    36.80,2,     0.00,2,     2.63,2,    0.005,2,    0.022,2, -999.000,9,-999.0000,9,  -999.00,9,   -999.0,9,  -999.00,9,-999.000,9,   -999.9,9,   -999.9,9,  -999.0, -999.00,-999.0000,-999.000,-999.000
    316N145_10,  I07N,   817,  1,      1,      1,2,19950813,2238, 19.8330,  64.9998, 3136,   -999,   3173.4,   1.7046,  34.7383,2,  34.7382,2,    118.0,2,  1.4661,    118.9,2,   148.71,2,    36.76,2,     0.00,2,     2.63,2,    0.006,2,    0.022,2, -999.000,9,-999.0000,9,  -999.00,9,   -999.0,9,  -999.00,9,-999.000,9,   -999.9,9,   -999.9,9,  -999.0, -999.00,-999.0000,-999.000,-999.000