BOTTLE,20080821WHPSIOSCD
EXPOCODE,SECT_ID,STNNBR,CASTNO,SAMPNO,BTLNBR,BTLNBR_FLAG_W,DATE,TIME,LATITUDE,LONGITUDE,DEPTH,CTDRAW,CTDPRS,CTDTMP,CTDSAL,CTDSAL_FLAG_W,SALNTY,SALNTY_FLAG_W,CTDOXY,CTDOXY_FLAG_W,THETA,OXYGEN,OXYGEN_FLAG_W,SILCAT,SILCAT_FLAG_W,NITRAT,NITRAT_FLAG_W,NITRIT,NITRIT_FLAG_W,PHSPHT,PHSPHT_FLAG_W,CFC-11,CFC-11_FLAG_W,CFC-12,CFC-12_FLAG_W,TRITUM,TRITUM_FLAG_W,HELIUM,HELIUM_FLAG_W,DELHE3,DELHE3_FLAG_W,DELC14,DELC14_FLAG_W,DELC13,DELC13_FLAG_W,NEON,NEON_FLAG_W,TCARBN,TCARBN_FLAG_W,ALKALI,ALKALI_FLAG_W,C14ERR,DELHER,HELIER,NEONER,TRITER
,,,,,,,,,,,,,DBAR,ITS-90,PSS-78,,PSS-78,,UMOL/KG,,DEG C,UMOL/KG,,UMOL/KG,,UMOL/KG,,UMOL/KG,,UMOL/KG,,PMOL/KG,,PMOL/KG,,TU,,NMOL/KG,,PERCNT,,/MILLE,,/MILLE,,NMOL/KG,,UMOL/KG,,UMOL/KG,,/MILLE,PERCNT,NMOL/KG,NMOL/KG,TU
    316N145_10,  I07N,   826,  1,     36,     36,2,19950815,2358, 22.5482,  61.9505, 3121,   -999,     10.2,  25.7647,  36.5358,2,  36.5435,2,    197.9,2, 25.7626,    192.4,2,     3.57,2,     2.69,2,     0.12,2,     0.61,2, -999.000,9, -999.000,9, -999.000,9,-999.0000,9,  -999.00,9,   -999.0,9,  -999.00,9,-999.000,9,   -999.9,5,   2391.9,2,  -999.0, -999.00,-999.0000,-999.000,-999.000
    316N145_10,  I07N,   826,  1,     35,     35,2,19950815,2358, 22.5482,  61.9505, 3121,   -999,     31.0,  25.7340,  36.5399,2,  36.5406,2,    193.2,2, 25.7274,    190.9,2,     3.74,2,     2.88,2,     0.12,2,     0.61,2,    1.725,2,    0.990,2, -999.000,9,-999.0000,9,  -999.00,9,   -999.0,9,  -999.00,9,-999.000,9,   -999.9,5,   2388.9,2,  -999.0, -999.00,-999.0000,-999.000,-999.000
    316N145_10,  I07N,   826,  1,     34,     34,2,19950815,2358, 22.5482,  61.9505, 3121,   -999,     60.1,  22.4626,  36.3651,2,  36.3628,2,     61.9,2, 22.4507,     46.1,2,    10.81,2,    20.02,2,     0.07,2,     1.71,2,    1.588,2,    0.908,2, -999.000,9,-999.0000,9,  -999.00,9,   -999.0,9,  -999.00,9,-999.000,9,   -999.9,5,   2370.9,2,  -999.0, -999.00,-999.0000,-999.000,-999.000
    316N145_10,  I07N,   826,  1,     33,     33,2,19950815,2358, 22.5482,  61.9505, 3121,   -999,     79.4,  21.1542,  36.1850,2,  36.1845,2,     13.8,2, 21.1390,      7.4,2,    15.12,2,    23.35,2,     0.03,2,     2.08,2, -999.000,9, -999.000,9, -999.000,9,-999.0000,9,  -999.00,9,   -999.0,9,  -999.00,9,-999.000,9,   -999.9,5,   2356.1,2,  -999.0, -999.00,-999.0000,-999.000,-999.000
    316N145_10,  I07N,   826,  1,     32,     32,2,19950815,2358, 22.5482,  61.9505, 3121,   -999,     99.8,  20.1018,  36.0450,2,  36.0475,2,      1.0,2, 20.0834,      0.7,2,    18.23,2,    23.41,2,     0.07,2,     2.24,2,    1.162,2,    0.682,2, -999.000,9,-999.0000,9,  -999.00,9,   -999.0,9,  -999.00,9,-999.000,9,   -999.9,5,   2353.3,2,  -999.0, -999.00,-999.0000,-999.000,-999.000
    316N145_10,  I07N,   826,  1,     31,     31,2,19950815,2358, 22.5482,  61.9505, 3121,   -999,    120.3,  19.5013,  36.0795,2,  36.1083,2,      5.3,2, 19.4795,      4.5,2,    20.11,2,    22.58,2,     0.00,2,     2.22,2, -999.000,9, -999.000,9, -999.000,9,-999.0000,9,  -999.00,9,   -999.0,9,  -999.00,9,-999.000,9,   -999.9,5,   2352.2,2,  -999.0, -999.00,-999.0000,-999.000,-999.000
    316N145_10,  I07N,   826,  1,     30,     30,2,19950815,2358, 22.5482,  61.9505, 3121,   -999,    150.1,  18.7540,  36.2641,2,  36.3274,2,     10.4,2, 18.7275,     14.2,2,    21.14,2,    21.16,2,     0.01,2,     2.13,2,    0.953,2,    0.629,2, -999.000,9,-999.0000,9,  -999.00,9,   -999.0,9,  -999.00,9,-999.000,9,   -999.9,5,   2366.7,2,  -999.0, -999.00,-999.0000,-999.000,-999.000
    316N145_10,  I07N,   826,  1,     29,     29,2,19950815,2358, 22.5482,  61.9505, 3121,   -999,    167.1,  18.9610,  36.5565,2,  36.5196,2,     26.3,2, 18.9311,     23.6,2,    20.61,2,    20.22,2,     0.01,2,     2.03,2, -999.000,9, -999.000,9, -999.000,9,-999.0000,9,  -999.00,9,   -999.0,9,  -999.00,9,-999.000,9,   -999.9,5,   2370.0,2,  -999.0, -999.00,-999.0000,-999.000,-999.000
    316N145_10,  I07N,   826,  1,     28,     28,2,19950815,2358, 22.5482,  61.9505, 3121,   -999,    195.3,  16.6404,  36.0678,2,  36.0189,2,      8.6,2, 16.6085,      8.8,2,    25.27,2,    22.91,2,     0.00,2,     2.24,2,    0.700,2,    0.478,2, -999.000,9,-999.0000,9,  -999.00,9,   -999.0,9,  -999.00,9,-999.000,9,   -999.9,5,   2352.5,2,  -999.0, -999.00,-999.0000,-999.000,-999.000
    316N145_10,  I07N,   826,  1,     27,     27,2,19950815,2358, 22.5482,  61.9505, 3121,   -999,    216.6,  16.5764,  36.2181,2,  36.0315,3,     15.1,2, 16.5411,      9.1,2,    25.26,2,    22.91,2,     0.00,2,     2.24,2, -999.000,9, -999.000,9, -999.000,9,-999.0000,9,  -999.00,9,   -999.0,9,  -999.00,9,-999.000,9,   -999.9,5,   2349.7,2,  -999.0, -999.00,-999.0000,-999.000,-999.000
    316N145_10,  I07N,   826,  1,     26,     26,2,19950815,2358, 22.5482,  61.9505, 3121,   -999,    255.8,  15.5044,  36.0843,2,  36.0410,2,      2.1,2, 15.4645,      3.3,2,    29.04,2,    23.76,2,     0.00,2,     2.35,2,    0.539,2,    0.350,2, -999.000,9,-999.0000,9,  -999.00,9,   -999.0,9,  -999.00,9,-999.000,9,   -999.9,5,   2355.3,2,  -999.0, -999.00,-999.0000,-999.000,-999.000
    316N145_10,  I07N,   826,  1,     25,     25,2,19950815,2358, 22.5482,  61.9505, 3121,   -999,    269.1,  15.6718,  36.1964,2,  36.2037,2,      2.5,2, 15.6295,      3.5,2,    28.85,2,    22.67,2,     0.00,2,     2.34,2, -999.000,9, -999.000,9, -999.000,9,-999.0000,9,  -999.00,9,   -999.0,9,  -999.00,9,-999.000,9,   -999.9,5,   2357.9,2,  -999.0, -999.00,-999.0000,-999.000,-999.000
    316N145_10,  I07N,   826,  1,     24,     24,2,19950815,2358, 22.5482,  61.9505, 3121,   -999,    299.5,  14.6729,  36.0183,2,  36.0274,2,      1.2,2, 14.6279,      0.8,2,    32.13,2,    23.52,2,     0.00,2,     2.46,2,    0.415,2,    0.260,2, -999.000,9,-999.0000,9,  -999.00,9,   -999.0,9,  -999.00,9,-999.000,9,   -999.9,5,   2358.1,2,  -999.0, -999.00,-999.0000,-999.000,-999.000
    316N145_10,  I07N,   826,  1,     23,     23,2,19950815,2358, 22.5482,  61.9505, 3121,   -999,    370.0,  13.6891,  35.8862,2,  35.8734,2,      1.3,2, 13.6359,      1.2,2,    36.78,2,    25.12,2,     0.00,2,     2.53,2, -999.000,9, -999.000,9, -999.000,9,-999.0000,9,  -999.00,9,   -999.0,9,  -999.00,9,-999.000,9,   -999.9,5,   2352.5,2,  -999.0, -999.00,-999.0000,-999.000,-999.000
    316N145_10,  I07N,   826,  1,     22,     22,2,19950815,2358, 22.5482,  61.9505, 3121,   -999,    439.3,  13.1866,  35.8365,2,  35.8322,2,      1.4,2, 13.1247,      0.9,2,    39.70,2,    25.31,2,     0.00,2,     2.59,2,    0.218,2,    0.127,2, -999.000,9,-999.0000,9,  -999.00,9,   -999.0,9,  -999.00,9,-999.000,9,   -999.9,5,   2327.9,3,  -999.0, -999.00,-999.0000,-999.000,-999.000
    316N145_10,  I07N,   826,  1,     21,     21,2,19950815,2358, 22.5482,  61.9505, 3121,   -999,    509.2,  12.6047,  35.7559,2,  35.7565,2,      1.4,2, 12.5349,      1.4,2,    42.97,2,    26.45,2,     0.00,2,     2.63,2,    0.158,2,    0.093,2, -999.000,9,-999.0000,9,  -999.00,9,   -999.0,9,  -999.00,9,-999.000,9,   -999.9,5,   2352.5,2,  -999.0, -999.00,-999.0000,-999.000,-999.000
    316N145_10,  I07N,   826,  1,     20,     20,2,19950815,2358, 22.5482,  61.9505, 3121,   -999,    599.4,  11.7909,  35.6735,2,  35.6714,2,      1.5,2, 11.7118,      1.5,2,    49.53,2,    28.34,2,     0.00,2,     2.71,2,    0.088,2,    0.056,2, -999.000,9,-999.0000,9,  -999.00,9,   -999.0,9,  -999.00,9,-999.000,9,   -999.9,5,   2357.0,2,  -999.0, -999.00,-999.0000,-999.000,-999.000
    316N145_10,  I07N,   826,  1,     19,     19,2,19950815,2358, 22.5482,  61.9505, 3121,   -999,    699.8,  11.1307,  35.6158,2,  35.6168,2,      1.5,2, 11.0414,      1.6,2,    55.56,2,    30.28,2,     0.00,2,     2.77,2, -999.000,9, -999.000,9, -999.000,9,-999.0000,9,  -999.00,9,   -999.0,9,  -999.00,9,-999.000,9,   -999.9,5,   2356.8,2,  -999.0, -999.00,-999.0000,-999.000,-999.000
    316N145_10,  I07N,   826,  1,     18,     18,2,19950815,2358, 22.5482,  61.9505, 3121,   -999,    800.3,  10.3683,  35.5509,2,  35.5508,2,      1.6,2, 10.2701,      1.3,2,    62.82,2,    32.47,2,     0.00,2,     2.85,2,    0.030,2,    0.015,2, -999.000,9,-999.0000,9,  -999.00,9,   -999.0,9,  -999.00,9,-999.000,9,   -999.9,5,   2364.3,2,  -999.0, -999.00,-999.0000,-999.000,-999.000
    316N145_10,  I07N,   826,  1,     17,     17,2,19950815,2358, 22.5482,  61.9505, 3121,   -999,    900.4,   9.6329,  35.4918,2,  35.4919,2,      2.1,2,  9.5265,      2.9,2,    69.40,2,    34.52,2,     0.00,2,     2.90,2, -999.000,9, -999.000,9, -999.000,9,-999.0000,9,  -999.00,9,   -999.0,9,  -999.00,9,-999.000,9,   -999.9,5,   2366.7,2,  -999.0, -999.00,-999.0000,-999.000,-999.000
    316N145_10,  I07N,   826,  1,     16,     16,2,19950815,2358, 22.5482,  61.9505, 3121,   -999,   1001.7,   8.8952,  35.4126,2,  35.4116,2,      2.7,2,  8.7817,      3.3,2,    76.00,2,    36.01,2,     0.00,2,     2.97,2,    0.015,2,    0.008,2, -999.000,9,-999.0000,9,  -999.00,9,   -999.0,9,  -999.00,9,-999.000,9,   -999.9,5,   2374.6,2,  -999.0, -999.00,-999.0000,-999.000,-999.000
    316N145_10,  I07N,   826,  1,     15,     15,2,19950815,2358, 22.5482,  61.9505, 3121,   -999,   1101.7,   8.0850,  35.3264,2,  35.3267,2,      4.7,2,  7.9660,      4.9,2,    83.31,2,    37.31,2,     0.00,2,     3.04,2, -999.000,9, -999.000,9, -999.000,9,-999.0000,9,  -999.00,9,   -999.0,9,  -999.00,9,-999.000,9,   -999.9,5,   2376.8,2,  -999.0, -999.00,-999.0000,-999.000,-999.000
    316N145_10,  I07N,   826,  1,     14,     14,2,19950815,2358, 22.5482,  61.9505, 3121,   -999,   1176.3,   7.5384,  35.2664,2,  35.2659,2,      7.3,2,  7.4156,      7.8,2,    88.73,2,    37.89,2,     0.00,2,     3.09,2,    0.004,2,    0.004,2, -999.000,9,-999.0000,9,  -999.00,9,   -999.0,9,  -999.00,9,-999.000,9,   -999.9,5,   2384.2,2,  -999.0, -999.00,-999.0000,-999.000,-999.000
    316N145_10,  I07N,   826,  1,     13,     13,2,19950815,2358, 22.5482,  61.9505, 3121,   -999,   1273.0,   7.2435,  35.2343,2,  35.2331,2,     10.1,2,  7.1126,     10.2,2,    91.35,2,    38.08,2,     0.00,2,     3.09,2,    0.009,2,    0.007,2, -999.000,9,-999.0000,9,  -999.00,9,   -999.0,9,  -999.00,9,-999.000,9,   -999.9,5,   2382.4,2,  -999.0, -999.00,-999.0000,-999.000,-999.000
    316N145_10,  I07N,   826,  1,     12,     12,2,19950815,2358, 22.5482,  61.9505, 3121,   -999,   1399.9,   6.2669,  35.1326,2,  35.1344,2,     21.6,2,  6.1319,     21.6,2,   100.71,2,    38.71,2,     0.00,2,     3.09,2,    0.003,2,    0.002,2, -999.000,9,-999.0000,9,  -999.00,9,   -999.0,9,  -999.00,9,-999.000,9,   -999.9,5,   2394.0,2,  -999.0, -999.00,-999.0000,-999.000,-999.000
    316N145_10,  I07N,   826,  1,     11,     11,2,19950815,2358, 22.5482,  61.9505, 3121,   -999,   1577.6,   4.9895,  35.0100,2,  35.0115,2,     41.2,2,  4.8505,     40.1,2,   114.68,2,    38.76,2,     0.00,2,     3.05,2,   -0.001,2,    0.001,2, -999.000,9,-999.0000,9,  -999.00,9,   -999.0,9,  -999.00,9,-999.000,9,   -999.9,5,   2403.5,2,  -999.0, -999.00,-999.0000,-999.000,-999.000
    316N145_10,  I07N,   826,  1,     10,     10,2,19950815,2358, 22.5482,  61.9505, 3121,   -999,   1748.3,   4.0761,  34.9255,2,  34.9265,2,     60.4,2,  3.9321,     59.0,2,   124.35,2,    38.52,2,     0.00,2,     2.96,2,    0.001,2,    0.001,2, -999.000,9,-999.0000,9,  -999.00,9,   -999.0,9,  -999.00,9,-999.000,9,   -999.9,5,   2416.7,2,  -999.0, -999.00,-999.0000,-999.000,-999.000
    316N145_10,  I07N,   826,  1,      9,      9,2,19950815,2358, 22.5482,  61.9505, 3121,   -999,   1926.0,   3.4334,  34.8690,2,  34.8689,2,     75.7,2,  3.2816,     74.3,2,   131.20,2,    38.23,2,     0.00,2,     2.90,2,    0.002,2,    0.000,2, -999.000,9,-999.0000,9,  -999.00,9,   -999.0,9,  -999.00,9,-999.000,9,   -999.9,5,   2420.2,2,  -999.0, -999.00,-999.0000,-999.000,-999.000
    316N145_10,  I07N,   826,  1,      8,      8,2,19950815,2358, 22.5482,  61.9505, 3121,   -999,   2103.3,   2.9021,  34.8261,2,  34.8267,2,     87.6,2,  2.7421,     88.1,2,   137.02,2,    37.80,2,     0.00,2,     2.82,2,    0.002,2,    0.009,2, -999.000,9,-999.0000,9,  -999.00,9,   -999.0,9,  -999.00,9,-999.000,9,   -999.9,5,   2432.2,2,  -999.0, -999.00,-999.0000,-999.000,-999.000
    316N145_10,  I07N,   826,  1,      7,      7,2,19950815,2358, 22.5482,  61.9505, 3121,   -999,   2274.4,   2.4942,  34.7948,2,  34.7947,2,     98.1,2,  2.3253,     98.7,2,   141.96,2,    37.26,2,     0.00,2,     2.76,2,   -0.002,2,    0.001,2, -999.000,9,-999.0000,9,  -999.00,9,   -999.0,9,  -999.00,9,-999.000,9,   -999.9,5,   2436.9,2,  -999.0, -999.00,-999.0000,-999.000,-999.000
    316N145_10,  I07N,   826,  1,      6,      6,2,19950815,2358, 22.5482,  61.9505, 3121,   -999,   2501.8,   2.1327,  34.7680,2,  34.7686,2,    108.5,2,  1.9494,    108.2,2,   146.58,2,    37.02,2,     0.00,2,     2.73,2,    0.002,2,    0.003,2, -999.000,9,-999.0000,9,  -999.00,9,   -999.0,9,  -999.00,9,-999.000,9,   -999.9,5,   2450.3,2,  -999.0, -999.00,-999.0000,-999.000,-999.000
    316N145_10,  I07N,   826,  1,      5,      5,2,19950815,2358, 22.5482,  61.9505, 3121,   -999,   2628.9,   1.9951,  34.7586,2,  34.7592,2,    111.2,2,  1.8027,    110.8,2,   148.89,2,    37.02,2,     0.00,2,     2.71,2,    0.002,2,    0.006,2, -999.000,9,-999.0000,9,  -999.00,9,   -999.0,9,  -999.00,9,-999.000,9,   -999.9,5,   2448.8,2,  -999.0, -999.00,-999.0000,-999.000,-999.000
    316N145_10,  I07N,   826,  1,      4,      4,2,19950815,2358, 22.5482,  61.9505, 3121,   -999,   2800.3,   1.8792,  34.7506,2,  34.7506,2,    111.7,2,  1.6730,    111.6,2,   151.81,2,    36.78,2,     0.00,2,     2.68,2,    0.005,2,    0.014,2, -999.000,9,-999.0000,9,  -999.00,9,   -999.0,9,  -999.00,9,-999.000,9,   -999.9,5,   2461.1,2,  -999.0, -999.00,-999.0000,-999.000,-999.000
    316N145_10,  I07N,   826,  1,      3,      3,2,19950815,2358, 22.5482,  61.9505, 3121,   -999,   2949.6,   1.8180,  34.7463,2,  34.7455,2,    110.0,2,  1.5989,    110.5,2,   154.16,2,    36.73,2,     0.00,2,     2.70,2,    0.014,2,    0.039,2, -999.000,9,-999.0000,9,  -999.00,9,   -999.0,9,  -999.00,9,-999.000,9,   -999.9,5,   2462.4,2,  -999.0, -999.00,-999.0000,-999.000,-999.000
    316N145_10,  I07N,   826,  1,      2,      2,2,19950815,2358, 22.5482,  61.9505, 3121,   -999,   3116.6,   1.7655,  34.7419,2,  34.7419,2,    108.6,2,  1.5312,    108.2,2,   156.53,2,    36.48,2,     0.00,2,     2.72,2,    0.027,2,    0.100,2, -999.000,9,-999.0000,9,  -999.00,9,   -999.0,9,  -999.00,9,-999.000,9,   -999.9,5,   2475.0,2,  -999.0, -999.00,-999.0000,-999.000,-999.000
    316N145_10,  I07N,   826,  1,      1,      1,2,19950815,2358, 22.5482,  61.9505, 3121,   -999,   3163.8,   1.7671,  34.7416,2,  34.7416,2,    108.4,2,  1.5281,    108.4,2,   157.30,2,    36.43,2,     0.00,2,     2.72,2,    0.026,2,    0.110,2, -999.000,9,-999.0000,9,  -999.00,9,   -999.0,9,  -999.00,9,-999.000,9,   -999.9,5,   2471.8,2,  -999.0, -999.00,-999.0000,-999.000,-999.000