BOTTLE,20080821WHPSIOSCD
EXPOCODE,SECT_ID,STNNBR,CASTNO,SAMPNO,BTLNBR,BTLNBR_FLAG_W,DATE,TIME,LATITUDE,LONGITUDE,DEPTH,CTDRAW,CTDPRS,CTDTMP,CTDSAL,CTDSAL_FLAG_W,SALNTY,SALNTY_FLAG_W,CTDOXY,CTDOXY_FLAG_W,THETA,OXYGEN,OXYGEN_FLAG_W,SILCAT,SILCAT_FLAG_W,NITRAT,NITRAT_FLAG_W,NITRIT,NITRIT_FLAG_W,PHSPHT,PHSPHT_FLAG_W,CFC-11,CFC-11_FLAG_W,CFC-12,CFC-12_FLAG_W,TRITUM,TRITUM_FLAG_W,HELIUM,HELIUM_FLAG_W,DELHE3,DELHE3_FLAG_W,DELC14,DELC14_FLAG_W,DELC13,DELC13_FLAG_W,NEON,NEON_FLAG_W,TCARBN,TCARBN_FLAG_W,ALKALI,ALKALI_FLAG_W,C14ERR,DELHER,HELIER,NEONER,TRITER
,,,,,,,,,,,,,DBAR,ITS-90,PSS-78,,PSS-78,,UMOL/KG,,DEG C,UMOL/KG,,UMOL/KG,,UMOL/KG,,UMOL/KG,,UMOL/KG,,PMOL/KG,,PMOL/KG,,TU,,NMOL/KG,,PERCNT,,/MILLE,,/MILLE,,NMOL/KG,,UMOL/KG,,UMOL/KG,,/MILLE,PERCNT,NMOL/KG,NMOL/KG,TU
    316N145_10,  I07N,   772,  1,     36,     36,2,19950801,2356,  4.7962,  59.8912, 4376,   -999,      9.0,  28.1332,  36.1097,2,  36.1116,2,    197.2,2, 28.1314,    195.3,2,     3.01,2,     0.00,2,     0.00,2,     0.22,2,    1.608,2,    0.921,2, -999.000,9,-999.0000,9,  -999.00,9,   -999.0,9,  -999.00,9,-999.000,9,   1999.0,2,   2388.9,3,  -999.0, -999.00,-999.0000,-999.000,-999.000
    316N145_10,  I07N,   772,  1,     35,     35,2,19950801,2356,  4.7962,  59.8912, 4376,   -999,     36.3,  28.1491,  36.1152,2,  36.1169,2,    193.8,2, 28.1407,    195.3,2,     2.99,2,     0.00,2,     0.00,2,     0.23,2,    1.606,2,    0.922,2, -999.000,9,-999.0000,9,  -999.00,9,   -999.0,9,  -999.00,9,-999.000,9,   1998.8,2,   2378.3,3,  -999.0, -999.00,-999.0000,-999.000,-999.000
    316N145_10,  I07N,   772,  1,     34,     34,2,19950801,2356,  4.7962,  59.8912, 4376,   -999,     71.2,  28.1697,  36.1939,2,  36.1953,2,    197.7,2, 28.1530,    195.1,2,     2.79,2,     0.00,2,     0.00,2,     0.24,2,    1.608,2,    0.918,2, -999.000,9,-999.0000,9,  -999.00,9,   -999.0,9,  -999.00,9,-999.000,9,   2004.9,2,   2368.2,2,  -999.0, -999.00,-999.0000,-999.000,-999.000
    316N145_10,  I07N,   772,  1,     33,     33,2,19950801,2356,  4.7962,  59.8912, 4376,   -999,    101.7,  26.4164,  36.0878,2,  36.0980,2,    163.8,2, 26.3936,    152.8,2,     4.53,2,     4.96,2,     0.22,2,     0.63,2,    1.614,2,    0.920,2, -999.000,9,-999.0000,9,  -999.00,9,   -999.0,9,  -999.00,9,-999.000,9,   2055.8,2,   2355.9,2,  -999.0, -999.00,-999.0000,-999.000,-999.000
    316N145_10,  I07N,   772,  1,     32,     32,2,19950801,2356,  4.7962,  59.8912, 4376,   -999,    113.6,  24.0309,  35.9787,2,  35.9324,2,    124.6,2, 24.0071,     99.7,2,     8.22,2,    13.61,2,     0.06,2,     1.16,2,    1.516,2,    0.848,2, -999.000,9,-999.0000,9,  -999.00,9,   -999.0,9,  -999.00,9,-999.000,9,   2114.2,2,   2355.9,2,  -999.0, -999.00,-999.0000,-999.000,-999.000
    316N145_10,  I07N,   772,  1,     31,     31,2,19950801,2356,  4.7962,  59.8912, 4376,   -999,    140.2,  18.5662,  35.4754,2,  35.4591,2,     58.4,2, 18.5417,     55.8,2,    16.50,2,    22.13,2,     0.01,2,     1.72,2,    1.205,2,    0.661,2, -999.000,9,-999.0000,9,  -999.00,9,   -999.0,9,  -999.00,9,-999.000,9,   2177.8,2,   2335.3,2,  -999.0, -999.00,-999.0000,-999.000,-999.000
    316N145_10,  I07N,   772,  1,     30,     30,2,19950801,2356,  4.7962,  59.8912, 4376,   -999,    176.0,  14.9853,  35.2378,2,  35.2347,2,     59.5,2, 14.9588,     58.7,2,    20.71,2,    24.48,2,     0.00,2,     1.81,2,    0.913,2,    0.487,2, -999.000,9,-999.0000,9,  -999.00,9,   -999.0,9,  -999.00,9,-999.000,9,   2194.1,2,   2316.5,2,  -999.0, -999.00,-999.0000,-999.000,-999.000
    316N145_10,  I07N,   772,  1,     29,     29,2,19950801,2356,  4.7962,  59.8912, 4376,   -999,    210.5,  13.5055,  35.1862,2,  35.1989,2,     83.1,2, 13.4758,     75.8,2,    20.87,2,    23.85,2,     0.00,2,     1.75,2,    0.928,2,    0.497,2, -999.000,9,-999.0000,9,  -999.00,9,   -999.0,9,  -999.00,9,-999.000,9,   2192.2,2,   2321.1,2,  -999.0, -999.00,-999.0000,-999.000,-999.000
    316N145_10,  I07N,   772,  1,     28,     28,2,19950801,2356,  4.7962,  59.8912, 4376,   -999,    250.5,  12.9418,  35.1695,2,  35.1690,2,     82.0,2, 12.9075,     82.8,2,    21.73,2,    24.17,2,     0.00,2,     1.77,2,    0.866,2,    0.450,2, -999.000,9,-999.0000,9,  -999.00,9,   -999.0,9,  -999.00,9,-999.000,9,   2194.7,2,   2324.4,2,  -999.0, -999.00,-999.0000,-999.000,-999.000
    316N145_10,  I07N,   772,  1,     27,     27,2,19950801,2356,  4.7962,  59.8912, 4376,   -999,    300.4,  12.0796,  35.1343,2,  35.1364,2,     86.1,2, 12.0402,     85.5,2,    23.64,2,    25.12,2,     0.00,2,     1.83,2,    0.774,2,    0.404,2, -999.000,9,-999.0000,9,  -999.00,9,   -999.0,9,  -999.00,9,-999.000,9,   2200.1,2,   2413.6,3,  -999.0, -999.00,-999.0000,-999.000,-999.000
    316N145_10,  I07N,   772,  1,     26,     26,2,19950801,2356,  4.7962,  59.8912, 4376,   -999,    349.6,  11.4635,  35.1073,2,  35.1140,2,     80.6,2, 11.4190,     81.9,2,    25.91,2,    26.47,2,     0.00,2,     1.92,2,    0.645,2,    0.338,2, -999.000,9,-999.0000,9,  -999.00,9,   -999.0,9,  -999.00,9,-999.000,9,   2209.1,2,   2320.6,2,  -999.0, -999.00,-999.0000,-999.000,-999.000
    316N145_10,  I07N,   772,  1,     25,     25,2,19950801,2356,  4.7962,  59.8912, 4376,   -999,    439.6,  10.7727,  35.0934,2,  35.0945,2,     69.2,2, 10.7187,     72.0,2,    31.36,2,    28.82,2,     0.00,2,     2.10,2,    0.423,2,    0.220,2, -999.000,9,-999.0000,9,  -999.00,9,   -999.0,9,  -999.00,9,-999.000,9,   2225.2,2,   2314.0,3,  -999.0, -999.00,-999.0000,-999.000,-999.000
    316N145_10,  I07N,   772,  1,     24,     24,2,19950801,2356,  4.7962,  59.8912, 4376,   -999,    529.8,  10.2849,  35.0967,2,  35.0985,2,     60.0,2, 10.2213,     60.9,2,    37.15,2,    30.73,2,     0.00,2,     2.27,2,    0.256,6,    0.138,6, -999.000,9,-999.0000,9,  -999.00,9,   -999.0,9,  -999.00,9,-999.000,9,   2239.0,2,   2324.2,2,  -999.0, -999.00,-999.0000,-999.000,-999.000
    316N145_10,  I07N,   772,  1,     23,     23,2,19950801,2356,  4.7962,  59.8912, 4376,   -999,    619.8,  10.1946,  35.1870,2,  35.1860,2,     43.5,2, 10.1202,     45.2,2,    43.30,2,    32.04,2,     0.00,2,     2.43,2,    0.158,2,    0.087,2, -999.000,9,-999.0000,9,  -999.00,9,   -999.0,9,  -999.00,9,-999.000,9,   2252.8,2,   2332.4,2,  -999.0, -999.00,-999.0000,-999.000,-999.000
    316N145_10,  I07N,   772,  1,     22,     22,2,19950801,2356,  4.7962,  59.8912, 4376,   -999,    720.1,   9.8119,  35.2660,2,  35.2668,2,     34.7,2,  9.7270,     34.6,2,    53.15,2,    33.32,2,     0.00,2,     2.59,2,    0.088,2,    0.052,2, -999.000,9,-999.0000,9,  -999.00,9,   -999.0,9,  -999.00,9,-999.000,9,   2272.4,2,   2346.7,2,  -999.0, -999.00,-999.0000,-999.000,-999.000
    316N145_10,  I07N,   772,  1,     21,     21,2,19950801,2356,  4.7962,  59.8912, 4376,   -999,    810.4,   9.3709,  35.2788,2,  35.2788,2,     31.2,2,  9.2774,     30.7,2,    60.19,2,    34.28,2,     0.00,2,     2.67,2,    0.064,2,    0.039,2, -999.000,9,-999.0000,9,  -999.00,9,   -999.0,9,  -999.00,9,-999.000,9,   2283.3,2,   2354.4,2,  -999.0, -999.00,-999.0000,-999.000,-999.000
    316N145_10,  I07N,   772,  1,     20,     20,2,19950801,2356,  4.7962,  59.8912, 4376,   -999,    900.6,   8.4483,  35.2062,2,  35.2149,2,     32.2,2,  8.3500,     31.5,2,    69.53,2,    35.57,2,     0.00,2,     2.75,2,    0.028,2,    0.022,2, -999.000,9,-999.0000,9,  -999.00,9,   -999.0,9,  -999.00,9,-999.000,9,   2294.6,2,   2350.5,3,  -999.0, -999.00,-999.0000,-999.000,-999.000
    316N145_10,  I07N,   772,  1,     19,     19,2,19950801,2356,  4.7962,  59.8912, 4376,   -999,   1000.5,   7.0191,  35.0730,2,  35.0762,2,     39.6,2,  6.9198,     42.7,2,    82.99,2,    36.77,2,     0.00,2,     2.81,2,    0.012,2,    0.004,2, -999.000,9,-999.0000,9,  -999.00,9,   -999.0,9,  -999.00,9,-999.000,9,   2305.9,2,   2370.3,2,  -999.0, -999.00,-999.0000,-999.000,-999.000
    316N145_10,  I07N,   772,  1,     18,     18,2,19950801,2356,  4.7962,  59.8912, 4376,   -999,   1202.4,   5.9049,  34.9850,2,  34.9864,2,     55.3,2,  5.7941,     57.3,2,    93.66,2,    37.10,2,     0.00,2,     2.82,2,    0.001,2,    0.000,2, -999.000,9,-999.0000,9,  -999.00,9,   -999.0,9,  -999.00,9,-999.000,9,   2312.9,2,   2366.5,3,  -999.0, -999.00,-999.0000,-999.000,-999.000
    316N145_10,  I07N,   772,  1,     17,     17,2,19950801,2356,  4.7962,  59.8912, 4376,   -999,   1398.4,   4.8393,  34.9194,2,  34.9198,2,     75.4,2,  4.7197,     75.9,2,   104.03,2,    36.88,2,     0.00,2,     2.78,2,   -0.001,2,    0.000,2, -999.000,9,-999.0000,9,  -999.00,9,   -999.0,9,  -999.00,9,-999.000,9,   2318.6,2,   2390.4,2,  -999.0, -999.00,-999.0000,-999.000,-999.000
    316N145_10,  I07N,   772,  1,     16,     16,2,19950801,2356,  4.7962,  59.8912, 4376,   -999,   1601.3,   3.8973,  34.8487,2,  34.8493,2,     97.7,2,  3.7694,     97.4,2,   111.94,2,    36.38,2,     0.00,2,     2.71,2,   -0.004,2,    0.002,2, -999.000,9,-999.0000,9,  -999.00,9,   -999.0,9,  -999.00,9,-999.000,9,   2317.7,2,   2398.2,2,  -999.0, -999.00,-999.0000,-999.000,-999.000
    316N145_10,  I07N,   772,  1,     15,     15,2,19950801,2356,  4.7962,  59.8912, 4376,   -999,   1803.6,   3.2427,  34.8179,2,  34.8171,2,    113.6,2,  3.1049,    111.8,2,   119.73,2,    36.01,2,     0.00,2,     2.67,2,   -0.003,2,    0.003,2, -999.000,9,-999.0000,9,  -999.00,9,   -999.0,9,  -999.00,9,-999.000,9,   2319.5,2,   2401.7,2,  -999.0, -999.00,-999.0000,-999.000,-999.000
    316N145_10,  I07N,   772,  1,     14,     14,2,19950801,2356,  4.7962,  59.8912, 4376,   -999,   1999.5,   2.7606,  34.7902,2,  34.7883,2,    126.2,2,  2.6123,    125.2,2,   124.09,2,    35.56,2,     0.00,2,     2.60,2,   -0.002,2,    0.001,2, -999.000,9,-999.0000,9,  -999.00,9,   -999.0,9,  -999.00,9,-999.000,9,   2317.3,2,   2416.7,2,  -999.0, -999.00,-999.0000,-999.000,-999.000
    316N145_10,  I07N,   772,  1,     13,     13,2,19950801,2356,  4.7962,  59.8912, 4376,   -999,   2201.3,   2.5616,  34.7797,2,  34.7781,2,    132.0,2,  2.3982,    131.3,2,   125.88,2,    35.38,2,     0.00,2,     2.58,2, -999.000,9, -999.000,9, -999.000,9,-999.0000,9,  -999.00,9,   -999.0,9,  -999.00,9,-999.000,9,   2318.3,2,   2397.0,3,  -999.0, -999.00,-999.0000,-999.000,-999.000
    316N145_10,  I07N,   772,  1,     12,     12,2,19950801,2356,  4.7962,  59.8912, 4376,   -999,   2401.0,   2.2616,  34.7655,2,  34.7657,2,    140.8,2,  2.0853,    140.3,2,   129.35,2,    35.11,2,     0.00,2,     2.54,2, -999.000,9, -999.000,9, -999.000,9,-999.0000,9,  -999.00,9,   -999.0,9,  -999.00,9,-999.000,9,   2317.7,2,   2400.3,3,  -999.0, -999.00,-999.0000,-999.000,-999.000
    316N145_10,  I07N,   772,  1,     11,     11,2,19950801,2356,  4.7962,  59.8912, 4376,   -999,   2602.5,   2.1106,  34.7591,2,  34.7580,2,    143.8,2,  1.9184,    144.2,2,   131.16,2,    34.97,2,     0.00,2,     2.52,2, -999.000,9, -999.000,9, -999.000,9,-999.0000,9,  -999.00,9,   -999.0,9,  -999.00,9,-999.000,9,   2318.2,2,   2415.0,2,  -999.0, -999.00,-999.0000,-999.000,-999.000
    316N145_10,  I07N,   772,  1,     10,     10,2,19950801,2356,  4.7962,  59.8912, 4376,   -999,   2802.0,   1.9657,  34.7521,2,  34.7500,2,    150.1,2,  1.7575,    150.1,2,   132.42,2,    34.75,2,     0.00,2,     2.50,2, -999.000,9, -999.000,9, -999.000,9,-999.0000,9,  -999.00,9,   -999.0,9,  -999.00,9,-999.000,9,   2315.6,2,   2417.1,2,  -999.0, -999.00,-999.0000,-999.000,-999.000
    316N145_10,  I07N,   772,  1,      9,      9,2,19950801,2356,  4.7962,  59.8912, 4376,   -999,   2999.2,   1.9001,  34.7476,2,  34.7480,2,    151.8,2,  1.6743,    152.3,2,   133.49,2,    34.70,2,     0.00,2,     2.49,2, -999.000,9, -999.000,9, -999.000,9,-999.0000,9,  -999.00,9,   -999.0,9,  -999.00,9,-999.000,9,   2316.3,2,   2417.3,2,  -999.0, -999.00,-999.0000,-999.000,-999.000
    316N145_10,  I07N,   772,  1,      8,      8,2,19950801,2356,  4.7962,  59.8912, 4376,   -999,   3202.7,   1.7806,  34.7414,2,  34.7408,2,    157.4,2,  1.5374,    157.7,2,   133.26,2,    34.43,2,     0.00,2,     2.47,2, -999.000,9, -999.000,9, -999.000,9,-999.0000,9,  -999.00,9,   -999.0,9,  -999.00,9,-999.000,9,   2313.0,2,   2417.6,2,  -999.0, -999.00,-999.0000,-999.000,-999.000
    316N145_10,  I07N,   772,  1,      7,      7,2,19950801,2356,  4.7962,  59.8912, 4376,   -999,   3400.9,   1.6666,  34.7360,2,  34.7353,2,    163.2,2,  1.4063,    164.1,2,   133.59,2,    34.16,2,     0.00,2,     2.44,2, -999.000,9, -999.000,9, -999.000,9,-999.0000,9,  -999.00,9,   -999.0,9,  -999.00,9,-999.000,9,   2307.4,2,   2413.5,2,  -999.0, -999.00,-999.0000,-999.000,-999.000
    316N145_10,  I07N,   772,  1,      6,      6,2,19950801,2356,  4.7962,  59.8912, 4376,   -999,   3553.2,   1.6305,  34.7340,2,  34.7331,2,    165.7,2,  1.3554,    166.0,2,   133.54,2,    34.16,2,     0.00,2,     2.44,2, -999.000,9, -999.000,9, -999.000,9,-999.0000,9,  -999.00,9,   -999.0,9,  -999.00,9,-999.000,9,   2307.3,2,   2415.8,2,  -999.0, -999.00,-999.0000,-999.000,-999.000
    316N145_10,  I07N,   772,  1,      5,      5,2,19950801,2356,  4.7962,  59.8912, 4376,   -999,   3701.1,   1.5583,  34.7300,2,  34.7302,2,    169.7,2,  1.2696,    170.0,2,   133.50,2,    33.94,2,     0.00,2,     2.42,2, -999.000,9, -999.000,9, -999.000,9,-999.0000,9,  -999.00,9,   -999.0,9,  -999.00,9,-999.000,9,   2303.7,2,   2412.7,2,  -999.0, -999.00,-999.0000,-999.000,-999.000
    316N145_10,  I07N,   772,  1,      4,      4,2,19950801,2356,  4.7962,  59.8912, 4376,   -999,   3899.8,   1.5498,  34.7299,2,  34.7290,2,    170.4,2,  1.2402,    171.3,2,   133.46,2,    33.90,2,     0.00,2,     2.40,2, -999.000,9, -999.000,9, -999.000,9,-999.0000,9,  -999.00,9,   -999.0,9,  -999.00,9,-999.000,9,   2303.6,2,   2400.0,3,  -999.0, -999.00,-999.0000,-999.000,-999.000
    316N145_10,  I07N,   772,  1,      3,      3,2,19950801,2356,  4.7962,  59.8912, 4376,   -999,   4094.0,   1.5597,  34.7288,2,  34.7276,2,    171.9,2,  1.2286,    171.5,2,   133.41,2,    33.90,2,     0.00,2,     2.40,2, -999.000,9, -999.000,9, -999.000,9,-999.0000,9,  -999.00,9,   -999.0,9,  -999.00,9,-999.000,9,   2303.6,2,   2410.7,2,  -999.0, -999.00,-999.0000,-999.000,-999.000
    316N145_10,  I07N,   772,  1,      2,      2,2,19950801,2356,  4.7962,  59.8912, 4376,   -999,   4323.1,   1.5762,  34.7290,2,  34.7272,2,    172.2,2,  1.2189,    172.5,2,   133.56,2,    33.91,2,     0.00,2,     2.39,2, -999.000,9, -999.000,9, -999.000,9,-999.0000,9,  -999.00,9,   -999.0,9,  -999.00,9,-999.000,9,   2303.6,2,   2413.6,2,  -999.0, -999.00,-999.0000,-999.000,-999.000
    316N145_10,  I07N,   772,  1,      1,      1,2,19950801,2356,  4.7962,  59.8912, 4376,   -999,   4427.2,   1.5866,  34.7284,2,  34.7282,2,    171.9,2,  1.2172,    172.3,2,   133.33,2,    33.91,2,     0.00,2,     2.40,2, -999.000,9, -999.000,9, -999.000,9,-999.0000,9,  -999.00,9,   -999.0,9,  -999.00,9,-999.000,9,   2303.6,2,   2412.9,2,  -999.0, -999.00,-999.0000,-999.000,-999.000