BOTTLE,20080821WHPSIOSCD
EXPOCODE,SECT_ID,STNNBR,CASTNO,SAMPNO,BTLNBR,BTLNBR_FLAG_W,DATE,TIME,LATITUDE,LONGITUDE,DEPTH,CTDRAW,CTDPRS,CTDTMP,CTDSAL,CTDSAL_FLAG_W,SALNTY,SALNTY_FLAG_W,CTDOXY,CTDOXY_FLAG_W,THETA,OXYGEN,OXYGEN_FLAG_W,SILCAT,SILCAT_FLAG_W,NITRAT,NITRAT_FLAG_W,NITRIT,NITRIT_FLAG_W,PHSPHT,PHSPHT_FLAG_W,CFC-11,CFC-11_FLAG_W,CFC-12,CFC-12_FLAG_W,TRITUM,TRITUM_FLAG_W,HELIUM,HELIUM_FLAG_W,DELHE3,DELHE3_FLAG_W,DELC14,DELC14_FLAG_W,DELC13,DELC13_FLAG_W,NEON,NEON_FLAG_W,TCARBN,TCARBN_FLAG_W,ALKALI,ALKALI_FLAG_W,C14ERR,DELHER,HELIER,NEONER,TRITER
,,,,,,,,,,,,,DBAR,ITS-90,PSS-78,,PSS-78,,UMOL/KG,,DEG C,UMOL/KG,,UMOL/KG,,UMOL/KG,,UMOL/KG,,UMOL/KG,,PMOL/KG,,PMOL/KG,,TU,,NMOL/KG,,PERCNT,,/MILLE,,/MILLE,,NMOL/KG,,UMOL/KG,,UMOL/KG,,/MILLE,PERCNT,NMOL/KG,NMOL/KG,TU
    316N145_10,  I07N,   753,  1,     36,     36,2,19950727,1325, -2.2587,  56.8150, 4424,   -999,      8.1,  26.9203,  35.2740,2,  35.2758,2,    202.6,2, 26.9187,    201.5,2,     4.87,2,     0.58,2,     0.01,2,     0.24,2,    1.709,2,    0.955,2, -999.000,9,-999.0000,9,  -999.00,9,   -999.0,9,  -999.00,9,-999.000,9,   1978.1,2,   2310.9,2,  -999.0, -999.00,-999.0000,-999.000,-999.000
    316N145_10,  I07N,   753,  1,     35,     35,2,19950727,1325, -2.2587,  56.8150, 4424,   -999,     32.4,  26.4006,  35.2568,2,  35.2556,2,    203.4,2, 26.3935,    200.1,2,     4.84,2,     0.75,2,     0.03,2,     0.25,2,    1.710,2,    0.946,2, -999.000,9,-999.0000,9,  -999.00,9,   -999.0,9,  -999.00,9,-999.000,9,   -999.9,9,   -999.9,9,  -999.0, -999.00,-999.0000,-999.000,-999.000
    316N145_10,  I07N,   753,  1,     34,     34,2,19950727,1325, -2.2587,  56.8150, 4424,   -999,     62.4,  24.9946,  35.2032,2,  35.2011,2,    199.5,2, 24.9813,    188.1,2,     6.21,2,     2.62,2,     0.20,2,     0.37,2,    1.724,2,    0.951,2, -999.000,9,-999.0000,9,  -999.00,9,   -999.0,9,  -999.00,9,-999.000,9,   -999.9,9,   -999.9,9,  -999.0, -999.00,-999.0000,-999.000,-999.000
    316N145_10,  I07N,   753,  1,     33,     33,2,19950727,1325, -2.2587,  56.8150, 4424,   -999,     92.3,  22.4663,  35.1739,2,  35.1684,2,    158.7,2, 22.4480,    159.3,2,     8.63,2,     7.20,2,     0.35,2,     0.65,2,    1.629,2,    0.880,2, -999.000,9,-999.0000,9,  -999.00,9,   -999.0,9,  -999.00,9,-999.000,9,   -999.9,9,   -999.9,9,  -999.0, -999.00,-999.0000,-999.000,-999.000
    316N145_10,  I07N,   753,  1,     32,     32,2,19950727,1325, -2.2587,  56.8150, 4424,   -999,    122.0,  19.9589,  35.3103,2,  35.3075,2,    119.2,2, 19.9365,    112.2,2,    12.44,2,    14.46,2,     0.01,2,     1.07,2,    1.545,2,    0.824,2, -999.000,9,-999.0000,9,  -999.00,9,   -999.0,9,  -999.00,9,-999.000,9,   -999.9,9,   -999.9,9,  -999.0, -999.00,-999.0000,-999.000,-999.000
    316N145_10,  I07N,   753,  1,     31,     31,2,19950727,1325, -2.2587,  56.8150, 4424,   -999,    165.5,  15.6174,  35.1971,2,  35.1960,2,     83.1,2, 15.5918,     82.4,2,    18.51,2,    21.31,2,     0.00,2,     1.50,2,    1.157,2,    0.603,2, -999.000,9,-999.0000,9,  -999.00,9,   -999.0,9,  -999.00,9,-999.000,9,   -999.9,9,   -999.9,9,  -999.0, -999.00,-999.0000,-999.000,-999.000
    316N145_10,  I07N,   753,  1,     30,     30,2,19950727,1325, -2.2587,  56.8150, 4424,   -999,    241.4,  13.7285,  35.1307,2,  35.1281,2,     79.9,2, 13.6942,     83.8,2,    20.92,2,    23.37,2,     0.00,2,     1.64,2,    0.933,2,    0.478,2, -999.000,9,-999.0000,9,  -999.00,9,   -999.0,9,  -999.00,9,-999.000,9,   -999.9,9,   -999.9,9,  -999.0, -999.00,-999.0000,-999.000,-999.000
    316N145_10,  I07N,   753,  1,     29,     29,2,19950727,1325, -2.2587,  56.8150, 4424,   -999,    302.6,  12.1126,  35.0603,2,  35.0605,2,    133.8,2, 12.0729,    132.3,2,    18.63,2,    20.31,2,     0.00,2,     1.43,2,    1.252,2,    0.638,2, -999.000,9,-999.0000,9,  -999.00,9,   -999.0,9,  -999.00,9,-999.000,9,   -999.9,9,   -999.9,9,  -999.0, -999.00,-999.0000,-999.000,-999.000
    316N145_10,  I07N,   753,  1,     28,     28,2,19950727,1325, -2.2587,  56.8150, 4424,   -999,    402.7,  11.0442,  34.9800,2,  34.9789,2,    136.0,2, 10.9941,    136.4,2,    20.69,2,    21.82,2,     0.00,2,     1.52,2,    1.122,2,    0.564,2, -999.000,9,-999.0000,9,  -999.00,9,   -999.0,9,  -999.00,9,-999.000,9,   -999.9,9,   -999.9,9,  -999.0, -999.00,-999.0000,-999.000,-999.000
    316N145_10,  I07N,   753,  1,     27,     27,2,19950727,1325, -2.2587,  56.8150, 4424,   -999,    477.9,  10.1688,  34.9068,2,  34.9096,2,    131.2,2, 10.1122,    132.1,2,    24.15,2,    23.92,2,     0.00,2,     1.66,2,    0.889,2,    0.452,2, -999.000,9,-999.0000,9,  -999.00,9,   -999.0,9,  -999.00,9,-999.000,9,   -999.9,9,   -999.9,9,  -999.0, -999.00,-999.0000,-999.000,-999.000
    316N145_10,  I07N,   753,  1,     26,     26,2,19950727,1325, -2.2587,  56.8150, 4424,   -999,    572.3,   9.0054,  34.8798,2,  34.8787,2,     94.9,2,  8.9421,     97.5,2,    39.27,2,    29.57,2,     0.00,2,     2.10,2,    0.305,6,    0.164,6, -999.000,9,-999.0000,9,  -999.00,9,   -999.0,9,  -999.00,9,-999.000,9,   -999.9,9,   -999.9,9,  -999.0, -999.00,-999.0000,-999.000,-999.000
    316N145_10,  I07N,   753,  1,     25,     25,2,19950727,1325, -2.2587,  56.8150, 4424,   -999,    702.8,   8.4706,  34.9922,2,  34.9911,2,     63.2,2,  8.3949,     63.7,2,    56.13,2,    33.17,2,     0.00,2,     2.46,2,    0.093,2,    0.055,2, -999.000,9,-999.0000,9,  -999.00,9,   -999.0,9,  -999.00,9,-999.000,9,   -999.9,9,   -999.9,9,  -999.0, -999.00,-999.0000,-999.000,-999.000
    316N145_10,  I07N,   753,  1,     24,     24,2,19950727,1325, -2.2587,  56.8150, 4424,   -999,    869.7,   7.4442,  34.9376,2,  34.9373,2,     62.0,2,  7.3561,     60.9,2,    69.89,2,    34.93,2,     0.00,2,     2.60,2,    0.033,2,    0.021,2, -999.000,9,-999.0000,9,  -999.00,9,   -999.0,9,  -999.00,9,-999.000,9,   -999.9,9,   -999.9,9,  -999.0, -999.00,-999.0000,-999.000,-999.000
    316N145_10,  I07N,   753,  1,     23,     23,2,19950727,1325, -2.2587,  56.8150, 4424,   -999,   1000.4,   6.5860,  34.9142,2,  34.9149,2,     66.5,2,  6.4902,     64.9,2,    80.53,2,    35.68,2,     0.00,2,     2.66,2,    0.016,2,    0.008,2, -999.000,9,-999.0000,9,  -999.00,9,   -999.0,9,  -999.00,9,-999.000,9,   -999.9,9,   -999.9,9,  -999.0, -999.00,-999.0000,-999.000,-999.000
    316N145_10,  I07N,   753,  1,     22,     22,2,19950727,1325, -2.2587,  56.8150, 4424,   -999,   1102.0,   6.0485,  34.8767,2,  34.8793,2,     68.8,2,  5.9467,     70.7,2,    86.46,2,    35.92,2,     0.00,2,     2.68,2,    0.011,2,    0.009,2, -999.000,9,-999.0000,9,  -999.00,9,   -999.0,9,  -999.00,9,-999.000,9,   -999.9,9,   -999.9,9,  -999.0, -999.00,-999.0000,-999.000,-999.000
    316N145_10,  I07N,   753,  1,     21,     21,2,19950727,1325, -2.2587,  56.8150, 4424,   -999,   1171.9,   5.9187,  34.9033,2,  34.8989,2,     67.6,2,  5.8110,     69.3,2,    88.70,2,    36.15,2,     0.00,2,     2.70,2,    0.006,2,    0.006,2, -999.000,9,-999.0000,9,  -999.00,9,   -999.0,9,  -999.00,9,-999.000,9,   -999.9,9,   -999.9,9,  -999.0, -999.00,-999.0000,-999.000,-999.000
    316N145_10,  I07N,   753,  1,     20,     20,2,19950727,1325, -2.2587,  56.8150, 4424,   -999,   1298.9,   4.9390,  34.8293,2,  34.8302,2,     85.8,2,  4.8280,     85.0,2,    97.30,2,    36.16,2,     0.00,2,     2.69,2,    0.002,2,    0.001,2, -999.000,9,-999.0000,9,  -999.00,9,   -999.0,9,  -999.00,9,-999.000,9,   -999.9,9,   -999.9,9,  -999.0, -999.00,-999.0000,-999.000,-999.000
    316N145_10,  I07N,   753,  1,     19,     19,2,19950727,1325, -2.2587,  56.8150, 4424,   -999,   1449.3,   3.9903,  34.7761,2,  34.7768,2,    107.6,2,  3.8754,    106.2,2,   104.53,2,    35.65,2,     0.00,2,     2.61,2,    0.001,2,    0.000,2, -999.000,9,-999.0000,9,  -999.00,9,   -999.0,9,  -999.00,9,-999.000,9,   -999.9,9,   -999.9,9,  -999.0, -999.00,-999.0000,-999.000,-999.000
    316N145_10,  I07N,   753,  1,     18,     18,2,19950727,1325, -2.2587,  56.8150, 4424,   -999,   1601.6,   3.5209,  34.7757,2,  34.7774,2,    117.2,2,  3.3978,    116.3,2,   109.29,2,    35.27,2,     0.00,2,     2.58,2, -999.000,9, -999.000,9, -999.000,9,-999.0000,9,  -999.00,9,   -999.0,9,  -999.00,9,-999.000,9,   -999.9,9,   -999.9,9,  -999.0, -999.00,-999.0000,-999.000,-999.000
    316N145_10,  I07N,   753,  1,     17,     17,2,19950727,1325, -2.2587,  56.8150, 4424,   -999,   1696.5,   3.2966,  34.7783,2,  34.7758,2,    121.0,2,  3.1678,    120.3,2,   111.92,2,    35.18,2,     0.00,2,     2.57,2, -999.000,9, -999.000,9, -999.000,9,-999.0000,9,  -999.00,9,   -999.0,9,  -999.00,9,-999.000,9,   -999.9,9,   -999.9,9,  -999.0, -999.00,-999.0000,-999.000,-999.000
    316N145_10,  I07N,   753,  1,     16,     16,2,19950727,1325, -2.2587,  56.8150, 4424,   -999,   1797.9,   3.0252,  34.7721,2,  34.7705,2,    127.4,2,  2.8910,    126.6,2,   114.91,2,    35.00,2,     0.00,2,     2.55,2, -999.000,9, -999.000,9, -999.000,9,-999.0000,9,  -999.00,9,   -999.0,9,  -999.00,9,-999.000,9,   -999.9,9,   -999.9,9,  -999.0, -999.00,-999.0000,-999.000,-999.000
    316N145_10,  I07N,   753,  1,     15,     15,2,19950727,1325, -2.2587,  56.8150, 4424,   -999,   1999.3,   2.5535,  34.7621,2,  34.7607,2,    138.3,2,  2.4084,    137.5,2,   120.62,2,    34.63,2,     0.00,2,     2.51,2, -999.000,9, -999.000,9, -999.000,9,-999.0000,9,  -999.00,9,   -999.0,9,  -999.00,9,-999.000,9,   -999.9,9,   -999.9,9,  -999.0, -999.00,-999.0000,-999.000,-999.000
    316N145_10,  I07N,   753,  1,     14,     14,2,19950727,1325, -2.2587,  56.8150, 4424,   -999,   2197.9,   2.3207,  34.7559,2,  34.7542,2,    144.2,2,  2.1617,    144.1,2,   123.28,2,    34.35,2,     0.00,2,     2.50,2, -999.000,9, -999.000,9, -999.000,9,-999.0000,9,  -999.00,9,   -999.0,9,  -999.00,9,-999.000,9,   -999.9,9,   -999.9,9,  -999.0, -999.00,-999.0000,-999.000,-999.000
    316N145_10,  I07N,   753,  1,     13,     13,2,19950727,1325, -2.2587,  56.8150, 4424,   -999,   2400.0,   2.1395,  34.7506,2,  34.7489,2,    150.2,2,  1.9655,    149.8,2,   124.86,2,    34.21,2,     0.00,2,     2.45,2, -999.000,9, -999.000,9, -999.000,9,-999.0000,9,  -999.00,9,   -999.0,9,  -999.00,9,-999.000,9,   -999.9,9,   -999.9,9,  -999.0, -999.00,-999.0000,-999.000,-999.000
    316N145_10,  I07N,   753,  1,     12,     12,2,19950727,1325, -2.2587,  56.8150, 4424,   -999,   2603.1,   1.9716,  34.7430,2,  34.7426,2,    154.4,2,  1.7821,    154.8,2,   127.35,2,    34.08,2,     0.00,2,     2.44,2, -999.000,9, -999.000,9, -999.000,9,-999.0000,9,  -999.00,9,   -999.0,9,  -999.00,9,-999.000,9,   -999.9,9,   -999.9,9,  -999.0, -999.00,-999.0000,-999.000,-999.000
    316N145_10,  I07N,   753,  1,     11,     11,2,19950727,1325, -2.2587,  56.8150, 4424,   -999,   2800.7,   1.7966,  34.7341,2,  34.7328,2,    164.0,2,  1.5922,    163.7,2,   126.56,2,    33.66,2,     0.00,2,     2.39,2, -999.000,9, -999.000,9, -999.000,9,-999.0000,9,  -999.00,9,   -999.0,9,  -999.00,9,-999.000,9,   -999.9,9,   -999.9,9,  -999.0, -999.00,-999.0000,-999.000,-999.000
    316N145_10,  I07N,   753,  1,     10,     10,2,19950727,1325, -2.2587,  56.8150, 4424,   -999,   2997.9,   1.7123,  34.7301,2,  34.7285,2,    167.8,2,  1.4909,    168.8,2,   126.14,2,    33.34,2,     0.00,2,     2.36,2, -999.000,9, -999.000,9, -999.000,9,-999.0000,9,  -999.00,9,   -999.0,9,  -999.00,9,-999.000,9,   -999.9,9,   -999.9,9,  -999.0, -999.00,-999.0000,-999.000,-999.000
    316N145_10,  I07N,   753,  1,      9,      9,2,19950727,1325, -2.2587,  56.8150, 4424,   -999,   3195.2,   1.6786,  34.7292,2,  34.7279,2,    168.9,2,  1.4387,    169.2,2,   127.72,2,    33.38,2,     0.00,2,     2.36,2, -999.000,9, -999.000,9, -999.000,9,-999.0000,9,  -999.00,9,   -999.0,9,  -999.00,9,-999.000,9,   -999.9,9,   -999.9,9,  -999.0, -999.00,-999.0000,-999.000,-999.000
    316N145_10,  I07N,   753,  1,      8,      8,2,19950727,1325, -2.2587,  56.8150, 4424,   -999,   3397.6,   1.6225,  34.7300,2,  34.7286,2,    168.0,2,  1.3636,    168.3,2,   130.59,2,    33.57,2,     0.00,2,     2.38,2, -999.000,9, -999.000,9, -999.000,9,-999.0000,9,  -999.00,9,   -999.0,9,  -999.00,9,-999.000,9,   -999.9,9,   -999.9,9,  -999.0, -999.00,-999.0000,-999.000,-999.000
    316N145_10,  I07N,   753,  1,      7,      7,2,19950727,1325, -2.2587,  56.8150, 4424,   -999,   3601.9,   1.5961,  34.7299,2,  34.7282,2,    168.3,2,  1.3169,    169.4,2,   131.63,2,    33.62,2,     0.00,2,     2.38,2, -999.000,9, -999.000,9, -999.000,9,-999.0000,9,  -999.00,9,   -999.0,9,  -999.00,9,-999.000,9,   -999.9,9,   -999.9,9,  -999.0, -999.00,-999.0000,-999.000,-999.000
    316N145_10,  I07N,   753,  1,      6,      6,2,19950727,1325, -2.2587,  56.8150, 4424,   -999,   3795.7,   1.5489,  34.7275,2,  34.7259,2,    171.9,2,  1.2505,    172.1,2,   131.75,2,    33.48,2,     0.00,2,     2.37,2, -999.000,9, -999.000,9, -999.000,9,-999.0000,9,  -999.00,9,   -999.0,9,  -999.00,9,-999.000,9,   -999.9,9,   -999.9,9,  -999.0, -999.00,-999.0000,-999.000,-999.000
    316N145_10,  I07N,   753,  1,      5,      5,2,19950727,1325, -2.2587,  56.8150, 4424,   -999,   3999.7,   1.4858,  34.7243,2,  34.7218,2,    174.2,2,  1.1672,    175.2,2,   132.24,2,    33.39,2,     0.00,2,     2.35,2, -999.000,9, -999.000,9, -999.000,9,-999.0000,9,  -999.00,9,   -999.0,9,  -999.00,9,-999.000,9,   -999.9,9,   -999.9,9,  -999.0, -999.00,-999.0000,-999.000,-999.000
    316N145_10,  I07N,   753,  1,      4,      4,2,19950727,1325, -2.2587,  56.8150, 4424,   -999,   4193.9,   1.4515,  34.7228,2,  34.7212,2,    176.7,2,  1.1126,    177.3,2,   132.18,2,    33.25,2,     0.00,2,     2.34,2, -999.000,9, -999.000,9, -999.000,9,-999.0000,9,  -999.00,9,   -999.0,9,  -999.00,9,-999.000,9,   -999.9,9,   -999.9,9,  -999.0, -999.00,-999.0000,-999.000,-999.000
    316N145_10,  I07N,   753,  1,      3,      3,2,19950727,1325, -2.2587,  56.8150, 4424,   -999,   4387.9,   1.4138,  34.7207,2,  34.7194,2,    180.4,2,  1.0542,    179.9,2,   131.76,2,    33.12,2,     0.00,2,     2.34,2, -999.000,9, -999.000,9, -999.000,9,-999.0000,9,  -999.00,9,   -999.0,9,  -999.00,9,-999.000,9,   -999.9,9,   -999.9,9,  -999.0, -999.00,-999.0000,-999.000,-999.000
    316N145_10,  I07N,   753,  1,      2,      2,2,19950727,1325, -2.2587,  56.8150, 4424,   -999,   4464.6,   1.3805,  34.7194,2,  34.7182,2,    182.1,2,  1.0132,    181.6,2,   132.06,2,    33.12,2,     0.00,2,     2.32,2, -999.000,9, -999.000,9, -999.000,9,-999.0000,9,  -999.00,9,   -999.0,9,  -999.00,9,-999.000,9,   -999.9,9,   -999.9,9,  -999.0, -999.00,-999.0000,-999.000,-999.000
    316N145_10,  I07N,   753,  1,      1,      1,2,19950727,1325, -2.2587,  56.8150, 4424,   -999,   4490.8,   1.3837,  34.7190,2,  34.7188,2,    182.2,2,  1.0133,    181.6,2,   132.00,2,    33.07,2,     0.00,2,     2.32,2, -999.000,9, -999.000,9, -999.000,9,-999.0000,9,  -999.00,9,   -999.0,9,  -999.00,9,-999.000,9,   -999.9,9,   -999.9,9,  -999.0, -999.00,-999.0000,-999.000,-999.000