BOTTLE,20080821WHPSIOSCD
EXPOCODE,SECT_ID,STNNBR,CASTNO,SAMPNO,BTLNBR,BTLNBR_FLAG_W,DATE,TIME,LATITUDE,LONGITUDE,DEPTH,CTDRAW,CTDPRS,CTDTMP,CTDSAL,CTDSAL_FLAG_W,SALNTY,SALNTY_FLAG_W,CTDOXY,CTDOXY_FLAG_W,THETA,OXYGEN,OXYGEN_FLAG_W,SILCAT,SILCAT_FLAG_W,NITRAT,NITRAT_FLAG_W,NITRIT,NITRIT_FLAG_W,PHSPHT,PHSPHT_FLAG_W,CFC-11,CFC-11_FLAG_W,CFC-12,CFC-12_FLAG_W,TRITUM,TRITUM_FLAG_W,HELIUM,HELIUM_FLAG_W,DELHE3,DELHE3_FLAG_W,DELC14,DELC14_FLAG_W,DELC13,DELC13_FLAG_W,NEON,NEON_FLAG_W,TCARBN,TCARBN_FLAG_W,ALKALI,ALKALI_FLAG_W,C14ERR,DELHER,HELIER,NEONER,TRITER
,,,,,,,,,,,,,DBAR,ITS-90,PSS-78,,PSS-78,,UMOL/KG,,DEG C,UMOL/KG,,UMOL/KG,,UMOL/KG,,UMOL/KG,,UMOL/KG,,PMOL/KG,,PMOL/KG,,TU,,NMOL/KG,,PERCNT,,/MILLE,,/MILLE,,NMOL/KG,,UMOL/KG,,UMOL/KG,,/MILLE,PERCNT,NMOL/KG,NMOL/KG,TU
    316N145_10,  I07N,   731,  1,     36,     36,2,19950721,1959, -9.2572,  51.4292, 3348,   -999,      9.2,  25.7210,  35.1751,2,  35.1738,2,    203.7,2, 25.7192,    200.6,2,     4.06,2,     1.55,2,     0.06,2,     0.28,2,    1.729,2,    0.979,2, -999.000,9,-999.0000,9,  -999.00,9,   -999.0,9,  -999.00,9,-999.000,9,   1981.4,2,   2304.0,2,  -999.0, -999.00,-999.0000,-999.000,-999.000
    316N145_10,  I07N,   731,  1,     35,     35,2,19950721,1959, -9.2572,  51.4292, 3348,   -999,     31.4,  25.7322,  35.1753,2,  35.1732,2,    205.6,2, 25.7255,    200.8,2,     4.05,2,     1.55,2,     0.06,2,     0.28,2, -999.000,9, -999.000,9, -999.000,9,-999.0000,9,  -999.00,9,   -999.0,9,  -999.00,9,-999.000,9,   -999.9,9,   -999.9,9,  -999.0, -999.00,-999.0000,-999.000,-999.000
    316N145_10,  I07N,   731,  1,     34,     34,2,19950721,1959, -9.2572,  51.4292, 3348,   -999,     60.1,  25.4569,  35.1852,2,  35.1804,2,    200.9,2, 25.4440,    195.8,2,     4.55,2,     2.14,2,     0.08,2,     0.32,2,    1.734,2,    0.956,2, -999.000,9,-999.0000,9,  -999.00,9,   -999.0,9,  -999.00,9,-999.000,9,   -999.9,9,   -999.9,9,  -999.0, -999.00,-999.0000,-999.000,-999.000
    316N145_10,  I07N,   731,  1,     33,     33,2,19950721,1959, -9.2572,  51.4292, 3348,   -999,     92.9,  17.9788,  35.1933,2,  35.1940,2,    110.6,2, 17.9631,    111.1,2,    14.10,2,    15.74,2,     0.15,2,     1.15,2,    1.477,2,    0.782,2, -999.000,9,-999.0000,9,  -999.00,9,   -999.0,9,  -999.00,9,-999.000,9,   -999.9,9,   -999.9,9,  -999.0, -999.00,-999.0000,-999.000,-999.000
    316N145_10,  I07N,   731,  1,     32,     32,2,19950721,1959, -9.2572,  51.4292, 3348,   -999,    100.9,  17.4305,  35.1935,2,  35.1908,2,    106.9,2, 17.4138,    109.0,2,    14.78,2,    16.64,2,     0.09,2,     1.20,2, -999.000,9, -999.000,9, -999.000,9,-999.0000,9,  -999.00,9,   -999.0,9,  -999.00,9,-999.000,9,   -999.9,9,   -999.9,9,  -999.0, -999.00,-999.0000,-999.000,-999.000
    316N145_10,  I07N,   731,  1,     31,     31,2,19950721,1959, -9.2572,  51.4292, 3348,   -999,    121.4,  16.0968,  35.1794,2,  35.1768,2,    105.7,2, 16.0777,    107.2,2,    16.33,2,    18.20,2,     0.03,2,     1.30,2, -999.000,9, -999.000,9, -999.000,9,-999.0000,9,  -999.00,9,   -999.0,9,  -999.00,9,-999.000,9,   -999.9,9,   -999.9,9,  -999.0, -999.00,-999.0000,-999.000,-999.000
    316N145_10,  I07N,   731,  1,     30,     30,2,19950721,1959, -9.2572,  51.4292, 3348,   -999,    154.0,  14.2610,  35.1269,2,  35.1253,2,    111.6,2, 14.2387,    110.8,2,    18.22,2,    19.68,2,     0.01,2,     1.40,2,    1.289,2,    0.686,2, -999.000,9,-999.0000,9,  -999.00,9,   -999.0,9,  -999.00,9,-999.000,9,   -999.9,9,   -999.9,9,  -999.0, -999.00,-999.0000,-999.000,-999.000
    316N145_10,  I07N,   731,  1,     29,     29,2,19950721,1959, -9.2572,  51.4292, 3348,   -999,    181.1,  13.4231,  35.0842,2,  35.0823,2,    114.1,2, 13.3978,    115.0,2,    19.25,2,    20.35,2,     0.01,2,     1.45,2, -999.000,9, -999.000,9, -999.000,9,-999.0000,9,  -999.00,9,   -999.0,9,  -999.00,9,-999.000,9,   -999.9,9,   -999.9,9,  -999.0, -999.00,-999.0000,-999.000,-999.000
    316N145_10,  I07N,   731,  1,     28,     28,2,19950721,1959, -9.2572,  51.4292, 3348,   -999,    200.0,  12.3496,  35.0257,2,  35.0254,2,    119.4,2, 12.3231,    122.0,2,    19.93,2,    21.02,2,     0.00,2,     1.50,2,    1.148,2,    0.583,2, -999.000,9,-999.0000,9,  -999.00,9,   -999.0,9,  -999.00,9,-999.000,9,   -999.9,9,   -999.9,9,  -999.0, -999.00,-999.0000,-999.000,-999.000
    316N145_10,  I07N,   731,  1,     27,     27,2,19950721,1959, -9.2572,  51.4292, 3348,   -999,    250.5,  11.6215,  34.9825,2,  34.9814,2,    124.7,2, 11.5895,    127.9,2,    20.79,2,    21.64,2,     0.00,2,     1.54,2, -999.000,9, -999.000,9, -999.000,9,-999.0000,9,  -999.00,9,   -999.0,9,  -999.00,9,-999.000,9,   -999.9,9,   -999.9,9,  -999.0, -999.00,-999.0000,-999.000,-999.000
    316N145_10,  I07N,   731,  1,     26,     26,2,19950721,1959, -9.2572,  51.4292, 3348,   -999,    299.9,  11.0928,  34.9450,2,  34.9459,2,    129.6,2, 11.0556,   -999.0,9,    21.29,2,    22.31,2,     0.00,2,     1.57,2,    1.048,2,    0.521,2, -999.000,9,-999.0000,9,  -999.00,9,   -999.0,9,  -999.00,9,-999.000,9,   -999.9,9,   -999.9,9,  -999.0, -999.00,-999.0000,-999.000,-999.000
    316N145_10,  I07N,   731,  1,     25,     25,2,19950721,1959, -9.2572,  51.4292, 3348,   -999,    358.5,   9.9413,  34.8571,2,  34.8575,2,    134.7,2,  9.8997,    133.8,2,    25.80,2,    24.30,2,     0.00,2,     1.72,2, -999.000,9, -999.000,9, -999.000,9,-999.0000,9,  -999.00,9,   -999.0,9,  -999.00,9,-999.000,9,   -999.9,9,   -999.9,9,  -999.0, -999.00,-999.0000,-999.000,-999.000
    316N145_10,  I07N,   731,  1,     24,     24,2,19950721,1959, -9.2572,  51.4292, 3348,   -999,    402.9,   9.7621,  34.8514,2,  34.8508,2,    129.5,2,  9.7158,    125.4,2,    27.52,2,    25.55,2,     0.00,2,     1.79,2,    0.698,2,    0.349,2, -999.000,9,-999.0000,9,  -999.00,9,   -999.0,9,  -999.00,9,-999.000,9,   -999.9,9,   -999.9,9,  -999.0, -999.00,-999.0000,-999.000,-999.000
    316N145_10,  I07N,   731,  1,     23,     23,2,19950721,1959, -9.2572,  51.4292, 3348,   -999,    453.4,   9.2820,  34.8249,2,  34.8248,2,    123.5,2,  9.2313,    121.9,2,    31.51,2,    26.80,2,     0.00,2,     1.90,2, -999.000,9, -999.000,9, -999.000,9,-999.0000,9,  -999.00,9,   -999.0,9,  -999.00,9,-999.000,9,   -999.9,9,   -999.9,9,  -999.0, -999.00,-999.0000,-999.000,-999.000
    316N145_10,  I07N,   731,  1,     22,     22,2,19950721,1959, -9.2572,  51.4292, 3348,   -999,    504.2,   8.8999,  34.8061,2,  34.8060,2,    120.8,2,  8.8448,    123.4,2,    34.97,2,    27.34,2,     0.00,2,     1.95,2,    0.515,2,    0.275,2, -999.000,9,-999.0000,9,  -999.00,9,   -999.0,9,  -999.00,9,-999.000,9,   -999.9,9,   -999.9,9,  -999.0, -999.00,-999.0000,-999.000,-999.000
    316N145_10,  I07N,   731,  1,     21,     21,2,19950721,1959, -9.2572,  51.4292, 3348,   -999,    554.6,   8.6265,  34.8152,2,  34.8158,2,    106.5,2,  8.5668,    107.7,2,    40.17,2,    29.30,2,     0.00,2,     2.10,2,    0.318,2,    0.162,2, -999.000,9,-999.0000,9,  -999.00,9,   -999.0,9,  -999.00,9,-999.000,9,   -999.9,9,   -999.9,9,  -999.0, -999.00,-999.0000,-999.000,-999.000
    316N145_10,  I07N,   731,  1,     20,     20,2,19950721,1959, -9.2572,  51.4292, 3348,   -999,    585.2,   8.3264,  34.7911,2,  34.7897,2,    115.6,2,  8.2646,    116.3,2,    41.72,2,    28.95,2,     0.00,2,     2.07,2,    0.375,2,    0.193,2, -999.000,9,-999.0000,9,  -999.00,9,   -999.0,9,  -999.00,9,-999.000,9,   -999.9,9,   -999.9,9,  -999.0, -999.00,-999.0000,-999.000,-999.000
    316N145_10,  I07N,   731,  1,     19,     19,2,19950721,1959, -9.2572,  51.4292, 3348,   -999,    697.8,   7.5231,  34.8188,2,  34.8187,2,     91.1,2,  7.4530,     88.1,2,    58.62,2,    32.76,2,     0.00,2,     2.39,2,    0.104,2,    0.053,2, -999.000,9,-999.0000,9,  -999.00,9,   -999.0,9,  -999.00,9,-999.000,9,   -999.9,9,   -999.9,9,  -999.0, -999.00,-999.0000,-999.000,-999.000
    316N145_10,  I07N,   731,  1,     18,     18,2,19950721,1959, -9.2572,  51.4292, 3348,   -999,    804.5,   6.7894,  34.7785,2,  34.7785,2,     89.3,2,  6.7124,     98.4,2,    64.02,2,    32.95,2,     0.00,2,     2.41,2, -999.000,9, -999.000,9, -999.000,9,-999.0000,9,  -999.00,9,   -999.0,9,  -999.00,9,-999.000,9,   -999.9,9,   -999.9,9,  -999.0, -999.00,-999.0000,-999.000,-999.000
    316N145_10,  I07N,   731,  1,     17,     17,2,19950721,1959, -9.2572,  51.4292, 3348,   -999,    908.0,   6.1872,  34.7705,2,  34.7712,2,     98.0,2,  6.1038,     99.1,2,    72.24,2,    33.58,2,     0.00,2,     2.47,2, -999.000,9, -999.000,9, -999.000,9,-999.0000,9,  -999.00,9,   -999.0,9,  -999.00,9,-999.000,9,   -999.9,9,   -999.9,9,  -999.0, -999.00,-999.0000,-999.000,-999.000
    316N145_10,  I07N,   731,  1,     16,     16,2,19950721,1959, -9.2572,  51.4292, 3348,   -999,    996.4,   5.5110,  34.7641,2,  34.7651,2,     99.5,2,  5.4238,     99.6,2,    81.20,2,    34.54,2,     0.00,2,     2.54,2,    0.027,2,    0.009,2, -999.000,9,-999.0000,9,  -999.00,9,   -999.0,9,  -999.00,9,-999.000,9,   -999.9,9,   -999.9,9,  -999.0, -999.00,-999.0000,-999.000,-999.000
    316N145_10,  I07N,   731,  1,     15,     15,2,19950721,1959, -9.2572,  51.4292, 3348,   -999,   1097.7,   5.0525,  34.7481,2,  34.7490,2,    108.4,2,  4.9595,    108.9,2,    84.19,2,    34.37,2,     0.00,2,     2.52,2, -999.000,9, -999.000,9, -999.000,9,-999.0000,9,  -999.00,9,   -999.0,9,  -999.00,9,-999.000,9,   -999.9,9,   -999.9,9,  -999.0, -999.00,-999.0000,-999.000,-999.000
    316N145_10,  I07N,   731,  1,     14,     14,2,19950721,1959, -9.2572,  51.4292, 3348,   -999,   1193.4,   4.6584,  34.7497,2,  34.7503,2,    111.8,2,  4.5600,    112.2,2,    89.12,2,    34.60,2,     0.00,2,     2.53,2,    0.020,2,    0.001,2, -999.000,9,-999.0000,9,  -999.00,9,   -999.0,9,  -999.00,9,-999.000,9,   -999.9,9,   -999.9,9,  -999.0, -999.00,-999.0000,-999.000,-999.000
    316N145_10,  I07N,   731,  1,     13,     13,2,19950721,1959, -9.2572,  51.4292, 3348,   -999,   1494.1,   3.6819,  34.7527,2,  34.7523,2,    125.8,2,  3.5664,    124.8,2,   101.75,2,    34.47,2,     0.00,2,     2.52,2,    0.002,2,   -0.002,2, -999.000,9,-999.0000,9,  -999.00,9,   -999.0,9,  -999.00,9,-999.000,9,   -999.9,9,   -999.9,9,  -999.0, -999.00,-999.0000,-999.000,-999.000
    316N145_10,  I07N,   731,  1,     12,     12,2,19950721,1959, -9.2572,  51.4292, 3348,   -999,   1596.4,   3.4110,  34.7544,2,  34.7529,2,    130.7,2,  3.2897,    128.6,2,   105.31,2,    34.43,2,     0.00,2,     2.51,2, -999.000,9, -999.000,9, -999.000,9,-999.0000,9,  -999.00,9,   -999.0,9,  -999.00,9,-999.000,9,   -999.9,9,   -999.9,9,  -999.0, -999.00,-999.0000,-999.000,-999.000
    316N145_10,  I07N,   731,  1,     11,     11,2,19950721,1959, -9.2572,  51.4292, 3348,   -999,   1697.6,   3.0301,  34.7331,2,  34.7328,2,    140.5,2,  2.9047,    141.0,2,   106.19,2,    34.03,2,     0.00,2,     2.46,2,   -0.003,2,   -0.003,2, -999.000,9,-999.0000,9,  -999.00,9,   -999.0,9,  -999.00,9,-999.000,9,   -999.9,9,   -999.9,9,  -999.0, -999.00,-999.0000,-999.000,-999.000
    316N145_10,  I07N,   731,  1,     10,     10,2,19950721,1959, -9.2572,  51.4292, 3348,   -999,   1793.6,   2.9804,  34.7420,2,  34.7415,2,    137.4,2,  2.8473,    139.6,2,   108.87,2,    34.08,2,     0.00,2,     2.47,2, -999.000,9, -999.000,9, -999.000,9,-999.0000,9,  -999.00,9,   -999.0,9,  -999.00,9,-999.000,9,   -999.9,9,   -999.9,9,  -999.0, -999.00,-999.0000,-999.000,-999.000
    316N145_10,  I07N,   731,  1,      9,      9,2,19950721,1959, -9.2572,  51.4292, 3348,   -999,   1997.5,   2.6056,  34.7414,2,  34.7409,2,    145.3,2,  2.4599,    146.5,2,   115.00,2,    33.95,2,     0.00,2,     2.45,2,   -0.002,2,   -0.002,2, -999.000,9,-999.0000,9,  -999.00,9,   -999.0,9,  -999.00,9,-999.000,9,   -999.9,9,   -999.9,9,  -999.0, -999.00,-999.0000,-999.000,-999.000
    316N145_10,  I07N,   731,  1,      8,      8,2,19950721,1959, -9.2572,  51.4292, 3348,   -999,   2196.7,   2.4048,  34.7455,2,  34.7452,2,    147.6,2,  2.2446,    148.8,2,   119.34,2,    34.00,2,     0.00,2,     2.45,2, -999.000,9, -999.000,9, -999.000,9,-999.0000,9,  -999.00,9,   -999.0,9,  -999.00,9,-999.000,9,   -999.9,9,   -999.9,9,  -999.0, -999.00,-999.0000,-999.000,-999.000
    316N145_10,  I07N,   731,  1,      7,      7,2,19950721,1959, -9.2572,  51.4292, 3348,   -999,   2347.6,   2.2402,  34.7493,2,  34.7487,2,    152.1,2,  2.0692,    151.1,2,   122.60,2,    33.96,2,     0.00,2,     2.45,2, -999.000,9, -999.000,9, -999.000,9,-999.0000,9,  -999.00,9,   -999.0,9,  -999.00,9,-999.000,9,   -999.9,9,   -999.9,9,  -999.0, -999.00,-999.0000,-999.000,-999.000
    316N145_10,  I07N,   731,  1,      6,      6,2,19950721,1959, -9.2572,  51.4292, 3348,   -999,   2600.6,   2.0863,  34.7475,2,  34.7467,2,    153.6,2,  1.8948,    153.7,2,   125.87,2,    34.01,2,     0.00,2,     2.46,2, -999.000,9, -999.000,9, -999.000,9,-999.0000,9,  -999.00,9,   -999.0,9,  -999.00,9,-999.000,9,   -999.9,9,   -999.9,9,  -999.0, -999.00,-999.0000,-999.000,-999.000
    316N145_10,  I07N,   731,  1,      5,      5,2,19950721,1959, -9.2572,  51.4292, 3348,   -999,   2799.7,   1.9592,  34.7436,2,  34.7436,2,    156.2,2,  1.7515,    156.2,2,   128.43,2,    33.93,2,     0.00,2,     2.44,2, -999.000,9, -999.000,9, -999.000,9,-999.0000,9,  -999.00,9,   -999.0,9,  -999.00,9,-999.000,9,   -999.9,9,   -999.9,9,  -999.0, -999.00,-999.0000,-999.000,-999.000
    316N145_10,  I07N,   731,  1,      4,      4,2,19950721,1959, -9.2572,  51.4292, 3348,   -999,   2991.6,   1.8617,  34.7401,2,  34.7392,2,    159.5,2,  1.6376,    159.6,2,   129.51,2,    33.75,2,     0.00,2,     2.43,2, -999.000,9, -999.000,9, -999.000,9,-999.0000,9,  -999.00,9,   -999.0,9,  -999.00,9,-999.000,9,   -999.9,9,   -999.9,9,  -999.0, -999.00,-999.0000,-999.000,-999.000
    316N145_10,  I07N,   731,  1,      3,      3,2,19950721,1959, -9.2572,  51.4292, 3348,   -999,   3278.7,   1.6421,  34.7323,2,  34.7312,2,    169.7,2,  1.3947,    168.7,2,   130.78,2,    33.48,2,     0.00,2,     2.39,2, -999.000,9, -999.000,9, -999.000,9,-999.0000,9,  -999.00,9,   -999.0,9,  -999.00,9,-999.000,9,   -999.9,9,   -999.9,9,  -999.0, -999.00,-999.0000,-999.000,-999.000
    316N145_10,  I07N,   731,  1,      2,      2,2,19950721,1959, -9.2572,  51.4292, 3348,   -999,   3362.8,   1.5830,  34.7301,2,  34.7296,2,    171.9,2,  1.3285,    171.7,2,   130.94,2,    33.40,2,     0.00,2,     2.38,2, -999.000,9, -999.000,9, -999.000,9,-999.0000,9,  -999.00,9,   -999.0,9,  -999.00,9,-999.000,9,   -999.9,9,   -999.9,9,  -999.0, -999.00,-999.0000,-999.000,-999.000
    316N145_10,  I07N,   731,  1,      1,      1,2,19950721,1959, -9.2572,  51.4292, 3348,   -999,   3389.4,   1.5622,  34.7289,2,  34.7288,2,    172.6,2,  1.3056,    172.4,2,   130.92,2,    33.41,2,     0.00,2,     2.38,2, -999.000,9, -999.000,9, -999.000,9,-999.0000,9,  -999.00,9,   -999.0,9,  -999.00,9,-999.000,9,   -999.9,9,   -999.9,9,  -999.0, -999.00,-999.0000,-999.000,-999.000