BOTTLE,20080821WHPSIOSCD
EXPOCODE,SECT_ID,STNNBR,CASTNO,SAMPNO,BTLNBR,BTLNBR_FLAG_W,DATE,TIME,LATITUDE,LONGITUDE,DEPTH,CTDRAW,CTDPRS,CTDTMP,CTDSAL,CTDSAL_FLAG_W,SALNTY,SALNTY_FLAG_W,CTDOXY,CTDOXY_FLAG_W,THETA,OXYGEN,OXYGEN_FLAG_W,SILCAT,SILCAT_FLAG_W,NITRAT,NITRAT_FLAG_W,NITRIT,NITRIT_FLAG_W,PHSPHT,PHSPHT_FLAG_W,CFC-11,CFC-11_FLAG_W,CFC-12,CFC-12_FLAG_W,TRITUM,TRITUM_FLAG_W,HELIUM,HELIUM_FLAG_W,DELHE3,DELHE3_FLAG_W,DELC14,DELC14_FLAG_W,DELC13,DELC13_FLAG_W,NEON,NEON_FLAG_W,TCARBN,TCARBN_FLAG_W,ALKALI,ALKALI_FLAG_W,C14ERR,DELHER,HELIER,NEONER,TRITER
,,,,,,,,,,,,,DBAR,ITS-90,PSS-78,,PSS-78,,UMOL/KG,,DEG C,UMOL/KG,,UMOL/KG,,UMOL/KG,,UMOL/KG,,UMOL/KG,,PMOL/KG,,PMOL/KG,,TU,,NMOL/KG,,PERCNT,,/MILLE,,/MILLE,,NMOL/KG,,UMOL/KG,,UMOL/KG,,/MILLE,PERCNT,NMOL/KG,NMOL/KG,TU
    316N145_10,  I07N,   804,  1,     36,     36,2,19950810,1012, 18.1100,  60.1513, 3731,   -999,      4.3,  25.8169,  35.9693,2,  35.9697,2,    212.9,2, 25.8161,    211.1,2,     3.78,2,     5.42,2,     0.24,2,     0.85,2,    1.805,2,    1.017,2,    0.765,2,   1.6460,2,    -0.60,2,     30.4,2,     1.07,2,   6.717,2,   2051.3,2,   2352.7,2,     3.7,    0.20,  0.0080,   0.134,   0.008
    316N145_10,  I07N,   804,  1,     35,     35,2,19950810,1012, 18.1100,  60.1513, 3731,   -999,     31.8,  24.6145,  35.9027,2,  35.8221,2,    203.5,2, 24.6078,    183.1,2,     8.41,2,    12.51,2,     1.06,2,     1.38,2,    1.810,2,    1.012,2, -999.000,9,-999.0000,9,  -999.00,9,   -999.0,9,  -999.00,9,-999.000,9,   2119.9,2,   2343.3,2,  -999.0, -999.00,-999.0000,-999.000,-999.000
    316N145_10,  I07N,   804,  1,     34,     34,2,19950810,1012, 18.1100,  60.1513, 3731,   -999,     52.4,  20.9800,  35.7071,2,  35.7083,2,    138.4,2, 20.9702,    129.9,2,    13.23,2,    18.57,2,     1.09,2,     1.72,2, -999.000,9, -999.000,9, -999.000,9,-999.0000,9,  -999.00,9,     27.5,2,     0.08,2,-999.000,9,   2168.5,2,   -999.9,5,     3.9, -999.00,-999.0000,-999.000,-999.000
    316N145_10,  I07N,   804,  1,     33,     33,2,19950810,1012, 18.1100,  60.1513, 3731,   -999,     76.5,  20.1018,  35.7248,2,  35.7269,2,     67.9,2, 20.0878,    102.6,2,    16.74,2,    21.35,2,     0.46,2,     1.89,2,    1.561,2,    0.865,2, -999.000,9,-999.0000,9,  -999.00,9,   -999.0,9,  -999.00,9,-999.000,9,   2190.9,2,   2333.5,2,  -999.0, -999.00,-999.0000,-999.000,-999.000
    316N145_10,  I07N,   804,  1,     32,     32,2,19950810,1012, 18.1100,  60.1513, 3731,   -999,    102.1,  19.1361,  35.7817,2,  35.7809,2,     16.5,2, 19.1179,     13.0,2,    19.33,2,    24.66,2,     0.04,2,     2.16,2,    1.158,2,    0.655,2,    0.585,2,   1.6860,2,     3.80,2,     20.7,2,    -0.31,2,   6.855,2,   2226.5,2,   -999.9,5,     3.5,    0.20,  0.0080,   0.137,   0.008
    316N145_10,  I07N,   804,  1,     31,     31,2,19950810,1012, 18.1100,  60.1513, 3731,   -999,    152.0,  17.0877,  35.8048,2,  35.8039,2,      2.3,2, 17.0626,      4.4,2,    23.95,2,    23.58,2,     0.03,2,     2.29,2,    0.806,2,    0.463,2, -999.000,9,-999.0000,9,  -999.00,9,   -999.0,9,  -999.00,9,-999.000,9,   2248.9,2,   2340.6,2,  -999.0, -999.00,-999.0000,-999.000,-999.000
    316N145_10,  I07N,   804,  1,     30,     30,2,19950810,1012, 18.1100,  60.1513, 3731,   -999,    201.8,  16.0109,  35.8872,2,  35.8860,2,      1.3,2, 15.9789,      2.6,2,    26.72,2,    23.17,2,     0.02,2,     2.33,2, -999.000,9, -999.000,9, -999.000,9,-999.0000,9,  -999.00,9,    -10.3,2,    -0.28,2,-999.000,9,   2260.6,2,   -999.9,5,     3.7, -999.00,-999.0000,-999.000,-999.000
    316N145_10,  I07N,   804,  1,     29,     29,2,19950810,1012, 18.1100,  60.1513, 3731,   -999,    252.6,  15.1433,  35.8595,2,  35.8515,2,      1.3,2, 15.1046,      3.6,2,    28.37,2,    24.11,2,     0.00,2,     2.36,2,    0.521,2,    0.310,2,    0.316,2,   1.7620,2,     2.50,2,    -22.3,2,    -0.18,2,   7.136,2,   2265.9,2,   2347.0,2,     3.4,    0.20,  0.0090,   0.143,   0.008
    316N145_10,  I07N,   804,  1,     28,     28,2,19950810,1012, 18.1100,  60.1513, 3731,   -999,    302.3,  14.4955,  35.8679,2,  35.8675,2,      2.2,2, 14.4505,      3.6,2,    30.59,2,    24.64,2,     0.02,2,     2.40,2,    0.433,2,    0.261,2, -999.000,9,-999.0000,9,  -999.00,9,    -40.9,2,    -0.32,2,-999.000,9,   2269.9,2,   -999.9,5,     3.7, -999.00,-999.0000,-999.000,-999.000
    316N145_10,  I07N,   804,  1,     27,     27,2,19950810,1012, 18.1100,  60.1513, 3731,   -999,    336.8,  14.0363,  35.8301,2,  35.8357,2,      1.5,2, 13.9871,      2.7,2,    32.43,2,    25.18,2,     0.04,2,     2.45,2, -999.000,9, -999.000,9, -999.000,9,-999.0000,9,  -999.00,9,   -999.0,9,  -999.00,9,-999.000,9,   2273.0,2,   2347.9,2,  -999.0, -999.00,-999.0000,-999.000,-999.000
    316N145_10,  I07N,   804,  1,     26,     26,2,19950810,1012, 18.1100,  60.1513, 3731,   -999,    399.4,  13.3274,  35.7867,2,  35.7874,2,      1.4,2, 13.2708,      1.0,2,    36.50,2,    25.22,2,     0.04,2,     2.55,2,    0.229,2,    0.136,2, -999.000,9,-999.0000,9,  -999.00,9,    -48.3,2,    -0.12,2,-999.000,9,   2277.3,2,   -999.9,5,     3.8, -999.00,-999.0000,-999.000,-999.000
    316N145_10,  I07N,   804,  1,     25,     25,2,19950810,1012, 18.1100,  60.1513, 3731,   -999,    497.2,  12.3792,  35.7031,2,  35.7030,2,      1.5,2, 12.3119,      1.6,2,    42.42,2,    27.06,2,     0.01,2,     2.64,2,    0.123,2,    0.074,2,    0.194,2,   1.8290,2,     2.80,2,    -75.6,2,    -0.13,2,   7.185,2,   2281.9,2,   2350.8,2,     6.2,    0.20,  0.0090,   0.144,   0.008
    316N145_10,  I07N,   804,  1,     24,     24,2,19950810,1012, 18.1100,  60.1513, 3731,   -999,    548.5,  11.9955,  35.6599,2,  35.6630,2,      1.5,2, 11.9226,      1.3,2,    45.38,2,    27.80,2,     0.01,2,     2.68,2,    0.092,2,    0.063,2, -999.000,9,-999.0000,9,  -999.00,9,   -999.0,9,  -999.00,9,-999.000,9,   2284.0,2,   -999.9,5,  -999.0, -999.00,-999.0000,-999.000,-999.000
    316N145_10,  I07N,   804,  1,     23,     23,2,19950810,1012, 18.1100,  60.1513, 3731,   -999,    648.3,  11.2915,  35.6118,2,  35.6123,2,      1.6,2, 11.2082,      1.7,2,    52.05,2,    30.08,2,     0.00,2,     2.75,2, -999.000,9, -999.000,9, -999.000,9,-999.0000,9,  -999.00,9,   -106.7,2,    -0.29,2,-999.000,9,   2291.0,2,   2355.1,2,     3.2, -999.00,-999.0000,-999.000,-999.000
    316N145_10,  I07N,   804,  1,     22,     22,2,19950810,1012, 18.1100,  60.1513, 3731,   -999,    750.5,  10.5515,  35.5561,2,  35.5574,2,      3.1,2, 10.4586,      2.2,2,    58.92,2,    32.35,2,     0.01,2,     2.81,2,    0.036,2,    0.022,2,    0.076,2,   1.8690,2,     4.60,2,   -108.2,2,    -0.09,2,   7.707,2,   2298.6,2,   -999.9,5,     3.8,    0.20,  0.0090,   0.154,   0.008
    316N145_10,  I07N,   804,  1,     21,     21,2,19950810,1012, 18.1100,  60.1513, 3731,   -999,    850.2,   9.9697,  35.5308,2,  35.5329,2,      4.3,2,  9.8675,      5.6,2,    64.49,2,    33.86,2,     0.00,2,     2.84,2,    0.042,2,    0.023,2, -999.000,9,-999.0000,9,  -999.00,9,   -118.2,2,    -0.16,2,-999.000,9,   2304.4,2,   2365.0,2,     3.9, -999.00,-999.0000,-999.000,-999.000
    316N145_10,  I07N,   804,  1,     20,     20,2,19950810,1012, 18.1100,  60.1513, 3731,   -999,    950.6,   9.3072,  35.4629,2,  35.4638,2,      6.2,2,  9.1969,      5.8,2,    70.43,2,    35.08,2,     0.00,2,     2.89,2, -999.000,9, -999.000,9, -999.000,9,-999.0000,9,  -999.00,9,   -999.0,9,  -999.00,9,-999.000,9,   2312.0,2,   -999.9,5,  -999.0, -999.00,-999.0000,-999.000,-999.000
    316N145_10,  I07N,   804,  1,     19,     19,2,19950810,1012, 18.1100,  60.1513, 3731,   -999,   1047.5,   8.6289,  35.3943,2,  35.3957,2,      8.6,2,  8.5119,      8.9,2,    76.58,2,    35.97,2,     0.00,2,     2.94,2,    0.026,2,    0.018,2,    0.000,2,-999.0000,9,  -999.00,9,   -130.9,2,    -0.17,2,-999.000,9,   2318.6,2,   2373.8,2,     4.0, -999.00,-999.0000,-999.000,   0.008
    316N145_10,  I07N,   804,  1,     18,     18,2,19950810,1012, 18.1100,  60.1513, 3731,   -999,   1147.3,   7.8702,  35.3097,2,  35.3107,2,     11.2,2,  7.7477,     12.3,2,    83.12,2,    36.97,2,     0.00,2,     2.99,2,    0.017,2,    0.007,2, -999.000,9,-999.0000,9,  -999.00,9,   -138.3,2,    -0.17,2,-999.000,9,   2326.4,2,   -999.9,5,     3.2, -999.00,-999.0000,-999.000,-999.000
    316N145_10,  I07N,   804,  1,     17,     17,2,19950810,1012, 18.1100,  60.1513, 3731,   -999,   1247.8,   7.1365,  35.2274,2,  35.2277,2,     17.1,2,  7.0093,     16.3,2,    90.05,2,    37.63,2,     0.00,2,     3.04,2,    0.008,2,    0.006,2, -999.000,9,-999.0000,9,  -999.00,9,   -999.0,9,  -999.00,9,-999.000,9,   2335.3,2,   -999.9,5,  -999.0, -999.00,-999.0000,-999.000,-999.000
    316N145_10,  I07N,   804,  1,     16,     16,2,19950810,1012, 18.1100,  60.1513, 3731,   -999,   1348.6,   6.4734,  35.1547,2,  35.1553,2,     25.5,2,  6.3417,     24.4,2,    96.25,2,    37.87,2,     0.00,2,     3.04,2, -999.000,9, -999.000,9, -999.000,9,-999.0000,9,  -999.00,9,   -168.7,2,    -0.30,2,-999.000,9,   2340.0,2,   2391.4,2,     3.5, -999.00,-999.0000,-999.000,-999.000
    316N145_10,  I07N,   804,  1,     15,     15,2,19950810,1012, 18.1100,  60.1513, 3731,   -999,   1449.9,   5.6730,  35.0732,2,  35.0735,2,     34.3,2,  5.5391,     34.5,2,   104.39,2,    38.07,2,     0.00,2,     3.03,2,    0.002,2,    0.002,2,    0.000,2,   1.9000,2,    13.90,2,   -163.1,2,    -0.34,2,   8.095,2,   2344.8,2,   -999.9,5,     3.7,    0.20,  0.0090,   0.162,   0.008
    316N145_10,  I07N,   804,  1,     14,     14,2,19950810,1012, 18.1100,  60.1513, 3731,   -999,   1551.9,   5.0557,  35.0125,2,  35.0141,2,     44.2,2,  4.9186,     44.4,2,   111.05,2,    38.07,2,     0.00,2,     3.01,2,    0.000,2,    0.002,2, -999.000,9,-999.0000,9,  -999.00,9,   -173.5,2,    -0.32,2,-999.000,9,   2349.3,2,   2406.7,2,     3.4, -999.00,-999.0000,-999.000,-999.000
    316N145_10,  I07N,   804,  1,     13,     13,2,19950810,1012, 18.1100,  60.1513, 3731,   -999,   1652.9,   4.5115,  34.9622,2,  34.9638,2,     56.1,2,  4.3711,     56.2,2,   116.79,2,    37.89,2,     0.00,2,     2.98,2, -999.000,9, -999.000,9, -999.000,9,-999.0000,9,  -999.00,9,   -999.0,9,  -999.00,9,-999.000,9,   2350.7,2,   -999.9,5,  -999.0, -999.00,-999.0000,-999.000,-999.000
    316N145_10,  I07N,   804,  1,     12,     12,2,19950810,1012, 18.1100,  60.1513, 3731,   -999,   1747.4,   3.9808,  34.9151,2,  34.9179,2,     65.5,2,  3.8381,     65.4,2,   122.38,2,    37.75,2,     0.00,2,     2.93,2,   -0.001,2,    0.000,2,    0.000,2,   1.9090,2,    13.60,2,   -999.0,9,  -999.00,9,   8.171,2,   2352.9,2,   2415.3,2,  -999.0,    0.20,  0.0100,   0.163,   0.008
    316N145_10,  I07N,   804,  1,     11,     11,2,19950810,1012, 18.1100,  60.1513, 3731,   -999,   1849.4,   3.6134,  34.8819,2,  34.8843,2,     76.2,2,  3.4662,     75.3,2,   126.05,2,    37.47,2,     0.00,2,     2.88,2,   -0.001,2,    0.001,2, -999.000,9,-999.0000,9,  -999.00,9,   -999.0,9,  -999.00,9,-999.000,9,   2352.5,2,   -999.9,5,  -999.0, -999.00,-999.0000,-999.000,-999.000
    316N145_10,  I07N,   804,  1,     10,     10,2,19950810,1012, 18.1100,  60.1513, 3731,   -999,   2050.8,   3.0659,  34.8376,2,  34.8387,2,     88.2,2,  2.9082,     87.6,2,   132.31,2,    37.18,2,     0.00,2,     2.83,2,    0.000,2,    0.005,2, -999.000,9,   1.8910,2,    13.40,2,   -999.0,9,  -999.00,9,   8.224,2,   2353.6,2,   2427.9,2,  -999.0,    0.20,  0.0090,   0.164,-999.000
    316N145_10,  I07N,   804,  1,      9,      9,2,19950810,1012, 18.1100,  60.1513, 3731,   -999,   2249.2,   2.6457,  34.8057,2,  34.8069,2,     97.6,2,  2.4765,     96.9,2,   137.83,2,    36.86,2,     0.00,2,     2.78,2, -999.000,9, -999.000,9, -999.000,9,-999.0000,9,  -999.00,9,   -999.0,9,  -999.00,9,-999.000,9,   2357.6,2,   -999.9,5,  -999.0, -999.00,-999.0000,-999.000,-999.000
    316N145_10,  I07N,   804,  1,      8,      8,2,19950810,1012, 18.1100,  60.1513, 3731,   -999,   2451.4,   2.2922,  34.7806,2,  34.7798,2,    105.9,2,  2.1106,    106.3,2,   142.40,2,    36.58,2,     0.00,2,     2.73,2, -999.000,9, -999.000,9, -999.000,9,   1.8910,2,    13.20,2,   -999.0,9,  -999.00,9,   8.305,2,   2357.0,2,   2440.9,2,  -999.0,    0.20,  0.0090,   0.166,-999.000
    316N145_10,  I07N,   804,  1,      7,      7,2,19950810,1012, 18.1100,  60.1513, 3731,   -999,   2649.9,   2.0409,  34.7630,2,  34.7628,2,    112.2,2,  1.8456,    111.9,2,   145.60,2,    36.34,2,     0.00,2,     2.70,2, -999.000,9, -999.000,9, -999.000,9,-999.0000,9,  -999.00,9,   -999.0,9,  -999.00,9,-999.000,9,   2362.6,2,   2447.8,2,  -999.0, -999.00,-999.0000,-999.000,-999.000
    316N145_10,  I07N,   804,  1,      6,      6,2,19950810,1012, 18.1100,  60.1513, 3731,   -999,   2849.2,   1.9043,  34.7516,2,  34.7526,2,    117.3,2,  1.6929,    117.2,2,   146.99,2,    36.16,2,     0.00,2,     2.67,2, -999.000,9, -999.000,9, -999.000,9,   1.9000,2,    13.20,2,   -999.0,9,  -999.00,9,   8.300,2,   2361.5,2,   2452.7,2,  -999.0,    0.20,  0.0090,   0.166,-999.000
    316N145_10,  I07N,   804,  1,      5,      5,2,19950810,1012, 18.1100,  60.1513, 3731,   -999,   3046.8,   1.8195,  34.7464,2,  34.7463,2,    121.3,2,  1.5909,    121.0,2,   147.78,2,    35.97,2,     0.00,2,     2.64,2, -999.000,9, -999.000,9, -999.000,9,   1.9090,2,    13.50,2,   -999.0,9,  -999.00,9,   8.291,2,   2361.3,2,   2451.3,2,  -999.0,    0.20,  0.0100,   0.166,-999.000
    316N145_10,  I07N,   804,  1,      4,      4,2,19950810,1012, 18.1100,  60.1513, 3731,   -999,   3346.8,   1.7604,  34.7400,2,  34.7410,2,    127.6,2,  1.5032,    127.9,2,   147.34,2,    35.73,2,     0.00,2,     2.61,2, -999.000,9, -999.000,9, -999.000,9,   1.8960,2,    13.30,2,   -999.0,9,  -999.00,9,   8.367,2,   2356.2,2,   2453.4,2,  -999.0,    0.20,  0.0090,   0.167,-999.000
    316N145_10,  I07N,   804,  1,      3,      3,2,19950810,1012, 18.1100,  60.1513, 3731,   -999,   3649.1,   1.7201,  34.7385,2,  34.7365,2,    132.6,2,  1.4326,    133.5,2,   146.91,2,    35.45,2,     0.00,2,     2.58,2, -999.000,9, -999.000,9, -999.000,9,   1.9040,2,    11.80,2,   -999.0,9,  -999.00,9,   8.331,2,   2354.5,2,   2450.8,2,  -999.0,    0.20,  0.0100,   0.167,-999.000
    316N145_10,  I07N,   804,  1,      2,      2,2,19950810,1012, 18.1100,  60.1513, 3731,   -999,   3759.4,   1.7081,  34.7365,2,  34.7370,2,    139.8,2,  1.4092,    139.7,2,   144.86,2,    35.27,2,     0.00,2,     2.56,2, -999.000,9, -999.000,9, -999.000,9,-999.0000,9,  -999.00,9,   -999.0,9,  -999.00,9,-999.000,9,   2344.2,2,   2447.6,2,  -999.0, -999.00,-999.0000,-999.000,-999.000
    316N145_10,  I07N,   804,  1,      1,      1,2,19950810,1012, 18.1100,  60.1513, 3731,   -999,   3784.2,   1.7112,  34.7362,2,  34.7361,2,    138.7,2,  1.4096,    139.5,2,   145.03,2,    35.22,2,     0.00,2,     2.55,2, -999.000,9, -999.000,9, -999.000,9,   1.9090,2,    12.30,2,   -999.0,9,  -999.00,9,   8.398,2,   2343.1,2,   2450.8,2,  -999.0,    0.20,  0.0100,   0.168,-999.000