BOTTLE,20080821WHPSIOSCD
EXPOCODE,SECT_ID,STNNBR,CASTNO,SAMPNO,BTLNBR,BTLNBR_FLAG_W,DATE,TIME,LATITUDE,LONGITUDE,DEPTH,CTDRAW,CTDPRS,CTDTMP,CTDSAL,CTDSAL_FLAG_W,SALNTY,SALNTY_FLAG_W,CTDOXY,CTDOXY_FLAG_W,THETA,OXYGEN,OXYGEN_FLAG_W,SILCAT,SILCAT_FLAG_W,NITRAT,NITRAT_FLAG_W,NITRIT,NITRIT_FLAG_W,PHSPHT,PHSPHT_FLAG_W,CFC-11,CFC-11_FLAG_W,CFC-12,CFC-12_FLAG_W,TRITUM,TRITUM_FLAG_W,HELIUM,HELIUM_FLAG_W,DELHE3,DELHE3_FLAG_W,DELC14,DELC14_FLAG_W,DELC13,DELC13_FLAG_W,NEON,NEON_FLAG_W,TCARBN,TCARBN_FLAG_W,ALKALI,ALKALI_FLAG_W,C14ERR,DELHER,HELIER,NEONER,TRITER
,,,,,,,,,,,,,DBAR,ITS-90,PSS-78,,PSS-78,,UMOL/KG,,DEG C,UMOL/KG,,UMOL/KG,,UMOL/KG,,UMOL/KG,,UMOL/KG,,PMOL/KG,,PMOL/KG,,TU,,NMOL/KG,,PERCNT,,/MILLE,,/MILLE,,NMOL/KG,,UMOL/KG,,UMOL/KG,,/MILLE,PERCNT,NMOL/KG,NMOL/KG,TU
    316N145_10,  I07N,   719,  1,     36,     36,2,19950718,1802,-12.8193,  54.9997, 4282,   -999,      8.1,  26.0339,  34.8261,2,  34.8295,2,    202.8,2, 26.0323,    204.0,2,     3.74,2,     0.04,2,     0.00,2,     0.16,2,    1.742,2,    0.990,2, -999.000,9,-999.0000,9,  -999.00,9,   -999.0,9,  -999.00,9,-999.000,9,   1942.6,2,   2278.7,2,  -999.0, -999.00,-999.0000,-999.000,-999.000
    316N145_10,  I07N,   719,  1,     35,     35,2,19950718,1802,-12.8193,  54.9997, 4282,   -999,     29.7,  26.0344,  34.8274,2,  34.8295,2,    201.1,2, 26.0280,    204.0,2,     3.73,2,     0.03,2,     0.00,2,     0.16,2, -999.000,9, -999.000,9, -999.000,9,-999.0000,9,  -999.00,9,   -999.0,9,  -999.00,9,-999.000,9,   -999.9,9,   -999.9,9,  -999.0, -999.00,-999.0000,-999.000,-999.000
    316N145_10,  I07N,   719,  1,     34,     34,2,19950718,1802,-12.8193,  54.9997, 4282,   -999,     50.9,  25.7948,  34.8659,2,  34.8668,2,    200.6,2, 25.7837,    201.8,2,     3.89,2,     0.24,2,     0.01,2,     0.18,2,    1.744,2,    0.987,2, -999.000,9,-999.0000,9,  -999.00,9,   -999.0,9,  -999.00,9,-999.000,9,   -999.9,9,   -999.9,9,  -999.0, -999.00,-999.0000,-999.000,-999.000
    316N145_10,  I07N,   719,  1,     33,     33,2,19950718,1802,-12.8193,  54.9997, 4282,   -999,     91.0,  19.4000,  35.2002,2,  35.2024,2,    130.8,2, 19.3837,    125.0,2,    13.32,2,    12.47,2,     0.01,2,     0.92,2,    1.596,2,    0.886,2, -999.000,9,-999.0000,9,  -999.00,9,   -999.0,9,  -999.00,9,-999.000,9,   -999.9,9,   -999.9,9,  -999.0, -999.00,-999.0000,-999.000,-999.000
    316N145_10,  I07N,   719,  1,     32,     32,2,19950718,1802,-12.8193,  54.9997, 4282,   -999,    121.6,  17.9114,  35.2462,2,  35.2547,2,    126.8,2, 17.8908,    125.4,2,    14.70,2,    13.40,2,     0.01,2,     0.98,2,    1.597,2,    0.866,2, -999.000,9,-999.0000,9,  -999.00,9,   -999.0,9,  -999.00,9,-999.000,9,   -999.9,9,   -999.9,9,  -999.0, -999.00,-999.0000,-999.000,-999.000
    316N145_10,  I07N,   719,  1,     31,     31,2,19950718,1802,-12.8193,  54.9997, 4282,   -999,    150.8,  16.3274,  35.3938,2,  35.3950,2,    137.6,2, 16.3034,    150.1,2,    12.41,2,    11.51,2,     0.00,2,     0.88,2,    1.768,2,    0.929,2, -999.000,9,-999.0000,9,  -999.00,9,   -999.0,9,  -999.00,9,-999.000,9,   -999.9,9,   -999.9,9,  -999.0, -999.00,-999.0000,-999.000,-999.000
    316N145_10,  I07N,   719,  1,     30,     30,2,19950718,1802,-12.8193,  54.9997, 4282,   -999,    180.5,  14.8057,  35.2982,2,  35.2994,2,    167.3,2, 14.7787,    156.5,2,    13.97,2,    12.70,2,     0.00,2,     0.96,2,    1.765,2,    0.923,2, -999.000,9,-999.0000,9,  -999.00,9,   -999.0,9,  -999.00,9,-999.000,9,   -999.9,9,   -999.9,9,  -999.0, -999.00,-999.0000,-999.000,-999.000
    316N145_10,  I07N,   719,  1,     37,     37,2,19950718,1802,-12.8193,  54.9997, 4282,   -999,    199.8,  13.5842,  35.1321,2,  35.1633,2,    143.7,2, 13.5561,    145.6,2,    17.45,2,    15.67,2,     0.00,2,     1.15,2,    1.559,2,    0.838,2, -999.000,9,-999.0000,9,  -999.00,9,   -999.0,9,  -999.00,9,-999.000,9,   -999.9,9,   -999.9,9,  -999.0, -999.00,-999.0000,-999.000,-999.000
    316N145_10,  I07N,   719,  1,     28,     28,2,19950718,1802,-12.8193,  54.9997, 4282,   -999,    250.3,  12.0241,  35.0315,2,  35.0317,2,    141.8,2, 11.9915,    166.2,2,    16.39,2,    16.51,2,     0.00,2,     1.20,2,    1.653,6,    0.856,6, -999.000,9,-999.0000,9,  -999.00,9,   -999.0,9,  -999.00,9,-999.000,9,   -999.9,9,   -999.9,9,  -999.0, -999.00,-999.0000,-999.000,-999.000
    316N145_10,  I07N,   719,  1,     27,     27,2,19950718,1802,-12.8193,  54.9997, 4282,   -999,    299.7,  11.3470,  34.9576,2,  34.9580,2,    155.8,2, 11.3093,    159.6,2,    18.47,2,    18.64,2,     0.00,2,     1.34,2,    1.457,2,    0.750,2, -999.000,9,-999.0000,9,  -999.00,9,   -999.0,9,  -999.00,9,-999.000,9,   -999.9,9,   -999.9,9,  -999.0, -999.00,-999.0000,-999.000,-999.000
    316N145_10,  I07N,   719,  1,     26,     26,2,19950718,1802,-12.8193,  54.9997, 4282,   -999,    349.9,  10.9176,  34.9230,2,  34.9217,2,    168.5,2, 10.8745,    175.9,2,    16.36,2,    17.88,2,     0.00,2,     1.29,2,    1.617,2,    0.814,2, -999.000,9,-999.0000,9,  -999.00,9,   -999.0,9,  -999.00,9,-999.000,9,   -999.9,9,   -999.9,9,  -999.0, -999.00,-999.0000,-999.000,-999.000
    316N145_10,  I07N,   719,  1,     25,     25,2,19950718,1802,-12.8193,  54.9997, 4282,   -999,    411.0,   9.9310,  34.8156,2,  34.8170,2,    177.3,2,  9.8832,    175.9,2,    18.44,2,    19.97,2,     0.00,2,     1.42,2,    1.378,2,    0.686,2, -999.000,9,-999.0000,9,  -999.00,9,   -999.0,9,  -999.00,9,-999.000,9,   -999.9,9,   -999.9,9,  -999.0, -999.00,-999.0000,-999.000,-999.000
    316N145_10,  I07N,   719,  1,     24,     24,2,19950718,1802,-12.8193,  54.9997, 4282,   -999,    500.9,   9.1741,  34.7721,2,  34.7722,2,    140.1,2,  9.1183,    139.4,2,    30.84,2,    25.08,2,     0.00,2,     1.78,2,    0.778,2,    0.383,2, -999.000,9,-999.0000,9,  -999.00,9,   -999.0,9,  -999.00,9,-999.000,9,   -999.9,9,   -999.9,9,  -999.0, -999.00,-999.0000,-999.000,-999.000
    316N145_10,  I07N,   719,  1,     23,     23,2,19950718,1802,-12.8193,  54.9997, 4282,   -999,    601.1,   8.1257,  34.7214,2,  34.7218,2,    130.2,2,  8.0631,    130.9,2,    38.52,2,    28.07,2,     0.00,2,     2.00,2, -999.000,9, -999.000,9, -999.000,9,-999.0000,9,  -999.00,9,   -999.0,9,  -999.00,9,-999.000,9,   -999.9,9,   -999.9,9,  -999.0, -999.00,-999.0000,-999.000,-999.000
    316N145_10,  I07N,   719,  1,     22,     22,2,19950718,1802,-12.8193,  54.9997, 4282,   -999,    707.0,   7.2815,  34.6993,2,  34.6984,2,    117.4,2,  7.2118,    122.4,2,    48.83,2,    30.35,2,     0.00,2,     2.21,2,    0.215,2,    0.106,2, -999.000,9,-999.0000,9,  -999.00,9,   -999.0,9,  -999.00,9,-999.000,9,   -999.9,9,   -999.9,9,  -999.0, -999.00,-999.0000,-999.000,-999.000
    316N145_10,  I07N,   719,  1,     21,     21,2,19950718,1802,-12.8193,  54.9997, 4282,   -999,    835.2,   6.5705,  34.7379,2,  34.7381,2,    101.5,2,  6.4918,    103.2,2,    64.26,2,    32.96,2,     0.00,2,     2.40,2,    0.081,2,    0.039,2, -999.000,9,-999.0000,9,  -999.00,9,   -999.0,9,  -999.00,9,-999.000,9,   -999.9,9,   -999.9,9,  -999.0, -999.00,-999.0000,-999.000,-999.000
    316N145_10,  I07N,   719,  1,     20,     20,2,19950718,1802,-12.8193,  54.9997, 4282,   -999,    896.0,   6.2111,  34.7354,2,  34.7357,2,    102.7,2,  6.1287,    103.0,2,    69.34,2,    33.50,2,     0.00,2,     2.46,2,    0.063,2,    0.047,2, -999.000,9,-999.0000,9,  -999.00,9,   -999.0,9,  -999.00,9,-999.000,9,   -999.9,9,   -999.9,9,  -999.0, -999.00,-999.0000,-999.000,-999.000
    316N145_10,  I07N,   719,  1,     19,     19,2,19950718,1802,-12.8193,  54.9997, 4282,   -999,   1001.0,   5.6173,  34.7293,2,  34.7296,2,    103.3,2,  5.5290,    104.9,2,    76.38,2,    34.19,2,     0.00,2,     2.50,2, -999.000,9, -999.000,9, -999.000,9,-999.0000,9,  -999.00,9,   -999.0,9,  -999.00,9,-999.000,9,   -999.9,9,   -999.9,9,  -999.0, -999.00,-999.0000,-999.000,-999.000
    316N145_10,  I07N,   719,  1,     18,     18,2,19950718,1802,-12.8193,  54.9997, 4282,   -999,   1101.4,   5.1764,  34.7374,2,  34.7390,2,    107.0,2,  5.0821,    105.9,2,    82.91,2,    34.55,2,     0.00,2,     2.53,2,    0.026,2,    0.006,2, -999.000,9,-999.0000,9,  -999.00,9,   -999.0,9,  -999.00,9,-999.000,9,   -999.9,9,   -999.9,9,  -999.0, -999.00,-999.0000,-999.000,-999.000
    316N145_10,  I07N,   719,  1,     17,     17,2,19950718,1802,-12.8193,  54.9997, 4282,   -999,   1201.7,   4.8468,  34.7284,2,  34.7296,2,    116.1,2,  4.7460,    111.3,2,    85.37,2,    34.64,2,     0.00,2,     2.54,2,    0.014,2,    0.001,2, -999.000,9,-999.0000,9,  -999.00,9,   -999.0,9,  -999.00,9,-999.000,9,   -999.9,9,   -999.9,9,  -999.0, -999.00,-999.0000,-999.000,-999.000
    316N145_10,  I07N,   719,  1,     16,     16,2,19950718,1802,-12.8193,  54.9997, 4282,   -999,   1302.2,   4.4874,  34.7170,2,  34.7182,2,    123.9,2,  4.3807,    119.0,2,    87.12,2,    34.37,2,     0.00,2,     2.51,2,    0.018,2,    0.006,2, -999.000,9,-999.0000,9,  -999.00,9,   -999.0,9,  -999.00,9,-999.000,9,   -999.9,9,   -999.9,9,  -999.0, -999.00,-999.0000,-999.000,-999.000
    316N145_10,  I07N,   719,  1,     15,     15,2,19950718,1802,-12.8193,  54.9997, 4282,   -999,   1398.9,   4.0929,  34.7089,2,  34.7091,2,    129.6,2,  3.9816,    126.1,2,    90.65,2,    34.38,2,     0.00,2,     2.50,2,    0.010,2,    0.000,2, -999.000,9,-999.0000,9,  -999.00,9,   -999.0,9,  -999.00,9,-999.000,9,   -999.9,9,   -999.9,9,  -999.0, -999.00,-999.0000,-999.000,-999.000
    316N145_10,  I07N,   719,  1,     14,     14,2,19950718,1802,-12.8193,  54.9997, 4282,   -999,   1498.3,   3.6486,  34.7088,2,  34.7081,2,    134.0,2,  3.5333,    134.1,2,    94.37,2,    34.11,2,     0.00,2,     2.49,2,    0.004,2,    0.003,2, -999.000,9,-999.0000,9,  -999.00,9,   -999.0,9,  -999.00,9,-999.000,9,   -999.9,9,   -999.9,9,  -999.0, -999.00,-999.0000,-999.000,-999.000
    316N145_10,  I07N,   719,  1,     13,     13,2,19950718,1802,-12.8193,  54.9997, 4282,   -999,   1594.1,   3.4076,  34.7096,2,  34.7093,2,    134.1,2,  3.2867,    139.2,2,    97.20,2,    33.97,2,     0.00,2,     2.46,2,    0.015,2,    0.025,2, -999.000,9,-999.0000,9,  -999.00,9,   -999.0,9,  -999.00,9,-999.000,9,   -999.9,9,   -999.9,9,  -999.0, -999.00,-999.0000,-999.000,-999.000
    316N145_10,  I07N,   719,  1,     12,     12,2,19950718,1802,-12.8193,  54.9997, 4282,   -999,   1795.3,   2.8674,  34.7224,2,  34.7221,2,    145.4,2,  2.7358,    147.3,2,   106.34,2,    33.79,2,     0.00,2,     2.43,2,    0.001,2,   -0.003,2, -999.000,9,-999.0000,9,  -999.00,9,   -999.0,9,  -999.00,9,-999.000,9,   -999.9,9,   -999.9,9,  -999.0, -999.00,-999.0000,-999.000,-999.000
    316N145_10,  I07N,   719,  1,     11,     11,2,19950718,1802,-12.8193,  54.9997, 4282,   -999,   1990.3,   2.5152,  34.7285,2,  34.7297,2,    152.3,2,  2.3716,    152.0,2,   113.00,2,    33.66,2,     0.00,2,     2.43,2, -999.000,9, -999.000,9, -999.000,9,-999.0000,9,  -999.00,9,   -999.0,9,  -999.00,9,-999.000,9,   -999.9,9,   -999.9,9,  -999.0, -999.00,-999.0000,-999.000,-999.000
    316N145_10,  I07N,   719,  1,     10,     10,2,19950718,1802,-12.8193,  54.9997, 4282,   -999,   2246.9,   2.2271,  34.7354,2,  34.7362,2,    156.1,2,  2.0654,    155.6,2,   119.53,2,    33.75,2,     0.00,2,     2.42,2, -999.000,9, -999.000,9, -999.000,9,-999.0000,9,  -999.00,9,   -999.0,9,  -999.00,9,-999.000,9,   -999.9,9,   -999.9,9,  -999.0, -999.00,-999.0000,-999.000,-999.000
    316N145_10,  I07N,   719,  1,      9,      9,2,19950718,1802,-12.8193,  54.9997, 4282,   -999,   2497.6,   2.0623,  34.7389,2,  34.7381,2,    156.5,2,  1.8808,    156.9,2,   124.26,2,    33.80,2,     0.00,2,     2.43,2, -999.000,9, -999.000,9, -999.000,9,-999.0000,9,  -999.00,9,   -999.0,9,  -999.00,9,-999.000,9,   -999.9,9,   -999.9,9,  -999.0, -999.00,-999.0000,-999.000,-999.000
    316N145_10,  I07N,   719,  1,      8,      8,2,19950718,1802,-12.8193,  54.9997, 4282,   -999,   2805.8,   1.8927,  34.7388,2,  34.7379,2,    158.3,2,  1.6858,    159.8,2,   128.46,2,    33.85,2,     0.00,2,     2.42,2, -999.000,9, -999.000,9, -999.000,9,-999.0000,9,  -999.00,9,   -999.0,9,  -999.00,9,-999.000,9,   -999.9,9,   -999.9,9,  -999.0, -999.00,-999.0000,-999.000,-999.000
    316N145_10,  I07N,   719,  1,      7,      7,2,19950718,1802,-12.8193,  54.9997, 4282,   -999,   3093.6,   1.7749,  34.7359,2,  34.7355,2,    163.4,2,  1.5427,    164.0,2,   130.28,2,    33.71,2,     0.00,2,     2.41,2, -999.000,9, -999.000,9, -999.000,9,-999.0000,9,  -999.00,9,   -999.0,9,  -999.00,9,-999.000,9,   -999.9,9,   -999.9,9,  -999.0, -999.00,-999.0000,-999.000,-999.000
    316N145_10,  I07N,   719,  1,      6,      6,2,19950718,1802,-12.8193,  54.9997, 4282,   -999,   3399.2,   1.6736,  34.7317,2,  34.7316,2,    167.4,2,  1.4133,    168.1,2,   131.35,2,    33.67,2,     0.00,2,     2.39,2, -999.000,9, -999.000,9, -999.000,9,-999.0000,9,  -999.00,9,   -999.0,9,  -999.00,9,-999.000,9,   -999.9,9,   -999.9,9,  -999.0, -999.00,-999.0000,-999.000,-999.000
    316N145_10,  I07N,   719,  1,      5,      5,2,19950718,1802,-12.8193,  54.9997, 4282,   -999,   3695.2,   1.5493,  34.7274,2,  34.7265,2,    174.3,2,  1.2615,    175.0,2,   130.20,2,    33.31,2,     0.00,2,     2.37,2, -999.000,9, -999.000,9, -999.000,9,-999.0000,9,  -999.00,9,   -999.0,9,  -999.00,9,-999.000,9,   -999.9,9,   -999.9,9,  -999.0, -999.00,-999.0000,-999.000,-999.000
    316N145_10,  I07N,   719,  1,      4,      4,2,19950718,1802,-12.8193,  54.9997, 4282,   -999,   3999.9,   1.4147,  34.7215,2,  34.7216,2,    183.1,2,  1.0981,    182.9,2,   130.16,2,    32.91,2,     0.00,2,     2.33,2, -999.000,9, -999.000,9, -999.000,9,-999.0000,9,  -999.00,9,   -999.0,9,  -999.00,9,-999.000,9,   -999.9,9,   -999.9,9,  -999.0, -999.00,-999.0000,-999.000,-999.000
    316N145_10,  I07N,   719,  1,      3,      3,2,19950718,1802,-12.8193,  54.9997, 4282,   -999,   4255.0,   1.3481,  34.7197,2,  34.7178,2,    186.7,2,  1.0054,    187.9,2,   129.57,2,    32.77,2,     0.00,2,     2.32,2, -999.000,9, -999.000,9, -999.000,9,-999.0000,9,  -999.00,9,   -999.0,9,  -999.00,9,-999.000,9,   -999.9,9,   -999.9,9,  -999.0, -999.00,-999.0000,-999.000,-999.000
    316N145_10,  I07N,   719,  1,      2,      2,2,19950718,1802,-12.8193,  54.9997, 4282,   -999,   4322.2,   1.3471,  34.7199,2,  34.7182,2,    187.8,2,  0.9969,    188.0,2,   129.72,2,    32.73,2,     0.00,2,     2.31,2, -999.000,9, -999.000,9, -999.000,9,-999.0000,9,  -999.00,9,   -999.0,9,  -999.00,9,-999.000,9,   -999.9,9,   -999.9,9,  -999.0, -999.00,-999.0000,-999.000,-999.000
    316N145_10,  I07N,   719,  1,      1,      1,2,19950718,1802,-12.8193,  54.9997, 4282,   -999,   4345.5,   1.3438,  34.7184,2,  34.7176,2,    188.9,2,  0.9911,    188.3,2,   129.50,2,    32.78,2,     0.00,2,     2.31,2, -999.000,9, -999.000,9, -999.000,9,-999.0000,9,  -999.00,9,   -999.0,9,  -999.00,9,-999.000,9,   -999.9,9,   -999.9,9,  -999.0, -999.00,-999.0000,-999.000,-999.000