BOTTLE,20080821WHPSIOSCD
EXPOCODE,SECT_ID,STNNBR,CASTNO,SAMPNO,BTLNBR,BTLNBR_FLAG_W,DATE,TIME,LATITUDE,LONGITUDE,DEPTH,CTDRAW,CTDPRS,CTDTMP,CTDSAL,CTDSAL_FLAG_W,SALNTY,SALNTY_FLAG_W,CTDOXY,CTDOXY_FLAG_W,THETA,OXYGEN,OXYGEN_FLAG_W,SILCAT,SILCAT_FLAG_W,NITRAT,NITRAT_FLAG_W,NITRIT,NITRIT_FLAG_W,PHSPHT,PHSPHT_FLAG_W,CFC-11,CFC-11_FLAG_W,CFC-12,CFC-12_FLAG_W,TRITUM,TRITUM_FLAG_W,HELIUM,HELIUM_FLAG_W,DELHE3,DELHE3_FLAG_W,DELC14,DELC14_FLAG_W,DELC13,DELC13_FLAG_W,NEON,NEON_FLAG_W,TCARBN,TCARBN_FLAG_W,ALKALI,ALKALI_FLAG_W,C14ERR,DELHER,HELIER,NEONER,TRITER
,,,,,,,,,,,,,DBAR,ITS-90,PSS-78,,PSS-78,,UMOL/KG,,DEG C,UMOL/KG,,UMOL/KG,,UMOL/KG,,UMOL/KG,,UMOL/KG,,PMOL/KG,,PMOL/KG,,TU,,NMOL/KG,,PERCNT,,/MILLE,,/MILLE,,NMOL/KG,,UMOL/KG,,UMOL/KG,,/MILLE,PERCNT,NMOL/KG,NMOL/KG,TU
    316N145_10,  I07N,   852,  1,     24,     24,2,19950821,2027, 24.7272,  57.4492, 1529,   -999,      4.0,  31.3345,  36.8839,8,  36.8987,2,    168.1,2, 31.3337,    185.3,2,     3.05,2,     0.00,2,     0.00,2,     0.19,2,    1.436,2,    0.827,2, -999.000,9,-999.0000,9,  -999.00,9,   -999.0,9,  -999.00,9,-999.000,9,   -999.9,5,   2412.9,2,  -999.0, -999.00,-999.0000,-999.000,-999.000
    316N145_10,  I07N,   852,  1,     23,     23,2,19950821,2027, 24.7272,  57.4492, 1529,   -999,     15.1,  28.9100,  36.6579,2,  36.7412,2,    173.4,2, 28.9066,    194.8,2,     3.21,2,     0.00,2,     0.00,2,     0.31,2, -999.000,9, -999.000,9, -999.000,9,-999.0000,9,  -999.00,9,   -999.0,9,  -999.00,9,-999.000,9,   -999.9,5,   2402.7,2,  -999.0, -999.00,-999.0000,-999.000,-999.000
    316N145_10,  I07N,   852,  1,     22,     22,2,19950821,2027, 24.7272,  57.4492, 1529,   -999,     30.1,  24.0249,  36.4312,2,  36.4653,2,    125.1,2, 24.0188,    126.8,2,     5.65,2,     9.56,2,     0.48,2,     0.98,2, -999.000,9, -999.000,9, -999.000,9,-999.0000,9,  -999.00,9,   -999.0,9,  -999.00,9,-999.000,9,   -999.9,5,   2384.7,2,  -999.0, -999.00,-999.0000,-999.000,-999.000
    316N145_10,  I07N,   852,  1,     21,     21,2,19950821,2027, 24.7272,  57.4492, 1529,   -999,     40.1,  23.4884,  36.4966,2,  36.4950,2,     97.8,2, 23.4803,     98.8,2,     6.68,2,    13.78,2,     0.47,2,     1.23,2,    1.753,2,    0.988,2, -999.000,9,-999.0000,9,  -999.00,9,   -999.0,9,  -999.00,9,-999.000,9,   -999.9,5,   2379.9,2,  -999.0, -999.00,-999.0000,-999.000,-999.000
    316N145_10,  I07N,   852,  1,     20,     20,2,19950821,2027, 24.7272,  57.4492, 1529,   -999,     65.4,  22.1595,  36.3430,2,  36.3391,2,     31.2,2, 22.1466,     32.1,2,    12.27,2,    20.31,2,     0.03,2,     1.78,2, -999.000,9, -999.000,9, -999.000,9,-999.0000,9,  -999.00,9,   -999.0,9,  -999.00,9,-999.000,9,   -999.9,5,   2368.4,2,  -999.0, -999.00,-999.0000,-999.000,-999.000
    316N145_10,  I07N,   852,  1,     19,     19,2,19950821,2027, 24.7272,  57.4492, 1529,   -999,     95.6,  20.6431,  36.2217,2,  36.2190,2,      7.2,2, 20.6252,      6.8,2,    17.16,2,    22.27,2,     0.01,2,     2.08,2,    1.256,2,    0.767,2, -999.000,9,-999.0000,9,  -999.00,9,   -999.0,9,  -999.00,9,-999.000,9,   -999.9,5,   2357.7,2,  -999.0, -999.00,-999.0000,-999.000,-999.000
    316N145_10,  I07N,   852,  1,     18,     18,2,19950821,2027, 24.7272,  57.4492, 1529,   -999,    118.7,  19.5541,  36.1919,2,  36.1915,2,      4.1,2, 19.5325,      5.8,2,    19.94,2,    21.86,2,     0.00,2,     2.13,2, -999.000,9, -999.000,9, -999.000,9,-999.0000,9,  -999.00,9,   -999.0,9,  -999.00,9,-999.000,9,   -999.9,5,   2346.9,2,  -999.0, -999.00,-999.0000,-999.000,-999.000
    316N145_10,  I07N,   852,  1,     17,     17,2,19950821,2027, 24.7272,  57.4492, 1529,   -999,    144.7,  18.8999,  36.2841,2,  36.2944,2,      7.1,2, 18.8742,      7.9,2,    21.31,2,    21.07,2,     0.00,2,     2.12,2,    0.947,2,    0.593,2, -999.000,9,-999.0000,9,  -999.00,9,   -999.0,9,  -999.00,9,-999.000,9,   -999.9,5,   2360.6,2,  -999.0, -999.00,-999.0000,-999.000,-999.000
    316N145_10,  I07N,   852,  1,     16,     16,2,19950821,2027, 24.7272,  57.4492, 1529,   -999,    193.1,  17.9652,  36.4084,2,  36.3873,2,      9.7,2, 17.9320,     10.2,2,    23.38,2,    20.57,2,     0.00,2,     2.12,2,    0.826,2,    0.561,2, -999.000,9,-999.0000,9,  -999.00,9,   -999.0,9,  -999.00,9,-999.000,9,   -999.9,5,   2356.4,2,  -999.0, -999.00,-999.0000,-999.000,-999.000
    316N145_10,  I07N,   852,  1,     15,     15,2,19950821,2027, 24.7272,  57.4492, 1529,   -999,    237.7,  16.4554,  36.2191,2,  36.2181,2,      1.1,2, 16.4169,      0.9,2,    27.55,2,    21.28,2,     0.00,2,     2.26,2,    0.622,2,    0.380,2, -999.000,9,-999.0000,9,  -999.00,9,   -999.0,9,  -999.00,9,-999.000,9,   -999.9,5,   2360.4,2,  -999.0, -999.00,-999.0000,-999.000,-999.000
    316N145_10,  I07N,   852,  1,     14,     14,2,19950821,2027, 24.7272,  57.4492, 1529,   -999,    300.3,  15.0345,  36.0668,2,  36.0670,2,      1.2,2, 14.9886,      0.4,2,    31.90,2,    20.16,2,     1.51,2,     2.38,2,    0.421,2,    0.270,2, -999.000,9,-999.0000,9,  -999.00,9,   -999.0,9,  -999.00,9,-999.000,9,   -999.9,5,   2361.2,2,  -999.0, -999.00,-999.0000,-999.000,-999.000
    316N145_10,  I07N,   852,  1,     13,     13,2,19950821,2027, 24.7272,  57.4492, 1529,   -999,    354.5,  14.4509,  36.0404,2,  36.0390,2,      1.2,2, 14.3980,      1.4,2,    34.31,2,    22.45,2,     0.12,2,     2.41,2, -999.000,9, -999.000,9, -999.000,9,-999.0000,9,  -999.00,9,   -999.0,9,  -999.00,9,-999.000,9,   -999.9,5,   2358.1,2,  -999.0, -999.00,-999.0000,-999.000,-999.000
    316N145_10,  I07N,   852,  1,     12,     12,2,19950821,2027, 24.7272,  57.4492, 1529,   -999,    399.7,  13.7245,  35.9204,2,  35.9183,2,      1.3,2, 13.6668,      0.4,2,    37.78,2,    22.62,2,     0.43,2,     2.49,2,    0.273,2,    0.170,2, -999.000,9,-999.0000,9,  -999.00,9,   -999.0,9,  -999.00,9,-999.000,9,   -999.9,5,   2359.2,2,  -999.0, -999.00,-999.0000,-999.000,-999.000
    316N145_10,  I07N,   852,  1,     11,     11,2,19950821,2027, 24.7272,  57.4492, 1529,   -999,    499.4,  12.8469,  35.8048,2,  35.8057,2,      1.4,2, 12.7776,      0.4,2,    42.63,2,    24.36,2,     0.11,2,     2.57,2,    0.177,2,    0.113,2, -999.000,9,-999.0000,9,  -999.00,9,   -999.0,9,  -999.00,9,-999.000,9,   -999.9,5,   2354.5,2,  -999.0, -999.00,-999.0000,-999.000,-999.000
    316N145_10,  I07N,   852,  1,     10,     10,2,19950821,2027, 24.7272,  57.4492, 1529,   -999,    599.0,  11.8248,  35.6819,2,  35.6748,2,      1.5,2, 11.7457,      0.3,2,    50.11,2,    27.09,2,     0.03,2,     2.67,2,    0.080,2,    0.057,2, -999.000,9,-999.0000,9,  -999.00,9,   -999.0,9,  -999.00,9,-999.000,9,   -999.9,5,   2358.3,2,  -999.0, -999.00,-999.0000,-999.000,-999.000
    316N145_10,  I07N,   852,  1,      9,      9,2,19950821,2027, 24.7272,  57.4492, 1529,   -999,    699.9,  10.9601,  35.5981,2,  35.5977,2,      1.6,2, 10.8715,      0.6,2,    57.76,2,    29.77,2,     0.00,2,     2.74,2,    0.046,2,    0.032,2, -999.000,9,-999.0000,9,  -999.00,9,   -999.0,9,  -999.00,9,-999.000,9,   -999.9,5,   2357.8,2,  -999.0, -999.00,-999.0000,-999.000,-999.000
    316N145_10,  I07N,   852,  1,      8,      8,2,19950821,2027, 24.7272,  57.4492, 1529,   -999,    799.6,  10.4139,  35.5478,2,  35.5508,2,      1.7,2, 10.3155,      0.8,2,    62.79,2,    31.58,2,     0.00,2,     2.79,2,    0.033,2,    0.025,2, -999.000,9,-999.0000,9,  -999.00,9,   -999.0,9,  -999.00,9,-999.000,9,   -999.9,5,   2365.9,2,  -999.0, -999.00,-999.0000,-999.000,-999.000
    316N145_10,  I07N,   852,  1,      7,      7,2,19950821,2027, 24.7272,  57.4492, 1529,   -999,    899.2,   9.7432,  35.4930,2,  35.4903,2,      1.8,2,  9.6363,      1.2,2,    69.04,2,    33.35,2,     0.00,2,     2.86,2, -999.000,9, -999.000,9, -999.000,9,-999.0000,9,  -999.00,9,   -999.0,9,  -999.00,9,-999.000,9,   -999.9,5,   2366.0,2,  -999.0, -999.00,-999.0000,-999.000,-999.000
    316N145_10,  I07N,   852,  1,      6,      6,2,19950821,2027, 24.7272,  57.4492, 1529,   -999,   1009.8,   9.0408,  35.4241,2,  35.4243,2,      1.9,2,  8.9252,      1.9,2,    75.13,2,    35.23,2,     0.00,2,     2.91,2,    0.017,2,    0.008,2, -999.000,9,-999.0000,9,  -999.00,9,   -999.0,9,  -999.00,9,-999.000,9,   -999.9,5,   2374.0,2,  -999.0, -999.00,-999.0000,-999.000,-999.000
    316N145_10,  I07N,   852,  1,      5,      5,2,19950821,2027, 24.7272,  57.4492, 1529,   -999,   1150.4,   7.7527,  35.2871,2,  35.2877,2,      5.6,2,  7.6309,      5.8,2,    87.24,2,    36.92,2,     0.00,2,     3.01,2, -999.000,9, -999.000,9, -999.000,9,-999.0000,9,  -999.00,9,   -999.0,9,  -999.00,9,-999.000,9,   -999.9,5,   2379.8,2,  -999.0, -999.00,-999.0000,-999.000,-999.000
    316N145_10,  I07N,   852,  1,      4,      4,2,19950821,2027, 24.7272,  57.4492, 1529,   -999,   1300.4,   6.8808,  35.1962,2,  35.1943,2,     13.1,2,  6.7503,     13.1,2,    95.35,2,    37.65,2,     0.00,2,     3.04,2,    0.004,2,    0.008,2, -999.000,9,-999.0000,9,  -999.00,9,   -999.0,9,  -999.00,9,-999.000,9,   -999.9,5,   2390.6,2,  -999.0, -999.00,-999.0000,-999.000,-999.000
    316N145_10,  I07N,   852,  1,      3,      3,2,19950821,2027, 24.7272,  57.4492, 1529,   -999,   1402.5,   6.0930,  35.1167,2,  35.1164,2,     21.7,2,  5.9595,     22.0,2,   103.69,2,    37.81,2,     0.00,2,     3.04,2,    0.004,2,    0.012,2, -999.000,9,-999.0000,9,  -999.00,9,   -999.0,9,  -999.00,9,-999.000,9,   -999.9,5,   2396.5,2,  -999.0, -999.00,-999.0000,-999.000,-999.000
    316N145_10,  I07N,   852,  1,      2,      2,2,19950821,2027, 24.7272,  57.4492, 1529,   -999,   1497.9,   5.1308,  35.0247,2,  35.0260,2,     37.2,2,  4.9981,     36.7,2,   113.38,2,    38.07,2,     0.00,2,     3.01,2,    0.006,2,    0.011,2, -999.000,9,-999.0000,9,  -999.00,9,   -999.0,9,  -999.00,9,-999.000,9,   -999.9,5,   2409.6,2,  -999.0, -999.00,-999.0000,-999.000,-999.000
    316N145_10,  I07N,   852,  1,      1,      1,2,19950821,2027, 24.7272,  57.4492, 1529,   -999,   1542.9,   4.9042,  35.0021,2,  35.0041,2,     41.7,2,  4.7697,     39.8,2,   115.86,2,    37.98,2,     0.00,2,     3.00,2,    0.004,2,    0.011,2, -999.000,9,-999.0000,9,  -999.00,9,   -999.0,9,  -999.00,9,-999.000,9,   -999.9,5,   2409.0,2,  -999.0, -999.00,-999.0000,-999.000,-999.000
    316N145_10,  I07N,   853,  1,     19,     19,2,19950821,2321, 24.5692,  57.2222,  744,   -999,      4.1,  32.1838,  36.9839,8,  36.9780,2,    198.3,2, 32.1830,    186.2,2,     3.02,2,     0.08,2,     0.00,2,     0.16,2,    1.385,2,    0.811,2, -999.000,9,-999.0000,9,  -999.00,9,   -999.0,9,  -999.00,9,-999.000,9,   -999.9,5,   2416.1,2,  -999.0, -999.00,-999.0000,-999.000,-999.000
    316N145_10,  I07N,   853,  1,     18,     18,2,19950821,2321, 24.5692,  57.2222,  744,   -999,     20.3,  26.1956,  36.5013,2,  36.5061,2,    203.7,2, 26.1912,    208.4,2,     4.05,2,     0.17,2,     0.00,2,     0.49,2, -999.000,9, -999.000,9, -999.000,9,-999.0000,9,  -999.00,9,   -999.0,9,  -999.00,9,-999.000,9,   -999.9,9,   -999.9,9,  -999.0, -999.00,-999.0000,-999.000,-999.000
    316N145_10,  I07N,   853,  1,     17,     17,2,19950821,2321, 24.5692,  57.2222,  744,   -999,     35.5,  23.6980,  36.4548,2,  36.4519,2,    119.8,2, 23.6908,    109.4,2,     6.47,2,    12.17,2,     0.79,2,     1.17,2, -999.000,9, -999.000,9, -999.000,9,-999.0000,9,  -999.00,9,   -999.0,9,  -999.00,9,-999.000,9,   -999.9,9,   -999.9,9,  -999.0, -999.00,-999.0000,-999.000,-999.000
    316N145_10,  I07N,   853,  1,     16,     16,2,19950821,2321, 24.5692,  57.2222,  744,   -999,     45.5,  23.3124,  36.4543,2,  36.4483,2,     84.9,2, 23.3032,     82.2,2,     7.68,2,    15.90,2,     0.32,2,     1.39,2,    1.705,2,    0.969,2, -999.000,9,-999.0000,9,  -999.00,9,   -999.0,9,  -999.00,9,-999.000,9,   -999.9,9,   -999.9,9,  -999.0, -999.00,-999.0000,-999.000,-999.000
    316N145_10,  I07N,   853,  1,     15,     15,2,19950821,2321, 24.5692,  57.2222,  744,   -999,     61.4,  22.4866,  36.3653,2,  36.3568,2,     47.3,2, 22.4744,     41.6,2,    10.80,2,    20.16,2,     0.05,2,     1.72,2, -999.000,9, -999.000,9, -999.000,9,-999.0000,9,  -999.00,9,   -999.0,9,  -999.00,9,-999.000,9,   -999.9,9,   -999.9,9,  -999.0, -999.00,-999.0000,-999.000,-999.000
    316N145_10,  I07N,   853,  1,     14,     14,2,19950821,2321, 24.5692,  57.2222,  744,   -999,     77.8,  21.0292,  36.1564,2,  36.1718,2,      8.6,2, 21.0145,      5.3,2,    15.31,2,    23.66,2,     0.02,2,     2.11,2, -999.000,9, -999.000,9, -999.000,9,-999.0000,9,  -999.00,9,   -999.0,9,  -999.00,9,-999.000,9,   -999.9,9,   -999.9,9,  -999.0, -999.00,-999.0000,-999.000,-999.000
    316N145_10,  I07N,   853,  1,     13,     13,2,19950821,2321, 24.5692,  57.2222,  744,   -999,     89.7,  20.4776,  36.1527,2,  36.1479,2,      4.1,2, 20.4609,      3.5,2,    17.38,2,    23.21,2,     0.00,2,     2.17,2, -999.000,9, -999.000,9, -999.000,9,-999.0000,9,  -999.00,9,   -999.0,9,  -999.00,9,-999.000,9,   -999.9,9,   -999.9,9,  -999.0, -999.00,-999.0000,-999.000,-999.000
    316N145_10,  I07N,   853,  1,     12,     12,2,19950821,2321, 24.5692,  57.2222,  744,   -999,    124.2,  19.5406,  36.3167,2,  36.3115,2,      9.4,2, 19.5180,     10.9,2,    19.97,2,    21.42,2,     0.00,2,     2.13,2,    1.042,2,    0.649,2, -999.000,9,-999.0000,9,  -999.00,9,   -999.0,9,  -999.00,9,-999.000,9,   -999.9,9,   -999.9,9,  -999.0, -999.00,-999.0000,-999.000,-999.000
    316N145_10,  I07N,   853,  1,     11,     11,2,19950821,2321, 24.5692,  57.2222,  744,   -999,    144.8,  18.4497,  36.1824,2,  36.1876,2,      5.0,2, 18.4244,      6.1,2,    22.38,2,    21.80,2,     0.00,2,     2.21,2,    0.888,2,    0.549,2, -999.000,9,-999.0000,9,  -999.00,9,   -999.0,9,  -999.00,9,-999.000,9,   -999.9,9,   -999.9,9,  -999.0, -999.00,-999.0000,-999.000,-999.000
    316N145_10,  I07N,   853,  1,     10,     10,2,19950821,2321, 24.5692,  57.2222,  744,   -999,    166.8,  18.1215,  36.2173,2,  36.2075,2,      6.5,2, 18.0927,      7.4,2,    23.05,2,    21.85,2,     0.00,2,     2.20,2,    0.861,2,    0.542,2, -999.000,9,-999.0000,9,  -999.00,9,   -999.0,9,  -999.00,9,-999.000,9,   -999.9,9,   -999.9,9,  -999.0, -999.00,-999.0000,-999.000,-999.000
    316N145_10,  I07N,   853,  1,      9,      9,2,19950821,2321, 24.5692,  57.2222,  744,   -999,    211.0,  18.5844,  36.7152,2,  36.6853,2,     21.4,2, 18.5471,     24.2,2,    21.45,2,    19.59,2,     0.00,2,     2.02,2,    0.965,2,    1.477,3, -999.000,9,-999.0000,9,  -999.00,9,   -999.0,9,  -999.00,9,-999.000,9,   -999.9,9,   -999.9,9,  -999.0, -999.00,-999.0000,-999.000,-999.000
    316N145_10,  I07N,   853,  1,      8,      8,2,19950821,2321, 24.5692,  57.2222,  744,   -999,    239.1,  17.1336,  36.4234,2,  36.4445,2,      7.5,2, 17.0937,      9.5,2,    25.26,2,    21.05,2,     0.00,2,     2.20,2,    0.758,2,    0.557,2, -999.000,9,-999.0000,9,  -999.00,9,   -999.0,9,  -999.00,9,-999.000,9,   -999.9,9,   -999.9,9,  -999.0, -999.00,-999.0000,-999.000,-999.000
    316N145_10,  I07N,   853,  1,      7,      7,2,19950821,2321, 24.5692,  57.2222,  744,   -999,    268.0,  17.5300,  36.7288,2,  36.7261,2,     22.0,2, 17.4844,     22.8,2,    24.01,2,    19.92,2,     0.00,2,     2.07,2,    0.863,2,    1.307,3, -999.000,9,-999.0000,9,  -999.00,9,   -999.0,9,  -999.00,9,-999.000,9,   -999.9,9,   -999.9,9,  -999.0, -999.00,-999.0000,-999.000,-999.000
    316N145_10,  I07N,   853,  1,      6,      6,2,19950821,2321, 24.5692,  57.2222,  744,   -999,    325.1,  15.7363,  36.3687,2,  36.3689,2,      8.1,2, 15.6848,      8.2,2,    29.72,2,    21.57,2,     0.00,2,     2.32,2,    0.599,2,    0.627,3, -999.000,9,-999.0000,9,  -999.00,9,   -999.0,9,  -999.00,9,-999.000,9,   -999.9,9,   -999.9,9,  -999.0, -999.00,-999.0000,-999.000,-999.000
    316N145_10,  I07N,   853,  1,      5,      5,2,19950821,2321, 24.5692,  57.2222,  744,   -999,    425.9,  13.8332,  35.9770,2,  35.9723,2,      1.4,2, 13.7713,      0.9,2,    37.69,2,    23.31,2,     0.00,2,     2.52,2,    0.303,2,    0.205,2, -999.000,9,-999.0000,9,  -999.00,9,   -999.0,9,  -999.00,9,-999.000,9,   -999.9,9,   -999.9,9,  -999.0, -999.00,-999.0000,-999.000,-999.000
    316N145_10,  I07N,   853,  1,      4,      4,2,19950821,2321, 24.5692,  57.2222,  744,   -999,    531.9,  12.6097,  35.7839,2,  35.7750,2,      1.4,2, 12.5367,      0.6,2,    44.79,2,    24.69,2,     0.28,2,     2.64,2, -999.000,9, -999.000,9, -999.000,9,-999.0000,9,  -999.00,9,   -999.0,9,  -999.00,9,-999.000,9,   -999.9,9,   -999.9,9,  -999.0, -999.00,-999.0000,-999.000,-999.000
    316N145_10,  I07N,   853,  1,      3,      3,2,19950821,2321, 24.5692,  57.2222,  744,   -999,    628.3,  11.6500,  35.6629,2,  35.6624,2,      1.5,2, 11.5677,      0.4,2,    51.54,2,    27.75,2,     0.00,2,     2.73,2,    0.073,2,    0.047,2, -999.000,9,-999.0000,9,  -999.00,9,   -999.0,9,  -999.00,9,-999.000,9,   -999.9,9,   -999.9,9,  -999.0, -999.00,-999.0000,-999.000,-999.000
    316N145_10,  I07N,   853,  1,      2,      2,2,19950821,2321, 24.5692,  57.2222,  744,   -999,    726.3,  11.0394,  35.6065,2,  35.6074,2,      1.6,2, 10.9470,      0.6,2,    57.24,2,    29.24,2,     0.07,2,     2.76,2, -999.000,9, -999.000,9, -999.000,9,-999.0000,9,  -999.00,9,   -999.0,9,  -999.00,9,-999.000,9,   -999.9,9,   -999.9,9,  -999.0, -999.00,-999.0000,-999.000,-999.000
    316N145_10,  I07N,   853,  1,      1,      1,2,19950821,2321, 24.5692,  57.2222,  744,   -999,    749.5,  10.8831,  35.5914,2,  35.5978,2,      1.7,2, 10.7885,      0.7,2,    58.07,2,    29.64,2,     0.05,2,     2.78,2,    0.042,2,    0.026,2, -999.000,9,-999.0000,9,  -999.00,9,   -999.0,9,  -999.00,9,-999.000,9,   -999.9,9,   -999.9,9,  -999.0, -999.00,-999.0000,-999.000,-999.000