BOTTLE,20080821WHPSIOSCD
EXPOCODE,SECT_ID,STNNBR,CASTNO,SAMPNO,BTLNBR,BTLNBR_FLAG_W,DATE,TIME,LATITUDE,LONGITUDE,DEPTH,CTDRAW,CTDPRS,CTDTMP,CTDSAL,CTDSAL_FLAG_W,SALNTY,SALNTY_FLAG_W,CTDOXY,CTDOXY_FLAG_W,THETA,OXYGEN,OXYGEN_FLAG_W,SILCAT,SILCAT_FLAG_W,NITRAT,NITRAT_FLAG_W,NITRIT,NITRIT_FLAG_W,PHSPHT,PHSPHT_FLAG_W,CFC-11,CFC-11_FLAG_W,CFC-12,CFC-12_FLAG_W,TRITUM,TRITUM_FLAG_W,HELIUM,HELIUM_FLAG_W,DELHE3,DELHE3_FLAG_W,DELC14,DELC14_FLAG_W,DELC13,DELC13_FLAG_W,NEON,NEON_FLAG_W,TCARBN,TCARBN_FLAG_W,ALKALI,ALKALI_FLAG_W,C14ERR,DELHER,HELIER,NEONER,TRITER
,,,,,,,,,,,,,DBAR,ITS-90,PSS-78,,PSS-78,,UMOL/KG,,DEG C,UMOL/KG,,UMOL/KG,,UMOL/KG,,UMOL/KG,,UMOL/KG,,PMOL/KG,,PMOL/KG,,TU,,NMOL/KG,,PERCNT,,/MILLE,,/MILLE,,NMOL/KG,,UMOL/KG,,UMOL/KG,,/MILLE,PERCNT,NMOL/KG,NMOL/KG,TU
    316N145_10,  I07N,   777,  1,     36,     36,2,19950803,0926,  6.7917,  61.7237, 3369,   -999,      3.3,  28.2151,  36.3173,2,  36.3187,2,    198.7,2, 28.2146,    194.2,2,     2.96,2,     0.05,2,     0.00,2,     0.25,2,    1.613,2,    0.911,2, -999.000,9,-999.0000,9,  -999.00,9,   -999.0,9,  -999.00,9,-999.000,9,   2007.8,2,   2372.8,2,  -999.0, -999.00,-999.0000,-999.000,-999.000
    316N145_10,  I07N,   777,  1,     35,     35,2,19950803,0926,  6.7917,  61.7237, 3369,   -999,     31.5,  28.1346,  36.3233,2,  36.3229,2,    193.4,2, 28.1273,    194.4,2,     2.93,2,     0.05,2,     0.00,2,     0.25,2,    1.611,2,    0.916,2, -999.000,9,-999.0000,9,  -999.00,9,   -999.0,9,  -999.00,9,-999.000,9,   -999.9,9,   -999.9,9,  -999.0, -999.00,-999.0000,-999.000,-999.000
    316N145_10,  I07N,   777,  1,     34,     34,2,19950803,0926,  6.7917,  61.7237, 3369,   -999,     61.6,  28.1288,  36.3538,2,  36.3573,2,    194.5,2, 28.1145,    193.3,2,     2.72,2,     0.05,2,     0.00,2,     0.26,2, -999.000,9, -999.000,9, -999.000,9,-999.0000,9,  -999.00,9,   -999.0,9,  -999.00,9,-999.000,9,   -999.9,9,   -999.9,9,  -999.0, -999.00,-999.0000,-999.000,-999.000
    316N145_10,  I07N,   777,  1,     33,     33,2,19950803,0926,  6.7917,  61.7237, 3369,   -999,     91.4,  28.0065,  36.4201,2,  36.4200,2,    191.3,2, 27.9851,    191.7,2,     2.69,2,     0.05,2,     0.00,2,     0.27,2,    1.614,2,    0.921,2, -999.000,9,-999.0000,9,  -999.00,9,   -999.0,9,  -999.00,9,-999.000,9,   -999.9,9,   -999.9,9,  -999.0, -999.00,-999.0000,-999.000,-999.000
    316N145_10,  I07N,   777,  1,     32,     32,2,19950803,0926,  6.7917,  61.7237, 3369,   -999,    121.3,  27.1134,  36.3246,2,  36.4201,4,    173.8,2, 27.0856,    125.0,2,     6.38,2,     8.27,2,     0.14,2,     0.81,2,    1.489,2,    0.835,2, -999.000,9,-999.0000,9,  -999.00,9,   -999.0,9,  -999.00,9,-999.000,9,   -999.9,9,   -999.9,9,  -999.0, -999.00,-999.0000,-999.000,-999.000
    316N145_10,  I07N,   777,  1,     31,     31,2,19950803,0926,  6.7917,  61.7237, 3369,   -999,    152.0,  19.3208,  35.5453,2,  35.5434,2,      9.9,2, 19.2935,      9.4,2,    19.00,2,    25.53,2,     0.02,2,     2.04,2,    0.995,2,    0.550,2, -999.000,9,-999.0000,9,  -999.00,9,   -999.0,9,  -999.00,9,-999.000,9,   -999.9,9,   -999.9,9,  -999.0, -999.00,-999.0000,-999.000,-999.000
    316N145_10,  I07N,   777,  1,     30,     30,2,19950803,0926,  6.7917,  61.7237, 3369,   -999,    177.0,  16.6816,  35.3742,2,  35.3647,2,     26.9,2, 16.6528,     28.8,2,    21.39,2,    25.60,2,     0.00,2,     2.00,2,    0.882,2,    0.476,2, -999.000,9,-999.0000,9,  -999.00,9,   -999.0,9,  -999.00,9,-999.000,9,   -999.9,9,   -999.9,9,  -999.0, -999.00,-999.0000,-999.000,-999.000
    316N145_10,  I07N,   777,  1,     29,     29,2,19950803,0926,  6.7917,  61.7237, 3369,   -999,    206.4,  14.1697,  35.2731,2,  35.2718,2,     51.9,2, 14.1397,     52.5,2,    23.03,2,    25.35,2,     0.00,2,     1.92,2, -999.000,9, -999.000,9, -999.000,9,-999.0000,9,  -999.00,9,   -999.0,9,  -999.00,9,-999.000,9,   -999.9,9,   -999.9,9,  -999.0, -999.00,-999.0000,-999.000,-999.000
    316N145_10,  I07N,   777,  1,     28,     28,4,19950803,0926,  6.7917,  61.7237, 3369,   -999,    251.9,  12.7797,  35.2081,2,  36.3143,4,     58.1,2, 12.7454,    193.8,4,     3.49,4,     0.50,4,     0.00,4,     0.29,4,    1.602,3,    0.914,3, -999.000,9,-999.0000,9,  -999.00,9,   -999.0,9,  -999.00,9,-999.000,9,   -999.9,9,   -999.9,9,  -999.0, -999.00,-999.0000,-999.000,-999.000
    316N145_10,  I07N,   777,  1,     27,     27,2,19950803,0926,  6.7917,  61.7237, 3369,   -999,    327.0,  11.7811,  35.2069,2,  35.2086,2,     60.4,2, 11.7387,     59.8,2,    28.64,2,    28.02,2,     0.00,2,     2.06,2,    0.551,2,    0.291,2, -999.000,9,-999.0000,9,  -999.00,9,   -999.0,9,  -999.00,9,-999.000,9,   -999.9,9,   -999.9,9,  -999.0, -999.00,-999.0000,-999.000,-999.000
    316N145_10,  I07N,   777,  1,     26,     26,2,19950803,0926,  6.7917,  61.7237, 3369,   -999,    401.2,  11.2050,  35.2017,2,  35.2011,2,     50.1,2, 11.1545,     48.1,2,    33.51,2,    30.07,2,     0.00,2,     2.23,2,    0.335,2,    0.177,2, -999.000,9,-999.0000,9,  -999.00,9,   -999.0,9,  -999.00,9,-999.000,9,   -999.9,9,   -999.9,9,  -999.0, -999.00,-999.0000,-999.000,-999.000
    316N145_10,  I07N,   777,  1,     25,     25,2,19950803,0926,  6.7917,  61.7237, 3369,   -999,    500.2,  10.7288,  35.2174,2,  35.2175,2,     35.0,2, 10.6672,     39.3,2,    39.41,2,    31.61,2,     0.00,2,     2.39,2, -999.000,9, -999.000,9, -999.000,9,-999.0000,9,  -999.00,9,   -999.0,9,  -999.00,9,-999.000,9,   -999.9,9,   -999.9,9,  -999.0, -999.00,-999.0000,-999.000,-999.000
    316N145_10,  I07N,   777,  1,     24,     24,2,19950803,0926,  6.7917,  61.7237, 3369,   -999,    634.9,  10.0334,  35.2909,2,  35.2903,2,     28.9,2,  9.9578,     27.7,2,    52.73,2,    33.42,2,     0.00,2,     2.61,2,    0.082,6,    0.046,6, -999.000,9,-999.0000,9,  -999.00,9,   -999.0,9,  -999.00,9,-999.000,9,   -999.9,9,   -999.9,9,  -999.0, -999.00,-999.0000,-999.000,-999.000
    316N145_10,  I07N,   777,  1,     23,     23,2,19950803,0926,  6.7917,  61.7237, 3369,   -999,    699.5,   9.5787,  35.2618,2,  35.2628,2,     23.5,2,  9.4974,     24.9,2,    58.07,2,    34.43,2,     0.00,2,     2.68,2,    0.049,2,    0.029,2, -999.000,9,-999.0000,9,  -999.00,9,   -999.0,9,  -999.00,9,-999.000,9,   -999.9,9,   -999.9,9,  -999.0, -999.00,-999.0000,-999.000,-999.000
    316N145_10,  I07N,   777,  1,     22,     22,2,19950803,0926,  6.7917,  61.7237, 3369,   -999,    748.9,   9.3913,  35.2812,2,  35.2817,2,     27.6,2,  9.3051,     27.5,2,    60.62,2,    34.39,2,     0.00,2,     2.68,2,    0.055,2,    0.029,2, -999.000,9,-999.0000,9,  -999.00,9,   -999.0,9,  -999.00,9,-999.000,9,   -999.9,9,   -999.9,9,  -999.0, -999.00,-999.0000,-999.000,-999.000
    316N145_10,  I07N,   777,  1,     21,     21,2,19950803,0926,  6.7917,  61.7237, 3369,   -999,    850.1,   8.6890,  35.2303,2,  35.2316,2,     30.8,2,  8.5949,     31.0,2,    67.82,2,    35.18,2,     0.00,2,     2.73,2,    0.037,2,    0.019,2, -999.000,9,-999.0000,9,  -999.00,9,   -999.0,9,  -999.00,9,-999.000,9,   -999.9,9,   -999.9,9,  -999.0, -999.00,-999.0000,-999.000,-999.000
    316N145_10,  I07N,   777,  1,     20,     20,2,19950803,0926,  6.7917,  61.7237, 3369,   -999,   1002.4,   7.4898,  35.1070,2,  35.1076,2,     37.6,2,  7.3868,     38.1,2,    78.94,2,    36.42,2,     0.00,2,     2.80,2, -999.000,9, -999.000,9, -999.000,9,-999.0000,9,  -999.00,9,   -999.0,9,  -999.00,9,-999.000,9,   -999.9,9,   -999.9,9,  -999.0, -999.00,-999.0000,-999.000,-999.000
    316N145_10,  I07N,   777,  1,     19,     19,2,19950803,0926,  6.7917,  61.7237, 3369,   -999,   1102.2,   7.1761,  35.0999,2,  35.1007,2,     40.4,2,  7.0648,     40.7,2,    82.79,2,    36.61,2,     0.00,2,     2.81,2, -999.000,9, -999.000,9, -999.000,9,-999.0000,9,  -999.00,9,   -999.0,9,  -999.00,9,-999.000,9,   -999.9,9,   -999.9,9,  -999.0, -999.00,-999.0000,-999.000,-999.000
    316N145_10,  I07N,   777,  1,     18,     18,2,19950803,0926,  6.7917,  61.7237, 3369,   -999,   1197.2,   6.7149,  35.0640,2,  35.0648,2,     46.2,2,  6.5972,     46.0,2,    87.22,2,    36.81,2,     0.00,2,     2.82,2,    0.011,2,    0.008,2, -999.000,9,-999.0000,9,  -999.00,9,   -999.0,9,  -999.00,9,-999.000,9,   -999.9,9,   -999.9,9,  -999.0, -999.00,-999.0000,-999.000,-999.000
    316N145_10,  I07N,   777,  1,     17,     17,2,19950803,0926,  6.7917,  61.7237, 3369,   -999,   1297.2,   6.0548,  35.0067,2,  35.0080,2,     55.5,2,  5.9329,     54.7,2,    93.14,2,    36.95,2,     0.00,2,     2.82,2,    0.004,2,    0.006,2, -999.000,9,-999.0000,9,  -999.00,9,   -999.0,9,  -999.00,9,-999.000,9,   -999.9,9,   -999.9,9,  -999.0, -999.00,-999.0000,-999.000,-999.000
    316N145_10,  I07N,   777,  1,     16,     16,2,19950803,0926,  6.7917,  61.7237, 3369,   -999,   1402.7,   5.5185,  34.9720,2,  34.9743,2,     61.6,2,  5.3912,     62.9,2,    98.51,2,    36.92,2,     0.00,2,     2.81,2, -999.000,9, -999.000,9, -999.000,9,-999.0000,9,  -999.00,9,   -999.0,9,  -999.00,9,-999.000,9,   -999.9,9,   -999.9,9,  -999.0, -999.00,-999.0000,-999.000,-999.000
    316N145_10,  I07N,   777,  1,     15,     15,2,19950803,0926,  6.7917,  61.7237, 3369,   -999,   1500.8,   5.0783,  34.9445,2,  34.9448,2,     69.3,2,  4.9461,     69.3,2,   103.15,2,    36.93,2,     0.00,2,     2.81,2,    0.002,2,   -0.002,2, -999.000,9,-999.0000,9,  -999.00,9,   -999.0,9,  -999.00,9,-999.000,9,   -999.9,9,   -999.9,9,  -999.0, -999.00,-999.0000,-999.000,-999.000
    316N145_10,  I07N,   777,  1,     14,     14,2,19950803,0926,  6.7917,  61.7237, 3369,   -999,   1601.0,   4.7122,  34.9120,2,  34.9132,2,     77.8,2,  4.5744,     77.9,2,   106.09,2,    36.76,2,     0.00,2,     2.78,2,    0.000,2,    0.001,2, -999.000,9,-999.0000,9,  -999.00,9,   -999.0,9,  -999.00,9,-999.000,9,   -999.9,9,   -999.9,9,  -999.0, -999.00,-999.0000,-999.000,-999.000
    316N145_10,  I07N,   777,  1,     13,     13,2,19950803,0926,  6.7917,  61.7237, 3369,   -999,   1701.7,   4.0787,  34.8740,2,  34.8761,2,     90.0,2,  3.9392,     88.9,2,   113.01,2,    36.54,2,     0.00,2,     2.75,2, -999.000,9, -999.000,9, -999.000,9,-999.0000,9,  -999.00,9,   -999.0,9,  -999.00,9,-999.000,9,   -999.9,9,   -999.9,9,  -999.0, -999.00,-999.0000,-999.000,-999.000
    316N145_10,  I07N,   777,  1,     12,     12,2,19950803,0926,  6.7917,  61.7237, 3369,   -999,   1798.3,   3.5124,  34.8336,2,  34.8361,2,    103.2,2,  3.3715,    103.3,2,   117.88,2,    36.18,2,     0.00,2,     2.69,2,   -0.002,2,   -0.002,2, -999.000,9,-999.0000,9,  -999.00,9,   -999.0,9,  -999.00,9,-999.000,9,   -999.9,9,   -999.9,9,  -999.0, -999.00,-999.0000,-999.000,-999.000
    316N145_10,  I07N,   777,  1,     11,     11,2,19950803,0926,  6.7917,  61.7237, 3369,   -999,   1900.5,   3.1939,  34.8148,2,  34.8161,2,    112.7,2,  3.0481,    112.0,2,   120.66,2,    35.87,2,     0.00,2,     2.66,2,    0.000,2,    0.000,2, -999.000,9,-999.0000,9,  -999.00,9,   -999.0,9,  -999.00,9,-999.000,9,   -999.9,9,   -999.9,9,  -999.0, -999.00,-999.0000,-999.000,-999.000
    316N145_10,  I07N,   777,  1,     10,     10,2,19950803,0926,  6.7917,  61.7237, 3369,   -999,   2002.0,   2.9244,  34.8022,2,  34.8020,2,    117.6,2,  2.7734,    118.4,2,   124.02,2,    35.70,2,     0.00,2,     2.63,2, -999.000,9, -999.000,9, -999.000,9,-999.0000,9,  -999.00,9,   -999.0,9,  -999.00,9,-999.000,9,   -999.9,9,   -999.9,9,  -999.0, -999.00,-999.0000,-999.000,-999.000
    316N145_10,  I07N,   777,  1,      9,      9,2,19950803,0926,  6.7917,  61.7237, 3369,   -999,   2099.4,   2.7365,  34.7921,2,  34.7915,2,    123.4,2,  2.5796,    123.5,2,   125.67,2,    35.57,2,     0.00,2,     2.61,2, -999.000,9, -999.000,9, -999.000,9,-999.0000,9,  -999.00,9,   -999.0,9,  -999.00,9,-999.000,9,   -999.9,9,   -999.9,9,  -999.0, -999.00,-999.0000,-999.000,-999.000
    316N145_10,  I07N,   777,  1,      8,      8,2,19950803,0926,  6.7917,  61.7237, 3369,   -999,   2300.5,   2.4457,  34.7763,2,  34.7766,2,    130.8,2,  2.2753,    130.6,2,   129.05,2,    35.35,2,     0.00,2,     2.58,2, -999.000,9, -999.000,9, -999.000,9,-999.0000,9,  -999.00,9,   -999.0,9,  -999.00,9,-999.000,9,   -999.9,9,   -999.9,9,  -999.0, -999.00,-999.0000,-999.000,-999.000
    316N145_10,  I07N,   777,  1,      7,      7,2,19950803,0926,  6.7917,  61.7237, 3369,   -999,   2495.8,   2.1861,  34.7644,2,  34.7650,2,    135.9,2,  2.0023,    137.5,2,   132.24,2,    35.13,2,     0.00,2,     2.55,2, -999.000,9, -999.000,9, -999.000,9,-999.0000,9,  -999.00,9,   -999.0,9,  -999.00,9,-999.000,9,   -999.9,9,   -999.9,9,  -999.0, -999.00,-999.0000,-999.000,-999.000
    316N145_10,  I07N,   777,  1,      6,      6,2,19950803,0926,  6.7917,  61.7237, 3369,   -999,   2694.5,   1.9482,  34.7524,2,  34.7523,2,    142.8,2,  1.7506,    144.0,2,   135.45,2,    35.00,2,     0.00,2,     2.53,2, -999.000,9, -999.000,9, -999.000,9,-999.0000,9,  -999.00,9,   -999.0,9,  -999.00,9,-999.000,9,   -999.9,9,   -999.9,9,  -999.0, -999.00,-999.0000,-999.000,-999.000
    316N145_10,  I07N,   777,  1,      5,      5,2,19950803,0926,  6.7917,  61.7237, 3369,   -999,   2896.3,   1.8519,  34.7485,2,  34.7480,2,    146.7,2,  1.6372,    146.8,2,   136.92,2,    34.88,2,     0.00,2,     2.51,2, -999.000,9, -999.000,9, -999.000,9,-999.0000,9,  -999.00,9,   -999.0,9,  -999.00,9,-999.000,9,   -999.9,9,   -999.9,9,  -999.0, -999.00,-999.0000,-999.000,-999.000
    316N145_10,  I07N,   777,  1,      4,      4,2,19950803,0926,  6.7917,  61.7237, 3369,   -999,   3099.9,   1.7791,  34.7441,2,  34.7418,2,    151.2,2,  1.5461,    151.0,2,   136.65,2,    34.75,2,     0.00,2,     2.49,2, -999.000,9, -999.000,9, -999.000,9,-999.0000,9,  -999.00,9,   -999.0,9,  -999.00,9,-999.000,9,   -999.9,9,   -999.9,9,  -999.0, -999.00,-999.0000,-999.000,-999.000
    316N145_10,  I07N,   777,  1,      3,      3,2,19950803,0926,  6.7917,  61.7237, 3369,   -999,   3299.7,   1.7468,  34.7407,2,  34.7377,2,    153.5,2,  1.4947,    152.8,2,   136.77,2,    34.71,2,     0.00,2,     2.49,2, -999.000,9, -999.000,9, -999.000,9,-999.0000,9,  -999.00,9,   -999.0,9,  -999.00,9,-999.000,9,   -999.9,9,   -999.9,9,  -999.0, -999.00,-999.0000,-999.000,-999.000
    316N145_10,  I07N,   777,  1,      2,      2,2,19950803,0926,  6.7917,  61.7237, 3369,   -999,   3406.6,   1.7165,  34.7384,2,  34.7389,2,    155.5,2,  1.4543,    154.5,2,   136.89,2,    34.63,2,     0.00,2,     2.48,2, -999.000,9, -999.000,9, -999.000,9,-999.0000,9,  -999.00,9,   -999.0,9,  -999.00,9,-999.000,9,   -999.9,9,   -999.9,9,  -999.0, -999.00,-999.0000,-999.000,-999.000
    316N145_10,  I07N,   777,  1,      1,      1,2,19950803,0926,  6.7917,  61.7237, 3369,   -999,   3433.3,   1.7155,  34.7387,2,  34.7401,2,    154.3,2,  1.4506,    154.7,2,   136.81,2,    34.64,2,     0.00,2,     2.47,2, -999.000,9, -999.000,9, -999.000,9,-999.0000,9,  -999.00,9,   -999.0,9,  -999.00,9,-999.000,9,   -999.9,9,   -999.9,9,  -999.0, -999.00,-999.0000,-999.000,-999.000