BOTTLE,20080821WHPSIOSCD
EXPOCODE,SECT_ID,STNNBR,CASTNO,SAMPNO,BTLNBR,BTLNBR_FLAG_W,DATE,TIME,LATITUDE,LONGITUDE,DEPTH,CTDRAW,CTDPRS,CTDTMP,CTDSAL,CTDSAL_FLAG_W,SALNTY,SALNTY_FLAG_W,CTDOXY,CTDOXY_FLAG_W,THETA,OXYGEN,OXYGEN_FLAG_W,SILCAT,SILCAT_FLAG_W,NITRAT,NITRAT_FLAG_W,NITRIT,NITRIT_FLAG_W,PHSPHT,PHSPHT_FLAG_W,CFC-11,CFC-11_FLAG_W,CFC-12,CFC-12_FLAG_W,TRITUM,TRITUM_FLAG_W,HELIUM,HELIUM_FLAG_W,DELHE3,DELHE3_FLAG_W,DELC14,DELC14_FLAG_W,DELC13,DELC13_FLAG_W,NEON,NEON_FLAG_W,TCARBN,TCARBN_FLAG_W,ALKALI,ALKALI_FLAG_W,C14ERR,DELHER,HELIER,NEONER,TRITER
,,,,,,,,,,,,,DBAR,ITS-90,PSS-78,,PSS-78,,UMOL/KG,,DEG C,UMOL/KG,,UMOL/KG,,UMOL/KG,,UMOL/KG,,UMOL/KG,,PMOL/KG,,PMOL/KG,,TU,,NMOL/KG,,PERCNT,,/MILLE,,/MILLE,,NMOL/KG,,UMOL/KG,,UMOL/KG,,/MILLE,PERCNT,NMOL/KG,NMOL/KG,TU
    316N145_10,  I07N,   837,  1,     36,     36,2,19950818,0606, 21.2500,  60.5345, 3253,   -999,      9.1,  25.6925,  36.1865,2,  36.1896,2,    202.2,2, 25.6908,    198.0,2,     3.47,2,     5.36,2,     0.43,2,     0.78,2,    1.789,2,    1.000,2,    0.822,2,   1.6460,2,    -0.30,2,     41.3,2,     0.96,2,   6.708,2,   2063.7,2,   2361.9,2,     4.2,    0.20,  0.0080,   0.134,   0.008
    316N145_10,  I07N,   837,  1,     35,     35,2,19950818,0606, 21.2500,  60.5345, 3253,   -999,     15.3,  25.7127,  36.2234,2,  36.2189,2,    199.9,2, 25.7096,    196.9,2,     3.63,2,     5.14,2,     0.43,2,     0.77,2, -999.000,9, -999.000,9, -999.000,9,-999.0000,9,  -999.00,9,   -999.0,9,  -999.00,9,-999.000,9,   2063.0,2,   2365.3,2,  -999.0, -999.00,-999.0000,-999.000,-999.000
    316N145_10,  I07N,   837,  1,     34,     34,2,19950818,0606, 21.2500,  60.5345, 3253,   -999,     29.5,  25.7362,  36.3218,2,  36.3256,2,    190.1,2, 25.7299,    190.4,2,     3.95,2,     5.08,2,     0.43,2,     0.77,2,    1.770,2,    0.997,2, -999.000,9,-999.0000,9,  -999.00,9,   -999.0,9,  -999.00,9,-999.000,9,   2071.0,2,   2372.0,2,  -999.0, -999.00,-999.0000,-999.000,-999.000
    316N145_10,  I07N,   837,  1,     33,     33,2,19950818,0606, 21.2500,  60.5345, 3253,   -999,     55.6,  22.3393,  35.9363,2,  35.9371,2,    138.3,2, 22.3284,    128.3,2,     7.57,2,    16.08,2,     0.86,2,     1.54,2,    1.742,2,    0.961,2,    0.750,2,   1.6860,2,     0.20,2,     28.5,2,     0.21,2,   6.913,2,   2154.1,2,   2360.3,2,     4.3,    0.20,  0.0080,   0.138,   0.008
    316N145_10,  I07N,   837,  1,     32,     32,2,19950818,0606, 21.2500,  60.5345, 3253,   -999,     90.6,  21.0501,  36.0028,2,  36.0354,2,     32.5,2, 21.0329,     23.4,2,    14.31,2,    22.96,2,     0.09,2,     1.94,2,    1.417,2,    0.793,2, -999.000,9,-999.0000,9,  -999.00,9,     23.8,2,    -0.11,2,-999.000,9,   2205.8,2,   2349.8,2,     4.5, -999.00,-999.0000,-999.000,-999.000
    316N145_10,  I07N,   837,  1,     31,     31,2,19950818,0606, 21.2500,  60.5345, 3253,   -999,    105.5,  19.8196,  35.9247,2,  35.9312,2,     12.0,2, 19.8004,     11.9,2,    17.40,2,    23.56,2,     0.05,2,     2.10,2, -999.000,9, -999.000,9, -999.000,9,-999.0000,9,  -999.00,9,   -999.0,9,  -999.00,9,-999.000,9,   2220.9,2,   2341.0,2,  -999.0, -999.00,-999.0000,-999.000,-999.000
    316N145_10,  I07N,   837,  1,     30,     30,2,19950818,0606, 21.2500,  60.5345, 3253,   -999,    150.0,  18.4655,  36.0567,2,  36.0504,2,      3.0,2, 18.4393,      5.0,2,    21.88,2,    22.33,2,     0.01,2,     2.21,2,    0.909,2,    0.554,2,    0.507,2,   1.7350,2,     4.10,2,      9.0,2,    -0.24,2,   7.065,2,   2242.5,2,   2340.7,2,     3.4,    0.20,  0.0090,   0.141,   0.008
    316N145_10,  I07N,   837,  1,     29,     29,2,19950818,0606, 21.2500,  60.5345, 3253,   -999,    185.0,  16.7923,  35.8515,2,  35.8448,2,      9.2,2, 16.7620,      9.0,2,    23.94,2,    23.69,2,     0.01,2,     2.20,2, -999.000,9, -999.000,9, -999.000,9,-999.0000,9,  -999.00,9,   -999.0,9,  -999.00,9,-999.000,9,   2243.2,2,   2342.3,2,  -999.0, -999.00,-999.0000,-999.000,-999.000
    316N145_10,  I07N,   837,  1,     28,     28,2,19950818,0606, 21.2500,  60.5345, 3253,   -999,    200.1,  16.6950,  35.9455,2,  35.9379,2,      6.1,2, 16.6623,      5.9,2,    24.78,2,    23.36,2,     0.01,2,     2.24,2,    0.738,2,    0.434,2, -999.000,9,-999.0000,9,  -999.00,9,     -1.5,2,    -0.20,2,-999.000,9,   2249.2,2,   2347.7,2,     3.8, -999.00,-999.0000,-999.000,-999.000
    316N145_10,  I07N,   837,  1,     27,     27,2,19950818,0606, 21.2500,  60.5345, 3253,   -999,    245.2,  15.6250,  35.8717,2,  35.8803,2,      6.3,2, 15.5866,      7.0,2,    26.67,2,    24.24,2,     0.01,2,     2.25,2, -999.000,9, -999.000,9, -999.000,9,-999.0000,9,  -999.00,9,   -999.0,9,  -999.00,9,-999.000,9,   2255.5,2,   2340.7,2,  -999.0, -999.00,-999.0000,-999.000,-999.000
    316N145_10,  I07N,   837,  1,     26,     26,2,19950818,0606, 21.2500,  60.5345, 3253,   -999,    280.2,  14.3942,  35.7046,2,  35.7089,2,     10.1,2, 14.3528,     10.4,2,    28.55,2,    26.15,2,     0.01,2,     2.27,2,    0.544,2,    0.312,2,    0.398,2,   1.7710,2,     2.90,2,    -15.3,2,    -0.14,2,   7.230,2,   2254.6,2,   2339.6,2,     3.5,    0.20,  0.0090,   0.145,   0.008
    316N145_10,  I07N,   837,  1,     25,     25,2,19950818,0606, 21.2500,  60.5345, 3253,   -999,    345.0,  13.7689,  35.7247,2,  35.7288,2,      7.7,2, 13.7192,      7.7,2,    31.82,2,    26.90,2,     0.00,2,     2.36,2,    0.403,2,    0.229,2, -999.000,9,-999.0000,9,  -999.00,9,   -999.0,9,  -999.00,9,-999.000,9,   2262.0,2,   2340.0,2,  -999.0, -999.00,-999.0000,-999.000,-999.000
    316N145_10,  I07N,   837,  1,     24,     24,2,19950818,0606, 21.2500,  60.5345, 3253,   -999,    379.9,  13.9210,  35.8672,2,  35.8706,2,      2.4,2, 13.8657,      2.4,2,    33.87,2,    25.12,2,     0.00,2,     2.44,2,    0.360,2,    0.207,2, -999.000,9,-999.0000,9,  -999.00,9,    -42.0,2,    -0.09,2,-999.000,9,   2271.2,2,   2350.0,2,     2.6, -999.00,-999.0000,-999.000,-999.000
    316N145_10,  I07N,   837,  1,     23,     23,2,19950818,0606, 21.2500,  60.5345, 3253,   -999,    489.8,  12.8622,  35.7653,2,  35.7673,2,      2.8,2, 12.7942,      3.0,2,    39.91,2,    26.61,2,     0.00,2,     2.53,2,    0.218,2,    0.126,2,    0.172,2,   1.8020,2,     4.50,2,    -62.7,2,    -0.10,2,   7.533,2,   2275.7,2,   -999.9,5,     2.5,    0.20,  0.0090,   0.151,   0.008
    316N145_10,  I07N,   837,  1,     22,     22,2,19950818,0606, 21.2500,  60.5345, 3253,   -999,    569.4,  12.0065,  35.6837,2,  35.6880,2,      3.6,2, 11.9307,      3.6,2,    46.12,2,    28.38,2,     0.00,2,     2.62,2,    0.118,2,    0.072,2, -999.000,9,-999.0000,9,  -999.00,9,   -999.0,9,  -999.00,9,-999.000,9,   2280.2,2,   2344.8,2,  -999.0, -999.00,-999.0000,-999.000,-999.000
    316N145_10,  I07N,   837,  1,     21,     21,2,19950818,0606, 21.2500,  60.5345, 3253,   -999,    650.3,  11.5369,  35.6486,2,  35.6498,2,      4.0,2, 11.4521,      3.7,2,    50.78,2,    29.88,2,     0.00,2,     2.66,2,    0.086,2,    0.049,2,    0.101,2,   1.8200,2,     4.70,2,    -92.5,2,    -0.17,2,   7.649,2,   2284.3,2,   -999.9,5,     2.6,    0.20,  0.0090,   0.153,   0.008
    316N145_10,  I07N,   837,  1,     20,     20,2,19950818,0606, 21.2500,  60.5345, 3253,   -999,    740.2,  10.8985,  35.6196,2,  35.6181,2,      5.7,2, 10.8050,      6.5,2,    57.00,2,    32.04,2,     0.00,2,     2.70,2,    0.074,2,    0.047,2, -999.000,9,-999.0000,9,  -999.00,9,   -103.8,2,    -0.05,2,-999.000,9,   2291.2,2,   2359.3,2,     3.5, -999.00,-999.0000,-999.000,-999.000
    316N145_10,  I07N,   837,  1,     19,     19,2,19950818,0606, 21.2500,  60.5345, 3253,   -999,    849.6,  10.0329,  35.5307,2,  35.5320,2,      4.9,2,  9.9303,      4.7,2,    64.45,2,    33.92,2,     0.00,2,     2.79,2,    0.041,2,    0.026,2,    0.011,2,   1.8420,2,     5.60,2,   -122.5,2,    -0.09,2,   7.796,2,   2300.9,2,   2364.9,2,     2.9,    0.20,  0.0090,   0.156,   0.008
    316N145_10,  I07N,   837,  1,     18,     18,2,19950818,0606, 21.2500,  60.5345, 3253,   -999,    949.3,   9.3218,  35.4569,2,  35.4583,2,      3.5,2,  9.2116,      2.4,2,    71.57,2,    34.96,2,     0.00,2,     2.88,2,    0.021,2,    0.013,2, -999.000,9,-999.0000,9,  -999.00,9,   -124.2,2,    -0.25,2,-999.000,9,   2312.5,2,   2369.1,2,     3.2, -999.00,-999.0000,-999.000,-999.000
    316N145_10,  I07N,   837,  1,     17,     17,2,19950818,0606, 21.2500,  60.5345, 3253,   -999,   1099.9,   8.2214,  35.3404,2,  35.3402,2,      5.8,2,  8.1015,      4.6,2,    81.68,2,    37.00,2,     0.00,2,     2.98,2,    0.012,2,    0.008,2,    0.000,2,   1.8550,2,     9.70,2,   -139.1,2,    -0.22,2,   7.894,2,   2325.1,2,   2374.0,2,     3.2,    0.20,  0.0090,   0.158,   0.008
    316N145_10,  I07N,   837,  1,     16,     16,2,19950818,0606, 21.2500,  60.5345, 3253,   -999,   1250.9,   7.0675,  35.2159,2,  35.2157,2,     14.2,2,  6.9406,     12.9,2,    92.22,2,    38.25,2,     0.00,2,     3.04,2,    0.002,2,    0.001,2, -999.000,9,-999.0000,9,  -999.00,9,   -158.8,2,    -0.19,2,-999.000,9,   2336.1,2,   2385.1,2,     2.5, -999.00,-999.0000,-999.000,-999.000
    316N145_10,  I07N,   837,  1,     15,     15,2,19950818,0606, 21.2500,  60.5345, 3253,   -999,   1398.2,   5.9015,  35.0976,2,  35.0983,2,     26.2,2,  5.7705,     26.2,2,   104.47,2,    38.58,2,     0.00,2,     3.05,2,    0.004,2,    0.005,2,    0.000,2,   1.8780,2,    13.30,2,   -164.0,2,    -0.21,2,   7.881,2,   2346.5,2,   -999.9,5,     2.3,    0.20,  0.0090,   0.158,   0.008
    316N145_10,  I07N,   837,  1,     14,     14,2,19950818,0606, 21.2500,  60.5345, 3253,   -999,   1550.5,   4.9230,  35.0051,2,  35.0063,2,     41.8,2,  4.7875,     41.2,2,   114.73,2,    38.53,2,     0.00,2,     3.01,2,   -0.002,2,    0.001,2, -999.000,9,-999.0000,9,  -999.00,9,   -180.7,2,    -0.34,2,-999.000,9,   2352.6,2,   2410.2,2,     2.3, -999.00,-999.0000,-999.000,-999.000
    316N145_10,  I07N,   837,  1,     13,     13,2,19950818,0606, 21.2500,  60.5345, 3253,   -999,   1700.4,   4.1233,  34.9316,2,  34.9340,2,     57.3,2,  3.9832,     56.3,2,   123.67,2,    38.34,2,     0.00,2,     2.95,2,    0.004,2,    0.004,2, -999.000,9,   1.8640,2,    14.20,2,   -999.0,9,  -999.00,9,   7.983,2,   2356.3,2,   -999.9,5,  -999.0,    0.20,  0.0090,   0.160,-999.000
    316N145_10,  I07N,   837,  1,     12,     12,2,19950818,0606, 21.2500,  60.5345, 3253,   -999,   1851.5,   3.4127,  34.8705,2,  34.8725,2,     72.4,2,  3.2681,     72.3,2,   131.27,2,    38.01,2,     0.00,2,     2.88,2, -999.000,9, -999.000,9, -999.000,9,   1.8870,2,    14.00,2,   -999.0,9,  -999.00,9,   8.135,2,   2358.7,2,   2425.2,2,  -999.0,    0.20,  0.0090,   0.163,-999.000
    316N145_10,  I07N,   837,  1,     11,     11,2,19950818,0606, 21.2500,  60.5345, 3253,   -999,   2001.2,   3.0140,  34.8370,2,  34.8374,2,     83.8,2,  2.8615,     83.0,2,   135.57,2,    37.62,2,     0.00,2,     2.82,2, -999.000,9, -999.000,9, -999.000,9,   1.8910,2,    14.60,2,   -999.0,9,  -999.00,9,   8.287,2,   2359.5,2,   -999.9,5,  -999.0,    0.20,  0.0090,   0.166,-999.000
    316N145_10,  I07N,   837,  1,     10,     10,2,19950818,0606, 21.2500,  60.5345, 3253,   -999,   2149.5,   2.6811,  34.8116,2,  34.8110,2,     89.9,2,  2.5204,     89.6,2,   139.91,2,    37.43,2,     0.00,2,     2.77,2,    0.000,2,    0.006,2, -999.000,9,   1.9040,2,    13.90,2,   -999.0,9,  -999.00,9,   8.354,2,   2362.6,2,   2437.7,2,  -999.0,    0.20,  0.0100,   0.167,-999.000
    316N145_10,  I07N,   837,  1,      9,      9,2,19950818,0606, 21.2500,  60.5345, 3253,   -999,   2297.1,   2.3869,  34.7880,2,  34.7883,2,     96.2,2,  2.2177,     98.2,2,   143.92,2,    37.10,2,     0.00,2,     2.73,2, -999.000,9, -999.000,9, -999.000,9,   1.9090,2,    14.00,2,   -999.0,9,  -999.00,9,   8.296,2,   2362.8,2,   -999.9,5,  -999.0,    0.20,  0.0100,   0.166,-999.000
    316N145_10,  I07N,   837,  1,      8,      8,2,19950818,0606, 21.2500,  60.5345, 3253,   -999,   2450.1,   2.1154,  34.7678,2,  34.7692,2,    103.4,2,  1.9372,    105.2,2,   147.18,2,    36.90,2,     0.00,2,     2.70,2,    0.001,2,    0.006,2, -999.000,9,   1.8960,2,    14.60,2,   -999.0,9,  -999.00,9,   8.345,2,   2365.5,2,   2450.1,2,  -999.0,    0.20,  0.0090,   0.167,-999.000
    316N145_10,  I07N,   837,  1,      7,      7,2,19950818,0606, 21.2500,  60.5345, 3253,   -999,   2603.7,   1.9702,  34.7573,2,  34.7578,2,    108.3,2,  1.7806,    108.7,2,   149.30,2,    36.76,2,     0.00,2,     2.68,2, -999.000,9, -999.000,9, -999.000,9,   1.8910,2,    14.80,2,   -999.0,9,  -999.00,9,   8.376,2,   2366.8,2,   -999.9,5,  -999.0,    0.20,  0.0090,   0.168,-999.000
    316N145_10,  I07N,   837,  1,      6,      6,2,19950818,0606, 21.2500,  60.5345, 3253,   -999,   2752.5,   1.8848,  34.7512,2,  34.7522,2,    110.2,2,  1.6830,    111.4,2,   151.23,2,    36.62,2,     0.00,2,     2.67,2,    0.007,2,    0.022,2, -999.000,9,   1.9130,2,    15.10,2,   -999.0,9,  -999.00,9,   8.336,2,   2369.4,2,   2458.6,2,  -999.0,    0.20,  0.0100,   0.167,-999.000
    316N145_10,  I07N,   837,  1,      5,      5,2,19950818,0606, 21.2500,  60.5345, 3253,   -999,   2921.1,   1.8121,  34.7458,2,  34.7465,2,    111.7,2,  1.5959,    111.3,2,   153.37,2,    36.42,2,     0.00,2,     2.68,2,    0.016,2,    0.039,2, -999.000,9,   1.9040,2,    14.50,2,   -999.0,9,  -999.00,9,   8.349,2,   2374.4,2,   -999.9,5,  -999.0,    0.20,  0.0100,   0.167,-999.000
    316N145_10,  I07N,   837,  1,      4,      4,2,19950818,0606, 21.2500,  60.5345, 3253,   -999,   3076.1,   1.7579,  34.7419,2,  34.7427,2,    113.6,2,  1.5278,    116.1,2,   152.93,2,    36.28,2,     0.00,2,     2.64,2,    0.016,2,    0.042,2, -999.000,9,   1.8870,2,    12.10,2,   -999.0,9,  -999.00,9,   8.389,2,   2369.4,2,   2462.8,2,  -999.0,    0.20,  0.0090,   0.168,-999.000
    316N145_10,  I07N,   837,  1,      3,      3,2,19950818,0606, 21.2500,  60.5345, 3253,   -999,   3171.7,   1.7299,  34.7398,2,  34.7410,2,    123.1,2,  1.4910,    123.0,2,   151.10,2,    36.13,2,     0.00,2,     2.61,2,    0.013,2,    0.032,2, -999.000,9,   1.8910,2,    11.70,2,   -999.0,9,  -999.00,9,   8.296,2,   2362.4,2,   -999.9,5,  -999.0,    0.20,  0.0090,   0.166,-999.000
    316N145_10,  I07N,   837,  1,      2,      2,2,19950818,0606, 21.2500,  60.5345, 3253,   -999,   3246.7,   1.7047,  34.7382,2,  34.7396,2,    125.7,2,  1.4590,    124.4,2,   151.06,2,    36.08,2,     0.00,2,     2.59,2,    0.013,2,    0.031,2, -999.000,9,   1.9000,2,    12.40,2,   -999.0,9,  -999.00,9,   8.363,2,   2362.1,2,   2459.5,2,  -999.0,    0.20,  0.0090,   0.167,-999.000
    316N145_10,  I07N,   837,  1,      1,      1,2,19950818,0606, 21.2500,  60.5345, 3253,   -999,   3295.6,   1.6986,  34.7377,2,  34.7384,2,    122.7,2,  1.4481,    123.8,2,   151.81,2,    35.99,2,     0.00,2,     2.59,2,    0.015,2,    0.036,2, -999.000,9,   1.8960,2,    12.60,2,   -999.0,9,  -999.00,9,   8.336,2,   2364.2,2,   2449.3,2,  -999.0,    0.20,  0.0090,   0.167,-999.000