BOTTLE,20080821WHPSIOSCD
EXPOCODE,SECT_ID,STNNBR,CASTNO,SAMPNO,BTLNBR,BTLNBR_FLAG_W,DATE,TIME,LATITUDE,LONGITUDE,DEPTH,CTDRAW,CTDPRS,CTDTMP,CTDSAL,CTDSAL_FLAG_W,SALNTY,SALNTY_FLAG_W,CTDOXY,CTDOXY_FLAG_W,THETA,OXYGEN,OXYGEN_FLAG_W,SILCAT,SILCAT_FLAG_W,NITRAT,NITRAT_FLAG_W,NITRIT,NITRIT_FLAG_W,PHSPHT,PHSPHT_FLAG_W,CFC-11,CFC-11_FLAG_W,CFC-12,CFC-12_FLAG_W,TRITUM,TRITUM_FLAG_W,HELIUM,HELIUM_FLAG_W,DELHE3,DELHE3_FLAG_W,DELC14,DELC14_FLAG_W,DELC13,DELC13_FLAG_W,NEON,NEON_FLAG_W,TCARBN,TCARBN_FLAG_W,ALKALI,ALKALI_FLAG_W,C14ERR,DELHER,HELIER,NEONER,TRITER
,,,,,,,,,,,,,DBAR,ITS-90,PSS-78,,PSS-78,,UMOL/KG,,DEG C,UMOL/KG,,UMOL/KG,,UMOL/KG,,UMOL/KG,,UMOL/KG,,PMOL/KG,,PMOL/KG,,TU,,NMOL/KG,,PERCNT,,/MILLE,,/MILLE,,NMOL/KG,,UMOL/KG,,UMOL/KG,,/MILLE,PERCNT,NMOL/KG,NMOL/KG,TU
    316N145_10,  I07N,   773,  1,     36,     36,2,19950802,0654,  5.1963,  60.2593, 3449,   -999,      3.3,  28.5803,  36.0894,2,  36.0913,2,    195.3,2, 28.5798,    194.0,2,     2.72,2,     0.04,2,     0.00,2,     0.21,2,    1.582,2,    0.916,2, -999.000,9,-999.0000,9,  -999.00,9,   -999.0,9,  -999.00,9,-999.000,9,   1993.9,2,   2358.2,2,  -999.0, -999.00,-999.0000,-999.000,-999.000
    316N145_10,  I07N,   773,  1,     35,     35,2,19950802,0654,  5.1963,  60.2593, 3449,   -999,     30.0,  28.3834,  36.0868,2,  36.0877,2,    193.5,2, 28.3765,    194.1,2,     2.52,2,     0.04,2,     0.00,2,     0.21,2,    1.596,2,    0.927,2, -999.000,9,-999.0000,9,  -999.00,9,   -999.0,9,  -999.00,9,-999.000,9,   -999.9,9,   -999.9,9,  -999.0, -999.00,-999.0000,-999.000,-999.000
    316N145_10,  I07N,   773,  1,     34,     34,2,19950802,0654,  5.1963,  60.2593, 3449,   -999,     45.3,  28.2742,  36.1269,2,  36.1286,2,    194.0,2, 28.2637,    194.2,2,     2.67,2,     0.00,2,     0.00,2,     0.23,2, -999.000,9, -999.000,9, -999.000,9,-999.0000,9,  -999.00,9,   -999.0,9,  -999.00,9,-999.000,9,   -999.9,9,   -999.9,9,  -999.0, -999.00,-999.0000,-999.000,-999.000
    316N145_10,  I07N,   773,  1,     33,     33,2,19950802,0654,  5.1963,  60.2593, 3449,   -999,     90.6,  27.9999,  36.1222,2,  36.1217,2,    196.8,2, 27.9787,    190.8,2,     2.65,2,     0.13,2,     0.00,2,     0.26,2,    1.599,2,    0.920,2, -999.000,9,-999.0000,9,  -999.00,9,   -999.0,9,  -999.00,9,-999.000,9,   -999.9,9,   -999.9,9,  -999.0, -999.00,-999.0000,-999.000,-999.000
    316N145_10,  I07N,   773,  1,     32,     32,2,19950802,0654,  5.1963,  60.2593, 3449,   -999,    135.8,  18.5221,  35.4854,2,  35.4798,2,     50.3,2, 18.4985,     49.4,2,    16.75,2,    22.24,2,     0.00,2,     1.75,2,    1.167,2,    0.644,2, -999.000,9,-999.0000,9,  -999.00,9,   -999.0,9,  -999.00,9,-999.000,9,   -999.9,9,   -999.9,9,  -999.0, -999.00,-999.0000,-999.000,-999.000
    316N145_10,  I07N,   773,  1,     31,     31,2,19950802,0654,  5.1963,  60.2593, 3449,   -999,    165.8,  15.6349,  35.3457,2,  35.3381,2,     56.0,2, 15.6092,     59.7,2,    19.98,2,    23.32,2,     0.00,2,     1.79,2,    1.029,2,    0.556,2, -999.000,9,-999.0000,9,  -999.00,9,   -999.0,9,  -999.00,9,-999.000,9,   -999.9,9,   -999.9,9,  -999.0, -999.00,-999.0000,-999.000,-999.000
    316N145_10,  I07N,   773,  1,     30,     30,2,19950802,0654,  5.1963,  60.2593, 3449,   -999,    200.5,  13.7717,  35.2154,2,  35.2161,2,     73.9,2, 13.7432,     83.3,2,    20.14,2,    22.75,2,     0.00,2,     1.68,2, -999.000,9, -999.000,9, -999.000,9,-999.0000,9,  -999.00,9,   -999.0,9,  -999.00,9,-999.000,9,   -999.9,9,   -999.9,9,  -999.0, -999.00,-999.0000,-999.000,-999.000
    316N145_10,  I07N,   773,  1,     29,     29,2,19950802,0654,  5.1963,  60.2593, 3449,   -999,    219.9,  13.2457,  35.1974,2,  35.2006,2,     85.8,2, 13.2151,     86.8,2,    20.83,2,    23.02,2,     0.00,2,     1.70,2,    0.979,2,    0.513,2, -999.000,9,-999.0000,9,  -999.00,9,   -999.0,9,  -999.00,9,-999.000,9,   -999.9,9,   -999.9,9,  -999.0, -999.00,-999.0000,-999.000,-999.000
    316N145_10,  I07N,   773,  1,     28,     28,2,19950802,0654,  5.1963,  60.2593, 3449,   -999,    275.9,  12.2827,  35.1563,2,  35.1585,2,     85.4,2, 12.2461,     87.4,2,    22.79,2,    24.31,2,     0.00,2,     1.78,2,    0.844,2,    0.438,2, -999.000,9,-999.0000,9,  -999.00,9,   -999.0,9,  -999.00,9,-999.000,9,   -999.9,9,   -999.9,9,  -999.0, -999.00,-999.0000,-999.000,-999.000
    316N145_10,  I07N,   773,  1,     27,     27,2,19950802,0654,  5.1963,  60.2593, 3449,   -999,    350.4,  11.5232,  35.1192,2,  35.1217,2,     80.6,2, 11.4785,     81.4,2,    25.84,2,    26.28,2,     0.00,2,     1.90,2,    0.653,2,    0.345,2, -999.000,9,-999.0000,9,  -999.00,9,   -999.0,9,  -999.00,9,-999.000,9,   -999.9,9,   -999.9,9,  -999.0, -999.00,-999.0000,-999.000,-999.000
    316N145_10,  I07N,   773,  1,     26,     26,2,19950802,0654,  5.1963,  60.2593, 3449,   -999,    451.0,  10.7031,  35.1294,2,  35.1308,2,     62.5,2, 10.6479,     61.6,2,    33.58,2,    29.59,2,     0.00,2,     2.18,2,    0.344,2,    0.189,2, -999.000,9,-999.0000,9,  -999.00,9,   -999.0,9,  -999.00,9,-999.000,9,   -999.9,9,   -999.9,9,  -999.0, -999.00,-999.0000,-999.000,-999.000
    316N145_10,  I07N,   773,  1,     25,     25,2,19950802,0654,  5.1963,  60.2593, 3449,   -999,    516.6,  10.6134,  35.2288,2,  35.2273,2,     56.9,2, 10.5502,     46.3,2,    39.69,2,    30.85,2,     0.00,2,     2.35,2,    0.223,6,    0.127,6, -999.000,9,-999.0000,9,  -999.00,9,   -999.0,9,  -999.00,9,-999.000,9,   -999.9,9,   -999.9,9,  -999.0, -999.00,-999.0000,-999.000,-999.000
    316N145_10,  I07N,   773,  1,     24,     24,2,19950802,0654,  5.1963,  60.2593, 3449,   -999,    551.5,  10.4231,  35.2563,2,  35.2565,2,     42.6,2, 10.3562,     41.1,2,    43.82,2,    31.53,2,     0.00,2,     2.43,2, -999.000,9, -999.000,9, -999.000,9,-999.0000,9,  -999.00,9,   -999.0,9,  -999.00,9,-999.000,9,   -999.9,9,   -999.9,9,  -999.0, -999.00,-999.0000,-999.000,-999.000
    316N145_10,  I07N,   773,  1,     23,     23,2,19950802,0654,  5.1963,  60.2593, 3449,   -999,    640.8,   9.9892,  35.2571,2,  35.2582,2,     40.3,2,  9.9131,     36.7,2,    49.74,2,    32.62,2,     0.00,2,     2.52,2,    0.110,2,    0.060,2, -999.000,9,-999.0000,9,  -999.00,9,   -999.0,9,  -999.00,9,-999.000,9,   -999.9,9,   -999.9,9,  -999.0, -999.00,-999.0000,-999.000,-999.000
    316N145_10,  I07N,   773,  1,     22,     22,2,19950802,0654,  5.1963,  60.2593, 3449,   -999,    701.9,   9.9209,  35.3102,2,  35.3113,2,     29.5,2,  9.8376,     29.5,2,    53.68,2,    33.26,2,     0.00,2,     2.60,2,    0.083,2,    0.050,2, -999.000,9,-999.0000,9,  -999.00,9,   -999.0,9,  -999.00,9,-999.000,9,   -999.9,9,   -999.9,9,  -999.0, -999.00,-999.0000,-999.000,-999.000
    316N145_10,  I07N,   773,  1,     21,     21,2,19950802,0654,  5.1963,  60.2593, 3449,   -999,    732.7,   9.2251,  35.1929,2,  35.1947,2,     33.1,2,  9.1418,     34.4,2,    57.26,2,    34.13,2,     0.00,2,     2.63,2,    0.052,2,    0.029,2, -999.000,9,-999.0000,9,  -999.00,9,   -999.0,9,  -999.00,9,-999.000,9,   -999.9,9,   -999.9,9,  -999.0, -999.00,-999.0000,-999.000,-999.000
    316N145_10,  I07N,   773,  1,     20,     20,2,19950802,0654,  5.1963,  60.2593, 3449,   -999,    773.1,   9.2724,  35.2717,2,  35.2722,2,     29.8,2,  9.1840,     30.9,2,    60.66,2,    34.09,2,     0.00,2,     2.66,2, -999.000,9, -999.000,9, -999.000,9,-999.0000,9,  -999.00,9,   -999.0,9,  -999.00,9,-999.000,9,   -999.9,9,   -999.9,9,  -999.0, -999.00,-999.0000,-999.000,-999.000
    316N145_10,  I07N,   773,  1,     19,     19,2,19950802,0654,  5.1963,  60.2593, 3449,   -999,    863.6,   8.2581,  35.2002,2,  35.1998,2,     31.9,2,  8.1652,     33.4,2,    71.12,2,    35.41,2,     0.00,2,     2.74,2,    0.026,2,    0.017,2, -999.000,9,-999.0000,9,  -999.00,9,   -999.0,9,  -999.00,9,-999.000,9,   -999.9,9,   -999.9,9,  -999.0, -999.00,-999.0000,-999.000,-999.000
    316N145_10,  I07N,   773,  1,     18,     18,2,19950802,0654,  5.1963,  60.2593, 3449,   -999,    959.2,   7.2797,  35.0950,2,  35.0956,2,     38.5,2,  7.1830,     40.0,2,    79.96,2,    36.38,2,     0.00,2,     2.79,2,    0.012,2,    0.005,2, -999.000,9,-999.0000,9,  -999.00,9,   -999.0,9,  -999.00,9,-999.000,9,   -999.9,9,   -999.9,9,  -999.0, -999.00,-999.0000,-999.000,-999.000
    316N145_10,  I07N,   773,  1,     17,     17,2,19950802,0654,  5.1963,  60.2593, 3449,   -999,   1049.8,   6.8097,  35.0583,2,  35.0595,2,     44.5,2,  6.7068,     44.9,2,    84.64,2,    36.61,2,     0.00,2,     2.81,2,    0.007,2,    0.002,2, -999.000,9,-999.0000,9,  -999.00,9,   -999.0,9,  -999.00,9,-999.000,9,   -999.9,9,   -999.9,9,  -999.0, -999.00,-999.0000,-999.000,-999.000
    316N145_10,  I07N,   773,  1,     16,     16,2,19950802,0654,  5.1963,  60.2593, 3449,   -999,   1200.1,   5.9996,  34.9942,2,  34.9972,2,     55.0,2,  5.8881,     55.4,2,    92.06,2,    36.76,2,     0.00,2,     2.80,2,    0.002,2,   -0.001,2, -999.000,9,-999.0000,9,  -999.00,9,   -999.0,9,  -999.00,9,-999.000,9,   -999.9,9,   -999.9,9,  -999.0, -999.00,-999.0000,-999.000,-999.000
    316N145_10,  I07N,   773,  1,     15,     15,2,19950802,0654,  5.1963,  60.2593, 3449,   -999,   1350.4,   5.2792,  34.9473,2,  34.9477,2,     66.0,2,  5.1596,     67.2,2,    98.59,2,    36.67,2,     0.00,2,     2.79,2,   -0.001,2,   -0.003,2, -999.000,9,-999.0000,9,  -999.00,9,   -999.0,9,  -999.00,9,-999.000,9,   -999.9,9,   -999.9,9,  -999.0, -999.00,-999.0000,-999.000,-999.000
    316N145_10,  I07N,   773,  1,     14,     14,2,19950802,0654,  5.1963,  60.2593, 3449,   -999,   1502.4,   4.7105,  34.9111,2,  34.9117,2,     78.8,2,  4.5823,     78.1,2,   104.23,2,    36.50,2,     0.00,2,     2.75,2,   -0.003,2,   -0.003,2, -999.000,9,-999.0000,9,  -999.00,9,   -999.0,9,  -999.00,9,-999.000,9,   -999.9,9,   -999.9,9,  -999.0, -999.00,-999.0000,-999.000,-999.000
    316N145_10,  I07N,   773,  1,     13,     13,2,19950802,0654,  5.1963,  60.2593, 3449,   -999,   1650.6,   3.9547,  34.8568,2,  34.8593,2,     94.9,2,  3.8215,     94.7,2,   110.99,2,    36.05,2,     0.00,2,     2.69,2,   -0.001,2,    0.005,2, -999.000,9,-999.0000,9,  -999.00,9,   -999.0,9,  -999.00,9,-999.000,9,   -999.9,9,   -999.9,9,  -999.0, -999.00,-999.0000,-999.000,-999.000
    316N145_10,  I07N,   773,  1,     12,     12,2,19950802,0654,  5.1963,  60.2593, 3449,   -999,   1801.4,   3.2554,  34.8207,2,  34.8228,2,    107.8,2,  3.1176,    110.4,2,   118.35,2,    35.70,2,     0.00,2,     2.64,2, -999.000,9, -999.000,9, -999.000,9,-999.0000,9,  -999.00,9,   -999.0,9,  -999.00,9,-999.000,9,   -999.9,9,   -999.9,9,  -999.0, -999.00,-999.0000,-999.000,-999.000
    316N145_10,  I07N,   773,  1,     11,     11,2,19950802,0654,  5.1963,  60.2593, 3449,   -999,   1954.2,   2.7804,  34.7934,2,  34.7957,2,    121.2,2,  2.6358,    122.3,2,   122.76,2,    35.34,2,     0.00,2,     2.59,2, -999.000,9, -999.000,9, -999.000,9,-999.0000,9,  -999.00,9,   -999.0,9,  -999.00,9,-999.000,9,   -999.9,9,   -999.9,9,  -999.0, -999.00,-999.0000,-999.000,-999.000
    316N145_10,  I07N,   773,  1,     10,     10,2,19950802,0654,  5.1963,  60.2593, 3449,   -999,   2101.0,   2.5614,  34.7784,2,  34.7790,2,    129.7,2,  2.4071,    129.9,2,   124.20,2,    35.07,2,     0.00,2,     2.55,2, -999.000,9, -999.000,9, -999.000,9,-999.0000,9,  -999.00,9,   -999.0,9,  -999.00,9,-999.000,9,   -999.9,9,   -999.9,9,  -999.0, -999.00,-999.0000,-999.000,-999.000
    316N145_10,  I07N,   773,  1,      9,      9,2,19950802,0654,  5.1963,  60.2593, 3449,   -999,   2201.1,   2.4401,  34.7740,2,  34.7749,2,    131.6,2,  2.2788,    132.5,2,   125.83,2,    35.03,2,     0.00,2,     2.54,2, -999.000,9, -999.000,9, -999.000,9,-999.0000,9,  -999.00,9,   -999.0,9,  -999.00,9,-999.000,9,   -999.9,9,   -999.9,9,  -999.0, -999.00,-999.0000,-999.000,-999.000
    316N145_10,  I07N,   773,  1,      8,      8,2,19950802,0654,  5.1963,  60.2593, 3449,   -999,   2379.0,   2.2254,  34.7644,2,  34.7649,2,    139.1,2,  2.0517,    138.6,2,   128.02,2,    34.86,2,     0.00,2,     2.51,2, -999.000,9, -999.000,9, -999.000,9,-999.0000,9,  -999.00,9,   -999.0,9,  -999.00,9,-999.000,9,   -999.9,9,   -999.9,9,  -999.0, -999.00,-999.0000,-999.000,-999.000
    316N145_10,  I07N,   773,  1,      7,      7,2,19950802,0654,  5.1963,  60.2593, 3449,   -999,   2551.9,   2.0908,  34.7579,2,  34.7590,2,    143.2,2,  1.9037,    143.6,2,   128.90,2,    34.69,2,     0.00,2,     2.49,2, -999.000,9, -999.000,9, -999.000,9,-999.0000,9,  -999.00,9,   -999.0,9,  -999.00,9,-999.000,9,   -999.9,9,   -999.9,9,  -999.0, -999.00,-999.0000,-999.000,-999.000
    316N145_10,  I07N,   773,  1,      6,      6,2,19950802,0654,  5.1963,  60.2593, 3449,   -999,   2750.0,   1.9461,  34.7500,2,  34.7508,2,    147.7,2,  1.7433,    148.8,2,   130.15,2,    34.51,2,     0.00,2,     2.47,2, -999.000,9, -999.000,9, -999.000,9,-999.0000,9,  -999.00,9,   -999.0,9,  -999.00,9,-999.000,9,   -999.9,9,   -999.9,9,  -999.0, -999.00,-999.0000,-999.000,-999.000
    316N145_10,  I07N,   773,  1,      5,      5,2,19950802,0654,  5.1963,  60.2593, 3449,   -999,   2950.4,   1.8501,  34.7449,2,  34.7455,2,    153.3,2,  1.6302,    152.7,2,   130.47,2,    34.34,2,     0.00,2,     2.45,2, -999.000,9, -999.000,9, -999.000,9,-999.0000,9,  -999.00,9,   -999.0,9,  -999.00,9,-999.000,9,   -999.9,9,   -999.9,9,  -999.0, -999.00,-999.0000,-999.000,-999.000
    316N145_10,  I07N,   773,  1,      4,      4,2,19950802,0654,  5.1963,  60.2593, 3449,   -999,   3151.2,   1.7630,  34.7422,2,  34.7417,2,    157.5,2,  1.5254,    157.1,2,   130.79,2,    34.16,2,     0.00,2,     2.43,2, -999.000,9, -999.000,9, -999.000,9,-999.0000,9,  -999.00,9,   -999.0,9,  -999.00,9,-999.000,9,   -999.9,9,   -999.9,9,  -999.0, -999.00,-999.0000,-999.000,-999.000
    316N145_10,  I07N,   773,  1,      3,      3,4,19950802,0654,  5.1963,  60.2593, 3449,   -999,   3298.8,   1.7177,  34.7395,2,-999.0000,9,    159.5,2,  1.4664,   -999.0,9,  -999.00,9,  -999.00,9,  -999.00,9,  -999.00,9, -999.000,9, -999.000,9, -999.000,9,-999.0000,9,  -999.00,9,   -999.0,9,  -999.00,9,-999.000,9,   -999.9,9,   -999.9,9,  -999.0, -999.00,-999.0000,-999.000,-999.000
    316N145_10,  I07N,   773,  1,      2,      2,2,19950802,0654,  5.1963,  60.2593, 3449,   -999,   3415.7,   1.6846,  34.7372,2,  34.7372,2,    161.9,2,  1.4223,    161.5,2,   131.10,2,    33.99,2,     0.00,2,     2.42,2, -999.000,9, -999.000,9, -999.000,9,-999.0000,9,  -999.00,9,   -999.0,9,  -999.00,9,-999.000,9,   -999.9,9,   -999.9,9,  -999.0, -999.00,-999.0000,-999.000,-999.000
    316N145_10,  I07N,   773,  1,      1,      1,2,19950802,0654,  5.1963,  60.2593, 3449,   -999,   3481.3,   1.6705,  34.7353,2,  34.7359,2,    162.9,2,  1.4018,    162.5,2,   131.61,2,    33.95,2,     0.00,2,     2.41,2, -999.000,9, -999.000,9, -999.000,9,-999.0000,9,  -999.00,9,   -999.0,9,  -999.00,9,-999.000,9,   -999.9,9,   -999.9,9,  -999.0, -999.00,-999.0000,-999.000,-999.000