BOTTLE,20080821WHPSIOSCD
EXPOCODE,SECT_ID,STNNBR,CASTNO,SAMPNO,BTLNBR,BTLNBR_FLAG_W,DATE,TIME,LATITUDE,LONGITUDE,DEPTH,CTDRAW,CTDPRS,CTDTMP,CTDSAL,CTDSAL_FLAG_W,SALNTY,SALNTY_FLAG_W,CTDOXY,CTDOXY_FLAG_W,THETA,OXYGEN,OXYGEN_FLAG_W,SILCAT,SILCAT_FLAG_W,NITRAT,NITRAT_FLAG_W,NITRIT,NITRIT_FLAG_W,PHSPHT,PHSPHT_FLAG_W,CFC-11,CFC-11_FLAG_W,CFC-12,CFC-12_FLAG_W,TRITUM,TRITUM_FLAG_W,HELIUM,HELIUM_FLAG_W,DELHE3,DELHE3_FLAG_W,DELC14,DELC14_FLAG_W,DELC13,DELC13_FLAG_W,NEON,NEON_FLAG_W,TCARBN,TCARBN_FLAG_W,ALKALI,ALKALI_FLAG_W,C14ERR,DELHER,HELIER,NEONER,TRITER
,,,,,,,,,,,,,DBAR,ITS-90,PSS-78,,PSS-78,,UMOL/KG,,DEG C,UMOL/KG,,UMOL/KG,,UMOL/KG,,UMOL/KG,,UMOL/KG,,PMOL/KG,,PMOL/KG,,TU,,NMOL/KG,,PERCNT,,/MILLE,,/MILLE,,NMOL/KG,,UMOL/KG,,UMOL/KG,,/MILLE,PERCNT,NMOL/KG,NMOL/KG,TU
    316N145_10,  I07N,   723,  1,     36,     36,2,19950719,2017,-11.1280,  53.6645, 4753,   -999,     10.5,  25.8918,  34.8035,2,  34.8071,2,    208.4,2, 25.8897,    205.2,2,     3.39,2,     0.04,2,     0.00,2,     0.16,2,    1.713,2,    1.001,2, -999.000,9,-999.0000,9,  -999.00,9,   -999.0,9,  -999.00,9,-999.000,9,   1943.9,2,   2276.9,2,  -999.0, -999.00,-999.0000,-999.000,-999.000
    316N145_10,  I07N,   723,  1,     35,     35,2,19950719,2017,-11.1280,  53.6645, 4753,   -999,     37.6,  25.8899,  34.8064,2,  34.8067,2,    205.6,2, 25.8818,    204.6,2,     3.38,2,     0.04,2,     0.00,2,     0.16,2,    1.706,2,    0.990,2, -999.000,9,-999.0000,9,  -999.00,9,   -999.0,9,  -999.00,9,-999.000,9,   -999.9,9,   -999.9,9,  -999.0, -999.00,-999.0000,-999.000,-999.000
    316N145_10,  I07N,   723,  1,     34,     34,2,19950719,2017,-11.1280,  53.6645, 4753,   -999,     62.5,  22.3690,  35.1942,2,  35.1964,2,    194.6,2, 22.3567,    183.2,2,     5.46,2,     2.92,2,     0.14,2,     0.36,2, -999.000,9, -999.000,9, -999.000,9,-999.0000,9,  -999.00,9,   -999.0,9,  -999.00,9,-999.000,9,   -999.9,9,   -999.9,9,  -999.0, -999.00,-999.0000,-999.000,-999.000
    316N145_10,  I07N,   723,  1,     33,     33,2,19950719,2017,-11.1280,  53.6645, 4753,   -999,     90.6,  18.8464,  35.3130,2,  35.3051,2,    144.8,2, 18.8305,    137.1,2,    11.22,2,    10.97,2,     0.05,2,     0.82,2,    1.669,2,    0.926,2, -999.000,9,-999.0000,9,  -999.00,9,   -999.0,9,  -999.00,9,-999.000,9,   -999.9,9,   -999.9,9,  -999.0, -999.00,-999.0000,-999.000,-999.000
    316N145_10,  I07N,   723,  1,     32,     32,2,19950719,2017,-11.1280,  53.6645, 4753,   -999,    130.9,  16.1037,  35.1963,2,  35.1930,2,    110.0,2, 16.0831,    113.6,2,    16.98,2,    16.95,2,     0.00,2,     1.21,2,    1.386,2,    0.760,2, -999.000,9,-999.0000,9,  -999.00,9,   -999.0,9,  -999.00,9,-999.000,9,   -999.9,9,   -999.9,9,  -999.0, -999.00,-999.0000,-999.000,-999.000
    316N145_10,  I07N,   723,  1,     31,     31,2,19950719,2017,-11.1280,  53.6645, 4753,   -999,    170.7,  14.7081,  35.1744,2,  35.1735,2,    126.8,2, 14.6828,    126.3,2,    17.49,2,    16.96,2,     0.00,2,     1.23,2, -999.000,9, -999.000,9, -999.000,9,-999.0000,9,  -999.00,9,   -999.0,9,  -999.00,9,-999.000,9,   -999.9,9,   -999.9,9,  -999.0, -999.00,-999.0000,-999.000,-999.000
    316N145_10,  I07N,   723,  1,     30,     30,2,19950719,2017,-11.1280,  53.6645, 4753,   -999,    200.2,  14.0847,  35.1892,2,  35.1838,2,    142.9,2, 14.0558,    143.7,2,    16.08,2,    15.69,2,     0.00,2,     1.15,2,    1.528,2,    0.812,2, -999.000,9,-999.0000,9,  -999.00,9,   -999.0,9,  -999.00,9,-999.000,9,   -999.9,9,   -999.9,9,  -999.0, -999.00,-999.0000,-999.000,-999.000
    316N145_10,  I07N,   723,  1,     29,     29,2,19950719,2017,-11.1280,  53.6645, 4753,   -999,    229.8,  13.1659,  35.0885,2,  35.0858,2,    133.4,2, 13.1341,    131.3,2,    18.69,2,    18.56,2,     0.00,2,     1.33,2,    1.326,2,    0.713,2, -999.000,9,-999.0000,9,  -999.00,9,   -999.0,9,  -999.00,9,-999.000,9,   -999.9,9,   -999.9,9,  -999.0, -999.00,-999.0000,-999.000,-999.000
    316N145_10,  I07N,   723,  1,     28,     28,2,19950719,2017,-11.1280,  53.6645, 4753,   -999,    280.2,  12.4936,  35.0511,2,  35.0491,2,    154.0,2, 12.4561,    146.6,2,    17.63,2,    18.08,2,     0.00,2,     1.32,2,    1.422,2,    0.745,2, -999.000,9,-999.0000,9,  -999.00,9,   -999.0,9,  -999.00,9,-999.000,9,   -999.9,9,   -999.9,9,  -999.0, -999.00,-999.0000,-999.000,-999.000
    316N145_10,  I07N,   723,  1,     27,     27,2,19950719,2017,-11.1280,  53.6645, 4753,   -999,    349.3,  10.9785,  34.9278,2,  34.9278,2,    178.3,2, 10.9353,    175.6,2,    15.16,2,    17.90,2,     0.00,2,     1.28,2,    1.528,2,    0.789,2, -999.000,9,-999.0000,9,  -999.00,9,   -999.0,9,  -999.00,9,-999.000,9,   -999.9,9,   -999.9,9,  -999.0, -999.00,-999.0000,-999.000,-999.000
    316N145_10,  I07N,   723,  1,     26,     26,2,19950719,2017,-11.1280,  53.6645, 4753,   -999,    402.9,  10.1402,  34.8407,2,  34.8410,2,    174.2,2, 10.0928,    175.4,2,    16.90,2,    19.67,2,     0.00,2,     1.40,2,    1.309,2,    0.698,2, -999.000,9,-999.0000,9,  -999.00,9,   -999.0,9,  -999.00,9,-999.000,9,   -999.9,9,   -999.9,9,  -999.0, -999.00,-999.0000,-999.000,-999.000
    316N145_10,  I07N,   723,  1,     25,     25,2,19950719,2017,-11.1280,  53.6645, 4753,   -999,    457.9,   9.2774,  34.7734,2,  34.7735,2,    156.3,2,  9.2263,    161.7,2,    22.84,2,    22.91,2,     0.00,2,     1.61,2,    0.947,2,    0.497,2, -999.000,9,-999.0000,9,  -999.00,9,   -999.0,9,  -999.00,9,-999.000,9,   -999.9,9,   -999.9,9,  -999.0, -999.00,-999.0000,-999.000,-999.000
    316N145_10,  I07N,   723,  1,     24,     24,2,19950719,2017,-11.1280,  53.6645, 4753,   -999,    538.2,   8.4886,  34.7351,2,  34.7356,2,    145.1,2,  8.4313,    148.4,2,    30.71,2,    25.79,2,     0.00,2,     1.83,2,    0.644,2,    0.327,2, -999.000,9,-999.0000,9,  -999.00,9,   -999.0,9,  -999.00,9,-999.000,9,   -999.9,9,   -999.9,9,  -999.0, -999.00,-999.0000,-999.000,-999.000
    316N145_10,  I07N,   723,  1,     23,     23,2,19950719,2017,-11.1280,  53.6645, 4753,   -999,    649.1,   7.5815,  34.7460,2,  34.7450,2,    117.5,2,  7.5163,    120.0,2,    46.65,2,    29.99,2,     0.00,2,     2.16,2,    0.286,2,    0.151,2, -999.000,9,-999.0000,9,  -999.00,9,   -999.0,9,  -999.00,9,-999.000,9,   -999.9,9,   -999.9,9,  -999.0, -999.00,-999.0000,-999.000,-999.000
    316N145_10,  I07N,   723,  1,     22,     22,2,19950719,2017,-11.1280,  53.6645, 4753,   -999,    719.1,   6.8221,  34.7107,2,  34.7116,2,    117.6,2,  6.7536,    117.8,2,    55.24,2,    31.47,2,     0.00,2,     2.31,2,    0.170,6,    0.088,6, -999.000,9,-999.0000,9,  -999.00,9,   -999.0,9,  -999.00,9,-999.000,9,   -999.9,9,   -999.9,9,  -999.0, -999.00,-999.0000,-999.000,-999.000
    316N145_10,  I07N,   723,  1,     21,     21,2,19950719,2017,-11.1280,  53.6645, 4753,   -999,    799.6,   6.4477,  34.7352,2,  34.7356,2,    104.1,2,  6.3732,    108.4,2,    63.33,2,    32.64,2,     0.00,2,     2.38,2,    0.107,2,    0.060,2, -999.000,9,-999.0000,9,  -999.00,9,   -999.0,9,  -999.00,9,-999.000,9,   -999.9,9,   -999.9,9,  -999.0, -999.00,-999.0000,-999.000,-999.000
    316N145_10,  I07N,   723,  1,     20,     20,2,19950719,2017,-11.1280,  53.6645, 4753,   -999,    896.3,   6.0748,  34.7643,2,  34.7644,2,     95.8,2,  5.9932,     96.4,2,    74.09,2,    34.09,2,     0.00,2,     2.51,2,    0.050,2,    0.019,2, -999.000,9,-999.0000,9,  -999.00,9,   -999.0,9,  -999.00,9,-999.000,9,   -999.9,9,   -999.9,9,  -999.0, -999.00,-999.0000,-999.000,-999.000
    316N145_10,  I07N,   723,  1,     19,     19,2,19950719,2017,-11.1280,  53.6645, 4753,   -999,   1001.9,   5.5624,  34.7744,2,  34.7740,2,     96.9,2,  5.4743,     95.2,2,    82.59,2,    34.78,2,     0.00,2,     2.57,2,    0.020,2,    0.013,2, -999.000,9,-999.0000,9,  -999.00,9,   -999.0,9,  -999.00,9,-999.000,9,   -999.9,9,   -999.9,9,  -999.0, -999.00,-999.0000,-999.000,-999.000
    316N145_10,  I07N,   723,  1,     18,     18,2,19950719,2017,-11.1280,  53.6645, 4753,   -999,   1102.9,   5.0756,  34.7604,2,  34.7597,2,     98.0,2,  4.9820,    104.0,2,    85.60,2,    34.60,2,     0.00,2,     2.55,2,    0.021,2,    0.010,2, -999.000,9,-999.0000,9,  -999.00,9,   -999.0,9,  -999.00,9,-999.000,9,   -999.9,9,   -999.9,9,  -999.0, -999.00,-999.0000,-999.000,-999.000
    316N145_10,  I07N,   723,  1,     17,     17,2,19950719,2017,-11.1280,  53.6645, 4753,   -999,   1206.4,   4.6256,  34.7374,2,  34.7377,2,    115.1,2,  4.5264,    112.3,2,    88.26,2,    34.52,2,     0.00,2,     2.55,2,    0.018,2,    0.008,2, -999.000,9,-999.0000,9,  -999.00,9,   -999.0,9,  -999.00,9,-999.000,9,   -999.9,9,   -999.9,9,  -999.0, -999.00,-999.0000,-999.000,-999.000
    316N145_10,  I07N,   723,  1,     16,     16,2,19950719,2017,-11.1280,  53.6645, 4753,   -999,   1302.7,   4.1023,  34.7120,2,  34.7132,2,    126.3,2,  3.9994,    125.4,2,    89.85,2,    34.26,2,     0.00,2,     2.50,2,    0.008,2,    0.007,2, -999.000,9,-999.0000,9,  -999.00,9,   -999.0,9,  -999.00,9,-999.000,9,   -999.9,9,   -999.9,9,  -999.0, -999.00,-999.0000,-999.000,-999.000
    316N145_10,  I07N,   723,  1,     15,     15,2,19950719,2017,-11.1280,  53.6645, 4753,   -999,   1401.8,   3.7387,  34.7044,2,  34.7042,2,    132.9,2,  3.6308,    133.1,2,    92.16,2,    34.04,2,     0.00,2,     2.47,2,    0.022,2,    0.002,2, -999.000,9,-999.0000,9,  -999.00,9,   -999.0,9,  -999.00,9,-999.000,9,   -999.9,9,   -999.9,9,  -999.0, -999.00,-999.0000,-999.000,-999.000
    316N145_10,  I07N,   723,  1,     14,     14,2,19950719,2017,-11.1280,  53.6645, 4753,   -999,   1603.6,   3.2960,  34.7252,2,  34.7253,2,    136.8,2,  3.1756,    137.4,2,   100.58,2,    33.91,2,     0.00,2,     2.45,2,   -0.003,2,   -0.003,2, -999.000,9,-999.0000,9,  -999.00,9,   -999.0,9,  -999.00,9,-999.000,9,   -999.9,9,   -999.9,9,  -999.0, -999.00,-999.0000,-999.000,-999.000
    316N145_10,  I07N,   723,  1,     13,     13,2,19950719,2017,-11.1280,  53.6645, 4753,   -999,   1798.2,   2.8441,  34.7302,2,  34.7297,2,    146.3,2,  2.7125,    145.5,2,   107.42,2,    33.74,2,     0.00,2,     2.44,2,    0.007,2,   -0.002,2, -999.000,9,-999.0000,9,  -999.00,9,   -999.0,9,  -999.00,9,-999.000,9,   -999.9,9,   -999.9,9,  -999.0, -999.00,-999.0000,-999.000,-999.000
    316N145_10,  I07N,   723,  1,     12,     12,2,19950719,2017,-11.1280,  53.6645, 4753,   -999,   2001.3,   2.4288,  34.7358,2,  34.7351,2,    153.1,2,  2.2855,    151.6,2,   115.41,2,    33.65,2,     0.00,2,     2.42,2,    0.001,2,    0.007,2, -999.000,9,-999.0000,9,  -999.00,9,   -999.0,9,  -999.00,9,-999.000,9,   -999.9,9,   -999.9,9,  -999.0, -999.00,-999.0000,-999.000,-999.000
    316N145_10,  I07N,   723,  1,     11,     11,2,19950719,2017,-11.1280,  53.6645, 4753,   -999,   2148.8,   2.2456,  34.7392,2,  34.7381,2,    153.9,2,  2.0923,    153.9,2,   119.42,2,    33.62,2,     0.00,2,     2.42,2, -999.000,9, -999.000,9, -999.000,9,-999.0000,9,  -999.00,9,   -999.0,9,  -999.00,9,-999.000,9,   -999.9,9,   -999.9,9,  -999.0, -999.00,-999.0000,-999.000,-999.000
    316N145_10,  I07N,   723,  1,     10,     10,2,19950719,2017,-11.1280,  53.6645, 4753,   -999,   2506.2,   2.0250,  34.7405,2,  34.7408,2,    156.2,2,  1.8435,    156.8,2,   125.47,2,    33.67,2,     0.00,2,     2.45,2, -999.000,9, -999.000,9, -999.000,9,-999.0000,9,  -999.00,9,   -999.0,9,  -999.00,9,-999.000,9,   -999.9,9,   -999.9,9,  -999.0, -999.00,-999.0000,-999.000,-999.000
    316N145_10,  I07N,   723,  1,      9,      9,2,19950719,2017,-11.1280,  53.6645, 4753,   -999,   2804.3,   1.8771,  34.7391,2,  34.7389,2,    159.8,2,  1.6706,    160.0,2,   128.60,2,    33.68,2,     0.00,2,     2.42,2, -999.000,9, -999.000,9, -999.000,9,-999.0000,9,  -999.00,9,   -999.0,9,  -999.00,9,-999.000,9,   -999.9,9,   -999.9,9,  -999.0, -999.00,-999.0000,-999.000,-999.000
    316N145_10,  I07N,   723,  1,      8,      8,2,19950719,2017,-11.1280,  53.6645, 4753,   -999,   3107.8,   1.7673,  34.7357,2,  34.7359,2,    162.5,2,  1.5339,    162.7,2,   130.63,2,    33.69,2,     0.00,2,     2.42,2, -999.000,9, -999.000,9, -999.000,9,-999.0000,9,  -999.00,9,   -999.0,9,  -999.00,9,-999.000,9,   -999.9,9,   -999.9,9,  -999.0, -999.00,-999.0000,-999.000,-999.000
    316N145_10,  I07N,   723,  1,      7,      7,2,19950719,2017,-11.1280,  53.6645, 4753,   -999,   3397.9,   1.6730,  34.7322,2,  34.7318,2,    167.8,2,  1.4128,    167.4,2,   130.98,2,    33.51,2,     0.00,2,     2.40,2, -999.000,9, -999.000,9, -999.000,9,-999.0000,9,  -999.00,9,   -999.0,9,  -999.00,9,-999.000,9,   -999.9,9,   -999.9,9,  -999.0, -999.00,-999.0000,-999.000,-999.000
    316N145_10,  I07N,   723,  1,      6,      6,2,19950719,2017,-11.1280,  53.6645, 4753,   -999,   3698.1,   1.5628,  34.7276,2,  34.7273,2,    173.7,2,  1.2743,    173.7,2,   131.15,2,    33.29,2,     0.00,2,     2.38,2, -999.000,9, -999.000,9, -999.000,9,-999.0000,9,  -999.00,9,   -999.0,9,  -999.00,9,-999.000,9,   -999.9,9,   -999.9,9,  -999.0, -999.00,-999.0000,-999.000,-999.000
    316N145_10,  I07N,   723,  1,      5,      5,2,19950719,2017,-11.1280,  53.6645, 4753,   -999,   3994.8,   1.3863,  34.7210,2,  34.7208,2,    183.6,2,  1.0710,    184.3,2,   129.27,2,    32.76,2,     0.00,2,     2.33,2, -999.000,9, -999.000,9, -999.000,9,-999.0000,9,  -999.00,9,   -999.0,9,  -999.00,9,-999.000,9,   -999.9,9,   -999.9,9,  -999.0, -999.00,-999.0000,-999.000,-999.000
    316N145_10,  I07N,   723,  1,      4,      4,2,19950719,2017,-11.1280,  53.6645, 4753,   -999,   4295.7,   1.1900,  34.7140,2,  34.7137,2,    195.2,2,  0.8475,    195.6,2,   127.21,2,    32.27,2,     0.00,2,     2.29,2, -999.000,9, -999.000,9, -999.000,9,-999.0000,9,  -999.00,9,   -999.0,9,  -999.00,9,-999.000,9,   -999.9,9,   -999.9,9,  -999.0, -999.00,-999.0000,-999.000,-999.000
    316N145_10,  I07N,   723,  1,      3,      3,2,19950719,2017,-11.1280,  53.6645, 4753,   -999,   4595.1,   1.1505,  34.7119,2,  34.7110,2,    199.7,2,  0.7755,    199.0,2,   126.64,2,    32.10,2,     0.00,2,     2.28,2, -999.000,9, -999.000,9, -999.000,9,-999.0000,9,  -999.00,9,   -999.0,9,  -999.00,9,-999.000,9,   -999.9,9,   -999.9,9,  -999.0, -999.00,-999.0000,-999.000,-999.000
    316N145_10,  I07N,   723,  1,      2,      2,2,19950719,2017,-11.1280,  53.6645, 4753,   -999,   4793.3,   1.1524,  34.7112,2,  34.7102,2,    200.5,2,  0.7544,    199.9,2,   126.25,2,    32.01,2,     0.00,2,     2.28,2, -999.000,9, -999.000,9, -999.000,9,-999.0000,9,  -999.00,9,   -999.0,9,  -999.00,9,-999.000,9,   -999.9,9,   -999.9,9,  -999.0, -999.00,-999.0000,-999.000,-999.000
    316N145_10,  I07N,   723,  1,      1,      1,2,19950719,2017,-11.1280,  53.6645, 4753,   -999,   4871.2,   1.1454,  34.7105,2,  34.7096,2,    199.7,2,  0.7384,    200.6,2,   126.42,2,    32.02,2,     0.00,2,     2.26,2, -999.000,9, -999.000,9, -999.000,9,-999.0000,9,  -999.00,9,   -999.0,9,  -999.00,9,-999.000,9,   -999.9,9,   -999.9,9,  -999.0, -999.00,-999.0000,-999.000,-999.000