BOTTLE,20080821WHPSIOSCD
EXPOCODE,SECT_ID,STNNBR,CASTNO,SAMPNO,BTLNBR,BTLNBR_FLAG_W,DATE,TIME,LATITUDE,LONGITUDE,DEPTH,CTDRAW,CTDPRS,CTDTMP,CTDSAL,CTDSAL_FLAG_W,SALNTY,SALNTY_FLAG_W,CTDOXY,CTDOXY_FLAG_W,THETA,OXYGEN,OXYGEN_FLAG_W,SILCAT,SILCAT_FLAG_W,NITRAT,NITRAT_FLAG_W,NITRIT,NITRIT_FLAG_W,PHSPHT,PHSPHT_FLAG_W,CFC-11,CFC-11_FLAG_W,CFC-12,CFC-12_FLAG_W,TRITUM,TRITUM_FLAG_W,HELIUM,HELIUM_FLAG_W,DELHE3,DELHE3_FLAG_W,DELC14,DELC14_FLAG_W,DELC13,DELC13_FLAG_W,NEON,NEON_FLAG_W,TCARBN,TCARBN_FLAG_W,ALKALI,ALKALI_FLAG_W,C14ERR,DELHER,HELIER,NEONER,TRITER
,,,,,,,,,,,,,DBAR,ITS-90,PSS-78,,PSS-78,,UMOL/KG,,DEG C,UMOL/KG,,UMOL/KG,,UMOL/KG,,UMOL/KG,,UMOL/KG,,PMOL/KG,,PMOL/KG,,TU,,NMOL/KG,,PERCNT,,/MILLE,,/MILLE,,NMOL/KG,,UMOL/KG,,UMOL/KG,,/MILLE,PERCNT,NMOL/KG,NMOL/KG,TU
    316N145_10,  I07N,   824,  1,     36,     36,2,19950815,1340, 22.1337,  62.4003, 2909,   -999,      4.0,  25.4727,  36.4436,2,  36.4436,2,    197.0,2, 25.4721,    194.4,2,     4.34,2,     5.08,2,     0.21,2,     0.76,2,    1.797,2,    1.026,2, -999.000,9,-999.0000,9,  -999.00,9,   -999.0,9,  -999.00,9,-999.000,9,   2082.1,2,   2380.2,2,  -999.0, -999.00,-999.0000,-999.000,-999.000
    316N145_10,  I07N,   824,  1,     35,     35,2,19950815,1340, 22.1337,  62.4003, 2909,   -999,     31.2,  24.3086,  36.5348,2,  36.5316,2,    152.1,2, 24.3022,    132.0,2,     6.03,2,     8.73,2,     0.66,2,     1.01,2, -999.000,9, -999.000,9, -999.000,9,-999.0000,9,  -999.00,9,   -999.0,9,  -999.00,9,-999.000,9,   2126.6,2,   2386.8,2,  -999.0, -999.00,-999.0000,-999.000,-999.000
    316N145_10,  I07N,   824,  1,     34,     34,2,19950815,1340, 22.1337,  62.4003, 2909,   -999,     51.3,  23.3419,  36.5340,2,  36.5314,2,    100.6,2, 23.3315,     96.8,2,     7.73,2,    14.44,2,     0.15,2,     1.28,2,    1.747,2,    0.991,2, -999.000,9,-999.0000,9,  -999.00,9,   -999.0,9,  -999.00,9,-999.000,9,   2156.1,2,   2380.2,2,  -999.0, -999.00,-999.0000,-999.000,-999.000
    316N145_10,  I07N,   824,  1,     33,     33,2,19950815,1340, 22.1337,  62.4003, 2909,   -999,     76.2,  22.3287,  36.3978,2,  36.3813,2,     59.6,2, 22.3136,     46.7,2,    11.64,2,    19.56,2,     0.08,2,     1.70,2, -999.000,9, -999.000,9, -999.000,9,-999.0000,9,  -999.00,9,   -999.0,9,  -999.00,9,-999.000,9,   2195.2,2,   2371.1,2,  -999.0, -999.00,-999.0000,-999.000,-999.000
    316N145_10,  I07N,   824,  1,     32,     32,2,19950815,1340, 22.1337,  62.4003, 2909,   -999,     99.9,  21.0346,  36.2703,2,  36.2641,2,     19.8,2, 21.0156,     12.6,2,    15.05,2,    22.24,2,     0.04,2,     2.00,2,    1.328,2,    0.924,2, -999.000,9,-999.0000,9,  -999.00,9,   -999.0,9,  -999.00,9,-999.000,9,   2225.0,2,   2358.3,2,  -999.0, -999.00,-999.0000,-999.000,-999.000
    316N145_10,  I07N,   824,  1,     31,     31,2,19950815,1340, 22.1337,  62.4003, 2909,   -999,    125.9,  20.2873,  36.2997,2,  36.3054,2,      9.8,2, 20.2638,     11.6,2,    17.42,2,    21.79,2,     0.02,2,     2.07,2,    1.162,2,    0.919,2, -999.000,9,-999.0000,9,  -999.00,9,   -999.0,9,  -999.00,9,-999.000,9,   2233.1,2,   2364.1,2,  -999.0, -999.00,-999.0000,-999.000,-999.000
    316N145_10,  I07N,   824,  1,     30,     30,2,19950815,1340, 22.1337,  62.4003, 2909,   -999,    159.4,  19.9203,  36.6853,2,  36.6569,2,     28.2,2, 19.8908,     26.8,2,    18.77,2,    19.58,2,     0.02,2,     1.93,2,    1.105,2,    1.838,3, -999.000,9,-999.0000,9,  -999.00,9,   -999.0,9,  -999.00,9,-999.000,9,   2234.1,2,   2375.2,3,  -999.0, -999.00,-999.0000,-999.000,-999.000
    316N145_10,  I07N,   824,  1,     29,     29,2,19950815,1340, 22.1337,  62.4003, 2909,   -999,    198.8,  17.7720,  36.3486,2,  36.3475,2,     12.0,2, 17.7380,     12.5,2,    23.03,2,    21.19,2,     0.00,2,     2.12,2,    0.837,2,    0.628,2, -999.000,9,-999.0000,9,  -999.00,9,   -999.0,9,  -999.00,9,-999.000,9,   2249.0,2,   2361.2,2,  -999.0, -999.00,-999.0000,-999.000,-999.000
    316N145_10,  I07N,   824,  1,     28,     28,2,19950815,1340, 22.1337,  62.4003, 2909,   -999,    250.5,  16.2824,  36.1705,2,  36.1724,2,      1.8,2, 16.2421,      4.5,2,    26.95,2,    22.32,2,     0.00,2,     2.26,2,    0.636,2,    0.417,2, -999.000,9,-999.0000,9,  -999.00,9,   -999.0,9,  -999.00,9,-999.000,9,   2263.3,2,   2355.6,2,  -999.0, -999.00,-999.0000,-999.000,-999.000
    316N145_10,  I07N,   824,  1,     27,     27,2,19950815,1340, 22.1337,  62.4003, 2909,   -999,    300.9,  15.6967,  36.1909,2,  36.1809,2,      6.9,2, 15.6493,      7.2,2,    28.30,2,    23.07,2,     0.00,2,     2.26,2,    0.603,2,    0.419,2, -999.000,9,-999.0000,9,  -999.00,9,   -999.0,9,  -999.00,9,-999.000,9,   2264.7,2,   2360.9,2,  -999.0, -999.00,-999.0000,-999.000,-999.000
    316N145_10,  I07N,   824,  1,     26,     26,2,19950815,1340, 22.1337,  62.4003, 2909,   -999,    350.5,  14.3078,  35.9555,2,  35.9441,2,      2.0,2, 14.2559,      3.0,2,    32.73,2,    24.67,2,     0.00,2,     2.39,2,    0.400,2,    0.249,2, -999.000,9,-999.0000,9,  -999.00,9,   -999.0,9,  -999.00,9,-999.000,9,   2271.9,2,   2349.2,2,  -999.0, -999.00,-999.0000,-999.000,-999.000
    316N145_10,  I07N,   824,  1,     25,     25,2,19950815,1340, 22.1337,  62.4003, 2909,   -999,    380.8,  14.1868,  36.0127,2,  36.0108,2,      1.5,2, 14.1306,      2.5,2,    34.93,2,    23.54,2,     0.00,2,     2.45,2,    0.363,2,    0.228,2, -999.000,9,-999.0000,9,  -999.00,9,   -999.0,9,  -999.00,9,-999.000,9,   2275.7,2,   2358.9,2,  -999.0, -999.00,-999.0000,-999.000,-999.000
    316N145_10,  I07N,   824,  1,     24,     24,2,19950815,1340, 22.1337,  62.4003, 2909,   -999,    449.4,  13.3312,  35.8686,2,  35.8684,2,      1.5,2, 13.2674,      1.0,2,    39.36,2,    23.84,2,     0.22,2,     2.54,2,    0.233,2,    0.144,2, -999.000,9,-999.0000,9,  -999.00,9,   -999.0,9,  -999.00,9,-999.000,9,   2281.0,2,   2350.7,2,  -999.0, -999.00,-999.0000,-999.000,-999.000
    316N145_10,  I07N,   824,  1,     23,     23,2,19950815,1340, 22.1337,  62.4003, 2909,   -999,    499.9,  12.8711,  35.8062,2,  35.8058,2,      1.6,2, 12.8016,      1.1,2,    42.08,2,    24.40,2,     0.32,2,     2.58,2,    0.177,2,    0.109,2, -999.000,9,-999.0000,9,  -999.00,9,   -999.0,9,  -999.00,9,-999.000,9,   2283.8,2,   2356.4,2,  -999.0, -999.00,-999.0000,-999.000,-999.000
    316N145_10,  I07N,   824,  1,     22,     22,2,19950815,1340, 22.1337,  62.4003, 2909,   -999,    598.2,  11.8722,  35.6781,2,  35.6791,2,      1.7,2, 11.7929,      1.8,2,    48.05,2,    28.21,2,     0.00,2,     2.65,2,    0.100,2,    0.053,2, -999.000,9,-999.0000,9,  -999.00,9,   -999.0,9,  -999.00,9,-999.000,9,   2285.5,2,   2350.0,2,  -999.0, -999.00,-999.0000,-999.000,-999.000
    316N145_10,  I07N,   824,  1,     21,     21,2,19950815,1340, 22.1337,  62.4003, 2909,   -999,    664.0,  11.4007,  35.6378,2,  35.6385,2,      1.7,2, 11.3148,      1.2,2,    52.82,2,    29.10,2,     0.00,2,     2.71,2,    0.062,2,    0.043,2, -999.000,9,-999.0000,9,  -999.00,9,   -999.0,9,  -999.00,9,-999.000,9,   2291.6,2,   2358.4,2,  -999.0, -999.00,-999.0000,-999.000,-999.000
    316N145_10,  I07N,   824,  1,     20,     20,2,19950815,1340, 22.1337,  62.4003, 2909,   -999,    699.0,  11.1115,  35.6195,2,  35.6164,2,      1.8,2, 11.0224,      2.4,2,    55.20,2,    30.76,2,     0.00,2,     2.73,2,    0.059,2,    0.035,2, -999.000,9,-999.0000,9,  -999.00,9,   -999.0,9,  -999.00,9,-999.000,9,   2292.8,2,   2355.5,2,  -999.0, -999.00,-999.0000,-999.000,-999.000
    316N145_10,  I07N,   824,  1,     19,     19,2,19950815,1340, 22.1337,  62.4003, 2909,   -999,    800.2,  10.3599,  35.5532,2,  35.5514,2,      1.9,2, 10.2617,      1.8,2,    62.38,2,    32.42,2,     0.00,2,     2.80,2,    0.035,2,    0.022,2, -999.000,9,-999.0000,9,  -999.00,9,   -999.0,9,  -999.00,9,-999.000,9,   2282.0,3,   2364.4,2,  -999.0, -999.00,-999.0000,-999.000,-999.000
    316N145_10,  I07N,   824,  1,     18,     18,2,19950815,1340, 22.1337,  62.4003, 2909,   -999,    900.7,   9.5794,  35.4794,2,  35.4826,2,      2.0,2,  9.4734,      2.2,2,    69.41,2,    34.28,2,     0.00,2,     2.87,2,    0.022,2,    0.013,2, -999.000,9,-999.0000,9,  -999.00,9,   -999.0,9,  -999.00,9,-999.000,9,   2294.2,3,   2370.4,2,  -999.0, -999.00,-999.0000,-999.000,-999.000
    316N145_10,  I07N,   824,  1,     17,     17,2,19950815,1340, 22.1337,  62.4003, 2909,   -999,   1001.3,   8.7304,  35.3938,2,  35.3940,2,      2.1,2,  8.6181,      2.6,2,    76.97,2,    36.15,2,     0.00,2,     2.96,2, -999.000,9, -999.000,9, -999.000,9,-999.0000,9,  -999.00,9,   -999.0,9,  -999.00,9,-999.000,9,   2322.1,2,   2372.0,2,  -999.0, -999.00,-999.0000,-999.000,-999.000
    316N145_10,  I07N,   824,  1,     16,     16,2,19950815,1340, 22.1337,  62.4003, 2909,   -999,   1099.9,   8.1347,  35.3304,2,  35.3279,2,      3.8,2,  8.0155,      4.1,2,    82.49,2,    37.25,2,     0.00,2,     3.02,2,    0.007,2,    0.006,2, -999.000,9,-999.0000,9,  -999.00,9,   -999.0,9,  -999.00,9,-999.000,9,   2328.4,2,   2379.9,2,  -999.0, -999.00,-999.0000,-999.000,-999.000
    316N145_10,  I07N,   824,  1,     15,     15,2,19950815,1340, 22.1337,  62.4003, 2909,   -999,   1199.9,   7.3634,  35.2465,2,  35.2447,2,      8.6,2,  7.2395,      8.9,2,    89.41,2,    38.22,2,     0.00,2,     3.05,2, -999.000,9, -999.000,9, -999.000,9,-999.0000,9,  -999.00,9,   -999.0,9,  -999.00,9,-999.000,9,   2336.4,2,   2381.1,2,  -999.0, -999.00,-999.0000,-999.000,-999.000
    316N145_10,  I07N,   824,  1,     14,     14,2,19950815,1340, 22.1337,  62.4003, 2909,   -999,   1299.2,   6.6634,  35.1721,2,  35.1746,2,     15.6,2,  6.5351,     15.9,2,    95.68,2,    38.65,2,     0.00,2,     3.07,2,    0.006,2,    0.003,2, -999.000,9,-999.0000,9,  -999.00,9,   -999.0,9,  -999.00,9,-999.000,9,   2341.2,2,   2389.2,2,  -999.0, -999.00,-999.0000,-999.000,-999.000
    316N145_10,  I07N,   824,  1,     13,     13,2,19950815,1340, 22.1337,  62.4003, 2909,   -999,   1400.2,   5.9765,  35.1043,2,  35.1044,2,     26.3,2,  5.8445,     26.1,2,   102.88,2,    38.75,2,     0.00,2,     3.06,2, -999.000,9, -999.000,9, -999.000,9,-999.0000,9,  -999.00,9,   -999.0,9,  -999.00,9,-999.000,9,   2323.5,3,   2380.8,3,  -999.0, -999.00,-999.0000,-999.000,-999.000
    316N145_10,  I07N,   824,  1,     12,     12,2,19950815,1340, 22.1337,  62.4003, 2909,   -999,   1500.0,   5.2529,  35.0345,2,  35.0356,2,     36.8,2,  5.1186,     36.5,2,   110.13,2,    38.80,2,     0.00,2,     3.04,2,    0.001,2,    0.001,2, -999.000,9,-999.0000,9,  -999.00,9,   -999.0,9,  -999.00,9,-999.000,9,   2349.1,2,   2404.2,2,  -999.0, -999.00,-999.0000,-999.000,-999.000
    316N145_10,  I07N,   824,  1,     11,     11,2,19950815,1340, 22.1337,  62.4003, 2909,   -999,   1597.9,   4.7077,  34.9823,2,  34.9824,2,     48.1,2,  4.5701,     47.6,2,   116.21,2,    38.61,2,     0.00,2,     3.00,2, -999.000,9, -999.000,9, -999.000,9,-999.0000,9,  -999.00,9,   -999.0,9,  -999.00,9,-999.000,9,   2350.6,2,   2406.2,2,  -999.0, -999.00,-999.0000,-999.000,-999.000
    316N145_10,  I07N,   824,  1,     10,     10,2,19950815,1340, 22.1337,  62.4003, 2909,   -999,   1699.2,   4.2357,  34.9398,2,  34.9395,2,     57.9,2,  4.0942,     56.3,2,   121.26,2,    38.51,2,     0.00,2,     3.00,2,    0.003,2,    0.002,2, -999.000,9,-999.0000,9,  -999.00,9,   -999.0,9,  -999.00,9,-999.000,9,   2353.2,2,   2414.9,2,  -999.0, -999.00,-999.0000,-999.000,-999.000
    316N145_10,  I07N,   824,  1,      9,      9,2,19950815,1340, 22.1337,  62.4003, 2909,   -999,   1800.0,   3.7145,  34.8942,2,  34.8945,2,     68.1,2,  3.5704,     67.2,2,   126.54,2,    38.27,2,     0.00,2,     2.93,2, -999.000,9, -999.000,9, -999.000,9,-999.0000,9,  -999.00,9,   -999.0,9,  -999.00,9,-999.000,9,   2354.8,2,   2413.8,2,  -999.0, -999.00,-999.0000,-999.000,-999.000
    316N145_10,  I07N,   824,  1,      8,      8,2,19950815,1340, 22.1337,  62.4003, 2909,   -999,   1900.1,   3.3787,  34.8653,2,  34.8639,2,     77.0,2,  3.2301,     75.7,2,   130.21,2,    38.07,2,     0.00,2,     2.89,2,    0.001,2,    0.001,2, -999.000,9,-999.0000,9,  -999.00,9,   -999.0,9,  -999.00,9,-999.000,9,   2355.0,2,   2425.5,2,  -999.0, -999.00,-999.0000,-999.000,-999.000
    316N145_10,  I07N,   824,  1,      7,      7,2,19950815,1340, 22.1337,  62.4003, 2909,   -999,   2000.8,   3.0486,  34.8371,2,  34.8370,2,     85.8,2,  2.8956,     84.8,2,   133.53,2,    37.74,2,     0.00,2,     2.85,2, -999.000,9, -999.000,9, -999.000,9,-999.0000,9,  -999.00,9,   -999.0,9,  -999.00,9,-999.000,9,   2354.8,2,   2426.1,2,  -999.0, -999.00,-999.0000,-999.000,-999.000
    316N145_10,  I07N,   824,  1,      6,      6,2,19950815,1340, 22.1337,  62.4003, 2909,   -999,   2204.0,   2.6249,  34.8036,2,  34.8022,2,     97.8,2,  2.4602,     96.8,2,   138.39,2,    37.40,2,     0.00,2,     2.76,2,    0.000,2,   -0.001,2, -999.000,9,-999.0000,9,  -999.00,9,   -999.0,9,  -999.00,9,-999.000,9,   2355.0,2,   2435.4,2,  -999.0, -999.00,-999.0000,-999.000,-999.000
    316N145_10,  I07N,   824,  1,      5,      5,2,19950815,1340, 22.1337,  62.4003, 2909,   -999,   2401.8,   2.3029,  34.7800,2,  34.7785,2,    105.3,2,  2.1257,    105.3,2,   142.36,2,    37.01,2,     0.00,2,     2.73,2,   -0.001,2,    0.000,2, -999.000,9,-999.0000,9,  -999.00,9,   -999.0,9,  -999.00,9,-999.000,9,   2356.6,2,   2438.6,2,  -999.0, -999.00,-999.0000,-999.000,-999.000
    316N145_10,  I07N,   824,  1,      4,      4,2,19950815,1340, 22.1337,  62.4003, 2909,   -999,   2598.4,   2.0692,  34.7632,2,  34.7616,2,    110.9,2,  1.8782,    111.0,2,   145.60,2,    36.87,2,     0.00,2,     2.69,2,    0.000,2,    0.002,2, -999.000,9,-999.0000,9,  -999.00,9,   -999.0,9,  -999.00,9,-999.000,9,   2359.6,2,   2449.3,2,  -999.0, -999.00,-999.0000,-999.000,-999.000
    316N145_10,  I07N,   824,  1,      3,      3,2,19950815,1340, 22.1337,  62.4003, 2909,   -999,   2796.7,   1.8929,  34.7512,2,  34.7488,2,    115.6,2,  1.6868,    115.8,2,   148.08,2,    36.67,2,     0.00,2,     2.66,2,    0.003,2,    0.006,2, -999.000,9,-999.0000,9,  -999.00,9,   -999.0,9,  -999.00,9,-999.000,9,   2363.7,2,   2451.7,2,  -999.0, -999.00,-999.0000,-999.000,-999.000
    316N145_10,  I07N,   824,  1,      2,      2,2,19950815,1340, 22.1337,  62.4003, 2909,   -999,   2919.1,   1.8108,  34.7459,2,  34.7449,2,    116.8,2,  1.5948,    117.7,2,   149.80,2,    36.63,2,     0.00,2,     2.65,2,    0.003,2,    0.007,2, -999.000,9,-999.0000,9,  -999.00,9,   -999.0,9,  -999.00,9,-999.000,9,   2365.5,2,   2461.5,2,  -999.0, -999.00,-999.0000,-999.000,-999.000
    316N145_10,  I07N,   824,  1,      1,      1,2,19950815,1340, 22.1337,  62.4003, 2909,   -999,   2942.9,   1.7670,  34.7433,2,  34.7420,2,    117.6,2,  1.5496,    117.9,2,   150.75,2,    36.58,2,     0.00,2,     2.66,2,    0.005,2,    0.015,2, -999.000,9,-999.0000,9,  -999.00,9,   -999.0,9,  -999.00,9,-999.000,9,   2367.2,2,   2459.9,2,  -999.0, -999.00,-999.0000,-999.000,-999.000