BOTTLE,20080821WHPSIOSCD
EXPOCODE,SECT_ID,STNNBR,CASTNO,SAMPNO,BTLNBR,BTLNBR_FLAG_W,DATE,TIME,LATITUDE,LONGITUDE,DEPTH,CTDRAW,CTDPRS,CTDTMP,CTDSAL,CTDSAL_FLAG_W,SALNTY,SALNTY_FLAG_W,CTDOXY,CTDOXY_FLAG_W,THETA,OXYGEN,OXYGEN_FLAG_W,SILCAT,SILCAT_FLAG_W,NITRAT,NITRAT_FLAG_W,NITRIT,NITRIT_FLAG_W,PHSPHT,PHSPHT_FLAG_W,CFC-11,CFC-11_FLAG_W,CFC-12,CFC-12_FLAG_W,TRITUM,TRITUM_FLAG_W,HELIUM,HELIUM_FLAG_W,DELHE3,DELHE3_FLAG_W,DELC14,DELC14_FLAG_W,DELC13,DELC13_FLAG_W,NEON,NEON_FLAG_W,TCARBN,TCARBN_FLAG_W,ALKALI,ALKALI_FLAG_W,C14ERR,DELHER,HELIER,NEONER,TRITER
,,,,,,,,,,,,,DBAR,ITS-90,PSS-78,,PSS-78,,UMOL/KG,,DEG C,UMOL/KG,,UMOL/KG,,UMOL/KG,,UMOL/KG,,UMOL/KG,,PMOL/KG,,PMOL/KG,,TU,,NMOL/KG,,PERCNT,,/MILLE,,/MILLE,,NMOL/KG,,UMOL/KG,,UMOL/KG,,/MILLE,PERCNT,NMOL/KG,NMOL/KG,TU
    316N145_10,  I07N,   725,  1,     36,     36,2,19950720,0920,-10.3837,  52.7675, 4442,   -999,      7.6,  26.3023,  34.9437,2,  34.9431,2,    204.7,2, 26.3008,    202.1,2,     3.88,2,     0.37,2,     0.02,2,     0.19,2, -999.000,9, -999.000,9, -999.000,9,-999.0000,9,  -999.00,9,   -999.0,9,  -999.00,9,-999.000,9,   1955.5,2,   2290.1,2,  -999.0, -999.00,-999.0000,-999.000,-999.000
    316N145_10,  I07N,   725,  1,     35,     35,2,19950720,0920,-10.3837,  52.7675, 4442,   -999,     33.8,  26.2944,  34.9403,2,  34.9425,2,    202.3,2, 26.2871,    201.6,2,     3.86,2,     0.32,2,     0.02,2,     0.19,2, -999.000,9, -999.000,9, -999.000,9,-999.0000,9,  -999.00,9,   -999.0,9,  -999.00,9,-999.000,9,   -999.9,9,   -999.9,9,  -999.0, -999.00,-999.0000,-999.000,-999.000
    316N145_10,  I07N,   725,  1,     34,     34,2,19950720,0920,-10.3837,  52.7675, 4442,   -999,     83.5,  23.6973,  35.1482,2,  35.1490,2,    184.9,2, 23.6801,    180.4,2,     5.94,2,     3.29,2,     0.19,2,     0.40,2, -999.000,9, -999.000,9, -999.000,9,-999.0000,9,  -999.00,9,   -999.0,9,  -999.00,9,-999.000,9,   -999.9,9,   -999.9,9,  -999.0, -999.00,-999.0000,-999.000,-999.000
    316N145_10,  I07N,   725,  1,     33,     33,2,19950720,0920,-10.3837,  52.7675, 4442,   -999,     98.6,  21.7312,  35.2334,2,  35.2515,2,    162.8,2, 21.7121,    163.8,2,     7.50,2,     5.79,2,     0.39,2,     0.56,2, -999.000,9, -999.000,9, -999.000,9,-999.0000,9,  -999.00,9,   -999.0,9,  -999.00,9,-999.000,9,   -999.9,9,   -999.9,9,  -999.0, -999.00,-999.0000,-999.000,-999.000
    316N145_10,  I07N,   725,  1,     32,     32,2,19950720,0920,-10.3837,  52.7675, 4442,   -999,    134.0,  17.4244,  35.2742,2,  35.2482,2,    116.9,2, 17.4021,    119.4,2,    14.82,2,    14.94,2,     0.02,2,     1.08,2, -999.000,9, -999.000,9, -999.000,9,-999.0000,9,  -999.00,9,   -999.0,9,  -999.00,9,-999.000,9,   -999.9,9,   -999.9,9,  -999.0, -999.00,-999.0000,-999.000,-999.000
    316N145_10,  I07N,   725,  1,     31,     31,2,19950720,0920,-10.3837,  52.7675, 4442,   -999,    158.3,  15.6875,  35.1638,2,  35.1596,2,    102.5,2, 15.6629,    106.4,2,    17.42,2,    18.58,2,     0.01,2,     1.32,2, -999.000,9, -999.000,9, -999.000,9,-999.0000,9,  -999.00,9,   -999.0,9,  -999.00,9,-999.000,9,   -999.9,9,   -999.9,9,  -999.0, -999.00,-999.0000,-999.000,-999.000
    316N145_10,  I07N,   725,  1,     30,     30,2,19950720,0920,-10.3837,  52.7675, 4442,   -999,    204.1,  14.1357,  35.1152,2,  35.1138,2,    124.4,2, 14.1062,    111.5,2,    19.32,2,    19.51,2,     0.00,2,     1.37,2, -999.000,9, -999.000,9, -999.000,9,-999.0000,9,  -999.00,9,   -999.0,9,  -999.00,9,-999.000,9,   -999.9,9,   -999.9,9,  -999.0, -999.00,-999.0000,-999.000,-999.000
    316N145_10,  I07N,   725,  1,     29,     29,2,19950720,0920,-10.3837,  52.7675, 4442,   -999,    251.5,  12.8804,  35.0643,2,  35.0661,2,    129.3,2, 12.8461,    123.9,2,    18.95,2,    19.82,2,     0.00,2,     1.40,2, -999.000,9, -999.000,9, -999.000,9,-999.0000,9,  -999.00,9,   -999.0,9,  -999.00,9,-999.000,9,   -999.9,9,   -999.9,9,  -999.0, -999.00,-999.0000,-999.000,-999.000
    316N145_10,  I07N,   725,  1,     28,     28,2,19950720,0920,-10.3837,  52.7675, 4442,   -999,    297.0,  11.7220,  34.9919,2,  34.9912,2,    146.2,2, 11.6838,    141.9,2,    19.10,2,    19.96,2,     0.00,2,     1.42,2, -999.000,9, -999.000,9, -999.000,9,-999.0000,9,  -999.00,9,   -999.0,9,  -999.00,9,-999.000,9,   -999.9,9,   -999.9,9,  -999.0, -999.00,-999.0000,-999.000,-999.000
    316N145_10,  I07N,   725,  1,     27,     27,2,19950720,0920,-10.3837,  52.7675, 4442,   -999,    329.2,  11.2485,  34.9551,2,  34.9541,2,    150.6,2, 11.2073,    147.6,2,    19.08,2,    20.31,2,     0.00,2,     1.43,2, -999.000,9, -999.000,9, -999.000,9,-999.0000,9,  -999.00,9,   -999.0,9,  -999.00,9,-999.000,9,   -999.9,9,   -999.9,9,  -999.0, -999.00,-999.0000,-999.000,-999.000
    316N145_10,  I07N,   725,  1,     26,     26,9,19950720,0920,-10.3837,  52.7675, 4442,   -999,    399.9,   9.8467,  34.8371,2,-999.0000,9,    138.7,2,  9.8005,   -999.0,9,  -999.00,9,  -999.00,9,  -999.00,9,  -999.00,9, -999.000,9, -999.000,9, -999.000,9,-999.0000,9,  -999.00,9,   -999.0,9,  -999.00,9,-999.000,9,   -999.9,9,   -999.9,9,  -999.0, -999.00,-999.0000,-999.000,-999.000
    316N145_10,  I07N,   725,  1,     25,     25,2,19950720,0920,-10.3837,  52.7675, 4442,   -999,    483.5,   8.8373,  34.7808,2,  34.7805,2,    128.9,2,  8.7848,    133.1,2,    32.69,2,    26.38,2,     0.00,2,     1.87,2, -999.000,9, -999.000,9, -999.000,9,-999.0000,9,  -999.00,9,   -999.0,9,  -999.00,9,-999.000,9,   -999.9,9,   -999.9,9,  -999.0, -999.00,-999.0000,-999.000,-999.000
    316N145_10,  I07N,   725,  1,     24,     24,2,19950720,0920,-10.3837,  52.7675, 4442,   -999,    580.4,   7.8499,  34.7334,2,  34.7322,2,    127.8,2,  7.7907,    130.5,2,    41.06,2,    28.41,2,     0.00,2,     2.02,2, -999.000,9, -999.000,9, -999.000,9,-999.0000,9,  -999.00,9,   -999.0,9,  -999.00,9,-999.000,9,   -999.9,9,   -999.9,9,  -999.0, -999.00,-999.0000,-999.000,-999.000
    316N145_10,  I07N,   725,  1,     23,     23,2,19950720,0920,-10.3837,  52.7675, 4442,   -999,    655.7,   7.3964,  34.7554,2,  34.7555,2,    108.9,2,  7.3313,    111.1,2,    52.06,2,    30.76,2,     0.00,2,     2.22,2, -999.000,9, -999.000,9, -999.000,9,-999.0000,9,  -999.00,9,   -999.0,9,  -999.00,9,-999.000,9,   -999.9,9,   -999.9,9,  -999.0, -999.00,-999.0000,-999.000,-999.000
    316N145_10,  I07N,   725,  1,     22,     22,2,19950720,0920,-10.3837,  52.7675, 4442,   -999,    747.8,   7.1071,  34.7799,2,  34.7805,2,     93.6,2,  7.0340,     94.5,2,    61.51,2,    32.68,2,     0.00,2,     2.38,2, -999.000,9, -999.000,9, -999.000,9,-999.0000,9,  -999.00,9,   -999.0,9,  -999.00,9,-999.000,9,   -999.9,9,   -999.9,9,  -999.0, -999.00,-999.0000,-999.000,-999.000
    316N145_10,  I07N,   725,  1,     21,     21,2,19950720,0920,-10.3837,  52.7675, 4442,   -999,    832.4,   6.6145,  34.7809,2,  34.7799,2,     87.6,2,  6.5357,     87.1,2,    70.28,2,    33.84,2,     0.00,2,     2.49,2, -999.000,9, -999.000,9, -999.000,9,-999.0000,9,  -999.00,9,   -999.0,9,  -999.00,9,-999.000,9,   -999.9,9,   -999.9,9,  -999.0, -999.00,-999.0000,-999.000,-999.000
    316N145_10,  I07N,   725,  1,     20,     20,2,19950720,0920,-10.3837,  52.7675, 4442,   -999,    972.4,   5.6518,  34.7717,2,  34.7714,2,     96.4,2,  5.5659,     94.3,2,    81.38,2,    34.47,2,     0.00,2,     2.54,2, -999.000,9, -999.000,9, -999.000,9,-999.0000,9,  -999.00,9,   -999.0,9,  -999.00,9,-999.000,9,   -999.9,9,   -999.9,9,  -999.0, -999.00,-999.0000,-999.000,-999.000
    316N145_10,  I07N,   725,  1,     19,     19,2,19950720,0920,-10.3837,  52.7675, 4442,   -999,   1103.5,   5.0489,  34.7676,2,  34.7683,2,     97.8,2,  4.9554,     99.0,2,    88.80,2,    34.83,2,     0.00,2,     2.56,2, -999.000,9, -999.000,9, -999.000,9,-999.0000,9,  -999.00,9,   -999.0,9,  -999.00,9,-999.000,9,   -999.9,9,   -999.9,9,  -999.0, -999.00,-999.0000,-999.000,-999.000
    316N145_10,  I07N,   725,  1,     18,     18,2,19950720,0920,-10.3837,  52.7675, 4442,   -999,   1198.4,   4.6028,  34.7599,2,  34.7606,2,    103.6,2,  4.5045,    105.5,2,    93.22,2,    34.84,2,     0.00,2,     2.57,2, -999.000,9, -999.000,9, -999.000,9,-999.0000,9,  -999.00,9,   -999.0,9,  -999.00,9,-999.000,9,   -999.9,9,   -999.9,9,  -999.0, -999.00,-999.0000,-999.000,-999.000
    316N145_10,  I07N,   725,  1,     17,     17,2,19950720,0920,-10.3837,  52.7675, 4442,   -999,   1379.4,   3.9736,  34.7558,2,  34.7561,2,    114.6,2,  3.8651,    114.4,2,   100.88,2,    34.79,2,     0.00,2,     2.54,2, -999.000,9, -999.000,9, -999.000,9,-999.0000,9,  -999.00,9,   -999.0,9,  -999.00,9,-999.000,9,   -999.9,9,   -999.9,9,  -999.0, -999.00,-999.0000,-999.000,-999.000
    316N145_10,  I07N,   725,  1,     16,     16,2,19950720,0920,-10.3837,  52.7675, 4442,   -999,   1590.8,   3.2870,  34.7446,2,  34.7442,2,    131.3,2,  3.1678,    131.5,2,   106.07,2,    34.21,2,     0.00,2,     2.48,2, -999.000,9, -999.000,9, -999.000,9,-999.0000,9,  -999.00,9,   -999.0,9,  -999.00,9,-999.000,9,   -999.9,9,   -999.9,9,  -999.0, -999.00,-999.0000,-999.000,-999.000
    316N145_10,  I07N,   725,  1,     15,     15,2,19950720,0920,-10.3837,  52.7675, 4442,   -999,   1800.5,   2.7113,  34.7320,2,  34.7306,2,    148.4,2,  2.5813,    148.7,2,   108.92,2,    33.46,2,     0.00,2,     2.41,2, -999.000,9, -999.000,9, -999.000,9,-999.0000,9,  -999.00,9,   -999.0,9,  -999.00,9,-999.000,9,   -999.9,9,   -999.9,9,  -999.0, -999.00,-999.0000,-999.000,-999.000
    316N145_10,  I07N,   725,  1,     14,     14,2,19950720,0920,-10.3837,  52.7675, 4442,   -999,   2001.4,   2.4634,  34.7407,2,  34.7408,2,    149.0,2,  2.3196,    149.8,2,   115.04,2,    33.55,2,     0.00,2,     2.40,2, -999.000,9, -999.000,9, -999.000,9,-999.0000,9,  -999.00,9,   -999.0,9,  -999.00,9,-999.000,9,   -999.9,9,   -999.9,9,  -999.0, -999.00,-999.0000,-999.000,-999.000
    316N145_10,  I07N,   725,  1,     13,     13,2,19950720,0920,-10.3837,  52.7675, 4442,   -999,   2196.3,   2.2743,  34.7427,2,  34.7418,2,    152.9,2,  2.1163,    152.6,2,   119.92,2,    33.55,2,     0.00,2,     2.41,2, -999.000,9, -999.000,9, -999.000,9,-999.0000,9,  -999.00,9,   -999.0,9,  -999.00,9,-999.000,9,   -999.9,9,   -999.9,9,  -999.0, -999.00,-999.0000,-999.000,-999.000
    316N145_10,  I07N,   725,  1,     12,     12,2,19950720,0920,-10.3837,  52.7675, 4442,   -999,   2346.9,   2.1388,  34.7456,2,  34.7449,2,    154.0,2,  1.9696,    153.9,2,   123.18,2,    33.60,2,     0.00,2,     2.41,2, -999.000,9, -999.000,9, -999.000,9,-999.0000,9,  -999.00,9,   -999.0,9,  -999.00,9,-999.000,9,   -999.9,9,   -999.9,9,  -999.0, -999.00,-999.0000,-999.000,-999.000
    316N145_10,  I07N,   725,  1,     11,     11,2,19950720,0920,-10.3837,  52.7675, 4442,   -999,   2494.8,   2.0347,  34.7445,2,  34.7447,2,    155.6,2,  1.8540,    155.6,2,   125.34,2,    33.60,2,     0.00,2,     2.40,2, -999.000,9, -999.000,9, -999.000,9,-999.0000,9,  -999.00,9,   -999.0,9,  -999.00,9,-999.000,9,   -999.9,9,   -999.9,9,  -999.0, -999.00,-999.0000,-999.000,-999.000
    316N145_10,  I07N,   725,  1,     10,     10,2,19950720,0920,-10.3837,  52.7675, 4442,   -999,   2698.1,   1.9531,  34.7423,2,  34.7418,2,    157.4,2,  1.7551,    157.4,2,   127.51,2,    33.52,2,     0.00,2,     2.41,2, -999.000,9, -999.000,9, -999.000,9,-999.0000,9,  -999.00,9,   -999.0,9,  -999.00,9,-999.000,9,   -999.9,9,   -999.9,9,  -999.0, -999.00,-999.0000,-999.000,-999.000
    316N145_10,  I07N,   725,  1,      9,      9,2,19950720,0920,-10.3837,  52.7675, 4442,   -999,   2901.2,   1.8614,  34.7399,2,  34.7387,2,    159.7,2,  1.6460,    159.6,2,   128.94,2,    33.65,2,     0.00,2,     2.40,2, -999.000,9, -999.000,9, -999.000,9,-999.0000,9,  -999.00,9,   -999.0,9,  -999.00,9,-999.000,9,   -999.9,9,   -999.9,9,  -999.0, -999.00,-999.0000,-999.000,-999.000
    316N145_10,  I07N,   725,  1,      8,      8,2,19950720,0920,-10.3837,  52.7675, 4442,   -999,   3092.7,   1.7878,  34.7372,2,  34.7361,2,    163.0,2,  1.5555,    162.3,2,   130.00,2,    33.57,2,     0.00,2,     2.39,2, -999.000,9, -999.000,9, -999.000,9,-999.0000,9,  -999.00,9,   -999.0,9,  -999.00,9,-999.000,9,   -999.9,9,   -999.9,9,  -999.0, -999.00,-999.0000,-999.000,-999.000
    316N145_10,  I07N,   725,  1,      7,      7,2,19950720,0920,-10.3837,  52.7675, 4442,   -999,   3389.6,   1.6912,  34.7328,2,  34.7330,2,    167.1,2,  1.4314,    167.3,2,   130.33,2,    33.34,2,     0.00,2,     2.37,2, -999.000,9, -999.000,9, -999.000,9,-999.0000,9,  -999.00,9,   -999.0,9,  -999.00,9,-999.000,9,   -999.9,9,   -999.9,9,  -999.0, -999.00,-999.0000,-999.000,-999.000
    316N145_10,  I07N,   725,  1,      6,      6,2,19950720,0920,-10.3837,  52.7675, 4442,   -999,   3691.9,   1.5476,  34.7272,2,  34.7261,2,    174.0,2,  1.2602,    174.9,2,   130.10,2,    33.03,2,     0.00,2,     2.34,2, -999.000,9, -999.000,9, -999.000,9,-999.0000,9,  -999.00,9,   -999.0,9,  -999.00,9,-999.000,9,   -999.9,9,   -999.9,9,  -999.0, -999.00,-999.0000,-999.000,-999.000
    316N145_10,  I07N,   725,  1,      5,      5,2,19950720,0920,-10.3837,  52.7675, 4442,   -999,   3993.4,   1.3281,  34.7197,2,  34.7179,2,    186.4,2,  1.0146,    186.8,2,   128.58,2,    32.50,2,     0.00,2,     2.29,2, -999.000,9, -999.000,9, -999.000,9,-999.0000,9,  -999.00,9,   -999.0,9,  -999.00,9,-999.000,9,   -999.9,9,   -999.9,9,  -999.0, -999.00,-999.0000,-999.000,-999.000
    316N145_10,  I07N,   725,  1,      4,      4,2,19950720,0920,-10.3837,  52.7675, 4442,   -999,   4301.3,   1.1144,  34.7118,2,  34.7110,2,    199.1,2,  0.7736,    199.6,2,   125.77,2,    31.83,2,     0.00,2,     2.24,2, -999.000,9, -999.000,9, -999.000,9,-999.0000,9,  -999.00,9,   -999.0,9,  -999.00,9,-999.000,9,   -999.9,9,   -999.9,9,  -999.0, -999.00,-999.0000,-999.000,-999.000
    316N145_10,  I07N,   725,  1,      3,      3,2,19950720,0920,-10.3837,  52.7675, 4442,   -999,   4433.1,   1.1163,  34.7116,2,  34.7090,2,    199.7,2,  0.7608,    199.9,2,   125.73,2,    31.84,2,     0.00,2,     2.24,2, -999.000,9, -999.000,9, -999.000,9,-999.0000,9,  -999.00,9,   -999.0,9,  -999.00,9,-999.000,9,   -999.9,9,   -999.9,9,  -999.0, -999.00,-999.0000,-999.000,-999.000
    316N145_10,  I07N,   725,  1,      2,      2,2,19950720,0920,-10.3837,  52.7675, 4442,   -999,   4508.6,   1.0831,  34.7107,2,  34.7092,2,    201.9,2,  0.7201,    202.2,2,   125.32,2,    31.71,2,     0.00,2,     2.23,2, -999.000,9, -999.000,9, -999.000,9,-999.0000,9,  -999.00,9,   -999.0,9,  -999.00,9,-999.000,9,   -999.9,9,   -999.9,9,  -999.0, -999.00,-999.0000,-999.000,-999.000
    316N145_10,  I07N,   725,  1,      1,      1,2,19950720,0920,-10.3837,  52.7675, 4442,   -999,   4531.5,   1.0843,  34.7102,2,  34.7088,2,    202.6,2,  0.7187,    201.9,2,   125.46,2,    31.80,2,     0.00,2,     2.22,2, -999.000,9, -999.000,9, -999.000,9,-999.0000,9,  -999.00,9,   -999.0,9,  -999.00,9,-999.000,9,   -999.9,9,   -999.9,9,  -999.0, -999.00,-999.0000,-999.000,-999.000