BOTTLE,20080821WHPSIOSCD
EXPOCODE,SECT_ID,STNNBR,CASTNO,SAMPNO,BTLNBR,BTLNBR_FLAG_W,DATE,TIME,LATITUDE,LONGITUDE,DEPTH,CTDRAW,CTDPRS,CTDTMP,CTDSAL,CTDSAL_FLAG_W,SALNTY,SALNTY_FLAG_W,CTDOXY,CTDOXY_FLAG_W,THETA,OXYGEN,OXYGEN_FLAG_W,SILCAT,SILCAT_FLAG_W,NITRAT,NITRAT_FLAG_W,NITRIT,NITRIT_FLAG_W,PHSPHT,PHSPHT_FLAG_W,CFC-11,CFC-11_FLAG_W,CFC-12,CFC-12_FLAG_W,TRITUM,TRITUM_FLAG_W,HELIUM,HELIUM_FLAG_W,DELHE3,DELHE3_FLAG_W,DELC14,DELC14_FLAG_W,DELC13,DELC13_FLAG_W,NEON,NEON_FLAG_W,TCARBN,TCARBN_FLAG_W,ALKALI,ALKALI_FLAG_W,C14ERR,DELHER,HELIER,NEONER,TRITER
,,,,,,,,,,,,,DBAR,ITS-90,PSS-78,,PSS-78,,UMOL/KG,,DEG C,UMOL/KG,,UMOL/KG,,UMOL/KG,,UMOL/KG,,UMOL/KG,,PMOL/KG,,PMOL/KG,,TU,,NMOL/KG,,PERCNT,,/MILLE,,/MILLE,,NMOL/KG,,UMOL/KG,,UMOL/KG,,/MILLE,PERCNT,NMOL/KG,NMOL/KG,TU
    316N145_10,  I07N,   794,  1,     36,     36,2,19950808,0114, 14.8667,  64.6673, 3892,   -999,      9.5,  26.9805,  36.3536,2,  36.3546,2,    205.9,2, 26.9786,    204.7,2,     2.18,2,     0.05,2,     0.00,2,     0.33,2,    1.694,2,    0.954,2, -999.000,9,-999.0000,9,  -999.00,9,     47.2,2,     1.40,2,-999.000,9,   2017.3,2,   2373.7,2,     3.3, -999.00,-999.0000,-999.000,-999.000
    316N145_10,  I07N,   794,  1,     35,     35,2,19950808,0114, 14.8667,  64.6673, 3892,   -999,     41.0,  26.9891,  36.3539,2,  36.3536,2,    209.3,2, 26.9800,    204.2,2,     2.17,2,     0.05,2,     0.00,2,     0.33,2, -999.000,9, -999.000,9, -999.000,9,-999.0000,9,  -999.00,9,   -999.0,9,  -999.00,9,-999.000,9,   2017.5,2,   2376.4,2,  -999.0, -999.00,-999.0000,-999.000,-999.000
    316N145_10,  I07N,   794,  1,     34,     34,2,19950808,0114, 14.8667,  64.6673, 3892,   -999,     80.7,  26.0385,  36.3286,2,  36.3097,2,    181.6,2, 26.0206,    159.5,2,     3.48,2,     6.21,2,     0.28,2,     0.71,2,    1.749,2,    0.976,2, -999.000,9,-999.0000,9,  -999.00,9,     37.1,2,     0.99,2,-999.000,9,   2067.6,2,   2366.0,2,     4.5, -999.00,-999.0000,-999.000,-999.000
    316N145_10,  I07N,   794,  1,     33,     33,2,19950808,0114, 14.8667,  64.6673, 3892,   -999,    110.3,  23.3011,  36.1485,2,  36.1445,2,     99.0,2, 23.2784,     87.8,2,     7.62,2,    16.11,2,     0.04,2,     1.34,2, -999.000,9, -999.000,9, -999.000,9,-999.0000,9,  -999.00,9,   -999.0,9,  -999.00,9,-999.000,9,   2139.0,2,   2357.5,2,  -999.0, -999.00,-999.0000,-999.000,-999.000
    316N145_10,  I07N,   794,  1,     32,     32,2,19950808,0114, 14.8667,  64.6673, 3892,   -999,    140.1,  20.5955,  35.9153,2,  35.9145,2,     17.0,2, 20.5692,     13.4,2,    14.78,2,    24.35,2,     0.02,2,     2.05,2,    1.357,2,    0.745,2, -999.000,9,-999.0000,9,  -999.00,9,   -999.0,9,  -999.00,9,-999.000,9,   2214.7,2,   2341.8,2,  -999.0, -999.00,-999.0000,-999.000,-999.000
    316N145_10,  I07N,   794,  1,     31,     31,2,19950808,0114, 14.8667,  64.6673, 3892,   -999,    169.2,  18.7024,  35.7595,2,  35.7628,2,      9.3,2, 18.6727,      9.7,2,    18.92,2,    24.35,2,     0.02,2,     2.17,2,    1.103,2,    0.622,2, -999.000,9,-999.0000,9,  -999.00,9,     10.9,2,    -0.21,2,-999.000,9,   2227.3,2,   2338.0,2,     3.1, -999.00,-999.0000,-999.000,-999.000
    316N145_10,  I07N,   794,  1,     30,     30,2,19950808,0114, 14.8667,  64.6673, 3892,   -999,    210.4,  16.9367,  35.8052,2,  35.7906,2,      1.0,2, 16.9020,      0.6,2,    24.93,2,    22.56,2,     0.10,2,     2.32,2,    0.708,2,    0.429,2, -999.000,9,-999.0000,9,  -999.00,9,    -10.0,2,    -0.25,2,-999.000,9,   2249.3,2,   2342.5,2,     3.2, -999.00,-999.0000,-999.000,-999.000
    316N145_10,  I07N,   794,  1,     29,     29,2,19950808,0114, 14.8667,  64.6673, 3892,   -999,    259.4,  15.8456,  35.8869,2,  35.8795,2,      1.1,2, 15.8046,      1.5,2,    27.17,2,    23.15,2,     0.15,2,     2.33,2, -999.000,9, -999.000,9, -999.000,9,-999.0000,9,  -999.00,9,   -999.0,9,  -999.00,9,-999.000,9,   2259.6,2,   2348.3,2,  -999.0, -999.00,-999.0000,-999.000,-999.000
    316N145_10,  I07N,   794,  1,     28,     28,2,19950808,0114, 14.8667,  64.6673, 3892,   -999,    289.2,  15.3439,  35.9281,2,  35.9233,2,      1.1,2, 15.2991,      0.5,2,    29.41,2,    19.19,2,     2.31,2,     2.40,2,    0.443,2,    0.272,2, -999.000,9,-999.0000,9,  -999.00,9,    -48.0,2,    -0.73,3,-999.000,9,   2268.5,2,   2353.2,2,     3.5, -999.00,-999.0000,-999.000,-999.000
    316N145_10,  I07N,   794,  1,     27,     27,2,19950808,0114, 14.8667,  64.6673, 3892,   -999,    340.8,  13.8625,  35.7378,2,  35.7402,2,      1.2,2, 13.8132,      0.4,2,    33.16,2,    20.59,2,     2.67,2,     2.49,2,    0.251,2,    0.171,2, -999.000,9,-999.0000,9,  -999.00,9,   -999.0,9,  -999.00,9,-999.000,9,   2274.5,2,   2350.0,2,  -999.0, -999.00,-999.0000,-999.000,-999.000
    316N145_10,  I07N,   794,  1,     26,     26,2,19950808,0114, 14.8667,  64.6673, 3892,   -999,    364.3,  13.7752,  35.8071,2,  35.8075,2,      1.2,2, 13.7226,      0.5,2,    34.26,2,    23.18,2,     1.09,2,     2.50,2, -999.000,9, -999.000,9, -999.000,9,-999.0000,9,  -999.00,9,   -999.0,9,  -999.00,9,-999.000,9,   2274.4,2,   2350.1,2,  -999.0, -999.00,-999.0000,-999.000,-999.000
    316N145_10,  I07N,   794,  1,     25,     25,2,19950808,0114, 14.8667,  64.6673, 3892,   -999,    400.2,  13.0809,  35.7121,2,  35.7136,2,      1.3,2, 13.0250,      1.2,2,    35.74,2,    26.95,2,     0.00,2,     2.52,2,    0.235,2,    0.133,2, -999.000,9,-999.0000,9,  -999.00,9,    -59.4,2,    -0.09,2,-999.000,9,   2273.5,2,   2347.8,2,     7.8, -999.00,-999.0000,-999.000,-999.000
    316N145_10,  I07N,   794,  1,     24,     24,2,19950808,0114, 14.8667,  64.6673, 3892,   -999,    500.4,  12.0733,  35.6250,2,  35.6239,2,      1.4,2, 12.0067,      1.5,2,    42.68,2,    28.96,2,     0.00,2,     2.63,2,    0.104,2,    0.067,2, -999.000,9,-999.0000,9,  -999.00,9,    -75.1,2,    -0.09,2,-999.000,9,   2278.5,2,   2350.4,2,     4.2, -999.00,-999.0000,-999.000,-999.000
    316N145_10,  I07N,   794,  1,     23,     23,2,19950808,0114, 14.8667,  64.6673, 3892,   -999,    599.3,  11.2408,  35.5572,2,  35.5579,2,      1.5,2, 11.1642,      1.8,2,    49.62,2,    30.73,2,     0.00,2,     2.72,2,    0.049,2,    0.032,2, -999.000,9,-999.0000,9,  -999.00,9,    -96.6,2,    -0.05,2,-999.000,9,   2286.1,2,   2353.8,2,     3.9, -999.00,-999.0000,-999.000,-999.000
    316N145_10,  I07N,   794,  1,     22,     22,2,19950808,0114, 14.8667,  64.6673, 3892,   -999,    649.5,  10.8559,  35.5206,2,  35.5208,2,      1.6,2, 10.7745,      1.5,2,    53.35,2,    31.62,2,     0.00,2,     2.77,2, -999.000,9, -999.000,9, -999.000,9,-999.0000,9,  -999.00,9,   -999.0,9,  -999.00,9,-999.000,9,   2290.2,2,   2354.0,2,  -999.0, -999.00,-999.0000,-999.000,-999.000
    316N145_10,  I07N,   794,  1,     21,     21,2,19950808,0114, 14.8667,  64.6673, 3892,   -999,    699.8,  10.4546,  35.4958,2,  35.4950,2,      2.2,2, 10.3687,      2.9,2,    56.90,2,    33.11,2,     0.00,2,     2.79,2,    0.029,2,    0.015,2, -999.000,9,-999.0000,9,  -999.00,9,   -109.1,2,    -0.14,2,-999.000,9,   2294.0,2,   2358.6,2,     3.2, -999.00,-999.0000,-999.000,-999.000
    316N145_10,  I07N,   794,  1,     20,     20,2,19950808,0114, 14.8667,  64.6673, 3892,   -999,    799.0,   9.9314,  35.4748,2,  35.4751,2,      5.7,2,  9.8359,      6.4,2,    61.95,2,    34.29,2,     0.00,2,     2.80,2,    0.036,2,    0.022,2, -999.000,9,-999.0000,9,  -999.00,9,   -115.0,2,    -0.10,2,-999.000,9,   2297.9,2,   -999.9,5,     3.2, -999.00,-999.0000,-999.000,-999.000
    316N145_10,  I07N,   794,  1,     19,     19,2,19950808,0114, 14.8667,  64.6673, 3892,   -999,    900.4,   9.0916,  35.3914,2,  35.3916,2,      7.3,2,  8.9889,      7.4,2,    69.08,2,    35.75,2,     0.00,2,     2.87,2,    0.018,2,    0.013,2, -999.000,9,-999.0000,9,  -999.00,9,   -126.6,2,    -0.12,2,-999.000,9,   2308.2,2,   2378.6,3,     3.5, -999.00,-999.0000,-999.000,-999.000
    316N145_10,  I07N,   794,  1,     18,     18,2,19950808,0114, 14.8667,  64.6673, 3892,   -999,   1000.3,   8.3142,  35.3152,2,  35.3156,2,     12.5,2,  8.2052,     12.2,2,    75.64,2,    36.64,2,     0.00,2,     2.90,2,    0.013,2,    0.010,2, -999.000,9,-999.0000,9,  -999.00,9,   -138.1,2,    -0.32,2,-999.000,9,   2314.9,2,   2371.4,2,     3.2, -999.00,-999.0000,-999.000,-999.000
    316N145_10,  I07N,   794,  1,     17,     17,2,19950808,0114, 14.8667,  64.6673, 3892,   -999,   1100.3,   7.5833,  35.2377,2,  35.2365,2,     18.2,2,  7.4686,     17.7,2,    81.65,2,    37.26,2,     0.00,2,     2.94,2,    0.007,2,    0.003,2, -999.000,9,-999.0000,9,  -999.00,9,   -153.3,2,    -0.15,2,-999.000,9,   -999.9,5,   2376.1,2,     3.2, -999.00,-999.0000,-999.000,-999.000
    316N145_10,  I07N,   794,  1,     16,     16,2,19950808,0114, 14.8667,  64.6673, 3892,   -999,   1200.9,   7.0564,  35.2009,2,  35.2016,2,     22.0,2,  6.9351,     21.8,2,    87.29,2,    37.50,2,     0.00,2,     2.96,2,    0.007,2,    0.004,2, -999.000,9,-999.0000,9,  -999.00,9,   -152.8,2,    -0.18,2,-999.000,9,   -999.9,5,   2382.4,2,     3.1, -999.00,-999.0000,-999.000,-999.000
    316N145_10,  I07N,   794,  1,     15,     15,2,19950808,0114, 14.8667,  64.6673, 3892,   -999,   1403.5,   5.7862,  35.0726,2,  35.0717,2,     36.7,2,  5.6559,     36.8,2,    99.82,2,    37.93,2,     0.00,2,     2.98,2,    0.002,2,    0.001,2, -999.000,9,-999.0000,9,  -999.00,9,   -168.2,2,    -0.21,2,-999.000,9,   -999.9,5,   2393.9,2,     3.1, -999.00,-999.0000,-999.000,-999.000
    316N145_10,  I07N,   794,  1,     14,     14,2,19950808,0114, 14.8667,  64.6673, 3892,   -999,   1600.1,   4.5853,  34.9563,2,  34.9579,2,     58.4,2,  4.4491,     58.7,2,   111.49,2,    37.69,2,     0.00,2,     2.92,2,   -0.003,2,   -0.003,2, -999.000,9,-999.0000,9,  -999.00,9,   -181.7,2,    -0.12,2,-999.000,9,   2343.2,2,   2406.4,2,     4.1, -999.00,-999.0000,-999.000,-999.000
    316N145_10,  I07N,   794,  1,     13,     13,2,19950808,0114, 14.8667,  64.6673, 3892,   -999,   1803.0,   3.6490,  34.8761,2,  34.8763,2,     79.5,2,  3.5056,     79.4,2,   120.36,2,    37.22,2,     0.00,2,     2.83,2,    0.001,2,    0.002,2, -999.000,9,-999.0000,9,  -999.00,9,   -999.0,9,  -999.00,9,-999.000,9,   2343.7,2,   2413.8,2,  -999.0, -999.00,-999.0000,-999.000,-999.000
    316N145_10,  I07N,   794,  1,     12,     12,2,19950808,0114, 14.8667,  64.6673, 3892,   -999,   2000.0,   3.0448,  34.8283,2,  34.8286,2,     93.7,2,  2.8920,     94.5,2,   126.77,2,    36.79,2,     0.00,2,     2.77,2, -999.000,9, -999.000,9, -999.000,9,-999.0000,9,  -999.00,9,   -999.0,9,  -999.00,9,-999.000,9,   2344.5,2,   2421.9,2,  -999.0, -999.00,-999.0000,-999.000,-999.000
    316N145_10,  I07N,   794,  1,     11,     11,2,19950808,0114, 14.8667,  64.6673, 3892,   -999,   2201.3,   2.5581,  34.7953,2,  34.7954,2,    107.5,2,  2.3947,    107.2,2,   131.84,2,    36.32,2,     0.00,2,     2.69,2, -999.000,9, -999.000,9, -999.000,9,-999.0000,9,  -999.00,9,   -999.0,9,  -999.00,9,-999.000,9,   2345.1,2,   2428.5,2,  -999.0, -999.00,-999.0000,-999.000,-999.000
    316N145_10,  I07N,   794,  1,     10,     10,2,19950808,0114, 14.8667,  64.6673, 3892,   -999,   2400.4,   2.2628,  34.7748,2,  34.7742,2,    117.3,2,  2.0865,    117.2,2,   134.95,2,    35.98,2,     0.00,2,     2.65,2, -999.000,9, -999.000,9, -999.000,9,-999.0000,9,  -999.00,9,   -999.0,9,  -999.00,9,-999.000,9,   2344.2,2,   2432.4,2,  -999.0, -999.00,-999.0000,-999.000,-999.000
    316N145_10,  I07N,   794,  1,      9,      9,2,19950808,0114, 14.8667,  64.6673, 3892,   -999,   2601.5,   2.0650,  34.7615,2,  34.7616,2,    122.9,2,  1.8738,    122.5,2,   137.27,2,    35.84,2,     0.00,2,     2.62,2, -999.000,9, -999.000,9, -999.000,9,-999.0000,9,  -999.00,9,   -999.0,9,  -999.00,9,-999.000,9,   2344.4,2,   2438.1,2,  -999.0, -999.00,-999.0000,-999.000,-999.000
    316N145_10,  I07N,   794,  1,      8,      8,2,19950808,0114, 14.8667,  64.6673, 3892,   -999,   2740.5,   1.9353,  34.7531,2,  34.7519,2,    128.9,2,  1.7336,    128.7,2,   137.80,2,    35.60,2,     0.00,2,     2.58,2, -999.000,9, -999.000,9, -999.000,9,-999.0000,9,  -999.00,9,   -999.0,9,  -999.00,9,-999.000,9,   2341.2,2,   2437.6,2,  -999.0, -999.00,-999.0000,-999.000,-999.000
    316N145_10,  I07N,   794,  1,      7,      7,2,19950808,0114, 14.8667,  64.6673, 3892,   -999,   2948.9,   1.8229,  34.7464,2,  34.7458,2,    131.3,2,  1.6038,    132.0,2,   139.73,2,    35.60,2,     0.00,2,     2.57,2, -999.000,9, -999.000,9, -999.000,9,-999.0000,9,  -999.00,9,   -999.0,9,  -999.00,9,-999.000,9,   2344.5,2,   2442.0,2,  -999.0, -999.00,-999.0000,-999.000,-999.000
    316N145_10,  I07N,   794,  1,      6,      6,2,19950808,0114, 14.8667,  64.6673, 3892,   -999,   3202.6,   1.7526,  34.7409,2,  34.7399,2,    135.1,2,  1.5101,    135.6,2,   140.66,2,    35.55,2,     0.00,2,     2.56,2, -999.000,9, -999.000,9, -999.000,9,-999.0000,9,  -999.00,9,   -999.0,9,  -999.00,9,-999.000,9,   2343.7,2,   2445.8,2,  -999.0, -999.00,-999.0000,-999.000,-999.000
    316N145_10,  I07N,   794,  1,      5,      5,2,19950808,0114, 14.8667,  64.6673, 3892,   -999,   3452.4,   1.7231,  34.7374,2,  34.7373,2,    140.2,2,  1.4560,    141.1,2,   139.79,2,    35.36,2,     0.00,2,     2.54,2, -999.000,9, -999.000,9, -999.000,9,-999.0000,9,  -999.00,9,   -999.0,9,  -999.00,9,-999.000,9,   2339.3,2,   2444.8,2,  -999.0, -999.00,-999.0000,-999.000,-999.000
    316N145_10,  I07N,   794,  1,      4,      4,2,19950808,0114, 14.8667,  64.6673, 3892,   -999,   3599.2,   1.7106,  34.7368,2,  34.7359,2,    142.4,2,  1.4286,    142.4,2,   139.51,2,    35.31,2,     0.00,2,     2.53,2, -999.000,9, -999.000,9, -999.000,9,-999.0000,9,  -999.00,9,   -999.0,9,  -999.00,9,-999.000,9,   2339.6,2,   2445.3,2,  -999.0, -999.00,-999.0000,-999.000,-999.000
    316N145_10,  I07N,   794,  1,      3,      3,2,19950808,0114, 14.8667,  64.6673, 3892,   -999,   3772.9,   1.7036,  34.7362,2,  34.7348,2,    144.9,2,  1.4034,    143.4,2,   139.64,2,    35.36,2,     0.00,2,     2.52,2, -999.000,9, -999.000,9, -999.000,9,-999.0000,9,  -999.00,9,   -999.0,9,  -999.00,9,-999.000,9,   2340.2,2,   2446.6,2,  -999.0, -999.00,-999.0000,-999.000,-999.000
    316N145_10,  I07N,   794,  1,      2,      2,2,19950808,0114, 14.8667,  64.6673, 3892,   -999,   3869.8,   1.7099,  34.7359,2,  34.7345,2,    135.5,2,  1.3991,    134.2,2,   143.39,2,    35.93,2,     0.00,2,     2.57,2, -999.000,9, -999.000,9, -999.000,9,-999.0000,9,  -999.00,9,   -999.0,9,  -999.00,9,-999.000,9,   -999.9,5,   2465.8,2,  -999.0, -999.00,-999.0000,-999.000,-999.000
    316N145_10,  I07N,   794,  1,      1,      1,2,19950808,0114, 14.8667,  64.6673, 3892,   -999,   3946.4,   1.7147,  34.7358,2,  34.7351,2,    131.9,2,  1.3954,    132.2,2,   144.32,2,    35.97,2,     0.00,2,     2.58,2, -999.000,9, -999.000,9, -999.000,9,-999.0000,9,  -999.00,9,   -999.0,9,  -999.00,9,-999.000,9,   -999.9,5,   2466.5,2,  -999.0, -999.00,-999.0000,-999.000,-999.000