BOTTLE,20080821WHPSIOSCD
EXPOCODE,SECT_ID,STNNBR,CASTNO,SAMPNO,BTLNBR,BTLNBR_FLAG_W,DATE,TIME,LATITUDE,LONGITUDE,DEPTH,CTDRAW,CTDPRS,CTDTMP,CTDSAL,CTDSAL_FLAG_W,SALNTY,SALNTY_FLAG_W,CTDOXY,CTDOXY_FLAG_W,THETA,OXYGEN,OXYGEN_FLAG_W,SILCAT,SILCAT_FLAG_W,NITRAT,NITRAT_FLAG_W,NITRIT,NITRIT_FLAG_W,PHSPHT,PHSPHT_FLAG_W,CFC-11,CFC-11_FLAG_W,CFC-12,CFC-12_FLAG_W,TRITUM,TRITUM_FLAG_W,HELIUM,HELIUM_FLAG_W,DELHE3,DELHE3_FLAG_W,DELC14,DELC14_FLAG_W,DELC13,DELC13_FLAG_W,NEON,NEON_FLAG_W,TCARBN,TCARBN_FLAG_W,ALKALI,ALKALI_FLAG_W,C14ERR,DELHER,HELIER,NEONER,TRITER
,,,,,,,,,,,,,DBAR,ITS-90,PSS-78,,PSS-78,,UMOL/KG,,DEG C,UMOL/KG,,UMOL/KG,,UMOL/KG,,UMOL/KG,,UMOL/KG,,PMOL/KG,,PMOL/KG,,TU,,NMOL/KG,,PERCNT,,/MILLE,,/MILLE,,NMOL/KG,,UMOL/KG,,UMOL/KG,,/MILLE,PERCNT,NMOL/KG,NMOL/KG,TU
    316N145_10,  I07N,   735,  1,     36,     36,2,19950722,1943, -8.5548,  52.3827, 4285,   -999,      9.6,  26.0748,  35.1633,2,  35.1614,2,    205.3,2, 26.0729,    198.5,2,     3.58,2,     1.06,2,     0.05,2,     0.25,2,    1.716,2,    0.970,2,    0.861,2,   1.6280,2,    -0.30,2,   -999.0,9,  -999.00,9,   6.694,2,   -999.9,5,   2300.9,2,  -999.0,    0.20,  0.0080,   0.134,   0.008
    316N145_10,  I07N,   735,  1,     35,     35,2,19950722,1943, -8.5548,  52.3827, 4285,   -999,     16.4,  26.0637,  35.1621,2,  35.1608,2,    193.9,2, 26.0603,    198.0,2,     3.38,2,     1.06,2,     0.05,2,     0.25,2, -999.000,9, -999.000,9, -999.000,9,-999.0000,9,  -999.00,9,   -999.0,9,  -999.00,9,-999.000,9,   -999.9,9,   -999.9,9,  -999.0, -999.00,-999.0000,-999.000,-999.000
    316N145_10,  I07N,   735,  1,     34,     34,2,19950722,1943, -8.5548,  52.3827, 4285,   -999,     59.9,  18.3440,  35.1160,2,  35.1146,2,     90.2,2, 18.3337,     90.2,2,    16.14,2,    17.65,2,     0.22,2,     1.26,2, -999.000,9, -999.000,9, -999.000,9,-999.0000,9,  -999.00,9,   -999.0,9,  -999.00,9,-999.000,9,   -999.9,9,   -999.9,9,  -999.0, -999.00,-999.0000,-999.000,-999.000
    316N145_10,  I07N,   735,  1,     33,     33,2,19950722,1943, -8.5548,  52.3827, 4285,   -999,     91.3,  16.8399,  35.1064,2,  35.1057,2,     86.5,2, 16.8251,     87.1,2,    18.36,2,    19.64,2,     0.01,2,     1.39,2,    1.287,2,    0.684,2,    0.764,2,   1.7300,2,     1.20,2,   -999.0,9,  -999.00,9,   7.167,2,   -999.9,9,   -999.9,9,  -999.0,    0.20,  0.0090,   0.143,   0.008
    316N145_10,  I07N,   735,  1,     32,     32,2,19950722,1943, -8.5548,  52.3827, 4285,   -999,    121.3,  16.6825,  35.1077,2,  35.1061,2,     88.3,2, 16.6629,     87.5,2,    18.51,2,    19.78,2,     0.01,2,     1.40,2, -999.000,9, -999.000,9, -999.000,9,-999.0000,9,  -999.00,9,   -999.0,9,  -999.00,9,-999.000,9,   -999.9,9,   -999.9,9,  -999.0, -999.00,-999.0000,-999.000,-999.000
    316N145_10,  I07N,   735,  1,     31,     31,2,19950722,1943, -8.5548,  52.3827, 4285,   -999,    150.7,  16.2084,  35.1033,2,  35.1020,2,     88.4,2, 16.1845,     88.5,2,    19.17,2,    20.14,2,     0.00,2,     1.42,2, -999.000,9, -999.000,9, -999.000,9,-999.0000,9,  -999.00,9,   -999.0,9,  -999.00,9,-999.000,9,   -999.9,9,   -999.9,9,  -999.0, -999.00,-999.0000,-999.000,-999.000
    316N145_10,  I07N,   735,  1,     30,     30,2,19950722,1943, -8.5548,  52.3827, 4285,   -999,    178.1,  14.4854,  35.1329,2,  35.1307,2,    108.1,2, 14.4592,    109.5,2,    17.76,2,    19.61,2,     0.00,2,     1.40,2,    1.286,2,    0.665,2,    0.712,2,   1.7710,2,     3.60,2,   -999.0,9,  -999.00,9,   7.350,2,   -999.9,9,   -999.9,9,  -999.0,    0.20,  0.0090,   0.147,   0.008
    316N145_10,  I07N,   735,  1,     29,     29,2,19950722,1943, -8.5548,  52.3827, 4285,   -999,    200.9,  13.5413,  35.1024,2,  35.1016,2,    115.7,2, 13.5131,    116.0,2,    18.08,2,    20.02,2,     0.00,2,     1.43,2, -999.000,9, -999.000,9, -999.000,9,-999.0000,9,  -999.00,9,   -999.0,9,  -999.00,9,-999.000,9,   -999.9,9,   -999.9,9,  -999.0, -999.00,-999.0000,-999.000,-999.000
    316N145_10,  I07N,   735,  1,     28,     28,2,19950722,1943, -8.5548,  52.3827, 4285,   -999,    251.4,  12.6552,  35.0614,2,  35.0620,2,    122.6,2, 12.6213,    123.0,2,    18.58,2,    20.46,2,     0.00,2,     1.46,2,    1.201,2,    0.611,2, -999.000,9,-999.0000,9,  -999.00,9,   -999.0,9,  -999.00,9,-999.000,9,   -999.9,9,   -999.9,9,  -999.0, -999.00,-999.0000,-999.000,-999.000
    316N145_10,  I07N,   735,  1,     27,     27,2,19950722,1943, -8.5548,  52.3827, 4285,   -999,    301.6,  11.9217,  35.0183,2,  35.0182,2,    131.1,2, 11.8824,    130.1,2,    18.90,2,    20.87,2,     0.00,2,     1.48,2,    1.165,2,    0.594,2, -999.000,9,-999.0000,9,  -999.00,9,   -999.0,9,  -999.00,9,-999.000,9,   -999.9,9,   -999.9,9,  -999.0, -999.00,-999.0000,-999.000,-999.000
    316N145_10,  I07N,   735,  1,     26,     26,2,19950722,1943, -8.5548,  52.3827, 4285,   -999,    352.2,  11.3048,  34.9748,2,  34.9766,2,    137.5,2, 11.2605,    138.0,2,    19.04,2,    21.09,2,     0.00,2,     1.51,2,    1.138,2,    0.593,2,    0.340,2,   1.8060,2,     3.40,2,   -999.0,9,  -999.00,9,   7.600,2,   -999.9,9,   -999.9,9,  -999.0,    0.20,  0.0090,   0.152,   0.008
    316N145_10,  I07N,   735,  1,     25,     25,2,19950722,1943, -8.5548,  52.3827, 4285,   -999,    401.2,  10.4752,  34.8926,2,  34.8938,2,    131.8,2, 10.4270,    136.4,2,    22.13,2,    22.92,2,     0.00,2,     1.62,2,    0.958,2,    0.493,2, -999.000,9,-999.0000,9,  -999.00,9,   -999.0,9,  -999.00,9,-999.000,9,   -999.9,9,   -999.9,9,  -999.0, -999.00,-999.0000,-999.000,-999.000
    316N145_10,  I07N,   735,  1,     24,     24,2,19950722,1943, -8.5548,  52.3827, 4285,   -999,    451.9,   9.7231,  34.8471,2,  34.8477,2,    128.1,2,  9.6711,    127.7,2,    27.47,2,    25.29,2,     0.00,2,     1.78,2, -999.000,9, -999.000,9, -999.000,9,-999.0000,9,  -999.00,9,   -999.0,9,  -999.00,9,-999.000,9,   -999.9,9,   -999.9,9,  -999.0, -999.00,-999.0000,-999.000,-999.000
    316N145_10,  I07N,   735,  1,     23,     23,2,19950722,1943, -8.5548,  52.3827, 4285,   -999,    502.8,   9.3554,  34.8376,2,  34.8373,2,    113.7,2,  9.2988,    114.1,2,    31.95,2,    27.39,2,     0.00,2,     1.94,2,    0.488,2,    0.267,2, -999.000,9,-999.0000,9,  -999.00,9,   -999.0,9,  -999.00,9,-999.000,9,   -999.9,9,   -999.9,9,  -999.0, -999.00,-999.0000,-999.000,-999.000
    316N145_10,  I07N,   735,  1,     22,     22,2,19950722,1943, -8.5548,  52.3827, 4285,   -999,    598.6,   8.6708,  34.8267,2,  34.8275,2,    101.4,2,  8.6060,    102.0,2,    40.94,2,    29.73,2,     0.00,2,     2.14,2,    0.285,2,    0.159,2,    0.159,2,   1.8380,2,     4.80,2,   -999.0,9,  -999.00,9,   7.671,2,   -999.9,9,   -999.9,9,  -999.0,    0.20,  0.0090,   0.153,   0.008
    316N145_10,  I07N,   735,  1,     21,     21,2,19950722,1943, -8.5548,  52.3827, 4285,   -999,    701.1,   8.0861,  34.8302,2,  34.8310,2,     87.9,2,  8.0127,     89.0,2,    51.33,2,    31.76,2,     0.00,2,     2.32,2,    0.151,2,    0.086,2, -999.000,9,-999.0000,9,  -999.00,9,   -999.0,9,  -999.00,9,-999.000,9,   -999.9,9,   -999.9,9,  -999.0, -999.00,-999.0000,-999.000,-999.000
    316N145_10,  I07N,   735,  1,     20,     20,2,19950722,1943, -8.5548,  52.3827, 4285,   -999,    803.3,   7.6744,  34.8279,2,  34.8280,2,     83.6,2,  7.5922,     85.9,2,    57.40,2,    32.66,2,     0.00,2,     2.41,2,    0.110,6,    0.062,6, -999.000,9,-999.0000,9,  -999.00,9,   -999.0,9,  -999.00,9,-999.000,9,   -999.9,9,   -999.9,9,  -999.0, -999.00,-999.0000,-999.000,-999.000
    316N145_10,  I07N,   735,  1,     19,     19,2,19950722,1943, -8.5548,  52.3827, 4285,   -999,    906.5,   7.1172,  34.8270,2,  34.8270,2,     86.2,2,  7.0275,     83.0,2,    65.57,2,    33.62,2,     0.00,2,     2.50,2,    0.070,2,    0.041,2,    0.061,2,-999.0000,9,  -999.00,9,   -999.0,9,  -999.00,9,-999.000,9,   -999.9,9,   -999.9,9,  -999.0, -999.00,-999.0000,-999.000,   0.008
    316N145_10,  I07N,   735,  1,     18,     18,2,19950722,1943, -8.5548,  52.3827, 4285,   -999,   1090.4,   5.8212,  34.7822,2,  34.7835,2,     86.7,2,  5.7225,     89.0,2,    81.32,2,    34.85,2,     0.00,2,     2.60,2,    0.021,2,    0.016,2, -999.000,9,-999.0000,9,  -999.00,9,   -999.0,9,  -999.00,9,-999.000,9,   -999.9,9,   -999.9,9,  -999.0, -999.00,-999.0000,-999.000,-999.000
    316N145_10,  I07N,   735,  1,     17,     17,2,19950722,1943, -8.5548,  52.3827, 4285,   -999,   1202.1,   5.3107,  34.7783,2,  34.7785,2,     92.6,2,  5.2056,     90.7,2,    89.06,2,    35.40,2,     0.00,2,     2.63,2,    0.007,2,    0.004,2,    0.000,2,   1.8730,2,     9.70,2,   -999.0,9,  -999.00,9,   7.738,2,   -999.9,9,   -999.9,9,  -999.0,    0.20,  0.0090,   0.155,   0.008
    316N145_10,  I07N,   735,  1,     16,     16,2,19950722,1943, -8.5548,  52.3827, 4285,   -999,   1400.3,   4.5467,  34.7653,2,  34.7664,2,    110.2,2,  4.4303,    101.8,2,    96.67,2,    35.27,2,     0.00,2,     2.62,2,    0.010,2,    0.009,2, -999.000,9,-999.0000,9,  -999.00,9,   -999.0,9,  -999.00,9,-999.000,9,   -999.9,9,   -999.9,9,  -999.0, -999.00,-999.0000,-999.000,-999.000
    316N145_10,  I07N,   735,  1,     15,     15,2,19950722,1943, -8.5548,  52.3827, 4285,   -999,   1598.6,   3.9591,  34.7565,2,  34.7577,2,    131.3,2,  3.8310,    118.6,2,    99.14,2,    34.69,2,     0.00,2,     2.56,2,    0.003,2,    0.007,3,    0.000,2,   1.8960,2,    11.50,2,   -999.0,9,  -999.00,9,   7.930,2,   -999.9,9,   -999.9,9,  -999.0,    0.20,  0.0090,   0.159,   0.008
    316N145_10,  I07N,   735,  1,     14,     14,2,19950722,1943, -8.5548,  52.3827, 4285,   -999,   1799.4,   3.0999,  34.7299,2,  34.7295,2,    141.6,2,  2.9648,    140.7,2,   104.49,2,    33.92,2,     0.00,2,     2.48,2,    0.001,2,   -0.003,2, -999.000,9,-999.0000,9,  -999.00,9,   -999.0,9,  -999.00,9,-999.000,9,   -999.9,9,   -999.9,9,  -999.0, -999.00,-999.0000,-999.000,-999.000
    316N145_10,  I07N,   735,  1,     13,     13,2,19950722,1943, -8.5548,  52.3827, 4285,   -999,   1892.9,   2.8270,  34.7331,2,  34.7340,2,    148.9,2,  2.6873,    144.8,2,   108.78,2,    33.74,2,     0.00,2,     2.46,2, -999.000,9, -999.000,9, -999.000,9,-999.0000,9,  -999.00,9,   -999.0,9,  -999.00,9,-999.000,9,   -999.9,9,   -999.9,9,  -999.0, -999.00,-999.0000,-999.000,-999.000
    316N145_10,  I07N,   735,  1,     12,     12,2,19950722,1943, -8.5548,  52.3827, 4285,   -999,   1994.6,   2.5457,  34.7388,2,  34.7385,2,    147.5,2,  2.4012,    148.4,2,   114.71,2,    33.79,2,     0.00,2,     2.45,2,   -0.003,2,   -0.003,2,    0.000,2,   1.8870,2,    12.10,2,   -999.0,9,  -999.00,9,   8.041,2,   -999.9,9,   -999.9,9,  -999.0,    0.20,  0.0090,   0.161,   0.008
    316N145_10,  I07N,   735,  1,     11,     11,2,19950722,1943, -8.5548,  52.3827, 4285,   -999,   2191.7,   2.3384,  34.7481,2,  34.7485,2,    148.8,2,  2.1797,    149.1,2,   120.51,2,    33.89,2,     0.00,2,     2.46,2, -999.000,9, -999.000,9,    0.000,2,   1.9000,2,    12.60,2,   -999.0,9,  -999.00,9,   8.090,2,   -999.9,9,   -999.9,9,  -999.0,    0.20,  0.0090,   0.162,   0.008
    316N145_10,  I07N,   735,  1,     10,     10,2,19950722,1943, -8.5548,  52.3827, 4285,   -999,   2291.8,   2.2057,  34.7485,2,  34.7487,2,    151.1,2,  2.0403,    151.4,2,   123.04,2,    33.90,2,     0.00,2,     2.46,2,    0.000,2,    0.009,3,    0.000,2,   1.8910,2,    12.50,2,   -999.0,9,  -999.00,9,   8.189,2,   -999.9,9,   -999.9,9,  -999.0,    0.20,  0.0090,   0.164,   0.008
    316N145_10,  I07N,   735,  1,      9,      9,2,19950722,1943, -8.5548,  52.3827, 4285,   -999,   2601.9,   1.9685,  34.7439,2,  34.7438,2,    155.1,2,  1.7791,    155.9,2,   127.98,2,    33.86,2,     0.00,2,     2.45,2, -999.000,9, -999.000,9,    0.000,2,   1.9000,2,    12.70,2,   -999.0,9,  -999.00,9,   8.264,2,   -999.9,9,   -999.9,9,  -999.0,    0.20,  0.0090,   0.165,   0.008
    316N145_10,  I07N,   735,  1,      8,      8,2,19950722,1943, -8.5548,  52.3827, 4285,   -999,   2905.0,   1.8568,  34.7402,2,  34.7402,2,    158.8,2,  1.6412,    158.4,2,   129.43,2,    33.86,2,     0.00,2,     2.44,2, -999.000,9, -999.000,9, -999.000,9,   1.8960,2,    12.10,2,   -999.0,9,  -999.00,9,   8.242,2,   -999.9,9,   -999.9,9,  -999.0,    0.20,  0.0090,   0.165,-999.000
    316N145_10,  I07N,   735,  1,      7,      7,2,19950722,1943, -8.5548,  52.3827, 4285,   -999,   3197.4,   1.7642,  34.7363,2,  34.7365,2,    162.6,2,  1.5220,    162.7,2,   131.08,2,    33.73,2,     0.00,2,     2.41,2, -999.000,9, -999.000,9, -999.000,9,   1.9040,2,    11.40,2,   -999.0,9,  -999.00,9,   8.305,2,   -999.9,9,   -999.9,9,  -999.0,    0.20,  0.0100,   0.166,-999.000
    316N145_10,  I07N,   735,  1,      6,      6,2,19950722,1943, -8.5548,  52.3827, 4285,   -999,   3488.1,   1.6816,  34.7325,2,  34.7320,2,    166.4,2,  1.4120,    166.7,2,   131.99,2,    33.60,2,     0.00,2,     2.41,2, -999.000,9, -999.000,9, -999.000,9,-999.0000,9,  -999.00,9,   -999.0,9,  -999.00,9,-999.000,9,   -999.9,9,   -999.9,9,  -999.0, -999.00,-999.0000,-999.000,-999.000
    316N145_10,  I07N,   735,  1,      5,      5,2,19950722,1943, -8.5548,  52.3827, 4285,   -999,   3784.6,   1.5375,  34.7270,2,  34.7257,2,    173.5,2,  1.2406,    174.9,2,   130.86,2,    33.20,2,     0.00,2,     2.36,2, -999.000,9, -999.000,9, -999.000,9,   1.8910,2,    10.80,2,   -999.0,9,  -999.00,9,   8.282,2,   -999.9,9,   -999.9,9,  -999.0,    0.20,  0.0090,   0.166,-999.000
    316N145_10,  I07N,   735,  1,      4,      4,2,19950722,1943, -8.5548,  52.3827, 4285,   -999,   4094.8,   1.3777,  34.7210,2,  34.7210,2,    184.7,2,  1.0518,    184.9,2,   128.82,2,    32.75,2,     0.00,2,     2.32,2, -999.000,9, -999.000,9, -999.000,9,-999.0000,9,  -999.00,9,   -999.0,9,  -999.00,9,-999.000,9,   -999.9,9,   -999.9,9,  -999.0, -999.00,-999.0000,-999.000,-999.000
    316N145_10,  I07N,   735,  1,      3,      3,2,19950722,1943, -8.5548,  52.3827, 4285,   -999,   4245.2,   1.2690,  34.7169,2,  34.7157,2,    191.7,2,  0.9298,    191.5,2,   127.52,2,    32.35,2,     0.00,2,     2.30,2, -999.000,9, -999.000,9, -999.000,9,   1.9000,2,     9.60,2,   -999.0,9,  -999.00,9,   8.363,2,   -999.9,9,   -999.9,9,  -999.0,    0.20,  0.0090,   0.167,-999.000
    316N145_10,  I07N,   735,  1,      2,      2,2,19950722,1943, -8.5548,  52.3827, 4285,   -999,   4330.3,   1.2081,  34.7150,2,  34.7143,2,    195.4,2,  0.8613,    194.7,2,   126.77,2,    32.26,2,     0.00,2,     2.27,2, -999.000,9, -999.000,9, -999.000,9,-999.0000,9,  -999.00,9,   -999.0,9,  -999.00,9,-999.000,9,   -999.9,9,   -999.9,9,  -999.0, -999.00,-999.0000,-999.000,-999.000
    316N145_10,  I07N,   735,  1,      1,      1,2,19950722,1943, -8.5548,  52.3827, 4285,   -999,   4351.4,   1.1982,  34.7142,2,  34.7143,2,    195.9,2,  0.8494,    195.7,2,   126.75,2,    32.27,2,     0.00,2,     2.27,2, -999.000,9, -999.000,9, -999.000,9,-999.0000,9,  -999.00,9,   -999.0,9,  -999.00,9,-999.000,9,   -999.9,9,   -999.9,9,  -999.0, -999.00,-999.0000,-999.000,-999.000