BOTTLE,20080821WHPSIOSCD
EXPOCODE,SECT_ID,STNNBR,CASTNO,SAMPNO,BTLNBR,BTLNBR_FLAG_W,DATE,TIME,LATITUDE,LONGITUDE,DEPTH,CTDRAW,CTDPRS,CTDTMP,CTDSAL,CTDSAL_FLAG_W,SALNTY,SALNTY_FLAG_W,CTDOXY,CTDOXY_FLAG_W,THETA,OXYGEN,OXYGEN_FLAG_W,SILCAT,SILCAT_FLAG_W,NITRAT,NITRAT_FLAG_W,NITRIT,NITRIT_FLAG_W,PHSPHT,PHSPHT_FLAG_W,CFC-11,CFC-11_FLAG_W,CFC-12,CFC-12_FLAG_W,TRITUM,TRITUM_FLAG_W,HELIUM,HELIUM_FLAG_W,DELHE3,DELHE3_FLAG_W,DELC14,DELC14_FLAG_W,DELC13,DELC13_FLAG_W,NEON,NEON_FLAG_W,TCARBN,TCARBN_FLAG_W,ALKALI,ALKALI_FLAG_W,C14ERR,DELHER,HELIER,NEONER,TRITER
,,,,,,,,,,,,,DBAR,ITS-90,PSS-78,,PSS-78,,UMOL/KG,,DEG C,UMOL/KG,,UMOL/KG,,UMOL/KG,,UMOL/KG,,UMOL/KG,,PMOL/KG,,PMOL/KG,,TU,,NMOL/KG,,PERCNT,,/MILLE,,/MILLE,,NMOL/KG,,UMOL/KG,,UMOL/KG,,/MILLE,PERCNT,NMOL/KG,NMOL/KG,TU
    316N145_10,  I07N,   809,  1,     24,     24,2,19950811,1238, 19.2537,  58.5612, 1931,   -999,      5.4,  22.5090,  35.6805,2,  35.6821,2,    219.5,2, 22.5081,    214.7,2,     6.65,2,    13.82,2,     0.40,2,     1.45,2,    1.956,2,    1.085,2, -999.000,9,-999.0000,9,  -999.00,9,   -999.0,9,  -999.00,9,-999.000,9,   -999.9,5,   2337.7,2,  -999.0, -999.00,-999.0000,-999.000,-999.000
    316N145_10,  I07N,   809,  1,     23,     23,2,19950811,1238, 19.2537,  58.5612, 1931,   -999,     30.3,  21.4503,  35.7130,2,  35.7111,2,    195.9,2, 21.4446,    186.2,2,     8.29,2,    15.54,2,     0.60,2,     1.60,2, -999.000,9, -999.000,9, -999.000,9,-999.0000,9,  -999.00,9,   -999.0,9,  -999.00,9,-999.000,9,   -999.9,9,   -999.9,9,  -999.0, -999.00,-999.0000,-999.000,-999.000
    316N145_10,  I07N,   809,  1,     22,     22,2,19950811,1238, 19.2537,  58.5612, 1931,   -999,     60.3,  20.1666,  35.7729,2,  35.7767,2,     56.9,2, 20.1556,     70.1,2,    16.00,2,    22.63,2,     0.60,2,     2.00,2,    1.492,2,    0.840,2, -999.000,9,-999.0000,9,  -999.00,9,   -999.0,9,  -999.00,9,-999.000,9,   -999.9,9,   -999.9,9,  -999.0, -999.00,-999.0000,-999.000,-999.000
    316N145_10,  I07N,   809,  1,     21,     21,2,19950811,1238, 19.2537,  58.5612, 1931,   -999,     91.0,  18.7308,  35.7893,2,  35.7892,2,     10.5,2, 18.7149,      8.0,2,    19.47,2,    23.98,2,     0.04,2,     2.22,2,    1.065,2,    0.605,2, -999.000,9,-999.0000,9,  -999.00,9,   -999.0,9,  -999.00,9,-999.000,9,   -999.9,9,   -999.9,9,  -999.0, -999.00,-999.0000,-999.000,-999.000
    316N145_10,  I07N,   809,  1,     20,     20,2,19950811,1238, 19.2537,  58.5612, 1931,   -999,    155.5,  16.9715,  35.9106,2,  35.9095,2,      1.6,2, 16.9459,      2.1,2,    24.60,2,    22.40,2,     0.00,2,     2.34,2,    0.702,2,    0.425,2, -999.000,9,-999.0000,9,  -999.00,9,   -999.0,9,  -999.00,9,-999.000,9,   -999.9,9,   -999.9,9,  -999.0, -999.00,-999.0000,-999.000,-999.000
    316N145_10,  I07N,   809,  1,     19,     19,2,19950811,1238, 19.2537,  58.5612, 1931,   -999,    200.6,  16.2651,  35.9445,2,  35.9470,2,      1.6,2, 16.2330,      1.2,2,    26.96,2,    20.31,2,     1.08,2,     2.39,2,    0.563,2,    0.352,2, -999.000,9,-999.0000,9,  -999.00,9,   -999.0,9,  -999.00,9,-999.000,9,   -999.9,9,   -999.9,9,  -999.0, -999.00,-999.0000,-999.000,-999.000
    316N145_10,  I07N,   809,  1,     18,     18,2,19950811,1238, 19.2537,  58.5612, 1931,   -999,    250.6,  15.3687,  35.9545,2,  35.9537,2,      1.7,2, 15.3299,      1.4,2,    29.15,2,    20.10,2,     1.75,2,     2.43,2, -999.000,9, -999.000,9, -999.000,9,-999.0000,9,  -999.00,9,   -999.0,9,  -999.00,9,-999.000,9,   -999.9,9,   -999.9,9,  -999.0, -999.00,-999.0000,-999.000,-999.000
    316N145_10,  I07N,   809,  1,     17,     17,2,19950811,1238, 19.2537,  58.5612, 1931,   -999,    300.3,  14.2351,  35.8014,2,  35.8083,2,      2.9,2, 14.1909,      3.6,2,    30.78,2,    25.37,2,     0.00,2,     2.42,2,    0.424,2,    0.246,2, -999.000,9,-999.0000,9,  -999.00,9,   -999.0,9,  -999.00,9,-999.000,9,   -999.9,9,   -999.9,9,  -999.0, -999.00,-999.0000,-999.000,-999.000
    316N145_10,  I07N,   809,  1,     16,     16,2,19950811,1238, 19.2537,  58.5612, 1931,   -999,    388.7,  13.4306,  35.8112,2,  35.8089,2,      2.3,2, 13.3753,      2.8,2,    35.72,2,    25.93,2,     0.00,2,     2.53,2,    0.309,2,    0.169,2, -999.000,9,-999.0000,9,  -999.00,9,   -999.0,9,  -999.00,9,-999.000,9,   -999.9,9,   -999.9,9,  -999.0, -999.00,-999.0000,-999.000,-999.000
    316N145_10,  I07N,   809,  1,     15,     15,2,19950811,1238, 19.2537,  58.5612, 1931,   -999,    450.4,  12.9086,  35.7589,2,  35.7623,2,      3.1,2, 12.8460,      3.5,2,    38.45,2,    26.81,2,     0.00,2,     2.57,2,    0.228,2,    0.131,2, -999.000,9,-999.0000,9,  -999.00,9,   -999.0,9,  -999.00,9,-999.000,9,   -999.9,9,   -999.9,9,  -999.0, -999.00,-999.0000,-999.000,-999.000
    316N145_10,  I07N,   809,  1,     14,     14,2,19950811,1238, 19.2537,  58.5612, 1931,   -999,    499.2,  12.4174,  35.7056,2,  35.7050,2,      4.2,2, 12.3497,      4.3,2,    41.56,2,    27.97,2,     0.00,2,     2.61,2,    0.169,2,    0.094,2, -999.000,9,-999.0000,9,  -999.00,9,   -999.0,9,  -999.00,9,-999.000,9,   -999.9,9,   -999.9,9,  -999.0, -999.00,-999.0000,-999.000,-999.000
    316N145_10,  I07N,   809,  1,     13,     13,2,19950811,1238, 19.2537,  58.5612, 1931,   -999,    599.7,  11.7253,  35.6662,2,  35.6665,2,      3.7,2, 11.6465,      3.9,2,    48.34,2,    29.23,2,     0.00,2,     2.69,2, -999.000,9, -999.000,9, -999.000,9,-999.0000,9,  -999.00,9,   -999.0,9,  -999.00,9,-999.000,9,   -999.9,9,   -999.9,9,  -999.0, -999.00,-999.0000,-999.000,-999.000
    316N145_10,  I07N,   809,  1,     12,     12,2,19950811,1238, 19.2537,  58.5612, 1931,   -999,    701.3,  11.0898,  35.6221,2,  35.6224,2,      3.8,2, 11.0005,      4.0,2,    54.57,2,    30.96,2,     0.00,2,     2.76,2, -999.000,9, -999.000,9, -999.000,9,-999.0000,9,  -999.00,9,   -999.0,9,  -999.00,9,-999.000,9,   -999.9,9,   -999.9,9,  -999.0, -999.00,-999.0000,-999.000,-999.000
    316N145_10,  I07N,   809,  1,     11,     11,2,19950811,1238, 19.2537,  58.5612, 1931,   -999,    797.2,  10.3990,  35.5709,2,  35.5721,2,      4.6,2, 10.3009,      4.3,2,    60.99,2,    32.79,2,     0.00,2,     2.81,2,    0.055,2,    0.030,2, -999.000,9,-999.0000,9,  -999.00,9,   -999.0,9,  -999.00,9,-999.000,9,   -999.9,9,   -999.9,9,  -999.0, -999.00,-999.0000,-999.000,-999.000
    316N145_10,  I07N,   809,  1,     10,     10,2,19950811,1238, 19.2537,  58.5612, 1931,   -999,    899.4,   9.8072,  35.5154,2,  35.5136,2,      4.9,2,  9.6999,      5.0,2,    66.49,2,    34.11,2,     0.00,2,     2.87,2,    0.039,2,    0.022,2, -999.000,9,-999.0000,9,  -999.00,9,   -999.0,9,  -999.00,9,-999.000,9,   -999.9,9,   -999.9,9,  -999.0, -999.00,-999.0000,-999.000,-999.000
    316N145_10,  I07N,   809,  1,      9,      9,2,19950811,1238, 19.2537,  58.5612, 1931,   -999,    975.6,   9.2368,  35.4562,2,  35.4546,2,      5.4,2,  9.1240,      5.4,2,    71.63,2,    35.06,2,     0.00,2,     2.92,2, -999.000,9, -999.000,9, -999.000,9,-999.0000,9,  -999.00,9,   -999.0,9,  -999.00,9,-999.000,9,   -999.9,9,   -999.9,9,  -999.0, -999.00,-999.0000,-999.000,-999.000
    316N145_10,  I07N,   809,  1,      8,      8,2,19950811,1238, 19.2537,  58.5612, 1931,   -999,   1050.2,   8.7996,  35.4078,2,  35.4077,2,      6.4,2,  8.6810,      6.2,2,    75.49,2,    35.77,2,     0.00,2,     2.95,2,    0.025,2,    0.012,2, -999.000,9,-999.0000,9,  -999.00,9,   -999.0,9,  -999.00,9,-999.000,9,   -999.9,9,   -999.9,9,  -999.0, -999.00,-999.0000,-999.000,-999.000
    316N145_10,  I07N,   809,  1,      7,      7,2,19950811,1238, 19.2537,  58.5612, 1931,   -999,   1199.8,   7.5168,  35.2655,2,  35.2656,2,     11.5,2,  7.3915,     11.1,2,    86.77,2,    37.54,2,     0.00,2,     3.05,2,    0.009,2,    0.002,2, -999.000,9,-999.0000,9,  -999.00,9,   -999.0,9,  -999.00,9,-999.000,9,   -999.9,9,   -999.9,9,  -999.0, -999.00,-999.0000,-999.000,-999.000
    316N145_10,  I07N,   809,  1,      6,      6,2,19950811,1238, 19.2537,  58.5612, 1931,   -999,   1398.3,   6.2050,  35.1280,2,  35.1289,2,     28.9,2,  6.0708,     29.0,2,    98.88,2,    37.92,2,     0.00,2,     3.04,2, -999.000,9, -999.000,9, -999.000,9,-999.0000,9,  -999.00,9,   -999.0,9,  -999.00,9,-999.000,9,   -999.9,9,   -999.9,9,  -999.0, -999.00,-999.0000,-999.000,-999.000
    316N145_10,  I07N,   809,  1,      5,      5,2,19950811,1238, 19.2537,  58.5612, 1931,   -999,   1601.4,   4.9400,  35.0038,2,  35.0047,2,     45.3,2,  4.7992,     45.6,2,   112.82,2,    38.17,2,     0.00,2,     3.03,2,    0.000,2,    0.002,2, -999.000,9,-999.0000,9,  -999.00,9,   -999.0,9,  -999.00,9,-999.000,9,   -999.9,9,   -999.9,9,  -999.0, -999.00,-999.0000,-999.000,-999.000
    316N145_10,  I07N,   809,  1,      4,      4,2,19950811,1238, 19.2537,  58.5612, 1931,   -999,   1802.6,   3.9320,  34.9120,2,  34.9134,2,     64.9,2,  3.7847,     65.4,2,   123.70,2,    37.80,2,     0.00,2,     2.93,2,    0.001,2,    0.000,2, -999.000,9,-999.0000,9,  -999.00,9,   -999.0,9,  -999.00,9,-999.000,9,   -999.9,9,   -999.9,9,  -999.0, -999.00,-999.0000,-999.000,-999.000
    316N145_10,  I07N,   809,  1,      3,      3,2,19950811,1238, 19.2537,  58.5612, 1931,   -999,   1999.2,   3.2504,  34.8563,2,  34.8558,2,     78.8,2,  3.0945,     80.3,2,   131.43,2,    37.52,2,     0.00,2,     2.87,2, -999.000,9, -999.000,9, -999.000,9,-999.0000,9,  -999.00,9,   -999.0,9,  -999.00,9,-999.000,9,   -999.9,9,   -999.9,9,  -999.0, -999.00,-999.0000,-999.000,-999.000
    316N145_10,  I07N,   809,  1,      2,      2,2,19950811,1238, 19.2537,  58.5612, 1931,   -999,   2060.3,   2.9714,  34.8333,2,  34.8328,2,     85.8,2,  2.8142,     86.3,2,   134.72,2,    37.34,2,     0.00,2,     2.84,2, -999.000,9, -999.000,9, -999.000,9,-999.0000,9,  -999.00,9,   -999.0,9,  -999.00,9,-999.000,9,   -999.9,9,   -999.9,9,  -999.0, -999.00,-999.0000,-999.000,-999.000
    316N145_10,  I07N,   809,  1,      1,      1,2,19950811,1238, 19.2537,  58.5612, 1931,   -999,   2086.5,   2.9097,  34.8279,2,  34.8283,2,     87.3,2,  2.7511,     87.6,2,   135.66,2,    37.25,2,     0.00,2,     2.83,2, -999.000,9, -999.000,9, -999.000,9,-999.0000,9,  -999.00,9,   -999.0,9,  -999.00,9,-999.000,9,   -999.9,9,   -999.9,9,  -999.0, -999.00,-999.0000,-999.000,-999.000
    316N145_10,  I07N,   810,  1,     12,     12,2,19950811,1529, 19.4172,  58.3325,  714,   -999,      7.8,  21.9149,  35.6723,2,  35.6740,2,    238.5,2, 21.9136,    223.1,2,     7.13,2,    10.84,2,     0.66,2,     1.45,2,    1.887,2,    1.066,2, -999.000,9,-999.0000,9,  -999.00,9,   -999.0,9,  -999.00,9,-999.000,9,   -999.9,5,   2338.3,2,  -999.0, -999.00,-999.0000,-999.000,-999.000
    316N145_10,  I07N,   810,  1,     11,     11,2,19950811,1529, 19.4172,  58.3325,  714,   -999,     29.0,  20.9588,  35.7385,2,  35.7340,2,    170.7,2, 20.9535,    145.5,2,     9.08,2,    16.90,2,     0.75,2,     1.79,2,    1.743,2,    0.964,2, -999.000,9,-999.0000,9,  -999.00,9,   -999.0,9,  -999.00,9,-999.000,9,   -999.9,5,   2340.1,2,  -999.0, -999.00,-999.0000,-999.000,-999.000
    316N145_10,  I07N,   810,  1,     10,     10,2,19950811,1529, 19.4172,  58.3325,  714,   -999,     59.2,  19.6805,  35.7959,2,  35.7860,2,     32.4,2, 19.6699,     24.0,2,    16.80,2,    23.63,2,     0.12,2,     2.11,2,    1.263,2,    0.712,2, -999.000,9,-999.0000,9,  -999.00,9,   -999.0,9,  -999.00,9,-999.000,9,   -999.9,5,   2334.8,2,  -999.0, -999.00,-999.0000,-999.000,-999.000
    316N145_10,  I07N,   810,  1,      9,      9,2,19950811,1529, 19.4172,  58.3325,  714,   -999,     89.5,  18.3575,  35.8486,2,  35.8470,2,      2.1,2, 18.3420,      3.5,2,    20.61,2,    23.44,2,     0.03,2,     2.32,2,    0.965,2,    0.563,2, -999.000,9,-999.0000,9,  -999.00,9,   -999.0,9,  -999.00,9,-999.000,9,   -999.9,5,   2342.5,2,  -999.0, -999.00,-999.0000,-999.000,-999.000
    316N145_10,  I07N,   810,  1,      8,      8,2,19950811,1529, 19.4172,  58.3325,  714,   -999,    149.7,  17.0438,  35.8264,2,  35.8250,2,      1.0,2, 17.0191,      0.9,2,    24.51,2,    21.39,2,     0.64,2,     2.39,2,    0.692,2,    0.424,2, -999.000,9,-999.0000,9,  -999.00,9,   -999.0,9,  -999.00,9,-999.000,9,   -999.9,5,   2341.0,2,  -999.0, -999.00,-999.0000,-999.000,-999.000
    316N145_10,  I07N,   810,  1,      7,      7,2,19950811,1529, 19.4172,  58.3325,  714,   -999,    250.3,  15.5324,  35.8479,2,  35.8500,2,      4.0,2, 15.4934,      4.8,2,    27.05,2,    24.02,2,     0.01,2,     2.37,2,    0.603,2,    0.354,2, -999.000,9,-999.0000,9,  -999.00,9,   -999.0,9,  -999.00,9,-999.000,9,   -999.9,5,   2332.3,3,  -999.0, -999.00,-999.0000,-999.000,-999.000
    316N145_10,  I07N,   810,  1,      6,      6,2,19950811,1529, 19.4172,  58.3325,  714,   -999,    350.4,  13.7507,  35.7941,2,  35.7950,2,      3.6,2, 13.7002,      3.5,2,    33.01,2,    25.98,2,     0.00,2,     2.50,2,    0.362,2,    0.214,2, -999.000,9,-999.0000,9,  -999.00,9,   -999.0,9,  -999.00,9,-999.000,9,   -999.9,5,   2344.2,2,  -999.0, -999.00,-999.0000,-999.000,-999.000
    316N145_10,  I07N,   810,  1,      5,      5,2,19950811,1529, 19.4172,  58.3325,  714,   -999,    450.9,  12.7932,  35.7331,2,  35.7330,2,      4.7,2, 12.7309,      4.3,2,    39.46,2,    27.35,2,     0.00,2,     2.59,2,    0.229,2,    0.134,2, -999.000,9,-999.0000,9,  -999.00,9,   -999.0,9,  -999.00,9,-999.000,9,   -999.9,5,   2348.5,2,  -999.0, -999.00,-999.0000,-999.000,-999.000
    316N145_10,  I07N,   810,  1,      4,      4,2,19950811,1529, 19.4172,  58.3325,  714,   -999,    551.0,  12.0981,  35.6852,2,  35.6900,2,      4.7,2, 12.0245,      4.3,2,    44.93,2,    28.42,2,     0.00,2,     2.67,2,    0.153,2,    0.090,2, -999.000,9,-999.0000,9,  -999.00,9,   -999.0,9,  -999.00,9,-999.000,9,   -999.9,5,   2348.0,2,  -999.0, -999.00,-999.0000,-999.000,-999.000
    316N145_10,  I07N,   810,  1,      3,      3,2,19950811,1529, 19.4172,  58.3325,  714,   -999,    651.5,  11.3849,  35.6425,2,  35.6400,2,      4.4,2, 11.3007,      4.3,2,    52.65,2,    29.99,2,     0.00,2,     2.74,2,    0.108,2,    0.058,2, -999.000,9,-999.0000,9,  -999.00,9,   -999.0,9,  -999.00,9,-999.000,9,   -999.9,5,   2356.9,2,  -999.0, -999.00,-999.0000,-999.000,-999.000
    316N145_10,  I07N,   810,  1,      2,      2,2,19950811,1529, 19.4172,  58.3325,  714,   -999,    696.6,  11.0835,  35.6182,2,  35.6220,2,      4.3,2, 10.9948,      4.3,2,    54.99,2,    30.67,2,     0.00,2,     2.76,2,    0.088,2,    0.050,2, -999.000,9,-999.0000,9,  -999.00,9,   -999.0,9,  -999.00,9,-999.000,9,   -999.9,5,   2356.5,2,  -999.0, -999.00,-999.0000,-999.000,-999.000
    316N145_10,  I07N,   810,  1,      1,      1,2,19950811,1529, 19.4172,  58.3325,  714,   -999,    722.8,  10.8098,  35.5991,2,  35.5990,2,      4.5,2, 10.7190,      4.8,2,    57.82,2,    31.26,2,     0.00,2,     2.78,2,    0.079,2,    0.048,2, -999.000,9,-999.0000,9,  -999.00,9,   -999.0,9,  -999.00,9,-999.000,9,   -999.9,5,   2361.7,2,  -999.0, -999.00,-999.0000,-999.000,-999.000