BOTTLE,20080821WHPSIOSCD
EXPOCODE,SECT_ID,STNNBR,CASTNO,SAMPNO,BTLNBR,BTLNBR_FLAG_W,DATE,TIME,LATITUDE,LONGITUDE,DEPTH,CTDRAW,CTDPRS,CTDTMP,CTDSAL,CTDSAL_FLAG_W,SALNTY,SALNTY_FLAG_W,CTDOXY,CTDOXY_FLAG_W,THETA,OXYGEN,OXYGEN_FLAG_W,SILCAT,SILCAT_FLAG_W,NITRAT,NITRAT_FLAG_W,NITRIT,NITRIT_FLAG_W,PHSPHT,PHSPHT_FLAG_W,CFC-11,CFC-11_FLAG_W,CFC-12,CFC-12_FLAG_W,TRITUM,TRITUM_FLAG_W,HELIUM,HELIUM_FLAG_W,DELHE3,DELHE3_FLAG_W,DELC14,DELC14_FLAG_W,DELC13,DELC13_FLAG_W,NEON,NEON_FLAG_W,TCARBN,TCARBN_FLAG_W,ALKALI,ALKALI_FLAG_W,C14ERR,DELHER,HELIER,NEONER,TRITER
,,,,,,,,,,,,,DBAR,ITS-90,PSS-78,,PSS-78,,UMOL/KG,,DEG C,UMOL/KG,,UMOL/KG,,UMOL/KG,,UMOL/KG,,UMOL/KG,,PMOL/KG,,PMOL/KG,,TU,,NMOL/KG,,PERCNT,,/MILLE,,/MILLE,,NMOL/KG,,UMOL/KG,,UMOL/KG,,/MILLE,PERCNT,NMOL/KG,NMOL/KG,TU
    316N145_10,  I07N,   779,  1,     36,     36,2,19950804,0040,  7.5947,  62.4597, 4367,   -999,      9.1,  28.0804,  36.4250,2,  36.4250,2,    195.7,2, 28.0785,    193.8,2,     2.02,2,     0.01,2,     0.00,2,     0.28,2,    1.595,2,    0.922,2, -999.000,9,-999.0000,9,  -999.00,9,   -999.0,9,  -999.00,9,-999.000,9,   2017.9,2,   2380.9,2,  -999.0, -999.00,-999.0000,-999.000,-999.000
    316N145_10,  I07N,   779,  1,     35,     35,2,19950804,0040,  7.5947,  62.4597, 4367,   -999,     40.6,  28.0840,  36.4242,2,  36.4244,2,    192.5,2, 28.0746,    193.7,2,     2.00,2,     0.01,2,     0.00,2,     0.28,2,    1.607,2,    0.923,2, -999.000,9,-999.0000,9,  -999.00,9,   -999.0,9,  -999.00,9,-999.000,9,   -999.9,9,   -999.9,9,  -999.0, -999.00,-999.0000,-999.000,-999.000
    316N145_10,  I07N,   779,  1,     34,     34,2,19950804,0040,  7.5947,  62.4597, 4367,   -999,     80.6,  28.1019,  36.4326,2,  36.4313,2,    197.5,2, 28.0831,    193.4,2,     1.98,2,     0.04,2,     0.01,2,     0.28,2, -999.000,9, -999.000,9, -999.000,9,-999.0000,9,  -999.00,9,   -999.0,9,  -999.00,9,-999.000,9,   -999.9,9,   -999.9,9,  -999.0, -999.00,-999.0000,-999.000,-999.000
    316N145_10,  I07N,   779,  1,     33,     33,2,19950804,0040,  7.5947,  62.4597, 4367,   -999,    100.9,  27.8350,  36.4372,2,  36.4221,2,    182.7,2, 27.8114,    174.0,2,     2.16,2,     1.58,2,     0.37,2,     0.40,2,    1.563,2,    0.900,2, -999.000,9,-999.0000,9,  -999.00,9,   -999.0,9,  -999.00,9,-999.000,9,   -999.9,9,   -999.9,9,  -999.0, -999.00,-999.0000,-999.000,-999.000
    316N145_10,  I07N,   779,  1,     32,     32,2,19950804,0040,  7.5947,  62.4597, 4367,   -999,    124.8,  20.8210,  35.6136,2,  35.5921,2,     54.8,2, 20.7974,     21.0,2,    15.39,2,    23.40,2,     0.05,2,     1.82,2,    1.100,2,    0.618,2, -999.000,9,-999.0000,9,  -999.00,9,   -999.0,9,  -999.00,9,-999.000,9,   -999.9,9,   -999.9,9,  -999.0, -999.00,-999.0000,-999.000,-999.000
    316N145_10,  I07N,   779,  1,     31,     31,2,19950804,0040,  7.5947,  62.4597, 4367,   -999,    169.6,  15.7927,  35.2665,2,  35.2595,2,      9.9,2, 15.7662,     12.3,2,    24.14,2,    27.77,2,     0.00,2,     2.15,2,    0.631,2,    0.347,2, -999.000,9,-999.0000,9,  -999.00,9,   -999.0,9,  -999.00,9,-999.000,9,   -999.9,9,   -999.9,9,  -999.0, -999.00,-999.0000,-999.000,-999.000
    316N145_10,  I07N,   779,  1,     30,     30,2,19950804,0040,  7.5947,  62.4597, 4367,   -999,    179.7,  15.0621,  35.2178,2,  35.2253,2,     14.3,2, 15.0349,     14.3,2,    25.29,2,    28.28,2,     0.00,2,     2.18,2, -999.000,9, -999.000,9, -999.000,9,-999.0000,9,  -999.00,9,   -999.0,9,  -999.00,9,-999.000,9,   -999.9,9,   -999.9,9,  -999.0, -999.00,-999.0000,-999.000,-999.000
    316N145_10,  I07N,   779,  1,     29,     29,2,19950804,0040,  7.5947,  62.4597, 4367,   -999,    210.6,  13.9195,  35.2128,2,  35.2106,2,     27.1,2, 13.8893,     29.4,2,    25.08,2,    28.14,2,     0.00,2,     2.10,2,    0.543,2,    0.288,2, -999.000,9,-999.0000,9,  -999.00,9,   -999.0,9,  -999.00,9,-999.000,9,   -999.9,9,   -999.9,9,  -999.0, -999.00,-999.0000,-999.000,-999.000
    316N145_10,  I07N,   779,  1,     28,     28,2,19950804,0040,  7.5947,  62.4597, 4367,   -999,    249.3,  13.1134,  35.2140,2,  35.2153,2,     55.1,2, 13.0789,     55.3,2,    23.90,2,    26.50,2,     0.00,2,     1.95,2,    0.668,2,    0.360,2, -999.000,9,-999.0000,9,  -999.00,9,   -999.0,9,  -999.00,9,-999.000,9,   -999.9,9,   -999.9,9,  -999.0, -999.00,-999.0000,-999.000,-999.000
    316N145_10,  I07N,   779,  1,     27,     27,2,19950804,0040,  7.5947,  62.4597, 4367,   -999,    350.3,  11.5638,  35.1669,2,  35.1696,2,     62.4,2, 11.5189,     60.5,2,    28.36,2,    28.33,2,     0.00,2,     2.06,2,    0.480,2,    0.252,2, -999.000,9,-999.0000,9,  -999.00,9,   -999.0,9,  -999.00,9,-999.000,9,   -999.9,9,   -999.9,9,  -999.0, -999.00,-999.0000,-999.000,-999.000
    316N145_10,  I07N,   779,  1,     26,     26,2,19950804,0040,  7.5947,  62.4597, 4367,   -999,    425.6,  11.0875,  35.2136,2,  35.2125,2,     46.1,2, 11.0343,     45.7,2,    34.38,2,    30.43,2,     0.00,2,     2.27,2,    0.296,2,    0.169,2, -999.000,9,-999.0000,9,  -999.00,9,   -999.0,9,  -999.00,9,-999.000,9,   -999.9,9,   -999.9,9,  -999.0, -999.00,-999.0000,-999.000,-999.000
    316N145_10,  I07N,   779,  1,     25,     25,2,19950804,0040,  7.5947,  62.4597, 4367,   -999,    499.2,  10.7475,  35.2251,2,  35.2255,2,     37.2,2, 10.6860,     36.4,2,    39.43,2,    31.86,2,     0.00,2,     2.40,2,    0.170,2,    0.097,2, -999.000,9,-999.0000,9,  -999.00,9,   -999.0,9,  -999.00,9,-999.000,9,   -999.9,9,   -999.9,9,  -999.0, -999.00,-999.0000,-999.000,-999.000
    316N145_10,  I07N,   779,  1,     24,     24,2,19950804,0040,  7.5947,  62.4597, 4367,   -999,    600.1,  10.2976,  35.2673,2,  35.2662,2,     27.8,2, 10.2251,     27.1,2,    47.80,2,    33.19,2,     0.00,2,     2.57,2,    0.089,6,    0.052,6, -999.000,9,-999.0000,9,  -999.00,9,   -999.0,9,  -999.00,9,-999.000,9,   -999.9,9,   -999.9,9,  -999.0, -999.00,-999.0000,-999.000,-999.000
    316N145_10,  I07N,   779,  1,     23,     23,2,19950804,0040,  7.5947,  62.4597, 4367,   -999,    700.9,  10.0582,  35.3069,2,  35.3071,2,     26.9,2,  9.9743,     26.5,2,    52.65,2,    33.51,2,     0.00,2,     2.60,2,    0.079,2,    0.044,2, -999.000,9,-999.0000,9,  -999.00,9,   -999.0,9,  -999.00,9,-999.000,9,   -999.9,9,   -999.9,9,  -999.0, -999.00,-999.0000,-999.000,-999.000
    316N145_10,  I07N,   779,  1,     22,     22,2,19950804,0040,  7.5947,  62.4597, 4367,   -999,    799.6,   9.2708,  35.2575,2,  35.2581,2,     27.6,2,  9.1793,     26.9,2,    61.22,2,    34.76,2,     0.00,2,     2.70,2,    0.046,2,    0.022,2, -999.000,9,-999.0000,9,  -999.00,9,   -999.0,9,  -999.00,9,-999.000,9,   -999.9,9,   -999.9,9,  -999.0, -999.00,-999.0000,-999.000,-999.000
    316N145_10,  I07N,   779,  1,     21,     21,2,19950804,0040,  7.5947,  62.4597, 4367,   -999,    899.7,   8.5009,  35.1815,2,  35.1820,2,     29.3,2,  8.4024,     32.2,2,    68.24,2,    35.55,2,     0.00,2,     2.75,2,    0.027,2,    0.016,2, -999.000,9,-999.0000,9,  -999.00,9,   -999.0,9,  -999.00,9,-999.000,9,   -999.9,9,   -999.9,9,  -999.0, -999.00,-999.0000,-999.000,-999.000
    316N145_10,  I07N,   779,  1,     20,     20,2,19950804,0040,  7.5947,  62.4597, 4367,   -999,   1000.9,   7.9783,  35.1667,2,  35.1661,2,     32.6,2,  7.8719,     31.9,2,    75.27,2,    36.20,2,     0.00,2,     2.81,2,    0.019,2,    0.010,2, -999.000,9,-999.0000,9,  -999.00,9,   -999.0,9,  -999.00,9,-999.000,9,   -999.9,9,   -999.9,9,  -999.0, -999.00,-999.0000,-999.000,-999.000
    316N145_10,  I07N,   779,  1,     19,     19,2,19950804,0040,  7.5947,  62.4597, 4367,   -999,   1201.0,   6.6363,  35.0592,2,  35.0629,2,     44.8,2,  6.5190,     44.2,2,    87.82,2,    37.00,2,     0.00,2,     2.84,2,    0.004,2,    0.002,2, -999.000,9,-999.0000,9,  -999.00,9,   -999.0,9,  -999.00,9,-999.000,9,   -999.9,9,   -999.9,9,  -999.0, -999.00,-999.0000,-999.000,-999.000
    316N145_10,  I07N,   779,  1,     18,     18,2,19950804,0040,  7.5947,  62.4597, 4367,   -999,   1397.7,   5.3758,  34.9667,2,  34.9692,2,     64.4,2,  5.2506,     64.3,2,    99.85,2,    37.00,2,     0.00,2,     2.82,2,    0.000,2,    0.002,2, -999.000,9,-999.0000,9,  -999.00,9,   -999.0,9,  -999.00,9,-999.000,9,   -999.9,9,   -999.9,9,  -999.0, -999.00,-999.0000,-999.000,-999.000
    316N145_10,  I07N,   779,  1,     17,     17,2,19950804,0040,  7.5947,  62.4597, 4367,   -999,   1601.2,   4.3292,  34.8927,2,  34.8929,2,     80.4,2,  4.1961,     82.7,2,   110.57,2,    36.77,2,     0.00,2,     2.79,2,   -0.001,2,   -0.001,2, -999.000,9,-999.0000,9,  -999.00,9,   -999.0,9,  -999.00,9,-999.000,9,   -999.9,9,   -999.9,9,  -999.0, -999.00,-999.0000,-999.000,-999.000
    316N145_10,  I07N,   779,  1,     16,     16,2,19950804,0040,  7.5947,  62.4597, 4367,   -999,   1798.3,   3.6761,  34.8462,2,  34.8472,2,     99.0,2,  3.5329,     98.7,2,   116.36,2,    36.31,2,     0.00,2,     2.72,2,   -0.002,2,   -0.001,2, -999.000,9,-999.0000,9,  -999.00,9,   -999.0,9,  -999.00,9,-999.000,9,   -999.9,9,   -999.9,9,  -999.0, -999.00,-999.0000,-999.000,-999.000
    316N145_10,  I07N,   779,  1,     15,     15,2,19950804,0040,  7.5947,  62.4597, 4367,   -999,   2001.4,   2.9528,  34.8047,2,  34.8054,2,    117.4,2,  2.8014,    116.6,2,   124.01,2,    35.84,2,     0.00,2,     2.66,2,   -0.001,2,    0.002,2, -999.000,9,-999.0000,9,  -999.00,9,   -999.0,9,  -999.00,9,-999.000,9,   -999.9,9,   -999.9,9,  -999.0, -999.00,-999.0000,-999.000,-999.000
    316N145_10,  I07N,   779,  1,     14,     14,2,19950804,0040,  7.5947,  62.4597, 4367,   -999,   2203.5,   2.5561,  34.7814,2,  34.7800,2,    128.8,2,  2.3926,    129.0,2,   127.64,2,    35.43,2,     0.00,2,     2.60,2, -999.000,9, -999.000,9, -999.000,9,-999.0000,9,  -999.00,9,   -999.0,9,  -999.00,9,-999.000,9,   -999.9,9,   -999.9,9,  -999.0, -999.00,-999.0000,-999.000,-999.000
    316N145_10,  I07N,   779,  1,     13,     13,2,19950804,0040,  7.5947,  62.4597, 4367,   -999,   2400.1,   2.3954,  34.7725,2,  34.7726,2,    131.9,2,  2.2167,    133.5,2,   129.46,2,    35.24,2,     0.00,2,     2.58,2, -999.000,9, -999.000,9, -999.000,9,-999.0000,9,  -999.00,9,   -999.0,9,  -999.00,9,-999.000,9,   -999.9,9,   -999.9,9,  -999.0, -999.00,-999.0000,-999.000,-999.000
    316N145_10,  I07N,   779,  1,     12,     12,2,19950804,0040,  7.5947,  62.4597, 4367,   -999,   2597.3,   2.1648,  34.7636,2,  34.7633,2,    138.3,2,  1.9720,    139.0,2,   132.71,2,    35.15,2,     0.00,2,     2.56,2, -999.000,9, -999.000,9, -999.000,9,-999.0000,9,  -999.00,9,   -999.0,9,  -999.00,9,-999.000,9,   -999.9,9,   -999.9,9,  -999.0, -999.00,-999.0000,-999.000,-999.000
    316N145_10,  I07N,   779,  1,     11,     11,2,19950804,0040,  7.5947,  62.4597, 4367,   -999,   2801.9,   2.0061,  34.7545,2,  34.7551,2,    143.1,2,  1.7972,    143.3,2,   134.54,2,    35.01,2,     0.00,2,     2.54,2, -999.000,9, -999.000,9, -999.000,9,-999.0000,9,  -999.00,9,   -999.0,9,  -999.00,9,-999.000,9,   -999.9,9,   -999.9,9,  -999.0, -999.00,-999.0000,-999.000,-999.000
    316N145_10,  I07N,   779,  1,     10,     10,2,19950804,0040,  7.5947,  62.4597, 4367,   -999,   2999.4,   1.8601,  34.7471,2,  34.7463,2,    148.0,2,  1.6352,    148.3,2,   135.96,2,    34.83,2,     0.00,2,     2.52,2, -999.000,9, -999.000,9, -999.000,9,-999.0000,9,  -999.00,9,   -999.0,9,  -999.00,9,-999.000,9,   -999.9,9,   -999.9,9,  -999.0, -999.00,-999.0000,-999.000,-999.000
    316N145_10,  I07N,   779,  1,      9,      9,2,19950804,0040,  7.5947,  62.4597, 4367,   -999,   3203.6,   1.7751,  34.7412,2,  34.7406,2,    151.1,2,  1.5320,    151.4,2,   136.77,2,    34.74,2,     0.00,2,     2.50,2, -999.000,9, -999.000,9, -999.000,9,-999.0000,9,  -999.00,9,   -999.0,9,  -999.00,9,-999.000,9,   -999.9,9,   -999.9,9,  -999.0, -999.00,-999.0000,-999.000,-999.000
    316N145_10,  I07N,   779,  1,      8,      8,2,19950804,0040,  7.5947,  62.4597, 4367,   -999,   3401.2,   1.7099,  34.7389,2,  34.7372,2,    154.2,2,  1.4484,    154.0,2,   137.16,2,    34.60,2,     0.00,2,     2.49,2, -999.000,9, -999.000,9, -999.000,9,-999.0000,9,  -999.00,9,   -999.0,9,  -999.00,9,-999.000,9,   -999.9,9,   -999.9,9,  -999.0, -999.00,-999.0000,-999.000,-999.000
    316N145_10,  I07N,   779,  1,      7,      7,2,19950804,0040,  7.5947,  62.4597, 4367,   -999,   3600.3,   1.6731,  34.7360,2,  34.7368,2,    156.8,2,  1.3920,    156.9,2,   137.35,2,    34.41,2,     0.00,2,     2.47,2, -999.000,9, -999.000,9, -999.000,9,-999.0000,9,  -999.00,9,   -999.0,9,  -999.00,9,-999.000,9,   -999.9,9,   -999.9,9,  -999.0, -999.00,-999.0000,-999.000,-999.000
    316N145_10,  I07N,   779,  1,      6,      6,2,19950804,0040,  7.5947,  62.4597, 4367,   -999,   3798.6,   1.6545,  34.7338,2,  34.7341,2,    158.9,2,  1.3529,    158.8,2,   137.34,2,    34.41,2,     0.00,2,     2.46,2, -999.000,9, -999.000,9, -999.000,9,-999.0000,9,  -999.00,9,   -999.0,9,  -999.00,9,-999.000,9,   -999.9,9,   -999.9,9,  -999.0, -999.00,-999.0000,-999.000,-999.000
    316N145_10,  I07N,   779,  1,      5,      5,2,19950804,0040,  7.5947,  62.4597, 4367,   -999,   3997.6,   1.6490,  34.7336,2,  34.7325,2,    159.9,2,  1.3260,    160.2,2,   137.12,2,    34.32,2,     0.00,2,     2.46,2, -999.000,9, -999.000,9, -999.000,9,-999.0000,9,  -999.00,9,   -999.0,9,  -999.00,9,-999.000,9,   -999.9,9,   -999.9,9,  -999.0, -999.00,-999.0000,-999.000,-999.000
    316N145_10,  I07N,   779,  1,      4,      4,2,19950804,0040,  7.5947,  62.4597, 4367,   -999,   4202.0,   1.6582,  34.7325,2,  34.7335,2,    160.5,2,  1.3122,    160.9,2,   137.10,2,    34.28,2,     0.00,2,     2.46,2, -999.000,9, -999.000,9, -999.000,9,-999.0000,9,  -999.00,9,   -999.0,9,  -999.00,9,-999.000,9,   -999.9,9,   -999.9,9,  -999.0, -999.00,-999.0000,-999.000,-999.000
    316N145_10,  I07N,   779,  1,      3,      3,2,19950804,0040,  7.5947,  62.4597, 4367,   -999,   4303.9,   1.6686,  34.7335,2,  34.7317,2,    161.2,2,  1.3108,    160.8,2,   137.09,2,    34.23,2,     0.00,2,     2.45,2, -999.000,9, -999.000,9, -999.000,9,-999.0000,9,  -999.00,9,   -999.0,9,  -999.00,9,-999.000,9,   -999.9,9,   -999.9,9,  -999.0, -999.00,-999.0000,-999.000,-999.000
    316N145_10,  I07N,   779,  1,      2,      2,2,19950804,0040,  7.5947,  62.4597, 4367,   -999,   4375.2,   1.6766,  34.7323,2,  34.7341,2,    161.6,2,  1.3104,    161.1,2,   136.86,2,    34.23,2,     0.00,2,     2.45,2, -999.000,9, -999.000,9, -999.000,9,-999.0000,9,  -999.00,9,   -999.0,9,  -999.00,9,-999.000,9,   -999.9,9,   -999.9,9,  -999.0, -999.00,-999.0000,-999.000,-999.000
    316N145_10,  I07N,   779,  1,      1,      1,2,19950804,0040,  7.5947,  62.4597, 4367,   -999,   4426.8,   1.6813,  34.7315,2,  34.7325,2,    161.6,2,  1.3090,    161.4,2,   136.85,2,    34.23,2,     0.00,2,     2.45,2, -999.000,9, -999.000,9, -999.000,9,-999.0000,9,  -999.00,9,   -999.0,9,  -999.00,9,-999.000,9,   -999.9,9,   -999.9,9,  -999.0, -999.00,-999.0000,-999.000,-999.000