BOTTLE,20080821WHPSIOSCD
EXPOCODE,SECT_ID,STNNBR,CASTNO,SAMPNO,BTLNBR,BTLNBR_FLAG_W,DATE,TIME,LATITUDE,LONGITUDE,DEPTH,CTDRAW,CTDPRS,CTDTMP,CTDSAL,CTDSAL_FLAG_W,SALNTY,SALNTY_FLAG_W,CTDOXY,CTDOXY_FLAG_W,THETA,OXYGEN,OXYGEN_FLAG_W,SILCAT,SILCAT_FLAG_W,NITRAT,NITRAT_FLAG_W,NITRIT,NITRIT_FLAG_W,PHSPHT,PHSPHT_FLAG_W,CFC-11,CFC-11_FLAG_W,CFC-12,CFC-12_FLAG_W,TRITUM,TRITUM_FLAG_W,HELIUM,HELIUM_FLAG_W,DELHE3,DELHE3_FLAG_W,DELC14,DELC14_FLAG_W,DELC13,DELC13_FLAG_W,NEON,NEON_FLAG_W,TCARBN,TCARBN_FLAG_W,ALKALI,ALKALI_FLAG_W,C14ERR,DELHER,HELIER,NEONER,TRITER
,,,,,,,,,,,,,DBAR,ITS-90,PSS-78,,PSS-78,,UMOL/KG,,DEG C,UMOL/KG,,UMOL/KG,,UMOL/KG,,UMOL/KG,,UMOL/KG,,PMOL/KG,,PMOL/KG,,TU,,NMOL/KG,,PERCNT,,/MILLE,,/MILLE,,NMOL/KG,,UMOL/KG,,UMOL/KG,,/MILLE,PERCNT,NMOL/KG,NMOL/KG,TU
    316N145_10,  I07N,   771,  1,     14,     14,2,19950801,1613,  4.3900,  59.5233, 4108,   -999,      8.2,  27.8960,  35.8471,2,  35.8473,2,    200.9,2, 27.8943,    198.1,2,     3.39,2,     0.04,2,     0.00,2,     0.23,2, -999.000,9, -999.000,9, -999.000,9,-999.0000,9,  -999.00,9,   -999.0,9,  -999.00,9,-999.000,9,   1993.6,2,   2342.6,2,  -999.0, -999.00,-999.0000,-999.000,-999.000
    316N145_10,  I07N,   771,  1,     13,     13,2,19950801,1613,  4.3900,  59.5233, 4108,   -999,     32.1,  27.9540,  35.9874,2,  35.9880,2,    195.7,2, 27.9466,    197.0,2,     3.19,2,     0.04,2,     0.00,2,     0.23,2, -999.000,9, -999.000,9, -999.000,9,-999.0000,9,  -999.00,9,   -999.0,9,  -999.00,9,-999.000,9,   -999.9,9,   -999.9,9,  -999.0, -999.00,-999.0000,-999.000,-999.000
    316N145_10,  I07N,   771,  1,     12,     12,2,19950801,1613,  4.3900,  59.5233, 4108,   -999,     67.1,  28.1503,  36.1857,2,  36.1931,2,    197.3,2, 28.1346,    195.1,2,     3.00,2,     0.00,2,     0.00,2,     0.24,2,    1.619,2,    0.921,2, -999.000,9,-999.0000,9,  -999.00,9,   -999.0,9,  -999.00,9,-999.000,9,   -999.9,9,   -999.9,9,  -999.0, -999.00,-999.0000,-999.000,-999.000
    316N145_10,  I07N,   771,  1,     11,     11,2,19950801,1613,  4.3900,  59.5233, 4108,   -999,     92.5,  27.7855,  36.1385,2,  36.1431,2,    196.7,2, 27.7640,    189.9,2,     3.16,2,     0.31,2,     0.05,2,     0.28,2,    1.623,2,    0.922,2, -999.000,9,-999.0000,9,  -999.00,9,   -999.0,9,  -999.00,9,-999.000,9,   -999.9,9,   -999.9,9,  -999.0, -999.00,-999.0000,-999.000,-999.000
    316N145_10,  I07N,   771,  1,     10,     10,2,19950801,1613,  4.3900,  59.5233, 4108,   -999,    112.5,  26.0624,  36.0268,2,  36.0225,2,    160.0,2, 26.0374,    149.9,2,     5.08,2,     5.52,2,     0.24,2,     0.67,2,    1.629,2,    0.931,2, -999.000,9,-999.0000,9,  -999.00,9,   -999.0,9,  -999.00,9,-999.000,9,   -999.9,9,   -999.9,9,  -999.0, -999.00,-999.0000,-999.000,-999.000
    316N145_10,  I07N,   771,  1,      9,      9,2,19950801,1613,  4.3900,  59.5233, 4108,   -999,    161.9,  16.8790,  35.3078,2,  35.3082,2,     48.9,2, 16.8525,     49.5,2,    19.17,2,    23.86,2,     0.01,2,     1.79,2,    1.020,2,    0.542,2, -999.000,9,-999.0000,9,  -999.00,9,   -999.0,9,  -999.00,9,-999.000,9,   -999.9,9,   -999.9,9,  -999.0, -999.00,-999.0000,-999.000,-999.000
    316N145_10,  I07N,   771,  1,      8,      8,2,19950801,1613,  4.3900,  59.5233, 4108,   -999,    247.3,  13.0908,  35.1837,2,  35.1847,2,     74.7,2, 13.0566,     85.4,2,    21.45,2,    23.65,2,     0.00,2,     1.73,2, -999.000,9, -999.000,9, -999.000,9,-999.0000,9,  -999.00,9,   -999.0,9,  -999.00,9,-999.000,9,   -999.9,9,   -999.9,9,  -999.0, -999.00,-999.0000,-999.000,-999.000
    316N145_10,  I07N,   771,  1,      7,      7,2,19950801,1613,  4.3900,  59.5233, 4108,   -999,    297.7,  12.0416,  35.1537,2,  35.1563,2,     94.2,2, 12.0026,     90.1,2,    23.90,2,    24.60,2,     0.00,2,     1.82,2, -999.000,9, -999.000,9, -999.000,9,-999.0000,9,  -999.00,9,   -999.0,9,  -999.00,9,-999.000,9,   -999.9,9,   -999.9,9,  -999.0, -999.00,-999.0000,-999.000,-999.000
    316N145_10,  I07N,   771,  1,      6,      6,2,19950801,1613,  4.3900,  59.5233, 4108,   -999,    347.5,  11.2196,  35.1204,2,  35.1198,2,     82.0,2, 11.1760,     86.1,2,    27.75,2,    26.50,2,     0.00,2,     1.95,2, -999.000,9, -999.000,9, -999.000,9,-999.0000,9,  -999.00,9,   -999.0,9,  -999.00,9,-999.000,9,   -999.9,9,   -999.9,9,  -999.0, -999.00,-999.0000,-999.000,-999.000
    316N145_10,  I07N,   771,  1,      5,      5,2,19950801,1613,  4.3900,  59.5233, 4108,   -999,    398.0,  10.8337,  35.1134,2,  35.1170,2,     78.2,2, 10.7847,     75.3,2,    31.26,2,    28.26,2,     0.00,2,     2.09,2, -999.000,9, -999.000,9, -999.000,9,-999.0000,9,  -999.00,9,   -999.0,9,  -999.00,9,-999.000,9,   -999.9,9,   -999.9,9,  -999.0, -999.00,-999.0000,-999.000,-999.000
    316N145_10,  I07N,   771,  1,      4,      4,2,19950801,1613,  4.3900,  59.5233, 4108,   -999,    498.2,  10.2113,  35.1201,2,  35.1223,2,     59.4,2, 10.1519,     60.1,2,    39.00,2,    30.71,2,     0.00,2,     2.29,2, -999.000,9, -999.000,9, -999.000,9,-999.0000,9,  -999.00,9,   -999.0,9,  -999.00,9,-999.000,9,   -999.9,9,   -999.9,9,  -999.0, -999.00,-999.0000,-999.000,-999.000
    316N145_10,  I07N,   771,  1,      3,      3,2,19950801,1613,  4.3900,  59.5233, 4108,   -999,    599.3,   9.8236,  35.1343,2,  35.1359,2,     47.1,2,  9.7535,     50.5,2,    45.50,2,    32.26,2,     0.00,2,     2.44,2, -999.000,9, -999.000,9, -999.000,9,-999.0000,9,  -999.00,9,   -999.0,9,  -999.00,9,-999.000,9,   -999.9,9,   -999.9,9,  -999.0, -999.00,-999.0000,-999.000,-999.000
    316N145_10,  I07N,   771,  1,      2,      2,2,19950801,1613,  4.3900,  59.5233, 4108,   -999,    699.5,   9.3515,  35.1456,2,  35.1476,2,     39.5,2,  9.2715,     40.1,2,    53.77,2,    33.91,2,     0.00,2,     2.59,2,    0.068,2,    0.043,2, -999.000,9,-999.0000,9,  -999.00,9,   -999.0,9,  -999.00,9,-999.000,9,   -999.9,9,   -999.9,9,  -999.0, -999.00,-999.0000,-999.000,-999.000
    316N145_10,  I07N,   771,  1,      1,      1,2,19950801,1613,  4.3900,  59.5233, 4108,   -999,    850.6,   8.6433,  35.1531,2,  35.1620,2,     36.4,2,  8.5495,     35.8,2,    64.87,2,    35.19,2,     0.00,2,     2.71,2,    0.029,2,    0.021,2, -999.000,9,-999.0000,9,  -999.00,9,   -999.0,9,  -999.00,9,-999.000,9,   -999.9,9,   -999.9,9,  -999.0, -999.00,-999.0000,-999.000,-999.000
    316N145_10,  I07N,   771,  1,     36,     36,2,19950801,1613,  4.3900,  59.5233, 4108,   -999,    951.4,   8.1071,  35.1411,2,  35.1421,2,     34.9,2,  8.0054,     34.2,2,    72.27,2,    36.07,2,     0.00,2,     2.77,2,    0.019,2,    0.016,2, -999.000,9,-999.0000,9,  -999.00,9,   -999.0,9,  -999.00,9,-999.000,9,   -999.9,9,   -999.9,9,  -999.0, -999.00,-999.0000,-999.000,-999.000
    316N145_10,  I07N,   771,  1,     35,     35,2,19950801,1613,  4.3900,  59.5233, 4108,   -999,   1051.3,   7.2369,  35.0926,2,  35.0931,2,     39.8,2,  7.1306,     40.5,2,    81.64,2,    36.77,2,     0.00,2,     2.82,2,    0.009,2,    0.005,2, -999.000,9,-999.0000,9,  -999.00,9,   -999.0,9,  -999.00,9,-999.000,9,   -999.9,9,   -999.9,9,  -999.0, -999.00,-999.0000,-999.000,-999.000
    316N145_10,  I07N,   771,  1,     34,     34,2,19950801,1613,  4.3900,  59.5233, 4108,   -999,   1146.3,   6.5503,  35.0316,2,  35.0326,2,     46.0,2,  6.4395,     49.3,2,    87.84,2,    36.96,2,     0.00,2,     2.82,2, -999.000,9, -999.000,9, -999.000,9,-999.0000,9,  -999.00,9,   -999.0,9,  -999.00,9,-999.000,9,   -999.9,9,   -999.9,9,  -999.0, -999.00,-999.0000,-999.000,-999.000
    316N145_10,  I07N,   771,  1,     33,     33,2,19950801,1613,  4.3900,  59.5233, 4108,   -999,   1246.8,   6.0198,  34.9956,2,  34.9960,2,     55.6,2,  5.9034,     56.1,2,    92.99,2,    37.02,2,     0.00,2,     2.81,2,    0.005,2,    0.001,2, -999.000,9,-999.0000,9,  -999.00,9,   -999.0,9,  -999.00,9,-999.000,9,   -999.9,9,   -999.9,9,  -999.0, -999.00,-999.0000,-999.000,-999.000
    316N145_10,  I07N,   771,  1,     32,     32,2,19950801,1613,  4.3900,  59.5233, 4108,   -999,   1347.3,   5.5619,  34.9599,2,  34.9601,2,     63.2,2,  5.4398,     63.4,2,    97.25,2,    37.07,2,     0.00,2,     2.80,2,    0.000,2,    0.000,2, -999.000,9,-999.0000,9,  -999.00,9,   -999.0,9,  -999.00,9,-999.000,9,   -999.9,9,   -999.9,9,  -999.0, -999.00,-999.0000,-999.000,-999.000
    316N145_10,  I07N,   771,  1,     31,     31,2,19950801,1613,  4.3900,  59.5233, 4108,   -999,   1448.6,   5.0519,  34.9356,2,  34.9379,2,     72.3,2,  4.9252,     71.7,2,   102.60,2,    36.94,2,     0.00,2,     2.79,2,    0.004,2,    0.002,2, -999.000,9,-999.0000,9,  -999.00,9,   -999.0,9,  -999.00,9,-999.000,9,   -999.9,9,   -999.9,9,  -999.0, -999.00,-999.0000,-999.000,-999.000
    316N145_10,  I07N,   771,  1,     30,     30,2,19950801,1613,  4.3900,  59.5233, 4108,   -999,   1548.9,   4.3920,  34.8888,2,  34.8938,2,     86.8,2,  4.2631,     84.9,2,   108.33,2,    36.62,2,     0.00,2,     2.74,2,    0.004,2,    0.001,2, -999.000,9,-999.0000,9,  -999.00,9,   -999.0,9,  -999.00,9,-999.000,9,   -999.9,9,   -999.9,9,  -999.0, -999.00,-999.0000,-999.000,-999.000
    316N145_10,  I07N,   771,  1,     29,     29,2,19950801,1613,  4.3900,  59.5233, 4108,   -999,   1649.7,   3.8081,  34.8458,2,  34.8481,2,    100.5,2,  3.6769,     99.3,2,   113.55,2,    36.22,2,     0.00,2,     2.69,2,   -0.001,2,   -0.001,2, -999.000,9,-999.0000,9,  -999.00,9,   -999.0,9,  -999.00,9,-999.000,9,   -999.9,9,   -999.9,9,  -999.0, -999.00,-999.0000,-999.000,-999.000
    316N145_10,  I07N,   771,  1,     28,     28,2,19950801,1613,  4.3900,  59.5233, 4108,   -999,   1750.6,   3.2915,  34.8181,2,  34.8192,2,    111.0,2,  3.1579,    111.3,2,   118.61,2,    35.90,2,     0.00,2,     2.66,2,   -0.002,2,    0.000,2, -999.000,9,-999.0000,9,  -999.00,9,   -999.0,9,  -999.00,9,-999.000,9,   -999.9,9,   -999.9,9,  -999.0, -999.00,-999.0000,-999.000,-999.000
    316N145_10,  I07N,   771,  1,     27,     27,2,19950801,1613,  4.3900,  59.5233, 4108,   -999,   1850.9,   2.9631,  34.7976,2,  34.7968,2,    117.1,2,  2.8250,    120.6,2,   121.50,2,    35.63,2,     0.00,2,     2.61,2,    0.000,2,    0.000,2, -999.000,9,-999.0000,9,  -999.00,9,   -999.0,9,  -999.00,9,-999.000,9,   -999.9,9,   -999.9,9,  -999.0, -999.00,-999.0000,-999.000,-999.000
    316N145_10,  I07N,   771,  1,     26,     26,2,19950801,1613,  4.3900,  59.5233, 4108,   -999,   1946.4,   2.8280,  34.7911,2,  34.7913,2,    122.1,2,  2.6834,    123.8,2,   123.11,2,    35.55,2,     0.00,2,     2.60,2,   -0.003,2,    0.000,2, -999.000,9,-999.0000,9,  -999.00,9,   -999.0,9,  -999.00,9,-999.000,9,   -999.9,9,   -999.9,9,  -999.0, -999.00,-999.0000,-999.000,-999.000
    316N145_10,  I07N,   771,  1,     25,     25,2,19950801,1613,  4.3900,  59.5233, 4108,   -999,   2147.9,   2.5271,  34.7807,2,  34.7811,2,    130.5,2,  2.3691,    130.4,2,   127.67,2,    35.37,2,     0.00,2,     2.59,2,    0.000,2,    0.002,2, -999.000,9,-999.0000,9,  -999.00,9,   -999.0,9,  -999.00,9,-999.000,9,   -999.9,9,   -999.9,9,  -999.0, -999.00,-999.0000,-999.000,-999.000
    316N145_10,  I07N,   771,  1,     24,     24,2,19950801,1613,  4.3900,  59.5233, 4108,   -999,   2346.3,   2.1772,  34.7618,2,  34.7618,2,    141.0,2,  2.0073,    141.5,2,   130.60,2,    35.06,2,     0.00,2,     2.52,2,   -0.003,2,   -0.001,2, -999.000,9,-999.0000,9,  -999.00,9,   -999.0,9,  -999.00,9,-999.000,9,   -999.9,9,   -999.9,9,  -999.0, -999.00,-999.0000,-999.000,-999.000
    316N145_10,  I07N,   771,  1,     23,     23,2,19950801,1613,  4.3900,  59.5233, 4108,   -999,   2549.6,   2.0526,  34.7562,2,  34.7563,2,    145.8,2,  1.8665,    145.1,2,   132.23,2,    34.93,2,     0.00,2,     2.51,2,   -0.001,2,   -0.001,2, -999.000,9,-999.0000,9,  -999.00,9,   -999.0,9,  -999.00,9,-999.000,9,   -999.9,9,   -999.9,9,  -999.0, -999.00,-999.0000,-999.000,-999.000
    316N145_10,  I07N,   771,  1,     22,     22,2,19950801,1613,  4.3900,  59.5233, 4108,   -999,   2747.5,   1.9271,  34.7504,2,  34.7508,2,    149.1,2,  1.7249,    150.0,2,   132.75,2,    34.75,2,     0.00,2,     2.49,2,    0.000,2,    0.002,2, -999.000,9,-999.0000,9,  -999.00,9,   -999.0,9,  -999.00,9,-999.000,9,   -999.9,9,   -999.9,9,  -999.0, -999.00,-999.0000,-999.000,-999.000
    316N145_10,  I07N,   771,  1,     21,     21,2,19950801,1613,  4.3900,  59.5233, 4108,   -999,   2945.7,   1.8360,  34.7451,2,  34.7471,2,    153.8,2,  1.6169,    154.1,2,   133.64,2,    34.57,2,     0.00,2,     2.48,2,    0.000,2,    0.001,2, -999.000,9,-999.0000,9,  -999.00,9,   -999.0,9,  -999.00,9,-999.000,9,   -999.9,9,   -999.9,9,  -999.0, -999.00,-999.0000,-999.000,-999.000
    316N145_10,  I07N,   771,  1,     20,     20,2,19950801,1613,  4.3900,  59.5233, 4108,   -999,   3148.2,   1.7592,  34.7412,2,  34.7414,2,    158.1,2,  1.5220,    158.3,2,   133.61,2,    34.39,2,     0.00,2,     2.47,2,   -0.001,2,    0.002,2, -999.000,9,-999.0000,9,  -999.00,9,   -999.0,9,  -999.00,9,-999.000,9,   -999.9,9,   -999.9,9,  -999.0, -999.00,-999.0000,-999.000,-999.000
    316N145_10,  I07N,   771,  1,     19,     19,2,19950801,1613,  4.3900,  59.5233, 4108,   -999,   3347.6,   1.6897,  34.7375,2,  34.7378,2,    161.8,2,  1.4342,    162.1,2,   133.75,2,    34.26,2,     0.00,2,     2.43,2,    0.003,2,    0.005,2, -999.000,9,-999.0000,9,  -999.00,9,   -999.0,9,  -999.00,9,-999.000,9,   -999.9,9,   -999.9,9,  -999.0, -999.00,-999.0000,-999.000,-999.000
    316N145_10,  I07N,   771,  1,     18,     18,2,19950801,1613,  4.3900,  59.5233, 4108,   -999,   3644.0,   1.6281,  34.7333,2,  34.7329,2,    168.1,2,  1.3436,    167.2,2,   132.97,2,    34.04,2,     0.00,2,     2.41,2,   -0.001,2,    0.002,2, -999.000,9,-999.0000,9,  -999.00,9,   -999.0,9,  -999.00,9,-999.000,9,   -999.9,9,   -999.9,9,  -999.0, -999.00,-999.0000,-999.000,-999.000
    316N145_10,  I07N,   771,  1,     17,     17,2,19950801,1613,  4.3900,  59.5233, 4108,   -999,   3949.7,   1.5392,  34.7282,2,  34.7278,2,    172.1,2,  1.2245,    172.2,2,   133.12,2,    33.77,2,     0.00,2,     2.39,2,   -0.003,2,    0.000,2, -999.000,9,-999.0000,9,  -999.00,9,   -999.0,9,  -999.00,9,-999.000,9,   -999.9,9,   -999.9,9,  -999.0, -999.00,-999.0000,-999.000,-999.000
    316N145_10,  I07N,   771,  1,     16,     16,2,19950801,1613,  4.3900,  59.5233, 4108,   -999,   4134.3,   1.5358,  34.7273,2,  34.7266,2,    173.4,2,  1.2010,    173.4,2,   133.09,2,    33.82,2,     0.00,2,     2.38,2,   -0.001,2,    0.001,2, -999.000,9,-999.0000,9,  -999.00,9,   -999.0,9,  -999.00,9,-999.000,9,   -999.9,9,   -999.9,9,  -999.0, -999.00,-999.0000,-999.000,-999.000
    316N145_10,  I07N,   771,  1,     15,     15,2,19950801,1613,  4.3900,  59.5233, 4108,   -999,   4160.2,   1.5204,  34.7266,2,  34.7268,2,    173.5,2,  1.1831,    174.2,2,   133.23,2,    33.74,2,     0.00,2,     2.39,2,   -0.003,2,    0.000,2, -999.000,9,-999.0000,9,  -999.00,9,   -999.0,9,  -999.00,9,-999.000,9,   -999.9,9,   -999.9,9,  -999.0, -999.00,-999.0000,-999.000,-999.000