BOTTLE,20080821WHPSIOSCD
EXPOCODE,SECT_ID,STNNBR,CASTNO,SAMPNO,BTLNBR,BTLNBR_FLAG_W,DATE,TIME,LATITUDE,LONGITUDE,DEPTH,CTDRAW,CTDPRS,CTDTMP,CTDSAL,CTDSAL_FLAG_W,SALNTY,SALNTY_FLAG_W,CTDOXY,CTDOXY_FLAG_W,THETA,OXYGEN,OXYGEN_FLAG_W,SILCAT,SILCAT_FLAG_W,NITRAT,NITRAT_FLAG_W,NITRIT,NITRIT_FLAG_W,PHSPHT,PHSPHT_FLAG_W,CFC-11,CFC-11_FLAG_W,CFC-12,CFC-12_FLAG_W,TRITUM,TRITUM_FLAG_W,HELIUM,HELIUM_FLAG_W,DELHE3,DELHE3_FLAG_W,DELC14,DELC14_FLAG_W,DELC13,DELC13_FLAG_W,NEON,NEON_FLAG_W,TCARBN,TCARBN_FLAG_W,ALKALI,ALKALI_FLAG_W,C14ERR,DELHER,HELIER,NEONER,TRITER
,,,,,,,,,,,,,DBAR,ITS-90,PSS-78,,PSS-78,,UMOL/KG,,DEG C,UMOL/KG,,UMOL/KG,,UMOL/KG,,UMOL/KG,,UMOL/KG,,PMOL/KG,,PMOL/KG,,TU,,NMOL/KG,,PERCNT,,/MILLE,,/MILLE,,NMOL/KG,,UMOL/KG,,UMOL/KG,,/MILLE,PERCNT,NMOL/KG,NMOL/KG,TU
    316N145_10,  I07N,   829,  1,     36,     36,2,19950816,1536, 21.7173,  61.5333, 3134,   -999,      5.8,  25.1159,  36.2273,2,  36.2280,2,    206.2,2, 25.1148,    203.7,2,     5.43,2,     7.14,2,     0.48,2,     0.89,2, -999.000,9, -999.000,9, -999.000,9,-999.0000,9,  -999.00,9,   -999.0,9,  -999.00,9,-999.000,9,   1980.4,2,   2366.1,2,  -999.0, -999.00,-999.0000,-999.000,-999.000
    316N145_10,  I07N,   829,  1,     35,     35,2,19950816,1536, 21.7173,  61.5333, 3134,   -999,     25.9,  25.0435,  36.2165,2,  36.2127,2,    208.2,2, 25.0381,    201.7,2,     5.59,2,     7.59,2,     0.51,2,     0.92,2, -999.000,9, -999.000,9, -999.000,9,-999.0000,9,  -999.00,9,   -999.0,9,  -999.00,9,-999.000,9,   -999.9,9,   -999.9,9,  -999.0, -999.00,-999.0000,-999.000,-999.000
    316N145_10,  I07N,   829,  1,     34,     34,2,19950816,1536, 21.7173,  61.5333, 3134,   -999,     37.1,  24.8213,  36.1864,2,  36.1754,2,    202.6,2, 24.8136,    194.8,2,     5.93,2,     8.70,2,     0.56,2,     1.00,2,    1.823,2,    1.021,2, -999.000,9,-999.0000,9,  -999.00,9,   -999.0,9,  -999.00,9,-999.000,9,   -999.9,9,   -999.9,9,  -999.0, -999.00,-999.0000,-999.000,-999.000
    316N145_10,  I07N,   829,  1,     33,     33,2,19950816,1536, 21.7173,  61.5333, 3134,   -999,     61.6,  23.5176,  36.3998,2,  36.4173,2,     96.8,2, 23.5050,     98.9,2,     7.46,2,    14.09,2,     0.42,2,     1.26,2, -999.000,9, -999.000,9, -999.000,9,-999.0000,9,  -999.00,9,   -999.0,9,  -999.00,9,-999.000,9,   -999.9,9,   -999.9,9,  -999.0, -999.00,-999.0000,-999.000,-999.000
    316N145_10,  I07N,   829,  1,     32,     32,2,19950816,1536, 21.7173,  61.5333, 3134,   -999,     81.2,  23.4716,  36.5546,2,  36.5496,2,    116.1,2, 23.4549,    105.6,2,     7.11,2,    13.55,2,     0.22,2,     1.25,2,    1.784,2,    0.994,2, -999.000,9,-999.0000,9,  -999.00,9,   -999.0,9,  -999.00,9,-999.000,9,   -999.9,9,   -999.9,9,  -999.0, -999.00,-999.0000,-999.000,-999.000
    316N145_10,  I07N,   829,  1,     31,     31,2,19950816,1536, 21.7173,  61.5333, 3134,   -999,    126.0,  20.6814,  36.1247,2,  36.1142,2,      3.9,2, 20.6576,      3.5,2,    16.69,2,    23.50,2,     0.01,2,     2.18,2, -999.000,9, -999.000,9, -999.000,9,-999.0000,9,  -999.00,9,   -999.0,9,  -999.00,9,-999.000,9,   -999.9,9,   -999.9,9,  -999.0, -999.00,-999.0000,-999.000,-999.000
    316N145_10,  I07N,   829,  1,     30,     30,2,19950816,1536, 21.7173,  61.5333, 3134,   -999,    151.3,  19.3691,  36.0941,2,  36.0899,2,      2.3,2, 19.3417,      3.5,2,    20.11,2,    22.63,2,     0.00,2,     2.24,2,    1.027,2,    0.602,2, -999.000,9,-999.0000,9,  -999.00,9,   -999.0,9,  -999.00,9,-999.000,9,   -999.9,9,   -999.9,9,  -999.0, -999.00,-999.0000,-999.000,-999.000
    316N145_10,  I07N,   829,  1,     29,     29,2,19950816,1536, 21.7173,  61.5333, 3134,   -999,    181.8,  19.2614,  36.4618,2,  36.4462,2,     19.6,2, 19.2286,     16.6,2,    20.43,2,    20.57,2,     0.00,2,     2.10,2,    1.017,2,    0.697,2, -999.000,9,-999.0000,9,  -999.00,9,   -999.0,9,  -999.00,9,-999.000,9,   -999.9,9,   -999.9,9,  -999.0, -999.00,-999.0000,-999.000,-999.000
    316N145_10,  I07N,   829,  1,     28,     28,2,19950816,1536, 21.7173,  61.5333, 3134,   -999,    226.8,  17.8152,  36.3429,2,  36.3428,2,     10.4,2, 17.7763,     11.1,2,    23.16,2,    21.09,2,     0.00,2,     2.19,2, -999.000,9, -999.000,9, -999.000,9,-999.0000,9,  -999.00,9,   -999.0,9,  -999.00,9,-999.000,9,   -999.9,9,   -999.9,9,  -999.0, -999.00,-999.0000,-999.000,-999.000
    316N145_10,  I07N,   829,  1,     27,     27,2,19950816,1536, 21.7173,  61.5333, 3134,   -999,    251.5,  16.9366,  36.2717,2,  36.2635,2,      5.9,2, 16.8949,      6.3,2,    25.21,2,    21.79,2,     0.00,2,     2.26,2, -999.000,9, -999.000,9, -999.000,9,-999.0000,9,  -999.00,9,   -999.0,9,  -999.00,9,-999.000,9,   -999.9,9,   -999.9,9,  -999.0, -999.00,-999.0000,-999.000,-999.000
    316N145_10,  I07N,   829,  1,     26,     26,2,19950816,1536, 21.7173,  61.5333, 3134,   -999,    301.2,  15.8450,  36.1630,2,  36.1639,2,      1.7,2, 15.7972,      2.9,2,    28.11,2,    22.45,2,     0.00,2,     2.36,2,    0.577,2,    0.355,2, -999.000,9,-999.0000,9,  -999.00,9,   -999.0,9,  -999.00,9,-999.000,9,   -999.9,9,   -999.9,9,  -999.0, -999.00,-999.0000,-999.000,-999.000
    316N145_10,  I07N,   829,  1,     25,     25,2,19950816,1536, 21.7173,  61.5333, 3134,   -999,    352.7,  14.5747,  35.9790,2,  35.9783,2,      1.7,2, 14.5218,      1.4,2,    32.21,2,    23.44,2,     0.00,2,     2.45,2, -999.000,9, -999.000,9, -999.000,9,-999.0000,9,  -999.00,9,   -999.0,9,  -999.00,9,-999.000,9,   -999.9,9,   -999.9,9,  -999.0, -999.00,-999.0000,-999.000,-999.000
    316N145_10,  I07N,   829,  1,     24,     24,2,19950816,1536, 21.7173,  61.5333, 3134,   -999,    402.9,  14.1400,  35.9462,2,  35.9462,2,      1.7,2, 14.0807,      1.9,2,    33.91,2,    24.24,2,     0.00,2,     2.48,2, -999.000,9, -999.000,9, -999.000,9,-999.0000,9,  -999.00,9,   -999.0,9,  -999.00,9,-999.000,9,   -999.9,9,   -999.9,9,  -999.0, -999.00,-999.0000,-999.000,-999.000
    316N145_10,  I07N,   829,  1,     23,     23,2,19950816,1536, 21.7173,  61.5333, 3134,   -999,    502.4,  13.0789,  35.8177,2,  35.8185,2,      1.8,2, 13.0083,      1.3,2,    40.06,2,    25.08,2,     0.00,2,     2.61,2,    0.209,2,    0.134,2, -999.000,9,-999.0000,9,  -999.00,9,   -999.0,9,  -999.00,9,-999.000,9,   -999.9,9,   -999.9,9,  -999.0, -999.00,-999.0000,-999.000,-999.000
    316N145_10,  I07N,   829,  1,     22,     22,2,19950816,1536, 21.7173,  61.5333, 3134,   -999,    602.8,  12.1112,  35.6999,2,  35.7000,2,      1.9,2, 12.0304,      1.9,2,    46.21,2,    27.48,2,     0.00,2,     2.69,2, -999.000,9, -999.000,9, -999.000,9,-999.0000,9,  -999.00,9,   -999.0,9,  -999.00,9,-999.000,9,   -999.9,9,   -999.9,9,  -999.0, -999.00,-999.0000,-999.000,-999.000
    316N145_10,  I07N,   829,  1,     21,     21,2,19950816,1536, 21.7173,  61.5333, 3134,   -999,    673.0,  11.4306,  35.6409,2,  35.6413,2,      2.0,2, 11.3433,      1.8,2,    52.54,2,    29.18,2,     0.00,2,     2.76,2,    0.069,2,    0.048,2, -999.000,9,-999.0000,9,  -999.00,9,   -999.0,9,  -999.00,9,-999.000,9,   -999.9,9,   -999.9,9,  -999.0, -999.00,-999.0000,-999.000,-999.000
    316N145_10,  I07N,   829,  1,     20,     20,2,19950816,1536, 21.7173,  61.5333, 3134,   -999,    748.9,  10.6010,  35.5716,2,  35.5723,2,      2.0,2, 10.5080,      1.9,2,    60.25,2,    31.54,2,     0.00,2,     2.84,2, -999.000,9, -999.000,9, -999.000,9,-999.0000,9,  -999.00,9,   -999.0,9,  -999.00,9,-999.000,9,   -999.9,9,   -999.9,9,  -999.0, -999.00,-999.0000,-999.000,-999.000
    316N145_10,  I07N,   829,  1,     19,     19,2,19950816,1536, 21.7173,  61.5333, 3134,   -999,    798.7,  10.2435,  35.5418,2,  35.5426,2,      2.1,2, 10.1461,      2.0,2,    63.50,2,    32.59,2,     0.00,2,     2.88,2, -999.000,9, -999.000,9, -999.000,9,-999.0000,9,  -999.00,9,   -999.0,9,  -999.00,9,-999.000,9,   -999.9,9,   -999.9,9,  -999.0, -999.00,-999.0000,-999.000,-999.000
    316N145_10,  I07N,   829,  1,     18,     18,2,19950816,1536, 21.7173,  61.5333, 3134,   -999,    899.5,   9.5496,  35.4792,2,  35.4806,2,      2.2,2,  9.4439,      2.7,2,    69.85,2,    34.40,2,     0.00,2,     2.93,2,    0.024,2,    0.013,2, -999.000,9,-999.0000,9,  -999.00,9,   -999.0,9,  -999.00,9,-999.000,9,   -999.9,9,   -999.9,9,  -999.0, -999.00,-999.0000,-999.000,-999.000
    316N145_10,  I07N,   829,  1,     17,     17,2,19950816,1536, 21.7173,  61.5333, 3134,   -999,    999.1,   8.8280,  35.4063,2,  35.4061,2,      3.2,2,  8.7153,      3.5,2,    76.39,2,    35.78,2,     0.00,2,     2.99,2, -999.000,9, -999.000,9, -999.000,9,-999.0000,9,  -999.00,9,   -999.0,9,  -999.00,9,-999.000,9,   -999.9,9,   -999.9,9,  -999.0, -999.00,-999.0000,-999.000,-999.000
    316N145_10,  I07N,   829,  1,     16,     16,2,19950816,1536, 21.7173,  61.5333, 3134,   -999,   1099.4,   8.0731,  35.3231,2,  35.3239,2,      4.3,2,  7.9545,      4.7,2,    83.13,2,    37.03,2,     0.00,2,     3.07,2, -999.000,9, -999.000,9, -999.000,9,-999.0000,9,  -999.00,9,   -999.0,9,  -999.00,9,-999.000,9,   -999.9,9,   -999.9,9,  -999.0, -999.00,-999.0000,-999.000,-999.000
    316N145_10,  I07N,   829,  1,     15,     15,2,19950816,1536, 21.7173,  61.5333, 3134,   -999,   1195.8,   7.3307,  35.2443,2,  35.2456,2,     10.0,2,  7.2075,     10.6,2,    89.55,2,    37.90,2,     0.00,2,     3.10,2,    0.006,2,    0.005,2, -999.000,9,-999.0000,9,  -999.00,9,   -999.0,9,  -999.00,9,-999.000,9,   -999.9,9,   -999.9,9,  -999.0, -999.00,-999.0000,-999.000,-999.000
    316N145_10,  I07N,   829,  1,     14,     14,2,19950816,1536, 21.7173,  61.5333, 3134,   -999,   1296.5,   6.5798,  35.1645,2,  35.1661,2,     18.0,2,  6.4526,     18.6,2,    96.88,2,    38.39,2,     0.00,2,     3.10,2, -999.000,9, -999.000,9, -999.000,9,-999.0000,9,  -999.00,9,   -999.0,9,  -999.00,9,-999.000,9,   -999.9,9,   -999.9,9,  -999.0, -999.00,-999.0000,-999.000,-999.000
    316N145_10,  I07N,   829,  1,     13,     13,2,19950816,1536, 21.7173,  61.5333, 3134,   -999,   1397.0,   5.9184,  35.0978,2,  35.0989,2,     27.2,2,  5.7874,     27.0,2,   103.56,2,    38.59,2,     0.00,2,     3.10,2, -999.000,9, -999.000,9, -999.000,9,-999.0000,9,  -999.00,9,   -999.0,9,  -999.00,9,-999.000,9,   -999.9,9,   -999.9,9,  -999.0, -999.00,-999.0000,-999.000,-999.000
    316N145_10,  I07N,   829,  1,     12,     12,2,19950816,1536, 21.7173,  61.5333, 3134,   -999,   1499.1,   5.3564,  35.0444,2,  35.0448,2,     37.1,2,  5.2211,     35.1,2,   109.76,2,    38.59,2,     0.00,2,     3.08,2, -999.000,9, -999.000,9, -999.000,9,-999.0000,9,  -999.00,9,   -999.0,9,  -999.00,9,-999.000,9,   -999.9,9,   -999.9,9,  -999.0, -999.00,-999.0000,-999.000,-999.000
    316N145_10,  I07N,   829,  1,     11,     11,2,19950816,1536, 21.7173,  61.5333, 3134,   -999,   1585.0,   4.8221,  34.9942,2,  34.9955,2,     46.0,2,  4.6844,     44.7,2,   115.48,2,    38.50,2,     0.00,2,     3.05,2, -999.000,9, -999.000,9, -999.000,9,-999.0000,9,  -999.00,9,   -999.0,9,  -999.00,9,-999.000,9,   -999.9,9,   -999.9,9,  -999.0, -999.00,-999.0000,-999.000,-999.000
    316N145_10,  I07N,   829,  1,     10,     10,2,19950816,1536, 21.7173,  61.5333, 3134,   -999,   1791.8,   3.7208,  34.8972,2,  34.8965,2,     68.7,2,  3.5774,     67.3,2,   127.31,2,    38.08,2,     0.00,2,     2.94,2, -999.000,9, -999.000,9, -999.000,9,-999.0000,9,  -999.00,9,   -999.0,9,  -999.00,9,-999.000,9,   -999.9,9,   -999.9,9,  -999.0, -999.00,-999.0000,-999.000,-999.000
    316N145_10,  I07N,   829,  1,      9,      9,2,19950816,1536, 21.7173,  61.5333, 3134,   -999,   1994.1,   3.0580,  34.8408,2,  34.8401,2,     83.2,2,  2.9056,     82.7,2,   135.10,2,    37.65,2,     0.00,2,     2.86,2,    0.002,2,    0.004,2, -999.000,9,-999.0000,9,  -999.00,9,   -999.0,9,  -999.00,9,-999.000,9,   -999.9,9,   -999.9,9,  -999.0, -999.00,-999.0000,-999.000,-999.000
    316N145_10,  I07N,   829,  1,      8,      8,2,19950816,1536, 21.7173,  61.5333, 3134,   -999,   2196.6,   2.6601,  34.8088,2,  34.8073,2,     91.9,2,  2.4955,     93.2,2,   139.80,2,    37.37,2,     0.00,2,     2.81,2, -999.000,9, -999.000,9, -999.000,9,-999.0000,9,  -999.00,9,   -999.0,9,  -999.00,9,-999.000,9,   -999.9,9,   -999.9,9,  -999.0, -999.00,-999.0000,-999.000,-999.000
    316N145_10,  I07N,   829,  1,      7,      7,9,19950816,1536, 21.7173,  61.5333, 3134,   -999,   2395.7,   2.2713,  34.7792,2,-999.0000,9,    101.1,2,  2.0952,   -999.0,9,  -999.00,9,  -999.00,9,  -999.00,9,  -999.00,9, -999.000,9, -999.000,9, -999.000,9,-999.0000,9,  -999.00,9,   -999.0,9,  -999.00,9,-999.000,9,   -999.9,9,   -999.9,9,  -999.0, -999.00,-999.0000,-999.000,-999.000
    316N145_10,  I07N,   829,  1,      6,      6,2,19950816,1536, 21.7173,  61.5333, 3134,   -999,   2597.9,   2.0255,  34.7615,2,  34.7602,2,    107.3,2,  1.8354,    108.0,2,   148.62,2,    36.75,2,     0.00,2,     2.73,2, -999.000,9, -999.000,9, -999.000,9,-999.0000,9,  -999.00,9,   -999.0,9,  -999.00,9,-999.000,9,   -999.9,9,   -999.9,9,  -999.0, -999.00,-999.0000,-999.000,-999.000
    316N145_10,  I07N,   829,  1,      5,      5,2,19950816,1536, 21.7173,  61.5333, 3134,   -999,   2817.7,   1.8579,  34.7489,2,  34.7480,2,    111.5,2,  1.6505,    111.7,2,   151.73,2,    36.61,2,     0.00,2,     2.70,2,    0.011,2,    0.021,2, -999.000,9,-999.0000,9,  -999.00,9,   -999.0,9,  -999.00,9,-999.000,9,   -999.9,9,   -999.9,9,  -999.0, -999.00,-999.0000,-999.000,-999.000
    316N145_10,  I07N,   829,  1,      4,      4,2,19950816,1536, 21.7173,  61.5333, 3134,   -999,   2974.8,   1.7940,  34.7446,2,  34.7425,2,    111.8,2,  1.5730,    111.6,2,   153.67,2,    36.42,2,     0.00,2,     2.72,2,    0.017,2,    0.046,2, -999.000,9,-999.0000,9,  -999.00,9,   -999.0,9,  -999.00,9,-999.000,9,   -999.9,9,   -999.9,9,  -999.0, -999.00,-999.0000,-999.000,-999.000
    316N145_10,  I07N,   829,  1,      3,      3,2,19950816,1536, 21.7173,  61.5333, 3134,   -999,   3056.0,   1.7718,  34.7428,2,  34.7416,2,    115.1,2,  1.5433,    115.1,2,   153.24,2,    36.28,2,     0.00,2,     2.70,2,    0.017,2,    0.043,2, -999.000,9,-999.0000,9,  -999.00,9,   -999.0,9,  -999.00,9,-999.000,9,   -999.9,9,   -999.9,9,  -999.0, -999.00,-999.0000,-999.000,-999.000
    316N145_10,  I07N,   829,  1,      2,      2,2,19950816,1536, 21.7173,  61.5333, 3134,   -999,   3136.8,   1.7382,  34.7407,2,  34.7400,2,    121.5,2,  1.5026,    120.6,2,   152.02,2,    36.19,2,     0.00,2,     2.66,2, -999.000,9, -999.000,9, -999.000,9,-999.0000,9,  -999.00,9,   -999.0,9,  -999.00,9,-999.000,9,   -999.9,9,   -999.9,9,  -999.0, -999.00,-999.0000,-999.000,-999.000
    316N145_10,  I07N,   829,  1,      1,      1,2,19950816,1536, 21.7173,  61.5333, 3134,   -999,   3175.4,   1.7144,  34.7392,2,  34.7380,2,    122.2,2,  1.4755,    119.5,2,   153.96,2,    36.10,2,     0.00,2,     2.67,2,    0.035,2,    0.158,2, -999.000,9,-999.0000,9,  -999.00,9,   -999.0,9,  -999.00,9,-999.000,9,   -999.9,9,   -999.9,9,  -999.0, -999.00,-999.0000,-999.000,-999.000