BOTTLE,20080821WHPSIOSCD
EXPOCODE,SECT_ID,STNNBR,CASTNO,SAMPNO,BTLNBR,BTLNBR_FLAG_W,DATE,TIME,LATITUDE,LONGITUDE,DEPTH,CTDRAW,CTDPRS,CTDTMP,CTDSAL,CTDSAL_FLAG_W,SALNTY,SALNTY_FLAG_W,CTDOXY,CTDOXY_FLAG_W,THETA,OXYGEN,OXYGEN_FLAG_W,SILCAT,SILCAT_FLAG_W,NITRAT,NITRAT_FLAG_W,NITRIT,NITRIT_FLAG_W,PHSPHT,PHSPHT_FLAG_W,CFC-11,CFC-11_FLAG_W,CFC-12,CFC-12_FLAG_W,TRITUM,TRITUM_FLAG_W,HELIUM,HELIUM_FLAG_W,DELHE3,DELHE3_FLAG_W,DELC14,DELC14_FLAG_W,DELC13,DELC13_FLAG_W,NEON,NEON_FLAG_W,TCARBN,TCARBN_FLAG_W,ALKALI,ALKALI_FLAG_W,C14ERR,DELHER,HELIER,NEONER,TRITER
,,,,,,,,,,,,,DBAR,ITS-90,PSS-78,,PSS-78,,UMOL/KG,,DEG C,UMOL/KG,,UMOL/KG,,UMOL/KG,,UMOL/KG,,UMOL/KG,,PMOL/KG,,PMOL/KG,,TU,,NMOL/KG,,PERCNT,,/MILLE,,/MILLE,,NMOL/KG,,UMOL/KG,,UMOL/KG,,/MILLE,PERCNT,NMOL/KG,NMOL/KG,TU
    316N145_10,  I07N,   836,  1,     36,     36,2,19950818,0118, 20.8835,  60.9165, 3294,   -999,      7.9,  25.6538,  36.0722,2,  36.0723,2,    198.6,2, 25.6523,    199.7,2,     3.83,2,     5.98,2,     0.51,2,     0.84,2, -999.000,9, -999.000,9, -999.000,9,-999.0000,9,  -999.00,9,   -999.0,9,  -999.00,9,-999.000,9,   2058.1,2,   2361.9,2,  -999.0, -999.00,-999.0000,-999.000,-999.000
    316N145_10,  I07N,   836,  1,     35,     35,2,19950818,0118, 20.8835,  60.9165, 3294,   -999,     20.6,  25.6215,  36.0726,2,  36.0757,2,    196.9,2, 25.6172,    198.4,2,     3.82,2,     6.07,2,     0.51,2,     0.85,2, -999.000,9, -999.000,9, -999.000,9,-999.0000,9,  -999.00,9,   -999.0,9,  -999.00,9,-999.000,9,   -999.9,9,   -999.9,9,  -999.0, -999.00,-999.0000,-999.000,-999.000
    316N145_10,  I07N,   836,  1,     34,     34,2,19950818,0118, 20.8835,  60.9165, 3294,   -999,     30.4,  24.8298,  36.0541,2,  36.0560,2,    195.6,2, 24.8235,    188.8,2,     3.63,2,     7.95,2,     0.49,2,     1.00,2, -999.000,9, -999.000,9, -999.000,9,-999.0000,9,  -999.00,9,   -999.0,9,  -999.00,9,-999.000,9,   -999.9,9,   -999.9,9,  -999.0, -999.00,-999.0000,-999.000,-999.000
    316N145_10,  I07N,   836,  1,     33,     33,2,19950818,0118, 20.8835,  60.9165, 3294,   -999,     46.0,  23.5394,  36.0519,2,  36.0637,2,    140.3,2, 23.5301,    110.7,2,     7.06,2,    14.19,2,     0.51,2,     1.29,2, -999.000,9, -999.000,9, -999.000,9,-999.0000,9,  -999.00,9,   -999.0,9,  -999.00,9,-999.000,9,   -999.9,9,   -999.9,9,  -999.0, -999.00,-999.0000,-999.000,-999.000
    316N145_10,  I07N,   836,  1,     32,     32,2,19950818,0118, 20.8835,  60.9165, 3294,   -999,     55.4,  22.8980,  35.9673,2,  35.9512,2,    136.2,2, 22.8869,    133.4,2,     6.87,2,    14.68,2,     0.81,2,     1.42,2, -999.000,9, -999.000,9, -999.000,9,-999.0000,9,  -999.00,9,   -999.0,9,  -999.00,9,-999.000,9,   -999.9,9,   -999.9,9,  -999.0, -999.00,-999.0000,-999.000,-999.000
    316N145_10,  I07N,   836,  1,     31,     31,2,19950818,0118, 20.8835,  60.9165, 3294,   -999,     85.7,  22.7082,  36.3189,2,  36.3114,2,     70.5,2, 22.6910,     64.2,2,     9.78,2,    18.44,2,     0.06,2,     1.56,2, -999.000,9, -999.000,9, -999.000,9,-999.0000,9,  -999.00,9,   -999.0,9,  -999.00,9,-999.000,9,   -999.9,9,   -999.9,9,  -999.0, -999.00,-999.0000,-999.000,-999.000
    316N145_10,  I07N,   836,  1,     30,     30,2,19950818,0118, 20.8835,  60.9165, 3294,   -999,    110.4,  20.9958,  36.1609,2,  36.1478,2,      5.9,2, 20.9748,      3.3,2,    15.81,2,    23.54,2,     0.03,2,     2.13,2,    1.313,2,    0.747,2, -999.000,9,-999.0000,9,  -999.00,9,   -999.0,9,  -999.00,9,-999.000,9,   -999.9,9,   -999.9,9,  -999.0, -999.00,-999.0000,-999.000,-999.000
    316N145_10,  I07N,   836,  1,     29,     29,2,19950818,0118, 20.8835,  60.9165, 3294,   -999,    149.7,  19.3336,  36.1554,2,  36.1611,2,      2.3,2, 19.3066,      4.6,2,    20.11,2,    21.98,2,     0.01,2,     2.19,2, -999.000,9, -999.000,9, -999.000,9,-999.0000,9,  -999.00,9,   -999.0,9,  -999.00,9,-999.000,9,   -999.9,9,   -999.9,9,  -999.0, -999.00,-999.0000,-999.000,-999.000
    316N145_10,  I07N,   836,  1,     28,     28,2,19950818,0118, 20.8835,  60.9165, 3294,   -999,    209.8,  18.4111,  36.4816,2,  36.4839,2,     12.3,2, 18.3743,     15.4,2,    21.46,2,    20.40,2,     0.01,2,     2.08,2,    0.917,2,    0.590,2, -999.000,9,-999.0000,9,  -999.00,9,   -999.0,9,  -999.00,9,-999.000,9,   -999.9,9,   -999.9,9,  -999.0, -999.00,-999.0000,-999.000,-999.000
    316N145_10,  I07N,   836,  1,     27,     27,2,19950818,0118, 20.8835,  60.9165, 3294,   -999,    275.8,  16.1689,  36.2253,2,  36.2215,2,      2.0,2, 16.1246,      4.1,2,    27.14,2,    22.08,2,     0.00,2,     2.28,2, -999.000,9, -999.000,9, -999.000,9,-999.0000,9,  -999.00,9,   -999.0,9,  -999.00,9,-999.000,9,   -999.9,9,   -999.9,9,  -999.0, -999.00,-999.0000,-999.000,-999.000
    316N145_10,  I07N,   836,  1,     26,     26,2,19950818,0118, 20.8835,  60.9165, 3294,   -999,    324.7,  15.1528,  36.1055,2,  36.1070,2,      0.9,2, 15.1028,      2.2,2,    30.06,2,    22.88,2,     0.00,2,     2.36,2, -999.000,9, -999.000,9, -999.000,9,-999.0000,9,  -999.00,9,   -999.0,9,  -999.00,9,-999.000,9,   -999.9,9,   -999.9,9,  -999.0, -999.00,-999.0000,-999.000,-999.000
    316N145_10,  I07N,   836,  1,     25,     25,2,19950818,0118, 20.8835,  60.9165, 3294,   -999,    400.1,  13.7123,  35.9063,2,  35.9064,2,      1.0,2, 13.6546,      1.0,2,    36.44,2,    24.19,2,     0.00,2,     2.49,2, -999.000,9, -999.000,9, -999.000,9,-999.0000,9,  -999.00,9,   -999.0,9,  -999.00,9,-999.000,9,   -999.9,9,   -999.9,9,  -999.0, -999.00,-999.0000,-999.000,-999.000
    316N145_10,  I07N,   836,  1,     24,     24,2,19950818,0118, 20.8835,  60.9165, 3294,   -999,    500.0,  12.8040,  35.7901,2,  35.7897,2,      1.0,2, 12.7348,      0.8,2,    41.60,2,    25.11,2,     0.02,2,     2.57,2,    0.174,2,    0.107,2, -999.000,9,-999.0000,9,  -999.00,9,   -999.0,9,  -999.00,9,-999.000,9,   -999.9,9,   -999.9,9,  -999.0, -999.00,-999.0000,-999.000,-999.000
    316N145_10,  I07N,   836,  1,     23,     23,2,19950818,0118, 20.8835,  60.9165, 3294,   -999,    600.2,  11.8171,  35.6786,2,  35.6763,2,      1.1,2, 11.7378,      0.7,2,    49.53,2,    26.99,2,     0.15,2,     2.69,2, -999.000,9, -999.000,9, -999.000,9,-999.0000,9,  -999.00,9,   -999.0,9,  -999.00,9,-999.000,9,   -999.9,9,   -999.9,9,  -999.0, -999.00,-999.0000,-999.000,-999.000
    316N145_10,  I07N,   836,  1,     22,     22,2,19950818,0118, 20.8835,  60.9165, 3294,   -999,    701.3,  10.9924,  35.6014,2,  35.6015,2,      1.2,2, 10.9035,      0.9,2,    56.44,2,    29.96,2,     0.00,2,     2.75,2, -999.000,9, -999.000,9, -999.000,9,-999.0000,9,  -999.00,9,   -999.0,9,  -999.00,9,-999.000,9,   -999.9,9,   -999.9,9,  -999.0, -999.00,-999.0000,-999.000,-999.000
    316N145_10,  I07N,   836,  1,     21,     21,2,19950818,0118, 20.8835,  60.9165, 3294,   -999,    798.2,  10.1808,  35.5341,2,  35.5347,2,      1.3,2, 10.0838,      1.3,2,    63.70,2,    32.60,2,     0.00,2,     2.82,2, -999.000,9, -999.000,9, -999.000,9,-999.0000,9,  -999.00,9,   -999.0,9,  -999.00,9,-999.000,9,   -999.9,9,   -999.9,9,  -999.0, -999.00,-999.0000,-999.000,-999.000
    316N145_10,  I07N,   836,  1,     20,     20,2,19950818,0118, 20.8835,  60.9165, 3294,   -999,    898.4,   9.3327,  35.4558,2,  35.4561,2,      1.4,2,  9.2286,      2.0,2,    71.50,2,    34.78,2,     0.00,2,     2.89,2,    0.017,2,    0.011,2, -999.000,9,-999.0000,9,  -999.00,9,   -999.0,9,  -999.00,9,-999.000,9,   -999.9,9,   -999.9,9,  -999.0, -999.00,-999.0000,-999.000,-999.000
    316N145_10,  I07N,   836,  1,     19,     19,2,19950818,0118, 20.8835,  60.9165, 3294,   -999,    999.1,   8.5199,  35.3730,2,  35.3758,2,      2.9,2,  8.4094,      3.4,2,    78.63,2,    36.30,2,     0.00,2,     2.96,2, -999.000,9, -999.000,9, -999.000,9,-999.0000,9,  -999.00,9,   -999.0,9,  -999.00,9,-999.000,9,   -999.9,9,   -999.9,9,  -999.0, -999.00,-999.0000,-999.000,-999.000
    316N145_10,  I07N,   836,  1,     18,     18,2,19950818,0118, 20.8835,  60.9165, 3294,   -999,   1149.7,   7.5237,  35.2655,2,  35.2668,2,      8.1,2,  7.4040,      8.6,2,    87.19,2,    37.79,2,     0.00,2,     3.02,2, -999.000,9, -999.000,9, -999.000,9,-999.0000,9,  -999.00,9,   -999.0,9,  -999.00,9,-999.000,9,   -999.9,9,   -999.9,9,  -999.0, -999.00,-999.0000,-999.000,-999.000
    316N145_10,  I07N,   836,  1,     17,     17,2,19950818,0118, 20.8835,  60.9165, 3294,   -999,   1302.3,   6.6418,  35.1701,2,  35.1693,2,     16.5,2,  6.5134,     17.6,2,    95.99,2,    38.37,2,     0.00,2,     3.04,2, -999.000,9, -999.000,9, -999.000,9,-999.0000,9,  -999.00,9,   -999.0,9,  -999.00,9,-999.000,9,   -999.9,9,   -999.9,9,  -999.0, -999.00,-999.0000,-999.000,-999.000
    316N145_10,  I07N,   836,  1,     16,     16,2,19950818,0118, 20.8835,  60.9165, 3294,   -999,   1449.7,   5.5928,  35.0666,2,  35.0676,2,     30.9,2,  5.4599,     31.8,2,   106.48,2,    38.52,2,     0.00,2,     3.02,2,   -0.002,2,    0.000,2, -999.000,9,-999.0000,9,  -999.00,9,   -999.0,9,  -999.00,9,-999.000,9,   -999.9,9,   -999.9,9,  -999.0, -999.00,-999.0000,-999.000,-999.000
    316N145_10,  I07N,   836,  1,     15,     15,2,19950818,0118, 20.8835,  60.9165, 3294,   -999,   1551.0,   4.9694,  35.0065,2,  35.0077,2,     41.6,2,  4.8333,     42.6,2,   112.95,2,    38.47,2,     0.00,2,     3.00,2, -999.000,9, -999.000,9, -999.000,9,-999.0000,9,  -999.00,9,   -999.0,9,  -999.00,9,-999.000,9,   -999.9,9,   -999.9,9,  -999.0, -999.00,-999.0000,-999.000,-999.000
    316N145_10,  I07N,   836,  1,     14,     14,2,19950818,0118, 20.8835,  60.9165, 3294,   -999,   1651.2,   4.4007,  34.9583,2,  34.9586,2,     51.5,2,  4.2617,     51.8,2,   119.11,2,    38.28,2,     0.00,2,     2.95,2, -999.000,9, -999.000,9, -999.000,9,-999.0000,9,  -999.00,9,   -999.0,9,  -999.00,9,-999.000,9,   -999.9,9,   -999.9,9,  -999.0, -999.00,-999.0000,-999.000,-999.000
    316N145_10,  I07N,   836,  1,     13,     13,2,19950818,0118, 20.8835,  60.9165, 3294,   -999,   1751.9,   3.9369,  34.9138,2,  34.9148,2,     61.9,2,  3.7944,     63.0,2,   124.05,2,    38.14,2,     0.00,2,     2.90,2, -999.000,9, -999.000,9, -999.000,9,-999.0000,9,  -999.00,9,   -999.0,9,  -999.00,9,-999.000,9,   -999.9,9,   -999.9,9,  -999.0, -999.00,-999.0000,-999.000,-999.000
    316N145_10,  I07N,   836,  1,     12,     12,2,19950818,0118, 20.8835,  60.9165, 3294,   -999,   1938.9,   3.1950,  34.8521,2,  34.8543,2,     77.7,2,  3.0455,     77.7,2,   132.59,2,    37.76,2,     0.00,2,     2.84,2,   -0.001,2,    0.016,2, -999.000,9,-999.0000,9,  -999.00,9,   -999.0,9,  -999.00,9,-999.000,9,   -999.9,9,   -999.9,9,  -999.0, -999.00,-999.0000,-999.000,-999.000
    316N145_10,  I07N,   836,  1,     11,     11,2,19950818,0118, 20.8835,  60.9165, 3294,   -999,   2050.6,   2.9374,  34.8304,2,  34.8308,2,     85.8,2,  2.7816,     85.6,2,   135.21,2,    37.48,2,     0.00,2,     2.80,2, -999.000,9, -999.000,9, -999.000,9,-999.0000,9,  -999.00,9,   -999.0,9,  -999.00,9,-999.000,9,   -999.9,9,   -999.9,9,  -999.0, -999.00,-999.0000,-999.000,-999.000
    316N145_10,  I07N,   836,  1,     10,     10,2,19950818,0118, 20.8835,  60.9165, 3294,   -999,   2152.2,   2.7791,  34.8177,2,  34.8174,2,     90.4,2,  2.6165,     89.9,2,   137.27,2,    37.43,2,     0.00,2,     2.77,2, -999.000,9, -999.000,9, -999.000,9,-999.0000,9,  -999.00,9,   -999.0,9,  -999.00,9,-999.000,9,   -999.9,9,   -999.9,9,  -999.0, -999.00,-999.0000,-999.000,-999.000
    316N145_10,  I07N,   836,  1,      9,      9,2,19950818,0118, 20.8835,  60.9165, 3294,   -999,   2254.4,   2.5660,  34.8009,2,  34.8009,2,     95.6,2,  2.3976,     94.8,2,   140.11,2,    37.19,2,     0.00,2,     2.74,2, -999.000,9, -999.000,9, -999.000,9,-999.0000,9,  -999.00,9,   -999.0,9,  -999.00,9,-999.000,9,   -999.9,9,   -999.9,9,  -999.0, -999.00,-999.0000,-999.000,-999.000
    316N145_10,  I07N,   836,  1,      8,      8,2,19950818,0118, 20.8835,  60.9165, 3294,   -999,   2350.4,   2.3576,  34.7872,2,  34.7858,2,    100.8,2,  2.1841,    100.2,2,   142.77,2,    37.00,2,     0.00,2,     2.72,2,   -0.001,2,    0.006,2, -999.000,9,-999.0000,9,  -999.00,9,   -999.0,9,  -999.00,9,-999.000,9,   -999.9,9,   -999.9,9,  -999.0, -999.00,-999.0000,-999.000,-999.000
    316N145_10,  I07N,   836,  1,      7,      7,2,19950818,0118, 20.8835,  60.9165, 3294,   -999,   2450.4,   2.2279,  34.7763,2,  34.7758,2,    103.7,2,  2.0476,    103.2,2,   144.68,2,    36.91,2,     0.00,2,     2.70,2, -999.000,9, -999.000,9, -999.000,9,-999.0000,9,  -999.00,9,   -999.0,9,  -999.00,9,-999.000,9,   -999.9,9,   -999.9,9,  -999.0, -999.00,-999.0000,-999.000,-999.000
    316N145_10,  I07N,   836,  1,      6,      6,2,19950818,0118, 20.8835,  60.9165, 3294,   -999,   2552.2,   2.1002,  34.7663,2,  34.7660,2,    107.5,2,  1.9129,    106.8,2,   146.40,2,    36.82,2,     0.00,2,     2.68,2, -999.000,9, -999.000,9, -999.000,9,-999.0000,9,  -999.00,9,   -999.0,9,  -999.00,9,-999.000,9,   -999.9,9,   -999.9,9,  -999.0, -999.00,-999.0000,-999.000,-999.000
    316N145_10,  I07N,   836,  1,      5,      5,2,19950818,0118, 20.8835,  60.9165, 3294,   -999,   2699.4,   1.9264,  34.7544,2,  34.7543,2,    111.1,2,  1.7287,    110.8,2,   149.31,2,    36.58,2,     0.00,2,     2.66,2,    0.003,2,    0.014,2, -999.000,9,-999.0000,9,  -999.00,9,   -999.0,9,  -999.00,9,-999.000,9,   -999.9,9,   -999.9,9,  -999.0, -999.00,-999.0000,-999.000,-999.000
    316N145_10,  I07N,   836,  1,      4,      4,2,19950818,0118, 20.8835,  60.9165, 3294,   -999,   2903.1,   1.8335,  34.7475,2,  34.7474,2,    114.5,2,  1.6185,    114.4,2,   150.07,2,    36.39,2,     0.00,2,     2.65,2, -999.000,9, -999.000,9, -999.000,9,-999.0000,9,  -999.00,9,   -999.0,9,  -999.00,9,-999.000,9,   -999.9,9,   -999.9,9,  -999.0, -999.00,-999.0000,-999.000,-999.000
    316N145_10,  I07N,   836,  1,      3,      3,2,19950818,0118, 20.8835,  60.9165, 3294,   -999,   3050.4,   1.7907,  34.7442,2,  34.7441,2,    117.0,2,  1.5624,    117.3,2,   150.24,2,    36.30,2,     0.00,2,     2.62,2,    0.011,2,    0.030,2, -999.000,9,-999.0000,9,  -999.00,9,   -999.0,9,  -999.00,9,-999.000,9,   -999.9,9,   -999.9,9,  -999.0, -999.00,-999.0000,-999.000,-999.000
    316N145_10,  I07N,   836,  1,      2,      2,2,19950818,0118, 20.8835,  60.9165, 3294,   -999,   3197.4,   1.7478,  34.7411,2,  34.7413,2,    122.1,2,  1.5059,    122.5,2,   149.62,2,    36.15,2,     0.00,2,     2.60,2, -999.000,9, -999.000,9, -999.000,9,-999.0000,9,  -999.00,9,   -999.0,9,  -999.00,9,-999.000,9,   -999.9,9,   -999.9,9,  -999.0, -999.00,-999.0000,-999.000,-999.000
    316N145_10,  I07N,   836,  1,      1,      1,2,19950818,0118, 20.8835,  60.9165, 3294,   -999,   3334.8,   1.7177,  34.7385,2,  34.7396,2,    122.4,2,  1.4628,    123.4,2,   150.58,2,    36.11,2,     0.00,2,     2.61,2,    0.008,2,    0.032,2, -999.000,9,-999.0000,9,  -999.00,9,   -999.0,9,  -999.00,9,-999.000,9,   -999.9,9,   -999.9,9,  -999.0, -999.00,-999.0000,-999.000,-999.000