BOTTLE,20080821WHPSIOSCD
EXPOCODE,SECT_ID,STNNBR,CASTNO,SAMPNO,BTLNBR,BTLNBR_FLAG_W,DATE,TIME,LATITUDE,LONGITUDE,DEPTH,CTDRAW,CTDPRS,CTDTMP,CTDSAL,CTDSAL_FLAG_W,SALNTY,SALNTY_FLAG_W,CTDOXY,CTDOXY_FLAG_W,THETA,OXYGEN,OXYGEN_FLAG_W,SILCAT,SILCAT_FLAG_W,NITRAT,NITRAT_FLAG_W,NITRIT,NITRIT_FLAG_W,PHSPHT,PHSPHT_FLAG_W,CFC-11,CFC-11_FLAG_W,CFC-12,CFC-12_FLAG_W,TRITUM,TRITUM_FLAG_W,HELIUM,HELIUM_FLAG_W,DELHE3,DELHE3_FLAG_W,DELC14,DELC14_FLAG_W,DELC13,DELC13_FLAG_W,NEON,NEON_FLAG_W,TCARBN,TCARBN_FLAG_W,ALKALI,ALKALI_FLAG_W,C14ERR,DELHER,HELIER,NEONER,TRITER
,,,,,,,,,,,,,DBAR,ITS-90,PSS-78,,PSS-78,,UMOL/KG,,DEG C,UMOL/KG,,UMOL/KG,,UMOL/KG,,UMOL/KG,,UMOL/KG,,PMOL/KG,,PMOL/KG,,TU,,NMOL/KG,,PERCNT,,/MILLE,,/MILLE,,NMOL/KG,,UMOL/KG,,UMOL/KG,,/MILLE,PERCNT,NMOL/KG,NMOL/KG,TU
    316N145_10,  I07N,   739,  1,     36,     36,2,19950723,1846, -8.0047,  53.2950, 4016,   -999,      9.4,  26.4503,  35.2369,2,  35.2353,2,    205.4,2, 26.4484,    201.8,2,     2.61,2,     0.37,2,     0.02,2,     0.21,2,    1.749,2,    0.954,2, -999.000,9,-999.0000,9,  -999.00,9,   -999.0,9,  -999.00,9,-999.000,9,   1974.7,2,   2305.8,2,  -999.0, -999.00,-999.0000,-999.000,-999.000
    316N145_10,  I07N,   739,  1,     35,     35,2,19950723,1846, -8.0047,  53.2950, 4016,   -999,     32.2,  26.3539,  35.2271,2,  35.2255,2,    212.0,2, 26.3469,    200.2,2,     2.76,2,     0.58,2,     0.04,2,     0.22,2,    1.733,2,    0.928,2, -999.000,9,-999.0000,9,  -999.00,9,   -999.0,9,  -999.00,9,-999.000,9,   -999.9,9,   -999.9,9,  -999.0, -999.00,-999.0000,-999.000,-999.000
    316N145_10,  I07N,   739,  1,     34,     34,2,19950723,1846, -8.0047,  53.2950, 4016,   -999,     91.9,  17.4186,  35.2291,2,  35.2355,2,    118.7,2, 17.4034,    115.6,2,    14.35,2,    15.24,2,     0.03,2,     1.10,2, -999.000,9, -999.000,9, -999.000,9,-999.0000,9,  -999.00,9,   -999.0,9,  -999.00,9,-999.000,9,   -999.9,9,   -999.9,9,  -999.0, -999.00,-999.0000,-999.000,-999.000
    316N145_10,  I07N,   739,  1,     33,     33,2,19950723,1846, -8.0047,  53.2950, 4016,   -999,    118.2,  16.3172,  35.1850,2,  35.1826,2,    106.5,2, 16.2984,    106.6,2,    16.06,2,    18.01,2,     0.01,2,     1.28,2,    1.423,2,    0.712,2, -999.000,9,-999.0000,9,  -999.00,9,   -999.0,9,  -999.00,9,-999.000,9,   -999.9,9,   -999.9,9,  -999.0, -999.00,-999.0000,-999.000,-999.000
    316N145_10,  I07N,   739,  1,     32,     32,2,19950723,1846, -8.0047,  53.2950, 4016,   -999,    199.4,  13.4680,  35.1096,2,  35.0980,2,    118.1,2, 13.4400,    117.5,2,    18.46,2,    20.09,2,     0.00,2,     1.43,2,    1.265,2,    0.639,2, -999.000,9,-999.0000,9,  -999.00,9,   -999.0,9,  -999.00,9,-999.000,9,   -999.9,9,   -999.9,9,  -999.0, -999.00,-999.0000,-999.000,-999.000
    316N145_10,  I07N,   739,  1,     31,     31,2,19950723,1846, -8.0047,  53.2950, 4016,   -999,    249.2,  12.3040,  35.0402,2,  35.0408,2,    121.6,2, 12.2710,    124.4,2,    19.13,2,    20.95,2,     0.00,2,     1.47,2,    1.181,2,    0.582,2, -999.000,9,-999.0000,9,  -999.00,9,   -999.0,9,  -999.00,9,-999.000,9,   -999.9,9,   -999.9,9,  -999.0, -999.00,-999.0000,-999.000,-999.000
    316N145_10,  I07N,   739,  1,     30,     30,2,19950723,1846, -8.0047,  53.2950, 4016,   -999,    299.8,  11.4676,  34.9763,2,  34.9744,2,    132.1,2, 11.4296,    132.8,2,    20.15,2,    21.59,2,     0.00,2,     1.51,2,    1.131,2,    0.553,2, -999.000,9,-999.0000,9,  -999.00,9,   -999.0,9,  -999.00,9,-999.000,9,   -999.9,9,   -999.9,9,  -999.0, -999.00,-999.0000,-999.000,-999.000
    316N145_10,  I07N,   739,  1,     29,     29,2,19950723,1846, -8.0047,  53.2950, 4016,   -999,    399.0,  10.3763,  34.8807,2,  34.8799,2,    144.7,2, 10.3287,    148.6,2,    21.34,2,    22.09,2,     0.00,2,     1.56,2,    1.124,2,    0.546,2, -999.000,9,-999.0000,9,  -999.00,9,   -999.0,9,  -999.00,9,-999.000,9,   -999.9,9,   -999.9,9,  -999.0, -999.00,-999.0000,-999.000,-999.000
    316N145_10,  I07N,   739,  1,     28,     28,2,19950723,1846, -8.0047,  53.2950, 4016,   -999,    450.1,   9.6648,  34.8405,2,  34.8405,2,    132.2,2,  9.6132,    132.6,2,    27.37,2,    25.08,2,     0.00,2,     1.76,2,    0.769,2,    0.389,2, -999.000,9,-999.0000,9,  -999.00,9,   -999.0,9,  -999.00,9,-999.000,9,   -999.9,9,   -999.9,9,  -999.0, -999.00,-999.0000,-999.000,-999.000
    316N145_10,  I07N,   739,  1,     27,     27,2,19950723,1846, -8.0047,  53.2950, 4016,   -999,    500.5,   9.0418,  34.8003,2,  34.8014,2,    132.3,2,  8.9866,    131.3,2,    31.68,2,    26.44,2,     0.00,2,     1.87,2,    0.632,2,    0.327,2, -999.000,9,-999.0000,9,  -999.00,9,   -999.0,9,  -999.00,9,-999.000,9,   -999.9,9,   -999.9,9,  -999.0, -999.00,-999.0000,-999.000,-999.000
    316N145_10,  I07N,   739,  1,     26,     26,2,19950723,1846, -8.0047,  53.2950, 4016,   -999,    599.2,   8.1678,  34.7714,2,  34.7721,2,    126.8,2,  8.1052,    121.5,2,    41.36,2,    28.94,2,     0.00,2,     2.08,2,    0.392,2,    0.188,2, -999.000,9,-999.0000,9,  -999.00,9,   -999.0,9,  -999.00,9,-999.000,9,   -999.9,9,   -999.9,9,  -999.0, -999.00,-999.0000,-999.000,-999.000
    316N145_10,  I07N,   739,  1,     25,     25,2,19950723,1846, -8.0047,  53.2950, 4016,   -999,    699.4,   7.5224,  34.7927,2,  34.7915,2,    113.8,2,  7.4522,     98.5,2,    54.88,2,    32.05,2,     0.00,2,     2.34,2,    0.158,2,    0.073,2, -999.000,9,-999.0000,9,  -999.00,9,   -999.0,9,  -999.00,9,-999.000,9,   -999.9,9,   -999.9,9,  -999.0, -999.00,-999.0000,-999.000,-999.000
    316N145_10,  I07N,   739,  1,     24,     24,2,19950723,1846, -8.0047,  53.2950, 4016,   -999,    771.0,   7.1318,  34.7782,2,  34.7841,2,     94.8,2,  7.0562,     97.4,2,    59.37,2,    32.69,2,     0.00,2,     2.40,2,    0.128,2,    0.070,2, -999.000,9,-999.0000,9,  -999.00,9,   -999.0,9,  -999.00,9,-999.000,9,   -999.9,9,   -999.9,9,  -999.0, -999.00,-999.0000,-999.000,-999.000
    316N145_10,  I07N,   739,  1,     23,     23,2,19950723,1846, -8.0047,  53.2950, 4016,   -999,    799.9,   6.9621,  34.7894,2,  34.7900,2,     89.1,2,  6.8845,     92.9,2,    63.70,2,    33.34,2,     0.00,2,     2.46,2,    0.098,2,    0.057,2, -999.000,9,-999.0000,9,  -999.00,9,   -999.0,9,  -999.00,9,-999.000,9,   -999.9,9,   -999.9,9,  -999.0, -999.00,-999.0000,-999.000,-999.000
    316N145_10,  I07N,   739,  1,     22,     22,2,19950723,1846, -8.0047,  53.2950, 4016,   -999,    901.9,   6.5941,  34.8384,2,  34.8387,2,     82.3,2,  6.5084,     78.4,2,    74.84,2,    35.09,2,     0.00,2,     2.61,2,    0.028,2,    0.022,2, -999.000,9,-999.0000,9,  -999.00,9,   -999.0,9,  -999.00,9,-999.000,9,   -999.9,9,   -999.9,9,  -999.0, -999.00,-999.0000,-999.000,-999.000
    316N145_10,  I07N,   739,  1,     21,     21,2,19950723,1846, -8.0047,  53.2950, 4016,   -999,    992.0,   6.1022,  34.8303,2,  34.8308,2,     82.0,2,  6.0109,     82.4,2,    80.07,2,    35.24,2,     0.00,2,     2.65,2,    0.020,2,    0.012,2, -999.000,9,-999.0000,9,  -999.00,9,   -999.0,9,  -999.00,9,-999.000,9,   -999.9,9,   -999.9,9,  -999.0, -999.00,-999.0000,-999.000,-999.000
    316N145_10,  I07N,   739,  1,     20,     20,2,19950723,1846, -8.0047,  53.2950, 4016,   -999,   1151.4,   5.4803,  34.8276,2,  34.8286,2,     84.4,2,  5.3785,     85.3,2,    88.31,2,    35.75,2,     0.00,2,     2.67,2,    0.005,2,    0.008,2, -999.000,9,-999.0000,9,  -999.00,9,   -999.0,9,  -999.00,9,-999.000,9,   -999.9,9,   -999.9,9,  -999.0, -999.00,-999.0000,-999.000,-999.000
    316N145_10,  I07N,   739,  1,     19,     19,2,19950723,1846, -8.0047,  53.2950, 4016,   -999,   1303.6,   4.8569,  34.7963,2,  34.7958,2,     97.9,2,  4.7464,     98.5,2,    92.69,2,    35.34,2,     0.00,2,     2.64,2,    0.009,2,    0.006,2, -999.000,9,-999.0000,9,  -999.00,9,   -999.0,9,  -999.00,9,-999.000,9,   -999.9,9,   -999.9,9,  -999.0, -999.00,-999.0000,-999.000,-999.000
    316N145_10,  I07N,   739,  1,     18,     18,2,19950723,1846, -8.0047,  53.2950, 4016,   -999,   1403.9,   4.3762,  34.7807,2,  34.7833,2,    104.0,2,  4.2612,    105.9,2,    96.91,2,    35.39,2,     0.00,2,     2.63,2,    0.003,2,    0.001,2, -999.000,9,-999.0000,9,  -999.00,9,   -999.0,9,  -999.00,9,-999.000,9,   -999.9,9,   -999.9,9,  -999.0, -999.00,-999.0000,-999.000,-999.000
    316N145_10,  I07N,   739,  1,     17,     17,2,19950723,1846, -8.0047,  53.2950, 4016,   -999,   1504.9,   3.9422,  34.7538,2,  34.7554,2,    120.8,2,  3.8228,    119.2,2,    99.18,2,    35.03,2,     0.00,2,     2.59,2, -999.000,9, -999.000,9, -999.000,9,-999.0000,9,  -999.00,9,   -999.0,9,  -999.00,9,-999.000,9,   -999.9,9,   -999.9,9,  -999.0, -999.00,-999.0000,-999.000,-999.000
    316N145_10,  I07N,   739,  1,     16,     16,2,19950723,1846, -8.0047,  53.2950, 4016,   -999,   1603.4,   3.6834,  34.7603,2,  34.7607,2,    123.2,2,  3.5581,    121.5,2,   103.60,2,    35.03,2,     0.00,2,     2.56,2, -999.000,9, -999.000,9, -999.000,9,-999.0000,9,  -999.00,9,   -999.0,9,  -999.00,9,-999.000,9,   -999.9,9,   -999.9,9,  -999.0, -999.00,-999.0000,-999.000,-999.000
    316N145_10,  I07N,   739,  1,     15,     15,2,19950723,1846, -8.0047,  53.2950, 4016,   -999,   1696.7,   3.2787,  34.7541,2,  34.7530,2,    130.6,2,  3.1501,    130.3,2,   107.68,2,    34.76,2,     0.00,2,     2.56,2, -999.000,9, -999.000,9, -999.000,9,-999.0000,9,  -999.00,9,   -999.0,9,  -999.00,9,-999.000,9,   -999.9,9,   -999.9,9,  -999.0, -999.00,-999.0000,-999.000,-999.000
    316N145_10,  I07N,   739,  1,     14,     14,2,19950723,1846, -8.0047,  53.2950, 4016,   -999,   1796.6,   2.8496,  34.7509,2,  34.7507,2,    138.5,2,  2.7180,    138.6,2,   113.21,2,    34.58,2,     0.00,2,     2.53,2, -999.000,9, -999.000,9, -999.000,9,-999.0000,9,  -999.00,9,   -999.0,9,  -999.00,9,-999.000,9,   -999.9,9,   -999.9,9,  -999.0, -999.00,-999.0000,-999.000,-999.000
    316N145_10,  I07N,   739,  1,     13,     13,2,19950723,1846, -8.0047,  53.2950, 4016,   -999,   1898.6,   2.7511,  34.7497,2,  34.7493,2,    140.1,2,  2.6120,    141.1,2,   114.25,2,    34.35,2,     0.00,2,     2.52,2, -999.000,9, -999.000,9, -999.000,9,-999.0000,9,  -999.00,9,   -999.0,9,  -999.00,9,-999.000,9,   -999.9,9,   -999.9,9,  -999.0, -999.00,-999.0000,-999.000,-999.000
    316N145_10,  I07N,   739,  1,     12,     12,2,19950723,1846, -8.0047,  53.2950, 4016,   -999,   1998.7,   2.5847,  34.7484,2,  34.7479,2,    143.4,2,  2.4392,    143.4,2,   117.46,2,    34.45,2,     0.00,2,     2.51,2, -999.000,9, -999.000,9, -999.000,9,-999.0000,9,  -999.00,9,   -999.0,9,  -999.00,9,-999.000,9,   -999.9,9,   -999.9,9,  -999.0, -999.00,-999.0000,-999.000,-999.000
    316N145_10,  I07N,   739,  1,     11,     11,2,19950723,1846, -8.0047,  53.2950, 4016,   -999,   2098.4,   2.4230,  34.7469,2,  34.7473,2,    146.8,2,  2.2713,    147.1,2,   119.95,2,    34.32,2,     0.00,2,     2.51,2, -999.000,9, -999.000,9, -999.000,9,-999.0000,9,  -999.00,9,   -999.0,9,  -999.00,9,-999.000,9,   -999.9,9,   -999.9,9,  -999.0, -999.00,-999.0000,-999.000,-999.000
    316N145_10,  I07N,   739,  1,     10,     10,2,19950723,1846, -8.0047,  53.2950, 4016,   -999,   2297.0,   2.2123,  34.7445,2,  34.7451,2,    151.5,2,  2.0464,    151.8,2,   122.82,2,    34.23,2,     0.00,2,     2.48,2, -999.000,9, -999.000,9, -999.000,9,-999.0000,9,  -999.00,9,   -999.0,9,  -999.00,9,-999.000,9,   -999.9,9,   -999.9,9,  -999.0, -999.00,-999.0000,-999.000,-999.000
    316N145_10,  I07N,   739,  1,      9,      9,2,19950723,1846, -8.0047,  53.2950, 4016,   -999,   2495.2,   2.0746,  34.7424,2,  34.7424,2,    155.4,2,  1.8931,    154.5,2,   125.33,2,    34.14,2,     0.00,2,     2.47,2, -999.000,9, -999.000,9, -999.000,9,-999.0000,9,  -999.00,9,   -999.0,9,  -999.00,9,-999.000,9,   -999.9,9,   -999.9,9,  -999.0, -999.00,-999.0000,-999.000,-999.000
    316N145_10,  I07N,   739,  1,      8,      8,2,19950723,1846, -8.0047,  53.2950, 4016,   -999,   2700.5,   1.9438,  34.7411,2,  34.7420,2,    158.3,2,  1.7458,    156.9,2,   127.66,2,    34.15,2,     0.00,2,     2.47,2, -999.000,9, -999.000,9, -999.000,9,-999.0000,9,  -999.00,9,   -999.0,9,  -999.00,9,-999.000,9,   -999.9,9,   -999.9,9,  -999.0, -999.00,-999.0000,-999.000,-999.000
    316N145_10,  I07N,   739,  1,      7,      7,2,19950723,1846, -8.0047,  53.2950, 4016,   -999,   2893.6,   1.8640,  34.7381,2,  34.7383,2,    160.7,2,  1.6493,    160.2,2,   128.90,2,    34.06,2,     0.00,2,     2.44,2, -999.000,9, -999.000,9, -999.000,9,-999.0000,9,  -999.00,9,   -999.0,9,  -999.00,9,-999.000,9,   -999.9,9,   -999.9,9,  -999.0, -999.00,-999.0000,-999.000,-999.000
    316N145_10,  I07N,   739,  1,      6,      6,2,19950723,1846, -8.0047,  53.2950, 4016,   -999,   3194.5,   1.7778,  34.7354,2,  34.7357,2,    163.1,2,  1.5355,    163.2,2,   130.33,2,    33.92,2,     0.00,2,     2.42,2, -999.000,9, -999.000,9, -999.000,9,-999.0000,9,  -999.00,9,   -999.0,9,  -999.00,9,-999.000,9,   -999.9,9,   -999.9,9,  -999.0, -999.00,-999.0000,-999.000,-999.000
    316N145_10,  I07N,   739,  1,      5,      5,2,19950723,1846, -8.0047,  53.2950, 4016,   -999,   3495.7,   1.6763,  34.7318,2,  34.7322,2,    167.1,2,  1.4060,    167.9,2,   131.02,2,    33.79,2,     0.00,2,     2.43,2, -999.000,9, -999.000,9, -999.000,9,-999.0000,9,  -999.00,9,   -999.0,9,  -999.00,9,-999.000,9,   -999.9,9,   -999.9,9,  -999.0, -999.00,-999.0000,-999.000,-999.000
    316N145_10,  I07N,   739,  1,      4,      4,2,19950723,1846, -8.0047,  53.2950, 4016,   -999,   3793.0,   1.5815,  34.7277,2,  34.7284,2,    172.5,2,  1.2825,    172.7,2,   131.89,2,    33.52,2,     0.00,2,     2.39,2, -999.000,9, -999.000,9, -999.000,9,-999.0000,9,  -999.00,9,   -999.0,9,  -999.00,9,-999.000,9,   -999.9,9,   -999.9,9,  -999.0, -999.00,-999.0000,-999.000,-999.000
    316N145_10,  I07N,   739,  1,      3,      3,2,19950723,1846, -8.0047,  53.2950, 4016,   -999,   3946.5,   1.5134,  34.7252,2,  34.7247,2,    175.1,2,  1.1998,    175.7,2,   132.22,2,    33.43,2,     0.00,2,     2.38,2, -999.000,9, -999.000,9, -999.000,9,-999.0000,9,  -999.00,9,   -999.0,9,  -999.00,9,-999.000,9,   -999.9,9,   -999.9,9,  -999.0, -999.00,-999.0000,-999.000,-999.000
    316N145_10,  I07N,   739,  1,      2,      2,2,19950723,1846, -8.0047,  53.2950, 4016,   -999,   4045.5,   1.4747,  34.7239,2,  34.7239,2,    178.2,2,  1.1514,    178.5,2,   132.54,2,    33.34,2,     0.00,2,     2.36,2, -999.000,9, -999.000,9, -999.000,9,-999.0000,9,  -999.00,9,   -999.0,9,  -999.00,9,-999.000,9,   -999.9,9,   -999.9,9,  -999.0, -999.00,-999.0000,-999.000,-999.000
    316N145_10,  I07N,   739,  1,      1,      1,2,19950723,1846, -8.0047,  53.2950, 4016,   -999,   4073.1,   1.4749,  34.7238,2,  34.7241,2,    178.3,2,  1.1486,    178.6,2,   132.31,2,    33.30,2,     0.00,2,     2.36,2, -999.000,9, -999.000,9, -999.000,9,-999.0000,9,  -999.00,9,   -999.0,9,  -999.00,9,-999.000,9,   -999.9,9,   -999.9,9,  -999.0, -999.00,-999.0000,-999.000,-999.000