BOTTLE,20080821WHPSIOSCD
EXPOCODE,SECT_ID,STNNBR,CASTNO,SAMPNO,BTLNBR,BTLNBR_FLAG_W,DATE,TIME,LATITUDE,LONGITUDE,DEPTH,CTDRAW,CTDPRS,CTDTMP,CTDSAL,CTDSAL_FLAG_W,SALNTY,SALNTY_FLAG_W,CTDOXY,CTDOXY_FLAG_W,THETA,OXYGEN,OXYGEN_FLAG_W,SILCAT,SILCAT_FLAG_W,NITRAT,NITRAT_FLAG_W,NITRIT,NITRIT_FLAG_W,PHSPHT,PHSPHT_FLAG_W,CFC-11,CFC-11_FLAG_W,CFC-12,CFC-12_FLAG_W,TRITUM,TRITUM_FLAG_W,HELIUM,HELIUM_FLAG_W,DELHE3,DELHE3_FLAG_W,DELC14,DELC14_FLAG_W,DELC13,DELC13_FLAG_W,NEON,NEON_FLAG_W,TCARBN,TCARBN_FLAG_W,ALKALI,ALKALI_FLAG_W,C14ERR,DELHER,HELIER,NEONER,TRITER
,,,,,,,,,,,,,DBAR,ITS-90,PSS-78,,PSS-78,,UMOL/KG,,DEG C,UMOL/KG,,UMOL/KG,,UMOL/KG,,UMOL/KG,,UMOL/KG,,PMOL/KG,,PMOL/KG,,TU,,NMOL/KG,,PERCNT,,/MILLE,,/MILLE,,NMOL/KG,,UMOL/KG,,UMOL/KG,,/MILLE,PERCNT,NMOL/KG,NMOL/KG,TU
    316N145_10,  I07N,   803,  1,     36,     36,2,19950810,0435, 17.7843,  60.6080, 3885,   -999,      9.0,  25.1997,  35.8418,2,  35.8408,2,    214.2,2, 25.1980,    210.6,2,     4.98,2,     9.84,2,     0.38,2,     1.16,2,    1.842,2,    1.029,2, -999.000,9,-999.0000,9,  -999.00,9,   -999.0,9,  -999.00,9,-999.000,9,   2077.7,2,   2342.8,2,  -999.0, -999.00,-999.0000,-999.000,-999.000
    316N145_10,  I07N,   803,  1,     35,     35,2,19950810,0435, 17.7843,  60.6080, 3885,   -999,     29.8,  24.8875,  35.8234,2,  35.8262,2,    204.8,2, 24.8812,    204.7,2,     5.53,2,    10.69,2,     0.45,2,     1.21,2, -999.000,9, -999.000,9, -999.000,9,-999.0000,9,  -999.00,9,   -999.0,9,  -999.00,9,-999.000,9,   -999.9,9,   -999.9,9,  -999.0, -999.00,-999.0000,-999.000,-999.000
    316N145_10,  I07N,   803,  1,     34,     34,2,19950810,0435, 17.7843,  60.6080, 3885,   -999,     45.2,  21.5076,  35.7508,2,  35.7472,2,    130.3,2, 21.4990,    134.3,2,    13.02,2,    18.57,2,     1.46,2,     1.70,2,    1.730,2,    0.962,2, -999.000,9,-999.0000,9,  -999.00,9,   -999.0,9,  -999.00,9,-999.000,9,   -999.9,9,   -999.9,9,  -999.0, -999.00,-999.0000,-999.000,-999.000
    316N145_10,  I07N,   803,  1,     33,     33,2,19950810,0435, 17.7843,  60.6080, 3885,   -999,     76.4,  20.1914,  35.7942,2,  35.7905,2,     55.9,2, 20.1774,     49.6,2,    17.51,2,    23.84,2,     0.03,2,     2.05,2, -999.000,9, -999.000,9, -999.000,9,-999.0000,9,  -999.00,9,   -999.0,9,  -999.00,9,-999.000,9,   -999.9,9,   -999.9,9,  -999.0, -999.00,-999.0000,-999.000,-999.000
    316N145_10,  I07N,   803,  1,     32,     32,2,19950810,0435, 17.7843,  60.6080, 3885,   -999,    105.9,  18.4607,  35.8094,2,  35.8065,2,      5.3,2, 18.4423,      5.3,2,    20.87,2,    24.49,2,     0.03,2,     2.24,2,    1.032,2,    0.592,2, -999.000,9,-999.0000,9,  -999.00,9,   -999.0,9,  -999.00,9,-999.000,9,   -999.9,9,   -999.9,9,  -999.0, -999.00,-999.0000,-999.000,-999.000
    316N145_10,  I07N,   803,  1,     31,     31,2,19950810,0435, 17.7843,  60.6080, 3885,   -999,    150.1,  17.1924,  35.8073,2,  35.7935,2,      6.1,2, 17.1675,      6.2,2,    23.48,2,    24.05,2,     0.01,2,     2.27,2, -999.000,9, -999.000,9, -999.000,9,-999.0000,9,  -999.00,9,   -999.0,9,  -999.00,9,-999.000,9,   -999.9,9,   -999.9,9,  -999.0, -999.00,-999.0000,-999.000,-999.000
    316N145_10,  I07N,   803,  1,     30,     30,2,19950810,0435, 17.7843,  60.6080, 3885,   -999,    185.3,  16.0343,  35.8042,2,  35.7994,2,      5.1,2, 16.0049,      4.8,2,    25.72,2,    23.74,2,     0.00,2,     2.31,2,    0.653,2,    0.390,2, -999.000,9,-999.0000,9,  -999.00,9,   -999.0,9,  -999.00,9,-999.000,9,   -999.9,9,   -999.9,9,  -999.0, -999.00,-999.0000,-999.000,-999.000
    316N145_10,  I07N,   803,  1,     29,     29,2,19950810,0435, 17.7843,  60.6080, 3885,   -999,    210.5,  16.1241,  35.9617,2,  35.9574,2,      2.2,2, 16.0905,      3.5,2,    26.45,2,    23.63,2,     0.01,2,     2.32,2, -999.000,9, -999.000,9, -999.000,9,-999.0000,9,  -999.00,9,   -999.0,9,  -999.00,9,-999.000,9,   -999.9,9,   -999.9,9,  -999.0, -999.00,-999.0000,-999.000,-999.000
    316N145_10,  I07N,   803,  1,     28,     28,2,19950810,0435, 17.7843,  60.6080, 3885,   -999,    240.6,  15.3139,  35.8688,2,  35.8884,2,      2.8,2, 15.2768,      4.5,2,    27.75,2,    24.01,2,     0.00,2,     2.35,2,    0.560,2,    0.337,2, -999.000,9,-999.0000,9,  -999.00,9,   -999.0,9,  -999.00,9,-999.000,9,   -999.9,9,   -999.9,9,  -999.0, -999.00,-999.0000,-999.000,-999.000
    316N145_10,  I07N,   803,  1,     27,     27,2,19950810,0435, 17.7843,  60.6080, 3885,   -999,    274.8,  14.9461,  35.9281,2,  35.9385,2,      2.1,2, 14.9044,      3.0,2,    29.24,2,    24.38,2,     0.00,2,     2.39,2, -999.000,9, -999.000,9, -999.000,9,-999.0000,9,  -999.00,9,   -999.0,9,  -999.00,9,-999.000,9,   -999.9,9,   -999.9,9,  -999.0, -999.00,-999.0000,-999.000,-999.000
    316N145_10,  I07N,   803,  1,     26,     26,2,19950810,0435, 17.7843,  60.6080, 3885,   -999,    314.7,  14.2838,  35.8712,2,  35.8690,2,      2.8,2, 14.2374,      3.3,2,    31.48,2,    25.03,2,     0.00,2,     2.44,2,    0.421,2,    0.247,2, -999.000,9,-999.0000,9,  -999.00,9,   -999.0,9,  -999.00,9,-999.000,9,   -999.9,9,   -999.9,9,  -999.0, -999.00,-999.0000,-999.000,-999.000
    316N145_10,  I07N,   803,  1,     25,     25,2,19950810,0435, 17.7843,  60.6080, 3885,   -999,    360.1,  13.5528,  35.7786,2,  35.7779,2,      2.7,2, 13.5014,      2.9,2,    39.34,2,    28.34,2,     0.00,2,     2.60,2,    0.313,2,    0.182,2, -999.000,9,-999.0000,9,  -999.00,9,   -999.0,9,  -999.00,9,-999.000,9,   -999.9,9,   -999.9,9,  -999.0, -999.00,-999.0000,-999.000,-999.000
    316N145_10,  I07N,   803,  1,     24,     24,2,19950810,0435, 17.7843,  60.6080, 3885,   -999,    462.0,  12.5430,  35.6669,2,  35.6707,2,      3.0,2, 12.4801,      2.6,2,    39.51,2,    28.35,2,     0.00,2,     2.60,2,    0.171,2,    0.101,2, -999.000,9,-999.0000,9,  -999.00,9,   -999.0,9,  -999.00,9,-999.000,9,   -999.9,9,   -999.9,9,  -999.0, -999.00,-999.0000,-999.000,-999.000
    316N145_10,  I07N,   803,  1,     23,     23,2,19950810,0435, 17.7843,  60.6080, 3885,   -999,    554.0,  12.0541,  35.6617,2,  35.6596,2,      3.2,2, 11.9802,      3.0,2,    44.38,2,    29.09,2,     0.00,2,     2.66,2,    0.125,2,    0.075,2, -999.000,9,-999.0000,9,  -999.00,9,   -999.0,9,  -999.00,9,-999.000,9,   -999.9,9,   -999.9,9,  -999.0, -999.00,-999.0000,-999.000,-999.000
    316N145_10,  I07N,   803,  1,     22,     22,2,19950810,0435, 17.7843,  60.6080, 3885,   -999,    650.4,  11.5340,  35.6441,2,  35.6462,2,      4.9,2, 11.4493,      4.6,2,    49.61,2,    30.45,2,     0.00,2,     2.70,2,    0.096,2,    0.060,2, -999.000,9,-999.0000,9,  -999.00,9,   -999.0,9,  -999.00,9,-999.000,9,   -999.9,9,   -999.9,9,  -999.0, -999.00,-999.0000,-999.000,-999.000
    316N145_10,  I07N,   803,  1,     21,     21,2,19950810,0435, 17.7843,  60.6080, 3885,   -999,    751.3,  10.9145,  35.6131,2,  35.6147,2,      4.8,2, 10.8194,      4.4,2,    55.98,2,    32.09,2,     0.00,2,     2.77,2,    0.072,2,    0.039,2, -999.000,9,-999.0000,9,  -999.00,9,   -999.0,9,  -999.00,9,-999.000,9,   -999.9,9,   -999.9,9,  -999.0, -999.00,-999.0000,-999.000,-999.000
    316N145_10,  I07N,   803,  1,     20,     20,2,19950810,0435, 17.7843,  60.6080, 3885,   -999,    850.0,  10.1587,  35.5488,2,  35.5515,2,      5.2,2, 10.0553,      5.2,2,    63.29,2,    33.70,2,     0.00,2,     2.84,2,    0.047,2,    0.026,2, -999.000,9,-999.0000,9,  -999.00,9,   -999.0,9,  -999.00,9,-999.000,9,   -999.9,9,   -999.9,9,  -999.0, -999.00,-999.0000,-999.000,-999.000
    316N145_10,  I07N,   803,  1,     19,     19,2,19950810,0435, 17.7843,  60.6080, 3885,   -999,    947.6,   9.4780,  35.4921,2,  35.4963,2,      7.6,2,  9.3669,      7.5,2,    69.30,2,    34.88,2,     0.00,2,     2.89,2,    0.039,2,    0.024,2, -999.000,9,-999.0000,9,  -999.00,9,   -999.0,9,  -999.00,9,-999.000,9,   -999.9,9,   -999.9,9,  -999.0, -999.00,-999.0000,-999.000,-999.000
    316N145_10,  I07N,   803,  1,     18,     18,2,19950810,0435, 17.7843,  60.6080, 3885,   -999,   1099.6,   8.2296,  35.3485,2,  35.3489,2,     11.1,2,  8.1096,      8.9,2,    80.04,2,    36.88,2,     0.00,2,     3.00,2,    0.017,2,    0.008,2, -999.000,9,-999.0000,9,  -999.00,9,   -999.0,9,  -999.00,9,-999.000,9,   -999.9,9,   -999.9,9,  -999.0, -999.00,-999.0000,-999.000,-999.000
    316N145_10,  I07N,   803,  1,     17,     17,2,19950810,0435, 17.7843,  60.6080, 3885,   -999,   1271.3,   7.0466,  35.2138,2,  35.2131,2,     16.8,2,  6.9177,     16.5,2,    90.82,2,    38.12,2,     0.00,2,     3.06,2,    0.007,2,    0.003,2, -999.000,9,-999.0000,9,  -999.00,9,   -999.0,9,  -999.00,9,-999.000,9,   -999.9,9,   -999.9,9,  -999.0, -999.00,-999.0000,-999.000,-999.000
    316N145_10,  I07N,   803,  1,     16,     16,2,19950810,0435, 17.7843,  60.6080, 3885,   -999,   1449.6,   5.7468,  35.0749,2,  35.0759,2,     36.0,2,  5.6122,     36.0,2,   103.02,2,    38.31,2,     0.00,2,     3.04,2,    0.002,2,    0.000,2, -999.000,9,-999.0000,9,  -999.00,9,   -999.0,9,  -999.00,9,-999.000,9,   -999.9,9,   -999.9,9,  -999.0, -999.00,-999.0000,-999.000,-999.000
    316N145_10,  I07N,   803,  1,     15,     15,2,19950810,0435, 17.7843,  60.6080, 3885,   -999,   1625.8,   4.6415,  34.9704,2,  34.9709,2,     54.8,2,  4.5020,     54.2,2,   114.56,2,    38.17,2,     0.00,2,     3.00,2,   -0.001,2,    0.001,2, -999.000,9,-999.0000,9,  -999.00,9,   -999.0,9,  -999.00,9,-999.000,9,   -999.9,9,   -999.9,9,  -999.0, -999.00,-999.0000,-999.000,-999.000
    316N145_10,  I07N,   803,  1,     14,     14,2,19950810,0435, 17.7843,  60.6080, 3885,   -999,   1858.8,   3.6286,  34.8816,2,  34.8823,2,     74.5,2,  3.4803,     75.3,2,   125.67,2,    37.70,2,     0.00,2,     2.92,2,    0.000,2,    0.001,2, -999.000,9,-999.0000,9,  -999.00,9,   -999.0,9,  -999.00,9,-999.000,9,   -999.9,9,   -999.9,9,  -999.0, -999.00,-999.0000,-999.000,-999.000
    316N145_10,  I07N,   803,  1,     13,     13,2,19950810,0435, 17.7843,  60.6080, 3885,   -999,   2048.5,   3.0508,  34.8366,2,  34.8378,2,     88.6,2,  2.8934,     88.8,2,   132.36,2,    37.32,2,     0.00,2,     2.84,2, -999.000,9, -999.000,9, -999.000,9,-999.0000,9,  -999.00,9,   -999.0,9,  -999.00,9,-999.000,9,   -999.9,9,   -999.9,9,  -999.0, -999.00,-999.0000,-999.000,-999.000
    316N145_10,  I07N,   803,  1,     12,     12,2,19950810,0435, 17.7843,  60.6080, 3885,   -999,   2118.6,   2.8804,  34.8234,2,  34.8234,2,     94.3,2,  2.7194,     94.6,2,   133.93,2,    37.08,2,     0.00,2,     2.82,2, -999.000,9, -999.000,9, -999.000,9,-999.0000,9,  -999.00,9,   -999.0,9,  -999.00,9,-999.000,9,   -999.9,9,   -999.9,9,  -999.0, -999.00,-999.0000,-999.000,-999.000
    316N145_10,  I07N,   803,  1,     11,     11,2,19950810,0435, 17.7843,  60.6080, 3885,   -999,   2298.3,   2.5591,  34.7997,2,  34.7999,2,     97.5,2,  2.3868,     98.0,2,   139.11,2,    37.08,2,     0.00,2,     2.80,2, -999.000,9, -999.000,9, -999.000,9,-999.0000,9,  -999.00,9,   -999.0,9,  -999.00,9,-999.000,9,   -999.9,9,   -999.9,9,  -999.0, -999.00,-999.0000,-999.000,-999.000
    316N145_10,  I07N,   803,  1,     10,     10,2,19950810,0435, 17.7843,  60.6080, 3885,   -999,   2474.1,   2.2874,  34.7789,2,  34.7820,2,    104.6,2,  2.1038,    105.9,2,   142.51,2,    36.74,2,     0.00,2,     2.76,2, -999.000,9, -999.000,9, -999.000,9,-999.0000,9,  -999.00,9,   -999.0,9,  -999.00,9,-999.000,9,   -999.9,9,   -999.9,9,  -999.0, -999.00,-999.0000,-999.000,-999.000
    316N145_10,  I07N,   803,  1,      9,      9,2,19950810,0435, 17.7843,  60.6080, 3885,   -999,   2652.4,   2.0834,  34.7647,2,  34.7657,2,    110.7,2,  1.8870,    111.2,2,   144.92,2,    36.60,2,     0.00,2,     2.73,2, -999.000,9, -999.000,9, -999.000,9,-999.0000,9,  -999.00,9,   -999.0,9,  -999.00,9,-999.000,9,   -999.9,9,   -999.9,9,  -999.0, -999.00,-999.0000,-999.000,-999.000
    316N145_10,  I07N,   803,  1,      8,      8,2,19950810,0435, 17.7843,  60.6080, 3885,   -999,   2826.1,   1.9398,  34.7554,2,  34.7547,2,    112.8,2,  1.7299,    114.5,2,   146.73,2,    36.46,2,     0.00,2,     2.71,2, -999.000,9, -999.000,9, -999.000,9,-999.0000,9,  -999.00,9,   -999.0,9,  -999.00,9,-999.000,9,   -999.9,9,   -999.9,9,  -999.0, -999.00,-999.0000,-999.000,-999.000
    316N145_10,  I07N,   803,  1,      7,      7,2,19950810,0435, 17.7843,  60.6080, 3885,   -999,   3003.1,   1.8451,  34.7472,2,  34.7482,2,    117.8,2,  1.6202,    118.5,2,   147.72,2,    36.26,2,     0.00,2,     2.69,2, -999.000,9, -999.000,9, -999.000,9,-999.0000,9,  -999.00,9,   -999.0,9,  -999.00,9,-999.000,9,   -999.9,9,   -999.9,9,  -999.0, -999.00,-999.0000,-999.000,-999.000
    316N145_10,  I07N,   803,  1,      6,      6,2,19950810,0435, 17.7843,  60.6080, 3885,   -999,   3176.6,   1.7976,  34.7439,2,  34.7439,2,    122.2,2,  1.5567,    122.7,2,   147.49,2,    36.07,2,     0.00,2,     2.67,2, -999.000,9, -999.000,9, -999.000,9,-999.0000,9,  -999.00,9,   -999.0,9,  -999.00,9,-999.000,9,   -999.9,9,   -999.9,9,  -999.0, -999.00,-999.0000,-999.000,-999.000
    316N145_10,  I07N,   803,  1,      5,      5,2,19950810,0435, 17.7843,  60.6080, 3885,   -999,   3351.5,   1.7428,  34.7399,2,  34.7394,2,    128.3,2,  1.4856,    128.8,2,   146.85,2,    35.88,2,     0.00,2,     2.63,2, -999.000,9, -999.000,9, -999.000,9,-999.0000,9,  -999.00,9,   -999.0,9,  -999.00,9,-999.000,9,   -999.9,9,   -999.9,9,  -999.0, -999.00,-999.0000,-999.000,-999.000
    316N145_10,  I07N,   803,  1,      4,      4,2,19950810,0435, 17.7843,  60.6080, 3885,   -999,   3501.9,   1.7337,  34.7391,2,  34.7390,2,    131.9,2,  1.4613,    131.7,2,   146.42,2,    35.69,2,     0.00,2,     2.62,2, -999.000,9, -999.000,9, -999.000,9,-999.0000,9,  -999.00,9,   -999.0,9,  -999.00,9,-999.000,9,   -999.9,9,   -999.9,9,  -999.0, -999.00,-999.0000,-999.000,-999.000
    316N145_10,  I07N,   803,  1,      3,      3,2,19950810,0435, 17.7843,  60.6080, 3885,   -999,   3696.8,   1.7405,  34.7382,2,  34.7380,2,    132.5,2,  1.4474,    131.8,2,   147.01,2,    35.74,2,     0.00,2,     2.63,2, -999.000,9, -999.000,9, -999.000,9,-999.0000,9,  -999.00,9,   -999.0,9,  -999.00,9,-999.000,9,   -999.9,9,   -999.9,9,  -999.0, -999.00,-999.0000,-999.000,-999.000
    316N145_10,  I07N,   803,  1,      2,      2,2,19950810,0435, 17.7843,  60.6080, 3885,   -999,   3893.4,   1.7406,  34.7368,2,  34.7367,2,    135.2,2,  1.4264,    134.1,2,   146.78,2,    35.64,2,     0.00,2,     2.61,2, -999.000,9, -999.000,9, -999.000,9,-999.0000,9,  -999.00,9,   -999.0,9,  -999.00,9,-999.000,9,   -999.9,9,   -999.9,9,  -999.0, -999.00,-999.0000,-999.000,-999.000
    316N145_10,  I07N,   803,  1,      1,      1,2,19950810,0435, 17.7843,  60.6080, 3885,   -999,   3943.3,   1.6896,  34.7343,2,  34.7355,2,    141.5,2,  1.3714,    141.5,2,   144.11,2,    35.36,2,     0.00,2,     2.58,2, -999.000,9, -999.000,9, -999.000,9,-999.0000,9,  -999.00,9,   -999.0,9,  -999.00,9,-999.000,9,   -999.9,9,   -999.9,9,  -999.0, -999.00,-999.0000,-999.000,-999.000