BOTTLE,20080821WHPSIOSCD
EXPOCODE,SECT_ID,STNNBR,CASTNO,SAMPNO,BTLNBR,BTLNBR_FLAG_W,DATE,TIME,LATITUDE,LONGITUDE,DEPTH,CTDRAW,CTDPRS,CTDTMP,CTDSAL,CTDSAL_FLAG_W,SALNTY,SALNTY_FLAG_W,CTDOXY,CTDOXY_FLAG_W,THETA,OXYGEN,OXYGEN_FLAG_W,SILCAT,SILCAT_FLAG_W,NITRAT,NITRAT_FLAG_W,NITRIT,NITRIT_FLAG_W,PHSPHT,PHSPHT_FLAG_W,CFC-11,CFC-11_FLAG_W,CFC-12,CFC-12_FLAG_W,TRITUM,TRITUM_FLAG_W,HELIUM,HELIUM_FLAG_W,DELHE3,DELHE3_FLAG_W,DELC14,DELC14_FLAG_W,DELC13,DELC13_FLAG_W,NEON,NEON_FLAG_W,TCARBN,TCARBN_FLAG_W,ALKALI,ALKALI_FLAG_W,C14ERR,DELHER,HELIER,NEONER,TRITER
,,,,,,,,,,,,,DBAR,ITS-90,PSS-78,,PSS-78,,UMOL/KG,,DEG C,UMOL/KG,,UMOL/KG,,UMOL/KG,,UMOL/KG,,UMOL/KG,,PMOL/KG,,PMOL/KG,,TU,,NMOL/KG,,PERCNT,,/MILLE,,/MILLE,,NMOL/KG,,UMOL/KG,,UMOL/KG,,/MILLE,PERCNT,NMOL/KG,NMOL/KG,TU
    316N145_10,  I07N,   737,  1,     36,     36,2,19950723,0758, -8.1980,  52.8623, 3962,   -999,      9.2,  26.4348,  35.1279,2,  35.1350,2,    202.2,2, 26.4329,    200.0,2,     3.46,2,     0.65,2,     0.03,2,     0.22,2,    1.697,2,    0.958,2, -999.000,9,-999.0000,9,  -999.00,9,   -999.0,9,  -999.00,9,-999.000,9,   1973.4,2,   2301.3,2,  -999.0, -999.00,-999.0000,-999.000,-999.000
    316N145_10,  I07N,   737,  1,     35,     35,2,19950723,0758, -8.1980,  52.8623, 3962,   -999,     30.1,  26.3232,  35.1267,2,  35.1264,2,    197.7,2, 26.3167,    199.2,2,     3.61,2,     0.69,2,     0.03,2,     0.23,2,    1.695,2,    0.961,2, -999.000,9,-999.0000,9,  -999.00,9,   -999.0,9,  -999.00,9,-999.000,9,   -999.9,9,   -999.9,9,  -999.0, -999.00,-999.0000,-999.000,-999.000
    316N145_10,  I07N,   737,  1,     34,     34,2,19950723,0758, -8.1980,  52.8623, 3962,   -999,     45.2,  24.2504,  35.1443,2,  35.1474,2,    181.2,2, 24.2411,    166.1,2,     7.01,2,     5.54,2,     0.24,2,     0.54,2, -999.000,9, -999.000,9, -999.000,9,-999.0000,9,  -999.00,9,   -999.0,9,  -999.00,9,-999.000,9,   -999.9,9,   -999.9,9,  -999.0, -999.00,-999.0000,-999.000,-999.000
    316N145_10,  I07N,   737,  1,     33,     33,2,19950723,0758, -8.1980,  52.8623, 3962,   -999,     60.4,  20.0316,  35.1753,2,  35.1761,2,    126.2,2, 20.0207,    123.4,2,    12.13,2,    12.61,2,     0.37,2,     0.97,2,    1.503,2,    0.818,2, -999.000,9,-999.0000,9,  -999.00,9,   -999.0,9,  -999.00,9,-999.000,9,   -999.9,9,   -999.9,9,  -999.0, -999.00,-999.0000,-999.000,-999.000
    316N145_10,  I07N,   737,  1,     32,     32,2,19950723,0758, -8.1980,  52.8623, 3962,   -999,     79.7,  18.3056,  35.1874,2,  35.1847,2,    106.3,2, 18.2919,    106.7,2,    14.50,2,    16.22,2,     0.11,2,     1.17,2,    1.435,2,    0.774,2, -999.000,9,-999.0000,9,  -999.00,9,   -999.0,9,  -999.00,9,-999.000,9,   -999.9,9,   -999.9,9,  -999.0, -999.00,-999.0000,-999.000,-999.000
    316N145_10,  I07N,   737,  1,     31,     31,2,19950723,0758, -8.1980,  52.8623, 3962,   -999,    100.1,  16.2313,  35.1615,2,  35.1645,2,    102.0,2, 16.2155,    101.9,2,    16.88,2,    18.66,2,     0.01,2,     1.32,2,    1.348,2,    0.702,2, -999.000,9,-999.0000,9,  -999.00,9,   -999.0,9,  -999.00,9,-999.000,9,   -999.9,9,   -999.9,9,  -999.0, -999.00,-999.0000,-999.000,-999.000
    316N145_10,  I07N,   737,  1,     30,     30,2,19950723,0758, -8.1980,  52.8623, 3962,   -999,    119.8,  15.4436,  35.1517,2,  35.1503,2,    103.0,2, 15.4253,    104.1,2,    17.54,2,    19.21,2,     0.00,2,     1.36,2,    1.325,2,    0.686,2, -999.000,9,-999.0000,9,  -999.00,9,   -999.0,9,  -999.00,9,-999.000,9,   -999.9,9,   -999.9,9,  -999.0, -999.00,-999.0000,-999.000,-999.000
    316N145_10,  I07N,   737,  1,     29,     29,2,19950723,0758, -8.1980,  52.8623, 3962,   -999,    150.1,  13.8773,  35.1154,2,  35.1157,2,    111.4,2, 13.8559,    112.7,2,    18.21,2,    19.93,2,     0.00,2,     1.41,2,    1.262,2,    0.627,2, -999.000,9,-999.0000,9,  -999.00,9,   -999.0,9,  -999.00,9,-999.000,9,   -999.9,9,   -999.9,9,  -999.0, -999.00,-999.0000,-999.000,-999.000
    316N145_10,  I07N,   737,  1,     28,     28,2,19950723,0758, -8.1980,  52.8623, 3962,   -999,    173.9,  13.6185,  35.1103,2,  35.1106,2,    113.2,2, 13.5940,    116.5,2,    18.02,2,    19.89,2,     0.00,2,     1.40,2,    1.266,2,    0.649,2, -999.000,9,-999.0000,9,  -999.00,9,   -999.0,9,  -999.00,9,-999.000,9,   -999.9,9,   -999.9,9,  -999.0, -999.00,-999.0000,-999.000,-999.000
    316N145_10,  I07N,   737,  1,     27,     27,2,19950723,0758, -8.1980,  52.8623, 3962,   -999,    201.1,  13.0608,  35.0844,2,  35.0842,2,    119.1,2, 13.0331,    119.7,2,    18.51,2,    20.29,2,     0.00,2,     1.43,2, -999.000,9, -999.000,9, -999.000,9,-999.0000,9,  -999.00,9,   -999.0,9,  -999.00,9,-999.000,9,   -999.9,9,   -999.9,9,  -999.0, -999.00,-999.0000,-999.000,-999.000
    316N145_10,  I07N,   737,  1,     26,     26,2,19950723,0758, -8.1980,  52.8623, 3962,   -999,    252.0,  11.8814,  35.0162,2,  35.0156,2,    127.5,2, 11.8488,    131.0,2,    19.01,2,    20.88,2,     0.00,2,     1.47,2,    1.161,2,    0.604,2, -999.000,9,-999.0000,9,  -999.00,9,   -999.0,9,  -999.00,9,-999.000,9,   -999.9,9,   -999.9,9,  -999.0, -999.00,-999.0000,-999.000,-999.000
    316N145_10,  I07N,   737,  1,     25,     25,2,19950723,0758, -8.1980,  52.8623, 3962,   -999,    300.9,  11.5658,  34.9983,2,  34.9957,2,    131.2,2, 11.5274,    139.7,2,    18.48,2,    20.66,2,     0.00,2,     1.46,2,    1.197,2,    0.615,2, -999.000,9,-999.0000,9,  -999.00,9,   -999.0,9,  -999.00,9,-999.000,9,   -999.9,9,   -999.9,9,  -999.0, -999.00,-999.0000,-999.000,-999.000
    316N145_10,  I07N,   737,  1,     24,     24,2,19950723,0758, -8.1980,  52.8623, 3962,   -999,    402.6,  10.4894,  34.8976,2,  34.8969,2,    130.1,2, 10.4410,    133.1,2,    23.08,2,    23.36,2,     0.00,2,     1.63,2,    0.928,2,    0.487,2, -999.000,9,-999.0000,9,  -999.00,9,   -999.0,9,  -999.00,9,-999.000,9,   -999.9,9,   -999.9,9,  -999.0, -999.00,-999.0000,-999.000,-999.000
    316N145_10,  I07N,   737,  1,     23,     23,2,19950723,0758, -8.1980,  52.8623, 3962,   -999,    501.8,   9.5488,  34.8348,2,  34.8358,2,    132.5,2,  9.4915,    131.8,2,    28.36,2,    25.26,2,     0.00,2,     1.78,2, -999.000,9, -999.000,9, -999.000,9,-999.0000,9,  -999.00,9,   -999.0,9,  -999.00,9,-999.000,9,   -999.9,9,   -999.9,9,  -999.0, -999.00,-999.0000,-999.000,-999.000
    316N145_10,  I07N,   737,  1,     22,     22,2,19950723,0758, -8.1980,  52.8623, 3962,   -999,    601.7,   8.3145,  34.7746,2,  34.7746,2,    126.9,2,  8.2510,    124.3,2,    39.29,2,    28.28,2,     0.00,2,     2.03,2,    0.426,2,    0.209,2, -999.000,9,-999.0000,9,  -999.00,9,   -999.0,9,  -999.00,9,-999.000,9,   -999.9,9,   -999.9,9,  -999.0, -999.00,-999.0000,-999.000,-999.000
    316N145_10,  I07N,   737,  1,     21,     21,2,19950723,0758, -8.1980,  52.8623, 3962,   -999,    702.3,   7.6381,  34.7708,2,  34.7708,2,    111.5,2,  7.5670,    111.6,2,    49.73,2,    30.55,2,     0.00,2,     2.21,2,    0.248,2,    0.156,2, -999.000,9,-999.0000,9,  -999.00,9,   -999.0,9,  -999.00,9,-999.000,9,   -999.9,9,   -999.9,9,  -999.0, -999.00,-999.0000,-999.000,-999.000
    316N145_10,  I07N,   737,  1,     20,     20,2,19950723,0758, -8.1980,  52.8623, 3962,   -999,    799.3,   7.2896,  34.7928,2,  34.7965,2,    101.3,2,  7.2101,     94.4,2,    58.81,2,    32.56,2,     0.00,2,     2.39,2,    0.125,2,    0.070,2, -999.000,9,-999.0000,9,  -999.00,9,   -999.0,9,  -999.00,9,-999.000,9,   -999.9,9,   -999.9,9,  -999.0, -999.00,-999.0000,-999.000,-999.000
    316N145_10,  I07N,   737,  1,     19,     19,2,19950723,0758, -8.1980,  52.8623, 3962,   -999,    850.1,   7.2637,  34.8156,2,  34.8162,2,     88.0,2,  7.1790,     87.6,2,    62.22,2,    33.20,2,     0.00,2,     2.45,2,    0.093,2,    0.065,2, -999.000,9,-999.0000,9,  -999.00,9,   -999.0,9,  -999.00,9,-999.000,9,   -999.9,9,   -999.9,9,  -999.0, -999.00,-999.0000,-999.000,-999.000
    316N145_10,  I07N,   737,  1,     18,     18,2,19950723,0758, -8.1980,  52.8623, 3962,   -999,    951.2,   6.5805,  34.8353,2,  34.8362,2,     80.6,2,  6.4899,     79.2,2,    75.32,2,    34.81,2,     0.00,2,     2.61,2,    0.030,2,    0.016,2, -999.000,9,-999.0000,9,  -999.00,9,   -999.0,9,  -999.00,9,-999.000,9,   -999.9,9,   -999.9,9,  -999.0, -999.00,-999.0000,-999.000,-999.000
    316N145_10,  I07N,   737,  1,     17,     17,2,19950723,0758, -8.1980,  52.8623, 3962,   -999,    989.9,   5.9991,  34.8135,2,  34.8159,2,     80.5,2,  5.9089,     84.0,2,    81.20,2,    35.09,2,     0.00,2,     2.62,2,    0.016,2,    0.008,2, -999.000,9,-999.0000,9,  -999.00,9,   -999.0,9,  -999.00,9,-999.000,9,   -999.9,9,   -999.9,9,  -999.0, -999.00,-999.0000,-999.000,-999.000
    316N145_10,  I07N,   737,  1,     16,     16,2,19950723,0758, -8.1980,  52.8623, 3962,   -999,   1125.8,   5.2468,  34.7807,2,  34.7810,2,     94.2,2,  5.1495,     93.6,2,    87.61,2,    35.28,2,     0.00,2,     2.63,2,    0.014,2,    0.026,4, -999.000,9,-999.0000,9,  -999.00,9,   -999.0,9,  -999.00,9,-999.000,9,   -999.9,9,   -999.9,9,  -999.0, -999.00,-999.0000,-999.000,-999.000
    316N145_10,  I07N,   737,  1,     15,     15,2,19950723,0758, -8.1980,  52.8623, 3962,   -999,   1246.5,   4.8248,  34.7689,2,  34.7684,2,     98.4,2,  4.7200,     97.0,2,    94.24,2,    35.51,2,     0.00,2,     2.64,2, -999.000,9, -999.000,9, -999.000,9,-999.0000,9,  -999.00,9,   -999.0,9,  -999.00,9,-999.000,9,   -999.9,9,   -999.9,9,  -999.0, -999.00,-999.0000,-999.000,-999.000
    316N145_10,  I07N,   737,  1,     14,     14,2,19950723,0758, -8.1980,  52.8623, 3962,   -999,   1398.4,   4.2336,  34.7578,2,  34.7602,2,    110.4,2,  4.1206,    109.7,2,    98.60,2,    35.19,2,     0.00,2,     2.61,2, -999.000,9, -999.000,9, -999.000,9,-999.0000,9,  -999.00,9,   -999.0,9,  -999.00,9,-999.000,9,   -999.9,9,   -999.9,9,  -999.0, -999.00,-999.0000,-999.000,-999.000
    316N145_10,  I07N,   737,  1,     13,     13,2,19950723,0758, -8.1980,  52.8623, 3962,   -999,   1534.4,   3.5086,  34.7284,2,  34.7309,3,    127.5,2,  3.3916,    132.6,2,    99.28,2,    34.24,2,     0.00,2,     2.50,2, -999.000,9, -999.000,9, -999.000,9,-999.0000,9,  -999.00,9,   -999.0,9,  -999.00,9,-999.000,9,   -999.9,9,   -999.9,9,  -999.0, -999.00,-999.0000,-999.000,-999.000
    316N145_10,  I07N,   737,  1,     12,     12,2,19950723,0758, -8.1980,  52.8623, 3962,   -999,   1747.3,   3.0242,  34.7221,2,  34.7219,2,    144.9,2,  2.8946,    144.3,2,   102.96,2,    33.88,2,     0.00,2,     2.47,2, -999.000,9, -999.000,9, -999.000,9,-999.0000,9,  -999.00,9,   -999.0,9,  -999.00,9,-999.000,9,   -999.9,9,   -999.9,9,  -999.0, -999.00,-999.0000,-999.000,-999.000
    316N145_10,  I07N,   737,  1,     11,     11,2,19950723,0758, -8.1980,  52.8623, 3962,   -999,   1946.0,   2.6456,  34.7399,2,  34.7405,2,    142.6,2,  2.5039,    145.7,2,   113.59,2,    33.97,2,     0.00,2,     2.47,2, -999.000,9, -999.000,9, -999.000,9,-999.0000,9,  -999.00,9,   -999.0,9,  -999.00,9,-999.000,9,   -999.9,9,   -999.9,9,  -999.0, -999.00,-999.0000,-999.000,-999.000
    316N145_10,  I07N,   737,  1,     10,     10,2,19950723,0758, -8.1980,  52.8623, 3962,   -999,   2202.6,   2.3935,  34.7461,2,  34.7458,2,    148.2,2,  2.2329,    148.4,2,   119.65,2,    34.02,2,     0.00,2,     2.47,2, -999.000,9, -999.000,9, -999.000,9,-999.0000,9,  -999.00,9,   -999.0,9,  -999.00,9,-999.000,9,   -999.9,9,   -999.9,9,  -999.0, -999.00,-999.0000,-999.000,-999.000
    316N145_10,  I07N,   737,  1,      9,      9,2,19950723,0758, -8.1980,  52.8623, 3962,   -999,   2443.8,   2.1736,  34.7434,2,  34.7428,2,    152.7,2,  1.9949,    152.9,2,   126.12,2,    33.93,2,     0.00,2,     2.45,2, -999.000,9, -999.000,9, -999.000,9,-999.0000,9,  -999.00,9,   -999.0,9,  -999.00,9,-999.000,9,   -999.9,9,   -999.9,9,  -999.0, -999.00,-999.0000,-999.000,-999.000
    316N145_10,  I07N,   737,  1,      8,      8,2,19950723,0758, -8.1980,  52.8623, 3962,   -999,   2647.9,   2.0408,  34.7434,2,  34.7426,2,    154.4,2,  1.8458,    155.0,2,   126.28,2,    33.94,2,     0.00,2,     2.46,2, -999.000,9, -999.000,9, -999.000,9,-999.0000,9,  -999.00,9,   -999.0,9,  -999.00,9,-999.000,9,   -999.9,9,   -999.9,9,  -999.0, -999.00,-999.0000,-999.000,-999.000
    316N145_10,  I07N,   737,  1,      7,      7,2,19950723,0758, -8.1980,  52.8623, 3962,   -999,   2770.4,   1.9869,  34.7437,2,  34.7442,2,    155.4,2,  1.7813,    155.5,2,   127.70,2,    33.80,2,     0.00,2,     2.45,2,   -0.002,2,    0.000,2, -999.000,9,-999.0000,9,  -999.00,9,   -999.0,9,  -999.00,9,-999.000,9,   -999.9,9,   -999.9,9,  -999.0, -999.00,-999.0000,-999.000,-999.000
    316N145_10,  I07N,   737,  1,      6,      6,2,19950723,0758, -8.1980,  52.8623, 3962,   -999,   2998.1,   1.8558,  34.7391,2,  34.7395,2,    159.1,2,  1.6312,    159.9,2,   129.67,2,    33.81,2,     0.00,2,     2.44,2,    0.002,2,    0.003,2, -999.000,9,-999.0000,9,  -999.00,9,   -999.0,9,  -999.00,9,-999.000,9,   -999.9,9,   -999.9,9,  -999.0, -999.00,-999.0000,-999.000,-999.000
    316N145_10,  I07N,   737,  1,      5,      5,2,19950723,0758, -8.1980,  52.8623, 3962,   -999,   3267.5,   1.7017,  34.7332,2,  34.7340,2,    166.4,2,  1.4540,    166.0,2,   131.10,2,    33.63,2,     0.00,2,     2.41,2, -999.000,9, -999.000,9, -999.000,9,-999.0000,9,  -999.00,9,   -999.0,9,  -999.00,9,-999.000,9,   -999.9,9,   -999.9,9,  -999.0, -999.00,-999.0000,-999.000,-999.000
    316N145_10,  I07N,   737,  1,      4,      4,2,19950723,0758, -8.1980,  52.8623, 3962,   -999,   3494.9,   1.6243,  34.7298,2,  34.7292,2,    169.7,2,  1.3554,    170.1,2,   131.07,2,    33.41,2,     0.00,2,     2.39,2, -999.000,9, -999.000,9, -999.000,9,-999.0000,9,  -999.00,9,   -999.0,9,  -999.00,9,-999.000,9,   -999.9,9,   -999.9,9,  -999.0, -999.00,-999.0000,-999.000,-999.000
    316N145_10,  I07N,   737,  1,      3,      3,2,19950723,0758, -8.1980,  52.8623, 3962,   -999,   3801.7,   1.5477,  34.7269,2,  34.7253,2,    174.7,2,  1.2487,    174.9,2,   130.68,2,    33.23,2,     0.00,2,     2.38,2, -999.000,9, -999.000,9, -999.000,9,-999.0000,9,  -999.00,9,   -999.0,9,  -999.00,9,-999.000,9,   -999.9,9,   -999.9,9,  -999.0, -999.00,-999.0000,-999.000,-999.000
    316N145_10,  I07N,   737,  1,      2,      2,2,19950723,0758, -8.1980,  52.8623, 3962,   -999,   4046.4,   1.4489,  34.7227,2,  34.7222,2,    182.0,2,  1.1263,    180.8,2,   129.74,2,    32.91,2,     0.00,2,     2.34,2, -999.000,9, -999.000,9, -999.000,9,-999.0000,9,  -999.00,9,   -999.0,9,  -999.00,9,-999.000,9,   -999.9,9,   -999.9,9,  -999.0, -999.00,-999.0000,-999.000,-999.000
    316N145_10,  I07N,   737,  1,      1,      1,2,19950723,0758, -8.1980,  52.8623, 3962,   -999,   4070.2,   1.4512,  34.7228,2,  34.7219,2,    181.2,2,  1.1259,    181.1,2,   129.52,2,    32.92,2,     0.00,2,     2.34,2, -999.000,9, -999.000,9, -999.000,9,-999.0000,9,  -999.00,9,   -999.0,9,  -999.00,9,-999.000,9,   -999.9,9,   -999.9,9,  -999.0, -999.00,-999.0000,-999.000,-999.000