BOTTLE,20080821WHPSIOSCD
EXPOCODE,SECT_ID,STNNBR,CASTNO,SAMPNO,BTLNBR,BTLNBR_FLAG_W,DATE,TIME,LATITUDE,LONGITUDE,DEPTH,CTDRAW,CTDPRS,CTDTMP,CTDSAL,CTDSAL_FLAG_W,SALNTY,SALNTY_FLAG_W,CTDOXY,CTDOXY_FLAG_W,THETA,OXYGEN,OXYGEN_FLAG_W,SILCAT,SILCAT_FLAG_W,NITRAT,NITRAT_FLAG_W,NITRIT,NITRIT_FLAG_W,PHSPHT,PHSPHT_FLAG_W,CFC-11,CFC-11_FLAG_W,CFC-12,CFC-12_FLAG_W,TRITUM,TRITUM_FLAG_W,HELIUM,HELIUM_FLAG_W,DELHE3,DELHE3_FLAG_W,DELC14,DELC14_FLAG_W,DELC13,DELC13_FLAG_W,NEON,NEON_FLAG_W,TCARBN,TCARBN_FLAG_W,ALKALI,ALKALI_FLAG_W,C14ERR,DELHER,HELIER,NEONER,TRITER
,,,,,,,,,,,,,DBAR,ITS-90,PSS-78,,PSS-78,,UMOL/KG,,DEG C,UMOL/KG,,UMOL/KG,,UMOL/KG,,UMOL/KG,,UMOL/KG,,PMOL/KG,,PMOL/KG,,TU,,NMOL/KG,,PERCNT,,/MILLE,,/MILLE,,NMOL/KG,,UMOL/KG,,UMOL/KG,,/MILLE,PERCNT,NMOL/KG,NMOL/KG,TU
    316N145_10,  I07N,   841,  2,     36,     36,2,19950819,1003, 22.4467,  61.1883, 3195,   -999,      4.0,  24.6958,  36.1874,2,  36.1874,2,     56.8,9, 24.6949,    193.1,2,     5.27,2,    10.64,2,     0.52,2,     1.12,2, -999.000,9, -999.000,9, -999.000,9,-999.0000,9,  -999.00,9,   -999.0,9,  -999.00,9,-999.000,9,   2080.1,4,   2376.5,3,  -999.0, -999.00,-999.0000,-999.000,-999.000
    316N145_10,  I07N,   841,  2,     35,     35,2,19950819,1003, 22.4467,  61.1883, 3195,   -999,     29.6,  22.6221,  36.0532,2,  36.0437,2,     57.1,9, 22.6161,    134.2,2,     9.42,2,    16.44,2,     1.35,2,     1.62,2, -999.000,9, -999.000,9, -999.000,9,-999.0000,9,  -999.00,9,   -999.0,9,  -999.00,9,-999.000,9,   2082.4,4,   2376.2,3,  -999.0, -999.00,-999.0000,-999.000,-999.000
    316N145_10,  I07N,   841,  2,     34,     34,2,19950819,1003, 22.4467,  61.1883, 3195,   -999,     49.8,  22.9889,  36.4745,2,  36.4665,2,     56.9,9, 22.9787,     83.4,2,     7.67,2,    16.39,2,     0.08,2,     1.41,2, -999.000,9, -999.000,9, -999.000,9,-999.0000,9,  -999.00,9,   -999.0,9,  -999.00,9,-999.000,9,   2094.4,4,   2374.3,2,  -999.0, -999.00,-999.0000,-999.000,-999.000
    316N145_10,  I07N,   841,  2,     33,     33,2,19950819,1003, 22.4467,  61.1883, 3195,   -999,     74.5,  22.0885,  36.3471,2,  36.3422,2,     57.6,9, 22.0736,      2.7,2,    13.03,2,    23.65,2,     0.04,2,     2.05,2, -999.000,9, -999.000,9, -999.000,9,-999.0000,9,  -999.00,9,   -999.0,9,  -999.00,9,-999.000,9,   2140.7,4,   2361.2,2,  -999.0, -999.00,-999.0000,-999.000,-999.000
    316N145_10,  I07N,   841,  2,     32,     32,2,19950819,1003, 22.4467,  61.1883, 3195,   -999,     99.6,  21.5000,  36.3311,2,  36.3342,2,     58.2,9, 21.4805,      3.0,2,    14.41,2,    23.19,2,     0.03,2,     2.08,2, -999.000,9, -999.000,9, -999.000,9,-999.0000,9,  -999.00,9,   -999.0,9,  -999.00,9,-999.000,9,   2160.1,4,   2359.0,2,  -999.0, -999.00,-999.0000,-999.000,-999.000
    316N145_10,  I07N,   841,  2,     31,     31,2,19950819,1003, 22.4467,  61.1883, 3195,   -999,    150.3,  20.6973,  36.3487,2,  36.3192,2,     59.1,9, 20.6687,      3.0,2,    17.17,2,    22.54,2,     0.02,2,     2.14,2, -999.000,9, -999.000,9, -999.000,9,-999.0000,9,  -999.00,9,   -999.0,9,  -999.00,9,-999.000,9,   2147.7,4,   2374.9,2,  -999.0, -999.00,-999.0000,-999.000,-999.000
    316N145_10,  I07N,   841,  2,     30,     30,2,19950819,1003, 22.4467,  61.1883, 3195,   -999,    199.8,  19.2744,  36.2598,2,  36.3263,2,     60.5,9, 19.2381,      3.1,2,    20.45,2,    21.79,2,     0.01,2,     2.17,2, -999.000,9, -999.000,9, -999.000,9,-999.0000,9,  -999.00,9,   -999.0,9,  -999.00,9,-999.000,9,   2172.1,4,   2384.1,3,  -999.0, -999.00,-999.0000,-999.000,-999.000
    316N145_10,  I07N,   841,  2,     29,     29,2,19950819,1003, 22.4467,  61.1883, 3195,   -999,    249.8,  18.0719,  36.4321,2,  36.4260,2,     62.3,9, 18.0284,     13.4,2,    22.51,2,    20.71,2,     0.01,2,     2.13,2, -999.000,9, -999.000,9, -999.000,9,-999.0000,9,  -999.00,9,   -999.0,9,  -999.00,9,-999.000,9,   2217.3,4,   2373.5,2,  -999.0, -999.00,-999.0000,-999.000,-999.000
    316N145_10,  I07N,   841,  2,     28,     28,2,19950819,1003, 22.4467,  61.1883, 3195,   -999,    299.7,  16.2168,  36.2017,2,  36.2147,2,     64.4,9, 16.1684,      5.9,2,    26.66,2,    22.37,2,     0.00,2,     2.26,2, -999.000,9, -999.000,9, -999.000,9,-999.0000,9,  -999.00,9,   -999.0,9,  -999.00,9,-999.000,9,   2224.5,4,   2369.7,3,  -999.0, -999.00,-999.0000,-999.000,-999.000
    316N145_10,  I07N,   841,  2,     27,     27,2,19950819,1003, 22.4467,  61.1883, 3195,   -999,    400.0,  14.4359,  36.0080,2,  36.0085,2,     66.9,9, 14.3760,      1.8,2,    33.06,2,    23.75,2,     0.00,2,     2.43,2, -999.000,9, -999.000,9, -999.000,9,-999.0000,9,  -999.00,9,   -999.0,9,  -999.00,9,-999.000,9,   2228.6,4,   2356.1,2,  -999.0, -999.00,-999.0000,-999.000,-999.000
    316N145_10,  I07N,   841,  2,     26,     26,2,19950819,1003, 22.4467,  61.1883, 3195,   -999,    498.9,  13.6588,  35.9300,2,  35.9234,2,     68.4,9, 13.5866,      1.6,2,    37.38,2,    23.99,2,     0.00,2,     2.51,2, -999.000,9, -999.000,9, -999.000,9,-999.0000,9,  -999.00,9,   -999.0,9,  -999.00,9,-999.000,9,   2239.8,4,   2369.1,3,  -999.0, -999.00,-999.0000,-999.000,-999.000
    316N145_10,  I07N,   841,  2,     25,     25,2,19950819,1003, 22.4467,  61.1883, 3195,   -999,    599.8,  12.4325,  35.7447,2,  35.7410,2,     70.7,9, 12.3506,      1.7,2,    43.97,2,    26.36,2,     0.00,2,     2.61,2, -999.000,9, -999.000,9, -999.000,9,-999.0000,9,  -999.00,9,   -999.0,9,  -999.00,9,-999.000,9,   2245.6,4,   2368.2,3,  -999.0, -999.00,-999.0000,-999.000,-999.000
    316N145_10,  I07N,   841,  2,     24,     24,2,19950819,1003, 22.4467,  61.1883, 3195,   -999,    732.3,  11.4708,  35.6456,2,  35.6438,2,     73.5,9, 11.3753,      1.5,2,    51.94,2,    29.03,2,     0.00,2,     2.70,2, -999.000,9, -999.000,9, -999.000,9,-999.0000,9,  -999.00,9,   -999.0,9,  -999.00,9,-999.000,9,   2248.7,4,   2368.1,2,  -999.0, -999.00,-999.0000,-999.000,-999.000
    316N145_10,  I07N,   841,  2,     23,     23,2,19950819,1003, 22.4467,  61.1883, 3195,   -999,    741.3,  11.3868,  35.6402,2,  35.6371,2,     73.7,9, 11.2904,      1.8,2,    52.61,2,    29.26,2,     0.00,2,     2.71,2, -999.000,9, -999.000,9, -999.000,9,-999.0000,9,  -999.00,9,   -999.0,9,  -999.00,9,-999.000,9,   2246.8,4,   2372.7,3,  -999.0, -999.00,-999.0000,-999.000,-999.000
    316N145_10,  I07N,   841,  2,     22,     22,2,19950819,1003, 22.4467,  61.1883, 3195,   -999,    885.4,  10.1696,  35.5410,2,  35.5380,2,     76.7,9, 10.0615,      2.3,2,    63.91,2,    32.95,2,     0.00,2,     2.82,2, -999.000,9, -999.000,9, -999.000,9,-999.0000,9,  -999.00,9,   -999.0,9,  -999.00,9,-999.000,9,   2257.3,4,   2367.0,2,  -999.0, -999.00,-999.0000,-999.000,-999.000
    316N145_10,  I07N,   841,  2,     21,     21,2,19950819,1003, 22.4467,  61.1883, 3195,   -999,    999.2,   9.3752,  35.4643,2,  35.4627,2,     79.0,9,  9.2584,      3.2,2,    71.22,2,    34.63,2,     0.00,2,     2.88,2, -999.000,9, -999.000,9, -999.000,9,-999.0000,9,  -999.00,9,   -999.0,9,  -999.00,9,-999.000,9,   2266.9,4,   2359.5,3,  -999.0, -999.00,-999.0000,-999.000,-999.000
    316N145_10,  I07N,   841,  2,     20,     20,2,19950819,1003, 22.4467,  61.1883, 3195,   -999,   1102.1,   8.7273,  35.3953,2,  35.3933,2,     81.1,9,  8.6029,      3.4,2,    76.97,2,    35.89,2,     0.00,2,     2.94,2, -999.000,9, -999.000,9, -999.000,9,-999.0000,9,  -999.00,9,   -999.0,9,  -999.00,9,-999.000,9,   2268.1,4,   2362.5,3,  -999.0, -999.00,-999.0000,-999.000,-999.000
    316N145_10,  I07N,   841,  2,     18,     18,2,19950819,1003, 22.4467,  61.1883, 3195,   -999,   1258.0,   7.4628,  35.2603,2,  35.2588,2,     84.5,9,  7.3313,      9.5,2,    88.00,2,    37.73,2,     0.00,2,     3.03,2, -999.000,9, -999.000,9, -999.000,9,-999.0000,9,  -999.00,9,   -999.0,9,  -999.00,9,-999.000,9,   2278.9,4,   2362.3,3,  -999.0, -999.00,-999.0000,-999.000,-999.000
    316N145_10,  I07N,   841,  2,     19,     19,2,19950819,1003, 22.4467,  61.1883, 3195,   -999,   1258.3,   7.4528,  35.2591,2,  35.2584,2,     84.5,9,  7.3214,      9.4,2,    88.20,2,    37.73,2,     0.00,2,     3.03,2, -999.000,9, -999.000,9, -999.000,9,-999.0000,9,  -999.00,9,   -999.0,9,  -999.00,9,-999.000,9,   2275.0,4,   2364.4,3,  -999.0, -999.00,-999.0000,-999.000,-999.000
    316N145_10,  I07N,   841,  2,     17,     17,2,19950819,1003, 22.4467,  61.1883, 3195,   -999,   1401.7,   6.4923,  35.1590,2,  35.1564,2,     87.5,9,  6.3547,     19.1,2,    97.90,2,    38.17,2,     0.00,2,     3.05,2, -999.000,9, -999.000,9, -999.000,9,-999.0000,9,  -999.00,9,   -999.0,9,  -999.00,9,-999.000,9,   2281.6,4,   2360.7,3,  -999.0, -999.00,-999.0000,-999.000,-999.000
    316N145_10,  I07N,   841,  2,     15,     15,2,19950819,1003, 22.4467,  61.1883, 3195,   -999,   1505.4,   5.7693,  35.0854,2,  35.0840,2,     89.8,9,  5.6285,     29.1,2,   105.00,2,    38.47,2,     0.00,2,     3.03,2, -999.000,9, -999.000,9, -999.000,9,-999.0000,9,  -999.00,9,   -999.0,9,  -999.00,9,-999.000,9,   2289.7,4,   2365.5,3,  -999.0, -999.00,-999.0000,-999.000,-999.000
    316N145_10,  I07N,   841,  2,     16,     16,2,19950819,1003, 22.4467,  61.1883, 3195,   -999,   1505.6,   5.7615,  35.0848,2,  35.0836,2,     89.8,9,  5.6208,     28.6,2,   105.03,2,    38.47,2,     0.00,2,     3.03,2, -999.000,9, -999.000,9, -999.000,9,-999.0000,9,  -999.00,9,   -999.0,9,  -999.00,9,-999.000,9,   2285.6,4,   2362.0,3,  -999.0, -999.00,-999.0000,-999.000,-999.000
    316N145_10,  I07N,   841,  2,     13,     13,2,19950819,1003, 22.4467,  61.1883, 3195,   -999,   1752.2,   4.2329,  34.9419,2,  34.9413,2,     95.2,9,  4.0863,     55.4,2,   121.49,2,    38.19,2,     0.00,2,     2.95,2, -999.000,9, -999.000,9, -999.000,9,-999.0000,9,  -999.00,9,   -999.0,9,  -999.00,9,-999.000,9,   2326.5,4,   2384.5,3,  -999.0, -999.00,-999.0000,-999.000,-999.000
    316N145_10,  I07N,   841,  2,     14,     14,2,19950819,1003, 22.4467,  61.1883, 3195,   -999,   1752.8,   4.2292,  34.9418,2,  34.9409,2,     95.3,9,  4.0826,     55.4,2,   121.51,2,    38.23,2,     0.00,2,     2.95,2, -999.000,9, -999.000,9, -999.000,9,-999.0000,9,  -999.00,9,   -999.0,9,  -999.00,9,-999.000,9,   2309.2,4,   2374.9,3,  -999.0, -999.00,-999.0000,-999.000,-999.000
    316N145_10,  I07N,   841,  2,     11,     11,2,19950819,1003, 22.4467,  61.1883, 3195,   -999,   2002.7,   3.3133,  34.8619,2,  34.8602,2,     99.9,9,  3.1561,     75.9,2,   131.66,2,    37.71,2,     0.00,2,     2.85,2, -999.000,9, -999.000,9, -999.000,9,-999.0000,9,  -999.00,9,   -999.0,9,  -999.00,9,-999.000,9,   2347.4,4,   2410.5,3,  -999.0, -999.00,-999.0000,-999.000,-999.000
    316N145_10,  I07N,   841,  2,     12,     12,2,19950819,1003, 22.4467,  61.1883, 3195,   -999,   2004.2,   3.3060,  34.8609,2,  34.8608,2,     99.9,9,  3.1487,     75.8,2,   131.69,2,    37.70,2,     0.00,2,     2.85,2, -999.000,9, -999.000,9, -999.000,9,-999.0000,9,  -999.00,9,   -999.0,9,  -999.00,9,-999.000,9,   2337.6,4,   2395.3,3,  -999.0, -999.00,-999.0000,-999.000,-999.000
    316N145_10,  I07N,   841,  2,     10,     10,2,19950819,1003, 22.4467,  61.1883, 3195,   -999,   2246.0,   2.7114,  34.8115,2,  34.8111,2,    103.8,9,  2.5413,     92.9,2,   138.07,2,    37.22,2,     0.00,2,     2.76,2, -999.000,9, -999.000,9, -999.000,9,-999.0000,9,  -999.00,9,   -999.0,9,  -999.00,9,-999.000,9,   2354.1,4,   2421.5,3,  -999.0, -999.00,-999.0000,-999.000,-999.000
    316N145_10,  I07N,   841,  2,      9,      9,2,19950819,1003, 22.4467,  61.1883, 3195,   -999,   2246.1,   2.7098,  34.8115,2,  34.8099,2,    103.8,9,  2.5397,     92.2,2,   138.04,2,    37.23,2,     0.00,2,     2.76,2, -999.000,9, -999.000,9, -999.000,9,-999.0000,9,  -999.00,9,   -999.0,9,  -999.00,9,-999.000,9,   2356.0,4,   2434.3,2,  -999.0, -999.00,-999.0000,-999.000,-999.000
    316N145_10,  I07N,   841,  2,      7,      7,2,19950819,1003, 22.4467,  61.1883, 3195,   -999,   2501.1,   2.2597,  34.7775,2,  34.7760,2,    107.6,9,  2.0739,    104.7,2,   143.55,2,    36.79,2,     0.00,2,     2.69,2, -999.000,9, -999.000,9, -999.000,9,-999.0000,9,  -999.00,9,   -999.0,9,  -999.00,9,-999.000,9,   2355.1,4,   2442.9,2,  -999.0, -999.00,-999.0000,-999.000,-999.000
    316N145_10,  I07N,   841,  2,      8,      8,2,19950819,1003, 22.4467,  61.1883, 3195,   -999,   2501.2,   2.2605,  34.7779,2,  34.7756,2,    107.6,9,  2.0747,    104.9,2,   143.38,2,    36.79,2,     0.00,2,     2.69,2, -999.000,9, -999.000,9, -999.000,9,-999.0000,9,  -999.00,9,   -999.0,9,  -999.00,9,-999.000,9,   2355.7,4,   2439.0,2,  -999.0, -999.00,-999.0000,-999.000,-999.000
    316N145_10,  I07N,   841,  2,      5,      5,2,19950819,1003, 22.4467,  61.1883, 3195,   -999,   2739.3,   1.9844,  34.7582,2,  34.7571,2,    110.8,9,  1.7817,    109.9,2,   148.15,2,    36.56,2,     0.00,2,     2.66,2, -999.000,9, -999.000,9, -999.000,9,-999.0000,9,  -999.00,9,   -999.0,9,  -999.00,9,-999.000,9,   2364.4,4,   2459.0,2,  -999.0, -999.00,-999.0000,-999.000,-999.000
    316N145_10,  I07N,   841,  2,      6,      6,2,19950819,1003, 22.4467,  61.1883, 3195,   -999,   2739.7,   1.9847,  34.7584,2,  34.7573,2,    110.8,9,  1.7820,    109.6,2,   147.99,2,    36.55,2,     0.00,2,     2.66,2, -999.000,9, -999.000,9, -999.000,9,-999.0000,9,  -999.00,9,   -999.0,9,  -999.00,9,-999.000,9,   2360.2,4,   2451.2,2,  -999.0, -999.00,-999.0000,-999.000,-999.000
    316N145_10,  I07N,   841,  2,      4,      4,2,19950819,1003, 22.4467,  61.1883, 3195,   -999,   2994.3,   1.8396,  34.7480,2,  34.7463,2,    113.9,9,  1.6155,    112.5,2,   151.07,2,    36.37,2,     0.00,2,     2.65,2, -999.000,9, -999.000,9, -999.000,9,-999.0000,9,  -999.00,9,   -999.0,9,  -999.00,9,-999.000,9,   2367.6,4,   2464.1,2,  -999.0, -999.00,-999.0000,-999.000,-999.000
    316N145_10,  I07N,   841,  2,      3,      3,2,19950819,1003, 22.4467,  61.1883, 3195,   -999,   2994.6,   1.8395,  34.7477,2,  34.7459,2,    113.9,9,  1.6154,    112.8,2,   150.84,2,    36.37,2,     0.00,2,     2.65,2, -999.000,9, -999.000,9, -999.000,9,-999.0000,9,  -999.00,9,   -999.0,9,  -999.00,9,-999.000,9,   2371.9,4,   2469.6,2,  -999.0, -999.00,-999.0000,-999.000,-999.000
    316N145_10,  I07N,   841,  2,      2,      2,2,19950819,1003, 22.4467,  61.1883, 3195,   -999,   3185.3,   1.7790,  34.7425,2,  34.7418,2,    116.1,9,  1.5375,    106.7,2,   155.58,2,    36.03,2,     0.00,2,     2.68,2, -999.000,9, -999.000,9, -999.000,9,-999.0000,9,  -999.00,9,   -999.0,9,  -999.00,9,-999.000,9,   2382.7,4,   2479.4,2,  -999.0, -999.00,-999.0000,-999.000,-999.000
    316N145_10,  I07N,   841,  2,      1,      1,2,19950819,1003, 22.4467,  61.1883, 3195,   -999,   3236.4,   1.7524,  34.7409,2,  34.7394,2,    116.8,9,  1.5064,    113.9,2,   154.74,2,    35.93,2,     0.00,2,     2.65,2, -999.000,9, -999.000,9, -999.000,9,-999.0000,9,  -999.00,9,   -999.0,9,  -999.00,9,-999.000,9,   2377.7,4,   2481.1,2,  -999.0, -999.00,-999.0000,-999.000,-999.000