BOTTLE,20080821WHPSIOSCD
EXPOCODE,SECT_ID,STNNBR,CASTNO,SAMPNO,BTLNBR,BTLNBR_FLAG_W,DATE,TIME,LATITUDE,LONGITUDE,DEPTH,CTDRAW,CTDPRS,CTDTMP,CTDSAL,CTDSAL_FLAG_W,SALNTY,SALNTY_FLAG_W,CTDOXY,CTDOXY_FLAG_W,THETA,OXYGEN,OXYGEN_FLAG_W,SILCAT,SILCAT_FLAG_W,NITRAT,NITRAT_FLAG_W,NITRIT,NITRIT_FLAG_W,PHSPHT,PHSPHT_FLAG_W,CFC-11,CFC-11_FLAG_W,CFC-12,CFC-12_FLAG_W,TRITUM,TRITUM_FLAG_W,HELIUM,HELIUM_FLAG_W,DELHE3,DELHE3_FLAG_W,DELC14,DELC14_FLAG_W,DELC13,DELC13_FLAG_W,NEON,NEON_FLAG_W,TCARBN,TCARBN_FLAG_W,ALKALI,ALKALI_FLAG_W,C14ERR,DELHER,HELIER,NEONER,TRITER
,,,,,,,,,,,,,DBAR,ITS-90,PSS-78,,PSS-78,,UMOL/KG,,DEG C,UMOL/KG,,UMOL/KG,,UMOL/KG,,UMOL/KG,,UMOL/KG,,PMOL/KG,,PMOL/KG,,TU,,NMOL/KG,,PERCNT,,/MILLE,,/MILLE,,NMOL/KG,,UMOL/KG,,UMOL/KG,,/MILLE,PERCNT,NMOL/KG,NMOL/KG,TU
    316N145_10,  I07N,   793,  1,     36,     36,2,19950807,1934, 14.3258,  64.6673, 3955,   -999,      9.9,  26.8189,  36.3143,2,  36.3147,2,    213.5,2, 26.8168,    209.8,2,     2.49,2,     0.23,2,     0.05,2,     0.36,2,    1.716,2,    0.956,2, -999.000,9,-999.0000,9,  -999.00,9,   -999.0,9,  -999.00,9,-999.000,9,   2020.9,2,   2371.2,2,  -999.0, -999.00,-999.0000,-999.000,-999.000
    316N145_10,  I07N,   793,  1,     35,     35,2,19950807,1934, 14.3258,  64.6673, 3955,   -999,     31.1,  26.8178,  36.3134,2,  36.3133,2,    206.2,2, 26.8109,    209.0,2,     2.29,2,     0.27,2,     0.06,2,     0.37,2, -999.000,9, -999.000,9, -999.000,9,-999.0000,9,  -999.00,9,   -999.0,9,  -999.00,9,-999.000,9,   -999.9,9,   -999.9,9,  -999.0, -999.00,-999.0000,-999.000,-999.000
    316N145_10,  I07N,   793,  1,     34,     34,2,19950807,1934, 14.3258,  64.6673, 3955,   -999,     60.7,  26.6927,  36.3105,2,  36.3113,2,    206.7,2, 26.6791,    197.5,2,     2.46,2,     1.14,2,     0.21,2,     0.44,2,    1.717,2,    0.956,2, -999.000,9,-999.0000,9,  -999.00,9,   -999.0,9,  -999.00,9,-999.000,9,   -999.9,9,   -999.9,9,  -999.0, -999.00,-999.0000,-999.000,-999.000
    316N145_10,  I07N,   793,  1,     33,     33,2,19950807,1934, 14.3258,  64.6673, 3955,   -999,     81.1,  24.8250,  36.3785,2,  36.4030,2,    149.6,2, 24.8077,    146.7,2,     3.75,2,     7.90,2,     0.12,2,     0.83,2, -999.000,9, -999.000,9, -999.000,9,-999.0000,9,  -999.00,9,   -999.0,9,  -999.00,9,-999.000,9,   -999.9,9,   -999.9,9,  -999.0, -999.00,-999.0000,-999.000,-999.000
    316N145_10,  I07N,   793,  1,     32,     32,2,19950807,1934, 14.3258,  64.6673, 3955,   -999,    121.2,  23.9583,  36.4089,2,  36.4051,2,    116.7,2, 23.9329,    111.3,2,     6.71,2,    12.73,2,     0.02,2,     1.17,2,    1.701,2,    0.954,2, -999.000,9,-999.0000,9,  -999.00,9,   -999.0,9,  -999.00,9,-999.000,9,   -999.9,9,   -999.9,9,  -999.0, -999.00,-999.0000,-999.000,-999.000
    316N145_10,  I07N,   793,  1,     31,     31,2,19950807,1934, 14.3258,  64.6673, 3955,   -999,    166.3,  20.3504,  35.8964,2,  35.8853,2,      2.6,2, 20.3193,      2.0,2,    16.94,2,    24.38,2,     0.03,2,     2.17,2, -999.000,9, -999.000,9, -999.000,9,-999.0000,9,  -999.00,9,   -999.0,9,  -999.00,9,-999.000,9,   -999.9,9,   -999.9,9,  -999.0, -999.00,-999.0000,-999.000,-999.000
    316N145_10,  I07N,   793,  1,     30,     30,2,19950807,1934, 14.3258,  64.6673, 3955,   -999,    201.1,  17.7691,  35.7536,2,  35.7513,2,      1.1,2, 17.7349,      1.2,2,    22.50,2,    23.30,2,     0.08,2,     2.30,2,    0.833,2,    0.495,2, -999.000,9,-999.0000,9,  -999.00,9,   -999.0,9,  -999.00,9,-999.000,9,   -999.9,9,   -999.9,9,  -999.0, -999.00,-999.0000,-999.000,-999.000
    316N145_10,  I07N,   793,  1,     29,     29,2,19950807,1934, 14.3258,  64.6673, 3955,   -999,    240.5,  16.2732,  35.8640,2,  35.8722,2,      1.3,2, 16.2346,      1.8,2,    25.83,2,    23.48,2,     0.00,2,     2.33,2, -999.000,9, -999.000,9, -999.000,9,-999.0000,9,  -999.00,9,   -999.0,9,  -999.00,9,-999.000,9,   -999.9,9,   -999.9,9,  -999.0, -999.00,-999.0000,-999.000,-999.000
    316N145_10,  I07N,   793,  1,     28,     28,2,19950807,1934, 14.3258,  64.6673, 3955,   -999,    291.3,  14.7860,  35.8049,2,  35.8087,2,      1.2,2, 14.7421,      0.3,2,    29.71,2,    22.39,2,     1.23,2,     2.41,2,    0.413,2,    0.258,2, -999.000,9,-999.0000,9,  -999.00,9,   -999.0,9,  -999.00,9,-999.000,9,   -999.9,9,   -999.9,9,  -999.0, -999.00,-999.0000,-999.000,-999.000
    316N145_10,  I07N,   793,  1,     27,     27,2,19950807,1934, 14.3258,  64.6673, 3955,   -999,    341.7,  13.8515,  35.7411,2,  35.7420,2,      1.3,2, 13.8021,      1.0,2,    32.85,2,    23.11,2,     1.72,2,     2.48,2, -999.000,9, -999.000,9, -999.000,9,-999.0000,9,  -999.00,9,   -999.0,9,  -999.00,9,-999.000,9,   -999.9,9,   -999.9,9,  -999.0, -999.00,-999.0000,-999.000,-999.000
    316N145_10,  I07N,   793,  1,     26,     26,2,19950807,1934, 14.3258,  64.6673, 3955,   -999,    401.5,  13.2402,  35.6973,2,  35.6984,2,      1.4,2, 13.1836,      0.4,2,    35.43,2,    25.83,2,     0.49,2,     2.54,2,    0.220,6,    0.137,6, -999.000,9,-999.0000,9,  -999.00,9,   -999.0,9,  -999.00,9,-999.000,9,   -999.9,9,   -999.9,9,  -999.0, -999.00,-999.0000,-999.000,-999.000
    316N145_10,  I07N,   793,  1,     25,     25,2,19950807,1934, 14.3258,  64.6673, 3955,   -999,    451.3,  12.8007,  35.6789,2,  35.6791,2,      1.5,2, 12.7384,      0.6,2,    38.38,2,    27.44,2,     0.00,2,     2.59,2,    0.167,2,    0.101,2, -999.000,9,-999.0000,9,  -999.00,9,   -999.0,9,  -999.00,9,-999.000,9,   -999.9,9,   -999.9,9,  -999.0, -999.00,-999.0000,-999.000,-999.000
    316N145_10,  I07N,   793,  1,     24,     24,2,19950807,1934, 14.3258,  64.6673, 3955,   -999,    550.5,  11.7618,  35.5832,2,  35.5855,2,      1.8,2, 11.6895,      1.7,2,    45.05,2,    30.16,2,     0.00,2,     2.69,2,    0.083,2,    0.047,2, -999.000,9,-999.0000,9,  -999.00,9,   -999.0,9,  -999.00,9,-999.000,9,   -999.9,9,   -999.9,9,  -999.0, -999.00,-999.0000,-999.000,-999.000
    316N145_10,  I07N,   793,  1,     23,     23,2,19950807,1934, 14.3258,  64.6673, 3955,   -999,    649.4,  10.8990,  35.5172,2,  35.5181,2,      3.3,2, 10.8174,      3.4,2,    53.02,2,    32.66,2,     0.00,2,     2.76,2,    0.048,2,    0.029,2, -999.000,9,-999.0000,9,  -999.00,9,   -999.0,9,  -999.00,9,-999.000,9,   -999.9,9,   -999.9,9,  -999.0, -999.00,-999.0000,-999.000,-999.000
    316N145_10,  I07N,   793,  1,     22,     22,2,19950807,1934, 14.3258,  64.6673, 3955,   -999,    749.0,  10.3314,  35.4914,2,  35.4905,2,      3.4,2, 10.2398,      3.4,2,    59.13,2,    33.98,2,     0.00,2,     2.81,2,    0.030,2,    0.019,2, -999.000,9,-999.0000,9,  -999.00,9,   -999.0,9,  -999.00,9,-999.000,9,   -999.9,9,   -999.9,9,  -999.0, -999.00,-999.0000,-999.000,-999.000
    316N145_10,  I07N,   793,  1,     21,     21,2,19950807,1934, 14.3258,  64.6673, 3955,   -999,    850.2,   9.5653,  35.4340,2,  35.4334,2,      5.3,2,  9.4656,      5.5,2,    66.73,2,    35.45,2,     0.00,2,     2.88,2,    0.023,2,    0.013,2, -999.000,9,-999.0000,9,  -999.00,9,   -999.0,9,  -999.00,9,-999.000,9,   -999.9,9,   -999.9,9,  -999.0, -999.00,-999.0000,-999.000,-999.000
    316N145_10,  I07N,   793,  1,     20,     20,2,19950807,1934, 14.3258,  64.6673, 3955,   -999,    951.6,   8.8687,  35.3727,2,  35.3741,2,      7.6,2,  8.7614,      7.6,2,    73.22,2,    36.45,2,     0.00,2,     2.93,2,    0.018,2,    0.011,2, -999.000,9,-999.0000,9,  -999.00,9,   -999.0,9,  -999.00,9,-999.000,9,   -999.9,9,   -999.9,9,  -999.0, -999.00,-999.0000,-999.000,-999.000
    316N145_10,  I07N,   793,  1,     19,     19,2,19950807,1934, 14.3258,  64.6673, 3955,   -999,   1101.7,   7.5948,  35.2411,2,  35.2432,2,     16.9,2,  7.4799,     16.9,2,    83.67,2,    37.74,2,     0.00,2,     2.98,2,    0.009,2,    0.005,2, -999.000,9,-999.0000,9,  -999.00,9,   -999.0,9,  -999.00,9,-999.000,9,   -999.9,9,   -999.9,9,  -999.0, -999.00,-999.0000,-999.000,-999.000
    316N145_10,  I07N,   793,  1,     18,     18,2,19950807,1934, 14.3258,  64.6673, 3955,   -999,   1199.7,   6.6792,  35.1309,2,  35.1319,2,     27.9,2,  6.5615,     29.5,2,    91.14,2,    37.98,2,     0.00,2,     2.97,2,    0.005,2,    0.001,2, -999.000,9,-999.0000,9,  -999.00,9,   -999.0,9,  -999.00,9,-999.000,9,   -999.9,9,   -999.9,9,  -999.0, -999.00,-999.0000,-999.000,-999.000
    316N145_10,  I07N,   793,  1,     17,     17,2,19950807,1934, 14.3258,  64.6673, 3955,   -999,   1299.5,   6.1151,  35.0957,2,  35.0947,2,     34.2,2,  5.9921,     35.8,2,    97.51,2,    38.17,2,     0.00,2,     2.99,2, -999.000,9, -999.000,9, -999.000,9,-999.0000,9,  -999.00,9,   -999.0,9,  -999.00,9,-999.000,9,   -999.9,9,   -999.9,9,  -999.0, -999.00,-999.0000,-999.000,-999.000
    316N145_10,  I07N,   793,  1,     16,     16,2,19950807,1934, 14.3258,  64.6673, 3955,   -999,   1399.5,   5.6166,  35.0509,2,  35.0516,2,     42.1,2,  5.4885,     41.5,2,   103.14,2,    38.27,2,     0.00,2,     3.00,2,   -0.001,2,    0.000,2, -999.000,9,-999.0000,9,  -999.00,9,   -999.0,9,  -999.00,9,-999.000,9,   -999.9,9,   -999.9,9,  -999.0, -999.00,-999.0000,-999.000,-999.000
    316N145_10,  I07N,   793,  1,     15,     15,2,19950807,1934, 14.3258,  64.6673, 3955,   -999,   1599.5,   4.3170,  34.9331,2,  34.9347,2,     62.7,2,  4.1841,     66.2,2,   116.66,2,    37.89,2,     0.00,2,     2.92,2,   -0.001,2,    0.001,2, -999.000,9,-999.0000,9,  -999.00,9,   -999.0,9,  -999.00,9,-999.000,9,   -999.9,9,   -999.9,9,  -999.0, -999.00,-999.0000,-999.000,-999.000
    316N145_10,  I07N,   793,  1,     14,     14,2,19950807,1934, 14.3258,  64.6673, 3955,   -999,   1800.3,   3.5121,  34.8654,2,  34.8663,2,     83.5,2,  3.3708,     83.7,2,   125.32,2,    37.55,2,     0.00,2,     2.86,2,    0.000,2,    0.000,2, -999.000,9,-999.0000,9,  -999.00,9,   -999.0,9,  -999.00,9,-999.000,9,   -999.9,9,   -999.9,9,  -999.0, -999.00,-999.0000,-999.000,-999.000
    316N145_10,  I07N,   793,  1,     13,     13,2,19950807,1934, 14.3258,  64.6673, 3955,   -999,   2000.0,   2.9522,  34.8237,2,  34.8239,2,    100.6,2,  2.8008,     98.8,2,   131.13,2,    37.03,2,     0.00,2,     2.78,2,    0.000,2,    0.002,2, -999.000,9,-999.0000,9,  -999.00,9,   -999.0,9,  -999.00,9,-999.000,9,   -999.9,9,   -999.9,9,  -999.0, -999.00,-999.0000,-999.000,-999.000
    316N145_10,  I07N,   793,  1,     12,     12,2,19950807,1934, 14.3258,  64.6673, 3955,   -999,   2197.6,   2.5701,  34.7964,2,  34.7970,2,    112.3,2,  2.4069,    110.6,2,   135.02,2,    36.55,2,     0.00,2,     2.72,2, -999.000,9, -999.000,9, -999.000,9,-999.0000,9,  -999.00,9,   -999.0,9,  -999.00,9,-999.000,9,   -999.9,9,   -999.9,9,  -999.0, -999.00,-999.0000,-999.000,-999.000
    316N145_10,  I07N,   793,  1,     11,     11,2,19950807,1934, 14.3258,  64.6673, 3955,   -999,   2399.8,   2.2910,  34.7770,2,  34.7771,2,    116.3,2,  2.1142,    115.4,2,   139.32,2,    36.50,2,     0.00,2,     2.71,2, -999.000,9, -999.000,9, -999.000,9,-999.0000,9,  -999.00,9,   -999.0,9,  -999.00,9,-999.000,9,   -999.9,9,   -999.9,9,  -999.0, -999.00,-999.0000,-999.000,-999.000
    316N145_10,  I07N,   793,  1,     10,     10,2,19950807,1934, 14.3258,  64.6673, 3955,   -999,   2602.3,   2.0605,  34.7616,2,  34.7606,2,    124.5,2,  1.8693,    123.4,2,   141.26,2,    36.26,2,     0.00,2,     2.66,2, -999.000,9, -999.000,9, -999.000,9,-999.0000,9,  -999.00,9,   -999.0,9,  -999.00,9,-999.000,9,   -999.9,9,   -999.9,9,  -999.0, -999.00,-999.0000,-999.000,-999.000
    316N145_10,  I07N,   793,  1,      9,      9,2,19950807,1934, 14.3258,  64.6673, 3955,   -999,   2801.2,   1.9018,  34.7513,2,  34.7512,2,    129.9,2,  1.6951,    128.8,2,   142.60,2,    36.03,2,     0.00,2,     2.63,2, -999.000,9, -999.000,9, -999.000,9,-999.0000,9,  -999.00,9,   -999.0,9,  -999.00,9,-999.000,9,   -999.9,9,   -999.9,9,  -999.0, -999.00,-999.0000,-999.000,-999.000
    316N145_10,  I07N,   793,  1,      8,      8,2,19950807,1934, 14.3258,  64.6673, 3955,   -999,   3000.0,   1.8025,  34.7442,2,  34.7433,2,    132.3,2,  1.5789,    131.4,2,   144.14,2,    35.98,2,     0.00,2,     2.62,2, -999.000,9, -999.000,9, -999.000,9,-999.0000,9,  -999.00,9,   -999.0,9,  -999.00,9,-999.000,9,   -999.9,9,   -999.9,9,  -999.0, -999.00,-999.0000,-999.000,-999.000
    316N145_10,  I07N,   793,  1,      7,      7,2,19950807,1934, 14.3258,  64.6673, 3955,   -999,   3202.7,   1.7555,  34.7401,2,  34.7409,2,    136.0,2,  1.5129,    135.8,2,   143.87,2,    35.79,2,     0.00,2,     2.60,2, -999.000,9, -999.000,9, -999.000,9,-999.0000,9,  -999.00,9,   -999.0,9,  -999.00,9,-999.000,9,   -999.9,9,   -999.9,9,  -999.0, -999.00,-999.0000,-999.000,-999.000
    316N145_10,  I07N,   793,  1,      6,      6,2,19950807,1934, 14.3258,  64.6673, 3955,   -999,   3400.8,   1.7250,  34.7396,2,  34.7372,2,    141.9,2,  1.4632,    141.9,2,   142.20,2,    35.55,2,     0.00,2,     2.56,2, -999.000,9, -999.000,9, -999.000,9,-999.0000,9,  -999.00,9,   -999.0,9,  -999.00,9,-999.000,9,   -999.9,9,   -999.9,9,  -999.0, -999.00,-999.0000,-999.000,-999.000
    316N145_10,  I07N,   793,  1,      5,      5,2,19950807,1934, 14.3258,  64.6673, 3955,   -999,   3604.0,   1.7063,  34.7365,2,  34.7358,2,    145.8,2,  1.4239,    146.5,2,   140.74,2,    35.31,2,     0.00,2,     2.55,2, -999.000,9, -999.000,9, -999.000,9,-999.0000,9,  -999.00,9,   -999.0,9,  -999.00,9,-999.000,9,   -999.9,9,   -999.9,9,  -999.0, -999.00,-999.0000,-999.000,-999.000
    316N145_10,  I07N,   793,  1,      4,      4,2,19950807,1934, 14.3258,  64.6673, 3955,   -999,   3803.3,   1.6986,  34.7357,2,  34.7342,2,    142.5,2,  1.3953,    143.5,2,   142.08,2,    35.59,2,     0.00,2,     2.56,2, -999.000,9, -999.000,9, -999.000,9,-999.0000,9,  -999.00,9,   -999.0,9,  -999.00,9,-999.000,9,   -999.9,9,   -999.9,9,  -999.0, -999.00,-999.0000,-999.000,-999.000
    316N145_10,  I07N,   793,  1,      3,      3,2,19950807,1934, 14.3258,  64.6673, 3955,   -999,   3900.1,   1.6972,  34.7345,2,  34.7338,2,    141.7,2,  1.3835,    141.5,2,   143.61,2,    35.73,2,     0.00,2,     2.57,2, -999.000,9, -999.000,9, -999.000,9,-999.0000,9,  -999.00,9,   -999.0,9,  -999.00,9,-999.000,9,   -999.9,9,   -999.9,9,  -999.0, -999.00,-999.0000,-999.000,-999.000
    316N145_10,  I07N,   793,  1,      2,      2,2,19950807,1934, 14.3258,  64.6673, 3955,   -999,   3981.8,   1.7012,  34.7334,2,  34.7341,2,    137.4,2,  1.3784,    137.1,2,   145.96,2,    36.02,2,     0.00,2,     2.59,2, -999.000,9, -999.000,9, -999.000,9,-999.0000,9,  -999.00,9,   -999.0,9,  -999.00,9,-999.000,9,   -999.9,9,   -999.9,9,  -999.0, -999.00,-999.0000,-999.000,-999.000
    316N145_10,  I07N,   793,  1,      1,      1,2,19950807,1934, 14.3258,  64.6673, 3955,   -999,   4010.5,   1.7032,  34.7338,2,  34.7343,2,    135.4,2,  1.3772,    137.2,2,   145.90,2,    36.02,2,     0.00,2,     2.59,2, -999.000,9, -999.000,9, -999.000,9,-999.0000,9,  -999.00,9,   -999.0,9,  -999.00,9,-999.000,9,   -999.9,9,   -999.9,9,  -999.0, -999.00,-999.0000,-999.000,-999.000