BOTTLE,20080821WHPSIOSCD
EXPOCODE,SECT_ID,STNNBR,CASTNO,SAMPNO,BTLNBR,BTLNBR_FLAG_W,DATE,TIME,LATITUDE,LONGITUDE,DEPTH,CTDRAW,CTDPRS,CTDTMP,CTDSAL,CTDSAL_FLAG_W,SALNTY,SALNTY_FLAG_W,CTDOXY,CTDOXY_FLAG_W,THETA,OXYGEN,OXYGEN_FLAG_W,SILCAT,SILCAT_FLAG_W,NITRAT,NITRAT_FLAG_W,NITRIT,NITRIT_FLAG_W,PHSPHT,PHSPHT_FLAG_W,CFC-11,CFC-11_FLAG_W,CFC-12,CFC-12_FLAG_W,TRITUM,TRITUM_FLAG_W,HELIUM,HELIUM_FLAG_W,DELHE3,DELHE3_FLAG_W,DELC14,DELC14_FLAG_W,DELC13,DELC13_FLAG_W,NEON,NEON_FLAG_W,TCARBN,TCARBN_FLAG_W,ALKALI,ALKALI_FLAG_W,C14ERR,DELHER,HELIER,NEONER,TRITER
,,,,,,,,,,,,,DBAR,ITS-90,PSS-78,,PSS-78,,UMOL/KG,,DEG C,UMOL/KG,,UMOL/KG,,UMOL/KG,,UMOL/KG,,UMOL/KG,,PMOL/KG,,PMOL/KG,,TU,,NMOL/KG,,PERCNT,,/MILLE,,/MILLE,,NMOL/KG,,UMOL/KG,,UMOL/KG,,/MILLE,PERCNT,NMOL/KG,NMOL/KG,TU
    316N145_10,  I07N,   764,  1,     36,     36,2,19950730,1017,  1.4610,  57.3095, 4511,   -999,      5.1,  27.6159,  35.3507,2,  35.3532,2,    202.4,2, 27.6149,    202.3,2,     3.46,2,     0.04,2,     0.00,2,     0.19,2,    1.664,2,    0.934,2,    0.828,2,   1.6320,2,    -0.80,2,     61.4,2,     1.30,2,   6.721,2,   1972.7,2,   2313.5,2,     5.9,    0.20,  0.0100,   0.130,   0.008
    316N145_10,  I07N,   764,  1,     35,     35,2,19950730,1017,  1.4610,  57.3095, 4511,   -999,     32.4,  26.9358,  35.3135,2,  35.3219,2,    194.5,2, 26.9286,    202.9,2,     3.78,2,     0.22,2,     0.00,2,     0.20,2,    1.698,2,    0.953,2, -999.000,9,-999.0000,9,  -999.00,9,   -999.0,9,  -999.00,9,-999.000,9,   1976.3,2,   2311.8,2,  -999.0, -999.00,-999.0000,-999.000,-999.000
    316N145_10,  I07N,   764,  1,     34,     34,2,19950730,1017,  1.4610,  57.3095, 4511,   -999,     61.8,  26.7365,  35.3760,2,  35.3646,2,    200.2,2, 26.7227,    195.6,2,     3.93,2,     0.59,2,     0.07,2,     0.27,2,    1.700,2,    0.967,2,    0.804,2,   1.7130,2,     0.50,2,     11.7,2,     0.06,2,   7.025,2,   1988.4,2,   2313.0,2,     2.9,    0.20,  0.0100,   0.140,   0.008
    316N145_10,  I07N,   764,  1,     33,     33,2,19950730,1017,  1.4610,  57.3095, 4511,   -999,     92.7,  25.6439,  35.2743,2,  35.2776,2,    194.7,2, 25.6236,    188.3,2,     4.77,2,     2.04,2,     0.25,2,     0.36,2, -999.000,9, -999.000,9, -999.000,9,-999.0000,9,  -999.00,9,   -999.0,9,  -999.00,9,-999.000,9,   2000.5,2,   2308.6,2,  -999.0, -999.00,-999.0000,-999.000,-999.000
    316N145_10,  I07N,   764,  1,     32,     32,2,19950730,1017,  1.4610,  57.3095, 4511,   -999,    132.6,  22.0627,  35.3570,2,  35.3449,2,    148.1,2, 22.0366,    133.0,2,     9.23,2,    10.87,2,     0.13,2,     0.90,2,    1.597,2,    0.873,2, -999.000,9,-999.0000,9,  -999.00,9,     48.1,2,     0.69,2,-999.000,9,   2081.3,2,   2314.9,2,     3.2, -999.00,-999.0000,-999.000,-999.000
    316N145_10,  I07N,   764,  1,     31,     31,2,19950730,1017,  1.4610,  57.3095, 4511,   -999,    170.6,  15.7683,  35.2144,2,  35.2152,2,     90.6,2, 15.7417,     89.6,2,    17.31,2,    20.45,2,     0.00,2,     1.51,2,    1.221,2,    0.638,2,    0.539,2,   1.7480,2,     6.80,2,     39.4,2,     0.38,2,   7.136,2,   2165.4,2,   2314.3,2,     4.5,    0.20,  0.0100,   0.140,   0.008
    316N145_10,  I07N,   764,  1,     30,     30,2,19950730,1017,  1.4610,  57.3095, 4511,   -999,    214.3,  13.9340,  35.1438,2,  35.1460,2,     74.2,2, 13.9033,     74.2,2,    20.91,2,    24.03,2,     0.00,2,     1.73,2,    0.881,2,    0.457,2, -999.000,9,-999.0000,9,  -999.00,9,   -999.0,9,  -999.00,9,-999.000,9,   2190.0,2,   2314.4,2,  -999.0, -999.00,-999.0000,-999.000,-999.000
    316N145_10,  I07N,   764,  1,     29,     29,2,19950730,1017,  1.4610,  57.3095, 4511,   -999,    249.7,  12.5785,  35.1102,2,  35.1129,2,    127.7,2, 12.5449,    128.5,2,    17.96,2,    20.04,2,     0.00,2,     1.47,2,    1.286,2,    0.665,2,    0.426,2,   1.7930,2,     5.40,2,     30.2,2,     0.62,2,   7.212,2,   2169.0,2,   2316.1,2,     4.4,    0.20,  0.0100,   0.140,   0.008
    316N145_10,  I07N,   764,  1,     28,     28,2,19950730,1017,  1.4610,  57.3095, 4511,   -999,    325.7,  11.7309,  35.0537,2,  35.0571,2,     94.9,2, 11.6889,    100.4,2,    22.24,2,    24.31,2,     0.00,2,     1.74,2, -999.000,9, -999.000,9, -999.000,9,-999.0000,9,  -999.00,9,   -999.0,9,  -999.00,9,-999.000,9,   2194.8,2,   2119.1,4,  -999.0, -999.00,-999.0000,-999.000,-999.000
    316N145_10,  I07N,   764,  1,     27,     27,2,19950730,1017,  1.4610,  57.3095, 4511,   -999,    379.9,  10.9307,  35.0133,2,  35.0146,2,    115.8,2, 10.8837,    117.6,2,    23.25,2,    23.90,2,     0.00,2,     1.73,2,    0.907,2,    0.460,2,    0.226,2,   1.8200,2,     6.90,2,     -6.0,2,     0.56,2,   7.323,2,   2188.1,2,   2313.4,2,     3.8,    0.20,  0.0100,   0.150,   0.008
    316N145_10,  I07N,   764,  1,     26,     26,2,19950730,1017,  1.4610,  57.3095, 4511,   -999,    475.9,  10.6584,  35.0503,2,  35.0600,2,     90.1,2, 10.6002,     91.0,2,    29.08,2,    26.90,2,     0.00,2,     1.98,2,    0.602,6,    0.310,6, -999.000,9,-999.0000,9,  -999.00,9,    -36.2,2,     0.44,2,-999.000,9,   2212.1,2,   2320.3,2,     3.7, -999.00,-999.0000,-999.000,-999.000
    316N145_10,  I07N,   764,  1,     25,     25,2,19950730,1017,  1.4610,  57.3095, 4511,   -999,    565.9,  10.2175,  35.1100,2,  35.1111,2,     63.4,2, 10.1497,     63.7,2,    37.49,2,    30.24,2,     0.00,2,     2.27,2,    0.284,2,    0.150,2, -999.000,9,-999.0000,9,  -999.00,9,    -66.6,2,     0.37,2,-999.000,9,   2238.9,2,   2324.8,2,     4.4, -999.00,-999.0000,-999.000,-999.000
    316N145_10,  I07N,   764,  1,     24,     24,2,19950730,1017,  1.4610,  57.3095, 4511,   -999,    717.3,   8.9713,  35.0654,2,  35.0686,2,     55.1,2,  8.8912,     54.3,2,    52.97,2,    33.18,2,     0.00,2,     2.52,2, -999.000,9, -999.000,9, -999.000,9,-999.0000,9,  -999.00,9,   -999.0,9,  -999.00,9,-999.000,9,   2264.5,2,   2339.5,2,  -999.0, -999.00,-999.0000,-999.000,-999.000
    316N145_10,  I07N,   764,  1,     23,     23,2,19950730,1017,  1.4610,  57.3095, 4511,   -999,    783.9,   8.5081,  35.0625,2,  35.0647,2,     49.6,2,  8.4229,     49.6,2,    60.19,2,    34.24,2,     0.00,2,     2.61,2,    0.053,2,    0.031,2,    0.074,2,   1.8420,2,     8.20,2,   -118.5,2,     0.05,2,   7.444,2,   2275.5,2,   2345.2,2,     3.5,    0.20,  0.0100,   0.150,   0.008
    316N145_10,  I07N,   764,  1,     22,     22,2,19950730,1017,  1.4610,  57.3095, 4511,   -999,    879.2,   8.0961,  35.0749,2,  35.0773,2,     44.4,2,  8.0027,     45.5,2,    66.89,2,    35.08,2,     0.00,2,     2.68,2,    0.034,2,    0.023,2, -999.000,9,-999.0000,9,  -999.00,9,   -130.0,2,     0.03,2,-999.000,9,   2286.5,2,   2354.1,2,     4.3, -999.00,-999.0000,-999.000,-999.000
    316N145_10,  I07N,   764,  1,     21,     21,2,19950730,1017,  1.4610,  57.3095, 4511,   -999,    960.6,   7.4032,  35.0289,2,  35.0291,2,     49.5,2,  7.3055,     47.2,2,    74.99,2,    35.91,2,     0.00,2,     2.74,2,    0.015,2,    0.006,2,    0.002,2,   1.8640,2,     9.80,2,   -137.2,2,    -0.04,2,   7.515,2,   2295.9,2,   2359.1,2,     3.4,    0.20,  0.0100,   0.150,   0.008
    316N145_10,  I07N,   764,  1,     20,     20,2,19950730,1017,  1.4610,  57.3095, 4511,   -999,   1151.3,   6.2027,  34.9670,2,  34.9680,2,     59.0,2,  6.0945,     59.1,2,    87.45,2,    36.38,2,     0.00,2,     2.77,2,    0.006,2,    0.005,2, -999.000,9,-999.0000,9,  -999.00,9,   -149.3,2,     0.04,2,-999.000,9,   2305.8,2,   2372.0,2,     3.7, -999.00,-999.0000,-999.000,-999.000
    316N145_10,  I07N,   764,  1,     19,     19,2,19950730,1017,  1.4610,  57.3095, 4511,   -999,   1251.7,   5.2751,  34.9060,2,  34.9200,3,     71.1,2,  5.1652,     73.0,2,    95.97,2,    36.53,2,     0.00,2,     2.77,2,    0.001,2,    0.003,2,    0.000,2,   1.8870,2,    11.50,2,   -169.1,2,     0.13,2,   7.631,2,   2310.4,2,   2381.0,2,     2.6,    0.20,  0.0100,   0.150,   0.008
    316N145_10,  I07N,   764,  1,     18,     18,2,19950730,1017,  1.4610,  57.3095, 4511,   -999,   1400.6,   4.7592,  34.8705,2,  34.8729,2,     81.4,2,  4.6403,     82.9,2,   100.67,2,    36.39,2,     0.00,2,     2.77,2,    0.007,2,    0.006,2, -999.000,9,-999.0000,9,  -999.00,9,   -175.4,2,    -0.03,2,-999.000,9,   2311.8,2,   2386.8,2,     7.2, -999.00,-999.0000,-999.000,-999.000
    316N145_10,  I07N,   764,  1,     17,     17,2,19950730,1017,  1.4610,  57.3095, 4511,   -999,   1497.8,   4.4674,  34.8622,2,  34.8627,2,     89.3,2,  4.3425,     88.7,2,   103.44,2,    36.21,2,     0.00,2,     2.73,2,    0.002,2,   -0.001,2,    0.000,2,   1.8820,2,    11.90,2,   -999.0,5,  -999.00,9,   7.707,2,   2313.6,2,   2385.8,2,  -999.0,    0.20,  0.0100,   0.150,   0.008
    316N145_10,  I07N,   764,  1,     16,     16,2,19950730,1017,  1.4610,  57.3095, 4511,   -999,   1598.7,   4.1766,  34.8468,2,  34.8483,2,     95.6,2,  4.0456,     95.1,2,   106.05,2,    36.08,2,     0.00,2,     2.71,2,    0.002,2,    0.004,2, -999.000,9,-999.0000,9,  -999.00,9,   -171.9,2,     0.05,2,-999.000,9,   2313.1,2,   2392.2,2,     3.2, -999.00,-999.0000,-999.000,-999.000
    316N145_10,  I07N,   764,  1,     15,     15,2,19950730,1017,  1.4610,  57.3095, 4511,   -999,   1796.5,   3.2415,  34.8083,2,  34.8075,2,    114.5,2,  3.1044,    115.1,2,   115.76,2,    35.48,2,     0.00,2,     2.65,2,    0.002,2,    0.003,2,    0.000,2,   1.8960,2,    11.90,2,   -999.0,9,  -999.00,9,   7.832,2,   2317.0,2,   2399.2,2,  -999.0,    0.20,  0.0100,   0.160,   0.008
    316N145_10,  I07N,   764,  1,     14,     14,2,19950730,1017,  1.4610,  57.3095, 4511,   -999,   1999.6,   2.7905,  34.7888,2,  34.7888,2,    122.9,2,  2.6417,    124.2,2,   121.44,2,    35.21,2,     0.00,2,     2.60,2, -999.000,9, -999.000,9,    0.000,2,   1.8870,2,    13.70,2,   -999.0,9,  -999.00,9,   7.854,2,   2317.9,2,   2409.5,2,  -999.0,    0.20,  0.0100,   0.160,   0.008
    316N145_10,  I07N,   764,  1,     13,     13,2,19950730,1017,  1.4610,  57.3095, 4511,   -999,   2196.8,   2.3681,  34.7644,2,  34.7658,2,    138.2,2,  2.2084,    138.6,2,   124.45,2,    34.75,2,     0.00,2,     2.54,2, -999.000,9, -999.000,9, -999.000,9,   1.8910,2,    12.90,2,   -999.0,9,  -999.00,9,   8.001,2,   2314.2,2,   2407.4,2,  -999.0,    0.20,  0.0100,   0.160,-999.000
    316N145_10,  I07N,   764,  1,     12,     12,2,19950730,1017,  1.4610,  57.3095, 4511,   -999,   2400.4,   2.0828,  34.7533,2,  34.7550,2,    146.2,2,  1.9097,    146.0,2,   128.02,2,    34.47,2,     0.00,2,     2.51,2, -999.000,9, -999.000,9, -999.000,9,   1.8960,2,    12.40,2,   -999.0,9,  -999.00,9,   8.153,2,   2315.5,2,   2414.6,2,  -999.0,    0.20,  0.0100,   0.160,-999.000
    316N145_10,  I07N,   764,  1,     11,     11,2,19950730,1017,  1.4610,  57.3095, 4511,   -999,   2602.9,   1.9501,  34.7454,2,  34.7468,2,    152.8,2,  1.7610,    152.7,2,   128.16,2,    34.25,2,     0.00,2,     2.47,2, -999.000,9, -999.000,9, -999.000,9,   1.9000,2,    13.20,2,   -999.0,9,  -999.00,9,   8.247,2,   2311.5,2,   2411.2,2,  -999.0,    0.20,  0.0100,   0.160,-999.000
    316N145_10,  I07N,   764,  1,     10,     10,2,19950730,1017,  1.4610,  57.3095, 4511,   -999,   2801.3,   1.8705,  34.7415,2,  34.7425,2,    156.3,2,  1.6645,    156.0,2,   128.47,2,    34.11,2,     0.00,2,     2.46,2, -999.000,9, -999.000,9, -999.000,9,   1.8870,2,    13.80,2,   -999.0,9,  -999.00,9,   8.322,2,   2310.0,2,   2439.8,3,  -999.0,    0.20,  0.0100,   0.170,-999.000
    316N145_10,  I07N,   764,  1,      9,      9,2,19950730,1017,  1.4610,  57.3095, 4511,   -999,   2998.7,   1.7849,  34.7371,2,  34.7381,2,    160.3,2,  1.5617,    160.0,2,   129.15,2,    33.98,2,     0.00,2,     2.44,2, -999.000,9, -999.000,9, -999.000,9,   1.9040,2,    14.40,2,   -999.0,9,  -999.00,9,   8.318,2,   2308.3,2,   2416.8,2,  -999.0,    0.20,  0.0100,   0.170,-999.000
    316N145_10,  I07N,   764,  1,      8,      8,2,19950730,1017,  1.4610,  57.3095, 4511,   -999,   3198.4,   1.7147,  34.7343,2,  34.7344,2,    163.5,2,  1.4736,    163.7,2,   129.47,2,    33.84,2,     0.00,2,     2.44,2, -999.000,9, -999.000,9, -999.000,9,   1.8960,2,    14.10,2,   -999.0,9,  -999.00,9,   8.287,2,   2306.9,2,   2412.5,2,  -999.0,    0.20,  0.0100,   0.170,-999.000
    316N145_10,  I07N,   764,  1,      7,      7,2,19950730,1017,  1.4610,  57.3095, 4511,   -999,   3402.2,   1.6468,  34.7313,2,  34.7318,2,    167.2,2,  1.3868,    166.7,2,   129.97,2,    33.75,2,     0.00,2,     2.41,2, -999.000,9, -999.000,9, -999.000,9,   1.9090,2,    12.90,2,   -999.0,9,  -999.00,9,   8.363,2,   2305.2,2,   2418.6,3,  -999.0,    0.20,  0.0100,   0.170,-999.000
    316N145_10,  I07N,   764,  1,      6,      6,2,19950730,1017,  1.4610,  57.3095, 4511,   -999,   3599.9,   1.5708,  34.7286,2,  34.7289,2,    170.7,2,  1.2924,    170.3,2,   130.65,2,    33.62,2,     0.00,2,     2.39,2, -999.000,9, -999.000,9, -999.000,9,   1.8870,2,    11.20,2,   -999.0,9,  -999.00,9,   8.313,2,   2303.0,2,   2413.1,2,  -999.0,    0.20,  0.0100,   0.170,-999.000
    316N145_10,  I07N,   764,  1,      5,      5,2,19950730,1017,  1.4610,  57.3095, 4511,   -999,   3794.1,   1.5439,  34.7269,2,  34.7267,2,    172.1,2,  1.2458,    171.9,2,   130.96,2,    33.57,2,     0.00,2,     2.39,2, -999.000,9, -999.000,9, -999.000,9,   1.9090,2,    11.00,2,   -999.0,9,  -999.00,9,   8.394,2,   2271.9,4,   2409.3,2,  -999.0,    0.20,  0.0100,   0.170,-999.000
    316N145_10,  I07N,   764,  1,      4,      4,2,19950730,1017,  1.4610,  57.3095, 4511,   -999,   4095.0,   1.4423,  34.7218,2,  34.7220,2,    177.7,2,  1.1146,    177.9,2,   130.37,2,    33.25,2,     0.00,2,     2.37,2, -999.000,9, -999.000,9, -999.000,9,   1.9040,2,     9.60,2,   -999.0,9,  -999.00,9,   8.367,2,   2298.0,2,   2408.8,2,  -999.0,    0.20,  0.0100,   0.170,-999.000
    316N145_10,  I07N,   764,  1,      3,      3,2,19950730,1017,  1.4610,  57.3095, 4511,   -999,   4396.6,   1.3998,  34.7205,2,  34.7200,2,    181.2,2,  1.0397,    181.0,2,   130.69,2,    33.17,2,     0.00,2,     2.37,2, -999.000,9, -999.000,9, -999.000,9,   1.9000,2,     8.90,2,   -999.0,9,  -999.00,9,   8.434,2,   2296.9,2,   2405.6,2,  -999.0,    0.20,  0.0100,   0.170,-999.000
    316N145_10,  I07N,   764,  1,      2,      2,2,19950730,1017,  1.4610,  57.3095, 4511,   -999,   4566.4,   1.3680,  34.7182,2,  34.7182,2,    183.3,2,  0.9894,    183.7,2,   130.10,2,    33.03,2,     0.00,2,     2.34,2, -999.000,9, -999.000,9, -999.000,9,-999.0000,9,  -999.00,9,   -999.0,9,  -999.00,9,-999.000,9,   2294.0,2,   2408.1,2,  -999.0, -999.00,-999.0000,-999.000,-999.000
    316N145_10,  I07N,   764,  1,      1,      1,2,19950730,1017,  1.4610,  57.3095, 4511,   -999,   4589.2,   1.3670,  34.7186,2,  34.7178,2,    182.8,2,  0.9858,    183.8,2,   130.23,2,    32.99,2,     0.00,2,     2.34,2, -999.000,9, -999.000,9, -999.000,9,   1.9040,2,     9.30,2,   -999.0,9,  -999.00,9,   8.461,2,   2293.6,2,   2404.3,2,  -999.0,    0.20,  0.0100,   0.170,-999.000