BOTTLE,20080821WHPSIOSCD
EXPOCODE,SECT_ID,STNNBR,CASTNO,SAMPNO,BTLNBR,BTLNBR_FLAG_W,DATE,TIME,LATITUDE,LONGITUDE,DEPTH,CTDRAW,CTDPRS,CTDTMP,CTDSAL,CTDSAL_FLAG_W,SALNTY,SALNTY_FLAG_W,CTDOXY,CTDOXY_FLAG_W,THETA,OXYGEN,OXYGEN_FLAG_W,SILCAT,SILCAT_FLAG_W,NITRAT,NITRAT_FLAG_W,NITRIT,NITRIT_FLAG_W,PHSPHT,PHSPHT_FLAG_W,CFC-11,CFC-11_FLAG_W,CFC-12,CFC-12_FLAG_W,TRITUM,TRITUM_FLAG_W,HELIUM,HELIUM_FLAG_W,DELHE3,DELHE3_FLAG_W,DELC14,DELC14_FLAG_W,DELC13,DELC13_FLAG_W,NEON,NEON_FLAG_W,TCARBN,TCARBN_FLAG_W,ALKALI,ALKALI_FLAG_W,C14ERR,DELHER,HELIER,NEONER,TRITER
,,,,,,,,,,,,,DBAR,ITS-90,PSS-78,,PSS-78,,UMOL/KG,,DEG C,UMOL/KG,,UMOL/KG,,UMOL/KG,,UMOL/KG,,UMOL/KG,,PMOL/KG,,PMOL/KG,,TU,,NMOL/KG,,PERCNT,,/MILLE,,/MILLE,,NMOL/KG,,UMOL/KG,,UMOL/KG,,/MILLE,PERCNT,NMOL/KG,NMOL/KG,TU
    316N145_10,  I07N,   782,  1,     36,     36,2,19950804,2303,  8.7948,  63.5632, 4555,   -999,      9.8,  27.8272,  36.5137,2,  36.5140,2,    199.0,2, 27.8251,    195.0,2,     2.47,2,     0.05,2,     0.00,2,     0.28,2,    1.617,2,    0.921,2,    0.766,2,   1.6500,2,    -0.90,2,     52.9,2,     1.34,2,   6.779,2,   2020.2,2,   2381.2,2,     2.7,    0.20,  0.0080,   0.136,   0.008
    316N145_10,  I07N,   782,  1,     35,     35,2,19950804,2303,  8.7948,  63.5632, 4555,   -999,     32.4,  27.8296,  36.5137,2,  36.5134,2,    195.0,2, 27.8222,    195.0,2,     2.45,2,     0.05,2,     0.00,2,     0.28,2,    1.627,2,    0.931,2, -999.000,9,-999.0000,9,  -999.00,9,   -999.0,9,  -999.00,9,-999.000,9,   2020.8,2,   2385.2,2,  -999.0, -999.00,-999.0000,-999.000,-999.000
    316N145_10,  I07N,   782,  1,     34,     34,2,19950804,2303,  8.7948,  63.5632, 4555,   -999,     68.2,  27.8435,  36.5137,2,  36.5142,2,    191.3,2, 27.8277,    194.9,2,     2.22,2,     0.04,2,     0.00,2,     0.28,2,    1.610,2,    0.919,2, -999.000,9,-999.0000,9,  -999.00,9,   -999.0,9,  -999.00,9,-999.000,9,   2020.3,2,   2384.0,2,  -999.0, -999.00,-999.0000,-999.000,-999.000
    316N145_10,  I07N,   782,  1,     33,     33,2,19950804,2303,  8.7948,  63.5632, 4555,   -999,     97.2,  27.5915,  36.5038,2,  36.4980,2,    190.7,2, 27.5689,    185.6,2,     2.41,2,     0.58,2,     0.37,2,     0.36,2,    1.620,2,    0.921,2, -999.000,9,-999.0000,9,  -999.00,9,     42.1,2,     1.32,2,-999.000,9,   2029.3,2,   2413.8,3,     2.7, -999.00,-999.0000,-999.000,-999.000
    316N145_10,  I07N,   782,  1,     32,     32,2,19950804,2303,  8.7948,  63.5632, 4555,   -999,    123.0,  23.6473,  36.0591,2,  35.9653,2,    117.9,2, 23.6218,     78.5,2,     9.06,2,    17.61,2,     0.04,2,     1.42,2,    1.533,2,    0.850,2,    0.612,2,   1.7260,2,     2.90,2,     36.8,2,     0.29,2,   6.824,2,   2143.2,2,   2345.2,2,     3.2,    0.20,  0.0090,   0.136,   0.008
    316N145_10,  I07N,   782,  1,     31,     31,2,19950804,2303,  8.7948,  63.5632, 4555,   -999,    152.9,  17.9129,  35.3525,2,  35.3626,2,      7.5,2, 17.8869,      6.7,2,    22.39,2,    26.64,2,     0.01,2,     2.15,2,    0.787,2,    0.442,2, -999.000,9,-999.0000,9,  -999.00,9,   -999.0,9,  -999.00,9,-999.000,9,   2215.0,2,   2320.2,2,  -999.0, -999.00,-999.0000,-999.000,-999.000
    316N145_10,  I07N,   782,  1,     30,     30,2,19950804,2303,  8.7948,  63.5632, 4555,   -999,    172.6,  16.2168,  35.3276,2,  35.3123,2,      4.9,2, 16.1894,     10.0,2,    24.40,2,    27.48,2,     0.00,2,     2.20,2,    0.640,2,    0.353,2,    0.610,2,   1.7660,2,     2.10,2,    -10.6,2,    -0.13,2,   6.851,2,   2225.5,2,   2319.0,2,     2.8,    0.20,  0.0090,   0.137,   0.008
    316N145_10,  I07N,   782,  1,     29,     29,2,19950804,2303,  8.7948,  63.5632, 4555,   -999,    208.1,  14.3345,  35.2464,2,  35.2477,2,     19.1,2, 14.3041,     23.5,2,    25.59,2,    27.94,2,     0.00,2,     2.16,2,    0.559,2,    0.308,2, -999.000,9,-999.0000,9,  -999.00,9,   -999.0,9,  -999.00,9,-999.000,9,   2228.5,2,   2320.5,2,  -999.0, -999.00,-999.0000,-999.000,-999.000
    316N145_10,  I07N,   782,  1,     28,     28,2,19950804,2303,  8.7948,  63.5632, 4555,   -999,    231.1,  13.8337,  35.2944,2,  35.2981,2,     38.4,2, 13.8006,     41.1,2,    24.35,2,    26.43,2,     0.00,2,     2.05,2,    0.684,2,    0.359,2, -999.000,9,-999.0000,9,  -999.00,9,   -999.0,9,  -999.00,9,-999.000,9,   2221.6,2,   2324.1,2,  -999.0, -999.00,-999.0000,-999.000,-999.000
    316N145_10,  I07N,   782,  1,     27,     27,2,19950804,2303,  8.7948,  63.5632, 4555,   -999,    274.0,  12.5217,  35.2316,2,  35.2332,2,     51.9,2, 12.4849,     45.9,2,    26.76,2,    28.04,2,     0.00,2,     2.09,2,    0.520,2,    0.280,2,    0.313,2,   1.7930,2,     4.20,2,    -31.4,2,     0.05,2,   7.100,2,   2228.0,2,   2319.3,2,     2.8,    0.20,  0.0090,   0.142,   0.008
    316N145_10,  I07N,   782,  1,     26,     26,2,19950804,2303,  8.7948,  63.5632, 4555,   -999,    359.9,  11.5656,  35.2228,2,  35.2222,2,     48.4,2, 11.5195,     39.2,2,    32.19,2,    30.34,2,     0.00,2,     2.26,2,    0.318,2,    0.173,2, -999.000,9,-999.0000,9,  -999.00,9,    -44.4,2,     0.10,2,-999.000,9,   2242.1,2,   2323.6,2,     4.5, -999.00,-999.0000,-999.000,-999.000
    316N145_10,  I07N,   782,  1,     25,     25,2,19950804,2303,  8.7948,  63.5632, 4555,   -999,    450.2,  11.2703,  35.3169,2,  35.3154,2,     24.5,2, 11.2132,     23.0,2,    38.84,2,    31.86,2,     0.00,2,     2.48,2,    0.157,2,    0.091,2,    0.143,2,   1.8330,2,     5.50,2,    -76.1,2,     0.02,2,   7.573,2,   2260.9,2,   2331.4,2,     2.5,    0.20,  0.0090,   0.151,   0.008
    316N145_10,  I07N,   782,  1,     24,     24,2,19950804,2303,  8.7948,  63.5632, 4555,   -999,    559.3,  10.3479,  35.2453,2,  35.2469,2,     19.7,2, 10.2804,     19.6,2,    47.92,2,    33.72,2,     0.00,2,     2.64,2,    0.054,2,    0.033,2, -999.000,9,-999.0000,9,  -999.00,9,    -99.9,2,    -0.08,2,-999.000,9,   2273.8,2,   2339.1,2,     3.0, -999.00,-999.0000,-999.000,-999.000
    316N145_10,  I07N,   782,  1,     23,     23,2,19950804,2303,  8.7948,  63.5632, 4555,   -999,    700.1,   9.3850,  35.1938,2,  35.1913,2,     20.2,2,  9.3047,     20.4,2,    59.43,2,    35.26,2,     0.00,2,     2.74,2,    0.019,2,    0.016,2,    0.064,2,   1.8510,2,     6.80,2,   -114.3,2,    -0.10,2,   7.747,2,   2287.4,2,   2347.5,2,     4.3,    0.20,  0.0090,   0.155,   0.008
    316N145_10,  I07N,   782,  1,     22,     22,2,19950804,2303,  8.7948,  63.5632, 4555,   -999,    800.8,   8.8609,  35.1767,2,  35.1763,2,     23.8,2,  8.7716,     24.3,2,    65.28,2,    35.73,2,     0.00,2,     2.78,2,    0.017,2,    0.014,2, -999.000,9,-999.0000,9,  -999.00,9,   -128.0,2,    -0.06,2,-999.000,9,   2292.1,2,   2352.2,2,     3.5, -999.00,-999.0000,-999.000,-999.000
    316N145_10,  I07N,   782,  1,     21,     21,2,19950804,2303,  8.7948,  63.5632, 4555,   -999,    899.9,   8.0324,  35.1136,2,  35.1138,2,     27.1,2,  7.9370,     27.9,2,    73.98,2,    36.63,2,     0.00,2,     2.85,2,    0.006,2,    0.005,2,    0.010,2,   1.8600,2,     9.10,2,   -146.0,2,    -0.09,2,   7.734,2,   2302.4,2,   2361.8,2,     3.4,    0.20,  0.0090,   0.155,   0.008
    316N145_10,  I07N,   782,  1,     20,     20,2,19950804,2303,  8.7948,  63.5632, 4555,   -999,   1024.9,   7.4410,  35.1051,2,  35.1042,2,     30.5,2,  7.3359,     32.4,2,    81.06,2,    36.96,2,     0.00,2,     2.87,2,    0.004,2,    0.006,2, -999.000,9,-999.0000,9,  -999.00,9,   -151.9,2,    -0.14,2,-999.000,9,   2309.3,2,   2369.9,2,     3.3, -999.00,-999.0000,-999.000,-999.000
    316N145_10,  I07N,   782,  1,     19,     19,2,19950804,2303,  8.7948,  63.5632, 4555,   -999,   1228.1,   6.1504,  34.9998,2,  35.0010,2,     47.8,2,  6.0346,     47.9,2,    93.67,2,    37.39,2,     0.00,2,     2.88,2,   -0.003,2,    0.000,2,    0.000,2,   1.8730,2,    13.60,2,   -999.0,9,  -999.00,9,   7.850,2,   2317.9,2,   2378.1,2,  -999.0,    0.20,  0.0090,   0.157,   0.008
    316N145_10,  I07N,   782,  1,     18,     18,2,19950804,2303,  8.7948,  63.5632, 4555,   -999,   1444.6,   5.1006,  34.9399,2,  34.9383,2,     64.3,2,  4.9737,     63.8,2,   104.70,2,    37.30,2,     0.00,2,     2.86,2,   -0.001,2,    0.000,2,    0.000,2,   1.8960,2,    14.50,2,   -175.0,2,    -0.20,6,   7.827,2,   2323.4,2,   2390.9,2,     3.2,    0.20,  0.0090,   0.157,   0.008
    316N145_10,  I07N,   782,  1,     17,     17,2,19950804,2303,  8.7948,  63.5632, 4555,   -999,   1542.4,   4.4965,  34.9027,2,  34.9022,2,     72.4,2,  4.3670,     74.6,2,   111.26,2,    37.16,2,     0.00,2,     2.85,2,   -0.004,2,   -0.001,2, -999.000,9,-999.0000,9,  -999.00,9,   -186.5,2,    -0.17,2,-999.000,9,   2327.3,2,   2398.2,2,     3.5, -999.00,-999.0000,-999.000,-999.000
    316N145_10,  I07N,   782,  1,     16,     16,2,19950804,2303,  8.7948,  63.5632, 4555,   -999,   1745.2,   3.6620,  34.8498,2,  34.8515,2,     91.4,2,  3.5239,     92.4,2,   119.52,2,    36.74,2,     0.00,2,     2.77,2,   -0.004,2,   -0.001,2,    0.000,2,   1.9000,2,    15.30,2,   -173.7,2,    -0.05,2,   7.939,2,   2330.0,2,   2404.0,2,     3.3,    0.20,  0.0090,   0.159,   0.008
    316N145_10,  I07N,   782,  1,     15,     15,2,19950804,2303,  8.7948,  63.5632, 4555,   -999,   1999.5,   2.9032,  34.8033,2,  34.8034,2,    116.2,2,  2.7527,    115.4,2,   125.74,2,    35.95,2,     0.00,2,     2.67,2,   -0.002,2,    0.000,2,    0.000,2,   1.9040,2,    15.10,2,   -999.0,9,  -999.00,9,   8.006,2,   -999.9,5,   2411.1,2,  -999.0,    0.20,  0.0100,   0.160,   0.008
    316N145_10,  I07N,   782,  1,     14,     14,2,19950804,2303,  8.7948,  63.5632, 4555,   -999,   2126.9,   2.6498,  34.7932,2,  34.7924,2,    124.1,2,  2.4918,    122.3,2,   128.63,2,    35.67,2,     0.00,2,     2.65,2, -999.000,9, -999.000,9, -999.000,9,-999.0000,9,  -999.00,9,   -999.0,9,  -999.00,9,-999.000,9,   2326.0,2,   2414.5,2,  -999.0, -999.00,-999.0000,-999.000,-999.000
    316N145_10,  I07N,   782,  1,     13,     13,2,19950804,2303,  8.7948,  63.5632, 4555,   -999,   2248.2,   2.4804,  34.7814,2,  34.7826,2,    129.9,2,  2.3141,    127.9,2,   129.65,2,    35.49,2,     0.00,2,     2.62,2, -999.000,9, -999.000,9, -999.000,9,   1.9130,2,    14.70,2,   -999.0,9,  -999.00,9,   8.238,2,   2324.5,2,   2414.6,2,  -999.0,    0.20,  0.0100,   0.165,-999.000
    316N145_10,  I07N,   782,  1,     12,     12,2,19950804,2303,  8.7948,  63.5632, 4555,   -999,   2446.6,   2.2147,  34.7669,2,  34.7679,2,    137.9,2,  2.0350,    136.4,2,   131.71,2,    35.21,2,     0.00,2,     2.58,2, -999.000,9, -999.000,9, -999.000,9,   1.8960,2,    14.90,2,   -999.0,9,  -999.00,9,   8.305,2,   2323.0,2,   2419.9,2,  -999.0,    0.20,  0.0090,   0.166,-999.000
    316N145_10,  I07N,   782,  1,     11,     11,2,19950804,2303,  8.7948,  63.5632, 4555,   -999,   2669.9,   1.9952,  34.7546,2,  34.7569,2,    142.9,2,  1.7990,    141.9,2,   134.21,2,    34.98,2,     0.00,2,     2.55,2, -999.000,9, -999.000,9, -999.000,9,   1.8820,2,    14.60,2,   -999.0,9,  -999.00,9,   8.398,2,   2322.9,2,   2419.7,2,  -999.0,    0.20,  0.0090,   0.168,-999.000
    316N145_10,  I07N,   782,  1,     10,     10,2,19950804,2303,  8.7948,  63.5632, 4555,   -999,   2898.2,   1.8806,  34.7478,2,  34.7480,2,    147.5,2,  1.6651,    148.5,2,   134.81,2,    34.84,2,     0.00,2,     2.53,2, -999.000,9, -999.000,9, -999.000,9,   1.9000,2,    14.10,2,   -999.0,9,  -999.00,9,   8.336,2,   2321.0,2,   2420.0,2,  -999.0,    0.20,  0.0090,   0.167,-999.000
    316N145_10,  I07N,   782,  1,      9,      9,2,19950804,2303,  8.7948,  63.5632, 4555,   -999,   3096.9,   1.8105,  34.7437,2,  34.7437,2,    149.7,2,  1.5772,    150.4,2,   135.40,2,    34.75,2,     0.00,2,     2.52,2, -999.000,9, -999.000,9, -999.000,9,   1.9130,2,    14.60,2,   -999.0,9,  -999.00,9,   8.340,2,   2320.1,2,   2420.2,2,  -999.0,    0.20,  0.0100,   0.167,-999.000
    316N145_10,  I07N,   782,  1,      8,      8,2,19950804,2303,  8.7948,  63.5632, 4555,   -999,   3298.4,   1.7501,  34.7410,2,  34.7392,2,    153.3,2,  1.4981,    153.6,2,   136.00,2,    34.62,2,     0.00,2,     2.48,2, -999.000,9, -999.000,9, -999.000,9,   1.8960,2,    13.30,2,   -999.0,9,  -999.00,9,   8.380,2,   2319.5,2,   2424.4,2,  -999.0,    0.20,  0.0090,   0.168,-999.000
    316N145_10,  I07N,   782,  1,      7,      7,2,19950804,2303,  8.7948,  63.5632, 4555,   -999,   3497.7,   1.7270,  34.7382,2,  34.7392,2,    155.1,2,  1.4552,    155.3,2,   135.97,2,    34.53,2,     0.00,2,     2.49,2, -999.000,9, -999.000,9, -999.000,9,   1.9000,2,    13.10,2,   -999.0,9,  -999.00,9,   8.434,2,   2318.9,2,   2422.8,2,  -999.0,    0.20,  0.0090,   0.169,-999.000
    316N145_10,  I07N,   782,  1,      6,      6,2,19950804,2303,  8.7948,  63.5632, 4555,   -999,   3702.9,   1.7098,  34.7375,2,  34.7365,2,    156.6,2,  1.4169,    155.6,2,   136.78,2,    34.53,2,     0.00,2,     2.49,2, -999.000,9, -999.000,9, -999.000,9,   1.8910,2,    13.60,2,   -999.0,9,  -999.00,9,   8.336,2,   2318.7,2,   2425.3,2,  -999.0,    0.20,  0.0090,   0.167,-999.000
    316N145_10,  I07N,   782,  1,      5,      5,2,19950804,2303,  8.7948,  63.5632, 4555,   -999,   3899.8,   1.6882,  34.7339,2,  34.7343,2,    157.3,2,  1.3748,    158.0,2,   137.80,2,    34.44,2,     0.00,2,     2.48,2, -999.000,9, -999.000,9, -999.000,9,   1.9000,2,    13.90,2,   -999.0,9,  -999.00,9,   8.385,2,   2317.9,2,   2422.3,2,  -999.0,    0.20,  0.0090,   0.168,-999.000
    316N145_10,  I07N,   782,  1,      4,      4,2,19950804,2303,  8.7948,  63.5632, 4555,   -999,   4105.3,   1.6656,  34.7337,2,  34.7333,2,    159.0,2,  1.3302,    159.5,2,   138.61,2,    34.44,2,     0.00,2,     2.47,2, -999.000,9, -999.000,9, -999.000,9,   1.9040,2,    13.40,2,   -999.0,9,  -999.00,9,   8.380,2,   -999.9,5,   2426.2,2,  -999.0,    0.20,  0.0100,   0.168,-999.000
    316N145_10,  I07N,   782,  1,      3,      3,2,19950804,2303,  8.7948,  63.5632, 4555,   -999,   4304.5,   1.6341,  34.7302,2,  34.7304,2,    162.5,2,  1.2773,    163.3,2,   137.73,2,    34.21,2,     0.00,2,     2.46,2, -999.000,9, -999.000,9, -999.000,9,   1.9040,2,    13.10,2,   -999.0,9,  -999.00,9,   8.412,2,   2313.9,2,   2420.9,2,  -999.0,    0.20,  0.0100,   0.168,-999.000
    316N145_10,  I07N,   782,  1,      2,      2,2,19950804,2303,  8.7948,  63.5632, 4555,   -999,   4504.0,   1.6266,  34.7303,2,  34.7302,2,    165.0,2,  1.2471,    165.1,2,   137.06,2,    34.12,2,     0.00,2,     2.46,2, -999.000,9, -999.000,9, -999.000,9,   1.8960,2,    13.80,2,   -999.0,9,  -999.00,9,   8.461,2,   2311.6,2,   2422.2,2,  -999.0,    0.20,  0.0090,   0.169,-999.000
    316N145_10,  I07N,   782,  1,      1,      1,2,19950804,2303,  8.7948,  63.5632, 4555,   -999,   4627.5,   1.6291,  34.7285,2,  34.7294,2,    164.9,2,  1.2351,    165.8,2,   137.03,2,    34.12,2,     0.00,2,     2.45,2, -999.000,9, -999.000,9, -999.000,9,   1.8870,2,    13.90,2,   -999.0,9,  -999.00,9,   8.496,2,   2312.8,2,   2419.8,2,  -999.0,    0.20,  0.0090,   0.170,-999.000