BOTTLE,20080821WHPSIOSCD
EXPOCODE,SECT_ID,STNNBR,CASTNO,SAMPNO,BTLNBR,BTLNBR_FLAG_W,DATE,TIME,LATITUDE,LONGITUDE,DEPTH,CTDRAW,CTDPRS,CTDTMP,CTDSAL,CTDSAL_FLAG_W,SALNTY,SALNTY_FLAG_W,CTDOXY,CTDOXY_FLAG_W,THETA,OXYGEN,OXYGEN_FLAG_W,SILCAT,SILCAT_FLAG_W,NITRAT,NITRAT_FLAG_W,NITRIT,NITRIT_FLAG_W,PHSPHT,PHSPHT_FLAG_W,CFC-11,CFC-11_FLAG_W,CFC-12,CFC-12_FLAG_W,TRITUM,TRITUM_FLAG_W,HELIUM,HELIUM_FLAG_W,DELHE3,DELHE3_FLAG_W,DELC14,DELC14_FLAG_W,DELC13,DELC13_FLAG_W,NEON,NEON_FLAG_W,TCARBN,TCARBN_FLAG_W,ALKALI,ALKALI_FLAG_W,C14ERR,DELHER,HELIER,NEONER,TRITER
,,,,,,,,,,,,,DBAR,ITS-90,PSS-78,,PSS-78,,UMOL/KG,,DEG C,UMOL/KG,,UMOL/KG,,UMOL/KG,,UMOL/KG,,UMOL/KG,,PMOL/KG,,PMOL/KG,,TU,,NMOL/KG,,PERCNT,,/MILLE,,/MILLE,,NMOL/KG,,UMOL/KG,,UMOL/KG,,/MILLE,PERCNT,NMOL/KG,NMOL/KG,TU
    316N145_10,  I07N,   796,  1,     36,     36,2,19950808,1300, 15.5117,  63.7687, 3863,   -999,      4.6,  26.5697,  36.2568,2,  36.2572,2,    207.8,2, 26.5689,    197.2,2,     2.99,2,     2.49,2,     0.22,2,     0.51,2,    1.716,2,    0.982,2, -999.000,9,-999.0000,9,  -999.00,9,   -999.0,9,  -999.00,9,-999.000,9,   -999.9,5,   2363.9,2,  -999.0, -999.00,-999.0000,-999.000,-999.000
    316N145_10,  I07N,   796,  1,     35,     35,2,19950808,1300, 15.5117,  63.7687, 3863,   -999,     31.8,  26.5747,  36.2580,2,  36.2590,2,    196.9,2, 26.5678,    198.6,2,     2.97,2,     2.53,2,     0.23,2,     0.51,2, -999.000,9, -999.000,9, -999.000,9,-999.0000,9,  -999.00,9,   -999.0,9,  -999.00,9,-999.000,9,   -999.9,5,   2364.3,2,  -999.0, -999.00,-999.0000,-999.000,-999.000
    316N145_10,  I07N,   796,  1,     34,     34,2,19950808,1300, 15.5117,  63.7687, 3863,   -999,     61.5,  26.5681,  36.2649,2,  36.2649,2,    196.3,2, 26.5544,    197.3,2,     2.77,2,     2.51,2,     0.24,2,     0.51,2,    1.719,2,    0.975,2, -999.000,9,-999.0000,9,  -999.00,9,   -999.0,9,  -999.00,9,-999.000,9,   -999.9,5,   2365.0,2,  -999.0, -999.00,-999.0000,-999.000,-999.000
    316N145_10,  I07N,   796,  1,     33,     33,2,19950808,1300, 15.5117,  63.7687, 3863,   -999,     91.8,  26.3432,  36.2722,2,  36.2649,2,    190.0,2, 26.3227,    184.0,2,     2.95,2,     3.67,2,     0.50,2,     0.60,2, -999.000,9, -999.000,9, -999.000,9,-999.0000,9,  -999.00,9,   -999.0,9,  -999.00,9,-999.000,9,   -999.9,5,   2364.3,2,  -999.0, -999.00,-999.0000,-999.000,-999.000
    316N145_10,  I07N,   796,  1,     32,     32,2,19950808,1300, 15.5117,  63.7687, 3863,   -999,    127.0,  22.7662,  36.0957,2,  36.0966,2,     80.3,2, 22.7405,     71.0,2,     9.08,2,    17.90,2,     0.03,2,     1.48,2,    1.593,2,    0.900,2, -999.000,9,-999.0000,9,  -999.00,9,   -999.0,9,  -999.00,9,-999.000,9,   -999.9,5,   2353.9,2,  -999.0, -999.00,-999.0000,-999.000,-999.000
    316N145_10,  I07N,   796,  1,     31,     31,2,19950808,1300, 15.5117,  63.7687, 3863,   -999,    156.8,  19.9230,  35.8631,2,  35.8552,2,      8.3,2, 19.8941,      7.8,2,    17.32,2,    24.48,2,     0.01,2,     2.17,2,    1.197,2,    0.678,2, -999.000,9,-999.0000,9,  -999.00,9,   -999.0,9,  -999.00,9,-999.000,9,   -999.9,5,   2340.0,2,  -999.0, -999.00,-999.0000,-999.000,-999.000
    316N145_10,  I07N,   796,  1,     30,     30,2,19950808,1300, 15.5117,  63.7687, 3863,   -999,    196.8,  17.6269,  35.7693,2,  35.7789,2,      1.4,2, 17.5936,      1.4,2,    23.26,2,    22.27,2,     0.23,2,     2.33,2,    0.773,2,    0.463,2, -999.000,9,-999.0000,9,  -999.00,9,   -999.0,9,  -999.00,9,-999.000,9,   -999.9,5,   2342.1,2,  -999.0, -999.00,-999.0000,-999.000,-999.000
    316N145_10,  I07N,   796,  1,     29,     29,2,19950808,1300, 15.5117,  63.7687, 3863,   -999,    247.0,  16.7880,  36.0719,2,  36.0725,2,      1.6,2, 16.7474,      2.9,2,    25.15,2,    22.36,2,     0.00,2,     2.31,2,    0.690,2,    0.419,2, -999.000,9,-999.0000,9,  -999.00,9,   -999.0,9,  -999.00,9,-999.000,9,   -999.9,5,   2354.3,2,  -999.0, -999.00,-999.0000,-999.000,-999.000
    316N145_10,  I07N,   796,  1,     28,     28,2,19950808,1300, 15.5117,  63.7687, 3863,   -999,    297.2,  15.2229,  35.9179,2,  35.9159,2,      1.8,2, 15.1771,      3.5,2,    28.39,2,    23.79,2,     0.00,2,     2.37,2,    0.524,2,    0.313,2, -999.000,9,-999.0000,9,  -999.00,9,   -999.0,9,  -999.00,9,-999.000,9,   -999.9,5,   2349.7,2,  -999.0, -999.00,-999.0000,-999.000,-999.000
    316N145_10,  I07N,   796,  1,     27,     27,2,19950808,1300, 15.5117,  63.7687, 3863,   -999,    347.6,  14.0045,  35.7902,2,  35.7871,2,      1.7,2, 13.9539,      0.9,2,    33.17,2,    20.53,2,     2.53,2,     2.51,2,    0.264,2,    0.176,2, -999.000,9,-999.0000,9,  -999.00,9,   -999.0,9,  -999.00,9,-999.000,9,   -999.9,5,   2349.8,2,  -999.0, -999.00,-999.0000,-999.000,-999.000
    316N145_10,  I07N,   796,  1,     26,     26,2,19950808,1300, 15.5117,  63.7687, 3863,   -999,    447.8,  12.7862,  35.7007,2,  35.7014,2,      1.8,2, 12.7244,      0.8,2,    39.09,2,    26.48,2,     0.09,2,     2.62,2,    0.151,2,    0.100,2, -999.000,9,-999.0000,9,  -999.00,9,   -999.0,9,  -999.00,9,-999.000,9,   -999.9,5,   2347.3,2,  -999.0, -999.00,-999.0000,-999.000,-999.000
    316N145_10,  I07N,   796,  1,     25,     25,2,19950808,1300, 15.5117,  63.7687, 3863,   -999,    548.4,  11.9935,  35.6477,2,  35.6466,2,      2.0,2, 11.9207,      1.3,2,    45.20,2,    28.25,2,     0.00,2,     2.68,2, -999.000,9, -999.000,9, -999.000,9,-999.0000,9,  -999.00,9,   -999.0,9,  -999.00,9,-999.000,9,   -999.9,5,   2351.6,2,  -999.0, -999.00,-999.0000,-999.000,-999.000
    316N145_10,  I07N,   796,  1,     24,     24,2,19950808,1300, 15.5117,  63.7687, 3863,   -999,    648.6,  11.1908,  35.6159,2,  35.6148,2,      3.6,2, 11.1079,      3.9,2,    53.23,2,    31.09,2,     0.00,2,     2.74,2,    0.073,2,    0.043,2, -999.000,9,-999.0000,9,  -999.00,9,   -999.0,9,  -999.00,9,-999.000,9,   -999.9,5,   2355.0,2,  -999.0, -999.00,-999.0000,-999.000,-999.000
    316N145_10,  I07N,   796,  1,     23,     23,2,19950808,1300, 15.5117,  63.7687, 3863,   -999,    748.3,  10.2236,  35.5111,2,  35.5114,2,      3.5,2, 10.1327,      4.0,2,    61.07,2,    33.53,2,     0.00,2,     2.83,2,    0.040,2,    0.023,2, -999.000,9,-999.0000,9,  -999.00,9,   -999.0,9,  -999.00,9,-999.000,9,   -999.9,5,   2359.4,2,  -999.0, -999.00,-999.0000,-999.000,-999.000
    316N145_10,  I07N,   796,  1,     22,     22,2,19950808,1300, 15.5117,  63.7687, 3863,   -999,    849.6,   9.5998,  35.4744,2,  35.4758,2,      5.2,2,  9.4999,      5.7,2,    67.38,2,    34.76,2,     0.00,2,     2.88,2,    0.031,2,    0.018,2, -999.000,9,-999.0000,9,  -999.00,9,   -999.0,9,  -999.00,9,-999.000,9,   -999.9,5,   2369.3,2,  -999.0, -999.00,-999.0000,-999.000,-999.000
    316N145_10,  I07N,   796,  1,     21,     21,2,19950808,1300, 15.5117,  63.7687, 3863,   -999,    950.2,   8.7675,  35.3868,2,  35.3881,2,      7.7,2,  8.6611,      7.9,2,    74.27,2,    36.17,2,     0.00,2,     2.94,2, -999.000,9, -999.000,9, -999.000,9,-999.0000,9,  -999.00,9,   -999.0,9,  -999.00,9,-999.000,9,   -999.9,5,   2371.5,2,  -999.0, -999.00,-999.0000,-999.000,-999.000
    316N145_10,  I07N,   796,  1,     20,     20,2,19950808,1300, 15.5117,  63.7687, 3863,   -999,   1051.7,   7.8671,  35.2785,2,  35.2832,2,     13.4,2,  7.7555,     12.5,2,    81.56,2,    37.22,2,     0.00,2,     3.00,2,    0.008,2,    0.004,2, -999.000,9,-999.0000,9,  -999.00,9,   -999.0,9,  -999.00,9,-999.000,9,   -999.9,5,   2374.6,2,  -999.0, -999.00,-999.0000,-999.000,-999.000
    316N145_10,  I07N,   796,  1,     19,     19,2,19950808,1300, 15.5117,  63.7687, 3863,   -999,   1186.1,   6.9831,  35.1958,2,  35.1965,2,     21.9,2,  6.8641,     22.6,2,    89.25,2,    37.65,2,     0.00,2,     3.00,2,    0.007,2,    0.003,2, -999.000,9,-999.0000,9,  -999.00,9,   -999.0,9,  -999.00,9,-999.000,9,   -999.9,5,   2382.4,2,  -999.0, -999.00,-999.0000,-999.000,-999.000
    316N145_10,  I07N,   796,  1,     18,     18,2,19950808,1300, 15.5117,  63.7687, 3863,   -999,   1288.9,   6.3372,  35.1301,2,  35.1334,2,     30.2,2,  6.2132,     31.0,2,    95.41,2,    37.74,2,     0.00,2,     3.00,2,    0.005,2,    0.001,2, -999.000,9,-999.0000,9,  -999.00,9,   -999.0,9,  -999.00,9,-999.000,9,   -999.9,5,   2387.8,2,  -999.0, -999.00,-999.0000,-999.000,-999.000
    316N145_10,  I07N,   796,  1,     17,     17,2,19950808,1300, 15.5117,  63.7687, 3863,   -999,   1388.5,   5.6568,  35.0616,2,  35.0649,2,     38.3,2,  5.5294,     39.4,2,   102.38,2,    37.89,2,     0.00,2,     3.00,2,    0.002,2,    0.004,2, -999.000,9,-999.0000,9,  -999.00,9,   -999.0,9,  -999.00,9,-999.000,9,   -999.9,5,   2396.3,2,  -999.0, -999.00,-999.0000,-999.000,-999.000
    316N145_10,  I07N,   796,  1,     16,     16,2,19950808,1300, 15.5117,  63.7687, 3863,   -999,   1490.7,   5.0291,  35.0069,2,  35.0087,2,     47.1,2,  4.8983,     48.6,2,   109.96,2,    37.94,2,     0.00,2,     2.99,2,   -0.001,2,    0.001,2, -999.000,9,-999.0000,9,  -999.00,9,   -999.0,9,  -999.00,9,-999.000,9,   -999.9,5,   2404.4,2,  -999.0, -999.00,-999.0000,-999.000,-999.000
    316N145_10,  I07N,   796,  1,     15,     15,2,19950808,1300, 15.5117,  63.7687, 3863,   -999,   1590.8,   4.4095,  34.9500,2,  34.9510,2,     59.5,2,  4.2762,     59.8,2,   116.21,2,    37.80,2,     0.00,2,     2.96,2, -999.000,9, -999.000,9, -999.000,9,-999.0000,9,  -999.00,9,   -999.0,9,  -999.00,9,-999.000,9,   -999.9,5,   2411.9,2,  -999.0, -999.00,-999.0000,-999.000,-999.000
    316N145_10,  I07N,   796,  1,     14,     14,2,19950808,1300, 15.5117,  63.7687, 3863,   -999,   1691.8,   3.9115,  34.9036,2,  34.9054,2,     71.9,2,  3.7750,     70.6,2,   121.11,2,    37.56,2,     0.00,2,     2.91,2,   -0.002,2,   -0.002,2, -999.000,9,-999.0000,9,  -999.00,9,   -999.0,9,  -999.00,9,-999.000,9,   -999.9,5,   2408.8,2,  -999.0, -999.00,-999.0000,-999.000,-999.000
    316N145_10,  I07N,   796,  1,     13,     13,2,19950808,1300, 15.5117,  63.7687, 3863,   -999,   1792.5,   3.5060,  34.8689,2,  34.8698,2,     80.7,2,  3.3655,     81.3,2,   125.38,2,    37.32,2,     0.00,2,     2.85,2,    0.003,2,    0.003,2, -999.000,9,-999.0000,9,  -999.00,9,   -999.0,9,  -999.00,9,-999.000,9,   -999.9,5,   2418.9,2,  -999.0, -999.00,-999.0000,-999.000,-999.000
    316N145_10,  I07N,   796,  1,     12,     12,2,19950808,1300, 15.5117,  63.7687, 3863,   -999,   1996.5,   2.9377,  34.8251,2,  34.8284,3,     96.3,2,  2.7869,     94.9,2,   131.51,2,    36.94,2,     0.00,2,     2.79,2, -999.000,9, -999.000,9, -999.000,9,-999.0000,9,  -999.00,9,   -999.0,9,  -999.00,9,-999.000,9,   -999.9,5,   2424.2,2,  -999.0, -999.00,-999.0000,-999.000,-999.000
    316N145_10,  I07N,   796,  1,     11,     11,2,19950808,1300, 15.5117,  63.7687, 3863,   -999,   2198.2,   2.5280,  34.7953,2,  34.7960,2,    106.7,2,  2.3654,    105.4,2,   135.97,2,    36.57,2,     0.00,2,     2.74,2,   -0.002,2,   -0.003,2, -999.000,9,-999.0000,9,  -999.00,9,   -999.0,9,  -999.00,9,-999.000,9,   -999.9,5,   2431.6,2,  -999.0, -999.00,-999.0000,-999.000,-999.000
    316N145_10,  I07N,   796,  1,     10,     10,9,19950808,1300, 15.5117,  63.7687, 3863,   -999,   2396.6,   2.2490,  34.7751,2,-999.0000,9,    116.1,2,  2.0733,   -999.0,9,  -999.00,9,  -999.00,9,  -999.00,9,  -999.00,9, -999.000,9, -999.000,9, -999.000,9,-999.0000,9,  -999.00,9,   -999.0,9,  -999.00,9,-999.000,9,   -999.9,9,   -999.9,9,  -999.0, -999.00,-999.0000,-999.000,-999.000
    316N145_10,  I07N,   796,  1,      9,      9,2,19950808,1300, 15.5117,  63.7687, 3863,   -999,   2598.1,   2.0148,  34.7593,2,  34.7585,2,    122.2,2,  1.8249,    120.3,2,   141.40,2,    36.14,2,     0.00,2,     2.66,2, -999.000,9, -999.000,9, -999.000,9,-999.0000,9,  -999.00,9,   -999.0,9,  -999.00,9,-999.000,9,   2346.0,2,   2426.4,3,  -999.0, -999.00,-999.0000,-999.000,-999.000
    316N145_10,  I07N,   796,  1,      8,      8,2,19950808,1300, 15.5117,  63.7687, 3863,   -999,   2698.8,   1.9347,  34.7533,2,  34.7534,2,    126.7,2,  1.7369,    125.2,2,   141.14,2,    35.95,2,     0.00,2,     2.64,2, -999.000,9, -999.000,9, -999.000,9,-999.0000,9,  -999.00,9,   -999.0,9,  -999.00,9,-999.000,9,   -999.9,5,   2440.5,2,  -999.0, -999.00,-999.0000,-999.000,-999.000
    316N145_10,  I07N,   796,  1,      7,      7,2,19950808,1300, 15.5117,  63.7687, 3863,   -999,   3000.3,   1.7806,  34.7435,2,  34.7438,2,    133.6,2,  1.5573,    132.9,2,   141.69,2,    35.67,2,     0.00,2,     2.60,2, -999.000,9, -999.000,9, -999.000,9,-999.0000,9,  -999.00,9,   -999.0,9,  -999.00,9,-999.000,9,   2341.8,2,   2451.4,2,  -999.0, -999.00,-999.0000,-999.000,-999.000
    316N145_10,  I07N,   796,  1,      6,      6,2,19950808,1300, 15.5117,  63.7687, 3863,   -999,   3201.5,   1.7411,  34.7412,2,  34.7392,2,    135.1,2,  1.4990,    134.9,2,   142.04,2,    35.67,2,     0.00,2,     2.58,2, -999.000,9, -999.000,9, -999.000,9,-999.0000,9,  -999.00,9,   -999.0,9,  -999.00,9,-999.000,9,   -999.9,5,   2448.3,2,  -999.0, -999.00,-999.0000,-999.000,-999.000
    316N145_10,  I07N,   796,  1,      5,      5,2,19950808,1300, 15.5117,  63.7687, 3863,   -999,   3399.5,   1.7173,  34.7371,2,  34.7371,2,    138.3,2,  1.4558,    138.5,2,   141.57,2,    35.57,2,     0.00,2,     2.56,2, -999.000,9, -999.000,9, -999.000,9,-999.0000,9,  -999.00,9,   -999.0,9,  -999.00,9,-999.000,9,   2350.4,2,   2453.8,2,  -999.0, -999.00,-999.0000,-999.000,-999.000
    316N145_10,  I07N,   796,  1,      4,      4,2,19950808,1300, 15.5117,  63.7687, 3863,   -999,   3599.8,   1.7058,  34.7362,2,  34.7361,2,    140.5,2,  1.4239,    141.1,2,   140.90,2,    35.48,2,     0.00,2,     2.56,2, -999.000,9, -999.000,9, -999.000,9,-999.0000,9,  -999.00,9,   -999.0,9,  -999.00,9,-999.000,9,   -999.9,5,   2447.3,2,  -999.0, -999.00,-999.0000,-999.000,-999.000
    316N145_10,  I07N,   796,  1,      3,      3,2,19950808,1300, 15.5117,  63.7687, 3863,   -999,   3801.1,   1.7112,  34.7366,2,  34.7349,2,    133.2,2,  1.4078,    132.8,2,   144.11,2,    36.05,2,     0.00,2,     2.59,2, -999.000,9, -999.000,9, -999.000,9,-999.0000,9,  -999.00,9,   -999.0,9,  -999.00,9,-999.000,9,   2356.6,2,   2472.6,2,  -999.0, -999.00,-999.0000,-999.000,-999.000
    316N145_10,  I07N,   796,  1,      2,      2,2,19950808,1300, 15.5117,  63.7687, 3863,   -999,   3888.3,   1.7136,  34.7352,2,  34.7347,2,    127.5,2,  1.4007,    127.5,2,   147.75,2,    36.38,2,     0.00,2,     2.63,2, -999.000,9, -999.000,9, -999.000,9,-999.0000,9,  -999.00,9,   -999.0,9,  -999.00,9,-999.000,9,   -999.9,5,   2477.9,2,  -999.0, -999.00,-999.0000,-999.000,-999.000
    316N145_10,  I07N,   796,  1,      1,      1,2,19950808,1300, 15.5117,  63.7687, 3863,   -999,   3916.5,   1.7170,  34.7359,2,  34.7349,2,    125.9,2,  1.4009,    127.1,2,   148.31,2,    36.42,2,     0.00,2,     2.63,2, -999.000,9, -999.000,9, -999.000,9,-999.0000,9,  -999.00,9,   -999.0,9,  -999.00,9,-999.000,9,   -999.9,5,   2476.6,2,  -999.0, -999.00,-999.0000,-999.000,-999.000