BOTTLE,20080821WHPSIOSCD
EXPOCODE,SECT_ID,STNNBR,CASTNO,SAMPNO,BTLNBR,BTLNBR_FLAG_W,DATE,TIME,LATITUDE,LONGITUDE,DEPTH,CTDRAW,CTDPRS,CTDTMP,CTDSAL,CTDSAL_FLAG_W,SALNTY,SALNTY_FLAG_W,CTDOXY,CTDOXY_FLAG_W,THETA,OXYGEN,OXYGEN_FLAG_W,SILCAT,SILCAT_FLAG_W,NITRAT,NITRAT_FLAG_W,NITRIT,NITRIT_FLAG_W,PHSPHT,PHSPHT_FLAG_W,CFC-11,CFC-11_FLAG_W,CFC-12,CFC-12_FLAG_W,TRITUM,TRITUM_FLAG_W,HELIUM,HELIUM_FLAG_W,DELHE3,DELHE3_FLAG_W,DELC14,DELC14_FLAG_W,DELC13,DELC13_FLAG_W,NEON,NEON_FLAG_W,TCARBN,TCARBN_FLAG_W,ALKALI,ALKALI_FLAG_W,C14ERR,DELHER,HELIER,NEONER,TRITER
,,,,,,,,,,,,,DBAR,ITS-90,PSS-78,,PSS-78,,UMOL/KG,,DEG C,UMOL/KG,,UMOL/KG,,UMOL/KG,,UMOL/KG,,UMOL/KG,,PMOL/KG,,PMOL/KG,,TU,,NMOL/KG,,PERCNT,,/MILLE,,/MILLE,,NMOL/KG,,UMOL/KG,,UMOL/KG,,/MILLE,PERCNT,NMOL/KG,NMOL/KG,TU
    316N145_10,  I07N,   736,  1,     18,     18,2,19950723,0218, -8.3755,  52.6263, 5139,   -999,      9.0,  26.2537,  35.1716,2,  35.1710,2,    206.9,2, 26.2519,    199.5,2,     3.62,2,     0.93,2,     0.03,2,     0.23,2, -999.000,9, -999.000,9, -999.000,9,-999.0000,9,  -999.00,9,   -999.0,9,  -999.00,9,-999.000,9,   1975.7,2,   2305.1,2,  -999.0, -999.00,-999.0000,-999.000,-999.000
    316N145_10,  I07N,   736,  1,     17,     17,2,19950723,0218, -8.3755,  52.6263, 5139,   -999,     31.3,  26.2468,  35.1725,2,  35.1710,2,    194.9,2, 26.2400,    199.0,2,     3.43,2,     0.89,2,     0.04,2,     0.23,2, -999.000,9, -999.000,9, -999.000,9,-999.0000,9,  -999.00,9,   -999.0,9,  -999.00,9,-999.000,9,   1975.4,2,   2302.0,2,  -999.0, -999.00,-999.0000,-999.000,-999.000
    316N145_10,  I07N,   736,  1,     16,     16,2,19950723,0218, -8.3755,  52.6263, 5139,   -999,     59.8,  18.8607,  35.1334,2,  35.1350,2,    100.8,2, 18.8503,    100.6,2,    14.72,2,    15.86,2,     0.36,2,     1.16,2, -999.000,9, -999.000,9, -999.000,9,-999.0000,9,  -999.00,9,   -999.0,9,  -999.00,9,-999.000,9,   2119.9,2,   2308.1,2,  -999.0, -999.00,-999.0000,-999.000,-999.000
    316N145_10,  I07N,   736,  1,     15,     15,2,19950723,0218, -8.3755,  52.6263, 5139,   -999,     91.1,  16.9622,  35.1288,2,  35.1280,2,     88.9,2, 16.9474,     91.4,2,    17.45,2,    18.95,2,     0.01,2,     1.34,2, -999.000,9, -999.000,9, -999.000,9,-999.0000,9,  -999.00,9,   -999.0,9,  -999.00,9,-999.000,9,   2143.5,2,   2308.5,2,  -999.0, -999.00,-999.0000,-999.000,-999.000
    316N145_10,  I07N,   736,  1,     14,     14,2,19950723,0218, -8.3755,  52.6263, 5139,   -999,    119.9,  16.2786,  35.1263,2,  35.1250,2,     93.1,2, 16.2596,     93.6,2,    18.11,2,    19.40,2,     0.00,2,     1.37,2, -999.000,9, -999.000,9, -999.000,9,-999.0000,9,  -999.00,9,   -999.0,9,  -999.00,9,-999.000,9,   2150.4,2,   2310.1,2,  -999.0, -999.00,-999.0000,-999.000,-999.000
    316N145_10,  I07N,   736,  1,     13,     13,2,19950723,0218, -8.3755,  52.6263, 5139,   -999,    150.6,  14.4673,  35.1296,2,  35.1290,2,    107.9,2, 14.4453,    108.4,2,    18.10,2,    19.58,2,     0.00,2,     1.39,2, -999.000,9, -999.000,9, -999.000,9,-999.0000,9,  -999.00,9,   -999.0,9,  -999.00,9,-999.000,9,   2158.0,2,   2313.5,2,  -999.0, -999.00,-999.0000,-999.000,-999.000
    316N145_10,  I07N,   736,  1,     12,     12,2,19950723,0218, -8.3755,  52.6263, 5139,   -999,    200.0,  13.2339,  35.0917,2,  35.0920,2,    119.1,2, 13.2062,    119.2,2,    18.25,2,    19.94,2,     0.00,2,     1.41,2, -999.000,9, -999.000,9, -999.000,9,-999.0000,9,  -999.00,9,   -999.0,9,  -999.00,9,-999.000,9,   2162.2,2,   2315.7,2,  -999.0, -999.00,-999.0000,-999.000,-999.000
    316N145_10,  I07N,   736,  1,     11,     11,2,19950723,0218, -8.3755,  52.6263, 5139,   -999,    299.5,  11.5927,  34.9916,2,  34.9930,2,    127.8,2, 11.5545,    129.6,2,    19.78,2,    21.31,2,     0.00,2,     1.49,2, -999.000,9, -999.000,9, -999.000,9,-999.0000,9,  -999.00,9,   -999.0,9,  -999.00,9,-999.000,9,   2170.3,2,   2313.7,2,  -999.0, -999.00,-999.0000,-999.000,-999.000
    316N145_10,  I07N,   736,  1,     10,     10,2,19950723,0218, -8.3755,  52.6263, 5139,   -999,    400.8,  10.5494,  34.9095,2,  34.9110,2,    132.6,2, 10.5010,    130.5,2,    22.84,2,    23.22,2,     0.00,2,     1.62,2, -999.000,9, -999.000,9, -999.000,9,-999.0000,9,  -999.00,9,   -999.0,9,  -999.00,9,-999.000,9,   2180.3,2,   2312.3,2,  -999.0, -999.00,-999.0000,-999.000,-999.000
    316N145_10,  I07N,   736,  1,      9,      9,2,19950723,0218, -8.3755,  52.6263, 5139,   -999,    500.3,   9.4290,  34.8302,2,  34.8300,2,    126.6,2,  9.3724,    124.8,2,    29.85,2,    26.02,2,     0.00,2,     1.83,2, -999.000,9, -999.000,9, -999.000,9,-999.0000,9,  -999.00,9,   -999.0,9,  -999.00,9,-999.000,9,   2194.1,2,   2317.6,2,  -999.0, -999.00,-999.0000,-999.000,-999.000
    316N145_10,  I07N,   736,  1,      8,      8,2,19950723,0218, -8.3755,  52.6263, 5139,   -999,    599.2,   8.6552,  34.8050,2,  34.8070,2,    118.8,2,  8.5904,    113.5,2,    38.56,2,    28.39,2,     0.00,2,     2.03,2, -999.000,9, -999.000,9, -999.000,9,-999.0000,9,  -999.00,9,   -999.0,9,  -999.00,9,-999.000,9,   2214.1,2,   2321.8,2,  -999.0, -999.00,-999.0000,-999.000,-999.000
    316N145_10,  I07N,   736,  1,      7,      7,2,19950723,0218, -8.3755,  52.6263, 5139,   -999,    699.5,   8.1610,  34.8234,2,  34.8240,2,     92.5,2,  8.0874,     93.9,2,    48.83,2,    31.03,2,     0.00,2,     2.25,2, -999.000,9, -999.000,9, -999.000,9,-999.0000,9,  -999.00,9,   -999.0,9,  -999.00,9,-999.000,9,   2238.0,2,   2331.7,2,  -999.0, -999.00,-999.0000,-999.000,-999.000
    316N145_10,  I07N,   736,  1,      6,      6,2,19950723,0218, -8.3755,  52.6263, 5139,   -999,    800.3,   7.6639,  34.8223,2,  34.8220,2,     91.3,2,  7.5821,     89.6,2,    55.85,2,    32.16,2,     0.00,2,     2.35,2, -999.000,9, -999.000,9, -999.000,9,-999.0000,9,  -999.00,9,   -999.0,9,  -999.00,9,-999.000,9,   2249.9,2,   2337.8,2,  -999.0, -999.00,-999.0000,-999.000,-999.000
    316N145_10,  I07N,   736,  1,      5,      5,2,19950723,0218, -8.3755,  52.6263, 5139,   -999,    900.7,   6.9772,  34.8352,2,  34.8350,2,     81.7,2,  6.8891,     82.2,2,    67.19,2,    33.69,2,     0.00,2,     2.51,2, -999.000,9, -999.000,9, -999.000,9,-999.0000,9,  -999.00,9,   -999.0,9,  -999.00,9,-999.000,9,   2268.8,2,   -999.9,5,  -999.0, -999.00,-999.0000,-999.000,-999.000
    316N145_10,  I07N,   736,  1,      4,      4,2,19950723,0218, -8.3755,  52.6263, 5139,   -999,    999.3,   6.3993,  34.8311,2,  34.8320,2,     81.5,2,  6.3051,     80.0,2,    76.15,2,    34.55,2,     0.00,2,     2.56,2, -999.000,9, -999.000,9, -999.000,9,-999.0000,9,  -999.00,9,   -999.0,9,  -999.00,9,-999.000,9,   2279.5,2,   -999.9,5,  -999.0, -999.00,-999.0000,-999.000,-999.000
    316N145_10,  I07N,   736,  1,      3,      3,2,19950723,0218, -8.3755,  52.6263, 5139,   -999,   1098.5,   5.3567,  34.7823,2,  34.7820,2,     90.7,2,  5.2611,     92.6,2,    86.56,2,    34.88,2,     0.00,2,     2.58,2, -999.000,9, -999.000,9, -999.000,9,-999.0000,9,  -999.00,9,   -999.0,9,  -999.00,9,-999.000,9,   2288.3,2,   -999.9,5,  -999.0, -999.00,-999.0000,-999.000,-999.000
    316N145_10,  I07N,   736,  1,      2,      2,2,19950723,0218, -8.3755,  52.6263, 5139,   -999,   1247.9,   4.6896,  34.7669,2,  34.7670,2,     98.9,2,  4.5859,     98.7,2,    94.92,2,    35.20,2,     0.00,2,     2.60,2, -999.000,9, -999.000,9, -999.000,9,-999.0000,9,  -999.00,9,   -999.0,9,  -999.00,9,-999.000,9,   2295.9,2,   -999.9,5,  -999.0, -999.00,-999.0000,-999.000,-999.000
    316N145_10,  I07N,   736,  1,      1,      1,2,19950723,0218, -8.3755,  52.6263, 5139,   -999,   1498.4,   3.6109,  34.7282,2,  34.7280,2,    124.7,2,  3.4959,    131.2,2,    97.00,2,    33.98,2,     0.00,2,     2.48,2, -999.000,9, -999.000,9, -999.000,9,-999.0000,9,  -999.00,9,   -999.0,9,  -999.00,9,-999.000,9,   2284.9,2,   -999.9,5,  -999.0, -999.00,-999.0000,-999.000,-999.000
    316N145_10,  I07N,   736,  1,     36,     36,2,19950723,0218, -8.3755,  52.6263, 5139,   -999,   1728.5,   2.9655,  34.7513,2,  34.7510,2,    133.8,2,  2.8383,    136.9,2,   110.40,2,    33.98,2,     0.00,2,     2.47,2,    0.001,2,   -0.001,2, -999.000,9,-999.0000,9,  -999.00,9,   -999.0,9,  -999.00,9,-999.000,9,   2298.4,2,   2391.8,2,  -999.0, -999.00,-999.0000,-999.000,-999.000
    316N145_10,  I07N,   736,  1,     35,     35,2,19950723,0218, -8.3755,  52.6263, 5139,   -999,   1947.4,   2.5834,  34.7472,2,  34.7460,2,    144.8,2,  2.4424,    144.7,2,   115.37,2,    33.81,2,     0.00,2,     2.43,2,   -0.001,2,    0.005,2, -999.000,9,-999.0000,9,  -999.00,9,   -999.0,9,  -999.00,9,-999.000,9,   2294.6,2,   2395.1,2,  -999.0, -999.00,-999.0000,-999.000,-999.000
    316N145_10,  I07N,   736,  1,     34,     34,2,19950723,0218, -8.3755,  52.6263, 5139,   -999,   2173.5,   2.3033,  34.7494,2,  34.7490,2,    148.3,2,  2.1468,    149.5,2,   119.81,2,    33.68,2,     0.00,2,     2.43,2,    0.002,2,    0.008,3, -999.000,9,-999.0000,9,  -999.00,9,   -999.0,9,  -999.00,9,-999.000,9,   2303.5,2,   2402.3,2,  -999.0, -999.00,-999.0000,-999.000,-999.000
    316N145_10,  I07N,   736,  1,     33,     33,2,19950723,0218, -8.3755,  52.6263, 5139,   -999,   2400.5,   2.0715,  34.7450,2,  34.7450,2,    153.8,2,  1.8987,    153.8,2,   124.65,2,    33.72,2,     0.00,2,     2.42,2,    0.000,2,   -0.001,2, -999.000,9,-999.0000,9,  -999.00,9,   -999.0,9,  -999.00,9,-999.000,9,   2305.6,2,   2404.9,2,  -999.0, -999.00,-999.0000,-999.000,-999.000
    316N145_10,  I07N,   736,  1,     32,     32,2,19950723,0218, -8.3755,  52.6263, 5139,   -999,   2616.5,   1.9607,  34.7437,2,  34.7470,3,    155.8,2,  1.7701,    155.6,2,   127.15,2,    33.68,2,     0.00,2,     2.42,2,    0.004,2,   -0.003,2, -999.000,9,-999.0000,9,  -999.00,9,   -999.0,9,  -999.00,9,-999.000,9,   2306.0,2,   2409.8,2,  -999.0, -999.00,-999.0000,-999.000,-999.000
    316N145_10,  I07N,   736,  1,     31,     31,2,19950723,0218, -8.3755,  52.6263, 5139,   -999,   2843.3,   1.8817,  34.7413,2,  34.7410,2,    159.0,2,  1.6714,    158.2,2,   127.83,2,    33.69,2,     0.00,2,     2.40,2,   -0.003,2,   -0.003,2, -999.000,9,-999.0000,9,  -999.00,9,   -999.0,9,  -999.00,9,-999.000,9,   2307.3,2,   2412.9,2,  -999.0, -999.00,-999.0000,-999.000,-999.000
    316N145_10,  I07N,   736,  1,     30,     30,2,19950723,0218, -8.3755,  52.6263, 5139,   -999,   3073.9,   1.8115,  34.7379,2,  34.7360,2,    161.1,2,  1.5805,    161.2,2,   129.43,2,    33.51,2,     0.00,2,     2.39,2,    0.000,2,    0.007,3, -999.000,9,-999.0000,9,  -999.00,9,   -999.0,9,  -999.00,9,-999.000,9,   2304.9,2,   2409.9,2,  -999.0, -999.00,-999.0000,-999.000,-999.000
    316N145_10,  I07N,   736,  1,     29,     29,2,19950723,0218, -8.3755,  52.6263, 5139,   -999,   3298.9,   1.7382,  34.7350,2,  34.7330,2,    164.7,2,  1.4864,    164.2,2,   130.49,2,    33.43,2,     0.00,2,     2.40,2,   -0.001,2,    0.002,2, -999.000,9,-999.0000,9,  -999.00,9,   -999.0,9,  -999.00,9,-999.000,9,   2305.2,2,   2409.6,2,  -999.0, -999.00,-999.0000,-999.000,-999.000
    316N145_10,  I07N,   736,  1,     28,     28,2,19950723,0218, -8.3755,  52.6263, 5139,   -999,   3522.5,   1.6512,  34.7313,2,  34.7300,2,    168.5,2,  1.3788,    168.6,2,   130.63,2,    33.29,2,     0.00,2,     2.36,2,    0.002,2,    0.004,2, -999.000,9,-999.0000,9,  -999.00,9,   -999.0,9,  -999.00,9,-999.000,9,   2302.1,2,   2409.3,2,  -999.0, -999.00,-999.0000,-999.000,-999.000
    316N145_10,  I07N,   736,  1,     27,     27,2,19950723,0218, -8.3755,  52.6263, 5139,   -999,   3749.9,   1.6017,  34.7294,2,  34.7280,2,    171.5,2,  1.3068,    171.2,2,   130.59,2,    33.12,2,     0.00,2,     2.34,2,   -0.001,2,   -0.001,2, -999.000,9,-999.0000,9,  -999.00,9,   -999.0,9,  -999.00,9,-999.000,9,   2300.3,2,   2404.3,2,  -999.0, -999.00,-999.0000,-999.000,-999.000
    316N145_10,  I07N,   736,  1,     26,     26,2,19950723,0218, -8.3755,  52.6263, 5139,   -999,   3973.3,   1.5709,  34.7274,2,  34.7260,2,    174.2,2,  1.2527,    174.2,2,   130.19,2,    33.08,2,     0.00,2,     2.33,2,    0.004,2,    0.001,2, -999.000,9,-999.0000,9,  -999.00,9,   -999.0,9,  -999.00,9,-999.000,9,   2296.9,2,   2407.0,2,  -999.0, -999.00,-999.0000,-999.000,-999.000
    316N145_10,  I07N,   736,  1,     25,     25,2,19950723,0218, -8.3755,  52.6263, 5139,   -999,   4146.5,   1.3279,  34.7190,2,  34.7170,2,    185.2,2,  0.9978,    187.7,2,   127.97,2,    32.40,2,     0.00,2,     2.28,2,    0.001,2,    0.005,2, -999.000,9,-999.0000,9,  -999.00,9,   -999.0,9,  -999.00,9,-999.000,9,   2285.0,2,   2378.5,3,  -999.0, -999.00,-999.0000,-999.000,-999.000
    316N145_10,  I07N,   736,  1,     24,     24,2,19950723,0218, -8.3755,  52.6263, 5139,   -999,   4372.5,   1.2703,  34.7167,2,  34.7150,2,    190.5,2,  0.9168,    191.6,2,   127.21,2,    32.23,2,     0.00,2,     2.27,2,    0.002,2,    0.007,3, -999.000,9,-999.0000,9,  -999.00,9,   -999.0,9,  -999.00,9,-999.000,9,   2282.0,2,   2390.8,2,  -999.0, -999.00,-999.0000,-999.000,-999.000
    316N145_10,  I07N,   736,  1,     23,     23,2,19950723,0218, -8.3755,  52.6263, 5139,   -999,   4724.7,   1.2078,  34.7126,2,  34.7110,2,    196.8,2,  0.8160,    197.3,2,   125.72,2,    31.96,2,     0.00,2,     2.23,2,   -0.001,2,   -0.001,2, -999.000,9,-999.0000,9,  -999.00,9,   -999.0,9,  -999.00,9,-999.000,9,   2276.0,2,   2384.7,2,  -999.0, -999.00,-999.0000,-999.000,-999.000
    316N145_10,  I07N,   736,  1,     22,     22,2,19950723,0218, -8.3755,  52.6263, 5139,   -999,   4796.2,   1.2143,  34.7133,2,  34.7110,2,    197.2,2,  0.8139,    196.8,2,   125.86,2,    31.96,2,     0.00,2,     2.24,2,    0.000,2,   -0.003,2, -999.000,9,-999.0000,9,  -999.00,9,   -999.0,9,  -999.00,9,-999.000,9,   2275.6,2,   2383.9,2,  -999.0, -999.00,-999.0000,-999.000,-999.000
    316N145_10,  I07N,   736,  1,     21,     21,2,19950723,0218, -8.3755,  52.6263, 5139,   -999,   4970.0,   1.2284,  34.7130,2,  34.7110,2,    198.3,2,  0.8069,    197.7,2,   125.64,2,    31.97,2,     0.00,2,     2.24,2,    0.000,2,   -0.002,2, -999.000,9,-999.0000,9,  -999.00,9,   -999.0,9,  -999.00,9,-999.000,9,   2275.1,2,   2384.8,2,  -999.0, -999.00,-999.0000,-999.000,-999.000
    316N145_10,  I07N,   736,  1,     20,     20,2,19950723,0218, -8.3755,  52.6263, 5139,   -999,   5180.5,   1.2491,  34.7130,2,  34.7110,2,    198.2,2,  0.8014,    197.7,2,   125.42,2,    31.93,2,     0.00,2,     2.23,2,    0.002,2,   -0.003,2, -999.000,9,-999.0000,9,  -999.00,9,   -999.0,9,  -999.00,9,-999.000,9,   2275.6,2,   2383.2,2,  -999.0, -999.00,-999.0000,-999.000,-999.000
    316N145_10,  I07N,   736,  1,     19,     19,2,19950723,0218, -8.3755,  52.6263, 5139,   -999,   5226.8,   1.2547,  34.7124,2,  34.7130,2,    198.1,2,  0.8011,    197.7,2,   125.38,2,    31.89,2,     0.00,2,     2.23,2,    0.005,2,   -0.003,2, -999.000,9,-999.0000,9,  -999.00,9,   -999.0,9,  -999.00,9,-999.000,9,   2273.5,2,   2384.2,2,  -999.0, -999.00,-999.0000,-999.000,-999.000