BOTTLE,20080821WHPSIOSCD
EXPOCODE,SECT_ID,STNNBR,CASTNO,SAMPNO,BTLNBR,BTLNBR_FLAG_W,DATE,TIME,LATITUDE,LONGITUDE,DEPTH,CTDRAW,CTDPRS,CTDTMP,CTDSAL,CTDSAL_FLAG_W,SALNTY,SALNTY_FLAG_W,CTDOXY,CTDOXY_FLAG_W,THETA,OXYGEN,OXYGEN_FLAG_W,SILCAT,SILCAT_FLAG_W,NITRAT,NITRAT_FLAG_W,NITRIT,NITRIT_FLAG_W,PHSPHT,PHSPHT_FLAG_W,CFC-11,CFC-11_FLAG_W,CFC-12,CFC-12_FLAG_W,TRITUM,TRITUM_FLAG_W,HELIUM,HELIUM_FLAG_W,DELHE3,DELHE3_FLAG_W,DELC14,DELC14_FLAG_W,DELC13,DELC13_FLAG_W,NEON,NEON_FLAG_W,TCARBN,TCARBN_FLAG_W,ALKALI,ALKALI_FLAG_W,C14ERR,DELHER,HELIER,NEONER,TRITER
,,,,,,,,,,,,,DBAR,ITS-90,PSS-78,,PSS-78,,UMOL/KG,,DEG C,UMOL/KG,,UMOL/KG,,UMOL/KG,,UMOL/KG,,UMOL/KG,,PMOL/KG,,PMOL/KG,,TU,,NMOL/KG,,PERCNT,,/MILLE,,/MILLE,,NMOL/KG,,UMOL/KG,,UMOL/KG,,/MILLE,PERCNT,NMOL/KG,NMOL/KG,TU
    316N145_10,  I07N,   783,  1,     36,     36,2,19950805,0629,  9.1963,  63.9295, 4506,   -999,      9.3,  27.8844,  36.4989,2,  36.5002,2,    196.9,2, 27.8825,    195.9,2,     2.14,2,     0.01,2,     0.00,2,     0.29,2,    1.628,2,    0.930,2, -999.000,9,-999.0000,9,  -999.00,9,   -999.0,9,  -999.00,9,-999.000,9,   2020.0,2,   2381.9,2,  -999.0, -999.00,-999.0000,-999.000,-999.000
    316N145_10,  I07N,   783,  1,     35,     35,2,19950805,0629,  9.1963,  63.9295, 4506,   -999,     47.6,  27.7090,  36.4939,2,  36.4939,2,    197.6,2, 27.6981,    195.4,2,     2.12,2,     0.02,2,     0.00,2,     0.29,2, -999.000,9, -999.000,9, -999.000,9,-999.0000,9,  -999.00,9,   -999.0,9,  -999.00,9,-999.000,9,   -999.9,9,   -999.9,9,  -999.0, -999.00,-999.0000,-999.000,-999.000
    316N145_10,  I07N,   783,  1,     34,     34,2,19950805,0629,  9.1963,  63.9295, 4506,   -999,     90.0,  27.6340,  36.4886,2,  36.4909,2,    195.6,2, 27.6131,    189.7,2,     2.10,2,     0.33,2,     0.18,2,     0.33,2,    1.624,2,    0.928,2, -999.000,9,-999.0000,9,  -999.00,9,   -999.0,9,  -999.00,9,-999.000,9,   -999.9,9,   -999.9,9,  -999.0, -999.00,-999.0000,-999.000,-999.000
    316N145_10,  I07N,   783,  1,     33,     33,2,19950805,0629,  9.1963,  63.9295, 4506,   -999,    119.9,  23.9323,  36.0284,2,  35.9781,2,     89.6,2, 23.9072,     74.6,2,     8.48,2,    17.19,2,     0.03,2,     1.38,2, -999.000,9, -999.000,9, -999.000,9,-999.0000,9,  -999.00,9,   -999.0,9,  -999.00,9,-999.000,9,   -999.9,9,   -999.9,9,  -999.0, -999.00,-999.0000,-999.000,-999.000
    316N145_10,  I07N,   783,  1,     32,     32,2,19950805,0629,  9.1963,  63.9295, 4506,   -999,    149.6,  19.0885,  35.5953,2,  35.5956,2,     13.3,2, 19.0619,      8.6,2,    18.05,2,    25.50,2,     0.01,2,     2.10,2,    1.039,2,    0.579,2, -999.000,9,-999.0000,9,  -999.00,9,   -999.0,9,  -999.00,9,-999.000,9,   -999.9,9,   -999.9,9,  -999.0, -999.00,-999.0000,-999.000,-999.000
    316N145_10,  I07N,   783,  1,     31,     31,2,19950805,0629,  9.1963,  63.9295, 4506,   -999,    179.7,  16.4015,  35.3528,2,  35.3353,2,      6.8,2, 16.3727,     11.0,2,    23.48,2,    27.08,2,     0.00,2,     2.19,2,    0.670,2,    0.382,2, -999.000,9,-999.0000,9,  -999.00,9,   -999.0,9,  -999.00,9,-999.000,9,   -999.9,9,   -999.9,9,  -999.0, -999.00,-999.0000,-999.000,-999.000
    316N145_10,  I07N,   783,  1,     30,     30,2,19950805,0629,  9.1963,  63.9295, 4506,   -999,    210.2,  14.7084,  35.2881,2,  35.3087,2,     22.3,2, 14.6771,     31.1,2,    23.46,2,    26.59,2,     0.00,2,     2.08,2,    0.691,2,    0.372,2, -999.000,9,-999.0000,9,  -999.00,9,   -999.0,9,  -999.00,9,-999.000,9,   -999.9,9,   -999.9,9,  -999.0, -999.00,-999.0000,-999.000,-999.000
    316N145_10,  I07N,   783,  1,     29,     29,2,19950805,0629,  9.1963,  63.9295, 4506,   -999,    276.0,  13.1029,  35.2609,2,  35.2772,2,     43.5,2, 13.0647,     42.7,2,    25.32,2,    27.28,2,     0.00,2,     2.07,2,    0.592,2,    0.318,2, -999.000,9,-999.0000,9,  -999.00,9,   -999.0,9,  -999.00,9,-999.000,9,   -999.9,9,   -999.9,9,  -999.0, -999.00,-999.0000,-999.000,-999.000
    316N145_10,  I07N,   783,  1,     28,     28,2,19950805,0629,  9.1963,  63.9295, 4506,   -999,    360.6,  11.8348,  35.2520,2,  35.2595,2,     31.3,2, 11.7878,     34.8,2,    30.74,2,    30.05,2,     0.00,2,     2.25,2,    0.344,2,    0.185,2, -999.000,9,-999.0000,9,  -999.00,9,   -999.0,9,  -999.00,9,-999.000,9,   -999.9,9,   -999.9,9,  -999.0, -999.00,-999.0000,-999.000,-999.000
    316N145_10,  I07N,   783,  1,     27,     27,2,19950805,0629,  9.1963,  63.9295, 4506,   -999,    471.1,  11.2494,  35.3210,2,  35.3219,2,     23.2,2, 11.1897,     22.7,2,    38.79,2,    31.95,2,     0.00,2,     2.47,2,    0.155,2,    0.093,2, -999.000,9,-999.0000,9,  -999.00,9,   -999.0,9,  -999.00,9,-999.000,9,   -999.9,9,   -999.9,9,  -999.0, -999.00,-999.0000,-999.000,-999.000
    316N145_10,  I07N,   783,  1,     26,     26,2,19950805,0629,  9.1963,  63.9295, 4506,   -999,    569.7,  10.7501,  35.3627,2,  35.3630,2,     19.6,2, 10.6795,     18.5,2,    46.84,2,    32.89,2,     0.00,2,     2.60,2,    0.087,2,    0.053,2, -999.000,9,-999.0000,9,  -999.00,9,   -999.0,9,  -999.00,9,-999.000,9,   -999.9,9,   -999.9,9,  -999.0, -999.00,-999.0000,-999.000,-999.000
    316N145_10,  I07N,   783,  1,     25,     25,2,19950805,0629,  9.1963,  63.9295, 4506,   -999,    679.6,   9.8558,  35.2980,2,  35.2918,2,     16.8,2,  9.7756,     17.4,2,    56.39,2,    34.62,2,     0.00,2,     2.72,2,    0.035,2,    0.023,2, -999.000,9,-999.0000,9,  -999.00,9,   -999.0,9,  -999.00,9,-999.000,9,   -999.9,9,   -999.9,9,  -999.0, -999.00,-999.0000,-999.000,-999.000
    316N145_10,  I07N,   783,  1,     24,     24,2,19950805,0629,  9.1963,  63.9295, 4506,   -999,    818.9,   8.5335,  35.1528,2,  35.1515,2,     23.2,2,  8.4441,     23.4,2,    68.41,2,    36.37,2,     0.00,2,     2.81,2,    0.011,2,    0.008,2, -999.000,9,-999.0000,9,  -999.00,9,   -999.0,9,  -999.00,9,-999.000,9,   -999.9,9,   -999.9,9,  -999.0, -999.00,-999.0000,-999.000,-999.000
    316N145_10,  I07N,   783,  1,     23,     23,2,19950805,0629,  9.1963,  63.9295, 4506,   -999,    928.8,   7.8405,  35.1115,2,  35.1112,2,     28.0,2,  7.7431,     28.6,2,    76.11,2,    36.94,2,     0.00,2,     2.84,2,    0.011,2,    0.007,2, -999.000,9,-999.0000,9,  -999.00,9,   -999.0,9,  -999.00,9,-999.000,9,   -999.9,9,   -999.9,9,  -999.0, -999.00,-999.0000,-999.000,-999.000
    316N145_10,  I07N,   783,  1,     22,     22,2,19950805,0629,  9.1963,  63.9295, 4506,   -999,    999.0,   7.6566,  35.1435,2,  35.1425,2,     28.7,2,  7.5528,     29.7,2,    78.91,2,    36.96,2,     0.00,2,     2.85,2,    0.007,2,    0.006,2, -999.000,9,-999.0000,9,  -999.00,9,   -999.0,9,  -999.00,9,-999.000,9,   -999.9,9,   -999.9,9,  -999.0, -999.00,-999.0000,-999.000,-999.000
    316N145_10,  I07N,   783,  1,     21,     21,2,19950805,0629,  9.1963,  63.9295, 4506,   -999,   1079.3,   6.9152,  35.0482,2,  35.0493,2,     40.0,2,  6.8085,     38.7,2,    85.31,2,    37.40,2,     0.00,2,     2.86,2,    0.006,2,    0.004,2, -999.000,9,-999.0000,9,  -999.00,9,   -999.0,9,  -999.00,9,-999.000,9,   -999.9,9,   -999.9,9,  -999.0, -999.00,-999.0000,-999.000,-999.000
    316N145_10,  I07N,   783,  1,     20,     20,2,19950805,0629,  9.1963,  63.9295, 4506,   -999,   1160.6,   6.9116,  35.1042,2,  35.1050,2,     37.8,2,  6.7961,     38.1,2,    86.03,2,    37.17,2,     0.00,2,     2.86,2,    0.013,2,    0.010,2, -999.000,9,-999.0000,9,  -999.00,9,   -999.0,9,  -999.00,9,-999.000,9,   -999.9,9,   -999.9,9,  -999.0, -999.00,-999.0000,-999.000,-999.000
    316N145_10,  I07N,   783,  1,     19,     19,2,19950805,0629,  9.1963,  63.9295, 4506,   -999,   1326.8,   5.6929,  34.9915,2,  34.9933,2,     53.1,2,  5.5715,     53.7,2,    97.40,2,    37.52,2,     0.00,2,     2.86,2,   -0.002,2,    0.000,2, -999.000,9,-999.0000,9,  -999.00,9,   -999.0,9,  -999.00,9,-999.000,9,   -999.9,9,   -999.9,9,  -999.0, -999.00,-999.0000,-999.000,-999.000
    316N145_10,  I07N,   783,  1,     18,     18,2,19950805,0629,  9.1963,  63.9295, 4506,   -999,   1499.3,   4.9330,  34.9430,2,  34.9436,2,     66.5,2,  4.8025,     67.1,2,   105.20,2,    37.40,2,     0.00,2,     2.85,2,    0.002,2,    0.002,2, -999.000,9,-999.0000,9,  -999.00,9,   -999.0,9,  -999.00,9,-999.000,9,   -999.9,9,   -999.9,9,  -999.0, -999.00,-999.0000,-999.000,-999.000
    316N145_10,  I07N,   783,  1,     17,     17,2,19950805,0629,  9.1963,  63.9295, 4506,   -999,   1675.8,   4.0847,  34.8844,2,  34.8831,2,     83.7,2,  3.9475,     83.4,2,   114.42,2,    37.13,2,     0.00,2,     2.80,2,   -0.001,2,    0.000,2, -999.000,9,-999.0000,9,  -999.00,9,   -999.0,9,  -999.00,9,-999.000,9,   -999.9,9,   -999.9,9,  -999.0, -999.00,-999.0000,-999.000,-999.000
    316N145_10,  I07N,   783,  1,     16,     16,2,19950805,0629,  9.1963,  63.9295, 4506,   -999,   1853.1,   3.3747,  34.8365,2,  34.8354,2,    101.1,2,  3.2306,    101.6,2,   120.59,2,    36.53,2,     0.00,2,     2.72,2,   -0.004,2,   -0.001,2, -999.000,9,-999.0000,9,  -999.00,9,   -999.0,9,  -999.00,9,-999.000,9,   -999.9,9,   -999.9,9,  -999.0, -999.00,-999.0000,-999.000,-999.000
    316N145_10,  I07N,   783,  1,     15,     15,2,19950805,0629,  9.1963,  63.9295, 4506,   -999,   2050.8,   2.8387,  34.8006,2,  34.7993,2,    113.8,2,  2.6846,    113.8,2,   126.43,2,    36.13,2,     0.00,2,     2.67,2,   -0.003,2,   -0.003,2, -999.000,9,-999.0000,9,  -999.00,9,   -999.0,9,  -999.00,9,-999.000,9,   -999.9,9,   -999.9,9,  -999.0, -999.00,-999.0000,-999.000,-999.000
    316N145_10,  I07N,   783,  1,     14,     14,2,19950805,0629,  9.1963,  63.9295, 4506,   -999,   2253.7,   2.4706,  34.7802,2,  34.7785,2,    125.8,2,  2.3040,    125.1,2,   130.12,2,    35.67,2,     0.00,2,     2.63,2,    0.000,2,    0.002,2, -999.000,9,-999.0000,9,  -999.00,9,   -999.0,9,  -999.00,9,-999.000,9,   -999.9,9,   -999.9,9,  -999.0, -999.00,-999.0000,-999.000,-999.000
    316N145_10,  I07N,   783,  1,     13,     13,2,19950805,0629,  9.1963,  63.9295, 4506,   -999,   2451.1,   2.1899,  34.7680,2,  34.7663,2,    132.1,2,  2.0102,    133.1,2,   133.64,2,    35.31,2,     0.00,2,     2.59,2,    0.001,2,   -0.002,2, -999.000,9,-999.0000,9,  -999.00,9,   -999.0,9,  -999.00,9,-999.000,9,   -999.9,9,   -999.9,9,  -999.0, -999.00,-999.0000,-999.000,-999.000
    316N145_10,  I07N,   783,  1,     12,     12,2,19950805,0629,  9.1963,  63.9295, 4506,   -999,   2649.3,   2.0100,  34.7578,2,  34.7578,2,    135.0,2,  1.8154,    134.7,2,   137.38,2,    35.28,2,     0.00,2,     2.59,2,    0.000,2,    0.002,2, -999.000,9,-999.0000,9,  -999.00,9,   -999.0,9,  -999.00,9,-999.000,9,   -999.9,9,   -999.9,9,  -999.0, -999.00,-999.0000,-999.000,-999.000
    316N145_10,  I07N,   783,  1,     11,     11,2,19950805,0629,  9.1963,  63.9295, 4506,   -999,   2842.9,   1.8699,  34.7482,2,  34.7492,2,    144.6,2,  1.6599,    145.8,2,   135.73,2,    34.68,2,     0.00,2,     2.54,2,   -0.002,2,    0.001,2, -999.000,9,-999.0000,9,  -999.00,9,   -999.0,9,  -999.00,9,-999.000,9,   -999.9,9,   -999.9,9,  -999.0, -999.00,-999.0000,-999.000,-999.000
    316N145_10,  I07N,   783,  1,     10,     10,2,19950805,0629,  9.1963,  63.9295, 4506,   -999,   3101.8,   1.7776,  34.7428,2,  34.7412,2,    151.0,2,  1.5445,    151.2,2,   135.88,2,    34.51,2,     0.00,2,     2.51,2, -999.000,9, -999.000,9, -999.000,9,-999.0000,9,  -999.00,9,   -999.0,9,  -999.00,9,-999.000,9,   -999.9,9,   -999.9,9,  -999.0, -999.00,-999.0000,-999.000,-999.000
    316N145_10,  I07N,   783,  1,      9,      9,2,19950805,0629,  9.1963,  63.9295, 4506,   -999,   3299.3,   1.7340,  34.7391,2,  34.7372,2,    154.2,2,  1.4823,    154.2,2,   136.03,2,    34.39,2,     0.00,2,     2.50,2, -999.000,9, -999.000,9, -999.000,9,-999.0000,9,  -999.00,9,   -999.0,9,  -999.00,9,-999.000,9,   -999.9,9,   -999.9,9,  -999.0, -999.00,-999.0000,-999.000,-999.000
    316N145_10,  I07N,   783,  1,      8,      8,2,19950805,0629,  9.1963,  63.9295, 4506,   -999,   3499.1,   1.7042,  34.7368,2,  34.7359,2,    155.1,2,  1.4328,    154.6,2,   136.38,2,    34.40,2,     0.00,2,     2.49,2, -999.000,9, -999.000,9, -999.000,9,-999.0000,9,  -999.00,9,   -999.0,9,  -999.00,9,-999.000,9,   -999.9,9,   -999.9,9,  -999.0, -999.00,-999.0000,-999.000,-999.000
    316N145_10,  I07N,   783,  1,      7,      7,2,19950805,0629,  9.1963,  63.9295, 4506,   -999,   3698.1,   1.6992,  34.7355,2,  34.7347,2,    154.4,2,  1.4071,    154.0,2,   137.33,2,    34.51,2,     0.00,2,     2.49,2, -999.000,9, -999.000,9, -999.000,9,-999.0000,9,  -999.00,9,   -999.0,9,  -999.00,9,-999.000,9,   -999.9,9,   -999.9,9,  -999.0, -999.00,-999.0000,-999.000,-999.000
    316N145_10,  I07N,   783,  1,      6,      6,2,19950805,0629,  9.1963,  63.9295, 4506,   -999,   3825.2,   1.6979,  34.7354,2,  34.7331,2,    154.0,2,  1.3923,    153.8,2,   138.08,2,    34.52,2,     0.00,2,     2.50,2, -999.000,9, -999.000,9, -999.000,9,-999.0000,9,  -999.00,9,   -999.0,9,  -999.00,9,-999.000,9,   -999.9,9,   -999.9,9,  -999.0, -999.00,-999.0000,-999.000,-999.000
    316N145_10,  I07N,   783,  1,      5,      5,2,19950805,0629,  9.1963,  63.9295, 4506,   -999,   4050.4,   1.6805,  34.7345,2,  34.7321,2,    158.8,2,  1.3508,    158.5,2,   137.03,2,    34.21,2,     0.00,2,     2.47,2, -999.000,9, -999.000,9, -999.000,9,-999.0000,9,  -999.00,9,   -999.0,9,  -999.00,9,-999.000,9,   -999.9,9,   -999.9,9,  -999.0, -999.00,-999.0000,-999.000,-999.000
    316N145_10,  I07N,   783,  1,      4,      4,2,19950805,0629,  9.1963,  63.9295, 4506,   -999,   4249.1,   1.6642,  34.7328,2,  34.7319,2,    159.8,2,  1.3127,    159.9,2,   136.38,2,    33.98,2,     0.00,2,     2.46,2, -999.000,9, -999.000,9, -999.000,9,-999.0000,9,  -999.00,9,   -999.0,9,  -999.00,9,-999.000,9,   -999.9,9,   -999.9,9,  -999.0, -999.00,-999.0000,-999.000,-999.000
    316N145_10,  I07N,   783,  1,      3,      3,2,19950805,0629,  9.1963,  63.9295, 4506,   -999,   4403.1,   1.6453,  34.7312,2,  34.7290,2,    162.5,2,  1.2769,    162.6,2,   136.53,2,    34.14,2,     0.00,2,     2.46,2, -999.000,9, -999.000,9, -999.000,9,-999.0000,9,  -999.00,9,   -999.0,9,  -999.00,9,-999.000,9,   -999.9,9,   -999.9,9,  -999.0, -999.00,-999.0000,-999.000,-999.000
    316N145_10,  I07N,   783,  1,      2,      2,2,19950805,0629,  9.1963,  63.9295, 4506,   -999,   4524.7,   1.6311,  34.7301,2,  34.7280,2,    164.2,2,  1.2490,    164.1,2,   136.48,2,    34.10,2,     0.00,2,     2.45,2, -999.000,9, -999.000,9, -999.000,9,-999.0000,9,  -999.00,9,   -999.0,9,  -999.00,9,-999.000,9,   -999.9,9,   -999.9,9,  -999.0, -999.00,-999.0000,-999.000,-999.000
    316N145_10,  I07N,   783,  1,      1,      1,2,19950805,0629,  9.1963,  63.9295, 4506,   -999,   4576.8,   1.6330,  34.7292,2,  34.7286,2,    162.6,2,  1.2448,    163.6,2,   136.63,2,    34.07,2,     0.00,2,     2.45,2, -999.000,9, -999.000,9, -999.000,9,-999.0000,9,  -999.00,9,   -999.0,9,  -999.00,9,-999.000,9,   -999.9,9,   -999.9,9,  -999.0, -999.00,-999.0000,-999.000,-999.000