BOTTLE,20080821WHPSIOSCD
EXPOCODE,SECT_ID,STNNBR,CASTNO,SAMPNO,BTLNBR,BTLNBR_FLAG_W,DATE,TIME,LATITUDE,LONGITUDE,DEPTH,CTDRAW,CTDPRS,CTDTMP,CTDSAL,CTDSAL_FLAG_W,SALNTY,SALNTY_FLAG_W,CTDOXY,CTDOXY_FLAG_W,THETA,OXYGEN,OXYGEN_FLAG_W,SILCAT,SILCAT_FLAG_W,NITRAT,NITRAT_FLAG_W,NITRIT,NITRIT_FLAG_W,PHSPHT,PHSPHT_FLAG_W,CFC-11,CFC-11_FLAG_W,CFC-12,CFC-12_FLAG_W,TRITUM,TRITUM_FLAG_W,HELIUM,HELIUM_FLAG_W,DELHE3,DELHE3_FLAG_W,DELC14,DELC14_FLAG_W,DELC13,DELC13_FLAG_W,NEON,NEON_FLAG_W,TCARBN,TCARBN_FLAG_W,ALKALI,ALKALI_FLAG_W,C14ERR,DELHER,HELIER,NEONER,TRITER
,,,,,,,,,,,,,DBAR,ITS-90,PSS-78,,PSS-78,,UMOL/KG,,DEG C,UMOL/KG,,UMOL/KG,,UMOL/KG,,UMOL/KG,,UMOL/KG,,PMOL/KG,,PMOL/KG,,TU,,NMOL/KG,,PERCNT,,/MILLE,,/MILLE,,NMOL/KG,,UMOL/KG,,UMOL/KG,,/MILLE,PERCNT,NMOL/KG,NMOL/KG,TU
    316N145_10,  I07N,   833,  1,     36,     36,2,19950817,0946, 20.6175,  61.6832, 3355,   -999,      5.2,  26.7098,  36.3800,2,  36.3809,2,    199.7,2, 26.7089,    193.0,2,     4.29,2,     3.52,2,     0.30,2,     0.64,2, -999.000,9, -999.000,9,    0.796,2,   1.6810,2,    -0.60,2,   -999.0,9,  -999.00,9,   6.891,2,   2053.5,2,   2374.5,2,  -999.0,    0.20,  0.0080,   0.138,   0.008
    316N145_10,  I07N,   833,  1,     35,     35,2,19950817,0946, 20.6175,  61.6832, 3355,   -999,     31.9,  26.2096,  36.3467,2,  36.3015,2,    182.8,2, 26.2026,    166.7,2,     5.32,2,     6.17,2,     0.43,2,     0.82,2,    1.696,2,    0.960,2, -999.000,9,-999.0000,9,  -999.00,9,   -999.0,9,  -999.00,9,-999.000,9,   2076.9,2,   2369.4,2,  -999.0, -999.00,-999.0000,-999.000,-999.000
    316N145_10,  I07N,   833,  1,     34,     34,2,19950817,0946, 20.6175,  61.6832, 3355,   -999,     52.1,  22.6637,  36.2681,2,  36.2345,2,     74.7,2, 22.6534,     61.0,2,    10.36,2,    18.99,2,     0.10,2,     1.56,2,    1.621,2,    0.907,2, -999.000,9,-999.0000,9,  -999.00,9,   -999.0,9,  -999.00,9,-999.000,9,   2170.7,2,   2358.2,2,  -999.0, -999.00,-999.0000,-999.000,-999.000
    316N145_10,  I07N,   833,  1,     33,     33,2,19950817,0946, 20.6175,  61.6832, 3355,   -999,     72.0,  21.8133,  36.2050,2,  36.1910,2,     33.4,2, 21.7993,     31.8,2,    12.61,2,    21.88,2,     0.05,2,     1.83,2,    1.491,2,    0.841,2, -999.000,9,   1.7040,2,     0.50,2,   -999.0,9,  -999.00,9,   6.993,2,   2198.6,2,   2357.8,2,  -999.0,    0.20,  0.0090,   0.140,-999.000
    316N145_10,  I07N,   833,  1,     32,     32,2,19950817,0946, 20.6175,  61.6832, 3355,   -999,    147.2,  18.8683,  36.2015,2,  36.2076,2,      6.3,2, 18.8422,      6.5,2,    21.46,2,    21.68,2,     0.01,2,     2.18,2,    0.941,2,    0.576,2, -999.000,9,-999.0000,9,  -999.00,9,   -999.0,9,  -999.00,9,-999.000,9,   2240.9,2,   2357.0,2,  -999.0, -999.00,-999.0000,-999.000,-999.000
    316N145_10,  I07N,   833,  1,     31,     31,2,19950817,0946, 20.6175,  61.6832, 3355,   -999,    223.3,  17.6467,  36.4152,2,  36.4128,2,      9.7,2, 17.6086,     11.0,2,    23.88,2,    21.02,2,     0.01,2,     2.16,2,    0.812,2,    0.530,2, -999.000,9,   1.7570,2,     5.10,2,   -999.0,9,  -999.00,9,   7.256,2,   2251.5,2,   2369.8,2,  -999.0,    0.20,  0.0090,   0.145,-999.000
    316N145_10,  I07N,   833,  1,     30,     30,2,19950817,0946, 20.6175,  61.6832, 3355,   -999,    297.7,  15.8925,  36.2144,2,  36.2139,2,      2.3,2, 15.8452,      4.3,2,    28.39,2,    22.30,2,     0.00,2,     2.30,2,    0.588,2,    0.389,2, -999.000,9,-999.0000,9,  -999.00,9,   -999.0,9,  -999.00,9,-999.000,9,   2261.5,2,   2359.9,2,  -999.0, -999.00,-999.0000,-999.000,-999.000
    316N145_10,  I07N,   833,  1,     29,     29,2,19950817,0946, 20.6175,  61.6832, 3355,   -999,    348.1,  14.9315,  36.0522,2,  36.0535,2,      1.5,2, 14.8785,      1.7,2,    31.34,2,    23.35,2,     0.00,2,     2.39,2,    0.460,2,    0.284,2,    0.256,2,   1.7840,2,     4.30,2,   -999.0,9,  -999.00,9,   7.421,2,   2269.6,2,   2356.1,2,  -999.0,    0.20,  0.0090,   0.148,   0.008
    316N145_10,  I07N,   833,  1,     28,     28,2,19950817,0946, 20.6175,  61.6832, 3355,   -999,    398.5,  14.2500,  35.9829,2,  35.9831,2,      1.6,2, 14.1910,      1.0,2,    34.81,2,    23.02,2,     0.14,2,     2.48,2,    0.349,2,    0.212,2, -999.000,9,-999.0000,9,  -999.00,9,   -999.0,9,  -999.00,9,-999.000,9,   2273.9,2,   2354.5,2,  -999.0, -999.00,-999.0000,-999.000,-999.000
    316N145_10,  I07N,   833,  1,     27,     27,2,19950817,0946, 20.6175,  61.6832, 3355,   -999,    447.9,  13.4924,  35.8756,2,  35.8769,2,      1.6,2, 13.4283,      1.2,2,    38.10,2,    24.34,2,     0.00,2,     2.54,2, -999.000,9, -999.000,9, -999.000,9,-999.0000,9,  -999.00,9,   -999.0,9,  -999.00,9,-999.000,9,   2277.0,2,   2354.6,2,  -999.0, -999.00,-999.0000,-999.000,-999.000
    316N145_10,  I07N,   833,  1,     26,     26,2,19950817,0946, 20.6175,  61.6832, 3355,   -999,    548.7,  12.1521,  35.7174,2,  35.7150,2,      1.8,2, 12.0785,      1.0,2,    47.31,2,    26.39,2,     0.00,2,     2.67,2,    0.110,2,    0.071,2,    0.129,2,   1.8150,2,     4.90,2,   -999.0,9,  -999.00,9,   7.524,2,   2282.3,2,   2358.1,2,  -999.0,    0.20,  0.0090,   0.150,   0.008
    316N145_10,  I07N,   833,  1,     25,     25,2,19950817,0946, 20.6175,  61.6832, 3355,   -999,    638.2,  11.2875,  35.6281,2,  35.6289,2,      1.9,2, 11.2055,      1.9,2,    54.09,2,    29.39,2,     0.00,2,     2.74,2,    0.055,2,    0.034,2, -999.000,9,-999.0000,9,  -999.00,9,   -999.0,9,  -999.00,9,-999.000,9,   2289.6,2,   2362.0,2,  -999.0, -999.00,-999.0000,-999.000,-999.000
    316N145_10,  I07N,   833,  1,     24,     24,2,19950817,0946, 20.6175,  61.6832, 3355,   -999,    694.4,  10.9241,  35.5993,2,  35.5980,2,      1.9,2, 10.8364,      1.8,2,    57.39,2,    30.77,2,     0.00,2,     2.77,2,    0.050,2,    0.032,2, -999.000,9,-999.0000,9,  -999.00,9,   -999.0,9,  -999.00,9,-999.000,9,   2292.6,2,   2359.2,2,  -999.0, -999.00,-999.0000,-999.000,-999.000
    316N145_10,  I07N,   833,  1,     23,     23,2,19950817,0946, 20.6175,  61.6832, 3355,   -999,    795.3,  10.2220,  35.5380,2,  35.5381,2,      2.0,2, 10.1252,      2.1,2,    64.18,2,    32.78,2,     0.00,2,     2.83,2,    0.032,2,    0.020,2,    0.021,2,   1.8960,2,    13.00,2,   -999.0,9,  -999.00,9,   8.148,2,   2300.1,2,   2366.6,2,  -999.0,    0.20,  0.0090,   0.163,   0.008
    316N145_10,  I07N,   833,  1,     22,     22,2,19950817,0946, 20.6175,  61.6832, 3355,   -999,    895.4,   9.4254,  35.4664,2,  35.4676,2,      2.1,2,  9.3210,      2.7,2,    70.99,2,    34.85,2,     0.00,2,     2.92,2,    0.022,2,    0.013,2, -999.000,9,-999.0000,9,  -999.00,9,   -999.0,9,  -999.00,9,-999.000,9,   2309.5,2,   2368.0,2,  -999.0, -999.00,-999.0000,-999.000,-999.000
    316N145_10,  I07N,   833,  1,     21,     21,2,19950817,0946, 20.6175,  61.6832, 3355,   -999,    996.6,   8.7410,  35.3959,2,  35.3963,2,      2.7,2,  8.6292,      3.4,2,    76.94,2,    36.20,2,     0.00,2,     2.97,2,    0.015,2,    0.011,2, -999.000,9,   1.8420,2,     6.70,2,   -999.0,9,  -999.00,9,   7.694,2,   2318.2,2,   2373.9,2,  -999.0,    0.20,  0.0090,   0.154,-999.000
    316N145_10,  I07N,   833,  1,     20,     20,2,19950817,0946, 20.6175,  61.6832, 3355,   -999,   1097.3,   7.9471,  35.3105,2,  35.3117,2,      4.9,2,  7.8298,      6.4,2,    83.96,2,    37.41,2,     0.00,2,     3.03,2,    0.010,2,    0.007,2, -999.000,9,-999.0000,9,  -999.00,9,   -999.0,9,  -999.00,9,-999.000,9,   2327.0,2,   2379.0,2,  -999.0, -999.00,-999.0000,-999.000,-999.000
    316N145_10,  I07N,   833,  1,     19,     19,2,19950817,0946, 20.6175,  61.6832, 3355,   -999,   1198.2,   7.1630,  35.2257,2,  35.2292,2,     10.8,2,  7.0411,     11.4,2,    91.02,2,    38.19,2,     0.00,2,     3.07,2,    0.004,2,    0.004,2,    0.000,2,   1.8600,2,     8.10,2,   -999.0,9,  -999.00,9,   7.774,2,   2333.9,2,   2382.6,2,  -999.0,    0.20,  0.0090,   0.155,   0.008
    316N145_10,  I07N,   833,  1,     18,     18,2,19950817,0946, 20.6175,  61.6832, 3355,   -999,   1298.8,   6.4128,  35.1490,2,  35.1480,2,     18.9,2,  6.2870,     19.7,2,    98.65,2,    38.58,2,     0.00,2,     3.08,2, -999.000,9, -999.000,9, -999.000,9,-999.0000,9,  -999.00,9,   -999.0,9,  -999.00,9,-999.000,9,   2342.2,2,   2393.0,2,  -999.0, -999.00,-999.0000,-999.000,-999.000
    316N145_10,  I07N,   833,  1,     17,     17,2,19950817,0946, 20.6175,  61.6832, 3355,   -999,   1399.9,   5.7012,  35.0779,2,  35.0780,2,     29.7,2,  5.5721,     30.0,2,   105.81,2,    38.73,2,     0.00,2,     3.04,2,    0.000,2,    0.001,2, -999.000,9,   1.8820,2,    11.40,2,   -999.0,9,  -999.00,9,   7.756,2,   2345.2,2,   2395.2,2,  -999.0,    0.20,  0.0090,   0.155,-999.000
    316N145_10,  I07N,   833,  1,     16,     16,2,19950817,0946, 20.6175,  61.6832, 3355,   -999,   1500.4,   5.0293,  35.0141,2,  35.0167,3,     41.3,2,  4.8976,     40.3,2,   113.03,2,    38.68,2,     0.00,2,     3.02,2,    0.001,2,    0.001,2, -999.000,9,-999.0000,9,  -999.00,9,   -999.0,9,  -999.00,9,-999.000,9,   2350.7,2,   2405.4,2,  -999.0, -999.00,-999.0000,-999.000,-999.000
    316N145_10,  I07N,   833,  1,     15,     15,2,19950817,0946, 20.6175,  61.6832, 3355,   -999,   1599.6,   4.4461,  34.9595,2,  34.9621,2,     53.0,2,  4.3115,     51.3,2,   119.23,2,    38.58,2,     0.00,2,     2.97,2, -999.000,9, -999.000,9, -999.000,9,-999.0000,9,  -999.00,9,   -999.0,9,  -999.00,9,-999.000,9,   2352.1,2,   2409.3,2,  -999.0, -999.00,-999.0000,-999.000,-999.000
    316N145_10,  I07N,   833,  1,     14,     14,2,19950817,0946, 20.6175,  61.6832, 3355,   -999,   1700.1,   3.9496,  34.9140,2,  34.9149,2,     64.7,2,  3.8117,     62.9,2,   124.38,2,    38.39,2,     0.00,2,     2.93,2,   -0.001,2,    0.001,2, -999.000,9,   1.8960,2,    13.70,2,   -999.0,9,  -999.00,9,   7.885,2,   2352.8,2,   2416.1,2,  -999.0,    0.20,  0.0090,   0.158,-999.000
    316N145_10,  I07N,   833,  1,     13,     13,2,19950817,0946, 20.6175,  61.6832, 3355,   -999,   1801.0,   3.4446,  34.8718,2,  34.8749,3,     74.4,2,  3.3042,     73.1,2,   129.77,2,    38.05,2,     0.00,2,     2.87,2, -999.000,9, -999.000,9, -999.000,9,-999.0000,9,  -999.00,9,   -999.0,9,  -999.00,9,-999.000,9,   2355.8,2,   2422.4,2,  -999.0, -999.00,-999.0000,-999.000,-999.000
    316N145_10,  I07N,   833,  1,     12,     12,2,19950817,0946, 20.6175,  61.6832, 3355,   -999,   1892.5,   3.2334,  34.8544,2,  34.8543,2,     78.2,2,  3.0876,     78.1,2,   132.57,2,    37.86,2,     0.00,2,     2.85,2,    0.001,2,    0.001,2, -999.000,9,   1.9090,2,    13.50,2,   -999.0,9,  -999.00,9,   7.827,2,   2355.1,2,   2425.8,2,  -999.0,    0.20,  0.0100,   0.157,-999.000
    316N145_10,  I07N,   833,  1,     11,     11,2,19950817,0946, 20.6175,  61.6832, 3355,   -999,   1994.0,   3.0152,  34.8356,2,  34.8368,2,     84.1,2,  2.8634,     83.9,2,   134.82,2,    37.66,2,     0.00,2,     2.81,2, -999.000,9, -999.000,9, -999.000,9,   1.9040,2,    15.10,2,   -999.0,9,  -999.00,9,   7.983,2,   2354.7,2,   2426.3,2,  -999.0,    0.20,  0.0100,   0.160,-999.000
    316N145_10,  I07N,   833,  1,     10,     10,2,19950817,0946, 20.6175,  61.6832, 3355,   -999,   2096.5,   2.8279,  34.8211,2,  34.8205,2,     89.3,2,  2.6696,     88.8,2,   137.09,2,    37.52,2,     0.00,2,     2.79,2,    0.001,2,    0.000,2, -999.000,9,   1.9130,2,    15.00,2,   -999.0,9,  -999.00,9,   8.175,2,   2356.5,2,   2432.5,2,  -999.0,    0.20,  0.0100,   0.164,-999.000
    316N145_10,  I07N,   833,  1,      9,      9,2,19950817,0946, 20.6175,  61.6832, 3355,   -999,   2198.1,   2.6456,  34.8069,2,  34.8063,2,     94.1,2,  2.4811,     94.4,2,   138.98,2,    37.27,2,     0.00,2,     2.76,2, -999.000,9, -999.000,9, -999.000,9,   1.8870,2,    13.80,2,   -999.0,9,  -999.00,9,   8.287,2,   2356.8,2,   2433.7,2,  -999.0,    0.20,  0.0090,   0.166,-999.000
    316N145_10,  I07N,   833,  1,      8,      8,2,19950817,0946, 20.6175,  61.6832, 3355,   -999,   2295.0,   2.5058,  34.7960,2,  34.7955,2,     97.9,2,  2.3348,     98.2,2,   140.49,2,    37.18,2,     0.00,2,     2.73,2, -999.000,9, -999.000,9, -999.000,9,   1.9000,2,    14.00,2,   -999.0,9,  -999.00,9,   8.313,2,   2357.1,2,   2438.8,2,  -999.0,    0.20,  0.0090,   0.166,-999.000
    316N145_10,  I07N,   833,  1,      7,      7,2,19950817,0946, 20.6175,  61.6832, 3355,   -999,   2498.7,   2.2282,  34.7752,2,  34.7751,2,    105.5,2,  2.0434,    105.2,2,   143.75,2,    36.89,2,     0.00,2,     2.69,2,    0.000,2,    0.001,2, -999.000,9,-999.0000,9,  -999.00,9,   -999.0,9,  -999.00,9,-999.000,9,   2357.6,2,   2442.8,2,  -999.0, -999.00,-999.0000,-999.000,-999.000
    316N145_10,  I07N,   833,  1,      6,      6,2,19950817,0946, 20.6175,  61.6832, 3355,   -999,   2696.5,   2.0121,  34.7594,2,  34.7588,2,    111.2,2,  1.8130,    110.9,2,   146.85,2,    36.70,2,     0.00,2,     2.66,2,    0.002,2,    0.005,2, -999.000,9,   1.9000,2,    13.60,2,   -999.0,9,  -999.00,9,   8.247,2,   2361.3,2,   2451.9,2,  -999.0,    0.20,  0.0090,   0.165,-999.000
    316N145_10,  I07N,   833,  1,      5,      5,2,19950817,0946, 20.6175,  61.6832, 3355,   -999,   2895.3,   1.8538,  34.7487,2,  34.7476,2,    116.3,2,  1.6391,    116.1,2,   149.18,2,    36.50,2,     0.00,2,     2.64,2,    0.001,2,    0.011,2,    0.000,2,   1.8960,2,    13.40,2,   -999.0,9,  -999.00,9,   8.305,2,   2362.4,2,   2453.5,2,  -999.0,    0.20,  0.0090,   0.166,   0.008
    316N145_10,  I07N,   833,  1,      4,      4,2,19950817,0946, 20.6175,  61.6832, 3355,   -999,   3098.2,   1.7796,  34.7425,2,  34.7425,2,    120.0,2,  1.5468,    119.8,2,   149.75,2,    36.36,2,     0.00,2,     2.62,2,    0.002,2,    0.010,2, -999.000,9,   1.8780,2,    13.10,2,   -999.0,9,  -999.00,9,   8.385,2,   2360.6,2,   2457.6,2,  -999.0,    0.20,  0.0090,   0.168,-999.000
    316N145_10,  I07N,   833,  1,      3,      3,2,19950817,0946, 20.6175,  61.6832, 3355,   -999,   3302.0,   1.7248,  34.7393,2,  34.7386,2,    124.5,2,  1.4730,    124.1,2,   150.13,2,    36.21,2,     0.00,2,     2.60,2,    0.009,2,    0.024,2,    0.000,2,   1.9090,2,    12.80,2,   -999.0,9,  -999.00,9,   8.380,2,   2360.9,2,   2458.6,2,  -999.0,    0.20,  0.0100,   0.168,   0.008
    316N145_10,  I07N,   833,  1,      2,      2,2,19950817,0946, 20.6175,  61.6832, 3355,   -999,   3372.4,   1.7030,  34.7375,2,  34.7368,2,    125.8,2,  1.4446,    125.3,2,   150.50,2,    36.21,2,     0.00,2,     2.58,2,    0.007,2,    0.024,2, -999.000,9,-999.0000,9,  -999.00,9,   -999.0,9,  -999.00,9,-999.000,9,   2360.8,2,   2462.0,2,  -999.0, -999.00,-999.0000,-999.000,-999.000
    316N145_10,  I07N,   833,  1,      1,      1,2,19950817,0946, 20.6175,  61.6832, 3355,   -999,   3398.4,   1.6977,  34.7374,2,  34.7368,2,    125.9,2,  1.4368,    126.3,2,   151.07,2,    36.16,2,     0.00,2,     2.59,2,    0.010,2,    0.033,2,    0.000,2,   1.8870,2,    11.90,2,   -999.0,9,  -999.00,9,   8.331,2,   2361.4,2,   2459.5,2,  -999.0,    0.20,  0.0090,   0.167,   0.008