BOTTLE,20080821WHPSIOSCD
EXPOCODE,SECT_ID,STNNBR,CASTNO,SAMPNO,BTLNBR,BTLNBR_FLAG_W,DATE,TIME,LATITUDE,LONGITUDE,DEPTH,CTDRAW,CTDPRS,CTDTMP,CTDSAL,CTDSAL_FLAG_W,SALNTY,SALNTY_FLAG_W,CTDOXY,CTDOXY_FLAG_W,THETA,OXYGEN,OXYGEN_FLAG_W,SILCAT,SILCAT_FLAG_W,NITRAT,NITRAT_FLAG_W,NITRIT,NITRIT_FLAG_W,PHSPHT,PHSPHT_FLAG_W,CFC-11,CFC-11_FLAG_W,CFC-12,CFC-12_FLAG_W,TRITUM,TRITUM_FLAG_W,HELIUM,HELIUM_FLAG_W,DELHE3,DELHE3_FLAG_W,DELC14,DELC14_FLAG_W,DELC13,DELC13_FLAG_W,NEON,NEON_FLAG_W,TCARBN,TCARBN_FLAG_W,ALKALI,ALKALI_FLAG_W,C14ERR,DELHER,HELIER,NEONER,TRITER
,,,,,,,,,,,,,DBAR,ITS-90,PSS-78,,PSS-78,,UMOL/KG,,DEG C,UMOL/KG,,UMOL/KG,,UMOL/KG,,UMOL/KG,,UMOL/KG,,PMOL/KG,,PMOL/KG,,TU,,NMOL/KG,,PERCNT,,/MILLE,,/MILLE,,NMOL/KG,,UMOL/KG,,UMOL/KG,,/MILLE,PERCNT,NMOL/KG,NMOL/KG,TU
    316N145_10,  I07N,   720,  1,     36,     36,2,19950719,0043,-12.2440,  54.9940, 4753,   -999,      9.0,  25.8541,  34.8456,2,  34.8462,2,    208.2,2, 25.8523,    204.4,2,     3.71,2,     0.09,2,     0.00,2,     0.17,2,    1.734,2,    0.992,2,    1.010,2,-999.0000,9,  -999.00,9,     78.3,2,     1.30,2,-999.000,9,   1947.0,2,   2282.2,2,     3.5, -999.00,-999.0000,-999.000,   0.008
    316N145_10,  I07N,   720,  1,     35,     35,2,19950719,0043,-12.2440,  54.9940, 4753,   -999,     28.1,  25.8626,  34.8459,2,  34.8458,2,    204.9,2, 25.8566,    203.9,2,     3.69,2,     0.09,2,     0.00,2,     0.17,2,    1.727,2,    0.987,2, -999.000,9,   1.6590,2,    -0.50,2,   -999.0,9,  -999.00,9,   6.802,2,   1947.8,2,   2279.2,2,  -999.0,    0.20,  0.0080,   0.136,-999.000
    316N145_10,  I07N,   720,  1,     34,     34,2,19950719,0043,-12.2440,  54.9940, 4753,   -999,     58.8,  22.4314,  35.0831,2,  35.0851,2,    168.1,2, 22.4198,    166.9,2,     7.70,2,     4.84,2,     0.26,2,     0.51,2,    1.698,2,    0.954,2,    0.850,2,-999.0000,9,  -999.00,9,     74.2,2,     0.91,2,-999.000,9,   2033.0,2,   2300.7,2,     3.5, -999.00,-999.0000,-999.000,   0.008
    316N145_10,  I07N,   720,  1,     33,     33,2,19950719,0043,-12.2440,  54.9940, 4753,   -999,     93.9,  18.1583,  35.1974,2,  35.1961,2,    127.4,2, 18.1423,    121.5,2,    15.37,2,    13.76,2,     0.03,2,     1.00,2, -999.000,9, -999.000,9,    0.789,2,-999.0000,9,  -999.00,9,     55.1,2,     0.50,2,-999.000,9,   2109.9,2,   2314.8,2,     3.4, -999.00,-999.0000,-999.000,   0.008
    316N145_10,  I07N,   720,  1,     32,     32,2,19950719,0043,-12.2440,  54.9940, 4753,   -999,    123.7,  16.2502,  35.2219,2,  35.2776,2,    133.7,2, 16.2306,    133.7,2,    15.52,2,    13.61,2,     0.00,2,     1.01,2,    1.569,2,    0.843,2,    0.769,2,-999.0000,9,  -999.00,9,     48.9,2,     0.58,2,-999.000,9,   -999.9,5,   2323.5,2,     3.5, -999.00,-999.0000,-999.000,   0.008
    316N145_10,  I07N,   720,  1,     31,     31,2,19950719,0043,-12.2440,  54.9940, 4753,   -999,    163.3,  14.0889,  35.1730,2,  35.1723,2,    129.0,2, 14.0654,    138.4,2,    17.78,2,    15.99,2,     0.00,2,     1.19,2,    1.506,2,    0.791,2,    0.681,2,   1.7530,2,     6.20,2,     48.0,2,     0.74,2,   7.136,2,   2121.9,2,   2319.5,2,     3.2,    0.20,  0.0090,   0.143,   0.008
    316N145_10,  I07N,   720,  1,     30,     30,2,19950719,0043,-12.2440,  54.9940, 4753,   -999,    197.8,  13.0618,  35.1053,2,  35.1059,2,    145.4,2, 13.0346,    147.4,2,    17.76,2,    16.66,2,     0.00,2,     1.22,2,    1.528,2,    0.796,2,    0.615,2,-999.0000,9,  -999.00,9,     37.2,2,     0.80,2,-999.000,9,   2143.8,2,   2319.3,2,     3.5, -999.00,-999.0000,-999.000,   0.008
    316N145_10,  I07N,   720,  1,     37,     37,2,19950719,0043,-12.2440,  54.9940, 4753,   -999,    247.9,  12.1277,  35.0313,2,  35.0323,2,    152.8,2, 12.0952,    156.4,2,    17.57,2,    17.41,2,     0.00,2,     1.26,2,    1.546,2,    0.790,2, -999.000,9,-999.0000,9,  -999.00,9,   -999.0,9,  -999.00,9,-999.000,9,   2146.5,2,   2317.9,2,  -999.0, -999.00,-999.0000,-999.000,-999.000
    316N145_10,  I07N,   720,  1,     28,     28,2,19950719,0043,-12.2440,  54.9940, 4753,   -999,    298.5,  11.6220,  34.9962,2,  34.9969,2,    163.5,2, 11.5838,    168.9,2,    15.97,2,    17.19,2,     0.00,2,     1.24,2,    1.608,2,    0.830,2,    0.519,2,   1.7840,2,     5.40,2,     36.2,2,     0.91,2,   7.439,2,   2144.0,2,   2312.9,2,     4.2,    0.20,  0.0090,   0.149,   0.008
    316N145_10,  I07N,   720,  1,     27,     27,2,19950719,0043,-12.2440,  54.9940, 4753,   -999,    359.5,  10.5765,  34.8836,2,  34.8909,2,    179.7,2, 10.5331,    179.0,2,    15.61,2,    18.29,2,     0.00,2,     1.30,2, -999.000,9, -999.000,9, -999.000,9,-999.0000,9,  -999.00,9,   -999.0,9,  -999.00,9,-999.000,9,   2144.3,2,   2311.6,2,  -999.0, -999.00,-999.0000,-999.000,-999.000
    316N145_10,  I07N,   720,  1,     26,     26,2,19950719,0043,-12.2440,  54.9940, 4753,   -999,    399.5,   9.7248,  34.7969,2,  34.8011,2,    172.9,2,  9.6790,    173.5,2,    18.73,2,    20.76,2,     0.00,2,     1.47,2,    1.246,2,    0.628,2,    0.330,2,-999.0000,9,  -999.00,9,     11.4,2,     1.01,2,-999.000,9,   2155.8,2,   2307.4,2,     3.3, -999.00,-999.0000,-999.000,   0.008
    316N145_10,  I07N,   720,  1,     25,     25,2,19950719,0043,-12.2440,  54.9940, 4753,   -999,    499.6,   8.7833,  34.7434,2,  34.7442,2,    150.3,2,  8.7292,    148.8,2,    28.68,2,    25.13,2,     0.00,2,     1.77,2,    0.692,2,    0.342,2,    0.328,2,   1.8200,2,     3.90,2,    -27.3,2,     0.84,2,   7.573,2,   2182.9,2,   2313.0,2,     3.3,    0.20,  0.0090,   0.151,   0.008
    316N145_10,  I07N,   720,  1,     24,     24,2,19950719,0043,-12.2440,  54.9940, 4753,   -999,    598.6,   7.9491,  34.7180,2,  34.7183,2,    130.9,2,  7.8876,    131.5,2,    39.68,2,    28.42,2,     0.00,2,     2.04,2,    0.355,2,    0.188,2,    0.111,2,-999.0000,9,  -999.00,9,    -66.2,2,     0.68,2,-999.000,9,   2206.7,2,   2321.4,2,     3.3, -999.00,-999.0000,-999.000,   0.008
    316N145_10,  I07N,   720,  1,     23,     23,2,19950719,0043,-12.2440,  54.9940, 4753,   -999,    721.0,   6.9785,  34.7384,2,  34.7389,2,    119.5,2,  6.9089,    107.9,2,    57.53,2,    32.03,2,     0.00,2,     2.33,2,    0.133,2,    0.090,2, -999.000,9,   1.8510,2,     5.90,2,   -999.0,9,  -999.00,9,   7.751,2,   2242.6,2,   2335.7,2,  -999.0,    0.20,  0.0090,   0.155,-999.000
    316N145_10,  I07N,   720,  1,     22,     22,2,19950719,0043,-12.2440,  54.9940, 4753,   -999,    801.8,   6.4490,  34.7254,2,  34.7259,2,    108.4,2,  6.3743,    106.1,2,    64.54,2,    33.02,2,     0.00,2,     2.41,2,    0.073,2,    0.039,2,    0.096,2,-999.0000,9,  -999.00,9,   -131.8,2,     0.45,2,-999.000,9,   2254.1,2,   2344.7,2,     4.7, -999.00,-999.0000,-999.000,   0.008
    316N145_10,  I07N,   720,  1,     21,     21,2,19950719,0043,-12.2440,  54.9940, 4753,   -999,   1002.2,   5.3759,  34.7534,2,  34.7547,2,    101.8,2,  5.2893,    103.5,2,    80.94,2,    34.50,2,     0.00,2,     2.54,2,    0.027,2,    0.022,2, -999.000,9,   1.8550,2,     9.10,2,   -148.5,2,     0.40,2,   7.809,2,   2274.3,2,   2358.8,2,     4.0,    0.20,  0.0090,   0.156,-999.000
    316N145_10,  I07N,   720,  1,     20,     20,2,19950719,0043,-12.2440,  54.9940, 4753,   -999,   1196.8,   4.5359,  34.7201,2,  34.7223,2,    118.2,2,  4.4384,    118.2,2,    86.77,2,    34.46,2,     0.00,2,     2.51,2,    0.019,2,    0.012,2,    0.002,2,-999.0000,9,  -999.00,9,   -169.6,2,     0.26,2,-999.000,9,   2277.1,2,   2365.8,2,     4.5, -999.00,-999.0000,-999.000,   0.008
    316N145_10,  I07N,   720,  1,     19,     19,2,19950719,0043,-12.2440,  54.9940, 4753,   -999,   1398.0,   3.9810,  34.7299,2,-999.0000,5,    124.5,2,  3.8708,    122.9,2,    95.49,2,    34.59,2,     0.00,2,     2.55,2,    0.006,2,    0.000,2,    0.000,2,   1.8730,2,    12.00,2,   -168.5,2,     0.22,2,   7.912,2,   2284.4,2,   2371.2,2,     4.4,    0.20,  0.0090,   0.158,   0.008
    316N145_10,  I07N,   720,  1,     18,     18,2,19950719,0043,-12.2440,  54.9940, 4753,   -999,   1600.2,   3.3471,  34.7268,2,  34.7266,2,    136.9,2,  3.2263,    135.6,2,   101.74,2,    34.23,2,     0.00,2,     2.49,2,   -0.002,2,   -0.002,2,    0.000,2,-999.0000,9,  -999.00,9,   -169.6,2,     0.27,2,-999.000,9,   2285.1,2,   2381.5,3,     3.9, -999.00,-999.0000,-999.000,   0.008
    316N145_10,  I07N,   720,  1,     17,     17,2,19950719,0043,-12.2440,  54.9940, 4753,   -999,   1800.7,   2.8500,  34.7304,2,  34.7308,2,    144.8,2,  2.7181,    144.2,2,   109.10,2,    34.01,2,     0.00,2,     2.47,2,    0.000,2,   -0.002,2, -999.000,9,   1.8780,2,    12.50,2,   -999.0,9,  -999.00,9,   7.939,2,   2290.3,2,   2384.5,2,  -999.0,    0.20,  0.0090,   0.159,-999.000
    316N145_10,  I07N,   720,  1,     16,     16,2,19950719,0043,-12.2440,  54.9940, 4753,   -999,   1999.8,   2.5298,  34.7358,2,  34.7370,2,    148.6,2,  2.3851,    149.0,2,   115.79,2,    33.96,2,     0.00,2,     2.46,2,    0.000,2,   -0.004,2,    0.000,2,-999.0000,9,  -999.00,9,   -178.7,2,     0.16,2,-999.000,9,   2293.4,2,   2396.8,2,     3.9, -999.00,-999.0000,-999.000,   0.008
    316N145_10,  I07N,   720,  1,     15,     15,2,19950719,0043,-12.2440,  54.9940, 4753,   -999,   2200.7,   2.2330,  34.7404,2,  34.7400,2,    152.7,2,  2.0753,    152.9,2,   122.16,2,    34.01,2,     0.00,2,     2.46,2, -999.000,9, -999.000,9, -999.000,9,   1.8870,2,    11.80,2,   -999.0,9,  -999.00,9,   8.122,2,   2298.0,2,   2398.5,2,  -999.0,    0.20,  0.0090,   0.162,-999.000
    316N145_10,  I07N,   720,  1,     14,     14,2,19950719,0043,-12.2440,  54.9940, 4753,   -999,   2405.5,   2.0902,  34.7407,2,  34.7392,2,    156.3,2,  1.9166,    155.9,2,   124.51,2,    33.88,2,     0.00,2,     2.46,2, -999.000,9, -999.000,9, -999.000,9,-999.0000,9,  -999.00,9,   -999.0,9,  -999.00,9,-999.000,9,   2300.2,2,   2406.0,2,  -999.0, -999.00,-999.0000,-999.000,-999.000
    316N145_10,  I07N,   720,  1,     13,     13,2,19950719,0043,-12.2440,  54.9940, 4753,   -999,   2601.1,   1.9577,  34.7396,2,  34.7382,2,    157.8,2,  1.7686,    159.3,2,   126.51,2,    33.79,2,     0.00,2,     2.43,2,   -0.002,2,   -0.002,2, -999.000,9,   1.9040,2,    11.40,2,   -999.0,9,  -999.00,9,   8.238,2,   2300.0,2,   2402.5,2,  -999.0,    0.20,  0.0100,   0.165,-999.000
    316N145_10,  I07N,   720,  1,     12,     12,2,19950719,0043,-12.2440,  54.9940, 4753,   -999,   2798.3,   1.8710,  34.7377,2,  34.7380,2,    161.1,2,  1.6653,    160.6,2,   128.87,2,    33.79,2,     0.00,2,     2.43,2, -999.000,9, -999.000,9, -999.000,9,-999.0000,9,  -999.00,9,   -999.0,9,  -999.00,9,-999.000,9,   2301.3,2,   2409.3,2,  -999.0, -999.00,-999.0000,-999.000,-999.000
    316N145_10,  I07N,   720,  1,     11,     11,2,19950719,0043,-12.2440,  54.9940, 4753,   -999,   2991.2,   1.7860,  34.7366,2,  34.7356,2,    162.5,2,  1.5635,    162.9,2,   130.13,2,    33.74,2,     0.00,2,     2.42,2, -999.000,9, -999.000,9, -999.000,9,   1.9000,2,    11.00,2,   -999.0,9,  -999.00,9,   8.309,2,   2301.4,2,   2398.2,3,  -999.0,    0.20,  0.0090,   0.166,-999.000
    316N145_10,  I07N,   720,  1,     10,     10,2,19950719,0043,-12.2440,  54.9940, 4753,   -999,   3195.0,   1.7242,  34.7334,2,  34.7334,2,    164.5,2,  1.4832,    165.7,2,   131.02,2,    33.70,2,     0.00,2,     2.41,2, -999.000,9, -999.000,9, -999.000,9,-999.0000,9,  -999.00,9,   -999.0,9,  -999.00,9,-999.000,9,   2302.5,2,   2403.4,2,  -999.0, -999.00,-999.0000,-999.000,-999.000
    316N145_10,  I07N,   720,  1,      9,      9,2,19950719,0043,-12.2440,  54.9940, 4753,   -999,   3396.4,   1.6601,  34.7309,2,  34.7305,2,    168.5,2,  1.4004,    168.8,2,   131.17,2,    33.61,2,     0.00,2,     2.40,2, -999.000,9, -999.000,9, -999.000,9,   1.8910,2,    10.60,2,   -999.0,9,  -999.00,9,   8.376,2,   2295.5,2,   2410.2,2,  -999.0,    0.20,  0.0090,   0.168,-999.000
    316N145_10,  I07N,   720,  1,      8,      8,2,19950719,0043,-12.2440,  54.9940, 4753,   -999,   3590.2,   1.5910,  34.7296,2,  34.7287,2,    171.7,2,  1.3131,    172.0,2,   131.51,2,    33.39,2,     0.00,2,     2.37,2, -999.000,9, -999.000,9, -999.000,9,-999.0000,9,  -999.00,9,   -999.0,9,  -999.00,9,-999.000,9,   2297.8,2,   2401.6,2,  -999.0, -999.00,-999.0000,-999.000,-999.000
    316N145_10,  I07N,   720,  1,      7,      7,2,19950719,0043,-12.2440,  54.9940, 4753,   -999,   3793.3,   1.5061,  34.7255,2,  34.7248,2,    176.6,2,  1.2091,    177.4,2,   130.92,2,    33.21,2,     0.00,2,     2.37,2, -999.000,9, -999.000,9, -999.000,9,   1.8960,2,    10.10,2,   -999.0,9,  -999.00,9,   8.349,2,   2292.9,2,   2405.4,2,  -999.0,    0.20,  0.0090,   0.167,-999.000
    316N145_10,  I07N,   720,  1,      6,      6,2,19950719,0043,-12.2440,  54.9940, 4753,   -999,   3994.0,   1.4543,  34.7232,2,  34.7234,2,    179.8,2,  1.1372,    180.5,2,   130.51,2,    33.07,2,     0.00,2,     2.35,2, -999.000,9, -999.000,9, -999.000,9,-999.0000,9,  -999.00,9,   -999.0,9,  -999.00,9,-999.000,9,   2290.5,2,   2397.2,2,  -999.0, -999.00,-999.0000,-999.000,-999.000
    316N145_10,  I07N,   720,  1,      5,      5,2,19950719,0043,-12.2440,  54.9940, 4753,   -999,   4193.5,   1.4113,  34.7204,2,  34.7202,2,    183.9,2,  1.0736,    183.9,2,   129.92,2,    32.89,2,     0.00,2,     2.34,2, -999.000,9, -999.000,9, -999.000,9,   1.8960,2,     8.50,2,   -999.0,9,  -999.00,9,   8.420,2,   2287.4,2,   2399.3,2,  -999.0,    0.20,  0.0090,   0.168,-999.000
    316N145_10,  I07N,   720,  1,      4,      4,2,19950719,0043,-12.2440,  54.9940, 4753,   -999,   4398.8,   1.2966,  34.7168,2,  34.7167,2,    190.4,2,  0.9394,    191.0,2,   128.59,2,    32.58,2,     0.00,2,     2.30,2, -999.000,9, -999.000,9, -999.000,9,-999.0000,9,  -999.00,9,   -999.0,9,  -999.00,9,-999.000,9,   2280.2,2,   2373.3,3,  -999.0, -999.00,-999.0000,-999.000,-999.000
    316N145_10,  I07N,   720,  1,      3,      3,2,19950719,0043,-12.2440,  54.9940, 4753,   -999,   4599.1,   1.1855,  34.7122,2,  34.7112,2,    197.0,2,  0.8089,    197.0,2,   127.44,2,    32.27,2,     0.00,2,     2.30,2, -999.000,9, -999.000,9, -999.000,9,   1.9000,2,     8.20,2,   -999.0,9,  -999.00,9,   8.447,2,   2273.9,2,   2386.7,2,  -999.0,    0.20,  0.0090,   0.169,-999.000
    316N145_10,  I07N,   720,  1,      2,      2,2,19950719,0043,-12.2440,  54.9940, 4753,   -999,   4805.1,   1.1910,  34.7126,2,  34.7112,2,    199.2,2,  0.7903,    198.2,2,   126.67,2,    32.22,2,     0.00,2,     2.27,2, -999.000,9, -999.000,9, -999.000,9,-999.0000,9,  -999.00,9,   -999.0,9,  -999.00,9,-999.000,9,   2272.2,2,   2375.6,2,  -999.0, -999.00,-999.0000,-999.000,-999.000
    316N145_10,  I07N,   720,  1,      1,      1,2,19950719,0043,-12.2440,  54.9940, 4753,   -999,   4824.8,   1.1929,  34.7124,2,  34.7110,2,    199.1,2,  0.7898,    198.1,2,   126.82,2,    32.27,2,     0.00,2,     2.28,2, -999.000,9, -999.000,9, -999.000,9,   1.9090,2,     7.90,2,   -999.0,9,  -999.00,9,   8.523,2,   2272.3,2,   2387.5,2,  -999.0,    0.20,  0.0100,   0.170,-999.000