BOTTLE,20080821WHPSIOSCD
EXPOCODE,SECT_ID,STNNBR,CASTNO,SAMPNO,BTLNBR,BTLNBR_FLAG_W,DATE,TIME,LATITUDE,LONGITUDE,DEPTH,CTDRAW,CTDPRS,CTDTMP,CTDSAL,CTDSAL_FLAG_W,SALNTY,SALNTY_FLAG_W,CTDOXY,CTDOXY_FLAG_W,THETA,OXYGEN,OXYGEN_FLAG_W,SILCAT,SILCAT_FLAG_W,NITRAT,NITRAT_FLAG_W,NITRIT,NITRIT_FLAG_W,PHSPHT,PHSPHT_FLAG_W,CFC-11,CFC-11_FLAG_W,CFC-12,CFC-12_FLAG_W,TRITUM,TRITUM_FLAG_W,HELIUM,HELIUM_FLAG_W,DELHE3,DELHE3_FLAG_W,DELC14,DELC14_FLAG_W,DELC13,DELC13_FLAG_W,NEON,NEON_FLAG_W,TCARBN,TCARBN_FLAG_W,ALKALI,ALKALI_FLAG_W,C14ERR,DELHER,HELIER,NEONER,TRITER
,,,,,,,,,,,,,DBAR,ITS-90,PSS-78,,PSS-78,,UMOL/KG,,DEG C,UMOL/KG,,UMOL/KG,,UMOL/KG,,UMOL/KG,,UMOL/KG,,PMOL/KG,,PMOL/KG,,TU,,NMOL/KG,,PERCNT,,/MILLE,,/MILLE,,NMOL/KG,,UMOL/KG,,UMOL/KG,,/MILLE,PERCNT,NMOL/KG,NMOL/KG,TU
    316N145_10,  I07N,   834,  1,     36,     36,2,19950817,1452, 20.2492,  61.7348, 3552,   -999,      4.0,  26.0702,  36.1565,2,  36.1594,2,    215.7,2, 26.0695,    208.7,2,     2.91,2,     4.99,2,     0.46,2,     0.73,2, -999.000,9, -999.000,9, -999.000,9,-999.0000,9,  -999.00,9,   -999.0,9,  -999.00,9,-999.000,9,   2049.0,2,   2360.2,2,  -999.0, -999.00,-999.0000,-999.000,-999.000
    316N145_10,  I07N,   834,  1,     35,     35,2,19950817,1452, 20.2492,  61.7348, 3552,   -999,     27.0,  26.1968,  36.3681,2,  36.3685,2,    198.5,2, 26.1909,    198.1,2,     3.95,2,     3.56,2,     0.33,2,     0.62,2, -999.000,9, -999.000,9, -999.000,9,-999.0000,9,  -999.00,9,   -999.0,9,  -999.00,9,-999.000,9,   -999.9,9,   -999.9,9,  -999.0, -999.00,-999.0000,-999.000,-999.000
    316N145_10,  I07N,   834,  1,     34,     34,2,19950817,1452, 20.2492,  61.7348, 3552,   -999,     50.1,  25.8040,  36.3448,2,  36.2945,2,    189.6,2, 25.7931,    136.0,2,     6.21,2,    10.26,2,     0.75,2,     1.04,2, -999.000,9, -999.000,9, -999.000,9,-999.0000,9,  -999.00,9,   -999.0,9,  -999.00,9,-999.000,9,   -999.9,9,   -999.9,9,  -999.0, -999.00,-999.0000,-999.000,-999.000
    316N145_10,  I07N,   834,  1,     33,     33,2,19950817,1452, 20.2492,  61.7348, 3552,   -999,     76.9,  21.8466,  36.2297,2,  36.2143,2,     39.5,2, 21.8316,     23.3,2,    12.67,2,    22.56,2,     0.05,2,     1.86,2,    1.491,2,    0.852,2, -999.000,9,-999.0000,9,  -999.00,9,   -999.0,9,  -999.00,9,-999.000,9,   -999.9,9,   -999.9,9,  -999.0, -999.00,-999.0000,-999.000,-999.000
    316N145_10,  I07N,   834,  1,     32,     32,2,19950817,1452, 20.2492,  61.7348, 3552,   -999,     99.1,  20.6308,  36.1068,2,  36.0701,2,      4.7,2, 20.6122,      3.7,2,    16.50,2,    24.02,2,     0.01,2,     2.11,2, -999.000,9, -999.000,9, -999.000,9,-999.0000,9,  -999.00,9,   -999.0,9,  -999.00,9,-999.000,9,   -999.9,9,   -999.9,9,  -999.0, -999.00,-999.0000,-999.000,-999.000
    316N145_10,  I07N,   834,  1,     31,     31,2,19950817,1452, 20.2492,  61.7348, 3552,   -999,    148.9,  18.4304,  36.0373,2,  36.0188,2,      3.2,2, 18.4044,      4.7,2,    21.73,2,    22.84,2,     0.00,2,     2.18,2,    0.925,2,    0.552,2, -999.000,9,-999.0000,9,  -999.00,9,   -999.0,9,  -999.00,9,-999.000,9,   -999.9,9,   -999.9,9,  -999.0, -999.00,-999.0000,-999.000,-999.000
    316N145_10,  I07N,   834,  1,     30,     30,2,19950817,1452, 20.2492,  61.7348, 3552,   -999,    199.7,  18.1056,  36.4006,2,  36.3673,2,     14.7,2, 18.0711,     10.5,2,    23.29,2,    21.18,2,     0.00,2,     2.12,2, -999.000,9, -999.000,9, -999.000,9,-999.0000,9,  -999.00,9,   -999.0,9,  -999.00,9,-999.000,9,   -999.9,9,   -999.9,9,  -999.0, -999.00,-999.0000,-999.000,-999.000
    316N145_10,  I07N,   834,  1,     29,     29,2,19950817,1452, 20.2492,  61.7348, 3552,   -999,    250.2,  16.8613,  36.3500,2,  36.3335,2,     15.6,2, 16.8199,      9.2,2,    25.38,2,    21.79,2,     0.00,2,     2.17,2,    0.724,2,    0.521,2, -999.000,9,-999.0000,9,  -999.00,9,   -999.0,9,  -999.00,9,-999.000,9,   -999.9,9,   -999.9,9,  -999.0, -999.00,-999.0000,-999.000,-999.000
    316N145_10,  I07N,   834,  1,     28,     28,2,19950817,1452, 20.2492,  61.7348, 3552,   -999,    300.5,  14.9087,  36.0008,2,  35.9939,2,      1.5,2, 14.8631,      1.8,2,    30.62,2,    23.83,2,     0.00,2,     2.35,2, -999.000,9, -999.000,9, -999.000,9,-999.0000,9,  -999.00,9,   -999.0,9,  -999.00,9,-999.000,9,   -999.9,9,   -999.9,9,  -999.0, -999.00,-999.0000,-999.000,-999.000
    316N145_10,  I07N,   834,  1,     27,     27,2,19950817,1452, 20.2492,  61.7348, 3552,   -999,    401.0,  12.9886,  35.7613,2,  35.7617,2,      2.1,2, 12.9328,      1.1,2,    38.65,2,    26.15,2,     0.00,2,     2.52,2, -999.000,9, -999.000,9, -999.000,9,-999.0000,9,  -999.00,9,   -999.0,9,  -999.00,9,-999.000,9,   -999.9,9,   -999.9,9,  -999.0, -999.00,-999.0000,-999.000,-999.000
    316N145_10,  I07N,   834,  1,     26,     26,2,19950817,1452, 20.2492,  61.7348, 3552,   -999,    500.9,  12.4761,  35.7380,3,  35.7420,2,   -999.0,9, 12.4079,      1.6,2,    43.36,2,    26.72,2,     0.00,2,     2.58,2,    0.151,2,    0.085,2, -999.000,9,-999.0000,9,  -999.00,9,   -999.0,9,  -999.00,9,-999.000,9,   -999.9,9,   -999.9,9,  -999.0, -999.00,-999.0000,-999.000,-999.000
    316N145_10,  I07N,   834,  1,     25,     25,2,19950817,1452, 20.2492,  61.7348, 3552,   -999,    600.4,  11.4163,  35.6406,2,  35.6429,2,      2.0,2, 11.3387,      2.6,2,    52.10,2,    29.52,2,     0.00,2,     2.69,2,    0.072,2,    0.047,2, -999.000,9,-999.0000,9,  -999.00,9,   -999.0,9,  -999.00,9,-999.000,9,   -999.9,9,   -999.9,9,  -999.0, -999.00,-999.0000,-999.000,-999.000
    316N145_10,  I07N,   834,  1,     24,     24,2,19950817,1452, 20.2492,  61.7348, 3552,   -999,    700.7,  10.7947,  35.5920,2,  35.5936,2,      2.1,2, 10.7069,      2.3,2,    57.88,2,    31.48,2,     0.00,2,     2.73,2, -999.000,9, -999.000,9, -999.000,9,-999.0000,9,  -999.00,9,   -999.0,9,  -999.00,9,-999.000,9,   -999.9,9,   -999.9,9,  -999.0, -999.00,-999.0000,-999.000,-999.000
    316N145_10,  I07N,   834,  1,     23,     23,2,19950817,1452, 20.2492,  61.7348, 3552,   -999,    802.3,  10.2189,  35.5427,2,  35.5434,2,      2.3,2, 10.1212,      2.3,2,    63.48,2,    33.01,2,     0.00,2,     2.78,2,    0.036,2,    0.022,2, -999.000,9,-999.0000,9,  -999.00,9,   -999.0,9,  -999.00,9,-999.000,9,   -999.9,9,   -999.9,9,  -999.0, -999.00,-999.0000,-999.000,-999.000
    316N145_10,  I07N,   834,  1,     22,     22,2,19950817,1452, 20.2492,  61.7348, 3552,   -999,    900.1,   9.5681,  35.4852,2,  35.4865,2,      3.1,2,  9.4622,      3.1,2,    69.10,2,    34.59,2,     0.00,2,     2.84,2, -999.000,9, -999.000,9, -999.000,9,-999.0000,9,  -999.00,9,   -999.0,9,  -999.00,9,-999.000,9,   -999.9,9,   -999.9,9,  -999.0, -999.00,-999.0000,-999.000,-999.000
    316N145_10,  I07N,   834,  1,     21,     21,2,19950817,1452, 20.2492,  61.7348, 3552,   -999,   1001.9,   8.9610,  35.4193,2,  35.4225,2,      3.5,2,  8.8470,      3.2,2,    74.73,2,    35.79,2,     0.00,2,     2.90,2, -999.000,9, -999.000,9, -999.000,9,-999.0000,9,  -999.00,9,   -999.0,9,  -999.00,9,-999.000,9,   -999.9,9,   -999.9,9,  -999.0, -999.00,-999.0000,-999.000,-999.000
    316N145_10,  I07N,   834,  1,     20,     20,2,19950817,1452, 20.2492,  61.7348, 3552,   -999,   1101.9,   8.1040,  35.3292,2,  35.3296,2,      5.5,2,  7.9848,      5.9,2,    82.32,2,    37.15,2,     0.00,2,     2.96,2,    0.011,2,    0.006,2, -999.000,9,-999.0000,9,  -999.00,9,   -999.0,9,  -999.00,9,-999.000,9,   -999.9,9,   -999.9,9,  -999.0, -999.00,-999.0000,-999.000,-999.000
    316N145_10,  I07N,   834,  1,     19,     19,2,19950817,1452, 20.2492,  61.7348, 3552,   -999,   1203.4,   7.3361,  35.2467,2,  35.2473,2,      9.6,2,  7.2120,      9.8,2,    89.23,2,    38.11,2,     0.00,2,     3.02,2, -999.000,9, -999.000,9, -999.000,9,-999.0000,9,  -999.00,9,   -999.0,9,  -999.00,9,-999.000,9,   -999.9,9,   -999.9,9,  -999.0, -999.00,-999.0000,-999.000,-999.000
    316N145_10,  I07N,   834,  1,     18,     18,2,19950817,1452, 20.2492,  61.7348, 3552,   -999,   1302.0,   6.7028,  35.1776,2,  35.1812,2,     16.6,2,  6.5738,     16.8,2,    95.29,2,    38.45,2,     0.00,2,     3.02,2, -999.000,9, -999.000,9, -999.000,9,-999.0000,9,  -999.00,9,   -999.0,9,  -999.00,9,-999.000,9,   -999.9,9,   -999.9,9,  -999.0, -999.00,-999.0000,-999.000,-999.000
    316N145_10,  I07N,   834,  1,     17,     17,2,19950817,1452, 20.2492,  61.7348, 3552,   -999,   1399.4,   6.0841,  35.1152,2,  35.1152,2,     24.7,2,  5.9510,     25.5,2,   101.75,2,    38.65,2,     0.00,2,     3.02,2,    0.003,2,    0.002,2, -999.000,9,-999.0000,9,  -999.00,9,   -999.0,9,  -999.00,9,-999.000,9,   -999.9,9,   -999.9,9,  -999.0, -999.00,-999.0000,-999.000,-999.000
    316N145_10,  I07N,   834,  1,     16,     16,2,19950817,1452, 20.2492,  61.7348, 3552,   -999,   1499.9,   5.4064,  35.0489,2,  35.0489,2,     35.4,2,  5.2704,     34.5,2,   108.98,2,    38.69,2,     0.00,2,     3.01,2, -999.000,9, -999.000,9, -999.000,9,-999.0000,9,  -999.00,9,   -999.0,9,  -999.00,9,-999.000,9,   -999.9,9,   -999.9,9,  -999.0, -999.00,-999.0000,-999.000,-999.000
    316N145_10,  I07N,   834,  1,     15,     15,2,19950817,1452, 20.2492,  61.7348, 3552,   -999,   1602.0,   4.6736,  34.9797,2,  34.9815,2,     46.9,2,  4.5360,     47.1,2,   116.65,2,    38.64,2,     0.00,2,     2.97,2, -999.000,9, -999.000,9, -999.000,9,-999.0000,9,  -999.00,9,   -999.0,9,  -999.00,9,-999.000,9,   -999.9,9,   -999.9,9,  -999.0, -999.00,-999.0000,-999.000,-999.000
    316N145_10,  I07N,   834,  1,     14,     14,2,19950817,1452, 20.2492,  61.7348, 3552,   -999,   1703.0,   4.1892,  34.9348,2,  34.9348,2,     58.2,2,  4.0480,     58.8,2,   121.62,2,    38.35,2,     0.00,2,     2.92,2,    0.000,2,    0.001,2, -999.000,9,-999.0000,9,  -999.00,9,   -999.0,9,  -999.00,9,-999.000,9,   -999.9,9,   -999.9,9,  -999.0, -999.00,-999.0000,-999.000,-999.000
    316N145_10,  I07N,   834,  1,     13,     13,2,19950817,1452, 20.2492,  61.7348, 3552,   -999,   1799.6,   3.7703,  34.8979,2,  34.8994,2,     67.1,2,  3.6256,     67.9,2,   125.90,2,    38.15,2,     0.00,2,     2.88,2, -999.000,9, -999.000,9, -999.000,9,-999.0000,9,  -999.00,9,   -999.0,9,  -999.00,9,-999.000,9,   -999.9,9,   -999.9,9,  -999.0, -999.00,-999.0000,-999.000,-999.000
    316N145_10,  I07N,   834,  1,     12,     12,2,19950817,1452, 20.2492,  61.7348, 3552,   -999,   1899.8,   3.4209,  34.8681,2,  34.8698,2,     75.3,2,  3.2717,     76.0,2,   129.83,2,    37.91,2,     0.00,2,     2.84,2, -999.000,9, -999.000,9, -999.000,9,-999.0000,9,  -999.00,9,   -999.0,9,  -999.00,9,-999.000,9,   -999.9,9,   -999.9,9,  -999.0, -999.00,-999.0000,-999.000,-999.000
    316N145_10,  I07N,   834,  1,     11,     11,2,19950817,1452, 20.2492,  61.7348, 3552,   -999,   2000.7,   3.1308,  34.8453,2,  34.8448,2,     83.1,2,  2.9767,     83.2,2,   132.84,2,    37.71,2,     0.00,2,     2.79,2, -999.000,9, -999.000,9, -999.000,9,-999.0000,9,  -999.00,9,   -999.0,9,  -999.00,9,-999.000,9,   -999.9,9,   -999.9,9,  -999.0, -999.00,-999.0000,-999.000,-999.000
    316N145_10,  I07N,   834,  1,     10,     10,2,19950817,1452, 20.2492,  61.7348, 3552,   -999,   2103.0,   2.8841,  34.8254,2,  34.8248,2,     88.4,2,  2.7244,     88.8,2,   136.07,2,    37.52,2,     0.00,2,     2.75,2,    0.000,2,    0.000,2, -999.000,9,-999.0000,9,  -999.00,9,   -999.0,9,  -999.00,9,-999.000,9,   -999.9,9,   -999.9,9,  -999.0, -999.00,-999.0000,-999.000,-999.000
    316N145_10,  I07N,   834,  1,      9,      9,2,19950817,1452, 20.2492,  61.7348, 3552,   -999,   2299.8,   2.5176,  34.7971,2,  34.7971,2,     96.9,2,  2.3459,     97.6,2,   140.67,2,    37.17,2,     0.00,2,     2.72,2, -999.000,9, -999.000,9, -999.000,9,-999.0000,9,  -999.00,9,   -999.0,9,  -999.00,9,-999.000,9,   -999.9,9,   -999.9,9,  -999.0, -999.00,-999.0000,-999.000,-999.000
    316N145_10,  I07N,   834,  1,      8,      8,2,19950817,1452, 20.2492,  61.7348, 3552,   -999,   2501.4,   2.2058,  34.7747,2,  34.7732,2,    104.2,2,  2.0212,    104.9,2,   145.13,2,    36.88,2,     0.00,2,     2.67,2, -999.000,9, -999.000,9, -999.000,9,-999.0000,9,  -999.00,9,   -999.0,9,  -999.00,9,-999.000,9,   -999.9,9,   -999.9,9,  -999.0, -999.00,-999.0000,-999.000,-999.000
    316N145_10,  I07N,   834,  1,      7,      7,2,19950817,1452, 20.2492,  61.7348, 3552,   -999,   2700.0,   1.9819,  34.7579,2,  34.7590,2,    110.5,2,  1.7830,    111.0,2,   148.26,2,    36.69,2,     0.00,2,     2.64,2, -999.000,9, -999.000,9, -999.000,9,-999.0000,9,  -999.00,9,   -999.0,9,  -999.00,9,-999.000,9,   -999.9,9,   -999.9,9,  -999.0, -999.00,-999.0000,-999.000,-999.000
    316N145_10,  I07N,   834,  1,      6,      6,2,19950817,1452, 20.2492,  61.7348, 3552,   -999,   2899.2,   1.8488,  34.7485,2,  34.7478,2,    114.7,2,  1.6339,    115.1,2,   150.22,2,    36.54,2,     0.00,2,     2.62,2,    0.006,2,    0.016,2, -999.000,9,-999.0000,9,  -999.00,9,   -999.0,9,  -999.00,9,-999.000,9,   -999.9,9,   -999.9,9,  -999.0, -999.00,-999.0000,-999.000,-999.000
    316N145_10,  I07N,   834,  1,      5,      5,2,19950817,1452, 20.2492,  61.7348, 3552,   -999,   3101.3,   1.7925,  34.7441,2,  34.7431,2,    119.8,2,  1.5592,    119.5,2,   150.22,2,    36.39,2,     0.00,2,     2.60,2, -999.000,9, -999.000,9, -999.000,9,-999.0000,9,  -999.00,9,   -999.0,9,  -999.00,9,-999.000,9,   -999.9,9,   -999.9,9,  -999.0, -999.00,-999.0000,-999.000,-999.000
    316N145_10,  I07N,   834,  1,      4,      4,2,19950817,1452, 20.2492,  61.7348, 3552,   -999,   3401.5,   1.7381,  34.7400,2,  34.7386,2,    125.4,2,  1.4759,    125.6,2,   150.61,2,    36.15,2,     0.00,2,     2.61,2,    0.010,2,    0.025,2, -999.000,9,-999.0000,9,  -999.00,9,   -999.0,9,  -999.00,9,-999.000,9,   -999.9,9,   -999.9,9,  -999.0, -999.00,-999.0000,-999.000,-999.000
    316N145_10,  I07N,   834,  1,      3,      3,2,19950817,1452, 20.2492,  61.7348, 3552,   -999,   3503.4,   1.7136,  34.7382,2,  34.7367,2,    133.7,2,  1.4415,    135.7,2,   146.66,2,    35.85,2,     0.00,2,     2.59,2,    0.007,2,    0.010,2, -999.000,9,-999.0000,9,  -999.00,9,   -999.0,9,  -999.00,9,-999.000,9,   -999.9,9,   -999.9,9,  -999.0, -999.00,-999.0000,-999.000,-999.000
    316N145_10,  I07N,   834,  1,      2,      2,2,19950817,1452, 20.2492,  61.7348, 3552,   -999,   3562.2,   1.7035,  34.7374,2,  34.7372,2,    131.2,2,  1.4256,    130.4,2,   149.80,2,    36.14,2,     0.00,2,     2.61,2, -999.000,9, -999.000,9, -999.000,9,-999.0000,9,  -999.00,9,   -999.0,9,  -999.00,9,-999.000,9,   -999.9,9,   -999.9,9,  -999.0, -999.00,-999.0000,-999.000,-999.000
    316N145_10,  I07N,   834,  1,      1,      1,2,19950817,1452, 20.2492,  61.7348, 3552,   -999,   3601.9,   1.6695,  34.7358,2,  34.7349,2,    136.0,2,  1.3883,    136.2,2,   148.41,2,    35.85,2,     0.00,2,     2.59,2,    0.009,2,    0.016,2, -999.000,9,-999.0000,9,  -999.00,9,   -999.0,9,  -999.00,9,-999.000,9,   -999.9,9,   -999.9,9,  -999.0, -999.00,-999.0000,-999.000,-999.000