BOTTLE,20080821WHPSIOSCD
EXPOCODE,SECT_ID,STNNBR,CASTNO,SAMPNO,BTLNBR,BTLNBR_FLAG_W,DATE,TIME,LATITUDE,LONGITUDE,DEPTH,CTDRAW,CTDPRS,CTDTMP,CTDSAL,CTDSAL_FLAG_W,SALNTY,SALNTY_FLAG_W,CTDOXY,CTDOXY_FLAG_W,THETA,OXYGEN,OXYGEN_FLAG_W,SILCAT,SILCAT_FLAG_W,NITRAT,NITRAT_FLAG_W,NITRIT,NITRIT_FLAG_W,PHSPHT,PHSPHT_FLAG_W,CFC-11,CFC-11_FLAG_W,CFC-12,CFC-12_FLAG_W,TRITUM,TRITUM_FLAG_W,HELIUM,HELIUM_FLAG_W,DELHE3,DELHE3_FLAG_W,DELC14,DELC14_FLAG_W,DELC13,DELC13_FLAG_W,NEON,NEON_FLAG_W,TCARBN,TCARBN_FLAG_W,ALKALI,ALKALI_FLAG_W,C14ERR,DELHER,HELIER,NEONER,TRITER
,,,,,,,,,,,,,DBAR,ITS-90,PSS-78,,PSS-78,,UMOL/KG,,DEG C,UMOL/KG,,UMOL/KG,,UMOL/KG,,UMOL/KG,,UMOL/KG,,PMOL/KG,,PMOL/KG,,TU,,NMOL/KG,,PERCNT,,/MILLE,,/MILLE,,NMOL/KG,,UMOL/KG,,UMOL/KG,,/MILLE,PERCNT,NMOL/KG,NMOL/KG,TU
    316N145_10,  I07N,   845,  1,     36,     36,2,19950820,0852, 23.8280,  59.6282, 3342,   -999,      3.3,  31.6189,  36.9678,8,  36.8145,2,    236.3,2, 31.6183,    175.3,2,     3.59,2,     1.93,2,     0.02,2,     0.43,2,    1.544,2,    0.879,2, -999.000,9,-999.0000,9,  -999.00,9,   -999.0,9,  -999.00,9,-999.000,9,   2044.9,2,   2407.8,2,  -999.0, -999.00,-999.0000,-999.000,-999.000
    316N145_10,  I07N,   845,  1,     35,     35,2,19950820,0852, 23.8280,  59.6282, 3342,   -999,     26.0,  22.4954,  36.3840,2,  36.3139,2,     32.6,2, 22.4904,     22.0,2,    12.34,2,    21.59,2,     0.13,2,     1.88,2, -999.000,9, -999.000,9, -999.000,9,-999.0000,9,  -999.00,9,   -999.0,9,  -999.00,9,-999.000,9,   -999.9,9,   -999.9,9,  -999.0, -999.00,-999.0000,-999.000,-999.000
    316N145_10,  I07N,   845,  1,     34,     34,2,19950820,0852, 23.8280,  59.6282, 3342,   -999,     49.8,  19.9811,  36.1532,2,  36.1531,2,      3.9,2, 19.9720,      4.5,2,    18.99,2,    22.51,2,     0.01,2,     2.20,2,    1.137,2,    0.665,2, -999.000,9,-999.0000,9,  -999.00,9,   -999.0,9,  -999.00,9,-999.000,9,   -999.9,9,   -999.9,9,  -999.0, -999.00,-999.0000,-999.000,-999.000
    316N145_10,  I07N,   845,  1,     33,     33,2,19950820,0852, 23.8280,  59.6282, 3342,   -999,     76.4,  19.0289,  36.1724,2,  36.1912,2,      5.8,2, 19.0154,      5.8,2,    20.90,2,    21.77,2,     0.01,2,     2.21,2, -999.000,9, -999.000,9, -999.000,9,-999.0000,9,  -999.00,9,   -999.0,9,  -999.00,9,-999.000,9,   -999.9,9,   -999.9,9,  -999.0, -999.00,-999.0000,-999.000,-999.000
    316N145_10,  I07N,   845,  1,     32,     32,2,19950820,0852, 23.8280,  59.6282, 3342,   -999,    101.2,  18.8821,  36.4081,2,  36.4361,2,     12.1,2, 18.8642,     13.4,2,    21.06,2,    20.55,2,     0.01,2,     2.11,2,    0.971,2,    0.627,2, -999.000,9,-999.0000,9,  -999.00,9,   -999.0,9,  -999.00,9,-999.000,9,   -999.9,9,   -999.9,9,  -999.0, -999.00,-999.0000,-999.000,-999.000
    316N145_10,  I07N,   845,  1,     31,     31,2,19950820,0852, 23.8280,  59.6282, 3342,   -999,    145.5,  18.1093,  36.5143,2,  36.5041,2,     15.9,2, 18.0842,     15.2,2,    22.62,2,    20.56,2,     0.01,2,     2.12,2,    0.881,2,    0.596,2, -999.000,9,-999.0000,9,  -999.00,9,   -999.0,9,  -999.00,9,-999.000,9,   -999.9,9,   -999.9,9,  -999.0, -999.00,-999.0000,-999.000,-999.000
    316N145_10,  I07N,   845,  1,     30,     30,2,19950820,0852, 23.8280,  59.6282, 3342,   -999,    200.5,  16.4004,  36.2849,2,  36.2775,2,      2.1,2, 16.3680,      4.1,2,    26.99,2,    21.96,2,     0.02,2,     2.29,2,    0.656,2,    0.418,2, -999.000,9,-999.0000,9,  -999.00,9,   -999.0,9,  -999.00,9,-999.000,9,   -999.9,9,   -999.9,9,  -999.0, -999.00,-999.0000,-999.000,-999.000
    316N145_10,  I07N,   845,  1,     29,     29,2,19950820,0852, 23.8280,  59.6282, 3342,   -999,    250.5,  15.3306,  36.1596,2,  36.1517,2,      1.5,2, 15.2918,      2.0,2,    30.48,2,    22.50,2,     0.00,2,     2.39,2, -999.000,9, -999.000,9, -999.000,9,-999.0000,9,  -999.00,9,   -999.0,9,  -999.00,9,-999.000,9,   -999.9,9,   -999.9,9,  -999.0, -999.00,-999.0000,-999.000,-999.000
    316N145_10,  I07N,   845,  1,     28,     28,2,19950820,0852, 23.8280,  59.6282, 3342,   -999,    300.3,  14.2181,  35.9878,2,  35.9801,2,      1.5,2, 14.1739,      1.5,2,    34.85,2,    23.48,2,     0.01,2,     2.49,2, -999.000,9, -999.000,9, -999.000,9,-999.0000,9,  -999.00,9,   -999.0,9,  -999.00,9,-999.000,9,   -999.9,9,   -999.9,9,  -999.0, -999.00,-999.0000,-999.000,-999.000
    316N145_10,  I07N,   845,  1,     27,     27,2,19950820,0852, 23.8280,  59.6282, 3342,   -999,    399.5,  12.5577,  35.7626,2,  35.7616,2,      1.7,2, 12.5033,      0.9,2,    43.77,2,    25.55,2,     0.01,2,     2.64,2, -999.000,9, -999.000,9, -999.000,9,-999.0000,9,  -999.00,9,   -999.0,9,  -999.00,9,-999.000,9,   -999.9,9,   -999.9,9,  -999.0, -999.00,-999.0000,-999.000,-999.000
    316N145_10,  I07N,   845,  1,     26,     26,2,19950820,0852, 23.8280,  59.6282, 3342,   -999,    490.1,  11.5556,  35.6548,2,  35.6533,2,      1.9,2, 11.4921,      1.3,2,    52.00,2,    28.29,2,     0.00,2,     2.74,2,    0.071,2,    0.044,2, -999.000,9,-999.0000,9,  -999.00,9,   -999.0,9,  -999.00,9,-999.000,9,   -999.9,9,   -999.9,9,  -999.0, -999.00,-999.0000,-999.000,-999.000
    316N145_10,  I07N,   845,  1,     25,     25,2,19950820,0852, 23.8280,  59.6282, 3342,   -999,    601.0,  10.6890,  35.5823,2,  35.5816,2,      2.0,2, 10.6145,      2.3,2,    59.54,2,    31.27,2,     0.00,2,     2.80,2, -999.000,9, -999.000,9, -999.000,9,-999.0000,9,  -999.00,9,   -999.0,9,  -999.00,9,-999.000,9,   -999.9,9,   -999.9,9,  -999.0, -999.00,-999.0000,-999.000,-999.000
    316N145_10,  I07N,   845,  1,     24,     24,2,19950820,0852, 23.8280,  59.6282, 3342,   -999,    700.5,  10.0781,  35.5277,2,  35.5294,2,      2.2,2,  9.9939,      2.2,2,    65.50,2,    32.84,2,     0.00,2,     2.87,2, -999.000,9, -999.000,9, -999.000,9,-999.0000,9,  -999.00,9,   -999.0,9,  -999.00,9,-999.000,9,   -999.9,9,   -999.9,9,  -999.0, -999.00,-999.0000,-999.000,-999.000
    316N145_10,  I07N,   845,  1,     23,     23,2,19950820,0852, 23.8280,  59.6282, 3342,   -999,    801.4,   9.3444,  35.4579,2,  35.4571,2,      2.3,2,  9.2520,      2.2,2,    72.36,2,    34.61,2,     0.00,2,     2.94,2,    0.019,2,    0.014,2, -999.000,9,-999.0000,9,  -999.00,9,   -999.0,9,  -999.00,9,-999.000,9,   -999.9,9,   -999.9,9,  -999.0, -999.00,-999.0000,-999.000,-999.000
    316N145_10,  I07N,   845,  1,     22,     22,2,19950820,0852, 23.8280,  59.6282, 3342,   -999,    900.4,   8.5085,  35.3716,2,  35.3717,2,      2.9,2,  8.4096,      3.4,2,    79.76,2,    36.20,2,     0.00,2,     3.01,2, -999.000,9, -999.000,9, -999.000,9,-999.0000,9,  -999.00,9,   -999.0,9,  -999.00,9,-999.000,9,   -999.9,9,   -999.9,9,  -999.0, -999.00,-999.0000,-999.000,-999.000
    316N145_10,  I07N,   845,  1,     21,     21,2,19950820,0852, 23.8280,  59.6282, 3342,   -999,   1001.0,   7.8144,  35.2976,2,  35.2973,2,      5.4,2,  7.7089,      6.0,2,    85.96,2,    37.26,2,     0.00,2,     3.06,2, -999.000,9, -999.000,9, -999.000,9,-999.0000,9,  -999.00,9,   -999.0,9,  -999.00,9,-999.000,9,   -999.9,9,   -999.9,9,  -999.0, -999.00,-999.0000,-999.000,-999.000
    316N145_10,  I07N,   845,  1,     20,     20,2,19950820,0852, 23.8280,  59.6282, 3342,   -999,   1102.0,   7.3080,  35.2444,2,  35.2460,2,      9.4,2,  7.1953,     10.0,2,    90.57,2,    37.61,2,     0.00,2,     3.07,2, -999.000,9, -999.000,9, -999.000,9,-999.0000,9,  -999.00,9,   -999.0,9,  -999.00,9,-999.000,9,   -999.9,9,   -999.9,9,  -999.0, -999.00,-999.0000,-999.000,-999.000
    316N145_10,  I07N,   845,  1,     19,     19,2,19950820,0852, 23.8280,  59.6282, 3342,   -999,   1202.7,   6.6063,  35.1697,2,  35.1702,2,     16.7,2,  6.4888,     17.7,2,    97.53,2,    38.10,2,     0.00,2,     3.09,2, -999.000,9, -999.000,9, -999.000,9,-999.0000,9,  -999.00,9,   -999.0,9,  -999.00,9,-999.000,9,   -999.9,9,   -999.9,9,  -999.0, -999.00,-999.0000,-999.000,-999.000
    316N145_10,  I07N,   845,  1,     18,     18,2,19950820,0852, 23.8280,  59.6282, 3342,   -999,   1301.8,   5.9576,  35.1035,2,  35.1083,3,     25.8,2,  5.8359,     25.9,2,   103.63,2,    38.30,2,     0.00,2,     3.08,2, -999.000,9, -999.000,9, -999.000,9,-999.0000,9,  -999.00,9,   -999.0,9,  -999.00,9,-999.000,9,   -999.9,9,   -999.9,9,  -999.0, -999.00,-999.0000,-999.000,-999.000
    316N145_10,  I07N,   845,  1,     17,     17,2,19950820,0852, 23.8280,  59.6282, 3342,   -999,   1400.2,   5.3467,  35.0451,2,  35.0448,2,     35.0,2,  5.2214,     35.0,2,   110.33,2,    38.41,2,     0.00,2,     3.05,2, -999.000,9, -999.000,9, -999.000,9,-999.0000,9,  -999.00,9,   -999.0,9,  -999.00,9,-999.000,9,   -999.9,9,   -999.9,9,  -999.0, -999.00,-999.0000,-999.000,-999.000
    316N145_10,  I07N,   845,  1,     16,     16,2,19950820,0852, 23.8280,  59.6282, 3342,   -999,   1501.8,   4.8395,  34.9958,2,  34.9986,2,     44.2,2,  4.7098,     43.4,2,   116.16,2,    38.37,2,     0.00,2,     3.03,2, -999.000,9, -999.000,9, -999.000,9,-999.0000,9,  -999.00,9,   -999.0,9,  -999.00,9,-999.000,9,   -999.9,9,   -999.9,9,  -999.0, -999.00,-999.0000,-999.000,-999.000
    316N145_10,  I07N,   845,  1,     15,     15,2,19950820,0852, 23.8280,  59.6282, 3342,   -999,   1602.6,   4.2939,  34.9469,2,  34.9483,2,     54.6,2,  4.1609,     53.5,2,   122.05,2,    38.14,2,     0.00,2,     2.99,2, -999.000,9, -999.000,9, -999.000,9,-999.0000,9,  -999.00,9,   -999.0,9,  -999.00,9,-999.000,9,   -999.9,9,   -999.9,9,  -999.0, -999.00,-999.0000,-999.000,-999.000
    316N145_10,  I07N,   845,  1,     14,     14,2,19950820,0852, 23.8280,  59.6282, 3342,   -999,   1704.0,   3.9195,  34.9139,2,  34.9149,2,     62.8,2,  3.7817,     61.1,2,   126.13,2,    38.10,2,     0.00,2,     2.96,2, -999.000,9, -999.000,9, -999.000,9,-999.0000,9,  -999.00,9,   -999.0,9,  -999.00,9,-999.000,9,   -999.9,9,   -999.9,9,  -999.0, -999.00,-999.0000,-999.000,-999.000
    316N145_10,  I07N,   845,  1,     13,     13,2,19950820,0852, 23.8280,  59.6282, 3342,   -999,   1800.2,   3.5651,  34.8822,2,  34.8827,2,     70.2,2,  3.4231,     69.8,2,   130.05,2,    37.92,2,     0.00,2,     2.92,2, -999.000,9, -999.000,9, -999.000,9,-999.0000,9,  -999.00,9,   -999.0,9,  -999.00,9,-999.000,9,   -999.9,9,   -999.9,9,  -999.0, -999.00,-999.0000,-999.000,-999.000
    316N145_10,  I07N,   845,  1,     12,     12,2,19950820,0852, 23.8280,  59.6282, 3342,   -999,   1901.0,   3.1926,  34.8528,2,  34.8525,2,     78.5,2,  3.0466,     77.8,2,   134.38,2,    37.68,2,     0.00,2,     2.88,2, -999.000,9, -999.000,9, -999.000,9,-999.0000,9,  -999.00,9,   -999.0,9,  -999.00,9,-999.000,9,   -999.9,9,   -999.9,9,  -999.0, -999.00,-999.0000,-999.000,-999.000
    316N145_10,  I07N,   845,  1,     11,     11,2,19950820,0852, 23.8280,  59.6282, 3342,   -999,   2002.5,   2.9729,  34.8342,2,  34.8344,2,     84.5,2,  2.8210,     83.7,2,   136.84,2,    37.45,2,     0.00,2,     2.84,2, -999.000,9, -999.000,9, -999.000,9,-999.0000,9,  -999.00,9,   -999.0,9,  -999.00,9,-999.000,9,   -999.9,9,   -999.9,9,  -999.0, -999.00,-999.0000,-999.000,-999.000
    316N145_10,  I07N,   845,  1,     10,     10,2,19950820,0852, 23.8280,  59.6282, 3342,   -999,   2104.0,   2.7577,  34.8169,2,  34.8162,2,     90.7,2,  2.5999,     89.0,2,   139.50,2,    37.36,2,     0.00,2,     2.81,2, -999.000,9, -999.000,9, -999.000,9,-999.0000,9,  -999.00,9,   -999.0,9,  -999.00,9,-999.000,9,   -999.9,9,   -999.9,9,  -999.0, -999.00,-999.0000,-999.000,-999.000
    316N145_10,  I07N,   845,  1,      9,      9,2,19950820,0852, 23.8280,  59.6282, 3342,   -999,   2200.1,   2.6101,  34.8055,2,  34.8052,2,     94.4,2,  2.4459,     93.2,2,   141.21,2,    37.18,2,     0.00,2,     2.79,2, -999.000,9, -999.000,9, -999.000,9,-999.0000,9,  -999.00,9,   -999.0,9,  -999.00,9,-999.000,9,   -999.9,9,   -999.9,9,  -999.0, -999.00,-999.0000,-999.000,-999.000
    316N145_10,  I07N,   845,  1,      8,      8,2,19950820,0852, 23.8280,  59.6282, 3342,   -999,   2302.2,   2.4394,  34.7919,2,  34.7910,2,     98.9,2,  2.2689,     97.3,2,   143.32,2,    37.09,2,     0.00,2,     2.77,2, -999.000,9, -999.000,9, -999.000,9,-999.0000,9,  -999.00,9,   -999.0,9,  -999.00,9,-999.000,9,   -999.9,9,   -999.9,9,  -999.0, -999.00,-999.0000,-999.000,-999.000
    316N145_10,  I07N,   845,  1,      7,      7,2,19950820,0852, 23.8280,  59.6282, 3342,   -999,   2499.9,   2.1455,  34.7695,2,  34.7702,2,    105.9,2,  1.9621,    104.9,2,   147.40,2,    36.67,2,     0.00,2,     2.72,2, -999.000,9, -999.000,9, -999.000,9,-999.0000,9,  -999.00,9,   -999.0,9,  -999.00,9,-999.000,9,   -999.9,9,   -999.9,9,  -999.0, -999.00,-999.0000,-999.000,-999.000
    316N145_10,  I07N,   845,  1,      6,      6,2,19950820,0852, 23.8280,  59.6282, 3342,   -999,   2703.1,   1.9520,  34.7554,2,  34.7555,2,    109.9,2,  1.7535,    108.8,2,   150.53,2,    36.53,2,     0.00,2,     2.70,2, -999.000,9, -999.000,9, -999.000,9,-999.0000,9,  -999.00,9,   -999.0,9,  -999.00,9,-999.000,9,   -999.9,9,   -999.9,9,  -999.0, -999.00,-999.0000,-999.000,-999.000
    316N145_10,  I07N,   845,  1,      5,      5,2,19950820,0852, 23.8280,  59.6282, 3342,   -999,   2900.7,   1.8584,  34.7485,2,  34.7482,2,    111.8,2,  1.6431,    111.3,2,   152.29,2,    36.44,2,     0.00,2,     2.69,2, -999.000,9, -999.000,9, -999.000,9,-999.0000,9,  -999.00,9,   -999.0,9,  -999.00,9,-999.000,9,   -999.9,9,   -999.9,9,  -999.0, -999.00,-999.0000,-999.000,-999.000
    316N145_10,  I07N,   845,  1,      4,      4,2,19950820,0852, 23.8280,  59.6282, 3342,   -999,   3099.3,   1.8186,  34.7449,2,  34.7461,2,    110.8,2,  1.5849,    110.6,2,   153.86,2,    36.26,2,     0.00,2,     2.69,2,    0.022,2,    0.046,2, -999.000,9,-999.0000,9,  -999.00,9,   -999.0,9,  -999.00,9,-999.000,9,   -999.9,9,   -999.9,9,  -999.0, -999.00,-999.0000,-999.000,-999.000
    316N145_10,  I07N,   845,  1,      3,      3,2,19950820,0852, 23.8280,  59.6282, 3342,   -999,   3298.2,   1.7889,  34.7423,2,  34.7420,2,    104.3,2,  1.5360,    104.4,2,   157.25,2,    35.98,2,     0.00,2,     2.73,2, -999.000,9, -999.000,9, -999.000,9,-999.0000,9,  -999.00,9,   -999.0,9,  -999.00,9,-999.000,9,   -999.9,9,   -999.9,9,  -999.0, -999.00,-999.0000,-999.000,-999.000
    316N145_10,  I07N,   845,  1,      2,      2,2,19950820,0852, 23.8280,  59.6282, 3342,   -999,   3354.0,   1.7914,  34.7419,2,  34.7423,2,    104.1,2,  1.5328,    104.8,2,   157.42,2,    35.98,2,     0.00,2,     2.74,2, -999.000,9, -999.000,9, -999.000,9,-999.0000,9,  -999.00,9,   -999.0,9,  -999.00,9,-999.000,9,   -999.9,9,   -999.9,9,  -999.0, -999.00,-999.0000,-999.000,-999.000
    316N145_10,  I07N,   845,  1,      1,      1,2,19950820,0852, 23.8280,  59.6282, 3342,   -999,   3383.0,   1.7940,  34.7421,2,  34.7435,2,    100.3,2,  1.5324,    105.8,2,   156.99,2,    35.94,2,     0.00,2,     2.72,2,    0.031,2,    0.110,2, -999.000,9,-999.0000,9,  -999.00,9,   -999.0,9,  -999.00,9,-999.000,9,   -999.9,9,   -999.9,9,  -999.0, -999.00,-999.0000,-999.000,-999.000