BOTTLE,20080821WHPSIOSCD
EXPOCODE,SECT_ID,STNNBR,CASTNO,SAMPNO,BTLNBR,BTLNBR_FLAG_W,DATE,TIME,LATITUDE,LONGITUDE,DEPTH,CTDRAW,CTDPRS,CTDTMP,CTDSAL,CTDSAL_FLAG_W,SALNTY,SALNTY_FLAG_W,CTDOXY,CTDOXY_FLAG_W,THETA,OXYGEN,OXYGEN_FLAG_W,SILCAT,SILCAT_FLAG_W,NITRAT,NITRAT_FLAG_W,NITRIT,NITRIT_FLAG_W,PHSPHT,PHSPHT_FLAG_W,CFC-11,CFC-11_FLAG_W,CFC-12,CFC-12_FLAG_W,TRITUM,TRITUM_FLAG_W,HELIUM,HELIUM_FLAG_W,DELHE3,DELHE3_FLAG_W,DELC14,DELC14_FLAG_W,DELC13,DELC13_FLAG_W,NEON,NEON_FLAG_W,TCARBN,TCARBN_FLAG_W,ALKALI,ALKALI_FLAG_W,C14ERR,DELHER,HELIER,NEONER,TRITER
,,,,,,,,,,,,,DBAR,ITS-90,PSS-78,,PSS-78,,UMOL/KG,,DEG C,UMOL/KG,,UMOL/KG,,UMOL/KG,,UMOL/KG,,UMOL/KG,,PMOL/KG,,PMOL/KG,,TU,,NMOL/KG,,PERCNT,,/MILLE,,/MILLE,,NMOL/KG,,UMOL/KG,,UMOL/KG,,/MILLE,PERCNT,NMOL/KG,NMOL/KG,TU
    316N145_10,  I07N,   814,  1,     36,     36,2,19950812,2245, 19.3315,  62.9168, 3511,   -999,      9.1,  26.8366,  36.2710,2,  36.2708,2,    216.7,2, 26.8347,    212.1,2,     2.93,2,     0.68,2,     0.14,2,     0.47,2,    1.690,2,    0.947,2,    0.779,2,   1.6860,2,    -0.40,2,     40.2,2,     1.27,2,   6.913,2,   2026.6,2,   2373.0,2,     3.4,    0.20,  0.0080,   0.138,   0.008
    316N145_10,  I07N,   814,  1,     35,     35,2,19950812,2245, 19.3315,  62.9168, 3511,   -999,     21.1,  26.8416,  36.2698,2,  36.2663,2,    210.1,2, 26.8370,    211.2,2,     2.93,2,     0.88,2,     0.14,2,     0.48,2, -999.000,9, -999.000,9, -999.000,9,-999.0000,9,  -999.00,9,   -999.0,9,  -999.00,9,-999.000,9,   2028.2,2,   2368.0,2,  -999.0, -999.00,-999.0000,-999.000,-999.000
    316N145_10,  I07N,   814,  1,     34,     34,2,19950812,2245, 19.3315,  62.9168, 3511,   -999,     31.1,  26.1142,  36.1757,2,  36.1709,2,    199.0,2, 26.1075,    196.5,2,     3.61,2,     4.39,2,     0.22,2,     0.72,2, -999.000,9, -999.000,9, -999.000,9,-999.0000,9,  -999.00,9,   -999.0,9,  -999.00,9,-999.000,9,   2057.0,2,   2365.1,2,  -999.0, -999.00,-999.0000,-999.000,-999.000
    316N145_10,  I07N,   814,  1,     33,     33,2,19950812,2245, 19.3315,  62.9168, 3511,   -999,     41.1,  25.7360,  36.2073,2,  36.2582,2,    184.0,2, 25.7272,    158.6,2,     3.91,2,     6.83,2,     0.56,2,     0.86,2, -999.000,9, -999.000,9, -999.000,9,-999.0000,9,  -999.00,9,   -999.0,9,  -999.00,9,-999.000,9,   2083.5,2,   2366.8,2,  -999.0, -999.00,-999.0000,-999.000,-999.000
    316N145_10,  I07N,   814,  1,     32,     32,2,19950812,2245, 19.3315,  62.9168, 3511,   -999,     51.3,  24.2634,  36.5473,2,  36.5487,2,    134.5,2, 24.2527,    133.0,2,     4.49,2,    10.05,2,     0.12,2,     0.99,2,    1.782,2,    1.016,2,    0.805,2,   1.7040,2,     0.50,2,     29.5,2,     0.41,2,   7.007,2,   2112.2,2,   2383.8,2,     4.1,    0.20,  0.0090,   0.140,   0.008
    316N145_10,  I07N,   814,  1,     31,     31,2,19950812,2245, 19.3315,  62.9168, 3511,   -999,     76.1,  23.2650,  36.4300,2,  36.4185,2,    103.0,2, 23.2495,     85.8,2,     7.61,2,    16.01,2,     0.05,2,     1.39,2, -999.000,9, -999.000,9, -999.000,9,-999.0000,9,  -999.00,9,   -999.0,9,  -999.00,9,-999.000,9,   2158.1,2,   2374.4,2,  -999.0, -999.00,-999.0000,-999.000,-999.000
    316N145_10,  I07N,   814,  1,     30,     30,2,19950812,2245, 19.3315,  62.9168, 3511,   -999,     96.8,  21.5665,  36.0858,2,  36.0338,2,     41.9,2, 21.5478,     13.1,2,    13.67,2,    23.92,2,     0.05,2,     2.00,2, -999.000,9, -999.000,9, -999.000,9,-999.0000,9,  -999.00,9,     23.4,2,    -0.16,2,-999.000,9,   2211.0,2,   2350.8,2,     4.3, -999.00,-999.0000,-999.000,-999.000
    316N145_10,  I07N,   814,  1,     29,     29,2,19950812,2245, 19.3315,  62.9168, 3511,   -999,    131.8,  19.0649,  35.8656,2,  35.8590,2,      0.9,2, 19.0414,      0.6,2,    20.02,2,    21.78,2,     1.58,2,     2.29,2,    0.988,2,    0.593,2,    0.576,2,   1.7660,2,     2.40,2,      9.5,2,    -0.29,2,   7.132,2,   2238.7,2,   2345.9,2,     3.3,    0.20,  0.0090,   0.143,   0.008
    316N145_10,  I07N,   814,  1,     28,     28,2,19950812,2245, 19.3315,  62.9168, 3511,   -999,    139.4,  18.4038,  35.7914,2,  35.7913,2,      0.9,2, 18.3796,      0.7,2,    21.58,2,    22.07,2,     1.23,2,     2.30,2, -999.000,9, -999.000,9, -999.000,9,-999.0000,9,  -999.00,9,   -999.0,9,  -999.00,9,-999.000,9,   2239.2,2,   2350.6,2,  -999.0, -999.00,-999.0000,-999.000,-999.000
    316N145_10,  I07N,   814,  1,     27,     27,2,19950812,2245, 19.3315,  62.9168, 3511,   -999,    169.7,  17.4346,  35.8148,2,  35.8207,2,      0.9,2, 17.4062,      0.5,2,    24.41,2,    19.04,2,     2.72,2,     2.33,2,    0.703,2,    0.447,2, -999.000,9,-999.0000,9,  -999.00,9,   -999.0,9,  -999.00,9,-999.000,9,   2251.3,2,   2345.8,2,  -999.0, -999.00,-999.0000,-999.000,-999.000
    316N145_10,  I07N,   814,  1,     26,     26,2,19950812,2245, 19.3315,  62.9168, 3511,   -999,    250.9,  15.8775,  35.9918,2,  35.9908,2,      1.0,2, 15.8378,      0.9,2,    27.83,2,    22.36,2,     0.20,2,     2.34,2, -999.000,9, -999.000,9, -999.000,9,   1.7440,2,     1.80,2,    -16.4,2,    -0.20,2,   7.346,2,   2266.8,2,   2353.3,2,     3.2,    0.20,  0.0090,   0.147,-999.000
    316N145_10,  I07N,   814,  1,     25,     25,2,19950812,2245, 19.3315,  62.9168, 3511,   -999,    350.8,  14.2354,  35.9027,2,  35.9008,2,      1.1,2, 14.1837,      0.6,2,    32.91,2,    24.22,2,     0.19,2,     2.45,2,    0.356,2,    0.219,2, -999.000,9,-999.0000,9,  -999.00,9,    -41.8,2,    -0.18,2,-999.000,9,   2274.8,2,   2337.3,2,     3.2, -999.00,-999.0000,-999.000,-999.000
    316N145_10,  I07N,   814,  1,     24,     24,2,19950812,2245, 19.3315,  62.9168, 3511,   -999,    449.6,  13.0865,  35.7785,2,  35.7769,2,      1.2,2, 13.0235,      0.8,2,    38.77,2,    25.98,2,     0.00,2,     2.57,2,    0.205,2,    0.127,2,    0.154,2,-999.0000,9,  -999.00,9,    -54.1,2,    -0.23,2,-999.000,9,   2278.8,2,   2351.5,2,     3.6, -999.00,-999.0000,-999.000,   0.008
    316N145_10,  I07N,   814,  1,     23,     23,2,19950812,2245, 19.3315,  62.9168, 3511,   -999,    551.1,  12.1295,  35.6801,2,  35.6813,2,      1.3,2, 12.0557,      1.2,2,    45.12,2,    28.03,2,     0.00,2,     2.66,2,    0.104,2,    0.067,2, -999.000,9,-999.0000,9,  -999.00,9,    -79.0,2,    -0.24,2,-999.000,9,   2283.5,2,   2352.9,2,     3.4, -999.00,-999.0000,-999.000,-999.000
    316N145_10,  I07N,   814,  1,     22,     22,2,19950812,2245, 19.3315,  62.9168, 3511,   -999,    650.7,  11.4066,  35.6091,2,  35.6094,2,      1.4,2, 11.3224,      1.2,2,    51.47,2,    30.18,2,     0.00,2,     2.73,2,    0.052,2,    0.031,2,    0.128,2,   1.8060,2,     5.80,2,    -99.0,2,    -0.10,2,   7.256,2,   2289.6,2,   2357.6,2,     4.1,    0.20,  0.0090,   0.145,   0.008
    316N145_10,  I07N,   814,  1,     21,     21,2,19950812,2245, 19.3315,  62.9168, 3511,   -999,    753.4,  10.7587,  35.5822,2,  35.5834,2,      1.5,2, 10.6643,      2.2,2,    58.02,2,    32.43,2,     0.00,2,     2.77,2,    0.046,2,    0.030,2, -999.000,9,-999.0000,9,  -999.00,9,   -124.3,2,    -0.45,3,-999.000,9,   2295.7,2,   2357.9,2,     5.3, -999.00,-999.0000,-999.000,-999.000
    316N145_10,  I07N,   814,  1,     20,     20,2,19950812,2245, 19.3315,  62.9168, 3511,   -999,    851.6,  10.0648,  35.5261,2,  35.5266,2,      2.6,2,  9.9618,      3.2,2,    64.66,2,    34.09,2,     0.00,2,     2.83,2,    0.037,2,    0.021,2,    0.009,2,   1.8690,2,    10.70,2,   -128.9,2,    -0.13,2,   7.484,2,   2304.3,2,   2365.7,2,     3.3,    0.20,  0.0090,   0.150,   0.008
    316N145_10,  I07N,   814,  1,     19,     19,2,19950812,2245, 19.3315,  62.9168, 3511,   -999,    949.3,   9.4309,  35.4728,2,  35.4750,2,      3.3,2,  9.3199,      4.1,2,    70.53,2,    35.36,2,     0.00,2,     2.88,2,    0.029,2,    0.020,2, -999.000,9,-999.0000,9,  -999.00,9,   -128.3,2,    -0.12,2,-999.000,9,   2310.9,2,   2367.7,2,     3.3, -999.00,-999.0000,-999.000,-999.000
    316N145_10,  I07N,   814,  1,     18,     18,2,19950812,2245, 19.3315,  62.9168, 3511,   -999,   1048.5,   8.6691,  35.3889,2,  35.3904,2,      5.9,2,  8.5517,      6.5,2,    76.69,2,    36.73,2,     0.00,2,     2.95,2,    0.018,2,    0.010,2,    0.000,2,   1.8910,2,    14.30,2,   -137.6,2,    -0.20,2,   7.368,2,   2318.5,2,   2373.6,2,     4.8,    0.20,  0.0090,   0.147,   0.008
    316N145_10,  I07N,   814,  1,     17,     17,2,19950812,2245, 19.3315,  62.9168, 3511,   -999,   1246.8,   7.2644,  35.2379,2,  35.2391,2,     14.4,2,  7.1362,     13.7,2,    89.98,2,    38.30,2,     0.00,2,     3.04,2,    0.006,2,    0.002,2,    0.000,2,   1.8870,2,    14.80,2,   -152.5,2,    -0.22,2,   7.680,2,   2334.2,2,   2387.2,2,     4.2,    0.20,  0.0090,   0.154,   0.008
    316N145_10,  I07N,   814,  1,     16,     16,2,19950812,2245, 19.3315,  62.9168, 3511,   -999,   1424.2,   6.0588,  35.1100,2,  35.1116,2,     27.7,2,  5.9234,     28.2,2,   101.72,2,    38.79,2,     0.00,2,     3.03,2,    0.001,2,    0.000,2, -999.000,9,   1.8870,2,    14.40,2,   -163.6,2,    -0.30,2,   7.885,2,   2342.8,2,   2392.3,2,     4.4,    0.20,  0.0090,   0.158,-999.000
    316N145_10,  I07N,   814,  1,     15,     15,2,19950812,2245, 19.3315,  62.9168, 3511,   -999,   1609.6,   4.8522,  34.9927,2,  34.9939,2,     47.2,2,  4.7118,     47.3,2,   113.94,2,    38.79,2,     0.00,2,     2.99,2,    0.003,2,    0.004,2, -999.000,9,   1.8910,2,    15.10,2,   -182.1,2,    -0.35,2,   7.952,2,   2349.3,2,   2402.1,2,     5.9,    0.20,  0.0090,   0.159,-999.000
    316N145_10,  I07N,   814,  1,     14,     14,2,19950812,2245, 19.3315,  62.9168, 3511,   -999,   1777.4,   3.9905,  34.9149,2,  34.9169,2,     63.5,2,  3.8449,     63.6,2,   123.04,2,    38.50,2,     0.00,2,     2.94,2,   -0.001,2,    0.001,2,    0.000,2,   1.9040,2,    14.70,2,   -999.0,9,  -999.00,9,   7.979,2,   2355.0,2,   2418.1,2,  -999.0,    0.20,  0.0100,   0.160,   0.008
    316N145_10,  I07N,   814,  1,     13,     13,2,19950812,2245, 19.3315,  62.9168, 3511,   -999,   1947.3,   3.3608,  34.8620,2,  34.8627,2,     78.0,2,  3.2081,     78.3,2,   130.17,2,    38.11,2,     0.00,2,     2.87,2,    0.001,2,    0.002,2, -999.000,9,   1.8960,2,    14.10,2,   -999.0,9,  -999.00,9,   8.001,2,   2355.8,2,   2419.1,2,  -999.0,    0.20,  0.0090,   0.160,-999.000
    316N145_10,  I07N,   814,  1,     12,     12,2,19950812,2245, 19.3315,  62.9168, 3511,   -999,   2118.2,   2.8960,  34.8236,2,  34.8250,2,     91.1,2,  2.7347,     91.0,2,   135.36,2,    37.72,2,     0.00,2,     2.80,2,    0.000,2,    0.001,2, -999.000,9,   1.9180,2,    14.20,2,   -999.0,9,  -999.00,9,   8.162,2,   2355.0,2,   2430.8,2,  -999.0,    0.20,  0.0100,   0.163,-999.000
    316N145_10,  I07N,   814,  1,     11,     11,2,19950812,2245, 19.3315,  62.9168, 3511,   -999,   2298.4,   2.5202,  34.7953,2,  34.7979,2,     98.8,2,  2.3486,     98.6,2,   140.25,2,    37.53,2,     0.00,2,     2.77,2,    0.001,2,    0.001,2, -999.000,9,   1.9130,2,    15.00,2,   -999.0,9,  -999.00,9,   8.108,2,   2358.7,2,   2435.0,2,  -999.0,    0.20,  0.0100,   0.162,-999.000
    316N145_10,  I07N,   814,  1,     10,     10,2,19950812,2245, 19.3315,  62.9168, 3511,   -999,   2498.0,   2.2123,  34.7745,2,  34.7732,2,    107.2,2,  2.0279,    106.4,2,   144.55,2,    37.24,2,     0.00,2,     2.73,2,    0.000,2,    0.001,2, -999.000,9,   1.9040,2,    15.10,2,   -999.0,9,  -999.00,9,   8.233,2,   2361.1,2,   2445.4,2,  -999.0,    0.20,  0.0100,   0.165,-999.000
    316N145_10,  I07N,   814,  1,      9,      9,2,19950812,2245, 19.3315,  62.9168, 3511,   -999,   2697.6,   1.9795,  34.7569,2,  34.7577,2,    113.6,2,  1.7809,    112.5,2,   147.19,2,    37.04,2,     0.00,2,     2.69,2,    0.003,2,    0.003,2, -999.000,9,   1.9130,2,    14.70,2,   -999.0,9,  -999.00,9,   8.313,2,   2363.8,2,   2450.6,2,  -999.0,    0.20,  0.0100,   0.166,-999.000
    316N145_10,  I07N,   814,  1,      8,      8,2,19950812,2245, 19.3315,  62.9168, 3511,   -999,   2902.5,   1.8515,  34.7480,2,  34.7488,2,    117.6,2,  1.6362,    117.5,2,   148.95,2,    36.85,2,     0.00,2,     2.66,2,    0.003,2,    0.008,2, -999.000,9,   1.8910,2,    15.00,2,   -999.0,9,  -999.00,9,   8.376,2,   2364.8,2,   2458.7,2,  -999.0,    0.20,  0.0090,   0.168,-999.000
    316N145_10,  I07N,   814,  1,      7,      7,2,19950812,2245, 19.3315,  62.9168, 3511,   -999,   3102.0,   1.7836,  34.7426,2,  34.7439,2,    121.8,2,  1.5503,    121.7,2,   149.15,2,    36.55,2,     0.00,2,     2.64,2, -999.000,9, -999.000,9, -999.000,9,   1.9000,2,    14.30,2,   -999.0,9,  -999.00,9,   8.331,2,   2363.0,2,   2454.6,2,  -999.0,    0.20,  0.0090,   0.167,-999.000
    316N145_10,  I07N,   814,  1,      6,      6,2,19950812,2245, 19.3315,  62.9168, 3511,   -999,   3200.9,   1.7566,  34.7413,2,  34.7418,2,    124.8,2,  1.5142,    124.9,2,   149.44,2,    36.46,2,     0.00,2,     2.62,2,    0.005,2,    0.011,2, -999.000,9,   1.9040,2,    13.10,2,   -999.0,9,  -999.00,9,   8.349,2,   2359.7,2,   2457.8,2,  -999.0,    0.20,  0.0100,   0.167,-999.000
    316N145_10,  I07N,   814,  1,      5,      5,2,19950812,2245, 19.3315,  62.9168, 3511,   -999,   3302.5,   1.7346,  34.7386,2,  34.7398,2,    127.2,2,  1.4825,    127.7,2,   149.05,2,    36.36,2,     0.00,2,     2.61,2,    0.006,2,    0.013,2, -999.000,9,   1.8910,2,    12.40,2,   -999.0,9,  -999.00,9,   8.385,2,   2357.5,2,   2451.4,2,  -999.0,    0.20,  0.0090,   0.168,-999.000
    316N145_10,  I07N,   814,  1,      4,      4,2,19950812,2245, 19.3315,  62.9168, 3511,   -999,   3406.2,   1.7176,  34.7387,2,  34.7376,2,    129.7,2,  1.4554,    126.7,2,   149.34,2,    36.46,2,     0.00,2,     2.59,2,    0.007,2,    0.014,2, -999.000,9,-999.0000,9,  -999.00,9,   -999.0,9,  -999.00,9,-999.000,9,   2360.8,2,   2461.8,2,  -999.0, -999.00,-999.0000,-999.000,-999.000
    316N145_10,  I07N,   814,  1,      3,      3,2,19950812,2245, 19.3315,  62.9168, 3511,   -999,   3451.4,   1.7126,  34.7374,2,  34.7372,2,    129.3,2,  1.4459,    129.4,2,   149.15,2,    36.26,2,     0.00,2,     2.58,2,    0.005,2,    0.012,2,    0.000,2,   1.8870,2,    11.70,2,   -999.0,9,  -999.00,9,   8.313,2,   2357.8,2,   2454.5,2,  -999.0,    0.20,  0.0090,   0.166,   0.008
    316N145_10,  I07N,   814,  1,      2,      2,2,19950812,2245, 19.3315,  62.9168, 3511,   -999,   3517.9,   1.6966,  34.7373,2,  34.7368,2,    125.5,2,  1.4235,    125.6,2,   151.01,2,    36.46,2,     0.00,2,     2.59,2,    0.006,2,    0.025,2, -999.000,9,-999.0000,9,  -999.00,9,   -999.0,9,  -999.00,9,-999.000,9,   2367.6,2,   2461.5,2,  -999.0, -999.00,-999.0000,-999.000,-999.000
    316N145_10,  I07N,   814,  1,      1,      1,2,19950812,2245, 19.3315,  62.9168, 3511,   -999,   3560.1,   1.6926,  34.7353,2,  34.7353,2,    124.3,2,  1.4152,    125.7,2,   151.98,2,    36.46,2,     0.00,2,     2.60,2,    0.009,2,    0.047,2,    0.000,2,   1.9040,2,    12.00,2,   -999.0,9,  -999.00,9,   8.345,2,   2366.1,2,   2467.8,2,  -999.0,    0.20,  0.0100,   0.167,   0.008