BOTTLE,20080821WHPSIOSCD
EXPOCODE,SECT_ID,STNNBR,CASTNO,SAMPNO,BTLNBR,BTLNBR_FLAG_W,DATE,TIME,LATITUDE,LONGITUDE,DEPTH,CTDRAW,CTDPRS,CTDTMP,CTDSAL,CTDSAL_FLAG_W,SALNTY,SALNTY_FLAG_W,CTDOXY,CTDOXY_FLAG_W,THETA,OXYGEN,OXYGEN_FLAG_W,SILCAT,SILCAT_FLAG_W,NITRAT,NITRAT_FLAG_W,NITRIT,NITRIT_FLAG_W,PHSPHT,PHSPHT_FLAG_W,CFC-11,CFC-11_FLAG_W,CFC-12,CFC-12_FLAG_W,TRITUM,TRITUM_FLAG_W,HELIUM,HELIUM_FLAG_W,DELHE3,DELHE3_FLAG_W,DELC14,DELC14_FLAG_W,DELC13,DELC13_FLAG_W,NEON,NEON_FLAG_W,TCARBN,TCARBN_FLAG_W,ALKALI,ALKALI_FLAG_W,C14ERR,DELHER,HELIER,NEONER,TRITER
,,,,,,,,,,,,,DBAR,ITS-90,PSS-78,,PSS-78,,UMOL/KG,,DEG C,UMOL/KG,,UMOL/KG,,UMOL/KG,,UMOL/KG,,UMOL/KG,,PMOL/KG,,PMOL/KG,,TU,,NMOL/KG,,PERCNT,,/MILLE,,/MILLE,,NMOL/KG,,UMOL/KG,,UMOL/KG,,/MILLE,PERCNT,NMOL/KG,NMOL/KG,TU
    316N145_10,  I07N,   780,  1,     36,     36,2,19950804,0750,  7.9943,  62.8283, 4104,   -999,      5.0,  28.3146,  36.4934,2,  36.4956,2,    195.4,2, 28.3137,    194.1,2,     2.19,2,     0.01,2,     0.00,2,     0.27,2,    1.578,2,    0.902,2, -999.000,9,-999.0000,9,  -999.00,9,   -999.0,9,  -999.00,9,-999.000,9,   2016.7,2,   2382.1,2,  -999.0, -999.00,-999.0000,-999.000,-999.000
    316N145_10,  I07N,   780,  1,     35,     35,2,19950804,0750,  7.9943,  62.8283, 4104,   -999,     31.1,  28.2576,  36.4918,2,  36.4919,2,    191.2,2, 28.2505,    193.8,2,     2.17,2,     0.01,2,     0.00,2,     0.27,2,    1.597,2,    0.907,2, -999.000,9,-999.0000,9,  -999.00,9,   -999.0,9,  -999.00,9,-999.000,9,   2016.4,2,   2383.9,2,  -999.0, -999.00,-999.0000,-999.000,-999.000
    316N145_10,  I07N,   780,  1,     34,     34,2,19950804,0750,  7.9943,  62.8283, 4104,   -999,     61.3,  28.2039,  36.5157,2,  36.5204,2,    198.9,2, 28.1896,    190.7,2,     2.34,2,     0.05,2,     0.05,2,     0.29,2,    1.571,2,    0.900,2, -999.000,9,-999.0000,9,  -999.00,9,   -999.0,9,  -999.00,9,-999.000,9,   2021.1,2,   2383.7,2,  -999.0, -999.00,-999.0000,-999.000,-999.000
    316N145_10,  I07N,   780,  1,     33,     33,2,19950804,0750,  7.9943,  62.8283, 4104,   -999,     91.8,  28.1111,  36.5003,2,  36.4970,2,    191.2,2, 28.0896,    185.7,2,     2.32,2,     0.46,2,     0.18,2,     0.32,2,    1.576,2,    0.909,2, -999.000,9,-999.0000,9,  -999.00,9,   -999.0,9,  -999.00,9,-999.000,9,   2024.4,2,   2380.0,2,  -999.0, -999.00,-999.0000,-999.000,-999.000
    316N145_10,  I07N,   780,  1,     32,     32,2,19950804,0750,  7.9943,  62.8283, 4104,   -999,    121.4,  24.9570,  36.0013,2,  35.9574,2,    118.7,2, 24.9308,     84.4,2,     8.36,2,    13.39,2,     0.06,2,     1.12,2,    1.397,2,    0.797,2, -999.000,9,-999.0000,9,  -999.00,9,   -999.0,9,  -999.00,9,-999.000,9,   2113.0,2,   2346.0,2,  -999.0, -999.00,-999.0000,-999.000,-999.000
    316N145_10,  I07N,   780,  1,     31,     31,2,19950804,0750,  7.9943,  62.8283, 4104,   -999,    141.7,  20.2996,  35.5007,2,  35.4668,2,     25.5,2, 20.2732,     13.6,2,    18.11,2,    24.79,2,     0.04,2,     1.92,2,    0.989,2,    0.554,2, -999.000,9,-999.0000,9,  -999.00,9,   -999.0,9,  -999.00,9,-999.000,9,   2192.2,2,   2320.0,2,  -999.0, -999.00,-999.0000,-999.000,-999.000
    316N145_10,  I07N,   780,  1,     30,     30,2,19950804,0750,  7.9943,  62.8283, 4104,   -999,    156.7,  18.4013,  35.4175,2,  35.4357,2,      8.7,2, 18.3741,      6.2,2,    20.82,2,    26.24,2,     0.03,2,     2.08,2,    0.850,2,    0.479,2, -999.000,9,-999.0000,9,  -999.00,9,   -999.0,9,  -999.00,9,-999.000,9,   2211.4,2,   2309.9,3,  -999.0, -999.00,-999.0000,-999.000,-999.000
    316N145_10,  I07N,   780,  1,     29,     29,2,19950804,0750,  7.9943,  62.8283, 4104,   -999,    192.1,  15.8268,  35.2738,2,  35.2739,2,     11.6,2, 15.7967,     11.3,2,    24.31,2,    27.53,2,     0.00,2,     2.14,2,    0.620,2,    0.340,2, -999.000,9,-999.0000,9,  -999.00,9,   -999.0,9,  -999.00,9,-999.000,9,   2225.0,2,   2318.0,2,  -999.0, -999.00,-999.0000,-999.000,-999.000
    316N145_10,  I07N,   780,  1,     28,     28,2,19950804,0750,  7.9943,  62.8283, 4104,   -999,    252.1,  13.1972,  35.2414,2,  35.2385,2,     44.2,2, 13.1621,     46.6,2,    24.87,2,    26.91,2,     0.00,2,     1.99,2,    0.601,2,    0.321,2, -999.000,9,-999.0000,9,  -999.00,9,   -999.0,9,  -999.00,9,-999.000,9,   2222.5,2,   2321.5,2,  -999.0, -999.00,-999.0000,-999.000,-999.000
    316N145_10,  I07N,   780,  1,     27,     27,2,19950804,0750,  7.9943,  62.8283, 4104,   -999,    352.5,  11.5276,  35.2089,2,  35.2106,2,     40.2,2, 11.4825,     40.5,2,    31.28,2,    29.98,2,     0.00,2,     2.19,2,    0.319,2,    0.178,2, -999.000,9,-999.0000,9,  -999.00,9,   -999.0,9,  -999.00,9,-999.000,9,   2242.3,2,   2322.1,2,  -999.0, -999.00,-999.0000,-999.000,-999.000
    316N145_10,  I07N,   780,  1,     26,     26,2,19950804,0750,  7.9943,  62.8283, 4104,   -999,    452.6,  10.8951,  35.2148,2,  35.2151,2,     40.1,2, 10.8389,     38.2,2,    36.91,2,    31.21,2,     0.00,2,     2.33,2,    0.202,2,    0.116,2, -999.000,9,-999.0000,9,  -999.00,9,   -999.0,9,  -999.00,9,-999.000,9,   2250.9,2,   2328.8,2,  -999.0, -999.00,-999.0000,-999.000,-999.000
    316N145_10,  I07N,   780,  1,     25,     25,2,19950804,0750,  7.9943,  62.8283, 4104,   -999,    567.9,  10.5428,  35.2662,2,  35.2662,2,     29.3,2, 10.4734,     29.7,2,    44.10,2,    32.30,2,     0.00,2,     2.47,2,    0.115,2,    0.068,2, -999.000,9,-999.0000,9,  -999.00,9,   -999.0,9,  -999.00,9,-999.000,9,   2265.6,2,   2335.1,2,  -999.0, -999.00,-999.0000,-999.000,-999.000
    316N145_10,  I07N,   780,  1,     24,     24,2,19950804,0750,  7.9943,  62.8283, 4104,   -999,    683.1,   9.8833,  35.2809,2,  35.2812,2,     27.0,2,  9.8025,     27.5,2,    53.63,2,    33.40,2,     0.00,2,     2.60,2,    0.071,2,    0.041,2, -999.000,9,-999.0000,9,  -999.00,9,   -999.0,9,  -999.00,9,-999.000,9,   2277.8,2,   2347.5,2,  -999.0, -999.00,-999.0000,-999.000,-999.000
    316N145_10,  I07N,   780,  1,     23,     23,2,19950804,0750,  7.9943,  62.8283, 4104,   -999,    794.3,   9.3471,  35.2629,2,  35.2633,2,     27.2,2,  9.2557,     27.4,2,    60.24,2,    34.23,2,     0.00,2,     2.65,2,    0.049,2,    0.035,2, -999.000,9,-999.0000,9,  -999.00,9,   -999.0,9,  -999.00,9,-999.000,9,   2284.9,2,   2351.7,2,  -999.0, -999.00,-999.0000,-999.000,-999.000
    316N145_10,  I07N,   780,  1,     22,     22,2,19950804,0750,  7.9943,  62.8283, 4104,   -999,    894.3,   8.4570,  35.1611,2,  35.1610,2,     27.1,2,  8.3594,     28.8,2,    68.61,2,    35.56,2,     0.00,2,     2.74,2,    0.020,2,    0.015,2, -999.000,9,-999.0000,9,  -999.00,9,   -999.0,9,  -999.00,9,-999.000,9,   2295.4,2,   2361.5,2,  -999.0, -999.00,-999.0000,-999.000,-999.000
    316N145_10,  I07N,   780,  1,     21,     21,2,19950804,0750,  7.9943,  62.8283, 4104,   -999,   1003.0,   7.9714,  35.1642,2,  35.1647,2,     32.4,2,  7.8648,     31.5,2,    74.83,2,    35.98,2,     0.00,2,     2.78,2,    0.019,2,    0.010,2, -999.000,9,-999.0000,9,  -999.00,9,   -999.0,9,  -999.00,9,-999.000,9,   2303.1,2,   2363.3,2,  -999.0, -999.00,-999.0000,-999.000,-999.000
    316N145_10,  I07N,   780,  1,     20,     20,2,19950804,0750,  7.9943,  62.8283, 4104,   -999,   1102.9,   7.4309,  35.1288,2,  35.1305,2,     37.0,2,  7.3173,     36.0,2,    80.27,2,    36.26,2,     0.00,2,     2.79,2,    0.012,2,    0.009,2, -999.000,9,-999.0000,9,  -999.00,9,   -999.0,9,  -999.00,9,-999.000,9,   2307.4,2,   2372.5,2,  -999.0, -999.00,-999.0000,-999.000,-999.000
    316N145_10,  I07N,   780,  1,     19,     19,2,19950804,0750,  7.9943,  62.8283, 4104,   -999,   1201.3,   6.6546,  35.0627,2,  35.0684,2,     44.0,2,  6.5371,     44.2,2,    87.70,2,    36.63,2,     0.00,2,     2.82,2,    0.005,2,    0.004,2, -999.000,9,-999.0000,9,  -999.00,9,   -999.0,9,  -999.00,9,-999.000,9,   2312.3,2,   2361.2,3,  -999.0, -999.00,-999.0000,-999.000,-999.000
    316N145_10,  I07N,   780,  1,     18,     18,2,19950804,0750,  7.9943,  62.8283, 4104,   -999,   1300.3,   6.0259,  35.0263,2,  35.0287,2,     49.2,2,  5.9039,     50.5,2,    94.35,2,    36.86,2,     0.00,2,     2.83,2,    0.004,2,    0.001,2, -999.000,9,-999.0000,9,  -999.00,9,   -999.0,9,  -999.00,9,-999.000,9,   2319.2,2,   2386.1,2,  -999.0, -999.00,-999.0000,-999.000,-999.000
    316N145_10,  I07N,   780,  1,     17,     17,2,19950804,0750,  7.9943,  62.8283, 4104,   -999,   1401.6,   5.3799,  34.9687,2,  34.9692,2,     60.0,2,  5.2542,     62.5,2,    99.83,2,    36.77,2,     0.00,2,     2.81,2,    0.000,2,    0.002,2, -999.000,9,-999.0000,9,  -999.00,9,   -999.0,9,  -999.00,9,-999.000,9,   2319.9,2,   2385.1,2,  -999.0, -999.00,-999.0000,-999.000,-999.000
    316N145_10,  I07N,   780,  1,     16,     16,2,19950804,0750,  7.9943,  62.8283, 4104,   -999,   1495.1,   4.9397,  34.9404,2,  34.9422,2,     68.2,2,  4.8096,     67.4,2,   105.14,2,    36.87,2,     0.00,2,     2.81,2,    0.001,2,    0.001,2, -999.000,9,-999.0000,9,  -999.00,9,   -999.0,9,  -999.00,9,-999.000,9,   2324.8,2,   2396.2,2,  -999.0, -999.00,-999.0000,-999.000,-999.000
    316N145_10,  I07N,   780,  1,     15,     15,2,19950804,0750,  7.9943,  62.8283, 4104,   -999,   1698.0,   4.0416,  34.8740,2,  34.8747,2,     90.0,2,  3.9030,     88.9,2,   112.86,2,    36.32,2,     0.00,2,     2.74,2,   -0.001,2,   -0.001,2, -999.000,9,-999.0000,9,  -999.00,9,   -999.0,9,  -999.00,9,-999.000,9,   2324.8,2,   2399.4,2,  -999.0, -999.00,-999.0000,-999.000,-999.000
    316N145_10,  I07N,   780,  1,     14,     14,2,19950804,0750,  7.9943,  62.8283, 4104,   -999,   1896.1,   3.2726,  34.8246,2,  34.8250,2,    107.4,2,  3.1260,    107.2,2,   120.22,2,    35.81,2,     0.00,2,     2.67,2,    0.000,2,    0.001,2, -999.000,9,-999.0000,9,  -999.00,9,   -999.0,9,  -999.00,9,-999.000,9,   2324.7,2,   2410.3,2,  -999.0, -999.00,-999.0000,-999.000,-999.000
    316N145_10,  I07N,   780,  1,     13,     13,2,19950804,0750,  7.9943,  62.8283, 4104,   -999,   2090.2,   2.7794,  34.7971,2,  34.7975,2,    118.2,2,  2.6226,    120.1,2,   125.01,2,    35.40,2,     0.00,2,     2.62,2, -999.000,9, -999.000,9, -999.000,9,-999.0000,9,  -999.00,9,   -999.0,9,  -999.00,9,-999.000,9,   2323.9,2,   2413.6,2,  -999.0, -999.00,-999.0000,-999.000,-999.000
    316N145_10,  I07N,   780,  1,     12,     12,2,19950804,0750,  7.9943,  62.8283, 4104,   -999,   2290.3,   2.4220,  34.7756,2,  34.7773,2,    132.1,2,  2.2530,    131.6,2,   127.99,2,    34.99,2,     0.00,2,     2.57,2, -999.000,9, -999.000,9, -999.000,9,-999.0000,9,  -999.00,9,   -999.0,9,  -999.00,9,-999.000,9,   2320.7,2,   2415.9,2,  -999.0, -999.00,-999.0000,-999.000,-999.000
    316N145_10,  I07N,   780,  1,     11,     11,2,19950804,0750,  7.9943,  62.8283, 4104,   -999,   2494.1,   2.2056,  34.7650,2,  34.7635,2,    138.5,2,  2.0217,    138.0,2,   130.17,2,    34.76,2,     0.00,2,     2.54,2, -999.000,9, -999.000,9, -999.000,9,-999.0000,9,  -999.00,9,   -999.0,9,  -999.00,9,-999.000,9,   2320.8,2,   2414.5,2,  -999.0, -999.00,-999.0000,-999.000,-999.000
    316N145_10,  I07N,   780,  1,     10,     10,2,19950804,0750,  7.9943,  62.8283, 4104,   -999,   2700.3,   2.0073,  34.7545,2,  34.7541,2,    144.7,2,  1.8080,    144.0,2,   132.56,2,    34.62,2,     0.00,2,     2.51,2, -999.000,9, -999.000,9, -999.000,9,-999.0000,9,  -999.00,9,   -999.0,9,  -999.00,9,-999.000,9,   2320.9,2,   2421.0,2,  -999.0, -999.00,-999.0000,-999.000,-999.000
    316N145_10,  I07N,   780,  1,      9,      9,2,19950804,0750,  7.9943,  62.8283, 4104,   -999,   2898.5,   1.9193,  34.7502,2,  34.7490,2,    147.2,2,  1.7029,    146.7,2,   133.93,2,    34.44,2,     0.00,2,     2.50,2, -999.000,9, -999.000,9, -999.000,9,-999.0000,9,  -999.00,9,   -999.0,9,  -999.00,9,-999.000,9,   2321.3,2,   2420.6,2,  -999.0, -999.00,-999.0000,-999.000,-999.000
    316N145_10,  I07N,   780,  1,      8,      8,2,19950804,0750,  7.9943,  62.8283, 4104,   -999,   3096.4,   1.8202,  34.7443,2,  34.7443,2,    149.6,2,  1.5867,    149.9,2,   135.09,2,    34.44,2,     0.00,2,     2.49,2, -999.000,9, -999.000,9, -999.000,9,-999.0000,9,  -999.00,9,   -999.0,9,  -999.00,9,-999.000,9,   2320.9,2,   2424.2,2,  -999.0, -999.00,-999.0000,-999.000,-999.000
    316N145_10,  I07N,   780,  1,      7,      7,2,19950804,0750,  7.9943,  62.8283, 4104,   -999,   3293.8,   1.7561,  34.7405,2,  34.7412,2,    151.8,2,  1.5044,    152.7,2,   135.24,2,    34.31,2,     0.00,2,     2.47,2, -999.000,9, -999.000,9, -999.000,9,-999.0000,9,  -999.00,9,   -999.0,9,  -999.00,9,-999.000,9,   2320.4,2,   2422.9,2,  -999.0, -999.00,-999.0000,-999.000,-999.000
    316N145_10,  I07N,   780,  1,      6,      6,2,19950804,0750,  7.9943,  62.8283, 4104,   -999,   3493.6,   1.6775,  34.7370,2,  34.7355,2,    156.4,2,  1.4074,    156.4,2,   135.80,2,    34.22,2,     0.00,2,     2.46,2, -999.000,9, -999.000,9, -999.000,9,-999.0000,9,  -999.00,9,   -999.0,9,  -999.00,9,-999.000,9,   2318.5,2,   2425.8,2,  -999.0, -999.00,-999.0000,-999.000,-999.000
    316N145_10,  I07N,   780,  1,      5,      5,2,19950804,0750,  7.9943,  62.8283, 4104,   -999,   3696.4,   1.6447,  34.7348,2,  34.7327,2,    158.7,2,  1.3543,    158.7,2,   136.14,2,    34.13,2,     0.00,2,     2.44,2, -999.000,9, -999.000,9, -999.000,9,-999.0000,9,  -999.00,9,   -999.0,9,  -999.00,9,-999.000,9,   2317.8,2,   2419.9,2,  -999.0, -999.00,-999.0000,-999.000,-999.000
    316N145_10,  I07N,   780,  1,      4,      4,2,19950804,0750,  7.9943,  62.8283, 4104,   -999,   3900.4,   1.6289,  34.7337,2,  34.7321,2,    160.3,2,  1.3171,    160.8,2,   135.88,2,    33.99,2,     0.00,2,     2.44,2, -999.000,9, -999.000,9, -999.000,9,-999.0000,9,  -999.00,9,   -999.0,9,  -999.00,9,-999.000,9,   2316.1,2,   2424.5,2,  -999.0, -999.00,-999.0000,-999.000,-999.000
    316N145_10,  I07N,   780,  1,      3,      3,2,19950804,0750,  7.9943,  62.8283, 4104,   -999,   4002.3,   1.6341,  34.7318,2,  34.7312,2,    160.8,2,  1.3110,    161.1,2,   135.62,2,    33.99,2,     0.00,2,     2.43,2, -999.000,9, -999.000,9, -999.000,9,-999.0000,9,  -999.00,9,   -999.0,9,  -999.00,9,-999.000,9,   2315.4,2,   2421.7,2,  -999.0, -999.00,-999.0000,-999.000,-999.000
    316N145_10,  I07N,   780,  1,      2,      2,2,19950804,0750,  7.9943,  62.8283, 4104,   -999,   4104.3,   1.6336,  34.7326,2,  34.7319,2,    161.0,2,  1.2993,    161.8,2,   135.56,2,    33.95,2,     0.00,2,     2.43,2, -999.000,9, -999.000,9, -999.000,9,-999.0000,9,  -999.00,9,   -999.0,9,  -999.00,9,-999.000,9,   2316.4,2,   2423.8,2,  -999.0, -999.00,-999.0000,-999.000,-999.000
    316N145_10,  I07N,   780,  1,      1,      1,2,19950804,0750,  7.9943,  62.8283, 4104,   -999,   4168.7,   1.6306,  34.7309,2,  34.7315,2,    162.3,2,  1.2892,    162.6,2,   135.70,2,    33.90,2,     0.00,2,     2.42,2, -999.000,9, -999.000,9, -999.000,9,-999.0000,9,  -999.00,9,   -999.0,9,  -999.00,9,-999.000,9,   2313.6,2,   2425.6,2,  -999.0, -999.00,-999.0000,-999.000,-999.000