BOTTLE,20080821WHPSIOSCD
EXPOCODE,SECT_ID,STNNBR,CASTNO,SAMPNO,BTLNBR,BTLNBR_FLAG_W,DATE,TIME,LATITUDE,LONGITUDE,DEPTH,CTDRAW,CTDPRS,CTDTMP,CTDSAL,CTDSAL_FLAG_W,SALNTY,SALNTY_FLAG_W,CTDOXY,CTDOXY_FLAG_W,THETA,OXYGEN,OXYGEN_FLAG_W,SILCAT,SILCAT_FLAG_W,NITRAT,NITRAT_FLAG_W,NITRIT,NITRIT_FLAG_W,PHSPHT,PHSPHT_FLAG_W,CFC-11,CFC-11_FLAG_W,CFC-12,CFC-12_FLAG_W,TRITUM,TRITUM_FLAG_W,HELIUM,HELIUM_FLAG_W,DELHE3,DELHE3_FLAG_W,DELC14,DELC14_FLAG_W,DELC13,DELC13_FLAG_W,NEON,NEON_FLAG_W,TCARBN,TCARBN_FLAG_W,ALKALI,ALKALI_FLAG_W,C14ERR,DELHER,HELIER,NEONER,TRITER
,,,,,,,,,,,,,DBAR,ITS-90,PSS-78,,PSS-78,,UMOL/KG,,DEG C,UMOL/KG,,UMOL/KG,,UMOL/KG,,UMOL/KG,,UMOL/KG,,PMOL/KG,,PMOL/KG,,TU,,NMOL/KG,,PERCNT,,/MILLE,,/MILLE,,NMOL/KG,,UMOL/KG,,UMOL/KG,,/MILLE,PERCNT,NMOL/KG,NMOL/KG,TU
    316N145_10,  I07N,   830,  1,     24,     24,2,19950816,2024, 21.4318,  61.5808, 1588,   -999,      8.9,  25.5982,  36.2127,2,  36.2106,2,    207.7,2, 25.5964,    202.5,2,     3.67,2,     6.36,2,     0.28,2,     0.82,2,    1.829,2,    1.020,2, -999.000,9,-999.0000,9,  -999.00,9,   -999.0,9,  -999.00,9,-999.000,9,   -999.9,5,   2365.9,2,  -999.0, -999.00,-999.0000,-999.000,-999.000
    316N145_10,  I07N,   830,  1,     23,     23,2,19950816,2024, 21.4318,  61.5808, 1588,   -999,     34.7,  25.4580,  36.2798,2,  36.2756,2,    197.6,2, 25.4506,    195.7,2,     4.34,2,     5.72,2,     0.30,2,     0.80,2, -999.000,9, -999.000,9, -999.000,9,-999.0000,9,  -999.00,9,   -999.0,9,  -999.00,9,-999.000,9,   -999.9,5,   2369.9,2,  -999.0, -999.00,-999.0000,-999.000,-999.000
    316N145_10,  I07N,   830,  1,     22,     22,2,19950816,2024, 21.4318,  61.5808, 1588,   -999,     49.8,  23.1687,  36.1809,2,  36.1817,2,     81.1,2, 23.1586,     77.3,2,     8.96,2,    17.63,2,     0.08,2,     1.45,2, -999.000,9, -999.000,9, -999.000,9,-999.0000,9,  -999.00,9,   -999.0,9,  -999.00,9,-999.000,9,   -999.9,5,   2357.7,2,  -999.0, -999.00,-999.0000,-999.000,-999.000
    316N145_10,  I07N,   830,  1,     21,     21,2,19950816,2024, 21.4318,  61.5808, 1588,   -999,     64.6,  23.3002,  36.3988,2,  36.4009,2,     93.1,2, 23.2870,     93.8,2,     7.57,2,    15.41,2,     0.05,2,     1.31,2,    1.720,2,    0.977,2, -999.000,9,-999.0000,9,  -999.00,9,   -999.0,9,  -999.00,9,-999.000,9,   -999.9,5,   2373.2,2,  -999.0, -999.00,-999.0000,-999.000,-999.000
    316N145_10,  I07N,   830,  1,     20,     20,2,19950816,2024, 21.4318,  61.5808, 1588,   -999,     80.2,  22.7612,  36.4190,2,  36.4076,2,     64.4,2, 22.7450,     61.5,2,     9.61,2,    18.70,2,     0.04,2,     1.60,2, -999.000,9, -999.000,9, -999.000,9,-999.0000,9,  -999.00,9,   -999.0,9,  -999.00,9,-999.000,9,   -999.9,5,   2373.3,2,  -999.0, -999.00,-999.0000,-999.000,-999.000
    316N145_10,  I07N,   830,  1,     19,     19,2,19950816,2024, 21.4318,  61.5808, 1588,   -999,     99.5,  21.1113,  36.1819,2,  36.1602,2,      5.7,2, 21.0922,      5.1,2,    15.60,2,    23.67,2,     0.04,2,     2.13,2,    1.360,2,    0.784,2, -999.000,9,-999.0000,9,  -999.00,9,   -999.0,9,  -999.00,9,-999.000,9,   -999.9,5,   2355.0,2,  -999.0, -999.00,-999.0000,-999.000,-999.000
    316N145_10,  I07N,   830,  1,     18,     18,2,19950816,2024, 21.4318,  61.5808, 1588,   -999,    109.0,  20.2897,  36.0882,2,  36.0851,2,      1.3,2, 20.2694,      1.8,2,    17.47,2,    23.75,2,     0.01,2,     2.21,2, -999.000,9, -999.000,9, -999.000,9,-999.0000,9,  -999.00,9,   -999.0,9,  -999.00,9,-999.000,9,   -999.9,5,   2352.5,2,  -999.0, -999.00,-999.0000,-999.000,-999.000
    316N145_10,  I07N,   830,  1,     17,     17,2,19950816,2024, 21.4318,  61.5808, 1588,   -999,    149.6,  18.9451,  36.1334,2,  36.1395,2,      2.6,2, 18.9184,      4.5,2,    21.23,2,    22.11,2,     0.00,2,     2.23,2,    0.972,2,    0.591,2, -999.000,9,-999.0000,9,  -999.00,9,   -999.0,9,  -999.00,9,-999.000,9,   -999.9,5,   2355.2,2,  -999.0, -999.00,-999.0000,-999.000,-999.000
    316N145_10,  I07N,   830,  1,     16,     16,2,19950816,2024, 21.4318,  61.5808, 1588,   -999,    209.7,  18.1806,  36.4252,2,  36.4189,2,     11.4,2, 18.1442,     12.8,2,    22.75,2,    20.84,2,     0.00,2,     2.15,2, -999.000,9, -999.000,9, -999.000,9,-999.0000,9,  -999.00,9,   -999.0,9,  -999.00,9,-999.000,9,   -999.9,5,   2369.7,2,  -999.0, -999.00,-999.0000,-999.000,-999.000
    316N145_10,  I07N,   830,  1,     15,     15,2,19950816,2024, 21.4318,  61.5808, 1588,   -999,    239.7,  17.6871,  36.4319,2,  36.4319,2,     11.3,2, 17.6461,     12.3,2,    23.76,2,    21.03,2,     0.00,2,     2.16,2,    0.837,2,    0.578,2, -999.000,9,-999.0000,9,  -999.00,9,   -999.0,9,  -999.00,9,-999.000,9,   -999.9,5,   2368.3,2,  -999.0, -999.00,-999.0000,-999.000,-999.000
    316N145_10,  I07N,   830,  1,     14,     14,2,19950816,2024, 21.4318,  61.5808, 1588,   -999,    325.0,  15.1670,  36.1166,2,  36.1144,2,      0.8,2, 15.1169,      1.1,2,    31.12,2,    22.77,2,     0.00,2,     2.41,2,    0.477,2,    0.299,2, -999.000,9,-999.0000,9,  -999.00,9,   -999.0,9,  -999.00,9,-999.000,9,   -999.9,5,   2361.3,2,  -999.0, -999.00,-999.0000,-999.000,-999.000
    316N145_10,  I07N,   830,  1,     13,     13,2,19950816,2024, 21.4318,  61.5808, 1588,   -999,    399.4,  13.7881,  35.9146,2,  35.9150,2,      0.9,2, 13.7303,      0.6,2,    36.94,2,    22.63,2,     0.80,2,     2.54,2,    0.284,2,    0.176,2, -999.000,9,-999.0000,9,  -999.00,9,   -999.0,9,  -999.00,9,-999.000,9,   -999.9,5,   2353.5,2,  -999.0, -999.00,-999.0000,-999.000,-999.000
    316N145_10,  I07N,   830,  1,     12,     12,2,19950816,2024, 21.4318,  61.5808, 1588,   -999,    500.3,  12.6830,  35.7759,2,  35.7756,2,      1.0,2, 12.6141,      0.6,2,    43.10,2,    25.36,2,     0.10,2,     2.64,2,    0.155,2,    0.099,2, -999.000,9,-999.0000,9,  -999.00,9,   -999.0,9,  -999.00,9,-999.000,9,   -999.9,5,   2354.6,2,  -999.0, -999.00,-999.0000,-999.000,-999.000
    316N145_10,  I07N,   830,  1,     11,     11,2,19950816,2024, 21.4318,  61.5808, 1588,   -999,    599.4,  11.8633,  35.6790,2,  35.6793,2,      1.1,2, 11.7839,      1.2,2,    48.74,2,    27.91,2,     0.00,2,     2.70,2,    0.093,2,    0.060,2, -999.000,9,-999.0000,9,  -999.00,9,   -999.0,9,  -999.00,9,-999.000,9,   -999.9,5,   2351.9,2,  -999.0, -999.00,-999.0000,-999.000,-999.000
    316N145_10,  I07N,   830,  1,     10,     10,2,19950816,2024, 21.4318,  61.5808, 1588,   -999,    668.5,  11.3961,  35.6356,2,  35.6368,2,      1.1,2, 11.3096,      1.0,2,    53.19,2,    29.14,2,     0.00,2,     2.76,2,    0.063,2,    0.040,2, -999.000,9,-999.0000,9,  -999.00,9,   -999.0,9,  -999.00,9,-999.000,9,   -999.9,5,   2357.7,2,  -999.0, -999.00,-999.0000,-999.000,-999.000
    316N145_10,  I07N,   830,  1,      9,      9,2,19950816,2024, 21.4318,  61.5808, 1588,   -999,    799.7,  10.3718,  35.5490,2,  35.5475,2,      1.2,2, 10.2736,      1.2,2,    62.63,2,    32.46,2,     0.00,2,     2.85,2,    0.031,2,    0.016,2, -999.000,9,-999.0000,9,  -999.00,9,   -999.0,9,  -999.00,9,-999.000,9,   -999.9,5,   2360.9,2,  -999.0, -999.00,-999.0000,-999.000,-999.000
    316N145_10,  I07N,   830,  1,      8,      8,2,19950816,2024, 21.4318,  61.5808, 1588,   -999,    901.0,   9.6176,  35.4856,2,  35.4853,2,      1.3,2,  9.5113,      2.2,2,    69.51,2,    34.56,2,     0.00,2,     2.90,2,    0.026,2,    0.010,2, -999.000,9,-999.0000,9,  -999.00,9,   -999.0,9,  -999.00,9,-999.000,9,   -999.9,5,   2367.7,2,  -999.0, -999.00,-999.0000,-999.000,-999.000
    316N145_10,  I07N,   830,  1,      7,      7,2,19950816,2024, 21.4318,  61.5808, 1588,   -999,   1001.8,   8.8948,  35.4090,2,  35.4091,2,      1.3,2,  8.7813,      2.3,2,    76.23,2,    35.81,2,     0.00,2,     2.97,2,    0.011,2,    0.005,2, -999.000,9,-999.0000,9,  -999.00,9,   -999.0,9,  -999.00,9,-999.000,9,   -999.9,5,   2371.3,2,  -999.0, -999.00,-999.0000,-999.000,-999.000
    316N145_10,  I07N,   830,  1,      6,      6,2,19950816,2024, 21.4318,  61.5808, 1588,   -999,   1101.2,   8.2181,  35.3387,2,  35.3378,2,      3.4,2,  8.0981,      4.3,2,    81.93,2,    37.16,2,     0.00,2,     3.03,2,    0.009,2,    0.007,2, -999.000,9,-999.0000,9,  -999.00,9,   -999.0,9,  -999.00,9,-999.000,9,   -999.9,5,   2377.8,2,  -999.0, -999.00,-999.0000,-999.000,-999.000
    316N145_10,  I07N,   830,  1,      5,      5,2,19950816,2024, 21.4318,  61.5808, 1588,   -999,   1203.6,   7.4785,  35.2585,2,  35.2581,2,      8.2,2,  7.3531,      8.4,2,    88.53,2,    38.03,2,     0.00,2,     3.06,2,    0.004,2,    0.000,2, -999.000,9,-999.0000,9,  -999.00,9,   -999.0,9,  -999.00,9,-999.000,9,   -999.9,5,   2380.1,2,  -999.0, -999.00,-999.0000,-999.000,-999.000
    316N145_10,  I07N,   830,  1,      4,      4,2,19950816,2024, 21.4318,  61.5808, 1588,   -999,   1304.7,   6.7279,  35.1792,2,  35.1791,2,     16.9,2,  6.5984,     16.2,2,    95.69,2,    38.51,2,     0.00,2,     3.08,2,    0.004,2,    0.001,2, -999.000,9,-999.0000,9,  -999.00,9,   -999.0,9,  -999.00,9,-999.000,9,   -999.9,5,   2388.9,2,  -999.0, -999.00,-999.0000,-999.000,-999.000
    316N145_10,  I07N,   830,  1,      3,      3,2,19950816,2024, 21.4318,  61.5808, 1588,   -999,   1404.1,   6.0156,  35.1097,2,  35.1077,2,     25.1,2,  5.8828,     25.0,2,   102.91,2,    38.71,2,     0.00,2,     3.07,2,    0.004,2,    0.005,2, -999.000,9,-999.0000,9,  -999.00,9,   -999.0,9,  -999.00,9,-999.000,9,   -999.9,5,   2394.0,2,  -999.0, -999.00,-999.0000,-999.000,-999.000
    316N145_10,  I07N,   830,  1,      2,      2,2,19950816,2024, 21.4318,  61.5808, 1588,   -999,   1499.6,   5.4869,  35.0561,2,  35.0576,2,     31.9,2,  5.3500,     33.4,2,   108.58,2,    38.66,2,     0.00,2,     3.06,2,    0.002,2,    0.001,2, -999.000,9,-999.0000,9,  -999.00,9,   -999.0,9,  -999.00,9,-999.000,9,   -999.9,5,   2400.7,2,  -999.0, -999.00,-999.0000,-999.000,-999.000
    316N145_10,  I07N,   830,  1,      1,      1,2,19950816,2024, 21.4318,  61.5808, 1588,   -999,   1605.3,   4.6615,  34.9770,2,  34.9859,3,     43.8,2,  4.5238,     46.3,2,   116.64,2,    38.57,2,     0.00,2,     3.05,2,    0.004,2,    0.003,2, -999.000,9,-999.0000,9,  -999.00,9,   -999.0,9,  -999.00,9,-999.000,9,   -999.9,5,   2407.3,2,  -999.0, -999.00,-999.0000,-999.000,-999.000
    316N145_10,  I07N,   831,  1,     16,     16,2,19950817,0034, 21.2687,  61.5932,  914,   -999,      8.8,  26.2834,  36.3256,2,  36.3246,2,    194.1,2, 26.2816,    193.1,2,     2.65,2,     4.07,2,     0.33,2,     0.68,2,    1.724,2,    0.979,2, -999.000,9,-999.0000,9,  -999.00,9,   -999.0,9,  -999.00,9,-999.000,9,   -999.9,5,   2375.3,2,  -999.0, -999.00,-999.0000,-999.000,-999.000
    316N145_10,  I07N,   831,  1,     15,     15,2,19950817,0034, 21.2687,  61.5932,  914,   -999,     35.8,  26.1657,  36.3871,2,  36.3849,2,    193.9,2, 26.1579,    184.0,2,     4.18,2,     4.29,2,     0.34,2,     0.71,2, -999.000,9, -999.000,9, -999.000,9,-999.0000,9,  -999.00,9,   -999.0,9,  -999.00,9,-999.000,9,   2064.5,2,   2383.5,2,  -999.0, -999.00,-999.0000,-999.000,-999.000
    316N145_10,  I07N,   831,  1,     14,     14,2,19950817,0034, 21.2687,  61.5932,  914,   -999,     60.3,  22.1964,  35.9553,2,  35.9951,2,     59.2,2, 22.1845,     52.4,2,    11.19,2,    20.51,2,     0.09,2,     1.60,2, -999.000,9, -999.000,9, -999.000,9,-999.0000,9,  -999.00,9,   -999.0,9,  -999.00,9,-999.000,9,   -999.9,5,   2344.1,2,  -999.0, -999.00,-999.0000,-999.000,-999.000
    316N145_10,  I07N,   831,  1,     13,     13,2,19950817,0034, 21.2687,  61.5932,  914,   -999,     74.8,  22.0581,  36.3104,2,  36.2967,2,     45.7,2, 22.0435,     38.1,2,    11.69,2,    20.98,2,     0.03,2,     1.78,2,    1.554,2,    0.892,2, -999.000,9,-999.0000,9,  -999.00,9,   -999.0,9,  -999.00,9,-999.000,9,   2196.3,2,   2369.8,2,  -999.0, -999.00,-999.0000,-999.000,-999.000
    316N145_10,  I07N,   831,  1,     12,     12,2,19950817,0034, 21.2687,  61.5932,  914,   -999,     95.2,  20.7889,  36.1639,2,  36.1604,2,      5.0,2, 20.7709,      3.3,2,    16.13,2,    23.53,2,     0.02,2,     2.16,2, -999.000,9, -999.000,9, -999.000,9,-999.0000,9,  -999.00,9,   -999.0,9,  -999.00,9,-999.000,9,   -999.9,5,   2358.2,2,  -999.0, -999.00,-999.0000,-999.000,-999.000
    316N145_10,  I07N,   831,  1,     11,     11,2,19950817,0034, 21.2687,  61.5932,  914,   -999,    115.5,  19.4429,  36.0514,2,  36.0498,2,      0.9,2, 19.4220,      1.2,2,    19.71,2,    22.94,2,     0.00,2,     2.25,2,    1.069,2,    0.642,2, -999.000,9,-999.0000,9,  -999.00,9,   -999.0,9,  -999.00,9,-999.000,9,   2235.5,2,   2359.1,2,  -999.0, -999.00,-999.0000,-999.000,-999.000
    316N145_10,  I07N,   831,  1,     10,     10,2,19950817,0034, 21.2687,  61.5932,  914,   -999,    149.3,  18.6072,  36.0782,2,  36.0778,2,      0.5,2, 18.5810,      2.1,2,    21.92,2,    22.23,2,     0.00,2,     2.26,2, -999.000,9, -999.000,9, -999.000,9,-999.0000,9,  -999.00,9,   -999.0,9,  -999.00,9,-999.000,9,   -999.9,5,   2353.0,2,  -999.0, -999.00,-999.0000,-999.000,-999.000
    316N145_10,  I07N,   831,  1,      9,      9,2,19950817,0034, 21.2687,  61.5932,  914,   -999,    199.2,  18.2781,  36.4140,2,  36.4106,2,     11.9,2, 18.2433,     12.2,2,    22.24,2,    20.86,2,     0.00,2,     2.14,2,    0.879,2,    0.575,2, -999.000,9,-999.0000,9,  -999.00,9,   -999.0,9,  -999.00,9,-999.000,9,   2244.5,2,   2372.4,2,  -999.0, -999.00,-999.0000,-999.000,-999.000
    316N145_10,  I07N,   831,  1,      8,      8,2,19950817,0034, 21.2687,  61.5932,  914,   -999,    330.3,  15.0335,  36.0830,2,  36.0828,2,      0.7,2, 14.9829,      0.5,2,    31.31,2,    22.23,2,     0.27,2,     2.41,2,    0.458,2,    0.291,2, -999.000,9,-999.0000,9,  -999.00,9,   -999.0,9,  -999.00,9,-999.000,9,   -999.9,5,   2357.3,2,  -999.0, -999.00,-999.0000,-999.000,-999.000
    316N145_10,  I07N,   831,  1,      7,      7,2,19950817,0034, 21.2687,  61.5932,  914,   -999,    430.1,  13.4249,  35.8673,2,  35.8647,2,      0.8,2, 13.3636,      0.8,2,    38.32,2,    24.66,2,     0.00,2,     2.55,2, -999.000,9, -999.000,9, -999.000,9,-999.0000,9,  -999.00,9,   -999.0,9,  -999.00,9,-999.000,9,   2275.4,2,   2359.9,2,  -999.0, -999.00,-999.0000,-999.000,-999.000
    316N145_10,  I07N,   831,  1,      6,      6,2,19950817,0034, 21.2687,  61.5932,  914,   -999,    529.6,  12.3773,  35.7385,2,  35.7351,2,      1.0,2, 12.3055,      0.8,2,    44.99,2,    26.40,2,     0.00,2,     2.65,2,    0.268,3,    0.079,2, -999.000,9,-999.0000,9,  -999.00,9,   -999.0,9,  -999.00,9,-999.000,9,   -999.9,5,   2354.2,2,  -999.0, -999.00,-999.0000,-999.000,-999.000
    316N145_10,  I07N,   831,  1,      5,      5,2,19950817,0034, 21.2687,  61.5932,  914,   -999,    629.4,  11.5377,  35.6524,2,  35.6504,2,      1.1,2, 11.4557,      1.1,2,    51.83,2,    28.99,2,     0.00,2,     2.72,2,    0.086,2,    0.054,2, -999.000,9,-999.0000,9,  -999.00,9,   -999.0,9,  -999.00,9,-999.000,9,   2287.1,2,   2361.9,2,  -999.0, -999.00,-999.0000,-999.000,-999.000
    316N145_10,  I07N,   831,  1,      4,      4,2,19950817,0034, 21.2687,  61.5932,  914,   -999,    720.5,  10.8452,  35.5925,2,  35.5899,2,      1.3,2, 10.7545,      1.3,2,    58.34,2,    31.12,2,     0.00,2,     2.78,2,    0.048,2,    0.029,2, -999.000,9,-999.0000,9,  -999.00,9,   -999.0,9,  -999.00,9,-999.000,9,   -999.9,5,   2361.0,2,  -999.0, -999.00,-999.0000,-999.000,-999.000
    316N145_10,  I07N,   831,  1,      3,      3,2,19950817,0034, 21.2687,  61.5932,  914,   -999,    808.8,  10.1872,  35.5368,2,  35.5373,2,      1.5,2, 10.0888,      1.5,2,    64.17,2,    32.96,2,     0.00,2,     2.84,2,    0.031,2,    0.017,2, -999.000,9,-999.0000,9,  -999.00,9,   -999.0,9,  -999.00,9,-999.000,9,   2300.4,2,   2370.0,2,  -999.0, -999.00,-999.0000,-999.000,-999.000
    316N145_10,  I07N,   831,  1,      2,      2,2,19950817,0034, 21.2687,  61.5932,  914,   -999,    907.7,   9.3978,  35.4660,2,  35.4652,2,      2.7,2,  9.2921,      2.6,2,    71.22,2,    34.92,2,     0.00,2,     2.90,2, -999.000,9, -999.000,9, -999.000,9,-999.0000,9,  -999.00,9,   -999.0,9,  -999.00,9,-999.000,9,   -999.9,5,   2369.0,2,  -999.0, -999.00,-999.0000,-999.000,-999.000
    316N145_10,  I07N,   831,  1,      1,      1,2,19950817,0034, 21.2687,  61.5932,  914,   -999,    959.2,   8.9970,  35.4223,2,  35.4270,2,      2.9,2,  8.8878,      2.8,2,    74.48,2,    35.63,2,     0.00,2,     2.94,2,    0.015,2,    0.014,2, -999.000,9,-999.0000,9,  -999.00,9,   -999.0,9,  -999.00,9,-999.000,9,   -999.9,5,   2371.6,2,  -999.0, -999.00,-999.0000,-999.000,-999.000