BOTTLE,20080821WHPSIOSCD
EXPOCODE,SECT_ID,STNNBR,CASTNO,SAMPNO,BTLNBR,BTLNBR_FLAG_W,DATE,TIME,LATITUDE,LONGITUDE,DEPTH,CTDRAW,CTDPRS,CTDTMP,CTDSAL,CTDSAL_FLAG_W,SALNTY,SALNTY_FLAG_W,CTDOXY,CTDOXY_FLAG_W,THETA,OXYGEN,OXYGEN_FLAG_W,SILCAT,SILCAT_FLAG_W,NITRAT,NITRAT_FLAG_W,NITRIT,NITRIT_FLAG_W,PHSPHT,PHSPHT_FLAG_W,CFC-11,CFC-11_FLAG_W,CFC-12,CFC-12_FLAG_W,TRITUM,TRITUM_FLAG_W,HELIUM,HELIUM_FLAG_W,DELHE3,DELHE3_FLAG_W,DELC14,DELC14_FLAG_W,DELC13,DELC13_FLAG_W,NEON,NEON_FLAG_W,TCARBN,TCARBN_FLAG_W,ALKALI,ALKALI_FLAG_W,C14ERR,DELHER,HELIER,NEONER,TRITER
,,,,,,,,,,,,,DBAR,ITS-90,PSS-78,,PSS-78,,UMOL/KG,,DEG C,UMOL/KG,,UMOL/KG,,UMOL/KG,,UMOL/KG,,UMOL/KG,,PMOL/KG,,PMOL/KG,,TU,,NMOL/KG,,PERCNT,,/MILLE,,/MILLE,,NMOL/KG,,UMOL/KG,,UMOL/KG,,/MILLE,PERCNT,NMOL/KG,NMOL/KG,TU
    316N145_10,  I07N,   835,  1,     36,     36,2,19950817,2014, 20.5742,  61.3165, 3444,   -999,      9.0,  26.1936,  36.1637,2,  36.1651,2,    211.0,2, 26.1918,    206.5,2,     2.65,2,     3.62,2,     0.37,2,     0.63,2,    1.741,2,    0.971,2, -999.000,9,-999.0000,9,  -999.00,9,   -999.0,9,  -999.00,9,-999.000,9,   -999.9,5,   2360.4,2,  -999.0, -999.00,-999.0000,-999.000,-999.000
    316N145_10,  I07N,   835,  1,     35,     35,2,19950817,2014, 20.5742,  61.3165, 3444,   -999,     26.9,  26.0809,  36.2316,2,  36.2364,2,    202.3,2, 26.0751,    202.1,2,     3.16,2,     4.50,2,     0.38,2,     0.70,2, -999.000,9, -999.000,9, -999.000,9,-999.0000,9,  -999.00,9,   -999.0,9,  -999.00,9,-999.000,9,   -999.9,5,   2365.2,2,  -999.0, -999.00,-999.0000,-999.000,-999.000
    316N145_10,  I07N,   835,  1,     34,     34,2,19950817,2014, 20.5742,  61.3165, 3444,   -999,     52.0,  24.2883,  36.1644,2,  36.1659,2,    142.3,2, 24.2775,    107.6,2,     6.94,2,    14.55,2,     0.45,2,     1.29,2,    1.697,2,    0.947,2, -999.000,9,-999.0000,9,  -999.00,9,   -999.0,9,  -999.00,9,-999.000,9,   -999.9,5,   2356.4,2,  -999.0, -999.00,-999.0000,-999.000,-999.000
    316N145_10,  I07N,   835,  1,     33,     33,2,19950817,2014, 20.5742,  61.3165, 3444,   -999,     77.0,  22.3955,  36.2636,2,  36.2562,2,     62.9,2, 22.3803,     54.5,2,    10.20,2,    19.60,2,     0.04,2,     1.61,2, -999.000,9, -999.000,9, -999.000,9,-999.0000,9,  -999.00,9,   -999.0,9,  -999.00,9,-999.000,9,   -999.9,5,   2359.9,2,  -999.0, -999.00,-999.0000,-999.000,-999.000
    316N145_10,  I07N,   835,  1,     32,     32,2,19950817,2014, 20.5742,  61.3165, 3444,   -999,    100.5,  20.9701,  36.1013,2,  36.0561,2,     17.0,2, 20.9510,     16.3,2,    14.68,2,    23.27,2,     0.04,2,     1.99,2, -999.000,9, -999.000,9, -999.000,9,-999.0000,9,  -999.00,9,   -999.0,9,  -999.00,9,-999.000,9,   -999.9,5,   2351.0,2,  -999.0, -999.00,-999.0000,-999.000,-999.000
    316N145_10,  I07N,   835,  1,     31,     31,2,19950817,2014, 20.5742,  61.3165, 3444,   -999,    126.5,  19.9425,  36.0687,2,  36.0847,2,      1.4,2, 19.9192,      2.2,2,    18.28,2,    23.21,2,     0.00,2,     2.19,2,    1.141,2,    0.666,2, -999.000,9,-999.0000,9,  -999.00,9,   -999.0,9,  -999.00,9,-999.000,9,   -999.9,5,   2349.9,2,  -999.0, -999.00,-999.0000,-999.000,-999.000
    316N145_10,  I07N,   835,  1,     30,     30,2,19950817,2014, 20.5742,  61.3165, 3444,   -999,    159.9,  19.1125,  36.2122,2,  36.2154,2,      4.1,2, 19.0839,      6.9,2,    20.50,2,    21.71,2,     0.00,2,     2.17,2,    0.973,2,    0.591,2, -999.000,9,-999.0000,9,  -999.00,9,   -999.0,9,  -999.00,9,-999.000,9,   -999.9,5,   2358.9,2,  -999.0, -999.00,-999.0000,-999.000,-999.000
    316N145_10,  I07N,   835,  1,     29,     29,2,19950817,2014, 20.5742,  61.3165, 3444,   -999,    215.4,  18.0319,  36.4379,2,  36.4431,2,     11.2,2, 17.9947,     12.3,2,    22.55,2,    20.81,2,     0.00,2,     2.12,2,    0.860,2,    0.571,2, -999.000,9,-999.0000,9,  -999.00,9,   -999.0,9,  -999.00,9,-999.000,9,   -999.9,5,   2366.5,2,  -999.0, -999.00,-999.0000,-999.000,-999.000
    316N145_10,  I07N,   835,  1,     28,     28,2,19950817,2014, 20.5742,  61.3165, 3444,   -999,    301.7,  15.5854,  36.1487,2,  36.1500,2,      1.1,2, 15.5381,      2.5,2,    28.75,2,    22.84,2,     0.00,2,     2.32,2,    0.550,2,    0.338,2, -999.000,9,-999.0000,9,  -999.00,9,   -999.0,9,  -999.00,9,-999.000,9,   -999.9,5,   2358.9,2,  -999.0, -999.00,-999.0000,-999.000,-999.000
    316N145_10,  I07N,   835,  1,     27,     27,2,19950817,2014, 20.5742,  61.3165, 3444,   -999,    400.7,  13.7061,  35.9023,2,  35.9066,2,      1.3,2, 13.6483,      0.7,2,    36.32,2,    24.25,2,     0.00,2,     2.49,2,    0.289,2,    0.181,2, -999.000,9,-999.0000,9,  -999.00,9,   -999.0,9,  -999.00,9,-999.000,9,   -999.9,5,   2352.4,2,  -999.0, -999.00,-999.0000,-999.000,-999.000
    316N145_10,  I07N,   835,  1,     26,     26,2,19950817,2014, 20.5742,  61.3165, 3444,   -999,    448.5,  13.2391,  35.8546,2,  35.8539,2,      1.3,2, 13.1757,      0.8,2,    39.23,2,    24.44,2,     0.00,2,     2.54,2, -999.000,9, -999.000,9, -999.000,9,-999.0000,9,  -999.00,9,   -999.0,9,  -999.00,9,-999.000,9,   -999.9,5,   2355.9,2,  -999.0, -999.00,-999.0000,-999.000,-999.000
    316N145_10,  I07N,   835,  1,     25,     25,2,19950817,2014, 20.5742,  61.3165, 3444,   -999,    499.9,  12.7267,  35.7780,2,  35.7792,2,      1.4,2, 12.6577,      0.9,2,    41.97,2,    25.57,2,     0.00,2,     2.59,2,    0.165,2,    0.104,2, -999.000,9,-999.0000,9,  -999.00,9,   -999.0,9,  -999.00,9,-999.000,9,   -999.9,5,   2352.2,2,  -999.0, -999.00,-999.0000,-999.000,-999.000
    316N145_10,  I07N,   835,  1,     24,     24,2,19950817,2014, 20.5742,  61.3165, 3444,   -999,    619.2,  11.6160,  35.6574,2,  35.6579,2,      1.5,2, 11.5350,      1.0,2,    50.59,2,    28.40,2,     0.00,2,     2.69,2,    0.075,2,    0.046,2, -999.000,9,-999.0000,9,  -999.00,9,   -999.0,9,  -999.00,9,-999.000,9,   -999.9,5,   2356.6,2,  -999.0, -999.00,-999.0000,-999.000,-999.000
    316N145_10,  I07N,   835,  1,     23,     23,2,19950817,2014, 20.5742,  61.3165, 3444,   -999,    700.0,  11.0065,  35.6092,2,  35.6096,2,      1.6,2, 10.9177,      2.1,2,    55.75,2,    30.96,2,     0.00,2,     2.72,2,    0.056,2,    0.034,2, -999.000,9,-999.0000,9,  -999.00,9,   -999.0,9,  -999.00,9,-999.000,9,   -999.9,5,   2357.2,2,  -999.0, -999.00,-999.0000,-999.000,-999.000
    316N145_10,  I07N,   835,  1,     22,     22,2,19950817,2014, 20.5742,  61.3165, 3444,   -999,    800.2,  10.1805,  35.5403,2,  35.5405,2,      1.7,2, 10.0833,      2.0,2,    63.51,2,    33.10,2,     0.00,2,     2.80,2,    0.035,2,    0.021,2, -999.000,9,-999.0000,9,  -999.00,9,   -999.0,9,  -999.00,9,-999.000,9,   -999.9,5,   2365.3,2,  -999.0, -999.00,-999.0000,-999.000,-999.000
    316N145_10,  I07N,   835,  1,     21,     21,2,19950817,2014, 20.5742,  61.3165, 3444,   -999,    901.1,   9.4907,  35.4755,2,  35.4759,2,      2.9,2,  9.3852,      2.5,2,    69.72,2,    34.67,2,     0.00,2,     2.87,2,    0.024,2,    0.017,2, -999.000,9,-999.0000,9,  -999.00,9,   -999.0,9,  -999.00,9,-999.000,9,   -999.9,5,   2366.3,2,  -999.0, -999.00,-999.0000,-999.000,-999.000
    316N145_10,  I07N,   835,  1,     20,     20,2,19950817,2014, 20.5742,  61.3165, 3444,   -999,   1001.2,   8.5849,  35.3837,2,  35.3845,2,      3.8,2,  8.4737,      5.2,2,    77.52,2,    36.39,2,     0.00,2,     2.93,2,    0.016,2,    0.011,2, -999.000,9,-999.0000,9,  -999.00,9,   -999.0,9,  -999.00,9,-999.000,9,   -999.9,5,   2374.4,2,  -999.0, -999.00,-999.0000,-999.000,-999.000
    316N145_10,  I07N,   835,  1,     19,     19,2,19950817,2014, 20.5742,  61.3165, 3444,   -999,   1101.0,   7.8610,  35.3036,2,  35.3044,2,      7.0,2,  7.7439,      8.2,2,    83.78,2,    37.40,2,     0.00,2,     2.98,2, -999.000,9, -999.000,9, -999.000,9,-999.0000,9,  -999.00,9,   -999.0,9,  -999.00,9,-999.000,9,   -999.9,5,   2375.8,2,  -999.0, -999.00,-999.0000,-999.000,-999.000
    316N145_10,  I07N,   835,  1,     18,     18,2,19950817,2014, 20.5742,  61.3165, 3444,   -999,   1201.2,   7.1364,  35.2246,2,  35.2255,2,     11.1,2,  7.0143,     12.1,2,    90.76,2,    38.08,2,     0.00,2,     3.03,2,    0.003,2,    0.003,2, -999.000,9,-999.0000,9,  -999.00,9,   -999.0,9,  -999.00,9,-999.000,9,   -999.9,5,   2384.2,2,  -999.0, -999.00,-999.0000,-999.000,-999.000
    316N145_10,  I07N,   835,  1,     17,     17,2,19950817,2014, 20.5742,  61.3165, 3444,   -999,   1301.2,   6.4573,  35.1531,2,  35.1539,2,     18.7,2,  6.3308,     19.5,2,    97.43,2,    38.41,2,     0.00,2,     3.03,2, -999.000,9, -999.000,9, -999.000,9,-999.0000,9,  -999.00,9,   -999.0,9,  -999.00,9,-999.000,9,   -999.9,5,   2388.5,2,  -999.0, -999.00,-999.0000,-999.000,-999.000
    316N145_10,  I07N,   835,  1,     16,     16,2,19950817,2014, 20.5742,  61.3165, 3444,   -999,   1402.4,   5.8694,  35.0939,2,  35.0945,2,     26.7,2,  5.7383,     27.3,2,   103.62,2,    38.51,2,     0.00,2,     3.03,2,   -0.001,2,    0.001,2, -999.000,9,-999.0000,9,  -999.00,9,   -999.0,9,  -999.00,9,-999.000,9,   -999.9,5,   2395.8,2,  -999.0, -999.00,-999.0000,-999.000,-999.000
    316N145_10,  I07N,   835,  1,     15,     15,2,19950817,2014, 20.5742,  61.3165, 3444,   -999,   1503.1,   5.2787,  35.0359,2,  35.0369,2,     38.4,2,  5.1437,     37.8,2,   109.49,2,    38.51,2,     0.00,2,     3.00,2, -999.000,9, -999.000,9, -999.000,9,-999.0000,9,  -999.00,9,   -999.0,9,  -999.00,9,-999.000,9,   -999.9,5,   2401.5,2,  -999.0, -999.00,-999.0000,-999.000,-999.000
    316N145_10,  I07N,   835,  1,     14,     14,2,19950817,2014, 20.5742,  61.3165, 3444,   -999,   1600.7,   4.6218,  34.9744,2,  34.9760,2,     49.4,2,  4.4850,     48.9,2,   116.50,2,    38.46,2,     0.00,2,     2.98,2,    0.002,2,    0.001,2, -999.000,9,-999.0000,9,  -999.00,9,   -999.0,9,  -999.00,9,-999.000,9,   -999.9,5,   2409.6,2,  -999.0, -999.00,-999.0000,-999.000,-999.000
    316N145_10,  I07N,   835,  1,     13,     13,2,19950817,2014, 20.5742,  61.3165, 3444,   -999,   1699.6,   4.1726,  34.9355,2,  34.9361,2,     57.2,2,  4.0319,     56.5,2,   121.57,2,    38.41,2,     0.00,2,     2.94,2, -999.000,9, -999.000,9, -999.000,9,-999.0000,9,  -999.00,9,   -999.0,9,  -999.00,9,-999.000,9,   -999.9,5,   2411.7,2,  -999.0, -999.00,-999.0000,-999.000,-999.000
    316N145_10,  I07N,   835,  1,     12,     12,2,19950817,2014, 20.5742,  61.3165, 3444,   -999,   1803.6,   3.6538,  34.8888,2,  34.8905,2,     68.3,2,  3.5103,     68.3,2,   127.24,2,    38.16,2,     0.00,2,     2.89,2,    0.000,2,    0.000,2, -999.000,9,-999.0000,9,  -999.00,9,   -999.0,9,  -999.00,9,-999.000,9,   -999.9,5,   2420.7,2,  -999.0, -999.00,-999.0000,-999.000,-999.000
    316N145_10,  I07N,   835,  1,     11,     11,2,19950817,2014, 20.5742,  61.3165, 3444,   -999,   1901.8,   3.3355,  34.8625,2,  34.8624,2,     76.2,2,  3.1874,     76.6,2,   130.74,2,    37.92,2,     0.00,2,     2.85,2, -999.000,9, -999.000,9, -999.000,9,-999.0000,9,  -999.00,9,   -999.0,9,  -999.00,9,-999.000,9,   -999.9,5,   2421.5,2,  -999.0, -999.00,-999.0000,-999.000,-999.000
    316N145_10,  I07N,   835,  1,     10,     10,2,19950817,2014, 20.5742,  61.3165, 3444,   -999,   2000.5,   3.0765,  34.8404,2,  34.8410,2,     84.0,2,  2.9232,     83.7,2,   133.51,2,    37.68,2,     0.00,2,     2.81,2,    0.001,2,    0.001,2, -999.000,9,-999.0000,9,  -999.00,9,   -999.0,9,  -999.00,9,-999.000,9,   -999.9,5,   2428.2,2,  -999.0, -999.00,-999.0000,-999.000,-999.000
    316N145_10,  I07N,   835,  1,      9,      9,2,19950817,2014, 20.5742,  61.3165, 3444,   -999,   2201.4,   2.6557,  34.8077,2,  34.8064,2,     94.9,2,  2.4907,     94.2,2,   138.77,2,    37.39,2,     0.00,2,     2.76,2,   -0.001,2,    0.001,2, -999.000,9,-999.0000,9,  -999.00,9,   -999.0,9,  -999.00,9,-999.000,9,   -999.9,5,   2432.7,2,  -999.0, -999.00,-999.0000,-999.000,-999.000
    316N145_10,  I07N,   835,  1,      8,      8,2,19950817,2014, 20.5742,  61.3165, 3444,   -999,   2401.8,   2.2953,  34.7805,2,  34.7801,2,    103.3,2,  2.1182,    103.9,2,   143.32,2,    37.10,2,     0.00,2,     2.71,2,    0.000,2,    0.002,2, -999.000,9,-999.0000,9,  -999.00,9,   -999.0,9,  -999.00,9,-999.000,9,   -999.9,5,   2442.5,2,  -999.0, -999.00,-999.0000,-999.000,-999.000
    316N145_10,  I07N,   835,  1,      7,      7,2,19950817,2014, 20.5742,  61.3165, 3444,   -999,   2602.5,   2.0281,  34.7617,2,  34.7607,2,    110.8,2,  1.8375,    111.1,2,   146.76,2,    36.85,2,     0.00,2,     2.68,2,    0.001,2,    0.003,2, -999.000,9,-999.0000,9,  -999.00,9,   -999.0,9,  -999.00,9,-999.000,9,   -999.9,5,   2447.6,2,  -999.0, -999.00,-999.0000,-999.000,-999.000
    316N145_10,  I07N,   835,  1,      6,      6,2,19950817,2014, 20.5742,  61.3165, 3444,   -999,   2802.0,   1.8810,  34.7511,2,  34.7495,2,    115.4,2,  1.6746,    115.3,2,   149.06,2,    36.66,2,     0.00,2,     2.65,2,    0.001,2,    0.005,2, -999.000,9,-999.0000,9,  -999.00,9,   -999.0,9,  -999.00,9,-999.000,9,   -999.9,5,   2455.3,2,  -999.0, -999.00,-999.0000,-999.000,-999.000
    316N145_10,  I07N,   835,  1,      5,      5,2,19950817,2014, 20.5742,  61.3165, 3444,   -999,   2869.1,   1.8507,  34.7487,2,  34.7481,2,    115.1,2,  1.6386,    115.4,2,   150.00,2,    36.56,2,     0.00,2,     2.65,2,    0.006,2,    0.013,2, -999.000,9,-999.0000,9,  -999.00,9,   -999.0,9,  -999.00,9,-999.000,9,   -999.9,5,   2454.8,2,  -999.0, -999.00,-999.0000,-999.000,-999.000
    316N145_10,  I07N,   835,  1,      4,      4,2,19950817,2014, 20.5742,  61.3165, 3444,   -999,   3093.8,   1.7703,  34.7419,2,  34.7408,2,    120.6,2,  1.5381,    120.8,2,   149.95,2,    36.36,2,     0.00,2,     2.62,2,    0.005,2,    0.013,2, -999.000,9,-999.0000,9,  -999.00,9,   -999.0,9,  -999.00,9,-999.000,9,   -999.9,5,   2458.6,2,  -999.0, -999.00,-999.0000,-999.000,-999.000
    316N145_10,  I07N,   835,  1,      3,      3,2,19950817,2014, 20.5742,  61.3165, 3444,   -999,   3298.3,   1.7288,  34.7396,2,  34.7373,2,    125.4,2,  1.4773,    124.7,2,   149.91,2,    36.26,2,     0.00,2,     2.59,2,    0.009,2,    0.026,2, -999.000,9,-999.0000,9,  -999.00,9,   -999.0,9,  -999.00,9,-999.000,9,   -999.9,5,   2457.4,2,  -999.0, -999.00,-999.0000,-999.000,-999.000
    316N145_10,  I07N,   835,  1,      2,      2,2,19950817,2014, 20.5742,  61.3165, 3444,   -999,   3430.7,   1.7220,  34.7388,2,  34.7369,2,    125.9,2,  1.4572,    125.8,2,   150.06,2,    36.21,2,     0.00,2,     2.59,2,    0.007,2,    0.023,2, -999.000,9,-999.0000,9,  -999.00,9,   -999.0,9,  -999.00,9,-999.000,9,   -999.9,5,   2459.7,2,  -999.0, -999.00,-999.0000,-999.000,-999.000
    316N145_10,  I07N,   835,  1,      1,      1,2,19950817,2014, 20.5742,  61.3165, 3444,   -999,   3487.4,   1.7173,  34.7379,2,  34.7361,2,    125.6,2,  1.4468,    126.0,2,   150.21,2,    36.21,2,     0.00,2,     2.58,2,    0.009,2,    0.027,2, -999.000,9,-999.0000,9,  -999.00,9,   -999.0,9,  -999.00,9,-999.000,9,   -999.9,5,   2452.0,2,  -999.0, -999.00,-999.0000,-999.000,-999.000