BOTTLE,20080821WHPSIOSCD
EXPOCODE,SECT_ID,STNNBR,CASTNO,SAMPNO,BTLNBR,BTLNBR_FLAG_W,DATE,TIME,LATITUDE,LONGITUDE,DEPTH,CTDRAW,CTDPRS,CTDTMP,CTDSAL,CTDSAL_FLAG_W,SALNTY,SALNTY_FLAG_W,CTDOXY,CTDOXY_FLAG_W,THETA,OXYGEN,OXYGEN_FLAG_W,SILCAT,SILCAT_FLAG_W,NITRAT,NITRAT_FLAG_W,NITRIT,NITRIT_FLAG_W,PHSPHT,PHSPHT_FLAG_W,CFC-11,CFC-11_FLAG_W,CFC-12,CFC-12_FLAG_W,TRITUM,TRITUM_FLAG_W,HELIUM,HELIUM_FLAG_W,DELHE3,DELHE3_FLAG_W,DELC14,DELC14_FLAG_W,DELC13,DELC13_FLAG_W,NEON,NEON_FLAG_W,TCARBN,TCARBN_FLAG_W,ALKALI,ALKALI_FLAG_W,C14ERR,DELHER,HELIER,NEONER,TRITER
,,,,,,,,,,,,,DBAR,ITS-90,PSS-78,,PSS-78,,UMOL/KG,,DEG C,UMOL/KG,,UMOL/KG,,UMOL/KG,,UMOL/KG,,UMOL/KG,,PMOL/KG,,PMOL/KG,,TU,,NMOL/KG,,PERCNT,,/MILLE,,/MILLE,,NMOL/KG,,UMOL/KG,,UMOL/KG,,/MILLE,PERCNT,NMOL/KG,NMOL/KG,TU
    316N145_10,  I07N,   811,  1,     36,     36,2,19950811,2355, 19.3333,  59.5332, 3385,   -999,     10.0,  26.5993,  36.1445,2,  36.1442,2,    206.6,2, 26.5973,    203.8,2,     3.27,2,     2.63,2,     0.15,2,     0.56,2,    1.720,2,    0.962,2, -999.000,9,-999.0000,9,  -999.00,9,   -999.0,9,  -999.00,9,-999.000,9,   2030.5,2,   2345.8,2,  -999.0, -999.00,-999.0000,-999.000,-999.000
    316N145_10,  I07N,   811,  1,     35,     35,2,19950811,2355, 19.3333,  59.5332, 3385,   -999,     25.5,  26.6054,  36.1530,2,  36.1596,2,    201.7,2, 26.5998,    202.5,2,     3.25,2,     2.50,2,     0.14,2,     0.55,2,    1.703,2,    0.957,2, -999.000,9,-999.0000,9,  -999.00,9,   -999.0,9,  -999.00,9,-999.000,9,   -999.9,9,   -999.9,9,  -999.0, -999.00,-999.0000,-999.000,-999.000
    316N145_10,  I07N,   811,  1,     34,     34,2,19950811,2355, 19.3333,  59.5332, 3385,   -999,     37.5,  26.5888,  36.1943,2,  36.1930,2,    198.6,2, 26.5805,    197.6,2,     3.06,2,     2.32,2,     0.15,2,     0.55,2,    1.700,2,    0.975,2, -999.000,9,-999.0000,9,  -999.00,9,   -999.0,9,  -999.00,9,-999.000,9,   -999.9,9,   -999.9,9,  -999.0, -999.00,-999.0000,-999.000,-999.000
    316N145_10,  I07N,   811,  1,     33,     33,2,19950811,2355, 19.3333,  59.5332, 3385,   -999,     60.8,  23.0440,  36.1517,2,  36.1505,2,     82.4,2, 23.0317,     81.3,2,     8.79,2,    16.52,2,     0.18,2,     1.41,2,    1.626,2,    0.927,2, -999.000,9,-999.0000,9,  -999.00,9,   -999.0,9,  -999.00,9,-999.000,9,   -999.9,9,   -999.9,9,  -999.0, -999.00,-999.0000,-999.000,-999.000
    316N145_10,  I07N,   811,  1,     32,     32,2,19950811,2355, 19.3333,  59.5332, 3385,   -999,     80.5,  21.5976,  36.0303,2,  36.0085,2,     38.3,2, 21.5820,     31.3,2,    13.09,2,    22.22,2,     0.02,2,     1.87,2,    1.452,2,    0.813,2, -999.000,9,-999.0000,9,  -999.00,9,   -999.0,9,  -999.00,9,-999.000,9,   -999.9,9,   -999.9,9,  -999.0, -999.00,-999.0000,-999.000,-999.000
    316N145_10,  I07N,   811,  1,     31,     31,2,19950811,2355, 19.3333,  59.5332, 3385,   -999,    106.1,  20.1990,  35.8199,2,  35.8314,2,     27.5,2, 20.1794,     26.6,2,    15.95,2,    23.23,2,     0.02,2,     1.99,2,    1.323,2,    0.748,2, -999.000,9,-999.0000,9,  -999.00,9,   -999.0,9,  -999.00,9,-999.000,9,   -999.9,9,   -999.9,9,  -999.0, -999.00,-999.0000,-999.000,-999.000
    316N145_10,  I07N,   811,  1,     30,     30,2,19950811,2355, 19.3333,  59.5332, 3385,   -999,    119.7,  19.3641,  35.8690,2,  35.8521,2,      5.5,2, 19.3425,      5.0,2,    19.16,2,    23.80,2,     0.00,2,     2.22,2,    1.090,2,    0.629,2, -999.000,9,-999.0000,9,  -999.00,9,   -999.0,9,  -999.00,9,-999.000,9,   -999.9,9,   -999.9,9,  -999.0, -999.00,-999.0000,-999.000,-999.000
    316N145_10,  I07N,   811,  1,     29,     29,2,19950811,2355, 19.3333,  59.5332, 3385,   -999,    159.1,  17.6758,  35.8229,2,  35.8197,2,      3.4,2, 17.6488,      3.9,2,    22.91,2,    23.30,2,     0.00,2,     2.26,2,    0.851,2,    0.500,2, -999.000,9,-999.0000,9,  -999.00,9,   -999.0,9,  -999.00,9,-999.000,9,   -999.9,9,   -999.9,9,  -999.0, -999.00,-999.0000,-999.000,-999.000
    316N145_10,  I07N,   811,  1,     28,     28,2,19950811,2355, 19.3333,  59.5332, 3385,   -999,    201.0,  16.4963,  35.8079,2,  35.8035,2,      5.3,2, 16.4638,      6.6,2,    24.87,2,    23.99,2,     0.00,2,     2.26,2,    0.759,2,    0.433,2, -999.000,9,-999.0000,9,  -999.00,9,   -999.0,9,  -999.00,9,-999.000,9,   -999.9,9,   -999.9,9,  -999.0, -999.00,-999.0000,-999.000,-999.000
    316N145_10,  I07N,   811,  1,     27,     27,2,19950811,2355, 19.3333,  59.5332, 3385,   -999,    236.7,  15.6832,  35.8351,2,  35.8357,2,      3.5,2, 15.6461,      4.9,2,    27.00,2,    23.67,2,     0.00,2,     2.31,2,    0.616,2,    0.367,2, -999.000,9,-999.0000,9,  -999.00,9,   -999.0,9,  -999.00,9,-999.000,9,   -999.9,9,   -999.9,9,  -999.0, -999.00,-999.0000,-999.000,-999.000
    316N145_10,  I07N,   811,  1,     26,     26,2,19950811,2355, 19.3333,  59.5332, 3385,   -999,    271.4,  14.9177,  35.7934,2,  35.8028,2,      3.9,2, 14.8766,      5.2,2,    28.60,2,    24.59,2,     0.00,2,     2.34,2,    0.530,2,    0.312,2, -999.000,9,-999.0000,9,  -999.00,9,   -999.0,9,  -999.00,9,-999.000,9,   -999.9,9,   -999.9,9,  -999.0, -999.00,-999.0000,-999.000,-999.000
    316N145_10,  I07N,   811,  1,     25,     25,2,19950811,2355, 19.3333,  59.5332, 3385,   -999,    334.4,  14.2315,  35.8342,2,  35.8256,2,      2.7,2, 14.1823,      3.2,2,    31.81,2,    25.09,2,     0.00,2,     2.41,2,    0.403,2,    0.240,2, -999.000,9,-999.0000,9,  -999.00,9,   -999.0,9,  -999.00,9,-999.000,9,   -999.9,9,   -999.9,9,  -999.0, -999.00,-999.0000,-999.000,-999.000
    316N145_10,  I07N,   811,  1,     24,     24,2,19950811,2355, 19.3333,  59.5332, 3385,   -999,    449.6,  12.6782,  35.7099,2,  35.7113,2,      3.9,2, 12.6165,      4.8,2,    39.52,2,    27.72,2,     0.00,2,     2.53,2,    0.207,2,    0.119,2, -999.000,9,-999.0000,9,  -999.00,9,   -999.0,9,  -999.00,9,-999.000,9,   -999.9,9,   -999.9,9,  -999.0, -999.00,-999.0000,-999.000,-999.000
    316N145_10,  I07N,   811,  1,     23,     23,2,19950811,2355, 19.3333,  59.5332, 3385,   -999,    549.5,  11.9895,  35.6739,2,  35.6738,2,      5.2,2, 11.9165,      4.6,2,    45.79,2,    28.87,2,     0.00,2,     2.62,2,    0.127,2,    0.074,2, -999.000,9,-999.0000,9,  -999.00,9,   -999.0,9,  -999.00,9,-999.000,9,   -999.9,9,   -999.9,9,  -999.0, -999.00,-999.0000,-999.000,-999.000
    316N145_10,  I07N,   811,  1,     22,     22,2,19950811,2355, 19.3333,  59.5332, 3385,   -999,    650.0,  11.4203,  35.6610,2,  35.6583,2,      5.2,2, 11.3361,      5.6,2,    51.70,2,    30.50,2,     0.00,2,     2.67,2,    0.097,2,    0.051,2, -999.000,9,-999.0000,9,  -999.00,9,   -999.0,9,  -999.00,9,-999.000,9,   -999.9,9,   -999.9,9,  -999.0, -999.00,-999.0000,-999.000,-999.000
    316N145_10,  I07N,   811,  1,     21,     21,2,19950811,2355, 19.3333,  59.5332, 3385,   -999,    750.0,  10.8006,  35.6130,2,  35.6141,2,      5.9,2, 10.7063,      5.5,2,    57.61,2,    31.94,2,     0.00,2,     2.73,2,    0.073,2,    0.041,2, -999.000,9,-999.0000,9,  -999.00,9,   -999.0,9,  -999.00,9,-999.000,9,   -999.9,9,   -999.9,9,  -999.0, -999.00,-999.0000,-999.000,-999.000
    316N145_10,  I07N,   811,  1,     20,     20,2,19950811,2355, 19.3333,  59.5332, 3385,   -999,    849.4,  10.0215,  35.5434,2,  35.5432,2,      5.8,2,  9.9190,      5.2,2,    64.98,2,    33.38,2,     0.00,2,     2.81,2,    0.047,2,    0.027,2, -999.000,9,-999.0000,9,  -999.00,9,   -999.0,9,  -999.00,9,-999.000,9,   -999.9,9,   -999.9,9,  -999.0, -999.00,-999.0000,-999.000,-999.000
    316N145_10,  I07N,   811,  1,     19,     19,2,19950811,2355, 19.3333,  59.5332, 3385,   -999,    950.3,   9.1949,  35.4480,2,  35.4471,2,      4.5,2,  9.0854,      4.2,2,    72.53,2,    34.97,2,     0.00,2,     2.91,2,    0.022,2,    0.012,2, -999.000,9,-999.0000,9,  -999.00,9,   -999.0,9,  -999.00,9,-999.000,9,   -999.9,9,   -999.9,9,  -999.0, -999.00,-999.0000,-999.000,-999.000
    316N145_10,  I07N,   811,  1,     18,     18,2,19950811,2355, 19.3333,  59.5332, 3385,   -999,   1051.0,   8.3766,  35.3734,2,  35.3774,2,     11.5,2,  8.2612,     11.0,2,    78.66,2,    35.96,2,     0.00,2,     2.92,2,    0.026,2,    0.012,2, -999.000,9,-999.0000,9,  -999.00,9,   -999.0,9,  -999.00,9,-999.000,9,   -999.9,9,   -999.9,9,  -999.0, -999.00,-999.0000,-999.000,-999.000
    316N145_10,  I07N,   811,  1,     17,     17,2,19950811,2355, 19.3333,  59.5332, 3385,   -999,   1171.5,   7.5671,  35.2763,2,  35.2808,2,     15.3,2,  7.4446,     13.0,2,    86.08,2,    36.96,2,     0.00,2,     2.99,2,    0.010,2,    0.003,2, -999.000,9,-999.0000,9,  -999.00,9,   -999.0,9,  -999.00,9,-999.000,9,   -999.9,9,   -999.9,9,  -999.0, -999.00,-999.0000,-999.000,-999.000
    316N145_10,  I07N,   811,  1,     16,     16,2,19950811,2355, 19.3333,  59.5332, 3385,   -999,   1248.1,   6.9693,  35.2053,2,  35.2062,2,     14.0,2,  6.8436,     14.1,2,    92.44,2,    37.81,2,     0.00,2,     3.06,2,    0.002,2,    0.002,2, -999.000,9,-999.0000,9,  -999.00,9,   -999.0,9,  -999.00,9,-999.000,9,   -999.9,9,   -999.9,9,  -999.0, -999.00,-999.0000,-999.000,-999.000
    316N145_10,  I07N,   811,  1,     15,     15,2,19950811,2355, 19.3333,  59.5332, 3385,   -999,   1349.8,   6.3008,  35.1367,2,  35.1382,2,     21.7,2,  6.1707,     22.4,2,    99.19,2,    37.91,2,     0.00,2,     3.05,2,   -0.001,2,   -0.001,2, -999.000,9,-999.0000,9,  -999.00,9,   -999.0,9,  -999.00,9,-999.000,9,   -999.9,9,   -999.9,9,  -999.0, -999.00,-999.0000,-999.000,-999.000
    316N145_10,  I07N,   811,  1,     14,     14,2,19950811,2355, 19.3333,  59.5332, 3385,   -999,   1525.4,   5.2493,  35.0307,2,  35.0328,2,     40.4,2,  5.1125,     40.4,2,   109.88,2,    37.96,2,     0.00,2,     3.01,2,    0.002,2,    0.005,2, -999.000,9,-999.0000,9,  -999.00,9,   -999.0,9,  -999.00,9,-999.000,9,   -999.9,9,   -999.9,9,  -999.0, -999.00,-999.0000,-999.000,-999.000
    316N145_10,  I07N,   811,  1,     13,     13,2,19950811,2355, 19.3333,  59.5332, 3385,   -999,   1677.3,   4.3986,  34.9512,2,  34.9532,2,     55.1,2,  4.2572,     56.0,2,   118.64,2,    37.87,2,     0.00,2,     2.97,2,    0.003,2,   -0.001,2, -999.000,9,-999.0000,9,  -999.00,9,   -999.0,9,  -999.00,9,-999.000,9,   -999.9,9,   -999.9,9,  -999.0, -999.00,-999.0000,-999.000,-999.000
    316N145_10,  I07N,   811,  1,     12,     12,2,19950811,2355, 19.3333,  59.5332, 3385,   -999,   1803.5,   3.8630,  34.9050,2,  34.9061,2,     66.4,2,  3.7166,     67.4,2,   124.85,2,    37.59,2,     0.00,2,     2.92,2,   -0.001,2,   -0.003,2, -999.000,9,-999.0000,9,  -999.00,9,   -999.0,9,  -999.00,9,-999.000,9,   -999.9,9,   -999.9,9,  -999.0, -999.00,-999.0000,-999.000,-999.000
    316N145_10,  I07N,   811,  1,     11,     11,2,19950811,2355, 19.3333,  59.5332, 3385,   -999,   1950.1,   3.3352,  34.8606,2,  34.8611,2,     78.6,2,  3.1827,     79.4,2,   130.73,2,    37.31,2,     0.00,2,     2.85,2,   -0.003,2,   -0.003,2, -999.000,9,-999.0000,9,  -999.00,9,   -999.0,9,  -999.00,9,-999.000,9,   -999.9,9,   -999.9,9,  -999.0, -999.00,-999.0000,-999.000,-999.000
    316N145_10,  I07N,   811,  1,     10,     10,2,19950811,2355, 19.3333,  59.5332, 3385,   -999,   2102.0,   2.9613,  34.8307,2,  34.8315,2,     88.0,2,  2.8004,     88.4,2,   135.71,2,    37.03,2,     0.00,2,     2.81,2,   -0.002,2,   -0.001,2, -999.000,9,-999.0000,9,  -999.00,9,   -999.0,9,  -999.00,9,-999.000,9,   -999.9,9,   -999.9,9,  -999.0, -999.00,-999.0000,-999.000,-999.000
    316N145_10,  I07N,   811,  1,      9,      9,2,19950811,2355, 19.3333,  59.5332, 3385,   -999,   2177.6,   2.7939,  34.8177,2,  34.8179,2,     92.2,2,  2.6288,     92.5,2,   137.81,2,    36.84,2,     0.00,2,     2.80,2,   -0.002,2,   -0.002,2, -999.000,9,-999.0000,9,  -999.00,9,   -999.0,9,  -999.00,9,-999.000,9,   -999.9,9,   -999.9,9,  -999.0, -999.00,-999.0000,-999.000,-999.000
    316N145_10,  I07N,   811,  1,      8,      8,2,19950811,2355, 19.3333,  59.5332, 3385,   -999,   2299.6,   2.5602,  34.7992,2,  34.8004,2,     98.2,2,  2.3878,     98.1,2,   140.51,2,    36.75,2,     0.00,2,     2.76,2, -999.000,9, -999.000,9, -999.000,9,-999.0000,9,  -999.00,9,   -999.0,9,  -999.00,9,-999.000,9,   -999.9,9,   -999.9,9,  -999.0, -999.00,-999.0000,-999.000,-999.000
    316N145_10,  I07N,   811,  1,      7,      7,2,19950811,2355, 19.3333,  59.5332, 3385,   -999,   2502.9,   2.2540,  34.7771,2,  34.7781,2,    104.7,2,  2.0683,    106.0,2,   144.60,2,    36.47,2,     0.00,2,     2.72,2, -999.000,9, -999.000,9, -999.000,9,-999.0000,9,  -999.00,9,   -999.0,9,  -999.00,9,-999.000,9,   -999.9,9,   -999.9,9,  -999.0, -999.00,-999.0000,-999.000,-999.000
    316N145_10,  I07N,   811,  1,      6,      6,2,19950811,2355, 19.3333,  59.5332, 3385,   -999,   2700.9,   2.0251,  34.7597,2,  34.7602,2,    111.3,2,  1.8254,    111.6,2,   147.74,2,    36.23,2,     0.00,2,     2.70,2, -999.000,9, -999.000,9, -999.000,9,-999.0000,9,  -999.00,9,   -999.0,9,  -999.00,9,-999.000,9,   -999.9,9,   -999.9,9,  -999.0, -999.00,-999.0000,-999.000,-999.000
    316N145_10,  I07N,   811,  1,      5,      5,2,19950811,2355, 19.3333,  59.5332, 3385,   -999,   2898.0,   1.8913,  34.7501,2,  34.7506,2,    114.8,2,  1.6755,    113.6,2,   149.90,2,    36.09,2,     0.00,2,     2.68,2, -999.000,9, -999.000,9, -999.000,9,-999.0000,9,  -999.00,9,   -999.0,9,  -999.00,9,-999.000,9,   -999.9,9,   -999.9,9,  -999.0, -999.00,-999.0000,-999.000,-999.000
    316N145_10,  I07N,   811,  1,      4,      4,2,19950811,2355, 19.3333,  59.5332, 3385,   -999,   3102.1,   1.8114,  34.7444,2,  34.7437,2,    117.4,2,  1.5776,    117.2,2,   150.46,2,    36.00,2,     0.00,2,     2.65,2, -999.000,9, -999.000,9, -999.000,9,-999.0000,9,  -999.00,9,   -999.0,9,  -999.00,9,-999.000,9,   -999.9,9,   -999.9,9,  -999.0, -999.00,-999.0000,-999.000,-999.000
    316N145_10,  I07N,   811,  1,      3,      3,2,19950811,2355, 19.3333,  59.5332, 3385,   -999,   3249.3,   1.7685,  34.7334,3,  34.7412,2,   -999.0,9,  1.5210,    121.2,2,   149.62,2,    35.86,2,     0.00,2,     2.64,2, -999.000,9, -999.000,9, -999.000,9,-999.0000,9,  -999.00,9,   -999.0,9,  -999.00,9,-999.000,9,   -999.9,9,   -999.9,9,  -999.0, -999.00,-999.0000,-999.000,-999.000
    316N145_10,  I07N,   811,  1,      2,      2,2,19950811,2355, 19.3333,  59.5332, 3385,   -999,   3351.5,   1.7383,  34.7392,2,  34.7394,2,    124.5,2,  1.4812,    125.0,2,   149.18,2,    35.82,2,     0.00,2,     2.61,2, -999.000,9, -999.000,9, -999.000,9,-999.0000,9,  -999.00,9,   -999.0,9,  -999.00,9,-999.000,9,   -999.9,9,   -999.9,9,  -999.0, -999.00,-999.0000,-999.000,-999.000
    316N145_10,  I07N,   811,  1,      1,      1,2,19950811,2355, 19.3333,  59.5332, 3385,   -999,   3428.1,   1.7173,  34.7373,2,  34.7376,2,    122.1,2,  1.4529,    122.5,2,   152.55,2,    35.68,2,     0.00,2,     2.63,2, -999.000,9, -999.000,9, -999.000,9,-999.0000,9,  -999.00,9,   -999.0,9,  -999.00,9,-999.000,9,   -999.9,9,   -999.9,9,  -999.0, -999.00,-999.0000,-999.000,-999.000