BOTTLE,20080821WHPSIOSCD
EXPOCODE,SECT_ID,STNNBR,CASTNO,SAMPNO,BTLNBR,BTLNBR_FLAG_W,DATE,TIME,LATITUDE,LONGITUDE,DEPTH,CTDRAW,CTDPRS,CTDTMP,CTDSAL,CTDSAL_FLAG_W,SALNTY,SALNTY_FLAG_W,CTDOXY,CTDOXY_FLAG_W,THETA,OXYGEN,OXYGEN_FLAG_W,SILCAT,SILCAT_FLAG_W,NITRAT,NITRAT_FLAG_W,NITRIT,NITRIT_FLAG_W,PHSPHT,PHSPHT_FLAG_W,CFC-11,CFC-11_FLAG_W,CFC-12,CFC-12_FLAG_W,TRITUM,TRITUM_FLAG_W,HELIUM,HELIUM_FLAG_W,DELHE3,DELHE3_FLAG_W,DELC14,DELC14_FLAG_W,DELC13,DELC13_FLAG_W,NEON,NEON_FLAG_W,TCARBN,TCARBN_FLAG_W,ALKALI,ALKALI_FLAG_W,C14ERR,DELHER,HELIER,NEONER,TRITER
,,,,,,,,,,,,,DBAR,ITS-90,PSS-78,,PSS-78,,UMOL/KG,,DEG C,UMOL/KG,,UMOL/KG,,UMOL/KG,,UMOL/KG,,UMOL/KG,,PMOL/KG,,PMOL/KG,,TU,,NMOL/KG,,PERCNT,,/MILLE,,/MILLE,,NMOL/KG,,UMOL/KG,,UMOL/KG,,/MILLE,PERCNT,NMOL/KG,NMOL/KG,TU
    316N145_10,  I07N,   763,  1,     36,     36,2,19950730,0138,  1.1943,  57.2995, 4651,   -999,      8.0,  27.4471,  35.3713,2,  35.3762,2,    202.1,2, 27.4455,    201.2,2,     3.51,2,     0.05,2,     0.00,2,     0.19,2,    1.655,2,    0.942,2, -999.000,9,-999.0000,9,  -999.00,9,   -999.0,9,  -999.00,9,-999.000,9,   1972.4,2,   2314.0,2,  -999.0, -999.00,-999.0000,-999.000,-999.000
    316N145_10,  I07N,   763,  1,     35,     35,2,19950730,0138,  1.1943,  57.2995, 4651,   -999,     30.8,  27.3926,  35.3727,2,  35.3749,2,    199.3,2, 27.3857,    200.8,2,     3.50,2,     0.09,2,     0.00,2,     0.19,2, -999.000,9, -999.000,9, -999.000,9,-999.0000,9,  -999.00,9,   -999.0,9,  -999.00,9,-999.000,9,   -999.9,9,   -999.9,9,  -999.0, -999.00,-999.0000,-999.000,-999.000
    316N145_10,  I07N,   763,  1,     34,     34,2,19950730,0138,  1.1943,  57.2995, 4651,   -999,     50.4,  27.1041,  35.4975,2,  35.4745,2,    198.6,2, 27.0928,    194.5,2,     3.49,2,     0.53,2,     0.11,2,     0.25,2,    1.656,2,    0.945,2, -999.000,9,-999.0000,9,  -999.00,9,   -999.0,9,  -999.00,9,-999.000,9,   -999.9,9,   -999.9,9,  -999.0, -999.00,-999.0000,-999.000,-999.000
    316N145_10,  I07N,   763,  1,     33,     33,2,19950730,0138,  1.1943,  57.2995, 4651,   -999,     75.0,  25.6105,  35.2519,2,  35.2546,2,    202.3,2, 25.5942,    193.9,2,     4.16,2,     1.45,2,     0.15,2,     0.33,2, -999.000,9, -999.000,9, -999.000,9,-999.0000,9,  -999.00,9,   -999.0,9,  -999.00,9,-999.000,9,   -999.9,9,   -999.9,9,  -999.0, -999.00,-999.0000,-999.000,-999.000
    316N145_10,  I07N,   763,  1,     32,     32,2,19950730,0138,  1.1943,  57.2995, 4651,   -999,    100.5,  24.3530,  35.2328,2,  35.2348,2,    188.1,2, 24.3318,    181.5,2,     5.35,2,     3.48,2,     0.34,2,     0.45,2,    1.684,2,    0.936,2, -999.000,9,-999.0000,9,  -999.00,9,   -999.0,9,  -999.00,9,-999.000,9,   -999.9,9,   -999.9,9,  -999.0, -999.00,-999.0000,-999.000,-999.000
    316N145_10,  I07N,   763,  1,     31,     31,2,19950730,0138,  1.1943,  57.2995, 4651,   -999,    125.6,  21.5707,  35.3473,2,  35.3410,2,    134.7,2, 21.5464,    123.5,2,     9.78,2,    12.31,2,     0.08,2,     0.97,2, -999.000,9, -999.000,9, -999.000,9,-999.0000,9,  -999.00,9,   -999.0,9,  -999.00,9,-999.000,9,   -999.9,9,   -999.9,9,  -999.0, -999.00,-999.0000,-999.000,-999.000
    316N145_10,  I07N,   763,  1,     30,     30,2,19950730,0138,  1.1943,  57.2995, 4651,   -999,    149.2,  16.5597,  35.2372,2,  35.2293,2,     87.5,2, 16.5357,     86.2,2,    16.61,2,    20.31,2,     0.01,2,     1.48,2,    1.228,2,    0.641,2, -999.000,9,-999.0000,9,  -999.00,9,   -999.0,9,  -999.00,9,-999.000,9,   -999.9,9,   -999.9,9,  -999.0, -999.00,-999.0000,-999.000,-999.000
    316N145_10,  I07N,   763,  1,     29,     29,2,19950730,0138,  1.1943,  57.2995, 4651,   -999,    169.2,  14.5619,  35.1892,2,  35.1842,2,    100.6,2, 14.5370,     95.8,2,    17.80,2,    21.06,2,     0.00,2,     1.53,2, -999.000,9, -999.000,9, -999.000,9,-999.0000,9,  -999.00,9,   -999.0,9,  -999.00,9,-999.000,9,   -999.9,9,   -999.9,9,  -999.0, -999.00,-999.0000,-999.000,-999.000
    316N145_10,  I07N,   763,  1,     28,     28,2,19950730,0138,  1.1943,  57.2995, 4651,   -999,    199.6,  13.6036,  35.1348,2,  35.1390,2,     73.9,2, 13.5755,     77.0,2,    20.87,2,    24.22,2,     0.00,2,     1.74,2,    0.869,2,    0.446,2, -999.000,9,-999.0000,9,  -999.00,9,   -999.0,9,  -999.00,9,-999.000,9,   -999.9,9,   -999.9,9,  -999.0, -999.00,-999.0000,-999.000,-999.000
    316N145_10,  I07N,   763,  1,     27,     27,2,19950730,0138,  1.1943,  57.2995, 4651,   -999,    260.4,  12.0148,  35.0631,2,  35.0641,2,    136.0,2, 11.9809,    133.0,2,    18.12,2,    20.57,2,     0.00,2,     1.49,2,    1.243,2,    0.638,2, -999.000,9,-999.0000,9,  -999.00,9,   -999.0,9,  -999.00,9,-999.000,9,   -999.9,9,   -999.9,9,  -999.0, -999.00,-999.0000,-999.000,-999.000
    316N145_10,  I07N,   763,  1,     26,     26,2,19950730,0138,  1.1943,  57.2995, 4651,   -999,    360.4,  10.9869,  35.0235,2,  35.0217,2,    114.8,2, 10.9422,    116.6,2,    23.24,2,    24.05,2,     0.00,2,     1.74,2,    0.900,2,    0.451,2, -999.000,9,-999.0000,9,  -999.00,9,   -999.0,9,  -999.00,9,-999.000,9,   -999.9,9,   -999.9,9,  -999.0, -999.00,-999.0000,-999.000,-999.000
    316N145_10,  I07N,   763,  1,     25,     25,2,19950730,0138,  1.1943,  57.2995, 4651,   -999,    441.1,  10.3849,  35.0263,2,  35.0291,2,     82.5,2, 10.3320,     83.4,2,    30.93,2,    28.46,2,     0.00,2,     2.05,2,    0.453,2,    0.228,2, -999.000,9,-999.0000,9,  -999.00,9,   -999.0,9,  -999.00,9,-999.000,9,   -999.9,9,   -999.9,9,  -999.0, -999.00,-999.0000,-999.000,-999.000
    316N145_10,  I07N,   763,  1,     24,     24,2,19950730,0138,  1.1943,  57.2995, 4651,   -999,    476.2,  10.4191,  35.0456,2,  35.0486,2,     78.8,2, 10.3618,     81.5,2,    31.43,2,    28.51,2,     0.00,2,     2.07,2,    0.454,2,    0.230,2, -999.000,9,-999.0000,9,  -999.00,9,   -999.0,9,  -999.00,9,-999.000,9,   -999.9,9,   -999.9,9,  -999.0, -999.00,-999.0000,-999.000,-999.000
    316N145_10,  I07N,   763,  1,     23,     23,2,19950730,0138,  1.1943,  57.2995, 4651,   -999,    560.7,   9.9730,  35.0876,2,  35.0901,2,     60.5,2,  9.9069,     62.4,2,    39.63,2,    30.96,2,     0.00,2,     2.30,2,    0.239,2,    0.131,2, -999.000,9,-999.0000,9,  -999.00,9,   -999.0,9,  -999.00,9,-999.000,9,   -999.9,9,   -999.9,9,  -999.0, -999.00,-999.0000,-999.000,-999.000
    316N145_10,  I07N,   763,  1,     22,     22,2,19950730,0138,  1.1943,  57.2995, 4651,   -999,    659.9,   9.1793,  35.0295,2,  35.0305,2,     58.9,2,  9.1049,     59.4,2,    47.50,2,    32.63,2,     0.00,2,     2.44,2,    0.118,6,    0.069,6, -999.000,9,-999.0000,9,  -999.00,9,   -999.0,9,  -999.00,9,-999.000,9,   -999.9,9,   -999.9,9,  -999.0, -999.00,-999.0000,-999.000,-999.000
    316N145_10,  I07N,   763,  1,     21,     21,2,19950730,0138,  1.1943,  57.2995, 4651,   -999,    759.2,   8.6484,  35.0747,2,  35.0755,2,     49.3,2,  8.5652,     49.2,2,    57.60,2,    34.08,2,     0.00,2,     2.59,2,    0.065,2,    0.037,2, -999.000,9,-999.0000,9,  -999.00,9,   -999.0,9,  -999.00,9,-999.000,9,   -999.9,9,   -999.9,9,  -999.0, -999.00,-999.0000,-999.000,-999.000
    316N145_10,  I07N,   763,  1,     20,     20,2,19950730,0138,  1.1943,  57.2995, 4651,   -999,    858.4,   8.1057,  35.0500,2,  35.0522,2,     47.2,2,  8.0145,     47.8,2,    64.96,2,    35.11,2,     0.00,2,     2.66,2,    0.032,2,    0.019,2, -999.000,9,-999.0000,9,  -999.00,9,   -999.0,9,  -999.00,9,-999.000,9,   -999.9,9,   -999.9,9,  -999.0, -999.00,-999.0000,-999.000,-999.000
    316N145_10,  I07N,   763,  1,     19,     19,2,19950730,0138,  1.1943,  57.2995, 4651,   -999,    959.6,   7.3492,  35.0295,2,  35.0309,2,     46.5,2,  7.2520,     47.3,2,    75.10,2,    36.05,2,     0.00,2,     2.75,2,    0.016,2,    0.013,2, -999.000,9,-999.0000,9,  -999.00,9,   -999.0,9,  -999.00,9,-999.000,9,   -999.9,9,   -999.9,9,  -999.0, -999.00,-999.0000,-999.000,-999.000
    316N145_10,  I07N,   763,  1,     18,     18,2,19950730,0138,  1.1943,  57.2995, 4651,   -999,   1159.8,   6.0815,  34.9603,2,  34.9622,2,     62.0,2,  5.9734,     60.1,2,    87.70,2,    36.62,2,     0.00,2,     2.78,2,    0.004,2,   -0.003,2, -999.000,9,-999.0000,9,  -999.00,9,   -999.0,9,  -999.00,9,-999.000,9,   -999.9,9,   -999.9,9,  -999.0, -999.00,-999.0000,-999.000,-999.000
    316N145_10,  I07N,   763,  1,     17,     17,2,19950730,0138,  1.1943,  57.2995, 4651,   -999,   1359.7,   4.9094,  34.8821,2,  34.8840,2,     79.6,2,  4.7928,     79.5,2,    99.17,2,    36.63,2,     0.00,2,     2.78,2,   -0.004,2,   -0.004,2, -999.000,9,-999.0000,9,  -999.00,9,   -999.0,9,  -999.00,9,-999.000,9,   -999.9,9,   -999.9,9,  -999.0, -999.00,-999.0000,-999.000,-999.000
    316N145_10,  I07N,   763,  1,     16,     16,2,19950730,0138,  1.1943,  57.2995, 4651,   -999,   1560.2,   4.1786,  34.8563,2,  34.8587,2,     94.8,2,  4.0512,     93.7,2,   106.17,2,    36.26,2,     0.00,2,     2.73,2,   -0.004,2,   -0.004,2, -999.000,9,-999.0000,9,  -999.00,9,   -999.0,9,  -999.00,9,-999.000,9,   -999.9,9,   -999.9,9,  -999.0, -999.00,-999.0000,-999.000,-999.000
    316N145_10,  I07N,   763,  1,     15,     15,2,19950730,0138,  1.1943,  57.2995, 4651,   -999,   1760.3,   3.1552,  34.7986,2,  34.7992,2,    117.6,2,  3.0225,    118.6,2,   114.99,2,    35.57,2,     0.00,2,     2.65,2, -999.000,9, -999.000,9, -999.000,9,-999.0000,9,  -999.00,9,   -999.0,9,  -999.00,9,-999.000,9,   -999.9,9,   -999.9,9,  -999.0, -999.00,-999.0000,-999.000,-999.000
    316N145_10,  I07N,   763,  1,     14,     14,2,19950730,0138,  1.1943,  57.2995, 4651,   -999,   1953.7,   2.8821,  34.7846,2,  34.7866,2,    126.4,2,  2.7361,    125.7,2,   118.01,2,    35.34,2,     0.00,2,     2.60,2, -999.000,9, -999.000,9, -999.000,9,-999.0000,9,  -999.00,9,   -999.0,9,  -999.00,9,-999.000,9,   -999.9,9,   -999.9,9,  -999.0, -999.00,-999.0000,-999.000,-999.000
    316N145_10,  I07N,   763,  1,     13,     13,2,19950730,0138,  1.1943,  57.2995, 4651,   -999,   2101.4,   2.4981,  34.7693,2,  34.7711,2,    134.0,2,  2.3448,    135.5,2,   122.29,2,    35.02,2,     0.00,2,     2.56,2, -999.000,9, -999.000,9, -999.000,9,-999.0000,9,  -999.00,9,   -999.0,9,  -999.00,9,-999.000,9,   -999.9,9,   -999.9,9,  -999.0, -999.00,-999.0000,-999.000,-999.000
    316N145_10,  I07N,   763,  1,     12,     12,2,19950730,0138,  1.1943,  57.2995, 4651,   -999,   2349.5,   2.1863,  34.7583,2,  34.7599,2,    143.8,2,  2.0159,    143.6,2,   126.23,2,    34.75,2,     0.00,2,     2.54,2, -999.000,9, -999.000,9, -999.000,9,-999.0000,9,  -999.00,9,   -999.0,9,  -999.00,9,-999.000,9,   -999.9,9,   -999.9,9,  -999.0, -999.00,-999.0000,-999.000,-999.000
    316N145_10,  I07N,   763,  1,     11,     11,2,19950730,0138,  1.1943,  57.2995, 4651,   -999,   2598.9,   1.9613,  34.7465,2,  34.7495,2,    149.9,2,  1.7723,    150.6,2,   128.39,2,    34.43,2,     0.00,2,     2.50,2, -999.000,9, -999.000,9, -999.000,9,-999.0000,9,  -999.00,9,   -999.0,9,  -999.00,9,-999.000,9,   -999.9,9,   -999.9,9,  -999.0, -999.00,-999.0000,-999.000,-999.000
    316N145_10,  I07N,   763,  1,     10,     10,2,19950730,0138,  1.1943,  57.2995, 4651,   -999,   2847.1,   1.8719,  34.7424,2,  34.7425,2,    156.5,2,  1.6615,    156.4,2,   128.56,2,    34.34,2,     0.00,2,     2.48,2, -999.000,9, -999.000,9, -999.000,9,-999.0000,9,  -999.00,9,   -999.0,9,  -999.00,9,-999.000,9,   -999.9,9,   -999.9,9,  -999.0, -999.00,-999.0000,-999.000,-999.000
    316N145_10,  I07N,   763,  1,      9,      9,2,19950730,0138,  1.1943,  57.2995, 4651,   -999,   3097.4,   1.7540,  34.7361,2,  34.7382,2,    160.3,2,  1.5219,    161.2,2,   129.10,2,    34.07,2,     0.00,2,     2.45,2, -999.000,9, -999.000,9, -999.000,9,-999.0000,9,  -999.00,9,   -999.0,9,  -999.00,9,-999.000,9,   -999.9,9,   -999.9,9,  -999.0, -999.00,-999.0000,-999.000,-999.000
    316N145_10,  I07N,   763,  1,      8,      8,2,19950730,0138,  1.1943,  57.2995, 4651,   -999,   3346.8,   1.6602,  34.7313,2,  34.7317,2,    166.1,2,  1.4055,    166.5,2,   129.45,2,    33.94,2,     0.00,2,     2.44,2, -999.000,9, -999.000,9, -999.000,9,-999.0000,9,  -999.00,9,   -999.0,9,  -999.00,9,-999.000,9,   -999.9,9,   -999.9,9,  -999.0, -999.00,-999.0000,-999.000,-999.000
    316N145_10,  I07N,   763,  1,      7,      7,2,19950730,0138,  1.1943,  57.2995, 4651,   -999,   3600.8,   1.5822,  34.7288,2,  34.7290,2,    169.5,2,  1.3034,    170.1,2,   130.17,2,    33.80,2,     0.00,2,     2.42,2, -999.000,9, -999.000,9, -999.000,9,-999.0000,9,  -999.00,9,   -999.0,9,  -999.00,9,-999.000,9,   -999.9,9,   -999.9,9,  -999.0, -999.00,-999.0000,-999.000,-999.000
    316N145_10,  I07N,   763,  1,      6,      6,2,19950730,0138,  1.1943,  57.2995, 4651,   -999,   3846.1,   1.4907,  34.7252,2,  34.7258,2,    173.6,2,  1.1885,    174.5,2,   130.53,2,    33.62,2,     0.00,2,     2.41,2, -999.000,9, -999.000,9, -999.000,9,-999.0000,9,  -999.00,9,   -999.0,9,  -999.00,9,-999.000,9,   -999.9,9,   -999.9,9,  -999.0, -999.00,-999.0000,-999.000,-999.000
    316N145_10,  I07N,   763,  1,      5,      5,2,19950730,0138,  1.1943,  57.2995, 4651,   -999,   4101.3,   1.4387,  34.7222,2,  34.7311,3,    178.0,2,  1.1104,    177.8,2,   130.52,2,    33.54,2,     0.00,2,     2.39,2, -999.000,9, -999.000,9, -999.000,9,-999.0000,9,  -999.00,9,   -999.0,9,  -999.00,9,-999.000,9,   -999.9,9,   -999.9,9,  -999.0, -999.00,-999.0000,-999.000,-999.000
    316N145_10,  I07N,   763,  1,      4,      4,2,19950730,0138,  1.1943,  57.2995, 4651,   -999,   4346.9,   1.3907,  34.7198,2,  34.7207,2,    181.4,2,  1.0365,    181.1,2,   130.51,2,    33.31,2,     0.00,2,     2.38,2, -999.000,9, -999.000,9, -999.000,9,-999.0000,9,  -999.00,9,   -999.0,9,  -999.00,9,-999.000,9,   -999.9,9,   -999.9,9,  -999.0, -999.00,-999.0000,-999.000,-999.000
    316N145_10,  I07N,   763,  1,      3,      3,2,19950730,0138,  1.1943,  57.2995, 4651,   -999,   4551.1,   1.3656,  34.7179,2,  34.7190,2,    184.2,2,  0.9888,    183.5,2,   130.14,2,    33.22,2,     0.00,2,     2.37,2, -999.000,9, -999.000,9, -999.000,9,-999.0000,9,  -999.00,9,   -999.0,9,  -999.00,9,-999.000,9,   -999.9,9,   -999.9,9,  -999.0, -999.00,-999.0000,-999.000,-999.000
    316N145_10,  I07N,   763,  1,      2,      2,2,19950730,0138,  1.1943,  57.2995, 4651,   -999,   4643.5,   1.3643,  34.7172,2,  34.7186,2,    184.7,2,  0.9768,    187.5,3,   130.13,2,    33.18,2,     0.00,2,     2.36,2, -999.000,9, -999.000,9, -999.000,9,-999.0000,9,  -999.00,9,   -999.0,9,  -999.00,9,-999.000,9,   -999.9,9,   -999.9,9,  -999.0, -999.00,-999.0000,-999.000,-999.000
    316N145_10,  I07N,   763,  1,      1,      1,2,19950730,0138,  1.1943,  57.2995, 4651,   -999,   4720.2,   1.3688,  34.7177,2,  34.7192,2,    184.0,2,  0.9722,    184.3,2,   130.31,2,    33.14,2,     0.00,2,     2.36,2, -999.000,9, -999.000,9, -999.000,9,-999.0000,9,  -999.00,9,   -999.0,9,  -999.00,9,-999.000,9,   -999.9,9,   -999.9,9,  -999.0, -999.00,-999.0000,-999.000,-999.000