BOTTLE,20080821WHPSIOSCD
EXPOCODE,SECT_ID,STNNBR,CASTNO,SAMPNO,BTLNBR,BTLNBR_FLAG_W,DATE,TIME,LATITUDE,LONGITUDE,DEPTH,CTDRAW,CTDPRS,CTDTMP,CTDSAL,CTDSAL_FLAG_W,SALNTY,SALNTY_FLAG_W,CTDOXY,CTDOXY_FLAG_W,THETA,OXYGEN,OXYGEN_FLAG_W,SILCAT,SILCAT_FLAG_W,NITRAT,NITRAT_FLAG_W,NITRIT,NITRIT_FLAG_W,PHSPHT,PHSPHT_FLAG_W,CFC-11,CFC-11_FLAG_W,CFC-12,CFC-12_FLAG_W,TRITUM,TRITUM_FLAG_W,HELIUM,HELIUM_FLAG_W,DELHE3,DELHE3_FLAG_W,DELC14,DELC14_FLAG_W,DELC13,DELC13_FLAG_W,NEON,NEON_FLAG_W,TCARBN,TCARBN_FLAG_W,ALKALI,ALKALI_FLAG_W,C14ERR,DELHER,HELIER,NEONER,TRITER
,,,,,,,,,,,,,DBAR,ITS-90,PSS-78,,PSS-78,,UMOL/KG,,DEG C,UMOL/KG,,UMOL/KG,,UMOL/KG,,UMOL/KG,,UMOL/KG,,PMOL/KG,,PMOL/KG,,TU,,NMOL/KG,,PERCNT,,/MILLE,,/MILLE,,NMOL/KG,,UMOL/KG,,UMOL/KG,,/MILLE,PERCNT,NMOL/KG,NMOL/KG,TU
    316N145_10,  I07N,   722,  1,     36,     36,2,19950719,1341,-11.4995,  54.1085, 4386,   -999,      7.6,  25.6862,  34.7733,2,  34.7718,2,    206.5,2, 25.6848,    202.6,2,     3.52,2,     0.07,2,     0.00,2,     0.16,2,    1.804,2,    1.019,2, -999.000,9,-999.0000,9,  -999.00,9,   -999.0,9,  -999.00,9,-999.000,9,   1943.0,2,   -999.9,5,  -999.0, -999.00,-999.0000,-999.000,-999.000
    316N145_10,  I07N,   722,  1,     35,     35,2,19950719,1341,-11.4995,  54.1085, 4386,   -999,     30.3,  25.6899,  34.7734,2,  34.7720,2,    203.7,2, 25.6835,    205.6,2,     3.50,2,     0.02,2,     0.00,2,     0.16,2,    1.813,2,    1.028,2, -999.000,9,-999.0000,9,  -999.00,9,   -999.0,9,  -999.00,9,-999.000,9,   1939.9,2,   2272.4,2,  -999.0, -999.00,-999.0000,-999.000,-999.000
    316N145_10,  I07N,   722,  1,     34,     34,2,19950719,1341,-11.4995,  54.1085, 4386,   -999,     59.9,  23.7484,  35.0578,2,  35.0743,2,    203.3,2, 23.7361,    195.3,2,     4.53,2,     1.29,2,     0.08,2,     0.26,2, -999.000,9, -999.000,9, -999.000,9,-999.0000,9,  -999.00,9,   -999.0,9,  -999.00,9,-999.000,9,   1990.2,2,   2298.0,2,  -999.0, -999.00,-999.0000,-999.000,-999.000
    316N145_10,  I07N,   722,  1,     33,     33,2,19950719,1341,-11.4995,  54.1085, 4386,   -999,     91.1,  20.2726,  35.2899,2,  35.2855,2,    154.0,2, 20.2559,    151.5,2,     8.69,2,     8.03,2,     0.14,2,     0.64,2,    1.823,2,    0.990,2, -999.000,9,-999.0000,9,  -999.00,9,   -999.0,9,  -999.00,9,-999.000,9,   -999.9,5,   2312.8,2,  -999.0, -999.00,-999.0000,-999.000,-999.000
    316N145_10,  I07N,   722,  1,     32,     32,2,19950719,1341,-11.4995,  54.1085, 4386,   -999,    115.8,  19.0547,  35.3304,2,  35.3274,2,    143.9,2, 19.0342,    144.1,2,    10.42,2,     9.96,2,     0.04,2,     0.76,2,    1.765,2,    0.958,2, -999.000,9,-999.0000,9,  -999.00,9,   -999.0,9,  -999.00,9,-999.000,9,   2064.8,2,   2315.7,2,  -999.0, -999.00,-999.0000,-999.000,-999.000
    316N145_10,  I07N,   722,  1,     31,     31,2,19950719,1341,-11.4995,  54.1085, 4386,   -999,    147.6,  16.6103,  35.2111,2,  35.2139,2,    112.1,2, 16.5865,    113.2,2,    16.14,2,    16.45,2,     0.01,2,     1.18,2,    1.447,2,    0.771,2, -999.000,9,-999.0000,9,  -999.00,9,   -999.0,9,  -999.00,9,-999.000,9,   2134.1,2,   2318.0,2,  -999.0, -999.00,-999.0000,-999.000,-999.000
    316N145_10,  I07N,   722,  1,     30,     30,2,19950719,1341,-11.4995,  54.1085, 4386,   -999,    168.7,  15.1521,  35.1805,2,  35.1740,2,    124.7,2, 15.1265,    117.8,2,    17.86,2,    17.46,2,     0.00,2,     1.26,2,    1.365,2,    0.716,2, -999.000,9,-999.0000,9,  -999.00,9,   -999.0,9,  -999.00,9,-999.000,9,   2147.0,2,   2317.2,2,  -999.0, -999.00,-999.0000,-999.000,-999.000
    316N145_10,  I07N,   722,  1,     29,     29,2,19950719,1341,-11.4995,  54.1085, 4386,   -999,    198.5,  13.2393,  35.0982,2,  35.0947,2,    130.1,2, 13.2118,    135.3,2,    18.19,2,    18.03,2,     0.00,2,     1.29,2,    1.389,2,    0.709,2, -999.000,9,-999.0000,9,  -999.00,9,   -999.0,9,  -999.00,9,-999.000,9,   2151.1,2,   2317.8,2,  -999.0, -999.00,-999.0000,-999.000,-999.000
    316N145_10,  I07N,   722,  1,     28,     28,2,19950719,1341,-11.4995,  54.1085, 4386,   -999,    248.1,  12.1471,  35.0261,2,  35.0251,2,    141.8,2, 12.1146,    149.9,2,    17.48,2,    18.30,2,     0.00,2,     1.32,2, -999.000,9, -999.000,9, -999.000,9,-999.0000,9,  -999.00,9,   -999.0,9,  -999.00,9,-999.000,9,   2149.6,2,   2314.8,2,  -999.0, -999.00,-999.0000,-999.000,-999.000
    316N145_10,  I07N,   722,  1,     27,     27,2,19950719,1341,-11.4995,  54.1085, 4386,   -999,    298.6,  11.1963,  34.9455,2,  34.9475,2,    153.6,2, 11.1591,    162.4,2,    17.46,2,    18.82,2,     0.00,2,     1.35,2,    1.436,2,    0.725,2, -999.000,9,-999.0000,9,  -999.00,9,   -999.0,9,  -999.00,9,-999.000,9,   2150.2,2,   2312.4,2,  -999.0, -999.00,-999.0000,-999.000,-999.000
    316N145_10,  I07N,   722,  1,     26,     26,2,19950719,1341,-11.4995,  54.1085, 4386,   -999,    369.7,  10.0444,  34.8348,2,  34.8364,2,    161.9,2, 10.0012,    165.1,2,    19.70,2,    20.83,2,     0.00,2,     1.48,2,    1.173,6,    0.592,6, -999.000,9,-999.0000,9,  -999.00,9,   -999.0,9,  -999.00,9,-999.000,9,   2158.7,2,   2308.5,2,  -999.0, -999.00,-999.0000,-999.000,-999.000
    316N145_10,  I07N,   722,  1,     25,     25,2,19950719,1341,-11.4995,  54.1085, 4386,   -999,    399.9,   9.4484,  34.7862,2,  34.7912,2,    162.5,2,  9.4034,    160.9,2,    22.29,2,    22.37,2,     0.00,2,     1.59,2,    1.004,2,    0.496,2, -999.000,9,-999.0000,9,  -999.00,9,   -999.0,9,  -999.00,9,-999.000,9,   2164.7,2,   2311.3,2,  -999.0, -999.00,-999.0000,-999.000,-999.000
    316N145_10,  I07N,   722,  1,     24,     24,2,19950719,1341,-11.4995,  54.1085, 4386,   -999,    449.2,   8.8223,  34.7547,2,  34.7545,2,    151.4,2,  8.7737,    148.6,2,    28.36,2,    24.95,2,     0.00,2,     1.77,2,    0.679,6,    0.345,6, -999.000,9,-999.0000,9,  -999.00,9,   -999.0,9,  -999.00,9,-999.000,9,   2182.5,2,   2313.2,2,  -999.0, -999.00,-999.0000,-999.000,-999.000
    316N145_10,  I07N,   722,  1,     23,     23,2,19950719,1341,-11.4995,  54.1085, 4386,   -999,    548.9,   7.9264,  34.7565,2,  34.7567,2,    134.8,2,  7.8702,    121.3,2,    43.31,2,    29.19,2,     0.00,2,     2.11,2,    0.323,2,    0.168,2, -999.000,9,-999.0000,9,  -999.00,9,   -999.0,9,  -999.00,9,-999.000,9,   2217.7,2,   2324.4,2,  -999.0, -999.00,-999.0000,-999.000,-999.000
    316N145_10,  I07N,   722,  1,     22,     22,2,19950719,1341,-11.4995,  54.1085, 4386,   -999,    649.9,   7.3584,  34.7722,2,  34.7720,2,    107.0,2,  7.2941,    101.6,2,    55.85,2,    31.80,2,     0.00,2,     2.32,2,    0.147,2,    0.085,2, -999.000,9,-999.0000,9,  -999.00,9,   -999.0,9,  -999.00,9,-999.000,9,   2242.7,2,   2333.5,2,  -999.0, -999.00,-999.0000,-999.000,-999.000
    316N145_10,  I07N,   722,  1,     21,     21,2,19950719,1341,-11.4995,  54.1085, 4386,   -999,    788.5,   6.5832,  34.7736,2,  34.7734,2,     92.5,2,  6.5091,     93.3,2,    68.25,2,    33.54,2,     0.00,2,     2.48,2,    0.060,2,    0.036,2, -999.000,9,-999.0000,9,  -999.00,9,   -999.0,9,  -999.00,9,-999.000,9,   2263.5,2,   2350.3,2,  -999.0, -999.00,-999.0000,-999.000,-999.000
    316N145_10,  I07N,   722,  1,     20,     20,2,19950719,1341,-11.4995,  54.1085, 4386,   -999,    823.1,   6.4432,  34.7733,2,  34.7745,2,     92.3,2,  6.3664,     92.8,2,    70.50,2,    33.76,2,     0.00,2,     2.49,2,    0.052,2,    0.048,2, -999.000,9,-999.0000,9,  -999.00,9,   -999.0,9,  -999.00,9,-999.000,9,   2265.9,2,   2358.7,2,  -999.0, -999.00,-999.0000,-999.000,-999.000
    316N145_10,  I07N,   722,  1,     19,     19,2,19950719,1341,-11.4995,  54.1085, 4386,   -999,    891.2,   6.1004,  34.7780,2,  34.7792,2,     91.6,2,  6.0191,     92.7,2,    75.75,2,    34.20,2,     0.00,2,     2.54,2,    0.030,2,    0.018,2, -999.000,9,-999.0000,9,  -999.00,9,   -999.0,9,  -999.00,9,-999.000,9,   2273.3,2,   2357.1,2,  -999.0, -999.00,-999.0000,-999.000,-999.000
    316N145_10,  I07N,   722,  1,     18,     18,2,19950719,1341,-11.4995,  54.1085, 4386,   -999,   1002.3,   5.5111,  34.7614,2,  34.7631,2,     97.0,2,  5.4234,     97.5,2,    81.88,2,    34.60,2,     0.00,2,     2.57,2,    0.016,2,    0.014,2, -999.000,9,-999.0000,9,  -999.00,9,   -999.0,9,  -999.00,9,-999.000,9,   2278.7,2,   2373.7,3,  -999.0, -999.00,-999.0000,-999.000,-999.000
    316N145_10,  I07N,   722,  1,     17,     17,2,19950719,1341,-11.4995,  54.1085, 4386,   -999,   1197.3,   4.7899,  34.7595,2,  34.7598,2,    104.9,2,  4.6900,    104.2,2,    90.88,2,    34.92,2,     0.00,2,     2.59,2,    0.003,2,    0.005,2, -999.000,9,-999.0000,9,  -999.00,9,   -999.0,9,  -999.00,9,-999.000,9,   2286.5,2,   2370.5,2,  -999.0, -999.00,-999.0000,-999.000,-999.000
    316N145_10,  I07N,   722,  1,     16,     16,2,19950719,1341,-11.4995,  54.1085, 4386,   -999,   1399.7,   4.1129,  34.7553,2,  34.7559,2,    115.2,2,  4.0012,    114.4,2,    97.96,2,    34.74,2,     0.00,2,     2.56,2,   -0.001,2,    0.001,2, -999.000,9,-999.0000,9,  -999.00,9,   -999.0,9,  -999.00,9,-999.000,9,   2291.7,2,   2378.6,2,  -999.0, -999.00,-999.0000,-999.000,-999.000
    316N145_10,  I07N,   722,  1,     15,     15,2,19950719,1341,-11.4995,  54.1085, 4386,   -999,   1597.3,   3.3534,  34.7387,2,  34.7376,2,    135.5,2,  3.2328,    132.4,2,   103.47,2,    34.20,2,     0.00,2,     2.50,2,   -0.003,2,   -0.003,2, -999.000,9,-999.0000,9,  -999.00,9,   -999.0,9,  -999.00,9,-999.000,9,   2290.1,2,   2386.2,2,  -999.0, -999.00,-999.0000,-999.000,-999.000
    316N145_10,  I07N,   722,  1,     14,     14,2,19950719,1341,-11.4995,  54.1085, 4386,   -999,   1698.9,   2.9915,  34.7286,2,  34.7286,2,    143.5,2,  2.8666,    143.8,2,   104.69,2,    33.66,2,     0.00,2,     2.44,2, -999.000,9, -999.000,9, -999.000,9,-999.0000,9,  -999.00,9,   -999.0,9,  -999.00,9,-999.000,9,   2287.1,2,   2389.9,2,  -999.0, -999.00,-999.0000,-999.000,-999.000
    316N145_10,  I07N,   722,  1,     13,     13,2,19950719,1341,-11.4995,  54.1085, 4386,   -999,   1899.1,   2.6380,  34.7356,2,  34.7341,2,    149.7,2,  2.5005,    149.0,2,   111.31,2,    33.66,2,     0.00,2,     2.43,2, -999.000,9, -999.000,9, -999.000,9,-999.0000,9,  -999.00,9,   -999.0,9,  -999.00,9,-999.000,9,   2292.3,2,   2393.0,2,  -999.0, -999.00,-999.0000,-999.000,-999.000
    316N145_10,  I07N,   722,  1,     12,     12,2,19950719,1341,-11.4995,  54.1085, 4386,   -999,   2097.6,   2.3040,  34.7391,2,  34.7396,2,    152.4,2,  2.1542,    153.2,2,   117.79,2,    33.56,2,     0.00,2,     2.42,2, -999.000,9, -999.000,9, -999.000,9,-999.0000,9,  -999.00,9,   -999.0,9,  -999.00,9,-999.000,9,   2297.3,2,   2396.4,2,  -999.0, -999.00,-999.0000,-999.000,-999.000
    316N145_10,  I07N,   722,  1,     11,     11,2,19950719,1341,-11.4995,  54.1085, 4386,   -999,   2298.5,   2.1513,  34.7416,2,  34.7414,2,    154.9,2,  1.9862,    155.0,2,   121.39,2,    33.56,2,     0.00,2,     2.41,2, -999.000,9, -999.000,9, -999.000,9,-999.0000,9,  -999.00,9,   -999.0,9,  -999.00,9,-999.000,9,   2299.1,2,   2405.2,2,  -999.0, -999.00,-999.0000,-999.000,-999.000
    316N145_10,  I07N,   722,  1,     10,     10,2,19950719,1341,-11.4995,  54.1085, 4386,   -999,   2496.6,   2.0179,  34.7399,2,  34.7402,2,    157.4,2,  1.8374,    158.3,2,   124.09,2,    33.60,2,     0.00,2,     2.42,2, -999.000,9, -999.000,9, -999.000,9,-999.0000,9,  -999.00,9,   -999.0,9,  -999.00,9,-999.000,9,   2301.5,2,   2405.3,2,  -999.0, -999.00,-999.0000,-999.000,-999.000
    316N145_10,  I07N,   722,  1,      9,      9,2,19950719,1341,-11.4995,  54.1085, 4386,   -999,   2701.1,   1.9257,  34.7402,2,  34.7394,2,    158.9,2,  1.7280,    159.6,2,   126.25,2,    33.60,2,     0.00,2,     2.41,2, -999.000,9, -999.000,9, -999.000,9,-999.0000,9,  -999.00,9,   -999.0,9,  -999.00,9,-999.000,9,   2303.2,2,   2409.6,2,  -999.0, -999.00,-999.0000,-999.000,-999.000
    316N145_10,  I07N,   722,  1,      8,      8,2,19950719,1341,-11.4995,  54.1085, 4386,   -999,   2891.8,   1.8426,  34.7388,2,  34.7384,2,    160.3,2,  1.6285,    161.9,2,   128.23,2,    33.56,2,     0.00,2,     2.39,2, -999.000,9, -999.000,9, -999.000,9,-999.0000,9,  -999.00,9,   -999.0,9,  -999.00,9,-999.000,9,   2303.1,2,   2405.8,2,  -999.0, -999.00,-999.0000,-999.000,-999.000
    316N145_10,  I07N,   722,  1,      7,      7,2,19950719,1341,-11.4995,  54.1085, 4386,   -999,   3090.9,   1.7491,  34.7354,2,  34.7359,2,    164.5,2,  1.5178,    164.8,2,   129.47,2,    33.47,2,     0.00,2,     2.40,2, -999.000,9, -999.000,9, -999.000,9,-999.0000,9,  -999.00,9,   -999.0,9,  -999.00,9,-999.000,9,   2301.8,2,   -999.9,5,  -999.0, -999.00,-999.0000,-999.000,-999.000
    316N145_10,  I07N,   722,  1,      6,      6,2,19950719,1341,-11.4995,  54.1085, 4386,   -999,   3395.1,   1.6783,  34.7319,2,  34.7314,2,    166.6,2,  1.4183,    168.4,2,   130.16,2,    33.38,2,     0.00,2,     2.37,2, -999.000,9, -999.000,9, -999.000,9,-999.0000,9,  -999.00,9,   -999.0,9,  -999.00,9,-999.000,9,   2300.9,2,   2406.3,2,  -999.0, -999.00,-999.0000,-999.000,-999.000
    316N145_10,  I07N,   722,  1,      5,      5,2,19950719,1341,-11.4995,  54.1085, 4386,   -999,   3694.5,   1.5275,  34.7265,2,  34.7253,2,    175.4,2,  1.2404,    175.9,2,   129.93,2,    32.84,2,     0.00,2,     2.34,2, -999.000,9, -999.000,9, -999.000,9,-999.0000,9,  -999.00,9,   -999.0,9,  -999.00,9,-999.000,9,   2294.9,2,   2406.0,2,  -999.0, -999.00,-999.0000,-999.000,-999.000
    316N145_10,  I07N,   722,  1,      4,      4,2,19950719,1341,-11.4995,  54.1085, 4386,   -999,   3996.9,   1.4520,  34.7229,2,  34.7223,2,    181.3,2,  1.1347,    181.5,2,   129.34,2,    32.79,2,     0.00,2,     2.32,2, -999.000,9, -999.000,9, -999.000,9,-999.0000,9,  -999.00,9,   -999.0,9,  -999.00,9,-999.000,9,   2289.9,2,   2400.5,2,  -999.0, -999.00,-999.0000,-999.000,-999.000
    316N145_10,  I07N,   722,  1,      3,      3,2,19950719,1341,-11.4995,  54.1085, 4386,   -999,   4299.4,   1.2873,  34.7169,2,  34.7151,2,    191.9,2,  0.9415,    190.9,2,   127.45,2,    32.30,2,     0.00,2,     2.28,2, -999.000,9, -999.000,9, -999.000,9,-999.0000,9,  -999.00,9,   -999.0,9,  -999.00,9,-999.000,9,   2281.2,2,   2394.5,2,  -999.0, -999.00,-999.0000,-999.000,-999.000
    316N145_10,  I07N,   722,  1,      2,      2,2,19950719,1341,-11.4995,  54.1085, 4386,   -999,   4396.4,   1.2273,  34.7159,2,  34.7143,2,    194.0,2,  0.8725,    194.5,2,   126.86,2,    32.16,2,     0.00,2,     2.27,2, -999.000,9, -999.000,9, -999.000,9,-999.0000,9,  -999.00,9,   -999.0,9,  -999.00,9,-999.000,9,   2277.1,2,   2386.1,2,  -999.0, -999.00,-999.0000,-999.000,-999.000
    316N145_10,  I07N,   722,  1,      1,      1,2,19950719,1341,-11.4995,  54.1085, 4386,   -999,   4452.9,   1.2027,  34.7145,2,  34.7125,2,    195.4,2,  0.8423,    195.9,2,   126.63,2,    32.12,2,     0.00,2,     2.26,2, -999.000,9, -999.000,9, -999.000,9,-999.0000,9,  -999.00,9,   -999.0,9,  -999.00,9,-999.000,9,   2275.1,2,   2394.6,2,  -999.0, -999.00,-999.0000,-999.000,-999.000