BOTTLE,20080821WHPSIOSCD
EXPOCODE,SECT_ID,STNNBR,CASTNO,SAMPNO,BTLNBR,BTLNBR_FLAG_W,DATE,TIME,LATITUDE,LONGITUDE,DEPTH,CTDRAW,CTDPRS,CTDTMP,CTDSAL,CTDSAL_FLAG_W,SALNTY,SALNTY_FLAG_W,CTDOXY,CTDOXY_FLAG_W,THETA,OXYGEN,OXYGEN_FLAG_W,SILCAT,SILCAT_FLAG_W,NITRAT,NITRAT_FLAG_W,NITRIT,NITRIT_FLAG_W,PHSPHT,PHSPHT_FLAG_W,CFC-11,CFC-11_FLAG_W,CFC-12,CFC-12_FLAG_W,TRITUM,TRITUM_FLAG_W,HELIUM,HELIUM_FLAG_W,DELHE3,DELHE3_FLAG_W,DELC14,DELC14_FLAG_W,DELC13,DELC13_FLAG_W,NEON,NEON_FLAG_W,TCARBN,TCARBN_FLAG_W,ALKALI,ALKALI_FLAG_W,C14ERR,DELHER,HELIER,NEONER,TRITER
,,,,,,,,,,,,,DBAR,ITS-90,PSS-78,,PSS-78,,UMOL/KG,,DEG C,UMOL/KG,,UMOL/KG,,UMOL/KG,,UMOL/KG,,UMOL/KG,,PMOL/KG,,PMOL/KG,,TU,,NMOL/KG,,PERCNT,,/MILLE,,/MILLE,,NMOL/KG,,UMOL/KG,,UMOL/KG,,/MILLE,PERCNT,NMOL/KG,NMOL/KG,TU
    316N145_10,  I07N,   797,  1,     36,     36,2,19950808,1905, 15.8368,  63.3167, 3853,   -999,      9.7,  26.4067,  36.1933,2,  36.1928,2,    214.4,2, 26.4047,    202.2,2,     3.29,2,     2.61,2,     0.19,2,     0.51,2,    1.749,2,    0.990,2, -999.000,9,-999.0000,9,  -999.00,9,   -999.0,9,  -999.00,9,-999.000,9,   -999.9,5,   2362.2,2,  -999.0, -999.00,-999.0000,-999.000,-999.000
    316N145_10,  I07N,   797,  1,     35,     35,2,19950808,1905, 15.8368,  63.3167, 3853,   -999,     30.2,  26.4151,  36.1936,2,  36.1922,2,    202.4,2, 26.4085,    202.4,2,     3.27,2,     2.61,2,     0.19,2,     0.52,2, -999.000,9, -999.000,9, -999.000,9,-999.0000,9,  -999.00,9,   -999.0,9,  -999.00,9,-999.000,9,   -999.9,9,   -999.9,9,  -999.0, -999.00,-999.0000,-999.000,-999.000
    316N145_10,  I07N,   797,  1,     34,     34,2,19950808,1905, 15.8368,  63.3167, 3853,   -999,     60.5,  26.4176,  36.1955,2,  36.1946,2,    201.3,2, 26.4041,    201.7,2,     3.25,2,     2.74,2,     0.20,2,     0.53,2,    1.750,2,    0.982,2, -999.000,9,-999.0000,9,  -999.00,9,   -999.0,9,  -999.00,9,-999.000,9,   -999.9,9,   -999.9,9,  -999.0, -999.00,-999.0000,-999.000,-999.000
    316N145_10,  I07N,   797,  1,     33,     33,2,19950808,1905, 15.8368,  63.3167, 3853,   -999,     85.8,  26.2386,  36.2303,2,  36.2299,2,    199.0,2, 26.2195,    183.1,2,     3.42,2,     4.35,2,     0.40,2,     0.64,2, -999.000,9, -999.000,9, -999.000,9,-999.0000,9,  -999.00,9,   -999.0,9,  -999.00,9,-999.000,9,   -999.9,9,   -999.9,9,  -999.0, -999.00,-999.0000,-999.000,-999.000
    316N145_10,  I07N,   797,  1,     32,     32,2,19950808,1905, 15.8368,  63.3167, 3853,   -999,    110.7,  23.4221,  36.1647,2,  36.1450,2,    110.2,2, 23.3993,     93.1,2,     7.80,2,    15.32,2,     0.06,2,     1.30,2,    1.687,2,    0.950,2, -999.000,9,-999.0000,9,  -999.00,9,   -999.0,9,  -999.00,9,-999.000,9,   -999.9,9,   -999.9,9,  -999.0, -999.00,-999.0000,-999.000,-999.000
    316N145_10,  I07N,   797,  1,     31,     31,2,19950808,1905, 15.8368,  63.3167, 3853,   -999,    151.0,  19.5209,  35.7994,2,  35.7894,2,     11.2,2, 19.4935,     11.0,2,    17.73,2,    24.40,2,     0.02,2,     2.15,2,    1.195,2,    0.679,2, -999.000,9,-999.0000,9,  -999.00,9,   -999.0,9,  -999.00,9,-999.000,9,   -999.9,9,   -999.9,9,  -999.0, -999.00,-999.0000,-999.000,-999.000
    316N145_10,  I07N,   797,  1,     30,     30,2,19950808,1905, 15.8368,  63.3167, 3853,   -999,    174.7,  18.2461,  35.8017,2,  35.7884,2,      1.3,2, 18.2158,      1.5,2,    21.53,2,    23.62,2,     0.01,2,     2.29,2,    0.930,2,    0.540,2, -999.000,9,-999.0000,9,  -999.00,9,   -999.0,9,  -999.00,9,-999.000,9,   -999.9,9,   -999.9,9,  -999.0, -999.00,-999.0000,-999.000,-999.000
    316N145_10,  I07N,   797,  1,     29,     29,2,19950808,1905, 15.8368,  63.3167, 3853,   -999,    200.5,  17.2723,  35.7764,2,  35.7762,2,      0.9,2, 17.2389,      2.7,2,    23.42,2,    23.48,2,     0.00,2,     2.31,2, -999.000,9, -999.000,9, -999.000,9,-999.0000,9,  -999.00,9,   -999.0,9,  -999.00,9,-999.000,9,   -999.9,9,   -999.9,9,  -999.0, -999.00,-999.0000,-999.000,-999.000
    316N145_10,  I07N,   797,  1,     28,     28,2,19950808,1905, 15.8368,  63.3167, 3853,   -999,    249.3,  15.9948,  35.8621,2,  35.8600,2,      0.8,2, 15.9552,      1.3,2,    26.83,2,    22.74,2,     0.00,2,     2.35,2,    0.581,2,    0.353,2, -999.000,9,-999.0000,9,  -999.00,9,   -999.0,9,  -999.00,9,-999.000,9,   -999.9,9,   -999.9,9,  -999.0, -999.00,-999.0000,-999.000,-999.000
    316N145_10,  I07N,   797,  1,     27,     27,2,19950808,1905, 15.8368,  63.3167, 3853,   -999,    299.0,  14.9941,  35.8464,2,  35.8468,2,      0.8,2, 14.9486,      1.4,2,    28.72,2,    24.56,2,     0.00,2,     2.37,2, -999.000,9, -999.000,9, -999.000,9,-999.0000,9,  -999.00,9,   -999.0,9,  -999.00,9,-999.000,9,   -999.9,9,   -999.9,9,  -999.0, -999.00,-999.0000,-999.000,-999.000
    316N145_10,  I07N,   797,  1,     26,     26,2,19950808,1905, 15.8368,  63.3167, 3853,   -999,    348.7,  14.4311,  35.8852,2,  35.8847,2,      0.8,2, 14.3792,      0.7,2,    31.57,2,    23.85,2,     0.05,2,     2.45,2, -999.000,9, -999.000,9, -999.000,9,-999.0000,9,  -999.00,9,   -999.0,9,  -999.00,9,-999.000,9,   -999.9,9,   -999.9,9,  -999.0, -999.00,-999.0000,-999.000,-999.000
    316N145_10,  I07N,   797,  1,     25,     25,2,19950808,1905, 15.8368,  63.3167, 3853,   -999,    398.1,  13.6242,  35.7980,2,  35.7989,2,      0.9,2, 13.5671,      0.5,2,    34.98,2,    24.83,2,     0.29,2,     2.52,2,    0.265,2,    0.168,2, -999.000,9,-999.0000,9,  -999.00,9,   -999.0,9,  -999.00,9,-999.000,9,   -999.9,9,   -999.9,9,  -999.0, -999.00,-999.0000,-999.000,-999.000
    316N145_10,  I07N,   797,  1,     24,     24,2,19950808,1905, 15.8368,  63.3167, 3853,   -999,    464.8,  12.9337,  35.7634,2,  35.7622,2,      0.9,2, 12.8690,      0.7,2,    38.97,2,    25.92,2,     0.03,2,     2.60,2,    0.194,6,    0.112,6, -999.000,9,-999.0000,9,  -999.00,9,   -999.0,9,  -999.00,9,-999.000,9,   -999.9,9,   -999.9,9,  -999.0, -999.00,-999.0000,-999.000,-999.000
    316N145_10,  I07N,   797,  1,     23,     23,2,19950808,1905, 15.8368,  63.3167, 3853,   -999,    500.7,  12.6470,  35.7384,2,  35.7382,2,      0.9,2, 12.5782,      0.7,2,    41.24,2,    26.46,2,     0.00,2,     2.63,2,    0.156,2,    0.097,2, -999.000,9,-999.0000,9,  -999.00,9,   -999.0,9,  -999.00,9,-999.000,9,   -999.9,9,   -999.9,9,  -999.0, -999.00,-999.0000,-999.000,-999.000
    316N145_10,  I07N,   797,  1,     22,     22,2,19950808,1905, 15.8368,  63.3167, 3853,   -999,    599.1,  11.5351,  35.6165,2,  35.6168,2,      1.0,2, 11.4572,      0.9,2,    49.44,2,    29.35,2,     0.00,2,     2.74,2,    0.058,2,    0.040,2, -999.000,9,-999.0000,9,  -999.00,9,   -999.0,9,  -999.00,9,-999.000,9,   -999.9,9,   -999.9,9,  -999.0, -999.00,-999.0000,-999.000,-999.000
    316N145_10,  I07N,   797,  1,     21,     21,2,19950808,1905, 15.8368,  63.3167, 3853,   -999,    699.0,  10.8094,  35.5637,2,  35.5636,2,      1.1,2, 10.7217,      0.9,2,    56.69,2,    31.37,2,     0.00,2,     2.81,2,    0.032,2,    0.020,2, -999.000,9,-999.0000,9,  -999.00,9,   -999.0,9,  -999.00,9,-999.000,9,   -999.9,9,   -999.9,9,  -999.0, -999.00,-999.0000,-999.000,-999.000
    316N145_10,  I07N,   797,  1,     20,     20,2,19950808,1905, 15.8368,  63.3167, 3853,   -999,    799.0,  10.1072,  35.5245,2,  35.5250,2,      2.7,2, 10.0106,      3.5,2,    63.17,2,    33.81,2,     0.00,2,     2.83,2,    0.039,2,    0.024,2, -999.000,9,-999.0000,9,  -999.00,9,   -999.0,9,  -999.00,9,-999.000,9,   -999.9,9,   -999.9,9,  -999.0, -999.00,-999.0000,-999.000,-999.000
    316N145_10,  I07N,   797,  1,     19,     19,2,19950808,1905, 15.8368,  63.3167, 3853,   -999,    898.2,   9.4299,  35.4734,2,  35.4744,2,      2.6,2,  9.3252,      4.2,2,    69.66,2,    34.95,2,     0.00,2,     2.90,2,    0.031,2,    0.020,2, -999.000,9,-999.0000,9,  -999.00,9,   -999.0,9,  -999.00,9,-999.000,9,   -999.9,9,   -999.9,9,  -999.0, -999.00,-999.0000,-999.000,-999.000
    316N145_10,  I07N,   797,  1,     18,     18,2,19950808,1905, 15.8368,  63.3167, 3853,   -999,   1001.3,   8.5713,  35.3763,2,  35.3757,2,      9.7,2,  8.4602,      9.5,2,    76.16,2,    36.42,2,     0.00,2,     2.93,2,    0.022,2,    0.012,2, -999.000,9,-999.0000,9,  -999.00,9,   -999.0,9,  -999.00,9,-999.000,9,   -999.9,9,   -999.9,9,  -999.0, -999.00,-999.0000,-999.000,-999.000
    316N145_10,  I07N,   797,  1,     17,     17,2,19950808,1905, 15.8368,  63.3167, 3853,   -999,   1100.4,   7.6671,  35.2625,2,  35.2624,2,     12.0,2,  7.5517,     11.9,2,    83.25,2,    37.61,2,     0.00,2,     3.01,2, -999.000,9, -999.000,9, -999.000,9,-999.0000,9,  -999.00,9,   -999.0,9,  -999.00,9,-999.000,9,   -999.9,9,   -999.9,9,  -999.0, -999.00,-999.0000,-999.000,-999.000
    316N145_10,  I07N,   797,  1,     16,     16,2,19950808,1905, 15.8368,  63.3167, 3853,   -999,   1201.9,   6.9199,  35.1909,2,  35.1898,2,     20.9,2,  6.7997,     20.1,2,    90.37,2,    37.94,2,     0.00,2,     3.02,2,    0.003,2,    0.002,2, -999.000,9,-999.0000,9,  -999.00,9,   -999.0,9,  -999.00,9,-999.000,9,   -999.9,9,   -999.9,9,  -999.0, -999.00,-999.0000,-999.000,-999.000
    316N145_10,  I07N,   797,  1,     15,     15,2,19950808,1905, 15.8368,  63.3167, 3853,   -999,   1403.9,   5.5023,  35.0489,2,  35.0494,2,     40.6,2,  5.3749,     38.4,2,   104.90,2,    38.23,2,     0.00,2,     3.02,2,    0.000,2,    0.001,2, -999.000,9,-999.0000,9,  -999.00,9,   -999.0,9,  -999.00,9,-999.000,9,   -999.9,9,   -999.9,9,  -999.0, -999.00,-999.0000,-999.000,-999.000
    316N145_10,  I07N,   797,  1,     14,     14,2,19950808,1905, 15.8368,  63.3167, 3853,   -999,   1600.7,   4.2813,  34.9394,2,  34.9420,2,     63.3,2,  4.1487,     61.1,2,   117.83,2,    37.81,2,     0.00,2,     2.96,2,   -0.001,2,   -0.001,2, -999.000,9,-999.0000,9,  -999.00,9,   -999.0,9,  -999.00,9,-999.000,9,   -999.9,9,   -999.9,9,  -999.0, -999.00,-999.0000,-999.000,-999.000
    316N145_10,  I07N,   797,  1,     13,     13,2,19950808,1905, 15.8368,  63.3167, 3853,   -999,   1801.1,   3.3510,  34.8583,2,  34.8593,2,     85.1,2,  3.2119,     84.1,2,   126.73,2,    37.24,2,     0.00,2,     2.84,2, -999.000,9, -999.000,9, -999.000,9,-999.0000,9,  -999.00,9,   -999.0,9,  -999.00,9,-999.000,9,   -999.9,9,   -999.9,9,  -999.0, -999.00,-999.0000,-999.000,-999.000
    316N145_10,  I07N,   797,  1,     12,     12,2,19950808,1905, 15.8368,  63.3167, 3853,   -999,   2001.3,   2.8255,  34.8177,2,  34.8173,2,     98.1,2,  2.6759,     97.3,2,   132.92,2,    36.81,2,     0.00,2,     2.77,2, -999.000,9, -999.000,9, -999.000,9,-999.0000,9,  -999.00,9,   -999.0,9,  -999.00,9,-999.000,9,   -999.9,9,   -999.9,9,  -999.0, -999.00,-999.0000,-999.000,-999.000
    316N145_10,  I07N,   797,  1,     11,     11,2,19950808,1905, 15.8368,  63.3167, 3853,   -999,   2203.1,   2.4486,  34.7895,2,  34.7884,2,    109.9,2,  2.2870,    108.6,2,   136.11,2,    36.48,2,     0.00,2,     2.72,2, -999.000,9, -999.000,9, -999.000,9,-999.0000,9,  -999.00,9,   -999.0,9,  -999.00,9,-999.000,9,   -999.9,9,   -999.9,9,  -999.0, -999.00,-999.0000,-999.000,-999.000
    316N145_10,  I07N,   797,  1,     10,     10,2,19950808,1905, 15.8368,  63.3167, 3853,   -999,   2403.9,   2.1765,  34.7702,2,  34.7690,2,    119.7,2,  2.0013,    118.7,2,   137.90,2,    36.14,2,     0.00,2,     2.66,2, -999.000,9, -999.000,9, -999.000,9,-999.0000,9,  -999.00,9,   -999.0,9,  -999.00,9,-999.000,9,   -999.9,9,   -999.9,9,  -999.0, -999.00,-999.0000,-999.000,-999.000
    316N145_10,  I07N,   797,  1,      9,      9,2,19950808,1905, 15.8368,  63.3167, 3853,   -999,   2603.1,   1.9838,  34.7570,2,  34.7562,2,    124.3,2,  1.7940,    123.4,2,   140.10,2,    35.95,2,     0.00,2,     2.64,2, -999.000,9, -999.000,9, -999.000,9,-999.0000,9,  -999.00,9,   -999.0,9,  -999.00,9,-999.000,9,   -999.9,9,   -999.9,9,  -999.0, -999.00,-999.0000,-999.000,-999.000
    316N145_10,  I07N,   797,  1,      8,      8,2,19950808,1905, 15.8368,  63.3167, 3853,   -999,   2800.2,   1.8615,  34.7483,2,  34.7474,2,    129.2,2,  1.6557,    129.4,2,   140.67,2,    35.71,2,     0.00,2,     2.61,2, -999.000,9, -999.000,9, -999.000,9,-999.0000,9,  -999.00,9,   -999.0,9,  -999.00,9,-999.000,9,   -999.9,9,   -999.9,9,  -999.0, -999.00,-999.0000,-999.000,-999.000
    316N145_10,  I07N,   797,  1,      7,      7,2,19950808,1905, 15.8368,  63.3167, 3853,   -999,   2994.0,   1.7808,  34.7427,2,  34.7427,2,    132.1,2,  1.5581,    132.3,2,   141.65,2,    35.67,2,     0.00,2,     2.59,2, -999.000,9, -999.000,9, -999.000,9,-999.0000,9,  -999.00,9,   -999.0,9,  -999.00,9,-999.000,9,   -999.9,9,   -999.9,9,  -999.0, -999.00,-999.0000,-999.000,-999.000
    316N145_10,  I07N,   797,  1,      6,      6,2,19950808,1905, 15.8368,  63.3167, 3853,   -999,   3196.5,   1.7437,  34.7403,2,  34.7398,2,    133.8,2,  1.5020,    134.4,2,   142.02,2,    35.66,2,     0.00,2,     2.58,2, -999.000,9, -999.000,9, -999.000,9,-999.0000,9,  -999.00,9,   -999.0,9,  -999.00,9,-999.000,9,   -999.9,9,   -999.9,9,  -999.0, -999.00,-999.0000,-999.000,-999.000
    316N145_10,  I07N,   797,  1,      5,      5,2,19950808,1905, 15.8368,  63.3167, 3853,   -999,   3403.0,   1.7183,  34.7381,2,  34.7368,2,    137.4,2,  1.4564,    138.6,2,   140.96,2,    35.43,2,     0.00,2,     2.55,2, -999.000,9, -999.000,9, -999.000,9,-999.0000,9,  -999.00,9,   -999.0,9,  -999.00,9,-999.000,9,   -999.9,9,   -999.9,9,  -999.0, -999.00,-999.0000,-999.000,-999.000
    316N145_10,  I07N,   797,  1,      4,      4,2,19950808,1905, 15.8368,  63.3167, 3853,   -999,   3597.2,   1.7020,  34.7367,2,  34.7512,4,    141.1,2,  1.4205,    142.0,2,   139.50,2,    35.09,2,     0.00,2,     2.53,2, -999.000,9, -999.000,9, -999.000,9,-999.0000,9,  -999.00,9,   -999.0,9,  -999.00,9,-999.000,9,   -999.9,9,   -999.9,9,  -999.0, -999.00,-999.0000,-999.000,-999.000
    316N145_10,  I07N,   797,  1,      3,      3,2,19950808,1905, 15.8368,  63.3167, 3853,   -999,   3729.1,   1.7045,  34.7349,2,  34.7347,2,    139.9,2,  1.4090,    135.9,2,   142.31,2,    35.80,2,     0.00,2,     2.56,2, -999.000,9, -999.000,9, -999.000,9,-999.0000,9,  -999.00,9,   -999.0,9,  -999.00,9,-999.000,9,   -999.9,9,   -999.9,9,  -999.0, -999.00,-999.0000,-999.000,-999.000
    316N145_10,  I07N,   797,  1,      2,      2,2,19950808,1905, 15.8368,  63.3167, 3853,   -999,   3878.0,   1.7113,  34.7344,2,  34.7353,2,    126.7,2,  1.3996,    126.6,2,   148.03,2,    36.09,2,     0.00,2,     2.62,2, -999.000,9, -999.000,9, -999.000,9,-999.0000,9,  -999.00,9,   -999.0,9,  -999.00,9,-999.000,9,   -999.9,9,   -999.9,9,  -999.0, -999.00,-999.0000,-999.000,-999.000
    316N145_10,  I07N,   797,  1,      1,      1,2,19950808,1905, 15.8368,  63.3167, 3853,   -999,   3905.1,   1.7141,  34.7354,2,  34.7355,2,    125.6,2,  1.3994,    126.6,2,   147.57,2,    36.28,2,     0.00,2,     2.63,2, -999.000,9, -999.000,9, -999.000,9,-999.0000,9,  -999.00,9,   -999.0,9,  -999.00,9,-999.000,9,   -999.9,9,   -999.9,9,  -999.0, -999.00,-999.0000,-999.000,-999.000