BOTTLE,20080821WHPSIOSCD
EXPOCODE,SECT_ID,STNNBR,CASTNO,SAMPNO,BTLNBR,BTLNBR_FLAG_W,DATE,TIME,LATITUDE,LONGITUDE,DEPTH,CTDRAW,CTDPRS,CTDTMP,CTDSAL,CTDSAL_FLAG_W,SALNTY,SALNTY_FLAG_W,CTDOXY,CTDOXY_FLAG_W,THETA,OXYGEN,OXYGEN_FLAG_W,SILCAT,SILCAT_FLAG_W,NITRAT,NITRAT_FLAG_W,NITRIT,NITRIT_FLAG_W,PHSPHT,PHSPHT_FLAG_W,CFC-11,CFC-11_FLAG_W,CFC-12,CFC-12_FLAG_W,TRITUM,TRITUM_FLAG_W,HELIUM,HELIUM_FLAG_W,DELHE3,DELHE3_FLAG_W,DELC14,DELC14_FLAG_W,DELC13,DELC13_FLAG_W,NEON,NEON_FLAG_W,TCARBN,TCARBN_FLAG_W,ALKALI,ALKALI_FLAG_W,C14ERR,DELHER,HELIER,NEONER,TRITER
,,,,,,,,,,,,,DBAR,ITS-90,PSS-78,,PSS-78,,UMOL/KG,,DEG C,UMOL/KG,,UMOL/KG,,UMOL/KG,,UMOL/KG,,UMOL/KG,,PMOL/KG,,PMOL/KG,,TU,,NMOL/KG,,PERCNT,,/MILLE,,/MILLE,,NMOL/KG,,UMOL/KG,,UMOL/KG,,/MILLE,PERCNT,NMOL/KG,NMOL/KG,TU
    316N145_10,  I07N,   786,  1,     36,     36,2,19950806,0327, 10.5407,  64.6662, 4385,   -999,      9.8,  27.7707,  36.5484,2,  36.5518,2,    196.9,2, 27.7686,    195.1,2,     1.97,2,     0.05,2,     0.00,2,     0.25,2,    1.646,2,    0.935,2, -999.000,9,-999.0000,9,  -999.00,9,   -999.0,9,  -999.00,9,-999.000,9,   2018.6,2,   2386.6,2,  -999.0, -999.00,-999.0000,-999.000,-999.000
    316N145_10,  I07N,   786,  1,     35,     35,2,19950806,0327, 10.5407,  64.6662, 4385,   -999,     30.6,  27.7507,  36.5469,2,  36.5478,2,    192.6,2, 27.7438,    195.1,2,     1.96,2,     0.01,2,     0.00,2,     0.25,2, -999.000,9, -999.000,9, -999.000,9,-999.0000,9,  -999.00,9,   -999.0,9,  -999.00,9,-999.000,9,   2018.4,2,   2394.9,2,  -999.0, -999.00,-999.0000,-999.000,-999.000
    316N145_10,  I07N,   786,  1,     34,     34,2,19950806,0327, 10.5407,  64.6662, 4385,   -999,     59.7,  27.7298,  36.5458,2,  36.5504,2,    197.7,2, 27.7161,    194.1,2,     1.76,2,     0.04,2,     0.01,2,     0.25,2,    1.649,2,    0.939,2, -999.000,9,-999.0000,9,  -999.00,9,   -999.0,9,  -999.00,9,-999.000,9,   2020.6,2,   2383.6,2,  -999.0, -999.00,-999.0000,-999.000,-999.000
    316N145_10,  I07N,   786,  1,     33,     33,2,19950806,0327, 10.5407,  64.6662, 4385,   -999,     94.8,  27.6586,  36.6081,2,  36.6066,2,    195.5,2, 27.6366,    185.4,2,     2.50,2,     0.24,2,     0.50,2,     0.32,2,    1.637,2,    0.936,2, -999.000,9,-999.0000,9,  -999.00,9,   -999.0,9,  -999.00,9,-999.000,9,   2029.7,2,   2389.8,2,  -999.0, -999.00,-999.0000,-999.000,-999.000
    316N145_10,  I07N,   786,  1,     32,     32,2,19950806,0327, 10.5407,  64.6662, 4385,   -999,    134.8,  22.4225,  35.8729,2,  35.8565,2,     58.8,2, 22.3955,     38.5,2,    11.49,2,    21.35,2,     0.02,2,     1.65,2, -999.000,9, -999.000,9, -999.000,9,-999.0000,9,  -999.00,9,   -999.0,9,  -999.00,9,-999.000,9,   2167.6,2,   2336.9,2,  -999.0, -999.00,-999.0000,-999.000,-999.000
    316N145_10,  I07N,   786,  1,     31,     31,2,19950806,0327, 10.5407,  64.6662, 4385,   -999,    164.7,  18.2496,  35.4952,2,  35.4887,2,     10.8,2, 18.2212,     13.0,2,    19.36,2,    25.81,2,     0.00,2,     2.04,2,    0.958,2,    0.528,2, -999.000,9,-999.0000,9,  -999.00,9,   -999.0,9,  -999.00,9,-999.000,9,   2207.9,2,   2325.7,2,  -999.0, -999.00,-999.0000,-999.000,-999.000
    316N145_10,  I07N,   786,  1,     30,     30,2,19950806,0327, 10.5407,  64.6662, 4385,   -999,    200.4,  15.9008,  35.3382,2,  35.3454,2,     16.2,2, 15.8693,     17.0,2,    22.91,2,    26.66,2,     0.00,2,     2.12,2, -999.000,9, -999.000,9, -999.000,9,-999.0000,9,  -999.00,9,   -999.0,9,  -999.00,9,-999.000,9,   2218.7,2,   2320.1,2,  -999.0, -999.00,-999.0000,-999.000,-999.000
    316N145_10,  I07N,   786,  1,     29,     29,2,19950806,0327, 10.5407,  64.6662, 4385,   -999,    239.8,  14.4060,  35.3529,2,  35.3554,2,     22.8,2, 14.3707,     22.8,2,    24.97,2,    26.75,2,     0.00,2,     2.15,2,    0.591,2,    0.326,2, -999.000,9,-999.0000,9,  -999.00,9,   -999.0,9,  -999.00,9,-999.000,9,   2232.4,2,   2323.4,2,  -999.0, -999.00,-999.0000,-999.000,-999.000
    316N145_10,  I07N,   786,  1,     28,     28,2,19950806,0327, 10.5407,  64.6662, 4385,   -999,    285.8,  13.4332,  35.3675,2,  35.3674,2,     11.3,2, 13.3929,     11.3,2,    28.14,2,    28.71,2,     0.00,2,     2.30,2,    0.381,2,    0.216,2, -999.000,9,-999.0000,9,  -999.00,9,   -999.0,9,  -999.00,9,-999.000,9,   2250.8,2,   2326.4,2,  -999.0, -999.00,-999.0000,-999.000,-999.000
    316N145_10,  I07N,   786,  1,     27,     27,2,19950806,0327, 10.5407,  64.6662, 4385,   -999,    390.4,  12.0812,  35.3380,2,  35.3398,2,     19.5,2, 12.0296,     19.8,2,    32.63,2,    30.44,2,     0.00,2,     2.35,2,    0.276,2,    0.158,2, -999.000,9,-999.0000,9,  -999.00,9,   -999.0,9,  -999.00,9,-999.000,9,   2254.9,2,   2327.7,2,  -999.0, -999.00,-999.0000,-999.000,-999.000
    316N145_10,  I07N,   786,  1,     26,     26,2,19950806,0327, 10.5407,  64.6662, 4385,   -999,    460.2,  11.5456,  35.3519,2,  35.3532,2,     19.3,2, 11.4863,     18.8,2,    37.49,2,    31.51,2,     0.00,2,     2.45,2,    0.175,2,    0.101,2, -999.000,9,-999.0000,9,  -999.00,9,   -999.0,9,  -999.00,9,-999.000,9,   2259.8,2,   2318.0,3,  -999.0, -999.00,-999.0000,-999.000,-999.000
    316N145_10,  I07N,   786,  1,     25,     25,2,19950806,0327, 10.5407,  64.6662, 4385,   -999,    550.4,  11.0817,  35.3897,2,  35.3894,2,     13.6,2, 11.0123,     13.0,2,    44.99,2,    32.41,2,     0.00,2,     2.59,2,    0.083,2,    0.050,2, -999.000,9,-999.0000,9,  -999.00,9,   -999.0,9,  -999.00,9,-999.000,9,   2271.3,2,   2340.4,2,  -999.0, -999.00,-999.0000,-999.000,-999.000
    316N145_10,  I07N,   786,  1,     24,     24,2,19950806,0327, 10.5407,  64.6662, 4385,   -999,    650.3,  10.6063,  35.4058,2,  35.4059,2,     10.7,2, 10.5261,     10.7,2,    52.10,2,    33.26,2,     0.00,2,     2.68,2,    0.051,2,    0.031,2, -999.000,9,-999.0000,9,  -999.00,9,   -999.0,9,  -999.00,9,-999.000,9,   2280.9,2,   2347.6,2,  -999.0, -999.00,-999.0000,-999.000,-999.000
    316N145_10,  I07N,   786,  1,     23,     23,2,19950806,0327, 10.5407,  64.6662, 4385,   -999,    699.9,  10.3433,  35.4075,2,  35.4059,2,      9.7,2, 10.2581,     10.0,2,    55.47,2,    33.73,2,     0.00,2,     2.72,2,    0.043,2,    0.028,2, -999.000,9,-999.0000,9,  -999.00,9,   -999.0,9,  -999.00,9,-999.000,9,   2285.7,2,   2351.1,2,  -999.0, -999.00,-999.0000,-999.000,-999.000
    316N145_10,  I07N,   786,  1,     22,     22,2,19950806,0327, 10.5407,  64.6662, 4385,   -999,    799.2,   9.5068,  35.3397,2,  35.3449,2,     13.1,2,  9.4138,     13.3,2,    63.17,2,    35.05,2,     0.00,2,     2.78,2,    0.030,2,    0.017,2, -999.000,9,-999.0000,9,  -999.00,9,   -999.0,9,  -999.00,9,-999.000,9,   2294.6,2,   2358.1,2,  -999.0, -999.00,-999.0000,-999.000,-999.000
    316N145_10,  I07N,   786,  1,     21,     21,2,19950806,0327, 10.5407,  64.6662, 4385,   -999,    901.0,   8.8628,  35.3055,2,  35.3061,2,     19.3,2,  8.7616,     18.6,2,    69.55,2,    35.67,2,     0.00,2,     2.80,2,    0.025,2,    0.015,2, -999.000,9,-999.0000,9,  -999.00,9,   -999.0,9,  -999.00,9,-999.000,9,   2298.8,2,   2363.7,2,  -999.0, -999.00,-999.0000,-999.000,-999.000
    316N145_10,  I07N,   786,  1,     20,     20,2,19950806,0327, 10.5407,  64.6662, 4385,   -999,   1001.1,   8.0517,  35.2298,2,  35.2286,2,     24.9,2,  7.9446,     23.9,2,    76.90,2,    36.43,2,     0.00,2,     2.85,2,    0.017,2,    0.010,2, -999.000,9,-999.0000,9,  -999.00,9,   -999.0,9,  -999.00,9,-999.000,9,   2305.9,2,   2368.2,2,  -999.0, -999.00,-999.0000,-999.000,-999.000
    316N145_10,  I07N,   786,  1,     19,     19,2,19950806,0327, 10.5407,  64.6662, 4385,   -999,   1201.9,   6.4882,  35.0812,2,  35.0809,2,     39.3,2,  6.3720,     40.1,2,    90.90,2,    37.25,2,     0.00,2,     2.89,2,    0.004,2,    0.003,2, -999.000,9,-999.0000,9,  -999.00,9,   -999.0,9,  -999.00,9,-999.000,9,   2317.9,2,   2380.7,2,  -999.0, -999.00,-999.0000,-999.000,-999.000
    316N145_10,  I07N,   786,  1,     18,     18,2,19950806,0327, 10.5407,  64.6662, 4385,   -999,   1302.7,   5.8593,  35.0229,2,  35.0250,2,     50.0,2,  5.7386,     50.3,2,    96.60,2,    37.21,2,     0.00,2,     2.87,2, -999.000,9, -999.000,9, -999.000,9,-999.0000,9,  -999.00,9,   -999.0,9,  -999.00,9,-999.000,9,   2320.2,2,   2386.6,2,  -999.0, -999.00,-999.0000,-999.000,-999.000
    316N145_10,  I07N,   786,  1,     17,     17,2,19950806,0327, 10.5407,  64.6662, 4385,   -999,   1398.9,   5.3780,  34.9872,2,  34.9881,2,     55.8,2,  5.2526,     57.2,2,   101.94,2,    37.21,2,     0.00,2,     2.86,2,    0.000,2,   -0.001,2, -999.000,9,-999.0000,9,  -999.00,9,   -999.0,9,  -999.00,9,-999.000,9,   2322.9,2,   2390.2,2,  -999.0, -999.00,-999.0000,-999.000,-999.000
    316N145_10,  I07N,   786,  1,     16,     16,2,19950806,0327, 10.5407,  64.6662, 4385,   -999,   1599.6,   4.2604,  34.9008,2,  34.9014,2,     77.6,2,  4.1283,     78.7,2,   113.10,2,    36.89,2,     0.00,2,     2.81,2,    0.001,2,    0.000,2, -999.000,9,-999.0000,9,  -999.00,9,   -999.0,9,  -999.00,9,-999.000,9,   2328.1,2,   2403.7,2,  -999.0, -999.00,-999.0000,-999.000,-999.000
    316N145_10,  I07N,   786,  1,     15,     15,2,19950806,0327, 10.5407,  64.6662, 4385,   -999,   1801.5,   3.4890,  34.8476,2,  34.8480,2,     97.5,2,  3.3480,     96.9,2,   121.05,2,    36.42,2,     0.00,2,     2.74,2,    0.000,2,   -0.001,2, -999.000,9,-999.0000,9,  -999.00,9,   -999.0,9,  -999.00,9,-999.000,9,   2327.9,2,   2409.8,2,  -999.0, -999.00,-999.0000,-999.000,-999.000
    316N145_10,  I07N,   786,  1,     14,     14,2,19950806,0327, 10.5407,  64.6662, 4385,   -999,   1999.9,   3.0009,  34.8150,2,  34.8146,2,    110.9,2,  2.8488,    110.5,2,   125.55,2,    35.95,2,     0.00,2,     2.68,2,   -0.002,2,   -0.001,2, -999.000,9,-999.0000,9,  -999.00,9,   -999.0,9,  -999.00,9,-999.000,9,   2326.8,2,   2413.5,2,  -999.0, -999.00,-999.0000,-999.000,-999.000
    316N145_10,  I07N,   786,  1,     13,     13,2,19950806,0327, 10.5407,  64.6662, 4385,   -999,   2228.4,   2.4916,  34.7774,2,  34.7795,2,    127.4,2,  2.3270,    126.6,2,   129.47,2,    35.39,2,     0.00,2,     2.60,2,    0.000,2,    0.003,2, -999.000,9,-999.0000,9,  -999.00,9,   -999.0,9,  -999.00,9,-999.000,9,   2322.8,2,   2416.9,2,  -999.0, -999.00,-999.0000,-999.000,-999.000
    316N145_10,  I07N,   786,  1,     12,     12,2,19950806,0327, 10.5407,  64.6662, 4385,   -999,   2404.3,   2.2994,  34.7749,2,  34.7737,2,    127.3,2,  2.1220,    128.3,2,   133.82,2,    35.39,2,     0.00,2,     2.61,2,   -0.001,2,   -0.001,2, -999.000,9,-999.0000,9,  -999.00,9,   -999.0,9,  -999.00,9,-999.000,9,   2329.0,2,   2422.9,2,  -999.0, -999.00,-999.0000,-999.000,-999.000
    316N145_10,  I07N,   786,  1,     11,     11,2,19950806,0327, 10.5407,  64.6662, 4385,   -999,   2651.2,   2.0450,  34.7607,2,  34.7596,2,    127.4,2,  1.8495,    127.7,2,   140.21,2,    35.54,2,     0.00,2,     2.62,2, -999.000,9, -999.000,9, -999.000,9,-999.0000,9,  -999.00,9,   -999.0,9,  -999.00,9,-999.000,9,   2339.2,2,   -999.9,5,  -999.0, -999.00,-999.0000,-999.000,-999.000
    316N145_10,  I07N,   786,  1,     10,     10,2,19950806,0327, 10.5407,  64.6662, 4385,   -999,   2850.0,   1.8830,  34.7501,2,  34.7482,2,    136.4,2,  1.6720,    136.0,2,   140.59,2,    35.30,2,     0.00,2,     2.58,2, -999.000,9, -999.000,9, -999.000,9,-999.0000,9,  -999.00,9,   -999.0,9,  -999.00,9,-999.000,9,   2335.3,2,   2424.9,2,  -999.0, -999.00,-999.0000,-999.000,-999.000
    316N145_10,  I07N,   786,  1,      9,      9,2,19950806,0327, 10.5407,  64.6662, 4385,   -999,   3026.0,   1.7843,  34.7429,2,  34.7431,2,    146.4,2,  1.5585,    147.7,2,   137.56,2,    34.74,2,     0.00,2,     2.52,2, -999.000,9, -999.000,9, -999.000,9,-999.0000,9,  -999.00,9,   -999.0,9,  -999.00,9,-999.000,9,   2323.3,2,   2426.6,2,  -999.0, -999.00,-999.0000,-999.000,-999.000
    316N145_10,  I07N,   786,  1,      8,      8,2,19950806,0327, 10.5407,  64.6662, 4385,   -999,   3236.4,   1.7336,  34.7398,2,  34.7378,2,    153.1,2,  1.4882,    153.6,2,   136.34,2,    34.46,2,     0.00,2,     2.48,2, -999.000,9, -999.000,9, -999.000,9,-999.0000,9,  -999.00,9,   -999.0,9,  -999.00,9,-999.000,9,   2319.3,2,   2422.2,2,  -999.0, -999.00,-999.0000,-999.000,-999.000
    316N145_10,  I07N,   786,  1,      7,      7,2,19950806,0327, 10.5407,  64.6662, 4385,   -999,   3472.4,   1.7115,  34.7376,2,  34.7350,2,    154.5,2,  1.4427,    155.5,2,   136.52,2,    34.32,2,     0.00,2,     2.48,2, -999.000,9, -999.000,9, -999.000,9,-999.0000,9,  -999.00,9,   -999.0,9,  -999.00,9,-999.000,9,   2318.5,2,   2426.2,2,  -999.0, -999.00,-999.0000,-999.000,-999.000
    316N145_10,  I07N,   786,  1,      6,      6,2,19950806,0327, 10.5407,  64.6662, 4385,   -999,   3697.5,   1.7037,  34.7357,2,  34.7360,2,    155.6,2,  1.4116,    156.3,2,   136.70,2,    34.37,2,     0.00,2,     2.47,2, -999.000,9, -999.000,9, -999.000,9,-999.0000,9,  -999.00,9,   -999.0,9,  -999.00,9,-999.000,9,   2318.4,2,   2425.0,2,  -999.0, -999.00,-999.0000,-999.000,-999.000
    316N145_10,  I07N,   786,  1,      5,      5,2,19950806,0327, 10.5407,  64.6662, 4385,   -999,   3895.1,   1.6920,  34.7356,2,  34.7336,2,    156.4,2,  1.3790,    156.2,2,   137.28,2,    34.28,2,     0.00,2,     2.47,2, -999.000,9, -999.000,9, -999.000,9,-999.0000,9,  -999.00,9,   -999.0,9,  -999.00,9,-999.000,9,   2319.5,2,   2427.5,2,  -999.0, -999.00,-999.0000,-999.000,-999.000
    316N145_10,  I07N,   786,  1,      4,      4,2,19950806,0327, 10.5407,  64.6662, 4385,   -999,   4094.7,   1.6835,  34.7330,2,  34.7332,2,    155.7,2,  1.3488,    155.7,2,   138.27,2,    34.48,2,     0.00,2,     2.47,2, -999.000,9, -999.000,9, -999.000,9,-999.0000,9,  -999.00,9,   -999.0,9,  -999.00,9,-999.000,9,   2321.5,2,   2431.1,2,  -999.0, -999.00,-999.0000,-999.000,-999.000
    316N145_10,  I07N,   786,  1,      3,      3,2,19950806,0327, 10.5407,  64.6662, 4385,   -999,   4300.2,   1.6836,  34.7330,2,  34.7304,2,    154.7,2,  1.3258,    154.1,2,   139.05,2,    34.62,2,     0.00,2,     2.48,2, -999.000,9, -999.000,9, -999.000,9,-999.0000,9,  -999.00,9,   -999.0,9,  -999.00,9,-999.000,9,   2327.8,2,   2440.0,2,  -999.0, -999.00,-999.0000,-999.000,-999.000
    316N145_10,  I07N,   786,  1,      2,      2,2,19950806,0327, 10.5407,  64.6662, 4385,   -999,   4402.1,   1.6802,  34.7310,2,  34.7306,2,    152.7,2,  1.3108,    151.6,2,   140.64,2,    34.86,2,     0.00,2,     2.49,2, -999.000,9, -999.000,9, -999.000,9,-999.0000,9,  -999.00,9,   -999.0,9,  -999.00,9,-999.000,9,   2336.4,2,   2449.3,2,  -999.0, -999.00,-999.0000,-999.000,-999.000
    316N145_10,  I07N,   786,  1,      1,      1,2,19950806,0327, 10.5407,  64.6662, 4385,   -999,   4455.2,   1.6628,  34.7296,2,  34.7300,2,    154.1,2,  1.2878,    154.1,2,   140.02,2,    34.72,2,     0.00,2,     2.47,2, -999.000,9, -999.000,9, -999.000,9,-999.0000,9,  -999.00,9,   -999.0,9,  -999.00,9,-999.000,9,   2333.0,2,   2447.9,2,  -999.0, -999.00,-999.0000,-999.000,-999.000