BOTTLE,20080821WHPSIOSCD
EXPOCODE,SECT_ID,STNNBR,CASTNO,SAMPNO,BTLNBR,BTLNBR_FLAG_W,DATE,TIME,LATITUDE,LONGITUDE,DEPTH,CTDRAW,CTDPRS,CTDTMP,CTDSAL,CTDSAL_FLAG_W,SALNTY,SALNTY_FLAG_W,CTDOXY,CTDOXY_FLAG_W,THETA,OXYGEN,OXYGEN_FLAG_W,SILCAT,SILCAT_FLAG_W,NITRAT,NITRAT_FLAG_W,NITRIT,NITRIT_FLAG_W,PHSPHT,PHSPHT_FLAG_W,CFC-11,CFC-11_FLAG_W,CFC-12,CFC-12_FLAG_W,TRITUM,TRITUM_FLAG_W,HELIUM,HELIUM_FLAG_W,DELHE3,DELHE3_FLAG_W,DELC14,DELC14_FLAG_W,DELC13,DELC13_FLAG_W,NEON,NEON_FLAG_W,TCARBN,TCARBN_FLAG_W,ALKALI,ALKALI_FLAG_W,C14ERR,DELHER,HELIER,NEONER,TRITER
,,,,,,,,,,,,,DBAR,ITS-90,PSS-78,,PSS-78,,UMOL/KG,,DEG C,UMOL/KG,,UMOL/KG,,UMOL/KG,,UMOL/KG,,UMOL/KG,,PMOL/KG,,PMOL/KG,,TU,,NMOL/KG,,PERCNT,,/MILLE,,/MILLE,,NMOL/KG,,UMOL/KG,,UMOL/KG,,/MILLE,PERCNT,NMOL/KG,NMOL/KG,TU
    316N145_10,  I07N,   770,  1,     36,     36,2,19950801,0817,  3.9982,  59.1555, 4570,   -999,      3.4,  28.0243,  35.6195,2,  35.6216,2,    200.0,2, 28.0237,    197.8,2,     3.41,2,     0.05,2,     0.00,2,     0.20,2,    1.633,2,    0.921,2, -999.000,9,-999.0000,9,  -999.00,9,   -999.0,9,  -999.00,9,-999.000,9,   1976.6,2,   2328.1,2,  -999.0, -999.00,-999.0000,-999.000,-999.000
    316N145_10,  I07N,   770,  1,     35,     35,2,19950801,0817,  3.9982,  59.1555, 4570,   -999,     32.3,  27.8175,  35.6318,2,  35.6384,2,    197.4,2, 27.8102,    197.9,2,     3.38,2,     0.05,2,     0.00,2,     0.21,2,    1.649,2,    0.938,2, -999.000,9,-999.0000,9,  -999.00,9,   -999.0,9,  -999.00,9,-999.000,9,   1983.2,2,   2335.4,2,  -999.0, -999.00,-999.0000,-999.000,-999.000
    316N145_10,  I07N,   770,  1,     34,     34,2,19950801,0817,  3.9982,  59.1555, 4570,   -999,     52.1,  27.8705,  35.8091,2,  35.8069,2,    198.9,2, 27.8585,    197.2,2,     3.17,2,     0.05,2,     0.00,2,     0.22,2,    1.635,2,    0.924,2, -999.000,9,-999.0000,9,  -999.00,9,   -999.0,9,  -999.00,9,-999.000,9,   1991.3,2,   2341.9,2,  -999.0, -999.00,-999.0000,-999.000,-999.000
    316N145_10,  I07N,   770,  1,     33,     33,2,19950801,0817,  3.9982,  59.1555, 4570,   -999,     77.1,  27.9071,  35.9517,2,  35.9703,2,    199.5,2, 27.8892,    194.1,2,     2.96,2,     0.06,2,     0.00,2,     0.24,2,    1.645,2,    0.925,2, -999.000,9,-999.0000,9,  -999.00,9,   -999.0,9,  -999.00,9,-999.000,9,   1999.8,2,   2352.4,2,  -999.0, -999.00,-999.0000,-999.000,-999.000
    316N145_10,  I07N,   770,  1,     32,     32,2,19950801,0817,  3.9982,  59.1555, 4570,   -999,     97.1,  27.8310,  36.0915,2,  36.1231,2,    201.9,2, 27.8084,    192.3,2,     2.93,2,     0.10,2,     0.00,2,     0.27,2,    1.640,2,    0.928,2, -999.000,9,-999.0000,9,  -999.00,9,   -999.0,9,  -999.00,9,-999.000,9,   2010.9,2,   2357.5,2,  -999.0, -999.00,-999.0000,-999.000,-999.000
    316N145_10,  I07N,   770,  1,     31,     31,2,19950801,0817,  3.9982,  59.1555, 4570,   -999,    132.3,  22.6452,  35.5944,2,  35.5702,2,    124.7,2, 22.6187,     82.8,2,    11.44,2,    15.96,2,     0.04,2,     1.27,2,    1.354,2,    0.742,2, -999.000,9,-999.0000,9,  -999.00,9,   -999.0,9,  -999.00,9,-999.000,9,   2124.9,2,   2327.0,2,  -999.0, -999.00,-999.0000,-999.000,-999.000
    316N145_10,  I07N,   770,  1,     30,     30,2,19950801,0817,  3.9982,  59.1555, 4570,   -999,    172.7,  16.9496,  35.3027,2,  35.3021,2,     54.2,2, 16.9213,     53.3,2,    18.38,2,    23.35,2,     0.01,2,     1.72,2,    1.039,2,    0.557,2, -999.000,9,-999.0000,9,  -999.00,9,   -999.0,9,  -999.00,9,-999.000,9,   2184.7,2,   2316.5,2,  -999.0, -999.00,-999.0000,-999.000,-999.000
    316N145_10,  I07N,   770,  1,     29,     29,4,19950801,0817,  3.9982,  59.1555, 4570,   -999,    207.1,  15.9203,  35.2632,2,  35.6930,4,     56.1,2, 15.8877,    146.3,4,     8.06,4,     8.03,4,     0.00,4,     0.75,4,    1.437,2,    0.799,2, -999.000,9,-999.0000,9,  -999.00,9,   -999.0,9,  -999.00,9,-999.000,9,   2063.4,4,   2339.8,4,  -999.0, -999.00,-999.0000,-999.000,-999.000
    316N145_10,  I07N,   770,  1,     28,     28,2,19950801,0817,  3.9982,  59.1555, 4570,   -999,    231.8,  14.8370,  35.2350,2,  35.2368,2,     84.6,2, 14.8022,     74.2,2,    19.36,2,    22.68,2,     0.00,2,     1.67,2,    1.065,3,    0.555,3, -999.000,9,-999.0000,9,  -999.00,9,   -999.0,9,  -999.00,9,-999.000,9,   2188.5,2,   2315.4,2,  -999.0, -999.00,-999.0000,-999.000,-999.000
    316N145_10,  I07N,   770,  1,     27,     27,2,19950801,0817,  3.9982,  59.1555, 4570,   -999,    272.2,  13.3182,  35.2056,2,  35.2073,2,     89.3,2, 13.2801,     89.7,2,    20.54,2,    22.59,2,     0.00,2,     1.67,2,    1.042,2,    0.542,2, -999.000,9,-999.0000,9,  -999.00,9,   -999.0,9,  -999.00,9,-999.000,9,   2191.6,2,   -999.9,5,  -999.0, -999.00,-999.0000,-999.000,-999.000
    316N145_10,  I07N,   770,  1,     26,     26,2,19950801,0817,  3.9982,  59.1555, 4570,   -999,    379.9,  11.5106,  35.1268,2,  35.1285,2,     87.3,2, 11.4621,     89.7,2,    25.56,2,    25.43,2,     0.00,2,     1.85,2,    0.762,2,    0.387,2, -999.000,9,-999.0000,9,  -999.00,9,   -999.0,9,  -999.00,9,-999.000,9,   2207.4,2,   2317.2,2,  -999.0, -999.00,-999.0000,-999.000,-999.000
    316N145_10,  I07N,   770,  1,     25,     25,2,19950801,0817,  3.9982,  59.1555, 4570,   -999,    493.7,  10.2450,  35.1192,2,  35.1188,2,     61.5,2, 10.1860,     61.0,2,    37.90,2,    30.45,2,     0.00,2,     2.25,2,    0.271,2,    0.146,2, -999.000,9,-999.0000,9,  -999.00,9,   -999.0,9,  -999.00,9,-999.000,9,   2240.3,2,   -999.9,5,  -999.0, -999.00,-999.0000,-999.000,-999.000
    316N145_10,  I07N,   770,  1,     24,     24,2,19950801,0817,  3.9982,  59.1555, 4570,   -999,    608.7,   9.5772,  35.1121,2,  35.1130,2,     48.3,2,  9.5070,     48.1,2,    47.45,2,    32.72,2,     0.00,2,     2.45,2,    0.109,6,    0.057,6, -999.000,9,-999.0000,9,  -999.00,9,   -999.0,9,  -999.00,9,-999.000,9,   -999.9,5,   2334.5,2,  -999.0, -999.00,-999.0000,-999.000,-999.000
    316N145_10,  I07N,   770,  1,     23,     23,2,19950801,0817,  3.9982,  59.1555, 4570,   -999,    730.4,   9.0317,  35.1476,2,  35.1493,2,     37.9,2,  8.9497,     37.9,2,    57.87,2,    34.39,2,     0.00,2,     2.62,2,    0.044,2,    0.022,2, -999.000,9,-999.0000,9,  -999.00,9,   -999.0,9,  -999.00,9,-999.000,9,   2260.5,2,   2348.0,2,  -999.0, -999.00,-999.0000,-999.000,-999.000
    316N145_10,  I07N,   770,  1,     22,     22,2,19950801,0817,  3.9982,  59.1555, 4570,   -999,    833.7,   8.7461,  35.1624,2,  35.1637,2,     36.3,2,  8.6537,     35.8,2,    62.90,2,    34.90,2,     0.00,2,     2.69,2,    0.041,2,    0.022,2, -999.000,9,-999.0000,9,  -999.00,9,   -999.0,9,  -999.00,9,-999.000,9,   2282.9,2,   2351.2,2,  -999.0, -999.00,-999.0000,-999.000,-999.000
    316N145_10,  I07N,   770,  1,     21,     21,2,19950801,0817,  3.9982,  59.1555, 4570,   -999,    937.1,   8.2196,  35.1546,2,  35.1547,2,     33.3,2,  8.1187,     33.7,2,    70.38,2,    35.74,2,     0.00,2,     2.75,2,    0.020,2,    0.012,2, -999.000,9,-999.0000,9,  -999.00,9,   -999.0,9,  -999.00,9,-999.000,9,   2293.2,2,   2360.8,2,  -999.0, -999.00,-999.0000,-999.000,-999.000
    316N145_10,  I07N,   770,  1,     20,     20,2,19950801,0817,  3.9982,  59.1555, 4570,   -999,   1051.5,   7.4469,  35.1012,2,  35.1028,2,     39.0,2,  7.3389,     39.2,2,    78.22,2,    36.40,2,     0.00,2,     2.80,2,    0.013,2,    0.008,2, -999.000,9,-999.0000,9,  -999.00,9,   -999.0,9,  -999.00,9,-999.000,9,   2301.3,2,   2364.8,2,  -999.0, -999.00,-999.0000,-999.000,-999.000
    316N145_10,  I07N,   770,  1,     19,     19,2,19950801,0817,  3.9982,  59.1555, 4570,   -999,   1248.1,   5.8739,  34.9807,2,  34.9841,2,     56.7,2,  5.7588,     58.2,2,    92.97,2,    36.92,2,     0.00,2,     2.82,2,    0.002,2,    0.002,2, -999.000,9,-999.0000,9,  -999.00,9,   -999.0,9,  -999.00,9,-999.000,9,   2310.9,2,   2381.2,2,  -999.0, -999.00,-999.0000,-999.000,-999.000
    316N145_10,  I07N,   770,  1,     18,     18,2,19950801,0817,  3.9982,  59.1555, 4570,   -999,   1451.3,   4.6743,  34.9030,2,  34.9033,2,     81.3,2,  4.5514,     80.2,2,   104.28,2,    36.54,2,     0.00,2,     2.77,2,    0.002,2,    0.001,2, -999.000,9,-999.0000,9,  -999.00,9,   -999.0,9,  -999.00,9,-999.000,9,   2314.4,2,   2388.9,2,  -999.0, -999.00,-999.0000,-999.000,-999.000
    316N145_10,  I07N,   770,  1,     17,     17,2,19950801,0817,  3.9982,  59.1555, 4570,   -999,   1648.4,   3.6904,  34.8337,2,  34.8346,2,    100.9,2,  3.5608,    102.8,2,   112.83,2,    35.99,2,     0.00,2,     2.69,2,    0.003,2,   -0.002,2, -999.000,9,-999.0000,9,  -999.00,9,   -999.0,9,  -999.00,9,-999.000,9,   2315.3,2,   2400.4,2,  -999.0, -999.00,-999.0000,-999.000,-999.000
    316N145_10,  I07N,   770,  1,     16,     16,2,19950801,0817,  3.9982,  59.1555, 4570,   -999,   1839.9,   3.1749,  34.8067,2,  34.8062,2,    114.0,2,  3.0348,    115.7,2,   117.83,2,    35.61,2,     0.00,2,     2.64,2,   -0.001,2,   -0.003,2, -999.000,9,-999.0000,9,  -999.00,9,   -999.0,9,  -999.00,9,-999.000,9,   2315.0,2,   2402.3,2,  -999.0, -999.00,-999.0000,-999.000,-999.000
    316N145_10,  I07N,   770,  1,     15,     15,2,19950801,0817,  3.9982,  59.1555, 4570,   -999,   2048.4,   2.7452,  34.7864,2,  34.7844,2,    129.1,2,  2.5927,    126.5,2,   122.49,2,    35.29,2,     0.00,2,     2.60,2,   -0.003,2,   -0.003,2, -999.000,9,-999.0000,9,  -999.00,9,   -999.0,9,  -999.00,9,-999.000,9,   2314.0,2,   2407.8,2,  -999.0, -999.00,-999.0000,-999.000,-999.000
    316N145_10,  I07N,   770,  1,     14,     14,2,19950801,0817,  3.9982,  59.1555, 4570,   -999,   2251.2,   2.4372,  34.7754,2,  34.7746,2,    139.1,2,  2.2715,    133.3,2,   127.00,2,    35.10,2,     0.00,2,     2.58,2, -999.000,9, -999.000,9, -999.000,9,-999.0000,9,  -999.00,9,   -999.0,9,  -999.00,9,-999.000,9,   2316.0,2,   2409.9,2,  -999.0, -999.00,-999.0000,-999.000,-999.000
    316N145_10,  I07N,   770,  1,     13,     13,2,19950801,0817,  3.9982,  59.1555, 4570,   -999,   2450.5,   2.1786,  34.7612,2,  34.7595,2,    142.9,2,  1.9992,    142.3,2,   129.15,2,    34.83,2,     0.00,2,     2.54,2, -999.000,9, -999.000,9, -999.000,9,-999.0000,9,  -999.00,9,   -999.0,9,  -999.00,9,-999.000,9,   2314.3,2,   2416.2,2,  -999.0, -999.00,-999.0000,-999.000,-999.000
    316N145_10,  I07N,   770,  1,     12,     12,2,19950801,0817,  3.9982,  59.1555, 4570,   -999,   2648.9,   2.0280,  34.7530,2,  34.7534,2,    147.6,2,  1.8331,    147.4,2,   130.76,2,    34.64,2,     0.00,2,     2.51,2, -999.000,9, -999.000,9, -999.000,9,-999.0000,9,  -999.00,9,   -999.0,9,  -999.00,9,-999.000,9,   2311.6,2,   2414.6,2,  -999.0, -999.00,-999.0000,-999.000,-999.000
    316N145_10,  I07N,   770,  1,     11,     11,2,19950801,0817,  3.9982,  59.1555, 4570,   -999,   2847.0,   1.9006,  34.7470,2,  34.7456,2,    153.2,2,  1.6896,    152.6,2,   131.26,2,    34.46,2,     0.00,2,     2.48,2, -999.000,9, -999.000,9, -999.000,9,-999.0000,9,  -999.00,9,   -999.0,9,  -999.00,9,-999.000,9,   2310.7,2,   2417.6,2,  -999.0, -999.00,-999.0000,-999.000,-999.000
    316N145_10,  I07N,   770,  1,     10,     10,2,19950801,0817,  3.9982,  59.1555, 4570,   -999,   3050.7,   1.7685,  34.7401,2,  34.7399,2,    158.4,2,  1.5406,    158.9,2,   131.40,2,    34.18,2,     0.00,2,     2.46,2, -999.000,9, -999.000,9, -999.000,9,-999.0000,9,  -999.00,9,   -999.0,9,  -999.00,9,-999.000,9,   2313.4,2,   2414.2,2,  -999.0, -999.00,-999.0000,-999.000,-999.000
    316N145_10,  I07N,   770,  1,      9,      9,2,19950801,0817,  3.9982,  59.1555, 4570,   -999,   3248.0,   1.7055,  34.7362,2,  34.7358,2,    162.0,2,  1.4596,    162.2,2,   131.72,2,    34.09,2,     0.00,2,     2.46,2, -999.000,9, -999.000,9, -999.000,9,-999.0000,9,  -999.00,9,   -999.0,9,  -999.00,9,-999.000,9,   2306.0,2,   2416.0,2,  -999.0, -999.00,-999.0000,-999.000,-999.000
    316N145_10,  I07N,   770,  1,      8,      8,2,19950801,0817,  3.9982,  59.1555, 4570,   -999,   3447.1,   1.6231,  34.7321,2,  34.7321,2,    165.6,2,  1.3591,    166.5,2,   131.49,2,    33.90,2,     0.00,2,     2.42,2, -999.000,9, -999.000,9, -999.000,9,-999.0000,9,  -999.00,9,   -999.0,9,  -999.00,9,-999.000,9,   2304.3,2,   2412.9,2,  -999.0, -999.00,-999.0000,-999.000,-999.000
    316N145_10,  I07N,   770,  1,      7,      7,2,19950801,0817,  3.9982,  59.1555, 4570,   -999,   3646.6,   1.6011,  34.7304,2,  34.7309,2,    168.3,2,  1.3171,    168.7,2,   131.81,2,    33.81,2,     0.00,2,     2.42,2, -999.000,9, -999.000,9, -999.000,9,-999.0000,9,  -999.00,9,   -999.0,9,  -999.00,9,-999.000,9,   2302.6,2,   2414.5,2,  -999.0, -999.00,-999.0000,-999.000,-999.000
    316N145_10,  I07N,   770,  1,      6,      6,2,19950801,0817,  3.9982,  59.1555, 4570,   -999,   3845.6,   1.5428,  34.7278,2,  34.7264,2,    171.5,2,  1.2392,    172.2,2,   131.95,2,    33.67,2,     0.00,2,     2.40,2, -999.000,9, -999.000,9, -999.000,9,-999.0000,9,  -999.00,9,   -999.0,9,  -999.00,9,-999.000,9,   2300.8,2,   2411.7,2,  -999.0, -999.00,-999.0000,-999.000,-999.000
    316N145_10,  I07N,   770,  1,      5,      5,2,19950801,0817,  3.9982,  59.1555, 4570,   -999,   4043.9,   1.4969,  34.7265,2,  34.7246,2,    174.4,2,  1.1731,    174.9,2,   131.91,2,    33.58,2,     0.00,2,     2.39,2, -999.000,9, -999.000,9, -999.000,9,-999.0000,9,  -999.00,9,   -999.0,9,  -999.00,9,-999.000,9,   2299.6,2,   2410.0,2,  -999.0, -999.00,-999.0000,-999.000,-999.000
    316N145_10,  I07N,   770,  1,      4,      4,2,19950801,0817,  3.9982,  59.1555, 4570,   -999,   4258.5,   1.4656,  34.7234,2,  34.7227,2,    177.3,2,  1.1190,    177.3,2,   131.68,2,    33.44,2,     0.00,2,     2.38,2, -999.000,9, -999.000,9, -999.000,9,-999.0000,9,  -999.00,9,   -999.0,9,  -999.00,9,-999.000,9,   2297.8,2,   2479.6,3,  -999.0, -999.00,-999.0000,-999.000,-999.000
    316N145_10,  I07N,   770,  1,      3,      3,2,19950801,0817,  3.9982,  59.1555, 4570,   -999,   4514.7,   1.4337,  34.7218,2,  34.7203,2,    179.6,2,  1.0590,    179.9,2,   131.81,2,    33.35,2,     0.00,2,     2.36,2, -999.000,9, -999.000,9, -999.000,9,-999.0000,9,  -999.00,9,   -999.0,9,  -999.00,9,-999.000,9,   2295.9,2,   2413.4,2,  -999.0, -999.00,-999.0000,-999.000,-999.000
    316N145_10,  I07N,   770,  1,      2,      2,2,19950801,0817,  3.9982,  59.1555, 4570,   -999,   4616.6,   1.4277,  34.7212,2,  34.7211,2,    181.1,2,  1.0414,    180.9,2,   131.77,2,    33.26,2,     0.00,2,     2.36,2, -999.000,9, -999.000,9, -999.000,9,-999.0000,9,  -999.00,9,   -999.0,9,  -999.00,9,-999.000,9,   2295.7,2,   2410.3,2,  -999.0, -999.00,-999.0000,-999.000,-999.000
    316N145_10,  I07N,   770,  1,      1,      1,2,19950801,0817,  3.9982,  59.1555, 4570,   -999,   4641.6,   1.4287,  34.7211,2,  34.7211,2,    181.1,2,  1.0395,    180.8,2,   131.72,2,    33.26,2,     0.00,2,     2.36,2, -999.000,9, -999.000,9, -999.000,9,-999.0000,9,  -999.00,9,   -999.0,9,  -999.00,9,-999.000,9,   2295.6,2,   2406.3,2,  -999.0, -999.00,-999.0000,-999.000,-999.000