BOTTLE,20080821WHPSIOSCD
EXPOCODE,SECT_ID,STNNBR,CASTNO,SAMPNO,BTLNBR,BTLNBR_FLAG_W,DATE,TIME,LATITUDE,LONGITUDE,DEPTH,CTDRAW,CTDPRS,CTDTMP,CTDSAL,CTDSAL_FLAG_W,SALNTY,SALNTY_FLAG_W,CTDOXY,CTDOXY_FLAG_W,THETA,OXYGEN,OXYGEN_FLAG_W,SILCAT,SILCAT_FLAG_W,NITRAT,NITRAT_FLAG_W,NITRIT,NITRIT_FLAG_W,PHSPHT,PHSPHT_FLAG_W,CFC-11,CFC-11_FLAG_W,CFC-12,CFC-12_FLAG_W,TRITUM,TRITUM_FLAG_W,HELIUM,HELIUM_FLAG_W,DELHE3,DELHE3_FLAG_W,DELC14,DELC14_FLAG_W,DELC13,DELC13_FLAG_W,NEON,NEON_FLAG_W,TCARBN,TCARBN_FLAG_W,ALKALI,ALKALI_FLAG_W,C14ERR,DELHER,HELIER,NEONER,TRITER
,,,,,,,,,,,,,DBAR,ITS-90,PSS-78,,PSS-78,,UMOL/KG,,DEG C,UMOL/KG,,UMOL/KG,,UMOL/KG,,UMOL/KG,,UMOL/KG,,PMOL/KG,,PMOL/KG,,TU,,NMOL/KG,,PERCNT,,/MILLE,,/MILLE,,NMOL/KG,,UMOL/KG,,UMOL/KG,,/MILLE,PERCNT,NMOL/KG,NMOL/KG,TU
    316N145_10,  I07N,   848,  1,     16,     16,2,19950821,0012, 23.4883,  58.8600,  633,   -999,      3.8,  31.2436,  36.8700,2,  36.8514,2,    228.6,2, 31.2428,    189.0,2,     2.58,2,     0.09,2,     0.00,2,     0.25,2,    1.477,2,    0.840,2, -999.000,9,-999.0000,9,  -999.00,9,   -999.0,9,  -999.00,9,-999.000,9,   2017.9,2,   2408.2,2,  -999.0, -999.00,-999.0000,-999.000,-999.000
    316N145_10,  I07N,   848,  1,     15,     15,2,19950821,0012, 23.4883,  58.8600,  633,   -999,     14.3,  25.0336,  36.5471,2,  36.5343,2,    212.0,2, 25.0307,    175.3,2,     4.26,2,     1.78,2,     0.01,2,     0.61,2, -999.000,9, -999.000,9, -999.000,9,-999.0000,9,  -999.00,9,   -999.0,9,  -999.00,9,-999.000,9,   2091.3,2,   2391.8,2,  -999.0, -999.00,-999.0000,-999.000,-999.000
    316N145_10,  I07N,   848,  1,     14,     14,2,19950821,0012, 23.4883,  58.8600,  633,   -999,     29.5,  23.2790,  36.5022,2,  36.4987,2,    100.8,2, 23.2731,     89.3,2,     7.14,2,    14.92,2,     0.17,2,     1.33,2,    1.750,2,    0.981,2, -999.000,9,-999.0000,9,  -999.00,9,   -999.0,9,  -999.00,9,-999.000,9,   2158.0,2,   2383.5,2,  -999.0, -999.00,-999.0000,-999.000,-999.000
    316N145_10,  I07N,   848,  1,     13,     13,2,19950821,0012, 23.4883,  58.8600,  633,   -999,     54.7,  21.5006,  36.2919,2,  36.2907,2,     22.7,2, 21.4901,     21.8,2,    13.41,2,    21.32,2,     0.04,2,     1.94,2, -999.000,9, -999.000,9, -999.000,9,-999.0000,9,  -999.00,9,   -999.0,9,  -999.00,9,-999.000,9,   2212.9,2,   2362.1,2,  -999.0, -999.00,-999.0000,-999.000,-999.000
    316N145_10,  I07N,   848,  1,     12,     12,2,19950821,0012, 23.4883,  58.8600,  633,   -999,     89.9,  20.2460,  36.1793,2,  36.1920,2,      4.5,2, 20.2294,      5.5,2,    17.14,2,    22.43,2,     0.00,2,     2.14,2,    1.183,2,    0.745,2, -999.000,9,-999.0000,9,  -999.00,9,   -999.0,9,  -999.00,9,-999.000,9,   2232.7,2,   2360.0,2,  -999.0, -999.00,-999.0000,-999.000,-999.000
    316N145_10,  I07N,   848,  1,     11,     11,2,19950821,0012, 23.4883,  58.8600,  633,   -999,    115.0,  20.1937,  36.4721,2,  36.4470,2,     13.5,2, 20.1724,     17.1,2,    17.29,2,    20.68,2,     0.00,2,     2.03,2, -999.000,9, -999.000,9, -999.000,9,-999.0000,9,  -999.00,9,   -999.0,9,  -999.00,9,-999.000,9,   2230.5,2,   2367.9,2,  -999.0, -999.00,-999.0000,-999.000,-999.000
    316N145_10,  I07N,   848,  1,     10,     10,2,19950821,0012, 23.4883,  58.8600,  633,   -999,    135.3,  20.2624,  36.8289,2,  36.8401,2,     30.3,2, 20.2372,     33.8,2,    16.93,2,    18.46,2,     0.00,2,     1.85,2,    1.201,2,    3.738,3, -999.000,9,-999.0000,9,  -999.00,9,   -999.0,9,  -999.00,9,-999.000,9,   2224.6,2,   2387.4,2,  -999.0, -999.00,-999.0000,-999.000,-999.000
    316N145_10,  I07N,   848,  1,      9,      9,2,19950821,0012, 23.4883,  58.8600,  633,   -999,    180.5,  20.0482,  37.0024,2,  37.0005,2,     37.5,2, 20.0146,     39.8,2,    16.74,2,    17.73,2,     0.00,2,     1.79,2,    1.191,3,    3.818,3, -999.000,9,-999.0000,9,  -999.00,9,   -999.0,9,  -999.00,9,-999.000,9,   2225.5,2,   2390.5,2,  -999.0, -999.00,-999.0000,-999.000,-999.000
    316N145_10,  I07N,   848,  1,      8,      8,2,19950821,0012, 23.4883,  58.8600,  633,   -999,    219.7,  19.3008,  37.0426,2,  37.0019,2,     36.1,2, 19.2609,     36.7,2,    18.43,2,    18.06,2,     0.00,2,     1.84,2,    1.104,3,    2.763,3, -999.000,9,-999.0000,9,  -999.00,9,   -999.0,9,  -999.00,9,-999.000,9,   2232.7,2,   2397.6,2,  -999.0, -999.00,-999.0000,-999.000,-999.000
    316N145_10,  I07N,   848,  1,      7,      7,2,19950821,0012, 23.4883,  58.8600,  633,   -999,    269.8,  17.4964,  36.7388,2,  36.7585,2,     19.9,2, 17.4506,     23.9,2,    22.84,2,    19.50,2,     0.00,2,     2.05,2,    0.886,3,    1.644,3, -999.000,9,-999.0000,9,  -999.00,9,   -999.0,9,  -999.00,9,-999.000,9,   2249.5,2,   2384.5,2,  -999.0, -999.00,-999.0000,-999.000,-999.000
    316N145_10,  I07N,   848,  1,      6,      6,2,19950821,0012, 23.4883,  58.8600,  633,   -999,    294.9,  17.3404,  36.7451,2,  36.7001,2,     20.9,2, 17.2905,     21.0,2,    24.36,2,    19.87,2,     0.00,2,     2.12,2, -999.000,9, -999.000,9, -999.000,9,-999.0000,9,  -999.00,9,   -999.0,9,  -999.00,9,-999.000,9,   2254.6,2,   2387.8,2,  -999.0, -999.00,-999.0000,-999.000,-999.000
    316N145_10,  I07N,   848,  1,      5,      5,2,19950821,0012, 23.4883,  58.8600,  633,   -999,    350.2,  16.6994,  36.5868,2,  36.5869,2,     15.1,2, 16.6415,     16.9,2,    25.70,2,    20.34,2,     0.00,2,     2.18,2,    0.753,3,    1.177,3, -999.000,9,-999.0000,9,  -999.00,9,   -999.0,9,  -999.00,9,-999.000,9,   2256.6,2,   2376.9,2,  -999.0, -999.00,-999.0000,-999.000,-999.000
    316N145_10,  I07N,   848,  1,      4,      4,2,19950821,0012, 23.4883,  58.8600,  633,   -999,    399.4,  14.2906,  36.0874,2,  36.0816,2,      2.5,2, 14.2313,      3.9,2,    34.89,2,    22.76,2,     0.00,2,     2.47,2,    0.387,2,    0.336,2, -999.000,9,-999.0000,9,  -999.00,9,   -999.0,9,  -999.00,9,-999.000,9,   2273.5,2,   2366.1,2,  -999.0, -999.00,-999.0000,-999.000,-999.000
    316N145_10,  I07N,   848,  1,      3,      3,2,19950821,0012, 23.4883,  58.8600,  633,   -999,    500.1,  13.0885,  35.8621,2,  35.8531,2,      0.8,2, 13.0182,      1.0,2,    41.36,2,    24.21,2,     0.00,2,     2.60,2,    0.213,2,    0.149,2, -999.000,9,-999.0000,9,  -999.00,9,   -999.0,9,  -999.00,9,-999.000,9,   2281.2,2,   2356.3,2,  -999.0, -999.00,-999.0000,-999.000,-999.000
    316N145_10,  I07N,   848,  1,      2,      2,2,19950821,0012, 23.4883,  58.8600,  633,   -999,    600.2,  12.3167,  35.7459,2,  35.7406,2,      0.9,2, 12.2353,      0.8,2,    46.30,2,    25.68,2,     0.02,2,     2.65,2,    0.125,2,    0.085,2, -999.000,9,-999.0000,9,  -999.00,9,   -999.0,9,  -999.00,9,-999.000,9,   2285.0,2,   2360.4,2,  -999.0, -999.00,-999.0000,-999.000,-999.000
    316N145_10,  I07N,   848,  1,      1,      1,2,19950821,0012, 23.4883,  58.8600,  633,   -999,    647.0,  11.9465,  35.6994,2,  35.6990,2,      0.9,2, 11.8603,      0.6,2,    48.68,2,    26.50,2,     0.05,2,     2.70,2, -999.000,9, -999.000,9, -999.000,9,-999.0000,9,  -999.00,9,   -999.0,9,  -999.00,9,-999.000,9,   2287.2,2,   2362.4,2,  -999.0, -999.00,-999.0000,-999.000,-999.000