BOTTLE,20080821WHPSIOSCD
EXPOCODE,SECT_ID,STNNBR,CASTNO,SAMPNO,BTLNBR,BTLNBR_FLAG_W,DATE,TIME,LATITUDE,LONGITUDE,DEPTH,CTDRAW,CTDPRS,CTDTMP,CTDSAL,CTDSAL_FLAG_W,SALNTY,SALNTY_FLAG_W,CTDOXY,CTDOXY_FLAG_W,THETA,OXYGEN,OXYGEN_FLAG_W,SILCAT,SILCAT_FLAG_W,NITRAT,NITRAT_FLAG_W,NITRIT,NITRIT_FLAG_W,PHSPHT,PHSPHT_FLAG_W,CFC-11,CFC-11_FLAG_W,CFC-12,CFC-12_FLAG_W,TRITUM,TRITUM_FLAG_W,HELIUM,HELIUM_FLAG_W,DELHE3,DELHE3_FLAG_W,DELC14,DELC14_FLAG_W,DELC13,DELC13_FLAG_W,NEON,NEON_FLAG_W,TCARBN,TCARBN_FLAG_W,ALKALI,ALKALI_FLAG_W,C14ERR,DELHER,HELIER,NEONER,TRITER
,,,,,,,,,,,,,DBAR,ITS-90,PSS-78,,PSS-78,,UMOL/KG,,DEG C,UMOL/KG,,UMOL/KG,,UMOL/KG,,UMOL/KG,,UMOL/KG,,PMOL/KG,,PMOL/KG,,TU,,NMOL/KG,,PERCNT,,/MILLE,,/MILLE,,NMOL/KG,,UMOL/KG,,UMOL/KG,,/MILLE,PERCNT,NMOL/KG,NMOL/KG,TU
    316N145_10,  I07N,   841,  1,     36,     36,2,19950819,0400, 22.4653,  61.1943, 3199,   -999,      4.6,  25.1897,  36.3089,2,  36.3090,2,    188.4,2, 25.1889,    191.3,2,     3.84,2,     7.63,2,     0.45,2,     0.91,2,    1.814,2,    1.021,2, -999.000,9,-999.0000,9,  -999.00,9,   -999.0,9,  -999.00,9,-999.000,9,   2084.1,2,   2370.2,2,  -999.0, -999.00,-999.0000,-999.000,-999.000
    316N145_10,  I07N,   841,  1,     35,     35,2,19950819,0400, 22.4653,  61.1943, 3199,   -999,     11.2,  25.1837,  36.3089,2,  36.3087,2,    183.2,2, 25.1815,    191.0,2,     4.00,2,     7.63,2,     0.46,2,     0.91,2, -999.000,9, -999.000,9, -999.000,9,-999.0000,9,  -999.00,9,   -999.0,9,  -999.00,9,-999.000,9,   -999.9,5,   2371.3,2,  -999.0, -999.00,-999.0000,-999.000,-999.000
    316N145_10,  I07N,   841,  1,     34,     34,2,19950819,0400, 22.4653,  61.1943, 3199,   -999,     21.1,  24.9455,  36.2794,2,  36.2637,2,    177.1,2, 24.9412,    187.5,2,     4.85,2,     8.83,2,     0.52,2,     1.01,2, -999.000,9, -999.000,9, -999.000,9,-999.0000,9,  -999.00,9,   -999.0,9,  -999.00,9,-999.000,9,   2096.0,2,   2365.9,2,  -999.0, -999.00,-999.0000,-999.000,-999.000
    316N145_10,  I07N,   841,  1,     33,     33,2,19950819,0400, 22.4653,  61.1943, 3199,   -999,     32.0,  23.7246,  36.1094,2,  36.0733,2,    176.4,2, 23.7181,    164.1,2,     8.12,2,    14.07,2,     0.94,2,     1.45,2, -999.000,9, -999.000,9, -999.000,9,-999.0000,9,  -999.00,9,   -999.0,9,  -999.00,9,-999.000,9,   2142.3,2,   2356.4,2,  -999.0, -999.00,-999.0000,-999.000,-999.000
    316N145_10,  I07N,   841,  1,     32,     32,2,19950819,0400, 22.4653,  61.1943, 3199,   -999,     40.8,  22.6619,  36.0165,2,  36.0409,2,    139.0,2, 22.6539,    142.2,2,     9.49,2,    16.13,2,     1.18,2,     1.62,2, -999.000,9, -999.000,9, -999.000,9,-999.0000,9,  -999.00,9,   -999.0,9,  -999.00,9,-999.000,9,   2161.8,2,   2350.6,2,  -999.0, -999.00,-999.0000,-999.000,-999.000
    316N145_10,  I07N,   841,  1,     31,     31,2,19950819,0400, 22.4653,  61.1943, 3199,   -999,     51.1,  23.4408,  36.4041,2,  36.4618,2,    121.2,2, 23.4304,     97.9,2,     6.70,2,    15.15,2,     0.15,2,     1.33,2,    1.724,2,    0.977,2, -999.000,9,-999.0000,9,  -999.00,9,   -999.0,9,  -999.00,9,-999.000,9,   2149.5,2,   2370.0,2,  -999.0, -999.00,-999.0000,-999.000,-999.000
    316N145_10,  I07N,   841,  1,     30,     30,2,19950819,0400, 22.4653,  61.1943, 3199,   -999,     60.9,  23.1556,  36.4790,2,  36.4617,2,     77.7,2, 23.1432,     66.0,2,     7.55,2,    18.03,2,     0.08,2,     1.54,2, -999.000,9, -999.000,9, -999.000,9,-999.0000,9,  -999.00,9,   -999.0,9,  -999.00,9,-999.000,9,   2173.7,2,   2375.6,2,  -999.0, -999.00,-999.0000,-999.000,-999.000
    316N145_10,  I07N,   841,  1,     29,     29,2,19950819,0400, 22.4653,  61.1943, 3199,   -999,     71.6,  22.5770,  36.3961,2,  36.3927,2,     10.0,2, 22.5627,      8.0,2,    10.82,2,    23.55,2,     0.06,2,     2.00,2, -999.000,9, -999.000,9, -999.000,9,-999.0000,9,  -999.00,9,   -999.0,9,  -999.00,9,-999.000,9,   2219.0,2,   2368.6,2,  -999.0, -999.00,-999.0000,-999.000,-999.000
    316N145_10,  I07N,   841,  1,     28,     28,2,19950819,0400, 22.4653,  61.1943, 3199,   -999,    100.1,  21.9047,  36.3658,2,  36.3599,2,      3.7,2, 21.8850,      3.2,2,    13.40,2,    23.30,2,     0.03,2,     2.08,2,    1.433,2,    0.823,2, -999.000,9,-999.0000,9,  -999.00,9,   -999.0,9,  -999.00,9,-999.000,9,   2226.2,2,   2361.3,2,  -999.0, -999.00,-999.0000,-999.000,-999.000
    316N145_10,  I07N,   841,  1,     27,     27,2,19950819,0400, 22.4653,  61.1943, 3199,   -999,    139.8,  21.2182,  36.3353,2,  36.3342,2,      2.1,2, 21.1913,      3.0,2,    15.28,2,    22.90,2,     0.01,2,     2.12,2,    1.316,2,    0.766,2, -999.000,9,-999.0000,9,  -999.00,9,   -999.0,9,  -999.00,9,-999.000,9,   2230.3,2,   2351.3,3,  -999.0, -999.00,-999.0000,-999.000,-999.000
    316N145_10,  I07N,   841,  1,     26,     26,2,19950819,0400, 22.4653,  61.1943, 3199,   -999,    190.2,  19.8627,  36.3385,2,  36.3290,2,      1.9,2, 19.8276,      2.8,2,    18.90,2,    22.07,2,     0.01,2,     2.18,2, -999.000,9, -999.000,9, -999.000,9,-999.0000,9,  -999.00,9,   -999.0,9,  -999.00,9,-999.000,9,   2241.6,2,   2360.7,2,  -999.0, -999.00,-999.0000,-999.000,-999.000
    316N145_10,  I07N,   841,  1,     25,     25,2,19950819,0400, 22.4653,  61.1943, 3199,   -999,    220.4,  19.1039,  36.3311,2,  36.3112,2,      2.2,2, 19.0643,      3.6,2,    20.96,2,    21.69,2,     0.01,2,     2.21,2,    0.923,2,    0.565,2, -999.000,9,-999.0000,9,  -999.00,9,   -999.0,9,  -999.00,9,-999.000,9,   2247.3,2,   2363.4,2,  -999.0, -999.00,-999.0000,-999.000,-999.000
    316N145_10,  I07N,   841,  1,     24,     24,2,19950819,0400, 22.4653,  61.1943, 3199,   -999,    249.6,  17.8530,  36.3178,2,  36.2903,2,      5.9,2, 17.8101,      6.6,2,    23.20,2,    21.38,2,     0.00,2,     2.22,2, -999.000,9, -999.000,9, -999.000,9,-999.0000,9,  -999.00,9,   -999.0,9,  -999.00,9,-999.000,9,   2250.4,2,   2359.7,2,  -999.0, -999.00,-999.0000,-999.000,-999.000
    316N145_10,  I07N,   841,  1,     23,     23,2,19950819,0400, 22.4653,  61.1943, 3199,   -999,    260.1,  17.8405,  36.3911,2,  36.4006,2,     13.3,2, 17.7958,     12.2,2,    22.83,2,    20.81,2,     0.01,2,     2.16,2,    0.831,2,    0.554,2, -999.000,9,-999.0000,9,  -999.00,9,   -999.0,9,  -999.00,9,-999.000,9,   2248.5,2,   2367.8,2,  -999.0, -999.00,-999.0000,-999.000,-999.000
    316N145_10,  I07N,   841,  1,     22,     22,2,19950819,0400, 22.4653,  61.1943, 3199,   -999,    299.0,  16.4405,  36.2058,2,  36.2327,2,      7.3,2, 16.3919,      6.1,2,    25.41,2,    21.99,2,     0.01,2,     2.26,2,    0.685,2,    0.449,2, -999.000,9,-999.0000,9,  -999.00,9,   -999.0,9,  -999.00,9,-999.000,9,   2259.1,2,   2358.6,2,  -999.0, -999.00,-999.0000,-999.000,-999.000
    316N145_10,  I07N,   841,  1,     21,     21,2,19950819,0400, 22.4653,  61.1943, 3199,   -999,    379.6,  14.6553,  35.9936,2,  35.9942,2,      2.4,2, 14.5981,      2.1,2,    31.46,2,    23.94,2,     0.00,2,     2.42,2,    0.434,2,    0.266,2, -999.000,9,-999.0000,9,  -999.00,9,   -999.0,9,  -999.00,9,-999.000,9,   2268.6,2,   2354.7,2,  -999.0, -999.00,-999.0000,-999.000,-999.000
    316N145_10,  I07N,   841,  1,     20,     20,2,19950819,0400, 22.4653,  61.1943, 3199,   -999,    399.6,  14.6442,  36.0686,2,  36.0540,2,      2.5,2, 14.5839,      2.2,2,    32.31,2,    23.46,2,     0.01,2,     2.43,2,    0.427,2,    0.268,2, -999.000,9,-999.0000,9,  -999.00,9,   -999.0,9,  -999.00,9,-999.000,9,   2269.9,2,   2357.7,2,  -999.0, -999.00,-999.0000,-999.000,-999.000
    316N145_10,  I07N,   841,  1,     19,     19,2,19950819,0400, 22.4653,  61.1943, 3199,   -999,    499.8,  13.6741,  35.9493,2,  35.9531,2,      2.5,2, 13.6018,      1.2,2,    37.49,2,    23.66,2,     0.00,2,     2.53,2,    0.283,2,    0.175,2, -999.000,9,-999.0000,9,  -999.00,9,   -999.0,9,  -999.00,9,-999.000,9,   2276.7,2,   2356.1,2,  -999.0, -999.00,-999.0000,-999.000,-999.000
    316N145_10,  I07N,   841,  1,     18,     18,2,19950819,0400, 22.4653,  61.1943, 3199,   -999,    598.5,  12.8427,  35.8104,2,  35.8099,2,      2.6,2, 12.7593,      0.8,2,    42.33,2,    24.90,2,     0.00,2,     2.62,2,    0.171,2,    0.103,2, -999.000,9,-999.0000,9,  -999.00,9,   -999.0,9,  -999.00,9,-999.000,9,   2278.7,2,   2357.4,2,  -999.0, -999.00,-999.0000,-999.000,-999.000
    316N145_10,  I07N,   841,  1,     17,     17,2,19950819,0400, 22.4653,  61.1943, 3199,   -999,    697.4,  11.8908,  35.6814,2,  35.6813,2,      2.7,2, 11.7979,      1.3,2,    48.39,2,    27.79,2,     0.00,2,     2.68,2,    0.093,2,    0.057,2, -999.000,9,-999.0000,9,  -999.00,9,   -999.0,9,  -999.00,9,-999.000,9,   2283.4,2,   2353.0,2,  -999.0, -999.00,-999.0000,-999.000,-999.000
    316N145_10,  I07N,   841,  1,     16,     16,2,19950819,0400, 22.4653,  61.1943, 3199,   -999,    757.4,  11.4225,  35.6390,2,  35.6387,2,      2.8,2, 11.3240,      1.4,2,    52.54,2,    29.22,2,     0.00,2,     2.73,2,    0.067,2,    0.038,2, -999.000,9,-999.0000,9,  -999.00,9,   -999.0,9,  -999.00,9,-999.000,9,   2287.3,2,   2357.1,2,  -999.0, -999.00,-999.0000,-999.000,-999.000
    316N145_10,  I07N,   841,  1,     15,     15,2,19950819,0400, 22.4653,  61.1943, 3199,   -999,    796.7,  11.0003,  35.6050,2,  35.6054,2,      2.8,2, 10.8988,      1.3,2,    56.51,2,    30.55,2,     0.00,2,     2.77,2,    0.046,2,    0.026,2, -999.000,9,-999.0000,9,  -999.00,9,   -999.0,9,  -999.00,9,-999.000,9,   2291.4,2,   2357.2,2,  -999.0, -999.00,-999.0000,-999.000,-999.000
    316N145_10,  I07N,   841,  1,     14,     14,2,19950819,0400, 22.4653,  61.1943, 3199,   -999,    998.9,   9.3254,  35.4563,2,  35.4573,2,      3.4,2,  9.2091,      2.6,2,    71.82,2,    34.82,2,     0.00,2,     2.91,2,    0.022,2,    0.011,2, -999.000,9,-999.0000,9,  -999.00,9,   -999.0,9,  -999.00,9,-999.000,9,   2311.0,2,   2370.0,2,  -999.0, -999.00,-999.0000,-999.000,-999.000
    316N145_10,  I07N,   841,  1,     13,     13,2,19950819,0400, 22.4653,  61.1943, 3199,   -999,   1201.7,   7.8422,  35.2986,2,  35.2988,2,      7.3,2,  7.7138,      6.5,2,    85.13,2,    37.48,2,     0.00,2,     3.03,2,    0.008,2,    0.004,2, -999.000,9,-999.0000,9,  -999.00,9,   -999.0,9,  -999.00,9,-999.000,9,   2328.3,2,   2376.1,2,  -999.0, -999.00,-999.0000,-999.000,-999.000
    316N145_10,  I07N,   841,  1,     12,     12,2,19950819,0400, 22.4653,  61.1943, 3199,   -999,   1401.8,   6.5238,  35.1589,2,  35.1599,2,     19.5,2,  6.3859,     18.2,2,    97.68,2,    38.41,2,     0.00,2,     3.07,2,    0.002,2,    0.000,2, -999.000,9,-999.0000,9,  -999.00,9,   -999.0,9,  -999.00,9,-999.000,9,   2339.4,2,   2390.4,2,  -999.0, -999.00,-999.0000,-999.000,-999.000
    316N145_10,  I07N,   841,  1,     11,     11,2,19950819,0400, 22.4653,  61.1943, 3199,   -999,   1602.4,   5.1616,  35.0252,2,  35.0257,2,     38.7,2,  5.0181,     38.4,2,   112.21,2,    38.52,2,     0.00,2,     3.03,2,   -0.003,2,   -0.002,2, -999.000,9,-999.0000,9,  -999.00,9,   -999.0,9,  -999.00,9,-999.000,9,   2349.2,2,   2401.9,2,  -999.0, -999.00,-999.0000,-999.000,-999.000
    316N145_10,  I07N,   841,  1,     10,     10,2,19950819,0400, 22.4653,  61.1943, 3199,   -999,   1799.4,   4.1217,  34.9300,2,  34.9311,2,     56.2,2,  3.9722,     57.2,2,   123.73,2,    38.33,2,     0.00,2,     2.96,2,    0.001,2,    0.001,2, -999.000,9,-999.0000,9,  -999.00,9,   -999.0,9,  -999.00,9,-999.000,9,   2355.9,2,   2416.6,2,  -999.0, -999.00,-999.0000,-999.000,-999.000
    316N145_10,  I07N,   841,  1,      9,      9,2,19950819,0400, 22.4653,  61.1943, 3199,   -999,   1998.5,   3.3038,  34.8603,2,  34.8598,2,     71.3,2,  3.1472,     75.7,2,   132.86,2,    37.91,2,     0.00,2,     2.87,2,   -0.001,2,   -0.001,2, -999.000,9,-999.0000,9,  -999.00,9,   -999.0,9,  -999.00,9,-999.000,9,   2357.8,2,   2425.7,2,  -999.0, -999.00,-999.0000,-999.000,-999.000
    316N145_10,  I07N,   841,  1,      8,      8,2,19950819,0400, 22.4653,  61.1943, 3199,   -999,   2198.2,   2.8332,  34.8207,2,  34.8192,2,     85.1,2,  2.6655,     89.0,2,   137.77,2,    37.48,2,     0.00,2,     2.80,2,    0.001,2,    0.000,2, -999.000,9,-999.0000,9,  -999.00,9,   -999.0,9,  -999.00,9,-999.000,9,   2357.5,2,   2434.0,2,  -999.0, -999.00,-999.0000,-999.000,-999.000
    316N145_10,  I07N,   841,  1,      7,      7,2,19950819,0400, 22.4653,  61.1943, 3199,   -999,   2324.6,   2.6084,  34.8029,2,  34.8013,2,     91.9,2,  2.4328,     95.8,2,   139.86,2,    37.34,2,     0.00,2,     2.76,2,   -0.002,2,   -0.002,2, -999.000,9,-999.0000,9,  -999.00,9,   -999.0,9,  -999.00,9,-999.000,9,   2356.8,2,   2434.3,2,  -999.0, -999.00,-999.0000,-999.000,-999.000
    316N145_10,  I07N,   841,  1,      6,      6,2,19950819,0400, 22.4653,  61.1943, 3199,   -999,   2452.2,   2.3104,  34.7822,2,  34.7803,2,     97.5,2,  2.1284,    100.5,2,   145.05,2,    37.01,2,     0.00,2,     2.74,2,    0.001,2,    0.003,2, -999.000,9,-999.0000,9,  -999.00,9,   -999.0,9,  -999.00,9,-999.000,9,   2362.0,2,   2446.2,2,  -999.0, -999.00,-999.0000,-999.000,-999.000
    316N145_10,  I07N,   841,  1,      5,      5,2,19950819,0400, 22.4653,  61.1943, 3199,   -999,   2651.0,   2.1057,  34.7666,2,  34.7652,2,    103.1,2,  1.9090,    105.6,2,   148.35,2,    36.87,2,     0.00,2,     2.71,2,    0.001,2,    0.006,2, -999.000,9,-999.0000,9,  -999.00,9,   -999.0,9,  -999.00,9,-999.000,9,   2366.2,2,   2450.3,2,  -999.0, -999.00,-999.0000,-999.000,-999.000
    316N145_10,  I07N,   841,  1,      4,      4,2,19950819,0400, 22.4653,  61.1943, 3199,   -999,   2851.6,   1.9110,  34.7526,2,  34.7518,2,    110.1,2,  1.6993,    110.1,2,   151.29,2,    36.69,2,     0.00,2,     2.69,2,    0.008,2,    0.015,2, -999.000,9,-999.0000,9,  -999.00,9,   -999.0,9,  -999.00,9,-999.000,9,   2369.4,2,   2459.0,2,  -999.0, -999.00,-999.0000,-999.000,-999.000
    316N145_10,  I07N,   841,  1,      3,      3,2,19950819,0400, 22.4653,  61.1943, 3199,   -999,   3048.9,   1.8311,  34.7461,2,  34.7455,2,    113.2,2,  1.6020,    110.5,2,   153.65,2,    36.55,2,     0.00,2,     2.69,2,    0.014,2,    0.036,2, -999.000,9,-999.0000,9,  -999.00,9,   -999.0,9,  -999.00,9,-999.000,9,   2373.8,2,   2460.8,2,  -999.0, -999.00,-999.0000,-999.000,-999.000
    316N145_10,  I07N,   841,  1,      2,      2,2,19950819,0400, 22.4653,  61.1943, 3199,   -999,   3201.1,   1.7830,  34.7427,2,  34.7406,2,    111.7,2,  1.5399,    106.1,2,   156.63,2,    36.22,2,     0.00,2,     2.72,2,    0.027,2,    0.093,2, -999.000,9,-999.0000,9,  -999.00,9,   -999.0,9,  -999.00,9,-999.000,9,   2384.5,2,   2474.3,2,  -999.0, -999.00,-999.0000,-999.000,-999.000
    316N145_10,  I07N,   841,  1,      1,      1,2,19950819,0400, 22.4653,  61.1943, 3199,   -999,   3241.6,   1.7656,  34.7411,2,  34.7398,2,    115.0,2,  1.5189,    110.6,2,   156.21,2,    36.27,2,     0.00,2,     2.69,2,    0.022,2,    0.085,2, -999.000,9,-999.0000,9,  -999.00,9,   -999.0,9,  -999.00,9,-999.000,9,   2379.0,2,   2472.3,2,  -999.0, -999.00,-999.0000,-999.000,-999.000