BOTTLE,20080821WHPSIOSCD
EXPOCODE,SECT_ID,STNNBR,CASTNO,SAMPNO,BTLNBR,BTLNBR_FLAG_W,DATE,TIME,LATITUDE,LONGITUDE,DEPTH,CTDRAW,CTDPRS,CTDTMP,CTDSAL,CTDSAL_FLAG_W,SALNTY,SALNTY_FLAG_W,CTDOXY,CTDOXY_FLAG_W,THETA,OXYGEN,OXYGEN_FLAG_W,SILCAT,SILCAT_FLAG_W,NITRAT,NITRAT_FLAG_W,NITRIT,NITRIT_FLAG_W,PHSPHT,PHSPHT_FLAG_W,CFC-11,CFC-11_FLAG_W,CFC-12,CFC-12_FLAG_W,TRITUM,TRITUM_FLAG_W,HELIUM,HELIUM_FLAG_W,DELHE3,DELHE3_FLAG_W,DELC14,DELC14_FLAG_W,DELC13,DELC13_FLAG_W,NEON,NEON_FLAG_W,TCARBN,TCARBN_FLAG_W,ALKALI,ALKALI_FLAG_W,C14ERR,DELHER,HELIER,NEONER,TRITER
,,,,,,,,,,,,,DBAR,ITS-90,PSS-78,,PSS-78,,UMOL/KG,,DEG C,UMOL/KG,,UMOL/KG,,UMOL/KG,,UMOL/KG,,UMOL/KG,,PMOL/KG,,PMOL/KG,,TU,,NMOL/KG,,PERCNT,,/MILLE,,/MILLE,,NMOL/KG,,UMOL/KG,,UMOL/KG,,/MILLE,PERCNT,NMOL/KG,NMOL/KG,TU
    316N145_10,  I07N,   823,  1,     36,     36,2,19950815,0829, 21.9345,  62.6338, 3165,   -999,      3.5,  26.0588,  36.4961,2,  36.4968,2,    203.6,2, 26.0583,    197.7,2,     4.18,2,     3.20,2,     0.14,2,     0.65,2, -999.000,9, -999.000,9, -999.000,9,-999.0000,9,  -999.00,9,   -999.0,9,  -999.00,9,-999.000,9,   -999.9,5,   2384.6,2,  -999.0, -999.00,-999.0000,-999.000,-999.000
    316N145_10,  I07N,   823,  1,     35,     35,2,19950815,0829, 21.9345,  62.6338, 3165,   -999,     30.6,  25.8612,  36.4886,2,  36.4899,2,    192.9,2, 25.8546,    190.5,2,     4.34,2,     3.46,2,     0.16,2,     0.70,2, -999.000,9, -999.000,9, -999.000,9,-999.0000,9,  -999.00,9,   -999.0,9,  -999.00,9,-999.000,9,   -999.9,9,   -999.9,9,  -999.0, -999.00,-999.0000,-999.000,-999.000
    316N145_10,  I07N,   823,  1,     34,     34,2,19950815,0829, 21.9345,  62.6338, 3165,   -999,     50.9,  23.5707,  36.5424,2,  36.5275,2,    109.9,2, 23.5603,    100.2,2,     7.39,2,    13.51,2,     0.17,2,     1.25,2,    1.765,2,    1.007,2, -999.000,9,-999.0000,9,  -999.00,9,   -999.0,9,  -999.00,9,-999.000,9,   -999.9,9,   -999.9,9,  -999.0, -999.00,-999.0000,-999.000,-999.000
    316N145_10,  I07N,   823,  1,     33,     33,2,19950815,0829, 21.9345,  62.6338, 3165,   -999,     71.0,  22.1101,  36.2800,2,  36.2947,2,     49.3,2, 22.0961,     38.2,2,    11.64,2,    20.90,2,     0.05,2,     1.77,2,    1.550,2,    0.874,2, -999.000,9,-999.0000,9,  -999.00,9,   -999.0,9,  -999.00,9,-999.000,9,   -999.9,9,   -999.9,9,  -999.0, -999.00,-999.0000,-999.000,-999.000
    316N145_10,  I07N,   823,  1,     32,     32,2,19950815,0829, 21.9345,  62.6338, 3165,   -999,     90.7,  21.3633,  36.2555,2,  36.2402,2,     25.6,2, 21.3459,     18.2,2,    14.87,2,    22.00,2,     0.02,2,     1.99,2,    1.391,2,    0.828,2, -999.000,9,-999.0000,9,  -999.00,9,   -999.0,9,  -999.00,9,-999.000,9,   -999.9,9,   -999.9,9,  -999.0, -999.00,-999.0000,-999.000,-999.000
    316N145_10,  I07N,   823,  1,     31,     31,2,19950815,0829, 21.9345,  62.6338, 3165,   -999,    115.5,  19.7310,  36.0888,2,  36.1225,2,      5.1,2, 19.7100,      5.3,2,    18.78,2,    22.76,2,     0.01,2,     2.17,2, -999.000,9, -999.000,9, -999.000,9,-999.0000,9,  -999.00,9,   -999.0,9,  -999.00,9,-999.000,9,   -999.9,9,   -999.9,9,  -999.0, -999.00,-999.0000,-999.000,-999.000
    316N145_10,  I07N,   823,  1,     30,     30,2,19950815,0829, 21.9345,  62.6338, 3165,   -999,    131.2,  18.9127,  36.0123,2,  36.0297,2,      2.3,2, 18.8894,      3.9,2,    20.99,2,    22.47,2,     0.02,2,     2.22,2, -999.000,9, -999.000,9, -999.000,9,-999.0000,9,  -999.00,9,   -999.0,9,  -999.00,9,-999.000,9,   -999.9,9,   -999.9,9,  -999.0, -999.00,-999.0000,-999.000,-999.000
    316N145_10,  I07N,   823,  1,     29,     29,2,19950815,0829, 21.9345,  62.6338, 3165,   -999,    146.3,  18.8480,  36.0979,2,  36.0624,2,      3.6,2, 18.8220,      5.5,2,    21.48,2,    22.11,2,     0.01,2,     2.22,2, -999.000,9, -999.000,9, -999.000,9,-999.0000,9,  -999.00,9,   -999.0,9,  -999.00,9,-999.000,9,   -999.9,9,   -999.9,9,  -999.0, -999.00,-999.0000,-999.000,-999.000
    316N145_10,  I07N,   823,  1,     28,     28,2,19950815,0829, 21.9345,  62.6338, 3165,   -999,    166.1,  18.2545,  36.1402,2,  36.1805,2,      2.9,2, 18.2257,      6.6,2,    22.49,2,    21.59,2,     0.00,2,     2.21,2, -999.000,9, -999.000,9, -999.000,9,-999.0000,9,  -999.00,9,   -999.0,9,  -999.00,9,-999.000,9,   -999.9,9,   -999.9,9,  -999.0, -999.00,-999.0000,-999.000,-999.000
    316N145_10,  I07N,   823,  1,     27,     27,2,19950815,0829, 21.9345,  62.6338, 3165,   -999,    201.9,  17.2060,  36.2023,2,  36.1999,2,      2.1,2, 17.1723,      3.4,2,    24.87,2,    21.83,2,     0.00,2,     2.26,2, -999.000,9, -999.000,9, -999.000,9,-999.0000,9,  -999.00,9,   -999.0,9,  -999.00,9,-999.000,9,   -999.9,9,   -999.9,9,  -999.0, -999.00,-999.0000,-999.000,-999.000
    316N145_10,  I07N,   823,  1,     26,     26,2,19950815,0829, 21.9345,  62.6338, 3165,   -999,    247.0,  16.5782,  36.2405,2,  36.2347,2,      2.0,2, 16.5379,      3.6,2,    26.56,2,    22.01,2,     0.00,2,     2.28,2,    0.655,2,    0.406,2, -999.000,9,-999.0000,9,  -999.00,9,   -999.0,9,  -999.00,9,-999.000,9,   -999.9,9,   -999.9,9,  -999.0, -999.00,-999.0000,-999.000,-999.000
    316N145_10,  I07N,   823,  1,     25,     25,2,19950815,0829, 21.9345,  62.6338, 3165,   -999,    307.9,  15.3996,  36.1107,2,  36.1083,2,      1.2,2, 15.3517,      1.9,2,    29.61,2,    22.80,2,     0.00,2,     2.37,2, -999.000,9, -999.000,9, -999.000,9,-999.0000,9,  -999.00,9,   -999.0,9,  -999.00,9,-999.000,9,   -999.9,9,   -999.9,9,  -999.0, -999.00,-999.0000,-999.000,-999.000
    316N145_10,  I07N,   823,  1,     24,     24,2,19950815,0829, 21.9345,  62.6338, 3165,   -999,    357.1,  14.4868,  36.0143,2,  36.0137,2,      1.3,2, 14.4334,      1.1,2,    33.18,2,    23.32,2,     0.00,2,     2.48,2, -999.000,9, -999.000,9, -999.000,9,-999.0000,9,  -999.00,9,   -999.0,9,  -999.00,9,-999.000,9,   -999.9,9,   -999.9,9,  -999.0, -999.00,-999.0000,-999.000,-999.000
    316N145_10,  I07N,   823,  1,     23,     23,2,19950815,0829, 21.9345,  62.6338, 3165,   -999,    397.4,  13.9799,  35.9578,2,  35.9537,2,      1.3,2, 13.9218,      0.8,2,    35.89,2,    23.15,2,     0.17,2,     2.52,2, -999.000,9, -999.000,9, -999.000,9,-999.0000,9,  -999.00,9,   -999.0,9,  -999.00,9,-999.000,9,   -999.9,9,   -999.9,9,  -999.0, -999.00,-999.0000,-999.000,-999.000
    316N145_10,  I07N,   823,  1,     22,     22,2,19950815,0829, 21.9345,  62.6338, 3165,   -999,    498.6,  12.7267,  35.7842,2,  35.7846,2,      1.5,2, 12.6579,      0.8,2,    42.53,2,    25.10,2,     0.05,2,     2.62,2,    0.159,2,    0.109,2, -999.000,9,-999.0000,9,  -999.00,9,   -999.0,9,  -999.00,9,-999.000,9,   -999.9,9,   -999.9,9,  -999.0, -999.00,-999.0000,-999.000,-999.000
    316N145_10,  I07N,   823,  1,     21,     21,2,19950815,0829, 21.9345,  62.6338, 3165,   -999,    638.0,  11.5057,  35.6446,2,  35.6449,2,      1.6,2, 11.4228,      1.1,2,    51.91,2,    28.52,2,     0.00,2,     2.74,2, -999.000,9, -999.000,9, -999.000,9,-999.0000,9,  -999.00,9,   -999.0,9,  -999.00,9,-999.000,9,   -999.9,9,   -999.9,9,  -999.0, -999.00,-999.0000,-999.000,-999.000
    316N145_10,  I07N,   823,  1,     20,     20,2,19950815,0829, 21.9345,  62.6338, 3165,   -999,    748.4,  10.5448,  35.5633,2,  35.5653,2,      1.8,2, 10.4522,      1.5,2,    60.44,2,    31.63,2,     0.00,2,     2.82,2, -999.000,9, -999.000,9, -999.000,9,-999.0000,9,  -999.00,9,   -999.0,9,  -999.00,9,-999.000,9,   -999.9,9,   -999.9,9,  -999.0, -999.00,-999.0000,-999.000,-999.000
    316N145_10,  I07N,   823,  1,     19,     19,2,19950815,0829, 21.9345,  62.6338, 3165,   -999,    849.8,   9.8696,  35.5096,2,  35.5095,2,      1.9,2,  9.7681,      2.5,2,    66.76,2,    33.71,2,     0.00,2,     2.87,2, -999.000,9, -999.000,9, -999.000,9,-999.0000,9,  -999.00,9,   -999.0,9,  -999.00,9,-999.000,9,   -999.9,9,   -999.9,9,  -999.0, -999.00,-999.0000,-999.000,-999.000
    316N145_10,  I07N,   823,  1,     18,     18,2,19950815,0829, 21.9345,  62.6338, 3165,   -999,    950.5,   9.1249,  35.4377,2,  35.4384,2,      2.2,2,  9.0159,      3.3,2,    73.44,2,    35.33,2,     0.00,2,     2.94,2, -999.000,9, -999.000,9, -999.000,9,-999.0000,9,  -999.00,9,   -999.0,9,  -999.00,9,-999.000,9,   -999.9,9,   -999.9,9,  -999.0, -999.00,-999.0000,-999.000,-999.000
    316N145_10,  I07N,   823,  1,     17,     17,2,19950815,0829, 21.9345,  62.6338, 3165,   -999,   1051.9,   8.3557,  35.3552,2,  35.3555,2,      3.6,2,  8.2404,      4.0,2,    80.15,2,    36.66,2,     0.00,2,     3.00,2, -999.000,9, -999.000,9, -999.000,9,-999.0000,9,  -999.00,9,   -999.0,9,  -999.00,9,-999.000,9,   -999.9,9,   -999.9,9,  -999.0, -999.00,-999.0000,-999.000,-999.000
    316N145_10,  I07N,   823,  1,     16,     16,2,19950815,0829, 21.9345,  62.6338, 3165,   -999,   1151.3,   7.7353,  35.2908,2,  35.2906,2,      7.7,2,  7.6135,      7.7,2,    85.32,2,    37.52,2,     0.00,2,     3.03,2, -999.000,9, -999.000,9, -999.000,9,-999.0000,9,  -999.00,9,   -999.0,9,  -999.00,9,-999.000,9,   -999.9,9,   -999.9,9,  -999.0, -999.00,-999.0000,-999.000,-999.000
    316N145_10,  I07N,   823,  1,     15,     15,2,19950815,0829, 21.9345,  62.6338, 3165,   -999,   1255.1,   6.9405,  35.2026,2,  35.2044,2,     13.4,2,  6.8144,     14.0,2,    92.96,2,    38.24,2,     0.00,2,     3.07,2, -999.000,9, -999.000,9, -999.000,9,-999.0000,9,  -999.00,9,   -999.0,9,  -999.00,9,-999.000,9,   -999.9,9,   -999.9,9,  -999.0, -999.00,-999.0000,-999.000,-999.000
    316N145_10,  I07N,   823,  1,     14,     14,2,19950815,0829, 21.9345,  62.6338, 3165,   -999,   1357.3,   6.2632,  35.1331,2,  35.1346,2,     21.9,2,  6.1327,     22.2,2,    99.95,2,    38.48,2,     0.00,2,     3.07,2, -999.000,9, -999.000,9, -999.000,9,-999.0000,9,  -999.00,9,   -999.0,9,  -999.00,9,-999.000,9,   -999.9,9,   -999.9,9,  -999.0, -999.00,-999.0000,-999.000,-999.000
    316N145_10,  I07N,   823,  1,     13,     13,2,19950815,0829, 21.9345,  62.6338, 3165,   -999,   1451.2,   5.6388,  35.0713,2,  35.0723,2,     31.5,2,  5.5052,     31.1,2,   106.28,2,    38.58,2,     0.00,2,     3.05,2, -999.000,9, -999.000,9, -999.000,9,-999.0000,9,  -999.00,9,   -999.0,9,  -999.00,9,-999.000,9,   -999.9,9,   -999.9,9,  -999.0, -999.00,-999.0000,-999.000,-999.000
    316N145_10,  I07N,   823,  1,     12,     12,2,19950815,0829, 21.9345,  62.6338, 3165,   -999,   1546.1,   4.8873,  35.0013,2,  35.0022,2,     43.2,2,  4.7527,     43.3,2,   114.47,2,    38.48,2,     0.00,2,     3.02,2, -999.000,9, -999.000,9, -999.000,9,-999.0000,9,  -999.00,9,   -999.0,9,  -999.00,9,-999.000,9,   -999.9,9,   -999.9,9,  -999.0, -999.00,-999.0000,-999.000,-999.000
    316N145_10,  I07N,   823,  1,     11,     11,2,19950815,0829, 21.9345,  62.6338, 3165,   -999,   1646.8,   4.4369,  34.9586,2,  34.9603,2,     52.7,2,  4.2979,     51.7,2,   119.14,2,    38.33,2,     0.00,2,     2.99,2, -999.000,9, -999.000,9, -999.000,9,-999.0000,9,  -999.00,9,   -999.0,9,  -999.00,9,-999.000,9,   -999.9,9,   -999.9,9,  -999.0, -999.00,-999.0000,-999.000,-999.000
    316N145_10,  I07N,   823,  1,     10,     10,2,19950815,0829, 21.9345,  62.6338, 3165,   -999,   1741.7,   3.8484,  34.9059,2,  34.9073,2,     65.0,2,  3.7080,     64.1,2,   125.50,2,    38.14,2,     0.00,2,     2.93,2, -999.000,9, -999.000,9, -999.000,9,-999.0000,9,  -999.00,9,   -999.0,9,  -999.00,9,-999.000,9,   -999.9,9,   -999.9,9,  -999.0, -999.00,-999.0000,-999.000,-999.000
    316N145_10,  I07N,   823,  1,      9,      9,2,19950815,0829, 21.9345,  62.6338, 3165,   -999,   1893.5,   3.3709,  34.8658,2,  34.8652,2,     76.0,2,  3.2231,     76.0,2,   130.65,2,    37.85,2,     0.00,2,     2.87,2, -999.000,9, -999.000,9, -999.000,9,-999.0000,9,  -999.00,9,   -999.0,9,  -999.00,9,-999.000,9,   -999.9,9,   -999.9,9,  -999.0, -999.00,-999.0000,-999.000,-999.000
    316N145_10,  I07N,   823,  1,      8,      8,2,19950815,0829, 21.9345,  62.6338, 3165,   -999,   2094.3,   2.8218,  34.8200,2,  34.8197,2,     92.1,2,  2.6638,     90.5,2,   136.61,2,    37.41,2,     0.00,2,     2.80,2,    0.001,2,    0.001,2, -999.000,9,-999.0000,9,  -999.00,9,   -999.0,9,  -999.00,9,-999.000,9,   -999.9,9,   -999.9,9,  -999.0, -999.00,-999.0000,-999.000,-999.000
    316N145_10,  I07N,   823,  1,      7,      7,2,19950815,0829, 21.9345,  62.6338, 3165,   -999,   2299.6,   2.4628,  34.7922,2,  34.7914,2,    102.6,2,  2.2921,    101.4,2,   140.56,2,    36.98,2,     0.00,2,     2.73,2, -999.000,9, -999.000,9, -999.000,9,-999.0000,9,  -999.00,9,   -999.0,9,  -999.00,9,-999.000,9,   -999.9,9,   -999.9,9,  -999.0, -999.00,-999.0000,-999.000,-999.000
    316N145_10,  I07N,   823,  1,      6,      6,2,19950815,0829, 21.9345,  62.6338, 3165,   -999,   2497.2,   2.1755,  34.7719,2,  34.7706,2,    110.0,2,  1.9918,    108.7,2,   144.56,2,    36.79,2,     0.00,2,     2.69,2, -999.000,9, -999.000,9, -999.000,9,-999.0000,9,  -999.00,9,   -999.0,9,  -999.00,9,-999.000,9,   -999.9,9,   -999.9,9,  -999.0, -999.00,-999.0000,-999.000,-999.000
    316N145_10,  I07N,   823,  1,      5,      5,2,19950815,0829, 21.9345,  62.6338, 3165,   -999,   2696.4,   1.9546,  34.7562,2,  34.7555,2,    115.1,2,  1.7566,    114.5,2,   147.43,2,    36.50,2,     0.00,2,     2.66,2, -999.000,9, -999.000,9, -999.000,9,-999.0000,9,  -999.00,9,   -999.0,9,  -999.00,9,-999.000,9,   -999.9,9,   -999.9,9,  -999.0, -999.00,-999.0000,-999.000,-999.000
    316N145_10,  I07N,   823,  1,      4,      4,2,19950815,0829, 21.9345,  62.6338, 3165,   -999,   2899.1,   1.8305,  34.7474,2,  34.7463,2,    118.8,2,  1.6160,    118.5,2,   148.97,2,    36.35,2,     0.00,2,     2.63,2,    0.000,2,    0.004,2, -999.000,9,-999.0000,9,  -999.00,9,   -999.0,9,  -999.00,9,-999.000,9,   -999.9,9,   -999.9,9,  -999.0, -999.00,-999.0000,-999.000,-999.000
    316N145_10,  I07N,   823,  1,      3,      3,2,19950815,0829, 21.9345,  62.6338, 3165,   -999,   3098.6,   1.7561,  34.7419,2,  34.7404,2,    120.1,2,  1.5238,    120.6,2,   150.11,2,    36.35,2,     0.00,2,     2.62,2,    0.004,2,    0.012,2, -999.000,9,-999.0000,9,  -999.00,9,   -999.0,9,  -999.00,9,-999.000,9,   -999.9,9,   -999.9,9,  -999.0, -999.00,-999.0000,-999.000,-999.000
    316N145_10,  I07N,   823,  1,      2,      2,2,19950815,0829, 21.9345,  62.6338, 3165,   -999,   3179.3,   1.7523,  34.7412,2,  34.7398,2,    120.0,2,  1.5121,    120.9,2,   150.29,2,    36.34,2,     0.00,2,     2.62,2, -999.000,9, -999.000,9, -999.000,9,-999.0000,9,  -999.00,9,   -999.0,9,  -999.00,9,-999.000,9,   -999.9,9,   -999.9,9,  -999.0, -999.00,-999.0000,-999.000,-999.000
    316N145_10,  I07N,   823,  1,      1,      1,2,19950815,0829, 21.9345,  62.6338, 3165,   -999,   3207.0,   1.7476,  34.7407,2,  34.7406,2,    120.1,2,  1.5048,    120.7,2,   150.46,2,    36.34,2,     0.00,2,     2.61,2,    0.001,2,    0.015,2, -999.000,9,-999.0000,9,  -999.00,9,   -999.0,9,  -999.00,9,-999.000,9,   -999.9,9,   -999.9,9,  -999.0, -999.00,-999.0000,-999.000,-999.000