BOTTLE,20080821WHPSIOSCD
EXPOCODE,SECT_ID,STNNBR,CASTNO,SAMPNO,BTLNBR,BTLNBR_FLAG_W,DATE,TIME,LATITUDE,LONGITUDE,DEPTH,CTDRAW,CTDPRS,CTDTMP,CTDSAL,CTDSAL_FLAG_W,SALNTY,SALNTY_FLAG_W,CTDOXY,CTDOXY_FLAG_W,THETA,OXYGEN,OXYGEN_FLAG_W,SILCAT,SILCAT_FLAG_W,NITRAT,NITRAT_FLAG_W,NITRIT,NITRIT_FLAG_W,PHSPHT,PHSPHT_FLAG_W,CFC-11,CFC-11_FLAG_W,CFC-12,CFC-12_FLAG_W,TRITUM,TRITUM_FLAG_W,HELIUM,HELIUM_FLAG_W,DELHE3,DELHE3_FLAG_W,DELC14,DELC14_FLAG_W,DELC13,DELC13_FLAG_W,NEON,NEON_FLAG_W,TCARBN,TCARBN_FLAG_W,ALKALI,ALKALI_FLAG_W,C14ERR,DELHER,HELIER,NEONER,TRITER
,,,,,,,,,,,,,DBAR,ITS-90,PSS-78,,PSS-78,,UMOL/KG,,DEG C,UMOL/KG,,UMOL/KG,,UMOL/KG,,UMOL/KG,,UMOL/KG,,PMOL/KG,,PMOL/KG,,TU,,NMOL/KG,,PERCNT,,/MILLE,,/MILLE,,NMOL/KG,,UMOL/KG,,UMOL/KG,,/MILLE,PERCNT,NMOL/KG,NMOL/KG,TU
    316N145_10,  I07N,   805,  1,     36,     36,2,19950810,1550, 18.4355,  59.6983, 3628,   -999,      5.3,  25.8695,  36.0064,2,  36.0066,2,    213.2,2, 25.8685,    216.8,2,     2.51,2,     3.12,2,     0.23,2,     0.71,2,    1.790,2,    0.991,2, -999.000,9,-999.0000,9,  -999.00,9,   -999.0,9,  -999.00,9,-999.000,9,   2036.6,2,   2355.0,2,  -999.0, -999.00,-999.0000,-999.000,-999.000
    316N145_10,  I07N,   805,  1,     35,     35,2,19950810,1550, 18.4355,  59.6983, 3628,   -999,     31.4,  22.6019,  35.8362,2,  35.8045,2,    144.9,2, 22.5958,    136.4,2,    10.78,2,    16.48,2,     2.27,2,     1.67,2, -999.000,9, -999.000,9, -999.000,9,-999.0000,9,  -999.00,9,   -999.0,9,  -999.00,9,-999.000,9,   -999.9,9,   -999.9,9,  -999.0, -999.00,-999.0000,-999.000,-999.000
    316N145_10,  I07N,   805,  1,     34,     34,2,19950810,1550, 18.4355,  59.6983, 3628,   -999,     60.8,  20.2956,  35.7093,2,  35.7063,2,    103.6,2, 20.2844,    104.0,2,    16.03,2,    21.07,2,     0.50,2,     1.83,2, -999.000,9, -999.000,9, -999.000,9,-999.0000,9,  -999.00,9,   -999.0,9,  -999.00,9,-999.000,9,   -999.9,9,   -999.9,9,  -999.0, -999.00,-999.0000,-999.000,-999.000
    316N145_10,  I07N,   805,  1,     33,     33,2,19950810,1550, 18.4355,  59.6983, 3628,   -999,     91.0,  19.5339,  35.7430,2,  35.7258,2,     87.4,2, 19.5175,     69.3,2,    19.40,2,    23.29,2,     0.04,2,     2.03,2, -999.000,9, -999.000,9, -999.000,9,-999.0000,9,  -999.00,9,   -999.0,9,  -999.00,9,-999.000,9,   -999.9,9,   -999.9,9,  -999.0, -999.00,-999.0000,-999.000,-999.000
    316N145_10,  I07N,   805,  1,     32,     32,2,19950810,1550, 18.4355,  59.6983, 3628,   -999,    121.0,  18.2435,  35.7644,2,  35.7680,2,     10.2,2, 18.2226,     10.0,2,    21.26,2,    24.54,2,     0.04,2,     2.20,2,    1.056,2,    0.596,2, -999.000,9,-999.0000,9,  -999.00,9,   -999.0,9,  -999.00,9,-999.000,9,   -999.9,9,   -999.9,9,  -999.0, -999.00,-999.0000,-999.000,-999.000
    316N145_10,  I07N,   805,  1,     31,     31,2,19950810,1550, 18.4355,  59.6983, 3628,   -999,    151.6,  17.3820,  35.8114,2,  35.8126,2,      4.1,2, 17.3567,      6.3,2,    23.49,2,    24.05,2,     0.02,2,     2.27,2,    0.883,2,    0.514,2, -999.000,9,-999.0000,9,  -999.00,9,   -999.0,9,  -999.00,9,-999.000,9,   -999.9,9,   -999.9,9,  -999.0, -999.00,-999.0000,-999.000,-999.000
    316N145_10,  I07N,   805,  1,     30,     30,2,19950810,1550, 18.4355,  59.6983, 3628,   -999,    176.7,  16.6137,  35.8514,2,  35.8556,2,      3.4,2, 16.5851,      5.1,2,    25.16,2,    23.72,2,     0.02,2,     2.29,2,    0.767,2,    0.445,2, -999.000,9,-999.0000,9,  -999.00,9,   -999.0,9,  -999.00,9,-999.000,9,   -999.9,9,   -999.9,9,  -999.0, -999.00,-999.0000,-999.000,-999.000
    316N145_10,  I07N,   805,  1,     29,     29,2,19950810,1550, 18.4355,  59.6983, 3628,   -999,    197.5,  16.0889,  35.8881,2,  35.8946,2,      4.0,2, 16.0575,      5.4,2,    26.26,2,    23.99,2,     0.02,2,     2.30,2,    0.708,2,    0.415,2, -999.000,9,-999.0000,9,  -999.00,9,   -999.0,9,  -999.00,9,-999.000,9,   -999.9,9,   -999.9,9,  -999.0, -999.00,-999.0000,-999.000,-999.000
    316N145_10,  I07N,   805,  1,     28,     28,2,19950810,1550, 18.4355,  59.6983, 3628,   -999,    227.2,  15.7817,  35.9262,2,  35.9282,2,      2.1,2, 15.7459,      4.0,2,    27.55,2,    23.78,2,     0.00,2,     2.33,2,    0.641,2,    0.375,2, -999.000,9,-999.0000,9,  -999.00,9,   -999.0,9,  -999.00,9,-999.000,9,   -999.9,9,   -999.9,9,  -999.0, -999.00,-999.0000,-999.000,-999.000
    316N145_10,  I07N,   805,  1,     27,     27,2,19950810,1550, 18.4355,  59.6983, 3628,   -999,    298.1,  13.9708,  35.7770,2,  35.7759,2,      1.9,2, 13.9275,      0.9,2,    32.79,2,    25.00,2,     0.13,2,     2.47,2, -999.000,9, -999.000,9, -999.000,9,-999.0000,9,  -999.00,9,   -999.0,9,  -999.00,9,-999.000,9,   -999.9,9,   -999.9,9,  -999.0, -999.00,-999.0000,-999.000,-999.000
    316N145_10,  I07N,   805,  1,     26,     26,2,19950810,1550, 18.4355,  59.6983, 3628,   -999,    347.7,  13.5565,  35.7877,2,  35.7964,2,      2.1,2, 13.5069,      2.7,2,    34.64,2,    26.10,2,     0.00,2,     2.49,2,    0.334,2,    0.183,2, -999.000,9,-999.0000,9,  -999.00,9,   -999.0,9,  -999.00,9,-999.000,9,   -999.9,9,   -999.9,9,  -999.0, -999.00,-999.0000,-999.000,-999.000
    316N145_10,  I07N,   805,  1,     25,     25,2,19950810,1550, 18.4355,  59.6983, 3628,   -999,    397.3,  13.0738,  35.7452,2,  35.7496,2,      2.4,2, 13.0183,      2.4,2,    37.24,2,    26.80,2,     0.00,2,     2.54,2,    0.251,2,    0.142,2, -999.000,9,-999.0000,9,  -999.00,9,   -999.0,9,  -999.00,9,-999.000,9,   -999.9,9,   -999.9,9,  -999.0, -999.00,-999.0000,-999.000,-999.000
    316N145_10,  I07N,   805,  1,     24,     24,2,19950810,1550, 18.4355,  59.6983, 3628,   -999,    448.7,  12.5286,  35.6609,2,  35.6621,2,      2.2,2, 12.4675,      2.3,2,    39.66,2,    28.38,2,     0.00,2,     2.59,2,    0.164,2,    0.092,2, -999.000,9,-999.0000,9,  -999.00,9,   -999.0,9,  -999.00,9,-999.000,9,   -999.9,9,   -999.9,9,  -999.0, -999.00,-999.0000,-999.000,-999.000
    316N145_10,  I07N,   805,  1,     23,     23,2,19950810,1550, 18.4355,  59.6983, 3628,   -999,    497.7,  12.2816,  35.6644,2,  35.6643,2,      2.4,2, 12.2146,      3.8,2,    41.88,2,    28.85,2,     0.00,2,     2.60,2, -999.000,9, -999.000,9, -999.000,9,-999.0000,9,  -999.00,9,   -999.0,9,  -999.00,9,-999.000,9,   -999.9,9,   -999.9,9,  -999.0, -999.00,-999.0000,-999.000,-999.000
    316N145_10,  I07N,   805,  1,     22,     22,2,19950810,1550, 18.4355,  59.6983, 3628,   -999,    598.5,  11.7775,  35.6608,2,  35.6611,2,      5.1,2, 11.6986,      5.2,2,    47.30,2,    29.78,2,     0.00,2,     2.65,2,    0.123,2,    0.071,2, -999.000,9,-999.0000,9,  -999.00,9,   -999.0,9,  -999.00,9,-999.000,9,   -999.9,9,   -999.9,9,  -999.0, -999.00,-999.0000,-999.000,-999.000
    316N145_10,  I07N,   805,  1,     21,     21,2,19950810,1550, 18.4355,  59.6983, 3628,   -999,    698.2,  11.2892,  35.6505,2,  35.6505,2,      6.0,2, 11.1993,      6.0,2,    52.71,2,    31.23,2,     0.00,2,     2.69,2,    0.099,2,    0.057,2, -999.000,9,-999.0000,9,  -999.00,9,   -999.0,9,  -999.00,9,-999.000,9,   -999.9,9,   -999.9,9,  -999.0, -999.00,-999.0000,-999.000,-999.000
    316N145_10,  I07N,   805,  1,     20,     20,2,19950810,1550, 18.4355,  59.6983, 3628,   -999,    798.8,  10.6276,  35.6090,2,  35.6097,2,      6.7,2, 10.5280,      6.5,2,    59.25,2,    32.63,2,     0.00,2,     2.75,2, -999.000,9, -999.000,9, -999.000,9,-999.0000,9,  -999.00,9,   -999.0,9,  -999.00,9,-999.000,9,   -999.9,9,   -999.9,9,  -999.0, -999.00,-999.0000,-999.000,-999.000
    316N145_10,  I07N,   805,  1,     19,     19,2,19950810,1550, 18.4355,  59.6983, 3628,   -999,    899.2,   9.9268,  35.5441,2,  35.5433,2,      7.9,2,  9.8187,      8.4,2,    65.79,2,    34.14,2,     0.00,2,     2.82,2,    0.062,2,    0.034,2, -999.000,9,-999.0000,9,  -999.00,9,   -999.0,9,  -999.00,9,-999.000,9,   -999.9,9,   -999.9,9,  -999.0, -999.00,-999.0000,-999.000,-999.000
    316N145_10,  I07N,   805,  1,     18,     18,2,19950810,1550, 18.4355,  59.6983, 3628,   -999,   1000.4,   8.8940,  35.4086,2,  35.4096,2,      6.2,2,  8.7807,      5.6,2,    74.80,2,    36.13,2,     0.00,2,     2.95,2,    0.024,2,    0.012,2, -999.000,9,-999.0000,9,  -999.00,9,   -999.0,9,  -999.00,9,-999.000,9,   -999.9,9,   -999.9,9,  -999.0, -999.00,-999.0000,-999.000,-999.000
    316N145_10,  I07N,   805,  1,     17,     17,2,19950810,1550, 18.4355,  59.6983, 3628,   -999,   1102.3,   8.0910,  35.3225,2,  35.3179,2,      8.9,2,  7.9719,      8.4,2,    81.37,2,    37.32,2,     0.00,2,     3.01,2, -999.000,9, -999.000,9, -999.000,9,-999.0000,9,  -999.00,9,   -999.0,9,  -999.00,9,-999.000,9,   -999.9,9,   -999.9,9,  -999.0, -999.00,-999.0000,-999.000,-999.000
    316N145_10,  I07N,   805,  1,     16,     16,2,19950810,1550, 18.4355,  59.6983, 3628,   -999,   1181.7,   7.4752,  35.2500,2,  35.2508,2,     11.8,2,  7.3523,     11.5,2,    86.63,2,    38.03,2,     0.00,2,     3.05,2,    0.005,2,    0.003,2, -999.000,9,-999.0000,9,  -999.00,9,   -999.0,9,  -999.00,9,-999.000,9,   -999.9,9,   -999.9,9,  -999.0, -999.00,-999.0000,-999.000,-999.000
    316N145_10,  I07N,   805,  1,     15,     15,2,19950810,1550, 18.4355,  59.6983, 3628,   -999,   1302.5,   6.6966,  35.1732,2,  35.1746,2,     22.6,2,  6.5676,     21.2,2,    94.18,2,    38.22,2,     0.00,2,     3.05,2,    0.006,2,    0.003,2, -999.000,9,-999.0000,9,  -999.00,9,   -999.0,9,  -999.00,9,-999.000,9,   -999.9,9,   -999.9,9,  -999.0, -999.00,-999.0000,-999.000,-999.000
    316N145_10,  I07N,   805,  1,     14,     14,2,19950810,1550, 18.4355,  59.6983, 3628,   -999,   1401.9,   6.0194,  35.1022,2,  35.1036,2,     29.4,2,  5.8868,     29.7,2,   100.99,2,    38.41,2,     0.00,2,     3.05,2, -999.000,9, -999.000,9, -999.000,9,-999.0000,9,  -999.00,9,   -999.0,9,  -999.00,9,-999.000,9,   -999.9,9,   -999.9,9,  -999.0, -999.00,-999.0000,-999.000,-999.000
    316N145_10,  I07N,   805,  1,     13,     13,2,19950810,1550, 18.4355,  59.6983, 3628,   -999,   1492.9,   5.4245,  35.0461,2,  35.0466,2,     36.9,2,  5.2890,     38.8,2,   107.08,2,    38.36,2,     0.00,2,     3.03,2,    0.004,2,    0.001,2, -999.000,9,-999.0000,9,  -999.00,9,   -999.0,9,  -999.00,9,-999.000,9,   -999.9,9,   -999.9,9,  -999.0, -999.00,-999.0000,-999.000,-999.000
    316N145_10,  I07N,   805,  1,     12,     12,2,19950810,1550, 18.4355,  59.6983, 3628,   -999,   1694.2,   4.3519,  34.9459,2,  34.9464,2,     59.2,2,  4.2095,     61.0,2,   118.43,2,    37.98,2,     0.00,2,     2.95,2,    0.001,2,    0.001,2, -999.000,9,-999.0000,9,  -999.00,9,   -999.0,9,  -999.00,9,-999.000,9,   -999.9,9,   -999.9,9,  -999.0, -999.00,-999.0000,-999.000,-999.000
    316N145_10,  I07N,   805,  1,     11,     11,2,19950810,1550, 18.4355,  59.6983, 3628,   -999,   1894.5,   3.4982,  34.8723,2,  34.8726,2,     76.4,2,  3.3484,     77.0,2,   127.96,2,    37.69,2,     0.00,2,     2.89,2, -999.000,9, -999.000,9, -999.000,9,-999.0000,9,  -999.00,9,   -999.0,9,  -999.00,9,-999.000,9,   -999.9,9,   -999.9,9,  -999.0, -999.00,-999.0000,-999.000,-999.000
    316N145_10,  I07N,   805,  1,     10,     10,2,19950810,1550, 18.4355,  59.6983, 3628,   -999,   2098.1,   2.9693,  34.8303,2,  34.8303,2,     88.8,2,  2.8087,     89.0,2,   134.44,2,    37.36,2,     0.00,2,     2.83,2, -999.000,9, -999.000,9, -999.000,9,-999.0000,9,  -999.00,9,   -999.0,9,  -999.00,9,-999.000,9,   -999.9,9,   -999.9,9,  -999.0, -999.00,-999.0000,-999.000,-999.000
    316N145_10,  I07N,   805,  1,      9,      9,2,19950810,1550, 18.4355,  59.6983, 3628,   -999,   2291.4,   2.5592,  34.7995,2,  34.7987,2,     99.2,2,  2.3876,     99.2,2,   139.78,2,    36.98,2,     0.00,2,     2.77,2, -999.000,9, -999.000,9, -999.000,9,-999.0000,9,  -999.00,9,   -999.0,9,  -999.00,9,-999.000,9,   -999.9,9,   -999.9,9,  -999.0, -999.00,-999.0000,-999.000,-999.000
    316N145_10,  I07N,   805,  1,      8,      8,2,19950810,1550, 18.4355,  59.6983, 3628,   -999,   2496.9,   2.2278,  34.7761,2,  34.7744,2,    106.3,2,  2.0432,    106.8,2,   144.15,2,    36.74,2,     0.00,2,     2.73,2, -999.000,9, -999.000,9, -999.000,9,-999.0000,9,  -999.00,9,   -999.0,9,  -999.00,9,-999.000,9,   -999.9,9,   -999.9,9,  -999.0, -999.00,-999.0000,-999.000,-999.000
    316N145_10,  I07N,   805,  1,      7,      7,2,19950810,1550, 18.4355,  59.6983, 3628,   -999,   2694.4,   1.9919,  34.7580,2,  34.7591,2,    114.5,2,  1.7935,    113.2,2,   146.94,2,    36.35,2,     0.00,2,     2.69,2, -999.000,9, -999.000,9, -999.000,9,-999.0000,9,  -999.00,9,   -999.0,9,  -999.00,9,-999.000,9,   -999.9,9,   -999.9,9,  -999.0, -999.00,-999.0000,-999.000,-999.000
    316N145_10,  I07N,   805,  1,      6,      6,2,19950810,1550, 18.4355,  59.6983, 3628,   -999,   2896.2,   1.8709,  34.7502,2,  34.7491,2,    117.8,2,  1.6558,    117.3,2,   148.51,2,    36.40,2,     0.00,2,     2.68,2, -999.000,9, -999.000,9, -999.000,9,-999.0000,9,  -999.00,9,   -999.0,9,  -999.00,9,-999.000,9,   -999.9,9,   -999.9,9,  -999.0, -999.00,-999.0000,-999.000,-999.000
    316N145_10,  I07N,   805,  1,      5,      5,2,19950810,1550, 18.4355,  59.6983, 3628,   -999,   3115.5,   1.8036,  34.7445,2,  34.7430,2,    121.3,2,  1.5686,    121.1,2,   149.06,2,    36.25,2,     0.00,2,     2.66,2, -999.000,9, -999.000,9, -999.000,9,-999.0000,9,  -999.00,9,   -999.0,9,  -999.00,9,-999.000,9,   -999.9,9,   -999.9,9,  -999.0, -999.00,-999.0000,-999.000,-999.000
    316N145_10,  I07N,   805,  1,      4,      4,2,19950810,1550, 18.4355,  59.6983, 3628,   -999,   3289.4,   1.7548,  34.7415,2,  34.7402,2,    128.0,2,  1.5035,    127.5,2,   147.57,2,    35.97,2,     0.00,2,     2.62,2, -999.000,9, -999.000,9, -999.000,9,-999.0000,9,  -999.00,9,   -999.0,9,  -999.00,9,-999.000,9,   -999.9,9,   -999.9,9,  -999.0, -999.00,-999.0000,-999.000,-999.000
    316N145_10,  I07N,   805,  1,      3,      3,2,19950810,1550, 18.4355,  59.6983, 3628,   -999,   3544.2,   1.7161,  34.7375,2,  34.7359,2,    132.8,2,  1.4397,    133.0,2,   147.91,2,    35.73,2,     0.00,2,     2.59,2, -999.000,9, -999.000,9, -999.000,9,-999.0000,9,  -999.00,9,   -999.0,9,  -999.00,9,-999.000,9,   -999.9,9,   -999.9,9,  -999.0, -999.00,-999.0000,-999.000,-999.000
    316N145_10,  I07N,   805,  1,      2,      2,2,19950810,1550, 18.4355,  59.6983, 3628,   -999,   3646.8,   1.6876,  34.7357,2,  34.7351,2,    135.7,2,  1.4012,    136.3,2,   147.24,2,    35.63,2,     0.00,2,     2.58,2, -999.000,9, -999.000,9, -999.000,9,-999.0000,9,  -999.00,9,   -999.0,9,  -999.00,9,-999.000,9,   -999.9,9,   -999.9,9,  -999.0, -999.00,-999.0000,-999.000,-999.000
    316N145_10,  I07N,   805,  1,      1,      1,2,19950810,1550, 18.4355,  59.6983, 3628,   -999,   3679.1,   1.6843,  34.7346,2,  34.7339,2,    136.8,2,  1.3946,    137.9,2,   146.77,2,    35.39,2,     0.00,2,     2.57,2, -999.000,9, -999.000,9, -999.000,9,-999.0000,9,  -999.00,9,   -999.0,9,  -999.00,9,-999.000,9,   -999.9,9,   -999.9,9,  -999.0, -999.00,-999.0000,-999.000,-999.000