BOTTLE,20080821WHPSIOSCD
EXPOCODE,SECT_ID,STNNBR,CASTNO,SAMPNO,BTLNBR,BTLNBR_FLAG_W,DATE,TIME,LATITUDE,LONGITUDE,DEPTH,CTDRAW,CTDPRS,CTDTMP,CTDSAL,CTDSAL_FLAG_W,SALNTY,SALNTY_FLAG_W,CTDOXY,CTDOXY_FLAG_W,THETA,OXYGEN,OXYGEN_FLAG_W,SILCAT,SILCAT_FLAG_W,NITRAT,NITRAT_FLAG_W,NITRIT,NITRIT_FLAG_W,PHSPHT,PHSPHT_FLAG_W,CFC-11,CFC-11_FLAG_W,CFC-12,CFC-12_FLAG_W,TRITUM,TRITUM_FLAG_W,HELIUM,HELIUM_FLAG_W,DELHE3,DELHE3_FLAG_W,DELC14,DELC14_FLAG_W,DELC13,DELC13_FLAG_W,NEON,NEON_FLAG_W,TCARBN,TCARBN_FLAG_W,ALKALI,ALKALI_FLAG_W,C14ERR,DELHER,HELIER,NEONER,TRITER
,,,,,,,,,,,,,DBAR,ITS-90,PSS-78,,PSS-78,,UMOL/KG,,DEG C,UMOL/KG,,UMOL/KG,,UMOL/KG,,UMOL/KG,,UMOL/KG,,PMOL/KG,,PMOL/KG,,TU,,NMOL/KG,,PERCNT,,/MILLE,,/MILLE,,NMOL/KG,,UMOL/KG,,UMOL/KG,,/MILLE,PERCNT,NMOL/KG,NMOL/KG,TU
    316N145_10,  I07N,   791,  1,     36,     36,2,19950807,0808, 13.2435,  64.6673, 4107,   -999,      3.1,  27.4414,  36.4753,2,  36.4760,2,    202.6,2, 27.4409,    198.7,2,     1.93,2,     0.04,2,     0.00,2,     0.28,2,    1.676,2,    0.943,2, -999.000,9,-999.0000,9,  -999.00,9,   -999.0,9,  -999.00,9,-999.000,9,   -999.9,5,   2389.2,2,  -999.0, -999.00,-999.0000,-999.000,-999.000
    316N145_10,  I07N,   791,  1,     35,     35,2,19950807,0808, 13.2435,  64.6673, 4107,   -999,     47.0,  27.3001,  36.4619,2,  36.4612,2,    197.0,2, 27.2894,    197.8,2,     1.92,2,     0.08,2,     0.00,2,     0.29,2, -999.000,9, -999.000,9, -999.000,9,-999.0000,9,  -999.00,9,   -999.0,9,  -999.00,9,-999.000,9,   -999.9,9,   -999.9,9,  -999.0, -999.00,-999.0000,-999.000,-999.000
    316N145_10,  I07N,   791,  1,     34,     34,2,19950807,0808, 13.2435,  64.6673, 4107,   -999,     92.2,  27.0572,  36.4360,2,  36.4380,2,    192.6,2, 27.0362,    191.2,2,     2.09,2,     0.53,2,     0.09,2,     0.37,2, -999.000,9, -999.000,9, -999.000,9,-999.0000,9,  -999.00,9,   -999.0,9,  -999.00,9,-999.000,9,   -999.9,9,   -999.9,9,  -999.0, -999.00,-999.0000,-999.000,-999.000
    316N145_10,  I07N,   791,  1,     33,     33,2,19950807,0808, 13.2435,  64.6673, 4107,   -999,    111.8,  24.7272,  36.4866,2,  36.4891,2,    155.8,2, 24.7033,    151.2,2,     3.75,2,     7.29,2,     0.08,2,     0.79,2,    1.828,2,    1.029,2, -999.000,9,-999.0000,9,  -999.00,9,   -999.0,9,  -999.00,9,-999.000,9,   -999.9,9,   -999.9,9,  -999.0, -999.00,-999.0000,-999.000,-999.000
    316N145_10,  I07N,   791,  1,     32,     32,2,19950807,0808, 13.2435,  64.6673, 4107,   -999,    126.5,  24.4950,  36.4840,2,  36.4796,2,    147.3,2, 24.4681,    142.0,2,     4.48,2,     9.01,2,     0.04,2,     0.90,2,    1.815,2,    0.998,2, -999.000,9,-999.0000,9,  -999.00,9,   -999.0,9,  -999.00,9,-999.000,9,   -999.9,9,   -999.9,9,  -999.0, -999.00,-999.0000,-999.000,-999.000
    316N145_10,  I07N,   791,  1,     31,     31,2,19950807,0808, 13.2435,  64.6673, 4107,   -999,    151.6,  21.9264,  36.0834,2,  36.0614,2,     46.7,2, 21.8965,     29.6,2,    12.47,2,    21.98,2,     0.03,2,     1.83,2,    1.456,2,    0.813,2, -999.000,9,-999.0000,9,  -999.00,9,   -999.0,9,  -999.00,9,-999.000,9,   -999.9,9,   -999.9,9,  -999.0, -999.00,-999.0000,-999.000,-999.000
    316N145_10,  I07N,   791,  1,     30,     30,2,19950807,0808, 13.2435,  64.6673, 4107,   -999,    177.1,  19.5674,  35.8668,2,  35.8530,2,      1.6,2, 19.5352,      1.8,2,    18.60,2,    23.77,2,     0.02,2,     2.23,2,    1.104,2,    0.640,2, -999.000,9,-999.0000,9,  -999.00,9,   -999.0,9,  -999.00,9,-999.000,9,   -999.9,9,   -999.9,9,  -999.0, -999.00,-999.0000,-999.000,-999.000
    316N145_10,  I07N,   791,  1,     29,     29,2,19950807,0808, 13.2435,  64.6673, 4107,   -999,    201.3,  17.4972,  35.6838,2,  35.6830,2,      1.3,2, 17.4634,      1.0,2,    23.79,2,    16.81,2,     4.70,2,     2.34,2,    0.682,2,    0.427,2, -999.000,9,-999.0000,9,  -999.00,9,   -999.0,9,  -999.00,9,-999.000,9,   -999.9,9,   -999.9,9,  -999.0, -999.00,-999.0000,-999.000,-999.000
    316N145_10,  I07N,   791,  1,     28,     28,2,19950807,0808, 13.2435,  64.6673, 4107,   -999,    241.9,  15.4845,  35.6750,2,  35.6881,2,      1.4,2, 15.4470,      2.0,2,    28.05,2,    19.10,2,     3.05,2,     2.39,2, -999.000,9, -999.000,9, -999.000,9,-999.0000,9,  -999.00,9,   -999.0,9,  -999.00,9,-999.000,9,   -999.9,9,   -999.9,9,  -999.0, -999.00,-999.0000,-999.000,-999.000
    316N145_10,  I07N,   791,  1,     27,     27,2,19950807,0808, 13.2435,  64.6673, 4107,   -999,    283.0,  14.6408,  35.7422,2,  35.7388,2,      1.5,2, 14.5985,      1.8,2,    29.88,2,    21.63,2,     2.07,2,     2.40,2,    0.389,2,    0.246,2, -999.000,9,-999.0000,9,  -999.00,9,   -999.0,9,  -999.00,9,-999.000,9,   -999.9,9,   -999.9,9,  -999.0, -999.00,-999.0000,-999.000,-999.000
    316N145_10,  I07N,   791,  1,     26,     26,2,19950807,0808, 13.2435,  64.6673, 4107,   -999,    357.5,  12.7174,  35.5267,2,  35.5265,2,      1.6,2, 12.6685,      1.0,2,    34.89,2,    26.91,2,     1.02,2,     2.51,2,    0.156,2,    0.105,2, -999.000,9,-999.0000,9,  -999.00,9,   -999.0,9,  -999.00,9,-999.000,9,   -999.9,9,   -999.9,9,  -999.0, -999.00,-999.0000,-999.000,-999.000
    316N145_10,  I07N,   791,  1,     25,     25,2,19950807,0808, 13.2435,  64.6673, 4107,   -999,    478.4,  11.8859,  35.5178,2,  35.5184,2,      1.8,2, 11.8229,      1.6,2,    41.75,2,    30.01,2,     0.00,2,     2.63,2,    0.074,2,    0.049,2, -999.000,9,-999.0000,9,  -999.00,9,   -999.0,9,  -999.00,9,-999.000,9,   -999.9,9,   -999.9,9,  -999.0, -999.00,-999.0000,-999.000,-999.000
    316N145_10,  I07N,   791,  1,     24,     24,2,19950807,0808, 13.2435,  64.6673, 4107,   -999,    553.7,  11.3599,  35.5124,2,  35.5121,2,      1.9,2, 11.2889,      2.5,2,    47.30,2,    30.93,2,     0.00,2,     2.70,2, -999.000,9, -999.000,9, -999.000,9,-999.0000,9,  -999.00,9,   -999.0,9,  -999.00,9,-999.000,9,   -999.9,9,   -999.9,9,  -999.0, -999.00,-999.0000,-999.000,-999.000
    316N145_10,  I07N,   791,  1,     23,     23,2,19950807,0808, 13.2435,  64.6673, 4107,   -999,    649.6,  10.5786,  35.4553,2,  35.4552,2,      4.1,2, 10.4985,      4.8,2,    54.35,2,    33.07,2,     0.00,2,     2.75,2,    0.034,2,    0.026,2, -999.000,9,-999.0000,9,  -999.00,9,   -999.0,9,  -999.00,9,-999.000,9,   -999.9,9,   -999.9,9,  -999.0, -999.00,-999.0000,-999.000,-999.000
    316N145_10,  I07N,   791,  1,     22,     22,2,19950807,0808, 13.2435,  64.6673, 4107,   -999,    749.6,  10.1311,  35.4677,2,  35.4674,2,      6.0,2, 10.0406,      6.6,2,    59.90,2,    34.05,2,     0.00,2,     2.78,2, -999.000,9, -999.000,9, -999.000,9,-999.0000,9,  -999.00,9,   -999.0,9,  -999.00,9,-999.000,9,   -999.9,9,   -999.9,9,  -999.0, -999.00,-999.0000,-999.000,-999.000
    316N145_10,  I07N,   791,  1,     21,     21,2,19950807,0808, 13.2435,  64.6673, 4107,   -999,    850.3,   9.5009,  35.4257,2,  35.4264,2,      9.5,2,  9.4016,      9.7,2,    66.02,2,    35.03,2,     0.00,2,     2.81,2,    0.031,2,    0.017,2, -999.000,9,-999.0000,9,  -999.00,9,   -999.0,9,  -999.00,9,-999.000,9,   -999.9,9,   -999.9,9,  -999.0, -999.00,-999.0000,-999.000,-999.000
    316N145_10,  I07N,   791,  1,     20,     20,2,19950807,0808, 13.2435,  64.6673, 4107,   -999,    950.1,   8.7212,  35.3523,2,  35.3520,2,     13.8,2,  8.6151,     14.2,2,    72.52,2,    35.92,2,     0.00,2,     2.85,2,    0.024,2,    0.013,2, -999.000,9,-999.0000,9,  -999.00,9,   -999.0,9,  -999.00,9,-999.000,9,   -999.9,9,   -999.9,9,  -999.0, -999.00,-999.0000,-999.000,-999.000
    316N145_10,  I07N,   791,  1,     19,     19,2,19950807,0808, 13.2435,  64.6673, 4107,   -999,   1151.7,   7.3240,  35.2152,2,  35.2151,2,     24.7,2,  7.2058,     25.2,2,    84.66,2,    37.05,2,     0.00,2,     2.91,2,    0.009,2,    0.003,2, -999.000,9,-999.0000,9,  -999.00,9,   -999.0,9,  -999.00,9,-999.000,9,   -999.9,9,   -999.9,9,  -999.0, -999.00,-999.0000,-999.000,-999.000
    316N145_10,  I07N,   791,  1,     18,     18,2,19950807,0808, 13.2435,  64.6673, 4107,   -999,   1354.8,   5.8557,  35.0628,2,  35.0645,2,     40.2,2,  5.7297,     41.0,2,    98.57,2,    37.62,2,     0.00,2,     2.94,2, -999.000,9, -999.000,9, -999.000,9,-999.0000,9,  -999.00,9,   -999.0,9,  -999.00,9,-999.000,9,   -999.9,9,   -999.9,9,  -999.0, -999.00,-999.0000,-999.000,-999.000
    316N145_10,  I07N,   791,  1,     17,     17,2,19950807,0808, 13.2435,  64.6673, 4107,   -999,   1501.3,   5.0286,  34.9945,2,  34.9935,2,     54.4,2,  4.8968,     54.1,2,   107.65,2,    37.57,2,     0.00,2,     2.91,2,   -0.001,2,    0.001,2, -999.000,9,-999.0000,9,  -999.00,9,   -999.0,9,  -999.00,9,-999.000,9,   -999.9,9,   -999.9,9,  -999.0, -999.00,-999.0000,-999.000,-999.000
    316N145_10,  I07N,   791,  1,     16,     16,2,19950807,0808, 13.2435,  64.6673, 4107,   -999,   1601.7,   4.4651,  34.9451,2,  34.9463,2,     63.8,2,  4.3301,     64.0,2,   113.92,2,    37.43,2,     0.00,2,     2.89,2,   -0.002,2,   -0.004,2, -999.000,9,-999.0000,9,  -999.00,9,   -999.0,9,  -999.00,9,-999.000,9,   -999.9,9,   -999.9,9,  -999.0, -999.00,-999.0000,-999.000,-999.000
    316N145_10,  I07N,   791,  1,     15,     15,2,19950807,0808, 13.2435,  64.6673, 4107,   -999,   1804.4,   3.6190,  34.8729,2,  34.8744,2,     84.9,2,  3.4759,     83.7,2,   122.75,2,    37.01,2,     0.00,2,     2.82,2, -999.000,9, -999.000,9, -999.000,9,-999.0000,9,  -999.00,9,   -999.0,9,  -999.00,9,-999.000,9,   -999.9,9,   -999.9,9,  -999.0, -999.00,-999.0000,-999.000,-999.000
    316N145_10,  I07N,   791,  1,     14,     14,2,19950807,0808, 13.2435,  64.6673, 4107,   -999,   2004.8,   2.9873,  34.8251,2,  34.8253,2,    100.9,2,  2.8350,    100.3,2,   129.14,2,    36.54,2,     0.00,2,     2.75,2, -999.000,9, -999.000,9, -999.000,9,-999.0000,9,  -999.00,9,   -999.0,9,  -999.00,9,-999.000,9,   -999.9,9,   -999.9,9,  -999.0, -999.00,-999.0000,-999.000,-999.000
    316N145_10,  I07N,   791,  1,     13,     13,2,19950807,0808, 13.2435,  64.6673, 4107,   -999,   2202.7,   2.5802,  34.7954,2,  34.7963,2,    114.4,2,  2.4163,    113.6,2,   132.63,2,    36.08,2,     0.00,2,     2.68,2, -999.000,9, -999.000,9, -999.000,9,-999.0000,9,  -999.00,9,   -999.0,9,  -999.00,9,-999.000,9,   -999.9,9,   -999.9,9,  -999.0, -999.00,-999.0000,-999.000,-999.000
    316N145_10,  I07N,   791,  1,     12,     12,2,19950807,0808, 13.2435,  64.6673, 4107,   -999,   2396.9,   2.2914,  34.7772,2,  34.7772,2,    121.6,2,  2.1148,    120.1,2,   136.53,2,    35.84,2,     0.00,2,     2.65,2, -999.000,9, -999.000,9, -999.000,9,-999.0000,9,  -999.00,9,   -999.0,9,  -999.00,9,-999.000,9,   -999.9,9,   -999.9,9,  -999.0, -999.00,-999.0000,-999.000,-999.000
    316N145_10,  I07N,   791,  1,     11,     11,2,19950807,0808, 13.2435,  64.6673, 4107,   -999,   2595.7,   2.0668,  34.7619,2,  34.7623,2,    127.4,2,  1.8761,    126.1,2,   138.86,2,    35.70,2,     0.00,2,     2.62,2, -999.000,9, -999.000,9, -999.000,9,-999.0000,9,  -999.00,9,   -999.0,9,  -999.00,9,-999.000,9,   -999.9,9,   -999.9,9,  -999.0, -999.00,-999.0000,-999.000,-999.000
    316N145_10,  I07N,   791,  1,     10,     10,2,19950807,0808, 13.2435,  64.6673, 4107,   -999,   2798.0,   1.8989,  34.7510,2,  34.7499,2,    136.4,2,  1.6925,    135.4,2,   139.00,2,    35.37,2,     0.00,2,     2.58,2, -999.000,9, -999.000,9, -999.000,9,-999.0000,9,  -999.00,9,   -999.0,9,  -999.00,9,-999.000,9,   -999.9,9,   -999.9,9,  -999.0, -999.00,-999.0000,-999.000,-999.000
    316N145_10,  I07N,   791,  1,      9,      9,2,19950807,0808, 13.2435,  64.6673, 4107,   -999,   2999.0,   1.7877,  34.7435,2,  34.7426,2,    138.6,2,  1.5645,    138.7,2,   140.74,2,    35.33,2,     0.00,2,     2.56,2, -999.000,9, -999.000,9, -999.000,9,-999.0000,9,  -999.00,9,   -999.0,9,  -999.00,9,-999.000,9,   -999.9,9,   -999.9,9,  -999.0, -999.00,-999.0000,-999.000,-999.000
    316N145_10,  I07N,   791,  1,      8,      8,2,19950807,0808, 13.2435,  64.6673, 4107,   -999,   3201.5,   1.7455,  34.7403,2,  34.7399,2,    141.1,2,  1.5033,    140.7,2,   141.29,2,    35.23,2,     0.00,2,     2.55,2, -999.000,9, -999.000,9, -999.000,9,-999.0000,9,  -999.00,9,   -999.0,9,  -999.00,9,-999.000,9,   -999.9,9,   -999.9,9,  -999.0, -999.00,-999.0000,-999.000,-999.000
    316N145_10,  I07N,   791,  1,      7,      7,2,19950807,0808, 13.2435,  64.6673, 4107,   -999,   3400.4,   1.7157,  34.7383,2,  34.7375,2,    146.7,2,  1.4542,    146.8,2,   139.43,2,    34.91,2,     0.00,2,     2.51,2, -999.000,9, -999.000,9, -999.000,9,-999.0000,9,  -999.00,9,   -999.0,9,  -999.00,9,-999.000,9,   -999.9,9,   -999.9,9,  -999.0, -999.00,-999.0000,-999.000,-999.000
    316N145_10,  I07N,   791,  1,      6,      6,2,19950807,0808, 13.2435,  64.6673, 4107,   -999,   3605.4,   1.7015,  34.7376,2,  34.7351,2,    149.7,2,  1.4191,    150.6,2,   138.38,2,    34.72,2,     0.00,2,     2.49,2,    0.000,2,    0.000,2, -999.000,9,-999.0000,9,  -999.00,9,   -999.0,9,  -999.00,9,-999.000,9,   -999.9,9,   -999.9,9,  -999.0, -999.00,-999.0000,-999.000,-999.000
    316N145_10,  I07N,   791,  1,      5,      5,2,19950807,0808, 13.2435,  64.6673, 4107,   -999,   3707.8,   1.6976,  34.7364,2,  34.7359,2,    151.5,2,  1.4045,    151.1,2,   138.52,2,    34.77,2,     0.00,2,     2.49,2, -999.000,9, -999.000,9, -999.000,9,-999.0000,9,  -999.00,9,   -999.0,9,  -999.00,9,-999.000,9,   -999.9,9,   -999.9,9,  -999.0, -999.00,-999.0000,-999.000,-999.000
    316N145_10,  I07N,   791,  1,      4,      4,2,19950807,0808, 13.2435,  64.6673, 4107,   -999,   3799.3,   1.6928,  34.7353,2,  34.7347,2,    151.1,2,  1.3901,    151.0,2,   138.47,2,    34.77,2,     0.00,2,     2.49,2, -999.000,9, -999.000,9, -999.000,9,-999.0000,9,  -999.00,9,   -999.0,9,  -999.00,9,-999.000,9,   -999.9,9,   -999.9,9,  -999.0, -999.00,-999.0000,-999.000,-999.000
    316N145_10,  I07N,   791,  1,      3,      3,2,19950807,0808, 13.2435,  64.6673, 4107,   -999,   3993.1,   1.6940,  34.7347,2,  34.7329,2,    148.0,2,  1.3702,    146.9,2,   140.40,2,    35.14,2,     0.00,2,     2.51,2, -999.000,9, -999.000,9, -999.000,9,-999.0000,9,  -999.00,9,   -999.0,9,  -999.00,9,-999.000,9,   -999.9,9,   -999.9,9,  -999.0, -999.00,-999.0000,-999.000,-999.000
    316N145_10,  I07N,   791,  1,      2,      2,2,19950807,0808, 13.2435,  64.6673, 4107,   -999,   4131.4,   1.7077,  34.7349,2,  34.7333,2,    141.2,2,  1.3682,    141.0,2,   142.94,2,    35.56,2,     0.00,2,     2.54,2, -999.000,9, -999.000,9, -999.000,9,-999.0000,9,  -999.00,9,   -999.0,9,  -999.00,9,-999.000,9,   -999.9,9,   -999.9,9,  -999.0, -999.00,-999.0000,-999.000,-999.000
    316N145_10,  I07N,   791,  1,      1,      1,2,19950807,0808, 13.2435,  64.6673, 4107,   -999,   4165.3,   1.7116,  34.7348,2,  34.7341,2,    139.6,2,  1.3682,    141.0,2,   142.88,2,    35.52,2,     0.00,2,     2.54,2, -999.000,9, -999.000,9, -999.000,9,-999.0000,9,  -999.00,9,   -999.0,9,  -999.00,9,-999.000,9,   -999.9,9,   -999.9,9,  -999.0, -999.00,-999.0000,-999.000,-999.000