BOTTLE,20080821WHPSIOSCD
EXPOCODE,SECT_ID,STNNBR,CASTNO,SAMPNO,BTLNBR,BTLNBR_FLAG_W,DATE,TIME,LATITUDE,LONGITUDE,DEPTH,CTDRAW,CTDPRS,CTDTMP,CTDSAL,CTDSAL_FLAG_W,SALNTY,SALNTY_FLAG_W,CTDOXY,CTDOXY_FLAG_W,THETA,OXYGEN,OXYGEN_FLAG_W,SILCAT,SILCAT_FLAG_W,NITRAT,NITRAT_FLAG_W,NITRIT,NITRIT_FLAG_W,PHSPHT,PHSPHT_FLAG_W,CFC-11,CFC-11_FLAG_W,CFC-12,CFC-12_FLAG_W,TRITUM,TRITUM_FLAG_W,HELIUM,HELIUM_FLAG_W,DELHE3,DELHE3_FLAG_W,DELC14,DELC14_FLAG_W,DELC13,DELC13_FLAG_W,NEON,NEON_FLAG_W,TCARBN,TCARBN_FLAG_W,ALKALI,ALKALI_FLAG_W,C14ERR,DELHER,HELIER,NEONER,TRITER
,,,,,,,,,,,,,DBAR,ITS-90,PSS-78,,PSS-78,,UMOL/KG,,DEG C,UMOL/KG,,UMOL/KG,,UMOL/KG,,UMOL/KG,,UMOL/KG,,PMOL/KG,,PMOL/KG,,TU,,NMOL/KG,,PERCNT,,/MILLE,,/MILLE,,NMOL/KG,,UMOL/KG,,UMOL/KG,,/MILLE,PERCNT,NMOL/KG,NMOL/KG,TU
    316N145_10,  I07N,   802,  1,     36,     36,2,19950809,2303, 17.4572,  61.0595, 3893,   -999,      9.5,  24.8846,  35.7884,2,  35.7907,2,    219.9,2, 24.8828,    213.0,2,     3.13,2,    10.35,2,     0.44,2,     1.08,2,    1.850,2,    1.021,2, -999.000,9,-999.0000,9,  -999.00,9,   -999.0,9,  -999.00,9,-999.000,9,   2078.3,2,   2322.1,3,  -999.0, -999.00,-999.0000,-999.000,-999.000
    316N145_10,  I07N,   802,  1,     35,     35,2,19950809,2303, 17.4572,  61.0595, 3893,   -999,     25.3,  24.8839,  35.7982,2,  35.8053,2,    206.9,2, 24.8786,    208.5,2,     3.42,2,    10.35,2,     0.48,2,     1.09,2, -999.000,9, -999.000,9, -999.000,9,-999.0000,9,  -999.00,9,   -999.0,9,  -999.00,9,-999.000,9,   2080.1,2,   2337.9,2,  -999.0, -999.00,-999.0000,-999.000,-999.000
    316N145_10,  I07N,   802,  1,     34,     34,2,19950809,2303, 17.4572,  61.0595, 3893,   -999,     36.0,  24.4795,  35.9863,2,  35.9947,2,    173.9,2, 24.4720,    175.5,2,     5.37,2,    10.45,2,     0.94,2,     1.09,2, -999.000,9, -999.000,9, -999.000,9,-999.0000,9,  -999.00,9,   -999.0,9,  -999.00,9,-999.000,9,   2094.2,2,   2348.6,2,  -999.0, -999.00,-999.0000,-999.000,-999.000
    316N145_10,  I07N,   802,  1,     33,     33,2,19950809,2303, 17.4572,  61.0595, 3893,   -999,     51.0,  22.4280,  35.8181,2,  35.8189,2,    146.2,2, 22.4179,    133.5,2,    10.45,2,    16.80,2,     1.14,2,     1.54,2,    1.732,2,    0.973,2, -999.000,9,-999.0000,9,  -999.00,9,   -999.0,9,  -999.00,9,-999.000,9,   2146.8,2,   2335.7,2,  -999.0, -999.00,-999.0000,-999.000,-999.000
    316N145_10,  I07N,   802,  1,     32,     32,2,19950809,2303, 17.4572,  61.0595, 3893,   -999,     74.8,  20.8371,  35.7888,2,  35.7911,2,     61.9,2, 20.8230,     61.4,2,    13.48,2,    21.00,2,     0.06,2,     1.78,2, -999.000,9, -999.000,9, -999.000,9,-999.0000,9,  -999.00,9,   -999.0,9,  -999.00,9,-999.000,9,   2178.6,2,   2335.2,2,  -999.0, -999.00,-999.0000,-999.000,-999.000
    316N145_10,  I07N,   802,  1,     31,     31,2,19950809,2303, 17.4572,  61.0595, 3893,   -999,     99.9,  19.3734,  35.7924,2,  35.7914,2,     18.1,2, 19.3554,     17.9,2,    17.38,2,    24.02,2,     0.03,2,     2.12,2, -999.000,9, -999.000,9, -999.000,9,-999.0000,9,  -999.00,9,   -999.0,9,  -999.00,9,-999.000,9,   2215.2,2,   2335.8,2,  -999.0, -999.00,-999.0000,-999.000,-999.000
    316N145_10,  I07N,   802,  1,     30,     30,2,19950809,2303, 17.4572,  61.0595, 3893,   -999,    134.6,  17.9063,  35.7423,2,  35.7435,2,      4.3,2, 17.8834,      3.7,2,    21.39,2,    24.22,2,     0.00,2,     2.29,2,    0.914,2,    0.522,2, -999.000,9,-999.0000,9,  -999.00,9,   -999.0,9,  -999.00,9,-999.000,9,   2234.2,2,   2338.1,2,  -999.0, -999.00,-999.0000,-999.000,-999.000
    316N145_10,  I07N,   802,  1,     29,     29,2,19950809,2303, 17.4572,  61.0595, 3893,   -999,    170.4,  17.1796,  35.8479,2,  35.8441,2,      1.5,2, 17.1513,      2.3,2,    24.12,2,    22.95,2,     0.00,2,     2.32,2, -999.000,9, -999.000,9, -999.000,9,-999.0000,9,  -999.00,9,   -999.0,9,  -999.00,9,-999.000,9,   2245.4,2,   2344.4,2,  -999.0, -999.00,-999.0000,-999.000,-999.000
    316N145_10,  I07N,   802,  1,     28,     28,2,19950809,2303, 17.4572,  61.0595, 3893,   -999,    204.2,  16.2939,  35.8521,2,  35.8608,2,      2.1,2, 16.2611,      3.4,2,    25.88,2,    23.24,2,     0.00,2,     2.33,2,    0.647,2,    0.376,2, -999.000,9,-999.0000,9,  -999.00,9,   -999.0,9,  -999.00,9,-999.000,9,   2253.0,2,   2347.4,2,  -999.0, -999.00,-999.0000,-999.000,-999.000
    316N145_10,  I07N,   802,  1,     27,     27,2,19950809,2303, 17.4572,  61.0595, 3893,   -999,    265.3,  14.9711,  35.8089,2,  35.8070,2,      2.1,2, 14.9308,      1.2,2,    28.71,2,    23.93,2,     0.00,2,     2.39,2,    0.465,2,    0.280,2, -999.000,9,-999.0000,9,  -999.00,9,   -999.0,9,  -999.00,9,-999.000,9,   2262.2,2,   2343.1,2,  -999.0, -999.00,-999.0000,-999.000,-999.000
    316N145_10,  I07N,   802,  1,     26,     26,2,19950809,2303, 17.4572,  61.0595, 3893,   -999,    329.6,  13.8737,  35.7515,2,  35.7522,2,      3.3,2, 13.8260,      3.9,2,    31.74,2,    26.08,2,     0.00,2,     2.44,2,    0.374,2,    0.222,2, -999.000,9,-999.0000,9,  -999.00,9,   -999.0,9,  -999.00,9,-999.000,9,   2265.3,2,   2343.2,2,  -999.0, -999.00,-999.0000,-999.000,-999.000
    316N145_10,  I07N,   802,  1,     25,     25,2,19950809,2303, 17.4572,  61.0595, 3893,   -999,    379.4,  13.1015,  35.6764,2,  35.6826,2,      1.8,2, 13.0485,      1.9,2,    35.45,2,    27.35,2,     0.00,2,     2.54,2,    0.240,2,    0.142,2, -999.000,9,-999.0000,9,  -999.00,9,   -999.0,9,  -999.00,9,-999.000,9,   2271.1,2,   2342.0,2,  -999.0, -999.00,-999.0000,-999.000,-999.000
    316N145_10,  I07N,   802,  1,     24,     24,2,19950809,2303, 17.4572,  61.0595, 3893,   -999,    421.8,  12.9830,  35.7169,2,  35.7107,2,      2.7,2, 12.9243,      3.1,2,    37.02,2,    27.35,2,     0.00,2,     2.55,2,    0.236,2,    0.140,2, -999.000,9,-999.0000,9,  -999.00,9,   -999.0,9,  -999.00,9,-999.000,9,   2270.3,2,   2347.3,2,  -999.0, -999.00,-999.0000,-999.000,-999.000
    316N145_10,  I07N,   802,  1,     23,     23,2,19950809,2303, 17.4572,  61.0595, 3893,   -999,    521.0,  12.5442,  35.7144,2,  35.7135,2,      3.7,2, 12.4730,      4.7,2,    40.53,2,    27.84,2,     0.00,2,     2.59,2,    0.194,2,    0.114,2, -999.000,9,-999.0000,9,  -999.00,9,   -999.0,9,  -999.00,9,-999.000,9,   2273.3,2,   2347.7,2,  -999.0, -999.00,-999.0000,-999.000,-999.000
    316N145_10,  I07N,   802,  1,     22,     22,2,19950809,2303, 17.4572,  61.0595, 3893,   -999,    599.2,  12.0331,  35.6773,2,  35.6764,2,      5.1,2, 11.9531,      5.0,2,    44.73,2,    29.01,2,     0.00,2,     2.64,2,    0.135,2,    0.079,2, -999.000,9,-999.0000,9,  -999.00,9,   -999.0,9,  -999.00,9,-999.000,9,   2274.6,2,   2351.2,2,  -999.0, -999.00,-999.0000,-999.000,-999.000
    316N145_10,  I07N,   802,  1,     21,     21,2,19950809,2303, 17.4572,  61.0595, 3893,   -999,    683.6,  11.4844,  35.6495,2,  35.6492,2,      3.2,2, 11.3954,      3.6,2,    50.79,2,    30.28,2,     0.00,2,     2.72,2,    0.090,2,    0.050,2, -999.000,9,-999.0000,9,  -999.00,9,   -999.0,9,  -999.00,9,-999.000,9,   2282.0,2,   2354.4,2,  -999.0, -999.00,-999.0000,-999.000,-999.000
    316N145_10,  I07N,   802,  1,     20,     20,2,19950809,2303, 17.4572,  61.0595, 3893,   -999,    798.3,  10.6832,  35.5984,2,  35.5980,2,      4.7,2, 10.5834,      4.9,2,    58.31,2,    32.43,2,     0.00,2,     2.78,2,    0.065,2,    0.032,2, -999.000,9,-999.0000,9,  -999.00,9,   -999.0,9,  -999.00,9,-999.000,9,   2292.3,2,   2361.0,2,  -999.0, -999.00,-999.0000,-999.000,-999.000
    316N145_10,  I07N,   802,  1,     19,     19,2,19950809,2303, 17.4572,  61.0595, 3893,   -999,    899.2,   9.9196,  35.5268,2,  35.5267,2,      4.7,2,  9.8115,      4.6,2,    65.35,2,    33.90,2,     0.00,2,     2.86,2,    0.041,2,    0.024,2, -999.000,9,-999.0000,9,  -999.00,9,   -999.0,9,  -999.00,9,-999.000,9,   2300.2,2,   2364.1,2,  -999.0, -999.00,-999.0000,-999.000,-999.000
    316N145_10,  I07N,   802,  1,     18,     18,2,19950809,2303, 17.4572,  61.0595, 3893,   -999,   1000.7,   8.9033,  35.4114,2,  35.4103,2,      4.6,2,  8.7899,      4.7,2,    73.95,2,    35.85,2,     0.00,2,     2.96,2,    0.019,2,    0.010,2, -999.000,9,-999.0000,9,  -999.00,9,   -999.0,9,  -999.00,9,-999.000,9,   2313.4,2,   2419.7,3,  -999.0, -999.00,-999.0000,-999.000,-999.000
    316N145_10,  I07N,   802,  1,     17,     17,2,19950809,2303, 17.4572,  61.0595, 3893,   -999,   1203.3,   7.3579,  35.2467,2,  35.2457,2,     14.8,2,  7.2336,     14.0,2,    87.25,2,    37.61,2,     0.00,2,     3.05,2,    0.009,2,    0.003,2, -999.000,9,-999.0000,9,  -999.00,9,   -999.0,9,  -999.00,9,-999.000,9,   2327.6,2,   2378.7,2,  -999.0, -999.00,-999.0000,-999.000,-999.000
    316N145_10,  I07N,   802,  1,     16,     16,2,19950809,2303, 17.4572,  61.0595, 3893,   -999,   1403.3,   5.9734,  35.0987,2,  35.0979,2,     32.5,2,  5.8411,     31.5,2,   100.15,2,    38.11,2,     0.00,2,     3.04,2,    0.002,2,    0.001,2, -999.000,9,-999.0000,9,  -999.00,9,   -999.0,9,  -999.00,9,-999.000,9,   2336.6,2,   2393.1,2,  -999.0, -999.00,-999.0000,-999.000,-999.000
    316N145_10,  I07N,   802,  1,     15,     15,2,19950809,2303, 17.4572,  61.0595, 3893,   -999,   1602.1,   4.7359,  34.9783,2,  34.9787,2,     52.8,2,  4.5975,     52.1,2,   112.96,2,    38.01,2,     0.00,2,     3.00,2,   -0.001,2,    0.000,2, -999.000,9,-999.0000,9,  -999.00,9,   -999.0,9,  -999.00,9,-999.000,9,   2344.2,2,   2402.1,2,  -999.0, -999.00,-999.0000,-999.000,-999.000
    316N145_10,  I07N,   802,  1,     14,     14,2,19950809,2303, 17.4572,  61.0595, 3893,   -999,   1803.8,   3.7334,  34.8902,2,  34.8909,2,     73.4,2,  3.5887,     73.2,2,   123.92,2,    37.62,2,     0.00,2,     2.91,2,   -0.002,2,    0.000,2, -999.000,9,-999.0000,9,  -999.00,9,   -999.0,9,  -999.00,9,-999.000,9,   2347.7,2,   2417.2,2,  -999.0, -999.00,-999.0000,-999.000,-999.000
    316N145_10,  I07N,   802,  1,     13,     13,2,19950809,2303, 17.4572,  61.0595, 3893,   -999,   2000.0,   3.1275,  34.8422,2,  34.8406,2,     88.4,2,  2.9735,     88.2,2,   130.27,2,    37.24,2,     0.00,2,     2.83,2, -999.000,9, -999.000,9, -999.000,9,-999.0000,9,  -999.00,9,   -999.0,9,  -999.00,9,-999.000,9,   2348.2,2,   2419.7,2,  -999.0, -999.00,-999.0000,-999.000,-999.000
    316N145_10,  I07N,   802,  1,     12,     12,2,19950809,2303, 17.4572,  61.0595, 3893,   -999,   2202.6,   2.7108,  34.8101,2,  34.8108,2,     98.0,2,  2.5448,     97.6,2,   135.75,2,    36.85,2,     0.00,2,     2.79,2,   -0.001,2,    0.000,2, -999.000,9,-999.0000,9,  -999.00,9,   -999.0,9,  -999.00,9,-999.000,9,   2348.8,2,   2431.8,2,  -999.0, -999.00,-999.0000,-999.000,-999.000
    316N145_10,  I07N,   802,  1,     11,     11,2,19950809,2303, 17.4572,  61.0595, 3893,   -999,   2401.7,   2.3598,  34.7857,2,  34.7853,2,    104.4,2,  2.1815,    103.8,2,   140.74,2,    36.75,2,     0.00,2,     2.76,2, -999.000,9, -999.000,9, -999.000,9,-999.0000,9,  -999.00,9,   -999.0,9,  -999.00,9,-999.000,9,   2356.7,2,   2439.0,2,  -999.0, -999.00,-999.0000,-999.000,-999.000
    316N145_10,  I07N,   802,  1,     10,     10,2,19950809,2303, 17.4572,  61.0595, 3893,   -999,   2596.2,   2.1148,  34.7684,2,  34.7668,2,    110.2,2,  1.9231,    109.5,2,   144.26,2,    36.55,2,     0.00,2,     2.72,2, -999.000,9, -999.000,9, -999.000,9,-999.0000,9,  -999.00,9,   -999.0,9,  -999.00,9,-999.000,9,   2358.4,2,   2450.0,2,  -999.0, -999.00,-999.0000,-999.000,-999.000
    316N145_10,  I07N,   802,  1,      9,      9,2,19950809,2303, 17.4572,  61.0595, 3893,   -999,   2801.1,   1.9266,  34.7533,2,  34.7532,2,    115.1,2,  1.7193,    115.8,2,   146.51,2,    36.26,2,     0.00,2,     2.69,2, -999.000,9, -999.000,9, -999.000,9,-999.0000,9,  -999.00,9,   -999.0,9,  -999.00,9,-999.000,9,   2359.2,2,   2449.4,2,  -999.0, -999.00,-999.0000,-999.000,-999.000
    316N145_10,  I07N,   802,  1,      8,      8,2,19950809,2303, 17.4572,  61.0595, 3893,   -999,   3001.2,   1.8311,  34.7464,2,  34.7462,2,    120.2,2,  1.6067,    120.3,2,   147.29,2,    35.97,2,     0.00,2,     2.67,2, -999.000,9, -999.000,9, -999.000,9,-999.0000,9,  -999.00,9,   -999.0,9,  -999.00,9,-999.000,9,   2358.2,2,   2440.7,3,  -999.0, -999.00,-999.0000,-999.000,-999.000
    316N145_10,  I07N,   802,  1,      7,      7,2,19950809,2303, 17.4572,  61.0595, 3893,   -999,   3197.6,   1.7808,  34.7433,2,  34.7428,2,    124.8,2,  1.5381,    124.9,2,   146.90,2,    35.87,2,     0.00,2,     2.64,2, -999.000,9, -999.000,9, -999.000,9,-999.0000,9,  -999.00,9,   -999.0,9,  -999.00,9,-999.000,9,   2355.9,2,   2451.8,2,  -999.0, -999.00,-999.0000,-999.000,-999.000
    316N145_10,  I07N,   802,  1,      6,      6,2,19950809,2303, 17.4572,  61.0595, 3893,   -999,   3403.0,   1.7532,  34.7401,2,  34.7402,2,    129.0,2,  1.4904,    129.6,2,  -999.00,9,  -999.00,9,  -999.00,9,  -999.00,9, -999.000,9, -999.000,9, -999.000,9,-999.0000,9,  -999.00,9,   -999.0,9,  -999.00,9,-999.000,9,   2351.5,2,   2452.3,2,  -999.0, -999.00,-999.0000,-999.000,-999.000
    316N145_10,  I07N,   802,  1,      5,      5,2,19950809,2303, 17.4572,  61.0595, 3893,   -999,   3601.1,   1.7378,  34.7396,2,  34.7383,2,    133.2,2,  1.4549,    134.1,2,   144.75,2,    35.48,2,     0.00,2,     2.59,2, -999.000,9, -999.000,9, -999.000,9,-999.0000,9,  -999.00,9,   -999.0,9,  -999.00,9,-999.000,9,   2347.3,2,   2448.5,2,  -999.0, -999.00,-999.0000,-999.000,-999.000
    316N145_10,  I07N,   802,  1,      4,      4,2,19950809,2303, 17.4572,  61.0595, 3893,   -999,   3760.3,   1.7215,  34.7364,2,  34.7369,2,    136.9,2,  1.4222,    137.3,2,   143.38,2,    35.48,2,     0.00,2,     2.57,2, -999.000,9, -999.000,9, -999.000,9,-999.0000,9,  -999.00,9,   -999.0,9,  -999.00,9,-999.000,9,   2344.4,2,   2451.3,2,  -999.0, -999.00,-999.0000,-999.000,-999.000
    316N145_10,  I07N,   802,  1,      3,      3,2,19950809,2303, 17.4572,  61.0595, 3893,   -999,   3846.9,   1.7135,  34.7358,2,  34.7351,2,    131.4,2,  1.4051,    132.7,2,   146.02,2,    35.77,2,     0.00,2,     2.60,2, -999.000,9, -999.000,9, -999.000,9,-999.0000,9,  -999.00,9,   -999.0,9,  -999.00,9,-999.000,9,   2353.7,2,   2459.3,2,  -999.0, -999.00,-999.0000,-999.000,-999.000
    316N145_10,  I07N,   802,  1,      2,      2,2,19950809,2303, 17.4572,  61.0595, 3893,   -999,   3897.3,   1.7037,  34.7346,2,  34.7345,2,    131.1,2,  1.3901,    129.6,2,   148.66,2,    36.07,2,     0.00,2,     2.61,2, -999.000,9, -999.000,9, -999.000,9,-999.0000,9,  -999.00,9,   -999.0,9,  -999.00,9,-999.000,9,   2361.3,2,   2469.3,2,  -999.0, -999.00,-999.0000,-999.000,-999.000
    316N145_10,  I07N,   802,  1,      1,      1,2,19950809,2303, 17.4572,  61.0595, 3893,   -999,   3947.3,   1.6866,  34.7338,2,  34.7345,2,    131.9,2,  1.3680,    132.8,2,   148.86,2,    35.77,2,     0.00,2,     2.59,2, -999.000,9, -999.000,9, -999.000,9,-999.0000,9,  -999.00,9,   -999.0,9,  -999.00,9,-999.000,9,   2356.1,2,   2461.7,2,  -999.0, -999.00,-999.0000,-999.000,-999.000