BOTTLE,20080821WHPSIOSCD
EXPOCODE,SECT_ID,STNNBR,CASTNO,SAMPNO,BTLNBR,BTLNBR_FLAG_W,DATE,TIME,LATITUDE,LONGITUDE,DEPTH,CTDRAW,CTDPRS,CTDTMP,CTDSAL,CTDSAL_FLAG_W,SALNTY,SALNTY_FLAG_W,CTDOXY,CTDOXY_FLAG_W,THETA,OXYGEN,OXYGEN_FLAG_W,SILCAT,SILCAT_FLAG_W,NITRAT,NITRAT_FLAG_W,NITRIT,NITRIT_FLAG_W,PHSPHT,PHSPHT_FLAG_W,CFC-11,CFC-11_FLAG_W,CFC-12,CFC-12_FLAG_W,TRITUM,TRITUM_FLAG_W,HELIUM,HELIUM_FLAG_W,DELHE3,DELHE3_FLAG_W,DELC14,DELC14_FLAG_W,DELC13,DELC13_FLAG_W,NEON,NEON_FLAG_W,TCARBN,TCARBN_FLAG_W,ALKALI,ALKALI_FLAG_W,C14ERR,DELHER,HELIER,NEONER,TRITER
,,,,,,,,,,,,,DBAR,ITS-90,PSS-78,,PSS-78,,UMOL/KG,,DEG C,UMOL/KG,,UMOL/KG,,UMOL/KG,,UMOL/KG,,UMOL/KG,,PMOL/KG,,PMOL/KG,,TU,,NMOL/KG,,PERCNT,,/MILLE,,/MILLE,,NMOL/KG,,UMOL/KG,,UMOL/KG,,/MILLE,PERCNT,NMOL/KG,NMOL/KG,TU
    316N145_10,  I07N,   827,  1,     36,     36,2,19950816,0453, 22.7450,  61.7173, 3250,   -999,     10.3,  24.9535,  36.2696,2,  36.2696,2,    195.4,2, 24.9515,    192.3,2,     5.53,2,     7.45,2,     0.55,2,     0.94,2, -999.000,9, -999.000,9, -999.000,9,-999.0000,9,  -999.00,9,   -999.0,9,  -999.00,9,-999.000,9,   -999.9,5,   2369.4,2,  -999.0, -999.00,-999.0000,-999.000,-999.000
    316N145_10,  I07N,   827,  1,     35,     35,2,19950816,0453, 22.7450,  61.7173, 3250,   -999,     30.7,  24.9315,  36.2786,2,  36.2860,2,    188.7,2, 24.9251,    188.4,2,     5.85,2,     7.52,2,     0.54,2,     0.95,2, -999.000,9, -999.000,9, -999.000,9,-999.0000,9,  -999.00,9,   -999.0,9,  -999.00,9,-999.000,9,   -999.9,9,   -999.9,9,  -999.0, -999.00,-999.0000,-999.000,-999.000
    316N145_10,  I07N,   827,  1,     34,     34,2,19950816,0453, 22.7450,  61.7173, 3250,   -999,     55.6,  23.2012,  36.5139,2,  36.5138,2,     92.9,2, 23.1900,     90.0,2,     8.41,2,    15.06,2,     0.17,2,     1.38,2,    1.714,2,    0.989,2, -999.000,9,-999.0000,9,  -999.00,9,   -999.0,9,  -999.00,9,-999.000,9,   -999.9,9,   -999.9,9,  -999.0, -999.00,-999.0000,-999.000,-999.000
    316N145_10,  I07N,   827,  1,     33,     33,2,19950816,0453, 22.7450,  61.7173, 3250,   -999,     75.2,  22.7884,  36.4552,2,  36.4547,2,     73.3,2, 22.7733,     70.6,2,     9.77,2,    17.10,2,     0.08,2,     1.54,2, -999.000,9, -999.000,9, -999.000,9,-999.0000,9,  -999.00,9,   -999.0,9,  -999.00,9,-999.000,9,   -999.9,9,   -999.9,9,  -999.0, -999.00,-999.0000,-999.000,-999.000
    316N145_10,  I07N,   827,  1,     32,     32,2,19950816,0453, 22.7450,  61.7173, 3250,   -999,     99.8,  21.6406,  36.2314,2,  36.2345,2,     23.5,2, 21.6212,     18.3,2,    15.42,2,    21.32,2,     0.03,2,     1.99,2, -999.000,9, -999.000,9, -999.000,9,-999.0000,9,  -999.00,9,   -999.0,9,  -999.00,9,-999.000,9,   -999.9,9,   -999.9,9,  -999.0, -999.00,-999.0000,-999.000,-999.000
    316N145_10,  I07N,   827,  1,     31,     31,2,19950816,0453, 22.7450,  61.7173, 3250,   -999,    115.2,  21.2770,  36.2552,2,  36.2526,2,     15.4,2, 21.2548,     16.0,2,    15.57,2,    21.79,2,     0.02,2,     2.05,2,    1.336,2,    0.938,2, -999.000,9,-999.0000,9,  -999.00,9,   -999.0,9,  -999.00,9,-999.000,9,   -999.9,9,   -999.9,9,  -999.0, -999.00,-999.0000,-999.000,-999.000
    316N145_10,  I07N,   827,  1,     30,     30,2,19950816,0453, 22.7450,  61.7173, 3250,   -999,    130.7,  21.0061,  36.3793,2,  36.3487,2,     18.8,2, 20.9812,     18.3,2,    16.24,2,    21.28,2,     0.02,2,     2.05,2, -999.000,9, -999.000,9, -999.000,9,-999.0000,9,  -999.00,9,   -999.0,9,  -999.00,9,-999.000,9,   -999.9,9,   -999.9,9,  -999.0, -999.00,-999.0000,-999.000,-999.000
    316N145_10,  I07N,   827,  1,     29,     29,2,19950816,0453, 22.7450,  61.7173, 3250,   -999,    145.2,  19.8499,  36.1720,2,  36.2183,2,      7.3,2, 19.8232,     10.6,2,    18.45,2,    22.17,2,     0.01,2,     2.15,2, -999.000,9, -999.000,9, -999.000,9,-999.0000,9,  -999.00,9,   -999.0,9,  -999.00,9,-999.000,9,   -999.9,9,   -999.9,9,  -999.0, -999.00,-999.0000,-999.000,-999.000
    316N145_10,  I07N,   827,  1,     28,     28,2,19950816,0453, 22.7450,  61.7173, 3250,   -999,    185.1,  19.7201,  36.6431,2,  36.7452,2,     29.8,2, 19.6861,     32.5,2,    17.91,2,    18.89,2,     0.01,2,     1.91,2,    1.136,2,    2.828,3, -999.000,9,-999.0000,9,  -999.00,9,   -999.0,9,  -999.00,9,-999.000,9,   -999.9,9,   -999.9,9,  -999.0, -999.00,-999.0000,-999.000,-999.000
    316N145_10,  I07N,   827,  1,     27,     27,2,19950816,0453, 22.7450,  61.7173, 3250,   -999,    214.1,  17.9022,  36.2741,2,  36.2582,2,      1.2,2, 17.8654,      9.2,2,    23.22,2,    20.91,2,     0.01,2,     2.22,2, -999.000,9, -999.000,9, -999.000,9,-999.0000,9,  -999.00,9,   -999.0,9,  -999.00,9,-999.000,9,   -999.9,9,   -999.9,9,  -999.0, -999.00,-999.0000,-999.000,-999.000
    316N145_10,  I07N,   827,  1,     26,     26,2,19950816,0453, 22.7450,  61.7173, 3250,   -999,    244.3,  16.9029,  36.1861,2,  36.1948,2,      1.6,2, 16.8625,      2.5,2,    25.78,2,    21.43,2,     0.00,2,     2.31,2, -999.000,9, -999.000,9, -999.000,9,-999.0000,9,  -999.00,9,   -999.0,9,  -999.00,9,-999.000,9,   -999.9,9,   -999.9,9,  -999.0, -999.00,-999.0000,-999.000,-999.000
    316N145_10,  I07N,   827,  1,     25,     25,2,19950816,0453, 22.7450,  61.7173, 3250,   -999,    282.1,  16.1872,  36.1953,2,  36.2015,2,      1.2,2, 16.1419,      1.1,2,    27.65,2,    21.75,2,     0.01,2,     2.36,2,    0.585,2,    0.372,2, -999.000,9,-999.0000,9,  -999.00,9,   -999.0,9,  -999.00,9,-999.000,9,   -999.9,9,   -999.9,9,  -999.0, -999.00,-999.0000,-999.000,-999.000
    316N145_10,  I07N,   827,  1,     24,     24,2,19950816,0453, 22.7450,  61.7173, 3250,   -999,    317.9,  16.1940,  36.3603,2,  36.3531,2,     10.0,2, 16.1428,      7.6,2,    27.63,2,    21.56,2,     0.00,2,     2.31,2, -999.000,9, -999.000,9, -999.000,9,-999.0000,9,  -999.00,9,   -999.0,9,  -999.00,9,-999.000,9,   -999.9,9,   -999.9,9,  -999.0, -999.00,-999.0000,-999.000,-999.000
    316N145_10,  I07N,   827,  1,     23,     23,2,19950816,0453, 22.7450,  61.7173, 3250,   -999,    399.2,  13.6651,  35.8606,2,  35.8637,2,      1.4,2, 13.6077,      1.2,2,    35.69,2,    25.04,2,     0.00,2,     2.54,2, -999.000,9, -999.000,9, -999.000,9,-999.0000,9,  -999.00,9,   -999.0,9,  -999.00,9,-999.000,9,   -999.9,9,   -999.9,9,  -999.0, -999.00,-999.0000,-999.000,-999.000
    316N145_10,  I07N,   827,  1,     22,     22,2,19950816,0453, 22.7450,  61.7173, 3250,   -999,    500.9,  12.9574,  35.8078,2,  35.8069,2,      1.5,2, 12.8875,      1.2,2,    40.82,2,    25.28,2,     0.00,2,     2.63,2,    0.194,6,    0.117,6, -999.000,9,-999.0000,9,  -999.00,9,   -999.0,9,  -999.00,9,-999.000,9,   -999.9,9,   -999.9,9,  -999.0, -999.00,-999.0000,-999.000,-999.000
    316N145_10,  I07N,   827,  1,     21,     21,2,19950816,0453, 22.7450,  61.7173, 3250,   -999,    599.0,  11.9561,  35.6914,2,  35.6884,2,      1.7,2, 11.8765,      1.4,2,    48.20,2,    27.63,2,     0.00,2,     2.74,2, -999.000,9, -999.000,9, -999.000,9,-999.0000,9,  -999.00,9,   -999.0,9,  -999.00,9,-999.000,9,   -999.9,9,   -999.9,9,  -999.0, -999.00,-999.0000,-999.000,-999.000
    316N145_10,  I07N,   827,  1,     20,     20,2,19950816,0453, 22.7450,  61.7173, 3250,   -999,    674.2,  11.3196,  35.6310,2,  35.6330,2,      1.8,2, 11.2327,      1.6,2,    53.51,2,    29.46,2,     0.00,2,     2.79,2,    0.062,2,    0.041,2, -999.000,9,-999.0000,9,  -999.00,9,   -999.0,9,  -999.00,9,-999.000,9,   -999.9,9,   -999.9,9,  -999.0, -999.00,-999.0000,-999.000,-999.000
    316N145_10,  I07N,   827,  1,     19,     19,2,19950816,0453, 22.7450,  61.7173, 3250,   -999,    798.9,  10.5197,  35.5672,2,  35.5698,2,      2.0,2, 10.4207,      1.9,2,    60.90,2,    31.97,2,     0.00,2,     2.85,2, -999.000,9, -999.000,9, -999.000,9,-999.0000,9,  -999.00,9,   -999.0,9,  -999.00,9,-999.000,9,   -999.9,9,   -999.9,9,  -999.0, -999.00,-999.0000,-999.000,-999.000
    316N145_10,  I07N,   827,  1,     18,     18,2,19950816,0453, 22.7450,  61.7173, 3250,   -999,    900.2,   9.8600,  35.5117,2,  35.5127,2,      2.2,2,  9.7522,      2.6,2,    66.75,2,    33.73,2,     0.00,2,     2.90,2, -999.000,9, -999.000,9, -999.000,9,-999.0000,9,  -999.00,9,   -999.0,9,  -999.00,9,-999.000,9,   -999.9,9,   -999.9,9,  -999.0, -999.00,-999.0000,-999.000,-999.000
    316N145_10,  I07N,   827,  1,     17,     17,2,19950816,0453, 22.7450,  61.7173, 3250,   -999,    999.7,   9.2046,  35.4446,2,  35.4447,2,      2.7,2,  9.0890,      2.9,2,    72.79,2,    35.16,2,     0.00,2,     2.97,2, -999.000,9, -999.000,9, -999.000,9,-999.0000,9,  -999.00,9,   -999.0,9,  -999.00,9,-999.000,9,   -999.9,9,   -999.9,9,  -999.0, -999.00,-999.0000,-999.000,-999.000
    316N145_10,  I07N,   827,  1,     16,     16,2,19950816,0453, 22.7450,  61.7173, 3250,   -999,   1098.4,   8.5496,  35.3739,2,  35.3750,2,      3.2,2,  8.4272,      3.1,2,    78.84,2,    36.35,2,     0.00,2,     3.03,2,    0.015,2,    0.011,2, -999.000,9,-999.0000,9,  -999.00,9,   -999.0,9,  -999.00,9,-999.000,9,   -999.9,9,   -999.9,9,  -999.0, -999.00,-999.0000,-999.000,-999.000
    316N145_10,  I07N,   827,  1,     15,     15,2,19950816,0453, 22.7450,  61.7173, 3250,   -999,   1149.5,   8.1692,  35.3333,2,  35.3335,2,      4.0,2,  8.0440,      4.2,2,    82.13,2,    36.97,2,     0.00,2,     3.06,2, -999.000,9, -999.000,9, -999.000,9,-999.0000,9,  -999.00,9,   -999.0,9,  -999.00,9,-999.000,9,   -999.9,9,   -999.9,9,  -999.0, -999.00,-999.0000,-999.000,-999.000
    316N145_10,  I07N,   827,  1,     14,     14,2,19950816,0453, 22.7450,  61.7173, 3250,   -999,   1303.4,   6.9910,  35.2083,2,  35.2088,2,     12.2,2,  6.8591,     13.8,2,    92.95,2,    38.13,2,     0.00,2,     3.10,2, -999.000,9, -999.000,9, -999.000,9,-999.0000,9,  -999.00,9,   -999.0,9,  -999.00,9,-999.000,9,   -999.9,9,   -999.9,9,  -999.0, -999.00,-999.0000,-999.000,-999.000
    316N145_10,  I07N,   827,  1,     13,     13,2,19950816,0453, 22.7450,  61.7173, 3250,   -999,   1449.4,   5.9521,  35.1016,2,  35.1034,2,     25.1,2,  5.8153,     25.6,2,   103.54,2,    38.57,2,     0.00,2,     3.10,2,    0.004,2,    0.003,2, -999.000,9,-999.0000,9,  -999.00,9,   -999.0,9,  -999.00,9,-999.000,9,   -999.9,9,   -999.9,9,  -999.0, -999.00,-999.0000,-999.000,-999.000
    316N145_10,  I07N,   827,  1,     12,     12,2,19950816,0453, 22.7450,  61.7173, 3250,   -999,   1600.7,   4.9884,  35.0098,2,  35.0112,2,     38.6,2,  4.8471,     40.6,2,   113.90,2,    38.57,2,     0.00,2,     3.06,2, -999.000,9, -999.000,9, -999.000,9,-999.0000,9,  -999.00,9,   -999.0,9,  -999.00,9,-999.000,9,   -999.9,9,   -999.9,9,  -999.0, -999.00,-999.0000,-999.000,-999.000
    316N145_10,  I07N,   827,  1,     11,     11,2,19950816,0453, 22.7450,  61.7173, 3250,   -999,   1804.1,   4.0589,  34.9246,2,  34.9263,2,     57.0,2,  3.9098,     58.5,2,   123.90,2,    38.33,2,     0.00,2,     2.99,2, -999.000,9, -999.000,9, -999.000,9,-999.0000,9,  -999.00,9,   -999.0,9,  -999.00,9,-999.000,9,   -999.9,9,   -999.9,9,  -999.0, -999.00,-999.0000,-999.000,-999.000
    316N145_10,  I07N,   827,  1,     10,     10,2,19950816,0453, 22.7450,  61.7173, 3250,   -999,   2002.1,   3.2124,  34.8533,2,  34.8535,2,     74.9,2,  3.0568,     77.6,2,   133.72,2,    37.85,2,     0.00,2,     2.90,2,    0.001,2,    0.001,2, -999.000,9,-999.0000,9,  -999.00,9,   -999.0,9,  -999.00,9,-999.000,9,   -999.9,9,   -999.9,9,  -999.0, -999.00,-999.0000,-999.000,-999.000
    316N145_10,  I07N,   827,  1,      9,      9,2,19950816,0453, 22.7450,  61.7173, 3250,   -999,   2201.5,   2.7488,  34.8155,2,  34.8152,2,     87.9,2,  2.5822,     89.1,2,   139.37,2,    37.56,2,     0.00,2,     2.83,2, -999.000,9, -999.000,9, -999.000,9,-999.0000,9,  -999.00,9,   -999.0,9,  -999.00,9,-999.000,9,   -999.9,9,   -999.9,9,  -999.0, -999.00,-999.0000,-999.000,-999.000
    316N145_10,  I07N,   827,  1,      8,      8,2,19950816,0453, 22.7450,  61.7173, 3250,   -999,   2354.4,   2.4305,  34.7912,2,  34.7904,2,     96.9,2,  2.2554,     97.5,2,   142.98,2,    37.27,2,     0.00,2,     2.78,2,    0.002,2,    0.003,2, -999.000,9,-999.0000,9,  -999.00,9,   -999.0,9,  -999.00,9,-999.000,9,   -999.9,9,   -999.9,9,  -999.0, -999.00,-999.0000,-999.000,-999.000
    316N145_10,  I07N,   827,  1,      7,      7,2,19950816,0453, 22.7450,  61.7173, 3250,   -999,   2449.3,   2.2534,  34.7774,2,  34.7771,2,    102.6,2,  2.0727,    102.8,2,   145.08,2,    36.79,2,     0.00,2,     2.75,2, -999.000,9, -999.000,9, -999.000,9,-999.0000,9,  -999.00,9,   -999.0,9,  -999.00,9,-999.000,9,   -999.9,9,   -999.9,9,  -999.0, -999.00,-999.0000,-999.000,-999.000
    316N145_10,  I07N,   827,  1,      6,      6,2,19950816,0453, 22.7450,  61.7173, 3250,   -999,   2571.3,   2.1045,  34.7665,2,  34.7669,2,    105.5,2,  1.9153,    105.9,2,   147.39,2,    36.89,2,     0.00,2,     2.73,2, -999.000,9, -999.000,9, -999.000,9,-999.0000,9,  -999.00,9,   -999.0,9,  -999.00,9,-999.000,9,   -999.9,9,   -999.9,9,  -999.0, -999.00,-999.0000,-999.000,-999.000
    316N145_10,  I07N,   827,  1,      5,      5,2,19950816,0453, 22.7450,  61.7173, 3250,   -999,   2700.6,   1.9777,  34.7574,2,  34.7567,2,    108.9,2,  1.7789,    108.5,2,   149.51,2,    36.79,2,     0.00,2,     2.71,2, -999.000,9, -999.000,9, -999.000,9,-999.0000,9,  -999.00,9,   -999.0,9,  -999.00,9,-999.000,9,   -999.9,9,   -999.9,9,  -999.0, -999.00,-999.0000,-999.000,-999.000
    316N145_10,  I07N,   827,  1,      4,      4,2,19950816,0453, 22.7450,  61.7173, 3250,   -999,   2900.6,   1.8866,  34.7506,2,  34.7496,2,    111.3,2,  1.6707,    110.6,2,   151.45,2,    36.70,2,     0.00,2,     2.70,2,    0.010,2,    0.023,2, -999.000,9,-999.0000,9,  -999.00,9,   -999.0,9,  -999.00,9,-999.000,9,   -999.9,9,   -999.9,9,  -999.0, -999.00,-999.0000,-999.000,-999.000
    316N145_10,  I07N,   827,  1,      3,      3,2,19950816,0453, 22.7450,  61.7173, 3250,   -999,   3097.5,   1.8305,  34.7467,2,  34.7455,2,    111.2,2,  1.5967,    110.4,2,   153.20,2,    36.60,2,     0.00,2,     2.70,2, -999.000,9, -999.000,9, -999.000,9,-999.0000,9,  -999.00,9,   -999.0,9,  -999.00,9,-999.000,9,   -999.9,9,   -999.9,9,  -999.0, -999.00,-999.0000,-999.000,-999.000
    316N145_10,  I07N,   827,  1,      2,      2,2,19950816,0453, 22.7450,  61.7173, 3250,   -999,   3224.5,   1.7955,  34.7427,2,  34.7418,2,    106.7,2,  1.5499,    106.4,2,   155.96,2,    36.36,2,     0.00,2,     2.73,2,    0.028,2,    0.082,2, -999.000,9,-999.0000,9,  -999.00,9,   -999.0,9,  -999.00,9,-999.000,9,   -999.9,9,   -999.9,9,  -999.0, -999.00,-999.0000,-999.000,-999.000
    316N145_10,  I07N,   827,  1,      1,      1,2,19950816,0453, 22.7450,  61.7173, 3250,   -999,   3293.1,   1.7972,  34.7431,2,  34.7431,2,    101.6,2,  1.5446,    104.0,2,   157.13,2,    36.21,2,     0.00,2,     2.75,2,    0.036,2,    0.103,2, -999.000,9,-999.0000,9,  -999.00,9,   -999.0,9,  -999.00,9,-999.000,9,   -999.9,9,   -999.9,9,  -999.0, -999.00,-999.0000,-999.000,-999.000