BOTTLE,20080821WHPSIOSCD
EXPOCODE,SECT_ID,STNNBR,CASTNO,SAMPNO,BTLNBR,BTLNBR_FLAG_W,DATE,TIME,LATITUDE,LONGITUDE,DEPTH,CTDRAW,CTDPRS,CTDTMP,CTDSAL,CTDSAL_FLAG_W,SALNTY,SALNTY_FLAG_W,CTDOXY,CTDOXY_FLAG_W,THETA,OXYGEN,OXYGEN_FLAG_W,SILCAT,SILCAT_FLAG_W,NITRAT,NITRAT_FLAG_W,NITRIT,NITRIT_FLAG_W,PHSPHT,PHSPHT_FLAG_W,CFC-11,CFC-11_FLAG_W,CFC-12,CFC-12_FLAG_W,TRITUM,TRITUM_FLAG_W,HELIUM,HELIUM_FLAG_W,DELHE3,DELHE3_FLAG_W,DELC14,DELC14_FLAG_W,DELC13,DELC13_FLAG_W,NEON,NEON_FLAG_W,TCARBN,TCARBN_FLAG_W,ALKALI,ALKALI_FLAG_W,C14ERR,DELHER,HELIER,NEONER,TRITER
,,,,,,,,,,,,,DBAR,ITS-90,PSS-78,,PSS-78,,UMOL/KG,,DEG C,UMOL/KG,,UMOL/KG,,UMOL/KG,,UMOL/KG,,UMOL/KG,,PMOL/KG,,PMOL/KG,,TU,,NMOL/KG,,PERCNT,,/MILLE,,/MILLE,,NMOL/KG,,UMOL/KG,,UMOL/KG,,/MILLE,PERCNT,NMOL/KG,NMOL/KG,TU
    316N145_10,  I07N,   816,  1,     36,     36,2,19950813,1623, 19.3318,  65.5333, 3028,   -999,      4.3,  27.5628,  36.6590,2,  36.6589,2,    198.9,2, 27.5621,    194.7,2,     2.09,2,     0.05,2,     0.00,2,     0.36,2,    1.642,2,    0.918,2, -999.000,9,-999.0000,9,  -999.00,9,   -999.0,9,  -999.00,9,-999.000,9,   2029.3,2,   2394.3,2,  -999.0, -999.00,-999.0000,-999.000,-999.000
    316N145_10,  I07N,   816,  1,     35,     35,2,19950813,1623, 19.3318,  65.5333, 3028,   -999,     30.6,  27.5662,  36.6591,2,  36.6591,2,    196.4,2, 27.5593,    196.3,2,     2.07,2,     0.09,2,     0.00,2,     0.36,2, -999.000,9, -999.000,9, -999.000,9,-999.0000,9,  -999.00,9,   -999.0,9,  -999.00,9,-999.000,9,   2036.3,2,   2394.0,2,  -999.0, -999.00,-999.0000,-999.000,-999.000
    316N145_10,  I07N,   816,  1,     34,     34,2,19950813,1623, 19.3318,  65.5333, 3028,   -999,     70.8,  25.4850,  36.4392,2,  36.3764,2,    158.1,2, 25.4696,    141.4,2,     4.08,2,     8.77,2,     0.14,2,     0.88,2,    1.745,2,    0.968,2, -999.000,9,-999.0000,9,  -999.00,9,   -999.0,9,  -999.00,9,-999.000,9,   2091.2,2,   2368.4,2,  -999.0, -999.00,-999.0000,-999.000,-999.000
    316N145_10,  I07N,   816,  1,     33,     33,2,19950813,1623, 19.3318,  65.5333, 3028,   -999,    101.0,  23.4270,  36.2732,2,  36.2285,2,     87.1,2, 23.4062,     74.6,2,     8.30,2,    17.48,2,     0.02,2,     1.45,2, -999.000,9, -999.000,9, -999.000,9,-999.0000,9,  -999.00,9,   -999.0,9,  -999.00,9,-999.000,9,   2157.2,2,   2361.4,2,  -999.0, -999.00,-999.0000,-999.000,-999.000
    316N145_10,  I07N,   816,  1,     32,     32,2,19950813,1623, 19.3318,  65.5333, 3028,   -999,    136.9,  20.4526,  35.9828,2,  35.9744,2,      1.7,2, 20.4270,      1.0,2,    16.57,2,    23.91,2,     0.13,2,     2.20,2,    1.237,2,    0.713,2, -999.000,9,-999.0000,9,  -999.00,9,   -999.0,9,  -999.00,9,-999.000,9,   2232.7,2,   2347.0,2,  -999.0, -999.00,-999.0000,-999.000,-999.000
    316N145_10,  I07N,   816,  1,     31,     31,2,19950813,1623, 19.3318,  65.5333, 3028,   -999,    160.2,  19.6473,  35.9715,2,  35.9562,2,      0.9,2, 19.6181,      1.7,2,    19.51,2,    22.42,2,     0.46,2,     2.26,2,    1.055,2,    0.630,2, -999.000,9,-999.0000,9,  -999.00,9,   -999.0,9,  -999.00,9,-999.000,9,   2241.4,2,   2350.4,2,  -999.0, -999.00,-999.0000,-999.000,-999.000
    316N145_10,  I07N,   816,  1,     30,     30,2,19950813,1623, 19.3318,  65.5333, 3028,   -999,    190.0,  18.0502,  35.8924,2,  35.8917,2,      0.9,2, 18.0175,      0.8,2,    23.36,2,    18.41,2,     3.22,2,     2.33,2,    0.770,2,    0.491,2, -999.000,9,-999.0000,9,  -999.00,9,   -999.0,9,  -999.00,9,-999.000,9,   2253.3,2,   2345.8,2,  -999.0, -999.00,-999.0000,-999.000,-999.000
    316N145_10,  I07N,   816,  1,     29,     29,2,19950813,1623, 19.3318,  65.5333, 3028,   -999,    249.0,  17.0769,  36.1852,2,  36.1714,2,      1.0,2, 17.0355,      2.0,2,    25.56,2,    21.54,2,     0.00,2,     2.30,2, -999.000,9, -999.000,9, -999.000,9,-999.0000,9,  -999.00,9,   -999.0,9,  -999.00,9,-999.000,9,   -999.9,5,   2360.8,2,  -999.0, -999.00,-999.0000,-999.000,-999.000
    316N145_10,  I07N,   816,  1,     28,     28,2,19950813,1623, 19.3318,  65.5333, 3028,   -999,    299.8,  15.9276,  36.1190,2,  36.1098,2,      1.0,2, 15.8799,      1.1,2,    29.05,2,    19.73,2,     1.35,2,     2.38,2,    0.506,2,    0.327,2, -999.000,9,-999.0000,9,  -999.00,9,   -999.0,9,  -999.00,9,-999.000,9,   2277.2,2,   2361.5,2,  -999.0, -999.00,-999.0000,-999.000,-999.000
    316N145_10,  I07N,   816,  1,     27,     27,2,19950813,1623, 19.3318,  65.5333, 3028,   -999,    349.5,  14.7126,  36.0086,2,  36.0085,2,      1.1,2, 14.6599,      0.8,2,    32.73,2,    20.52,2,     1.67,2,     2.46,2,    0.383,2,    0.248,2, -999.000,9,-999.0000,9,  -999.00,9,   -999.0,9,  -999.00,9,-999.000,9,   2280.8,2,   2358.4,2,  -999.0, -999.00,-999.0000,-999.000,-999.000
    316N145_10,  I07N,   816,  1,     26,     26,2,19950813,1623, 19.3318,  65.5333, 3028,   -999,    400.0,  13.9896,  35.9359,2,  35.9335,2,      1.2,2, 13.9311,      0.9,2,    35.49,2,    23.12,2,     0.42,2,     2.51,2,    0.306,2,    0.191,2, -999.000,9,-999.0000,9,  -999.00,9,   -999.0,9,  -999.00,9,-999.000,9,   2281.1,2,   2356.4,2,  -999.0, -999.00,-999.0000,-999.000,-999.000
    316N145_10,  I07N,   816,  1,     25,     25,2,19950813,1623, 19.3318,  65.5333, 3028,   -999,    500.7,  12.8890,  35.7943,2,  35.7916,2,      1.3,2, 12.8194,      1.0,2,    41.39,2,    25.49,2,     0.01,2,     2.60,2, -999.000,9, -999.000,9, -999.000,9,-999.0000,9,  -999.00,9,   -999.0,9,  -999.00,9,-999.000,9,   2284.2,2,   2354.1,2,  -999.0, -999.00,-999.0000,-999.000,-999.000
    316N145_10,  I07N,   816,  1,     24,     24,2,19950813,1623, 19.3318,  65.5333, 3028,   -999,    600.4,  11.8623,  35.6763,2,  35.6720,2,      1.5,2, 11.7828,      1.3,2,    48.77,2,    28.02,2,     0.01,2,     2.70,2,    0.087,2,    0.052,2, -999.000,9,-999.0000,9,  -999.00,9,   -999.0,9,  -999.00,9,-999.000,9,   2289.0,2,   2354.1,2,  -999.0, -999.00,-999.0000,-999.000,-999.000
    316N145_10,  I07N,   816,  1,     23,     23,2,19950813,1623, 19.3318,  65.5333, 3028,   -999,    700.6,  10.9772,  35.5922,2,  35.5918,2,      1.7,2, 10.8885,      1.3,2,    56.34,2,    30.93,2,     0.00,2,     2.78,2, -999.000,9, -999.000,9, -999.000,9,-999.0000,9,  -999.00,9,   -999.0,9,  -999.00,9,-999.000,9,   2296.2,2,   2358.4,2,  -999.0, -999.00,-999.0000,-999.000,-999.000
    316N145_10,  I07N,   816,  1,     22,     22,2,19950813,1623, 19.3318,  65.5333, 3028,   -999,    798.9,  10.2301,  35.5283,2,  35.5283,2,      1.9,2, 10.1328,      1.7,2,    63.37,2,    33.23,2,     0.00,2,     2.84,2,    0.026,2,    0.014,2, -999.000,9,-999.0000,9,  -999.00,9,   -999.0,9,  -999.00,9,-999.000,9,   2303.1,2,   2362.6,2,  -999.0, -999.00,-999.0000,-999.000,-999.000
    316N145_10,  I07N,   816,  1,     21,     21,2,19950813,1623, 19.3318,  65.5333, 3028,   -999,    898.8,   9.5496,  35.4615,2,  35.4602,2,      2.0,2,  9.4440,      1.8,2,    69.49,2,    34.94,2,     0.00,2,     2.91,2, -999.000,9, -999.000,9, -999.000,9,-999.0000,9,  -999.00,9,   -999.0,9,  -999.00,9,-999.000,9,   2309.9,2,   2368.3,2,  -999.0, -999.00,-999.0000,-999.000,-999.000
    316N145_10,  I07N,   816,  1,     20,     20,2,19950813,1623, 19.3318,  65.5333, 3028,   -999,    999.8,   8.6736,  35.3719,2,  35.3751,2,      2.9,2,  8.5619,      3.4,2,    77.29,2,    36.56,2,     0.00,2,     2.98,2,    0.010,2,    0.006,2, -999.000,9,-999.0000,9,  -999.00,9,   -999.0,9,  -999.00,9,-999.000,9,   2317.1,2,   2373.9,2,  -999.0, -999.00,-999.0000,-999.000,-999.000
    316N145_10,  I07N,   816,  1,     19,     19,2,19950813,1623, 19.3318,  65.5333, 3028,   -999,   1100.2,   7.9481,  35.2945,2,  35.2956,2,      6.3,2,  7.8305,      7.0,2,    83.26,2,    37.61,2,     0.00,2,     3.02,2, -999.000,9, -999.000,9, -999.000,9,-999.0000,9,  -999.00,9,   -999.0,9,  -999.00,9,-999.000,9,   2325.1,2,   2378.4,2,  -999.0, -999.00,-999.0000,-999.000,-999.000
    316N145_10,  I07N,   816,  1,     18,     18,2,19950813,1623, 19.3318,  65.5333, 3028,   -999,   1201.6,   7.2488,  35.2203,2,  35.2203,2,     11.6,2,  7.1257,     13.2,2,    89.25,2,    38.29,2,     0.00,2,     3.05,2,    0.002,2,    0.001,2, -999.000,9,-999.0000,9,  -999.00,9,   -999.0,9,  -999.00,9,-999.000,9,   2330.0,2,   2381.1,2,  -999.0, -999.00,-999.0000,-999.000,-999.000
    316N145_10,  I07N,   816,  1,     17,     17,2,19950813,1623, 19.3318,  65.5333, 3028,   -999,   1298.0,   6.7001,  35.1654,2,  35.1648,2,     18.0,2,  6.5716,     18.6,2,    94.70,2,    38.58,2,     0.00,2,     3.06,2, -999.000,9, -999.000,9, -999.000,9,-999.0000,9,  -999.00,9,   -999.0,9,  -999.00,9,-999.000,9,   2335.0,2,   2387.9,2,  -999.0, -999.00,-999.0000,-999.000,-999.000
    316N145_10,  I07N,   816,  1,     16,     16,2,19950813,1623, 19.3318,  65.5333, 3028,   -999,   1398.2,   6.0241,  35.1006,2,  35.1021,2,     26.4,2,  5.8918,     26.8,2,   101.30,2,    38.73,2,     0.00,2,     3.05,2,    0.000,2,   -0.002,2, -999.000,9,-999.0000,9,  -999.00,9,   -999.0,9,  -999.00,9,-999.000,9,   2340.2,2,   2390.4,2,  -999.0, -999.00,-999.0000,-999.000,-999.000
    316N145_10,  I07N,   816,  1,     15,     15,2,19950813,1623, 19.3318,  65.5333, 3028,   -999,   1500.4,   5.4181,  35.0451,2,  35.0467,2,     34.5,2,  5.2819,     35.6,2,   108.13,2,    38.69,2,     0.00,2,     3.04,2, -999.000,9, -999.000,9, -999.000,9,-999.0000,9,  -999.00,9,   -999.0,9,  -999.00,9,-999.000,9,   2345.6,2,   2401.9,2,  -999.0, -999.00,-999.0000,-999.000,-999.000
    316N145_10,  I07N,   816,  1,     14,     14,2,19950813,1623, 19.3318,  65.5333, 3028,   -999,   1600.8,   4.7588,  34.9850,2,  34.9857,2,     46.0,2,  4.6204,     47.8,2,   115.40,2,    38.65,2,     0.00,2,     3.01,2,    0.000,2,    0.000,2, -999.000,9,-999.0000,9,  -999.00,9,   -999.0,9,  -999.00,9,-999.000,9,   2349.5,2,   2406.6,2,  -999.0, -999.00,-999.0000,-999.000,-999.000
    316N145_10,  I07N,   816,  1,     13,     13,2,19950813,1623, 19.3318,  65.5333, 3028,   -999,   1701.8,   4.2460,  34.9384,2,  34.9386,2,     55.7,2,  4.1042,     57.1,2,   121.00,2,    38.41,2,     0.00,2,     2.97,2, -999.000,9, -999.000,9, -999.000,9,-999.0000,9,  -999.00,9,   -999.0,9,  -999.00,9,-999.000,9,   2351.1,2,   2414.1,2,  -999.0, -999.00,-999.0000,-999.000,-999.000
    316N145_10,  I07N,   816,  1,     12,     12,2,19950813,1623, 19.3318,  65.5333, 3028,   -999,   1799.2,   3.8374,  34.9025,2,  34.9038,2,     65.4,2,  3.6918,     67.0,2,   124.89,2,    38.13,2,     0.00,2,     2.92,2, -999.000,9, -999.000,9, -999.000,9,-999.0000,9,  -999.00,9,   -999.0,9,  -999.00,9,-999.000,9,   2352.0,2,   2417.1,2,  -999.0, -999.00,-999.0000,-999.000,-999.000
    316N145_10,  I07N,   816,  1,     11,     11,2,19950813,1623, 19.3318,  65.5333, 3028,   -999,   1899.3,   3.4971,  34.8730,2,  34.8739,2,     74.6,2,  3.3469,     74.5,2,   128.60,2,    37.94,2,     0.00,2,     2.88,2,   -0.001,2,   -0.001,2, -999.000,9,-999.0000,9,  -999.00,9,   -999.0,9,  -999.00,9,-999.000,9,   2352.2,2,   2422.7,2,  -999.0, -999.00,-999.0000,-999.000,-999.000
    316N145_10,  I07N,   816,  1,     10,     10,2,19950813,1623, 19.3318,  65.5333, 3028,   -999,   2004.4,   3.1947,  34.8486,2,  34.8480,2,     82.1,2,  3.0392,     82.3,2,   131.56,2,    37.71,2,     0.00,2,     2.84,2, -999.000,9, -999.000,9, -999.000,9,-999.0000,9,  -999.00,9,   -999.0,9,  -999.00,9,-999.000,9,   2352.6,2,   2423.4,2,  -999.0, -999.00,-999.0000,-999.000,-999.000
    316N145_10,  I07N,   816,  1,      9,      9,2,19950813,1623, 19.3318,  65.5333, 3028,   -999,   2105.8,   2.9178,  34.8262,2,  34.8241,2,     89.7,2,  2.7573,     89.8,2,   134.72,2,    37.47,2,     0.00,2,     2.80,2, -999.000,9, -999.000,9, -999.000,9,-999.0000,9,  -999.00,9,   -999.0,9,  -999.00,9,-999.000,9,   2354.2,2,   2430.3,2,  -999.0, -999.00,-999.0000,-999.000,-999.000
    316N145_10,  I07N,   816,  1,      8,      8,2,19950813,1623, 19.3318,  65.5333, 3028,   -999,   2205.1,   2.6843,  34.8090,2,  34.8064,2,     97.4,2,  2.5185,     96.7,2,   137.11,2,    37.24,2,     0.00,2,     2.76,2,    0.001,2,    0.002,2, -999.000,9,-999.0000,9,  -999.00,9,   -999.0,9,  -999.00,9,-999.000,9,   2353.2,2,   2429.7,2,  -999.0, -999.00,-999.0000,-999.000,-999.000
    316N145_10,  I07N,   816,  1,      7,      7,2,19950813,1623, 19.3318,  65.5333, 3028,   -999,   2303.9,   2.5058,  34.7950,2,  35.1394,4,    102.5,2,  2.3340,     29.8,4,    99.08,4,    37.95,4,     0.00,4,     2.98,4, -999.000,9, -999.000,9, -999.000,9,-999.0000,9,  -999.00,9,   -999.0,9,  -999.00,9,-999.000,9,   2337.0,3,   2394.4,3,  -999.0, -999.00,-999.0000,-999.000,-999.000
    316N145_10,  I07N,   816,  1,      6,      6,2,19950813,1623, 19.3318,  65.5333, 3028,   -999,   2404.3,   2.3309,  34.7817,2,  34.7808,2,    107.4,2,  2.1529,    106.9,2,   141.13,2,    36.96,2,     0.00,2,     2.71,2, -999.000,9, -999.000,9, -999.000,9,-999.0000,9,  -999.00,9,   -999.0,9,  -999.00,9,-999.000,9,   2354.8,2,   2437.2,2,  -999.0, -999.00,-999.0000,-999.000,-999.000
    316N145_10,  I07N,   816,  1,      5,      5,2,19950813,1623, 19.3318,  65.5333, 3028,   -999,   2599.0,   2.0949,  34.7645,2,  34.7632,2,    114.1,2,  1.9033,    112.5,2,   144.15,2,    36.72,2,     0.00,2,     2.68,2,    0.000,2,    0.000,2, -999.000,9,-999.0000,9,  -999.00,9,   -999.0,9,  -999.00,9,-999.000,9,   2357.3,2,   2446.4,2,  -999.0, -999.00,-999.0000,-999.000,-999.000
    316N145_10,  I07N,   816,  1,      4,      4,2,19950813,1623, 19.3318,  65.5333, 3028,   -999,   2798.9,   1.8869,  34.7511,2,  34.7492,2,    119.6,2,  1.6807,    118.8,2,   146.38,2,    36.49,2,     0.00,2,     2.64,2,    0.000,2,    0.001,2, -999.000,9,-999.0000,9,  -999.00,9,   -999.0,9,  -999.00,9,-999.000,9,   2359.3,2,   2452.2,2,  -999.0, -999.00,-999.0000,-999.000,-999.000
    316N145_10,  I07N,   816,  1,      3,      3,2,19950813,1623, 19.3318,  65.5333, 3028,   -999,   2948.6,   1.8371,  34.7474,2,  34.7453,2,    120.3,2,  1.6177,    120.4,2,   146.80,2,    36.45,2,     0.00,2,     2.63,2,    0.003,2,    0.001,2, -999.000,9,-999.0000,9,  -999.00,9,   -999.0,9,  -999.00,9,-999.000,9,   2360.9,2,   2456.8,2,  -999.0, -999.00,-999.0000,-999.000,-999.000
    316N145_10,  I07N,   816,  1,      2,      2,2,19950813,1623, 19.3318,  65.5333, 3028,   -999,   3040.0,   1.7657,  34.7430,2,  34.7412,2,    122.4,2,  1.5389,    122.6,2,   147.22,2,    36.45,2,     0.00,2,     2.62,2,   -0.001,2,    0.001,2, -999.000,9,-999.0000,9,  -999.00,9,   -999.0,9,  -999.00,9,-999.000,9,   2363.0,2,   2457.6,2,  -999.0, -999.00,-999.0000,-999.000,-999.000
    316N145_10,  I07N,   816,  1,      1,      1,2,19950813,1623, 19.3318,  65.5333, 3028,   -999,   3068.1,   1.7392,  34.7408,2,  34.7400,2,    121.7,2,  1.5103,    123.8,2,   147.44,2,    36.41,2,     0.00,2,     2.61,2,    0.001,2,    0.004,2, -999.000,9,-999.0000,9,  -999.00,9,   -999.0,9,  -999.00,9,-999.000,9,   2360.7,2,   2465.0,2,  -999.0, -999.00,-999.0000,-999.000,-999.000