BOTTLE,20080821WHPSIOSCD
EXPOCODE,SECT_ID,STNNBR,CASTNO,SAMPNO,BTLNBR,BTLNBR_FLAG_W,DATE,TIME,LATITUDE,LONGITUDE,DEPTH,CTDRAW,CTDPRS,CTDTMP,CTDSAL,CTDSAL_FLAG_W,SALNTY,SALNTY_FLAG_W,CTDOXY,CTDOXY_FLAG_W,THETA,OXYGEN,OXYGEN_FLAG_W,SILCAT,SILCAT_FLAG_W,NITRAT,NITRAT_FLAG_W,NITRIT,NITRIT_FLAG_W,PHSPHT,PHSPHT_FLAG_W,CFC-11,CFC-11_FLAG_W,CFC-12,CFC-12_FLAG_W,TRITUM,TRITUM_FLAG_W,HELIUM,HELIUM_FLAG_W,DELHE3,DELHE3_FLAG_W,DELC14,DELC14_FLAG_W,DELC13,DELC13_FLAG_W,NEON,NEON_FLAG_W,TCARBN,TCARBN_FLAG_W,ALKALI,ALKALI_FLAG_W,C14ERR,DELHER,HELIER,NEONER,TRITER
,,,,,,,,,,,,,DBAR,ITS-90,PSS-78,,PSS-78,,UMOL/KG,,DEG C,UMOL/KG,,UMOL/KG,,UMOL/KG,,UMOL/KG,,UMOL/KG,,PMOL/KG,,PMOL/KG,,TU,,NMOL/KG,,PERCNT,,/MILLE,,/MILLE,,NMOL/KG,,UMOL/KG,,UMOL/KG,,/MILLE,PERCNT,NMOL/KG,NMOL/KG,TU
    316N145_10,  I07N,   756,  1,     36,     36,2,19950728,0758, -0.8653,  57.2473, 4673,   -999,      3.3,  27.7841,  35.2918,2,  35.2910,2,    198.5,2, 27.7835,    200.5,2,     3.70,2,     0.04,2,     0.00,2,     0.19,2,    1.686,2,    0.951,2, -999.000,9,-999.0000,9,  -999.00,9,   -999.0,9,  -999.00,9,-999.000,9,   1971.3,2,   -999.9,5,  -999.0, -999.00,-999.0000,-999.000,-999.000
    316N145_10,  I07N,   756,  1,     35,     35,2,19950728,0758, -0.8653,  57.2473, 4673,   -999,     22.0,  25.2523,  35.2420,2,  35.2426,2,    185.2,2, 25.2478,    188.0,2,     4.03,2,     2.32,2,     0.35,2,     0.36,2,    1.705,2,    0.958,2, -999.000,9,-999.0000,9,  -999.00,9,   -999.0,9,  -999.00,9,-999.000,9,   1998.3,2,   2306.8,2,  -999.0, -999.00,-999.0000,-999.000,-999.000
    316N145_10,  I07N,   756,  1,     34,     34,2,19950728,0758, -0.8653,  57.2473, 4673,   -999,     42.7,  24.1467,  35.2415,2,  35.2335,2,    167.3,2, 24.1379,    164.9,2,     5.58,2,     5.74,2,     0.10,2,     0.56,2, -999.000,9, -999.000,9, -999.000,9,-999.0000,9,  -999.00,9,   -999.0,9,  -999.00,9,-999.000,9,   2026.4,2,   2306.1,2,  -999.0, -999.00,-999.0000,-999.000,-999.000
    316N145_10,  I07N,   756,  1,     33,     33,2,19950728,0758, -0.8653,  57.2473, 4673,   -999,     62.4,  23.3698,  35.2181,2,  35.2209,2,    163.0,2, 23.3571,    160.2,2,     6.43,2,     6.70,2,     0.10,2,     0.62,2,    1.623,2,    0.899,2, -999.000,9,-999.0000,9,  -999.00,9,   -999.0,9,  -999.00,9,-999.000,9,   2034.8,2,   2306.1,2,  -999.0, -999.00,-999.0000,-999.000,-999.000
    316N145_10,  I07N,   756,  1,     32,     32,2,19950728,0758, -0.8653,  57.2473, 4673,   -999,     82.5,  23.1860,  35.2200,2,  35.2202,2,    158.7,2, 23.1693,    157.0,2,     6.76,2,     7.18,2,     0.06,2,     0.65,2,    1.645,2,    0.914,2, -999.000,9,-999.0000,9,  -999.00,9,   -999.0,9,  -999.00,9,-999.000,9,   2039.7,2,   2307.7,2,  -999.0, -999.00,-999.0000,-999.000,-999.000
    316N145_10,  I07N,   756,  1,     31,     31,2,19950728,0758, -0.8653,  57.2473, 4673,   -999,    102.7,  22.5451,  35.2993,2,  35.2882,2,    143.4,2, 22.5246,    140.5,2,     7.61,2,     9.32,2,     0.01,2,     0.78,2,    1.639,2,    0.904,2, -999.000,9,-999.0000,9,  -999.00,9,   -999.0,9,  -999.00,9,-999.000,9,   2064.0,2,   2308.2,2,  -999.0, -999.00,-999.0000,-999.000,-999.000
    316N145_10,  I07N,   756,  1,     30,     30,2,19950728,0758, -0.8653,  57.2473, 4673,   -999,    122.1,  22.2953,  35.3290,2,  35.3309,2,    135.9,2, 22.2711,    133.1,2,     8.28,2,    10.35,2,     0.03,2,     0.85,2,    1.622,2,    0.891,2, -999.000,9,-999.0000,9,  -999.00,9,   -999.0,9,  -999.00,9,-999.000,9,   2074.6,2,   2313.9,2,  -999.0, -999.00,-999.0000,-999.000,-999.000
    316N145_10,  I07N,   756,  1,     29,     29,2,19950728,0758, -0.8653,  57.2473, 4673,   -999,    151.5,  18.5145,  35.2626,2,  35.2611,2,    109.7,2, 18.4881,     94.7,2,    13.46,2,    17.37,2,     0.01,2,     1.28,2,    1.409,2,    0.763,2, -999.000,9,-999.0000,9,  -999.00,9,   -999.0,9,  -999.00,9,-999.000,9,   2133.2,2,   2309.9,2,  -999.0, -999.00,-999.0000,-999.000,-999.000
    316N145_10,  I07N,   756,  1,     28,     28,2,19950728,0758, -0.8653,  57.2473, 4673,   -999,    202.7,  13.6707,  35.1363,2,  35.1367,2,     76.7,2, 13.6420,     78.0,2,    20.19,2,    23.75,2,     0.00,2,     1.71,2,    0.891,2,    0.473,2, -999.000,9,-999.0000,9,  -999.00,9,   -999.0,9,  -999.00,9,-999.000,9,   2190.3,2,   2315.8,2,  -999.0, -999.00,-999.0000,-999.000,-999.000
    316N145_10,  I07N,   756,  1,     27,     27,2,19950728,0758, -0.8653,  57.2473, 4673,   -999,    247.9,  12.7997,  35.0904,2,  35.0894,2,     84.6,2, 12.7660,     86.6,2,    20.69,2,    24.03,2,     0.00,2,     1.71,2, -999.000,9, -999.000,9, -999.000,9,-999.0000,9,  -999.00,9,   -999.0,9,  -999.00,9,-999.000,9,   2190.5,2,   2311.9,2,  -999.0, -999.00,-999.0000,-999.000,-999.000
    316N145_10,  I07N,   756,  1,     26,     26,2,19950728,0758, -0.8653,  57.2473, 4673,   -999,    298.5,  11.5680,  35.0261,2,  35.0300,2,    119.3,2, 11.5299,    122.0,2,    19.64,2,    22.21,2,     0.00,2,     1.59,2,    1.044,2,    0.537,2, -999.000,9,-999.0000,9,  -999.00,9,   -999.0,9,  -999.00,9,-999.000,9,   -999.9,5,   2301.8,3,  -999.0, -999.00,-999.0000,-999.000,-999.000
    316N145_10,  I07N,   756,  1,     25,     25,2,19950728,0758, -0.8653,  57.2473, 4673,   -999,    348.5,  10.8635,  34.9760,2,  34.9748,2,    107.5,2, 10.8207,    126.6,2,    21.35,2,    23.08,2,     0.00,2,     1.64,2,    0.953,2,    0.486,2, -999.000,9,-999.0000,9,  -999.00,9,   -999.0,9,  -999.00,9,-999.000,9,   2177.2,2,   2312.1,2,  -999.0, -999.00,-999.0000,-999.000,-999.000
    316N145_10,  I07N,   756,  1,     24,     24,2,19950728,0758, -0.8653,  57.2473, 4673,   -999,    398.7,  10.5776,  34.9984,2,  34.9989,2,     88.8,2, 10.5293,     88.7,2,    27.91,2,    27.43,2,     0.00,2,     1.95,2,    0.498,6,    0.258,6, -999.000,9,-999.0000,9,  -999.00,9,   -999.0,9,  -999.00,9,-999.000,9,   2211.2,2,   2317.4,2,  -999.0, -999.00,-999.0000,-999.000,-999.000
    316N145_10,  I07N,   756,  1,     23,     23,2,19950728,0758, -0.8653,  57.2473, 4673,   -999,    499.7,  10.0668,  34.9738,2,  34.9740,2,     83.6,2, 10.0078,     83.2,2,    32.21,2,    28.90,2,     0.00,2,     2.07,2, -999.000,9, -999.000,9, -999.000,9,-999.0000,9,  -999.00,9,   -999.0,9,  -999.00,9,-999.000,9,   2220.2,2,   2317.9,2,  -999.0, -999.00,-999.0000,-999.000,-999.000
    316N145_10,  I07N,   756,  1,     22,     22,2,19950728,0758, -0.8653,  57.2473, 4673,   -999,    599.2,   9.3041,  35.0148,2,  35.0147,2,     65.7,2,  9.2363,     64.4,2,    44.47,2,    31.71,2,     0.00,2,     2.35,2,    0.151,2,    0.083,2, -999.000,9,-999.0000,9,  -999.00,9,   -999.0,9,  -999.00,9,-999.000,9,   2248.7,2,   2331.3,2,  -999.0, -999.00,-999.0000,-999.000,-999.000
    316N145_10,  I07N,   756,  1,     21,     21,2,19950728,0758, -0.8653,  57.2473, 4673,   -999,    689.0,   9.0455,  35.0376,2,  35.0382,2,     57.0,2,  8.9684,     57.8,2,    49.64,2,    32.59,2,     0.00,2,     2.45,2,    0.107,2,    0.059,2, -999.000,9,-999.0000,9,  -999.00,9,   -999.0,9,  -999.00,9,-999.000,9,   2257.1,2,   2334.6,2,  -999.0, -999.00,-999.0000,-999.000,-999.000
    316N145_10,  I07N,   756,  1,     20,     20,2,19950728,0758, -0.8653,  57.2473, 4673,   -999,    801.0,   7.9359,  34.9888,2,  34.9932,2,     59.3,2,  7.8522,     59.2,2,    63.30,2,    34.17,2,     0.00,2,     2.58,2,    0.055,2,    0.030,2, -999.000,9,-999.0000,9,  -999.00,9,   -999.0,9,  -999.00,9,-999.000,9,   2273.7,2,   2350.7,2,  -999.0, -999.00,-999.0000,-999.000,-999.000
    316N145_10,  I07N,   756,  1,     19,     19,2,19950728,0758, -0.8653,  57.2473, 4673,   -999,    900.8,   7.4597,  35.0074,2,  35.0062,2,     50.0,2,  7.3681,     49.2,2,    72.65,2,    35.61,2,     0.00,2,     2.70,2, -999.000,9, -999.000,9, -999.000,9,-999.0000,9,  -999.00,9,   -999.0,9,  -999.00,9,-999.000,9,   2291.9,2,   2356.3,2,  -999.0, -999.00,-999.0000,-999.000,-999.000
    316N145_10,  I07N,   756,  1,     18,     18,2,19950728,0758, -0.8653,  57.2473, 4673,   -999,   1001.2,   6.8580,  34.9724,2,  34.9732,2,     50.7,2,  6.7600,     51.8,2,    79.93,2,    36.18,2,     0.00,2,     2.74,2,    0.008,2,    0.006,2, -999.000,9,-999.0000,9,  -999.00,9,   -999.0,9,  -999.00,9,-999.000,9,   2298.9,2,   2366.2,2,  -999.0, -999.00,-999.0000,-999.000,-999.000
    316N145_10,  I07N,   756,  1,     17,     17,2,19950728,0758, -0.8653,  57.2473, 4673,   -999,   1196.6,   6.0420,  34.9382,2,  34.9386,2,     63.8,2,  5.9306,     63.5,2,    87.76,2,    36.19,2,     0.00,2,     2.73,2,    0.003,2,    0.003,2, -999.000,9,-999.0000,9,  -999.00,9,   -999.0,9,  -999.00,9,-999.000,9,   2304.5,2,   2372.1,2,  -999.0, -999.00,-999.0000,-999.000,-999.000
    316N145_10,  I07N,   756,  1,     16,     16,2,19950728,0758, -0.8653,  57.2473, 4673,   -999,   1425.7,   4.7300,  34.8605,2,  34.8612,2,     84.2,2,  4.6090,     86.4,2,    98.96,2,    36.01,2,     0.00,2,     2.69,2,    0.000,2,   -0.001,2, -999.000,9,-999.0000,9,  -999.00,9,   -999.0,9,  -999.00,9,-999.000,9,   2307.9,2,   2383.9,2,  -999.0, -999.00,-999.0000,-999.000,-999.000
    316N145_10,  I07N,   756,  1,     15,     15,2,19950728,0758, -0.8653,  57.2473, 4673,   -999,   1646.1,   3.7546,  34.8180,2,  34.8188,2,    104.7,2,  3.6245,    106.0,2,   108.66,2,    35.55,2,     0.00,2,     2.64,2,   -0.001,2,   -0.002,2, -999.000,9,-999.0000,9,  -999.00,9,   -999.0,9,  -999.00,9,-999.000,9,   2311.3,2,   2391.2,2,  -999.0, -999.00,-999.0000,-999.000,-999.000
    316N145_10,  I07N,   756,  1,     14,     14,2,19950728,0758, -0.8653,  57.2473, 4673,   -999,   1874.5,   3.0829,  34.7911,2,  34.7915,2,    121.7,2,  2.9411,    121.4,2,   115.93,2,    35.13,2,     0.00,2,     2.59,2, -999.000,9, -999.000,9, -999.000,9,-999.0000,9,  -999.00,9,   -999.0,9,  -999.00,9,-999.000,9,   2312.7,2,   2401.3,2,  -999.0, -999.00,-999.0000,-999.000,-999.000
    316N145_10,  I07N,   756,  1,     13,     13,2,19950728,0758, -0.8653,  57.2473, 4673,   -999,   2100.3,   2.5596,  34.7701,2,  34.7697,2,    134.8,2,  2.4054,    134.9,2,   121.11,2,    34.67,2,     0.00,2,     2.54,2, -999.000,9, -999.000,9, -999.000,9,-999.0000,9,  -999.00,9,   -999.0,9,  -999.00,9,-999.000,9,   2312.5,2,   2405.8,2,  -999.0, -999.00,-999.0000,-999.000,-999.000
    316N145_10,  I07N,   756,  1,     12,     12,2,19950728,0758, -0.8653,  57.2473, 4673,   -999,   2324.7,   2.2722,  34.7580,2,  34.7585,2,    144.1,2,  2.1027,    143.4,2,   123.96,2,    34.31,2,     0.00,2,     2.49,2, -999.000,9, -999.000,9, -999.000,9,-999.0000,9,  -999.00,9,   -999.0,9,  -999.00,9,-999.000,9,   2310.1,2,   2408.8,2,  -999.0, -999.00,-999.0000,-999.000,-999.000
    316N145_10,  I07N,   756,  1,     11,     11,2,19950728,0758, -0.8653,  57.2473, 4673,   -999,   2546.4,   2.0672,  34.7486,2,  34.7487,2,    151.0,2,  1.8811,    150.4,2,   125.74,2,    34.13,2,     0.00,2,     2.45,2, -999.000,9, -999.000,9, -999.000,9,-999.0000,9,  -999.00,9,   -999.0,9,  -999.00,9,-999.000,9,   2309.0,2,   2409.3,2,  -999.0, -999.00,-999.0000,-999.000,-999.000
    316N145_10,  I07N,   756,  1,     10,     10,2,19950728,0758, -0.8653,  57.2473, 4673,   -999,   2771.3,   1.8757,  34.7391,2,  34.7385,2,    159.6,2,  1.6724,    159.5,2,   126.07,2,    33.76,2,     0.00,2,     2.41,2, -999.000,9, -999.000,9, -999.000,9,-999.0000,9,  -999.00,9,   -999.0,9,  -999.00,9,-999.000,9,   2303.7,2,   2408.3,2,  -999.0, -999.00,-999.0000,-999.000,-999.000
    316N145_10,  I07N,   756,  1,      9,      9,2,19950728,0758, -0.8653,  57.2473, 4673,   -999,   2995.3,   1.7370,  34.7332,2,  34.7326,2,    165.7,2,  1.5152,    164.9,2,   127.12,2,    33.49,2,     0.00,2,     2.38,2, -999.000,9, -999.000,9, -999.000,9,-999.0000,9,  -999.00,9,   -999.0,9,  -999.00,9,-999.000,9,   2302.2,2,   2406.7,2,  -999.0, -999.00,-999.0000,-999.000,-999.000
    316N145_10,  I07N,   756,  1,      8,      8,2,19950728,0758, -0.8653,  57.2473, 4673,   -999,   3223.6,   1.6591,  34.7315,2,  34.7308,2,    165.3,2,  1.4168,    166.3,2,   129.45,2,    33.58,2,     0.00,2,     2.39,2, -999.000,9, -999.000,9, -999.000,9,-999.0000,9,  -999.00,9,   -999.0,9,  -999.00,9,-999.000,9,   2303.8,2,   2420.0,3,  -999.0, -999.00,-999.0000,-999.000,-999.000
    316N145_10,  I07N,   756,  1,      7,      7,2,19950728,0758, -0.8653,  57.2473, 4673,   -999,   3452.6,   1.6258,  34.7304,2,  34.7298,2,    167.9,2,  1.3612,    167.7,2,   129.97,2,    33.49,2,     0.00,2,     2.38,2, -999.000,9, -999.000,9, -999.000,9,-999.0000,9,  -999.00,9,   -999.0,9,  -999.00,9,-999.000,9,   2304.4,2,   2410.5,2,  -999.0, -999.00,-999.0000,-999.000,-999.000
    316N145_10,  I07N,   756,  1,      6,      6,2,19950728,0758, -0.8653,  57.2473, 4673,   -999,   3672.7,   1.5621,  34.7277,2,  34.7282,2,    170.3,2,  1.2763,    170.5,2,   130.84,2,    33.45,2,     0.00,2,     2.37,2, -999.000,9, -999.000,9, -999.000,9,-999.0000,9,  -999.00,9,   -999.0,9,  -999.00,9,-999.000,9,   2302.5,2,   2413.4,2,  -999.0, -999.00,-999.0000,-999.000,-999.000
    316N145_10,  I07N,   756,  1,      5,      5,2,19950728,0758, -0.8653,  57.2473, 4673,   -999,   3851.0,   1.5267,  34.7263,2,  34.7241,2,    172.7,2,  1.2230,    173.0,2,   130.99,2,    33.36,2,     0.00,2,     2.38,2, -999.000,9, -999.000,9, -999.000,9,-999.0000,9,  -999.00,9,   -999.0,9,  -999.00,9,-999.000,9,   2301.2,2,   2409.7,2,  -999.0, -999.00,-999.0000,-999.000,-999.000
    316N145_10,  I07N,   756,  1,      4,      4,2,19950728,0758, -0.8653,  57.2473, 4673,   -999,   4094.8,   1.4272,  34.7223,2,  34.7206,2,    177.6,2,  1.0999,    177.6,2,   130.59,2,    33.18,2,     0.00,2,     2.35,2, -999.000,9, -999.000,9, -999.000,9,-999.0000,9,  -999.00,9,   -999.0,9,  -999.00,9,-999.000,9,   2297.4,2,   2408.4,2,  -999.0, -999.00,-999.0000,-999.000,-999.000
    316N145_10,  I07N,   756,  1,      3,      3,2,19950728,0758, -0.8653,  57.2473, 4673,   -999,   4346.6,   1.3778,  34.7200,2,  34.7190,2,    181.1,2,  1.0239,    181.6,2,   130.56,2,    33.00,2,     0.00,2,     2.33,2, -999.000,9, -999.000,9, -999.000,9,-999.0000,9,  -999.00,9,   -999.0,9,  -999.00,9,-999.000,9,   2295.3,2,   2403.9,2,  -999.0, -999.00,-999.0000,-999.000,-999.000
    316N145_10,  I07N,   756,  1,      2,      2,2,19950728,0758, -0.8653,  57.2473, 4673,   -999,   4603.0,   1.3668,  34.7187,2,  34.7166,2,    183.8,2,  0.9840,    184.1,2,   129.98,2,    32.82,2,     0.00,2,     2.32,2, -999.000,9, -999.000,9, -999.000,9,-999.0000,9,  -999.00,9,   -999.0,9,  -999.00,9,-999.000,9,   2292.8,2,   2399.1,2,  -999.0, -999.00,-999.0000,-999.000,-999.000
    316N145_10,  I07N,   756,  1,      1,      1,2,19950728,0758, -0.8653,  57.2473, 4673,   -999,   4746.7,   1.3735,  34.7181,2,  34.7176,2,    184.6,2,  0.9737,    184.3,2,   129.76,2,    32.78,2,     0.00,2,     2.32,2, -999.000,9, -999.000,9, -999.000,9,-999.0000,9,  -999.00,9,   -999.0,9,  -999.00,9,-999.000,9,   2292.1,2,   2405.0,2,  -999.0, -999.00,-999.0000,-999.000,-999.000