BOTTLE,20080821WHPSIOSCD
EXPOCODE,SECT_ID,STNNBR,CASTNO,SAMPNO,BTLNBR,BTLNBR_FLAG_W,DATE,TIME,LATITUDE,LONGITUDE,DEPTH,CTDRAW,CTDPRS,CTDTMP,CTDSAL,CTDSAL_FLAG_W,SALNTY,SALNTY_FLAG_W,CTDOXY,CTDOXY_FLAG_W,THETA,OXYGEN,OXYGEN_FLAG_W,SILCAT,SILCAT_FLAG_W,NITRAT,NITRAT_FLAG_W,NITRIT,NITRIT_FLAG_W,PHSPHT,PHSPHT_FLAG_W,CFC-11,CFC-11_FLAG_W,CFC-12,CFC-12_FLAG_W,TRITUM,TRITUM_FLAG_W,HELIUM,HELIUM_FLAG_W,DELHE3,DELHE3_FLAG_W,DELC14,DELC14_FLAG_W,DELC13,DELC13_FLAG_W,NEON,NEON_FLAG_W,TCARBN,TCARBN_FLAG_W,ALKALI,ALKALI_FLAG_W,C14ERR,DELHER,HELIER,NEONER,TRITER
,,,,,,,,,,,,,DBAR,ITS-90,PSS-78,,PSS-78,,UMOL/KG,,DEG C,UMOL/KG,,UMOL/KG,,UMOL/KG,,UMOL/KG,,UMOL/KG,,PMOL/KG,,PMOL/KG,,TU,,NMOL/KG,,PERCNT,,/MILLE,,/MILLE,,NMOL/KG,,UMOL/KG,,UMOL/KG,,/MILLE,PERCNT,NMOL/KG,NMOL/KG,TU
    316N145_10,  I07N,   792,  1,     36,     36,2,19950807,1357, 13.7855,  64.6662, 4030,   -999,      5.2,  27.2051,  36.4301,2,  36.4307,2,    206.1,2, 27.2041,    198.7,2,     1.78,2,     0.05,2,     0.00,2,     0.32,2,    1.696,2,    0.961,2, -999.000,9,-999.0000,9,  -999.00,9,   -999.0,9,  -999.00,9,-999.000,9,   2019.7,2,   2379.0,2,  -999.0, -999.00,-999.0000,-999.000,-999.000
    316N145_10,  I07N,   792,  1,     35,     35,2,19950807,1357, 13.7855,  64.6662, 4030,   -999,     32.2,  27.2104,  36.4300,2,  36.4305,2,    202.9,2, 27.2032,    205.4,2,     1.77,2,     0.00,2,     0.00,2,     0.32,2, -999.000,9, -999.000,9, -999.000,9,-999.0000,9,  -999.00,9,   -999.0,9,  -999.00,9,-999.000,9,   2020.5,2,   2378.0,2,  -999.0, -999.00,-999.0000,-999.000,-999.000
    316N145_10,  I07N,   792,  1,     34,     34,2,19950807,1357, 13.7855,  64.6662, 4030,   -999,     62.1,  27.1253,  36.4264,2,  36.4272,2,    201.1,2, 27.1112,    197.2,2,     1.75,2,     0.04,2,     0.00,2,     0.33,2,    1.690,2,    0.944,2, -999.000,9,-999.0000,9,  -999.00,9,   -999.0,9,  -999.00,9,-999.000,9,   2023.2,2,   2376.4,2,  -999.0, -999.00,-999.0000,-999.000,-999.000
    316N145_10,  I07N,   792,  1,     33,     33,2,19950807,1357, 13.7855,  64.6662, 4030,   -999,    101.2,  24.7735,  36.5004,2,  36.4999,2,    163.2,2, 24.7518,    153.9,2,     3.42,2,     6.76,2,     0.06,2,     0.77,2,    1.824,2,    1.012,2, -999.000,9,-999.0000,9,  -999.00,9,   -999.0,9,  -999.00,9,-999.000,9,   2082.3,2,   2380.2,2,  -999.0, -999.00,-999.0000,-999.000,-999.000
    316N145_10,  I07N,   792,  1,     32,     32,2,19950807,1357, 13.7855,  64.6662, 4030,   -999,    122.0,  24.2608,  36.4648,2,  36.4481,2,    146.2,2, 24.2350,    125.0,2,     5.83,2,    10.98,2,     0.03,2,     1.07,2,    1.289,2,    0.728,2, -999.000,9,-999.0000,9,  -999.00,9,   -999.0,9,  -999.00,9,-999.000,9,   2114.8,2,   2377.0,2,  -999.0, -999.00,-999.0000,-999.000,-999.000
    316N145_10,  I07N,   792,  1,     31,     31,2,19950807,1357, 13.7855,  64.6662, 4030,   -999,    162.1,  21.1786,  36.0101,2,  35.9733,2,      4.5,2, 21.1474,      3.6,2,    16.26,2,    23.78,2,     0.02,2,     2.12,2, -999.000,9, -999.000,9, -999.000,9,-999.0000,9,  -999.00,9,   -999.0,9,  -999.00,9,-999.000,9,   2220.1,2,   2348.4,2,  -999.0, -999.00,-999.0000,-999.000,-999.000
    316N145_10,  I07N,   792,  1,     30,     30,2,19950807,1357, 13.7855,  64.6662, 4030,   -999,    182.1,  18.7936,  35.7634,2,  35.7672,2,     12.7,2, 18.7615,     12.6,2,    18.49,2,    24.36,2,     0.00,2,     2.17,2,    1.157,2,    0.643,2, -999.000,9,-999.0000,9,  -999.00,9,   -999.0,9,  -999.00,9,-999.000,9,   2227.0,2,   2336.3,2,  -999.0, -999.00,-999.0000,-999.000,-999.000
    316N145_10,  I07N,   792,  1,     29,     29,2,19950807,1357, 13.7855,  64.6662, 4030,   -999,    196.8,  18.0896,  35.7703,2,  35.7713,2,      6.0,2, 18.0557,      6.0,2,    21.45,2,    24.08,2,     0.00,2,     2.26,2,    0.952,2,    0.539,2, -999.000,9,-999.0000,9,  -999.00,9,   -999.0,9,  -999.00,9,-999.000,9,   2236.5,2,   2337.4,2,  -999.0, -999.00,-999.0000,-999.000,-999.000
    316N145_10,  I07N,   792,  1,     28,     28,2,19950807,1357, 13.7855,  64.6662, 4030,   -999,    247.8,  16.0085,  35.8733,2,  35.8770,2,      1.1,2, 15.9691,      0.9,2,    27.21,2,    21.78,2,     0.45,2,     2.38,2,    0.549,2,    0.334,2, -999.000,9,-999.0000,9,  -999.00,9,   -999.0,9,  -999.00,9,-999.000,9,   2263.7,2,   2348.3,2,  -999.0, -999.00,-999.0000,-999.000,-999.000
    316N145_10,  I07N,   792,  1,     27,     27,2,19950807,1357, 13.7855,  64.6662, 4030,   -999,    298.2,  15.2975,  35.9776,2,  35.9690,2,      1.2,2, 15.2514,      1.2,2,    29.79,2,    18.62,2,     1.43,2,     2.45,2,    0.425,2,    0.272,2, -999.000,9,-999.0000,9,  -999.00,9,   -999.0,9,  -999.00,9,-999.000,9,   2273.1,2,   2357.6,2,  -999.0, -999.00,-999.0000,-999.000,-999.000
    316N145_10,  I07N,   792,  1,     26,     26,2,19950807,1357, 13.7855,  64.6662, 4030,   -999,    348.2,  14.1472,  35.8145,2,  35.8090,2,      1.2,2, 14.0961,      0.9,2,    33.50,2,    18.12,2,     2.02,2,     2.53,2,    0.252,2,    0.173,2, -999.000,9,-999.0000,9,  -999.00,9,   -999.0,9,  -999.00,9,-999.000,9,   2279.4,2,   2352.9,2,  -999.0, -999.00,-999.0000,-999.000,-999.000
    316N145_10,  I07N,   792,  1,     25,     25,2,19950807,1357, 13.7855,  64.6662, 4030,   -999,    398.0,  13.2699,  35.6988,2,  35.6997,2,      1.3,2, 13.2138,      0.9,2,    35.72,2,    22.94,2,     1.46,2,     2.57,2,    0.175,2,    0.123,2, -999.000,9,-999.0000,9,  -999.00,9,   -999.0,9,  -999.00,9,-999.000,9,   2276.2,2,   2347.5,2,  -999.0, -999.00,-999.0000,-999.000,-999.000
    316N145_10,  I07N,   792,  1,     24,     24,2,19950807,1357, 13.7855,  64.6662, 4030,   -999,    448.5,  12.5111,  35.6227,2,  35.6228,2,      1.4,2, 12.4501,      0.7,2,    39.05,2,    27.74,2,     0.01,2,     2.62,2,    0.130,2,    0.081,2, -999.000,9,-999.0000,9,  -999.00,9,   -999.0,9,  -999.00,9,-999.000,9,   -999.9,5,   2345.0,2,  -999.0, -999.00,-999.0000,-999.000,-999.000
    316N145_10,  I07N,   792,  1,     23,     23,2,19950807,1357, 13.7855,  64.6662, 4030,   -999,    498.7,  12.0701,  35.5963,2,  35.5968,2,      1.4,2, 12.0038,      1.6,2,    42.01,2,    29.10,2,     0.00,2,     2.66,2,    0.099,2,    0.065,2, -999.000,9,-999.0000,9,  -999.00,9,   -999.0,9,  -999.00,9,-999.000,9,   2278.4,2,   2346.1,2,  -999.0, -999.00,-999.0000,-999.000,-999.000
    316N145_10,  I07N,   792,  1,     22,     22,2,19950807,1357, 13.7855,  64.6662, 4030,   -999,    599.2,  11.3047,  35.5603,2,  35.5623,2,      1.9,2, 11.2279,      2.5,2,    49.43,2,    30.92,2,     0.00,2,     2.73,2, -999.000,9, -999.000,9, -999.000,9,-999.0000,9,  -999.00,9,   -999.0,9,  -999.00,9,-999.000,9,   2285.8,2,   2354.0,2,  -999.0, -999.00,-999.0000,-999.000,-999.000
    316N145_10,  I07N,   792,  1,     21,     21,2,19950807,1357, 13.7855,  64.6662, 4030,   -999,    694.9,  10.5439,  35.5010,2,  35.5005,2,      2.2,2, 10.4582,      3.1,2,    56.67,2,    32.98,2,     0.00,2,     2.80,2,    0.032,2,    0.021,2, -999.000,9,-999.0000,9,  -999.00,9,   -999.0,9,  -999.00,9,-999.000,9,   2293.4,2,   2357.6,2,  -999.0, -999.00,-999.0000,-999.000,-999.000
    316N145_10,  I07N,   792,  1,     20,     20,2,19950807,1357, 13.7855,  64.6662, 4030,   -999,    794.9,   9.8926,  35.4583,2,  35.4587,2,      4.2,2,  9.7978,      5.5,2,    62.98,2,    34.58,2,     0.00,2,     2.84,2,    0.026,2,    0.017,2, -999.000,9,-999.0000,9,  -999.00,9,   -999.0,9,  -999.00,9,-999.000,9,   2300.6,2,   2360.9,2,  -999.0, -999.00,-999.0000,-999.000,-999.000
    316N145_10,  I07N,   792,  1,     19,     19,2,19950807,1357, 13.7855,  64.6662, 4030,   -999,    895.0,   9.0535,  35.3770,2,  35.3780,2,      9.0,2,  8.9517,      9.8,2,    69.86,2,    35.95,2,     0.00,2,     2.88,2, -999.000,9, -999.000,9, -999.000,9,-999.0000,9,  -999.00,9,   -999.0,9,  -999.00,9,-999.000,9,   2306.8,2,   2365.0,2,  -999.0, -999.00,-999.0000,-999.000,-999.000
    316N145_10,  I07N,   792,  1,     18,     18,2,19950807,1357, 13.7855,  64.6662, 4030,   -999,    996.6,   8.2438,  35.2952,2,  35.2945,2,     14.7,2,  8.1357,     14.8,2,    76.75,2,    36.85,2,     0.00,2,     2.92,2,    0.011,2,    0.005,2, -999.000,9,-999.0000,9,  -999.00,9,   -999.0,9,  -999.00,9,-999.000,9,   2313.7,2,   2370.0,2,  -999.0, -999.00,-999.0000,-999.000,-999.000
    316N145_10,  I07N,   792,  1,     17,     17,2,19950807,1357, 13.7855,  64.6662, 4030,   -999,   1096.9,   7.5264,  35.2307,2,  35.2288,2,     20.5,2,  7.4126,     20.3,2,    83.28,2,    37.42,2,     0.00,2,     2.96,2,    0.007,2,    0.005,2, -999.000,9,-999.0000,9,  -999.00,9,   -999.0,9,  -999.00,9,-999.000,9,   2321.3,2,   2377.2,2,  -999.0, -999.00,-999.0000,-999.000,-999.000
    316N145_10,  I07N,   792,  1,     16,     16,2,19950807,1357, 13.7855,  64.6662, 4030,   -999,   1198.4,   6.8916,  35.1752,2,  35.1783,2,     27.2,2,  6.7721,     27.2,2,    89.08,2,    37.52,2,     0.00,2,     2.96,2, -999.000,9, -999.000,9, -999.000,9,-999.0000,9,  -999.00,9,   -999.0,9,  -999.00,9,-999.000,9,   2325.3,2,   2381.3,2,  -999.0, -999.00,-999.0000,-999.000,-999.000
    316N145_10,  I07N,   792,  1,     15,     15,2,19950807,1357, 13.7855,  64.6662, 4030,   -999,   1299.3,   6.2588,  35.1130,2,  35.1138,2,     36.0,2,  6.1345,     36.5,2,    95.45,2,    37.71,2,     0.00,2,     2.96,2,    0.006,2,    0.006,2, -999.000,9,-999.0000,9,  -999.00,9,   -999.0,9,  -999.00,9,-999.000,9,   2329.2,2,   2396.5,3,  -999.0, -999.00,-999.0000,-999.000,-999.000
    316N145_10,  I07N,   792,  1,     14,     14,2,19950807,1357, 13.7855,  64.6662, 4030,   -999,   1400.4,   5.5793,  35.0442,2,  35.0455,2,     46.3,2,  5.4516,     46.0,2,   102.23,2,    37.81,2,     0.00,2,     2.96,2,    0.001,2,    0.003,2, -999.000,9,-999.0000,9,  -999.00,9,   -999.0,9,  -999.00,9,-999.000,9,   2333.6,2,   2393.4,2,  -999.0, -999.00,-999.0000,-999.000,-999.000
    316N145_10,  I07N,   792,  1,     13,     13,2,19950807,1357, 13.7855,  64.6662, 4030,   -999,   1596.2,   4.5299,  34.9499,2,  34.9520,2,     65.3,2,  4.3947,     63.4,2,   113.46,2,    37.67,2,     0.00,2,     2.93,2, -999.000,9, -999.000,9, -999.000,9,-999.0000,9,  -999.00,9,   -999.0,9,  -999.00,9,-999.000,9,   2338.4,2,   2403.7,2,  -999.0, -999.00,-999.0000,-999.000,-999.000
    316N145_10,  I07N,   792,  1,     12,     12,2,19950807,1357, 13.7855,  64.6662, 4030,   -999,   1793.8,   3.6450,  34.8756,2,  34.8779,2,     83.1,2,  3.5025,     82.5,2,   122.88,2,    37.24,2,     0.00,2,     2.85,2, -999.000,9, -999.000,9, -999.000,9,-999.0000,9,  -999.00,9,   -999.0,9,  -999.00,9,-999.000,9,   2342.2,2,   2413.9,2,  -999.0, -999.00,-999.0000,-999.000,-999.000
    316N145_10,  I07N,   792,  1,     11,     11,2,19950807,1357, 13.7855,  64.6662, 4030,   -999,   1995.5,   3.0226,  34.8272,2,  34.8290,2,    100.4,2,  2.8706,     98.9,2,   128.69,2,    36.72,2,     0.00,2,     2.77,2, -999.000,9, -999.000,9, -999.000,9,-999.0000,9,  -999.00,9,   -999.0,9,  -999.00,9,-999.000,9,   2340.8,2,   2428.8,3,  -999.0, -999.00,-999.0000,-999.000,-999.000
    316N145_10,  I07N,   792,  1,     10,     10,2,19950807,1357, 13.7855,  64.6662, 4030,   -999,   2194.3,   2.6174,  34.7966,2,  34.7970,2,    112.5,2,  2.4538,    111.8,2,   131.98,2,    36.29,2,     0.00,2,     2.71,2, -999.000,9, -999.000,9, -999.000,9,-999.0000,9,  -999.00,9,   -999.0,9,  -999.00,9,-999.000,9,   2337.0,2,   2421.7,2,  -999.0, -999.00,-999.0000,-999.000,-999.000
    316N145_10,  I07N,   792,  1,      9,      9,2,19950807,1357, 13.7855,  64.6662, 4030,   -999,   2396.8,   2.3358,  34.7786,2,  34.7778,2,    120.5,2,  2.1584,    120.0,2,   135.29,2,    36.05,2,     0.00,2,     2.67,2, -999.000,9, -999.000,9, -999.000,9,-999.0000,9,  -999.00,9,   -999.0,9,  -999.00,9,-999.000,9,   2337.4,2,   2426.3,2,  -999.0, -999.00,-999.0000,-999.000,-999.000
    316N145_10,  I07N,   792,  1,      8,      8,2,19950807,1357, 13.7855,  64.6662, 4030,   -999,   2598.5,   2.1038,  34.7627,2,  34.7648,2,    124.4,2,  1.9121,    123.9,2,   139.22,2,    36.00,2,     0.00,2,     2.66,2, -999.000,9, -999.000,9, -999.000,9,-999.0000,9,  -999.00,9,   -999.0,9,  -999.00,9,-999.000,9,   2340.7,2,   2431.9,2,  -999.0, -999.00,-999.0000,-999.000,-999.000
    316N145_10,  I07N,   792,  1,      7,      7,2,19950807,1357, 13.7855,  64.6662, 4030,   -999,   2795.9,   1.9190,  34.7512,2,  34.7513,2,    129.4,2,  1.7124,    129.7,2,   140.76,2,    35.81,2,     0.00,2,     2.62,2, -999.000,9, -999.000,9, -999.000,9,-999.0000,9,  -999.00,9,   -999.0,9,  -999.00,9,-999.000,9,   2341.6,2,   2434.7,2,  -999.0, -999.00,-999.0000,-999.000,-999.000
    316N145_10,  I07N,   792,  1,      6,      6,2,19950807,1357, 13.7855,  64.6662, 4030,   -999,   3086.6,   1.7917,  34.7430,2,  34.7426,2,    131.5,2,  1.5599,    132.3,2,   143.52,2,    35.77,2,     0.00,2,     2.61,2, -999.000,9, -999.000,9, -999.000,9,-999.0000,9,  -999.00,9,   -999.0,9,  -999.00,9,-999.000,9,   2345.4,2,   2442.6,2,  -999.0, -999.00,-999.0000,-999.000,-999.000
    316N145_10,  I07N,   792,  1,      5,      5,2,19950807,1357, 13.7855,  64.6662, 4030,   -999,   3390.4,   1.7321,  34.7387,2,  34.7404,2,    141.6,2,  1.4712,    143.1,2,   140.86,2,    35.25,2,     0.00,2,     2.56,2, -999.000,9, -999.000,9, -999.000,9,-999.0000,9,  -999.00,9,   -999.0,9,  -999.00,9,-999.000,9,   2334.2,2,   2433.5,2,  -999.0, -999.00,-999.0000,-999.000,-999.000
    316N145_10,  I07N,   792,  1,      4,      4,2,19950807,1357, 13.7855,  64.6662, 4030,   -999,   3696.9,   1.7021,  34.7357,2,  34.7365,2,    151.0,2,  1.4101,    151.7,2,   138.01,2,    34.82,2,     0.00,2,     2.52,2, -999.000,9, -999.000,9, -999.000,9,-999.0000,9,  -999.00,9,   -999.0,9,  -999.00,9,-999.000,9,   2325.5,2,   2429.3,3,  -999.0, -999.00,-999.0000,-999.000,-999.000
    316N145_10,  I07N,   792,  1,      3,      3,2,19950807,1357, 13.7855,  64.6662, 4030,   -999,   4003.3,   1.6961,  34.7342,2,  34.7318,3,    142.6,2,  1.3711,    141.4,2,   142.96,2,    35.62,2,     0.00,2,     2.56,2, -999.000,9, -999.000,9, -999.000,9,-999.0000,9,  -999.00,9,   -999.0,9,  -999.00,9,-999.000,9,   2349.8,2,   2456.7,2,  -999.0, -999.00,-999.0000,-999.000,-999.000
    316N145_10,  I07N,   792,  1,      2,      2,2,19950807,1357, 13.7855,  64.6662, 4030,   -999,   4053.8,   1.7025,  34.7341,2,  34.7353,2,    141.9,2,  1.3717,    141.2,2,   142.90,2,    35.62,2,     0.00,2,     2.56,2, -999.000,9, -999.000,9, -999.000,9,-999.0000,9,  -999.00,9,   -999.0,9,  -999.00,9,-999.000,9,   2349.1,2,   2457.1,2,  -999.0, -999.00,-999.0000,-999.000,-999.000
    316N145_10,  I07N,   792,  1,      1,      1,2,19950807,1357, 13.7855,  64.6662, 4030,   -999,   4088.3,   1.7061,  34.7331,2,  34.7343,2,    141.8,2,  1.3714,    141.1,2,   143.05,2,    35.67,2,     0.00,2,     2.57,2, -999.000,9, -999.000,9, -999.000,9,-999.0000,9,  -999.00,9,   -999.0,9,  -999.00,9,-999.000,9,   2348.2,2,   2455.6,2,  -999.0, -999.00,-999.0000,-999.000,-999.000