BOTTLE,20080821WHPSIOSCD
EXPOCODE,SECT_ID,STNNBR,CASTNO,SAMPNO,BTLNBR,BTLNBR_FLAG_W,DATE,TIME,LATITUDE,LONGITUDE,DEPTH,CTDRAW,CTDPRS,CTDTMP,CTDSAL,CTDSAL_FLAG_W,SALNTY,SALNTY_FLAG_W,CTDOXY,CTDOXY_FLAG_W,THETA,OXYGEN,OXYGEN_FLAG_W,SILCAT,SILCAT_FLAG_W,NITRAT,NITRAT_FLAG_W,NITRIT,NITRIT_FLAG_W,PHSPHT,PHSPHT_FLAG_W,CFC-11,CFC-11_FLAG_W,CFC-12,CFC-12_FLAG_W,TRITUM,TRITUM_FLAG_W,HELIUM,HELIUM_FLAG_W,DELHE3,DELHE3_FLAG_W,DELC14,DELC14_FLAG_W,DELC13,DELC13_FLAG_W,NEON,NEON_FLAG_W,TCARBN,TCARBN_FLAG_W,ALKALI,ALKALI_FLAG_W,C14ERR,DELHER,HELIER,NEONER,TRITER
,,,,,,,,,,,,,DBAR,ITS-90,PSS-78,,PSS-78,,UMOL/KG,,DEG C,UMOL/KG,,UMOL/KG,,UMOL/KG,,UMOL/KG,,UMOL/KG,,PMOL/KG,,PMOL/KG,,TU,,NMOL/KG,,PERCNT,,/MILLE,,/MILLE,,NMOL/KG,,UMOL/KG,,UMOL/KG,,/MILLE,PERCNT,NMOL/KG,NMOL/KG,TU
    316N145_10,  I07N,   799,  1,     36,     36,2,19950809,0641, 16.4838,  62.4172, 3867,   -999,      4.6,  25.8455,  35.9741,2,  35.9740,2,    213.5,2, 25.8447,    206.3,2,     5.15,2,     5.75,2,     0.32,2,     0.75,2,    1.818,2,    1.026,2, -999.000,9,-999.0000,9,  -999.00,9,   -999.0,9,  -999.00,9,-999.000,9,   2053.3,2,   2351.9,2,  -999.0, -999.00,-999.0000,-999.000,-999.000
    316N145_10,  I07N,   799,  1,     35,     35,2,19950809,0641, 16.4838,  62.4172, 3867,   -999,     45.8,  25.7891,  35.9787,2,  35.9780,2,    206.5,2, 25.7791,    204.1,2,     5.13,2,     5.81,2,     0.31,2,     0.76,2, -999.000,9, -999.000,9, -999.000,9,-999.0000,9,  -999.00,9,   -999.0,9,  -999.00,9,-999.000,9,   -999.9,9,   -999.9,9,  -999.0, -999.00,-999.0000,-999.000,-999.000
    316N145_10,  I07N,   799,  1,     34,     34,2,19950809,0641, 16.4838,  62.4172, 3867,   -999,     61.0,  25.0833,  36.3408,2,  36.3406,2,    148.7,2, 25.0702,    146.9,2,     5.48,2,     9.02,2,     0.18,2,     0.88,2,    1.800,2,    1.018,2, -999.000,9,-999.0000,9,  -999.00,9,   -999.0,9,  -999.00,9,-999.000,9,   -999.9,9,   -999.9,9,  -999.0, -999.00,-999.0000,-999.000,-999.000
    316N145_10,  I07N,   799,  1,     33,     33,2,19950809,0641, 16.4838,  62.4172, 3867,   -999,    106.3,  20.9876,  35.9081,2,  35.9087,2,     14.7,2, 20.9674,     17.0,2,    15.48,2,    23.96,2,     0.03,2,     2.01,2, -999.000,9, -999.000,9, -999.000,9,-999.0000,9,  -999.00,9,   -999.0,9,  -999.00,9,-999.000,9,   -999.9,9,   -999.9,9,  -999.0, -999.00,-999.0000,-999.000,-999.000
    316N145_10,  I07N,   799,  1,     32,     32,2,19950809,0641, 16.4838,  62.4172, 3867,   -999,    162.3,  17.9699,  35.8018,2,  35.8020,2,      2.1,2, 17.9421,      2.7,2,    23.39,2,    23.43,2,     0.00,2,     2.29,2,    0.885,2,    0.522,2, -999.000,9,-999.0000,9,  -999.00,9,   -999.0,9,  -999.00,9,-999.000,9,   -999.9,9,   -999.9,9,  -999.0, -999.00,-999.0000,-999.000,-999.000
    316N145_10,  I07N,   799,  1,     31,     31,2,19950809,0641, 16.4838,  62.4172, 3867,   -999,    192.5,  17.1919,  35.8966,2,  35.8880,2,      1.7,2, 17.1599,      3.6,2,    25.43,2,    22.92,2,     0.00,2,     2.30,2, -999.000,9, -999.000,9, -999.000,9,-999.0000,9,  -999.00,9,   -999.0,9,  -999.00,9,-999.000,9,   -999.9,9,   -999.9,9,  -999.0, -999.00,-999.0000,-999.000,-999.000
    316N145_10,  I07N,   799,  1,     30,     30,2,19950809,0641, 16.4838,  62.4172, 3867,   -999,    206.1,  16.7851,  35.8770,2,  35.8608,2,      2.3,2, 16.7513,      3.1,2,    26.34,2,    23.11,2,     0.00,2,     2.32,2,    0.704,2,    0.417,2, -999.000,9,-999.0000,9,  -999.00,9,   -999.0,9,  -999.00,9,-999.000,9,   -999.9,9,   -999.9,9,  -999.0, -999.00,-999.0000,-999.000,-999.000
    316N145_10,  I07N,   799,  1,     29,     29,2,19950809,0641, 16.4838,  62.4172, 3867,   -999,    232.6,  16.1800,  35.8427,2,  35.8523,2,      1.8,2, 16.1428,      4.0,2,    27.43,2,    23.33,2,     0.00,2,     2.34,2, -999.000,9, -999.000,9, -999.000,9,-999.0000,9,  -999.00,9,   -999.0,9,  -999.00,9,-999.000,9,   -999.9,9,   -999.9,9,  -999.0, -999.00,-999.0000,-999.000,-999.000
    316N145_10,  I07N,   799,  1,     28,     28,2,19950809,0641, 16.4838,  62.4172, 3867,   -999,    300.8,  14.8213,  35.8581,2,  35.8592,2,      1.9,2, 14.7759,      1.9,2,    30.79,2,    24.35,2,     0.00,2,     2.40,2,    0.468,2,    0.283,2, -999.000,9,-999.0000,9,  -999.00,9,   -999.0,9,  -999.00,9,-999.000,9,   -999.9,9,   -999.9,9,  -999.0, -999.00,-999.0000,-999.000,-999.000
    316N145_10,  I07N,   799,  1,     27,     27,2,19950809,0641, 16.4838,  62.4172, 3867,   -999,    348.9,  14.1663,  35.8191,2,  35.8195,2,      2.0,2, 14.1151,      1.7,2,    33.01,2,    25.13,2,     0.00,2,     2.45,2,    0.378,2,    0.223,2, -999.000,9,-999.0000,9,  -999.00,9,   -999.0,9,  -999.00,9,-999.000,9,   -999.9,9,   -999.9,9,  -999.0, -999.00,-999.0000,-999.000,-999.000
    316N145_10,  I07N,   799,  1,     26,     26,2,19950809,0641, 16.4838,  62.4172, 3867,   -999,    439.3,  13.3078,  35.7593,2,  35.7598,2,      3.1,2, 13.2456,      3.6,2,    36.92,2,    26.52,2,     0.00,2,     2.53,2,    0.281,2,    0.162,2, -999.000,9,-999.0000,9,  -999.00,9,   -999.0,9,  -999.00,9,-999.000,9,   -999.9,9,   -999.9,9,  -999.0, -999.00,-999.0000,-999.000,-999.000
    316N145_10,  I07N,   799,  1,     25,     25,2,19950809,0641, 16.4838,  62.4172, 3867,   -999,    549.3,  12.2655,  35.6841,2,  35.6821,2,      2.4,2, 12.1914,      1.3,2,    44.97,2,    27.26,2,     0.00,2,     2.68,2,    0.108,2,    0.072,2, -999.000,9,-999.0000,9,  -999.00,9,   -999.0,9,  -999.00,9,-999.000,9,   -999.9,9,   -999.9,9,  -999.0, -999.00,-999.0000,-999.000,-999.000
    316N145_10,  I07N,   799,  1,     24,     24,2,19950809,0641, 16.4838,  62.4172, 3867,   -999,    649.4,  11.2948,  35.5958,2,  35.5966,2,      2.6,2, 11.2114,     -0.1,4,    53.40,2,    30.24,2,     0.00,2,     2.76,2,    0.053,2,    0.034,2, -999.000,9,-999.0000,9,  -999.00,9,   -999.0,9,  -999.00,9,-999.000,9,   -999.9,9,   -999.9,9,  -999.0, -999.00,-999.0000,-999.000,-999.000
    316N145_10,  I07N,   799,  1,     23,     23,2,19950809,0641, 16.4838,  62.4172, 3867,   -999,    759.3,  10.4867,  35.5659,2,  35.5658,2,      2.9,2, 10.3930,      3.1,2,    61.82,2,    32.71,2,     0.00,2,     2.83,2, -999.000,9, -999.000,9, -999.000,9,-999.0000,9,  -999.00,9,   -999.0,9,  -999.00,9,-999.000,9,   -999.9,9,   -999.9,9,  -999.0, -999.00,-999.0000,-999.000,-999.000
    316N145_10,  I07N,   799,  1,     22,     22,2,19950809,0641, 16.4838,  62.4172, 3867,   -999,    849.7,   9.8375,  35.5231,2,  35.5253,2,      6.0,2,  9.7362,      5.7,2,    67.97,2,    34.17,2,     0.00,2,     2.86,2,    0.046,2,    0.023,2, -999.000,9,-999.0000,9,  -999.00,9,   -999.0,9,  -999.00,9,-999.000,9,   -999.9,9,   -999.9,9,  -999.0, -999.00,-999.0000,-999.000,-999.000
    316N145_10,  I07N,   799,  1,     21,     21,2,19950809,0641, 16.4838,  62.4172, 3867,   -999,    926.3,   9.1771,  35.4543,2,  35.4447,3,      8.1,2,  9.0706,      8.2,2,    73.95,2,    35.53,2,     0.00,2,     2.91,2, -999.000,9, -999.000,9, -999.000,9,-999.0000,9,  -999.00,9,   -999.0,9,  -999.00,9,-999.000,9,   -999.9,9,   -999.9,9,  -999.0, -999.00,-999.0000,-999.000,-999.000
    316N145_10,  I07N,   799,  1,     20,     20,2,19950809,0641, 16.4838,  62.4172, 3867,   -999,   1000.4,   8.3670,  35.3433,2,  35.3410,2,      9.8,2,  8.2576,      9.6,2,    79.55,2,    36.90,2,     0.00,2,     2.98,2,    0.013,2,    0.007,2, -999.000,9,-999.0000,9,  -999.00,9,   -999.0,9,  -999.00,9,-999.000,9,   -999.9,9,   -999.9,9,  -999.0, -999.00,-999.0000,-999.000,-999.000
    316N145_10,  I07N,   799,  1,     19,     19,2,19950809,0641, 16.4838,  62.4172, 3867,   -999,   1150.2,   7.5965,  35.2742,2,  35.2725,2,     21.0,2,  7.4761,     19.4,2,    86.29,2,    37.09,2,     0.00,2,     2.97,2, -999.000,9, -999.000,9, -999.000,9,-999.0000,9,  -999.00,9,   -999.0,9,  -999.00,9,-999.000,9,   -999.9,9,   -999.9,9,  -999.0, -999.00,-999.0000,-999.000,-999.000
    316N145_10,  I07N,   799,  1,     18,     18,2,19950809,0641, 16.4838,  62.4172, 3867,   -999,   1298.3,   6.5606,  35.1590,2,  35.1610,2,     29.5,2,  6.4335,     28.3,2,    95.91,2,    37.66,2,     0.00,2,     3.01,2,    0.007,2,    0.006,2, -999.000,9,-999.0000,9,  -999.00,9,   -999.0,9,  -999.00,9,-999.000,9,   -999.9,9,   -999.9,9,  -999.0, -999.00,-999.0000,-999.000,-999.000
    316N145_10,  I07N,   799,  1,     17,     17,2,19950809,0641, 16.4838,  62.4172, 3867,   -999,   1448.9,   5.4724,  35.0462,2,  35.0479,2,     39.8,2,  5.3408,     39.8,2,   107.50,2,    38.18,2,     0.00,2,     3.03,2, -999.000,9, -999.000,9, -999.000,9,-999.0000,9,  -999.00,9,   -999.0,9,  -999.00,9,-999.000,9,   -999.9,9,   -999.9,9,  -999.0, -999.00,-999.0000,-999.000,-999.000
    316N145_10,  I07N,   799,  1,     16,     16,2,19950809,0641, 16.4838,  62.4172, 3867,   -999,   1601.2,   4.4576,  34.9529,2,  34.9540,2,     55.0,2,  4.3227,     56.9,2,   118.43,2,    38.09,2,     0.00,2,     2.99,2,   -0.002,2,   -0.001,2, -999.000,9,-999.0000,9,  -999.00,9,   -999.0,9,  -999.00,9,-999.000,9,   -999.9,9,   -999.9,9,  -999.0, -999.00,-999.0000,-999.000,-999.000
    316N145_10,  I07N,   799,  1,     15,     15,2,19950809,0641, 16.4838,  62.4172, 3867,   -999,   1703.9,   3.9480,  34.9071,2,  34.9077,2,     64.1,2,  3.8098,     68.1,2,   123.79,2,    37.85,2,     0.00,2,     2.94,2, -999.000,9, -999.000,9, -999.000,9,-999.0000,9,  -999.00,9,   -999.0,9,  -999.00,9,-999.000,9,   -999.9,9,   -999.9,9,  -999.0, -999.00,-999.0000,-999.000,-999.000
    316N145_10,  I07N,   799,  1,     14,     14,2,19950809,0641, 16.4838,  62.4172, 3867,   -999,   1802.5,   3.5466,  34.8730,2,  34.8743,2,     76.5,2,  3.4047,     77.8,2,   128.01,2,    37.51,2,     0.00,2,     2.89,2,   -0.002,2,    0.001,2, -999.000,9,-999.0000,9,  -999.00,9,   -999.0,9,  -999.00,9,-999.000,9,   -999.9,9,   -999.9,9,  -999.0, -999.00,-999.0000,-999.000,-999.000
    316N145_10,  I07N,   799,  1,     13,     13,2,19950809,0641, 16.4838,  62.4172, 3867,   -999,   1998.2,   3.0487,  34.8362,2,  34.8330,2,     89.8,2,  2.8960,     90.4,2,   133.84,2,    37.08,2,     0.00,2,     2.83,2, -999.000,9, -999.000,9, -999.000,9,-999.0000,9,  -999.00,9,   -999.0,9,  -999.00,9,-999.000,9,   -999.9,9,   -999.9,9,  -999.0, -999.00,-999.0000,-999.000,-999.000
    316N145_10,  I07N,   799,  1,     12,     12,2,19950809,0641, 16.4838,  62.4172, 3867,   -999,   2202.5,   2.5943,  34.8017,2,  34.8016,2,    101.6,2,  2.4302,    101.6,2,   139.31,2,    36.66,2,     0.00,2,     2.76,2, -999.000,9, -999.000,9, -999.000,9,-999.0000,9,  -999.00,9,   -999.0,9,  -999.00,9,-999.000,9,   -999.9,9,   -999.9,9,  -999.0, -999.00,-999.0000,-999.000,-999.000
    316N145_10,  I07N,   799,  1,     11,     11,2,19950809,0641, 16.4838,  62.4172, 3867,   -999,   2401.9,   2.2928,  34.7815,2,  34.7867,3,    107.7,2,  2.1157,    108.0,2,   143.83,2,    36.56,2,     0.00,2,     2.73,2, -999.000,9, -999.000,9, -999.000,9,-999.0000,9,  -999.00,9,   -999.0,9,  -999.00,9,-999.000,9,   -999.9,9,   -999.9,9,  -999.0, -999.00,-999.0000,-999.000,-999.000
    316N145_10,  I07N,   799,  1,     10,     10,2,19950809,0641, 16.4838,  62.4172, 3867,   -999,   2593.0,   2.0448,  34.7615,2,  34.7610,2,    118.7,2,  1.8548,    118.9,2,   144.53,2,    36.23,2,     0.00,2,     2.67,2, -999.000,9, -999.000,9, -999.000,9,-999.0000,9,  -999.00,9,   -999.0,9,  -999.00,9,-999.000,9,   -999.9,9,   -999.9,9,  -999.0, -999.00,-999.0000,-999.000,-999.000
    316N145_10,  I07N,   799,  1,      9,      9,2,19950809,0641, 16.4838,  62.4172, 3867,   -999,   2847.0,   1.8744,  34.7495,2,  34.7490,2,    121.7,2,  1.6639,    122.2,2,   147.45,2,    35.99,2,     0.00,2,     2.65,2, -999.000,9, -999.000,9, -999.000,9,-999.0000,9,  -999.00,9,   -999.0,9,  -999.00,9,-999.000,9,   -999.9,9,   -999.9,9,  -999.0, -999.00,-999.0000,-999.000,-999.000
    316N145_10,  I07N,   799,  1,      8,      8,2,19950809,0641, 16.4838,  62.4172, 3867,   -999,   2918.4,   1.8438,  34.7483,2,  34.7471,2,    120.7,2,  1.6271,    121.4,2,   148.97,2,    36.08,2,     0.00,2,     2.66,2, -999.000,9, -999.000,9, -999.000,9,-999.0000,9,  -999.00,9,   -999.0,9,  -999.00,9,-999.000,9,   -999.9,9,   -999.9,9,  -999.0, -999.00,-999.0000,-999.000,-999.000
    316N145_10,  I07N,   799,  1,      7,      7,2,19950809,0641, 16.4838,  62.4172, 3867,   -999,   3100.9,   1.7774,  34.7425,2,  34.7425,2,    126.4,2,  1.5444,    126.9,2,   148.64,2,    35.89,2,     0.00,2,     2.63,2, -999.000,9, -999.000,9, -999.000,9,-999.0000,9,  -999.00,9,   -999.0,9,  -999.00,9,-999.000,9,   -999.9,9,   -999.9,9,  -999.0, -999.00,-999.0000,-999.000,-999.000
    316N145_10,  I07N,   799,  1,      6,      6,2,19950809,0641, 16.4838,  62.4172, 3867,   -999,   3299.1,   1.7369,  34.7396,2,  34.7392,2,    131.2,2,  1.4851,    131.5,2,   147.91,2,    35.74,2,     0.00,2,     2.61,2, -999.000,9, -999.000,9, -999.000,9,-999.0000,9,  -999.00,9,   -999.0,9,  -999.00,9,-999.000,9,   -999.9,9,   -999.9,9,  -999.0, -999.00,-999.0000,-999.000,-999.000
    316N145_10,  I07N,   799,  1,      5,      5,2,19950809,0641, 16.4838,  62.4172, 3867,   -999,   3448.4,   1.7202,  34.7377,2,  34.7376,2,    135.4,2,  1.4536,    136.5,2,   145.97,2,    35.60,2,     0.00,2,     2.58,2, -999.000,9, -999.000,9, -999.000,9,-999.0000,9,  -999.00,9,   -999.0,9,  -999.00,9,-999.000,9,   -999.9,9,   -999.9,9,  -999.0, -999.00,-999.0000,-999.000,-999.000
    316N145_10,  I07N,   799,  1,      4,      4,2,19950809,0641, 16.4838,  62.4172, 3867,   -999,   3602.0,   1.7066,  34.7367,2,  34.7359,2,    140.2,2,  1.4244,    140.6,2,   144.24,2,    35.45,2,     0.00,2,     2.56,2, -999.000,9, -999.000,9, -999.000,9,-999.0000,9,  -999.00,9,   -999.0,9,  -999.00,9,-999.000,9,   -999.9,9,   -999.9,9,  -999.0, -999.00,-999.0000,-999.000,-999.000
    316N145_10,  I07N,   799,  1,      3,      3,9,19950809,0641, 16.4838,  62.4172, 3867,   -999,   3698.8,   1.7043,  34.7358,2,-999.0000,9,    138.6,2,  1.4120,   -999.0,9,  -999.00,9,  -999.00,9,  -999.00,9,  -999.00,9, -999.000,9, -999.000,9, -999.000,9,-999.0000,9,  -999.00,9,   -999.0,9,  -999.00,9,-999.000,9,   -999.9,9,   -999.9,9,  -999.0, -999.00,-999.0000,-999.000,-999.000
    316N145_10,  I07N,   799,  1,      2,      2,2,19950809,0641, 16.4838,  62.4172, 3867,   -999,   3850.2,   1.7114,  34.7353,2,  34.7349,2,    128.6,2,  1.4027,    125.5,2,   151.84,2,    36.44,2,     0.00,2,     2.63,2, -999.000,9, -999.000,9, -999.000,9,-999.0000,9,  -999.00,9,   -999.0,9,  -999.00,9,-999.000,9,   -999.9,9,   -999.9,9,  -999.0, -999.00,-999.0000,-999.000,-999.000
    316N145_10,  I07N,   799,  1,      1,      1,2,19950809,0641, 16.4838,  62.4172, 3867,   -999,   3922.1,   1.7187,  34.7351,2,  34.7347,2,    122.0,2,  1.4020,    122.8,2,   153.78,2,    36.53,2,     0.00,2,     2.65,2, -999.000,9, -999.000,9, -999.000,9,-999.0000,9,  -999.00,9,   -999.0,9,  -999.00,9,-999.000,9,   -999.9,9,   -999.9,9,  -999.0, -999.00,-999.0000,-999.000,-999.000