BOTTLE,20080821WHPSIOSCD
EXPOCODE,SECT_ID,STNNBR,CASTNO,SAMPNO,BTLNBR,BTLNBR_FLAG_W,DATE,TIME,LATITUDE,LONGITUDE,DEPTH,CTDRAW,CTDPRS,CTDTMP,CTDSAL,CTDSAL_FLAG_W,SALNTY,SALNTY_FLAG_W,CTDOXY,CTDOXY_FLAG_W,THETA,OXYGEN,OXYGEN_FLAG_W,SILCAT,SILCAT_FLAG_W,NITRAT,NITRAT_FLAG_W,NITRIT,NITRIT_FLAG_W,PHSPHT,PHSPHT_FLAG_W,CFC-11,CFC-11_FLAG_W,CFC-12,CFC-12_FLAG_W,TRITUM,TRITUM_FLAG_W,HELIUM,HELIUM_FLAG_W,DELHE3,DELHE3_FLAG_W,DELC14,DELC14_FLAG_W,DELC13,DELC13_FLAG_W,NEON,NEON_FLAG_W,TCARBN,TCARBN_FLAG_W,ALKALI,ALKALI_FLAG_W,C14ERR,DELHER,HELIER,NEONER,TRITER
,,,,,,,,,,,,,DBAR,ITS-90,PSS-78,,PSS-78,,UMOL/KG,,DEG C,UMOL/KG,,UMOL/KG,,UMOL/KG,,UMOL/KG,,UMOL/KG,,PMOL/KG,,PMOL/KG,,TU,,NMOL/KG,,PERCNT,,/MILLE,,/MILLE,,NMOL/KG,,UMOL/KG,,UMOL/KG,,/MILLE,PERCNT,NMOL/KG,NMOL/KG,TU
    316N145_10,  I07N,   798,  1,     36,     36,2,19950809,0104, 16.1602,  62.8663, 3858,   -999,     10.1,  26.5108,  36.2333,2,  36.2333,2,    207.1,2, 26.5088,    201.6,2,     2.19,2,     1.59,2,     0.16,2,     0.46,2,    1.729,2,    0.977,2, -999.000,9,-999.0000,9,  -999.00,9,   -999.0,9,  -999.00,9,-999.000,9,   -999.9,5,   2363.6,2,  -999.0, -999.00,-999.0000,-999.000,-999.000
    316N145_10,  I07N,   798,  1,     35,     35,2,19950809,0104, 16.1602,  62.8663, 3858,   -999,     41.6,  26.5184,  36.2330,2,  36.2325,2,    203.8,2, 26.5092,    200.5,2,     2.56,2,     1.68,2,     0.17,2,     0.47,2,    1.714,2,    0.971,2, -999.000,9,-999.0000,9,  -999.00,9,   -999.0,9,  -999.00,9,-999.000,9,   -999.9,5,   2364.1,2,  -999.0, -999.00,-999.0000,-999.000,-999.000
    316N145_10,  I07N,   798,  1,     34,     34,2,19950809,0104, 16.1602,  62.8663, 3858,   -999,     61.9,  24.5703,  36.2560,2,  36.2574,2,    144.0,2, 24.5573,    119.1,2,     5.61,2,    11.41,2,     0.18,2,     1.08,2, -999.000,9, -999.000,9, -999.000,9,-999.0000,9,  -999.00,9,   -999.0,9,  -999.00,9,-999.000,9,   -999.9,5,   2362.1,2,  -999.0, -999.00,-999.0000,-999.000,-999.000
    316N145_10,  I07N,   798,  1,     33,     33,2,19950809,0104, 16.1602,  62.8663, 3858,   -999,     81.6,  23.4480,  36.3948,2,  36.3883,2,     97.4,2, 23.4313,     86.7,2,     7.90,2,    14.31,2,     0.07,2,     1.34,2,    1.689,2,    0.965,2, -999.000,9,-999.0000,9,  -999.00,9,   -999.0,9,  -999.00,9,-999.000,9,   -999.9,5,   2373.0,2,  -999.0, -999.00,-999.0000,-999.000,-999.000
    316N145_10,  I07N,   798,  1,     32,     32,2,19950809,0104, 16.1602,  62.8663, 3858,   -999,    100.3,  21.8963,  36.2042,2,  36.2009,2,     33.7,2, 21.8766,     26.5,2,    12.10,2,    21.53,2,     0.06,2,     1.91,2, -999.000,9, -999.000,9, -999.000,9,-999.0000,9,  -999.00,9,   -999.0,9,  -999.00,9,-999.000,9,   -999.9,5,   2361.4,2,  -999.0, -999.00,-999.0000,-999.000,-999.000
    316N145_10,  I07N,   798,  1,     31,     31,2,19950809,0104, 16.1602,  62.8663, 3858,   -999,    131.5,  20.4694,  36.1088,2,  36.1088,2,      0.7,2, 20.4448,      0.9,2,    16.29,2,    19.33,2,     1.75,2,     2.26,2,    1.245,2,    0.741,2, -999.000,9,-999.0000,9,  -999.00,9,   -999.0,9,  -999.00,9,-999.000,9,   -999.9,5,   2355.3,2,  -999.0, -999.00,-999.0000,-999.000,-999.000
    316N145_10,  I07N,   798,  1,     30,     30,2,19950809,0104, 16.1602,  62.8663, 3858,   -999,    152.2,  20.1170,  36.1088,2,  36.1086,2,      0.7,2, 20.0888,      0.6,2,    17.41,2,    16.79,2,     3.68,2,     2.29,2, -999.000,9, -999.000,9, -999.000,9,-999.0000,9,  -999.00,9,   -999.0,9,  -999.00,9,-999.000,9,   -999.9,5,   2357.3,2,  -999.0, -999.00,-999.0000,-999.000,-999.000
    316N145_10,  I07N,   798,  1,     29,     29,2,19950809,0104, 16.1602,  62.8663, 3858,   -999,    200.8,  18.8160,  35.9971,2,  35.9935,2,      0.8,2, 18.7804,      1.2,2,    20.25,2,    22.55,2,     0.02,2,     2.28,2,    0.999,2,    0.586,2, -999.000,9,-999.0000,9,  -999.00,9,   -999.0,9,  -999.00,9,-999.000,9,   -999.9,5,   2348.3,2,  -999.0, -999.00,-999.0000,-999.000,-999.000
    316N145_10,  I07N,   798,  1,     28,     28,2,19950809,0104, 16.1602,  62.8663, 3858,   -999,    230.6,  16.6855,  35.8134,2,  35.8108,2,      0.8,2, 16.6478,      1.7,2,    24.62,2,    22.94,2,     0.00,2,     2.33,2,    0.721,2,    0.427,2, -999.000,9,-999.0000,9,  -999.00,9,   -999.0,9,  -999.00,9,-999.000,9,   -999.9,5,   2345.0,2,  -999.0, -999.00,-999.0000,-999.000,-999.000
    316N145_10,  I07N,   798,  1,     27,     27,2,19950809,0104, 16.1602,  62.8663, 3858,   -999,    281.9,  15.4711,  35.8915,2,  35.8817,2,      0.9,2, 15.4272,      1.7,2,    27.83,2,    23.69,2,     0.00,2,     2.36,2, -999.000,9, -999.000,9, -999.000,9,-999.0000,9,  -999.00,9,   -999.0,9,  -999.00,9,-999.000,9,   -999.9,5,   2346.5,2,  -999.0, -999.00,-999.0000,-999.000,-999.000
    316N145_10,  I07N,   798,  1,     26,     26,2,19950809,0104, 16.1602,  62.8663, 3858,   -999,    354.3,  14.2538,  35.8477,2,  35.8452,2,      1.0,2, 14.2015,      1.3,2,    31.80,2,    24.53,2,     0.00,2,     2.46,2,    0.372,2,    0.224,2, -999.000,9,-999.0000,9,  -999.00,9,   -999.0,9,  -999.00,9,-999.000,9,   -999.9,5,   2349.2,2,  -999.0, -999.00,-999.0000,-999.000,-999.000
    316N145_10,  I07N,   798,  1,     25,     25,2,19950809,0104, 16.1602,  62.8663, 3858,   -999,    384.5,  13.6650,  35.7786,2,  35.7728,2,      1.0,2, 13.6098,      1.5,2,    33.67,2,    25.84,2,     0.00,2,     2.49,2,    0.317,2,    0.184,2, -999.000,9,-999.0000,9,  -999.00,9,   -999.0,9,  -999.00,9,-999.000,9,   -999.9,5,   2345.5,2,  -999.0, -999.00,-999.0000,-999.000,-999.000
    316N145_10,  I07N,   798,  1,     24,     24,2,19950809,0104, 16.1602,  62.8663, 3858,   -999,    460.5,  12.6485,  35.6835,2,  35.6833,2,      1.1,2, 12.5854,      0.6,2,    39.73,2,    25.71,2,     0.64,2,     2.63,2,    0.130,2,    0.092,2, -999.000,9,-999.0000,9,  -999.00,9,   -999.0,9,  -999.00,9,-999.000,9,   -999.9,5,   2349.7,2,  -999.0, -999.00,-999.0000,-999.000,-999.000
    316N145_10,  I07N,   798,  1,     23,     23,2,19950809,0104, 16.1602,  62.8663, 3858,   -999,    560.5,  12.1276,  35.6785,2,  35.6748,2,      1.1,2, 12.0526,      0.6,2,    45.39,2,    26.75,2,     0.21,2,     2.71,2,    0.088,2,    0.062,2, -999.000,9,-999.0000,9,  -999.00,9,   -999.0,9,  -999.00,9,-999.000,9,   -999.9,5,   2353.2,2,  -999.0, -999.00,-999.0000,-999.000,-999.000
    316N145_10,  I07N,   798,  1,     22,     22,2,19950809,0104, 16.1602,  62.8663, 3858,   -999,    659.2,  11.3500,  35.6149,2,  35.6123,2,      1.2,2, 11.2650,      1.5,2,    51.81,2,    30.01,2,     0.00,2,     2.76,2,    0.063,2,    0.038,2, -999.000,9,-999.0000,9,  -999.00,9,   -999.0,9,  -999.00,9,-999.000,9,   -999.9,5,   2355.0,2,  -999.0, -999.00,-999.0000,-999.000,-999.000
    316N145_10,  I07N,   798,  1,     21,     21,2,19950809,0104, 16.1602,  62.8663, 3858,   -999,    785.0,  10.1737,  35.5120,2,  35.5127,2,      1.3,2, 10.0785,      1.5,2,    62.81,2,    33.03,2,     0.00,2,     2.89,2,    0.024,2,    0.013,2, -999.000,9,-999.0000,9,  -999.00,9,   -999.0,9,  -999.00,9,-999.000,9,   -999.9,5,   2351.8,2,  -999.0, -999.00,-999.0000,-999.000,-999.000
    316N145_10,  I07N,   798,  1,     20,     20,2,19950809,0104, 16.1602,  62.8663, 3858,   -999,    850.9,   9.7128,  35.4944,2,  35.4943,2,      4.5,2,  9.6120,      5.1,2,    67.12,2,    34.45,2,     0.00,2,     2.88,2,    0.038,2,    0.024,2, -999.000,9,-999.0000,9,  -999.00,9,   -999.0,9,  -999.00,9,-999.000,9,   -999.9,5,   2376.4,2,  -999.0, -999.00,-999.0000,-999.000,-999.000
    316N145_10,  I07N,   798,  1,     19,     19,2,19950809,0104, 16.1602,  62.8663, 3858,   -999,    951.5,   8.8685,  35.4056,2,  35.4081,2,      7.8,2,  8.7612,      8.4,2,    74.10,2,    35.93,2,     0.00,2,     2.93,2,    0.024,2,    0.015,2, -999.000,9,-999.0000,9,  -999.00,9,   -999.0,9,  -999.00,9,-999.000,9,   -999.9,5,   2373.9,2,  -999.0, -999.00,-999.0000,-999.000,-999.000
    316N145_10,  I07N,   798,  1,     18,     18,2,19950809,0104, 16.1602,  62.8663, 3858,   -999,   1052.2,   8.1139,  35.3343,2,  35.3331,2,     10.4,2,  8.0003,     10.5,2,    81.28,2,    36.79,2,     0.00,2,     2.98,2,    0.017,2,    0.008,2, -999.000,9,-999.0000,9,  -999.00,9,   -999.0,9,  -999.00,9,-999.000,9,   -999.9,5,   2378.5,2,  -999.0, -999.00,-999.0000,-999.000,-999.000
    316N145_10,  I07N,   798,  1,     17,     17,2,19950809,0104, 16.1602,  62.8663, 3858,   -999,   1150.7,   7.2817,  35.2399,2,  35.2393,2,     13.7,2,  7.1639,     16.0,2,    88.85,2,    37.65,2,     0.00,2,     3.05,2, -999.000,9, -999.000,9, -999.000,9,-999.0000,9,  -999.00,9,   -999.0,9,  -999.00,9,-999.000,9,   -999.9,5,   2380.8,2,  -999.0, -999.00,-999.0000,-999.000,-999.000
    316N145_10,  I07N,   798,  1,     16,     16,2,19950809,0104, 16.1602,  62.8663, 3858,   -999,   1249.0,   6.5191,  35.1562,2,  35.1588,2,     26.3,2,  6.3976,     26.6,2,    95.29,2,    37.79,2,     0.00,2,     3.03,2,    0.004,2,    0.001,2, -999.000,9,-999.0000,9,  -999.00,9,   -999.0,9,  -999.00,9,-999.000,9,   -999.9,5,   2387.0,2,  -999.0, -999.00,-999.0000,-999.000,-999.000
    316N145_10,  I07N,   798,  1,     15,     15,2,19950809,0104, 16.1602,  62.8663, 3858,   -999,   1479.5,   4.9955,  35.0029,2,  35.0033,2,     44.5,2,  4.8661,     46.4,2,   111.63,2,    38.18,2,     0.00,2,     3.03,2, -999.000,9, -999.000,9, -999.000,9,-999.0000,9,  -999.00,9,   -999.0,9,  -999.00,9,-999.000,9,   -999.9,5,   2408.7,2,  -999.0, -999.00,-999.0000,-999.000,-999.000
    316N145_10,  I07N,   798,  1,     14,     14,2,19950809,0104, 16.1602,  62.8663, 3858,   -999,   1699.7,   3.8238,  34.8971,2,  34.8973,2,     71.4,2,  3.6877,     72.1,2,   123.87,2,    37.70,2,     0.00,2,     2.93,2,   -0.002,2,    0.002,2, -999.000,9,-999.0000,9,  -999.00,9,   -999.0,9,  -999.00,9,-999.000,9,   -999.9,5,   2414.3,2,  -999.0, -999.00,-999.0000,-999.000,-999.000
    316N145_10,  I07N,   798,  1,     13,     13,2,19950809,0104, 16.1602,  62.8663, 3858,   -999,   1899.2,   3.1544,  34.8437,2,  34.8431,2,     88.1,2,  3.0092,     88.4,2,   131.48,2,    37.18,2,     0.00,2,     2.84,2,    0.000,2,    0.001,2, -999.000,9,-999.0000,9,  -999.00,9,   -999.0,9,  -999.00,9,-999.000,9,   -999.9,5,   2422.3,2,  -999.0, -999.00,-999.0000,-999.000,-999.000
    316N145_10,  I07N,   798,  1,     12,     12,2,19950809,0104, 16.1602,  62.8663, 3858,   -999,   2099.3,   2.7168,  34.8113,2,  34.8107,2,     99.6,2,  2.5601,     99.1,2,   136.76,2,    36.84,2,     0.00,2,     2.79,2, -999.000,9, -999.000,9, -999.000,9,-999.0000,9,  -999.00,9,   -999.0,9,  -999.00,9,-999.000,9,   -999.9,5,   2428.9,2,  -999.0, -999.00,-999.0000,-999.000,-999.000
    316N145_10,  I07N,   798,  1,     11,     11,2,19950809,0104, 16.1602,  62.8663, 3858,   -999,   2299.8,   2.3727,  34.7864,2,  34.7840,2,    108.7,2,  2.2035,    108.5,2,   140.45,2,    36.51,2,     0.00,2,     2.73,2, -999.000,9, -999.000,9, -999.000,9,-999.0000,9,  -999.00,9,   -999.0,9,  -999.00,9,-999.000,9,   -999.9,5,   2434.5,2,  -999.0, -999.00,-999.0000,-999.000,-999.000
    316N145_10,  I07N,   798,  1,     10,     10,2,19950809,0104, 16.1602,  62.8663, 3858,   -999,   2502.2,   2.1283,  34.7673,2,  34.7653,2,    118.8,2,  1.9450,    117.5,2,   142.13,2,    36.27,2,     0.00,2,     2.69,2, -999.000,9, -999.000,9, -999.000,9,-999.0000,9,  -999.00,9,   -999.0,9,  -999.00,9,-999.000,9,   -999.9,5,   2438.5,2,  -999.0, -999.00,-999.0000,-999.000,-999.000
    316N145_10,  I07N,   798,  1,      9,      9,2,19950809,0104, 16.1602,  62.8663, 3858,   -999,   2701.8,   1.9455,  34.7549,2,  34.7522,2,    125.5,2,  1.7472,    125.2,2,   143.21,2,    35.98,2,     0.00,2,     2.65,2, -999.000,9, -999.000,9, -999.000,9,-999.0000,9,  -999.00,9,   -999.0,9,  -999.00,9,-999.000,9,   -999.9,5,   2437.5,2,  -999.0, -999.00,-999.0000,-999.000,-999.000
    316N145_10,  I07N,   798,  1,      8,      8,2,19950809,0104, 16.1602,  62.8663, 3858,   -999,   2898.6,   1.8291,  34.7467,2,  34.7461,2,    130.8,2,  1.6147,    130.5,2,   143.47,2,    35.84,2,     0.00,2,     2.62,2, -999.000,9, -999.000,9, -999.000,9,-999.0000,9,  -999.00,9,   -999.0,9,  -999.00,9,-999.000,9,   -999.9,5,   2442.3,2,  -999.0, -999.00,-999.0000,-999.000,-999.000
    316N145_10,  I07N,   798,  1,      7,      7,2,19950809,0104, 16.1602,  62.8663, 3858,   -999,   3207.9,   1.7489,  34.7408,2,  34.7406,2,    134.0,2,  1.5060,    134.1,2,   144.75,2,    35.75,2,     0.00,2,     2.61,2, -999.000,9, -999.000,9, -999.000,9,-999.0000,9,  -999.00,9,   -999.0,9,  -999.00,9,-999.000,9,   -999.9,5,   2443.7,2,  -999.0, -999.00,-999.0000,-999.000,-999.000
    316N145_10,  I07N,   798,  1,      6,      6,2,19950809,0104, 16.1602,  62.8663, 3858,   -999,   3303.6,   1.7369,  34.7400,2,  34.7386,2,    135.3,2,  1.4847,    135.5,2,   144.40,2,    35.79,2,     0.00,2,     2.59,2, -999.000,9, -999.000,9, -999.000,9,-999.0000,9,  -999.00,9,   -999.0,9,  -999.00,9,-999.000,9,   -999.9,5,   2447.1,2,  -999.0, -999.00,-999.0000,-999.000,-999.000
    316N145_10,  I07N,   798,  1,      5,      5,2,19950809,0104, 16.1602,  62.8663, 3858,   -999,   3452.6,   1.7142,  34.7375,2,  34.7368,2,    138.6,2,  1.4474,    139.1,2,   143.44,2,    35.55,2,     0.00,2,     2.58,2, -999.000,9, -999.000,9, -999.000,9,-999.0000,9,  -999.00,9,   -999.0,9,  -999.00,9,-999.000,9,   -999.9,5,   2442.6,2,  -999.0, -999.00,-999.0000,-999.000,-999.000
    316N145_10,  I07N,   798,  1,      4,      4,2,19950809,0104, 16.1602,  62.8663, 3858,   -999,   3605.1,   1.7051,  34.7374,2,  34.7347,2,    141.0,2,  1.4227,    141.1,2,   142.69,2,    35.51,2,     0.00,2,     2.57,2, -999.000,9, -999.000,9, -999.000,9,-999.0000,9,  -999.00,9,   -999.0,9,  -999.00,9,-999.000,9,   -999.9,5,   2447.2,2,  -999.0, -999.00,-999.0000,-999.000,-999.000
    316N145_10,  I07N,   798,  1,      3,      3,2,19950809,0104, 16.1602,  62.8663, 3858,   -999,   3697.9,   1.7035,  34.7360,2,  34.7345,2,    139.9,2,  1.4113,    139.3,2,   143.36,2,    35.74,2,     0.00,2,     2.57,2, -999.000,9, -999.000,9, -999.000,9,-999.0000,9,  -999.00,9,   -999.0,9,  -999.00,9,-999.000,9,   -999.9,5,   2448.7,2,  -999.0, -999.00,-999.0000,-999.000,-999.000
    316N145_10,  I07N,   798,  1,      2,      2,2,19950809,0104, 16.1602,  62.8663, 3858,   -999,   3820.3,   1.7135,  34.7362,2,  34.7347,2,    130.4,2,  1.4080,    129.9,2,   147.48,2,    36.36,2,     0.00,2,     2.62,2, -999.000,9, -999.000,9, -999.000,9,-999.0000,9,  -999.00,9,   -999.0,9,  -999.00,9,-999.000,9,   -999.9,5,   2471.1,2,  -999.0, -999.00,-999.0000,-999.000,-999.000
    316N145_10,  I07N,   798,  1,      1,      1,2,19950809,0104, 16.1602,  62.8663, 3858,   -999,   3920.1,   1.7178,  34.7358,2,  34.7353,2,    123.3,2,  1.4013,    123.5,2,   151.83,2,    36.65,2,     0.00,2,     2.66,2, -999.000,9, -999.000,9, -999.000,9,-999.0000,9,  -999.00,9,   -999.0,9,  -999.00,9,-999.000,9,   -999.9,5,   2480.4,2,  -999.0, -999.00,-999.0000,-999.000,-999.000