BOTTLE,20080821WHPSIOSCD
EXPOCODE,SECT_ID,STNNBR,CASTNO,SAMPNO,BTLNBR,BTLNBR_FLAG_W,DATE,TIME,LATITUDE,LONGITUDE,DEPTH,CTDRAW,CTDPRS,CTDTMP,CTDSAL,CTDSAL_FLAG_W,SALNTY,SALNTY_FLAG_W,CTDOXY,CTDOXY_FLAG_W,THETA,OXYGEN,OXYGEN_FLAG_W,SILCAT,SILCAT_FLAG_W,NITRAT,NITRAT_FLAG_W,NITRIT,NITRIT_FLAG_W,PHSPHT,PHSPHT_FLAG_W,CFC-11,CFC-11_FLAG_W,CFC-12,CFC-12_FLAG_W,TRITUM,TRITUM_FLAG_W,HELIUM,HELIUM_FLAG_W,DELHE3,DELHE3_FLAG_W,DELC14,DELC14_FLAG_W,DELC13,DELC13_FLAG_W,NEON,NEON_FLAG_W,TCARBN,TCARBN_FLAG_W,ALKALI,ALKALI_FLAG_W,C14ERR,DELHER,HELIER,NEONER,TRITER
,,,,,,,,,,,,,DBAR,ITS-90,PSS-78,,PSS-78,,UMOL/KG,,DEG C,UMOL/KG,,UMOL/KG,,UMOL/KG,,UMOL/KG,,UMOL/KG,,PMOL/KG,,PMOL/KG,,TU,,NMOL/KG,,PERCNT,,/MILLE,,/MILLE,,NMOL/KG,,UMOL/KG,,UMOL/KG,,/MILLE,PERCNT,NMOL/KG,NMOL/KG,TU
    316N145_10,  I07N,   838,  1,     36,     36,2,19950818,1054, 21.5662,  60.0967, 2937,   -999,      3.9,  24.4220,  35.8194,2,  35.8213,2,    224.2,2, 24.4214,    227.3,2,     5.60,2,     9.26,2,     0.37,2,     1.13,2, -999.000,9, -999.000,9, -999.000,9,-999.0000,9,  -999.00,9,   -999.0,9,  -999.00,9,-999.000,9,   -999.9,5,   2346.7,2,  -999.0, -999.00,-999.0000,-999.000,-999.000
    316N145_10,  I07N,   838,  1,     35,     35,2,19950818,1054, 21.5662,  60.0967, 2937,   -999,     27.5,  23.2291,  35.7964,2,  35.8000,2,    227.6,2, 23.2237,    205.8,2,     5.58,2,    12.39,2,     0.77,2,     1.33,2, -999.000,9, -999.000,9, -999.000,9,-999.0000,9,  -999.00,9,   -999.0,9,  -999.00,9,-999.000,9,   -999.9,9,   -999.9,9,  -999.0, -999.00,-999.0000,-999.000,-999.000
    316N145_10,  I07N,   838,  1,     34,     34,2,19950818,1054, 21.5662,  60.0967, 2937,   -999,     60.7,  21.0494,  35.9663,2,  35.9395,2,     21.8,2, 21.0380,     17.4,2,    14.77,2,    24.00,2,     0.04,2,     2.01,2,    1.373,2,    0.772,2, -999.000,9,-999.0000,9,  -999.00,9,   -999.0,9,  -999.00,9,-999.000,9,   -999.9,9,   -999.9,9,  -999.0, -999.00,-999.0000,-999.000,-999.000
    316N145_10,  I07N,   838,  1,     33,     33,2,19950818,1054, 21.5662,  60.0967, 2937,   -999,     89.8,  19.7099,  35.8725,2,  35.8895,2,      2.7,2, 19.6936,      2.9,2,    18.40,2,    24.26,2,     0.01,2,     2.23,2, -999.000,9, -999.000,9, -999.000,9,-999.0000,9,  -999.00,9,   -999.0,9,  -999.00,9,-999.000,9,   -999.9,9,   -999.9,9,  -999.0, -999.00,-999.0000,-999.000,-999.000
    316N145_10,  I07N,   838,  1,     32,     32,2,19950818,1054, 21.5662,  60.0967, 2937,   -999,    120.1,  18.5600,  35.7993,2,  35.8126,2,      2.3,2, 18.5391,      1.8,2,    21.16,2,    23.71,2,     0.00,2,     2.27,2,    0.968,2,    0.563,2, -999.000,9,-999.0000,9,  -999.00,9,   -999.0,9,  -999.00,9,-999.000,9,   -999.9,9,   -999.9,9,  -999.0, -999.00,-999.0000,-999.000,-999.000
    316N145_10,  I07N,   838,  1,     31,     31,2,19950818,1054, 21.5662,  60.0967, 2937,   -999,    149.9,  17.5970,  35.8480,2,  35.8394,2,      1.6,2, 17.5717,      2.3,2,    23.58,2,    22.74,2,     0.13,2,     2.29,2, -999.000,9, -999.000,9, -999.000,9,-999.0000,9,  -999.00,9,   -999.0,9,  -999.00,9,-999.000,9,   -999.9,9,   -999.9,9,  -999.0, -999.00,-999.0000,-999.000,-999.000
    316N145_10,  I07N,   838,  1,     30,     30,2,19950818,1054, 21.5662,  60.0967, 2937,   -999,    200.0,  16.7436,  36.1366,2,  36.0988,2,      5.0,2, 16.7108,      5.7,2,    25.63,2,    22.67,2,     0.01,2,     2.26,2,    0.708,2,    0.435,2, -999.000,9,-999.0000,9,  -999.00,9,   -999.0,9,  -999.00,9,-999.000,9,   -999.9,9,   -999.9,9,  -999.0, -999.00,-999.0000,-999.000,-999.000
    316N145_10,  I07N,   838,  1,     29,     29,2,19950818,1054, 21.5662,  60.0967, 2937,   -999,    260.2,  14.2873,  35.6136,2,  35.6183,2,     15.1,2, 14.2491,     14.4,2,    27.88,2,    26.56,2,     0.00,2,     2.25,2,    0.573,2,    0.318,2, -999.000,9,-999.0000,9,  -999.00,9,   -999.0,9,  -999.00,9,-999.000,9,   -999.9,9,   -999.9,9,  -999.0, -999.00,-999.0000,-999.000,-999.000
    316N145_10,  I07N,   838,  1,     28,     28,2,19950818,1054, 21.5662,  60.0967, 2937,   -999,    300.9,  14.6819,  35.8688,2,  35.8444,2,      4.4,2, 14.6367,      4.8,2,    30.11,2,    25.15,2,     0.00,2,     2.36,2, -999.000,9, -999.000,9, -999.000,9,-999.0000,9,  -999.00,9,   -999.0,9,  -999.00,9,-999.000,9,   -999.9,9,   -999.9,9,  -999.0, -999.00,-999.0000,-999.000,-999.000
    316N145_10,  I07N,   838,  1,     27,     27,2,19950818,1054, 21.5662,  60.0967, 2937,   -999,    347.9,  14.0194,  35.8218,2,  35.8406,2,      4.0,2, 13.9687,      3.7,2,    32.52,2,    25.48,2,     0.00,2,     2.41,2,    0.397,2,    0.231,2, -999.000,9,-999.0000,9,  -999.00,9,   -999.0,9,  -999.00,9,-999.000,9,   -999.9,9,   -999.9,9,  -999.0, -999.00,-999.0000,-999.000,-999.000
    316N145_10,  I07N,   838,  1,     26,     26,2,19950818,1054, 21.5662,  60.0967, 2937,   -999,    398.2,  13.6952,  35.8583,2,  35.8580,2,      1.9,2, 13.6379,      1.9,2,    35.62,2,    24.87,2,     0.00,2,     2.49,2, -999.000,9, -999.000,9, -999.000,9,-999.0000,9,  -999.00,9,   -999.0,9,  -999.00,9,-999.000,9,   -999.9,9,   -999.9,9,  -999.0, -999.00,-999.0000,-999.000,-999.000
    316N145_10,  I07N,   838,  1,     25,     25,2,19950818,1054, 21.5662,  60.0967, 2937,   -999,    448.3,  13.1950,  35.7954,2,  35.7949,2,      2.3,2, 13.1318,      2.8,2,    38.03,2,    26.08,2,     0.00,2,     2.52,2,    0.257,2,    0.148,2, -999.000,9,-999.0000,9,  -999.00,9,   -999.0,9,  -999.00,9,-999.000,9,   -999.9,9,   -999.9,9,  -999.0, -999.00,-999.0000,-999.000,-999.000
    316N145_10,  I07N,   838,  1,     24,     24,2,19950818,1054, 21.5662,  60.0967, 2937,   -999,    498.5,  12.6033,  35.7296,2,  35.7351,2,      3.0,2, 12.5350,      3.2,2,    41.30,2,    27.21,2,     0.00,2,     2.57,2, -999.000,9, -999.000,9, -999.000,9,-999.0000,9,  -999.00,9,   -999.0,9,  -999.00,9,-999.000,9,   -999.9,9,   -999.9,9,  -999.0, -999.00,-999.0000,-999.000,-999.000
    316N145_10,  I07N,   838,  1,     23,     23,2,19950818,1054, 21.5662,  60.0967, 2937,   -999,    598.9,  11.7253,  35.6661,2,  35.6671,2,      2.2,2, 11.6466,      1.8,2,    49.79,2,    28.47,2,     0.00,2,     2.69,2, -999.000,9, -999.000,9, -999.000,9,-999.0000,9,  -999.00,9,   -999.0,9,  -999.00,9,-999.000,9,   -999.9,9,   -999.9,9,  -999.0, -999.00,-999.0000,-999.000,-999.000
    316N145_10,  I07N,   838,  1,     22,     22,2,19950818,1054, 21.5662,  60.0967, 2937,   -999,    679.3,  11.3560,  35.6349,2,  35.6356,2,      2.3,2, 11.2683,      2.1,2,    53.07,2,    29.74,2,     0.00,2,     2.72,2,    0.072,2,    0.043,2, -999.000,9,-999.0000,9,  -999.00,9,   -999.0,9,  -999.00,9,-999.000,9,   -999.9,9,   -999.9,9,  -999.0, -999.00,-999.0000,-999.000,-999.000
    316N145_10,  I07N,   838,  1,     21,     21,2,19950818,1054, 21.5662,  60.0967, 2937,   -999,    800.0,  10.4825,  35.5626,2,  35.5625,2,      2.4,2, 10.3836,      2.2,2,    61.57,2,    32.09,2,     0.00,2,     2.81,2, -999.000,9, -999.000,9, -999.000,9,-999.0000,9,  -999.00,9,   -999.0,9,  -999.00,9,-999.000,9,   -999.9,9,   -999.9,9,  -999.0, -999.00,-999.0000,-999.000,-999.000
    316N145_10,  I07N,   838,  1,     20,     20,2,19950818,1054, 21.5662,  60.0967, 2937,   -999,    899.8,   9.6061,  35.4870,2,  35.4873,2,      2.8,2,  9.5000,      3.0,2,    69.39,2,    34.36,2,     0.00,2,     2.87,2, -999.000,9, -999.000,9, -999.000,9,-999.0000,9,  -999.00,9,   -999.0,9,  -999.00,9,-999.000,9,   -999.9,9,   -999.9,9,  -999.0, -999.00,-999.0000,-999.000,-999.000
    316N145_10,  I07N,   838,  1,     19,     19,2,19950818,1054, 21.5662,  60.0967, 2937,   -999,   1000.6,   8.7022,  35.3934,2,  35.3949,2,      4.3,2,  8.5902,      4.4,2,    77.41,2,    36.17,2,     0.00,2,     2.96,2, -999.000,9, -999.000,9, -999.000,9,-999.0000,9,  -999.00,9,   -999.0,9,  -999.00,9,-999.000,9,   -999.9,9,   -999.9,9,  -999.0, -999.00,-999.0000,-999.000,-999.000
    316N145_10,  I07N,   838,  1,     18,     18,2,19950818,1054, 21.5662,  60.0967, 2937,   -999,   1100.9,   7.7031,  35.2857,2,  35.2869,2,      8.9,2,  7.5873,      9.0,2,    86.34,2,    37.56,2,     0.00,2,     3.02,2, -999.000,9, -999.000,9, -999.000,9,-999.0000,9,  -999.00,9,   -999.0,9,  -999.00,9,-999.000,9,   -999.9,9,   -999.9,9,  -999.0, -999.00,-999.0000,-999.000,-999.000
    316N145_10,  I07N,   838,  1,     17,     17,2,19950818,1054, 21.5662,  60.0967, 2937,   -999,   1202.2,   6.8302,  35.1927,2,  35.1928,2,     13.5,2,  6.7108,     14.1,2,    95.34,2,    38.23,2,     0.00,2,     3.08,2, -999.000,9, -999.000,9, -999.000,9,-999.0000,9,  -999.00,9,   -999.0,9,  -999.00,9,-999.000,9,   -999.9,9,   -999.9,9,  -999.0, -999.00,-999.0000,-999.000,-999.000
    316N145_10,  I07N,   838,  1,     16,     16,2,19950818,1054, 21.5662,  60.0967, 2937,   -999,   1302.5,   6.4444,  35.1526,2,  35.1533,2,     18.5,2,  6.3179,     18.2,2,    99.22,2,    38.33,2,     0.00,2,     3.07,2, -999.000,9, -999.000,9, -999.000,9,-999.0000,9,  -999.00,9,   -999.0,9,  -999.00,9,-999.000,9,   -999.9,9,   -999.9,9,  -999.0, -999.00,-999.0000,-999.000,-999.000
    316N145_10,  I07N,   838,  1,     15,     15,2,19950818,1054, 21.5662,  60.0967, 2937,   -999,   1403.1,   6.0244,  35.1100,2,  35.1112,2,     23.9,2,  5.8916,     23.3,2,   103.65,2,    38.42,2,     0.00,2,     3.07,2, -999.000,9, -999.000,9, -999.000,9,-999.0000,9,  -999.00,9,   -999.0,9,  -999.00,9,-999.000,9,   -999.9,9,   -999.9,9,  -999.0, -999.00,-999.0000,-999.000,-999.000
    316N145_10,  I07N,   838,  1,     14,     14,2,19950818,1054, 21.5662,  60.0967, 2937,   -999,   1503.8,   5.5306,  35.0615,2,  35.0623,2,     31.4,2,  5.3928,     31.4,2,   108.47,2,    38.52,2,     0.00,2,     3.05,2, -999.000,9, -999.000,9, -999.000,9,-999.0000,9,  -999.00,9,   -999.0,9,  -999.00,9,-999.000,9,   -999.9,9,   -999.9,9,  -999.0, -999.00,-999.0000,-999.000,-999.000
    316N145_10,  I07N,   838,  1,     13,     13,2,19950818,1054, 21.5662,  60.0967, 2937,   -999,   1598.6,   4.9945,  35.0102,2,  35.0108,2,     40.5,2,  4.8534,     40.9,2,   114.22,2,    38.52,2,     0.00,2,     3.02,2, -999.000,9, -999.000,9, -999.000,9,-999.0000,9,  -999.00,9,   -999.0,9,  -999.00,9,-999.000,9,   -999.9,9,   -999.9,9,  -999.0, -999.00,-999.0000,-999.000,-999.000
    316N145_10,  I07N,   838,  1,     12,     12,2,19950818,1054, 21.5662,  60.0967, 2937,   -999,   1699.5,   4.3043,  34.9479,2,  34.9495,2,     55.3,2,  4.1620,     53.7,2,   121.69,2,    38.28,2,     0.00,2,     2.98,2, -999.000,9, -999.000,9, -999.000,9,-999.0000,9,  -999.00,9,   -999.0,9,  -999.00,9,-999.000,9,   -999.9,9,   -999.9,9,  -999.0, -999.00,-999.0000,-999.000,-999.000
    316N145_10,  I07N,   838,  1,     11,     11,2,19950818,1054, 21.5662,  60.0967, 2937,   -999,   1799.7,   3.8711,  34.9089,2,  34.9108,2,     62.2,2,  3.7250,     61.7,2,   126.64,2,    38.19,2,     0.00,2,     2.93,2, -999.000,9, -999.000,9, -999.000,9,-999.0000,9,  -999.00,9,   -999.0,9,  -999.00,9,-999.000,9,   -999.9,9,   -999.9,9,  -999.0, -999.00,-999.0000,-999.000,-999.000
    316N145_10,  I07N,   838,  1,     10,     10,2,19950818,1054, 21.5662,  60.0967, 2937,   -999,   1901.6,   3.3802,  34.8681,2,  34.8684,2,     72.3,2,  3.2315,     72.7,2,   132.03,2,    37.95,2,     0.00,2,     2.89,2, -999.000,9, -999.000,9, -999.000,9,-999.0000,9,  -999.00,9,   -999.0,9,  -999.00,9,-999.000,9,   -999.9,9,   -999.9,9,  -999.0, -999.00,-999.0000,-999.000,-999.000
    316N145_10,  I07N,   838,  1,      9,      9,2,19950818,1054, 21.5662,  60.0967, 2937,   -999,   2002.7,   3.0615,  34.8407,2,  34.8415,2,     79.4,2,  2.9083,     81.1,2,   135.57,2,    37.66,2,     0.00,2,     2.84,2, -999.000,9, -999.000,9, -999.000,9,-999.0000,9,  -999.00,9,   -999.0,9,  -999.00,9,-999.000,9,   -999.9,9,   -999.9,9,  -999.0, -999.00,-999.0000,-999.000,-999.000
    316N145_10,  I07N,   838,  1,      8,      8,2,19950818,1054, 21.5662,  60.0967, 2937,   -999,   2098.0,   2.7938,  34.8193,2,  34.8201,2,     86.2,2,  2.6360,     87.0,2,   138.76,2,    37.47,2,     0.00,2,     2.80,2,    0.002,2,    0.006,2, -999.000,9,-999.0000,9,  -999.00,9,   -999.0,9,  -999.00,9,-999.000,9,   -999.9,9,   -999.9,9,  -999.0, -999.00,-999.0000,-999.000,-999.000
    316N145_10,  I07N,   838,  1,      7,      7,2,19950818,1054, 21.5662,  60.0967, 2937,   -999,   2200.2,   2.5917,  34.8036,2,  34.8048,2,     92.3,2,  2.4278,     93.1,2,   140.83,2,    37.28,2,     0.00,2,     2.77,2, -999.000,9, -999.000,9, -999.000,9,-999.0000,9,  -999.00,9,   -999.0,9,  -999.00,9,-999.000,9,   -999.9,9,   -999.9,9,  -999.0, -999.00,-999.0000,-999.000,-999.000
    316N145_10,  I07N,   838,  1,      6,      6,2,19950818,1054, 21.5662,  60.0967, 2937,   -999,   2300.0,   2.4193,  34.7903,2,  34.7900,2,     96.8,2,  2.2494,     97.3,2,   143.09,2,    37.13,2,     0.00,2,     2.75,2, -999.000,9, -999.000,9, -999.000,9,-999.0000,9,  -999.00,9,   -999.0,9,  -999.00,9,-999.000,9,   -999.9,9,   -999.9,9,  -999.0, -999.00,-999.0000,-999.000,-999.000
    316N145_10,  I07N,   838,  1,      5,      5,2,19950818,1054, 21.5662,  60.0967, 2937,   -999,   2498.7,   2.1737,  34.7718,2,  34.7716,2,    103.6,2,  1.9899,    103.7,2,   145.96,2,    36.94,2,     0.00,2,     2.71,2, -999.000,9, -999.000,9, -999.000,9,-999.0000,9,  -999.00,9,   -999.0,9,  -999.00,9,-999.000,9,   -999.9,9,   -999.9,9,  -999.0, -999.00,-999.0000,-999.000,-999.000
    316N145_10,  I07N,   838,  1,      4,      4,2,19950818,1054, 21.5662,  60.0967, 2937,   -999,   2702.0,   1.9890,  34.7582,2,  34.7577,2,    107.1,2,  1.7899,    107.4,2,   149.63,2,    36.61,2,     0.00,2,     2.69,2,    0.005,2,    0.015,2, -999.000,9,-999.0000,9,  -999.00,9,   -999.0,9,  -999.00,9,-999.000,9,   -999.9,9,   -999.9,9,  -999.0, -999.00,-999.0000,-999.000,-999.000
    316N145_10,  I07N,   838,  1,      3,      3,2,19950818,1054, 21.5662,  60.0967, 2937,   -999,   2902.6,   1.8179,  34.7460,2,  34.7459,2,    109.1,2,  1.6033,    107.3,2,   154.53,2,    36.27,2,     0.00,2,     2.70,2,    0.019,2,    0.060,2, -999.000,9,-999.0000,9,  -999.00,9,   -999.0,9,  -999.00,9,-999.000,9,   -999.9,9,   -999.9,9,  -999.0, -999.00,-999.0000,-999.000,-999.000
    316N145_10,  I07N,   838,  1,      2,      2,2,19950818,1054, 21.5662,  60.0967, 2937,   -999,   2948.2,   1.7946,  34.7442,2,  34.7445,2,    110.0,2,  1.5762,    106.6,2,   155.28,2,    36.27,2,     0.00,2,     2.70,2, -999.000,9, -999.000,9, -999.000,9,-999.0000,9,  -999.00,9,   -999.0,9,  -999.00,9,-999.000,9,   -999.9,9,   -999.9,9,  -999.0, -999.00,-999.0000,-999.000,-999.000
    316N145_10,  I07N,   838,  1,      1,      1,2,19950818,1054, 21.5662,  60.0967, 2937,   -999,   2970.5,   1.7943,  34.7438,2,  34.7451,2,    106.9,2,  1.5737,    106.5,2,   155.43,2,    36.32,2,     0.00,2,     2.71,2,    0.024,2,    0.068,2, -999.000,9,-999.0000,9,  -999.00,9,   -999.0,9,  -999.00,9,-999.000,9,   -999.9,9,   -999.9,9,  -999.0, -999.00,-999.0000,-999.000,-999.000