BOTTLE,20080821WHPSIOSCD
EXPOCODE,SECT_ID,STNNBR,CASTNO,SAMPNO,BTLNBR,BTLNBR_FLAG_W,DATE,TIME,LATITUDE,LONGITUDE,DEPTH,CTDRAW,CTDPRS,CTDTMP,CTDSAL,CTDSAL_FLAG_W,SALNTY,SALNTY_FLAG_W,CTDOXY,CTDOXY_FLAG_W,THETA,OXYGEN,OXYGEN_FLAG_W,SILCAT,SILCAT_FLAG_W,NITRAT,NITRAT_FLAG_W,NITRIT,NITRIT_FLAG_W,PHSPHT,PHSPHT_FLAG_W,CFC-11,CFC-11_FLAG_W,CFC-12,CFC-12_FLAG_W,TRITUM,TRITUM_FLAG_W,HELIUM,HELIUM_FLAG_W,DELHE3,DELHE3_FLAG_W,DELC14,DELC14_FLAG_W,DELC13,DELC13_FLAG_W,NEON,NEON_FLAG_W,TCARBN,TCARBN_FLAG_W,ALKALI,ALKALI_FLAG_W,C14ERR,DELHER,HELIER,NEONER,TRITER
,,,,,,,,,,,,,DBAR,ITS-90,PSS-78,,PSS-78,,UMOL/KG,,DEG C,UMOL/KG,,UMOL/KG,,UMOL/KG,,UMOL/KG,,UMOL/KG,,PMOL/KG,,PMOL/KG,,TU,,NMOL/KG,,PERCNT,,/MILLE,,/MILLE,,NMOL/KG,,UMOL/KG,,UMOL/KG,,/MILLE,PERCNT,NMOL/KG,NMOL/KG,TU
    316N145_10,  I07N,   712,  1,     36,     36,2,19950716,2036,-16.7958,  54.9997, 4322,   -999,     10.0,  25.2405,  34.8468,2,  34.8472,2,    204.1,2, 25.2386,    207.4,2,     3.44,2,     0.04,2,     0.00,2,     0.12,2,    1.786,2,    1.028,2, -999.000,9,-999.0000,9,  -999.00,9,   -999.0,9,  -999.00,9,-999.000,9,   1944.7,2,   -999.9,5,  -999.0, -999.00,-999.0000,-999.000,-999.000
    316N145_10,  I07N,   712,  1,     35,     35,2,19950716,2036,-16.7958,  54.9997, 4322,   -999,     29.8,  25.2514,  34.8520,2,  34.8523,2,    209.5,2, 25.2452,    207.0,2,     3.26,2,     0.04,2,     0.00,2,     0.12,2,    1.768,2,    1.015,2, -999.000,9,-999.0000,9,  -999.00,9,   -999.0,9,  -999.00,9,-999.000,9,   -999.9,9,   -999.9,9,  -999.0, -999.00,-999.0000,-999.000,-999.000
    316N145_10,  I07N,   712,  1,     34,     34,2,19950716,2036,-16.7958,  54.9997, 4322,   -999,     61.4,  25.1991,  34.8637,2,  34.8581,2,    207.1,2, 25.1861,    207.3,2,     3.25,2,     0.04,2,     0.00,2,     0.12,2,    1.792,2,    1.025,2, -999.000,9,-999.0000,9,  -999.00,9,   -999.0,9,  -999.00,9,-999.000,9,   -999.9,9,   -999.9,9,  -999.0, -999.00,-999.0000,-999.000,-999.000
    316N145_10,  I07N,   712,  1,     33,     33,2,19950716,2036,-16.7958,  54.9997, 4322,   -999,     90.7,  23.3522,  35.1378,2,  35.1190,2,    210.0,2, 23.3338,    198.2,2,     4.29,2,     1.05,2,     0.09,2,     0.23,2, -999.000,9, -999.000,9, -999.000,9,-999.0000,9,  -999.00,9,   -999.0,9,  -999.00,9,-999.000,9,   -999.9,9,   -999.9,9,  -999.0, -999.00,-999.0000,-999.000,-999.000
    316N145_10,  I07N,   712,  1,     32,     32,2,19950716,2036,-16.7958,  54.9997, 4322,   -999,    119.0,  21.9552,  35.2359,2,  35.2347,2,    198.3,2, 21.9319,    184.2,2,     5.16,2,     2.91,2,     0.23,2,     0.34,2,    1.921,2,    1.074,2, -999.000,9,-999.0000,9,  -999.00,9,   -999.0,9,  -999.00,9,-999.000,9,   -999.9,9,   -999.9,9,  -999.0, -999.00,-999.0000,-999.000,-999.000
    316N145_10,  I07N,   712,  1,     31,     31,2,19950716,2036,-16.7958,  54.9997, 4322,   -999,    149.2,  20.3024,  35.3330,2,  35.3318,2,    173.1,2, 20.2747,    159.4,2,     7.95,2,     6.98,2,     0.02,2,     0.57,2,    1.847,2,    1.020,2, -999.000,9,-999.0000,9,  -999.00,9,   -999.0,9,  -999.00,9,-999.000,9,   -999.9,9,   -999.9,9,  -999.0, -999.00,-999.0000,-999.000,-999.000
    316N145_10,  I07N,   712,  1,     30,     30,2,19950716,2036,-16.7958,  54.9997, 4322,   -999,    211.8,  16.7674,  35.2590,2,  35.2584,2,    133.5,2, 16.7329,    132.4,2,    15.45,2,    13.64,2,     0.00,2,     0.99,2,    1.589,2,    0.852,2, -999.000,9,-999.0000,9,  -999.00,9,   -999.0,9,  -999.00,9,-999.000,9,   -999.9,9,   -999.9,9,  -999.0, -999.00,-999.0000,-999.000,-999.000
    316N145_10,  I07N,   712,  1,     29,     29,2,19950716,2036,-16.7958,  54.9997, 4322,   -999,    261.3,  16.2015,  35.4972,2,  35.4932,2,    184.9,2, 16.1598,    182.3,2,     7.75,2,     7.56,2,     0.00,2,     0.63,2,    2.097,2,    1.119,2, -999.000,9,-999.0000,9,  -999.00,9,   -999.0,9,  -999.00,9,-999.000,9,   -999.9,9,   -999.9,9,  -999.0, -999.00,-999.0000,-999.000,-999.000
    316N145_10,  I07N,   712,  1,     28,     28,2,19950716,2036,-16.7958,  54.9997, 4322,   -999,    301.4,  15.3044,  35.4773,2,  35.4767,2,    206.2,2, 15.2580,    200.7,2,     5.65,2,     6.50,2,     0.00,2,     0.57,2, -999.000,9, -999.000,9, -999.000,9,-999.0000,9,  -999.00,9,   -999.0,9,  -999.00,9,-999.000,9,   -999.9,9,   -999.9,9,  -999.0, -999.00,-999.0000,-999.000,-999.000
    316N145_10,  I07N,   712,  1,     27,     27,2,19950716,2036,-16.7958,  54.9997, 4322,   -999,    397.0,  12.0770,  35.0936,2,  35.0950,2,    223.6,2, 12.0247,    224.9,2,     4.95,2,    10.45,2,     0.00,2,     0.80,2,    2.542,2,    1.295,2, -999.000,9,-999.0000,9,  -999.00,9,   -999.0,9,  -999.00,9,-999.000,9,   -999.9,9,   -999.9,9,  -999.0, -999.00,-999.0000,-999.000,-999.000
    316N145_10,  I07N,   712,  1,     26,     26,2,19950716,2036,-16.7958,  54.9997, 4322,   -999,    497.3,  10.5126,  34.8684,2,  34.8715,2,    222.8,2, 10.4525,    225.2,2,     6.34,2,    13.96,2,     0.00,2,     1.00,2,    2.289,2,    1.169,2, -999.000,9,-999.0000,9,  -999.00,9,   -999.0,9,  -999.00,9,-999.000,9,   -999.9,9,   -999.9,9,  -999.0, -999.00,-999.0000,-999.000,-999.000
    316N145_10,  I07N,   712,  1,     25,     25,2,19950716,2036,-16.7958,  54.9997, 4322,   -999,    598.7,   8.7822,  34.6672,2,  34.6750,2,    200.8,2,  8.7171,    203.4,2,    13.84,2,    20.09,2,     0.00,2,     1.39,2,    1.376,2,    0.699,2, -999.000,9,-999.0000,9,  -999.00,9,   -999.0,9,  -999.00,9,-999.000,9,   -999.9,9,   -999.9,9,  -999.0, -999.00,-999.0000,-999.000,-999.000
    316N145_10,  I07N,   712,  1,     24,     24,2,19950716,2036,-16.7958,  54.9997, 4322,   -999,    700.2,   7.1678,  34.5814,2,  34.5828,2,    176.0,2,  7.0996,    173.1,2,    30.96,2,    26.33,2,     0.00,2,     1.83,2,    0.504,2,    0.248,2, -999.000,9,-999.0000,9,  -999.00,9,   -999.0,9,  -999.00,9,-999.000,9,   -999.9,9,   -999.9,9,  -999.0, -999.00,-999.0000,-999.000,-999.000
    316N145_10,  I07N,   712,  1,     23,     23,2,19950716,2036,-16.7958,  54.9997, 4322,   -999,    798.5,   6.2744,  34.5951,2,  34.5950,2,    146.4,2,  6.2014,    145.7,2,    49.32,2,    30.28,2,     0.00,2,     2.14,2,    0.229,2,    0.108,2, -999.000,9,-999.0000,9,  -999.00,9,   -999.0,9,  -999.00,9,-999.000,9,   -999.9,9,   -999.9,9,  -999.0, -999.00,-999.0000,-999.000,-999.000
    316N145_10,  I07N,   712,  1,     22,     22,2,19950716,2036,-16.7958,  54.9997, 4322,   -999,    899.5,   5.4583,  34.6321,2,  34.6332,2,    127.3,2,  5.3808,    125.7,2,    67.40,2,    33.03,2,     0.00,2,     2.36,2,    0.070,2,    0.029,2, -999.000,9,-999.0000,9,  -999.00,9,   -999.0,9,  -999.00,9,-999.000,9,   -999.9,9,   -999.9,9,  -999.0, -999.00,-999.0000,-999.000,-999.000
    316N145_10,  I07N,   712,  1,     21,     21,2,19950716,2036,-16.7958,  54.9997, 4322,   -999,   1000.9,   4.9286,  34.6640,2,  34.6658,2,    122.9,2,  4.8456,    121.2,2,    76.91,2,    33.93,2,     0.00,2,     2.44,2,    0.031,2,    0.016,2, -999.000,9,-999.0000,9,  -999.00,9,   -999.0,9,  -999.00,9,-999.000,9,   -999.9,9,   -999.9,9,  -999.0, -999.00,-999.0000,-999.000,-999.000
    316N145_10,  I07N,   712,  1,     20,     20,2,19950716,2036,-16.7958,  54.9997, 4322,   -999,   1097.9,   4.5064,  34.6690,2,  34.6703,2,    122.4,2,  4.4181,    124.3,2,    81.86,2,    34.11,2,     0.00,2,     2.47,2, -999.000,9, -999.000,9, -999.000,9,-999.0000,9,  -999.00,9,   -999.0,9,  -999.00,9,-999.000,9,   -999.9,9,   -999.9,9,  -999.0, -999.00,-999.0000,-999.000,-999.000
    316N145_10,  I07N,   712,  1,     19,     19,2,19950716,2036,-16.7958,  54.9997, 4322,   -999,   1198.9,   4.1437,  34.6741,2,  34.6748,2,    127.0,2,  4.0497,    129.0,2,    85.92,2,    34.16,2,     0.00,2,     2.46,2,    0.006,2,   -0.003,2, -999.000,9,-999.0000,9,  -999.00,9,   -999.0,9,  -999.00,9,-999.000,9,   -999.9,9,   -999.9,9,  -999.0, -999.00,-999.0000,-999.000,-999.000
    316N145_10,  I07N,   712,  1,     18,     18,2,19950716,2036,-16.7958,  54.9997, 4322,   -999,   1399.7,   3.3727,  34.6676,2,  34.6671,2,    144.7,2,  3.2691,    146.4,2,    89.11,2,    33.66,2,     0.00,2,     2.40,2,    0.007,2,   -0.004,2, -999.000,9,-999.0000,9,  -999.00,9,   -999.0,9,  -999.00,9,-999.000,9,   -999.9,9,   -999.9,9,  -999.0, -999.00,-999.0000,-999.000,-999.000
    316N145_10,  I07N,   712,  1,     17,     17,2,19950716,2036,-16.7958,  54.9997, 4322,   -999,   1599.9,   2.8506,  34.6828,2,  34.6835,2,    157.5,2,  2.7360,    157.2,2,    94.80,2,    33.25,2,     0.00,2,     2.35,2,    0.007,2,    0.005,2, -999.000,9,-999.0000,9,  -999.00,9,   -999.0,9,  -999.00,9,-999.000,9,   -999.9,9,   -999.9,9,  -999.0, -999.00,-999.0000,-999.000,-999.000
    316N145_10,  I07N,   712,  1,     16,     16,2,19950716,2036,-16.7958,  54.9997, 4322,   -999,   1798.3,   2.5580,  34.7116,2,  34.7128,2,    158.7,2,  2.4304,    158.4,2,   104.11,2,    33.20,2,     0.00,2,     2.35,2,    0.000,2,   -0.001,2, -999.000,9,-999.0000,9,  -999.00,9,   -999.0,9,  -999.00,9,-999.000,9,   -999.9,9,   -999.9,9,  -999.0, -999.00,-999.0000,-999.000,-999.000
    316N145_10,  I07N,   712,  1,     15,     15,2,19950716,2036,-16.7958,  54.9997, 4322,   -999,   2000.3,   2.3266,  34.7254,2,  34.7251,2,    159.4,2,  2.1850,    158.7,2,   112.41,2,    33.38,2,     0.00,2,     2.36,2,   -0.002,2,   -0.003,2, -999.000,9,-999.0000,9,  -999.00,9,   -999.0,9,  -999.00,9,-999.000,9,   -999.9,9,   -999.9,9,  -999.0, -999.00,-999.0000,-999.000,-999.000
    316N145_10,  I07N,   712,  1,     14,     14,2,19950716,2036,-16.7958,  54.9997, 4322,   -999,   2197.5,   2.1700,  34.7310,2,  34.7312,2,    161.8,2,  2.0136,    160.5,2,   116.39,2,    33.38,2,     0.00,2,     2.35,2, -999.000,9, -999.000,9, -999.000,9,-999.0000,9,  -999.00,9,   -999.0,9,  -999.00,9,-999.000,9,   -999.9,9,   -999.9,9,  -999.0, -999.00,-999.0000,-999.000,-999.000
    316N145_10,  I07N,   712,  1,     13,     13,2,19950716,2036,-16.7958,  54.9997, 4322,   -999,   2394.8,   2.0853,  34.7377,2,  34.7384,2,    158.2,2,  1.9128,    158.4,2,   121.85,2,    33.65,2,     0.00,2,     2.39,2, -999.000,9, -999.000,9, -999.000,9,-999.0000,9,  -999.00,9,   -999.0,9,  -999.00,9,-999.000,9,   -999.9,9,   -999.9,9,  -999.0, -999.00,-999.0000,-999.000,-999.000
    316N145_10,  I07N,   712,  1,     12,     12,2,19950716,2036,-16.7958,  54.9997, 4322,   -999,   2598.1,   1.9953,  34.7384,2,  34.7396,2,    158.9,2,  1.8059,    158.5,2,   124.77,2,    33.74,2,     0.00,2,     2.39,2, -999.000,9, -999.000,9, -999.000,9,-999.0000,9,  -999.00,9,   -999.0,9,  -999.00,9,-999.000,9,   -999.9,9,   -999.9,9,  -999.0, -999.00,-999.0000,-999.000,-999.000
    316N145_10,  I07N,   712,  1,     11,     11,2,19950716,2036,-16.7958,  54.9997, 4322,   -999,   2796.6,   1.9064,  34.7392,2,  34.7386,2,    160.8,2,  1.7001,    160.1,2,   127.51,2,    33.74,2,     0.00,2,     2.40,2, -999.000,9, -999.000,9, -999.000,9,-999.0000,9,  -999.00,9,   -999.0,9,  -999.00,9,-999.000,9,   -999.9,9,   -999.9,9,  -999.0, -999.00,-999.0000,-999.000,-999.000
    316N145_10,  I07N,   712,  1,     10,     10,2,19950716,2036,-16.7958,  54.9997, 4322,   -999,   2997.6,   1.8064,  34.7358,2,  34.7360,2,    164.7,2,  1.5830,    163.4,2,   129.15,2,    33.74,2,     0.00,2,     2.38,2, -999.000,9, -999.000,9, -999.000,9,-999.0000,9,  -999.00,9,   -999.0,9,  -999.00,9,-999.000,9,   -999.9,9,   -999.9,9,  -999.0, -999.00,-999.0000,-999.000,-999.000
    316N145_10,  I07N,   712,  1,      9,      9,2,19950716,2036,-16.7958,  54.9997, 4322,   -999,   3199.7,   1.7294,  34.7333,2,  34.7321,2,    166.8,2,  1.4878,    166.4,2,   129.87,2,    33.60,2,     0.00,2,     2.36,2, -999.000,9, -999.000,9, -999.000,9,-999.0000,9,  -999.00,9,   -999.0,9,  -999.00,9,-999.000,9,   -999.9,9,   -999.9,9,  -999.0, -999.00,-999.0000,-999.000,-999.000
    316N145_10,  I07N,   712,  1,      8,      8,2,19950716,2036,-16.7958,  54.9997, 4322,   -999,   3396.4,   1.6594,  34.7307,2,  34.7307,2,    170.0,2,  1.3997,    169.3,2,   130.21,2,    33.51,2,     0.00,2,     2.35,2,   -0.002,2,   -0.002,2, -999.000,9,-999.0000,9,  -999.00,9,   -999.0,9,  -999.00,9,-999.000,9,   -999.9,9,   -999.9,9,  -999.0, -999.00,-999.0000,-999.000,-999.000
    316N145_10,  I07N,   712,  1,      7,      7,2,19950716,2036,-16.7958,  54.9997, 4322,   -999,   3598.3,   1.5481,  34.7266,2,  34.7266,2,    175.5,2,  1.2705,    174.8,2,   130.00,2,    33.24,2,     0.00,2,     2.33,2, -999.000,9, -999.000,9, -999.000,9,-999.0000,9,  -999.00,9,   -999.0,9,  -999.00,9,-999.000,9,   -999.9,9,   -999.9,9,  -999.0, -999.00,-999.0000,-999.000,-999.000
    316N145_10,  I07N,   712,  1,      6,      6,2,19950716,2036,-16.7958,  54.9997, 4322,   -999,   3790.7,   1.4523,  34.7229,2,  34.7232,2,    180.9,2,  1.1572,    180.2,2,   128.87,2,    33.01,2,     0.00,2,     2.31,2, -999.000,9, -999.000,9, -999.000,9,-999.0000,9,  -999.00,9,   -999.0,9,  -999.00,9,-999.000,9,   -999.9,9,   -999.9,9,  -999.0, -999.00,-999.0000,-999.000,-999.000
    316N145_10,  I07N,   712,  1,      5,      5,2,19950716,2036,-16.7958,  54.9997, 4322,   -999,   3988.6,   1.3224,  34.7195,2,  34.7187,2,    187.3,2,  1.0096,    187.8,2,   128.11,2,    32.65,2,     0.00,2,     2.27,2, -999.000,9, -999.000,9, -999.000,9,-999.0000,9,  -999.00,9,   -999.0,9,  -999.00,9,-999.000,9,   -999.9,9,   -999.9,9,  -999.0, -999.00,-999.0000,-999.000,-999.000
    316N145_10,  I07N,   712,  1,      4,      4,2,19950716,2036,-16.7958,  54.9997, 4322,   -999,   4189.4,   1.1941,  34.7140,2,  34.7140,2,    194.0,2,  0.8632,    195.3,2,   126.61,2,    32.29,2,     0.00,2,     2.24,2, -999.000,9, -999.000,9, -999.000,9,-999.0000,9,  -999.00,9,   -999.0,9,  -999.00,9,-999.000,9,   -999.9,9,   -999.9,9,  -999.0, -999.00,-999.0000,-999.000,-999.000
    316N145_10,  I07N,   712,  1,      3,      3,2,19950716,2036,-16.7958,  54.9997, 4322,   -999,   4401.3,   1.1027,  34.7114,2,  34.7096,2,    199.6,2,  0.7511,    200.3,2,   126.03,2,    32.06,2,     0.00,2,     2.24,2, -999.000,9, -999.000,9, -999.000,9,-999.0000,9,  -999.00,9,   -999.0,9,  -999.00,9,-999.000,9,   -999.9,9,   -999.9,9,  -999.0, -999.00,-999.0000,-999.000,-999.000
    316N145_10,  I07N,   712,  1,      2,      2,2,19950716,2036,-16.7958,  54.9997, 4322,   -999,   4477.3,   1.0881,  34.7109,2,  34.7098,2,    200.4,2,  0.7285,    201.6,2,   125.64,2,    31.97,2,     0.00,2,     2.24,2,    0.002,2,    0.004,2, -999.000,9,-999.0000,9,  -999.00,9,   -999.0,9,  -999.00,9,-999.000,9,   -999.9,9,   -999.9,9,  -999.0, -999.00,-999.0000,-999.000,-999.000
    316N145_10,  I07N,   712,  1,      1,      1,2,19950716,2036,-16.7958,  54.9997, 4322,   -999,   4515.0,   1.0907,  34.7107,2,  34.7086,2,    201.5,2,  0.7267,    201.7,2,   125.61,2,    31.97,2,     0.00,2,     2.23,2, -999.000,9, -999.000,9, -999.000,9,-999.0000,9,  -999.00,9,   -999.0,9,  -999.00,9,-999.000,9,   -999.9,9,   -999.9,9,  -999.0, -999.00,-999.0000,-999.000,-999.000