BOTTLE,20080821WHPSIOSCD
EXPOCODE,SECT_ID,STNNBR,CASTNO,SAMPNO,BTLNBR,BTLNBR_FLAG_W,DATE,TIME,LATITUDE,LONGITUDE,DEPTH,CTDRAW,CTDPRS,CTDTMP,CTDSAL,CTDSAL_FLAG_W,SALNTY,SALNTY_FLAG_W,CTDOXY,CTDOXY_FLAG_W,THETA,OXYGEN,OXYGEN_FLAG_W,SILCAT,SILCAT_FLAG_W,NITRAT,NITRAT_FLAG_W,NITRIT,NITRIT_FLAG_W,PHSPHT,PHSPHT_FLAG_W,CFC-11,CFC-11_FLAG_W,CFC-12,CFC-12_FLAG_W,TRITUM,TRITUM_FLAG_W,HELIUM,HELIUM_FLAG_W,DELHE3,DELHE3_FLAG_W,DELC14,DELC14_FLAG_W,DELC13,DELC13_FLAG_W,NEON,NEON_FLAG_W,TCARBN,TCARBN_FLAG_W,ALKALI,ALKALI_FLAG_W,C14ERR,DELHER,HELIER,NEONER,TRITER
,,,,,,,,,,,,,DBAR,ITS-90,PSS-78,,PSS-78,,UMOL/KG,,DEG C,UMOL/KG,,UMOL/KG,,UMOL/KG,,UMOL/KG,,UMOL/KG,,PMOL/KG,,PMOL/KG,,TU,,NMOL/KG,,PERCNT,,/MILLE,,/MILLE,,NMOL/KG,,UMOL/KG,,UMOL/KG,,/MILLE,PERCNT,NMOL/KG,NMOL/KG,TU
    316N145_10,  I07N,   790,  1,     36,     36,2,19950807,0230, 12.7032,  64.6672, 4156,   -999,      9.9,  27.3337,  36.4998,2,  36.4994,2,    200.5,2, 27.3317,    198.2,2,     1.76,2,     0.05,2,     0.00,2,     0.28,2,    1.658,2,    0.941,2, -999.000,9,   1.6770,2,    -0.80,2,     78.6,2,     1.34,2,   6.886,2,   2031.3,2,   2381.4,2,     4.1,    0.20,  0.0080,   0.138,-999.000
    316N145_10,  I07N,   790,  1,     35,     35,2,19950807,0230, 12.7032,  64.6672, 4156,   -999,     41.2,  27.3383,  36.5012,2,  36.5014,2,    200.7,2, 27.3290,    197.7,2,     1.74,2,     0.05,2,     0.00,2,     0.29,2, -999.000,9, -999.000,9, -999.000,9,-999.0000,9,  -999.00,9,   -999.0,9,  -999.00,9,-999.000,9,   2032.4,2,   2388.8,2,  -999.0, -999.00,-999.0000,-999.000,-999.000
    316N145_10,  I07N,   790,  1,     34,     34,2,19950807,0230, 12.7032,  64.6672, 4156,   -999,     81.6,  27.3563,  36.5309,2,  36.5296,2,    203.5,2, 27.3376,    194.1,2,     1.91,2,     0.08,2,     0.02,2,     0.30,2,    1.659,2,    0.943,2, -999.000,9,   1.7300,2,     0.90,2,     79.3,2,     1.32,2,   7.056,2,   2109.0,2,   2375.2,2,     4.2,    0.20,  0.0090,   0.141,-999.000
    316N145_10,  I07N,   790,  1,     33,     33,2,19950807,0230, 12.7032,  64.6672, 4156,   -999,    111.7,  26.3845,  36.4226,2,  36.3809,2,    183.1,2, 26.3595,    162.4,2,     3.40,2,     6.09,2,     0.21,2,     0.69,2, -999.000,9, -999.000,9, -999.000,9,-999.0000,9,  -999.00,9,   -999.0,9,  -999.00,9,-999.000,9,   2142.6,2,   2373.9,2,  -999.0, -999.00,-999.0000,-999.000,-999.000
    316N145_10,  I07N,   790,  1,     32,     32,2,19950807,0230, 12.7032,  64.6672, 4156,   -999,    135.9,  23.5771,  36.0709,2,  36.1193,2,    128.3,2, 23.5489,    118.1,2,     6.20,2,    13.31,2,     0.03,2,     1.13,2, -999.000,9, -999.000,9, -999.000,9,-999.0000,9,  -999.00,9,   -999.0,9,  -999.00,9,-999.000,9,   2201.1,2,   2356.9,2,  -999.0, -999.00,-999.0000,-999.000,-999.000
    316N145_10,  I07N,   790,  1,     31,     31,2,19950807,0230, 12.7032,  64.6672, 4156,   -999,    161.8,  21.0779,  35.8285,2,  35.8215,2,     19.7,2, 21.0469,     20.3,2,    13.70,2,    24.50,2,     0.02,2,     1.96,2,    1.377,2,    0.765,2, -999.000,9,   1.7530,2,     4.20,2,     52.9,2,    -0.11,2,   7.136,2,   2239.4,2,   2338.2,2,     4.4,    0.20,  0.0090,   0.143,-999.000
    316N145_10,  I07N,   790,  1,     30,     30,2,19950807,0230, 12.7032,  64.6672, 4156,   -999,    190.7,  18.5742,  35.7314,2,  35.7392,2,      2.7,2, 18.5408,      0.9,2,    19.88,2,    23.70,2,     0.08,2,     2.27,2,    0.970,2,    0.566,2, -999.000,9,-999.0000,9,  -999.00,9,     29.1,2,    -0.29,2,-999.000,9,   2243.9,2,   2338.8,2,     4.2, -999.00,-999.0000,-999.000,-999.000
    316N145_10,  I07N,   790,  1,     29,     29,2,19950807,0230, 12.7032,  64.6672, 4156,   -999,    251.7,  15.7966,  35.6707,2,  35.6720,2,      1.3,2, 15.7570,      1.3,2,    27.56,2,    19.21,2,     3.09,2,     2.40,2,    0.460,2,    0.304,2, -999.000,9,-999.0000,9,  -999.00,9,    -12.1,2,    -0.24,2,-999.000,9,   2241.8,2,   2342.9,2,     4.2, -999.00,-999.0000,-999.000,-999.000
    316N145_10,  I07N,   790,  1,     28,     28,2,19950807,0230, 12.7032,  64.6672, 4156,   -999,    301.1,  14.3419,  35.6406,2,  35.6373,2,      1.4,2, 14.2975,      1.2,2,    30.18,2,    22.28,2,     2.25,2,     2.43,2,    0.328,2,    0.211,2, -999.000,9,   1.7840,2,     3.80,2,    -40.4,2,    -0.21,2,   7.305,2,   2249.5,2,   2339.8,2,     3.3,    0.20,  0.0090,   0.146,-999.000
    316N145_10,  I07N,   790,  1,     27,     27,2,19950807,0230, 12.7032,  64.6672, 4156,   -999,    350.1,  13.2064,  35.5478,2,  35.5479,2,      1.5,2, 13.1573,      1.2,2,    33.36,2,    23.41,2,     3.06,2,     2.50,2,    0.191,2,    0.136,2, -999.000,9,-999.0000,9,  -999.00,9,    -59.6,2,    -0.15,2,-999.000,9,   2261.7,2,   2339.4,2,     4.1, -999.00,-999.0000,-999.000,-999.000
    316N145_10,  I07N,   790,  1,     26,     26,2,19950807,0230, 12.7032,  64.6672, 4156,   -999,    449.8,  12.2072,  35.5254,2,  35.5254,2,      1.6,2, 12.1471,      1.1,2,    38.98,2,    29.82,2,     0.01,2,     2.61,2,    0.104,2,    0.068,2, -999.000,9,   1.8240,2,     5.60,2,    -78.4,2,    -0.12,2,   7.435,2,   2269.2,2,   2340.4,2,     3.6,    0.20,  0.0090,   0.149,-999.000
    316N145_10,  I07N,   790,  1,     25,     25,2,19950807,0230, 12.7032,  64.6672, 4156,   -999,    550.0,  11.5220,  35.5140,2,  35.5140,2,      1.7,2, 11.4508,      1.8,2,    45.72,2,    31.00,2,     0.00,2,     2.70,2,    0.052,2,    0.035,2, -999.000,9,-999.0000,9,  -999.00,9,   -999.0,9,  -999.00,9,-999.000,9,   2269.7,2,   2345.9,2,  -999.0, -999.00,-999.0000,-999.000,-999.000
    316N145_10,  I07N,   790,  1,     24,     24,2,19950807,0230, 12.7032,  64.6672, 4156,   -999,    648.9,  10.7067,  35.4805,2,  35.4748,2,      3.0,2, 10.6261,      3.9,2,    53.98,2,    33.02,2,     0.00,2,     2.76,2,    0.036,2,    0.023,2, -999.000,9,   1.8380,2,     8.20,2,   -105.4,2,    -0.02,2,   7.546,2,   2277.2,2,   2353.0,2,     3.0,    0.20,  0.0090,   0.151,-999.000
    316N145_10,  I07N,   790,  1,     23,     23,2,19950807,0230, 12.7032,  64.6672, 4156,   -999,    749.1,  10.1583,  35.4721,2,  35.4720,2,      6.4,2, 10.0677,      6.8,2,    60.17,2,    34.25,2,     0.00,2,     2.79,2,    0.039,2,    0.027,2, -999.000,9,-999.0000,9,  -999.00,9,   -999.0,9,  -999.00,9,-999.000,9,   2282.2,2,   2359.1,2,  -999.0, -999.00,-999.0000,-999.000,-999.000
    316N145_10,  I07N,   790,  1,     22,     22,2,19950807,0230, 12.7032,  64.6672, 4156,   -999,    849.2,   9.4741,  35.4104,2,  35.4122,2,      9.6,2,  9.3751,      9.5,2,    66.18,2,    35.38,2,     0.00,2,     2.84,2,    0.026,2,    0.015,2, -999.000,9,   1.8420,2,    10.40,2,   -121.6,2,    -0.07,2,   7.662,2,   2299.3,2,   2362.2,2,     2.9,    0.20,  0.0090,   0.153,-999.000
    316N145_10,  I07N,   790,  1,     21,     21,2,19950807,0230, 12.7032,  64.6672, 4156,   -999,    899.7,   8.9143,  35.3444,2,  35.3436,2,     11.3,2,  8.8129,     11.3,2,    71.07,2,    36.24,2,     0.00,2,     2.88,2, -999.000,9, -999.000,9, -999.000,9,-999.0000,9,  -999.00,9,   -999.0,9,  -999.00,9,-999.000,9,   2287.7,3,   2366.4,2,  -999.0, -999.00,-999.0000,-999.000,-999.000
    316N145_10,  I07N,   790,  1,     20,     20,2,19950807,0230, 12.7032,  64.6672, 4156,   -999,    950.6,   8.7536,  35.3477,2,  35.3470,2,     12.8,2,  8.6473,     13.1,2,    72.94,2,    36.34,2,     0.00,2,     2.88,2,    0.020,2,    0.012,2, -999.000,9,-999.0000,9,  -999.00,9,   -129.5,2,    -0.24,2,-999.000,9,   2303.4,2,   2368.4,2,     4.3, -999.00,-999.0000,-999.000,-999.000
    316N145_10,  I07N,   790,  1,     19,     19,2,19950807,0230, 12.7032,  64.6672, 4156,   -999,   1052.1,   7.8490,  35.2444,2,  35.2427,2,     19.2,2,  7.7376,     18.6,2,    80.68,2,    37.20,2,     0.00,2,     2.93,2,    0.008,2,    0.005,2, -999.000,9,   1.8510,2,    10.70,2,   -137.9,2,    -0.09,2,   7.743,2,   2310.1,2,   2372.8,2,     3.2,    0.20,  0.0090,   0.155,-999.000
    316N145_10,  I07N,   790,  1,     18,     18,2,19950807,0230, 12.7032,  64.6672, 4156,   -999,   1252.9,   6.5230,  35.1331,2,  35.1339,2,     32.7,2,  6.4011,     32.5,2,    92.63,2,    37.73,2,     0.00,2,     2.95,2,    0.003,2,    0.000,2, -999.000,9,   1.8730,2,    11.10,2,   -151.4,2,    -0.13,2,   7.841,2,   2322.2,2,   2384.4,2,     4.4,    0.20,  0.0090,   0.157,-999.000
    316N145_10,  I07N,   790,  1,     17,     17,2,19950807,0230, 12.7032,  64.6672, 4156,   -999,   1475.9,   5.0403,  34.9918,2,  34.9944,2,     56.2,2,  4.9109,     55.1,2,   107.56,2,    37.74,2,     0.00,2,     2.93,2,   -0.004,2,   -0.003,2, -999.000,9,   1.8690,2,    12.90,2,   -184.3,2,    -0.10,2,   7.787,2,   2327.4,2,   2398.0,2,     4.2,    0.20,  0.0090,   0.156,-999.000
    316N145_10,  I07N,   790,  1,     16,     16,2,19950807,0230, 12.7032,  64.6672, 4156,   -999,   1700.4,   3.9713,  34.8996,2,  34.9003,2,     78.3,2,  3.8332,     76.8,2,   119.18,2,    37.37,2,     0.00,2,     2.86,2,   -0.003,2,   -0.003,2, -999.000,9,   1.8820,2,    13.60,2,   -179.4,2,    -0.10,2,   7.988,2,   2330.6,2,   2409.4,2,     2.8,    0.20,  0.0090,   0.160,-999.000
    316N145_10,  I07N,   790,  1,     15,     15,2,19950807,0230, 12.7032,  64.6672, 4156,   -999,   1924.7,   3.1201,  34.8344,2,  34.8347,2,     98.7,2,  2.9731,     97.7,2,   127.60,2,    36.80,2,     0.00,2,     2.77,2, -999.000,9, -999.000,9, -999.000,9,   1.9040,2,    14.10,2,   -175.8,2,    -0.04,2,   7.912,2,   2343.7,2,   2417.6,2,     4.8,    0.20,  0.0100,   0.158,-999.000
    316N145_10,  I07N,   790,  1,     14,     14,2,19950807,0230, 12.7032,  64.6672, 4156,   -999,   2146.6,   2.6177,  34.7965,2,  34.7956,2,    113.7,2,  2.4584,    113.1,2,   132.14,2,    36.28,2,     0.00,2,     2.70,2,   -0.003,2,   -0.003,2, -999.000,9,   1.9130,2,    14.30,2,   -999.0,9,  -999.00,9,   8.050,2,   2346.7,2,   2422.4,2,  -999.0,    0.20,  0.0100,   0.161,-999.000
    316N145_10,  I07N,   790,  1,     13,     13,2,19950807,0230, 12.7032,  64.6672, 4156,   -999,   2375.7,   2.3267,  34.7792,2,  34.7805,2,    122.1,2,  2.1514,    121.4,2,   135.90,2,    36.05,2,     0.00,2,     2.66,2, -999.000,9, -999.000,9, -999.000,9,   1.9000,2,    15.10,2,   -999.0,9,  -999.00,9,   8.157,2,   2347.7,2,   2426.5,2,  -999.0,    0.20,  0.0090,   0.163,-999.000
    316N145_10,  I07N,   790,  1,     12,     12,2,19950807,0230, 12.7032,  64.6672, 4156,   -999,   2623.4,   2.0441,  34.7589,2,  34.7597,2,    129.6,2,  1.8513,    128.5,2,   139.09,2,    35.87,2,     0.00,2,     2.62,2,   -0.003,2,   -0.002,2, -999.000,9,   1.9090,2,    14.80,2,   -999.0,9,  -999.00,9,   8.224,2,   2348.6,2,   2431.4,2,  -999.0,    0.20,  0.0100,   0.164,-999.000
    316N145_10,  I07N,   790,  1,     11,     11,2,19950807,0230, 12.7032,  64.6672, 4156,   -999,   2867.0,   1.8500,  34.7457,2,  34.7471,2,    138.9,2,  1.6381,    137.6,2,   139.47,2,    35.49,2,     0.00,2,     2.58,2, -999.000,9, -999.000,9, -999.000,9,   1.9000,2,    15.00,2,   -999.0,9,  -999.00,9,   8.336,2,   2348.6,2,   2431.6,2,  -999.0,    0.20,  0.0090,   0.167,-999.000
    316N145_10,  I07N,   790,  1,     10,     10,2,19950807,0230, 12.7032,  64.6672, 4156,   -999,   2999.9,   1.7926,  34.7439,2,  34.7426,2,    140.1,2,  1.5692,    140.3,2,   140.26,2,    35.45,2,     0.00,2,     2.57,2, -999.000,9, -999.000,9, -999.000,9,-999.0000,9,  -999.00,9,   -999.0,9,  -999.00,9,-999.000,9,   2347.0,2,   2391.2,3,  -999.0, -999.00,-999.0000,-999.000,-999.000
    316N145_10,  I07N,   790,  1,      9,      9,2,19950807,0230, 12.7032,  64.6672, 4156,   -999,   3202.2,   1.7391,  34.7402,2,  34.7404,2,    143.4,2,  1.4970,    143.4,2,   140.44,2,    35.31,2,     0.00,2,     2.54,2, -999.000,9, -999.000,9, -999.000,9,   1.9090,2,    14.30,2,   -999.0,9,  -999.00,9,   8.278,2,   2345.1,2,   2431.8,2,  -999.0,    0.20,  0.0100,   0.166,-999.000
    316N145_10,  I07N,   790,  1,      8,      8,2,19950807,0230, 12.7032,  64.6672, 4156,   -999,   3401.3,   1.7126,  34.7374,2,  34.7367,2,    148.5,2,  1.4511,    148.8,2,   139.41,2,    35.08,2,     0.00,2,     2.52,2, -999.000,9, -999.000,9, -999.000,9,   1.8960,2,    14.40,2,   -999.0,9,  -999.00,9,   8.349,2,   2343.9,2,   2431.9,2,  -999.0,    0.20,  0.0090,   0.167,-999.000
    316N145_10,  I07N,   790,  1,      7,      7,2,19950807,0230, 12.7032,  64.6672, 4156,   -999,   3522.4,   1.7013,  34.7360,2,  34.7367,2,    150.6,2,  1.4276,    151.1,2,   138.78,2,    34.94,2,     0.00,2,     2.51,2, -999.000,9, -999.000,9, -999.000,9,   1.9040,2,    15.40,2,   -999.0,9,  -999.00,9,   8.363,2,   2344.8,2,   2431.4,2,  -999.0,    0.20,  0.0100,   0.167,-999.000
    316N145_10,  I07N,   790,  1,      6,      6,2,19950807,0230, 12.7032,  64.6672, 4156,   -999,   3644.8,   1.6944,  34.7352,2,  34.7351,2,    152.0,2,  1.4081,    152.0,2,   138.56,2,    34.94,2,     0.00,2,     2.51,2, -999.000,9, -999.000,9, -999.000,9,-999.0000,9,  -999.00,9,   -999.0,9,  -999.00,9,-999.000,9,   2344.5,2,   2434.2,2,  -999.0, -999.00,-999.0000,-999.000,-999.000
    316N145_10,  I07N,   790,  1,      5,      5,2,19950807,0230, 12.7032,  64.6672, 4156,   -999,   3726.9,   1.6902,  34.7356,2,  34.7351,2,    152.8,2,  1.3953,    152.9,2,   138.53,2,    34.90,2,     0.00,2,     2.50,2, -999.000,9, -999.000,9, -999.000,9,   1.9000,2,    14.50,2,   -999.0,9,  -999.00,9,   8.296,2,   2342.6,2,   2432.5,2,  -999.0,    0.20,  0.0090,   0.166,-999.000
    316N145_10,  I07N,   790,  1,      4,      4,2,19950807,0230, 12.7032,  64.6672, 4156,   -999,   3951.5,   1.6906,  34.7335,2,  34.7349,2,    149.0,2,  1.3715,    148.6,2,   140.12,2,    35.23,2,     0.00,2,     2.52,2, -999.000,9, -999.000,9, -999.000,9,   1.9090,2,    14.60,2,   -999.0,9,  -999.00,9,   8.331,2,   2341.4,2,   2445.6,2,  -999.0,    0.20,  0.0100,   0.167,-999.000
    316N145_10,  I07N,   790,  1,      3,      3,2,19950807,0230, 12.7032,  64.6672, 4156,   -999,   4063.6,   1.6977,  34.7337,2,  34.7333,2,    145.4,2,  1.3660,    145.3,2,   141.71,2,    35.52,2,     0.00,2,     2.53,2, -999.000,9, -999.000,9, -999.000,9,   1.8960,2,    13.80,2,   -999.0,9,  -999.00,9,   8.385,2,   2346.0,2,   2451.2,2,  -999.0,    0.20,  0.0090,   0.168,-999.000
    316N145_10,  I07N,   790,  1,      2,      2,2,19950807,0230, 12.7032,  64.6672, 4156,   -999,   4151.0,   1.6996,  34.7340,2,  34.7329,2,    146.7,2,  1.3581,    146.4,2,   141.89,2,    35.48,2,     0.00,2,     2.53,2, -999.000,9, -999.000,9, -999.000,9,-999.0000,9,  -999.00,9,   -999.0,9,  -999.00,9,-999.000,9,   2363.8,2,   2452.0,2,  -999.0, -999.00,-999.0000,-999.000,-999.000
    316N145_10,  I07N,   790,  1,      1,      1,2,19950807,0230, 12.7032,  64.6672, 4156,   -999,   4218.4,   1.7076,  34.7341,2,  34.7333,2,    143.6,2,  1.3583,    144.5,2,   142.48,2,    35.58,2,     0.00,2,     2.54,2, -999.000,9, -999.000,9, -999.000,9,   1.9040,2,    14.50,2,   -999.0,9,  -999.00,9,   8.389,2,   2375.1,2,   2457.4,2,  -999.0,    0.20,  0.0100,   0.168,-999.000