BOTTLE,20080821WHPSIOSCD
EXPOCODE,SECT_ID,STNNBR,CASTNO,SAMPNO,BTLNBR,BTLNBR_FLAG_W,DATE,TIME,LATITUDE,LONGITUDE,DEPTH,CTDRAW,CTDPRS,CTDTMP,CTDSAL,CTDSAL_FLAG_W,SALNTY,SALNTY_FLAG_W,CTDOXY,CTDOXY_FLAG_W,THETA,OXYGEN,OXYGEN_FLAG_W,SILCAT,SILCAT_FLAG_W,NITRAT,NITRAT_FLAG_W,NITRIT,NITRIT_FLAG_W,PHSPHT,PHSPHT_FLAG_W,CFC-11,CFC-11_FLAG_W,CFC-12,CFC-12_FLAG_W,TRITUM,TRITUM_FLAG_W,HELIUM,HELIUM_FLAG_W,DELHE3,DELHE3_FLAG_W,DELC14,DELC14_FLAG_W,DELC13,DELC13_FLAG_W,NEON,NEON_FLAG_W,TCARBN,TCARBN_FLAG_W,ALKALI,ALKALI_FLAG_W,C14ERR,DELHER,HELIER,NEONER,TRITER
,,,,,,,,,,,,,DBAR,ITS-90,PSS-78,,PSS-78,,UMOL/KG,,DEG C,UMOL/KG,,UMOL/KG,,UMOL/KG,,UMOL/KG,,UMOL/KG,,PMOL/KG,,PMOL/KG,,TU,,NMOL/KG,,PERCNT,,/MILLE,,/MILLE,,NMOL/KG,,UMOL/KG,,UMOL/KG,,/MILLE,PERCNT,NMOL/KG,NMOL/KG,TU
    316N145_10,  I07N,   766,  1,     36,     36,2,19950731,0059,  2.3995,  57.6923, 4459,   -999,      8.3,  27.3704,  35.3108,2,  35.3128,2,    202.8,2, 27.3688,    202.2,2,     3.68,2,     0.04,2,     0.00,2,     0.19,2,    1.662,2,    0.952,2, -999.000,9,-999.0000,9,  -999.00,9,   -999.0,9,  -999.00,9,-999.000,9,   1970.0,2,   2311.1,2,  -999.0, -999.00,-999.0000,-999.000,-999.000
    316N145_10,  I07N,   766,  1,     35,     35,2,19950731,0059,  2.3995,  57.6923, 4459,   -999,     41.1,  27.3102,  35.3158,2,  35.3178,2,    203.8,2, 27.3010,    202.0,2,     3.67,2,     0.04,2,     0.00,2,     0.19,2,    1.676,2,    0.959,2, -999.000,9,-999.0000,9,  -999.00,9,   -999.0,9,  -999.00,9,-999.000,9,   1971.5,2,   2299.6,2,  -999.0, -999.00,-999.0000,-999.000,-999.000
    316N145_10,  I07N,   766,  1,     34,     34,2,19950731,0059,  2.3995,  57.6923, 4459,   -999,     81.3,  27.5720,  35.4713,2,  35.4680,2,    207.0,2, 27.5533,    198.2,2,     3.47,2,     0.08,2,     0.00,2,     0.20,2,    1.639,2,    0.943,2, -999.000,9,-999.0000,9,  -999.00,9,   -999.0,9,  -999.00,9,-999.000,9,   1973.5,2,   2323.9,2,  -999.0, -999.00,-999.0000,-999.000,-999.000
    316N145_10,  I07N,   766,  1,     33,     33,2,19950731,0059,  2.3995,  57.6923, 4459,   -999,     93.1,  27.7887,  35.6521,2,  35.6474,2,    204.4,2, 27.7671,    193.8,2,     3.28,2,     0.20,2,     0.02,2,     0.22,2,    1.618,2,    0.926,2, -999.000,9,-999.0000,9,  -999.00,9,   -999.0,9,  -999.00,9,-999.000,9,   1981.4,2,   2332.9,2,  -999.0, -999.00,-999.0000,-999.000,-999.000
    316N145_10,  I07N,   766,  1,     32,     32,2,19950731,0059,  2.3995,  57.6923, 4459,   -999,    111.7,  23.5362,  35.4160,2,  35.4079,2,    150.5,2, 23.5132,    142.8,2,     7.78,2,     8.37,2,     0.30,2,     0.76,2,    1.591,2,    0.889,2, -999.000,9,-999.0000,9,  -999.00,9,   -999.0,9,  -999.00,9,-999.000,9,   2057.1,2,   2315.7,2,  -999.0, -999.00,-999.0000,-999.000,-999.000
    316N145_10,  I07N,   766,  1,     31,     31,2,19950731,0059,  2.3995,  57.6923, 4459,   -999,    141.3,  17.6426,  35.2744,2,  35.2743,2,    103.9,2, 17.6188,    103.8,2,    14.36,2,    17.18,2,     0.02,2,     1.27,2,    1.429,2,    0.775,2, -999.000,9,-999.0000,9,  -999.00,9,   -999.0,9,  -999.00,9,-999.000,9,   2134.8,2,   2316.9,2,  -999.0, -999.00,-999.0000,-999.000,-999.000
    316N145_10,  I07N,   766,  1,     30,     30,2,19950731,0059,  2.3995,  57.6923, 4459,   -999,    170.9,  15.7908,  35.2303,2,  35.2196,2,    104.1,2, 15.7641,    101.9,2,    16.42,2,    19.15,2,     0.00,2,     1.41,2,    1.314,2,    0.696,2, -999.000,9,-999.0000,9,  -999.00,9,   -999.0,9,  -999.00,9,-999.000,9,   2153.4,2,   2327.1,2,  -999.0, -999.00,-999.0000,-999.000,-999.000
    316N145_10,  I07N,   766,  1,     29,     29,2,19950731,0059,  2.3995,  57.6923, 4459,   -999,    190.7,  14.7865,  35.2042,2,  35.2078,2,     91.0,2, 14.7581,    111.2,2,    16.57,2,    18.93,2,     0.00,2,     1.39,2,    1.348,2,    0.709,2, -999.000,9,-999.0000,9,  -999.00,9,   -999.0,9,  -999.00,9,-999.000,9,   2155.1,2,   2357.4,3,  -999.0, -999.00,-999.0000,-999.000,-999.000
    316N145_10,  I07N,   766,  1,     28,     28,2,19950731,0059,  2.3995,  57.6923, 4459,   -999,    225.8,  13.5877,  35.1544,2,  35.1551,2,    117.5,2, 13.5558,    110.8,2,    17.94,2,    20.43,2,     0.00,2,     1.49,2,    1.199,2,    0.623,2, -999.000,9,-999.0000,9,  -999.00,9,   -999.0,9,  -999.00,9,-999.000,9,   2164.3,2,   2315.5,2,  -999.0, -999.00,-999.0000,-999.000,-999.000
    316N145_10,  I07N,   766,  1,     27,     27,2,19950731,0059,  2.3995,  57.6923, 4459,   -999,    281.6,  12.6831,  35.1043,2,  35.1063,2,     95.5,2, 12.6450,    101.4,2,    20.00,2,    22.72,2,     0.00,2,     1.62,2,    0.974,2,    0.521,2, -999.000,9,-999.0000,9,  -999.00,9,   -999.0,9,  -999.00,9,-999.000,9,   2179.7,2,   2315.2,2,  -999.0, -999.00,-999.0000,-999.000,-999.000
    316N145_10,  I07N,   766,  1,     26,     26,2,19950731,0059,  2.3995,  57.6923, 4459,   -999,    346.9,  12.1934,  35.0804,2,  35.0825,2,    105.7,2, 12.1475,    108.7,2,    20.16,2,    22.72,2,     0.00,2,     1.62,2,    0.986,2,    0.521,2, -999.000,9,-999.0000,9,  -999.00,9,   -999.0,9,  -999.00,9,-999.000,9,   2179.5,2,   2318.8,2,  -999.0, -999.00,-999.0000,-999.000,-999.000
    316N145_10,  I07N,   766,  1,     25,     25,2,19950731,0059,  2.3995,  57.6923, 4459,   -999,    432.4,  11.6230,  35.1964,2,  35.1913,2,     74.9,2, 11.5672,     72.1,2,    28.11,2,    26.98,2,     0.00,2,     2.01,2,    0.609,2,    0.314,2, -999.000,9,-999.0000,9,  -999.00,9,   -999.0,9,  -999.00,9,-999.000,9,   2215.2,2,   2323.9,2,  -999.0, -999.00,-999.0000,-999.000,-999.000
    316N145_10,  I07N,   766,  1,     24,     24,2,19950731,0059,  2.3995,  57.6923, 4459,   -999,    487.5,  10.5550,  35.1374,2,  35.1439,2,     61.6,2, 10.4957,     64.7,2,    35.03,2,    29.47,2,     0.00,2,     2.21,2,    0.365,6,    0.192,6, -999.000,9,-999.0000,9,  -999.00,9,   -999.0,9,  -999.00,9,-999.000,9,   2231.0,2,   2323.6,2,  -999.0, -999.00,-999.0000,-999.000,-999.000
    316N145_10,  I07N,   766,  1,     23,     23,3,19950731,0059,  2.3995,  57.6923, 4459,   -999,    598.2,   9.8992,  35.1392,2,  35.1476,3,     51.3,2,  9.8288,     51.9,2,    42.29,2,    31.09,2,     0.00,2,     2.33,2, -999.000,9, -999.000,9, -999.000,9,-999.0000,9,  -999.00,9,   -999.0,9,  -999.00,9,-999.000,9,   2245.8,2,   2339.9,2,  -999.0, -999.00,-999.0000,-999.000,-999.000
    316N145_10,  I07N,   766,  1,     22,     22,2,19950731,0059,  2.3995,  57.6923, 4459,   -999,    697.6,   9.3523,  35.1345,2,  35.1360,2,     43.4,2,  9.2726,     43.3,2,    52.32,2,    33.50,2,     0.00,2,     2.54,2,    0.076,2,    0.043,2, -999.000,9,-999.0000,9,  -999.00,9,   -999.0,9,  -999.00,9,-999.000,9,   2264.3,2,   2349.6,2,  -999.0, -999.00,-999.0000,-999.000,-999.000
    316N145_10,  I07N,   766,  1,     21,     21,2,19950731,0059,  2.3995,  57.6923, 4459,   -999,    798.8,   8.6975,  35.1258,2,  35.1258,2,     38.0,2,  8.6094,     38.0,2,    61.85,2,    34.94,2,     0.00,2,     2.66,2,    0.034,2,    0.025,2, -999.000,9,-999.0000,9,  -999.00,9,   -999.0,9,  -999.00,9,-999.000,9,   2279.2,2,   2349.1,2,  -999.0, -999.00,-999.0000,-999.000,-999.000
    316N145_10,  I07N,   766,  1,     20,     20,2,19950731,0059,  2.3995,  57.6923, 4459,   -999,    898.5,   8.1982,  35.1187,2,  35.1193,2,     41.3,2,  8.1018,     40.9,2,    68.08,2,    35.32,2,     0.00,2,     2.70,2,    0.029,2,    0.015,2, -999.000,9,-999.0000,9,  -999.00,9,   -999.0,9,  -999.00,9,-999.000,9,   2285.5,2,   2358.9,2,  -999.0, -999.00,-999.0000,-999.000,-999.000
    316N145_10,  I07N,   766,  1,     19,     19,2,19950731,0059,  2.3995,  57.6923, 4459,   -999,    999.6,   7.5953,  35.0923,2,  35.0945,2,     41.9,2,  7.4919,     43.6,2,    74.84,2,    35.83,2,     0.00,2,     2.74,2,    0.023,2,    0.016,2, -999.000,9,-999.0000,9,  -999.00,9,   -999.0,9,  -999.00,9,-999.000,9,   2293.5,2,   2364.2,2,  -999.0, -999.00,-999.0000,-999.000,-999.000
    316N145_10,  I07N,   766,  1,     18,     18,2,19950731,0059,  2.3995,  57.6923, 4459,   -999,   1174.3,   6.1713,  34.9607,2,  34.9593,2,     56.1,2,  6.0609,     56.1,2,    88.98,2,    36.82,2,     0.00,2,     2.78,2,    0.002,2,   -0.001,2, -999.000,9,-999.0000,9,  -999.00,9,   -999.0,9,  -999.00,9,-999.000,9,   2305.9,2,   2373.4,2,  -999.0, -999.00,-999.0000,-999.000,-999.000
    316N145_10,  I07N,   766,  1,     17,     17,2,19950731,0059,  2.3995,  57.6923, 4459,   -999,   1376.0,   5.2173,  34.9263,2,  34.9273,2,     72.7,2,  5.0959,     71.7,2,    98.44,2,    36.68,2,     0.00,2,     2.77,2,    0.001,2,   -0.002,2, -999.000,9,-999.0000,9,  -999.00,9,   -999.0,9,  -999.00,9,-999.000,9,   2311.0,2,   2379.6,2,  -999.0, -999.00,-999.0000,-999.000,-999.000
    316N145_10,  I07N,   766,  1,     16,     16,2,19950731,0059,  2.3995,  57.6923, 4459,   -999,   1597.9,   4.0153,  34.8479,2,  34.8507,2,     95.8,2,  3.8864,     96.2,2,   109.22,2,    36.13,2,     0.00,2,     2.70,2,   -0.002,2,    0.000,2, -999.000,9,-999.0000,9,  -999.00,9,   -999.0,9,  -999.00,9,-999.000,9,   2314.7,2,   2394.5,2,  -999.0, -999.00,-999.0000,-999.000,-999.000
    316N145_10,  I07N,   766,  1,     15,     15,2,19950731,0059,  2.3995,  57.6923, 4459,   -999,   1819.5,   3.1994,  34.8067,2,  34.8073,2,    114.3,2,  3.0608,    115.2,2,   117.59,2,    35.62,2,     0.01,2,     2.63,2,   -0.002,2,    0.001,2, -999.000,9,-999.0000,9,  -999.00,9,   -999.0,9,  -999.00,9,-999.000,9,   2314.9,2,   2403.2,2,  -999.0, -999.00,-999.0000,-999.000,-999.000
    316N145_10,  I07N,   766,  1,     14,     14,2,19950731,0059,  2.3995,  57.6923, 4459,   -999,   2048.0,   2.6648,  34.7808,2,  34.7814,2,    127.5,2,  2.5137,    128.8,2,   123.50,2,    35.16,2,     0.00,2,     2.58,2,   -0.002,2,    0.002,2, -999.000,9,-999.0000,9,  -999.00,9,   -999.0,9,  -999.00,9,-999.000,9,   2315.2,2,   2408.1,2,  -999.0, -999.00,-999.0000,-999.000,-999.000
    316N145_10,  I07N,   766,  1,     13,     13,2,19950731,0059,  2.3995,  57.6923, 4459,   -999,   2297.1,   2.2594,  34.7602,2,  34.7608,2,    141.6,2,  2.0926,    142.2,2,   126.37,2,    34.74,2,     0.00,2,     2.51,2, -999.000,9, -999.000,9, -999.000,9,-999.0000,9,  -999.00,9,   -999.0,9,  -999.00,9,-999.000,9,   2312.1,2,   2409.1,2,  -999.0, -999.00,-999.0000,-999.000,-999.000
    316N145_10,  I07N,   766,  1,     12,     12,2,19950731,0059,  2.3995,  57.6923, 4459,   -999,   2554.9,   2.0537,  34.7533,2,  34.7545,2,    147.4,2,  1.8671,    146.4,2,   130.15,2,    34.70,2,     0.00,2,     2.51,2, -999.000,9, -999.000,9, -999.000,9,-999.0000,9,  -999.00,9,   -999.0,9,  -999.00,9,-999.000,9,   2313.8,2,   2415.1,2,  -999.0, -999.00,-999.0000,-999.000,-999.000
    316N145_10,  I07N,   766,  1,     11,     11,2,19950731,0059,  2.3995,  57.6923, 4459,   -999,   2797.5,   1.9083,  34.7453,2,  34.7482,3,    152.7,2,  1.7018,    152.3,2,   130.84,2,    34.47,2,     0.00,2,     2.48,2, -999.000,9, -999.000,9, -999.000,9,-999.0000,9,  -999.00,9,   -999.0,9,  -999.00,9,-999.000,9,   2310.3,2,   2414.2,2,  -999.0, -999.00,-999.0000,-999.000,-999.000
    316N145_10,  I07N,   766,  1,     10,     10,2,19950731,0059,  2.3995,  57.6923, 4459,   -999,   3024.7,   1.8086,  34.7398,2,  34.7404,2,    157.5,2,  1.5824,    158.0,2,   131.16,2,    34.24,2,     0.00,2,     2.45,2, -999.000,9, -999.000,9, -999.000,9,-999.0000,9,  -999.00,9,   -999.0,9,  -999.00,9,-999.000,9,   2308.0,2,   2415.6,2,  -999.0, -999.00,-999.0000,-999.000,-999.000
    316N145_10,  I07N,   766,  1,      9,      9,2,19950731,0059,  2.3995,  57.6923, 4459,   -999,   3195.8,   1.7088,  34.7343,2,  34.7351,2,    163.0,2,  1.4680,    163.2,2,   131.12,2,    33.92,2,     0.00,2,     2.42,2, -999.000,9, -999.000,9, -999.000,9,-999.0000,9,  -999.00,9,   -999.0,9,  -999.00,9,-999.000,9,   2305.0,2,   2410.6,2,  -999.0, -999.00,-999.0000,-999.000,-999.000
    316N145_10,  I07N,   766,  1,      8,      8,2,19950731,0059,  2.3995,  57.6923, 4459,   -999,   3375.0,   1.6450,  34.7318,2,  34.7317,2,    166.8,2,  1.3878,    166.4,2,   131.44,2,    33.83,2,     0.00,2,     2.42,2, -999.000,9, -999.000,9, -999.000,9,-999.0000,9,  -999.00,9,   -999.0,9,  -999.00,9,-999.000,9,   2302.9,2,   2412.8,2,  -999.0, -999.00,-999.0000,-999.000,-999.000
    316N145_10,  I07N,   766,  1,      7,      7,2,19950731,0059,  2.3995,  57.6923, 4459,   -999,   3549.7,   1.6018,  34.7309,2,  34.7317,2,    168.4,2,  1.3279,    168.7,2,   131.40,2,    33.78,2,     0.00,2,     2.40,2, -999.000,9, -999.000,9, -999.000,9,-999.0000,9,  -999.00,9,   -999.0,9,  -999.00,9,-999.000,9,   2300.8,2,   2408.6,2,  -999.0, -999.00,-999.0000,-999.000,-999.000
    316N145_10,  I07N,   766,  1,      6,      6,2,19950731,0059,  2.3995,  57.6923, 4459,   -999,   3728.5,   1.5372,  34.7269,2,  34.7274,2,    171.6,2,  1.2462,    171.8,2,   131.72,2,    33.69,2,     0.00,2,     2.40,2, -999.000,9, -999.000,9, -999.000,9,-999.0000,9,  -999.00,9,   -999.0,9,  -999.00,9,-999.000,9,   2300.9,2,   2410.4,2,  -999.0, -999.00,-999.0000,-999.000,-999.000
    316N145_10,  I07N,   766,  1,      5,      5,2,19950731,0059,  2.3995,  57.6923, 4459,   -999,   3901.7,   1.4895,  34.7255,2,  34.7253,2,    174.2,2,  1.1814,    174.8,2,   131.50,2,    33.42,2,     0.00,2,     2.38,2, -999.000,9, -999.000,9, -999.000,9,-999.0000,9,  -999.00,9,   -999.0,9,  -999.00,9,-999.000,9,   2298.6,2,   2407.1,2,  -999.0, -999.00,-999.0000,-999.000,-999.000
    316N145_10,  I07N,   766,  1,      4,      4,2,19950731,0059,  2.3995,  57.6923, 4459,   -999,   4105.7,   1.4464,  34.7227,2,  34.7243,3,    177.9,2,  1.1174,    177.6,2,   131.64,2,    33.42,2,     0.00,2,     2.36,2, -999.000,9, -999.000,9, -999.000,9,-999.0000,9,  -999.00,9,   -999.0,9,  -999.00,9,-999.000,9,   2296.4,2,   2409.8,2,  -999.0, -999.00,-999.0000,-999.000,-999.000
    316N145_10,  I07N,   766,  1,      3,      3,2,19950731,0059,  2.3995,  57.6923, 4459,   -999,   4316.0,   1.3856,  34.7193,2,  34.7206,2,    181.0,2,  1.0349,    181.1,2,   131.59,2,    33.24,2,     0.00,2,     2.35,2, -999.000,9, -999.000,9, -999.000,9,-999.0000,9,  -999.00,9,   -999.0,9,  -999.00,9,-999.000,9,   2294.7,2,   2411.5,2,  -999.0, -999.00,-999.0000,-999.000,-999.000
    316N145_10,  I07N,   766,  1,      2,      2,2,19950731,0059,  2.3995,  57.6923, 4459,   -999,   4459.2,   1.3724,  34.7183,2,  34.7198,2,    183.2,2,  1.0059,    183.3,2,   131.19,2,    33.10,2,     0.00,2,     2.35,2, -999.000,9, -999.000,9, -999.000,9,-999.0000,9,  -999.00,9,   -999.0,9,  -999.00,9,-999.000,9,   2293.0,2,   2409.0,2,  -999.0, -999.00,-999.0000,-999.000,-999.000
    316N145_10,  I07N,   766,  1,      1,      1,2,19950731,0059,  2.3995,  57.6923, 4459,   -999,   4540.4,   1.3737,  34.7185,2,  34.7204,3,    183.3,2,  0.9979,    183.3,2,   131.14,2,    33.15,2,     0.00,2,     2.34,2, -999.000,9, -999.000,9, -999.000,9,-999.0000,9,  -999.00,9,   -999.0,9,  -999.00,9,-999.000,9,   2291.6,2,   2401.5,2,  -999.0, -999.00,-999.0000,-999.000,-999.000