BOTTLE,20080821WHPSIOSCD
EXPOCODE,SECT_ID,STNNBR,CASTNO,SAMPNO,BTLNBR,BTLNBR_FLAG_W,DATE,TIME,LATITUDE,LONGITUDE,DEPTH,CTDRAW,CTDPRS,CTDTMP,CTDSAL,CTDSAL_FLAG_W,SALNTY,SALNTY_FLAG_W,CTDOXY,CTDOXY_FLAG_W,THETA,OXYGEN,OXYGEN_FLAG_W,SILCAT,SILCAT_FLAG_W,NITRAT,NITRAT_FLAG_W,NITRIT,NITRIT_FLAG_W,PHSPHT,PHSPHT_FLAG_W,CFC-11,CFC-11_FLAG_W,CFC-12,CFC-12_FLAG_W,TRITUM,TRITUM_FLAG_W,HELIUM,HELIUM_FLAG_W,DELHE3,DELHE3_FLAG_W,DELC14,DELC14_FLAG_W,DELC13,DELC13_FLAG_W,NEON,NEON_FLAG_W,TCARBN,TCARBN_FLAG_W,ALKALI,ALKALI_FLAG_W,C14ERR,DELHER,HELIER,NEONER,TRITER
,,,,,,,,,,,,,DBAR,ITS-90,PSS-78,,PSS-78,,UMOL/KG,,DEG C,UMOL/KG,,UMOL/KG,,UMOL/KG,,UMOL/KG,,UMOL/KG,,PMOL/KG,,PMOL/KG,,TU,,NMOL/KG,,PERCNT,,/MILLE,,/MILLE,,NMOL/KG,,UMOL/KG,,UMOL/KG,,/MILLE,PERCNT,NMOL/KG,NMOL/KG,TU
    316N145_10,  I07N,   759,  1,     36,     36,2,19950729,0147, -0.0012,  57.2693, 4556,   -999,      8.5,  27.3989,  35.2930,2,  35.3002,2,    203.6,2, 27.3971,    200.3,2,     3.58,2,     0.08,2,     0.00,2,     0.19,2,    1.655,2,    0.937,2, -999.000,9,-999.0000,9,  -999.00,9,     77.5,2,     1.32,2,-999.000,9,   1971.7,2,   2307.6,2,     8.2, -999.00,-999.0000,-999.000,-999.000
    316N145_10,  I07N,   759,  1,     35,     35,2,19950729,0147, -0.0012,  57.2693, 4556,   -999,     20.4,  27.2919,  35.2916,2,  35.2880,2,    199.5,2, 27.2874,    200.6,2,     3.56,2,     0.17,2,     0.01,2,     0.20,2, -999.000,9, -999.000,9, -999.000,9,-999.0000,9,  -999.00,9,   -999.0,9,  -999.00,9,-999.000,9,   -999.9,9,   -999.9,9,  -999.0, -999.00,-999.0000,-999.000,-999.000
    316N145_10,  I07N,   759,  1,     34,     34,2,19950729,0147, -0.0012,  57.2693, 4556,   -999,     40.5,  24.6304,  35.2421,2,  35.2455,2,    177.6,2, 24.6219,    178.1,2,     5.47,2,     3.61,2,     0.59,2,     0.45,2,    1.706,2,    0.939,2, -999.000,9,-999.0000,9,  -999.00,9,     79.2,2,     1.03,2,-999.000,9,   -999.9,9,   -999.9,9,     3.7, -999.00,-999.0000,-999.000,-999.000
    316N145_10,  I07N,   759,  1,     33,     33,2,19950729,0147, -0.0012,  57.2693, 4556,   -999,     70.0,  23.9689,  35.2435,2,  35.2442,2,    168.1,2, 23.9544,    161.7,2,     6.33,2,     6.09,2,     0.09,2,     0.57,2, -999.000,9, -999.000,9, -999.000,9,-999.0000,9,  -999.00,9,   -999.0,9,  -999.00,9,-999.000,9,   -999.9,9,   -999.9,9,  -999.0, -999.00,-999.0000,-999.000,-999.000
    316N145_10,  I07N,   759,  1,     32,     32,2,19950729,0147, -0.0012,  57.2693, 4556,   -999,    100.8,  23.2832,  35.2407,2,  35.2414,2,    160.8,2, 23.2627,    154.9,2,     7.01,2,     7.37,2,     0.04,2,     0.65,2,    1.636,2,    0.903,2, -999.000,9,-999.0000,9,  -999.00,9,     62.0,2,     0.84,2,-999.000,9,   -999.9,9,   -999.9,9,     3.5, -999.00,-999.0000,-999.000,-999.000
    316N145_10,  I07N,   759,  1,     31,     31,2,19950729,0147, -0.0012,  57.2693, 4556,   -999,    131.2,  22.9870,  35.2661,2,  35.2687,2,    155.8,2, 22.9605,    150.3,2,     7.52,2,     8.09,2,     0.06,2,     0.69,2, -999.000,9, -999.000,9, -999.000,9,-999.0000,9,  -999.00,9,   -999.0,9,  -999.00,9,-999.000,9,   -999.9,9,   -999.9,9,  -999.0, -999.00,-999.0000,-999.000,-999.000
    316N145_10,  I07N,   759,  1,     30,     30,2,19950729,0147, -0.0012,  57.2693, 4556,   -999,    164.4,  15.7034,  35.1908,2,  35.1877,2,     69.2,2, 15.6778,     69.5,2,    19.17,2,    22.79,2,     0.00,2,     1.64,2,    1.041,2,    0.542,2, -999.000,9,-999.0000,9,  -999.00,9,   -999.0,9,  -999.00,9,-999.000,9,   -999.9,9,   -999.9,9,  -999.0, -999.00,-999.0000,-999.000,-999.000
    316N145_10,  I07N,   759,  1,     29,     29,2,19950729,0147, -0.0012,  57.2693, 4556,   -999,    200.1,  13.5902,  35.1369,2,  35.1368,2,     78.2,2, 13.5620,     79.4,2,    20.90,2,    23.94,2,     0.00,2,     1.71,2,    0.886,2,    0.462,2, -999.000,9,-999.0000,9,  -999.00,9,     21.6,2,     0.35,2,-999.000,9,   -999.9,9,   -999.9,9,     3.3, -999.00,-999.0000,-999.000,-999.000
    316N145_10,  I07N,   759,  1,     28,     28,2,19950729,0147, -0.0012,  57.2693, 4556,   -999,    249.4,  12.1366,  35.0796,2,  35.0817,2,    124.4,2, 12.1039,    116.5,2,    19.67,2,    21.97,2,     0.00,2,     1.58,2,    1.080,2,    0.545,2, -999.000,9,-999.0000,9,  -999.00,9,   -999.0,9,  -999.00,9,-999.000,9,   -999.9,9,   -999.9,9,  -999.0, -999.00,-999.0000,-999.000,-999.000
    316N145_10,  I07N,   759,  1,     27,     27,2,19950729,0147, -0.0012,  57.2693, 4556,   -999,    300.4,  11.6574,  35.0485,2,  35.0487,2,    101.7,2, 11.6189,    113.8,2,    21.22,2,    23.12,2,     0.00,2,     1.65,2,    0.963,2,    0.489,2, -999.000,9,-999.0000,9,  -999.00,9,      6.9,2,     0.72,2,-999.000,9,   -999.9,9,   -999.9,9,     5.2, -999.00,-999.0000,-999.000,-999.000
    316N145_10,  I07N,   759,  1,     26,     26,2,19950729,0147, -0.0012,  57.2693, 4556,   -999,    400.3,  11.0209,  35.0186,2,  35.0076,2,     95.6,2, 10.9711,    101.5,2,    25.03,2,    25.66,2,     0.00,2,     1.81,2,    0.692,6,    0.350,6, -999.000,9,-999.0000,9,  -999.00,9,     -9.1,2,     0.35,2,-999.000,9,   -999.9,9,   -999.9,9,     3.4, -999.00,-999.0000,-999.000,-999.000
    316N145_10,  I07N,   759,  1,     25,     25,2,19950729,0147, -0.0012,  57.2693, 4556,   -999,    450.2,  10.6625,  34.9987,2,  35.0017,2,    102.8,2, 10.6076,    100.1,2,    26.75,2,    26.41,2,     0.00,2,     1.88,2,    0.642,2,    0.327,2, -999.000,9,-999.0000,9,  -999.00,9,   -999.0,9,  -999.00,9,-999.000,9,   -999.9,9,   -999.9,9,  -999.0, -999.00,-999.0000,-999.000,-999.000
    316N145_10,  I07N,   759,  1,     24,     24,2,19950729,0147, -0.0012,  57.2693, 4556,   -999,    500.9,  10.2376,  34.9856,2,  34.9862,2,     82.4,2, 10.1778,     83.5,2,    31.60,2,    28.77,2,     0.00,2,     2.05,2,    0.400,2,    0.210,2, -999.000,9,-999.0000,9,  -999.00,9,    -54.2,2,     0.36,2,-999.000,9,   -999.9,9,   -999.9,9,     3.1, -999.00,-999.0000,-999.000,-999.000
    316N145_10,  I07N,   759,  1,     23,     23,2,19950729,0147, -0.0012,  57.2693, 4556,   -999,    599.6,   9.3571,  35.0070,2,  35.0082,2,     66.0,2,  9.2890,     68.0,2,    31.59,2,    28.87,2,     0.00,2,     2.05,2, -999.000,9, -999.000,9, -999.000,9,-999.0000,9,  -999.00,9,    -86.4,2,     0.36,2,-999.000,9,   -999.9,9,   -999.9,9,     3.0, -999.00,-999.0000,-999.000,-999.000
    316N145_10,  I07N,   759,  1,     22,     22,2,19950729,0147, -0.0012,  57.2693, 4556,   -999,    700.0,   8.8582,  35.0642,2,  35.0656,2,     52.4,2,  8.7807,     52.9,2,    54.87,2,    33.52,2,     0.00,2,     2.52,2,    0.080,2,    0.050,2, -999.000,9,-999.0000,9,  -999.00,9,   -107.5,2,     0.27,2,-999.000,9,   -999.9,9,   -999.9,9,     3.0, -999.00,-999.0000,-999.000,-999.000
    316N145_10,  I07N,   759,  1,     21,     21,2,19950729,0147, -0.0012,  57.2693, 4556,   -999,    799.7,   8.2015,  35.0411,2,  35.0420,2,     51.4,2,  8.1163,     51.5,2,    63.03,2,    34.51,2,     0.00,2,     2.60,2,    0.049,2,    0.033,2, -999.000,9,-999.0000,9,  -999.00,9,   -125.1,2,    -0.01,2,-999.000,9,   -999.9,9,   -999.9,9,     3.6, -999.00,-999.0000,-999.000,-999.000
    316N145_10,  I07N,   759,  1,     20,     20,2,19950729,0147, -0.0012,  57.2693, 4556,   -999,    900.4,   7.7117,  35.0198,2,  35.0225,2,     50.6,2,  7.6185,     50.0,2,    69.29,2,    35.36,2,     0.00,2,     2.67,2,    0.028,2,    0.023,2, -999.000,9,-999.0000,9,  -999.00,9,   -133.9,2,    -0.02,2,-999.000,9,   -999.9,9,   -999.9,9,     3.0, -999.00,-999.0000,-999.000,-999.000
    316N145_10,  I07N,   759,  1,     19,     19,2,19950729,0147, -0.0012,  57.2693, 4556,   -999,   1002.1,   7.0652,  34.9785,2,  34.9797,2,     50.4,2,  6.9656,     50.0,2,    78.35,2,    36.36,2,     0.00,2,     2.75,2,    0.011,2,    0.015,2, -999.000,9,-999.0000,9,  -999.00,9,   -143.5,2,    -0.12,2,-999.000,9,   -999.9,9,   -999.9,9,     2.9, -999.00,-999.0000,-999.000,-999.000
    316N145_10,  I07N,   759,  1,     18,     18,2,19950729,0147, -0.0012,  57.2693, 4556,   -999,   1200.6,   6.0705,  34.9451,2,  34.9563,3,     59.5,2,  5.9584,     60.0,2,    87.96,2,    36.60,2,     0.00,2,     2.76,2,    0.003,2,    0.000,2, -999.000,9,-999.0000,9,  -999.00,9,   -163.0,2,    -0.01,2,-999.000,9,   -999.9,9,   -999.9,9,     4.6, -999.00,-999.0000,-999.000,-999.000
    316N145_10,  I07N,   759,  1,     17,     17,2,19950729,0147, -0.0012,  57.2693, 4556,   -999,   1423.0,   4.5173,  34.8542,2,  34.8551,2,     88.7,2,  4.3989,     88.8,2,   102.94,2,    36.37,2,     0.00,2,     2.71,2,   -0.002,2,    0.001,2, -999.000,9,-999.0000,9,  -999.00,9,   -171.5,2,     0.02,2,-999.000,9,   -999.9,9,   -999.9,9,     3.0, -999.00,-999.0000,-999.000,-999.000
    316N145_10,  I07N,   759,  1,     16,     16,2,19950729,0147, -0.0012,  57.2693, 4556,   -999,   1651.1,   3.5582,  34.8122,2,  34.8129,2,    111.0,2,  3.4301,    109.9,2,   111.64,2,    35.72,2,     0.00,2,     2.64,2,   -0.004,2,   -0.002,2, -999.000,9,-999.0000,9,  -999.00,9,   -179.3,2,     0.11,2,-999.000,9,   -999.9,9,   -999.9,9,     3.8, -999.00,-999.0000,-999.000,-999.000
    316N145_10,  I07N,   759,  1,     15,     15,2,19950729,0147, -0.0012,  57.2693, 4556,   -999,   1898.8,   2.8696,  34.7811,2,  34.7813,2,    126.1,2,  2.7287,    126.5,2,   118.61,2,    35.21,2,     0.00,2,     2.57,2,   -0.002,2,   -0.001,2, -999.000,9,-999.0000,9,  -999.00,9,   -174.2,2,     0.09,2,-999.000,9,   -999.9,9,   -999.9,9,     4.6, -999.00,-999.0000,-999.000,-999.000
    316N145_10,  I07N,   759,  1,     14,     14,2,19950729,0147, -0.0012,  57.2693, 4556,   -999,   2152.0,   2.3914,  34.7656,2,  34.7660,2,    138.2,2,  2.2353,    138.0,2,   125.09,2,    34.93,2,     0.00,2,     2.54,2, -999.000,9, -999.000,9, -999.000,9,-999.0000,9,  -999.00,9,   -999.0,9,  -999.00,9,-999.000,9,   -999.9,9,   -999.9,9,  -999.0, -999.00,-999.0000,-999.000,-999.000
    316N145_10,  I07N,   759,  1,     13,     13,2,19950729,0147, -0.0012,  57.2693, 4556,   -999,   2399.9,   2.1189,  34.7538,2,  34.7544,2,    145.8,2,  1.9452,    146.4,2,   127.24,2,    34.61,2,     0.00,2,     2.49,2, -999.000,9, -999.000,9, -999.000,9,-999.0000,9,  -999.00,9,   -999.0,9,  -999.00,9,-999.000,9,   -999.9,9,   -999.9,9,  -999.0, -999.00,-999.0000,-999.000,-999.000
    316N145_10,  I07N,   759,  1,     12,     12,2,19950729,0147, -0.0012,  57.2693, 4556,   -999,   2602.7,   2.0177,  34.7492,2,  34.7497,2,    150.6,2,  1.8274,    150.3,2,   128.48,2,    34.47,2,     0.00,2,     2.47,2, -999.000,9, -999.000,9, -999.000,9,-999.0000,9,  -999.00,9,   -999.0,9,  -999.00,9,-999.000,9,   -999.9,9,   -999.9,9,  -999.0, -999.00,-999.0000,-999.000,-999.000
    316N145_10,  I07N,   759,  1,     11,     11,2,19950729,0147, -0.0012,  57.2693, 4556,   -999,   2801.0,   1.8834,  34.7414,2,  34.7420,2,    155.8,2,  1.6771,    156.5,2,   128.44,2,    34.20,2,     0.00,2,     2.45,2, -999.000,9, -999.000,9, -999.000,9,-999.0000,9,  -999.00,9,   -999.0,9,  -999.00,9,-999.000,9,   -999.9,9,   -999.9,9,  -999.0, -999.00,-999.0000,-999.000,-999.000
    316N145_10,  I07N,   759,  1,     10,     10,2,19950729,0147, -0.0012,  57.2693, 4556,   -999,   3003.1,   1.7675,  34.7369,2,  34.7375,2,    160.0,2,  1.5443,    160.4,2,   130.05,2,    34.16,2,     0.00,2,     2.43,2, -999.000,9, -999.000,9, -999.000,9,-999.0000,9,  -999.00,9,   -999.0,9,  -999.00,9,-999.000,9,   -999.9,9,   -999.9,9,  -999.0, -999.00,-999.0000,-999.000,-999.000
    316N145_10,  I07N,   759,  1,      9,      9,2,19950729,0147, -0.0012,  57.2693, 4556,   -999,   3201.0,   1.7227,  34.7332,2,  34.7334,2,    163.6,2,  1.4811,    164.3,2,   129.09,2,    33.88,2,     0.00,2,     2.41,2, -999.000,9, -999.000,9, -999.000,9,-999.0000,9,  -999.00,9,   -999.0,9,  -999.00,9,-999.000,9,   -999.9,9,   -999.9,9,  -999.0, -999.00,-999.0000,-999.000,-999.000
    316N145_10,  I07N,   759,  1,      8,      8,2,19950729,0147, -0.0012,  57.2693, 4556,   -999,   3399.7,   1.6516,  34.7313,2,  34.7312,2,    166.7,2,  1.3918,    166.2,2,   130.70,2,    33.84,2,     0.00,2,     2.40,2, -999.000,9, -999.000,9, -999.000,9,-999.0000,9,  -999.00,9,   -999.0,9,  -999.00,9,-999.000,9,   -999.9,9,   -999.9,9,  -999.0, -999.00,-999.0000,-999.000,-999.000
    316N145_10,  I07N,   759,  1,      7,      7,2,19950729,0147, -0.0012,  57.2693, 4556,   -999,   3599.2,   1.6054,  34.7296,2,  34.7300,2,    169.0,2,  1.3262,    168.9,2,   130.85,2,    33.75,2,     0.00,2,     2.39,2, -999.000,9, -999.000,9, -999.000,9,-999.0000,9,  -999.00,9,   -999.0,9,  -999.00,9,-999.000,9,   -999.9,9,   -999.9,9,  -999.0, -999.00,-999.0000,-999.000,-999.000
    316N145_10,  I07N,   759,  1,      6,      6,2,19950729,0147, -0.0012,  57.2693, 4556,   -999,   3797.9,   1.5116,  34.7261,2,  34.7265,2,    172.1,2,  1.2140,    172.8,2,   131.72,2,    33.66,2,     0.00,2,     2.37,2, -999.000,9, -999.000,9, -999.000,9,-999.0000,9,  -999.00,9,   -999.0,9,  -999.00,9,-999.000,9,   -999.9,9,   -999.9,9,  -999.0, -999.00,-999.0000,-999.000,-999.000
    316N145_10,  I07N,   759,  1,      5,      5,2,19950729,0147, -0.0012,  57.2693, 4556,   -999,   3995.2,   1.4651,  34.7240,2,  34.7245,2,    174.9,2,  1.1476,    175.6,2,   131.87,2,    33.57,2,     0.00,2,     2.36,2, -999.000,9, -999.000,9, -999.000,9,-999.0000,9,  -999.00,9,   -999.0,9,  -999.00,9,-999.000,9,   -999.9,9,   -999.9,9,  -999.0, -999.00,-999.0000,-999.000,-999.000
    316N145_10,  I07N,   759,  1,      4,      4,2,19950729,0147, -0.0012,  57.2693, 4556,   -999,   4195.5,   1.4084,  34.7220,2,  34.7216,2,    179.1,2,  1.0706,    179.3,2,   131.46,2,    33.39,2,     0.00,2,     2.36,2, -999.000,9, -999.000,9, -999.000,9,-999.0000,9,  -999.00,9,   -999.0,9,  -999.00,9,-999.000,9,   -999.9,9,   -999.9,9,  -999.0, -999.00,-999.0000,-999.000,-999.000
    316N145_10,  I07N,   759,  1,      3,      3,2,19950729,0147, -0.0012,  57.2693, 4556,   -999,   4399.6,   1.3926,  34.7205,2,  34.7204,2,    181.6,2,  1.0324,    181.1,2,   130.88,2,    33.25,2,     0.00,2,     2.34,2, -999.000,9, -999.000,9, -999.000,9,-999.0000,9,  -999.00,9,   -999.0,9,  -999.00,9,-999.000,9,   -999.9,9,   -999.9,9,  -999.0, -999.00,-999.0000,-999.000,-999.000
    316N145_10,  I07N,   759,  1,      2,      2,2,19950729,0147, -0.0012,  57.2693, 4556,   -999,   4552.4,   1.3578,  34.7187,2,  34.7186,2,    184.8,2,  0.9811,    184.2,2,   130.65,2,    33.12,2,     0.00,2,     2.33,2, -999.000,9, -999.000,9, -999.000,9,-999.0000,9,  -999.00,9,   -999.0,9,  -999.00,9,-999.000,9,   -999.9,9,   -999.9,9,  -999.0, -999.00,-999.0000,-999.000,-999.000
    316N145_10,  I07N,   759,  1,      1,      1,2,19950729,0147, -0.0012,  57.2693, 4556,   -999,   4656.8,   1.3608,  34.7186,2,  34.7184,2,    183.8,2,  0.9719,    183.9,2,   130.80,2,    33.12,2,     0.00,2,     2.33,2, -999.000,9, -999.000,9, -999.000,9,-999.0000,9,  -999.00,9,   -999.0,9,  -999.00,9,-999.000,9,   -999.9,9,   -999.9,9,  -999.0, -999.00,-999.0000,-999.000,-999.000