BOTTLE,20080821WHPSIOSCD
EXPOCODE,SECT_ID,STNNBR,CASTNO,SAMPNO,BTLNBR,BTLNBR_FLAG_W,DATE,TIME,LATITUDE,LONGITUDE,DEPTH,CTDRAW,CTDPRS,CTDTMP,CTDSAL,CTDSAL_FLAG_W,SALNTY,SALNTY_FLAG_W,CTDOXY,CTDOXY_FLAG_W,THETA,OXYGEN,OXYGEN_FLAG_W,SILCAT,SILCAT_FLAG_W,NITRAT,NITRAT_FLAG_W,NITRIT,NITRIT_FLAG_W,PHSPHT,PHSPHT_FLAG_W,CFC-11,CFC-11_FLAG_W,CFC-12,CFC-12_FLAG_W,TRITUM,TRITUM_FLAG_W,HELIUM,HELIUM_FLAG_W,DELHE3,DELHE3_FLAG_W,DELC14,DELC14_FLAG_W,DELC13,DELC13_FLAG_W,NEON,NEON_FLAG_W,TCARBN,TCARBN_FLAG_W,ALKALI,ALKALI_FLAG_W,C14ERR,DELHER,HELIER,NEONER,TRITER
,,,,,,,,,,,,,DBAR,ITS-90,PSS-78,,PSS-78,,UMOL/KG,,DEG C,UMOL/KG,,UMOL/KG,,UMOL/KG,,UMOL/KG,,UMOL/KG,,PMOL/KG,,PMOL/KG,,TU,,NMOL/KG,,PERCNT,,/MILLE,,/MILLE,,NMOL/KG,,UMOL/KG,,UMOL/KG,,/MILLE,PERCNT,NMOL/KG,NMOL/KG,TU
    316N145_10,  I07N,   757,  2,     36,     36,2,19950728,1356, -0.5020,  57.2568, 4604,   -999,      3.3,  27.7920,  35.3064,2,  35.3073,2,    190.5,2, 27.7914,    200.2,3,     3.80,2,     0.04,2,     0.00,2,     0.19,2,    1.640,2,    0.934,2, -999.000,9,-999.0000,9,  -999.00,9,   -999.0,9,  -999.00,9,-999.000,9,   1970.4,2,   2314.6,2,  -999.0, -999.00,-999.0000,-999.000,-999.000
    316N145_10,  I07N,   757,  2,     35,     35,2,19950728,1356, -0.5020,  57.2568, 4604,   -999,     33.6,  24.8243,  35.2493,2,  35.2489,2,    168.7,2, 24.8173,    170.4,2,     6.04,2,     4.60,2,     0.15,2,     0.49,2,    1.672,2,    0.935,2, -999.000,9,-999.0000,9,  -999.00,9,   -999.0,9,  -999.00,9,-999.000,9,   -999.9,9,   -999.9,9,  -999.0, -999.00,-999.0000,-999.000,-999.000
    316N145_10,  I07N,   757,  2,     34,     34,2,19950728,1356, -0.5020,  57.2568, 4604,   -999,     53.9,  24.0119,  35.2020,2,  35.2052,2,    165.5,2, 24.0008,    168.8,2,     6.36,2,     5.33,2,     0.20,2,     0.53,2,    1.662,2,    0.927,2, -999.000,9,-999.0000,9,  -999.00,9,   -999.0,9,  -999.00,9,-999.000,9,   -999.9,9,   -999.9,9,  -999.0, -999.00,-999.0000,-999.000,-999.000
    316N145_10,  I07N,   757,  2,     33,     33,2,19950728,1356, -0.5020,  57.2568, 4604,   -999,    103.2,  23.3015,  35.2834,2,  35.2829,2,    146.7,2, 23.2804,    146.6,2,     7.72,2,     8.04,2,     0.01,2,     0.69,2,    1.647,2,    0.916,2, -999.000,9,-999.0000,9,  -999.00,9,   -999.0,9,  -999.00,9,-999.000,9,   -999.9,9,   -999.9,9,  -999.0, -999.00,-999.0000,-999.000,-999.000
    316N145_10,  I07N,   757,  2,     32,     32,2,19950728,1356, -0.5020,  57.2568, 4604,   -999,    148.2,  21.2251,  35.3224,2,  35.3247,2,    124.1,2, 21.1967,    116.8,2,    11.00,2,    13.21,2,     0.05,2,     1.02,2,    1.538,2,    0.829,2, -999.000,9,-999.0000,9,  -999.00,9,   -999.0,9,  -999.00,9,-999.000,9,   -999.9,9,   -999.9,9,  -999.0, -999.00,-999.0000,-999.000,-999.000
    316N145_10,  I07N,   757,  2,     31,     31,2,19950728,1356, -0.5020,  57.2568, 4604,   -999,    273.8,  11.8602,  35.0492,2,  35.0501,2,    109.5,2, 11.8247,    106.5,2,    21.57,2,    23.49,2,     0.00,2,     1.66,2,    0.907,2,    0.467,2, -999.000,9,-999.0000,9,  -999.00,9,   -999.0,9,  -999.00,9,-999.000,9,   -999.9,9,   -999.9,9,  -999.0, -999.00,-999.0000,-999.000,-999.000
    316N145_10,  I07N,   757,  2,     30,     30,2,19950728,1356, -0.5020,  57.2568, 4604,   -999,    309.2,  11.6734,  35.0453,2,  35.0454,2,     92.5,2, 11.6337,     93.8,2,    23.28,2,    25.20,2,     0.00,2,     1.78,2,    0.720,2,    0.361,2, -999.000,9,-999.0000,9,  -999.00,9,   -999.0,9,  -999.00,9,-999.000,9,   -999.9,9,   -999.9,9,  -999.0, -999.00,-999.0000,-999.000,-999.000
    316N145_10,  I07N,   757,  2,     29,     29,2,19950728,1356, -0.5020,  57.2568, 4604,   -999,    374.0,  10.8981,  34.9938,2,  34.9817,2,    120.5,2, 10.8520,    114.8,2,    23.95,2,    24.60,2,     0.00,2,     1.74,2,    0.819,2,    0.413,2, -999.000,9,-999.0000,9,  -999.00,9,   -999.0,9,  -999.00,9,-999.000,9,   -999.9,9,   -999.9,9,  -999.0, -999.00,-999.0000,-999.000,-999.000
    316N145_10,  I07N,   757,  2,     28,     28,2,19950728,1356, -0.5020,  57.2568, 4604,   -999,    499.3,   9.9609,  34.9702,2,  34.9589,2,     86.9,2,  9.9024,     87.4,2,    33.82,2,    29.08,2,     0.00,2,     2.07,2,    0.368,6,    0.190,6, -999.000,9,-999.0000,9,  -999.00,9,   -999.0,9,  -999.00,9,-999.000,9,   -999.9,9,   -999.9,9,  -999.0, -999.00,-999.0000,-999.000,-999.000
    316N145_10,  I07N,   757,  2,     27,     27,2,19950728,1356, -0.5020,  57.2568, 4604,   -999,    614.8,   8.9483,  35.0371,2,  35.0358,2,     57.9,2,  8.8802,     58.3,2,    52.03,2,    33.03,2,     0.00,2,     2.46,2,    0.105,2,    0.058,2, -999.000,9,-999.0000,9,  -999.00,9,   -999.0,9,  -999.00,9,-999.000,9,   -999.9,9,   -999.9,9,  -999.0, -999.00,-999.0000,-999.000,-999.000
    316N145_10,  I07N,   757,  2,     26,     26,2,19950728,1356, -0.5020,  57.2568, 4604,   -999,    700.7,   8.6929,  35.0314,2,  35.0269,2,     56.6,2,  8.6162,     57.8,2,    55.64,2,    33.55,2,     0.00,2,     2.51,2,    0.088,2,    0.052,2, -999.000,9,-999.0000,9,  -999.00,9,   -999.0,9,  -999.00,9,-999.000,9,   -999.9,9,   -999.9,9,  -999.0, -999.00,-999.0000,-999.000,-999.000
    316N145_10,  I07N,   757,  2,     25,     25,2,19950728,1356, -0.5020,  57.2568, 4604,   -999,    800.9,   8.0207,  35.0293,2,  35.0311,2,     57.4,2,  7.9365,     52.4,2,    65.36,2,    34.86,2,     0.00,2,     2.64,2,    0.042,2,    0.022,2, -999.000,9,-999.0000,9,  -999.00,9,   -999.0,9,  -999.00,9,-999.000,9,   -999.9,9,   -999.9,9,  -999.0, -999.00,-999.0000,-999.000,-999.000
    316N145_10,  I07N,   757,  2,     24,     24,2,19950728,1356, -0.5020,  57.2568, 4604,   -999,    895.1,   7.4559,  35.0056,2,  35.0057,2,     49.3,2,  7.3649,     48.6,2,    74.04,2,    35.95,2,     0.00,2,     2.72,2,    0.017,2,    0.010,2, -999.000,9,-999.0000,9,  -999.00,9,   -999.0,9,  -999.00,9,-999.000,9,   -999.9,9,   -999.9,9,  -999.0, -999.00,-999.0000,-999.000,-999.000
    316N145_10,  I07N,   757,  2,     23,     23,2,19950728,1356, -0.5020,  57.2568, 4604,   -999,   1057.2,   6.5905,  34.9517,2,  34.9552,2,     56.7,2,  6.4888,     56.0,2,    83.62,2,    36.52,2,     0.00,2,     2.76,2,    0.010,2,    0.011,2, -999.000,9,-999.0000,9,  -999.00,9,   -999.0,9,  -999.00,9,-999.000,9,   -999.9,9,   -999.9,9,  -999.0, -999.00,-999.0000,-999.000,-999.000
    316N145_10,  I07N,   757,  2,     22,     22,2,19950728,1356, -0.5020,  57.2568, 4604,   -999,   1197.5,   6.0399,  34.9443,2,  34.9452,2,     62.1,2,  5.9284,     62.1,2,    89.73,2,    36.67,2,     0.00,2,     2.78,2,    0.006,2,    0.010,2, -999.000,9,-999.0000,9,  -999.00,9,   -999.0,9,  -999.00,9,-999.000,9,   -999.9,9,   -999.9,9,  -999.0, -999.00,-999.0000,-999.000,-999.000
    316N145_10,  I07N,   757,  2,     21,     21,2,19950728,1356, -0.5020,  57.2568, 4604,   -999,   1299.0,   5.3729,  34.9022,2,  34.9000,2,     72.8,2,  5.2576,     72.4,2,    96.38,2,    36.72,2,     0.00,2,     2.77,2,    0.003,2,    0.008,2, -999.000,9,-999.0000,9,  -999.00,9,   -999.0,9,  -999.00,9,-999.000,9,   -999.9,9,   -999.9,9,  -999.0, -999.00,-999.0000,-999.000,-999.000
    316N145_10,  I07N,   757,  2,     20,     20,2,19950728,1356, -0.5020,  57.2568, 4604,   -999,   1399.4,   4.7031,  34.8628,2,  34.8645,2,     84.4,2,  4.5849,     84.9,2,   101.65,2,    36.49,2,     0.00,2,     2.74,2,    0.002,2,   -0.001,2, -999.000,9,-999.0000,9,  -999.00,9,   -999.0,9,  -999.00,9,-999.000,9,   -999.9,9,   -999.9,9,  -999.0, -999.00,-999.0000,-999.000,-999.000
    316N145_10,  I07N,   757,  2,     19,     19,2,19950728,1356, -0.5020,  57.2568, 4604,   -999,   1501.4,   4.2934,  34.8362,2,  34.8442,3,     91.9,2,  4.1702,     94.8,2,   104.44,2,    36.12,2,     0.00,2,     2.70,2, -999.000,9, -999.000,9, -999.000,9,-999.0000,9,  -999.00,9,   -999.0,9,  -999.00,9,-999.000,9,   -999.9,9,   -999.9,9,  -999.0, -999.00,-999.0000,-999.000,-999.000
    316N145_10,  I07N,   757,  2,     18,     18,2,19950728,1356, -0.5020,  57.2568, 4604,   -999,   1601.2,   3.9042,  34.8235,2,  34.8244,2,    102.7,2,  3.7763,    103.3,2,   108.49,2,    35.94,2,     0.00,2,     2.67,2, -999.000,9, -999.000,9, -999.000,9,-999.0000,9,  -999.00,9,   -999.0,9,  -999.00,9,-999.000,9,   -999.9,9,   -999.9,9,  -999.0, -999.00,-999.0000,-999.000,-999.000
    316N145_10,  I07N,   757,  2,     17,     17,2,19950728,1356, -0.5020,  57.2568, 4604,   -999,   1697.6,   3.3686,  34.8020,2,  34.8016,2,    114.6,2,  3.2387,    115.1,2,   113.63,2,    35.66,2,     0.00,2,     2.63,2, -999.000,9, -999.000,9, -999.000,9,-999.0000,9,  -999.00,9,   -999.0,9,  -999.00,9,-999.000,9,   -999.9,9,   -999.9,9,  -999.0, -999.00,-999.0000,-999.000,-999.000
    316N145_10,  I07N,   757,  2,     16,     16,2,19950728,1356, -0.5020,  57.2568, 4604,   -999,   1793.0,   3.1262,  34.7946,2,  34.7938,2,    120.6,2,  2.9911,    119.3,2,   117.00,2,    35.57,2,     0.00,2,     2.62,2, -999.000,9, -999.000,9, -999.000,9,-999.0000,9,  -999.00,9,   -999.0,9,  -999.00,9,-999.000,9,   -999.9,9,   -999.9,9,  -999.0, -999.00,-999.0000,-999.000,-999.000
    316N145_10,  I07N,   757,  2,     15,     15,2,19950728,1356, -0.5020,  57.2568, 4604,   -999,   1995.7,   2.6481,  34.7742,2,  34.7732,2,    131.1,2,  2.5019,    138.4,2,   122.19,2,    34.92,2,     0.00,2,     2.56,2, -999.000,9, -999.000,9, -999.000,9,-999.0000,9,  -999.00,9,   -999.0,9,  -999.00,9,-999.000,9,   -999.9,9,   -999.9,9,  -999.0, -999.00,-999.0000,-999.000,-999.000
    316N145_10,  I07N,   757,  2,     14,     14,2,19950728,1356, -0.5020,  57.2568, 4604,   -999,   2193.0,   2.2386,  34.7592,2,  34.7580,2,    142.1,2,  2.0814,    142.6,2,   126.86,2,    34.83,2,     0.00,2,     2.52,2,    0.000,2,    0.003,2, -999.000,9,-999.0000,9,  -999.00,9,   -999.0,9,  -999.00,9,-999.000,9,   -999.9,9,   -999.9,9,  -999.0, -999.00,-999.0000,-999.000,-999.000
    316N145_10,  I07N,   757,  2,     13,     13,2,19950728,1356, -0.5020,  57.2568, 4604,   -999,   2396.1,   2.1301,  34.7546,2,  34.7524,2,    147.9,2,  1.9565,    147.0,2,   127.18,2,    34.70,2,     0.00,2,     2.50,2,    0.002,2,    0.004,2, -999.000,9,-999.0000,9,  -999.00,9,   -999.0,9,  -999.00,9,-999.000,9,   -999.9,9,   -999.9,9,  -999.0, -999.00,-999.0000,-999.000,-999.000
    316N145_10,  I07N,   757,  2,     12,     12,2,19950728,1356, -0.5020,  57.2568, 4604,   -999,   2599.4,   1.9722,  34.7473,2,  34.7457,2,    151.5,2,  1.7830,    152.5,2,   128.96,2,    34.47,2,     0.00,2,     2.51,2, -999.000,9, -999.000,9, -999.000,9,-999.0000,9,  -999.00,9,   -999.0,9,  -999.00,9,-999.000,9,   -999.9,9,   -999.9,9,  -999.0, -999.00,-999.0000,-999.000,-999.000
    316N145_10,  I07N,   757,  2,     11,     11,2,19950728,1356, -0.5020,  57.2568, 4604,   -999,   2800.7,   1.8948,  34.7424,2,  34.7420,2,    157.8,2,  1.6883,    156.5,2,   128.92,2,    34.33,2,     0.00,2,     2.49,2, -999.000,9, -999.000,9, -999.000,9,-999.0000,9,  -999.00,9,   -999.0,9,  -999.00,9,-999.000,9,   -999.9,9,   -999.9,9,  -999.0, -999.00,-999.0000,-999.000,-999.000
    316N145_10,  I07N,   757,  2,     10,     10,2,19950728,1356, -0.5020,  57.2568, 4604,   -999,   3000.6,   1.7780,  34.7368,2,  34.7359,2,    162.0,2,  1.5548,    161.4,2,   129.42,2,    34.06,2,     0.00,2,     2.44,2, -999.000,9, -999.000,9, -999.000,9,-999.0000,9,  -999.00,9,   -999.0,9,  -999.00,9,-999.000,9,   -999.9,9,   -999.9,9,  -999.0, -999.00,-999.0000,-999.000,-999.000
    316N145_10,  I07N,   757,  2,      9,      9,2,19950728,1356, -0.5020,  57.2568, 4604,   -999,   3198.4,   1.6724,  34.7317,2,  34.7312,2,    167.1,2,  1.4323,    166.3,2,   130.11,2,    33.87,2,     0.00,2,     2.42,2, -999.000,9, -999.000,9, -999.000,9,-999.0000,9,  -999.00,9,   -999.0,9,  -999.00,9,-999.000,9,   -999.9,9,   -999.9,9,  -999.0, -999.00,-999.0000,-999.000,-999.000
    316N145_10,  I07N,   757,  2,      8,      8,2,19950728,1356, -0.5020,  57.2568, 4604,   -999,   3395.9,   1.6197,  34.7303,2,  34.7296,2,    168.6,2,  1.3610,    167.8,2,   131.16,2,    33.83,2,     0.00,2,     2.42,2, -999.000,9, -999.000,9, -999.000,9,-999.0000,9,  -999.00,9,   -999.0,9,  -999.00,9,-999.000,9,   -999.9,9,   -999.9,9,  -999.0, -999.00,-999.0000,-999.000,-999.000
    316N145_10,  I07N,   757,  2,      7,      7,2,19950728,1356, -0.5020,  57.2568, 4604,   -999,   3600.9,   1.5539,  34.7284,2,  34.7272,2,    171.2,2,  1.2758,    170.8,2,   131.85,2,    33.74,2,     0.00,2,     2.41,2, -999.000,9, -999.000,9, -999.000,9,-999.0000,9,  -999.00,9,   -999.0,9,  -999.00,9,-999.000,9,   -999.9,9,   -999.9,9,  -999.0, -999.00,-999.0000,-999.000,-999.000
    316N145_10,  I07N,   757,  2,      6,      6,2,19950728,1356, -0.5020,  57.2568, 4604,   -999,   3797.3,   1.4988,  34.7260,2,  34.7257,2,    173.3,2,  1.2016,    173.7,2,   131.98,2,    33.70,2,     0.00,2,     2.39,2, -999.000,9, -999.000,9, -999.000,9,-999.0000,9,  -999.00,9,   -999.0,9,  -999.00,9,-999.000,9,   -999.9,9,   -999.9,9,  -999.0, -999.00,-999.0000,-999.000,-999.000
    316N145_10,  I07N,   757,  2,      5,      5,2,19950728,1356, -0.5020,  57.2568, 4604,   -999,   3997.2,   1.4410,  34.7241,2,  34.7229,2,    177.2,2,  1.1240,    177.0,2,   132.30,2,    33.52,2,     0.00,2,     2.37,2, -999.000,9, -999.000,9, -999.000,9,-999.0000,9,  -999.00,9,   -999.0,9,  -999.00,9,-999.000,9,   -999.9,9,   -999.9,9,  -999.0, -999.00,-999.0000,-999.000,-999.000
    316N145_10,  I07N,   757,  2,      4,      4,2,19950728,1356, -0.5020,  57.2568, 4604,   -999,   4197.7,   1.4114,  34.7220,2,  34.7206,2,    179.2,2,  1.0732,    179.2,2,   132.08,2,    33.38,2,     0.00,2,     2.38,2, -999.000,9, -999.000,9, -999.000,9,-999.0000,9,  -999.00,9,   -999.0,9,  -999.00,9,-999.000,9,   -999.9,9,   -999.9,9,  -999.0, -999.00,-999.0000,-999.000,-999.000
    316N145_10,  I07N,   757,  2,      3,      3,2,19950728,1356, -0.5020,  57.2568, 4604,   -999,   4397.0,   1.3773,  34.7196,2,  34.7192,2,    182.3,2,  1.0177,    182.3,2,   131.30,2,    33.20,2,     0.00,2,     2.35,2, -999.000,9, -999.000,9, -999.000,9,-999.0000,9,  -999.00,9,   -999.0,9,  -999.00,9,-999.000,9,   -999.9,9,   -999.9,9,  -999.0, -999.00,-999.0000,-999.000,-999.000
    316N145_10,  I07N,   757,  2,      2,      2,2,19950728,1356, -0.5020,  57.2568, 4604,   -999,   4668.7,   1.3722,  34.7185,2,  34.7180,2,    183.8,2,  0.9815,    184.2,2,   130.70,2,    33.16,2,     0.00,2,     2.34,2, -999.000,9, -999.000,9, -999.000,9,-999.0000,9,  -999.00,9,   -999.0,9,  -999.00,9,-999.000,9,   -999.9,9,   -999.9,9,  -999.0, -999.00,-999.0000,-999.000,-999.000
    316N145_10,  I07N,   757,  2,      1,      1,2,19950728,1356, -0.5020,  57.2568, 4604,   -999,   4705.4,   1.3725,  34.7186,2,  34.7182,2,    183.8,2,  0.9775,    184.3,2,   131.02,2,    33.16,2,     0.00,2,     2.33,2, -999.000,9, -999.000,9, -999.000,9,-999.0000,9,  -999.00,9,   -999.0,9,  -999.00,9,-999.000,9,   -999.9,9,   -999.9,9,  -999.0, -999.00,-999.0000,-999.000,-999.000