BOTTLE,20080821WHPSIOSCD
EXPOCODE,SECT_ID,STNNBR,CASTNO,SAMPNO,BTLNBR,BTLNBR_FLAG_W,DATE,TIME,LATITUDE,LONGITUDE,DEPTH,CTDRAW,CTDPRS,CTDTMP,CTDSAL,CTDSAL_FLAG_W,SALNTY,SALNTY_FLAG_W,CTDOXY,CTDOXY_FLAG_W,THETA,OXYGEN,OXYGEN_FLAG_W,SILCAT,SILCAT_FLAG_W,NITRAT,NITRAT_FLAG_W,NITRIT,NITRIT_FLAG_W,PHSPHT,PHSPHT_FLAG_W,CFC-11,CFC-11_FLAG_W,CFC-12,CFC-12_FLAG_W,TRITUM,TRITUM_FLAG_W,HELIUM,HELIUM_FLAG_W,DELHE3,DELHE3_FLAG_W,DELC14,DELC14_FLAG_W,DELC13,DELC13_FLAG_W,NEON,NEON_FLAG_W,TCARBN,TCARBN_FLAG_W,ALKALI,ALKALI_FLAG_W,C14ERR,DELHER,HELIER,NEONER,TRITER
,,,,,,,,,,,,,DBAR,ITS-90,PSS-78,,PSS-78,,UMOL/KG,,DEG C,UMOL/KG,,UMOL/KG,,UMOL/KG,,UMOL/KG,,UMOL/KG,,PMOL/KG,,PMOL/KG,,TU,,NMOL/KG,,PERCNT,,/MILLE,,/MILLE,,NMOL/KG,,UMOL/KG,,UMOL/KG,,/MILLE,PERCNT,NMOL/KG,NMOL/KG,TU
    316N145_10,  I07N,   847,  1,     36,     36,2,19950820,1903, 23.6328,  59.0603, 2963,   -999,      3.9,  29.7896,  36.7441,2,  36.7355,2,    236.3,2, 29.7889,    195.7,2,     1.44,2,     0.32,2,     0.00,2,     0.36,2,    1.595,2,    0.900,2, -999.000,9,-999.0000,9,  -999.00,9,   -999.0,9,  -999.00,9,-999.000,9,   2042.0,2,   2402.6,2,  -999.0, -999.00,-999.0000,-999.000,-999.000
    316N145_10,  I07N,   847,  1,     35,     35,2,19950820,1903, 23.6328,  59.0603, 2963,   -999,     24.9,  23.5628,  36.4644,2,  36.4602,2,    109.6,2, 23.5579,    103.4,2,     6.09,2,    13.53,2,     0.52,2,     1.22,2,    1.766,2,    0.991,2, -999.000,9,-999.0000,9,  -999.00,9,   -999.0,9,  -999.00,9,-999.000,9,   -999.9,9,   -999.9,9,  -999.0, -999.00,-999.0000,-999.000,-999.000
    316N145_10,  I07N,   847,  1,     34,     34,2,19950820,1903, 23.6328,  59.0603, 2963,   -999,     60.2,  21.0173,  36.1548,2,  36.1522,2,      4.2,2, 21.0060,      3.5,2,    15.21,2,    23.82,2,     0.04,2,     2.13,2,    1.372,2,    0.770,2, -999.000,9,-999.0000,9,  -999.00,9,   -999.0,9,  -999.00,9,-999.000,9,   -999.9,9,   -999.9,9,  -999.0, -999.00,-999.0000,-999.000,-999.000
    316N145_10,  I07N,   847,  1,     33,     33,2,19950820,1903, 23.6328,  59.0603, 2963,   -999,     97.1,  19.2087,  36.0432,2,  36.0448,2,      0.9,2, 19.1914,      1.9,2,    20.89,2,    22.46,2,     0.00,2,     2.26,2,    0.999,2,    0.594,2, -999.000,9,-999.0000,9,  -999.00,9,   -999.0,9,  -999.00,9,-999.000,9,   -999.9,9,   -999.9,9,  -999.0, -999.00,-999.0000,-999.000,-999.000
    316N145_10,  I07N,   847,  1,     32,     32,2,19950820,1903, 23.6328,  59.0603, 2963,   -999,    150.5,  18.6629,  36.4991,2,  36.5389,2,     14.7,2, 18.6364,     19.7,2,    21.20,2,    20.22,2,     0.00,2,     2.06,2, -999.000,9, -999.000,9, -999.000,9,-999.0000,9,  -999.00,9,   -999.0,9,  -999.00,9,-999.000,9,   -999.9,9,   -999.9,9,  -999.0, -999.00,-999.0000,-999.000,-999.000
    316N145_10,  I07N,   847,  1,     31,     31,2,19950820,1903, 23.6328,  59.0603, 2963,   -999,    199.7,  20.1550,  37.3195,2,  37.2209,2,     54.8,2, 20.1176,     49.3,2,    17.73,2,    16.96,2,     0.01,2,     1.74,2,    1.218,2,    4.033,3, -999.000,9,-999.0000,9,  -999.00,9,   -999.0,9,  -999.00,9,-999.000,9,   -999.9,9,   -999.9,9,  -999.0, -999.00,-999.0000,-999.000,-999.000
    316N145_10,  I07N,   847,  1,     30,     30,2,19950820,1903, 23.6328,  59.0603, 2963,   -999,    249.9,  16.8488,  36.5465,2,  36.5108,2,     23.1,2, 16.8074,     14.6,2,    25.98,2,    20.87,2,     0.01,2,     2.18,2,    0.750,2,    1.364,3, -999.000,9,-999.0000,9,  -999.00,9,   -999.0,9,  -999.00,9,-999.000,9,   -999.9,9,   -999.9,9,  -999.0, -999.00,-999.0000,-999.000,-999.000
    316N145_10,  I07N,   847,  1,     29,     29,2,19950820,1903, 23.6328,  59.0603, 2963,   -999,    300.3,  15.1803,  36.1629,2,  36.1318,2,      1.6,2, 15.1340,      2.4,2,    31.31,2,    22.74,2,     0.00,2,     2.41,2, -999.000,9, -999.000,9, -999.000,9,-999.0000,9,  -999.00,9,   -999.0,9,  -999.00,9,-999.000,9,   -999.9,9,   -999.9,9,  -999.0, -999.00,-999.0000,-999.000,-999.000
    316N145_10,  I07N,   847,  1,     28,     28,2,19950820,1903, 23.6328,  59.0603, 2963,   -999,    350.4,  13.9911,  35.9513,2,  35.9468,2,      0.7,2, 13.9400,      0.8,2,    36.11,2,    23.76,2,     0.01,2,     2.52,2,    0.322,2,    0.197,2, -999.000,9,-999.0000,9,  -999.00,9,   -999.0,9,  -999.00,9,-999.000,9,   -999.9,9,   -999.9,9,  -999.0, -999.00,-999.0000,-999.000,-999.000
    316N145_10,  I07N,   847,  1,     27,     27,2,19950820,1903, 23.6328,  59.0603, 2963,   -999,    400.7,  13.3785,  35.8736,2,  35.8697,2,      0.8,2, 13.3216,      0.5,2,    39.36,2,    24.11,2,     0.03,2,     2.59,2, -999.000,9, -999.000,9, -999.000,9,-999.0000,9,  -999.00,9,   -999.0,9,  -999.00,9,-999.000,9,   -999.9,9,   -999.9,9,  -999.0, -999.00,-999.0000,-999.000,-999.000
    316N145_10,  I07N,   847,  1,     26,     26,2,19950820,1903, 23.6328,  59.0603, 2963,   -999,    453.8,  12.7787,  35.7941,2,  35.7941,2,      0.8,2, 12.7160,      0.6,2,    42.95,2,    24.57,2,     0.28,2,     2.64,2,    0.165,2,    0.099,2, -999.000,9,-999.0000,9,  -999.00,9,   -999.0,9,  -999.00,9,-999.000,9,   -999.9,9,   -999.9,9,  -999.0, -999.00,-999.0000,-999.000,-999.000
    316N145_10,  I07N,   847,  1,     25,     25,2,19950820,1903, 23.6328,  59.0603, 2963,   -999,    502.3,  12.2865,  35.7322,2,  35.7310,2,      0.9,2, 12.2188,      0.6,2,    46.37,2,    25.84,2,     0.13,2,     2.69,2,    0.120,2,    0.073,2, -999.000,9,-999.0000,9,  -999.00,9,   -999.0,9,  -999.00,9,-999.000,9,   -999.9,9,   -999.9,9,  -999.0, -999.00,-999.0000,-999.000,-999.000
    316N145_10,  I07N,   847,  1,     24,     24,2,19950820,1903, 23.6328,  59.0603, 2963,   -999,    596.5,  11.5644,  35.6525,2,  35.6510,2,      1.0,2, 11.4867,      0.7,2,    52.20,2,    28.31,2,     0.00,2,     2.75,2,    0.070,2,    0.053,2, -999.000,9,-999.0000,9,  -999.00,9,   -999.0,9,  -999.00,9,-999.000,9,   -999.9,9,   -999.9,9,  -999.0, -999.00,-999.0000,-999.000,-999.000
    316N145_10,  I07N,   847,  1,     23,     23,2,19950820,1903, 23.6328,  59.0603, 2963,   -999,    700.9,  10.7055,  35.5794,2,  35.5792,2,      1.1,2, 10.6181,      1.2,2,    59.93,2,    31.32,2,     0.00,2,     2.82,2, -999.000,9, -999.000,9, -999.000,9,-999.0000,9,  -999.00,9,   -999.0,9,  -999.00,9,-999.000,9,   -999.9,9,   -999.9,9,  -999.0, -999.00,-999.0000,-999.000,-999.000
    316N145_10,  I07N,   847,  1,     22,     22,2,19950820,1903, 23.6328,  59.0603, 2963,   -999,    801.0,   9.9615,  35.5187,2,  35.5181,2,      1.1,2,  9.8655,      1.9,2,    66.63,2,    33.54,2,     0.00,2,     2.89,2,    0.030,2,    0.023,2, -999.000,9,-999.0000,9,  -999.00,9,   -999.0,9,  -999.00,9,-999.000,9,   -999.9,9,   -999.9,9,  -999.0, -999.00,-999.0000,-999.000,-999.000
    316N145_10,  I07N,   847,  1,     21,     21,2,19950820,1903, 23.6328,  59.0603, 2963,   -999,    901.3,   9.1508,  35.4356,2,  35.4342,2,      1.2,2,  9.0475,      1.7,2,    74.22,2,    35.20,2,     0.00,2,     2.97,2,    0.019,2,    0.008,2, -999.000,9,-999.0000,9,  -999.00,9,   -999.0,9,  -999.00,9,-999.000,9,   -999.9,9,   -999.9,9,  -999.0, -999.00,-999.0000,-999.000,-999.000
    316N145_10,  I07N,   847,  1,     20,     20,2,19950820,1903, 23.6328,  59.0603, 2963,   -999,   1001.7,   8.3833,  35.3572,2,  35.3561,2,      2.7,2,  8.2736,      2.9,2,    81.31,2,    36.39,2,     0.00,2,     3.05,2, -999.000,9, -999.000,9, -999.000,9,-999.0000,9,  -999.00,9,   -999.0,9,  -999.00,9,-999.000,9,   -999.9,9,   -999.9,9,  -999.0, -999.00,-999.0000,-999.000,-999.000
    316N145_10,  I07N,   847,  1,     19,     19,2,19950820,1903, 23.6328,  59.0603, 2963,   -999,   1100.9,   7.7033,  35.2852,2,  35.2844,2,      5.4,2,  7.5875,      6.4,2,    87.55,2,    37.35,2,     0.00,2,     3.09,2,    0.008,2,    0.003,2, -999.000,9,-999.0000,9,  -999.00,9,   -999.0,9,  -999.00,9,-999.000,9,   -999.9,9,   -999.9,9,  -999.0, -999.00,-999.0000,-999.000,-999.000
    316N145_10,  I07N,   847,  1,     18,     18,2,19950820,1903, 23.6328,  59.0603, 2963,   -999,   1199.5,   7.2003,  35.2308,2,  35.2315,2,      9.8,2,  7.0779,     10.3,2,    92.23,2,    37.93,2,     0.00,2,     3.11,2,    0.004,2,    0.006,2, -999.000,9,-999.0000,9,  -999.00,9,   -999.0,9,  -999.00,9,-999.000,9,   -999.9,9,   -999.9,9,  -999.0, -999.00,-999.0000,-999.000,-999.000
    316N145_10,  I07N,   847,  1,     17,     17,2,19950820,1903, 23.6328,  59.0603, 2963,   -999,   1300.0,   6.5782,  35.1665,2,  35.1660,2,     16.7,2,  6.4507,     17.1,2,    98.18,2,    38.41,2,     0.00,2,     3.11,2, -999.000,9, -999.000,9, -999.000,9,-999.0000,9,  -999.00,9,   -999.0,9,  -999.00,9,-999.000,9,   -999.9,9,   -999.9,9,  -999.0, -999.00,-999.0000,-999.000,-999.000
    316N145_10,  I07N,   847,  1,     16,     16,2,19950820,1903, 23.6328,  59.0603, 2963,   -999,   1400.0,   5.8873,  35.0962,2,  35.0973,2,     25.8,2,  5.7563,     26.1,2,   105.40,2,    38.60,2,     0.00,2,     3.10,2,    0.000,2,    0.003,2, -999.000,9,-999.0000,9,  -999.00,9,   -999.0,9,  -999.00,9,-999.000,9,   -999.9,9,   -999.9,9,  -999.0, -999.00,-999.0000,-999.000,-999.000
    316N145_10,  I07N,   847,  1,     15,     15,2,19950820,1903, 23.6328,  59.0603, 2963,   -999,   1500.8,   5.1520,  35.0254,2,  35.0260,2,     37.5,2,  5.0188,     37.8,2,   113.23,2,    38.65,2,     0.00,2,     3.07,2, -999.000,9, -999.000,9, -999.000,9,-999.0000,9,  -999.00,9,   -999.0,9,  -999.00,9,-999.000,9,   -999.9,9,   -999.9,9,  -999.0, -999.00,-999.0000,-999.000,-999.000
    316N145_10,  I07N,   847,  1,     14,     14,2,19950820,1903, 23.6328,  59.0603, 2963,   -999,   1601.2,   4.6613,  34.9799,2,  34.9810,2,     47.2,2,  4.5240,     46.3,2,   118.61,2,    38.61,2,     0.00,2,     3.04,2,    0.001,2,    0.004,2, -999.000,9,-999.0000,9,  -999.00,9,   -999.0,9,  -999.00,9,-999.000,9,   -999.9,9,   -999.9,9,  -999.0, -999.00,-999.0000,-999.000,-999.000
    316N145_10,  I07N,   847,  1,     13,     13,2,19950820,1903, 23.6328,  59.0603, 2963,   -999,   1700.2,   4.1415,  34.9330,2,  34.9344,2,     58.2,2,  4.0012,     56.3,2,   124.22,2,    38.42,2,     0.00,2,     2.99,2, -999.000,9, -999.000,9, -999.000,9,-999.0000,9,  -999.00,9,   -999.0,9,  -999.00,9,-999.000,9,   -999.9,9,   -999.9,9,  -999.0, -999.00,-999.0000,-999.000,-999.000
    316N145_10,  I07N,   847,  1,     12,     12,2,19950820,1903, 23.6328,  59.0603, 2963,   -999,   1797.8,   3.7637,  34.9001,2,  34.9016,2,     65.6,2,  3.6192,     64.1,2,   128.59,2,    38.23,2,     0.00,2,     2.96,2, -999.000,9, -999.000,9, -999.000,9,-999.0000,9,  -999.00,9,   -999.0,9,  -999.00,9,-999.000,9,   -999.9,9,   -999.9,9,  -999.0, -999.00,-999.0000,-999.000,-999.000
    316N145_10,  I07N,   847,  1,     11,     11,2,19950820,1903, 23.6328,  59.0603, 2963,   -999,   1899.2,   3.4154,  34.8699,2,  34.8715,2,     73.7,2,  3.2664,     71.9,2,   132.63,2,    37.99,2,     0.00,2,     2.90,2, -999.000,9, -999.000,9, -999.000,9,-999.0000,9,  -999.00,9,   -999.0,9,  -999.00,9,-999.000,9,   -999.9,9,   -999.9,9,  -999.0, -999.00,-999.0000,-999.000,-999.000
    316N145_10,  I07N,   847,  1,     10,     10,2,19950820,1903, 23.6328,  59.0603, 2963,   -999,   2000.8,   3.1208,  34.8466,2,  34.8460,2,     81.2,2,  2.9668,     78.9,2,   135.95,2,    37.80,2,     0.00,2,     2.86,2, -999.000,9, -999.000,9, -999.000,9,-999.0000,9,  -999.00,9,   -999.0,9,  -999.00,9,-999.000,9,   -999.9,9,   -999.9,9,  -999.0, -999.00,-999.0000,-999.000,-999.000
    316N145_10,  I07N,   847,  1,      9,      9,2,19950820,1903, 23.6328,  59.0603, 2963,   -999,   2101.8,   2.8655,  34.8258,2,  34.8245,2,     87.2,2,  2.7062,     85.2,2,   139.10,2,    37.56,2,     0.00,2,     2.83,2, -999.000,9, -999.000,9, -999.000,9,-999.0000,9,  -999.00,9,   -999.0,9,  -999.00,9,-999.000,9,   -999.9,9,   -999.9,9,  -999.0, -999.00,-999.0000,-999.000,-999.000
    316N145_10,  I07N,   847,  1,      8,      8,2,19950820,1903, 23.6328,  59.0603, 2963,   -999,   2203.1,   2.6772,  34.8105,2,  34.8092,2,     92.3,2,  2.5117,     90.2,2,   141.52,2,    37.37,2,     0.00,2,     2.80,2, -999.000,9, -999.000,9, -999.000,9,-999.0000,9,  -999.00,9,   -999.0,9,  -999.00,9,-999.000,9,   -999.9,9,   -999.9,9,  -999.0, -999.00,-999.0000,-999.000,-999.000
    316N145_10,  I07N,   847,  1,      7,      7,2,19950820,1903, 23.6328,  59.0603, 2963,   -999,   2303.3,   2.4552,  34.7930,2,  34.7937,2,     97.7,2,  2.2843,     96.0,2,   143.57,2,    37.23,2,     0.00,2,     2.76,2, -999.000,9, -999.000,9, -999.000,9,-999.0000,9,  -999.00,9,   -999.0,9,  -999.00,9,-999.000,9,   -999.9,9,   -999.9,9,  -999.0, -999.00,-999.0000,-999.000,-999.000
    316N145_10,  I07N,   847,  1,      6,      6,2,19950820,1903, 23.6328,  59.0603, 2963,   -999,   2399.6,   2.2973,  34.7817,2,  34.7805,2,    101.7,2,  2.1204,    100.1,2,   146.20,2,    37.09,2,     0.00,2,     2.74,2, -999.000,9, -999.000,9, -999.000,9,-999.0000,9,  -999.00,9,   -999.0,9,  -999.00,9,-999.000,9,   -999.9,9,   -999.9,9,  -999.0, -999.00,-999.0000,-999.000,-999.000
    316N145_10,  I07N,   847,  1,      5,      5,2,19950820,1903, 23.6328,  59.0603, 2963,   -999,   2500.0,   2.1765,  34.7729,2,  34.7715,2,    104.6,2,  1.9925,    103.2,2,   147.69,2,    36.94,2,     0.00,2,     2.72,2,    0.002,2,    0.008,2, -999.000,9,-999.0000,9,  -999.00,9,   -999.0,9,  -999.00,9,-999.000,9,   -999.9,9,   -999.9,9,  -999.0, -999.00,-999.0000,-999.000,-999.000
    316N145_10,  I07N,   847,  1,      4,      4,2,19950820,1903, 23.6328,  59.0603, 2963,   -999,   2697.9,   1.9953,  34.7592,2,  34.7589,2,    106.8,2,  1.7965,    106.7,2,   151.34,2,    36.71,2,     0.00,2,     2.70,2,    0.012,2,    0.024,2, -999.000,9,-999.0000,9,  -999.00,9,   -999.0,9,  -999.00,9,-999.000,9,   -999.9,9,   -999.9,9,  -999.0, -999.00,-999.0000,-999.000,-999.000
    316N145_10,  I07N,   847,  1,      3,      3,2,19950820,1903, 23.6328,  59.0603, 2963,   -999,   2897.8,   1.9053,  34.7525,2,  34.7508,2,    109.3,2,  1.6892,    109.7,2,   152.45,2,    36.66,2,     0.00,2,     2.69,2,    0.008,2,    0.026,2, -999.000,9,-999.0000,9,  -999.00,9,   -999.0,9,  -999.00,9,-999.000,9,   -999.9,9,   -999.9,9,  -999.0, -999.00,-999.0000,-999.000,-999.000
    316N145_10,  I07N,   847,  1,      2,      2,2,19950820,1903, 23.6328,  59.0603, 2963,   -999,   2970.1,   1.8816,  34.7498,2,  34.7489,2,    108.9,2,  1.6591,    109.8,2,   152.98,2,    36.61,2,     0.00,2,     2.68,2, -999.000,9, -999.000,9, -999.000,9,-999.0000,9,  -999.00,9,   -999.0,9,  -999.00,9,-999.000,9,   -999.9,9,   -999.9,9,  -999.0, -999.00,-999.0000,-999.000,-999.000
    316N145_10,  I07N,   847,  1,      1,      1,2,19950820,1903, 23.6328,  59.0603, 2963,   -999,   2999.0,   1.8506,  34.7488,2,  34.7477,2,    106.1,2,  1.6260,    108.9,2,   154.10,2,    36.52,2,     0.00,2,     2.69,2,    0.016,2,    0.034,2, -999.000,9,-999.0000,9,  -999.00,9,   -999.0,9,  -999.00,9,-999.000,9,   -999.9,9,   -999.9,9,  -999.0, -999.00,-999.0000,-999.000,-999.000