BOTTLE,20080821WHPSIOSCD
EXPOCODE,SECT_ID,STNNBR,CASTNO,SAMPNO,BTLNBR,BTLNBR_FLAG_W,DATE,TIME,LATITUDE,LONGITUDE,DEPTH,CTDRAW,CTDPRS,CTDTMP,CTDSAL,CTDSAL_FLAG_W,SALNTY,SALNTY_FLAG_W,CTDOXY,CTDOXY_FLAG_W,THETA,OXYGEN,OXYGEN_FLAG_W,SILCAT,SILCAT_FLAG_W,NITRAT,NITRAT_FLAG_W,NITRIT,NITRIT_FLAG_W,PHSPHT,PHSPHT_FLAG_W,CFC-11,CFC-11_FLAG_W,CFC-12,CFC-12_FLAG_W,TRITUM,TRITUM_FLAG_W,HELIUM,HELIUM_FLAG_W,DELHE3,DELHE3_FLAG_W,DELC14,DELC14_FLAG_W,DELC13,DELC13_FLAG_W,NEON,NEON_FLAG_W,TCARBN,TCARBN_FLAG_W,ALKALI,ALKALI_FLAG_W,C14ERR,DELHER,HELIER,NEONER,TRITER
,,,,,,,,,,,,,DBAR,ITS-90,PSS-78,,PSS-78,,UMOL/KG,,DEG C,UMOL/KG,,UMOL/KG,,UMOL/KG,,UMOL/KG,,UMOL/KG,,PMOL/KG,,PMOL/KG,,TU,,NMOL/KG,,PERCNT,,/MILLE,,/MILLE,,NMOL/KG,,UMOL/KG,,UMOL/KG,,/MILLE,PERCNT,NMOL/KG,NMOL/KG,TU
    316N145_10,  I07N,   761,  1,     36,     36,2,19950729,1311,  0.4995,  57.2788, 4721,   -999,      5.8,  27.5805,  35.3338,2,  35.3353,2,    199.6,2, 27.5794,    201.0,2,     3.39,2,     0.05,2,     0.00,2,     0.19,2,    1.690,2,    0.935,2, -999.000,9,-999.0000,9,  -999.00,9,   -999.0,9,  -999.00,9,-999.000,9,   1972.0,2,   2311.0,2,  -999.0, -999.00,-999.0000,-999.000,-999.000
    316N145_10,  I07N,   761,  1,     35,     35,2,19950729,1311,  0.4995,  57.2788, 4721,   -999,     30.8,  26.9473,  35.3987,2,  35.3986,2,    198.4,2, 26.9405,    198.2,2,     3.38,2,     0.31,2,     0.05,2,     0.22,2, -999.000,9, -999.000,9, -999.000,9,-999.0000,9,  -999.00,9,   -999.0,9,  -999.00,9,-999.000,9,   -999.9,9,   -999.9,9,  -999.0, -999.00,-999.0000,-999.000,-999.000
    316N145_10,  I07N,   761,  1,     34,     34,2,19950729,1311,  0.4995,  57.2788, 4721,   -999,     59.9,  25.1153,  35.2325,2,  35.2361,2,    193.3,2, 25.1025,    193.1,2,     4.40,2,     1.81,2,     0.14,2,     0.34,2,    1.745,2,    0.971,2, -999.000,9,-999.0000,9,  -999.00,9,   -999.0,9,  -999.00,9,-999.000,9,   -999.9,9,   -999.9,9,  -999.0, -999.00,-999.0000,-999.000,-999.000
    316N145_10,  I07N,   761,  1,     33,     33,2,19950729,1311,  0.4995,  57.2788, 4721,   -999,     91.1,  24.4001,  35.2341,2,  35.2347,2,    183.5,2, 24.3809,    181.8,2,     5.25,2,     3.36,2,     0.40,2,     0.44,2,    1.729,2,    0.954,2, -999.000,9,-999.0000,9,  -999.00,9,   -999.0,9,  -999.00,9,-999.000,9,   -999.9,9,   -999.9,9,  -999.0, -999.00,-999.0000,-999.000,-999.000
    316N145_10,  I07N,   761,  1,     32,     32,2,19950729,1311,  0.4995,  57.2788, 4721,   -999,    118.4,  23.1706,  35.2446,2,  35.2428,2,    162.0,2, 23.1465,    165.7,2,     6.79,2,     6.03,2,     0.49,2,     0.59,2, -999.000,9, -999.000,9, -999.000,9,-999.0000,9,  -999.00,9,   -999.0,9,  -999.00,9,-999.000,9,   -999.9,9,   -999.9,9,  -999.0, -999.00,-999.0000,-999.000,-999.000
    316N145_10,  I07N,   761,  1,     31,     31,2,19950729,1311,  0.4995,  57.2788, 4721,   -999,    151.0,  20.7432,  35.3169,2,  35.3140,2,    125.4,2, 20.7147,    115.4,2,    10.91,2,    13.51,2,     0.04,2,     1.03,2,    1.547,2,    0.832,2, -999.000,9,-999.0000,9,  -999.00,9,   -999.0,9,  -999.00,9,-999.000,9,   -999.9,9,   -999.9,9,  -999.0, -999.00,-999.0000,-999.000,-999.000
    316N145_10,  I07N,   761,  1,     30,     30,2,19950729,1311,  0.4995,  57.2788, 4721,   -999,    170.8,  15.7911,  35.1938,2,  35.1940,2,     70.5,2, 15.7644,     69.1,2,    18.63,2,    22.54,2,     0.00,2,     1.64,2,    1.065,2,    0.559,2, -999.000,9,-999.0000,9,  -999.00,9,   -999.0,9,  -999.00,9,-999.000,9,   -999.9,9,   -999.9,9,  -999.0, -999.00,-999.0000,-999.000,-999.000
    316N145_10,  I07N,   761,  1,     29,     29,2,19950729,1311,  0.4995,  57.2788, 4721,   -999,    251.6,  12.2503,  35.0866,2,  35.0878,2,    112.9,2, 12.2171,    110.6,2,    19.82,2,    22.27,2,     0.00,2,     1.59,2,    1.057,2,    0.534,2, -999.000,9,-999.0000,9,  -999.00,9,   -999.0,9,  -999.00,9,-999.000,9,   -999.9,9,   -999.9,9,  -999.0, -999.00,-999.0000,-999.000,-999.000
    316N145_10,  I07N,   761,  1,     28,     28,3,19950729,1311,  0.4995,  57.2788, 4721,   -999,    327.4,  11.4649,  35.0356,2,  35.0374,2,    124.7,2, 11.4233,    127.9,2,    20.16,2,    21.78,2,     0.00,2,     1.57,2,    1.127,2,    0.573,2, -999.000,9,-999.0000,9,  -999.00,9,   -999.0,9,  -999.00,9,-999.000,9,   -999.9,9,   -999.9,9,  -999.0, -999.00,-999.0000,-999.000,-999.000
    316N145_10,  I07N,   761,  1,     27,     27,2,19950729,1311,  0.4995,  57.2788, 4721,   -999,    377.2,  11.1216,  35.0519,2,  35.0594,2,    105.6,2, 11.0745,    108.1,2,    24.09,2,    24.24,2,     0.00,2,     1.77,2,    0.880,2,    0.446,2, -999.000,9,-999.0000,9,  -999.00,9,   -999.0,9,  -999.00,9,-999.000,9,   -999.9,9,   -999.9,9,  -999.0, -999.00,-999.0000,-999.000,-999.000
    316N145_10,  I07N,   761,  1,     26,     26,2,19950729,1311,  0.4995,  57.2788, 4721,   -999,    487.4,   9.9162,  34.9849,2,  34.9865,2,     74.6,2,  9.8593,    108.2,3,    35.07,2,    29.73,2,     0.00,2,     2.15,2,    0.302,2,    0.159,2, -999.000,9,-999.0000,9,  -999.00,9,   -999.0,9,  -999.00,9,-999.000,9,   -999.9,9,   -999.9,9,  -999.0, -999.00,-999.0000,-999.000,-999.000
    316N145_10,  I07N,   761,  1,     25,     25,2,19950729,1311,  0.4995,  57.2788, 4721,   -999,    597.8,   9.5041,  35.0378,2,  35.0378,2,     61.7,2,  9.4355,     62.3,2,    43.30,2,    31.62,2,     0.00,2,     2.36,2, -999.000,9, -999.000,9, -999.000,9,-999.0000,9,  -999.00,9,   -999.0,9,  -999.00,9,-999.000,9,   -999.9,9,   -999.9,9,  -999.0, -999.00,-999.0000,-999.000,-999.000
    316N145_10,  I07N,   761,  1,     24,     24,2,19950729,1311,  0.4995,  57.2788, 4721,   -999,    696.7,   8.9097,  35.0448,2,  35.0480,2,     57.3,2,  8.8324,     56.5,2,    52.04,2,    33.01,2,     0.00,2,     2.48,2,    0.102,2,    0.062,2, -999.000,9,-999.0000,9,  -999.00,9,   -999.0,9,  -999.00,9,-999.000,9,   -999.9,9,   -999.9,9,  -999.0, -999.00,-999.0000,-999.000,-999.000
    316N145_10,  I07N,   761,  1,     23,     23,2,19950729,1311,  0.4995,  57.2788, 4721,   -999,    798.2,   8.2358,  35.0297,2,  35.0221,2,     52.0,2,  8.1506,     54.5,2,    61.31,2,    34.17,2,     0.00,2,     2.60,2,    0.056,2,    0.036,2, -999.000,9,-999.0000,9,  -999.00,9,   -999.0,9,  -999.00,9,-999.000,9,   -999.9,9,   -999.9,9,  -999.0, -999.00,-999.0000,-999.000,-999.000
    316N145_10,  I07N,   761,  1,     22,     22,2,19950729,1311,  0.4995,  57.2788, 4721,   -999,    897.5,   8.0167,  35.0535,2,  35.0558,2,     46.9,2,  7.9218,     45.0,2,    67.48,2,    35.19,2,     0.00,2,     2.68,2,    0.026,2,    0.015,2, -999.000,9,-999.0000,9,  -999.00,9,   -999.0,9,  -999.00,9,-999.000,9,   -999.9,9,   -999.9,9,  -999.0, -999.00,-999.0000,-999.000,-999.000
    316N145_10,  I07N,   761,  1,     21,     21,2,19950729,1311,  0.4995,  57.2788, 4721,   -999,    996.6,   7.2342,  35.0221,2,  35.0246,2,     48.2,2,  7.1339,     48.1,2,    76.43,2,    35.89,2,     0.00,2,     2.75,2,    0.022,2,    0.012,2, -999.000,9,-999.0000,9,  -999.00,9,   -999.0,9,  -999.00,9,-999.000,9,   -999.9,9,   -999.9,9,  -999.0, -999.00,-999.0000,-999.000,-999.000
    316N145_10,  I07N,   761,  1,     20,     20,2,19950729,1311,  0.4995,  57.2788, 4721,   -999,   1098.3,   6.6356,  34.9789,2,  34.9810,2,     53.3,2,  6.5292,     53.5,2,    82.80,2,    36.27,2,     0.00,2,     2.77,2, -999.000,9, -999.000,9, -999.000,9,-999.0000,9,  -999.00,9,   -999.0,9,  -999.00,9,-999.000,9,   -999.9,9,   -999.9,9,  -999.0, -999.00,-999.0000,-999.000,-999.000
    316N145_10,  I07N,   761,  1,     19,     19,3,19950729,1311,  0.4995,  57.2788, 4721,   -999,   1199.5,   5.7980,  34.9391,2,  34.9607,4,     63.5,2,  5.6884,     66.8,2,    85.21,2,    35.16,2,     0.00,2,     2.67,2, -999.000,9, -999.000,9, -999.000,9,-999.0000,9,  -999.00,9,   -999.0,9,  -999.00,9,-999.000,9,   -999.9,9,   -999.9,9,  -999.0, -999.00,-999.0000,-999.000,-999.000
    316N145_10,  I07N,   761,  1,     18,     18,2,19950729,1311,  0.4995,  57.2788, 4721,   -999,   1349.6,   4.7021,  34.8713,2,  34.8723,2,     84.1,2,  4.5886,     82.8,2,   101.03,2,    36.28,2,     0.00,2,     2.73,2,   -0.001,2,    0.005,2, -999.000,9,-999.0000,9,  -999.00,9,   -999.0,9,  -999.00,9,-999.000,9,   -999.9,9,   -999.9,9,  -999.0, -999.00,-999.0000,-999.000,-999.000
    316N145_10,  I07N,   761,  1,     17,     17,2,19950729,1311,  0.4995,  57.2788, 4721,   -999,   1394.0,   4.5652,  34.8661,2,  34.8678,2,     85.5,2,  4.4490,     85.8,2,   102.41,2,    36.19,2,     0.00,2,     2.73,2,    0.001,2,    0.008,2, -999.000,9,-999.0000,9,  -999.00,9,   -999.0,9,  -999.00,9,-999.000,9,   -999.9,9,   -999.9,9,  -999.0, -999.00,-999.0000,-999.000,-999.000
    316N145_10,  I07N,   761,  1,     16,     16,2,19950729,1311,  0.4995,  57.2788, 4721,   -999,   1495.3,   4.0457,  34.8327,2,  34.8346,2,    100.0,2,  3.9259,     98.4,2,   106.06,2,    35.87,2,     0.00,2,     2.67,2,   -0.001,2,    0.002,2, -999.000,9,-999.0000,9,  -999.00,9,   -999.0,9,  -999.00,9,-999.000,9,   -999.9,9,   -999.9,9,  -999.0, -999.00,-999.0000,-999.000,-999.000
    316N145_10,  I07N,   761,  1,     15,     15,2,19950729,1311,  0.4995,  57.2788, 4721,   -999,   1595.9,   3.8215,  34.8234,2,  34.8257,2,    103.9,2,  3.6951,    103.1,2,   108.50,2,    35.74,2,     0.00,2,     2.66,2,    0.001,2,    0.001,2, -999.000,9,-999.0000,9,  -999.00,9,   -999.0,9,  -999.00,9,-999.000,9,   -999.9,9,   -999.9,9,  -999.0, -999.00,-999.0000,-999.000,-999.000
    316N145_10,  I07N,   761,  1,     14,     14,2,19950729,1311,  0.4995,  57.2788, 4721,   -999,   1698.3,   3.3148,  34.8008,2,  34.8006,2,    113.1,2,  3.1856,    114.5,2,   113.42,2,    35.47,2,     0.00,2,     2.62,2,   -0.001,2,   -0.001,2, -999.000,9,-999.0000,9,  -999.00,9,   -999.0,9,  -999.00,9,-999.000,9,   -999.9,9,   -999.9,9,  -999.0, -999.00,-999.0000,-999.000,-999.000
    316N145_10,  I07N,   761,  1,     13,     13,2,19950729,1311,  0.4995,  57.2788, 4721,   -999,   1795.8,   3.1402,  34.7935,2,  34.7939,2,    119.6,2,  3.0046,    119.1,2,   115.51,2,    35.29,2,     0.00,2,     2.60,2,   -0.001,2,   -0.002,2, -999.000,9,-999.0000,9,  -999.00,9,   -999.0,9,  -999.00,9,-999.000,9,   -999.9,9,   -999.9,9,  -999.0, -999.00,-999.0000,-999.000,-999.000
    316N145_10,  I07N,   761,  1,     12,     12,2,19950729,1311,  0.4995,  57.2788, 4721,   -999,   1996.4,   2.6792,  34.7767,2,  34.7778,2,    129.7,2,  2.5324,    129.7,2,   120.83,2,    34.92,2,     0.00,2,     2.56,2, -999.000,9, -999.000,9, -999.000,9,-999.0000,9,  -999.00,9,   -999.0,9,  -999.00,9,-999.000,9,   -999.9,9,   -999.9,9,  -999.0, -999.00,-999.0000,-999.000,-999.000
    316N145_10,  I07N,   761,  1,     11,     11,2,19950729,1311,  0.4995,  57.2788, 4721,   -999,   2201.2,   2.3323,  34.7629,2,  34.7637,2,    139.3,2,  2.1728,    138.9,2,   124.74,2,    34.69,2,     0.00,2,     2.52,2, -999.000,9, -999.000,9, -999.000,9,-999.0000,9,  -999.00,9,   -999.0,9,  -999.00,9,-999.000,9,   -999.9,9,   -999.9,9,  -999.0, -999.00,-999.0000,-999.000,-999.000
    316N145_10,  I07N,   761,  1,     10,     10,2,19950729,1311,  0.4995,  57.2788, 4721,   -999,   2391.8,   2.0972,  34.7524,2,  34.7529,2,    147.8,2,  1.9247,    147.0,2,   126.68,2,    34.42,2,     0.00,2,     2.49,2, -999.000,9, -999.000,9, -999.000,9,-999.0000,9,  -999.00,9,   -999.0,9,  -999.00,9,-999.000,9,   -999.9,9,   -999.9,9,  -999.0, -999.00,-999.0000,-999.000,-999.000
    316N145_10,  I07N,   761,  1,      9,      9,2,19950729,1311,  0.4995,  57.2788, 4721,   -999,   2696.0,   1.9186,  34.7443,2,  34.7438,2,    153.2,2,  1.7215,    153.9,2,   128.09,2,    34.19,2,     0.00,2,     2.46,2, -999.000,9, -999.000,9, -999.000,9,-999.0000,9,  -999.00,9,   -999.0,9,  -999.00,9,-999.000,9,   -999.9,9,   -999.9,9,  -999.0, -999.00,-999.0000,-999.000,-999.000
    316N145_10,  I07N,   761,  1,      8,      8,2,19950729,1311,  0.4995,  57.2788, 4721,   -999,   2992.4,   1.7734,  34.7358,2,  34.7361,2,    160.5,2,  1.5511,    161.0,2,   128.78,2,    33.87,2,     0.00,2,     2.42,2, -999.000,9, -999.000,9, -999.000,9,-999.0000,9,  -999.00,9,   -999.0,9,  -999.00,9,-999.000,9,   -999.9,9,   -999.9,9,  -999.0, -999.00,-999.0000,-999.000,-999.000
    316N145_10,  I07N,   761,  1,      7,      7,2,19950729,1311,  0.4995,  57.2788, 4721,   -999,   3297.5,   1.7065,  34.7338,2,  34.7334,2,    164.7,2,  1.4556,    164.0,2,   129.29,2,    33.74,2,     0.00,2,     2.41,2, -999.000,9, -999.000,9, -999.000,9,-999.0000,9,  -999.00,9,   -999.0,9,  -999.00,9,-999.000,9,   -999.9,9,   -999.9,9,  -999.0, -999.00,-999.0000,-999.000,-999.000
    316N145_10,  I07N,   761,  1,      6,      6,2,19950729,1311,  0.4995,  57.2788, 4721,   -999,   3586.0,   1.6175,  34.7301,2,  34.7297,2,    168.0,2,  1.3394,    168.0,2,   130.34,2,    33.51,2,     0.00,2,     2.39,2, -999.000,9, -999.000,9, -999.000,9,-999.0000,9,  -999.00,9,   -999.0,9,  -999.00,9,-999.000,9,   -999.9,9,   -999.9,9,  -999.0, -999.00,-999.0000,-999.000,-999.000
    316N145_10,  I07N,   761,  1,      5,      5,2,19950729,1311,  0.4995,  57.2788, 4721,   -999,   3942.4,   1.4860,  34.7249,2,  34.7234,2,    174.0,2,  1.1736,    174.3,2,   130.67,2,    33.33,2,     0.00,2,     2.36,2, -999.000,9, -999.000,9, -999.000,9,-999.0000,9,  -999.00,9,   -999.0,9,  -999.00,9,-999.000,9,   -999.9,9,   -999.9,9,  -999.0, -999.00,-999.0000,-999.000,-999.000
    316N145_10,  I07N,   761,  1,      4,      4,2,19950729,1311,  0.4995,  57.2788, 4721,   -999,   4095.4,   1.4605,  34.7234,2,  34.7224,2,    176.2,2,  1.1322,    176.3,2,   130.81,2,    33.29,2,     0.00,2,     2.35,2, -999.000,9, -999.000,9, -999.000,9,-999.0000,9,  -999.00,9,   -999.0,9,  -999.00,9,-999.000,9,   -999.9,9,   -999.9,9,  -999.0, -999.00,-999.0000,-999.000,-999.000
    316N145_10,  I07N,   761,  1,      3,      3,2,19950729,1311,  0.4995,  57.2788, 4721,   -999,   4397.2,   1.3944,  34.7194,2,  34.7173,2,    180.2,2,  1.0344,    181.1,2,   130.41,2,    33.06,2,     0.00,2,     2.33,2, -999.000,9, -999.000,9, -999.000,9,-999.0000,9,  -999.00,9,   -999.0,9,  -999.00,9,-999.000,9,   -999.9,9,   -999.9,9,  -999.0, -999.00,-999.0000,-999.000,-999.000
    316N145_10,  I07N,   761,  1,      2,      2,2,19950729,1311,  0.4995,  57.2788, 4721,   -999,   4771.5,   1.3647,  34.7174,2,  34.7182,2,    184.2,2,  0.9622,    184.1,2,   130.38,2,    32.88,2,     0.00,2,     2.32,2, -999.000,9, -999.000,9, -999.000,9,-999.0000,9,  -999.00,9,   -999.0,9,  -999.00,9,-999.000,9,   -999.9,9,   -999.9,9,  -999.0, -999.00,-999.0000,-999.000,-999.000
    316N145_10,  I07N,   761,  1,      1,      1,2,19950729,1311,  0.4995,  57.2788, 4721,   -999,   4797.6,   1.3659,  34.7182,2,  34.7159,2,    184.4,2,  0.9603,    184.1,2,   130.34,2,    32.88,2,     0.00,2,     2.31,2, -999.000,9, -999.000,9, -999.000,9,-999.0000,9,  -999.00,9,   -999.0,9,  -999.00,9,-999.000,9,   -999.9,9,   -999.9,9,  -999.0, -999.00,-999.0000,-999.000,-999.000