BOTTLE,20080821WHPSIOSCD
EXPOCODE,SECT_ID,STNNBR,CASTNO,SAMPNO,BTLNBR,BTLNBR_FLAG_W,DATE,TIME,LATITUDE,LONGITUDE,DEPTH,CTDRAW,CTDPRS,CTDTMP,CTDSAL,CTDSAL_FLAG_W,SALNTY,SALNTY_FLAG_W,CTDOXY,CTDOXY_FLAG_W,THETA,OXYGEN,OXYGEN_FLAG_W,SILCAT,SILCAT_FLAG_W,NITRAT,NITRAT_FLAG_W,NITRIT,NITRIT_FLAG_W,PHSPHT,PHSPHT_FLAG_W,CFC-11,CFC-11_FLAG_W,CFC-12,CFC-12_FLAG_W,TRITUM,TRITUM_FLAG_W,HELIUM,HELIUM_FLAG_W,DELHE3,DELHE3_FLAG_W,DELC14,DELC14_FLAG_W,DELC13,DELC13_FLAG_W,NEON,NEON_FLAG_W,TCARBN,TCARBN_FLAG_W,ALKALI,ALKALI_FLAG_W,C14ERR,DELHER,HELIER,NEONER,TRITER
,,,,,,,,,,,,,DBAR,ITS-90,PSS-78,,PSS-78,,UMOL/KG,,DEG C,UMOL/KG,,UMOL/KG,,UMOL/KG,,UMOL/KG,,UMOL/KG,,PMOL/KG,,PMOL/KG,,TU,,NMOL/KG,,PERCNT,,/MILLE,,/MILLE,,NMOL/KG,,UMOL/KG,,UMOL/KG,,/MILLE,PERCNT,NMOL/KG,NMOL/KG,TU
    316N145_10,  I07N,   740,  1,     36,     36,2,19950724,0011, -7.7588,  53.4590, 4014,   -999,      9.0,  26.4173,  35.2429,2,  35.2424,2,    204.2,2, 26.4155,    201.0,2,     2.63,2,     0.47,2,     0.02,2,     0.21,2, -999.000,9, -999.000,9, -999.000,9,-999.0000,9,  -999.00,9,     82.6,2,     1.23,2,-999.000,9,   1976.5,2,   -999.9,5,     3.9, -999.00,-999.0000,-999.000,-999.000
    316N145_10,  I07N,   740,  1,     35,     35,2,19950724,0011, -7.7588,  53.4590, 4014,   -999,     31.2,  26.4257,  35.2458,2,  35.2456,2,    200.5,2, 26.4189,    199.7,2,     2.61,2,     0.51,2,     0.02,2,     0.22,2, -999.000,9, -999.000,9, -999.000,9,-999.0000,9,  -999.00,9,   -999.0,9,  -999.00,9,-999.000,9,   1977.4,2,   2304.3,2,  -999.0, -999.00,-999.0000,-999.000,-999.000
    316N145_10,  I07N,   740,  1,     34,     34,2,19950724,0011, -7.7588,  53.4590, 4014,   -999,     47.1,  24.8826,  35.1915,2,  35.1907,2,    183.1,2, 24.8726,    177.1,2,     5.01,2,     3.54,2,     0.25,2,     0.42,2,    1.655,2,    0.917,2,    0.809,2,   1.6500,2,     0.30,2,     65.2,2,     1.07,2,   6.802,2,   2008.8,2,   2290.2,3,     3.8,    0.20,  0.0080,   0.136,   0.008
    316N145_10,  I07N,   740,  1,     33,     33,2,19950724,0011, -7.7588,  53.4590, 4014,   -999,     59.6,  21.3916,  35.1992,2,  35.1952,2,    146.6,2, 21.3803,    142.2,2,     9.48,2,     9.19,2,     0.54,2,     0.78,2, -999.000,9, -999.000,9, -999.000,9,-999.0000,9,  -999.00,9,   -999.0,9,  -999.00,9,-999.000,9,   2067.2,2,   2308.4,2,  -999.0, -999.00,-999.0000,-999.000,-999.000
    316N145_10,  I07N,   740,  1,     32,     32,2,19950724,0011, -7.7588,  53.4590, 4014,   -999,     95.8,  18.4724,  35.2307,2,  35.2295,2,    110.1,2, 18.4558,    112.2,2,    13.77,2,    15.28,2,     0.05,2,     1.11,2, -999.000,9, -999.000,9, -999.000,9,-999.0000,9,  -999.00,9,     58.8,2,     0.43,2,-999.000,9,   2120.3,2,   2311.7,2,     5.0, -999.00,-999.0000,-999.000,-999.000
    316N145_10,  I07N,   740,  1,     31,     31,2,19950724,0011, -7.7588,  53.4590, 4014,   -999,    120.2,  15.8160,  35.1882,2,  35.1842,2,    111.7,2, 15.7973,    114.1,2,    16.86,2,    17.43,2,     0.00,2,     1.25,2,    1.438,2,    0.743,2,    0.797,2,   1.6590,2,     4.60,2,     50.7,2,     0.46,2,   6.913,2,   2141.9,2,   2315.8,2,     3.8,    0.20,  0.0080,   0.138,   0.008
    316N145_10,  I07N,   740,  1,     30,     30,2,19950724,0011, -7.7588,  53.4590, 4014,   -999,    149.4,  14.0088,  35.1294,2,  35.1276,2,    112.2,2, 13.9874,    113.3,2,    17.87,2,    19.63,2,     0.00,2,     1.39,2, -999.000,9, -999.000,9, -999.000,9,-999.0000,9,  -999.00,9,   -999.0,9,  -999.00,9,-999.000,9,   2158.4,2,   2313.5,2,  -999.0, -999.00,-999.0000,-999.000,-999.000
    316N145_10,  I07N,   740,  1,     29,     29,2,19950724,0011, -7.7588,  53.4590, 4014,   -999,    197.3,  13.2417,  35.0926,2,  35.0893,2,    117.6,2, 13.2143,    118.7,2,    18.54,2,    20.22,2,     0.00,2,     1.43,2,    1.243,2,    0.615,2, -999.000,9,-999.0000,9,  -999.00,9,   -999.0,9,  -999.00,9,-999.000,9,   2162.7,2,   2312.7,2,  -999.0, -999.00,-999.0000,-999.000,-999.000
    316N145_10,  I07N,   740,  1,     28,     28,2,19950724,0011, -7.7588,  53.4590, 4014,   -999,    252.0,  12.2473,  35.0449,2,  35.0452,2,    129.7,2, 12.2140,    131.5,2,    18.18,2,    20.27,2,     0.00,2,     1.44,2,    1.253,2,    0.626,2,    0.605,2,-999.0000,9,  -999.00,9,     25.2,2,     0.66,2,-999.000,9,   2163.8,2,   2311.7,2,     3.7, -999.00,-999.0000,-999.000,   0.008
    316N145_10,  I07N,   740,  1,     27,     27,2,19950724,0011, -7.7588,  53.4590, 4014,   -999,    299.8,  11.3925,  34.9669,2,  34.9657,2,    131.5,2, 11.3547,    132.6,2,    20.23,2,    21.66,2,     0.00,2,     1.51,2,    1.112,2,    0.561,2, -999.000,9,-999.0000,9,  -999.00,9,     25.2,2,     0.58,2,-999.000,9,   2170.1,2,   2312.6,2,     3.6, -999.00,-999.0000,-999.000,-999.000
    316N145_10,  I07N,   740,  1,     26,     26,2,19950724,0011, -7.7588,  53.4590, 4014,   -999,    399.9,  10.2430,  34.8867,2,  34.8867,2,    133.0,2, 10.1956,    128.9,2,    24.18,2,    24.32,2,     0.00,2,     1.69,2,    0.821,2,    0.421,2, -999.000,9,-999.0000,9,  -999.00,9,    -13.0,2,     0.64,2,-999.000,9,   2182.8,2,   2297.9,3,     4.3, -999.00,-999.0000,-999.000,-999.000
    316N145_10,  I07N,   740,  1,     25,     25,2,19950724,0011, -7.7588,  53.4590, 4014,   -999,    600.0,   8.4777,  34.8204,2,  34.8199,2,    107.2,2,  8.4136,    100.6,2,    43.66,2,    30.29,2,     0.00,2,     2.18,2,    0.256,2,    0.142,2,    0.150,2,   1.8060,2,     5.30,2,    -73.5,2,     0.44,2,   7.573,2,   2227.3,2,   2324.5,2,     3.8,    0.20,  0.0090,   0.151,   0.008
    316N145_10,  I07N,   740,  1,     24,     24,2,19950724,0011, -7.7588,  53.4590, 4014,   -999,    623.0,   8.1504,  34.8030,2,  34.8035,2,    100.3,2,  8.0852,    102.9,2,    46.58,2,    30.57,2,     0.00,2,     2.21,2,    0.249,6,    0.133,6, -999.000,9,-999.0000,9,  -999.00,9,    -82.9,2,     0.43,2,-999.000,9,   2230.3,2,   2327.8,2,     3.4, -999.00,-999.0000,-999.000,-999.000
    316N145_10,  I07N,   740,  1,     23,     23,2,19950724,0011, -7.7588,  53.4590, 4014,   -999,    688.6,   7.7970,  34.8040,2,  34.8017,2,    103.6,2,  7.7264,     97.7,2,    51.92,2,    31.67,2,     0.00,2,     2.31,2,    0.180,2,    0.097,2, -999.000,9,-999.0000,9,  -999.00,9,    -92.0,2,     0.34,2,-999.000,9,   2239.7,2,   2330.4,2,     3.4, -999.00,-999.0000,-999.000,-999.000
    316N145_10,  I07N,   740,  1,     22,     22,2,19950724,0011, -7.7588,  53.4590, 4014,   -999,    739.8,   7.3597,  34.7999,2,  34.7980,2,     92.4,2,  7.2860,     92.5,2,    58.82,2,    32.81,2,     0.00,2,     2.41,2,    0.113,2,    0.069,2, -999.000,9,   1.8420,2,     7.50,2,   -999.0,9,  -999.00,9,   7.698,2,   2251.3,2,   2339.6,2,  -999.0,    0.20,  0.0090,   0.154,-999.000
    316N145_10,  I07N,   740,  1,     21,     21,2,19950724,0011, -7.7588,  53.4590, 4014,   -999,    798.5,   6.8417,  34.7781,2,  34.7778,2,    100.0,2,  6.7650,     94.7,2,    64.52,2,    33.32,2,     0.00,2,     2.45,2,    0.094,2,    0.052,2, -999.000,9,-999.0000,9,  -999.00,9,   -111.4,2,     0.30,2,-999.000,9,   2257.7,2,   2342.0,2,     3.7, -999.00,-999.0000,-999.000,-999.000
    316N145_10,  I07N,   740,  1,     20,     20,2,19950724,0011, -7.7588,  53.4590, 4014,   -999,    870.4,   6.3937,  34.8060,2,  34.8056,2,     91.7,2,  6.3125,     89.5,2,    72.84,2,    34.28,2,     0.00,2,     2.55,2,    0.049,2,    0.029,2, -999.000,9,-999.0000,9,  -999.00,9,   -999.0,9,  -999.00,9,-999.000,9,   2271.3,2,   2352.0,2,  -999.0, -999.00,-999.0000,-999.000,-999.000
    316N145_10,  I07N,   740,  1,     19,     19,2,19950724,0011, -7.7588,  53.4590, 4014,   -999,    950.3,   6.1631,  34.8298,2,  34.8339,2,     82.9,2,  6.0755,     80.1,2,    80.14,2,    35.25,2,     0.00,2,     2.63,2,    0.026,2,    0.030,2,    0.007,2,   1.8690,2,     7.70,2,   -155.0,2,     0.08,2,   7.787,2,   2284.4,2,   2358.4,2,     3.9,    0.20,  0.0090,   0.156,   0.008
    316N145_10,  I07N,   740,  1,     18,     18,2,19950724,0011, -7.7588,  53.4590, 4014,   -999,   1049.2,   5.6263,  34.7991,2,  34.8007,2,     89.4,2,  5.5332,     90.1,2,    83.96,2,    35.12,2,     0.00,2,     2.62,2,    0.019,2,    0.008,2, -999.000,9,-999.0000,9,  -999.00,9,   -163.2,2,     0.06,2,-999.000,9,   2284.0,2,   2364.2,2,     3.9, -999.00,-999.0000,-999.000,-999.000
    316N145_10,  I07N,   740,  1,     17,     17,2,19950724,0011, -7.7588,  53.4590, 4014,   -999,   1196.6,   4.9526,  34.7862,2,  34.7880,2,     93.5,2,  4.8512,     96.5,2,    91.49,2,    35.45,2,     0.00,2,     2.64,2,    0.006,2,    0.004,2, -999.000,9,-999.0000,9,  -999.00,9,   -172.3,2,    -0.18,2,-999.000,9,   2292.0,2,   2369.4,2,     3.3, -999.00,-999.0000,-999.000,-999.000
    316N145_10,  I07N,   740,  1,     16,     16,2,19950724,0011, -7.7588,  53.4590, 4014,   -999,   1418.8,   4.1665,  34.7757,2,  34.7778,2,    107.1,2,  4.0524,    108.6,2,   100.65,2,    35.41,2,     0.00,2,     2.61,2,    0.005,2,    0.001,2,    0.000,2,   1.8870,2,    11.20,2,   -189.0,2,    -0.49,2,   7.814,2,   2297.5,2,   2380.0,2,     3.3,    0.20,  0.0090,   0.156,   0.008
    316N145_10,  I07N,   740,  1,     15,     15,2,19950724,0011, -7.7588,  53.4590, 4014,   -999,   1599.3,   3.4537,  34.7614,2,  34.7613,2,    123.7,2,  3.3316,    124.6,2,   106.49,2,    34.91,2,     0.00,2,     2.56,2, -999.000,9, -999.000,9, -999.000,9,-999.0000,9,  -999.00,9,   -176.7,2,     0.16,3,-999.000,9,   2297.4,2,   2385.4,2,     3.7, -999.00,-999.0000,-999.000,-999.000
    316N145_10,  I07N,   740,  1,     14,     14,2,19950724,0011, -7.7588,  53.4590, 4014,   -999,   1802.4,   2.9364,  34.7534,2,  34.7521,2,    135.1,2,  2.8031,    135.6,2,   112.53,2,    34.60,2,     0.00,2,     2.53,2,    0.002,2,    0.003,2,    0.000,2,   1.8820,2,    11.40,2,   -999.0,9,  -999.00,9,   7.912,2,   2298.6,2,   2393.9,2,  -999.0,    0.20,  0.0090,   0.158,   0.008
    316N145_10,  I07N,   740,  1,     13,     13,2,19950724,0011, -7.7588,  53.4590, 4014,   -999,   1998.6,   2.5626,  34.7478,2,  34.7490,2,    143.6,2,  2.4174,    144.3,2,   117.72,2,    34.37,2,     0.00,2,     2.49,2, -999.000,9, -999.000,9, -999.000,9,-999.0000,9,  -999.00,9,   -999.0,9,  -999.00,9,-999.000,9,   2301.6,2,   2456.8,3,  -999.0, -999.00,-999.0000,-999.000,-999.000
    316N145_10,  I07N,   740,  1,     12,     12,2,19950724,0011, -7.7588,  53.4590, 4014,   -999,   2195.4,   2.3230,  34.7463,2,  34.7452,2,    150.3,2,  2.1642,    149.7,2,   120.75,2,    34.19,2,     0.00,2,     2.48,2,    0.000,2,   -0.003,2,    0.000,2,   1.8730,2,    11.50,2,   -999.0,9,  -999.00,9,   8.264,2,   2301.1,2,   2386.6,3,  -999.0,    0.20,  0.0090,   0.165,   0.008
    316N145_10,  I07N,   740,  1,     11,     11,2,19950724,0011, -7.7588,  53.4590, 4014,   -999,   2400.2,   2.1735,  34.7469,2,  34.7460,2,    152.6,2,  1.9988,    152.4,2,   123.80,2,    34.20,2,     0.00,2,     2.46,2, -999.000,9, -999.000,9, -999.000,9,-999.0000,9,  -999.00,9,   -999.0,9,  -999.00,9,-999.000,9,   2303.9,2,   2403.2,2,  -999.0, -999.00,-999.0000,-999.000,-999.000
    316N145_10,  I07N,   740,  1,     10,     10,2,19950724,0011, -7.7588,  53.4590, 4014,   -999,   2599.0,   2.0426,  34.7423,2,  34.7419,2,    155.2,2,  1.8522,    155.5,2,   126.31,2,    34.11,2,     0.00,2,     2.46,2, -999.000,9, -999.000,9,    0.000,2,   1.8910,2,    13.10,2,   -999.0,9,  -999.00,9,   8.345,2,   2303.6,2,   2404.6,2,  -999.0,    0.20,  0.0090,   0.167,   0.008
    316N145_10,  I07N,   740,  1,      9,      9,2,19950724,0011, -7.7588,  53.4590, 4014,   -999,   2751.5,   1.9567,  34.7393,2,  34.7397,2,    158.1,2,  1.7536,    157.5,2,   127.54,2,    34.03,2,     0.00,2,     2.45,2, -999.000,9, -999.000,9, -999.000,9,-999.0000,9,  -999.00,9,   -999.0,9,  -999.00,9,-999.000,9,   2303.2,2,   2405.6,2,  -999.0, -999.00,-999.0000,-999.000,-999.000
    316N145_10,  I07N,   740,  1,      8,      8,2,19950724,0011, -7.7588,  53.4590, 4014,   -999,   2893.6,   1.8934,  34.7381,2,  34.7390,2,    158.8,2,  1.6780,    158.8,2,   128.60,2,    33.99,2,     0.00,2,     2.44,2, -999.000,9, -999.000,9, -999.000,9,   1.8870,2,    13.00,2,   -999.0,9,  -999.00,9,   8.349,2,   2304.9,2,   2407.5,2,  -999.0,    0.20,  0.0090,   0.167,-999.000
    316N145_10,  I07N,   740,  1,      7,      7,2,19950724,0011, -7.7588,  53.4590, 4014,   -999,   3099.7,   1.8093,  34.7369,2,  34.7366,2,    161.5,2,  1.5758,    162.0,2,   129.65,2,    33.86,2,     0.00,2,     2.43,2, -999.000,9, -999.000,9, -999.000,9,   1.9090,2,    12.80,2,   -999.0,9,  -999.00,9,   8.407,2,   2303.4,2,   2407.7,2,  -999.0,    0.20,  0.0100,   0.168,-999.000
    316N145_10,  I07N,   740,  1,      6,      6,2,19950724,0011, -7.7588,  53.4590, 4014,   -999,   3295.8,   1.7354,  34.7345,2,  34.7341,2,    164.8,2,  1.4840,    164.5,2,   130.53,2,    33.86,2,     0.00,2,     2.43,2, -999.000,9, -999.000,9, -999.000,9,   1.9040,2,    13.60,2,   -999.0,9,  -999.00,9,   8.380,2,   2303.2,2,   2410.2,2,  -999.0,    0.20,  0.0100,   0.168,-999.000
    316N145_10,  I07N,   740,  1,      5,      5,2,19950724,0011, -7.7588,  53.4590, 4014,   -999,   3495.3,   1.6658,  34.7314,2,  34.7317,2,    167.5,2,  1.3958,    168.2,2,   130.85,2,    33.68,2,     0.00,2,     2.40,2, -999.000,9, -999.000,9, -999.000,9,   1.8960,2,    11.00,2,   -999.0,9,  -999.00,9,   8.309,2,   2301.2,2,   2405.2,2,  -999.0,    0.20,  0.0090,   0.166,-999.000
    316N145_10,  I07N,   740,  1,      4,      4,2,19950724,0011, -7.7588,  53.4590, 4014,   -999,   3700.7,   1.6241,  34.7303,2,  34.7294,2,    169.9,2,  1.3338,    170.5,2,   131.36,2,    33.55,2,     0.00,2,     2.39,2, -999.000,9, -999.000,9, -999.000,9,   1.8960,2,    10.10,2,   -999.0,9,  -999.00,9,   8.403,2,   2299.1,2,   2407.2,2,  -999.0,    0.20,  0.0090,   0.168,-999.000
    316N145_10,  I07N,   740,  1,      3,      3,2,19950724,0011, -7.7588,  53.4590, 4014,   -999,   3902.7,   1.5903,  34.7273,2,  34.7270,2,    173.0,2,  1.2793,    172.1,2,   131.68,2,    33.51,2,     0.00,2,     2.38,2, -999.000,9, -999.000,9, -999.000,9,   1.8910,2,     9.80,2,   -999.0,9,  -999.00,9,   8.367,2,   2298.2,2,   2404.0,2,  -999.0,    0.20,  0.0090,   0.167,-999.000
    316N145_10,  I07N,   740,  1,      2,      2,2,19950724,0011, -7.7588,  53.4590, 4014,   -999,   4007.7,   1.5438,  34.7265,2,  34.7260,2,    174.9,2,  1.2226,    174.8,2,   132.19,2,    33.43,2,     0.00,2,     2.38,2, -999.000,9, -999.000,9, -999.000,9,-999.0000,9,  -999.00,9,   -999.0,9,  -999.00,9,-999.000,9,   2297.8,2,   2405.1,2,  -999.0, -999.00,-999.0000,-999.000,-999.000
    316N145_10,  I07N,   740,  1,      1,      1,2,19950724,0011, -7.7588,  53.4590, 4014,   -999,   4066.0,   1.5158,  34.7242,2,  34.7259,2,    176.0,2,  1.1891,    176.4,2,   132.33,2,    33.38,2,     0.00,2,     2.36,2,   -0.003,2,    0.002,2, -999.000,9,-999.0000,9,  -999.00,9,   -999.0,9,  -999.00,9,-999.000,9,   2296.8,2,   2407.3,2,  -999.0, -999.00,-999.0000,-999.000,-999.000