BOTTLE,20080821WHPSIOSCD
EXPOCODE,SECT_ID,STNNBR,CASTNO,SAMPNO,BTLNBR,BTLNBR_FLAG_W,DATE,TIME,LATITUDE,LONGITUDE,DEPTH,CTDRAW,CTDPRS,CTDTMP,CTDSAL,CTDSAL_FLAG_W,SALNTY,SALNTY_FLAG_W,CTDOXY,CTDOXY_FLAG_W,THETA,OXYGEN,OXYGEN_FLAG_W,SILCAT,SILCAT_FLAG_W,NITRAT,NITRAT_FLAG_W,NITRIT,NITRIT_FLAG_W,PHSPHT,PHSPHT_FLAG_W,CFC-11,CFC-11_FLAG_W,CFC-12,CFC-12_FLAG_W,TRITUM,TRITUM_FLAG_W,HELIUM,HELIUM_FLAG_W,DELHE3,DELHE3_FLAG_W,DELC14,DELC14_FLAG_W,DELC13,DELC13_FLAG_W,NEON,NEON_FLAG_W,TCARBN,TCARBN_FLAG_W,ALKALI,ALKALI_FLAG_W,C14ERR,DELHER,HELIER,NEONER,TRITER
,,,,,,,,,,,,,DBAR,ITS-90,PSS-78,,PSS-78,,UMOL/KG,,DEG C,UMOL/KG,,UMOL/KG,,UMOL/KG,,UMOL/KG,,UMOL/KG,,PMOL/KG,,PMOL/KG,,TU,,NMOL/KG,,PERCNT,,/MILLE,,/MILLE,,NMOL/KG,,UMOL/KG,,UMOL/KG,,/MILLE,PERCNT,NMOL/KG,NMOL/KG,TU
    316N145_10,  I07N,   812,  1,     36,     36,2,19950812,0714, 19.3333,  60.6163, 2593,   -999,      3.6,  27.0280,  36.3596,2,  36.3590,2,    204.9,2, 27.0274,    199.8,2,     2.34,2,     0.39,2,     0.10,2,     0.37,2,    1.685,2,    0.965,2, -999.000,9,-999.0000,9,  -999.00,9,   -999.0,9,  -999.00,9,-999.000,9,   2024.1,2,   2372.6,2,  -999.0, -999.00,-999.0000,-999.000,-999.000
    316N145_10,  I07N,   812,  1,     35,     35,2,19950812,0714, 19.3333,  60.6163, 2593,   -999,     40.9,  26.9399,  36.3578,2,  36.3560,2,    198.5,2, 26.9307,    195.9,2,     2.25,2,     0.49,2,     0.14,2,     0.40,2, -999.000,9, -999.000,9, -999.000,9,-999.0000,9,  -999.00,9,   -999.0,9,  -999.00,9,-999.000,9,   2027.2,2,   2373.3,2,  -999.0, -999.00,-999.0000,-999.000,-999.000
    316N145_10,  I07N,   812,  1,     34,     34,2,19950812,0714, 19.3333,  60.6163, 2593,   -999,     61.3,  26.1589,  36.2990,2,  36.2890,2,    186.4,2, 26.1454,    144.4,2,     4.10,2,     8.49,2,     0.62,2,     0.87,2,    1.731,2,    0.977,2, -999.000,9,-999.0000,9,  -999.00,9,   -999.0,9,  -999.00,9,-999.000,9,   2081.7,2,   2361.5,2,  -999.0, -999.00,-999.0000,-999.000,-999.000
    316N145_10,  I07N,   812,  1,     33,     33,2,19950812,0714, 19.3333,  60.6163, 2593,   -999,     81.3,  23.4288,  36.1147,2,  36.0870,2,     94.0,2, 23.4121,     70.6,2,     8.40,2,    18.26,2,     0.10,2,     1.45,2, -999.000,9, -999.000,9, -999.000,9,-999.0000,9,  -999.00,9,   -999.0,9,  -999.00,9,-999.000,9,   2148.8,2,   2348.2,2,  -999.0, -999.00,-999.0000,-999.000,-999.000
    316N145_10,  I07N,   812,  1,     32,     32,2,19950812,0714, 19.3333,  60.6163, 2593,   -999,    101.1,  21.7619,  35.9647,2,  35.9500,2,     47.0,2, 21.7422,     41.0,2,    11.91,2,    21.78,2,     0.03,2,     1.77,2,    1.493,2,    0.833,2, -999.000,9,-999.0000,9,  -999.00,9,   -999.0,9,  -999.00,9,-999.000,9,   2182.5,2,   2344.5,2,  -999.0, -999.00,-999.0000,-999.000,-999.000
    316N145_10,  I07N,   812,  1,     31,     31,2,19950812,0714, 19.3333,  60.6163, 2593,   -999,    126.1,  19.9412,  35.8997,2,  35.8840,2,     10.4,2, 19.9180,      8.3,2,    17.19,2,    24.32,2,     0.01,2,     2.15,2,    1.229,2,    0.697,2, -999.000,9,-999.0000,9,  -999.00,9,   -999.0,9,  -999.00,9,-999.000,9,   2224.3,2,   2340.3,2,  -999.0, -999.00,-999.0000,-999.000,-999.000
    316N145_10,  I07N,   812,  1,     30,     30,2,19950812,0714, 19.3333,  60.6163, 2593,   -999,    151.4,  18.8946,  35.8442,2,  35.8420,2,      5.5,2, 18.8677,      6.5,2,    19.63,2,    23.93,2,     0.00,2,     2.23,2, -999.000,9, -999.000,9, -999.000,9,-999.0000,9,  -999.00,9,   -999.0,9,  -999.00,9,-999.000,9,   2231.4,2,   2342.1,2,  -999.0, -999.00,-999.0000,-999.000,-999.000
    316N145_10,  I07N,   812,  1,     29,     29,2,19950812,0714, 19.3333,  60.6163, 2593,   -999,    175.6,  18.1725,  35.8901,2,  35.8890,2,      4.3,2, 18.1422,      5.2,2,    21.39,2,    23.34,2,     0.01,2,     2.24,2,    0.944,2,    0.555,2, -999.000,9,-999.0000,9,  -999.00,9,   -999.0,9,  -999.00,9,-999.000,9,   2239.3,2,   2342.9,2,  -999.0, -999.00,-999.0000,-999.000,-999.000
    316N145_10,  I07N,   812,  1,     28,     28,2,19950812,0714, 19.3333,  60.6163, 2593,   -999,    196.7,  17.3303,  35.8652,2,  35.8820,2,      1.5,2, 17.2974,      1.3,2,    24.71,2,    20.12,2,     1.38,2,     2.32,2,    0.694,2,    0.431,2, -999.000,9,-999.0000,9,  -999.00,9,   -999.0,9,  -999.00,9,-999.000,9,   2250.9,2,   2349.4,2,  -999.0, -999.00,-999.0000,-999.000,-999.000
    316N145_10,  I07N,   812,  1,     27,     27,2,19950812,0714, 19.3333,  60.6163, 2593,   -999,    226.7,  16.5596,  35.9357,2,  35.9420,2,      2.7,2, 16.5228,      3.9,2,    25.39,2,    22.46,2,     0.00,2,     2.29,2, -999.000,9, -999.000,9, -999.000,9,-999.0000,9,  -999.00,9,   -999.0,9,  -999.00,9,-999.000,9,   2253.5,2,   2346.1,2,  -999.0, -999.00,-999.0000,-999.000,-999.000
    316N145_10,  I07N,   812,  1,     26,     26,2,19950812,0714, 19.3333,  60.6163, 2593,   -999,    237.2,  16.5246,  36.0231,2,  36.0200,2,      1.6,2, 16.4861,      2.2,2,    25.88,2,    21.97,2,     0.00,2,     2.30,2,    0.637,2,    0.403,2, -999.000,9,-999.0000,9,  -999.00,9,   -999.0,9,  -999.00,9,-999.000,9,   2257.6,2,   2410.2,3,  -999.0, -999.00,-999.0000,-999.000,-999.000
    316N145_10,  I07N,   812,  1,     25,     25,2,19950812,0714, 19.3333,  60.6163, 2593,   -999,    256.8,  16.0073,  35.9671,2,  35.9660,2,      1.6,2, 15.9664,      1.3,2,    27.44,2,    20.60,2,     0.78,2,     2.35,2,    0.530,2,    0.338,2, -999.000,9,-999.0000,9,  -999.00,9,   -999.0,9,  -999.00,9,-999.000,9,   2263.7,2,   2352.8,2,  -999.0, -999.00,-999.0000,-999.000,-999.000
    316N145_10,  I07N,   812,  1,     24,     24,2,19950812,0714, 19.3333,  60.6163, 2593,   -999,    298.1,  15.1702,  35.8936,2,  35.8800,2,      1.7,2, 15.1244,      1.7,2,    29.88,2,    19.24,2,     2.58,2,     2.41,2,    0.412,6,    0.268,6, -999.000,9,-999.0000,9,  -999.00,9,   -999.0,9,  -999.00,9,-999.000,9,   2270.9,2,   2352.3,2,  -999.0, -999.00,-999.0000,-999.000,-999.000
    316N145_10,  I07N,   812,  1,     23,     23,2,19950812,0714, 19.3333,  60.6163, 2593,   -999,    348.0,  13.9015,  35.7717,2,  35.7720,2,      1.8,2, 13.8510,      0.9,2,    33.40,2,    20.22,2,     3.00,2,     2.49,2,    0.261,2,    0.176,2, -999.000,9,-999.0000,9,  -999.00,9,   -999.0,9,  -999.00,9,-999.000,9,   2276.4,2,   2347.4,2,  -999.0, -999.00,-999.0000,-999.000,-999.000
    316N145_10,  I07N,   812,  1,     22,     22,2,19950812,0714, 19.3333,  60.6163, 2593,   -999,    400.4,  13.2500,  35.7401,2,  35.7340,2,      1.9,2, 13.1935,      0.9,2,    36.23,2,    23.64,2,     1.40,2,     2.54,2,    0.199,2,    0.131,2, -999.000,9,-999.0000,9,  -999.00,9,   -999.0,9,  -999.00,9,-999.000,9,   2277.5,2,   2348.0,2,  -999.0, -999.00,-999.0000,-999.000,-999.000
    316N145_10,  I07N,   812,  1,     21,     21,2,19950812,0714, 19.3333,  60.6163, 2593,   -999,    449.9,  13.0059,  35.7640,2,  35.7620,2,      2.0,2, 12.9431,      0.9,2,    38.48,2,    25.78,2,     0.00,2,     2.56,2, -999.000,9, -999.000,9, -999.000,9,-999.0000,9,  -999.00,9,   -999.0,9,  -999.00,9,-999.000,9,   2277.6,2,   2349.2,2,  -999.0, -999.00,-999.0000,-999.000,-999.000
    316N145_10,  I07N,   812,  1,     20,     20,2,19950812,0714, 19.3333,  60.6163, 2593,   -999,    500.3,  12.5407,  35.7141,2,  35.7130,2,      2.2,2, 12.4724,      3.0,2,    41.12,2,    27.15,2,     0.01,2,     2.59,2,    0.160,2,    0.101,2, -999.000,9,-999.0000,9,  -999.00,9,   -999.0,9,  -999.00,9,-999.000,9,   2278.9,2,   2350.8,2,  -999.0, -999.00,-999.0000,-999.000,-999.000
    316N145_10,  I07N,   812,  1,     19,     19,2,19950812,0714, 19.3333,  60.6163, 2593,   -999,    598.4,  11.7751,  35.6578,2,  35.6570,2,      3.3,2, 11.6963,      4.3,2,    47.76,2,    29.20,2,     0.00,2,     2.65,2,    0.103,2,    0.062,2, -999.000,9,-999.0000,9,  -999.00,9,   -999.0,9,  -999.00,9,-999.000,9,   2294.7,3,   2350.1,2,  -999.0, -999.00,-999.0000,-999.000,-999.000
    316N145_10,  I07N,   812,  1,     18,     18,2,19950812,0714, 19.3333,  60.6163, 2593,   -999,    699.7,  11.0950,  35.6024,2,  35.6020,2,      2.3,2, 11.0059,      2.2,2,    54.60,2,    30.67,2,     0.00,2,     2.75,2,    0.051,2,    0.034,2, -999.000,9,-999.0000,9,  -999.00,9,   -999.0,9,  -999.00,9,-999.000,9,   2292.0,2,   2358.2,2,  -999.0, -999.00,-999.0000,-999.000,-999.000
    316N145_10,  I07N,   812,  1,     17,     17,2,19950812,0714, 19.3333,  60.6163, 2593,   -999,    800.6,  10.3506,  35.5538,2,  35.5530,2,      3.8,2, 10.2524,      4.3,2,    61.15,2,    33.11,2,     0.00,2,     2.79,2,    0.045,2,    0.027,2, -999.000,9,-999.0000,9,  -999.00,9,   -999.0,9,  -999.00,9,-999.000,9,   2296.3,2,   2361.7,2,  -999.0, -999.00,-999.0000,-999.000,-999.000
    316N145_10,  I07N,   812,  1,     16,     16,2,19950812,0714, 19.3333,  60.6163, 2593,   -999,    901.1,   9.6460,  35.4868,2,  35.4870,2,      3.5,2,  9.5395,      3.5,2,    67.79,2,    34.38,2,     0.00,2,     2.88,2,    0.028,2,    0.015,2, -999.000,9,-999.0000,9,  -999.00,9,   -999.0,9,  -999.00,9,-999.000,9,   2305.6,2,   2369.0,2,  -999.0, -999.00,-999.0000,-999.000,-999.000
    316N145_10,  I07N,   812,  1,     15,     15,2,19950812,0714, 19.3333,  60.6163, 2593,   -999,   1001.1,   8.8536,  35.4028,2,  35.4030,2,      4.6,2,  8.7405,      4.8,2,    74.44,2,    35.95,2,     0.00,2,     2.95,2,    0.018,2,    0.011,2, -999.000,9,-999.0000,9,  -999.00,9,   -999.0,9,  -999.00,9,-999.000,9,   2315.5,2,   2370.4,2,  -999.0, -999.00,-999.0000,-999.000,-999.000
    316N145_10,  I07N,   812,  1,     14,     14,2,19950812,0714, 19.3333,  60.6163, 2593,   -999,   1101.6,   8.0295,  35.3124,2,  35.3140,2,      8.1,2,  7.9110,      8.3,2,    81.58,2,    37.03,2,     0.00,2,     3.00,2,    0.010,2,    0.005,2, -999.000,9,-999.0000,9,  -999.00,9,   -999.0,9,  -999.00,9,-999.000,9,   2334.5,3,   2379.1,2,  -999.0, -999.00,-999.0000,-999.000,-999.000
    316N145_10,  I07N,   812,  1,     13,     13,2,19950812,0714, 19.3333,  60.6163, 2593,   -999,   1201.2,   7.4058,  35.2477,2,  35.2480,2,     12.7,2,  7.2813,     14.3,2,    87.05,2,    37.42,2,     0.00,2,     3.00,2,    0.012,2,    0.008,2, -999.000,9,-999.0000,9,  -999.00,9,   -999.0,9,  -999.00,9,-999.000,9,   2328.1,2,   2379.3,2,  -999.0, -999.00,-999.0000,-999.000,-999.000
    316N145_10,  I07N,   812,  1,     12,     12,2,19950812,0714, 19.3333,  60.6163, 2593,   -999,   1323.3,   6.6071,  35.1637,2,  35.1680,2,     22.8,2,  6.4768,     22.6,2,    94.38,2,    37.81,2,     0.00,2,     3.02,2,    0.005,2,    0.004,2, -999.000,9,-999.0000,9,  -999.00,9,   -999.0,9,  -999.00,9,-999.000,9,   2333.2,2,   2388.3,2,  -999.0, -999.00,-999.0000,-999.000,-999.000
    316N145_10,  I07N,   812,  1,     11,     11,2,19950812,0714, 19.3333,  60.6163, 2593,   -999,   1448.9,   5.8643,  35.0888,2,  35.0910,2,     32.9,2,  5.7284,     31.7,2,   101.91,2,    38.01,2,     0.00,2,     3.02,2,    0.003,2,    0.002,2, -999.000,9,-999.0000,9,  -999.00,9,   -999.0,9,  -999.00,9,-999.000,9,   2340.8,2,   2394.3,2,  -999.0, -999.00,-999.0000,-999.000,-999.000
    316N145_10,  I07N,   812,  1,     10,     10,2,19950812,0714, 19.3333,  60.6163, 2593,   -999,   1575.1,   5.0355,  35.0107,2,  35.0120,2,     46.5,2,  4.8963,     44.8,2,   111.30,2,    38.01,2,     0.00,2,     2.98,2,    0.002,2,    0.001,2, -999.000,9,-999.0000,9,  -999.00,9,   -999.0,9,  -999.00,9,-999.000,9,   2346.4,2,   2394.3,3,  -999.0, -999.00,-999.0000,-999.000,-999.000
    316N145_10,  I07N,   812,  1,      9,      9,2,19950812,0714, 19.3333,  60.6163, 2593,   -999,   1702.4,   4.3641,  34.9469,2,  34.9480,2,     59.3,2,  4.2207,     57.4,2,   118.24,2,    37.82,2,     0.00,2,     2.95,2,    0.002,2,    0.002,2, -999.000,9,-999.0000,9,  -999.00,9,   -999.0,9,  -999.00,9,-999.000,9,   2350.1,2,   2409.7,2,  -999.0, -999.00,-999.0000,-999.000,-999.000
    316N145_10,  I07N,   812,  1,      8,      8,2,19950812,0714, 19.3333,  60.6163, 2593,   -999,   1828.0,   3.8544,  34.9029,2,  34.9050,2,     67.7,2,  3.7058,     67.8,2,   123.92,2,    37.53,2,     0.00,2,     2.90,2,    0.001,2,    0.001,2, -999.000,9,-999.0000,9,  -999.00,9,   -999.0,9,  -999.00,9,-999.000,9,   2351.2,2,   2417.9,2,  -999.0, -999.00,-999.0000,-999.000,-999.000
    316N145_10,  I07N,   812,  1,      7,      7,2,19950812,0714, 19.3333,  60.6163, 2593,   -999,   1954.8,   3.4236,  34.8655,2,  34.8690,2,     78.5,2,  3.2693,     77.8,2,   128.61,2,    37.23,2,     0.00,2,     2.85,2,    0.000,2,    0.003,2, -999.000,9,-999.0000,9,  -999.00,9,   -999.0,9,  -999.00,9,-999.000,9,   2353.0,2,   2420.2,2,  -999.0, -999.00,-999.0000,-999.000,-999.000
    316N145_10,  I07N,   812,  1,      6,      6,2,19950812,0714, 19.3333,  60.6163, 2593,   -999,   2075.7,   3.0930,  34.8414,2,  34.8400,2,     86.0,2,  2.9325,     84.7,2,   132.72,2,    37.14,2,     0.00,2,     2.82,2, -999.000,9, -999.000,9, -999.000,9,-999.0000,9,  -999.00,9,   -999.0,9,  -999.00,9,-999.000,9,   2354.7,2,   2428.6,2,  -999.0, -999.00,-999.0000,-999.000,-999.000
    316N145_10,  I07N,   812,  1,      5,      5,2,19950812,0714, 19.3333,  60.6163, 2593,   -999,   2201.9,   2.7992,  34.8177,2,  34.8180,2,     91.8,2,  2.6317,     92.1,2,   136.43,2,    36.84,2,     0.00,2,     2.78,2, -999.000,9, -999.000,9, -999.000,9,-999.0000,9,  -999.00,9,   -999.0,9,  -999.00,9,-999.000,9,   2356.4,2,   2430.3,2,  -999.0, -999.00,-999.0000,-999.000,-999.000
    316N145_10,  I07N,   812,  1,      4,      4,2,19950812,0714, 19.3333,  60.6163, 2593,   -999,   2329.2,   2.5160,  34.7967,2,  34.7970,2,     98.7,2,  2.3416,     98.6,2,   139.86,2,    36.65,2,     0.00,2,     2.75,2, -999.000,9, -999.000,9, -999.000,9,-999.0000,9,  -999.00,9,   -999.0,9,  -999.00,9,-999.000,9,   -999.9,5,   2438.8,2,  -999.0, -999.00,-999.0000,-999.000,-999.000
    316N145_10,  I07N,   812,  1,      3,      3,2,19950812,0714, 19.3333,  60.6163, 2593,   -999,   2446.7,   2.3427,  34.7832,2,  34.7840,2,    103.4,2,  2.1606,    103.4,2,   142.11,2,    36.45,2,     0.00,2,     2.72,2, -999.000,9, -999.000,9, -999.000,9,-999.0000,9,  -999.00,9,   -999.0,9,  -999.00,9,-999.000,9,   -999.9,5,   2440.4,2,  -999.0, -999.00,-999.0000,-999.000,-999.000
    316N145_10,  I07N,   812,  1,      2,      2,2,19950812,0714, 19.3333,  60.6163, 2593,   -999,   2603.4,   2.1634,  34.7708,2,  34.7710,2,    107.4,2,  1.9700,    107.8,2,   144.65,2,    36.36,2,     0.00,2,     2.70,2, -999.000,9, -999.000,9, -999.000,9,-999.0000,9,  -999.00,9,   -999.0,9,  -999.00,9,-999.000,9,   -999.9,5,   2447.2,2,  -999.0, -999.00,-999.0000,-999.000,-999.000
    316N145_10,  I07N,   812,  1,      1,      1,2,19950812,0714, 19.3333,  60.6163, 2593,   -999,   2643.7,   2.0779,  34.7646,2,  34.7660,2,    107.8,2,  1.8825,   -999.0,5,   145.92,2,    36.06,2,     0.00,2,     2.68,2, -999.000,9, -999.000,9, -999.000,9,-999.0000,9,  -999.00,9,   -999.0,9,  -999.00,9,-999.000,9,   2361.6,2,   2447.9,2,  -999.0, -999.00,-999.0000,-999.000,-999.000