BOTTLE,20080821WHPSIOSCD
EXPOCODE,SECT_ID,STNNBR,CASTNO,SAMPNO,BTLNBR,BTLNBR_FLAG_W,DATE,TIME,LATITUDE,LONGITUDE,DEPTH,CTDRAW,CTDPRS,CTDTMP,CTDSAL,CTDSAL_FLAG_W,SALNTY,SALNTY_FLAG_W,CTDOXY,CTDOXY_FLAG_W,THETA,OXYGEN,OXYGEN_FLAG_W,SILCAT,SILCAT_FLAG_W,NITRAT,NITRAT_FLAG_W,NITRIT,NITRIT_FLAG_W,PHSPHT,PHSPHT_FLAG_W,CFC-11,CFC-11_FLAG_W,CFC-12,CFC-12_FLAG_W,TRITUM,TRITUM_FLAG_W,HELIUM,HELIUM_FLAG_W,DELHE3,DELHE3_FLAG_W,DELC14,DELC14_FLAG_W,DELC13,DELC13_FLAG_W,NEON,NEON_FLAG_W,TCARBN,TCARBN_FLAG_W,ALKALI,ALKALI_FLAG_W,C14ERR,DELHER,HELIER,NEONER,TRITER
,,,,,,,,,,,,,DBAR,ITS-90,PSS-78,,PSS-78,,UMOL/KG,,DEG C,UMOL/KG,,UMOL/KG,,UMOL/KG,,UMOL/KG,,UMOL/KG,,PMOL/KG,,PMOL/KG,,TU,,NMOL/KG,,PERCNT,,/MILLE,,/MILLE,,NMOL/KG,,UMOL/KG,,UMOL/KG,,/MILLE,PERCNT,NMOL/KG,NMOL/KG,TU
    316N145_10,  I07N,   825,  1,     36,     36,2,19950815,1841, 22.3497,  62.1665, 2948,   -999,      8.3,  25.9651,  36.6369,2,  36.6375,2,    195.5,2, 25.9635,    192.0,2,     1.97,2,     3.62,2,     0.16,2,     0.57,2, -999.000,9, -999.000,9, -999.000,9,-999.0000,9,  -999.00,9,   -999.0,9,  -999.00,9,-999.000,9,   2073.2,2,   -999.9,5,  -999.0, -999.00,-999.0000,-999.000,-999.000
    316N145_10,  I07N,   825,  1,     35,     35,2,19950815,1841, 22.3497,  62.1665, 2948,   -999,     25.1,  24.9056,  36.5769,2,  36.5564,2,    191.3,2, 24.9003,    141.5,2,     3.67,2,     8.57,2,     0.45,2,     0.92,2, -999.000,9, -999.000,9, -999.000,9,-999.0000,9,  -999.00,9,   -999.0,9,  -999.00,9,-999.000,9,   -999.9,9,   -999.9,9,  -999.0, -999.00,-999.0000,-999.000,-999.000
    316N145_10,  I07N,   825,  1,     34,     34,2,19950815,1841, 22.3497,  62.1665, 2948,   -999,     49.6,  22.5524,  36.4242,2,  36.4264,2,     69.1,2, 22.5426,     59.1,2,     9.31,2,    18.48,2,     0.08,2,     1.61,2, -999.000,9, -999.000,9, -999.000,9,-999.0000,9,  -999.00,9,   -999.0,9,  -999.00,9,-999.000,9,   -999.9,9,   -999.9,9,  -999.0, -999.00,-999.0000,-999.000,-999.000
    316N145_10,  I07N,   825,  1,     33,     33,2,19950815,1841, 22.3497,  62.1665, 2948,   -999,     76.2,  21.1318,  36.2106,2,  36.2143,2,     14.6,2, 21.1173,      9.4,2,    14.44,2,    23.02,2,     0.04,2,     2.06,2,    1.216,3,    1.017,2, -999.000,9,-999.0000,9,  -999.00,9,   -999.0,9,  -999.00,9,-999.000,9,   -999.9,9,   -999.9,9,  -999.0, -999.00,-999.0000,-999.000,-999.000
    316N145_10,  I07N,   825,  1,     32,     32,2,19950815,1841, 22.3497,  62.1665, 2948,   -999,    101.2,  20.4997,  36.2975,2,  36.2513,2,     10.0,2, 20.4808,      9.7,2,    16.99,2,    22.15,2,     0.02,2,     2.11,2,    1.371,2,    0.785,2, -999.000,9,-999.0000,9,  -999.00,9,   -999.0,9,  -999.00,9,-999.000,9,   -999.9,9,   -999.9,9,  -999.0, -999.00,-999.0000,-999.000,-999.000
    316N145_10,  I07N,   825,  1,     31,     31,2,19950815,1841, 22.3497,  62.1665, 2948,   -999,    130.6,  19.4855,  36.3969,2,  36.4118,2,     15.8,2, 19.4618,     16.0,2,    18.86,2,    20.79,2,     0.02,2,     2.06,2, -999.000,9, -999.000,9, -999.000,9,-999.0000,9,  -999.00,9,   -999.0,9,  -999.00,9,-999.000,9,   -999.9,9,   -999.9,9,  -999.0, -999.00,-999.0000,-999.000,-999.000
    316N145_10,  I07N,   825,  1,     30,     30,2,19950815,1841, 22.3497,  62.1665, 2948,   -999,    186.6,  18.4541,  36.5890,2,  36.6494,2,     19.7,2, 18.4213,     20.0,2,    21.07,2,    19.85,2,     0.01,2,     2.04,2,    0.947,2,    0.694,2, -999.000,9,-999.0000,9,  -999.00,9,   -999.0,9,  -999.00,9,-999.000,9,   -999.9,9,   -999.9,9,  -999.0, -999.00,-999.0000,-999.000,-999.000
    316N145_10,  I07N,   825,  1,     29,     29,2,19950815,1841, 22.3497,  62.1665, 2948,   -999,    252.0,  16.2434,  36.2332,2,  36.2023,2,      1.8,2, 16.2028,      5.0,2,    26.54,2,    22.44,2,     0.01,2,     2.26,2, -999.000,9, -999.000,9, -999.000,9,-999.0000,9,  -999.00,9,   -999.0,9,  -999.00,9,-999.000,9,   -999.9,9,   -999.9,9,  -999.0, -999.00,-999.0000,-999.000,-999.000
    316N145_10,  I07N,   825,  1,     28,     28,2,19950815,1841, 22.3497,  62.1665, 2948,   -999,    302.7,  14.9395,  36.0315,2,  36.0189,2,      1.1,2, 14.8935,      1.4,2,    30.46,2,    23.72,2,     0.00,2,     2.38,2, -999.000,9, -999.000,9, -999.000,9,-999.0000,9,  -999.00,9,   -999.0,9,  -999.00,9,-999.000,9,   -999.9,9,   -999.9,9,  -999.0, -999.00,-999.0000,-999.000,-999.000
    316N145_10,  I07N,   825,  1,     27,     27,2,19950815,1841, 22.3497,  62.1665, 2948,   -999,    402.2,  13.5097,  35.8535,2,  35.8484,2,      1.2,2, 13.4522,      1.4,2,    36.44,2,    25.41,2,     0.00,2,     2.49,2, -999.000,9, -999.000,9, -999.000,9,-999.0000,9,  -999.00,9,   -999.0,9,  -999.00,9,-999.000,9,   -999.9,9,   -999.9,9,  -999.0, -999.00,-999.0000,-999.000,-999.000
    316N145_10,  I07N,   825,  1,     26,     26,2,19950815,1841, 22.3497,  62.1665, 2948,   -999,    453.6,  12.9042,  35.7754,2,  35.7766,2,      1.3,2, 12.8412,      1.9,2,    39.34,2,    26.49,2,     0.00,2,     2.53,2,    0.205,2,    0.120,2, -999.000,9,-999.0000,9,  -999.00,9,   -999.0,9,  -999.00,9,-999.000,9,   -999.9,9,   -999.9,9,  -999.0, -999.00,-999.0000,-999.000,-999.000
    316N145_10,  I07N,   825,  1,     25,     25,2,19950815,1841, 22.3497,  62.1665, 2948,   -999,    501.9,  12.6523,  35.7676,2,  35.7679,2,      1.3,2, 12.5833,      1.0,2,    42.41,2,    25.93,2,     0.00,2,     2.59,2, -999.000,9, -999.000,9, -999.000,9,-999.0000,9,  -999.00,9,   -999.0,9,  -999.00,9,-999.000,9,   -999.9,9,   -999.9,9,  -999.0, -999.00,-999.0000,-999.000,-999.000
    316N145_10,  I07N,   825,  1,     24,     24,2,19950815,1841, 22.3497,  62.1665, 2948,   -999,    603.2,  11.8674,  35.6816,2,  35.6814,2,      1.3,2, 11.7875,      1.1,2,    48.56,2,    27.91,2,     0.00,2,     2.68,2, -999.000,9, -999.000,9, -999.000,9,-999.0000,9,  -999.00,9,   -999.0,9,  -999.00,9,-999.000,9,   -999.9,9,   -999.9,9,  -999.0, -999.00,-999.0000,-999.000,-999.000
    316N145_10,  I07N,   825,  1,     23,     23,2,19950815,1841, 22.3497,  62.1665, 2948,   -999,    669.1,  11.4686,  35.6450,2,  35.6437,2,      1.4,2, 11.3817,      1.3,2,    51.80,2,    29.23,2,     0.00,2,     2.71,2,    0.077,2,    0.047,2, -999.000,9,-999.0000,9,  -999.00,9,   -999.0,9,  -999.00,9,-999.000,9,   -999.9,9,   -999.9,9,  -999.0, -999.00,-999.0000,-999.000,-999.000
    316N145_10,  I07N,   825,  1,     22,     22,2,19950815,1841, 22.3497,  62.1665, 2948,   -999,    802.2,  10.5701,  35.5703,2,  35.5703,2,      1.5,2, 10.4704,      1.5,2,    60.19,2,    31.88,2,     0.00,2,     2.79,2, -999.000,9, -999.000,9, -999.000,9,-999.0000,9,  -999.00,9,   -999.0,9,  -999.00,9,-999.000,9,   -999.9,9,   -999.9,9,  -999.0, -999.00,-999.0000,-999.000,-999.000
    316N145_10,  I07N,   825,  1,     21,     21,2,19950815,1841, 22.3497,  62.1665, 2948,   -999,    899.7,   9.7043,  35.4956,2,  35.4954,2,      1.5,2,  9.5975,      2.2,2,    68.26,2,    34.21,2,     0.00,2,     2.87,2, -999.000,9, -999.000,9, -999.000,9,-999.0000,9,  -999.00,9,   -999.0,9,  -999.00,9,-999.000,9,   -999.9,9,   -999.9,9,  -999.0, -999.00,-999.0000,-999.000,-999.000
    316N145_10,  I07N,   825,  1,     20,     20,2,19950815,1841, 22.3497,  62.1665, 2948,   -999,    999.4,   8.9264,  35.4154,2,  35.4159,2,      2.3,2,  8.8129,      2.7,2,    75.14,2,    35.79,2,     0.00,2,     2.94,2, -999.000,9, -999.000,9, -999.000,9,-999.0000,9,  -999.00,9,   -999.0,9,  -999.00,9,-999.000,9,   -999.9,9,   -999.9,9,  -999.0, -999.00,-999.0000,-999.000,-999.000
    316N145_10,  I07N,   825,  1,     19,     19,2,19950815,1841, 22.3497,  62.1665, 2948,   -999,   1100.2,   8.0482,  35.3217,2,  35.3243,2,      4.5,2,  7.9297,      5.1,2,    83.09,2,    37.23,2,     0.00,2,     3.01,2, -999.000,9, -999.000,9, -999.000,9,-999.0000,9,  -999.00,9,   -999.0,9,  -999.00,9,-999.000,9,   -999.9,9,   -999.9,9,  -999.0, -999.00,-999.0000,-999.000,-999.000
    316N145_10,  I07N,   825,  1,     18,     18,2,19950815,1841, 22.3497,  62.1665, 2948,   -999,   1201.6,   7.5419,  35.2669,2,  35.2669,2,      8.0,2,  7.4162,      8.0,2,    87.94,2,    37.81,2,     0.00,2,     3.05,2, -999.000,9, -999.000,9, -999.000,9,-999.0000,9,  -999.00,9,   -999.0,9,  -999.00,9,-999.000,9,   -999.9,9,   -999.9,9,  -999.0, -999.00,-999.0000,-999.000,-999.000
    316N145_10,  I07N,   825,  1,     17,     17,2,19950815,1841, 22.3497,  62.1665, 2948,   -999,   1301.8,   6.7524,  35.1845,2,  35.1831,2,     15.8,2,  6.6230,     15.6,2,    95.26,2,    38.34,2,     0.00,2,     3.07,2, -999.000,9, -999.000,9, -999.000,9,-999.0000,9,  -999.00,9,   -999.0,9,  -999.00,9,-999.000,9,   -999.9,9,   -999.9,9,  -999.0, -999.00,-999.0000,-999.000,-999.000
    316N145_10,  I07N,   825,  1,     16,     16,2,19950815,1841, 22.3497,  62.1665, 2948,   -999,   1398.7,   6.0286,  35.1096,2,  35.1090,2,     27.0,2,  5.8962,     25.8,2,   102.29,2,    38.58,2,     0.00,2,     3.06,2, -999.000,9, -999.000,9, -999.000,9,-999.0000,9,  -999.00,9,   -999.0,9,  -999.00,9,-999.000,9,   -999.9,9,   -999.9,9,  -999.0, -999.00,-999.0000,-999.000,-999.000
    316N145_10,  I07N,   825,  1,     15,     15,2,19950815,1841, 22.3497,  62.1665, 2948,   -999,   1499.7,   5.3635,  35.0442,2,  35.0439,2,     36.1,2,  5.2280,     35.1,2,   109.37,2,    38.72,2,     0.00,2,     3.04,2, -999.000,9, -999.000,9, -999.000,9,-999.0000,9,  -999.00,9,   -999.0,9,  -999.00,9,-999.000,9,   -999.9,9,   -999.9,9,  -999.0, -999.00,-999.0000,-999.000,-999.000
    316N145_10,  I07N,   825,  1,     14,     14,2,19950815,1841, 22.3497,  62.1665, 2948,   -999,   1600.0,   4.8253,  34.9937,2,  34.9934,2,     46.4,2,  4.6861,     44.9,2,   115.09,2,    38.63,2,     0.00,2,     3.01,2, -999.000,9, -999.000,9, -999.000,9,-999.0000,9,  -999.00,9,   -999.0,9,  -999.00,9,-999.000,9,   -999.9,9,   -999.9,9,  -999.0, -999.00,-999.0000,-999.000,-999.000
    316N145_10,  I07N,   825,  1,     13,     13,2,19950815,1841, 22.3497,  62.1665, 2948,   -999,   1700.2,   4.1952,  34.9360,2,  34.9380,2,     57.1,2,  4.0542,     56.7,2,   121.77,2,    38.48,2,     0.00,2,     2.96,2, -999.000,9, -999.000,9, -999.000,9,-999.0000,9,  -999.00,9,   -999.0,9,  -999.00,9,-999.000,9,   -999.9,9,   -999.9,9,  -999.0, -999.00,-999.0000,-999.000,-999.000
    316N145_10,  I07N,   825,  1,     12,     12,2,19950815,1841, 22.3497,  62.1665, 2948,   -999,   1800.2,   3.6321,  34.8870,2,  34.8872,2,     68.8,2,  3.4892,     69.5,2,   127.99,2,    38.19,2,     0.00,2,     2.90,2, -999.000,9, -999.000,9, -999.000,9,-999.0000,9,  -999.00,9,   -999.0,9,  -999.00,9,-999.000,9,   -999.9,9,   -999.9,9,  -999.0, -999.00,-999.0000,-999.000,-999.000
    316N145_10,  I07N,   825,  1,     11,     11,2,19950815,1841, 22.3497,  62.1665, 2948,   -999,   1896.7,   3.3881,  34.8668,2,  34.8669,2,     75.3,2,  3.2397,     75.2,2,   130.56,2,    37.95,2,     0.00,2,     2.87,2, -999.000,9, -999.000,9, -999.000,9,-999.0000,9,  -999.00,9,   -999.0,9,  -999.00,9,-999.000,9,   -999.9,9,   -999.9,9,  -999.0, -999.00,-999.0000,-999.000,-999.000
    316N145_10,  I07N,   825,  1,     10,     10,2,19950815,1841, 22.3497,  62.1665, 2948,   -999,   1999.8,   3.1058,  34.8436,2,  34.8438,2,     82.8,2,  2.9521,     82.3,2,   133.70,2,    37.80,2,     0.00,2,     2.85,2,   -0.002,2,    0.002,2, -999.000,9,-999.0000,9,  -999.00,9,   -999.0,9,  -999.00,9,-999.000,9,   -999.9,9,   -999.9,9,  -999.0, -999.00,-999.0000,-999.000,-999.000
    316N145_10,  I07N,   825,  1,      9,      9,2,19950815,1841, 22.3497,  62.1665, 2948,   -999,   2101.3,   2.8212,  34.8207,2,  34.8204,2,     90.9,2,  2.6626,     89.7,2,   137.25,2,    37.56,2,     0.00,2,     2.79,2, -999.000,9, -999.000,9, -999.000,9,-999.0000,9,  -999.00,9,   -999.0,9,  -999.00,9,-999.000,9,   -999.9,9,   -999.9,9,  -999.0, -999.00,-999.0000,-999.000,-999.000
    316N145_10,  I07N,   825,  1,      8,      8,2,19950815,1841, 22.3497,  62.1665, 2948,   -999,   2199.9,   2.6356,  34.8060,2,  34.8055,2,     94.1,2,  2.4711,     95.0,2,   138.92,2,    37.37,2,     0.00,2,     2.76,2, -999.000,9, -999.000,9, -999.000,9,-999.0000,9,  -999.00,9,   -999.0,9,  -999.00,9,-999.000,9,   -999.9,9,   -999.9,9,  -999.0, -999.00,-999.0000,-999.000,-999.000
    316N145_10,  I07N,   825,  1,      7,      7,4,19950815,1841, 22.3497,  62.1665, 2948,   -999,   2305.5,   2.5074,  34.7955,2,  34.9787,4,     99.5,2,  2.3354,     52.6,4,   117.25,2,    38.23,4,     0.00,4,     2.94,4, -999.000,9, -999.000,9, -999.000,9,-999.0000,9,  -999.00,9,   -999.0,9,  -999.00,9,-999.000,9,   -999.9,9,   -999.9,9,  -999.0, -999.00,-999.0000,-999.000,-999.000
    316N145_10,  I07N,   825,  1,      6,      6,2,19950815,1841, 22.3497,  62.1665, 2948,   -999,   2401.0,   2.3164,  34.7818,2,  34.7808,2,    103.5,2,  2.1390,    104.4,2,   142.68,2,    37.07,2,     0.00,2,     2.71,2, -999.000,9, -999.000,9, -999.000,9,-999.0000,9,  -999.00,9,   -999.0,9,  -999.00,9,-999.000,9,   -999.9,9,   -999.9,9,  -999.0, -999.00,-999.0000,-999.000,-999.000
    316N145_10,  I07N,   825,  1,      5,      5,2,19950815,1841, 22.3497,  62.1665, 2948,   -999,   2598.3,   2.0592,  34.7631,2,  34.7623,2,    110.0,2,  1.8684,    110.8,2,   146.70,2,    36.79,2,     0.00,2,     2.67,2,   -0.001,2,    0.001,2, -999.000,9,-999.0000,9,  -999.00,9,   -999.0,9,  -999.00,9,-999.000,9,   -999.9,9,   -999.9,9,  -999.0, -999.00,-999.0000,-999.000,-999.000
    316N145_10,  I07N,   825,  1,      4,      4,2,19950815,1841, 22.3497,  62.1665, 2948,   -999,   2799.9,   1.8443,  34.7485,2,  34.7480,2,    116.2,2,  1.6389,    116.9,2,   149.39,2,    36.59,2,     0.00,2,     2.65,2, -999.000,9, -999.000,9, -999.000,9,-999.0000,9,  -999.00,9,   -999.0,9,  -999.00,9,-999.000,9,   -999.9,9,   -999.9,9,  -999.0, -999.00,-999.0000,-999.000,-999.000
    316N145_10,  I07N,   825,  1,      3,      3,2,19950815,1841, 22.3497,  62.1665, 2948,   -999,   2898.1,   1.7855,  34.7450,2,  34.7431,2,    118.7,2,  1.5720,    118.1,2,   150.53,2,    36.54,2,     0.00,2,     2.63,2,    0.004,2,    0.013,2, -999.000,9,-999.0000,9,  -999.00,9,   -999.0,9,  -999.00,9,-999.000,9,   -999.9,9,   -999.9,9,  -999.0, -999.00,-999.0000,-999.000,-999.000
    316N145_10,  I07N,   825,  1,      2,      2,2,19950815,1841, 22.3497,  62.1665, 2948,   -999,   2960.2,   1.7671,  34.7431,2,  34.7429,2,    119.4,2,  1.5480,    118.5,2,   151.09,2,    36.54,2,     0.00,2,     2.63,2, -999.000,9, -999.000,9, -999.000,9,-999.0000,9,  -999.00,9,   -999.0,9,  -999.00,9,-999.000,9,   -999.9,9,   -999.9,9,  -999.0, -999.00,-999.0000,-999.000,-999.000
    316N145_10,  I07N,   825,  1,      1,      1,2,19950815,1841, 22.3497,  62.1665, 2948,   -999,   2982.9,   1.7701,  34.7431,2,  34.7429,2,    118.0,2,  1.5488,    118.3,2,   150.67,2,    36.54,2,     0.00,2,     2.63,2,    0.002,2,    0.017,2, -999.000,9,-999.0000,9,  -999.00,9,   -999.0,9,  -999.00,9,-999.000,9,   -999.9,9,   -999.9,9,  -999.0, -999.00,-999.0000,-999.000,-999.000