BOTTLE,20080821WHPSIOSCD
EXPOCODE,SECT_ID,STNNBR,CASTNO,SAMPNO,BTLNBR,BTLNBR_FLAG_W,DATE,TIME,LATITUDE,LONGITUDE,DEPTH,CTDRAW,CTDPRS,CTDTMP,CTDSAL,CTDSAL_FLAG_W,SALNTY,SALNTY_FLAG_W,CTDOXY,CTDOXY_FLAG_W,THETA,OXYGEN,OXYGEN_FLAG_W,SILCAT,SILCAT_FLAG_W,NITRAT,NITRAT_FLAG_W,NITRIT,NITRIT_FLAG_W,PHSPHT,PHSPHT_FLAG_W,CFC-11,CFC-11_FLAG_W,CFC-12,CFC-12_FLAG_W,TRITUM,TRITUM_FLAG_W,HELIUM,HELIUM_FLAG_W,DELHE3,DELHE3_FLAG_W,DELC14,DELC14_FLAG_W,DELC13,DELC13_FLAG_W,NEON,NEON_FLAG_W,TCARBN,TCARBN_FLAG_W,ALKALI,ALKALI_FLAG_W,C14ERR,DELHER,HELIER,NEONER,TRITER
,,,,,,,,,,,,,DBAR,ITS-90,PSS-78,,PSS-78,,UMOL/KG,,DEG C,UMOL/KG,,UMOL/KG,,UMOL/KG,,UMOL/KG,,UMOL/KG,,PMOL/KG,,PMOL/KG,,TU,,NMOL/KG,,PERCNT,,/MILLE,,/MILLE,,NMOL/KG,,UMOL/KG,,UMOL/KG,,/MILLE,PERCNT,NMOL/KG,NMOL/KG,TU
    316N145_10,  I07N,   750,  1,     36,     36,2,19950726,2006, -3.2358,  55.9963, 3857,   -999,      8.1,  26.5455,  35.2299,2,  35.2286,2,    205.4,2, 26.5439,    204.7,2,     3.91,2,     0.29,2,     0.00,2,     0.21,2,    1.724,2,    0.960,2,    0.789,2,   1.6860,2,    -0.40,2,   -999.0,9,  -999.00,9,   6.824,2,   1974.9,2,   2307.1,2,  -999.0,    0.20,  0.0080,   0.136,   0.008
    316N145_10,  I07N,   750,  1,     35,     35,2,19950726,2006, -3.2358,  55.9963, 3857,   -999,     29.6,  26.3946,  35.2275,2,  35.2276,2,    204.1,2, 26.3881,    205.0,2,     3.89,2,     0.29,2,     0.00,2,     0.21,2, -999.000,9, -999.000,9, -999.000,9,-999.0000,9,  -999.00,9,   -999.0,9,  -999.00,9,-999.000,9,   -999.9,5,   2316.1,2,  -999.0, -999.00,-999.0000,-999.000,-999.000
    316N145_10,  I07N,   750,  1,     34,     34,2,19950726,2006, -3.2358,  55.9963, 3857,   -999,     59.5,  26.0830,  35.2130,2,  35.2109,2,    206.9,2, 26.0699,    202.0,2,     3.52,2,     0.61,2,     0.01,2,     0.24,2,    1.735,2,    0.980,2,    0.754,2,   1.6860,2,     0.20,2,   -999.0,9,  -999.00,9,   6.877,2,   1980.8,2,   2305.5,2,  -999.0,    0.20,  0.0080,   0.138,   0.008
    316N145_10,  I07N,   750,  1,     33,     33,2,19950726,2006, -3.2358,  55.9963, 3857,   -999,     90.2,  22.3260,  35.1800,2,  35.1751,2,    150.1,2, 22.3082,    142.9,2,     8.26,2,     9.03,2,     0.14,2,     0.75,2, -999.000,9, -999.000,9, -999.000,9,-999.0000,9,  -999.00,9,   -999.0,9,  -999.00,9,-999.000,9,   2052.4,2,   2303.2,2,  -999.0, -999.00,-999.0000,-999.000,-999.000
    316N145_10,  I07N,   750,  1,     32,     32,2,19950726,2006, -3.2358,  55.9963, 3857,   -999,    124.2,  20.3581,  35.1932,2,  35.1887,2,    133.8,2, 20.3350,    127.9,2,    10.70,2,    11.86,2,     0.04,2,     0.91,2,    1.608,2,    0.868,2, -999.000,9,-999.0000,9,  -999.00,9,   -999.0,9,  -999.00,9,-999.000,9,   2084.6,2,   2304.6,2,  -999.0, -999.00,-999.0000,-999.000,-999.000
    316N145_10,  I07N,   750,  1,     31,     31,2,19950726,2006, -3.2358,  55.9963, 3857,   -999,    196.5,  14.9540,  35.1806,2,  35.1810,2,    115.4,2, 14.9245,    115.5,2,    15.96,2,    18.29,2,     0.00,2,     1.31,2,    1.427,2,    0.745,2,    0.636,2,   1.7800,2,     2.70,2,   -999.0,9,  -999.00,9,   7.096,2,   2150.8,2,   2319.6,2,  -999.0,    0.20,  0.0090,   0.142,   0.008
    316N145_10,  I07N,   750,  1,     30,     30,2,19950726,2006, -3.2358,  55.9963, 3857,   -999,    258.6,  12.3304,  35.0682,2,  35.0693,2,    138.2,2, 12.2961,    140.1,2,    16.65,2,    19.17,2,     0.00,2,     1.37,2,    1.379,2,    0.692,2, -999.000,9,-999.0000,9,  -999.00,9,   -999.0,9,  -999.00,9,-999.000,9,   2158.2,2,   2313.0,2,  -999.0, -999.00,-999.0000,-999.000,-999.000
    316N145_10,  I07N,   750,  1,     29,     29,2,19950726,2006, -3.2358,  55.9963, 3857,   -999,    354.8,  10.1581,  34.9035,2,  34.9062,2,    123.7,2, 10.1163,    123.1,2,    25.08,2,    24.98,2,     0.00,2,     1.74,2,    0.757,2,    0.376,2,    0.345,2,   1.8150,2,     6.10,2,   -999.0,9,  -999.00,9,   7.292,2,   2187.4,2,   2326.0,3,  -999.0,    0.20,  0.0090,   0.146,   0.008
    316N145_10,  I07N,   750,  1,     28,     28,2,19950726,2006, -3.2358,  55.9963, 3857,   -999,    429.1,   9.7037,  34.8826,2,  34.8834,2,    118.9,2,  9.6544,    116.6,2,    28.58,2,    26.62,2,     0.00,2,     1.86,2,    0.592,2,    0.302,2, -999.000,9,-999.0000,9,  -999.00,9,   -999.0,9,  -999.00,9,-999.000,9,   2198.0,2,   2317.0,2,  -999.0, -999.00,-999.0000,-999.000,-999.000
    316N145_10,  I07N,   750,  1,     27,     27,2,19950726,2006, -3.2358,  55.9963, 3857,   -999,    563.2,   8.4148,  34.8288,2,  34.8286,2,     90.8,2,  8.3550,     93.5,2,    45.81,2,    31.06,2,     0.00,2,     2.23,2,    0.215,2,    0.119,2, -999.000,9,-999.0000,9,  -999.00,9,   -999.0,9,  -999.00,9,-999.000,9,   2232.9,2,   2327.0,2,  -999.0, -999.00,-999.0000,-999.000,-999.000
    316N145_10,  I07N,   750,  1,     26,     26,2,19950726,2006, -3.2358,  55.9963, 3857,   -999,    620.6,   8.3059,  34.8820,2,  34.8857,2,     83.0,2,  8.2402,     81.6,2,    50.72,2,    32.29,2,     0.00,2,     2.36,2,    0.144,2,    0.071,2,    0.050,2,   1.8240,2,     6.50,2,   -999.0,9,  -999.00,9,   7.453,2,   2247.1,2,   2334.5,2,  -999.0,    0.20,  0.0090,   0.149,   0.008
    316N145_10,  I07N,   750,  1,     25,     25,2,19950726,2006, -3.2358,  55.9963, 3857,   -999,    702.5,   8.1389,  34.9771,2,  34.9773,2,     60.6,2,  8.0649,     62.4,2,    59.68,2,    33.99,2,     0.00,2,     2.53,2,    0.068,2,    0.044,2, -999.000,9,-999.0000,9,  -999.00,9,   -999.0,9,  -999.00,9,-999.000,9,   2265.2,2,   2345.2,2,  -999.0, -999.00,-999.0000,-999.000,-999.000
    316N145_10,  I07N,   750,  1,     24,     24,2,19950726,2006, -3.2358,  55.9963, 3857,   -999,    804.1,   7.8265,  34.9758,2,  34.9751,2,     58.0,2,  7.7431,     58.9,2,    64.95,2,    34.70,2,     0.00,2,     2.60,2,    0.046,2,    0.025,2,    0.050,2,-999.0000,9,  -999.00,9,   -999.0,9,  -999.00,9,-999.000,9,   2274.9,2,   2348.8,2,  -999.0, -999.00,-999.0000,-999.000,   0.008
    316N145_10,  I07N,   750,  1,     23,     23,2,19950726,2006, -3.2358,  55.9963, 3857,   -999,    904.5,   7.0759,  34.9327,2,  34.9311,2,     61.9,2,  6.9865,     61.7,2,    74.11,2,    35.52,2,     0.00,2,     2.66,2, -999.000,9, -999.000,9, -999.000,9,-999.0000,9,  -999.00,9,   -999.0,9,  -999.00,9,-999.000,9,   2285.6,2,   2356.4,2,  -999.0, -999.00,-999.0000,-999.000,-999.000
    316N145_10,  I07N,   750,  1,     22,     22,2,19950726,2006, -3.2358,  55.9963, 3857,   -999,   1064.5,   6.3792,  34.9386,2,  34.9381,2,     63.0,2,  6.2784,     62.4,2,    83.65,2,    36.28,2,     0.00,2,     2.73,2,    0.010,2,    0.008,2,    0.002,2,-999.0000,9,  -999.00,9,   -999.0,9,  -999.00,9,-999.000,9,   2298.1,2,   2367.6,2,  -999.0, -999.00,-999.0000,-999.000,   0.008
    316N145_10,  I07N,   750,  1,     21,     21,2,19950726,2006, -3.2358,  55.9963, 3857,   -999,   1161.4,   5.7188,  34.8846,2,  34.8847,2,     70.4,2,  5.6138,     71.5,2,    89.67,2,    36.39,2,     0.00,2,     2.72,2, -999.000,9, -999.000,9, -999.000,9,-999.0000,9,  -999.00,9,   -999.0,9,  -999.00,9,-999.000,9,   2300.6,2,   2373.8,2,  -999.0, -999.00,-999.0000,-999.000,-999.000
    316N145_10,  I07N,   750,  1,     20,     20,2,19950726,2006, -3.2358,  55.9963, 3857,   -999,   1264.5,   5.1067,  34.8329,2,  34.8336,2,     83.6,2,  4.9974,     83.2,2,    94.81,2,    36.30,2,     0.00,2,     2.71,2,    0.000,2,   -0.003,2,    0.000,2,   1.8460,2,     7.70,2,   -999.0,9,  -999.00,9,   7.595,2,   2302.1,2,   2376.8,2,  -999.0,    0.20,  0.0090,   0.152,   0.008
    316N145_10,  I07N,   750,  1,     19,     19,2,19950726,2006, -3.2358,  55.9963, 3857,   -999,   1372.1,   4.6994,  34.8225,2,  34.8226,2,     88.8,2,  4.5839,     89.3,2,    98.72,2,    36.22,2,     0.00,2,     2.69,2,   -0.001,2,    0.000,2, -999.000,9,-999.0000,9,  -999.00,9,   -999.0,9,  -999.00,9,-999.000,9,   2303.8,2,   2380.2,2,  -999.0, -999.00,-999.0000,-999.000,-999.000
    316N145_10,  I07N,   750,  1,     18,     18,2,19950726,2006, -3.2358,  55.9963, 3857,   -999,   1465.4,   4.3129,  34.8109,2,  34.8106,2,     97.1,2,  4.1929,     96.3,2,   102.63,2,    36.18,2,     0.00,2,     2.69,2,    0.001,2,    0.001,2,    0.000,2,   1.8690,2,    10.40,2,   -999.0,9,  -999.00,9,   7.738,2,   2304.6,2,   2386.1,2,  -999.0,    0.20,  0.0090,   0.155,   0.008
    316N145_10,  I07N,   750,  1,     17,     17,2,19950726,2006, -3.2358,  55.9963, 3857,   -999,   1605.3,   3.7796,  34.7855,2,  34.7855,2,    111.6,2,  3.6530,    110.0,2,   106.38,2,    35.57,2,     0.00,2,     2.65,2, -999.000,9, -999.000,9,    0.000,2,   1.8820,2,    12.30,2,   -999.0,9,  -999.00,9,   7.881,2,   2304.9,2,   2388.1,2,  -999.0,    0.20,  0.0090,   0.158,   0.008
    316N145_10,  I07N,   750,  1,     16,     16,2,19950726,2006, -3.2358,  55.9963, 3857,   -999,   1699.8,   3.4377,  34.7828,2,  34.7826,2,    114.6,2,  3.3068,    116.7,2,   110.13,2,    35.53,2,     0.00,2,     2.61,2,   -0.002,2,   -0.004,2,    0.000,2,   1.8960,2,    12.90,2,   -999.0,9,  -999.00,9,   8.037,2,   2307.1,2,   2392.4,2,  -999.0,    0.20,  0.0090,   0.161,   0.008
    316N145_10,  I07N,   750,  1,     15,     15,2,19950726,2006, -3.2358,  55.9963, 3857,   -999,   1800.1,   3.1439,  34.7733,2,  34.7733,2,    124.4,2,  3.0079,    124.0,2,   112.63,2,    35.21,2,     0.00,2,     2.58,2, -999.000,9, -999.000,9, -999.000,9,-999.0000,9,  -999.00,9,   -999.0,9,  -999.00,9,-999.000,9,   2304.5,2,   2394.0,2,  -999.0, -999.00,-999.0000,-999.000,-999.000
    316N145_10,  I07N,   750,  1,     14,     14,2,19950726,2006, -3.2358,  55.9963, 3857,   -999,   1899.3,   2.8975,  34.7692,2,  34.7678,2,    128.9,2,  2.7562,    130.0,2,   115.50,2,    35.03,2,     0.00,2,     2.56,2, -999.000,9, -999.000,9,    0.000,2,   1.9040,2,    13.50,2,   -999.0,9,  -999.00,9,   7.997,2,   2306.1,2,   2400.3,2,  -999.0,    0.20,  0.0100,   0.160,   0.008
    316N145_10,  I07N,   750,  1,     13,     13,2,19950726,2006, -3.2358,  55.9963, 3857,   -999,   2000.4,   2.7646,  34.7671,2,  34.7662,2,    133.2,2,  2.6162,    132.8,2,   117.11,2,    34.94,2,     0.00,2,     2.54,2, -999.000,9, -999.000,9, -999.000,9,-999.0000,9,  -999.00,9,   -999.0,9,  -999.00,9,-999.000,9,   2305.7,2,   2401.3,2,  -999.0, -999.00,-999.0000,-999.000,-999.000
    316N145_10,  I07N,   750,  1,     12,     12,2,19950726,2006, -3.2358,  55.9963, 3857,   -999,   2096.8,   2.5437,  34.7570,2,  34.7576,2,    139.5,2,  2.3901,    139.7,2,   118.71,2,    34.72,2,     0.00,2,     2.52,2, -999.000,9, -999.000,9, -999.000,9,   1.9040,2,    13.70,2,   -999.0,9,  -999.00,9,   8.068,2,   2304.6,2,   2404.7,2,  -999.0,    0.20,  0.0100,   0.161,-999.000
    316N145_10,  I07N,   750,  1,     11,     11,2,19950726,2006, -3.2358,  55.9963, 3857,   -999,   2204.0,   2.3932,  34.7542,2,  34.7540,2,    143.8,2,  2.2324,    143.5,2,   120.32,2,    34.49,2,     0.00,2,     2.49,2, -999.000,9, -999.000,9, -999.000,9,-999.0000,9,  -999.00,9,   -999.0,9,  -999.00,9,-999.000,9,   2304.4,2,   2405.5,2,  -999.0, -999.00,-999.0000,-999.000,-999.000
    316N145_10,  I07N,   750,  1,     10,     10,2,19950726,2006, -3.2358,  55.9963, 3857,   -999,   2401.8,   2.0920,  34.7388,2,  34.7399,2,    156.1,2,  1.9187,    156.3,2,   120.66,2,    33.83,2,     0.00,2,     2.43,2, -999.000,9, -999.000,9, -999.000,9,   1.9130,2,    13.20,2,   -999.0,9,  -999.00,9,   8.153,2,   2298.6,2,   2401.0,2,  -999.0,    0.20,  0.0100,   0.163,-999.000
    316N145_10,  I07N,   750,  1,      9,      9,2,19950726,2006, -3.2358,  55.9963, 3857,   -999,   2604.2,   1.8793,  34.7328,2,  34.7330,2,    164.6,2,  1.6915,    164.9,2,   121.36,2,    33.56,2,     0.00,2,     2.38,2, -999.000,9, -999.000,9, -999.000,9,-999.0000,9,  -999.00,9,   -999.0,9,  -999.00,9,-999.000,9,   2294.6,2,   2401.7,2,  -999.0, -999.00,-999.0000,-999.000,-999.000
    316N145_10,  I07N,   750,  1,      8,      8,2,19950726,2006, -3.2358,  55.9963, 3857,   -999,   2796.3,   1.7792,  34.7298,2,  34.7303,2,    167.4,2,  1.5755,    168.7,2,   122.61,2,    33.38,2,     0.00,2,     2.36,2, -999.000,9, -999.000,9, -999.000,9,   1.9220,2,    12.80,2,   -999.0,9,  -999.00,9,   8.282,2,   2294.1,2,   2401.2,2,  -999.0,    0.20,  0.0100,   0.166,-999.000
    316N145_10,  I07N,   750,  1,      7,      7,2,19950726,2006, -3.2358,  55.9963, 3857,   -999,   2998.0,   1.7255,  34.7285,2,  34.7289,2,    168.9,2,  1.5038,    170.8,2,   123.31,2,    33.34,2,     0.00,2,     2.35,2, -999.000,9, -999.000,9, -999.000,9,-999.0000,9,  -999.00,9,   -999.0,9,  -999.00,9,-999.000,9,   2293.0,2,   2401.9,2,  -999.0, -999.00,-999.0000,-999.000,-999.000
    316N145_10,  I07N,   750,  1,      6,      6,2,19950726,2006, -3.2358,  55.9963, 3857,   -999,   3197.4,   1.6720,  34.7283,2,  34.7273,2,    171.2,2,  1.4320,    171.8,2,   125.11,2,    33.40,2,     0.00,2,     2.35,2, -999.000,9, -999.000,9, -999.000,9,   1.9000,2,    11.10,2,   -999.0,9,  -999.00,9,   8.313,2,   2295.7,2,   2404.3,2,  -999.0,    0.20,  0.0090,   0.166,-999.000
    316N145_10,  I07N,   750,  1,      5,      5,2,19950726,2006, -3.2358,  55.9963, 3857,   -999,   3399.1,   1.6404,  34.7273,2,  34.7267,2,    171.6,2,  1.3809,    171.8,2,   127.28,2,    33.45,2,     0.00,2,     2.36,2, -999.000,9, -999.000,9, -999.000,9,-999.0000,9,  -999.00,9,   -999.0,9,  -999.00,9,-999.000,9,   2296.0,2,   2406.7,2,  -999.0, -999.00,-999.0000,-999.000,-999.000
    316N145_10,  I07N,   750,  1,      4,      4,2,19950726,2006, -3.2358,  55.9963, 3857,   -999,   3595.6,   1.6033,  34.7278,2,  34.7271,2,    171.6,2,  1.3246,    171.2,2,   129.64,2,    33.55,2,     0.00,2,     2.37,2, -999.000,9, -999.000,9, -999.000,9,   1.8960,2,    10.40,2,   -999.0,9,  -999.00,9,   8.394,2,   2299.9,2,   2411.2,2,  -999.0,    0.20,  0.0090,   0.168,-999.000
    316N145_10,  I07N,   750,  1,      3,      3,2,19950726,2006, -3.2358,  55.9963, 3857,   -999,   3744.2,   1.5669,  34.7269,2,  34.7265,2,    172.2,2,  1.2735,    171.5,2,   131.09,2,    33.66,2,     0.00,2,     2.37,2, -999.000,9, -999.000,9, -999.000,9,-999.0000,9,  -999.00,9,   -999.0,9,  -999.00,9,-999.000,9,   2301.1,2,   2409.7,2,  -999.0, -999.00,-999.0000,-999.000,-999.000
    316N145_10,  I07N,   750,  1,      2,      2,2,19950726,2006, -3.2358,  55.9963, 3857,   -999,   3846.9,   1.5531,  34.7270,2,  34.7259,2,    173.4,2,  1.2491,    172.6,2,   131.43,2,    33.66,2,     0.00,2,     2.38,2, -999.000,9, -999.000,9, -999.000,9,-999.0000,9,  -999.00,9,   -999.0,9,  -999.00,9,-999.000,9,   2300.6,2,   2409.7,2,  -999.0, -999.00,-999.0000,-999.000,-999.000
    316N145_10,  I07N,   750,  1,      1,      1,2,19950726,2006, -3.2358,  55.9963, 3857,   -999,   3898.3,   1.4908,  34.7254,2,  34.7251,2,    173.7,2,  1.1830,    173.9,2,   131.76,2,    33.62,2,     0.00,2,     2.38,2, -999.000,9, -999.000,9, -999.000,9,   1.9040,2,     9.80,2,   -999.0,9,  -999.00,9,   8.336,2,   2299.0,2,   2410.5,2,  -999.0,    0.20,  0.0100,   0.167,-999.000