BOTTLE,20080821WHPSIOSCD
EXPOCODE,SECT_ID,STNNBR,CASTNO,SAMPNO,BTLNBR,BTLNBR_FLAG_W,DATE,TIME,LATITUDE,LONGITUDE,DEPTH,CTDRAW,CTDPRS,CTDTMP,CTDSAL,CTDSAL_FLAG_W,SALNTY,SALNTY_FLAG_W,CTDOXY,CTDOXY_FLAG_W,THETA,OXYGEN,OXYGEN_FLAG_W,SILCAT,SILCAT_FLAG_W,NITRAT,NITRAT_FLAG_W,NITRIT,NITRIT_FLAG_W,PHSPHT,PHSPHT_FLAG_W,CFC-11,CFC-11_FLAG_W,CFC-12,CFC-12_FLAG_W,TRITUM,TRITUM_FLAG_W,HELIUM,HELIUM_FLAG_W,DELHE3,DELHE3_FLAG_W,DELC14,DELC14_FLAG_W,DELC13,DELC13_FLAG_W,NEON,NEON_FLAG_W,TCARBN,TCARBN_FLAG_W,ALKALI,ALKALI_FLAG_W,C14ERR,DELHER,HELIER,NEONER,TRITER
,,,,,,,,,,,,,DBAR,ITS-90,PSS-78,,PSS-78,,UMOL/KG,,DEG C,UMOL/KG,,UMOL/KG,,UMOL/KG,,UMOL/KG,,UMOL/KG,,PMOL/KG,,PMOL/KG,,TU,,NMOL/KG,,PERCNT,,/MILLE,,/MILLE,,NMOL/KG,,UMOL/KG,,UMOL/KG,,/MILLE,PERCNT,NMOL/KG,NMOL/KG,TU
    316N145_10,  I07N,   738,  1,     36,     36,2,19950723,1323, -8.1088,  53.0750, 2739,   -999,      8.3,  26.3299,  35.2014,2,  35.2013,2,    203.4,2, 26.3283,    200.5,2,     2.95,2,     0.64,2,     0.03,2,     0.22,2,    1.698,2,    0.960,2, -999.000,9,-999.0000,9,  -999.00,9,   -999.0,9,  -999.00,9,-999.000,9,   1976.3,2,   -999.9,5,  -999.0, -999.00,-999.0000,-999.000,-999.000
    316N145_10,  I07N,   738,  1,     35,     35,2,19950723,1323, -8.1088,  53.0750, 2739,   -999,     21.0,  26.2917,  35.2027,2,  35.1987,2,    199.3,2, 26.2872,    199.3,2,     2.93,2,     0.64,2,     0.03,2,     0.22,2, -999.000,9, -999.000,9, -999.000,9,-999.0000,9,  -999.00,9,   -999.0,9,  -999.00,9,-999.000,9,   1977.5,2,   2304.8,2,  -999.0, -999.00,-999.0000,-999.000,-999.000
    316N145_10,  I07N,   738,  1,     34,     34,2,19950723,1323, -8.1088,  53.0750, 2739,   -999,     76.1,  18.8511,  35.2039,2,  35.1946,2,    120.9,2, 18.8377,    115.7,2,    13.20,2,    14.42,2,     0.17,2,     1.06,2,    1.494,2,    0.778,2, -999.000,9,-999.0000,9,  -999.00,9,   -999.0,9,  -999.00,9,-999.000,9,   2111.7,2,   2313.1,2,  -999.0, -999.00,-999.0000,-999.000,-999.000
    316N145_10,  I07N,   738,  1,     33,     33,2,19950723,1323, -8.1088,  53.0750, 2739,   -999,    112.7,  16.3472,  35.1832,2,  35.1832,2,    108.5,2, 16.3293,    107.1,2,    15.93,2,    17.89,2,     0.00,2,     1.28,2, -999.000,9, -999.000,9, -999.000,9,-999.0000,9,  -999.00,9,   -999.0,9,  -999.00,9,-999.000,9,   2142.3,2,   2320.7,2,  -999.0, -999.00,-999.0000,-999.000,-999.000
    316N145_10,  I07N,   738,  1,     32,     32,2,19950723,1323, -8.1088,  53.0750, 2739,   -999,    127.2,  15.4827,  35.1683,2,  35.1718,2,    107.9,2, 15.4632,    108.7,2,    16.59,2,    18.61,2,     0.00,2,     1.33,2,    1.362,2,    0.693,2, -999.000,9,-999.0000,9,  -999.00,9,   -999.0,9,  -999.00,9,-999.000,9,   2148.4,2,   2313.1,2,  -999.0, -999.00,-999.0000,-999.000,-999.000
    316N145_10,  I07N,   738,  1,     31,     31,2,19950723,1323, -8.1088,  53.0750, 2739,   -999,    150.5,  14.5609,  35.1464,2,  35.1439,2,    110.7,2, 14.5388,    112.2,2,    17.43,2,    19.24,2,     0.00,2,     1.37,2, -999.000,9, -999.000,9, -999.000,9,-999.0000,9,  -999.00,9,   -999.0,9,  -999.00,9,-999.000,9,   2156.1,2,   2315.1,2,  -999.0, -999.00,-999.0000,-999.000,-999.000
    316N145_10,  I07N,   738,  1,     30,     30,2,19950723,1323, -8.1088,  53.0750, 2739,   -999,    176.5,  13.6869,  35.1164,2,  35.1063,2,    115.7,2, 13.6620,    116.9,2,    18.44,2,    19.96,2,     0.00,2,     1.40,2,    1.245,2,    0.621,2, -999.000,9,-999.0000,9,  -999.00,9,   -999.0,9,  -999.00,9,-999.000,9,   2163.5,2,   2313.8,2,  -999.0, -999.00,-999.0000,-999.000,-999.000
    316N145_10,  I07N,   738,  1,     29,     29,2,19950723,1323, -8.1088,  53.0750, 2739,   -999,    201.8,  12.9194,  35.0746,2,  35.0733,2,    118.1,2, 12.8919,    121.4,2,    18.94,2,    20.41,2,     0.00,2,     1.44,2, -999.000,9, -999.000,9, -999.000,9,-999.0000,9,  -999.00,9,   -999.0,9,  -999.00,9,-999.000,9,   2164.0,2,   2319.4,2,  -999.0, -999.00,-999.0000,-999.000,-999.000
    316N145_10,  I07N,   738,  1,     28,     28,4,19950723,1323, -8.1088,  53.0750, 2739,   -999,    248.4,  12.3282,  35.0456,2,-999.0000,9,    124.7,2, 12.2953,   -999.0,9,  -999.00,9,  -999.00,9,  -999.00,9,  -999.00,9, -999.000,9, -999.000,9, -999.000,9,-999.0000,9,  -999.00,9,   -999.0,9,  -999.00,9,-999.000,9,   -999.9,9,   -999.9,9,  -999.0, -999.00,-999.0000,-999.000,-999.000
    316N145_10,  I07N,   738,  1,     27,     27,2,19950723,1323, -8.1088,  53.0750, 2739,   -999,    298.5,  11.3158,  34.9629,2,  34.9591,2,    132.3,2, 11.2783,    134.2,2,    20.46,2,    21.62,2,     0.00,2,     1.51,2,    1.092,2,    0.557,2, -999.000,9,-999.0000,9,  -999.00,9,   -999.0,9,  -999.00,9,-999.000,9,   2168.9,2,   2312.4,2,  -999.0, -999.00,-999.0000,-999.000,-999.000
    316N145_10,  I07N,   738,  1,     26,     26,2,19950723,1323, -8.1088,  53.0750, 2739,   -999,    347.3,  10.6944,  34.9102,2,  34.9030,2,    142.0,2, 10.6522,    146.4,2,    20.78,2,    21.67,2,     0.00,2,     1.52,2,    1.119,2,    0.545,2, -999.000,9,-999.0000,9,  -999.00,9,   -999.0,9,  -999.00,9,-999.000,9,   2167.2,2,   2309.9,2,  -999.0, -999.00,-999.0000,-999.000,-999.000
    316N145_10,  I07N,   738,  1,     25,     25,2,19950723,1323, -8.1088,  53.0750, 2739,   -999,    397.7,  10.1448,  34.8570,2,  34.8597,2,    148.1,2, 10.0980,    146.9,2,    22.48,2,    22.61,2,     0.00,2,     1.59,2,    1.028,2,    0.505,2, -999.000,9,-999.0000,9,  -999.00,9,   -999.0,9,  -999.00,9,-999.000,9,   2171.5,2,   2335.7,3,  -999.0, -999.00,-999.0000,-999.000,-999.000
    316N145_10,  I07N,   738,  1,     24,     24,2,19950723,1323, -8.1088,  53.0750, 2739,   -999,    448.5,   9.5203,  34.8226,2,  34.8218,2,    134.6,2,  9.4694,    133.8,2,    27.77,2,    25.12,2,     0.00,2,     1.76,2, -999.000,9, -999.000,9, -999.000,9,-999.0000,9,  -999.00,9,   -999.0,9,  -999.00,9,-999.000,9,   2185.8,2,   2315.7,2,  -999.0, -999.00,-999.0000,-999.000,-999.000
    316N145_10,  I07N,   738,  1,     23,     23,2,19950723,1323, -8.1088,  53.0750, 2739,   -999,    497.6,   9.0909,  34.8059,2,  34.8067,2,    129.6,2,  9.0358,    127.0,2,    32.38,2,    26.61,2,     0.00,2,     1.88,2, -999.000,9, -999.000,9, -999.000,9,-999.0000,9,  -999.00,9,   -999.0,9,  -999.00,9,-999.000,9,   2196.3,2,   2318.8,2,  -999.0, -999.00,-999.0000,-999.000,-999.000
    316N145_10,  I07N,   738,  1,     22,     22,2,19950723,1323, -8.1088,  53.0750, 2739,   -999,    600.3,   8.1723,  34.7618,2,  34.7616,2,    126.1,2,  8.1095,    126.2,2,    39.91,2,    28.33,2,     0.00,2,     2.03,2,    0.415,2,    0.205,2, -999.000,9,-999.0000,9,  -999.00,9,   -999.0,9,  -999.00,9,-999.000,9,   2208.4,2,   2105.9,4,  -999.0, -999.00,-999.0000,-999.000,-999.000
    316N145_10,  I07N,   738,  1,     21,     21,2,19950723,1323, -8.1088,  53.0750, 2739,   -999,    697.7,   7.7285,  34.7887,2,  34.7900,2,    114.8,2,  7.6573,    103.7,2,    51.39,2,    31.13,2,     0.00,2,     2.26,2, -999.000,9, -999.000,9, -999.000,9,-999.0000,9,  -999.00,9,   -999.0,9,  -999.00,9,-999.000,9,   2234.2,2,   2334.5,2,  -999.0, -999.00,-999.0000,-999.000,-999.000
    316N145_10,  I07N,   738,  1,     20,     20,2,19950723,1323, -8.1088,  53.0750, 2739,   -999,    798.5,   7.1034,  34.7933,2,  34.7924,2,     88.7,2,  7.0251,     94.6,2,    61.88,2,    32.86,2,     0.00,2,     2.41,2,    0.107,2,    0.051,2, -999.000,9,-999.0000,9,  -999.00,9,   -999.0,9,  -999.00,9,-999.000,9,   2253.2,2,   2344.7,2,  -999.0, -999.00,-999.0000,-999.000,-999.000
    316N145_10,  I07N,   738,  1,     19,     19,2,19950723,1323, -8.1088,  53.0750, 2739,   -999,    829.8,   7.0733,  34.8327,2,  34.8315,2,    102.8,2,  6.9919,     81.7,2,    67.38,2,    33.96,2,     0.00,2,     2.52,2,    0.060,2,    0.032,2, -999.000,9,-999.0000,9,  -999.00,9,   -999.0,9,  -999.00,9,-999.000,9,   2265.1,2,   2348.0,2,  -999.0, -999.00,-999.0000,-999.000,-999.000
    316N145_10,  I07N,   738,  1,     18,     18,2,19950723,1323, -8.1088,  53.0750, 2739,   -999,    889.6,   6.5588,  34.8159,2,  34.8177,2,     85.0,2,  6.4746,     86.1,2,    72.20,2,    34.10,2,     0.00,2,     2.54,2,    0.044,2,    0.022,2, -999.000,9,-999.0000,9,  -999.00,9,   -999.0,9,  -999.00,9,-999.000,9,   2270.2,2,   2353.9,2,  -999.0, -999.00,-999.0000,-999.000,-999.000
    316N145_10,  I07N,   738,  1,     17,     17,2,19950723,1323, -8.1088,  53.0750, 2739,   -999,   1000.8,   5.9439,  34.8090,2,  34.8101,2,     91.2,2,  5.8530,     88.8,2,    80.15,2,    34.84,2,     0.00,2,     2.59,2, -999.000,9, -999.000,9, -999.000,9,-999.0000,9,  -999.00,9,   -999.0,9,  -999.00,9,-999.000,9,   2280.3,2,   2362.6,2,  -999.0, -999.00,-999.0000,-999.000,-999.000
    316N145_10,  I07N,   738,  1,     16,     16,2,19950723,1323, -8.1088,  53.0750, 2739,   -999,   1101.1,   5.3594,  34.7861,2,  34.7867,2,     92.9,2,  5.2635,     92.1,2,    87.62,2,    35.25,2,     0.00,2,     2.63,2,    0.010,2,    0.009,2, -999.000,9,-999.0000,9,  -999.00,9,   -999.0,9,  -999.00,9,-999.000,9,   2286.7,2,   2369.2,2,  -999.0, -999.00,-999.0000,-999.000,-999.000
    316N145_10,  I07N,   738,  1,     15,     15,2,19950723,1323, -8.1088,  53.0750, 2739,   -999,   1203.4,   4.7912,  34.7703,2,  34.7716,2,    103.8,2,  4.6907,    102.7,2,    91.97,2,    35.17,2,     0.00,2,     2.61,2, -999.000,9, -999.000,9, -999.000,9,-999.0000,9,  -999.00,9,   -999.0,9,  -999.00,9,-999.000,9,   2289.8,2,   2431.9,3,  -999.0, -999.00,-999.0000,-999.000,-999.000
    316N145_10,  I07N,   738,  1,     14,     14,2,19950723,1323, -8.1088,  53.0750, 2739,   -999,   1301.8,   4.4876,  34.7562,2,  34.7573,2,    111.2,2,  4.3809,    107.3,2,    94.75,2,    35.08,2,     0.00,2,     2.59,2, -999.000,9, -999.000,9, -999.000,9,-999.0000,9,  -999.00,9,   -999.0,9,  -999.00,9,-999.000,9,   2290.0,2,   2372.8,2,  -999.0, -999.00,-999.0000,-999.000,-999.000
    316N145_10,  I07N,   738,  1,     13,     13,2,19950723,1323, -8.1088,  53.0750, 2739,   -999,   1401.0,   4.0216,  34.7480,2,  34.7476,2,    118.8,2,  3.9108,    119.0,2,    97.36,2,    34.72,2,     0.00,2,     2.56,2, -999.000,9, -999.000,9, -999.000,9,-999.0000,9,  -999.00,9,   -999.0,9,  -999.00,9,-999.000,9,   2287.9,2,   2387.5,3,  -999.0, -999.00,-999.0000,-999.000,-999.000
    316N145_10,  I07N,   738,  1,     12,     12,2,19950723,1323, -8.1088,  53.0750, 2739,   -999,   1497.2,   3.7568,  34.7507,2,  34.7520,2,    124.7,2,  3.6403,    124.5,2,   100.68,2,    34.64,2,     0.00,2,     2.54,2, -999.000,9, -999.000,9, -999.000,9,-999.0000,9,  -999.00,9,   -999.0,9,  -999.00,9,-999.000,9,   2290.8,2,   2380.0,2,  -999.0, -999.00,-999.0000,-999.000,-999.000
    316N145_10,  I07N,   738,  1,     11,     11,2,19950723,1323, -8.1088,  53.0750, 2739,   -999,   1593.4,   3.3259,  34.7334,2,  34.7333,2,    134.7,2,  3.2060,    134.7,2,   102.59,2,    34.23,2,     0.00,2,     2.49,2, -999.000,9, -999.000,9, -999.000,9,-999.0000,9,  -999.00,9,   -999.0,9,  -999.00,9,-999.000,9,   2287.9,2,   2380.5,2,  -999.0, -999.00,-999.0000,-999.000,-999.000
    316N145_10,  I07N,   738,  1,     10,     10,2,19950723,1323, -8.1088,  53.0750, 2739,   -999,   1714.2,   3.0702,  34.7522,2,  34.7522,2,    134.7,2,  2.9429,    135.4,2,   110.19,2,    34.42,2,     0.00,2,     2.52,2, -999.000,9, -999.000,9, -999.000,9,-999.0000,9,  -999.00,9,   -999.0,9,  -999.00,9,-999.000,9,   2296.0,2,   2389.2,2,  -999.0, -999.00,-999.0000,-999.000,-999.000
    316N145_10,  I07N,   738,  1,      9,      9,2,19950723,1323, -8.1088,  53.0750, 2739,   -999,   1846.8,   2.8581,  34.7497,2,  34.7486,2,    137.0,2,  2.7220,    139.6,2,   112.83,2,    34.24,2,     0.00,2,     2.49,2, -999.000,9, -999.000,9, -999.000,9,-999.0000,9,  -999.00,9,   -999.0,9,  -999.00,9,-999.000,9,   2297.9,2,   2410.1,3,  -999.0, -999.00,-999.0000,-999.000,-999.000
    316N145_10,  I07N,   738,  1,      8,      8,2,19950723,1323, -8.1088,  53.0750, 2739,   -999,   1992.9,   2.5613,  34.7470,2,  34.7473,2,    145.2,2,  2.4167,    144.6,2,   117.10,2,    34.07,2,     0.00,2,     2.47,2, -999.000,9, -999.000,9, -999.000,9,-999.0000,9,  -999.00,9,   -999.0,9,  -999.00,9,-999.000,9,   2298.2,2,   2398.7,2,  -999.0, -999.00,-999.0000,-999.000,-999.000
    316N145_10,  I07N,   738,  1,      7,      7,2,19950723,1323, -8.1088,  53.0750, 2739,   -999,   2096.3,   2.4234,  34.7467,2,  34.7471,2,    147.7,2,  2.2719,    147.6,2,   118.86,2,    33.98,2,     0.00,2,     2.46,2, -999.000,9, -999.000,9, -999.000,9,-999.0000,9,  -999.00,9,   -999.0,9,  -999.00,9,-999.000,9,   2300.0,2,   2398.3,2,  -999.0, -999.00,-999.0000,-999.000,-999.000
    316N145_10,  I07N,   738,  1,      6,      6,2,19950723,1323, -8.1088,  53.0750, 2739,   -999,   2196.7,   2.3509,  34.7459,2,  34.7482,3,    148.5,2,  2.1915,    150.4,2,   120.09,2,    33.99,2,     0.00,2,     2.45,2, -999.000,9, -999.000,9, -999.000,9,-999.0000,9,  -999.00,9,   -999.0,9,  -999.00,9,-999.000,9,   2300.8,2,   2399.0,2,  -999.0, -999.00,-999.0000,-999.000,-999.000
    316N145_10,  I07N,   738,  1,      5,      5,2,19950723,1323, -8.1088,  53.0750, 2739,   -999,   2266.5,   2.2923,  34.7458,2,  34.7455,2,    150.3,2,  2.1277,    150.3,2,   121.31,2,    33.99,2,     0.00,2,     2.45,2, -999.000,9, -999.000,9, -999.000,9,-999.0000,9,  -999.00,9,   -999.0,9,  -999.00,9,-999.000,9,   2301.9,2,   2402.2,2,  -999.0, -999.00,-999.0000,-999.000,-999.000
    316N145_10,  I07N,   738,  1,      4,      4,2,19950723,1323, -8.1088,  53.0750, 2739,   -999,   2368.1,   2.2182,  34.7450,2,  34.7447,2,    151.7,2,  2.0457,    152.9,2,   122.72,2,    33.95,2,     0.00,2,     2.45,2, -999.000,9, -999.000,9, -999.000,9,-999.0000,9,  -999.00,9,   -999.0,9,  -999.00,9,-999.000,9,   2300.8,2,   2402.2,2,  -999.0, -999.00,-999.0000,-999.000,-999.000
    316N145_10,  I07N,   738,  1,      3,      3,2,19950723,1323, -8.1088,  53.0750, 2739,   -999,   2566.3,   2.0170,  34.7444,2,  34.7433,2,    155.4,2,  1.8301,    153.8,2,   123.77,2,    33.96,2,     0.00,2,     2.43,2, -999.000,9, -999.000,9, -999.000,9,-999.0000,9,  -999.00,9,   -999.0,9,  -999.00,9,-999.000,9,   2302.8,2,   2403.6,2,  -999.0, -999.00,-999.0000,-999.000,-999.000
    316N145_10,  I07N,   738,  1,      2,      2,2,19950723,1323, -8.1088,  53.0750, 2739,   -999,   2754.9,   1.8641,  34.7388,2,  34.7388,2,    158.8,2,  1.6626,    159.9,2,   128.46,2,    33.83,2,     0.00,2,     2.41,2, -999.000,9, -999.000,9, -999.000,9,-999.0000,9,  -999.00,9,   -999.0,9,  -999.00,9,-999.000,9,   2303.5,2,   2413.1,2,  -999.0, -999.00,-999.0000,-999.000,-999.000
    316N145_10,  I07N,   738,  1,      1,      1,2,19950723,1323, -8.1088,  53.0750, 2739,   -999,   2777.9,   1.8649,  34.7388,2,  34.7400,2,    159.1,2,  1.6612,    159.8,2,   128.42,2,    33.83,2,     0.00,2,     2.42,2, -999.000,9, -999.000,9, -999.000,9,-999.0000,9,  -999.00,9,   -999.0,9,  -999.00,9,-999.000,9,   2302.4,2,   2408.5,2,  -999.0, -999.00,-999.0000,-999.000,-999.000