BOTTLE,20080821WHPSIOSCD
EXPOCODE,SECT_ID,STNNBR,CASTNO,SAMPNO,BTLNBR,BTLNBR_FLAG_W,DATE,TIME,LATITUDE,LONGITUDE,DEPTH,CTDRAW,CTDPRS,CTDTMP,CTDSAL,CTDSAL_FLAG_W,SALNTY,SALNTY_FLAG_W,CTDOXY,CTDOXY_FLAG_W,THETA,OXYGEN,OXYGEN_FLAG_W,SILCAT,SILCAT_FLAG_W,NITRAT,NITRAT_FLAG_W,NITRIT,NITRIT_FLAG_W,PHSPHT,PHSPHT_FLAG_W,CFC-11,CFC-11_FLAG_W,CFC-12,CFC-12_FLAG_W,TRITUM,TRITUM_FLAG_W,HELIUM,HELIUM_FLAG_W,DELHE3,DELHE3_FLAG_W,DELC14,DELC14_FLAG_W,DELC13,DELC13_FLAG_W,NEON,NEON_FLAG_W,TCARBN,TCARBN_FLAG_W,ALKALI,ALKALI_FLAG_W,C14ERR,DELHER,HELIER,NEONER,TRITER
,,,,,,,,,,,,,DBAR,ITS-90,PSS-78,,PSS-78,,UMOL/KG,,DEG C,UMOL/KG,,UMOL/KG,,UMOL/KG,,UMOL/KG,,UMOL/KG,,PMOL/KG,,PMOL/KG,,TU,,NMOL/KG,,PERCNT,,/MILLE,,/MILLE,,NMOL/KG,,UMOL/KG,,UMOL/KG,,/MILLE,PERCNT,NMOL/KG,NMOL/KG,TU
    316N145_10,  I07N,   808,  1,     36,     36,2,19950811,0743, 19.0897,  58.7892, 3284,   -999,      3.8,  23.0333,  35.6740,2,  35.6663,2,    237.0,2, 23.0327,    225.2,2,     6.89,2,    13.10,2,     0.33,2,     1.43,2, -999.000,9, -999.000,9, -999.000,9,-999.0000,9,  -999.00,9,   -999.0,9,  -999.00,9,-999.000,9,   2115.6,2,   2336.8,2,  -999.0, -999.00,-999.0000,-999.000,-999.000
    316N145_10,  I07N,   808,  1,     35,     35,2,19950811,0743, 19.0897,  58.7892, 3284,   -999,     36.4,  20.6975,  35.6700,2,  35.6722,2,    187.4,2, 20.6908,    181.6,2,     9.09,2,    16.47,2,     0.47,2,     1.73,2,    1.886,2,    1.041,2, -999.000,9,-999.0000,9,  -999.00,9,   -999.0,9,  -999.00,9,-999.000,9,   2162.2,2,   2337.3,2,  -999.0, -999.00,-999.0000,-999.000,-999.000
    316N145_10,  I07N,   808,  1,     34,     34,2,19950811,0743, 19.0897,  58.7892, 3284,   -999,     67.3,  19.8092,  35.6827,2,  35.6842,2,     86.5,2, 19.7971,    110.7,2,    14.24,2,    20.19,2,     0.23,2,     1.84,2,    1.550,2,    0.871,2, -999.000,9,-999.0000,9,  -999.00,9,   -999.0,9,  -999.00,9,-999.000,9,   2184.2,2,   2323.3,3,  -999.0, -999.00,-999.0000,-999.000,-999.000
    316N145_10,  I07N,   808,  1,     33,     33,2,19950811,0743, 19.0897,  58.7892, 3284,   -999,     75.6,  19.5302,  35.6912,2,  35.6958,2,    112.5,2, 19.5166,     56.2,2,    15.88,2,    21.95,2,     0.17,2,     1.88,2, -999.000,9, -999.000,9, -999.000,9,-999.0000,9,  -999.00,9,   -999.0,9,  -999.00,9,-999.000,9,   2194.1,2,   2329.9,2,  -999.0, -999.00,-999.0000,-999.000,-999.000
    316N145_10,  I07N,   808,  1,     32,     32,2,19950811,0743, 19.0897,  58.7892, 3284,   -999,    102.2,  18.9254,  35.7818,2,  35.7804,2,     20.5,2, 18.9073,     13.5,2,    18.81,2,    24.40,2,     0.05,2,     2.16,2,    1.150,2,    0.656,2, -999.000,9,-999.0000,9,  -999.00,9,   -999.0,9,  -999.00,9,-999.000,9,   2223.8,2,   2326.3,3,  -999.0, -999.00,-999.0000,-999.000,-999.000
    316N145_10,  I07N,   808,  1,     31,     31,2,19950811,0743, 19.0897,  58.7892, 3284,   -999,    117.1,  18.4296,  35.7964,2,  35.7908,2,      7.9,2, 18.4093,      6.9,2,    20.64,2,    24.39,2,     0.01,2,     2.25,2,    1.014,2,    0.580,2, -999.000,9,-999.0000,9,  -999.00,9,   -999.0,9,  -999.00,9,-999.000,9,   2234.4,2,   2335.0,2,  -999.0, -999.00,-999.0000,-999.000,-999.000
    316N145_10,  I07N,   808,  1,     30,     30,2,19950811,0743, 19.0897,  58.7892, 3284,   -999,    146.9,  17.0781,  35.7788,2,  35.7865,2,      3.2,2, 17.0539,      3.9,2,    23.75,2,    23.47,2,     0.01,2,     2.32,2, -999.000,9, -999.000,9, -999.000,9,-999.0000,9,  -999.00,9,   -999.0,9,  -999.00,9,-999.000,9,   2247.1,2,   2342.9,2,  -999.0, -999.00,-999.0000,-999.000,-999.000
    316N145_10,  I07N,   808,  1,     29,     29,2,19950811,0743, 19.0897,  58.7892, 3284,   -999,    187.1,  16.1952,  35.8417,2,  35.8328,2,      1.8,2, 16.1653,      2.2,2,    26.31,2,    22.82,2,     0.00,2,     2.36,2,    0.606,2,    0.362,2, -999.000,9,-999.0000,9,  -999.00,9,   -999.0,9,  -999.00,9,-999.000,9,   2256.7,2,   2341.7,2,  -999.0, -999.00,-999.0000,-999.000,-999.000
    316N145_10,  I07N,   808,  1,     28,     28,2,19950811,0743, 19.0897,  58.7892, 3284,   -999,    212.6,  15.8282,  35.9097,2,  35.9068,2,      1.6,2, 15.7947,      2.8,2,    27.02,2,    23.01,2,     0.00,2,     2.37,2,    0.580,2,    0.351,2, -999.000,9,-999.0000,9,  -999.00,9,   -999.0,9,  -999.00,9,-999.000,9,   2259.5,2,   2337.3,2,  -999.0, -999.00,-999.0000,-999.000,-999.000
    316N145_10,  I07N,   808,  1,     27,     27,2,19950811,0743, 19.0897,  58.7892, 3284,   -999,    227.2,  16.0490,  36.0068,2,  36.0121,2,      1.6,2, 16.0128,      2.2,2,    26.82,2,    22.45,2,     0.00,2,     2.37,2,    0.587,2,    0.359,2, -999.000,9,-999.0000,9,  -999.00,9,   -999.0,9,  -999.00,9,-999.000,9,   2262.2,2,   2351.2,2,  -999.0, -999.00,-999.0000,-999.000,-999.000
    316N145_10,  I07N,   808,  1,     26,     26,2,19950811,0743, 19.0897,  58.7892, 3284,   -999,    260.1,  15.1985,  35.8896,2,  35.8908,2,      1.6,2, 15.1585,      0.8,2,    29.19,2,    19.86,2,     1.94,2,     2.45,2, -999.000,9, -999.000,9, -999.000,9,-999.0000,9,  -999.00,9,   -999.0,9,  -999.00,9,-999.000,9,   2269.0,2,   2352.8,2,  -999.0, -999.00,-999.0000,-999.000,-999.000
    316N145_10,  I07N,   808,  1,     25,     25,2,19950811,0743, 19.0897,  58.7892, 3284,   -999,    312.9,  14.7167,  35.9713,2,  35.9825,2,      1.7,2, 14.6696,      1.1,2,    30.64,2,    23.32,2,     0.06,2,     2.45,2,    0.428,2,    0.264,2, -999.000,9,-999.0000,9,  -999.00,9,   -999.0,9,  -999.00,9,-999.000,9,   2271.5,2,   2351.3,2,  -999.0, -999.00,-999.0000,-999.000,-999.000
    316N145_10,  I07N,   808,  1,     24,     24,2,19950811,0743, 19.0897,  58.7892, 3284,   -999,    342.0,  13.8061,  35.8203,2,  35.8207,2,      1.8,2, 13.7567,      2.8,2,    33.01,2,    25.56,2,     0.00,2,     2.49,2,    0.348,2,    0.201,2, -999.000,9,-999.0000,9,  -999.00,9,   -999.0,9,  -999.00,9,-999.000,9,   2271.3,2,   2347.8,2,  -999.0, -999.00,-999.0000,-999.000,-999.000
    316N145_10,  I07N,   808,  1,     23,     23,2,19950811,0743, 19.0897,  58.7892, 3284,   -999,    502.8,  12.3368,  35.7035,2,  35.7026,2,      3.5,2, 12.2689,      4.2,2,    42.38,2,    27.94,2,     0.00,2,     2.63,2,    0.154,2,    0.090,2, -999.000,9,-999.0000,9,  -999.00,9,   -999.0,9,  -999.00,9,-999.000,9,   2277.6,2,   2352.2,2,  -999.0, -999.00,-999.0000,-999.000,-999.000
    316N145_10,  I07N,   808,  1,     22,     22,2,19950811,0743, 19.0897,  58.7892, 3284,   -999,    598.7,  11.6048,  35.6572,2,  35.6576,2,      4.2,2, 11.5267,      4.9,2,    48.99,2,    30.08,2,     0.00,2,     2.70,2, -999.000,9, -999.000,9, -999.000,9,-999.0000,9,  -999.00,9,   -999.0,9,  -999.00,9,-999.000,9,   2282.2,2,   2350.2,2,  -999.0, -999.00,-999.0000,-999.000,-999.000
    316N145_10,  I07N,   808,  1,     21,     21,2,19950811,0743, 19.0897,  58.7892, 3284,   -999,    750.2,  10.5746,  35.5819,2,  35.5810,2,      3.5,2, 10.4816,      3.7,2,    59.29,2,    32.48,2,     0.00,2,     2.83,2,    0.055,2,    0.032,2, -999.000,9,-999.0000,9,  -999.00,9,   -999.0,9,  -999.00,9,-999.000,9,   2295.4,2,   2363.2,2,  -999.0, -999.00,-999.0000,-999.000,-999.000
    316N145_10,  I07N,   808,  1,     20,     20,2,19950811,0743, 19.0897,  58.7892, 3284,   -999,    849.9,   9.8141,  35.5138,2,  35.5136,2,      3.5,2,  9.7129,      4.1,2,    66.46,2,    34.03,2,     0.00,2,     2.90,2,    0.038,2,    0.023,2, -999.000,9,-999.0000,9,  -999.00,9,   -999.0,9,  -999.00,9,-999.000,9,   2305.0,2,   2363.7,2,  -999.0, -999.00,-999.0000,-999.000,-999.000
    316N145_10,  I07N,   808,  1,     19,     19,2,19950811,0743, 19.0897,  58.7892, 3284,   -999,    951.5,   9.2561,  35.4555,2,  35.4545,2,      4.3,2,  9.1461,      4.4,2,    71.42,2,    35.12,2,     0.00,2,     2.95,2, -999.000,9, -999.000,9, -999.000,9,-999.0000,9,  -999.00,9,   -999.0,9,  -999.00,9,-999.000,9,   2312.7,2,   2372.2,2,  -999.0, -999.00,-999.0000,-999.000,-999.000
    316N145_10,  I07N,   808,  1,     18,     18,2,19950811,0743, 19.0897,  58.7892, 3284,   -999,   1001.6,   8.9148,  35.4204,2,  35.4190,2,      5.4,2,  8.8011,      5.6,2,    74.54,2,    35.74,2,     0.00,2,     2.97,2,    0.021,2,    0.012,2, -999.000,9,-999.0000,9,  -999.00,9,   -999.0,9,  -999.00,9,-999.000,9,   2317.4,2,   2369.8,2,  -999.0, -999.00,-999.0000,-999.000,-999.000
    316N145_10,  I07N,   808,  1,     17,     17,2,19950811,0743, 19.0897,  58.7892, 3284,   -999,   1152.4,   7.7868,  35.2960,2,  35.2932,2,      9.4,2,  7.6645,      9.7,2,    83.97,2,    37.40,2,     0.00,2,     3.05,2,    0.012,2,    0.005,2, -999.000,9,-999.0000,9,  -999.00,9,   -999.0,9,  -999.00,9,-999.000,9,   2326.7,2,   2382.9,2,  -999.0, -999.00,-999.0000,-999.000,-999.000
    316N145_10,  I07N,   808,  1,     16,     16,2,19950811,0743, 19.0897,  58.7892, 3284,   -999,   1298.8,   6.7812,  35.1893,2,  35.1858,2,     20.1,2,  6.6518,     21.7,2,    93.26,2,    37.83,2,     0.00,2,     3.05,2, -999.000,9, -999.000,9, -999.000,9,-999.0000,9,  -999.00,9,   -999.0,9,  -999.00,9,-999.000,9,   2334.4,2,   2385.5,2,  -999.0, -999.00,-999.0000,-999.000,-999.000
    316N145_10,  I07N,   808,  1,     15,     15,2,19950811,0743, 19.0897,  58.7892, 3284,   -999,   1450.3,   5.8687,  35.0917,2,  35.0914,2,     34.6,2,  5.7327,     33.6,2,   102.04,2,    38.17,2,     0.00,2,     3.05,2,    0.003,2,    0.003,2, -999.000,9,-999.0000,9,  -999.00,9,   -999.0,9,  -999.00,9,-999.000,9,   2340.1,2,   2400.3,2,  -999.0, -999.00,-999.0000,-999.000,-999.000
    316N145_10,  I07N,   808,  1,     14,     14,2,19950811,0743, 19.0897,  58.7892, 3284,   -999,   1551.4,   5.1226,  35.0206,2,  35.0205,2,     44.6,2,  4.9847,     45.5,2,   109.94,2,    38.13,2,     0.00,2,     3.02,2,    0.000,2,    0.001,2, -999.000,9,-999.0000,9,  -999.00,9,   -999.0,9,  -999.00,9,-999.000,9,   2345.3,2,   2400.5,2,  -999.0, -999.00,-999.0000,-999.000,-999.000
    316N145_10,  I07N,   808,  1,     13,     13,2,19950811,0743, 19.0897,  58.7892, 3284,   -999,   1651.5,   4.5475,  34.9656,2,  34.9654,2,     55.0,2,  4.4067,     55.5,2,   115.99,2,    38.03,2,     0.00,2,     2.99,2, -999.000,9, -999.000,9, -999.000,9,-999.0000,9,  -999.00,9,   -999.0,9,  -999.00,9,-999.000,9,   2348.6,2,   2414.0,2,  -999.0, -999.00,-999.0000,-999.000,-999.000
    316N145_10,  I07N,   808,  1,     12,     12,2,19950811,0743, 19.0897,  58.7892, 3284,   -999,   1803.2,   3.7645,  34.8983,2,  34.8988,2,     71.6,2,  3.6195,     70.5,2,   124.59,2,    37.79,2,     0.00,2,     2.93,2,    0.000,2,    0.002,2, -999.000,9,-999.0000,9,  -999.00,9,   -999.0,9,  -999.00,9,-999.000,9,   2346.6,3,   2420.3,2,  -999.0, -999.00,-999.0000,-999.000,-999.000
    316N145_10,  I07N,   808,  1,     11,     11,2,19950811,0743, 19.0897,  58.7892, 3284,   -999,   1900.4,   3.4437,  34.8703,2,  34.8707,2,     78.1,2,  3.2941,     77.6,2,   128.04,2,    37.60,2,     0.00,2,     2.90,2,    0.001,2,    0.001,2, -999.000,9,-999.0000,9,  -999.00,9,   -999.0,9,  -999.00,9,-999.000,9,   2353.3,2,   2426.1,2,  -999.0, -999.00,-999.0000,-999.000,-999.000
    316N145_10,  I07N,   808,  1,     10,     10,2,19950811,0743, 19.0897,  58.7892, 3284,   -999,   2052.2,   3.0353,  34.8383,2,  34.8375,2,     87.3,2,  2.8778,     86.1,2,   132.87,2,    37.37,2,     0.00,2,     2.85,2, -999.000,9, -999.000,9, -999.000,9,-999.0000,9,  -999.00,9,   -999.0,9,  -999.00,9,-999.000,9,   2356.5,2,   2413.0,3,  -999.0, -999.00,-999.0000,-999.000,-999.000
    316N145_10,  I07N,   808,  1,      9,      9,2,19950811,0743, 19.0897,  58.7892, 3284,   -999,   2199.4,   2.7163,  34.8127,2,  34.8118,2,     94.2,2,  2.5505,     93.6,2,   136.96,2,    37.18,2,     0.00,2,     2.81,2, -999.000,9, -999.000,9, -999.000,9,-999.0000,9,  -999.00,9,   -999.0,9,  -999.00,9,-999.000,9,   2358.0,2,   2437.0,2,  -999.0, -999.00,-999.0000,-999.000,-999.000
    316N145_10,  I07N,   808,  1,      8,      8,2,19950811,0743, 19.0897,  58.7892, 3284,   -999,   2401.8,   2.3314,  34.7830,2,  34.7827,2,    102.4,2,  2.1536,    102.7,2,   141.47,2,    36.85,2,     0.00,2,     2.76,2, -999.000,9, -999.000,9, -999.000,9,-999.0000,9,  -999.00,9,   -999.0,9,  -999.00,9,-999.000,9,   2360.7,2,   -999.9,5,  -999.0, -999.00,-999.0000,-999.000,-999.000
    316N145_10,  I07N,   808,  1,      7,      7,2,19950811,0743, 19.0897,  58.7892, 3284,   -999,   2549.2,   2.1148,  34.7678,2,  34.7672,2,    107.3,2,  1.9274,    107.6,2,   144.42,2,    36.70,2,     0.00,2,     2.74,2, -999.000,9, -999.000,9, -999.000,9,-999.0000,9,  -999.00,9,   -999.0,9,  -999.00,9,-999.000,9,   2364.1,2,   2453.7,2,  -999.0, -999.00,-999.0000,-999.000,-999.000
    316N145_10,  I07N,   808,  1,      6,      6,2,19950811,0743, 19.0897,  58.7892, 3284,   -999,   2650.7,   2.0171,  34.7600,2,  34.7595,2,    109.8,2,  1.8222,    110.6,2,   145.77,2,    36.61,2,     0.00,2,     2.72,2, -999.000,9, -999.000,9, -999.000,9,-999.0000,9,  -999.00,9,   -999.0,9,  -999.00,9,-999.000,9,   2363.8,2,   -999.9,5,  -999.0, -999.00,-999.0000,-999.000,-999.000
    316N145_10,  I07N,   808,  1,      5,      5,2,19950811,0743, 19.0897,  58.7892, 3284,   -999,   2793.3,   1.9148,  34.7530,2,  34.7518,2,    113.3,2,  1.7085,    113.8,2,   147.13,2,    36.37,2,     0.00,2,     2.70,2, -999.000,9, -999.000,9, -999.000,9,-999.0000,9,  -999.00,9,   -999.0,9,  -999.00,9,-999.000,9,   2365.7,2,   2457.8,2,  -999.0, -999.00,-999.0000,-999.000,-999.000
    316N145_10,  I07N,   808,  1,      4,      4,2,19950811,0743, 19.0897,  58.7892, 3284,   -999,   2996.2,   1.8179,  34.7469,2,  34.7442,2,    116.6,2,  1.5943,    117.4,2,   148.50,2,    36.23,2,     0.00,2,     2.68,2, -999.000,9, -999.000,9, -999.000,9,-999.0000,9,  -999.00,9,   -999.0,9,  -999.00,9,-999.000,9,   2366.0,2,   -999.9,5,  -999.0, -999.00,-999.0000,-999.000,-999.000
    316N145_10,  I07N,   808,  1,      3,      3,2,19950811,0743, 19.0897,  58.7892, 3284,   -999,   3099.0,   1.7860,  34.7439,2,  34.7412,2,    119.0,2,  1.5531,    119.6,2,   148.65,2,    36.13,2,     0.00,2,     2.68,2, -999.000,9, -999.000,9, -999.000,9,-999.0000,9,  -999.00,9,   -999.0,9,  -999.00,9,-999.000,9,   2365.6,2,   -999.9,5,  -999.0, -999.00,-999.0000,-999.000,-999.000
    316N145_10,  I07N,   808,  1,      2,      2,2,19950811,0743, 19.0897,  58.7892, 3284,   -999,   3276.0,   1.7123,  34.7380,2,  34.7373,2,    124.2,2,  1.4634,    123.7,2,   150.02,2,    35.99,2,     0.00,2,     2.64,2, -999.000,9, -999.000,9, -999.000,9,-999.0000,9,  -999.00,9,   -999.0,9,  -999.00,9,-999.000,9,   2364.8,2,   -999.9,5,  -999.0, -999.00,-999.0000,-999.000,-999.000
    316N145_10,  I07N,   808,  1,      1,      1,2,19950811,0743, 19.0897,  58.7892, 3284,   -999,   3328.3,   1.7060,  34.7381,2,  34.7367,2,    122.1,2,  1.4520,    122.1,2,   152.41,2,    35.85,2,     0.00,2,     2.65,2, -999.000,9, -999.000,9, -999.000,9,-999.0000,9,  -999.00,9,   -999.0,9,  -999.00,9,-999.000,9,   2367.2,2,   2465.9,2,  -999.0, -999.00,-999.0000,-999.000,-999.000