BOTTLE,20080821WHPSIOSCD
EXPOCODE,SECT_ID,STNNBR,CASTNO,SAMPNO,BTLNBR,BTLNBR_FLAG_W,DATE,TIME,LATITUDE,LONGITUDE,DEPTH,CTDRAW,CTDPRS,CTDTMP,CTDSAL,CTDSAL_FLAG_W,SALNTY,SALNTY_FLAG_W,CTDOXY,CTDOXY_FLAG_W,THETA,OXYGEN,OXYGEN_FLAG_W,SILCAT,SILCAT_FLAG_W,NITRAT,NITRAT_FLAG_W,NITRIT,NITRIT_FLAG_W,PHSPHT,PHSPHT_FLAG_W,CFC-11,CFC-11_FLAG_W,CFC-12,CFC-12_FLAG_W,TRITUM,TRITUM_FLAG_W,HELIUM,HELIUM_FLAG_W,DELHE3,DELHE3_FLAG_W,DELC14,DELC14_FLAG_W,DELC13,DELC13_FLAG_W,NEON,NEON_FLAG_W,TCARBN,TCARBN_FLAG_W,ALKALI,ALKALI_FLAG_W,C14ERR,DELHER,HELIER,NEONER,TRITER
,,,,,,,,,,,,,DBAR,ITS-90,PSS-78,,PSS-78,,UMOL/KG,,DEG C,UMOL/KG,,UMOL/KG,,UMOL/KG,,UMOL/KG,,UMOL/KG,,PMOL/KG,,PMOL/KG,,TU,,NMOL/KG,,PERCNT,,/MILLE,,/MILLE,,NMOL/KG,,UMOL/KG,,UMOL/KG,,/MILLE,PERCNT,NMOL/KG,NMOL/KG,TU
    316N145_10,  I07N,   851,  1,     36,     36,2,19950821,1532, 24.4987,  57.9933, 2373,   -999,      5.0,  30.8081,  36.9047,2,  36.9061,2,    170.1,2, 30.8071,    187.3,2,     3.04,2,     0.05,2,     0.00,2,     0.28,2,    1.489,2,    0.849,2, -999.000,9,-999.0000,9,  -999.00,9,   -999.0,9,  -999.00,9,-999.000,9,   2023.5,2,   2418.4,2,  -999.0, -999.00,-999.0000,-999.000,-999.000
    316N145_10,  I07N,   851,  1,     35,     35,2,19950821,1532, 24.4987,  57.9933, 2373,   -999,     25.6,  27.6818,  36.6393,2,  36.6333,2,    177.7,2, 27.6761,    188.8,2,     3.73,2,     0.37,2,     0.00,2,     0.44,2, -999.000,9, -999.000,9, -999.000,9,-999.0000,9,  -999.00,9,   -999.0,9,  -999.00,9,-999.000,9,   -999.9,9,   -999.9,9,  -999.0, -999.00,-999.0000,-999.000,-999.000
    316N145_10,  I07N,   851,  1,     34,     34,2,19950821,1532, 24.4987,  57.9933, 2373,   -999,     50.4,  23.4417,  36.5257,2,  36.5170,2,     90.5,2, 23.4314,     84.7,2,     7.36,2,    15.05,2,     0.12,2,     1.36,2, -999.000,9, -999.000,9, -999.000,9,-999.0000,9,  -999.00,9,   -999.0,9,  -999.00,9,-999.000,9,   -999.9,9,   -999.9,9,  -999.0, -999.00,-999.0000,-999.000,-999.000
    316N145_10,  I07N,   851,  1,     33,     33,2,19950821,1532, 24.4987,  57.9933, 2373,   -999,     80.7,  21.1913,  36.1813,2,  36.2315,2,     18.3,2, 21.1759,     13.3,2,    14.99,2,    22.20,2,     0.02,2,     2.03,2,    1.379,2,    0.803,2, -999.000,9,-999.0000,9,  -999.00,9,   -999.0,9,  -999.00,9,-999.000,9,   -999.9,9,   -999.9,9,  -999.0, -999.00,-999.0000,-999.000,-999.000
    316N145_10,  I07N,   851,  1,     32,     32,2,19950821,1532, 24.4987,  57.9933, 2373,   -999,    115.9,  20.4316,  36.2441,2,  36.2423,2,      5.8,2, 20.4099,      7.4,2,    17.75,2,    22.03,2,     0.00,2,     2.13,2,    1.205,2,    0.734,2, -999.000,9,-999.0000,9,  -999.00,9,   -999.0,9,  -999.00,9,-999.000,9,   -999.9,9,   -999.9,9,  -999.0, -999.00,-999.0000,-999.000,-999.000
    316N145_10,  I07N,   851,  1,     31,     31,2,19950821,1532, 24.4987,  57.9933, 2373,   -999,    166.1,  19.4730,  36.6686,2,  36.5969,2,     20.1,2, 19.4428,     20.9,2,    19.81,2,    19.75,2,     0.00,2,     2.01,2,    1.039,2,    0.799,2, -999.000,9,-999.0000,9,  -999.00,9,   -999.0,9,  -999.00,9,-999.000,9,   -999.9,9,   -999.9,9,  -999.0, -999.00,-999.0000,-999.000,-999.000
    316N145_10,  I07N,   851,  1,     30,     30,2,19950821,1532, 24.4987,  57.9933, 2373,   -999,    246.7,  16.0403,  36.1763,2,  36.1816,2,      1.0,2, 16.0010,      1.6,2,    28.12,2,    21.52,2,     0.00,2,     2.32,2,    0.584,2,    0.367,2, -999.000,9,-999.0000,9,  -999.00,9,   -999.0,9,  -999.00,9,-999.000,9,   -999.9,9,   -999.9,9,  -999.0, -999.00,-999.0000,-999.000,-999.000
    316N145_10,  I07N,   851,  1,     29,     29,2,19950821,1532, 24.4987,  57.9933, 2373,   -999,    297.3,  15.3326,  36.1143,2,  36.1127,2,      1.1,2, 15.2865,      1.1,2,    30.87,2,    21.58,2,     0.13,2,     2.38,2, -999.000,9, -999.000,9, -999.000,9,-999.0000,9,  -999.00,9,   -999.0,9,  -999.00,9,-999.000,9,   -999.9,9,   -999.9,9,  -999.0, -999.00,-999.0000,-999.000,-999.000
    316N145_10,  I07N,   851,  1,     28,     28,2,19950821,1532, 24.4987,  57.9933, 2373,   -999,    347.1,  14.8805,  36.0604,2,  36.0550,2,      1.2,2, 14.8277,      1.6,2,    32.42,2,    21.86,2,     0.26,2,     2.42,2,    0.426,2,    0.263,2, -999.000,9,-999.0000,9,  -999.00,9,   -999.0,9,  -999.00,9,-999.000,9,   -999.9,9,   -999.9,9,  -999.0, -999.00,-999.0000,-999.000,-999.000
    316N145_10,  I07N,   851,  1,     27,     27,2,19950821,1532, 24.4987,  57.9933, 2373,   -999,    397.5,  14.1927,  35.9683,2,  35.9664,2,      1.2,2, 14.1340,      1.1,2,    35.17,2,    21.48,2,     1.07,2,     2.49,2, -999.000,9, -999.000,9, -999.000,9,-999.0000,9,  -999.00,9,   -999.0,9,  -999.00,9,-999.000,9,   -999.9,9,   -999.9,9,  -999.0, -999.00,-999.0000,-999.000,-999.000
    316N145_10,  I07N,   851,  1,     26,     26,2,19950821,1532, 24.4987,  57.9933, 2373,   -999,    447.8,  13.4685,  35.8894,2,  35.8869,2,      1.3,2, 13.4045,      1.2,2,    38.27,2,    23.99,2,     0.00,2,     2.53,2,    0.254,2,    0.153,2, -999.000,9,-999.0000,9,  -999.00,9,   -999.0,9,  -999.00,9,-999.000,9,   -999.9,9,   -999.9,9,  -999.0, -999.00,-999.0000,-999.000,-999.000
    316N145_10,  I07N,   851,  1,     25,     25,2,19950821,1532, 24.4987,  57.9933, 2373,   -999,    497.9,  12.7705,  35.7985,2,  35.7971,2,      1.4,2, 12.7016,      1.1,2,    43.27,2,    24.29,2,     0.22,2,     2.63,2, -999.000,9, -999.000,9, -999.000,9,-999.0000,9,  -999.00,9,   -999.0,9,  -999.00,9,-999.000,9,   -999.9,9,   -999.9,9,  -999.0, -999.00,-999.0000,-999.000,-999.000
    316N145_10,  I07N,   851,  1,     24,     24,2,19950821,1532, 24.4987,  57.9933, 2373,   -999,    548.4,  12.3749,  35.7462,2,  35.7456,2,      1.4,2, 12.3005,      1.2,2,    45.85,2,    25.03,2,     0.27,2,     2.65,2,    0.131,2,    0.082,2, -999.000,9,-999.0000,9,  -999.00,9,   -999.0,9,  -999.00,9,-999.000,9,   -999.9,9,   -999.9,9,  -999.0, -999.00,-999.0000,-999.000,-999.000
    316N145_10,  I07N,   851,  1,     23,     23,2,19950821,1532, 24.4987,  57.9933, 2373,   -999,    598.5,  11.9552,  35.6957,2,  35.6926,2,      1.5,2, 11.8757,      1.3,2,    49.12,2,    26.27,2,     0.16,2,     2.69,2, -999.000,9, -999.000,9, -999.000,9,-999.0000,9,  -999.00,9,   -999.0,9,  -999.00,9,-999.000,9,   -999.9,9,   -999.9,9,  -999.0, -999.00,-999.0000,-999.000,-999.000
    316N145_10,  I07N,   851,  1,     22,     22,2,19950821,1532, 24.4987,  57.9933, 2373,   -999,    653.0,  11.5464,  35.6522,2,  35.6516,2,      1.5,2, 11.4612,      1.0,2,    52.21,2,    27.78,2,     0.00,2,     2.72,2,    0.067,2,    0.046,2, -999.000,9,-999.0000,9,  -999.00,9,   -999.0,9,  -999.00,9,-999.000,9,   -999.9,9,   -999.9,9,  -999.0, -999.00,-999.0000,-999.000,-999.000
    316N145_10,  I07N,   851,  1,     21,     21,2,19950821,1532, 24.4987,  57.9933, 2373,   -999,    699.2,  11.0747,  35.6096,2,  35.6082,2,      1.6,2, 10.9857,      1.1,2,    56.35,2,    29.42,2,     0.00,2,     2.76,2, -999.000,9, -999.000,9, -999.000,9,-999.0000,9,  -999.00,9,   -999.0,9,  -999.00,9,-999.000,9,   -999.9,9,   -999.9,9,  -999.0, -999.00,-999.0000,-999.000,-999.000
    316N145_10,  I07N,   851,  1,     20,     20,2,19950821,1532, 24.4987,  57.9933, 2373,   -999,    749.6,  10.7354,  35.5799,2,  35.5771,2,      1.6,2, 10.6416,      1.8,2,    59.62,2,    30.55,2,     0.00,2,     2.79,2, -999.000,9, -999.000,9, -999.000,9,-999.0000,9,  -999.00,9,   -999.0,9,  -999.00,9,-999.000,9,   -999.9,9,   -999.9,9,  -999.0, -999.00,-999.0000,-999.000,-999.000
    316N145_10,  I07N,   851,  1,     19,     19,2,19950821,1532, 24.4987,  57.9933, 2373,   -999,    800.0,  10.2380,  35.5405,2,  35.5371,2,      1.7,2, 10.1405,      1.9,2,    63.75,2,    31.86,2,     0.00,2,     2.82,2,    0.034,2,    0.024,2, -999.000,9,-999.0000,9,  -999.00,9,   -999.0,9,  -999.00,9,-999.000,9,   -999.9,9,   -999.9,9,  -999.0, -999.00,-999.0000,-999.000,-999.000
    316N145_10,  I07N,   851,  1,     18,     18,2,19950821,1532, 24.4987,  57.9933, 2373,   -999,    850.3,   9.8653,  35.5044,2,  35.5044,2,      1.8,2,  9.7637,      2.2,2,    67.20,2,    33.00,2,     0.00,2,     2.86,2, -999.000,9, -999.000,9, -999.000,9,-999.0000,9,  -999.00,9,   -999.0,9,  -999.00,9,-999.000,9,   -999.9,9,   -999.9,9,  -999.0, -999.00,-999.0000,-999.000,-999.000
    316N145_10,  I07N,   851,  1,     17,     17,2,19950821,1532, 24.4987,  57.9933, 2373,   -999,    900.7,   9.5281,  35.4717,2,  35.4705,2,      1.8,2,  9.4224,      1.7,2,    70.30,2,    33.76,2,     0.00,2,     2.88,2, -999.000,9, -999.000,9, -999.000,9,-999.0000,9,  -999.00,9,   -999.0,9,  -999.00,9,-999.000,9,   -999.9,9,   -999.9,9,  -999.0, -999.00,-999.0000,-999.000,-999.000
    316N145_10,  I07N,   851,  1,     16,     16,2,19950821,1532, 24.4987,  57.9933, 2373,   -999,    996.8,   8.8236,  35.4004,2,  35.4002,2,      1.9,2,  8.7112,      2.7,2,    76.71,2,    34.94,2,     0.00,2,     2.95,2,    0.013,2,    0.011,2, -999.000,9,-999.0000,9,  -999.00,9,   -999.0,9,  -999.00,9,-999.000,9,   -999.9,9,   -999.9,9,  -999.0, -999.00,-999.0000,-999.000,-999.000
    316N145_10,  I07N,   851,  1,     15,     15,2,19950821,1532, 24.4987,  57.9933, 2373,   -999,   1097.6,   8.1798,  35.3301,2,  35.3335,2,      3.3,2,  8.0605,      4.3,2,    82.45,2,    35.99,2,     0.00,2,     2.99,2, -999.000,9, -999.000,9, -999.000,9,-999.0000,9,  -999.00,9,   -999.0,9,  -999.00,9,-999.000,9,   -999.9,9,   -999.9,9,  -999.0, -999.00,-999.0000,-999.000,-999.000
    316N145_10,  I07N,   851,  1,     14,     14,2,19950821,1532, 24.4987,  57.9933, 2373,   -999,   1198.1,   7.4338,  35.2541,2,  35.2524,2,      8.4,2,  7.3094,      8.8,2,    89.08,2,    37.18,2,     0.00,2,     3.03,2, -999.000,9, -999.000,9, -999.000,9,-999.0000,9,  -999.00,9,   -999.0,9,  -999.00,9,-999.000,9,   -999.9,9,   -999.9,9,  -999.0, -999.00,-999.0000,-999.000,-999.000
    316N145_10,  I07N,   851,  1,     13,     13,2,19950821,1532, 24.4987,  57.9933, 2373,   -999,   1299.5,   6.7192,  35.1806,2,  35.1772,2,     15.1,2,  6.5903,     16.3,2,    95.92,2,    37.71,2,     0.00,2,     3.04,2,    0.008,2,    0.007,2, -999.000,9,-999.0000,9,  -999.00,9,   -999.0,9,  -999.00,9,-999.000,9,   -999.9,9,   -999.9,9,  -999.0, -999.00,-999.0000,-999.000,-999.000
    316N145_10,  I07N,   851,  1,     12,     12,2,19950821,1532, 24.4987,  57.9933, 2373,   -999,   1395.4,   5.9072,  35.0934,2,  35.0998,2,     24.1,2,  5.7765,     26.0,2,   103.70,2,    37.91,2,     0.00,2,     3.03,2, -999.000,9, -999.000,9, -999.000,9,-999.0000,9,  -999.00,9,   -999.0,9,  -999.00,9,-999.000,9,   -999.9,9,   -999.9,9,  -999.0, -999.00,-999.0000,-999.000,-999.000
    316N145_10,  I07N,   851,  1,     11,     11,2,19950821,1532, 24.4987,  57.9933, 2373,   -999,   1496.8,   5.2882,  35.0387,2,  35.0382,2,     35.5,2,  5.1538,     35.5,2,   110.29,2,    37.96,2,     0.00,2,     3.00,2, -999.000,9, -999.000,9, -999.000,9,-999.0000,9,  -999.00,9,   -999.0,9,  -999.00,9,-999.000,9,   -999.9,9,   -999.9,9,  -999.0, -999.00,-999.0000,-999.000,-999.000
    316N145_10,  I07N,   851,  1,     10,     10,2,19950821,1532, 24.4987,  57.9933, 2373,   -999,   1599.7,   4.6633,  34.9812,2,  34.9807,2,     46.8,2,  4.5261,     46.3,2,   117.12,2,    37.96,2,     0.00,2,     2.97,2, -999.000,9, -999.000,9, -999.000,9,-999.0000,9,  -999.00,9,   -999.0,9,  -999.00,9,-999.000,9,   -999.9,9,   -999.9,9,  -999.0, -999.00,-999.0000,-999.000,-999.000
    316N145_10,  I07N,   851,  1,      9,      9,2,19950821,1532, 24.4987,  57.9933, 2373,   -999,   1700.0,   4.2870,  34.9461,2,  34.9461,2,     54.2,2,  4.1449,     52.8,2,   121.09,2,    37.92,2,     0.00,2,     2.95,2, -999.000,9, -999.000,9, -999.000,9,-999.0000,9,  -999.00,9,   -999.0,9,  -999.00,9,-999.000,9,   -999.9,9,   -999.9,9,  -999.0, -999.00,-999.0000,-999.000,-999.000
    316N145_10,  I07N,   851,  1,      8,      8,2,19950821,1532, 24.4987,  57.9933, 2373,   -999,   1800.7,   3.9987,  34.9197,2,  34.9207,2,     60.2,2,  3.8508,     58.8,2,   124.35,2,    37.83,2,     0.00,2,     2.92,2, -999.000,9, -999.000,9, -999.000,9,-999.0000,9,  -999.00,9,   -999.0,9,  -999.00,9,-999.000,9,   -999.9,9,   -999.9,9,  -999.0, -999.00,-999.0000,-999.000,-999.000
    316N145_10,  I07N,   851,  1,      7,      7,2,19950821,1532, 24.4987,  57.9933, 2373,   -999,   1899.8,   3.5376,  34.8831,2,  34.8812,2,     69.7,2,  3.3868,     69.6,2,   129.68,2,    37.54,2,     0.00,2,     2.88,2, -999.000,9, -999.000,9, -999.000,9,-999.0000,9,  -999.00,9,   -999.0,9,  -999.00,9,-999.000,9,   -999.9,9,   -999.9,9,  -999.0, -999.00,-999.0000,-999.000,-999.000
    316N145_10,  I07N,   851,  1,      6,      6,2,19950821,1532, 24.4987,  57.9933, 2373,   -999,   2001.3,   3.2582,  34.8565,2,  34.8561,2,     77.3,2,  3.1020,     75.6,2,   133.18,2,    37.35,2,     0.00,2,     2.84,2, -999.000,9, -999.000,9, -999.000,9,-999.0000,9,  -999.00,9,   -999.0,9,  -999.00,9,-999.000,9,   -999.9,9,   -999.9,9,  -999.0, -999.00,-999.0000,-999.000,-999.000
    316N145_10,  I07N,   851,  1,      5,      5,2,19950821,1532, 24.4987,  57.9933, 2373,   -999,   2102.6,   2.9241,  34.8301,2,  34.8290,2,     85.6,2,  2.7638,     83.9,2,   136.90,2,    37.17,2,     0.00,2,     2.80,2, -999.000,9, -999.000,9, -999.000,9,-999.0000,9,  -999.00,9,   -999.0,9,  -999.00,9,-999.000,9,   -999.9,9,   -999.9,9,  -999.0, -999.00,-999.0000,-999.000,-999.000
    316N145_10,  I07N,   851,  1,      4,      4,2,19950821,1532, 24.4987,  57.9933, 2373,   -999,   2198.9,   2.7346,  34.8134,2,  34.8178,3,     90.0,2,  2.5685,     88.2,2,   138.93,2,    37.02,2,     0.00,2,     2.78,2, -999.000,9, -999.000,9, -999.000,9,-999.0000,9,  -999.00,9,   -999.0,9,  -999.00,9,-999.000,9,   -999.9,9,   -999.9,9,  -999.0, -999.00,-999.0000,-999.000,-999.000
    316N145_10,  I07N,   851,  1,      3,      3,2,19950821,1532, 24.4987,  57.9933, 2373,   -999,   2300.8,   2.5261,  34.7992,2,  34.7967,2,     95.3,2,  2.3542,     94.3,2,   141.74,2,    36.84,2,     0.00,2,     2.75,2,    0.001,2,    0.007,2, -999.000,9,-999.0000,9,  -999.00,9,   -999.0,9,  -999.00,9,-999.000,9,   -999.9,9,   -999.9,9,  -999.0, -999.00,-999.0000,-999.000,-999.000
    316N145_10,  I07N,   851,  1,      2,      2,2,19950821,1532, 24.4987,  57.9933, 2373,   -999,   2356.6,   2.3998,  34.7889,2,  34.7891,2,     98.0,2,  2.2249,     96.8,2,   143.22,2,    36.74,2,     0.00,2,     2.73,2, -999.000,9, -999.000,9, -999.000,9,-999.0000,9,  -999.00,9,   -999.0,9,  -999.00,9,-999.000,9,   -999.9,9,   -999.9,9,  -999.0, -999.00,-999.0000,-999.000,-999.000
    316N145_10,  I07N,   851,  1,      1,      1,2,19950821,1532, 24.4987,  57.9933, 2373,   -999,   2407.5,   2.3391,  34.7840,2,  34.7853,2,    100.3,2,  2.1607,     98.3,2,   144.13,2,    36.70,2,     0.00,2,     2.72,2,    0.002,2,    0.008,2, -999.000,9,-999.0000,9,  -999.00,9,   -999.0,9,  -999.00,9,-999.000,9,   -999.9,9,   -999.9,9,  -999.0, -999.00,-999.0000,-999.000,-999.000