BOTTLE,20080821WHPSIOSCD
EXPOCODE,SECT_ID,STNNBR,CASTNO,SAMPNO,BTLNBR,BTLNBR_FLAG_W,DATE,TIME,LATITUDE,LONGITUDE,DEPTH,CTDRAW,CTDPRS,CTDTMP,CTDSAL,CTDSAL_FLAG_W,SALNTY,SALNTY_FLAG_W,CTDOXY,CTDOXY_FLAG_W,THETA,OXYGEN,OXYGEN_FLAG_W,SILCAT,SILCAT_FLAG_W,NITRAT,NITRAT_FLAG_W,NITRIT,NITRIT_FLAG_W,PHSPHT,PHSPHT_FLAG_W,CFC-11,CFC-11_FLAG_W,CFC-12,CFC-12_FLAG_W,TRITUM,TRITUM_FLAG_W,HELIUM,HELIUM_FLAG_W,DELHE3,DELHE3_FLAG_W,DELC14,DELC14_FLAG_W,DELC13,DELC13_FLAG_W,NEON,NEON_FLAG_W,TCARBN,TCARBN_FLAG_W,ALKALI,ALKALI_FLAG_W,C14ERR,DELHER,HELIER,NEONER,TRITER
,,,,,,,,,,,,,DBAR,ITS-90,PSS-78,,PSS-78,,UMOL/KG,,DEG C,UMOL/KG,,UMOL/KG,,UMOL/KG,,UMOL/KG,,UMOL/KG,,PMOL/KG,,PMOL/KG,,TU,,NMOL/KG,,PERCNT,,/MILLE,,/MILLE,,NMOL/KG,,UMOL/KG,,UMOL/KG,,/MILLE,PERCNT,NMOL/KG,NMOL/KG,TU
    316N145_10,  I07N,   769,  1,     36,     36,2,19950801,0045,  3.5913,  58.7945, 4469,   -999,      8.7,  27.6025,  35.5024,2,  35.5024,2,    204.6,2, 27.6007,    201.1,2,     2.98,2,     0.11,2,     0.00,2,     0.19,2,    1.666,2,    0.935,2, -999.000,9,-999.0000,9,  -999.00,9,   -999.0,9,  -999.00,9,-999.000,9,   1975.1,2,   2322.1,2,  -999.0, -999.00,-999.0000,-999.000,-999.000
    316N145_10,  I07N,   769,  1,     35,     35,2,19950801,0045,  3.5913,  58.7945, 4469,   -999,     42.2,  26.8125,  35.2895,2,  35.2929,2,    202.1,2, 26.8031,    202.2,2,     3.65,2,     0.20,2,     0.00,2,     0.21,2,    1.719,2,    0.971,2, -999.000,9,-999.0000,9,  -999.00,9,   -999.0,9,  -999.00,9,-999.000,9,   -999.9,9,   -999.9,9,  -999.0, -999.00,-999.0000,-999.000,-999.000
    316N145_10,  I07N,   769,  1,     34,     34,2,19950801,0045,  3.5913,  58.7945, 4469,   -999,     62.2,  26.7705,  35.3003,2,  35.3067,2,    199.2,2, 26.7566,    200.4,2,     3.64,2,     0.33,2,     0.01,2,     0.22,2,    1.714,6,    0.962,6, -999.000,9,-999.0000,9,  -999.00,9,   -999.0,9,  -999.00,9,-999.000,9,   -999.9,9,   -999.9,9,  -999.0, -999.00,-999.0000,-999.000,-999.000
    316N145_10,  I07N,   769,  1,     33,     33,2,19950801,0045,  3.5913,  58.7945, 4469,   -999,     92.0,  27.2436,  35.5770,2,  35.5981,2,    194.7,2, 27.2225,    193.9,2,     3.44,2,     0.45,2,     0.06,2,     0.25,2,    1.675,2,    0.941,2, -999.000,9,-999.0000,9,  -999.00,9,   -999.0,9,  -999.00,9,-999.000,9,   -999.9,9,   -999.9,9,  -999.0, -999.00,-999.0000,-999.000,-999.000
    316N145_10,  I07N,   769,  1,     32,     32,2,19950801,0045,  3.5913,  58.7945, 4469,   -999,    112.1,  25.6556,  35.8355,2,  35.7694,3,    175.6,2, 25.6310,    135.9,2,     6.54,2,     7.64,2,     0.28,2,     0.75,2,    1.528,2,    0.869,2, -999.000,9,-999.0000,9,  -999.00,9,   -999.0,9,  -999.00,9,-999.000,9,   -999.9,9,   -999.9,9,  -999.0, -999.00,-999.0000,-999.000,-999.000
    316N145_10,  I07N,   769,  1,     31,     31,2,19950801,0045,  3.5913,  58.7945, 4469,   -999,    121.9,  21.2238,  35.4522,2,  35.4521,2,    109.6,2, 21.2004,    107.4,2,    10.33,2,    14.48,2,     0.02,2,     1.10,2,    1.546,2,    0.847,2, -999.000,9,-999.0000,9,  -999.00,9,   -999.0,9,  -999.00,9,-999.000,9,   -999.9,9,   -999.9,9,  -999.0, -999.00,-999.0000,-999.000,-999.000
    316N145_10,  I07N,   769,  1,     30,     30,2,19950801,0045,  3.5913,  58.7945, 4469,   -999,    151.4,  18.3499,  35.2568,2,  35.2589,2,    113.7,2, 18.3237,    115.5,2,    12.91,2,    15.47,2,     0.00,2,     1.14,2,    1.508,2,    0.807,2, -999.000,9,-999.0000,9,  -999.00,9,   -999.0,9,  -999.00,9,-999.000,9,   -999.9,9,   -999.9,9,  -999.0, -999.00,-999.0000,-999.000,-999.000
    316N145_10,  I07N,   769,  1,     29,     29,2,19950801,0045,  3.5913,  58.7945, 4469,   -999,    192.1,  16.7709,  35.2529,2,  35.2561,2,    104.0,2, 16.7396,    102.3,2,    15.32,2,    18.08,2,     0.00,2,     1.33,2,    1.406,2,    0.737,2, -999.000,9,-999.0000,9,  -999.00,9,   -999.0,9,  -999.00,9,-999.000,9,   -999.9,9,   -999.9,9,  -999.0, -999.00,-999.0000,-999.000,-999.000
    316N145_10,  I07N,   769,  1,     28,     28,2,19950801,0045,  3.5913,  58.7945, 4469,   -999,    222.4,  15.0147,  35.2141,2,  35.2144,2,    106.2,2, 14.9811,    111.8,2,    16.34,2,    18.54,2,     0.00,2,     1.35,2,    1.403,2,    0.731,2, -999.000,9,-999.0000,9,  -999.00,9,   -999.0,9,  -999.00,9,-999.000,9,   -999.9,9,   -999.9,9,  -999.0, -999.00,-999.0000,-999.000,-999.000
    316N145_10,  I07N,   769,  1,     27,     27,2,19950801,0045,  3.5913,  58.7945, 4469,   -999,    322.8,  12.9783,  35.2239,2,  35.2244,2,     77.8,2, 12.9338,     87.1,2,    21.68,2,    23.18,2,     0.00,2,     1.73,2,    0.997,2,    0.514,2, -999.000,9,-999.0000,9,  -999.00,9,   -999.0,9,  -999.00,9,-999.000,9,   -999.9,9,   -999.9,9,  -999.0, -999.00,-999.0000,-999.000,-999.000
    316N145_10,  I07N,   769,  1,     26,     26,2,19950801,0045,  3.5913,  58.7945, 4469,   -999,    387.4,  11.7780,  35.2118,2,  35.1870,2,     84.0,2, 11.7277,     75.5,2,    27.02,2,    26.41,2,     0.00,2,     1.94,2,    0.663,2,    0.340,2, -999.000,9,-999.0000,9,  -999.00,9,   -999.0,9,  -999.00,9,-999.000,9,   -999.9,9,   -999.9,9,  -999.0, -999.00,-999.0000,-999.000,-999.000
    316N145_10,  I07N,   769,  1,     25,     25,2,19950801,0045,  3.5913,  58.7945, 4469,   -999,    451.7,  10.5297,  35.1102,2,  35.1113,2,     64.1,2, 10.4750,     64.1,2,    34.10,2,    29.80,2,     0.00,2,     2.16,2,    0.329,2,    0.173,2, -999.000,9,-999.0000,9,  -999.00,9,   -999.0,9,  -999.00,9,-999.000,9,   -999.9,9,   -999.9,9,  -999.0, -999.00,-999.0000,-999.000,-999.000
    316N145_10,  I07N,   769,  1,     24,     24,2,19950801,0045,  3.5913,  58.7945, 4469,   -999,    553.5,  10.0739,  35.1123,2,  35.1135,2,     56.4,2, 10.0082,     58.1,2,    39.96,2,    31.06,2,     0.00,2,     2.30,2,    0.217,2,    0.119,2, -999.000,9,-999.0000,9,  -999.00,9,   -999.0,9,  -999.00,9,-999.000,9,   -999.9,9,   -999.9,9,  -999.0, -999.00,-999.0000,-999.000,-999.000
    316N145_10,  I07N,   769,  1,     23,     23,2,19950801,0045,  3.5913,  58.7945, 4469,   -999,    649.3,   9.4603,  35.1274,2,  35.1288,2,     45.1,2,  9.3858,     45.6,2,    49.63,2,    33.11,2,     0.00,2,     2.49,2,    0.091,2,    0.056,2, -999.000,9,-999.0000,9,  -999.00,9,   -999.0,9,  -999.00,9,-999.000,9,   -999.9,9,   -999.9,9,  -999.0, -999.00,-999.0000,-999.000,-999.000
    316N145_10,  I07N,   769,  1,     22,     22,2,19950801,0045,  3.5913,  58.7945, 4469,   -999,    723.9,   8.9358,  35.1019,2,  35.1030,2,     41.9,2,  8.8551,     42.5,2,    56.36,2,    34.25,2,     0.00,2,     2.58,2,    0.050,2,    0.035,2, -999.000,9,-999.0000,9,  -999.00,9,   -999.0,9,  -999.00,9,-999.000,9,   -999.9,9,   -999.9,9,  -999.0, -999.00,-999.0000,-999.000,-999.000
    316N145_10,  I07N,   769,  1,     21,     21,2,19950801,0045,  3.5913,  58.7945, 4469,   -999,    850.0,   8.5193,  35.1341,2,  35.1347,2,     36.7,2,  8.4264,     36.6,2,    64.48,2,    35.19,2,     0.00,2,     2.68,2,    0.028,2,    0.019,2, -999.000,9,-999.0000,9,  -999.00,9,   -999.0,9,  -999.00,9,-999.000,9,   -999.9,9,   -999.9,9,  -999.0, -999.00,-999.0000,-999.000,-999.000
    316N145_10,  I07N,   769,  1,     20,     20,2,19950801,0045,  3.5913,  58.7945, 4469,   -999,   1041.0,   7.3380,  35.0770,2,  35.0761,2,     44.3,2,  7.2320,     43.9,2,    77.49,2,    36.14,2,     0.00,2,     2.76,2,    0.011,6,    0.006,6, -999.000,9,-999.0000,9,  -999.00,9,   -999.0,9,  -999.00,9,-999.000,9,   -999.9,9,   -999.9,9,  -999.0, -999.00,-999.0000,-999.000,-999.000
    316N145_10,  I07N,   769,  1,     19,     19,2,19950801,0045,  3.5913,  58.7945, 4469,   -999,   1272.7,   6.0953,  35.0129,2,  35.0153,2,     54.5,2,  5.9755,     54.8,2,    90.74,2,    36.77,2,     0.00,2,     2.80,2,    0.003,2,    0.008,2, -999.000,9,-999.0000,9,  -999.00,9,   -999.0,9,  -999.00,9,-999.000,9,   -999.9,9,   -999.9,9,  -999.0, -999.00,-999.0000,-999.000,-999.000
    316N145_10,  I07N,   769,  1,     18,     18,2,19950801,0045,  3.5913,  58.7945, 4469,   -999,   1499.8,   4.3983,  34.8830,2,  34.8853,2,     85.4,2,  4.2739,     85.7,2,   106.22,2,    36.50,2,     0.00,2,     2.73,2,   -0.002,2,    0.000,2, -999.000,9,-999.0000,9,  -999.00,9,   -999.0,9,  -999.00,9,-999.000,9,   -999.9,9,   -999.9,9,  -999.0, -999.00,-999.0000,-999.000,-999.000
    316N145_10,  I07N,   769,  1,     17,     17,2,19950801,0045,  3.5913,  58.7945, 4469,   -999,   1697.4,   3.5462,  34.8241,2,  34.8236,2,    109.0,2,  3.4140,    108.0,2,   112.96,2,    35.76,2,     0.00,2,     2.64,2,   -0.002,2,    0.000,2, -999.000,9,-999.0000,9,  -999.00,9,   -999.0,9,  -999.00,9,-999.000,9,   -999.9,9,   -999.9,9,  -999.0, -999.00,-999.0000,-999.000,-999.000
    316N145_10,  I07N,   769,  1,     16,     16,2,19950801,0045,  3.5913,  58.7945, 4469,   -999,   1949.5,   2.9105,  34.7942,2,  34.7947,2,    121.1,2,  2.7644,    122.3,2,   120.09,2,    35.44,2,     0.00,2,     2.61,2,   -0.003,2,    0.000,2, -999.000,9,-999.0000,9,  -999.00,9,   -999.0,9,  -999.00,9,-999.000,9,   -999.9,9,   -999.9,9,  -999.0, -999.00,-999.0000,-999.000,-999.000
    316N145_10,  I07N,   769,  1,     15,     15,2,19950801,0045,  3.5913,  58.7945, 4469,   -999,   2151.8,   2.3767,  34.7715,2,  34.7708,2,    136.2,2,  2.2208,    136.0,2,   126.21,2,    35.08,2,     0.00,2,     2.56,2,   -0.003,2,    0.000,2, -999.000,9,-999.0000,9,  -999.00,9,   -999.0,9,  -999.00,9,-999.000,9,   -999.9,9,   -999.9,9,  -999.0, -999.00,-999.0000,-999.000,-999.000
    316N145_10,  I07N,   769,  1,     14,     14,2,19950801,0045,  3.5913,  58.7945, 4469,   -999,   2299.6,   2.2882,  34.7683,2,  34.7666,2,    139.0,2,  2.1206,    139.0,2,   127.44,2,    34.99,2,     0.00,2,     2.54,2, -999.000,9, -999.000,9, -999.000,9,-999.0000,9,  -999.00,9,   -999.0,9,  -999.00,9,-999.000,9,   -999.9,9,   -999.9,9,  -999.0, -999.00,-999.0000,-999.000,-999.000
    316N145_10,  I07N,   769,  1,     13,     13,2,19950801,0045,  3.5913,  58.7945, 4469,   -999,   2379.9,   2.1502,  34.7601,2,  34.7599,2,    144.1,2,  1.9777,    143.4,2,   128.68,2,    34.86,2,     0.00,2,     2.52,2, -999.000,9, -999.000,9, -999.000,9,-999.0000,9,  -999.00,9,   -999.0,9,  -999.00,9,-999.000,9,   -999.9,9,   -999.9,9,  -999.0, -999.00,-999.0000,-999.000,-999.000
    316N145_10,  I07N,   769,  1,     12,     12,2,19950801,0045,  3.5913,  58.7945, 4469,   -999,   2602.7,   1.9751,  34.7506,2,  34.7519,2,    149.0,2,  1.7855,    149.3,2,   130.11,2,    34.59,2,     0.00,2,     2.47,2, -999.000,9, -999.000,9, -999.000,9,-999.0000,9,  -999.00,9,   -999.0,9,  -999.00,9,-999.000,9,   -999.9,9,   -999.9,9,  -999.0, -999.00,-999.0000,-999.000,-999.000
    316N145_10,  I07N,   769,  1,     11,     11,2,19950801,0045,  3.5913,  58.7945, 4469,   -999,   2802.2,   1.8844,  34.7469,2,  34.7470,2,    153.1,2,  1.6780,    153.2,2,   130.44,2,    34.41,2,     0.00,2,     2.48,2, -999.000,9, -999.000,9, -999.000,9,-999.0000,9,  -999.00,9,   -999.0,9,  -999.00,9,-999.000,9,   -999.9,9,   -999.9,9,  -999.0, -999.00,-999.0000,-999.000,-999.000
    316N145_10,  I07N,   769,  1,     10,     10,2,19950801,0045,  3.5913,  58.7945, 4469,   -999,   2973.9,   1.8104,  34.7428,2,  34.7415,2,    156.1,2,  1.5891,    157.3,2,   130.77,2,    34.33,2,     0.00,2,     2.47,2, -999.000,9, -999.000,9, -999.000,9,-999.0000,9,  -999.00,9,   -999.0,9,  -999.00,9,-999.000,9,   -999.9,9,   -999.9,9,  -999.0, -999.00,-999.0000,-999.000,-999.000
    316N145_10,  I07N,   769,  1,      9,      9,2,19950801,0045,  3.5913,  58.7945, 4469,   -999,   3203.4,   1.7276,  34.7378,2,  34.7375,2,    162.2,2,  1.4856,    161.8,2,   130.91,2,    34.15,2,     0.00,2,     2.45,2, -999.000,9, -999.000,9, -999.000,9,-999.0000,9,  -999.00,9,   -999.0,9,  -999.00,9,-999.000,9,   -999.9,9,   -999.9,9,  -999.0, -999.00,-999.0000,-999.000,-999.000
    316N145_10,  I07N,   769,  1,      8,      8,2,19950801,0045,  3.5913,  58.7945, 4469,   -999,   3400.9,   1.6636,  34.7346,2,  34.7344,2,    165.6,2,  1.4033,    165.0,2,   131.06,2,    34.02,2,     0.00,2,     2.43,2, -999.000,9, -999.000,9, -999.000,9,-999.0000,9,  -999.00,9,   -999.0,9,  -999.00,9,-999.000,9,   -999.9,9,   -999.9,9,  -999.0, -999.00,-999.0000,-999.000,-999.000
    316N145_10,  I07N,   769,  1,      7,      7,2,19950801,0045,  3.5913,  58.7945, 4469,   -999,   3598.5,   1.6066,  34.7313,2,  34.7314,2,    168.4,2,  1.3275,    168.8,2,   131.02,2,    33.84,2,     0.00,2,     2.41,2, -999.000,9, -999.000,9, -999.000,9,-999.0000,9,  -999.00,9,   -999.0,9,  -999.00,9,-999.000,9,   -999.9,9,   -999.9,9,  -999.0, -999.00,-999.0000,-999.000,-999.000
    316N145_10,  I07N,   769,  1,      6,      6,2,19950801,0045,  3.5913,  58.7945, 4469,   -999,   3796.9,   1.5630,  34.7299,2,  34.7289,2,    170.9,2,  1.2640,    171.6,2,   130.99,2,    33.71,2,     0.00,2,     2.40,2, -999.000,9, -999.000,9, -999.000,9,-999.0000,9,  -999.00,9,   -999.0,9,  -999.00,9,-999.000,9,   -999.9,9,   -999.9,9,  -999.0, -999.00,-999.0000,-999.000,-999.000
    316N145_10,  I07N,   769,  1,      5,      5,2,19950801,0045,  3.5913,  58.7945, 4469,   -999,   4006.1,   1.4824,  34.7255,2,  34.7251,2,    174.5,2,  1.1632,    175.4,2,   131.14,2,    33.62,2,     0.00,2,     2.39,2, -999.000,9, -999.000,9, -999.000,9,-999.0000,9,  -999.00,9,   -999.0,9,  -999.00,9,-999.000,9,   -999.9,9,   -999.9,9,  -999.0, -999.00,-999.0000,-999.000,-999.000
    316N145_10,  I07N,   769,  1,      4,      4,2,19950801,0045,  3.5913,  58.7945, 4469,   -999,   4206.4,   1.4528,  34.7233,2,  34.7241,2,    177.5,2,  1.1124,    178.0,2,   131.10,2,    33.49,2,     0.00,2,     2.38,2, -999.000,9, -999.000,9, -999.000,9,-999.0000,9,  -999.00,9,   -999.0,9,  -999.00,9,-999.000,9,   -999.9,9,   -999.9,9,  -999.0, -999.00,-999.0000,-999.000,-999.000
    316N145_10,  I07N,   769,  1,      3,      3,2,19950801,0045,  3.5913,  58.7945, 4469,   -999,   4400.3,   1.4265,  34.7221,2,  34.7218,2,    180.2,2,  1.0651,    179.8,2,   131.06,2,    33.46,2,     0.00,2,     2.37,2, -999.000,9, -999.000,9, -999.000,9,-999.0000,9,  -999.00,9,   -999.0,9,  -999.00,9,-999.000,9,   -999.9,9,   -999.9,9,  -999.0, -999.00,-999.0000,-999.000,-999.000
    316N145_10,  I07N,   769,  1,      2,      2,2,19950801,0045,  3.5913,  58.7945, 4469,   -999,   4513.2,   1.4077,  34.7218,2,  34.7208,2,    181.6,2,  1.0340,    181.7,2,   130.85,2,    33.33,2,     0.00,2,     2.37,2, -999.000,9, -999.000,9, -999.000,9,-999.0000,9,  -999.00,9,   -999.0,9,  -999.00,9,-999.000,9,   -999.9,9,   -999.9,9,  -999.0, -999.00,-999.0000,-999.000,-999.000
    316N145_10,  I07N,   769,  1,      1,      1,2,19950801,0045,  3.5913,  58.7945, 4469,   -999,   4578.4,   1.4013,  34.7201,2,  34.7214,2,    182.7,2,  1.0203,    182.1,2,   130.99,2,    33.38,2,     0.00,2,     2.37,2, -999.000,9, -999.000,9, -999.000,9,-999.0000,9,  -999.00,9,   -999.0,9,  -999.00,9,-999.000,9,   -999.9,9,   -999.9,9,  -999.0, -999.00,-999.0000,-999.000,-999.000