BOTTLE,20080821WHPSIOSCD
EXPOCODE,SECT_ID,STNNBR,CASTNO,SAMPNO,BTLNBR,BTLNBR_FLAG_W,DATE,TIME,LATITUDE,LONGITUDE,DEPTH,CTDRAW,CTDPRS,CTDTMP,CTDSAL,CTDSAL_FLAG_W,SALNTY,SALNTY_FLAG_W,CTDOXY,CTDOXY_FLAG_W,THETA,OXYGEN,OXYGEN_FLAG_W,SILCAT,SILCAT_FLAG_W,NITRAT,NITRAT_FLAG_W,NITRIT,NITRIT_FLAG_W,PHSPHT,PHSPHT_FLAG_W,CFC-11,CFC-11_FLAG_W,CFC-12,CFC-12_FLAG_W,TRITUM,TRITUM_FLAG_W,HELIUM,HELIUM_FLAG_W,DELHE3,DELHE3_FLAG_W,DELC14,DELC14_FLAG_W,DELC13,DELC13_FLAG_W,NEON,NEON_FLAG_W,TCARBN,TCARBN_FLAG_W,ALKALI,ALKALI_FLAG_W,C14ERR,DELHER,HELIER,NEONER,TRITER
,,,,,,,,,,,,,DBAR,ITS-90,PSS-78,,PSS-78,,UMOL/KG,,DEG C,UMOL/KG,,UMOL/KG,,UMOL/KG,,UMOL/KG,,UMOL/KG,,PMOL/KG,,PMOL/KG,,TU,,NMOL/KG,,PERCNT,,/MILLE,,/MILLE,,NMOL/KG,,UMOL/KG,,UMOL/KG,,/MILLE,PERCNT,NMOL/KG,NMOL/KG,TU
    316N145_10,  I07N,   734,  1,     36,     36,2,19950722,1402, -8.7343,  52.1455, 4115,   -999,      3.1,  26.1031,  35.1387,2,  35.1380,2,    203.0,2, 26.1027,    199.7,2,     3.97,2,     1.07,2,     0.04,2,     0.25,2,    1.721,2,    0.958,2, -999.000,9,-999.0000,9,  -999.00,9,   -999.0,9,  -999.00,9,-999.000,9,   -999.9,5,   2301.4,2,  -999.0, -999.00,-999.0000,-999.000,-999.000
    316N145_10,  I07N,   734,  1,     35,     35,2,19950722,1402, -8.7343,  52.1455, 4115,   -999,     22.0,  26.0996,  35.1407,2,  35.1378,2,    199.1,2, 26.0949,    198.4,2,     3.95,2,     1.11,2,     0.04,2,     0.25,2, -999.000,9, -999.000,9, -999.000,9,-999.0000,9,  -999.00,9,   -999.0,9,  -999.00,9,-999.000,9,   -999.9,5,   2300.1,2,  -999.0, -999.00,-999.0000,-999.000,-999.000
    316N145_10,  I07N,   734,  1,     34,     34,2,19950722,1402, -8.7343,  52.1455, 4115,   -999,     61.8,  18.2563,  35.1212,2,  35.1201,2,     91.4,2, 18.2457,     93.9,2,    16.25,2,    17.36,2,     0.21,2,     1.25,2,    1.394,2,    0.750,2, -999.000,9,-999.0000,9,  -999.00,9,   -999.0,9,  -999.00,9,-999.000,9,   -999.9,5,   2305.7,2,  -999.0, -999.00,-999.0000,-999.000,-999.000
    316N145_10,  I07N,   734,  1,     33,     33,2,19950722,1402, -8.7343,  52.1455, 4115,   -999,     92.1,  17.5302,  35.1188,2,  35.1164,2,     89.0,2, 17.5149,     89.6,2,    17.43,2,    18.77,2,     0.03,2,     1.33,2,    1.334,2,    0.714,2, -999.000,9,-999.0000,9,  -999.00,9,   -999.0,9,  -999.00,9,-999.000,9,   -999.9,5,   2308.1,2,  -999.0, -999.00,-999.0000,-999.000,-999.000
    316N145_10,  I07N,   734,  1,     32,     32,2,19950722,1402, -8.7343,  52.1455, 4115,   -999,    120.8,  16.4581,  35.1274,2,  35.1243,2,     94.2,2, 16.4388,     92.8,2,    18.27,2,    19.37,2,     0.01,2,     1.38,2,    1.296,2,    0.716,2, -999.000,9,-999.0000,9,  -999.00,9,   -999.0,9,  -999.00,9,-999.000,9,   -999.9,5,   2312.1,2,  -999.0, -999.00,-999.0000,-999.000,-999.000
    316N145_10,  I07N,   734,  1,     31,     31,2,19950722,1402, -8.7343,  52.1455, 4115,   -999,    150.4,  14.8406,  35.1253,2,  35.1221,2,    104.0,2, 14.8182,    104.0,2,    18.59,2,    19.91,2,     0.00,2,     1.41,2, -999.000,9, -999.000,9, -999.000,9,-999.0000,9,  -999.00,9,   -999.0,9,  -999.00,9,-999.000,9,   -999.9,5,   2316.5,2,  -999.0, -999.00,-999.0000,-999.000,-999.000
    316N145_10,  I07N,   734,  1,     30,     30,2,19950722,1402, -8.7343,  52.1455, 4115,   -999,    181.9,  13.8194,  35.1181,2,  35.1233,2,    117.3,2, 13.7935,    116.9,2,    17.88,2,    19.51,2,     0.00,2,     1.40,2,    1.290,2,    0.671,2, -999.000,9,-999.0000,9,  -999.00,9,   -999.0,9,  -999.00,9,-999.000,9,   -999.9,5,   2314.8,2,  -999.0, -999.00,-999.0000,-999.000,-999.000
    316N145_10,  I07N,   734,  1,     29,     29,2,19950722,1402, -8.7343,  52.1455, 4115,   -999,    201.8,  13.5686,  35.1138,2,  35.1086,2,    122.0,2, 13.5402,    118.3,2,    18.03,2,    19.69,2,     0.00,2,     1.41,2, -999.000,9, -999.000,9, -999.000,9,-999.0000,9,  -999.00,9,   -999.0,9,  -999.00,9,-999.000,9,   -999.9,5,   2316.4,2,  -999.0, -999.00,-999.0000,-999.000,-999.000
    316N145_10,  I07N,   734,  1,     28,     28,2,19950722,1402, -8.7343,  52.1455, 4115,   -999,    252.4,  12.3301,  35.0393,2,  35.0392,2,    129.9,2, 12.2967,    128.0,2,    19.04,2,    20.36,2,     0.00,2,     1.45,2,    1.181,2,    0.614,2, -999.000,9,-999.0000,9,  -999.00,9,   -999.0,9,  -999.00,9,-999.000,9,   -999.9,5,   2315.5,2,  -999.0, -999.00,-999.0000,-999.000,-999.000
    316N145_10,  I07N,   734,  1,     27,     27,2,19950722,1402, -8.7343,  52.1455, 4115,   -999,    304.9,  11.4941,  34.9794,2,  34.9809,2,    132.9,2, 11.4554,    133.0,2,    19.87,2,    21.33,2,     0.00,2,     1.51,2,    1.152,2,    0.567,2, -999.000,9,-999.0000,9,  -999.00,9,   -999.0,9,  -999.00,9,-999.000,9,   -999.9,5,   2310.2,2,  -999.0, -999.00,-999.0000,-999.000,-999.000
    316N145_10,  I07N,   734,  1,     26,     26,2,19950722,1402, -8.7343,  52.1455, 4115,   -999,    353.1,  10.7878,  34.9226,2,  34.9207,2,    133.2,2, 10.7446,    134.6,2,    21.90,2,    22.65,2,     0.00,2,     1.60,2,    0.997,2,    0.519,2, -999.000,9,-999.0000,9,  -999.00,9,   -999.0,9,  -999.00,9,-999.000,9,   -999.9,5,   2314.1,2,  -999.0, -999.00,-999.0000,-999.000,-999.000
    316N145_10,  I07N,   734,  1,     25,     25,2,19950722,1402, -8.7343,  52.1455, 4115,   -999,    402.9,  10.1295,  34.8720,2,  34.8715,2,    129.4,2, 10.0821,    132.1,2,    24.44,2,    24.07,2,     0.00,2,     1.69,2, -999.000,9, -999.000,9, -999.000,9,-999.0000,9,  -999.00,9,   -999.0,9,  -999.00,9,-999.000,9,   -999.9,5,   2312.0,2,  -999.0, -999.00,-999.0000,-999.000,-999.000
    316N145_10,  I07N,   734,  1,     24,     24,2,19950722,1402, -8.7343,  52.1455, 4115,   -999,    451.5,   9.6606,  34.8420,2,  34.8418,2,    130.5,2,  9.6088,    131.8,2,    27.16,2,    25.14,2,     0.00,2,     1.77,2,    0.709,2,    0.363,2, -999.000,9,-999.0000,9,  -999.00,9,   -999.0,9,  -999.00,9,-999.000,9,   -999.9,5,   2314.7,2,  -999.0, -999.00,-999.0000,-999.000,-999.000
    316N145_10,  I07N,   734,  1,     23,     23,2,19950722,1402, -8.7343,  52.1455, 4115,   -999,    501.7,   9.1135,  34.8188,2,  34.8187,2,    113.6,2,  9.0578,    120.3,2,    32.77,2,    27.13,2,     0.00,2,     1.92,2,    0.502,2,    0.273,2, -999.000,9,-999.0000,9,  -999.00,9,   -999.0,9,  -999.00,9,-999.000,9,   -999.9,5,   2316.7,2,  -999.0, -999.00,-999.0000,-999.000,-999.000
    316N145_10,  I07N,   734,  1,     22,     22,2,19950722,1402, -8.7343,  52.1455, 4115,   -999,    536.3,   8.8081,  34.8080,2,  34.8079,2,    115.8,2,  8.7498,    115.6,2,    36.34,2,    28.11,2,     0.00,2,     2.00,2,    0.409,2,    0.212,2, -999.000,9,-999.0000,9,  -999.00,9,   -999.0,9,  -999.00,9,-999.000,9,   -999.9,5,   2318.5,2,  -999.0, -999.00,-999.0000,-999.000,-999.000
    316N145_10,  I07N,   734,  1,     21,     21,2,19950722,1402, -8.7343,  52.1455, 4115,   -999,    652.4,   8.2671,  34.8292,2,  34.8271,2,     91.8,2,  8.1981,     93.3,2,    47.61,2,    31.01,2,     0.00,2,     2.26,2,    0.193,2,    0.118,2, -999.000,9,-999.0000,9,  -999.00,9,   -999.0,9,  -999.00,9,-999.000,9,   -999.9,5,   2331.0,2,  -999.0, -999.00,-999.0000,-999.000,-999.000
    316N145_10,  I07N,   734,  1,     20,     20,2,19950722,1402, -8.7343,  52.1455, 4115,   -999,    723.2,   7.8601,  34.8141,2,  34.8140,2,     93.6,2,  7.7854,     94.5,2,    52.38,2,    31.55,2,     0.00,2,     2.31,2,    0.168,2,    0.089,2, -999.000,9,-999.0000,9,  -999.00,9,   -999.0,9,  -999.00,9,-999.000,9,   -999.9,5,   2333.8,2,  -999.0, -999.00,-999.0000,-999.000,-999.000
    316N145_10,  I07N,   734,  1,     19,     19,2,19950722,1402, -8.7343,  52.1455, 4115,   -999,    789.3,   7.5704,  34.8140,2,  34.8130,2,     90.6,2,  7.4904,     91.0,2,    56.98,2,    32.32,2,     0.00,2,     2.37,2,    0.125,2,    0.062,2, -999.000,9,-999.0000,9,  -999.00,9,   -999.0,9,  -999.00,9,-999.000,9,   -999.9,5,   2339.1,2,  -999.0, -999.00,-999.0000,-999.000,-999.000
    316N145_10,  I07N,   734,  1,     18,     18,2,19950722,1402, -8.7343,  52.1455, 4115,   -999,    829.9,   7.1221,  34.7819,2,  34.7822,2,    100.8,2,  7.0404,    102.0,2,    59.35,2,    32.05,2,     0.00,2,     2.35,2,    0.164,3,    0.091,3, -999.000,9,-999.0000,9,  -999.00,9,   -999.0,9,  -999.00,9,-999.000,9,   -999.9,5,   2339.8,2,  -999.0, -999.00,-999.0000,-999.000,-999.000
    316N145_10,  I07N,   734,  1,     17,     17,2,19950722,1402, -8.7343,  52.1455, 4115,   -999,    952.3,   6.0840,  34.7771,2,  34.7763,2,     95.1,2,  5.9969,     93.3,2,    75.17,2,    34.08,2,     0.00,2,     2.53,2,    0.043,2,    0.021,2, -999.000,9,-999.0000,9,  -999.00,9,   -999.0,9,  -999.00,9,-999.000,9,   -999.9,5,   2354.3,2,  -999.0, -999.00,-999.0000,-999.000,-999.000
    316N145_10,  I07N,   734,  1,     16,     16,2,19950722,1402, -8.7343,  52.1455, 4115,   -999,   1026.9,   5.6678,  34.7805,2,  34.7804,2,     87.4,2,  5.5765,     87.3,2,    84.15,2,    35.07,2,     0.00,2,     2.61,2,    0.013,2,    0.005,2, -999.000,9,-999.0000,9,  -999.00,9,   -999.0,9,  -999.00,9,-999.000,9,   -999.9,5,   2365.3,2,  -999.0, -999.00,-999.0000,-999.000,-999.000
    316N145_10,  I07N,   734,  1,     15,     15,2,19950722,1402, -8.7343,  52.1455, 4115,   -999,   1096.2,   5.3748,  34.7789,2,  34.7805,2,     89.0,2,  5.2792,     90.0,2,    87.76,2,    35.21,2,     0.00,2,     2.62,2,   -0.003,2,   -0.003,2, -999.000,9,-999.0000,9,  -999.00,9,   -999.0,9,  -999.00,9,-999.000,9,   -999.9,5,   2371.3,2,  -999.0, -999.00,-999.0000,-999.000,-999.000
    316N145_10,  I07N,   734,  1,     14,     14,2,19950722,1402, -8.7343,  52.1455, 4115,   -999,   1197.4,   5.0163,  34.7737,2,  34.7754,2,     95.9,2,  4.9143,     94.7,2,    91.04,2,    35.26,2,     0.00,2,     2.61,2, -999.000,9, -999.000,9, -999.000,9,-999.0000,9,  -999.00,9,   -999.0,9,  -999.00,9,-999.000,9,   -999.9,5,   2376.7,2,  -999.0, -999.00,-999.0000,-999.000,-999.000
    316N145_10,  I07N,   734,  1,     13,     13,2,19950722,1402, -8.7343,  52.1455, 4115,   -999,   1297.7,   4.6353,  34.7676,2,  34.7685,2,    102.4,2,  4.5275,    102.8,2,    94.15,2,    35.08,2,     0.00,2,     2.60,2,    0.000,2,    0.000,2, -999.000,9,-999.0000,9,  -999.00,9,   -999.0,9,  -999.00,9,-999.000,9,   -999.9,5,   2376.3,2,  -999.0, -999.00,-999.0000,-999.000,-999.000
    316N145_10,  I07N,   734,  1,     12,     12,2,19950722,1402, -8.7343,  52.1455, 4115,   -999,   1501.3,   3.9032,  34.7548,2,  34.7558,2,    119.0,2,  3.7846,    118.4,2,   100.08,2,    34.73,2,     0.00,2,     2.54,2,    0.006,2,    0.005,2, -999.000,9,-999.0000,9,  -999.00,9,   -999.0,9,  -999.00,9,-999.000,9,   -999.9,5,   2381.5,2,  -999.0, -999.00,-999.0000,-999.000,-999.000
    316N145_10,  I07N,   734,  1,     11,     11,2,19950722,1402, -8.7343,  52.1455, 4115,   -999,   1693.6,   3.0448,  34.7270,2,  34.7269,2,    141.9,2,  2.9196,    142.6,2,   103.21,2,    33.74,2,     0.00,2,     2.44,2, -999.000,9, -999.000,9, -999.000,9,-999.0000,9,  -999.00,9,   -999.0,9,  -999.00,9,-999.000,9,   -999.9,5,   2384.1,2,  -999.0, -999.00,-999.0000,-999.000,-999.000
    316N145_10,  I07N,   734,  1,     10,     10,2,19950722,1402, -8.7343,  52.1455, 4115,   -999,   1890.9,   2.6817,  34.7375,2,  34.7365,2,    146.6,2,  2.5443,    146.2,2,   111.13,2,    33.79,2,     0.00,2,     2.44,2, -999.000,9, -999.000,9, -999.000,9,-999.0000,9,  -999.00,9,   -999.0,9,  -999.00,9,-999.000,9,   -999.9,5,   2392.6,2,  -999.0, -999.00,-999.0000,-999.000,-999.000
    316N145_10,  I07N,   734,  1,      9,      9,2,19950722,1402, -8.7343,  52.1455, 4115,   -999,   2291.1,   2.2448,  34.7461,2,  34.7452,2,    151.6,2,  2.0788,    151.8,2,   120.74,2,    33.75,2,     0.00,2,     2.43,2, -999.000,9, -999.000,9, -999.000,9,-999.0000,9,  -999.00,9,   -999.0,9,  -999.00,9,-999.000,9,   -999.9,5,   2408.4,3,  -999.0, -999.00,-999.0000,-999.000,-999.000
    316N145_10,  I07N,   734,  1,      8,      8,2,19950722,1402, -8.7343,  52.1455, 4115,   -999,   2496.1,   2.1307,  34.7490,2,  34.7501,2,    152.5,2,  1.9480,    153.7,2,   123.58,2,    33.75,2,     0.00,2,     2.43,2, -999.000,9, -999.000,9, -999.000,9,-999.0000,9,  -999.00,9,   -999.0,9,  -999.00,9,-999.000,9,   -999.9,5,   2405.9,2,  -999.0, -999.00,-999.0000,-999.000,-999.000
    316N145_10,  I07N,   734,  1,      7,      7,2,19950722,1402, -8.7343,  52.1455, 4115,   -999,   2795.5,   1.9417,  34.7437,2,  34.7452,2,    154.7,2,  1.7347,    156.6,2,   127.33,2,    33.71,2,     0.00,2,     2.42,2, -999.000,9, -999.000,9, -999.000,9,-999.0000,9,  -999.00,9,   -999.0,9,  -999.00,9,-999.000,9,   -999.9,5,   2427.3,3,  -999.0, -999.00,-999.0000,-999.000,-999.000
    316N145_10,  I07N,   734,  1,      6,      6,2,19950722,1402, -8.7343,  52.1455, 4115,   -999,   3096.7,   1.7865,  34.7379,2,  34.7384,2,    162.3,2,  1.5538,    162.2,2,   129.46,2,    33.53,2,     0.00,2,     2.40,2, -999.000,9, -999.000,9, -999.000,9,-999.0000,9,  -999.00,9,   -999.0,9,  -999.00,9,-999.000,9,   -999.9,5,   2410.4,2,  -999.0, -999.00,-999.0000,-999.000,-999.000
    316N145_10,  I07N,   734,  1,      5,      5,2,19950722,1402, -8.7343,  52.1455, 4115,   -999,   3440.0,   1.6446,  34.7316,2,  34.7307,2,    168.8,2,  1.3808,    169.0,2,   129.96,2,    33.31,2,     0.00,2,     2.38,2, -999.000,9, -999.000,9, -999.000,9,-999.0000,9,  -999.00,9,   -999.0,9,  -999.00,9,-999.000,9,   -999.9,5,   2413.0,3,  -999.0, -999.00,-999.0000,-999.000,-999.000
    316N145_10,  I07N,   734,  1,      4,      4,2,19950722,1402, -8.7343,  52.1455, 4115,   -999,   3796.4,   1.3525,  34.7211,2,  34.7231,3,    182.9,2,  1.0593,    185.9,2,   127.56,2,    32.60,2,     0.00,2,     2.31,2, -999.000,9, -999.000,9, -999.000,9,-999.0000,9,  -999.00,9,   -999.0,9,  -999.00,9,-999.000,9,   -999.9,5,   2397.3,2,  -999.0, -999.00,-999.0000,-999.000,-999.000
    316N145_10,  I07N,   734,  1,      3,      3,2,19950722,1402, -8.7343,  52.1455, 4115,   -999,   4050.8,   1.1740,  34.7150,2,  34.7148,2,    195.4,2,  0.8588,    195.5,2,   125.17,2,    32.06,2,     0.00,2,     2.26,2, -999.000,9, -999.000,9, -999.000,9,-999.0000,9,  -999.00,9,   -999.0,9,  -999.00,9,-999.000,9,   -999.9,5,   2386.1,2,  -999.0, -999.00,-999.0000,-999.000,-999.000
    316N145_10,  I07N,   734,  1,      2,      2,2,19950722,1402, -8.7343,  52.1455, 4115,   -999,   4152.9,   1.1254,  34.7130,2,  34.7127,2,    198.5,2,  0.8005,     -0.1,4,   124.94,2,    31.98,2,     0.00,2,     2.25,2, -999.000,9, -999.000,9, -999.000,9,-999.0000,9,  -999.00,9,   -999.0,9,  -999.00,9,-999.000,9,   -999.9,5,   2380.6,2,  -999.0, -999.00,-999.0000,-999.000,-999.000
    316N145_10,  I07N,   734,  1,      1,      1,2,19950722,1402, -8.7343,  52.1455, 4115,   -999,   4179.7,   1.1283,  34.7129,2,  34.7127,2,    199.5,2,  0.8004,    198.6,2,   124.90,2,    31.94,2,     0.00,2,     2.26,2, -999.000,9, -999.000,9, -999.000,9,-999.0000,9,  -999.00,9,   -999.0,9,  -999.00,9,-999.000,9,   -999.9,5,   2383.0,2,  -999.0, -999.00,-999.0000,-999.000,-999.000