BOTTLE,20080821WHPSIOSCD
EXPOCODE,SECT_ID,STNNBR,CASTNO,SAMPNO,BTLNBR,BTLNBR_FLAG_W,DATE,TIME,LATITUDE,LONGITUDE,DEPTH,CTDRAW,CTDPRS,CTDTMP,CTDSAL,CTDSAL_FLAG_W,SALNTY,SALNTY_FLAG_W,CTDOXY,CTDOXY_FLAG_W,THETA,OXYGEN,OXYGEN_FLAG_W,SILCAT,SILCAT_FLAG_W,NITRAT,NITRAT_FLAG_W,NITRIT,NITRIT_FLAG_W,PHSPHT,PHSPHT_FLAG_W,CFC-11,CFC-11_FLAG_W,CFC-12,CFC-12_FLAG_W,TRITUM,TRITUM_FLAG_W,HELIUM,HELIUM_FLAG_W,DELHE3,DELHE3_FLAG_W,DELC14,DELC14_FLAG_W,DELC13,DELC13_FLAG_W,NEON,NEON_FLAG_W,TCARBN,TCARBN_FLAG_W,ALKALI,ALKALI_FLAG_W,C14ERR,DELHER,HELIER,NEONER,TRITER
,,,,,,,,,,,,,DBAR,ITS-90,PSS-78,,PSS-78,,UMOL/KG,,DEG C,UMOL/KG,,UMOL/KG,,UMOL/KG,,UMOL/KG,,UMOL/KG,,PMOL/KG,,PMOL/KG,,TU,,NMOL/KG,,PERCNT,,/MILLE,,/MILLE,,NMOL/KG,,UMOL/KG,,UMOL/KG,,/MILLE,PERCNT,NMOL/KG,NMOL/KG,TU
    316N145_10,  I07N,   849,  1,     36,     36,2,19950821,0528, 24.0455,  59.0843, 3315,   -999,      3.8,  30.6568,  36.8907,2,  36.8906,2,    188.4,2, 30.6558,    189.7,2,     3.36,2,     0.09,2,     0.00,2,     0.32,2,    1.505,2,    0.861,2, -999.000,9,-999.0000,9,  -999.00,9,   -999.0,9,  -999.00,9,-999.000,9,   2026.4,2,   2412.1,2,  -999.0, -999.00,-999.0000,-999.000,-999.000
    316N145_10,  I07N,   849,  1,     35,     35,2,19950821,0528, 24.0455,  59.0843, 3315,   -999,     20.1,  23.0091,  36.3830,2,  36.3740,2,     99.4,2, 23.0050,     60.1,2,     8.73,2,    17.15,2,     0.31,2,     1.52,2, -999.000,9, -999.000,9, -999.000,9,-999.0000,9,  -999.00,9,   -999.0,9,  -999.00,9,-999.000,9,   -999.9,9,   -999.9,9,  -999.0, -999.00,-999.0000,-999.000,-999.000
    316N145_10,  I07N,   849,  1,     34,     34,2,19950821,0528, 24.0455,  59.0843, 3315,   -999,     47.1,  20.7179,  36.2111,2,  36.2175,2,      4.3,2, 20.7089,      7.1,2,    16.88,2,    22.56,2,     0.04,2,     2.14,2,    1.263,2,    0.763,2, -999.000,9,-999.0000,9,  -999.00,9,   -999.0,9,  -999.00,9,-999.000,9,   -999.9,9,   -999.9,9,  -999.0, -999.00,-999.0000,-999.000,-999.000
    316N145_10,  I07N,   849,  1,     33,     33,2,19950821,0528, 24.0455,  59.0843, 3315,   -999,     80.4,  20.0009,  36.3621,2,  36.3637,2,      9.8,2, 19.9859,     13.1,2,    18.77,2,    21.18,2,     0.01,2,     2.11,2, -999.000,9, -999.000,9, -999.000,9,-999.0000,9,  -999.00,9,   -999.0,9,  -999.00,9,-999.000,9,   -999.9,9,   -999.9,9,  -999.0, -999.00,-999.0000,-999.000,-999.000
    316N145_10,  I07N,   849,  1,     32,     32,2,19950821,0528, 24.0455,  59.0843, 3315,   -999,    100.3,  19.5814,  36.4285,2,  36.4564,2,     11.5,2, 19.5630,     16.1,2,    19.62,2,    20.54,2,     0.01,2,     2.08,2, -999.000,9, -999.000,9, -999.000,9,-999.0000,9,  -999.00,9,   -999.0,9,  -999.00,9,-999.000,9,   -999.9,9,   -999.9,9,  -999.0, -999.00,-999.0000,-999.000,-999.000
    316N145_10,  I07N,   849,  1,     31,     31,2,19950821,0528, 24.0455,  59.0843, 3315,   -999,    126.2,  20.2586,  36.9889,2,  36.9861,2,     34.9,2, 20.2349,     40.8,2,    17.17,2,    17.87,2,     0.01,2,     1.80,2,    1.233,2,    2.269,3, -999.000,9,-999.0000,9,  -999.00,9,   -999.0,9,  -999.00,9,-999.000,9,   -999.9,9,   -999.9,9,  -999.0, -999.00,-999.0000,-999.000,-999.000
    316N145_10,  I07N,   849,  1,     30,     30,2,19950821,0528, 24.0455,  59.0843, 3315,   -999,    152.0,  19.3603,  36.9093,2,  36.8959,2,     27.8,2, 19.3325,     34.3,2,    19.23,2,    18.48,2,     0.01,2,     1.90,2, -999.000,9, -999.000,9, -999.000,9,-999.0000,9,  -999.00,9,   -999.0,9,  -999.00,9,-999.000,9,   -999.9,9,   -999.9,9,  -999.0, -999.00,-999.0000,-999.000,-999.000
    316N145_10,  I07N,   849,  1,     29,     29,2,19950821,0528, 24.0455,  59.0843, 3315,   -999,    186.2,  17.9654,  36.6420,2,  36.7002,2,     22.9,2, 17.9332,     22.0,2,    22.51,2,    19.75,2,     0.00,2,     2.05,2,    0.926,2,    1.580,3, -999.000,9,-999.0000,9,  -999.00,9,   -999.0,9,  -999.00,9,-999.000,9,   -999.9,9,   -999.9,9,  -999.0, -999.00,-999.0000,-999.000,-999.000
    316N145_10,  I07N,   849,  1,     28,     28,2,19950821,0528, 24.0455,  59.0843, 3315,   -999,    200.4,  18.5046,  36.9419,2,  36.9469,2,     39.7,2, 18.4691,     34.0,2,    21.10,2,    18.48,2,     0.00,2,     1.92,2,    1.033,3,    3.036,3, -999.000,9,-999.0000,9,  -999.00,9,   -999.0,9,  -999.00,9,-999.000,9,   -999.9,9,   -999.9,9,  -999.0, -999.00,-999.0000,-999.000,-999.000
    316N145_10,  I07N,   849,  1,     27,     27,2,19950821,0528, 24.0455,  59.0843, 3315,   -999,    250.0,  15.6651,  36.2588,2,  36.2862,2,      8.4,2, 15.6256,      6.6,2,    29.07,2,    21.76,2,     0.00,2,     2.32,2, -999.000,9, -999.000,9, -999.000,9,-999.0000,9,  -999.00,9,   -999.0,9,  -999.00,9,-999.000,9,   -999.9,9,   -999.9,9,  -999.0, -999.00,-999.0000,-999.000,-999.000
    316N145_10,  I07N,   849,  1,     26,     26,2,19950821,0528, 24.0455,  59.0843, 3315,   -999,    274.7,  14.6225,  36.0357,2,  36.0399,2,      0.8,2, 14.5812,      1.0,2,    33.05,2,    23.16,2,     0.01,2,     2.44,2,    0.417,2,    0.256,2, -999.000,9,-999.0000,9,  -999.00,9,   -999.0,9,  -999.00,9,-999.000,9,   -999.9,9,   -999.9,9,  -999.0, -999.00,-999.0000,-999.000,-999.000
    316N145_10,  I07N,   849,  1,     25,     25,2,19950821,0528, 24.0455,  59.0843, 3315,   -999,    373.6,  13.1145,  35.8357,2,  35.8366,2,      0.9,2, 13.0620,      0.8,2,    40.49,2,    24.38,2,     0.05,2,     2.58,2,    0.216,2,    0.130,2, -999.000,9,-999.0000,9,  -999.00,9,   -999.0,9,  -999.00,9,-999.000,9,   -999.9,9,   -999.9,9,  -999.0, -999.00,-999.0000,-999.000,-999.000
    316N145_10,  I07N,   849,  1,     24,     24,2,19950821,0528, 24.0455,  59.0843, 3315,   -999,    473.4,  11.9766,  35.6960,2,  35.6950,2,      1.1,2, 11.9138,      0.9,2,    48.28,2,    27.11,2,     0.00,2,     2.70,2,    0.101,2,    0.073,2, -999.000,9,-999.0000,9,  -999.00,9,   -999.0,9,  -999.00,9,-999.000,9,   -999.9,9,   -999.9,9,  -999.0, -999.00,-999.0000,-999.000,-999.000
    316N145_10,  I07N,   849,  1,     23,     23,2,19950821,0528, 24.0455,  59.0843, 3315,   -999,    549.3,  11.3918,  35.6391,2,  35.6391,2,      1.3,2, 11.3210,      1.4,2,    53.13,2,    29.28,2,     0.00,2,     2.73,2,    0.067,2,    0.043,2, -999.000,9,-999.0000,9,  -999.00,9,   -999.0,9,  -999.00,9,-999.000,9,   -999.9,9,   -999.9,9,  -999.0, -999.00,-999.0000,-999.000,-999.000
    316N145_10,  I07N,   849,  1,     22,     22,2,19950821,0528, 24.0455,  59.0843, 3315,   -999,    649.2,  10.6301,  35.5766,2,  35.5766,2,      1.5,2, 10.5496,      1.5,2,    60.41,2,    31.68,2,     0.00,2,     2.79,2,    0.040,2,    0.029,2, -999.000,9,-999.0000,9,  -999.00,9,   -999.0,9,  -999.00,9,-999.000,9,   -999.9,9,   -999.9,9,  -999.0, -999.00,-999.0000,-999.000,-999.000
    316N145_10,  I07N,   849,  1,     21,     21,2,19950821,0528, 24.0455,  59.0843, 3315,   -999,    749.7,   9.9069,  35.5139,2,  35.5173,2,      1.8,2,  9.8175,      2.0,2,    67.00,2,    33.53,2,     0.00,2,     2.86,2, -999.000,9, -999.000,9, -999.000,9,-999.0000,9,  -999.00,9,   -999.0,9,  -999.00,9,-999.000,9,   -999.9,9,   -999.9,9,  -999.0, -999.00,-999.0000,-999.000,-999.000
    316N145_10,  I07N,   849,  1,     20,     20,2,19950821,0528, 24.0455,  59.0843, 3315,   -999,    848.7,   9.2321,  35.4470,2,  35.4466,2,      2.0,2,  9.1346,      2.7,2,    73.43,2,    35.01,2,     0.00,2,     2.94,2, -999.000,9, -999.000,9, -999.000,9,-999.0000,9,  -999.00,9,   -999.0,9,  -999.00,9,-999.000,9,   -999.9,9,   -999.9,9,  -999.0, -999.00,-999.0000,-999.000,-999.000
    316N145_10,  I07N,   849,  1,     19,     19,2,19950821,0528, 24.0455,  59.0843, 3315,   -999,    947.8,   8.5750,  35.3797,2,  35.3797,2,      3.1,2,  8.4700,      3.5,2,    79.01,2,    36.31,2,     0.00,2,     2.98,2,    0.018,2,    0.018,2, -999.000,9,-999.0000,9,  -999.00,9,   -999.0,9,  -999.00,9,-999.000,9,   -999.9,9,   -999.9,9,  -999.0, -999.00,-999.0000,-999.000,-999.000
    316N145_10,  I07N,   849,  1,     18,     18,2,19950821,0528, 24.0455,  59.0843, 3315,   -999,   1049.0,   7.9604,  35.3128,2,  35.3127,2,      5.0,2,  7.8484,      5.3,2,    84.59,2,    37.27,2,     0.00,2,     3.04,2, -999.000,9, -999.000,9, -999.000,9,-999.0000,9,  -999.00,9,   -999.0,9,  -999.00,9,-999.000,9,   -999.9,9,   -999.9,9,  -999.0, -999.00,-999.0000,-999.000,-999.000
    316N145_10,  I07N,   849,  1,     17,     17,2,19950821,0528, 24.0455,  59.0843, 3315,   -999,   1200.4,   6.8733,  35.1970,2,  35.1967,2,     14.0,2,  6.7536,     14.0,2,    94.99,2,    38.23,2,     0.00,2,     3.08,2, -999.000,9, -999.000,9, -999.000,9,-999.0000,9,  -999.00,9,   -999.0,9,  -999.00,9,-999.000,9,   -999.9,9,   -999.9,9,  -999.0, -999.00,-999.0000,-999.000,-999.000
    316N145_10,  I07N,   849,  1,     16,     16,2,19950821,0528, 24.0455,  59.0843, 3315,   -999,   1326.3,   6.0722,  35.1173,2,  35.1172,2,     22.6,2,  5.9468,     23.5,2,   102.79,2,    38.57,2,     0.00,2,     3.07,2,    0.001,2,    0.003,2, -999.000,9,-999.0000,9,  -999.00,9,   -999.0,9,  -999.00,9,-999.000,9,   -999.9,9,   -999.9,9,  -999.0, -999.00,-999.0000,-999.000,-999.000
    316N145_10,  I07N,   849,  1,     15,     15,2,19950821,0528, 24.0455,  59.0843, 3315,   -999,   1448.9,   5.4351,  35.0524,2,  35.0514,2,     32.1,2,  5.3039,     33.2,2,   110.13,2,    38.63,2,     0.00,2,     3.05,2, -999.000,9, -999.000,9, -999.000,9,-999.0000,9,  -999.00,9,   -999.0,9,  -999.00,9,-999.000,9,   -999.9,9,   -999.9,9,  -999.0, -999.00,-999.0000,-999.000,-999.000
    316N145_10,  I07N,   849,  1,     14,     14,2,19950821,0528, 24.0455,  59.0843, 3315,   -999,   1575.4,   4.7795,  34.9929,2,  34.9881,3,     43.2,2,  4.6432,     44.7,2,   117.36,2,    38.58,2,     0.00,2,     3.01,2, -999.000,9, -999.000,9, -999.000,9,-999.0000,9,  -999.00,9,   -999.0,9,  -999.00,9,-999.000,9,   -999.9,9,   -999.9,9,  -999.0, -999.00,-999.0000,-999.000,-999.000
    316N145_10,  I07N,   849,  1,     13,     13,2,19950821,0528, 24.0455,  59.0843, 3315,   -999,   1701.8,   4.1241,  34.9314,2,  34.9307,2,     55.2,2,  3.9838,     56.9,2,   124.30,2,    38.39,2,     0.00,2,     2.97,2,    0.003,2,    0.000,2, -999.000,9,-999.0000,9,  -999.00,9,   -999.0,9,  -999.00,9,-999.000,9,   -999.9,9,   -999.9,9,  -999.0, -999.00,-999.0000,-999.000,-999.000
    316N145_10,  I07N,   849,  1,     12,     12,2,19950821,0528, 24.0455,  59.0843, 3315,   -999,   1828.2,   3.5392,  34.8800,2,  34.8814,2,     67.2,2,  3.3950,     69.4,2,   130.78,2,    38.11,2,     0.00,2,     2.91,2, -999.000,9, -999.000,9, -999.000,9,-999.0000,9,  -999.00,9,   -999.0,9,  -999.00,9,-999.000,9,   -999.9,9,   -999.9,9,  -999.0, -999.00,-999.0000,-999.000,-999.000
    316N145_10,  I07N,   849,  1,     11,     11,2,19950821,0528, 24.0455,  59.0843, 3315,   -999,   1949.9,   3.1792,  34.8517,2,  34.8516,2,     76.8,2,  3.0289,     78.1,2,   134.70,2,    37.78,2,     0.00,2,     2.86,2, -999.000,9, -999.000,9, -999.000,9,-999.0000,9,  -999.00,9,   -999.0,9,  -999.00,9,-999.000,9,   -999.9,9,   -999.9,9,  -999.0, -999.00,-999.0000,-999.000,-999.000
    316N145_10,  I07N,   849,  1,     10,     10,2,19950821,0528, 24.0455,  59.0843, 3315,   -999,   2076.9,   2.9019,  34.8275,2,  34.8276,2,     86.6,2,  2.7443,     84.8,2,   138.07,2,    37.68,2,     0.00,2,     2.82,2, -999.000,9, -999.000,9, -999.000,9,-999.0000,9,  -999.00,9,   -999.0,9,  -999.00,9,-999.000,9,   -999.9,9,   -999.9,9,  -999.0, -999.00,-999.0000,-999.000,-999.000
    316N145_10,  I07N,   849,  1,      9,      9,2,19950821,0528, 24.0455,  59.0843, 3315,   -999,   2198.7,   2.6169,  34.8053,2,  34.8034,2,     95.0,2,  2.4527,     92.2,2,   141.47,2,    37.45,2,     0.00,2,     2.78,2,    0.001,2,    0.006,2, -999.000,9,-999.0000,9,  -999.00,9,   -999.0,9,  -999.00,9,-999.000,9,   -999.9,9,   -999.9,9,  -999.0, -999.00,-999.0000,-999.000,-999.000
    316N145_10,  I07N,   849,  1,      8,      8,2,19950821,0528, 24.0455,  59.0843, 3315,   -999,   2351.6,   2.3386,  34.7831,2,  34.7824,2,    103.1,2,  2.1653,     99.8,2,   145.29,2,    37.16,2,     0.00,2,     2.74,2, -999.000,9, -999.000,9, -999.000,9,-999.0000,9,  -999.00,9,   -999.0,9,  -999.00,9,-999.000,9,   -999.9,9,   -999.9,9,  -999.0, -999.00,-999.0000,-999.000,-999.000
    316N145_10,  I07N,   849,  1,      7,      7,2,19950821,0528, 24.0455,  59.0843, 3315,   -999,   2498.8,   2.1509,  34.7708,2,  34.7744,3,    108.1,2,  1.9675,    104.7,2,   147.59,2,    36.92,2,     0.00,2,     2.72,2, -999.000,9, -999.000,9, -999.000,9,-999.0000,9,  -999.00,9,   -999.0,9,  -999.00,9,-999.000,9,   -999.9,9,   -999.9,9,  -999.0, -999.00,-999.0000,-999.000,-999.000
    316N145_10,  I07N,   849,  1,      6,      6,2,19950821,0528, 24.0455,  59.0843, 3315,   -999,   2651.3,   1.9917,  34.7586,2,  34.7573,2,    111.6,2,  1.7973,    108.4,2,   150.09,2,    36.83,2,     0.00,2,     2.70,2,   -0.003,2,    0.013,2, -999.000,9,-999.0000,9,  -999.00,9,   -999.0,9,  -999.00,9,-999.000,9,   -999.9,9,   -999.9,9,  -999.0, -999.00,-999.0000,-999.000,-999.000
    316N145_10,  I07N,   849,  1,      5,      5,2,19950821,0528, 24.0455,  59.0843, 3315,   -999,   2803.8,   1.9220,  34.7535,2,  34.7518,2,    113.0,2,  1.7146,    109.9,2,   151.43,2,    36.69,2,     0.00,2,     2.69,2, -999.000,9, -999.000,9, -999.000,9,-999.0000,9,  -999.00,9,   -999.0,9,  -999.00,9,-999.000,9,   -999.9,9,   -999.9,9,  -999.0, -999.00,-999.0000,-999.000,-999.000
    316N145_10,  I07N,   849,  1,      4,      4,2,19950821,0528, 24.0455,  59.0843, 3315,   -999,   2951.3,   1.8577,  34.7486,2,  34.7469,2,    111.6,2,  1.6375,    110.5,2,   152.96,2,    36.55,2,     0.00,2,     2.68,2,    0.013,2,    0.032,2, -999.000,9,-999.0000,9,  -999.00,9,   -999.0,9,  -999.00,9,-999.000,9,   -999.9,9,   -999.9,9,  -999.0, -999.00,-999.0000,-999.000,-999.000
    316N145_10,  I07N,   849,  1,      3,      3,2,19950821,0528, 24.0455,  59.0843, 3315,   -999,   3102.7,   1.8213,  34.7447,2,  34.7431,2,    109.2,2,  1.5872,    110.4,2,   154.51,2,    36.50,2,     0.00,2,     2.68,2,    0.016,2,    0.042,2, -999.000,9,-999.0000,9,  -999.00,9,   -999.0,9,  -999.00,9,-999.000,9,   -999.9,9,   -999.9,9,  -999.0, -999.00,-999.0000,-999.000,-999.000
    316N145_10,  I07N,   849,  1,      2,      2,2,19950821,0528, 24.0455,  59.0843, 3315,   -999,   3300.2,   1.7919,  34.7427,2,  34.7412,2,    101.3,2,  1.5388,    106.4,2,   156.86,2,    36.26,2,     0.01,2,     2.71,2, -999.000,9, -999.000,9, -999.000,9,-999.0000,9,  -999.00,9,   -999.0,9,  -999.00,9,-999.000,9,   -999.9,9,   -999.9,9,  -999.0, -999.00,-999.0000,-999.000,-999.000
    316N145_10,  I07N,   849,  1,      1,      1,2,19950821,0528, 24.0455,  59.0843, 3315,   -999,   3360.0,   1.7960,  34.7423,2,  34.7421,2,     99.5,2,  1.5367,    105.7,2,   157.42,2,    36.21,2,     0.01,2,     2.72,2,    0.030,2,    0.088,2, -999.000,9,-999.0000,9,  -999.00,9,   -999.0,9,  -999.00,9,-999.000,9,   -999.9,9,   -999.9,9,  -999.0, -999.00,-999.0000,-999.000,-999.000