BOTTLE,20080821WHPSIOSCD
EXPOCODE,SECT_ID,STNNBR,CASTNO,SAMPNO,BTLNBR,BTLNBR_FLAG_W,DATE,TIME,LATITUDE,LONGITUDE,DEPTH,CTDRAW,CTDPRS,CTDTMP,CTDSAL,CTDSAL_FLAG_W,SALNTY,SALNTY_FLAG_W,CTDOXY,CTDOXY_FLAG_W,THETA,OXYGEN,OXYGEN_FLAG_W,SILCAT,SILCAT_FLAG_W,NITRAT,NITRAT_FLAG_W,NITRIT,NITRIT_FLAG_W,PHSPHT,PHSPHT_FLAG_W,CFC-11,CFC-11_FLAG_W,CFC-12,CFC-12_FLAG_W,TRITUM,TRITUM_FLAG_W,HELIUM,HELIUM_FLAG_W,DELHE3,DELHE3_FLAG_W,DELC14,DELC14_FLAG_W,DELC13,DELC13_FLAG_W,NEON,NEON_FLAG_W,TCARBN,TCARBN_FLAG_W,ALKALI,ALKALI_FLAG_W,C14ERR,DELHER,HELIER,NEONER,TRITER
,,,,,,,,,,,,,DBAR,ITS-90,PSS-78,,PSS-78,,UMOL/KG,,DEG C,UMOL/KG,,UMOL/KG,,UMOL/KG,,UMOL/KG,,UMOL/KG,,PMOL/KG,,PMOL/KG,,TU,,NMOL/KG,,PERCNT,,/MILLE,,/MILLE,,NMOL/KG,,UMOL/KG,,UMOL/KG,,/MILLE,PERCNT,NMOL/KG,NMOL/KG,TU
    316N145_10,  I07N,   752,  1,     36,     36,2,19950727,0655, -2.7423,  56.4045, 4350,   -999,      8.6,  26.6947,  35.2507,2,  35.2507,2,    205.5,2, 26.6930,    204.0,2,     3.97,2,     0.36,2,     0.00,2,     0.22,2, -999.000,9, -999.000,9, -999.000,9,-999.0000,9,  -999.00,9,     57.0,2,     1.30,2,-999.000,9,   1976.1,2,   2307.6,2,     7.8, -999.00,-999.0000,-999.000,-999.000
    316N145_10,  I07N,   752,  1,     35,     35,2,19950727,0655, -2.7423,  56.4045, 4350,   -999,     31.4,  26.4790,  35.2458,2,  35.2449,2,    205.4,2, 26.4721,    204.0,2,     3.94,2,     0.40,2,     0.00,2,     0.22,2,    1.728,2,    0.956,2, -999.000,9,-999.0000,9,  -999.00,9,   -999.0,9,  -999.00,9,-999.000,9,   1977.9,2,   2305.3,2,  -999.0, -999.00,-999.0000,-999.000,-999.000
    316N145_10,  I07N,   752,  1,     34,     34,2,19950727,0655, -2.7423,  56.4045, 4350,   -999,     61.2,  25.6949,  35.2121,2,  35.2111,2,    200.6,2, 25.6816,    197.3,2,     4.26,2,     1.22,2,     0.05,2,     0.29,2,    1.740,2,    0.967,2, -999.000,9,-999.0000,9,  -999.00,9,     49.5,2,     1.26,2,-999.000,9,   1987.9,2,   2305.2,2,     4.5, -999.00,-999.0000,-999.000,-999.000
    316N145_10,  I07N,   752,  1,     33,     33,2,19950727,0655, -2.7423,  56.4045, 4350,   -999,     91.4,  22.4947,  35.1890,2,  35.1898,2,    161.4,2, 22.4765,    158.6,2,     7.91,2,     7.30,2,     0.39,2,     0.67,2, -999.000,9, -999.000,9, -999.000,9,-999.0000,9,  -999.00,9,   -999.0,9,  -999.00,9,-999.000,9,   2042.0,2,   2304.9,2,  -999.0, -999.00,-999.0000,-999.000,-999.000
    316N145_10,  I07N,   752,  1,     32,     32,2,19950727,0655, -2.7423,  56.4045, 4350,   -999,    126.1,  21.8862,  35.1975,2,  35.2024,2,    144.0,2, 21.8615,    139.2,2,     8.92,2,     9.95,2,     0.06,2,     0.81,2,    1.651,2,    0.879,2, -999.000,9,-999.0000,9,  -999.00,9,     47.9,2,     0.72,2,-999.000,9,   2065.9,2,   2306.5,2,     5.0, -999.00,-999.0000,-999.000,-999.000
    316N145_10,  I07N,   752,  1,     31,     31,2,19950727,0655, -2.7423,  56.4045, 4350,   -999,    156.9,  18.2110,  35.2710,2,  35.2709,2,     90.9,2, 18.1841,     91.7,2,    14.14,2,    18.10,2,     0.03,2,     1.32,2, -999.000,9, -999.000,9, -999.000,9,-999.0000,9,  -999.00,9,   -999.0,9,  -999.00,9,-999.000,9,   2139.3,2,   2322.0,3,  -999.0, -999.00,-999.0000,-999.000,-999.000
    316N145_10,  I07N,   752,  1,     30,     30,2,19950727,0655, -2.7423,  56.4045, 4350,   -999,    189.6,  15.9169,  35.2017,2,  35.1985,2,     76.3,2, 15.8871,     76.5,2,    17.95,2,    21.83,2,     0.00,2,     1.57,2,    1.143,2,    0.597,2, -999.000,9,-999.0000,9,  -999.00,9,     23.3,2,     0.36,2,-999.000,9,   2169.1,2,   2312.7,2,     5.2, -999.00,-999.0000,-999.000,-999.000
    316N145_10,  I07N,   752,  1,     29,     29,2,19950727,0655, -2.7423,  56.4045, 4350,   -999,    250.0,  13.4808,  35.1500,2,  35.1493,2,    130.3,2, 13.4456,    130.3,2,    16.52,2,    18.41,2,     0.00,2,     1.35,2,    1.439,2,    0.724,2, -999.000,9,-999.0000,9,  -999.00,9,   -999.0,9,  -999.00,9,-999.000,9,   2154.4,2,   2315.1,2,  -999.0, -999.00,-999.0000,-999.000,-999.000
    316N145_10,  I07N,   752,  1,     28,     28,2,19950727,0655, -2.7423,  56.4045, 4350,   -999,    301.2,  12.4121,  35.0758,2,  35.0762,2,    136.5,2, 12.3719,    139.9,2,    16.67,2,    19.00,2,     0.00,2,     1.37,2,    1.396,2,    0.706,2, -999.000,9,-999.0000,9,  -999.00,9,     20.9,2,     0.78,2,-999.000,9,   2154.4,2,   2319.3,2,     4.3, -999.00,-999.0000,-999.000,-999.000
    316N145_10,  I07N,   752,  1,     27,     27,2,19950727,0655, -2.7423,  56.4045, 4350,   -999,    350.8,  11.9848,  35.0429,2,  35.0431,2,    143.3,2, 11.9390,    143.2,2,    16.99,2,    19.42,2,     0.00,2,     1.40,2,    1.370,2,    0.700,2, -999.000,9,-999.0000,9,  -999.00,9,     16.3,2,     0.80,2,-999.000,9,   2158.5,2,   2312.7,2,     4.3, -999.00,-999.0000,-999.000,-999.000
    316N145_10,  I07N,   752,  1,     26,     26,2,19950727,0655, -2.7423,  56.4045, 4350,   -999,    421.3,  10.6345,  34.9362,2,  34.9016,3,    127.7,2, 10.5833,    118.4,2,    27.44,2,    25.74,2,     0.00,2,     1.82,2,    0.674,2,    0.340,2, -999.000,9,-999.0000,9,  -999.00,9,    -60.7,3,     0.11,3,-999.000,9,   2194.3,2,   2314.2,2,     4.1, -999.00,-999.0000,-999.000,-999.000
    316N145_10,  I07N,   752,  1,     25,     25,2,19950727,0655, -2.7423,  56.4045, 4350,   -999,    500.3,   9.4010,  34.8781,2,  34.8918,3,    106.0,2,  9.3444,    114.4,2,    29.50,2,    26.62,2,     0.00,2,     1.89,2,    0.588,2,    0.303,2, -999.000,9,-999.0000,9,  -999.00,9,    -41.8,2,     0.63,2,-999.000,9,   2200.4,2,   2314.6,2,     4.7, -999.00,-999.0000,-999.000,-999.000
    316N145_10,  I07N,   752,  1,     24,     24,2,19950727,0655, -2.7423,  56.4045, 4350,   -999,    600.5,   8.6419,  34.8943,2,  34.8957,2,     83.7,2,  8.5769,     85.4,2,    45.54,2,    31.23,2,     0.00,2,     2.29,2,    0.189,2,    0.103,2, -999.000,9,-999.0000,9,  -999.00,9,   -103.0,2,     0.31,2,-999.000,9,   2237.7,2,   2328.8,2,     4.2, -999.00,-999.0000,-999.000,-999.000
    316N145_10,  I07N,   752,  1,     23,     23,2,19950727,0655, -2.7423,  56.4045, 4350,   -999,    701.3,   8.3405,  34.9816,2,  34.9816,2,     63.1,2,  8.2657,     64.3,2,    56.17,2,    33.37,2,     0.00,2,     2.51,2,    0.094,2,    0.057,2, -999.000,9,-999.0000,9,  -999.00,9,   -126.0,2,     0.21,2,-999.000,9,   2263.5,2,   2337.6,2,     4.0, -999.00,-999.0000,-999.000,-999.000
    316N145_10,  I07N,   752,  1,     22,     22,2,19950727,0655, -2.7423,  56.4045, 4350,   -999,    811.5,   8.0394,  34.9917,2,  34.9908,2,     57.1,2,  7.9540,     58.3,2,    62.26,2,    34.30,2,     0.00,2,     2.59,2,    0.052,2,    0.034,2, -999.000,9,-999.0000,9,  -999.00,9,   -999.0,9,  -999.00,9,-999.000,9,   2274.2,2,   2347.8,2,  -999.0, -999.00,-999.0000,-999.000,-999.000
    316N145_10,  I07N,   752,  1,     21,     21,2,19950727,0655, -2.7423,  56.4045, 4350,   -999,    921.1,   6.9786,  34.8991,2,  34.8983,2,     74.7,2,  6.8882,     66.6,2,    73.09,2,    35.20,2,     0.00,2,     2.65,2,    0.024,2,    0.015,2, -999.000,9,-999.0000,9,  -999.00,9,   -143.4,2,     0.09,2,-999.000,9,   2284.6,2,   2353.8,2,     3.9, -999.00,-999.0000,-999.000,-999.000
    316N145_10,  I07N,   752,  1,     20,     20,2,19950727,0655, -2.7423,  56.4045, 4350,   -999,   1002.2,   6.3077,  34.8507,2,  34.8513,2,     69.9,2,  6.2139,     72.1,2,    81.14,2,    35.63,2,     0.00,2,     2.67,2,    0.013,2,    0.010,2, -999.000,9,-999.0000,9,  -999.00,9,   -156.1,2,     0.06,2,-999.000,9,   2290.4,2,   2362.5,2,     2.8, -999.00,-999.0000,-999.000,-999.000
    316N145_10,  I07N,   752,  1,     19,     19,2,19950727,0655, -2.7423,  56.4045, 4350,   -999,   1101.4,   5.9220,  34.8778,2,  34.8776,2,     71.8,2,  5.8213,     71.6,2,    86.92,2,    36.05,2,     0.00,2,     2.73,2,    0.007,2,    0.004,2, -999.000,9,-999.0000,9,  -999.00,9,   -165.6,2,     0.07,2,-999.000,9,   2299.4,2,   2366.1,2,     4.5, -999.00,-999.0000,-999.000,-999.000
    316N145_10,  I07N,   752,  1,     18,     18,2,19950727,0655, -2.7423,  56.4045, 4350,   -999,   1201.9,   5.1619,  34.8111,2,  34.8134,3,     82.8,2,  5.0581,     83.8,2,    93.42,2,    36.01,2,     0.00,2,     2.71,2,   -0.001,2,    0.002,2, -999.000,9,-999.0000,9,  -999.00,9,   -165.7,2,     0.12,2,-999.000,9,   2301.0,2,   2376.7,2,     3.9, -999.00,-999.0000,-999.000,-999.000
    316N145_10,  I07N,   752,  1,     17,     17,2,19950727,0655, -2.7423,  56.4045, 4350,   -999,   1402.0,   4.2282,  34.7813,2,  34.7814,2,    101.8,2,  4.1149,    102.1,2,   101.19,2,    35.74,2,     0.00,2,     2.66,2,    0.002,2,    0.005,2, -999.000,9,-999.0000,9,  -999.00,9,   -194.2,3,    -0.38,3,-999.000,9,   2302.3,2,   2378.4,2,     3.8, -999.00,-999.0000,-999.000,-999.000
    316N145_10,  I07N,   752,  1,     16,     16,2,19950727,0655, -2.7423,  56.4045, 4350,   -999,   1601.7,   3.4523,  34.7757,2,  34.7757,2,    116.6,2,  3.3299,    117.4,2,   108.83,2,    35.28,2,     0.00,2,     2.62,2,   -0.003,2,    0.000,2, -999.000,9,-999.0000,9,  -999.00,9,   -181.8,2,     0.08,2,-999.000,9,   2305.8,2,   2392.6,2,     3.9, -999.00,-999.0000,-999.000,-999.000
    316N145_10,  I07N,   752,  1,     15,     15,2,19950727,0655, -2.7423,  56.4045, 4350,   -999,   1800.9,   2.9735,  34.7706,2,  34.7702,2,    127.2,2,  2.8398,    127.8,2,   114.54,2,    35.05,2,     0.00,2,     2.58,2,    0.001,2,    0.000,2, -999.000,9,-999.0000,9,  -999.00,9,   -999.0,9,  -999.00,9,-999.000,9,   2307.1,2,   -999.9,5,  -999.0, -999.00,-999.0000,-999.000,-999.000
    316N145_10,  I07N,   752,  1,     14,     14,2,19950727,0655, -2.7423,  56.4045, 4350,   -999,   2005.1,   2.5661,  34.7612,2,  34.7619,2,    137.0,2,  2.4203,    137.6,2,   119.74,2,    34.63,2,     0.00,2,     2.54,2, -999.000,9, -999.000,9, -999.000,9,-999.0000,9,  -999.00,9,   -999.0,9,  -999.00,9,-999.000,9,   2307.4,2,   2404.0,2,  -999.0, -999.00,-999.0000,-999.000,-999.000
    316N145_10,  I07N,   752,  1,     13,     13,2,19950727,0655, -2.7423,  56.4045, 4350,   -999,   2204.6,   2.2956,  34.7537,2,  34.7533,2,    144.4,2,  2.1365,    145.1,2,   122.23,2,    34.41,2,     0.00,2,     2.50,2, -999.000,9, -999.000,9, -999.000,9,-999.0000,9,  -999.00,9,   -999.0,9,  -999.00,9,-999.000,9,   2308.1,2,   2402.2,2,  -999.0, -999.00,-999.0000,-999.000,-999.000
    316N145_10,  I07N,   752,  1,     12,     12,2,19950727,0655, -2.7423,  56.4045, 4350,   -999,   2403.3,   2.0783,  34.7457,2,  34.7460,2,    151.7,2,  1.9051,    152.2,2,   124.19,2,    34.23,2,     0.00,2,     2.47,2, -999.000,9, -999.000,9, -999.000,9,-999.0000,9,  -999.00,9,   -999.0,9,  -999.00,9,-999.000,9,   2306.1,2,   2405.9,2,  -999.0, -999.00,-999.0000,-999.000,-999.000
    316N145_10,  I07N,   752,  1,     11,     11,2,19950727,0655, -2.7423,  56.4045, 4350,   -999,   2602.0,   1.9225,  34.7419,2,  34.7409,2,    157.0,2,  1.7340,    156.3,2,   126.34,2,    33.90,2,     0.00,2,     2.46,2, -999.000,9, -999.000,9, -999.000,9,-999.0000,9,  -999.00,9,   -999.0,9,  -999.00,9,-999.000,9,   2307.4,2,   2407.2,2,  -999.0, -999.00,-999.0000,-999.000,-999.000
    316N145_10,  I07N,   752,  1,     10,     10,2,19950727,0655, -2.7423,  56.4045, 4350,   -999,   2796.9,   1.7673,  34.7325,2,  34.7336,2,    164.0,2,  1.5638,    164.7,2,   126.30,2,    33.68,2,     0.00,2,     2.41,2, -999.000,9, -999.000,9, -999.000,9,-999.0000,9,  -999.00,9,   -999.0,9,  -999.00,9,-999.000,9,   2302.7,2,   2408.6,2,  -999.0, -999.00,-999.0000,-999.000,-999.000
    316N145_10,  I07N,   752,  1,      9,      9,2,19950727,0655, -2.7423,  56.4045, 4350,   -999,   2897.2,   1.7346,  34.7322,2,  34.7320,2,    167.8,2,  1.5223,    166.0,2,   126.25,2,    33.59,2,     0.00,2,     2.40,2, -999.000,9, -999.000,9, -999.000,9,-999.0000,9,  -999.00,9,   -999.0,9,  -999.00,9,-999.000,9,   2301.9,2,   2407.2,2,  -999.0, -999.00,-999.0000,-999.000,-999.000
    316N145_10,  I07N,   752,  1,      8,      8,2,19950727,0655, -2.7423,  56.4045, 4350,   -999,   2999.3,   1.7204,  34.7332,2,  34.7334,2,    163.4,2,  1.4986,    164.2,2,   128.77,2,    33.78,2,     0.00,2,     2.42,2, -999.000,9, -999.000,9, -999.000,9,-999.0000,9,  -999.00,9,   -999.0,9,  -999.00,9,-999.000,9,   2304.7,2,   2412.1,2,  -999.0, -999.00,-999.0000,-999.000,-999.000
    316N145_10,  I07N,   752,  1,      7,      7,2,19950727,0655, -2.7423,  56.4045, 4350,   -999,   3172.1,   1.6637,  34.7287,2,  34.7287,2,    169.7,2,  1.4264,    170.7,2,   125.80,2,    33.37,2,     0.00,2,     2.37,2, -999.000,9, -999.000,9, -999.000,9,-999.0000,9,  -999.00,9,   -999.0,9,  -999.00,9,-999.000,9,   2298.0,2,   2405.5,2,  -999.0, -999.00,-999.0000,-999.000,-999.000
    316N145_10,  I07N,   752,  1,      6,      6,2,19950727,0655, -2.7423,  56.4045, 4350,   -999,   3341.1,   1.6533,  34.7308,2,  34.7300,2,    167.5,2,  1.3994,    167.2,2,   129.42,2,    33.65,2,     0.00,2,     2.40,2, -999.000,9, -999.000,9, -999.000,9,-999.0000,9,  -999.00,9,   -999.0,9,  -999.00,9,-999.000,9,   2304.1,2,   2411.3,2,  -999.0, -999.00,-999.0000,-999.000,-999.000
    316N145_10,  I07N,   752,  1,      5,      5,2,19950727,0655, -2.7423,  56.4045, 4350,   -999,   3576.3,   1.5834,  34.7269,2,  34.7269,2,    170.9,2,  1.3071,    171.1,2,   129.92,2,    33.61,2,     0.00,2,     2.38,2, -999.000,9, -999.000,9, -999.000,9,-999.0000,9,  -999.00,9,   -999.0,9,  -999.00,9,-999.000,9,   2302.6,2,   2406.3,2,  -999.0, -999.00,-999.0000,-999.000,-999.000
    316N145_10,  I07N,   752,  1,      4,      4,2,19950727,0655, -2.7423,  56.4045, 4350,   -999,   3792.0,   1.5372,  34.7261,2,  34.7253,2,    173.0,2,  1.2395,    172.6,2,   130.80,2,    33.57,2,     0.00,2,     2.37,2, -999.000,9, -999.000,9, -999.000,9,-999.0000,9,  -999.00,9,   -999.0,9,  -999.00,9,-999.000,9,   2302.7,2,   2411.0,2,  -999.0, -999.00,-999.0000,-999.000,-999.000
    316N145_10,  I07N,   752,  1,      3,      3,2,19950727,0655, -2.7423,  56.4045, 4350,   -999,   4050.0,   1.4482,  34.7238,2,  34.7220,2,    177.5,2,  1.1252,    176.7,2,   131.30,2,    33.43,2,     0.00,2,     2.36,2, -999.000,9, -999.000,9, -999.000,9,-999.0000,9,  -999.00,9,   -999.0,9,  -999.00,9,-999.000,9,   2299.4,2,   2411.5,2,  -999.0, -999.00,-999.0000,-999.000,-999.000
    316N145_10,  I07N,   752,  1,      2,      2,2,19950727,0655, -2.7423,  56.4045, 4350,   -999,   4303.7,   1.4018,  34.7216,2,  34.7192,2,    180.8,2,  1.0521,    180.4,2,   130.71,2,    33.21,2,     0.00,2,     2.34,2,   -0.001,2,    0.001,2, -999.000,9,-999.0000,9,  -999.00,9,   -999.0,9,  -999.00,9,-999.000,9,   2297.1,2,   2406.2,2,  -999.0, -999.00,-999.0000,-999.000,-999.000
    316N145_10,  I07N,   752,  1,      1,      1,2,19950727,0655, -2.7423,  56.4045, 4350,   -999,   4406.4,   1.3819,  34.7201,2,  34.7186,2,    180.7,2,  1.0211,    181.0,2,   131.58,2,    33.26,2,     0.00,2,     2.34,2,   -0.003,2,    0.000,2, -999.000,9,-999.0000,9,  -999.00,9,   -999.0,9,  -999.00,9,-999.000,9,   2297.1,2,   2407.8,2,  -999.0, -999.00,-999.0000,-999.000,-999.000