BOTTLE,20080821WHPSIOSCD
EXPOCODE,SECT_ID,STNNBR,CASTNO,SAMPNO,BTLNBR,BTLNBR_FLAG_W,DATE,TIME,LATITUDE,LONGITUDE,DEPTH,CTDRAW,CTDPRS,CTDTMP,CTDSAL,CTDSAL_FLAG_W,SALNTY,SALNTY_FLAG_W,CTDOXY,CTDOXY_FLAG_W,THETA,OXYGEN,OXYGEN_FLAG_W,SILCAT,SILCAT_FLAG_W,NITRAT,NITRAT_FLAG_W,NITRIT,NITRIT_FLAG_W,PHSPHT,PHSPHT_FLAG_W,CFC-11,CFC-11_FLAG_W,CFC-12,CFC-12_FLAG_W,TRITUM,TRITUM_FLAG_W,HELIUM,HELIUM_FLAG_W,DELHE3,DELHE3_FLAG_W,DELC14,DELC14_FLAG_W,DELC13,DELC13_FLAG_W,NEON,NEON_FLAG_W,TCARBN,TCARBN_FLAG_W,ALKALI,ALKALI_FLAG_W,C14ERR,DELHER,HELIER,NEONER,TRITER
,,,,,,,,,,,,,DBAR,ITS-90,PSS-78,,PSS-78,,UMOL/KG,,DEG C,UMOL/KG,,UMOL/KG,,UMOL/KG,,UMOL/KG,,UMOL/KG,,PMOL/KG,,PMOL/KG,,TU,,NMOL/KG,,PERCNT,,/MILLE,,/MILLE,,NMOL/KG,,UMOL/KG,,UMOL/KG,,/MILLE,PERCNT,NMOL/KG,NMOL/KG,TU
    316N145_10,  I07N,   730,  1,     36,     36,2,19950721,1451, -9.4473,  51.6482, 2857,   -999,      8.2,  25.6819,  35.1939,2,  35.1924,2,    205.0,2, 25.6803,    201.0,2,     2.97,2,     1.48,2,     0.05,2,     0.26,2,    1.738,2,    0.957,2,    0.806,2,   1.6680,2,    -1.20,2,   -999.0,9,  -999.00,9,   6.868,2,   1982.7,2,   -999.9,5,  -999.0,    0.20,  0.0080,   0.137,   0.008
    316N145_10,  I07N,   730,  1,     35,     35,2,19950721,1451, -9.4473,  51.6482, 2857,   -999,     32.1,  25.6764,  35.1954,2,  35.1928,2,    201.7,2, 25.6696,    200.1,2,     2.95,2,     1.48,2,     0.05,2,     0.27,2, -999.000,9, -999.000,9, -999.000,9,-999.0000,9,  -999.00,9,   -999.0,9,  -999.00,9,-999.000,9,   1983.2,2,   2303.3,2,  -999.0, -999.00,-999.0000,-999.000,-999.000
    316N145_10,  I07N,   730,  1,     34,     34,2,19950721,1451, -9.4473,  51.6482, 2857,   -999,     71.6,  23.2410,  35.1898,2,  35.1863,2,    170.8,2, 23.2265,    164.3,2,     7.45,2,     6.32,2,     0.30,2,     0.60,2,    1.608,2,    0.870,2, -999.000,9,-999.0000,9,  -999.00,9,   -999.0,9,  -999.00,9,-999.000,9,   2031.5,2,   2290.0,3,  -999.0, -999.00,-999.0000,-999.000,-999.000
    316N145_10,  I07N,   730,  1,     33,     33,2,19950721,1451, -9.4473,  51.6482, 2857,   -999,    101.3,  17.2576,  35.1812,2,  35.1781,2,    106.2,2, 17.2409,    103.9,2,    15.44,2,    17.38,2,     0.02,2,     1.25,2,    1.403,2,    0.726,2, -999.000,9,-999.0000,9,  -999.00,9,   -999.0,9,  -999.00,9,-999.000,9,   2132.5,2,   2318.0,2,  -999.0, -999.00,-999.0000,-999.000,-999.000
    316N145_10,  I07N,   730,  1,     32,     32,2,19950721,1451, -9.4473,  51.6482, 2857,   -999,    131.3,  15.6290,  35.1654,2,  35.1633,2,    105.1,2, 15.6087,    105.6,2,    16.99,2,    18.72,2,     0.01,2,     1.34,2,    1.350,2,    0.705,2, -999.000,9,   1.7750,2,     6.30,2,   -999.0,9,  -999.00,9,   7.283,2,   2147.1,2,   2314.7,2,  -999.0,    0.20,  0.0090,   0.146,-999.000
    316N145_10,  I07N,   730,  1,     31,     31,2,19950721,1451, -9.4473,  51.6482, 2857,   -999,    161.4,  15.2024,  35.1721,2,  35.1700,2,    107.7,2, 15.1778,    109.3,2,    16.97,2,    18.64,2,     0.00,2,     1.34,2, -999.000,9, -999.000,9, -999.000,9,-999.0000,9,  -999.00,9,   -999.0,9,  -999.00,9,-999.000,9,   2149.2,2,   2315.9,2,  -999.0, -999.00,-999.0000,-999.000,-999.000
    316N145_10,  I07N,   730,  1,     30,     30,2,19950721,1451, -9.4473,  51.6482, 2857,   -999,    201.8,  13.1394,  35.0751,2,  35.0734,2,    114.3,2, 13.1115,    116.7,2,    19.38,2,    20.27,2,     0.00,2,     1.46,2,    1.203,2,    0.630,2, -999.000,9,-999.0000,9,  -999.00,9,   -999.0,9,  -999.00,9,-999.000,9,   2161.6,2,   2312.9,2,  -999.0, -999.00,-999.0000,-999.000,-999.000
    316N145_10,  I07N,   730,  1,     29,     29,2,19950721,1451, -9.4473,  51.6482, 2857,   -999,    253.8,  11.6213,  34.9803,2,  34.9824,2,    124.2,2, 11.5889,    129.9,2,    20.40,2,    21.29,2,     0.00,2,     1.51,2, -999.000,9, -999.000,9, -999.000,9,-999.0000,9,  -999.00,9,   -999.0,9,  -999.00,9,-999.000,9,   2166.2,2,   2314.1,2,  -999.0, -999.00,-999.0000,-999.000,-999.000
    316N145_10,  I07N,   730,  1,     28,     28,2,19950721,1451, -9.4473,  51.6482, 2857,   -999,    297.6,  11.1170,  34.9437,2,  34.9437,2,    133.8,2, 11.0801,    133.0,2,    21.08,2,    21.91,2,     0.00,2,     1.55,2,    1.051,2,    0.519,2,    0.416,2,-999.0000,9,  -999.00,9,   -999.0,9,  -999.00,9,-999.000,9,   2168.6,2,   2311.0,2,  -999.0, -999.00,-999.0000,-999.000,   0.008
    316N145_10,  I07N,   730,  1,     27,     27,2,19950721,1451, -9.4473,  51.6482, 2857,   -999,    348.6,  10.4354,  34.8972,2,  34.8981,2,    134.0,2, 10.3938,    132.9,2,    23.32,2,    23.32,2,     0.00,2,     1.65,2,    0.923,2,    0.462,2, -999.000,9,   1.8240,2,     4.10,2,   -999.0,9,  -999.00,9,   7.560,2,   2175.0,2,   2311.5,2,  -999.0,    0.20,  0.0090,   0.151,-999.000
    316N145_10,  I07N,   730,  1,     26,     26,2,19950721,1451, -9.4473,  51.6482, 2857,   -999,    401.3,   9.8509,  34.8481,2,  34.8478,2,    131.4,2,  9.8045,    136.2,2,    25.38,2,    24.25,2,     0.00,2,     1.71,2,    0.817,2,    0.413,2,    0.211,2,-999.0000,9,  -999.00,9,   -999.0,9,  -999.00,9,-999.000,9,   2179.2,2,   2312.0,2,  -999.0, -999.00,-999.0000,-999.000,   0.008
    316N145_10,  I07N,   730,  1,     25,     25,2,19950721,1451, -9.4473,  51.6482, 2857,   -999,    453.3,   9.5143,  34.8323,2,  34.8309,2,    132.6,2,  9.4628,    132.6,2,    28.84,2,    25.32,2,     0.00,2,     1.79,2, -999.000,9, -999.000,9, -999.000,9,-999.0000,9,  -999.00,9,   -999.0,9,  -999.00,9,-999.000,9,   2187.3,2,   2314.7,2,  -999.0, -999.00,-999.0000,-999.000,-999.000
    316N145_10,  I07N,   730,  1,     24,     24,2,19950721,1451, -9.4473,  51.6482, 2857,   -999,    501.2,   9.0545,  34.8075,2,  34.8072,2,    128.5,2,  8.9991,    126.5,2,    32.48,2,    26.65,2,     0.00,2,     1.90,2,    0.573,2,    0.309,2, -999.000,9,-999.0000,9,  -999.00,9,   -999.0,9,  -999.00,9,-999.000,9,   2195.9,2,   2316.1,2,  -999.0, -999.00,-999.0000,-999.000,-999.000
    316N145_10,  I07N,   730,  1,     23,     23,2,19950721,1451, -9.4473,  51.6482, 2857,   -999,    597.7,   8.3814,  34.7921,2,  34.7913,2,    117.8,2,  8.3180,    117.3,2,    40.81,2,    28.69,2,     0.00,2,     2.06,2,    0.387,2,    0.195,2, -999.000,9,   1.8550,2,     4.60,2,   -999.0,9,  -999.00,9,   7.595,2,   2213.4,2,   2323.1,2,  -999.0,    0.20,  0.0090,   0.152,-999.000
    316N145_10,  I07N,   730,  1,     22,     22,2,19950721,1451, -9.4473,  51.6482, 2857,   -999,    693.0,   7.5110,  34.7737,2,  34.7734,2,    115.1,2,  7.4414,    110.2,2,    51.78,2,    30.70,2,     0.00,2,     2.24,2, -999.000,9, -999.000,9, -999.000,9,-999.0000,9,  -999.00,9,   -999.0,9,  -999.00,9,-999.000,9,   2230.9,2,   2333.5,2,  -999.0, -999.00,-999.0000,-999.000,-999.000
    316N145_10,  I07N,   730,  1,     21,     21,2,19950721,1451, -9.4473,  51.6482, 2857,   -999,    798.0,   6.5255,  34.7848,2,  34.7808,2,    102.1,2,  6.4508,     98.4,2,    67.86,2,    33.21,2,     0.00,2,     2.45,2,    0.082,2,    0.040,2, -999.000,9,-999.0000,9,  -999.00,9,   -999.0,9,  -999.00,9,-999.000,9,   2260.2,2,   2362.5,3,  -999.0, -999.00,-999.0000,-999.000,-999.000
    316N145_10,  I07N,   730,  1,     20,     20,2,19950721,1451, -9.4473,  51.6482, 2857,   -999,    860.1,   6.0871,  34.7720,2,  34.7724,2,     93.2,2,  6.0089,    100.6,2,    73.10,2,    33.62,2,     0.00,2,     2.48,2, -999.000,9, -999.000,9, -999.000,9,-999.0000,9,  -999.00,9,   -999.0,9,  -999.00,9,-999.000,9,   2265.6,2,   2354.4,2,  -999.0, -999.00,-999.0000,-999.000,-999.000
    316N145_10,  I07N,   730,  1,     19,     19,2,19950721,1451, -9.4473,  51.6482, 2857,   -999,    899.6,   5.8531,  34.7740,2,  34.7745,2,    101.0,2,  5.7727,     99.1,2,    76.95,2,    34.03,2,     0.00,2,     2.51,2,    0.043,2,    0.035,2, -999.000,9,   1.8460,2,     7.40,2,   -999.0,9,  -999.00,9,   7.743,2,   2271.9,2,   2356.8,2,  -999.0,    0.20,  0.0090,   0.155,-999.000
    316N145_10,  I07N,   730,  1,     18,     18,2,19950721,1451, -9.4473,  51.6482, 2857,   -999,   1001.6,   5.3058,  34.7582,2,  34.7604,2,    103.2,2,  5.2198,    104.1,2,    81.68,2,    34.21,2,     0.00,2,     2.52,2,    0.033,2,    0.004,2,    0.000,2,-999.0000,9,  -999.00,9,   -999.0,9,  -999.00,9,-999.000,9,   2275.5,2,   2365.6,2,  -999.0, -999.00,-999.0000,-999.000,   0.008
    316N145_10,  I07N,   730,  1,     17,     17,2,19950721,1451, -9.4473,  51.6482, 2857,   -999,   1099.3,   5.0118,  34.7559,2,  34.7565,2,    108.5,2,  4.9189,    107.3,2,    85.54,2,    34.35,2,     0.00,2,     2.53,2, -999.000,9, -999.000,9, -999.000,9,-999.0000,9,  -999.00,9,   -999.0,9,  -999.00,9,-999.000,9,   2279.3,2,   2362.3,2,  -999.0, -999.00,-999.0000,-999.000,-999.000
    316N145_10,  I07N,   730,  1,     16,     16,2,19950721,1451, -9.4473,  51.6482, 2857,   -999,   1196.8,   4.6373,  34.7516,2,  34.7510,2,    111.3,2,  4.5388,    114.6,2,    89.05,2,    34.36,2,     0.00,2,     2.52,2,    0.017,2,   -0.004,2, -999.000,9,   1.8690,2,    10.00,2,   -999.0,9,  -999.00,9,   7.854,2,   2280.1,2,   2369.1,2,  -999.0,    0.20,  0.0090,   0.157,-999.000
    316N145_10,  I07N,   730,  1,     15,     15,2,19950721,1451, -9.4473,  51.6482, 2857,   -999,   1299.6,   4.2909,  34.7396,2,  34.7398,2,    117.4,2,  4.1864,    118.9,2,    91.33,2,    34.32,2,     0.00,2,     2.52,2, -999.000,9, -999.000,9, -999.000,9,-999.0000,9,  -999.00,9,   -999.0,9,  -999.00,9,-999.000,9,   2282.2,2,   2372.5,2,  -999.0, -999.00,-999.0000,-999.000,-999.000
    316N145_10,  I07N,   730,  1,     14,     14,2,19950721,1451, -9.4473,  51.6482, 2857,   -999,   1400.3,   3.8128,  34.7406,2,  34.7415,2,    124.6,2,  3.7043,    124.8,2,    97.71,2,    34.32,2,     0.00,2,     2.51,2,    0.003,2,    0.013,2,    0.000,2,-999.0000,9,  -999.00,9,   -999.0,9,  -999.00,9,-999.000,9,   2286.9,2,   2377.2,2,  -999.0, -999.00,-999.0000,-999.000,   0.008
    316N145_10,  I07N,   730,  1,     13,     13,2,19950721,1451, -9.4473,  51.6482, 2857,   -999,   1497.2,   3.6054,  34.7440,2,  34.7433,2,    129.3,2,  3.4906,    128.3,2,   100.36,2,    34.24,2,     0.00,2,     2.50,2, -999.000,9, -999.000,9, -999.000,9,   1.8780,2,    11.40,2,   -999.0,9,  -999.00,9,   7.957,2,   2288.0,2,   2380.1,2,  -999.0,    0.20,  0.0090,   0.159,-999.000
    316N145_10,  I07N,   730,  1,     12,     12,2,19950721,1451, -9.4473,  51.6482, 2857,   -999,   1599.3,   3.3609,  34.7387,2,  34.7385,2,    134.9,2,  3.2400,    133.8,2,   102.65,2,    34.06,2,     0.00,2,     2.46,2, -999.000,9, -999.000,9, -999.000,9,-999.0000,9,  -999.00,9,   -999.0,9,  -999.00,9,-999.000,9,   2288.4,2,   2385.1,2,  -999.0, -999.00,-999.0000,-999.000,-999.000
    316N145_10,  I07N,   730,  1,     11,     11,2,19950721,1451, -9.4473,  51.6482, 2857,   -999,   1699.6,   3.0629,  34.7366,2,  34.7364,2,    138.0,2,  2.9370,    139.6,2,   105.67,2,    33.84,2,     0.00,2,     2.46,2, -999.000,9, -999.000,9, -999.000,9,-999.0000,9,  -999.00,9,   -999.0,9,  -999.00,9,-999.000,9,   2289.5,2,   2383.0,2,  -999.0, -999.00,-999.0000,-999.000,-999.000
    316N145_10,  I07N,   730,  1,     10,     10,2,19950721,1451, -9.4473,  51.6482, 2857,   -999,   1800.5,   2.8952,  34.7429,2,  34.7425,2,    142.4,2,  2.7627,    141.0,2,   109.42,2,    33.89,2,     0.00,2,     2.45,2,   -0.002,2,   -0.002,2,    0.000,2,   1.8910,2,    11.30,2,   -999.0,9,  -999.00,9,   8.006,2,   2292.6,2,   2392.8,2,  -999.0,    0.20,  0.0090,   0.160,   0.008
    316N145_10,  I07N,   730,  1,      9,      9,2,19950721,1451, -9.4473,  51.6482, 2857,   -999,   1897.0,   2.6689,  34.7423,2,  34.7403,2,    146.4,2,  2.5311,    145.4,2,   113.18,2,    33.81,2,     0.00,2,     2.43,2, -999.000,9, -999.000,9, -999.000,9,-999.0000,9,  -999.00,9,   -999.0,9,  -999.00,9,-999.000,9,   2294.1,2,   2375.2,3,  -999.0, -999.00,-999.0000,-999.000,-999.000
    316N145_10,  I07N,   730,  1,      8,      8,2,19950721,1451, -9.4473,  51.6482, 2857,   -999,   1998.7,   2.5406,  34.7427,2,  34.7414,2,    148.9,2,  2.3958,    147.9,2,   115.13,2,    33.72,2,     0.00,2,     2.43,2, -999.000,9, -999.000,9,    0.000,2,-999.0000,9,  -999.00,9,   -999.0,9,  -999.00,9,-999.000,9,   2296.0,2,   2399.3,2,  -999.0, -999.00,-999.0000,-999.000,   0.008
    316N145_10,  I07N,   730,  1,      7,      7,2,19950721,1451, -9.4473,  51.6482, 2857,   -999,   2099.1,   2.4562,  34.7426,2,  34.7416,2,    150.1,2,  2.3039,    150.9,2,   116.37,2,    33.68,2,     0.00,2,     2.43,2, -999.000,9, -999.000,9, -999.000,9,   1.9090,2,    12.20,2,   -999.0,9,  -999.00,9,   8.086,2,   2296.0,2,   2397.1,2,  -999.0,    0.20,  0.0100,   0.162,-999.000
    316N145_10,  I07N,   730,  1,      6,      6,2,19950721,1451, -9.4473,  51.6482, 2857,   -999,   2202.8,   2.3435,  34.7430,2,  34.7422,2,    151.7,2,  2.1837,    152.3,2,   118.51,2,    33.73,2,     0.00,2,     2.42,2, -999.000,9, -999.000,9, -999.000,9,-999.0000,9,  -999.00,9,   -999.0,9,  -999.00,9,-999.000,9,   2298.0,2,   2401.3,2,  -999.0, -999.00,-999.0000,-999.000,-999.000
    316N145_10,  I07N,   730,  1,      5,      5,2,19950721,1451, -9.4473,  51.6482, 2857,   -999,   2393.2,   2.1811,  34.7464,2,  34.7449,2,    152.7,2,  2.0069,    153.0,2,   122.13,2,    33.74,2,     0.00,2,     2.42,2, -999.000,9, -999.000,9, -999.000,9,   1.9000,2,    12.60,2,   -999.0,9,  -999.00,9,   8.251,2,   2301.7,2,   2407.0,2,  -999.0,    0.20,  0.0090,   0.165,-999.000
    316N145_10,  I07N,   730,  1,      4,      4,2,19950721,1451, -9.4473,  51.6482, 2857,   -999,   2596.0,   2.0344,  34.7443,2,  34.7451,2,    155.6,2,  1.8444,    156.6,2,   125.02,2,    33.61,2,     0.00,2,     2.41,2, -999.000,9, -999.000,9, -999.000,9,   1.9040,2,    13.00,2,   -999.0,9,  -999.00,9,   8.287,2,   2302.4,2,   2409.9,2,  -999.0,    0.20,  0.0100,   0.166,-999.000
    316N145_10,  I07N,   730,  1,      3,      3,2,19950721,1451, -9.4473,  51.6482, 2857,   -999,   2899.9,   1.8505,  34.7405,2,  34.7396,2,    160.5,2,  1.6355,    160.3,2,   128.29,2,    33.61,2,     0.00,2,     2.40,2, -999.000,9, -999.000,9, -999.000,9,   1.9000,2,    11.10,2,   -999.0,9,  -999.00,9,   8.358,2,   2303.5,2,   2411.0,2,  -999.0,    0.20,  0.0090,   0.167,-999.000
    316N145_10,  I07N,   730,  1,      2,      2,2,19950721,1451, -9.4473,  51.6482, 2857,   -999,   2977.4,   1.8408,  34.7400,2,  34.7388,2,    161.1,2,  1.6185,    161.0,2,   128.25,2,    33.62,2,     0.00,2,     2.40,2, -999.000,9, -999.000,9, -999.000,9,-999.0000,9,  -999.00,9,   -999.0,9,  -999.00,9,-999.000,9,   2303.0,2,   2406.7,2,  -999.0, -999.00,-999.0000,-999.000,-999.000
    316N145_10,  I07N,   730,  1,      1,      1,2,19950721,1451, -9.4473,  51.6482, 2857,   -999,   3002.6,   1.8263,  34.7392,2,  34.7388,2,    161.3,2,  1.6019,    161.5,2,   128.40,2,    33.62,2,     0.00,2,     2.41,2, -999.000,9, -999.000,9, -999.000,9,   1.9040,2,    10.40,2,   -999.0,9,  -999.00,9,   8.340,2,   2303.0,2,   2414.1,2,  -999.0,    0.20,  0.0100,   0.167,-999.000