BOTTLE,20080821WHPSIOSCD
EXPOCODE,SECT_ID,STNNBR,CASTNO,SAMPNO,BTLNBR,BTLNBR_FLAG_W,DATE,TIME,LATITUDE,LONGITUDE,DEPTH,CTDRAW,CTDPRS,CTDTMP,CTDSAL,CTDSAL_FLAG_W,SALNTY,SALNTY_FLAG_W,CTDOXY,CTDOXY_FLAG_W,THETA,OXYGEN,OXYGEN_FLAG_W,SILCAT,SILCAT_FLAG_W,NITRAT,NITRAT_FLAG_W,NITRIT,NITRIT_FLAG_W,PHSPHT,PHSPHT_FLAG_W,CFC-11,CFC-11_FLAG_W,CFC-12,CFC-12_FLAG_W,TRITUM,TRITUM_FLAG_W,HELIUM,HELIUM_FLAG_W,DELHE3,DELHE3_FLAG_W,DELC14,DELC14_FLAG_W,DELC13,DELC13_FLAG_W,NEON,NEON_FLAG_W,TCARBN,TCARBN_FLAG_W,ALKALI,ALKALI_FLAG_W,C14ERR,DELHER,HELIER,NEONER,TRITER
,,,,,,,,,,,,,DBAR,ITS-90,PSS-78,,PSS-78,,UMOL/KG,,DEG C,UMOL/KG,,UMOL/KG,,UMOL/KG,,UMOL/KG,,UMOL/KG,,PMOL/KG,,PMOL/KG,,TU,,NMOL/KG,,PERCNT,,/MILLE,,/MILLE,,NMOL/KG,,UMOL/KG,,UMOL/KG,,/MILLE,PERCNT,NMOL/KG,NMOL/KG,TU
    316N145_10,  I07N,   818,  1,     36,     36,2,19950814,0457, 20.3333,  64.4662, 3207,   -999,     14.0,  27.4986,  36.7752,2,  36.7743,2,    197.0,2, 27.4956,    194.7,2,     1.99,2,     0.13,2,     0.00,2,     0.35,2,    1.646,2,    0.927,2,    0.746,2,   1.6640,2,    -0.60,2,     52.4,2,     1.47,2,   6.824,2,   2034.6,2,   2402.5,2,     3.4,    0.20,  0.0080,   0.136,   0.008
    316N145_10,  I07N,   818,  1,     35,     35,2,19950814,0457, 20.3333,  64.4662, 3207,   -999,     40.7,  27.5031,  36.7751,2,  36.7735,2,    194.6,2, 27.4939,    194.1,2,     1.97,2,     0.18,2,     0.00,2,     0.34,2, -999.000,9, -999.000,9, -999.000,9,-999.0000,9,  -999.00,9,   -999.0,9,  -999.00,9,-999.000,9,   2034.9,2,   2402.0,2,  -999.0, -999.00,-999.0000,-999.000,-999.000
    316N145_10,  I07N,   818,  1,     34,     34,2,19950814,0457, 20.3333,  64.4662, 3207,   -999,     75.3,  24.0649,  36.5015,2,  36.5059,2,    134.0,2, 24.0492,    132.7,2,     4.80,2,    10.20,2,     0.07,2,     1.00,2,    1.820,2,    1.024,2,    0.637,2,   1.6950,2,     1.00,2,     39.6,2,     0.66,2,   6.917,2,   2113.9,2,   2384.3,2,     3.4,    0.20,  0.0080,   0.138,   0.008
    316N145_10,  I07N,   818,  1,     33,     33,2,19950814,0457, 20.3333,  64.4662, 3207,   -999,     95.4,  23.4334,  36.4028,2,  36.4011,2,     98.4,2, 23.4138,    101.5,2,     7.09,2,    14.24,2,     0.04,2,     1.26,2, -999.000,9, -999.000,9, -999.000,9,-999.0000,9,  -999.00,9,   -999.0,9,  -999.00,9,-999.000,9,   2140.9,2,   2372.8,2,  -999.0, -999.00,-999.0000,-999.000,-999.000
    316N145_10,  I07N,   818,  1,     32,     32,2,19950814,0457, 20.3333,  64.4662, 3207,   -999,    117.8,  21.9023,  36.1258,2,  36.1298,2,     34.6,2, 21.8792,     33.9,2,    11.33,2,    21.92,2,     0.03,2,     1.78,2,    1.509,2,    0.849,2, -999.000,9,-999.0000,9,  -999.00,9,   -999.0,9,  -999.00,9,-999.000,9,   2193.0,2,   2356.1,2,  -999.0, -999.00,-999.0000,-999.000,-999.000
    316N145_10,  I07N,   818,  1,     31,     31,2,19950814,0457, 20.3333,  64.4662, 3207,   -999,    149.8,  19.9036,  36.0018,2,  35.9847,2,      0.8,2, 19.8760,      0.7,2,    18.59,2,    22.90,2,     0.17,2,     2.21,2, -999.000,9, -999.000,9, -999.000,9,-999.0000,9,  -999.00,9,   -999.0,9,  -999.00,9,-999.000,9,   2236.6,2,   2347.5,2,  -999.0, -999.00,-999.0000,-999.000,-999.000
    316N145_10,  I07N,   818,  1,     30,     30,2,19950814,0457, 20.3333,  64.4662, 3207,   -999,    160.4,  19.4532,  35.9506,2,  35.9320,2,      0.8,2, 19.4241,      0.6,2,    19.99,2,    22.09,2,     0.60,2,     2.24,2,    1.023,2,    0.605,2,    0.530,2,   1.7300,2,     4.10,2,     11.4,2,    -0.29,2,   7.132,2,   2239.1,2,   2349.1,2,     3.5,    0.20,  0.0090,   0.143,   0.008
    316N145_10,  I07N,   818,  1,     29,     29,2,19950814,0457, 20.3333,  64.4662, 3207,   -999,    199.4,  17.7618,  35.9532,2,  35.9584,2,      0.8,2, 17.7278,      0.6,2,    24.40,2,    19.06,2,     2.13,2,     2.31,2, -999.000,9, -999.000,9, -999.000,9,-999.0000,9,  -999.00,9,   -999.0,9,  -999.00,9,-999.000,9,   2253.7,2,   2348.5,2,  -999.0, -999.00,-999.0000,-999.000,-999.000
    316N145_10,  I07N,   818,  1,     28,     28,2,19950814,0457, 20.3333,  64.4662, 3207,   -999,    232.8,  17.2157,  36.1217,2,  36.1381,2,      0.9,2, 17.1768,      2.1,2,    25.08,2,    21.81,2,     0.12,2,     2.25,2,    0.737,2,    0.459,2, -999.000,9,-999.0000,9,  -999.00,9,   -999.0,9,  -999.00,9,-999.000,9,   2262.3,2,   2357.7,2,  -999.0, -999.00,-999.0000,-999.000,-999.000
    316N145_10,  I07N,   818,  1,     27,     27,2,19950814,0457, 20.3333,  64.4662, 3207,   -999,    255.9,  16.7589,  36.1465,2,  36.1381,2,      0.9,2, 16.7168,      0.8,2,    26.82,2,    21.02,2,     0.11,2,     2.30,2, -999.000,9, -999.000,9, -999.000,9,-999.0000,9,  -999.00,9,   -999.0,9,  -999.00,9,-999.000,9,   2264.4,2,   2356.8,2,  -999.0, -999.00,-999.0000,-999.000,-999.000
    316N145_10,  I07N,   818,  1,     26,     26,2,19950814,0457, 20.3333,  64.4662, 3207,   -999,    274.7,  16.1110,  36.1150,2,  36.1195,2,      0.9,2, 16.0670,      0.7,2,    28.03,2,    20.23,2,     0.80,2,     2.33,2,    0.544,2,    0.351,2, -999.000,9,-999.0000,9,  -999.00,9,    -17.5,2,    -0.17,2,-999.000,9,   2269.0,2,   2360.0,2,     8.8, -999.00,-999.0000,-999.000,-999.000
    316N145_10,  I07N,   818,  1,     25,     25,2,19950814,0457, 20.3333,  64.4662, 3207,   -999,    319.9,  15.2057,  36.0740,2,  36.0674,2,      1.0,2, 15.1563,      0.8,2,    30.48,2,    21.19,2,     1.06,2,     2.38,2,    0.466,2,    0.287,2,    0.287,2,   1.7880,2,     1.90,2,    -34.4,2,    -0.16,2,   7.346,2,   2272.6,2,   2359.2,2,     3.3,    0.20,  0.0090,   0.147,   0.008
    316N145_10,  I07N,   818,  1,     24,     24,2,19950814,0457, 20.3333,  64.4662, 3207,   -999,    398.7,  13.7046,  35.8924,2,  35.8907,2,      1.0,2, 13.6471,      0.7,2,    36.48,2,    24.02,2,     0.15,2,     2.50,2,    0.282,2,    0.173,2, -999.000,9,-999.0000,9,  -999.00,9,   -999.0,9,  -999.00,9,-999.000,9,   2277.0,2,   2355.7,2,  -999.0, -999.00,-999.0000,-999.000,-999.000
    316N145_10,  I07N,   818,  1,     23,     23,2,19950814,0457, 20.3333,  64.4662, 3207,   -999,    499.2,  12.6325,  35.7682,2,  35.7661,2,      1.2,2, 12.5640,      0.7,2,    43.18,2,    25.16,2,     0.28,2,     2.61,2,    0.150,2,    0.097,2,    0.149,2,   1.7800,2,     4.10,2,    -79.2,2,    -0.12,2,   7.546,2,   2282.6,2,   2354.0,2,     4.6,    0.20,  0.0090,   0.151,   0.008
    316N145_10,  I07N,   818,  1,     22,     22,2,19950814,0457, 20.3333,  64.4662, 3207,   -999,    626.3,  11.5127,  35.6396,2,  35.6384,2,      1.3,2, 11.4313,      1.5,2,    51.29,2,    29.43,2,     0.00,2,     2.69,2,    0.070,2,    0.041,2, -999.000,9,-999.0000,9,  -999.00,9,   -999.0,9,  -999.00,9,-999.000,9,   2288.6,2,   2356.1,2,  -999.0, -999.00,-999.0000,-999.000,-999.000
    316N145_10,  I07N,   818,  1,     21,     21,2,19950814,0457, 20.3333,  64.4662, 3207,   -999,    725.4,  10.9148,  35.5979,2,  35.5956,2,      1.4,2, 10.8231,      1.5,2,    57.28,2,    31.17,2,     0.00,2,     2.75,2,    0.048,2,    0.029,2,    0.064,2,   1.8200,2,     5.30,2,   -117.5,2,    -0.19,2,   7.515,2,   2293.9,2,   2358.3,2,     4.2,    0.20,  0.0090,   0.150,   0.008
    316N145_10,  I07N,   818,  1,     20,     20,2,19950814,0457, 20.3333,  64.4662, 3207,   -999,    826.2,  10.3536,  35.5450,2,  35.5438,2,      1.5,2, 10.2521,      1.4,2,    62.38,2,    32.83,2,     0.00,2,     2.80,2, -999.000,9, -999.000,9, -999.000,9,-999.0000,9,  -999.00,9,   -999.0,9,  -999.00,9,-999.000,9,   2300.4,2,   2364.7,2,  -999.0, -999.00,-999.0000,-999.000,-999.000
    316N145_10,  I07N,   818,  1,     19,     19,2,19950814,0457, 20.3333,  64.4662, 3207,   -999,    927.8,   9.5154,  35.4722,2,  35.4752,2,      1.6,2,  9.4065,      2.6,2,    70.16,2,    34.77,2,     0.00,2,     2.86,2,    0.023,2,    0.012,2,    0.000,2,   1.8330,2,     5.90,2,   -133.0,2,    -0.28,2,   7.716,2,   2310.9,2,   2366.2,2,     3.0,    0.20,  0.0090,   0.154,   0.008
    316N145_10,  I07N,   818,  1,     18,     18,2,19950814,0457, 20.3333,  64.4662, 3207,   -999,   1052.4,   8.5269,  35.3738,2,  35.3739,2,      2.7,2,  8.4101,      3.8,2,    78.84,2,    36.63,2,     0.00,2,     2.96,2, -999.000,9, -999.000,9, -999.000,9,-999.0000,9,  -999.00,9,   -139.6,2,    -0.14,2,-999.000,9,   2322.6,2,   2375.8,2,     2.9, -999.00,-999.0000,-999.000,-999.000
    316N145_10,  I07N,   818,  1,     17,     17,2,19950814,0457, 20.3333,  64.4662, 3207,   -999,   1200.1,   7.5216,  35.2646,2,  35.2623,2,      9.3,2,  7.3963,     10.0,2,    87.92,2,    38.07,2,     0.00,2,     3.02,2,    0.005,2,    0.003,2, -999.000,9,   1.8460,2,    11.40,2,   -148.4,2,    -0.21,2,   7.751,2,   -999.9,5,   2378.2,2,     3.0,    0.20,  0.0090,   0.155,-999.000
    316N145_10,  I07N,   818,  1,     16,     16,2,19950814,0457, 20.3333,  64.4662, 3207,   -999,   1350.2,   6.4681,  35.1539,2,  35.1527,2,     18.9,2,  6.3362,     19.4,2,    97.95,2,    38.64,2,     0.00,2,     3.05,2, -999.000,9, -999.000,9, -999.000,9,   1.8690,2,    12.60,2,   -160.1,2,    -0.23,2,   7.850,2,   2342.1,2,   2391.5,2,     4.2,    0.20,  0.0090,   0.157,-999.000
    316N145_10,  I07N,   818,  1,     15,     15,2,19950814,0457, 20.3333,  64.4662, 3207,   -999,   1503.5,   5.4640,  35.0523,2,  35.0521,2,     35.8,2,  5.3270,     34.8,2,   107.89,2,    38.73,2,     0.00,2,     3.01,2,   -0.001,2,    0.001,2,    0.000,2,   1.8910,2,    13.30,2,   -168.6,2,    -0.20,2,   7.885,2,   2348.4,2,   2401.0,2,     2.9,    0.20,  0.0090,   0.158,   0.008
    316N145_10,  I07N,   818,  1,     14,     14,2,19950814,0457, 20.3333,  64.4662, 3207,   -999,   1653.3,   4.6052,  34.9721,2,  34.9733,2,     49.9,2,  4.4635,     49.6,2,   117.21,2,    38.54,2,     0.00,2,     2.97,2, -999.000,9, -999.000,9, -999.000,9,   1.8870,2,    12.80,2,   -185.6,2,    -0.31,2,   7.925,2,   2352.0,2,   2411.3,2,     2.8,    0.20,  0.0090,   0.159,-999.000
    316N145_10,  I07N,   818,  1,     13,     13,2,19950814,0457, 20.3333,  64.4662, 3207,   -999,   1799.8,   3.8812,  34.9083,2,  34.9081,2,     64.0,2,  3.7349,     64.2,2,   124.97,2,    38.29,2,     0.00,2,     2.91,2,    0.001,2,   -0.002,2, -999.000,9,   1.9130,2,    14.50,2,   -190.4,2,    -0.21,2,   7.983,2,   2355.6,2,   2417.4,2,     2.9,    0.20,  0.0100,   0.160,-999.000
    316N145_10,  I07N,   818,  1,     12,     12,2,19950814,0457, 20.3333,  64.4662, 3207,   -999,   1900.5,   3.4785,  34.8732,2,  34.8743,2,     72.8,2,  3.3284,     73.0,2,   129.42,2,    38.04,2,     0.00,2,     2.87,2, -999.000,9, -999.000,9, -999.000,9,   1.9000,2,    15.00,2,   -194.6,2,    -0.14,2,   7.983,2,   2357.5,2,   2425.3,2,     2.6,    0.20,  0.0090,   0.160,-999.000
    316N145_10,  I07N,   818,  1,     11,     11,2,19950814,0457, 20.3333,  64.4662, 3207,   -999,   1997.6,   3.1434,  34.8467,2,  34.8468,2,     81.9,2,  2.9893,     81.4,2,   132.95,2,    37.80,2,     0.00,2,     2.83,2, -999.000,9, -999.000,9, -999.000,9,   1.9040,2,    14.30,2,   -192.2,2,    -0.13,2,   8.104,2,   2358.1,2,   2428.4,2,     2.9,    0.20,  0.0100,   0.162,-999.000
    316N145_10,  I07N,   818,  1,     10,     10,2,19950814,0457, 20.3333,  64.4662, 3207,   -999,   2151.2,   2.7604,  34.8164,2,  34.8144,2,     91.7,2,  2.5983,     91.8,2,   137.66,2,    37.50,2,     0.00,2,     2.78,2,    0.000,2,    0.001,2, -999.000,9,   1.8870,2,    13.70,2,   -999.0,9,  -999.00,9,   8.206,2,   2357.6,2,   2435.5,2,  -999.0,    0.20,  0.0090,   0.164,-999.000
    316N145_10,  I07N,   818,  1,      9,      9,2,19950814,0457, 20.3333,  64.4662, 3207,   -999,   2296.9,   2.4587,  34.7921,2,  34.7906,2,    100.5,2,  2.2883,    100.4,2,   140.67,2,    37.21,2,     0.00,2,     2.72,2,    0.000,2,    0.000,2, -999.000,9,   1.8910,2,    13.90,2,   -999.0,9,  -999.00,9,   8.140,2,   2358.5,2,   2437.5,2,  -999.0,    0.20,  0.0090,   0.163,-999.000
    316N145_10,  I07N,   818,  1,      8,      8,2,19950814,0457, 20.3333,  64.4662, 3207,   -999,   2448.6,   2.2365,  34.7763,2,  34.7751,2,    105.8,2,  2.0562,    106.2,2,   143.70,2,    36.96,2,     0.00,2,     2.70,2, -999.000,9, -999.000,9, -999.000,9,   1.8780,2,    14.60,2,   -999.0,9,  -999.00,9,   8.224,2,   2360.9,2,   2445.1,2,  -999.0,    0.20,  0.0090,   0.164,-999.000
    316N145_10,  I07N,   818,  1,      7,      7,2,19950814,0457, 20.3333,  64.4662, 3207,   -999,   2600.9,   2.0509,  34.7625,2,  34.7620,2,    111.5,2,  1.8600,    111.7,2,   145.77,2,    36.76,2,     0.00,2,     2.66,2, -999.000,9, -999.000,9, -999.000,9,   1.9130,2,    14.80,2,   -999.0,9,  -999.00,9,   8.197,2,   2361.3,2,   2447.5,2,  -999.0,    0.20,  0.0100,   0.164,-999.000
    316N145_10,  I07N,   818,  1,      6,      6,2,19950814,0457, 20.3333,  64.4662, 3207,   -999,   2747.9,   1.9186,  34.7535,2,  34.7524,2,    114.3,2,  1.7166,    114.6,2,   148.25,2,    36.66,2,     0.00,2,     2.65,2,    0.001,2,    0.006,2, -999.000,9,   1.9000,2,    13.70,2,   -999.0,9,  -999.00,9,   8.282,2,   2364.3,2,   2455.2,2,  -999.0,    0.20,  0.0090,   0.166,-999.000
    316N145_10,  I07N,   818,  1,      5,      5,2,19950814,0457, 20.3333,  64.4662, 3207,   -999,   2902.7,   1.8262,  34.7467,2,  34.7455,2,    118.4,2,  1.6114,    118.4,2,   149.15,2,    36.56,2,     0.00,2,     2.62,2, -999.000,9, -999.000,9, -999.000,9,   1.9090,2,    13.90,2,   -999.0,9,  -999.00,9,   8.269,2,   2364.3,2,   2455.4,2,  -999.0,    0.20,  0.0100,   0.165,-999.000
    316N145_10,  I07N,   818,  1,      4,      4,2,19950814,0457, 20.3333,  64.4662, 3207,   -999,   3001.7,   1.7771,  34.7435,2,  34.7427,2,    121.2,2,  1.5538,    120.8,2,   150.05,2,    36.46,2,     0.00,2,     2.62,2,    0.004,2,    0.010,2,    0.000,2,   1.8960,2,    14.50,2,   -999.0,9,  -999.00,9,   8.345,2,   2363.8,2,   2459.5,2,  -999.0,    0.20,  0.0090,   0.167,   0.008
    316N145_10,  I07N,   818,  1,      3,      3,2,19950814,0457, 20.3333,  64.4662, 3207,   -999,   3102.3,   1.7321,  34.7395,2,  34.7394,2,    123.0,2,  1.5000,    122.9,2,   150.36,2,    36.45,2,     0.00,2,     2.59,2, -999.000,9, -999.000,9, -999.000,9,   1.9090,2,    14.60,2,   -999.0,9,  -999.00,9,   8.322,2,   2364.6,2,   2459.2,2,  -999.0,    0.20,  0.0100,   0.166,-999.000
    316N145_10,  I07N,   818,  1,      2,      2,2,19950814,0457, 20.3333,  64.4662, 3207,   -999,   3202.6,   1.7060,  34.7389,2,  34.7382,2,    123.0,2,  1.4646,    123.3,2,   151.07,2,    36.44,2,     0.00,2,     2.60,2,    0.006,2,    0.019,2, -999.000,9,-999.0000,9,  -999.00,9,   -999.0,9,  -999.00,9,-999.000,9,   2366.0,2,   2461.7,2,  -999.0, -999.00,-999.0000,-999.000,-999.000
    316N145_10,  I07N,   818,  1,      1,      1,2,19950814,0457, 20.3333,  64.4662, 3207,   -999,   3246.5,   1.6941,  34.7391,2,  34.7367,2,    121.1,2,  1.4486,    121.6,2,   151.78,2,    36.49,2,     0.00,2,     2.59,2,    0.010,2,    0.032,2,    0.000,2,   1.9090,2,    14.90,2,   -999.0,9,  -999.00,9,   8.363,2,   2370.3,2,   2468.4,2,  -999.0,    0.20,  0.0100,   0.167,   0.008