BOTTLE,20080821WHPSIOSCD
EXPOCODE,SECT_ID,STNNBR,CASTNO,SAMPNO,BTLNBR,BTLNBR_FLAG_W,DATE,TIME,LATITUDE,LONGITUDE,DEPTH,CTDRAW,CTDPRS,CTDTMP,CTDSAL,CTDSAL_FLAG_W,SALNTY,SALNTY_FLAG_W,CTDOXY,CTDOXY_FLAG_W,THETA,OXYGEN,OXYGEN_FLAG_W,SILCAT,SILCAT_FLAG_W,NITRAT,NITRAT_FLAG_W,NITRIT,NITRIT_FLAG_W,PHSPHT,PHSPHT_FLAG_W,CFC-11,CFC-11_FLAG_W,CFC-12,CFC-12_FLAG_W,TRITUM,TRITUM_FLAG_W,HELIUM,HELIUM_FLAG_W,DELHE3,DELHE3_FLAG_W,DELC14,DELC14_FLAG_W,DELC13,DELC13_FLAG_W,NEON,NEON_FLAG_W,TCARBN,TCARBN_FLAG_W,ALKALI,ALKALI_FLAG_W,C14ERR,DELHER,HELIER,NEONER,TRITER
,,,,,,,,,,,,,DBAR,ITS-90,PSS-78,,PSS-78,,UMOL/KG,,DEG C,UMOL/KG,,UMOL/KG,,UMOL/KG,,UMOL/KG,,UMOL/KG,,PMOL/KG,,PMOL/KG,,TU,,NMOL/KG,,PERCNT,,/MILLE,,/MILLE,,NMOL/KG,,UMOL/KG,,UMOL/KG,,/MILLE,PERCNT,NMOL/KG,NMOL/KG,TU
    316N145_10,  I07N,   787,  1,     36,     36,2,19950806,0918, 11.0757,  64.6652, 4331,   -999,      3.6,  27.7344,  36.5280,2,  36.5293,2,    200.5,2, 27.7338,    196.1,2,     1.77,2,     0.04,2,     0.00,2,     0.26,2,    1.617,2,    0.928,2, -999.000,9,-999.0000,9,  -999.00,9,   -999.0,9,  -999.00,9,-999.000,9,   2018.1,2,   2385.5,2,  -999.0, -999.00,-999.0000,-999.000,-999.000
    316N145_10,  I07N,   787,  1,     35,     35,2,19950806,0918, 11.0757,  64.6652, 4331,   -999,     32.1,  27.5970,  36.5246,2,  36.5247,2,    195.5,2, 27.5897,    196.9,2,     1.76,2,     0.04,2,     0.00,2,     0.26,2,    1.637,2,    0.925,2, -999.000,9,-999.0000,9,  -999.00,9,   -999.0,9,  -999.00,9,-999.000,9,   -999.9,9,   -999.9,9,  -999.0, -999.00,-999.0000,-999.000,-999.000
    316N145_10,  I07N,   787,  1,     34,     34,2,19950806,0918, 11.0757,  64.6652, 4331,   -999,     62.4,  27.5732,  36.5239,2,  36.5247,2,    196.7,2, 27.5589,    194.3,2,     1.75,2,     0.07,2,     0.01,2,     0.27,2, -999.000,9, -999.000,9, -999.000,9,-999.0000,9,  -999.00,9,   -999.0,9,  -999.00,9,-999.000,9,   -999.9,9,   -999.9,9,  -999.0, -999.00,-999.0000,-999.000,-999.000
    316N145_10,  I07N,   787,  1,     33,     33,2,19950806,0918, 11.0757,  64.6652, 4331,   -999,     92.0,  27.5625,  36.5305,2,  36.5315,2,    193.3,2, 27.5413,    191.1,2,     1.74,2,     0.21,2,     0.05,2,     0.29,2,    1.643,2,    0.938,2, -999.000,9,-999.0000,9,  -999.00,9,   -999.0,9,  -999.00,9,-999.000,9,   -999.9,9,   -999.9,9,  -999.0, -999.00,-999.0000,-999.000,-999.000
    316N145_10,  I07N,   787,  1,     32,     32,2,19950806,0918, 11.0757,  64.6652, 4331,   -999,    122.6,  24.9484,  36.2581,2,  36.2521,2,    132.5,2, 24.9219,    131.7,2,     4.89,2,    10.92,2,     0.04,2,     0.99,2,    1.727,2,    0.967,2, -999.000,9,-999.0000,9,  -999.00,9,   -999.0,9,  -999.00,9,-999.000,9,   -999.9,9,   -999.9,9,  -999.0, -999.00,-999.0000,-999.000,-999.000
    316N145_10,  I07N,   787,  1,     31,     31,2,19950806,0918, 11.0757,  64.6652, 4331,   -999,    152.3,  21.3316,  35.8309,2,  35.8054,2,     26.4,2, 21.3022,     27.3,2,    13.25,2,    23.44,2,     0.02,2,     1.89,2,    1.376,2,    0.770,2, -999.000,9,-999.0000,9,  -999.00,9,   -999.0,9,  -999.00,9,-999.000,9,   -999.9,9,   -999.9,9,  -999.0, -999.00,-999.0000,-999.000,-999.000
    316N145_10,  I07N,   787,  1,     30,     30,2,19950806,0918, 11.0757,  64.6652, 4331,   -999,    182.3,  17.8089,  35.6484,2,  35.6112,2,      1.9,2, 17.7779,      3.9,2,    21.98,2,    24.31,2,     0.08,2,     2.26,2,    0.810,2,    0.471,2, -999.000,9,-999.0000,9,  -999.00,9,   -999.0,9,  -999.00,9,-999.000,9,   -999.9,9,   -999.9,9,  -999.0, -999.00,-999.0000,-999.000,-999.000
    316N145_10,  I07N,   787,  1,     29,     29,2,19950806,0918, 11.0757,  64.6652, 4331,   -999,    252.8,  14.4733,  35.4912,2,  35.4810,2,     12.5,2, 14.4359,     12.9,2,    26.43,2,    26.46,2,     0.00,2,     2.27,2,    0.530,2,    0.297,2, -999.000,9,-999.0000,9,  -999.00,9,   -999.0,9,  -999.00,9,-999.000,9,   -999.9,9,   -999.9,9,  -999.0, -999.00,-999.0000,-999.000,-999.000
    316N145_10,  I07N,   787,  1,     28,     28,2,19950806,0918, 11.0757,  64.6652, 4331,   -999,    308.3,  12.9460,  35.3504,2,  35.3519,2,      9.7,2, 12.9035,     16.5,2,    28.65,2,    29.09,2,     0.00,2,     2.30,2,    0.378,2,    0.213,2, -999.000,9,-999.0000,9,  -999.00,9,   -999.0,9,  -999.00,9,-999.000,9,   -999.9,9,   -999.9,9,  -999.0, -999.00,-999.0000,-999.000,-999.000
    316N145_10,  I07N,   787,  1,     27,     27,2,19950806,0918, 11.0757,  64.6652, 4331,   -999,    369.3,  12.2190,  35.3189,2,  35.3174,2,     12.0,2, 12.1699,     13.8,2,    31.98,2,    30.76,2,     0.00,2,     2.39,2, -999.000,9, -999.000,9, -999.000,9,-999.0000,9,  -999.00,9,   -999.0,9,  -999.00,9,-999.000,9,   -999.9,9,   -999.9,9,  -999.0, -999.00,-999.0000,-999.000,-999.000
    316N145_10,  I07N,   787,  1,     26,     26,2,19950806,0918, 11.0757,  64.6652, 4331,   -999,    453.7,  11.6204,  35.3395,2,  35.3408,2,     10.1,2, 11.5617,     11.6,2,    37.35,2,    31.88,2,     0.00,2,     2.51,2,    0.133,6,    0.081,6, -999.000,9,-999.0000,9,  -999.00,9,   -999.0,9,  -999.00,9,-999.000,9,   -999.9,9,   -999.9,9,  -999.0, -999.00,-999.0000,-999.000,-999.000
    316N145_10,  I07N,   787,  1,     25,     25,2,19950806,0918, 11.0757,  64.6652, 4331,   -999,    553.8,  11.1536,  35.3858,2,  35.3849,2,     10.3,2, 11.0835,     12.1,2,    43.66,2,    32.25,2,     0.00,2,     2.61,2,    0.081,2,    0.052,2, -999.000,9,-999.0000,9,  -999.00,9,   -999.0,9,  -999.00,9,-999.000,9,   -999.9,9,   -999.9,9,  -999.0, -999.00,-999.0000,-999.000,-999.000
    316N145_10,  I07N,   787,  1,     24,     24,2,19950806,0918, 11.0757,  64.6652, 4331,   -999,    652.9,  10.6441,  35.4092,2,  35.4092,2,      9.8,2, 10.5633,      9.7,2,    51.45,2,    33.19,2,     0.00,2,     2.71,2,    0.049,2,    0.030,2, -999.000,9,-999.0000,9,  -999.00,9,   -999.0,9,  -999.00,9,-999.000,9,   -999.9,9,   -999.9,9,  -999.0, -999.00,-999.0000,-999.000,-999.000
    316N145_10,  I07N,   787,  1,     23,     23,2,19950806,0918, 11.0757,  64.6652, 4331,   -999,    753.5,   9.8711,  35.3545,2,  35.3539,2,     14.1,2,  9.7817,     14.6,2,    58.51,2,    34.22,2,     0.00,2,     2.75,2,    0.039,2,    0.025,2, -999.000,9,-999.0000,9,  -999.00,9,   -999.0,9,  -999.00,9,-999.000,9,   -999.9,9,   -999.9,9,  -999.0, -999.00,-999.0000,-999.000,-999.000
    316N145_10,  I07N,   787,  1,     22,     22,2,19950806,0918, 11.0757,  64.6652, 4331,   -999,    849.0,   9.1910,  35.3141,2,  35.3151,2,     14.4,2,  9.0939,     14.6,2,    66.31,2,    35.40,2,     0.00,2,     2.83,2,    0.023,2,    0.016,2, -999.000,9,-999.0000,9,  -999.00,9,   -999.0,9,  -999.00,9,-999.000,9,   -999.9,9,   -999.9,9,  -999.0, -999.00,-999.0000,-999.000,-999.000
    316N145_10,  I07N,   787,  1,     21,     21,2,19950806,0918, 11.0757,  64.6652, 4331,   -999,    998.8,   8.1989,  35.2310,2,  35.2307,2,     22.3,2,  8.0910,     22.5,2,    75.07,2,    36.25,2,     0.00,2,     2.86,2, -999.000,9, -999.000,9, -999.000,9,-999.0000,9,  -999.00,9,   -999.0,9,  -999.00,9,-999.000,9,   -999.9,9,   -999.9,9,  -999.0, -999.00,-999.0000,-999.000,-999.000
    316N145_10,  I07N,   787,  1,     20,     20,2,19950806,0918, 11.0757,  64.6652, 4331,   -999,   1098.8,   7.6020,  35.1785,2,  35.1800,2,     24.4,2,  7.4875,     24.1,2,    81.23,2,    36.92,2,     0.00,2,     2.92,2,    0.006,2,    0.001,2, -999.000,9,-999.0000,9,  -999.00,9,   -999.0,9,  -999.00,9,-999.000,9,   -999.9,9,   -999.9,9,  -999.0, -999.00,-999.0000,-999.000,-999.000
    316N145_10,  I07N,   787,  1,     19,     19,2,19950806,0918, 11.0757,  64.6652, 4331,   -999,   1199.2,   6.8468,  35.1038,2,  35.1043,2,     33.4,2,  6.7277,     32.3,2,    87.77,2,    37.30,2,     0.00,2,     2.93,2,    0.002,2,    0.004,2, -999.000,9,-999.0000,9,  -999.00,9,   -999.0,9,  -999.00,9,-999.000,9,   -999.9,9,   -999.9,9,  -999.0, -999.00,-999.0000,-999.000,-999.000
    316N145_10,  I07N,   787,  1,     18,     18,2,19950806,0918, 11.0757,  64.6652, 4331,   -999,   1301.1,   6.1840,  35.0469,2,  35.0467,2,     42.8,2,  6.0604,     42.4,2,    93.78,2,    37.36,2,     0.00,2,     2.91,2,    0.002,2,    0.004,2, -999.000,9,-999.0000,9,  -999.00,9,   -999.0,9,  -999.00,9,-999.000,9,   -999.9,9,   -999.9,9,  -999.0, -999.00,-999.0000,-999.000,-999.000
    316N145_10,  I07N,   787,  1,     17,     17,2,19950806,0918, 11.0757,  64.6652, 4331,   -999,   1400.1,   5.6266,  34.9998,2,  34.9995,2,     50.5,2,  5.4985,     49.7,2,    99.42,2,    37.46,2,     0.00,2,     2.91,2,    0.001,2,   -0.002,2, -999.000,9,-999.0000,9,  -999.00,9,   -999.0,9,  -999.00,9,-999.000,9,   -999.9,9,   -999.9,9,  -999.0, -999.00,-999.0000,-999.000,-999.000
    316N145_10,  I07N,   787,  1,     16,     16,2,19950806,0918, 11.0757,  64.6652, 4331,   -999,   1501.5,   5.0811,  34.9625,2,  34.9632,2,     58.5,2,  4.9488,     58.2,2,   105.47,2,    37.42,2,     0.00,2,     2.90,2,   -0.002,2,   -0.004,2, -999.000,9,-999.0000,9,  -999.00,9,   -999.0,9,  -999.00,9,-999.000,9,   -999.9,9,   -999.9,9,  -999.0, -999.00,-999.0000,-999.000,-999.000
    316N145_10,  I07N,   787,  1,     15,     15,2,19950806,0918, 11.0757,  64.6652, 4331,   -999,   1597.5,   4.5681,  34.9245,2,  34.9223,2,     69.7,2,  4.4324,     68.3,2,   110.98,2,    37.24,2,     0.00,2,     2.89,2,    0.002,2,   -0.003,2, -999.000,9,-999.0000,9,  -999.00,9,   -999.0,9,  -999.00,9,-999.000,9,   -999.9,9,   -999.9,9,  -999.0, -999.00,-999.0000,-999.000,-999.000
    316N145_10,  I07N,   787,  1,     14,     14,2,19950806,0918, 11.0757,  64.6652, 4331,   -999,   1799.9,   3.6448,  34.8594,2,  34.8597,2,     87.7,2,  3.5018,     88.8,2,   120.19,2,    36.78,2,     0.00,2,     2.81,2,   -0.001,2,    0.004,2, -999.000,9,-999.0000,9,  -999.00,9,   -999.0,9,  -999.00,9,-999.000,9,   -999.9,9,   -999.9,9,  -999.0, -999.00,-999.0000,-999.000,-999.000
    316N145_10,  I07N,   787,  1,     13,     13,2,19950806,0918, 11.0757,  64.6652, 4331,   -999,   1997.9,   3.0145,  34.8180,2,  34.8194,2,    103.8,2,  2.8624,    105.4,2,   126.38,2,    36.17,2,     0.00,2,     2.73,2, -999.000,9, -999.000,9, -999.000,9,-999.0000,9,  -999.00,9,   -999.0,9,  -999.00,9,-999.000,9,   -999.9,9,   -999.9,9,  -999.0, -999.00,-999.0000,-999.000,-999.000
    316N145_10,  I07N,   787,  1,     12,     12,2,19950806,0918, 11.0757,  64.6652, 4331,   -999,   2200.9,   2.6073,  34.7918,2,  34.7923,2,    116.3,2,  2.4432,    117.6,2,   129.87,2,    35.80,2,     0.00,2,     2.65,2, -999.000,9, -999.000,9, -999.000,9,-999.0000,9,  -999.00,9,   -999.0,9,  -999.00,9,-999.000,9,   -999.9,9,   -999.9,9,  -999.0, -999.00,-999.0000,-999.000,-999.000
    316N145_10,  I07N,   787,  1,     11,     11,2,19950806,0918, 11.0757,  64.6652, 4331,   -999,   2398.2,   2.3168,  34.7744,2,  34.7762,2,    125.3,2,  2.1397,    125.7,2,   133.19,2,    35.48,2,     0.00,2,     2.62,2, -999.000,9, -999.000,9, -999.000,9,-999.0000,9,  -999.00,9,   -999.0,9,  -999.00,9,-999.000,9,   -999.9,9,   -999.9,9,  -999.0, -999.00,-999.0000,-999.000,-999.000
    316N145_10,  I07N,   787,  1,     10,     10,2,19950806,0918, 11.0757,  64.6652, 4331,   -999,   2600.6,   2.0853,  34.7626,2,  34.7627,2,    128.9,2,  1.8938,    129.5,2,   137.31,2,    35.49,2,     0.00,2,     2.61,2, -999.000,9, -999.000,9, -999.000,9,-999.0000,9,  -999.00,9,   -999.0,9,  -999.00,9,-999.000,9,   -999.9,9,   -999.9,9,  -999.0, -999.00,-999.0000,-999.000,-999.000
    316N145_10,  I07N,   787,  1,      9,      9,2,19950806,0918, 11.0757,  64.6652, 4331,   -999,   2799.5,   1.9078,  34.7518,2,  34.7513,2,    134.0,2,  1.7011,    134.0,2,   139.86,2,    35.35,2,     0.00,2,     2.58,2, -999.000,9, -999.000,9, -999.000,9,-999.0000,9,  -999.00,9,   -999.0,9,  -999.00,9,-999.000,9,   -999.9,9,   -999.9,9,  -999.0, -999.00,-999.0000,-999.000,-999.000
    316N145_10,  I07N,   787,  1,      8,      8,2,19950806,0918, 11.0757,  64.6652, 4331,   -999,   2997.1,   1.8003,  34.7440,2,  34.7429,2,    142.8,2,  1.5770,    144.7,2,   137.64,2,    34.84,2,     0.00,2,     2.53,2, -999.000,9, -999.000,9, -999.000,9,-999.0000,9,  -999.00,9,   -999.0,9,  -999.00,9,-999.000,9,   -999.9,9,   -999.9,9,  -999.0, -999.00,-999.0000,-999.000,-999.000
    316N145_10,  I07N,   787,  1,      7,      7,2,19950806,0918, 11.0757,  64.6652, 4331,   -999,   3199.7,   1.7438,  34.7408,2,  34.7399,2,    149.7,2,  1.5018,    148.9,2,   137.40,2,    34.66,2,     0.00,2,     2.51,2, -999.000,9, -999.000,9, -999.000,9,-999.0000,9,  -999.00,9,   -999.0,9,  -999.00,9,-999.000,9,   -999.9,9,   -999.9,9,  -999.0, -999.00,-999.0000,-999.000,-999.000
    316N145_10,  I07N,   787,  1,      6,      6,2,19950806,0918, 11.0757,  64.6652, 4331,   -999,   3399.1,   1.7178,  34.7380,2,  34.7366,2,    152.7,2,  1.4563,    152.8,2,   136.97,2,    34.57,2,     0.00,2,     2.50,2, -999.000,9, -999.000,9, -999.000,9,-999.0000,9,  -999.00,9,   -999.0,9,  -999.00,9,-999.000,9,   -999.9,9,   -999.9,9,  -999.0, -999.00,-999.0000,-999.000,-999.000
    316N145_10,  I07N,   787,  1,      5,      5,2,19950806,0918, 11.0757,  64.6652, 4331,   -999,   3702.0,   1.6961,  34.7351,2,  34.7343,2,    154.4,2,  1.4037,    154.2,2,   137.33,2,    34.53,2,     0.00,2,     2.49,2, -999.000,9, -999.000,9, -999.000,9,-999.0000,9,  -999.00,9,   -999.0,9,  -999.00,9,-999.000,9,   -999.9,9,   -999.9,9,  -999.0, -999.00,-999.0000,-999.000,-999.000
    316N145_10,  I07N,   787,  1,      4,      4,2,19950806,0918, 11.0757,  64.6652, 4331,   -999,   4002.8,   1.6881,  34.7345,2,  34.7339,2,    155.2,2,  1.3634,    153.2,2,   138.09,2,    34.63,2,     0.00,2,     2.49,2, -999.000,9, -999.000,9, -999.000,9,-999.0000,9,  -999.00,9,   -999.0,9,  -999.00,9,-999.000,9,   -999.9,9,   -999.9,9,  -999.0, -999.00,-999.0000,-999.000,-999.000
    316N145_10,  I07N,   787,  1,      3,      3,2,19950806,0918, 11.0757,  64.6652, 4331,   -999,   4299.1,   1.6858,  34.7326,2,  34.7300,2,    154.4,2,  1.3280,    153.8,2,   139.04,2,    34.73,2,     0.00,2,     2.49,2, -999.000,9, -999.000,9, -999.000,9,-999.0000,9,  -999.00,9,   -999.0,9,  -999.00,9,-999.000,9,   -999.9,9,   -999.9,9,  -999.0, -999.00,-999.0000,-999.000,-999.000
    316N145_10,  I07N,   787,  1,      2,      2,2,19950806,0918, 11.0757,  64.6652, 4331,   -999,   4372.8,   1.6867,  34.7329,2,  34.7319,2,    153.0,2,  1.3205,    152.4,2,   139.80,2,    34.83,2,     0.00,2,     2.50,2, -999.000,9, -999.000,9, -999.000,9,-999.0000,9,  -999.00,9,   -999.0,9,  -999.00,9,-999.000,9,   -999.9,9,   -999.9,9,  -999.0, -999.00,-999.0000,-999.000,-999.000
    316N145_10,  I07N,   787,  1,      1,      1,2,19950806,0918, 11.0757,  64.6652, 4331,   -999,   4399.2,   1.6889,  34.7322,2,  34.7313,2,    152.8,2,  1.3195,    152.9,2,   139.37,2,    34.79,2,     0.00,2,     2.49,2, -999.000,9, -999.000,9, -999.000,9,-999.0000,9,  -999.00,9,   -999.0,9,  -999.00,9,-999.000,9,   -999.9,9,   -999.9,9,  -999.0, -999.00,-999.0000,-999.000,-999.000