BOTTLE,20080821WHPSIOSCD
EXPOCODE,SECT_ID,STNNBR,CASTNO,SAMPNO,BTLNBR,BTLNBR_FLAG_W,DATE,TIME,LATITUDE,LONGITUDE,DEPTH,CTDRAW,CTDPRS,CTDTMP,CTDSAL,CTDSAL_FLAG_W,SALNTY,SALNTY_FLAG_W,CTDOXY,CTDOXY_FLAG_W,THETA,OXYGEN,OXYGEN_FLAG_W,SILCAT,SILCAT_FLAG_W,NITRAT,NITRAT_FLAG_W,NITRIT,NITRIT_FLAG_W,PHSPHT,PHSPHT_FLAG_W,CFC-11,CFC-11_FLAG_W,CFC-12,CFC-12_FLAG_W,TRITUM,TRITUM_FLAG_W,HELIUM,HELIUM_FLAG_W,DELHE3,DELHE3_FLAG_W,DELC14,DELC14_FLAG_W,DELC13,DELC13_FLAG_W,NEON,NEON_FLAG_W,TCARBN,TCARBN_FLAG_W,ALKALI,ALKALI_FLAG_W,C14ERR,DELHER,HELIER,NEONER,TRITER
,,,,,,,,,,,,,DBAR,ITS-90,PSS-78,,PSS-78,,UMOL/KG,,DEG C,UMOL/KG,,UMOL/KG,,UMOL/KG,,UMOL/KG,,UMOL/KG,,PMOL/KG,,PMOL/KG,,TU,,NMOL/KG,,PERCNT,,/MILLE,,/MILLE,,NMOL/KG,,UMOL/KG,,UMOL/KG,,/MILLE,PERCNT,NMOL/KG,NMOL/KG,TU
    316N145_10,  I07N,   789,  1,     36,     36,2,19950806,2046, 12.1607,  64.6680, 4206,   -999,      9.0,  27.4970,  36.5630,2,  36.5621,2,    200.0,2, 27.4952,    199.0,2,     1.83,2,     0.09,2,     0.00,2,     0.25,2,    1.637,2,    0.913,2, -999.000,9,-999.0000,9,  -999.00,9,   -999.0,9,  -999.00,9,-999.000,9,   2019.3,2,   2385.7,2,  -999.0, -999.00,-999.0000,-999.000,-999.000
    316N145_10,  I07N,   789,  1,     35,     35,2,19950806,2046, 12.1607,  64.6680, 4206,   -999,     30.3,  27.4938,  36.5594,2,  36.5609,2,    194.6,2, 27.4870,    198.5,2,     1.82,2,     0.09,2,     0.00,2,     0.26,2, -999.000,9, -999.000,9, -999.000,9,-999.0000,9,  -999.00,9,   -999.0,9,  -999.00,9,-999.000,9,   -999.9,9,   -999.9,9,  -999.0, -999.00,-999.0000,-999.000,-999.000
    316N145_10,  I07N,   789,  1,     34,     34,2,19950806,2046, 12.1607,  64.6680, 4206,   -999,     60.5,  27.4487,  36.5439,2,  36.5445,2,    199.5,2, 27.4348,    196.3,2,     1.81,2,     0.08,2,     0.02,2,     0.27,2,    1.641,2,    0.917,2, -999.000,9,-999.0000,9,  -999.00,9,   -999.0,9,  -999.00,9,-999.000,9,   -999.9,9,   -999.9,9,  -999.0, -999.00,-999.0000,-999.000,-999.000
    316N145_10,  I07N,   789,  1,     33,     33,2,19950806,2046, 12.1607,  64.6680, 4206,   -999,     90.6,  27.4413,  36.5429,2,  36.5421,2,    196.6,2, 27.4204,    195.2,2,     1.80,2,     0.07,2,     0.03,2,     0.28,2, -999.000,9, -999.000,9, -999.000,9,-999.0000,9,  -999.00,9,   -999.0,9,  -999.00,9,-999.000,9,   -999.9,9,   -999.9,9,  -999.0, -999.00,-999.0000,-999.000,-999.000
    316N145_10,  I07N,   789,  1,     32,     32,2,19950806,2046, 12.1607,  64.6680, 4206,   -999,    110.5,  27.3661,  36.5283,2,  36.5158,2,    194.1,2, 27.3406,    188.5,2,     2.17,2,     0.87,2,     0.10,2,     0.34,2,    1.657,2,    0.941,2, -999.000,9,-999.0000,9,  -999.00,9,   -999.0,9,  -999.00,9,-999.000,9,   -999.9,9,   -999.9,9,  -999.0, -999.00,-999.0000,-999.000,-999.000
    316N145_10,  I07N,   789,  1,     31,     31,2,19950806,2046, 12.1607,  64.6680, 4206,   -999,    150.8,  22.2385,  35.8985,2,  35.8909,2,     52.8,2, 22.2085,     57.5,2,    10.45,2,    20.73,2,     0.02,2,     1.60,2, -999.000,9, -999.000,9, -999.000,9,-999.0000,9,  -999.00,9,   -999.0,9,  -999.00,9,-999.000,9,   -999.9,9,   -999.9,9,  -999.0, -999.00,-999.0000,-999.000,-999.000
    316N145_10,  I07N,   789,  1,     30,     30,2,19950806,2046, 12.1607,  64.6680, 4206,   -999,    184.5,  18.9397,  35.7053,2,  35.6988,2,      5.4,2, 18.9069,      3.9,2,    20.05,2,    24.12,2,     0.20,2,     2.24,2,    0.985,2,    0.559,2, -999.000,9,-999.0000,9,  -999.00,9,   -999.0,9,  -999.00,9,-999.000,9,   -999.9,9,   -999.9,9,  -999.0, -999.00,-999.0000,-999.000,-999.000
    316N145_10,  I07N,   789,  1,     29,     29,2,19950806,2046, 12.1607,  64.6680, 4206,   -999,    249.9,  15.6247,  35.6470,2,  35.6363,2,      2.2,2, 15.5857,      2.1,2,    26.62,2,    24.97,2,     0.00,2,     2.34,2,    0.560,2,    0.337,2, -999.000,9,-999.0000,9,  -999.00,9,   -999.0,9,  -999.00,9,-999.000,9,   -999.9,9,   -999.9,9,  -999.0, -999.00,-999.0000,-999.000,-999.000
    316N145_10,  I07N,   789,  1,     28,     28,2,19950806,2046, 12.1607,  64.6680, 4206,   -999,    300.1,  13.7161,  35.5220,2,  35.5219,2,      2.8,2, 13.6732,      3.5,2,    29.81,2,    27.81,2,     0.00,2,     2.40,2,    0.353,2,    0.207,2, -999.000,9,-999.0000,9,  -999.00,9,   -999.0,9,  -999.00,9,-999.000,9,   -999.9,9,   -999.9,9,  -999.0, -999.00,-999.0000,-999.000,-999.000
    316N145_10,  I07N,   789,  1,     27,     27,2,19950806,2046, 12.1607,  64.6680, 4206,   -999,    359.3,  12.9072,  35.5027,2,  35.4929,2,      4.3,2, 12.8576,      5.6,2,    32.80,2,    29.40,2,     0.00,2,     2.46,2,    0.270,2,    0.160,2, -999.000,9,-999.0000,9,  -999.00,9,   -999.0,9,  -999.00,9,-999.000,9,   -999.9,9,   -999.9,9,  -999.0, -999.00,-999.0000,-999.000,-999.000
    316N145_10,  I07N,   789,  1,     26,     26,2,19950806,2046, 12.1607,  64.6680, 4206,   -999,    426.1,  12.0874,  35.4404,2,  35.4382,2,      7.2,2, 12.0310,      7.8,2,    36.55,2,    31.08,2,     0.00,2,     2.52,2, -999.000,9, -999.000,9, -999.000,9,-999.0000,9,  -999.00,9,   -999.0,9,  -999.00,9,-999.000,9,   -999.9,9,   -999.9,9,  -999.0, -999.00,-999.0000,-999.000,-999.000
    316N145_10,  I07N,   789,  1,     25,     25,2,19950806,2046, 12.1607,  64.6680, 4206,   -999,    476.0,  11.8201,  35.4692,2,  35.4679,2,      9.0,2, 11.7577,     11.0,2,    39.72,2,    31.27,2,     0.00,2,     2.54,2,    0.149,2,    0.089,2, -999.000,9,-999.0000,9,  -999.00,9,   -999.0,9,  -999.00,9,-999.000,9,   -999.9,9,   -999.9,9,  -999.0, -999.00,-999.0000,-999.000,-999.000
    316N145_10,  I07N,   789,  1,     24,     24,2,19950806,2046, 12.1607,  64.6680, 4206,   -999,    548.7,  11.6350,  35.5286,2,  35.5293,2,      8.3,2, 11.5635,      8.7,2,    43.65,2,    31.32,2,     0.00,2,     2.60,2,    0.119,6,    0.070,6, -999.000,9,-999.0000,9,  -999.00,9,   -999.0,9,  -999.00,9,-999.000,9,   -999.9,9,   -999.9,9,  -999.0, -999.00,-999.0000,-999.000,-999.000
    316N145_10,  I07N,   789,  1,     23,     23,2,19950806,2046, 12.1607,  64.6680, 4206,   -999,    649.1,  10.9841,  35.5113,2,  35.5120,2,      9.8,2, 10.9021,     10.2,2,    50.77,2,    32.59,2,     0.00,2,     2.68,2,    0.080,2,    0.048,2, -999.000,9,-999.0000,9,  -999.00,9,   -999.0,9,  -999.00,9,-999.000,9,   -999.9,9,   -999.9,9,  -999.0, -999.00,-999.0000,-999.000,-999.000
    316N145_10,  I07N,   789,  1,     22,     22,2,19950806,2046, 12.1607,  64.6680, 4206,   -999,    750.6,  10.2685,  35.4700,2,  35.4787,2,     12.4,2, 10.1771,     12.7,2,    57.71,2,    33.77,2,     0.00,2,     2.73,2,    0.065,2,    0.036,2, -999.000,9,-999.0000,9,  -999.00,9,   -999.0,9,  -999.00,9,-999.000,9,   -999.9,9,   -999.9,9,  -999.0, -999.00,-999.0000,-999.000,-999.000
    316N145_10,  I07N,   789,  1,     21,     21,2,19950806,2046, 12.1607,  64.6680, 4206,   -999,    848.8,   9.7403,  35.4410,2,  35.4403,2,     13.0,2,  9.6398,     12.6,2,    63.70,2,    34.76,2,     0.00,2,     2.79,2,    0.045,2,    0.028,2, -999.000,9,-999.0000,9,  -999.00,9,   -999.0,9,  -999.00,9,-999.000,9,   -999.9,9,   -999.9,9,  -999.0, -999.00,-999.0000,-999.000,-999.000
    316N145_10,  I07N,   789,  1,     20,     20,2,19950806,2046, 12.1607,  64.6680, 4206,   -999,    949.2,   8.8959,  35.3659,2,  35.3629,2,     14.5,2,  8.7887,     13.6,2,    71.78,2,    36.04,2,     0.00,2,     2.87,2,    0.025,2,    0.015,2, -999.000,9,-999.0000,9,  -999.00,9,   -999.0,9,  -999.00,9,-999.000,9,   -999.9,9,   -999.9,9,  -999.0, -999.00,-999.0000,-999.000,-999.000
    316N145_10,  I07N,   789,  1,     19,     19,2,19950806,2046, 12.1607,  64.6680, 4206,   -999,   1050.5,   8.0418,  35.2745,2,  35.2740,2,     19.6,2,  7.9291,     20.1,2,    78.93,2,    36.86,2,     0.00,2,     2.90,2, -999.000,9, -999.000,9, -999.000,9,-999.0000,9,  -999.00,9,   -999.0,9,  -999.00,9,-999.000,9,   -999.9,9,   -999.9,9,  -999.0, -999.00,-999.0000,-999.000,-999.000
    316N145_10,  I07N,   789,  1,     18,     18,2,19950806,2046, 12.1607,  64.6680, 4206,   -999,   1150.7,   7.2850,  35.1910,2,  35.1935,2,     26.0,2,  7.1673,     24.2,2,    85.52,2,    37.57,2,     0.00,2,     2.95,2, -999.000,9, -999.000,9, -999.000,9,-999.0000,9,  -999.00,9,   -999.0,9,  -999.00,9,-999.000,9,   -999.9,9,   -999.9,9,  -999.0, -999.00,-999.0000,-999.000,-999.000
    316N145_10,  I07N,   789,  1,     17,     17,2,19950806,2046, 12.1607,  64.6680, 4206,   -999,   1251.0,   6.6488,  35.1340,2,  35.1330,2,     34.5,2,  6.5259,     34.5,2,    91.56,2,    37.58,2,     0.00,2,     2.94,2, -999.000,9, -999.000,9, -999.000,9,-999.0000,9,  -999.00,9,   -999.0,9,  -999.00,9,-999.000,9,   -999.9,9,   -999.9,9,  -999.0, -999.00,-999.0000,-999.000,-999.000
    316N145_10,  I07N,   789,  1,     16,     16,2,19950806,2046, 12.1607,  64.6680, 4206,   -999,   1351.5,   5.8857,  35.0485,2,  35.0514,2,     43.0,2,  5.7598,     43.3,2,    98.19,2,    37.82,2,     0.00,2,     2.95,2,   -0.001,2,    0.001,2, -999.000,9,-999.0000,9,  -999.00,9,   -999.0,9,  -999.00,9,-999.000,9,   -999.9,9,   -999.9,9,  -999.0, -999.00,-999.0000,-999.000,-999.000
    316N145_10,  I07N,   789,  1,     15,     15,2,19950806,2046, 12.1607,  64.6680, 4206,   -999,   1502.7,   5.1558,  34.9951,2,  34.9969,2,     53.3,2,  5.0224,     53.8,2,   106.58,2,    37.83,2,     0.00,2,     2.95,2,    0.000,2,    0.001,2, -999.000,9,-999.0000,9,  -999.00,9,   -999.0,9,  -999.00,9,-999.000,9,   -999.9,9,   -999.9,9,  -999.0, -999.00,-999.0000,-999.000,-999.000
    316N145_10,  I07N,   789,  1,     14,     14,2,19950806,2046, 12.1607,  64.6680, 4206,   -999,   1648.9,   4.2474,  34.9128,2,  34.9130,2,     70.3,2,  4.1107,     72.5,2,   115.41,2,    37.50,2,     0.00,2,     2.89,2,   -0.002,2,   -0.003,2, -999.000,9,-999.0000,9,  -999.00,9,   -999.0,9,  -999.00,9,-999.000,9,   -999.9,9,   -999.9,9,  -999.0, -999.00,-999.0000,-999.000,-999.000
    316N145_10,  I07N,   789,  1,     13,     13,2,19950806,2046, 12.1607,  64.6680, 4206,   -999,   1851.6,   3.4125,  34.8488,2,  34.8500,2,     88.3,2,  3.2680,     91.9,2,   123.75,2,    37.03,2,     0.00,2,     2.80,2,    0.000,2,    0.004,2, -999.000,9,-999.0000,9,  -999.00,9,   -999.0,9,  -999.00,9,-999.000,9,   -999.9,9,   -999.9,9,  -999.0, -999.00,-999.0000,-999.000,-999.000
    316N145_10,  I07N,   789,  1,     12,     12,2,19950806,2046, 12.1607,  64.6680, 4206,   -999,   2048.7,   2.8050,  34.8057,2,  34.8056,2,    105.1,2,  2.6515,    109.6,2,   129.01,2,    36.46,2,     0.00,2,     2.72,2,   -0.001,2,    0.001,2, -999.000,9,-999.0000,9,  -999.00,9,   -999.0,9,  -999.00,9,-999.000,9,   -999.9,9,   -999.9,9,  -999.0, -999.00,-999.0000,-999.000,-999.000
    316N145_10,  I07N,   789,  1,     11,     11,2,19950806,2046, 12.1607,  64.6680, 4206,   -999,   2253.4,   2.4565,  34.7831,2,  34.7824,2,    120.3,2,  2.2902,    121.5,2,   131.72,2,    35.99,2,     0.00,2,     2.66,2,    0.003,2,    0.003,2, -999.000,9,-999.0000,9,  -999.00,9,   -999.0,9,  -999.00,9,-999.000,9,   -999.9,9,   -999.9,9,  -999.0, -999.00,-999.0000,-999.000,-999.000
    316N145_10,  I07N,   789,  1,     10,     10,2,19950806,2046, 12.1607,  64.6680, 4206,   -999,   2400.6,   2.3090,  34.7769,2,  34.7762,2,    123.0,2,  2.1318,    122.6,2,   135.64,2,    35.99,2,     0.00,2,     2.66,2, -999.000,9, -999.000,9, -999.000,9,-999.0000,9,  -999.00,9,   -999.0,9,  -999.00,9,-999.000,9,   -999.9,9,   -999.9,9,  -999.0, -999.00,-999.0000,-999.000,-999.000
    316N145_10,  I07N,   789,  1,      9,      9,2,19950806,2046, 12.1607,  64.6680, 4206,   -999,   2654.1,   2.0353,  34.7590,2,  34.7601,2,    127.8,2,  1.8398,    126.8,2,   140.39,2,    35.95,2,     0.00,2,     2.64,2, -999.000,9, -999.000,9, -999.000,9,-999.0000,9,  -999.00,9,   -999.0,9,  -999.00,9,-999.000,9,   -999.9,9,   -999.9,9,  -999.0, -999.00,-999.0000,-999.000,-999.000
    316N145_10,  I07N,   789,  1,      8,      8,2,19950806,2046, 12.1607,  64.6680, 4206,   -999,   2903.2,   1.8497,  34.7484,2,  34.7463,2,    138.3,2,  1.6344,    137.8,2,   139.93,2,    35.57,2,     0.00,2,     2.58,2, -999.000,9, -999.000,9, -999.000,9,-999.0000,9,  -999.00,9,   -999.0,9,  -999.00,9,-999.000,9,   -999.9,9,   -999.9,9,  -999.0, -999.00,-999.0000,-999.000,-999.000
    316N145_10,  I07N,   789,  1,      7,      7,2,19950806,2046, 12.1607,  64.6680, 4206,   -999,   3151.5,   1.7529,  34.7420,2,  34.7408,2,    144.3,2,  1.5155,    143.6,2,   139.87,2,    35.29,2,     0.00,2,     2.55,2, -999.000,9, -999.000,9, -999.000,9,-999.0000,9,  -999.00,9,   -999.0,9,  -999.00,9,-999.000,9,   -999.9,9,   -999.9,9,  -999.0, -999.00,-999.0000,-999.000,-999.000
    316N145_10,  I07N,   789,  1,      6,      6,2,19950806,2046, 12.1607,  64.6680, 4206,   -999,   3405.3,   1.7116,  34.7367,2,  34.7369,2,    152.9,2,  1.4497,    151.2,2,   137.80,2,    34.91,2,     0.00,2,     2.51,2, -999.000,9, -999.000,9, -999.000,9,-999.0000,9,  -999.00,9,   -999.0,9,  -999.00,9,-999.000,9,   -999.9,9,   -999.9,9,  -999.0, -999.00,-999.0000,-999.000,-999.000
    316N145_10,  I07N,   789,  1,      5,      5,2,19950806,2046, 12.1607,  64.6680, 4206,   -999,   3651.1,   1.6950,  34.7373,2,  34.7349,2,    154.3,2,  1.4080,    153.5,2,   137.34,2,    34.87,2,     0.00,2,     2.50,2, -999.000,9, -999.000,9, -999.000,9,-999.0000,9,  -999.00,9,   -999.0,9,  -999.00,9,-999.000,9,   -999.9,9,   -999.9,9,  -999.0, -999.00,-999.0000,-999.000,-999.000
    316N145_10,  I07N,   789,  1,      4,      4,2,19950806,2046, 12.1607,  64.6680, 4206,   -999,   3898.6,   1.6857,  34.7344,2,  34.7343,2,    153.5,2,  1.3725,    153.8,2,   137.89,2,    34.68,2,     0.00,2,     2.49,2, -999.000,9, -999.000,9, -999.000,9,-999.0000,9,  -999.00,9,   -999.0,9,  -999.00,9,-999.000,9,   -999.9,9,   -999.9,9,  -999.0, -999.00,-999.0000,-999.000,-999.000
    316N145_10,  I07N,   789,  1,      3,      3,2,19950806,2046, 12.1607,  64.6680, 4206,   -999,   4049.1,   1.6890,  34.7346,2,  34.7329,2,    150.2,2,  1.3592,    149.7,2,   139.43,2,    35.16,2,     0.00,2,     2.52,2, -999.000,9, -999.000,9, -999.000,9,-999.0000,9,  -999.00,9,   -999.0,9,  -999.00,9,-999.000,9,   -999.9,9,   -999.9,9,  -999.0, -999.00,-999.0000,-999.000,-999.000
    316N145_10,  I07N,   789,  1,      2,      2,2,19950806,2046, 12.1607,  64.6680, 4206,   -999,   4205.4,   1.6977,  34.7342,2,  34.7333,2,    146.7,2,  1.3502,    146.7,2,   141.17,2,    35.49,2,     0.00,2,     2.53,2, -999.000,9, -999.000,9, -999.000,9,-999.0000,9,  -999.00,9,   -999.0,9,  -999.00,9,-999.000,9,   -999.9,9,   -999.9,9,  -999.0, -999.00,-999.0000,-999.000,-999.000
    316N145_10,  I07N,   789,  1,      1,      1,2,19950806,2046, 12.1607,  64.6680, 4206,   -999,   4260.6,   1.7038,  34.7343,2,  34.7333,2,    145.4,2,  1.3498,    146.8,2,   141.51,2,    35.49,2,     0.00,2,     2.53,2, -999.000,9, -999.000,9, -999.000,9,-999.0000,9,  -999.00,9,   -999.0,9,  -999.00,9,-999.000,9,   -999.9,9,   -999.9,9,  -999.0, -999.00,-999.0000,-999.000,-999.000