BOTTLE,20080821WHPSIOSCD
EXPOCODE,SECT_ID,STNNBR,CASTNO,SAMPNO,BTLNBR,BTLNBR_FLAG_W,DATE,TIME,LATITUDE,LONGITUDE,DEPTH,CTDRAW,CTDPRS,CTDTMP,CTDSAL,CTDSAL_FLAG_W,SALNTY,SALNTY_FLAG_W,CTDOXY,CTDOXY_FLAG_W,THETA,OXYGEN,OXYGEN_FLAG_W,SILCAT,SILCAT_FLAG_W,NITRAT,NITRAT_FLAG_W,NITRIT,NITRIT_FLAG_W,PHSPHT,PHSPHT_FLAG_W,CFC-11,CFC-11_FLAG_W,CFC-12,CFC-12_FLAG_W,TRITUM,TRITUM_FLAG_W,HELIUM,HELIUM_FLAG_W,DELHE3,DELHE3_FLAG_W,DELC14,DELC14_FLAG_W,DELC13,DELC13_FLAG_W,NEON,NEON_FLAG_W,TCARBN,TCARBN_FLAG_W,ALKALI,ALKALI_FLAG_W,C14ERR,DELHER,HELIER,NEONER,TRITER
,,,,,,,,,,,,,DBAR,ITS-90,PSS-78,,PSS-78,,UMOL/KG,,DEG C,UMOL/KG,,UMOL/KG,,UMOL/KG,,UMOL/KG,,UMOL/KG,,PMOL/KG,,PMOL/KG,,TU,,NMOL/KG,,PERCNT,,/MILLE,,/MILLE,,NMOL/KG,,UMOL/KG,,UMOL/KG,,/MILLE,PERCNT,NMOL/KG,NMOL/KG,TU
    316N145_10,  I07N,   733,  1,     36,     36,2,19950722,0807, -8.9137,  51.8988, 3572,   -999,      8.7,  26.1725,  35.1919,2,  35.1924,2,    203.4,2, 26.1709,    200.0,2,     3.81,2,     0.98,2,     0.03,2,     0.24,2,    1.709,2,    0.934,2, -999.000,9,-999.0000,9,  -999.00,9,   -999.0,9,  -999.00,9,-999.000,9,   1978.5,2,   2314.8,2,  -999.0, -999.00,-999.0000,-999.000,-999.000
    316N145_10,  I07N,   733,  1,     35,     35,2,19950722,0807, -8.9137,  51.8988, 3572,   -999,     31.5,  26.1160,  35.1915,2,  35.1932,2,    198.1,2, 26.1092,    198.5,2,     3.96,2,     1.02,2,     0.04,2,     0.25,2,    1.705,2,    0.951,2, -999.000,9,-999.0000,9,  -999.00,9,   -999.0,9,  -999.00,9,-999.000,9,   -999.9,9,   -999.9,9,  -999.0, -999.00,-999.0000,-999.000,-999.000
    316N145_10,  I07N,   733,  1,     34,     34,2,19950722,0807, -8.9137,  51.8988, 3572,   -999,     51.7,  19.6571,  35.1974,2,  35.1966,2,    123.9,2, 19.6479,    120.9,2,    12.69,2,    13.15,2,     0.35,2,     1.01,2,    1.509,2,    0.804,2, -999.000,9,-999.0000,9,  -999.00,9,   -999.0,9,  -999.00,9,-999.000,9,   -999.9,9,   -999.9,9,  -999.0, -999.00,-999.0000,-999.000,-999.000
    316N145_10,  I07N,   733,  1,     33,     33,2,19950722,0807, -8.9137,  51.8988, 3572,   -999,     70.9,  18.1294,  35.1791,2,  35.1785,2,    107.2,2, 18.1174,    104.1,2,    15.25,2,    16.51,2,     0.11,2,     1.20,2, -999.000,9, -999.000,9, -999.000,9,-999.0000,9,  -999.00,9,   -999.0,9,  -999.00,9,-999.000,9,   -999.9,9,   -999.9,9,  -999.0, -999.00,-999.0000,-999.000,-999.000
    316N145_10,  I07N,   733,  1,     32,     32,2,19950722,0807, -8.9137,  51.8988, 3572,   -999,     92.1,  16.5702,  35.1595,2,  35.1619,2,    100.5,2, 16.5555,    100.3,2,    16.94,2,    18.44,2,     0.02,2,     1.32,2,    1.335,2,    0.686,2, -999.000,9,-999.0000,9,  -999.00,9,   -999.0,9,  -999.00,9,-999.000,9,   -999.9,9,   -999.9,9,  -999.0, -999.00,-999.0000,-999.000,-999.000
    316N145_10,  I07N,   733,  1,     31,     31,2,19950722,0807, -8.9137,  51.8988, 3572,   -999,    121.8,  15.2918,  35.1520,2,  35.1517,2,    106.9,2, 15.2732,    107.2,2,    17.61,2,    18.98,2,     0.01,2,     1.36,2,    1.309,2,    0.675,2, -999.000,9,-999.0000,9,  -999.00,9,   -999.0,9,  -999.00,9,-999.000,9,   -999.9,9,   -999.9,9,  -999.0, -999.00,-999.0000,-999.000,-999.000
    316N145_10,  I07N,   733,  1,     30,     30,2,19950722,0807, -8.9137,  51.8988, 3572,   -999,    151.4,  13.5823,  35.0931,2,-999.0000,9,    112.3,2, 13.5611,    114.3,2,    19.13,2,    20.09,2,     0.00,2,     1.43,2,    1.220,2,    0.626,2, -999.000,9,-999.0000,9,  -999.00,9,   -999.0,9,  -999.00,9,-999.000,9,   -999.9,9,   -999.9,9,  -999.0, -999.00,-999.0000,-999.000,-999.000
    316N145_10,  I07N,   733,  1,     29,     29,2,19950722,0807, -8.9137,  51.8988, 3572,   -999,    180.8,  13.1918,  35.0808,2,  35.0737,2,    116.6,2, 13.1668,    117.3,2,    19.28,2,    20.31,2,     0.00,2,     1.45,2, -999.000,9, -999.000,9, -999.000,9,-999.0000,9,  -999.00,9,   -999.0,9,  -999.00,9,-999.000,9,   -999.9,9,   -999.9,9,  -999.0, -999.00,-999.0000,-999.000,-999.000
    316N145_10,  I07N,   733,  1,     28,     28,2,19950722,0807, -8.9137,  51.8988, 3572,   -999,    211.2,  12.5166,  35.0382,2,  35.0394,2,    119.6,2, 12.4884,    121.8,2,    19.94,2,    20.75,2,     0.00,2,     1.48,2,    1.151,2,    0.588,2, -999.000,9,-999.0000,9,  -999.00,9,   -999.0,9,  -999.00,9,-999.000,9,   -999.9,9,   -999.9,9,  -999.0, -999.00,-999.0000,-999.000,-999.000
    316N145_10,  I07N,   733,  1,     27,     27,2,19950722,0807, -8.9137,  51.8988, 3572,   -999,    252.5,  12.2024,  35.0189,2,  35.0200,2,    122.9,2, 12.1692,    123.9,2,    20.09,2,    20.89,2,     0.00,2,     1.49,2,    1.141,2,    0.596,2, -999.000,9,-999.0000,9,  -999.00,9,   -999.0,9,  -999.00,9,-999.000,9,   -999.9,9,   -999.9,9,  -999.0, -999.00,-999.0000,-999.000,-999.000
    316N145_10,  I07N,   733,  1,     26,     26,2,19950722,0807, -8.9137,  51.8988, 3572,   -999,    302.4,  11.5688,  34.9759,2,-999.0000,9,    129.8,2, 11.5302,    130.6,2,    20.42,2,    21.33,2,     0.00,2,     1.51,2,    1.097,2,    0.549,2, -999.000,9,-999.0000,9,  -999.00,9,   -999.0,9,  -999.00,9,-999.000,9,   -999.9,9,   -999.9,9,  -999.0, -999.00,-999.0000,-999.000,-999.000
    316N145_10,  I07N,   733,  1,     25,     25,2,19950722,0807, -8.9137,  51.8988, 3572,   -999,    353.3,  10.4340,  34.8913,2,  34.8931,2,    135.7,2, 10.3918,    139.3,2,    22.62,2,    22.66,2,     0.00,2,     1.60,2,    0.988,2,    0.500,2, -999.000,9,-999.0000,9,  -999.00,9,   -999.0,9,  -999.00,9,-999.000,9,   -999.9,9,   -999.9,9,  -999.0, -999.00,-999.0000,-999.000,-999.000
    316N145_10,  I07N,   733,  1,     24,     24,2,19950722,0807, -8.9137,  51.8988, 3572,   -999,    398.9,  10.0940,  34.8673,2,  34.8656,2,    136.2,2, 10.0472,    137.8,2,    24.48,2,    23.46,2,     0.00,2,     1.66,2,    0.898,2,    0.440,2, -999.000,9,-999.0000,9,  -999.00,9,   -999.0,9,  -999.00,9,-999.000,9,   -999.9,9,   -999.9,9,  -999.0, -999.00,-999.0000,-999.000,-999.000
    316N145_10,  I07N,   733,  1,     23,     23,2,19950722,0807, -8.9137,  51.8988, 3572,   -999,    499.0,   9.2333,  34.8160,2,  34.8161,2,    126.8,2,  9.1776,    128.7,2,    31.32,2,    26.06,2,     0.00,2,     1.85,2,    0.610,2,    0.325,2, -999.000,9,-999.0000,9,  -999.00,9,   -999.0,9,  -999.00,9,-999.000,9,   -999.9,9,   -999.9,9,  -999.0, -999.00,-999.0000,-999.000,-999.000
    316N145_10,  I07N,   733,  1,     22,     22,2,19950722,0807, -8.9137,  51.8988, 3572,   -999,    583.6,   8.5472,  34.7950,2,  34.7949,2,    108.5,2,  8.4846,    118.5,2,    39.18,2,    28.15,2,     0.00,2,     2.03,2,    0.411,2,    0.221,2, -999.000,9,-999.0000,9,  -999.00,9,   -999.0,9,  -999.00,9,-999.000,9,   -999.9,9,   -999.9,9,  -999.0, -999.00,-999.0000,-999.000,-999.000
    316N145_10,  I07N,   733,  1,     21,     21,2,19950722,0807, -8.9137,  51.8988, 3572,   -999,    667.1,   8.2364,  34.7942,2,  34.7945,2,    104.4,2,  8.1660,    110.1,2,    44.29,2,    29.49,2,     0.00,2,     2.14,2, -999.000,9, -999.000,9, -999.000,9,-999.0000,9,  -999.00,9,   -999.0,9,  -999.00,9,-999.000,9,   -999.9,9,   -999.9,9,  -999.0, -999.00,-999.0000,-999.000,-999.000
    316N145_10,  I07N,   733,  1,     20,     20,2,19950722,0807, -8.9137,  51.8988, 3572,   -999,    699.8,   8.1209,  34.7984,2,  34.7982,2,    107.7,2,  8.0475,    105.0,2,    46.50,2,    30.11,2,     0.00,2,     2.19,2,    0.262,2,    0.153,2, -999.000,9,-999.0000,9,  -999.00,9,   -999.0,9,  -999.00,9,-999.000,9,   -999.9,9,   -999.9,9,  -999.0, -999.00,-999.0000,-999.000,-999.000
    316N145_10,  I07N,   733,  1,     19,     19,2,19950722,0807, -8.9137,  51.8988, 3572,   -999,    768.0,   7.5426,  34.7755,2,  34.7752,2,     94.5,2,  7.4650,    109.4,2,    52.14,2,    30.70,2,     0.00,2,     2.25,2,    0.220,2,    0.108,2, -999.000,9,-999.0000,9,  -999.00,9,   -999.0,9,  -999.00,9,-999.000,9,   -999.9,9,   -999.9,9,  -999.0, -999.00,-999.0000,-999.000,-999.000
    316N145_10,  I07N,   733,  1,     18,     18,2,19950722,0807, -8.9137,  51.8988, 3572,   -999,    803.2,   7.4583,  34.8056,2,  34.8100,2,     96.1,2,  7.3774,     95.3,2,    57.78,2,    32.13,2,     0.00,2,     2.37,2,    0.131,2,    0.082,2, -999.000,9,-999.0000,9,  -999.00,9,   -999.0,9,  -999.00,9,-999.000,9,   -999.9,9,   -999.9,9,  -999.0, -999.00,-999.0000,-999.000,-999.000
    316N145_10,  I07N,   733,  1,     17,     17,2,19950722,0807, -8.9137,  51.8988, 3572,   -999,    901.9,   6.5465,  34.7789,2,  34.7799,2,     96.0,2,  6.4612,     95.5,2,    68.44,2,    33.29,2,     0.00,2,     2.47,2,    0.071,2,    0.051,2, -999.000,9,-999.0000,9,  -999.00,9,   -999.0,9,  -999.00,9,-999.000,9,   -999.9,9,   -999.9,9,  -999.0, -999.00,-999.0000,-999.000,-999.000
    316N145_10,  I07N,   733,  1,     16,     16,2,19950722,0807, -8.9137,  51.8988, 3572,   -999,    999.0,   5.8823,  34.7812,2,  34.7819,2,     90.3,2,  5.7921,     91.6,2,    79.31,2,    34.47,2,     0.00,2,     2.55,2,    0.031,2,    0.011,2, -999.000,9,-999.0000,9,  -999.00,9,   -999.0,9,  -999.00,9,-999.000,9,   -999.9,9,   -999.9,9,  -999.0, -999.00,-999.0000,-999.000,-999.000
    316N145_10,  I07N,   733,  1,     15,     15,2,19950722,0807, -8.9137,  51.8988, 3572,   -999,   1185.8,   4.6622,  34.7648,2,  34.7664,2,    100.1,2,  4.5644,    104.7,2,    92.70,2,    34.78,2,     0.00,2,     2.58,2,    0.005,2,    0.009,2, -999.000,9,-999.0000,9,  -999.00,9,   -999.0,9,  -999.00,9,-999.000,9,   -999.9,9,   -999.9,9,  -999.0, -999.00,-999.0000,-999.000,-999.000
    316N145_10,  I07N,   733,  1,     14,     14,2,19950722,0807, -8.9137,  51.8988, 3572,   -999,   1430.3,   3.8419,  34.7351,2,  34.7356,2,    125.7,2,  3.7304,    124.6,2,    97.06,2,    34.20,2,     0.00,2,     2.51,2,    0.007,2,   -0.003,2, -999.000,9,-999.0000,9,  -999.00,9,   -999.0,9,  -999.00,9,-999.000,9,   -999.9,9,   -999.9,9,  -999.0, -999.00,-999.0000,-999.000,-999.000
    316N145_10,  I07N,   733,  1,     13,     13,2,19950722,0807, -8.9137,  51.8988, 3572,   -999,   1634.8,   3.2894,  34.7354,2,  34.7367,2,    139.3,2,  3.1663,    138.7,2,   103.01,2,    33.94,2,     0.00,2,     2.48,2, -999.000,9, -999.000,9, -999.000,9,-999.0000,9,  -999.00,9,   -999.0,9,  -999.00,9,-999.000,9,   -999.9,9,   -999.9,9,  -999.0, -999.00,-999.0000,-999.000,-999.000
    316N145_10,  I07N,   733,  1,     12,     12,2,19950722,0807, -8.9137,  51.8988, 3572,   -999,   1748.9,   3.0098,  34.7301,2,  34.7306,2,    141.4,2,  2.8802,    142.1,2,   105.45,2,    33.77,2,     0.00,2,     2.46,2, -999.000,9, -999.000,9, -999.000,9,-999.0000,9,  -999.00,9,   -999.0,9,  -999.00,9,-999.000,9,   -999.9,9,   -999.9,9,  -999.0, -999.00,-999.0000,-999.000,-999.000
    316N145_10,  I07N,   733,  1,     11,     11,2,19950722,0807, -8.9137,  51.8988, 3572,   -999,   1848.7,   2.8098,  34.7318,2,  34.7318,2,    145.8,2,  2.6742,    145.6,2,   108.60,2,    33.68,2,     0.00,2,     2.44,2, -999.000,9, -999.000,9, -999.000,9,-999.0000,9,  -999.00,9,   -999.0,9,  -999.00,9,-999.000,9,   -999.9,9,   -999.9,9,  -999.0, -999.00,-999.0000,-999.000,-999.000
    316N145_10,  I07N,   733,  1,     10,     10,2,19950722,0807, -8.9137,  51.8988, 3572,   -999,   2048.0,   2.4992,  34.7397,2,  34.7395,2,    148.1,2,  2.3507,    149.1,2,   115.87,2,    33.68,2,     0.00,2,     2.44,2, -999.000,9, -999.000,9, -999.000,9,-999.0000,9,  -999.00,9,   -999.0,9,  -999.00,9,-999.000,9,   -999.9,9,   -999.9,9,  -999.0, -999.00,-999.0000,-999.000,-999.000
    316N145_10,  I07N,   733,  1,      9,      9,2,19950722,0807, -8.9137,  51.8988, 3572,   -999,   2195.6,   2.3825,  34.7433,2,  34.7428,2,    151.4,2,  2.2227,    150.5,2,   118.87,2,    33.74,2,     0.00,2,     2.44,2, -999.000,9, -999.000,9, -999.000,9,-999.0000,9,  -999.00,9,   -999.0,9,  -999.00,9,-999.000,9,   -999.9,9,   -999.9,9,  -999.0, -999.00,-999.0000,-999.000,-999.000
    316N145_10,  I07N,   733,  1,      8,      8,2,19950722,0807, -8.9137,  51.8988, 3572,   -999,   2322.7,   2.2025,  34.7450,2,  34.7445,2,    153.0,2,  2.0344,    152.7,2,   122.25,2,    33.74,2,     0.00,2,     2.44,2, -999.000,9, -999.000,9, -999.000,9,-999.0000,9,  -999.00,9,   -999.0,9,  -999.00,9,-999.000,9,   -999.9,9,   -999.9,9,  -999.0, -999.00,-999.0000,-999.000,-999.000
    316N145_10,  I07N,   733,  1,      7,      7,2,19950722,0807, -8.9137,  51.8988, 3572,   -999,   2543.2,   2.0681,  34.7450,2,  34.7451,2,    154.5,2,  1.8823,    154.3,2,   125.27,2,    33.74,2,     0.00,2,     2.43,2, -999.000,9, -999.000,9, -999.000,9,-999.0000,9,  -999.00,9,   -999.0,9,  -999.00,9,-999.000,9,   -999.9,9,   -999.9,9,  -999.0, -999.00,-999.0000,-999.000,-999.000
    316N145_10,  I07N,   733,  1,      6,      6,2,19950722,0807, -8.9137,  51.8988, 3572,   -999,   2699.6,   1.9828,  34.7444,2,  34.7438,2,    156.5,2,  1.7840,    155.7,2,   127.04,2,    33.79,2,     0.00,2,     2.42,2, -999.000,9, -999.000,9, -999.000,9,-999.0000,9,  -999.00,9,   -999.0,9,  -999.00,9,-999.000,9,   -999.9,9,   -999.9,9,  -999.0, -999.00,-999.0000,-999.000,-999.000
    316N145_10,  I07N,   733,  1,      5,      5,2,19950722,0807, -8.9137,  51.8988, 3572,   -999,   2904.0,   1.8930,  34.7415,2,  34.7400,2,    158.8,2,  1.6767,    158.5,2,   128.63,2,    33.75,2,     0.00,2,     2.41,2, -999.000,9, -999.000,9, -999.000,9,-999.0000,9,  -999.00,9,   -999.0,9,  -999.00,9,-999.000,9,   -999.9,9,   -999.9,9,  -999.0, -999.00,-999.0000,-999.000,-999.000
    316N145_10,  I07N,   733,  1,      4,      4,2,19950722,0807, -8.9137,  51.8988, 3572,   -999,   3149.0,   1.7716,  34.7366,2,  34.7365,2,    162.9,2,  1.5340,    163.7,2,   129.49,2,    33.35,2,     0.00,2,     2.40,2, -999.000,9, -999.000,9, -999.000,9,-999.0000,9,  -999.00,9,   -999.0,9,  -999.00,9,-999.000,9,   -999.9,9,   -999.9,9,  -999.0, -999.00,-999.0000,-999.000,-999.000
    316N145_10,  I07N,   733,  1,      3,      3,2,19950722,0807, -8.9137,  51.8988, 3572,   -999,   3480.0,   1.4762,  34.7261,2,  34.7302,3,    177.1,2,  1.2126,    177.3,2,   128.90,2,    32.91,2,     0.00,2,     2.34,2, -999.000,9, -999.000,9, -999.000,9,-999.0000,9,  -999.00,9,   -999.0,9,  -999.00,9,-999.000,9,   -999.9,9,   -999.9,9,  -999.0, -999.00,-999.0000,-999.000,-999.000
    316N145_10,  I07N,   733,  1,      2,      2,2,19950722,0807, -8.9137,  51.8988, 3572,   -999,   3615.0,   1.3674,  34.7221,2,  34.7212,2,    183.5,2,  1.0927,    183.6,2,   128.31,2,    32.64,2,     0.00,2,     2.32,2, -999.000,9, -999.000,9, -999.000,9,-999.0000,9,  -999.00,9,   -999.0,9,  -999.00,9,-999.000,9,   -999.9,9,   -999.9,9,  -999.0, -999.00,-999.0000,-999.000,-999.000
    316N145_10,  I07N,   733,  1,      1,      1,2,19950722,0807, -8.9137,  51.8988, 3572,   -999,   3641.6,   1.3414,  34.7217,2,  34.7215,2,    184.4,2,  1.0647,    185.0,2,   128.27,2,    32.65,2,     0.00,2,     2.31,2, -999.000,9, -999.000,9, -999.000,9,-999.0000,9,  -999.00,9,   -999.0,9,  -999.00,9,-999.000,9,   -999.9,9,   -999.9,9,  -999.0, -999.00,-999.0000,-999.000,-999.000