BOTTLE,20080821WHPSIOSCD
EXPOCODE,SECT_ID,STNNBR,CASTNO,SAMPNO,BTLNBR,BTLNBR_FLAG_W,DATE,TIME,LATITUDE,LONGITUDE,DEPTH,CTDRAW,CTDPRS,CTDTMP,CTDSAL,CTDSAL_FLAG_W,SALNTY,SALNTY_FLAG_W,CTDOXY,CTDOXY_FLAG_W,THETA,OXYGEN,OXYGEN_FLAG_W,SILCAT,SILCAT_FLAG_W,NITRAT,NITRAT_FLAG_W,NITRIT,NITRIT_FLAG_W,PHSPHT,PHSPHT_FLAG_W,CFC-11,CFC-11_FLAG_W,CFC-12,CFC-12_FLAG_W,TRITUM,TRITUM_FLAG_W,HELIUM,HELIUM_FLAG_W,DELHE3,DELHE3_FLAG_W,DELC14,DELC14_FLAG_W,DELC13,DELC13_FLAG_W,NEON,NEON_FLAG_W,TCARBN,TCARBN_FLAG_W,ALKALI,ALKALI_FLAG_W,C14ERR,DELHER,HELIER,NEONER,TRITER
,,,,,,,,,,,,,DBAR,ITS-90,PSS-78,,PSS-78,,UMOL/KG,,DEG C,UMOL/KG,,UMOL/KG,,UMOL/KG,,UMOL/KG,,UMOL/KG,,PMOL/KG,,PMOL/KG,,TU,,NMOL/KG,,PERCNT,,/MILLE,,/MILLE,,NMOL/KG,,UMOL/KG,,UMOL/KG,,/MILLE,PERCNT,NMOL/KG,NMOL/KG,TU
    316N145_10,  I07N,   714,  1,     36,     36,2,19950717,0956,-15.6520,  55.0007, 4546,   -999,      8.6,  25.4341,  34.8290,2,  34.8307,2,    209.1,2, 25.4324,    206.6,2,     3.71,2,     0.08,2,     0.00,2,     0.13,2,    1.790,2,    1.028,2, -999.000,9,-999.0000,9,  -999.00,9,   -999.0,9,  -999.00,9,-999.000,9,   1941.5,2,   2282.4,2,  -999.0, -999.00,-999.0000,-999.000,-999.000
    316N145_10,  I07N,   714,  1,     35,     35,2,19950717,0956,-15.6520,  55.0007, 4546,   -999,     33.4,  25.4217,  34.8264,2,  34.8263,2,    203.3,2, 25.4146,    206.6,2,     3.70,2,     0.04,2,     0.00,2,     0.13,2, -999.000,9, -999.000,9, -999.000,9,-999.0000,9,  -999.00,9,   -999.0,9,  -999.00,9,-999.000,9,   -999.9,9,   -999.9,9,  -999.0, -999.00,-999.0000,-999.000,-999.000
    316N145_10,  I07N,   714,  1,     34,     34,2,19950717,0956,-15.6520,  55.0007, 4546,   -999,     94.4,  23.4076,  35.0743,2,  35.0815,2,    187.3,2, 23.3883,    185.9,2,     5.78,2,     2.29,2,     0.17,2,     0.33,2,    1.831,2,    1.032,2, -999.000,9,-999.0000,9,  -999.00,9,   -999.0,9,  -999.00,9,-999.000,9,   -999.9,9,   -999.9,9,  -999.0, -999.00,-999.0000,-999.000,-999.000
    316N145_10,  I07N,   714,  1,     33,     33,2,19950717,0956,-15.6520,  55.0007, 4546,   -999,    123.0,  21.2006,  35.1781,2,  35.1820,2,    161.2,2, 21.1771,    154.8,2,     9.08,2,     7.01,2,     0.39,2,     0.61,2,    1.766,2,    0.989,2, -999.000,9,-999.0000,9,  -999.00,9,   -999.0,9,  -999.00,9,-999.000,9,   -999.9,9,   -999.9,9,  -999.0, -999.00,-999.0000,-999.000,-999.000
    316N145_10,  I07N,   714,  1,     32,     32,2,19950717,0956,-15.6520,  55.0007, 4546,   -999,    152.9,  19.7999,  35.2565,2,  35.2556,2,    139.2,2, 19.7720,    141.4,2,    10.99,2,     9.86,2,     0.04,2,     0.75,2, -999.000,9, -999.000,9, -999.000,9,-999.0000,9,  -999.00,9,   -999.0,9,  -999.00,9,-999.000,9,   -999.9,9,   -999.9,9,  -999.0, -999.00,-999.0000,-999.000,-999.000
    316N145_10,  I07N,   714,  1,     31,     31,2,19950717,0956,-15.6520,  55.0007, 4546,   -999,    173.2,  18.7083,  35.2988,2,  35.3278,2,    136.6,2, 18.6779,    140.3,2,    12.19,2,    11.03,2,     0.01,2,     0.83,2,    1.726,2,    0.943,2, -999.000,9,-999.0000,9,  -999.00,9,   -999.0,9,  -999.00,9,-999.000,9,   -999.9,9,   -999.9,9,  -999.0, -999.00,-999.0000,-999.000,-999.000
    316N145_10,  I07N,   714,  1,     30,     30,2,19950717,0956,-15.6520,  55.0007, 4546,   -999,    200.0,  16.7249,  35.2947,2,  35.2921,2,    134.4,2, 16.6923,    134.9,2,    14.80,2,    13.28,2,     0.01,2,     0.98,2,    1.625,2,    0.867,2, -999.000,9,-999.0000,9,  -999.00,9,   -999.0,9,  -999.00,9,-999.000,9,   -999.9,9,   -999.9,9,  -999.0, -999.00,-999.0000,-999.000,-999.000
    316N145_10,  I07N,   714,  1,     29,     29,2,19950717,0956,-15.6520,  55.0007, 4546,   -999,    259.1,  14.4603,  35.2647,2,  35.2640,2,    153.7,2, 14.4221,    162.5,2,    13.03,2,    12.84,2,     0.01,2,     0.97,2, -999.000,9, -999.000,9, -999.000,9,-999.0000,9,  -999.00,9,   -999.0,9,  -999.00,9,-999.000,9,   -999.9,9,   -999.9,9,  -999.0, -999.00,-999.0000,-999.000,-999.000
    316N145_10,  I07N,   714,  1,     28,     28,2,19950717,0956,-15.6520,  55.0007, 4546,   -999,    329.4,  12.6144,  35.1282,2,  35.1114,2,    195.2,2, 12.5699,    183.3,2,    11.96,2,    13.86,2,     0.01,2,     1.03,2,    1.971,2,    1.018,2, -999.000,9,-999.0000,9,  -999.00,9,   -999.0,9,  -999.00,9,-999.000,9,   -999.9,9,   -999.9,9,  -999.0, -999.00,-999.0000,-999.000,-999.000
    316N145_10,  I07N,   714,  1,     27,     27,2,19950717,0956,-15.6520,  55.0007, 4546,   -999,    379.9,  11.3046,  34.9706,2,  34.9758,2,    183.5,2, 11.2568,    193.8,2,    11.59,2,    15.27,2,     0.00,2,     1.11,2,    1.950,2,    0.997,2, -999.000,9,-999.0000,9,  -999.00,9,   -999.0,9,  -999.00,9,-999.000,9,   -999.9,9,   -999.9,9,  -999.0, -999.00,-999.0000,-999.000,-999.000
    316N145_10,  I07N,   714,  1,     26,     26,2,19950717,0956,-15.6520,  55.0007, 4546,   -999,    419.0,  10.5939,  34.8841,2,  34.8803,2,    206.9,2, 10.5431,    203.6,2,    10.52,2,    15.93,2,     0.00,2,     1.15,2,    1.947,2,    0.983,2, -999.000,9,-999.0000,9,  -999.00,9,   -999.0,9,  -999.00,9,-999.000,9,   -999.9,9,   -999.9,9,  -999.0, -999.00,-999.0000,-999.000,-999.000
    316N145_10,  I07N,   714,  1,     25,     25,2,19950717,0956,-15.6520,  55.0007, 4546,   -999,    500.0,   9.2794,  34.7340,2,  34.7278,2,    200.6,2,  9.2235,    199.8,2,    14.00,2,    19.41,2,     0.00,2,     1.36,2,    1.469,2,    0.761,2, -999.000,9,-999.0000,9,  -999.00,9,   -999.0,9,  -999.00,9,-999.000,9,   -999.9,9,   -999.9,9,  -999.0, -999.00,-999.0000,-999.000,-999.000
    316N145_10,  I07N,   714,  1,     24,     24,2,19950717,0956,-15.6520,  55.0007, 4546,   -999,    639.4,   7.0797,  34.6435,2,  34.6459,2,    145.5,2,  7.0179,    144.4,2,    41.97,2,    28.76,2,     0.00,2,     2.03,2,    0.318,2,    0.176,2, -999.000,9,-999.0000,9,  -999.00,9,   -999.0,9,  -999.00,9,-999.000,9,   -999.9,9,   -999.9,9,  -999.0, -999.00,-999.0000,-999.000,-999.000
    316N145_10,  I07N,   714,  1,     23,     23,2,19950717,0956,-15.6520,  55.0007, 4546,   -999,    697.8,   6.6852,  34.6325,2,  34.6326,2,    138.8,2,  6.6196,    140.8,2,    47.02,2,    29.88,2,     0.00,2,     2.12,2, -999.000,9, -999.000,9, -999.000,9,-999.0000,9,  -999.00,9,   -999.0,9,  -999.00,9,-999.000,9,   -999.9,9,   -999.9,9,  -999.0, -999.00,-999.0000,-999.000,-999.000
    316N145_10,  I07N,   714,  1,     22,     22,2,19950717,0956,-15.6520,  55.0007, 4546,   -999,    802.6,   6.2665,  34.6834,2,  34.6814,2,    116.8,2,  6.1930,    120.2,2,    60.33,2,    32.20,2,     0.00,2,     2.31,2,    0.112,2,    0.065,2, -999.000,9,-999.0000,9,  -999.00,9,   -999.0,9,  -999.00,9,-999.000,9,   -999.9,9,   -999.9,9,  -999.0, -999.00,-999.0000,-999.000,-999.000
    316N145_10,  I07N,   714,  1,     21,     21,2,19950717,0956,-15.6520,  55.0007, 4546,   -999,    910.8,   5.7927,  34.7085,2,  34.7124,2,    110.6,2,  5.7117,    109.7,2,    71.04,2,    33.55,2,     0.00,2,     2.43,2,    0.052,2,    0.033,2, -999.000,9,-999.0000,9,  -999.00,9,   -999.0,9,  -999.00,9,-999.000,9,   -999.9,9,   -999.9,9,  -999.0, -999.00,-999.0000,-999.000,-999.000
    316N145_10,  I07N,   714,  1,     20,     20,2,19950717,0956,-15.6520,  55.0007, 4546,   -999,    980.6,   5.4288,  34.7126,2,  34.7150,2,    110.8,2,  5.3438,    110.6,2,    76.14,2,    34.04,2,     0.00,2,     2.46,2,    0.033,2,    0.016,2, -999.000,9,-999.0000,9,  -999.00,9,   -999.0,9,  -999.00,9,-999.000,9,   -999.9,9,   -999.9,9,  -999.0, -999.00,-999.0000,-999.000,-999.000
    316N145_10,  I07N,   714,  1,     19,     19,2,19950717,0956,-15.6520,  55.0007, 4546,   -999,   1098.6,   4.9328,  34.7093,2,  34.7103,2,    114.0,2,  4.8408,    114.6,2,    81.77,2,    34.27,2,     0.00,2,     2.48,2,    0.017,2,    0.006,2, -999.000,9,-999.0000,9,  -999.00,9,   -999.0,9,  -999.00,9,-999.000,9,   -999.9,9,   -999.9,9,  -999.0, -999.00,-999.0000,-999.000,-999.000
    316N145_10,  I07N,   714,  1,     18,     18,2,19950717,0956,-15.6520,  55.0007, 4546,   -999,   1199.2,   4.4460,  34.6947,2,  34.6955,2,    122.0,2,  4.3491,    123.2,2,    84.93,2,    34.22,2,     0.00,2,     2.47,2,    0.010,2,    0.009,2, -999.000,9,-999.0000,9,  -999.00,9,   -999.0,9,  -999.00,9,-999.000,9,   -999.9,9,   -999.9,9,  -999.0, -999.00,-999.0000,-999.000,-999.000
    316N145_10,  I07N,   714,  1,     17,     17,2,19950717,0956,-15.6520,  55.0007, 4546,   -999,   1299.9,   4.1459,  34.6835,2,  34.6853,2,    129.5,2,  4.0429,    128.8,2,    86.50,2,    34.09,2,     0.00,2,     2.45,2,    0.009,2,    0.004,2, -999.000,9,-999.0000,9,  -999.00,9,   -999.0,9,  -999.00,9,-999.000,9,   -999.9,9,   -999.9,9,  -999.0, -999.00,-999.0000,-999.000,-999.000
    316N145_10,  I07N,   714,  1,     16,     16,2,19950717,0956,-15.6520,  55.0007, 4546,   -999,   1397.9,   3.7422,  34.6829,2,  34.6847,2,    136.4,2,  3.6347,    136.9,2,    89.66,2,    33.86,2,     0.00,2,     2.43,2,    0.005,2,    0.005,2, -999.000,9,-999.0000,9,  -999.00,9,   -999.0,9,  -999.00,9,-999.000,9,   -999.9,9,   -999.9,9,  -999.0, -999.00,-999.0000,-999.000,-999.000
    316N145_10,  I07N,   714,  1,     15,     15,2,19950717,0956,-15.6520,  55.0007, 4546,   -999,   1500.1,   3.4329,  34.6819,2,  34.6822,2,    143.0,2,  3.3199,    143.4,2,    91.95,2,    33.68,2,     0.00,2,     2.42,2,    0.004,2,   -0.003,2, -999.000,9,-999.0000,9,  -999.00,9,   -999.0,9,  -999.00,9,-999.000,9,   -999.9,9,   -999.9,9,  -999.0, -999.00,-999.0000,-999.000,-999.000
    316N145_10,  I07N,   714,  1,     14,     14,2,19950717,0956,-15.6520,  55.0007, 4546,   -999,   1596.2,   3.1541,  34.6870,2,  34.6871,2,    148.1,2,  3.0361,    148.4,2,    94.41,2,    33.46,2,     0.00,2,     2.38,2, -999.000,9, -999.000,9, -999.000,9,-999.0000,9,  -999.00,9,   -999.0,9,  -999.00,9,-999.000,9,   -999.9,9,   -999.9,9,  -999.0, -999.00,-999.0000,-999.000,-999.000
    316N145_10,  I07N,   714,  1,     13,     13,2,19950717,0956,-15.6520,  55.0007, 4546,   -999,   1799.6,   2.7395,  34.7052,2,  34.7063,2,    155.0,2,  2.6093,    155.6,2,   101.54,2,    33.19,2,     0.00,2,     2.36,2, -999.000,9, -999.000,9, -999.000,9,-999.0000,9,  -999.00,9,   -999.0,9,  -999.00,9,-999.000,9,   -999.9,9,   -999.9,9,  -999.0, -999.00,-999.0000,-999.000,-999.000
    316N145_10,  I07N,   714,  1,     12,     12,2,19950717,0956,-15.6520,  55.0007, 4546,   -999,   1997.4,   2.4257,  34.7229,2,  34.7238,2,    157.5,2,  2.2829,    157.8,2,   110.15,2,    33.23,2,     0.00,2,     2.35,2, -999.000,9, -999.000,9, -999.000,9,-999.0000,9,  -999.00,9,   -999.0,9,  -999.00,9,-999.000,9,   -999.9,9,   -999.9,9,  -999.0, -999.00,-999.0000,-999.000,-999.000
    316N145_10,  I07N,   714,  1,     11,     11,2,19950717,0956,-15.6520,  55.0007, 4546,   -999,   2258.4,   2.1754,  34.7345,2,  34.7349,2,    158.4,2,  2.0135,    158.7,2,   118.29,2,    33.41,2,     0.00,2,     2.37,2, -999.000,9, -999.000,9, -999.000,9,-999.0000,9,  -999.00,9,   -999.0,9,  -999.00,9,-999.000,9,   -999.9,9,   -999.9,9,  -999.0, -999.00,-999.0000,-999.000,-999.000
    316N145_10,  I07N,   714,  1,     10,     10,2,19950717,0956,-15.6520,  55.0007, 4546,   -999,   2537.7,   2.0004,  34.7376,2,  34.7381,2,    159.0,2,  1.8164,    159.7,2,   124.30,2,    33.68,2,     0.00,2,     2.39,2, -999.000,9, -999.000,9, -999.000,9,-999.0000,9,  -999.00,9,   -999.0,9,  -999.00,9,-999.000,9,   -999.9,9,   -999.9,9,  -999.0, -999.00,-999.0000,-999.000,-999.000
    316N145_10,  I07N,   714,  1,      9,      9,2,19950717,0956,-15.6520,  55.0007, 4546,   -999,   2747.7,   1.9185,  34.7379,2,  34.7385,2,    160.4,2,  1.7165,    160.8,2,   126.83,2,    33.72,2,     0.00,2,     2.38,2, -999.000,9, -999.000,9, -999.000,9,-999.0000,9,  -999.00,9,   -999.0,9,  -999.00,9,-999.000,9,   -999.9,9,   -999.9,9,  -999.0, -999.00,-999.0000,-999.000,-999.000
    316N145_10,  I07N,   714,  1,      8,      8,2,19950717,0956,-15.6520,  55.0007, 4546,   -999,   3002.7,   1.7996,  34.7364,2,  34.7355,2,    163.5,2,  1.5758,    163.4,2,   129.37,2,    33.68,2,     0.00,2,     2.38,2, -999.000,9, -999.000,9, -999.000,9,-999.0000,9,  -999.00,9,   -999.0,9,  -999.00,9,-999.000,9,   -999.9,9,   -999.9,9,  -999.0, -999.00,-999.0000,-999.000,-999.000
    316N145_10,  I07N,   714,  1,      7,      7,2,19950717,0956,-15.6520,  55.0007, 4546,   -999,   3301.3,   1.6758,  34.7325,2,  34.7322,2,    168.5,2,  1.4253,    168.8,2,   130.07,2,    33.41,2,     0.00,2,     2.37,2, -999.000,9, -999.000,9, -999.000,9,-999.0000,9,  -999.00,9,   -999.0,9,  -999.00,9,-999.000,9,   -999.9,9,   -999.9,9,  -999.0, -999.00,-999.0000,-999.000,-999.000
    316N145_10,  I07N,   714,  1,      6,      6,2,19950717,0956,-15.6520,  55.0007, 4546,   -999,   3597.6,   1.5764,  34.7285,2,  34.7292,2,    174.8,2,  1.2981,    174.0,2,   130.39,2,    33.18,2,     0.00,2,     2.34,2, -999.000,9, -999.000,9, -999.000,9,-999.0000,9,  -999.00,9,   -999.0,9,  -999.00,9,-999.000,9,   -999.9,9,   -999.9,9,  -999.0, -999.00,-999.0000,-999.000,-999.000
    316N145_10,  I07N,   714,  1,      5,      5,2,19950717,0956,-15.6520,  55.0007, 4546,   -999,   3885.1,   1.4399,  34.7230,2,  34.7233,2,    181.5,2,  1.1350,    181.7,2,   129.79,2,    32.91,2,     0.00,2,     2.30,2, -999.000,9, -999.000,9, -999.000,9,-999.0000,9,  -999.00,9,   -999.0,9,  -999.00,9,-999.000,9,   -999.9,9,   -999.9,9,  -999.0, -999.00,-999.0000,-999.000,-999.000
    316N145_10,  I07N,   714,  1,      4,      4,2,19950717,0956,-15.6520,  55.0007, 4546,   -999,   4194.7,   1.3063,  34.7182,2,  34.7176,2,    189.9,2,  0.9715,    189.5,2,   128.09,2,    32.46,2,     0.00,2,     2.28,2, -999.000,9, -999.000,9, -999.000,9,-999.0000,9,  -999.00,9,   -999.0,9,  -999.00,9,-999.000,9,   -999.9,9,   -999.9,9,  -999.0, -999.00,-999.0000,-999.000,-999.000
    316N145_10,  I07N,   714,  1,      3,      3,2,19950717,0956,-15.6520,  55.0007, 4546,   -999,   4440.7,   1.1102,  34.7111,2,  34.7108,2,    199.9,2,  0.7540,    200.2,2,   126.20,2,    31.97,2,     0.00,2,     2.24,2, -999.000,9, -999.000,9, -999.000,9,-999.0000,9,  -999.00,9,   -999.0,9,  -999.00,9,-999.000,9,   -999.9,9,   -999.9,9,  -999.0, -999.00,-999.0000,-999.000,-999.000
    316N145_10,  I07N,   714,  1,      2,      2,2,19950717,0956,-15.6520,  55.0007, 4546,   -999,   4520.1,   1.0843,  34.7101,2,  34.7104,2,    202.1,2,  0.7200,    202.0,2,   125.79,2,    31.93,2,     0.00,2,     2.23,2, -999.000,9, -999.000,9, -999.000,9,-999.0000,9,  -999.00,9,   -999.0,9,  -999.00,9,-999.000,9,   -999.9,9,   -999.9,9,  -999.0, -999.00,-999.0000,-999.000,-999.000
    316N145_10,  I07N,   714,  1,      1,      1,2,19950717,0956,-15.6520,  55.0007, 4546,   -999,   4631.3,   1.0472,  34.7083,2,  34.7076,2,    204.5,2,  0.6714,    204.5,2,   125.74,2,    31.88,2,     0.00,2,     2.23,2, -999.000,9, -999.000,9, -999.000,9,-999.0000,9,  -999.00,9,   -999.0,9,  -999.00,9,-999.000,9,   -999.9,9,   -999.9,9,  -999.0, -999.00,-999.0000,-999.000,-999.000