BOTTLE,20080821WHPSIOSCD
EXPOCODE,SECT_ID,STNNBR,CASTNO,SAMPNO,BTLNBR,BTLNBR_FLAG_W,DATE,TIME,LATITUDE,LONGITUDE,DEPTH,CTDRAW,CTDPRS,CTDTMP,CTDSAL,CTDSAL_FLAG_W,SALNTY,SALNTY_FLAG_W,CTDOXY,CTDOXY_FLAG_W,THETA,OXYGEN,OXYGEN_FLAG_W,SILCAT,SILCAT_FLAG_W,NITRAT,NITRAT_FLAG_W,NITRIT,NITRIT_FLAG_W,PHSPHT,PHSPHT_FLAG_W,CFC-11,CFC-11_FLAG_W,CFC-12,CFC-12_FLAG_W,TRITUM,TRITUM_FLAG_W,HELIUM,HELIUM_FLAG_W,DELHE3,DELHE3_FLAG_W,DELC14,DELC14_FLAG_W,DELC13,DELC13_FLAG_W,NEON,NEON_FLAG_W,TCARBN,TCARBN_FLAG_W,ALKALI,ALKALI_FLAG_W,C14ERR,DELHER,HELIER,NEONER,TRITER
,,,,,,,,,,,,,DBAR,ITS-90,PSS-78,,PSS-78,,UMOL/KG,,DEG C,UMOL/KG,,UMOL/KG,,UMOL/KG,,UMOL/KG,,UMOL/KG,,PMOL/KG,,PMOL/KG,,TU,,NMOL/KG,,PERCNT,,/MILLE,,/MILLE,,NMOL/KG,,UMOL/KG,,UMOL/KG,,/MILLE,PERCNT,NMOL/KG,NMOL/KG,TU
    316N145_10,  I07N,   709,  1,     36,     36,2,19950716,0045,-18.5032,  54.9898, 4432,   -999,     12.5,  24.3147,  35.0601,2,  35.0609,2,    201.8,2, 24.3123,    210.6,2,     3.24,2,     0.01,2,     0.00,2,     0.13,2,    1.857,2,    1.057,2, -999.000,9,-999.0000,9,  -999.00,9,   -999.0,5,  -999.00,9,-999.000,9,   1952.7,2,   2295.6,2,  -999.0, -999.00,-999.0000,-999.000,-999.000
    316N145_10,  I07N,   709,  1,     35,     35,2,19950716,0045,-18.5032,  54.9898, 4432,   -999,     62.8,  24.3098,  35.1895,2,  35.1940,2,    208.2,2, 24.2967,    210.5,2,     3.05,2,     0.01,2,     0.00,2,     0.12,2,    1.874,2,    1.076,2, -999.000,9,-999.0000,9,  -999.00,9,     70.7,2,     1.26,2,-999.000,9,   1961.5,2,   2303.5,2,     4.4, -999.00,-999.0000,-999.000,-999.000
    316N145_10,  I07N,   709,  1,     34,     34,2,19950716,0045,-18.5032,  54.9898, 4432,   -999,     92.6,  24.1638,  35.2451,2,  35.2447,2,    207.7,2, 24.1444,    210.7,2,     3.04,2,     0.01,2,     0.00,2,     0.11,2,    1.870,2,    1.057,2, -999.000,9,-999.0000,9,  -999.00,9,     82.8,2,     1.04,2,-999.000,9,   1962.7,2,   2306.4,2,     5.3, -999.00,-999.0000,-999.000,-999.000
    316N145_10,  I07N,   709,  1,     33,     33,2,19950716,0045,-18.5032,  54.9898, 4432,   -999,    123.4,  23.4385,  35.2396,2,  35.2401,2,    205.8,2, 23.4132,    205.7,2,     3.38,2,     0.31,2,     0.07,2,     0.17,2, -999.000,9, -999.000,9, -999.000,9,-999.0000,9,  -999.00,9,     74.8,2,     1.02,2,-999.000,9,   1978.1,2,   2303.1,2,     3.5, -999.00,-999.0000,-999.000,-999.000
    316N145_10,  I07N,   709,  1,     32,     32,2,19950716,0045,-18.5032,  54.9898, 4432,   -999,    151.7,  21.6008,  35.4331,2,  35.4485,2,    202.2,2, 21.5713,    196.4,2,     3.71,2,     1.35,2,     0.03,2,     0.25,2,    2.070,2,    1.166,2, -999.000,9,-999.0000,9,  -999.00,9,     76.0,2,     0.99,2,-999.000,9,   2010.6,2,   2320.3,2,     4.7, -999.00,-999.0000,-999.000,-999.000
    316N145_10,  I07N,   709,  1,     31,     31,2,19950716,0045,-18.5032,  54.9898, 4432,   -999,    202.5,  20.2801,  35.6269,2,  35.6242,2,    199.6,2, 20.2423,    195.4,2,     3.87,2,     2.09,2,     0.01,2,     0.28,2,    2.139,2,    1.170,2, -999.000,9,-999.0000,9,  -999.00,9,     79.1,2,     0.97,2,-999.000,9,   2033.4,2,   2330.9,2,     3.5, -999.00,-999.0000,-999.000,-999.000
    316N145_10,  I07N,   709,  1,     30,     30,2,19950716,0045,-18.5032,  54.9898, 4432,   -999,    251.5,  19.3946,  35.6672,2,  35.6490,2,    196.3,2, 19.3490,    192.1,2,     4.39,2,     3.10,2,     0.01,2,     0.34,2,    2.138,2,    1.162,2, -999.000,9,-999.0000,9,  -999.00,9,   -999.0,9,  -999.00,9,-999.000,9,   2051.2,2,   2334.2,2,  -999.0, -999.00,-999.0000,-999.000,-999.000
    316N145_10,  I07N,   709,  1,     29,     29,2,19950716,0045,-18.5032,  54.9898, 4432,   -999,    290.6,  16.7250,  35.5114,2,  35.5063,2,    180.8,2, 16.6774,    178.6,2,     7.90,2,     7.39,2,     0.01,2,     0.62,2,    2.092,2,    1.116,2, -999.000,9,-999.0000,9,  -999.00,9,     65.7,2,     0.91,2,-999.000,9,   2089.2,2,   2327.9,2,     5.0, -999.00,-999.0000,-999.000,-999.000
    316N145_10,  I07N,   709,  1,     28,     28,2,19950716,0045,-18.5032,  54.9898, 4432,   -999,    402.6,  12.8814,  35.1750,2,  35.1762,2,    198.3,2, 12.8260,    199.0,2,     8.59,2,    11.22,2,     0.00,2,     0.86,2,    2.239,2,    1.129,2, -999.000,9,-999.0000,9,  -999.00,9,     55.3,2,     1.01,2,-999.000,9,   2108.4,2,   2336.2,3,     6.5, -999.00,-999.0000,-999.000,-999.000
    316N145_10,  I07N,   709,  1,     27,     27,2,19950716,0045,-18.5032,  54.9898, 4432,   -999,    471.1,  11.3686,  34.9824,2,  34.9867,2,    209.7,2, 11.3087,    210.1,2,     8.40,2,    13.42,2,     0.00,2,     0.99,2,    2.228,2,    1.119,2, -999.000,9,-999.0000,9,  -999.00,9,     58.2,2,     1.17,2,-999.000,9,   2112.5,2,   2314.6,2,    11.9, -999.00,-999.0000,-999.000,-999.000
    316N145_10,  I07N,   709,  1,     26,     26,2,19950716,0045,-18.5032,  54.9898, 4432,   -999,    583.0,   9.5755,  34.7612,2,  34.7548,2,    199.0,2,  9.5086,    201.2,2,    13.32,2,    18.62,2,     0.00,2,     1.31,2,    1.611,2,    0.799,2, -999.000,9,-999.0000,9,  -999.00,9,     49.9,2,     1.19,2,-999.000,9,   2132.3,2,   2300.4,2,     4.9, -999.00,-999.0000,-999.000,-999.000
    316N145_10,  I07N,   709,  1,     25,     25,2,19950716,0045,-18.5032,  54.9898, 4432,   -999,    700.2,   8.0310,  34.6458,2,  34.6454,2,    176.4,2,  7.9582,    177.0,2,    25.48,2,    24.15,2,     0.00,2,     1.69,2,    0.839,2,    0.422,2, -999.000,9,-999.0000,9,  -999.00,9,    -17.2,2,     0.98,2,-999.000,9,   2164.5,2,   2309.5,2,     4.7, -999.00,-999.0000,-999.000,-999.000
    316N145_10,  I07N,   709,  1,     24,     24,2,19950716,0045,-18.5032,  54.9898, 4432,   -999,    831.7,   6.2388,  34.5720,2,  34.5699,2,    150.7,2,  6.1628,    155.5,2,    44.88,2,    29.52,2,     0.00,2,     2.09,2,    0.294,2,    0.145,2, -999.000,9,-999.0000,9,  -999.00,9,   -999.0,5,  -999.00,9,-999.000,9,   2205.2,2,   2320.6,2,  -999.0, -999.00,-999.0000,-999.000,-999.000
    316N145_10,  I07N,   709,  1,     23,     23,2,19950716,0045,-18.5032,  54.9898, 4432,   -999,    898.8,   5.5809,  34.5975,2,  34.5967,2,    138.0,2,  5.5027,    136.8,2,    60.43,2,    32.11,2,     0.00,2,     2.29,2,    0.128,2,    0.067,2, -999.000,9,-999.0000,9,  -999.00,9,   -999.0,9,  -999.00,9,-999.000,9,   2233.4,2,   2338.8,2,  -999.0, -999.00,-999.0000,-999.000,-999.000
    316N145_10,  I07N,   709,  1,     22,     22,2,19950716,0045,-18.5032,  54.9898, 4432,   -999,    991.5,   4.9642,  34.6079,2,  34.6096,2,    125.7,2,  4.8818,    130.5,2,    70.88,2,    33.45,2,     0.00,2,     2.39,2,    0.046,2,    0.023,2, -999.000,9,-999.0000,9,  -999.00,9,   -999.0,5,  -999.00,9,-999.000,9,   2249.0,2,   2341.6,2,  -999.0, -999.00,-999.0000,-999.000,-999.000
    316N145_10,  I07N,   709,  1,     21,     21,2,19950716,0045,-18.5032,  54.9898, 4432,   -999,   1191.8,   4.0171,  34.6455,2,  34.6473,2,    130.7,2,  3.9249,    134.3,2,    83.70,2,    34.04,2,     0.00,2,     2.44,2,    0.015,2,    0.003,2, -999.000,9,-999.0000,9,  -999.00,9,   -999.0,5,  -999.00,9,-999.000,9,   2265.7,2,   2360.9,2,  -999.0, -999.00,-999.0000,-999.000,-999.000
    316N145_10,  I07N,   709,  1,     20,     20,2,19950716,0045,-18.5032,  54.9898, 4432,   -999,   1401.8,   3.2438,  34.6610,2,  34.6617,2,    144.5,2,  3.1413,    149.7,2,    89.41,2,    33.53,2,     0.00,2,     2.38,2,    0.006,2,    0.009,2, -999.000,9,-999.0000,9,  -999.00,9,   -999.0,5,  -999.00,9,-999.000,9,   2264.0,2,   2360.3,2,  -999.0, -999.00,-999.0000,-999.000,-999.000
    316N145_10,  I07N,   709,  1,     19,     19,2,19950716,0045,-18.5032,  54.9898, 4432,   -999,   1597.9,   2.8389,  34.6831,2,  34.6843,2,    153.8,2,  2.7246,    157.2,2,    94.95,2,    33.11,2,     0.00,2,     2.35,2,    0.005,2,    0.001,2, -999.000,9,-999.0000,9,  -999.00,9,   -999.0,9,  -999.00,9,-999.000,9,   2267.2,2,   2371.0,2,  -999.0, -999.00,-999.0000,-999.000,-999.000
    316N145_10,  I07N,   709,  1,     18,     18,2,19950716,0045,-18.5032,  54.9898, 4432,   -999,   1795.8,   2.5357,  34.7084,2,  34.7097,2,    159.5,2,  2.4086,    160.4,2,   102.87,2,    33.06,2,     0.00,2,     2.34,2, -999.000,9, -999.000,9, -999.000,9,-999.0000,9,  -999.00,9,   -999.0,5,  -999.00,9,-999.000,9,   2274.9,2,   2375.6,2,  -999.0, -999.00,-999.0000,-999.000,-999.000
    316N145_10,  I07N,   709,  1,     17,     17,2,19950716,0045,-18.5032,  54.9898, 4432,   -999,   1999.3,   2.3178,  34.7228,2,  34.7233,2,    161.5,2,  2.1764,    161.6,2,   109.75,2,    33.06,2,     0.00,2,     2.34,2, -999.000,9, -999.000,9, -999.000,9,-999.0000,9,  -999.00,9,   -179.3,2,     0.36,2,-999.000,9,   2281.0,2,   2387.8,2,     2.8, -999.00,-999.0000,-999.000,-999.000
    316N145_10,  I07N,   709,  1,     16,     16,2,19950716,0045,-18.5032,  54.9898, 4432,   -999,   2200.7,   2.1763,  34.7301,2,  34.7305,2,    161.9,2,  2.0195,    161.6,2,   115.20,2,    33.24,2,     0.00,2,     2.35,2, -999.000,9, -999.000,9, -999.000,9,-999.0000,9,  -999.00,9,   -182.1,2,     0.26,2,-999.000,9,   2284.4,2,   2388.8,2,     2.6, -999.00,-999.0000,-999.000,-999.000
    316N145_10,  I07N,   709,  1,     15,     15,2,19950716,0045,-18.5032,  54.9898, 4432,   -999,   2347.0,   2.1108,  34.7359,2,  34.7365,2,    159.4,2,  1.9421,    159.0,2,   119.94,2,    33.51,2,     0.00,2,     2.38,2, -999.000,9, -999.000,9, -999.000,9,-999.0000,9,  -999.00,9,   -999.0,9,  -999.00,9,-999.000,9,   2290.3,2,   2399.9,2,  -999.0, -999.00,-999.0000,-999.000,-999.000
    316N145_10,  I07N,   709,  1,     14,     14,2,19950716,0045,-18.5032,  54.9898, 4432,   -999,   2447.1,   2.0556,  34.7363,2,  34.7363,2,    161.3,2,  1.8789,    160.3,2,   121.19,2,    33.51,2,     0.00,2,     2.38,2, -999.000,9, -999.000,9, -999.000,9,-999.0000,9,  -999.00,9,   -185.6,2,     0.13,2,-999.000,9,   2290.0,2,   -999.9,5,     2.7, -999.00,-999.0000,-999.000,-999.000
    316N145_10,  I07N,   709,  1,     13,     13,2,19950716,0045,-18.5032,  54.9898, 4432,   -999,   2593.9,   1.9925,  34.7382,2,  34.7386,2,    161.9,2,  1.8035,    159.9,2,   124.29,2,    33.69,2,     0.00,2,     2.40,2, -999.000,9, -999.000,9, -999.000,9,-999.0000,9,  -999.00,9,   -182.7,2,     0.28,2,-999.000,9,   2294.3,2,   2405.9,2,     3.2, -999.00,-999.0000,-999.000,-999.000
    316N145_10,  I07N,   709,  1,     12,     12,2,19950716,0045,-18.5032,  54.9898, 4432,   -999,   2793.6,   1.9114,  34.7375,2,  34.7376,2,    162.3,2,  1.7053,    161.2,2,   126.66,2,    33.73,2,     0.00,2,     2.39,2, -999.000,9, -999.000,9, -999.000,9,-999.0000,9,  -999.00,9,   -185.0,2,     0.24,2,-999.000,9,   2296.1,2,   2427.1,3,     3.2, -999.00,-999.0000,-999.000,-999.000
    316N145_10,  I07N,   709,  1,     11,     11,2,19950716,0045,-18.5032,  54.9898, 4432,   -999,   3003.4,   1.8411,  34.7359,2,  34.7366,2,    164.7,2,  1.6163,    163.2,2,   127.92,2,    33.64,2,     0.00,2,     2.39,2,    0.006,2,    0.007,2, -999.000,9,-999.0000,9,  -999.00,9,   -187.6,2,     0.28,2,-999.000,9,   2296.9,2,   2409.6,2,     3.2, -999.00,-999.0000,-999.000,-999.000
    316N145_10,  I07N,   709,  1,     10,     10,2,19950716,0045,-18.5032,  54.9898, 4432,   -999,   3205.3,   1.7305,  34.7332,2,  34.7327,2,    167.2,2,  1.4883,    166.7,2,   129.36,2,    33.59,2,     0.00,2,     2.38,2, -999.000,9, -999.000,9, -999.000,9,-999.0000,9,  -999.00,9,   -184.9,2,     0.20,2,-999.000,9,   2294.9,2,   2400.1,2,     3.2, -999.00,-999.0000,-999.000,-999.000
    316N145_10,  I07N,   709,  1,      9,      9,2,19950716,0045,-18.5032,  54.9898, 4432,   -999,   3403.3,   1.6340,  34.7305,2,  34.7293,2,    171.8,2,  1.3742,    170.9,2,   130.06,2,    33.40,2,     0.00,2,     2.36,2, -999.000,9, -999.000,9, -999.000,9,-999.0000,9,  -999.00,9,   -183.1,2,     0.22,2,-999.000,9,   2293.9,2,   2406.7,2,     4.3, -999.00,-999.0000,-999.000,-999.000
    316N145_10,  I07N,   709,  1,      8,      8,2,19950716,0045,-18.5032,  54.9898, 4432,   -999,   3602.0,   1.5433,  34.7266,2,  34.7265,2,    176.1,2,  1.2654,    175.2,2,   130.02,2,    33.26,2,     0.00,2,     2.34,2, -999.000,9, -999.000,9, -999.000,9,-999.0000,9,  -999.00,9,   -176.8,2,     0.12,2,-999.000,9,   2290.6,2,   2400.4,2,     3.4, -999.00,-999.0000,-999.000,-999.000
    316N145_10,  I07N,   709,  1,      7,      7,2,19950716,0045,-18.5032,  54.9898, 4432,   -999,   3801.6,   1.4716,  34.7242,2,  34.7237,2,    180.5,2,  1.1747,    179.9,2,   129.42,2,    33.02,2,     0.00,2,     2.33,2, -999.000,9, -999.000,9, -999.000,9,-999.0000,9,  -999.00,9,   -999.0,5,    -0.54,4,-999.000,9,   2286.8,2,   2400.2,2,  -999.0, -999.00,-999.0000,-999.000,-999.000
    316N145_10,  I07N,   709,  1,      6,      6,2,19950716,0045,-18.5032,  54.9898, 4432,   -999,   3995.3,   1.3671,  34.7204,2,  34.7192,2,    186.1,2,  1.0523,    185.8,2,   128.45,2,    32.70,2,     0.00,2,     2.30,2, -999.000,9, -999.000,9, -999.000,9,-999.0000,9,  -999.00,9,   -165.2,2,     0.30,2,-999.000,9,   2282.4,2,   2396.0,2,     3.9, -999.00,-999.0000,-999.000,-999.000
    316N145_10,  I07N,   709,  1,      5,      5,2,19950716,0045,-18.5032,  54.9898, 4432,   -999,   4189.5,   1.1937,  34.7141,2,  34.7133,2,    195.1,2,  0.8628,    195.5,2,   126.55,2,    32.28,2,     0.00,2,     2.26,2, -999.000,9, -999.000,9, -999.000,9,-999.0000,9,  -999.00,9,   -160.5,2,     0.32,2,-999.000,9,   2272.3,2,   2385.6,2,     3.3, -999.00,-999.0000,-999.000,-999.000
    316N145_10,  I07N,   709,  1,      4,      4,2,19950716,0045,-18.5032,  54.9898, 4432,   -999,   4297.4,   1.1579,  34.7127,2,  34.7120,2,    196.7,2,  0.8162,    197.5,2,   126.32,2,    32.18,2,     0.00,2,     2.25,2, -999.000,9, -999.000,9, -999.000,9,-999.0000,9,  -999.00,9,   -999.0,5,     0.35,2,-999.000,9,   2271.4,2,   2383.2,2,  -999.0, -999.00,-999.0000,-999.000,-999.000
    316N145_10,  I07N,   709,  1,      3,      3,2,19950716,0045,-18.5032,  54.9898, 4432,   -999,   4399.0,   1.1481,  34.7123,2,  34.7108,2,    197.7,2,  0.7954,    198.5,2,   126.28,2,    32.18,2,     0.00,2,     2.25,2, -999.000,9, -999.000,9, -999.000,9,-999.0000,9,  -999.00,9,   -999.0,5,     0.44,2,-999.000,9,   2270.3,2,   1878.6,4,  -999.0, -999.00,-999.0000,-999.000,-999.000
    316N145_10,  I07N,   709,  1,      2,      2,2,19950716,0045,-18.5032,  54.9898, 4432,   -999,   4497.1,   1.1300,  34.7106,2,  34.7102,2,    199.0,2,  0.7668,    199.9,2,   126.05,2,    32.08,2,     0.00,2,     2.24,2, -999.000,9, -999.000,9, -999.000,9,-999.0000,9,  -999.00,9,   -150.3,2,     0.46,2,-999.000,9,   2270.0,2,   2374.7,2,     3.6, -999.00,-999.0000,-999.000,-999.000
    316N145_10,  I07N,   709,  1,      1,      1,2,19950716,0045,-18.5032,  54.9898, 4432,   -999,   4538.1,   1.1328,  34.7110,2,  34.7116,2,    198.3,2,  0.7649,    199.9,2,   125.82,2,    32.08,2,     0.00,2,     2.24,2,    0.004,2,    0.000,2, -999.000,9,-999.0000,9,  -999.00,9,   -166.0,2,     0.47,2,-999.000,9,   2267.9,2,   2375.0,2,     2.2, -999.00,-999.0000,-999.000,-999.000