BOTTLE,20080821WHPSIOSCD
EXPOCODE,SECT_ID,STNNBR,CASTNO,SAMPNO,BTLNBR,BTLNBR_FLAG_W,DATE,TIME,LATITUDE,LONGITUDE,DEPTH,CTDRAW,CTDPRS,CTDTMP,CTDSAL,CTDSAL_FLAG_W,SALNTY,SALNTY_FLAG_W,CTDOXY,CTDOXY_FLAG_W,THETA,OXYGEN,OXYGEN_FLAG_W,SILCAT,SILCAT_FLAG_W,NITRAT,NITRAT_FLAG_W,NITRIT,NITRIT_FLAG_W,PHSPHT,PHSPHT_FLAG_W,CFC-11,CFC-11_FLAG_W,CFC-12,CFC-12_FLAG_W,TRITUM,TRITUM_FLAG_W,HELIUM,HELIUM_FLAG_W,DELHE3,DELHE3_FLAG_W,DELC14,DELC14_FLAG_W,DELC13,DELC13_FLAG_W,NEON,NEON_FLAG_W,TCARBN,TCARBN_FLAG_W,ALKALI,ALKALI_FLAG_W,C14ERR,DELHER,HELIER,NEONER,TRITER
,,,,,,,,,,,,,DBAR,ITS-90,PSS-78,,PSS-78,,UMOL/KG,,DEG C,UMOL/KG,,UMOL/KG,,UMOL/KG,,UMOL/KG,,UMOL/KG,,PMOL/KG,,PMOL/KG,,TU,,NMOL/KG,,PERCNT,,/MILLE,,/MILLE,,NMOL/KG,,UMOL/KG,,UMOL/KG,,/MILLE,PERCNT,NMOL/KG,NMOL/KG,TU
    316N145_10,  I07N,   732,  1,     36,     36,2,19950722,0238, -9.0887,  51.6630, 3680,   -999,      8.2,  25.7498,  35.1612,2,  35.1636,3,    206.0,2, 25.7478,    200.7,2,     3.86,2,     1.35,2,     0.05,2,     0.27,2,    1.739,2,    0.981,2, -999.000,9,-999.0000,9,  -999.00,9,   -999.0,9,  -999.00,9,-999.000,9,   1983.3,2,   2299.5,2,  -999.0, -999.00,-999.0000,-999.000,-999.000
    316N145_10,  I07N,   732,  1,     35,     35,2,19950722,0238, -9.0887,  51.6630, 3680,   -999,     30.8,  25.6833,  35.1626,2,  35.1634,2,    197.6,2, 25.6764,    198.5,2,     4.01,2,     1.52,2,     0.06,2,     0.28,2, -999.000,9, -999.000,9, -999.000,9,-999.0000,9,  -999.00,9,   -999.0,9,  -999.00,9,-999.000,9,   1985.7,2,   2306.2,2,  -999.0, -999.00,-999.0000,-999.000,-999.000
    316N145_10,  I07N,   732,  1,     34,     34,2,19950722,0238, -9.0887,  51.6630, 3680,   -999,     49.8,  20.7009,  35.1682,2,  35.1850,3,    138.1,2, 20.6913,    140.5,2,    10.38,2,    10.05,2,     0.34,2,     0.82,2, -999.000,9, -999.000,9, -999.000,9,-999.0000,9,  -999.00,9,   -999.0,9,  -999.00,9,-999.000,9,   2074.3,2,   2306.1,2,  -999.0, -999.00,-999.0000,-999.000,-999.000
    316N145_10,  I07N,   732,  1,     33,     33,2,19950722,0238, -9.0887,  51.6630, 3680,   -999,     70.0,  17.7772,  35.2098,2,  35.2047,2,    111.7,2, 17.7652,    110.4,2,    14.15,2,    16.00,2,     0.09,2,     1.16,2,    1.466,2,    0.784,2, -999.000,9,-999.0000,9,  -999.00,9,   -999.0,9,  -999.00,9,-999.000,9,   2126.1,2,   2312.2,2,  -999.0, -999.00,-999.0000,-999.000,-999.000
    316N145_10,  I07N,   732,  1,     32,     32,2,19950722,0238, -9.0887,  51.6630, 3680,   -999,    100.6,  15.9743,  35.1941,2,  35.1943,2,    106.4,2, 15.9583,    107.6,2,    16.21,2,    18.09,2,     0.03,2,     1.29,2, -999.000,9, -999.000,9, -999.000,9,-999.0000,9,  -999.00,9,   -999.0,9,  -999.00,9,-999.000,9,   2145.8,2,   2313.9,2,  -999.0, -999.00,-999.0000,-999.000,-999.000
    316N145_10,  I07N,   732,  1,     31,     31,2,19950722,0238, -9.0887,  51.6630, 3680,   -999,    125.2,  15.1399,  35.1757,2,  35.1731,2,    108.8,2, 15.1207,    110.2,2,    16.88,2,    18.67,2,     0.02,2,     1.33,2, -999.000,9, -999.000,9, -999.000,9,-999.0000,9,  -999.00,9,   -999.0,9,  -999.00,9,-999.000,9,   2153.2,2,   2315.0,2,  -999.0, -999.00,-999.0000,-999.000,-999.000
    316N145_10,  I07N,   732,  1,     30,     30,2,19950722,0238, -9.0887,  51.6630, 3680,   -999,    151.2,  14.1692,  35.1289,2,  35.1285,2,    110.5,2, 14.1471,    112.0,2,    18.06,2,    19.51,2,     0.01,2,     1.39,2,    1.285,2,    0.648,2, -999.000,9,-999.0000,9,  -999.00,9,   -999.0,9,  -999.00,9,-999.000,9,   2160.6,2,   2318.3,2,  -999.0, -999.00,-999.0000,-999.000,-999.000
    316N145_10,  I07N,   732,  1,     29,     29,2,19950722,0238, -9.0887,  51.6630, 3680,   -999,    180.9,  13.2220,  35.0763,2,  35.0748,2,    115.1,2, 13.1967,    113.9,2,    19.42,2,    20.49,2,     0.01,2,     1.45,2, -999.000,9, -999.000,9, -999.000,9,-999.0000,9,  -999.00,9,   -999.0,9,  -999.00,9,-999.000,9,   2164.4,2,   2314.1,2,  -999.0, -999.00,-999.0000,-999.000,-999.000
    316N145_10,  I07N,   732,  1,     28,     28,2,19950722,0238, -9.0887,  51.6630, 3680,   -999,    208.9,  12.7030,  35.0493,2,  35.0469,2,    118.7,2, 12.6746,    118.7,2,    19.92,2,    20.84,2,     0.01,2,     1.47,2,    1.149,2,    0.571,2, -999.000,9,-999.0000,9,  -999.00,9,   -999.0,9,  -999.00,9,-999.000,9,   2167.4,2,   2316.8,2,  -999.0, -999.00,-999.0000,-999.000,-999.000
    316N145_10,  I07N,   732,  1,     27,     27,3,19950722,0238, -9.0887,  51.6630, 3680,   -999,    239.7,  11.9545,  35.0049,2,-999.0000,9,    126.0,2, 11.9232,    127.3,2,    19.35,9,    20.52,9,     0.00,9,     1.45,9,    1.129,2,    0.585,2, -999.000,9,-999.0000,9,  -999.00,9,   -999.0,9,  -999.00,9,-999.000,9,   2168.1,2,   2297.8,2,  -999.0, -999.00,-999.0000,-999.000,-999.000
    316N145_10,  I07N,   732,  1,     26,     26,3,19950722,0238, -9.0887,  51.6630, 3680,   -999,    275.8,  10.8617,  34.9256,2,  34.9230,2,    132.6,2, 10.8278,    137.5,2,    21.45,2,    22.16,2,     0.00,2,     1.56,2, -999.000,9, -999.000,9, -999.000,9,-999.0000,9,  -999.00,9,   -999.0,9,  -999.00,9,-999.000,9,   2170.2,2,   2316.9,2,  -999.0, -999.00,-999.0000,-999.000,-999.000
    316N145_10,  I07N,   732,  1,     25,     25,2,19950722,0238, -9.0887,  51.6630, 3680,   -999,    323.9,  10.3486,  34.8941,2,  34.8915,2,    128.4,2, 10.3100,    128.0,2,    24.36,2,    23.93,2,     0.00,2,     1.67,2,    0.842,2,    0.423,2, -999.000,9,-999.0000,9,  -999.00,9,   -999.0,9,  -999.00,9,-999.000,9,   2182.6,2,   2519.1,4,  -999.0, -999.00,-999.0000,-999.000,-999.000
    316N145_10,  I07N,   732,  1,     24,     24,3,19950722,0238, -9.0887,  51.6630, 3680,   -999,    397.4,   9.8048,  34.8546,2,  34.8576,3,    126.9,2,  9.7588,   -999.0,9,    26.75,3,    24.42,3,     0.00,3,     1.72,3, -999.000,9, -999.000,9, -999.000,9,-999.0000,9,  -999.00,9,   -999.0,9,  -999.00,9,-999.000,9,   2175.3,2,   2314.8,2,  -999.0, -999.00,-999.0000,-999.000,-999.000
    316N145_10,  I07N,   732,  1,     23,     23,2,19950722,0238, -9.0887,  51.6630, 3680,   -999,    500.5,   9.0043,  34.8175,2,  34.8164,2,    124.7,2,  8.9490,    123.1,2,    34.82,2,    26.98,2,     0.00,2,     1.91,2,    0.550,2,    0.270,2, -999.000,9,-999.0000,9,  -999.00,9,   -999.0,9,  -999.00,9,-999.000,9,   2203.7,2,   2319.3,2,  -999.0, -999.00,-999.0000,-999.000,-999.000
    316N145_10,  I07N,   732,  1,     22,     22,3,19950722,0238, -9.0887,  51.6630, 3680,   -999,    610.6,   7.9410,  34.7999,2,  34.8490,4,    113.4,2,  7.8780,    102.3,4,    45.13,4,    28.22,4,     0.00,4,     2.03,4, -999.000,9, -999.000,9, -999.000,9,-999.0000,9,  -999.00,9,   -999.0,9,  -999.00,9,-999.000,9,   2217.5,4,   4719.5,4,  -999.0, -999.00,-999.0000,-999.000,-999.000
    316N145_10,  I07N,   732,  1,     21,     21,2,19950722,0238, -9.0887,  51.6630, 3680,   -999,    722.3,   7.3907,  34.7804,2,  34.7793,2,     99.4,2,  7.3186,    104.3,2,    54.94,2,    31.43,2,     0.00,2,     2.28,2,    0.187,2,    0.086,2, -999.000,9,-999.0000,9,  -999.00,9,   -999.0,9,  -999.00,9,-999.000,9,   2241.3,2,   2335.1,2,  -999.0, -999.00,-999.0000,-999.000,-999.000
    316N145_10,  I07N,   732,  1,     20,     20,2,19950722,0238, -9.0887,  51.6630, 3680,   -999,    757.7,   7.2315,  34.7823,2,  34.7824,2,    104.6,2,  7.1566,    104.4,2,    57.33,2,    31.75,2,     0.00,2,     2.31,2, -999.000,9, -999.000,9, -999.000,9,-999.0000,9,  -999.00,9,   -999.0,9,  -999.00,9,-999.000,9,   2241.6,2,    975.8,4,  -999.0, -999.00,-999.0000,-999.000,-999.000
    316N145_10,  I07N,   732,  1,     19,     19,2,19950722,0238, -9.0887,  51.6630, 3680,   -999,    781.1,   7.1498,  34.7858,2,  34.7835,2,     94.8,2,  7.0729,    100.1,2,    59.20,2,    32.20,2,     0.00,2,     2.35,2,    0.140,2,    0.074,2, -999.000,9,-999.0000,9,  -999.00,9,   -999.0,9,  -999.00,9,-999.000,9,   2249.8,2,   2340.8,2,  -999.0, -999.00,-999.0000,-999.000,-999.000
    316N145_10,  I07N,   732,  1,     18,     18,2,19950722,0238, -9.0887,  51.6630, 3680,   -999,    851.8,   6.6091,  34.7738,2,  34.7733,2,    103.7,2,  6.5283,     98.7,2,    66.44,2,    33.14,2,     0.00,2,     2.42,2, -999.000,9, -999.000,9, -999.000,9,-999.0000,9,  -999.00,9,   -999.0,9,  -999.00,9,-999.000,9,   2259.1,2,   2346.7,2,  -999.0, -999.00,-999.0000,-999.000,-999.000
    316N145_10,  I07N,   732,  1,     17,     17,2,19950722,0238, -9.0887,  51.6630, 3680,   -999,    912.7,   6.2620,  34.7798,2,  34.7788,2,     95.1,2,  6.1775,     94.8,2,    72.83,2,    33.85,2,     0.00,2,     2.48,2,    0.058,2,    0.037,2, -999.000,9,-999.0000,9,  -999.00,9,   -999.0,9,  -999.00,9,-999.000,9,   2269.0,2,   2353.5,2,  -999.0, -999.00,-999.0000,-999.000,-999.000
    316N145_10,  I07N,   732,  1,     16,     16,2,19950722,0238, -9.0887,  51.6630, 3680,   -999,   1075.0,   5.3572,  34.7573,2,  34.7568,2,    101.0,2,  5.2637,    103.7,2,    81.50,2,    34.40,2,     0.00,2,     2.52,2, -999.000,9, -999.000,9, -999.000,9,-999.0000,9,  -999.00,9,   -999.0,9,  -999.00,9,-999.000,9,   2276.3,2,   2359.8,2,  -999.0, -999.00,-999.0000,-999.000,-999.000
    316N145_10,  I07N,   732,  1,     15,     15,2,19950722,0238, -9.0887,  51.6630, 3680,   -999,   1253.2,   4.4931,  34.7445,2,  34.7435,2,    118.1,2,  4.3908,    114.4,2,    90.04,2,    34.53,2,     0.00,2,     2.51,2,    0.014,2,    0.009,2, -999.000,9,-999.0000,9,  -999.00,9,   -999.0,9,  -999.00,9,-999.000,9,   2282.8,2,   2334.1,3,  -999.0, -999.00,-999.0000,-999.000,-999.000
    316N145_10,  I07N,   732,  1,     14,     14,2,19950722,0238, -9.0887,  51.6630, 3680,   -999,   1452.6,   3.6418,  34.7286,2,  34.7272,2,    131.3,2,  3.5304,    130.9,2,    97.56,2,    34.13,2,     0.00,2,     2.47,2, -999.000,9, -999.000,9, -999.000,9,-999.0000,9,  -999.00,9,   -999.0,9,  -999.00,9,-999.000,9,   2285.0,2,   2374.6,2,  -999.0, -999.00,-999.0000,-999.000,-999.000
    316N145_10,  I07N,   732,  1,     13,     13,2,19950722,0238, -9.0887,  51.6630, 3680,   -999,   1550.9,   3.3531,  34.7395,2,  34.7382,2,    130.6,2,  3.2364,    133.6,2,   103.00,2,    34.18,2,     0.00,2,     2.47,2,    0.003,2,   -0.002,2, -999.000,9,-999.0000,9,  -999.00,9,   -999.0,9,  -999.00,9,-999.000,9,   2290.2,2,   2384.8,2,  -999.0, -999.00,-999.0000,-999.000,-999.000
    316N145_10,  I07N,   732,  1,     12,     12,2,19950722,0238, -9.0887,  51.6630, 3680,   -999,   1748.6,   2.9797,  34.7332,2,  34.7335,2,    141.6,2,  2.8505,    141.9,2,   107.05,2,    33.86,2,     0.00,2,     2.44,2,    0.000,2,   -0.003,2, -999.000,9,-999.0000,9,  -999.00,9,   -999.0,9,  -999.00,9,-999.000,9,   2291.3,2,   2386.4,2,  -999.0, -999.00,-999.0000,-999.000,-999.000
    316N145_10,  I07N,   732,  1,     11,     11,2,19950722,0238, -9.0887,  51.6630, 3680,   -999,   1947.7,   2.5834,  34.7418,2,  34.7416,2,    145.9,2,  2.4423,    146.9,2,   114.68,2,    33.86,2,     0.00,2,     2.43,2, -999.000,9, -999.000,9, -999.000,9,-999.0000,9,  -999.00,9,   -999.0,9,  -999.00,9,-999.000,9,   2296.6,2,   2396.2,2,  -999.0, -999.00,-999.0000,-999.000,-999.000
    316N145_10,  I07N,   732,  1,     10,     10,2,19950722,0238, -9.0887,  51.6630, 3680,   -999,   2148.6,   2.3178,  34.7426,2,  34.7432,2,    150.3,2,  2.1632,    151.1,2,   120.03,2,    33.87,2,     0.00,2,     2.43,2, -999.000,9, -999.000,9, -999.000,9,-999.0000,9,  -999.00,9,   -999.0,9,  -999.00,9,-999.000,9,   2299.6,2,   2398.2,2,  -999.0, -999.00,-999.0000,-999.000,-999.000
    316N145_10,  I07N,   732,  1,      9,      9,2,19950722,0238, -9.0887,  51.6630, 3680,   -999,   2404.1,   2.1790,  34.7460,2,  34.7453,2,    151.4,2,  2.0038,    152.6,2,   123.41,2,    33.78,2,     0.00,2,     2.43,2, -999.000,9, -999.000,9, -999.000,9,-999.0000,9,  -999.00,9,   -999.0,9,  -999.00,9,-999.000,9,   2302.1,2,   2403.1,2,  -999.0, -999.00,-999.0000,-999.000,-999.000
    316N145_10,  I07N,   732,  1,      8,      8,2,19950722,0238, -9.0887,  51.6630, 3680,   -999,   2550.3,   2.0737,  34.7468,2,  34.7467,2,    154.8,2,  1.8871,    153.7,2,   125.72,2,    33.87,2,     0.00,2,     2.42,2, -999.000,9, -999.000,9, -999.000,9,-999.0000,9,  -999.00,9,   -999.0,9,  -999.00,9,-999.000,9,   2304.5,2,   2389.9,3,  -999.0, -999.00,-999.0000,-999.000,-999.000
    316N145_10,  I07N,   732,  1,      7,      7,2,19950722,0238, -9.0887,  51.6630, 3680,   -999,   2702.1,   2.0275,  34.7478,2,  34.7465,2,    155.2,2,  1.8276,    154.4,2,   126.94,2,    33.87,2,     0.00,2,     2.42,2, -999.000,9, -999.000,9, -999.000,9,-999.0000,9,  -999.00,9,   -999.0,9,  -999.00,9,-999.000,9,   2305.3,2,   2407.5,2,  -999.0, -999.00,-999.0000,-999.000,-999.000
    316N145_10,  I07N,   732,  1,      6,      6,2,19950722,0238, -9.0887,  51.6630, 3680,   -999,   2851.7,   1.9649,  34.7443,2,  34.7446,2,    157.8,2,  1.7520,    156.0,2,   128.53,2,    33.87,2,     0.00,2,     2.42,2, -999.000,9, -999.000,9, -999.000,9,-999.0000,9,  -999.00,9,   -999.0,9,  -999.00,9,-999.000,9,   2306.3,2,   2409.2,2,  -999.0, -999.00,-999.0000,-999.000,-999.000
    316N145_10,  I07N,   732,  1,      5,      5,2,19950722,0238, -9.0887,  51.6630, 3680,   -999,   3045.9,   1.8486,  34.7406,2,  34.7391,2,    161.3,2,  1.6194,    160.1,2,   130.12,2,    33.79,2,     0.00,2,     2.41,2, -999.000,9, -999.000,9, -999.000,9,-999.0000,9,  -999.00,9,   -999.0,9,  -999.00,9,-999.000,9,   2304.9,2,   2409.2,2,  -999.0, -999.00,-999.0000,-999.000,-999.000
    316N145_10,  I07N,   732,  1,      4,      4,2,19950722,0238, -9.0887,  51.6630, 3680,   -999,   3249.4,   1.6901,  34.7334,2,  34.7334,2,    167.1,2,  1.4444,    166.9,2,   130.98,2,    33.52,2,     0.00,2,     2.39,2, -999.000,9, -999.000,9, -999.000,9,-999.0000,9,  -999.00,9,   -999.0,9,  -999.00,9,-999.000,9,   2302.3,2,   2408.4,2,  -999.0, -999.00,-999.0000,-999.000,-999.000
    316N145_10,  I07N,   732,  1,      3,      3,2,19950722,0238, -9.0887,  51.6630, 3680,   -999,   3454.4,   1.4969,  34.7269,2,  34.7260,2,    175.5,2,  1.2353,    175.7,2,   130.38,2,    33.07,2,     0.00,2,     2.35,2, -999.000,9, -999.000,9, -999.000,9,-999.0000,9,  -999.00,9,   -999.0,9,  -999.00,9,-999.000,9,   2293.9,2,   2403.2,2,  -999.0, -999.00,-999.0000,-999.000,-999.000
    316N145_10,  I07N,   732,  1,      2,      2,2,19950722,0238, -9.0887,  51.6630, 3680,   -999,   3651.7,   1.3607,  34.7220,2,  34.7211,2,    182.7,2,  1.0824,    183.4,2,   129.42,2,    32.71,2,     0.00,2,     2.33,2, -999.000,9, -999.000,9, -999.000,9,-999.0000,9,  -999.00,9,   -999.0,9,  -999.00,9,-999.000,9,   2288.5,2,   2394.9,2,  -999.0, -999.00,-999.0000,-999.000,-999.000
    316N145_10,  I07N,   732,  1,      1,      1,2,19950722,0238, -9.0887,  51.6630, 3680,   -999,   3741.0,   1.3184,  34.7204,2,  34.7203,2,    184.8,2,  1.0320,    186.1,2,   129.00,2,    32.63,2,     0.00,2,     2.31,2, -999.000,9, -999.000,9, -999.000,9,-999.0000,9,  -999.00,9,   -999.0,9,  -999.00,9,-999.000,9,   2285.2,2,   2396.6,2,  -999.0, -999.00,-999.0000,-999.000,-999.000