BOTTLE,20080821WHPSIOSCD
EXPOCODE,SECT_ID,STNNBR,CASTNO,SAMPNO,BTLNBR,BTLNBR_FLAG_W,DATE,TIME,LATITUDE,LONGITUDE,DEPTH,CTDRAW,CTDPRS,CTDTMP,CTDSAL,CTDSAL_FLAG_W,SALNTY,SALNTY_FLAG_W,CTDOXY,CTDOXY_FLAG_W,THETA,OXYGEN,OXYGEN_FLAG_W,SILCAT,SILCAT_FLAG_W,NITRAT,NITRAT_FLAG_W,NITRIT,NITRIT_FLAG_W,PHSPHT,PHSPHT_FLAG_W,CFC-11,CFC-11_FLAG_W,CFC-12,CFC-12_FLAG_W,TRITUM,TRITUM_FLAG_W,HELIUM,HELIUM_FLAG_W,DELHE3,DELHE3_FLAG_W,DELC14,DELC14_FLAG_W,DELC13,DELC13_FLAG_W,NEON,NEON_FLAG_W,TCARBN,TCARBN_FLAG_W,ALKALI,ALKALI_FLAG_W,C14ERR,DELHER,HELIER,NEONER,TRITER
,,,,,,,,,,,,,DBAR,ITS-90,PSS-78,,PSS-78,,UMOL/KG,,DEG C,UMOL/KG,,UMOL/KG,,UMOL/KG,,UMOL/KG,,UMOL/KG,,PMOL/KG,,PMOL/KG,,TU,,NMOL/KG,,PERCNT,,/MILLE,,/MILLE,,NMOL/KG,,UMOL/KG,,UMOL/KG,,/MILLE,PERCNT,NMOL/KG,NMOL/KG,TU
    316N145_10,  I07N,   724,  1,     36,     36,2,19950720,0259,-10.7523,  53.2110, 4680,   -999,      8.9,  26.1208,  34.9071,2,  34.9090,2,    205.0,2, 26.1191,    202.9,2,     3.55,2,     0.08,2,     0.01,2,     0.18,2,    1.655,2,    0.999,2, -999.000,9,-999.0000,9,  -999.00,9,     70.3,2,     1.34,2,-999.000,9,   1952.3,2,   2288.5,2,     3.9, -999.00,-999.0000,-999.000,-999.000
    316N145_10,  I07N,   724,  1,     35,     35,2,19950720,0259,-10.7523,  53.2110, 4680,   -999,     30.9,  26.1117,  34.9086,2,  34.9077,2,    201.9,2, 26.1050,    202.5,2,     3.53,2,     0.08,2,     0.01,2,     0.18,2, -999.000,9, -999.000,9, -999.000,9,-999.0000,9,  -999.00,9,   -999.0,9,  -999.00,9,-999.000,9,   1952.5,2,   2284.2,2,  -999.0, -999.00,-999.0000,-999.000,-999.000
    316N145_10,  I07N,   724,  1,     34,     34,2,19950720,0259,-10.7523,  53.2110, 4680,   -999,     62.3,  22.6713,  35.1957,2,  35.1968,2,    176.3,2, 22.6590,    169.1,2,     6.50,2,     4.64,2,     0.30,2,     0.51,2,    1.605,2,    0.950,2, -999.000,9,-999.0000,9,  -999.00,9,     66.8,2,     0.94,2,-999.000,9,   2033.6,2,   2315.4,2,     4.9, -999.00,-999.0000,-999.000,-999.000
    316N145_10,  I07N,   724,  1,     33,     33,2,19950720,0259,-10.7523,  53.2110, 4680,   -999,     81.2,  21.5016,  35.2173,2,  35.2129,2,    140.2,2, 21.4860,    145.9,2,     8.94,2,     8.21,2,     0.66,2,     0.73,2, -999.000,9, -999.000,9, -999.000,9,-999.0000,9,  -999.00,9,     63.5,2,     0.84,2,-999.000,9,   2064.8,2,   2306.4,2,     4.2, -999.00,-999.0000,-999.000,-999.000
    316N145_10,  I07N,   724,  1,     32,     32,2,19950720,0259,-10.7523,  53.2110, 4680,   -999,     99.5,  19.7263,  35.3074,2,  35.3069,2,    146.7,2, 19.7083,    145.2,2,     9.62,2,     9.18,2,     0.25,2,     0.73,2,    1.663,2,    0.981,2, -999.000,9,-999.0000,9,  -999.00,9,     69.0,2,     0.65,2,-999.000,9,   2077.5,2,   2315.7,2,     3.9, -999.00,-999.0000,-999.000,-999.000
    316N145_10,  I07N,   724,  1,     31,     31,2,19950720,0259,-10.7523,  53.2110, 4680,   -999,    120.7,  17.9525,  35.2728,2,  35.2676,2,    126.7,2, 17.9320,    124.5,2,    13.47,2,    13.68,2,     0.03,2,     1.00,2, -999.000,9, -999.000,9, -999.000,9,-999.0000,9,  -999.00,9,   -999.0,9,  -999.00,9,-999.000,9,   2112.8,2,   2315.4,2,  -999.0, -999.00,-999.0000,-999.000,-999.000
    316N145_10,  I07N,   724,  1,     30,     30,2,19950720,0259,-10.7523,  53.2110, 4680,   -999,    149.5,  16.0316,  35.2574,2,  35.2532,2,    131.3,2, 16.0081,    131.3,2,    15.56,2,    14.58,2,     0.01,2,     1.06,2,    1.495,2,    0.827,2, -999.000,9,-999.0000,9,  -999.00,9,     49.4,2,     0.64,2,-999.000,9,   2126.7,2,   2323.6,2,     3.9, -999.00,-999.0000,-999.000,-999.000
    316N145_10,  I07N,   724,  1,     29,     29,2,19950720,0259,-10.7523,  53.2110, 4680,   -999,    200.1,  13.1531,  35.0868,2,  35.0827,2,    136.3,2, 13.1255,    134.5,2,    18.17,2,    18.44,2,     0.01,2,     1.34,2, -999.000,9, -999.000,9, -999.000,9,-999.0000,9,  -999.00,9,     24.5,2,     0.72,2,-999.000,9,   2153.2,2,   2321.6,2,     4.0, -999.00,-999.0000,-999.000,-999.000
    316N145_10,  I07N,   724,  1,     28,     28,2,19950720,0259,-10.7523,  53.2110, 4680,   -999,    247.7,  12.0722,  35.0178,2,  35.0204,2,    147.1,2, 12.0399,    146.1,2,    17.63,2,    18.79,2,     0.01,2,     1.33,2,    1.351,2,    0.720,2, -999.000,9,-999.0000,9,  -999.00,9,     29.1,2,     0.71,2,-999.000,9,   2156.3,2,   2301.3,3,     3.8, -999.00,-999.0000,-999.000,-999.000
    316N145_10,  I07N,   724,  1,     27,     27,2,19950720,0259,-10.7523,  53.2110, 4680,   -999,    301.7,  11.2286,  34.9545,2,  34.9550,2,    143.2,2, 11.1909,    133.8,2,    20.60,2,    21.76,2,     0.00,2,     1.53,2, -999.000,9, -999.000,9, -999.000,9,-999.0000,9,  -999.00,9,      7.4,2,     0.71,2,-999.000,9,   2170.4,2,   2304.6,2,     3.8, -999.00,-999.0000,-999.000,-999.000
    316N145_10,  I07N,   724,  1,     26,     26,2,19950720,0259,-10.7523,  53.2110, 4680,   -999,    351.3,  10.5266,  34.8927,2,  34.8927,2,    144.3,2, 10.4844,    148.1,2,    20.75,2,    21.72,2,     0.00,2,     1.52,2,    1.121,2,    0.595,2, -999.000,9,-999.0000,9,  -999.00,9,     -0.4,2,     0.78,2,-999.000,9,   2168.2,2,   2311.0,2,     3.9, -999.00,-999.0000,-999.000,-999.000
    316N145_10,  I07N,   724,  1,     25,     25,2,19950720,0259,-10.7523,  53.2110, 4680,   -999,    397.6,  10.0835,  34.8580,2,  34.8578,2,    144.1,2, 10.0369,    145.9,2,    22.67,2,    22.83,2,     0.00,2,     1.60,2,    0.977,2,    0.512,2, -999.000,9,-999.0000,9,  -999.00,9,    -15.5,2,     0.74,2,-999.000,9,   2171.6,2,   2310.3,2,     3.9, -999.00,-999.0000,-999.000,-999.000
    316N145_10,  I07N,   724,  1,     24,     24,2,19950720,0259,-10.7523,  53.2110, 4680,   -999,    498.4,   8.9939,  34.7859,2,  34.7869,2,    133.6,2,  8.9391,    135.1,2,    30.73,2,    25.99,2,     0.00,2,     1.83,2,    0.645,2,    0.332,2, -999.000,9,-999.0000,9,  -999.00,9,   -999.0,9,  -999.00,9,-999.000,9,   2191.2,2,   2313.8,2,  -999.0, -999.00,-999.0000,-999.000,-999.000
    316N145_10,  I07N,   724,  1,     23,     23,2,19950720,0259,-10.7523,  53.2110, 4680,   -999,    601.6,   8.0441,  34.7605,2,  34.7604,2,    112.0,2,  7.9818,    114.2,2,    44.07,2,    29.70,2,     0.00,2,     2.15,2,    0.286,2,    0.152,2, -999.000,9,-999.0000,9,  -999.00,9,    -90.2,2,     0.47,2,-999.000,9,   2220.6,2,   2333.9,2,     4.7, -999.00,-999.0000,-999.000,-999.000
    316N145_10,  I07N,   724,  1,     22,     22,2,19950720,0259,-10.7523,  53.2110, 4680,   -999,    712.4,   7.1930,  34.7597,2,  34.7610,2,    102.0,2,  7.1232,     99.9,2,    57.62,2,    32.26,2,     0.00,2,     2.34,2,    0.116,2,    0.058,2, -999.000,9,-999.0000,9,  -999.00,9,   -999.0,9,  -999.00,9,-999.000,9,   2248.4,2,   2324.5,3,  -999.0, -999.00,-999.0000,-999.000,-999.000
    316N145_10,  I07N,   724,  1,     21,     21,2,19950720,0259,-10.7523,  53.2110, 4680,   -999,    800.3,   6.8135,  34.7763,2,  34.7763,2,     93.0,2,  6.7367,     91.9,2,    65.73,2,    33.48,2,     0.00,2,     2.45,2,    0.072,2,    0.034,2, -999.000,9,-999.0000,9,  -999.00,9,   -134.1,2,     0.23,2,-999.000,9,   2262.6,2,   2362.8,2,     3.5, -999.00,-999.0000,-999.000,-999.000
    316N145_10,  I07N,   724,  1,     20,     20,2,19950720,0259,-10.7523,  53.2110, 4680,   -999,    895.0,   6.0834,  34.7710,2,  34.7720,2,     91.5,2,  6.0019,     93.4,2,    75.10,2,    34.34,2,     0.00,2,     2.52,2,    0.027,2,    0.016,2, -999.000,9,-999.0000,9,  -999.00,9,   -999.0,9,  -999.00,9,-999.000,9,   2273.6,2,   2356.3,2,  -999.0, -999.00,-999.0000,-999.000,-999.000
    316N145_10,  I07N,   724,  1,     19,     19,2,19950720,0259,-10.7523,  53.2110, 4680,   -999,    996.2,   5.6949,  34.7794,2,  34.7800,2,     89.4,2,  5.6064,     89.8,2,    82.91,2,    35.02,2,     0.00,2,     2.58,2,    0.019,2,    0.008,2, -999.000,9,-999.0000,9,  -999.00,9,   -173.2,2,    -0.57,4,-999.000,9,   2283.2,2,   2362.8,2,     2.7, -999.00,-999.0000,-999.000,-999.000
    316N145_10,  I07N,   724,  1,     18,     18,2,19950720,0259,-10.7523,  53.2110, 4680,   -999,   1197.7,   4.8172,  34.7602,2,  34.7620,2,    103.0,2,  4.7170,    104.0,2,    90.22,2,    34.98,2,     0.00,2,     2.57,2,    0.013,2,    0.006,2, -999.000,9,-999.0000,9,  -999.00,9,   -167.4,2,     0.15,2,-999.000,9,   2286.9,2,   2370.3,2,     3.6, -999.00,-999.0000,-999.000,-999.000
    316N145_10,  I07N,   724,  1,     17,     17,2,19950720,0259,-10.7523,  53.2110, 4680,   -999,   1399.2,   3.9313,  34.7418,2,  34.7429,2,    120.1,2,  3.8215,    120.5,2,    98.10,2,    34.72,2,     0.00,2,     2.53,2,    0.009,2,    0.003,2, -999.000,9,-999.0000,9,  -999.00,9,   -177.6,2,     0.26,2,-999.000,9,   2287.9,2,   2376.1,2,     0.3, -999.00,-999.0000,-999.000,-999.000
    316N145_10,  I07N,   724,  1,     16,     16,2,19950720,0259,-10.7523,  53.2110, 4680,   -999,   1509.4,   3.5355,  34.7414,2,  34.7427,2,    133.7,2,  3.4204,    127.4,2,   102.59,2,    34.54,2,     0.00,2,     2.50,2, -999.000,9, -999.000,9, -999.000,9,-999.0000,9,  -999.00,9,   -999.0,9,  -999.00,9,-999.000,9,   2291.0,2,   2383.0,2,  -999.0, -999.00,-999.0000,-999.000,-999.000
    316N145_10,  I07N,   724,  1,     15,     15,2,19950720,0259,-10.7523,  53.2110, 4680,   -999,   1595.3,   3.2646,  34.7381,2,  34.7374,2,    132.5,2,  3.1452,    134.1,2,   104.92,2,    34.32,2,     0.00,2,     2.49,2,    0.000,2,    0.001,2, -999.000,9,-999.0000,9,  -999.00,9,   -185.3,2,     0.19,2,-999.000,9,   2291.1,2,   2382.5,2,     2.6, -999.00,-999.0000,-999.000,-999.000
    316N145_10,  I07N,   724,  1,     14,     14,2,19950720,0259,-10.7523,  53.2110, 4680,   -999,   1797.2,   2.7278,  34.7384,2,  34.7378,2,    143.9,2,  2.5978,    144.7,2,   112.35,2,    34.06,2,     0.00,2,     2.46,2,   -0.003,2,    0.006,2, -999.000,9,-999.0000,9,  -999.00,9,   -999.0,9,  -999.00,9,-999.000,9,   2294.3,2,   2393.3,2,  -999.0, -999.00,-999.0000,-999.000,-999.000
    316N145_10,  I07N,   724,  1,     13,     13,2,19950720,0259,-10.7523,  53.2110, 4680,   -999,   2001.3,   2.3667,  34.7420,2,  34.7418,2,    151.3,2,  2.2243,    151.0,2,   118.00,2,    33.84,2,     0.00,2,     2.43,2,   -0.002,2,    0.012,3, -999.000,9,-999.0000,9,  -999.00,9,   -999.0,9,  -999.00,9,-999.000,9,   2297.4,2,   2382.9,3,  -999.0, -999.00,-999.0000,-999.000,-999.000
    316N145_10,  I07N,   724,  1,     12,     12,2,19950720,0259,-10.7523,  53.2110, 4680,   -999,   2096.2,   2.2589,  34.7427,2,  34.7423,2,    153.3,2,  2.1099,    152.0,2,   120.54,2,    33.84,2,     0.00,2,     2.44,2, -999.000,9, -999.000,9, -999.000,9,-999.0000,9,  -999.00,9,   -999.0,9,  -999.00,9,-999.000,9,   2300.3,2,   2402.4,2,  -999.0, -999.00,-999.0000,-999.000,-999.000
    316N145_10,  I07N,   724,  1,     11,     11,2,19950720,0259,-10.7523,  53.2110, 4680,   -999,   2299.5,   2.1024,  34.7445,2,  34.7447,2,    154.0,2,  1.9381,    153.8,2,   124.39,2,    33.89,2,     0.00,2,     2.43,2, -999.000,9, -999.000,9, -999.000,9,-999.0000,9,  -999.00,9,   -999.0,9,  -999.00,9,-999.000,9,   2302.9,2,   2400.9,2,  -999.0, -999.00,-999.0000,-999.000,-999.000
    316N145_10,  I07N,   724,  1,     10,     10,2,19950720,0259,-10.7523,  53.2110, 4680,   -999,   2498.0,   2.0006,  34.7437,2,  34.7437,2,    157.2,2,  1.8203,    155.7,2,   126.96,2,    33.86,2,     0.00,2,     2.45,2, -999.000,9, -999.000,9, -999.000,9,-999.0000,9,  -999.00,9,   -999.0,9,  -999.00,9,-999.000,9,   2304.2,2,   2392.9,3,  -999.0, -999.00,-999.0000,-999.000,-999.000
    316N145_10,  I07N,   724,  1,      9,      9,2,19950720,0259,-10.7523,  53.2110, 4680,   -999,   2797.5,   1.8348,  34.7396,2,  34.7394,2,    160.0,2,  1.6299,    159.8,2,   129.72,2,    33.82,2,     0.00,2,     2.41,2, -999.000,9, -999.000,9, -999.000,9,-999.0000,9,  -999.00,9,   -999.0,9,  -999.00,9,-999.000,9,   2307.5,2,   2408.9,2,  -999.0, -999.00,-999.0000,-999.000,-999.000
    316N145_10,  I07N,   724,  1,      8,      8,2,19950720,0259,-10.7523,  53.2110, 4680,   -999,   3096.4,   1.7202,  34.7346,2,  34.7345,2,    163.1,2,  1.4890,    164.2,2,   131.18,2,    33.69,2,     0.00,2,     2.40,2, -999.000,9, -999.000,9, -999.000,9,-999.0000,9,  -999.00,9,   -999.0,9,  -999.00,9,-999.000,9,   2303.4,2,   2412.2,2,  -999.0, -999.00,-999.0000,-999.000,-999.000
    316N145_10,  I07N,   724,  1,      7,      7,2,19950720,0259,-10.7523,  53.2110, 4680,   -999,   3397.1,   1.6193,  34.7313,2,  34.7310,2,    169.7,2,  1.3605,    170.0,2,   130.97,2,    33.56,2,     0.00,2,     2.38,2, -999.000,9, -999.000,9, -999.000,9,-999.0000,9,  -999.00,9,   -999.0,9,  -999.00,9,-999.000,9,   2300.3,2,   2407.3,2,  -999.0, -999.00,-999.0000,-999.000,-999.000
    316N145_10,  I07N,   724,  1,      6,      6,2,19950720,0259,-10.7523,  53.2110, 4680,   -999,   3697.0,   1.5067,  34.7257,2,  34.7263,2,    175.3,2,  1.2199,    176.3,2,   130.94,2,    33.25,2,     0.00,2,     2.36,2, -999.000,9, -999.000,9, -999.000,9,-999.0000,9,  -999.00,9,   -999.0,9,  -999.00,9,-999.000,9,   2295.0,2,   2390.5,3,  -999.0, -999.00,-999.0000,-999.000,-999.000
    316N145_10,  I07N,   724,  1,      5,      5,2,19950720,0259,-10.7523,  53.2110, 4680,   -999,   3992.1,   1.4040,  34.7218,2,  34.7219,2,    182.4,2,  1.0886,    183.4,2,   129.80,2,    32.89,2,     0.00,2,     2.32,2, -999.000,9, -999.000,9, -999.000,9,-999.0000,9,  -999.00,9,   -999.0,9,  -999.00,9,-999.000,9,   2288.2,2,   2397.3,2,  -999.0, -999.00,-999.0000,-999.000,-999.000
    316N145_10,  I07N,   724,  1,      4,      4,2,19950720,0259,-10.7523,  53.2110, 4680,   -999,   4243.8,   1.2183,  34.7150,2,  34.7151,2,    193.4,2,  0.8808,    193.7,2,   127.36,2,    32.36,2,     0.00,2,     2.29,2, -999.000,9, -999.000,9, -999.000,9,-999.0000,9,  -999.00,9,   -999.0,9,  -999.00,9,-999.000,9,   2277.4,2,   2390.2,2,  -999.0, -999.00,-999.0000,-999.000,-999.000
    316N145_10,  I07N,   724,  1,      3,      3,2,19950720,0259,-10.7523,  53.2110, 4680,   -999,   4498.6,   1.1058,  34.7101,2,  34.7102,2,    201.4,2,  0.7432,    200.4,2,   126.22,2,    32.05,2,     0.00,2,     2.24,2, -999.000,9, -999.000,9, -999.000,9,-999.0000,9,  -999.00,9,   -999.0,9,  -999.00,9,-999.000,9,   2270.7,2,   2380.3,2,  -999.0, -999.00,-999.0000,-999.000,-999.000
    316N145_10,  I07N,   724,  1,      2,      2,2,19950720,0259,-10.7523,  53.2110, 4680,   -999,   4652.4,   1.1070,  34.7105,2,  34.7104,2,    201.8,2,  0.7268,    201.9,2,   126.19,2,    32.01,2,     0.00,2,     2.26,2, -999.000,9, -999.000,9, -999.000,9,-999.0000,9,  -999.00,9,   -999.0,9,  -999.00,9,-999.000,9,   2270.9,2,   2383.8,2,  -999.0, -999.00,-999.0000,-999.000,-999.000
    316N145_10,  I07N,   724,  1,      1,      1,2,19950720,0259,-10.7523,  53.2110, 4680,   -999,   4749.6,   1.1136,  34.7095,2,  34.7098,2,    202.0,2,  0.7220,    201.7,2,   125.98,2,    32.01,2,     0.00,2,     2.25,2, -999.000,9, -999.000,9, -999.000,9,-999.0000,9,  -999.00,9,   -999.0,9,  -999.00,9,-999.000,9,   2270.0,2,   2377.3,2,  -999.0, -999.00,-999.0000,-999.000,-999.000