BOTTLE,20080821WHPSIOSCD
EXPOCODE,SECT_ID,STNNBR,CASTNO,SAMPNO,BTLNBR,BTLNBR_FLAG_W,DATE,TIME,LATITUDE,LONGITUDE,DEPTH,CTDRAW,CTDPRS,CTDTMP,CTDSAL,CTDSAL_FLAG_W,SALNTY,SALNTY_FLAG_W,CTDOXY,CTDOXY_FLAG_W,THETA,OXYGEN,OXYGEN_FLAG_W,SILCAT,SILCAT_FLAG_W,NITRAT,NITRAT_FLAG_W,NITRIT,NITRIT_FLAG_W,PHSPHT,PHSPHT_FLAG_W,CFC-11,CFC-11_FLAG_W,CFC-12,CFC-12_FLAG_W,TRITUM,TRITUM_FLAG_W,HELIUM,HELIUM_FLAG_W,DELHE3,DELHE3_FLAG_W,DELC14,DELC14_FLAG_W,DELC13,DELC13_FLAG_W,NEON,NEON_FLAG_W,TCARBN,TCARBN_FLAG_W,ALKALI,ALKALI_FLAG_W,C14ERR,DELHER,HELIER,NEONER,TRITER
,,,,,,,,,,,,,DBAR,ITS-90,PSS-78,,PSS-78,,UMOL/KG,,DEG C,UMOL/KG,,UMOL/KG,,UMOL/KG,,UMOL/KG,,UMOL/KG,,PMOL/KG,,PMOL/KG,,TU,,NMOL/KG,,PERCNT,,/MILLE,,/MILLE,,NMOL/KG,,UMOL/KG,,UMOL/KG,,/MILLE,PERCNT,NMOL/KG,NMOL/KG,TU
    316N145_10,  I07N,   760,  1,     36,     36,2,19950729,0733,  0.2482,  57.2787, 4269,   -999,      9.6,  27.1450,  35.3070,2,  35.3119,2,    206.3,2, 27.1431,    201.1,2,     3.63,2,     0.13,2,     0.01,2,     0.19,2,    1.698,2,    0.946,2, -999.000,9,-999.0000,9,  -999.00,9,   -999.0,9,  -999.00,9,-999.000,9,   1973.3,2,   2312.1,2,  -999.0, -999.00,-999.0000,-999.000,-999.000
    316N145_10,  I07N,   760,  1,     35,     35,2,19950729,0733,  0.2482,  57.2787, 4269,   -999,     24.1,  26.1410,  35.2674,2,  35.2660,2,    198.8,2, 26.1359,    199.4,2,     3.96,2,     0.68,2,     0.05,2,     0.26,2,    1.748,2,    0.959,2, -999.000,9,-999.0000,9,  -999.00,9,   -999.0,9,  -999.00,9,-999.000,9,   1984.9,2,   2316.0,2,  -999.0, -999.00,-999.0000,-999.000,-999.000
    316N145_10,  I07N,   760,  1,     34,     34,2,19950729,0733,  0.2482,  57.2787, 4269,   -999,     39.6,  25.1132,  35.2315,2,  35.2340,2,    189.0,2, 25.1048,    190.7,2,     4.80,2,     2.12,2,     0.24,2,     0.35,2, -999.000,9, -999.000,9, -999.000,9,-999.0000,9,  -999.00,9,   -999.0,9,  -999.00,9,-999.000,9,   1999.5,2,   2308.4,2,  -999.0, -999.00,-999.0000,-999.000,-999.000
    316N145_10,  I07N,   760,  1,     33,     33,2,19950729,0733,  0.2482,  57.2787, 4269,   -999,     68.6,  24.2059,  35.2451,2,  35.2489,2,    175.9,2, 24.1916,    174.5,2,     5.81,2,     4.23,2,     0.53,2,     0.49,2,    1.717,2,    0.925,2, -999.000,9,-999.0000,9,  -999.00,9,   -999.0,9,  -999.00,9,-999.000,9,   2020.2,2,   -999.9,5,  -999.0, -999.00,-999.0000,-999.000,-999.000
    316N145_10,  I07N,   760,  1,     32,     32,2,19950729,0733,  0.2482,  57.2787, 4269,   -999,     87.5,  23.8014,  35.2341,2,  35.2454,2,    171.9,2, 23.7833,    173.3,2,     6.13,2,     4.69,2,     0.58,2,     0.52,2,    1.701,2,    0.941,2, -999.000,9,-999.0000,9,  -999.00,9,   -999.0,9,  -999.00,9,-999.000,9,   2024.1,2,   2308.1,2,  -999.0, -999.00,-999.0000,-999.000,-999.000
    316N145_10,  I07N,   760,  1,     31,     31,2,19950729,0733,  0.2482,  57.2787, 4269,   -999,    108.1,  23.3346,  35.2498,2,  35.2479,2,    168.0,2, 23.3125,    165.8,2,     6.80,2,     5.92,2,     0.48,2,     0.59,2,    1.683,2,    0.920,2, -999.000,9,-999.0000,9,  -999.00,9,   -999.0,9,  -999.00,9,-999.000,9,   2034.2,2,   2305.2,2,  -999.0, -999.00,-999.0000,-999.000,-999.000
    316N145_10,  I07N,   760,  1,     30,     30,2,19950729,0733,  0.2482,  57.2787, 4269,   -999,    134.4,  22.8294,  35.3080,2,  35.2987,3,    156.9,2, 22.8023,    149.8,2,     7.47,2,     7.88,2,     0.25,2,     0.71,2,    1.648,2,    0.885,2, -999.000,9,-999.0000,9,  -999.00,9,   -999.0,9,  -999.00,9,-999.000,9,   2053.8,2,   2310.2,2,  -999.0, -999.00,-999.0000,-999.000,-999.000
    316N145_10,  I07N,   760,  1,     29,     29,2,19950729,0733,  0.2482,  57.2787, 4269,   -999,    170.5,  15.3488,  35.1818,2,  35.1838,2,     70.0,2, 15.3227,     70.9,2,    19.17,2,    22.68,2,     0.00,2,     1.64,2,    1.043,2,    0.546,2, -999.000,9,-999.0000,9,  -999.00,9,   -999.0,9,  -999.00,9,-999.000,9,   2177.9,2,   2312.4,2,  -999.0, -999.00,-999.0000,-999.000,-999.000
    316N145_10,  I07N,   760,  1,     28,     28,2,19950729,0733,  0.2482,  57.2787, 4269,   -999,    199.6,  13.6510,  35.1373,2,  35.1398,2,     73.7,2, 13.6228,     75.7,2,    21.04,2,    24.05,2,     0.00,2,     1.73,2, -999.000,9, -999.000,9, -999.000,9,-999.0000,9,  -999.00,9,   -999.0,9,  -999.00,9,-999.000,9,   2192.3,2,   2316.7,2,  -999.0, -999.00,-999.0000,-999.000,-999.000
    316N145_10,  I07N,   760,  1,     27,     27,2,19950729,0733,  0.2482,  57.2787, 4269,   -999,    247.4,  12.4192,  35.1038,2,  35.1059,2,    115.7,2, 12.3862,    117.9,2,    19.12,2,    21.18,2,     0.00,2,     1.54,2,    1.184,2,    0.600,2, -999.000,9,-999.0000,9,  -999.00,9,   -999.0,9,  -999.00,9,-999.000,9,   2174.0,2,   2313.6,2,  -999.0, -999.00,-999.0000,-999.000,-999.000
    316N145_10,  I07N,   760,  1,     26,     26,2,19950729,0733,  0.2482,  57.2787, 4269,   -999,    303.5,  11.5789,  35.0440,2,  35.0466,2,    114.3,2, 11.5401,    110.7,2,    21.51,2,    23.37,2,     0.00,2,     1.67,2,    0.937,2,    0.476,2, -999.000,9,-999.0000,9,  -999.00,9,   -999.0,9,  -999.00,9,-999.000,9,   2186.6,2,   2317.4,2,  -999.0, -999.00,-999.0000,-999.000,-999.000
    316N145_10,  I07N,   760,  1,     25,     25,2,19950729,0733,  0.2482,  57.2787, 4269,   -999,    412.4,  10.9477,  35.0211,2,  35.0218,2,    108.6,2, 10.8966,    105.8,2,    24.76,2,    25.02,2,     0.00,2,     1.79,2,    0.782,6,    0.390,6, -999.000,9,-999.0000,9,  -999.00,9,   -999.0,9,  -999.00,9,-999.000,9,   2191.9,2,   2315.7,2,  -999.0, -999.00,-999.0000,-999.000,-999.000
    316N145_10,  I07N,   760,  1,     24,     24,2,19950729,0733,  0.2482,  57.2787, 4269,   -999,    512.1,  10.0813,  35.0015,2,  35.0039,2,     76.8,2, 10.0208,     77.0,2,    34.04,2,    29.47,2,     0.00,2,     2.12,2,    0.338,2,    0.180,2, -999.000,9,-999.0000,9,  -999.00,9,   -999.0,9,  -999.00,9,-999.000,9,   2227.3,2,   2323.9,2,  -999.0, -999.00,-999.0000,-999.000,-999.000
    316N145_10,  I07N,   760,  1,     23,     23,2,19950729,0733,  0.2482,  57.2787, 4269,   -999,    599.9,   9.4742,  35.0255,2,  35.0236,2,     63.0,2,  9.4056,     65.3,2,    42.97,2,    31.49,2,     0.00,2,     2.33,2,    0.181,2,    0.102,2, -999.000,9,-999.0000,9,  -999.00,9,   -999.0,9,  -999.00,9,-999.000,9,   2244.8,2,   2328.1,2,  -999.0, -999.00,-999.0000,-999.000,-999.000
    316N145_10,  I07N,   760,  1,     22,     22,2,19950729,0733,  0.2482,  57.2787, 4269,   -999,    717.5,   8.8721,  35.0794,2,  35.0857,3,     50.7,2,  8.7926,     50.6,2,    55.01,2,    33.39,2,     0.00,2,     2.53,2,    0.081,2,    0.046,2, -999.000,9,-999.0000,9,  -999.00,9,   -999.0,9,  -999.00,9,-999.000,9,   2268.8,2,   2344.6,2,  -999.0, -999.00,-999.0000,-999.000,-999.000
    316N145_10,  I07N,   760,  1,     21,     21,2,19950729,0733,  0.2482,  57.2787, 4269,   -999,    803.1,   8.2737,  35.0463,2,  35.0483,2,     51.1,2,  8.1877,     50.6,2,    62.40,2,    34.37,2,     0.00,2,     2.60,2,    0.050,2,    0.027,2, -999.000,9,-999.0000,9,  -999.00,9,   -999.0,9,  -999.00,9,-999.000,9,   2277.0,2,   2347.6,2,  -999.0, -999.00,-999.0000,-999.000,-999.000
    316N145_10,  I07N,   760,  1,     20,     20,2,19950729,0733,  0.2482,  57.2787, 4269,   -999,    924.2,   7.4869,  35.0005,2,  35.0053,2,     50.7,2,  7.3926,     50.6,2,    71.36,2,    35.44,2,     0.00,2,     2.69,2,    0.022,2,    0.007,2, -999.000,9,-999.0000,9,  -999.00,9,   -999.0,9,  -999.00,9,-999.000,9,   2289.9,2,   2357.6,2,  -999.0, -999.00,-999.0000,-999.000,-999.000
    316N145_10,  I07N,   760,  1,     19,     19,2,19950729,0733,  0.2482,  57.2787, 4269,   -999,   1010.5,   6.9648,  34.9756,2,  34.9825,2,     51.0,2,  6.8651,     50.8,2,    78.78,2,    36.14,2,     0.00,2,     2.74,2,    0.008,2,    0.005,2, -999.000,9,-999.0000,9,  -999.00,9,   -999.0,9,  -999.00,9,-999.000,9,   2297.8,2,   2362.4,2,  -999.0, -999.00,-999.0000,-999.000,-999.000
    316N145_10,  I07N,   760,  1,     18,     18,2,19950729,0733,  0.2482,  57.2787, 4269,   -999,   1106.3,   6.6739,  34.9796,2,  34.9825,2,     55.0,2,  6.5663,     54.0,2,    82.21,2,    36.19,2,     0.00,2,     2.76,2,    0.013,2,    0.006,2, -999.000,9,-999.0000,9,  -999.00,9,   -999.0,9,  -999.00,9,-999.000,9,   2301.5,2,   2367.7,2,  -999.0, -999.00,-999.0000,-999.000,-999.000
    316N145_10,  I07N,   760,  1,     17,     17,2,19950729,0733,  0.2482,  57.2787, 4269,   -999,   1251.3,   5.3950,  34.9015,2,  34.9035,2,     68.1,2,  5.2841,     71.9,2,    94.03,2,    36.38,2,     0.00,2,     2.74,2,    0.002,2,    0.001,2, -999.000,9,-999.0000,9,  -999.00,9,   -999.0,9,  -999.00,9,-999.000,9,   2309.9,2,   2378.3,2,  -999.0, -999.00,-999.0000,-999.000,-999.000
    316N145_10,  I07N,   760,  1,     16,     16,2,19950729,0733,  0.2482,  57.2787, 4269,   -999,   1446.5,   4.4463,  34.8537,2,  34.8556,2,     89.9,2,  4.3264,     89.2,2,   102.93,2,    36.06,2,     0.00,2,     2.69,2,    0.000,2,    0.000,2, -999.000,9,-999.0000,9,  -999.00,9,   -999.0,9,  -999.00,9,-999.000,9,   2311.7,2,   2390.2,2,  -999.0, -999.00,-999.0000,-999.000,-999.000
    316N145_10,  I07N,   760,  1,     15,     15,2,19950729,0733,  0.2482,  57.2787, 4269,   -999,   1648.2,   3.6120,  34.8107,2,  34.8134,2,    106.0,2,  3.4835,    108.5,2,   110.31,2,    35.55,2,     0.00,2,     2.63,2,    0.002,2,    0.002,2, -999.000,9,-999.0000,9,  -999.00,9,   -999.0,9,  -999.00,9,-999.000,9,   2312.3,2,   2391.8,2,  -999.0, -999.00,-999.0000,-999.000,-999.000
    316N145_10,  I07N,   760,  1,     14,     14,2,19950729,0733,  0.2482,  57.2787, 4269,   -999,   1847.3,   3.0881,  34.7905,2,  34.7916,2,    121.6,2,  2.9487,    120.4,2,   116.14,2,    35.23,2,     0.00,2,     2.59,2, -999.000,9, -999.000,9, -999.000,9,-999.0000,9,  -999.00,9,   -999.0,9,  -999.00,9,-999.000,9,   2313.7,2,   2406.2,2,  -999.0, -999.00,-999.0000,-999.000,-999.000
    316N145_10,  I07N,   760,  1,     13,     13,2,19950729,0733,  0.2482,  57.2787, 4269,   -999,   2034.0,   2.6644,  34.7742,2,  34.7743,2,    130.4,2,  2.5145,    131.6,2,   119.85,2,    34.82,2,     0.00,2,     2.54,2, -999.000,9, -999.000,9, -999.000,9,-999.0000,9,  -999.00,9,   -999.0,9,  -999.00,9,-999.000,9,   2312.4,2,   2408.1,2,  -999.0, -999.00,-999.0000,-999.000,-999.000
    316N145_10,  I07N,   760,  1,     12,     12,2,19950729,0733,  0.2482,  57.2787, 4269,   -999,   2186.5,   2.3779,  34.7647,2,  34.7655,2,    134.5,2,  2.2189,    138.0,2,   124.30,2,    34.68,2,     0.00,2,     2.52,2, -999.000,9, -999.000,9, -999.000,9,-999.0000,9,  -999.00,9,   -999.0,9,  -999.00,9,-999.000,9,   2314.1,2,   2410.0,2,  -999.0, -999.00,-999.0000,-999.000,-999.000
    316N145_10,  I07N,   760,  1,     11,     11,2,19950729,0733,  0.2482,  57.2787, 4269,   -999,   2393.2,   2.1202,  34.7537,2,  34.7545,2,    146.1,2,  1.9471,    146.0,2,   126.60,2,    34.41,2,     0.00,2,     2.48,2, -999.000,9, -999.000,9, -999.000,9,-999.0000,9,  -999.00,9,   -999.0,9,  -999.00,9,-999.000,9,   2313.0,2,   2410.8,2,  -999.0, -999.00,-999.0000,-999.000,-999.000
    316N145_10,  I07N,   760,  1,     10,     10,2,19950729,0733,  0.2482,  57.2787, 4269,   -999,   2606.0,   2.0126,  34.7485,2,  34.7490,2,    150.8,2,  1.8221,    149.9,2,   127.82,2,    34.32,2,     0.00,2,     2.47,2, -999.000,9, -999.000,9, -999.000,9,-999.0000,9,  -999.00,9,   -999.0,9,  -999.00,9,-999.000,9,   2312.8,2,   2414.2,2,  -999.0, -999.00,-999.0000,-999.000,-999.000
    316N145_10,  I07N,   760,  1,      9,      9,2,19950729,0733,  0.2482,  57.2787, 4269,   -999,   2815.1,   1.9138,  34.7423,2,  34.7427,2,    157.4,2,  1.7055,    155.2,2,   127.78,2,    33.95,2,     0.00,2,     2.44,2, -999.000,9, -999.000,9, -999.000,9,-999.0000,9,  -999.00,9,   -999.0,9,  -999.00,9,-999.000,9,   2309.4,2,   2405.4,2,  -999.0, -999.00,-999.0000,-999.000,-999.000
    316N145_10,  I07N,   760,  1,      8,      8,2,19950729,0733,  0.2482,  57.2787, 4269,   -999,   3025.2,   1.7777,  34.7380,2,  34.7374,2,    160.6,2,  1.5521,    159.7,2,   129.18,2,    33.95,2,     0.00,2,     2.42,2, -999.000,9, -999.000,9, -999.000,9,-999.0000,9,  -999.00,9,   -999.0,9,  -999.00,9,-999.000,9,   2307.6,2,   2419.5,2,  -999.0, -999.00,-999.0000,-999.000,-999.000
    316N145_10,  I07N,   760,  1,      7,      7,2,19950729,0733,  0.2482,  57.2787, 4269,   -999,   3236.0,   1.7069,  34.7333,2,  34.7331,2,    164.1,2,  1.4622,    164.0,2,   129.13,2,    33.72,2,     0.00,2,     2.40,2, -999.000,9, -999.000,9, -999.000,9,-999.0000,9,  -999.00,9,   -999.0,9,  -999.00,9,-999.000,9,   2306.1,2,   2409.2,2,  -999.0, -999.00,-999.0000,-999.000,-999.000
    316N145_10,  I07N,   760,  1,      6,      6,2,19950729,0733,  0.2482,  57.2787, 4269,   -999,   3439.0,   1.6466,  34.7308,2,  34.7302,2,    166.2,2,  1.3829,    167.3,2,   129.27,2,    33.58,2,     0.00,2,     2.39,2, -999.000,9, -999.000,9, -999.000,9,-999.0000,9,  -999.00,9,   -999.0,9,  -999.00,9,-999.000,9,   2303.7,2,   2412.2,2,  -999.0, -999.00,-999.0000,-999.000,-999.000
    316N145_10,  I07N,   760,  1,      5,      5,2,19950729,0733,  0.2482,  57.2787, 4269,   -999,   3691.4,   1.5474,  34.7279,2,  34.7264,2,    170.4,2,  1.2600,    171.1,2,   130.68,2,    33.45,2,     0.00,2,     2.37,2, -999.000,9, -999.000,9, -999.000,9,-999.0000,9,  -999.00,9,   -999.0,9,  -999.00,9,-999.000,9,   2302.7,2,   2469.4,3,  -999.0, -999.00,-999.0000,-999.000,-999.000
    316N145_10,  I07N,   760,  1,      4,      4,2,19950729,0733,  0.2482,  57.2787, 4269,   -999,   3942.9,   1.5003,  34.7254,2,  34.7245,2,    173.5,2,  1.1874,    173.8,2,   130.63,2,    33.40,2,     0.00,2,     2.37,2, -999.000,9, -999.000,9, -999.000,9,-999.0000,9,  -999.00,9,   -999.0,9,  -999.00,9,-999.000,9,   2303.2,2,   2414.3,2,  -999.0, -999.00,-999.0000,-999.000,-999.000
    316N145_10,  I07N,   760,  1,      3,      3,2,19950729,0733,  0.2482,  57.2787, 4269,   -999,   4198.7,   1.4155,  34.7221,2,  34.7204,2,    179.1,2,  1.0771,    178.9,2,   130.40,2,    33.13,2,     0.00,2,     2.35,2, -999.000,9, -999.000,9, -999.000,9,-999.0000,9,  -999.00,9,   -999.0,9,  -999.00,9,-999.000,9,   2298.8,2,   2406.7,2,  -999.0, -999.00,-999.0000,-999.000,-999.000
    316N145_10,  I07N,   760,  1,      2,      2,2,19950729,0733,  0.2482,  57.2787, 4269,   -999,   4449.1,   1.3903,  34.7200,2,  34.7196,2,    181.8,2,  1.0244,    181.7,2,   130.17,2,    32.99,2,     0.00,2,     2.33,2, -999.000,9, -999.000,9, -999.000,9,-999.0000,9,  -999.00,9,   -999.0,9,  -999.00,9,-999.000,9,   2295.1,2,   2391.7,3,  -999.0, -999.00,-999.0000,-999.000,-999.000
    316N145_10,  I07N,   760,  1,      1,      1,2,19950729,0733,  0.2482,  57.2787, 4269,   -999,   4666.5,   1.3740,  34.7185,2,  34.7180,2,    183.5,2,  0.9835,    183.4,2,   130.12,2,    32.95,2,     0.00,2,     2.32,2, -999.000,9, -999.000,9, -999.000,9,-999.0000,9,  -999.00,9,   -999.0,9,  -999.00,9,-999.000,9,   2294.0,2,   2407.0,2,  -999.0, -999.00,-999.0000,-999.000,-999.000