BOTTLE,20080821WHPSIOSCD
EXPOCODE,SECT_ID,STNNBR,CASTNO,SAMPNO,BTLNBR,BTLNBR_FLAG_W,DATE,TIME,LATITUDE,LONGITUDE,DEPTH,CTDRAW,CTDPRS,CTDTMP,CTDSAL,CTDSAL_FLAG_W,SALNTY,SALNTY_FLAG_W,CTDOXY,CTDOXY_FLAG_W,THETA,OXYGEN,OXYGEN_FLAG_W,SILCAT,SILCAT_FLAG_W,NITRAT,NITRAT_FLAG_W,NITRIT,NITRIT_FLAG_W,PHSPHT,PHSPHT_FLAG_W,CFC-11,CFC-11_FLAG_W,CFC-12,CFC-12_FLAG_W,TRITUM,TRITUM_FLAG_W,HELIUM,HELIUM_FLAG_W,DELHE3,DELHE3_FLAG_W,DELC14,DELC14_FLAG_W,DELC13,DELC13_FLAG_W,NEON,NEON_FLAG_W,TCARBN,TCARBN_FLAG_W,ALKALI,ALKALI_FLAG_W,C14ERR,DELHER,HELIER,NEONER,TRITER
,,,,,,,,,,,,,DBAR,ITS-90,PSS-78,,PSS-78,,UMOL/KG,,DEG C,UMOL/KG,,UMOL/KG,,UMOL/KG,,UMOL/KG,,UMOL/KG,,PMOL/KG,,PMOL/KG,,TU,,NMOL/KG,,PERCNT,,/MILLE,,/MILLE,,NMOL/KG,,UMOL/KG,,UMOL/KG,,/MILLE,PERCNT,NMOL/KG,NMOL/KG,TU
    316N145_10,  I07N,   768,  1,     36,     36,2,19950731,1650,  3.1943,  58.4270, 4730,   -999,      7.9,  27.4118,  35.3791,2,  35.3815,2,    205.2,2, 27.4102,    202.5,2,     3.53,2,     0.09,2,     0.00,2,     0.19,2,    1.694,2,    0.945,2, -999.000,9,   1.6500,2,    -0.50,2,     68.6,2,     1.39,2,   6.784,2,   1974.0,2,   2314.1,2,     4.4,    0.20,  0.0080,   0.136,-999.000
    316N145_10,  I07N,   768,  1,     35,     35,2,19950731,1650,  3.1943,  58.4270, 4730,   -999,     32.5,  27.2335,  35.3492,2,  35.3528,2,    207.6,2, 27.2262,    203.3,2,     3.51,2,     0.09,2,     0.00,2,     0.18,2,    1.698,2,    0.960,2, -999.000,9,-999.0000,9,  -999.00,9,   -999.0,9,  -999.00,9,-999.000,9,   1972.6,2,   2313.3,2,  -999.0, -999.00,-999.0000,-999.000,-999.000
    316N145_10,  I07N,   768,  1,     34,     34,2,19950731,1650,  3.1943,  58.4270, 4730,   -999,     76.9,  26.7409,  35.2738,2,  35.2748,2,    207.2,2, 26.7236,    202.2,2,     3.50,2,     0.18,2,     0.00,2,     0.21,2,    1.701,2,    0.963,2,    0.757,2,   1.6950,2,     0.30,2,     76.9,2,     1.33,2,   6.953,2,   1977.5,2,   2305.0,3,     4.3,    0.20,  0.0090,   0.139,   0.008
    316N145_10,  I07N,   768,  1,     33,     33,2,19950731,1650,  3.1943,  58.4270, 4730,   -999,    113.8,  27.4964,  35.9595,2,  35.9570,2,    187.1,2, 27.4701,    182.3,2,     3.31,2,     1.09,2,     0.22,2,     0.34,2,    1.620,2,    0.914,2, -999.000,9,-999.0000,9,  -999.00,9,   -999.0,9,  -999.00,9,-999.000,9,   2011.5,2,   2349.6,3,  -999.0, -999.00,-999.0000,-999.000,-999.000
    316N145_10,  I07N,   768,  1,     32,     32,2,19950731,1650,  3.1943,  58.4270, 4730,   -999,    152.4,  19.0556,  35.3168,2,  35.3157,2,    106.8,2, 19.0285,    108.1,2,    12.47,2,    15.66,2,     0.00,2,     1.17,2,    1.520,2,    0.813,2,    0.685,2,   1.7300,2,     2.70,2,     59.6,2,     0.42,2,   7.154,2,   2122.1,2,   2315.0,2,     5.2,    0.20,  0.0090,   0.143,   0.008
    316N145_10,  I07N,   768,  1,     31,     31,2,19950731,1650,  3.1943,  58.4270, 4730,   -999,    202.6,  15.6933,  35.2277,2,  35.2288,2,     92.4,2, 15.6617,     91.7,2,    16.96,2,    20.22,2,     0.00,2,     1.47,2,    1.252,2,    0.667,2, -999.000,9,-999.0000,9,  -999.00,9,   -999.0,9,  -999.00,9,-999.000,9,   2163.1,2,   2314.9,2,  -999.0, -999.00,-999.0000,-999.000,-999.000
    316N145_10,  I07N,   768,  1,     30,     30,2,19950731,1650,  3.1943,  58.4270, 4730,   -999,    253.6,  14.6238,  35.1956,2,  35.1969,2,    111.0,2, 14.5861,    113.4,2,    16.59,2,    18.90,2,     0.00,2,     1.38,2,    1.352,2,    0.696,2,    0.591,2,   1.7750,2,     2.70,2,     42.9,2,     0.56,2,   7.288,2,   2156.6,2,   2317.1,2,     4.4,    0.20,  0.0090,   0.146,   0.008
    316N145_10,  I07N,   768,  1,     29,     29,2,19950731,1650,  3.1943,  58.4270, 4730,   -999,    302.9,  13.3012,  35.1446,2,  35.1487,2,    115.4,2, 13.2588,    117.4,2,    17.62,2,    20.00,2,     0.00,2,     1.45,2,    1.273,2,    0.643,2, -999.000,9,-999.0000,9,  -999.00,9,   -999.0,9,  -999.00,9,-999.000,9,   2166.7,2,   2315.6,2,  -999.0, -999.00,-999.0000,-999.000,-999.000
    316N145_10,  I07N,   768,  1,     28,     28,2,19950731,1650,  3.1943,  58.4270, 4730,   -999,    353.2,  12.8861,  35.2472,2,  35.2482,2,     75.9,2, 12.8376,     76.7,2,    23.31,2,    24.38,2,     0.00,2,     1.84,2,    0.882,2,    0.448,2,    0.389,2,-999.0000,9,  -999.00,9,      2.9,2,     0.38,2,-999.000,9,   2206.8,2,   2321.5,2,     4.2, -999.00,-999.0000,-999.000,   0.008
    316N145_10,  I07N,   768,  1,     27,     27,2,19950731,1650,  3.1943,  58.4270, 4730,   -999,    403.8,  11.9413,  35.2583,2,  35.2571,2,     60.6,2, 11.8884,     60.8,2,    28.66,2,    27.36,2,     0.00,2,     2.07,2,    0.587,2,    0.312,2, -999.000,9,-999.0000,9,  -999.00,9,   -999.0,9,  -999.00,9,-999.000,9,   2226.5,2,   2326.0,2,  -999.0, -999.00,-999.0000,-999.000,-999.000
    316N145_10,  I07N,   768,  1,     26,     26,2,19950731,1650,  3.1943,  58.4270, 4730,   -999,    449.2,  11.4889,  35.2440,2,  35.2399,2,     59.8,2, 11.4313,     57.0,2,    31.93,2,    28.61,2,     0.00,2,     2.15,2,    0.457,2,    0.244,2,    0.163,2,   1.7840,2,     3.90,2,    -31.0,2,     0.23,2,   7.363,2,   2234.0,2,   2324.8,2,     3.3,    0.20,  0.0090,   0.147,   0.008
    316N145_10,  I07N,   768,  1,     25,     25,2,19950731,1650,  3.1943,  58.4270, 4730,   -999,    508.6,  10.3067,  35.0777,2,  35.0738,2,     73.9,2, 10.2457,     73.7,2,    34.51,2,    29.36,2,     0.00,2,     2.15,2,    0.374,2,    0.196,2, -999.000,9,-999.0000,9,  -999.00,9,   -999.0,9,  -999.00,9,-999.000,9,   2228.6,2,   2323.3,2,  -999.0, -999.00,-999.0000,-999.000,-999.000
    316N145_10,  I07N,   768,  1,     24,     24,2,19950731,1650,  3.1943,  58.4270, 4730,   -999,    599.1,  10.0554,  35.1425,2,  35.1432,2,     51.0,2,  9.9842,     51.0,2,    42.10,2,    31.67,2,     0.00,2,     2.37,2,    0.171,2,    0.098,2,    0.108,2,   1.8150,2,     4.70,2,    -94.5,2,     0.14,2,   7.435,2,   2250.2,2,   2329.5,2,     3.0,    0.20,  0.0090,   0.149,   0.008
    316N145_10,  I07N,   768,  1,     23,     23,2,19950731,1650,  3.1943,  58.4270, 4730,   -999,    698.9,   9.2029,  35.1185,2,  35.1213,2,     41.0,2,  9.1237,     41.3,2,    53.86,2,    33.94,2,     0.00,2,     2.56,2,    0.064,2,    0.038,2, -999.000,9,-999.0000,9,  -999.00,9,   -102.5,2,     0.05,2,-999.000,9,   2270.0,2,   2341.2,2,     2.9, -999.00,-999.0000,-999.000,-999.000
    316N145_10,  I07N,   768,  1,     22,     22,2,19950731,1650,  3.1943,  58.4270, 4730,   -999,    799.7,   8.7252,  35.1037,2,  35.1020,2,     41.2,2,  8.6369,     41.8,2,    60.07,2,    34.65,2,     0.00,2,     2.63,2,    0.038,2,    0.025,2,    0.063,2,   1.8510,2,     5.90,2,   -124.4,2,    -0.06,2,   7.493,2,   2278.1,2,   2346.8,2,     3.3,    0.20,  0.0090,   0.150,   0.008
    316N145_10,  I07N,   768,  1,     21,     21,2,19950731,1650,  3.1943,  58.4270, 4730,   -999,    899.0,   8.2109,  35.1285,2,  35.1309,2,     39.0,2,  8.1144,     39.8,2,    68.55,2,    35.40,2,     0.00,2,     2.70,2,    0.030,2,    0.019,2, -999.000,9,-999.0000,9,  -999.00,9,   -123.4,2,     0.04,2,-999.000,9,   2290.6,2,   2357.3,2,     3.1, -999.00,-999.0000,-999.000,-999.000
    316N145_10,  I07N,   768,  1,     20,     20,2,19950731,1650,  3.1943,  58.4270, 4730,   -999,   1000.8,   7.1796,  35.0607,2,  35.0617,2,     45.5,2,  7.0792,     45.0,2,    79.49,2,    36.34,2,     0.00,2,     2.77,2,    0.013,2,    0.007,2,    0.000,2,   1.8690,2,    10.80,2,   -131.9,2,     0.03,2,   7.649,2,   2301.4,2,   2366.6,2,     4.5,    0.20,  0.0090,   0.153,   0.008
    316N145_10,  I07N,   768,  1,     19,     19,2,19950731,1650,  3.1943,  58.4270, 4730,   -999,   1100.8,   6.5087,  35.0064,2,  35.0092,2,     50.9,2,  6.4031,     51.4,2,    86.11,2,    36.73,2,     0.00,2,     2.78,2,    0.006,2,    0.004,2, -999.000,9,-999.0000,9,  -999.00,9,   -140.4,2,     0.00,2,-999.000,9,   2307.3,2,   2373.2,2,     2.9, -999.00,-999.0000,-999.000,-999.000
    316N145_10,  I07N,   768,  1,     18,     18,2,19950731,1650,  3.1943,  58.4270, 4730,   -999,   1202.4,   6.0306,  34.9624,2,  34.9656,2,     58.4,2,  5.9187,     58.5,2,    90.63,2,    36.83,2,     0.00,2,     2.78,2,    0.005,2,    0.002,2,    0.000,2,   1.8780,2,    12.60,2,   -163.7,2,    -0.06,2,   7.796,2,   2309.4,2,   2376.9,2,     5.8,    0.20,  0.0090,   0.156,   0.008
    316N145_10,  I07N,   768,  1,     17,     17,2,19950731,1650,  3.1943,  58.4270, 4730,   -999,   1303.6,   5.7765,  34.9655,2,  34.9648,2,     65.8,2,  5.6567,     62.5,2,    93.24,2,    36.74,2,     0.00,2,     2.78,2,    0.002,2,    0.002,2, -999.000,9,-999.0000,9,  -999.00,9,   -168.6,2,    -0.01,2,-999.000,9,   2312.3,2,   2382.5,2,     5.8, -999.00,-999.0000,-999.000,-999.000
    316N145_10,  I07N,   768,  1,     16,     16,2,19950731,1650,  3.1943,  58.4270, 4730,   -999,   1404.2,   5.0851,  34.9175,2,  34.9204,2,     74.3,2,  4.9624,     73.8,2,    99.37,2,    36.61,2,     0.00,2,     2.75,2,    0.002,2,    0.002,2,    0.000,2,   1.8870,2,    12.70,2,   -171.7,2,     0.01,2,   7.827,2,   2314.4,2,   2386.3,2,     3.0,    0.20,  0.0090,   0.157,   0.008
    316N145_10,  I07N,   768,  1,     15,     15,2,19950731,1650,  3.1943,  58.4270, 4730,   -999,   1494.4,   4.6094,  34.8857,2,  34.8884,2,     84.4,2,  4.4832,     83.6,2,   103.58,2,    36.48,2,     0.00,2,     2.74,2,    0.000,2,    0.000,2, -999.000,9,-999.0000,9,  -999.00,9,   -173.4,2,     0.02,2,-999.000,9,   2315.5,2,   2388.6,2,     3.8, -999.00,-999.0000,-999.000,-999.000
    316N145_10,  I07N,   768,  1,     14,     14,2,19950731,1650,  3.1943,  58.4270, 4730,   -999,   1694.5,   3.4338,  34.8182,2,  34.8194,2,    106.6,2,  3.3033,    109.7,2,   114.76,2,    35.88,2,     0.00,2,     2.65,2,    0.001,2,    0.000,2,    0.000,2,   1.9040,2,    14.90,2,   -999.0,9,  -999.00,9,   7.747,2,   2316.0,2,   2401.2,2,  -999.0,    0.20,  0.0100,   0.155,   0.008
    316N145_10,  I07N,   768,  1,     13,     13,2,19950731,1650,  3.1943,  58.4270, 4730,   -999,   1895.9,   2.9448,  34.7958,2,  34.7972,2,    118.0,2,  2.8030,    121.0,2,   120.66,2,    35.52,2,     0.00,2,     2.61,2, -999.000,9, -999.000,9, -999.000,9,   1.9000,2,    14.60,2,   -999.0,9,  -999.00,9,   7.859,2,   2318.6,2,   2404.5,2,  -999.0,    0.20,  0.0090,   0.157,-999.000
    316N145_10,  I07N,   768,  1,     12,     12,2,19950731,1650,  3.1943,  58.4270, 4730,   -999,   2095.4,   2.5821,  34.7791,2,  34.7800,2,    129.2,2,  2.4279,    130.4,2,   124.78,2,    35.25,2,     0.00,2,     2.57,2, -999.000,9, -999.000,9, -999.000,9,   1.8910,2,    14.70,2,   -999.0,9,  -999.00,9,   7.912,2,   2318.8,2,   2411.5,2,  -999.0,    0.20,  0.0090,   0.158,-999.000
    316N145_10,  I07N,   768,  1,     11,     11,2,19950731,1650,  3.1943,  58.4270, 4730,   -999,   2393.1,   2.2211,  34.7629,2,  34.7639,2,    140.8,2,  2.0462,    139.9,2,   129.11,2,    34.93,2,     0.01,2,     2.53,2, -999.000,9, -999.000,9, -999.000,9,   1.8870,2,    14.50,2,   -999.0,9,  -999.00,9,   8.068,2,   2317.7,2,   2413.6,2,  -999.0,    0.20,  0.0090,   0.161,-999.000
    316N145_10,  I07N,   768,  1,     10,     10,2,19950731,1650,  3.1943,  58.4270, 4730,   -999,   2697.2,   1.9553,  34.7477,2,  34.7485,2,    151.7,2,  1.7573,    150.5,2,   130.73,2,    34.66,2,     0.00,2,     2.49,2, -999.000,9, -999.000,9, -999.000,9,   1.8960,2,    14.70,2,   -999.0,9,  -999.00,9,   8.126,2,   2314.2,2,   2416.6,2,  -999.0,    0.20,  0.0090,   0.163,-999.000
    316N145_10,  I07N,   768,  1,      9,      9,2,19950731,1650,  3.1943,  58.4270, 4730,   -999,   2996.3,   1.7934,  34.7390,2,  34.7393,2,    158.8,2,  1.5703,    158.6,2,   130.88,2,    34.29,2,     0.01,2,     2.45,2, -999.000,9, -999.000,9, -999.000,9,   1.9040,2,    13.80,2,   -999.0,9,  -999.00,9,   8.233,2,   2310.2,2,   2411.2,2,  -999.0,    0.20,  0.0100,   0.165,-999.000
    316N145_10,  I07N,   768,  1,      8,      8,2,19950731,1650,  3.1943,  58.4270, 4730,   -999,   3295.9,   1.6721,  34.7333,2,  34.7330,2,    164.4,2,  1.4222,    164.6,2,   131.40,2,    34.02,2,     0.00,2,     2.42,2, -999.000,9, -999.000,9, -999.000,9,   1.9000,2,    14.20,2,   -999.0,9,  -999.00,9,   8.296,2,   2306.8,2,   2413.9,2,  -999.0,    0.20,  0.0090,   0.166,-999.000
    316N145_10,  I07N,   768,  1,      7,      7,2,19950731,1650,  3.1943,  58.4270, 4730,   -999,   3596.1,   1.5936,  34.7297,2,  34.7293,2,    168.3,2,  1.3151,    169.2,2,   131.37,2,    33.80,2,     0.00,2,     2.40,2, -999.000,9, -999.000,9, -999.000,9,   1.8960,2,    12.80,2,   -999.0,9,  -999.00,9,   8.318,2,   2302.7,2,   2410.8,2,  -999.0,    0.20,  0.0090,   0.166,-999.000
    316N145_10,  I07N,   768,  1,      6,      6,2,19950731,1650,  3.1943,  58.4270, 4730,   -999,   3896.7,   1.5257,  34.7258,2,  34.7255,2,    173.4,2,  1.2171,    173.3,2,   131.70,2,    33.67,2,     0.00,2,     2.38,2, -999.000,9, -999.000,9, -999.000,9,   1.8960,2,    12.40,2,   -999.0,9,  -999.00,9,   8.371,2,   2301.5,2,   2414.1,2,  -999.0,    0.20,  0.0090,   0.167,-999.000
    316N145_10,  I07N,   768,  1,      5,      5,2,19950731,1650,  3.1943,  58.4270, 4730,   -999,   4191.9,   1.4548,  34.7230,2,  34.7212,2,    178.1,2,  1.1160,    177.6,2,   131.67,2,    33.49,2,     0.00,2,     2.36,2, -999.000,9, -999.000,9, -999.000,9,   1.9000,2,    11.80,2,   -999.0,9,  -999.00,9,   8.385,2,   2299.2,2,   2406.1,2,  -999.0,    0.20,  0.0090,   0.168,-999.000
    316N145_10,  I07N,   768,  1,      4,      4,2,19950731,1650,  3.1943,  58.4270, 4730,   -999,   4497.9,   1.4107,  34.7194,2,  34.7194,2,    181.2,2,  1.0387,    181.2,2,   131.28,2,    33.27,2,     0.00,2,     2.35,2, -999.000,9, -999.000,9, -999.000,9,   1.9000,2,    10.30,2,   -999.0,9,  -999.00,9,   8.367,2,   2295.3,2,   2406.8,2,  -999.0,    0.20,  0.0090,   0.167,-999.000
    316N145_10,  I07N,   768,  1,      3,      3,2,19950731,1650,  3.1943,  58.4270, 4730,   -999,   4703.6,   1.4078,  34.7191,2,  34.7182,2,    182.7,2,  1.0120,    182.3,2,   131.25,2,    33.28,2,     0.00,2,     2.34,2, -999.000,9, -999.000,9, -999.000,9,   1.9090,2,     9.20,2,   -999.0,9,  -999.00,9,   8.434,2,   2294.7,2,   2404.1,2,  -999.0,    0.20,  0.0100,   0.169,-999.000
    316N145_10,  I07N,   768,  1,      2,      2,2,19950731,1650,  3.1943,  58.4270, 4730,   -999,   4778.6,   1.3960,  34.7178,2,  34.7174,2,    182.9,2,  0.9917,    183.5,2,   131.04,2,    33.19,2,     0.00,2,     2.34,2, -999.000,9, -999.000,9, -999.000,9,-999.0000,9,  -999.00,9,   -999.0,9,  -999.00,9,-999.000,9,   2294.6,2,   2406.5,2,  -999.0, -999.00,-999.0000,-999.000,-999.000
    316N145_10,  I07N,   768,  1,      1,      1,2,19950731,1650,  3.1943,  58.4270, 4730,   -999,   4805.4,   1.3992,  34.7187,2,  34.7180,2,    182.9,2,  0.9917,    183.6,2,   131.19,2,    33.20,2,     0.00,2,     2.34,2, -999.000,9, -999.000,9, -999.000,9,   1.8910,2,     9.70,2,   -999.0,9,  -999.00,9,   8.349,2,   2293.6,2,   2406.4,2,  -999.0,    0.20,  0.0090,   0.167,-999.000