BOTTLE,20080821WHPSIOSCD
EXPOCODE,SECT_ID,STNNBR,CASTNO,SAMPNO,BTLNBR,BTLNBR_FLAG_W,DATE,TIME,LATITUDE,LONGITUDE,DEPTH,CTDRAW,CTDPRS,CTDTMP,CTDSAL,CTDSAL_FLAG_W,SALNTY,SALNTY_FLAG_W,CTDOXY,CTDOXY_FLAG_W,THETA,OXYGEN,OXYGEN_FLAG_W,SILCAT,SILCAT_FLAG_W,NITRAT,NITRAT_FLAG_W,NITRIT,NITRIT_FLAG_W,PHSPHT,PHSPHT_FLAG_W,CFC-11,CFC-11_FLAG_W,CFC-12,CFC-12_FLAG_W,TRITUM,TRITUM_FLAG_W,HELIUM,HELIUM_FLAG_W,DELHE3,DELHE3_FLAG_W,DELC14,DELC14_FLAG_W,DELC13,DELC13_FLAG_W,NEON,NEON_FLAG_W,TCARBN,TCARBN_FLAG_W,ALKALI,ALKALI_FLAG_W,C14ERR,DELHER,HELIER,NEONER,TRITER
,,,,,,,,,,,,,DBAR,ITS-90,PSS-78,,PSS-78,,UMOL/KG,,DEG C,UMOL/KG,,UMOL/KG,,UMOL/KG,,UMOL/KG,,UMOL/KG,,PMOL/KG,,PMOL/KG,,TU,,NMOL/KG,,PERCNT,,/MILLE,,/MILLE,,NMOL/KG,,UMOL/KG,,UMOL/KG,,/MILLE,PERCNT,NMOL/KG,NMOL/KG,TU
    316N145_10,  I07N,   715,  1,     36,     36,2,19950717,1617,-15.0912,  55.0010, 4212,   -999,      8.1,  26.1501,  34.8762,2,  34.8749,2,    207.0,2, 26.1486,    202.7,2,     3.66,2,     0.15,2,     0.01,2,     0.17,2,    1.709,2,    0.955,2,    1.013,2,-999.0000,9,  -999.00,9,     68.5,2,     1.28,2,-999.000,9,   1960.3,2,   2277.6,2,     3.3, -999.00,-999.0000,-999.000,   0.008
    316N145_10,  I07N,   715,  1,     35,     35,2,19950717,1617,-15.0912,  55.0010, 4212,   -999,     33.9,  26.1546,  34.8754,2,  34.8749,2,    204.5,2, 26.1473,    202.6,2,     3.64,2,     0.15,2,     0.01,2,     0.17,2,    1.719,2,    0.988,2, -999.000,9,-999.0000,9,  -999.00,9,   -999.0,9,  -999.00,9,-999.000,9,   1959.9,2,   2278.3,2,  -999.0, -999.00,-999.0000,-999.000,-999.000
    316N145_10,  I07N,   715,  1,     34,     34,2,19950717,1617,-15.0912,  55.0010, 4212,   -999,     94.2,  22.3524,  35.1653,2,  35.1742,2,    173.0,2, 22.3338,    176.4,2,     6.74,2,     3.58,2,     0.30,2,     0.43,2,    1.838,2,    1.039,2,    0.898,2,-999.0000,9,  -999.00,9,     79.0,2,     0.88,2,-999.000,9,   2046.9,2,   2306.5,2,     3.3, -999.00,-999.0000,-999.000,   0.008
    316N145_10,  I07N,   715,  1,     33,     33,2,19950717,1617,-15.0912,  55.0010, 4212,   -999,    123.7,  20.0488,  35.3637,2,  35.3654,2,    164.1,2, 20.0261,    157.3,2,     8.80,2,     7.34,2,     0.07,2,     0.60,2,    1.874,2,    1.009,2,    0.746,2,-999.0000,9,  -999.00,9,     66.4,2,     0.57,2,-999.000,9,   2085.6,2,   2318.3,2,     3.6, -999.00,-999.0000,-999.000,   0.008
    316N145_10,  I07N,   715,  1,     32,     32,2,19950717,1617,-15.0912,  55.0010, 4212,   -999,    151.2,  18.2865,  35.4080,2,  35.4075,2,    150.5,2, 18.2603,    147.3,2,    11.21,2,     9.96,2,     0.02,2,     0.77,2,    1.786,2,    0.950,2,    0.751,2,-999.0000,9,  -999.00,9,     75.4,2,     0.71,2,-999.000,9,   2097.1,2,   2321.9,2,     3.3, -999.00,-999.0000,-999.000,   0.008
    316N145_10,  I07N,   715,  1,     31,     31,2,19950717,1617,-15.0912,  55.0010, 4212,   -999,    172.5,  17.4343,  35.3674,2,  35.3674,2,    141.6,2, 17.4055,    141.0,2,    12.93,2,    11.58,2,     0.01,2,     0.88,2,    1.705,2,    0.917,2, -999.000,9,-999.0000,9,  -999.00,9,     68.0,2,     0.67,2,-999.000,9,   2108.8,2,   2324.1,2,     3.8, -999.00,-999.0000,-999.000,-999.000
    316N145_10,  I07N,   715,  1,     30,     30,2,19950717,1617,-15.0912,  55.0010, 4212,   -999,    203.0,  16.2832,  35.2965,2,  35.3042,2,    134.5,2, 16.2508,    134.5,2,    15.16,2,    13.37,2,     0.01,2,     0.99,2,    1.599,2,    0.849,2,    0.729,2,-999.0000,9,  -999.00,9,     57.7,2,     0.58,2,-999.000,9,   2121.4,2,   2321.8,2,     3.4, -999.00,-999.0000,-999.000,   0.008
    316N145_10,  I07N,   715,  1,     29,     29,2,19950717,1617,-15.0912,  55.0010, 4212,   -999,    234.1,  14.8322,  35.2172,2,  35.2164,2,    126.6,2, 14.7971,    137.7,2,    16.88,2,    15.03,2,     0.01,2,     1.11,2,    1.550,2,    0.787,2, -999.000,9,-999.0000,9,  -999.00,9,     39.4,2,     0.72,2,-999.000,9,   2135.1,2,   2321.5,2,     4.2, -999.00,-999.0000,-999.000,-999.000
    316N145_10,  I07N,   715,  1,     28,     28,2,19950717,1617,-15.0912,  55.0010, 4212,   -999,    266.6,  13.9045,  35.1444,2,  35.1470,2,    131.0,2, 13.8662,    139.9,2,    18.07,2,    16.17,2,     0.01,2,     1.18,2,    1.511,2,    0.773,2, -999.000,9,-999.0000,9,  -999.00,9,   -999.0,9,  -999.00,9,-999.000,9,   2141.7,2,   2320.3,2,  -999.0, -999.00,-999.0000,-999.000,-999.000
    316N145_10,  I07N,   715,  1,     27,     27,2,19950717,1617,-15.0912,  55.0010, 4212,   -999,    299.9,  13.1350,  35.1773,2,  35.1616,2,    162.2,2, 13.0934,    180.7,2,    11.62,2,    13.20,2,     0.01,2,     0.99,2,    1.972,2,    1.003,2,    0.640,2,   1.7750,2,     5.20,2,     64.9,2,     0.97,2,   7.404,2,   2123.4,2,   2318.8,2,     3.8,    0.20,  0.0090,   0.148,   0.008
    316N145_10,  I07N,   715,  1,     26,     26,2,19950717,1617,-15.0912,  55.0010, 4212,   -999,    401.1,  10.6097,  34.8859,2,  34.8867,2,    180.8,2, 10.5611,    188.7,2,    13.51,2,    17.22,2,     0.00,2,     1.23,2,    1.674,2,    0.823,2, -999.000,9,-999.0000,9,  -999.00,9,   -999.0,9,  -999.00,9,-999.000,9,   2136.4,2,   2305.5,2,  -999.0, -999.00,-999.0000,-999.000,-999.000
    316N145_10,  I07N,   715,  1,     25,     25,2,19950717,1617,-15.0912,  55.0010, 4212,   -999,    449.5,   9.7539,  34.7804,2,  34.7869,2,    205.1,2,  9.7022,    207.7,2,    10.89,2,    17.18,2,     0.00,2,     1.22,2,    1.796,2,    0.898,2,    0.324,2,-999.0000,9,  -999.00,9,     38.4,2,     1.10,2,-999.000,9,   2129.1,2,   2303.0,2,     3.5, -999.00,-999.0000,-999.000,   0.008
    316N145_10,  I07N,   715,  1,     24,     24,2,19950717,1617,-15.0912,  55.0010, 4212,   -999,    500.8,   8.9767,  34.7147,2,  34.7133,2,    195.4,2,  8.9217,    185.7,2,    18.16,2,    21.21,2,     0.00,2,     1.49,2,    1.181,2,    0.588,2, -999.000,9,   1.8380,2,     6.00,2,   -999.0,9,  -999.00,9,   7.765,2,   2151.8,2,   2300.3,2,  -999.0,    0.20,  0.0090,   0.155,-999.000
    316N145_10,  I07N,   715,  1,     23,     23,2,19950717,1617,-15.0912,  55.0010, 4212,   -999,    601.2,   7.7216,  34.6942,2,  34.6948,2,    160.1,2,  7.6608,    137.8,2,    39.33,2,    28.11,2,     0.00,2,     1.99,2,    0.366,2,    0.177,2,    0.212,2,-999.0000,9,  -999.00,9,    -75.2,2,     0.59,2,-999.000,9,   2205.1,2,   2319.4,2,     3.5, -999.00,-999.0000,-999.000,   0.008
    316N145_10,  I07N,   715,  1,     22,     22,2,19950717,1617,-15.0912,  55.0010, 4212,   -999,    702.0,   7.0207,  34.6868,2,  34.6872,2,    127.9,2,  6.9529,    127.0,2,    49.22,2,    30.23,2,     0.00,2,     2.16,2,    0.213,2,    0.124,2, -999.000,9,   1.8110,2,     4.20,2,    -99.2,2,     0.58,2,   7.604,2,   2224.6,2,   2324.8,2,     3.2,    0.20,  0.0090,   0.152,-999.000
    316N145_10,  I07N,   715,  1,     21,     21,2,19950717,1617,-15.0912,  55.0010, 4212,   -999,    802.1,   6.4487,  34.6917,2,  34.6923,2,    120.5,2,  6.3740,    119.1,2,    58.43,2,    31.74,2,     0.00,2,     2.29,2,    0.126,2,    0.073,2, -999.000,9,-999.0000,9,  -999.00,9,   -999.0,9,  -999.00,9,-999.000,9,   2240.7,2,   2333.2,2,  -999.0, -999.00,-999.0000,-999.000,-999.000
    316N145_10,  I07N,   715,  1,     20,     20,2,19950717,1617,-15.0912,  55.0010, 4212,   -999,    951.6,   5.6924,  34.7038,2,  34.7098,2,    109.5,2,  5.6083,    112.5,2,    71.17,2,    33.29,2,     0.00,2,     2.41,2,    0.051,2,    0.023,2,    0.082,2,-999.0000,9,  -999.00,9,   -147.4,2,     0.33,2,-999.000,9,   2260.6,2,   2348.2,2,     3.1, -999.00,-999.0000,-999.000,   0.008
    316N145_10,  I07N,   715,  1,     19,     19,2,19950717,1617,-15.0912,  55.0010, 4212,   -999,   1000.9,   5.5101,  34.7000,2,  34.7017,2,    111.7,2,  5.4226,    113.2,2,    73.24,2,    33.47,2,     0.00,2,     2.43,2,    0.039,2,    0.024,2, -999.000,9,-999.0000,9,  -999.00,9,   -999.0,9,  -999.00,9,-999.000,9,   2263.1,2,   2348.4,2,  -999.0, -999.00,-999.0000,-999.000,-999.000
    316N145_10,  I07N,   715,  1,     18,     18,2,19950717,1617,-15.0912,  55.0010, 4212,   -999,   1097.8,   5.2261,  34.7183,2,  34.7206,2,    111.1,2,  5.1317,    111.2,2,    78.83,2,    33.83,2,     0.00,2,     2.47,2,    0.022,2,    0.012,2,    0.014,2,   1.8640,2,    10.10,2,   -154.5,2,     0.14,2,   7.778,2,   2270.6,2,   2358.6,2,     3.1,    0.20,  0.0090,   0.156,   0.008
    316N145_10,  I07N,   715,  1,     17,     17,2,19950717,1617,-15.0912,  55.0010, 4212,   -999,   1198.0,   4.8473,  34.7019,2,  34.7027,2,    118.0,2,  4.7469,    116.8,2,    81.27,2,    33.96,2,     0.00,2,     2.46,2,    0.011,2,    0.003,2, -999.000,9,-999.0000,9,  -999.00,9,   -999.0,9,  -999.00,9,-999.000,9,   2271.1,2,   2354.3,2,  -999.0, -999.00,-999.0000,-999.000,-999.000
    316N145_10,  I07N,   715,  1,     16,     16,2,19950717,1617,-15.0912,  55.0010, 4212,   -999,   1299.9,   4.3813,  34.6973,2,  34.6982,2,    123.9,2,  4.2760,    123.3,2,    85.29,2,    33.91,2,     0.00,2,     2.45,2,    0.006,2,    0.005,2,    0.000,2,-999.0000,9,  -999.00,9,   -161.6,2,     0.25,2,-999.000,9,   2273.0,2,   2364.0,2,     4.4, -999.00,-999.0000,-999.000,   0.008
    316N145_10,  I07N,   715,  1,     15,     15,2,19950717,1617,-15.0912,  55.0010, 4212,   -999,   1401.0,   3.9754,  34.6901,2,  34.6915,2,    130.9,2,  3.8651,    131.7,2,    88.09,2,    33.82,2,     0.00,2,     2.44,2,    0.004,2,   -0.003,2, -999.000,9,   1.8780,2,    11.60,2,   -999.0,9,  -999.00,9,   7.872,2,   2273.4,2,   2362.8,2,  -999.0,    0.20,  0.0090,   0.157,-999.000
    316N145_10,  I07N,   715,  1,     14,     14,2,19950717,1617,-15.0912,  55.0010, 4212,   -999,   1500.5,   3.5443,  34.6851,2,  34.6880,2,    141.3,2,  3.4301,    140.7,2,    90.71,2,    33.55,2,     0.00,2,     2.40,2,    0.004,2,   -0.003,2,    0.000,2,-999.0000,9,  -999.00,9,   -168.5,2,     0.27,2,-999.000,9,   2273.6,2,   2363.7,2,     3.1, -999.00,-999.0000,-999.000,   0.008
    316N145_10,  I07N,   715,  1,     13,     13,2,19950717,1617,-15.0912,  55.0010, 4212,   -999,   1595.6,   3.2061,  34.6900,2,  34.6899,2,    146.6,2,  3.0875,    147.3,2,    93.87,2,    33.29,2,     0.00,2,     2.38,2,    0.005,2,    0.007,2, -999.000,9,-999.0000,9,  -999.00,9,   -183.3,2,    -0.24,3,-999.000,9,   2275.1,2,   2368.7,2,     4.0, -999.00,-999.0000,-999.000,-999.000
    316N145_10,  I07N,   715,  1,     12,     12,2,19950717,1617,-15.0912,  55.0010, 4212,   -999,   1698.9,   2.8987,  34.7020,2,  34.7037,2,    150.4,2,  2.7751,    151.7,2,    99.53,2,    33.15,2,     0.00,2,     2.36,2,    0.004,2,   -0.003,2, -999.000,9,   1.8910,2,    12.00,2,   -999.0,9,  -999.00,9,   7.957,2,   2277.8,2,   2375.3,2,  -999.0,    0.20,  0.0090,   0.159,-999.000
    316N145_10,  I07N,   715,  1,     11,     11,2,19950717,1617,-15.0912,  55.0010, 4212,   -999,   1800.3,   2.6677,  34.7110,2,  34.7113,2,    155.2,2,  2.5384,    155.4,2,   103.78,2,    33.01,2,     0.00,2,     2.35,2, -999.000,9, -999.000,9, -999.000,9,-999.0000,9,  -999.00,9,   -999.0,9,  -999.00,9,-999.000,9,   2280.4,2,   2378.2,2,  -999.0, -999.00,-999.0000,-999.000,-999.000
    316N145_10,  I07N,   715,  1,     10,     10,2,19950717,1617,-15.0912,  55.0010, 4212,   -999,   1997.0,   2.4290,  34.7215,2,  34.7225,2,    157.1,2,  2.2861,    157.7,2,   109.85,2,    33.06,2,     0.00,2,     2.38,2, -999.000,9, -999.000,9, -999.000,9,   1.8960,2,    11.80,2,   -999.0,9,  -999.00,9,   8.077,2,   2286.4,2,   2387.5,2,  -999.0,    0.20,  0.0090,   0.162,-999.000
    316N145_10,  I07N,   715,  1,      9,      9,2,19950717,1617,-15.0912,  55.0010, 4212,   -999,   2295.0,   2.1220,  34.7356,2,  34.7351,2,    159.6,2,  1.9578,    159.7,2,   118.85,2,    33.19,2,     0.00,2,     2.36,2, -999.000,9, -999.000,9, -999.000,9,-999.0000,9,  -999.00,9,   -999.0,9,  -999.00,9,-999.000,9,   2295.2,2,   2393.4,2,  -999.0, -999.00,-999.0000,-999.000,-999.000
    316N145_10,  I07N,   715,  1,      8,      8,2,19950717,1617,-15.0912,  55.0010, 4212,   -999,   2614.7,   1.9534,  34.7372,2,  34.7382,2,    161.1,2,  1.7632,    159.7,2,   124.47,2,    33.32,2,     0.00,2,     2.38,2, -999.000,9, -999.000,9, -999.000,9,-999.0000,9,  -999.00,9,   -999.0,9,  -999.00,9,-999.000,9,   2300.1,2,   2404.7,2,  -999.0, -999.00,-999.0000,-999.000,-999.000
    316N145_10,  I07N,   715,  1,      7,      7,2,19950717,1617,-15.0912,  55.0010, 4212,   -999,   2891.7,   1.8228,  34.7359,2,  34.7365,2,    164.3,2,  1.6092,    162.8,2,   127.18,2,    33.32,2,     0.00,2,     2.37,2, -999.000,9, -999.000,9, -999.000,9,   1.9000,2,    11.20,2,   -999.0,9,  -999.00,9,   8.278,2,   2300.8,2,   2404.6,2,  -999.0,    0.20,  0.0090,   0.166,-999.000
    316N145_10,  I07N,   715,  1,      6,      6,2,19950717,1617,-15.0912,  55.0010, 4212,   -999,   3196.6,   1.7183,  34.7335,2,  34.7329,2,    167.5,2,  1.4772,    168.2,2,   127.50,3,    33.27,2,     0.00,2,     2.36,2, -999.000,9, -999.000,9, -999.000,9,   1.8960,2,    10.90,2,   -999.0,9,  -999.00,9,   8.354,2,   2299.9,2,   2408.5,2,  -999.0,    0.20,  0.0090,   0.167,-999.000
    316N145_10,  I07N,   715,  1,      5,      5,2,19950717,1617,-15.0912,  55.0010, 4212,   -999,   3533.8,   1.5632,  34.7279,2,  34.7280,2,    173.6,2,  1.2918,    174.5,2,   129.30,2,    33.00,2,     0.00,2,     2.33,2, -999.000,9, -999.000,9, -999.000,9,-999.0000,9,  -999.00,9,   -999.0,9,  -999.00,9,-999.000,9,   2295.0,2,   2402.3,2,  -999.0, -999.00,-999.0000,-999.000,-999.000
    316N145_10,  I07N,   715,  1,      4,      4,2,19950717,1617,-15.0912,  55.0010, 4212,   -999,   3890.3,   1.4002,  34.7219,2,  34.7211,2,    183.2,2,  1.0958,    183.4,2,   128.53,2,    32.60,2,     0.00,2,     2.29,2, -999.000,9, -999.000,9, -999.000,9,   1.9000,2,    10.00,2,   -999.0,9,  -999.00,9,   8.336,2,   2287.3,2,   2399.2,2,  -999.0,    0.20,  0.0090,   0.167,-999.000
    316N145_10,  I07N,   715,  1,      3,      3,2,19950717,1617,-15.0912,  55.0010, 4212,   -999,   4185.5,   1.3230,  34.7187,2,  34.7184,2,    188.6,2,  0.9887,    188.5,2,   127.75,2,    32.33,2,     0.00,2,     2.27,2, -999.000,9, -999.000,9, -999.000,9,-999.0000,9,  -999.00,9,   -999.0,9,  -999.00,9,-999.000,9,   2284.8,2,   -999.9,5,  -999.0, -999.00,-999.0000,-999.000,-999.000
    316N145_10,  I07N,   715,  1,      2,      2,2,19950717,1617,-15.0912,  55.0010, 4212,   -999,   4256.0,   1.3073,  34.7176,2,  34.7170,2,    189.8,2,  0.9657,    189.7,2,   127.53,2,    32.33,2,     0.00,2,     2.26,2, -999.000,9, -999.000,9, -999.000,9,-999.0000,9,  -999.00,9,   -999.0,9,  -999.00,9,-999.000,9,   2281.8,2,   2391.8,2,  -999.0, -999.00,-999.0000,-999.000,-999.000
    316N145_10,  I07N,   715,  1,      1,      1,2,19950717,1617,-15.0912,  55.0010, 4212,   -999,   4277.0,   1.3032,  34.7177,2,  34.7162,2,    190.3,2,  0.9594,    190.3,2,   127.30,2,    32.16,2,     0.00,2,     2.26,2, -999.000,9, -999.000,9, -999.000,9,   1.8910,2,     8.30,2,   -999.0,9,  -999.00,9,   8.394,2,   2281.2,2,   2392.4,2,  -999.0,    0.20,  0.0090,   0.168,-999.000