BOTTLE,20080821WHPSIOSCD
EXPOCODE,SECT_ID,STNNBR,CASTNO,SAMPNO,BTLNBR,BTLNBR_FLAG_W,DATE,TIME,LATITUDE,LONGITUDE,DEPTH,CTDRAW,CTDPRS,CTDTMP,CTDSAL,CTDSAL_FLAG_W,SALNTY,SALNTY_FLAG_W,CTDOXY,CTDOXY_FLAG_W,THETA,OXYGEN,OXYGEN_FLAG_W,SILCAT,SILCAT_FLAG_W,NITRAT,NITRAT_FLAG_W,NITRIT,NITRIT_FLAG_W,PHSPHT,PHSPHT_FLAG_W,CFC-11,CFC-11_FLAG_W,CFC-12,CFC-12_FLAG_W,TRITUM,TRITUM_FLAG_W,HELIUM,HELIUM_FLAG_W,DELHE3,DELHE3_FLAG_W,DELC14,DELC14_FLAG_W,DELC13,DELC13_FLAG_W,NEON,NEON_FLAG_W,TCARBN,TCARBN_FLAG_W,ALKALI,ALKALI_FLAG_W,C14ERR,DELHER,HELIER,NEONER,TRITER
,,,,,,,,,,,,,DBAR,ITS-90,PSS-78,,PSS-78,,UMOL/KG,,DEG C,UMOL/KG,,UMOL/KG,,UMOL/KG,,UMOL/KG,,UMOL/KG,,PMOL/KG,,PMOL/KG,,TU,,NMOL/KG,,PERCNT,,/MILLE,,/MILLE,,NMOL/KG,,UMOL/KG,,UMOL/KG,,/MILLE,PERCNT,NMOL/KG,NMOL/KG,TU
    316N145_10,  I07N,   828,  1,     36,     36,2,19950816,1025, 22.2407,  61.4833, 3188,   -999,      4.5,  25.5029,  36.4077,2,  36.4084,2,    197.1,2, 25.5022,    195.1,2,     4.10,2,     5.81,2,     0.37,2,     0.76,2,    1.767,2,    0.999,2, -999.000,9,-999.0000,9,  -999.00,9,   -999.0,9,  -999.00,9,-999.000,9,   2074.8,2,   2372.0,2,  -999.0, -999.00,-999.0000,-999.000,-999.000
    316N145_10,  I07N,   828,  1,     35,     35,2,19950816,1025, 22.2407,  61.4833, 3188,   -999,     31.7,  25.1221,  36.3235,2,  36.3141,2,    187.0,2, 25.1154,    188.9,2,     5.11,2,     7.44,2,     0.47,2,     0.88,2,    1.791,2,    1.012,2, -999.000,9,-999.0000,9,  -999.00,9,   -999.0,9,  -999.00,9,-999.000,9,   2070.3,2,   2371.5,2,  -999.0, -999.00,-999.0000,-999.000,-999.000
    316N145_10,  I07N,   828,  1,     34,     34,2,19950816,1025, 22.2407,  61.4833, 3188,   -999,     52.0,  24.5560,  36.1898,2,  36.1886,2,    191.2,2, 24.5451,    187.5,2,     6.28,2,     9.54,2,     0.55,2,     1.04,2,    1.817,2,    1.019,2, -999.000,9,-999.0000,9,  -999.00,9,   -999.0,9,  -999.00,9,-999.000,9,   2084.4,2,   2362.6,2,  -999.0, -999.00,-999.0000,-999.000,-999.000
    316N145_10,  I07N,   828,  1,     33,     33,2,19950816,1025, 22.2407,  61.4833, 3188,   -999,     76.9,  23.3955,  36.4840,2,  36.4843,2,     92.5,2, 23.3797,     89.2,2,     7.46,2,    15.05,2,     0.33,2,     1.31,2,    1.771,2,    1.007,2, -999.000,9,-999.0000,9,  -999.00,9,   -999.0,9,  -999.00,9,-999.000,9,   2098.1,2,   2373.2,2,  -999.0, -999.00,-999.0000,-999.000,-999.000
    316N145_10,  I07N,   828,  1,     32,     32,2,19950816,1025, 22.2407,  61.4833, 3188,   -999,    127.1,  20.1360,  36.0653,2,  36.0583,2,      2.6,2, 20.1125,      1.6,2,    17.68,2,    23.20,2,     0.01,2,     2.20,2,    1.189,2,    0.694,2, -999.000,9,-999.0000,9,  -999.00,9,   -999.0,9,  -999.00,9,-999.000,9,   2154.2,2,   2352.0,2,  -999.0, -999.00,-999.0000,-999.000,-999.000
    316N145_10,  I07N,   828,  1,     31,     31,2,19950816,1025, 22.2407,  61.4833, 3188,   -999,    181.5,  18.2376,  36.0895,2,  36.0942,2,      8.6,2, 18.2061,     10.2,2,    21.76,2,    22.00,2,     0.00,2,     2.17,2,    0.899,2,    0.575,2, -999.000,9,-999.0000,9,  -999.00,9,   -999.0,9,  -999.00,9,-999.000,9,   2232.5,2,   2344.1,3,  -999.0, -999.00,-999.0000,-999.000,-999.000
    316N145_10,  I07N,   828,  1,     30,     30,2,19950816,1025, 22.2407,  61.4833, 3188,   -999,    237.0,  20.2562,  37.3041,2,  37.2583,2,     58.2,2, 20.2116,     52.3,2,    16.60,2,    16.62,2,     0.02,2,     1.68,2,    1.251,3,    3.483,3, -999.000,9,-999.0000,9,  -999.00,9,   -999.0,9,  -999.00,9,-999.000,9,   2237.1,2,   2401.9,3,  -999.0, -999.00,-999.0000,-999.000,-999.000
    316N145_10,  I07N,   828,  1,     29,     29,2,19950816,1025, 22.2407,  61.4833, 3188,   -999,    300.7,  15.9917,  36.2184,2,  35.9154,4,      2.7,2, 15.9437,      3.8,2,    27.70,2,    22.15,2,     0.00,2,     2.30,2,    0.604,2,    0.395,2, -999.000,9,-999.0000,9,  -999.00,9,   -999.0,9,  -999.00,9,-999.000,9,   2222.1,3,   2364.5,3,  -999.0, -999.00,-999.0000,-999.000,-999.000
    316N145_10,  I07N,   828,  1,     28,     28,2,19950816,1025, 22.2407,  61.4833, 3188,   -999,    400.8,  14.0162,  35.9123,2,  35.9153,2,      1.6,2, 13.9576,      1.7,2,    34.17,2,    24.39,2,     0.00,2,     2.45,2,    0.354,2,    0.209,2, -999.000,9,-999.0000,9,  -999.00,9,   -999.0,9,  -999.00,9,-999.000,9,   2266.3,2,   2348.8,2,  -999.0, -999.00,-999.0000,-999.000,-999.000
    316N145_10,  I07N,   828,  1,     27,     27,2,19950816,1025, 22.2407,  61.4833, 3188,   -999,    449.9,  13.5353,  35.8694,2,  35.8674,2,      1.7,2, 13.4708,      1.7,2,    37.05,2,    24.76,2,     0.00,2,     2.51,2,    0.274,2,    0.167,2, -999.000,9,-999.0000,9,  -999.00,9,   -999.0,9,  -999.00,9,-999.000,9,   2270.0,2,   2352.7,2,  -999.0, -999.00,-999.0000,-999.000,-999.000
    316N145_10,  I07N,   828,  1,     26,     26,2,19950816,1025, 22.2407,  61.4833, 3188,   -999,    550.3,  12.5017,  35.7505,2,  35.7526,2,      1.9,2, 12.4265,      1.4,2,    43.70,2,    25.94,2,     0.00,2,     2.62,2,    0.146,2,    0.089,2, -999.000,9,-999.0000,9,  -999.00,9,   -999.0,9,  -999.00,9,-999.000,9,   2274.0,2,   2352.8,2,  -999.0, -999.00,-999.0000,-999.000,-999.000
    316N145_10,  I07N,   828,  1,     25,     25,2,19950816,1025, 22.2407,  61.4833, 3188,   -999,    674.6,  11.5352,  35.6485,2,  35.6491,2,      2.4,2, 11.4472,      2.3,2,    51.03,2,    29.13,2,     0.00,2,     2.70,2,    0.076,2,    0.046,2, -999.000,9,-999.0000,9,  -999.00,9,   -999.0,9,  -999.00,9,-999.000,9,   2334.9,4,   2357.2,2,  -999.0, -999.00,-999.0000,-999.000,-999.000
    316N145_10,  I07N,   828,  1,     24,     24,2,19950816,1025, 22.2407,  61.4833, 3188,   -999,    749.7,  11.0857,  35.6221,2,  35.6223,2,      2.8,2, 10.9900,      3.6,2,    55.12,2,    31.06,2,     0.00,2,     2.72,2,    0.069,2,    0.039,2, -999.000,9,-999.0000,9,  -999.00,9,   -999.0,9,  -999.00,9,-999.000,9,   2285.9,2,   2356.2,2,  -999.0, -999.00,-999.0000,-999.000,-999.000
    316N145_10,  I07N,   828,  1,     23,     23,2,19950816,1025, 22.2407,  61.4833, 3188,   -999,    850.0,  10.2784,  35.5501,2,  35.5498,2,      2.7,2, 10.1743,      2.9,2,    62.81,2,    32.76,2,     0.00,2,     2.80,2,    0.040,2,    0.024,2, -999.000,9,-999.0000,9,  -999.00,9,   -999.0,9,  -999.00,9,-999.000,9,   2289.6,2,   2365.8,2,  -999.0, -999.00,-999.0000,-999.000,-999.000
    316N145_10,  I07N,   828,  1,     22,     22,2,19950816,1025, 22.2407,  61.4833, 3188,   -999,    950.4,   9.4893,  35.4753,2,  35.4756,2,      2.7,2,  9.3777,      2.6,2,    70.01,2,    34.52,2,     0.00,2,     2.88,2, -999.000,9, -999.000,9, -999.000,9,-999.0000,9,  -999.00,9,   -999.0,9,  -999.00,9,-999.000,9,   2299.3,2,   2368.3,2,  -999.0, -999.00,-999.0000,-999.000,-999.000
    316N145_10,  I07N,   828,  1,     21,     21,2,19950816,1025, 22.2407,  61.4833, 3188,   -999,   1051.5,   8.8001,  35.4033,2,  35.4043,2,      3.5,2,  8.6814,      3.8,2,    76.19,2,    35.90,2,     0.00,2,     2.94,2,    0.017,2,    0.011,2, -999.000,9,-999.0000,9,  -999.00,9,   -999.0,9,  -999.00,9,-999.000,9,   2308.4,2,   2374.4,2,  -999.0, -999.00,-999.0000,-999.000,-999.000
    316N145_10,  I07N,   828,  1,     20,     20,2,19950816,1025, 22.2407,  61.4833, 3188,   -999,   1151.9,   8.0681,  35.3229,2,  35.3242,2,      4.6,2,  7.9435,      4.7,2,    82.75,2,    37.01,2,     0.00,2,     3.01,2,    0.009,2,    0.008,2, -999.000,9,-999.0000,9,  -999.00,9,   -999.0,9,  -999.00,9,-999.000,9,   2316.3,2,   2380.4,2,  -999.0, -999.00,-999.0000,-999.000,-999.000
    316N145_10,  I07N,   828,  1,     19,     19,4,19950816,1025, 22.2407,  61.4833, 3188,   -999,   1252.6,   7.4463,  35.2562,2,  35.5415,4,      9.8,2,  7.3157,     25.7,4,    68.56,2,    31.97,4,     0.04,4,     2.64,4, -999.000,9, -999.000,9, -999.000,9,-999.0000,9,  -999.00,9,   -999.0,9,  -999.00,9,-999.000,9,   2325.1,4,   2378.1,4,  -999.0, -999.00,-999.0000,-999.000,-999.000
    316N145_10,  I07N,   828,  1,     18,     18,2,19950816,1025, 22.2407,  61.4833, 3188,   -999,   1349.1,   6.7503,  35.1831,2,  35.1833,2,     15.8,2,  6.6158,     15.7,2,    94.90,2,    38.26,2,     0.00,2,     3.05,2,    0.002,2,    0.000,2, -999.000,9,-999.0000,9,  -999.00,9,   -999.0,9,  -999.00,9,-999.000,9,   2281.2,4,   2389.0,2,  -999.0, -999.00,-999.0000,-999.000,-999.000
    316N145_10,  I07N,   828,  1,     17,     17,2,19950816,1025, 22.2407,  61.4833, 3188,   -999,   1449.1,   6.0519,  35.1112,2,  35.1123,2,     25.0,2,  5.9140,     24.3,2,   102.26,2,    38.50,2,     0.00,2,     3.05,2,    0.000,2,    0.000,2, -999.000,9,-999.0000,9,  -999.00,9,   -999.0,9,  -999.00,9,-999.000,9,   2338.5,2,   2391.2,2,  -999.0, -999.00,-999.0000,-999.000,-999.000
    316N145_10,  I07N,   828,  1,     16,     16,2,19950816,1025, 22.2407,  61.4833, 3188,   -999,   1549.1,   5.2850,  35.0375,2,  35.0382,2,     36.8,2,  5.1454,     36.4,2,   110.24,2,    38.51,2,     0.00,2,     3.03,2, -999.000,9, -999.000,9, -999.000,9,-999.0000,9,  -999.00,9,   -999.0,9,  -999.00,9,-999.000,9,   2342.1,2,   2404.1,2,  -999.0, -999.00,-999.0000,-999.000,-999.000
    316N145_10,  I07N,   828,  1,     15,     15,2,19950816,1025, 22.2407,  61.4833, 3188,   -999,   1649.9,   4.7228,  34.9849,2,  34.9861,2,     46.2,2,  4.5799,     46.7,2,   116.14,2,    38.36,2,     0.00,2,     2.99,2,   -0.001,2,    0.002,2, -999.000,9,-999.0000,9,  -999.00,9,   -999.0,9,  -999.00,9,-999.000,9,   2347.2,2,   2407.1,2,  -999.0, -999.00,-999.0000,-999.000,-999.000
    316N145_10,  I07N,   828,  1,     14,     14,2,19950816,1025, 22.2407,  61.4833, 3188,   -999,   1750.9,   4.0745,  34.9268,2,  34.9270,2,     57.1,2,  3.9303,     58.6,2,   123.20,2,    38.27,2,     0.00,2,     2.94,2, -999.000,9, -999.000,9, -999.000,9,-999.0000,9,  -999.00,9,   -999.0,9,  -999.00,9,-999.000,9,   2352.1,2,   2417.6,2,  -999.0, -999.00,-999.0000,-999.000,-999.000
    316N145_10,  I07N,   828,  1,     13,     13,2,19950816,1025, 22.2407,  61.4833, 3188,   -999,   1850.9,   3.6429,  34.8881,2,  34.8891,2,     66.3,2,  3.4951,     68.6,2,   127.95,2,    37.94,2,     0.00,2,     2.90,2,    0.003,2,    0.006,2, -999.000,9,-999.0000,9,  -999.00,9,   -999.0,9,  -999.00,9,-999.000,9,   2355.9,2,   2418.0,2,  -999.0, -999.00,-999.0000,-999.000,-999.000
    316N145_10,  I07N,   828,  1,     12,     12,2,19950816,1025, 22.2407,  61.4833, 3188,   -999,   1952.3,   3.3427,  34.8638,2,  34.8641,2,     74.8,2,  3.1898,     75.5,2,   131.26,2,    37.79,2,     0.00,2,     2.86,2, -999.000,9, -999.000,9, -999.000,9,-999.0000,9,  -999.00,9,   -999.0,9,  -999.00,9,-999.000,9,   2356.4,2,   2427.0,2,  -999.0, -999.00,-999.0000,-999.000,-999.000
    316N145_10,  I07N,   828,  1,     11,     11,2,19950816,1025, 22.2407,  61.4833, 3188,   -999,   2052.8,   3.0625,  34.8408,2,  34.8411,2,     81.9,2,  2.9046,     81.9,2,   134.60,2,    37.60,2,     0.00,2,     2.83,2, -999.000,9, -999.000,9, -999.000,9,-999.0000,9,  -999.00,9,   -999.0,9,  -999.00,9,-999.000,9,   2356.6,2,   2427.5,2,  -999.0, -999.00,-999.0000,-999.000,-999.000
    316N145_10,  I07N,   828,  1,     10,     10,2,19950816,1025, 22.2407,  61.4833, 3188,   -999,   2153.4,   2.7975,  34.8194,2,  34.8184,2,     88.6,2,  2.6345,     89.1,2,   137.77,2,    37.41,2,     0.00,2,     2.78,2,    0.001,2,   -0.002,2, -999.000,9,-999.0000,9,  -999.00,9,   -999.0,9,  -999.00,9,-999.000,9,   2358.5,2,   2435.2,2,  -999.0, -999.00,-999.0000,-999.000,-999.000
    316N145_10,  I07N,   828,  1,      9,      9,2,19950816,1025, 22.2407,  61.4833, 3188,   -999,   2252.7,   2.5867,  34.8015,2,  34.8009,2,     96.1,2,  2.4181,     96.6,2,   139.45,2,    37.18,2,     0.00,2,     2.75,2, -999.000,9, -999.000,9, -999.000,9,-999.0000,9,  -999.00,9,   -999.0,9,  -999.00,9,-999.000,9,   2359.5,2,   2434.5,2,  -999.0, -999.00,-999.0000,-999.000,-999.000
    316N145_10,  I07N,   828,  1,      8,      8,2,19950816,1025, 22.2407,  61.4833, 3188,   -999,   2352.9,   2.4344,  34.7918,2,  34.7899,2,     98.5,2,  2.2593,     98.2,2,   142.28,2,    37.08,2,     0.00,2,     2.73,2, -999.000,9, -999.000,9, -999.000,9,-999.0000,9,  -999.00,9,   -999.0,9,  -999.00,9,-999.000,9,   2357.0,2,   2444.5,2,  -999.0, -999.00,-999.0000,-999.000,-999.000
    316N145_10,  I07N,   828,  1,      7,      7,2,19950816,1025, 22.2407,  61.4833, 3188,   -999,   2551.4,   2.1431,  34.7699,2,  34.7687,2,    107.2,2,  1.9550,    106.9,2,   145.53,2,    36.80,2,     0.00,2,     2.68,2,   -0.001,2,    0.003,2, -999.000,9,-999.0000,9,  -999.00,9,   -999.0,9,  -999.00,9,-999.000,9,   2360.2,2,   2445.0,2,  -999.0, -999.00,-999.0000,-999.000,-999.000
    316N145_10,  I07N,   828,  1,      6,      6,2,19950816,1025, 22.2407,  61.4833, 3188,   -999,   2749.7,   1.9424,  34.7553,2,  34.7540,2,    110.5,2,  1.7397,    109.9,2,   149.58,2,    36.61,2,     0.00,2,     2.67,2,    0.005,2,    0.011,2, -999.000,9,-999.0000,9,  -999.00,9,   -999.0,9,  -999.00,9,-999.000,9,   2362.1,2,   2458.2,2,  -999.0, -999.00,-999.0000,-999.000,-999.000
    316N145_10,  I07N,   828,  1,      5,      5,2,19950816,1025, 22.2407,  61.4833, 3188,   -999,   2949.7,   1.8566,  34.7487,2,  34.7479,2,    112.3,2,  1.6366,    111.5,2,   151.31,2,    36.46,2,     0.00,2,     2.66,2,   -0.001,2,    0.023,2, -999.000,9,-999.0000,9,  -999.00,9,   -999.0,9,  -999.00,9,-999.000,9,   2367.1,2,   2460.7,2,  -999.0, -999.00,-999.0000,-999.000,-999.000
    316N145_10,  I07N,   828,  1,      4,      4,2,19950816,1025, 22.2407,  61.4833, 3188,   -999,   3076.4,   1.8182,  34.7458,2,  34.7443,2,    112.4,2,  1.5867,    112.5,2,   152.27,2,    36.32,2,     0.00,2,     2.66,2,    0.013,2,    0.035,2, -999.000,9,-999.0000,9,  -999.00,9,   -999.0,9,  -999.00,9,-999.000,9,   2074.3,4,   2467.5,2,  -999.0, -999.00,-999.0000,-999.000,-999.000
    316N145_10,  I07N,   828,  1,      3,      3,2,19950816,1025, 22.2407,  61.4833, 3188,   -999,   3152.7,   1.7920,  34.7438,2,  34.7424,2,    110.8,2,  1.5536,    111.0,2,   153.82,2,    36.18,2,     0.00,2,     2.67,2,    0.021,2,    0.061,2, -999.000,9,-999.0000,9,  -999.00,9,   -999.0,9,  -999.00,9,-999.000,9,   2372.5,2,   2471.5,2,  -999.0, -999.00,-999.0000,-999.000,-999.000
    316N145_10,  I07N,   828,  1,      2,      2,2,19950816,1025, 22.2407,  61.4833, 3188,   -999,   3203.4,   1.7587,  34.7414,2,  34.7412,2,    111.2,2,  1.5160,    114.1,2,   153.79,2,    35.94,2,     0.00,2,     2.65,2,    0.023,2,    0.073,2, -999.000,9,-999.0000,9,  -999.00,9,   -999.0,9,  -999.00,9,-999.000,9,   2376.1,2,   2470.5,2,  -999.0, -999.00,-999.0000,-999.000,-999.000
    316N145_10,  I07N,   828,  1,      1,      1,2,19950816,1025, 22.2407,  61.4833, 3188,   -999,   3229.0,   1.7261,  34.7401,2,  34.7394,2,    116.1,2,  1.4816,    118.0,2,   153.76,2,    35.85,2,     0.00,2,     2.62,2,    0.027,2,    0.085,2, -999.000,9,-999.0000,9,  -999.00,9,   -999.0,9,  -999.00,9,-999.000,9,   2375.2,2,   2465.2,2,  -999.0, -999.00,-999.0000,-999.000,-999.000