BOTTLE,20080821WHPSIOSCD
EXPOCODE,SECT_ID,STNNBR,CASTNO,SAMPNO,BTLNBR,BTLNBR_FLAG_W,DATE,TIME,LATITUDE,LONGITUDE,DEPTH,CTDRAW,CTDPRS,CTDTMP,CTDSAL,CTDSAL_FLAG_W,SALNTY,SALNTY_FLAG_W,CTDOXY,CTDOXY_FLAG_W,THETA,OXYGEN,OXYGEN_FLAG_W,SILCAT,SILCAT_FLAG_W,NITRAT,NITRAT_FLAG_W,NITRIT,NITRIT_FLAG_W,PHSPHT,PHSPHT_FLAG_W,CFC-11,CFC-11_FLAG_W,CFC-12,CFC-12_FLAG_W,TRITUM,TRITUM_FLAG_W,HELIUM,HELIUM_FLAG_W,DELHE3,DELHE3_FLAG_W,DELC14,DELC14_FLAG_W,DELC13,DELC13_FLAG_W,NEON,NEON_FLAG_W,TCARBN,TCARBN_FLAG_W,ALKALI,ALKALI_FLAG_W,C14ERR,DELHER,HELIER,NEONER,TRITER
,,,,,,,,,,,,,DBAR,ITS-90,PSS-78,,PSS-78,,UMOL/KG,,DEG C,UMOL/KG,,UMOL/KG,,UMOL/KG,,UMOL/KG,,UMOL/KG,,PMOL/KG,,PMOL/KG,,TU,,NMOL/KG,,PERCNT,,/MILLE,,/MILLE,,NMOL/KG,,UMOL/KG,,UMOL/KG,,/MILLE,PERCNT,NMOL/KG,NMOL/KG,TU
    316N145_10,  I07N,   762,  1,     36,     36,2,19950729,1957,  0.9295,  57.2958, 4671,   -999,      8.6,  27.6314,  35.3589,2,  35.3607,2,    204.1,2, 27.6296,    200.2,2,     3.39,2,     0.08,2,     0.00,2,     0.19,2,    1.664,2,    0.945,2, -999.000,9,-999.0000,9,  -999.00,9,   -999.0,9,  -999.00,9,-999.000,9,   1970.9,2,   -999.9,5,  -999.0, -999.00,-999.0000,-999.000,-999.000
    316N145_10,  I07N,   762,  1,     35,     35,2,19950729,1957,  0.9295,  57.2958, 4671,   -999,     33.2,  27.4774,  35.3844,2,  35.3849,2,    198.3,2, 27.4699,    199.7,2,     3.38,2,     0.13,2,     0.00,2,     0.19,2, -999.000,9, -999.000,9, -999.000,9,-999.0000,9,  -999.00,9,   -999.0,9,  -999.00,9,-999.000,9,   1973.0,2,   2316.8,2,  -999.0, -999.00,-999.0000,-999.000,-999.000
    316N145_10,  I07N,   762,  1,     34,     34,2,19950729,1957,  0.9295,  57.2958, 4671,   -999,     62.1,  26.8568,  35.4693,2,  35.4800,2,    199.6,2, 26.8428,    191.7,2,     3.72,2,     0.69,2,     0.16,2,     0.28,2,    1.673,2,    0.934,2, -999.000,9,-999.0000,9,  -999.00,9,   -999.0,9,  -999.00,9,-999.000,9,   1989.0,2,   -999.9,5,  -999.0, -999.00,-999.0000,-999.000,-999.000
    316N145_10,  I07N,   762,  1,     33,     33,2,19950729,1957,  0.9295,  57.2958, 4671,   -999,     92.0,  24.5799,  35.2350,2,  35.2332,2,    189.7,2, 24.5605,    186.3,2,     5.09,2,     2.82,2,     0.23,2,     0.41,2, -999.000,9, -999.000,9, -999.000,9,-999.0000,9,  -999.00,9,   -999.0,9,  -999.00,9,-999.000,9,   2005.6,2,   2307.1,2,  -999.0, -999.00,-999.0000,-999.000,-999.000
    316N145_10,  I07N,   762,  1,     32,     32,2,19950729,1957,  0.9295,  57.2958, 4671,   -999,    122.7,  22.4543,  35.3342,2,  35.3369,2,    154.1,2, 22.4298,    141.5,2,     8.38,2,     9.45,2,     0.18,2,     0.80,2,    1.637,2,    0.902,2, -999.000,9,-999.0000,9,  -999.00,9,   -999.0,9,  -999.00,9,-999.000,9,   2064.6,2,   -999.9,5,  -999.0, -999.00,-999.0000,-999.000,-999.000
    316N145_10,  I07N,   762,  1,     31,     31,2,19950729,1957,  0.9295,  57.2958, 4671,   -999,    177.9,  14.7121,  35.2080,2,  35.2023,2,     92.2,2, 14.6857,     92.6,2,    17.74,2,    20.78,2,     0.00,2,     1.52,2,    1.210,2,    0.627,2, -999.000,9,-999.0000,9,  -999.00,9,   -999.0,9,  -999.00,9,-999.000,9,   2166.5,2,   2316.0,2,  -999.0, -999.00,-999.0000,-999.000,-999.000
    316N145_10,  I07N,   762,  1,     30,     30,2,19950729,1957,  0.9295,  57.2958, 4671,   -999,    258.1,  12.2366,  35.0965,2,  35.0963,2,    125.8,2, 12.2025,    124.9,2,    18.95,2,    20.88,2,     0.00,2,     1.52,2,    1.222,2,    0.617,2, -999.000,9,-999.0000,9,  -999.00,9,   -999.0,9,  -999.00,9,-999.000,9,   2168.6,2,   -999.9,5,  -999.0, -999.00,-999.0000,-999.000,-999.000
    316N145_10,  I07N,   762,  1,     29,     29,2,19950729,1957,  0.9295,  57.2958, 4671,   -999,    418.8,  10.5250,  34.9898,2,  34.9922,2,    106.9,2, 10.4744,    106.5,2,    26.75,2,    25.89,2,     0.00,2,     1.86,2,    0.712,2,    0.359,2, -999.000,9,-999.0000,9,  -999.00,9,   -999.0,9,  -999.00,9,-999.000,9,   2197.7,2,   2315.8,2,  -999.0, -999.00,-999.0000,-999.000,-999.000
    316N145_10,  I07N,   762,  1,     28,     28,2,19950729,1957,  0.9295,  57.2958, 4671,   -999,    473.4,  10.5033,  35.0691,2,  34.9920,4,     78.4,2, 10.4460,     79.4,2,    32.11,2,    28.47,2,     0.00,2,     2.09,2,    0.465,2,    0.239,2, -999.000,9,-999.0000,9,  -999.00,9,   -999.0,9,  -999.00,9,-999.000,9,   2221.8,2,   -999.9,5,  -999.0, -999.00,-999.0000,-999.000,-999.000
    316N145_10,  I07N,   762,  1,     27,     27,2,19950729,1957,  0.9295,  57.2958, 4671,   -999,    573.1,   9.5764,  35.0384,2,  35.0407,2,     63.6,2,  9.5105,     63.9,2,    42.51,2,    31.58,2,     0.00,2,     2.34,2,    0.191,2,    0.108,2, -999.000,9,-999.0000,9,  -999.00,9,   -999.0,9,  -999.00,9,-999.000,9,   2243.4,2,   2328.2,2,  -999.0, -999.00,-999.0000,-999.000,-999.000
    316N145_10,  I07N,   762,  1,     26,     26,2,19950729,1957,  0.9295,  57.2958, 4671,   -999,    709.3,   8.8979,  35.0744,2,  35.0751,2,     50.7,2,  8.8191,     51.7,2,    55.00,2,    33.58,2,     0.00,2,     2.55,2,    0.080,2,    0.044,2, -999.000,9,-999.0000,9,  -999.00,9,   -999.0,9,  -999.00,9,-999.000,9,   2267.2,2,   -999.9,5,  -999.0, -999.00,-999.0000,-999.000,-999.000
    316N145_10,  I07N,   762,  1,     25,     25,2,19950729,1957,  0.9295,  57.2958, 4671,   -999,    860.1,   8.1031,  35.0467,2,  35.0453,2,     48.9,2,  8.0118,     49.5,2,    65.25,2,    34.98,2,     0.00,2,     2.65,2,    0.034,2,    0.021,2, -999.000,9,-999.0000,9,  -999.00,9,   -999.0,9,  -999.00,9,-999.000,9,   2280.2,2,   2351.0,2,  -999.0, -999.00,-999.0000,-999.000,-999.000
    316N145_10,  I07N,   762,  1,     24,     24,2,19950729,1957,  0.9295,  57.2958, 4671,   -999,    955.3,   7.6684,  35.0490,2,  35.0472,2,     46.3,2,  7.5694,     45.3,2,    72.90,2,    35.88,2,     0.00,2,     2.74,2,    0.023,2,    0.016,2, -999.000,9,-999.0000,9,  -999.00,9,   -999.0,9,  -999.00,9,-999.000,9,   2292.1,2,   -999.9,5,  -999.0, -999.00,-999.0000,-999.000,-999.000
    316N145_10,  I07N,   762,  1,     23,     23,2,19950729,1957,  0.9295,  57.2958, 4671,   -999,   1159.8,   6.2240,  34.9695,2,  34.9704,2,     58.1,2,  6.1147,     58.3,2,    87.92,2,    36.73,2,     0.00,2,     2.80,2,    0.008,2,    0.013,2, -999.000,9,-999.0000,9,  -999.00,9,   -999.0,9,  -999.00,9,-999.000,9,   2305.8,2,   2370.0,2,  -999.0, -999.00,-999.0000,-999.000,-999.000
    316N145_10,  I07N,   762,  1,     22,     22,2,19950729,1957,  0.9295,  57.2958, 4671,   -999,   1245.9,   5.2291,  34.8900,2,  34.8924,2,     74.6,2,  5.1203,     73.3,2,    97.23,2,    36.73,2,     0.00,2,     2.76,2,    0.003,2,    0.002,2, -999.000,9,-999.0000,9,  -999.00,9,   -999.0,9,  -999.00,9,-999.000,9,   2311.1,2,   -999.9,5,  -999.0, -999.00,-999.0000,-999.000,-999.000
    316N145_10,  I07N,   762,  1,     21,     21,2,19950729,1957,  0.9295,  57.2958, 4671,   -999,   1403.2,   4.6010,  34.8720,2,  34.8751,2,     83.3,2,  4.4836,     84.6,2,   103.23,2,    36.50,2,     0.00,2,     2.75,2,    0.000,2,    0.004,2, -999.000,9,-999.0000,9,  -999.00,9,   -999.0,9,  -999.00,9,-999.000,9,   -999.9,5,   2386.4,2,  -999.0, -999.00,-999.0000,-999.000,-999.000
    316N145_10,  I07N,   762,  1,     20,     20,2,19950729,1957,  0.9295,  57.2958, 4671,   -999,   1502.9,   4.1906,  34.8460,2,  34.8486,2,     90.4,2,  4.0683,     94.5,2,   106.76,2,    36.18,2,     0.00,2,     2.72,2,    0.003,2,    0.009,2, -999.000,9,-999.0000,9,  -999.00,9,   -999.0,9,  -999.00,9,-999.000,9,   2313.3,2,   -999.9,5,  -999.0, -999.00,-999.0000,-999.000,-999.000
    316N145_10,  I07N,   762,  1,     19,     19,2,19950729,1957,  0.9295,  57.2958, 4671,   -999,   1608.7,   3.5526,  34.8175,2,  34.8190,2,    104.5,2,  3.4284,    109.0,2,   112.44,2,    35.81,2,     0.00,2,     2.65,2,   -0.001,2,    0.005,2, -999.000,9,-999.0000,9,  -999.00,9,   -999.0,9,  -999.00,9,-999.000,9,   2312.2,2,   2391.9,2,  -999.0, -999.00,-999.0000,-999.000,-999.000
    316N145_10,  I07N,   762,  1,     18,     18,2,19950729,1957,  0.9295,  57.2958, 4671,   -999,   1704.4,   3.2562,  34.7993,2,  34.8017,2,    115.7,2,  3.1271,    116.1,2,   114.92,2,    35.63,2,     0.00,2,     2.64,2,    0.001,2,    0.006,2, -999.000,9,-999.0000,9,  -999.00,9,   -999.0,9,  -999.00,9,-999.000,9,   2311.9,2,   -999.9,5,  -999.0, -999.00,-999.0000,-999.000,-999.000
    316N145_10,  I07N,   762,  1,     17,     17,2,19950729,1957,  0.9295,  57.2958, 4671,   -999,   1805.6,   2.9648,  34.7873,2,  34.7886,2,    122.9,2,  2.8307,    123.1,2,   118.31,2,    35.45,2,     0.00,2,     2.60,2,   -0.002,2,   -0.001,2, -999.000,9,-999.0000,9,  -999.00,9,   -999.0,9,  -999.00,9,-999.000,9,   2312.6,2,   2400.5,2,  -999.0, -999.00,-999.0000,-999.000,-999.000
    316N145_10,  I07N,   762,  1,     16,     16,2,19950729,1957,  0.9295,  57.2958, 4671,   -999,   1899.8,   2.8298,  34.7824,2,  34.7843,2,    125.0,2,  2.6893,    126.5,2,   119.73,2,    35.31,2,     0.00,2,     2.59,2,   -0.003,2,   -0.001,2, -999.000,9,-999.0000,9,  -999.00,9,   -999.0,9,  -999.00,9,-999.000,9,   2311.8,2,   -999.9,5,  -999.0, -999.00,-999.0000,-999.000,-999.000
    316N145_10,  I07N,   762,  1,     15,     15,2,19950729,1957,  0.9295,  57.2958, 4671,   -999,   1996.9,   2.6270,  34.7743,2,  34.7754,2,    130.3,2,  2.4810,    131.5,2,   122.05,2,    35.18,2,     0.00,2,     2.56,2, -999.000,9, -999.000,9, -999.000,9,-999.0000,9,  -999.00,9,   -999.0,9,  -999.00,9,-999.000,9,   2312.6,2,   2405.8,2,  -999.0, -999.00,-999.0000,-999.000,-999.000
    316N145_10,  I07N,   762,  1,     14,     14,2,19950729,1957,  0.9295,  57.2958, 4671,   -999,   2193.9,   2.3893,  34.7649,2,  34.7660,2,    138.0,2,  2.2295,    138.5,2,   125.10,2,    34.99,2,     0.00,2,     2.54,2, -999.000,9, -999.000,9, -999.000,9,-999.0000,9,  -999.00,9,   -999.0,9,  -999.00,9,-999.000,9,   2313.5,2,   -999.9,5,  -999.0, -999.00,-999.0000,-999.000,-999.000
    316N145_10,  I07N,   762,  1,     13,     13,2,19950729,1957,  0.9295,  57.2958, 4671,   -999,   2397.0,   2.1099,  34.7534,2,  34.7554,2,    147.0,2,  1.9366,    146.1,2,   127.99,2,    34.72,2,     0.00,2,     2.51,2, -999.000,9, -999.000,9, -999.000,9,-999.0000,9,  -999.00,9,   -999.0,9,  -999.00,9,-999.000,9,   2312.8,2,   2408.8,2,  -999.0, -999.00,-999.0000,-999.000,-999.000
    316N145_10,  I07N,   762,  1,     12,     12,2,19950729,1957,  0.9295,  57.2958, 4671,   -999,   2595.4,   1.9861,  34.7462,2,  34.7484,2,    151.6,2,  1.7970,    151.9,2,   128.32,2,    34.44,2,     0.00,2,     2.48,2, -999.000,9, -999.000,9, -999.000,9,-999.0000,9,  -999.00,9,   -999.0,9,  -999.00,9,-999.000,9,   2310.4,2,   -999.9,5,  -999.0, -999.00,-999.0000,-999.000,-999.000
    316N145_10,  I07N,   762,  1,     11,     11,2,19950729,1957,  0.9295,  57.2958, 4671,   -999,   2795.4,   1.9077,  34.7424,2,  34.7450,2,    155.1,2,  1.7014,    154.6,2,   128.84,2,    34.26,2,     0.00,2,     2.47,2, -999.000,9, -999.000,9, -999.000,9,-999.0000,9,  -999.00,9,   -999.0,9,  -999.00,9,-999.000,9,   2309.1,2,   2409.5,2,  -999.0, -999.00,-999.0000,-999.000,-999.000
    316N145_10,  I07N,   762,  1,     10,     10,2,19950729,1957,  0.9295,  57.2958, 4671,   -999,   2992.4,   1.8153,  34.7388,2,  34.7399,2,    158.6,2,  1.5921,    158.2,2,   130.64,2,    34.26,2,     0.00,2,     2.45,2, -999.000,9, -999.000,9, -999.000,9,-999.0000,9,  -999.00,9,   -999.0,9,  -999.00,9,-999.000,9,   2309.4,2,   -999.9,5,  -999.0, -999.00,-999.0000,-999.000,-999.000
    316N145_10,  I07N,   762,  1,      9,      9,2,19950729,1957,  0.9295,  57.2958, 4671,   -999,   3246.8,   1.7190,  34.7342,2,  34.7356,2,    163.2,2,  1.4729,    163.0,2,   130.43,2,    33.99,2,     0.00,2,     2.43,2, -999.000,9, -999.000,9, -999.000,9,-999.0000,9,  -999.00,9,   -999.0,9,  -999.00,9,-999.000,9,   2305.8,2,   2410.5,2,  -999.0, -999.00,-999.0000,-999.000,-999.000
    316N145_10,  I07N,   762,  1,      8,      8,2,19950729,1957,  0.9295,  57.2958, 4671,   -999,   3503.1,   1.6204,  34.7302,2,  34.7309,2,    167.3,2,  1.3508,    167.4,2,   130.59,2,    33.90,2,     0.00,2,     2.41,2, -999.000,9, -999.000,9, -999.000,9,-999.0000,9,  -999.00,9,   -999.0,9,  -999.00,9,-999.000,9,   2304.2,2,   -999.9,5,  -999.0, -999.00,-999.0000,-999.000,-999.000
    316N145_10,  I07N,   762,  1,      7,      7,2,19950729,1957,  0.9295,  57.2958, 4671,   -999,   3594.6,   1.6009,  34.7295,2,  34.7305,2,    168.2,2,  1.3223,    168.3,2,   131.66,2,    33.86,2,     0.00,2,     2.41,2, -999.000,9, -999.000,9, -999.000,9,-999.0000,9,  -999.00,9,   -999.0,9,  -999.00,9,-999.000,9,   2303.3,2,   2409.3,2,  -999.0, -999.00,-999.0000,-999.000,-999.000
    316N145_10,  I07N,   762,  1,      6,      6,2,19950729,1957,  0.9295,  57.2958, 4671,   -999,   3797.7,   1.5352,  34.7261,2,  34.7270,2,    171.8,2,  1.2369,    172.3,2,   132.00,2,    33.72,2,     0.00,2,     2.40,2, -999.000,9, -999.000,9, -999.000,9,-999.0000,9,  -999.00,9,   -999.0,9,  -999.00,9,-999.000,9,   2301.7,2,   -999.9,5,  -999.0, -999.00,-999.0000,-999.000,-999.000
    316N145_10,  I07N,   762,  1,      5,      5,2,19950729,1957,  0.9295,  57.2958, 4671,   -999,   4007.1,   1.4542,  34.7228,2,  34.7241,2,    176.8,2,  1.1357,    176.1,2,   131.79,2,    33.44,2,     0.00,2,     2.37,2, -999.000,9, -999.000,9, -999.000,9,-999.0000,9,  -999.00,9,   -999.0,9,  -999.00,9,-999.000,9,   2298.0,2,   2407.4,2,  -999.0, -999.00,-999.0000,-999.000,-999.000
    316N145_10,  I07N,   762,  1,      4,      4,2,19950729,1957,  0.9295,  57.2958, 4671,   -999,   4317.5,   1.3946,  34.7200,2,  34.7215,2,    180.7,2,  1.0436,    180.5,2,   131.03,2,    33.31,2,     0.00,2,     2.35,2,    0.001,2,    0.000,2, -999.000,9,-999.0000,9,  -999.00,9,   -999.0,9,  -999.00,9,-999.000,9,   2294.4,2,   -999.9,5,  -999.0, -999.00,-999.0000,-999.000,-999.000
    316N145_10,  I07N,   762,  1,      3,      3,2,19950729,1957,  0.9295,  57.2958, 4671,   -999,   4496.0,   1.3664,  34.7185,2,  34.7190,2,    183.3,2,  0.9959,    182.8,2,   131.18,2,    33.12,2,     0.00,2,     2.35,2, -999.000,9, -999.000,9, -999.000,9,-999.0000,9,  -999.00,9,   -999.0,9,  -999.00,9,-999.000,9,   2292.6,2,   2401.7,2,  -999.0, -999.00,-999.0000,-999.000,-999.000
    316N145_10,  I07N,   762,  1,      2,      2,2,19950729,1957,  0.9295,  57.2958, 4671,   -999,   4654.8,   1.3596,  34.7174,2,  34.7200,2,    184.2,2,  0.9710,    184.2,2,   131.15,2,    33.13,2,     0.00,2,     2.34,2,   -0.001,2,   -0.002,2, -999.000,9,-999.0000,9,  -999.00,9,   -999.0,9,  -999.00,9,-999.000,9,   2293.0,2,   -999.9,5,  -999.0, -999.00,-999.0000,-999.000,-999.000
    316N145_10,  I07N,   762,  1,      1,      1,2,19950729,1957,  0.9295,  57.2958, 4671,   -999,   4745.8,   1.3649,  34.7175,2,  34.7192,2,    184.6,2,  0.9654,    184.1,2,   131.31,2,    33.13,2,     0.00,2,     2.34,2, -999.000,9, -999.000,9, -999.000,9,-999.0000,9,  -999.00,9,   -999.0,9,  -999.00,9,-999.000,9,   2293.1,2,   2401.2,2,  -999.0, -999.00,-999.0000,-999.000,-999.000