BOTTLE,20080821WHPSIOSCD
EXPOCODE,SECT_ID,STNNBR,CASTNO,SAMPNO,BTLNBR,BTLNBR_FLAG_W,DATE,TIME,LATITUDE,LONGITUDE,DEPTH,CTDRAW,CTDPRS,CTDTMP,CTDSAL,CTDSAL_FLAG_W,SALNTY,SALNTY_FLAG_W,CTDOXY,CTDOXY_FLAG_W,THETA,OXYGEN,OXYGEN_FLAG_W,SILCAT,SILCAT_FLAG_W,NITRAT,NITRAT_FLAG_W,NITRIT,NITRIT_FLAG_W,PHSPHT,PHSPHT_FLAG_W,CFC-11,CFC-11_FLAG_W,CFC-12,CFC-12_FLAG_W,TRITUM,TRITUM_FLAG_W,HELIUM,HELIUM_FLAG_W,DELHE3,DELHE3_FLAG_W,DELC14,DELC14_FLAG_W,DELC13,DELC13_FLAG_W,NEON,NEON_FLAG_W,TCARBN,TCARBN_FLAG_W,ALKALI,ALKALI_FLAG_W,C14ERR,DELHER,HELIER,NEONER,TRITER
,,,,,,,,,,,,,DBAR,ITS-90,PSS-78,,PSS-78,,UMOL/KG,,DEG C,UMOL/KG,,UMOL/KG,,UMOL/KG,,UMOL/KG,,UMOL/KG,,PMOL/KG,,PMOL/KG,,TU,,NMOL/KG,,PERCNT,,/MILLE,,/MILLE,,NMOL/KG,,UMOL/KG,,UMOL/KG,,/MILLE,PERCNT,NMOL/KG,NMOL/KG,TU
    316N145_10,  I07N,   727,  1,     36,     36,2,19950720,2128,-10.0013,  52.3187, 4254,   -999,      7.7,  26.0701,  35.1768,2,  35.1755,2,    207.7,2, 26.0686,    200.7,2,     3.88,2,     0.82,2,     0.04,2,     0.23,2,    1.747,2,    0.990,2,    0.819,2,   1.6500,2,    -1.00,2,   -999.0,9,  -999.00,9,   6.842,2,   1973.8,2,   -999.9,5,  -999.0,    0.20,  0.0080,   0.137,   0.008
    316N145_10,  I07N,   727,  1,     35,     35,2,19950720,2128,-10.0013,  52.3187, 4254,   -999,     31.2,  26.0746,  35.1773,2,  35.1753,2,    202.1,2, 26.0679,    200.6,2,     3.86,2,     0.86,2,     0.04,2,     0.23,2, -999.000,9, -999.000,9, -999.000,9,-999.0000,9,  -999.00,9,   -999.0,9,  -999.00,9,-999.000,9,   -999.9,9,   -999.9,9,  -999.0, -999.00,-999.0000,-999.000,-999.000
    316N145_10,  I07N,   727,  1,     34,     34,2,19950720,2128,-10.0013,  52.3187, 4254,   -999,     51.7,  26.0546,  35.1783,2,  35.1761,2,    196.4,2, 26.0433,    200.0,2,     3.84,2,     0.89,2,     0.05,2,     0.23,2,    1.697,2,    0.950,2,    0.850,2,-999.0000,9,  -999.00,9,   -999.0,9,  -999.00,9,-999.000,9,   -999.9,9,   -999.9,9,  -999.0, -999.00,-999.0000,-999.000,   0.008
    316N145_10,  I07N,   727,  1,     33,     33,2,19950720,2128,-10.0013,  52.3187, 4254,   -999,     71.9,  22.3627,  35.1901,2,  35.1960,2,    165.4,2, 22.3486,    163.3,2,     7.32,2,     5.85,2,     0.37,2,     0.56,2, -999.000,9, -999.000,9, -999.000,9,-999.0000,9,  -999.00,9,   -999.0,9,  -999.00,9,-999.000,9,   -999.9,9,   -999.9,9,  -999.0, -999.00,-999.0000,-999.000,-999.000
    316N145_10,  I07N,   727,  1,     32,     32,2,19950720,2128,-10.0013,  52.3187, 4254,   -999,     89.3,  21.6647,  35.2453,2,  35.2449,2,    166.0,2, 21.6474,    166.0,2,     7.13,2,     5.49,2,     0.33,2,     0.53,2,    1.838,2,    1.000,2, -999.000,9,-999.0000,9,  -999.00,9,   -999.0,9,  -999.00,9,-999.000,9,   -999.9,9,   -999.9,9,  -999.0, -999.00,-999.0000,-999.000,-999.000
    316N145_10,  I07N,   727,  1,     31,     31,2,19950720,2128,-10.0013,  52.3187, 4254,   -999,    122.5,  18.2013,  35.3106,2,  35.3047,2,    130.7,2, 18.1803,    133.0,2,    12.52,2,    12.15,2,     0.05,2,     0.89,2, -999.000,9, -999.000,9, -999.000,9,-999.0000,9,  -999.00,9,   -999.0,9,  -999.00,9,-999.000,9,   -999.9,9,   -999.9,9,  -999.0, -999.00,-999.0000,-999.000,-999.000
    316N145_10,  I07N,   727,  1,     30,     30,2,19950720,2128,-10.0013,  52.3187, 4254,   -999,    152.1,  15.5293,  35.1994,2,  35.1961,2,    116.4,2, 15.5058,    115.7,2,    16.53,2,    17.29,2,     0.01,2,     1.25,2,    1.423,2,    0.747,2,    0.563,2,-999.0000,9,  -999.00,9,   -999.0,9,  -999.00,9,-999.000,9,   -999.9,9,   -999.9,9,  -999.0, -999.00,-999.0000,-999.000,   0.008
    316N145_10,  I07N,   727,  1,     29,     29,2,19950720,2128,-10.0013,  52.3187, 4254,   -999,    179.5,  14.7945,  35.1859,2,  35.1820,2,    123.5,2, 14.7678,    125.5,2,    17.21,2,    16.90,2,     0.01,2,     1.24,2, -999.000,9, -999.000,9, -999.000,9,-999.0000,9,  -999.00,9,   -999.0,9,  -999.00,9,-999.000,9,   -999.9,9,   -999.9,9,  -999.0, -999.00,-999.0000,-999.000,-999.000
    316N145_10,  I07N,   727,  1,     28,     28,2,19950720,2128,-10.0013,  52.3187, 4254,   -999,    211.4,  13.4674,  35.1002,2,  35.0941,2,    124.9,2, 13.4377,    127.6,2,    18.59,2,    18.75,2,     0.01,2,     1.36,2,    1.356,2,    0.693,2, -999.000,9,-999.0000,9,  -999.00,9,   -999.0,9,  -999.00,9,-999.000,9,   -999.9,9,   -999.9,9,  -999.0, -999.00,-999.0000,-999.000,-999.000
    316N145_10,  I07N,   727,  1,     27,     27,2,19950720,2128,-10.0013,  52.3187, 4254,   -999,    239.9,  12.2536,  35.0265,2,  35.0259,2,    131.7,2, 12.2220,    137.4,2,    18.92,2,    19.55,2,     0.01,2,     1.41,2,    1.319,2,    0.668,2,    0.419,2,-999.0000,9,  -999.00,9,   -999.0,9,  -999.00,9,-999.000,9,   -999.9,9,   -999.9,9,  -999.0, -999.00,-999.0000,-999.000,   0.008
    316N145_10,  I07N,   727,  1,     26,     26,2,19950720,2128,-10.0013,  52.3187, 4254,   -999,    298.1,  11.5529,  34.9798,2,  34.9791,2,    147.7,2, 11.5149,    150.9,2,    18.03,2,    19.24,2,     0.01,2,     1.39,2,    1.357,2,    0.688,2, -999.000,9,   1.8110,2,     4.10,2,   -999.0,9,  -999.00,9,   7.413,2,   -999.9,9,   -999.9,9,  -999.0,    0.20,  0.0090,   0.148,-999.000
    316N145_10,  I07N,   727,  1,     25,     25,2,19950720,2128,-10.0013,  52.3187, 4254,   -999,    399.1,   9.8740,  34.8411,2,  34.8398,2,    147.6,2,  9.8278,    147.6,2,    23.61,2,    23.00,2,     0.01,2,     1.64,2,    0.965,2,    0.493,2,    0.219,2,-999.0000,9,  -999.00,9,   -999.0,9,  -999.00,9,-999.000,9,   -999.9,9,   -999.9,9,  -999.0, -999.00,-999.0000,-999.000,   0.008
    316N145_10,  I07N,   727,  1,     24,     24,2,19950720,2128,-10.0013,  52.3187, 4254,   -999,    498.5,   8.8446,  34.7839,2,  34.7825,2,    137.4,2,  8.7904,    135.2,2,    31.99,2,    26.20,2,     0.00,2,     1.88,2,    0.611,2,    0.308,2, -999.000,9,-999.0000,9,  -999.00,9,   -999.0,9,  -999.00,9,-999.000,9,   -999.9,9,   -999.9,9,  -999.0, -999.00,-999.0000,-999.000,-999.000
    316N145_10,  I07N,   727,  1,     23,     23,2,19950720,2128,-10.0013,  52.3187, 4254,   -999,    564.7,   8.2863,  34.7679,2,  34.7666,2,    142.2,2,  8.2269,    125.1,2,    39.15,2,    28.24,2,     0.00,2,     2.06,2,    0.421,2,    0.212,2,    0.188,2,-999.0000,9,  -999.00,9,   -999.0,9,  -999.00,9,-999.000,9,   -999.9,9,   -999.9,9,  -999.0, -999.00,-999.0000,-999.000,   0.008
    316N145_10,  I07N,   727,  1,     22,     22,2,19950720,2128,-10.0013,  52.3187, 4254,   -999,    618.7,   7.9358,  34.7674,2,  34.7666,2,    120.0,2,  7.8721,    116.6,2,    44.73,2,    29.58,2,     0.00,2,     2.15,2,    0.301,2,    0.158,2, -999.000,9,   1.8330,2,     5.30,2,   -999.0,9,  -999.00,9,   7.582,2,   -999.9,9,   -999.9,9,  -999.0,    0.20,  0.0090,   0.152,-999.000
    316N145_10,  I07N,   727,  1,     21,     21,2,19950720,2128,-10.0013,  52.3187, 4254,   -999,    699.3,   7.3466,  34.7630,2,  34.7621,2,    111.5,2,  7.2773,    106.2,2,    54.19,2,    31.37,2,     0.00,2,     2.33,2,    0.181,2,    0.085,2, -999.000,9,-999.0000,9,  -999.00,9,   -999.0,9,  -999.00,9,-999.000,9,   -999.9,9,   -999.9,9,  -999.0, -999.00,-999.0000,-999.000,-999.000
    316N145_10,  I07N,   727,  1,     20,     20,2,19950720,2128,-10.0013,  52.3187, 4254,   -999,    799.9,   6.8880,  34.7769,2,  34.7772,2,     98.6,2,  6.8109,     95.9,2,    63.67,2,    32.99,2,     0.00,2,     2.44,2, -999.000,9, -999.000,9,    0.101,2,-999.0000,9,  -999.00,9,   -999.0,9,  -999.00,9,-999.000,9,   -999.9,9,   -999.9,9,  -999.0, -999.00,-999.0000,-999.000,   0.008
    316N145_10,  I07N,   727,  1,     19,     19,2,19950720,2128,-10.0013,  52.3187, 4254,   -999,    899.5,   6.4739,  34.7862,2,  34.7860,2,     90.3,2,  6.3893,     89.8,2,    71.41,2,    33.94,2,     0.00,2,     2.53,2,    0.049,2,    0.023,2, -999.000,9,   1.8600,2,     7.70,2,   -999.0,9,  -999.00,9,   7.671,2,   -999.9,9,   -999.9,9,  -999.0,    0.20,  0.0090,   0.153,-999.000
    316N145_10,  I07N,   727,  1,     18,     18,2,19950720,2128,-10.0013,  52.3187, 4254,   -999,   1000.8,   5.9066,  34.7915,2,  34.7925,2,     85.9,2,  5.8161,     86.7,2,    81.48,2,    34.93,2,     0.00,2,     2.61,2,    0.018,2,    0.002,2,    0.002,2,-999.0000,9,  -999.00,9,   -999.0,9,  -999.00,9,-999.000,9,   -999.9,9,   -999.9,9,  -999.0, -999.00,-999.0000,-999.000,   0.008
    316N145_10,  I07N,   727,  1,     17,     17,2,19950720,2128,-10.0013,  52.3187, 4254,   -999,   1248.4,   4.7855,  34.7410,2,  34.7416,2,    110.5,2,  4.6810,    112.1,2,    86.27,2,    34.30,2,     0.00,2,     2.55,2,    0.018,2,    0.005,2,    0.000,2,   1.8640,2,    10.20,2,   -999.0,9,  -999.00,9,   7.814,2,   -999.9,9,   -999.9,9,  -999.0,    0.20,  0.0090,   0.156,   0.008
    316N145_10,  I07N,   727,  1,     16,     16,2,19950720,2128,-10.0013,  52.3187, 4254,   -999,   1500.7,   3.6620,  34.7048,2,  34.7044,2,    130.0,2,  3.5463,    134.3,2,    93.58,2,    33.99,2,     0.00,2,     2.51,2,    0.003,2,   -0.004,2,    0.000,2,   1.8870,2,    12.00,2,   -999.0,9,  -999.00,9,   7.917,2,   -999.9,9,   -999.9,9,  -999.0,    0.20,  0.0090,   0.158,   0.008
    316N145_10,  I07N,   727,  1,     15,     15,2,19950720,2128,-10.0013,  52.3187, 4254,   -999,   1748.2,   2.9736,  34.7332,2,  34.7332,2,    139.2,2,  2.8446,    141.6,2,   107.05,2,    33.90,2,     0.00,2,     2.48,2,    0.003,2,   -0.003,2,    0.000,2,   1.8820,2,    11.80,2,   -999.0,9,  -999.00,9,   8.032,2,   -999.9,9,   -999.9,9,  -999.0,    0.20,  0.0090,   0.161,   0.008
    316N145_10,  I07N,   727,  1,     14,     14,2,19950720,2128,-10.0013,  52.3187, 4254,   -999,   2000.1,   2.5533,  34.7427,2,  34.7422,2,    147.5,2,  2.4082,    146.9,2,   116.30,2,    33.90,2,     0.00,2,     2.48,2,    0.002,2,   -0.003,2,    0.000,2,   1.8960,2,    12.30,2,   -999.0,9,  -999.00,9,   8.082,2,   -999.9,9,   -999.9,9,  -999.0,    0.20,  0.0090,   0.162,   0.008
    316N145_10,  I07N,   727,  1,     13,     13,2,19950720,2128,-10.0013,  52.3187, 4254,   -999,   2145.7,   2.2988,  34.7440,2,  34.7420,2,    151.2,2,  2.1449,    151.8,2,   120.13,2,    33.72,2,     0.00,2,     2.45,2, -999.000,9, -999.000,9, -999.000,9,-999.0000,9,  -999.00,9,   -999.0,9,  -999.00,9,-999.000,9,   -999.9,9,   -999.9,9,  -999.0, -999.00,-999.0000,-999.000,-999.000
    316N145_10,  I07N,   727,  1,     12,     12,2,19950720,2128,-10.0013,  52.3187, 4254,   -999,   2297.6,   2.1455,  34.7460,2,  34.7457,2,    153.4,2,  1.9806,    153.0,2,   123.79,2,    33.77,2,     0.00,2,     2.46,2, -999.000,9, -999.000,9,    0.000,2,   1.8960,2,    12.60,2,   -999.0,9,  -999.00,9,   8.202,2,   -999.9,9,   -999.9,9,  -999.0,    0.20,  0.0090,   0.164,   0.008
    316N145_10,  I07N,   727,  1,     11,     11,2,19950720,2128,-10.0013,  52.3187, 4254,   -999,   2499.5,   2.0374,  34.7439,2,  34.7442,2,    155.9,2,  1.8562,    155.2,2,   125.99,2,    33.77,2,     0.00,2,     2.45,2, -999.000,9, -999.000,9,    0.000,2,-999.0000,9,  -999.00,9,   -999.0,9,  -999.00,9,-999.000,9,   -999.9,9,   -999.9,9,  -999.0, -999.00,-999.0000,-999.000,   0.008
    316N145_10,  I07N,   727,  1,     10,     10,2,19950720,2128,-10.0013,  52.3187, 4254,   -999,   2750.9,   1.9323,  34.7413,2,  34.7412,2,    158.8,2,  1.7297,    158.0,2,   128.19,2,    33.73,2,     0.00,2,     2.44,2, -999.000,9, -999.000,9,    0.000,2,   1.9040,2,    12.40,2,   -999.0,9,  -999.00,9,   8.131,2,   -999.9,9,   -999.9,9,  -999.0,    0.20,  0.0100,   0.163,   0.008
    316N145_10,  I07N,   727,  1,      9,      9,2,19950720,2128,-10.0013,  52.3187, 4254,   -999,   3001.6,   1.8480,  34.7382,2,  34.7379,2,    161.4,2,  1.6232,    160.2,2,   130.03,2,    33.69,2,     0.00,2,     2.44,2, -999.000,9, -999.000,9, -999.000,9,   1.8910,2,    10.90,2,   -999.0,9,  -999.00,9,   8.238,2,   -999.9,9,   -999.9,9,  -999.0,    0.20,  0.0090,   0.165,-999.000
    316N145_10,  I07N,   727,  1,      8,      8,2,19950720,2128,-10.0013,  52.3187, 4254,   -999,   3253.4,   1.7709,  34.7365,2,  34.7355,2,    164.2,2,  1.5229,    163.6,2,   130.38,2,    33.50,2,     0.00,2,     2.42,2, -999.000,9, -999.000,9, -999.000,9,   1.9040,2,    11.30,2,   -999.0,9,  -999.00,9,   8.300,2,   -999.9,9,   -999.9,9,  -999.0,    0.20,  0.0100,   0.166,-999.000
    316N145_10,  I07N,   727,  1,      7,      7,2,19950720,2128,-10.0013,  52.3187, 4254,   -999,   3500.9,   1.6392,  34.7313,2,  34.7302,2,    168.8,2,  1.3693,    169.6,2,   131.29,2,    33.28,2,     0.00,2,     2.40,2, -999.000,9, -999.000,9, -999.000,9,   1.9000,2,    10.90,2,   -999.0,9,  -999.00,9,   8.340,2,   -999.9,9,   -999.9,9,  -999.0,    0.20,  0.0090,   0.167,-999.000
    316N145_10,  I07N,   727,  1,      6,      6,2,19950720,2128,-10.0013,  52.3187, 4254,   -999,   3695.3,   1.5581,  34.7286,2,  34.7271,2,    173.6,2,  1.2700,    174.0,2,   131.09,2,    33.15,2,     0.00,2,     2.38,2, -999.000,9, -999.000,9, -999.000,9,   1.8910,2,    10.50,2,   -999.0,9,  -999.00,9,   8.318,2,   -999.9,9,   -999.9,9,  -999.0,    0.20,  0.0090,   0.166,-999.000
    316N145_10,  I07N,   727,  1,      5,      5,2,19950720,2128,-10.0013,  52.3187, 4254,   -999,   3897.8,   1.3552,  34.7220,2,  34.7192,2,    184.8,2,  1.0512,    185.4,2,   128.85,2,    32.56,2,     0.00,2,     2.33,2,   -0.001,2,   -0.003,2, -999.000,9,-999.0000,9,  -999.00,9,   -999.0,9,  -999.00,9,-999.000,9,   -999.9,9,   -999.9,9,  -999.0, -999.00,-999.0000,-999.000,-999.000
    316N145_10,  I07N,   727,  1,      4,      4,2,19950720,2128,-10.0013,  52.3187, 4254,   -999,   4098.2,   1.1731,  34.7157,2,  34.7123,2,    193.9,2,  0.8528,    196.0,2,   126.61,2,    32.12,2,     0.00,2,     2.28,2,    0.014,2,    0.009,2, -999.000,9,   1.9000,2,     9.40,2,   -999.0,9,  -999.00,9,   8.376,2,   -999.9,9,   -999.9,9,  -999.0,    0.20,  0.0090,   0.168,-999.000
    316N145_10,  I07N,   727,  1,      3,      3,2,19950720,2128,-10.0013,  52.3187, 4254,   -999,   4195.7,   1.0912,  34.7125,2,  34.7088,3,    198.8,2,  0.7627,    199.4,2,   125.85,2,    31.94,2,     0.00,2,     2.26,2, -999.000,9, -999.000,9, -999.000,9,-999.0000,9,  -999.00,9,   -999.0,9,  -999.00,9,-999.000,9,   -999.9,9,   -999.9,9,  -999.0, -999.00,-999.0000,-999.000,-999.000
    316N145_10,  I07N,   727,  1,      2,      2,2,19950720,2128,-10.0013,  52.3187, 4254,   -999,   4272.5,   1.0849,  34.7113,2,  34.7102,2,    200.2,2,  0.7482,    200.5,2,   125.47,2,    31.89,2,     0.00,2,     2.25,2, -999.000,9, -999.000,9, -999.000,9,-999.0000,9,  -999.00,9,   -999.0,9,  -999.00,9,-999.000,9,   -999.9,9,   -999.9,9,  -999.0, -999.00,-999.0000,-999.000,-999.000
    316N145_10,  I07N,   727,  1,      1,      1,2,19950720,2128,-10.0013,  52.3187, 4254,   -999,   4315.2,   1.0724,  34.7111,2,  34.7090,2,    201.1,2,  0.7314,    201.2,2,   125.45,2,    31.81,2,     0.00,2,     2.24,2,    0.003,2,   -0.004,2, -999.000,9,   1.9040,2,     8.10,2,   -999.0,9,  -999.00,9,   8.434,2,   -999.9,9,   -999.9,9,  -999.0,    0.20,  0.0100,   0.169,-999.000