BOTTLE,20080821WHPSIOSCD
EXPOCODE,SECT_ID,STNNBR,CASTNO,SAMPNO,BTLNBR,BTLNBR_FLAG_W,DATE,TIME,LATITUDE,LONGITUDE,DEPTH,CTDRAW,CTDPRS,CTDTMP,CTDSAL,CTDSAL_FLAG_W,SALNTY,SALNTY_FLAG_W,CTDOXY,CTDOXY_FLAG_W,THETA,OXYGEN,OXYGEN_FLAG_W,SILCAT,SILCAT_FLAG_W,NITRAT,NITRAT_FLAG_W,NITRIT,NITRIT_FLAG_W,PHSPHT,PHSPHT_FLAG_W,CFC-11,CFC-11_FLAG_W,CFC-12,CFC-12_FLAG_W,TRITUM,TRITUM_FLAG_W,HELIUM,HELIUM_FLAG_W,DELHE3,DELHE3_FLAG_W,DELC14,DELC14_FLAG_W,DELC13,DELC13_FLAG_W,NEON,NEON_FLAG_W,TCARBN,TCARBN_FLAG_W,ALKALI,ALKALI_FLAG_W,C14ERR,DELHER,HELIER,NEONER,TRITER
,,,,,,,,,,,,,DBAR,ITS-90,PSS-78,,PSS-78,,UMOL/KG,,DEG C,UMOL/KG,,UMOL/KG,,UMOL/KG,,UMOL/KG,,UMOL/KG,,PMOL/KG,,PMOL/KG,,TU,,NMOL/KG,,PERCNT,,/MILLE,,/MILLE,,NMOL/KG,,UMOL/KG,,UMOL/KG,,/MILLE,PERCNT,NMOL/KG,NMOL/KG,TU
    316N145_10,  I07N,   801,  1,     36,     36,2,19950809,1741, 17.1325,  61.5125, 3884,   -999,      4.2,  26.2974,  36.1015,2,  36.1041,2,    208.6,2, 26.2967,    205.7,2,     3.61,2,     4.88,2,     0.26,2,     0.65,2,    1.757,2,    0.982,2, -999.000,9,-999.0000,9,  -999.00,9,   -999.0,9,  -999.00,9,-999.000,9,   2048.3,2,   2353.7,2,  -999.0, -999.00,-999.0000,-999.000,-999.000
    316N145_10,  I07N,   801,  1,     35,     35,2,19950809,1741, 17.1325,  61.5125, 3884,   -999,     26.6,  26.2737,  36.0979,2,  36.0991,2,    203.9,2, 26.2679,    205.4,2,     4.20,2,     4.98,2,     0.26,2,     0.66,2,    1.759,2,    0.976,2, -999.000,9,-999.0000,9,  -999.00,9,   -999.0,9,  -999.00,9,-999.000,9,   -999.9,9,   -999.9,9,  -999.0, -999.00,-999.0000,-999.000,-999.000
    316N145_10,  I07N,   801,  1,     34,     34,2,19950809,1741, 17.1325,  61.5125, 3884,   -999,     46.5,  23.6720,  36.0571,2,  36.0974,2,    142.4,2, 23.6625,    114.7,2,     7.62,2,    13.86,2,     0.11,2,     1.20,2, -999.000,9, -999.000,9, -999.000,9,-999.0000,9,  -999.00,9,   -999.0,9,  -999.00,9,-999.000,9,   -999.9,9,   -999.9,9,  -999.0, -999.00,-999.0000,-999.000,-999.000
    316N145_10,  I07N,   801,  1,     33,     33,2,19950809,1741, 17.1325,  61.5125, 3884,   -999,     76.4,  22.0223,  36.1275,2,  36.1619,2,     48.4,2, 22.0074,     38.4,2,    11.33,2,    21.38,2,     0.07,2,     1.78,2,    1.539,2,    0.861,2, -999.000,9,-999.0000,9,  -999.00,9,   -999.0,9,  -999.00,9,-999.000,9,   -999.9,9,   -999.9,9,  -999.0, -999.00,-999.0000,-999.000,-999.000
    316N145_10,  I07N,   801,  1,     32,     32,2,19950809,1741, 17.1325,  61.5125, 3884,   -999,    101.3,  19.8663,  35.8111,2,  35.7899,2,      3.8,2, 19.8478,      7.1,2,    17.68,2,    24.51,2,     0.01,2,     2.18,2,    1.161,2,    0.652,2, -999.000,9,-999.0000,9,  -999.00,9,   -999.0,9,  -999.00,9,-999.000,9,   -999.9,9,   -999.9,9,  -999.0, -999.00,-999.0000,-999.000,-999.000
    316N145_10,  I07N,   801,  1,     31,     31,2,19950809,1741, 17.1325,  61.5125, 3884,   -999,    152.2,  17.5373,  35.7438,2,  35.7520,2,      1.4,2, 17.5117,      1.2,2,    23.93,2,    21.58,2,     0.69,2,     2.34,2, -999.000,9, -999.000,9, -999.000,9,-999.0000,9,  -999.00,9,   -999.0,9,  -999.00,9,-999.000,9,   -999.9,9,   -999.9,9,  -999.0, -999.00,-999.0000,-999.000,-999.000
    316N145_10,  I07N,   801,  1,     30,     30,2,19950809,1741, 17.1325,  61.5125, 3884,   -999,    201.3,  15.8963,  35.7967,2,  35.8035,2,      1.5,2, 15.8645,      0.9,2,    27.44,2,    21.58,2,     0.93,2,     2.37,2,    0.538,2,    0.338,2, -999.000,9,-999.0000,9,  -999.00,9,   -999.0,9,  -999.00,9,-999.000,9,   -999.9,9,   -999.9,9,  -999.0, -999.00,-999.0000,-999.000,-999.000
    316N145_10,  I07N,   801,  1,     29,     29,2,19950809,1741, 17.1325,  61.5125, 3884,   -999,    251.2,  15.1433,  35.8859,2,  35.8828,2,      1.8,2, 15.1048,      2.8,2,    28.81,2,    24.02,2,     0.00,2,     2.37,2,    0.511,2,    0.303,2, -999.000,9,-999.0000,9,  -999.00,9,   -999.0,9,  -999.00,9,-999.000,9,   -999.9,9,   -999.9,9,  -999.0, -999.00,-999.0000,-999.000,-999.000
    316N145_10,  I07N,   801,  1,     28,     28,2,19950809,1741, 17.1325,  61.5125, 3884,   -999,    302.6,  14.1727,  35.8068,2,  35.8064,2,      1.7,2, 14.1283,      3.2,2,    31.35,2,    25.49,2,     0.01,2,     2.42,2,    0.402,2,    0.234,2, -999.000,9,-999.0000,9,  -999.00,9,   -999.0,9,  -999.00,9,-999.000,9,   -999.9,9,   -999.9,9,  -999.0, -999.00,-999.0000,-999.000,-999.000
    316N145_10,  I07N,   801,  1,     27,     27,2,19950809,1741, 17.1325,  61.5125, 3884,   -999,    401.8,  13.1175,  35.7137,2,  35.7129,2,      2.8,2, 13.0612,      3.3,2,    36.04,2,    27.15,2,     0.00,2,     2.52,2,    0.253,2,    0.152,2, -999.000,9,-999.0000,9,  -999.00,9,   -999.0,9,  -999.00,9,-999.000,9,   -999.9,9,   -999.9,9,  -999.0, -999.00,-999.0000,-999.000,-999.000
    316N145_10,  I07N,   801,  1,     26,     26,2,19950809,1741, 17.1325,  61.5125, 3884,   -999,    498.7,  12.1230,  35.5959,2,  35.5974,2,      2.4,2, 12.0565,      2.7,2,    41.71,2,    29.50,2,     0.00,2,     2.63,2, -999.000,9, -999.000,9, -999.000,9,-999.0000,9,  -999.00,9,   -999.0,9,  -999.00,9,-999.000,9,   -999.9,9,   -999.9,9,  -999.0, -999.00,-999.0000,-999.000,-999.000
    316N145_10,  I07N,   801,  1,     25,     25,2,19950809,1741, 17.1325,  61.5125, 3884,   -999,    602.7,  11.8043,  35.6452,2,  35.6445,2,      3.3,2, 11.7248,      3.7,2,    46.88,2,    29.59,2,     0.00,2,     2.67,2,    0.098,2,    0.061,2, -999.000,9,-999.0000,9,  -999.00,9,   -999.0,9,  -999.00,9,-999.000,9,   -999.9,9,   -999.9,9,  -999.0, -999.00,-999.0000,-999.000,-999.000
    316N145_10,  I07N,   801,  1,     24,     24,2,19950809,1741, 17.1325,  61.5125, 3884,   -999,    702.9,  11.1921,  35.6281,2,  35.6264,2,      4.2,2, 11.1020,      4.0,2,    53.33,2,    31.16,2,     0.00,2,     2.73,2,    0.074,2,    0.044,2, -999.000,9,-999.0000,9,  -999.00,9,   -999.0,9,  -999.00,9,-999.000,9,   -999.9,9,   -999.9,9,  -999.0, -999.00,-999.0000,-999.000,-999.000
    316N145_10,  I07N,   801,  1,     23,     23,2,19950809,1741, 17.1325,  61.5125, 3884,   -999,    804.7,  10.5656,  35.5925,2,  35.5917,2,      5.5,2, 10.4656,      5.6,2,    59.68,2,    32.82,2,     0.00,2,     2.77,2,    0.065,2,    0.040,2, -999.000,9,-999.0000,9,  -999.00,9,   -999.0,9,  -999.00,9,-999.000,9,   -999.9,9,   -999.9,9,  -999.0, -999.00,-999.0000,-999.000,-999.000
    316N145_10,  I07N,   801,  1,     22,     22,2,19950809,1741, 17.1325,  61.5125, 3884,   -999,    901.0,   9.8431,  35.5226,2,  35.5223,2,      5.6,2,  9.7354,      5.6,2,    65.84,2,    34.19,2,     0.00,2,     2.85,2, -999.000,9, -999.000,9, -999.000,9,-999.0000,9,  -999.00,9,   -999.0,9,  -999.00,9,-999.000,9,   -999.9,9,   -999.9,9,  -999.0, -999.00,-999.0000,-999.000,-999.000
    316N145_10,  I07N,   801,  1,     21,     21,2,19950809,1741, 17.1325,  61.5125, 3884,   -999,   1001.2,   9.1499,  35.4554,2,  35.4548,2,      8.0,2,  9.0345,      7.7,2,    71.90,2,    35.46,2,     0.00,2,     2.90,2,    0.034,2,    0.018,2, -999.000,9,-999.0000,9,  -999.00,9,   -999.0,9,  -999.00,9,-999.000,9,   -999.9,9,   -999.9,9,  -999.0, -999.00,-999.0000,-999.000,-999.000
    316N145_10,  I07N,   801,  1,     20,     20,2,19950809,1741, 17.1325,  61.5125, 3884,   -999,   1101.9,   8.2580,  35.3539,2,  35.3524,2,     10.2,2,  8.1375,      9.9,2,    79.42,2,    36.64,2,     0.00,2,     2.98,2,    0.019,2,    0.012,2, -999.000,9,-999.0000,9,  -999.00,9,   -999.0,9,  -999.00,9,-999.000,9,   -999.9,9,   -999.9,9,  -999.0, -999.00,-999.0000,-999.000,-999.000
    316N145_10,  I07N,   801,  1,     19,     19,2,19950809,1741, 17.1325,  61.5125, 3884,   -999,   1199.5,   7.4843,  35.2686,2,  35.2656,2,     15.1,2,  7.3593,     14.9,2,    86.56,2,    37.42,2,     0.00,2,     3.02,2, -999.000,9, -999.000,9, -999.000,9,-999.0000,9,  -999.00,9,   -999.0,9,  -999.00,9,-999.000,9,   -999.9,9,   -999.9,9,  -999.0, -999.00,-999.0000,-999.000,-999.000
    316N145_10,  I07N,   801,  1,     18,     18,2,19950809,1741, 17.1325,  61.5125, 3884,   -999,   1301.8,   6.6738,  35.1730,2,  35.1718,2,     21.1,2,  6.5451,     21.3,2,    93.99,2,    38.11,2,     0.00,2,     3.05,2,    0.004,2,    0.003,2, -999.000,9,-999.0000,9,  -999.00,9,   -999.0,9,  -999.00,9,-999.000,9,   -999.9,9,   -999.9,9,  -999.0, -999.00,-999.0000,-999.000,-999.000
    316N145_10,  I07N,   801,  1,     17,     17,2,19950809,1741, 17.1325,  61.5125, 3884,   -999,   1397.4,   6.0210,  35.1058,2,  35.1063,2,     30.5,2,  5.8888,     30.4,2,   100.45,2,    38.11,2,     0.00,2,     3.04,2,    0.003,2,    0.002,2, -999.000,9,-999.0000,9,  -999.00,9,   -999.0,9,  -999.00,9,-999.000,9,   -999.9,9,   -999.9,9,  -999.0, -999.00,-999.0000,-999.000,-999.000
    316N145_10,  I07N,   801,  1,     16,     16,2,19950809,1741, 17.1325,  61.5125, 3884,   -999,   1500.8,   5.2253,  35.0266,2,  35.0267,2,     44.7,2,  5.0912,     45.1,2,   108.08,2,    38.01,2,     0.00,2,     2.99,2, -999.000,9, -999.000,9, -999.000,9,-999.0000,9,  -999.00,9,   -999.0,9,  -999.00,9,-999.000,9,   -999.9,9,   -999.9,9,  -999.0, -999.00,-999.0000,-999.000,-999.000
    316N145_10,  I07N,   801,  1,     15,     15,2,19950809,1741, 17.1325,  61.5125, 3884,   -999,   1601.1,   4.5974,  34.9672,2,  34.9687,2,     54.7,2,  4.4609,     55.9,2,   114.72,2,    37.92,2,     0.00,2,     2.96,2,   -0.001,2,    0.002,2, -999.000,9,-999.0000,9,  -999.00,9,   -999.0,9,  -999.00,9,-999.000,9,   -999.9,9,   -999.9,9,  -999.0, -999.00,-999.0000,-999.000,-999.000
    316N145_10,  I07N,   801,  1,     14,     14,2,19950809,1741, 17.1325,  61.5125, 3884,   -999,   1702.3,   4.1202,  34.9251,2,  34.9275,2,     62.4,2,  3.9800,     63.1,2,   120.40,2,    37.92,2,     0.00,2,     2.94,2,   -0.001,2,    0.001,2, -999.000,9,-999.0000,9,  -999.00,9,   -999.0,9,  -999.00,9,-999.000,9,   -999.9,9,   -999.9,9,  -999.0, -999.00,-999.0000,-999.000,-999.000
    316N145_10,  I07N,   801,  1,     13,     13,2,19950809,1741, 17.1325,  61.5125, 3884,   -999,   1798.2,   3.7427,  34.8928,2,  34.8952,2,     72.3,2,  3.5984,     71.6,2,   124.60,2,    37.72,2,     0.00,2,     2.91,2, -999.000,9, -999.000,9, -999.000,9,-999.0000,9,  -999.00,9,   -999.0,9,  -999.00,9,-999.000,9,   -999.9,9,   -999.9,9,  -999.0, -999.00,-999.0000,-999.000,-999.000
    316N145_10,  I07N,   801,  1,     12,     12,2,19950809,1741, 17.1325,  61.5125, 3884,   -999,   2000.2,   3.1186,  34.8422,2,  34.8424,2,     87.4,2,  2.9647,     87.0,2,   131.45,2,    37.33,2,     0.00,2,     2.83,2,   -0.002,2,   -0.003,2, -999.000,9,-999.0000,9,  -999.00,9,   -999.0,9,  -999.00,9,-999.000,9,   -999.9,9,   -999.9,9,  -999.0, -999.00,-999.0000,-999.000,-999.000
    316N145_10,  I07N,   801,  1,     11,     11,2,19950809,1741, 17.1325,  61.5125, 3884,   -999,   2198.0,   2.6947,  34.8099,2,  34.8104,2,     97.8,2,  2.5294,     97.7,2,   136.24,2,    36.94,2,     0.00,2,     2.78,2,   -0.001,2,    0.002,2, -999.000,9,-999.0000,9,  -999.00,9,   -999.0,9,  -999.00,9,-999.000,9,   -999.9,9,   -999.9,9,  -999.0, -999.00,-999.0000,-999.000,-999.000
    316N145_10,  I07N,   801,  1,     10,     10,2,19950809,1741, 17.1325,  61.5125, 3884,   -999,   2400.1,   2.3389,  34.7833,2,  34.7841,2,    106.7,2,  2.1611,    105.5,2,   141.32,2,    36.65,2,     0.00,2,     2.75,2, -999.000,9, -999.000,9, -999.000,9,-999.0000,9,  -999.00,9,   -999.0,9,  -999.00,9,-999.000,9,   -999.9,9,   -999.9,9,  -999.0, -999.00,-999.0000,-999.000,-999.000
    316N145_10,  I07N,   801,  1,      9,      9,2,19950809,1741, 17.1325,  61.5125, 3884,   -999,   2599.0,   2.0803,  34.7642,2,  34.7648,2,    112.0,2,  1.8890,    110.4,2,   145.33,2,    36.55,2,     0.00,2,     2.72,2, -999.000,9, -999.000,9, -999.000,9,-999.0000,9,  -999.00,9,   -999.0,9,  -999.00,9,-999.000,9,   -999.9,9,   -999.9,9,  -999.0, -999.00,-999.0000,-999.000,-999.000
    316N145_10,  I07N,   801,  1,      8,      8,2,19950809,1741, 17.1325,  61.5125, 3884,   -999,   2797.2,   1.9161,  34.7523,2,  34.7528,2,    116.5,2,  1.7094,    116.2,2,   146.90,2,    36.36,2,     0.00,2,     2.69,2, -999.000,9, -999.000,9, -999.000,9,-999.0000,9,  -999.00,9,   -999.0,9,  -999.00,9,-999.000,9,   -999.9,9,   -999.9,9,  -999.0, -999.00,-999.0000,-999.000,-999.000
    316N145_10,  I07N,   801,  1,      7,      7,2,19950809,1741, 17.1325,  61.5125, 3884,   -999,   2999.2,   1.8244,  34.7461,2,  34.7467,2,    121.2,2,  1.6003,    120.7,2,   147.49,2,    36.16,2,     0.00,2,     2.66,2, -999.000,9, -999.000,9, -999.000,9,-999.0000,9,  -999.00,9,   -999.0,9,  -999.00,9,-999.000,9,   -999.9,9,   -999.9,9,  -999.0, -999.00,-999.0000,-999.000,-999.000
    316N145_10,  I07N,   801,  1,      6,      6,2,19950809,1741, 17.1325,  61.5125, 3884,   -999,   3199.1,   1.7667,  34.7415,2,  34.7412,2,    127.2,2,  1.5242,    127.0,2,   147.00,2,    35.97,2,     0.00,2,     2.62,2, -999.000,9, -999.000,9, -999.000,9,-999.0000,9,  -999.00,9,   -999.0,9,  -999.00,9,-999.000,9,   -999.9,9,   -999.9,9,  -999.0, -999.00,-999.0000,-999.000,-999.000
    316N145_10,  I07N,   801,  1,      5,      5,2,19950809,1741, 17.1325,  61.5125, 3884,   -999,   3401.7,   1.7418,  34.7399,2,  34.7393,2,    130.8,2,  1.4795,    131.0,2,   146.51,2,    35.77,2,     0.00,2,     2.61,2, -999.000,9, -999.000,9, -999.000,9,-999.0000,9,  -999.00,9,   -999.0,9,  -999.00,9,-999.000,9,   -999.9,9,   -999.9,9,  -999.0, -999.00,-999.0000,-999.000,-999.000
    316N145_10,  I07N,   801,  1,      4,      4,2,19950809,1741, 17.1325,  61.5125, 3884,   -999,   3605.4,   1.7200,  34.7372,2,  34.7375,2,    135.3,2,  1.4371,    136.1,2,   144.65,2,    35.67,2,     0.00,2,     2.58,2, -999.000,9, -999.000,9, -999.000,9,-999.0000,9,  -999.00,9,   -999.0,9,  -999.00,9,-999.000,9,   -999.9,9,   -999.9,9,  -999.0, -999.00,-999.0000,-999.000,-999.000
    316N145_10,  I07N,   801,  1,      3,      3,2,19950809,1741, 17.1325,  61.5125, 3884,   -999,   3802.3,   1.7204,  34.7352,2,  34.7347,2,    123.4,2,  1.4166,    123.8,2,   149.25,2,    36.65,2,     0.00,2,     2.64,2, -999.000,9, -999.000,9, -999.000,9,-999.0000,9,  -999.00,9,   -999.0,9,  -999.00,9,-999.000,9,   -999.9,9,   -999.9,9,  -999.0, -999.00,-999.0000,-999.000,-999.000
    316N145_10,  I07N,   801,  1,      2,      2,2,19950809,1741, 17.1325,  61.5125, 3884,   -999,   3910.7,   1.7277,  34.7351,2,  34.7351,2,    117.2,2,  1.4119,    117.8,2,   153.35,2,    36.94,2,     0.00,2,     2.67,2, -999.000,9, -999.000,9, -999.000,9,-999.0000,9,  -999.00,9,   -999.0,9,  -999.00,9,-999.000,9,   -999.9,9,   -999.9,9,  -999.0, -999.00,-999.0000,-999.000,-999.000
    316N145_10,  I07N,   801,  1,      1,      1,2,19950809,1741, 17.1325,  61.5125, 3884,   -999,   3938.8,   1.7311,  34.7359,2,  34.7355,2,    117.1,2,  1.4122,    117.7,2,   153.45,2,    36.94,2,     0.00,2,     2.67,2, -999.000,9, -999.000,9, -999.000,9,-999.0000,9,  -999.00,9,   -999.0,9,  -999.00,9,-999.000,9,   -999.9,9,   -999.9,9,  -999.0, -999.00,-999.0000,-999.000,-999.000