BOTTLE,20080821WHPSIOSCD
EXPOCODE,SECT_ID,STNNBR,CASTNO,SAMPNO,BTLNBR,BTLNBR_FLAG_W,DATE,TIME,LATITUDE,LONGITUDE,DEPTH,CTDRAW,CTDPRS,CTDTMP,CTDSAL,CTDSAL_FLAG_W,SALNTY,SALNTY_FLAG_W,CTDOXY,CTDOXY_FLAG_W,THETA,OXYGEN,OXYGEN_FLAG_W,SILCAT,SILCAT_FLAG_W,NITRAT,NITRAT_FLAG_W,NITRIT,NITRIT_FLAG_W,PHSPHT,PHSPHT_FLAG_W,CFC-11,CFC-11_FLAG_W,CFC-12,CFC-12_FLAG_W,TRITUM,TRITUM_FLAG_W,HELIUM,HELIUM_FLAG_W,DELHE3,DELHE3_FLAG_W,DELC14,DELC14_FLAG_W,DELC13,DELC13_FLAG_W,NEON,NEON_FLAG_W,TCARBN,TCARBN_FLAG_W,ALKALI,ALKALI_FLAG_W,C14ERR,DELHER,HELIER,NEONER,TRITER
,,,,,,,,,,,,,DBAR,ITS-90,PSS-78,,PSS-78,,UMOL/KG,,DEG C,UMOL/KG,,UMOL/KG,,UMOL/KG,,UMOL/KG,,UMOL/KG,,PMOL/KG,,PMOL/KG,,TU,,NMOL/KG,,PERCNT,,/MILLE,,/MILLE,,NMOL/KG,,UMOL/KG,,UMOL/KG,,/MILLE,PERCNT,NMOL/KG,NMOL/KG,TU
    316N145_10,  I07N,   850,  1,     36,     36,2,19950821,1030, 24.2738,  58.5418, 3209,   -999,      5.4,  30.2899,  36.8366,2,  36.8377,2,    172.4,2, 30.2888,    190.7,2,     4.10,2,     0.01,2,     0.00,2,     0.32,2,    1.507,2,    0.877,2,    0.811,2,   1.6410,2,    -0.70,2,   -999.0,9,  -999.00,9,   6.694,2,   2029.1,2,   2403.9,2,  -999.0,    0.20,  0.0080,   0.134,   0.008
    316N145_10,  I07N,   850,  1,     35,     35,2,19950821,1030, 24.2738,  58.5418, 3209,   -999,     31.3,  25.1888,  36.4956,2,  36.4755,2,    176.2,2, 25.1822,    161.9,2,     5.31,2,     3.74,2,     0.17,2,     0.75,2, -999.000,9, -999.000,9, -999.000,9,-999.0000,9,  -999.00,9,   -999.0,9,  -999.00,9,-999.000,9,   -999.9,5,   2374.2,2,  -999.0, -999.00,-999.0000,-999.000,-999.000
    316N145_10,  I07N,   850,  1,     34,     34,2,19950821,1030, 24.2738,  58.5418, 3209,   -999,     61.4,  22.9388,  36.4645,2,  36.4383,2,     66.3,2, 22.9265,     67.7,2,     9.69,2,    17.60,2,     0.06,2,     1.53,2, -999.000,9, -999.000,9, -999.000,9,-999.0000,9,  -999.00,9,   -999.0,9,  -999.00,9,-999.000,9,   2175.5,2,   2371.2,2,  -999.0, -999.00,-999.0000,-999.000,-999.000
    316N145_10,  I07N,   850,  1,     33,     33,2,19950821,1030, 24.2738,  58.5418, 3209,   -999,    101.6,  20.9731,  36.2489,2,  36.2491,2,      7.9,2, 20.9538,     12.4,2,    16.33,2,    22.30,2,     0.02,2,     2.06,2,    1.318,2,    1.015,2,    0.680,2,   1.7220,2,     0.60,2,   -999.0,9,  -999.00,9,   7.056,2,   2225.5,2,   2362.0,2,  -999.0,    0.20,  0.0090,   0.141,   0.008
    316N145_10,  I07N,   850,  1,     32,     32,2,19950821,1030, 24.2738,  58.5418, 3209,   -999,    141.4,  19.1108,  36.3771,2,  36.3774,2,     11.2,2, 19.0855,     11.2,2,    21.40,2,    20.87,2,     0.01,2,     2.13,2,    0.990,2,    0.691,2, -999.000,9,-999.0000,9,  -999.00,9,   -999.0,9,  -999.00,9,-999.000,9,   2241.4,2,   2364.1,2,  -999.0, -999.00,-999.0000,-999.000,-999.000
    316N145_10,  I07N,   850,  1,     31,     31,2,19950821,1030, 24.2738,  58.5418, 3209,   -999,    183.1,  18.6620,  36.7226,2,  36.7448,2,     34.4,2, 18.6296,     24.5,2,    21.37,2,    19.43,2,     0.00,2,     1.99,2,    1.014,2,    0.980,2, -999.000,9,-999.0000,9,  -999.00,9,   -999.0,9,  -999.00,9,-999.000,9,   2241.7,2,   2384.2,2,  -999.0, -999.00,-999.0000,-999.000,-999.000
    316N145_10,  I07N,   850,  1,     30,     30,2,19950821,1030, 24.2738,  58.5418, 3209,   -999,    251.1,  16.0093,  36.2013,2,  36.1965,2,      1.3,2, 15.9693,      1.4,2,    29.24,2,    21.86,2,     0.01,2,     2.33,2,    0.568,2,    0.359,2,    0.412,2,   1.7620,2,     4.40,2,   -999.0,9,  -999.00,9,   7.212,2,   2267.0,2,   2350.2,3,  -999.0,    0.20,  0.0090,   0.144,   0.008
    316N145_10,  I07N,   850,  1,     29,     29,2,19950821,1030, 24.2738,  58.5418, 3209,   -999,    350.6,  14.0821,  35.9526,2,  35.9523,2,      1.5,2, 14.0307,      1.1,2,    36.23,2,    21.69,2,     1.17,2,     2.50,2, -999.000,9, -999.000,9, -999.000,9,-999.0000,9,  -999.00,9,   -999.0,9,  -999.00,9,-999.000,9,   2279.1,2,   2357.8,2,  -999.0, -999.00,-999.0000,-999.000,-999.000
    316N145_10,  I07N,   850,  1,     28,     28,2,19950821,1030, 24.2738,  58.5418, 3209,   -999,    449.9,  12.8790,  35.8028,2,  35.8039,2,      1.6,2, 12.8166,      1.6,2,    42.70,2,    24.78,2,     0.05,2,     2.60,2,    0.180,2,    0.115,2, -999.000,9,-999.0000,9,  -999.00,9,   -999.0,9,  -999.00,9,-999.000,9,   2280.9,2,   2353.9,2,  -999.0, -999.00,-999.0000,-999.000,-999.000
    316N145_10,  I07N,   850,  1,     27,     27,2,19950821,1030, 24.2738,  58.5418, 3209,   -999,    549.9,  11.9706,  35.6887,2,  35.6896,2,      1.7,2, 11.8976,      1.7,2,    48.80,2,    27.55,2,     0.00,2,     2.66,2,    0.103,2,    0.064,2,    0.145,2,   1.8240,2,     5.10,2,   -999.0,9,  -999.00,9,   7.555,2,   2294.8,2,   2358.6,2,  -999.0,    0.20,  0.0090,   0.151,   0.008
    316N145_10,  I07N,   850,  1,     26,     26,2,19950821,1030, 24.2738,  58.5418, 3209,   -999,    619.6,  11.4951,  35.6463,2,  35.6464,2,      1.8,2, 11.4147,      1.9,2,    52.98,2,    28.92,2,     0.00,2,     2.71,2,    0.069,2,    0.043,2, -999.000,9,-999.0000,9,  -999.00,9,   -999.0,9,  -999.00,9,-999.000,9,   2350.4,4,   2355.9,2,  -999.0, -999.00,-999.0000,-999.000,-999.000
    316N145_10,  I07N,   850,  1,     25,     25,2,19950821,1030, 24.2738,  58.5418, 3209,   -999,    746.3,  10.5512,  35.5657,2,  35.5645,2,      1.9,2, 10.4588,      1.9,2,    62.08,2,    31.56,2,     0.00,2,     2.80,2, -999.000,9, -999.000,9, -999.000,9,   1.8060,2,     7.00,2,   -999.0,9,  -999.00,9,   7.479,2,   2300.6,2,   2365.9,2,  -999.0,    0.20,  0.0090,   0.150,-999.000
    316N145_10,  I07N,   850,  1,     24,     24,2,19950821,1030, 24.2738,  58.5418, 3209,   -999,    847.0,   9.8529,  35.5053,2,  35.5073,2,      2.0,2,  9.7518,      1.9,2,    68.38,2,    33.51,2,     0.00,2,     2.86,2,    0.034,2,    0.022,2,    0.006,2,-999.0000,9,  -999.00,9,   -999.0,9,  -999.00,9,-999.000,9,   2308.4,2,   2364.7,2,  -999.0, -999.00,-999.0000,-999.000,   0.008
    316N145_10,  I07N,   850,  1,     23,     23,2,19950821,1030, 24.2738,  58.5418, 3209,   -999,    948.5,   9.1128,  35.4319,2,  35.4329,2,      2.2,2,  9.0041,      2.2,2,    75.21,2,    35.23,2,     0.00,2,     2.93,2, -999.000,9, -999.000,9, -999.000,9,-999.0000,9,  -999.00,9,   -999.0,9,  -999.00,9,-999.000,9,   2317.9,2,   2373.6,2,  -999.0, -999.00,-999.0000,-999.000,-999.000
    316N145_10,  I07N,   850,  1,     22,     22,2,19950821,1030, 24.2738,  58.5418, 3209,   -999,   1049.6,   8.4028,  35.3570,2,  35.3585,2,      2.7,2,  8.2874,      3.5,2,    81.89,2,    36.48,2,     0.00,2,     3.01,2,    0.011,2,    0.008,2, -999.000,9,-999.0000,9,  -999.00,9,   -999.0,9,  -999.00,9,-999.000,9,   2326.3,2,   2379.8,2,  -999.0, -999.00,-999.0000,-999.000,-999.000
    316N145_10,  I07N,   850,  1,     21,     21,2,19950821,1030, 24.2738,  58.5418, 3209,   -999,   1145.9,   7.8830,  35.3012,2,  35.3040,2,      5.2,2,  7.7606,      5.3,2,    86.46,2,    37.25,2,     0.00,2,     3.05,2, -999.000,9, -999.000,9, -999.000,9,   1.8420,2,    10.50,2,   -999.0,9,  -999.00,9,   7.711,2,   2331.6,2,   2378.1,2,  -999.0,    0.20,  0.0090,   0.154,-999.000
    316N145_10,  I07N,   850,  1,     20,     20,2,19950821,1030, 24.2738,  58.5418, 3209,   -999,   1247.6,   7.1442,  35.2240,2,  35.2257,2,     11.2,2,  7.0169,     11.4,2,    93.53,2,    37.93,2,     0.00,2,     3.07,2,    0.007,2,    0.005,2, -999.000,9,-999.0000,9,  -999.00,9,   -999.0,9,  -999.00,9,-999.000,9,   2339.0,2,   2389.9,2,  -999.0, -999.00,-999.0000,-999.000,-999.000
    316N145_10,  I07N,   850,  1,     19,     19,2,19950821,1030, 24.2738,  58.5418, 3209,   -999,   1348.6,   6.5452,  35.1621,2,  35.1653,2,     17.7,2,  6.4128,     17.7,2,    99.75,2,    38.23,2,     0.00,2,     3.10,2, -999.000,9, -999.000,9, -999.000,9,-999.0000,9,  -999.00,9,   -999.0,9,  -999.00,9,-999.000,9,   2344.3,2,   2391.0,2,  -999.0, -999.00,-999.0000,-999.000,-999.000
    316N145_10,  I07N,   850,  1,     18,     18,2,19950821,1030, 24.2738,  58.5418, 3209,   -999,   1448.8,   5.8362,  35.0915,2,  35.0940,2,     26.4,2,  5.7006,     26.9,2,   107.10,2,    38.38,2,     0.00,2,     3.07,2,    0.005,2,    0.006,2, -999.000,9,   1.8730,2,    12.70,2,   -999.0,9,  -999.00,9,   7.894,2,   2349.9,2,   2403.0,2,  -999.0,    0.20,  0.0090,   0.158,-999.000
    316N145_10,  I07N,   850,  1,     17,     17,2,19950821,1030, 24.2738,  58.5418, 3209,   -999,   1548.6,   5.1110,  35.0219,2,  35.0242,2,     38.1,2,  4.9735,     38.1,2,   114.87,2,    38.44,2,     0.00,2,     3.04,2, -999.000,9, -999.000,9, -999.000,9,-999.0000,9,  -999.00,9,   -999.0,9,  -999.00,9,-999.000,9,   2355.0,2,   2404.1,2,  -999.0, -999.00,-999.0000,-999.000,-999.000
    316N145_10,  I07N,   850,  1,     16,     16,2,19950821,1030, 24.2738,  58.5418, 3209,   -999,   1648.2,   4.5663,  34.9713,2,  34.9731,2,     49.0,2,  4.4256,     48.4,2,   120.52,2,    38.45,2,     0.00,2,     3.01,2,   -0.002,2,    0.001,2, -999.000,9,-999.0000,9,  -999.00,9,   -999.0,9,  -999.00,9,-999.000,9,   2356.2,2,   2414.1,2,  -999.0, -999.00,-999.0000,-999.000,-999.000
    316N145_10,  I07N,   850,  1,     15,     15,2,19950821,1030, 24.2738,  58.5418, 3209,   -999,   1750.0,   3.9974,  34.9198,2,  34.9218,2,     60.3,2,  3.8543,     59.7,2,   127.15,2,    38.21,2,     0.00,2,     2.95,2, -999.000,9, -999.000,9, -999.000,9,   1.8690,2,    12.70,2,   -999.0,9,  -999.00,9,   7.997,2,   2358.8,2,   2414.7,2,  -999.0,    0.20,  0.0090,   0.160,-999.000
    316N145_10,  I07N,   850,  1,     14,     14,2,19950821,1030, 24.2738,  58.5418, 3209,   -999,   1847.0,   3.5921,  34.8841,2,  34.8861,2,     68.9,2,  3.4454,     68.0,2,   131.41,2,    38.08,2,     0.00,2,     2.91,2, -999.000,9, -999.000,9, -999.000,9,-999.0000,9,  -999.00,9,   -999.0,9,  -999.00,9,-999.000,9,   2360.6,2,   2425.9,2,  -999.0, -999.00,-999.0000,-999.000,-999.000
    316N145_10,  I07N,   850,  1,     13,     13,2,19950821,1030, 24.2738,  58.5418, 3209,   -999,   1948.3,   3.2559,  34.8566,2,  34.8578,2,     77.4,2,  3.1046,     76.4,2,   134.95,2,    37.89,2,     0.00,2,     2.88,2, -999.000,9, -999.000,9, -999.000,9,   1.8910,2,    13.90,2,   -999.0,9,  -999.00,9,   8.108,2,   2361.8,2,   2430.8,2,  -999.0,    0.20,  0.0090,   0.162,-999.000
    316N145_10,  I07N,   850,  1,     12,     12,2,19950821,1030, 24.2738,  58.5418, 3209,   -999,   2050.6,   2.9925,  34.8351,2,  34.8356,2,     83.9,2,  2.8359,     83.0,2,   137.93,2,    37.70,2,     0.00,2,     2.84,2, -999.000,9, -999.000,9, -999.000,9,-999.0000,9,  -999.00,9,   -999.0,9,  -999.00,9,-999.000,9,   2360.9,2,   2435.3,2,  -999.0, -999.00,-999.0000,-999.000,-999.000
    316N145_10,  I07N,   850,  1,     11,     11,2,19950821,1030, 24.2738,  58.5418, 3209,   -999,   2148.3,   2.7626,  34.8163,2,  34.8181,2,     88.8,2,  2.6007,     88.6,2,   140.75,2,    37.47,2,     0.00,2,     2.80,2, -999.000,9, -999.000,9, -999.000,9,   1.8730,2,    14.30,2,   -999.0,9,  -999.00,9,   8.162,2,   2362.5,2,   2434.9,2,  -999.0,    0.20,  0.0090,   0.163,-999.000
    316N145_10,  I07N,   850,  1,     10,     10,2,19950821,1030, 24.2738,  58.5418, 3209,   -999,   2250.4,   2.5787,  34.8020,2,  34.8024,2,     94.4,2,  2.4105,     93.0,2,   143.19,2,    37.33,2,     0.00,2,     2.77,2, -999.000,9, -999.000,9, -999.000,9,   1.8820,2,    15.10,2,   -999.0,9,  -999.00,9,   8.291,2,   2363.1,2,   2444.4,2,  -999.0,    0.20,  0.0090,   0.166,-999.000
    316N145_10,  I07N,   850,  1,      9,      9,2,19950821,1030, 24.2738,  58.5418, 3209,   -999,   2352.5,   2.3973,  34.7886,2,  34.7885,2,     98.9,2,  2.2229,     98.3,2,   145.46,2,    37.15,2,     0.00,2,     2.75,2,    0.000,2,    0.004,2, -999.000,9,   1.9130,2,    14.00,2,   -999.0,9,  -999.00,9,   8.296,2,   2364.0,2,   2444.5,2,  -999.0,    0.20,  0.0100,   0.166,-999.000
    316N145_10,  I07N,   850,  1,      8,      8,2,19950821,1030, 24.2738,  58.5418, 3209,   -999,   2453.9,   2.2645,  34.7786,2,  34.7785,2,    101.9,2,  2.0832,    101.0,2,   147.15,2,    37.01,2,     0.00,2,     2.73,2, -999.000,9, -999.000,9, -999.000,9,   1.8960,2,    13.60,2,   -999.0,9,  -999.00,9,   8.371,2,   2366.6,2,   2450.5,2,  -999.0,    0.20,  0.0090,   0.167,-999.000
    316N145_10,  I07N,   850,  1,      7,      7,2,19950821,1030, 24.2738,  58.5418, 3209,   -999,   2549.7,   2.1656,  34.7712,2,  34.7714,2,    103.9,2,  1.9772,    103.7,2,   148.85,2,    36.92,2,     0.00,2,     2.73,2,    0.006,2,    0.011,2, -999.000,9,   1.9090,2,    13.10,2,   -999.0,9,  -999.00,9,   8.313,2,   2366.9,2,   2449.0,2,  -999.0,    0.20,  0.0100,   0.166,-999.000
    316N145_10,  I07N,   850,  1,      6,      6,2,19950821,1030, 24.2738,  58.5418, 3209,   -999,   2658.4,   2.0773,  34.7640,2,  34.7633,2,    106.6,2,  1.8805,    106.1,2,   149.56,2,    36.83,2,     0.00,2,     2.71,2, -999.000,9, -999.000,9, -999.000,9,   1.9090,2,    13.50,2,   -999.0,9,  -999.00,9,   8.389,2,   2367.5,2,   2455.7,2,  -999.0,    0.20,  0.0100,   0.168,-999.000
    316N145_10,  I07N,   850,  1,      5,      5,2,19950821,1030, 24.2738,  58.5418, 3209,   -999,   2756.2,   1.9715,  34.7570,2,  34.7559,2,    109.2,2,  1.7676,    108.7,2,   151.27,2,    36.74,2,     0.00,2,     2.69,2,    0.004,2,    0.013,2, -999.000,9,   1.9000,2,    12.90,2,   -999.0,9,  -999.00,9,   8.376,2,   2369.7,2,   2455.4,2,  -999.0,    0.20,  0.0090,   0.168,-999.000
    316N145_10,  I07N,   850,  1,      4,      4,2,19950821,1030, 24.2738,  58.5418, 3209,   -999,   2946.3,   1.8825,  34.7499,2,  34.7498,2,    110.6,2,  1.6623,    110.4,2,   153.19,2,    36.60,2,     0.00,2,     2.68,2, -999.000,9, -999.000,9, -999.000,9,   1.9180,2,    11.90,2,   -999.0,9,  -999.00,9,   8.465,2,   2372.6,2,   2463.4,2,  -999.0,    0.20,  0.0100,   0.169,-999.000
    316N145_10,  I07N,   850,  1,      3,      3,2,19950821,1030, 24.2738,  58.5418, 3209,   -999,   3145.7,   1.8216,  34.7451,2,  34.7455,2,    108.6,2,  1.5832,    108.1,2,   156.11,2,    36.46,2,     0.00,2,     2.70,2,    0.019,2,    0.057,2, -999.000,9,   1.9040,2,    12.20,2,   -999.0,9,  -999.00,9,   8.447,2,   2380.5,2,   2467.5,2,  -999.0,    0.20,  0.0100,   0.169,-999.000
    316N145_10,  I07N,   850,  1,      2,      2,2,19950821,1030, 24.2738,  58.5418, 3209,   -999,   3219.4,   1.8125,  34.7441,2,  34.7439,2,    107.4,2,  1.5670,    107.2,2,   156.84,2,    36.27,2,     0.00,2,     2.71,2, -999.000,9, -999.000,9, -999.000,9,-999.0000,9,  -999.00,9,   -999.0,9,  -999.00,9,-999.000,9,   2383.1,2,   2469.1,2,  -999.0, -999.00,-999.0000,-999.000,-999.000
    316N145_10,  I07N,   850,  1,      1,      1,2,19950821,1030, 24.2738,  58.5418, 3209,   -999,   3253.7,   1.8032,  34.7432,2,  34.7437,2,    102.3,2,  1.5545,    104.6,2,   158.18,2,    36.28,2,     0.00,2,     2.72,2,    0.026,2,    0.088,2, -999.000,9,   1.8910,2,    10.90,2,   -999.0,9,  -999.00,9,   8.389,2,   2387.7,2,   2476.3,2,  -999.0,    0.20,  0.0090,   0.168,-999.000