BOTTLE,20080821WHPSIOSCD
EXPOCODE,SECT_ID,STNNBR,CASTNO,SAMPNO,BTLNBR,BTLNBR_FLAG_W,DATE,TIME,LATITUDE,LONGITUDE,DEPTH,CTDRAW,CTDPRS,CTDTMP,CTDSAL,CTDSAL_FLAG_W,SALNTY,SALNTY_FLAG_W,CTDOXY,CTDOXY_FLAG_W,THETA,OXYGEN,OXYGEN_FLAG_W,SILCAT,SILCAT_FLAG_W,NITRAT,NITRAT_FLAG_W,NITRIT,NITRIT_FLAG_W,PHSPHT,PHSPHT_FLAG_W,CFC-11,CFC-11_FLAG_W,CFC-12,CFC-12_FLAG_W,TRITUM,TRITUM_FLAG_W,HELIUM,HELIUM_FLAG_W,DELHE3,DELHE3_FLAG_W,DELC14,DELC14_FLAG_W,DELC13,DELC13_FLAG_W,NEON,NEON_FLAG_W,TCARBN,TCARBN_FLAG_W,ALKALI,ALKALI_FLAG_W,C14ERR,DELHER,HELIER,NEONER,TRITER
,,,,,,,,,,,,,DBAR,ITS-90,PSS-78,,PSS-78,,UMOL/KG,,DEG C,UMOL/KG,,UMOL/KG,,UMOL/KG,,UMOL/KG,,UMOL/KG,,PMOL/KG,,PMOL/KG,,TU,,NMOL/KG,,PERCNT,,/MILLE,,/MILLE,,NMOL/KG,,UMOL/KG,,UMOL/KG,,/MILLE,PERCNT,NMOL/KG,NMOL/KG,TU
    316N145_10,  I07N,   751,  1,     36,     36,2,19950727,0118, -2.9960,  56.1943, 4214,   -999,      7.8,  26.4872,  35.2368,2,  35.2397,2,    203.1,2, 26.4857,    203.5,2,     3.75,2,     0.33,2,     0.00,2,     0.21,2,    1.704,2,    0.946,2, -999.000,9,-999.0000,9,  -999.00,9,   -999.0,9,  -999.00,9,-999.000,9,   1976.0,2,   2309.4,2,  -999.0, -999.00,-999.0000,-999.000,-999.000
    316N145_10,  I07N,   751,  1,     35,     35,2,19950727,0118, -2.9960,  56.1943, 4214,   -999,     30.4,  26.3936,  35.2331,2,  35.2316,2,    202.7,2, 26.3869,    203.0,2,     3.74,2,     0.28,2,     0.00,2,     0.21,2, -999.000,9, -999.000,9, -999.000,9,-999.0000,9,  -999.00,9,   -999.0,9,  -999.00,9,-999.000,9,   -999.9,9,   -999.9,9,  -999.0, -999.00,-999.0000,-999.000,-999.000
    316N145_10,  I07N,   751,  1,     34,     34,2,19950727,0118, -2.9960,  56.1943, 4214,   -999,     54.8,  25.9655,  35.2157,2,  35.2135,2,    201.2,2, 25.9536,    200.4,2,     3.90,2,     0.72,2,     0.03,2,     0.25,2,    1.700,2,    0.944,2, -999.000,9,-999.0000,9,  -999.00,9,   -999.0,9,  -999.00,9,-999.000,9,   -999.9,9,   -999.9,9,  -999.0, -999.00,-999.0000,-999.000,-999.000
    316N145_10,  I07N,   751,  1,     33,     33,2,19950727,0118, -2.9960,  56.1943, 4214,   -999,     80.7,  23.0823,  35.1817,2,  35.1804,2,    176.1,2, 23.0660,    168.9,2,     6.87,2,     5.61,2,     0.50,2,     0.56,2, -999.000,9, -999.000,9, -999.000,9,-999.0000,9,  -999.00,9,   -999.0,9,  -999.00,9,-999.000,9,   -999.9,9,   -999.9,9,  -999.0, -999.00,-999.0000,-999.000,-999.000
    316N145_10,  I07N,   751,  1,     32,     32,2,19950727,0118, -2.9960,  56.1943, 4214,   -999,    100.2,  22.0374,  35.1804,2,  35.1832,2,    151.8,2, 22.0178,    146.0,2,     8.26,2,     8.88,2,     0.20,2,     0.73,2,    1.631,2,    0.899,2, -999.000,9,-999.0000,9,  -999.00,9,   -999.0,9,  -999.00,9,-999.000,9,   -999.9,9,   -999.9,9,  -999.0, -999.00,-999.0000,-999.000,-999.000
    316N145_10,  I07N,   751,  1,     31,     31,2,19950727,0118, -2.9960,  56.1943, 4214,   -999,    125.5,  20.2792,  35.2031,2,  35.2054,2,    129.1,2, 20.2559,    123.8,2,    11.24,2,    12.81,2,     0.02,2,     0.96,2, -999.000,9, -999.000,9, -999.000,9,-999.0000,9,  -999.00,9,   -999.0,9,  -999.00,9,-999.000,9,   -999.9,9,   -999.9,9,  -999.0, -999.00,-999.0000,-999.000,-999.000
    316N145_10,  I07N,   751,  1,     30,     30,2,19950727,0118, -2.9960,  56.1943, 4214,   -999,    150.3,  16.7651,  35.2370,2,  35.2351,2,    109.5,2, 16.7407,    110.2,2,    14.56,2,    17.13,2,     0.01,2,     1.23,2,    1.443,2,    0.750,2, -999.000,9,-999.0000,9,  -999.00,9,   -999.0,9,  -999.00,9,-999.000,9,   -999.9,9,   -999.9,9,  -999.0, -999.00,-999.0000,-999.000,-999.000
    316N145_10,  I07N,   751,  1,     29,     29,2,19950727,0118, -2.9960,  56.1943, 4214,   -999,    180.7,  15.6936,  35.2076,2,  35.2113,2,    110.7,2, 15.6655,     99.9,2,    16.12,2,    19.18,2,     0.00,2,     1.38,2, -999.000,9, -999.000,9, -999.000,9,-999.0000,9,  -999.00,9,   -999.0,9,  -999.00,9,-999.000,9,   -999.9,9,   -999.9,9,  -999.0, -999.00,-999.0000,-999.000,-999.000
    316N145_10,  I07N,   751,  1,     28,     28,2,19950727,0118, -2.9960,  56.1943, 4214,   -999,    210.1,  14.6053,  35.1762,2,  35.1741,2,    118.0,2, 14.5742,    120.5,2,    15.93,2,    18.12,2,     0.00,2,     1.30,2,    1.427,2,    0.729,2, -999.000,9,-999.0000,9,  -999.00,9,   -999.0,9,  -999.00,9,-999.000,9,   -999.9,9,   -999.9,9,  -999.0, -999.00,-999.0000,-999.000,-999.000
    316N145_10,  I07N,   751,  1,     27,     27,2,19950727,0118, -2.9960,  56.1943, 4214,   -999,    250.0,  13.6004,  35.1451,2,  35.1423,2,    125.7,2, 13.5650,    128.4,2,    16.10,2,    18.54,2,     0.00,2,     1.33,2,    1.400,2,    0.719,2, -999.000,9,-999.0000,9,  -999.00,9,   -999.0,9,  -999.00,9,-999.000,9,   -999.9,9,   -999.9,9,  -999.0, -999.00,-999.0000,-999.000,-999.000
    316N145_10,  I07N,   751,  1,     26,     26,2,19950727,0118, -2.9960,  56.1943, 4214,   -999,    299.9,  12.7091,  35.0941,2,  35.0882,2,    135.3,2, 12.6684,    137.9,2,    16.26,2,    18.92,2,     0.00,2,     1.36,2,    1.370,2,    0.700,2, -999.000,9,-999.0000,9,  -999.00,9,   -999.0,9,  -999.00,9,-999.000,9,   -999.9,9,   -999.9,9,  -999.0, -999.00,-999.0000,-999.000,-999.000
    316N145_10,  I07N,   751,  1,     25,     25,2,19950727,0118, -2.9960,  56.1943, 4214,   -999,    334.5,  11.5698,  35.0106,2,  35.0021,2,    137.8,2, 11.5271,    139.5,2,    18.53,2,    20.73,2,     0.00,2,     1.47,2, -999.000,9, -999.000,9, -999.000,9,-999.0000,9,  -999.00,9,   -999.0,9,  -999.00,9,-999.000,9,   -999.9,9,   -999.9,9,  -999.0, -999.00,-999.0000,-999.000,-999.000
    316N145_10,  I07N,   751,  1,     24,     24,2,19950727,0118, -2.9960,  56.1943, 4214,   -999,    365.4,  10.4021,  34.9221,2,  34.9259,2,    127.7,2, 10.3585,    126.1,2,    23.61,2,    24.08,2,     0.00,2,     1.70,2,    0.837,2,    0.435,2, -999.000,9,-999.0000,9,  -999.00,9,   -999.0,9,  -999.00,9,-999.000,9,   -999.9,9,   -999.9,9,  -999.0, -999.00,-999.0000,-999.000,-999.000
    316N145_10,  I07N,   751,  1,     23,     23,2,19950727,0118, -2.9960,  56.1943, 4214,   -999,    450.0,   9.2828,  34.8801,2,  34.8799,2,    102.0,2,  9.2325,    104.0,2,    34.13,2,    28.52,2,     0.00,2,     2.04,2,    0.394,2,    0.204,2, -999.000,9,-999.0000,9,  -999.00,9,   -999.0,9,  -999.00,9,-999.000,9,   -999.9,9,   -999.9,9,  -999.0, -999.00,-999.0000,-999.000,-999.000
    316N145_10,  I07N,   751,  1,     22,     22,2,19950727,0118, -2.9960,  56.1943, 4214,   -999,    549.3,   8.7272,  34.8776,2,  34.8779,2,     89.9,2,  8.6676,     90.5,2,    43.08,2,    30.77,2,     0.00,2,     2.24,2,    0.215,2,    0.119,2, -999.000,9,-999.0000,9,  -999.00,9,   -999.0,9,  -999.00,9,-999.000,9,   -999.9,9,   -999.9,9,  -999.0, -999.00,-999.0000,-999.000,-999.000
    316N145_10,  I07N,   751,  1,     21,     21,2,19950727,0118, -2.9960,  56.1943, 4214,   -999,    629.6,   8.4095,  34.9234,2,  34.9241,2,     83.2,2,  8.3423,     77.1,2,    51.14,2,    32.33,2,     0.00,2,     2.40,2,    0.140,2,    0.074,2, -999.000,9,-999.0000,9,  -999.00,9,   -999.0,9,  -999.00,9,-999.000,9,   -999.9,9,   -999.9,9,  -999.0, -999.00,-999.0000,-999.000,-999.000
    316N145_10,  I07N,   751,  1,     20,     20,2,19950727,0118, -2.9960,  56.1943, 4214,   -999,    749.5,   8.2037,  35.0100,2,  35.0101,2,     56.3,2,  8.1241,     56.6,2,    60.80,2,    34.17,2,     0.00,2,     2.58,2,    0.057,2,    0.038,2, -999.000,9,-999.0000,9,  -999.00,9,   -999.0,9,  -999.00,9,-999.000,9,   -999.9,9,   -999.9,9,  -999.0, -999.00,-999.0000,-999.000,-999.000
    316N145_10,  I07N,   751,  1,     19,     19,2,19950727,0118, -2.9960,  56.1943, 4214,   -999,    829.6,   7.7706,  34.9758,2,  34.9732,2,     57.4,2,  7.6848,     59.3,2,    65.36,2,    34.60,2,     0.00,2,     2.61,2,    0.042,2,    0.022,2, -999.000,9,-999.0000,9,  -999.00,9,   -999.0,9,  -999.00,9,-999.000,9,   -999.9,9,   -999.9,9,  -999.0, -999.00,-999.0000,-999.000,-999.000
    316N145_10,  I07N,   751,  1,     18,     18,2,19950727,0118, -2.9960,  56.1943, 4214,   -999,    899.5,   6.7308,  34.8541,2,  34.8534,2,     72.0,2,  6.6444,     73.0,2,    73.99,2,    35.13,2,     0.00,2,     2.61,2,    0.028,2,    0.021,2, -999.000,9,-999.0000,9,  -999.00,9,   -999.0,9,  -999.00,9,-999.000,9,   -999.9,9,   -999.9,9,  -999.0, -999.00,-999.0000,-999.000,-999.000
    316N145_10,  I07N,   751,  1,     17,     17,2,19950727,0118, -2.9960,  56.1943, 4214,   -999,    999.4,   6.6117,  34.9247,2,  34.9258,2,     62.6,2,  6.5158,     63.4,2,    79.27,2,    35.85,2,     0.00,2,     2.70,2,    0.015,2,    0.015,2, -999.000,9,-999.0000,9,  -999.00,9,   -999.0,9,  -999.00,9,-999.000,9,   -999.9,9,   -999.9,9,  -999.0, -999.00,-999.0000,-999.000,-999.000
    316N145_10,  I07N,   751,  1,     16,     16,2,19950727,0118, -2.9960,  56.1943, 4214,   -999,   1148.1,   5.7166,  34.8761,2,  34.8765,2,     73.0,2,  5.6130,     73.2,2,    89.01,2,    36.23,2,     0.00,2,     2.72,2, -999.000,9, -999.000,9, -999.000,9,-999.0000,9,  -999.00,9,   -999.0,9,  -999.00,9,-999.000,9,   -999.9,9,   -999.9,9,  -999.0, -999.00,-999.0000,-999.000,-999.000
    316N145_10,  I07N,   751,  1,     15,     15,2,19950727,0118, -2.9960,  56.1943, 4214,   -999,   1298.9,   5.0375,  34.8314,2,  34.8296,2,     87.0,2,  4.9256,     84.8,2,    95.04,2,    36.15,2,     0.00,2,     2.70,2,    0.002,2,   -0.001,2, -999.000,9,-999.0000,9,  -999.00,9,   -999.0,9,  -999.00,9,-999.000,9,   -999.9,9,   -999.9,9,  -999.0, -999.00,-999.0000,-999.000,-999.000
    316N145_10,  I07N,   751,  1,     14,     14,2,19950727,0118, -2.9960,  56.1943, 4214,   -999,   1521.3,   3.8520,  34.7701,2,  34.7707,2,    111.8,2,  3.7321,    110.4,2,   104.33,2,    35.63,2,     0.00,2,     2.62,2,   -0.001,2,    0.002,2, -999.000,9,-999.0000,9,  -999.00,9,   -999.0,9,  -999.00,9,-999.000,9,   -999.9,9,   -999.9,9,  -999.0, -999.00,-999.0000,-999.000,-999.000
    316N145_10,  I07N,   751,  1,     13,     13,2,19950727,0118, -2.9960,  56.1943, 4214,   -999,   1749.3,   3.1974,  34.7710,2,  34.7715,2,    124.1,2,  3.0652,    123.4,2,   111.51,2,    35.26,2,     0.00,2,     2.57,2,   -0.001,2,   -0.002,2, -999.000,9,-999.0000,9,  -999.00,9,   -999.0,9,  -999.00,9,-999.000,9,   -999.9,9,   -999.9,9,  -999.0, -999.00,-999.0000,-999.000,-999.000
    316N145_10,  I07N,   751,  1,     12,     12,2,19950727,0118, -2.9960,  56.1943, 4214,   -999,   1972.9,   2.7128,  34.7646,2,  34.7648,2,    133.1,2,  2.5676,    134.5,2,   117.65,2,    34.89,2,     0.00,2,     2.53,2, -999.000,9, -999.000,9, -999.000,9,-999.0000,9,  -999.00,9,   -999.0,9,  -999.00,9,-999.000,9,   -999.9,9,   -999.9,9,  -999.0, -999.00,-999.0000,-999.000,-999.000
    316N145_10,  I07N,   751,  1,     11,     11,2,19950727,0118, -2.9960,  56.1943, 4214,   -999,   2201.4,   2.3703,  34.7544,2,  34.7538,2,    143.8,2,  2.2102,    144.4,2,   120.36,2,    34.28,2,     0.00,2,     2.48,2, -999.000,9, -999.000,9, -999.000,9,-999.0000,9,  -999.00,9,   -999.0,9,  -999.00,9,-999.000,9,   -999.9,9,   -999.9,9,  -999.0, -999.00,-999.0000,-999.000,-999.000
    316N145_10,  I07N,   751,  1,     10,     10,2,19950727,0118, -2.9960,  56.1943, 4214,   -999,   2424.7,   2.0810,  34.7406,2,  34.7385,2,    156.3,2,  1.9058,    156.8,2,   120.71,2,    33.95,2,     0.00,2,     2.42,2, -999.000,9, -999.000,9, -999.000,9,-999.0000,9,  -999.00,9,   -999.0,9,  -999.00,9,-999.000,9,   -999.9,9,   -999.9,9,  -999.0, -999.00,-999.0000,-999.000,-999.000
    316N145_10,  I07N,   751,  1,      9,      9,2,19950727,0118, -2.9960,  56.1943, 4214,   -999,   2595.9,   1.8771,  34.7327,2,  34.7330,2,    163.2,2,  1.6901,    164.0,2,   122.15,2,    33.63,2,     0.00,2,     2.39,2, -999.000,9, -999.000,9, -999.000,9,-999.0000,9,  -999.00,9,   -999.0,9,  -999.00,9,-999.000,9,   -999.9,9,   -999.9,9,  -999.0, -999.00,-999.0000,-999.000,-999.000
    316N145_10,  I07N,   751,  1,      8,      8,2,19950727,0118, -2.9960,  56.1943, 4214,   -999,   2824.7,   1.7527,  34.7294,2,  34.7281,2,    168.3,2,  1.5469,    169.4,2,   122.86,2,    33.40,2,     0.00,2,     2.36,2, -999.000,9, -999.000,9, -999.000,9,-999.0000,9,  -999.00,9,   -999.0,9,  -999.00,9,-999.000,9,   -999.9,9,   -999.9,9,  -999.0, -999.00,-999.0000,-999.000,-999.000
    316N145_10,  I07N,   751,  1,      7,      7,2,19950727,0118, -2.9960,  56.1943, 4214,   -999,   3047.9,   1.6727,  34.7278,2,  34.7257,2,    171.2,2,  1.4473,    171.8,2,   125.03,2,    33.31,2,     0.00,2,     2.36,2, -999.000,9, -999.000,9, -999.000,9,-999.0000,9,  -999.00,9,   -999.0,9,  -999.00,9,-999.000,9,   -999.9,9,   -999.9,9,  -999.0, -999.00,-999.0000,-999.000,-999.000
    316N145_10,  I07N,   751,  1,      6,      6,2,19950727,0118, -2.9960,  56.1943, 4214,   -999,   3270.8,   1.6298,  34.7277,2,  34.7259,2,    171.5,2,  1.3835,    171.6,2,   127.40,2,    33.51,2,     0.00,2,     2.36,2, -999.000,9, -999.000,9, -999.000,9,-999.0000,9,  -999.00,9,   -999.0,9,  -999.00,9,-999.000,9,   -999.9,9,   -999.9,9,  -999.0, -999.00,-999.0000,-999.000,-999.000
    316N145_10,  I07N,   751,  1,      5,      5,2,19950727,0118, -2.9960,  56.1943, 4214,   -999,   3504.1,   1.5785,  34.7259,2,  34.7265,2,    171.0,2,  1.3098,    171.2,2,   130.15,2,    33.66,2,     0.00,2,     2.37,2, -999.000,9, -999.000,9, -999.000,9,-999.0000,9,  -999.00,9,   -999.0,9,  -999.00,9,-999.000,9,   -999.9,9,   -999.9,9,  -999.0, -999.00,-999.0000,-999.000,-999.000
    316N145_10,  I07N,   751,  1,      4,      4,2,19950727,0118, -2.9960,  56.1943, 4214,   -999,   3723.0,   1.5062,  34.7251,2,  34.7241,2,    172.5,2,  1.2166,    173.2,2,   131.60,2,    33.62,2,     0.00,2,     2.38,2, -999.000,9, -999.000,9, -999.000,9,-999.0000,9,  -999.00,9,   -999.0,9,  -999.00,9,-999.000,9,   -999.9,9,   -999.9,9,  -999.0, -999.00,-999.0000,-999.000,-999.000
    316N145_10,  I07N,   751,  1,      3,      3,2,19950727,0118, -2.9960,  56.1943, 4214,   -999,   3947.8,   1.4824,  34.7238,2,  34.7231,2,    174.8,2,  1.1695,    174.6,2,   131.95,2,    33.48,2,     0.00,2,     2.37,2, -999.000,9, -999.000,9, -999.000,9,-999.0000,9,  -999.00,9,   -999.0,9,  -999.00,9,-999.000,9,   -999.9,9,   -999.9,9,  -999.0, -999.00,-999.0000,-999.000,-999.000
    316N145_10,  I07N,   751,  1,      2,      2,2,19950727,0118, -2.9960,  56.1943, 4214,   -999,   4176.4,   1.4498,  34.7237,2,  34.7219,2,    177.1,2,  1.1129,    177.0,2,   131.93,2,    33.44,2,     0.00,2,     2.36,2, -999.000,9, -999.000,9, -999.000,9,-999.0000,9,  -999.00,9,   -999.0,9,  -999.00,9,-999.000,9,   -999.9,9,   -999.9,9,  -999.0, -999.00,-999.0000,-999.000,-999.000
    316N145_10,  I07N,   751,  1,      1,      1,2,19950727,0118, -2.9960,  56.1943, 4214,   -999,   4268.8,   1.4330,  34.7228,2,  34.7210,2,    178.8,2,  1.0863,    177.9,2,   132.10,2,    33.40,2,     0.00,2,     2.35,2, -999.000,9, -999.000,9, -999.000,9,-999.0000,9,  -999.00,9,   -999.0,9,  -999.00,9,-999.000,9,   -999.9,9,   -999.9,9,  -999.0, -999.00,-999.0000,-999.000,-999.000