BOTTLE,20080821WHPSIOSCD
EXPOCODE,SECT_ID,STNNBR,CASTNO,SAMPNO,BTLNBR,BTLNBR_FLAG_W,DATE,TIME,LATITUDE,LONGITUDE,DEPTH,CTDRAW,CTDPRS,CTDTMP,CTDSAL,CTDSAL_FLAG_W,SALNTY,SALNTY_FLAG_W,CTDOXY,CTDOXY_FLAG_W,THETA,OXYGEN,OXYGEN_FLAG_W,SILCAT,SILCAT_FLAG_W,NITRAT,NITRAT_FLAG_W,NITRIT,NITRIT_FLAG_W,PHSPHT,PHSPHT_FLAG_W,CFC-11,CFC-11_FLAG_W,CFC-12,CFC-12_FLAG_W,TRITUM,TRITUM_FLAG_W,HELIUM,HELIUM_FLAG_W,DELHE3,DELHE3_FLAG_W,DELC14,DELC14_FLAG_W,DELC13,DELC13_FLAG_W,NEON,NEON_FLAG_W,TCARBN,TCARBN_FLAG_W,ALKALI,ALKALI_FLAG_W,C14ERR,DELHER,HELIER,NEONER,TRITER
,,,,,,,,,,,,,DBAR,ITS-90,PSS-78,,PSS-78,,UMOL/KG,,DEG C,UMOL/KG,,UMOL/KG,,UMOL/KG,,UMOL/KG,,UMOL/KG,,PMOL/KG,,PMOL/KG,,TU,,NMOL/KG,,PERCNT,,/MILLE,,/MILLE,,NMOL/KG,,UMOL/KG,,UMOL/KG,,/MILLE,PERCNT,NMOL/KG,NMOL/KG,TU
    316N145_10,  I07N,   710,  1,     36,     36,2,19950716,0645,-18.0208,  55.0017, 4608,   -999,      4.6,  24.8902,  34.9385,2,  34.9391,2,    205.1,2, 24.8894,    208.1,2,     3.52,2,     0.05,2,     0.00,2,     0.14,2,    1.801,2,    1.045,2, -999.000,9,   1.6640,2,    -1.10,2,   -999.0,9,  -999.00,9,   6.815,2,   1944.0,2,   2625.9,4,  -999.0,    0.20,  0.0080,   0.136,-999.000
    316N145_10,  I07N,   710,  1,     35,     35,2,19950716,0645,-18.0208,  55.0017, 4608,   -999,     28.9,  24.8900,  34.9384,2,  34.9385,2,    194.4,2, 24.8840,    208.1,2,     3.49,2,     0.05,2,     0.00,2,     0.14,2,    1.828,2,    1.050,2,    0.846,2,-999.0000,9,  -999.00,9,   -999.0,9,  -999.00,9,-999.000,9,   -999.9,9,   -999.9,9,  -999.0, -999.00,-999.0000,-999.000,   0.008
    316N145_10,  I07N,   710,  1,     34,     34,2,19950716,0645,-18.0208,  55.0017, 4608,   -999,     59.5,  24.8861,  34.9380,2,  34.9381,2,    209.3,2, 24.8735,    208.0,2,     3.47,2,     0.05,2,     0.00,2,     0.14,2,    1.810,2,    1.046,2,    0.782,2,   1.7300,2,    -0.40,2,   -999.0,9,  -999.00,9,   7.181,2,   -999.9,9,   -999.9,9,  -999.0,    0.20,  0.0090,   0.144,   0.008
    316N145_10,  I07N,   710,  1,     33,     33,2,19950716,0645,-18.0208,  55.0017, 4608,   -999,     89.8,  24.6395,  35.0228,2,  34.9988,2,    212.5,2, 24.6204,    207.3,2,     3.45,2,     0.05,2,     0.01,2,     0.14,2,    1.842,2,    1.061,2, -999.000,9,-999.0000,9,  -999.00,9,   -999.0,9,  -999.00,9,-999.000,9,   -999.9,9,   -999.9,9,  -999.0, -999.00,-999.0000,-999.000,-999.000
    316N145_10,  I07N,   710,  1,     32,     32,2,19950716,0645,-18.0208,  55.0017, 4608,   -999,    119.6,  22.4123,  35.2734,2,  35.2733,2,    195.7,2, 22.3886,    192.6,2,     4.31,2,     1.51,2,     0.25,2,     0.28,2,    1.934,2,    1.095,2, -999.000,9,-999.0000,9,  -999.00,9,   -999.0,9,  -999.00,9,-999.000,9,   -999.9,9,   -999.9,9,  -999.0, -999.00,-999.0000,-999.000,-999.000
    316N145_10,  I07N,   710,  1,     31,     31,2,19950716,0645,-18.0208,  55.0017, 4608,   -999,    150.6,  21.7308,  35.3939,2,  35.3756,2,    192.3,2, 21.7015,    192.7,2,     4.28,2,     1.73,2,     0.13,2,     0.28,2,    2.018,2,    1.135,2,    0.762,2,-999.0000,9,  -999.00,9,   -999.0,9,  -999.00,9,-999.000,9,   -999.9,9,   -999.9,9,  -999.0, -999.00,-999.0000,-999.000,   0.008
    316N145_10,  I07N,   710,  1,     30,     30,2,19950716,0645,-18.0208,  55.0017, 4608,   -999,    199.4,  20.1634,  35.5665,2,  35.5658,2,    190.1,2, 20.1264,    187.3,2,     4.79,2,     3.18,2,     0.02,2,     0.34,2,    2.077,2,    1.147,2, -999.000,9,-999.0000,9,  -999.00,9,   -999.0,9,  -999.00,9,-999.000,9,   -999.9,9,   -999.9,9,  -999.0, -999.00,-999.0000,-999.000,-999.000
    316N145_10,  I07N,   710,  1,     29,     29,2,19950716,0645,-18.0208,  55.0017, 4608,   -999,    249.0,  18.1287,  35.5445,2,  35.5461,2,    167.5,2, 18.0857,    174.1,2,     7.57,2,     6.38,2,     0.01,2,     0.56,2,    2.033,2,    1.098,2, -999.000,9,-999.0000,9,  -999.00,9,   -999.0,9,  -999.00,9,-999.000,9,   -999.9,9,   -999.9,9,  -999.0, -999.00,-999.0000,-999.000,-999.000
    316N145_10,  I07N,   710,  1,     28,     28,2,19950716,0645,-18.0208,  55.0017, 4608,   -999,    299.4,  15.6471,  35.4374,2,  35.4354,2,    177.2,2, 15.6003,    181.2,2,     8.78,2,     8.54,2,     0.01,2,     0.71,2,    2.091,2,    1.099,2,    0.681,2,   1.7800,2,     3.80,2,   -999.0,9,  -999.00,9,   7.305,2,   -999.9,9,   -999.9,9,  -999.0,    0.20,  0.0090,   0.146,   0.008
    316N145_10,  I07N,   710,  1,     27,     27,2,19950716,0645,-18.0208,  55.0017, 4608,   -999,    402.4,  12.3607,  35.1168,2,  35.1177,2,    197.1,2, 12.3068,    207.4,2,     7.71,2,    11.47,2,     0.00,2,     0.88,2,    2.313,2,    1.198,2, -999.000,9,-999.0000,9,  -999.00,9,   -999.0,9,  -999.00,9,-999.000,9,   -999.9,9,   -999.9,9,  -999.0, -999.00,-999.0000,-999.000,-999.000
    316N145_10,  I07N,   710,  1,     26,     26,2,19950716,0645,-18.0208,  55.0017, 4608,   -999,    547.0,   9.4070,  34.7370,2,  34.7380,2,    208.5,2,  9.3451,    206.5,2,    11.90,2,    18.26,2,     0.00,2,     1.30,2,    1.669,2,    0.846,2,    0.346,2,   1.8420,2,     4.90,2,   -999.0,9,  -999.00,9,   7.591,2,   -999.9,9,   -999.9,9,  -999.0,    0.20,  0.0090,   0.152,   0.008
    316N145_10,  I07N,   710,  1,     25,     25,2,19950716,0645,-18.0208,  55.0017, 4608,   -999,    598.5,   8.5191,  34.6601,2,  34.6642,2,    194.0,2,  8.4551,    194.0,2,    17.84,2,    21.59,2,     0.00,2,     1.51,2,    1.074,3,    0.587,3, -999.000,9,-999.0000,9,  -999.00,9,   -999.0,9,  -999.00,9,-999.000,9,   -999.9,9,   -999.9,9,  -999.0, -999.00,-999.0000,-999.000,-999.000
    316N145_10,  I07N,   710,  1,     24,     24,2,19950716,0645,-18.0208,  55.0017, 4608,   -999,    697.2,   7.1658,  34.6061,2,  34.6087,2,    166.1,2,  7.0979,    162.4,2,    35.54,2,    27.20,2,     0.00,2,     1.92,2,    0.512,2,    0.261,2,    0.179,2,   1.8600,2,     6.70,2,   -999.0,9,  -999.00,9,   7.734,2,   -999.9,9,   -999.9,9,  -999.0,    0.20,  0.0090,   0.155,   0.008
    316N145_10,  I07N,   710,  1,     23,     23,2,19950716,0645,-18.0208,  55.0017, 4608,   -999,    810.2,   5.7748,  34.5749,2,  34.5747,2,    146.8,2,  5.7036,    144.3,2,    54.50,2,    31.29,2,     0.00,2,     2.23,2,    0.161,2,    0.080,2, -999.000,9,-999.0000,9,  -999.00,9,   -999.0,9,  -999.00,9,-999.000,9,   -999.9,9,   -999.9,9,  -999.0, -999.00,-999.0000,-999.000,-999.000
    316N145_10,  I07N,   710,  1,     22,     22,2,19950716,0645,-18.0208,  55.0017, 4608,   -999,    898.2,   5.2740,  34.5906,2,  34.5932,2,    135.6,2,  5.1979,    136.1,2,    64.18,2,    32.66,2,     0.00,2,     2.34,2,    0.088,2,    0.045,2,    0.105,2,-999.0000,9,  -999.00,9,   -999.0,9,  -999.00,9,-999.000,9,   -999.9,9,   -999.9,9,  -999.0, -999.00,-999.0000,-999.000,   0.008
    316N145_10,  I07N,   710,  1,     21,     21,2,19950716,0645,-18.0208,  55.0017, 4608,   -999,    999.5,   4.7672,  34.6191,2,  34.6206,2,    129.0,2,  4.6857,    128.9,2,    74.60,2,    33.76,2,     0.00,2,     2.43,2,    0.034,2,    0.020,2, -999.000,9,-999.0000,9,  -999.00,9,   -999.0,9,  -999.00,9,-999.000,9,   -999.9,9,   -999.9,9,  -999.0, -999.00,-999.0000,-999.000,-999.000
    316N145_10,  I07N,   710,  1,     20,     20,2,19950716,0645,-18.0208,  55.0017, 4608,   -999,   1195.5,   4.0806,  34.6580,2,  34.6614,2,    132.9,2,  3.9875,    132.2,2,    84.35,2,    33.98,2,     0.00,2,     2.45,2,    0.013,2,    0.002,2,    0.008,2,   1.8640,2,    11.50,2,   -999.0,9,  -999.00,9,   7.917,2,   -999.9,9,   -999.9,9,  -999.0,    0.20,  0.0090,   0.158,   0.008
    316N145_10,  I07N,   710,  1,     19,     19,2,19950716,0645,-18.0208,  55.0017, 4608,   -999,   1397.4,   3.2875,  34.6631,2,  34.6645,2,    146.2,2,  3.1850,    148.7,2,    89.32,2,    33.48,2,     0.00,2,     2.41,2,    0.005,2,    0.003,2, -999.000,9,-999.0000,9,  -999.00,9,   -999.0,9,  -999.00,9,-999.000,9,   -999.9,9,   -999.9,9,  -999.0, -999.00,-999.0000,-999.000,-999.000
    316N145_10,  I07N,   710,  1,     18,     18,2,19950716,0645,-18.0208,  55.0017, 4608,   -999,   1593.3,   2.8070,  34.6875,2,  34.6897,2,    156.5,2,  2.6934,    158.0,2,    95.93,2,    32.97,2,     0.00,2,     2.36,2,    0.002,2,   -0.002,2,    0.000,2,   1.8820,2,    12.40,2,   -999.0,9,  -999.00,9,   7.997,2,   -999.9,9,   -999.9,9,  -999.0,    0.20,  0.0090,   0.160,   0.008
    316N145_10,  I07N,   710,  1,     17,     17,2,19950716,0645,-18.0208,  55.0017, 4608,   -999,   1796.9,   2.5091,  34.7087,2,  34.7099,2,    160.9,2,  2.3822,    161.7,2,   102.75,2,    32.83,2,     0.00,2,     2.33,2,    0.006,2,    0.005,2, -999.000,9,-999.0000,9,  -999.00,9,   -999.0,9,  -999.00,9,-999.000,9,   -999.9,9,   -999.9,9,  -999.0, -999.00,-999.0000,-999.000,-999.000
    316N145_10,  I07N,   710,  1,     16,     16,2,19950716,0645,-18.0208,  55.0017, 4608,   -999,   2000.0,   2.3070,  34.7293,2,  34.7299,2,    158.9,2,  2.1657,    159.1,2,   112.70,2,    33.20,2,     0.00,2,     2.37,2,   -0.001,2,    0.003,2,    0.000,2,   1.9000,2,    12.20,2,   -999.0,9,  -999.00,9,   8.166,2,   -999.9,9,   -999.9,9,  -999.0,    0.20,  0.0090,   0.163,   0.008
    316N145_10,  I07N,   710,  1,     15,     15,2,19950716,0645,-18.0208,  55.0017, 4608,   -999,   2197.6,   2.1384,  34.7364,2,  34.7365,2,    159.3,2,  1.9825,    158.7,2,   119.99,2,    33.47,2,     0.00,2,     2.39,2, -999.000,9, -999.000,9, -999.000,9,-999.0000,9,  -999.00,9,   -999.0,9,  -999.00,9,-999.000,9,   -999.9,9,   -999.9,9,  -999.0, -999.00,-999.0000,-999.000,-999.000
    316N145_10,  I07N,   710,  1,     14,     14,2,19950716,0645,-18.0208,  55.0017, 4608,   -999,   2393.7,   2.0619,  34.7380,2,  34.7387,2,    160.2,2,  1.8899,    159.1,2,   122.72,2,    33.47,2,     0.00,2,     2.40,2, -999.000,9, -999.000,9,    0.000,2,-999.0000,9,  -999.00,9,   -999.0,9,  -999.00,9,-999.000,9,   -999.9,9,   -999.9,9,  -999.0, -999.00,-999.0000,-999.000,   0.008
    316N145_10,  I07N,   710,  1,     13,     13,2,19950716,0645,-18.0208,  55.0017, 4608,   -999,   2649.4,   1.9262,  34.7360,2,  34.7379,2,    162.7,2,  1.7333,    161.5,2,   125.83,2,    33.52,2,     0.00,2,     2.40,2, -999.000,9, -999.000,9,    0.000,2,-999.0000,9,  -999.00,9,   -999.0,9,  -999.00,9,-999.000,9,   -999.9,9,   -999.9,9,  -999.0, -999.00,-999.0000,-999.000,   0.008
    316N145_10,  I07N,   710,  1,     12,     12,2,19950716,0645,-18.0208,  55.0017, 4608,   -999,   2749.6,   1.8993,  34.7377,2,  34.7393,2,    162.3,2,  1.6976,    161.0,2,   127.47,2,    33.65,2,     0.00,2,     2.41,2, -999.000,9, -999.000,9, -999.000,9,-999.0000,9,  -999.00,9,   -999.0,9,  -999.00,9,-999.000,9,   -999.9,9,   -999.9,9,  -999.0, -999.00,-999.0000,-999.000,-999.000
    316N145_10,  I07N,   710,  1,     11,     11,2,19950716,0645,-18.0208,  55.0017, 4608,   -999,   2915.4,   1.8316,  34.7364,2,  34.7371,2,    163.5,2,  1.6155,    162.9,2,   129.11,2,    33.61,2,     0.00,2,     2.41,2, -999.000,9, -999.000,9,    0.000,2,   1.8960,2,    11.70,2,   -999.0,9,  -999.00,9,   8.242,2,   -999.9,9,   -999.9,9,  -999.0,    0.20,  0.0090,   0.165,   0.008
    316N145_10,  I07N,   710,  1,     10,     10,2,19950716,0645,-18.0208,  55.0017, 4608,   -999,   3201.0,   1.7210,  34.7331,2,  34.7332,2,    167.6,2,  1.4795,    167.1,2,   130.38,2,    33.47,2,     0.00,2,     2.39,2, -999.000,9, -999.000,9, -999.000,9,-999.0000,9,  -999.00,9,   -999.0,9,  -999.00,9,-999.000,9,   -999.9,9,   -999.9,9,  -999.0, -999.00,-999.0000,-999.000,-999.000
    316N145_10,  I07N,   710,  1,      9,      9,2,19950716,0645,-18.0208,  55.0017, 4608,   -999,   3395.2,   1.6378,  34.7307,2,  34.7304,2,    172.1,2,  1.3788,    170.9,2,   130.91,2,    33.47,2,     0.00,2,     2.38,2, -999.000,9, -999.000,9,    0.000,2,-999.0000,9,  -999.00,9,   -999.0,9,  -999.00,9,-999.000,9,   -999.9,9,   -999.9,9,  -999.0, -999.00,-999.0000,-999.000,   0.008
    316N145_10,  I07N,   710,  1,      8,      8,2,19950716,0645,-18.0208,  55.0017, 4608,   -999,   3589.4,   1.5230,  34.7270,2,  34.7263,2,    176.9,2,  1.2469,    176.2,2,   130.69,2,    33.19,2,     0.00,2,     2.35,2, -999.000,9, -999.000,9, -999.000,9,-999.0000,9,  -999.00,9,   -999.0,9,  -999.00,9,-999.000,9,   -999.9,9,   -999.9,9,  -999.0, -999.00,-999.0000,-999.000,-999.000
    316N145_10,  I07N,   710,  1,      7,      7,2,19950716,0645,-18.0208,  55.0017, 4608,   -999,   3795.8,   1.4212,  34.7227,2,  34.7231,2,    182.7,2,  1.1263,    182.4,2,   129.73,2,    32.92,2,     0.00,2,     2.32,2, -999.000,9, -999.000,9,    0.000,2,   1.8910,2,    10.30,2,   -999.0,9,  -999.00,9,   8.305,2,   -999.9,9,   -999.9,9,  -999.0,    0.20,  0.0090,   0.166,   0.008
    316N145_10,  I07N,   710,  1,      6,      6,2,19950716,0645,-18.0208,  55.0017, 4608,   -999,   3995.6,   1.2523,  34.7166,2,  34.7167,2,    191.2,2,  0.9408,    191.9,2,   127.66,2,    32.37,2,     0.00,2,     2.29,2, -999.000,9, -999.000,9, -999.000,9,-999.0000,9,  -999.00,9,   -999.0,9,  -999.00,9,-999.000,9,   -999.9,9,   -999.9,9,  -999.0, -999.00,-999.0000,-999.000,-999.000
    316N145_10,  I07N,   710,  1,      5,      5,2,19950716,0645,-18.0208,  55.0017, 4608,   -999,   4194.4,   1.1253,  34.7127,2,  34.7121,2,    197.7,2,  0.7959,    199.3,2,   126.70,2,    32.09,2,     0.00,2,     2.27,2, -999.000,9, -999.000,9,    0.000,2,   1.9000,2,     9.90,2,   -999.0,9,  -999.00,9,   8.354,2,   -999.9,9,   -999.9,9,  -999.0,    0.20,  0.0090,   0.167,   0.008
    316N145_10,  I07N,   710,  1,      4,      4,2,19950716,0645,-18.0208,  55.0017, 4608,   -999,   4398.2,   1.0971,  34.7110,2,  34.7108,2,    200.9,2,  0.7461,    200.9,2,   126.30,2,    32.00,2,     0.00,2,     2.26,2, -999.000,9, -999.000,9, -999.000,9,-999.0000,9,  -999.00,9,   -999.0,9,  -999.00,9,-999.000,9,   -999.9,9,   -999.9,9,  -999.0, -999.00,-999.0000,-999.000,-999.000
    316N145_10,  I07N,   710,  1,      3,      3,2,19950716,0645,-18.0208,  55.0017, 4608,   -999,   4603.2,   1.0868,  34.7097,2,  34.7096,2,    202.6,2,  0.7129,    202.3,2,   126.09,2,    31.91,2,     0.00,2,     2.24,2, -999.000,9, -999.000,9,    0.000,2,   1.9000,2,     8.30,2,   -999.0,9,  -999.00,9,   8.380,2,   -999.9,9,   -999.9,9,  -999.0,    0.20,  0.0090,   0.168,   0.008
    316N145_10,  I07N,   710,  1,      2,      2,2,19950716,0645,-18.0208,  55.0017, 4608,   -999,   4646.5,   1.0909,  34.7095,2,  34.7094,2,    202.5,2,  0.7119,    202.2,2,   125.87,2,    31.91,2,     0.00,2,     2.24,2, -999.000,9, -999.000,9, -999.000,9,-999.0000,9,  -999.00,9,   -999.0,9,  -999.00,9,-999.000,9,   -999.9,9,   -999.9,9,  -999.0, -999.00,-999.0000,-999.000,-999.000
    316N145_10,  I07N,   710,  1,      1,      1,2,19950716,0645,-18.0208,  55.0017, 4608,   -999,   4677.6,   1.0925,  34.7097,2,  34.7092,2,    202.0,2,  0.7099,    202.5,2,   126.03,2,    31.91,2,     0.00,2,     2.24,2, -999.000,9, -999.000,9,    0.000,2,   1.9040,2,     8.80,2,   -999.0,9,  -999.00,9,   8.412,2,   -999.9,9,   -999.9,9,  -999.0,    0.20,  0.0100,   0.168,   0.008