BOTTLE,20080821WHPSIOSCD
#code : jjward hyd_to_exchange.pl 
#original files copied from HTML directory: 20080821
#original HYD file: i07nhy.txt   Thu Aug 21 15:03:08 2008
#original SUM file: i07nsu.txt   Thu Aug 21 14:58:18 2008
EXPOCODE,SECT_ID,STNNBR,CASTNO,SAMPNO,BTLNBR,BTLNBR_FLAG_W,DATE,TIME,LATITUDE,LONGITUDE,DEPTH,CTDRAW,CTDPRS,CTDTMP,CTDSAL,CTDSAL_FLAG_W,SALNTY,SALNTY_FLAG_W,CTDOXY,CTDOXY_FLAG_W,THETA,OXYGEN,OXYGEN_FLAG_W,SILCAT,SILCAT_FLAG_W,NITRAT,NITRAT_FLAG_W,NITRIT,NITRIT_FLAG_W,PHSPHT,PHSPHT_FLAG_W,CFC-11,CFC-11_FLAG_W,CFC-12,CFC-12_FLAG_W,TRITUM,TRITUM_FLAG_W,HELIUM,HELIUM_FLAG_W,DELHE3,DELHE3_FLAG_W,DELC14,DELC14_FLAG_W,DELC13,DELC13_FLAG_W,NEON,NEON_FLAG_W,TCARBN,TCARBN_FLAG_W,ALKALI,ALKALI_FLAG_W,C14ERR,DELHER,HELIER,NEONER,TRITER
,,,,,,,,,,,,,DBAR,ITS-90,PSS-78,,PSS-78,,UMOL/KG,,DEG C,UMOL/KG,,UMOL/KG,,UMOL/KG,,UMOL/KG,,UMOL/KG,,PMOL/KG,,PMOL/KG,,TU,,NMOL/KG,,PERCNT,,/MILLE,,/MILLE,,NMOL/KG,,UMOL/KG,,UMOL/KG,,/MILLE,PERCNT,NMOL/KG,NMOL/KG,TU
    316N145_10,  I07N,   708,  1,     36,     36,2,19950715,1027,-19.4978,  57.2473, 2981,   -999,      3.6,  24.5722,  34.9939,2,  34.9884,2,    215.5,2, 24.5717,    210.3,2,     3.17,2,     0.09,2,     0.00,2,     0.13,2,    1.867,2,    1.065,2, -999.000,9,-999.0000,9,  -999.00,9,   -999.0,9,  -999.00,9,-999.000,9,   1954.0,2,   2291.9,2,  -999.0, -999.00,-999.0000,-999.000,-999.000
    316N145_10,  I07N,   708,  1,     35,     35,2,19950715,1027,-19.4978,  57.2473, 2981,   -999,     30.9,  24.5077,  34.9895,2,  34.9831,2,    206.6,2, 24.5013,    210.1,2,     3.17,2,     0.09,2,     0.00,2,     0.13,2,    1.858,2,    1.058,2, -999.000,9,-999.0000,9,  -999.00,9,   -999.0,9,  -999.00,9,-999.000,9,   1953.9,2,   2289.6,2,  -999.0, -999.00,-999.0000,-999.000,-999.000
    316N145_10,  I07N,   708,  1,     34,     34,2,19950715,1027,-19.4978,  57.2473, 2981,   -999,     60.2,  23.9262,  35.2379,2,  35.2366,2,    209.4,2, 23.9138,    211.8,2,     2.98,2,     0.09,2,     0.00,2,     0.11,2,    1.897,2,    1.054,2, -999.000,9,-999.0000,9,  -999.00,9,   -999.0,9,  -999.00,9,-999.000,9,   1967.7,2,   2303.2,2,  -999.0, -999.00,-999.0000,-999.000,-999.000
    316N145_10,  I07N,   708,  1,     33,     33,2,19950715,1027,-19.4978,  57.2473, 2981,   -999,     90.5,  23.7429,  35.2980,2,  35.2927,2,    202.8,2, 23.7242,    207.9,2,     2.97,2,     0.12,2,     0.02,2,     0.13,2,    1.944,2,    1.071,2, -999.000,9,-999.0000,9,  -999.00,9,   -999.0,9,  -999.00,9,-999.000,9,   1979.5,2,   2308.7,2,  -999.0, -999.00,-999.0000,-999.000,-999.000
    316N145_10,  I07N,   708,  1,     32,     32,2,19950715,1027,-19.4978,  57.2473, 2981,   -999,    122.3,  21.4005,  35.4605,2,  35.4533,2,    197.7,2, 21.3770,    193.6,2,     3.68,2,     1.58,2,     0.08,2,     0.26,2,    2.068,2,    1.131,2, -999.000,9,-999.0000,9,  -999.00,9,   -999.0,9,  -999.00,9,-999.000,9,   2023.2,2,   -999.9,5,  -999.0, -999.00,-999.0000,-999.000,-999.000
    316N145_10,  I07N,   708,  1,     31,     31,2,19950715,1027,-19.4978,  57.2473, 2981,   -999,    150.0,  20.8869,  35.5030,2,  35.4960,2,    195.6,2, 20.8585,    190.6,2,     4.03,2,     2.26,2,     0.04,2,     0.30,2,    2.088,2,    1.143,2, -999.000,9,-999.0000,9,  -999.00,9,   -999.0,9,  -999.00,9,-999.000,9,   2032.0,2,   2325.2,2,  -999.0, -999.00,-999.0000,-999.000,-999.000
    316N145_10,  I07N,   708,  1,     30,     30,2,19950715,1027,-19.4978,  57.2473, 2981,   -999,    178.1,  19.6334,  35.5880,2,  35.5925,2,    187.5,2, 19.6010,    187.5,2,     4.56,2,     3.49,2,     0.01,2,     0.36,2,    2.162,2,    1.175,2, -999.000,9,-999.0000,9,  -999.00,9,   -999.0,9,  -999.00,9,-999.000,9,   2054.7,2,   2334.7,2,  -999.0, -999.00,-999.0000,-999.000,-999.000
    316N145_10,  I07N,   708,  1,     29,     29,2,19950715,1027,-19.4978,  57.2473, 2981,   -999,    214.2,  18.5587,  35.6483,2,  35.6425,2,    194.4,2, 18.5211,    192.1,2,     4.37,2,     3.58,2,     0.01,2,     0.38,2,    2.244,2,    1.188,2, -999.000,9,-999.0000,9,  -999.00,9,   -999.0,9,  -999.00,9,-999.000,9,   2067.4,2,   2341.2,2,  -999.0, -999.00,-999.0000,-999.000,-999.000
    316N145_10,  I07N,   708,  1,     28,     28,2,19950715,1027,-19.4978,  57.2473, 2981,   -999,    249.7,  17.1307,  35.6501,2,  35.6419,2,    200.7,2, 17.0892,    199.9,2,     4.18,2,     3.82,2,     0.01,2,     0.41,2,    2.343,2,    1.215,2, -999.000,9,-999.0000,9,  -999.00,9,   -999.0,9,  -999.00,9,-999.000,9,   2077.8,2,   2335.9,2,  -999.0, -999.00,-999.0000,-999.000,-999.000
    316N145_10,  I07N,   708,  1,     27,     27,2,19950715,1027,-19.4978,  57.2473, 2981,   -999,    300.9,  15.2724,  35.5091,2,  35.4922,2,    210.0,2, 15.2261,    209.4,2,     4.17,2,     5.43,2,     0.00,2,     0.52,2,    2.508,2,    1.311,2, -999.000,9,-999.0000,9,  -999.00,9,   -999.0,9,  -999.00,9,-999.000,9,   2091.8,2,   2333.2,2,  -999.0, -999.00,-999.0000,-999.000,-999.000
    316N145_10,  I07N,   708,  1,     26,     26,2,19950715,1027,-19.4978,  57.2473, 2981,   -999,    400.5,  12.3782,  35.1378,2,  35.1277,2,    224.6,2, 12.3245,    223.7,2,     4.70,2,     9.86,2,     0.00,2,     0.78,2,    2.615,2,    1.306,2, -999.000,9,-999.0000,9,  -999.00,9,   -999.0,9,  -999.00,9,-999.000,9,   2102.6,2,   2314.3,2,  -999.0, -999.00,-999.0000,-999.000,-999.000
    316N145_10,  I07N,   708,  1,     25,     25,2,19950715,1027,-19.4978,  57.2473, 2981,   -999,    499.2,  10.8414,  34.9134,2,  34.9078,2,    229.2,2, 10.7797,    228.5,2,     5.41,2,    12.86,2,     0.00,2,     0.95,2,    2.481,2,    1.212,2, -999.000,9,-999.0000,9,  -999.00,9,   -999.0,9,  -999.00,9,-999.000,9,   2109.0,2,   2305.0,2,  -999.0, -999.00,-999.0000,-999.000,-999.000
    316N145_10,  I07N,   708,  1,     24,     24,2,19950715,1027,-19.4978,  57.2473, 2981,   -999,    599.5,   9.2937,  34.7148,2,  34.7185,2,    212.6,2,  9.2262,    214.1,2,     9.88,2,    17.89,2,     0.00,2,     1.26,2,    1.759,2,    0.873,2, -999.000,9,-999.0000,9,  -999.00,9,   -999.0,9,  -999.00,9,-999.000,9,   2128.9,2,   2297.4,2,  -999.0, -999.00,-999.0000,-999.000,-999.000
    316N145_10,  I07N,   708,  1,     23,     23,2,19950715,1027,-19.4978,  57.2473, 2981,   -999,    699.2,   7.5889,  34.5673,2,  34.5643,2,    196.6,2,  7.5186,    196.7,2,    19.71,2,    23.57,2,     0.00,2,     1.64,2,    0.865,2,    0.424,2, -999.000,9,-999.0000,9,  -999.00,9,   -999.0,9,  -999.00,9,-999.000,9,   2157.7,2,   2299.5,2,  -999.0, -999.00,-999.0000,-999.000,-999.000
    316N145_10,  I07N,   708,  1,     22,     22,2,19950715,1027,-19.4978,  57.2473, 2981,   -999,    739.3,   7.0966,  34.5530,2,  34.5517,2,    179.1,2,  7.0247,    181.3,2,    28.29,2,    26.07,2,     0.00,2,     1.83,2,    0.591,2,    0.294,2, -999.000,9,-999.0000,9,  -999.00,9,   -999.0,9,  -999.00,9,-999.000,9,   2176.5,2,   2311.2,2,  -999.0, -999.00,-999.0000,-999.000,-999.000
    316N145_10,  I07N,   708,  1,     21,     21,2,19950715,1027,-19.4978,  57.2473, 2981,   -999,    799.1,   6.2654,  34.5451,2,  34.5474,2,    159.0,2,  6.1924,    162.9,2,    41.70,2,    29.05,2,     0.00,2,     2.05,2,    0.316,2,    0.160,2, -999.000,9,-999.0000,9,  -999.00,9,   -999.0,9,  -999.00,9,-999.000,9,   2202.2,2,   -999.9,5,  -999.0, -999.00,-999.0000,-999.000,-999.000
    316N145_10,  I07N,   708,  1,     20,     20,2,19950715,1027,-19.4978,  57.2473, 2981,   -999,    871.4,   5.7783,  34.5910,2,  34.5899,2,    135.5,2,  5.7013,    140.1,2,    56.75,2,    31.56,2,     0.00,2,     2.26,2,    0.150,2,    0.078,2, -999.000,9,-999.0000,9,  -999.00,9,   -999.0,9,  -999.00,9,-999.000,9,   2230.8,2,   2334.0,2,  -999.0, -999.00,-999.0000,-999.000,-999.000
    316N145_10,  I07N,   708,  1,     19,     19,2,19950715,1027,-19.4978,  57.2473, 2981,   -999,   1001.1,   5.0989,  34.5993,2,  34.5979,2,    131.4,2,  5.0147,    132.8,2,    67.70,2,    33.10,2,     0.00,2,     2.38,2,    0.066,2,    0.040,2, -999.000,9,-999.0000,9,  -999.00,9,   -999.0,9,  -999.00,9,-999.000,9,   2248.6,2,   2341.2,2,  -999.0, -999.00,-999.0000,-999.000,-999.000
    316N145_10,  I07N,   708,  1,     18,     18,2,19950715,1027,-19.4978,  57.2473, 2981,   -999,   1079.3,   4.7078,  34.6370,2,  34.6405,2,    127.5,2,  4.6195,    128.6,2,    77.42,2,    33.71,2,     0.00,2,     2.43,2,    0.040,2,    0.023,2, -999.000,9,-999.0000,9,  -999.00,9,   -999.0,9,  -999.00,9,-999.000,9,   2263.9,2,   2354.1,2,  -999.0, -999.00,-999.0000,-999.000,-999.000
    316N145_10,  I07N,   708,  1,     17,     17,2,19950715,1027,-19.4978,  57.2473, 2981,   -999,   1199.0,   4.3149,  34.6451,2,  34.6448,2,    131.7,2,  4.2193,    129.6,2,    82.27,2,    34.08,2,     0.00,2,     2.45,2,    0.014,2,   -0.003,2, -999.000,9,-999.0000,9,  -999.00,9,   -999.0,9,  -999.00,9,-999.000,9,   2266.4,2,   2357.6,2,  -999.0, -999.00,-999.0000,-999.000,-999.000
    316N145_10,  I07N,   708,  1,     16,     16,2,19950715,1027,-19.4978,  57.2473, 2981,   -999,   1300.2,   3.8978,  34.6534,2,  34.6506,2,    136.6,2,  3.7973,    136.0,2,    85.69,2,    33.99,2,     0.00,2,     2.44,2,    0.013,2,    0.015,2, -999.000,9,-999.0000,9,  -999.00,9,   -999.0,9,  -999.00,9,-999.000,9,   2268.2,2,   2357.2,2,  -999.0, -999.00,-999.0000,-999.000,-999.000
    316N145_10,  I07N,   708,  1,     15,     15,2,19950715,1027,-19.4978,  57.2473, 2981,   -999,   1399.7,   3.5296,  34.6621,2,  34.6618,2,    140.7,2,  3.4243,    142.7,2,    88.74,2,    33.75,2,     0.00,2,     2.42,2,    0.015,2,    0.012,2, -999.000,9,-999.0000,9,  -999.00,9,   -999.0,9,  -999.00,9,-999.000,9,   2269.3,2,   2362.3,2,  -999.0, -999.00,-999.0000,-999.000,-999.000
    316N145_10,  I07N,   708,  1,     14,     14,2,19950715,1027,-19.4978,  57.2473, 2981,   -999,   1500.8,   3.1158,  34.6744,2,  34.6742,2,    148.3,2,  3.0064,    151.0,2,    92.53,2,    33.42,2,     0.00,2,     2.39,2,    0.006,2,   -0.001,2, -999.000,9,-999.0000,9,  -999.00,9,   -999.0,9,  -999.00,9,-999.000,9,   2271.4,2,   2365.0,2,  -999.0, -999.00,-999.0000,-999.000,-999.000
    316N145_10,  I07N,   708,  1,     13,     13,2,19950715,1027,-19.4978,  57.2473, 2981,   -999,   1599.3,   2.8755,  34.6869,2,  34.6867,2,    155.2,2,  2.7607,    155.3,2,    96.69,2,    33.23,2,     0.00,2,     2.37,2,    0.005,2,    0.008,2, -999.000,9,-999.0000,9,  -999.00,9,   -999.0,9,  -999.00,9,-999.000,9,   2272.9,2,   2379.1,3,  -999.0, -999.00,-999.0000,-999.000,-999.000
    316N145_10,  I07N,   708,  1,     12,     12,2,19950715,1027,-19.4978,  57.2473, 2981,   -999,   1700.6,   2.7483,  34.6950,2,  34.6931,2,    157.2,2,  2.6264,    157.1,2,    99.22,2,    33.18,2,     0.00,2,     2.36,2,    0.005,2,   -0.003,2, -999.000,9,-999.0000,9,  -999.00,9,   -999.0,9,  -999.00,9,-999.000,9,   2275.1,2,   2371.6,2,  -999.0, -999.00,-999.0000,-999.000,-999.000
    316N145_10,  I07N,   708,  1,     11,     11,2,19950715,1027,-19.4978,  57.2473, 2981,   -999,   1796.2,   2.5854,  34.7046,2,  34.7078,2,    159.7,2,  2.4575,    159.0,2,   103.03,2,    33.13,2,     0.00,2,     2.35,2,   -0.001,2,   -0.003,2, -999.000,9,-999.0000,9,  -999.00,9,   -999.0,9,  -999.00,9,-999.000,9,   2278.4,2,   2392.0,3,  -999.0, -999.00,-999.0000,-999.000,-999.000
    316N145_10,  I07N,   708,  1,     10,     10,2,19950715,1027,-19.4978,  57.2473, 2981,   -999,   1902.5,   2.4845,  34.7098,2,  34.7088,2,    161.3,2,  2.3490,    160.2,2,   105.56,2,    33.09,2,     0.00,2,     2.36,2,    0.004,2,    0.002,2, -999.000,9,-999.0000,9,  -999.00,9,   -999.0,9,  -999.00,9,-999.000,9,   2280.3,2,   2379.0,2,  -999.0, -999.00,-999.0000,-999.000,-999.000
    316N145_10,  I07N,   708,  1,      9,      9,2,19950715,1027,-19.4978,  57.2473, 2981,   -999,   2003.0,   2.3616,  34.7160,2,  34.7139,2,    161.0,2,  2.2192,    161.5,2,   109.02,2,    33.13,2,     0.00,2,     2.35,2,    0.007,2,    0.001,2, -999.000,9,-999.0000,9,  -999.00,9,   -999.0,9,  -999.00,9,-999.000,9,   2282.7,2,   2386.4,2,  -999.0, -999.00,-999.0000,-999.000,-999.000
    316N145_10,  I07N,   708,  1,      8,      8,2,19950715,1027,-19.4978,  57.2473, 2981,   -999,   2098.9,   2.2643,  34.7190,2,  34.7203,2,    163.0,2,  2.1151,    162.4,2,   111.75,2,    33.17,2,     0.00,2,     2.35,2,    0.004,2,    0.004,2, -999.000,9,-999.0000,9,  -999.00,9,   -999.0,9,  -999.00,9,-999.000,9,   2285.4,2,   2385.6,2,  -999.0, -999.00,-999.0000,-999.000,-999.000
    316N145_10,  I07N,   708,  1,      7,      7,2,19950715,1027,-19.4978,  57.2473, 2981,   -999,   2304.3,   2.0504,  34.7231,2,  34.7229,2,    165.9,2,  1.8867,    165.9,2,   116.52,2,    33.13,2,     0.00,2,     2.35,2,    0.003,2,    0.003,2, -999.000,9,-999.0000,9,  -999.00,9,   -999.0,9,  -999.00,9,-999.000,9,   2287.5,2,   2388.8,2,  -999.0, -999.00,-999.0000,-999.000,-999.000
    316N145_10,  I07N,   708,  1,      6,      6,2,19950715,1027,-19.4978,  57.2473, 2981,   -999,   2497.5,   1.9605,  34.7279,2,  34.7274,2,    165.6,2,  1.7809,    166.1,2,   119.82,2,    33.22,2,     0.00,2,     2.35,2,    0.001,2,   -0.003,2, -999.000,9,-999.0000,9,  -999.00,9,   -999.0,9,  -999.00,9,-999.000,9,   2291.1,2,   -999.9,5,  -999.0, -999.00,-999.0000,-999.000,-999.000
    316N145_10,  I07N,   708,  1,      5,      5,2,19950715,1027,-19.4978,  57.2473, 2981,   -999,   2701.0,   1.8700,  34.7291,2,  34.7295,2,    166.5,2,  1.6735,    166.1,2,   123.32,2,    33.45,2,     0.00,2,     2.45,3,    0.001,2,   -0.003,2, -999.000,9,-999.0000,9,  -999.00,9,   -999.0,9,  -999.00,9,-999.000,9,   2294.0,2,   -999.9,5,  -999.0, -999.00,-999.0000,-999.000,-999.000
    316N145_10,  I07N,   708,  1,      4,      4,2,19950715,1027,-19.4978,  57.2473, 2981,   -999,   2895.7,   1.7760,  34.7312,2,  34.7310,2,    167.1,2,  1.5630,    167.4,2,   126.27,2,    33.40,2,     0.00,2,     2.37,2,    0.001,2,   -0.003,2, -999.000,9,-999.0000,9,  -999.00,9,   -999.0,9,  -999.00,9,-999.000,9,   2296.1,2,   -999.9,5,  -999.0, -999.00,-999.0000,-999.000,-999.000
    316N145_10,  I07N,   708,  1,      3,      3,2,19950715,1027,-19.4978,  57.2473, 2981,   -999,   2916.1,   1.7546,  34.7307,2,  34.7302,2,    166.3,2,  1.5401,    167.4,2,   126.42,2,    33.45,2,     0.00,2,     2.37,2,    0.002,2,    0.000,2, -999.000,9,-999.0000,9,  -999.00,9,   -999.0,9,  -999.00,9,-999.000,9,   2296.6,2,   -999.9,5,  -999.0, -999.00,-999.0000,-999.000,-999.000
    316N145_10,  I07N,   708,  1,      2,      2,2,19950715,1027,-19.4978,  57.2473, 2981,   -999,   3013.1,   1.7401,  34.7304,2,  34.7322,2,    167.6,2,  1.5166,    168.1,2,   127.12,2,    33.44,2,     0.00,2,     2.37,2, -999.000,9, -999.000,9, -999.000,9,-999.0000,9,  -999.00,9,   -999.0,9,  -999.00,9,-999.000,9,   2296.4,2,   2411.7,2,  -999.0, -999.00,-999.0000,-999.000,-999.000
    316N145_10,  I07N,   708,  1,      1,      1,2,19950715,1027,-19.4978,  57.2473, 2981,   -999,   3032.1,   1.7396,  34.7314,2,  34.7339,2,    167.3,2,  1.5142,    167.4,2,   127.08,2,    33.40,2,     0.00,2,     2.36,2, -999.000,9, -999.000,9, -999.000,9,-999.0000,9,  -999.00,9,   -999.0,9,  -999.00,9,-999.000,9,   2294.3,2,   2409.0,2,  -999.0, -999.00,-999.0000,-999.000,-999.000