BOTTLE,20080821WHPSIOSCD
EXPOCODE,SECT_ID,STNNBR,CASTNO,SAMPNO,BTLNBR,BTLNBR_FLAG_W,DATE,TIME,LATITUDE,LONGITUDE,DEPTH,CTDRAW,CTDPRS,CTDTMP,CTDSAL,CTDSAL_FLAG_W,SALNTY,SALNTY_FLAG_W,CTDOXY,CTDOXY_FLAG_W,THETA,OXYGEN,OXYGEN_FLAG_W,SILCAT,SILCAT_FLAG_W,NITRAT,NITRAT_FLAG_W,NITRIT,NITRIT_FLAG_W,PHSPHT,PHSPHT_FLAG_W,CFC-11,CFC-11_FLAG_W,CFC-12,CFC-12_FLAG_W,TRITUM,TRITUM_FLAG_W,HELIUM,HELIUM_FLAG_W,DELHE3,DELHE3_FLAG_W,DELC14,DELC14_FLAG_W,DELC13,DELC13_FLAG_W,NEON,NEON_FLAG_W,TCARBN,TCARBN_FLAG_W,ALKALI,ALKALI_FLAG_W,C14ERR,DELHER,HELIER,NEONER,TRITER
,,,,,,,,,,,,,DBAR,ITS-90,PSS-78,,PSS-78,,UMOL/KG,,DEG C,UMOL/KG,,UMOL/KG,,UMOL/KG,,UMOL/KG,,UMOL/KG,,PMOL/KG,,PMOL/KG,,TU,,NMOL/KG,,PERCNT,,/MILLE,,/MILLE,,NMOL/KG,,UMOL/KG,,UMOL/KG,,/MILLE,PERCNT,NMOL/KG,NMOL/KG,TU
    316N145_10,  I07N,   821,  1,     36,     36,2,19950814,2208, 21.5325,  63.0840, 3326,   -999,      9.7,  26.5499,  36.2715,2,  36.2714,2,    198.4,2, 26.5479,    195.0,2,     4.58,2,     2.06,2,     0.28,2,     0.61,2,    1.718,2,    0.964,2, -999.000,9,-999.0000,9,  -999.00,9,   -999.0,9,  -999.00,9,-999.000,9,   -999.9,5,   2367.7,2,  -999.0, -999.00,-999.0000,-999.000,-999.000
    316N145_10,  I07N,   821,  1,     35,     35,2,19950814,2208, 21.5325,  63.0840, 3326,   -999,     44.8,  26.5446,  36.2718,2,  36.3046,2,    191.0,2, 26.5347,    178.9,2,     5.26,2,     3.71,2,     0.31,2,     0.69,2, -999.000,9, -999.000,9, -999.000,9,-999.0000,9,  -999.00,9,   -999.0,9,  -999.00,9,-999.000,9,   -999.9,9,   -999.9,9,  -999.0, -999.00,-999.0000,-999.000,-999.000
    316N145_10,  I07N,   821,  1,     34,     34,2,19950814,2208, 21.5325,  63.0840, 3326,   -999,     55.1,  24.2193,  36.4732,2,  36.4276,2,    112.0,2, 24.2078,    106.3,2,     6.98,2,    12.60,2,     0.17,2,     1.14,2, -999.000,9, -999.000,9, -999.000,9,-999.0000,9,  -999.00,9,   -999.0,9,  -999.00,9,-999.000,9,   -999.9,9,   -999.9,9,  -999.0, -999.00,-999.0000,-999.000,-999.000
    316N145_10,  I07N,   821,  1,     33,     33,2,19950814,2208, 21.5325,  63.0840, 3326,   -999,     70.0,  23.2218,  36.2954,2,  36.2983,2,     86.0,2, 23.2076,     88.5,2,     9.05,2,    15.71,2,     0.05,2,     1.33,2,    1.688,2,    0.939,2, -999.000,9,-999.0000,9,  -999.00,9,   -999.0,9,  -999.00,9,-999.000,9,   -999.9,9,   -999.9,9,  -999.0, -999.00,-999.0000,-999.000,-999.000
    316N145_10,  I07N,   821,  1,     32,     32,2,19950814,2208, 21.5325,  63.0840, 3326,   -999,     94.2,  22.9494,  36.3941,2,  36.4033,2,     70.4,2, 22.9303,     71.7,2,     9.56,2,    17.49,2,     0.04,2,     1.49,2, -999.000,9, -999.000,9, -999.000,9,-999.0000,9,  -999.00,9,   -999.0,9,  -999.00,9,-999.000,9,   -999.9,9,   -999.9,9,  -999.0, -999.00,-999.0000,-999.000,-999.000
    316N145_10,  I07N,   821,  1,     31,     31,2,19950814,2208, 21.5325,  63.0840, 3326,   -999,    130.3,  20.7875,  36.1015,2,  36.0934,2,      4.1,2, 20.7628,      3.3,2,    15.97,2,    24.09,2,     0.03,2,     2.14,2, -999.000,9, -999.000,9, -999.000,9,-999.0000,9,  -999.00,9,   -999.0,9,  -999.00,9,-999.000,9,   -999.9,9,   -999.9,9,  -999.0, -999.00,-999.0000,-999.000,-999.000
    316N145_10,  I07N,   821,  1,     30,     30,2,19950814,2208, 21.5325,  63.0840, 3326,   -999,    149.6,  19.3653,  35.9738,2,  35.9714,2,      1.0,2, 19.3383,      1.2,2,    19.95,2,    23.60,2,     0.01,2,     2.24,2,    1.092,2,    0.629,2, -999.000,9,-999.0000,9,  -999.00,9,   -999.0,9,  -999.00,9,-999.000,9,   -999.9,9,   -999.9,9,  -999.0, -999.00,-999.0000,-999.000,-999.000
    316N145_10,  I07N,   821,  1,     29,     29,2,19950814,2208, 21.5325,  63.0840, 3326,   -999,    174.9,  18.4722,  36.0410,2,  36.0378,2,      1.0,2, 18.4416,      1.5,2,    22.19,2,    22.39,2,     0.00,2,     2.24,2, -999.000,9, -999.000,9, -999.000,9,-999.0000,9,  -999.00,9,   -999.0,9,  -999.00,9,-999.000,9,   -999.9,9,   -999.9,9,  -999.0, -999.00,-999.0000,-999.000,-999.000
    316N145_10,  I07N,   821,  1,     28,     28,2,19950814,2208, 21.5325,  63.0840, 3326,   -999,    199.9,  17.8380,  36.1500,2,  36.1367,2,      1.1,2, 17.8038,      2.8,2,    24.60,2,    21.87,2,     0.00,2,     2.25,2, -999.000,9, -999.000,9, -999.000,9,-999.0000,9,  -999.00,9,   -999.0,9,  -999.00,9,-999.000,9,   -999.9,9,   -999.9,9,  -999.0, -999.00,-999.0000,-999.000,-999.000
    316N145_10,  I07N,   821,  1,     27,     27,2,19950814,2208, 21.5325,  63.0840, 3326,   -999,    225.1,  17.4738,  36.2885,2,  36.2864,2,      4.4,2, 17.4358,      6.1,2,    24.75,2,    21.45,2,     0.01,2,     2.21,2,    0.775,2,    0.484,2, -999.000,9,-999.0000,9,  -999.00,9,   -999.0,9,  -999.00,9,-999.000,9,   -999.9,9,   -999.9,9,  -999.0, -999.00,-999.0000,-999.000,-999.000
    316N145_10,  I07N,   821,  1,     26,     26,2,19950814,2208, 21.5325,  63.0840, 3326,   -999,    300.7,  15.5511,  36.1453,2,  36.1440,2,      1.2,2, 15.5040,      0.6,2,    30.46,2,    21.76,2,     0.26,2,     2.36,2, -999.000,9, -999.000,9, -999.000,9,-999.0000,9,  -999.00,9,   -999.0,9,  -999.00,9,-999.000,9,   -999.9,9,   -999.9,9,  -999.0, -999.00,-999.0000,-999.000,-999.000
    316N145_10,  I07N,   821,  1,     25,     25,2,19950814,2208, 21.5325,  63.0840, 3326,   -999,    329.6,  14.9022,  36.0562,2,  36.0504,2,      1.2,2, 14.8521,      0.7,2,    32.18,2,    22.76,2,     0.14,2,     2.40,2,    0.434,2,    0.265,2, -999.000,9,-999.0000,9,  -999.00,9,   -999.0,9,  -999.00,9,-999.000,9,   -999.9,9,   -999.9,9,  -999.0, -999.00,-999.0000,-999.000,-999.000
    316N145_10,  I07N,   821,  1,     24,     24,2,19950814,2208, 21.5325,  63.0840, 3326,   -999,    448.8,  13.2202,  35.8214,2,  35.8270,2,      1.3,2, 13.1568,      1.3,2,    39.11,2,    25.49,2,     0.00,2,     2.52,2,    0.237,2,    0.144,2, -999.000,9,-999.0000,9,  -999.00,9,   -999.0,9,  -999.00,9,-999.000,9,   -999.9,9,   -999.9,9,  -999.0, -999.00,-999.0000,-999.000,-999.000
    316N145_10,  I07N,   821,  1,     23,     23,2,19950814,2208, 21.5325,  63.0840, 3326,   -999,    548.3,  12.3803,  35.7330,2,  35.7336,2,      1.4,2, 12.3059,      0.9,2,    45.17,2,    26.57,2,     0.00,2,     2.61,2,    0.136,2,    0.081,2, -999.000,9,-999.0000,9,  -999.00,9,   -999.0,9,  -999.00,9,-999.000,9,   -999.9,9,   -999.9,9,  -999.0, -999.00,-999.0000,-999.000,-999.000
    316N145_10,  I07N,   821,  1,     22,     22,2,19950814,2208, 21.5325,  63.0840, 3326,   -999,    649.4,  11.5065,  35.6470,2,  35.6462,2,      1.5,2, 11.4220,      1.3,2,    52.62,2,    29.06,2,     0.00,2,     2.70,2,    0.065,2,    0.041,2, -999.000,9,-999.0000,9,  -999.00,9,   -999.0,9,  -999.00,9,-999.000,9,   -999.9,9,   -999.9,9,  -999.0, -999.00,-999.0000,-999.000,-999.000
    316N145_10,  I07N,   821,  1,     21,     21,2,19950814,2208, 21.5325,  63.0840, 3326,   -999,    749.7,  10.6560,  35.5770,2,  35.5771,2,      1.6,2, 10.5626,      1.3,2,    60.43,2,    31.70,2,     0.00,2,     2.77,2,    0.040,2,    0.021,2, -999.000,9,-999.0000,9,  -999.00,9,   -999.0,9,  -999.00,9,-999.000,9,   -999.9,9,   -999.9,9,  -999.0, -999.00,-999.0000,-999.000,-999.000
    316N145_10,  I07N,   821,  1,     20,     20,2,19950814,2208, 21.5325,  63.0840, 3326,   -999,    850.5,   9.8964,  35.5150,2,  35.5140,2,      1.7,2,  9.7946,      2.1,2,    67.20,2,    33.88,2,     0.00,2,     2.83,2,    0.030,2,    0.013,2, -999.000,9,-999.0000,9,  -999.00,9,   -999.0,9,  -999.00,9,-999.000,9,   -999.9,9,   -999.9,9,  -999.0, -999.00,-999.0000,-999.000,-999.000
    316N145_10,  I07N,   821,  1,     19,     19,2,19950814,2208, 21.5325,  63.0840, 3326,   -999,    950.7,   9.1546,  35.4398,2,  35.4398,2,      1.8,2,  9.0453,      2.2,2,    74.00,2,    35.46,2,     0.00,2,     2.90,2, -999.000,9, -999.000,9, -999.000,9,-999.0000,9,  -999.00,9,   -999.0,9,  -999.00,9,-999.000,9,   -999.9,9,   -999.9,9,  -999.0, -999.00,-999.0000,-999.000,-999.000
    316N145_10,  I07N,   821,  1,     18,     18,2,19950814,2208, 21.5325,  63.0840, 3326,   -999,   1051.1,   8.4531,  35.3661,2,  35.3668,2,      3.0,2,  8.3371,      3.5,2,    80.28,2,    36.79,2,     0.00,2,     2.96,2,    0.009,2,    0.005,2, -999.000,9,-999.0000,9,  -999.00,9,   -999.0,9,  -999.00,9,-999.000,9,   -999.9,9,   -999.9,9,  -999.0, -999.00,-999.0000,-999.000,-999.000
    316N145_10,  I07N,   821,  1,     17,     17,2,19950814,2208, 21.5325,  63.0840, 3326,   -999,   1202.6,   7.3670,  35.2490,2,  35.2463,2,      9.4,2,  7.2427,      9.6,2,    90.30,2,    38.14,2,     0.00,2,     3.03,2, -999.000,9, -999.000,9, -999.000,9,-999.0000,9,  -999.00,9,   -999.0,9,  -999.00,9,-999.000,9,   -999.9,9,   -999.9,9,  -999.0, -999.00,-999.0000,-999.000,-999.000
    316N145_10,  I07N,   821,  1,     16,     16,2,19950814,2208, 21.5325,  63.0840, 3326,   -999,   1353.7,   6.3853,  35.1457,2,  35.1457,2,     20.0,2,  6.2539,     20.1,2,    99.69,2,    38.67,2,     0.00,2,     3.04,2,    0.000,2,   -0.002,2, -999.000,9,-999.0000,9,  -999.00,9,   -999.0,9,  -999.00,9,-999.000,9,   -999.9,9,   -999.9,9,  -999.0, -999.00,-999.0000,-999.000,-999.000
    316N145_10,  I07N,   821,  1,     15,     15,2,19950814,2208, 21.5325,  63.0840, 3326,   -999,   1549.9,   5.1848,  35.0273,2,  35.0275,2,     38.7,2,  5.0463,     38.2,2,   112.06,2,    38.72,2,     0.00,2,     3.00,2, -999.000,9, -999.000,9, -999.000,9,-999.0000,9,  -999.00,9,   -999.0,9,  -999.00,9,-999.000,9,   -999.9,9,   -999.9,9,  -999.0, -999.00,-999.0000,-999.000,-999.000
    316N145_10,  I07N,   821,  1,     14,     14,2,19950814,2208, 21.5325,  63.0840, 3326,   -999,   1702.0,   4.2913,  34.9459,2,  34.9458,2,     54.7,2,  4.1489,     54.4,2,   121.54,2,    38.62,2,     0.00,2,     2.96,2,   -0.002,2,   -0.001,2, -999.000,9,-999.0000,9,  -999.00,9,   -999.0,9,  -999.00,9,-999.000,9,   -999.9,9,   -999.9,9,  -999.0, -999.00,-999.0000,-999.000,-999.000
    316N145_10,  I07N,   821,  1,     13,     13,2,19950814,2208, 21.5325,  63.0840, 3326,   -999,   1802.0,   3.8696,  34.9070,2,  34.9077,2,     63.5,2,  3.7233,     63.5,2,   125.94,2,    38.29,2,     0.00,2,     2.92,2, -999.000,9, -999.000,9, -999.000,9,-999.0000,9,  -999.00,9,   -999.0,9,  -999.00,9,-999.000,9,   -999.9,9,   -999.9,9,  -999.0, -999.00,-999.0000,-999.000,-999.000
    316N145_10,  I07N,   821,  1,     12,     12,2,19950814,2208, 21.5325,  63.0840, 3326,   -999,   1951.2,   3.3538,  34.8637,2,  34.8641,2,     77.9,2,  3.2009,     76.3,2,   131.89,2,    38.05,2,     0.00,2,     2.85,2,    0.000,2,   -0.001,2, -999.000,9,-999.0000,9,  -999.00,9,   -999.0,9,  -999.00,9,-999.000,9,   -999.9,9,   -999.9,9,  -999.0, -999.00,-999.0000,-999.000,-999.000
    316N145_10,  I07N,   821,  1,     11,     11,2,19950814,2208, 21.5325,  63.0840, 3326,   -999,   2102.5,   2.9118,  34.8275,2,  34.8275,2,     87.8,2,  2.7517,     87.3,2,   136.96,2,    37.71,2,     0.00,2,     2.80,2, -999.000,9, -999.000,9, -999.000,9,-999.0000,9,  -999.00,9,   -999.0,9,  -999.00,9,-999.000,9,   -999.9,9,   -999.9,9,  -999.0, -999.00,-999.0000,-999.000,-999.000
    316N145_10,  I07N,   821,  1,     10,     10,2,19950814,2208, 21.5325,  63.0840, 3326,   -999,   2248.6,   2.5846,  34.8007,2,  34.8004,2,     97.5,2,  2.4165,     97.5,2,   139.79,2,    37.32,2,     0.00,2,     2.75,2,   -0.002,2,   -0.002,2, -999.000,9,-999.0000,9,  -999.00,9,   -999.0,9,  -999.00,9,-999.000,9,   -999.9,9,   -999.9,9,  -999.0, -999.00,-999.0000,-999.000,-999.000
    316N145_10,  I07N,   821,  1,      9,      9,2,19950814,2208, 21.5325,  63.0840, 3326,   -999,   2311.5,   2.4993,  34.7954,2,  34.7942,2,     98.8,2,  2.3269,     99.2,2,   142.06,2,    37.32,2,     0.00,2,     2.74,2, -999.000,9, -999.000,9, -999.000,9,-999.0000,9,  -999.00,9,   -999.0,9,  -999.00,9,-999.000,9,   -999.9,9,   -999.9,9,  -999.0, -999.00,-999.0000,-999.000,-999.000
    316N145_10,  I07N,   821,  1,      8,      8,2,19950814,2208, 21.5325,  63.0840, 3326,   -999,   2402.6,   2.3613,  34.7841,2,  34.7840,2,    103.4,2,  2.1829,    103.5,2,   143.57,2,    37.23,2,     0.00,2,     2.72,2,    0.000,2,    0.003,2, -999.000,9,-999.0000,9,  -999.00,9,   -999.0,9,  -999.00,9,-999.000,9,   -999.9,9,   -999.9,9,  -999.0, -999.00,-999.0000,-999.000,-999.000
    316N145_10,  I07N,   821,  1,      7,      7,2,19950814,2208, 21.5325,  63.0840, 3326,   -999,   2549.0,   2.1629,  34.7709,2,  34.7704,2,    107.4,2,  1.9746,    107.9,2,   146.25,2,    36.99,2,     0.00,2,     2.69,2, -999.000,9, -999.000,9, -999.000,9,-999.0000,9,  -999.00,9,   -999.0,9,  -999.00,9,-999.000,9,   -999.9,9,   -999.9,9,  -999.0, -999.00,-999.0000,-999.000,-999.000
    316N145_10,  I07N,   821,  1,      6,      6,2,19950814,2208, 21.5325,  63.0840, 3326,   -999,   2676.0,   2.0265,  34.7606,2,  34.7600,2,    111.3,2,  1.8291,    111.8,2,   148.16,2,    36.89,2,     0.00,2,     2.67,2,   -0.002,2,   -0.002,2, -999.000,9,-999.0000,9,  -999.00,9,   -999.0,9,  -999.00,9,-999.000,9,   -999.9,9,   -999.9,9,  -999.0, -999.00,-999.0000,-999.000,-999.000
    316N145_10,  I07N,   821,  1,      5,      5,2,19950814,2208, 21.5325,  63.0840, 3326,   -999,   2778.5,   1.9313,  34.7540,2,  34.7531,2,    116.0,2,  1.7261,    116.0,2,   148.71,2,    36.79,2,     0.00,2,     2.65,2, -999.000,9, -999.000,9, -999.000,9,-999.0000,9,  -999.00,9,   -999.0,9,  -999.00,9,-999.000,9,   -999.9,9,   -999.9,9,  -999.0, -999.00,-999.0000,-999.000,-999.000
    316N145_10,  I07N,   821,  1,      4,      4,2,19950814,2208, 21.5325,  63.0840, 3326,   -999,   2950.2,   1.8203,  34.7461,2,  34.7463,2,    119.1,2,  1.6011,    118.9,2,   150.44,2,    36.60,2,     0.00,2,     2.64,2,    0.001,2,    0.003,2, -999.000,9,-999.0000,9,  -999.00,9,   -999.0,9,  -999.00,9,-999.000,9,   -999.9,9,   -999.9,9,  -999.0, -999.00,-999.0000,-999.000,-999.000
    316N145_10,  I07N,   821,  1,      3,      3,2,19950814,2208, 21.5325,  63.0840, 3326,   -999,   3174.6,   1.7419,  34.7405,2,  34.7398,2,    122.5,2,  1.5024,    121.8,2,   151.59,2,    36.45,2,     0.00,2,     2.60,2, -999.000,9, -999.000,9, -999.000,9,-999.0000,9,  -999.00,9,   -999.0,9,  -999.00,9,-999.000,9,   -999.9,9,   -999.9,9,  -999.0, -999.00,-999.0000,-999.000,-999.000
    316N145_10,  I07N,   821,  1,      2,      2,2,19950814,2208, 21.5325,  63.0840, 3326,   -999,   3312.2,   1.7225,  34.7390,2,  34.7386,2,    123.1,2,  1.4697,    122.5,2,   152.34,2,    36.55,2,     0.00,2,     2.61,2,    0.004,2,    0.013,2, -999.000,9,-999.0000,9,  -999.00,9,   -999.0,9,  -999.00,9,-999.000,9,   -999.9,9,   -999.9,9,  -999.0, -999.00,-999.0000,-999.000,-999.000
    316N145_10,  I07N,   821,  1,      1,      1,2,19950814,2208, 21.5325,  63.0840, 3326,   -999,   3368.0,   1.7155,  34.7382,2,  34.7386,2,    121.0,2,  1.4573,    121.7,2,   152.50,2,    36.55,2,     0.00,2,     2.61,2,    0.012,2,    0.033,2, -999.000,9,-999.0000,9,  -999.00,9,   -999.0,9,  -999.00,9,-999.000,9,   -999.9,9,   -999.9,9,  -999.0, -999.00,-999.0000,-999.000,-999.000