BOTTLE,20080821WHPSIOSCD
EXPOCODE,SECT_ID,STNNBR,CASTNO,SAMPNO,BTLNBR,BTLNBR_FLAG_W,DATE,TIME,LATITUDE,LONGITUDE,DEPTH,CTDRAW,CTDPRS,CTDTMP,CTDSAL,CTDSAL_FLAG_W,SALNTY,SALNTY_FLAG_W,CTDOXY,CTDOXY_FLAG_W,THETA,OXYGEN,OXYGEN_FLAG_W,SILCAT,SILCAT_FLAG_W,NITRAT,NITRAT_FLAG_W,NITRIT,NITRIT_FLAG_W,PHSPHT,PHSPHT_FLAG_W,CFC-11,CFC-11_FLAG_W,CFC-12,CFC-12_FLAG_W,TRITUM,TRITUM_FLAG_W,HELIUM,HELIUM_FLAG_W,DELHE3,DELHE3_FLAG_W,DELC14,DELC14_FLAG_W,DELC13,DELC13_FLAG_W,NEON,NEON_FLAG_W,TCARBN,TCARBN_FLAG_W,ALKALI,ALKALI_FLAG_W,C14ERR,DELHER,HELIER,NEONER,TRITER
,,,,,,,,,,,,,DBAR,ITS-90,PSS-78,,PSS-78,,UMOL/KG,,DEG C,UMOL/KG,,UMOL/KG,,UMOL/KG,,UMOL/KG,,UMOL/KG,,PMOL/KG,,PMOL/KG,,TU,,NMOL/KG,,PERCNT,,/MILLE,,/MILLE,,NMOL/KG,,UMOL/KG,,UMOL/KG,,/MILLE,PERCNT,NMOL/KG,NMOL/KG,TU
    316N145_10,  I07N,   717,  1,     36,     36,2,19950718,0500,-13.9545,  54.9988, 4494,   -999,     14.7,  26.2182,  34.8053,2,  34.8081,2,    198.1,2, 26.2151,    202.5,2,     3.71,2,     0.08,2,     0.01,2,     0.16,2,    1.688,2,    0.990,2, -999.000,9,-999.0000,9,  -999.00,9,   -999.0,9,  -999.00,9,-999.000,9,   1940.7,2,   2276.1,2,  -999.0, -999.00,-999.0000,-999.000,-999.000
    316N145_10,  I07N,   717,  1,     35,     35,2,19950718,0500,-13.9545,  54.9988, 4494,   -999,     67.6,  26.2220,  34.8046,2,  34.8034,2,    201.8,2, 26.2071,    202.4,2,     3.72,2,     0.08,2,     0.01,2,     0.16,2,    1.687,2,    0.983,2, -999.000,9,-999.0000,9,  -999.00,9,   -999.0,9,  -999.00,9,-999.000,9,   1939.2,2,   -999.9,5,  -999.0, -999.00,-999.0000,-999.000,-999.000
    316N145_10,  I07N,   717,  1,     34,     34,2,19950718,0500,-13.9545,  54.9988, 4494,   -999,    103.5,  21.7838,  35.1603,2,  35.1561,2,    154.6,2, 21.7636,    149.5,2,     8.98,2,     6.79,2,     0.47,2,     0.64,2,    1.671,2,    0.938,2, -999.000,9,-999.0000,9,  -999.00,9,   -999.0,9,  -999.00,9,-999.000,9,   2052.8,2,   2304.8,2,  -999.0, -999.00,-999.0000,-999.000,-999.000
    316N145_10,  I07N,   717,  1,     33,     33,2,19950718,0500,-13.9545,  54.9988, 4494,   -999,    131.9,  19.6866,  35.2497,2,  35.2481,2,    139.7,2, 19.6627,    136.9,2,    11.79,2,    10.31,2,     0.02,2,     0.79,2,    1.704,2,    0.930,2, -999.000,9,-999.0000,9,  -999.00,9,   -999.0,9,  -999.00,9,-999.000,9,   -999.9,5,   2345.2,3,  -999.0, -999.00,-999.0000,-999.000,-999.000
    316N145_10,  I07N,   717,  1,     32,     32,2,19950718,0500,-13.9545,  54.9988, 4494,   -999,    156.7,  17.9744,  35.2170,2,  35.2247,2,    125.4,2, 17.9477,    125.6,2,    15.30,2,    13.23,2,     0.01,2,     0.96,2,    1.571,2,    0.845,2, -999.000,9,-999.0000,9,  -999.00,9,   -999.0,9,  -999.00,9,-999.000,9,   2107.1,2,   2321.2,2,  -999.0, -999.00,-999.0000,-999.000,-999.000
    316N145_10,  I07N,   717,  1,     31,     31,2,19950718,0500,-13.9545,  54.9988, 4494,   -999,    192.6,  16.5112,  35.1702,2,  35.1678,2,    118.8,2, 16.4802,    119.5,2,    18.81,2,    15.65,2,     0.01,2,     1.13,2,    1.442,2,    0.771,2, -999.000,9,-999.0000,9,  -999.00,9,   -999.0,9,  -999.00,9,-999.000,9,   2128.0,2,   2317.2,2,  -999.0, -999.00,-999.0000,-999.000,-999.000
    316N145_10,  I07N,   717,  1,     30,     30,2,19950718,0500,-13.9545,  54.9988, 4494,   -999,    243.2,  14.3569,  35.1631,2,  35.1611,2,    129.7,2, 14.3213,    135.9,2,    19.34,2,    15.97,2,     0.00,2,     1.17,2,    1.481,2,    0.769,2, -999.000,9,-999.0000,9,  -999.00,9,   -999.0,9,  -999.00,9,-999.000,9,   2139.1,2,   2324.7,2,  -999.0, -999.00,-999.0000,-999.000,-999.000
    316N145_10,  I07N,   717,  1,     29,     29,2,19950718,0500,-13.9545,  54.9988, 4494,   -999,    293.2,  12.3463,  34.9908,2,  34.9986,2,    139.4,2, 12.3073,    138.7,2,    21.97,2,    18.92,2,     0.00,2,     1.37,2, -999.000,9, -999.000,9, -999.000,9,-999.0000,9,  -999.00,9,   -999.0,9,  -999.00,9,-999.000,9,   2155.2,2,   2337.7,3,  -999.0, -999.00,-999.0000,-999.000,-999.000
    316N145_10,  I07N,   717,  1,     28,     28,2,19950718,0500,-13.9545,  54.9988, 4494,   -999,    401.3,  10.7064,  34.8940,2,  34.8945,2,    170.4,2, 10.6575,    172.1,2,    17.94,2,    18.65,2,     0.00,2,     1.34,2,    1.504,2,    0.762,2, -999.000,9,-999.0000,9,  -999.00,9,   -999.0,9,  -999.00,9,-999.000,9,   2147.7,2,   2310.9,2,  -999.0, -999.00,-999.0000,-999.000,-999.000
    316N145_10,  I07N,   717,  1,     27,     27,2,19950718,0500,-13.9545,  54.9988, 4494,   -999,    452.5,  10.0041,  34.8246,2,  34.8236,2,    171.5,2,  9.9511,    173.5,2,    19.34,2,    20.11,2,     0.00,2,     1.43,2,    1.364,2,    0.694,2, -999.000,9,-999.0000,9,  -999.00,9,   -999.0,9,  -999.00,9,-999.000,9,   2152.2,2,   2310.9,2,  -999.0, -999.00,-999.0000,-999.000,-999.000
    316N145_10,  I07N,   717,  1,     26,     26,2,19950718,0500,-13.9545,  54.9988, 4494,   -999,    499.1,   9.4464,  34.7735,2,  34.7751,2,    168.4,2,  9.3899,    171.4,2,    21.27,2,    21.52,2,     0.00,2,     1.52,2,    1.176,2,    0.582,2, -999.000,9,-999.0000,9,  -999.00,9,   -999.0,9,  -999.00,9,-999.000,9,   -999.9,5,   2309.3,2,  -999.0, -999.00,-999.0000,-999.000,-999.000
    316N145_10,  I07N,   717,  1,     25,     25,2,19950718,0500,-13.9545,  54.9988, 4494,   -999,    601.3,   8.4871,  34.7142,2,  34.7146,2,    154.1,2,  8.4229,    150.4,2,    31.27,2,    25.55,2,     0.00,2,     1.80,2,    0.682,2,    0.336,2, -999.000,9,-999.0000,9,  -999.00,9,   -999.0,9,  -999.00,9,-999.000,9,   2184.3,2,   2312.8,2,  -999.0, -999.00,-999.0000,-999.000,-999.000
    316N145_10,  I07N,   717,  1,     24,     24,2,19950718,0500,-13.9545,  54.9988, 4494,   -999,    702.0,   7.7719,  34.7075,2,  34.7097,2,    131.7,2,  7.7001,    128.8,2,    42.50,2,    28.88,2,     0.00,2,     2.07,2,    0.326,2,    0.169,2, -999.000,9,-999.0000,9,  -999.00,9,   -999.0,9,  -999.00,9,-999.000,9,   2210.3,2,   2323.1,2,  -999.0, -999.00,-999.0000,-999.000,-999.000
    316N145_10,  I07N,   717,  1,     23,     23,2,19950718,0500,-13.9545,  54.9988, 4494,   -999,    812.8,   6.9161,  34.7246,2,  34.7252,2,    112.4,2,  6.8376,    111.4,2,    57.45,2,    31.78,2,     0.00,2,     2.30,2,    0.130,2,    0.071,2, -999.000,9,-999.0000,9,  -999.00,9,   -999.0,9,  -999.00,9,-999.000,9,   2239.1,2,   2331.6,2,  -999.0, -999.00,-999.0000,-999.000,-999.000
    316N145_10,  I07N,   717,  1,     22,     22,2,19950718,0500,-13.9545,  54.9988, 4494,   -999,    901.5,   6.4567,  34.7254,2,  34.7252,2,    105.1,2,  6.3721,    106.0,2,    65.20,2,    32.99,2,     0.00,2,     2.40,2,    0.076,2,    0.043,2, -999.000,9,-999.0000,9,  -999.00,9,   -999.0,9,  -999.00,9,-999.000,9,   2251.0,2,   2345.8,2,  -999.0, -999.00,-999.0000,-999.000,-999.000
    316N145_10,  I07N,   717,  1,     21,     21,2,19950718,0500,-13.9545,  54.9988, 4494,   -999,    997.1,   5.8893,  34.7352,2,  34.7358,2,    100.8,2,  5.7993,    102.2,2,    74.39,2,    33.93,2,     0.00,2,     2.49,2,    0.037,2,    0.025,2, -999.000,9,-999.0000,9,  -999.00,9,   -999.0,9,  -999.00,9,-999.000,9,   2264.9,2,   2351.5,2,  -999.0, -999.00,-999.0000,-999.000,-999.000
    316N145_10,  I07N,   717,  1,     20,     20,2,19950718,0500,-13.9545,  54.9988, 4494,   -999,   1198.8,   5.0030,  34.7267,2,  34.7279,2,    107.7,2,  4.9010,    108.9,2,    84.52,2,    34.47,2,     0.00,2,     2.52,2,    0.014,2,    0.006,2, -999.000,9,-999.0000,9,  -999.00,9,   -999.0,9,  -999.00,9,-999.000,9,   2274.7,2,   2362.1,2,  -999.0, -999.00,-999.0000,-999.000,-999.000
    316N145_10,  I07N,   717,  1,     19,     19,2,19950718,0500,-13.9545,  54.9988, 4494,   -999,   1396.8,   4.2855,  34.7148,2,  34.7240,3,    123.4,2,  4.1723,    120.8,2,    90.40,2,    34.42,2,     0.00,2,     2.49,2,    0.007,2,   -0.003,2, -999.000,9,-999.0000,9,  -999.00,9,   -999.0,9,  -999.00,9,-999.000,9,   2278.9,2,   2362.4,2,  -999.0, -999.00,-999.0000,-999.000,-999.000
    316N145_10,  I07N,   717,  1,     18,     18,2,19950718,0500,-13.9545,  54.9988, 4494,   -999,   1599.5,   3.4285,  34.7037,2,  34.7032,2,    138.1,2,  3.3068,    138.8,2,    96.30,2,    33.93,2,     0.00,2,     2.45,2,    0.001,2,    0.000,2, -999.000,9,-999.0000,9,  -999.00,9,   -999.0,9,  -999.00,9,-999.000,9,   2277.8,2,   2372.8,2,  -999.0, -999.00,-999.0000,-999.000,-999.000
    316N145_10,  I07N,   717,  1,     17,     17,2,19950718,0500,-13.9545,  54.9988, 4494,   -999,   1798.2,   3.0191,  34.7094,2,  34.7089,2,    146.9,2,  2.8851,    146.7,2,   101.51,2,    33.65,2,     0.00,2,     2.41,2,   -0.002,2,   -0.004,2, -999.000,9,-999.0000,9,  -999.00,9,   -999.0,9,  -999.00,9,-999.000,9,   2280.5,2,   2373.7,2,  -999.0, -999.00,-999.0000,-999.000,-999.000
    316N145_10,  I07N,   717,  1,     16,     16,2,19950718,0500,-13.9545,  54.9988, 4494,   -999,   2050.1,   2.5423,  34.7263,2,  34.7261,2,    152.5,2,  2.3930,    152.8,2,   111.82,2,    33.52,2,     0.00,2,     2.40,2,    0.005,2,    0.000,2, -999.000,9,-999.0000,9,  -999.00,9,   -999.0,9,  -999.00,9,-999.000,9,   2287.3,2,   2388.8,2,  -999.0, -999.00,-999.0000,-999.000,-999.000
    316N145_10,  I07N,   717,  1,     15,     15,2,19950718,0500,-13.9545,  54.9988, 4494,   -999,   2196.9,   2.3873,  34.7308,2,  34.7310,2,    154.2,2,  2.2274,    154.5,2,   116.00,2,    33.56,2,     0.00,2,     2.40,2, -999.000,9, -999.000,9, -999.000,9,-999.0000,9,  -999.00,9,   -999.0,9,  -999.00,9,-999.000,9,   2290.4,2,   2398.3,3,  -999.0, -999.00,-999.0000,-999.000,-999.000
    316N145_10,  I07N,   717,  1,     14,     14,2,19950718,0500,-13.9545,  54.9988, 4494,   -999,   2390.0,   2.1868,  34.7367,2,  34.7363,2,    156.2,2,  2.0128,    156.6,2,   120.93,2,    33.69,2,     0.00,2,     2.40,2, -999.000,9, -999.000,9, -999.000,9,-999.0000,9,  -999.00,9,   -999.0,9,  -999.00,9,-999.000,9,   2295.1,2,   2399.1,2,  -999.0, -999.00,-999.0000,-999.000,-999.000
    316N145_10,  I07N,   717,  1,     13,     13,2,19950718,0500,-13.9545,  54.9988, 4494,   -999,   2596.8,   2.0550,  34.7389,2,  34.7385,2,    157.1,2,  1.8645,    157.7,2,   124.97,2,    33.69,2,     0.00,2,     2.41,2, -999.000,9, -999.000,9, -999.000,9,-999.0000,9,  -999.00,9,   -999.0,9,  -999.00,9,-999.000,9,   2298.9,2,   2400.6,2,  -999.0, -999.00,-999.0000,-999.000,-999.000
    316N145_10,  I07N,   717,  1,     12,     12,2,19950718,0500,-13.9545,  54.9988, 4494,   -999,   2799.4,   1.9608,  34.7383,2,  34.7399,2,    159.3,2,  1.7531,    159.3,2,   127.17,2,    33.69,2,     0.00,2,     2.40,2, -999.000,9, -999.000,9, -999.000,9,-999.0000,9,  -999.00,9,   -999.0,9,  -999.00,9,-999.000,9,   2299.0,2,   2405.3,2,  -999.0, -999.00,-999.0000,-999.000,-999.000
    316N145_10,  I07N,   717,  1,     11,     11,2,19950718,0500,-13.9545,  54.9988, 4494,   -999,   2997.4,   1.8642,  34.7370,2,  34.7369,2,    161.6,2,  1.6395,    161.6,2,   129.19,2,    33.64,2,     0.00,2,     2.40,2, -999.000,9, -999.000,9, -999.000,9,-999.0000,9,  -999.00,9,   -999.0,9,  -999.00,9,-999.000,9,   2299.1,2,   2402.0,2,  -999.0, -999.00,-999.0000,-999.000,-999.000
    316N145_10,  I07N,   717,  1,     10,     10,2,19950718,0500,-13.9545,  54.9988, 4494,   -999,   3201.9,   1.7673,  34.7344,2,  34.7342,2,    165.2,2,  1.5246,    165.0,2,   130.10,2,    33.55,2,     0.00,2,     2.39,2, -999.000,9, -999.000,9, -999.000,9,-999.0000,9,  -999.00,9,   -999.0,9,  -999.00,9,-999.000,9,   2299.1,2,   2402.9,2,  -999.0, -999.00,-999.0000,-999.000,-999.000
    316N145_10,  I07N,   717,  1,      9,      9,2,19950718,0500,-13.9545,  54.9988, 4494,   -999,   3397.3,   1.6874,  34.7319,2,  34.7306,2,    168.4,2,  1.4269,    168.2,2,   131.20,2,    33.42,2,     0.00,2,     2.38,2, -999.000,9, -999.000,9, -999.000,9,-999.0000,9,  -999.00,9,   -999.0,9,  -999.00,9,-999.000,9,   2296.9,2,   2407.2,2,  -999.0, -999.00,-999.0000,-999.000,-999.000
    316N145_10,  I07N,   717,  1,      8,      8,2,19950718,0500,-13.9545,  54.9988, 4494,   -999,   3594.6,   1.5898,  34.7288,2,  34.7281,2,    172.3,2,  1.3115,    172.9,2,   131.37,2,    33.24,2,     0.00,2,     2.35,2, -999.000,9, -999.000,9, -999.000,9,-999.0000,9,  -999.00,9,   -999.0,9,  -999.00,9,-999.000,9,   2293.7,2,   2400.6,2,  -999.0, -999.00,-999.0000,-999.000,-999.000
    316N145_10,  I07N,   717,  1,      7,      7,2,19950718,0500,-13.9545,  54.9988, 4494,   -999,   3798.1,   1.5049,  34.7251,2,  34.7249,2,    178.2,2,  1.2074,    178.0,2,   130.99,2,    33.05,2,     0.00,2,     2.34,2, -999.000,9, -999.000,9, -999.000,9,-999.0000,9,  -999.00,9,   -999.0,9,  -999.00,9,-999.000,9,   2292.8,2,   2401.3,2,  -999.0, -999.00,-999.0000,-999.000,-999.000
    316N145_10,  I07N,   717,  1,      6,      6,2,19950718,0500,-13.9545,  54.9988, 4494,   -999,   3997.6,   1.4350,  34.7225,2,  34.7216,2,    182.2,2,  1.1181,    182.1,2,   130.78,2,    32.87,2,     0.00,2,     2.31,2, -999.000,9, -999.000,9, -999.000,9,-999.0000,9,  -999.00,9,   -999.0,9,  -999.00,9,-999.000,9,   2288.3,2,   2393.5,2,  -999.0, -999.00,-999.0000,-999.000,-999.000
    316N145_10,  I07N,   717,  1,      5,      5,2,19950718,0500,-13.9545,  54.9988, 4494,   -999,   4205.6,   1.3741,  34.7200,2,  34.7202,2,    185.9,2,  1.0361,    185.9,2,   130.02,2,    32.69,2,     0.00,2,     2.30,2, -999.000,9, -999.000,9, -999.000,9,-999.0000,9,  -999.00,9,   -999.0,9,  -999.00,9,-999.000,9,   2284.3,2,   2397.5,2,  -999.0, -999.00,-999.0000,-999.000,-999.000
    316N145_10,  I07N,   717,  1,      4,      4,2,19950718,0500,-13.9545,  54.9988, 4494,   -999,   4304.2,   1.3410,  34.7183,2,  34.7180,2,    187.7,2,  0.9930,    188.3,2,   129.64,2,    32.60,2,     0.00,2,     2.29,2,   -0.002,2,   -0.004,2, -999.000,9,-999.0000,9,  -999.00,9,   -999.0,9,  -999.00,9,-999.000,9,   2281.4,2,   2389.6,2,  -999.0, -999.00,-999.0000,-999.000,-999.000
    316N145_10,  I07N,   717,  1,      3,      3,2,19950718,0500,-13.9545,  54.9988, 4494,   -999,   4402.1,   1.3075,  34.7166,2,  34.7165,2,    190.9,2,  0.9496,    190.2,2,   129.25,2,    32.51,2,     0.00,2,     2.28,2, -999.000,9, -999.000,9, -999.000,9,-999.0000,9,  -999.00,9,   -999.0,9,  -999.00,9,-999.000,9,   2281.4,2,   2393.3,2,  -999.0, -999.00,-999.0000,-999.000,-999.000
    316N145_10,  I07N,   717,  1,      2,      2,2,19950718,0500,-13.9545,  54.9988, 4494,   -999,   4501.8,   1.2820,  34.7158,2,  34.7163,2,    192.3,2,  0.9135,    192.3,2,   128.31,2,    32.42,2,     0.00,2,     2.28,2, -999.000,9, -999.000,9, -999.000,9,-999.0000,9,  -999.00,9,   -999.0,9,  -999.00,9,-999.000,9,   2279.1,2,   2386.4,2,  -999.0, -999.00,-999.0000,-999.000,-999.000
    316N145_10,  I07N,   717,  1,      1,      1,2,19950718,0500,-13.9545,  54.9988, 4494,   -999,   4565.4,   1.2160,  34.7137,2,  34.7155,2,    196.0,2,  0.8424,    195.9,2,   126.26,2,    32.19,2,     0.00,2,     2.26,2, -999.000,9, -999.000,9, -999.000,9,-999.0000,9,  -999.00,9,   -999.0,9,  -999.00,9,-999.000,9,   2275.7,2,   2385.6,2,  -999.0, -999.00,-999.0000,-999.000,-999.000