BOTTLE,20080821WHPSIOSCD
EXPOCODE,SECT_ID,STNNBR,CASTNO,SAMPNO,BTLNBR,BTLNBR_FLAG_W,DATE,TIME,LATITUDE,LONGITUDE,DEPTH,CTDRAW,CTDPRS,CTDTMP,CTDSAL,CTDSAL_FLAG_W,SALNTY,SALNTY_FLAG_W,CTDOXY,CTDOXY_FLAG_W,THETA,OXYGEN,OXYGEN_FLAG_W,SILCAT,SILCAT_FLAG_W,NITRAT,NITRAT_FLAG_W,NITRIT,NITRIT_FLAG_W,PHSPHT,PHSPHT_FLAG_W,CFC-11,CFC-11_FLAG_W,CFC-12,CFC-12_FLAG_W,TRITUM,TRITUM_FLAG_W,HELIUM,HELIUM_FLAG_W,DELHE3,DELHE3_FLAG_W,DELC14,DELC14_FLAG_W,DELC13,DELC13_FLAG_W,NEON,NEON_FLAG_W,TCARBN,TCARBN_FLAG_W,ALKALI,ALKALI_FLAG_W,C14ERR,DELHER,HELIER,NEONER,TRITER
,,,,,,,,,,,,,DBAR,ITS-90,PSS-78,,PSS-78,,UMOL/KG,,DEG C,UMOL/KG,,UMOL/KG,,UMOL/KG,,UMOL/KG,,UMOL/KG,,PMOL/KG,,PMOL/KG,,TU,,NMOL/KG,,PERCNT,,/MILLE,,/MILLE,,NMOL/KG,,UMOL/KG,,UMOL/KG,,/MILLE,PERCNT,NMOL/KG,NMOL/KG,TU
    316N145_10,  I07N,   784,  1,     36,     36,2,19950805,1352,  9.5985,  64.2978, 4465,   -999,      5.2,  27.8490,  36.5016,2,  36.5016,2,    197.3,2, 27.8480,    197.1,2,     2.11,2,     0.00,2,     0.00,2,     0.28,2,    1.659,2,    0.934,2, -999.000,9,-999.0000,9,  -999.00,9,   -999.0,9,  -999.00,9,-999.000,9,   -999.9,5,   2380.8,2,  -999.0, -999.00,-999.0000,-999.000,-999.000
    316N145_10,  I07N,   784,  1,     35,     35,2,19950805,1352,  9.5985,  64.2978, 4465,   -999,     26.9,  27.7582,  36.5019,2,  36.5026,2,    195.7,2, 27.7522,    197.4,2,     2.09,2,     0.00,2,     0.00,2,     0.28,2,    1.644,2,    0.934,2, -999.000,9,-999.0000,9,  -999.00,9,   -999.0,9,  -999.00,9,-999.000,9,   -999.9,5,   2380.7,2,  -999.0, -999.00,-999.0000,-999.000,-999.000
    316N145_10,  I07N,   784,  1,     34,     34,2,19950805,1352,  9.5985,  64.2978, 4465,   -999,     51.8,  27.7327,  36.5037,2,  36.5041,2,    198.1,2, 27.7208,    196.5,2,     2.07,2,     0.00,2,     0.00,2,     0.28,2,    1.641,2,    0.940,2, -999.000,9,-999.0000,9,  -999.00,9,   -999.0,9,  -999.00,9,-999.000,9,   -999.9,5,   2380.7,2,  -999.0, -999.00,-999.0000,-999.000,-999.000
    316N145_10,  I07N,   784,  1,     33,     33,2,19950805,1352,  9.5985,  64.2978, 4465,   -999,     87.2,  27.7099,  36.5859,2,  36.5868,2,    189.0,2, 27.6897,    184.4,2,     2.62,2,     0.40,2,     0.60,2,     0.34,2,    1.625,2,    0.925,2, -999.000,9,-999.0000,9,  -999.00,9,   -999.0,9,  -999.00,9,-999.000,9,   -999.9,5,   2387.8,2,  -999.0, -999.00,-999.0000,-999.000,-999.000
    316N145_10,  I07N,   784,  1,     32,     32,2,19950805,1352,  9.5985,  64.2978, 4465,   -999,    107.3,  25.9310,  36.3685,2,  36.3455,2,    147.4,2, 25.9073,    139.7,2,     4.30,2,     7.41,2,     0.04,2,     0.80,2,    1.667,2,    0.930,2, -999.000,9,-999.0000,9,  -999.00,9,   -999.0,9,  -999.00,9,-999.000,9,   -999.9,5,   2365.8,2,  -999.0, -999.00,-999.0000,-999.000,-999.000
    316N145_10,  I07N,   784,  1,     31,     31,2,19950805,1352,  9.5985,  64.2978, 4465,   -999,    142.4,  19.4657,  35.6148,2,  35.6196,2,     14.0,2, 19.4400,     12.0,2,    17.30,2,    25.15,2,     0.01,2,     2.03,2,    1.109,2,    0.621,2, -999.000,9,-999.0000,9,  -999.00,9,   -999.0,9,  -999.00,9,-999.000,9,   -999.9,5,   2330.6,2,  -999.0, -999.00,-999.0000,-999.000,-999.000
    316N145_10,  I07N,   784,  1,     30,     30,2,19950805,1352,  9.5985,  64.2978, 4465,   -999,    182.6,  15.2857,  35.2621,2,  35.2660,2,     14.2,2, 15.2578,     18.1,2,    24.64,2,    27.54,2,     0.00,2,     2.15,2,    0.631,2,    0.343,2, -999.000,9,-999.0000,9,  -999.00,9,   -999.0,9,  -999.00,9,-999.000,9,   -999.9,5,   2318.3,2,  -999.0, -999.00,-999.0000,-999.000,-999.000
    316N145_10,  I07N,   784,  1,     29,     29,2,19950805,1352,  9.5985,  64.2978, 4465,   -999,    242.6,  13.6430,  35.2996,2,  35.2961,2,     41.2,2, 13.6086,     42.3,2,    24.80,2,    26.63,2,     0.00,2,     2.06,2,    0.656,2,    0.354,2, -999.000,9,-999.0000,9,  -999.00,9,   -999.0,9,  -999.00,9,-999.000,9,   -999.9,5,   2321.0,2,  -999.0, -999.00,-999.0000,-999.000,-999.000
    316N145_10,  I07N,   784,  1,     28,     28,2,19950805,1352,  9.5985,  64.2978, 4465,   -999,    283.1,  12.9472,  35.3111,2,  35.3172,2,     40.0,2, 12.9083,     33.9,2,    27.24,2,    28.05,2,     0.00,2,     2.16,2,    0.522,2,    0.279,2, -999.000,9,-999.0000,9,  -999.00,9,   -999.0,9,  -999.00,9,-999.000,9,   -999.9,5,   2323.4,2,  -999.0, -999.00,-999.0000,-999.000,-999.000
    316N145_10,  I07N,   784,  1,     27,     27,2,19950805,1352,  9.5985,  64.2978, 4465,   -999,    378.1,  11.8064,  35.2985,2,  35.2993,2,     23.7,2, 11.7572,     26.2,2,    33.25,2,    30.80,2,     0.00,2,     2.35,2,    0.275,2,    0.161,2, -999.000,9,-999.0000,9,  -999.00,9,   -999.0,9,  -999.00,9,-999.000,9,   -999.9,5,   2327.3,2,  -999.0, -999.00,-999.0000,-999.000,-999.000
    316N145_10,  I07N,   784,  1,     26,     26,2,19950805,1352,  9.5985,  64.2978, 4465,   -999,    448.0,  11.3177,  35.3145,2,  35.3185,2,     24.6,2, 11.2608,     23.7,2,    38.13,2,    31.67,2,     0.00,2,     2.46,2,    0.174,6,    0.101,6, -999.000,9,-999.0000,9,  -999.00,9,   -999.0,9,  -999.00,9,-999.000,9,   -999.9,5,   2330.6,2,  -999.0, -999.00,-999.0000,-999.000,-999.000
    316N145_10,  I07N,   784,  1,     25,     25,2,19950805,1352,  9.5985,  64.2978, 4465,   -999,    549.3,  10.8392,  35.3427,2,  35.3473,2,     19.6,2, 10.7709,     19.3,2,    45.28,2,    32.60,2,     0.00,2,     2.59,2,    0.095,2,    0.059,2, -999.000,9,-999.0000,9,  -999.00,9,   -999.0,9,  -999.00,9,-999.000,9,   -999.9,5,   2337.1,2,  -999.0, -999.00,-999.0000,-999.000,-999.000
    316N145_10,  I07N,   784,  1,     24,     24,2,19950805,1352,  9.5985,  64.2978, 4465,   -999,    669.0,  10.1302,  35.3335,2,  35.3368,2,     16.9,2, 10.0499,     17.6,2,    54.51,2,    33.85,2,     0.00,2,     2.70,2,    0.055,2,    0.037,2, -999.000,9,-999.0000,9,  -999.00,9,   -999.0,9,  -999.00,9,-999.000,9,   -999.9,5,   2347.1,2,  -999.0, -999.00,-999.0000,-999.000,-999.000
    316N145_10,  I07N,   784,  1,     23,     23,2,19950805,1352,  9.5985,  64.2978, 4465,   -999,    799.2,   9.2313,  35.2585,2,  35.2599,2,     18.9,2,  9.1400,     19.4,2,    63.56,2,    35.20,2,     0.00,2,     2.78,2,    0.029,2,    0.023,2, -999.000,9,-999.0000,9,  -999.00,9,   -999.0,9,  -999.00,9,-999.000,9,   -999.9,5,   2353.1,2,  -999.0, -999.00,-999.0000,-999.000,-999.000
    316N145_10,  I07N,   784,  1,     22,     22,2,19950805,1352,  9.5985,  64.2978, 4465,   -999,    900.1,   8.4424,  35.1976,2,  35.1966,2,     23.2,2,  8.3442,     23.4,2,    71.68,2,    36.13,2,     0.00,2,     2.84,2,    0.016,2,    0.010,2, -999.000,9,-999.0000,9,  -999.00,9,   -999.0,9,  -999.00,9,-999.000,9,   -999.9,5,   2361.4,2,  -999.0, -999.00,-999.0000,-999.000,-999.000
    316N145_10,  I07N,   784,  1,     21,     21,2,19950805,1352,  9.5985,  64.2978, 4465,   -999,    980.6,   8.3046,  35.2470,2,  35.2469,2,     23.3,2,  8.1980,     23.8,2,    74.68,2,    36.13,2,     0.00,2,     2.85,2,    0.020,2,    0.013,2, -999.000,9,-999.0000,9,  -999.00,9,   -999.0,9,  -999.00,9,-999.000,9,   -999.9,5,   2366.2,2,  -999.0, -999.00,-999.0000,-999.000,-999.000
    316N145_10,  I07N,   784,  1,     20,     20,2,19950805,1352,  9.5985,  64.2978, 4465,   -999,   1101.4,   7.3244,  35.1547,2,  35.1553,2,     32.6,2,  7.2118,     33.0,2,    83.59,2,    36.74,2,     0.00,2,     2.87,2,    0.013,2,    0.004,2, -999.000,9,-999.0000,9,  -999.00,9,   -999.0,9,  -999.00,9,-999.000,9,   -999.9,5,   2373.0,2,  -999.0, -999.00,-999.0000,-999.000,-999.000
    316N145_10,  I07N,   784,  1,     19,     19,2,19950805,1352,  9.5985,  64.2978, 4465,   -999,   1202.3,   6.5747,  35.0849,2,  35.0857,2,     40.9,2,  6.4577,     41.4,2,    90.43,2,    37.07,2,     0.00,2,     2.89,2,    0.006,2,    0.008,2, -999.000,9,-999.0000,9,  -999.00,9,   -999.0,9,  -999.00,9,-999.000,9,   -999.9,5,   2376.9,2,  -999.0, -999.00,-999.0000,-999.000,-999.000
    316N145_10,  I07N,   784,  1,     18,     18,2,19950805,1352,  9.5985,  64.2978, 4465,   -999,   1302.1,   6.0894,  35.0402,2,  35.0448,2,     48.2,2,  5.9665,     47.2,2,    94.61,2,    37.22,2,     0.00,2,     2.90,2,    0.004,2,    0.000,2, -999.000,9,-999.0000,9,  -999.00,9,   -999.0,9,  -999.00,9,-999.000,9,   -999.9,5,   2382.7,2,  -999.0, -999.00,-999.0000,-999.000,-999.000
    316N145_10,  I07N,   784,  1,     17,     17,2,19950805,1352,  9.5985,  64.2978, 4465,   -999,   1398.5,   5.4907,  34.9861,2,  34.9876,2,     58.4,2,  5.3641,     57.1,2,   100.73,2,    37.22,2,     0.00,2,     2.89,2,    0.000,2,    0.001,2, -999.000,9,-999.0000,9,  -999.00,9,   -999.0,9,  -999.00,9,-999.000,9,   -999.9,5,   2386.5,2,  -999.0, -999.00,-999.0000,-999.000,-999.000
    316N145_10,  I07N,   784,  1,     16,     16,2,19950805,1352,  9.5985,  64.2978, 4465,   -999,   1500.1,   4.9591,  34.9424,2,  34.9428,2,     66.8,2,  4.8283,     65.4,2,   106.10,2,    37.18,2,     0.00,2,     2.87,2,   -0.001,2,    0.000,2, -999.000,9,-999.0000,9,  -999.00,9,   -999.0,9,  -999.00,9,-999.000,9,   -999.9,5,   2393.2,2,  -999.0, -999.00,-999.0000,-999.000,-999.000
    316N145_10,  I07N,   784,  1,     15,     15,2,19950805,1352,  9.5985,  64.2978, 4465,   -999,   1600.3,   4.4382,  34.9097,2,  34.9114,2,     77.1,2,  4.3038,     75.9,2,   111.49,2,    37.00,2,     0.00,2,     2.84,2,   -0.001,2,    0.001,2, -999.000,9,-999.0000,9,  -999.00,9,   -999.0,9,  -999.00,9,-999.000,9,   -999.9,5,   2399.8,2,  -999.0, -999.00,-999.0000,-999.000,-999.000
    316N145_10,  I07N,   784,  1,     14,     14,2,19950805,1352,  9.5985,  64.2978, 4465,   -999,   1797.8,   3.5419,  34.8478,2,  34.8509,2,     95.0,2,  3.4006,     94.8,2,   120.83,2,    36.53,2,     0.00,2,     2.78,2, -999.000,9, -999.000,9, -999.000,9,-999.0000,9,  -999.00,9,   -999.0,9,  -999.00,9,-999.000,9,   -999.9,5,   2408.4,2,  -999.0, -999.00,-999.0000,-999.000,-999.000
    316N145_10,  I07N,   784,  1,     13,     13,2,19950805,1352,  9.5985,  64.2978, 4465,   -999,   1999.7,   2.8875,  34.8047,2,  34.8050,2,    113.6,2,  2.7372,    112.5,2,   127.11,2,    36.02,2,     0.00,2,     2.70,2, -999.000,9, -999.000,9, -999.000,9,-999.0000,9,  -999.00,9,   -999.0,9,  -999.00,9,-999.000,9,   -999.9,5,   2412.9,2,  -999.0, -999.00,-999.0000,-999.000,-999.000
    316N145_10,  I07N,   784,  1,     12,     12,2,19950805,1352,  9.5985,  64.2978, 4465,   -999,   2197.8,   2.5268,  34.7821,2,  34.7820,2,    124.4,2,  2.3643,    123.5,2,   130.85,2,    35.65,2,     0.00,2,     2.65,2, -999.000,9, -999.000,9, -999.000,9,-999.0000,9,  -999.00,9,   -999.0,9,  -999.00,9,-999.000,9,   -999.9,5,   2418.1,2,  -999.0, -999.00,-999.0000,-999.000,-999.000
    316N145_10,  I07N,   784,  1,     11,     11,2,19950805,1352,  9.5985,  64.2978, 4465,   -999,   2399.7,   2.2327,  34.7690,2,  34.7690,2,    131.7,2,  2.0570,    131.0,2,   134.01,2,    35.38,2,     0.00,2,     2.62,2, -999.000,9, -999.000,9, -999.000,9,-999.0000,9,  -999.00,9,   -999.0,9,  -999.00,9,-999.000,9,   -999.9,5,   2418.5,2,  -999.0, -999.00,-999.0000,-999.000,-999.000
    316N145_10,  I07N,   784,  1,     10,     10,2,19950805,1352,  9.5985,  64.2978, 4465,   -999,   2599.0,   2.0302,  34.7592,2,  34.7578,2,    133.7,2,  1.8399,    133.5,2,   138.80,2,    35.38,2,     0.00,2,     2.61,2, -999.000,9, -999.000,9, -999.000,9,-999.0000,9,  -999.00,9,   -999.0,9,  -999.00,9,-999.000,9,   -999.9,5,   2429.7,2,  -999.0, -999.00,-999.0000,-999.000,-999.000
    316N145_10,  I07N,   784,  1,      9,      9,2,19950805,1352,  9.5985,  64.2978, 4465,   -999,   2801.2,   1.8801,  34.7487,2,  34.7486,2,    143.3,2,  1.6738,    144.0,2,   137.36,2,    34.87,2,     0.00,2,     2.55,2, -999.000,9, -999.000,9, -999.000,9,-999.0000,9,  -999.00,9,   -999.0,9,  -999.00,9,-999.000,9,   -999.9,5,   2426.3,2,  -999.0, -999.00,-999.0000,-999.000,-999.000
    316N145_10,  I07N,   784,  1,      8,      8,2,19950805,1352,  9.5985,  64.2978, 4465,   -999,   3003.8,   1.7917,  34.7439,2,  34.7420,2,    150.0,2,  1.5679,    150.4,2,   136.73,2,    34.59,2,     0.00,2,     2.51,2, -999.000,9, -999.000,9, -999.000,9,-999.0000,9,  -999.00,9,   -999.0,9,  -999.00,9,-999.000,9,   -999.9,5,   2423.8,2,  -999.0, -999.00,-999.0000,-999.000,-999.000
    316N145_10,  I07N,   784,  1,      7,      7,2,19950805,1352,  9.5985,  64.2978, 4465,   -999,   3202.5,   1.7409,  34.7398,2,  34.7396,2,    152.6,2,  1.4987,    153.3,2,   136.69,2,    34.50,2,     0.00,2,     2.50,2, -999.000,9, -999.000,9, -999.000,9,-999.0000,9,  -999.00,9,   -999.0,9,  -999.00,9,-999.000,9,   -999.9,5,   2424.5,2,  -999.0, -999.00,-999.0000,-999.000,-999.000
    316N145_10,  I07N,   784,  1,      6,      6,2,19950805,1352,  9.5985,  64.2978, 4465,   -999,   3502.5,   1.7085,  34.7368,2,  34.7359,2,    155.4,2,  1.4367,    155.9,2,   137.06,2,    34.41,2,     0.00,2,     2.49,2, -999.000,9, -999.000,9, -999.000,9,-999.0000,9,  -999.00,9,   -999.0,9,  -999.00,9,-999.000,9,   -999.9,5,   2425.1,2,  -999.0, -999.00,-999.0000,-999.000,-999.000
    316N145_10,  I07N,   784,  1,      5,      5,2,19950805,1352,  9.5985,  64.2978, 4465,   -999,   3802.6,   1.6895,  34.7353,2,  34.7341,2,    156.9,2,  1.3865,    157.3,2,   137.23,2,    34.36,2,     0.00,2,     2.48,2, -999.000,9, -999.000,9, -999.000,9,-999.0000,9,  -999.00,9,   -999.0,9,  -999.00,9,-999.000,9,   -999.9,5,   2423.5,2,  -999.0, -999.00,-999.0000,-999.000,-999.000
    316N145_10,  I07N,   784,  1,      4,      4,2,19950805,1352,  9.5985,  64.2978, 4465,   -999,   4104.4,   1.6735,  34.7342,2,  34.7325,2,    158.7,2,  1.3380,    158.4,2,   137.40,2,    34.32,2,     0.00,2,     2.48,2, -999.000,9, -999.000,9, -999.000,9,-999.0000,9,  -999.00,9,   -999.0,9,  -999.00,9,-999.000,9,   -999.9,5,   2427.5,2,  -999.0, -999.00,-999.0000,-999.000,-999.000
    316N145_10,  I07N,   784,  1,      3,      3,2,19950805,1352,  9.5985,  64.2978, 4465,   -999,   4401.1,   1.6394,  34.7316,2,  34.7308,2,    163.0,2,  1.2714,    162.7,2,   136.97,2,    34.09,2,     0.00,2,     2.45,2, -999.000,9, -999.000,9, -999.000,9,-999.0000,9,  -999.00,9,   -999.0,9,  -999.00,9,-999.000,9,   -999.9,5,   2422.9,2,  -999.0, -999.00,-999.0000,-999.000,-999.000
    316N145_10,  I07N,   784,  1,      2,      2,2,19950805,1352,  9.5985,  64.2978, 4465,   -999,   4508.4,   1.6231,  34.7292,2,  34.7280,2,    163.1,2,  1.2432,    163.2,2,   137.14,2,    34.14,2,     0.00,2,     2.44,2, -999.000,9, -999.000,9, -999.000,9,-999.0000,9,  -999.00,9,   -999.0,9,  -999.00,9,-999.000,9,   -999.9,5,   2429.7,2,  -999.0, -999.00,-999.0000,-999.000,-999.000
    316N145_10,  I07N,   784,  1,      1,      1,2,19950805,1352,  9.5985,  64.2978, 4465,   -999,   4534.4,   1.6251,  34.7299,2,  34.7296,2,    163.0,2,  1.2421,    163.4,2,   137.51,2,    34.10,2,     0.00,2,     2.45,2, -999.000,9, -999.000,9, -999.000,9,-999.0000,9,  -999.00,9,   -999.0,9,  -999.00,9,-999.000,9,   -999.9,5,   2438.7,2,  -999.0, -999.00,-999.0000,-999.000,-999.000