BOTTLE,20080821WHPSIOSCD
EXPOCODE,SECT_ID,STNNBR,CASTNO,SAMPNO,BTLNBR,BTLNBR_FLAG_W,DATE,TIME,LATITUDE,LONGITUDE,DEPTH,CTDRAW,CTDPRS,CTDTMP,CTDSAL,CTDSAL_FLAG_W,SALNTY,SALNTY_FLAG_W,CTDOXY,CTDOXY_FLAG_W,THETA,OXYGEN,OXYGEN_FLAG_W,SILCAT,SILCAT_FLAG_W,NITRAT,NITRAT_FLAG_W,NITRIT,NITRIT_FLAG_W,PHSPHT,PHSPHT_FLAG_W,CFC-11,CFC-11_FLAG_W,CFC-12,CFC-12_FLAG_W,TRITUM,TRITUM_FLAG_W,HELIUM,HELIUM_FLAG_W,DELHE3,DELHE3_FLAG_W,DELC14,DELC14_FLAG_W,DELC13,DELC13_FLAG_W,NEON,NEON_FLAG_W,TCARBN,TCARBN_FLAG_W,ALKALI,ALKALI_FLAG_W,C14ERR,DELHER,HELIER,NEONER,TRITER
,,,,,,,,,,,,,DBAR,ITS-90,PSS-78,,PSS-78,,UMOL/KG,,DEG C,UMOL/KG,,UMOL/KG,,UMOL/KG,,UMOL/KG,,UMOL/KG,,PMOL/KG,,PMOL/KG,,TU,,NMOL/KG,,PERCNT,,/MILLE,,/MILLE,,NMOL/KG,,UMOL/KG,,UMOL/KG,,/MILLE,PERCNT,NMOL/KG,NMOL/KG,TU
    316N145_10,  I07N,   854,  1,     12,     12,2,19950822,0106, 24.4810,  57.0952,  372,   -999,      4.5,  31.6619,  36.9082,8,  36.9154,2,    100.0,2, 31.6610,    187.7,2,     3.19,2,     0.08,2,     0.00,2,     0.18,2,    1.412,2,    0.818,2, -999.000,9,-999.0000,9,  -999.00,9,   -999.0,9,  -999.00,9,-999.000,9,   -999.9,5,   2428.4,2,  -999.0, -999.00,-999.0000,-999.000,-999.000
    316N145_10,  I07N,   854,  1,     11,     11,2,19950822,0106, 24.4810,  57.0952,  372,   -999,     25.0,  23.8371,  36.4032,2,  36.4651,2,     87.0,2, 23.8320,    109.2,2,     6.49,2,    11.73,2,     0.25,2,     1.15,2, -999.000,9, -999.000,9, -999.000,9,-999.0000,9,  -999.00,9,   -999.0,9,  -999.00,9,-999.000,9,   -999.9,5,   2379.9,2,  -999.0, -999.00,-999.0000,-999.000,-999.000
    316N145_10,  I07N,   854,  1,     10,     10,2,19950822,0106, 24.4810,  57.0952,  372,   -999,     55.1,  22.6328,  36.4662,2,  36.6295,2,     53.8,2, 22.6218,     54.3,2,    10.67,2,    18.06,2,     0.02,2,     1.61,2,    1.579,3,    4.254,3, -999.000,9,-999.0000,9,  -999.00,9,   -999.0,9,  -999.00,9,-999.000,9,   -999.9,5,   2378.9,2,  -999.0, -999.00,-999.0000,-999.000,-999.000
    316N145_10,  I07N,   854,  1,      9,      9,2,19950822,0106, 24.4810,  57.0952,  372,   -999,     74.1,  23.5954,  37.1614,2,  37.0922,2,     53.8,2, 23.5800,     56.6,2,    11.86,2,    16.16,2,     0.00,2,     1.53,2, -999.000,9, -999.000,9, -999.000,9,-999.0000,9,  -999.00,9,   -999.0,9,  -999.00,9,-999.000,9,   -999.9,5,   2400.0,3,  -999.0, -999.00,-999.0000,-999.000,-999.000
    316N145_10,  I07N,   854,  1,      8,      8,2,19950822,0106, 24.4810,  57.0952,  372,   -999,     89.2,  23.6819,  37.5521,2,  37.2132,3,     50.8,2, 23.6633,     51.5,2,    13.24,2,    16.16,2,     0.00,2,     1.56,2,    1.395,3,   14.547,3, -999.000,9,-999.0000,9,  -999.00,9,   -999.0,9,  -999.00,9,-999.000,9,   -999.9,5,   2398.6,2,  -999.0, -999.00,-999.0000,-999.000,-999.000
    316N145_10,  I07N,   854,  1,      7,      7,2,19950822,0106, 24.4810,  57.0952,  372,   -999,    135.2,  18.9450,  36.3006,2,  36.3018,2,      7.9,2, 18.9209,      8.3,2,    21.60,2,    21.16,2,     0.00,2,     2.18,2, -999.000,9, -999.000,9, -999.000,9,-999.0000,9,  -999.00,9,   -999.0,9,  -999.00,9,-999.000,9,   -999.9,5,   2365.0,2,  -999.0, -999.00,-999.0000,-999.000,-999.000
    316N145_10,  I07N,   854,  1,      6,      6,2,19950822,0106, 24.4810,  57.0952,  372,   -999,    170.4,  19.4165,  36.7452,2,  36.7514,2,     25.4,2, 19.3854,     26.6,2,    19.64,2,    19.10,2,     0.00,2,     1.95,2,    1.066,3,    2.667,3, -999.000,9,-999.0000,9,  -999.00,9,   -999.0,9,  -999.00,9,-999.000,9,   -999.9,5,   2382.9,2,  -999.0, -999.00,-999.0000,-999.000,-999.000
    316N145_10,  I07N,   854,  1,      5,      5,2,19950822,0106, 24.4810,  57.0952,  372,   -999,    200.3,  19.9675,  37.1220,2,  37.0749,2,     38.0,2, 19.9302,     39.9,2,    18.39,2,    17.65,2,     0.00,2,     1.81,2,    1.162,3,    3.033,3, -999.000,9,-999.0000,9,  -999.00,9,   -999.0,9,  -999.00,9,-999.000,9,   -999.9,5,   2397.5,2,  -999.0, -999.00,-999.0000,-999.000,-999.000
    316N145_10,  I07N,   854,  1,      4,      4,2,19950822,0106, 24.4810,  57.0952,  372,   -999,    250.2,  19.1346,  37.2243,2,  37.1782,2,     39.9,2, 19.0892,     42.3,2,    19.93,2,    17.56,2,     0.00,2,     1.83,2,    1.115,3,    3.157,3, -999.000,9,-999.0000,9,  -999.00,9,   -999.0,9,  -999.00,9,-999.000,9,   -999.9,5,   2399.5,2,  -999.0, -999.00,-999.0000,-999.000,-999.000
    316N145_10,  I07N,   854,  1,      3,      3,2,19950822,0106, 24.4810,  57.0952,  372,   -999,    273.9,  17.9093,  36.9132,2,  36.9109,2,     29.3,2, 17.8619,     30.2,2,    22.69,2,    18.96,2,     0.00,2,     1.97,2,    0.951,3,    2.276,3, -999.000,9,-999.0000,9,  -999.00,9,   -999.0,9,  -999.00,9,-999.000,9,   -999.9,5,   2393.5,2,  -999.0, -999.00,-999.0000,-999.000,-999.000
    316N145_10,  I07N,   854,  1,      2,      2,2,19950822,0106, 24.4810,  57.0952,  372,   -999,    349.2,  15.3588,  36.3072,2,  36.2983,2,      8.1,2, 15.3043,      7.5,2,    31.54,2,    21.58,2,     0.01,2,     2.35,2,    0.535,2,    0.558,2, -999.000,9,-999.0000,9,  -999.00,9,   -999.0,9,  -999.00,9,-999.000,9,   -999.9,5,   2367.4,2,  -999.0, -999.00,-999.0000,-999.000,-999.000
    316N145_10,  I07N,   854,  1,      1,      1,2,19950822,0106, 24.4810,  57.0952,  372,   -999,    369.1,  15.0820,  36.2477,2,  36.2627,2,      6.0,2, 15.0251,      6.6,2,    32.21,2,    21.72,2,     0.01,2,     2.37,2,    0.519,2,    0.513,2, -999.000,9,-999.0000,9,  -999.00,9,   -999.0,9,  -999.00,9,-999.000,9,   -999.9,5,   2367.6,2,  -999.0, -999.00,-999.0000,-999.000,-999.000
    316N145_10,  I07N,   855,  1,      6,      6,2,19950822,0327, 24.3897,  56.9592,   88,   -999,      4.2,  31.3703,  36.8063,8,  36.7901,2,    196.9,2, 31.3695,    195.2,2,     2.27,2,     0.06,2,     0.00,2,     0.22,2,    1.486,2,    0.892,2, -999.000,9,-999.0000,9,  -999.00,9,   -999.0,9,  -999.00,9,-999.000,9,   -999.9,5,   2407.2,2,  -999.0, -999.00,-999.0000,-999.000,-999.000
    316N145_10,  I07N,   855,  1,      5,      5,2,19950822,0327, 24.3897,  56.9592,   88,   -999,     22.7,  24.8593,  36.3275,2,  36.4612,2,    154.2,2, 24.8545,    163.1,2,     4.34,2,     2.56,2,     0.11,2,     0.70,2,    1.763,2,    1.057,2, -999.000,9,-999.0000,9,  -999.00,9,   -999.0,9,  -999.00,9,-999.000,9,   -999.9,9,   -999.9,9,  -999.0, -999.00,-999.0000,-999.000,-999.000
    316N145_10,  I07N,   855,  1,      4,      4,2,19950822,0327, 24.3897,  56.9592,   88,   -999,     36.5,  23.8650,  36.5600,2,  36.5434,2,    120.0,2, 23.8574,    101.3,2,     6.40,2,    12.84,2,     0.21,2,     1.21,2,    1.724,2,    1.476,3, -999.000,9,-999.0000,9,  -999.00,9,   -999.0,9,  -999.00,9,-999.000,9,   -999.9,9,   -999.9,9,  -999.0, -999.00,-999.0000,-999.000,-999.000
    316N145_10,  I07N,   855,  1,      3,      3,2,19950822,0327, 24.3897,  56.9592,   88,   -999,     63.6,  20.8797,  36.1210,2,  36.1170,2,      9.2,2, 20.8676,      5.3,2,    15.93,2,    23.56,2,     0.00,2,     2.13,2,    1.300,2,    0.819,2, -999.000,9,-999.0000,9,  -999.00,9,   -999.0,9,  -999.00,9,-999.000,9,   -999.9,9,   -999.9,9,  -999.0, -999.00,-999.0000,-999.000,-999.000
    316N145_10,  I07N,   855,  1,      2,      2,2,19950822,0327, 24.3897,  56.9592,   88,   -999,     73.6,  20.3375,  36.1125,2,  36.3231,2,      4.7,2, 20.3238,     14.4,2,    16.59,2,    21.73,2,     0.00,2,     2.05,2,    1.240,2,    3.126,3, -999.000,9,-999.0000,9,  -999.00,9,   -999.0,9,  -999.00,9,-999.000,9,   -999.9,9,   -999.9,9,  -999.0, -999.00,-999.0000,-999.000,-999.000
    316N145_10,  I07N,   855,  1,      1,      1,2,19950822,0327, 24.3897,  56.9592,   88,   -999,     86.1,  22.4913,  37.2013,2,  36.5435,3,     50.4,2, 22.4739,     23.9,2,    15.35,2,    20.37,2,     0.00,2,     1.92,2,    1.321,2,    5.928,3, -999.000,9,-999.0000,9,  -999.00,9,   -999.0,9,  -999.00,9,-999.000,9,   -999.9,9,   -999.9,9,  -999.0, -999.00,-999.0000,-999.000,-999.000
    316N145_10,  I07N,   856,  1,      9,      9,2,19950822,1511, 26.4108,  56.5700,  219,   -999,      4.1,  31.9192,  37.0186,8,  37.0244,2,     47.0,2, 31.9182,    193.9,2,     3.04,2,     0.05,2,     0.00,2,     0.09,2,    1.453,2,    1.634,3, -999.000,9,-999.0000,9,  -999.00,9,   -999.0,9,  -999.00,9,-999.000,9,   1996.0,2,   2414.8,2,  -999.0, -999.00,-999.0000,-999.000,-999.000
    316N145_10,  I07N,   856,  1,      8,      8,2,19950822,1511, 26.4108,  56.5700,  219,   -999,     21.7,  28.3236,  37.4177,2,  37.4518,2,     40.6,2, 28.3184,    150.4,2,     4.92,2,     3.05,2,     0.40,2,     0.49,2,    1.623,3,   16.880,3, -999.000,9,-999.0000,9,  -999.00,9,   -999.0,9,  -999.00,9,-999.000,9,   -999.9,9,   -999.9,9,  -999.0, -999.00,-999.0000,-999.000,-999.000
    316N145_10,  I07N,   856,  1,      7,      7,2,19950822,1511, 26.4108,  56.5700,  219,   -999,     38.7,  28.1093,  39.1347,2,  39.1365,2,     35.9,2, 28.1002,    114.4,2,     6.45,2,     5.59,2,     0.24,2,     0.51,2,    1.615,3,   42.607,3, -999.000,9,-999.0000,9,  -999.00,9,   -999.0,9,  -999.00,9,-999.000,9,   -999.9,9,   -999.9,9,  -999.0, -999.00,-999.0000,-999.000,-999.000
    316N145_10,  I07N,   856,  1,      6,      6,2,19950822,1511, 26.4108,  56.5700,  219,   -999,     53.1,  27.9347,  39.2061,2,  39.2559,2,     36.9,2, 27.9222,    110.0,2,     6.61,2,     6.09,2,     0.20,2,     0.55,2,    1.640,3,   42.608,3, -999.000,9,-999.0000,9,  -999.00,9,   -999.0,9,  -999.00,9,-999.000,9,   -999.9,9,   -999.9,9,  -999.0, -999.00,-999.0000,-999.000,-999.000
    316N145_10,  I07N,   856,  1,      5,      5,2,19950822,1511, 26.4108,  56.5700,  219,   -999,     83.3,  23.6641,  39.9460,2,  39.9517,2,     42.9,2, 23.6465,    101.4,2,     9.34,2,     7.71,2,     0.10,2,     0.76,2,    1.883,3,    8.213,3, -999.000,9,-999.0000,9,  -999.00,9,   -999.0,9,  -999.00,9,-999.000,9,   -999.9,9,   -999.9,9,  -999.0, -999.00,-999.0000,-999.000,-999.000
    316N145_10,  I07N,   856,  1,      4,      4,2,19950822,1511, 26.4108,  56.5700,  219,   -999,    118.6,  23.0665,  40.0181,2,  40.0204,2,     50.3,2, 23.0418,    101.5,2,     9.50,2,     7.78,2,     0.11,2,     0.79,2,    1.927,3,    4.894,3, -999.000,9,-999.0000,9,  -999.00,9,   -999.0,9,  -999.00,9,-999.000,9,   -999.9,9,   -999.9,9,  -999.0, -999.00,-999.0000,-999.000,-999.000
    316N145_10,  I07N,   856,  1,      3,      3,2,19950822,1511, 26.4108,  56.5700,  219,   -999,    148.7,  22.7940,  40.0474,2,  40.0479,2,     49.1,2, 22.7633,    101.7,2,     9.83,2,     7.85,2,     0.09,2,     0.80,2,    1.951,3,    3.832,3, -999.000,9,-999.0000,9,  -999.00,9,   -999.0,9,  -999.00,9,-999.000,9,   -999.9,9,   -999.9,9,  -999.0, -999.00,-999.0000,-999.000,-999.000
    316N145_10,  I07N,   856,  1,      2,      2,2,19950822,1511, 26.4108,  56.5700,  219,   -999,    211.2,  22.5871,  40.0716,2,  40.0722,2,     45.1,2, 22.5437,    102.9,2,     9.82,2,     7.89,2,     0.09,2,     0.82,2,    1.966,3,    3.090,3, -999.000,9,-999.0000,9,  -999.00,9,   -999.0,9,  -999.00,9,-999.000,9,   -999.9,9,   -999.9,9,  -999.0, -999.00,-999.0000,-999.000,-999.000
    316N145_10,  I07N,   856,  1,      1,      1,2,19950822,1511, 26.4108,  56.5700,  219,   -999,    220.0,  22.5837,  40.0726,2,  40.0737,2,     42.9,2, 22.5385,    102.3,2,     9.81,2,     7.89,2,     0.09,2,     0.81,2,    1.955,3,    3.096,3, -999.000,9,-999.0000,9,  -999.00,9,   -999.0,9,  -999.00,9,-999.000,9,   -999.9,9,   -999.9,9,  -999.0, -999.00,-999.0000,-999.000,-999.000