BOTTLE,20080821WHPSIOSCD
EXPOCODE,SECT_ID,STNNBR,CASTNO,SAMPNO,BTLNBR,BTLNBR_FLAG_W,DATE,TIME,LATITUDE,LONGITUDE,DEPTH,CTDRAW,CTDPRS,CTDTMP,CTDSAL,CTDSAL_FLAG_W,SALNTY,SALNTY_FLAG_W,CTDOXY,CTDOXY_FLAG_W,THETA,OXYGEN,OXYGEN_FLAG_W,SILCAT,SILCAT_FLAG_W,NITRAT,NITRAT_FLAG_W,NITRIT,NITRIT_FLAG_W,PHSPHT,PHSPHT_FLAG_W,CFC-11,CFC-11_FLAG_W,CFC-12,CFC-12_FLAG_W,TRITUM,TRITUM_FLAG_W,HELIUM,HELIUM_FLAG_W,DELHE3,DELHE3_FLAG_W,DELC14,DELC14_FLAG_W,DELC13,DELC13_FLAG_W,NEON,NEON_FLAG_W,TCARBN,TCARBN_FLAG_W,ALKALI,ALKALI_FLAG_W,C14ERR,DELHER,HELIER,NEONER,TRITER
,,,,,,,,,,,,,DBAR,ITS-90,PSS-78,,PSS-78,,UMOL/KG,,DEG C,UMOL/KG,,UMOL/KG,,UMOL/KG,,UMOL/KG,,UMOL/KG,,PMOL/KG,,PMOL/KG,,TU,,NMOL/KG,,PERCNT,,/MILLE,,/MILLE,,NMOL/KG,,UMOL/KG,,UMOL/KG,,/MILLE,PERCNT,NMOL/KG,NMOL/KG,TU
    316N145_10,  I07N,   795,  1,     36,     36,2,19950808,0658, 15.1900,  64.2155, 3902,   -999,      4.4,  26.8616,  36.3351,2,  36.3357,2,    211.3,2, 26.8608,    207.6,2,     2.04,2,     0.23,2,     0.04,2,     0.36,2,    1.707,2,    0.958,2,    0.708,2,   1.6550,2,    -0.60,2,   -999.0,9,  -999.00,9,   6.770,2,   2021.6,2,   2375.8,2,  -999.0,    0.20,  0.0080,   0.135,   0.008
    316N145_10,  I07N,   795,  1,     35,     35,2,19950808,0658, 15.1900,  64.2155, 3902,   -999,     47.3,  26.6962,  36.3091,2,  36.3086,2,    205.3,2, 26.6856,    204.5,2,     2.22,2,     0.60,2,     0.08,2,     0.40,2, -999.000,9, -999.000,9, -999.000,9,-999.0000,9,  -999.00,9,   -999.0,9,  -999.00,9,-999.000,9,   -999.9,9,   -999.9,9,  -999.0, -999.00,-999.0000,-999.000,-999.000
    316N145_10,  I07N,   795,  1,     34,     34,2,19950808,0658, 15.1900,  64.2155, 3902,   -999,     82.3,  26.0450,  36.3440,2,  36.3363,2,    208.5,2, 26.0268,    157.3,2,     3.57,2,     6.39,2,     0.18,2,     0.73,2,    1.742,2,    0.991,2, -999.000,9,-999.0000,9,  -999.00,9,   -999.0,9,  -999.00,9,-999.000,9,   -999.9,9,   -999.9,9,  -999.0, -999.00,-999.0000,-999.000,-999.000
    316N145_10,  I07N,   795,  1,     33,     33,2,19950808,0658, 15.1900,  64.2155, 3902,   -999,    126.6,  22.2930,  36.0533,2,  36.0567,2,     56.1,2, 22.2678,     47.1,2,    10.34,2,    21.06,2,     0.02,2,     1.69,2,    1.543,2,    0.875,2,    0.763,2,   1.7170,2,     3.90,2,   -999.0,9,  -999.00,9,   7.047,2,   -999.9,9,   -999.9,9,  -999.0,    0.20,  0.0090,   0.141,   0.008
    316N145_10,  I07N,   795,  1,     32,     32,2,19950808,0658, 15.1900,  64.2155, 3902,   -999,    148.2,  20.0499,  35.8253,2,  35.8103,2,      5.0,2, 20.0225,      2.0,2,    17.49,2,    24.92,2,     0.01,2,     2.22,2, -999.000,9, -999.000,9, -999.000,9,-999.0000,9,  -999.00,9,   -999.0,9,  -999.00,9,-999.000,9,   -999.9,9,   -999.9,9,  -999.0, -999.00,-999.0000,-999.000,-999.000
    316N145_10,  I07N,   795,  1,     31,     31,2,19950808,0658, 15.1900,  64.2155, 3902,   -999,    167.2,  19.1388,  35.8428,2,  35.8461,2,      3.1,2, 19.1089,      3.9,2,    19.20,2,    24.09,2,     0.00,2,     2.27,2, -999.000,9, -999.000,9, -999.000,9,-999.0000,9,  -999.00,9,   -999.0,9,  -999.00,9,-999.000,9,   -999.9,9,   -999.9,9,  -999.0, -999.00,-999.0000,-999.000,-999.000
    316N145_10,  I07N,   795,  1,     30,     30,2,19950808,0658, 15.1900,  64.2155, 3902,   -999,    187.9,  18.2766,  35.8973,2,  35.8852,2,      1.4,2, 18.2440,      2.2,2,    22.27,2,    22.85,2,     0.00,2,     2.32,2,    0.866,2,    0.514,2, -999.000,9,-999.0000,9,  -999.00,9,   -999.0,9,  -999.00,9,-999.000,9,   -999.9,9,   -999.9,9,  -999.0, -999.00,-999.0000,-999.000,-999.000
    316N145_10,  I07N,   795,  1,     29,     29,2,19950808,0658, 15.1900,  64.2155, 3902,   -999,    233.1,  16.8445,  35.9288,2,  35.9480,2,      4.1,2, 16.8061,      5.7,3,    24.36,2,    23.21,2,     0.00,2,     2.30,2,    0.752,2,    0.444,2, -999.000,9,   1.7660,2,     2.80,2,   -999.0,9,  -999.00,9,   7.212,2,   -999.9,9,   -999.9,9,  -999.0,    0.20,  0.0090,   0.144,-999.000
    316N145_10,  I07N,   795,  1,     28,     28,2,19950808,0658, 15.1900,  64.2155, 3902,   -999,    278.6,  15.2972,  35.8296,2,  35.8280,2,      1.6,2, 15.2542,      0.9,2,    28.97,2,    20.31,2,     1.61,2,     2.43,2, -999.000,9, -999.000,9, -999.000,9,-999.0000,9,  -999.00,9,   -999.0,9,  -999.00,9,-999.000,9,   -999.9,9,   -999.9,9,  -999.0, -999.00,-999.0000,-999.000,-999.000
    316N145_10,  I07N,   795,  1,     27,     27,2,19950808,0658, 15.1900,  64.2155, 3902,   -999,    343.6,  13.9854,  35.7853,2,  35.7828,2,      1.8,2, 13.9354,      1.1,2,    33.17,2,    21.15,2,     2.34,2,     2.53,2,    0.280,2,    0.185,2,    0.365,2,   1.7880,2,     2.40,2,   -999.0,9,  -999.00,9,   7.243,2,   -999.9,9,   -999.9,9,  -999.0,    0.20,  0.0090,   0.145,   0.008
    316N145_10,  I07N,   795,  1,     26,     26,2,19950808,0658, 15.1900,  64.2155, 3902,   -999,    418.9,  13.2197,  35.7717,2,  35.7702,2,      1.9,2, 13.1607,      1.1,2,    36.99,2,    25.57,2,     0.01,2,     2.59,2,    0.210,2,    0.134,2, -999.000,9,-999.0000,9,  -999.00,9,   -999.0,9,  -999.00,9,-999.000,9,   -999.9,9,   -999.9,9,  -999.0, -999.00,-999.0000,-999.000,-999.000
    316N145_10,  I07N,   795,  1,     25,     25,2,19950808,0658, 15.1900,  64.2155, 3902,   -999,    459.3,  12.6797,  35.6999,2,  35.7044,2,      2.0,2, 12.6167,      2.0,2,    39.64,2,    27.25,2,     0.00,2,     2.62,2,    0.163,2,    0.101,2,    0.156,2,   1.8240,2,     1.90,2,   -999.0,9,  -999.00,9,   7.408,2,   -999.9,9,   -999.9,9,  -999.0,    0.20,  0.0090,   0.148,   0.008
    316N145_10,  I07N,   795,  1,     24,     24,2,19950808,0658, 15.1900,  64.2155, 3902,   -999,    549.4,  11.9043,  35.6228,2,  35.6210,2,      2.1,2, 11.8316,      2.6,2,    44.80,2,    29.44,2,     0.00,2,     2.68,2,    0.098,2,    0.058,2, -999.000,9,-999.0000,9,  -999.00,9,   -999.0,9,  -999.00,9,-999.000,9,   -999.9,9,   -999.9,9,  -999.0, -999.00,-999.0000,-999.000,-999.000
    316N145_10,  I07N,   795,  1,     23,     23,2,19950808,0658, 15.1900,  64.2155, 3902,   -999,    639.7,  11.1820,  35.5709,2,  35.5700,2,      2.8,2, 11.1004,      3.2,2,    51.68,2,    31.26,2,     0.00,2,     2.76,2,    0.057,2,    0.036,2,    0.109,2,   1.8150,2,     7.90,2,   -999.0,9,  -999.00,9,   7.515,2,   -999.9,9,   -999.9,9,  -999.0,    0.20,  0.0090,   0.150,   0.008
    316N145_10,  I07N,   795,  1,     22,     22,2,19950808,0658, 15.1900,  64.2155, 3902,   -999,    660.4,  11.2052,  35.6132,2,  35.6118,2,      3.5,2, 11.1207,      3.6,2,    52.58,2,    31.07,2,     0.00,2,     2.75,2, -999.000,9, -999.000,9, -999.000,9,-999.0000,9,  -999.00,9,   -999.0,9,  -999.00,9,-999.000,9,   -999.9,9,   -999.9,9,  -999.0, -999.00,-999.0000,-999.000,-999.000
    316N145_10,  I07N,   795,  1,     21,     21,2,19950808,0658, 15.1900,  64.2155, 3902,   -999,    710.0,  10.6661,  35.5429,2,  35.5400,2,      3.5,2, 10.5778,      3.9,2,    56.95,2,    32.71,2,     0.00,2,     2.81,2,    0.045,2,    0.028,2, -999.000,9,-999.0000,9,  -999.00,9,   -999.0,9,  -999.00,9,-999.000,9,   -999.9,9,   -999.9,9,  -999.0, -999.00,-999.0000,-999.000,-999.000
    316N145_10,  I07N,   795,  1,     20,     20,2,19950808,0658, 15.1900,  64.2155, 3902,   -999,    850.6,   9.5213,  35.4414,2,  35.4412,2,      4.7,2,  9.4218,      5.0,2,    67.28,2,    35.11,2,     0.00,2,     2.92,2,    0.022,2,    0.015,2,    0.034,2,   1.8290,2,    10.60,2,   -999.0,9,  -999.00,9,   7.658,2,   -999.9,9,   -999.9,9,  -999.0,    0.20,  0.0090,   0.153,   0.008
    316N145_10,  I07N,   795,  1,     19,     19,2,19950808,0658, 15.1900,  64.2155, 3902,   -999,    951.5,   8.7076,  35.3608,2,  35.3615,2,      9.6,2,  8.6014,      9.7,2,    73.75,2,    36.34,2,     0.00,2,     2.92,2,    0.016,2,    0.009,2, -999.000,9,-999.0000,9,  -999.00,9,   -999.0,9,  -999.00,9,-999.000,9,   -999.9,9,   -999.9,9,  -999.0, -999.00,-999.0000,-999.000,-999.000
    316N145_10,  I07N,   795,  1,     18,     18,2,19950808,0658, 15.1900,  64.2155, 3902,   -999,   1052.1,   7.9893,  35.3058,2,  35.3042,2,     14.5,2,  7.8768,     13.9,2,    80.81,2,    37.15,2,     0.00,2,     2.97,2,    0.015,2,    0.009,2,    0.006,2,   1.8550,2,    12.20,2,   -999.0,9,  -999.00,9,   7.725,2,   -999.9,9,   -999.9,9,  -999.0,    0.20,  0.0090,   0.154,   0.008
    316N145_10,  I07N,   795,  1,     17,     17,2,19950808,0658, 15.1900,  64.2155, 3902,   -999,   1224.6,   6.8315,  35.1755,2,  35.1722,2,     25.7,2,  6.7097,     24.7,2,    91.17,2,    38.01,2,     0.00,2,     3.01,2,    0.006,2,    0.000,2, -999.000,9,   1.8640,2,    12.00,2,   -999.0,9,  -999.00,9,   7.832,2,   -999.9,9,   -999.9,9,  -999.0,    0.20,  0.0090,   0.157,-999.000
    316N145_10,  I07N,   795,  1,     16,     16,2,19950808,0658, 15.1900,  64.2155, 3902,   -999,   1399.3,   5.6979,  35.0662,2,  35.0664,2,     38.1,2,  5.5690,     39.1,2,   103.33,2,    38.20,2,     0.00,2,     3.02,2,    0.000,2,    0.001,2,    0.000,2,   1.8780,2,    12.50,2,   -999.0,9,  -999.00,9,   7.774,2,   -999.9,9,   -999.9,9,  -999.0,    0.20,  0.0090,   0.155,   0.008
    316N145_10,  I07N,   795,  1,     15,     15,2,19950808,0658, 15.1900,  64.2155, 3902,   -999,   1600.7,   4.4500,  34.9464,2,  34.9466,2,     60.1,2,  4.3153,     60.6,2,   116.18,2,    38.06,2,     0.00,2,     2.97,2,    0.000,2,    0.004,2,    0.000,2,   1.8910,2,    13.10,2,   -999.0,9,  -999.00,9,   7.787,2,   -999.9,9,   -999.9,9,  -999.0,    0.20,  0.0090,   0.156,   0.008
    316N145_10,  I07N,   795,  1,     14,     14,2,19950808,0658, 15.1900,  64.2155, 3902,   -999,   1792.2,   3.5072,  34.8656,2,  34.8662,2,     81.0,2,  3.3667,     82.2,2,   125.98,2,    37.54,2,     0.00,2,     2.87,2,   -0.002,2,   -0.001,2,    0.000,2,   1.9000,2,    13.70,2,   -999.0,9,  -999.00,9,   7.903,2,   -999.9,9,   -999.9,9,  -999.0,    0.20,  0.0090,   0.158,   0.008
    316N145_10,  I07N,   795,  1,     13,     13,2,19950808,0658, 15.1900,  64.2155, 3902,   -999,   1864.1,   3.2334,  34.8451,2,  34.8456,2,     89.3,2,  3.0902,     88.7,2,   128.46,2,    37.30,2,     0.00,2,     2.84,2,    0.001,2,    0.003,2, -999.000,9,   1.9130,2,    13.60,2,   -999.0,9,  -999.00,9,   7.854,2,   -999.9,9,   -999.9,9,  -999.0,    0.20,  0.0100,   0.157,-999.000
    316N145_10,  I07N,   795,  1,     12,     12,2,19950808,0658, 15.1900,  64.2155, 3902,   -999,   2000.3,   2.8961,  34.8185,2,  34.8183,2,     98.9,2,  2.7456,     98.2,2,   131.74,2,    36.92,2,     0.00,2,     2.78,2, -999.000,9, -999.000,9,    0.000,2,   1.9040,2,    14.40,2,   -999.0,9,  -999.00,9,   8.001,2,   -999.9,9,   -999.9,9,  -999.0,    0.20,  0.0100,   0.160,   0.008
    316N145_10,  I07N,   795,  1,     11,     11,2,19950808,0658, 15.1900,  64.2155, 3902,   -999,   2173.8,   2.5643,  34.7966,2,  34.7953,2,    107.3,2,  2.4033,    106.6,2,   135.85,2,    36.73,2,     0.00,2,     2.75,2, -999.000,9, -999.000,9, -999.000,9,-999.0000,9,  -999.00,9,   -999.0,9,  -999.00,9,-999.000,9,   -999.9,9,   -999.9,9,  -999.0, -999.00,-999.0000,-999.000,-999.000
    316N145_10,  I07N,   795,  1,     10,     10,2,19950808,0658, 15.1900,  64.2155, 3902,   -999,   2350.7,   2.2887,  34.7763,2,  34.7759,2,    115.4,2,  2.1164,    115.7,2,   138.55,2,    36.40,2,     0.00,2,     2.69,2, -999.000,9, -999.000,9, -999.000,9,   1.8910,2,    13.30,2,   -999.0,9,  -999.00,9,   8.153,2,   -999.9,9,   -999.9,9,  -999.0,    0.20,  0.0090,   0.163,-999.000
    316N145_10,  I07N,   795,  1,      9,      9,2,19950808,0658, 15.1900,  64.2155, 3902,   -999,   2549.4,   2.0477,  34.7606,2,  34.7588,2,    125.3,2,  1.8617,    125.2,2,   139.64,2,    36.02,2,     0.00,2,     2.64,2, -999.000,9, -999.000,9, -999.000,9,   1.9090,2,    14.80,2,   -999.0,9,  -999.00,9,   8.104,2,   -999.9,9,   -999.9,9,  -999.0,    0.20,  0.0100,   0.162,-999.000
    316N145_10,  I07N,   795,  1,      8,      8,2,19950808,0658, 15.1900,  64.2155, 3902,   -999,   2778.7,   1.8850,  34.7510,2,  34.7480,2,    132.8,2,  1.6808,    131.8,2,   140.93,2,    35.83,2,     0.00,2,     2.61,2, -999.000,9, -999.000,9, -999.000,9,   1.9040,2,    15.10,2,   -999.0,9,  -999.00,9,   8.193,2,   -999.9,9,   -999.9,9,  -999.0,    0.20,  0.0100,   0.164,-999.000
    316N145_10,  I07N,   795,  1,      7,      7,2,19950808,0658, 15.1900,  64.2155, 3902,   -999,   2949.9,   1.8062,  34.7439,2,  34.7437,2,    133.5,2,  1.5873,    133.5,2,   142.22,2,    35.78,2,     0.00,2,     2.60,2, -999.000,9, -999.000,9, -999.000,9,   1.9130,2,    13.50,2,   -999.0,9,  -999.00,9,   8.251,2,   -999.9,9,   -999.9,9,  -999.0,    0.20,  0.0100,   0.165,-999.000
    316N145_10,  I07N,   795,  1,      6,      6,2,19950808,0658, 15.1900,  64.2155, 3902,   -999,   3102.2,   1.7650,  34.7422,2,  34.7404,2,    134.8,2,  1.5322,    134.4,2,   142.90,2,    35.78,2,     0.00,2,     2.59,2, -999.000,9, -999.000,9, -999.000,9,   1.8870,2,    14.50,2,   -999.0,9,  -999.00,9,   8.305,2,   -999.9,9,   -999.9,9,  -999.0,    0.20,  0.0090,   0.166,-999.000
    316N145_10,  I07N,   795,  1,      5,      5,2,19950808,0658, 15.1900,  64.2155, 3902,   -999,   3249.7,   1.7373,  34.7386,2,  34.7380,2,    136.1,2,  1.4905,    135.5,2,   142.76,2,    35.69,2,     0.00,2,     2.58,2, -999.000,9, -999.000,9, -999.000,9,   1.8910,2,    14.30,2,   -999.0,9,  -999.00,9,   8.287,2,   -999.9,9,   -999.9,9,  -999.0,    0.20,  0.0090,   0.166,-999.000
    316N145_10,  I07N,   795,  1,      4,      4,2,19950808,0658, 15.1900,  64.2155, 3902,   -999,   3499.8,   1.7136,  34.7373,2,  34.7365,2,    141.9,2,  1.4419,    141.8,2,   141.41,2,    35.45,2,     0.00,2,     2.56,2, -999.000,9, -999.000,9, -999.000,9,   1.8960,2,    13.90,2,   -999.0,9,  -999.00,9,   8.385,2,   -999.9,9,   -999.9,9,  -999.0,    0.20,  0.0090,   0.168,-999.000
    316N145_10,  I07N,   795,  1,      3,      3,2,19950808,0658, 15.1900,  64.2155, 3902,   -999,   3699.7,   1.7010,  34.7360,2,  34.7343,2,    142.7,2,  1.4087,    143.4,2,   141.07,2,    35.45,2,     0.00,2,     2.55,2, -999.000,9, -999.000,9, -999.000,9,   1.8960,2,    10.20,2,   -999.0,9,  -999.00,9,   8.363,2,   -999.9,9,   -999.9,9,  -999.0,    0.20,  0.0090,   0.167,-999.000
    316N145_10,  I07N,   795,  1,      2,      2,2,19950808,0658, 15.1900,  64.2155, 3902,   -999,   3851.5,   1.7076,  34.7353,2,  34.7333,2,    136.2,2,  1.3989,    136.3,2,   143.78,2,    35.97,2,     0.00,2,     2.58,2, -999.000,9, -999.000,9, -999.000,9,-999.0000,9,  -999.00,9,   -999.0,9,  -999.00,9,-999.000,9,   -999.9,9,   -999.9,9,  -999.0, -999.00,-999.0000,-999.000,-999.000
    316N145_10,  I07N,   795,  1,      1,      1,2,19950808,0658, 15.1900,  64.2155, 3902,   -999,   3952.0,   1.7141,  34.7362,2,  34.7343,2,    129.2,2,  1.3942,    130.2,2,   147.32,2,    36.30,2,     0.00,2,     2.61,2, -999.000,9, -999.000,9, -999.000,9,   1.9000,2,    10.60,2,   -999.0,9,  -999.00,9,   8.336,2,   -999.9,9,   -999.9,9,  -999.0,    0.20,  0.0090,   0.167,-999.000