BOTTLE,20080821WHPSIOSCD
EXPOCODE,SECT_ID,STNNBR,CASTNO,SAMPNO,BTLNBR,BTLNBR_FLAG_W,DATE,TIME,LATITUDE,LONGITUDE,DEPTH,CTDRAW,CTDPRS,CTDTMP,CTDSAL,CTDSAL_FLAG_W,SALNTY,SALNTY_FLAG_W,CTDOXY,CTDOXY_FLAG_W,THETA,OXYGEN,OXYGEN_FLAG_W,SILCAT,SILCAT_FLAG_W,NITRAT,NITRAT_FLAG_W,NITRIT,NITRIT_FLAG_W,PHSPHT,PHSPHT_FLAG_W,CFC-11,CFC-11_FLAG_W,CFC-12,CFC-12_FLAG_W,TRITUM,TRITUM_FLAG_W,HELIUM,HELIUM_FLAG_W,DELHE3,DELHE3_FLAG_W,DELC14,DELC14_FLAG_W,DELC13,DELC13_FLAG_W,NEON,NEON_FLAG_W,TCARBN,TCARBN_FLAG_W,ALKALI,ALKALI_FLAG_W,C14ERR,DELHER,HELIER,NEONER,TRITER
,,,,,,,,,,,,,DBAR,ITS-90,PSS-78,,PSS-78,,UMOL/KG,,DEG C,UMOL/KG,,UMOL/KG,,UMOL/KG,,UMOL/KG,,UMOL/KG,,PMOL/KG,,PMOL/KG,,TU,,NMOL/KG,,PERCNT,,/MILLE,,/MILLE,,NMOL/KG,,UMOL/KG,,UMOL/KG,,/MILLE,PERCNT,NMOL/KG,NMOL/KG,TU
    316N145_10,  I07N,   726,  1,     36,     36,2,19950720,1531,-10.1902,  52.5425, 4662,   -999,      8.2,  26.1532,  35.0615,2,  35.0595,2,    203.3,2, 26.1516,    201.9,2,     3.98,2,     0.48,2,     0.03,2,     0.22,2, -999.000,9, -999.000,9, -999.000,9,-999.0000,9,  -999.00,9,   -999.0,9,  -999.00,9,-999.000,9,   1964.9,2,   2297.7,2,  -999.0, -999.00,-999.0000,-999.000,-999.000
    316N145_10,  I07N,   726,  1,     35,     35,2,19950720,1531,-10.1902,  52.5425, 4662,   -999,     32.3,  26.1636,  35.0623,2,  35.0611,2,    197.1,2, 26.1567,    201.8,2,     3.79,2,     0.49,2,     0.02,2,     0.22,2,    1.710,2,    0.973,2, -999.000,9,-999.0000,9,  -999.00,9,   -999.0,9,  -999.00,9,-999.000,9,   1964.8,2,   2292.2,2,  -999.0, -999.00,-999.0000,-999.000,-999.000
    316N145_10,  I07N,   726,  1,     34,     34,2,19950720,1531,-10.1902,  52.5425, 4662,   -999,     62.7,  26.1478,  35.0738,2,  35.0829,2,    203.1,2, 26.1340,    200.2,2,     3.94,2,     0.65,2,     0.03,2,     0.23,2, -999.000,9, -999.000,9, -999.000,9,-999.0000,9,  -999.00,9,   -999.0,9,  -999.00,9,-999.000,9,   1965.6,2,   2296.5,2,  -999.0, -999.00,-999.0000,-999.000,-999.000
    316N145_10,  I07N,   726,  1,     33,     33,2,19950720,1531,-10.1902,  52.5425, 4662,   -999,     92.4,  20.2467,  35.2827,2,  35.2839,2,    152.5,2, 20.2297,    149.8,2,     9.48,2,     8.32,2,     0.29,2,     0.71,2,    1.772,2,    0.959,2, -999.000,9,-999.0000,9,  -999.00,9,   -999.0,9,  -999.00,9,-999.000,9,   2068.2,2,   2310.1,2,  -999.0, -999.00,-999.0000,-999.000,-999.000
    316N145_10,  I07N,   726,  1,     32,     32,2,19950720,1531,-10.1902,  52.5425, 4662,   -999,    122.8,  17.2832,  35.2636,2,  35.2544,2,    124.7,2, 17.2629,    122.7,2,    14.85,2,    14.59,2,     0.02,2,     1.10,2, -999.000,9, -999.000,9, -999.000,9,-999.0000,9,  -999.00,9,   -999.0,9,  -999.00,9,-999.000,9,   2122.6,2,   2318.9,2,  -999.0, -999.00,-999.0000,-999.000,-999.000
    316N145_10,  I07N,   726,  1,     31,     31,2,19950720,1531,-10.1902,  52.5425, 4662,   -999,    162.1,  15.3506,  35.1641,2,  35.1706,2,    113.5,2, 15.3258,    111.5,2,    17.09,2,    18.03,2,     0.01,2,     1.33,2,    1.353,2,    0.727,2, -999.000,9,-999.0000,9,  -999.00,9,   -999.0,9,  -999.00,9,-999.000,9,   2146.8,2,   2337.8,3,  -999.0, -999.00,-999.0000,-999.000,-999.000
    316N145_10,  I07N,   726,  1,     30,     30,2,19950720,1531,-10.1902,  52.5425, 4662,   -999,    202.1,  13.8561,  35.1003,2,  35.1031,2,    111.3,2, 13.8272,    108.8,2,    19.33,2,    20.15,2,     0.00,2,     1.48,2, -999.000,9, -999.000,9, -999.000,9,-999.0000,9,  -999.00,9,   -999.0,9,  -999.00,9,-999.000,9,   2162.2,2,   2313.9,2,  -999.0, -999.00,-999.0000,-999.000,-999.000
    316N145_10,  I07N,   726,  1,     29,     29,2,19950720,1531,-10.1902,  52.5425, 4662,   -999,    252.8,  13.0295,  35.0717,2,  35.0685,2,    129.2,2, 12.9947,    128.5,2,    18.78,2,    19.40,2,     0.00,2,     1.43,2,    1.267,2,    0.657,2, -999.000,9,-999.0000,9,  -999.00,9,   -999.0,9,  -999.00,9,-999.000,9,   2158.5,2,   2322.8,2,  -999.0, -999.00,-999.0000,-999.000,-999.000
    316N145_10,  I07N,   726,  1,     28,     28,2,19950720,1531,-10.1902,  52.5425, 4662,   -999,    312.8,  10.9907,  34.9347,2,  34.9351,2,    151.6,2, 10.9521,    151.6,2,    19.28,2,    20.28,2,     0.00,2,     1.48,2,    1.261,2,    0.642,2, -999.000,9,-999.0000,9,  -999.00,9,   -999.0,9,  -999.00,9,-999.000,9,   2160.7,2,   2311.4,2,  -999.0, -999.00,-999.0000,-999.000,-999.000
    316N145_10,  I07N,   726,  1,     27,     27,2,19950720,1531,-10.1902,  52.5425, 4662,   -999,    353.1,  10.2631,  34.8768,2,  34.8697,2,    145.3,2, 10.2213,    149.4,2,    22.04,2,    22.09,2,     0.00,2,     1.60,2, -999.000,9, -999.000,9, -999.000,9,-999.0000,9,  -999.00,9,   -999.0,9,  -999.00,9,-999.000,9,   2169.5,2,   2314.5,2,  -999.0, -999.00,-999.0000,-999.000,-999.000
    316N145_10,  I07N,   726,  1,     26,     26,2,19950720,1531,-10.1902,  52.5425, 4662,   -999,    401.7,   9.8001,  34.8376,2,  34.8393,2,    145.0,2,  9.7538,    147.9,2,    24.10,2,    23.06,2,     0.00,2,     1.67,2,    0.940,2,    0.487,2, -999.000,9,-999.0000,9,  -999.00,9,   -999.0,9,  -999.00,9,-999.000,9,   2173.4,2,   2310.4,2,  -999.0, -999.00,-999.0000,-999.000,-999.000
    316N145_10,  I07N,   726,  1,     25,     25,2,19950720,1531,-10.1902,  52.5425, 4662,   -999,    453.6,   9.2278,  34.7963,2,  34.7968,2,    142.4,2,  9.1773,    145.2,2,    27.38,2,    24.43,2,     0.00,2,     1.77,2, -999.000,9, -999.000,9, -999.000,9,-999.0000,9,  -999.00,9,   -999.0,9,  -999.00,9,-999.000,9,   2181.2,2,   2324.5,2,  -999.0, -999.00,-999.0000,-999.000,-999.000
    316N145_10,  I07N,   726,  1,     24,     24,2,19950720,1531,-10.1902,  52.5425, 4662,   -999,    483.5,   8.9410,  34.7776,2,  34.7800,2,    141.0,2,  8.8881,    142.4,2,    29.79,2,    25.27,2,     0.00,2,     1.84,2,    0.694,2,    0.352,2, -999.000,9,-999.0000,9,  -999.00,9,   -999.0,9,  -999.00,9,-999.000,9,   2186.9,2,   2314.1,2,  -999.0, -999.00,-999.0000,-999.000,-999.000
    316N145_10,  I07N,   726,  1,     23,     23,2,19950720,1531,-10.1902,  52.5425, 4662,   -999,    518.4,   8.5411,  34.7558,2,  34.7570,2,    127.9,2,  8.4858,    138.2,2,    33.77,2,    26.60,2,     0.00,2,     1.94,2,    0.557,2,    0.294,2, -999.000,9,-999.0000,9,  -999.00,9,   -999.0,9,  -999.00,9,-999.000,9,   2196.3,2,   2324.6,2,  -999.0, -999.00,-999.0000,-999.000,-999.000
    316N145_10,  I07N,   726,  1,     22,     22,2,19950720,1531,-10.1902,  52.5425, 4662,   -999,    599.6,   7.9280,  34.7618,2,  34.7639,2,    114.7,2,  7.8664,    117.1,2,    44.89,2,    29.48,2,     0.00,2,     2.17,2, -999.000,9, -999.000,9, -999.000,9,-999.0000,9,  -999.00,9,   -999.0,9,  -999.00,9,-999.000,9,   2220.4,2,   2326.6,2,  -999.0, -999.00,-999.0000,-999.000,-999.000
    316N145_10,  I07N,   726,  1,     21,     21,2,19950720,1531,-10.1902,  52.5425, 4662,   -999,    698.9,   7.2320,  34.7489,2,  34.7529,2,    111.6,2,  7.1634,    111.4,2,    53.94,2,    31.09,2,     0.00,2,     2.31,2,    0.181,2,    0.097,2, -999.000,9,-999.0000,9,  -999.00,9,   -999.0,9,  -999.00,9,-999.000,9,   2236.6,2,   2340.2,2,  -999.0, -999.00,-999.0000,-999.000,-999.000
    316N145_10,  I07N,   726,  1,     20,     20,2,19950720,1531,-10.1902,  52.5425, 4662,   -999,    799.4,   6.8425,  34.7816,2,  34.7815,2,     89.3,2,  6.7657,     89.0,2,    66.87,2,    33.42,2,     0.00,2,     2.51,2, -999.000,9, -999.000,9, -999.000,9,-999.0000,9,  -999.00,9,   -999.0,9,  -999.00,9,-999.000,9,   2262.0,2,   2346.3,2,  -999.0, -999.00,-999.0000,-999.000,-999.000
    316N145_10,  I07N,   726,  1,     19,     19,2,19950720,1531,-10.1902,  52.5425, 4662,   -999,    926.3,   6.0516,  34.7895,2,  34.7913,2,     84.8,2,  5.9672,     86.2,2,    79.68,2,    34.72,2,     0.00,2,     2.62,2,    0.022,2,    0.014,2, -999.000,9,-999.0000,9,  -999.00,9,   -999.0,9,  -999.00,9,-999.000,9,   2279.6,2,   2357.3,2,  -999.0, -999.00,-999.0000,-999.000,-999.000
    316N145_10,  I07N,   726,  1,     18,     18,2,19950720,1531,-10.1902,  52.5425, 4662,   -999,    995.8,   5.7479,  34.7841,2,  34.7848,2,     87.3,2,  5.6590,     87.6,2,    83.18,2,    34.95,2,     0.00,2,     2.64,2, -999.000,9, -999.000,9, -999.000,9,-999.0000,9,  -999.00,9,   -999.0,9,  -999.00,9,-999.000,9,   2283.4,2,   2362.0,2,  -999.0, -999.00,-999.0000,-999.000,-999.000
    316N145_10,  I07N,   726,  1,     17,     17,2,19950720,1531,-10.1902,  52.5425, 4662,   -999,   1212.7,   4.5662,  34.7391,2,  34.7413,2,    113.2,2,  4.4669,    114.7,2,    89.17,2,    34.32,2,     0.00,2,     2.55,2,    0.011,2,    0.007,2, -999.000,9,-999.0000,9,  -999.00,9,   -999.0,9,  -999.00,9,-999.000,9,   2281.1,2,   2366.9,2,  -999.0, -999.00,-999.0000,-999.000,-999.000
    316N145_10,  I07N,   726,  1,     16,     16,2,19950720,1531,-10.1902,  52.5425, 4662,   -999,   1399.1,   3.8965,  34.7232,2,  34.7242,2,    120.4,2,  3.7872,    127.1,2,    93.58,2,    34.15,2,     0.00,2,     2.53,2,    0.002,2,   -0.004,2, -999.000,9,-999.0000,9,  -999.00,9,   -999.0,9,  -999.00,9,-999.000,9,   2281.3,2,   2372.2,2,  -999.0, -999.00,-999.0000,-999.000,-999.000
    316N145_10,  I07N,   726,  1,     15,     15,2,19950720,1531,-10.1902,  52.5425, 4662,   -999,   1597.9,   3.3206,  34.7446,2,  34.7450,2,    126.9,2,  3.2003,    131.3,2,   105.71,2,    34.33,2,     0.00,2,     2.53,2, -999.000,9, -999.000,9, -999.000,9,-999.0000,9,  -999.00,9,   -999.0,9,  -999.00,9,-999.000,9,   2293.6,2,   2384.4,2,  -999.0, -999.00,-999.0000,-999.000,-999.000
    316N145_10,  I07N,   726,  1,     14,     14,2,19950720,1531,-10.1902,  52.5425, 4662,   -999,   1799.4,   2.7362,  34.7386,2,  34.7381,2,    143.9,2,  2.6059,    144.9,2,   110.91,2,    33.84,2,     0.00,2,     2.48,2, -999.000,9, -999.000,9, -999.000,9,-999.0000,9,  -999.00,9,   -999.0,9,  -999.00,9,-999.000,9,   2292.9,2,   2391.1,2,  -999.0, -999.00,-999.0000,-999.000,-999.000
    316N145_10,  I07N,   726,  1,     13,     13,2,19950720,1531,-10.1902,  52.5425, 4662,   -999,   2001.4,   2.3500,  34.7371,2,  34.7369,2,    152.9,2,  2.2079,    153.1,2,   116.13,2,    33.57,2,     0.00,2,     2.45,2, -999.000,9, -999.000,9, -999.000,9,-999.0000,9,  -999.00,9,   -999.0,9,  -999.00,9,-999.000,9,   2295.1,2,   2395.8,2,  -999.0, -999.00,-999.0000,-999.000,-999.000
    316N145_10,  I07N,   726,  1,     12,     12,2,19950720,1531,-10.1902,  52.5425, 4662,   -999,   2141.0,   2.2626,  34.7433,2,  34.7430,2,    153.0,2,  2.1097,    152.3,2,   119.55,2,    33.66,2,     0.00,2,     2.46,2, -999.000,9, -999.000,9, -999.000,9,-999.0000,9,  -999.00,9,   -999.0,9,  -999.00,9,-999.000,9,   2299.3,2,   2401.5,2,  -999.0, -999.00,-999.0000,-999.000,-999.000
    316N145_10,  I07N,   726,  1,     11,     11,2,19950720,1531,-10.1902,  52.5425, 4662,   -999,   2301.8,   2.1599,  34.7463,2,  34.7459,2,    154.1,2,  1.9944,    152.7,2,   122.62,2,    33.71,2,     0.00,2,     2.48,2, -999.000,9, -999.000,9, -999.000,9,-999.0000,9,  -999.00,9,   -999.0,9,  -999.00,9,-999.000,9,   2302.3,2,   2406.2,2,  -999.0, -999.00,-999.0000,-999.000,-999.000
    316N145_10,  I07N,   726,  1,     10,     10,2,19950720,1531,-10.1902,  52.5425, 4662,   -999,   2498.2,   2.0425,  34.7453,2,  34.7438,2,    155.7,2,  1.8613,    154.7,2,   125.51,2,    33.71,2,     0.00,2,     2.46,2, -999.000,9, -999.000,9, -999.000,9,-999.0000,9,  -999.00,9,   -999.0,9,  -999.00,9,-999.000,9,   2304.0,2,   2408.4,2,  -999.0, -999.00,-999.0000,-999.000,-999.000
    316N145_10,  I07N,   726,  1,      9,      9,2,19950720,1531,-10.1902,  52.5425, 4662,   -999,   2805.2,   1.8654,  34.7409,2,  34.7394,2,    158.9,2,  1.6591,    158.4,2,   129.15,2,    33.76,2,     0.00,2,     2.45,2, -999.000,9, -999.000,9, -999.000,9,-999.0000,9,  -999.00,9,   -999.0,9,  -999.00,9,-999.000,9,   2305.9,2,   2415.0,3,  -999.0, -999.00,-999.0000,-999.000,-999.000
    316N145_10,  I07N,   726,  1,      8,      8,2,19950720,1531,-10.1902,  52.5425, 4662,   -999,   3093.3,   1.7691,  34.7352,2,  34.7355,2,    163.0,2,  1.5371,    163.0,2,   129.67,2,    33.58,2,     0.00,2,     2.44,2, -999.000,9, -999.000,9, -999.000,9,-999.0000,9,  -999.00,9,   -999.0,9,  -999.00,9,-999.000,9,   2304.2,2,   2410.2,2,  -999.0, -999.00,-999.0000,-999.000,-999.000
    316N145_10,  I07N,   726,  1,      7,      7,2,19950720,1531,-10.1902,  52.5425, 4662,   -999,   3394.9,   1.6803,  34.7323,2,  34.7312,2,    167.7,2,  1.4202,    167.3,2,   130.18,2,    33.40,2,     0.00,2,     2.41,2, -999.000,9, -999.000,9, -999.000,9,-999.0000,9,  -999.00,9,   -999.0,9,  -999.00,9,-999.000,9,   2300.5,2,   2408.9,2,  -999.0, -999.00,-999.0000,-999.000,-999.000
    316N145_10,  I07N,   726,  1,      6,      6,2,19950720,1531,-10.1902,  52.5425, 4662,   -999,   3692.2,   1.5837,  34.7281,2,  34.7271,2,    172.5,2,  1.2953,    173.0,2,   130.51,2,    33.23,2,     0.00,2,     2.39,2, -999.000,9, -999.000,9, -999.000,9,-999.0000,9,  -999.00,9,   -999.0,9,  -999.00,9,-999.000,9,   2297.6,2,   2391.4,3,  -999.0, -999.00,-999.0000,-999.000,-999.000
    316N145_10,  I07N,   726,  1,      5,      5,2,19950720,1531,-10.1902,  52.5425, 4662,   -999,   3999.2,   1.3127,  34.7196,2,  34.7167,2,    184.9,2,  0.9991,    188.1,2,   127.89,2,    32.51,2,     0.00,2,     2.33,2,    0.002,2,    0.014,2, -999.000,9,-999.0000,9,  -999.00,9,   -999.0,9,  -999.00,9,-999.000,9,   2283.4,2,   2392.5,2,  -999.0, -999.00,-999.0000,-999.000,-999.000
    316N145_10,  I07N,   726,  1,      4,      4,2,19950720,1531,-10.1902,  52.5425, 4662,   -999,   4341.9,   1.1134,  34.7108,2,  34.7098,2,    198.8,2,  0.7681,    199.9,2,   125.28,2,    31.93,2,     0.00,2,     2.26,2,   -0.002,2,    0.002,2, -999.000,9,-999.0000,9,  -999.00,9,   -999.0,9,  -999.00,9,-999.000,9,   2272.2,2,   2384.6,2,  -999.0, -999.00,-999.0000,-999.000,-999.000
    316N145_10,  I07N,   726,  1,      3,      3,2,19950720,1531,-10.1902,  52.5425, 4662,   -999,   4654.5,   1.1128,  34.7107,2,  34.7090,2,    201.6,2,  0.7322,    201.0,2,   125.06,2,    31.85,2,     0.00,2,     2.26,2,    0.001,2,    0.005,2, -999.000,9,-999.0000,9,  -999.00,9,   -999.0,9,  -999.00,9,-999.000,9,   2270.5,2,   2377.1,2,  -999.0, -999.00,-999.0000,-999.000,-999.000
    316N145_10,  I07N,   726,  1,      2,      2,2,19950720,1531,-10.1902,  52.5425, 4662,   -999,   4733.1,   1.1197,  34.7097,2,  34.7096,2,    202.3,2,  0.7298,    202.1,2,   124.84,2,    31.85,2,     0.00,2,     2.25,2, -999.000,9, -999.000,9, -999.000,9,-999.0000,9,  -999.00,9,   -999.0,9,  -999.00,9,-999.000,9,   2269.5,2,   2385.8,2,  -999.0, -999.00,-999.0000,-999.000,-999.000
    316N145_10,  I07N,   726,  1,      1,      1,2,19950720,1531,-10.1902,  52.5425, 4662,   -999,   4759.4,   1.1217,  34.7094,2,  34.7096,2,    202.1,2,  0.7287,    201.7,2,   124.98,2,    31.85,2,     0.00,2,     2.25,2,    0.000,2,    0.006,2, -999.000,9,-999.0000,9,  -999.00,9,   -999.0,9,  -999.00,9,-999.000,9,   2270.2,2,   2388.9,2,  -999.0, -999.00,-999.0000,-999.000,-999.000