BOTTLE,20080821WHPSIOSCD
EXPOCODE,SECT_ID,STNNBR,CASTNO,SAMPNO,BTLNBR,BTLNBR_FLAG_W,DATE,TIME,LATITUDE,LONGITUDE,DEPTH,CTDRAW,CTDPRS,CTDTMP,CTDSAL,CTDSAL_FLAG_W,SALNTY,SALNTY_FLAG_W,CTDOXY,CTDOXY_FLAG_W,THETA,OXYGEN,OXYGEN_FLAG_W,SILCAT,SILCAT_FLAG_W,NITRAT,NITRAT_FLAG_W,NITRIT,NITRIT_FLAG_W,PHSPHT,PHSPHT_FLAG_W,CFC-11,CFC-11_FLAG_W,CFC-12,CFC-12_FLAG_W,TRITUM,TRITUM_FLAG_W,HELIUM,HELIUM_FLAG_W,DELHE3,DELHE3_FLAG_W,DELC14,DELC14_FLAG_W,DELC13,DELC13_FLAG_W,NEON,NEON_FLAG_W,TCARBN,TCARBN_FLAG_W,ALKALI,ALKALI_FLAG_W,C14ERR,DELHER,HELIER,NEONER,TRITER
,,,,,,,,,,,,,DBAR,ITS-90,PSS-78,,PSS-78,,UMOL/KG,,DEG C,UMOL/KG,,UMOL/KG,,UMOL/KG,,UMOL/KG,,UMOL/KG,,PMOL/KG,,PMOL/KG,,TU,,NMOL/KG,,PERCNT,,/MILLE,,/MILLE,,NMOL/KG,,UMOL/KG,,UMOL/KG,,/MILLE,PERCNT,NMOL/KG,NMOL/KG,TU
    316N145_10,  I07N,   807,  1,     36,     36,2,19950811,0232, 18.9257,  59.0167, 3413,   -999,      8.8,  24.6645,  35.9460,2,  35.9468,2,    209.6,2, 24.6628,    206.4,2,     4.17,2,     9.00,2,     0.76,2,     1.14,2,    1.817,2,    1.030,2, -999.000,9,-999.0000,9,  -999.00,9,   -999.0,9,  -999.00,9,-999.000,9,   -999.9,5,   2346.6,2,  -999.0, -999.00,-999.0000,-999.000,-999.000
    316N145_10,  I07N,   807,  1,     35,     35,2,19950811,0232, 18.9257,  59.0167, 3413,   -999,     25.7,  24.4325,  35.9394,2,  35.9408,2,    198.9,2, 24.4272,    200.0,2,     4.90,2,     9.70,2,     0.84,2,     1.20,2, -999.000,9, -999.000,9, -999.000,9,-999.0000,9,  -999.00,9,   -999.0,9,  -999.00,9,-999.000,9,   -999.9,9,   -999.9,9,  -999.0, -999.00,-999.0000,-999.000,-999.000
    316N145_10,  I07N,   807,  1,     34,     34,2,19950811,0232, 18.9257,  59.0167, 3413,   -999,     45.3,  22.5237,  35.8684,2,  35.8722,2,    158.7,2, 22.5148,    157.2,2,    10.51,2,    15.79,2,     1.47,2,     1.62,2,    1.754,2,    0.991,2, -999.000,9,-999.0000,9,  -999.00,9,   -999.0,9,  -999.00,9,-999.000,9,   -999.9,9,   -999.9,9,  -999.0, -999.00,-999.0000,-999.000,-999.000
    316N145_10,  I07N,   807,  1,     33,     33,2,19950811,0232, 18.9257,  59.0167, 3413,   -999,     67.7,  21.5247,  35.8914,2,  35.8806,2,     99.2,2, 21.5117,    100.2,2,    13.68,2,    21.68,2,     0.13,2,     1.89,2, -999.000,9, -999.000,9, -999.000,9,-999.0000,9,  -999.00,9,   -999.0,9,  -999.00,9,-999.000,9,   -999.9,9,   -999.9,9,  -999.0, -999.00,-999.0000,-999.000,-999.000
    316N145_10,  I07N,   807,  1,     32,     32,2,19950811,0232, 18.9257,  59.0167, 3413,   -999,     89.9,  19.9480,  35.7188,2,  35.7165,2,     54.2,2, 19.9315,     48.7,2,    15.72,2,    22.01,2,     0.08,2,     1.84,2,    1.337,2,    0.734,2, -999.000,9,-999.0000,9,  -999.00,9,   -999.0,9,  -999.00,9,-999.000,9,   -999.9,9,   -999.9,9,  -999.0, -999.00,-999.0000,-999.000,-999.000
    316N145_10,  I07N,   807,  1,     31,     31,2,19950811,0232, 18.9257,  59.0167, 3413,   -999,    110.1,  18.6926,  35.6372,2,  35.6371,2,     38.4,2, 18.6734,     40.2,2,    17.77,2,    22.95,2,     0.03,2,     1.90,2, -999.000,9, -999.000,9, -999.000,9,-999.0000,9,  -999.00,9,   -999.0,9,  -999.00,9,-999.000,9,   -999.9,9,   -999.9,9,  -999.0, -999.00,-999.0000,-999.000,-999.000
    316N145_10,  I07N,   807,  1,     30,     30,2,19950811,0232, 18.9257,  59.0167, 3413,   -999,    145.0,  17.5052,  35.7764,2,  35.7735,2,      4.1,2, 17.4809,      5.0,2,    22.81,2,    24.12,2,     0.01,2,     2.27,2,    0.871,2,    0.501,2, -999.000,9,-999.0000,9,  -999.00,9,   -999.0,9,  -999.00,9,-999.000,9,   -999.9,9,   -999.9,9,  -999.0, -999.00,-999.0000,-999.000,-999.000
    316N145_10,  I07N,   807,  1,     29,     29,2,19950811,0232, 18.9257,  59.0167, 3413,   -999,    175.6,  16.7250,  35.8213,2,  35.8374,2,      2.3,2, 16.6963,      3.4,2,    24.85,2,    23.25,2,     0.00,2,     2.31,2, -999.000,9, -999.000,9, -999.000,9,-999.0000,9,  -999.00,9,   -999.0,9,  -999.00,9,-999.000,9,   -999.9,9,   -999.9,9,  -999.0, -999.00,-999.0000,-999.000,-999.000
    316N145_10,  I07N,   807,  1,     28,     28,2,19950811,0232, 18.9257,  59.0167, 3413,   -999,    195.3,  16.5129,  35.9046,2,  35.8610,2,      2.1,2, 16.4813,      3.2,2,    25.76,2,    23.15,2,     0.00,2,     2.33,2,    0.649,2,    0.390,2, -999.000,9,-999.0000,9,  -999.00,9,   -999.0,9,  -999.00,9,-999.000,9,   -999.9,9,   -999.9,9,  -999.0, -999.00,-999.0000,-999.000,-999.000
    316N145_10,  I07N,   807,  1,     27,     27,2,19950811,0232, 18.9257,  59.0167, 3413,   -999,    215.1,  15.5868,  35.7511,2,  35.7534,2,      3.6,2, 15.5533,      3.6,2,    27.05,2,    23.76,2,     0.00,2,     2.35,2, -999.000,9, -999.000,9, -999.000,9,-999.0000,9,  -999.00,9,   -999.0,9,  -999.00,9,-999.000,9,   -999.9,9,   -999.9,9,  -999.0, -999.00,-999.0000,-999.000,-999.000
    316N145_10,  I07N,   807,  1,     26,     26,2,19950811,0232, 18.9257,  59.0167, 3413,   -999,    236.2,  15.2575,  35.8257,2,  35.8253,2,      1.9,2, 15.2212,      1.3,2,    28.53,2,    23.42,2,     0.01,2,     2.38,2,    0.496,2,    0.306,2, -999.000,9,-999.0000,9,  -999.00,9,   -999.0,9,  -999.00,9,-999.000,9,   -999.9,9,   -999.9,9,  -999.0, -999.00,-999.0000,-999.000,-999.000
    316N145_10,  I07N,   807,  1,     25,     25,2,19950811,0232, 18.9257,  59.0167, 3413,   -999,    325.4,  13.7483,  35.7758,2,  35.7752,2,      3.4,2, 13.7015,      4.1,2,    32.82,2,    26.51,2,     0.00,2,     2.44,2,    0.379,2,    0.213,2, -999.000,9,-999.0000,9,  -999.00,9,   -999.0,9,  -999.00,9,-999.000,9,   -999.9,9,   -999.9,9,  -999.0, -999.00,-999.0000,-999.000,-999.000
    316N145_10,  I07N,   807,  1,     24,     24,2,19950811,0232, 18.9257,  59.0167, 3413,   -999,    444.5,  12.8129,  35.7258,2,  35.7251,2,      4.5,2, 12.7515,      4.6,2,    38.60,2,    27.77,2,     0.00,2,     2.54,2,    0.222,2,    0.123,2, -999.000,9,-999.0000,9,  -999.00,9,   -999.0,9,  -999.00,9,-999.000,9,   -999.9,9,   -999.9,9,  -999.0, -999.00,-999.0000,-999.000,-999.000
    316N145_10,  I07N,   807,  1,     23,     23,2,19950811,0232, 18.9257,  59.0167, 3413,   -999,    550.0,  12.1360,  35.6896,2,  35.6888,2,      5.4,2, 12.0623,      5.2,2,    44.20,2,    28.94,2,     0.00,2,     2.62,2,    0.152,2,    0.086,2, -999.000,9,-999.0000,9,  -999.00,9,   -999.0,9,  -999.00,9,-999.000,9,   -999.9,9,   -999.9,9,  -999.0, -999.00,-999.0000,-999.000,-999.000
    316N145_10,  I07N,   807,  1,     22,     22,2,19950811,0232, 18.9257,  59.0167, 3413,   -999,    649.7,  11.4802,  35.6501,2,  35.6508,2,      5.4,2, 11.3958,      4.6,2,    50.93,2,    30.44,2,     0.00,2,     2.70,2,    0.099,2,    0.055,2, -999.000,9,-999.0000,9,  -999.00,9,   -999.0,9,  -999.00,9,-999.000,9,   -999.9,9,   -999.9,9,  -999.0, -999.00,-999.0000,-999.000,-999.000
    316N145_10,  I07N,   807,  1,     21,     21,2,19950811,0232, 18.9257,  59.0167, 3413,   -999,    750.0,  10.8729,  35.6125,2,  35.6151,2,      4.6,2, 10.7782,      4.7,2,    56.72,2,    31.95,2,     0.00,2,     2.75,2,    0.075,2,    0.040,2, -999.000,9,-999.0000,9,  -999.00,9,   -999.0,9,  -999.00,9,-999.000,9,   -999.9,9,   -999.9,9,  -999.0, -999.00,-999.0000,-999.000,-999.000
    316N145_10,  I07N,   807,  1,     20,     20,2,19950811,0232, 18.9257,  59.0167, 3413,   -999,    850.7,  10.1056,  35.5567,2,  35.5590,2,      5.8,2, 10.0024,      6.4,2,    63.83,2,    33.69,2,     0.00,2,     2.81,2,    0.054,2,    0.030,2, -999.000,9,-999.0000,9,  -999.00,9,   -999.0,9,  -999.00,9,-999.000,9,   -999.9,9,   -999.9,9,  -999.0, -999.00,-999.0000,-999.000,-999.000
    316N145_10,  I07N,   807,  1,     19,     19,2,19950811,0232, 18.9257,  59.0167, 3413,   -999,    959.3,   9.3092,  35.4810,2,  35.4804,2,      9.3,2,  9.1978,      8.8,2,    70.76,2,    35.21,2,     0.00,2,     2.87,2,    0.041,2,    0.025,2, -999.000,9,-999.0000,9,  -999.00,9,   -999.0,9,  -999.00,9,-999.000,9,   -999.9,9,   -999.9,9,  -999.0, -999.00,-999.0000,-999.000,-999.000
    316N145_10,  I07N,   807,  1,     18,     18,2,19950811,0232, 18.9257,  59.0167, 3413,   -999,   1060.4,   8.4750,  35.3879,2,  35.3912,2,     13.5,2,  8.3577,     12.7,2,    77.71,2,    36.31,2,     0.00,2,     2.92,2, -999.000,9, -999.000,9, -999.000,9,-999.0000,9,  -999.00,9,   -999.0,9,  -999.00,9,-999.000,9,   -999.9,9,   -999.9,9,  -999.0, -999.00,-999.0000,-999.000,-999.000
    316N145_10,  I07N,   807,  1,     17,     17,2,19950811,0232, 18.9257,  59.0167, 3413,   -999,   1101.3,   8.0613,  35.3329,2,  35.3333,2,     10.8,2,  7.9425,     10.7,2,    81.83,2,    36.97,2,     0.00,2,     2.98,2,    0.016,2,    0.009,2, -999.000,9,-999.0000,9,  -999.00,9,   -999.0,9,  -999.00,9,-999.000,9,   -999.9,9,   -999.9,9,  -999.0, -999.00,-999.0000,-999.000,-999.000
    316N145_10,  I07N,   807,  1,     16,     16,2,19950811,0232, 18.9257,  59.0167, 3413,   -999,   1323.0,   6.4276,  35.1517,2,  35.1535,2,     25.9,2,  6.2991,     26.2,2,    96.80,2,    38.08,2,     0.00,2,     3.03,2,    0.005,2,    0.004,2, -999.000,9,-999.0000,9,  -999.00,9,   -999.0,9,  -999.00,9,-999.000,9,   -999.9,9,   -999.9,9,  -999.0, -999.00,-999.0000,-999.000,-999.000
    316N145_10,  I07N,   807,  1,     15,     15,2,19950811,0232, 18.9257,  59.0167, 3413,   -999,   1550.8,   5.0202,  35.0095,2,  35.0117,2,     43.3,2,  4.8836,     43.8,2,   112.30,2,    38.42,2,     0.00,2,     3.03,2,    0.000,2,    0.001,2, -999.000,9,-999.0000,9,  -999.00,9,   -999.0,9,  -999.00,9,-999.000,9,   -999.9,9,   -999.9,9,  -999.0, -999.00,-999.0000,-999.000,-999.000
    316N145_10,  I07N,   807,  1,     14,     14,2,19950811,0232, 18.9257,  59.0167, 3413,   -999,   1751.9,   4.0041,  34.9183,2,  34.9194,2,     62.9,2,  3.8607,     64.1,2,   123.16,2,    38.13,2,     0.00,2,     2.95,2,    0.000,2,    0.001,2, -999.000,9,-999.0000,9,  -999.00,9,   -999.0,9,  -999.00,9,-999.000,9,   -999.9,9,   -999.9,9,  -999.0, -999.00,-999.0000,-999.000,-999.000
    316N145_10,  I07N,   807,  1,     13,     13,2,19950811,0232, 18.9257,  59.0167, 3413,   -999,   1903.6,   3.4167,  34.8680,2,  34.8685,2,     76.1,2,  3.2672,     77.3,2,   129.61,2,    37.65,2,     0.00,2,     2.89,2, -999.000,9, -999.000,9, -999.000,9,-999.0000,9,  -999.00,9,   -999.0,9,  -999.00,9,-999.000,9,   -999.9,9,   -999.9,9,  -999.0, -999.00,-999.0000,-999.000,-999.000
    316N145_10,  I07N,   807,  1,     12,     12,2,19950811,0232, 18.9257,  59.0167, 3413,   -999,   2050.1,   3.0096,  34.8352,2,  34.8361,2,     86.9,2,  2.8527,     86.9,2,   134.33,2,    37.46,2,     0.00,2,     2.84,2,    0.000,2,    0.000,2, -999.000,9,-999.0000,9,  -999.00,9,   -999.0,9,  -999.00,9,-999.000,9,   -999.9,9,   -999.9,9,  -999.0, -999.00,-999.0000,-999.000,-999.000
    316N145_10,  I07N,   807,  1,     11,     11,2,19950811,0232, 18.9257,  59.0167, 3413,   -999,   2203.3,   2.6704,  34.8096,2,  34.8098,2,     94.0,2,  2.5050,     93.6,2,   138.89,2,    37.27,2,     0.00,2,     2.81,2, -999.000,9, -999.000,9, -999.000,9,-999.0000,9,  -999.00,9,   -999.0,9,  -999.00,9,-999.000,9,   -999.9,9,   -999.9,9,  -999.0, -999.00,-999.0000,-999.000,-999.000
    316N145_10,  I07N,   807,  1,     10,     10,2,19950811,0232, 18.9257,  59.0167, 3413,   -999,   2348.8,   2.3970,  34.7881,2,  34.7876,2,    101.4,2,  2.2229,    101.5,2,   142.06,2,    36.99,2,     0.00,2,     2.76,2, -999.000,9, -999.000,9, -999.000,9,-999.0000,9,  -999.00,9,   -999.0,9,  -999.00,9,-999.000,9,   -999.9,9,   -999.9,9,  -999.0, -999.00,-999.0000,-999.000,-999.000
    316N145_10,  I07N,   807,  1,      9,      9,2,19950811,0232, 18.9257,  59.0167, 3413,   -999,   2501.1,   2.1914,  34.7724,2,  34.7727,2,    107.0,2,  2.0070,    106.8,2,   144.86,2,    36.84,2,     0.00,2,     2.74,2, -999.000,9, -999.000,9, -999.000,9,-999.0000,9,  -999.00,9,   -999.0,9,  -999.00,9,-999.000,9,   -999.9,9,   -999.9,9,  -999.0, -999.00,-999.0000,-999.000,-999.000
    316N145_10,  I07N,   807,  1,      8,      8,2,19950811,0232, 18.9257,  59.0167, 3413,   -999,   2653.4,   2.0998,  34.7658,2,  34.7652,2,    108.7,2,  1.9030,    109.4,2,   146.03,2,    36.75,2,     0.00,2,     2.72,2, -999.000,9, -999.000,9, -999.000,9,-999.0000,9,  -999.00,9,   -999.0,9,  -999.00,9,-999.000,9,   -999.9,9,   -999.9,9,  -999.0, -999.00,-999.0000,-999.000,-999.000
    316N145_10,  I07N,   807,  1,      7,      7,2,19950811,0232, 18.9257,  59.0167, 3413,   -999,   2801.3,   1.9551,  34.7561,2,  34.7554,2,    111.5,2,  1.7472,    111.3,2,   148.64,2,    36.60,2,     0.00,2,     2.72,2, -999.000,9, -999.000,9, -999.000,9,-999.0000,9,  -999.00,9,   -999.0,9,  -999.00,9,-999.000,9,   -999.9,9,   -999.9,9,  -999.0, -999.00,-999.0000,-999.000,-999.000
    316N145_10,  I07N,   807,  1,      6,      6,2,19950811,0232, 18.9257,  59.0167, 3413,   -999,   2953.3,   1.8869,  34.7499,2,  34.7499,2,    114.8,2,  1.6659,    114.1,2,   149.21,2,    36.51,2,     0.00,2,     2.70,2, -999.000,9, -999.000,9, -999.000,9,-999.0000,9,  -999.00,9,   -999.0,9,  -999.00,9,-999.000,9,   -999.9,9,   -999.9,9,  -999.0, -999.00,-999.0000,-999.000,-999.000
    316N145_10,  I07N,   807,  1,      5,      5,2,19950811,0232, 18.9257,  59.0167, 3413,   -999,   3053.0,   1.8251,  34.7460,2,  34.7457,2,    120.0,2,  1.5958,    119.8,2,   148.76,2,    36.32,2,     0.00,2,     2.67,2, -999.000,9, -999.000,9, -999.000,9,-999.0000,9,  -999.00,9,   -999.0,9,  -999.00,9,-999.000,9,   -999.9,9,   -999.9,9,  -999.0, -999.00,-999.0000,-999.000,-999.000
    316N145_10,  I07N,   807,  1,      4,      4,2,19950811,0232, 18.9257,  59.0167, 3413,   -999,   3200.7,   1.7713,  34.7414,2,  34.7416,2,    121.5,2,  1.5285,    121.2,2,   149.53,2,    36.27,2,     0.00,2,     2.64,2, -999.000,9, -999.000,9, -999.000,9,-999.0000,9,  -999.00,9,   -999.0,9,  -999.00,9,-999.000,9,   -999.9,9,   -999.9,9,  -999.0, -999.00,-999.0000,-999.000,-999.000
    316N145_10,  I07N,   807,  1,      3,      3,2,19950811,0232, 18.9257,  59.0167, 3413,   -999,   3373.8,   1.7072,  34.7369,2,  34.7369,2,    123.2,2,  1.4486,    123.3,2,   151.95,2,    36.03,2,     0.00,2,     2.65,2, -999.000,9, -999.000,9, -999.000,9,-999.0000,9,  -999.00,9,   -999.0,9,  -999.00,9,-999.000,9,   -999.9,9,   -999.9,9,  -999.0, -999.00,-999.0000,-999.000,-999.000
    316N145_10,  I07N,   807,  1,      2,      2,2,19950811,0232, 18.9257,  59.0167, 3413,   -999,   3399.2,   1.7058,  34.7375,2,  34.7369,2,    124.2,2,  1.4446,    124.9,2,   152.11,2,    35.98,2,     0.00,2,     2.64,2, -999.000,9, -999.000,9, -999.000,9,-999.0000,9,  -999.00,9,   -999.0,9,  -999.00,9,-999.000,9,   -999.9,9,   -999.9,9,  -999.0, -999.00,-999.0000,-999.000,-999.000
    316N145_10,  I07N,   807,  1,      1,      1,2,19950811,0232, 18.9257,  59.0167, 3413,   -999,   3455.7,   1.7000,  34.7372,2,  34.7367,2,    126.4,2,  1.4332,    127.2,2,   151.86,2,    35.89,2,     0.00,2,     2.63,2, -999.000,9, -999.000,9, -999.000,9,-999.0000,9,  -999.00,9,   -999.0,9,  -999.00,9,-999.000,9,   -999.9,9,   -999.9,9,  -999.0, -999.00,-999.0000,-999.000,-999.000