BOTTLE,20080821WHPSIOSCD
EXPOCODE,SECT_ID,STNNBR,CASTNO,SAMPNO,BTLNBR,BTLNBR_FLAG_W,DATE,TIME,LATITUDE,LONGITUDE,DEPTH,CTDRAW,CTDPRS,CTDTMP,CTDSAL,CTDSAL_FLAG_W,SALNTY,SALNTY_FLAG_W,CTDOXY,CTDOXY_FLAG_W,THETA,OXYGEN,OXYGEN_FLAG_W,SILCAT,SILCAT_FLAG_W,NITRAT,NITRAT_FLAG_W,NITRIT,NITRIT_FLAG_W,PHSPHT,PHSPHT_FLAG_W,CFC-11,CFC-11_FLAG_W,CFC-12,CFC-12_FLAG_W,TRITUM,TRITUM_FLAG_W,HELIUM,HELIUM_FLAG_W,DELHE3,DELHE3_FLAG_W,DELC14,DELC14_FLAG_W,DELC13,DELC13_FLAG_W,NEON,NEON_FLAG_W,TCARBN,TCARBN_FLAG_W,ALKALI,ALKALI_FLAG_W,C14ERR,DELHER,HELIER,NEONER,TRITER
,,,,,,,,,,,,,DBAR,ITS-90,PSS-78,,PSS-78,,UMOL/KG,,DEG C,UMOL/KG,,UMOL/KG,,UMOL/KG,,UMOL/KG,,UMOL/KG,,PMOL/KG,,PMOL/KG,,TU,,NMOL/KG,,PERCNT,,/MILLE,,/MILLE,,NMOL/KG,,UMOL/KG,,UMOL/KG,,/MILLE,PERCNT,NMOL/KG,NMOL/KG,TU
    316N145_10,  I07N,   758,  1,     36,     36,2,19950728,2007, -0.2507,  57.2645, 4707,   -999,      9.8,  27.5401,  35.2827,2,  35.2843,2,    206.2,2, 27.5381,    201.0,2,     3.51,2,     0.05,2,     0.00,2,     0.19,2,    1.659,2,    0.940,2, -999.000,9,-999.0000,9,  -999.00,9,   -999.0,9,  -999.00,9,-999.000,9,   1970.1,2,   2307.1,2,  -999.0, -999.00,-999.0000,-999.000,-999.000
    316N145_10,  I07N,   758,  1,     35,     35,2,19950728,2007, -0.2507,  57.2645, 4707,   -999,     26.9,  25.3021,  35.2342,2,  35.2302,2,    192.0,2, 25.2965,    196.4,2,     4.53,2,     1.63,2,     0.20,2,     0.30,2, -999.000,9, -999.000,9, -999.000,9,-999.0000,9,  -999.00,9,   -999.0,9,  -999.00,9,-999.000,9,   1992.6,2,   2305.9,2,  -999.0, -999.00,-999.0000,-999.000,-999.000
    316N145_10,  I07N,   758,  1,     34,     34,2,19950728,2007, -0.2507,  57.2645, 4707,   -999,     57.9,  24.3990,  35.2310,2,  35.2306,2,    161.7,2, 24.3869,    164.4,2,     5.90,2,     5.44,2,     0.08,2,     0.54,2,    1.676,2,    0.922,2, -999.000,9,-999.0000,9,  -999.00,9,   -999.0,9,  -999.00,9,-999.000,9,   2023.3,2,   2310.0,2,  -999.0, -999.00,-999.0000,-999.000,-999.000
    316N145_10,  I07N,   758,  1,     33,     33,2,19950728,2007, -0.2507,  57.2645, 4707,   -999,     92.8,  23.6205,  35.2319,2,  35.2294,2,    155.1,2, 23.6014,    156.2,2,     6.58,2,     6.76,2,     0.04,2,     0.62,2, -999.000,9, -999.000,9, -999.000,9,-999.0000,9,  -999.00,9,   -999.0,9,  -999.00,9,-999.000,9,   2036.0,2,   2302.1,2,  -999.0, -999.00,-999.0000,-999.000,-999.000
    316N145_10,  I07N,   758,  1,     32,     32,2,19950728,2007, -0.2507,  57.2645, 4707,   -999,    128.1,  22.5724,  35.3000,2,  35.3018,2,    141.7,2, 22.5468,    139.7,2,     8.30,2,     9.40,2,     0.06,2,     0.79,2,    1.605,2,    0.886,2, -999.000,9,-999.0000,9,  -999.00,9,   -999.0,9,  -999.00,9,-999.000,9,   2063.7,2,   2310.3,2,  -999.0, -999.00,-999.0000,-999.000,-999.000
    316N145_10,  I07N,   758,  1,     31,     31,2,19950728,2007, -0.2507,  57.2645, 4707,   -999,    178.3,  13.9682,  35.1479,2,  35.1478,2,     67.9,2, 13.9427,     75.6,2,    20.61,2,    23.69,2,     0.00,2,     1.70,2,    0.911,2,    0.468,2, -999.000,9,-999.0000,9,  -999.00,9,   -999.0,9,  -999.00,9,-999.000,9,   2189.0,2,   2314.1,2,  -999.0, -999.00,-999.0000,-999.000,-999.000
    316N145_10,  I07N,   758,  1,     30,     30,2,19950728,2007, -0.2507,  57.2645, 4707,   -999,    277.4,  11.7138,  35.0571,2,  35.0571,2,    109.2,2, 11.6781,    102.0,2,    22.15,2,    24.12,2,     0.00,2,     1.71,2,    0.847,2,    0.437,2, -999.000,9,-999.0000,9,  -999.00,9,   -999.0,9,  -999.00,9,-999.000,9,   2191.7,2,   2314.2,2,  -999.0, -999.00,-999.0000,-999.000,-999.000
    316N145_10,  I07N,   758,  1,     29,     29,2,19950728,2007, -0.2507,  57.2645, 4707,   -999,    348.9,  11.0358,  35.0025,2,  35.0039,2,     89.4,2, 10.9926,    104.4,2,    23.87,2,    25.14,2,     0.00,2,     1.78,2,    0.737,2,    0.366,2, -999.000,9,-999.0000,9,  -999.00,9,   -999.0,9,  -999.00,9,-999.000,9,   2195.3,2,   2301.0,3,  -999.0, -999.00,-999.0000,-999.000,-999.000
    316N145_10,  I07N,   758,  1,     28,     28,2,19950728,2007, -0.2507,  57.2645, 4707,   -999,    448.3,  10.4624,  35.0030,2,  35.0039,2,     86.5,2, 10.4084,     86.2,2,    29.75,2,    28.01,2,     0.00,2,     2.00,2,    0.474,2,    0.245,2, -999.000,9,-999.0000,9,  -999.00,9,   -999.0,9,  -999.00,9,-999.000,9,   2215.1,2,   2318.1,2,  -999.0, -999.00,-999.0000,-999.000,-999.000
    316N145_10,  I07N,   758,  1,     27,     27,2,19950728,2007, -0.2507,  57.2645, 4707,   -999,    550.1,   9.5378,  34.9919,2,  34.9929,2,     72.4,2,  9.4748,     71.8,2,    40.15,2,    30.90,2,     0.00,2,     2.26,2,    0.220,2,    0.124,2, -999.000,9,-999.0000,9,  -999.00,9,   -999.0,9,  -999.00,9,-999.000,9,   2238.7,2,   2324.2,2,  -999.0, -999.00,-999.0000,-999.000,-999.000
    316N145_10,  I07N,   758,  1,     26,     26,2,19950728,2007, -0.2507,  57.2645, 4707,   -999,    649.4,   8.8818,  35.0328,2,  35.0337,2,     57.8,2,  8.8101,     58.5,2,    51.94,2,    33.01,2,     0.00,2,     2.47,2,    0.105,2,    0.061,2, -999.000,9,-999.0000,9,  -999.00,9,   -999.0,9,  -999.00,9,-999.000,9,   2260.9,2,   2337.5,2,  -999.0, -999.00,-999.0000,-999.000,-999.000
    316N145_10,  I07N,   758,  1,     25,     25,2,19950728,2007, -0.2507,  57.2645, 4707,   -999,    748.9,   8.3122,  35.0391,2,  35.0371,2,     56.6,2,  8.2320,     51.4,2,    61.66,2,    34.42,2,     0.00,2,     2.60,2,    0.051,2,    0.027,2, -999.000,9,-999.0000,9,  -999.00,9,   -999.0,9,  -999.00,9,-999.000,9,   2275.0,2,   2346.3,2,  -999.0, -999.00,-999.0000,-999.000,-999.000
    316N145_10,  I07N,   758,  1,     24,     24,2,19950728,2007, -0.2507,  57.2645, 4707,   -999,    849.6,   8.0072,  35.0473,2,  35.0473,2,     51.0,2,  7.9177,     48.7,2,    66.69,2,    34.99,2,     0.00,2,     2.66,2, -999.000,9, -999.000,9, -999.000,9,-999.0000,9,  -999.00,9,   -999.0,9,  -999.00,9,-999.000,9,   2283.1,2,   2352.3,2,  -999.0, -999.00,-999.0000,-999.000,-999.000
    316N145_10,  I07N,   758,  1,     23,     23,2,19950728,2007, -0.2507,  57.2645, 4707,   -999,   1000.2,   6.8566,  34.9759,2,  34.9750,2,     52.5,2,  6.7588,     52.2,2,    80.28,2,    36.32,2,     0.00,2,     2.74,2,    0.009,2,    0.007,2, -999.000,9,-999.0000,9,  -999.00,9,   -999.0,9,  -999.00,9,-999.000,9,   2301.0,2,   2365.8,2,  -999.0, -999.00,-999.0000,-999.000,-999.000
    316N145_10,  I07N,   758,  1,     22,     22,2,19950728,2007, -0.2507,  57.2645, 4707,   -999,   1101.7,   6.6144,  34.9582,2,  34.9587,2,     56.6,2,  6.5079,     55.4,2,    82.89,2,    36.37,2,     0.00,2,     2.75,2,    0.007,2,    0.005,2, -999.000,9,-999.0000,9,  -999.00,9,   -999.0,9,  -999.00,9,-999.000,9,   2302.1,2,   2368.5,2,  -999.0, -999.00,-999.0000,-999.000,-999.000
    316N145_10,  I07N,   758,  1,     21,     21,2,19950728,2007, -0.2507,  57.2645, 4707,   -999,   1252.1,   5.5998,  34.9159,2,  34.9160,2,     67.7,2,  5.4869,     68.8,2,    92.87,2,    36.57,2,     0.00,2,     2.76,2, -999.000,9, -999.000,9, -999.000,9,-999.0000,9,  -999.00,9,   -999.0,9,  -999.00,9,-999.000,9,   2308.9,2,   2373.7,2,  -999.0, -999.00,-999.0000,-999.000,-999.000
    316N145_10,  I07N,   758,  1,     20,     20,2,19950728,2007, -0.2507,  57.2645, 4707,   -999,   1352.4,   4.9349,  34.8774,2,  34.8779,2,     77.1,2,  4.8188,     80.9,2,    98.67,2,    36.43,2,     0.00,2,     2.72,2,    0.000,2,    0.001,2, -999.000,9,-999.0000,9,  -999.00,9,   -999.0,9,  -999.00,9,-999.000,9,   2310.7,2,   2380.4,2,  -999.0, -999.00,-999.0000,-999.000,-999.000
    316N145_10,  I07N,   758,  1,     19,     19,2,19950728,2007, -0.2507,  57.2645, 4707,   -999,   1453.5,   4.6005,  34.8620,2,  34.8634,2,     85.6,2,  4.4783,     86.7,2,   100.77,2,    36.25,2,     0.00,2,     2.71,2,    0.000,2,   -0.003,2, -999.000,9,-999.0000,9,  -999.00,9,   -999.0,9,  -999.00,9,-999.000,9,   2310.6,2,   2356.0,3,  -999.0, -999.00,-999.0000,-999.000,-999.000
    316N145_10,  I07N,   758,  1,     18,     18,2,19950728,2007, -0.2507,  57.2645, 4707,   -999,   1550.9,   3.9298,  34.8217,2,  34.8225,2,     97.0,2,  3.8062,    103.6,2,   106.25,2,    35.69,2,     0.00,2,     2.64,2, -999.000,9, -999.000,9, -999.000,9,-999.0000,9,  -999.00,9,   -999.0,9,  -999.00,9,-999.000,9,   2309.4,2,   2389.6,2,  -999.0, -999.00,-999.0000,-999.000,-999.000
    316N145_10,  I07N,   758,  1,     17,     17,2,19950728,2007, -0.2507,  57.2645, 4707,   -999,   1700.3,   3.2867,  34.7999,2,  34.7992,2,    114.3,2,  3.1577,    116.7,2,   113.55,2,    35.51,2,     0.00,2,     2.61,2, -999.000,9, -999.000,9, -999.000,9,-999.0000,9,  -999.00,9,   -999.0,9,  -999.00,9,-999.000,9,   2313.6,2,   2395.9,2,  -999.0, -999.00,-999.0000,-999.000,-999.000
    316N145_10,  I07N,   758,  1,     16,     16,2,19950728,2007, -0.2507,  57.2645, 4707,   -999,   1801.8,   3.1327,  34.7939,2,  34.7946,2,    118.5,2,  2.9967,    118.9,2,   116.21,2,    35.42,2,     0.00,2,     2.60,2, -999.000,9, -999.000,9, -999.000,9,-999.0000,9,  -999.00,9,   -999.0,9,  -999.00,9,-999.000,9,   2313.1,2,   2399.8,2,  -999.0, -999.00,-999.0000,-999.000,-999.000
    316N145_10,  I07N,   758,  1,     15,     15,2,19950728,2007, -0.2507,  57.2645, 4707,   -999,   2002.7,   2.6632,  34.7764,2,  34.7772,2,    131.8,2,  2.5161,    130.8,2,   120.87,2,    35.01,2,     0.00,2,     2.55,2, -999.000,9, -999.000,9, -999.000,9,-999.0000,9,  -999.00,9,   -999.0,9,  -999.00,9,-999.000,9,   2313.4,2,   2406.5,2,  -999.0, -999.00,-999.0000,-999.000,-999.000
    316N145_10,  I07N,   758,  1,     14,     14,2,19950728,2007, -0.2507,  57.2645, 4707,   -999,   2199.3,   2.3049,  34.7614,2,  34.7613,2,    140.4,2,  2.1460,    140.9,2,   125.01,2,    34.78,2,     0.00,2,     2.53,2, -999.000,9, -999.000,9, -999.000,9,-999.0000,9,  -999.00,9,   -999.0,9,  -999.00,9,-999.000,9,   2312.6,2,   2409.7,2,  -999.0, -999.00,-999.0000,-999.000,-999.000
    316N145_10,  I07N,   758,  1,     13,     13,2,19950728,2007, -0.2507,  57.2645, 4707,   -999,   2398.7,   2.1387,  34.7551,2,  34.7548,2,    146.2,2,  1.9648,    146.3,2,   126.81,2,    34.60,2,     0.00,2,     2.49,2, -999.000,9, -999.000,9, -999.000,9,-999.0000,9,  -999.00,9,   -999.0,9,  -999.00,9,-999.000,9,   2311.6,2,   2409.1,2,  -999.0, -999.00,-999.0000,-999.000,-999.000
    316N145_10,  I07N,   758,  1,     12,     12,2,19950728,2007, -0.2507,  57.2645, 4707,   -999,   2600.6,   2.0340,  34.7499,2,  34.7499,2,    149.7,2,  1.8435,    150.1,2,   127.69,2,    34.46,2,     0.00,2,     2.48,2, -999.000,9, -999.000,9, -999.000,9,-999.0000,9,  -999.00,9,   -999.0,9,  -999.00,9,-999.000,9,   2310.7,2,   2409.0,2,  -999.0, -999.00,-999.0000,-999.000,-999.000
    316N145_10,  I07N,   758,  1,     11,     11,2,19950728,2007, -0.2507,  57.2645, 4707,   -999,   2799.6,   1.9304,  34.7453,2,  34.7451,2,    154.3,2,  1.7233,    153.4,2,   128.58,2,    34.28,2,     0.00,2,     2.46,2, -999.000,9, -999.000,9, -999.000,9,-999.0000,9,  -999.00,9,   -999.0,9,  -999.00,9,-999.000,9,   2309.8,2,   2412.4,2,  -999.0, -999.00,-999.0000,-999.000,-999.000
    316N145_10,  I07N,   758,  1,     10,     10,2,19950728,2007, -0.2507,  57.2645, 4707,   -999,   3002.3,   1.7831,  34.7389,2,  34.7381,2,    159.3,2,  1.5596,    159.4,2,   129.28,2,    34.14,2,     0.00,2,     2.44,2, -999.000,9, -999.000,9, -999.000,9,-999.0000,9,  -999.00,9,   -999.0,9,  -999.00,9,-999.000,9,   2307.8,2,   2409.9,2,  -999.0, -999.00,-999.0000,-999.000,-999.000
    316N145_10,  I07N,   758,  1,      9,      9,2,19950728,2007, -0.2507,  57.2645, 4707,   -999,   3201.2,   1.7070,  34.7333,2,  34.7332,2,    165.2,2,  1.4658,    165.0,2,   129.07,2,    33.77,2,     0.00,2,     2.41,2, -999.000,9, -999.000,9, -999.000,9,-999.0000,9,  -999.00,9,   -999.0,9,  -999.00,9,-999.000,9,   2303.2,2,   2409.2,2,  -999.0, -999.00,-999.0000,-999.000,-999.000
    316N145_10,  I07N,   758,  1,      8,      8,2,19950728,2007, -0.2507,  57.2645, 4707,   -999,   3398.8,   1.6511,  34.7320,2,  34.7308,2,    167.4,2,  1.3914,    166.9,2,   129.78,2,    33.83,2,     0.00,2,     2.43,2, -999.000,9, -999.000,9, -999.000,9,-999.0000,9,  -999.00,9,   -999.0,9,  -999.00,9,-999.000,9,   2303.3,2,   2408.6,2,  -999.0, -999.00,-999.0000,-999.000,-999.000
    316N145_10,  I07N,   758,  1,      7,      7,2,19950728,2007, -0.2507,  57.2645, 4707,   -999,   3604.9,   1.5982,  34.7297,2,  34.7294,2,    169.1,2,  1.3186,    169.5,2,   130.85,2,    33.69,2,     0.00,2,     2.40,2, -999.000,9, -999.000,9, -999.000,9,-999.0000,9,  -999.00,9,   -999.0,9,  -999.00,9,-999.000,9,   2302.9,2,   2411.2,2,  -999.0, -999.00,-999.0000,-999.000,-999.000
    316N145_10,  I07N,   758,  1,      6,      6,2,19950728,2007, -0.2507,  57.2645, 4707,   -999,   3786.5,   1.5367,  34.7275,2,  34.7269,2,    172.1,2,  1.2396,    171.9,2,   131.19,2,    33.65,2,     0.00,2,     2.39,2, -999.000,9, -999.000,9, -999.000,9,-999.0000,9,  -999.00,9,   -999.0,9,  -999.00,9,-999.000,9,   2301.6,2,   2409.5,2,  -999.0, -999.00,-999.0000,-999.000,-999.000
    316N145_10,  I07N,   758,  1,      5,      5,2,19950728,2007, -0.2507,  57.2645, 4707,   -999,   3995.5,   1.4667,  34.7250,2,  34.7243,2,    176.1,2,  1.1491,    175.7,2,   131.34,2,    33.47,2,     0.00,2,     2.37,2, -999.000,9, -999.000,9, -999.000,9,-999.0000,9,  -999.00,9,   -999.0,9,  -999.00,9,-999.000,9,   2298.9,2,   2409.1,2,  -999.0, -999.00,-999.0000,-999.000,-999.000
    316N145_10,  I07N,   758,  1,      4,      4,2,19950728,2007, -0.2507,  57.2645, 4707,   -999,   4297.8,   1.3903,  34.7208,2,  34.7212,2,    179.7,2,  1.0415,    180.9,2,   130.77,2,    33.29,2,     0.00,2,     2.34,2, -999.000,9, -999.000,9, -999.000,9,-999.0000,9,  -999.00,9,   -999.0,9,  -999.00,9,-999.000,9,   2294.9,2,   2402.1,2,  -999.0, -999.00,-999.0000,-999.000,-999.000
    316N145_10,  I07N,   758,  1,      3,      3,2,19950728,2007, -0.2507,  57.2645, 4707,   -999,   4604.8,   1.3690,  34.7193,2,  34.7186,2,    183.4,2,  0.9859,    183.4,2,   130.19,2,    33.11,2,     0.00,2,     2.33,2, -999.000,9, -999.000,9, -999.000,9,-999.0000,9,  -999.00,9,   -999.0,9,  -999.00,9,-999.000,9,   2292.0,2,   2402.8,2,  -999.0, -999.00,-999.0000,-999.000,-999.000
    316N145_10,  I07N,   758,  1,      2,      2,2,19950728,2007, -0.2507,  57.2645, 4707,   -999,   4700.3,   1.3669,  34.7191,2,  34.7186,2,    184.2,2,  0.9727,    184.2,2,   130.71,2,    33.06,2,     0.00,2,     2.34,2, -999.000,9, -999.000,9, -999.000,9,-999.0000,9,  -999.00,9,   -999.0,9,  -999.00,9,-999.000,9,   2292.1,2,   2401.0,2,  -999.0, -999.00,-999.0000,-999.000,-999.000
    316N145_10,  I07N,   758,  1,      1,      1,2,19950728,2007, -0.2507,  57.2645, 4707,   -999,   4773.1,   1.3682,  34.7183,2,  34.7188,2,    183.6,2,  0.9654,    184.3,2,   131.05,2,    33.16,2,     0.00,2,     2.34,2, -999.000,9, -999.000,9, -999.000,9,-999.0000,9,  -999.00,9,   -999.0,9,  -999.00,9,-999.000,9,   2294.4,2,   2404.7,2,  -999.0, -999.00,-999.0000,-999.000,-999.000