BOTTLE,20080821WHPSIOSCD
EXPOCODE,SECT_ID,STNNBR,CASTNO,SAMPNO,BTLNBR,BTLNBR_FLAG_W,DATE,TIME,LATITUDE,LONGITUDE,DEPTH,CTDRAW,CTDPRS,CTDTMP,CTDSAL,CTDSAL_FLAG_W,SALNTY,SALNTY_FLAG_W,CTDOXY,CTDOXY_FLAG_W,THETA,OXYGEN,OXYGEN_FLAG_W,SILCAT,SILCAT_FLAG_W,NITRAT,NITRAT_FLAG_W,NITRIT,NITRIT_FLAG_W,PHSPHT,PHSPHT_FLAG_W,CFC-11,CFC-11_FLAG_W,CFC-12,CFC-12_FLAG_W,TRITUM,TRITUM_FLAG_W,HELIUM,HELIUM_FLAG_W,DELHE3,DELHE3_FLAG_W,DELC14,DELC14_FLAG_W,DELC13,DELC13_FLAG_W,NEON,NEON_FLAG_W,TCARBN,TCARBN_FLAG_W,ALKALI,ALKALI_FLAG_W,C14ERR,DELHER,HELIER,NEONER,TRITER
,,,,,,,,,,,,,DBAR,ITS-90,PSS-78,,PSS-78,,UMOL/KG,,DEG C,UMOL/KG,,UMOL/KG,,UMOL/KG,,UMOL/KG,,UMOL/KG,,PMOL/KG,,PMOL/KG,,TU,,NMOL/KG,,PERCNT,,/MILLE,,/MILLE,,NMOL/KG,,UMOL/KG,,UMOL/KG,,/MILLE,PERCNT,NMOL/KG,NMOL/KG,TU
    316N145_10,  I07N,   775,  1,     36,     36,2,19950802,2000,  5.9937,  60.9907, 3399,   -999,     12.1,  28.0009,  36.2275,2,  36.2283,2,    199.4,2, 27.9983,    195.2,2,     2.94,2,     0.04,2,     0.00,2,     0.25,2,    1.613,2,    0.916,2, -999.000,9,-999.0000,9,  -999.00,9,   -999.0,9,  -999.00,9,-999.000,9,   2006.8,2,   2365.3,2,  -999.0, -999.00,-999.0000,-999.000,-999.000
    316N145_10,  I07N,   775,  1,     35,     35,2,19950802,2000,  5.9937,  60.9907, 3399,   -999,     21.3,  28.0024,  36.2276,2,  36.2285,2,    194.2,2, 27.9976,    195.0,2,     2.73,2,     0.04,2,     0.00,2,     0.25,2, -999.000,9, -999.000,9, -999.000,9,-999.0000,9,  -999.00,9,   -999.0,9,  -999.00,9,-999.000,9,   -999.9,9,   -999.9,9,  -999.0, -999.00,-999.0000,-999.000,-999.000
    316N145_10,  I07N,   775,  1,     34,     34,2,19950802,2000,  5.9937,  60.9907, 3399,   -999,     46.7,  27.9939,  36.2416,2,  36.2496,2,    193.8,2, 27.9831,    194.5,2,     2.72,2,     0.04,2,     0.00,2,     0.26,2,    1.602,2,    0.918,2, -999.000,9,-999.0000,9,  -999.00,9,   -999.0,9,  -999.00,9,-999.000,9,   -999.9,9,   -999.9,9,  -999.0, -999.00,-999.0000,-999.000,-999.000
    316N145_10,  I07N,   775,  1,     33,     33,2,19950802,2000,  5.9937,  60.9907, 3399,   -999,     77.2,  27.9431,  36.2551,2,  36.2551,2,    200.6,2, 27.9252,    193.1,2,     2.71,2,     0.09,2,     0.00,2,     0.27,2, -999.000,9, -999.000,9, -999.000,9,-999.0000,9,  -999.00,9,   -999.0,9,  -999.00,9,-999.000,9,   -999.9,9,   -999.9,9,  -999.0, -999.00,-999.0000,-999.000,-999.000
    316N145_10,  I07N,   775,  1,     32,     32,2,19950802,2000,  5.9937,  60.9907, 3399,   -999,     92.2,  27.8107,  36.2567,2,  36.2555,2,    200.4,2, 27.7892,    186.8,2,     2.70,2,     0.48,2,     0.15,2,     0.31,2,    1.616,2,    0.914,2, -999.000,9,-999.0000,9,  -999.00,9,   -999.0,9,  -999.00,9,-999.000,9,   -999.9,9,   -999.9,9,  -999.0, -999.00,-999.0000,-999.000,-999.000
    316N145_10,  I07N,   775,  1,     31,     31,2,19950802,2000,  5.9937,  60.9907, 3399,   -999,    121.6,  23.7430,  35.9962,2,  36.0224,2,     98.7,2, 23.7177,     89.4,2,     8.36,2,    14.33,2,     0.07,2,     1.20,2, -999.000,9, -999.000,9, -999.000,9,-999.0000,9,  -999.00,9,   -999.0,9,  -999.00,9,-999.000,9,   -999.9,9,   -999.9,9,  -999.0, -999.00,-999.0000,-999.000,-999.000
    316N145_10,  I07N,   775,  1,     30,     30,2,19950802,2000,  5.9937,  60.9907, 3399,   -999,    142.1,  19.0217,  35.5317,2,  35.5075,2,     58.9,2, 18.9965,     50.0,2,    16.68,2,    22.29,2,     0.02,2,     1.76,2,    1.181,2,    0.646,2, -999.000,9,-999.0000,9,  -999.00,9,   -999.0,9,  -999.00,9,-999.000,9,   -999.9,9,   -999.9,9,  -999.0, -999.00,-999.0000,-999.000,-999.000
    316N145_10,  I07N,   775,  1,     29,     29,2,19950802,2000,  5.9937,  60.9907, 3399,   -999,    177.1,  16.1860,  35.4032,2,  35.3945,2,     39.6,2, 16.1578,     39.8,2,    21.21,2,    24.46,2,     0.01,2,     1.95,2,    0.918,2,    0.502,2, -999.000,9,-999.0000,9,  -999.00,9,   -999.0,9,  -999.00,9,-999.000,9,   -999.9,9,   -999.9,9,  -999.0, -999.00,-999.0000,-999.000,-999.000
    316N145_10,  I07N,   775,  1,     28,     28,2,19950802,2000,  5.9937,  60.9907, 3399,   -999,    216.5,  14.1071,  35.2860,2,  35.2876,2,     65.1,2, 14.0757,     62.3,2,    22.33,2,    24.38,2,     0.00,2,     1.86,2, -999.000,9, -999.000,9, -999.000,9,-999.0000,9,  -999.00,9,   -999.0,9,  -999.00,9,-999.000,9,   -999.9,9,   -999.9,9,  -999.0, -999.00,-999.0000,-999.000,-999.000
    316N145_10,  I07N,   775,  1,     27,     27,2,19950802,2000,  5.9937,  60.9907, 3399,   -999,    252.7,  12.7931,  35.2425,2,  35.2506,2,     59.4,2, 12.7587,     64.4,2,    24.78,2,    25.74,2,     0.00,2,     1.92,2,    0.759,2,    0.399,2, -999.000,9,-999.0000,9,  -999.00,9,   -999.0,9,  -999.00,9,-999.000,9,   -999.9,9,   -999.9,9,  -999.0, -999.00,-999.0000,-999.000,-999.000
    316N145_10,  I07N,   775,  1,     26,     26,2,19950802,2000,  5.9937,  60.9907, 3399,   -999,    302.6,  12.0093,  35.2456,2,  35.2466,2,     42.4,2, 11.9697,     47.1,2,    29.31,2,    28.76,2,     0.00,2,     2.13,2,    0.472,2,    0.248,2, -999.000,9,-999.0000,9,  -999.00,9,   -999.0,9,  -999.00,9,-999.000,9,   -999.9,9,   -999.9,9,  -999.0, -999.00,-999.0000,-999.000,-999.000
    316N145_10,  I07N,   775,  1,     25,     25,2,19950802,2000,  5.9937,  60.9907, 3399,   -999,    352.5,  11.3386,  35.1945,2,  35.1943,2,     55.8,2, 11.2940,     54.7,2,    31.57,2,    29.31,2,     0.00,2,     2.15,2,    0.409,2,    0.216,2, -999.000,9,-999.0000,9,  -999.00,9,   -999.0,9,  -999.00,9,-999.000,9,   -999.9,9,   -999.9,9,  -999.0, -999.00,-999.0000,-999.000,-999.000
    316N145_10,  I07N,   775,  1,     24,     24,2,19950802,2000,  5.9937,  60.9907, 3399,   -999,    452.4,  10.9247,  35.2545,2,  35.2566,2,     44.5,2, 10.8685,     42.2,2,    38.36,2,    30.94,2,     0.00,2,     2.35,2,    0.249,2,    0.136,2, -999.000,9,-999.0000,9,  -999.00,9,   -999.0,9,  -999.00,9,-999.000,9,   -999.9,9,   -999.9,9,  -999.0, -999.00,-999.0000,-999.000,-999.000
    316N145_10,  I07N,   775,  1,     23,     23,2,19950802,2000,  5.9937,  60.9907, 3399,   -999,    501.0,  10.7482,  35.2990,2,  35.2993,2,     38.4,2, 10.6864,     37.9,2,    42.13,2,    31.40,2,     0.00,2,     2.42,2,    0.194,2,    0.109,2, -999.000,9,-999.0000,9,  -999.00,9,   -999.0,9,  -999.00,9,-999.000,9,   -999.9,9,   -999.9,9,  -999.0, -999.00,-999.0000,-999.000,-999.000
    316N145_10,  I07N,   775,  1,     22,     22,2,19950802,2000,  5.9937,  60.9907, 3399,   -999,    622.1,  10.1644,  35.2922,2,  35.2922,2,     33.7,2, 10.0898,     35.3,2,    49.50,2,    32.63,2,     0.00,2,     2.53,2,    0.118,2,    0.070,2, -999.000,9,-999.0000,9,  -999.00,9,   -999.0,9,  -999.00,9,-999.000,9,   -999.9,9,   -999.9,9,  -999.0, -999.00,-999.0000,-999.000,-999.000
    316N145_10,  I07N,   775,  1,     21,     21,2,19950802,2000,  5.9937,  60.9907, 3399,   -999,    747.5,   9.4658,  35.2781,2,  35.2809,2,     29.9,2,  9.3793,     30.4,2,    58.77,2,    34.15,2,     0.00,2,     2.64,2,    0.062,2,    0.035,2, -999.000,9,-999.0000,9,  -999.00,9,   -999.0,9,  -999.00,9,-999.000,9,   -999.9,9,   -999.9,9,  -999.0, -999.00,-999.0000,-999.000,-999.000
    316N145_10,  I07N,   775,  1,     20,     20,2,19950802,2000,  5.9937,  60.9907, 3399,   -999,    847.8,   8.7085,  35.2330,2,  35.2331,2,     30.7,2,  8.6146,     30.8,2,    67.66,2,    35.30,2,     0.00,2,     2.73,2,    0.035,2,    0.019,2, -999.000,9,-999.0000,9,  -999.00,9,   -999.0,9,  -999.00,9,-999.000,9,   -999.9,9,   -999.9,9,  -999.0, -999.00,-999.0000,-999.000,-999.000
    316N145_10,  I07N,   775,  1,     19,     19,2,19950802,2000,  5.9937,  60.9907, 3399,   -999,    948.9,   7.7801,  35.1265,2,  35.1267,2,     36.2,2,  7.6809,     35.5,2,    75.82,2,    36.41,2,     0.00,2,     2.78,2,    0.010,2,    0.009,2, -999.000,9,-999.0000,9,  -999.00,9,   -999.0,9,  -999.00,9,-999.000,9,   -999.9,9,   -999.9,9,  -999.0, -999.00,-999.0000,-999.000,-999.000
    316N145_10,  I07N,   775,  1,     18,     18,2,19950802,2000,  5.9937,  60.9907, 3399,   -999,   1050.3,   7.0619,  35.0761,2,  35.0754,2,     41.6,2,  6.9570,     41.8,2,    82.84,2,    36.88,2,     0.00,2,     2.80,2,    0.008,2,    0.002,2, -999.000,9,-999.0000,9,  -999.00,9,   -999.0,9,  -999.00,9,-999.000,9,   -999.9,9,   -999.9,9,  -999.0, -999.00,-999.0000,-999.000,-999.000
    316N145_10,  I07N,   775,  1,     17,     17,2,19950802,2000,  5.9937,  60.9907, 3399,   -999,   1150.6,   6.5543,  35.0359,2,  35.0340,2,     47.3,2,  6.4430,     47.8,2,    87.97,2,    37.12,2,     0.00,2,     2.82,2, -999.000,9, -999.000,9, -999.000,9,-999.0000,9,  -999.00,9,   -999.0,9,  -999.00,9,-999.000,9,   -999.9,9,   -999.9,9,  -999.0, -999.00,-999.0000,-999.000,-999.000
    316N145_10,  I07N,   775,  1,     16,     16,2,19950802,2000,  5.9937,  60.9907, 3399,   -999,   1250.6,   6.1313,  35.0014,2,  35.0030,2,     54.6,2,  6.0134,     53.9,2,    91.58,2,    37.08,2,     0.00,2,     2.81,2,   -0.001,2,   -0.004,2, -999.000,9,-999.0000,9,  -999.00,9,   -999.0,9,  -999.00,9,-999.000,9,   -999.9,9,   -999.9,9,  -999.0, -999.00,-999.0000,-999.000,-999.000
    316N145_10,  I07N,   775,  1,     15,     15,2,19950802,2000,  5.9937,  60.9907, 3399,   -999,   1347.0,   5.7039,  34.9825,2,  34.9821,2,     60.4,2,  5.5804,     59.5,2,    96.34,2,    37.18,2,     0.00,2,     2.84,2, -999.000,9, -999.000,9, -999.000,9,-999.0000,9,  -999.00,9,   -999.0,9,  -999.00,9,-999.000,9,   -999.9,9,   -999.9,9,  -999.0, -999.00,-999.0000,-999.000,-999.000
    316N145_10,  I07N,   775,  1,     14,     14,2,19950802,2000,  5.9937,  60.9907, 3399,   -999,   1448.2,   5.0505,  34.9402,2,  34.9404,2,     71.2,2,  4.9238,     70.3,2,   102.84,2,    37.05,2,     0.00,2,     2.78,2,    0.000,2,   -0.003,2, -999.000,9,-999.0000,9,  -999.00,9,   -999.0,9,  -999.00,9,-999.000,9,   -999.9,9,   -999.9,9,  -999.0, -999.00,-999.0000,-999.000,-999.000
    316N145_10,  I07N,   775,  1,     13,     13,2,19950802,2000,  5.9937,  60.9907, 3399,   -999,   1549.5,   4.6075,  34.9051,2,  34.9056,2,     79.6,2,  4.4760,     79.4,2,   106.67,2,    36.87,2,     0.00,2,     2.76,2, -999.000,9, -999.000,9, -999.000,9,-999.0000,9,  -999.00,9,   -999.0,9,  -999.00,9,-999.000,9,   -999.9,9,   -999.9,9,  -999.0, -999.00,-999.0000,-999.000,-999.000
    316N145_10,  I07N,   775,  1,     12,     12,2,19950802,2000,  5.9937,  60.9907, 3399,   -999,   1751.9,   3.7195,  34.8469,2,  34.8479,2,     98.9,2,  3.5800,     99.4,2,   115.72,2,    36.42,2,     0.00,2,     2.70,2, -999.000,9, -999.000,9, -999.000,9,-999.0000,9,  -999.00,9,   -999.0,9,  -999.00,9,-999.000,9,   -999.9,9,   -999.9,9,  -999.0, -999.00,-999.0000,-999.000,-999.000
    316N145_10,  I07N,   775,  1,     11,     11,2,19950802,2000,  5.9937,  60.9907, 3399,   -999,   1852.4,   3.2352,  34.8222,2,  34.8233,2,    108.8,2,  3.0931,    109.6,2,   120.36,2,    36.10,2,     0.00,2,     2.66,2,   -0.003,2,   -0.003,2, -999.000,9,-999.0000,9,  -999.00,9,   -999.0,9,  -999.00,9,-999.000,9,   -999.9,9,   -999.9,9,  -999.0, -999.00,-999.0000,-999.000,-999.000
    316N145_10,  I07N,   775,  1,     10,     10,2,19950802,2000,  5.9937,  60.9907, 3399,   -999,   2049.9,   2.7028,  34.7918,2,  34.7909,2,    122.9,2,  2.5509,    125.1,2,   126.39,2,    35.70,2,     0.00,2,     2.59,2, -999.000,9, -999.000,9, -999.000,9,-999.0000,9,  -999.00,9,   -999.0,9,  -999.00,9,-999.000,9,   -999.9,9,   -999.9,9,  -999.0, -999.00,-999.0000,-999.000,-999.000
    316N145_10,  I07N,   775,  1,      9,      9,2,19950802,2000,  5.9937,  60.9907, 3399,   -999,   2253.3,   2.3382,  34.7739,2,  34.7726,2,    132.6,2,  2.1739,    134.2,2,   129.50,2,    35.34,2,     0.00,2,     2.55,2, -999.000,9, -999.000,9, -999.000,9,-999.0000,9,  -999.00,9,   -999.0,9,  -999.00,9,-999.000,9,   -999.9,9,   -999.9,9,  -999.0, -999.00,-999.0000,-999.000,-999.000
    316N145_10,  I07N,   775,  1,      8,      8,2,19950802,2000,  5.9937,  60.9907, 3399,   -999,   2450.9,   2.1872,  34.7655,2,  34.7642,2,    139.1,2,  2.0076,    138.8,2,   131.05,2,    35.21,2,     0.00,2,     2.55,2, -999.000,9, -999.000,9, -999.000,9,-999.0000,9,  -999.00,9,   -999.0,9,  -999.00,9,-999.000,9,   -999.9,9,   -999.9,9,  -999.0, -999.00,-999.0000,-999.000,-999.000
    316N145_10,  I07N,   775,  1,      7,      7,2,19950802,2000,  5.9937,  60.9907, 3399,   -999,   2653.6,   1.9988,  34.7553,2,  34.7565,2,    144.5,2,  1.8041,    144.4,2,   133.20,2,    35.08,2,     0.00,2,     2.54,2, -999.000,9, -999.000,9, -999.000,9,-999.0000,9,  -999.00,9,   -999.0,9,  -999.00,9,-999.000,9,   -999.9,9,   -999.9,9,  -999.0, -999.00,-999.0000,-999.000,-999.000
    316N145_10,  I07N,   775,  1,      6,      6,2,19950802,2000,  5.9937,  60.9907, 3399,   -999,   2851.0,   1.9145,  34.7507,2,  34.7492,2,    147.3,2,  1.7028,    147.3,2,   134.16,2,    34.99,2,     0.00,2,     2.50,2, -999.000,9, -999.000,9, -999.000,9,-999.0000,9,  -999.00,9,   -999.0,9,  -999.00,9,-999.000,9,   -999.9,9,   -999.9,9,  -999.0, -999.00,-999.0000,-999.000,-999.000
    316N145_10,  I07N,   775,  1,      5,      5,2,19950802,2000,  5.9937,  60.9907, 3399,   -999,   3050.7,   1.8592,  34.7473,2,  34.7460,2,    149.0,2,  1.6293,    149.0,2,   135.33,2,    34.95,2,     0.00,2,     2.49,2, -999.000,9, -999.000,9, -999.000,9,-999.0000,9,  -999.00,9,   -999.0,9,  -999.00,9,-999.000,9,   -999.9,9,   -999.9,9,  -999.0, -999.00,-999.0000,-999.000,-999.000
    316N145_10,  I07N,   775,  1,      4,      4,2,19950802,2000,  5.9937,  60.9907, 3399,   -999,   3197.7,   1.8285,  34.7453,2,  34.7442,2,    150.3,2,  1.5848,    150.2,2,   135.90,2,    34.91,2,     0.00,2,     2.49,2, -999.000,9, -999.000,9, -999.000,9,-999.0000,9,  -999.00,9,   -999.0,9,  -999.00,9,-999.000,9,   -999.9,9,   -999.9,9,  -999.0, -999.00,-999.0000,-999.000,-999.000
    316N145_10,  I07N,   775,  1,      3,      3,2,19950802,2000,  5.9937,  60.9907, 3399,   -999,   3298.8,   1.8315,  34.7445,2,  34.7434,2,    150.7,2,  1.5775,    150.2,2,   136.08,2,    34.88,2,     0.00,2,     2.49,2, -999.000,9, -999.000,9, -999.000,9,-999.0000,9,  -999.00,9,   -999.0,9,  -999.00,9,-999.000,9,   -999.9,9,   -999.9,9,  -999.0, -999.00,-999.0000,-999.000,-999.000
    316N145_10,  I07N,   775,  1,      2,      2,2,19950802,2000,  5.9937,  60.9907, 3399,   -999,   3401.2,   1.8371,  34.7444,2,  34.7439,2,    151.2,2,  1.5725,    150.8,2,   136.26,2,    34.88,2,     0.00,2,     2.48,2, -999.000,9, -999.000,9, -999.000,9,-999.0000,9,  -999.00,9,   -999.0,9,  -999.00,9,-999.000,9,   -999.9,9,   -999.9,9,  -999.0, -999.00,-999.0000,-999.000,-999.000
    316N145_10,  I07N,   775,  1,      1,      1,2,19950802,2000,  5.9937,  60.9907, 3399,   -999,   3447.9,   1.8357,  34.7445,2,  34.7437,2,    150.4,2,  1.5663,    150.9,2,   136.25,2,    34.84,2,     0.00,2,     2.48,2, -999.000,9, -999.000,9, -999.000,9,-999.0000,9,  -999.00,9,   -999.0,9,  -999.00,9,-999.000,9,   -999.9,9,   -999.9,9,  -999.0, -999.00,-999.0000,-999.000,-999.000