BOTTLE,20080821WHPSIOSCD
EXPOCODE,SECT_ID,STNNBR,CASTNO,SAMPNO,BTLNBR,BTLNBR_FLAG_W,DATE,TIME,LATITUDE,LONGITUDE,DEPTH,CTDRAW,CTDPRS,CTDTMP,CTDSAL,CTDSAL_FLAG_W,SALNTY,SALNTY_FLAG_W,CTDOXY,CTDOXY_FLAG_W,THETA,OXYGEN,OXYGEN_FLAG_W,SILCAT,SILCAT_FLAG_W,NITRAT,NITRAT_FLAG_W,NITRIT,NITRIT_FLAG_W,PHSPHT,PHSPHT_FLAG_W,CFC-11,CFC-11_FLAG_W,CFC-12,CFC-12_FLAG_W,TRITUM,TRITUM_FLAG_W,HELIUM,HELIUM_FLAG_W,DELHE3,DELHE3_FLAG_W,DELC14,DELC14_FLAG_W,DELC13,DELC13_FLAG_W,NEON,NEON_FLAG_W,TCARBN,TCARBN_FLAG_W,ALKALI,ALKALI_FLAG_W,C14ERR,DELHER,HELIER,NEONER,TRITER
,,,,,,,,,,,,,DBAR,ITS-90,PSS-78,,PSS-78,,UMOL/KG,,DEG C,UMOL/KG,,UMOL/KG,,UMOL/KG,,UMOL/KG,,UMOL/KG,,PMOL/KG,,PMOL/KG,,TU,,NMOL/KG,,PERCNT,,/MILLE,,/MILLE,,NMOL/KG,,UMOL/KG,,UMOL/KG,,/MILLE,PERCNT,NMOL/KG,NMOL/KG,TU
    316N145_10,  I07N,   744,  1,     36,     36,2,19950725,0041, -6.0688,  54.6257, 3600,   -999,      8.8,  26.4760,  35.2325,2,  35.2330,2,    205.1,2, 26.4742,    201.3,2,     3.46,2,     0.27,2,     0.00,2,     0.20,2,    1.731,2,    0.979,2,    0.815,2,   1.6320,2,    -0.50,2,     63.9,2,     0.69,2,   6.690,2,   1976.4,2,   2304.7,2,     4.4,    0.20,  0.0080,   0.134,   0.008
    316N145_10,  I07N,   744,  1,     35,     35,2,19950725,0041, -6.0688,  54.6257, 3600,   -999,     25.7,  26.4836,  35.2335,2,  35.2323,2,    200.7,2, 26.4780,    201.6,2,     3.45,2,     0.32,2,     0.00,2,     0.21,2, -999.000,9, -999.000,9, -999.000,9,-999.0000,9,  -999.00,9,   -999.0,9,  -999.00,9,-999.000,9,   1975.5,2,   2306.5,2,  -999.0, -999.00,-999.0000,-999.000,-999.000
    316N145_10,  I07N,   744,  1,     34,     34,2,19950725,0041, -6.0688,  54.6257, 3600,   -999,     40.8,  26.4875,  35.2337,2,  35.2319,2,    201.6,2, 26.4785,    200.8,2,     3.43,2,     0.32,2,     0.00,2,     0.21,2,    1.728,2,    0.972,2,    0.837,2,   1.6460,2,    -0.20,2,     61.5,2,     1.23,2,   6.913,2,   1974.8,2,   2304.6,2,     3.6,    0.20,  0.0080,   0.138,   0.008
    316N145_10,  I07N,   744,  1,     33,     33,2,19950725,0041, -6.0688,  54.6257, 3600,   -999,     55.9,  24.3967,  35.1998,2,  35.1997,2,    186.3,2, 24.3850,    179.2,2,     5.64,2,     3.64,2,     0.18,2,     0.41,2, -999.000,9, -999.000,9, -999.000,9,-999.0000,9,  -999.00,9,   -999.0,9,  -999.00,9,-999.000,9,   2010.5,2,   2309.3,2,  -999.0, -999.00,-999.0000,-999.000,-999.000
    316N145_10,  I07N,   744,  1,     32,     32,2,19950725,0041, -6.0688,  54.6257, 3600,   -999,     70.2,  21.0306,  35.2183,2,  35.2132,2,    135.2,2, 21.0174,    131.9,2,    10.59,2,    11.22,2,     0.39,2,     0.87,2, -999.000,9, -999.000,9, -999.000,9,-999.0000,9,  -999.00,9,   -999.0,9,  -999.00,9,-999.000,9,   2086.3,2,   2309.2,2,  -999.0, -999.00,-999.0000,-999.000,-999.000
    316N145_10,  I07N,   744,  1,     31,     31,2,19950725,0041, -6.0688,  54.6257, 3600,   -999,     90.8,  18.1220,  35.2181,2,  35.2158,2,    113.3,2, 18.1066,    115.3,2,    13.31,2,    15.53,2,     0.03,2,     1.10,2,    1.521,2,    0.807,2,    0.748,2,-999.0000,9,  -999.00,9,     47.2,2,     0.61,2,-999.000,9,   2120.9,2,   2316.3,2,     3.8, -999.00,-999.0000,-999.000,   0.008
    316N145_10,  I07N,   744,  1,     30,     30,2,19950725,0041, -6.0688,  54.6257, 3600,   -999,    120.4,  16.5095,  35.2054,2,  35.1986,2,    110.7,2, 16.4903,    112.8,2,    15.18,2,    17.53,2,     0.00,2,     1.23,2, -999.000,9, -999.000,9, -999.000,9,-999.0000,9,  -999.00,9,     44.2,2,     0.44,2,-999.000,9,   2142.4,2,   2314.2,2,     3.6, -999.00,-999.0000,-999.000,-999.000
    316N145_10,  I07N,   744,  1,     29,     29,2,19950725,0041, -6.0688,  54.6257, 3600,   -999,    150.5,  14.6224,  35.1666,2,  35.1685,2,    116.1,2, 14.6002,    118.0,2,    16.19,2,    18.52,2,     0.00,2,     1.29,2, -999.000,9, -999.000,9, -999.000,9,-999.0000,9,  -999.00,9,   -999.0,9,  -999.00,9,-999.000,9,   2153.4,2,   2319.5,2,  -999.0, -999.00,-999.0000,-999.000,-999.000
    316N145_10,  I07N,   744,  1,     28,     28,2,19950725,0041, -6.0688,  54.6257, 3600,   -999,    175.6,  14.2766,  35.1706,2,  35.1689,2,    121.6,2, 14.2511,    121.9,2,    16.00,2,    18.47,2,     0.00,2,     1.29,2,    1.440,2,    0.737,2,    0.692,2,   1.7710,2,     5.70,2,     33.5,2,     0.67,2,   7.163,2,   2153.5,2,   2315.7,2,     3.4,    0.20,  0.0090,   0.143,   0.008
    316N145_10,  I07N,   744,  1,     27,     27,2,19950725,0041, -6.0688,  54.6257, 3600,   -999,    199.3,  14.1869,  35.1677,2,  35.1669,2,    120.6,2, 14.1580,    122.7,2,    15.98,2,    18.47,2,     0.00,2,     1.30,2, -999.000,9, -999.000,9, -999.000,9,-999.0000,9,  -999.00,9,   -999.0,9,  -999.00,9,-999.000,9,   2155.0,2,   2317.4,2,  -999.0, -999.00,-999.0000,-999.000,-999.000
    316N145_10,  I07N,   744,  1,     26,     26,2,19950725,0041, -6.0688,  54.6257, 3600,   -999,    250.8,  13.2940,  35.1168,2,  35.1115,2,    130.2,2, 13.2590,    128.4,2,    16.81,2,    19.19,2,     0.00,2,     1.34,2,    1.364,6,    0.702,6,    0.506,2,   1.8060,2,     3.50,2,     30.1,2,     0.55,2,   7.399,2,   2158.7,2,   2315.0,2,     3.4,    0.20,  0.0090,   0.148,   0.008
    316N145_10,  I07N,   744,  1,     25,     25,2,19950725,0041, -6.0688,  54.6257, 3600,   -999,    300.5,  11.9413,  35.0140,2,  35.0118,2,    126.2,2, 11.9022,    127.3,2,    19.36,2,    21.35,2,     0.00,2,     1.47,2, -999.000,9, -999.000,9, -999.000,9,-999.0000,9,  -999.00,9,     20.7,2,     0.69,2,-999.000,9,   2168.2,2,   2315.4,2,     3.4, -999.00,-999.0000,-999.000,-999.000
    316N145_10,  I07N,   744,  1,     24,     24,2,19950725,0041, -6.0688,  54.6257, 3600,   -999,    371.0,  10.7592,  34.9393,2,  34.9293,2,    125.4,2, 10.7139,    124.7,2,    22.42,2,    23.74,2,     0.00,2,     1.62,2,    0.880,2,    0.444,2, -999.000,9,-999.0000,9,  -999.00,9,   -999.0,9,  -999.00,9,-999.000,9,   2181.4,2,   2312.7,2,  -999.0, -999.00,-999.0000,-999.000,-999.000
    316N145_10,  I07N,   744,  1,     23,     23,2,19950725,0041, -6.0688,  54.6257, 3600,   -999,    437.2,  10.0370,  34.8758,2,  34.8784,2,    125.4,2,  9.9857,    121.2,2,    26.17,2,    25.54,2,     0.00,2,     1.75,2,    0.692,2,    0.364,2,    0.313,2,   1.8420,2,     4.10,2,    -28.1,2,     0.54,2,   7.488,2,   2192.1,2,   2317.3,2,     3.3,    0.20,  0.0090,   0.150,   0.008
    316N145_10,  I07N,   744,  1,     22,     22,2,19950725,0041, -6.0688,  54.6257, 3600,   -999,    520.9,   9.2401,  34.8333,2,  34.8330,2,    113.4,2,  9.1818,    115.1,2,    33.00,2,    27.62,2,     0.00,2,     1.93,2,    0.490,2,    0.257,2, -999.000,9,-999.0000,9,  -999.00,9,   -999.0,9,  -999.00,9,-999.000,9,   2205.1,2,   2317.8,2,  -999.0, -999.00,-999.0000,-999.000,-999.000
    316N145_10,  I07N,   744,  1,     21,     21,2,19950725,0041, -6.0688,  54.6257, 3600,   -999,    629.7,   8.3416,  34.8103,2,  34.8112,2,     99.7,2,  8.2749,    100.1,2,    44.97,2,    30.66,2,     0.00,2,     2.18,2,    0.243,2,    0.136,2,    0.172,2,   1.8290,2,     6.30,2,   -100.0,2,     0.50,2,   7.809,2,   2228.9,2,   2328.6,2,     3.2,    0.20,  0.0090,   0.156,   0.008
    316N145_10,  I07N,   744,  1,     20,     20,2,19950725,0041, -6.0688,  54.6257, 3600,   -999,    710.1,   7.6148,  34.8299,2,  34.8314,2,     84.1,2,  7.5429,     82.0,2,    58.87,2,    33.30,2,     0.00,2,     2.42,2,    0.092,2,    0.051,2, -999.000,9,-999.0000,9,  -999.00,9,   -999.0,9,  -999.00,9,-999.000,9,   2256.9,2,   2339.9,2,  -999.0, -999.00,-999.0000,-999.000,-999.000
    316N145_10,  I07N,   744,  1,     19,     19,2,19950725,0041, -6.0688,  54.6257, 3600,   -999,    799.5,   7.2425,  34.8364,2,  34.8355,2,     78.0,2,  7.1633,     77.7,2,    65.39,2,    34.17,2,     0.00,2,     2.50,2,    0.058,2,    0.032,2,    0.020,2,   1.8510,2,     7.80,2,   -134.7,2,     0.05,2,   7.698,2,   2268.1,2,   2348.5,2,     3.2,    0.20,  0.0090,   0.154,   0.008
    316N145_10,  I07N,   744,  1,     18,     18,2,19950725,0041, -6.0688,  54.6257, 3600,   -999,    899.7,   6.7213,  34.8496,2,  34.8486,2,     74.6,2,  6.6349,     75.5,2,    73.65,2,    35.00,2,     0.00,2,     2.58,2,    0.032,2,    0.018,2, -999.000,9,-999.0000,9,  -999.00,9,   -999.0,9,  -999.00,9,-999.000,9,   2279.4,2,   2355.4,2,  -999.0, -999.00,-999.0000,-999.000,-999.000
    316N145_10,  I07N,   744,  1,     17,     17,2,19950725,0041, -6.0688,  54.6257, 3600,   -999,   1013.1,   6.2538,  34.8643,2,  34.8669,2,     74.3,2,  6.1593,     73.9,2,    80.91,2,    35.69,2,     0.00,2,     2.64,2,    0.015,2,    0.008,2,    0.001,2,   1.8780,2,     8.40,2,   -153.3,2,     0.10,2,   7.974,2,   2289.5,2,   2370.5,2,     2.4,    0.20,  0.0090,   0.159,   0.008
    316N145_10,  I07N,   744,  1,     16,     16,2,19950725,0041, -6.0688,  54.6257, 3600,   -999,   1118.8,   5.6924,  34.8514,2,  34.8539,2,     79.3,2,  5.5919,     78.7,2,    87.49,2,    35.92,2,     0.00,2,     2.66,2,    0.008,2,    0.000,2, -999.000,9,-999.0000,9,  -999.00,9,   -999.0,9,  -999.00,9,-999.000,9,   2295.4,2,   2372.0,2,  -999.0, -999.00,-999.0000,-999.000,-999.000
    316N145_10,  I07N,   744,  1,     15,     15,2,19950725,0041, -6.0688,  54.6257, 3600,   -999,   1199.4,   5.5267,  34.8630,2,  34.8635,2,     78.4,2,  5.4197,     78.7,2,    90.25,2,    36.10,2,     0.00,2,     2.69,2,    0.004,2,    0.001,2,    0.000,2,   1.9000,2,    11.70,2,   -164.8,2,     0.13,2,   8.015,2,   2298.5,2,   2374.0,2,     3.6,    0.20,  0.0090,   0.160,   0.008
    316N145_10,  I07N,   744,  1,     14,     14,2,19950725,0041, -6.0688,  54.6257, 3600,   -999,   1397.7,   4.7954,  34.8062,2,  34.8064,2,     92.8,2,  4.6766,     95.3,2,    95.13,2,    35.78,2,     0.00,2,     2.65,2,    0.006,2,    0.003,2, -999.000,9,-999.0000,9,  -999.00,9,   -178.1,2,    -0.28,2,-999.000,9,   2297.9,2,   2377.4,2,     3.6, -999.00,-999.0000,-999.000,-999.000
    316N145_10,  I07N,   744,  1,     13,     13,2,19950725,0041, -6.0688,  54.6257, 3600,   -999,   1598.7,   3.7507,  34.7706,2,  34.7706,2,    117.2,2,  3.6251,    117.5,2,   103.72,2,    35.19,2,     0.00,2,     2.57,2,    0.000,2,   -0.002,2,    0.000,2,   1.8870,2,    12.60,2,   -175.6,2,    -0.16,2,   8.166,2,   2297.7,2,   2384.0,2,     5.4,    0.20,  0.0090,   0.163,   0.008
    316N145_10,  I07N,   744,  1,     12,     12,2,19950725,0041, -6.0688,  54.6257, 3600,   -999,   1821.9,   2.9848,  34.7556,2,  34.7555,2,    131.2,2,  2.8491,    134.3,2,   112.39,2,    34.68,2,     0.00,2,     2.53,2,    0.001,2,    0.003,2, -999.000,9,-999.0000,9,  -999.00,9,   -189.1,2,     0.13,2,-999.000,9,   2300.1,2,   2394.2,2,     4.3, -999.00,-999.0000,-999.000,-999.000
    316N145_10,  I07N,   744,  1,     11,     11,2,19950725,0041, -6.0688,  54.6257, 3600,   -999,   2003.3,   2.6690,  34.7515,2,  34.7515,2,    141.3,2,  2.5219,    141.9,2,   116.46,2,    34.46,2,     0.00,2,     2.50,2, -999.000,9, -999.000,9, -999.000,9,   1.9000,2,    13.30,2,   -189.8,2,     0.21,2,   8.305,2,   2301.1,2,   2397.2,2,     4.2,    0.20,  0.0090,   0.166,-999.000
    316N145_10,  I07N,   744,  1,     10,     10,2,19950725,0041, -6.0688,  54.6257, 3600,   -999,   2150.2,   2.3748,  34.7469,2,  34.7468,2,    147.7,2,  2.2192,    147.6,2,   120.38,2,    34.27,2,     0.00,2,     2.48,2, -999.000,9, -999.000,9, -999.000,9,-999.0000,9,  -999.00,9,   -999.0,9,  -999.00,9,-999.000,9,   2302.7,2,   2403.0,2,  -999.0, -999.00,-999.0000,-999.000,-999.000
    316N145_10,  I07N,   744,  1,      9,      9,2,19950725,0041, -6.0688,  54.6257, 3600,   -999,   2297.0,   2.1757,  34.7430,2,  34.7441,2,    152.4,2,  2.0103,    152.1,2,   123.04,2,    34.09,2,     0.00,2,     2.46,2, -999.000,9, -999.000,9,    0.000,2,   1.8960,2,    13.10,2,   -999.0,9,  -999.00,9,   8.287,2,   2303.5,2,   2405.6,2,  -999.0,    0.20,  0.0090,   0.166,   0.008
    316N145_10,  I07N,   744,  1,      8,      8,2,19950725,0041, -6.0688,  54.6257, 3600,   -999,   2499.8,   2.0398,  34.7423,2,  34.7427,2,    156.6,2,  1.8586,    155.0,2,   125.17,2,    34.00,2,     0.00,2,     2.45,2, -999.000,9, -999.000,9, -999.000,9,   1.9040,2,    12.50,2,   -999.0,9,  -999.00,9,   8.220,2,   2304.4,2,   2406.7,2,  -999.0,    0.20,  0.0100,   0.164,-999.000
    316N145_10,  I07N,   744,  1,      7,      7,2,19950725,0041, -6.0688,  54.6257, 3600,   -999,   2729.4,   1.9120,  34.7401,2,  34.7403,2,    158.7,2,  1.7119,    158.3,2,   126.94,2,    33.86,2,     0.00,2,     2.45,2, -999.000,9, -999.000,9, -999.000,9,-999.0000,9,  -999.00,9,   -999.0,9,  -999.00,9,-999.000,9,   2305.0,2,   2406.8,2,  -999.0, -999.00,-999.0000,-999.000,-999.000
    316N145_10,  I07N,   744,  1,      6,      6,2,19950725,0041, -6.0688,  54.6257, 3600,   -999,   2917.3,   1.8343,  34.7374,2,  34.7377,2,    160.1,2,  1.6180,    160.9,2,   128.35,2,    33.82,2,     0.00,2,     2.44,2, -999.000,9, -999.000,9, -999.000,9,   1.8910,2,    12.60,2,   -999.0,9,  -999.00,9,   8.305,2,   2304.4,2,   2409.3,2,  -999.0,    0.20,  0.0090,   0.166,-999.000
    316N145_10,  I07N,   744,  1,      5,      5,2,19950725,0041, -6.0688,  54.6257, 3600,   -999,   3109.2,   1.7417,  34.7352,2,  34.7342,2,    164.2,2,  1.5087,    164.2,2,   129.58,2,    33.73,2,     0.00,2,     2.43,2, -999.000,9, -999.000,9, -999.000,9,-999.0000,9,  -999.00,9,   -999.0,9,  -999.00,9,-999.000,9,   2295.1,3,   2408.5,2,  -999.0, -999.00,-999.0000,-999.000,-999.000
    316N145_10,  I07N,   744,  1,      4,      4,2,19950725,0041, -6.0688,  54.6257, 3600,   -999,   3297.5,   1.6746,  34.7326,2,  34.7324,2,    166.5,2,  1.4245,    167.0,2,   130.27,2,    33.59,2,     0.00,2,     2.41,2, -999.000,9, -999.000,9, -999.000,9,   1.9000,2,    12.40,2,   -999.0,9,  -999.00,9,   8.331,2,   2300.9,2,   2414.9,2,  -999.0,    0.20,  0.0090,   0.167,-999.000
    316N145_10,  I07N,   744,  1,      3,      3,2,19950725,0041, -6.0688,  54.6257, 3600,   -999,   3445.4,   1.6368,  34.7304,2,  34.7300,2,    168.0,2,  1.3727,    168.7,2,   130.77,2,    33.55,2,     0.00,2,     2.43,2,   -0.003,2,   -0.003,2, -999.000,9,-999.0000,9,  -999.00,9,   -999.0,9,  -999.00,9,-999.000,9,   2302.1,2,   2408.8,2,  -999.0, -999.00,-999.0000,-999.000,-999.000
    316N145_10,  I07N,   744,  1,      2,      2,2,19950725,0041, -6.0688,  54.6257, 3600,   -999,   3598.9,   1.5971,  34.7288,2,  34.7286,2,    169.8,2,  1.3182,    169.4,2,   133.11,2,    33.60,2,     0.00,2,     2.40,2,   -0.002,2,   -0.004,2, -999.000,9,   1.8960,2,    10.20,2,   -999.0,9,  -999.00,9,   8.363,2,   2303.2,2,   2412.6,2,  -999.0,    0.20,  0.0090,   0.167,-999.000
    316N145_10,  I07N,   744,  1,      1,      1,2,19950725,0041, -6.0688,  54.6257, 3600,   -999,   3644.6,   1.5946,  34.7292,2,  34.7294,2,    169.7,2,  1.3110,    169.6,2,   133.43,2,    33.60,2,     0.00,2,     2.40,2, -999.000,9, -999.000,9, -999.000,9,-999.0000,9,  -999.00,9,   -999.0,9,  -999.00,9,-999.000,9,   2303.5,2,   2412.5,2,  -999.0, -999.00,-999.0000,-999.000,-999.000