BOTTLE,20080821WHPSIOSCD
EXPOCODE,SECT_ID,STNNBR,CASTNO,SAMPNO,BTLNBR,BTLNBR_FLAG_W,DATE,TIME,LATITUDE,LONGITUDE,DEPTH,CTDRAW,CTDPRS,CTDTMP,CTDSAL,CTDSAL_FLAG_W,SALNTY,SALNTY_FLAG_W,CTDOXY,CTDOXY_FLAG_W,THETA,OXYGEN,OXYGEN_FLAG_W,SILCAT,SILCAT_FLAG_W,NITRAT,NITRAT_FLAG_W,NITRIT,NITRIT_FLAG_W,PHSPHT,PHSPHT_FLAG_W,CFC-11,CFC-11_FLAG_W,CFC-12,CFC-12_FLAG_W,TRITUM,TRITUM_FLAG_W,HELIUM,HELIUM_FLAG_W,DELHE3,DELHE3_FLAG_W,DELC14,DELC14_FLAG_W,DELC13,DELC13_FLAG_W,NEON,NEON_FLAG_W,TCARBN,TCARBN_FLAG_W,ALKALI,ALKALI_FLAG_W,C14ERR,DELHER,HELIER,NEONER,TRITER
,,,,,,,,,,,,,DBAR,ITS-90,PSS-78,,PSS-78,,UMOL/KG,,DEG C,UMOL/KG,,UMOL/KG,,UMOL/KG,,UMOL/KG,,UMOL/KG,,PMOL/KG,,PMOL/KG,,TU,,NMOL/KG,,PERCNT,,/MILLE,,/MILLE,,NMOL/KG,,UMOL/KG,,UMOL/KG,,/MILLE,PERCNT,NMOL/KG,NMOL/KG,TU
    316N145_10,  I07N,   746,  1,     36,     36,2,19950725,1035, -5.3452,  55.1177, 3012,   -999,      8.6,  26.7659,  35.2726,2,  35.2719,2,    206.4,2, 26.7642,    202.2,2,     3.29,2,     0.23,2,     0.01,2,     0.21,2,    1.718,2,    0.969,2, -999.000,9,-999.0000,9,  -999.00,9,   -999.0,9,  -999.00,9,-999.000,9,   1972.3,2,   2310.0,2,  -999.0, -999.00,-999.0000,-999.000,-999.000
    316N145_10,  I07N,   746,  1,     35,     35,2,19950725,1035, -5.3452,  55.1177, 3012,   -999,     21.0,  26.5724,  35.2686,2,  35.2674,2,    201.6,2, 26.5679,    202.4,2,     2.59,2,     0.18,2,     0.02,2,     0.20,2, -999.000,9, -999.000,9, -999.000,9,-999.0000,9,  -999.00,9,   -999.0,9,  -999.00,9,-999.000,9,   1973.2,2,   2307.4,2,  -999.0, -999.00,-999.0000,-999.000,-999.000
    316N145_10,  I07N,   746,  1,     34,     34,2,19950725,1035, -5.3452,  55.1177, 3012,   -999,     50.4,  24.4962,  35.2185,2,  35.2039,2,    187.6,2, 24.4857,    172.6,2,     5.97,2,     4.34,2,     0.30,2,     0.47,2,    1.650,2,    0.912,2, -999.000,9,-999.0000,9,  -999.00,9,   -999.0,9,  -999.00,9,-999.000,9,   2018.2,2,   2306.9,2,  -999.0, -999.00,-999.0000,-999.000,-999.000
    316N145_10,  I07N,   746,  1,     33,     33,2,19950725,1035, -5.3452,  55.1177, 3012,   -999,     90.8,  19.0946,  35.2091,2,  35.2080,2,    122.3,2, 19.0786,    119.2,2,    12.24,2,    14.20,2,     0.07,2,     1.02,2, -999.000,9, -999.000,9, -999.000,9,-999.0000,9,  -999.00,9,   -999.0,9,  -999.00,9,-999.000,9,   2107.2,2,   2310.6,2,  -999.0, -999.00,-999.0000,-999.000,-999.000
    316N145_10,  I07N,   746,  1,     32,     32,2,19950725,1035, -5.3452,  55.1177, 3012,   -999,    120.4,  17.1572,  35.2082,2,  35.2058,2,    113.7,2, 17.1374,    112.0,2,    14.43,2,    16.84,2,     0.03,2,     1.20,2,    1.473,2,    0.772,2, -999.000,9,-999.0000,9,  -999.00,9,   -999.0,9,  -999.00,9,-999.000,9,   2131.8,2,   2318.7,2,  -999.0, -999.00,-999.0000,-999.000,-999.000
    316N145_10,  I07N,   746,  1,     31,     31,2,19950725,1035, -5.3452,  55.1177, 3012,   -999,    155.6,  14.9934,  35.1846,2,  35.1803,2,    114.8,2, 14.9700,    118.1,2,    15.94,2,    18.18,2,     0.00,2,     1.28,2, -999.000,9, -999.000,9, -999.000,9,-999.0000,9,  -999.00,9,   -999.0,9,  -999.00,9,-999.000,9,   2147.5,2,   2316.7,2,  -999.0, -999.00,-999.0000,-999.000,-999.000
    316N145_10,  I07N,   746,  1,     30,     30,2,19950725,1035, -5.3452,  55.1177, 3012,   -999,    200.9,  13.1399,  35.0951,2,  35.0938,2,    119.6,2, 13.1122,    122.2,2,    17.96,2,    19.90,2,     0.00,2,     1.40,2,    1.266,2,    0.651,2, -999.000,9,-999.0000,9,  -999.00,9,   -999.0,9,  -999.00,9,-999.000,9,   2160.0,2,   2319.0,2,  -999.0, -999.00,-999.0000,-999.000,-999.000
    316N145_10,  I07N,   746,  1,     29,     29,2,19950725,1035, -5.3452,  55.1177, 3012,   -999,    236.4,  12.5247,  35.0818,2,  35.0806,2,    129.5,2, 12.4930,    136.4,2,    16.76,2,    19.28,2,     0.00,2,     1.37,2, -999.000,9, -999.000,9, -999.000,9,-999.0000,9,  -999.00,9,   -999.0,9,  -999.00,9,-999.000,9,   2155.4,2,   2315.5,2,  -999.0, -999.00,-999.0000,-999.000,-999.000
    316N145_10,  I07N,   746,  1,     28,     28,2,19950725,1035, -5.3452,  55.1177, 3012,   -999,    316.4,  11.2716,  34.9782,2,  34.9800,2,    134.0,2, 11.2319,    134.2,2,    19.63,2,    21.71,2,     0.00,2,     1.51,2,    1.109,2,    0.562,2, -999.000,9,-999.0000,9,  -999.00,9,   -999.0,9,  -999.00,9,-999.000,9,   2170.2,2,   2316.0,2,  -999.0, -999.00,-999.0000,-999.000,-999.000
    316N145_10,  I07N,   746,  1,     27,     27,2,19950725,1035, -5.3452,  55.1177, 3012,   -999,    407.8,  10.6135,  34.9329,2,  34.9323,2,    127.3,2, 10.5640,    127.3,2,    22.84,2,    23.80,2,     0.00,2,     1.65,2, -999.000,9, -999.000,9, -999.000,9,-999.0000,9,  -999.00,9,   -999.0,9,  -999.00,9,-999.000,9,   2179.7,2,   2314.1,2,  -999.0, -999.00,-999.0000,-999.000,-999.000
    316N145_10,  I07N,   746,  1,     26,     26,2,19950725,1035, -5.3452,  55.1177, 3012,   -999,    487.7,   9.8677,  34.8688,2,  34.8677,2,    116.1,2,  9.8110,    117.1,2,    28.09,2,    26.47,2,     0.00,2,     1.83,2,    0.586,2,    0.304,2, -999.000,9,-999.0000,9,  -999.00,9,   -999.0,9,  -999.00,9,-999.000,9,   2195.1,2,   2315.3,2,  -999.0, -999.00,-999.0000,-999.000,-999.000
    316N145_10,  I07N,   746,  1,     25,     25,2,19950725,1035, -5.3452,  55.1177, 3012,   -999,    553.0,   9.1590,  34.8424,2,  34.8408,2,    105.1,2,  9.0973,    106.3,2,    35.71,2,    28.84,2,     0.00,2,     2.03,2, -999.000,9, -999.000,9, -999.000,9,-999.0000,9,  -999.00,9,   -999.0,9,  -999.00,9,-999.000,9,   -999.9,5,   2320.7,2,  -999.0, -999.00,-999.0000,-999.000,-999.000
    316N145_10,  I07N,   746,  1,     24,     24,2,19950725,1035, -5.3452,  55.1177, 3012,   -999,    608.1,   8.7843,  34.8335,2,  34.8327,2,     98.7,2,  8.7179,    100.1,2,    40.62,2,    29.99,2,     0.00,2,     2.13,2,    0.285,2,    0.160,2, -999.000,9,-999.0000,9,  -999.00,9,   -999.0,9,  -999.00,9,-999.000,9,   2221.5,2,   2325.5,2,  -999.0, -999.00,-999.0000,-999.000,-999.000
    316N145_10,  I07N,   746,  1,     23,     23,2,19950725,1035, -5.3452,  55.1177, 3012,   -999,    692.8,   7.8450,  34.8233,2,  34.8235,2,     88.1,2,  7.7737,     86.3,2,    54.56,2,    32.64,2,     0.00,2,     2.37,2, -999.000,9, -999.000,9, -999.000,9,-999.0000,9,  -999.00,9,   -999.0,9,  -999.00,9,-999.000,9,   2246.9,2,   2337.2,2,  -999.0, -999.00,-999.0000,-999.000,-999.000
    316N145_10,  I07N,   746,  1,     22,     22,2,19950725,1035, -5.3452,  55.1177, 3012,   -999,    768.6,   7.5115,  34.8736,2,  34.8740,2,     81.3,2,  7.4338,     74.9,2,    63.08,2,    34.03,2,     0.00,2,     2.52,2,    0.066,2,    0.042,2, -999.000,9,-999.0000,9,  -999.00,9,   -999.0,9,  -999.00,9,-999.000,9,   2264.7,2,   2345.4,2,  -999.0, -999.00,-999.0000,-999.000,-999.000
    316N145_10,  I07N,   746,  1,     21,     21,2,19950725,1035, -5.3452,  55.1177, 3012,   -999,    799.4,   7.3963,  34.8777,2,  34.8785,2,     74.9,2,  7.3161,     74.4,2,    65.11,2,    34.32,2,     0.00,2,     2.54,2,    0.060,2,    0.033,2, -999.000,9,-999.0000,9,  -999.00,9,   -999.0,9,  -999.00,9,-999.000,9,   2266.4,2,   2350.8,2,  -999.0, -999.00,-999.0000,-999.000,-999.000
    316N145_10,  I07N,   746,  1,     20,     20,2,19950725,1035, -5.3452,  55.1177, 3012,   -999,    849.7,   7.0799,  34.8660,2,  34.8673,2,     72.2,2,  6.9963,     73.6,2,    69.55,2,    34.74,2,     0.00,2,     2.59,2,    0.043,2,    0.027,2, -999.000,9,-999.0000,9,  -999.00,9,   -999.0,9,  -999.00,9,-999.000,9,   2272.5,2,   2352.5,2,  -999.0, -999.00,-999.0000,-999.000,-999.000
    316N145_10,  I07N,   746,  1,     19,     19,2,19950725,1035, -5.3452,  55.1177, 3012,   -999,    899.8,   6.8131,  34.8624,2,  34.8620,2,     74.2,2,  6.7261,     74.5,2,    73.30,2,    35.08,2,     0.00,2,     2.62,2,    0.030,2,    0.018,2, -999.000,9,-999.0000,9,  -999.00,9,   -999.0,9,  -999.00,9,-999.000,9,   2277.9,2,   2356.7,2,  -999.0, -999.00,-999.0000,-999.000,-999.000
    316N145_10,  I07N,   746,  1,     18,     18,2,19950725,1035, -5.3452,  55.1177, 3012,   -999,   1000.7,   6.1947,  34.8567,2,  34.8555,2,     75.6,2,  6.1019,     75.1,2,    81.54,2,    35.64,2,     0.00,2,     2.69,2,    0.017,2,    0.011,2, -999.000,9,-999.0000,9,  -999.00,9,   -999.0,9,  -999.00,9,-999.000,9,   2287.1,2,   2364.4,2,  -999.0, -999.00,-999.0000,-999.000,-999.000
    316N145_10,  I07N,   746,  1,     17,     17,2,19950725,1035, -5.3452,  55.1177, 3012,   -999,   1101.5,   5.9321,  34.8753,2,  34.8779,2,     81.0,2,  5.8313,     75.5,2,    86.18,2,    36.03,2,     0.00,2,     2.72,2,    0.006,2,    0.003,2, -999.000,9,-999.0000,9,  -999.00,9,   -999.0,9,  -999.00,9,-999.000,9,   2295.2,2,   2371.9,2,  -999.0, -999.00,-999.0000,-999.000,-999.000
    316N145_10,  I07N,   746,  1,     16,     16,2,19950725,1035, -5.3452,  55.1177, 3012,   -999,   1196.7,   5.3500,  34.8362,2,  34.8359,2,     84.8,2,  5.2450,     85.0,2,    90.50,2,    35.90,2,     0.00,2,     2.70,2,    0.006,2,    0.003,2, -999.000,9,-999.0000,9,  -999.00,9,   -999.0,9,  -999.00,9,-999.000,9,   2292.9,2,   2373.7,2,  -999.0, -999.00,-999.0000,-999.000,-999.000
    316N145_10,  I07N,   746,  1,     15,     15,2,19950725,1035, -5.3452,  55.1177, 3012,   -999,   1298.1,   4.7753,  34.8094,2,  34.8084,2,     93.0,2,  4.6661,     95.1,2,    95.00,2,    35.73,2,     0.00,2,     2.66,2, -999.000,9, -999.000,9, -999.000,9,-999.0000,9,  -999.00,9,   -999.0,9,  -999.00,9,-999.000,9,   2295.7,2,   2379.3,2,  -999.0, -999.00,-999.0000,-999.000,-999.000
    316N145_10,  I07N,   746,  1,     14,     14,2,19950725,1035, -5.3452,  55.1177, 3012,   -999,   1399.6,   4.5889,  34.8064,2,  34.8086,2,     99.2,2,  4.4720,     98.8,2,    97.42,2,    35.75,2,     0.00,2,     2.66,2, -999.000,9, -999.000,9, -999.000,9,-999.0000,9,  -999.00,9,   -999.0,9,  -999.00,9,-999.000,9,   2297.0,2,   2379.6,2,  -999.0, -999.00,-999.0000,-999.000,-999.000
    316N145_10,  I07N,   746,  1,     13,     13,2,19950725,1035, -5.3452,  55.1177, 3012,   -999,   1499.5,   4.1514,  34.7904,2,  34.7917,2,    107.4,2,  4.0301,    109.1,2,   101.07,2,    35.53,2,     0.00,2,     2.62,2, -999.000,9, -999.000,9, -999.000,9,-999.0000,9,  -999.00,9,   -999.0,9,  -999.00,9,-999.000,9,   2298.1,2,   2382.9,2,  -999.0, -999.00,-999.0000,-999.000,-999.000
    316N145_10,  I07N,   746,  1,     12,     12,2,19950725,1035, -5.3452,  55.1177, 3012,   -999,   1601.5,   3.8349,  34.7790,2,  34.7794,2,    114.0,2,  3.7080,    113.9,2,   103.85,2,    35.27,2,     0.00,2,     2.60,2, -999.000,9, -999.000,9, -999.000,9,-999.0000,9,  -999.00,9,   -999.0,9,  -999.00,9,-999.000,9,   2298.8,2,   2391.5,2,  -999.0, -999.00,-999.0000,-999.000,-999.000
    316N145_10,  I07N,   746,  1,     11,     11,2,19950725,1035, -5.3452,  55.1177, 3012,   -999,   1697.4,   3.4862,  34.7700,2,  34.7696,2,    121.1,2,  3.3549,    122.3,2,   107.00,2,    35.05,2,     0.00,2,     2.58,2, -999.000,9, -999.000,9, -999.000,9,-999.0000,9,  -999.00,9,   -999.0,9,  -999.00,9,-999.000,9,   2297.1,2,   2390.0,2,  -999.0, -999.00,-999.0000,-999.000,-999.000
    316N145_10,  I07N,   746,  1,     10,     10,2,19950725,1035, -5.3452,  55.1177, 3012,   -999,   1798.1,   3.2801,  34.7643,2,  34.7641,2,    126.5,2,  3.1424,    128.0,2,   109.27,2,    34.97,2,     0.00,2,     2.55,2, -999.000,9, -999.000,9, -999.000,9,-999.0000,9,  -999.00,9,   -999.0,9,  -999.00,9,-999.000,9,   2298.3,2,   2387.3,2,  -999.0, -999.00,-999.0000,-999.000,-999.000
    316N145_10,  I07N,   746,  1,      9,      9,2,19950725,1035, -5.3452,  55.1177, 3012,   -999,   1898.8,   2.9384,  34.7570,2,  34.7554,2,    134.3,2,  2.7966,    134.7,2,   112.78,2,    34.66,2,     0.00,2,     2.53,2, -999.000,9, -999.000,9, -999.000,9,-999.0000,9,  -999.00,9,   -999.0,9,  -999.00,9,-999.000,9,   2298.7,2,   2397.3,2,  -999.0, -999.00,-999.0000,-999.000,-999.000
    316N145_10,  I07N,   746,  1,      8,      8,2,19950725,1035, -5.3452,  55.1177, 3012,   -999,   1996.0,   2.6885,  34.7519,2,  34.7515,2,    142.7,2,  2.5417,    140.7,2,   115.42,2,    34.44,2,     0.00,2,     2.51,2, -999.000,9, -999.000,9, -999.000,9,-999.0000,9,  -999.00,9,   -999.0,9,  -999.00,9,-999.000,9,   2299.7,2,   2401.9,2,  -999.0, -999.00,-999.0000,-999.000,-999.000
    316N145_10,  I07N,   746,  1,      7,      7,2,19950725,1035, -5.3452,  55.1177, 3012,   -999,   2097.1,   2.4661,  34.7474,2,  34.7533,3,    147.2,2,  2.3138,    146.5,2,   118.42,2,    34.32,2,     0.00,2,     2.48,2, -999.000,9, -999.000,9, -999.000,9,-999.0000,9,  -999.00,9,   -999.0,9,  -999.00,9,-999.000,9,   -999.9,5,   2401.1,2,  -999.0, -999.00,-999.0000,-999.000,-999.000
    316N145_10,  I07N,   746,  1,      6,      6,2,19950725,1035, -5.3452,  55.1177, 3012,   -999,   2299.4,   2.1476,  34.7436,2,  34.7455,3,    152.4,2,  1.9825,    153.1,2,   123.05,2,    34.19,2,     0.00,2,     2.48,2, -999.000,9, -999.000,9, -999.000,9,-999.0000,9,  -999.00,9,   -999.0,9,  -999.00,9,-999.000,9,   2300.7,2,   2401.0,2,  -999.0, -999.00,-999.0000,-999.000,-999.000
    316N145_10,  I07N,   746,  1,      5,      5,2,19950725,1035, -5.3452,  55.1177, 3012,   -999,   2497.2,   2.0312,  34.7398,2,  34.7413,2,    155.1,2,  1.8503,    155.5,2,   124.46,2,    34.02,2,     0.00,2,     2.45,3, -999.000,9, -999.000,9, -999.000,9,-999.0000,9,  -999.00,9,   -999.0,9,  -999.00,9,-999.000,9,   2302.0,2,   2407.7,2,  -999.0, -999.00,-999.0000,-999.000,-999.000
    316N145_10,  I07N,   746,  1,      4,      4,2,19950725,1035, -5.3452,  55.1177, 3012,   -999,   2699.4,   1.9018,  34.7391,2,  34.7205,3,    159.3,2,  1.7047,    159.9,2,   126.78,2,    33.94,2,     0.00,2,     2.43,2, -999.000,9, -999.000,9, -999.000,9,-999.0000,9,  -999.00,9,   -999.0,9,  -999.00,9,-999.000,9,   -999.9,5,   2404.7,2,  -999.0, -999.00,-999.0000,-999.000,-999.000
    316N145_10,  I07N,   746,  1,      3,      3,2,19950725,1035, -5.3452,  55.1177, 3012,   -999,   2897.8,   1.8110,  34.7366,2,  34.7357,2,    161.9,2,  1.5971,    161.4,2,   128.20,2,    33.96,2,     0.00,2,     2.43,2, -999.000,9, -999.000,9, -999.000,9,-999.0000,9,  -999.00,9,   -999.0,9,  -999.00,9,-999.000,9,   -999.9,5,   2410.0,2,  -999.0, -999.00,-999.0000,-999.000,-999.000
    316N145_10,  I07N,   746,  1,      2,      2,2,19950725,1035, -5.3452,  55.1177, 3012,   -999,   2993.6,   1.7681,  34.7347,2,  34.7343,2,    163.8,2,  1.5458,    163.6,2,   129.07,2,    33.92,2,     0.00,2,     2.42,2, -999.000,9, -999.000,9, -999.000,9,-999.0000,9,  -999.00,9,   -999.0,9,  -999.00,9,-999.000,9,   2303.1,2,   2454.9,3,  -999.0, -999.00,-999.0000,-999.000,-999.000
    316N145_10,  I07N,   746,  1,      1,      1,2,19950725,1035, -5.3452,  55.1177, 3012,   -999,   3064.8,   1.7537,  34.7353,2,  34.7351,2,    162.7,2,  1.5248,    163.7,2,   129.41,2,    33.94,2,     0.00,2,     2.42,2, -999.000,9, -999.000,9, -999.000,9,-999.0000,9,  -999.00,9,   -999.0,9,  -999.00,9,-999.000,9,   2302.0,2,   2410.0,2,  -999.0, -999.00,-999.0000,-999.000,-999.000
    316N145_10,  I07N,   747,  1,     13,     13,2,19950725,1402, -5.1050,  55.2842,  439,   -999,      5.4,  26.5967,  35.2155,2,  35.2143,2,    208.1,2, 26.5956,    205.8,2,     2.54,2,     0.09,2,     0.00,2,     0.16,2, -999.000,9, -999.000,9, -999.000,9,-999.0000,9,  -999.00,9,   -999.0,9,  -999.00,9,-999.000,9,   1962.7,2,   2305.0,2,  -999.0, -999.00,-999.0000,-999.000,-999.000
    316N145_10,  I07N,   747,  1,     12,     12,2,19950725,1402, -5.1050,  55.2842,  439,   -999,     15.7,  26.5593,  35.2154,2,  35.2125,2,    203.5,2, 26.5560,    206.1,2,     2.54,2,     0.09,2,     0.00,2,     0.16,2, -999.000,9, -999.000,9, -999.000,9,-999.0000,9,  -999.00,9,   -999.0,9,  -999.00,9,-999.000,9,   -999.9,9,   -999.9,9,  -999.0, -999.00,-999.0000,-999.000,-999.000
    316N145_10,  I07N,   747,  1,     11,     11,2,19950725,1402, -5.1050,  55.2842,  439,   -999,     33.9,  25.9645,  35.2279,2,  35.2282,3,    200.4,2, 25.9572,    197.3,2,     3.22,2,     0.79,2,     0.06,2,     0.25,2, -999.000,9, -999.000,9, -999.000,9,-999.0000,9,  -999.00,9,   -999.0,9,  -999.00,9,-999.000,9,   -999.9,9,   -999.9,9,  -999.0, -999.00,-999.0000,-999.000,-999.000
    316N145_10,  I07N,   747,  1,     10,     10,2,19950725,1402, -5.1050,  55.2842,  439,   -999,     74.1,  21.7669,  35.2158,2,  35.2099,2,    155.9,2, 21.7526,    147.9,2,     8.47,2,     8.44,2,     0.44,2,     0.73,2, -999.000,9, -999.000,9, -999.000,9,-999.0000,9,  -999.00,9,   -999.0,9,  -999.00,9,-999.000,9,   -999.9,9,   -999.9,9,  -999.0, -999.00,-999.0000,-999.000,-999.000
    316N145_10,  I07N,   747,  1,      9,      9,2,19950725,1402, -5.1050,  55.2842,  439,   -999,     98.8,  19.1348,  35.1914,2,  35.2008,2,    132.9,2, 19.1173,    127.6,2,    11.68,2,    13.15,2,     0.20,2,     1.00,2, -999.000,9, -999.000,9, -999.000,9,-999.0000,9,  -999.00,9,   -999.0,9,  -999.00,9,-999.000,9,   -999.9,9,   -999.9,9,  -999.0, -999.00,-999.0000,-999.000,-999.000
    316N145_10,  I07N,   747,  1,      8,      8,2,19950725,1402, -5.1050,  55.2842,  439,   -999,     99.0,  19.3575,  35.2108,2,  35.2018,2,    132.8,2, 19.3398,    127.9,2,    11.85,2,    13.17,2,     0.20,2,     1.01,2, -999.000,9, -999.000,9, -999.000,9,-999.0000,9,  -999.00,9,   -999.0,9,  -999.00,9,-999.000,9,   -999.9,9,   -999.9,9,  -999.0, -999.00,-999.0000,-999.000,-999.000
    316N145_10,  I07N,   747,  1,      7,      7,2,19950725,1402, -5.1050,  55.2842,  439,   -999,    124.4,  17.4785,  35.1898,2,  35.1870,2,    122.4,2, 17.4578,    121.7,2,    13.53,2,    15.66,2,     0.06,2,     1.15,2, -999.000,9, -999.000,9, -999.000,9,-999.0000,9,  -999.00,9,   -999.0,9,  -999.00,9,-999.000,9,   -999.9,9,   -999.9,9,  -999.0, -999.00,-999.0000,-999.000,-999.000
    316N145_10,  I07N,   747,  1,      6,      6,2,19950725,1402, -5.1050,  55.2842,  439,   -999,    164.0,  14.4074,  35.1478,2,  35.1451,2,    122.6,2, 14.3834,    122.3,2,    15.90,2,    18.59,2,     0.00,2,     1.33,2, -999.000,9, -999.000,9, -999.000,9,-999.0000,9,  -999.00,9,   -999.0,9,  -999.00,9,-999.000,9,   -999.9,9,   -999.9,9,  -999.0, -999.00,-999.0000,-999.000,-999.000
    316N145_10,  I07N,   747,  1,      5,      5,2,19950725,1402, -5.1050,  55.2842,  439,   -999,    199.5,  13.6707,  35.1308,2,  35.1284,2,    124.5,2, 13.6425,    125.4,2,    16.40,2,    18.97,2,     0.00,2,     1.36,2, -999.000,9, -999.000,9, -999.000,9,-999.0000,9,  -999.00,9,   -999.0,9,  -999.00,9,-999.000,9,   -999.9,9,   -999.9,9,  -999.0, -999.00,-999.0000,-999.000,-999.000
    316N145_10,  I07N,   747,  1,      4,      4,2,19950725,1402, -5.1050,  55.2842,  439,   -999,    299.2,  12.0623,  35.0405,2,  35.0396,2,    135.7,2, 12.0231,    135.7,2,    17.75,2,    20.30,2,     0.00,2,     1.44,2, -999.000,9, -999.000,9, -999.000,9,-999.0000,9,  -999.00,9,   -999.0,9,  -999.00,9,-999.000,9,   -999.9,9,   -999.9,9,  -999.0, -999.00,-999.0000,-999.000,-999.000
    316N145_10,  I07N,   747,  1,      3,      3,2,19950725,1402, -5.1050,  55.2842,  439,   -999,    399.9,  11.0351,  34.9627,2,  34.9607,2,    132.4,2, 10.9854,    129.0,2,    21.47,2,    22.87,2,     0.00,2,     1.61,2, -999.000,9, -999.000,9, -999.000,9,-999.0000,9,  -999.00,9,   -999.0,9,  -999.00,9,-999.000,9,   -999.9,9,   -999.9,9,  -999.0, -999.00,-999.0000,-999.000,-999.000
    316N145_10,  I07N,   747,  1,      2,      2,2,19950725,1402, -5.1050,  55.2842,  439,   -999,    445.2,  10.5299,  34.9261,2,  34.9248,2,    122.6,2, 10.4760,    124.4,2,    24.00,2,    24.34,2,     0.00,2,     1.70,2, -999.000,9, -999.000,9, -999.000,9,-999.0000,9,  -999.00,9,   -999.0,9,  -999.00,9,-999.000,9,   -999.9,9,   -999.9,9,  -999.0, -999.00,-999.0000,-999.000,-999.000
    316N145_10,  I07N,   747,  1,      1,      1,2,19950725,1402, -5.1050,  55.2842,  439,   -999,    458.6,  10.2366,  34.9077,2,  34.9138,2,    121.1,2, 10.1820,    121.3,2,    25.85,2,    25.05,2,     0.00,2,     1.76,2, -999.000,9, -999.000,9, -999.000,9,-999.0000,9,  -999.00,9,   -999.0,9,  -999.00,9,-999.000,9,   -999.9,9,   -999.9,9,  -999.0, -999.00,-999.0000,-999.000,-999.000