BOTTLE,20080821WHPSIOSCD
EXPOCODE,SECT_ID,STNNBR,CASTNO,SAMPNO,BTLNBR,BTLNBR_FLAG_W,DATE,TIME,LATITUDE,LONGITUDE,DEPTH,CTDRAW,CTDPRS,CTDTMP,CTDSAL,CTDSAL_FLAG_W,SALNTY,SALNTY_FLAG_W,CTDOXY,CTDOXY_FLAG_W,THETA,OXYGEN,OXYGEN_FLAG_W,SILCAT,SILCAT_FLAG_W,NITRAT,NITRAT_FLAG_W,NITRIT,NITRIT_FLAG_W,PHSPHT,PHSPHT_FLAG_W,CFC-11,CFC-11_FLAG_W,CFC-12,CFC-12_FLAG_W,TRITUM,TRITUM_FLAG_W,HELIUM,HELIUM_FLAG_W,DELHE3,DELHE3_FLAG_W,DELC14,DELC14_FLAG_W,DELC13,DELC13_FLAG_W,NEON,NEON_FLAG_W,TCARBN,TCARBN_FLAG_W,ALKALI,ALKALI_FLAG_W,C14ERR,DELHER,HELIER,NEONER,TRITER
,,,,,,,,,,,,,DBAR,ITS-90,PSS-78,,PSS-78,,UMOL/KG,,DEG C,UMOL/KG,,UMOL/KG,,UMOL/KG,,UMOL/KG,,UMOL/KG,,PMOL/KG,,PMOL/KG,,TU,,NMOL/KG,,PERCNT,,/MILLE,,/MILLE,,NMOL/KG,,UMOL/KG,,UMOL/KG,,/MILLE,PERCNT,NMOL/KG,NMOL/KG,TU
    316N145_10,  I07N,   748,  1,     12,     12,2,19950726,1201, -3.7212,  55.5898,  455,   -999,      6.0,  27.0112,  35.2513,2,  35.2477,2,    216.2,2, 27.0100,    208.6,2,     2.47,2,     0.07,2,     0.00,2,     0.18,2, -999.000,9, -999.000,9, -999.000,9,-999.0000,9,  -999.00,9,   -999.0,9,  -999.00,9,-999.000,9,   1966.5,2,   2309.8,2,  -999.0, -999.00,-999.0000,-999.000,-999.000
    316N145_10,  I07N,   748,  1,     11,     11,2,19950726,1201, -3.7212,  55.5898,  455,   -999,     29.1,  26.5199,  35.2224,2,  35.2199,2,    201.4,2, 26.5136,    204.2,2,     3.32,2,     0.51,2,     0.03,2,     0.23,2, -999.000,9, -999.000,9, -999.000,9,-999.0000,9,  -999.00,9,   -999.0,9,  -999.00,9,-999.000,9,   1975.7,2,   2307.6,2,  -999.0, -999.00,-999.0000,-999.000,-999.000
    316N145_10,  I07N,   748,  1,     10,     10,2,19950726,1201, -3.7212,  55.5898,  455,   -999,     54.4,  26.1639,  35.2222,2,  35.2201,2,    195.4,2, 26.1520,    193.5,2,     3.82,2,     1.21,2,     0.14,2,     0.29,2, -999.000,9, -999.000,9, -999.000,9,-999.0000,9,  -999.00,9,   -999.0,9,  -999.00,9,-999.000,9,   1984.2,2,   2308.1,2,  -999.0, -999.00,-999.0000,-999.000,-999.000
    316N145_10,  I07N,   748,  1,      9,      9,2,19950726,1201, -3.7212,  55.5898,  455,   -999,    105.2,  18.3150,  35.1874,2,  35.1825,2,    134.1,2, 18.2969,    121.0,2,    13.10,2,    14.41,2,     0.10,2,     1.08,2, -999.000,9, -999.000,9, -999.000,9,-999.0000,9,  -999.00,9,   -999.0,9,  -999.00,9,-999.000,9,   2111.0,2,   2397.2,3,  -999.0, -999.00,-999.0000,-999.000,-999.000
    316N145_10,  I07N,   748,  1,      8,      8,2,19950726,1201, -3.7212,  55.5898,  455,   -999,    144.2,  14.8800,  35.1617,2,  35.1471,2,    115.0,2, 14.8585,    114.7,2,    16.86,2,    18.79,2,     0.01,2,     1.35,2, -999.000,9, -999.000,9, -999.000,9,-999.0000,9,  -999.00,9,   -999.0,9,  -999.00,9,-999.000,9,   2152.0,2,   2317.0,2,  -999.0, -999.00,-999.0000,-999.000,-999.000
    316N145_10,  I07N,   748,  1,      7,      7,2,19950726,1201, -3.7212,  55.5898,  455,   -999,    212.6,  12.7010,  35.0955,2,  35.0944,2,    134.4,2, 12.6723,    134.2,2,    17.02,2,    19.12,2,     0.00,2,     1.37,2, -999.000,9, -999.000,9, -999.000,9,-999.0000,9,  -999.00,9,   -999.0,9,  -999.00,9,-999.000,9,   2158.2,2,   2316.4,2,  -999.0, -999.00,-999.0000,-999.000,-999.000
    316N145_10,  I07N,   748,  1,      6,      6,2,19950726,1201, -3.7212,  55.5898,  455,   -999,    261.8,  12.1026,  35.0533,2,  35.0525,2,    139.8,2, 12.0683,    140.0,2,    17.35,2,    19.45,2,     0.00,2,     1.40,2, -999.000,9, -999.000,9, -999.000,9,-999.0000,9,  -999.00,9,   -999.0,9,  -999.00,9,-999.000,9,   2158.6,2,   2318.4,2,  -999.0, -999.00,-999.0000,-999.000,-999.000
    316N145_10,  I07N,   748,  1,      5,      5,2,19950726,1201, -3.7212,  55.5898,  455,   -999,    311.3,  11.2462,  34.9922,2,  34.9844,2,    137.1,2, 11.2072,    136.9,2,    19.74,2,    21.32,2,     0.00,2,     1.52,2, -999.000,9, -999.000,9, -999.000,9,-999.0000,9,  -999.00,9,   -999.0,9,  -999.00,9,-999.000,9,   2168.5,2,   2315.4,2,  -999.0, -999.00,-999.0000,-999.000,-999.000
    316N145_10,  I07N,   748,  1,      4,      4,2,19950726,1201, -3.7212,  55.5898,  455,   -999,    360.7,  10.7069,  34.9456,2,  34.9443,2,    130.7,2, 10.6630,    131.7,2,    21.96,2,    22.84,2,     0.00,2,     1.62,2, -999.000,9, -999.000,9, -999.000,9,-999.0000,9,  -999.00,9,   -999.0,9,  -999.00,9,-999.000,9,   2176.4,2,   2316.6,2,  -999.0, -999.00,-999.0000,-999.000,-999.000
    316N145_10,  I07N,   748,  1,      3,      3,2,19950726,1201, -3.7212,  55.5898,  455,   -999,    410.7,  10.3371,  34.9215,2,  34.9184,2,    125.1,2, 10.2881,    125.2,2,    24.36,2,    24.26,2,     0.00,2,     1.72,2, -999.000,9, -999.000,9, -999.000,9,-999.0000,9,  -999.00,9,   -999.0,9,  -999.00,9,-999.000,9,   2185.1,2,   2316.3,2,  -999.0, -999.00,-999.0000,-999.000,-999.000
    316N145_10,  I07N,   748,  1,      2,      2,2,19950726,1201, -3.7212,  55.5898,  455,   -999,    439.7,  10.3165,  34.9197,2,  34.9185,2,    123.6,2, 10.2639,    124.7,2,    24.68,2,    24.35,2,     0.00,2,     1.72,2, -999.000,9, -999.000,9, -999.000,9,-999.0000,9,  -999.00,9,   -999.0,9,  -999.00,9,-999.000,9,   2185.3,2,   2316.5,2,  -999.0, -999.00,-999.0000,-999.000,-999.000
    316N145_10,  I07N,   748,  1,      1,      1,2,19950726,1201, -3.7212,  55.5898,  455,   -999,    454.6,  10.2827,  34.9163,2,  34.9159,2,    123.4,2, 10.2284,    123.8,2,    25.01,2,    24.49,2,     0.00,2,     1.74,2, -999.000,9, -999.000,9, -999.000,9,-999.0000,9,  -999.00,9,   -999.0,9,  -999.00,9,-999.000,9,   2185.6,2,   2319.8,2,  -999.0, -999.00,-999.0000,-999.000,-999.000
    316N145_10,  I07N,   749,  1,     36,     36,2,19950726,1506, -3.4822,  55.7865, 3297,   -999,      5.6,  26.5312,  35.1988,2,  35.1989,2,    211.7,2, 26.5302,    206.5,2,     4.03,2,     0.18,2,     0.00,2,     0.20,2,    1.750,2,    0.965,2, -999.000,9,-999.0000,9,  -999.00,9,   -999.0,9,  -999.00,9,-999.000,9,   1974.2,2,   2311.4,2,  -999.0, -999.00,-999.0000,-999.000,-999.000
    316N145_10,  I07N,   749,  1,     35,     35,2,19950726,1506, -3.4822,  55.7865, 3297,   -999,     25.1,  26.3458,  35.2058,2,  35.2072,2,    203.5,2, 26.3404,    206.5,2,     4.01,2,     0.23,2,     0.00,2,     0.20,2, -999.000,9, -999.000,9, -999.000,9,-999.0000,9,  -999.00,9,   -999.0,9,  -999.00,9,-999.000,9,   -999.9,9,   -999.9,9,  -999.0, -999.00,-999.0000,-999.000,-999.000
    316N145_10,  I07N,   749,  1,     34,     34,2,19950726,1506, -3.4822,  55.7865, 3297,   -999,     30.6,  26.3311,  35.2067,2,  35.2070,2,    206.4,2, 26.3245,    205.9,2,     3.82,2,     0.28,2,     0.00,2,     0.20,2,    1.743,2,    0.964,2, -999.000,9,-999.0000,9,  -999.00,9,   -999.0,9,  -999.00,9,-999.000,9,   1974.9,2,   2313.1,2,  -999.0, -999.00,-999.0000,-999.000,-999.000
    316N145_10,  I07N,   749,  1,     33,     33,2,19950726,1506, -3.4822,  55.7865, 3297,   -999,     76.6,  25.5050,  35.1954,2,  35.1925,2,    197.0,2, 25.4884,    186.9,2,     3.98,2,     2.41,2,     0.16,2,     0.36,2,    1.708,2,    0.961,2, -999.000,9,-999.0000,9,  -999.00,9,   -999.0,9,  -999.00,9,-999.000,9,   -999.9,9,   -999.9,9,  -999.0, -999.00,-999.0000,-999.000,-999.000
    316N145_10,  I07N,   749,  1,     32,     32,2,19950726,1506, -3.4822,  55.7865, 3297,   -999,    101.3,  21.5532,  35.1816,2,  35.1771,2,    144.7,2, 21.5337,    141.6,2,     8.82,2,     9.59,2,     0.08,2,     0.77,2, -999.000,9, -999.000,9, -999.000,9,-999.0000,9,  -999.00,9,   -999.0,9,  -999.00,9,-999.000,9,   2063.2,2,   2305.7,2,  -999.0, -999.00,-999.0000,-999.000,-999.000
    316N145_10,  I07N,   749,  1,     31,     31,2,19950726,1506, -3.4822,  55.7865, 3297,   -999,    146.6,  15.1703,  35.1622,2,  35.1630,2,    111.2,2, 15.1480,    111.8,2,    16.43,2,    18.49,2,     0.00,2,     1.32,2,    1.380,2,    0.713,2, -999.000,9,-999.0000,9,  -999.00,9,   -999.0,9,  -999.00,9,-999.000,9,   -999.9,9,   -999.9,9,  -999.0, -999.00,-999.0000,-999.000,-999.000
    316N145_10,  I07N,   749,  1,     30,     30,2,19950726,1506, -3.4822,  55.7865, 3297,   -999,    166.7,  14.0742,  35.1642,2,  35.1709,2,    125.4,2, 14.0502,    124.4,2,    15.89,2,    18.07,2,     0.00,2,     1.30,2,    1.443,2,    0.749,2, -999.000,9,-999.0000,9,  -999.00,9,   -999.0,9,  -999.00,9,-999.000,9,   2151.1,2,   2321.2,2,  -999.0, -999.00,-999.0000,-999.000,-999.000
    316N145_10,  I07N,   749,  1,     29,     29,2,19950726,1506, -3.4822,  55.7865, 3297,   -999,    200.4,  13.0820,  35.1241,2,  35.1245,2,    131.7,2, 13.0544,    133.2,2,    16.22,2,    18.58,2,     0.00,2,     1.34,2,    1.428,2,    0.727,2, -999.000,9,-999.0000,9,  -999.00,9,   -999.0,9,  -999.00,9,-999.000,9,   -999.9,9,   -999.9,9,  -999.0, -999.00,-999.0000,-999.000,-999.000
    316N145_10,  I07N,   749,  1,     28,     28,2,19950726,1506, -3.4822,  55.7865, 3297,   -999,    250.6,  12.0697,  35.0518,2,  35.0517,2,    143.9,2, 12.0370,    144.0,2,    16.54,2,    19.04,2,     0.00,2,     1.36,2,    1.379,2,    0.708,2, -999.000,9,-999.0000,9,  -999.00,9,   -999.0,9,  -999.00,9,-999.000,9,   2157.0,2,   2316.4,2,  -999.0, -999.00,-999.0000,-999.000,-999.000
    316N145_10,  I07N,   749,  1,     27,     27,2,19950726,1506, -3.4822,  55.7865, 3297,   -999,    300.6,  11.3230,  34.9918,2,  34.9912,2,    143.7,2, 11.2852,    142.8,2,    18.26,2,    20.57,2,     0.00,2,     1.46,2,    1.200,2,    0.624,2, -999.000,9,-999.0000,9,  -999.00,9,   -999.0,9,  -999.00,9,-999.000,9,   -999.9,9,   -999.9,9,  -999.0, -999.00,-999.0000,-999.000,-999.000
    316N145_10,  I07N,   749,  1,     26,     26,2,19950726,1506, -3.4822,  55.7865, 3297,   -999,    350.6,  10.9726,  34.9635,2,  34.9647,2,    134.7,2, 10.9292,    138.0,2,    19.62,2,    21.72,2,     0.00,2,     1.53,2,    1.108,2,    0.561,2, -999.000,9,-999.0000,9,  -999.00,9,   -999.0,9,  -999.00,9,-999.000,9,   2170.4,2,   2315.2,2,  -999.0, -999.00,-999.0000,-999.000,-999.000
    316N145_10,  I07N,   749,  1,     25,     25,2,19950726,1506, -3.4822,  55.7865, 3297,   -999,    400.5,  10.4471,  34.9242,2,  34.9242,2,    136.1,2, 10.3991,    132.6,2,    22.03,2,    23.33,2,     0.00,2,     1.64,2, -999.000,9, -999.000,9, -999.000,9,-999.0000,9,  -999.00,9,   -999.0,9,  -999.00,9,-999.000,9,   -999.9,9,   -999.9,9,  -999.0, -999.00,-999.0000,-999.000,-999.000
    316N145_10,  I07N,   749,  1,     24,     24,2,19950726,1506, -3.4822,  55.7865, 3297,   -999,    447.8,  10.2611,  34.9143,2,  34.9144,2,    133.5,2, 10.2078,    132.0,2,    22.87,2,    23.75,2,     0.00,2,     1.67,2,    0.899,2,    0.455,2, -999.000,9,-999.0000,9,  -999.00,9,   -999.0,9,  -999.00,9,-999.000,9,   2181.1,2,   2323.8,2,  -999.0, -999.00,-999.0000,-999.000,-999.000
    316N145_10,  I07N,   749,  1,     23,     23,2,19950726,1506, -3.4822,  55.7865, 3297,   -999,    498.1,   9.8617,  34.8939,2,  34.8926,2,    117.0,2,  9.8037,    120.5,2,    26.66,2,    25.74,2,     0.00,2,     1.81,2,    0.648,2,    0.339,2, -999.000,9,-999.0000,9,  -999.00,9,   -999.0,9,  -999.00,9,-999.000,9,   -999.9,9,   -999.9,9,  -999.0, -999.00,-999.0000,-999.000,-999.000
    316N145_10,  I07N,   749,  1,     22,     22,2,19950726,1506, -3.4822,  55.7865, 3297,   -999,    538.7,   9.2323,  34.8658,2,  34.8661,2,    104.7,2,  9.1720,    104.7,2,    34.61,2,    28.43,2,     0.00,2,     2.03,2,    0.394,2,    0.211,2, -999.000,9,-999.0000,9,  -999.00,9,   -999.0,9,  -999.00,9,-999.000,9,   2213.2,2,   2320.6,2,  -999.0, -999.00,-999.0000,-999.000,-999.000
    316N145_10,  I07N,   749,  1,     21,     21,2,19950726,1506, -3.4822,  55.7865, 3297,   -999,    699.0,   8.0419,  34.9550,2,  34.9555,2,     66.5,2,  7.9688,     66.6,2,    58.67,2,    33.45,2,     0.00,2,     2.51,2,    0.082,2,    0.049,2, -999.000,9,-999.0000,9,  -999.00,9,   -999.0,9,  -999.00,9,-999.000,9,   -999.9,9,   -999.9,9,  -999.0, -999.00,-999.0000,-999.000,-999.000
    316N145_10,  I07N,   749,  1,     20,     20,2,19950726,1506, -3.4822,  55.7865, 3297,   -999,    758.9,   7.9714,  34.9823,2,  34.9828,2,     59.8,2,  7.8922,     59.8,2,    62.28,2,    34.16,2,     0.00,2,     2.58,2,    0.054,2,    0.032,2, -999.000,9,-999.0000,9,  -999.00,9,   -999.0,9,  -999.00,9,-999.000,9,   2273.5,2,   2350.0,2,  -999.0, -999.00,-999.0000,-999.000,-999.000
    316N145_10,  I07N,   749,  1,     19,     19,2,19950726,1506, -3.4822,  55.7865, 3297,   -999,    797.6,   7.6076,  34.9493,2,  34.9512,2,     60.1,2,  7.5263,     62.8,2,    65.90,2,    34.40,2,     0.00,2,     2.59,2, -999.000,9, -999.000,9, -999.000,9,-999.0000,9,  -999.00,9,   -999.0,9,  -999.00,9,-999.000,9,   -999.9,9,   -999.9,9,  -999.0, -999.00,-999.0000,-999.000,-999.000
    316N145_10,  I07N,   749,  1,     18,     18,2,19950726,1506, -3.4822,  55.7865, 3297,   -999,    958.3,   6.6091,  34.9008,2,  34.9005,2,     69.1,2,  6.5175,     66.6,2,    78.05,2,    35.39,2,     0.00,2,     2.67,2,    0.016,2,    0.008,2, -999.000,9,-999.0000,9,  -999.00,9,   -999.0,9,  -999.00,9,-999.000,9,   2290.0,2,   2363.4,2,  -999.0, -999.00,-999.0000,-999.000,-999.000
    316N145_10,  I07N,   749,  1,     17,     17,2,19950726,1506, -3.4822,  55.7865, 3297,   -999,   1048.1,   6.3661,  34.9280,2,  34.9270,2,     63.9,2,  6.2671,     63.9,2,    82.72,2,    35.86,2,     0.00,2,     2.72,2,    0.009,2,    0.011,2, -999.000,9,-999.0000,9,  -999.00,9,   -999.0,9,  -999.00,9,-999.000,9,   -999.9,9,   -999.9,9,  -999.0, -999.00,-999.0000,-999.000,-999.000
    316N145_10,  I07N,   749,  1,     16,     16,2,19950726,1506, -3.4822,  55.7865, 3297,   -999,   1199.0,   5.5461,  34.8704,2,  34.8710,2,     72.7,2,  5.4389,     74.9,2,    90.39,2,    36.01,2,     0.00,2,     2.72,2,    0.002,2,    0.003,2, -999.000,9,-999.0000,9,  -999.00,9,   -999.0,9,  -999.00,9,-999.000,9,   2302.8,2,   2377.3,2,  -999.0, -999.00,-999.0000,-999.000,-999.000
    316N145_10,  I07N,   749,  1,     15,     15,2,19950726,1506, -3.4822,  55.7865, 3297,   -999,   1299.7,   4.8431,  34.8187,2,  34.8194,2,     86.0,2,  4.7330,     85.7,2,    97.03,2,    36.01,2,     0.00,2,     2.71,2, -999.000,9, -999.000,9, -999.000,9,-999.0000,9,  -999.00,9,   -999.0,9,  -999.00,9,-999.000,9,   -999.9,9,   -999.9,9,  -999.0, -999.00,-999.0000,-999.000,-999.000
    316N145_10,  I07N,   749,  1,     14,     14,2,19950726,1506, -3.4822,  55.7865, 3297,   -999,   1396.4,   4.5365,  34.8033,2,  34.8033,2,     95.0,2,  4.4205,     94.1,2,    99.10,2,    35.74,2,     0.00,2,     2.67,2,    0.002,2,    0.008,2, -999.000,9,-999.0000,9,  -999.00,9,   -999.0,9,  -999.00,9,-999.000,9,   2304.3,2,   2388.0,2,  -999.0, -999.00,-999.0000,-999.000,-999.000
    316N145_10,  I07N,   749,  1,     13,     13,2,19950726,1506, -3.4822,  55.7865, 3297,   -999,   1498.3,   4.1982,  34.8035,2,  34.8025,2,     99.5,2,  4.0764,    100.1,2,   102.24,2,    35.65,2,     0.00,2,     2.66,2,    0.000,2,    0.001,2, -999.000,9,-999.0000,9,  -999.00,9,   -999.0,9,  -999.00,9,-999.000,9,   -999.9,9,   -999.9,9,  -999.0, -999.00,-999.0000,-999.000,-999.000
    316N145_10,  I07N,   749,  1,     12,     12,2,19950726,1506, -3.4822,  55.7865, 3297,   -999,   1595.4,   3.7849,  34.7753,2,  34.7756,2,    114.1,2,  3.6592,    112.2,2,   104.32,2,    35.23,2,     0.00,2,     2.61,2, -999.000,9, -999.000,9, -999.000,9,-999.0000,9,  -999.00,9,   -999.0,9,  -999.00,9,-999.000,9,   2303.1,2,   2391.5,2,  -999.0, -999.00,-999.0000,-999.000,-999.000
    316N145_10,  I07N,   749,  1,     11,     11,2,19950726,1506, -3.4822,  55.7865, 3297,   -999,   1696.4,   3.4626,  34.7828,2,  34.7815,2,    117.0,2,  3.3317,    116.0,2,   108.53,2,    35.04,2,     0.00,2,     2.59,2,   -0.001,2,   -0.003,2, -999.000,9,-999.0000,9,  -999.00,9,   -999.0,9,  -999.00,9,-999.000,9,   -999.9,9,   -999.9,9,  -999.0, -999.00,-999.0000,-999.000,-999.000
    316N145_10,  I07N,   749,  1,     10,     10,2,19950726,1506, -3.4822,  55.7865, 3297,   -999,   1797.8,   3.2212,  34.7756,2,  34.7737,2,    122.1,2,  3.0844,    122.2,2,   110.98,2,    35.00,2,     0.00,2,     2.57,2,   -0.001,2,   -0.002,2, -999.000,9,-999.0000,9,  -999.00,9,   -999.0,9,  -999.00,9,-999.000,9,   -999.9,5,   2399.3,2,  -999.0, -999.00,-999.0000,-999.000,-999.000
    316N145_10,  I07N,   749,  1,      9,      9,2,19950726,1506, -3.4822,  55.7865, 3297,   -999,   1996.4,   2.6902,  34.7596,2,  34.7574,2,    136.0,2,  2.5433,    136.4,2,   115.76,2,    34.49,2,     0.00,2,     2.51,2, -999.000,9, -999.000,9, -999.000,9,-999.0000,9,  -999.00,9,   -999.0,9,  -999.00,9,-999.000,9,   -999.9,9,   -999.9,9,  -999.0, -999.00,-999.0000,-999.000,-999.000
    316N145_10,  I07N,   749,  1,      8,      8,2,19950726,1506, -3.4822,  55.7865, 3297,   -999,   2198.9,   2.3235,  34.7555,2,  34.7543,2,    146.0,2,  2.1644,    144.4,2,   121.10,2,    34.21,2,     0.00,2,     2.48,2, -999.000,9, -999.000,9, -999.000,9,-999.0000,9,  -999.00,9,   -999.0,9,  -999.00,9,-999.000,9,   2306.8,2,   2407.1,2,  -999.0, -999.00,-999.0000,-999.000,-999.000
    316N145_10,  I07N,   749,  1,      7,      7,2,19950726,1506, -3.4822,  55.7865, 3297,   -999,   2396.9,   2.0169,  34.7393,2,  34.7409,2,    156.1,2,  1.8454,    158.4,2,   120.51,2,    33.51,2,     0.00,2,     2.41,2, -999.000,9, -999.000,9, -999.000,9,-999.0000,9,  -999.00,9,   -999.0,9,  -999.00,9,-999.000,9,   -999.9,9,   -999.9,9,  -999.0, -999.00,-999.0000,-999.000,-999.000
    316N145_10,  I07N,   749,  1,      6,      6,2,19950726,1506, -3.4822,  55.7865, 3297,   -999,   2600.3,   1.8883,  34.7339,2,  34.7323,2,    164.2,2,  1.7007,    164.5,2,   120.65,2,    33.28,2,     0.00,2,     2.38,2, -999.000,9, -999.000,9, -999.000,9,-999.0000,9,  -999.00,9,   -999.0,9,  -999.00,9,-999.000,9,   2296.2,2,   2404.6,2,  -999.0, -999.00,-999.0000,-999.000,-999.000
    316N145_10,  I07N,   749,  1,      5,      5,2,19950726,1506, -3.4822,  55.7865, 3297,   -999,   2799.0,   1.7838,  34.7308,2,  34.7290,2,    168.6,2,  1.5798,    168.6,2,   121.32,2,    33.05,2,     0.00,2,     2.35,2, -999.000,9, -999.000,9, -999.000,9,-999.0000,9,  -999.00,9,   -999.0,9,  -999.00,9,-999.000,9,   -999.9,9,   -999.9,9,  -999.0, -999.00,-999.0000,-999.000,-999.000
    316N145_10,  I07N,   749,  1,      4,      4,2,19950726,1506, -3.4822,  55.7865, 3297,   -999,   2996.8,   1.7378,  34.7298,2,  34.7288,2,    169.8,2,  1.5159,    170.0,2,   122.54,2,    33.11,2,     0.00,2,     2.35,2, -999.000,9, -999.000,9, -999.000,9,-999.0000,9,  -999.00,9,   -999.0,9,  -999.00,9,-999.000,9,   2294.9,2,   2404.2,2,  -999.0, -999.00,-999.0000,-999.000,-999.000
    316N145_10,  I07N,   749,  1,      3,      3,2,19950726,1506, -3.4822,  55.7865, 3297,   -999,   3244.9,   1.6532,  34.7293,2,  34.7282,2,    170.1,2,  1.4089,    170.3,2,   126.11,2,    33.25,2,     0.00,2,     2.36,2, -999.000,9, -999.000,9, -999.000,9,-999.0000,9,  -999.00,9,   -999.0,9,  -999.00,9,-999.000,9,   2298.6,2,   -999.9,5,  -999.0, -999.00,-999.0000,-999.000,-999.000
    316N145_10,  I07N,   749,  1,      2,      2,2,19950726,1506, -3.4822,  55.7865, 3297,   -999,   3320.9,   1.6541,  34.7291,2,  34.7278,2,    170.2,2,  1.4022,    170.4,2,   126.42,2,    33.25,2,     0.00,2,     2.35,2, -999.000,9, -999.000,9, -999.000,9,-999.0000,9,  -999.00,9,   -999.0,9,  -999.00,9,-999.000,9,   2299.4,2,   2409.7,2,  -999.0, -999.00,-999.0000,-999.000,-999.000
    316N145_10,  I07N,   749,  1,      1,      1,2,19950726,1506, -3.4822,  55.7865, 3297,   -999,   3344.6,   1.6446,  34.7287,2,  34.7292,2,    170.3,2,  1.3905,    170.3,2,   127.10,2,    33.30,2,     0.00,2,     2.36,2, -999.000,9, -999.000,9, -999.000,9,-999.0000,9,  -999.00,9,   -999.0,9,  -999.00,9,-999.000,9,   2298.3,2,   2415.2,2,  -999.0, -999.00,-999.0000,-999.000,-999.000