BOTTLE,20080821WHPSIOSCD
EXPOCODE,SECT_ID,STNNBR,CASTNO,SAMPNO,BTLNBR,BTLNBR_FLAG_W,DATE,TIME,LATITUDE,LONGITUDE,DEPTH,CTDRAW,CTDPRS,CTDTMP,CTDSAL,CTDSAL_FLAG_W,SALNTY,SALNTY_FLAG_W,CTDOXY,CTDOXY_FLAG_W,THETA,OXYGEN,OXYGEN_FLAG_W,SILCAT,SILCAT_FLAG_W,NITRAT,NITRAT_FLAG_W,NITRIT,NITRIT_FLAG_W,PHSPHT,PHSPHT_FLAG_W,CFC-11,CFC-11_FLAG_W,CFC-12,CFC-12_FLAG_W,TRITUM,TRITUM_FLAG_W,HELIUM,HELIUM_FLAG_W,DELHE3,DELHE3_FLAG_W,DELC14,DELC14_FLAG_W,DELC13,DELC13_FLAG_W,NEON,NEON_FLAG_W,TCARBN,TCARBN_FLAG_W,ALKALI,ALKALI_FLAG_W,C14ERR,DELHER,HELIER,NEONER,TRITER
,,,,,,,,,,,,,DBAR,ITS-90,PSS-78,,PSS-78,,UMOL/KG,,DEG C,UMOL/KG,,UMOL/KG,,UMOL/KG,,UMOL/KG,,UMOL/KG,,PMOL/KG,,PMOL/KG,,TU,,NMOL/KG,,PERCNT,,/MILLE,,/MILLE,,NMOL/KG,,UMOL/KG,,UMOL/KG,,/MILLE,PERCNT,NMOL/KG,NMOL/KG,TU
    316N145_10,  I07N,   741,  1,     36,     36,2,19950724,0536, -7.5180,  53.6290, 3973,   -999,      9.6,  26.1402,  35.2261,2,  35.2278,2,    205.9,2, 26.1383,    200.3,2,     2.73,2,     0.59,2,     0.04,2,     0.23,2,    1.755,2,    0.967,2, -999.000,9,-999.0000,9,  -999.00,9,   -999.0,9,  -999.00,9,-999.000,9,   1980.0,2,   2306.2,2,  -999.0, -999.00,-999.0000,-999.000,-999.000
    316N145_10,  I07N,   741,  1,     35,     35,2,19950724,0536, -7.5180,  53.6290, 3973,   -999,     37.3,  26.1006,  35.2270,2,  35.2251,2,    192.1,2, 26.0925,    198.7,2,     2.88,2,     0.76,2,     0.05,2,     0.24,2, -999.000,9, -999.000,9, -999.000,9,-999.0000,9,  -999.00,9,   -999.0,9,  -999.00,9,-999.000,9,   -999.9,9,   -999.9,9,  -999.0, -999.00,-999.0000,-999.000,-999.000
    316N145_10,  I07N,   741,  1,     34,     34,2,19950724,0536, -7.5180,  53.6290, 3973,   -999,     52.3,  25.6591,  35.2271,2,  35.2202,2,    191.0,2, 25.6478,    184.6,2,     4.22,2,     2.37,2,     0.17,2,     0.35,2,    1.698,2,    0.932,2, -999.000,9,-999.0000,9,  -999.00,9,   -999.0,9,  -999.00,9,-999.000,9,   -999.9,9,   -999.9,9,  -999.0, -999.00,-999.0000,-999.000,-999.000
    316N145_10,  I07N,   741,  1,     33,     33,2,19950724,0536, -7.5180,  53.6290, 3973,   -999,     77.3,  20.4890,  35.1924,2,  35.1946,2,    129.9,2, 20.4747,    130.8,2,    10.67,2,    11.32,2,     0.45,2,     0.90,2, -999.000,9, -999.000,9, -999.000,9,-999.0000,9,  -999.00,9,   -999.0,9,  -999.00,9,-999.000,9,   -999.9,9,   -999.9,9,  -999.0, -999.00,-999.0000,-999.000,-999.000
    316N145_10,  I07N,   741,  1,     32,     32,2,19950724,0536, -7.5180,  53.6290, 3973,   -999,     90.8,  18.4990,  35.1857,2,  35.1897,2,    110.4,2, 18.4833,    110.9,2,    13.89,2,    15.53,2,     0.08,2,     1.12,2,    1.492,2,    0.773,2, -999.000,9,-999.0000,9,  -999.00,9,   -999.0,9,  -999.00,9,-999.000,9,   -999.9,9,   -999.9,9,  -999.0, -999.00,-999.0000,-999.000,-999.000
    316N145_10,  I07N,   741,  1,     31,     31,2,19950724,0536, -7.5180,  53.6290, 3973,   -999,    110.6,  16.0546,  35.1878,2,  35.1537,3,    101.3,2, 16.0372,    100.4,2,    18.12,2,    19.22,2,     0.01,2,     1.35,2, -999.000,9, -999.000,9, -999.000,9,-999.0000,9,  -999.00,9,   -999.0,9,  -999.00,9,-999.000,9,   -999.9,9,   -999.9,9,  -999.0, -999.00,-999.0000,-999.000,-999.000
    316N145_10,  I07N,   741,  1,     30,     30,2,19950724,0536, -7.5180,  53.6290, 3973,   -999,    140.0,  14.3901,  35.1140,2,  35.1147,2,     99.7,2, 14.3697,    105.7,2,    18.78,2,    19.95,2,     0.00,2,     1.40,2,    1.273,2,    0.629,2, -999.000,9,-999.0000,9,  -999.00,9,   -999.0,9,  -999.00,9,-999.000,9,   -999.9,9,   -999.9,9,  -999.0, -999.00,-999.0000,-999.000,-999.000
    316N145_10,  I07N,   741,  1,     29,     29,2,19950724,0536, -7.5180,  53.6290, 3973,   -999,    160.5,  13.6662,  35.0954,2,  35.0986,2,    113.9,2, 13.6436,    114.4,2,    18.93,2,    19.82,2,     0.00,2,     1.39,2, -999.000,9, -999.000,9, -999.000,9,-999.0000,9,  -999.00,9,   -999.0,9,  -999.00,9,-999.000,9,   -999.9,9,   -999.9,9,  -999.0, -999.00,-999.0000,-999.000,-999.000
    316N145_10,  I07N,   741,  1,     28,     28,2,19950724,0536, -7.5180,  53.6290, 3973,   -999,    185.6,  12.9490,  35.0822,2,  35.0782,2,    121.3,2, 12.9237,   -999.0,9,    18.05,2,    19.91,2,     0.00,2,     1.40,2,    1.278,2,    0.650,2, -999.000,9,-999.0000,9,  -999.00,9,   -999.0,9,  -999.00,9,-999.000,9,   -999.9,9,   -999.9,9,  -999.0, -999.00,-999.0000,-999.000,-999.000
    316N145_10,  I07N,   741,  1,     27,     27,2,19950724,0536, -7.5180,  53.6290, 3973,   -999,    210.7,  12.5493,  35.0531,2,  35.0508,2,    119.9,2, 12.5211,    122.5,2,    18.88,2,    20.63,2,     0.00,2,     1.44,2, -999.000,9, -999.000,9, -999.000,9,-999.0000,9,  -999.00,9,   -999.0,9,  -999.00,9,-999.000,9,   -999.9,9,   -999.9,9,  -999.0, -999.00,-999.0000,-999.000,-999.000
    316N145_10,  I07N,   741,  1,     26,     26,2,19950724,0536, -7.5180,  53.6290, 3973,   -999,    251.6,  11.9826,  35.0114,2,  35.0107,2,    118.7,2, 11.9499,    119.0,2,    20.22,2,    21.94,2,     0.00,2,     1.52,2,    1.077,2,    0.532,2, -999.000,9,-999.0000,9,  -999.00,9,   -999.0,9,  -999.00,9,-999.000,9,   -999.9,9,   -999.9,9,  -999.0, -999.00,-999.0000,-999.000,-999.000
    316N145_10,  I07N,   741,  1,     25,     25,2,19950724,0536, -7.5180,  53.6290, 3973,   -999,    300.4,  11.2602,  34.9589,2,  34.9585,2,    126.9,2, 11.2226,    126.3,2,    21.04,2,    22.48,2,     0.00,2,     1.56,2,    1.027,2,    0.511,2, -999.000,9,-999.0000,9,  -999.00,9,   -999.0,9,  -999.00,9,-999.000,9,   -999.9,9,   -999.9,9,  -999.0, -999.00,-999.0000,-999.000,-999.000
    316N145_10,  I07N,   741,  1,     24,     24,2,19950724,0536, -7.5180,  53.6290, 3973,   -999,    346.0,  10.7194,  34.9185,2,  34.9194,2,    124.3,2, 10.6773,    125.7,2,    22.38,2,    23.56,2,     0.00,2,     1.62,2,    0.888,2,    0.457,2, -999.000,9,-999.0000,9,  -999.00,9,   -999.0,9,  -999.00,9,-999.000,9,   -999.9,9,   -999.9,9,  -999.0, -999.00,-999.0000,-999.000,-999.000
    316N145_10,  I07N,   741,  1,     23,     23,2,19950724,0536, -7.5180,  53.6290, 3973,   -999,    397.3,  10.0909,  34.8672,2,  34.8671,2,    128.3,2, 10.0443,    127.7,2,    24.74,2,    24.64,2,     0.00,2,     1.70,2,    0.801,2,    0.405,2, -999.000,9,-999.0000,9,  -999.00,9,   -999.0,9,  -999.00,9,-999.000,9,   -999.9,9,   -999.9,9,  -999.0, -999.00,-999.0000,-999.000,-999.000
    316N145_10,  I07N,   741,  1,     22,     22,2,19950724,0536, -7.5180,  53.6290, 3973,   -999,    498.7,   9.2858,  34.8298,2,  34.8280,2,    113.4,2,  9.2299,    114.5,2,    32.37,2,    27.53,2,     0.00,2,     1.91,2,    0.478,2,    0.243,2, -999.000,9,-999.0000,9,  -999.00,9,   -999.0,9,  -999.00,9,-999.000,9,   -999.9,9,   -999.9,9,  -999.0, -999.00,-999.0000,-999.000,-999.000
    316N145_10,  I07N,   741,  1,     21,     21,2,19950724,0536, -7.5180,  53.6290, 3973,   -999,    599.1,   8.3607,  34.8037,2,  34.8035,2,    102.6,2,  8.2972,    103.8,2,    43.58,2,    30.06,2,     0.00,2,     2.14,2,    0.267,2,    0.145,2, -999.000,9,-999.0000,9,  -999.00,9,   -999.0,9,  -999.00,9,-999.000,9,   -999.9,9,   -999.9,9,  -999.0, -999.00,-999.0000,-999.000,-999.000
    316N145_10,  I07N,   741,  1,     20,     20,2,19950724,0536, -7.5180,  53.6290, 3973,   -999,    700.4,   7.6828,  34.8195,2,  34.8194,2,     88.4,2,  7.6116,     88.6,2,    56.00,2,    32.47,2,     0.00,2,     2.36,2,    0.128,2,    0.068,2, -999.000,9,-999.0000,9,  -999.00,9,   -999.0,9,  -999.00,9,-999.000,9,   -999.9,9,   -999.9,9,  -999.0, -999.00,-999.0000,-999.000,-999.000
    316N145_10,  I07N,   741,  1,     19,     19,2,19950724,0536, -7.5180,  53.6290, 3973,   -999,    800.3,   7.1209,  34.8167,2,  34.8161,2,     84.5,2,  7.0423,     85.3,2,    64.01,2,    33.53,2,     0.00,2,     2.47,2,    0.076,2,    0.051,2, -999.000,9,-999.0000,9,  -999.00,9,   -999.0,9,  -999.00,9,-999.000,9,   -999.9,9,   -999.9,9,  -999.0, -999.00,-999.0000,-999.000,-999.000
    316N145_10,  I07N,   741,  1,     18,     18,2,19950724,0536, -7.5180,  53.6290, 3973,   -999,    899.4,   6.5191,  34.8187,2,  34.8184,2,     82.9,2,  6.4342,     81.2,2,    73.60,2,    34.53,2,     0.00,2,     2.55,2,    0.034,2,    0.025,2, -999.000,9,-999.0000,9,  -999.00,9,   -999.0,9,  -999.00,9,-999.000,9,   -999.9,9,   -999.9,9,  -999.0, -999.00,-999.0000,-999.000,-999.000
    316N145_10,  I07N,   741,  1,     17,     17,2,19950724,0536, -7.5180,  53.6290, 3973,   -999,    997.4,   5.9877,  34.8142,2,  34.8145,2,     82.7,2,  5.8968,     83.6,2,    80.63,2,    35.09,2,     0.00,2,     2.59,2,    0.023,2,    0.013,2, -999.000,9,-999.0000,9,  -999.00,9,   -999.0,9,  -999.00,9,-999.000,9,   -999.9,9,   -999.9,9,  -999.0, -999.00,-999.0000,-999.000,-999.000
    316N145_10,  I07N,   741,  1,     16,     16,2,19950724,0536, -7.5180,  53.6290, 3973,   -999,   1127.2,   5.4154,  34.8225,2,  34.8239,2,     82.7,2,  5.3165,     85.4,2,    88.38,2,    35.51,2,     0.00,2,     2.63,2, -999.000,9, -999.000,9, -999.000,9,-999.0000,9,  -999.00,9,   -999.0,9,  -999.00,9,-999.000,9,   -999.9,9,   -999.9,9,  -999.0, -999.00,-999.0000,-999.000,-999.000
    316N145_10,  I07N,   741,  1,     15,     15,2,19950724,0536, -7.5180,  53.6290, 3973,   -999,   1247.3,   4.9034,  34.8145,2,  34.8145,2,     92.6,2,  4.7976,     91.8,2,    94.26,2,    35.60,2,     0.00,2,     2.64,2, -999.000,9, -999.000,9, -999.000,9,-999.0000,9,  -999.00,9,   -999.0,9,  -999.00,9,-999.000,9,   -999.9,9,   -999.9,9,  -999.0, -999.00,-999.0000,-999.000,-999.000
    316N145_10,  I07N,   741,  1,     14,     14,2,19950724,0536, -7.5180,  53.6290, 3973,   -999,   1443.3,   4.0921,  34.7870,2,  34.7876,2,    107.9,2,  3.9766,    107.0,2,   101.92,2,    35.33,2,     0.00,2,     2.60,2,    0.003,2,   -0.003,2, -999.000,9,-999.0000,9,  -999.00,9,   -999.0,9,  -999.00,9,-999.000,9,   -999.9,9,   -999.9,9,  -999.0, -999.00,-999.0000,-999.000,-999.000
    316N145_10,  I07N,   741,  1,     13,     13,2,19950724,0536, -7.5180,  53.6290, 3973,   -999,   1671.3,   3.2413,  34.7600,2,  34.7595,2,    127.4,2,  3.1155,    128.3,2,   109.10,2,    34.65,2,     0.00,2,     2.52,2,    0.000,2,   -0.002,2, -999.000,9,-999.0000,9,  -999.00,9,   -999.0,9,  -999.00,9,-999.000,9,   -999.9,9,   -999.9,9,  -999.0, -999.00,-999.0000,-999.000,-999.000
    316N145_10,  I07N,   741,  1,     12,     12,2,19950724,0536, -7.5180,  53.6290, 3973,   -999,   1925.3,   2.7060,  34.7503,2,  34.7495,2,    141.1,2,  2.5652,    140.9,2,   114.74,2,    34.25,2,     0.00,2,     2.47,2, -999.000,9, -999.000,9, -999.000,9,-999.0000,9,  -999.00,9,   -999.0,9,  -999.00,9,-999.000,9,   -999.9,9,   -999.9,9,  -999.0, -999.00,-999.0000,-999.000,-999.000
    316N145_10,  I07N,   741,  1,     11,     11,2,19950724,0536, -7.5180,  53.6290, 3973,   -999,   2150.8,   2.4290,  34.7462,2,  34.7459,2,    145.4,2,  2.2725,    147.1,2,   118.62,2,    34.12,2,     0.00,2,     2.44,2, -999.000,9, -999.000,9, -999.000,9,-999.0000,9,  -999.00,9,   -999.0,9,  -999.00,9,-999.000,9,   -999.9,9,   -999.9,9,  -999.0, -999.00,-999.0000,-999.000,-999.000
    316N145_10,  I07N,   741,  1,     10,     10,2,19950724,0536, -7.5180,  53.6290, 3973,   -999,   2399.3,   2.1902,  34.7451,2,  34.7428,2,    151.4,2,  2.0153,    152.3,2,   122.69,2,    34.03,2,     0.00,2,     2.44,2, -999.000,9, -999.000,9, -999.000,9,-999.0000,9,  -999.00,9,   -999.0,9,  -999.00,9,-999.000,9,   -999.9,9,   -999.9,9,  -999.0, -999.00,-999.0000,-999.000,-999.000
    316N145_10,  I07N,   741,  1,      9,      9,2,19950724,0536, -7.5180,  53.6290, 3973,   -999,   2498.5,   2.1281,  34.7457,2,  34.7457,2,    152.9,2,  1.9453,    152.6,2,   123.72,2,    33.94,2,     0.00,2,     2.43,2, -999.000,9, -999.000,9, -999.000,9,-999.0000,9,  -999.00,9,   -999.0,9,  -999.00,9,-999.000,9,   -999.9,9,   -999.9,9,  -999.0, -999.00,-999.0000,-999.000,-999.000
    316N145_10,  I07N,   741,  1,      8,      8,2,19950724,0536, -7.5180,  53.6290, 3973,   -999,   2701.5,   1.9913,  34.7424,2,  34.7412,2,    156.2,2,  1.7923,    155.7,2,   126.02,2,    33.86,2,     0.00,2,     2.43,2, -999.000,9, -999.000,9, -999.000,9,-999.0000,9,  -999.00,9,   -999.0,9,  -999.00,9,-999.000,9,   -999.9,9,   -999.9,9,  -999.0, -999.00,-999.0000,-999.000,-999.000
    316N145_10,  I07N,   741,  1,      7,      7,2,19950724,0536, -7.5180,  53.6290, 3973,   -999,   2897.1,   1.8515,  34.7384,2,  34.7371,2,    160.2,2,  1.6367,    160.2,2,   127.78,2,    33.68,2,     0.00,2,     2.41,2, -999.000,9, -999.000,9, -999.000,9,-999.0000,9,  -999.00,9,   -999.0,9,  -999.00,9,-999.000,9,   -999.9,9,   -999.9,9,  -999.0, -999.00,-999.0000,-999.000,-999.000
    316N145_10,  I07N,   741,  1,      6,      6,2,19950724,0536, -7.5180,  53.6290, 3973,   -999,   3119.1,   1.7713,  34.7342,2,  34.7337,2,    163.5,2,  1.5367,    163.0,2,   129.18,2,    33.64,2,     0.00,2,     2.41,2, -999.000,9, -999.000,9, -999.000,9,-999.0000,9,  -999.00,9,   -999.0,9,  -999.00,9,-999.000,9,   -999.9,9,   -999.9,9,  -999.0, -999.00,-999.0000,-999.000,-999.000
    316N145_10,  I07N,   741,  1,      5,      5,2,19950724,0536, -7.5180,  53.6290, 3973,   -999,   3350.2,   1.7067,  34.7337,2,  34.7335,2,    166.1,2,  1.4505,    165.9,2,   129.86,2,    33.51,2,     0.00,2,     2.39,2, -999.000,9, -999.000,9, -999.000,9,-999.0000,9,  -999.00,9,   -999.0,9,  -999.00,9,-999.000,9,   -999.9,9,   -999.9,9,  -999.0, -999.00,-999.0000,-999.000,-999.000
    316N145_10,  I07N,   741,  1,      4,      4,2,19950724,0536, -7.5180,  53.6290, 3973,   -999,   3519.0,   1.6330,  34.7303,2,  34.7286,2,    168.9,2,  1.3614,    169.2,2,   130.17,2,    33.37,2,     0.00,2,     2.37,2, -999.000,9, -999.000,9, -999.000,9,-999.0000,9,  -999.00,9,   -999.0,9,  -999.00,9,-999.000,9,   -999.9,9,   -999.9,9,  -999.0, -999.00,-999.0000,-999.000,-999.000
    316N145_10,  I07N,   741,  1,      3,      3,2,19950724,0536, -7.5180,  53.6290, 3973,   -999,   3749.5,   1.5890,  34.7292,2,  34.7265,2,    172.2,2,  1.2945,    171.6,2,   130.49,2,    33.33,2,     0.00,2,     2.36,2, -999.000,9, -999.000,9, -999.000,9,-999.0000,9,  -999.00,9,   -999.0,9,  -999.00,9,-999.000,9,   -999.9,9,   -999.9,9,  -999.0, -999.00,-999.0000,-999.000,-999.000
    316N145_10,  I07N,   741,  1,      2,      2,2,19950724,0536, -7.5180,  53.6290, 3973,   -999,   3949.1,   1.5498,  34.7266,2,  34.7255,2,    173.5,2,  1.2349,    174.3,2,   130.99,2,    33.25,2,     0.00,2,     2.35,2, -999.000,9, -999.000,9, -999.000,9,-999.0000,9,  -999.00,9,   -999.0,9,  -999.00,9,-999.000,9,   -999.9,9,   -999.9,9,  -999.0, -999.00,-999.0000,-999.000,-999.000
    316N145_10,  I07N,   741,  1,      1,      1,2,19950724,0536, -7.5180,  53.6290, 3973,   -999,   4025.7,   1.5081,  34.7252,2,  34.7229,2,    175.5,2,  1.1860,    176.0,2,   131.49,2,    33.16,2,     0.00,2,     2.34,2, -999.000,9, -999.000,9, -999.000,9,-999.0000,9,  -999.00,9,   -999.0,9,  -999.00,9,-999.000,9,   -999.9,9,   -999.9,9,  -999.0, -999.00,-999.0000,-999.000,-999.000