BOTTLE,20080821WHPSIOSCD
EXPOCODE,SECT_ID,STNNBR,CASTNO,SAMPNO,BTLNBR,BTLNBR_FLAG_W,DATE,TIME,LATITUDE,LONGITUDE,DEPTH,CTDRAW,CTDPRS,CTDTMP,CTDSAL,CTDSAL_FLAG_W,SALNTY,SALNTY_FLAG_W,CTDOXY,CTDOXY_FLAG_W,THETA,OXYGEN,OXYGEN_FLAG_W,SILCAT,SILCAT_FLAG_W,NITRAT,NITRAT_FLAG_W,NITRIT,NITRIT_FLAG_W,PHSPHT,PHSPHT_FLAG_W,CFC-11,CFC-11_FLAG_W,CFC-12,CFC-12_FLAG_W,TRITUM,TRITUM_FLAG_W,HELIUM,HELIUM_FLAG_W,DELHE3,DELHE3_FLAG_W,DELC14,DELC14_FLAG_W,DELC13,DELC13_FLAG_W,NEON,NEON_FLAG_W,TCARBN,TCARBN_FLAG_W,ALKALI,ALKALI_FLAG_W,C14ERR,DELHER,HELIER,NEONER,TRITER
,,,,,,,,,,,,,DBAR,ITS-90,PSS-78,,PSS-78,,UMOL/KG,,DEG C,UMOL/KG,,UMOL/KG,,UMOL/KG,,UMOL/KG,,UMOL/KG,,PMOL/KG,,PMOL/KG,,TU,,NMOL/KG,,PERCNT,,/MILLE,,/MILLE,,NMOL/KG,,UMOL/KG,,UMOL/KG,,/MILLE,PERCNT,NMOL/KG,NMOL/KG,TU
    316N145_10,  I07N,   832,  1,     36,     36,2,19950817,0452, 20.9675,  61.6328, 2971,   -999,      9.5,  26.2889,  36.1790,2,  36.1795,2,    208.6,2, 26.2870,    204.8,2,     2.83,2,     3.34,2,     0.28,2,     0.66,2,    1.737,2,    0.976,2, -999.000,9,-999.0000,9,  -999.00,9,   -999.0,9,  -999.00,9,-999.000,9,   -999.9,5,   2367.0,2,  -999.0, -999.00,-999.0000,-999.000,-999.000
    316N145_10,  I07N,   832,  1,     35,     35,2,19950817,0452, 20.9675,  61.6328, 2971,   -999,     40.0,  26.0559,  36.1692,2,  36.1681,2,    194.8,2, 26.0472,    186.1,2,     2.65,2,     5.23,2,     0.40,2,     0.82,2, -999.000,9, -999.000,9, -999.000,9,-999.0000,9,  -999.00,9,   -999.0,9,  -999.00,9,-999.000,9,   -999.9,9,   -999.9,9,  -999.0, -999.00,-999.0000,-999.000,-999.000
    316N145_10,  I07N,   832,  1,     34,     34,2,19950817,0452, 20.9675,  61.6328, 2971,   -999,     60.1,  22.2630,  36.1357,2,  36.1276,2,     44.3,2, 22.2512,     42.3,2,    11.21,2,    21.35,2,     0.13,2,     1.72,2,    1.570,2,    0.874,2, -999.000,9,-999.0000,9,  -999.00,9,   -999.0,9,  -999.00,9,-999.000,9,   -999.9,9,   -999.9,9,  -999.0, -999.00,-999.0000,-999.000,-999.000
    316N145_10,  I07N,   832,  1,     33,     33,2,19950817,0452, 20.9675,  61.6328, 2971,   -999,     75.3,  21.2007,  36.0635,2,  36.0620,2,     15.7,2, 21.1863,     14.0,2,    13.60,2,    23.93,2,     0.05,2,     1.99,2, -999.000,9, -999.000,9, -999.000,9,-999.0000,9,  -999.00,9,   -999.0,9,  -999.00,9,-999.000,9,   -999.9,9,   -999.9,9,  -999.0, -999.00,-999.0000,-999.000,-999.000
    316N145_10,  I07N,   832,  1,     32,     32,2,19950817,0452, 20.9675,  61.6328, 2971,   -999,     87.2,  21.0914,  36.1872,2,  36.1363,2,      9.8,2, 21.0748,      7.4,2,    15.13,2,    23.90,2,     0.05,2,     2.11,2, -999.000,9, -999.000,9, -999.000,9,-999.0000,9,  -999.00,9,   -999.0,9,  -999.00,9,-999.000,9,   -999.9,9,   -999.9,9,  -999.0, -999.00,-999.0000,-999.000,-999.000
    316N145_10,  I07N,   832,  1,     31,     31,2,19950817,0452, 20.9675,  61.6328, 2971,   -999,    105.1,  19.9714,  36.0651,2,  36.0490,2,      0.9,2, 19.9521,      1.0,2,    18.55,2,    23.43,2,     0.01,2,     2.25,2,    1.139,2,    0.658,2, -999.000,9,-999.0000,9,  -999.00,9,   -999.0,9,  -999.00,9,-999.000,9,   -999.9,9,   -999.9,9,  -999.0, -999.00,-999.0000,-999.000,-999.000
    316N145_10,  I07N,   832,  1,     30,     30,2,19950817,0452, 20.9675,  61.6328, 2971,   -999,    125.6,  19.2869,  36.0166,2,  36.0261,2,      0.9,2, 19.2644,      0.7,2,    20.43,2,    22.51,2,     0.33,2,     2.29,2, -999.000,9, -999.000,9, -999.000,9,-999.0000,9,  -999.00,9,   -999.0,9,  -999.00,9,-999.000,9,   -999.9,9,   -999.9,9,  -999.0, -999.00,-999.0000,-999.000,-999.000
    316N145_10,  I07N,   832,  1,     29,     29,2,19950817,0452, 20.9675,  61.6328, 2971,   -999,    150.7,  18.8890,  36.2534,2,  36.2212,2,      6.8,2, 18.8622,      7.5,2,    21.96,2,    21.90,2,     0.00,2,     2.22,2, -999.000,9, -999.000,9, -999.000,9,-999.0000,9,  -999.00,9,   -999.0,9,  -999.00,9,-999.000,9,   -999.9,9,   -999.9,9,  -999.0, -999.00,-999.0000,-999.000,-999.000
    316N145_10,  I07N,   832,  1,     28,     28,2,19950817,0452, 20.9675,  61.6328, 2971,   -999,    185.0,  18.5594,  36.4581,2,  36.4426,2,     12.6,2, 18.5268,     14.9,2,    22.29,2,    20.92,2,     0.00,2,     2.14,2,    0.908,2,    0.594,2, -999.000,9,-999.0000,9,  -999.00,9,   -999.0,9,  -999.00,9,-999.000,9,   -999.9,9,   -999.9,9,  -999.0, -999.00,-999.0000,-999.000,-999.000
    316N145_10,  I07N,   832,  1,     27,     27,2,19950817,0452, 20.9675,  61.6328, 2971,   -999,    235.1,  16.8143,  36.2750,2,  36.2736,2,      5.4,2, 16.7756,      6.8,2,    25.89,2,    21.88,2,     0.00,2,     2.26,2, -999.000,9, -999.000,9, -999.000,9,-999.0000,9,  -999.00,9,   -999.0,9,  -999.00,9,-999.000,9,   -999.9,9,   -999.9,9,  -999.0, -999.00,-999.0000,-999.000,-999.000
    316N145_10,  I07N,   832,  1,     26,     26,2,19950817,0452, 20.9675,  61.6328, 2971,   -999,    274.8,  15.7793,  36.1603,2,  36.1592,2,      1.1,2, 15.7359,      1.5,2,    28.46,2,    22.18,2,     0.00,2,     2.37,2, -999.000,9, -999.000,9, -999.000,9,-999.0000,9,  -999.00,9,   -999.0,9,  -999.00,9,-999.000,9,   -999.9,9,   -999.9,9,  -999.0, -999.00,-999.0000,-999.000,-999.000
    316N145_10,  I07N,   832,  1,     25,     25,2,19950817,0452, 20.9675,  61.6328, 2971,   -999,    322.9,  15.1356,  36.0942,2,  36.0920,2,      1.1,2, 15.0859,      1.4,2,    30.34,2,    22.61,2,     0.00,2,     2.41,2,    0.479,2,    0.294,2, -999.000,9,-999.0000,9,  -999.00,9,   -999.0,9,  -999.00,9,-999.000,9,   -999.9,9,   -999.9,9,  -999.0, -999.00,-999.0000,-999.000,-999.000
    316N145_10,  I07N,   832,  1,     24,     24,2,19950817,0452, 20.9675,  61.6328, 2971,   -999,    399.5,  13.7767,  35.9014,2,  35.9012,2,      1.2,2, 13.7189,      1.2,2,    36.17,2,    24.00,2,     0.00,2,     2.54,2, -999.000,9, -999.000,9, -999.000,9,-999.0000,9,  -999.00,9,   -999.0,9,  -999.00,9,-999.000,9,   -999.9,9,   -999.9,9,  -999.0, -999.00,-999.0000,-999.000,-999.000
    316N145_10,  I07N,   832,  1,     23,     23,2,19950817,0452, 20.9675,  61.6328, 2971,   -999,    500.5,  12.5902,  35.7590,2,  35.7578,2,      1.3,2, 12.5216,      0.9,2,    43.73,2,    25.54,2,     0.00,2,     2.68,2,    0.155,2,    0.094,2, -999.000,9,-999.0000,9,  -999.00,9,   -999.0,9,  -999.00,9,-999.000,9,   -999.9,9,   -999.9,9,  -999.0, -999.00,-999.0000,-999.000,-999.000
    316N145_10,  I07N,   832,  1,     22,     22,2,19950817,0452, 20.9675,  61.6328, 2971,   -999,    600.3,  11.6287,  35.6543,2,  35.6549,2,      1.4,2, 11.5502,      1.0,2,    51.12,2,    28.08,2,     0.00,2,     2.77,2, -999.000,9, -999.000,9, -999.000,9,-999.0000,9,  -999.00,9,   -999.0,9,  -999.00,9,-999.000,9,   -999.9,9,   -999.9,9,  -999.0, -999.00,-999.0000,-999.000,-999.000
    316N145_10,  I07N,   832,  1,     21,     21,2,19950817,0452, 20.9675,  61.6328, 2971,   -999,    650.0,  11.2869,  35.6263,2,  35.6253,2,      1.5,2, 11.2034,      1.3,2,    54.38,2,    29.24,2,     0.00,2,     2.81,2,    0.058,2,    0.039,2, -999.000,9,-999.0000,9,  -999.00,9,   -999.0,9,  -999.00,9,-999.000,9,   -999.9,9,   -999.9,9,  -999.0, -999.00,-999.0000,-999.000,-999.000
    316N145_10,  I07N,   832,  1,     20,     20,2,19950817,0452, 20.9675,  61.6328, 2971,   -999,    750.2,  10.5490,  35.5693,2,  35.5680,2,      1.6,2, 10.4561,      1.6,2,    61.45,2,    31.70,2,     0.00,2,     2.86,2, -999.000,9, -999.000,9, -999.000,9,-999.0000,9,  -999.00,9,   -999.0,9,  -999.00,9,-999.000,9,   -999.9,9,   -999.9,9,  -999.0, -999.00,-999.0000,-999.000,-999.000
    316N145_10,  I07N,   832,  1,     19,     19,2,19950817,0452, 20.9675,  61.6328, 2971,   -999,    850.1,   9.5983,  35.4820,2,  35.4815,2,      1.7,2,  9.4984,      2.1,2,    69.56,2,    33.93,2,     0.00,2,     2.94,2,    0.023,2,    0.014,2, -999.000,9,-999.0000,9,  -999.00,9,   -999.0,9,  -999.00,9,-999.000,9,   -999.9,9,   -999.9,9,  -999.0, -999.00,-999.0000,-999.000,-999.000
    316N145_10,  I07N,   832,  1,     18,     18,2,19950817,0452, 20.9675,  61.6328, 2971,   -999,    950.5,   8.8707,  35.4080,2,  35.4105,2,      1.8,2,  8.7635,      2.5,2,    75.98,2,    35.55,2,     0.00,2,     3.00,2,    0.016,2,    0.006,2, -999.000,9,-999.0000,9,  -999.00,9,   -999.0,9,  -999.00,9,-999.000,9,   -999.9,9,   -999.9,9,  -999.0, -999.00,-999.0000,-999.000,-999.000
    316N145_10,  I07N,   832,  1,     17,     17,2,19950817,0452, 20.9675,  61.6328, 2971,   -999,   1051.3,   8.2488,  35.3428,2,  35.3451,2,      3.2,2,  8.1343,      4.1,2,    81.02,2,    36.63,2,     0.00,2,     3.04,2, -999.000,9, -999.000,9, -999.000,9,-999.0000,9,  -999.00,9,   -999.0,9,  -999.00,9,-999.000,9,   -999.9,9,   -999.9,9,  -999.0, -999.00,-999.0000,-999.000,-999.000
    316N145_10,  I07N,   832,  1,     16,     16,2,19950817,0452, 20.9675,  61.6328, 2971,   -999,   1202.8,   7.1353,  35.2228,2,  35.2239,2,      9.2,2,  7.0130,     10.8,2,    91.51,2,    37.97,2,     0.00,2,     3.12,2, -999.000,9, -999.000,9, -999.000,9,-999.0000,9,  -999.00,9,   -999.0,9,  -999.00,9,-999.000,9,   -999.9,9,   -999.9,9,  -999.0, -999.00,-999.0000,-999.000,-999.000
    316N145_10,  I07N,   832,  1,     15,     15,2,19950817,0452, 20.9675,  61.6328, 2971,   -999,   1349.8,   6.3945,  35.1437,2,  35.1460,2,     18.9,2,  6.2635,     19.9,2,    99.09,2,    38.38,2,     0.00,2,     3.12,2,    0.002,2,    0.000,2, -999.000,9,-999.0000,9,  -999.00,9,   -999.0,9,  -999.00,9,-999.000,9,   -999.9,9,   -999.9,9,  -999.0, -999.00,-999.0000,-999.000,-999.000
    316N145_10,  I07N,   832,  1,     14,     14,2,19950817,0452, 20.9675,  61.6328, 2971,   -999,   1460.6,   5.2066,  35.0292,2,  35.0318,2,     35.8,2,  5.0767,     37.2,2,   111.58,2,    38.50,2,     0.00,2,     3.08,2,    0.001,2,    0.004,2, -999.000,9,-999.0000,9,  -999.00,9,   -999.0,9,  -999.00,9,-999.000,9,   -999.9,9,   -999.9,9,  -999.0, -999.00,-999.0000,-999.000,-999.000
    316N145_10,  I07N,   832,  1,     13,     13,2,19950817,0452, 20.9675,  61.6328, 2971,   -999,   1576.8,   4.6513,  34.9779,2,  34.9798,2,     46.5,2,  4.5165,     47.6,2,   117.74,2,    38.38,2,     0.00,2,     3.05,2, -999.000,9, -999.000,9, -999.000,9,-999.0000,9,  -999.00,9,   -999.0,9,  -999.00,9,-999.000,9,   -999.9,9,   -999.9,9,  -999.0, -999.00,-999.0000,-999.000,-999.000
    316N145_10,  I07N,   832,  1,     12,     12,2,19950817,0452, 20.9675,  61.6328, 2971,   -999,   1702.4,   4.0579,  34.9248,2,  34.9261,2,     58.0,2,  3.9185,     59.3,2,   123.96,2,    38.30,2,     0.00,2,     3.01,2, -999.000,9, -999.000,9, -999.000,9,-999.0000,9,  -999.00,9,   -999.0,9,  -999.00,9,-999.000,9,   -999.9,9,   -999.9,9,  -999.0, -999.00,-999.0000,-999.000,-999.000
    316N145_10,  I07N,   832,  1,     11,     11,2,19950817,0452, 20.9675,  61.6328, 2971,   -999,   1823.5,   3.5930,  34.8823,2,  34.8833,2,     70.1,2,  3.4485,     70.9,2,   128.40,2,    38.03,2,     0.00,2,     2.93,2,    0.000,2,    0.003,2, -999.000,9,-999.0000,9,  -999.00,9,   -999.0,9,  -999.00,9,-999.000,9,   -999.9,9,   -999.9,9,  -999.0, -999.00,-999.0000,-999.000,-999.000
    316N145_10,  I07N,   832,  1,     10,     10,2,19950817,0452, 20.9675,  61.6328, 2971,   -999,   1950.1,   3.1980,  34.8503,2,  34.8511,2,     79.6,2,  3.0475,     79.5,2,   133.26,2,    37.80,2,     0.00,2,     2.88,2, -999.000,9, -999.000,9, -999.000,9,-999.0000,9,  -999.00,9,   -999.0,9,  -999.00,9,-999.000,9,   -999.9,9,   -999.9,9,  -999.0, -999.00,-999.0000,-999.000,-999.000
    316N145_10,  I07N,   832,  1,      9,      9,2,19950817,0452, 20.9675,  61.6328, 2971,   -999,   2077.3,   2.9009,  34.8269,2,  34.8266,2,     87.7,2,  2.7433,     87.4,2,   136.66,2,    37.63,2,     0.00,2,     2.85,2,    0.002,2,    0.003,2, -999.000,9,-999.0000,9,  -999.00,9,   -999.0,9,  -999.00,9,-999.000,9,   -999.9,9,   -999.9,9,  -999.0, -999.00,-999.0000,-999.000,-999.000
    316N145_10,  I07N,   832,  1,      8,      8,2,19950817,0452, 20.9675,  61.6328, 2971,   -999,   2202.7,   2.6239,  34.8048,2,  34.8044,2,     95.8,2,  2.4594,     95.1,2,   140.28,2,    37.31,2,     0.00,2,     2.80,2, -999.000,9, -999.000,9, -999.000,9,-999.0000,9,  -999.00,9,   -999.0,9,  -999.00,9,-999.000,9,   -999.9,9,   -999.9,9,  -999.0, -999.00,-999.0000,-999.000,-999.000
    316N145_10,  I07N,   832,  1,      7,      7,2,19950817,0452, 20.9675,  61.6328, 2971,   -999,   2350.7,   2.3507,  34.7850,2,  34.7857,2,    102.9,2,  2.1773,    101.6,2,   143.93,2,    37.18,2,     0.00,2,     2.77,2,    0.001,2,    0.004,2, -999.000,9,-999.0000,9,  -999.00,9,   -999.0,9,  -999.00,9,-999.000,9,   -999.9,9,   -999.9,9,  -999.0, -999.00,-999.0000,-999.000,-999.000
    316N145_10,  I07N,   832,  1,      6,      6,2,19950817,0452, 20.9675,  61.6328, 2971,   -999,   2451.3,   2.2146,  34.7746,2,  34.7747,2,    105.6,2,  2.0345,    104.9,2,   145.48,2,    37.05,2,     0.00,2,     2.73,2, -999.000,9, -999.000,9, -999.000,9,-999.0000,9,  -999.00,9,   -999.0,9,  -999.00,9,-999.000,9,   -999.9,9,   -999.9,9,  -999.0, -999.00,-999.0000,-999.000,-999.000
    316N145_10,  I07N,   832,  1,      5,      5,2,19950817,0452, 20.9675,  61.6328, 2971,   -999,   2598.0,   2.0489,  34.7621,2,  34.7626,2,    109.9,2,  1.8583,    109.6,2,   148.02,2,    36.92,2,     0.00,2,     2.72,2,    0.001,2,    0.005,2, -999.000,9,-999.0000,9,  -999.00,9,   -999.0,9,  -999.00,9,-999.000,9,   -999.9,9,   -999.9,9,  -999.0, -999.00,-999.0000,-999.000,-999.000
    316N145_10,  I07N,   832,  1,      4,      4,2,19950817,0452, 20.9675,  61.6328, 2971,   -999,   2700.3,   1.9633,  34.7564,2,  34.7567,2,    112.0,2,  1.7648,    111.6,2,   149.00,2,    36.84,2,     0.00,2,     2.70,2, -999.000,9, -999.000,9, -999.000,9,-999.0000,9,  -999.00,9,   -999.0,9,  -999.00,9,-999.000,9,   -999.9,9,   -999.9,9,  -999.0, -999.00,-999.0000,-999.000,-999.000
    316N145_10,  I07N,   832,  1,      3,      3,2,19950817,0452, 20.9675,  61.6328, 2971,   -999,   2822.9,   1.8549,  34.7481,2,  34.7488,2,    114.5,2,  1.6471,    114.9,2,   149.98,2,    36.77,2,     0.00,2,     2.67,2,    0.005,2,    0.012,2, -999.000,9,-999.0000,9,  -999.00,9,   -999.0,9,  -999.00,9,-999.000,9,   -999.9,9,   -999.9,9,  -999.0, -999.00,-999.0000,-999.000,-999.000
    316N145_10,  I07N,   832,  1,      2,      2,2,19950817,0452, 20.9675,  61.6328, 2971,   -999,   2902.7,   1.8022,  34.7455,2,  34.7459,2,    116.8,2,  1.5879,    117.5,2,   150.58,2,    36.73,2,     0.00,2,     2.66,2,    0.004,2,    0.014,2, -999.000,9,-999.0000,9,  -999.00,9,   -999.0,9,  -999.00,9,-999.000,9,   -999.9,9,   -999.9,9,  -999.0, -999.00,-999.0000,-999.000,-999.000
    316N145_10,  I07N,   832,  1,      1,      1,2,19950817,0452, 20.9675,  61.6328, 2971,   -999,   2999.9,   1.7699,  34.7430,2,  34.7433,2,    116.9,2,  1.5469,    119.4,2,   150.78,2,    36.61,2,     0.00,2,     2.65,2,   -0.003,2,    0.017,2, -999.000,9,-999.0000,9,  -999.00,9,   -999.0,9,  -999.00,9,-999.000,9,   -999.9,9,   -999.9,9,  -999.0, -999.00,-999.0000,-999.000,-999.000