BOTTLE,20080821WHPSIOSCD
EXPOCODE,SECT_ID,STNNBR,CASTNO,SAMPNO,BTLNBR,BTLNBR_FLAG_W,DATE,TIME,LATITUDE,LONGITUDE,DEPTH,CTDRAW,CTDPRS,CTDTMP,CTDSAL,CTDSAL_FLAG_W,SALNTY,SALNTY_FLAG_W,CTDOXY,CTDOXY_FLAG_W,THETA,OXYGEN,OXYGEN_FLAG_W,SILCAT,SILCAT_FLAG_W,NITRAT,NITRAT_FLAG_W,NITRIT,NITRIT_FLAG_W,PHSPHT,PHSPHT_FLAG_W,CFC-11,CFC-11_FLAG_W,CFC-12,CFC-12_FLAG_W,TRITUM,TRITUM_FLAG_W,HELIUM,HELIUM_FLAG_W,DELHE3,DELHE3_FLAG_W,DELC14,DELC14_FLAG_W,DELC13,DELC13_FLAG_W,NEON,NEON_FLAG_W,TCARBN,TCARBN_FLAG_W,ALKALI,ALKALI_FLAG_W,C14ERR,DELHER,HELIER,NEONER,TRITER
,,,,,,,,,,,,,DBAR,ITS-90,PSS-78,,PSS-78,,UMOL/KG,,DEG C,UMOL/KG,,UMOL/KG,,UMOL/KG,,UMOL/KG,,UMOL/KG,,PMOL/KG,,PMOL/KG,,TU,,NMOL/KG,,PERCNT,,/MILLE,,/MILLE,,NMOL/KG,,UMOL/KG,,UMOL/KG,,/MILLE,PERCNT,NMOL/KG,NMOL/KG,TU
    316N145_10,  I07N,   778,  1,     36,     36,2,19950803,1658,  7.1922,  62.0882, 4344,   -999,      4.2,  27.9194,  36.3118,2,  36.3135,2,    196.1,2, 27.9187,    195.9,2,     2.43,2,     0.01,2,     0.00,2,     0.27,2,    1.649,2,    0.929,2, -999.000,9,-999.0000,9,  -999.00,9,   -999.0,9,  -999.00,9,-999.000,9,   2012.1,2,   2368.6,2,  -999.0, -999.00,-999.0000,-999.000,-999.000
    316N145_10,  I07N,   778,  1,     35,     35,2,19950803,1658,  7.1922,  62.0882, 4344,   -999,     31.8,  27.9348,  36.3128,2,  36.3147,2,    195.9,2, 27.9276,    195.8,2,     2.41,2,     0.01,2,     0.00,2,     0.27,2,    1.643,2,    0.937,2, -999.000,9,-999.0000,9,  -999.00,9,   -999.0,9,  -999.00,9,-999.000,9,   2013.5,2,   2369.7,2,  -999.0, -999.00,-999.0000,-999.000,-999.000
    316N145_10,  I07N,   778,  1,     34,     34,2,19950803,1658,  7.1922,  62.0882, 4344,   -999,     61.8,  27.9507,  36.3230,2,  36.3240,2,    197.3,2, 27.9364,    195.6,2,     2.39,2,     0.01,2,     0.00,2,     0.27,2,    1.638,2,    0.924,2, -999.000,9,-999.0000,9,  -999.00,9,   -999.0,9,  -999.00,9,-999.000,9,   2014.2,2,   2370.6,2,  -999.0, -999.00,-999.0000,-999.000,-999.000
    316N145_10,  I07N,   778,  1,     33,     33,2,19950803,1658,  7.1922,  62.0882, 4344,   -999,     95.8,  28.1312,  36.4928,2,  36.4915,2,    196.4,2, 28.1087,    190.8,2,     2.18,2,     0.05,2,     0.01,2,     0.28,2,    1.613,2,    0.908,2, -999.000,9,-999.0000,9,  -999.00,9,   -999.0,9,  -999.00,9,-999.000,9,   2022.5,2,   2382.1,2,  -999.0, -999.00,-999.0000,-999.000,-999.000
    316N145_10,  I07N,   778,  1,     32,     32,2,19950803,1658,  7.1922,  62.0882, 4344,   -999,    121.9,  26.5195,  36.2138,2,  36.2116,2,    148.0,2, 26.4921,    135.2,2,     5.10,2,     6.66,2,     0.16,2,     0.71,2,    1.515,2,    0.861,2, -999.000,9,-999.0000,9,  -999.00,9,   -999.0,9,  -999.00,9,-999.000,9,   -999.9,5,   2359.9,2,  -999.0, -999.00,-999.0000,-999.000,-999.000
    316N145_10,  I07N,   778,  1,     31,     31,2,19950803,1658,  7.1922,  62.0882, 4344,   -999,    151.8,  17.2005,  35.3875,2,  35.3853,2,      6.7,2, 17.1754,      8.4,2,    22.51,2,    26.71,2,     0.01,2,     2.15,2,    0.765,2,    0.417,2, -999.000,9,-999.0000,9,  -999.00,9,   -999.0,9,  -999.00,9,-999.000,9,   2220.6,2,   2321.9,2,  -999.0, -999.00,-999.0000,-999.000,-999.000
    316N145_10,  I07N,   778,  1,     30,     30,2,19950803,1658,  7.1922,  62.0882, 4344,   -999,    176.1,  15.2179,  35.2715,2,  35.2769,2,     20.5,2, 15.1910,     39.6,2,    22.09,2,    25.80,2,     0.00,2,     1.95,2,    0.815,2,    0.423,2, -999.000,9,-999.0000,9,  -999.00,9,   -999.0,9,  -999.00,9,-999.000,9,   2210.1,2,   2316.9,2,  -999.0, -999.00,-999.0000,-999.000,-999.000
    316N145_10,  I07N,   778,  1,     29,     29,2,19950803,1658,  7.1922,  62.0882, 4344,   -999,    201.5,  13.9835,  35.2587,2,  35.2574,2,     51.6,2, 13.9545,     55.4,2,    22.65,2,    25.34,2,     0.00,2,     1.90,2,    0.818,2,    0.416,2, -999.000,9,-999.0000,9,  -999.00,9,   -999.0,9,  -999.00,9,-999.000,9,   2209.2,2,   2318.9,2,  -999.0, -999.00,-999.0000,-999.000,-999.000
    316N145_10,  I07N,   778,  1,     28,     28,2,19950803,1658,  7.1922,  62.0882, 4344,   -999,    278.1,  12.2303,  35.1817,2,  35.1868,2,     70.1,2, 12.1935,     69.2,2,    25.16,2,    26.25,2,     0.00,2,     1.93,2,    0.692,2,    0.356,2, -999.000,9,-999.0000,9,  -999.00,9,   -999.0,9,  -999.00,9,-999.000,9,   2213.4,2,   2316.8,2,  -999.0, -999.00,-999.0000,-999.000,-999.000
    316N145_10,  I07N,   778,  1,     27,     27,2,19950803,1658,  7.1922,  62.0882, 4344,   -999,    352.3,  11.3216,  35.1568,2,  35.1545,2,     60.4,2, 11.2771,     58.8,2,    30.01,2,    28.96,2,     0.00,2,     2.10,2,    0.416,2,    0.215,2, -999.000,9,-999.0000,9,  -999.00,9,   -999.0,9,  -999.00,9,-999.000,9,   2228.0,2,   2320.5,2,  -999.0, -999.00,-999.0000,-999.000,-999.000
    316N145_10,  I07N,   778,  1,     26,     26,2,19950803,1658,  7.1922,  62.0882, 4344,   -999,    442.3,  10.9203,  35.1955,2,  35.1976,2,     46.7,2, 10.8654,     45.3,2,    35.45,2,    30.84,2,     0.00,2,     2.28,2,    0.257,6,    0.137,6, -999.000,9,-999.0000,9,  -999.00,9,   -999.0,9,  -999.00,9,-999.000,9,   2244.8,2,   2324.5,2,  -999.0, -999.00,-999.0000,-999.000,-999.000
    316N145_10,  I07N,   778,  1,     25,     25,2,19950803,1658,  7.1922,  62.0882, 4344,   -999,    553.1,  10.6235,  35.2421,2,  35.2421,2,     33.6,2, 10.5556,     33.6,2,    41.85,2,    32.22,2,     0.00,2,     2.44,2,    0.141,2,    0.079,2, -999.000,9,-999.0000,9,  -999.00,9,   -999.0,9,  -999.00,9,-999.000,9,   2260.0,2,   2332.8,2,  -999.0, -999.00,-999.0000,-999.000,-999.000
    316N145_10,  I07N,   778,  1,     24,     24,2,19950803,1658,  7.1922,  62.0882, 4344,   -999,    653.1,  10.1434,  35.2823,2,  35.2834,2,     27.0,2, 10.0650,     27.0,2,    50.39,2,    33.37,2,     0.00,2,     2.58,2,    0.082,2,    0.052,2, -999.000,9,-999.0000,9,  -999.00,9,   -999.0,9,  -999.00,9,-999.000,9,   2273.0,2,   2340.8,2,  -999.0, -999.00,-999.0000,-999.000,-999.000
    316N145_10,  I07N,   778,  1,     23,     23,2,19950803,1658,  7.1922,  62.0882, 4344,   -999,    768.4,   9.2372,  35.2312,2,  35.2325,2,     23.7,2,  9.1496,     23.6,2,    61.28,2,    35.09,2,     0.00,2,     2.71,2,    0.036,2,    0.021,2, -999.000,9,-999.0000,9,  -999.00,9,   -999.0,9,  -999.00,9,-999.000,9,   -999.9,5,   2351.8,2,  -999.0, -999.00,-999.0000,-999.000,-999.000
    316N145_10,  I07N,   778,  1,     22,     22,2,19950803,1658,  7.1922,  62.0882, 4344,   -999,    905.4,   8.4757,  35.2037,2,  35.2069,2,     32.3,2,  8.3767,     31.7,2,    68.84,2,    35.46,2,     0.00,2,     2.72,2,    0.032,2,    0.019,2, -999.000,9,-999.0000,9,  -999.00,9,   -999.0,9,  -999.00,9,-999.000,9,   2293.3,2,   2357.1,2,  -999.0, -999.00,-999.0000,-999.000,-999.000
    316N145_10,  I07N,   778,  1,     21,     21,2,19950803,1658,  7.1922,  62.0882, 4344,   -999,    955.3,   7.9883,  35.1489,2,  35.1483,2,     31.6,2,  7.8870,     30.9,2,    74.26,2,    36.39,2,     0.00,2,     2.78,2,    0.014,2,    0.008,2, -999.000,9,-999.0000,9,  -999.00,9,   -999.0,9,  -999.00,9,-999.000,9,   2301.0,2,   2365.3,2,  -999.0, -999.00,-999.0000,-999.000,-999.000
    316N145_10,  I07N,   778,  1,     20,     20,2,19950803,1658,  7.1922,  62.0882, 4344,   -999,   1030.9,   7.4269,  35.1240,2,  35.1249,2,     37.5,2,  7.3212,     38.0,2,    79.68,2,    36.48,2,     0.00,2,     2.78,2,    0.016,2,    0.009,2, -999.000,9,-999.0000,9,  -999.00,9,   -999.0,9,  -999.00,9,-999.000,9,   2304.5,2,   2367.9,2,  -999.0, -999.00,-999.0000,-999.000,-999.000
    316N145_10,  I07N,   778,  1,     19,     19,2,19950803,1658,  7.1922,  62.0882, 4344,   -999,   1101.7,   6.9906,  35.0853,2,  35.0864,2,     41.4,2,  6.8808,     43.0,2,    83.93,2,    36.67,2,     0.00,2,     2.79,2,    0.013,2,    0.009,2, -999.000,9,-999.0000,9,  -999.00,9,   -999.0,9,  -999.00,9,-999.000,9,   2307.3,2,   2372.3,2,  -999.0, -999.00,-999.0000,-999.000,-999.000
    316N145_10,  I07N,   778,  1,     18,     18,2,19950803,1658,  7.1922,  62.0882, 4344,   -999,   1307.8,   5.9099,  35.0048,2,  35.0060,2,     54.1,2,  5.7883,     55.4,2,    94.66,2,    37.04,2,     0.00,2,     2.81,2,    0.002,2,    0.003,2, -999.000,9,-999.0000,9,  -999.00,9,   -999.0,9,  -999.00,9,-999.000,9,   2315.8,2,   2379.7,2,  -999.0, -999.00,-999.0000,-999.000,-999.000
    316N145_10,  I07N,   778,  1,     17,     17,2,19950803,1658,  7.1922,  62.0882, 4344,   -999,   1502.5,   4.6908,  34.9099,2,  34.9107,2,     78.1,2,  4.5628,     77.8,2,   105.66,2,    36.76,2,     0.00,2,     2.76,2,    0.000,2,    0.000,2, -999.000,9,-999.0000,9,  -999.00,9,   -999.0,9,  -999.00,9,-999.000,9,   2318.0,2,   2390.4,2,  -999.0, -999.00,-999.0000,-999.000,-999.000
    316N145_10,  I07N,   778,  1,     16,     16,2,19950803,1658,  7.1922,  62.0882, 4344,   -999,   1699.8,   3.8813,  34.8600,2,  34.8618,2,     95.0,2,  3.7445,     93.5,2,   114.53,2,    36.47,2,     0.00,2,     2.72,2,   -0.002,2,   -0.004,2, -999.000,9,-999.0000,9,  -999.00,9,   -999.0,9,  -999.00,9,-999.000,9,   2321.4,2,   2399.1,2,  -999.0, -999.00,-999.0000,-999.000,-999.000
    316N145_10,  I07N,   778,  1,     15,     15,2,19950803,1658,  7.1922,  62.0882, 4344,   -999,   1903.9,   3.1567,  34.8157,2,  34.8145,2,    110.4,2,  3.0111,    111.8,2,   121.46,2,    35.91,2,     0.00,2,     2.64,2,   -0.002,2,    0.002,2, -999.000,9,-999.0000,9,  -999.00,9,   -999.0,9,  -999.00,9,-999.000,9,   2321.5,2,   2407.2,2,  -999.0, -999.00,-999.0000,-999.000,-999.000
    316N145_10,  I07N,   778,  1,     14,     14,2,19950803,1658,  7.1922,  62.0882, 4344,   -999,   2101.6,   2.7020,  34.7877,2,  34.7872,2,    125.0,2,  2.5454,    125.4,2,   125.39,2,    35.49,2,     0.00,2,     2.60,2, -999.000,9, -999.000,9, -999.000,9,-999.0000,9,  -999.00,9,   -999.0,9,  -999.00,9,-999.000,9,   2319.5,2,   2408.2,2,  -999.0, -999.00,-999.0000,-999.000,-999.000
    316N145_10,  I07N,   778,  1,     13,     13,2,19950803,1658,  7.1922,  62.0882, 4344,   -999,   2298.1,   2.4645,  34.7745,2,  34.7749,2,    131.0,2,  2.2940,    132.2,2,   127.93,2,    35.25,2,     0.00,2,     2.56,2, -999.000,9, -999.000,9, -999.000,9,-999.0000,9,  -999.00,9,   -999.0,9,  -999.00,9,-999.000,9,   -999.9,5,   2413.1,2,  -999.0, -999.00,-999.0000,-999.000,-999.000
    316N145_10,  I07N,   778,  1,     12,     12,2,19950803,1658,  7.1922,  62.0882, 4344,   -999,   2501.1,   2.2793,  34.7693,2,  34.7694,2,    136.3,2,  2.0934,    135.0,2,   131.69,2,    35.25,2,     0.00,2,     2.56,2, -999.000,9, -999.000,9, -999.000,9,-999.0000,9,  -999.00,9,   -999.0,9,  -999.00,9,-999.000,9,   2320.8,2,   2412.8,2,  -999.0, -999.00,-999.0000,-999.000,-999.000
    316N145_10,  I07N,   778,  1,     11,     11,2,19950803,1658,  7.1922,  62.0882, 4344,   -999,   2699.8,   2.0495,  34.7564,2,  34.7566,2,    142.5,2,  1.8494,    142.0,2,   133.83,2,    35.01,2,     0.00,2,     2.53,2, -999.000,9, -999.000,9, -999.000,9,-999.0000,9,  -999.00,9,   -999.0,9,  -999.00,9,-999.000,9,   2321.2,2,   2420.6,2,  -999.0, -999.00,-999.0000,-999.000,-999.000
    316N145_10,  I07N,   778,  1,     10,     10,2,19950803,1658,  7.1922,  62.0882, 4344,   -999,   2897.6,   1.8899,  34.7472,2,  34.7484,2,    147.0,2,  1.6742,    146.7,2,   135.77,2,    34.91,2,     0.00,2,     2.51,2, -999.000,9, -999.000,9, -999.000,9,-999.0000,9,  -999.00,9,   -999.0,9,  -999.00,9,-999.000,9,   2321.9,2,   2418.9,2,  -999.0, -999.00,-999.0000,-999.000,-999.000
    316N145_10,  I07N,   778,  1,      9,      9,2,19950803,1658,  7.1922,  62.0882, 4344,   -999,   3100.2,   1.7617,  34.7417,2,  34.7405,2,    151.6,2,  1.5291,    151.1,2,   137.11,2,    34.72,2,     0.00,2,     2.49,2, -999.000,9, -999.000,9, -999.000,9,-999.0000,9,  -999.00,9,   -999.0,9,  -999.00,9,-999.000,9,   2319.4,2,   2424.8,2,  -999.0, -999.00,-999.0000,-999.000,-999.000
    316N145_10,  I07N,   778,  1,      8,      8,2,19950803,1658,  7.1922,  62.0882, 4344,   -999,   3298.6,   1.7082,  34.7380,2,  34.7378,2,    154.3,2,  1.4572,    154.1,2,   137.42,2,    34.63,2,     0.00,2,     2.48,2, -999.000,9, -999.000,9, -999.000,9,-999.0000,9,  -999.00,9,   -999.0,9,  -999.00,9,-999.000,9,   2319.3,2,   2421.4,2,  -999.0, -999.00,-999.0000,-999.000,-999.000
    316N145_10,  I07N,   778,  1,      7,      7,2,19950803,1658,  7.1922,  62.0882, 4344,   -999,   3502.0,   1.6916,  34.7368,2,  34.7360,2,    155.6,2,  1.4202,    156.1,2,   137.32,2,    34.53,2,     0.00,2,     2.46,2, -999.000,9, -999.000,9, -999.000,9,-999.0000,9,  -999.00,9,   -999.0,9,  -999.00,9,-999.000,9,   -999.9,5,   2424.7,2,  -999.0, -999.00,-999.0000,-999.000,-999.000
    316N145_10,  I07N,   778,  1,      6,      6,2,19950803,1658,  7.1922,  62.0882, 4344,   -999,   3699.7,   1.6890,  34.7357,2,  34.7347,2,    156.5,2,  1.3970,    156.9,2,   137.42,2,    34.53,2,     0.00,2,     2.46,2, -999.000,9, -999.000,9, -999.000,9,-999.0000,9,  -999.00,9,   -999.0,9,  -999.00,9,-999.000,9,   2318.3,2,   2422.4,2,  -999.0, -999.00,-999.0000,-999.000,-999.000
    316N145_10,  I07N,   778,  1,      5,      5,2,19950803,1658,  7.1922,  62.0882, 4344,   -999,   3903.9,   1.6875,  34.7344,2,  34.7329,2,    157.2,2,  1.3736,    157.9,2,   137.32,2,    34.48,2,     0.00,2,     2.46,2, -999.000,9, -999.000,9, -999.000,9,-999.0000,9,  -999.00,9,   -999.0,9,  -999.00,9,-999.000,9,   2317.9,2,   2425.1,2,  -999.0, -999.00,-999.0000,-999.000,-999.000
    316N145_10,  I07N,   778,  1,      4,      4,2,19950803,1658,  7.1922,  62.0882, 4344,   -999,   4102.5,   1.6927,  34.7344,2,  34.7327,2,    158.7,2,  1.3568,    158.9,2,   137.43,2,    34.38,2,     0.00,2,     2.45,2, -999.000,9, -999.000,9, -999.000,9,-999.0000,9,  -999.00,9,   -999.0,9,  -999.00,9,-999.000,9,   2317.6,2,   2422.7,2,  -999.0, -999.00,-999.0000,-999.000,-999.000
    316N145_10,  I07N,   778,  1,      3,      3,2,19950803,1658,  7.1922,  62.0882, 4344,   -999,   4306.5,   1.7106,  34.7343,2,  34.7327,2,    158.6,2,  1.3512,    158.6,2,   137.32,2,    34.38,2,     0.00,2,     2.45,2, -999.000,9, -999.000,9, -999.000,9,-999.0000,9,  -999.00,9,   -999.0,9,  -999.00,9,-999.000,9,   -999.9,5,   2424.3,2,  -999.0, -999.00,-999.0000,-999.000,-999.000
    316N145_10,  I07N,   778,  1,      2,      2,2,19950803,1658,  7.1922,  62.0882, 4344,   -999,   4383.2,   1.7183,  34.7333,2,  34.7335,2,    158.5,2,  1.3499,    158.8,2,   137.22,2,    34.37,2,     0.00,2,     2.45,2, -999.000,9, -999.000,9, -999.000,9,-999.0000,9,  -999.00,9,   -999.0,9,  -999.00,9,-999.000,9,   2317.5,2,   2424.8,2,  -999.0, -999.00,-999.0000,-999.000,-999.000
    316N145_10,  I07N,   778,  1,      1,      1,2,19950803,1658,  7.1922,  62.0882, 4344,   -999,   4409.1,   1.7207,  34.7340,2,  34.7337,2,    159.0,2,  1.3492,    159.0,2,   137.12,2,    34.37,2,     0.00,2,     2.44,2, -999.000,9, -999.000,9, -999.000,9,-999.0000,9,  -999.00,9,   -999.0,9,  -999.00,9,-999.000,9,   2317.0,2,   2429.3,2,  -999.0, -999.00,-999.0000,-999.000,-999.000