BOTTLE,20080821WHPSIOSCD
EXPOCODE,SECT_ID,STNNBR,CASTNO,SAMPNO,BTLNBR,BTLNBR_FLAG_W,DATE,TIME,LATITUDE,LONGITUDE,DEPTH,CTDRAW,CTDPRS,CTDTMP,CTDSAL,CTDSAL_FLAG_W,SALNTY,SALNTY_FLAG_W,CTDOXY,CTDOXY_FLAG_W,THETA,OXYGEN,OXYGEN_FLAG_W,SILCAT,SILCAT_FLAG_W,NITRAT,NITRAT_FLAG_W,NITRIT,NITRIT_FLAG_W,PHSPHT,PHSPHT_FLAG_W,CFC-11,CFC-11_FLAG_W,CFC-12,CFC-12_FLAG_W,TRITUM,TRITUM_FLAG_W,HELIUM,HELIUM_FLAG_W,DELHE3,DELHE3_FLAG_W,DELC14,DELC14_FLAG_W,DELC13,DELC13_FLAG_W,NEON,NEON_FLAG_W,TCARBN,TCARBN_FLAG_W,ALKALI,ALKALI_FLAG_W,C14ERR,DELHER,HELIER,NEONER,TRITER
,,,,,,,,,,,,,DBAR,ITS-90,PSS-78,,PSS-78,,UMOL/KG,,DEG C,UMOL/KG,,UMOL/KG,,UMOL/KG,,UMOL/KG,,UMOL/KG,,PMOL/KG,,PMOL/KG,,TU,,NMOL/KG,,PERCNT,,/MILLE,,/MILLE,,NMOL/KG,,UMOL/KG,,UMOL/KG,,/MILLE,PERCNT,NMOL/KG,NMOL/KG,TU
    316N145_10,  I07N,   820,  1,     36,     36,2,19950814,1626, 21.1180,  63.5502, 3345,   -999,      4.3,  26.7687,  36.3629,2,  36.3633,2,    200.4,2, 26.7680,    197.5,2,     5.46,2,     0.58,2,     0.12,2,     0.45,2,    1.692,2,    0.967,2, -999.000,9,-999.0000,9,  -999.00,9,   -999.0,9,  -999.00,9,-999.000,9,   -999.9,5,   2377.5,2,  -999.0, -999.00,-999.0000,-999.000,-999.000
    316N145_10,  I07N,   820,  1,     35,     35,2,19950814,1626, 21.1180,  63.5502, 3345,   -999,     30.8,  26.7652,  36.3627,2,  36.3623,2,    200.7,2, 26.7584,    198.0,2,     5.44,2,     0.63,2,     0.12,2,     0.45,2, -999.000,9, -999.000,9, -999.000,9,-999.0000,9,  -999.00,9,   -999.0,9,  -999.00,9,-999.000,9,   -999.9,5,   2374.3,2,  -999.0, -999.00,-999.0000,-999.000,-999.000
    316N145_10,  I07N,   820,  1,     34,     34,2,19950814,1626, 21.1180,  63.5502, 3345,   -999,     60.9,  24.8769,  36.4705,2,  36.4964,2,    153.8,2, 24.8639,    140.2,2,     5.98,2,     7.88,2,     0.38,2,     0.87,2, -999.000,9, -999.000,9, -999.000,9,-999.0000,9,  -999.00,9,   -999.0,9,  -999.00,9,-999.000,9,   -999.9,5,   2380.4,2,  -999.0, -999.00,-999.0000,-999.000,-999.000
    316N145_10,  I07N,   820,  1,     33,     33,2,19950814,1626, 21.1180,  63.5502, 3345,   -999,     80.9,  24.0422,  36.5222,2,  36.5176,2,    131.4,2, 24.0253,    130.7,2,     7.07,2,    10.72,2,     0.07,2,     1.02,2,    1.789,2,    1.016,2, -999.000,9,-999.0000,9,  -999.00,9,   -999.0,9,  -999.00,9,-999.000,9,   -999.9,5,   2379.8,2,  -999.0, -999.00,-999.0000,-999.000,-999.000
    316N145_10,  I07N,   820,  1,     32,     32,2,19950814,1626, 21.1180,  63.5502, 3345,   -999,    121.0,  21.7136,  36.1763,2,  36.1663,2,     25.6,2, 21.6900,     19.8,2,    14.42,2,    22.91,2,     0.03,2,     1.94,2, -999.000,9, -999.000,9, -999.000,9,-999.0000,9,  -999.00,9,   -999.0,9,  -999.00,9,-999.000,9,   -999.9,5,   2356.2,2,  -999.0, -999.00,-999.0000,-999.000,-999.000
    316N145_10,  I07N,   820,  1,     31,     31,2,19950814,1626, 21.1180,  63.5502, 3345,   -999,    161.6,  19.2572,  36.0081,2,  35.9998,2,      0.9,2, 19.2282,      1.1,2,    21.76,2,    22.22,2,     0.53,2,     2.26,2,    0.989,2,    0.605,2, -999.000,9,-999.0000,9,  -999.00,9,   -999.0,9,  -999.00,9,-999.000,9,   -999.9,5,   2344.8,2,  -999.0, -999.00,-999.0000,-999.000,-999.000
    316N145_10,  I07N,   820,  1,     30,     30,2,19950814,1626, 21.1180,  63.5502, 3345,   -999,    201.2,  17.7568,  36.0648,2,  36.0630,2,      1.0,2, 17.7225,      1.4,2,    24.85,2,    21.99,2,     0.00,2,     2.28,2, -999.000,9, -999.000,9, -999.000,9,-999.0000,9,  -999.00,9,   -999.0,9,  -999.00,9,-999.000,9,   -999.9,5,   2353.9,2,  -999.0, -999.00,-999.0000,-999.000,-999.000
    316N145_10,  I07N,   820,  1,     29,     29,2,19950814,1626, 21.1180,  63.5502, 3345,   -999,    261.7,  16.4810,  36.1879,2,  36.1890,2,      1.1,2, 16.4385,      1.5,2,    28.12,2,    22.03,2,     0.00,2,     2.30,2, -999.000,9, -999.000,9, -999.000,9,-999.0000,9,  -999.00,9,   -999.0,9,  -999.00,9,-999.000,9,   -999.9,5,   2355.6,2,  -999.0, -999.00,-999.0000,-999.000,-999.000
    316N145_10,  I07N,   820,  1,     28,     28,2,19950814,1626, 21.1180,  63.5502, 3345,   -999,    302.4,  15.4551,  36.0974,2,  36.0906,2,      1.1,2, 15.4079,      1.2,2,    31.39,2,    19.55,2,     1.77,2,     2.39,2,    0.460,2,    0.298,2, -999.000,9,-999.0000,9,  -999.00,9,   -999.0,9,  -999.00,9,-999.000,9,   -999.9,5,   2359.2,2,  -999.0, -999.00,-999.0000,-999.000,-999.000
    316N145_10,  I07N,   820,  1,     27,     27,2,19950814,1626, 21.1180,  63.5502, 3345,   -999,    350.2,  14.4540,  35.9936,2,  35.9919,2,      1.2,2, 14.4018,      0.9,2,    34.65,2,    20.11,2,     1.96,2,     2.47,2,    0.339,2,    0.219,2, -999.000,9,-999.0000,9,  -999.00,9,   -999.0,9,  -999.00,9,-999.000,9,   -999.9,5,   2351.9,2,  -999.0, -999.00,-999.0000,-999.000,-999.000
    316N145_10,  I07N,   820,  1,     26,     26,2,19950814,1626, 21.1180,  63.5502, 3345,   -999,    400.1,  13.6818,  35.8965,2,  35.9065,2,      1.2,2, 13.6242,      0.9,2,    37.72,2,    21.50,2,     1.56,2,     2.53,2, -999.000,9, -999.000,9, -999.000,9,-999.0000,9,  -999.00,9,   -999.0,9,  -999.00,9,-999.000,9,   -999.9,5,   2356.8,2,  -999.0, -999.00,-999.0000,-999.000,-999.000
    316N145_10,  I07N,   820,  1,     25,     25,2,19950814,1626, 21.1180,  63.5502, 3345,   -999,    499.0,  12.7616,  35.7885,2,  35.7832,2,      1.3,2, 12.6927,      1.4,2,    43.35,2,    24.81,2,     0.23,2,     2.61,2,    0.153,2,    0.101,2, -999.000,9,-999.0000,9,  -999.00,9,   -999.0,9,  -999.00,9,-999.000,9,   -999.9,5,   2357.7,2,  -999.0, -999.00,-999.0000,-999.000,-999.000
    316N145_10,  I07N,   820,  1,     24,     24,2,19950814,1626, 21.1180,  63.5502, 3345,   -999,    599.7,  11.7856,  35.6774,2,  35.6769,2,      1.5,2, 11.7065,      0.9,2,    49.89,2,    27.41,2,     0.00,2,     2.70,2, -999.000,9, -999.000,9, -999.000,9,-999.0000,9,  -999.00,9,   -999.0,9,  -999.00,9,-999.000,9,   -999.9,5,   2360.6,2,  -999.0, -999.00,-999.0000,-999.000,-999.000
    316N145_10,  I07N,   820,  1,     23,     23,2,19950814,1626, 21.1180,  63.5502, 3345,   -999,    678.9,  11.1114,  35.6113,2,  35.6085,2,      1.5,2, 11.0249,      1.3,2,    55.51,2,    29.63,2,     0.00,2,     2.77,2,    0.044,2,    0.031,2, -999.000,9,-999.0000,9,  -999.00,9,   -999.0,9,  -999.00,9,-999.000,9,   -999.9,5,   2356.6,2,  -999.0, -999.00,-999.0000,-999.000,-999.000
    316N145_10,  I07N,   820,  1,     22,     22,2,19950814,1626, 21.1180,  63.5502, 3345,   -999,    699.8,  10.9399,  35.5950,2,  35.5957,2,      1.6,2, 10.8515,      1.1,2,    56.91,2,    30.29,2,     0.00,2,     2.78,2, -999.000,9, -999.000,9, -999.000,9,-999.0000,9,  -999.00,9,   -999.0,9,  -999.00,9,-999.000,9,   -999.9,5,   2361.3,2,  -999.0, -999.00,-999.0000,-999.000,-999.000
    316N145_10,  I07N,   820,  1,     21,     21,2,19950814,1626, 21.1180,  63.5502, 3345,   -999,    802.0,  10.2032,  35.5358,2,  35.5346,2,      1.7,2, 10.1056,      1.6,2,    63.61,2,    32.91,2,     0.00,2,     2.84,2,    0.026,2,    0.015,2, -999.000,9,-999.0000,9,  -999.00,9,   -999.0,9,  -999.00,9,-999.000,9,   -999.9,5,   2361.3,2,  -999.0, -999.00,-999.0000,-999.000,-999.000
    316N145_10,  I07N,   820,  1,     20,     20,2,19950814,1626, 21.1180,  63.5502, 3345,   -999,    901.4,   9.4786,  35.4659,2,  35.4661,2,      1.8,2,  9.3732,      2.0,2,    69.77,2,    34.58,2,     0.00,2,     2.90,2, -999.000,9, -999.000,9, -999.000,9,-999.0000,9,  -999.00,9,   -999.0,9,  -999.00,9,-999.000,9,   -999.9,5,   2370.6,2,  -999.0, -999.00,-999.0000,-999.000,-999.000
    316N145_10,  I07N,   820,  1,     19,     19,2,19950814,1626, 21.1180,  63.5502, 3345,   -999,   1001.1,   8.7539,  35.3924,2,  35.3954,2,      1.9,2,  8.6415,      2.5,2,    75.92,2,    36.21,2,     0.00,2,     2.96,2,    0.011,2,    0.006,2, -999.000,9,-999.0000,9,  -999.00,9,   -999.0,9,  -999.00,9,-999.000,9,   -999.9,5,   2369.5,2,  -999.0, -999.00,-999.0000,-999.000,-999.000
    316N145_10,  I07N,   820,  1,     18,     18,2,19950814,1626, 21.1180,  63.5502, 3345,   -999,   1101.4,   7.9246,  35.3027,2,  35.3043,2,      4.7,2,  7.8070,      5.4,2,    82.45,2,    37.56,2,     0.00,2,     3.03,2, -999.000,9, -999.000,9, -999.000,9,-999.0000,9,  -999.00,9,   -999.0,9,  -999.00,9,-999.000,9,   -999.9,5,   2375.9,2,  -999.0, -999.00,-999.0000,-999.000,-999.000
    316N145_10,  I07N,   820,  1,     17,     17,2,19950814,1626, 21.1180,  63.5502, 3345,   -999,   1201.8,   7.3257,  35.2397,2,  35.2382,2,      9.1,2,  7.2019,      9.7,2,    87.88,2,    38.18,2,     0.00,2,     3.05,2,    0.001,2,    0.000,2, -999.000,9,-999.0000,9,  -999.00,9,   -999.0,9,  -999.00,9,-999.000,9,   -999.9,5,   2383.0,2,  -999.0, -999.00,-999.0000,-999.000,-999.000
    316N145_10,  I07N,   820,  1,     16,     16,2,19950814,1626, 21.1180,  63.5502, 3345,   -999,   1298.8,   6.7129,  35.1767,2,  35.1760,2,     15.5,2,  6.5842,     15.8,2,    93.32,2,    38.47,2,     0.00,2,     3.07,2, -999.000,9, -999.000,9, -999.000,9,-999.0000,9,  -999.00,9,   -999.0,9,  -999.00,9,-999.000,9,   -999.9,5,   2387.8,2,  -999.0, -999.00,-999.0000,-999.000,-999.000
    316N145_10,  I07N,   820,  1,     15,     15,2,19950814,1626, 21.1180,  63.5502, 3345,   -999,   1399.9,   6.0581,  35.1104,2,  35.1121,2,     24.2,2,  5.9253,     24.3,2,    99.70,2,    38.61,2,     0.00,2,     3.05,2,    0.001,2,    0.003,2, -999.000,9,-999.0000,9,  -999.00,9,   -999.0,9,  -999.00,9,-999.000,9,   -999.9,5,   2390.6,2,  -999.0, -999.00,-999.0000,-999.000,-999.000
    316N145_10,  I07N,   820,  1,     14,     14,2,19950814,1626, 21.1180,  63.5502, 3345,   -999,   1500.4,   5.3936,  35.0456,2,  35.0466,2,     34.4,2,  5.2577,     34.5,2,   107.22,2,    38.61,2,     0.00,2,     3.03,2, -999.000,9, -999.000,9, -999.000,9,-999.0000,9,  -999.00,9,   -999.0,9,  -999.00,9,-999.000,9,   -999.9,5,   2401.9,2,  -999.0, -999.00,-999.0000,-999.000,-999.000
    316N145_10,  I07N,   820,  1,     13,     13,2,19950814,1626, 21.1180,  63.5502, 3345,   -999,   1601.5,   4.7985,  34.9923,2,  34.9918,2,     44.1,2,  4.6595,     46.6,2,   114.42,2,    38.51,2,     0.00,2,     3.00,2, -999.000,9, -999.000,9, -999.000,9,-999.0000,9,  -999.00,9,   -999.0,9,  -999.00,9,-999.000,9,   -999.9,5,   2405.6,2,  -999.0, -999.00,-999.0000,-999.000,-999.000
    316N145_10,  I07N,   820,  1,     12,     12,2,19950814,1626, 21.1180,  63.5502, 3345,   -999,   1701.9,   4.1851,  34.9355,2,  34.9384,2,     56.7,2,  4.0440,     56.5,2,   121.11,2,    38.31,2,     0.00,2,     2.95,2, -999.000,9, -999.000,9, -999.000,9,-999.0000,9,  -999.00,9,   -999.0,9,  -999.00,9,-999.000,9,   -999.9,5,   2416.2,2,  -999.0, -999.00,-999.0000,-999.000,-999.000
    316N145_10,  I07N,   820,  1,     11,     11,2,19950814,1626, 21.1180,  63.5502, 3345,   -999,   1801.4,   3.7211,  34.8957,2,  34.8969,2,     66.3,2,  3.5768,     67.1,2,   126.89,2,    38.06,2,     0.00,2,     2.91,2, -999.000,9, -999.000,9, -999.000,9,-999.0000,9,  -999.00,9,   -999.0,9,  -999.00,9,-999.000,9,   -999.9,5,   2417.0,2,  -999.0, -999.00,-999.0000,-999.000,-999.000
    316N145_10,  I07N,   820,  1,     10,     10,2,19950814,1626, 21.1180,  63.5502, 3345,   -999,   1899.1,   3.3037,  34.8590,2,  34.8596,2,     77.0,2,  3.1563,     77.3,2,   131.57,2,    37.82,2,     0.00,2,     2.86,2, -999.000,9, -999.000,9, -999.000,9,-999.0000,9,  -999.00,9,   -999.0,9,  -999.00,9,-999.000,9,   -999.9,5,   2425.5,2,  -999.0, -999.00,-999.0000,-999.000,-999.000
    316N145_10,  I07N,   820,  1,      9,      9,2,19950814,1626, 21.1180,  63.5502, 3345,   -999,   1998.0,   3.0230,  34.8349,2,  34.8358,2,     85.0,2,  2.8707,     85.0,2,   134.53,2,    37.62,2,     0.00,2,     2.82,2, -999.000,9, -999.000,9, -999.000,9,-999.0000,9,  -999.00,9,   -999.0,9,  -999.00,9,-999.000,9,   -999.9,5,   2424.9,2,  -999.0, -999.00,-999.0000,-999.000,-999.000
    316N145_10,  I07N,   820,  1,      8,      8,2,19950814,1626, 21.1180,  63.5502, 3345,   -999,   2191.1,   2.7750,  34.8152,2,  34.8152,2,     93.2,2,  2.6089,     92.5,2,   137.50,2,    37.37,2,     0.00,2,     2.78,2,   -0.001,2,    0.001,2, -999.000,9,-999.0000,9,  -999.00,9,   -999.0,9,  -999.00,9,-999.000,9,   -999.9,5,   2431.9,2,  -999.0, -999.00,-999.0000,-999.000,-999.000
    316N145_10,  I07N,   820,  1,      7,      7,2,19950814,1626, 21.1180,  63.5502, 3345,   -999,   2393.7,   2.4358,  34.7900,2,  34.7905,2,    101.4,2,  2.2569,    100.5,2,   142.46,2,    37.08,2,     0.00,2,     2.74,2, -999.000,9, -999.000,9, -999.000,9,-999.0000,9,  -999.00,9,   -999.0,9,  -999.00,9,-999.000,9,   -999.9,5,   2435.1,2,  -999.0, -999.00,-999.0000,-999.000,-999.000
    316N145_10,  I07N,   820,  1,      6,      6,2,19950814,1626, 21.1180,  63.5502, 3345,   -999,   2598.1,   2.1375,  34.7687,2,  34.7677,2,    110.4,2,  1.9451,    109.1,2,   146.07,2,    36.88,2,     0.00,2,     2.69,2, -999.000,9, -999.000,9, -999.000,9,-999.0000,9,  -999.00,9,   -999.0,9,  -999.00,9,-999.000,9,   -999.9,5,   2446.9,2,  -999.0, -999.00,-999.0000,-999.000,-999.000
    316N145_10,  I07N,   820,  1,      5,      5,2,19950814,1626, 21.1180,  63.5502, 3345,   -999,   2792.1,   1.9203,  34.7530,2,  34.7530,2,    114.7,2,  1.7140,    114.6,2,   149.10,2,    36.63,2,     0.00,2,     2.66,2, -999.000,9, -999.000,9, -999.000,9,-999.0000,9,  -999.00,9,   -999.0,9,  -999.00,9,-999.000,9,   -999.9,5,   2449.9,2,  -999.0, -999.00,-999.0000,-999.000,-999.000
    316N145_10,  I07N,   820,  1,      4,      4,2,19950814,1626, 21.1180,  63.5502, 3345,   -999,   3046.9,   1.7875,  34.7443,2,  34.7439,2,    119.4,2,  1.5596,    120.6,2,   150.55,2,    36.44,2,     0.00,2,     2.63,2,    0.005,2,    0.013,2, -999.000,9,-999.0000,9,  -999.00,9,   -999.0,9,  -999.00,9,-999.000,9,   -999.9,5,   2460.2,2,  -999.0, -999.00,-999.0000,-999.000,-999.000
    316N145_10,  I07N,   820,  1,      3,      3,2,19950814,1626, 21.1180,  63.5502, 3345,   -999,   3279.9,   1.7126,  34.7383,2,  34.7386,2,    122.8,2,  1.4633,    122.3,2,   151.80,2,    36.43,2,     0.00,2,     2.61,2,    0.007,2,    0.021,2, -999.000,9,-999.0000,9,  -999.00,9,   -999.0,9,  -999.00,9,-999.000,9,   -999.9,5,   2462.6,2,  -999.0, -999.00,-999.0000,-999.000,-999.000
    316N145_10,  I07N,   820,  1,      2,      2,2,19950814,1626, 21.1180,  63.5502, 3345,   -999,   3359.6,   1.7111,  34.7391,2,  34.7378,2,    122.0,2,  1.4538,    121.7,2,   152.45,2,    36.38,2,     0.00,2,     2.62,2, -999.000,9, -999.000,9, -999.000,9,-999.0000,9,  -999.00,9,   -999.0,9,  -999.00,9,-999.000,9,   -999.9,5,   2469.1,2,  -999.0, -999.00,-999.0000,-999.000,-999.000
    316N145_10,  I07N,   820,  1,      1,      1,2,19950814,1626, 21.1180,  63.5502, 3345,   -999,   3390.1,   1.7101,  34.7378,2,  34.7376,2,    121.7,2,  1.4497,    122.4,2,   152.29,2,    36.42,2,     0.00,2,     2.61,2,    0.005,2,    0.028,2, -999.000,9,-999.0000,9,  -999.00,9,   -999.0,9,  -999.00,9,-999.000,9,   -999.9,5,   2475.0,2,  -999.0, -999.00,-999.0000,-999.000,-999.000