BOTTLE,20080821WHPSIOSCD
EXPOCODE,SECT_ID,STNNBR,CASTNO,SAMPNO,BTLNBR,BTLNBR_FLAG_W,DATE,TIME,LATITUDE,LONGITUDE,DEPTH,CTDRAW,CTDPRS,CTDTMP,CTDSAL,CTDSAL_FLAG_W,SALNTY,SALNTY_FLAG_W,CTDOXY,CTDOXY_FLAG_W,THETA,OXYGEN,OXYGEN_FLAG_W,SILCAT,SILCAT_FLAG_W,NITRAT,NITRAT_FLAG_W,NITRIT,NITRIT_FLAG_W,PHSPHT,PHSPHT_FLAG_W,CFC-11,CFC-11_FLAG_W,CFC-12,CFC-12_FLAG_W,TRITUM,TRITUM_FLAG_W,HELIUM,HELIUM_FLAG_W,DELHE3,DELHE3_FLAG_W,DELC14,DELC14_FLAG_W,DELC13,DELC13_FLAG_W,NEON,NEON_FLAG_W,TCARBN,TCARBN_FLAG_W,ALKALI,ALKALI_FLAG_W,C14ERR,DELHER,HELIER,NEONER,TRITER
,,,,,,,,,,,,,DBAR,ITS-90,PSS-78,,PSS-78,,UMOL/KG,,DEG C,UMOL/KG,,UMOL/KG,,UMOL/KG,,UMOL/KG,,UMOL/KG,,PMOL/KG,,PMOL/KG,,TU,,NMOL/KG,,PERCNT,,/MILLE,,/MILLE,,NMOL/KG,,UMOL/KG,,UMOL/KG,,/MILLE,PERCNT,NMOL/KG,NMOL/KG,TU
    316N145_10,  I07N,   755,  1,     36,     36,2,19950728,0208, -1.2292,  57.2372, 4347,   -999,      8.6,  27.3932,  35.2924,2,  35.2922,2,    204.2,2, 27.3914,    199.7,2,     3.31,2,     0.18,2,     0.00,2,     0.19,2, -999.000,9, -999.000,9, -999.000,9,-999.0000,9,  -999.00,9,   -999.0,9,  -999.00,9,-999.000,9,   1974.0,2,   2308.4,2,  -999.0, -999.00,-999.0000,-999.000,-999.000
    316N145_10,  I07N,   755,  1,     35,     35,2,19950728,0208, -1.2292,  57.2372, 4347,   -999,      8.8,  27.3933,  35.2923,2,  35.2920,2,    199.6,2, 27.3915,    199.2,2,     2.95,2,     0.17,2,     0.00,2,     0.19,2,    1.627,2,    0.928,2, -999.000,9,-999.0000,9,  -999.00,9,   -999.0,9,  -999.00,9,-999.000,9,   -999.9,9,   -999.9,9,  -999.0, -999.00,-999.0000,-999.000,-999.000
    316N145_10,  I07N,   755,  1,     34,     34,2,19950728,0208, -1.2292,  57.2372, 4347,   -999,     30.9,  24.9379,  35.2466,2,  35.2444,2,    172.2,2, 24.9314,    174.6,2,     4.84,2,     3.88,2,     0.25,2,     0.45,2, -999.000,9, -999.000,9, -999.000,9,-999.0000,9,  -999.00,9,   -999.0,9,  -999.00,9,-999.000,9,   -999.9,9,   -999.9,9,  -999.0, -999.00,-999.0000,-999.000,-999.000
    316N145_10,  I07N,   755,  1,     33,     33,2,19950728,0208, -1.2292,  57.2372, 4347,   -999,     62.2,  24.1487,  35.2361,2,  35.2357,2,    170.2,2, 24.1357,    165.8,2,     6.21,2,     5.50,2,     0.14,2,     0.55,2,    1.634,2,    0.918,2, -999.000,9,-999.0000,9,  -999.00,9,   -999.0,9,  -999.00,9,-999.000,9,   -999.9,9,   -999.9,9,  -999.0, -999.00,-999.0000,-999.000,-999.000
    316N145_10,  I07N,   755,  1,     32,     32,2,19950728,0208, -1.2292,  57.2372, 4347,   -999,     90.8,  23.5476,  35.2212,2,  35.2166,2,    166.7,2, 23.5290,    163.3,2,     6.71,2,     6.27,2,     0.20,2,     0.59,2, -999.000,9, -999.000,9, -999.000,9,-999.0000,9,  -999.00,9,   -999.0,9,  -999.00,9,-999.000,9,   -999.9,9,   -999.9,9,  -999.0, -999.00,-999.0000,-999.000,-999.000
    316N145_10,  I07N,   755,  1,     31,     31,2,19950728,0208, -1.2292,  57.2372, 4347,   -999,    116.1,  22.2332,  35.2411,2,  35.2315,2,    151.8,2, 22.2103,    144.6,2,     8.43,2,     9.14,2,     0.03,2,     0.75,2,    1.604,2,    0.885,2, -999.000,9,-999.0000,9,  -999.00,9,   -999.0,9,  -999.00,9,-999.000,9,   -999.9,9,   -999.9,9,  -999.0, -999.00,-999.0000,-999.000,-999.000
    316N145_10,  I07N,   755,  1,     30,     30,2,19950728,0208, -1.2292,  57.2372, 4347,   -999,    141.1,  20.2005,  35.3223,2,  35.3236,2,    116.1,2, 20.1744,    109.3,2,    11.71,2,    14.91,2,     0.01,2,     1.12,2, -999.000,9, -999.000,9, -999.000,9,-999.0000,9,  -999.00,9,   -999.0,9,  -999.00,9,-999.000,9,   -999.9,9,   -999.9,9,  -999.0, -999.00,-999.0000,-999.000,-999.000
    316N145_10,  I07N,   755,  1,     29,     29,2,19950728,0208, -1.2292,  57.2372, 4347,   -999,    170.2,  14.7265,  35.1693,2,  35.1759,2,     77.3,2, 14.7012,     77.7,2,    19.16,2,    22.65,2,     0.00,2,     1.62,2,    1.016,2,    0.536,2, -999.000,9,-999.0000,9,  -999.00,9,   -999.0,9,  -999.00,9,-999.000,9,   -999.9,9,   -999.9,9,  -999.0, -999.00,-999.0000,-999.000,-999.000
    316N145_10,  I07N,   755,  1,     28,     28,2,19950728,0208, -1.2292,  57.2372, 4347,   -999,    201.7,  14.0761,  35.1501,2,  35.1487,2,     81.7,2, 14.0470,     82.6,2,    19.84,2,    22.98,2,     0.00,2,     1.64,2,    0.964,2,    0.506,2, -999.000,9,-999.0000,9,  -999.00,9,   -999.0,9,  -999.00,9,-999.000,9,   -999.9,9,   -999.9,9,  -999.0, -999.00,-999.0000,-999.000,-999.000
    316N145_10,  I07N,   755,  1,     27,     27,2,19950728,0208, -1.2292,  57.2372, 4347,   -999,    251.5,  12.6835,  35.0832,2,  35.0797,2,     85.2,2, 12.6495,     90.0,2,    21.20,2,    24.09,2,     0.00,2,     1.70,2,    0.810,2,    0.424,2, -999.000,9,-999.0000,9,  -999.00,9,   -999.0,9,  -999.00,9,-999.000,9,   -999.9,9,   -999.9,9,  -999.0, -999.00,-999.0000,-999.000,-999.000
    316N145_10,  I07N,   755,  1,     26,     26,2,19950728,0208, -1.2292,  57.2372, 4347,   -999,    302.2,  11.5273,  35.0140,2,  35.0195,2,    142.4,2, 11.4888,    143.3,2,    17.88,2,    20.13,2,     0.00,2,     1.45,2,    1.282,2,    0.654,2, -999.000,9,-999.0000,9,  -999.00,9,   -999.0,9,  -999.00,9,-999.000,9,   -999.9,9,   -999.9,9,  -999.0, -999.00,-999.0000,-999.000,-999.000
    316N145_10,  I07N,   755,  1,     25,     25,2,19950728,0208, -1.2292,  57.2372, 4347,   -999,    382.0,  10.4141,  34.9445,2,  34.9437,2,    126.5,2, 10.3684,    127.1,2,    23.94,2,    24.00,2,     0.00,2,     1.70,2,    0.877,2,    0.442,2, -999.000,9,-999.0000,9,  -999.00,9,   -999.0,9,  -999.00,9,-999.000,9,   -999.9,9,   -999.9,9,  -999.0, -999.00,-999.0000,-999.000,-999.000
    316N145_10,  I07N,   755,  1,     24,     24,2,19950728,0208, -1.2292,  57.2372, 4347,   -999,    500.7,  10.0983,  34.9801,2,  34.9806,2,     80.6,2, 10.0391,     80.5,2,    33.30,2,    29.24,2,     0.00,2,     2.09,2,    0.342,2,    0.176,2, -999.000,9,-999.0000,9,  -999.00,9,   -999.0,9,  -999.00,9,-999.000,9,   -999.9,9,   -999.9,9,  -999.0, -999.00,-999.0000,-999.000,-999.000
    316N145_10,  I07N,   755,  1,     23,     23,2,19950728,0208, -1.2292,  57.2372, 4347,   -999,    588.7,   9.3788,  34.9595,2,  34.9592,2,     82.6,2,  9.3120,     81.2,2,    39.88,2,    30.40,2,     0.00,2,     2.21,2,    0.256,2,    0.141,2, -999.000,9,-999.0000,9,  -999.00,9,   -999.0,9,  -999.00,9,-999.000,9,   -999.9,9,   -999.9,9,  -999.0, -999.00,-999.0000,-999.000,-999.000
    316N145_10,  I07N,   755,  1,     22,     22,2,19950728,0208, -1.2292,  57.2372, 4347,   -999,    698.9,   9.1168,  35.0376,2,  35.0384,2,     57.4,2,  9.0381,     57.7,2,    49.41,2,    32.78,2,     0.00,2,     2.44,2,    0.111,6,    0.065,6, -999.000,9,-999.0000,9,  -999.00,9,   -999.0,9,  -999.00,9,-999.000,9,   -999.9,9,   -999.9,9,  -999.0, -999.00,-999.0000,-999.000,-999.000
    316N145_10,  I07N,   755,  1,     21,     21,2,19950728,0208, -1.2292,  57.2372, 4347,   -999,    747.8,   8.5501,  34.9876,2,  34.9886,2,     63.8,2,  8.4689,     64.0,2,    54.25,2,    33.16,2,     0.00,2,     2.48,2,    0.096,2,    0.059,2, -999.000,9,-999.0000,9,  -999.00,9,   -999.0,9,  -999.00,9,-999.000,9,   -999.9,9,   -999.9,9,  -999.0, -999.00,-999.0000,-999.000,-999.000
    316N145_10,  I07N,   755,  1,     20,     20,2,19950728,0208, -1.2292,  57.2372, 4347,   -999,    798.9,   7.9892,  34.9864,2,  34.9859,2,     59.6,2,  7.9054,     60.2,2,    62.57,2,    34.24,2,     0.00,2,     2.57,2,    0.057,2,    0.032,2, -999.000,9,-999.0000,9,  -999.00,9,   -999.0,9,  -999.00,9,-999.000,9,   -999.9,9,   -999.9,9,  -999.0, -999.00,-999.0000,-999.000,-999.000
    316N145_10,  I07N,   755,  1,     19,     19,2,19950728,0208, -1.2292,  57.2372, 4347,   -999,    899.5,   7.4455,  35.0081,2,  35.0083,2,     48.2,2,  7.3541,     48.2,2,    74.05,2,    35.89,2,     0.00,2,     2.71,2,    0.017,2,    0.014,2, -999.000,9,-999.0000,9,  -999.00,9,   -999.0,9,  -999.00,9,-999.000,9,   -999.9,9,   -999.9,9,  -999.0, -999.00,-999.0000,-999.000,-999.000
    316N145_10,  I07N,   755,  1,     18,     18,2,19950728,0208, -1.2292,  57.2372, 4347,   -999,   1000.3,   6.8750,  34.9774,2,  34.9754,2,     51.3,2,  6.7770,     51.3,2,    81.01,2,    36.37,2,     0.00,2,     2.74,2,    0.008,2,    0.004,2, -999.000,9,-999.0000,9,  -999.00,9,   -999.0,9,  -999.00,9,-999.000,9,   -999.9,9,   -999.9,9,  -999.0, -999.00,-999.0000,-999.000,-999.000
    316N145_10,  I07N,   755,  1,     17,     17,2,19950728,0208, -1.2292,  57.2372, 4347,   -999,   1201.2,   5.9069,  34.9317,2,  34.9314,2,     64.2,2,  5.7963,     65.2,2,    89.58,2,    36.42,2,     0.00,2,     2.74,2,    0.006,2,    0.005,2, -999.000,9,-999.0000,9,  -999.00,9,   -999.0,9,  -999.00,9,-999.000,9,   -999.9,9,   -999.9,9,  -999.0, -999.00,-999.0000,-999.000,-999.000
    316N145_10,  I07N,   755,  1,     16,     16,2,19950728,0208, -1.2292,  57.2372, 4347,   -999,   1391.9,   5.1426,  34.8931,2,  34.8935,2,     76.5,2,  5.0205,     76.4,2,    97.47,2,    36.47,2,     0.00,2,     2.73,2,    0.003,2,    0.003,2, -999.000,9,-999.0000,9,  -999.00,9,   -999.0,9,  -999.00,9,-999.000,9,   -999.9,9,   -999.9,9,  -999.0, -999.00,-999.0000,-999.000,-999.000
    316N145_10,  I07N,   755,  1,     15,     15,2,19950728,0208, -1.2292,  57.2372, 4347,   -999,   1599.7,   3.8764,  34.8184,2,  34.8185,2,    106.9,2,  3.7490,    105.4,2,   107.19,2,    35.68,2,     0.00,2,     2.63,2,    0.001,2,   -0.003,2, -999.000,9,-999.0000,9,  -999.00,9,   -999.0,9,  -999.00,9,-999.000,9,   -999.9,9,   -999.9,9,  -999.0, -999.00,-999.0000,-999.000,-999.000
    316N145_10,  I07N,   755,  1,     14,     14,2,19950728,0208, -1.2292,  57.2372, 4347,   -999,   1835.6,   3.0377,  34.7902,2,  34.7906,2,    121.2,2,  2.8999,    121.6,2,   117.71,2,    35.35,2,     0.00,2,     2.58,2,    0.000,2,    0.000,2, -999.000,9,-999.0000,9,  -999.00,9,   -999.0,9,  -999.00,9,-999.000,9,   -999.9,9,   -999.9,9,  -999.0, -999.00,-999.0000,-999.000,-999.000
    316N145_10,  I07N,   755,  1,     13,     13,2,19950728,0208, -1.2292,  57.2372, 4347,   -999,   2055.2,   2.6336,  34.7711,2,  34.7698,2,    132.9,2,  2.4823,    133.9,2,   120.38,2,    34.89,2,     0.00,2,     2.52,2,    0.003,2,    0.005,2, -999.000,9,-999.0000,9,  -999.00,9,   -999.0,9,  -999.00,9,-999.000,9,   -999.9,9,   -999.9,9,  -999.0, -999.00,-999.0000,-999.000,-999.000
    316N145_10,  I07N,   755,  1,     12,     12,2,19950728,0208, -1.2292,  57.2372, 4347,   -999,   2248.1,   2.3779,  34.7623,2,  34.7617,2,    139.9,2,  2.2134,    140.3,2,   123.95,2,    34.75,2,     0.00,2,     2.50,2, -999.000,9, -999.000,9, -999.000,9,-999.0000,9,  -999.00,9,   -999.0,9,  -999.00,9,-999.000,9,   -999.9,9,   -999.9,9,  -999.0, -999.00,-999.0000,-999.000,-999.000
    316N145_10,  I07N,   755,  1,     11,     11,2,19950728,0208, -1.2292,  57.2372, 4347,   -999,   2449.9,   2.1842,  34.7520,2,  34.7505,2,    147.9,2,  2.0048,    147.5,2,   124.64,2,    34.24,2,     0.00,2,     2.47,2, -999.000,9, -999.000,9, -999.000,9,-999.0000,9,  -999.00,9,   -999.0,9,  -999.00,9,-999.000,9,   -999.9,9,   -999.9,9,  -999.0, -999.00,-999.0000,-999.000,-999.000
    316N145_10,  I07N,   755,  1,     10,     10,2,19950728,0208, -1.2292,  57.2372, 4347,   -999,   2656.8,   1.9653,  34.7400,2,  34.7399,2,    157.0,2,  1.7709,    157.3,2,   125.50,2,    34.01,2,     0.00,2,     2.42,2, -999.000,9, -999.000,9, -999.000,9,-999.0000,9,  -999.00,9,   -999.0,9,  -999.00,9,-999.000,9,   -999.9,9,   -999.9,9,  -999.0, -999.00,-999.0000,-999.000,-999.000
    316N145_10,  I07N,   755,  1,      9,      9,2,19950728,0208, -1.2292,  57.2372, 4347,   -999,   2932.6,   1.7640,  34.7305,2,  34.7305,2,    166.4,2,  1.5477,    167.2,2,   124.55,2,    33.54,2,     0.00,2,     2.36,2, -999.000,9, -999.000,9, -999.000,9,-999.0000,9,  -999.00,9,   -999.0,9,  -999.00,9,-999.000,9,   -999.9,9,   -999.9,9,  -999.0, -999.00,-999.0000,-999.000,-999.000
    316N145_10,  I07N,   755,  1,      8,      8,2,19950728,0208, -1.2292,  57.2372, 4347,   -999,   3053.4,   1.7372,  34.7333,2,  34.7340,2,    163.2,2,  1.5098,    163.5,2,   129.06,2,    33.83,2,     0.00,2,     2.40,2, -999.000,9, -999.000,9, -999.000,9,-999.0000,9,  -999.00,9,   -999.0,9,  -999.00,9,-999.000,9,   -999.9,9,   -999.9,9,  -999.0, -999.00,-999.0000,-999.000,-999.000
    316N145_10,  I07N,   755,  1,      7,      7,2,19950728,0208, -1.2292,  57.2372, 4347,   -999,   3200.4,   1.6735,  34.7322,2,  34.7310,2,    164.0,2,  1.4331,    165.6,2,   130.11,2,    33.78,2,     0.00,2,     2.38,2, -999.000,9, -999.000,9, -999.000,9,-999.0000,9,  -999.00,9,   -999.0,9,  -999.00,9,-999.000,9,   -999.9,9,   -999.9,9,  -999.0, -999.00,-999.0000,-999.000,-999.000
    316N145_10,  I07N,   755,  1,      6,      6,2,19950728,0208, -1.2292,  57.2372, 4347,   -999,   3449.6,   1.6436,  34.7311,2,  34.7300,2,    166.8,2,  1.3789,    166.8,2,   130.62,2,    33.79,2,     0.00,2,     2.39,2, -999.000,9, -999.000,9, -999.000,9,-999.0000,9,  -999.00,9,   -999.0,9,  -999.00,9,-999.000,9,   -999.9,9,   -999.9,9,  -999.0, -999.00,-999.0000,-999.000,-999.000
    316N145_10,  I07N,   755,  1,      5,      5,2,19950728,0208, -1.2292,  57.2372, 4347,   -999,   3699.3,   1.6045,  34.7293,2,  34.7269,2,    168.7,2,  1.3149,    169.1,2,   131.12,2,    33.60,2,     0.00,2,     2.38,2, -999.000,9, -999.000,9, -999.000,9,-999.0000,9,  -999.00,9,   -999.0,9,  -999.00,9,-999.000,9,   -999.9,9,   -999.9,9,  -999.0, -999.00,-999.0000,-999.000,-999.000
    316N145_10,  I07N,   755,  1,      4,      4,2,19950728,0208, -1.2292,  57.2372, 4347,   -999,   3951.5,   1.5223,  34.7251,2,  34.7259,2,    173.6,2,  1.2079,    173.5,2,   131.08,2,    33.56,2,     0.00,2,     2.36,2, -999.000,9, -999.000,9, -999.000,9,-999.0000,9,  -999.00,9,   -999.0,9,  -999.00,9,-999.000,9,   -999.9,9,   -999.9,9,  -999.0, -999.00,-999.0000,-999.000,-999.000
    316N145_10,  I07N,   755,  1,      3,      3,2,19950728,0208, -1.2292,  57.2372, 4347,   -999,   4202.4,   1.4486,  34.7224,2,  34.7222,2,    177.2,2,  1.1088,    177.1,2,   131.58,2,    33.38,2,     0.00,2,     2.36,2, -999.000,9, -999.000,9, -999.000,9,-999.0000,9,  -999.00,9,   -999.0,9,  -999.00,9,-999.000,9,   -999.9,9,   -999.9,9,  -999.0, -999.00,-999.0000,-999.000,-999.000
    316N145_10,  I07N,   755,  1,      2,      2,2,19950728,0208, -1.2292,  57.2372, 4347,   -999,   4401.7,   1.3972,  34.7198,2,  34.7194,2,    181.4,2,  1.0366,    181.1,2,   131.54,2,    33.19,2,     0.00,2,     2.33,2, -999.000,9, -999.000,9, -999.000,9,-999.0000,9,  -999.00,9,   -999.0,9,  -999.00,9,-999.000,9,   -999.9,9,   -999.9,9,  -999.0, -999.00,-999.0000,-999.000,-999.000
    316N145_10,  I07N,   755,  1,      1,      1,2,19950728,0208, -1.2292,  57.2372, 4347,   -999,   4447.8,   1.3913,  34.7205,2,  34.7200,2,    182.0,2,  1.0256,    181.3,2,   131.13,2,    33.15,2,     0.00,2,     2.33,2, -999.000,9, -999.000,9, -999.000,9,-999.0000,9,  -999.00,9,   -999.0,9,  -999.00,9,-999.000,9,   -999.9,9,   -999.9,9,  -999.0, -999.00,-999.0000,-999.000,-999.000