BOTTLE,20080821WHPSIOSCD
EXPOCODE,SECT_ID,STNNBR,CASTNO,SAMPNO,BTLNBR,BTLNBR_FLAG_W,DATE,TIME,LATITUDE,LONGITUDE,DEPTH,CTDRAW,CTDPRS,CTDTMP,CTDSAL,CTDSAL_FLAG_W,SALNTY,SALNTY_FLAG_W,CTDOXY,CTDOXY_FLAG_W,THETA,OXYGEN,OXYGEN_FLAG_W,SILCAT,SILCAT_FLAG_W,NITRAT,NITRAT_FLAG_W,NITRIT,NITRIT_FLAG_W,PHSPHT,PHSPHT_FLAG_W,CFC-11,CFC-11_FLAG_W,CFC-12,CFC-12_FLAG_W,TRITUM,TRITUM_FLAG_W,HELIUM,HELIUM_FLAG_W,DELHE3,DELHE3_FLAG_W,DELC14,DELC14_FLAG_W,DELC13,DELC13_FLAG_W,NEON,NEON_FLAG_W,TCARBN,TCARBN_FLAG_W,ALKALI,ALKALI_FLAG_W,C14ERR,DELHER,HELIER,NEONER,TRITER
,,,,,,,,,,,,,DBAR,ITS-90,PSS-78,,PSS-78,,UMOL/KG,,DEG C,UMOL/KG,,UMOL/KG,,UMOL/KG,,UMOL/KG,,UMOL/KG,,PMOL/KG,,PMOL/KG,,TU,,NMOL/KG,,PERCNT,,/MILLE,,/MILLE,,NMOL/KG,,UMOL/KG,,UMOL/KG,,/MILLE,PERCNT,NMOL/KG,NMOL/KG,TU
    316N145_10,  I07N,   844,  1,     36,     36,2,19950820,0329, 23.6048,  60.1732, 3345,   -999,      4.3,  30.0980,  36.8334,2,  36.8292,2,    157.1,2, 30.0972,    187.7,2,     3.49,2,     0.01,2,     0.00,2,     0.35,2,    1.512,2,    0.861,2, -999.000,9,-999.0000,9,  -999.00,9,   -999.0,9,  -999.00,9,-999.000,9,   2028.0,2,   2415.1,2,  -999.0, -999.00,-999.0000,-999.000,-999.000
    316N145_10,  I07N,   844,  1,     35,     35,2,19950820,0329, 23.6048,  60.1732, 3345,   -999,     16.0,  24.4479,  36.4938,2,  36.4871,2,    142.0,2, 24.4447,    151.1,2,     6.59,2,     5.80,2,     0.14,2,     0.85,2, -999.000,9, -999.000,9, -999.000,9,-999.0000,9,  -999.00,9,   -999.0,9,  -999.00,9,-999.000,9,   2113.3,2,   -999.9,5,  -999.0, -999.00,-999.0000,-999.000,-999.000
    316N145_10,  I07N,   844,  1,     34,     34,2,19950820,0329, 23.6048,  60.1732, 3345,   -999,     36.0,  21.3304,  36.2325,2,  36.2244,2,     14.0,2, 21.3236,      7.6,2,    14.88,2,    23.36,2,     0.06,2,     2.09,2, -999.000,9, -999.000,9, -999.000,9,-999.0000,9,  -999.00,9,   -999.0,9,  -999.00,9,-999.000,9,   2224.2,2,   2361.9,2,  -999.0, -999.00,-999.0000,-999.000,-999.000
    316N145_10,  I07N,   844,  1,     33,     33,2,19950820,0329, 23.6048,  60.1732, 3345,   -999,     56.1,  20.1073,  36.1386,2,  36.1404,2,      3.9,2, 20.0970,      3.9,2,    18.32,2,    22.98,2,     0.02,2,     2.21,2,    1.178,2,    0.682,2, -999.000,9,-999.0000,9,  -999.00,9,   -999.0,9,  -999.00,9,-999.000,9,   2233.4,2,   -999.9,5,  -999.0, -999.00,-999.0000,-999.000,-999.000
    316N145_10,  I07N,   844,  1,     32,     32,2,19950820,0329, 23.6048,  60.1732, 3345,   -999,     75.9,  19.9805,  36.4107,2,  36.4479,2,     11.6,2, 19.9666,     17.0,2,    18.46,2,    20.79,2,     0.02,2,     2.06,2, -999.000,9, -999.000,9, -999.000,9,-999.0000,9,  -999.00,9,   -999.0,9,  -999.00,9,-999.000,9,   2231.2,2,   2372.4,2,  -999.0, -999.00,-999.0000,-999.000,-999.000
    316N145_10,  I07N,   844,  1,     31,     31,2,19950820,0329, 23.6048,  60.1732, 3345,   -999,     91.0,  20.2366,  36.7379,2,  36.7365,2,     26.5,2, 20.2197,     29.8,2,    17.57,2,    19.23,2,     0.02,2,     1.93,2, -999.000,9, -999.000,9, -999.000,9,-999.0000,9,  -999.00,9,   -999.0,9,  -999.00,9,-999.000,9,   2224.9,2,   -999.9,5,  -999.0, -999.00,-999.0000,-999.000,-999.000
    316N145_10,  I07N,   844,  1,     30,     30,2,19950820,0329, 23.6048,  60.1732, 3345,   -999,    105.6,  20.2859,  36.9658,2,  36.9122,2,     32.3,2, 20.2662,     37.5,2,    17.55,2,    18.28,2,     0.02,2,     1.84,2,    1.208,3,    2.338,3, -999.000,9,-999.0000,9,  -999.00,9,   -999.0,9,  -999.00,9,-999.000,9,   2224.5,2,   2393.6,2,  -999.0, -999.00,-999.0000,-999.000,-999.000
    316N145_10,  I07N,   844,  1,     29,     29,2,19950820,0329, 23.6048,  60.1732, 3345,   -999,    130.1,  18.3807,  36.5041,2,  36.5217,2,     16.9,2, 18.3580,     17.5,2,    21.67,2,    20.46,2,     0.02,2,     2.10,2, -999.000,9, -999.000,9, -999.000,9,-999.0000,9,  -999.00,9,   -999.0,9,  -999.00,9,-999.000,9,   2240.9,2,   -999.9,5,  -999.0, -999.00,-999.0000,-999.000,-999.000
    316N145_10,  I07N,   844,  1,     28,     28,2,19950820,0329, 23.6048,  60.1732, 3345,   -999,    150.1,  18.4005,  36.6062,2,  36.6284,2,     21.4,2, 18.3743,     22.0,2,    21.65,2,    20.03,2,     0.02,2,     2.06,2,    0.949,2,    0.834,3, -999.000,9,-999.0000,9,  -999.00,9,   -999.0,9,  -999.00,9,-999.000,9,   2241.3,2,   2382.1,2,  -999.0, -999.00,-999.0000,-999.000,-999.000
    316N145_10,  I07N,   844,  1,     27,     27,2,19950820,0329, 23.6048,  60.1732, 3345,   -999,    170.1,  19.7487,  37.2204,2,  37.2140,2,     52.2,2, 19.7174,     49.4,2,    17.65,2,    17.00,2,     0.02,2,     1.74,2,    1.225,3,    3.717,3, -999.000,9,-999.0000,9,  -999.00,9,   -999.0,9,  -999.00,9,-999.000,9,   2224.0,2,   -999.9,5,  -999.0, -999.00,-999.0000,-999.000,-999.000
    316N145_10,  I07N,   844,  1,     26,     26,2,19950820,0329, 23.6048,  60.1732, 3345,   -999,    210.5,  16.7613,  36.4135,2,  36.4147,2,      6.0,2, 16.7267,      8.7,2,    25.92,2,    21.40,2,     0.01,2,     2.24,2,    0.713,2,    0.525,2, -999.000,9,-999.0000,9,  -999.00,9,   -999.0,9,  -999.00,9,-999.000,9,   2259.5,2,   2373.9,2,  -999.0, -999.00,-999.0000,-999.000,-999.000
    316N145_10,  I07N,   844,  1,     25,     25,2,19950820,0329, 23.6048,  60.1732, 3345,   -999,    260.7,  15.1635,  36.1251,2,  36.1208,2,      1.0,2, 15.1234,      1.0,2,    31.08,2,    22.67,2,     0.01,2,     2.42,2,    0.486,2,    0.305,2, -999.000,9,-999.0000,9,  -999.00,9,   -999.0,9,  -999.00,9,-999.000,9,   2269.9,2,   -999.9,5,  -999.0, -999.00,-999.0000,-999.000,-999.000
    316N145_10,  I07N,   844,  1,     24,     24,2,19950820,0329, 23.6048,  60.1732, 3345,   -999,    299.8,  14.2087,  35.9889,2,  35.9854,2,      1.1,2, 14.1646,      0.8,2,    35.37,2,    22.56,2,     0.46,2,     2.52,2,    0.345,2,    0.218,2, -999.000,9,-999.0000,9,  -999.00,9,   -999.0,9,  -999.00,9,-999.000,9,   2276.2,2,   2360.8,2,  -999.0, -999.00,-999.0000,-999.000,-999.000
    316N145_10,  I07N,   844,  1,     23,     23,2,19950820,0329, 23.6048,  60.1732, 3345,   -999,    399.3,  12.8088,  35.7879,2,  35.7891,2,      1.2,2, 12.7537,      1.1,2,    41.91,2,    25.65,2,     0.01,2,     2.63,2,    0.218,2,    0.152,2, -999.000,9,-999.0000,9,  -999.00,9,   -999.0,9,  -999.00,9,-999.000,9,   2278.6,2,   -999.9,5,  -999.0, -999.00,-999.0000,-999.000,-999.000
    316N145_10,  I07N,   844,  1,     22,     22,2,19950820,0329, 23.6048,  60.1732, 3345,   -999,    497.7,  12.0089,  35.7031,2,  35.7033,2,      1.3,2, 11.9428,      0.8,2,    48.44,2,    26.63,2,     0.12,2,     2.72,2,    0.102,2,    0.065,2, -999.000,9,-999.0000,9,  -999.00,9,   -999.0,9,  -999.00,9,-999.000,9,   2284.5,2,   2361.1,2,  -999.0, -999.00,-999.0000,-999.000,-999.000
    316N145_10,  I07N,   844,  1,     21,     21,2,19950820,0329, 23.6048,  60.1732, 3345,   -999,    598.9,  11.2822,  35.6275,2,  35.6290,2,      1.4,2, 11.2054,      1.2,2,    54.29,2,    29.45,2,     0.00,2,     2.78,2,    0.062,2,    0.044,2, -999.000,9,-999.0000,9,  -999.00,9,   -999.0,9,  -999.00,9,-999.000,9,   2290.5,2,   -999.9,5,  -999.0, -999.00,-999.0000,-999.000,-999.000
    316N145_10,  I07N,   844,  1,     20,     20,2,19950820,0329, 23.6048,  60.1732, 3345,   -999,    699.6,  10.4783,  35.5625,2,  35.5634,2,      1.5,2, 10.3923,      1.7,2,    61.53,2,    32.20,2,     0.00,2,     2.85,2,    0.042,2,    0.030,2, -999.000,9,-999.0000,9,  -999.00,9,   -999.0,9,  -999.00,9,-999.000,9,   2295.5,2,   2367.0,2,  -999.0, -999.00,-999.0000,-999.000,-999.000
    316N145_10,  I07N,   844,  1,     19,     19,2,19950820,0329, 23.6048,  60.1732, 3345,   -999,    799.5,   9.8401,  35.5028,2,  35.5035,2,      1.5,2,  9.7450,      1.8,2,    67.56,2,    33.73,2,     0.00,2,     2.90,2,    0.025,2,    0.011,2, -999.000,9,-999.0000,9,  -999.00,9,   -999.0,9,  -999.00,9,-999.000,9,   2304.9,2,   -999.9,5,  -999.0, -999.00,-999.0000,-999.000,-999.000
    316N145_10,  I07N,   844,  1,     18,     18,2,19950820,0329, 23.6048,  60.1732, 3345,   -999,    899.7,   9.1299,  35.4347,2,  35.4354,2,      1.6,2,  9.0269,      2.2,2,    74.12,2,    35.40,2,     0.00,2,     2.97,2,    0.021,2,    0.014,2, -999.000,9,-999.0000,9,  -999.00,9,   -999.0,9,  -999.00,9,-999.000,9,   2377.1,4,   2381.3,2,  -999.0, -999.00,-999.0000,-999.000,-999.000
    316N145_10,  I07N,   844,  1,     17,     17,2,19950820,0329, 23.6048,  60.1732, 3345,   -999,   1003.1,   8.3512,  35.3535,2,  35.3531,2,      2.3,2,  8.2415,      3.3,2,    81.06,2,    36.98,2,     0.01,2,     3.04,2,    0.015,2,    0.006,2, -999.000,9,-999.0000,9,  -999.00,9,   -999.0,9,  -999.00,9,-999.000,9,   2323.1,2,   -999.9,5,  -999.0, -999.00,-999.0000,-999.000,-999.000
    316N145_10,  I07N,   844,  1,     16,     16,2,19950820,0329, 23.6048,  60.1732, 3345,   -999,   1101.2,   7.6592,  35.2795,2,  35.2789,2,      6.0,2,  7.5437,      7.0,2,    87.49,2,    37.85,2,     0.00,2,     3.08,2, -999.000,9, -999.000,9, -999.000,9,-999.0000,9,  -999.00,9,   -999.0,9,  -999.00,9,-999.000,9,   2330.5,2,   2386.7,2,  -999.0, -999.00,-999.0000,-999.000,-999.000
    316N145_10,  I07N,   844,  1,     15,     15,2,19950820,0329, 23.6048,  60.1732, 3345,   -999,   1200.9,   7.1433,  35.2250,2,  35.2248,2,     11.6,2,  7.0212,     11.3,2,    92.37,2,    38.33,2,     0.00,2,     3.10,2,    0.005,2,    0.003,2, -999.000,9,-999.0000,9,  -999.00,9,   -999.0,9,  -999.00,9,-999.000,9,   2336.1,2,   -999.9,5,  -999.0, -999.00,-999.0000,-999.000,-999.000
    316N145_10,  I07N,   844,  1,     14,     14,2,19950820,0329, 23.6048,  60.1732, 3345,   -999,   1374.6,   6.0418,  35.1117,2,  35.1113,2,     25.8,2,  5.9118,     24.2,2,   103.49,2,    38.76,2,     0.01,2,     3.10,2,    0.008,2,    0.005,2, -999.000,9,-999.0000,9,  -999.00,9,   -999.0,9,  -999.00,9,-999.000,9,   2344.7,2,   2402.4,2,  -999.0, -999.00,-999.0000,-999.000,-999.000
    316N145_10,  I07N,   844,  1,     13,     13,2,19950820,0329, 23.6048,  60.1732, 3345,   -999,   1548.7,   4.9838,  35.0102,2,  35.0113,2,     45.4,2,  4.8477,     40.9,2,   114.76,2,    38.76,2,     0.00,2,     3.05,2, -999.000,9, -999.000,9, -999.000,9,-999.0000,9,  -999.00,9,   -999.0,9,  -999.00,9,-999.000,9,   2350.4,2,   -999.9,5,  -999.0, -999.00,-999.0000,-999.000,-999.000
    316N145_10,  I07N,   844,  1,     12,     12,2,19950820,0329, 23.6048,  60.1732, 3345,   -999,   1725.2,   3.9519,  34.9169,2,  34.9185,2,     67.7,2,  3.8117,     60.0,2,   126.05,2,    38.51,2,     0.01,2,     2.97,2, -999.000,9, -999.000,9, -999.000,9,-999.0000,9,  -999.00,9,   -999.0,9,  -999.00,9,-999.000,9,   2355.5,2,   2422.9,2,  -999.0, -999.00,-999.0000,-999.000,-999.000
    316N145_10,  I07N,   844,  1,     11,     11,2,19950820,0329, 23.6048,  60.1732, 3345,   -999,   1899.3,   3.3030,  34.8613,2,  34.8616,2,     83.5,2,  3.1556,     74.9,2,   133.45,2,    38.13,2,     0.00,2,     2.89,2,    0.000,2,    0.006,2, -999.000,9,-999.0000,9,  -999.00,9,   -999.0,9,  -999.00,9,-999.000,9,   2358.3,2,   -999.9,5,  -999.0, -999.00,-999.0000,-999.000,-999.000
    316N145_10,  I07N,   844,  1,     10,     10,2,19950820,0329, 23.6048,  60.1732, 3345,   -999,   2074.7,   2.9410,  34.8318,2,  34.8296,2,     91.9,2,  2.7830,     83.6,2,   137.93,2,    37.83,2,     0.00,2,     2.85,2,   -0.001,2,    0.001,2, -999.000,9,-999.0000,9,  -999.00,9,   -999.0,9,  -999.00,9,-999.000,9,   2359.3,2,   2437.8,2,  -999.0, -999.00,-999.0000,-999.000,-999.000
    316N145_10,  I07N,   844,  1,      9,      9,2,19950820,0329, 23.6048,  60.1732, 3345,   -999,   2247.9,   2.5522,  34.8005,2,  34.7983,2,    102.3,2,  2.3847,     93.8,2,   142.46,2,    37.54,2,     0.00,2,     2.79,2, -999.000,9, -999.000,9, -999.000,9,-999.0000,9,  -999.00,9,   -999.0,9,  -999.00,9,-999.000,9,   2360.8,2,   -999.9,5,  -999.0, -999.00,-999.0000,-999.000,-999.000
    316N145_10,  I07N,   844,  1,      8,      8,2,19950820,0329, 23.6048,  60.1732, 3345,   -999,   2425.2,   2.2780,  34.7798,2,  34.7779,2,    106.9,2,  2.0991,    101.1,2,   146.07,2,    37.29,2,     0.00,2,     2.75,2,    0.003,2,    0.006,2, -999.000,9,-999.0000,9,  -999.00,9,   -999.0,9,  -999.00,9,-999.000,9,   2362.1,2,   2451.6,2,  -999.0, -999.00,-999.0000,-999.000,-999.000
    316N145_10,  I07N,   844,  1,      7,      7,2,19950820,0329, 23.6048,  60.1732, 3345,   -999,   2600.1,   2.0263,  34.7612,2,  34.7598,2,    111.8,2,  1.8360,    107.5,2,   149.33,2,    37.00,2,     0.00,2,     2.72,2,    0.000,2,    0.002,2, -999.000,9,-999.0000,9,  -999.00,9,   -999.0,9,  -999.00,9,-999.000,9,   2365.1,2,   -999.9,5,  -999.0, -999.00,-999.0000,-999.000,-999.000
    316N145_10,  I07N,   844,  1,      6,      6,2,19950820,0329, 23.6048,  60.1732, 3345,   -999,   2749.9,   1.9049,  34.7527,2,  34.7498,2,    112.3,2,  1.7030,    110.2,2,   151.63,2,    36.89,2,     0.00,2,     2.70,2,    0.005,2,    0.014,2, -999.000,9,-999.0000,9,  -999.00,9,   -999.0,9,  -999.00,9,-999.000,9,   2368.7,2,   2464.2,2,  -999.0, -999.00,-999.0000,-999.000,-999.000
    316N145_10,  I07N,   844,  1,      5,      5,2,19950820,0329, 23.6048,  60.1732, 3345,   -999,   2897.4,   1.8685,  34.7495,2,  34.7486,2,    110.7,2,  1.6533,    110.8,2,   152.55,2,    36.84,2,     0.00,2,     2.71,2,    0.009,2,    0.018,2, -999.000,9,-999.0000,9,  -999.00,9,   -999.0,9,  -999.00,9,-999.000,9,   2370.8,2,   -999.9,5,  -999.0, -999.00,-999.0000,-999.000,-999.000
    316N145_10,  I07N,   844,  1,      4,      4,2,19950820,0329, 23.6048,  60.1732, 3345,   -999,   3046.0,   1.8460,  34.7473,2,  34.7443,3,    108.4,2,  1.6169,    110.9,2,   153.48,2,    36.69,2,     0.00,2,     2.70,2,    0.007,2,    0.025,2, -999.000,9,-999.0000,9,  -999.00,9,   -999.0,9,  -999.00,9,-999.000,9,   2372.7,2,   2466.5,2,  -999.0, -999.00,-999.0000,-999.000,-999.000
    316N145_10,  I07N,   844,  1,      3,      3,2,19950820,0329, 23.6048,  60.1732, 3345,   -999,   3205.4,   1.8389,  34.7453,2,  34.7426,3,    105.4,2,  1.5942,    110.5,2,   154.21,2,    36.64,2,     0.00,2,     2.71,2,    0.012,2,    0.032,2, -999.000,9,-999.0000,9,  -999.00,9,   -999.0,9,  -999.00,9,-999.000,9,   2374.0,2,   -999.9,5,  -999.0, -999.00,-999.0000,-999.000,-999.000
    316N145_10,  I07N,   844,  1,      2,      2,2,19950820,0329, 23.6048,  60.1732, 3345,   -999,   3336.7,   1.8258,  34.7441,2,  34.7443,2,    102.2,2,  1.5681,    108.6,2,   155.54,2,    36.58,2,     0.00,2,     2.72,2,    0.020,2,    0.055,2, -999.000,9,-999.0000,9,  -999.00,9,   -999.0,9,  -999.00,9,-999.000,9,   2379.4,2,   2477.3,2,  -999.0, -999.00,-999.0000,-999.000,-999.000
    316N145_10,  I07N,   844,  1,      1,      1,2,19950820,0329, 23.6048,  60.1732, 3345,   -999,   3387.2,   1.8228,  34.7425,2,  34.7418,2,     99.4,2,  1.5600,    107.7,2,   155.68,2,    36.48,2,     0.00,2,     2.73,2,    0.021,2,    0.059,2, -999.000,9,-999.0000,9,  -999.00,9,   -999.0,9,  -999.00,9,-999.000,9,   2381.4,2,   2476.5,2,  -999.0, -999.00,-999.0000,-999.000,-999.000