BOTTLE,20080821WHPSIOSCD
EXPOCODE,SECT_ID,STNNBR,CASTNO,SAMPNO,BTLNBR,BTLNBR_FLAG_W,DATE,TIME,LATITUDE,LONGITUDE,DEPTH,CTDRAW,CTDPRS,CTDTMP,CTDSAL,CTDSAL_FLAG_W,SALNTY,SALNTY_FLAG_W,CTDOXY,CTDOXY_FLAG_W,THETA,OXYGEN,OXYGEN_FLAG_W,SILCAT,SILCAT_FLAG_W,NITRAT,NITRAT_FLAG_W,NITRIT,NITRIT_FLAG_W,PHSPHT,PHSPHT_FLAG_W,CFC-11,CFC-11_FLAG_W,CFC-12,CFC-12_FLAG_W,TRITUM,TRITUM_FLAG_W,HELIUM,HELIUM_FLAG_W,DELHE3,DELHE3_FLAG_W,DELC14,DELC14_FLAG_W,DELC13,DELC13_FLAG_W,NEON,NEON_FLAG_W,TCARBN,TCARBN_FLAG_W,ALKALI,ALKALI_FLAG_W,C14ERR,DELHER,HELIER,NEONER,TRITER
,,,,,,,,,,,,,DBAR,ITS-90,PSS-78,,PSS-78,,UMOL/KG,,DEG C,UMOL/KG,,UMOL/KG,,UMOL/KG,,UMOL/KG,,UMOL/KG,,PMOL/KG,,PMOL/KG,,TU,,NMOL/KG,,PERCNT,,/MILLE,,/MILLE,,NMOL/KG,,UMOL/KG,,UMOL/KG,,/MILLE,PERCNT,NMOL/KG,NMOL/KG,TU
    316N145_10,  I07N,   815,  1,     36,     36,2,19950813,0735, 19.3332,  64.3335, 3279,   -999,      5.2,  27.5288,  36.6370,2,  36.6369,2,    200.0,2, 27.5279,    196.3,2,     2.34,2,     0.00,2,     0.00,2,     0.36,2,    1.641,2,    0.932,2, -999.000,9,-999.0000,9,  -999.00,9,   -999.0,9,  -999.00,9,-999.000,9,   2031.7,2,   2392.8,2,  -999.0, -999.00,-999.0000,-999.000,-999.000
    316N145_10,  I07N,   815,  1,     35,     35,2,19950813,0735, 19.3332,  64.3335, 3279,   -999,     21.8,  27.5346,  36.6513,2,  36.6508,2,    194.8,2, 27.5298,    196.6,2,     2.34,2,     0.10,2,     0.00,2,     0.36,2, -999.000,9, -999.000,9, -999.000,9,-999.0000,9,  -999.00,9,   -999.0,9,  -999.00,9,-999.000,9,   -999.9,9,   -999.9,9,  -999.0, -999.00,-999.0000,-999.000,-999.000
    316N145_10,  I07N,   815,  1,     34,     34,2,19950813,0735, 19.3332,  64.3335, 3279,   -999,     41.6,  27.6701,  36.7597,2,  36.7611,2,    197.4,2, 27.6606,    196.0,2,     2.15,2,     0.00,2,     0.00,2,     0.33,2, -999.000,9, -999.000,9, -999.000,9,-999.0000,9,  -999.00,9,   -999.0,9,  -999.00,9,-999.000,9,   -999.9,9,   -999.9,9,  -999.0, -999.00,-999.0000,-999.000,-999.000
    316N145_10,  I07N,   815,  1,     33,     33,2,19950813,0735, 19.3332,  64.3335, 3279,   -999,     61.5,  27.5476,  36.7527,2,  36.7212,2,    201.0,2, 27.5335,    187.6,2,     2.24,2,     0.88,2,     0.07,2,     0.41,2,    1.646,2,    0.939,2, -999.000,9,-999.0000,9,  -999.00,9,   -999.0,9,  -999.00,9,-999.000,9,   -999.9,9,   -999.9,9,  -999.0, -999.00,-999.0000,-999.000,-999.000
    316N145_10,  I07N,   815,  1,     32,     32,2,19950813,0735, 19.3332,  64.3335, 3279,   -999,     81.1,  24.2638,  36.5233,2,  36.5176,2,    140.4,2, 24.2467,    135.0,2,     4.69,2,     9.96,2,     0.08,2,     1.00,2,    1.782,2,    1.009,2, -999.000,9,-999.0000,9,  -999.00,9,   -999.0,9,  -999.00,9,-999.000,9,   -999.9,9,   -999.9,9,  -999.0, -999.00,-999.0000,-999.000,-999.000
    316N145_10,  I07N,   815,  1,     31,     31,2,19950813,0735, 19.3332,  64.3335, 3279,   -999,    100.8,  23.6263,  36.4393,2,  36.4345,2,    114.3,2, 23.6054,    109.1,2,     6.64,2,    13.37,2,     0.02,2,     1.20,2,    1.715,2,    0.973,2, -999.000,9,-999.0000,9,  -999.00,9,   -999.0,9,  -999.00,9,-999.000,9,   -999.9,9,   -999.9,9,  -999.0, -999.00,-999.0000,-999.000,-999.000
    316N145_10,  I07N,   815,  1,     30,     30,2,19950813,0735, 19.3332,  64.3335, 3279,   -999,    121.4,  22.5543,  36.3098,2,  36.2736,2,     77.1,2, 22.5299,     54.0,2,    10.84,2,    19.04,2,     0.03,2,     1.65,2,    1.558,2,    0.883,2, -999.000,9,-999.0000,9,  -999.00,9,   -999.0,9,  -999.00,9,-999.000,9,   -999.9,9,   -999.9,9,  -999.0, -999.00,-999.0000,-999.000,-999.000
    316N145_10,  I07N,   815,  1,     29,     29,2,19950813,0735, 19.3332,  64.3335, 3279,   -999,    146.0,  20.3763,  35.9946,2,  35.9848,2,      1.8,2, 20.3490,      1.7,2,    16.60,2,    24.31,2,     0.03,2,     2.17,2, -999.000,9, -999.000,9, -999.000,9,-999.0000,9,  -999.00,9,   -999.0,9,  -999.00,9,-999.000,9,   -999.9,9,   -999.9,9,  -999.0, -999.00,-999.0000,-999.000,-999.000
    316N145_10,  I07N,   815,  1,     28,     28,2,19950813,0735, 19.3332,  64.3335, 3279,   -999,    180.9,  18.4569,  35.9897,2,  35.9907,2,      1.0,2, 18.4253,      1.0,2,    22.07,2,    21.58,2,     0.51,2,     2.28,2,    0.872,2,    0.544,2, -999.000,9,-999.0000,9,  -999.00,9,   -999.0,9,  -999.00,9,-999.000,9,   -999.9,9,   -999.9,9,  -999.0, -999.00,-999.0000,-999.000,-999.000
    316N145_10,  I07N,   815,  1,     27,     27,2,19950813,0735, 19.3332,  64.3335, 3279,   -999,    221.8,  17.5745,  36.0995,2,  36.0987,2,      1.0,2, 17.5369,      1.3,2,    24.51,2,    21.48,2,     0.01,2,     2.28,2, -999.000,9, -999.000,9, -999.000,9,-999.0000,9,  -999.00,9,   -999.0,9,  -999.00,9,-999.000,9,   -999.9,9,   -999.9,9,  -999.0, -999.00,-999.0000,-999.000,-999.000
    316N145_10,  I07N,   815,  1,     26,     26,2,19950813,0735, 19.3332,  64.3335, 3279,   -999,    257.1,  16.6865,  36.1513,2,  36.1548,2,      1.1,2, 16.6443,      1.3,2,    26.75,2,    20.31,2,     0.63,2,     2.31,2,    0.611,2,    0.390,2, -999.000,9,-999.0000,9,  -999.00,9,   -999.0,9,  -999.00,9,-999.000,9,   -999.9,9,   -999.9,9,  -999.0, -999.00,-999.0000,-999.000,-999.000
    316N145_10,  I07N,   815,  1,     25,     25,2,19950813,0735, 19.3332,  64.3335, 3279,   -999,    302.2,  15.3903,  36.0405,2,  36.0276,2,      1.1,2, 15.3433,      1.2,2,    30.66,2,    18.65,2,     2.34,2,     2.41,2,    0.424,2,    0.272,2, -999.000,9,-999.0000,9,  -999.00,9,   -999.0,9,  -999.00,9,-999.000,9,   -999.9,9,   -999.9,9,  -999.0, -999.00,-999.0000,-999.000,-999.000
    316N145_10,  I07N,   815,  1,     24,     24,2,19950813,0735, 19.3332,  64.3335, 3279,   -999,    342.8,  14.7041,  35.9957,2,  36.0004,2,      1.2,2, 14.6524,      1.1,2,    32.52,2,    19.92,2,     2.04,2,     2.45,2,    0.373,2,    0.242,2, -999.000,9,-999.0000,9,  -999.00,9,   -999.0,9,  -999.00,9,-999.000,9,   -999.9,9,   -999.9,9,  -999.0, -999.00,-999.0000,-999.000,-999.000
    316N145_10,  I07N,   815,  1,     23,     23,2,19950813,0735, 19.3332,  64.3335, 3279,   -999,    403.2,  13.8568,  35.9259,2,  35.9191,2,      1.3,2, 13.7982,      1.2,2,    36.52,2,    21.97,2,     1.16,2,     2.52,2, -999.000,9, -999.000,9, -999.000,9,-999.0000,9,  -999.00,9,   -999.0,9,  -999.00,9,-999.000,9,   -999.9,9,   -999.9,9,  -999.0, -999.00,-999.0000,-999.000,-999.000
    316N145_10,  I07N,   815,  1,     22,     22,2,19950813,0735, 19.3332,  64.3335, 3279,   -999,    453.5,  13.2430,  35.8425,2,  35.8388,2,      1.3,2, 13.1789,      1.3,2,    39.55,2,    23.93,2,     0.46,2,     2.57,2,    0.206,2,    0.134,2, -999.000,9,-999.0000,9,  -999.00,9,   -999.0,9,  -999.00,9,-999.000,9,   -999.9,9,   -999.9,9,  -999.0, -999.00,-999.0000,-999.000,-999.000
    316N145_10,  I07N,   815,  1,     21,     21,2,19950813,0735, 19.3332,  64.3335, 3279,   -999,    503.3,  12.6851,  35.7723,2,  35.7705,2,      1.4,2, 12.6158,      1.0,2,    42.68,2,    25.49,2,     0.01,2,     2.61,2, -999.000,9, -999.000,9, -999.000,9,-999.0000,9,  -999.00,9,   -999.0,9,  -999.00,9,-999.000,9,   -999.9,9,   -999.9,9,  -999.0, -999.00,-999.0000,-999.000,-999.000
    316N145_10,  I07N,   815,  1,     20,     20,2,19950813,0735, 19.3332,  64.3335, 3279,   -999,    553.5,  12.1867,  35.7119,2,  35.7128,2,      1.5,2, 12.1123,      1.4,2,    46.10,2,    26.76,2,     0.00,2,     2.65,2,    0.108,2,    0.070,2, -999.000,9,-999.0000,9,  -999.00,9,   -999.0,9,  -999.00,9,-999.000,9,   -999.9,9,   -999.9,9,  -999.0, -999.00,-999.0000,-999.000,-999.000
    316N145_10,  I07N,   815,  1,     19,     19,2,19950813,0735, 19.3332,  64.3335, 3279,   -999,    647.3,  11.3495,  35.6343,2,  35.6337,2,      1.6,2, 11.2660,      1.2,2,    53.52,2,    29.01,2,     0.00,2,     2.73,2, -999.000,9, -999.000,9, -999.000,9,-999.0000,9,  -999.00,9,   -999.0,9,  -999.00,9,-999.000,9,   -999.9,9,   -999.9,9,  -999.0, -999.00,-999.0000,-999.000,-999.000
    316N145_10,  I07N,   815,  1,     18,     18,2,19950813,0735, 19.3332,  64.3335, 3279,   -999,    748.3,  10.5476,  35.5656,2,  35.5657,2,      1.7,2, 10.4550,      1.6,2,    60.85,2,    31.84,2,     0.00,2,     2.79,2,    0.033,2,    0.019,2, -999.000,9,-999.0000,9,  -999.00,9,   -999.0,9,  -999.00,9,-999.000,9,   -999.9,9,   -999.9,9,  -999.0, -999.00,-999.0000,-999.000,-999.000
    316N145_10,  I07N,   815,  1,     17,     17,2,19950813,0735, 19.3332,  64.3335, 3279,   -999,    849.7,   9.7434,  35.4994,2,  35.5003,2,      1.8,2,  9.6426,      2.4,2,    68.28,2,    34.09,2,     0.00,2,     2.85,2, -999.000,9, -999.000,9, -999.000,9,-999.0000,9,  -999.00,9,   -999.0,9,  -999.00,9,-999.000,9,   -999.9,9,   -999.9,9,  -999.0, -999.00,-999.0000,-999.000,-999.000
    316N145_10,  I07N,   815,  1,     16,     16,2,19950813,0735, 19.3332,  64.3335, 3279,   -999,    949.1,   8.9126,  35.4218,2,  35.4222,2,      3.9,2,  8.8052,      4.8,2,    75.32,2,    35.85,2,     0.00,2,     2.91,2,    0.021,2,    0.012,2, -999.000,9,-999.0000,9,  -999.00,9,   -999.0,9,  -999.00,9,-999.000,9,   -999.9,9,   -999.9,9,  -999.0, -999.00,-999.0000,-999.000,-999.000
    316N145_10,  I07N,   815,  1,     15,     15,2,19950813,0735, 19.3332,  64.3335, 3279,   -999,   1051.1,   8.0978,  35.3331,2,  35.3316,2,      7.7,2,  7.9845,      8.0,2,    82.36,2,    37.12,2,     0.00,2,     2.96,2, -999.000,9, -999.000,9, -999.000,9,-999.0000,9,  -999.00,9,   -999.0,9,  -999.00,9,-999.000,9,   -999.9,9,   -999.9,9,  -999.0, -999.00,-999.0000,-999.000,-999.000
    316N145_10,  I07N,   815,  1,     14,     14,2,19950813,0735, 19.3332,  64.3335, 3279,   -999,   1222.3,   6.8904,  35.1997,2,  35.1972,2,     16.3,2,  6.7683,     18.0,2,    93.70,2,    38.20,2,     0.00,2,     3.01,2,    0.006,2,    0.004,2, -999.000,9,-999.0000,9,  -999.00,9,   -999.0,9,  -999.00,9,-999.000,9,   -999.9,9,   -999.9,9,  -999.0, -999.00,-999.0000,-999.000,-999.000
    316N145_10,  I07N,   815,  1,     13,     13,2,19950813,0735, 19.3332,  64.3335, 3279,   -999,   1404.7,   5.6912,  35.0745,2,  35.0746,2,     33.2,2,  5.5618,     34.4,2,   105.24,2,    38.50,2,     0.00,2,     3.00,2, -999.000,9, -999.000,9, -999.000,9,-999.0000,9,  -999.00,9,   -999.0,9,  -999.00,9,-999.000,9,   -999.9,9,   -999.9,9,  -999.0, -999.00,-999.0000,-999.000,-999.000
    316N145_10,  I07N,   815,  1,     12,     12,2,19950813,0735, 19.3332,  64.3335, 3279,   -999,   1574.9,   4.6111,  34.9713,2,  34.9728,2,     51.0,2,  4.4769,     51.8,2,   117.07,2,    38.50,2,     0.00,2,     2.96,2,    0.001,2,    0.000,2, -999.000,9,-999.0000,9,  -999.00,9,   -999.0,9,  -999.00,9,-999.000,9,   -999.9,9,   -999.9,9,  -999.0, -999.00,-999.0000,-999.000,-999.000
    316N145_10,  I07N,   815,  1,     11,     11,2,19950813,0735, 19.3332,  64.3335, 3279,   -999,   1746.3,   3.8151,  34.9016,2,  34.9030,2,     65.0,2,  3.6748,     66.7,2,   125.97,2,    38.11,2,     0.00,2,     2.90,2, -999.000,9, -999.000,9, -999.000,9,-999.0000,9,  -999.00,9,   -999.0,9,  -999.00,9,-999.000,9,   -999.9,9,   -999.9,9,  -999.0, -999.00,-999.0000,-999.000,-999.000
    316N145_10,  I07N,   815,  1,     10,     10,2,19950813,0735, 19.3332,  64.3335, 3279,   -999,   1919.5,   3.2506,  34.8541,2,  34.8537,2,     79.6,2,  3.1021,     80.7,2,   132.33,2,    37.82,2,     0.00,2,     2.82,2,    0.001,2,    0.005,2, -999.000,9,-999.0000,9,  -999.00,9,   -999.0,9,  -999.00,9,-999.000,9,   -999.9,9,   -999.9,9,  -999.0, -999.00,-999.0000,-999.000,-999.000
    316N145_10,  I07N,   815,  1,      9,      9,2,19950813,0735, 19.3332,  64.3335, 3279,   -999,   2097.6,   2.8401,  34.8202,2,  34.8199,2,     90.5,2,  2.6816,     91.2,2,   136.82,2,    37.43,2,     0.00,2,     2.79,2, -999.000,9, -999.000,9, -999.000,9,-999.0000,9,  -999.00,9,   -999.0,9,  -999.00,9,-999.000,9,   -999.9,9,   -999.9,9,  -999.0, -999.00,-999.0000,-999.000,-999.000
    316N145_10,  I07N,   815,  1,      8,      8,2,19950813,0735, 19.3332,  64.3335, 3279,   -999,   2275.7,   2.5023,  34.7957,2,  34.7948,2,    100.4,2,  2.3331,     99.6,2,   141.03,2,    37.24,2,     0.00,2,     2.75,2,    0.003,2,    0.002,2, -999.000,9,-999.0000,9,  -999.00,9,   -999.0,9,  -999.00,9,-999.000,9,   -999.9,9,   -999.9,9,  -999.0, -999.00,-999.0000,-999.000,-999.000
    316N145_10,  I07N,   815,  1,      7,      7,2,19950813,0735, 19.3332,  64.3335, 3279,   -999,   2447.5,   2.2320,  34.7754,2,  34.7756,2,    107.7,2,  2.0519,    107.5,2,   143.87,2,    36.94,2,     0.00,2,     2.71,2, -999.000,9, -999.000,9, -999.000,9,-999.0000,9,  -999.00,9,   -999.0,9,  -999.00,9,-999.000,9,   -999.9,9,   -999.9,9,  -999.0, -999.00,-999.0000,-999.000,-999.000
    316N145_10,  I07N,   815,  1,      6,      6,2,19950813,0735, 19.3332,  64.3335, 3279,   -999,   2621.0,   2.0471,  34.7626,2,  34.7612,2,    111.9,2,  1.8544,    111.2,2,   146.90,2,    36.75,2,     0.00,2,     2.67,2,    0.000,2,    0.002,2, -999.000,9,-999.0000,9,  -999.00,9,   -999.0,9,  -999.00,9,-999.000,9,   -999.9,9,   -999.9,9,  -999.0, -999.00,-999.0000,-999.000,-999.000
    316N145_10,  I07N,   815,  1,      5,      5,2,19950813,0735, 19.3332,  64.3335, 3279,   -999,   2796.7,   1.8971,  34.7511,2,  34.7510,2,    117.3,2,  1.6909,    117.0,2,   148.27,2,    36.55,2,     0.00,2,     2.64,2,    0.001,2,    0.003,2, -999.000,9,-999.0000,9,  -999.00,9,   -999.0,9,  -999.00,9,-999.000,9,   -999.9,9,   -999.9,9,  -999.0, -999.00,-999.0000,-999.000,-999.000
    316N145_10,  I07N,   815,  1,      4,      4,2,19950813,0735, 19.3332,  64.3335, 3279,   -999,   2999.7,   1.7966,  34.7443,2,  34.7441,2,    121.1,2,  1.5731,    120.7,2,   149.15,2,    36.46,2,     0.00,2,     2.62,2,    0.002,2,    0.002,2, -999.000,9,-999.0000,9,  -999.00,9,   -999.0,9,  -999.00,9,-999.000,9,   -999.9,9,   -999.9,9,  -999.0, -999.00,-999.0000,-999.000,-999.000
    316N145_10,  I07N,   815,  1,      3,      3,2,19950813,0735, 19.3332,  64.3335, 3279,   -999,   3196.8,   1.7244,  34.7399,2,  34.7388,2,    123.2,2,  1.4832,    123.7,2,   149.73,2,    36.36,2,     0.00,2,     2.60,2,    0.005,2,    0.011,2, -999.000,9,-999.0000,9,  -999.00,9,   -999.0,9,  -999.00,9,-999.000,9,   -999.9,9,   -999.9,9,  -999.0, -999.00,-999.0000,-999.000,-999.000
    316N145_10,  I07N,   815,  1,      2,      2,2,19950813,0735, 19.3332,  64.3335, 3279,   -999,   3269.4,   1.7043,  34.7371,2,  34.7371,2,    121.6,2,  1.4563,    120.2,2,   151.01,2,    36.75,2,     0.00,2,     2.60,2,    0.007,2,    0.021,2, -999.000,9,-999.0000,9,  -999.00,9,   -999.0,9,  -999.00,9,-999.000,9,   -999.9,9,   -999.9,9,  -999.0, -999.00,-999.0000,-999.000,-999.000
    316N145_10,  I07N,   815,  1,      1,      1,2,19950813,0735, 19.3332,  64.3335, 3279,   -999,   3320.8,   1.7061,  34.7377,2,  34.7382,2,    120.5,2,  1.4529,    120.9,2,   150.81,2,    36.65,2,     0.00,2,     2.61,2,    0.008,2,    0.018,2, -999.000,9,-999.0000,9,  -999.00,9,   -999.0,9,  -999.00,9,-999.000,9,   -999.9,9,   -999.9,9,  -999.0, -999.00,-999.0000,-999.000,-999.000