BOTTLE,20080821WHPSIOSCD
EXPOCODE,SECT_ID,STNNBR,CASTNO,SAMPNO,BTLNBR,BTLNBR_FLAG_W,DATE,TIME,LATITUDE,LONGITUDE,DEPTH,CTDRAW,CTDPRS,CTDTMP,CTDSAL,CTDSAL_FLAG_W,SALNTY,SALNTY_FLAG_W,CTDOXY,CTDOXY_FLAG_W,THETA,OXYGEN,OXYGEN_FLAG_W,SILCAT,SILCAT_FLAG_W,NITRAT,NITRAT_FLAG_W,NITRIT,NITRIT_FLAG_W,PHSPHT,PHSPHT_FLAG_W,CFC-11,CFC-11_FLAG_W,CFC-12,CFC-12_FLAG_W,TRITUM,TRITUM_FLAG_W,HELIUM,HELIUM_FLAG_W,DELHE3,DELHE3_FLAG_W,DELC14,DELC14_FLAG_W,DELC13,DELC13_FLAG_W,NEON,NEON_FLAG_W,TCARBN,TCARBN_FLAG_W,ALKALI,ALKALI_FLAG_W,C14ERR,DELHER,HELIER,NEONER,TRITER
,,,,,,,,,,,,,DBAR,ITS-90,PSS-78,,PSS-78,,UMOL/KG,,DEG C,UMOL/KG,,UMOL/KG,,UMOL/KG,,UMOL/KG,,UMOL/KG,,PMOL/KG,,PMOL/KG,,TU,,NMOL/KG,,PERCNT,,/MILLE,,/MILLE,,NMOL/KG,,UMOL/KG,,UMOL/KG,,/MILLE,PERCNT,NMOL/KG,NMOL/KG,TU
    316N145_10,  I07N,   788,  1,     36,     36,2,19950806,1504, 11.6222,  64.6673, 4255,   -999,      3.7,  27.5421,  36.4874,2,  36.4885,2,    199.1,2, 27.5415,    197.5,2,     1.78,2,     0.04,2,     0.00,2,     0.26,2,    1.647,2,    0.927,2, -999.000,9,-999.0000,9,  -999.00,9,   -999.0,9,  -999.00,9,-999.000,9,   2017.6,2,   2381.1,2,  -999.0, -999.00,-999.0000,-999.000,-999.000
    316N145_10,  I07N,   788,  1,     35,     35,2,19950806,1504, 11.6222,  64.6673, 4255,   -999,     31.2,  27.5194,  36.4882,2,  36.4879,2,    196.6,2, 27.5124,    199.1,2,     1.77,2,     0.04,2,     0.00,2,     0.26,2,    1.641,2,    0.919,2, -999.000,9,-999.0000,9,  -999.00,9,   -999.0,9,  -999.00,9,-999.000,9,   2017.5,2,   2381.1,2,  -999.0, -999.00,-999.0000,-999.000,-999.000
    316N145_10,  I07N,   788,  1,     34,     34,2,19950806,1504, 11.6222,  64.6673, 4255,   -999,     61.9,  27.4406,  36.4891,2,  36.4911,2,    194.3,2, 27.4264,    195.7,2,     1.57,2,     0.03,2,     0.01,2,     0.27,2,    1.639,2,    0.933,2, -999.000,9,-999.0000,9,  -999.00,9,   -999.0,9,  -999.00,9,-999.000,9,   2021.0,2,   2378.4,2,  -999.0, -999.00,-999.0000,-999.000,-999.000
    316N145_10,  I07N,   788,  1,     33,     33,2,19950806,1504, 11.6222,  64.6673, 4255,   -999,     92.1,  27.3790,  36.4882,2,  36.4920,2,    195.1,2, 27.3579,    193.1,2,     1.75,2,     0.12,2,     0.05,2,     0.30,2, -999.000,9, -999.000,9, -999.000,9,-999.0000,9,  -999.00,9,   -999.0,9,  -999.00,9,-999.000,9,   2023.3,2,   2378.4,2,  -999.0, -999.00,-999.0000,-999.000,-999.000
    316N145_10,  I07N,   788,  1,     32,     32,2,19950806,1504, 11.6222,  64.6673, 4255,   -999,    122.1,  24.4857,  36.1774,2,  36.2135,2,    131.2,2, 24.4597,    132.4,2,     5.11,2,    11.23,2,     0.04,2,     1.00,2,    1.729,2,    0.970,2, -999.000,9,-999.0000,9,  -999.00,9,   -999.0,9,  -999.00,9,-999.000,9,   2098.3,2,   2359.7,2,  -999.0, -999.00,-999.0000,-999.000,-999.000
    316N145_10,  I07N,   788,  1,     31,     31,2,19950806,1504, 11.6222,  64.6673, 4255,   -999,    166.8,  19.4429,  35.6832,2,  35.6751,2,     10.0,2, 19.4127,      8.6,2,    18.03,2,    25.13,2,     0.01,2,     2.14,2,    1.106,2,    0.617,2, -999.000,9,-999.0000,9,  -999.00,9,   -999.0,9,  -999.00,9,-999.000,9,   2218.5,2,   2332.0,2,  -999.0, -999.00,-999.0000,-999.000,-999.000
    316N145_10,  I07N,   788,  1,     30,     30,2,19950806,1504, 11.6222,  64.6673, 4255,   -999,    212.0,  16.9448,  35.6556,2,  35.6550,2,      1.8,2, 16.9099,      1.6,2,    24.95,2,    21.37,2,     1.53,2,     2.36,2,    0.616,2,    0.385,2, -999.000,9,-999.0000,9,  -999.00,9,   -999.0,9,  -999.00,9,-999.000,9,   2248.4,2,   2337.4,2,  -999.0, -999.00,-999.0000,-999.000,-999.000
    316N145_10,  I07N,   788,  1,     29,     29,2,19950806,1504, 11.6222,  64.6673, 4255,   -999,    252.4,  14.4980,  35.4483,2,  35.6554,4,      2.9,2, 14.4606,      3.8,2,    27.56,2,    26.70,2,     0.00,2,     2.37,2, -999.000,9, -999.000,9, -999.000,9,-999.0000,9,  -999.00,9,   -999.0,9,  -999.00,9,-999.000,9,   2252.7,2,   2328.5,3,  -999.0, -999.00,-999.0000,-999.000,-999.000
    316N145_10,  I07N,   788,  1,     28,     28,2,19950806,1504, 11.6222,  64.6673, 4255,   -999,    302.9,  13.1277,  35.3708,2,  35.3728,2,      2.1,2, 13.0856,      2.9,2,    30.36,2,    29.24,2,     0.00,2,     2.43,2,    0.241,2,    0.146,2, -999.000,9,-999.0000,9,  -999.00,9,   -999.0,9,  -999.00,9,-999.000,9,   2262.4,2,   2326.5,2,  -999.0, -999.00,-999.0000,-999.000,-999.000
    316N145_10,  I07N,   788,  1,     27,     27,2,19950806,1504, 11.6222,  64.6673, 4255,   -999,    377.2,  12.1646,  35.3479,2,  35.3495,2,      4.7,2, 12.1146,      5.1,2,    34.28,2,    31.23,2,     0.00,2,     2.49,2,    0.155,2,    0.098,2, -999.000,9,-999.0000,9,  -999.00,9,   -999.0,9,  -999.00,9,-999.000,9,   2267.8,2,   2327.3,2,  -999.0, -999.00,-999.0000,-999.000,-999.000
    316N145_10,  I07N,   788,  1,     26,     26,2,19950806,1504, 11.6222,  64.6673, 4255,   -999,    452.5,  11.7040,  35.3780,2,  35.3779,2,      6.0,2, 11.6452,      6.4,2,    38.39,2,    31.79,2,     0.00,2,     2.57,2,    0.102,2,    0.065,2, -999.000,9,-999.0000,9,  -999.00,9,   -999.0,9,  -999.00,9,-999.000,9,   2271.7,2,   2333.3,2,  -999.0, -999.00,-999.0000,-999.000,-999.000
    316N145_10,  I07N,   788,  1,     25,     25,2,19950806,1504, 11.6222,  64.6673, 4255,   -999,    553.8,  11.3386,  35.4218,2,  35.4255,2,      6.7,2, 11.2677,      7.5,2,    43.62,2,    31.93,2,     0.00,2,     2.64,2,    0.072,2,    0.046,2, -999.000,9,-999.0000,9,  -999.00,9,   -999.0,9,  -999.00,9,-999.000,9,   2275.9,2,   2339.6,2,  -999.0, -999.00,-999.0000,-999.000,-999.000
    316N145_10,  I07N,   788,  1,     24,     24,2,19950806,1504, 11.6222,  64.6673, 4255,   -999,    649.6,  10.8442,  35.4452,2,  35.4477,2,      9.7,2, 10.7629,      9.7,2,    50.16,2,    32.63,2,     0.00,2,     2.70,2,    0.063,2,    0.039,2, -999.000,9,-999.0000,9,  -999.00,9,   -999.0,9,  -999.00,9,-999.000,9,   2281.2,2,   2346.2,2,  -999.0, -999.00,-999.0000,-999.000,-999.000
    316N145_10,  I07N,   788,  1,     23,     23,2,19950806,1504, 11.6222,  64.6673, 4255,   -999,    749.5,  10.1922,  35.4176,2,  35.4219,2,     10.9,2, 10.1014,     10.8,2,    57.27,2,    33.79,2,     0.00,2,     2.76,2,    0.043,2,    0.028,2, -999.000,9,-999.0000,9,  -999.00,9,   -999.0,9,  -999.00,9,-999.000,9,   2289.3,2,   2354.0,2,  -999.0, -999.00,-999.0000,-999.000,-999.000
    316N145_10,  I07N,   788,  1,     22,     22,2,19950806,1504, 11.6222,  64.6673, 4255,   -999,    819.7,   9.6003,  35.3723,2,  35.3735,2,     12.2,2,  9.5042,     11.7,2,    63.07,2,    34.82,2,     0.00,2,     2.81,2,    0.028,2,    0.023,2, -999.000,9,-999.0000,9,  -999.00,9,   -999.0,9,  -999.00,9,-999.000,9,   2295.0,2,   2358.6,2,  -999.0, -999.00,-999.0000,-999.000,-999.000
    316N145_10,  I07N,   788,  1,     21,     21,2,19950806,1504, 11.6222,  64.6673, 4255,   -999,    900.3,   9.0050,  35.3326,2,  35.3351,2,     14.8,2,  8.9029,     14.1,2,    69.06,2,    35.58,2,     0.00,2,     2.86,2,    0.021,2,    0.014,2, -999.000,9,-999.0000,9,  -999.00,9,   -999.0,9,  -999.00,9,-999.000,9,   2302.2,2,   2362.6,2,  -999.0, -999.00,-999.0000,-999.000,-999.000
    316N145_10,  I07N,   788,  1,     20,     20,2,19950806,1504, 11.6222,  64.6673, 4255,   -999,   1001.2,   8.2157,  35.2555,2,  35.2572,2,     19.6,2,  8.1073,     19.3,2,    75.82,2,    36.38,2,     0.00,2,     2.90,2,    0.011,2,    0.007,2, -999.000,9,-999.0000,9,  -999.00,9,   -999.0,9,  -999.00,9,-999.000,9,   2309.6,2,   2367.6,2,  -999.0, -999.00,-999.0000,-999.000,-999.000
    316N145_10,  I07N,   788,  1,     19,     19,2,19950806,1504, 11.6222,  64.6673, 4255,   -999,   1151.5,   7.0486,  35.1393,2,  35.1407,2,     29.3,2,  6.9328,     29.5,2,    86.38,2,    37.19,2,     0.00,2,     2.94,2,    0.003,2,    0.001,2, -999.000,9,-999.0000,9,  -999.00,9,   -999.0,9,  -999.00,9,-999.000,9,   2319.4,2,   2377.5,2,  -999.0, -999.00,-999.0000,-999.000,-999.000
    316N145_10,  I07N,   788,  1,     18,     18,2,19950806,1504, 11.6222,  64.6673, 4255,   -999,   1227.1,   6.7215,  35.1283,2,  35.1281,2,     34.3,2,  6.6005,     34.1,2,    89.77,2,    37.14,2,     0.00,2,     2.93,2,    0.005,2,    0.002,2, -999.000,9,-999.0000,9,  -999.00,9,   -999.0,9,  -999.00,9,-999.000,9,   2320.8,2,   2381.3,2,  -999.0, -999.00,-999.0000,-999.000,-999.000
    316N145_10,  I07N,   788,  1,     17,     17,2,19950806,1504, 11.6222,  64.6673, 4255,   -999,   1399.7,   5.6443,  35.0253,2,  35.0253,2,     48.9,2,  5.5160,     47.4,2,   100.21,2,    37.48,2,     0.00,2,     2.96,2,   -0.001,2,   -0.001,2, -999.000,9,-999.0000,9,  -999.00,9,   -999.0,9,  -999.00,9,-999.000,9,   2328.3,2,   2389.1,2,  -999.0, -999.00,-999.0000,-999.000,-999.000
    316N145_10,  I07N,   788,  1,     16,     16,2,19950806,1504, 11.6222,  64.6673, 4255,   -999,   1600.9,   4.4885,  34.9296,2,  34.9322,2,     66.8,2,  4.3533,     66.5,2,   112.48,2,    37.34,2,     0.00,2,     2.90,2,   -0.001,2,    0.001,2, -999.000,9,-999.0000,9,  -999.00,9,   -999.0,9,  -999.00,9,-999.000,9,   2335.2,2,   2403.5,2,  -999.0, -999.00,-999.0000,-999.000,-999.000
    316N145_10,  I07N,   788,  1,     15,     15,2,19950806,1504, 11.6222,  64.6673, 4255,   -999,   1802.9,   3.6373,  34.8640,2,  34.8666,2,     84.9,2,  3.4941,     85.7,2,   121.19,2,    36.83,2,     0.00,2,     2.83,2, -999.000,9, -999.000,9, -999.000,9,-999.0000,9,  -999.00,9,   -999.0,9,  -999.00,9,-999.000,9,   2336.5,2,   2410.6,2,  -999.0, -999.00,-999.0000,-999.000,-999.000
    316N145_10,  I07N,   788,  1,     14,     14,2,19950806,1504, 11.6222,  64.6673, 4255,   -999,   2000.8,   2.9575,  34.8156,2,  34.8143,2,    105.8,2,  2.8060,    106.6,2,   126.64,2,    36.18,2,     0.00,2,     2.73,2, -999.000,9, -999.000,9, -999.000,9,-999.0000,9,  -999.00,9,   -999.0,9,  -999.00,9,-999.000,9,   2332.8,2,   2417.0,2,  -999.0, -999.00,-999.0000,-999.000,-999.000
    316N145_10,  I07N,   788,  1,     13,     13,2,19950806,1504, 11.6222,  64.6673, 4255,   -999,   2202.7,   2.5055,  34.7868,2,  34.7870,2,    115.3,2,  2.3429,    118.7,2,   131.75,2,    35.76,2,     0.00,2,     2.67,2, -999.000,9, -999.000,9, -999.000,9,-999.0000,9,  -999.00,9,   -999.0,9,  -999.00,9,-999.000,9,   2332.4,2,   2419.9,2,  -999.0, -999.00,-999.0000,-999.000,-999.000
    316N145_10,  I07N,   788,  1,     12,     12,2,19950806,1504, 11.6222,  64.6673, 4255,   -999,   2400.9,   2.2486,  34.7725,2,  34.7737,2,    123.5,2,  2.0725,    124.9,2,   135.89,2,    35.58,2,     0.00,2,     2.65,2, -999.000,9, -999.000,9, -999.000,9,-999.0000,9,  -999.00,9,   -999.0,9,  -999.00,9,-999.000,9,   2335.1,2,   2427.2,2,  -999.0, -999.00,-999.0000,-999.000,-999.000
    316N145_10,  I07N,   788,  1,     11,     11,2,19950806,1504, 11.6222,  64.6673, 4255,   -999,   2598.9,   2.0422,  34.7604,2,  34.7611,2,    129.2,2,  1.8517,    128.1,2,   139.06,2,    35.49,2,     0.00,2,     2.63,2, -999.000,9, -999.000,9, -999.000,9,-999.0000,9,  -999.00,9,   -999.0,9,  -999.00,9,-999.000,9,   2337.3,2,   2433.3,2,  -999.0, -999.00,-999.0000,-999.000,-999.000
    316N145_10,  I07N,   788,  1,     10,     10,2,19950806,1504, 11.6222,  64.6673, 4255,   -999,   2801.1,   1.8654,  34.7481,2,  34.7479,2,    135.0,2,  1.6595,    134.3,2,   140.23,2,    35.35,2,     0.00,2,     2.61,2, -999.000,9, -999.000,9, -999.000,9,-999.0000,9,  -999.00,9,   -999.0,9,  -999.00,9,-999.000,9,   2338.0,2,   2439.8,2,  -999.0, -999.00,-999.0000,-999.000,-999.000
    316N145_10,  I07N,   788,  1,      9,      9,2,19950806,1504, 11.6222,  64.6673, 4255,   -999,   2999.7,   1.7741,  34.7434,2,  34.7428,2,    139.9,2,  1.5511,    141.0,2,   140.00,2,    35.12,2,     0.00,2,     2.57,2, -999.000,9, -999.000,9, -999.000,9,-999.0000,9,  -999.00,9,   -999.0,9,  -999.00,9,-999.000,9,   2333.6,2,   2437.1,2,  -999.0, -999.00,-999.0000,-999.000,-999.000
    316N145_10,  I07N,   788,  1,      8,      8,2,19950806,1504, 11.6222,  64.6673, 4255,   -999,   3202.4,   1.7246,  34.7390,2,  34.7375,2,    147.6,2,  1.4828,    148.4,2,   138.37,2,    34.79,2,     0.00,2,     2.52,2, -999.000,9, -999.000,9, -999.000,9,-999.0000,9,  -999.00,9,   -999.0,9,  -999.00,9,-999.000,9,   2325.8,2,   2432.9,2,  -999.0, -999.00,-999.0000,-999.000,-999.000
    316N145_10,  I07N,   788,  1,      7,      7,2,19950806,1504, 11.6222,  64.6673, 4255,   -999,   3400.4,   1.7062,  34.7369,2,  34.7373,2,    150.8,2,  1.4449,    151.2,2,   137.93,2,    34.61,2,     0.00,2,     2.51,2, -999.000,9, -999.000,9, -999.000,9,-999.0000,9,  -999.00,9,   -999.0,9,  -999.00,9,-999.000,9,   -999.9,5,   2427.7,2,  -999.0, -999.00,-999.0000,-999.000,-999.000
    316N145_10,  I07N,   788,  1,      6,      6,2,19950806,1504, 11.6222,  64.6673, 4255,   -999,   3613.8,   1.6918,  34.7360,2,  34.7355,2,    154.2,2,  1.4088,    153.4,2,   137.70,2,    34.57,2,     0.00,2,     2.49,2, -999.000,9, -999.000,9, -999.000,9,-999.0000,9,  -999.00,9,   -999.0,9,  -999.00,9,-999.000,9,   -999.9,5,   2431.6,2,  -999.0, -999.00,-999.0000,-999.000,-999.000
    316N145_10,  I07N,   788,  1,      5,      5,2,19950806,1504, 11.6222,  64.6673, 4255,   -999,   3805.8,   1.6841,  34.7347,2,  34.7330,2,    153.0,2,  1.3809,    152.4,2,   138.67,2,    34.66,2,     0.00,2,     2.50,2, -999.000,9, -999.000,9, -999.000,9,-999.0000,9,  -999.00,9,   -999.0,9,  -999.00,9,-999.000,9,   2323.7,2,   2433.6,2,  -999.0, -999.00,-999.0000,-999.000,-999.000
    316N145_10,  I07N,   788,  1,      4,      4,2,19950806,1504, 11.6222,  64.6673, 4255,   -999,   4004.8,   1.6845,  34.7344,2,  34.7328,2,    149.9,2,  1.3597,    149.7,2,   140.44,2,    34.90,2,     0.00,2,     2.51,2, -999.000,9, -999.000,9, -999.000,9,-999.0000,9,  -999.00,9,   -999.0,9,  -999.00,9,-999.000,9,   2334.2,2,   2446.0,2,  -999.0, -999.00,-999.0000,-999.000,-999.000
    316N145_10,  I07N,   788,  1,      3,      3,2,19950806,1504, 11.6222,  64.6673, 4255,   -999,   4204.5,   1.6923,  34.7338,2,  34.7316,2,    146.4,2,  1.3450,    145.7,2,   142.22,2,    35.23,2,     0.00,2,     2.52,2, -999.000,9, -999.000,9, -999.000,9,-999.0000,9,  -999.00,9,   -999.0,9,  -999.00,9,-999.000,9,   2344.8,2,   2456.8,2,  -999.0, -999.00,-999.0000,-999.000,-999.000
    316N145_10,  I07N,   788,  1,      2,      2,2,19950806,1504, 11.6222,  64.6673, 4255,   -999,   4297.4,   1.6967,  34.7338,2,  34.7331,2,    147.0,2,  1.3388,    146.6,2,   141.99,2,    35.19,2,     0.00,2,     2.52,2, -999.000,9, -999.000,9, -999.000,9,-999.0000,9,  -999.00,9,   -999.0,9,  -999.00,9,-999.000,9,   2344.9,2,   2457.4,2,  -999.0, -999.00,-999.0000,-999.000,-999.000
    316N145_10,  I07N,   788,  1,      1,      1,2,19950806,1504, 11.6222,  64.6673, 4255,   -999,   4320.5,   1.6996,  34.7333,2,  34.7323,2,    146.8,2,  1.3389,    146.6,2,   141.75,2,    35.24,2,     0.00,2,     2.51,2, -999.000,9, -999.000,9, -999.000,9,-999.0000,9,  -999.00,9,   -999.0,9,  -999.00,9,-999.000,9,   2344.3,2,   2464.7,2,  -999.0, -999.00,-999.0000,-999.000,-999.000