BOTTLE,20080821WHPSIOSCD
EXPOCODE,SECT_ID,STNNBR,CASTNO,SAMPNO,BTLNBR,BTLNBR_FLAG_W,DATE,TIME,LATITUDE,LONGITUDE,DEPTH,CTDRAW,CTDPRS,CTDTMP,CTDSAL,CTDSAL_FLAG_W,SALNTY,SALNTY_FLAG_W,CTDOXY,CTDOXY_FLAG_W,THETA,OXYGEN,OXYGEN_FLAG_W,SILCAT,SILCAT_FLAG_W,NITRAT,NITRAT_FLAG_W,NITRIT,NITRIT_FLAG_W,PHSPHT,PHSPHT_FLAG_W,CFC-11,CFC-11_FLAG_W,CFC-12,CFC-12_FLAG_W,TRITUM,TRITUM_FLAG_W,HELIUM,HELIUM_FLAG_W,DELHE3,DELHE3_FLAG_W,DELC14,DELC14_FLAG_W,DELC13,DELC13_FLAG_W,NEON,NEON_FLAG_W,TCARBN,TCARBN_FLAG_W,ALKALI,ALKALI_FLAG_W,C14ERR,DELHER,HELIER,NEONER,TRITER
,,,,,,,,,,,,,DBAR,ITS-90,PSS-78,,PSS-78,,UMOL/KG,,DEG C,UMOL/KG,,UMOL/KG,,UMOL/KG,,UMOL/KG,,UMOL/KG,,PMOL/KG,,PMOL/KG,,TU,,NMOL/KG,,PERCNT,,/MILLE,,/MILLE,,NMOL/KG,,UMOL/KG,,UMOL/KG,,/MILLE,PERCNT,NMOL/KG,NMOL/KG,TU
    316N145_10,  I07N,   843,  1,     36,     36,2,19950819,2158, 23.3855,  60.7212, 3345,   -999,      9.1,  26.2051,  36.6170,2,  36.6209,2,    209.2,2, 26.2033,    211.8,2,     1.29,2,     0.38,2,     0.00,2,     0.42,2, -999.000,9, -999.000,9, -999.000,9,-999.0000,9,  -999.00,9,   -999.0,9,  -999.00,9,-999.000,9,   2051.8,2,   2397.0,2,  -999.0, -999.00,-999.0000,-999.000,-999.000
    316N145_10,  I07N,   843,  1,     35,     35,2,19950819,2158, 23.3855,  60.7212, 3345,   -999,     28.0,  21.8525,  35.9906,2,  35.9935,2,     85.8,2, 21.8472,    105.3,2,    12.63,2,    19.40,2,     1.69,2,     1.86,2, -999.000,9, -999.000,9, -999.000,9,-999.0000,9,  -999.00,9,   -999.0,9,  -999.00,9,-999.000,9,   -999.9,9,   -999.9,9,  -999.0, -999.00,-999.0000,-999.000,-999.000
    316N145_10,  I07N,   843,  1,     34,     34,2,19950819,2158, 23.3855,  60.7212, 3345,   -999,     42.3,  21.6852,  36.0212,2,  36.0184,2,     93.3,2, 21.6771,    102.3,2,    14.01,2,    20.10,2,     1.75,2,     1.97,2,    1.614,2,    0.908,2, -999.000,9,-999.0000,9,  -999.00,9,   -999.0,9,  -999.00,9,-999.000,9,   -999.9,9,   -999.9,9,  -999.0, -999.00,-999.0000,-999.000,-999.000
    316N145_10,  I07N,   843,  1,     33,     33,2,19950819,2158, 23.3855,  60.7212, 3345,   -999,     60.1,  21.0213,  35.9545,2,  35.9240,2,     42.2,2, 21.0100,     35.7,2,    15.39,2,    22.91,2,     0.65,2,     2.00,2, -999.000,9, -999.000,9, -999.000,9,-999.0000,9,  -999.00,9,   -999.0,9,  -999.00,9,-999.000,9,   -999.9,9,   -999.9,9,  -999.0, -999.00,-999.0000,-999.000,-999.000
    316N145_10,  I07N,   843,  1,     32,     32,2,19950819,2158, 23.3855,  60.7212, 3345,   -999,     80.5,  19.8199,  35.9184,2,  35.9064,2,     10.7,2, 19.8053,      9.3,2,    17.64,2,    23.98,2,     0.06,2,     2.14,2, -999.000,9, -999.000,9, -999.000,9,-999.0000,9,  -999.00,9,   -999.0,9,  -999.00,9,-999.000,9,   -999.9,9,   -999.9,9,  -999.0, -999.00,-999.0000,-999.000,-999.000
    316N145_10,  I07N,   843,  1,     31,     31,2,19950819,2158, 23.3855,  60.7212, 3345,   -999,    100.4,  18.8773,  35.8688,2,  35.8715,2,      3.6,2, 18.8595,      4.0,2,    19.72,2,    23.95,2,     0.05,2,     2.21,2, -999.000,9, -999.000,9, -999.000,9,-999.0000,9,  -999.00,9,   -999.0,9,  -999.00,9,-999.000,9,   -999.9,9,   -999.9,9,  -999.0, -999.00,-999.0000,-999.000,-999.000
    316N145_10,  I07N,   843,  1,     30,     30,2,19950819,2158, 23.3855,  60.7212, 3345,   -999,    120.3,  18.1435,  35.8741,2,  35.8800,2,      5.9,2, 18.1228,      4.9,2,    21.79,2,    23.47,2,     0.01,2,     2.22,2,    0.916,2,    0.535,2, -999.000,9,-999.0000,9,  -999.00,9,   -999.0,9,  -999.00,9,-999.000,9,   -999.9,9,   -999.9,9,  -999.0, -999.00,-999.0000,-999.000,-999.000
    316N145_10,  I07N,   843,  1,     29,     29,2,19950819,2158, 23.3855,  60.7212, 3345,   -999,    145.5,  17.8773,  36.0795,2,  36.0882,2,      4.6,2, 17.8525,      5.2,2,    22.82,2,    22.33,2,     0.00,2,     2.21,2, -999.000,9, -999.000,9, -999.000,9,-999.0000,9,  -999.00,9,   -999.0,9,  -999.00,9,-999.000,9,   -999.9,9,   -999.9,9,  -999.0, -999.00,-999.0000,-999.000,-999.000
    316N145_10,  I07N,   843,  1,     28,     28,2,19950819,2158, 23.3855,  60.7212, 3345,   -999,    170.6,  18.1433,  36.3520,2,  36.4326,2,     15.9,2, 18.1138,     16.8,2,    21.92,2,    20.67,2,     0.01,2,     2.08,2, -999.000,9, -999.000,9, -999.000,9,-999.0000,9,  -999.00,9,   -999.0,9,  -999.00,9,-999.000,9,   -999.9,9,   -999.9,9,  -999.0, -999.00,-999.0000,-999.000,-999.000
    316N145_10,  I07N,   843,  1,     27,     27,2,19950819,2158, 23.3855,  60.7212, 3345,   -999,    195.8,  20.3304,  37.3377,2,  37.3003,2,     53.1,2, 20.2935,     53.3,2,    15.96,2,    16.40,2,     0.01,2,     1.65,2,    1.290,3,    6.463,3, -999.000,9,-999.0000,9,  -999.00,9,   -999.0,9,  -999.00,9,-999.000,9,   -999.9,9,   -999.9,9,  -999.0, -999.00,-999.0000,-999.000,-999.000
    316N145_10,  I07N,   843,  1,     26,     26,2,19950819,2158, 23.3855,  60.7212, 3345,   -999,    229.8,  19.7150,  37.2233,2,  37.2252,2,     48.0,2, 19.6726,     48.6,2,    17.16,2,    16.92,2,     0.01,2,     1.72,2, -999.000,9, -999.000,9, -999.000,9,-999.0000,9,  -999.00,9,   -999.0,9,  -999.00,9,-999.000,9,   -999.9,9,   -999.9,9,  -999.0, -999.00,-999.0000,-999.000,-999.000
    316N145_10,  I07N,   843,  1,     25,     25,2,19950819,2158, 23.3855,  60.7212, 3345,   -999,    260.4,  19.7358,  37.3046,2,  37.3026,2,     49.7,2, 19.6876,     50.9,2,    16.97,2,    16.64,2,     0.01,2,     1.70,2, -999.000,9, -999.000,9, -999.000,9,-999.0000,9,  -999.00,9,   -999.0,9,  -999.00,9,-999.000,9,   -999.9,9,   -999.9,9,  -999.0, -999.00,-999.0000,-999.000,-999.000
    316N145_10,  I07N,   843,  1,     24,     24,2,19950819,2158, 23.3855,  60.7212, 3345,   -999,    320.3,  16.7763,  36.6023,2,  36.6124,2,     14.6,2, 16.7233,     18.7,2,    25.32,2,    20.44,2,     0.00,2,     2.12,2,    0.770,3,    1.261,3, -999.000,9,-999.0000,9,  -999.00,9,   -999.0,9,  -999.00,9,-999.000,9,   -999.9,9,   -999.9,9,  -999.0, -999.00,-999.0000,-999.000,-999.000
    316N145_10,  I07N,   843,  1,     23,     23,2,19950819,2158, 23.3855,  60.7212, 3345,   -999,    425.4,  13.5856,  35.9029,2,  35.9111,2,      0.7,2, 13.5246,      1.3,2,    36.98,2,    24.19,2,     0.00,2,     2.51,2, -999.000,9, -999.000,9, -999.000,9,-999.0000,9,  -999.00,9,   -999.0,9,  -999.00,9,-999.000,9,   -999.9,9,   -999.9,9,  -999.0, -999.00,-999.0000,-999.000,-999.000
    316N145_10,  I07N,   843,  1,     22,     22,2,19950819,2158, 23.3855,  60.7212, 3345,   -999,    529.5,  12.4538,  35.7593,2,  35.7590,2,      0.8,2, 12.3817,      0.5,2,    44.97,2,    24.91,2,     0.28,2,     2.64,2, -999.000,9, -999.000,9, -999.000,9,-999.0000,9,  -999.00,9,   -999.0,9,  -999.00,9,-999.000,9,   -999.9,9,   -999.9,9,  -999.0, -999.00,-999.0000,-999.000,-999.000
    316N145_10,  I07N,   843,  1,     21,     21,2,19950819,2158, 23.3855,  60.7212, 3345,   -999,    636.0,  11.3944,  35.6401,2,  35.6397,2,      1.0,2, 11.3122,      0.6,2,    53.32,2,    28.29,2,     0.00,2,     2.72,2,    0.058,2,    0.041,2, -999.000,9,-999.0000,9,  -999.00,9,   -999.0,9,  -999.00,9,-999.000,9,   -999.9,9,   -999.9,9,  -999.0, -999.00,-999.0000,-999.000,-999.000
    316N145_10,  I07N,   843,  1,     20,     20,2,19950819,2158, 23.3855,  60.7212, 3345,   -999,    719.5,  10.7181,  35.5805,2,  35.5808,2,      1.1,2, 10.6283,      1.1,2,    59.05,2,    30.87,2,     0.00,2,     2.77,2, -999.000,9, -999.000,9, -999.000,9,-999.0000,9,  -999.00,9,   -999.0,9,  -999.00,9,-999.000,9,   -999.9,9,   -999.9,9,  -999.0, -999.00,-999.0000,-999.000,-999.000
    316N145_10,  I07N,   843,  1,     19,     19,2,19950819,2158, 23.3855,  60.7212, 3345,   -999,    799.0,  10.1598,  35.5318,2,  35.5325,2,      1.1,2, 10.0629,      1.3,2,    64.27,2,    32.50,2,     0.00,2,     2.82,2, -999.000,9, -999.000,9, -999.000,9,-999.0000,9,  -999.00,9,   -999.0,9,  -999.00,9,-999.000,9,   -999.9,9,   -999.9,9,  -999.0, -999.00,-999.0000,-999.000,-999.000
    316N145_10,  I07N,   843,  1,     18,     18,2,19950819,2158, 23.3855,  60.7212, 3345,   -999,    900.1,   9.5019,  35.4709,2,  35.4689,2,      1.2,2,  9.3965,      1.6,2,    70.54,2,    34.14,2,     0.00,2,     2.90,2,    0.018,2,    0.011,2, -999.000,9,-999.0000,9,  -999.00,9,   -999.0,9,  -999.00,9,-999.000,9,   -999.9,9,   -999.9,9,  -999.0, -999.00,-999.0000,-999.000,-999.000
    316N145_10,  I07N,   843,  1,     17,     17,2,19950819,2158, 23.3855,  60.7212, 3345,   -999,   1001.0,   8.6759,  35.3901,2,  35.3903,2,      2.3,2,  8.5640,      3.3,2,    77.52,2,    36.03,2,     0.00,2,     2.96,2, -999.000,9, -999.000,9, -999.000,9,-999.0000,9,  -999.00,9,   -999.0,9,  -999.00,9,-999.000,9,   -999.9,9,   -999.9,9,  -999.0, -999.00,-999.0000,-999.000,-999.000
    316N145_10,  I07N,   843,  1,     16,     16,2,19950819,2158, 23.3855,  60.7212, 3345,   -999,   1151.8,   7.7108,  35.2858,2,  35.2854,2,      6.2,2,  7.5892,      7.4,2,    86.13,2,    37.49,2,     0.00,2,     3.02,2, -999.000,9, -999.000,9, -999.000,9,-999.0000,9,  -999.00,9,   -999.0,9,  -999.00,9,-999.000,9,   -999.9,9,   -999.9,9,  -999.0, -999.00,-999.0000,-999.000,-999.000
    316N145_10,  I07N,   843,  1,     15,     15,2,19950819,2158, 23.3855,  60.7212, 3345,   -999,   1303.0,   6.7076,  35.1794,2,  35.1784,2,     15.0,2,  6.5785,     16.2,2,    96.20,2,    38.27,2,     0.00,2,     3.07,2, -999.000,9, -999.000,9, -999.000,9,-999.0000,9,  -999.00,9,   -999.0,9,  -999.00,9,-999.000,9,   -999.9,9,   -999.9,9,  -999.0, -999.00,-999.0000,-999.000,-999.000
    316N145_10,  I07N,   843,  1,     14,     14,2,19950819,2158, 23.3855,  60.7212, 3345,   -999,   1449.4,   5.5830,  35.0634,2,  35.0663,2,     30.5,2,  5.4502,     31.7,2,   107.46,2,    38.57,2,     0.00,2,     3.04,2,    0.001,2,    0.003,2, -999.000,9,-999.0000,9,  -999.00,9,   -999.0,9,  -999.00,9,-999.000,9,   -999.9,9,   -999.9,9,  -999.0, -999.00,-999.0000,-999.000,-999.000
    316N145_10,  I07N,   843,  1,     13,     13,2,19950819,2158, 23.3855,  60.7212, 3345,   -999,   1601.0,   4.7120,  34.9855,2,  34.9863,2,     45.0,2,  4.5740,     45.4,2,   117.41,2,    38.47,2,     0.00,2,     3.01,2, -999.000,9, -999.000,9, -999.000,9,-999.0000,9,  -999.00,9,   -999.0,9,  -999.00,9,-999.000,9,   -999.9,9,   -999.9,9,  -999.0, -999.00,-999.0000,-999.000,-999.000
    316N145_10,  I07N,   843,  1,     12,     12,2,19950819,2158, 23.3855,  60.7212, 3345,   -999,   1776.8,   4.0276,  34.9232,2,  34.9241,2,     59.3,2,  3.8815,     58.5,2,   125.11,2,    38.28,2,     0.00,2,     2.96,2, -999.000,9, -999.000,9, -999.000,9,-999.0000,9,  -999.00,9,   -999.0,9,  -999.00,9,-999.000,9,   -999.9,9,   -999.9,9,  -999.0, -999.00,-999.0000,-999.000,-999.000
    316N145_10,  I07N,   843,  1,     11,     11,2,19950819,2158, 23.3855,  60.7212, 3345,   -999,   1949.6,   3.4787,  34.8756,2,  34.8767,2,     73.7,2,  3.3240,     70.4,2,   131.42,2,    37.95,2,     0.00,2,     2.90,2,    0.001,2,    0.004,2, -999.000,9,-999.0000,9,  -999.00,9,   -999.0,9,  -999.00,9,-999.000,9,   -999.9,9,   -999.9,9,  -999.0, -999.00,-999.0000,-999.000,-999.000
    316N145_10,  I07N,   843,  1,     10,     10,2,19950819,2158, 23.3855,  60.7212, 3345,   -999,   2125.4,   3.0345,  34.8387,2,  34.8384,2,     84.7,2,  2.8703,     81.0,2,   136.67,2,    37.71,2,     0.00,2,     2.84,2, -999.000,9, -999.000,9, -999.000,9,-999.0000,9,  -999.00,9,   -999.0,9,  -999.00,9,-999.000,9,   -999.9,9,   -999.9,9,  -999.0, -999.00,-999.0000,-999.000,-999.000
    316N145_10,  I07N,   843,  1,      9,      9,2,19950819,2158, 23.3855,  60.7212, 3345,   -999,   2303.4,   2.6396,  34.8070,2,  34.8056,2,     94.9,2,  2.4655,     91.3,2,   141.40,2,    37.32,2,     0.00,2,     2.79,2, -999.000,9, -999.000,9, -999.000,9,-999.0000,9,  -999.00,9,   -999.0,9,  -999.00,9,-999.000,9,   -999.9,9,   -999.9,9,  -999.0, -999.00,-999.0000,-999.000,-999.000
    316N145_10,  I07N,   843,  1,      8,      8,2,19950819,2158, 23.3855,  60.7212, 3345,   -999,   2449.9,   2.3918,  34.7881,2,  34.7869,2,    102.5,2,  2.2084,     98.3,2,   144.44,2,    37.13,2,     0.00,2,     2.76,2,   -0.002,2,    0.002,2, -999.000,9,-999.0000,9,  -999.00,9,   -999.0,9,  -999.00,9,-999.000,9,   -999.9,9,   -999.9,9,  -999.0, -999.00,-999.0000,-999.000,-999.000
    316N145_10,  I07N,   843,  1,      7,      7,2,19950819,2158, 23.3855,  60.7212, 3345,   -999,   2600.1,   2.1394,  34.7696,2,  34.7691,2,    106.8,2,  1.9468,    104.8,2,   147.31,2,    36.89,2,     0.00,2,     2.72,2, -999.000,9, -999.000,9, -999.000,9,-999.0000,9,  -999.00,9,   -999.0,9,  -999.00,9,-999.000,9,   -999.9,9,   -999.9,9,  -999.0, -999.00,-999.0000,-999.000,-999.000
    316N145_10,  I07N,   843,  1,      6,      6,2,19950819,2158, 23.3855,  60.7212, 3345,   -999,   2752.5,   1.9720,  34.7569,2,  34.7559,2,    109.7,2,  1.7684,    109.1,2,   150.20,2,    36.70,2,     0.00,2,     2.71,2, -999.000,9, -999.000,9, -999.000,9,-999.0000,9,  -999.00,9,   -999.0,9,  -999.00,9,-999.000,9,   -999.9,9,   -999.9,9,  -999.0, -999.00,-999.0000,-999.000,-999.000
    316N145_10,  I07N,   843,  1,      5,      5,2,19950819,2158, 23.3855,  60.7212, 3345,   -999,   2903.9,   1.8963,  34.7506,2,  34.7515,3,    110.5,2,  1.6799,    110.4,2,   151.72,2,    36.60,2,     0.00,2,     2.71,2, -999.000,9, -999.000,9, -999.000,9,-999.0000,9,  -999.00,9,   -999.0,9,  -999.00,9,-999.000,9,   -999.9,9,   -999.9,9,  -999.0, -999.00,-999.0000,-999.000,-999.000
    316N145_10,  I07N,   843,  1,      4,      4,2,19950819,2158, 23.3855,  60.7212, 3345,   -999,   3053.9,   1.8526,  34.7479,2,  34.7456,2,    110.1,2,  1.6225,    111.0,2,   153.05,2,    36.51,2,     0.00,2,     2.72,2,    0.007,2,    0.025,2, -999.000,9,-999.0000,9,  -999.00,9,   -999.0,9,  -999.00,9,-999.000,9,   -999.9,9,   -999.9,9,  -999.0, -999.00,-999.0000,-999.000,-999.000
    316N145_10,  I07N,   843,  1,      3,      3,2,19950819,2158, 23.3855,  60.7212, 3345,   -999,   3199.9,   1.8220,  34.7451,2,  34.7431,2,    107.5,2,  1.5782,    109.8,2,   154.59,2,    36.41,2,     0.00,2,     2.71,2, -999.000,9, -999.000,9, -999.000,9,-999.0000,9,  -999.00,9,   -999.0,9,  -999.00,9,-999.000,9,   -999.9,9,   -999.9,9,  -999.0, -999.00,-999.0000,-999.000,-999.000
    316N145_10,  I07N,   843,  1,      2,      2,2,19950819,2158, 23.3855,  60.7212, 3345,   -999,   3302.2,   1.7995,  34.7435,2,  34.7409,2,    102.8,2,  1.5460,    106.4,2,   156.73,2,    36.22,2,     0.00,2,     2.71,2,    0.028,2,    0.090,2, -999.000,9,-999.0000,9,  -999.00,9,   -999.0,9,  -999.00,9,-999.000,9,   -999.9,9,   -999.9,9,  -999.0, -999.00,-999.0000,-999.000,-999.000
    316N145_10,  I07N,   843,  1,      1,      1,2,19950819,2158, 23.3855,  60.7212, 3345,   -999,   3387.9,   1.7997,  34.7425,2,  34.7403,2,    100.1,2,  1.5374,    104.9,2,   157.47,2,    36.22,2,     0.00,2,     2.73,2,    0.031,2,    0.109,2, -999.000,9,-999.0000,9,  -999.00,9,   -999.0,9,  -999.00,9,-999.000,9,   -999.9,9,   -999.9,9,  -999.0, -999.00,-999.0000,-999.000,-999.000