BOTTLE,20080821WHPSIOSCD
EXPOCODE,SECT_ID,STNNBR,CASTNO,SAMPNO,BTLNBR,BTLNBR_FLAG_W,DATE,TIME,LATITUDE,LONGITUDE,DEPTH,CTDRAW,CTDPRS,CTDTMP,CTDSAL,CTDSAL_FLAG_W,SALNTY,SALNTY_FLAG_W,CTDOXY,CTDOXY_FLAG_W,THETA,OXYGEN,OXYGEN_FLAG_W,SILCAT,SILCAT_FLAG_W,NITRAT,NITRAT_FLAG_W,NITRIT,NITRIT_FLAG_W,PHSPHT,PHSPHT_FLAG_W,CFC-11,CFC-11_FLAG_W,CFC-12,CFC-12_FLAG_W,TRITUM,TRITUM_FLAG_W,HELIUM,HELIUM_FLAG_W,DELHE3,DELHE3_FLAG_W,DELC14,DELC14_FLAG_W,DELC13,DELC13_FLAG_W,NEON,NEON_FLAG_W,TCARBN,TCARBN_FLAG_W,ALKALI,ALKALI_FLAG_W,C14ERR,DELHER,HELIER,NEONER,TRITER
,,,,,,,,,,,,,DBAR,ITS-90,PSS-78,,PSS-78,,UMOL/KG,,DEG C,UMOL/KG,,UMOL/KG,,UMOL/KG,,UMOL/KG,,UMOL/KG,,PMOL/KG,,PMOL/KG,,TU,,NMOL/KG,,PERCNT,,/MILLE,,/MILLE,,NMOL/KG,,UMOL/KG,,UMOL/KG,,/MILLE,PERCNT,NMOL/KG,NMOL/KG,TU
    316N145_10,  I07N,   765,  1,     36,     36,2,19950730,1726,  2.0040,  57.3285, 4524,   -999,      3.8,  27.2973,  35.3141,2,  35.3166,2,    204.6,2, 27.2967,    203.1,2,     3.42,2,     0.00,2,     0.00,2,     0.19,2,    1.680,2,    0.946,2, -999.000,9,-999.0000,9,  -999.00,9,   -999.0,9,  -999.00,9,-999.000,9,   1972.6,2,   -999.9,5,  -999.0, -999.00,-999.0000,-999.000,-999.000
    316N145_10,  I07N,   765,  1,     35,     35,2,19950730,1726,  2.0040,  57.3285, 4524,   -999,     32.2,  27.0964,  35.3047,2,  35.3061,2,    203.5,2, 27.0892,    203.0,2,     2.55,2,     0.01,2,     0.00,2,     0.19,2, -999.000,9, -999.000,9, -999.000,9,-999.0000,9,  -999.00,9,   -999.0,9,  -999.00,9,-999.000,9,   -999.9,9,   -999.9,9,  -999.0, -999.00,-999.0000,-999.000,-999.000
    316N145_10,  I07N,   765,  1,     34,     34,2,19950730,1726,  2.0040,  57.3285, 4524,   -999,     62.0,  26.2858,  35.2643,2,  35.2711,2,    196.3,2, 26.2721,    196.9,2,     3.58,2,     0.69,2,     0.09,2,     0.27,2,    1.706,2,    0.979,2, -999.000,9,-999.0000,9,  -999.00,9,   -999.0,9,  -999.00,9,-999.000,9,   -999.9,9,   -999.9,9,  -999.0, -999.00,-999.0000,-999.000,-999.000
    316N145_10,  I07N,   765,  1,     33,     33,2,19950730,1726,  2.0040,  57.3285, 4524,   -999,     92.2,  25.3805,  35.2732,2,  35.2770,2,    194.4,2, 25.3605,    186.5,2,     4.44,2,     2.24,2,     0.31,2,     0.38,2,    1.709,2,    0.959,2, -999.000,9,-999.0000,9,  -999.00,9,   -999.0,9,  -999.00,9,-999.000,9,   -999.9,9,   -999.9,9,  -999.0, -999.00,-999.0000,-999.000,-999.000
    316N145_10,  I07N,   765,  1,     32,     32,2,19950730,1726,  2.0040,  57.3285, 4524,   -999,    131.1,  19.9226,  35.3580,2,  35.3431,2,    127.9,2, 19.8986,    103.1,2,    12.25,2,    15.74,2,     0.03,2,     1.19,2,    1.445,2,    0.792,2, -999.000,9,-999.0000,9,  -999.00,9,   -999.0,9,  -999.00,9,-999.000,9,   -999.9,9,   -999.9,9,  -999.0, -999.00,-999.0000,-999.000,-999.000
    316N145_10,  I07N,   765,  1,     31,     31,2,19950730,1726,  2.0040,  57.3285, 4524,   -999,    175.1,  14.7942,  35.1786,2,  35.1783,2,    108.8,2, 14.7681,     80.6,2,    19.02,2,    22.37,2,     0.00,2,     1.62,2,    1.042,2,    0.549,2, -999.000,9,-999.0000,9,  -999.00,9,   -999.0,9,  -999.00,9,-999.000,9,   -999.9,9,   -999.9,9,  -999.0, -999.00,-999.0000,-999.000,-999.000
    316N145_10,  I07N,   765,  1,     30,     30,2,19950730,1726,  2.0040,  57.3285, 4524,   -999,    231.3,  12.6608,  35.1088,2,  35.1079,2,    119.6,2, 12.6296,    107.1,2,    19.36,2,    22.15,2,     0.00,2,     1.59,2, -999.000,9, -999.000,9, -999.000,9,-999.0000,9,  -999.00,9,   -999.0,9,  -999.00,9,-999.000,9,   -999.9,9,   -999.9,9,  -999.0, -999.00,-999.0000,-999.000,-999.000
    316N145_10,  I07N,   765,  1,     29,     29,2,19950730,1726,  2.0040,  57.3285, 4524,   -999,    276.7,  12.2041,  35.0789,2,  35.0821,2,    129.3,2, 12.1676,    108.8,2,    20.04,2,    22.66,2,     0.00,2,     1.63,2,    0.994,2,    0.513,2, -999.000,9,-999.0000,9,  -999.00,9,   -999.0,9,  -999.00,9,-999.000,9,   -999.9,9,   -999.9,9,  -999.0, -999.00,-999.0000,-999.000,-999.000
    316N145_10,  I07N,   765,  1,     28,     28,2,19950730,1726,  2.0040,  57.3285, 4524,   -999,    302.0,  12.1778,  35.0788,2,  35.0793,2,    105.5,2, 12.1380,    105.8,2,    20.38,2,    23.07,2,     0.00,2,     1.65,2,    0.949,2,    0.490,2, -999.000,9,-999.0000,9,  -999.00,9,   -999.0,9,  -999.00,9,-999.000,9,   -999.9,9,   -999.9,9,  -999.0, -999.00,-999.0000,-999.000,-999.000
    316N145_10,  I07N,   765,  1,     27,     27,2,19950730,1726,  2.0040,  57.3285, 4524,   -999,    352.2,  11.6642,  35.0571,2,  35.0581,2,    102.4,2, 11.6189,    106.2,2,    21.75,2,    23.86,2,     0.00,2,     1.71,2,    0.877,2,    0.449,2, -999.000,9,-999.0000,9,  -999.00,9,   -999.0,9,  -999.00,9,-999.000,9,   -999.9,9,   -999.9,9,  -999.0, -999.00,-999.0000,-999.000,-999.000
    316N145_10,  I07N,   765,  1,     26,     26,2,19950730,1726,  2.0040,  57.3285, 4524,   -999,    402.2,  10.9065,  35.0062,2,  35.0003,2,    118.0,2, 10.8568,    119.9,2,    23.31,2,    23.91,2,     0.00,2,     1.72,2,    0.905,2,    0.465,2, -999.000,9,-999.0000,9,  -999.00,9,   -999.0,9,  -999.00,9,-999.000,9,   -999.9,9,   -999.9,9,  -999.0, -999.00,-999.0000,-999.000,-999.000
    316N145_10,  I07N,   765,  1,     25,     25,2,19950730,1726,  2.0040,  57.3285, 4524,   -999,    452.4,  10.6740,  35.0211,2,  35.0190,2,    104.5,2, 10.6187,    104.3,2,    26.42,2,    25.75,2,     0.00,2,     1.89,2,    0.718,2,    0.367,2, -999.000,9,-999.0000,9,  -999.00,9,   -999.0,9,  -999.00,9,-999.000,9,   -999.9,9,   -999.9,9,  -999.0, -999.00,-999.0000,-999.000,-999.000
    316N145_10,  I07N,   765,  1,     24,     24,2,19950730,1726,  2.0040,  57.3285, 4524,   -999,    497.7,  10.2307,  35.0010,2,  35.0054,2,     90.4,2, 10.1713,     87.0,2,    31.44,2,    28.33,2,     0.00,2,     2.05,2,    0.461,2,    0.243,2, -999.000,9,-999.0000,9,  -999.00,9,   -999.0,9,  -999.00,9,-999.000,9,   -999.9,9,   -999.9,9,  -999.0, -999.00,-999.0000,-999.000,-999.000
    316N145_10,  I07N,   765,  1,     23,     23,2,19950730,1726,  2.0040,  57.3285, 4524,   -999,    598.6,   9.8534,  35.1418,2,  35.1438,2,     53.8,2,  9.7832,     52.6,2,    43.91,2,    31.79,2,     0.00,2,     2.42,2,    0.169,2,    0.097,2, -999.000,9,-999.0000,9,  -999.00,9,   -999.0,9,  -999.00,9,-999.000,9,   -999.9,9,   -999.9,9,  -999.0, -999.00,-999.0000,-999.000,-999.000
    316N145_10,  I07N,   765,  1,     22,     22,2,19950730,1726,  2.0040,  57.3285, 4524,   -999,    698.3,   9.1469,  35.1480,2,  35.1235,3,     44.7,2,  9.0680,     44.6,2,    55.18,2,    33.60,2,     0.00,2,     2.58,2, -999.000,9, -999.000,9, -999.000,9,-999.0000,9,  -999.00,9,   -999.0,9,  -999.00,9,-999.000,9,   -999.9,9,   -999.9,9,  -999.0, -999.00,-999.0000,-999.000,-999.000
    316N145_10,  I07N,   765,  1,     21,     21,2,19950730,1726,  2.0040,  57.3285, 4524,   -999,    798.4,   8.6045,  35.1252,2,  35.1231,2,     44.1,2,  8.5170,     43.3,2,    62.11,2,    34.59,2,     0.00,2,     2.66,2,    0.049,2,    0.027,2, -999.000,9,-999.0000,9,  -999.00,9,   -999.0,9,  -999.00,9,-999.000,9,   -999.9,9,   -999.9,9,  -999.0, -999.00,-999.0000,-999.000,-999.000
    316N145_10,  I07N,   765,  1,     20,     20,2,19950730,1726,  2.0040,  57.3285, 4524,   -999,    900.1,   7.9832,  35.0868,2,  35.0887,2,     43.3,2,  7.8882,     43.0,2,    69.39,2,    35.53,2,     0.00,2,     2.73,2,    0.027,2,    0.023,2, -999.000,9,-999.0000,9,  -999.00,9,   -999.0,9,  -999.00,9,-999.000,9,   -999.9,9,   -999.9,9,  -999.0, -999.00,-999.0000,-999.000,-999.000
    316N145_10,  I07N,   765,  1,     19,     19,2,19950730,1726,  2.0040,  57.3285, 4524,   -999,    999.9,   7.5742,  35.0755,2,  35.0769,2,     44.1,2,  7.4710,     44.6,2,    74.42,2,    35.91,2,     0.00,2,     2.76,2,    0.023,2,    0.016,2, -999.000,9,-999.0000,9,  -999.00,9,   -999.0,9,  -999.00,9,-999.000,9,   -999.9,9,   -999.9,9,  -999.0, -999.00,-999.0000,-999.000,-999.000
    316N145_10,  I07N,   765,  1,     18,     18,2,19950730,1726,  2.0040,  57.3285, 4524,   -999,   1199.8,   6.0068,  34.9673,2,  34.9691,2,     57.7,2,  5.8953,     59.8,2,    90.49,2,    36.81,2,     0.00,2,     2.81,2,    0.006,2,    0.001,2, -999.000,9,-999.0000,9,  -999.00,9,   -999.0,9,  -999.00,9,-999.000,9,   -999.9,9,   -999.9,9,  -999.0, -999.00,-999.0000,-999.000,-999.000
    316N145_10,  I07N,   765,  1,     17,     17,2,19950730,1726,  2.0040,  57.3285, 4524,   -999,   1396.2,   5.0111,  34.8929,2,  34.8944,2,     78.8,2,  4.8899,     77.6,2,    98.92,2,    36.55,2,     0.00,2,     2.77,2,   -0.001,2,   -0.002,2, -999.000,9,-999.0000,9,  -999.00,9,   -999.0,9,  -999.00,9,-999.000,9,   -999.9,9,   -999.9,9,  -999.0, -999.00,-999.0000,-999.000,-999.000
    316N145_10,  I07N,   765,  1,     16,     16,2,19950730,1726,  2.0040,  57.3285, 4524,   -999,   1599.7,   4.1424,  34.8547,2,  34.8577,2,     94.5,2,  4.0117,     93.6,2,   107.75,2,    36.28,2,     0.00,2,     2.74,2,    0.000,2,   -0.001,2, -999.000,9,-999.0000,9,  -999.00,9,   -999.0,9,  -999.00,9,-999.000,9,   -999.9,9,   -999.9,9,  -999.0, -999.00,-999.0000,-999.000,-999.000
    316N145_10,  I07N,   765,  1,     15,     15,2,19950730,1726,  2.0040,  57.3285, 4524,   -999,   1800.4,   3.2714,  34.8080,2,  34.8078,2,    113.1,2,  3.1335,    114.0,2,   116.29,2,    35.73,2,     0.00,2,     2.66,2,   -0.001,2,    0.002,2, -999.000,9,-999.0000,9,  -999.00,9,   -999.0,9,  -999.00,9,-999.000,9,   -999.9,9,   -999.9,9,  -999.0, -999.00,-999.0000,-999.000,-999.000
    316N145_10,  I07N,   765,  1,     14,     14,2,19950730,1726,  2.0040,  57.3285, 4524,   -999,   1998.0,   2.7426,  34.7838,2,  34.7846,2,    126.3,2,  2.5947,    126.5,2,   122.20,2,    35.32,2,     0.00,2,     2.60,2,   -0.001,2,    0.000,2, -999.000,9,-999.0000,9,  -999.00,9,   -999.0,9,  -999.00,9,-999.000,9,   -999.9,9,   -999.9,9,  -999.0, -999.00,-999.0000,-999.000,-999.000
    316N145_10,  I07N,   765,  1,     13,     13,2,19950730,1726,  2.0040,  57.3285, 4524,   -999,   2202.1,   2.3797,  34.7681,2,  34.7683,2,    136.2,2,  2.2193,    136.3,2,   126.51,2,    35.05,2,     0.00,2,     2.57,2,   -0.001,2,    0.003,2, -999.000,9,-999.0000,9,  -999.00,9,   -999.0,9,  -999.00,9,-999.000,9,   -999.9,9,   -999.9,9,  -999.0, -999.00,-999.0000,-999.000,-999.000
    316N145_10,  I07N,   765,  1,     12,     12,2,19950730,1726,  2.0040,  57.3285, 4524,   -999,   2398.0,   2.1696,  34.7603,2,  34.7614,2,    141.8,2,  1.9951,    141.3,2,   129.39,2,    34.97,2,     0.00,2,     2.56,2, -999.000,9, -999.000,9, -999.000,9,-999.0000,9,  -999.00,9,   -999.0,9,  -999.00,9,-999.000,9,   -999.9,9,   -999.9,9,  -999.0, -999.00,-999.0000,-999.000,-999.000
    316N145_10,  I07N,   765,  1,     11,     11,2,19950730,1726,  2.0040,  57.3285, 4524,   -999,   2601.9,   1.9690,  34.7486,2,  34.7505,2,    148.9,2,  1.7796,    149.3,2,   130.27,2,    34.61,2,     0.00,2,     2.51,2, -999.000,9, -999.000,9, -999.000,9,-999.0000,9,  -999.00,9,   -999.0,9,  -999.00,9,-999.000,9,   -999.9,9,   -999.9,9,  -999.0, -999.00,-999.0000,-999.000,-999.000
    316N145_10,  I07N,   765,  1,     10,     10,2,19950730,1726,  2.0040,  57.3285, 4524,   -999,   2800.3,   1.8755,  34.7425,2,  34.7444,2,    154.0,2,  1.6694,    154.2,2,   130.78,2,    34.43,2,     0.00,2,     2.50,2, -999.000,9, -999.000,9, -999.000,9,-999.0000,9,  -999.00,9,   -999.0,9,  -999.00,9,-999.000,9,   -999.9,9,   -999.9,9,  -999.0, -999.00,-999.0000,-999.000,-999.000
    316N145_10,  I07N,   765,  1,      9,      9,2,19950730,1726,  2.0040,  57.3285, 4524,   -999,   2998.5,   1.7893,  34.7378,2,  34.7389,2,    158.6,2,  1.5661,    158.5,2,   130.74,2,    34.21,2,     0.00,2,     2.46,2, -999.000,9, -999.000,9, -999.000,9,-999.0000,9,  -999.00,9,   -999.0,9,  -999.00,9,-999.000,9,   -999.9,9,   -999.9,9,  -999.0, -999.00,-999.0000,-999.000,-999.000
    316N145_10,  I07N,   765,  1,      8,      8,2,19950730,1726,  2.0040,  57.3285, 4524,   -999,   3198.2,   1.7211,  34.7364,2,  34.7359,2,    161.1,2,  1.4798,    161.4,2,   131.62,2,    34.17,2,     0.00,2,     2.45,2, -999.000,9, -999.000,9, -999.000,9,-999.0000,9,  -999.00,9,   -999.0,9,  -999.00,9,-999.000,9,   -999.9,9,   -999.9,9,  -999.0, -999.00,-999.0000,-999.000,-999.000
    316N145_10,  I07N,   765,  1,      7,      7,2,19950730,1726,  2.0040,  57.3285, 4524,   -999,   3401.2,   1.6254,  34.7294,2,  34.7304,2,    167.7,2,  1.3661,    167.7,2,   130.67,2,    33.90,2,     0.00,2,     2.42,2, -999.000,9, -999.000,9, -999.000,9,-999.0000,9,  -999.00,9,   -999.0,9,  -999.00,9,-999.000,9,   -999.9,9,   -999.9,9,  -999.0, -999.00,-999.0000,-999.000,-999.000
    316N145_10,  I07N,   765,  1,      6,      6,2,19950730,1726,  2.0040,  57.3285, 4524,   -999,   3599.2,   1.5682,  34.7271,2,  34.7282,2,    169.5,2,  1.2899,    170.3,2,   131.18,2,    33.82,2,     0.00,2,     2.41,2, -999.000,9, -999.000,9, -999.000,9,-999.0000,9,  -999.00,9,   -999.0,9,  -999.00,9,-999.000,9,   -999.9,9,   -999.9,9,  -999.0, -999.00,-999.0000,-999.000,-999.000
    316N145_10,  I07N,   765,  1,      5,      5,2,19950730,1726,  2.0040,  57.3285, 4524,   -999,   3796.3,   1.5258,  34.7252,2,  34.7263,2,    171.8,2,  1.2279,    173.1,2,   131.51,2,    33.65,2,     0.00,2,     2.40,2, -999.000,9, -999.000,9, -999.000,9,-999.0000,9,  -999.00,9,   -999.0,9,  -999.00,9,-999.000,9,   -999.9,9,   -999.9,9,  -999.0, -999.00,-999.0000,-999.000,-999.000
    316N145_10,  I07N,   765,  1,      4,      4,2,19950730,1726,  2.0040,  57.3285, 4524,   -999,   4098.3,   1.4393,  34.7210,2,  34.7218,2,    178.0,2,  1.1113,    177.9,2,   131.29,2,    33.42,2,     0.00,2,     2.38,2, -999.000,9, -999.000,9, -999.000,9,-999.0000,9,  -999.00,9,   -999.0,9,  -999.00,9,-999.000,9,   -999.9,9,   -999.9,9,  -999.0, -999.00,-999.0000,-999.000,-999.000
    316N145_10,  I07N,   765,  1,      3,      3,2,19950730,1726,  2.0040,  57.3285, 4524,   -999,   4399.8,   1.3870,  34.7192,2,  34.7169,2,    182.1,2,  1.0268,    182.1,2,   131.07,2,    33.29,2,     0.00,2,     2.36,2, -999.000,9, -999.000,9, -999.000,9,-999.0000,9,  -999.00,9,   -999.0,9,  -999.00,9,-999.000,9,   -999.9,9,   -999.9,9,  -999.0, -999.00,-999.0000,-999.000,-999.000
    316N145_10,  I07N,   765,  1,      2,      2,2,19950730,1726,  2.0040,  57.3285, 4524,   -999,   4563.8,   1.3652,  34.7173,2,  34.7172,2,    184.3,2,  0.9870,    183.9,2,   130.84,2,    33.16,2,     0.00,2,     2.36,2, -999.000,9, -999.000,9, -999.000,9,-999.0000,9,  -999.00,9,   -999.0,9,  -999.00,9,-999.000,9,   -999.9,9,   -999.9,9,  -999.0, -999.00,-999.0000,-999.000,-999.000
    316N145_10,  I07N,   765,  1,      1,      1,2,19950730,1726,  2.0040,  57.3285, 4524,   -999,   4595.0,   1.3626,  34.7178,2,  34.7159,2,    185.1,2,  0.9808,    184.2,2,   130.99,2,    33.17,2,     0.00,2,     2.35,2, -999.000,9, -999.000,9, -999.000,9,-999.0000,9,  -999.00,9,   -999.0,9,  -999.00,9,-999.000,9,   -999.9,9,   -999.9,9,  -999.0, -999.00,-999.0000,-999.000,-999.000