BOTTLE,20090114PRINUNIVRMKPRINUNIVRMK
EXPOCODE,STNNBR,CASTNO,BTLNBR,DATE,LATITUDE,LONGITUDE,DEPTH,CTDPRS,CTDTMP,CTDSAL,CTDSAL_FLAG_W,SALNTY,SALNTY_FLAG_W,CTDOXY,CTDOXY_FLAG_W,OXYGEN,OXYGEN_FLAG_W,SILCAT,SILCAT_FLAG_W,NITRAT,NITRAT_FLAG_W,NITRIT,NITRIT_FLAG_W,PHSPHT,PHSPHT_FLAG_W,AMMONI,AMMONI_FLAG_W,ALKALI,ALKALI_FLAG_W,UREA,UREA_FLAG_W,THETA
,,,,,,,METERS,DBARS,ITS-90,PSS-78,,PSS-78,,UMOL/KG,,UMOL/KG,,UMOL/KG,,UMOL/KG,,UMOL/KG,,UMOL/KG,,UMOL/KG,,UMOL/KG,,UMOL/KG,,DEGC
         OMEX2,  1105,  1,      1,19990905, 42.9975,  -9.3198,  321,      4.9,  17.1910,  35.6370,2,-999.0000,9,    234.7,2,    245.9,2,     2.94,2,     1.46,2,     0.21,2,     0.02,2,  0.975892,2,   2336.9,2,0.0487946,2,  17.1902
         OMEX2,  1105,  1,      2,19990905, 42.9975,  -9.3198,  321,     20.0,  15.8330,  35.6550,2,-999.0000,9,    228.3,2,    221.3,2,     3.75,2,     6.80,2,     0.46,2,     0.34,2,      -999,9,   2335.6,2,     -999,9,  15.8299
         OMEX2,  1105,  1,      3,19990905, 42.9975,  -9.3198,  321,     29.0,  14.9960,  35.6660,2,-999.0000,9,    217.0,2,    212.1,2,     5.05,2,     9.59,2,     0.51,2,     0.42,2,  0.497694,2,   2338.0,2, 0.136622,2,  14.9916
         OMEX2,  1105,  1,      4,19990905, 42.9975,  -9.3198,  321,     38.5,  13.9330,  35.6820,2,-999.0000,9,    206.7,2,    196.3,2,     4.97,2,     9.82,2,     0.60,2,     0.56,2,      -999,9,   2336.5,2,     -999,9,  13.9274
         OMEX2,  1105,  1,      5,19990905, 42.9975,  -9.3198,  321,     48.4,  13.2560,  35.6990,2,  35.6880,2,    200.0,2,    191.6,2,  -999.00,9,  -999.00,9,  -999.00,9,     0.63,2,      -999,9,   2339.9,2,     -999,9,  13.2493
         OMEX2,  1106,  1,      1,19990905, 43.0022,  -9.3189, 1801,      3.7,  16.1920,  35.6570,2,-999.0000,9,   -999.0,9,   -999.0,9,     2.22,2,     1.45,2,     0.34,2,     0.17,2,      -999,9,   -999.0,9,     -999,9,  16.1914
         OMEX2,  1106,  1,      2,19990905, 43.0022,  -9.3189, 1801,      9.4,  15.9150,  35.6490,2,-999.0000,9,   -999.0,9,    232.9,2,     2.85,2,     3.19,2,     0.33,2,     0.23,2,      -999,9,   2337.5,2,     -999,9,  15.9135
         OMEX2,  1106,  1,      3,19990905, 43.0022,  -9.3189, 1801,     18.1,  14.8180,  35.6630,2,-999.0000,9,   -999.0,9,   -999.0,9,     3.52,2,     5.93,2,     0.52,2,     0.52,2,      -999,9,   -999.0,9,     -999,9,  14.8153
         OMEX2,  1106,  1,      4,19990905, 43.0022,  -9.3189, 1801,     28.7,  13.8100,  35.6820,2,-999.0000,9,   -999.0,9,   -999.0,9,     6.76,2,     8.21,2,     0.70,2,     0.66,2,      -999,9,   -999.0,9,     -999,9,  13.8059
         OMEX2,  1106,  1,      5,19990905, 43.0022,  -9.3189, 1801,     40.0,  13.4300,  35.6900,2,-999.0000,9,   -999.0,9,   -999.0,9,     5.66,2,     9.34,2,     0.67,2,     0.68,2,      -999,9,   -999.0,9,     -999,9,  13.4244
         OMEX2,  1107,  1,      1,19990905, 43.0016,  -9.5113, 3129,      3.8,  16.7470,  35.6730,2,-999.0000,9,    244.0,2,    247.2,2,  -999.00,9,  -999.00,9,  -999.00,9,     0.11,2,      -999,9,   2336.1,2,     -999,9,  16.7464
         OMEX2,  1107,  1,      2,19990905, 43.0016,  -9.5113, 3129,     19.3,  14.9570,  35.7150,2,-999.0000,9,    236.0,2,    227.0,2,  -999.00,9,  -999.00,9,  -999.00,9,     0.35,2,      -999,9,   2337.0,2,     -999,9,  14.9541
         OMEX2,  1107,  1,      3,19990905, 43.0016,  -9.5113, 3129,     28.5,  13.9440,  35.7500,2,-999.0000,9,    229.5,2,    221.5,2,  -999.00,9,  -999.00,9,  -999.00,9,  -999.00,9,      -999,9,   2338.5,2,     -999,9,  13.9399
         OMEX2,  1107,  1,      4,19990905, 43.0016,  -9.5113, 3129,     39.3,  13.1620,  35.7720,2,-999.0000,9,    221.8,2,    217.7,2,  -999.00,9,  -999.00,9,  -999.00,9,     0.47,2,      -999,9,   2338.9,2,     -999,9,  13.1565
         OMEX2,  1107,  1,      5,19990905, 43.0016,  -9.5113, 3129,     49.3,  13.0570,  35.7630,2,-999.0000,9,    223.6,2,    216.2,2,  -999.00,9,  -999.00,9,  -999.00,9,  -999.00,9,      -999,9,   2339.0,2,     -999,9,  13.0502
         OMEX2,  1107,  1,      6,19990905, 43.0016,  -9.5113, 3129,     60.4,  12.8000,  35.7480,2,-999.0000,9,    220.2,2,    215.2,2,  -999.00,9,  -999.00,9,  -999.00,9,     0.52,2,      -999,9,   2338.0,2,     -999,9,  12.7918
         OMEX2,  1107,  1,      7,19990905, 43.0016,  -9.5113, 3129,     68.9,  12.6910,  35.7420,2,-999.0000,9,    219.8,2,    215.8,2,  -999.00,9,  -999.00,9,  -999.00,9,  -999.00,9,      -999,9,   2337.1,2,     -999,9,  12.6816
         OMEX2,  1107,  1,      8,19990905, 43.0016,  -9.5113, 3129,     78.8,  12.6660,  35.7390,2,-999.0000,9,    219.4,2,    215.0,2,  -999.00,9,  -999.00,9,  -999.00,9,     0.54,2,      -999,9,   2338.2,2,     -999,9,  12.6553
         OMEX2,  1107,  1,      9,19990905, 43.0016,  -9.5113, 3129,     89.8,  12.6430,  35.7390,2,-999.0000,9,    219.1,2,    215.1,2,  -999.00,9,  -999.00,9,  -999.00,9,  -999.00,9,      -999,9,   2339.1,2,     -999,9,  12.6308
         OMEX2,  1107,  1,     10,19990905, 43.0016,  -9.5113, 3129,    100.9,  12.5840,  35.7360,2,-999.0000,9,    218.7,2,    215.5,2,  -999.00,9,  -999.00,9,  -999.00,9,     0.55,2,      -999,9,   2339.1,2,     -999,9,  12.5704
         OMEX2,  1107,  1,     11,19990905, 43.0016,  -9.5113, 3129,    149.5,  12.4120,  35.7140,2,-999.0000,9,    216.0,2,    210.5,2,  -999.00,9,  -999.00,9,  -999.00,9,     0.59,2,      -999,9,   2337.2,2,     -999,9,  12.3920
         OMEX2,  1107,  1,     12,19990905, 43.0016,  -9.5113, 3129,    190.2,  12.1630,  35.6900,2,  35.6900,2,    209.3,2,    202.7,2,  -999.00,9,  -999.00,9,  -999.00,9,     0.69,2,      -999,9,   2338.3,2,     -999,9,  12.1378
         OMEX2,  1108,  1,      1,19990905, 42.8335,  -9.4671,  321,    150.6,  12.2230,  35.6950,2,  35.7000,2,   -999.0,9,   -999.0,9,  -999.00,9,  -999.00,9,  -999.00,9,  -999.00,9,      -999,9,   -999.0,9,     -999,9,  12.2030
         OMEX2,  1109,  1,      1,19990905, 42.8340,  -9.3206,  321,    115.7,  12.4520,  35.7110,2,  35.7150,2,   -999.0,9,   -999.0,9,  -999.00,9,  -999.00,9,  -999.00,9,  -999.00,9,      -999,9,   -999.0,9,     -999,9,  12.4365
         OMEX2,  1110,  1,      1,19990905, 42.6640,  -9.3598,  321,      3.4,  18.3790,  35.6830,2,-999.0000,9,    228.6,2,    242.7,2,     2.00,2,  -999.00,9,  -999.00,9,     0.00,2,      -999,9,   2335.2,2,     -999,9,  18.3784
         OMEX2,  1110,  1,      2,19990905, 42.6640,  -9.3598,  321,     17.9,  16.4940,  35.7170,2,-999.0000,9,    228.3,2,    245.6,2,     2.53,2,  -999.00,9,  -999.00,9,     0.01,2,      -999,9,   2337.2,2,     -999,9,  16.4911
         OMEX2,  1110,  1,      3,19990905, 42.6640,  -9.3598,  321,     28.8,  15.6190,  35.7230,2,-999.0000,9,    226.7,2,    238.7,2,  -999.00,9,  -999.00,9,  -999.00,9,  -999.00,9,      -999,9,   2338.7,2,     -999,9,  15.6145
         OMEX2,  1110,  1,      4,19990905, 42.6640,  -9.3598,  321,     38.1,  14.0970,  35.7380,2,-999.0000,9,    214.7,2,    218.8,2,     2.94,2,  -999.00,9,  -999.00,9,     0.29,2,      -999,9,   2339.4,2,     -999,9,  14.0915
         OMEX2,  1110,  1,      5,19990905, 42.6640,  -9.3598,  321,     50.3,  12.9600,  35.7380,2,-999.0000,9,    190.0,2,    184.2,2,  -999.00,9,  -999.00,9,  -999.00,9,  -999.00,9,      -999,9,   2338.0,2,     -999,9,  12.9531
         OMEX2,  1110,  1,      6,19990905, 42.6640,  -9.3598,  321,     59.0,  12.7710,  35.7360,2,-999.0000,9,    193.4,2,    190.5,2,     5.72,2,  -999.00,9,  -999.00,9,     0.65,2,      -999,9,   2339.0,2,     -999,9,  12.7630
         OMEX2,  1110,  1,      7,19990905, 42.6640,  -9.3598,  321,     69.6,  12.7110,  35.7340,2,-999.0000,9,    183.7,2,    178.0,2,  -999.00,9,  -999.00,9,  -999.00,9,  -999.00,9,      -999,9,   2338.1,2,     -999,9,  12.7015
         OMEX2,  1110,  1,      8,19990905, 42.6640,  -9.3598,  321,     79.4,  12.6360,  35.7290,2,-999.0000,9,    179.6,2,    163.7,2,     5.54,2,  -999.00,9,  -999.00,9,     0.76,2,      -999,9,   2336.1,2,     -999,9,  12.6253
         OMEX2,  1110,  1,      9,19990905, 42.6640,  -9.3598,  321,     89.3,  12.5500,  35.7220,2,-999.0000,9,    195.9,2,    196.2,2,  -999.00,9,  -999.00,9,  -999.00,9,  -999.00,9,      -999,9,   2341.2,2,     -999,9,  12.5380
         OMEX2,  1110,  1,     10,19990905, 42.6640,  -9.3598,  321,    100.1,  12.4160,  35.7100,2,-999.0000,9,    190.4,2,    190.2,2,     6.71,2,  -999.00,9,  -999.00,9,     0.74,2,      -999,9,   2337.2,2,     -999,9,  12.4026
         OMEX2,  1110,  1,     11,19990905, 42.6640,  -9.3598,  321,    120.4,  12.4160,  35.7090,2,  35.7160,2,    185.7,2,    185.7,2,     8.31,2,  -999.00,9,  -999.00,9,     0.77,2,      -999,9,   2336.3,2,     -999,9,  12.3999
         OMEX2,  1111,  1,      1,19990905, 42.5040,  -9.1842,  321,     80.7,  12.7510,  35.7430,2,  35.7410,2,   -999.0,9,   -999.0,9,  -999.00,9,  -999.00,9,  -999.00,9,  -999.00,9,      -999,9,   -999.0,9,     -999,9,  12.7400
         OMEX2,  1112,  1,      1,19990905, 42.5020,  -9.2819,  321,    123.9,  12.3390,  35.7030,2,  35.7040,2,   -999.0,9,   -999.0,9,  -999.00,9,  -999.00,9,  -999.00,9,  -999.00,9,      -999,9,   -999.0,9,     -999,9,  12.3225
         OMEX2,  1113,  1,      1,19990905, 42.4964,  -9.4379,  817,    807.0,  11.7320,  36.0960,2,  36.0950,2,   -999.0,9,   -999.0,9,  -999.00,9,  -999.00,9,  -999.00,9,  -999.00,9,      -999,9,   -999.0,9,     -999,9,  11.6244
         OMEX2,  1114,  1,      1,19990906, 42.9986,  -9.4089,  321,      3.8,  16.8240,  35.6750,2,-999.0000,9,    243.6,2,    242.9,2,     1.96,2,     0.59,2,     0.11,2,     0.04,2, 0.0585519,2,   2335.0,2,0.0390346,2,  16.8234
         OMEX2,  1114,  1,      2,19990906, 42.9986,  -9.4089,  321,     19.6,  15.4360,  35.7200,2,-999.0000,9,    235.8,2,    236.4,2,  -999.00,9,  -999.00,9,  -999.00,9,     0.17,2,      -999,9,   2337.8,2,     -999,9,  15.4330
         OMEX2,  1114,  1,      3,19990906, 42.9986,  -9.4089,  321,     28.6,  15.0760,  35.7250,2,-999.0000,9,    233.4,2,    225.3,2,  -999.00,9,  -999.00,9,  -999.00,9,  -999.00,9,      -999,9,   2337.0,2,     -999,9,  15.0716
         OMEX2,  1114,  1,      4,19990906, 42.9986,  -9.4089,  321,     43.6,  13.3960,  35.7170,2,-999.0000,9,    205.6,2,    194.0,2,     4.62,2,     8.74,2,     0.70,2,     0.54,2,  0.243959,2,   2335.8,2, 0.107342,2,  13.3899
         OMEX2,  1114,  1,      5,19990906, 42.9986,  -9.4089,  321,     58.9,  12.8360,  35.7220,2,-999.0000,9,    198.6,2,    190.2,2,  -999.00,9,  -999.00,9,  -999.00,9,     0.65,2,      -999,9,   2335.1,2,     -999,9,  12.8280
         OMEX2,  1114,  1,      6,19990906, 42.9986,  -9.4089,  321,     79.3,  12.6320,  35.7120,2,-999.0000,9,    195.5,2,    190.3,2,  -999.00,9,  -999.00,9,  -999.00,9,  -999.00,9,      -999,9,   2329.1,2,     -999,9,  12.6213
         OMEX2,  1115,  1,      1,19990906, 43.0061,  -9.4113, 1801,      5.2,  16.7870,  35.6780,2,-999.0000,9,    241.0,2,   -999.0,9,     2.02,2,     0.55,2,     0.09,2,  -999.00,9,      -999,9,   -999.0,9,     -999,9,  16.7861
         OMEX2,  1115,  1,      2,19990906, 43.0061,  -9.4113, 1801,     19.4,  14.8100,  35.7380,2,-999.0000,9,    227.1,2,   -999.0,9,     2.72,2,     3.33,2,     0.36,2,  -999.00,9,      -999,9,   -999.0,9,     -999,9,  14.8071
         OMEX2,  1115,  1,      3,19990906, 43.0061,  -9.4113, 1801,     27.7,  14.2120,  35.7330,2,-999.0000,9,    222.4,2,   -999.0,9,  -999.00,9,  -999.00,9,  -999.00,9,  -999.00,9,      -999,9,   -999.0,9,     -999,9,  14.2080
         OMEX2,  1115,  1,      4,19990906, 43.0061,  -9.4113, 1801,     41.1,  13.2370,  35.7180,2,-999.0000,9,    202.6,2,   -999.0,9,     4.64,2,    10.34,2,     0.30,2,  -999.00,9,      -999,9,   -999.0,9,     -999,9,  13.2313
         OMEX2,  1115,  1,      5,19990906, 43.0061,  -9.4113, 1801,     51.4,  12.8730,  35.7200,2,-999.0000,9,    197.5,2,   -999.0,9,  -999.00,9,  -999.00,9,  -999.00,9,  -999.00,9,      -999,9,   -999.0,9,     -999,9,  12.8660
         OMEX2,  1115,  1,      6,19990906, 43.0061,  -9.4113, 1801,     61.3,  12.6960,  35.7180,2,-999.0000,9,    197.1,2,   -999.0,9,     5.32,2,    11.20,2,     0.19,2,  -999.00,9,      -999,9,   -999.0,9,     -999,9,  12.6877
         OMEX2,  1115,  1,      7,19990906, 43.0061,  -9.4113, 1801,     71.5,  12.6470,  35.7130,2,-999.0000,9,    196.0,2,   -999.0,9,  -999.00,9,  -999.00,9,  -999.00,9,  -999.00,9,      -999,9,   -999.0,9,     -999,9,  12.6373
         OMEX2,  1115,  1,      8,19990906, 43.0061,  -9.4113, 1801,     82.5,  12.5830,  35.7110,2,-999.0000,9,    194.7,2,   -999.0,9,     6.09,2,    11.55,2,     0.21,2,  -999.00,9,      -999,9,   -999.0,9,     -999,9,  12.5719
         OMEX2,  1115,  1,      9,19990906, 43.0061,  -9.4113, 1801,     91.9,  12.5480,  35.7110,2,-999.0000,9,    195.6,2,    193.1,2,  -999.00,9,  -999.00,9,  -999.00,9,  -999.00,9,      -999,9,   2337.2,2,     -999,9,  12.5356
         OMEX2,  1115,  1,     10,19990906, 43.0061,  -9.4113, 1801,    101.7,  12.4950,  35.7110,2,-999.0000,9,    197.3,2,    195.9,2,     5.85,2,    11.36,2,     0.28,2,  -999.00,9,      -999,9,   2337.2,2,     -999,9,  12.4813
         OMEX2,  1115,  1,     11,19990906, 43.0061,  -9.4113, 1801,    122.6,  12.4770,  35.7100,2,  35.7110,2,    197.8,2,    196.4,2,     5.82,2,    11.61,2,     0.16,2,  -999.00,9,      -999,9,   2338.2,2,     -999,9,  12.4605
         OMEX2,  1116,  1,      1,19990906, 43.0064,  -9.4078, 1801,      3.9,  16.4450,  35.6890,2,-999.0000,9,   -999.0,9,   -999.0,9,  -999.00,9,  -999.00,9,  -999.00,9,  -999.00,9,      -999,9,   -999.0,9,     -999,9,  16.4444
         OMEX2,  1116,  1,      2,19990906, 43.0064,  -9.4078, 1801,     18.9,  14.4670,  35.7350,2,-999.0000,9,   -999.0,9,   -999.0,9,  -999.00,9,  -999.00,9,  -999.00,9,  -999.00,9,      -999,9,   -999.0,9,     -999,9,  14.4642
         OMEX2,  1116,  1,      3,19990906, 43.0064,  -9.4078, 1801,     29.5,  13.3140,  35.7200,2,-999.0000,9,   -999.0,9,   -999.0,9,  -999.00,9,  -999.00,9,  -999.00,9,  -999.00,9,      -999,9,   -999.0,9,     -999,9,  13.3099
         OMEX2,  1116,  1,      4,19990906, 43.0064,  -9.4078, 1801,     43.8,  13.1040,  35.7150,2,-999.0000,9,   -999.0,9,   -999.0,9,  -999.00,9,  -999.00,9,  -999.00,9,  -999.00,9,      -999,9,   -999.0,9,     -999,9,  13.0979
         OMEX2,  1116,  1,      5,19990906, 43.0064,  -9.4078, 1801,     58.9,  12.7420,  35.7170,2,-999.0000,9,   -999.0,9,   -999.0,9,  -999.00,9,  -999.00,9,  -999.00,9,  -999.00,9,      -999,9,   -999.0,9,     -999,9,  12.7340
         OMEX2,  1116,  1,      6,19990906, 43.0064,  -9.4078, 1801,     79.7,  12.6430,  35.7120,2,-999.0000,9,   -999.0,9,   -999.0,9,  -999.00,9,  -999.00,9,  -999.00,9,  -999.00,9,      -999,9,   -999.0,9,     -999,9,  12.6322
         OMEX2,  1117,  1,      1,19990906, 42.6701,  -9.7167, 2059,      3.5,  19.2130,  35.6860,2,-999.0000,9,    235.0,2,    237.7,2,     2.32,2,  -999.00,9,  -999.00,9,     0.00,2,      -999,9,   2338.7,2,     -999,9,  19.2124
         OMEX2,  1117,  1,      2,19990906, 42.6701,  -9.7167, 2059,     20.1,  18.3590,  35.6940,2,-999.0000,9,    233.7,2,    243.5,2,     3.09,2,  -999.00,9,  -999.00,9,     0.00,2,      -999,9,   2341.3,2,     -999,9,  18.3555
         OMEX2,  1117,  1,      3,19990906, 42.6701,  -9.7167, 2059,     28.6,  17.1430,  35.7020,2,-999.0000,9,    237.0,2,    249.9,2,  -999.00,9,  -999.00,9,  -999.00,9,  -999.00,9,      -999,9,   2341.9,2,     -999,9,  17.1382
         OMEX2,  1117,  1,      4,19990906, 42.6701,  -9.7167, 2059,     38.7,  15.4740,  35.7470,2,-999.0000,9,    240.7,2,    252.6,2,     2.37,2,  -999.00,9,  -999.00,9,     0.03,2,      -999,9,   2342.8,2,     -999,9,  15.4680
         OMEX2,  1117,  1,      5,19990906, 42.6701,  -9.7167, 2059,     48.4,  15.1520,  35.7720,2,-999.0000,9,    243.6,2,    245.3,2,  -999.00,9,  -999.00,9,  -999.00,9,  -999.00,9,      -999,9,   2343.0,2,     -999,9,  15.1446
         OMEX2,  1117,  1,      6,19990906, 42.6701,  -9.7167, 2059,     59.6,  14.1350,  35.8170,2,-999.0000,9,    232.9,2,    236.1,2,     3.88,2,  -999.00,9,  -999.00,9,     0.16,2,      -999,9,   2344.5,2,     -999,9,  14.1263
         OMEX2,  1117,  1,      7,19990906, 42.6701,  -9.7167, 2059,     68.6,  13.5380,  35.8040,2,-999.0000,9,    229.4,2,    228.7,2,  -999.00,9,  -999.00,9,  -999.00,9,  -999.00,9,      -999,9,   2342.7,2,     -999,9,  13.5283
         OMEX2,  1117,  1,      8,19990906, 42.6701,  -9.7167, 2059,     78.8,  13.3170,  35.8050,2,-999.0000,9,    228.6,2,    226.8,2,     2.85,2,  -999.00,9,  -999.00,9,     0.36,2,      -999,9,   2342.8,2,     -999,9,  13.3059
         OMEX2,  1117,  1,      9,19990906, 42.6701,  -9.7167, 2059,     89.3,  13.0630,  35.7930,2,-999.0000,9,    229.0,2,    228.3,2,  -999.00,9,  -999.00,9,  -999.00,9,  -999.00,9,      -999,9,   2342.9,2,     -999,9,  13.0506
         OMEX2,  1117,  1,     10,19990906, 42.6701,  -9.7167, 2059,    101.6,  12.9620,  35.7810,2,  35.7840,2,    228.7,2,    226.3,2,     3.34,2,  -999.00,9,  -999.00,9,     0.43,2,      -999,9,   2345.0,2,     -999,9,  12.9480
         OMEX2,  1118,  1,      1,19990906, 42.6645,  -9.7161, 2059,    150.5,  12.4940,  35.7280,2,-999.0000,9,    218.0,2,    218.9,2,     4.52,2,  -999.00,9,  -999.00,9,     0.56,2,      -999,9,   2339.2,2,     -999,9,  12.4737
         OMEX2,  1118,  1,      2,19990906, 42.6645,  -9.7161, 2059,    200.8,  12.0120,  35.6630,2,-999.0000,9,    218.9,2,    217.5,2,     5.01,2,  -999.00,9,  -999.00,9,     0.62,2,      -999,9,   2338.4,2,     -999,9,  11.9856
         OMEX2,  1118,  1,      3,19990906, 42.6645,  -9.7161, 2059,    302.0,  11.6360,  35.6280,2,-999.0000,9,    214.8,2,    212.4,2,     6.73,2,  -999.00,9,  -999.00,9,     0.73,2,      -999,9,   2334.5,2,     -999,9,  11.5969
         OMEX2,  1118,  1,      4,19990906, 42.6645,  -9.7161, 2059,    403.1,  11.3400,  35.6350,2,-999.0000,9,    207.5,2,    205.5,2,     6.38,2,  -999.00,9,  -999.00,9,     0.80,2,      -999,9,   2336.7,2,     -999,9,  11.2885
         OMEX2,  1118,  1,      5,19990906, 42.6645,  -9.7161, 2059,    604.9,  11.2860,  35.8190,2,-999.0000,9,    178.4,2,    190.0,2,     9.07,2,  -999.00,9,  -999.00,9,     0.89,2,      -999,9,   2352.8,2,     -999,9,  11.2081
         OMEX2,  1118,  1,      6,19990906, 42.6645,  -9.7161, 2059,    808.4,  11.7410,  36.1280,2,-999.0000,9,    171.3,2,    185.4,2,     8.55,2,  -999.00,9,  -999.00,9,     0.84,2,      -999,9,   2371.7,2,     -999,9,  11.6331
         OMEX2,  1118,  1,      7,19990906, 42.6645,  -9.7161, 2059,    909.0,  11.5940,  36.1810,2,-999.0000,9,    169.7,2,    183.9,2,     8.95,2,  -999.00,9,  -999.00,9,     0.83,2,      -999,9,   2385.8,2,     -999,9,  11.4731
         OMEX2,  1118,  1,      8,19990906, 42.6645,  -9.7161, 2059,   1011.2,  11.4130,  36.2010,2,-999.0000,9,    168.4,2,    183.7,2,     9.30,2,  -999.00,9,  -999.00,9,     0.86,2,      -999,9,   2389.8,2,     -999,9,  11.2792
         OMEX2,  1118,  1,      9,19990906, 42.6645,  -9.7161, 2059,   1111.7,  10.9780,  36.1600,2,-999.0000,9,    168.5,2,    183.4,2,    10.07,2,  -999.00,9,  -999.00,9,     0.88,2,      -999,9,   2389.0,2,     -999,9,  10.8337
         OMEX2,  1118,  1,     10,19990906, 42.6645,  -9.7161, 2059,   1263.4,  10.0880,  36.0930,2,-999.0000,9,    174.9,2,    192.0,2,    11.06,2,  -999.00,9,  -999.00,9,     0.92,2,      -999,9,   2384.5,2,     -999,9,   9.9308
         OMEX2,  1118,  1,     11,19990906, 42.6645,  -9.7161, 2059,   1466.6,   7.8210,  35.6480,2,  35.6470,2,    197.6,2,    212.3,2,    12.82,2,  -999.00,9,  -999.00,9,     1.02,2,      -999,9,   2356.2,2,     -999,9,   7.6612