BOTTLE,20090114PRINUNIVRMKPRINUNIVRMK
EXPOCODE,STNNBR,CASTNO,BTLNBR,DATE,LATITUDE,LONGITUDE,DEPTH,CTDPRS,CTDTMP,CTDSAL,CTDSAL_FLAG_W,SALNTY,SALNTY_FLAG_W,CTDOXY,CTDOXY_FLAG_W,OXYGEN,OXYGEN_FLAG_W,SILCAT,SILCAT_FLAG_W,NITRAT,NITRAT_FLAG_W,NITRIT,NITRIT_FLAG_W,PHSPHT,PHSPHT_FLAG_W,AMMONI,AMMONI_FLAG_W,ALKALI,ALKALI_FLAG_W,UREA,UREA_FLAG_W,THETA
,,,,,,,METERS,DBARS,ITS-90,PSS-78,,PSS-78,,UMOL/KG,,UMOL/KG,,UMOL/KG,,UMOL/KG,,UMOL/KG,,UMOL/KG,,UMOL/KG,,UMOL/KG,,UMOL/KG,,DEGC
         OMEX2,   212,  1,      1,19970622, 42.1545,  -9.7321, 1954,    100.3,  13.8210,  35.8800,2,-999.0000,9,    228.6,2,    223.1,2,     2.21,6,  -999.00,9,  -999.00,9,     0.39,2,  0.117086,2,   2348.6,2,  3.39549,2,  13.8066
         OMEX2,   212,  1,      2,19970622, 42.1545,  -9.7321, 1954,    125.3,  13.5230,  35.8490,2,-999.0000,9,    228.5,2,    222.9,2,     2.44,6,  -999.00,9,  -999.00,9,     0.43,2, 0.0878165,2,   2345.8,2,  3.93223,2,  13.5052
         OMEX2,   212,  1,      3,19970622, 42.1545,  -9.7321, 1954,    150.4,  13.3080,  35.8290,2,-999.0000,9,    224.8,2,    221.3,2,     2.59,6,  -999.00,9,  -999.00,9,     0.52,2, 0.0975753,2,   2349.9,2,   4.2055,2,  13.2869
         OMEX2,   212,  1,      4,19970622, 42.1545,  -9.7321, 1954,    200.9,  12.8510,  35.7770,2,-999.0000,9,    220.6,2,   -999.0,9,     2.98,2,  -999.00,9,  -999.00,9,     0.59,2,      -999,9,   -999.0,9,     -999,9,  12.8234
         OMEX2,   212,  1,      5,19970622, 42.1545,  -9.7321, 1954,    402.7,  11.5780,  35.6320,2,-999.0000,9,    217.5,2,    215.1,2,     4.05,6,  -999.00,9,  -999.00,9,     0.74,2,  0.107349,2,   2335.6,2,  6.72392,2,  11.5259
         OMEX2,   212,  1,      6,19970622, 42.1545,  -9.7321, 1954,    604.6,  11.1070,  35.7330,2,-999.0000,9,    199.2,2,    196.5,2,     6.14,6,  -999.00,9,  -999.00,9,     0.99,3,   0.10734,2,   2346.8,2,  8.04078,2,  11.0300
         OMEX2,   212,  1,      7,19970622, 42.1545,  -9.7321, 1954,    806.7,  11.5150,  36.0700,2,-999.0000,9,    187.1,2,    185.8,2,     6.91,6,  -999.00,9,  -999.00,9,     0.92,2,  0.107314,2,   2378.8,2,   8.0095,2,  11.4087
         OMEX2,   212,  1,      8,19970622, 42.1545,  -9.7321, 1954,    906.5,  11.3350,  36.1200,2,-999.0000,9,    185.0,2,    185.2,2,     7.40,6,  -999.00,9,  -999.00,9,     0.97,2,  0.117065,2,   2383.9,2,   8.2726,2,  11.2161
         OMEX2,   212,  1,      9,19970622, 42.1545,  -9.7321, 1954,   1009.4,  11.1270,  36.1420,2,-999.0000,9,    184.6,2,    183.5,2,     8.10,6,  -999.00,9,  -999.00,9,     0.98,2,  0.136574,2,   2385.9,2,  8.36026,2,  10.9955
         OMEX2,   212,  1,     10,19970622, 42.1545,  -9.7321, 1954,   1111.0,  10.6680,  36.0810,2,-999.0000,9,    185.7,2,    185.8,2,     8.79,6,  -999.00,9,  -999.00,9,     0.97,2, 0.0975571,2,   2403.2,3,  8.53624,2,  10.5263
         OMEX2,   212,  1,     11,19970622, 42.1545,  -9.7321, 1954,   1263.6,   9.1720,  35.8290,2,-999.0000,9,    195.6,2,    197.9,2,    10.01,6,  -999.00,9,  -999.00,9,     1.07,2,   0.11709,2,   2368.7,2,  9.09402,2,   9.0234
         OMEX2,   212,  1,     12,19970622, 42.1545,  -9.7321, 1954,   1452.2,   7.8490,  35.6530,2,-999.0000,9,    209.5,2,    212.7,2,    10.47,6,  -999.00,9,  -999.00,9,     1.11,2,  0.136623,2,   2347.1,2,  9.28062,2,   7.6906
         OMEX2,   213,  1,      1,19970622, 42.1482,  -9.7363, 1954,      8.7,  18.7530,  35.7420,2,-999.0000,9,    236.8,2,    237.3,2,     1.01,6,  -999.00,9,  -999.00,9,     0.06,2,  0.204921,2,   2342.0,2,  0.21468,2,  18.7515
         OMEX2,   213,  1,      2,19970622, 42.1482,  -9.7363, 1954,     18.5,  18.3990,  35.7950,2,-999.0000,9,    236.8,2,    237.7,2,     0.94,6,  -999.00,9,  -999.00,9,     0.03,2,  0.107336,2,   2345.2,2, 0.214671,2,  18.3958
         OMEX2,   213,  1,      3,19970622, 42.1482,  -9.7363, 1954,     40.1,  17.5560,  35.8680,2,-999.0000,9,    242.6,2,    244.8,2,     0.86,6,  -999.00,9,  -999.00,9,     0.02,2, 0.0878152,2,   2350.7,2, 0.195145,2,  17.5492
         OMEX2,   213,  1,      4,19970622, 42.1482,  -9.7363, 1954,     58.8,  16.3120,  35.8800,2,-999.0000,9,    247.8,2,    249.4,2,     0.89,6,  -999.00,9,  -999.00,9,     0.04,2,  0.126843,2,   2349.3,2,   0.2049,2,  16.3025
         OMEX2,   213,  1,      5,19970622, 42.1482,  -9.7363, 1954,     79.0,  14.8520,  35.8970,2,-999.0000,9,    241.2,2,    246.5,2,     1.02,6,  -999.00,9,  -999.00,9,     0.07,2,  0.107327,2,   2347.2,2, 0.214655,2,  14.8401
         OMEX2,   213,  1,      6,19970622, 42.1482,  -9.7363, 1954,     99.4,  14.0690,  35.8960,2,-999.0000,9,    230.7,2,    228.5,2,     1.72,6,  -999.00,9,  -999.00,9,     0.27,2, 0.0878134,2,   2348.5,2, 0.273197,2,  14.0545
         OMEX2,   213,  1,      7,19970622, 42.1482,  -9.7363, 1954,    201.2,  12.6830,  35.7570,2,-999.0000,9,    218.3,2,    214.9,2,     3.32,2,  -999.00,9,  -999.00,9,  -999.00,9,      -999,9,   2342.1,2,     -999,9,  12.6556
         OMEX2,   214,  1,      1,19970623, 42.1506, -10.3044, 2947,      9.3,  18.1570,  35.8800,2,-999.0000,9,    238.0,2,    236.6,2,  -999.00,9,  -999.00,9,  -999.00,9,  -999.00,9,      -999,9,   2351.4,2,     -999,9,  18.1554
         OMEX2,   214,  1,      2,19970623, 42.1506, -10.3044, 2947,     59.9,  14.9320,  35.9010,2,-999.0000,9,    255.9,2,    249.9,2,  -999.00,9,  -999.00,9,  -999.00,9,  -999.00,9,      -999,9,   2353.1,2,     -999,9,  14.9229
         OMEX2,   215,  1,      1,19970623, 42.1492, -10.3100, 2947,    100.3,  13.5460,  35.8360,2,-999.0000,9,    235.0,2,    233.6,2,     1.86,6,  -999.00,9,  -999.00,9,     0.33,2,      -999,9,   2346.8,2,     -999,9,  13.5318
         OMEX2,   215,  1,      2,19970623, 42.1492, -10.3100, 2947,    125.0,  13.1820,  35.7850,2,-999.0000,9,    235.8,2,    235.2,2,     1.94,6,  -999.00,9,  -999.00,9,     0.36,2,      -999,9,   2347.0,2,     -999,9,  13.1646
         OMEX2,   215,  1,      3,19970623, 42.1492, -10.3100, 2947,    148.9,  12.8950,  35.7540,2,-999.0000,9,    232.5,2,    232.8,2,     2.41,6,  -999.00,9,  -999.00,9,     0.47,2,      -999,9,   2343.0,2,     -999,9,  12.8745
         OMEX2,   215,  1,      4,19970623, 42.1492, -10.3100, 2947,    200.4,  12.3630,  35.6920,2,-999.0000,9,    226.9,2,    225.2,2,     3.23,6,  -999.00,9,  -999.00,9,     0.59,2,      -999,9,   2339.3,2,     -999,9,  12.3361
         OMEX2,   215,  1,      5,19970623, 42.1492, -10.3100, 2947,    401.9,  11.3680,  35.5710,2,-999.0000,9,    221.9,2,    220.7,2,     4.35,6,  -999.00,9,  -999.00,9,     0.73,2,      -999,9,   2333.7,2,     -999,9,  11.3166
         OMEX2,   215,  1,      6,19970623, 42.1492, -10.3100, 2947,    604.0,  10.8030,  35.6080,2,-999.0000,9,    205.9,2,    206.3,2,     6.04,6,  -999.00,9,  -999.00,9,     0.91,2,      -999,9,   2340.0,2,     -999,9,  10.7275
         OMEX2,   215,  1,      7,19970623, 42.1492, -10.3100, 2947,    805.8,  10.4890,  35.7910,2,-999.0000,9,    189.7,2,    188.9,2,     8.33,6,  -999.00,9,  -999.00,9,     1.00,2,      -999,9,   2355.1,2,     -999,9,  10.3889
         OMEX2,   215,  1,      8,19970623, 42.1492, -10.3100, 2947,    908.4,  10.3240,  35.8580,2,-999.0000,9,    187.1,2,    187.1,2,     8.74,6,  -999.00,9,  -999.00,9,  -999.00,9,      -999,9,   2364.2,2,     -999,9,  10.2116
         OMEX2,   215,  1,      9,19970623, 42.1492, -10.3100, 2947,   1008.9,  10.2070,  35.9240,2,-999.0000,9,    187.3,2,    187.0,2,     9.22,6,  -999.00,9,  -999.00,9,     1.01,2,      -999,9,   2373.4,2,     -999,9,  10.0823
         OMEX2,   215,  1,     10,19970623, 42.1492, -10.3100, 2947,   1110.9,   9.8510,  35.9140,2,-999.0000,9,    190.0,2,    190.4,2,     9.61,6,  -999.00,9,  -999.00,9,     1.02,2,      -999,9,   2375.5,2,     -999,9,   9.7159
         OMEX2,   215,  1,     11,19970623, 42.1492, -10.3100, 2947,   1262.3,   8.8460,  35.7830,2,-999.0000,9,    199.1,2,    201.3,2,    10.13,6,  -999.00,9,  -999.00,9,     1.08,2,      -999,9,   2361.8,2,     -999,9,   8.7006
         OMEX2,   215,  1,     12,19970623, 42.1492, -10.3100, 2947,   1448.3,   6.1280,  35.3190,2,-999.0000,9,    224.8,2,    231.4,2,    11.74,6,  -999.00,9,  -999.00,9,     1.14,2,      -999,9,   2331.6,2,     -999,9,   5.9888
         OMEX2,   216,  1,      1,19970623, 42.1463, -10.3204, 2947,      9.2,  18.1580,  35.8780,2,-999.0000,9,    236.4,2,    237.9,2,     1.00,6,  -999.00,9,  -999.00,9,     0.01,2, 0.0878146,2,   2346.3,2, 0.214658,2,  18.1564
         OMEX2,   216,  1,      2,19970623, 42.1463, -10.3204, 2947,     19.6,  18.1580,  35.8780,2,-999.0000,9,    236.5,2,    237.9,2,     0.97,6,  -999.00,9,  -999.00,9,     0.01,2, 0.0975718,2,   2349.3,2, 0.243929,2,  18.1546
         OMEX2,   216,  1,      3,19970623, 42.1463, -10.3204, 2947,     39.5,  17.3650,  35.8730,2,-999.0000,9,    239.0,2,    248.2,2,     1.03,6,  -999.00,9,  -999.00,9,     0.03,2,  0.117087,2,   2347.8,2, 0.234173,2,  17.3584
         OMEX2,   216,  1,      4,19970623, 42.1463, -10.3204, 2947,     59.1,  15.5120,  35.9060,2,-999.0000,9,    250.6,2,    255.6,2,     1.07,6,  -999.00,9,  -999.00,9,     0.04,2,  0.107327,2,   2349.8,2, 0.204896,2,  15.5028
         OMEX2,   216,  1,      5,19970623, 42.1463, -10.3204, 2947,     68.2,  14.6610,  35.8930,2,-999.0000,9,    252.6,2,   -999.0,9,     1.16,6,  -999.00,9,  -999.00,9,     0.12,2,  0.136599,2,   -999.0,9, 0.292712,2,  14.6508
         OMEX2,   216,  1,      6,19970623, 42.1463, -10.3204, 2947,     79.0,  14.2610,  35.8830,2,-999.0000,9,    246.7,2,    242.7,2,     1.31,6,  -999.00,9,  -999.00,9,     0.22,2, 0.0975714,2,   2348.4,2,     -999,9,  14.2494
         OMEX2,   216,  1,      7,19970623, 42.1463, -10.3204, 2947,     99.1,  13.6030,  35.8380,2,-999.0000,9,    235.8,2,    235.0,2,     1.77,6,  -999.00,9,  -999.00,9,     0.33,2, 0.0780597,2,   2346.8,2, 0.185392,2,  13.5889
         OMEX2,   217,  1,      1,19970623, 42.2762,  -9.5892, 1954,      9.3,  18.7640,  35.4460,2,-999.0000,9,    234.5,2,    237.4,2,  -999.00,9,  -999.00,9,  -999.00,9,     0.01,2,      -999,9,   2331.9,2,     -999,9,  18.7624
         OMEX2,   217,  1,      2,19970623, 42.2762,  -9.5892, 1954,     19.1,  18.4200,  35.6790,2,-999.0000,9,    236.8,2,    243.0,2,  -999.00,9,  -999.00,9,  -999.00,9,     0.02,2,      -999,9,   2343.1,2,     -999,9,  18.4167
         OMEX2,   217,  1,      3,19970623, 42.2762,  -9.5892, 1954,     39.5,  17.4580,  35.8710,2,-999.0000,9,    243.0,2,    248.9,2,  -999.00,9,  -999.00,9,  -999.00,9,     0.04,2,      -999,9,   2347.7,2,     -999,9,  17.4513
         OMEX2,   217,  1,      4,19970623, 42.2762,  -9.5892, 1954,     49.6,  16.4710,  35.8850,2,-999.0000,9,    242.9,2,    246.0,2,  -999.00,9,  -999.00,9,  -999.00,9,     0.07,2,      -999,9,   2348.2,2,     -999,9,  16.4630
         OMEX2,   217,  1,      5,19970623, 42.2762,  -9.5892, 1954,     60.0,  15.6610,  35.8910,2,-999.0000,9,    246.7,2,    236.4,2,  -999.00,9,  -999.00,9,  -999.00,9,     0.13,2,      -999,9,   2347.6,2,     -999,9,  15.6516
         OMEX2,   217,  1,      6,19970623, 42.2762,  -9.5892, 1954,     79.6,  14.2480,  35.9000,2,-999.0000,9,    229.3,2,    228.2,2,  -999.00,9,  -999.00,9,  -999.00,9,     0.23,2,      -999,9,   2348.4,2,     -999,9,  14.2363
         OMEX2,   217,  1,      7,19970623, 42.2762,  -9.5892, 1954,    100.7,  14.0260,  35.8910,2,  35.8910,2,    229.7,2,   -999.0,9,  -999.00,9,  -999.00,9,  -999.00,9,  -999.00,9,      -999,9,   -999.0,9,     -999,9,  14.0114
         OMEX2,   218,  1,      1,19970623, 42.3326,  -9.2012,  184,      9.1,  19.0640,  35.3870,2,-999.0000,9,    235.6,2,    237.4,2,     1.01,6,  -999.00,9,  -999.00,9,     0.03,2,  0.117129,2,   2327.8,2,  0.26354,2,  19.0624
         OMEX2,   218,  1,      2,19970623, 42.3326,  -9.2012,  184,     19.2,  18.8440,  35.3830,2,-999.0000,9,    235.8,2,    238.1,2,     1.01,6,  -999.00,9,  -999.00,9,     0.03,2,  0.117129,2,   2325.9,2, 0.283062,2,  18.8406
         OMEX2,   218,  1,      3,19970623, 42.3326,  -9.2012,  184,     38.8,  18.1780,  35.6210,2,-999.0000,9,    238.8,2,    240.8,2,     1.06,6,  -999.00,9,  -999.00,9,     0.04,2,  0.107349,2,   2342.4,2, 0.283012,2,  18.1713
         OMEX2,   218,  1,      4,19970623, 42.3326,  -9.2012,  184,     59.5,  16.8460,  35.8840,2,-999.0000,9,    238.8,2,    232.5,2,     1.26,6,  -999.00,9,  -999.00,9,     0.14,2,  0.117086,2,   2349.0,2, 0.292714,2,  16.8362
         OMEX2,   218,  1,      5,19970623, 42.3326,  -9.2012,  184,     80.3,  14.7050,  35.9180,2,-999.0000,9,    231.1,2,    231.5,2,     1.56,6,  -999.00,9,  -999.00,9,     0.23,2,  0.107326,2,   2350.2,2, 0.185381,2,  14.6929
         OMEX2,   218,  1,      6,19970623, 42.3326,  -9.2012,  184,    100.3,  14.0350,  35.8890,2,-999.0000,9,    229.6,2,    227.9,2,     2.03,6,  -999.00,9,  -999.00,9,     0.31,2,  0.117085,2,   2347.6,2, 0.175628,2,  14.0204
         OMEX2,   218,  1,      7,19970623, 42.3326,  -9.2012,  184,    146.9,  13.0290,  35.7930,2,-999.0000,9,    221.3,2,    219.7,2,     3.02,6,  -999.00,9,  -999.00,9,     0.51,2,  0.136609,2,   2342.0,2, 0.204914,2,  13.0087
         OMEX2,   219,  1,      1,19970623, 42.3314,  -9.4039,  270,     38.9,  15.8010,  35.9010,2,  35.8940,2,    243.3,2,   -999.0,9,  -999.00,9,  -999.00,9,  -999.00,9,  -999.00,9,      -999,9,   -999.0,9,     -999,9,  15.7949
         OMEX2,   219,  1,      2,19970623, 42.3314,  -9.4039,  270,     59.9,  14.3740,  35.8900,2,  35.8910,2,    232.4,2,   -999.0,9,  -999.00,9,  -999.00,9,  -999.00,9,  -999.00,9,      -999,9,   -999.0,9,     -999,9,  14.3652
         OMEX2,   219,  1,      3,19970623, 42.3314,  -9.4039,  270,     79.9,  14.0640,  35.8780,2,  35.8830,2,    230.7,2,   -999.0,9,  -999.00,9,  -999.00,9,  -999.00,9,  -999.00,9,      -999,9,   -999.0,9,     -999,9,  14.0524
         OMEX2,   219,  1,      4,19970623, 42.3314,  -9.4039,  270,     99.6,  13.8280,  35.8720,2,  35.8690,2,    229.2,2,   -999.0,9,  -999.00,9,  -999.00,9,  -999.00,9,  -999.00,9,      -999,9,   -999.0,9,     -999,9,  13.8137
         OMEX2,   219,  1,      5,19970623, 42.3314,  -9.4039,  270,    150.9,  13.3540,  35.8360,2,  35.8280,2,    223.4,2,   -999.0,9,  -999.00,9,  -999.00,9,  -999.00,9,  -999.00,9,      -999,9,   -999.0,9,     -999,9,  13.3327
         OMEX2,   219,  1,      6,19970623, 42.3314,  -9.4039,  270,    200.7,  12.6040,  35.7410,2,  35.7440,2,    220.1,2,   -999.0,9,  -999.00,9,  -999.00,9,  -999.00,9,  -999.00,9,      -999,9,   -999.0,9,     -999,9,  12.5767
         OMEX2,   219,  1,      7,19970623, 42.3314,  -9.4039,  270,    260.4,  12.0420,  35.6710,2,  35.6740,2,    218.5,2,   -999.0,9,  -999.00,9,  -999.00,9,  -999.00,9,  -999.00,9,      -999,9,   -999.0,9,     -999,9,  12.0076
         OMEX2,   220,  1,      1,19970623, 42.3349,  -9.7052, 1954,    403.2,  11.4120,  35.6080,2,  35.6150,2,    216.7,2,   -999.0,9,  -999.00,9,  -999.00,9,  -999.00,9,  -999.00,9,      -999,9,   -999.0,9,     -999,9,  11.3603
         OMEX2,   220,  1,      2,19970623, 42.3349,  -9.7052, 1954,    908.2,  11.5280,  36.1520,2,  36.1530,2,    184.0,2,   -999.0,9,  -999.00,9,  -999.00,9,  -999.00,9,  -999.00,9,      -999,9,   -999.0,9,     -999,9,  11.4076
         OMEX2,   220,  1,      3,19970623, 42.3349,  -9.7052, 1954,   1211.8,  10.5760,  36.1210,2,  36.1300,2,    186.9,2,   -999.0,9,  -999.00,9,  -999.00,9,  -999.00,9,  -999.00,9,      -999,9,   -999.0,9,     -999,9,  10.4214
         OMEX2,   220,  1,      4,19970623, 42.3349,  -9.7052, 1954,   1433.1,   8.2960,  35.7220,2,  35.7240,2,    204.4,2,   -999.0,9,  -999.00,9,  -999.00,9,  -999.00,9,  -999.00,9,      -999,9,   -999.0,9,     -999,9,   8.1351
         OMEX2,   221,  1,      1,19970623, 42.3392, -10.0117, 2947,    201.8,  12.8390,  35.7670,2,  35.7590,2,    224.4,2,   -999.0,9,  -999.00,9,  -999.00,9,  -999.00,9,  -999.00,9,      -999,9,   -999.0,9,     -999,9,  12.8113
         OMEX2,   221,  1,      2,19970623, 42.3392, -10.0117, 2947,    403.7,  11.3510,  35.5730,2,  35.5850,2,    221.3,2,   -999.0,9,  -999.00,9,  -999.00,9,  -999.00,9,  -999.00,9,      -999,9,   -999.0,9,     -999,9,  11.2994
         OMEX2,   221,  1,      3,19970623, 42.3392, -10.0117, 2947,   1010.1,  11.3410,  36.1720,2,  36.1700,2,    182.7,2,   -999.0,9,  -999.00,9,  -999.00,9,  -999.00,9,  -999.00,9,      -999,9,   -999.0,9,     -999,9,  11.2079
         OMEX2,   221,  1,      4,19970623, 42.3392, -10.0117, 2947,   1385.1,   8.6450,  35.7810,2,  35.7790,2,    200.3,2,   -999.0,9,  -999.00,9,  -999.00,9,  -999.00,9,  -999.00,9,      -999,9,   -999.0,9,     -999,9,   8.4864
         OMEX2,   222,  1,      1,19970624, 42.4987,  -9.1835,  184,     39.2,  14.6660,  35.8750,2,  35.8680,2,    207.1,2,   -999.0,9,  -999.00,9,  -999.00,9,  -999.00,9,  -999.00,9,      -999,9,   -999.0,9,     -999,9,  14.6601
         OMEX2,   222,  1,      2,19970624, 42.4987,  -9.1835,  184,     70.9,  13.4470,  35.8390,2,  35.8410,2,    207.9,2,   -999.0,9,  -999.00,9,  -999.00,9,  -999.00,9,  -999.00,9,      -999,9,   -999.0,9,     -999,9,  13.4370
         OMEX2,   223,  1,      1,19970624, 42.5037,  -9.2920,  321,      8.2,  18.0490,  35.5620,2,-999.0000,9,    237.9,2,    239.3,2,  -999.00,9,  -999.00,9,  -999.00,9,  -999.00,9,      -999,9,   2336.4,2,     -999,9,  18.0476
         OMEX2,   223,  1,      2,19970624, 42.5037,  -9.2920,  321,     59.5,  14.4460,  35.8670,2,-999.0000,9,    207.4,2,    207.2,2,  -999.00,9,  -999.00,9,  -999.00,9,  -999.00,9,      -999,9,   2349.4,2,     -999,9,  14.4372
         OMEX2,   224,  1,      1,19970624, 42.5074,  -9.2797,  321,      9.2,  18.1150,  35.5360,2,-999.0000,9,    237.4,2,    239.5,2,     1.27,6,  -999.00,9,  -999.00,9,     0.04,2,  0.136635,2,   2336.4,2, 0.126875,2,  18.1134
         OMEX2,   224,  1,      2,19970624, 42.5074,  -9.2797,  321,     18.5,  17.9740,  35.5940,2,-999.0000,9,    238.9,2,    238.7,2,     1.29,6,  -999.00,9,  -999.00,9,     0.07,2,   0.12687,2,   2336.5,2, 0.175666,2,  17.9708
         OMEX2,   224,  1,      3,19970624, 42.5074,  -9.2797,  321,     34.2,  16.8260,  35.7090,2,-999.0000,9,    229.7,2,   -999.0,9,  -999.00,9,  -999.00,9,  -999.00,9,  -999.00,9,      -999,9,   -999.0,9,     -999,9,  16.8204
         OMEX2,   224,  1,      4,19970624, 42.5074,  -9.2797,  321,     38.6,  16.3420,  35.7930,2,-999.0000,9,    221.3,2,    219.4,2,     2.11,6,  -999.00,9,  -999.00,9,     0.22,2,  0.117094,2,   2344.3,2, 0.204914,2,  16.3358
         OMEX2,   224,  1,      5,19970624, 42.5074,  -9.2797,  321,     44.9,  15.5740,  35.8330,2,-999.0000,9,    208.6,2,   -999.0,9,  -999.00,9,  -999.00,9,  -999.00,9,  -999.00,9,      -999,9,   -999.0,9,     -999,9,  15.5670
         OMEX2,   224,  1,      6,19970624, 42.5074,  -9.2797,  321,     59.7,  14.7140,  35.8510,2,-999.0000,9,    207.1,2,    208.6,2,     3.10,6,  -999.00,9,  -999.00,9,     0.47,2,  0.107331,2,   2349.1,2, 0.234177,2,  14.7051
         OMEX2,   224,  1,      7,19970624, 42.5074,  -9.2797,  321,     78.9,  13.9010,  35.8860,2,-999.0000,9,    209.4,2,    209.5,2,     3.00,6,  -999.00,9,  -999.00,9,     0.47,2,  0.107328,2,   2349.6,2, 0.204899,2,  13.8896
         OMEX2,   224,  1,      8,19970624, 42.5074,  -9.2797,  321,     99.6,  13.4490,  35.8580,2,-999.0000,9,    209.5,2,    210.2,2,     3.40,6,  -999.00,9,  -999.00,9,     0.53,2,  0.126845,2,   2348.8,2, 0.195146,2,  13.4349
         OMEX2,   224,  1,      9,19970624, 42.5074,  -9.2797,  321,    129.1,  12.9340,  35.7900,2,  35.7920,2,    213.1,2,    211.8,2,     3.41,6,  -999.00,9,  -999.00,9,     0.59,2,  0.156125,2,   2347.0,2, 0.204914,2,  12.9162
         OMEX2,   225,  1,      1,19970624, 42.4944,  -9.4237,  559,    150.1,  12.9830,  35.7820,2,  35.7810,2,    225.7,2,   -999.0,9,  -999.00,9,  -999.00,9,  -999.00,9,  -999.00,9,      -999,9,   -999.0,9,     -999,9,  12.9623
         OMEX2,   225,  1,      2,19970624, 42.4944,  -9.4237,  559,    549.4,  11.2880,  35.8400,2,  35.8260,2,    194.8,2,   -999.0,9,  -999.00,9,  -999.00,9,  -999.00,9,  -999.00,9,      -999,9,   -999.0,9,     -999,9,  11.2174