BOTTLE,20090114PRINUNIVRMKPRINUNIVRMK
EXPOCODE,STNNBR,CASTNO,BTLNBR,DATE,LATITUDE,LONGITUDE,DEPTH,CTDPRS,CTDTMP,CTDSAL,CTDSAL_FLAG_W,SALNTY,SALNTY_FLAG_W,CTDOXY,CTDOXY_FLAG_W,OXYGEN,OXYGEN_FLAG_W,SILCAT,SILCAT_FLAG_W,NITRAT,NITRAT_FLAG_W,NITRIT,NITRIT_FLAG_W,PHSPHT,PHSPHT_FLAG_W,AMMONI,AMMONI_FLAG_W,ALKALI,ALKALI_FLAG_W,UREA,UREA_FLAG_W,THETA
,,,,,,,METERS,DBARS,ITS-90,PSS-78,,PSS-78,,UMOL/KG,,UMOL/KG,,UMOL/KG,,UMOL/KG,,UMOL/KG,,UMOL/KG,,UMOL/KG,,UMOL/KG,,UMOL/KG,,DEGC
         OMEX2,  1119,  1,      1,19990906, 42.6676,  -9.5036, 2059,      4.1,  18.6730,  35.6890,2,-999.0000,9,    235.3,2,    243.1,2,     2.45,2,  -999.00,9,  -999.00,9,  -999.00,9,      -999,9,   2339.0,2,     -999,9,  18.6723
         OMEX2,  1119,  1,      2,19990906, 42.6676,  -9.5036, 2059,     18.3,  18.1770,  35.6960,2,-999.0000,9,    237.2,2,    248.9,2,     2.24,2,  -999.00,9,  -999.00,9,  -999.00,9,      -999,9,   2343.3,2,     -999,9,  18.1738
         OMEX2,  1119,  1,      3,19990906, 42.6676,  -9.5036, 2059,     28.9,  17.0280,  35.7230,2,-999.0000,9,    232.1,2,    246.3,2,  -999.00,9,  -999.00,9,  -999.00,9,  -999.00,9,      -999,9,   2343.0,2,     -999,9,  17.0232
         OMEX2,  1119,  1,      4,19990906, 42.6676,  -9.5036, 2059,     38.4,  16.3310,  35.7420,2,-999.0000,9,    239.2,2,    232.3,2,     2.34,2,  -999.00,9,  -999.00,9,  -999.00,9,      -999,9,   2343.3,2,     -999,9,  16.3248
         OMEX2,  1119,  1,      5,19990906, 42.6676,  -9.5036, 2059,     48.4,  14.9930,  35.7830,2,-999.0000,9,    234.7,2,    229.1,2,  -999.00,9,  -999.00,9,  -999.00,9,  -999.00,9,      -999,9,   2346.0,2,     -999,9,  14.9857
         OMEX2,  1119,  1,      6,19990906, 42.6676,  -9.5036, 2059,     58.0,  13.6470,  35.8170,2,-999.0000,9,    230.3,2,    223.8,2,     3.12,2,  -999.00,9,  -999.00,9,  -999.00,9,      -999,9,   2344.7,2,     -999,9,  13.6387
         OMEX2,  1119,  1,      7,19990906, 42.6676,  -9.5036, 2059,     69.2,  13.3090,  35.8000,2,-999.0000,9,    225.3,2,    224.9,2,  -999.00,9,  -999.00,9,  -999.00,9,  -999.00,9,      -999,9,   2343.8,2,     -999,9,  13.2993
         OMEX2,  1119,  1,      8,19990906, 42.6676,  -9.5036, 2059,     79.9,  13.1680,  35.7910,2,-999.0000,9,    225.7,2,    225.0,2,     3.44,2,  -999.00,9,  -999.00,9,  -999.00,9,      -999,9,   2343.0,2,     -999,9,  13.1569
         OMEX2,  1119,  1,      9,19990906, 42.6676,  -9.5036, 2059,     88.3,  13.0410,  35.7880,2,-999.0000,9,    225.5,2,    223.6,2,  -999.00,9,  -999.00,9,  -999.00,9,  -999.00,9,      -999,9,   2343.0,2,     -999,9,  13.0288
         OMEX2,  1119,  1,     10,19990906, 42.6676,  -9.5036, 2059,    100.2,  12.9690,  35.7760,2,-999.0000,9,    224.8,2,    221.2,2,     4.64,2,  -999.00,9,  -999.00,9,  -999.00,9,      -999,9,   2339.0,2,     -999,9,  12.9552
         OMEX2,  1119,  1,     11,19990906, 42.6676,  -9.5036, 2059,    147.9,  12.7260,  35.7480,2,  35.7510,2,    219.5,2,    215.5,2,     5.09,2,  -999.00,9,  -999.00,9,  -999.00,9,      -999,9,   2339.1,2,     -999,9,  12.7058
         OMEX2,  1119,  1,     12,19990906, 42.6676,  -9.5036, 2059,    195.7,  12.2830,  35.7000,2,-999.0000,9,    207.5,2,    203.0,2,     6.41,2,  -999.00,9,  -999.00,9,  -999.00,9,      -999,9,   2338.3,2,     -999,9,  12.2569
         OMEX2,  1120,  1,      1,19990906, 42.5090,  -9.6598, 2059,   1517.6,   7.6630,  35.6200,2,  35.6070,2,    197.6,2,   -999.0,9,  -999.00,9,  -999.00,9,  -999.00,9,  -999.00,9,      -999,9,   -999.0,9,     -999,9,   7.4989
         OMEX2,  1121,  1,      1,19990907, 42.6660,  -9.1527,  321,      3.6,  17.6950,  35.6200,2,-999.0000,9,    263.9,2,    266.3,2,     1.88,2,     0.70,2,     0.08,2,     0.11,2,  0.370844,2,   2334.6,2,0.0780724,2,  17.6944
         OMEX2,  1121,  1,      2,19990907, 42.6660,  -9.1527,  321,     18.8,  16.6130,  35.6420,2,-999.0000,9,    261.5,2,    202.2,2,  -999.00,9,  -999.00,9,  -999.00,9,     0.42,2,      -999,9,   2332.2,2,     -999,9,  16.6099
         OMEX2,  1121,  1,      3,19990907, 42.6660,  -9.1527,  321,     28.4,  15.1250,  35.6550,2,-999.0000,9,    222.7,2,    187.2,2,     4.09,2,     7.23,2,     0.81,2,     0.51,2,  0.975879,2,   2335.0,2, 0.136623,2,  15.1207
         OMEX2,  1121,  1,      4,19990907, 42.6660,  -9.1527,  321,     38.0,  13.8620,  35.7080,2,-999.0000,9,    204.3,2,    177.9,2,  -999.00,9,  -999.00,9,  -999.00,9,     0.64,2,      -999,9,   2336.6,2,     -999,9,  13.8565
         OMEX2,  1121,  1,      5,19990907, 42.6660,  -9.1527,  321,     58.4,  13.2060,  35.7180,2,  35.7120,2,    186.9,2,    174.3,2,  -999.00,9,  -999.00,9,  -999.00,9,     0.69,2,      -999,9,   2335.8,2,     -999,9,  13.1979
         OMEX2,  1122,  1,      1,19990907, 42.6650,  -9.1568,  321,      3.4,  17.6720,  35.6230,2,-999.0000,9,   -999.0,9,   -999.0,9,     3.30,2,     0.02,2,     0.05,2,     0.04,2,      -999,9,   -999.0,9,     -999,9,  17.6714
         OMEX2,  1122,  1,      2,19990907, 42.6650,  -9.1568,  321,     18.8,  14.7980,  35.6750,2,-999.0000,9,   -999.0,9,   -999.0,9,     2.44,2,     0.07,2,     0.06,2,     0.06,2,      -999,9,   -999.0,9,     -999,9,  14.7952
         OMEX2,  1122,  1,      3,19990907, 42.6650,  -9.1568,  321,     28.9,  13.7770,  35.7170,2,-999.0000,9,   -999.0,9,   -999.0,9,     1.90,2,     1.48,2,     0.20,2,     0.19,2,      -999,9,   -999.0,9,     -999,9,  13.7729
         OMEX2,  1122,  1,      4,19990907, 42.6650,  -9.1568,  321,     39.4,  13.3200,  35.7280,2,-999.0000,9,   -999.0,9,   -999.0,9,     3.62,2,     4.99,2,     0.57,2,     0.41,2,      -999,9,   -999.0,9,     -999,9,  13.3145
         OMEX2,  1122,  1,      5,19990907, 42.6650,  -9.1568,  321,     48.9,  13.1810,  35.7190,2,-999.0000,9,   -999.0,9,   -999.0,9,  -999.00,9,  -999.00,9,  -999.00,9,  -999.00,9,      -999,9,   -999.0,9,     -999,9,  13.1742
         OMEX2,  1122,  1,      6,19990907, 42.6650,  -9.1568,  321,     58.9,  13.1030,  35.7200,2,-999.0000,9,   -999.0,9,   -999.0,9,     6.13,2,    11.10,2,     0.58,2,     0.71,2,      -999,9,   -999.0,9,     -999,9,  13.0948
         OMEX2,  1122,  1,      7,19990907, 42.6650,  -9.1568,  321,     69.4,  13.0310,  35.7200,2,-999.0000,9,   -999.0,9,    175.6,2,  -999.00,9,  -999.00,9,  -999.00,9,  -999.00,9,      -999,9,   2344.0,2,     -999,9,  13.0214
         OMEX2,  1122,  1,      8,19990907, 42.6650,  -9.1568,  321,     79.8,  12.8930,  35.7130,2,  35.7140,2,   -999.0,9,    177.9,2,     7.57,2,    11.42,2,     0.51,2,     0.72,2,      -999,9,   2343.1,2,     -999,9,  12.8821
         OMEX2,  1123,  1,      1,19990907, 42.6668,  -9.1493,  321,      3.3,  17.6830,  35.6230,2,-999.0000,9,   -999.0,9,   -999.0,9,  -999.00,9,  -999.00,9,  -999.00,9,  -999.00,9,      -999,9,   -999.0,9,     -999,9,  17.6824
         OMEX2,  1123,  1,      2,19990907, 42.6668,  -9.1493,  321,      4.7,  17.6830,  35.6230,2,-999.0000,9,   -999.0,9,   -999.0,9,  -999.00,9,  -999.00,9,  -999.00,9,  -999.00,9,      -999,9,   -999.0,9,     -999,9,  17.6822
         OMEX2,  1123,  1,      3,19990907, 42.6668,  -9.1493,  321,     20.0,  17.7270,  35.6240,2,-999.0000,9,   -999.0,9,   -999.0,9,  -999.00,9,  -999.00,9,  -999.00,9,  -999.00,9,      -999,9,   -999.0,9,     -999,9,  17.7236
         OMEX2,  1123,  1,      4,19990907, 42.6668,  -9.1493,  321,     29.7,  17.5610,  35.6240,2,-999.0000,9,   -999.0,9,   -999.0,9,  -999.00,9,  -999.00,9,  -999.00,9,  -999.00,9,      -999,9,   -999.0,9,     -999,9,  17.5560
         OMEX2,  1123,  1,      5,19990907, 42.6668,  -9.1493,  321,     40.5,  16.0960,  35.6510,2,-999.0000,9,   -999.0,9,   -999.0,9,  -999.00,9,  -999.00,9,  -999.00,9,  -999.00,9,      -999,9,   -999.0,9,     -999,9,  16.0896
         OMEX2,  1123,  1,      6,19990907, 42.6668,  -9.1493,  321,     70.5,  13.0980,  35.7180,2,  35.7140,2,   -999.0,9,   -999.0,9,  -999.00,9,  -999.00,9,  -999.00,9,  -999.00,9,      -999,9,   -999.0,9,     -999,9,  13.0882
         OMEX2,  1124,  1,      1,19990907, 42.6635,  -9.8349, 2059,      3.7,  18.6930,  35.6900,2,-999.0000,9,    234.0,2,    243.8,2,  -999.00,9,  -999.00,9,  -999.00,9,     0.00,2,      -999,9,   2340.0,2,     -999,9,  18.6923
         OMEX2,  1124,  1,      2,19990907, 42.6635,  -9.8349, 2059,     19.0,  17.0790,  35.7120,2,-999.0000,9,    233.5,2,    247.1,2,  -999.00,9,  -999.00,9,  -999.00,9,     0.04,2,      -999,9,   2342.9,2,     -999,9,  17.0758
         OMEX2,  1124,  1,      3,19990907, 42.6635,  -9.8349, 2059,     28.8,  16.3800,  35.7130,2,-999.0000,9,    240.1,2,    243.1,2,  -999.00,9,  -999.00,9,  -999.00,9,  -999.00,9,      -999,9,   2344.4,2,     -999,9,  16.3754
         OMEX2,  1124,  1,      4,19990907, 42.6635,  -9.8349, 2059,     38.8,  15.3440,  35.7490,2,-999.0000,9,    236.1,2,    233.8,2,  -999.00,9,  -999.00,9,  -999.00,9,     0.20,2,      -999,9,   2344.9,2,     -999,9,  15.3380
         OMEX2,  1124,  1,      5,19990907, 42.6635,  -9.8349, 2059,     49.5,  14.4710,  35.7700,2,-999.0000,9,    232.3,2,    229.9,2,  -999.00,9,  -999.00,9,  -999.00,9,  -999.00,9,      -999,9,   2347.3,2,     -999,9,  14.4637
         OMEX2,  1124,  1,      6,19990907, 42.6635,  -9.8349, 2059,     59.5,  13.8320,  35.7810,2,-999.0000,9,    226.3,2,    227.8,2,  -999.00,9,  -999.00,9,  -999.00,9,     0.31,2,      -999,9,   2342.6,2,     -999,9,  13.8235
         OMEX2,  1124,  1,      7,19990907, 42.6635,  -9.8349, 2059,     69.8,  13.3120,  35.7810,2,-999.0000,9,    225.4,2,    227.4,2,  -999.00,9,  -999.00,9,  -999.00,9,  -999.00,9,      -999,9,   2343.8,2,     -999,9,  13.3022
         OMEX2,  1124,  1,      8,19990907, 42.6635,  -9.8349, 2059,     79.9,  12.9670,  35.7730,2,-999.0000,9,    226.1,2,    229.3,2,  -999.00,9,  -999.00,9,  -999.00,9,     0.40,2,      -999,9,   2347.0,2,     -999,9,  12.9560
         OMEX2,  1124,  1,      9,19990907, 42.6635,  -9.8349, 2059,     89.9,  12.9550,  35.7710,2,-999.0000,9,    228.6,2,    229.3,2,  -999.00,9,  -999.00,9,  -999.00,9,  -999.00,9,      -999,9,   2344.0,2,     -999,9,  12.9426
         OMEX2,  1124,  1,     10,19990907, 42.6635,  -9.8349, 2059,    101.1,  12.8280,  35.7570,2,  35.7600,2,    229.0,2,    229.3,2,  -999.00,9,  -999.00,9,  -999.00,9,     0.41,2,      -999,9,   2346.0,2,     -999,9,  12.8142
         OMEX2,  1125,  1,      1,19990907, 42.6536,  -9.8436, 2059,    149.8,  12.4250,  35.7070,2,-999.0000,9,    231.5,2,    230.2,2,  -999.00,9,  -999.00,9,  -999.00,9,  -999.00,9,      -999,9,   2344.3,2,     -999,9,  12.4049
         OMEX2,  1125,  1,      2,19990907, 42.6536,  -9.8436, 2059,    200.6,  12.0870,  35.6670,2,-999.0000,9,    223.2,2,   -999.0,9,  -999.00,9,  -999.00,9,  -999.00,9,  -999.00,9,      -999,9,   -999.0,9,     -999,9,  12.0605
         OMEX2,  1125,  1,      3,19990907, 42.6536,  -9.8436, 2059,    300.8,  11.5780,  35.6110,2,-999.0000,9,    221.2,2,    220.9,2,  -999.00,9,  -999.00,9,  -999.00,9,  -999.00,9,      -999,9,   2329.6,2,     -999,9,  11.5392
         OMEX2,  1125,  1,      4,19990907, 42.6536,  -9.8436, 2059,    402.5,  11.2610,  35.5910,2,-999.0000,9,    215.4,2,    212.4,2,  -999.00,9,  -999.00,9,  -999.00,9,  -999.00,9,      -999,9,   2328.8,2,     -999,9,  11.2098
         OMEX2,  1125,  1,      5,19990907, 42.6536,  -9.8436, 2059,    604.9,  10.9690,  35.7110,2,-999.0000,9,    198.4,2,    195.4,2,  -999.00,9,  -999.00,9,  -999.00,9,  -999.00,9,      -999,9,   2349.9,2,     -999,9,  10.8926
         OMEX2,  1125,  1,      6,19990907, 42.6536,  -9.8436, 2059,    812.9,  11.0000,  35.9280,2,-999.0000,9,    186.0,2,    185.7,2,  -999.00,9,  -999.00,9,  -999.00,9,  -999.00,9,      -999,9,   2365.9,2,     -999,9,  10.8959
         OMEX2,  1125,  1,      7,19990907, 42.6536,  -9.8436, 2059,    902.1,  10.8730,  35.9780,2,-999.0000,9,    183.6,2,    184.4,2,  -999.00,9,  -999.00,9,  -999.00,9,  -999.00,9,      -999,9,   2369.1,2,     -999,9,  10.7578
         OMEX2,  1125,  1,      8,19990907, 42.6536,  -9.8436, 2059,   1008.7,  10.8790,  36.0700,2,-999.0000,9,    183.1,2,    185.5,2,  -999.00,9,  -999.00,9,  -999.00,9,  -999.00,9,      -999,9,   2378.1,2,     -999,9,  10.7494
         OMEX2,  1125,  1,      9,19990907, 42.6536,  -9.8436, 2059,   1109.8,  10.7200,  36.1070,2,-999.0000,9,    183.8,2,    187.2,2,  -999.00,9,  -999.00,9,  -999.00,9,  -999.00,9,      -999,9,   2388.2,2,     -999,9,  10.5780
         OMEX2,  1125,  1,     10,19990907, 42.6536,  -9.8436, 2059,   1262.8,   9.3730,  35.8950,2,-999.0000,9,    194.4,2,    187.6,2,  -999.00,9,  -999.00,9,  -999.00,9,  -999.00,9,      -999,9,   2385.7,2,     -999,9,   9.2226
         OMEX2,  1125,  1,     11,19990907, 42.6536,  -9.8436, 2059,   1498.9,   7.0470,  35.5160,2,-999.0000,9,    219.5,2,    223.2,2,  -999.00,9,  -999.00,9,  -999.00,9,  -999.00,9,      -999,9,   2353.4,2,     -999,9,   6.8920
         OMEX2,  1125,  1,     12,19990907, 42.6536,  -9.8436, 2059,   1728.8,   4.6930,  35.1390,2,  35.1390,2,    247.1,2,    250.3,2,  -999.00,9,  -999.00,9,  -999.00,9,  -999.00,9,      -999,9,   2333.0,2,     -999,9,   4.5422
         OMEX2,  1126,  1,      1,19990907, 42.6646,  -9.9892, 2059,      3.2,  18.8690,  35.6870,2,-999.0000,9,    238.9,2,    244.5,2,  -999.00,9,  -999.00,9,  -999.00,9,  -999.00,9,      -999,9,   2340.1,2,     -999,9,  18.8684
         OMEX2,  1126,  1,      2,19990907, 42.6646,  -9.9892, 2059,     19.2,  16.8220,  35.6890,2,-999.0000,9,    243.6,2,    251.6,2,  -999.00,9,  -999.00,9,  -999.00,9,  -999.00,9,      -999,9,   2340.1,2,     -999,9,  16.8188
         OMEX2,  1126,  1,      3,19990907, 42.6646,  -9.9892, 2059,     28.8,  15.6600,  35.7100,2,-999.0000,9,    236.9,2,    237.8,2,  -999.00,9,  -999.00,9,  -999.00,9,  -999.00,9,      -999,9,   2342.7,2,     -999,9,  15.6555
         OMEX2,  1126,  1,      4,19990907, 42.6646,  -9.9892, 2059,     39.1,  14.5370,  35.7330,2,-999.0000,9,    232.0,2,   -999.0,9,  -999.00,9,  -999.00,9,  -999.00,9,  -999.00,9,      -999,9,   -999.0,9,     -999,9,  14.5312
         OMEX2,  1126,  1,      5,19990907, 42.6646,  -9.9892, 2059,     49.0,  13.8270,  35.7450,2,-999.0000,9,    227.6,2,    229.4,2,  -999.00,9,  -999.00,9,  -999.00,9,  -999.00,9,      -999,9,   2346.6,2,     -999,9,  13.8200
         OMEX2,  1126,  1,      6,19990907, 42.6646,  -9.9892, 2059,     58.9,  13.7090,  35.7460,2,-999.0000,9,    229.1,2,    229.4,2,  -999.00,9,  -999.00,9,  -999.00,9,  -999.00,9,      -999,9,   2341.7,2,     -999,9,  13.7006
         OMEX2,  1126,  1,      7,19990907, 42.6646,  -9.9892, 2059,     69.0,  13.4130,  35.7560,2,-999.0000,9,    229.1,2,    230.2,2,  -999.00,9,  -999.00,9,  -999.00,9,  -999.00,9,      -999,9,   2343.8,2,     -999,9,  13.4033
         OMEX2,  1126,  1,      8,19990907, 42.6646,  -9.9892, 2059,     79.6,  13.2470,  35.7890,2,-999.0000,9,    229.1,2,    228.5,2,  -999.00,9,  -999.00,9,  -999.00,9,  -999.00,9,      -999,9,   2340.9,2,     -999,9,  13.2359
         OMEX2,  1126,  1,      9,19990907, 42.6646,  -9.9892, 2059,     88.6,  13.1360,  35.7840,2,-999.0000,9,    229.5,2,    228.9,2,  -999.00,9,  -999.00,9,  -999.00,9,  -999.00,9,      -999,9,   2343.9,2,     -999,9,  13.1237
         OMEX2,  1126,  1,     10,19990907, 42.6646,  -9.9892, 2059,     99.7,  12.9020,  35.7590,2,-999.0000,9,    230.4,2,    229.7,2,  -999.00,9,  -999.00,9,  -999.00,9,  -999.00,9,      -999,9,   2343.0,2,     -999,9,  12.8883
         OMEX2,  1126,  1,     11,19990907, 42.6646,  -9.9892, 2059,    150.6,  12.4920,  35.7120,2,  35.7140,2,    238.4,2,    239.0,2,  -999.00,9,  -999.00,9,  -999.00,9,  -999.00,9,      -999,9,   2342.2,2,     -999,9,  12.4717
         OMEX2,  1127,  1,      1,19990907, 42.6644,  -9.8986, 2059,    200.2,  12.1390,  35.6710,2,-999.0000,9,    236.2,2,    234.4,2,  -999.00,9,  -999.00,9,  -999.00,9,  -999.00,9,      -999,9,   2346.4,2,     -999,9,  12.1125
         OMEX2,  1127,  1,      2,19990907, 42.6644,  -9.8986, 2059,    301.0,  11.6420,  35.6170,2,-999.0000,9,    229.6,2,    225.7,2,  -999.00,9,  -999.00,9,  -999.00,9,  -999.00,9,      -999,9,   2343.6,2,     -999,9,  11.6031
         OMEX2,  1127,  1,      3,19990907, 42.6644,  -9.8986, 2059,    403.1,  11.2220,  35.5800,2,-999.0000,9,    222.4,2,    212.6,2,  -999.00,9,  -999.00,9,  -999.00,9,  -999.00,9,      -999,9,   2342.8,2,     -999,9,  11.1709
         OMEX2,  1127,  1,      4,19990907, 42.6644,  -9.8986, 2059,    605.0,  11.0590,  35.7300,2,-999.0000,9,    198.4,2,    192.7,2,  -999.00,9,  -999.00,9,  -999.00,9,  -999.00,9,      -999,9,   2352.9,2,     -999,9,  10.9821
         OMEX2,  1127,  1,      5,19990907, 42.6644,  -9.8986, 2059,    806.7,  11.5670,  36.0530,2,-999.0000,9,    186.0,2,    184.7,2,  -999.00,9,  -999.00,9,  -999.00,9,  -999.00,9,      -999,9,   2384.7,2,     -999,9,  11.4604
         OMEX2,  1127,  1,      6,19990907, 42.6644,  -9.8986, 2059,    908.3,  11.1450,  36.0390,2,-999.0000,9,    182.8,2,    183.7,2,  -999.00,9,  -999.00,9,  -999.00,9,  -999.00,9,      -999,9,   2387.0,2,     -999,9,  11.0272
         OMEX2,  1127,  1,      7,19990907, 42.6644,  -9.8986, 2059,   1009.5,  10.8550,  36.0710,2,-999.0000,9,    182.3,2,    185.5,2,  -999.00,9,  -999.00,9,  -999.00,9,  -999.00,9,      -999,9,   2384.1,2,     -999,9,  10.7255
         OMEX2,  1127,  1,      8,19990907, 42.6644,  -9.8986, 2059,   1111.2,  11.1590,  36.2360,2,-999.0000,9,    182.3,2,    184.8,2,  -999.00,9,  -999.00,9,  -999.00,9,  -999.00,9,      -999,9,   2395.0,2,     -999,9,  11.0132
         OMEX2,  1127,  1,      9,19990907, 42.6644,  -9.8986, 2059,   1263.0,   9.7960,  36.0100,2,-999.0000,9,    190.6,2,    193.6,2,  -999.00,9,  -999.00,9,  -999.00,9,  -999.00,9,      -999,9,   2382.6,2,     -999,9,   9.6416
         OMEX2,  1127,  1,     10,19990907, 42.6644,  -9.8986, 2059,   1516.7,   6.3800,  35.3970,2,-999.0000,9,    224.7,2,    229.1,2,  -999.00,9,  -999.00,9,  -999.00,9,  -999.00,9,      -999,9,   2342.6,2,     -999,9,   6.2305
         OMEX2,  1127,  1,     11,19990907, 42.6644,  -9.8986, 2059,   1762.4,   4.4660,  35.0870,2,  35.0880,2,    253.1,2,    253.2,2,  -999.00,9,  -999.00,9,  -999.00,9,  -999.00,9,      -999,9,   2330.0,2,     -999,9,   4.3149
         OMEX2,  1128,  1,      1,19990908, 42.6655,  -9.2107,  321,      4.5,  17.5060,  35.6150,2,-999.0000,9,    263.7,2,    274.6,2,     1.17,2,     0.01,2,     0.04,2,     0.01,2,  0.731931,2,   2335.6,2, 0.156145,2,  17.5052
         OMEX2,  1128,  1,      2,19990908, 42.6655,  -9.2107,  321,     19.6,  17.1440,  35.6070,2,-999.0000,9,    268.3,2,    243.5,2,  -999.00,9,  -999.00,9,  -999.00,9,     0.17,2,      -999,9,   2332.9,2,     -999,9,  17.1407
         OMEX2,  1128,  1,      3,19990908, 42.6655,  -9.2107,  321,     28.7,  16.4630,  35.6110,2,-999.0000,9,    264.0,2,    192.6,2,  -999.00,9,  -999.00,9,  -999.00,9,     0.63,2,      -999,9,   2336.2,2,     -999,9,  16.4584
         OMEX2,  1128,  1,      4,19990908, 42.6655,  -9.2107,  321,     38.3,  14.1770,  35.7120,2,-999.0000,9,    211.8,2,    185.5,2,     4.66,2,    10.59,2,     0.44,2,     0.73,2,  0.556228,2,   2341.4,2, 0.126859,2,  14.1714
         OMEX2,  1128,  1,      5,19990908, 42.6655,  -9.2107,  321,     58.9,  12.8190,  35.7420,2,-999.0000,9,    184.5,2,    175.0,2,  -999.00,9,  -999.00,9,  -999.00,9,     0.72,2,      -999,9,   2344.1,2,     -999,9,  12.8110
         OMEX2,  1128,  1,      6,19990908, 42.6655,  -9.2107,  321,     79.3,  12.6400,  35.7210,2,  35.7180,2,    187.8,2,    187.3,2,  -999.00,9,  -999.00,9,  -999.00,9,     0.76,2,      -999,9,   2344.1,2,     -999,9,  12.6293