BOTTLE,20090114PRINUNIVRMKPRINUNIVRMK
EXPOCODE,STNNBR,CASTNO,BTLNBR,DATE,LATITUDE,LONGITUDE,DEPTH,CTDPRS,CTDTMP,CTDSAL,CTDSAL_FLAG_W,SALNTY,SALNTY_FLAG_W,CTDOXY,CTDOXY_FLAG_W,OXYGEN,OXYGEN_FLAG_W,SILCAT,SILCAT_FLAG_W,NITRAT,NITRAT_FLAG_W,NITRIT,NITRIT_FLAG_W,PHSPHT,PHSPHT_FLAG_W,AMMONI,AMMONI_FLAG_W,ALKALI,ALKALI_FLAG_W,UREA,UREA_FLAG_W,THETA
,,,,,,,METERS,DBARS,ITS-90,PSS-78,,PSS-78,,UMOL/KG,,UMOL/KG,,UMOL/KG,,UMOL/KG,,UMOL/KG,,UMOL/KG,,UMOL/KG,,UMOL/KG,,UMOL/KG,,DEGC
         OMEX2,   940,  1,      1,19990113, 36.5526,  -8.5045, 2022,    403.5,  12.0340,  35.6740,2,-999.0000,9,    201.5,2,    201.9,2,  -999.00,9,  -999.00,9,  -999.00,9,     0.80,2,      -999,9,   2346.5,2,     -999,9,  11.9804
         OMEX2,   940,  1,      2,19990113, 36.5526,  -8.5045, 2022,    505.0,  11.3590,  35.6220,2,-999.0000,9,    196.1,2,    195.2,2,  -999.00,9,  -999.00,9,  -999.00,9,     0.91,2,      -999,9,   2344.7,2,     -999,9,  11.2941
         OMEX2,   940,  1,      3,19990113, 36.5526,  -8.5045, 2022,    605.6,  11.2100,  35.7650,2,-999.0000,9,    184.0,2,    183.8,3,  -999.00,9,  -999.00,9,  -999.00,9,     1.00,2,      -999,9,   2353.8,2,     -999,9,  11.1324
         OMEX2,   940,  1,      4,19990113, 36.5526,  -8.5045, 2022,    706.4,  12.7450,  36.2870,2,-999.0000,9,    195.4,2,    194.5,2,  -999.00,9,  -999.00,9,  -999.00,9,     0.66,2,      -999,9,   2394.3,2,     -999,9,  12.6461
         OMEX2,   940,  1,      5,19990113, 36.5526,  -8.5045, 2022,    806.8,  12.8360,  36.3790,2,-999.0000,9,    194.4,2,    194.0,2,  -999.00,9,  -999.00,9,  -999.00,9,     0.66,2,      -999,9,   2400.2,2,     -999,9,  12.7220
         OMEX2,   940,  1,      6,19990113, 36.5526,  -8.5045, 2022,    906.2,  13.0240,  36.5300,2,-999.0000,9,    193.2,2,    194.4,2,  -999.00,9,  -999.00,9,  -999.00,9,     0.71,2,      -999,9,   2413.2,2,     -999,9,  12.8941
         OMEX2,   940,  1,      7,19990113, 36.5526,  -8.5045, 2022,   1005.2,  12.8930,  36.6430,2,-999.0000,9,    191.6,2,    188.5,2,  -999.00,9,  -999.00,9,  -999.00,9,     0.73,2,      -999,9,   2419.3,2,     -999,9,  12.7492
         OMEX2,   940,  1,      8,19990113, 36.5526,  -8.5045, 2022,   1202.4,  12.2200,  36.6200,2,-999.0000,9,    186.7,2,    184.0,2,  -999.00,9,  -999.00,9,  -999.00,9,     0.77,2,      -999,9,   2419.6,2,     -999,9,  12.0523
         OMEX2,   940,  1,      9,19990113, 36.5526,  -8.5045, 2022,   1404.0,  11.5400,  36.5610,2,-999.0000,9,    193.4,2,    191.1,2,  -999.00,9,  -999.00,9,  -999.00,9,     0.83,2,      -999,9,   2416.9,2,     -999,9,  11.3494
         OMEX2,   940,  1,     10,19990113, 36.5526,  -8.5045, 2022,   1607.7,   7.2450,  35.6270,2,-999.0000,9,    215.8,2,    212.1,2,  -999.00,9,  -999.00,9,  -999.00,9,     1.09,2,      -999,9,   2361.4,2,     -999,9,   7.0750
         OMEX2,   940,  1,     11,19990113, 36.5526,  -8.5045, 2022,   1810.3,   5.8650,  35.3960,2,-999.0000,9,    228.6,2,    223.7,2,  -999.00,9,  -999.00,9,  -999.00,9,     1.19,2,      -999,9,   2351.7,2,     -999,9,   5.6898
         OMEX2,   940,  1,     12,19990113, 36.5526,  -8.5045, 2022,   2011.9,   4.9060,  35.2410,2,-999.0000,9,    235.7,2,    230.8,2,  -999.00,9,  -999.00,9,  -999.00,9,     1.25,2,      -999,9,   2354.0,2,     -999,9,   4.7231
         OMEX2,  1001,  1,      1,19990901, 47.7569,  -7.0822,  175,      4.3,  17.2600,  35.5020,2,-999.0000,9,   -999.0,9,    245.9,2,  -999.00,9,  -999.00,9,  -999.00,9,     0.04,2,      -999,9,   2332.8,2,     -999,9,  17.2593
         OMEX2,  1001,  1,      2,19990901, 47.7569,  -7.0822,  175,    164.7,  12.3760,  35.5670,2,-999.0000,9,   -999.0,9,   -999.0,9,  -999.00,9,  -999.00,9,  -999.00,9,  -999.00,9,      -999,9,   -999.0,9,     -999,9,  12.3540
         OMEX2,  1002,  1,      1,19990901, 47.6980,  -7.1132,  171,      4.5,  17.0800,  35.4980,2,-999.0000,9,   -999.0,9,    247.9,2,  -999.00,9,  -999.00,9,  -999.00,9,     0.03,2,      -999,9,   2332.9,2,     -999,9,  17.0793
         OMEX2,  1002,  1,      2,19990901, 47.6980,  -7.1132,  171,    160.9,  12.2820,  35.5710,2,  35.5730,2,   -999.0,9,   -999.0,9,  -999.00,9,  -999.00,9,  -999.00,9,  -999.00,9,      -999,9,   -999.0,9,     -999,9,  12.2606
         OMEX2,  1003,  1,      1,19990901, 47.6409,  -7.1431,  171,      3.3,  16.7220,  35.5020,2,-999.0000,9,   -999.0,9,    248.0,2,  -999.00,9,  -999.00,9,  -999.00,9,     0.08,2,      -999,9,   2332.1,2,     -999,9,  16.7215
         OMEX2,  1003,  1,      2,19990901, 47.6409,  -7.1431,  171,    159.7,  12.1010,  35.5750,2,  35.5770,2,   -999.0,9,   -999.0,9,  -999.00,9,  -999.00,9,  -999.00,9,  -999.00,9,      -999,9,   -999.0,9,     -999,9,  12.0800
         OMEX2,  1004,  1,      1,19990901, 47.5834,  -7.1724,  171,      3.7,-999.0000,-999.0000,9,-999.0000,9,   -999.0,9,   -999.0,2,  -999.00,9,  -999.00,9,  -999.00,9,  -999.00,2,      -999,9,   -999.0,2,     -999,9,-999.0000
         OMEX2,  1004,  1,      2,19990901, 47.5834,  -7.1724,  171,    154.9,  11.8590,  35.5820,2,  35.5830,2,   -999.0,9,   -999.0,9,  -999.00,9,  -999.00,9,  -999.00,9,  -999.00,9,      -999,9,   -999.0,9,     -999,9,  11.8389
         OMEX2,  1005,  1,      1,19990901, 47.5200,  -7.1964,  615,      3.8,-999.0000,-999.0000,9,-999.0000,9,   -999.0,9,   -999.0,2,  -999.00,2,  -999.00,2,  -999.00,2,  -999.00,2,      -999,9,   -999.0,2,     -999,9,-999.0000
         OMEX2,  1005,  1,      2,19990901, 47.5200,  -7.1964,  615,    148.7,  12.1180,  35.5750,2,-999.0000,9,    228.8,2,    230.6,2,     4.93,2,     8.61,2,     0.05,2,     0.52,2,      -999,9,   2336.4,2,     -999,9,  12.0984
         OMEX2,  1005,  1,      3,19990901, 47.5200,  -7.1964,  615,    199.6,  11.9100,  35.5840,2,-999.0000,9,    230.3,2,    231.5,2,     4.04,2,     9.13,2,     0.05,2,     0.55,2,      -999,9,   2335.5,2,     -999,9,  11.8839
         OMEX2,  1005,  1,      4,19990901, 47.5200,  -7.1964,  615,    299.7,  11.5320,  35.5900,2,-999.0000,9,    231.7,2,    231.5,2,     6.09,2,    10.36,2,     0.03,2,     0.62,2,      -999,9,   2335.6,2,     -999,9,  11.4935
         OMEX2,  1005,  1,      5,19990901, 47.5200,  -7.1964,  615,    401.5,  11.3440,  35.5870,2,-999.0000,9,    230.5,2,    227.8,2,     5.05,2,  -999.00,9,  -999.00,9,     0.66,2,      -999,9,   2335.7,2,     -999,9,  11.2927
         OMEX2,  1005,  1,      6,19990901, 47.5200,  -7.1964,  615,    604.6,  10.6870,  35.5800,2,  35.5860,2,    210.7,2,    210.5,2,     6.95,2,  -999.00,9,  -999.00,9,     0.86,2,      -999,9,   2338.0,2,     -999,9,  10.6119
         OMEX2,  1006,  1,      1,19990901, 47.5193,  -7.1991,  313,    302.6,  11.6130,  35.5900,2,-999.0000,9,   -999.0,9,   -999.0,9,  -999.00,9,  -999.00,9,  -999.00,9,  -999.00,9,      -999,9,   -999.0,9,     -999,9,  11.5739
         OMEX2,  1007,  1,      1,19990901, 47.5260,  -7.2104,  313,    302.9,  11.4940,  35.5900,2,  35.5940,2,   -999.0,9,   -999.0,9,  -999.00,9,  -999.00,9,  -999.00,9,  -999.00,9,      -999,9,   -999.0,9,     -999,9,  11.4551
         OMEX2,  1008,  1,      1,19990901, 47.5247,  -7.2102,  311,      3.9,  17.3770,  35.4980,2,-999.0000,9,   -999.0,9,   -999.0,9,  -999.00,9,  -999.00,9,  -999.00,9,  -999.00,9,      -999,9,   -999.0,9,     -999,9,  17.3763
         OMEX2,  1008,  1,      2,19990901, 47.5247,  -7.2102,  311,    301.4,  11.4860,  35.5910,2,  35.5920,2,   -999.0,9,   -999.0,9,  -999.00,9,  -999.00,9,  -999.00,9,  -999.00,9,      -999,9,   -999.0,9,     -999,9,  11.4474
         OMEX2,  1009,  1,      1,19990901, 47.5272,  -7.2026,  312,      3.9,  18.0180,  35.4830,2,-999.0000,9,   -999.0,9,   -999.0,9,  -999.00,9,  -999.00,9,  -999.00,9,  -999.00,9,      -999,9,   -999.0,9,     -999,9,  18.0173
         OMEX2,  1009,  1,      2,19990901, 47.5272,  -7.2026,  312,    301.7,  11.4580,  35.5890,2,  35.5900,2,   -999.0,9,   -999.0,9,  -999.00,9,  -999.00,9,  -999.00,9,  -999.00,9,      -999,9,   -999.0,9,     -999,9,  11.4194
         OMEX2,  1010,  1,      1,19990901, 47.5239,  -7.2069,  311,      3.4,  17.8800,  35.4810,2,-999.0000,9,   -999.0,9,   -999.0,9,  -999.00,9,  -999.00,9,  -999.00,9,  -999.00,9,      -999,9,   -999.0,9,     -999,9,  17.8794
         OMEX2,  1010,  1,      2,19990901, 47.5239,  -7.2069,  311,    301.4,  11.3450,  35.5870,2,  35.5880,2,   -999.0,9,   -999.0,9,  -999.00,9,  -999.00,9,  -999.00,9,  -999.00,9,      -999,9,   -999.0,9,     -999,9,  11.3067
         OMEX2,  1011,  1,      1,19990901, 47.5222,  -7.2130,  312,    302.0,  11.4480,  35.5890,2,-999.0000,9,   -999.0,9,   -999.0,9,  -999.00,9,  -999.00,9,  -999.00,9,  -999.00,9,      -999,9,   -999.0,9,     -999,9,  11.4094
         OMEX2,  1012,  1,      1,19990902, 47.5240,  -7.2075,  171,      4.0,  17.4900,  35.4820,2,-999.0000,9,   -999.0,9,    244.7,2,     3.11,2,     0.00,2,     0.04,2,  -999.00,9,      -999,9,   2336.6,2,     -999,9,  17.4893
         OMEX2,  1012,  1,      2,19990902, 47.5240,  -7.2075,  171,     18.1,  15.7410,  35.5300,2,-999.0000,9,   -999.0,9,    247.1,2,  -999.00,9,  -999.00,9,  -999.00,9,  -999.00,9,      -999,9,   2335.6,2,     -999,9,  15.7382
         OMEX2,  1012,  1,      3,19990902, 47.5240,  -7.2075,  171,     29.9,  14.6850,  35.5470,2,-999.0000,9,   -999.0,9,    241.0,2,  -999.00,9,  -999.00,9,  -999.00,9,  -999.00,9,      -999,9,   2336.2,2,     -999,9,  14.6805
         OMEX2,  1012,  1,      4,19990902, 47.5240,  -7.2075,  171,     40.5,  14.2550,  35.5530,2,-999.0000,9,   -999.0,9,    235.4,2,     3.14,2,     3.66,2,     0.15,2,  -999.00,9,      -999,9,   2336.3,2,     -999,9,  14.2491
         OMEX2,  1012,  1,      5,19990902, 47.5240,  -7.2075,  171,     59.1,  13.0930,  35.5630,2,-999.0000,9,   -999.0,9,    231.6,2,  -999.00,9,  -999.00,9,  -999.00,9,  -999.00,9,      -999,9,   2338.0,2,     -999,9,  13.0848
         OMEX2,  1012,  1,      6,19990902, 47.5240,  -7.2075,  171,     79.9,  13.0490,  35.5620,2,  35.5630,2,   -999.0,9,    231.9,2,  -999.00,9,  -999.00,9,  -999.00,9,  -999.00,9,      -999,9,   2338.0,2,     -999,9,  13.0380
         OMEX2,  1013,  1,      1,19990902, 47.5235,  -7.2042,  171,      4.0,  17.9930,  35.4870,2,-999.0000,9,   -999.0,9,    242.7,2,     3.93,2,     0.00,2,     0.04,2,     0.03,2,      -999,9,   2336.4,2,     -999,9,  17.9923
         OMEX2,  1013,  1,      2,19990902, 47.5235,  -7.2042,  171,     19.2,  16.0590,  35.5270,2,-999.0000,9,   -999.0,9,    240.2,2,     3.93,2,     2.29,2,     0.18,2,     0.17,2,      -999,9,   2338.4,2,     -999,9,  16.0559
         OMEX2,  1013,  1,      3,19990902, 47.5235,  -7.2042,  171,     28.8,  14.7770,  35.5490,2,-999.0000,9,   -999.0,9,    233.7,2,  -999.00,9,  -999.00,9,  -999.00,9,  -999.00,9,      -999,9,   2341.1,2,     -999,9,  14.7727
         OMEX2,  1013,  1,      4,19990902, 47.5235,  -7.2042,  171,     38.5,  13.6980,  35.5340,2,-999.0000,9,   -999.0,9,    232.9,2,     5.04,2,     5.84,2,     0.12,2,     0.38,2,      -999,9,   2339.7,2,     -999,9,  13.6925
         OMEX2,  1013,  1,      5,19990902, 47.5235,  -7.2042,  171,     48.2,  13.3120,  35.5580,2,-999.0000,9,   -999.0,9,    229.4,2,  -999.00,9,  -999.00,9,  -999.00,9,  -999.00,9,      -999,9,   2337.8,2,     -999,9,  13.3053
         OMEX2,  1013,  1,      6,19990902, 47.5235,  -7.2042,  171,     58.3,  12.6390,  35.5530,2,-999.0000,9,   -999.0,9,    229.7,2,     4.44,2,     7.02,2,     0.13,2,     0.45,2,      -999,9,   2338.2,2,     -999,9,  12.6311
         OMEX2,  1013,  1,      7,19990902, 47.5235,  -7.2042,  171,     69.2,  12.3840,  35.5540,2,-999.0000,9,   -999.0,9,    228.7,2,  -999.00,9,  -999.00,9,  -999.00,9,  -999.00,9,      -999,9,   2339.3,2,     -999,9,  12.3748
         OMEX2,  1013,  1,      8,19990902, 47.5235,  -7.2042,  171,     79.7,  12.1700,  35.5610,2,-999.0000,9,   -999.0,9,    228.1,2,     4.82,2,     8.16,2,     0.18,2,     0.50,2,      -999,9,   2340.3,2,     -999,9,  12.1595
         OMEX2,  1013,  1,      9,19990902, 47.5235,  -7.2042,  171,     89.4,  12.1110,  35.5660,2,-999.0000,9,   -999.0,9,    228.5,2,  -999.00,9,  -999.00,9,  -999.00,9,  -999.00,9,      -999,9,   2339.3,2,     -999,9,  12.0992
         OMEX2,  1013,  1,     10,19990902, 47.5235,  -7.2042,  171,    100.9,  12.1110,  35.5670,2,-999.0000,9,   -999.0,9,    228.6,2,     5.01,2,     8.26,2,     0.08,2,     0.52,2,      -999,9,   2340.4,2,     -999,9,  12.0977
         OMEX2,  1014,  1,      1,19990902, 47.4631,  -7.2341,  469,      4.0,  17.9820,  35.4820,2,-999.0000,9,   -999.0,9,    243.4,2,  -999.00,9,  -999.00,9,  -999.00,9,     0.06,2,      -999,9,   2336.5,2,     -999,9,  17.9813
         OMEX2,  1014,  1,      2,19990902, 47.4631,  -7.2341,  469,    302.3,  11.4350,  35.5860,2,  35.5870,2,   -999.0,9,   -999.0,9,  -999.00,9,  -999.00,9,  -999.00,9,  -999.00,9,      -999,9,   -999.0,9,     -999,9,  11.3964
         OMEX2,  1015,  1,      1,19990902, 47.3948,  -7.2712,  469,      4.7,  17.8310,  35.4960,2,-999.0000,9,   -999.0,9,    243.7,2,  -999.00,9,  -999.00,9,  -999.00,9,     0.03,2,      -999,9,   2334.5,2,     -999,9,  17.8302
         OMEX2,  1015,  1,      2,19990902, 47.3948,  -7.2712,  469,    303.0,  11.3150,  35.5710,2,  35.5710,2,   -999.0,9,   -999.0,9,  -999.00,9,  -999.00,9,  -999.00,9,  -999.00,9,      -999,9,   -999.0,9,     -999,9,  11.2765
         OMEX2,  1016,  1,      1,19990902, 47.3422,  -7.3003,  469,      5.1,  18.6200,  35.5230,2,-999.0000,9,   -999.0,9,    238.6,2,  -999.00,9,  -999.00,9,  -999.00,9,     0.04,2,      -999,9,   2334.5,2,     -999,9,  18.6191
         OMEX2,  1016,  1,      2,19990902, 47.3422,  -7.3003,  469,    302.8,  11.5530,  35.5950,2,  35.5970,2,   -999.0,9,   -999.0,9,  -999.00,9,  -999.00,9,  -999.00,9,  -999.00,9,      -999,9,   -999.0,9,     -999,9,  11.5140
         OMEX2,  1017,  1,      1,19990902, 47.2838,  -7.3349,  469,      4.3,-999.0000,-999.0000,9,-999.0000,9,   -999.0,9,   -999.0,2,  -999.00,9,  -999.00,9,  -999.00,9,  -999.00,2,      -999,9,   -999.0,2,     -999,9,-999.0000
         OMEX2,  1017,  1,      2,19990902, 47.2838,  -7.3349,  469,    300.9,  11.5120,  35.5920,2,  35.5920,2,   -999.0,9,   -999.0,9,  -999.00,9,  -999.00,9,  -999.00,9,  -999.00,9,      -999,9,   -999.0,9,     -999,9,  11.4734
         OMEX2,  1101,  1,      1,19990904, 42.9966,  -9.8092, 2059,    148.6,  12.5450,  35.7160,2,-999.0000,9,    232.1,2,    232.3,2,  -999.00,9,  -999.00,9,  -999.00,9,  -999.00,9,      -999,9,   2339.2,2,     -999,9,  12.5249
         OMEX2,  1101,  1,      2,19990904, 42.9966,  -9.8092, 2059,    200.8,  12.1340,  35.6730,2,-999.0000,9,    224.6,2,    220.9,2,  -999.00,9,  -999.00,9,  -999.00,9,  -999.00,9,      -999,9,   2336.4,2,     -999,9,  12.1074
         OMEX2,  1101,  1,      3,19990904, 42.9966,  -9.8092, 2059,    301.7,  11.5340,  35.6070,2,-999.0000,9,    220.8,2,    218.8,2,  -999.00,9,  -999.00,9,  -999.00,9,  -999.00,9,      -999,9,   2327.6,2,     -999,9,  11.4952
         OMEX2,  1101,  1,      4,19990904, 42.9966,  -9.8092, 2059,    402.4,  11.1250,  35.5830,2,-999.0000,9,    215.3,2,    214.1,2,  -999.00,9,  -999.00,9,  -999.00,9,  -999.00,9,      -999,9,   2325.7,2,     -999,9,  11.0742
         OMEX2,  1101,  1,      5,19990904, 42.9966,  -9.8092, 2059,    606.0,  11.2420,  35.8620,2,-999.0000,9,    193.7,2,    191.3,2,  -999.00,9,  -999.00,9,  -999.00,9,  -999.00,9,      -999,9,   2351.8,2,     -999,9,  11.1641
         OMEX2,  1101,  1,      6,19990904, 42.9966,  -9.8092, 2059,    806.6,  11.7370,  36.1440,2,-999.0000,9,    185.3,2,    184.9,2,  -999.00,9,  -999.00,9,  -999.00,9,  -999.00,9,      -999,9,   2373.6,2,     -999,9,  11.6294
         OMEX2,  1101,  1,      7,19990904, 42.9966,  -9.8092, 2059,    906.9,  11.5660,  36.1780,2,-999.0000,9,    183.4,2,    183.2,2,  -999.00,9,  -999.00,9,  -999.00,9,  -999.00,9,      -999,9,   2385.8,2,     -999,9,  11.4455
         OMEX2,  1101,  1,      8,19990904, 42.9966,  -9.8092, 2059,   1009.5,  11.3000,  36.1920,2,-999.0000,9,    182.3,2,    183.1,2,  -999.00,9,  -999.00,9,  -999.00,9,  -999.00,9,      -999,9,   2386.9,2,     -999,9,  11.1672
         OMEX2,  1101,  1,      9,19990904, 42.9966,  -9.8092, 2059,   1111.6,  11.2180,  36.2300,2,-999.0000,9,    182.0,2,    184.3,2,  -999.00,9,  -999.00,9,  -999.00,9,  -999.00,9,      -999,9,   2387.9,2,     -999,9,  11.0717
         OMEX2,  1101,  1,     10,19990904, 42.9966,  -9.8092, 2059,   1262.2,  10.5030,  36.1340,2,-999.0000,9,    186.0,2,    191.7,2,  -999.00,9,  -999.00,9,  -999.00,9,  -999.00,9,      -999,9,   2376.2,2,     -999,9,  10.3423
         OMEX2,  1101,  1,     11,19990904, 42.9966,  -9.8092, 2059,   1517.7,   7.9550,  35.6840,2,-999.0000,9,    209.2,2,    214.1,2,  -999.00,9,  -999.00,9,  -999.00,9,  -999.00,9,      -999,9,   2353.1,2,     -999,9,   7.7876
         OMEX2,  1101,  1,     12,19990904, 42.9966,  -9.8092, 2059,   1743.9,   5.3610,  35.2430,2,  35.2520,2,    238.0,2,    239.3,2,  -999.00,9,  -999.00,9,  -999.00,9,  -999.00,9,      -999,9,   2324.8,2,     -999,9,   5.1998
         OMEX2,  1102,  1,      1,19990904, 43.0012,  -9.8171, 3129,      4.5,  17.7190,  35.6640,2,-999.0000,9,    238.4,2,    247.5,2,  -999.00,9,  -999.00,9,  -999.00,9,  -999.00,9,      -999,9,   2339.6,2,     -999,9,  17.7182
         OMEX2,  1102,  1,      2,19990904, 43.0012,  -9.8171, 3129,     19.4,  16.3990,  35.6580,2,-999.0000,9,    243.4,2,    256.7,2,  -999.00,9,  -999.00,9,  -999.00,9,  -999.00,9,      -999,9,   2340.4,2,     -999,9,  16.3959
         OMEX2,  1102,  1,      3,19990904, 43.0012,  -9.8171, 3129,     28.1,  14.4900,  35.7090,2,-999.0000,9,    227.3,2,    244.4,2,  -999.00,9,  -999.00,9,  -999.00,9,  -999.00,9,      -999,9,   2341.2,2,     -999,9,  14.4858
         OMEX2,  1102,  1,      4,19990904, 43.0012,  -9.8171, 3129,     39.4,  14.0480,  35.7040,2,-999.0000,9,    230.8,2,    233.8,2,  -999.00,9,  -999.00,9,  -999.00,9,  -999.00,9,      -999,9,   2338.5,2,     -999,9,  14.0423
         OMEX2,  1102,  1,      5,19990904, 43.0012,  -9.8171, 3129,     48.6,  13.5760,  35.7320,2,-999.0000,9,    227.8,2,    229.1,2,  -999.00,9,  -999.00,9,  -999.00,9,  -999.00,9,      -999,9,   2339.7,2,     -999,9,  13.5691
         OMEX2,  1102,  1,      6,19990904, 43.0012,  -9.8171, 3129,     59.1,  13.3530,  35.7710,2,-999.0000,9,    227.8,2,    227.4,2,  -999.00,9,  -999.00,9,  -999.00,9,  -999.00,9,      -999,9,   2338.8,2,     -999,9,  13.3447
         OMEX2,  1102,  1,      7,19990904, 43.0012,  -9.8171, 3129,     68.5,  13.3250,  35.7700,2,-999.0000,9,    227.8,2,    227.5,2,  -999.00,9,  -999.00,9,  -999.00,9,  -999.00,9,      -999,9,   2339.9,2,     -999,9,  13.3154
         OMEX2,  1102,  1,      8,19990904, 43.0012,  -9.8171, 3129,     80.5,  13.1220,  35.7680,2,-999.0000,9,    228.0,2,    228.5,2,  -999.00,9,  -999.00,9,  -999.00,9,  -999.00,9,      -999,9,   2340.0,2,     -999,9,  13.1108
         OMEX2,  1102,  1,      9,19990904, 43.0012,  -9.8171, 3129,     89.1,  13.1100,  35.7680,2,-999.0000,9,    228.7,2,    231.3,2,  -999.00,9,  -999.00,9,  -999.00,9,  -999.00,9,      -999,9,   2340.9,2,     -999,9,  13.0976
         OMEX2,  1102,  1,     10,19990904, 43.0012,  -9.8171, 3129,     99.3,  12.9500,  35.7500,2,-999.0000,9,    229.8,2,    230.0,2,  -999.00,9,  -999.00,9,  -999.00,9,  -999.00,9,      -999,9,   2340.0,2,     -999,9,  12.9363
         OMEX2,  1103,  1,      1,19990904, 42.8486,  -9.7855, 2059,   1728.7,   5.9050,  35.3360,2,  35.3370,2,    232.1,2,   -999.0,9,  -999.00,9,  -999.00,9,  -999.00,9,  -999.00,9,      -999,9,   -999.0,9,     -999,9,   5.7383
         OMEX2,  1104,  1,      1,19990904, 42.8326,  -9.6338, 2059,    707.3,  11.6720,  36.0090,2,  36.0070,2,   -999.0,9,   -999.0,9,  -999.00,9,  -999.00,9,  -999.00,9,  -999.00,9,      -999,9,   -999.0,9,     -999,9,  11.5784