BOTTLE,20090114PRINUNIVRMKPRINUNIVRMK
EXPOCODE,STNNBR,CASTNO,BTLNBR,DATE,LATITUDE,LONGITUDE,DEPTH,CTDPRS,CTDTMP,CTDSAL,CTDSAL_FLAG_W,SALNTY,SALNTY_FLAG_W,CTDOXY,CTDOXY_FLAG_W,OXYGEN,OXYGEN_FLAG_W,SILCAT,SILCAT_FLAG_W,NITRAT,NITRAT_FLAG_W,NITRIT,NITRIT_FLAG_W,PHSPHT,PHSPHT_FLAG_W,AMMONI,AMMONI_FLAG_W,ALKALI,ALKALI_FLAG_W,UREA,UREA_FLAG_W,THETA
,,,,,,,METERS,DBARS,ITS-90,PSS-78,,PSS-78,,UMOL/KG,,UMOL/KG,,UMOL/KG,,UMOL/KG,,UMOL/KG,,UMOL/KG,,UMOL/KG,,UMOL/KG,,UMOL/KG,,DEGC
         OMEX2,   254,  1,      1,19970629, 43.0087, -10.2970, 4314,     99.3,  13.8790,  35.9340,2,-999.0000,9,    225.8,2,    225.7,2,     1.52,6,  -999.00,9,  -999.00,9,     0.25,2,  0.136595,2,   2356.6,2, 0.107324,2,  13.8647
         OMEX2,   254,  1,      2,19970629, 43.0087, -10.2970, 4314,    125.4,  13.5630,  35.8940,2,-999.0000,9,    221.1,2,    222.3,2,     2.21,6,  -999.00,9,  -999.00,9,     0.44,2,      -999,9,   2354.8,2,     -999,9,  13.5452
         OMEX2,   254,  1,      3,19970629, 43.0087, -10.2970, 4314,    149.8,  13.3430,  35.8620,2,-999.0000,9,    219.8,2,    219.9,2,     2.53,6,  -999.00,9,  -999.00,9,     0.51,2,      -999,9,   2350.8,2,     -999,9,  13.3219
         OMEX2,   254,  1,      4,19970629, 43.0087, -10.2970, 4314,    200.7,  12.7980,  35.7800,2,-999.0000,9,    218.2,2,    218.7,2,     2.87,6,  -999.00,9,  -999.00,9,     0.61,2,      -999,9,   2347.1,2,     -999,9,  12.7705
         OMEX2,   254,  1,      5,19970629, 43.0087, -10.2970, 4314,    402.4,  11.4620,  35.5990,2,-999.0000,9,    218.8,2,    220.4,2,     3.92,6,  -999.00,9,  -999.00,9,     0.78,2,      -999,9,   2342.7,2,     -999,9,  11.4103
         OMEX2,   254,  1,      6,19970629, 43.0087, -10.2970, 4314,    604.8,  10.6810,  35.5590,2,-999.0000,9,    210.7,2,    211.5,2,     5.34,6,  -999.00,9,  -999.00,9,     0.94,2,      -999,9,   2345.0,2,     -999,9,  10.6059
         OMEX2,   254,  1,      7,19970629, 43.0087, -10.2970, 4314,    806.9,  11.2330,  35.9630,2,-999.0000,9,    186.3,2,    187.3,2,     7.04,6,  -999.00,9,  -999.00,9,     0.99,2,      -999,9,   2365.9,2,     -999,9,  11.1284
         OMEX2,   254,  1,      8,19970629, 43.0087, -10.2970, 4314,    908.3,  11.1580,  36.0380,2,-999.0000,9,    184.1,2,    185.7,2,     7.99,6,  -999.00,9,  -999.00,9,     1.22,4,      -999,9,   2377.9,2,     -999,9,  11.0401
         OMEX2,   254,  1,      9,19970629, 43.0087, -10.2970, 4314,   1009.4,  11.1790,  36.1210,2,-999.0000,9,    183.6,2,    185.2,2,     7.84,6,  -999.00,9,  -999.00,9,     0.95,2,      -999,9,   2382.0,2,     -999,9,  11.0471
         OMEX2,   254,  1,     10,19970629, 43.0087, -10.2970, 4314,   1111.0,  10.8670,  36.1090,2,-999.0000,9,    183.8,2,    186.8,2,     8.37,6,  -999.00,9,  -999.00,9,     0.97,2,      -999,9,   2384.0,2,     -999,9,  10.7237
         OMEX2,   254,  1,     11,19970629, 43.0087, -10.2970, 4314,   1262.6,  10.1770,  36.0610,2,-999.0000,9,    188.5,2,    192.4,2,     8.87,6,  -999.00,9,  -999.00,9,     1.03,2,      -999,9,   2374.4,2,     -999,9,  10.0192
         OMEX2,   254,  1,     12,19970629, 43.0087, -10.2970, 4314,   1434.6,   7.9910,  35.6720,2,-999.0000,9,    206.8,2,    212.5,2,    10.46,6,  -999.00,9,  -999.00,9,     1.11,2,      -999,9,   2356.1,2,     -999,9,   7.8332
         OMEX2,   255,  1,      1,19970629, 43.0020, -10.3006, 4314,      8.7,  17.6990,  35.8410,2,-999.0000,9,    237.3,2,    239.9,2,  -999.00,9,  -999.00,9,  -999.00,9,     0.03,2,      -999,9,   2349.6,2,     -999,9,  17.6975
         OMEX2,   255,  1,      2,19970629, 43.0020, -10.3006, 4314,     57.7,  15.1500,  35.9690,2,-999.0000,9,    251.6,2,    254.7,2,  -999.00,9,  -999.00,9,  -999.00,9,     0.06,2,      -999,9,   2354.9,2,     -999,9,  15.1412
         OMEX2,   256,  1,      1,19970629, 43.0069, -10.3089, 4314,      9.6,  17.6930,  35.8430,2,-999.0000,9,    237.3,2,    239.9,2,     0.74,6,  -999.00,9,  -999.00,9,     0.01,2,  0.136604,2,   2351.6,2,0.0975743,2,  17.6914
         OMEX2,   256,  1,      2,19970629, 43.0069, -10.3089, 4314,     18.9,  17.6900,  35.8430,2,-999.0000,9,    237.7,2,    240.0,2,     0.78,6,  -999.00,9,  -999.00,9,     0.01,2,  0.117089,2,   2352.6,2, 0.146361,2,  17.6868
         OMEX2,   256,  1,      3,19970629, 43.0069, -10.3089, 4314,     39.4,  17.6830,  35.8420,2,-999.0000,9,    237.8,2,    239.9,2,     0.71,6,  -999.00,9,  -999.00,9,     0.01,2,  0.136604,2,   2352.6,2,0.0975744,2,  17.6763
         OMEX2,   256,  1,      4,19970629, 43.0069, -10.3089, 4314,     49.1,  16.9720,  35.8730,2,-999.0000,9,    243.4,2,   -999.0,9,     0.85,6,  -999.00,9,  -999.00,9,     0.01,2,  0.126844,2,   -999.0,9, 0.117087,2,  16.9639
         OMEX2,   256,  1,      5,19970629, 43.0069, -10.3089, 4314,     59.8,  16.2130,  35.9310,2,-999.0000,9,    249.7,2,    253.8,2,     0.99,6,  -999.00,9,  -999.00,9,     0.02,2,  0.126838,2,   2354.4,2,0.0975679,2,  16.2034
         OMEX2,   256,  1,      6,19970629, 43.0069, -10.3089, 4314,     70.0,  15.3950,  35.9420,2,-999.0000,9,    252.2,2,   -999.0,9,     1.13,6,  -999.00,9,  -999.00,9,     0.06,2,  0.136594,2,   -999.0,9, 0.126837,2,  15.3842
         OMEX2,   256,  1,      7,19970629, 43.0069, -10.3089, 4314,     80.4,  14.7680,  35.9670,2,-999.0000,9,    243.4,2,    244.9,2,     1.22,6,  -999.00,9,  -999.00,9,     0.13,2,  0.126835,2,   2356.2,2, 0.175618,2,  14.7559
         OMEX2,   256,  1,      8,19970629, 43.0069, -10.3089, 4314,    100.3,  14.3130,  35.9620,2,-999.0000,9,    231.8,2,    232.6,2,     1.80,6,  -999.00,9,  -999.00,9,     0.36,2,      -999,9,   2356.4,2,     -999,9,  14.2982
         OMEX2,   257,  1,      1,19970629, 43.0037, -10.2961, 4314,     59.9,  15.8340,  35.9460,2,-999.0000,9,    247.0,2,   -999.0,9,  -999.00,9,  -999.00,9,  -999.00,9,  -999.00,9,      -999,9,   -999.0,9,     -999,9,  15.8246
         OMEX2,   257,  1,      2,19970629, 43.0037, -10.2961, 4314,    140.7,  13.5510,  35.8890,2,-999.0000,9,    220.6,2,   -999.0,9,  -999.00,9,  -999.00,9,  -999.00,9,  -999.00,9,      -999,9,   -999.0,9,     -999,9,  13.5310
         OMEX2,   301,  1,      1,19970703, 47.1532,  -7.4038, 1443,    100.5,  12.4400,  35.6770,2,-999.0000,9,    241.7,2,    240.0,2,     1.35,2,  -999.00,9,  -999.00,9,     0.47,2,      -999,9,   2351.2,2,     -999,9,  12.4265
         OMEX2,   301,  1,      2,19970703, 47.1532,  -7.4038, 1443,    125.1,  12.1570,  35.6540,2,-999.0000,9,    242.7,2,    242.9,2,     1.32,2,  -999.00,9,  -999.00,9,     0.52,2,      -999,9,   2349.4,2,     -999,9,  12.1405
         OMEX2,   301,  1,      3,19970703, 47.1532,  -7.4038, 1443,    151.1,  11.9770,  35.6380,2,-999.0000,9,    243.7,2,    243.7,2,     1.59,2,  -999.00,9,  -999.00,9,     0.49,2,      -999,9,   2348.5,2,     -999,9,  11.9572
         OMEX2,   301,  1,      4,19970703, 47.1532,  -7.4038, 1443,    201.2,  11.8330,  35.6230,2,-999.0000,9,    242.6,2,    241.1,2,     1.91,2,  -999.00,9,  -999.00,9,     0.53,2,      -999,9,   2347.5,2,     -999,9,  11.8068
         OMEX2,   301,  1,      5,19970703, 47.1532,  -7.4038, 1443,    403.2,  11.1050,  35.5440,2,-999.0000,9,    226.0,2,    224.4,2,     3.52,2,  -999.00,9,  -999.00,9,     0.75,2,      -999,9,   2344.8,2,     -999,9,  11.0542
         OMEX2,   301,  1,      6,19970703, 47.1532,  -7.4038, 1443,    604.6,  10.5610,  35.5420,2,  35.5410,2,    212.7,2,    212.4,2,     4.74,2,  -999.00,9,  -999.00,9,     0.91,2,      -999,9,   2347.1,2,     -999,9,  10.4865
         OMEX2,   301,  1,      7,19970703, 47.1532,  -7.4038, 1443,    806.8,  10.1850,  35.6440,2,-999.0000,9,    195.7,2,    194.1,2,     5.87,2,  -999.00,9,  -999.00,9,     1.05,2,      -999,9,   2357.3,2,     -999,9,  10.0867
         OMEX2,   301,  1,      8,19970703, 47.1532,  -7.4038, 1443,    907.8,   9.8810,  35.6850,2,-999.0000,9,    192.6,2,    193.0,2,     6.75,2,  -999.00,9,  -999.00,9,     1.11,2,      -999,9,   2362.4,2,     -999,9,   9.7718
         OMEX2,   301,  1,      9,19970703, 47.1532,  -7.4038, 1443,   1009.4,   9.6370,  35.7250,2,  35.7260,2,    190.6,2,    190.7,2,     7.29,2,  -999.00,9,  -999.00,9,     1.10,2,      -999,9,   2367.6,2,     -999,9,   9.5166
         OMEX2,   301,  1,     10,19970703, 47.1532,  -7.4038, 1443,   1110.8,   9.0750,  35.6690,2,-999.0000,9,    193.8,2,    195.3,2,     8.48,2,  -999.00,9,  -999.00,9,     1.15,2,      -999,9,   2362.7,2,     -999,9,   8.9464
         OMEX2,   301,  1,     11,19970703, 47.1532,  -7.4038, 1443,   1262.0,   7.8720,  35.5190,2,-999.0000,9,    203.8,2,    206.1,2,     9.54,2,  -999.00,9,  -999.00,9,     1.16,2,      -999,9,   2356.1,2,     -999,9,   7.7358
         OMEX2,   301,  1,     12,19970703, 47.1532,  -7.4038, 1443,   1432.6,   6.4860,  35.3260,2,  35.3260,2,    216.5,2,    219.5,2,    10.76,2,  -999.00,9,  -999.00,9,     1.22,2,      -999,9,   2347.6,2,     -999,9,   6.3447
         OMEX2,   302,  1,      1,19970703, 47.1571,  -7.4068,  469,      9.4,  15.4520,  35.7010,2,-999.0000,9,    245.5,2,    247.3,2,     0.14,2,  -999.00,9,  -999.00,9,     0.05,2,      -999,9,   2351.8,2,     -999,9,  15.4506
         OMEX2,   302,  1,      2,19970703, 47.1571,  -7.4068,  469,     19.2,  15.4470,  35.7010,2,-999.0000,9,    245.7,2,    247.7,2,     0.12,2,  -999.00,9,  -999.00,9,     0.07,2,      -999,9,   2352.8,2,     -999,9,  15.4440
         OMEX2,   302,  1,      3,19970703, 47.1571,  -7.4068,  469,     39.7,  15.3360,  35.7010,2,-999.0000,9,    246.1,2,    247.4,2,     0.20,2,  -999.00,9,  -999.00,9,     0.06,2,      -999,9,   2352.9,2,     -999,9,  15.3299
         OMEX2,   302,  1,      4,19970703, 47.1571,  -7.4068,  469,     60.3,  13.3310,  35.7250,2,-999.0000,9,    242.5,2,    246.9,2,     0.46,2,  -999.00,9,  -999.00,9,     0.32,2,      -999,9,   2354.9,2,     -999,9,  13.3226
         OMEX2,   302,  1,      5,19970703, 47.1571,  -7.4068,  469,     79.8,  12.8670,  35.7070,2,-999.0000,9,    240.7,2,    239.4,2,     1.01,2,  -999.00,9,  -999.00,9,     0.38,2,      -999,9,   2350.1,2,     -999,9,  12.8561
         OMEX2,   302,  1,      6,19970703, 47.1571,  -7.4068,  469,     99.3,  12.4310,  35.6790,2,-999.0000,9,    239.9,2,    240.8,2,     1.22,2,  -999.00,9,  -999.00,9,     0.51,2,      -999,9,   2350.3,2,     -999,9,  12.4177
         OMEX2,   303,  1,      1,19970703, 47.2159,  -7.3632,  469,    150.6,  11.9900,  35.6420,2,  35.6380,2,    242.9,2,   -999.0,9,  -999.00,9,  -999.00,9,  -999.00,9,  -999.00,9,      -999,9,   -999.0,9,     -999,9,  11.9703
         OMEX2,   303,  1,      2,19970703, 47.2159,  -7.3632,  469,    301.8,  11.4470,  35.5800,2,  35.5830,2,    233.1,2,   -999.0,9,  -999.00,9,  -999.00,9,  -999.00,9,  -999.00,9,      -999,9,   -999.0,9,     -999,9,  11.4084
         OMEX2,   304,  1,      1,19970703, 47.2742,  -7.3331,  469,    250.9,  11.5740,  35.5980,2,  35.5980,2,    239.4,2,   -999.0,9,  -999.00,9,  -999.00,9,  -999.00,9,  -999.00,9,      -999,9,   -999.0,9,     -999,9,  11.5417
         OMEX2,   305,  1,      1,19970703, 47.3381,  -7.3025,  469,    301.5,  11.3530,  35.5850,2,  35.5840,2,    237.8,2,   -999.0,9,  -999.00,9,  -999.00,9,  -999.00,9,  -999.00,9,      -999,9,   -999.0,9,     -999,9,  11.3146
         OMEX2,   306,  1,      1,19970703, 47.4019,  -7.2712, 1441,    301.5,  11.3200,  35.5900,2,-999.0000,9,    233.6,2,    233.2,2,  -999.00,9,  -999.00,9,  -999.00,9,     0.62,2,      -999,9,   2345.7,2,     -999,9,  11.2817
         OMEX2,   306,  1,      2,19970703, 47.4019,  -7.2712, 1441,    403.4,  11.0560,  35.5720,2,-999.0000,9,    228.1,2,    225.8,2,     4.01,2,  -999.00,9,  -999.00,9,     0.71,2,      -999,9,   2346.8,2,     -999,9,  11.0053
         OMEX2,   306,  1,      3,19970703, 47.4019,  -7.2712, 1441,    605.3,  10.4740,  35.5720,2,-999.0000,9,    212.7,2,    211.1,2,     5.38,2,  -999.00,9,  -999.00,9,     0.89,2,      -999,9,   2349.1,2,     -999,9,  10.3997
         OMEX2,   306,  1,      4,19970703, 47.4019,  -7.2712, 1441,    806.0,  10.0450,  35.6720,2,-999.0000,9,    194.4,2,    193.0,2,     7.26,2,  -999.00,9,  -999.00,9,     1.04,2,      -999,9,   2361.3,2,     -999,9,   9.9476
         OMEX2,   306,  1,      5,19970703, 47.4019,  -7.2712, 1441,    908.4,   9.8930,  35.7050,2,  35.7070,2,    192.8,2,    190.6,2,     7.91,2,  -999.00,9,  -999.00,9,     1.07,2,      -999,9,   2361.4,2,     -999,9,   9.7836
         OMEX2,   306,  1,      6,19970703, 47.4019,  -7.2712, 1441,   1009.4,   9.2110,  35.6460,2,-999.0000,9,    197.4,2,    197.3,2,     9.90,2,  -999.00,9,  -999.00,9,     1.09,2,      -999,9,   2361.6,2,     -999,9,   9.0938
         OMEX2,   306,  1,      7,19970703, 47.4019,  -7.2712, 1441,   1110.0,   8.6580,  35.6050,2,-999.0000,9,    198.4,2,    200.1,2,    10.26,2,  -999.00,9,  -999.00,9,     1.11,2,      -999,9,   2359.9,2,     -999,9,   8.5329
         OMEX2,   306,  1,      8,19970703, 47.4019,  -7.2712, 1441,   1262.1,   7.8350,  35.5170,2,-999.0000,9,    205.4,2,    207.4,2,     9.66,2,  -999.00,9,  -999.00,9,     1.16,2,      -999,9,   2356.1,2,     -999,9,   7.6992
         OMEX2,   306,  1,      9,19970703, 47.4019,  -7.2712, 1441,   1431.1,   6.5920,  35.3510,2,  35.3520,2,    216.3,2,    219.7,2,    11.95,2,  -999.00,9,  -999.00,9,     1.20,2,      -999,9,   2350.5,2,     -999,9,   6.4497
         OMEX2,   307,  1,      1,19970704, 47.4015,  -7.2676,  469,      9.2,  14.8470,  35.6670,2,-999.0000,9,    249.4,2,    251.4,2,  -999.00,9,  -999.00,9,  -999.00,9,     0.04,2,      -999,9,   2350.1,2,     -999,9,  14.8456
         OMEX2,   307,  1,      2,19970704, 47.4015,  -7.2676,  469,    100.2,  12.5700,  35.6600,2,-999.0000,9,    238.9,2,   -999.0,9,  -999.00,9,  -999.00,9,  -999.00,9,  -999.00,9,      -999,9,   -999.0,9,     -999,9,  12.5565
         OMEX2,   308,  1,      1,19970704, 47.3984,  -7.2696,  469,      9.7,  14.8500,  35.6750,2,-999.0000,9,    249.6,2,    250.3,2,     0.38,2,  -999.00,9,  -999.00,9,     0.05,2,      -999,9,   2351.2,2,     -999,9,  14.8485
         OMEX2,   308,  1,      2,19970704, 47.3984,  -7.2696,  469,     18.0,  14.8500,  35.6750,2,-999.0000,9,    249.5,2,    249.7,2,     0.45,2,  -999.00,9,  -999.00,9,     0.05,2,      -999,9,   2349.1,2,     -999,9,  14.8473
         OMEX2,   308,  1,      3,19970704, 47.3984,  -7.2696,  469,     38.9,  13.8140,  35.6680,2,-999.0000,9,    246.7,2,    241.1,2,     1.01,2,  -999.00,9,  -999.00,9,     0.20,2,      -999,9,   2351.6,2,     -999,9,  13.8084
         OMEX2,   308,  1,      4,19970704, 47.3984,  -7.2696,  469,     59.2,  12.7590,  35.6670,2,-999.0000,9,    236.9,2,    237.2,2,     1.53,2,  -999.00,9,  -999.00,9,     0.32,2,      -999,9,   2350.1,2,     -999,9,  12.7510
         OMEX2,   308,  1,      5,19970704, 47.3984,  -7.2696,  469,     79.6,  12.4910,  35.6580,2,-999.0000,9,    238.1,2,    238.2,2,     1.96,2,  -999.00,9,  -999.00,9,     0.38,2,      -999,9,   2346.2,2,     -999,9,  12.4803
         OMEX2,   308,  1,      6,19970704, 47.3984,  -7.2696,  469,    100.3,  12.1370,  35.6460,2,-999.0000,9,    240.2,2,    240.0,2,     1.89,2,  -999.00,9,  -999.00,9,     0.42,2,      -999,9,   2349.4,2,     -999,9,  12.1238
         OMEX2,   308,  1,      7,19970704, 47.3984,  -7.2696,  469,    150.4,  11.7710,  35.6200,2,-999.0000,9,    241.0,2,    240.0,2,     2.31,2,  -999.00,9,  -999.00,9,     0.49,2,      -999,9,   2345.6,2,     -999,9,  11.7515
         OMEX2,   308,  1,      8,19970704, 47.3984,  -7.2696,  469,    201.0,  11.6230,  35.6080,2,-999.0000,9,    236.9,2,    235.6,2,     2.79,2,  -999.00,9,  -999.00,9,     0.53,2,      -999,9,   2346.6,2,     -999,9,  11.5971
         OMEX2,   308,  1,      9,19970704, 47.3984,  -7.2696,  469,    301.7,  11.3430,  35.5910,2,-999.0000,9,    233.4,2,    231.9,2,     3.32,2,  -999.00,9,  -999.00,9,     0.61,2,      -999,9,   2347.8,2,     -999,9,  11.3046
         OMEX2,   309,  1,      1,19970704, 47.3977,  -7.2673,  469,      9.0,  14.8910,  35.6780,2,-999.0000,9,    247.7,2,   -999.0,9,     0.35,2,  -999.00,9,  -999.00,9,     0.04,2,      -999,9,   -999.0,9,     -999,9,  14.8896
         OMEX2,   309,  1,      2,19970704, 47.3977,  -7.2673,  469,     19.0,  14.8870,  35.6780,2,-999.0000,9,    247.9,2,   -999.0,9,     0.29,2,  -999.00,9,  -999.00,9,     0.06,2,      -999,9,   -999.0,9,     -999,9,  14.8841
         OMEX2,   309,  1,      3,19970704, 47.3977,  -7.2673,  469,     39.8,  14.5970,  35.6740,2,-999.0000,9,    245.8,2,   -999.0,9,     0.29,2,  -999.00,9,  -999.00,9,     0.09,2,      -999,9,   -999.0,9,     -999,9,  14.5911
         OMEX2,   309,  1,      4,19970704, 47.3977,  -7.2673,  469,     60.1,  13.4500,  35.6730,2,-999.0000,9,    238.4,2,   -999.0,9,     0.89,2,  -999.00,9,  -999.00,9,     0.23,2,      -999,9,   -999.0,9,     -999,9,  13.4415
         OMEX2,   309,  1,      5,19970704, 47.3977,  -7.2673,  469,     79.5,  13.1160,  35.6630,2,  35.6630,2,    239.4,2,   -999.0,9,     1.39,2,  -999.00,9,  -999.00,9,     0.30,2,      -999,9,   -999.0,9,     -999,9,  13.1050
         OMEX2,   309,  1,      6,19970704, 47.3977,  -7.2673,  469,    100.1,  12.4200,  35.6570,2,-999.0000,9,    237.1,2,   -999.0,9,     1.53,2,  -999.00,9,  -999.00,9,     0.38,2,      -999,9,   -999.0,9,     -999,9,  12.4066
         OMEX2,   309,  1,      7,19970704, 47.3977,  -7.2673,  469,    149.9,  11.8050,  35.6210,2,-999.0000,9,    236.5,2,   -999.0,9,     2.16,2,  -999.00,9,  -999.00,9,     0.50,2,      -999,9,   -999.0,9,     -999,9,  11.7856
         OMEX2,   309,  1,      8,19970704, 47.3977,  -7.2673,  469,    200.8,  11.6120,  35.6070,2,-999.0000,9,    235.3,2,   -999.0,9,     2.56,2,  -999.00,9,  -999.00,9,     0.56,2,      -999,9,   -999.0,9,     -999,9,  11.5862
         OMEX2,   309,  1,      9,19970704, 47.3977,  -7.2673,  469,    302.4,  11.3090,  35.5850,2,  35.5860,2,    233.4,2,   -999.0,9,     3.21,2,  -999.00,9,  -999.00,9,     0.62,2,      -999,9,   -999.0,9,     -999,9,  11.2706
         OMEX2,   310,  1,      1,19970704, 47.4027,  -7.2720,  469,      9.4,  14.9250,  35.6540,2,-999.0000,9,    252.5,2,   -999.0,9,     0.14,2,  -999.00,9,  -999.00,9,     0.05,2,      -999,9,   -999.0,9,     -999,9,  14.9236
         OMEX2,   310,  1,      2,19970704, 47.4027,  -7.2720,  469,     19.0,  14.8570,  35.6640,2,-999.0000,9,    251.1,2,   -999.0,9,     0.18,2,  -999.00,9,  -999.00,9,     0.05,2,      -999,9,   -999.0,9,     -999,9,  14.8541
         OMEX2,   310,  1,      3,19970704, 47.4027,  -7.2720,  469,     38.7,  14.7920,  35.6700,2,-999.0000,9,    249.7,2,   -999.0,9,     0.40,2,  -999.00,9,  -999.00,9,     0.10,2,      -999,9,   -999.0,9,     -999,9,  14.7862
         OMEX2,   310,  1,      4,19970704, 47.4027,  -7.2720,  469,     59.4,  14.2830,  35.6700,2,-999.0000,9,    243.4,2,   -999.0,9,     0.71,2,  -999.00,9,  -999.00,9,     0.23,2,      -999,9,   -999.0,9,     -999,9,  14.2743
         OMEX2,   310,  1,      5,19970704, 47.4027,  -7.2720,  469,     79.8,  13.4870,  35.6690,2,  35.6660,2,    240.6,2,   -999.0,9,     1.32,2,  -999.00,9,  -999.00,9,     0.29,2,      -999,9,   -999.0,9,     -999,9,  13.4757
         OMEX2,   310,  1,      6,19970704, 47.4027,  -7.2720,  469,     99.8,  12.7230,  35.6640,2,-999.0000,9,    237.9,2,   -999.0,9,     1.39,2,  -999.00,9,  -999.00,9,     0.36,2,      -999,9,   -999.0,9,     -999,9,  12.7094
         OMEX2,   310,  1,      7,19970704, 47.4027,  -7.2720,  469,    150.3,  12.0040,  35.6360,2,-999.0000,9,    240.9,2,   -999.0,9,     1.69,2,  -999.00,9,  -999.00,9,     0.49,2,      -999,9,   -999.0,9,     -999,9,  11.9843
         OMEX2,   310,  1,      8,19970704, 47.4027,  -7.2720,  469,    201.3,  11.6700,  35.6090,2,-999.0000,9,    237.8,2,   -999.0,9,     2.21,2,  -999.00,9,  -999.00,9,     0.64,2,      -999,9,   -999.0,9,     -999,9,  11.6440
         OMEX2,   310,  1,      9,19970704, 47.4027,  -7.2720,  469,    301.6,  11.4090,  35.5940,2,  35.5950,2,    233.4,2,   -999.0,9,     3.01,2,  -999.00,9,  -999.00,9,     0.63,2,      -999,9,   -999.0,9,     -999,9,  11.3705