BOTTLE,20090114PRINUNIVRMKPRINUNIVRMK
EXPOCODE,STNNBR,CASTNO,BTLNBR,DATE,LATITUDE,LONGITUDE,DEPTH,CTDPRS,CTDTMP,CTDSAL,CTDSAL_FLAG_W,SALNTY,SALNTY_FLAG_W,CTDOXY,CTDOXY_FLAG_W,OXYGEN,OXYGEN_FLAG_W,SILCAT,SILCAT_FLAG_W,NITRAT,NITRAT_FLAG_W,NITRIT,NITRIT_FLAG_W,PHSPHT,PHSPHT_FLAG_W,AMMONI,AMMONI_FLAG_W,ALKALI,ALKALI_FLAG_W,UREA,UREA_FLAG_W,THETA
,,,,,,,METERS,DBARS,ITS-90,PSS-78,,PSS-78,,UMOL/KG,,UMOL/KG,,UMOL/KG,,UMOL/KG,,UMOL/KG,,UMOL/KG,,UMOL/KG,,UMOL/KG,,UMOL/KG,,DEGC
         OMEX2,  1129,  1,      1,19990908, 42.6659,  -9.2047,  321,      3.8,  17.5110,  35.6150,2,-999.0000,9,    267.5,2,   -999.0,9,     1.18,2,     0.40,2,     0.16,2,     0.10,2,      -999,9,   -999.0,9,     -999,9,  17.5104
         OMEX2,  1129,  1,      2,19990908, 42.6659,  -9.2047,  321,     19.5,  17.1950,  35.6080,2,-999.0000,9,    270.4,2,   -999.0,9,     2.94,2,     4.66,2,     0.74,2,     0.33,2,      -999,9,   -999.0,9,     -999,9,  17.1917
         OMEX2,  1129,  1,      3,19990908, 42.6659,  -9.2047,  321,     29.2,  16.8020,  35.6110,2,-999.0000,9,    272.4,2,   -999.0,9,     4.85,2,    10.92,2,     0.41,2,  -999.00,9,      -999,9,   -999.0,9,     -999,9,  16.7972
         OMEX2,  1129,  1,      4,19990908, 42.6659,  -9.2047,  321,     38.9,  15.6900,  35.6400,2,-999.0000,9,    246.4,2,   -999.0,9,     6.52,2,    12.35,2,     0.19,2,     0.64,2,      -999,9,   -999.0,9,     -999,9,  15.6839
         OMEX2,  1129,  1,      5,19990908, 42.6659,  -9.2047,  321,     49.6,  13.1240,  35.7320,2,-999.0000,9,    202.3,2,    169.6,2,  -999.00,9,  -999.00,9,  -999.00,9,  -999.00,9,      -999,9,   2343.9,2,     -999,9,  13.1171
         OMEX2,  1129,  1,      6,19990908, 42.6659,  -9.2047,  321,     58.9,  12.8450,  35.7430,2,-999.0000,9,    194.4,2,   -999.0,9,     6.54,2,    12.39,2,     0.18,2,     0.72,2,      -999,9,   -999.0,9,     -999,9,  12.8370
         OMEX2,  1129,  1,      7,19990908, 42.6659,  -9.2047,  321,     69.2,  12.7930,  35.7390,2,-999.0000,9,    188.1,2,    174.1,2,  -999.00,9,  -999.00,9,  -999.00,9,  -999.00,9,      -999,9,   2339.0,2,     -999,9,  12.7836
         OMEX2,  1129,  1,      8,19990908, 42.6659,  -9.2047,  321,     79.4,  12.7750,  35.7380,2,-999.0000,9,    185.0,2,   -999.0,9,     6.52,2,    11.97,2,     0.27,2,     0.74,2,      -999,9,   -999.0,9,     -999,9,  12.7642
         OMEX2,  1129,  1,      9,19990908, 42.6659,  -9.2047,  321,     90.8,  12.5960,  35.7210,2,  35.7230,2,    189.3,2,    183.2,2,  -999.00,9,  -999.00,9,  -999.00,9,  -999.00,9,      -999,9,   2341.2,2,     -999,9,  12.5837
         OMEX2,  1130,  1,      1,19990908, 42.6653,  -9.2039,  321,      3.4,  17.5250,  35.6170,2,-999.0000,9,   -999.0,9,   -999.0,9,  -999.00,9,  -999.00,9,  -999.00,9,  -999.00,9,      -999,9,   -999.0,9,     -999,9,  17.5244
         OMEX2,  1130,  1,      2,19990908, 42.6653,  -9.2039,  321,     18.8,  16.7450,  35.6120,2,-999.0000,9,   -999.0,9,   -999.0,9,  -999.00,9,  -999.00,9,  -999.00,9,  -999.00,9,      -999,9,   -999.0,9,     -999,9,  16.7419
         OMEX2,  1130,  1,      3,19990908, 42.6653,  -9.2039,  321,     28.8,  15.2550,  35.6680,2,-999.0000,9,   -999.0,9,   -999.0,9,  -999.00,9,  -999.00,9,  -999.00,9,  -999.00,9,      -999,9,   -999.0,9,     -999,9,  15.2506
         OMEX2,  1130,  1,      4,19990908, 42.6653,  -9.2039,  321,     38.9,  13.8960,  35.7120,2,-999.0000,9,   -999.0,9,   -999.0,9,  -999.00,9,  -999.00,9,  -999.00,9,  -999.00,9,      -999,9,   -999.0,9,     -999,9,  13.8904
         OMEX2,  1130,  1,      5,19990908, 42.6653,  -9.2039,  321,     58.9,  12.8140,  35.7340,2,-999.0000,9,   -999.0,9,   -999.0,9,  -999.00,9,  -999.00,9,  -999.00,9,  -999.00,9,      -999,9,   -999.0,9,     -999,9,  12.8060
         OMEX2,  1130,  1,      6,19990908, 42.6653,  -9.2039,  321,     78.4,  12.7850,  35.7360,2,  35.7310,2,   -999.0,9,   -999.0,9,  -999.00,9,  -999.00,9,  -999.00,9,  -999.00,9,      -999,9,   -999.0,9,     -999,9,  12.7743
         OMEX2,  1131,  1,      1,19990908, 42.1560,  -9.7293, 1954,      3.6,  20.5500,  35.7030,2,-999.0000,9,    230.3,2,    232.3,2,  -999.00,9,  -999.00,9,  -999.00,9,  -999.00,9,      -999,9,   2335.9,2,     -999,9,  20.5493
         OMEX2,  1131,  1,      2,19990908, 42.1560,  -9.7293, 1954,     19.2,  18.4700,  35.6960,2,-999.0000,9,    227.6,2,    247.6,2,  -999.00,9,  -999.00,9,  -999.00,9,  -999.00,9,      -999,9,   2336.2,2,     -999,9,  18.4666
         OMEX2,  1131,  1,      3,19990908, 42.1560,  -9.7293, 1954,     29.1,  16.5120,  35.7080,2,-999.0000,9,    232.1,2,    250.1,2,  -999.00,9,  -999.00,9,  -999.00,9,  -999.00,9,      -999,9,   2342.2,2,     -999,9,  16.5073
         OMEX2,  1131,  1,      4,19990908, 42.1560,  -9.7293, 1954,     39.2,  14.5440,  35.7600,2,-999.0000,9,    240.9,2,    238.4,2,  -999.00,9,  -999.00,9,  -999.00,9,  -999.00,9,      -999,9,   2343.3,2,     -999,9,  14.5382
         OMEX2,  1131,  1,      5,19990908, 42.1560,  -9.7293, 1954,     48.8,  13.8370,  35.7970,2,-999.0000,9,    230.9,2,    230.1,2,  -999.00,9,  -999.00,9,  -999.00,9,  -999.00,9,      -999,9,   2343.6,2,     -999,9,  13.8300
         OMEX2,  1131,  1,      6,19990908, 42.1560,  -9.7293, 1954,     60.1,  13.4810,  35.8020,2,-999.0000,9,    229.9,2,    228.4,2,  -999.00,9,  -999.00,9,  -999.00,9,  -999.00,9,      -999,9,   2344.8,2,     -999,9,  13.4725
         OMEX2,  1131,  1,      7,19990908, 42.1560,  -9.7293, 1954,     70.0,  13.3130,  35.8070,2,-999.0000,9,    229.9,2,    228.6,2,  -999.00,9,  -999.00,9,  -999.00,9,  -999.00,9,      -999,9,   2342.8,2,     -999,9,  13.3032
         OMEX2,  1131,  1,      8,19990908, 42.1560,  -9.7293, 1954,     79.9,  13.2160,  35.8030,2,-999.0000,9,    231.0,2,    229.1,2,  -999.00,9,  -999.00,9,  -999.00,9,  -999.00,9,      -999,9,   2347.9,2,     -999,9,  13.2048
         OMEX2,  1131,  1,      9,19990908, 42.1560,  -9.7293, 1954,     89.2,  13.1260,  35.7940,2,-999.0000,9,    231.4,2,    229.2,2,  -999.00,9,  -999.00,9,  -999.00,9,  -999.00,9,      -999,9,   2344.9,2,     -999,9,  13.1136
         OMEX2,  1131,  1,     10,19990908, 42.1560,  -9.7293, 1954,     99.5,  12.9740,  35.7770,2,  35.7790,2,    231.8,2,    228.1,2,  -999.00,9,  -999.00,9,  -999.00,9,  -999.00,9,      -999,9,   2344.0,2,     -999,9,  12.9603
         OMEX2,  1132,  1,      1,19990908, 42.1450,  -9.7221, 1954,    149.8,  12.6080,  35.7360,2,-999.0000,9,    227.3,2,    222.4,2,  -999.00,9,  -999.00,9,  -999.00,9,  -999.00,9,      -999,9,   2349.2,2,     -999,9,  12.5877
         OMEX2,  1132,  1,      2,19990908, 42.1450,  -9.7221, 1954,    202.0,  12.2860,  35.6980,2,-999.0000,9,    220.9,2,    216.9,2,  -999.00,9,  -999.00,9,  -999.00,9,  -999.00,9,      -999,9,   2345.4,2,     -999,9,  12.2590
         OMEX2,  1132,  1,      3,19990908, 42.1450,  -9.7221, 1954,    302.9,  11.7640,  35.6400,2,-999.0000,9,    218.0,2,    213.3,2,  -999.00,9,  -999.00,9,  -999.00,9,  -999.00,9,      -999,9,   2340.6,2,     -999,9,  11.7245
         OMEX2,  1132,  1,      4,19990908, 42.1450,  -9.7221, 1954,    403.1,  11.3620,  35.6200,2,-999.0000,9,    210.0,2,    204.3,2,  -999.00,9,  -999.00,9,  -999.00,9,  -999.00,9,      -999,9,   2340.7,2,     -999,9,  11.3104
         OMEX2,  1132,  1,      5,19990908, 42.1450,  -9.7221, 1954,    606.0,  11.2730,  35.8350,2,-999.0000,9,    191.4,2,    188.7,2,  -999.00,9,  -999.00,9,  -999.00,9,  -999.00,9,      -999,9,   2357.8,2,     -999,9,  11.1950
         OMEX2,  1132,  1,      6,19990908, 42.1450,  -9.7221, 1954,    808.5,  11.6780,  36.1410,2,-999.0000,9,    184.5,2,    184.9,2,  -999.00,9,  -999.00,9,  -999.00,9,  -999.00,9,      -999,9,   2382.7,2,     -999,9,  11.5704
         OMEX2,  1132,  1,      7,19990908, 42.1450,  -9.7221, 1954,    908.7,  11.3960,  36.1690,2,-999.0000,9,    182.5,2,    183.8,2,  -999.00,9,  -999.00,9,  -999.00,9,  -999.00,9,      -999,9,   2391.8,2,     -999,9,  11.2764
         OMEX2,  1132,  1,      8,19990908, 42.1450,  -9.7221, 1954,   1010.1,  11.3780,  36.2350,2,-999.0000,9,    182.5,2,    182.7,2,  -999.00,9,  -999.00,9,  -999.00,9,  -999.00,9,      -999,9,   2392.9,2,     -999,9,  11.2445
         OMEX2,  1132,  1,      9,19990908, 42.1450,  -9.7221, 1954,   1111.2,  11.1680,  36.2510,2,-999.0000,9,    183.0,2,    183.6,2,  -999.00,9,  -999.00,9,  -999.00,9,  -999.00,9,      -999,9,   2392.0,2,     -999,9,  11.0221
         OMEX2,  1132,  1,     10,19990908, 42.1450,  -9.7221, 1954,   1262.2,  10.3930,  36.1440,2,-999.0000,9,    186.7,2,    187.7,2,  -999.00,9,  -999.00,9,  -999.00,9,  -999.00,9,      -999,9,   2392.3,2,     -999,9,  10.2332
         OMEX2,  1132,  1,     11,19990908, 42.1450,  -9.7221, 1954,   1518.1,   7.0450,  35.5080,2,-999.0000,9,    219.5,2,    221.1,2,  -999.00,9,  -999.00,9,  -999.00,9,  -999.00,9,      -999,9,   2349.4,2,     -999,9,   6.8878
         OMEX2,  1132,  1,     12,19990908, 42.1450,  -9.7221, 1954,   1715.0,   5.0480,  35.1630,2,  35.1640,2,    247.2,2,    245.9,2,  -999.00,9,  -999.00,9,  -999.00,9,  -999.00,9,      -999,9,   2322.8,2,     -999,9,   4.8940
         OMEX2,  1133,  1,      1,19990908, 42.3272,  -9.6245, 1954,   1488.7,   9.0150,  35.8840,2,-999.0000,9,    202.3,2,   -999.0,9,  -999.00,9,  -999.00,9,  -999.00,9,  -999.00,9,      -999,9,   -999.0,9,     -999,9,   8.8395
         OMEX2,  1134,  1,      1,19990908, 42.3326,  -9.2052,  184,    140.4,  12.3940,  35.7120,2,  35.7100,2,    207.3,2,   -999.0,9,  -999.00,9,  -999.00,9,  -999.00,9,  -999.00,9,      -999,9,   -999.0,9,     -999,9,  12.3752
         OMEX2,  1135,  1,      1,19990909, 42.1485,  -8.9587,   90,      4.0,  18.7350,  35.1630,2,-999.0000,9,   -999.0,9,    266.9,2,  -999.00,9,  -999.00,9,  -999.00,9,     0.03,2,   1.23982,2,   2302.0,2,0.0976235,2,  18.7343
         OMEX2,  1135,  1,      2,19990909, 42.1485,  -8.9587,   90,     18.8,  18.7060,  35.1510,2,-999.0000,9,   -999.0,9,    237.4,2,  -999.00,9,  -999.00,9,  -999.00,9,     0.12,2,      -999,9,   2311.0,2,     -999,9,  18.7027
         OMEX2,  1135,  1,      3,19990909, 42.1485,  -8.9587,   90,     29.4,  17.2260,  35.1010,2,-999.0000,9,   -999.0,9,    214.2,2,  -999.00,9,  -999.00,9,  -999.00,9,     0.25,2,      -999,9,   2320.7,2,     -999,9,  17.2211
         OMEX2,  1135,  1,      4,19990909, 42.1485,  -8.9587,   90,     39.0,  15.0760,  35.5190,2,-999.0000,9,   -999.0,9,    194.7,2,  -999.00,9,  -999.00,9,  -999.00,9,     0.41,2,   1.27853,2,   2338.0,2, 0.156156,2,  15.0701
         OMEX2,  1135,  1,      5,19990909, 42.1485,  -8.9587,   90,     58.5,  13.1280,  35.7680,2,-999.0000,9,   -999.0,9,    191.7,2,  -999.00,9,  -999.00,9,  -999.00,9,     0.58,2,      -999,9,   2344.0,2,     -999,9,  13.1199
         OMEX2,  1135,  1,      6,19990909, 42.1485,  -8.9587,   90,     80.0,  12.9390,  35.7760,2,-999.0000,9,   -999.0,9,    158.5,2,  -999.00,9,  -999.00,9,  -999.00,9,     0.84,2,      -999,9,   2342.0,2,     -999,9,  12.9280
         OMEX2,  1136,  1,      1,19990909, 42.1502,  -8.9628,   91,      3.4,  18.6570,  35.0200,2,-999.0000,9,   -999.0,9,   -999.0,9,  -999.00,9,  -999.00,9,  -999.00,9,     0.07,2,      -999,9,   -999.0,9,     -999,9,  18.6564
         OMEX2,  1136,  1,      2,19990909, 42.1502,  -8.9628,   91,     18.8,  15.7920,  35.4160,2,-999.0000,9,   -999.0,9,   -999.0,9,  -999.00,9,  -999.00,9,  -999.00,9,     0.28,2,      -999,9,   -999.0,9,     -999,9,  15.7890
         OMEX2,  1136,  1,      3,19990909, 42.1502,  -8.9628,   91,     29.0,  13.9550,  35.7510,2,-999.0000,9,   -999.0,9,   -999.0,9,  -999.00,9,  -999.00,9,  -999.00,9,  -999.00,9,      -999,9,   -999.0,9,     -999,9,  13.9508
         OMEX2,  1136,  1,      4,19990909, 42.1502,  -8.9628,   91,     38.0,  13.2970,  35.7750,2,-999.0000,9,   -999.0,9,   -999.0,9,  -999.00,9,  -999.00,9,  -999.00,9,     0.56,2,      -999,9,   -999.0,9,     -999,9,  13.2917
         OMEX2,  1136,  1,      5,19990909, 42.1502,  -8.9628,   91,     48.6,  13.1620,  35.7850,2,-999.0000,9,   -999.0,9,    153.5,2,  -999.00,9,  -999.00,9,  -999.00,9,  -999.00,9,      -999,9,   2341.9,2,     -999,9,  13.1552
         OMEX2,  1136,  1,      6,19990909, 42.1502,  -8.9628,   91,     59.0,  13.0450,  35.7750,2,-999.0000,9,   -999.0,9,   -999.0,9,  -999.00,9,  -999.00,9,  -999.00,9,     0.76,2,      -999,9,   -999.0,9,     -999,9,  13.0369
         OMEX2,  1136,  1,      7,19990909, 42.1502,  -8.9628,   91,     69.5,  12.9970,  35.7810,2,-999.0000,9,   -999.0,9,    146.7,2,  -999.00,9,  -999.00,9,  -999.00,9,  -999.00,9,      -999,9,   2346.0,2,     -999,9,  12.9874
         OMEX2,  1136,  1,      8,19990909, 42.1502,  -8.9628,   91,     81.3,  12.9120,  35.7730,2,  35.7750,2,   -999.0,9,   -999.0,9,  -999.00,9,  -999.00,9,  -999.00,9,     0.88,2,      -999,9,   -999.0,9,     -999,9,  12.9008
         OMEX2,  1137,  1,      1,19990909, 42.1484,  -8.9633,   91,      3.3,  18.7520,  35.0230,2,-999.0000,9,   -999.0,9,   -999.0,9,  -999.00,9,  -999.00,9,  -999.00,9,  -999.00,9,      -999,9,   -999.0,9,     -999,9,  18.7514
         OMEX2,  1137,  1,      2,19990909, 42.1484,  -8.9633,   91,     17.5,  16.1190,  35.4270,2,-999.0000,9,   -999.0,9,   -999.0,9,  -999.00,9,  -999.00,9,  -999.00,9,  -999.00,9,      -999,9,   -999.0,9,     -999,9,  16.1162
         OMEX2,  1137,  1,      3,19990909, 42.1484,  -8.9633,   91,     29.1,  14.4030,  35.6860,2,-999.0000,9,   -999.0,9,   -999.0,9,  -999.00,9,  -999.00,9,  -999.00,9,  -999.00,9,      -999,9,   -999.0,9,     -999,9,  14.3987
         OMEX2,  1137,  1,      4,19990909, 42.1484,  -8.9633,   91,     39.5,  13.5450,  35.7560,2,-999.0000,9,   -999.0,9,   -999.0,9,  -999.00,9,  -999.00,9,  -999.00,9,  -999.00,9,      -999,9,   -999.0,9,     -999,9,  13.5394
         OMEX2,  1137,  1,      5,19990909, 42.1484,  -8.9633,   91,     58.2,  13.1130,  35.7800,2,-999.0000,9,   -999.0,9,   -999.0,9,  -999.00,9,  -999.00,9,  -999.00,9,  -999.00,9,      -999,9,   -999.0,9,     -999,9,  13.1049
         OMEX2,  1137,  1,      6,19990909, 42.1484,  -8.9633,   91,     80.6,  12.9360,  35.7760,2,-999.0000,9,   -999.0,9,   -999.0,9,  -999.00,9,  -999.00,9,  -999.00,9,  -999.00,9,      -999,9,   -999.0,9,     -999,9,  12.9249
         OMEX2,  1138,  1,      1,19990909, 42.1536,  -9.3231,  213,      3.7,  19.6340,  35.6950,2,-999.0000,9,   -999.0,9,    241.1,2,  -999.00,9,  -999.00,9,  -999.00,9,     0.02,2,      -999,9,   2337.4,2,     -999,9,  19.6333
         OMEX2,  1138,  1,      2,19990909, 42.1536,  -9.3231,  213,     19.2,  16.9400,  35.6890,2,-999.0000,9,   -999.0,9,    240.8,2,  -999.00,9,  -999.00,9,  -999.00,9,     0.10,2,      -999,9,   2341.0,2,     -999,9,  16.9368
         OMEX2,  1138,  1,      3,19990909, 42.1536,  -9.3231,  213,     28.6,  14.7180,  35.7760,2,-999.0000,9,   -999.0,9,    236.2,2,  -999.00,9,  -999.00,9,  -999.00,9,  -999.00,9,      -999,9,   2347.2,2,     -999,9,  14.7137
         OMEX2,  1138,  1,      4,19990909, 42.1536,  -9.3231,  213,     38.6,  13.7540,  35.8030,2,-999.0000,9,   -999.0,9,    230.2,2,  -999.00,9,  -999.00,9,  -999.00,9,     0.30,2,      -999,9,   2347.6,2,     -999,9,  13.7485
         OMEX2,  1138,  1,      5,19990909, 42.1536,  -9.3231,  213,     49.3,  13.4370,  35.8030,2,-999.0000,9,   -999.0,9,    227.3,2,  -999.00,9,  -999.00,9,  -999.00,9,  -999.00,9,      -999,9,   2348.8,2,     -999,9,  13.4301
         OMEX2,  1138,  1,      6,19990909, 42.1536,  -9.3231,  213,     58.0,  13.1930,  35.8000,2,-999.0000,9,   -999.0,9,    223.6,2,  -999.00,9,  -999.00,9,  -999.00,9,     0.44,2,      -999,9,   2350.0,2,     -999,9,  13.1849
         OMEX2,  1138,  1,      7,19990909, 42.1536,  -9.3231,  213,     68.9,  13.0900,  35.7910,2,-999.0000,9,   -999.0,9,    202.7,2,  -999.00,9,  -999.00,9,  -999.00,9,  -999.00,9,      -999,9,   2345.0,2,     -999,9,  13.0804
         OMEX2,  1138,  1,      8,19990909, 42.1536,  -9.3231,  213,     79.5,  12.9280,  35.7730,2,-999.0000,9,   -999.0,9,    198.7,2,  -999.00,9,  -999.00,9,  -999.00,9,     0.63,2,      -999,9,   2346.0,2,     -999,9,  12.9171
         OMEX2,  1138,  1,      9,19990909, 42.1536,  -9.3231,  213,     89.5,  12.8360,  35.7650,2,-999.0000,9,   -999.0,9,    202.2,2,  -999.00,9,  -999.00,9,  -999.00,9,  -999.00,9,      -999,9,   2348.1,2,     -999,9,  12.8238
         OMEX2,  1138,  1,     10,19990909, 42.1536,  -9.3231,  213,    100.0,  12.7550,  35.7570,2,-999.0000,9,   -999.0,9,    205.8,2,  -999.00,9,  -999.00,9,  -999.00,9,     0.61,2,      -999,9,   2347.1,2,     -999,9,  12.7414
         OMEX2,  1138,  1,     11,19990909, 42.1536,  -9.3231,  213,    149.5,  12.4880,  35.7270,2,-999.0000,9,   -999.0,9,    216.3,2,  -999.00,9,  -999.00,9,  -999.00,9,     0.60,2,      -999,9,   2344.2,2,     -999,9,  12.4679
         OMEX2,  1138,  1,     12,19990909, 42.1536,  -9.3231,  213,    202.7,  12.2540,  35.7020,2,  35.7070,2,   -999.0,9,    211.9,2,  -999.00,9,  -999.00,9,  -999.00,9,     0.64,2,      -999,9,   2343.3,2,     -999,9,  12.2270
         OMEX2,  1139,  1,      1,19990909, 42.1488, -10.0021, 2947,      3.9,  20.5700,  35.6830,2,-999.0000,9,    226.6,2,    231.0,2,  -999.00,9,  -999.00,9,  -999.00,9,     0.00,2,      -999,9,   2340.9,2,     -999,9,  20.5693
         OMEX2,  1139,  1,      2,19990909, 42.1488, -10.0021, 2947,     18.4,  18.8990,  35.6620,2,-999.0000,9,    230.7,2,    252.0,2,  -999.00,9,  -999.00,9,  -999.00,9,     0.00,2,      -999,9,   2342.0,2,     -999,9,  18.8957
         OMEX2,  1139,  1,      3,19990909, 42.1488, -10.0021, 2947,     29.2,  16.4460,  35.6780,2,-999.0000,9,    237.3,2,    255.0,2,  -999.00,9,  -999.00,9,  -999.00,9,  -999.00,9,      -999,9,   2342.2,2,     -999,9,  16.4413
         OMEX2,  1139,  1,      4,19990909, 42.1488, -10.0021, 2947,     39.9,  15.1280,  35.6740,2,-999.0000,9,    248.3,2,    246.2,2,  -999.00,9,  -999.00,9,  -999.00,9,     0.12,2,      -999,9,   2342.0,2,     -999,9,  15.1219
         OMEX2,  1139,  1,      5,19990909, 42.1488, -10.0021, 2947,     49.6,  14.3860,  35.6800,2,-999.0000,9,    240.6,2,    235.0,2,  -999.00,9,  -999.00,9,  -999.00,9,  -999.00,9,      -999,9,   2343.3,2,     -999,9,  14.3787
         OMEX2,  1139,  1,      6,19990909, 42.1488, -10.0021, 2947,     60.1,  13.6800,  35.7120,2,-999.0000,9,    233.0,2,    233.0,2,  -999.00,9,  -999.00,9,  -999.00,9,     0.29,2,      -999,9,   2344.6,2,     -999,9,  13.6714
         OMEX2,  1139,  1,      7,19990909, 42.1488, -10.0021, 2947,     69.3,  13.4080,  35.7200,2,-999.0000,9,    232.6,2,    231.4,2,  -999.00,9,  -999.00,9,  -999.00,9,  -999.00,9,      -999,9,   2342.8,2,     -999,9,  13.3982
         OMEX2,  1139,  1,      8,19990909, 42.1488, -10.0021, 2947,     79.3,  13.2570,  35.7480,2,-999.0000,9,    232.5,2,    230.3,2,  -999.00,9,  -999.00,9,  -999.00,9,     0.36,2,      -999,9,   2346.9,2,     -999,9,  13.2459
         OMEX2,  1139,  1,      9,19990909, 42.1488, -10.0021, 2947,     88.7,  13.0310,  35.7450,2,-999.0000,9,    234.3,2,    233.5,2,  -999.00,9,  -999.00,9,  -999.00,9,  -999.00,9,      -999,9,   2346.0,2,     -999,9,  13.0187
         OMEX2,  1139,  1,     10,19990909, 42.1488, -10.0021, 2947,    102.0,  12.8340,  35.7430,2,  35.7440,2,    236.4,2,    234.8,2,  -999.00,9,  -999.00,9,  -999.00,9,     0.37,2,      -999,9,   2347.0,2,     -999,9,  12.8200