BOTTLE,20090114PRINUNIVRMKPRINUNIVRMK
EXPOCODE,STNNBR,CASTNO,BTLNBR,DATE,LATITUDE,LONGITUDE,DEPTH,CTDPRS,CTDTMP,CTDSAL,CTDSAL_FLAG_W,SALNTY,SALNTY_FLAG_W,CTDOXY,CTDOXY_FLAG_W,OXYGEN,OXYGEN_FLAG_W,SILCAT,SILCAT_FLAG_W,NITRAT,NITRAT_FLAG_W,NITRIT,NITRIT_FLAG_W,PHSPHT,PHSPHT_FLAG_W,AMMONI,AMMONI_FLAG_W,ALKALI,ALKALI_FLAG_W,UREA,UREA_FLAG_W,THETA
,,,,,,,METERS,DBARS,ITS-90,PSS-78,,PSS-78,,UMOL/KG,,UMOL/KG,,UMOL/KG,,UMOL/KG,,UMOL/KG,,UMOL/KG,,UMOL/KG,,UMOL/KG,,UMOL/KG,,DEGC
         OMEX2,  1140,  1,      1,19990909, 42.1558, -10.0117, 2947,    149.1,  12.4070,  35.7030,2,-999.0000,9,    243.1,2,    229.6,2,  -999.00,9,  -999.00,9,  -999.00,9,     0.53,2,      -999,9,   2346.2,2,     -999,9,  12.3870
         OMEX2,  1140,  1,      2,19990909, 42.1558, -10.0117, 2947,    199.7,  12.0830,  35.6650,2,-999.0000,9,    237.4,2,    231.6,2,  -999.00,9,  -999.00,9,  -999.00,9,     0.54,2,      -999,9,   2342.4,2,     -999,9,  12.0566
         OMEX2,  1140,  1,      3,19990909, 42.1558, -10.0117, 2947,    300.3,  11.6360,  35.6170,2,-999.0000,9,    229.9,2,    217.4,2,  -999.00,9,  -999.00,9,  -999.00,9,     0.69,2,      -999,9,   2340.6,2,     -999,9,  11.5972
         OMEX2,  1140,  1,      4,19990909, 42.1558, -10.0117, 2947,    402.3,  11.1880,  35.5820,2,-999.0000,9,    218.3,2,    213.0,2,  -999.00,9,  -999.00,9,  -999.00,9,     0.80,2,      -999,9,   2340.8,2,     -999,9,  11.1371
         OMEX2,  1140,  1,      5,19990909, 42.1558, -10.0117, 2947,    604.9,  11.1800,  35.7800,2,-999.0000,9,    196.2,2,    192.2,2,  -999.00,9,  -999.00,9,  -999.00,9,     0.92,2,      -999,9,   2360.8,2,     -999,9,  11.1026
         OMEX2,  1140,  1,      6,19990909, 42.1558, -10.0117, 2947,    806.8,  11.5180,  36.0900,2,-999.0000,9,    185.1,2,    186.1,2,  -999.00,9,  -999.00,9,  -999.00,9,     0.88,2,      -999,9,   2382.8,2,     -999,9,  11.4116
         OMEX2,  1140,  1,      7,19990909, 42.1558, -10.0117, 2947,    907.9,  11.3330,  36.1300,2,-999.0000,9,    183.2,2,    184.2,2,  -999.00,9,  -999.00,9,  -999.00,9,     0.88,2,      -999,9,   2389.9,2,     -999,9,  11.2139
         OMEX2,  1140,  1,      8,19990909, 42.1558, -10.0117, 2947,   1008.1,  11.1630,  36.1720,2,-999.0000,9,    182.5,2,    184.3,2,  -999.00,9,  -999.00,9,  -999.00,9,     0.87,2,      -999,9,   2399.0,2,     -999,9,  11.0314
         OMEX2,  1140,  1,      9,19990909, 42.1558, -10.0117, 2947,   1111.4,  11.0290,  36.2190,2,-999.0000,9,    183.3,2,    185.2,2,  -999.00,9,  -999.00,9,  -999.00,9,     0.89,2,      -999,9,   2401.1,2,     -999,9,  10.8842
         OMEX2,  1140,  1,     10,19990909, 42.1558, -10.0117, 2947,   1262.8,  10.3960,  36.1500,2,-999.0000,9,    188.0,2,    188.5,2,  -999.00,9,  -999.00,9,  -999.00,9,     0.91,2,      -999,9,   2397.3,2,     -999,9,  10.2361
         OMEX2,  1140,  1,     11,19990909, 42.1558, -10.0117, 2947,   1518.0,   7.2580,  35.5540,2,-999.0000,9,    217.3,2,    220.2,2,  -999.00,9,  -999.00,9,  -999.00,9,     1.04,2,      -999,9,   2351.4,2,     -999,9,   7.0984
         OMEX2,  1140,  1,     12,19990909, 42.1558, -10.0117, 2947,   1749.8,   5.3060,  35.2280,2,  35.2260,2,    243.9,2,    243.0,2,  -999.00,9,  -999.00,9,  -999.00,9,     1.11,2,      -999,9,   2337.9,2,     -999,9,   5.1450
         OMEX2,  1141,  1,      1,19990909, 42.3306,  -9.4594,  656,    646.4,  11.5510,  35.9010,2,  35.9220,2,    192.5,2,   -999.0,9,  -999.00,9,  -999.00,9,  -999.00,9,  -999.00,9,      -999,9,   -999.0,9,     -999,9,  11.4663
         OMEX2,  1142,  1,      1,19990910, 42.6644,  -9.6064, 2059,      3.3,  20.0410,  35.6940,2,-999.0000,9,    230.3,2,    234.4,2,     0.69,2,     0.00,2,     0.03,2,     0.00,2, 0.0487925,2,   2342.2,2, 0.019517,2,  20.0404
         OMEX2,  1142,  1,      2,19990910, 42.6644,  -9.6064, 2059,     17.8,  16.1750,  35.7380,2,-999.0000,9,    230.8,2,    242.5,2,     0.65,2,     0.03,2,     0.02,2,     0.00,2,  0.048791,2,   2345.4,2, 0.048791,2,  16.1722
         OMEX2,  1142,  1,      3,19990910, 42.6644,  -9.6064, 2059,     28.3,  15.1680,  35.7580,2,-999.0000,9,    233.1,2,    251.8,2,  -999.00,9,  -999.00,9,  -999.00,9,     0.03,2,      -999,9,   2346.9,2,     -999,9,  15.1637
         OMEX2,  1142,  1,      4,19990910, 42.6644,  -9.6064, 2059,     38.3,-999.0000,-999.0000,9,-999.0000,9,   -999.0,9,   -999.0,9,  -999.00,9,  -999.00,9,  -999.00,9,  -999.00,2,      -999,9,   -999.0,9,     -999,9,-999.0000
         OMEX2,  1142,  1,      5,19990910, 42.6644,  -9.6064, 2059,     58.8,  13.8540,  35.8070,2,-999.0000,9,    231.8,2,    232.3,2,  -999.00,9,  -999.00,9,  -999.00,9,     0.26,2,      -999,9,   2349.6,2,     -999,9,  13.8455
         OMEX2,  1142,  1,      6,19990910, 42.6644,  -9.6064, 2059,     80.6,  13.6270,  35.8040,2,  35.8030,2,    233.1,2,    231.8,2,  -999.00,9,  -999.00,9,  -999.00,9,     0.30,2,      -999,9,   2355.7,2,     -999,9,  13.6155
         OMEX2,  1143,  1,      1,19990910, 42.6677,  -9.6091, 2059,      3.9,  19.9790,  35.6950,2,-999.0000,9,   -999.0,9,   -999.0,9,     0.58,2,    -0.01,2,     0.03,2,     0.00,2,      -999,9,   -999.0,9,     -999,9,  19.9783
         OMEX2,  1143,  1,      2,19990910, 42.6677,  -9.6091, 2059,     19.6,  16.9010,  35.7120,2,-999.0000,9,   -999.0,9,   -999.0,9,     0.55,2,     0.00,2,     0.13,2,     0.01,2,      -999,9,   -999.0,9,     -999,9,  16.8978
         OMEX2,  1143,  1,      3,19990910, 42.6677,  -9.6091, 2059,     29.6,  15.3730,  35.7630,2,-999.0000,9,   -999.0,9,   -999.0,9,  -999.00,9,  -999.00,9,  -999.00,9,  -999.00,9,      -999,9,   -999.0,9,     -999,9,  15.3684
         OMEX2,  1143,  1,      4,19990910, 42.6677,  -9.6091, 2059,     37.6,  14.6400,  35.7810,2,-999.0000,9,   -999.0,9,   -999.0,9,     1.08,2,     1.78,2,     0.21,2,     0.13,2,      -999,9,   -999.0,9,     -999,9,  14.6344
         OMEX2,  1143,  1,      5,19990910, 42.6677,  -9.6091, 2059,     49.5,  14.1750,  35.7990,2,-999.0000,9,   -999.0,9,    236.4,2,  -999.00,9,  -999.00,9,  -999.00,9,  -999.00,9,      -999,9,   2350.4,2,     -999,9,  14.1678
         OMEX2,  1143,  1,      6,19990910, 42.6677,  -9.6091, 2059,     60.1,  13.8480,  35.8070,2,-999.0000,9,   -999.0,9,   -999.0,9,     1.85,2,     4.43,2,     0.11,2,     0.29,2,      -999,9,   -999.0,9,     -999,9,  13.8394
         OMEX2,  1143,  1,      7,19990910, 42.6677,  -9.6091, 2059,     69.5,  13.6240,  35.8110,2,-999.0000,9,   -999.0,9,    228.9,2,  -999.00,9,  -999.00,9,  -999.00,9,  -999.00,9,      -999,9,   2351.7,2,     -999,9,  13.6141
         OMEX2,  1143,  1,      8,19990910, 42.6677,  -9.6091, 2059,     81.2,  13.5620,  35.8090,2,-999.0000,9,   -999.0,9,   -999.0,9,     1.55,2,     5.40,2,     0.18,2,     0.32,2,      -999,9,   -999.0,9,     -999,9,  13.5505
         OMEX2,  1143,  1,      9,19990910, 42.6677,  -9.6091, 2059,     89.7,  13.3440,  35.8100,2,-999.0000,9,   -999.0,9,    230.0,2,  -999.00,9,  -999.00,9,  -999.00,9,  -999.00,9,      -999,9,   2350.8,2,     -999,9,  13.3314
         OMEX2,  1143,  1,     10,19990910, 42.6677,  -9.6091, 2059,     98.6,  13.2400,  35.8060,2,  35.8040,2,   -999.0,9,    229.7,2,     1.74,2,     6.18,2,     0.06,2,     0.37,2,      -999,9,   2352.9,2,     -999,9,  13.2262
         OMEX2,  1144,  1,      1,19990910, 42.6688,  -9.6154, 2059,     17.6,  19.9450,  35.6950,2,-999.0000,9,    232.3,2,   -999.0,9,  -999.00,9,  -999.00,9,  -999.00,9,  -999.00,9,      -999,9,   -999.0,9,     -999,9,  19.9417
         OMEX2,  1144,  1,      2,19990910, 42.6688,  -9.6154, 2059,     38.6,  15.8160,  35.7510,2,-999.0000,9,    239.0,2,   -999.0,9,  -999.00,9,  -999.00,9,  -999.00,9,  -999.00,9,      -999,9,   -999.0,9,     -999,9,  15.8099
         OMEX2,  1144,  1,      3,19990910, 42.6688,  -9.6154, 2059,    149.5,  12.6120,  35.7380,2,-999.0000,9,    228.2,2,    224.2,2,     2.82,2,     8.74,2,     0.04,2,     0.50,2,      -999,9,   2345.2,2,     -999,9,  12.5917
         OMEX2,  1144,  1,      4,19990910, 42.6688,  -9.6154, 2059,    201.2,  12.1770,  35.6850,2,-999.0000,9,    223.3,2,    219.8,2,     3.58,2,    10.59,2,     0.04,2,     0.62,2,      -999,9,   2342.4,2,     -999,9,  12.1503
         OMEX2,  1144,  1,      5,19990910, 42.6688,  -9.6154, 2059,    301.1,  11.6600,  35.6300,2,-999.0000,9,    218.0,2,    213.2,2,     4.51,2,    12.82,2,     0.04,2,     0.74,2,      -999,9,   2341.6,2,     -999,9,  11.6210
         OMEX2,  1144,  1,      6,19990910, 42.6688,  -9.6154, 2059,    402.4,  11.4170,  35.6260,2,-999.0000,9,    210.9,2,    206.3,2,     5.42,2,  -999.00,9,  -999.00,9,     0.81,2,      -999,9,   2343.7,2,     -999,9,  11.3654
         OMEX2,  1144,  1,      7,19990910, 42.6688,  -9.6154, 2059,    603.9,  11.3880,  35.8370,2,-999.0000,9,    193.5,2,    193.7,2,     6.69,2,  -999.00,9,  -999.00,9,     0.88,2,      -999,9,   2351.8,2,     -999,9,  11.3098
         OMEX2,  1144,  1,      8,19990910, 42.6688,  -9.6154, 2059,    807.4,  11.7320,  36.1370,2,-999.0000,9,    186.4,2,    188.1,2,     7.20,2,  -999.00,9,  -999.00,9,     0.84,2,      -999,9,   2382.7,2,     -999,9,  11.6243
         OMEX2,  1144,  1,      9,19990910, 42.6688,  -9.6154, 2059,    908.3,  11.6010,  36.1970,2,-999.0000,9,    183.7,2,    184.8,2,     7.86,2,  -999.00,9,  -999.00,9,     0.85,2,      -999,9,   2395.8,2,     -999,9,  11.4801
         OMEX2,  1144,  1,     10,19990910, 42.6688,  -9.6154, 2059,   1011.0,  11.4470,  36.2070,2,  36.2080,2,    183.1,2,    184.3,2,     8.15,2,  -999.00,9,  -999.00,9,     0.87,2,      -999,9,   2401.9,2,     -999,9,  11.3129
         OMEX2,  1145,  1,      1,19990910, 42.9974, -10.0201, 3349,      3.4,  18.8380,  35.6630,2,-999.0000,9,    244.9,2,    250.5,2,  -999.00,9,  -999.00,9,  -999.00,9,     0.01,2,      -999,9,   2340.9,2,     -999,9,  18.8374
         OMEX2,  1145,  1,      2,19990910, 42.9974, -10.0201, 3349,     19.4,  17.0780,  35.6800,2,-999.0000,9,    247.8,2,    260.6,2,  -999.00,9,  -999.00,9,  -999.00,9,     0.03,2,      -999,9,   2343.9,2,     -999,9,  17.0748
         OMEX2,  1145,  1,      3,19990910, 42.9974, -10.0201, 3349,     28.9,  15.7820,  35.6980,2,-999.0000,9,    245.8,2,    251.3,2,  -999.00,9,  -999.00,9,  -999.00,9,  -999.00,9,      -999,9,   2343.6,2,     -999,9,  15.7775
         OMEX2,  1145,  1,      4,19990910, 42.9974, -10.0201, 3349,     39.6,  14.6610,  35.7150,2,-999.0000,9,    237.1,2,    236.2,2,  -999.00,9,  -999.00,9,  -999.00,9,     0.22,2,      -999,9,   2344.2,2,     -999,9,  14.6551
         OMEX2,  1145,  1,      5,19990910, 42.9974, -10.0201, 3349,     50.4,  14.1390,  35.7290,2,-999.0000,9,    234.4,2,    233.1,2,  -999.00,9,  -999.00,9,  -999.00,9,  -999.00,9,      -999,9,   2346.5,2,     -999,9,  14.1317
         OMEX2,  1145,  1,      6,19990910, 42.9974, -10.0201, 3349,     60.7,  13.7640,  35.7440,2,-999.0000,9,    231.4,2,    231.4,2,  -999.00,9,  -999.00,9,  -999.00,9,     0.29,2,      -999,9,   2345.7,2,     -999,9,  13.7553
         OMEX2,  1145,  1,      7,19990910, 42.9974, -10.0201, 3349,     69.6,  13.4750,  35.7490,2,-999.0000,9,    230.3,2,    231.5,2,  -999.00,9,  -999.00,9,  -999.00,9,  -999.00,9,      -999,9,   2344.8,2,     -999,9,  13.4652
         OMEX2,  1145,  1,      8,19990910, 42.9974, -10.0201, 3349,     79.4,  13.2700,  35.7790,2,-999.0000,9,    230.7,2,    231.1,2,  -999.00,9,  -999.00,9,  -999.00,9,     0.35,2,      -999,9,   2344.9,2,     -999,9,  13.2589
         OMEX2,  1145,  1,      9,19990910, 42.9974, -10.0201, 3349,     89.3,  13.2630,  35.7880,2,-999.0000,9,    231.5,2,    228.6,2,  -999.00,9,  -999.00,9,  -999.00,9,  -999.00,9,      -999,9,   2344.9,2,     -999,9,  13.2505
         OMEX2,  1145,  1,     10,19990910, 42.9974, -10.0201, 3349,     98.6,  13.1500,  35.7930,2,  35.7870,2,    231.6,2,    228.9,2,  -999.00,9,  -999.00,9,  -999.00,9,     0.39,2,      -999,9,   2350.0,2,     -999,9,  13.1363
         OMEX2,  1146,  1,      1,19990910, 42.9974, -10.0328, 3349,    149.9,  12.5850,  35.7240,2,-999.0000,9,    235.2,2,    231.0,2,  -999.00,9,  -999.00,9,  -999.00,9,     0.46,2,      -999,9,   2343.2,2,     -999,9,  12.5647
         OMEX2,  1146,  1,      2,19990910, 42.9974, -10.0328, 3349,    199.9,  12.2610,  35.6880,2,-999.0000,9,    233.6,2,    231.5,2,  -999.00,9,  -999.00,9,  -999.00,9,     0.50,2,      -999,9,   2344.3,2,     -999,9,  12.2344
         OMEX2,  1146,  1,      3,19990910, 42.9974, -10.0328, 3349,    301.1,  11.7210,  35.6260,2,-999.0000,9,    226.9,2,    222.4,2,  -999.00,9,  -999.00,9,  -999.00,9,     0.62,2,      -999,9,   2340.6,2,     -999,9,  11.6819
         OMEX2,  1146,  1,      4,19990910, 42.9974, -10.0328, 3349,    401.5,  11.3070,  35.5940,2,-999.0000,9,    218.8,2,    214.7,2,  -999.00,9,  -999.00,9,  -999.00,9,     0.76,2,      -999,9,   2340.8,2,     -999,9,  11.2558
         OMEX2,  1146,  1,      5,19990910, 42.9974, -10.0328, 3349,    604.4,  11.2300,  35.7930,2,-999.0000,9,    195.3,2,    193.3,2,  -999.00,9,  -999.00,9,  -999.00,9,     0.88,2,      -999,9,   2356.8,2,     -999,9,  11.1524
         OMEX2,  1146,  1,      6,19990910, 42.9974, -10.0328, 3349,    807.2,  11.1660,  36.0000,2,-999.0000,9,    184.7,2,    182.5,3,  -999.00,9,  -999.00,9,  -999.00,9,     0.90,2,      -999,9,   2372.0,2,     -999,9,  11.0617
         OMEX2,  1146,  1,      7,19990910, 42.9974, -10.0328, 3349,    906.8,  11.1690,  36.0800,2,-999.0000,9,    183.2,2,    187.1,2,  -999.00,9,  -999.00,9,  -999.00,9,     0.90,2,      -999,9,   2386.0,2,     -999,9,  11.0512
         OMEX2,  1146,  1,      8,19990910, 42.9974, -10.0328, 3349,   1011.0,  10.8190,  36.0740,2,  36.0680,2,    183.3,2,    187.3,2,  -999.00,9,  -999.00,9,  -999.00,9,  -999.00,9,      -999,9,   2385.1,2,     -999,9,  10.6895
         OMEX2,  1147,  1,      1,19990911, 43.0001,  -9.3194, 1801,      4.1,  15.7570,  35.6480,2,-999.0000,9,    256.7,2,    240.6,2,     4.86,2,     6.59,2,     0.38,2,     0.45,2,  0.936849,2,   2339.6,2, 0.146383,2,  15.7564
         OMEX2,  1147,  1,      2,19990911, 43.0001,  -9.3194, 1801,     18.8,  14.2040,  35.6750,2,-999.0000,9,    222.7,2,    208.3,2,     5.50,2,     7.54,2,     0.55,2,     0.52,2,  0.566001,2,   2338.4,2, 0.136621,2,  14.2012
         OMEX2,  1147,  1,      3,19990911, 43.0001,  -9.3194, 1801,     29.0,  13.5440,  35.6960,2,-999.0000,9,    201.4,2,    193.3,2,     6.96,2,    10.71,2,     0.43,2,     0.69,2,      -999,9,   2345.8,2,     -999,9,  13.5399
         OMEX2,  1147,  1,      4,19990911, 43.0001,  -9.3194, 1801,     39.7,  13.3840,  35.6990,2,  35.6920,2,    196.8,2,    190.1,2,     6.20,2,    11.10,2,     0.34,2,     0.72,2,      -999,9,   2344.8,2,     -999,9,  13.3784
         OMEX2,  1201,  1,      1,19990914, 43.2023,  -9.2566, 1801,      4.0,  15.8250,  35.6380,2,-999.0000,9,    256.8,2,    253.9,2,     1.55,2,  -999.00,9,  -999.00,9,     0.12,2,      -999,9,   2342.6,2,     -999,9,  15.8244
         OMEX2,  1201,  1,      2,19990914, 43.2023,  -9.2566, 1801,     18.6,  15.7370,  35.6400,2,-999.0000,9,    255.6,2,    255.3,2,     1.47,2,  -999.00,9,  -999.00,9,     0.12,2,      -999,9,   2343.6,2,     -999,9,  15.7341
         OMEX2,  1201,  1,      3,19990914, 43.2023,  -9.2566, 1801,     29.5,  15.2310,  35.6550,2,-999.0000,9,    248.6,2,    250.1,2,  -999.00,9,  -999.00,9,  -999.00,9,  -999.00,9,      -999,9,   2342.9,2,     -999,9,  15.2265
         OMEX2,  1201,  1,      4,19990914, 43.2023,  -9.2566, 1801,     38.8,  14.9700,  35.6560,2,-999.0000,9,    246.8,2,    243.5,2,     2.74,2,  -999.00,9,  -999.00,9,     0.26,2,      -999,9,   2344.1,2,     -999,9,  14.9641
         OMEX2,  1201,  1,      5,19990914, 43.2023,  -9.2566, 1801,     48.6,  14.1050,  35.6810,2,-999.0000,9,    227.4,2,    216.6,2,  -999.00,9,  -999.00,9,  -999.00,9,  -999.00,9,      -999,9,   2343.4,2,     -999,9,  14.0979
         OMEX2,  1201,  1,      6,19990914, 43.2023,  -9.2566, 1801,     59.2,  13.7620,  35.6860,2,-999.0000,9,    220.5,2,    209.6,2,     4.41,2,  -999.00,9,  -999.00,9,     0.55,2,      -999,9,   2341.7,2,     -999,9,  13.7535
         OMEX2,  1201,  1,      7,19990914, 43.2023,  -9.2566, 1801,     69.2,  13.5180,  35.6900,2,-999.0000,9,    216.6,2,    205.6,2,  -999.00,9,  -999.00,9,  -999.00,9,  -999.00,9,      -999,9,   2341.8,2,     -999,9,  13.5082
         OMEX2,  1201,  1,      8,19990914, 43.2023,  -9.2566, 1801,     78.7,  13.2030,  35.6960,2,  35.6920,2,    209.3,2,    205.3,2,     5.05,2,  -999.00,9,  -999.00,9,     0.61,2,      -999,9,   2342.9,2,     -999,9,  13.1920
         OMEX2,  1202,  1,      1,19990914, 43.0005,  -9.3234, 1801,      4.7,-999.0000,-999.0000,9,-999.0000,9,   -999.0,9,   -999.0,2,  -999.00,9,  -999.00,9,  -999.00,9,  -999.00,9,      -999,9,   -999.0,2,     -999,9,-999.0000
         OMEX2,  1202,  1,      2,19990914, 43.0005,  -9.3234, 1801,     18.8,  14.1710,  35.6860,2,-999.0000,9,    223.3,2,    213.9,2,  -999.00,9,  -999.00,9,  -999.00,9,  -999.00,9,      -999,9,   2343.4,2,     -999,9,  14.1683
         OMEX2,  1202,  1,      3,19990914, 43.0005,  -9.3234, 1801,     28.9,  13.1150,  35.7110,2,-999.0000,9,    208.6,2,    190.2,2,  -999.00,9,  -999.00,9,  -999.00,9,  -999.00,9,      -999,9,   2340.9,2,     -999,9,  13.1110
         OMEX2,  1202,  1,      4,19990914, 43.0005,  -9.3234, 1801,     39.3,  12.8600,  35.7080,2,  35.7030,2,    192.7,2,    188.6,2,  -999.00,9,  -999.00,9,  -999.00,9,  -999.00,9,      -999,9,   2343.1,2,     -999,9,  12.8546
         OMEX2,  1203,  1,      1,19990914, 42.8384, -10.0120, 3349,   1685.5,   5.8020,  35.3220,2,  35.3180,2,    233.8,2,   -999.0,9,  -999.00,9,  -999.00,9,  -999.00,9,  -999.00,9,      -999,9,   -999.0,9,     -999,9,   5.6413
         OMEX2,  1204,  1,      1,19990914, 42.8346, -10.2879, 3349,   1760.8,   4.2850,  35.0580,2,  35.0560,2,    253.6,2,   -999.0,9,  -999.00,9,  -999.00,9,  -999.00,9,  -999.00,9,      -999,9,   -999.0,9,     -999,9,   4.1366
         OMEX2,  1205,  1,      1,19990915, 42.6669, -10.3012, 3349,      3.4,  18.4000,  35.7030,2,-999.0000,9,    238.4,2,    239.7,2,     1.37,2,     0.00,2,     0.02,2,     0.03,2,  0.243961,2,   2344.2,2,     -999,9,  18.3994
         OMEX2,  1205,  1,      2,19990915, 42.6669, -10.3012, 3349,     19.2,  17.9040,  35.6910,2,-999.0000,9,    240.6,2,    244.3,2,  -999.00,9,  -999.00,9,  -999.00,9,  -999.00,9,      -999,9,   2344.5,2,     -999,9,  17.9007
         OMEX2,  1205,  1,      3,19990915, 42.6669, -10.3012, 3349,     29.2,  17.6050,  35.6870,2,-999.0000,9,    243.1,2,    245.9,2,  -999.00,9,  -999.00,9,  -999.00,9,  -999.00,9,      -999,9,   2342.6,2,     -999,9,  17.6001
         OMEX2,  1205,  1,      4,19990915, 42.6669, -10.3012, 3349,     39.6,  17.1490,  35.6840,2,-999.0000,9,    244.5,2,    245.5,2,     1.51,2,     0.00,2,     0.04,2,     0.06,2,  0.156137,2,   2342.8,2,     -999,9,  17.1424
         OMEX2,  1205,  1,      5,19990915, 42.6669, -10.3012, 3349,     59.1,  16.6310,  35.6800,2,-999.0000,9,    246.8,2,    248.4,2,  -999.00,9,  -999.00,9,  -999.00,9,  -999.00,9,      -999,9,   2344.2,2,     -999,9,  16.6214
         OMEX2,  1205,  1,      6,19990915, 42.6669, -10.3012, 3349,     79.2,  15.2110,  35.6940,2,  35.6700,2,    242.1,2,    249.8,2,  -999.00,9,  -999.00,9,  -999.00,9,  -999.00,9,      -999,9,   2341.9,2,     -999,9,  15.1989