BOTTLE,20090114PRINUNIVRMKPRINUNIVRMK
EXPOCODE,STNNBR,CASTNO,BTLNBR,DATE,LATITUDE,LONGITUDE,DEPTH,CTDPRS,CTDTMP,CTDSAL,CTDSAL_FLAG_W,SALNTY,SALNTY_FLAG_W,CTDOXY,CTDOXY_FLAG_W,OXYGEN,OXYGEN_FLAG_W,SILCAT,SILCAT_FLAG_W,NITRAT,NITRAT_FLAG_W,NITRIT,NITRIT_FLAG_W,PHSPHT,PHSPHT_FLAG_W,AMMONI,AMMONI_FLAG_W,ALKALI,ALKALI_FLAG_W,UREA,UREA_FLAG_W,THETA
,,,,,,,METERS,DBARS,ITS-90,PSS-78,,PSS-78,,UMOL/KG,,UMOL/KG,,UMOL/KG,,UMOL/KG,,UMOL/KG,,UMOL/KG,,UMOL/KG,,UMOL/KG,,UMOL/KG,,DEGC
         OMEX2,  1206,  1,      1,19990915, 42.6706, -10.3034, 3349,      3.7,  18.0130,  35.6940,2,-999.0000,9,    242.1,2,   -999.0,9,     1.23,2,     0.00,2,     0.07,2,     0.04,2,      -999,9,   -999.0,9,     -999,9,  18.0124
         OMEX2,  1206,  1,      2,19990915, 42.6706, -10.3034, 3349,     18.9,  17.8370,  35.6910,2,-999.0000,9,    244.0,2,   -999.0,9,     1.07,2,     0.00,2,     0.05,2,     0.04,2,      -999,9,   -999.0,9,     -999,9,  17.8338
         OMEX2,  1206,  1,      3,19990915, 42.6706, -10.3034, 3349,     28.5,  17.7180,  35.6900,2,-999.0000,9,    245.5,2,   -999.0,9,  -999.00,9,  -999.00,9,  -999.00,9,  -999.00,9,      -999,9,   -999.0,9,     -999,9,  17.7132
         OMEX2,  1206,  1,      4,19990915, 42.6706, -10.3034, 3349,     37.6,  17.3970,  35.6870,2,-999.0000,9,    244.7,2,   -999.0,9,     2.12,2,     0.02,2,     0.06,2,     0.05,2,      -999,9,   -999.0,9,     -999,9,  17.3907
         OMEX2,  1206,  1,      5,19990915, 42.6706, -10.3034, 3349,     48.8,  16.9560,  35.6800,2,-999.0000,9,    246.6,2,    249.3,2,  -999.00,9,  -999.00,9,  -999.00,9,  -999.00,9,      -999,9,   2344.0,2,     -999,9,  16.9480
         OMEX2,  1206,  1,      6,19990915, 42.6706, -10.3034, 3349,     60.1,  16.6300,  35.6760,2,-999.0000,9,    248.1,2,   -999.0,9,     1.69,2,     0.13,2,     0.06,2,     0.07,2,      -999,9,   -999.0,9,     -999,9,  16.6202
         OMEX2,  1206,  1,      7,19990915, 42.6706, -10.3034, 3349,     68.8,  16.2230,  35.6750,2,-999.0000,9,    249.4,2,    251.9,2,  -999.00,9,  -999.00,9,  -999.00,9,  -999.00,9,      -999,9,   2343.3,2,     -999,9,  16.2120
         OMEX2,  1206,  1,      8,19990915, 42.6706, -10.3034, 3349,     78.7,  15.6330,  35.6760,2,-999.0000,9,    251.4,2,   -999.0,9,     1.82,2,     0.21,2,     0.11,2,     0.07,2,      -999,9,   -999.0,9,     -999,9,  15.6207
         OMEX2,  1206,  1,      9,19990915, 42.6706, -10.3034, 3349,     89.0,  14.9300,  35.7370,2,-999.0000,9,    241.2,2,    246.2,2,  -999.00,9,  -999.00,9,  -999.00,9,  -999.00,9,      -999,9,   2344.0,2,     -999,9,  14.9165
         OMEX2,  1206,  1,     10,19990915, 42.6706, -10.3034, 3349,     99.3,  14.4410,  35.7530,2,-999.0000,9,    239.2,2,    237.9,2,     2.76,2,     2.35,2,     0.20,2,     0.17,2,      -999,9,   2347.3,2,     -999,9,  14.4263
         OMEX2,  1206,  1,     11,19990915, 42.6706, -10.3034, 3349,    150.8,  12.8950,  35.7470,2,  35.7410,2,    231.2,2,    227.3,2,     4.38,2,     6.94,2,     0.03,2,     0.36,2,      -999,9,   2349.1,2,     -999,9,  12.8743
         OMEX2,  1207,  1,      1,19990915, 42.6716, -10.3171, 3349,    199.3,  12.1030,  35.6720,2,-999.0000,9,    226.7,2,    220.6,2,     4.59,2,    10.21,2,     0.02,2,     0.55,2,      -999,9,   2348.4,2,     -999,9,  12.0767
         OMEX2,  1207,  1,      2,19990915, 42.6716, -10.3171, 3349,    301.9,  11.6540,  35.6250,2,-999.0000,9,    221.8,2,    217.5,2,     7.09,2,    10.96,2,     0.05,2,     0.65,2,      -999,9,   2340.6,2,     -999,9,  11.6149
         OMEX2,  1207,  1,      3,19990915, 42.6716, -10.3171, 3349,    402.1,  11.0590,  35.5620,2,-999.0000,9,    216.8,2,    210.4,2,     8.28,2,  -999.00,9,  -999.00,9,     0.76,2,      -999,9,   2342.9,2,     -999,9,  11.0085
         OMEX2,  1207,  1,      4,19990915, 42.6716, -10.3171, 3349,    603.7,  10.7780,  35.6670,2,-999.0000,9,    198.4,2,    196.3,2,     8.28,2,  -999.00,9,  -999.00,9,     0.89,2,      -999,9,   2355.0,2,     -999,9,  10.7026
         OMEX2,  1207,  1,      5,19990915, 42.6716, -10.3171, 3349,    808.4,  11.6580,  36.1340,2,-999.0000,9,    183.3,2,    184.1,2,     9.80,3,  -999.00,9,  -999.00,9,     0.81,2,      -999,9,   2387.7,2,     -999,9,  11.5506
         OMEX2,  1207,  1,      6,19990915, 42.6716, -10.3171, 3349,    907.4,  11.1960,  36.1140,2,-999.0000,9,    181.3,2,    184.4,2,     8.49,2,  -999.00,9,  -999.00,9,     0.84,2,      -999,9,   2398.0,2,     -999,9,  11.0779
         OMEX2,  1207,  1,      7,19990915, 42.6716, -10.3171, 3349,   1008.8,  11.2960,  36.2370,2,-999.0000,9,    180.9,2,    183.5,2,     9.03,2,  -999.00,9,  -999.00,9,     0.84,2,      -999,9,   2401.0,2,     -999,9,  11.1633
         OMEX2,  1207,  1,      8,19990915, 42.6716, -10.3171, 3349,   1111.6,  11.0550,  36.2330,2,-999.0000,9,    181.6,2,    186.7,2,     9.77,2,  -999.00,9,  -999.00,9,     0.85,2,      -999,9,   2399.0,2,     -999,9,  10.9100
         OMEX2,  1207,  1,      9,19990915, 42.6716, -10.3171, 3349,   1262.6,   9.7120,  35.9940,2,-999.0000,9,    190.6,2,    195.2,2,    10.88,2,  -999.00,9,  -999.00,9,     0.93,2,      -999,9,   2386.6,2,     -999,9,   9.5584
         OMEX2,  1207,  1,     10,19990915, 42.6716, -10.3171, 3349,   1517.6,   5.6940,  35.2730,2,-999.0000,9,    232.2,2,    237.0,2,    13.52,2,  -999.00,9,  -999.00,9,     1.10,2,      -999,9,   2338.8,2,     -999,9,   5.5523
         OMEX2,  1207,  1,     11,19990915, 42.6716, -10.3171, 3349,   1737.0,   4.4620,  35.0850,2,  35.0820,2,    252.0,2,    253.5,2,    14.87,2,  -999.00,9,  -999.00,9,     1.10,2,      -999,9,   2335.0,2,     -999,9,   4.3135
         OMEX2,  1208,  1,      1,19990916, 42.1553,  -9.1421,  184,      3.9,  16.8520,  35.6960,2,-999.0000,9,    246.5,2,    245.6,2,  -999.00,9,  -999.00,9,  -999.00,9,     0.10,2,  0.117102,2,   2337.1,2,     -999,9,  16.8514
         OMEX2,  1208,  1,      2,19990916, 42.1553,  -9.1421,  184,     18.2,  15.0650,  35.7360,2,-999.0000,9,    228.7,2,    223.4,2,  -999.00,9,  -999.00,9,  -999.00,9,  -999.00,9,      -999,9,   2338.0,2,     -999,9,  15.0622
         OMEX2,  1208,  1,      3,19990916, 42.1553,  -9.1421,  184,     29.5,  14.4760,  35.7540,2,-999.0000,9,    224.2,2,    208.6,2,  -999.00,9,  -999.00,9,  -999.00,9,     0.41,2, 0.0585484,2,   2341.2,2,     -999,9,  14.4716
         OMEX2,  1208,  1,      4,19990916, 42.1553,  -9.1421,  184,     39.2,  13.4140,  35.7720,2,-999.0000,9,    209.8,2,    200.7,2,  -999.00,9,  -999.00,9,  -999.00,9,  -999.00,9,      -999,9,   2339.8,2,     -999,9,  13.4085
         OMEX2,  1208,  1,      5,19990916, 42.1553,  -9.1421,  184,     59.6,  12.7440,  35.7430,2,-999.0000,9,    194.0,2,    203.9,2,  -999.00,9,  -999.00,9,  -999.00,9,  -999.00,9,      -999,9,   2345.1,2,     -999,9,  12.7359
         OMEX2,  1208,  1,      6,19990916, 42.1553,  -9.1421,  184,     79.7,  12.7470,  35.7570,2,  35.7500,2,    214.4,2,    215.3,2,  -999.00,9,  -999.00,9,  -999.00,9,  -999.00,9,      -999,9,   2346.1,2,     -999,9,  12.7361
         OMEX2,  1208,  1,      7,19990916, 42.1553,  -9.1421,  184,    101.4,  12.5650,  35.7340,2,-999.0000,9,    210.8,2,   -999.0,9,  -999.00,9,  -999.00,9,  -999.00,9,  -999.00,9,      -999,9,   -999.0,9,     -999,9,  12.5513
         OMEX2,  1209,  1,      1,19990916, 42.1534,  -9.1383,  184,      4.5,  16.8730,  35.7000,2,-999.0000,9,    247.3,2,   -999.0,9,  -999.00,9,  -999.00,9,  -999.00,9,     0.08,2,      -999,9,   -999.0,9,     -999,9,  16.8723
         OMEX2,  1209,  1,      2,19990916, 42.1534,  -9.1383,  184,     19.2,  15.5560,  35.7230,2,-999.0000,9,    237.9,2,   -999.0,9,  -999.00,9,  -999.00,9,  -999.00,9,     0.17,2,      -999,9,   -999.0,9,     -999,9,  15.5530
         OMEX2,  1209,  1,      3,19990916, 42.1534,  -9.1383,  184,     28.6,  14.9480,  35.7410,2,-999.0000,9,    229.6,2,   -999.0,9,  -999.00,9,  -999.00,9,  -999.00,9,  -999.00,9,      -999,9,   -999.0,9,     -999,9,  14.9437
         OMEX2,  1209,  1,      4,19990916, 42.1534,  -9.1383,  184,     38.9,  14.5110,  35.7450,2,-999.0000,9,    226.7,2,   -999.0,9,  -999.00,9,  -999.00,9,  -999.00,9,     0.29,2,      -999,9,   -999.0,9,     -999,9,  14.5052
         OMEX2,  1209,  1,      5,19990916, 42.1534,  -9.1383,  184,     49.8,  13.3440,  35.7730,2,-999.0000,9,    209.3,2,    206.5,2,  -999.00,9,  -999.00,9,  -999.00,9,  -999.00,9,      -999,9,   2342.8,2,     -999,9,  13.3370
         OMEX2,  1209,  1,      6,19990916, 42.1534,  -9.1383,  184,     60.2,  12.9560,  35.7530,2,-999.0000,9,    204.4,2,   -999.0,9,  -999.00,9,  -999.00,9,  -999.00,9,     0.59,2,      -999,9,   -999.0,9,     -999,9,  12.9477
         OMEX2,  1209,  1,      7,19990916, 42.1534,  -9.1383,  184,     69.8,  12.7420,  35.7440,2,-999.0000,9,    199.6,2,    201.1,2,  -999.00,9,  -999.00,9,  -999.00,9,  -999.00,9,      -999,9,   2340.1,2,     -999,9,  12.7325
         OMEX2,  1209,  1,      8,19990916, 42.1534,  -9.1383,  184,     80.2,  12.7440,  35.7570,2,-999.0000,9,    211.1,2,   -999.0,9,  -999.00,9,  -999.00,9,  -999.00,9,     0.50,2,      -999,9,   -999.0,9,     -999,9,  12.7331
         OMEX2,  1209,  1,      9,19990916, 42.1534,  -9.1383,  184,     89.9,  12.7090,  35.7540,2,-999.0000,9,    215.9,2,    214.8,2,  -999.00,9,  -999.00,9,  -999.00,9,  -999.00,9,      -999,9,   2342.1,2,     -999,9,  12.6968
         OMEX2,  1209,  1,     10,19990916, 42.1534,  -9.1383,  184,     99.8,  12.5710,  35.7330,2,-999.0000,9,    214.0,2,    203.2,2,  -999.00,9,  -999.00,9,  -999.00,9,     0.61,2,      -999,9,   2343.2,2,     -999,9,  12.5575
         OMEX2,  1209,  1,     11,19990916, 42.1534,  -9.1383,  184,    124.8,  12.3670,  35.7140,2,  35.7130,2,    202.5,2,    200.2,2,  -999.00,9,  -999.00,9,  -999.00,9,     0.68,2,      -999,9,   2340.2,2,     -999,9,  12.3503
         OMEX2,  1210,  1,      1,19990916, 42.3298,  -9.0050,  184,     67.3,  12.7690,  35.7500,2,-999.0000,9,    178.4,2,   -999.0,9,  -999.00,9,  -999.00,9,  -999.00,9,  -999.00,9,      -999,9,   -999.0,9,     -999,9,  12.7598
         OMEX2,  1210,  1,      2,19990916, 42.3298,  -9.0050,  184,     81.5,  12.6060,  35.7350,2,  35.7320,2,    177.4,2,   -999.0,9,  -999.00,9,  -999.00,9,  -999.00,9,  -999.00,9,      -999,9,   -999.0,9,     -999,9,  12.5950
         OMEX2,  1211,  1,      1,19990917, 42.1500,  -9.5353, 1954,      3.5,  18.4680,  35.6740,2,-999.0000,9,    229.5,2,    237.3,2,     2.58,2,     0.01,2,     0.05,2,     0.02,2,  0.263484,2,   2343.2,2,     -999,9,  18.4674
         OMEX2,  1211,  1,      2,19990917, 42.1500,  -9.5353, 1954,     18.1,  18.3160,  35.6750,2,-999.0000,9,    234.0,2,    238.4,2,  -999.00,9,  -999.00,9,  -999.00,9,  -999.00,9,      -999,9,   2338.3,2,     -999,9,  18.3128
         OMEX2,  1211,  1,      3,19990917, 42.1500,  -9.5353, 1954,     28.9,  18.1430,  35.6870,2,-999.0000,9,    236.7,2,    241.0,2,  -999.00,9,  -999.00,9,  -999.00,9,  -999.00,9,      -999,9,   2340.3,2,     -999,9,  18.1380
         OMEX2,  1211,  1,      4,19990917, 42.1500,  -9.5353, 1954,     39.1,  16.9650,  35.7130,2,-999.0000,9,    237.2,2,    244.4,2,  -999.00,9,  -999.00,9,  -999.00,9,  -999.00,9,      -999,9,   2340.0,2,     -999,9,  16.9585
         OMEX2,  1211,  1,      5,19990917, 42.1500,  -9.5353, 1954,     46.8,  15.7530,  35.7240,2,-999.0000,9,    239.0,2,    248.8,2,     5.25,2,     0.14,2,     0.09,2,     0.08,2,  0.312265,2,   2342.7,2,     -999,9,  15.7457
         OMEX2,  1211,  1,      6,19990917, 42.1500,  -9.5353, 1954,     77.5,  13.3540,  35.7780,2,  35.7720,2,    227.4,2,    227.4,2,  -999.00,9,  -999.00,9,  -999.00,9,  -999.00,9,      -999,9,   2345.8,2,     -999,9,  13.3431
         OMEX2,  1212,  1,      1,19990917, 42.1513,  -9.5447, 1954,      4.2,  18.6270,  35.6800,2,-999.0000,9,    233.1,2,   -999.0,9,     2.42,2,     0.02,2,     0.04,2,     0.02,2,      -999,9,   -999.0,9,     -999,9,  18.6263
         OMEX2,  1212,  1,      2,19990917, 42.1513,  -9.5447, 1954,     20.6,  18.3350,  35.6840,2,-999.0000,9,    235.8,2,   -999.0,9,     3.71,2,     0.03,2,     0.05,2,     0.06,2,      -999,9,   -999.0,9,     -999,9,  18.3314
         OMEX2,  1212,  1,      3,19990917, 42.1513,  -9.5447, 1954,     29.0,  17.9380,  35.7080,2,-999.0000,9,    238.1,2,   -999.0,9,  -999.00,9,  -999.00,9,  -999.00,9,  -999.00,9,      -999,9,   -999.0,9,     -999,9,  17.9330
         OMEX2,  1212,  1,      4,19990917, 42.1513,  -9.5447, 1954,     37.8,  17.3210,  35.7090,2,-999.0000,9,    241.9,2,   -999.0,9,     2.31,2,     0.09,2,     0.05,2,     0.08,2,      -999,9,   -999.0,9,     -999,9,  17.3147
         OMEX2,  1212,  1,      5,19990917, 42.1513,  -9.5447, 1954,     50.2,  15.5070,  35.7290,2,-999.0000,9,    242.3,2,   -999.0,9,  -999.00,9,  -999.00,9,  -999.00,9,  -999.00,9,      -999,9,   -999.0,9,     -999,9,  15.4992
         OMEX2,  1212,  1,      6,19990917, 42.1513,  -9.5447, 1954,     61.3,  14.1640,  35.7510,2,-999.0000,9,    234.2,2,    239.6,2,     5.11,2,     1.55,2,     0.19,2,     0.21,2,      -999,9,   2347.4,2,     -999,9,  14.1551
         OMEX2,  1212,  1,      7,19990917, 42.1513,  -9.5447, 1954,     68.0,  13.6410,  35.7580,2,-999.0000,9,    229.7,2,    228.2,2,  -999.00,9,  -999.00,9,  -999.00,9,  -999.00,9,      -999,9,   2346.7,2,     -999,9,  13.6313
         OMEX2,  1212,  1,      8,19990917, 42.1513,  -9.5447, 1954,     79.7,  13.4300,  35.7700,2,-999.0000,9,    228.9,2,   -999.0,9,     3.09,2,     5.80,2,     0.06,2,     0.35,2,      -999,9,   -999.0,9,     -999,9,  13.4188
         OMEX2,  1212,  1,      9,19990917, 42.1513,  -9.5447, 1954,     87.4,  13.3580,  35.7780,2,-999.0000,9,    228.9,2,    228.0,2,  -999.00,9,  -999.00,9,  -999.00,9,  -999.00,9,      -999,9,   2348.8,2,     -999,9,  13.3457
         OMEX2,  1212,  1,     10,19990917, 42.1513,  -9.5447, 1954,    101.0,  13.1840,  35.7910,2,-999.0000,9,    229.6,2,    228.7,2,     3.24,2,     6.35,2,     0.04,2,     0.37,2,      -999,9,   2347.0,2,     -999,9,  13.1699
         OMEX2,  1212,  1,     11,19990917, 42.1513,  -9.5447, 1954,    151.5,  12.6160,  35.7320,2,  35.7290,2,    232.4,2,    232.2,2,     5.41,2,     7.69,2,     0.03,2,     0.44,2,      -999,9,   2347.2,2,     -999,9,  12.5955
         OMEX2,  1213,  1,      1,19990917, 42.1443,  -9.5342, 1954,    199.9,  12.1900,  35.6800,2,-999.0000,9,    232.7,2,    228.6,2,     3.63,2,     9.25,2,     0.03,2,     0.50,2,      -999,9,   2345.4,2,     -999,9,  12.1635
         OMEX2,  1213,  1,      2,19990917, 42.1443,  -9.5342, 1954,    301.4,  11.6250,  35.6210,2,-999.0000,9,    221.5,2,    217.4,2,     4.87,2,    12.22,2,     0.04,2,     0.71,2,      -999,9,   2342.6,2,     -999,9,  11.5861
         OMEX2,  1213,  1,      3,19990917, 42.1443,  -9.5342, 1954,    400.6,  11.3630,  35.6080,2,-999.0000,9,    212.3,2,    209.4,2,     5.70,2,  -999.00,9,  -999.00,9,     0.75,2,      -999,9,   2340.7,2,     -999,9,  11.3118
         OMEX2,  1213,  1,      4,19990917, 42.1443,  -9.5342, 1954,    603.8,  11.2400,  35.8050,2,-999.0000,9,    190.5,2,    189.3,2,     7.66,2,  -999.00,9,  -999.00,9,     0.88,2,      -999,9,   2363.8,2,     -999,9,  11.1625
         OMEX2,  1213,  1,      5,19990917, 42.1443,  -9.5342, 1954,    807.6,  11.7720,  36.1420,2,-999.0000,9,    183.5,2,   -999.0,9,  -999.00,9,  -999.00,9,  -999.00,9,  -999.00,9,      -999,9,   -999.0,9,     -999,9,  11.6640
         OMEX2,  1213,  1,      6,19990917, 42.1443,  -9.5342, 1954,    909.5,  11.5960,  36.1940,2,-999.0000,9,    181.9,2,    184.2,2,     9.30,2,  -999.00,9,  -999.00,9,     0.79,2,      -999,9,   2388.8,2,     -999,9,  11.4750
         OMEX2,  1213,  1,      7,19990917, 42.1443,  -9.5342, 1954,   1008.5,  11.3440,  36.2010,2,-999.0000,9,    181.4,2,    183.4,2,     8.91,2,  -999.00,9,  -999.00,9,     0.87,2,      -999,9,   2394.9,2,     -999,9,  11.2110
         OMEX2,  1213,  1,      8,19990917, 42.1443,  -9.5342, 1954,   1113.1,  11.1210,  36.2230,2,-999.0000,9,    181.7,2,    184.0,2,     9.27,2,  -999.00,9,  -999.00,9,     0.90,2,      -999,9,   2395.0,2,     -999,9,  10.9753
         OMEX2,  1213,  1,      9,19990917, 42.1443,  -9.5342, 1954,   1262.2,  10.7570,  36.2070,2,-999.0000,9,    184.1,2,    189.1,2,     9.83,2,  -999.00,9,  -999.00,9,     0.92,2,      -999,9,   2396.2,2,     -999,9,  10.5939
         OMEX2,  1213,  1,     10,19990917, 42.1443,  -9.5342, 1954,   1519.0,   8.3370,  35.7630,2,  35.7640,2,    205.6,2,    208.9,2,    12.51,2,  -999.00,9,  -999.00,9,     1.00,2,      -999,9,   2370.0,2,     -999,9,   8.1652
         OMEX2,  1214,  1,      1,19990917, 42.3336,  -9.7747, 1954,   1312.5,  10.2380,  36.1330,2,  36.1290,2,    188.7,2,   -999.0,9,  -999.00,9,  -999.00,9,  -999.00,9,  -999.00,9,      -999,9,   -999.0,9,     -999,9,  10.0729