BOTTLE,20090114PRINUNIVRMKPRINUNIVRMK
EXPOCODE,STNNBR,CASTNO,BTLNBR,DATE,LATITUDE,LONGITUDE,DEPTH,CTDPRS,CTDTMP,CTDSAL,CTDSAL_FLAG_W,SALNTY,SALNTY_FLAG_W,CTDOXY,CTDOXY_FLAG_W,OXYGEN,OXYGEN_FLAG_W,SILCAT,SILCAT_FLAG_W,NITRAT,NITRAT_FLAG_W,NITRIT,NITRIT_FLAG_W,PHSPHT,PHSPHT_FLAG_W,AMMONI,AMMONI_FLAG_W,ALKALI,ALKALI_FLAG_W,UREA,UREA_FLAG_W,THETA
,,,,,,,METERS,DBARS,ITS-90,PSS-78,,PSS-78,,UMOL/KG,,UMOL/KG,,UMOL/KG,,UMOL/KG,,UMOL/KG,,UMOL/KG,,UMOL/KG,,UMOL/KG,,UMOL/KG,,DEGC
         OMEX2,   410,  1,      1,19980115, 42.6690,  -9.6104, 2059,      2.9,  15.0630,  35.9480,2,-999.0000,9,   -999.0,9,    245.3,2,     0.84,2,     0.93,2,     0.20,2,     0.11,2, 0.0195133,2,   2353.0,2,     -999,9,  15.0626
         OMEX2,   410,  1,      2,19980115, 42.6690,  -9.6104, 2059,     48.0,  15.0670,  35.9470,2,-999.0000,9,   -999.0,9,    244.2,2,     0.84,2,     0.92,2,     0.20,2,     0.10,2, 0.0195134,2,   2355.0,2,     -999,9,  15.0597
         OMEX2,   410,  1,      3,19980115, 42.6690,  -9.6104, 2059,     97.9,  15.0470,  35.9460,2,-999.0000,9,   -999.0,9,    244.6,2,     1.06,2,     1.01,2,     0.20,2,     0.13,2,   0.11708,2,   2354.0,2,     -999,9,  15.0321
         OMEX2,   410,  1,      4,19980115, 42.6690,  -9.6104, 2059,    142.6,  14.1020,  35.9630,2,-999.0000,9,   -999.0,9,    222.4,2,     1.94,2,     4.69,2,     0.07,2,     0.31,2, 0.0487828,2,   2354.6,2,     -999,9,  14.0811
         OMEX2,   410,  1,      5,19980115, 42.6690,  -9.6104, 2059,    202.8,  13.3250,  35.8510,2,-999.0000,9,   -999.0,9,    214.6,2,     2.88,2,     8.42,2,     0.02,2,     0.50,2, 0.0195147,2,   2349.9,2,     -999,9,  13.2964
         OMEX2,   410,  1,      6,19980115, 42.6690,  -9.6104, 2059,    302.3,  12.3970,  35.7310,2,-999.0000,9,   -999.0,9,    219.2,2,     3.70,2,    10.65,2,     0.01,2,     0.63,2,  0.039033,2,   2343.2,2,     -999,9,  12.3562
         OMEX2,   410,  1,      7,19980115, 42.6690,  -9.6104, 2059,    421.7,  11.4170,  35.6170,2,-999.0000,9,   -999.0,9,    217.9,2,     4.67,2,    12.67,2,     0.01,2,     0.74,2, 0.0195181,2,   2338.7,2,     -999,9,  11.3629
         OMEX2,   410,  1,      8,19980115, 42.6690,  -9.6104, 2059,    600.0,  11.3020,  35.8200,2,-999.0000,9,   -999.0,9,    194.6,2,     6.83,2,    14.59,2,     0.01,2,     0.87,2, 0.0195152,2,   2357.8,2,     -999,9,  11.2247
         OMEX2,   410,  1,      9,19980115, 42.6690,  -9.6104, 2059,    798.7,  11.5680,  36.0680,2,-999.0000,9,   -999.0,9,    188.2,2,     7.45,2,    14.63,2,     0.01,2,     0.86,2,         0,2,   2383.7,2,     -999,9,  11.4625
         OMEX2,   410,  1,     10,19980115, 42.6690,  -9.6104, 2059,    997.9,  11.3110,  36.1380,2,  36.1360,2,   -999.0,9,    186.2,2,     8.21,2,    15.08,2,     0.01,2,     0.88,2,         0,2,   2386.0,2,     -999,9,  11.1798
         OMEX2,   411,  1,      1,19980115, 42.6708,  -9.5942, 2059,      5.4,  15.2990,  35.9620,2,-999.0000,9,   -999.0,9,    242.3,2,     1.19,2,     1.10,2,     0.20,2,     0.14,2,  0.068296,2,   2356.9,2,     -999,9,  15.2982
         OMEX2,   411,  1,      2,19980115, 42.6708,  -9.5942, 2059,     25.2,  15.3020,  35.9630,2,  35.9620,2,   -999.0,9,    242.3,2,     1.17,2,     1.09,2,     0.18,2,     0.12,2, 0.0390262,2,   2352.9,2,     -999,9,  15.2981
         OMEX2,   411,  1,      3,19980115, 42.6708,  -9.5942, 2059,     49.9,  15.2470,  35.9580,2,-999.0000,9,   -999.0,9,    241.3,2,     1.19,2,     1.09,2,     0.20,2,     0.12,2,  0.165862,2,   2351.0,2,     -999,9,  15.2393
         OMEX2,   411,  1,      4,19980115, 42.6708,  -9.5942, 2059,     74.2,  15.1000,  35.9490,2,-999.0000,9,   -999.0,9,    241.6,2,     1.06,2,     1.13,2,     0.20,2,     0.12,2,   0.02927,2,   2352.0,2,     -999,9,  15.0887
         OMEX2,   411,  1,      5,19980115, 42.6708,  -9.5942, 2059,     98.8,  15.0260,  35.9400,2,-999.0000,9,   -999.0,9,    244.4,2,     0.91,2,     0.85,2,     0.20,2,     0.10,2, 0.0487836,2,   2352.0,2,     -999,9,  15.0110
         OMEX2,   411,  1,      6,19980115, 42.6708,  -9.5942, 2059,    196.3,  13.9170,  35.9380,2,-999.0000,9,   -999.0,9,    214.0,2,     2.67,2,     7.98,2,     0.01,2,     0.48,2, 0.0292702,2,   2350.6,2,     -999,9,  13.8885
         OMEX2,   411,  1,      7,19980115, 42.6708,  -9.5942, 2059,    293.0,  12.2550,  35.7050,2,-999.0000,9,   -999.0,9,    219.5,2,     3.63,2,    10.42,2,     0.01,2,     0.62,2, 0.0585506,2,   2344.4,2,     -999,9,  12.2158
         OMEX2,   412,  1,      1,19980115, 42.6667,  -9.6073, 2059,      3.0,  15.0220,  35.9410,2,-999.0000,9,   -999.0,9,   -999.0,9,  -999.00,9,  -999.00,9,  -999.00,9,  -999.00,9,      -999,9,   -999.0,9,     -999,9,  15.0215
         OMEX2,   412,  1,      2,19980115, 42.6667,  -9.6073, 2059,     46.2,  15.0060,  35.9400,2,-999.0000,9,   -999.0,9,   -999.0,9,  -999.00,9,  -999.00,9,  -999.00,9,  -999.00,9,      -999,9,   -999.0,9,     -999,9,  14.9990
         OMEX2,   412,  1,      3,19980115, 42.6667,  -9.6073, 2059,     96.4,  14.9550,  35.9340,2,-999.0000,9,   -999.0,9,   -999.0,9,  -999.00,9,  -999.00,9,  -999.00,9,  -999.00,9,      -999,9,   -999.0,9,     -999,9,  14.9404
         OMEX2,   412,  1,      4,19980115, 42.6667,  -9.6073, 2059,    200.0,  14.1260,  35.9670,2,-999.0000,9,   -999.0,9,   -999.0,9,  -999.00,9,  -999.00,9,  -999.00,9,  -999.00,9,      -999,9,   -999.0,9,     -999,9,  14.0967
         OMEX2,   501,  1,      1,19980627, 42.3316,  -9.0026,  184,     86.8,  12.3980,  35.7170,2,  35.7180,2,    213.0,2,   -999.0,9,  -999.00,9,  -999.00,9,  -999.00,9,  -999.00,9,      -999,9,   -999.0,9,     -999,9,  12.3864
         OMEX2,   502,  1,      1,19980627, 42.3329,  -9.2028,  184,    148.4,  12.4830,  35.7260,2,  35.7280,2,    219.9,2,   -999.0,9,  -999.00,9,  -999.00,9,  -999.00,9,  -999.00,9,      -999,9,   -999.0,9,     -999,9,  12.4630
         OMEX2,   503,  1,      1,19980627, 42.3360,  -9.9961, 1954,   1764.6,   4.7850,  35.1310,2,  35.1330,2,    248.0,2,   -999.0,9,  -999.00,9,  -999.00,9,  -999.00,9,  -999.00,9,      -999,9,   -999.0,9,     -999,9,   4.6294
         OMEX2,   504,  1,      1,19980628, 42.1464,  -8.9592,   90,      9.0,  14.8500,  35.6370,2,  35.6480,2,    261.0,2,    256.4,2,     1.98,2,     0.74,2,     0.09,2,     0.12,6,  0.117107,2,   2341.1,2,0.0487946,2,  14.8487
         OMEX2,   504,  1,      2,19980628, 42.1464,  -8.9592,   90,     19.2,  14.3600,  35.6800,2,-999.0000,9,    254.2,2,    242.3,2,     2.22,2,     2.52,2,     0.17,2,     0.20,6, 0.0975861,2,   2343.3,2,0.0487931,2,  14.3572
         OMEX2,   504,  1,      3,19980628, 42.1464,  -8.9592,   90,     38.7,  13.1950,  35.7430,2,-999.0000,9,    232.4,2,    222.1,2,     2.71,2,     6.87,2,     0.06,2,     0.42,6, 0.0487908,2,   2341.9,2,0.0780652,2,  13.1896
         OMEX2,   504,  1,      4,19980628, 42.1464,  -8.9592,   90,     59.4,  12.7760,  35.7410,2,-999.0000,9,    228.8,2,    211.8,2,     3.86,2,     9.12,2,     0.05,2,     0.56,6, 0.0390327,2,   2350.1,2,0.0878235,2,  12.7679
         OMEX2,   504,  1,      5,19980628, 42.1464,  -8.9592,   90,     79.8,  12.4450,  35.7240,2,  35.7210,2,    215.8,2,    199.4,2,     5.75,2,    10.53,2,     0.24,2,     0.75,6,  0.195166,2,   2346.3,2, 0.175649,2,  12.4343
         OMEX2,   505,  1,      1,19980628, 42.1462,  -9.1401,  184,      8.2,  16.7530,  35.7250,2,  35.7280,2,    253.8,2,    252.5,2,  -999.00,9,  -999.00,9,  -999.00,9,  -999.00,9,      -999,9,   2347.2,2,     -999,9,  16.7517
         OMEX2,   505,  1,      2,19980628, 42.1462,  -9.1401,  184,     59.3,  14.6380,  35.9360,2,  35.9320,2,    245.1,2,    237.1,2,  -999.00,9,  -999.00,9,  -999.00,9,  -999.00,9,      -999,9,   2358.2,2,     -999,9,  14.6291
         OMEX2,   506,  1,      1,19980628, 42.1510,  -9.1452,  184,      9.2,  16.7490,  35.7340,2,  35.7340,2,    253.8,2,    251.4,2,     1.14,2,     0.07,2,     0.01,2,     0.03,6, 0.0390329,2,   2343.1,2,0.0292747,2,  16.7475
         OMEX2,   506,  1,      2,19980628, 42.1510,  -9.1452,  184,     18.6,  16.7020,  35.7330,2,-999.0000,9,    254.0,2,    254.9,2,     1.25,2,     0.08,2,     0.01,2,     0.04,6, 0.0390329,2,   2343.2,2,0.0487911,2,  16.6990
         OMEX2,   506,  1,      3,19980628, 42.1510,  -9.1452,  184,     39.0,  15.3190,  35.8680,2,-999.0000,9,    250.5,2,    244.0,2,     1.09,2,     0.49,2,     0.07,2,     0.07,6, 0.0487862,2,   2349.8,2, 0.039029,2,  15.3130
         OMEX2,   506,  1,      4,19980628, 42.1510,  -9.1452,  184,     59.5,  14.3690,  35.9160,2,-999.0000,9,    245.3,2,    235.7,2,     1.19,2,     2.47,2,     0.06,2,     0.19,6,      -999,9,   2352.4,2,0.0390276,2,  14.3602
         OMEX2,   506,  1,      5,19980628, 42.1510,  -9.1452,  184,     79.4,  13.7280,  35.8500,2,-999.0000,9,    240.5,2,    233.1,2,     1.70,2,     4.62,2,     0.02,2,     0.29,6,      -999,9,   -999.0,9,0.0195148,2,  13.7166
         OMEX2,   506,  1,      6,19980628, 42.1510,  -9.1452,  184,     99.2,  13.3000,  35.7910,2,-999.0000,9,    234.8,2,    224.4,2,     2.40,2,     6.40,2,     0.01,2,     0.39,6, 0.0195156,2,   2345.9,2,0.0390312,2,  13.2861
         OMEX2,   506,  1,      7,19980628, 42.1510,  -9.1452,  184,    127.0,  12.7920,  35.7530,2,  35.7640,2,    225.0,2,    218.3,2,     3.39,2,     8.08,2,     0.01,2,     0.48,6, 0.0975808,2,   2345.1,2,0.0390323,2,  12.7746
         OMEX2,   507,  1,      1,19980628, 42.1512,  -9.3226,  213,      8.8,  17.2610,  35.8110,2,  35.8150,2,    249.3,2,    248.2,2,     1.00,2,     0.05,2,     0.01,2,     0.01,6, 0.0487883,2,   2345.8,2,0.0195153,2,  17.2595
         OMEX2,   507,  1,      2,19980628, 42.1512,  -9.3226,  213,     18.5,  17.0980,  35.8190,2,-999.0000,9,    250.1,2,    245.8,2,     0.94,2,     0.07,2,     0.01,2,     0.01,6, 0.0390304,2,   2350.9,2,0.0390304,2,  17.0949
         OMEX2,   507,  1,      3,19980628, 42.1512,  -9.3226,  213,     40.0,  16.4180,  35.8530,2,-999.0000,9,    251.0,2,    248.0,2,     0.97,2,     0.36,2,     0.05,2,     0.07,6, 0.0292721,2,   2351.3,2,0.0292721,2,  16.4115
         OMEX2,   507,  1,      4,19980628, 42.1512,  -9.3226,  213,     60.8,  14.3210,  35.9220,2,-999.0000,9,    247.0,2,    234.2,2,     1.21,2,     2.73,2,     0.05,2,     0.20,6, 0.0390274,2,   2349.4,2, 0.107325,2,  14.3120
         OMEX2,   507,  1,      5,19980628, 42.1512,  -9.3226,  213,     81.2,  13.9480,  35.8920,2,-999.0000,9,    242.2,2,    235.8,2,     1.41,2,     3.75,2,     0.01,2,     0.25,6, 0.0292712,2,   2349.6,2,0.0195142,2,  13.9362
         OMEX2,   507,  1,      6,19980628, 42.1512,  -9.3226,  213,     99.9,  13.6440,  35.8550,2,-999.0000,9,    241.2,2,    232.7,2,     1.64,2,     4.76,2,     0.01,2,     0.31,6, 0.0585441,2,   2348.7,2, 0.029272,2,  13.6297
         OMEX2,   507,  1,      7,19980628, 42.1512,  -9.3226,  213,    148.5,  12.9530,  35.7750,2,-999.0000,9,    239.1,2,    224.9,2,     2.51,2,     7.63,2,     0.01,2,     0.47,6, 0.0487896,2,   2356.0,2,0.0195158,2,  12.9325
         OMEX2,   507,  1,      8,19980628, 42.1512,  -9.3226,  213,    202.6,  12.4610,  35.7260,2,  35.7270,2,    219.0,2,    208.0,2,     4.28,2,    10.72,2,     0.17,2,     0.67,6, 0.0585497,2,   2344.2,2,0.0292748,2,  12.4337
         OMEX2,   508,  1,      1,19980628, 42.1485,  -9.5343, 1954,      8.7,  17.8210,  35.8370,2,  35.8520,2,    246.4,2,    243.2,2,     0.76,2,     0.15,2,     0.01,2,     0.01,6, 0.0780598,2,   2346.5,2,  0.11709,2,  17.8195
         OMEX2,   508,  1,      2,19980628, 42.1485,  -9.5343, 1954,     18.7,  16.7890,  35.8930,2,-999.0000,9,    246.5,2,    247.4,2,     0.83,2,     0.19,2,     0.01,2,     0.01,6,  0.117085,2,   2350.1,2, 0.146356,2,  16.7859
         OMEX2,   508,  1,      3,19980628, 42.1485,  -9.5343, 1954,     39.8,  15.3200,  35.9390,2,-999.0000,9,    252.6,2,    248.6,2,     1.03,2,     0.22,2,     0.01,2,     0.04,6,  0.282945,2,   2350.9,2, 0.175621,2,  15.3139
         OMEX2,   508,  1,      4,19980628, 42.1485,  -9.5343, 1954,     59.9,  14.5720,  35.9500,2,-999.0000,9,    246.9,2,    237.0,2,     1.13,2,     1.59,2,     0.07,2,     0.14,6,  0.214646,2,   -999.0,9, 0.487833,2,  14.5631
         OMEX2,   508,  1,      5,19980628, 42.1485,  -9.5343, 1954,     79.2,  14.2730,  35.9370,2,-999.0000,9,    242.9,2,    234.4,2,     1.32,2,     2.50,2,     0.02,2,     0.20,6,  0.078054,2,   2352.4,2, 0.409783,2,  14.2613
         OMEX2,   508,  1,      6,19980628, 42.1485,  -9.5343, 1954,    100.3,  14.0030,  35.9080,2,  35.9120,2,    241.4,2,    232.8,2,     1.35,2,     3.30,2,     0.01,2,     0.23,6, 0.0585418,2,   2356.6,2, 0.341494,2,  13.9884
         OMEX2,   509,  1,      1,19980628, 42.1508,  -9.5823, 1954,    150.3,  13.2450,  35.8150,2,  35.8130,2,    233.6,2,    222.8,2,     2.35,2,     7.33,2,     0.00,2,     0.44,6,      -999,9,   2344.9,2,     -999,9,  13.2239
         OMEX2,   509,  1,      2,19980628, 42.1508,  -9.5823, 1954,    201.2,  12.6300,  35.7380,2,-999.0000,9,    232.9,2,    219.1,2,     3.03,2,     8.87,2,     0.00,2,     0.54,6,      -999,9,   -999.0,9,     -999,9,  12.6026
         OMEX2,   509,  1,      3,19980628, 42.1508,  -9.5823, 1954,    401.9,  11.4360,  35.6200,2,-999.0000,9,    220.0,2,    208.7,2,     5.17,2,    13.13,2,     0.00,2,     0.80,6,      -999,9,   2338.7,2,     -999,9,  11.3844
         OMEX2,   509,  1,      4,19980628, 42.1508,  -9.5823, 1954,    605.4,  11.2780,  35.7980,2,-999.0000,9,    202.6,2,    191.5,2,     6.93,2,    14.45,2,     0.00,2,     0.90,6,      -999,9,   2350.8,2,     -999,9,  11.2001
         OMEX2,   509,  1,      5,19980628, 42.1508,  -9.5823, 1954,    808.0,  11.5760,  36.0680,2,-999.0000,9,    194.8,2,    185.8,2,     7.33,2,    14.17,2,     0.00,2,     0.88,6,      -999,9,   2376.8,2,     -999,9,  11.4692
         OMEX2,   509,  1,      6,19980628, 42.1508,  -9.5823, 1954,    907.9,  11.4400,  36.1150,2,-999.0000,9,    193.2,2,    183.6,2,     8.00,2,    14.45,2,     0.00,2,     0.90,6, 0.0195109,2,   2381.8,2,     -999,9,  11.3203
         OMEX2,   509,  1,      7,19980628, 42.1508,  -9.5823, 1954,   1009.4,  11.2930,  36.1520,2,-999.0000,9,    192.5,2,    183.4,2,     8.17,2,    14.68,2,     0.00,2,     0.90,6, 0.0195104,2,   2389.9,2,     -999,9,  11.1603
         OMEX2,   509,  1,      8,19980628, 42.1508,  -9.5823, 1954,   1110.0,  11.0100,  36.1400,2,-999.0000,9,    192.8,2,    185.6,2,     8.88,2,    15.05,2,     0.00,2,     0.93,6, 0.0195106,2,   2393.1,2,     -999,9,  10.8657
         OMEX2,   509,  1,      9,19980628, 42.1508,  -9.5823, 1954,   1265.0,  10.3370,  36.0800,2,  36.0830,2,    197.2,2,    190.0,2,     9.36,2,    15.23,2,     0.00,2,     0.95,6, 0.0195114,2,   2383.3,2,     -999,9,  10.1775
         OMEX2,   510,  1,      1,19980629, 42.1476,  -9.5408, 1954,      9.1,  16.8960,  35.8260,2,  35.8250,2,    250.5,2,    247.2,2,  -999.00,9,  -999.00,9,  -999.00,9,  -999.00,9,      -999,9,   2349.0,2,     -999,9,  16.8945
         OMEX2,   510,  1,      2,19980629, 42.1476,  -9.5408, 1954,     34.6,  15.0050,  35.9610,2,  35.9600,2,    252.8,2,    246.4,2,  -999.00,9,  -999.00,9,  -999.00,9,  -999.00,9,      -999,9,   2360.0,2,     -999,9,  14.9997
         OMEX2,   511,  1,      1,19980629, 42.1448,  -9.7343, 1954,      8.6,  17.6540,  35.8840,2,-999.0000,9,    242.5,2,   -999.0,9,  -999.00,9,  -999.00,9,  -999.00,9,  -999.00,9,      -999,9,   -999.0,9,     -999,9,  17.6525
         OMEX2,   511,  1,      2,19980629, 42.1448,  -9.7343, 1954,     19.1,  17.6570,  35.8840,2,-999.0000,9,    244.2,2,   -999.0,9,  -999.00,9,  -999.00,9,  -999.00,9,  -999.00,9,      -999,9,   -999.0,9,     -999,9,  17.6537
         OMEX2,   511,  1,      3,19980629, 42.1448,  -9.7343, 1954,     38.6,  17.5420,  35.8860,2,  35.9720,3,    244.1,2,    245.7,2,     0.81,2,     0.80,2,     0.08,2,     0.08,6,  0.078057,2,   2376.7,3,     -999,9,  17.5355
         OMEX2,   511,  1,      4,19980629, 42.1448,  -9.7343, 1954,     59.2,  15.5790,  35.9320,2,-999.0000,9,    243.2,2,    238.7,2,     1.01,2,     2.52,2,     0.02,2,     0.17,6, 0.0390271,2,   2357.7,2,     -999,9,  15.5698
         OMEX2,   511,  1,      5,19980629, 42.1448,  -9.7343, 1954,     79.3,  14.8820,  35.9830,2,-999.0000,9,    247.2,2,    238.0,2,     1.10,2,     3.05,2,     0.01,2,     0.20,6,0.00975642,2,   2358.1,2,     -999,9,  14.8700
         OMEX2,   511,  1,      6,19980629, 42.1448,  -9.7343, 1954,     99.9,  14.4710,  35.9670,2,-999.0000,9,    242.5,2,    237.7,2,     1.23,2,     3.49,2,     0.06,2,     0.23,6,0.00975653,2,   2348.3,2,     -999,9,  14.4562
         OMEX2,   511,  1,      7,19980629, 42.1448,  -9.7343, 1954,    149.8,  13.8430,  35.8890,2,-999.0000,9,    239.3,2,    226.3,2,     1.94,2,     6.32,2,     0.05,2,     0.38,6, 0.0097571,2,   2347.7,2,     -999,9,  13.8214
         OMEX2,   511,  1,      8,19980629, 42.1448,  -9.7343, 1954,    200.5,  13.1430,  35.8080,2,-999.0000,9,    231.1,2,    220.3,2,     2.66,2,     8.66,2,     0.05,2,     0.50,6, 0.0390307,2,   2341.9,2,     -999,9,  13.1150
         OMEX2,   511,  1,      9,19980629, 42.1448,  -9.7343, 1954,    400.1,  11.2960,  35.6130,2,  35.6140,2,    217.9,2,    211.1,2,     5.01,2,    13.16,2,     0.01,2,     0.78,6, 0.0390364,2,   2338.8,2,     -999,9,  11.2450
         OMEX2,   512,  1,      1,19980629, 42.5091,  -9.3178,  321,    137.4,  12.6950,  35.7410,2,  35.7460,2,    226.7,2,   -999.0,9,  -999.00,9,  -999.00,9,  -999.00,9,  -999.00,9,      -999,9,   -999.0,9,     -999,9,  12.6763
         OMEX2,   513,  1,      1,19980629, 42.4974,  -9.1826,  184,     75.0,  12.7310,  35.7420,2,  35.7410,2,    223.6,2,   -999.0,9,  -999.00,9,  -999.00,9,  -999.00,9,  -999.00,9,      -999,9,   -999.0,9,     -999,9,  12.7208
         OMEX2,   514,  1,      1,19980630, 42.6701,  -9.3664,  321,      9.1,  14.7510,  35.6910,2,  35.7010,2,    261.9,2,    256.8,2,  -999.00,9,  -999.00,9,  -999.00,9,     0.12,2,      -999,9,   2340.1,2,     -999,9,  14.7496
         OMEX2,   514,  1,      2,19980630, 42.6701,  -9.3664,  321,     39.3,  13.7360,  35.7460,2,  35.7440,2,    246.8,2,    236.8,2,  -999.00,9,  -999.00,9,  -999.00,9,     0.29,2,      -999,9,   2358.6,2,     -999,9,  13.7304
         OMEX2,   515,  1,      1,19980630, 42.6644,  -9.3670,  321,      8.7,  14.7680,  35.6930,2,  35.6960,2,    260.1,2,    262.1,2,     1.50,2,     0.65,2,     0.07,2,     0.12,6, 0.0683096,2,   2342.1,2,0.0780681,2,  14.7667
         OMEX2,   515,  1,      2,19980630, 42.6644,  -9.3670,  321,     18.4,  14.4410,  35.7290,2,-999.0000,9,    255.4,2,    262.1,2,     1.51,2,     0.68,2,     0.07,2,     0.12,6, 0.0683078,2,   2343.4,2,0.0975825,2,  14.4383
         OMEX2,   515,  1,      3,19980630, 42.6644,  -9.3670,  321,     39.0,  13.9780,  35.7510,2,-999.0000,9,    246.6,2,    247.8,2,     1.34,2,     1.89,2,     0.09,2,     0.17,6, 0.0487905,2,   2342.5,2, 0.165888,2,  13.9724
         OMEX2,   515,  1,      4,19980630, 42.6644,  -9.3670,  321,     58.9,  13.4790,  35.7450,2,-999.0000,9,    242.2,2,    239.8,2,     1.57,2,     3.85,2,     0.07,2,     0.27,6, 0.0487907,2,   2343.8,2,0.0878233,2,  13.4707
         OMEX2,   515,  1,      5,19980630, 42.6644,  -9.3670,  321,     79.4,  13.1220,  35.7580,2,-999.0000,9,    240.6,2,    236.2,2,     1.81,2,     5.15,2,     0.03,2,     0.34,6, 0.0292741,2,   2344.0,2,0.0390322,2,  13.1110
         OMEX2,   515,  1,      6,19980630, 42.6644,  -9.3670,  321,    100.0,  12.8300,  35.7510,2,-999.0000,9,    235.3,2,    227.9,2,     2.63,2,     7.94,2,     0.02,2,     0.46,6, 0.0292743,2,   2344.1,2, 0.731857,2,  12.8163
         OMEX2,   515,  1,      7,19980630, 42.6644,  -9.3670,  321,    121.6,  12.5380,  35.7320,2,  35.7390,2,    223.8,2,    221.6,2,     3.08,2,     8.19,2,     0.03,2,     0.50,6, 0.0292747,2,   2344.2,2, 0.234198,2,  12.5216