BOTTLE,20090114PRINUNIVRMKPRINUNIVRMK
EXPOCODE,STNNBR,CASTNO,BTLNBR,DATE,LATITUDE,LONGITUDE,DEPTH,CTDPRS,CTDTMP,CTDSAL,CTDSAL_FLAG_W,SALNTY,SALNTY_FLAG_W,CTDOXY,CTDOXY_FLAG_W,OXYGEN,OXYGEN_FLAG_W,SILCAT,SILCAT_FLAG_W,NITRAT,NITRAT_FLAG_W,NITRIT,NITRIT_FLAG_W,PHSPHT,PHSPHT_FLAG_W,AMMONI,AMMONI_FLAG_W,ALKALI,ALKALI_FLAG_W,UREA,UREA_FLAG_W,THETA
,,,,,,,METERS,DBARS,ITS-90,PSS-78,,PSS-78,,UMOL/KG,,UMOL/KG,,UMOL/KG,,UMOL/KG,,UMOL/KG,,UMOL/KG,,UMOL/KG,,UMOL/KG,,UMOL/KG,,DEGC
         OMEX2,   531,  1,      1,19980703, 43.0102,  -9.6678, 3129,    100.8,  12.7510,  35.7190,2,  35.7130,2,    242.4,2,    243.2,2,     1.56,2,     4.84,2,     0.04,2,     0.32,6,  0.029275,2,   2347.1,2,     -999,9,  12.7373
         OMEX2,   531,  1,      2,19980703, 43.0102,  -9.6678, 3129,    150.5,  12.5550,  35.7060,2,-999.0000,9,    243.0,2,    243.7,2,     1.87,2,     5.57,2,     0.01,2,     0.36,6, 0.0390337,2,   2347.2,2,     -999,9,  12.5347
         OMEX2,   531,  1,      3,19980703, 43.0102,  -9.6678, 3129,    200.6,  12.2270,  35.6810,2,-999.0000,9,    240.8,2,    241.0,2,     2.24,2,     6.91,2,     0.01,2,     0.43,6, 0.0195172,2,   2343.3,2,     -999,9,  12.2003
         OMEX2,   531,  1,      4,19980703, 43.0102,  -9.6678, 3129,    402.7,  11.2140,  35.5940,2,-999.0000,9,    223.3,2,    219.6,2,     4.56,2,    12.24,2,     0.01,2,     0.75,6, 0.0195185,2,   2340.8,2,     -999,9,  11.1629
         OMEX2,   531,  1,      5,19980703, 43.0102,  -9.6678, 3129,    604.3,  11.3660,  35.8690,2,-999.0000,9,    198.9,2,    191.8,2,     6.89,2,    14.69,2,     0.01,2,     0.88,6,0.00975724,2,   2362.8,2,     -999,9,  11.2878
         OMEX2,   531,  1,      6,19980703, 43.0102,  -9.6678, 3129,    807.1,  11.4120,  36.0630,2,-999.0000,9,    191.2,2,    187.5,2,     7.63,2,    14.62,2,     0.01,2,     0.89,6, 0.0292675,2,   2381.9,2,     -999,9,  11.3062
         OMEX2,   531,  1,      7,19980703, 43.0102,  -9.6678, 3129,    908.2,  11.2310,  36.0980,2,-999.0000,9,    190.7,2,    186.7,2,     8.01,2,    14.79,2,     0.00,2,     0.89,6,0.00975558,2,   2385.9,2,     -999,9,  11.1126
         OMEX2,   531,  1,      8,19980703, 43.0102,  -9.6678, 3129,   1009.4,  10.9320,  36.1140,2,-999.0000,9,    191.1,2,    186.6,2,     8.50,2,    15.04,2,     0.00,2,     0.91,6, 0.0195109,2,   2388.0,2,     -999,9,  10.8019
         OMEX2,   531,  1,      9,19980703, 43.0102,  -9.6678, 3129,   1111.2,  10.7200,  36.1140,2,-999.0000,9,    192.4,2,    188.7,2,     8.85,2,    15.25,2,     0.00,2,     0.92,6, 0.0195109,2,   2391.2,2,     -999,9,  10.5778
         OMEX2,   531,  1,     10,19980703, 43.0102,  -9.6678, 3129,   1262.9,   9.8640,  36.0100,2,-999.0000,9,    198.6,2,    195.6,2,     9.76,2,    15.73,2,     0.00,2,     0.96,6, 0.0195124,2,   2385.5,2,     -999,9,   9.7090
         OMEX2,   531,  1,     11,19980703, 43.0102,  -9.6678, 3129,   1517.0,   6.5360,  35.4370,2,  35.4440,2,    226.7,2,    226.2,2,    12.97,2,    17.17,2,     0.00,2,     1.09,6, 0.0195207,2,   2349.5,2,     -999,9,   6.3847
         OMEX2,   532,  1,      1,19980703, 43.0180,  -9.6711, 3129,      8.6,  16.3770,  35.6830,2,  35.6880,2,    246.2,2,    254.1,2,     0.54,2,     0.00,2,     0.01,2,     0.02,6, 0.0292758,6,   2345.3,2,0.0195172,2,  16.3756
         OMEX2,   532,  1,      2,19980703, 43.0180,  -9.6711, 3129,     17.7,  16.2480,  35.6920,2,-999.0000,9,    246.3,2,    256.2,2,     0.48,2,     0.00,2,     0.01,2,     0.03,6, 0.0390341,6,   2347.4,2, 0.019517,2,  16.2452
         OMEX2,   532,  1,      3,19980703, 43.0180,  -9.6711, 3129,     38.8,  14.9200,  35.7820,2,-999.0000,9,    247.6,2,    257.3,2,     0.63,2,     0.29,2,     0.05,2,     0.07,6,  0.151247,6,   2351.1,2,0.0195157,2,  14.9141
         OMEX2,   532,  1,      4,19980703, 43.0180,  -9.6711, 3129,     59.3,  13.8510,  35.7690,2,-999.0000,9,    245.0,2,    249.2,2,     0.92,2,     1.79,2,     0.13,2,     0.19,6,  0.112217,6,   2350.6,2,0.0195159,2,  13.8425
         OMEX2,   532,  1,      5,19980703, 43.0180,  -9.6711, 3129,     79.9,  13.1040,  35.7310,2,  35.7320,2,    241.5,2,    245.5,2,     1.18,2,     3.43,2,     0.06,2,     0.25,6, 0.0195165,6,   2350.0,2,0.0195165,2,  13.0929
         OMEX2,   533,  1,      1,19980703, 42.9976,  -9.5151, 2059,      9.5,  16.5080,  35.6360,2,  35.6360,2,    246.5,2,    252.2,2,     0.59,2,     0.00,2,     0.01,2,     0.02,6, 0.0195179,2,   2342.2,2,     -999,9,  16.5065
         OMEX2,   533,  1,      2,19980703, 42.9976,  -9.5151, 2059,     19.3,  16.3420,  35.6590,2,-999.0000,9,    246.5,2,    254.5,2,     0.73,2,     0.06,2,     0.02,2,     0.04,6,  0.039035,2,   2344.4,2,     -999,9,  16.3389
         OMEX2,   533,  1,      3,19980703, 42.9976,  -9.5151, 2059,     39.4,  14.7760,  35.7370,2,-999.0000,9,    244.1,2,    247.3,2,     1.14,2,     1.79,2,     0.12,2,     0.16,6, 0.0390328,2,   2349.2,2,     -999,9,  14.7701
         OMEX2,   533,  1,      4,19980703, 42.9976,  -9.5151, 2059,     59.8,  14.2030,  35.7290,2,-999.0000,9,    240.8,2,    234.1,2,     1.75,2,     4.64,2,     0.08,2,     0.31,6, 0.0195165,2,   2347.4,2,     -999,9,  14.1943
         OMEX2,   533,  1,      5,19980703, 42.9976,  -9.5151, 2059,     79.6,  13.3500,  35.7340,2,-999.0000,9,    233.6,2,    243.4,2,     1.82,2,     5.10,2,     0.03,2,     0.33,6, 0.0390329,2,   2348.8,2,     -999,9,  13.3388
         OMEX2,   533,  1,      6,19980703, 42.9976,  -9.5151, 2059,    100.5,  12.9720,  35.7340,2,-999.0000,9,    237.0,2,    237.6,2,     2.25,2,     6.34,2,     0.03,2,     0.41,6, 0.0195164,2,   2347.0,2,     -999,9,  12.9581
         OMEX2,   533,  1,      7,19980703, 42.9976,  -9.5151, 2059,    149.6,  12.3300,  35.6990,2,-999.0000,9,    233.7,2,    233.8,2,     2.87,2,     8.01,2,     0.01,2,     0.50,6, 0.0195169,2,   2347.3,2,     -999,9,  12.3100
         OMEX2,   533,  1,      8,19980703, 42.9976,  -9.5151, 2059,    202.3,  12.0130,  35.6760,2,  35.6760,2,    219.1,2,    219.2,2,     4.17,2,    10.58,2,     0.07,2,     0.65,6, 0.0390346,2,   2346.5,2,     -999,9,  11.9864
         OMEX2,   534,  1,      1,19980703, 43.0012,  -9.8052, 3129,    150.5,  12.4410,  35.7140,2,  35.7530,2,    231.7,2,    237.1,2,     2.01,2,     6.07,2,     0.01,2,     0.40,6, 0.0195167,2,   2348.2,2,     -999,9,  12.4208
         OMEX2,   534,  1,      2,19980703, 43.0012,  -9.8052, 3129,    200.8,  12.1830,  35.6820,2,-999.0000,9,    232.1,2,    224.4,2,     3.23,2,     9.80,2,     0.01,2,     0.59,6, 0.0195172,2,   2345.4,2,     -999,9,  12.1563
         OMEX2,   534,  1,      3,19980703, 43.0012,  -9.8052, 3129,    402.0,  11.1820,  35.5980,2,-999.0000,9,    215.0,2,    208.5,2,     5.18,2,    13.65,2,     0.01,2,     0.83,6, 0.0195184,2,   2343.8,2,     -999,9,  11.1311
         OMEX2,   534,  1,      4,19980703, 43.0012,  -9.8052, 3129,    603.9,  11.2870,  35.8510,2,-999.0000,9,    195.0,2,    191.0,2,     6.91,2,    14.88,2,     0.01,2,     0.91,6, 0.0195147,2,   2360.8,2,     -999,9,  11.2092
         OMEX2,   534,  1,      5,19980703, 43.0012,  -9.8052, 3129,    806.3,  11.4390,  36.0730,2,-999.0000,9,    188.4,2,    185.4,2,     7.61,2,    14.76,2,     0.01,2,     0.88,6, 0.0195115,2,   2386.8,2,     -999,9,  11.3332
         OMEX2,   534,  1,      6,19980703, 43.0012,  -9.8052, 3129,    908.3,  11.2970,  36.1090,2,-999.0000,9,    187.7,2,    186.1,2,     8.04,2,    15.03,2,     0.01,2,     0.90,6,  0.019511,2,   2389.9,2,     -999,9,  11.1781
         OMEX2,   534,  1,      7,19980703, 43.0012,  -9.8052, 3129,   1008.8,  11.1100,  36.1220,2,-999.0000,9,    187.3,2,    184.5,2,     8.43,2,    15.33,2,     0.00,2,     0.92,6, 0.0195108,2,   2391.0,2,     -999,9,  10.9787
         OMEX2,   534,  1,      8,19980703, 43.0012,  -9.8052, 3129,   1110.4,  10.9580,  36.1490,2,-999.0000,9,    188.6,2,    186.4,2,     8.71,2,    15.38,2,     0.00,2,     0.91,6, 0.0195104,2,   2394.1,2,     -999,9,  10.8140
         OMEX2,   534,  1,      9,19980703, 43.0012,  -9.8052, 3129,   1262.7,  10.3690,  36.1090,2,-999.0000,9,    192.2,2,    192.0,2,     9.30,2,    15.56,2,     0.00,2,     0.93,6,0.00975551,2,   2392.3,2,     -999,9,  10.2094
         OMEX2,   534,  1,     10,19980703, 43.0012,  -9.8052, 3129,   1515.7,   7.4790,  35.5820,2,-999.0000,9,    214.0,2,    216.8,2,    11.46,2,    17.16,2,     0.00,2,     1.05,6,0.00975932,2,   2356.3,2,     -999,9,   7.3172
         OMEX2,   534,  1,     11,19980703, 43.0012,  -9.8052, 3129,   1757.6,   4.8690,  35.1550,2,  35.1600,2,    239.8,2,    243.6,2,    14.25,2,    17.84,2,     0.00,2,     1.15,6, 0.0195248,2,   2326.9,2,     -999,9,   4.7130
         OMEX2,   535,  1,      1,19980703, 43.0134,  -9.8031, 3129,      8.8,  16.7800,  35.7440,2,  35.7440,2,    237.9,2,    249.1,2,     0.68,2,     0.00,2,     0.01,2,     0.02,6, 0.0195163,2,   2349.1,2,     -999,9,  16.7786
         OMEX2,   535,  1,      2,19980703, 43.0134,  -9.8031, 3129,     19.3,  16.7700,  35.7460,2,-999.0000,9,    238.6,2,    250.0,2,     0.65,2,     0.00,2,     0.01,2,     0.03,6, 0.0390325,2,   2348.1,2,     -999,9,  16.7668
         OMEX2,   535,  1,      3,19980703, 43.0134,  -9.8031, 3129,     39.1,  16.1690,  35.8110,2,-999.0000,9,    241.1,2,    252.7,2,     0.82,2,     0.18,2,     0.04,2,     0.05,6, 0.0975766,2,   2351.4,2,     -999,9,  16.1628
         OMEX2,   535,  1,      4,19980703, 43.0134,  -9.8031, 3129,     59.4,  14.3450,  35.8230,2,-999.0000,9,    237.9,2,    244.1,2,     0.90,2,     2.25,2,     0.11,2,     0.20,6, 0.0390303,2,   2350.4,2,     -999,9,  14.3363
         OMEX2,   535,  1,      5,19980703, 43.0134,  -9.8031, 3129,     79.9,  13.4050,  35.8130,2,-999.0000,9,    233.7,2,    241.0,2,     1.20,2,     3.68,2,     0.03,2,     0.27,6, 0.0292729,2,   2350.8,2,     -999,9,  13.3937
         OMEX2,   535,  1,      6,19980703, 43.0134,  -9.8031, 3129,    102.4,  13.0630,  35.7840,2,  35.7850,2,    233.6,2,    241.8,2,     1.35,2,     4.20,2,     0.02,2,     0.30,6, 0.0195157,2,   2351.9,2,     -999,9,  13.0488
         OMEX2,   536,  1,      1,19980704, 43.0010, -10.3040, 4314,      8.3,  17.8090,  35.9170,2,  35.9160,2,    232.2,2,    242.9,2,  -999.00,9,  -999.00,9,  -999.00,9,     0.01,2,      -999,9,   2356.6,2,     -999,9,  17.8076
         OMEX2,   536,  1,      2,19980704, 43.0010, -10.3040, 4314,     59.8,  14.5180,  35.8790,2,  35.8700,2,    237.4,2,    239.3,2,  -999.00,9,  -999.00,9,  -999.00,9,     0.14,2,      -999,9,   2356.3,2,     -999,9,  14.5091
         OMEX2,   537,  1,      1,19980704, 43.0105, -10.3041, 4314,     99.1,  13.9050,  35.8930,2,  35.9010,2,    230.6,2,    233.1,2,     1.39,2,     3.61,2,     0.01,2,     0.25,6, 0.0292712,2,   2356.6,2,     -999,9,  13.8907
         OMEX2,   537,  1,      2,19980704, 43.0105, -10.3041, 4314,    149.7,  13.1960,  35.8090,2,-999.0000,9,    222.6,2,    224.2,3,     2.22,2,     6.83,2,     0.03,2,     0.43,6, 0.0487884,2,   2357.9,2,     -999,9,  13.1751
         OMEX2,   537,  1,      3,19980704, 43.0105, -10.3041, 4314,    201.1,  12.5020,  35.7210,2,-999.0000,9,    222.5,2,    228.6,2,     2.66,2,     8.06,2,     0.00,2,     0.50,6, 0.0487916,2,   2348.2,2,     -999,9,  12.4748
         OMEX2,   537,  1,      4,19980704, 43.0105, -10.3041, 4314,    402.4,  11.5830,  35.6400,2,-999.0000,9,    209.7,2,    210.1,2,     4.78,2,    13.06,2,     0.00,2,     0.79,6, 0.0292767,2,   2345.6,2,     -999,9,  11.5309
         OMEX2,   537,  1,      5,19980704, 43.0105, -10.3041, 4314,    604.8,  10.8880,  35.6740,2,-999.0000,9,    201.0,2,    202.9,2,     6.54,2,    14.69,2,     0.00,2,     0.91,6,  0.029276,2,   2350.0,2,     -999,9,  10.8119
         OMEX2,   537,  1,      6,19980704, 43.0105, -10.3041, 4314,    806.7,  10.8240,  35.8870,2,-999.0000,9,    187.7,2,    188.0,2,     7.83,2,    15.31,2,     0.00,2,     0.94,6, 0.0487856,2,   2369.0,2,     -999,9,  10.7218
         OMEX2,   537,  1,      7,19980704, 43.0105, -10.3041, 4314,    908.2,  10.6590,  35.9480,2,-999.0000,9,    185.7,2,    186.6,2,     8.39,2,    15.70,2,     0.00,2,     0.96,6,   0.02927,2,   2371.2,2,     -999,9,  10.5444
         OMEX2,   537,  1,      8,19980704, 43.0105, -10.3041, 4314,   1009.6,  10.4050,  35.9730,2,-999.0000,9,    186.3,2,    187.1,2,     8.96,2,    15.90,2,     0.00,2,     0.97,6, 0.0292695,2,   2374.2,2,     -999,9,  10.2788
         OMEX2,   537,  1,      9,19980704, 43.0105, -10.3041, 4314,   1110.7,   9.8130,  35.9030,2,-999.0000,9,    189.4,2,    191.5,2,     9.52,2,    16.19,2,     0.00,2,     1.00,6,  0.029271,2,   2372.5,2,     -999,9,   9.6782
         OMEX2,   537,  1,     10,19980704, 43.0105, -10.3041, 4314,   1263.1,   8.6340,  35.7260,2,-999.0000,9,    198.3,2,    201.3,2,    10.43,2,    16.88,2,     0.00,2,     1.05,6, 0.0292748,2,   2362.9,2,     -999,9,   8.4905
         OMEX2,   537,  1,     11,19980704, 43.0105, -10.3041, 4314,   1516.5,   5.9680,  35.2980,2,-999.0000,9,    224.1,2,    232.7,2,    12.34,2,    17.68,2,     0.00,2,     1.14,6, 0.0292841,2,   2338.6,2,     -999,9,   5.8233
         OMEX2,   537,  1,     12,19980704, 43.0105, -10.3041, 4314,   1758.7,   4.2370,  35.0420,2,  35.0430,2,    243.8,2,    255.9,2,    13.81,2,    17.73,2,     0.00,2,     1.16,6, 0.0292897,2,   2323.1,2,     -999,9,   4.0894
         OMEX2,   538,  1,      1,19980704, 43.0200, -10.3090, 4314,      7.8,  17.8330,  35.9450,2,  35.9400,2,    226.6,2,    238.5,2,     0.63,2,     0.00,2,     0.00,2,     0.01,6, 0.0487835,2,   2357.5,2, 0.195134,2,  17.8317
         OMEX2,   538,  1,      2,19980704, 43.0200, -10.3090, 4314,     19.5,  17.8330,  35.9450,2,-999.0000,9,    227.3,2,    238.3,2,     0.63,2,     0.00,2,     0.00,2,     0.01,6, 0.0585402,2,   2357.5,2,0.0195134,2,  17.8297
         OMEX2,   538,  1,      3,19980704, 43.0200, -10.3090, 4314,     38.8,  14.9470,  35.9530,2,-999.0000,9,    231.4,2,    240.8,2,     0.79,2,     0.67,2,     0.09,2,     0.09,6, 0.0682964,2,   2359.1,2, 0.360995,2,  14.9411
         OMEX2,   538,  1,      4,19980704, 43.0200, -10.3090, 4314,     59.1,  14.3310,  35.9430,2,-999.0000,9,    227.0,2,    234.5,2,     1.06,2,     2.27,2,     0.02,2,     0.18,6, 0.0292701,2,   2359.4,2, 0.302458,2,  14.3223
         OMEX2,   538,  1,      5,19980704, 43.0200, -10.3090, 4314,     81.4,  14.1720,  35.9320,2,  35.9310,2,    226.3,2,    227.4,2,     1.17,2,     2.67,2,     0.01,2,     0.20,6, 0.0487839,2,   2358.5,2, 0.361001,2,  14.1601
         OMEX2,   539,  1,      1,19980704, 43.0039, -10.0187, 4314,      9.0,  17.6010,  35.8270,2,  35.8260,2,    231.8,2,    245.4,2,     0.51,2,     0.00,2,     0.00,2,     0.02,6, 0.0292726,2,   2352.6,2,     -999,9,  17.5995
         OMEX2,   539,  1,      2,19980704, 43.0039, -10.0187, 4314,     19.5,  17.5850,  35.8280,2,-999.0000,9,    232.0,2,    244.5,2,     0.51,2,     0.01,2,     0.00,2,     0.02,6, 0.0390302,2,   2352.6,2,     -999,9,  17.5817
         OMEX2,   539,  1,      3,19980704, 43.0039, -10.0187, 4314,     39.2,  15.8170,  35.8870,2,-999.0000,9,    234.7,2,    257.9,2,     0.66,2,     0.00,2,     0.00,2,     0.03,6, 0.0292713,2,   2355.7,2,     -999,9,  15.8108
         OMEX2,   539,  1,      4,19980704, 43.0039, -10.0187, 4314,     59.4,  14.6280,  35.8630,2,-999.0000,9,    238.2,2,    245.5,2,     0.87,2,     1.05,2,     0.14,2,     0.12,6, 0.0487864,2,   2354.2,2,     -999,9,  14.6191
         OMEX2,   539,  1,      5,19980704, 43.0039, -10.0187, 4314,     79.3,  13.6120,  35.8230,2,-999.0000,9,    229.8,2,    237.5,2,     1.24,2,     3.69,2,     0.01,2,     0.25,6, 0.0195151,2,   2352.8,2,     -999,9,  13.6007
         OMEX2,   539,  1,      6,19980704, 43.0039, -10.0187, 4314,    101.1,  13.2110,  35.7980,2,  35.7960,2,    228.0,2,    235.3,2,     1.61,2,     4.83,2,     0.01,2,     0.31,6, 0.0292733,2,   2350.9,2,     -999,9,  13.1969
         OMEX2,   540,  1,      1,19980704, 43.0351, -10.0290, 4314,    151.0,  12.7200,  35.7470,2,  35.7350,2,    229.1,2,    241.6,2,     2.00,2,     5.96,2,     0.01,2,     0.38,6,0.00975813,2,   2347.1,2,     -999,9,  12.6994
         OMEX2,   540,  1,      2,19980704, 43.0351, -10.0290, 4314,    200.8,  12.3000,  35.6980,2,-999.0000,9,    222.1,2,    233.3,2,     2.77,2,     8.25,2,     0.00,2,     0.51,6,0.00975848,2,   2344.3,2,     -999,9,  12.2732
         OMEX2,   540,  1,      3,19980704, 43.0351, -10.0290, 4314,    302.1,  11.7350,  35.6270,2,-999.0000,9,    212.8,2,    218.2,2,     4.04,2,    11.88,2,     0.00,2,     0.72,6,0.00975899,2,   2340.6,2,     -999,9,  11.6957
         OMEX2,   540,  1,      4,19980704, 43.0351, -10.0290, 4314,    401.3,  11.2640,  35.6030,2,-999.0000,9,    206.2,2,    211.1,2,     4.90,2,    13.25,2,     0.00,2,     0.79,6,0.00975917,2,   2342.8,2,     -999,9,  11.2130
         OMEX2,   540,  1,      5,19980704, 43.0351, -10.0290, 4314,    505.4,  11.1410,  35.6390,2,-999.0000,9,    200.9,2,    203.5,2,     5.88,2,    14.37,2,     0.00,2,     0.88,6,0.00975891,2,   2346.8,2,     -999,9,  11.0768
         OMEX2,   540,  1,      6,19980704, 43.0351, -10.0290, 4314,    605.6,  11.2260,  35.7620,2,-999.0000,9,    192.6,2,    195.6,2,     6.52,2,    14.84,2,     0.00,2,     0.89,6,0.00975802,2,   2354.8,2,     -999,9,  11.1483
         OMEX2,   540,  1,      7,19980704, 43.0351, -10.0290, 4314,    705.4,  11.3630,  35.8910,2,-999.0000,9,    187.5,2,    191.1,2,     7.03,2,    14.81,2,     0.00,2,     0.88,6,0.00975708,2,   2364.8,2,     -999,9,  11.2713
         OMEX2,   540,  1,      8,19980704, 43.0351, -10.0290, 4314,    804.2,  11.4770,  36.0450,2,-999.0000,9,    183.5,2,    187.4,2,     7.42,2,    14.73,2,     0.00,2,     0.88,6,0.00975597,2,   2381.8,2,     -999,9,  11.3713
         OMEX2,   540,  1,      9,19980704, 43.0351, -10.0290, 4314,    907.7,  11.1850,  36.0460,2,-999.0000,9,    181.8,2,    184.9,2,     8.03,2,    15.21,2,     0.00,2,     0.91,6,0.00975596,2,   2383.0,2,     -999,9,  11.0670
         OMEX2,   540,  1,     10,19980704, 43.0351, -10.0290, 4314,   1009.5,  10.9700,  36.0830,2,  36.0810,2,    181.4,2,    186.0,2,     8.51,2,    15.35,2,     0.00,2,     0.92,6,0.00975569,2,   2391.0,2,     -999,9,  10.8397
         OMEX2,   541,  1,      1,19980704, 42.8318,  -9.6332, 2059,    808.3,  11.3310,  36.0680,2,  36.0700,2,    183.2,2,   -999.0,9,  -999.00,9,  -999.00,9,  -999.00,9,  -999.00,9,      -999,9,   -999.0,9,     -999,9,  11.2255
         OMEX2,   542,  1,      1,19980705, 42.6539, -10.3139, 3349,      8.7,  17.8460,  35.8670,2,  35.8680,2,    228.9,2,    244.6,2,  -999.00,9,  -999.00,9,  -999.00,9,     0.02,2,      -999,9,   2347.5,2,     -999,9,  17.8445
         OMEX2,   542,  1,      2,19980705, 42.6539, -10.3139, 3349,     59.3,  14.5660,  35.8490,2,  35.8440,2,    236.1,2,    242.9,2,  -999.00,9,  -999.00,9,  -999.00,9,     0.17,2,      -999,9,   2351.2,2,     -999,9,  14.5572