BOTTLE,20090114PRINUNIVRMKPRINUNIVRMK
EXPOCODE,STNNBR,CASTNO,BTLNBR,DATE,LATITUDE,LONGITUDE,DEPTH,CTDPRS,CTDTMP,CTDSAL,CTDSAL_FLAG_W,SALNTY,SALNTY_FLAG_W,CTDOXY,CTDOXY_FLAG_W,OXYGEN,OXYGEN_FLAG_W,SILCAT,SILCAT_FLAG_W,NITRAT,NITRAT_FLAG_W,NITRIT,NITRIT_FLAG_W,PHSPHT,PHSPHT_FLAG_W,AMMONI,AMMONI_FLAG_W,ALKALI,ALKALI_FLAG_W,UREA,UREA_FLAG_W,THETA
,,,,,,,METERS,DBARS,ITS-90,PSS-78,,PSS-78,,UMOL/KG,,UMOL/KG,,UMOL/KG,,UMOL/KG,,UMOL/KG,,UMOL/KG,,UMOL/KG,,UMOL/KG,,UMOL/KG,,DEGC
         OMEX2,   543,  1,      1,19980705, 42.6654, -10.3197, 3349,     99.8,  13.2140,  35.8050,2,  35.7960,2,    228.0,2,    240.5,2,     1.89,2,     5.87,2,     0.00,2,     0.37,6, 0.0292731,2,   2350.0,2,0.0195154,2,  13.2001
         OMEX2,   543,  1,      2,19980705, 42.6654, -10.3197, 3349,    150.3,  12.6910,  35.7460,2,-999.0000,9,    224.4,2,    235.0,2,     2.32,2,     7.34,2,     0.00,2,     0.45,6, 0.0292744,2,   2345.2,2,     -999,9,  12.6705
         OMEX2,   543,  1,      3,19980705, 42.6654, -10.3197, 3349,    200.8,  12.4630,  35.7170,2,-999.0000,9,    225.5,2,    234.6,2,     2.52,2,     7.71,2,     0.00,2,     0.48,6,  0.029275,2,   2345.2,2,     -999,9,  12.4359
         OMEX2,   543,  1,      4,19980705, 42.6654, -10.3197, 3349,    402.6,  11.3340,  35.5990,2,-999.0000,9,    213.1,2,    217.7,2,     4.54,2,    12.79,2,     0.00,2,     0.76,6,  0.048796,2,   2340.7,2,     -999,9,  11.2826
         OMEX2,   543,  1,      5,19980705, 42.6654, -10.3197, 3349,    604.5,  10.8260,  35.6720,2,-999.0000,9,    198.6,2,    200.3,2,     6.82,2,    15.16,2,     0.00,2,     0.91,6, 0.0390347,2,   2352.0,2,     -999,9,  10.7503
         OMEX2,   543,  1,      6,19980705, 42.6654, -10.3197, 3349,    807.9,  10.7350,  35.9160,2,-999.0000,9,    186.0,2,    189.2,2,     8.19,2,    15.80,2,     0.00,2,     0.96,6, 0.0292707,2,   2367.1,2,     -999,9,  10.6331
         OMEX2,   543,  1,      7,19980705, 42.6654, -10.3197, 3349,    908.5,  10.9030,  36.0450,2,-999.0000,9,    184.6,2,    187.9,2,     8.45,2,    15.49,2,     0.00,2,     0.93,6, 0.0585358,2,   2383.1,2,     -999,9,  10.7867
         OMEX2,   543,  1,      8,19980705, 42.6654, -10.3197, 3349,   1008.5,  10.6080,  36.0480,2,-999.0000,9,    185.3,2,    190.0,2,     8.88,2,    15.82,2,     0.00,2,     0.94,6, 0.0390238,2,   2385.2,2,     -999,9,  10.4804
         OMEX2,   543,  1,      9,19980705, 42.6654, -10.3197, 3349,   1110.6,  10.2700,  36.0120,2,-999.0000,9,    187.3,2,    191.9,2,     9.19,2,    15.96,2,     0.00,2,     0.95,6, 0.0390248,2,   2385.3,2,     -999,9,  10.1315
         OMEX2,   543,  1,     10,19980705, 42.6654, -10.3197, 3349,   1262.0,   9.4540,  35.8810,2,-999.0000,9,    192.7,2,    199.5,2,     9.92,2,    16.60,2,     0.00,2,     1.00,6, 0.0487858,2,   2368.6,2,     -999,9,   9.3030
         OMEX2,   543,  1,     11,19980705, 42.6654, -10.3197, 3349,   1515.7,   5.6380,  35.2310,2,-999.0000,9,    225.6,2,    238.1,2,    12.14,2,    17.92,2,     0.00,2,     1.13,6, 0.0488093,2,   2339.7,2,     -999,9,   5.4972
         OMEX2,   543,  1,     12,19980705, 42.6654, -10.3197, 3349,   1752.4,   4.1380,  35.0120,2,  35.0110,2,    245.5,2,    261.1,2,    12.89,2,    17.87,2,     0.00,2,     1.14,6, 0.0488172,2,   2315.0,2,     -999,9,   3.9924
         OMEX2,   544,  1,      1,19980705, 42.6741, -10.3173, 3349,      9.6,  17.8070,  35.8770,2,  35.8770,2,    228.8,2,    241.3,2,     0.63,2,     0.01,2,     0.00,2,     0.01,6, 0.0487859,2,   2351.6,2,0.0292716,2,  17.8054
         OMEX2,   544,  1,      2,19980705, 42.6741, -10.3173, 3349,     18.8,  17.8030,  35.8780,2,-999.0000,9,    229.4,2,    240.6,2,     0.63,2,     0.01,2,     0.00,2,     0.01,6, 0.0487859,2,   2352.6,2,0.0195144,2,  17.7998
         OMEX2,   544,  1,      3,19980705, 42.6741, -10.3173, 3349,     39.2,  16.5810,  35.8420,2,-999.0000,9,    230.2,2,    248.5,2,     0.71,2,     0.04,2,     0.00,2,     0.02,6, 0.0683021,2,   2351.0,2,0.0292723,2,  16.5746
         OMEX2,   544,  1,      4,19980705, 42.6741, -10.3173, 3349,     60.0,  13.8730,  35.8490,2,-999.0000,9,    230.8,2,    238.3,2,     1.14,2,     2.93,2,     0.03,2,     0.22,6, 0.0487869,2,   2352.6,2,0.0195148,2,  13.8644
         OMEX2,   544,  1,      5,19980705, 42.6741, -10.3173, 3349,     80.7,  13.4000,  35.8200,2,  35.8190,2,    228.7,2,    237.7,2,     1.41,2,     4.23,2,     0.00,2,     0.29,6, 0.0390304,2,   2350.8,2,0.0195152,2,  13.3886
         OMEX2,   545,  1,      1,19980705, 42.6729,  -9.9955, 2059,    100.3,  13.2020,  35.7810,2,  35.7670,2,    233.0,2,    245.2,2,     1.36,2,     4.24,2,     0.00,2,     0.30,6, 0.0390315,2,   2350.9,2,     -999,9,  13.1880
         OMEX2,   545,  1,      2,19980705, 42.6729,  -9.9955, 2059,    150.5,  12.6680,  35.7340,2,-999.0000,9,    233.9,2,    244.3,2,     1.72,2,     5.40,2,     0.00,2,     0.35,6, 0.0390329,2,   2347.1,2,     -999,9,  12.6475
         OMEX2,   545,  1,      3,19980705, 42.6729,  -9.9955, 2059,    201.2,  12.3620,  35.7020,2,-999.0000,9,    235.2,2,    244.9,2,     2.19,2,     6.69,2,     0.00,2,     0.42,6, 0.0585507,2,   2346.3,2,     -999,9,  12.3350
         OMEX2,   545,  1,      4,19980705, 42.6729,  -9.9955, 2059,    402.9,  11.4140,  35.6250,2,-999.0000,9,    206.4,2,    212.1,2,     4.89,2,    13.37,2,     0.00,2,     0.82,6,  0.058554,2,   2343.7,2,     -999,9,  11.3623
         OMEX2,   545,  1,      5,19980705, 42.6729,  -9.9955, 2059,    605.4,  11.2350,  35.7730,2,-999.0000,9,    193.1,2,    194.8,2,     6.40,2,    14.78,2,     0.00,2,     0.90,6, 0.0585476,2,   2354.8,2,     -999,9,  11.1573
         OMEX2,   545,  1,      6,19980705, 42.6729,  -9.9955, 2059,    807.1,  11.2660,  36.0210,2,-999.0000,9,    183.5,2,    187.3,2,     7.52,2,    15.09,2,     0.00,2,     0.91,6, 0.0390246,2,   2378.9,2,     -999,9,  11.1611
         OMEX2,   545,  1,      7,19980705, 42.6729,  -9.9955, 2059,    908.3,  11.0400,  36.0500,2,-999.0000,9,    182.8,2,    187.5,2,     8.05,2,    15.40,2,     0.00,2,     0.92,6, 0.0390237,2,   2385.0,2,     -999,9,  10.9228
         OMEX2,   545,  1,      8,19980705, 42.6729,  -9.9955, 2059,   1009.5,  10.6690,  36.0350,2,-999.0000,9,    183.7,2,    188.8,2,     8.74,2,    15.92,2,     0.00,2,     0.95,6, 0.0390242,2,   2385.2,2,     -999,9,  10.5408
         OMEX2,   545,  1,      9,19980705, 42.6729,  -9.9955, 2059,   1111.3,  10.1720,  35.9940,2,-999.0000,9,    186.4,2,    192.4,2,     9.35,2,    16.23,2,     0.00,2,     0.98,6, 0.0390253,2,   2383.4,2,     -999,9,  10.0342
         OMEX2,   545,  1,     10,19980705, 42.6729,  -9.9955, 2059,   1262.8,   9.2510,  35.8840,2,-999.0000,9,    192.5,2,    200.7,2,     9.84,2,    16.54,2,     0.00,2,     1.00,6, 0.0390285,2,   2371.7,2,     -999,9,   9.1017
         OMEX2,   545,  1,     11,19980705, 42.6729,  -9.9955, 2059,   1514.7,   6.7510,  35.4560,2,-999.0000,9,    214.6,2,    225.7,2,    11.81,2,    17.41,2,     0.00,2,     1.10,6, 0.0390409,2,   2349.5,2,     -999,9,   6.5975
         OMEX2,   545,  1,     12,19980705, 42.6729,  -9.9955, 2059,   1749.7,   4.5700,  35.0980,2,  35.0830,2,    236.9,2,    252.7,2,    14.11,2,    17.93,2,     0.00,2,     1.17,6, 0.0390513,2,   2319.9,2,     -999,9,   4.4189
         OMEX2,   546,  1,      1,19980705, 42.6737,  -9.9917, 2059,      9.4,  17.1020,  35.7940,2,  35.7920,2,    230.1,2,    249.7,2,     0.84,2,     0.02,2,     0.00,2,     0.02,6, 0.0195156,2,   2347.9,2,     -999,9,  17.1004
         OMEX2,   546,  1,      2,19980705, 42.6737,  -9.9917, 2059,     19.3,  17.0280,  35.7910,2,-999.0000,9,    231.1,2,    254.4,2,     0.84,2,     0.01,2,     0.00,2,     0.03,6, 0.0585468,2,   2347.9,2,     -999,9,  17.0248
         OMEX2,   546,  1,      3,19980705, 42.6737,  -9.9917, 2059,     39.5,  16.8480,  35.7950,2,-999.0000,9,    231.9,2,    255.8,2,     0.79,2,     0.47,2,     0.06,2,     0.08,6,  0.156124,2,   2349.1,2,     -999,9,  16.8415
         OMEX2,   546,  1,      4,19980705, 42.6737,  -9.9917, 2059,     59.5,  14.8900,  35.8060,2,-999.0000,9,    235.7,2,    248.8,2,     0.95,2,     2.03,2,     0.14,2,     0.18,6, 0.0585462,2,   2350.1,2,     -999,9,  14.8810
         OMEX2,   546,  1,      5,19980705, 42.6737,  -9.9917, 2059,     80.4,  13.4230,  35.7860,2,  35.7810,2,    230.4,2,    246.6,2,     1.02,2,     2.71,2,     0.08,2,     0.22,6, 0.0585471,2,   2349.8,2,     -999,9,  13.4117
         OMEX2,   547,  1,      1,19980705, 42.8318,  -9.7690, 2059,   1765.6,   4.9490,  35.1780,2,  35.1780,2,    230.0,2,   -999.0,9,  -999.00,9,  -999.00,9,  -999.00,9,  -999.00,9,      -999,9,   -999.0,9,     -999,9,   4.7911
         OMEX2,   548,  1,      1,19980706, 43.0001,  -9.3988, 1801,      8.9,  13.4260,  35.6870,2,  35.6860,2,    228.1,2,    241.5,2,  -999.00,9,  -999.00,9,  -999.00,9,     0.42,2,      -999,9,   2345.8,2,     -999,9,  13.4248
         OMEX2,   548,  1,      2,19980706, 43.0001,  -9.3988, 1801,     39.4,  12.9970,  35.7100,2,  35.7020,2,    219.7,2,    232.4,2,  -999.00,9,  -999.00,9,  -999.00,9,     0.48,2,      -999,9,   2349.0,2,     -999,9,  12.9916
         OMEX2,   549,  1,      1,19980706, 42.9978,  -9.4008,  321,      9.1,  13.4140,  35.6880,2,  35.6900,2,    227.2,2,    240.3,2,     3.03,2,     7.34,2,     0.22,2,     0.46,6, 0.0487928,2,   2345.8,2,     -999,9,  13.4127
         OMEX2,   549,  1,      2,19980706, 42.9978,  -9.4008,  321,     19.1,  13.3780,  35.6910,2,-999.0000,9,    226.0,2,    230.6,2,     3.03,2,     7.65,2,     0.20,2,     0.48,6, 0.0878268,2,   2344.8,2,     -999,9,  13.3753
         OMEX2,   549,  1,      3,19980706, 42.9978,  -9.4008,  321,     39.3,  13.2060,  35.6950,2,-999.0000,9,    222.6,2,    230.6,2,     2.99,2,     7.67,2,     0.19,2,     0.48,6,  0.078068,2,   2346.9,2,     -999,9,  13.2005
         OMEX2,   549,  1,      4,19980706, 42.9978,  -9.4008,  321,     59.7,  13.0590,  35.7070,2,-999.0000,9,    219.9,2,    232.3,2,     3.00,2,     7.85,2,     0.19,2,     0.48,6, 0.0878257,2,   2345.9,2,     -999,9,  13.0508
         OMEX2,   549,  1,      5,19980706, 42.9978,  -9.4008,  321,     80.3,  12.7660,  35.7240,2,-999.0000,9,    216.2,2,    227.4,2,     2.80,2,     7.86,2,     0.08,2,     0.48,6, 0.0195166,2,   2347.1,2,     -999,9,  12.7551
         OMEX2,   549,  1,      6,19980706, 42.9978,  -9.4008,  321,     99.8,  12.5610,  35.7190,2,-999.0000,9,    211.5,2,    218.8,2,     3.68,2,     9.64,2,     0.14,2,     0.58,6,  0.107342,2,   2346.2,2,     -999,9,  12.5475
         OMEX2,   549,  1,      7,19980706, 42.9978,  -9.4008,  321,    120.4,  12.4430,  35.7140,2,  35.7120,2,    204.2,2,    212.6,2,     4.12,2,    10.38,2,     0.14,2,     0.63,6,  0.136617,2,   2347.3,2,     -999,9,  12.4268
         OMEX2,   550,  1,      1,19980706, 43.0045,  -9.6435, 3129,   1483.4,   9.0620,  35.8670,2,  35.8650,2,    195.8,2,   -999.0,9,  -999.00,9,  -999.00,9,  -999.00,9,  -999.00,9,      -999,9,   -999.0,9,     -999,9,   8.8867
         OMEX2,   551,  1,      1,19980706, 43.0005,  -9.5165, 3129,    201.4,  12.0450,  35.6800,2,  35.6790,2,    207.5,2,   -999.0,9,  -999.00,9,  -999.00,9,  -999.00,9,  -999.00,9,      -999,9,   -999.0,9,     -999,9,  12.0185
         OMEX2,   601,  1,      1,19980711, 47.2800,  -7.3420,  469,    302.0,  11.5550,  35.6160,2,  35.6160,2,    242.1,2,   -999.0,9,  -999.00,9,  -999.00,9,  -999.00,9,  -999.00,9,      -999,9,   -999.0,9,     -999,9,  11.5161
         OMEX2,   602,  1,      1,19980711, 47.3424,  -7.3073,  469,    301.9,  11.5340,  35.6090,2,  35.6100,2,    246.7,2,   -999.0,9,  -999.00,9,  -999.00,9,  -999.00,9,  -999.00,9,      -999,9,   -999.0,9,     -999,9,  11.4952
         OMEX2,   603,  1,      1,19980711, 47.3996,  -7.2763,  469,    303.3,  11.5020,  35.5970,2,  35.5980,2,    231.9,2,   -999.0,9,  -999.00,9,  -999.00,9,  -999.00,9,  -999.00,9,      -999,9,   -999.0,9,     -999,9,  11.4631
         OMEX2,   604,  1,      1,19980711, 47.4643,  -7.2310,  469,    302.3,  11.3710,  35.5880,2,  35.5870,2,    230.3,2,   -999.0,9,  -999.00,9,  -999.00,9,  -999.00,9,  -999.00,9,      -999,9,   -999.0,9,     -999,9,  11.3325
         OMEX2,   605,  1,      1,19980711, 47.5187,  -7.1916,  717,      8.4,  15.7710,  35.5880,2,-999.0000,9,    256.0,2,   -999.0,9,  -999.00,9,  -999.00,9,  -999.00,9,  -999.00,9,      -999,9,   -999.0,9,     -999,9,  15.7697
         OMEX2,   605,  1,      2,19980711, 47.5187,  -7.1916,  717,     18.9,  15.7710,  35.5880,2,-999.0000,9,    256.8,2,    256.8,2,  -999.00,9,  -999.00,9,  -999.00,9,     0.02,2,      -999,9,   2341.6,2,     -999,9,  15.7680
         OMEX2,   605,  1,      3,19980711, 47.5187,  -7.1916,  717,     38.9,  15.2230,  35.6120,2,-999.0000,9,    255.3,2,    252.0,2,  -999.00,9,  -999.00,9,  -999.00,9,     0.14,2,      -999,9,   2343.9,2,     -999,9,  15.2170
         OMEX2,   605,  1,      4,19980711, 47.5187,  -7.1916,  717,     58.2,  13.2940,  35.6670,2,-999.0000,9,    248.1,2,    246.3,2,  -999.00,9,  -999.00,9,  -999.00,9,     0.31,2,      -999,9,   2347.8,2,     -999,9,  13.2859
         OMEX2,   605,  1,      5,19980711, 47.5187,  -7.1916,  717,     79.8,  12.4750,  35.6620,2,-999.0000,9,    244.0,2,    244.4,2,  -999.00,9,  -999.00,9,  -999.00,9,     0.33,2,      -999,9,   2347.3,2,     -999,9,  12.4643
         OMEX2,   605,  1,      6,19980711, 47.5187,  -7.1916,  717,     99.8,  12.2800,  35.6590,2,-999.0000,9,    242.8,2,    242.5,2,  -999.00,9,  -999.00,9,  -999.00,9,     0.39,2,      -999,9,   2345.3,2,     -999,9,  12.2667
         OMEX2,   605,  1,      7,19980711, 47.5187,  -7.1916,  717,    150.2,  12.0770,  35.6700,2,-999.0000,9,    245.4,2,    243.4,2,  -999.00,9,  -999.00,9,  -999.00,9,     0.41,2,      -999,9,   2345.4,2,     -999,9,  12.0572
         OMEX2,   605,  1,      8,19980711, 47.5187,  -7.1916,  717,    200.6,  11.7730,  35.6410,2,-999.0000,9,    244.7,2,    241.2,2,  -999.00,9,  -999.00,9,  -999.00,9,     0.52,2,      -999,9,   2344.6,2,     -999,9,  11.7470
         OMEX2,   605,  1,      9,19980711, 47.5187,  -7.1916,  717,    403.4,  11.2630,  35.6010,2,-999.0000,9,    228.8,2,    229.2,2,  -999.00,9,  -999.00,9,  -999.00,9,     0.63,2,      -999,9,   2343.8,2,     -999,9,  11.2117
         OMEX2,   605,  1,     10,19980711, 47.5187,  -7.1916,  717,    603.6,  10.7960,  35.5860,2,-999.0000,9,    215.3,2,    216.8,2,  -999.00,9,  -999.00,9,  -999.00,9,     0.79,2,      -999,9,   2345.0,2,     -999,9,  10.7206
         OMEX2,   605,  1,     11,19980711, 47.5187,  -7.1916,  717,    707.4,  10.4970,  35.6030,2,  35.6210,2,    205.2,2,    205.2,2,  -999.00,9,  -999.00,9,  -999.00,9,     0.88,2,      -999,9,   2349.1,2,     -999,9,  10.4097
         OMEX2,   606,  1,      1,19980711, 47.5152,  -7.2186,  312,      8.3,  15.6290,  35.5810,2,-999.0000,9,    254.3,2,    256.5,2,  -999.00,9,  -999.00,9,  -999.00,9,     0.02,2,      -999,9,   2341.6,2,     -999,9,  15.6277
         OMEX2,   606,  1,      2,19980711, 47.5152,  -7.2186,  312,     18.8,  15.5050,  35.5840,2,-999.0000,9,    254.7,2,    255.0,2,  -999.00,9,  -999.00,9,  -999.00,9,     0.06,2,      -999,9,   -999.0,9,     -999,9,  15.5021
         OMEX2,   606,  1,      3,19980711, 47.5152,  -7.2186,  312,     40.9,  14.0470,  35.6360,2,-999.0000,9,    249.0,2,    247.4,2,  -999.00,9,  -999.00,9,  -999.00,9,     0.19,2,      -999,9,   -999.0,9,     -999,9,  14.0411
         OMEX2,   606,  1,      4,19980711, 47.5152,  -7.2186,  312,     60.7,  13.5660,  35.6510,2,-999.0000,9,    247.1,2,    247.1,2,  -999.00,9,  -999.00,9,  -999.00,9,     0.23,2,      -999,9,   -999.0,9,     -999,9,  13.5574
         OMEX2,   606,  1,      5,19980711, 47.5152,  -7.2186,  312,     80.0,  13.2550,  35.6510,2,-999.0000,9,    246.7,2,    245.0,2,  -999.00,9,  -999.00,9,  -999.00,9,     0.31,2,      -999,9,   -999.0,9,     -999,9,  13.2438
         OMEX2,   606,  1,      6,19980711, 47.5152,  -7.2186,  312,    100.4,  12.6830,  35.6580,2,-999.0000,9,    242.9,2,    240.9,2,  -999.00,9,  -999.00,9,  -999.00,9,     0.36,2,      -999,9,   -999.0,9,     -999,9,  12.6694
         OMEX2,   606,  1,      7,19980711, 47.5152,  -7.2186,  312,    200.4,  11.9930,  35.6440,2,-999.0000,9,    237.7,2,    237.0,2,  -999.00,9,  -999.00,9,  -999.00,9,     0.47,2,      -999,9,   -999.0,9,     -999,9,  11.9667
         OMEX2,   606,  1,      8,19980711, 47.5152,  -7.2186,  312,    302.4,  11.7660,  35.6340,2,  35.6360,2,    235.3,2,    234.5,2,  -999.00,9,  -999.00,9,  -999.00,9,     0.52,2,      -999,9,   -999.0,9,     -999,9,  11.7266
         OMEX2,   607,  1,      1,19980711, 47.5207,  -7.2094,  313,    303.2,  11.6450,  35.6290,2,  35.6280,2,    232.4,2,   -999.0,9,  -999.00,9,  -999.00,9,  -999.00,9,  -999.00,9,      -999,9,   -999.0,9,     -999,9,  11.6058
         OMEX2,   608,  1,      1,19980711, 47.5248,  -7.2171,  314,    303.7,  11.5500,  35.6240,2,  35.6280,2,    230.8,2,   -999.0,9,  -999.00,9,  -999.00,9,  -999.00,9,  -999.00,9,      -999,9,   -999.0,9,     -999,9,  11.5109
         OMEX2,   609,  1,      1,19980711, 47.5232,  -7.2071,  312,      8.6,  15.6770,  35.5840,2,-999.0000,9,    253.7,2,   -999.0,9,  -999.00,9,  -999.00,9,  -999.00,9,     0.03,2,      -999,9,   -999.0,9,     -999,9,  15.6757
         OMEX2,   609,  1,      2,19980711, 47.5232,  -7.2071,  312,     19.3,  15.0890,  35.6010,2,-999.0000,9,    252.7,2,   -999.0,9,  -999.00,9,  -999.00,9,  -999.00,9,     0.08,2,      -999,9,   -999.0,9,     -999,9,  15.0861
         OMEX2,   609,  1,      3,19980711, 47.5232,  -7.2071,  312,     39.3,  14.4230,  35.6320,2,-999.0000,9,    250.8,2,   -999.0,9,  -999.00,9,  -999.00,9,  -999.00,9,     0.23,2,      -999,9,   -999.0,9,     -999,9,  14.4172
         OMEX2,   609,  1,      4,19980711, 47.5232,  -7.2071,  312,     58.2,  13.4690,  35.6590,2,-999.0000,9,    245.6,2,   -999.0,9,  -999.00,9,  -999.00,9,  -999.00,9,     0.31,2,      -999,9,   -999.0,9,     -999,9,  13.4608
         OMEX2,   609,  1,      5,19980711, 47.5232,  -7.2071,  312,     80.7,  12.7350,  35.6640,2,-999.0000,9,    241.7,2,   -999.0,9,  -999.00,9,  -999.00,9,  -999.00,9,     0.35,2,      -999,9,   -999.0,9,     -999,9,  12.7240
         OMEX2,   609,  1,      6,19980711, 47.5232,  -7.2071,  312,    101.0,  12.4500,  35.6560,2,-999.0000,9,    239.9,2,   -999.0,9,  -999.00,9,  -999.00,9,  -999.00,9,     0.39,2,      -999,9,   -999.0,9,     -999,9,  12.4365
         OMEX2,   609,  1,      7,19980711, 47.5232,  -7.2071,  312,    201.7,  11.8430,  35.6410,2,-999.0000,9,    235.0,2,   -999.0,9,  -999.00,9,  -999.00,9,  -999.00,9,     0.51,2,      -999,9,   -999.0,9,     -999,9,  11.8167
         OMEX2,   609,  1,      8,19980711, 47.5232,  -7.2071,  312,    302.4,  11.4450,  35.6180,2,  35.6180,2,    229.6,2,   -999.0,9,  -999.00,9,  -999.00,9,  -999.00,9,     0.59,2,      -999,9,   -999.0,9,     -999,9,  11.4063
         OMEX2,   610,  1,      1,19980711, 47.5253,  -7.2028,  312,    301.9,  11.3380,  35.6110,2,  35.6110,2,    226.6,2,   -999.0,9,  -999.00,9,  -999.00,9,  -999.00,9,  -999.00,9,      -999,9,   -999.0,9,     -999,9,  11.2996
         OMEX2,   611,  1,      1,19980711, 47.5267,  -7.2056,  312,    302.1,  11.3950,  35.6150,2,  35.6140,2,    228.3,2,   -999.0,9,  -999.00,9,  -999.00,9,  -999.00,9,  -999.00,9,      -999,9,   -999.0,9,     -999,9,  11.3565