BOTTLE,20090114PRINUNIVRMKPRINUNIVRMK
EXPOCODE,STNNBR,CASTNO,BTLNBR,DATE,LATITUDE,LONGITUDE,DEPTH,CTDPRS,CTDTMP,CTDSAL,CTDSAL_FLAG_W,SALNTY,SALNTY_FLAG_W,CTDOXY,CTDOXY_FLAG_W,OXYGEN,OXYGEN_FLAG_W,SILCAT,SILCAT_FLAG_W,NITRAT,NITRAT_FLAG_W,NITRIT,NITRIT_FLAG_W,PHSPHT,PHSPHT_FLAG_W,AMMONI,AMMONI_FLAG_W,ALKALI,ALKALI_FLAG_W,UREA,UREA_FLAG_W,THETA
,,,,,,,METERS,DBARS,ITS-90,PSS-78,,PSS-78,,UMOL/KG,,UMOL/KG,,UMOL/KG,,UMOL/KG,,UMOL/KG,,UMOL/KG,,UMOL/KG,,UMOL/KG,,UMOL/KG,,DEGC
         OMEX2,   516,  1,      1,19980630, 42.6687,  -9.2137,  321,      8.7,  14.5530,  35.5550,2,  35.5870,2,    268.8,2,    265.5,2,     1.21,2,     1.10,2,     0.09,2,     0.17,6, 0.0683166,2,   2352.2,3,     -999,9,  14.5517
         OMEX2,   516,  1,      2,19980630, 42.6687,  -9.2137,  321,     19.3,  14.0330,  35.6620,2,-999.0000,9,    263.0,2,    244.2,2,     2.01,2,     3.57,2,     0.11,2,     0.26,6, 0.0683112,2,   2338.5,2,     -999,9,  14.0302
         OMEX2,   516,  1,      3,19980630, 42.6687,  -9.2137,  321,     39.0,  13.0490,  35.7270,2,-999.0000,9,    231.9,2,    222.8,2,     2.79,2,     7.16,2,     0.06,2,     0.46,6, 0.0292748,2,   2339.0,2,     -999,9,  13.0436
         OMEX2,   516,  1,      4,19980630, 42.6687,  -9.2137,  321,     60.4,  12.6550,  35.7330,2,-999.0000,9,    229.6,2,    220.9,2,     3.20,2,     8.31,2,     0.08,2,     0.53,6, 0.0585494,2,   2340.1,2,     -999,9,  12.6468
         OMEX2,   516,  1,      5,19980630, 42.6687,  -9.2137,  321,     81.4,  12.5290,  35.7290,2,-999.0000,9,    225.0,2,    216.1,2,     4.07,2,     9.09,2,     0.13,2,     0.60,6, 0.0585495,2,   2342.2,2,     -999,9,  12.5180
         OMEX2,   516,  1,      6,19980630, 42.6687,  -9.2137,  321,     91.1,  12.5270,  35.7280,2,  35.7270,2,    223.0,2,    215.1,2,     3.87,2,     9.06,2,     0.13,2,     0.59,6, 0.0780661,2,   2343.2,2,     -999,9,  12.5147
         OMEX2,   517,  1,      1,19980630, 42.6649,  -9.5053, 2059,      9.2,  15.5350,  35.7310,2,  35.7200,2,    257.0,2,    260.7,2,     1.14,2,     0.37,2,     0.06,2,     0.07,6,  0.039033,2,   2343.7,2,     -999,9,  15.5336
         OMEX2,   517,  1,      2,19980630, 42.6649,  -9.5053, 2059,     18.8,  15.3470,  35.7540,2,-999.0000,9,    257.1,2,    258.7,2,     1.11,2,     0.36,2,     0.06,2,     0.06,6, 0.0487904,2,   2343.9,2,     -999,9,  15.3441
         OMEX2,   517,  1,      3,19980630, 42.6649,  -9.5053, 2059,     39.9,  14.5540,  35.7890,2,-999.0000,9,    248.6,2,    250.4,2,     1.08,2,     0.69,2,     0.08,2,     0.08,6, 0.0585469,2,   2347.2,2,     -999,9,  14.5481
         OMEX2,   517,  1,      4,19980630, 42.6649,  -9.5053, 2059,     60.3,  13.8930,  35.8440,2,-999.0000,9,    241.6,2,    245.6,2,     1.28,2,     1.85,2,     0.12,2,     0.15,6, 0.0390297,2,   2347.5,2,     -999,9,  13.8843
         OMEX2,   517,  1,      5,19980630, 42.6649,  -9.5053, 2059,     78.8,  13.4790,  35.8260,2,-999.0000,9,    236.6,2,    236.6,2,     1.47,2,     3.64,2,     0.07,2,     0.25,6, 0.0390302,2,   2347.8,2,     -999,9,  13.4679
         OMEX2,   517,  1,      6,19980630, 42.6649,  -9.5053, 2059,     99.7,  13.1430,  35.7990,2,-999.0000,9,    234.0,2,    234.1,2,     1.81,2,     5.22,2,     0.03,2,     0.33,6, 0.0292732,2,   2346.9,2,     -999,9,  13.1291
         OMEX2,   517,  1,      7,19980630, 42.6649,  -9.5053, 2059,    151.1,  12.7120,  35.7500,2,-999.0000,9,    228.9,2,    226.4,2,     3.06,2,     8.72,2,     0.01,2,     0.53,6, 0.0487905,2,   2346.1,2,     -999,9,  12.6914
         OMEX2,   517,  1,      8,19980630, 42.6649,  -9.5053, 2059,    201.4,  12.3510,  35.7120,2,  35.7160,2,    224.2,2,    219.2,2,     3.43,2,     9.59,2,     0.03,2,     0.58,6, 0.0585503,2,   2342.3,2,     -999,9,  12.3240
         OMEX2,   518,  1,      1,19980630, 42.6734,  -9.6123, 2059,      9.5,  16.0420,  35.7190,2,  35.7230,2,    257.6,2,    254.6,2,     1.06,2,     0.00,2,     0.01,2,     0.04,6, 0.0780666,2,   2344.5,2,     -999,9,  16.0405
         OMEX2,   518,  1,      2,19980630, 42.6734,  -9.6123, 2059,     19.4,  15.9040,  35.7210,2,-999.0000,9,    257.3,2,    253.6,2,     0.96,2,     0.00,2,     0.08,2,     0.04,6, 0.0390333,2,   2344.5,2,     -999,9,  15.9009
         OMEX2,   518,  1,      3,19980630, 42.6734,  -9.6123, 2059,     40.2,  15.7370,  35.7690,2,-999.0000,9,    257.9,2,    242.1,2,     1.01,2,     0.71,2,     0.19,2,     0.11,6,  0.117096,2,   2348.6,2,     -999,9,  15.7307
         OMEX2,   518,  1,      4,19980630, 42.6734,  -9.6123, 2059,     59.6,  15.1100,  35.8420,2,-999.0000,9,    249.6,2,    238.0,2,     0.99,2,     1.41,2,     0.16,2,     0.14,6, 0.0780595,2,   2355.0,2,     -999,9,  15.1009
         OMEX2,   518,  1,      5,19980630, 42.6734,  -9.6123, 2059,     79.6,  14.6820,  35.8620,2,-999.0000,9,    246.4,2,    234.1,2,     1.29,2,     3.20,2,     0.01,2,     0.23,6, 0.0292719,2,   2349.2,2,     -999,9,  14.6701
         OMEX2,   518,  1,      6,19980630, 42.6734,  -9.6123, 2059,    100.2,  14.0080,  35.8670,2,-999.0000,9,    241.8,2,    234.2,2,     1.29,2,     3.31,2,     0.01,2,     0.24,6, 0.0292718,2,   2348.6,2,     -999,9,  13.9934
         OMEX2,   518,  1,      7,19980630, 42.6734,  -9.6123, 2059,    150.6,  13.5780,  35.8360,2,-999.0000,9,    238.3,2,    230.0,2,     1.86,2,     5.04,2,     0.01,2,     0.33,6, 0.0292724,2,   2348.7,2,     -999,9,  13.5565
         OMEX2,   518,  1,      8,19980630, 42.6734,  -9.6123, 2059,    200.6,  12.9650,  35.7760,2,-999.0000,9,    231.5,2,    222.4,2,     2.61,2,     7.48,2,     0.00,2,     0.46,6, 0.0292737,2,   2345.0,2,     -999,9,  12.9372
         OMEX2,   518,  1,      9,19980630, 42.6734,  -9.6123, 2059,    402.5,  11.0990,  35.6140,2,-999.0000,9,    213.5,2,    203.2,2,     6.00,2,    14.04,2,     0.00,2,     0.85,6, 0.0292773,2,   2341.8,2,     -999,9,  11.0483
         OMEX2,   518,  1,     10,19980630, 42.6734,  -9.6123, 2059,    604.4,  11.3670,  35.8910,2,-999.0000,9,    198.1,2,    188.0,2,     7.03,2,    14.58,2,     0.00,2,     0.88,6, 0.0292712,2,   2359.8,2,     -999,9,  11.2888
         OMEX2,   518,  1,     11,19980630, 42.6734,  -9.6123, 2059,    805.6,  11.3960,  36.0320,2,-999.0000,9,    193.3,2,    184.4,2,     7.61,2,    14.51,2,     0.00,2,     0.88,6, 0.0292682,2,   2369.8,2,     -999,9,  11.2905
         OMEX2,   518,  1,     12,19980630, 42.6734,  -9.6123, 2059,    908.8,  11.3160,  36.0910,2,  36.0910,2,    191.9,2,    183.3,2,     7.95,2,    14.43,2,     0.00,2,     0.89,6, 0.0292669,2,   2380.9,2,     -999,9,  11.1970
         OMEX2,   519,  1,      1,19980630, 42.4979,  -9.6603, 1954,   1757.8,   4.5110,  35.0940,2,  35.0950,2,    250.3,2,   -999.0,9,  -999.00,9,  -999.00,9,  -999.00,9,  -999.00,9,      -999,9,   2322.0,2,     -999,9,   4.3598
         OMEX2,   520,  1,      1,19980630, 42.5011,  -9.4386,  822,    812.4,  11.4600,  36.0360,2,  36.0330,2,    192.9,2,   -999.0,9,  -999.00,9,  -999.00,9,  -999.00,9,  -999.00,9,      -999,9,   -999.0,9,     -999,9,  11.3533
         OMEX2,   521,  1,      1,19980701, 42.6604,  -9.7036, 2059,      9.3,  17.0400,  35.7900,2,  35.7910,2,    244.9,2,    244.1,2,  -999.00,9,  -999.00,9,  -999.00,9,     0.02,2,      -999,9,   2345.0,2,     -999,9,  17.0385
         OMEX2,   521,  1,      2,19980701, 42.6604,  -9.7036, 2059,     59.5,  16.8570,  35.7970,2,  35.7930,2,    249.0,2,    244.3,2,  -999.00,9,  -999.00,9,  -999.00,9,     0.02,2,      -999,9,   2353.1,2,     -999,9,  16.8472
         OMEX2,   522,  1,      1,19980701, 42.6679,  -9.7189, 2059,      8.7,  17.1640,  35.7900,2,  35.7890,2,    247.1,2,    244.7,2,     0.80,2,     0.00,2,     0.00,2,     0.02,6, 0.0292734,2,   2347.9,2,0.0780625,2,  17.1626
         OMEX2,   522,  1,      2,19980701, 42.6679,  -9.7189, 2059,     18.8,  17.1540,  35.7910,2,-999.0000,9,    247.9,2,    246.8,2,     0.80,2,     0.00,2,     0.02,2,     0.02,6, 0.0292734,2,   2346.8,2,0.0292734,2,  17.1509
         OMEX2,   522,  1,      3,19980701, 42.6679,  -9.7189, 2059,     39.4,  17.1130,  35.7930,2,-999.0000,9,    248.4,2,    245.6,2,     0.83,2,     0.00,2,     0.03,2,     0.03,6, 0.0390312,2,   2348.9,2,0.0195156,2,  17.1065
         OMEX2,   522,  1,      4,19980701, 42.6679,  -9.7189, 2059,     59.5,  16.3580,  35.8120,2,-999.0000,9,    250.2,2,    244.2,2,     0.81,2,     0.31,2,     0.12,2,     0.08,6, 0.0390306,2,   2348.4,2,0.0195153,2,  16.3484
         OMEX2,   522,  1,      5,19980701, 42.6679,  -9.7189, 2059,     80.0,  14.4950,  35.8520,2,-999.0000,9,    244.6,2,    234.6,2,     1.18,2,     2.60,2,     0.10,2,     0.21,6, 0.0390295,2,   2358.4,2,0.0195147,2,  14.4831
         OMEX2,   522,  1,      6,19980701, 42.6679,  -9.7189, 2059,    100.3,  14.1190,  35.8630,2,  35.8610,2,    240.4,2,    234.8,2,     1.21,2,     2.88,2,     0.06,2,     0.22,6, 0.0390291,2,   2348.5,2,0.0390291,2,  14.1044
         OMEX2,   523,  1,      1,19980701, 42.6560,  -9.7225, 2059,    149.6,  13.5000,  35.8270,2,  35.7900,2,    237.4,2,    224.4,2,     2.49,2,     7.07,2,     0.01,2,     0.45,6,      -999,9,   2349.8,2,     -999,9,  13.4788
         OMEX2,   523,  1,      2,19980701, 42.6560,  -9.7225, 2059,    200.0,  13.0140,  35.7830,2,-999.0000,9,    232.0,2,    217.6,2,     3.19,2,     9.40,2,     0.01,2,     0.57,6, 0.0780629,2,   2344.0,2,     -999,9,  12.9863
         OMEX2,   523,  1,      3,19980701, 42.6560,  -9.7225, 2059,    402.8,  11.1940,  35.6510,2,-999.0000,9,    212.3,2,    204.0,2,     5.50,2,    13.72,2,     0.01,2,     0.82,6, 0.0390353,2,   2343.8,2,     -999,9,  11.1429
         OMEX2,   523,  1,      4,19980701, 42.6560,  -9.7225, 2059,    604.4,  11.2830,  35.8300,2,-999.0000,9,    199.9,2,    191.2,2,     6.77,2,    14.62,2,     0.00,2,     0.89,6, 0.0390301,2,   2355.9,2,     -999,9,  11.2052
         OMEX2,   523,  1,      5,19980701, 42.6560,  -9.7225, 2059,    805.9,  11.2360,  36.0110,2,-999.0000,9,    193.4,2,    186.5,2,     7.79,2,    14.88,2,     0.00,2,     0.91,6, 0.0390249,2,   2367.8,2,     -999,9,  11.1314
         OMEX2,   523,  1,      6,19980701, 42.6560,  -9.7225, 2059,    907.3,  11.1220,  36.0600,2,-999.0000,9,    192.0,2,    185.6,2,     7.97,2,    14.96,2,     0.00,2,     0.92,6, 0.0390234,2,   2382.0,2,     -999,9,  11.0044
         OMEX2,   523,  1,      7,19980701, 42.6560,  -9.7225, 2059,   1009.9,  10.7360,  36.0440,2,-999.0000,9,    192.5,2,    185.9,2,     8.49,2,    15.27,2,     0.00,2,     0.95,6, 0.0390239,2,   2381.1,2,     -999,9,  10.6073
         OMEX2,   523,  1,      8,19980701, 42.6560,  -9.7225, 2059,   1111.3,  10.4450,  36.0600,2,-999.0000,9,    194.6,2,    188.5,2,     8.99,2,    15.35,2,     0.00,2,     0.96,6, 0.0390234,2,   2383.3,2,     -999,9,  10.3050
         OMEX2,   523,  1,      9,19980701, 42.6560,  -9.7225, 2059,   1263.2,   9.8560,  36.0250,2,-999.0000,9,    199.8,2,    197.4,2,     9.80,2,    15.51,2,     0.00,2,     0.99,6, 0.0390244,2,   2383.5,2,     -999,9,   9.7010
         OMEX2,   523,  1,     10,19980701, 42.6560,  -9.7225, 2059,   1516.2,   6.9340,  35.4940,2,-999.0000,9,    225.2,2,    223.9,2,    11.97,2,    16.68,2,     0.00,2,     1.10,6, 0.0390398,2,   2347.4,2,     -999,9,   6.7783
         OMEX2,   523,  1,     11,19980701, 42.6560,  -9.7225, 2059,   1618.3,   5.8700,  35.3140,2,  35.3150,2,    235.3,2,    236.4,2,    13.04,2,    17.24,2,     0.00,2,     1.14,6,  0.039045,2,   2353.7,3,     -999,9,   5.7156
         OMEX2,   524,  1,      1,19980701, 42.6573,  -9.8526, 2059,    151.0,  13.1210,  35.7970,2,  35.7820,2,    234.9,2,    235.1,2,     1.79,2,     5.31,2,     0.00,2,     0.34,6, 0.0487888,2,   2349.0,2,     -999,9,  13.1000
         OMEX2,   524,  1,      2,19980701, 42.6573,  -9.8526, 2059,    201.4,  12.7530,  35.7540,2,-999.0000,9,    228.4,2,    219.1,2,     3.23,2,     8.98,2,     0.00,2,     0.56,6, 0.0390323,2,   2344.1,2,     -999,9,  12.7254
         OMEX2,   524,  1,      3,19980701, 42.6573,  -9.8526, 2059,    402.1,  11.4000,  35.6320,2,-999.0000,9,    216.5,2,    209.8,2,     5.02,2,    12.73,2,     0.00,2,     0.79,6, 0.0390358,2,   2339.7,2,     -999,9,  11.3484
         OMEX2,   524,  1,      4,19980701, 42.6573,  -9.8526, 2059,    605.1,  11.2580,  35.8020,2,-999.0000,9,    201.7,2,    193.2,2,     6.71,2,    14.64,2,     0.00,2,     0.89,6, 0.0487886,2,   2350.8,2,     -999,9,  11.1802
         OMEX2,   524,  1,      5,19980701, 42.6573,  -9.8526, 2059,    807.4,  11.2920,  36.0230,2,-999.0000,9,    192.7,2,    185.1,2,     7.46,2,    14.45,2,     0.00,2,     0.88,6, 0.0390245,2,   2371.9,2,     -999,9,  11.1869
         OMEX2,   524,  1,      6,19980701, 42.6573,  -9.8526, 2059,    907.9,  11.2600,  36.0740,2,-999.0000,9,    191.7,2,    183.8,2,     8.04,2,    14.88,2,     0.00,2,     0.91,6,  0.039023,2,   2379.9,2,     -999,9,  11.1415
         OMEX2,   524,  1,      7,19980701, 42.6573,  -9.8526, 2059,   1009.9,  10.9910,  36.0970,2,-999.0000,9,    191.7,2,    184.2,2,     8.51,2,    14.95,2,     0.00,2,     0.93,6, 0.0390224,2,   2385.0,2,     -999,9,  10.8604
         OMEX2,   524,  1,      8,19980701, 42.6573,  -9.8526, 2059,   1111.1,  10.6940,  36.1010,2,-999.0000,9,    192.8,2,    185.0,2,     8.92,2,    15.23,2,     0.00,2,     0.93,6, 0.0487778,2,   2389.1,2,     -999,9,  10.5520
         OMEX2,   524,  1,      9,19980701, 42.6573,  -9.8526, 2059,   1261.7,  10.1500,  36.0820,2,-999.0000,9,    197.5,2,    189.3,2,     9.48,2,    15.48,2,     0.00,2,     0.94,6, 0.0390228,2,   2387.4,2,     -999,9,   9.9925
         OMEX2,   524,  1,     10,19980701, 42.6573,  -9.8526, 2059,   1516.0,   6.8710,  35.4790,2,-999.0000,9,    226.3,2,    222.6,2,    11.89,2,    16.86,2,     0.00,2,     1.09,6, 0.0390403,2,   2347.4,2,     -999,9,   6.7160
         OMEX2,   524,  1,     11,19980701, 42.6573,  -9.8526, 2059,   1740.8,   4.5980,  35.1160,2,  35.1170,2,    248.4,2,    246.6,2,    14.70,2,    17.53,2,     0.00,2,     1.15,6, 0.0390508,2,   2322.9,2,     -999,9,   4.4473
         OMEX2,   525,  1,      1,19980701, 42.6530,  -9.8685, 2059,     10.2,  17.5890,  35.7680,2,  35.7690,2,    242.2,2,    245.9,2,     0.95,2,     0.00,2,     0.00,2,     0.01,6, 0.0195159,2,   2347.7,2,     -999,9,  17.5873
         OMEX2,   525,  1,      2,19980701, 42.6530,  -9.8685, 2059,     19.4,  17.5810,  35.7680,2,-999.0000,9,    243.2,2,    246.0,2,     0.93,2,     0.00,2,     0.00,2,     0.01,6, 0.0195159,2,   2348.6,2,     -999,9,  17.5777
         OMEX2,   525,  1,      3,19980701, 42.6530,  -9.8685, 2059,     39.8,  15.8810,  35.9090,2,-999.0000,9,    246.5,2,    251.9,2,     1.02,2,     0.01,2,     0.00,2,     0.03,6, 0.0585417,2,   2353.7,2,     -999,9,  15.8747
         OMEX2,   525,  1,      4,19980701, 42.6530,  -9.8685, 2059,     60.1,  14.4480,  35.8840,2,-999.0000,9,    244.6,2,    244.3,2,     0.95,2,     1.14,2,     0.10,2,     0.12,6,    0.1366,2,   2354.3,2,     -999,9,  14.4391
         OMEX2,   525,  1,      5,19980701, 42.6530,  -9.8685, 2059,     80.6,  14.0210,  35.9020,2,-999.0000,9,    239.1,2,    233.9,2,     1.35,2,     3.16,2,     0.01,2,     0.23,6,  0.039028,2,   2354.6,2,     -999,9,  14.0093
         OMEX2,   525,  1,      6,19980701, 42.6530,  -9.8685, 2059,    100.6,  13.6360,  35.8470,2,  35.8500,2,    237.8,2,    233.4,2,     1.42,2,     3.87,2,     0.00,2,     0.28,6,  0.048787,2,   2352.7,2,     -999,9,  13.6217
         OMEX2,   526,  1,      1,19980701, 42.8351,  -9.4719,  321,    149.2,  12.2780,  35.7070,2,  35.7070,2,    224.0,2,   -999.0,9,  -999.00,9,  -999.00,9,  -999.00,9,  -999.00,9,      -999,9,   -999.0,9,     -999,9,  12.2581
         OMEX2,   527,  1,      1,19980702, 43.0027,  -9.3957, 1801,      8.7,  14.9700,  35.6690,2,  35.6690,2,    246.8,2,    248.9,2,  -999.00,9,  -999.00,9,  -999.00,9,     0.20,2,      -999,9,   2343.1,2,     -999,9,  14.9687
         OMEX2,   527,  1,      2,19980702, 43.0027,  -9.3957, 1801,     38.7,  13.7100,  35.6920,2,  35.6870,2,    236.4,2,    232.4,2,  -999.00,9,  -999.00,9,  -999.00,9,     0.37,2,      -999,9,   2343.6,2,     -999,9,  13.7045
         OMEX2,   528,  1,      1,19980702, 43.0007,  -9.4055, 1801,      8.6,  15.1450,  35.6700,2,  35.6710,2,    246.3,2,    247.1,2,     1.17,2,     1.81,2,     0.10,2,     0.16,6, 0.0731901,6,   2343.0,2,0.0390347,2,  15.1437
         OMEX2,   528,  1,      2,19980702, 43.0007,  -9.4055, 1801,     19.1,  15.0240,  35.6710,2,-999.0000,9,    246.2,2,    247.1,2,     1.22,2,     1.83,2,     0.10,2,     0.19,6, 0.0829487,6,   2344.0,2, 0.029276,2,  15.0211
         OMEX2,   528,  1,      3,19980702, 43.0007,  -9.4055, 1801,     38.7,  14.0820,  35.6840,2,-999.0000,9,    239.3,2,    239.3,2,     1.70,2,     3.53,2,     0.19,2,     0.28,6,  0.151258,6,   2343.5,2,0.0390343,2,  14.0764
         OMEX2,   528,  1,      4,19980702, 43.0007,  -9.4055, 1801,     58.7,  13.3930,  35.6990,2,-999.0000,9,    230.4,2,    230.0,2,     2.53,2,     5.78,2,     0.20,2,     0.41,6, 0.0975847,6,   2343.8,2,0.0195169,2,  13.3848
         OMEX2,   528,  1,      5,19980702, 43.0007,  -9.4055, 1801,     79.6,  12.5780,  35.7140,2,-999.0000,9,    229.3,2,    229.4,2,     2.68,2,     7.26,2,     0.10,2,     0.48,6, 0.0341543,6,   2346.2,2,0.0683085,2,  12.5673
         OMEX2,   528,  1,      6,19980702, 43.0007,  -9.4055, 1801,     99.3,  12.4050,  35.7040,2,-999.0000,9,    227.2,2,    222.2,2,     3.62,2,     8.59,2,     0.14,2,     0.57,6, 0.0585506,6,   2345.2,2,0.0878259,2,  12.3917
         OMEX2,   528,  1,      7,19980702, 43.0007,  -9.4055, 1801,    122.1,  12.3370,  35.6980,2,  35.7080,2,    226.2,2,    223.0,2,     3.84,2,     8.62,2,     0.11,2,     0.66,6,  0.112223,6,   2345.3,2,0.0487924,2,  12.3207
         OMEX2,   529,  1,      1,19980702, 42.8319,  -9.3234,  321,     10.1,  13.5550,  35.6720,2,  35.6740,2,    242.0,2,    241.6,2,     2.87,2,     5.91,2,     0.15,2,     0.40,6, 0.0487933,6,   2345.7,2,     -999,9,  13.5536
         OMEX2,   529,  1,      2,19980702, 42.8319,  -9.3234,  321,     20.1,  13.4420,  35.6880,2,-999.0000,9,    238.3,2,    237.0,2,     2.79,2,     5.94,2,     0.17,2,     0.41,6, 0.0829477,6,   2344.8,2,     -999,9,  13.4392
         OMEX2,   529,  1,      3,19980702, 42.8319,  -9.3234,  321,     40.5,  13.2260,  35.7130,2,-999.0000,9,    232.2,2,    231.2,2,     2.47,2,     5.95,2,     0.18,2,     0.41,6,  0.078067,6,   2346.9,2,     -999,9,  13.2204
         OMEX2,   529,  1,      4,19980702, 42.8319,  -9.3234,  321,     58.3,  12.7860,  35.7080,2,-999.0000,9,    228.1,2,    231.7,2,     2.76,2,     6.69,2,     0.17,2,     0.45,6, 0.0780673,6,   2345.0,2,     -999,9,  12.7780
         OMEX2,   529,  1,      5,19980702, 42.8319,  -9.3234,  321,     80.0,  12.4870,  35.7040,2,-999.0000,9,    220.7,2,    220.4,2,     4.15,2,     9.37,2,     0.19,2,     0.61,6, 0.0390337,6,   2344.3,2,     -999,9,  12.4763
         OMEX2,   529,  1,      6,19980702, 42.8319,  -9.3234,  321,     99.4,  12.0180,  35.6810,2,-999.0000,9,    215.2,2,    212.2,2,     4.67,2,    10.55,2,     0.12,2,     0.69,6, 0.0292758,6,   2343.4,2,     -999,9,  12.0050
         OMEX2,   529,  1,      7,19980702, 42.8319,  -9.3234,  321,    111.0,  11.8970,  35.6670,2,  35.6700,2,    215.3,2,    211.6,2,     4.73,2,    11.16,2,     0.12,2,     0.75,2,  0.117104,6,   2343.5,2,     -999,9,  11.8826
         OMEX2,   530,  1,      1,19980703, 42.9995,  -9.6502, 2059,      9.1,  16.2210,  35.6820,2,  35.6870,2,    252.1,2,    239.6,2,  -999.00,9,  -999.00,9,  -999.00,9,     0.04,2,      -999,9,   2345.4,2,     -999,9,  16.2196
         OMEX2,   530,  1,      2,19980703, 42.9995,  -9.6502, 2059,     61.7,  13.4520,  35.7530,2,  35.7510,2,    242.2,2,    251.7,2,  -999.00,9,  -999.00,9,  -999.00,9,     0.28,2,      -999,9,   2349.8,2,     -999,9,  13.4433