BOTTLE,20090114PRINUNIVRMKPRINUNIVRMK
EXPOCODE,STNNBR,CASTNO,BTLNBR,DATE,LATITUDE,LONGITUDE,DEPTH,CTDPRS,CTDTMP,CTDSAL,CTDSAL_FLAG_W,SALNTY,SALNTY_FLAG_W,CTDOXY,CTDOXY_FLAG_W,OXYGEN,OXYGEN_FLAG_W,SILCAT,SILCAT_FLAG_W,NITRAT,NITRAT_FLAG_W,NITRIT,NITRIT_FLAG_W,PHSPHT,PHSPHT_FLAG_W,AMMONI,AMMONI_FLAG_W,ALKALI,ALKALI_FLAG_W,UREA,UREA_FLAG_W,THETA
,,,,,,,METERS,DBARS,ITS-90,PSS-78,,PSS-78,,UMOL/KG,,UMOL/KG,,UMOL/KG,,UMOL/KG,,UMOL/KG,,UMOL/KG,,UMOL/KG,,UMOL/KG,,UMOL/KG,,DEGC
         OMEX2,   901,  1,      1,19990101, 37.5866, -10.6332, 4945,     15.8,  16.5450,  36.2840,2,-999.0000,9,    231.2,2,    233.2,2,  -999.00,9,  -999.00,9,  -999.00,9,     0.03,2,      -999,9,   2382.3,2,     -999,9,  16.5424
         OMEX2,   901,  1,      2,19990101, 37.5866, -10.6332, 4945,     56.1,  16.5520,  36.2830,2,-999.0000,9,    230.9,2,    232.7,2,  -999.00,9,  -999.00,9,  -999.00,9,     0.05,2,      -999,9,   2380.3,2,     -999,9,  16.5429
         OMEX2,   901,  1,      3,19990101, 37.5866, -10.6332, 4945,     81.6,  16.5470,  36.2820,2,-999.0000,9,    230.2,2,    229.9,2,  -999.00,9,  -999.00,9,  -999.00,9,     0.09,2,      -999,9,   2380.3,2,     -999,9,  16.5337
         OMEX2,   901,  1,      4,19990101, 37.5866, -10.6332, 4945,    105.7,  16.1990,  36.2310,2,-999.0000,9,    227.6,2,    214.2,2,  -999.00,9,  -999.00,9,  -999.00,9,     0.30,2,      -999,9,   2369.5,2,     -999,9,  16.1820
         OMEX2,   901,  1,      5,19990101, 37.5866, -10.6332, 4945,    156.5,  14.7440,  36.0360,2,-999.0000,9,    207.4,2,    209.8,2,  -999.00,9,  -999.00,9,  -999.00,9,     0.45,2,      -999,9,   2361.2,2,     -999,9,  14.7204
         OMEX2,   901,  1,      6,19990101, 37.5866, -10.6332, 4945,    209.1,  13.7680,  35.9060,2,-999.0000,9,    208.2,2,    207.9,2,  -999.00,9,  -999.00,9,  -999.00,9,     0.58,2,      -999,9,   2352.7,2,     -999,9,  13.7379
         OMEX2,   901,  1,      7,19990101, 37.5866, -10.6332, 4945,    310.4,  12.6170,  35.7480,2,-999.0000,9,    208.0,2,    205.4,2,  -999.00,9,  -999.00,9,  -999.00,9,     0.72,2,      -999,9,   2347.2,2,     -999,9,  12.5747
         OMEX2,   901,  1,      8,19990101, 37.5866, -10.6332, 4945,    412.8,  11.9500,  35.6760,2,-999.0000,9,    204.3,2,    200.8,2,  -999.00,9,  -999.00,9,  -999.00,9,     0.78,2,      -999,9,   2344.5,2,     -999,9,  11.8954
         OMEX2,   901,  1,      9,19990101, 37.5866, -10.6332, 4945,    515.9,  11.5040,  35.6780,2,-999.0000,9,    200.9,2,    196.4,2,  -999.00,9,  -999.00,9,  -999.00,9,     0.92,2,      -999,9,   2349.7,2,     -999,9,  11.4371
         OMEX2,   901,  1,     10,19990101, 37.5866, -10.6332, 4945,    618.7,  11.6220,  35.8550,2,-999.0000,9,    190.7,2,    186.3,2,  -999.00,9,  -999.00,9,  -999.00,9,     1.04,2,      -999,9,   2362.6,2,     -999,9,  11.5408
         OMEX2,   901,  1,     11,19990101, 37.5866, -10.6332, 4945,    720.4,  11.9340,  36.0990,2,-999.0000,9,    189.4,2,    186.0,2,  -999.00,9,  -999.00,9,  -999.00,9,     0.89,3,      -999,9,   2387.6,2,     -999,9,  11.8373
         OMEX2,   901,  1,     12,19990101, 37.5866, -10.6332, 4945,    822.6,  11.4990,  36.1010,2,  36.1130,2,    186.6,2,    183.0,2,  -999.00,9,  -999.00,9,  -999.00,9,     1.01,2,      -999,9,   2383.8,2,     -999,9,  11.3906
         OMEX2,   902,  1,      1,19990101, 37.5919, -10.6353, 4945,    961.3,  11.3110,  36.1990,2,-999.0000,9,    183.8,2,    183.0,2,  -999.00,9,  -999.00,9,  -999.00,9,     0.91,2,      -999,9,   2393.0,2,     -999,9,  11.1847
         OMEX2,   902,  1,      2,19990101, 37.5919, -10.6353, 4945,   1064.2,  11.1930,  36.2650,2,-999.0000,9,    184.8,2,    183.9,2,  -999.00,9,  -999.00,9,  -999.00,9,     0.93,2,      -999,9,   2400.0,2,     -999,9,  11.0534
         OMEX2,   902,  1,      3,19990101, 37.5919, -10.6353, 4945,   1266.3,  10.9670,  36.3150,2,-999.0000,9,    188.6,2,    186.8,2,  -999.00,9,  -999.00,9,  -999.00,9,     0.82,3,      -999,9,   2407.1,2,     -999,9,  10.8014
         OMEX2,   902,  1,      4,19990101, 37.5919, -10.6353, 4945,   1468.8,   8.2070,  35.7800,2,-999.0000,9,    210.6,2,    203.8,2,  -999.00,9,  -999.00,9,  -999.00,9,     1.06,2,      -999,9,   2382.1,2,     -999,9,   8.0426
         OMEX2,   902,  1,      5,19990101, 37.5919, -10.6353, 4945,   1672.0,   6.0720,  35.3960,2,-999.0000,9,    235.0,2,    228.3,2,  -999.00,9,  -999.00,9,  -999.00,9,     1.18,2,      -999,9,   2350.7,2,     -999,9,   5.9092
         OMEX2,   902,  1,      6,19990101, 37.5919, -10.6353, 4945,   1873.2,   5.0490,  35.2290,2,-999.0000,9,    244.8,2,    239.3,2,  -999.00,9,  -999.00,9,  -999.00,9,     1.16,2,      -999,9,   2340.9,2,     -999,9,   4.8786
         OMEX2,   902,  1,      7,19990101, 37.5919, -10.6353, 4945,   2074.5,   4.2740,  35.1210,2,-999.0000,9,    249.2,2,    244.0,2,  -999.00,9,  -999.00,9,  -999.00,9,     1.21,2,      -999,9,   2340.1,2,     -999,9,   4.0944
         OMEX2,   902,  1,      8,19990101, 37.5919, -10.6353, 4945,   2584.0,   3.1990,  34.9860,2,-999.0000,9,    250.9,2,    248.0,2,  -999.00,9,  -999.00,9,  -999.00,9,     1.30,2,      -999,9,   2342.4,2,     -999,9,   2.9868
         OMEX2,   902,  1,      9,19990101, 37.5919, -10.6353, 4945,   3090.8,   2.7650,  34.9400,2,-999.0000,9,    247.3,2,    245.6,2,  -999.00,9,  -999.00,9,  -999.00,9,     1.43,2,      -999,9,   2348.4,2,     -999,9,   2.5098
         OMEX2,   902,  1,     10,19990101, 37.5919, -10.6353, 4945,   3599.6,   2.5500,  34.9150,2,-999.0000,9,    245.4,2,    245.0,2,  -999.00,9,  -999.00,9,  -999.00,9,     1.52,2,      -999,9,   2356.6,2,     -999,9,   2.2454
         OMEX2,   902,  1,     11,19990101, 37.5919, -10.6353, 4945,   4113.9,   2.4670,  34.9010,2,  34.9050,2,    243.3,2,    243.8,2,  -999.00,9,  -999.00,9,  -999.00,9,     1.44,2,      -999,9,   2359.6,2,     -999,9,   2.1064
         OMEX2,   903,  1,      1,19990106, 42.1682,  -9.3129,  214,     11.9,  14.6580,  35.9400,2,-999.0000,9,    236.9,2,   -999.0,9,  -999.00,9,  -999.00,9,  -999.00,9,  -999.00,9,      -999,9,   -999.0,9,     -999,9,  14.6562
         OMEX2,   903,  1,      2,19990106, 42.1682,  -9.3129,  214,     31.1,  14.6570,  35.9400,2,-999.0000,9,    237.5,2,   -999.0,9,  -999.00,9,  -999.00,9,  -999.00,9,  -999.00,9,      -999,9,   -999.0,9,     -999,9,  14.6523
         OMEX2,   903,  1,      3,19990106, 42.1682,  -9.3129,  214,     62.4,  14.6290,  35.9390,2,-999.0000,9,    237.5,2,   -999.0,9,  -999.00,9,  -999.00,9,  -999.00,9,  -999.00,9,      -999,9,   -999.0,9,     -999,9,  14.6197
         OMEX2,   903,  1,      4,19990106, 42.1682,  -9.3129,  214,    102.0,  14.3990,  35.9020,2,-999.0000,9,    235.1,2,   -999.0,9,  -999.00,9,  -999.00,9,  -999.00,9,  -999.00,9,      -999,9,   -999.0,9,     -999,9,  14.3839
         OMEX2,   903,  1,      5,19990106, 42.1682,  -9.3129,  214,    152.2,  13.8190,  35.8390,2,-999.0000,9,    217.6,2,   -999.0,9,  -999.00,9,  -999.00,9,  -999.00,9,  -999.00,9,      -999,9,   -999.0,9,     -999,9,  13.7971
         OMEX2,   903,  1,      6,19990106, 42.1682,  -9.3129,  214,    203.5,  13.4750,  35.8160,2,-999.0000,9,    212.9,2,   -999.0,9,  -999.00,9,  -999.00,9,  -999.00,9,  -999.00,9,      -999,9,   -999.0,9,     -999,9,  13.4461
         OMEX2,   904,  1,      1,19990106, 42.1618,  -9.3394,  212,     13.0,  14.6570,  35.9370,2,-999.0000,9,    237.5,2,    244.8,2,  -999.00,9,  -999.00,9,  -999.00,9,     0.14,2,      -999,9,   2357.2,2,     -999,9,  14.6551
         OMEX2,   904,  1,      2,19990106, 42.1618,  -9.3394,  212,     53.1,  14.6590,  35.9380,2,-999.0000,9,    237.2,2,    244.8,2,  -999.00,9,  -999.00,9,  -999.00,9,     0.15,2,      -999,9,   2356.2,2,     -999,9,  14.6511
         OMEX2,   904,  1,      3,19990106, 42.1618,  -9.3394,  212,    101.7,  14.4580,  35.9120,2,-999.0000,9,    235.4,2,    240.8,2,  -999.00,9,  -999.00,9,  -999.00,9,     0.23,2,      -999,9,   2356.3,2,     -999,9,  14.4429
         OMEX2,   904,  1,      4,19990106, 42.1618,  -9.3394,  212,    153.0,  13.8600,  35.8430,2,-999.0000,9,    218.2,2,    223.1,2,  -999.00,9,  -999.00,9,  -999.00,9,     0.42,2,      -999,9,   2352.6,2,     -999,9,  13.8379
         OMEX2,   904,  1,      5,19990106, 42.1618,  -9.3394,  212,    201.7,  13.4340,  35.8140,2,  35.8170,2,    212.8,2,    217.7,2,  -999.00,9,  -999.00,9,  -999.00,9,     0.49,2,      -999,9,   2352.9,2,     -999,9,  13.4054
         OMEX2,   905,  1,      1,19990106, 42.1505,  -9.4649,  917,    102.9,  14.4720,  35.8750,2,-999.0000,9,    240.1,2,   -999.0,9,  -999.00,9,  -999.00,9,  -999.00,9,  -999.00,9,      -999,9,   -999.0,9,     -999,9,  14.4567
         OMEX2,   905,  1,      2,19990106, 42.1505,  -9.4649,  917,    253.7,  12.3550,  35.6980,2,-999.0000,9,    221.9,2,   -999.0,9,  -999.00,9,  -999.00,9,  -999.00,9,  -999.00,9,      -999,9,   -999.0,9,     -999,9,  12.3209
         OMEX2,   905,  1,      3,19990106, 42.1505,  -9.4649,  917,    503.8,  11.1080,  35.5840,2,-999.0000,9,    211.3,2,   -999.0,9,  -999.00,9,  -999.00,9,  -999.00,9,  -999.00,9,      -999,9,   -999.0,9,     -999,9,  11.0442
         OMEX2,   905,  1,      4,19990106, 42.1505,  -9.4649,  917,    654.9,  11.2950,  35.8070,2,-999.0000,9,    194.1,2,   -999.0,9,  -999.00,9,  -999.00,9,  -999.00,9,  -999.00,9,      -999,9,   -999.0,9,     -999,9,  11.2105
         OMEX2,   905,  1,      5,19990106, 42.1505,  -9.4649,  917,    804.1,  11.8380,  36.1240,2,-999.0000,9,    185.2,2,   -999.0,9,  -999.00,9,  -999.00,9,  -999.00,9,  -999.00,9,      -999,9,   -999.0,9,     -999,9,  11.7302
         OMEX2,   905,  1,      6,19990106, 42.1505,  -9.4649,  917,    907.4,  11.6890,  36.1700,2,-999.0000,9,    184.2,2,   -999.0,9,  -999.00,9,  -999.00,9,  -999.00,9,  -999.00,9,      -999,9,   -999.0,9,     -999,9,  11.5677
         OMEX2,   906,  1,      1,19990106, 42.1497,  -9.4650,  212,     31.3,  14.5140,  35.8840,2,-999.0000,9,    240.6,2,   -999.0,9,  -999.00,9,  -999.00,9,  -999.00,9,  -999.00,9,      -999,9,   -999.0,9,     -999,9,  14.5093
         OMEX2,   906,  1,      2,19990106, 42.1497,  -9.4650,  212,     61.3,  14.5290,  35.8860,2,-999.0000,9,    240.1,2,   -999.0,9,  -999.00,9,  -999.00,9,  -999.00,9,  -999.00,9,      -999,9,   -999.0,9,     -999,9,  14.5199
         OMEX2,   906,  1,      3,19990106, 42.1497,  -9.4650,  212,    102.1,  14.4590,  35.8730,2,-999.0000,9,    240.6,2,   -999.0,9,  -999.00,9,  -999.00,9,  -999.00,9,  -999.00,9,      -999,9,   -999.0,9,     -999,9,  14.4439
         OMEX2,   906,  1,      4,19990106, 42.1497,  -9.4650,  212,    151.8,  13.6910,  35.8230,2,-999.0000,9,    225.0,2,   -999.0,9,  -999.00,9,  -999.00,9,  -999.00,9,  -999.00,9,      -999,9,   -999.0,9,     -999,9,  13.6693
         OMEX2,   906,  1,      5,19990106, 42.1497,  -9.4650,  212,    201.7,  12.9300,  35.7670,2,-999.0000,9,    224.0,2,   -999.0,9,  -999.00,9,  -999.00,9,  -999.00,9,  -999.00,9,      -999,9,   -999.0,9,     -999,9,  12.9021
         OMEX2,   907,  1,      1,19990106, 42.1492,  -9.4658, 1018,     12.3,  14.5300,-999.0000,9,-999.0000,9,   -999.0,9,   -999.0,2,  -999.00,9,  -999.00,9,  -999.00,9,  -999.00,2,      -999,9,   -999.0,2,     -999,9,-999.0000
         OMEX2,   907,  1,      2,19990106, 42.1492,  -9.4658, 1018,     52.0,  14.5020,  35.8820,2,-999.0000,9,    237.9,2,    245.1,2,  -999.00,9,  -999.00,9,  -999.00,9,     0.12,2,      -999,9,   2352.2,2,     -999,9,  14.4943
         OMEX2,   907,  1,      3,19990106, 42.1492,  -9.4658, 1018,    102.1,  14.3710,  35.8650,2,-999.0000,9,    234.9,2,    243.0,2,  -999.00,9,  -999.00,9,  -999.00,9,     0.14,2,      -999,9,   2353.4,2,     -999,9,  14.3559
         OMEX2,   907,  1,      4,19990106, 42.1492,  -9.4658, 1018,    201.5,  12.9740,  35.7690,2,  35.7560,2,    222.5,2,    226.4,2,  -999.00,9,  -999.00,9,  -999.00,9,     0.47,2,      -999,9,   2345.0,2,     -999,9,  12.9461
         OMEX2,   907,  1,      5,19990106, 42.1492,  -9.4658, 1018,    302.5,  12.2070,  35.6800,2,-999.0000,9,    221.1,2,    224.8,2,  -999.00,9,  -999.00,9,  -999.00,9,     0.61,2,      -999,9,   2342.4,2,     -999,9,  12.1666
         OMEX2,   907,  1,      6,19990106, 42.1492,  -9.4658, 1018,    404.1,  11.6570,  35.6510,2,-999.0000,9,    210.5,2,    211.8,2,  -999.00,9,  -999.00,9,  -999.00,9,     0.79,2,      -999,9,   2342.6,2,     -999,9,  11.6044
         OMEX2,   907,  1,      7,19990106, 42.1492,  -9.4658, 1018,    504.7,  11.1090,  35.5930,2,-999.0000,9,    210.3,2,    208.4,2,  -999.00,9,  -999.00,9,  -999.00,9,     0.80,2,      -999,9,   2343.9,2,     -999,9,  11.0451
         OMEX2,   907,  1,      8,19990106, 42.1492,  -9.4658, 1018,    605.1,  11.3580,  35.7360,2,-999.0000,9,    196.3,2,    197.8,2,  -999.00,9,  -999.00,9,  -999.00,9,     0.90,2,      -999,9,   2353.8,2,     -999,9,  11.2798
         OMEX2,   907,  1,      9,19990106, 42.1492,  -9.4658, 1018,    704.2,  11.6240,  35.9500,2,-999.0000,9,    189.5,2,    189.0,2,  -999.00,9,  -999.00,9,  -999.00,9,     0.83,2,      -999,9,   2371.8,2,     -999,9,  11.5311
         OMEX2,   907,  1,     10,19990106, 42.1492,  -9.4658, 1018,    805.2,  11.8170,  36.1450,2,-999.0000,9,    184.9,2,    186.4,2,  -999.00,9,  -999.00,9,  -999.00,9,     0.81,2,      -999,9,   2385.6,2,     -999,9,  11.7091
         OMEX2,   907,  1,     11,19990106, 42.1492,  -9.4658, 1018,    906.9,  11.6710,  36.1740,2,-999.0000,9,    183.8,2,    185.3,2,  -999.00,9,  -999.00,9,  -999.00,9,     0.87,2,      -999,9,   2389.8,2,     -999,9,  11.5499
         OMEX2,   907,  1,     12,19990106, 42.1492,  -9.4658, 1018,   1007.8,  11.4970,  36.1820,2,  36.1810,2,    183.9,2,    184.6,2,  -999.00,9,  -999.00,9,  -999.00,9,     0.89,2,      -999,9,   2391.8,2,     -999,9,  11.3631
         OMEX2,   908,  1,      1,19990106, 42.1498,  -9.7399, 1954,     40.4,  15.2220,  36.0100,2,-999.0000,9,    237.0,2,   -999.0,9,  -999.00,9,  -999.00,9,  -999.00,9,  -999.00,9,      -999,9,   -999.0,9,     -999,9,  15.2158
         OMEX2,   908,  1,      2,19990106, 42.1498,  -9.7399, 1954,    100.9,  14.4380,  35.8840,2,-999.0000,9,    238.8,2,   -999.0,9,  -999.00,9,  -999.00,9,  -999.00,9,  -999.00,9,      -999,9,   -999.0,9,     -999,9,  14.4230
         OMEX2,   908,  1,      3,19990106, 42.1498,  -9.7399, 1954,    151.3,  13.1080,  35.7870,2,-999.0000,9,    219.3,2,   -999.0,9,  -999.00,9,  -999.00,9,  -999.00,9,  -999.00,9,      -999,9,   -999.0,9,     -999,9,  13.0870
         OMEX2,   909,  1,      1,19990106, 42.1498,  -9.7405, 1954,     10.9,  15.2120,  36.0070,2,-999.0000,9,    235.1,2,   -999.0,9,  -999.00,9,  -999.00,9,  -999.00,9,  -999.00,9,      -999,9,   -999.0,9,     -999,9,  15.2103
         OMEX2,   909,  1,      2,19990106, 42.1498,  -9.7405, 1954,     30.9,  15.2140,  36.0060,2,-999.0000,9,    235.3,2,   -999.0,9,  -999.00,9,  -999.00,9,  -999.00,9,  -999.00,9,      -999,9,   -999.0,9,     -999,9,  15.2093
         OMEX2,   909,  1,      3,19990106, 42.1498,  -9.7405, 1954,     60.9,  15.1980,  36.0060,2,-999.0000,9,    235.0,2,   -999.0,9,  -999.00,9,  -999.00,9,  -999.00,9,  -999.00,9,      -999,9,   -999.0,9,     -999,9,  15.1887
         OMEX2,   909,  1,      4,19990106, 42.1498,  -9.7405, 1954,     90.7,  14.3940,  35.8780,2,-999.0000,9,    238.0,2,   -999.0,9,  -999.00,9,  -999.00,9,  -999.00,9,  -999.00,9,      -999,9,   -999.0,9,     -999,9,  14.3806
         OMEX2,   909,  1,      5,19990106, 42.1498,  -9.7405, 1954,    121.1,  13.3600,  35.8120,2,-999.0000,9,    229.5,2,   -999.0,9,  -999.00,9,  -999.00,9,  -999.00,9,  -999.00,9,      -999,9,   -999.0,9,     -999,9,  13.3429
         OMEX2,   909,  1,      6,19990106, 42.1498,  -9.7405, 1954,    151.2,  12.9380,  35.7780,2,-999.0000,9,    211.4,2,   -999.0,9,  -999.00,9,  -999.00,9,  -999.00,9,  -999.00,9,      -999,9,   -999.0,9,     -999,9,  12.9171
         OMEX2,   910,  1,      1,19990106, 42.1497,  -9.7399, 1954,    202.3,  12.6010,  35.7340,2,-999.0000,9,    215.8,2,   -999.0,9,  -999.00,9,  -999.00,9,  -999.00,9,  -999.00,9,      -999,9,   -999.0,9,     -999,9,  12.5735
         OMEX2,   910,  1,      2,19990106, 42.1497,  -9.7399, 1954,    605.7,  10.9690,  35.6770,2,-999.0000,9,    197.5,2,   -999.0,9,  -999.00,9,  -999.00,9,  -999.00,9,  -999.00,9,      -999,9,   -999.0,9,     -999,9,  10.8925
         OMEX2,   910,  1,      3,19990106, 42.1497,  -9.7399, 1954,   1008.7,  11.4020,  36.1830,2,-999.0000,9,    182.5,2,   -999.0,9,  -999.00,9,  -999.00,9,  -999.00,9,  -999.00,9,      -999,9,   -999.0,9,     -999,9,  11.2686
         OMEX2,   910,  1,      4,19990106, 42.1497,  -9.7399, 1954,   1716.1,   4.5670,  35.0790,2,-999.0000,9,    257.2,2,   -999.0,9,  -999.00,9,  -999.00,9,  -999.00,9,  -999.00,9,      -999,9,   -999.0,9,     -999,9,   4.4192
         OMEX2,   911,  1,      1,19990106, 42.1500,  -9.7367, 1954,     11.9,  15.1990,  36.0020,2,-999.0000,9,    232.8,2,    242.9,2,  -999.00,9,  -999.00,9,  -999.00,9,     0.07,2,      -999,9,   2362.0,2,     -999,9,  15.1972
         OMEX2,   911,  1,      2,19990106, 42.1500,  -9.7367, 1954,     53.2,  15.2000,  36.0030,2,-999.0000,9,    233.8,2,    242.3,2,  -999.00,9,  -999.00,9,  -999.00,9,     0.09,2,      -999,9,   2360.9,2,     -999,9,  15.1918
         OMEX2,   911,  1,      3,19990106, 42.1500,  -9.7367, 1954,    101.5,  14.3820,  35.8760,2,-999.0000,9,    236.6,2,    244.7,2,  -999.00,9,  -999.00,9,  -999.00,9,     0.17,2,      -999,9,   2355.4,2,     -999,9,  14.3670
         OMEX2,   911,  1,      4,19990106, 42.1500,  -9.7367, 1954,    153.1,  12.9340,  35.7780,2,-999.0000,9,    213.2,2,    216.1,2,  -999.00,9,  -999.00,9,  -999.00,9,     0.52,2,      -999,9,   2349.0,2,     -999,9,  12.9129
         OMEX2,   911,  1,      5,19990106, 42.1500,  -9.7367, 1954,    202.4,  12.5190,  35.7210,2,-999.0000,9,    215.7,2,    222.5,2,  -999.00,9,  -999.00,9,  -999.00,9,     0.56,2,      -999,9,   2344.2,2,     -999,9,  12.4916
         OMEX2,   911,  1,      6,19990106, 42.1500,  -9.7367, 1954,    303.4,  11.9880,  35.6640,2,-999.0000,9,    212.3,2,    215.8,2,  -999.00,9,  -999.00,9,  -999.00,9,     0.70,2,      -999,9,   2344.4,2,     -999,9,  11.9480
         OMEX2,   911,  1,      7,19990106, 42.1500,  -9.7367, 1954,    404.3,  11.4190,  35.6020,2,-999.0000,9,    210.8,2,    212.8,2,  -999.00,9,  -999.00,9,  -999.00,9,     0.78,2,      -999,9,   2339.7,2,     -999,9,  11.3671
         OMEX2,   911,  1,      8,19990106, 42.1500,  -9.7367, 1954,    504.8,  11.0680,  35.6270,2,-999.0000,9,    200.6,2,    202.3,2,  -999.00,9,  -999.00,9,  -999.00,9,     0.86,2,      -999,9,   2342.8,2,     -999,9,  11.0042
         OMEX2,   911,  1,      9,19990106, 42.1500,  -9.7367, 1954,    604.0,  10.9800,  35.6880,2,-999.0000,9,    195.5,2,    196.9,2,  -999.00,9,  -999.00,9,  -999.00,9,     0.90,2,      -999,9,   2348.9,2,     -999,9,  10.9036
         OMEX2,   911,  1,     10,19990106, 42.1500,  -9.7367, 1954,    701.5,  11.2390,  35.8520,2,-999.0000,9,    187.8,2,    189.2,2,  -999.00,9,  -999.00,9,  -999.00,9,     0.94,2,      -999,9,   2360.9,2,     -999,9,  11.1485
         OMEX2,   911,  1,     11,19990106, 42.1500,  -9.7367, 1954,    799.9,  11.6820,  36.0510,2,-999.0000,9,    184.5,2,    187.2,2,  -999.00,9,  -999.00,9,  -999.00,9,     0.88,2,      -999,9,   2380.7,2,     -999,9,  11.5757
         OMEX2,   911,  1,     12,19990106, 42.1500,  -9.7367, 1954,    902.9,  11.6800,  36.1710,2,  36.1720,2,    182.8,2,    184.6,2,  -999.00,9,  -999.00,9,  -999.00,9,     0.84,2,      -999,9,   2388.7,2,     -999,9,  11.5594