BOTTLE,20090114PRINUNIVRMKPRINUNIVRMK
EXPOCODE,STNNBR,CASTNO,BTLNBR,DATE,LATITUDE,LONGITUDE,DEPTH,CTDPRS,CTDTMP,CTDSAL,CTDSAL_FLAG_W,SALNTY,SALNTY_FLAG_W,CTDOXY,CTDOXY_FLAG_W,OXYGEN,OXYGEN_FLAG_W,SILCAT,SILCAT_FLAG_W,NITRAT,NITRAT_FLAG_W,NITRIT,NITRIT_FLAG_W,PHSPHT,PHSPHT_FLAG_W,AMMONI,AMMONI_FLAG_W,ALKALI,ALKALI_FLAG_W,UREA,UREA_FLAG_W,THETA
,,,,,,,METERS,DBARS,ITS-90,PSS-78,,PSS-78,,UMOL/KG,,UMOL/KG,,UMOL/KG,,UMOL/KG,,UMOL/KG,,UMOL/KG,,UMOL/KG,,UMOL/KG,,UMOL/KG,,DEGC
         OMEX2,   929,  1,      1,19990108, 42.1503, -10.4992, 2947,     43.1,  15.1660,  35.9550,2,-999.0000,9,    235.6,2,   -999.0,9,  -999.00,9,  -999.00,9,  -999.00,9,  -999.00,9,      -999,9,   -999.0,9,     -999,9,  15.1594
         OMEX2,   929,  1,      2,19990108, 42.1503, -10.4992, 2947,    505.2,  10.9910,  35.5750,2,-999.0000,9,    209.9,2,   -999.0,9,  -999.00,9,  -999.00,9,  -999.00,9,  -999.00,9,      -999,9,   -999.0,9,     -999,9,  10.9275
         OMEX2,   929,  1,      3,19990108, 42.1503, -10.4992, 2947,   1110.2,  11.1130,  36.2140,2,-999.0000,9,    185.1,2,   -999.0,9,  -999.00,9,  -999.00,9,  -999.00,9,  -999.00,9,      -999,9,   -999.0,9,     -999,9,  10.9678
         OMEX2,   929,  1,      4,19990108, 42.1503, -10.4992, 2947,   1615.4,   4.9420,  35.1350,2,-999.0000,9,    251.4,2,   -999.0,9,  -999.00,9,  -999.00,9,  -999.00,9,  -999.00,9,      -999,9,   -999.0,9,     -999,9,   4.7994
         OMEX2,   929,  1,      5,19990108, 42.1503, -10.4992, 2947,   2020.7,   3.7290,  35.0040,2,-999.0000,9,    260.1,2,   -999.0,9,  -999.00,9,  -999.00,9,  -999.00,9,  -999.00,9,      -999,9,   -999.0,9,     -999,9,   3.5634
         OMEX2,   929,  1,      6,19990108, 42.1503, -10.4992, 2947,   2525.7,   3.1610,  34.9760,2,  34.9760,2,    253.3,2,   -999.0,9,  -999.00,9,  -999.00,9,  -999.00,9,  -999.00,9,      -999,9,   -999.0,9,     -999,9,   2.9554
         OMEX2,   930,  1,      1,19990109, 42.1495, -10.4991, 2947,    103.9,  13.9200,  35.8730,2,-999.0000,9,    221.7,2,   -999.0,9,  -999.00,9,  -999.00,9,  -999.00,9,  -999.00,9,      -999,9,   -999.0,9,     -999,9,  13.9050
         OMEX2,   930,  1,      2,19990109, 42.1495, -10.4991, 2947,    124.2,  13.6950,  35.8640,2,-999.0000,9,    217.3,2,   -999.0,9,  -999.00,9,  -999.00,9,  -999.00,9,  -999.00,9,      -999,9,   -999.0,9,     -999,9,  13.6772
         OMEX2,   930,  1,      3,19990109, 42.1495, -10.4991, 2947,    506.2,  10.9710,  35.5800,2,-999.0000,9,    208.9,2,   -999.0,9,  -999.00,9,  -999.00,9,  -999.00,9,  -999.00,9,      -999,9,   -999.0,9,     -999,9,  10.9074
         OMEX2,   930,  1,      4,19990109, 42.1495, -10.4991, 2947,   1010.0,  11.1820,  36.1580,2,-999.0000,9,    182.7,2,   -999.0,9,  -999.00,9,  -999.00,9,  -999.00,9,  -999.00,9,      -999,9,   -999.0,9,     -999,9,  11.0500
         OMEX2,   930,  1,      5,19990109, 42.1495, -10.4991, 2947,   1515.6,   5.9520,  35.2890,2,-999.0000,9,    235.9,2,   -999.0,9,  -999.00,9,  -999.00,9,  -999.00,9,  -999.00,9,      -999,9,   -999.0,9,     -999,9,   5.8076
         OMEX2,   930,  1,      6,19990109, 42.1495, -10.4991, 2947,   2021.1,   3.7690,  35.0060,2,-999.0000,9,    259.1,2,   -999.0,9,  -999.00,9,  -999.00,9,  -999.00,9,  -999.00,9,      -999,9,   -999.0,9,     -999,9,   3.6027
         OMEX2,   930,  1,      7,19990109, 42.1495, -10.4991, 2947,   2528.5,   3.2510,  34.9880,2,-999.0000,9,    250.3,2,   -999.0,9,  -999.00,9,  -999.00,9,  -999.00,9,  -999.00,9,      -999,9,   -999.0,9,     -999,9,   3.0434
         OMEX2,   930,  1,      8,19990109, 42.1495, -10.4991, 2947,   2732.1,   2.9340,  34.9600,2,-999.0000,9,    247.8,2,   -999.0,9,  -999.00,9,  -999.00,9,  -999.00,9,  -999.00,9,      -999,9,   -999.0,9,     -999,9,   2.7121
         OMEX2,   931,  1,      1,19990109, 42.1494, -10.4997, 2947,   1008.1,  11.2050,  36.1700,2,-999.0000,9,    183.3,2,   -999.0,9,  -999.00,9,  -999.00,9,  -999.00,9,  -999.00,9,      -999,9,   -999.0,9,     -999,9,  11.0731
         OMEX2,   932,  1,      1,19990109, 42.1495, -10.5006, 2452,   1008.4,  11.1560,  36.1600,2,-999.0000,9,    182.2,2,   -999.0,9,  -999.00,9,  -999.00,9,  -999.00,9,  -999.00,9,      -999,9,   -999.0,9,     -999,9,  11.0244
         OMEX2,   933,  1,      1,19990109, 42.1492, -10.5003, 2452,   1015.4,  11.2090,  36.1650,2,-999.0000,9,    182.8,2,   -999.0,9,  -999.00,9,  -999.00,9,  -999.00,9,  -999.00,9,      -999,9,   -999.0,9,     -999,9,  11.0761
         OMEX2,   934,  1,      1,19990109, 42.1492, -10.5010, 2452,     11.4,  15.2090,  35.9900,2,-999.0000,9,    237.2,2,    243.5,2,  -999.00,9,  -999.00,9,  -999.00,9,  -999.00,9,      -999,9,   2357.9,2,     -999,9,  15.2073
         OMEX2,   934,  1,      2,19990109, 42.1492, -10.5010, 2452,     52.2,  15.2060,  35.9890,2,-999.0000,9,    236.0,2,    244.0,2,  -999.00,9,  -999.00,9,  -999.00,9,     0.09,2,      -999,9,   2360.0,2,     -999,9,  15.1980
         OMEX2,   934,  1,      3,19990109, 42.1492, -10.5010, 2452,     76.3,  15.2010,  35.9890,2,-999.0000,9,    235.7,2,    243.5,2,  -999.00,9,  -999.00,9,  -999.00,9,     0.10,2,      -999,9,   2360.9,2,     -999,9,  15.1893
         OMEX2,   934,  1,      4,19990109, 42.1492, -10.5010, 2452,    101.8,  15.1960,  35.9890,2,-999.0000,9,    236.3,2,    242.5,2,  -999.00,9,  -999.00,9,  -999.00,9,     0.05,2,      -999,9,   2360.0,2,     -999,9,  15.1804
         OMEX2,   934,  1,      5,19990109, 42.1492, -10.5010, 2452,    151.9,  13.0420,  35.7940,2,-999.0000,9,    215.3,2,    219.9,2,  -999.00,9,  -999.00,9,  -999.00,9,     0.54,2,      -999,9,   2349.0,2,     -999,9,  13.0209
         OMEX2,   934,  1,      6,19990109, 42.1492, -10.5010, 2452,    202.2,  12.4610,  35.7180,2,-999.0000,9,    216.0,2,    221.6,2,  -999.00,9,  -999.00,9,  -999.00,9,     0.57,2,      -999,9,   2346.3,2,     -999,9,  12.4338
         OMEX2,   934,  1,      7,19990109, 42.1492, -10.5010, 2452,    302.5,  11.8860,  35.6440,2,-999.0000,9,    220.5,2,    226.2,2,  -999.00,9,  -999.00,9,  -999.00,9,     0.62,2,      -999,9,   2344.5,2,     -999,9,  11.8463
         OMEX2,   934,  1,      8,19990109, 42.1492, -10.5010, 2452,    404.0,  11.4520,  35.5980,2,-999.0000,9,    215.3,2,    218.1,2,  -999.00,9,  -999.00,9,  -999.00,9,     0.70,2,      -999,9,   2346.7,2,     -999,9,  11.4001
         OMEX2,   934,  1,      9,19990109, 42.1492, -10.5010, 2452,    503.1,  11.0710,  35.5830,2,-999.0000,9,    208.9,2,    210.7,2,  -999.00,9,  -999.00,9,  -999.00,9,     0.85,2,      -999,9,   2347.9,2,     -999,9,  11.0074
         OMEX2,   934,  1,     10,19990109, 42.1492, -10.5010, 2452,    600.0,  11.0730,  35.6700,2,-999.0000,9,    196.8,2,    198.8,2,  -999.00,9,  -999.00,9,  -999.00,9,     0.90,2,      -999,9,   2351.8,2,     -999,9,  10.9968
         OMEX2,   934,  1,     11,19990109, 42.1492, -10.5010, 2452,    700.7,  11.5050,  35.8940,2,-999.0000,9,    187.2,2,    188.9,2,  -999.00,9,  -999.00,9,  -999.00,9,     0.88,2,      -999,9,   2366.8,2,     -999,9,  11.4133
         OMEX2,   935,  1,      1,19990109, 42.1497, -10.5017, 2734,    805.5,  11.5920,  36.0300,2,-999.0000,9,    186.8,2,    185.4,2,  -999.00,9,  -999.00,9,  -999.00,9,     0.92,2,      -999,9,   2372.8,2,     -999,9,  11.4855
         OMEX2,   935,  1,      2,19990109, 42.1497, -10.5017, 2734,    906.3,  10.7700,  35.9320,2,-999.0000,9,    185.8,2,    184.3,2,  -999.00,9,  -999.00,9,  -999.00,9,     0.92,2,      -999,9,   2383.1,2,     -999,9,  10.6549
         OMEX2,   935,  1,      3,19990109, 42.1497, -10.5017, 2734,   1006.8,  11.0040,  36.0950,2,-999.0000,9,    185.5,2,    183.7,2,  -999.00,9,  -999.00,9,  -999.00,9,     0.98,2,      -999,9,   2394.0,2,     -999,9,  10.8738
         OMEX2,   935,  1,      4,19990109, 42.1497, -10.5017, 2734,   1203.0,  11.0220,  36.2680,2,-999.0000,9,    187.0,2,    185.2,2,  -999.00,9,  -999.00,9,  -999.00,9,     0.88,2,      -999,9,   2400.1,2,     -999,9,  10.8647
         OMEX2,   935,  1,      5,19990109, 42.1497, -10.5017, 2734,   1407.5,   7.0190,  35.4650,2,-999.0000,9,    224.3,2,    218.7,2,  -999.00,9,  -999.00,9,  -999.00,9,     1.06,2,      -999,9,   2355.4,2,     -999,9,   6.8746
         OMEX2,   935,  1,      6,19990109, 42.1497, -10.5017, 2734,   1612.9,   5.1010,  35.1590,2,-999.0000,9,    250.0,2,    244.3,2,  -999.00,9,  -999.00,9,  -999.00,9,     1.17,2,      -999,9,   2338.9,2,     -999,9,   4.9567
         OMEX2,   935,  1,      7,19990109, 42.1497, -10.5017, 2734,   1815.9,   4.1670,  35.0340,2,-999.0000,9,    262.2,2,    256.1,2,  -999.00,9,  -999.00,9,  -999.00,9,     1.17,2,      -999,9,   2323.1,2,     -999,9,   4.0148
         OMEX2,   935,  1,      8,19990109, 42.1497, -10.5017, 2734,   2018.6,   3.8280,  35.0110,2,-999.0000,9,    261.3,2,    256.6,2,  -999.00,9,  -999.00,9,  -999.00,9,     1.16,2,      -999,9,   2322.1,2,     -999,9,   3.6611
         OMEX2,   935,  1,      9,19990109, 42.1497, -10.5017, 2734,   2219.8,   3.5300,  34.9930,2,-999.0000,9,    258.9,2,    254.3,2,  -999.00,9,  -999.00,9,  -999.00,9,     1.20,2,      -999,9,   2339.3,2,     -999,9,   3.3481
         OMEX2,   935,  1,     10,19990109, 42.1497, -10.5017, 2734,   2419.9,   3.4180,  35.0000,2,-999.0000,9,    254.8,2,    250.8,2,  -999.00,9,  -999.00,9,  -999.00,9,     1.26,2,      -999,9,   2338.3,2,     -999,9,   3.2182
         OMEX2,   935,  1,     11,19990109, 42.1497, -10.5017, 2734,   2724.4,   2.9110,  34.9560,2,-999.0000,9,    250.2,2,    247.0,2,  -999.00,9,  -999.00,9,  -999.00,9,     1.38,2,      -999,9,   2342.4,2,     -999,9,   2.6903
         OMEX2,   936,  1,      1,19990111, 39.4972,  -9.9253, 1603,     11.5,  15.1340,  36.0420,2,-999.0000,9,    234.6,2,    239.6,2,  -999.00,9,  -999.00,9,  -999.00,9,     0.10,2,      -999,9,   2355.0,2,     -999,9,  15.1322
         OMEX2,   936,  1,      2,19990111, 39.4972,  -9.9253, 1603,     76.7,  15.1850,  36.0600,2,-999.0000,9,    234.2,2,    238.1,2,  -999.00,9,  -999.00,9,  -999.00,9,     0.05,2,      -999,9,   2359.0,2,     -999,9,  15.1732
         OMEX2,   936,  1,      3,19990111, 39.4972,  -9.9253, 1603,    101.8,  15.1490,  36.0550,2,-999.0000,9,    234.7,2,    238.5,2,  -999.00,9,  -999.00,9,  -999.00,9,     0.05,2,      -999,9,   2358.0,2,     -999,9,  15.1334
         OMEX2,   936,  1,      4,19990111, 39.4972,  -9.9253, 1603,    152.3,  13.6430,  35.8710,2,-999.0000,9,    213.3,2,    214.5,2,  -999.00,9,  -999.00,9,  -999.00,9,     0.43,2,      -999,9,   2351.7,2,     -999,9,  13.6212
         OMEX2,   936,  1,      5,19990111, 39.4972,  -9.9253, 1603,    202.1,  13.2170,  35.8220,2,-999.0000,9,    213.1,2,    214.1,2,  -999.00,9,  -999.00,9,  -999.00,9,     0.55,2,      -999,9,   2348.9,2,     -999,9,  13.1887
         OMEX2,   936,  1,      6,19990111, 39.4972,  -9.9253, 1603,    302.8,  12.3870,  35.7250,2,-999.0000,9,    207.3,2,    207.3,2,  -999.00,9,  -999.00,9,  -999.00,9,     0.73,2,      -999,9,   2347.3,2,     -999,9,  12.3462
         OMEX2,   936,  1,      7,19990111, 39.4972,  -9.9253, 1603,    403.4,  11.7330,  35.6630,2,-999.0000,9,    202.6,2,    197.6,2,  -999.00,9,  -999.00,9,  -999.00,9,     0.82,2,      -999,9,   2343.6,2,     -999,9,  11.6803
         OMEX2,   936,  1,      8,19990111, 39.4972,  -9.9253, 1603,    503.6,  11.4440,  35.7080,2,-999.0000,9,    196.4,2,    193.3,2,  -999.00,9,  -999.00,9,  -999.00,9,     0.89,2,      -999,9,   2347.7,2,     -999,9,  11.3790
         OMEX2,   936,  1,      9,19990111, 39.4972,  -9.9253, 1603,    603.5,  11.6060,  35.8690,2,-999.0000,9,    188.3,2,    187.0,2,  -999.00,9,  -999.00,9,  -999.00,9,     0.91,2,      -999,9,   2358.7,2,     -999,9,  11.5269
         OMEX2,   936,  1,     10,19990111, 39.4972,  -9.9253, 1603,    704.7,  11.7010,  36.0280,2,-999.0000,9,    185.5,2,    184.8,2,  -999.00,9,  -999.00,9,  -999.00,9,     0.86,2,      -999,9,   2370.7,2,     -999,9,  11.6076
         OMEX2,   936,  1,     11,19990111, 39.4972,  -9.9253, 1603,    806.3,  11.5880,  36.1000,2,-999.0000,9,    184.5,2,    183.1,2,  -999.00,9,  -999.00,9,  -999.00,9,     0.86,2,      -999,9,   2388.8,2,     -999,9,  11.4813
         OMEX2,   936,  1,     12,19990111, 39.4972,  -9.9253, 1603,    906.5,  11.3350,  36.1630,2,-999.0000,9,    182.8,2,    181.1,2,  -999.00,9,  -999.00,9,  -999.00,9,     0.88,2,      -999,9,   2389.9,2,     -999,9,  11.2161
         OMEX2,   937,  1,      1,19990111, 39.4961,  -9.9226, 3551,     34.2,  15.1480,  36.0480,2,-999.0000,9,    240.2,2,   -999.0,9,  -999.00,9,  -999.00,9,  -999.00,9,  -999.00,9,      -999,9,   -999.0,9,     -999,9,  15.1428
         OMEX2,   937,  1,      2,19990111, 39.4961,  -9.9226, 3551,   1009.6,  11.3540,  36.2460,2,-999.0000,9,    184.3,2,    183.4,2,  -999.00,9,  -999.00,9,  -999.00,9,     0.91,2,      -999,9,   2395.9,2,     -999,9,  11.2207
         OMEX2,   937,  1,      3,19990111, 39.4961,  -9.9226, 3551,   1110.6,  10.8630,  36.1790,2,-999.0000,9,    185.7,2,    183.7,2,  -999.00,9,  -999.00,9,  -999.00,9,     0.93,2,      -999,9,   2393.1,2,     -999,9,  10.7197
         OMEX2,   937,  1,      4,19990111, 39.4961,  -9.9226, 3551,   1209.4,  10.7200,  36.2010,2,-999.0000,9,    188.2,2,   -999.0,9,  -999.00,9,  -999.00,9,  -999.00,9,  -999.00,9,      -999,9,   -999.0,9,     -999,9,  10.5644
         OMEX2,   937,  1,      5,19990111, 39.4961,  -9.9226, 3551,   1411.5,   8.7960,  35.8590,2,-999.0000,9,    207.1,2,    202.4,2,  -999.00,9,  -999.00,9,  -999.00,9,     1.01,2,      -999,9,   2371.9,2,     -999,9,   8.6325
         OMEX2,   937,  1,      6,19990111, 39.4961,  -9.9226, 3551,   1615.0,   6.7240,  35.5060,2,-999.0000,9,    229.4,2,    222.9,2,  -999.00,9,  -999.00,9,  -999.00,9,     1.12,2,      -999,9,   2352.5,2,     -999,9,   6.5595
         OMEX2,   937,  1,      7,19990111, 39.4961,  -9.9226, 3551,   1817.0,   4.9960,  35.2190,2,-999.0000,9,    246.9,2,    240.5,2,  -999.00,9,  -999.00,9,  -999.00,9,     1.24,2,      -999,9,   2343.9,2,     -999,9,   4.8321
         OMEX2,   937,  1,      8,19990111, 39.4961,  -9.9226, 3551,   2019.2,   4.2850,  35.1250,2,-999.0000,9,    249.8,2,    243.3,2,  -999.00,9,  -999.00,9,  -999.00,9,     1.22,2,      -999,9,   2343.1,2,     -999,9,   4.1108
         OMEX2,   937,  1,      9,19990111, 39.4961,  -9.9226, 3551,   2527.0,   3.3710,  35.0120,2,-999.0000,9,    250.1,2,    244.8,2,  -999.00,9,  -999.00,9,  -999.00,9,     1.33,2,      -999,9,   2347.3,2,     -999,9,   3.1612
         OMEX2,   937,  1,     10,19990111, 39.4961,  -9.9226, 3551,   3034.2,   2.9130,  34.9610,2,-999.0000,9,    247.9,2,    244.6,2,  -999.00,9,  -999.00,9,  -999.00,9,     1.41,2,      -999,9,   2352.5,2,     -999,9,   2.6604
         OMEX2,   937,  1,     11,19990111, 39.4961,  -9.9226, 3551,   3541.4,   2.6320,  34.9270,2,  34.9250,2,    245.6,2,    242.9,2,  -999.00,9,  -999.00,9,  -999.00,9,     1.36,2,      -999,9,   2361.5,2,     -999,9,   2.3316
         OMEX2,   938,  1,      1,19990112, 39.5664, -10.1659, 4067,     25.2,  14.9260,  36.0280,2,-999.0000,9,    236.9,2,   -999.0,9,  -999.00,9,  -999.00,9,  -999.00,9,     0.09,2,      -999,9,   -999.0,9,     -999,9,  14.9222
         OMEX2,   938,  1,      2,19990112, 39.5664, -10.1659, 4067,     34.7,  14.9290,  36.0280,2,-999.0000,9,    237.0,2,   -999.0,9,  -999.00,9,  -999.00,9,  -999.00,9,  -999.00,9,      -999,9,   -999.0,9,     -999,9,  14.9237
         OMEX2,   938,  1,      3,19990112, 39.5664, -10.1659, 4067,    104.8,  14.9100,  36.0320,2,-999.0000,9,    234.6,2,   -999.0,9,  -999.00,9,  -999.00,9,  -999.00,9,     0.11,2,      -999,9,   -999.0,9,     -999,9,  14.8941
         OMEX2,   938,  1,      4,19990112, 39.5664, -10.1659, 4067,    505.4,  11.3860,  35.6680,2,-999.0000,9,    199.7,2,   -999.0,9,  -999.00,9,  -999.00,9,  -999.00,9,     0.83,2,      -999,9,   -999.0,9,     -999,9,  11.3209
         OMEX2,   938,  1,      5,19990112, 39.5664, -10.1659, 4067,    809.0,  11.8390,  36.1350,2,-999.0000,9,    185.6,2,   -999.0,9,  -999.00,9,  -999.00,9,  -999.00,9,  -999.00,9,      -999,9,   -999.0,9,     -999,9,  11.7305
         OMEX2,   938,  1,      6,19990112, 39.5664, -10.1659, 4067,    909.2,  11.4590,  36.1330,2,-999.0000,9,    184.5,2,   -999.0,9,  -999.00,9,  -999.00,9,  -999.00,9,     0.87,2,      -999,9,   -999.0,9,     -999,9,  11.3389
         OMEX2,   938,  1,      7,19990112, 39.5664, -10.1659, 4067,   1111.3,  10.9800,  36.1730,2,-999.0000,9,    185.8,2,   -999.0,9,  -999.00,9,  -999.00,9,  -999.00,9,     1.04,2,      -999,9,   -999.0,9,     -999,9,  10.8357
         OMEX2,   938,  1,      8,19990112, 39.5664, -10.1659, 4067,   1515.9,   7.8340,  35.6850,2,-999.0000,9,    217.7,2,   -999.0,9,  -999.00,9,  -999.00,9,  -999.00,9,     0.80,4,      -999,9,   -999.0,9,     -999,9,   7.6681
         OMEX2,   938,  1,      9,19990112, 39.5664, -10.1659, 4067,   2021.8,   4.2830,  35.1190,2,-999.0000,9,    251.3,2,   -999.0,9,  -999.00,9,  -999.00,9,  -999.00,9,     1.22,2,      -999,9,   -999.0,9,     -999,9,   4.1086
         OMEX2,   938,  1,     10,19990112, 39.5664, -10.1659, 4067,   3343.3,   2.6940,  34.9360,2,-999.0000,9,    246.7,2,   -999.0,9,  -999.00,9,  -999.00,9,  -999.00,9,     1.43,2,      -999,9,   -999.0,9,     -999,9,   2.4136
         OMEX2,   938,  1,     11,19990112, 39.5664, -10.1659, 4067,   4057.1,   2.4790,  34.9070,2,-999.0000,9,    244.7,2,   -999.0,9,  -999.00,9,  -999.00,9,  -999.00,9,     0.71,4,      -999,9,   -999.0,9,     -999,9,   2.1246
         OMEX2,   939,  1,      1,19990113, 36.5522,  -8.5022,  311,     10.5,  17.0010,  36.4610,2,-999.0000,9,    230.2,2,    234.7,2,  -999.00,9,  -999.00,9,  -999.00,9,     0.01,2,      -999,9,   2387.0,2,     -999,9,  16.9993
         OMEX2,   939,  1,      2,19990113, 36.5522,  -8.5022,  311,     30.8,  16.9120,  36.4410,2,-999.0000,9,    228.3,2,    233.9,2,  -999.00,9,  -999.00,9,  -999.00,9,     0.05,2,      -999,9,   2386.1,2,     -999,9,  16.9069
         OMEX2,   939,  1,      3,19990113, 36.5522,  -8.5022,  311,     50.6,  16.9010,  36.4380,2,-999.0000,9,    227.6,2,    232.9,2,  -999.00,9,  -999.00,9,  -999.00,9,     0.03,2,      -999,9,   2387.1,2,     -999,9,  16.8926
         OMEX2,   939,  1,      4,19990113, 36.5522,  -8.5022,  311,     75.4,  16.6290,  36.3700,2,-999.0000,9,    223.6,2,    229.8,2,  -999.00,9,  -999.00,9,  -999.00,9,     0.07,2,      -999,9,   2383.2,2,     -999,9,  16.6167
         OMEX2,   939,  1,      5,19990113, 36.5522,  -8.5022,  311,     99.4,  15.6230,  36.1800,2,-999.0000,9,    217.5,2,    217.1,2,  -999.00,9,  -999.00,9,  -999.00,9,     0.26,2,      -999,9,   2365.8,2,     -999,9,  15.6074
         OMEX2,   939,  1,      6,19990113, 36.5522,  -8.5022,  311,    149.6,  14.4760,  36.0090,2,-999.0000,9,    204.2,2,    206.0,2,  -999.00,9,  -999.00,9,  -999.00,9,     0.47,2,      -999,9,   2358.4,2,     -999,9,  14.4537
         OMEX2,   939,  1,      7,19990113, 36.5522,  -8.5022,  311,    201.8,  13.9130,  35.9320,2,-999.0000,9,    202.4,2,    203.8,2,  -999.00,9,  -999.00,9,  -999.00,9,     0.53,2,      -999,9,   2354.6,2,     -999,9,  13.8837
         OMEX2,   939,  1,      8,19990113, 36.5522,  -8.5022,  311,    301.2,  12.7740,  35.7700,2,  35.7780,2,    203.9,2,    204.4,2,  -999.00,9,  -999.00,9,  -999.00,9,     0.68,2,      -999,9,   2348.2,2,     -999,9,  12.7326