BOTTLE,20090114PRINUNIVRMKPRINUNIVRMK
EXPOCODE,STNNBR,CASTNO,BTLNBR,DATE,LATITUDE,LONGITUDE,DEPTH,CTDPRS,CTDTMP,CTDSAL,CTDSAL_FLAG_W,SALNTY,SALNTY_FLAG_W,CTDOXY,CTDOXY_FLAG_W,OXYGEN,OXYGEN_FLAG_W,SILCAT,SILCAT_FLAG_W,NITRAT,NITRAT_FLAG_W,NITRIT,NITRIT_FLAG_W,PHSPHT,PHSPHT_FLAG_W,AMMONI,AMMONI_FLAG_W,ALKALI,ALKALI_FLAG_W,UREA,UREA_FLAG_W,THETA
,,,,,,,METERS,DBARS,ITS-90,PSS-78,,PSS-78,,UMOL/KG,,UMOL/KG,,UMOL/KG,,UMOL/KG,,UMOL/KG,,UMOL/KG,,UMOL/KG,,UMOL/KG,,UMOL/KG,,DEGC
         OMEX2,   311,  1,      1,19970704, 47.3983,  -7.2708,  469,      8.8,  15.0310,  35.6580,2,-999.0000,9,    251.5,2,   -999.0,9,     0.26,2,  -999.00,9,  -999.00,9,     0.05,2,      -999,9,   -999.0,9,     -999,9,  15.0297
         OMEX2,   311,  1,      2,19970704, 47.3983,  -7.2708,  469,     18.7,  14.9530,  35.6740,2,-999.0000,9,    250.5,2,   -999.0,9,     0.37,2,  -999.00,9,  -999.00,9,     0.07,2,      -999,9,   -999.0,9,     -999,9,  14.9502
         OMEX2,   311,  1,      3,19970704, 47.3983,  -7.2708,  469,     39.5,  14.3000,  35.6730,2,-999.0000,9,    245.9,2,   -999.0,9,     0.64,2,  -999.00,9,  -999.00,9,     0.18,2,      -999,9,   -999.0,9,     -999,9,  14.2942
         OMEX2,   311,  1,      4,19970704, 47.3983,  -7.2708,  469,     59.3,  13.3960,  35.6710,2,-999.0000,9,    240.0,2,   -999.0,9,     1.31,2,  -999.00,9,  -999.00,9,     0.40,2,      -999,9,   -999.0,9,     -999,9,  13.3877
         OMEX2,   311,  1,      5,19970704, 47.3983,  -7.2708,  469,     79.3,  12.3690,  35.6570,2,-999.0000,9,    237.5,2,   -999.0,9,     1.81,2,  -999.00,9,  -999.00,9,     0.38,2,      -999,9,   -999.0,9,     -999,9,  12.3584
         OMEX2,   311,  1,      6,19970704, 47.3983,  -7.2708,  469,    100.0,  12.0400,  35.6410,2,-999.0000,9,    240.2,2,   -999.0,9,     1.98,2,  -999.00,9,  -999.00,9,     0.42,2,      -999,9,   -999.0,9,     -999,9,  12.0269
         OMEX2,   311,  1,      7,19970704, 47.3983,  -7.2708,  469,    150.1,  11.7310,  35.6140,2,-999.0000,9,    237.2,2,   -999.0,9,     2.41,2,  -999.00,9,  -999.00,9,     0.51,2,      -999,9,   -999.0,9,     -999,9,  11.7116
         OMEX2,   311,  1,      8,19970704, 47.3983,  -7.2708,  469,    200.7,  11.5660,  35.6030,2,-999.0000,9,    237.1,2,   -999.0,9,     2.79,2,  -999.00,9,  -999.00,9,     0.56,2,      -999,9,   -999.0,9,     -999,9,  11.5403
         OMEX2,   311,  1,      9,19970704, 47.3983,  -7.2708,  469,    302.2,  11.3320,  35.5890,2,  35.5880,2,    233.3,2,   -999.0,9,     3.49,2,  -999.00,9,  -999.00,9,     0.61,2,      -999,9,   -999.0,9,     -999,9,  11.2936
         OMEX2,   312,  1,      1,19970705, 47.4608,  -7.2427,  469,    302.1,  11.4640,  35.5940,2,  35.5950,2,    236.8,2,   -999.0,9,  -999.00,9,  -999.00,9,  -999.00,9,  -999.00,9,      -999,9,   -999.0,9,     -999,9,  11.4253
         OMEX2,   313,  1,      1,19970705, 47.5282,  -7.2102,  315,    304.8,  11.4290,  35.5960,2,  35.6000,2,    229.9,2,   -999.0,9,  -999.00,9,  -999.00,9,  -999.00,9,  -999.00,9,      -999,9,   -999.0,9,     -999,9,  11.3900
         OMEX2,   314,  1,      1,19970705, 47.5894,  -7.1740,  171,    155.1,  11.8980,  35.6150,2,  35.6150,2,    232.2,2,   -999.0,9,  -999.00,9,  -999.00,9,  -999.00,9,  -999.00,9,      -999,9,   -999.0,9,     -999,9,  11.8778
         OMEX2,   315,  1,      1,19970705, 47.6412,  -7.1349,  171,      9.0,  14.0640,  35.6400,2,-999.0000,9,    248.4,2,    250.8,2,     0.61,2,  -999.00,9,  -999.00,9,     0.14,2,      -999,9,   2350.5,2,     -999,9,  14.0627
         OMEX2,   315,  1,      2,19970705, 47.6412,  -7.1349,  171,     19.1,  14.0520,  35.6400,2,-999.0000,9,    249.0,2,    250.8,2,     0.58,2,  -999.00,9,  -999.00,9,     0.15,2,      -999,9,   2349.5,2,     -999,9,  14.0492
         OMEX2,   315,  1,      3,19970705, 47.6412,  -7.1349,  171,     38.9,  14.0470,  35.6400,2,-999.0000,9,    249.3,2,    249.6,2,     0.66,2,  -999.00,9,  -999.00,9,     0.16,2,      -999,9,   2349.6,2,     -999,9,  14.0414
         OMEX2,   315,  1,      4,19970705, 47.6412,  -7.1349,  171,     59.5,  14.0530,  35.6400,2,-999.0000,9,    249.4,2,    248.7,2,     0.71,2,  -999.00,9,  -999.00,9,     0.20,2,      -999,9,   2349.5,2,     -999,9,  14.0444
         OMEX2,   315,  1,      5,19970705, 47.6412,  -7.1349,  171,     79.3,  13.4120,  35.6450,2,-999.0000,9,    241.1,2,    239.2,2,     1.93,2,  -999.00,9,  -999.00,9,     0.33,2,      -999,9,   2351.8,2,     -999,9,  13.4008
         OMEX2,   315,  1,      6,19970705, 47.6412,  -7.1349,  171,     99.0,  12.6820,  35.6360,2,-999.0000,9,    235.1,2,    234.3,2,     2.67,2,  -999.00,9,  -999.00,9,     0.40,2,      -999,9,   2348.2,2,     -999,9,  12.6686
         OMEX2,   315,  1,      7,19970705, 47.6412,  -7.1349,  171,    160.9,  12.3190,  35.6230,2,  35.6230,2,    234.2,2,    233.8,2,     3.09,2,  -999.00,9,  -999.00,9,     0.45,2,      -999,9,   2349.3,2,     -999,9,  12.2975
         OMEX2,   401,  1,      1,19980110, 41.4224,  -9.3856, 1956,      4.1,  15.8150,  36.0140,2,-999.0000,9,   -999.0,9,    240.5,2,     0.73,2,     0.45,2,     0.18,2,     0.07,2, 0.0292686,2,   2362.7,2,     -999,9,  15.8144
         OMEX2,   401,  1,      2,19980110, 41.4224,  -9.3856, 1956,     46.6,  15.8350,  36.0190,2,-999.0000,9,   -999.0,9,    239.9,2,     0.73,2,     0.45,2,     0.18,2,     0.05,2,0.00975616,2,   2364.6,2,     -999,9,  15.8277
         OMEX2,   401,  1,      3,19980110, 41.4224,  -9.3856, 1956,     97.6,  15.8660,  36.0320,2,-999.0000,9,   -999.0,9,    230.7,2,     0.88,2,     1.62,2,     0.14,2,     0.12,2,         0,2,   2361.6,2,     -999,9,  15.8506
         OMEX2,   401,  1,      4,19980110, 41.4224,  -9.3856, 1956,    198.9,  14.0730,  35.9620,2,-999.0000,9,   -999.0,9,    212.6,2,     2.44,2,     7.87,2,     0.01,2,     0.45,2,         0,2,   2348.5,2,     -999,9,  14.0439
         OMEX2,   401,  1,      5,19980110, 41.4224,  -9.3856, 1956,    301.3,  12.5300,  35.7410,2,-999.0000,9,   -999.0,9,    215.3,2,     3.42,2,    10.56,2,     0.00,2,     0.62,2,         0,2,   2342.2,2,     -999,9,  12.4891
         OMEX2,   401,  1,      6,19980110, 41.4224,  -9.3856, 1956,    498.6,  11.2750,  35.6300,2,-999.0000,9,   -999.0,9,    209.2,2,     5.31,2,    13.73,2,     0.00,2,     0.82,2,         0,2,   2338.7,2,     -999,9,  11.2113
         OMEX2,   401,  1,      7,19980110, 41.4224,  -9.3856, 1956,    601.9,  11.5600,  35.8490,2,-999.0000,9,   -999.0,9,    193.8,2,     6.40,2,    14.43,2,     0.00,2,     0.86,2,         0,2,   2350.6,2,     -999,9,  11.4813
         OMEX2,   401,  1,      8,19980110, 41.4224,  -9.3856, 1956,    801.7,  11.8500,  36.1410,2,-999.0000,9,   -999.0,9,    185.7,2,     6.80,2,    13.95,2,     0.00,2,     0.81,2,         0,2,   2383.7,2,     -999,9,  11.7424
         OMEX2,   401,  1,      9,19980110, 41.4224,  -9.3856, 1956,   1001.3,  11.3940,  36.1850,2,-999.0000,9,   -999.0,9,    183.6,2,     7.97,2,    14.70,2,     0.03,2,     0.87,2,         0,2,   2388.9,2,     -999,9,  11.2617
         OMEX2,   401,  1,     10,19980110, 41.4224,  -9.3856, 1956,   1508.3,   6.7130,  35.4130,2,-999.0000,9,   -999.0,9,    228.2,2,    11.84,2,    17.46,2,     0.00,2,     1.09,2,         0,2,   2340.5,2,     -999,9,   6.5608
         OMEX2,   401,  1,     11,19980110, 41.4224,  -9.3856, 1956,   1814.1,   5.0260,  35.2020,2,-999.0000,9,   -999.0,9,    244.3,2,    15.07,2,    17.83,2,     0.00,2,     1.14,2,         0,2,   2332.9,2,     -999,9,   4.8620
         OMEX2,   401,  1,     12,19980110, 41.4224,  -9.3856, 1956,   1945.8,   4.1740,  35.0890,2,  35.0930,2,   -999.0,9,    248.4,2,    18.30,2,    18.25,2,     0.01,2,     1.19,2,         0,2,   2332.1,2,     -999,9,   4.0089
         OMEX2,   402,  1,      1,19980110, 41.4202,  -9.0998,  889,      3.9,  15.9080,  35.9120,2,-999.0000,9,   -999.0,9,   -999.0,9,  -999.00,9,  -999.00,9,  -999.00,9,  -999.00,9,      -999,9,   -999.0,9,     -999,9,  15.9074
         OMEX2,   402,  1,      2,19980110, 41.4202,  -9.0998,  889,     21.8,  15.8840,  35.9260,2,-999.0000,9,   -999.0,9,   -999.0,9,  -999.00,9,  -999.00,9,  -999.00,9,  -999.00,9,      -999,9,   -999.0,9,     -999,9,  15.8806
         OMEX2,   402,  1,      3,19980110, 41.4202,  -9.0998,  889,     46.5,  15.8720,  35.9530,2,-999.0000,9,   -999.0,9,   -999.0,9,  -999.00,9,  -999.00,9,  -999.00,9,  -999.00,9,      -999,9,   -999.0,9,     -999,9,  15.8647
         OMEX2,   402,  1,      4,19980110, 41.4202,  -9.0998,  889,     71.0,  15.8920,  35.9840,2,-999.0000,9,   -999.0,9,   -999.0,9,  -999.00,9,  -999.00,9,  -999.00,9,  -999.00,9,      -999,9,   -999.0,9,     -999,9,  15.8808
         OMEX2,   403,  1,      1,19980110, 41.4192,  -9.1015,  889,      4.1,  15.9160,  35.8980,2,  35.8950,2,   -999.0,9,    240.1,2,     1.49,2,     1.09,2,     0.09,2,     0.11,2,         0,2,   2352.6,2,     -999,9,  15.9153
         OMEX2,   403,  1,      2,19980110, 41.4192,  -9.1015,  889,     21.2,  15.9180,  35.9260,2,-999.0000,9,   -999.0,9,    239.2,2,     1.38,2,     0.95,2,     0.11,2,     0.10,2,         0,2,   2360.6,2,     -999,9,  15.9147
         OMEX2,   403,  1,      3,19980110, 41.4192,  -9.1015,  889,     46.3,  15.8670,  35.9540,2,-999.0000,9,   -999.0,9,    238.9,2,     1.11,2,     0.78,2,     0.16,2,     0.09,2,         0,2,   2361.6,2,     -999,9,  15.8597
         OMEX2,   403,  1,      4,19980110, 41.4192,  -9.1015,  889,     71.6,  15.8830,  35.9930,2,-999.0000,9,   -999.0,9,    238.4,2,     1.05,2,     0.69,2,     0.21,2,     0.09,2,         0,2,   2362.6,2,     -999,9,  15.8717
         OMEX2,   403,  1,      5,19980110, 41.4192,  -9.1015,  889,     99.6,  15.5150,  36.0100,2,-999.0000,9,   -999.0,9,    222.2,2,     2.26,2,     2.87,2,     0.12,2,     0.28,2, 0.0487811,2,   2361.8,2,     -999,9,  15.4995
         OMEX2,   404,  1,      1,19980110, 41.4180,  -9.1007,  889,      3.8,  15.8990,  35.9170,2,-999.0000,9,   -999.0,9,   -999.0,9,  -999.00,9,  -999.00,9,  -999.00,9,  -999.00,9,      -999,9,   -999.0,9,     -999,9,  15.8984
         OMEX2,   404,  1,      2,19980110, 41.4180,  -9.1007,  889,     44.7,  15.8140,  36.0080,2,-999.0000,9,   -999.0,9,   -999.0,9,  -999.00,9,  -999.00,9,  -999.00,9,  -999.00,9,      -999,9,   -999.0,9,     -999,9,  15.8069
         OMEX2,   404,  1,      3,19980110, 41.4180,  -9.1007,  889,     81.7,  15.4570,  36.0120,2,-999.0000,9,   -999.0,9,   -999.0,9,  -999.00,9,  -999.00,9,  -999.00,9,  -999.00,9,      -999,9,   -999.0,9,     -999,9,  15.4443
         OMEX2,   404,  1,      4,19980110, 41.4180,  -9.1007,  889,     99.4,  15.2720,  36.0070,2,-999.0000,9,   -999.0,9,   -999.0,9,  -999.00,9,  -999.00,9,  -999.00,9,  -999.00,9,      -999,9,   -999.0,9,     -999,9,  15.2567
         OMEX2,   405,  1,      1,19980114, 42.6561, -10.2989, 3349,      3.3,  14.3540,  35.8620,2,-999.0000,9,   -999.0,9,    246.8,2,     1.12,2,     1.69,2,     0.16,2,     0.13,2, 0.0390292,2,   2352.4,2,     -999,9,  14.3535
         OMEX2,   405,  1,      2,19980114, 42.6561, -10.2989, 3349,     78.6,  14.3660,  35.8590,2,-999.0000,9,   -999.0,9,    245.9,2,     1.36,2,     1.74,2,     0.16,2,     0.14,2,   0.14636,2,   2350.3,2,     -999,9,  14.3544
         OMEX2,   405,  1,      3,19980114, 42.6561, -10.2989, 3349,    121.2,  14.3710,  35.8580,2,-999.0000,9,   -999.0,9,    245.4,2,     1.56,2,     1.94,2,     0.16,2,     0.16,2,  0.204904,2,   2351.3,2,     -999,9,  14.3531
         OMEX2,   405,  1,      4,19980114, 42.6561, -10.2989, 3349,    152.2,  13.8980,  35.8980,2,-999.0000,9,   -999.0,9,    226.1,2,     1.93,2,     5.13,2,     0.05,2,     0.30,2, 0.0780563,2,   2353.6,2,     -999,9,  13.8760
         OMEX2,   405,  1,      5,19980114, 42.6561, -10.2989, 3349,    486.2,  11.1990,  35.6180,2,-999.0000,9,   -999.0,9,    208.6,2,     6.17,2,    14.05,2,     0.00,2,     0.81,2,   0.10735,2,   2344.8,2,     -999,9,  11.1371
         OMEX2,   405,  1,      6,19980114, 42.6561, -10.2989, 3349,    635.8,  11.4230,  35.8750,2,-999.0000,9,   -999.0,9,    190.6,2,     7.58,2,    14.73,2,     0.00,2,     0.85,2, 0.0195144,2,   2371.8,2,     -999,9,  11.3404
         OMEX2,   405,  1,      7,19980114, 42.6561, -10.2989, 3349,    801.9,  11.9670,  36.1840,2,-999.0000,9,   -999.0,9,    186.9,2,     7.63,2,    13.93,2,     0.00,2,     0.79,2, 0.0390198,2,   2384.6,2,     -999,9,  11.8587
         OMEX2,   405,  1,      8,19980114, 42.6561, -10.2989, 3349,   1004.5,  11.4170,  36.1790,2,  36.1810,2,   -999.0,9,    185.3,2,     8.86,2,    15.01,2,     0.00,2,     0.86,2,  0.087795,2,   2386.8,2,     -999,9,  11.2841
         OMEX2,   405,  1,      9,19980114, 42.6561, -10.2989, 3349,   1196.8,  10.9200,  36.2120,2,-999.0000,9,   -999.0,9,    187.1,2,     9.84,2,    15.51,2,     0.00,2,     0.89,2,  0.039019,2,   2394.1,2,     -999,9,  10.7645
         OMEX2,   405,  1,     10,19980114, 42.6561, -10.2989, 3349,   1444.2,   7.2340,  35.5060,2,-999.0000,9,   -999.0,9,    220.5,2,    12.84,2,    17.75,2,     0.00,2,     1.07,2, 0.0195197,2,   2346.3,2,     -999,9,   7.0832
         OMEX2,   405,  1,     11,19980114, 42.6561, -10.2989, 3349,   1820.3,   4.3060,  35.0480,2,-999.0000,9,   -999.0,9,    256.9,2,    15.39,2,    18.27,2,     0.00,2,     1.14,2, 0.0195264,2,   2314.0,2,     -999,9,   4.1515
         OMEX2,   405,  1,     12,19980114, 42.6561, -10.2989, 3349,   2809.7,   2.8950,  34.9580,2,  34.9580,2,   -999.0,9,    249.4,2,    35.55,2,    20.75,2,     0.00,2,     1.35,2, 0.0390554,2,   2343.4,2,     -999,9,   2.6660
         OMEX2,   406,  1,      1,19980114, 42.6689,  -9.4972,  321,      4.8,  15.5630,  35.9500,2,-999.0000,9,   -999.0,9,   -999.0,9,     1.59,2,     1.33,2,     0.15,2,     0.12,2, 0.0390266,2,   -999.0,9,     -999,9,  15.5622
         OMEX2,   406,  1,      2,19980114, 42.6689,  -9.4972,  321,     21.8,  15.5710,  35.9490,2,-999.0000,9,   -999.0,9,   -999.0,9,     1.57,2,     1.29,2,     0.15,2,     0.11,2, 0.0390267,2,   -999.0,9,     -999,9,  15.5676
         OMEX2,   406,  1,      3,19980114, 42.6689,  -9.4972,  321,     48.3,  15.5730,  35.9630,2,-999.0000,9,   -999.0,9,   -999.0,9,     1.40,2,     1.22,2,     0.17,2,     0.11,2, 0.0390262,2,   -999.0,9,     -999,9,  15.5655
         OMEX2,   406,  1,      4,19980114, 42.6689,  -9.4972,  321,     72.8,  15.5450,  35.9710,2,-999.0000,9,   -999.0,9,   -999.0,9,     1.21,2,     1.10,2,     0.18,2,     0.10,2,  0.039026,2,   -999.0,9,     -999,9,  15.5337
         OMEX2,   406,  1,      5,19980114, 42.6689,  -9.4972,  321,     97.3,  15.3920,  35.9690,2,  35.9740,2,   -999.0,9,   -999.0,9,     0.98,2,     0.89,2,     0.20,2,     0.08,2,         0,2,   -999.0,9,     -999,9,  15.3769
         OMEX2,   406,  1,      6,19980114, 42.6689,  -9.4972,  321,    172.1,  15.2370,  35.9750,2,-999.0000,9,   -999.0,9,   -999.0,9,     1.63,2,     2.21,2,     0.16,2,     0.18,2, 0.0390259,2,   -999.0,9,     -999,9,  15.2105
         OMEX2,   407,  1,      1,19980114, 42.6697,  -9.5006, 2059,      3.2,  15.5860,  35.9580,2,-999.0000,9,   -999.0,9,    239.3,2,     1.59,2,     1.29,2,     0.17,2,     0.14,2, 0.0292698,2,   2353.8,2,     -999,9,  15.5855
         OMEX2,   407,  1,      2,19980114, 42.6697,  -9.5006, 2059,     21.2,  15.6030,  35.9550,2,  35.9500,2,   -999.0,9,    238.9,2,     1.60,2,     1.28,2,     0.17,2,     0.13,2, 0.0390265,2,   2355.7,2,     -999,9,  15.5997
         OMEX2,   407,  1,      3,19980114, 42.6697,  -9.5006, 2059,     47.6,  15.6110,  35.9560,2,-999.0000,9,   -999.0,9,    238.5,2,     1.60,2,     1.28,2,     0.17,2,     0.12,2, 0.0292698,2,   2351.7,2,     -999,9,  15.6036
         OMEX2,   407,  1,      4,19980114, 42.6697,  -9.5006, 2059,     73.6,  15.6140,  35.9560,2,-999.0000,9,   -999.0,9,    239.2,2,     1.60,2,     1.26,2,     0.17,2,     0.12,2, 0.0292698,2,   2354.8,2,     -999,9,  15.6025
         OMEX2,   407,  1,      5,19980114, 42.6697,  -9.5006, 2059,    102.4,  15.5960,  35.9720,2,-999.0000,9,   -999.0,9,    237.0,2,     1.61,2,     1.34,2,     0.17,2,     0.14,2,         0,2,   2356.8,2,     -999,9,  15.5800
         OMEX2,   407,  1,      6,19980114, 42.6697,  -9.5006, 2059,    152.0,  14.6890,  35.9850,2,-999.0000,9,   -999.0,9,    218.3,2,     2.56,2,     4.64,2,     0.09,2,     0.33,2,         0,2,   2359.2,2,     -999,9,  14.6661
         OMEX2,   407,  1,      7,19980114, 42.6697,  -9.5006, 2059,    178.0,  14.4750,  35.9750,2,-999.0000,9,   -999.0,9,    213.2,2,     2.73,2,     5.97,2,     0.05,2,     0.41,2,         0,2,   2357.4,2,     -999,9,  14.4485
         OMEX2,   408,  1,      1,19980115, 42.6675,  -9.4980,  321,     21.4,  15.5850,  35.9470,2,-999.0000,9,   -999.0,9,   -999.0,9,  -999.00,9,  -999.00,9,  -999.00,9,  -999.00,9,      -999,9,   -999.0,9,     -999,9,  15.5817
         OMEX2,   408,  1,      2,19980115, 42.6675,  -9.4980,  321,     45.7,  15.5860,  35.9470,2,-999.0000,9,   -999.0,9,   -999.0,9,  -999.00,9,  -999.00,9,  -999.00,9,  -999.00,9,      -999,9,   -999.0,9,     -999,9,  15.5789
         OMEX2,   408,  1,      3,19980115, 42.6675,  -9.4980,  321,    167.9,  15.0270,  35.9670,2,-999.0000,9,   -999.0,9,   -999.0,9,  -999.00,9,  -999.00,9,  -999.00,9,  -999.00,9,      -999,9,   -999.0,9,     -999,9,  15.0014
         OMEX2,   408,  1,      4,19980115, 42.6675,  -9.4980,  321,    177.6,  14.6650,  35.9580,2,-999.0000,9,   -999.0,9,   -999.0,9,  -999.00,9,  -999.00,9,  -999.00,9,  -999.00,9,      -999,9,   -999.0,9,     -999,9,  14.6383
         OMEX2,   409,  1,      1,19980115, 42.6683,  -9.2106,  321,      4.5,  14.3000,  33.0750,2,-999.0000,9,   -999.0,9,    259.3,2,    11.97,2,     9.89,2,     0.73,2,     0.34,2, 0.0586649,2,   2217.0,3,     -999,9,  14.2994
         OMEX2,   409,  1,      2,19980115, 42.6683,  -9.2106,  321,     19.3,  14.6780,  33.6570,2,-999.0000,9,   -999.0,9,    242.5,2,     5.91,2,     4.88,2,     0.35,2,     0.24,2, 0.0488663,2,   2310.0,3,     -999,9,  14.6752
         OMEX2,   409,  1,      3,19980115, 42.6683,  -9.2106,  321,     44.4,  15.4820,  35.3810,2,-999.0000,9,   -999.0,9,    240.1,2,     4.03,2,     3.08,2,     0.25,2,     0.17,2, 0.0488039,2,   2331.8,2,     -999,9,  15.4751
         OMEX2,   409,  1,      4,19980115, 42.6683,  -9.2106,  321,     63.7,  15.5050,  35.9250,2,-999.0000,9,   -999.0,9,    239.3,2,     1.53,2,     1.19,2,     0.21,2,     0.15,2, 0.0390273,2,   2353.8,2,     -999,9,  15.4951
         OMEX2,   409,  1,      5,19980115, 42.6683,  -9.2106,  321,     89.2,  15.4510,  35.9740,2,  35.9730,2,   -999.0,9,    242.2,2,     1.19,2,     0.89,2,     0.23,2,     0.13,2, 0.0390259,2,   2354.8,2,     -999,9,  15.4372