BOTTLE,20090114PRINUNIVRMKPRINUNIVRMK
# 02/01/2008 Initialized README file 
# Data from A. Borges 01/11/2008. 
# Data retrived from BODC by A. Borges. 
# OMEX2 project time series. 
# Region: Gulf of Biscay and Iberian margin; Galicia region 
# station		Cruise	Ship		Chief Scientist		Dates 
# 101		BG9714B	Belgica		Marc Elskens		1997/06/18-20 
# 201-257		BG9714C	Belgica		Marc Elskens		1997/06/21-30 
# 301-315		BG9714D	Belgica		Marc Elskens		1997/07/02-07 
# 401-412		CD110B	Charles Darwin	Axel Miller		1998/01/06-19 
# 501-551		BG9815C	Belgica		Michel Frankignoulle	1998/06/27-07/07 
# 601-623		BG9815D	Belgica		Michel Frankignoulle	1998/07/10-15 
# 701-739		CD114A	Charles Darwin	Ian Joint		1998/07/29-08/11 
# 801-826		CD114B	Charles Darwin	Ian Joint		1998/08/11-24 
# 901-940		M43/2	Meteor		Gerd Graf		1998/12/28-1999/01/14 
# 1001-1017	BG9919A	Belgica		Michel Frankignoulle	1999/08/30-09/03 
# 1101-1147	BG9919B	Belgica		Michel Frankignoulle	1999/09/04-11 
# 1201-1214	BG9919C	Belgica		Michel Frankignoulle	1999/09/14-18 
# Hydro: Who - ; Status - final 
# 	Notes: Station, cast and bottle numbers fabricated. 
# 	Bottom depth estimated by global topography. 
# 	Pressure computed from depth. 
# Nuts: Who - ; Status - final 
# 	Notes: Units converted using 22 deg and ctdsal. 
# 	Replicates averaged. 
# 	Nitrate computed from no3+no2 and nitrite. 
# 	File includes urea and ammonium data. 
# O2: Who - A. Borges; Status - final 
# 	Notes: Units converted using 22 deg and ctdsal. 
# TA: Who - A. Borges; Status - final 
# 	Notes: Units converted using 22 deg and ctdsal. 
# References: 
# Frankignoulle M. & A.V. Borges (2001) European continental shelf as a significant sink for atmospheric carbon dioxide. Global Biogeochemical Cycles, 15(3), 569-576 
# Álvarez-Salgado X.A, F.G. Figueiras, F.F. Pérez, S. Groom, E. Nogueira, A.V. Borges, L. Chou, C.G. Castro, G. Moncoiffe, A.F. Rios, A.E.J. Miller, M. Frankignoulle, G. Savidge & R. Wollast (2003) Thermohaline, chemical and biological characterisation of the poleward flowing Portugal coastal counter current off NW Spain. Progress in Oceanography, 56(2), 281-321 
# Borges A.V. & M. Frankignoulle (2002) Distribution of surface carbon dioxide and air-sea exchange in the upwelling system off the Galician coast. Global Biogeochemical Cycles, 16, 4/1-4/14 
# Borges A.V. & M. Frankignoulle (2002) Aspects of inorganic carbon dynamics in the upwelling system off the Galician coast. Journal of Marine Systems, 32, 181-198 
# Borges A.V. & M. Frankignoulle (2001) Short-term variations of the partial pressure of CO2 in surface waters of the Galician upwelling system. Progress in Oceanography, 50(2-4), 283-302 
EXPOCODE,STNNBR,CASTNO,BTLNBR,DATE,LATITUDE,LONGITUDE,DEPTH,CTDPRS,CTDTMP,CTDSAL,CTDSAL_FLAG_W,SALNTY,SALNTY_FLAG_W,CTDOXY,CTDOXY_FLAG_W,OXYGEN,OXYGEN_FLAG_W,SILCAT,SILCAT_FLAG_W,NITRAT,NITRAT_FLAG_W,NITRIT,NITRIT_FLAG_W,PHSPHT,PHSPHT_FLAG_W,AMMONI,AMMONI_FLAG_W,ALKALI,ALKALI_FLAG_W,UREA,UREA_FLAG_W,THETA
,,,,,,,METERS,DBARS,ITS-90,PSS-78,,PSS-78,,UMOL/KG,,UMOL/KG,,UMOL/KG,,UMOL/KG,,UMOL/KG,,UMOL/KG,,UMOL/KG,,UMOL/KG,,UMOL/KG,,DEGC
         OMEX2,   101,  1,      1,19970620, 42.4919,  -9.4291,  606,      4.1,  18.8510,  35.3020,2,  35.3080,2,    233.7,2,    233.7,2,     1.16,6,  -999.00,9,  -999.00,9,     0.03,2,      -999,9,   2313.9,2,     -999,9,  18.8503
         OMEX2,   101,  1,      2,19970620, 42.4919,  -9.4291,  606,     10.2,  18.8550,  35.3040,2,-999.0000,9,    234.0,2,    235.9,2,     1.12,6,  -999.00,9,  -999.00,9,     0.02,2,      -999,9,   2312.8,2,     -999,9,  18.8532
         OMEX2,   101,  1,      3,19970620, 42.4919,  -9.4291,  606,     19.1,  18.5540,  35.5270,2,-999.0000,9,    235.1,2,    236.6,2,     1.05,6,  -999.00,9,  -999.00,9,     0.01,2,      -999,9,   2329.1,2,     -999,9,  18.5506
         OMEX2,   101,  1,      4,19970620, 42.4919,  -9.4291,  606,     28.0,  17.6140,  35.8870,2,-999.0000,9,    239.0,2,    243.3,2,     0.94,6,     0.04,2,     0.01,2,     0.01,2, 0.0975711,2,   2342.7,2,     -999,9,  17.6093
         OMEX2,   101,  1,      5,19970620, 42.4919,  -9.4291,  606,     37.6,  17.0460,  35.9060,2,-999.0000,9,    244.6,2,    245.4,2,     0.92,6,     0.05,2,     0.00,2,     0.01,6, 0.0975697,2,   2346.0,2,     -999,9,  17.0398
         OMEX2,   101,  1,      6,19970620, 42.4919,  -9.4291,  606,     60.4,  15.3880,  35.9270,2,  35.9190,2,    235.8,2,    236.0,2,     1.26,6,     1.71,2,     0.00,2,     0.11,6,  0.165866,2,   2343.9,2,     -999,9,  15.3787
         OMEX2,   101,  1,      7,19970620, 42.4919,  -9.4291,  606,     80.2,  14.3070,  35.9050,2,-999.0000,9,    233.0,2,    228.1,2,     1.70,6,     3.89,2,     0.00,2,     0.22,6,  0.204897,2,   2344.4,2,     -999,9,  14.2952
         OMEX2,   101,  1,      8,19970620, 42.4919,  -9.4291,  606,     99.8,  13.9920,  35.8920,2,  35.8900,2,    230.1,2,    227.0,2,     1.98,6,     5.22,2,     0.00,2,     0.32,6,  0.204899,2,   2341.5,2,     -999,9,  13.9775
         OMEX2,   101,  1,      9,19970620, 42.4919,  -9.4291,  606,    151.1,  13.0490,  35.8030,2,-999.0000,9,    222.0,2,    221.7,2,     2.75,6,     8.11,2,     0.00,2,     0.49,6,  0.204912,2,   2338.0,2,     -999,9,  13.0280
         OMEX2,   101,  1,     10,19970620, 42.4919,  -9.4291,  606,    200.8,  12.6360,  35.7450,2,  35.7610,2,    220.1,2,    220.6,2,     3.22,6,     9.06,2,     0.23,2,     0.57,6,   0.15613,2,   2334.2,2,     -999,9,  12.6087
         OMEX2,   101,  1,     11,19970620, 42.4919,  -9.4291,  606,    402.8,  11.5910,  35.6330,2,  35.6390,2,    215.8,2,    215.8,2,     4.74,6,    12.37,2,     0.07,2,     0.76,6, 0.0975895,2,   2324.6,2,     -999,9,  11.5388
         OMEX2,   101,  1,     12,19970620, 42.4919,  -9.4291,  606,    595.5,  11.2410,  35.7460,2,  35.7480,2,    198.3,2,    199.8,2,     6.38,6,    14.25,2,     0.03,2,     0.89,6, 0.0975813,2,   2341.8,2,     -999,9,  11.1646
         OMEX2,   201,  1,      1,19970621, 41.9958,  -8.9994,  101,     51.0,  14.4490,  35.9140,2,  35.9110,2,    203.3,2,   -999.0,9,  -999.00,9,  -999.00,9,  -999.00,9,  -999.00,9,      -999,9,   -999.0,9,     -999,9,  14.4414
         OMEX2,   201,  1,      2,19970621, 41.9958,  -8.9994,  101,     90.6,  13.0590,  35.8000,2,  35.8040,2,    217.1,2,   -999.0,9,  -999.00,9,  -999.00,9,  -999.00,9,  -999.00,9,      -999,9,   -999.0,9,     -999,9,  13.0465
         OMEX2,   202,  1,      1,19970621, 42.0004,  -9.2351,  184,      9.7,  18.5750,  35.4360,2,  35.4470,2,    240.3,2,    235.2,2,     0.80,2,  -999.00,9,  -999.00,9,     0.01,2,  0.107364,2,   2326.1,2, 0.390415,2,  18.5733
         OMEX2,   202,  1,      2,19970621, 42.0004,  -9.2351,  184,     19.7,  18.1270,  35.7220,2,-999.0000,9,    241.8,2,    236.8,2,     0.80,2,  -999.00,9,  -999.00,9,     0.01,2,  0.107341,2,   2331.4,2, 0.253716,2,  18.1236
         OMEX2,   202,  1,      3,19970621, 42.0004,  -9.2351,  184,     41.0,  16.5920,  35.8900,2,-999.0000,9,    251.2,2,    241.0,2,     0.80,2,  -999.00,9,  -999.00,9,     0.01,2,  0.146356,2,   2348.2,2, 0.253684,2,  16.5853
         OMEX2,   202,  1,      4,19970621, 42.0004,  -9.2351,  184,     59.7,  15.1400,  35.9240,2,-999.0000,9,    240.2,2,    238.8,2,     0.91,2,  -999.00,9,  -999.00,9,     0.06,2,  0.117082,2,   2352.0,2, 0.273192,2,  15.1309
         OMEX2,   202,  1,      5,19970621, 42.0004,  -9.2351,  184,     79.3,  14.4130,  35.9690,2,-999.0000,9,    225.6,2,    221.3,2,     2.14,2,  -999.00,9,  -999.00,9,     0.30,2,  0.107322,2,   2351.3,2, 0.243913,2,  14.4013
         OMEX2,   202,  1,      6,19970621, 42.0004,  -9.2351,  184,     99.3,  14.2390,  35.9630,2,-999.0000,9,    217.4,2,    210.9,2,     3.20,2,  -999.00,9,  -999.00,9,     0.41,2,  0.117079,2,   2351.4,2, 0.263427,2,  14.2244
         OMEX2,   202,  1,      7,19970621, 42.0004,  -9.2351,  184,    120.4,  13.9870,  35.9230,2,  35.9370,2,    218.7,2,    209.7,2,     3.24,2,  -999.00,9,  -999.00,9,     0.42,2,   0.15611,2,   2349.6,2, 0.302462,2,  13.9695
         OMEX2,   202,  1,      8,19970621, 42.0004,  -9.2351,  184,    140.7,  13.7320,  35.8960,2,-999.0000,9,    216.2,2,   -999.0,9,  -999.00,9,  -999.00,9,  -999.00,9,  -999.00,9,      -999,9,   -999.0,9,     -999,9,  13.7118
         OMEX2,   203,  1,      1,19970621, 41.9964,  -9.3568,  494,     80.0,  15.0680,  35.9480,2,  35.9230,2,    242.7,2,   -999.0,9,  -999.00,9,  -999.00,9,  -999.00,9,  -999.00,9,      -999,9,   -999.0,9,     -999,9,  15.0558
         OMEX2,   203,  1,      2,19970621, 41.9964,  -9.3568,  494,    246.5,  12.4630,  35.7220,2,  35.7230,2,    223.5,2,   -999.0,9,  -999.00,9,  -999.00,9,  -999.00,9,  -999.00,9,      -999,9,   -999.0,9,     -999,9,  12.4297
         OMEX2,   204,  1,      1,19970621, 41.9981,  -9.6663, 2184,   1010.3,  11.3420,  36.1830,2,-999.0000,9,    186.2,2,   -999.0,9,  -999.00,9,  -999.00,9,  -999.00,9,  -999.00,9,      -999,9,   -999.0,9,     -999,9,  11.2088
         OMEX2,   204,  1,      2,19970621, 41.9981,  -9.6663, 2184,   1429.1,   7.4220,  35.5480,2,  35.5530,2,    214.1,2,   -999.0,9,  -999.00,9,  -999.00,9,  -999.00,9,  -999.00,9,      -999,9,   -999.0,9,     -999,9,   7.2709
         OMEX2,   205,  1,      1,19970621, 42.0030, -10.0099, 2947,    404.3,  11.3980,  35.5980,2,  35.5920,2,    219.9,2,   -999.0,9,  -999.00,9,  -999.00,9,  -999.00,9,  -999.00,9,      -999,9,   -999.0,9,     -999,9,  11.3462
         OMEX2,   205,  1,      2,19970621, 42.0030, -10.0099, 2947,    858.6,  11.6730,  36.1400,2,  36.1290,2,    186.6,2,   -999.0,9,  -999.00,9,  -999.00,9,  -999.00,9,  -999.00,9,      -999,9,   -999.0,9,     -999,9,  11.5586
         OMEX2,   205,  1,      3,19970621, 42.0030, -10.0099, 2947,   1008.9,  10.6800,  36.0080,2,  36.0100,2,    186.3,2,   -999.0,9,  -999.00,9,  -999.00,9,  -999.00,9,  -999.00,9,      -999,9,   -999.0,9,     -999,9,  10.5519
         OMEX2,   205,  1,      4,19970621, 42.0030, -10.0099, 2947,   1437.3,   7.2650,  35.5430,2,  35.5460,2,    215.7,2,   -999.0,9,  -999.00,9,  -999.00,9,  -999.00,9,  -999.00,9,      -999,9,   -999.0,9,     -999,9,   7.1146
         OMEX2,   206,  1,      1,19970622, 42.1478,  -8.9599,   94,      8.7,  18.0990,  35.5030,2,-999.0000,9,    239.8,2,    236.3,2,     1.21,6,  -999.00,9,  -999.00,9,     0.06,2,  0.117119,2,   2329.4,2, 0.234237,2,  18.0975
         OMEX2,   206,  1,      2,19970622, 42.1478,  -8.9599,   94,     19.0,  17.4660,  35.8320,2,-999.0000,9,    239.3,2,    225.2,2,     2.13,6,  -999.00,9,  -999.00,9,     0.14,2,  0.107333,2,   2346.7,2, 0.224423,2,  17.4628
         OMEX2,   206,  1,      3,19970622, 42.1478,  -8.9599,   94,     39.4,  14.7250,  35.9270,2,  35.9250,2,    200.1,2,    192.3,3,     4.30,6,  -999.00,9,  -999.00,9,     0.49,2,   0.21465,2,   2348.2,2, 0.312218,2,  14.7191
         OMEX2,   206,  1,      4,19970622, 42.1478,  -8.9599,   94,     59.5,  13.5440,  35.8680,2,-999.0000,9,    203.3,2,    203.5,2,     4.22,6,  -999.00,9,  -999.00,9,     0.55,2,  0.117087,2,   2345.7,2, 0.302475,2,  13.5356
         OMEX2,   206,  1,      5,19970622, 42.1478,  -8.9599,   94,     79.4,  12.8990,  35.7810,2,-999.0000,9,    216.3,2,    210.5,2,     4.19,6,  -999.00,9,  -999.00,9,     0.61,2,  0.165884,2,   2339.1,2, 0.331768,2,  12.8881
         OMEX2,   206,  1,      6,19970622, 42.1478,  -8.9599,   94,     84.5,  12.8930,  35.7790,2,  35.7820,2,    216.3,2,    210.8,2,     4.15,6,  -999.00,9,  -999.00,9,     0.58,2,    0.1854,2,   2341.0,2, 0.302495,2,  12.8814
         OMEX2,   207,  1,      1,19970622, 42.1464,  -9.0494,  184,      8.6,  18.5570,  35.4780,2,-999.0000,9,    236.6,2,    232.7,2,     1.02,6,  -999.00,9,  -999.00,9,     0.04,2,  0.117121,2,   2336.1,2, 0.390403,2,  18.5555
         OMEX2,   207,  1,      2,19970622, 42.1464,  -9.0494,  184,     18.9,  18.2020,  35.6520,2,-999.0000,9,    235.0,2,    233.2,2,     1.01,6,  -999.00,9,  -999.00,9,     0.05,2,  0.117106,2,   2340.3,2, 0.234212,2,  18.1987
         OMEX2,   207,  1,      3,19970622, 42.1464,  -9.0494,  184,     39.0,  16.9960,  35.8720,2,-999.0000,9,    237.8,2,    235.9,2,     1.06,6,  -999.00,9,  -999.00,9,     0.06,2,  0.165873,2,   2350.0,2, 0.195144,2,  16.9895
         OMEX2,   207,  1,      4,19970622, 42.1464,  -9.0494,  184,     59.7,  15.8520,  35.8920,2,  35.8930,2,    235.7,2,    231.3,2,     1.34,6,  -999.00,9,  -999.00,9,     0.11,2,  0.126842,2,   2347.6,2, 0.263441,2,  15.8426
         OMEX2,   207,  1,      5,19970622, 42.1464,  -9.0494,  184,     79.0,  14.6110,  35.8980,2,-999.0000,9,    218.6,2,    204.9,2,     3.12,6,  -999.00,9,  -999.00,9,     0.42,2,  0.107327,2,   2347.2,2, 0.253683,2,  14.5992
         OMEX2,   207,  1,      6,19970622, 42.1464,  -9.0494,  184,     99.7,  13.3380,  35.8390,2,-999.0000,9,    206.7,2,    204.5,2,     4.09,6,  -999.00,9,  -999.00,9,     0.60,2,  0.126847,2,   2347.8,2, 0.195149,2,  13.3240
         OMEX2,   207,  1,      7,19970622, 42.1464,  -9.0494,  184,    119.8,  12.5980,  35.7410,2,  35.7440,2,    219.6,2,    213.9,2,     3.90,6,  -999.00,9,  -999.00,9,     0.62,2,  0.146373,2,   2344.2,2, 0.224438,2,  12.5818
         OMEX2,   208,  1,      1,19970622, 42.1497,  -9.1424,  184,      9.1,  18.5670,  35.4120,2,  35.4150,2,    235.5,2,    231.7,2,     1.03,6,  -999.00,9,  -999.00,9,     0.03,2,  0.087845,2,   2331.1,2, 0.312338,2,  18.5654
         OMEX2,   208,  1,      2,19970622, 42.1497,  -9.1424,  184,     20.1,  18.3240,  35.5820,2,-999.0000,9,    236.3,2,    231.3,2,     0.95,6,  -999.00,9,  -999.00,9,     0.03,2,  0.107353,2,   2340.2,2,   1.1028,2,  18.3205
         OMEX2,   208,  1,      3,19970622, 42.1497,  -9.1424,  184,     39.5,  17.7520,  35.8170,2,-999.0000,9,    234.5,2,    229.1,2,     0.94,6,  -999.00,9,  -999.00,9,     0.04,2,  0.273213,2,   2346.6,2, 0.302486,2,  17.7453
         OMEX2,   208,  1,      4,19970622, 42.1497,  -9.1424,  184,     59.0,  16.6170,  35.8670,2,-999.0000,9,    230.3,2,    220.9,2,     1.57,6,  -999.00,9,  -999.00,9,     0.16,2,  0.126844,2,   2348.2,2, 0.243931,2,  16.6074
         OMEX2,   208,  1,      5,19970622, 42.1497,  -9.1424,  184,     79.7,  15.4100,  35.9030,2,  35.9050,2,    215.9,2,    211.0,2,     2.25,6,  -999.00,9,  -999.00,9,     0.27,2,  0.107327,2,   2347.8,2,  0.29271,2,  15.3977
         OMEX2,   208,  1,      6,19970622, 42.1497,  -9.1424,  184,     99.3,  14.3190,  35.9300,2,-999.0000,9,    214.2,2,    203.7,2,     3.13,6,  -999.00,9,  -999.00,9,     0.42,2,  0.117082,2,   2348.4,2, 0.224406,2,  14.3044
         OMEX2,   208,  1,      7,19970622, 42.1497,  -9.1424,  184,    140.5,  12.9710,  35.7890,2,  35.7910,2,    220.3,2,    215.3,2,     3.31,6,  -999.00,9,  -999.00,9,     0.55,2,  0.136609,2,   2346.0,2, 0.302492,2,  12.9516
         OMEX2,   209,  1,      1,19970622, 42.1394,  -9.1594,  184,      9.4,  18.5850,  35.3980,2,-999.0000,9,    234.4,2,    232.0,2,  -999.00,9,  -999.00,9,  -999.00,9,  -999.00,9,      -999,9,   2328.1,2,     -999,9,  18.5834
         OMEX2,   209,  1,      2,19970622, 42.1394,  -9.1594,  184,     39.6,  17.9030,  35.7860,2,-999.0000,9,    230.8,2,    228.9,2,  -999.00,9,  -999.00,9,  -999.00,9,  -999.00,9,      -999,9,   2348.5,2,     -999,9,  17.8962
         OMEX2,   209,  1,      3,19970622, 42.1394,  -9.1594,  184,     60.0,  16.9060,  35.8600,2,-999.0000,9,    226.1,2,   -999.0,9,  -999.00,9,  -999.00,9,  -999.00,9,  -999.00,9,      -999,9,   -999.0,9,     -999,9,  16.8961
         OMEX2,   209,  1,      4,19970622, 42.1394,  -9.1594,  184,     69.1,  15.8920,  35.8880,2,-999.0000,9,    217.0,2,   -999.0,9,  -999.00,9,  -999.00,9,  -999.00,9,  -999.00,9,      -999,9,   -999.0,9,     -999,9,  15.8811
         OMEX2,   210,  1,      1,19970622, 42.1525,  -9.3208,  222,      9.4,  18.4440,  35.4880,2,-999.0000,9,    236.5,2,    234.6,2,     1.03,6,  -999.00,9,  -999.00,9,     0.01,2,   0.11712,2,   2327.2,2,   0.2928,2,  18.4424
         OMEX2,   210,  1,      2,19970622, 42.1525,  -9.3208,  222,     18.9,  18.2930,  35.5790,2,-999.0000,9,    236.6,2,    239.7,2,     0.99,6,  -999.00,9,  -999.00,9,     0.02,2, 0.0878341,2,   2336.3,2, 0.253743,2,  18.2897
         OMEX2,   210,  1,      3,19970622, 42.1525,  -9.3208,  222,     39.3,  16.9550,  35.8970,2,-999.0000,9,    240.5,2,    238.1,2,     1.08,6,  -999.00,9,  -999.00,9,     0.06,2,  0.136599,2,   2350.0,2, 0.204898,2,  16.9485
         OMEX2,   210,  1,      4,19970622, 42.1525,  -9.3208,  222,     59.5,  15.6770,  35.9200,2,-999.0000,9,    229.5,2,    228.8,2,     1.47,6,  -999.00,9,  -999.00,9,     0.14,2,  0.107326,2,   2345.6,2, 0.409789,2,  15.6677
         OMEX2,   210,  1,      5,19970622, 42.1525,  -9.3208,  222,     79.4,  14.1320,  35.9620,2,  35.9520,2,    215.9,2,    210.9,2,     3.01,6,  -999.00,9,  -999.00,9,     0.42,2,  0.107322,2,   2349.5,2, 0.214645,2,  14.1204
         OMEX2,   210,  1,      6,19970622, 42.1525,  -9.3208,  222,    100.1,  13.9990,  35.9420,2,-999.0000,9,    216.0,2,    213.0,2,     3.12,6,  -999.00,9,  -999.00,9,     0.46,2,  0.185378,2,   2345.5,2, 0.243918,2,  13.9845
         OMEX2,   210,  1,      7,19970622, 42.1525,  -9.3208,  222,    151.0,  13.6320,  35.8810,2,-999.0000,9,    215.9,2,    213.1,2,     3.14,6,  -999.00,9,  -999.00,9,     0.51,2,  0.126843,2,   2345.7,2, 0.224415,2,  13.6104
         OMEX2,   210,  1,      8,19970622, 42.1525,  -9.3208,  222,    201.7,  12.9140,  35.7800,2,-999.0000,9,    219.3,2,    215.8,2,     3.73,6,  -999.00,9,  -999.00,9,     0.63,2,  0.126853,2,   2341.0,2, 0.146368,2,  12.8862
         OMEX2,   210,  1,      9,19970622, 42.1525,  -9.3208,  222,    212.3,  12.7740,  35.7610,2,  35.7640,2,    219.2,2,    215.5,2,     3.87,6,  -999.00,9,  -999.00,9,     0.62,2,  0.175644,2,   2344.1,2, 0.234193,2,  12.7449
         OMEX2,   211,  1,      1,19970622, 42.1588,  -9.3426,  184,      8.8,  18.4850,  35.4680,2,-999.0000,9,    235.5,2,   -999.0,9,  -999.00,9,  -999.00,9,  -999.00,9,  -999.00,9,      -999,9,   -999.0,9,     -999,9,  18.4835
         OMEX2,   211,  1,      2,19970622, 42.1588,  -9.3426,  184,     19.5,  17.8550,  35.7760,2,-999.0000,9,    238.9,2,   -999.0,9,  -999.00,9,  -999.00,9,  -999.00,9,  -999.00,9,      -999,9,   -999.0,9,     -999,9,  17.8517
         OMEX2,   211,  1,      3,19970622, 42.1588,  -9.3426,  184,     39.2,  16.0680,  35.9200,2,-999.0000,9,    239.7,2,   -999.0,9,  -999.00,9,  -999.00,9,  -999.00,9,  -999.00,9,      -999,9,   -999.0,9,     -999,9,  16.0618
         OMEX2,   211,  1,      4,19970622, 42.1588,  -9.3426,  184,     58.8,  15.0510,  35.9490,2,-999.0000,9,    238.0,2,   -999.0,9,  -999.00,9,  -999.00,9,  -999.00,9,  -999.00,9,      -999,9,   -999.0,9,     -999,9,  15.0420