BOTTLE,20090114PRINUNIVRMKPRINUNIVRMK
EXPOCODE,STNNBR,CASTNO,BTLNBR,DATE,LATITUDE,LONGITUDE,DEPTH,CTDPRS,CTDTMP,CTDSAL,CTDSAL_FLAG_W,SALNTY,SALNTY_FLAG_W,CTDOXY,CTDOXY_FLAG_W,OXYGEN,OXYGEN_FLAG_W,SILCAT,SILCAT_FLAG_W,NITRAT,NITRAT_FLAG_W,NITRIT,NITRIT_FLAG_W,PHSPHT,PHSPHT_FLAG_W,AMMONI,AMMONI_FLAG_W,ALKALI,ALKALI_FLAG_W,UREA,UREA_FLAG_W,THETA
,,,,,,,METERS,DBARS,ITS-90,PSS-78,,PSS-78,,UMOL/KG,,UMOL/KG,,UMOL/KG,,UMOL/KG,,UMOL/KG,,UMOL/KG,,UMOL/KG,,UMOL/KG,,UMOL/KG,,DEGC
         OMEX2,   226,  1,      1,19970624, 42.5026,  -9.6351, 2059,    503.5,  11.2000,  35.6580,2,  35.6600,2,    206.7,2,   -999.0,9,  -999.00,9,  -999.00,9,  -999.00,9,  -999.00,9,      -999,9,   -999.0,9,     -999,9,  11.1359
         OMEX2,   226,  1,      2,19970624, 42.5026,  -9.6351, 2059,   1444.3,   7.8940,  35.6630,2,  35.6640,2,    207.9,2,   -999.0,9,  -999.00,9,  -999.00,9,  -999.00,9,  -999.00,9,      -999,9,   -999.0,9,     -999,9,   7.7360
         OMEX2,   227,  1,      1,19970624, 42.5038,  -9.6347, 2059,      9.3,  18.4790,  35.5960,2,  35.6010,2,    236.5,2,   -999.0,9,     0.68,2,  -999.00,9,  -999.00,9,     0.04,2,      -999,9,   -999.0,9,     -999,9,  18.4774
         OMEX2,   227,  1,      2,19970624, 42.5038,  -9.6347, 2059,     19.2,  18.3610,  35.6250,2,-999.0000,9,    237.2,2,    241.5,2,     0.67,2,  -999.00,9,  -999.00,9,     0.01,2,      -999,9,   2338.2,2,     -999,9,  18.3576
         OMEX2,   227,  1,      3,19970624, 42.5038,  -9.6347, 2059,     29.2,  17.9350,  35.7820,2,-999.0000,9,    239.2,2,    245.8,2,     0.63,2,  -999.00,9,  -999.00,9,     0.02,2,      -999,9,   2346.5,2,     -999,9,  17.9300
         OMEX2,   227,  1,      4,19970624, 42.5038,  -9.6347, 2059,     49.3,  15.5340,  35.8940,2,  35.8900,2,    240.4,2,    241.6,2,     0.75,2,  -999.00,9,  -999.00,9,     0.07,2,      -999,9,   2348.7,2,     -999,9,  15.5263
         OMEX2,   227,  1,      5,19970624, 42.5038,  -9.6347, 2059,     69.6,  14.4440,  35.9050,2,-999.0000,9,    229.8,2,    230.6,2,     1.33,2,  -999.00,9,  -999.00,9,     0.22,2,      -999,9,   2350.4,2,     -999,9,  14.4337
         OMEX2,   227,  1,      6,19970624, 42.5038,  -9.6347, 2059,     80.2,  14.0140,  35.8830,2,  35.8830,2,    232.5,2,   -999.0,9,     1.30,2,  -999.00,9,  -999.00,9,     0.24,2,      -999,9,   -999.0,9,     -999,9,  14.0024
         OMEX2,   228,  1,      1,19970624, 42.5146, -10.0096, 3349,    200.6,  12.6890,  35.7630,2,  35.7610,2,    215.7,2,   -999.0,9,  -999.00,9,  -999.00,9,  -999.00,9,  -999.00,9,      -999,9,   -999.0,9,     -999,9,  12.6616
         OMEX2,   228,  1,      2,19970624, 42.5146, -10.0096, 3349,    502.3,  11.0070,  35.5640,2,  35.5610,2,    213.9,2,   -999.0,9,  -999.00,9,  -999.00,9,  -999.00,9,  -999.00,9,      -999,9,   -999.0,9,     -999,9,  10.9438
         OMEX2,   228,  1,      3,19970624, 42.5146, -10.0096, 3349,   1009.1,  11.0040,  36.1100,2,  36.0840,2,    182.9,2,   -999.0,9,  -999.00,9,  -999.00,9,  -999.00,9,  -999.00,9,      -999,9,   -999.0,9,     -999,9,  10.8735
         OMEX2,   228,  1,      4,19970624, 42.5146, -10.0096, 3349,   1437.7,   6.8370,  35.4500,2,  35.4490,2,    216.4,2,   -999.0,9,  -999.00,9,  -999.00,9,  -999.00,9,  -999.00,9,      -999,9,   -999.0,9,     -999,9,   6.6912
         OMEX2,   229,  1,      1,19970624, 42.6674,  -9.2094,  321,      8.9,  17.8470,  35.5800,2,-999.0000,9,    242.3,2,    236.1,2,     1.67,6,  -999.00,9,  -999.00,9,     0.07,2,   0.14639,2,   2337.5,2, 0.204946,2,  17.8455
         OMEX2,   229,  1,      2,19970624, 42.6674,  -9.2094,  321,     19.1,  16.4550,  35.7960,2,-999.0000,9,    222.9,2,    212.2,2,     2.60,6,  -999.00,9,  -999.00,9,     0.28,2,  0.136609,2,   2345.3,2, 0.234186,2,  16.4519
         OMEX2,   229,  1,      3,19970624, 42.6674,  -9.2094,  321,     39.1,  14.5700,  35.8400,2,-999.0000,9,    204.7,2,    202.8,2,     3.64,6,  -999.00,9,  -999.00,9,     0.52,2,  0.126847,2,   2345.2,2, 0.253694,2,  14.5642
         OMEX2,   229,  1,      4,19970624, 42.6674,  -9.2094,  321,     59.8,  13.4640,  35.8170,2,-999.0000,9,    205.0,2,    206.5,2,     3.59,6,  -999.00,9,  -999.00,9,     0.58,2,  0.136607,2,   2343.8,2,  0.20491,2,  13.4556
         OMEX2,   229,  1,      5,19970624, 42.6674,  -9.2094,  321,     79.3,  12.9290,  35.7720,2,-999.0000,9,    210.3,2,    210.7,2,     3.69,6,  -999.00,9,  -999.00,9,     0.63,2,  0.136611,2,   2341.0,2, 0.234191,2,  12.9181
         OMEX2,   229,  1,      6,19970624, 42.6674,  -9.2094,  321,     90.3,  12.6380,  35.7390,2,-999.0000,9,    212.8,2,    213.8,2,     3.58,6,  -999.00,9,  -999.00,9,     0.63,2,  0.146373,2,   2340.1,2, 0.234196,2,  12.6258
         OMEX2,   230,  1,      1,19970625, 42.6656,  -9.4104,  321,      8.5,  18.2400,  35.5710,2,-999.0000,9,    237.8,2,    238.6,2,  -999.00,9,  -999.00,9,  -999.00,9,  -999.00,9,      -999,9,   2330.2,2,     -999,9,  18.2385
         OMEX2,   230,  1,      2,19970625, 42.6656,  -9.4104,  321,     59.2,  14.5430,  35.8830,2,-999.0000,9,    235.4,2,    235.5,2,  -999.00,9,  -999.00,9,  -999.00,9,  -999.00,9,      -999,9,   2347.3,2,     -999,9,  14.5342
         OMEX2,   231,  1,      1,19970625, 42.6592,  -9.4098,  321,      9.3,  18.2190,  35.5770,2,-999.0000,9,    237.9,2,    238.4,2,     0.87,6,  -999.00,9,  -999.00,9,     0.07,2,  0.107353,2,   2334.2,2, 0.126872,2,  18.2174
         OMEX2,   231,  1,      2,19970625, 42.6592,  -9.4098,  321,     18.9,  17.0400,  35.8060,2,-999.0000,9,    237.8,2,    239.2,2,     0.88,6,  -999.00,9,  -999.00,9,     0.04,2,  0.107335,2,   2337.0,2, 0.146365,2,  17.0369
         OMEX2,   231,  1,      3,19970625, 42.6592,  -9.4098,  321,     39.2,  15.4380,  35.8860,2,-999.0000,9,    232.4,2,    241.0,2,     0.89,6,  -999.00,9,  -999.00,9,     0.06,2,  0.107328,2,   2346.8,2, 0.146357,2,  15.4319
         OMEX2,   231,  1,      4,19970625, 42.6592,  -9.4098,  321,     59.7,  14.7300,  35.8900,2,-999.0000,9,    233.7,2,    235.5,2,     1.16,6,  -999.00,9,  -999.00,9,     0.08,2, 0.0878138,2,   2349.2,2, 0.146356,2,  14.7210
         OMEX2,   231,  1,      5,19970625, 42.6592,  -9.4098,  321,     79.5,  14.2550,  35.8930,2,-999.0000,9,    230.5,2,    233.0,2,     1.31,6,  -999.00,9,  -999.00,9,     0.19,2, 0.0878136,2,   2346.4,2, 0.136599,2,  14.2433
         OMEX2,   231,  1,      6,19970625, 42.6592,  -9.4098,  321,     99.7,  14.0040,  35.8800,2,-999.0000,9,    227.3,2,    227.2,2,     1.81,6,  -999.00,9,  -999.00,9,     0.29,2,  0.117086,2,   2347.6,2, 0.126843,2,  13.9895
         OMEX2,   231,  1,      7,19970625, 42.6592,  -9.4098,  321,    131.0,  13.3110,  35.8290,2,-999.0000,9,    219.4,2,    219.1,2,     2.68,6,  -999.00,9,  -999.00,9,     0.47,2,  0.107333,2,   2350.9,2, 0.126848,2,  13.2926
         OMEX2,   232,  1,      1,19970625, 42.6643,  -9.5378, 2059,      9.4,  18.1740,  35.6000,2,-999.0000,9,    235.2,2,    237.8,2,     0.88,6,  -999.00,9,  -999.00,9,     0.02,2,  0.107351,2,   2333.3,2, 0.575792,2,  18.1724
         OMEX2,   232,  1,      2,19970625, 42.6643,  -9.5378, 2059,     18.7,  18.1890,  35.6160,2,-999.0000,9,    235.2,2,    238.2,2,     0.85,6,  -999.00,9,  -999.00,9,     0.01,2, 0.0975907,2,   2332.3,2, 0.888076,2,  18.1858
         OMEX2,   232,  1,      3,19970625, 42.6643,  -9.5378, 2059,     39.2,  16.3490,  35.8750,2,-999.0000,9,    239.7,2,    243.0,2,     0.84,6,  -999.00,9,  -999.00,9,     0.04,2,  0.126844,2,   2343.3,2,  0.17563,2,  16.3427
         OMEX2,   232,  1,      4,19970625, 42.6643,  -9.5378, 2059,     59.4,  15.5010,  35.8950,2,-999.0000,9,    235.3,2,    235.0,2,     1.45,6,  -999.00,9,  -999.00,9,     0.17,2,  0.126842,2,   2345.8,2, 0.302469,2,  15.4918
         OMEX2,   232,  1,      5,19970625, 42.6643,  -9.5378, 2059,     79.7,  14.6300,  35.9050,2,-999.0000,9,    227.2,2,    228.4,2,     1.66,6,  -999.00,9,  -999.00,9,     0.28,2,  0.126841,2,   2346.3,2, 0.175626,2,  14.6181
         OMEX2,   232,  1,      6,19970625, 42.6643,  -9.5378, 2059,    100.3,  13.9450,  35.8750,2,-999.0000,9,    224.8,2,    229.6,2,     1.74,6,  -999.00,9,  -999.00,9,     0.33,2, 0.0878148,2,   2344.6,2, 0.165872,2,  13.9305
         OMEX2,   232,  1,      7,19970625, 42.6643,  -9.5378, 2059,    150.4,  13.2380,  35.7960,2,-999.0000,9,    230.5,2,    231.3,2,     1.95,6,  -999.00,9,  -999.00,9,     0.42,2,  0.117093,2,   2342.8,2, 0.234186,2,  13.2169
         OMEX2,   232,  1,      8,19970625, 42.6643,  -9.5378, 2059,    200.9,  12.8490,  35.7650,2,-999.0000,9,    224.2,2,    221.5,2,     2.74,6,  -999.00,9,  -999.00,9,     0.53,2, 0.0975799,2,   2345.0,2,  0.34153,2,  12.8214
         OMEX2,   232,  1,      9,19970625, 42.6643,  -9.5378, 2059,    363.1,  11.4910,  35.6360,2,  35.6340,2,    214.6,2,    214.8,2,     4.50,6,  -999.00,9,  -999.00,9,     0.77,2,      -999,9,   2340.7,2,     -999,9,  11.4443
         OMEX2,   233,  1,      1,19970625, 42.6584,  -9.7072, 2059,     99.8,  14.1570,  35.9590,2,  35.9690,2,    229.5,2,    229.8,2,     1.33,6,  -999.00,9,  -999.00,9,     0.27,2,      -999,9,   2354.5,2,     -999,9,  14.1424
         OMEX2,   233,  1,      2,19970625, 42.6584,  -9.7072, 2059,    125.3,  13.7920,  35.9090,2,-999.0000,9,    226.4,2,    228.1,2,     1.58,6,  -999.00,9,  -999.00,9,     0.32,2,      -999,9,   2351.6,2,     -999,9,  13.7740
         OMEX2,   233,  1,      3,19970625, 42.6584,  -9.7072, 2059,    150.4,  13.3830,  35.8540,2,-999.0000,9,    222.3,2,    225.3,2,     1.91,6,  -999.00,9,  -999.00,9,     0.39,2,      -999,9,   2344.8,2,     -999,9,  13.3618
         OMEX2,   233,  1,      4,19970625, 42.6584,  -9.7072, 2059,    200.8,  12.4650,  35.7190,2,-999.0000,9,    221.3,2,    221.8,2,     2.83,6,  -999.00,9,  -999.00,9,     0.56,2,      -999,9,   2339.3,2,     -999,9,  12.4379
         OMEX2,   233,  1,      5,19970625, 42.6584,  -9.7072, 2059,    402.4,  11.1810,  35.5630,2,-999.0000,9,    217.1,2,    216.9,2,     4.22,6,  -999.00,9,  -999.00,9,     0.79,2,      -999,9,   2332.8,2,     -999,9,  11.1301
         OMEX2,   233,  1,      6,19970625, 42.6584,  -9.7072, 2059,    604.8,  11.1660,  35.7520,2,-999.0000,9,    195.2,2,    192.8,2,     6.10,6,  -999.00,9,  -999.00,9,     0.91,2,      -999,9,   2349.8,2,     -999,9,  11.0887
         OMEX2,   233,  1,      7,19970625, 42.6584,  -9.7072, 2059,    807.4,  11.4190,  36.0120,2,-999.0000,9,    186.2,2,    186.3,2,     6.79,6,  -999.00,9,  -999.00,9,     0.90,2,      -999,9,   2374.9,2,     -999,9,  11.3132
         OMEX2,   233,  1,      8,19970625, 42.6584,  -9.7072, 2059,    908.3,  11.4230,  36.1030,2,-999.0000,9,    184.1,2,    186.8,2,     7.04,6,  -999.00,9,  -999.00,9,     0.90,2,      -999,9,   2380.8,2,     -999,9,  11.3033
         OMEX2,   233,  1,      9,19970625, 42.6584,  -9.7072, 2059,   1009.6,  11.3120,  36.1330,2,-999.0000,9,    182.9,2,    183.5,2,     7.57,6,  -999.00,9,  -999.00,9,     0.91,2,      -999,9,   2379.9,2,     -999,9,  11.1792
         OMEX2,   233,  1,     10,19970625, 42.6584,  -9.7072, 2059,   1111.0,  10.9200,  36.1140,2,-999.0000,9,    182.9,2,    184.4,2,     8.21,6,  -999.00,9,  -999.00,9,     0.94,2,      -999,9,   2381.1,2,     -999,9,  10.7763
         OMEX2,   233,  1,     11,19970625, 42.6584,  -9.7072, 2059,   1262.8,   9.9730,  36.0030,2,-999.0000,9,    189.5,2,    190.2,2,     8.60,6,  -999.00,9,  -999.00,9,     0.96,2,      -999,9,   2377.4,2,     -999,9,   9.8171
         OMEX2,   233,  1,     12,19970625, 42.6584,  -9.7072, 2059,   1435.8,   8.0320,  35.6890,2,  35.7010,2,    206.2,2,    210.1,2,    10.12,6,  -999.00,9,  -999.00,9,     1.07,2,      -999,9,   2355.1,2,     -999,9,   7.8735
         OMEX2,   234,  1,      1,19970625, 42.6519,  -9.7131, 2059,      9.5,  18.2950,  35.6700,2,-999.0000,9,    236.6,2,    240.3,2,     0.83,6,  -999.00,9,  -999.00,9,     0.02,2,  0.117104,2,   2339.2,2, 0.331795,2,  18.2934
         OMEX2,   234,  1,      2,19970625, 42.6519,  -9.7131, 2059,     19.4,  18.2500,  35.6700,2,-999.0000,9,    236.8,2,    239.8,2,     0.75,6,  -999.00,9,  -999.00,9,     0.02,2,  0.126863,2,   2339.2,2, 0.351313,2,  18.2466
         OMEX2,   234,  1,      3,19970625, 42.6519,  -9.7131, 2059,     39.5,  17.4100,  35.7870,2,-999.0000,9,    236.0,2,    245.3,2,     0.73,6,  -999.00,9,  -999.00,9,     0.03,2,  0.107336,2,   2341.8,2, 0.282977,2,  17.4034
         OMEX2,   234,  1,      4,19970625, 42.6519,  -9.7131, 2059,     49.0,  16.6280,  35.9170,2,-999.0000,9,    243.7,2,    251.9,2,     0.62,2,  -999.00,9,  -999.00,9,     0.04,2,  0.107326,2,   2347.2,2,     -999,9,  16.6200
         OMEX2,   234,  1,      5,19970625, 42.6519,  -9.7131, 2059,     59.0,  15.8020,  35.9620,2,-999.0000,9,    248.0,2,    254.4,2,     0.82,6,  -999.00,9,  -999.00,9,     0.02,2, 0.0975657,2,   2350.6,2, 0.273184,2,  15.7927
         OMEX2,   234,  1,      6,19970625, 42.6519,  -9.7131, 2059,     69.6,  15.0800,  35.9980,2,-999.0000,9,    250.0,2,    250.0,2,     0.96,6,  -999.00,9,  -999.00,9,     0.08,2,  0.136588,2,   2353.0,2,     -999,9,  15.0694
         OMEX2,   234,  1,      7,19970625, 42.6519,  -9.7131, 2059,     80.0,  14.5860,  35.9970,2,-999.0000,9,    235.5,2,    237.1,2,     1.14,6,  -999.00,9,  -999.00,9,     0.16,2,  0.136588,2,   2350.3,2, 0.360984,2,  14.5741
         OMEX2,   234,  1,      8,19970625, 42.6519,  -9.7131, 2059,    100.4,  14.2930,  35.9720,2,-999.0000,9,    229.7,2,    230.7,2,     1.33,6,  -999.00,9,  -999.00,9,     0.26,2,  0.117078,2,   2349.4,2, 0.273182,2,  14.2782
         OMEX2,   235,  1,      1,19970626, 42.6695, -10.3083, 3349,     99.4,  14.2270,  35.9330,2,-999.0000,9,    234.7,2,    231.7,2,     1.39,6,  -999.00,9,  -999.00,9,     0.27,2, 0.0780542,2,   2351.4,2, 0.165865,2,  14.2124
         OMEX2,   235,  1,      2,19970626, 42.6695, -10.3083, 3349,    124.8,  13.9480,  35.9180,2,-999.0000,9,    230.1,2,    229.7,2,     1.59,6,  -999.00,9,  -999.00,9,     0.33,2,      -999,9,   2348.6,2,     -999,9,  13.9299
         OMEX2,   235,  1,      3,19970626, 42.6695, -10.3083, 3349,    150.3,  13.6220,  35.8700,2,-999.0000,9,    229.5,2,    228.6,2,     2.05,2,  -999.00,9,  -999.00,9,     0.35,2,      -999,9,   2346.7,2,     -999,9,  13.6005
         OMEX2,   235,  1,      4,19970626, 42.6695, -10.3083, 3349,    200.2,  13.0980,  35.8070,2,-999.0000,9,    224.4,2,    223.1,2,     2.25,6,  -999.00,9,  -999.00,9,     0.48,2,      -999,9,   2344.0,2,     -999,9,  13.0701
         OMEX2,   235,  1,      5,19970626, 42.6695, -10.3083, 3349,    402.3,  11.3740,  35.5940,2,-999.0000,9,    215.5,2,    215.9,2,     4.16,6,  -999.00,9,  -999.00,9,     0.78,2,      -999,9,   2332.6,2,     -999,9,  11.3225
         OMEX2,   235,  1,      6,19970626, 42.6695, -10.3083, 3349,    604.4,  11.0000,  35.6790,2,-999.0000,9,    200.2,2,    197.4,2,     5.80,6,  -999.00,9,  -999.00,9,     0.95,2,      -999,9,   2341.9,2,     -999,9,  10.9235
         OMEX2,   235,  1,      7,19970626, 42.6695, -10.3083, 3349,    806.6,  11.1170,  35.9140,2,-999.0000,9,    185.7,2,    185.3,2,     7.02,6,  -999.00,9,  -999.00,9,     0.96,2,      -999,9,   2362.0,2,     -999,9,  11.0131
         OMEX2,   235,  1,      8,19970626, 42.6695, -10.3083, 3349,    908.0,  11.0930,  35.9930,2,-999.0000,9,    183.6,2,    184.7,2,     7.35,6,  -999.00,9,  -999.00,9,     0.97,2,      -999,9,   2364.9,2,     -999,9,  10.9756
         OMEX2,   235,  1,      9,19970626, 42.6695, -10.3083, 3349,   1010.8,  10.9520,  36.0480,2,-999.0000,9,    183.0,2,    184.0,2,     7.65,6,  -999.00,9,  -999.00,9,     0.99,2,      -999,9,   2370.0,2,     -999,9,  10.8217
         OMEX2,   235,  1,     10,19970626, 42.6695, -10.3083, 3349,   1111.6,  10.7500,  36.0800,2,-999.0000,9,    183.4,2,    185.4,2,     8.04,6,  -999.00,9,  -999.00,9,     0.99,2,      -999,9,   2382.2,2,     -999,9,  10.6076
         OMEX2,   235,  1,     11,19970626, 42.6695, -10.3083, 3349,   1261.8,  10.2070,  36.0570,2,-999.0000,9,    188.5,2,    190.3,2,     8.61,6,  -999.00,9,  -999.00,9,     1.00,2,      -999,9,   2382.4,2,     -999,9,  10.0491
         OMEX2,   235,  1,     12,19970626, 42.6695, -10.3083, 3349,   1431.8,   8.6780,  35.7940,2,-999.0000,9,    200.6,2,    204.6,2,     9.35,6,  -999.00,9,  -999.00,9,     1.06,2,      -999,9,   2364.9,2,     -999,9,   8.5132
         OMEX2,   236,  1,      1,19970626, 42.6723, -10.3253, 3349,      8.9,  17.9730,  35.8400,2,-999.0000,9,    236.1,2,    239.3,2,     0.67,6,  -999.00,9,  -999.00,9,     0.01,2, 0.0780596,2,   2345.4,2, 0.117089,2,  17.9715
         OMEX2,   236,  1,      2,19970626, 42.6723, -10.3253, 3349,     19.6,  17.9680,  35.8400,2,-999.0000,9,    236.4,2,    239.6,2,     0.68,6,  -999.00,9,  -999.00,9,     0.02,2, 0.0878171,2,   2352.4,2, 0.136604,2,  17.9646
         OMEX2,   236,  1,      3,19970626, 42.6723, -10.3253, 3349,     39.1,  17.6010,  35.8780,2,-999.0000,9,    239.9,2,    243.9,2,     0.73,6,  -999.00,9,  -999.00,9,     0.02,2, 0.0975718,2,   2347.7,2, 0.126843,2,  17.5944
         OMEX2,   236,  1,      4,19970626, 42.6723, -10.3253, 3349,     59.1,  15.4960,  35.9530,2,-999.0000,9,    249.0,2,    253.1,2,     0.96,6,  -999.00,9,  -999.00,9,     0.06,2,  0.126836,2,   2347.7,2,  0.11708,2,  15.4868
         OMEX2,   236,  1,      5,19970626, 42.6723, -10.3253, 3349,     79.1,  14.3610,  35.9550,2,-999.0000,9,    234.4,2,    233.3,2,     1.30,6,  -999.00,9,  -999.00,9,     0.23,2,  0.107323,2,   2356.4,2, 0.156106,2,  14.3493
         OMEX2,   236,  1,      6,19970626, 42.6723, -10.3253, 3349,    100.7,  14.0800,  35.9210,2,-999.0000,9,    231.8,2,    232.5,2,     1.42,6,  -999.00,9,  -999.00,9,     0.30,2,      -999,9,   2351.5,2,     -999,9,  14.0653
         OMEX2,   237,  1,      1,19970626, 42.6793, -10.3334, 3349,      8.8,  17.9730,  35.8410,2,  35.8430,2,    235.9,2,    239.1,2,  -999.00,9,  -999.00,9,  -999.00,9,  -999.00,9,      -999,9,   2345.4,2,     -999,9,  17.9715
         OMEX2,   237,  1,      2,19970626, 42.6793, -10.3334, 3349,     59.0,  14.9390,  35.9610,2,  35.9570,2,    246.9,2,    243.9,2,  -999.00,9,  -999.00,9,  -999.00,9,  -999.00,9,      -999,9,   2352.1,2,     -999,9,  14.9301
         OMEX2,   238,  1,      1,19970626, 42.8332,  -9.3922,  321,      8.8,  16.9380,  35.7000,2,-999.0000,9,    235.9,2,    237.5,2,     1.42,6,  -999.00,9,  -999.00,9,     0.07,2,  0.136619,2,   2339.0,2, 0.136619,2,  16.9366
         OMEX2,   238,  1,      2,19970626, 42.8332,  -9.3922,  321,     18.4,  16.5690,  35.7060,2,-999.0000,9,    230.2,2,    225.6,2,     1.92,6,  -999.00,9,  -999.00,9,     0.19,2,  0.117101,2,   2340.2,2, 0.156135,2,  16.5660
         OMEX2,   238,  1,      3,19970626, 42.8332,  -9.3922,  321,     40.4,  15.4660,  35.7850,2,-999.0000,9,    218.7,2,    223.6,2,     2.02,6,  -999.00,9,  -999.00,9,     0.25,2,  0.126852,2,   2345.8,2, 0.117094,2,  15.4597
         OMEX2,   238,  1,      4,19970626, 42.8332,  -9.3922,  321,     60.5,  14.2050,  35.8910,2,-999.0000,9,    224.8,2,    226.4,2,     1.91,6,  -999.00,9,  -999.00,9,     0.27,2,  0.117085,2,   2348.4,2, 0.126842,2,  14.1961
         OMEX2,   238,  1,      5,19970626, 42.8332,  -9.3922,  321,     79.6,  13.8510,  35.8810,2,-999.0000,9,    220.7,2,    220.4,2,     2.30,6,  -999.00,9,  -999.00,9,     0.35,2,  0.117086,2,   2349.6,2, 0.165872,2,  13.8395
         OMEX2,   238,  1,      6,19970626, 42.8332,  -9.3922,  321,    135.7,  11.9290,  35.6530,2,-999.0000,9,    221.3,2,    222.7,2,     3.46,6,  -999.00,9,  -999.00,9,     0.63,2,  0.136623,2,   2337.4,2, 0.214694,2,  11.9113
         OMEX2,   239,  1,      1,19970626, 42.8336,  -9.6160, 2059,    403.5,  11.2130,  35.5870,2,  35.5980,2,    214.6,2,   -999.0,9,  -999.00,9,  -999.00,9,  -999.00,9,  -999.00,9,      -999,9,   -999.0,9,     -999,9,  11.1618
         OMEX2,   239,  1,      2,19970626, 42.8336,  -9.6160, 2059,    806.7,  11.3170,  36.0430,2,  36.0420,2,    185.4,2,   -999.0,9,  -999.00,9,  -999.00,9,  -999.00,9,  -999.00,9,      -999,9,   -999.0,9,     -999,9,  11.2118