BOTTLE,20090114PRINUNIVRMKPRINUNIVRMK
EXPOCODE,STNNBR,CASTNO,BTLNBR,DATE,LATITUDE,LONGITUDE,DEPTH,CTDPRS,CTDTMP,CTDSAL,CTDSAL_FLAG_W,SALNTY,SALNTY_FLAG_W,CTDOXY,CTDOXY_FLAG_W,OXYGEN,OXYGEN_FLAG_W,SILCAT,SILCAT_FLAG_W,NITRAT,NITRAT_FLAG_W,NITRIT,NITRIT_FLAG_W,PHSPHT,PHSPHT_FLAG_W,AMMONI,AMMONI_FLAG_W,ALKALI,ALKALI_FLAG_W,UREA,UREA_FLAG_W,THETA
,,,,,,,METERS,DBARS,ITS-90,PSS-78,,PSS-78,,UMOL/KG,,UMOL/KG,,UMOL/KG,,UMOL/KG,,UMOL/KG,,UMOL/KG,,UMOL/KG,,UMOL/KG,,UMOL/KG,,DEGC
         OMEX2,   240,  1,      1,19970626, 42.8331,  -9.7501, 2059,      9.5,  17.6550,  35.8030,2,-999.0000,9,    238.1,2,   -999.0,9,  -999.00,9,  -999.00,9,  -999.00,9,  -999.00,9,      -999,9,   2341.7,2,     -999,9,  17.6534
         OMEX2,   240,  1,      2,19970626, 42.8331,  -9.7501, 2059,     18.9,  17.6520,  35.8040,2,-999.0000,9,    238.4,2,   -999.0,9,  -999.00,9,  -999.00,9,  -999.00,9,  -999.00,9,      -999,9,   -999.0,9,     -999,9,  17.6488
         OMEX2,   240,  1,      3,19970626, 42.8331,  -9.7501, 2059,     39.1,  17.5390,  35.7960,2,-999.0000,9,    238.8,2,   -999.0,9,  -999.00,9,  -999.00,9,  -999.00,9,  -999.00,9,      -999,9,   2343.7,2,     -999,9,  17.5324
         OMEX2,   240,  1,      4,19970626, 42.8331,  -9.7501, 2059,     59.4,  15.7590,  35.8480,2,-999.0000,9,    242.4,2,   -999.0,9,  -999.00,9,  -999.00,9,  -999.00,9,  -999.00,9,      -999,9,   2345.7,2,     -999,9,  15.7497
         OMEX2,   240,  1,      5,19970626, 42.8331,  -9.7501, 2059,     79.6,  15.2290,  35.8470,2,-999.0000,9,    237.3,2,   -999.0,9,  -999.00,9,  -999.00,9,  -999.00,9,  -999.00,9,      -999,9,   2345.9,2,     -999,9,  15.2168
         OMEX2,   240,  1,      6,19970626, 42.8331,  -9.7501, 2059,     99.7,  14.0680,  35.8480,2,-999.0000,9,    228.7,2,   -999.0,9,  -999.00,9,  -999.00,9,  -999.00,9,  -999.00,9,      -999,9,   -999.0,9,     -999,9,  14.0535
         OMEX2,   241,  1,      1,19970626, 42.8376, -10.0035, 3349,    200.9,  12.5200,  35.7300,2,  35.7230,2,    218.5,2,   -999.0,9,  -999.00,9,  -999.00,9,  -999.00,9,  -999.00,9,      -999,9,   -999.0,9,     -999,9,  12.4928
         OMEX2,   241,  1,      2,19970626, 42.8376, -10.0035, 3349,    404.1,  11.4310,  35.6040,2,  35.6020,2,    217.7,2,   -999.0,9,  -999.00,9,  -999.00,9,  -999.00,9,  -999.00,9,      -999,9,   -999.0,9,     -999,9,  11.3791
         OMEX2,   241,  1,      3,19970626, 42.8376, -10.0035, 3349,   1009.1,  11.0640,  36.1110,2,  36.1080,2,    183.1,2,   -999.0,9,  -999.00,9,  -999.00,9,  -999.00,9,  -999.00,9,      -999,9,   -999.0,9,     -999,9,  10.9330
         OMEX2,   241,  1,      4,19970626, 42.8376, -10.0035, 3349,   1438.0,   7.5710,  35.5860,2,  35.5830,2,    208.7,2,   -999.0,9,  -999.00,9,  -999.00,9,  -999.00,9,  -999.00,9,      -999,9,   -999.0,9,     -999,9,   7.4172
         OMEX2,   242,  1,      1,19970626, 42.8414, -10.3006, 3349,    504.8,  10.8210,  35.5280,2,  35.5360,2,    218.2,2,   -999.0,9,  -999.00,9,  -999.00,9,  -999.00,9,  -999.00,9,      -999,9,   -999.0,9,     -999,9,  10.7581
         OMEX2,   242,  1,      2,19970626, 42.8414, -10.3006, 3349,   1091.0,  10.9740,  36.1200,2,  36.1190,2,    182.7,2,   -999.0,9,  -999.00,9,  -999.00,9,  -999.00,9,  -999.00,9,      -999,9,   -999.0,9,     -999,9,  10.8326
         OMEX2,   242,  1,      3,19970626, 42.8414, -10.3006, 3349,   1417.1,   8.1280,  35.6980,2,  35.7010,2,    205.1,2,   -999.0,9,  -999.00,9,  -999.00,9,  -999.00,9,  -999.00,9,      -999,9,   -999.0,9,     -999,9,   7.9708
         OMEX2,   243,  1,      1,19970627, 43.0000,  -9.3037, 1801,     36.1,  13.7350,  35.8170,2,  35.8170,2,    208.2,2,   -999.0,9,  -999.00,9,  -999.00,9,  -999.00,9,  -999.00,9,      -999,9,   -999.0,9,     -999,9,  13.7298
         OMEX2,   244,  1,      1,19970627, 42.9970,  -9.4006,  321,      9.2,  15.5170,  35.7510,2,-999.0000,9,    227.0,2,    227.3,2,     2.39,6,  -999.00,9,  -999.00,9,     0.27,2,  0.126855,2,   2338.7,2, 0.117097,2,  15.5156
         OMEX2,   244,  1,      2,19970627, 42.9970,  -9.4006,  321,     19.3,  15.2740,  35.7600,2,-999.0000,9,    225.7,2,    222.4,2,     2.50,6,  -999.00,9,  -999.00,9,     0.34,2,  0.136612,2,   2343.9,2,  0.14637,2,  15.2710
         OMEX2,   244,  1,      3,19970627, 42.9970,  -9.4006,  321,     39.5,  13.7530,  35.8030,2,-999.0000,9,    211.2,2,    211.8,2,     3.31,6,  -999.00,9,  -999.00,9,     0.47,2,  0.136608,2,   2341.7,2,0.0975772,2,  13.7473
         OMEX2,   244,  1,      4,19970627, 42.9970,  -9.4006,  321,     59.7,  13.2460,  35.7920,2,-999.0000,9,    211.7,2,    211.5,2,     3.52,6,  -999.00,9,  -999.00,9,     0.51,2,  0.156125,2,   2335.8,2, 0.097578,2,  13.2377
         OMEX2,   244,  1,      5,19970627, 42.9970,  -9.4006,  321,     79.1,  12.8610,  35.7620,2,-999.0000,9,    216.6,2,    216.2,2,     3.24,6,  -999.00,9,  -999.00,9,     0.52,2,  0.156128,2,   2343.1,2, 0.107338,2,  12.8502
         OMEX2,   244,  1,      6,19970627, 42.9970,  -9.4006,  321,     99.1,  12.6020,  35.7340,2,-999.0000,9,    216.8,2,    218.3,2,     3.31,6,  -999.00,9,  -999.00,9,     0.60,2,  0.146373,2,   2338.2,2, 0.126857,2,  12.5886
         OMEX2,   244,  1,      7,19970627, 42.9970,  -9.4006,  321,    118.3,  12.4760,  35.7140,2,-999.0000,9,    218.4,2,    218.4,2,     3.52,6,  -999.00,9,  -999.00,9,     0.63,2,  0.282993,2,   2340.2,2, 0.156134,2,  12.4601
         OMEX2,   245,  1,      1,19970627, 43.0028,  -9.3971, 1801,      9.0,  15.3270,  35.7540,2,-999.0000,9,    225.5,2,    226.9,2,  -999.00,9,  -999.00,9,  -999.00,9,  -999.00,9,      -999,9,   2339.9,2,     -999,9,  15.3256
         OMEX2,   245,  1,      2,19970627, 43.0028,  -9.3971, 1801,     60.0,  14.2550,  35.7920,2,-999.0000,9,    216.3,2,    214.1,2,  -999.00,9,  -999.00,9,  -999.00,9,  -999.00,9,      -999,9,   2341.4,2,     -999,9,  14.2462
         OMEX2,   246,  1,      1,19970627, 43.0101,  -9.4002, 1801,      9.8,  16.2700,  35.7400,2,-999.0000,9,    231.2,2,   -999.0,9,  -999.00,9,  -999.00,9,  -999.00,9,  -999.00,9,      -999,9,   -999.0,9,     -999,9,  16.2684
         OMEX2,   246,  1,      2,19970627, 43.0101,  -9.4002, 1801,     19.4,  15.8220,  35.7510,2,-999.0000,9,    227.5,2,   -999.0,9,  -999.00,9,  -999.00,9,  -999.00,9,  -999.00,9,      -999,9,   -999.0,9,     -999,9,  15.8189
         OMEX2,   246,  1,      3,19970627, 43.0101,  -9.4002, 1801,     38.6,  15.3160,  35.7630,2,-999.0000,9,    225.4,2,   -999.0,9,  -999.00,9,  -999.00,9,  -999.00,9,  -999.00,9,      -999,9,   -999.0,9,     -999,9,  15.3101
         OMEX2,   246,  1,      4,19970627, 43.0101,  -9.4002, 1801,     59.8,  14.4540,  35.7880,2,-999.0000,9,    217.8,2,   -999.0,9,  -999.00,9,  -999.00,9,  -999.00,9,  -999.00,9,      -999,9,   -999.0,9,     -999,9,  14.4452
         OMEX2,   246,  1,      5,19970627, 43.0101,  -9.4002, 1801,     79.2,  13.7520,  35.7960,2,-999.0000,9,    211.2,2,   -999.0,9,  -999.00,9,  -999.00,9,  -999.00,9,  -999.00,9,      -999,9,   -999.0,9,     -999,9,  13.7407
         OMEX2,   246,  1,      6,19970627, 43.0101,  -9.4002, 1801,     99.9,  12.9580,  35.7750,2,-999.0000,9,    211.4,2,   -999.0,9,  -999.00,9,  -999.00,9,  -999.00,9,  -999.00,9,      -999,9,   -999.0,9,     -999,9,  12.9442
         OMEX2,   247,  1,      1,19970627, 42.9970,  -9.5222, 2059,      8.5,  17.6130,  35.7560,2,  35.7550,2,    238.5,2,    241.9,2,     0.83,6,  -999.00,9,  -999.00,9,     0.02,2,  0.107339,2,   2336.7,2, 0.331774,2,  17.6116
         OMEX2,   247,  1,      2,19970627, 42.9970,  -9.5222, 2059,     20.1,  17.5500,  35.7560,2,-999.0000,9,    238.9,2,    241.3,2,     0.85,6,  -999.00,9,  -999.00,9,     0.04,2,  0.107339,2,   2338.7,2, 0.126855,2,  17.5466
         OMEX2,   247,  1,      3,19970627, 42.9970,  -9.5222, 2059,     28.6,  17.3780,  35.7600,2,-999.0000,9,    238.9,2,    235.4,2,     1.15,6,  -999.00,9,  -999.00,9,     0.09,2,  0.175645,2,   2342.8,2, 0.175645,2,  17.3732
         OMEX2,   247,  1,      4,19970627, 42.9970,  -9.5222, 2059,     39.3,  16.5440,  35.8130,2,-999.0000,9,    233.6,2,    234.7,2,     1.19,6,  -999.00,9,  -999.00,9,     0.10,2,  0.107334,2,   2345.2,2, 0.136607,2,  16.5376
         OMEX2,   247,  1,      5,19970627, 42.9970,  -9.5222, 2059,     60.3,  14.5730,  35.8170,2,-999.0000,9,    227.5,2,    233.5,2,     1.53,6,  -999.00,9,  -999.00,9,     0.21,2, 0.0878186,2,   2341.2,2, 0.117091,2,  14.5640
         OMEX2,   247,  1,      6,19970627, 42.9970,  -9.5222, 2059,     70.7,  13.9840,  35.8370,2,-999.0000,9,    231.9,2,    233.1,2,     1.69,6,  -999.00,9,  -999.00,9,     0.27,2,  0.146362,2,   2342.6,2, 0.146362,2,  13.9737
         OMEX2,   247,  1,      7,19970627, 42.9970,  -9.5222, 2059,     80.8,  13.6320,  35.8300,2,-999.0000,9,    225.5,2,    225.3,2,     2.13,6,  -999.00,9,  -999.00,9,     0.36,2,  0.107333,2,   2341.7,2, 0.146363,2,  13.6205
         OMEX2,   247,  1,      8,19970627, 42.9970,  -9.5222, 2059,    100.6,  13.5360,  35.8160,2,-999.0000,9,    225.1,2,    225.8,2,     2.15,6,  -999.00,9,  -999.00,9,     0.38,2,   0.16588,2,   2342.7,2, 0.136607,2,  13.5217
         OMEX2,   247,  1,      9,19970627, 42.9970,  -9.5222, 2059,    151.0,  12.7600,  35.7440,2,-999.0000,9,    224.8,2,    225.3,2,     2.73,6,  -999.00,9,  -999.00,9,     0.53,2, 0.0878233,2,   2337.1,2, 0.117098,2,  12.7394
         OMEX2,   247,  1,     10,19970627, 42.9970,  -9.5222, 2059,    199.3,  11.7870,  35.6360,2,-999.0000,9,    222.1,2,    223.1,2,     3.73,6,  -999.00,9,  -999.00,9,     0.68,2,  0.117107,2,   2335.5,2,0.0975893,2,  11.7611
         OMEX2,   248,  1,      1,19970627, 43.0029,  -9.6528, 3129,      8.7,  17.7160,  35.6740,2,-999.0000,9,    239.3,2,   -999.0,9,     0.97,6,  -999.00,9,  -999.00,9,     0.02,2,  0.136621,2,   2332.6,2,0.0975865,2,  17.7145
         OMEX2,   248,  1,      2,19970627, 43.0029,  -9.6528, 3129,     19.2,  17.7060,  35.6740,2,-999.0000,9,    239.6,2,   -999.0,9,     1.01,6,  -999.00,9,  -999.00,9,     0.02,2,  0.117104,2,   2335.5,2, 0.117104,2,  17.7027
         OMEX2,   248,  1,      3,19970627, 43.0029,  -9.6528, 3129,     39.6,  17.5800,  35.6860,2,-999.0000,9,    238.7,2,   -999.0,9,     0.96,6,  -999.00,9,  -999.00,9,     0.02,2,   0.13662,2,   2334.6,2, 0.107344,2,  17.5733
         OMEX2,   248,  1,      4,19970627, 43.0029,  -9.6528, 3129,     60.3,  15.2210,  35.8480,2,-999.0000,9,    246.1,2,   -999.0,9,     1.01,6,  -999.00,9,  -999.00,9,     0.11,2,  0.126846,2,   2341.9,2, 0.107331,2,  15.2118
         OMEX2,   248,  1,      5,19970627, 43.0029,  -9.6528, 3129,     79.4,  14.0190,  35.8590,2,-999.0000,9,    234.8,2,   -999.0,9,     1.34,6,  -999.00,9,  -999.00,9,     0.27,2,  0.117088,2,   2341.6,2, 0.165874,2,  14.0075
         OMEX2,   248,  1,      6,19970627, 43.0029,  -9.6528, 3129,     99.8,  13.6850,  35.8770,2,-999.0000,9,    227.0,2,   -999.0,9,     1.77,6,  -999.00,9,  -999.00,9,     0.34,2, 0.0878147,2,   2341.6,2, 0.107329,2,  13.6707
         OMEX2,   248,  1,      7,19970627, 43.0029,  -9.6528, 3129,    201.5,  12.5730,  35.7410,2,-999.0000,9,    219.9,2,    221.9,2,     2.93,2,  -999.00,9,  -999.00,9,     0.54,2, 0.0878235,2,   2338.2,2,0.0878235,2,  12.5457
         OMEX2,   248,  1,      8,19970627, 43.0029,  -9.6528, 3129,    403.4,  11.2630,  35.5870,2,-999.0000,9,    218.4,2,   -999.0,9,     4.10,6,  -999.00,9,  -999.00,9,  -999.00,9,      -999,9,   2321.7,2,     -999,9,  11.2117
         OMEX2,   248,  1,      9,19970627, 43.0029,  -9.6528, 3129,    604.0,  11.2520,  35.8620,2,-999.0000,9,    192.5,2,   -999.0,9,     5.80,6,  -999.00,9,  -999.00,9,     0.90,2,      -999,9,   2353.8,2,     -999,9,  11.1743
         OMEX2,   248,  1,     10,19970627, 43.0029,  -9.6528, 3129,    806.9,  11.3360,  36.0620,2,-999.0000,9,    185.1,2,   -999.0,9,     6.55,6,  -999.00,9,  -999.00,9,     0.91,2,      -999,9,   2366.9,2,     -999,9,  11.2307
         OMEX2,   248,  1,     11,19970627, 43.0029,  -9.6528, 3129,   1008.4,  10.9690,  36.1130,2,-999.0000,9,    184.3,2,   -999.0,9,     7.36,6,  -999.00,9,  -999.00,9,     0.94,2,      -999,9,   2371.0,2,     -999,9,  10.8388
         OMEX2,   248,  1,     12,19970627, 43.0029,  -9.6528, 3129,   1263.2,   9.6430,  35.9530,2,-999.0000,9,    193.0,2,   -999.0,9,     8.37,6,  -999.00,9,  -999.00,9,     1.00,2,      -999,9,   2371.5,2,     -999,9,   9.4900
         OMEX2,   249,  1,      1,19970628, 43.0025,  -9.8255, 3129,    100.2,  13.9680,  35.9020,2,-999.0000,9,    225.2,2,    225.8,2,     1.37,6,  -999.00,9,  -999.00,9,     0.19,2,  0.146355,2,   2348.5,2, 0.156112,2,  13.9535
         OMEX2,   249,  1,      2,19970628, 43.0025,  -9.8255, 3129,    125.7,  13.6350,  35.8810,2,-999.0000,9,    224.6,2,    226.4,2,     1.97,6,  -999.00,9,  -999.00,9,     0.42,2,      -999,9,   2346.7,2,     -999,9,  13.6171
         OMEX2,   249,  1,      3,19970628, 43.0025,  -9.8255, 3129,    150.8,  13.1980,  35.8170,2,-999.0000,9,    226.0,2,    227.2,2,     2.14,6,  -999.00,9,  -999.00,9,     0.47,2,      -999,9,   2347.9,2,     -999,9,  13.1769
         OMEX2,   249,  1,      4,19970628, 43.0025,  -9.8255, 3129,    201.4,  12.3750,  35.7100,2,-999.0000,9,    222.6,2,    223.1,2,     2.79,6,  -999.00,9,  -999.00,9,     0.64,2,      -999,9,   2337.2,2,     -999,9,  12.3480
         OMEX2,   249,  1,      5,19970628, 43.0025,  -9.8255, 3129,    403.4,  11.0730,  35.5540,2,-999.0000,9,    221.0,2,    221.6,2,     4.00,6,  -999.00,9,  -999.00,9,     0.81,2,      -999,9,   2330.8,2,     -999,9,  11.0223
         OMEX2,   249,  1,      6,19970628, 43.0025,  -9.8255, 3129,    604.4,  10.7480,  35.6630,2,-999.0000,9,    199.8,2,    202.0,2,     5.65,6,  -999.00,9,  -999.00,9,     0.96,2,      -999,9,   2343.0,2,     -999,9,  10.6726
         OMEX2,   249,  1,      7,19970628, 43.0025,  -9.8255, 3129,    807.0,  11.4620,  36.0480,2,-999.0000,9,    185.6,2,    188.5,2,     6.32,6,  -999.00,9,  -999.00,9,     0.93,2,      -999,9,   2377.8,2,     -999,9,  11.3560
         OMEX2,   249,  1,      8,19970628, 43.0025,  -9.8255, 3129,    907.8,  11.2670,  36.0970,2,-999.0000,9,    183.8,2,    185.2,2,     6.73,6,  -999.00,9,  -999.00,9,     0.95,2,      -999,9,   2381.9,2,     -999,9,  11.1484
         OMEX2,   249,  1,      9,19970628, 43.0025,  -9.8255, 3129,   1008.4,  11.0990,  36.1310,2,  36.1220,2,    183.4,2,    185.0,2,     6.91,6,  -999.00,9,  -999.00,9,     0.95,2,      -999,9,   2384.0,2,     -999,9,  10.9678
         OMEX2,   249,  1,     10,19970628, 43.0025,  -9.8255, 3129,   1111.1,  10.7290,  36.1190,2,-999.0000,9,    185.1,2,    187.3,2,     6.96,6,  -999.00,9,  -999.00,9,     0.99,2,      -999,9,   2384.1,2,     -999,9,  10.5867
         OMEX2,   249,  1,     11,19970628, 43.0025,  -9.8255, 3129,   1263.0,   9.9590,  36.0290,2,-999.0000,9,    190.2,2,    193.6,2,     7.90,6,  -999.00,9,  -999.00,9,     1.04,2,      -999,9,   2383.5,2,     -999,9,   9.8031
         OMEX2,   249,  1,     12,19970628, 43.0025,  -9.8255, 3129,   1435.8,   8.2540,  35.7190,2,  35.7140,2,    204.9,2,    208.5,2,     9.40,6,  -999.00,9,  -999.00,9,     1.08,2,      -999,9,   2355.0,2,     -999,9,   8.0932
         OMEX2,   250,  1,      1,19970628, 43.0034,  -9.8229, 3129,      8.9,  17.5120,  35.7440,2,-999.0000,9,    238.2,2,    241.3,2,  -999.00,9,  -999.00,9,  -999.00,9,  -999.00,9,      -999,9,   2339.7,2,     -999,9,  17.5105
         OMEX2,   250,  1,      2,19970628, 43.0034,  -9.8229, 3129,     60.1,  14.7120,  35.8860,2,-999.0000,9,    234.7,2,    237.3,2,  -999.00,9,  -999.00,9,  -999.00,9,  -999.00,9,      -999,9,   2346.2,2,     -999,9,  14.7030
         OMEX2,   251,  1,      1,19970628, 42.9988,  -9.8280, 2059,      9.0,  17.4790,  35.7580,2,  35.7430,2,    238.3,2,    241.1,2,     0.71,6,  -999.00,9,  -999.00,9,     0.02,2,  0.126855,2,   2340.7,2, 0.146371,2,  17.4775
         OMEX2,   251,  1,      2,19970628, 42.9988,  -9.8280, 2059,     18.9,  17.4760,  35.7800,2,-999.0000,9,    238.4,2,    241.2,2,     0.64,6,  -999.00,9,  -999.00,9,     0.03,2,  0.126853,2,   2340.7,2, 0.146368,2,  17.4728
         OMEX2,   251,  1,      3,19970628, 42.9988,  -9.8280, 2059,     39.4,  15.8430,  35.8590,2,-999.0000,9,    243.0,2,    249.8,2,     0.72,6,  -999.00,9,  -999.00,9,     0.05,2,  0.136602,2,   2343.6,2,0.0975731,2,  15.8368
         OMEX2,   251,  1,      4,19970628, 42.9988,  -9.8280, 2059,     49.5,  15.6650,  35.8570,2,-999.0000,9,    245.7,2,   -999.0,9,  -999.00,9,  -999.00,9,  -999.00,9,  -999.00,9,      -999,9,   -999.0,9,     -999,9,  15.6573
         OMEX2,   251,  1,      5,19970628, 42.9988,  -9.8280, 2059,     60.0,  15.4080,  35.8640,2,-999.0000,9,    244.6,2,    247.3,2,     0.89,6,  -999.00,9,  -999.00,9,     0.11,2,  0.156116,2,   2346.8,2,  0.10733,2,  15.3987
         OMEX2,   251,  1,      6,19970628, 42.9988,  -9.8280, 2059,     79.2,  14.6450,  35.8860,2,-999.0000,9,    235.2,2,    236.7,2,     1.31,6,  -999.00,9,  -999.00,9,     0.16,2,    0.1366,2,   2350.2,2, 0.107328,2,  14.6332
         OMEX2,   251,  1,      7,19970628, 42.9988,  -9.8280, 2059,     99.8,  14.4370,  35.8900,2,-999.0000,9,    232.4,2,    233.8,2,     1.68,6,  -999.00,9,  -999.00,9,     0.32,2,      -999,9,   2349.3,2,     -999,9,  14.4222
         OMEX2,   252,  1,      1,19970628, 42.9957,  -9.8190, 2059,      8.8,  17.5670,  35.7360,2,-999.0000,9,    238.4,2,   -999.0,9,  -999.00,9,  -999.00,9,  -999.00,9,  -999.00,9,      -999,9,   -999.0,9,     -999,9,  17.5655
         OMEX2,   252,  1,      2,19970628, 42.9957,  -9.8190, 2059,     29.2,  16.8830,  35.8300,2,-999.0000,9,    242.7,2,   -999.0,9,  -999.00,9,  -999.00,9,  -999.00,9,  -999.00,9,      -999,9,   -999.0,9,     -999,9,  16.8782
         OMEX2,   252,  1,      3,19970628, 42.9957,  -9.8190, 2059,     49.4,  15.5830,  35.8610,2,-999.0000,9,    248.0,2,   -999.0,9,  -999.00,9,  -999.00,9,  -999.00,9,  -999.00,9,      -999,9,   -999.0,9,     -999,9,  15.5753
         OMEX2,   252,  1,      4,19970628, 42.9957,  -9.8190, 2059,     59.4,  14.7880,  35.8760,2,-999.0000,9,    242.9,2,   -999.0,9,  -999.00,9,  -999.00,9,  -999.00,9,  -999.00,9,      -999,9,   -999.0,9,     -999,9,  14.7791
         OMEX2,   252,  1,      5,19970628, 42.9957,  -9.8190, 2059,     69.7,  14.3140,  35.8990,2,-999.0000,9,    231.8,2,   -999.0,9,  -999.00,9,  -999.00,9,  -999.00,9,  -999.00,9,      -999,9,   -999.0,9,     -999,9,  14.3037
         OMEX2,   252,  1,      6,19970628, 42.9957,  -9.8190, 2059,     99.5,  13.8030,  35.8950,2,-999.0000,9,    224.7,2,   -999.0,9,  -999.00,9,  -999.00,9,  -999.00,9,  -999.00,9,      -999,9,   -999.0,9,     -999,9,  13.7887
         OMEX2,   253,  1,      1,19970628, 43.0025, -10.0076, 4314,     79.0,  13.8550,  35.9060,2,  35.9030,2,    216.4,2,   -999.0,9,  -999.00,9,  -999.00,9,  -999.00,9,  -999.00,9,      -999,9,   -999.0,9,     -999,9,  13.8436
         OMEX2,   253,  1,      2,19970628, 43.0025, -10.0076, 4314,    484.0,  11.1010,  35.5860,2,  35.5900,2,    212.9,2,   -999.0,9,  -999.00,9,  -999.00,9,  -999.00,9,  -999.00,9,      -999,9,   -999.0,9,     -999,9,  11.0398
         OMEX2,   253,  1,      3,19970628, 43.0025, -10.0076, 4314,    605.0,  11.0790,  35.7350,2,  35.6830,3,    198.3,2,   -999.0,9,  -999.00,9,  -999.00,9,  -999.00,9,  -999.00,9,      -999,9,   -999.0,9,     -999,9,  11.0021
         OMEX2,   253,  1,      4,19970628, 43.0025, -10.0076, 4314,   1029.0,  11.0630,  36.1350,2,  36.1310,2,    183.9,2,   -999.0,9,  -999.00,9,  -999.00,9,  -999.00,9,  -999.00,9,      -999,9,   -999.0,9,     -999,9,  10.9293
         OMEX2,   253,  1,      5,19970628, 43.0025, -10.0076, 4314,   1090.5,  10.9550,  36.1360,2,  36.1310,2,    184.3,2,   -999.0,9,  -999.00,9,  -999.00,9,  -999.00,9,  -999.00,9,      -999,9,   -999.0,9,     -999,9,  10.8138
         OMEX2,   253,  1,      6,19970628, 43.0025, -10.0076, 4314,   1442.7,   8.5050,  35.7660,2,  35.7630,2,    203.0,2,   -999.0,9,  -999.00,9,  -999.00,9,  -999.00,9,  -999.00,9,      -999,9,   -999.0,9,     -999,9,   8.3407