BOTTLE,20090114PRINUNIVRMKPRINUNIVRMK
EXPOCODE,STNNBR,CASTNO,BTLNBR,DATE,LATITUDE,LONGITUDE,DEPTH,CTDPRS,CTDTMP,CTDSAL,CTDSAL_FLAG_W,SALNTY,SALNTY_FLAG_W,CTDOXY,CTDOXY_FLAG_W,OXYGEN,OXYGEN_FLAG_W,SILCAT,SILCAT_FLAG_W,NITRAT,NITRAT_FLAG_W,NITRIT,NITRIT_FLAG_W,PHSPHT,PHSPHT_FLAG_W,AMMONI,AMMONI_FLAG_W,ALKALI,ALKALI_FLAG_W,UREA,UREA_FLAG_W,THETA
,,,,,,,METERS,DBARS,ITS-90,PSS-78,,PSS-78,,UMOL/KG,,UMOL/KG,,UMOL/KG,,UMOL/KG,,UMOL/KG,,UMOL/KG,,UMOL/KG,,UMOL/KG,,UMOL/KG,,DEGC
         OMEX2,   612,  1,      1,19980711, 47.5255,  -7.2015,  314,      9.4,  15.8950,  35.5810,2,-999.0000,9,    253.2,2,   -999.0,9,  -999.00,9,  -999.00,9,  -999.00,9,     0.03,2,      -999,9,   -999.0,9,     -999,9,  15.8935
         OMEX2,   612,  1,      2,19980711, 47.5255,  -7.2015,  314,     19.3,  15.8500,  35.5870,2,-999.0000,9,    253.5,2,   -999.0,9,  -999.00,9,  -999.00,9,  -999.00,9,     0.05,2,      -999,9,   -999.0,9,     -999,9,  15.8470
         OMEX2,   612,  1,      3,19980711, 47.5255,  -7.2015,  314,     39.1,  13.8150,  35.6600,2,-999.0000,9,    243.5,2,   -999.0,9,  -999.00,9,  -999.00,9,  -999.00,9,     0.30,2,      -999,9,   -999.0,9,     -999,9,  13.8094
         OMEX2,   612,  1,      4,19980711, 47.5255,  -7.2015,  314,     59.8,  12.5500,  35.6660,2,-999.0000,9,    242.2,2,   -999.0,9,  -999.00,9,  -999.00,9,  -999.00,9,     0.40,2,      -999,9,   -999.0,9,     -999,9,  12.5420
         OMEX2,   612,  1,      5,19980711, 47.5255,  -7.2015,  314,     79.5,  12.4190,  35.6590,2,-999.0000,9,    239.8,2,   -999.0,9,  -999.00,9,  -999.00,9,  -999.00,9,     0.44,2,      -999,9,   -999.0,9,     -999,9,  12.4084
         OMEX2,   612,  1,      6,19980711, 47.5255,  -7.2015,  314,    100.8,  12.1490,  35.6550,2,-999.0000,9,    238.1,2,   -999.0,9,  -999.00,9,  -999.00,9,  -999.00,9,     0.47,2,      -999,9,   -999.0,9,     -999,9,  12.1357
         OMEX2,   612,  1,      7,19980711, 47.5255,  -7.2015,  314,    201.8,  11.6310,  35.6300,2,-999.0000,9,    233.3,2,   -999.0,9,  -999.00,9,  -999.00,9,  -999.00,9,     0.58,2,      -999,9,   -999.0,9,     -999,9,  11.6050
         OMEX2,   612,  1,      8,19980711, 47.5255,  -7.2015,  314,    304.3,  11.3030,  35.6080,2,  35.6190,2,    226.5,2,   -999.0,9,  -999.00,9,  -999.00,9,  -999.00,9,     0.65,2,      -999,9,   -999.0,9,     -999,9,  11.2644
         OMEX2,   613,  1,      1,19980711, 47.5214,  -7.2014,  314,    303.8,  11.3370,  35.6110,2,  35.6100,2,    227.2,2,   -999.0,9,  -999.00,9,  -999.00,9,  -999.00,9,  -999.00,9,      -999,9,   -999.0,9,     -999,9,  11.2984
         OMEX2,   614,  1,      1,19980711, 47.5216,  -7.2057,  312,    302.3,  11.4980,  35.6220,2,  35.6200,2,    229.7,2,   -999.0,9,  -999.00,9,  -999.00,9,  -999.00,9,  -999.00,9,      -999,9,   -999.0,9,     -999,9,  11.4592
         OMEX2,   615,  1,      1,19980711, 47.5184,  -7.2060,  312,     10.2,  15.8520,  35.5900,2,-999.0000,9,    248.3,2,    256.7,2,  -999.00,9,  -999.00,9,  -999.00,9,     0.03,2,      -999,9,   -999.0,9,     -999,9,  15.8504
         OMEX2,   615,  1,      2,19980711, 47.5184,  -7.2060,  312,     19.1,  15.8510,  35.5900,2,-999.0000,9,    251.2,2,    255.3,2,  -999.00,9,  -999.00,9,  -999.00,9,     0.03,2,      -999,9,   -999.0,9,     -999,9,  15.8480
         OMEX2,   615,  1,      3,19980711, 47.5184,  -7.2060,  312,     40.1,  15.0400,  35.6180,2,-999.0000,9,    248.9,2,    249.6,2,  -999.00,9,  -999.00,9,  -999.00,9,     0.16,2,      -999,9,   -999.0,9,     -999,9,  15.0339
         OMEX2,   615,  1,      4,19980711, 47.5184,  -7.2060,  312,     59.6,  13.2820,  35.6630,2,-999.0000,9,    243.7,2,    245.2,2,  -999.00,9,  -999.00,9,  -999.00,9,     0.28,2,      -999,9,   -999.0,9,     -999,9,  13.2737
         OMEX2,   615,  1,      5,19980711, 47.5184,  -7.2060,  312,     80.1,  12.5850,  35.6620,2,-999.0000,9,    239.8,2,    242.4,2,  -999.00,9,  -999.00,9,  -999.00,9,     0.34,2,      -999,9,   -999.0,9,     -999,9,  12.5742
         OMEX2,   615,  1,      6,19980711, 47.5184,  -7.2060,  312,     99.6,  12.0910,  35.6550,2,-999.0000,9,    237.0,2,    238.6,2,  -999.00,9,  -999.00,9,  -999.00,9,     0.45,2,      -999,9,   -999.0,9,     -999,9,  12.0779
         OMEX2,   615,  1,      7,19980711, 47.5184,  -7.2060,  312,    200.5,  11.7050,  35.6340,2,-999.0000,9,    235.1,2,    236.3,2,  -999.00,9,  -999.00,9,  -999.00,9,     0.53,2,      -999,9,   -999.0,9,     -999,9,  11.6791
         OMEX2,   615,  1,      8,19980711, 47.5184,  -7.2060,  312,    302.1,  11.5340,  35.6230,2,  35.6320,2,    230.7,2,   -999.0,9,  -999.00,9,  -999.00,9,  -999.00,9,  -999.00,9,      -999,9,   -999.0,9,     -999,9,  11.4951
         OMEX2,   616,  1,      1,19980711, 47.5170,  -7.2062,  313,    302.8,  11.6630,  35.6300,2,  35.6280,2,    231.9,2,   -999.0,9,  -999.00,9,  -999.00,9,  -999.00,9,  -999.00,9,      -999,9,   -999.0,9,     -999,9,  11.6238
         OMEX2,   617,  1,      1,19980711, 47.5096,  -7.2145,  312,    302.5,  11.6810,  35.6320,2,  35.6300,2,    231.6,2,   -999.0,9,  -999.00,9,  -999.00,9,  -999.00,9,  -999.00,9,      -999,9,   -999.0,9,     -999,9,  11.6418
         OMEX2,   618,  1,      1,19980712, 47.5220,  -7.2318,  313,    302.6,  11.7720,  35.6350,2,  35.6320,2,    232.3,2,   -999.0,9,  -999.00,9,  -999.00,9,  -999.00,9,  -999.00,9,      -999,9,   -999.0,9,     -999,9,  11.7326
         OMEX2,   619,  1,      1,19980712, 47.5276,  -7.2105,  171,      8.2,  15.6570,  35.5840,2,-999.0000,9,    252.8,2,    255.9,2,  -999.00,9,  -999.00,9,  -999.00,9,     0.05,2,      -999,9,   2344.7,2,     -999,9,  15.6557
         OMEX2,   619,  1,      2,19980712, 47.5276,  -7.2105,  171,     58.8,  12.6410,  35.6570,2,  35.6540,2,    242.1,2,    239.7,2,  -999.00,9,  -999.00,9,  -999.00,9,     0.40,2,      -999,9,   2346.2,2,     -999,9,  12.6331
         OMEX2,   619,  1,      3,19980712, 47.5276,  -7.2105,  171,    100.1,  12.1290,  35.6540,2,-999.0000,9,    239.0,2,   -999.0,9,  -999.00,9,  -999.00,9,  -999.00,9,  -999.00,9,      -999,9,   -999.0,9,     -999,9,  12.1158
         OMEX2,   620,  1,      1,19980712, 47.5889,  -7.1732,  171,    148.7,  11.6940,  35.6270,2,  35.6260,2,    230.9,2,   -999.0,9,  -999.00,9,  -999.00,9,  -999.00,9,  -999.00,9,      -999,9,   -999.0,9,     -999,9,  11.6748
         OMEX2,   621,  1,      1,19980712, 47.6408,  -7.1424,  171,    152.2,  12.2920,  35.6470,2,  35.6460,2,    233.9,2,   -999.0,9,  -999.00,9,  -999.00,9,  -999.00,9,  -999.00,9,      -999,9,   -999.0,9,     -999,9,  12.2717
         OMEX2,   622,  1,      1,19980712, 47.6926,  -7.1058,  171,    151.3,  12.3070,  35.6540,2,  35.6530,2,    235.5,2,   -999.0,9,  -999.00,9,  -999.00,9,  -999.00,9,  -999.00,9,      -999,9,   -999.0,9,     -999,9,  12.2868
         OMEX2,   623,  1,      1,19980712, 47.7523,  -7.0757,  171,    149.3,  12.3850,  35.6540,2,  35.6520,2,    234.8,2,   -999.0,9,  -999.00,9,  -999.00,9,  -999.00,9,  -999.00,9,      -999,9,   -999.0,9,     -999,9,  12.3650
         OMEX2,   701,  1,      1,19980802, 42.6203,  -9.1082,  321,      8.4,  13.6360,  35.5800,2,-999.0000,9,   -999.0,9,    251.6,2,  -999.00,9,  -999.00,9,  -999.00,9,  -999.00,9,      -999,9,   2346.7,2,     -999,9,  13.6348
         OMEX2,   701,  1,      2,19980802, 42.6203,  -9.1082,  321,     33.3,  12.5670,  35.6430,2,-999.0000,9,   -999.0,9,    200.3,2,  -999.00,9,  -999.00,9,  -999.00,9,  -999.00,9,      -999,9,   2345.2,2,     -999,9,  12.5625
         OMEX2,   701,  1,      3,19980802, 42.6203,  -9.1082,  321,     53.2,  12.1770,  35.6300,2,-999.0000,9,   -999.0,9,    201.4,2,  -999.00,9,  -999.00,9,  -999.00,9,  -999.00,9,      -999,9,   2346.4,2,     -999,9,  12.1700
         OMEX2,   702,  1,      1,19980802, 42.6181,  -9.1095,  321,      7.3,  14.0010,  35.5880,2,-999.0000,9,   -999.0,9,   -999.0,9,     0.66,2,     5.11,2,     0.26,2,     0.34,2,      -999,9,   -999.0,9,     -999,9,  14.0000
         OMEX2,   702,  1,      2,19980802, 42.6181,  -9.1095,  321,     32.2,  12.6120,  35.6460,2,-999.0000,9,   -999.0,9,   -999.0,9,     3.70,2,    10.18,2,     0.41,2,     0.67,2,      -999,9,   -999.0,9,     -999,9,  12.6077
         OMEX2,   702,  1,      3,19980802, 42.6181,  -9.1095,  321,     52.5,  12.1590,  35.6460,2,-999.0000,9,   -999.0,9,   -999.0,9,     4.40,2,    10.79,2,     0.39,2,     0.70,2,      -999,9,   -999.0,9,     -999,9,  12.1521
         OMEX2,   703,  1,      1,19980802, 42.6124,  -9.3978,  321,     24.5,  15.2580,  35.6450,2,  35.6900,2,   -999.0,9,    242.6,2,     1.43,2,     2.73,2,     0.09,2,     0.20,2,      -999,9,   2346.9,2,     -999,9,  15.2542
         OMEX2,   703,  1,      2,19980802, 42.6124,  -9.3978,  321,     44.3,  14.2610,  35.6730,2,-999.0000,9,   -999.0,9,    236.3,2,     1.66,2,     8.46,2,     0.06,2,     0.23,2,      -999,9,   2345.4,2,     -999,9,  14.2545
         OMEX2,   703,  1,      3,19980802, 42.6124,  -9.3978,  321,     64.1,  13.4360,  35.6760,2,-999.0000,9,   -999.0,9,    231.8,2,     2.12,2,    11.38,2,     0.06,2,     0.36,2,      -999,9,   2346.8,2,     -999,9,  13.4270
         OMEX2,   703,  1,      4,19980802, 42.6124,  -9.3978,  321,     87.5,  12.9100,  35.6800,2,-999.0000,9,   -999.0,9,    228.1,2,     2.74,2,    13.73,2,     0.06,2,     0.44,2,      -999,9,   2342.1,2,     -999,9,  12.8980
         OMEX2,   703,  1,      5,19980802, 42.6124,  -9.3978,  321,    107.4,  12.5100,  35.6610,2,-999.0000,9,   -999.0,9,    227.7,2,     3.00,2,    14.74,2,     0.06,2,     0.48,2,      -999,9,   2342.2,2,     -999,9,  12.4955
         OMEX2,   703,  1,      6,19980802, 42.6124,  -9.3978,  321,    136.4,  12.1620,  35.6510,2,-999.0000,9,   -999.0,9,    216.8,2,     3.70,2,    17.66,2,     0.08,2,     0.59,2,      -999,9,   2347.4,2,     -999,9,  12.1440
         OMEX2,   704,  1,      1,19980802, 42.6176,  -9.4493,  321,    239.4,  11.4770,  35.6070,2,  35.6340,2,   -999.0,9,   -999.0,9,  -999.00,9,  -999.00,9,  -999.00,9,  -999.00,9,      -999,9,   -999.0,9,     -999,9,  11.4464
         OMEX2,   705,  1,      1,19980802, 42.6128,  -9.4763,  330,      7.6,  15.9810,  35.6370,2,-999.0000,9,   -999.0,9,    257.4,2,     0.95,2,     0.20,2,     0.06,2,     0.05,2, 0.0975892,2,   2346.5,2,     -999,9,  15.9798
         OMEX2,   705,  1,      2,19980802, 42.6128,  -9.4763,  330,     22.4,  15.9720,  35.6430,2,-999.0000,9,   -999.0,9,    245.4,2,     1.18,2,     2.20,2,     0.14,2,     0.14,2,  0.126865,2,   2349.6,2,     -999,9,  15.9685
         OMEX2,   705,  1,      3,19980802, 42.6128,  -9.4763,  330,     42.4,  13.8540,  35.6990,2,-999.0000,9,   -999.0,9,    234.6,2,     2.32,2,     5.90,2,     0.15,2,     0.29,2, 0.0585508,2,   2347.6,2,     -999,9,  13.8479
         OMEX2,   705,  1,      4,19980802, 42.6128,  -9.4763,  330,     62.3,  13.4570,  35.7090,2,-999.0000,9,   -999.0,9,    232.6,2,     3.07,2,     6.86,2,     0.10,2,     0.34,2, 0.0585504,2,   2344.8,2,     -999,9,  13.4482
         OMEX2,   705,  1,      5,19980802, 42.6128,  -9.4763,  330,    102.0,  12.8610,  35.6750,2,-999.0000,9,   -999.0,9,    229.5,2,     4.42,2,     8.83,2,     0.06,2,     0.42,2, 0.0780692,2,   2346.1,2,     -999,9,  12.8470
         OMEX2,   705,  1,      6,19980802, 42.6128,  -9.4763,  330,    203.3,  11.6460,  35.6150,2,-999.0000,9,   -999.0,9,    214.3,2,     2.23,3,    11.58,2,     0.06,2,     0.60,2,  0.185423,2,   2344.6,2,     -999,9,  11.6198
         OMEX2,   705,  1,      7,19980802, 42.6128,  -9.4763,  330,    319.7,  11.2710,  35.6150,2,-999.0000,9,   -999.0,9,   -999.0,9,     2.32,3,     5.97,2,     0.08,2,     0.28,2,  0.195182,2,   -999.0,9,     -999,9,  11.2305
         OMEX2,   706,  1,      1,19980803, 42.6163,  -9.3977,  321,      8.7,  15.5260,  35.6400,2,-999.0000,9,   -999.0,9,   -999.0,9,     1.40,2,     0.29,2,     0.05,2,     0.07,2,  0.156142,2,   -999.0,9,     -999,9,  15.5247
         OMEX2,   706,  1,      2,19980803, 42.6163,  -9.3977,  321,     13.6,  14.8400,  35.6380,2,-999.0000,9,   -999.0,9,   -999.0,9,     1.40,2,     0.39,2,     0.05,2,     0.08,2,  0.146384,2,   -999.0,9,     -999,9,  14.8380
         OMEX2,   706,  1,      3,19980803, 42.6163,  -9.3977,  321,     18.5,  14.0180,  35.6630,2,-999.0000,9,   -999.0,9,    252.2,2,     1.09,2,     0.92,2,     0.08,2,     0.10,2,  0.126864,2,   2345.5,2,     -999,9,  14.0153
         OMEX2,   706,  1,      4,19980803, 42.6163,  -9.3977,  321,     23.6,  13.6280,  35.6730,2,-999.0000,9,   -999.0,9,    241.8,2,     1.40,2,     2.16,2,     0.14,2,     0.19,2,  0.107345,2,   2344.7,2,     -999,9,  13.6247
         OMEX2,   706,  1,      5,19980803, 42.6163,  -9.3977,  321,     29.0,  13.6200,  35.6740,2,-999.0000,9,   -999.0,9,    239.0,2,     1.48,2,     2.34,2,     0.12,2,     0.19,2,  0.107345,2,   2342.7,2,     -999,9,  13.6159
         OMEX2,   706,  1,      6,19980803, 42.6163,  -9.3977,  321,     34.1,  13.5690,  35.6790,2,-999.0000,9,   -999.0,9,    237.0,2,     1.78,2,     3.49,2,     0.09,2,     0.27,2, 0.0780689,2,   2344.7,2,     -999,9,  13.5642
         OMEX2,   706,  1,      7,19980803, 42.6163,  -9.3977,  321,     43.5,  13.4670,  35.6830,2,-999.0000,9,   -999.0,9,    236.6,2,     1.85,2,     3.76,2,     0.09,2,     0.29,2, 0.0878273,2,   2346.8,2,     -999,9,  13.4609
         OMEX2,   706,  1,      8,19980803, 42.6163,  -9.3977,  321,     53.4,  13.2530,  35.6840,2,-999.0000,9,   -999.0,9,    236.1,2,  -999.00,9,  -999.00,9,  -999.00,9,  -999.00,9,      -999,9,   2346.8,2,     -999,9,  13.2455
         OMEX2,   706,  1,      9,19980803, 42.6163,  -9.3977,  321,     62.5,  12.9650,  35.6800,2,-999.0000,9,   -999.0,9,    234.6,2,  -999.00,9,  -999.00,9,  -999.00,9,  -999.00,9,      -999,9,   2347.0,2,     -999,9,  12.9564
         OMEX2,   706,  1,     10,19980803, 42.6163,  -9.3977,  321,    102.3,  12.4200,  35.6770,2,-999.0000,9,   -999.0,9,    228.8,2,  -999.00,9,  -999.00,9,  -999.00,9,  -999.00,9,      -999,9,   2347.2,2,     -999,9,  12.4063
         OMEX2,   707,  1,      1,19980803, 42.5726,  -9.3647,  321,      8.7,  15.8070,  35.6730,2,-999.0000,9,   -999.0,9,   -999.0,9,  -999.00,9,  -999.00,9,  -999.00,9,  -999.00,9,      -999,9,   -999.0,9,     -999,9,  15.8056
         OMEX2,   707,  1,      2,19980803, 42.5726,  -9.3647,  321,     18.6,  15.5800,  35.6740,2,-999.0000,9,   -999.0,9,   -999.0,9,  -999.00,9,  -999.00,9,  -999.00,9,  -999.00,9,      -999,9,   -999.0,9,     -999,9,  15.5771
         OMEX2,   707,  1,      3,19980803, 42.5726,  -9.3647,  321,     28.6,  14.6920,  35.6940,2,-999.0000,9,   -999.0,9,   -999.0,9,  -999.00,9,  -999.00,9,  -999.00,9,  -999.00,9,      -999,9,   -999.0,9,     -999,9,  14.6877
         OMEX2,   707,  1,      4,19980803, 42.5726,  -9.3647,  321,     44.2,  13.8480,  35.7060,2,-999.0000,9,   -999.0,9,   -999.0,9,  -999.00,9,  -999.00,9,  -999.00,9,  -999.00,9,      -999,9,   -999.0,9,     -999,9,  13.8416
         OMEX2,   707,  1,      5,19980803, 42.5726,  -9.3647,  321,     64.1,  12.9850,  35.7060,2,-999.0000,9,   -999.0,9,   -999.0,9,  -999.00,9,  -999.00,9,  -999.00,9,  -999.00,9,      -999,9,   -999.0,9,     -999,9,  12.9762
         OMEX2,   707,  1,      6,19980803, 42.5726,  -9.3647,  321,    134.9,  12.0920,  35.6630,2,-999.0000,9,   -999.0,9,   -999.0,9,  -999.00,9,  -999.00,9,  -999.00,9,  -999.00,9,      -999,9,   -999.0,9,     -999,9,  12.0742
         OMEX2,   708,  1,      1,19980803, 42.5169,  -9.3839,  321,     10.3,  15.8790,  35.6530,2,-999.0000,9,   -999.0,9,    257.2,2,     1.45,2,     0.01,2,     0.06,2,  -999.00,9,  0.048794,2,   2347.5,2,     -999,9,  15.8774
         OMEX2,   708,  1,      2,19980803, 42.5169,  -9.3839,  321,     20.2,  15.6740,  35.6520,2,-999.0000,9,   -999.0,9,    251.4,2,     1.62,2,     0.12,2,     0.05,2,  -999.00,9, 0.0585529,2,   2346.6,2,     -999,9,  15.6709
         OMEX2,   708,  1,      3,19980803, 42.5169,  -9.3839,  321,     30.0,  15.3170,  35.6560,2,-999.0000,9,   -999.0,9,    248.6,2,     1.72,2,     0.36,2,     0.08,2,  -999.00,9, 0.0585527,2,   2346.9,2,     -999,9,  15.3124
         OMEX2,   708,  1,      4,19980803, 42.5169,  -9.3839,  321,     54.6,  14.8180,  35.6710,2,-999.0000,9,   -999.0,9,    240.7,2,     2.16,2,     2.31,2,     0.10,2,  -999.00,9, 0.0390347,2,   2347.1,2,     -999,9,  14.8098
         OMEX2,   708,  1,      5,19980803, 42.5169,  -9.3839,  321,     79.6,  13.7040,  35.6910,2,-999.0000,9,   -999.0,9,    235.3,2,     2.75,2,     4.49,2,     0.07,2,  -999.00,9,         0,2,   2348.7,2,     -999,9,  13.6926
         OMEX2,   708,  1,      6,19980803, 42.5169,  -9.3839,  321,    157.9,  12.2660,  35.6740,2,-999.0000,9,   -999.0,9,    220.2,2,     4.98,2,     9.50,2,     0.06,2,  -999.00,9,         0,2,   2344.3,2,     -999,9,  12.2450
         OMEX2,   708,  1,      7,19980803, 42.5169,  -9.3839,  321,    209.2,  11.7890,  35.6320,2,-999.0000,9,   -999.0,9,   -999.0,9,  -999.00,9,  -999.00,9,  -999.00,9,  -999.00,9,      -999,9,   -999.0,9,     -999,9,  11.7618
         OMEX2,   709,  1,      1,19980804, 42.4025,  -9.3832,  215,     14.7,  15.6800,  35.6620,2,  35.6740,2,   -999.0,9,   -999.0,9,  -999.00,9,  -999.00,9,  -999.00,9,  -999.00,9,      -999,9,   -999.0,9,     -999,9,  15.6777
         OMEX2,   709,  1,      2,19980804, 42.4025,  -9.3832,  215,     34.6,  15.0730,  35.6750,2,-999.0000,9,   -999.0,9,   -999.0,9,  -999.00,9,  -999.00,9,  -999.00,9,  -999.00,9,      -999,9,   -999.0,9,     -999,9,  15.0677
         OMEX2,   709,  1,      3,19980804, 42.4025,  -9.3832,  215,     54.4,  14.2440,  35.7120,2,-999.0000,9,   -999.0,9,   -999.0,9,  -999.00,9,  -999.00,9,  -999.00,9,  -999.00,9,      -999,9,   -999.0,9,     -999,9,  14.2360
         OMEX2,   709,  1,      4,19980804, 42.4025,  -9.3832,  215,    104.3,  13.1010,  35.7600,2,-999.0000,9,   -999.0,9,   -999.0,9,  -999.00,9,  -999.00,9,  -999.00,9,  -999.00,9,      -999,9,   -999.0,9,     -999,9,  13.0865
         OMEX2,   709,  1,      5,19980804, 42.4025,  -9.3832,  215,    155.9,  12.4400,  35.6940,2,-999.0000,9,   -999.0,9,   -999.0,9,  -999.00,9,  -999.00,9,  -999.00,9,  -999.00,9,      -999,9,   -999.0,9,     -999,9,  12.4191
         OMEX2,   709,  1,      6,19980804, 42.4025,  -9.3832,  215,    205.1,  12.1010,  35.6620,2,-999.0000,9,   -999.0,9,   -999.0,9,  -999.00,9,  -999.00,9,  -999.00,9,  -999.00,9,      -999,9,   -999.0,9,     -999,9,  12.0739