BOTTLE,20090114PRINUNIVRMKPRINUNIVRMK
EXPOCODE,STNNBR,CASTNO,BTLNBR,DATE,LATITUDE,LONGITUDE,DEPTH,CTDPRS,CTDTMP,CTDSAL,CTDSAL_FLAG_W,SALNTY,SALNTY_FLAG_W,CTDOXY,CTDOXY_FLAG_W,OXYGEN,OXYGEN_FLAG_W,SILCAT,SILCAT_FLAG_W,NITRAT,NITRAT_FLAG_W,NITRIT,NITRIT_FLAG_W,PHSPHT,PHSPHT_FLAG_W,AMMONI,AMMONI_FLAG_W,ALKALI,ALKALI_FLAG_W,UREA,UREA_FLAG_W,THETA
,,,,,,,METERS,DBARS,ITS-90,PSS-78,,PSS-78,,UMOL/KG,,UMOL/KG,,UMOL/KG,,UMOL/KG,,UMOL/KG,,UMOL/KG,,UMOL/KG,,UMOL/KG,,UMOL/KG,,DEGC
         OMEX2,   912,  1,      1,19990107, 42.1471,  -9.7281, 2230,   1011.0,  11.4620,  36.1870,2,-999.0000,9,    183.0,2,    182.9,2,  -999.00,9,  -999.00,9,  -999.00,9,     0.90,2,      -999,9,   2394.8,2,     -999,9,  11.3279
         OMEX2,   912,  1,      2,19990107, 42.1471,  -9.7281, 2230,   1110.9,  11.1500,  36.1660,2,-999.0000,9,    183.9,2,    183.6,2,  -999.00,9,  -999.00,9,  -999.00,9,     0.90,2,      -999,9,   2395.0,2,     -999,9,  11.0044
         OMEX2,   912,  1,      3,19990107, 42.1471,  -9.7281, 2230,   1210.9,  10.6440,  36.1160,2,-999.0000,9,    187.2,2,    186.9,2,  -999.00,9,  -999.00,9,  -999.00,9,     0.92,2,      -999,9,   2393.2,2,     -999,9,  10.4890
         OMEX2,   912,  1,      4,19990107, 42.1471,  -9.7281, 2230,   1410.6,   7.6470,  35.5700,2,-999.0000,9,    216.7,2,    212.8,2,  -999.00,9,  -999.00,9,  -999.00,9,     1.09,2,      -999,9,   2357.2,2,     -999,9,   7.4957
         OMEX2,   912,  1,      5,19990107, 42.1471,  -9.7281, 2230,   1612.6,   5.7320,  35.2540,2,-999.0000,9,    240.6,2,    237.8,2,  -999.00,9,  -999.00,9,  -999.00,9,     1.19,2,      -999,9,   2337.7,2,     -999,9,   5.5800
         OMEX2,   912,  1,      6,19990107, 42.1471,  -9.7281, 2230,   1815.9,   4.5320,  35.0820,2,-999.0000,9,    256.3,2,    252.1,2,  -999.00,9,  -999.00,9,  -999.00,9,     1.23,2,      -999,9,   2320.9,2,     -999,9,   4.3748
         OMEX2,   912,  1,      7,19990107, 42.1471,  -9.7281, 2230,   2019.2,   3.9840,  35.0440,2,-999.0000,9,    256.7,2,    253.1,2,  -999.00,9,  -999.00,9,  -999.00,9,     1.20,2,      -999,9,   2327.2,2,     -999,9,   3.8146
         OMEX2,   912,  1,      8,19990107, 42.1471,  -9.7281, 2230,   2220.2,   3.5710,  35.0070,2,  35.0100,2,    254.4,2,    252.6,2,  -999.00,9,  -999.00,9,  -999.00,9,     1.19,2,      -999,9,   2327.2,2,     -999,9,   3.3884
         OMEX2,   913,  1,      1,19990107, 42.1738,  -9.5954, 1954,    302.1,  11.9480,  35.6600,2,-999.0000,9,    218.5,2,   -999.0,9,  -999.00,9,  -999.00,9,  -999.00,9,  -999.00,9,      -999,9,   -999.0,9,     -999,9,  11.9083
         OMEX2,   913,  1,      2,19990107, 42.1738,  -9.5954, 1954,   1005.4,  11.4340,  36.1650,2,-999.0000,9,    183.8,2,   -999.0,9,  -999.00,9,  -999.00,9,  -999.00,9,  -999.00,9,      -999,9,   -999.0,9,     -999,9,  11.3009
         OMEX2,   913,  1,      3,19990107, 42.1738,  -9.5954, 1954,   1510.7,   6.8360,  35.4530,2,-999.0000,9,    226.8,2,   -999.0,9,  -999.00,9,  -999.00,9,  -999.00,9,  -999.00,9,      -999,9,   -999.0,9,     -999,9,   6.6821
         OMEX2,   913,  1,      4,19990107, 42.1738,  -9.5954, 1954,   1710.1,   5.4820,  35.2460,2,-999.0000,9,    245.4,2,    239.7,2,  -999.00,9,  -999.00,9,  -999.00,9,     1.30,2,      -999,9,   2339.8,2,     -999,9,   5.3228
         OMEX2,   913,  1,      5,19990107, 42.1738,  -9.5954, 1954,   1811.2,   4.7280,  35.1430,2,-999.0000,9,    251.9,2,   -999.0,9,  -999.00,9,  -999.00,9,  -999.00,9,  -999.00,9,      -999,9,   -999.0,9,     -999,9,   4.5685
         OMEX2,   913,  1,      6,19990107, 42.1738,  -9.5954, 1954,   1912.1,   4.2430,  35.0780,2,-999.0000,9,    255.7,2,    250.8,2,  -999.00,9,  -999.00,9,  -999.00,9,     1.37,2,      -999,9,   2325.0,2,     -999,9,   4.0803
         OMEX2,   914,  1,      1,19990107, 42.1755,  -9.5966, 1954,     31.0,  14.6890,  35.9210,2,-999.0000,9,    242.6,2,   -999.0,9,  -999.00,9,  -999.00,9,  -999.00,9,  -999.00,9,      -999,9,   -999.0,9,     -999,9,  14.6844
         OMEX2,   914,  1,      2,19990107, 42.1755,  -9.5966, 1954,     61.2,  14.6660,  35.9150,2,-999.0000,9,    241.3,2,   -999.0,9,  -999.00,9,  -999.00,9,  -999.00,9,  -999.00,9,      -999,9,   -999.0,9,     -999,9,  14.6568
         OMEX2,   914,  1,      3,19990107, 42.1755,  -9.5966, 1954,     91.0,  14.4690,  35.8750,2,-999.0000,9,    239.4,2,   -999.0,9,  -999.00,9,  -999.00,9,  -999.00,9,  -999.00,9,      -999,9,   -999.0,9,     -999,9,  14.4555
         OMEX2,   914,  1,      4,19990107, 42.1755,  -9.5966, 1954,    120.7,  13.6980,  35.8420,2,-999.0000,9,    219.8,2,   -999.0,9,  -999.00,9,  -999.00,9,  -999.00,9,  -999.00,9,      -999,9,   -999.0,9,     -999,9,  13.6807
         OMEX2,   914,  1,      5,19990107, 42.1755,  -9.5966, 1954,    150.9,  13.2210,  35.8150,2,-999.0000,9,    214.0,2,   -999.0,9,  -999.00,9,  -999.00,9,  -999.00,9,  -999.00,9,      -999,9,   -999.0,9,     -999,9,  13.1999
         OMEX2,   915,  1,      1,19990107, 42.1743,  -9.5959, 1954,     13.1,  14.6980,  35.9220,2,-999.0000,9,    242.6,2,    245.4,2,  -999.00,9,  -999.00,9,  -999.00,9,     0.07,2,      -999,9,   2356.2,2,     -999,9,  14.6960
         OMEX2,   915,  1,      2,19990107, 42.1743,  -9.5959, 1954,     52.8,  14.7010,  35.9220,2,-999.0000,9,    241.2,2,    245.0,2,  -999.00,9,  -999.00,9,  -999.00,9,     0.13,2,      -999,9,   2357.2,2,     -999,9,  14.6931
         OMEX2,   915,  1,      3,19990107, 42.1743,  -9.5959, 1954,    102.9,  14.2320,  35.8650,2,-999.0000,9,    237.6,2,    243.4,2,  -999.00,9,  -999.00,9,  -999.00,9,     0.16,2,      -999,9,   2353.4,2,     -999,9,  14.2169
         OMEX2,   915,  1,      4,19990107, 42.1743,  -9.5959, 1954,    201.9,  12.5650,  35.7290,2,-999.0000,9,    218.0,2,    217.3,2,  -999.00,9,  -999.00,9,  -999.00,9,     0.56,2,      -999,9,   2353.2,2,     -999,9,  12.5376
         OMEX2,   915,  1,      5,19990107, 42.1743,  -9.5959, 1954,    303.1,  11.8960,  35.6510,2,-999.0000,9,    216.1,2,    218.3,2,  -999.00,9,  -999.00,9,  -999.00,9,     0.77,2,      -999,9,   2343.5,2,     -999,9,  11.8562
         OMEX2,   915,  1,      6,19990107, 42.1743,  -9.5959, 1954,    404.2,  11.5290,  35.6270,2,-999.0000,9,    212.3,2,    211.4,2,  -999.00,9,  -999.00,9,  -999.00,9,  -999.00,9,      -999,9,   2344.7,2,     -999,9,  11.4768
         OMEX2,   915,  1,      7,19990107, 42.1743,  -9.5959, 1954,    505.4,  11.2660,  35.6520,2,-999.0000,9,    203.3,2,    203.5,2,  -999.00,9,  -999.00,9,  -999.00,9,     0.94,2,      -999,9,   2349.8,2,     -999,9,  11.2014
         OMEX2,   915,  1,      8,19990107, 42.1743,  -9.5959, 1954,    604.9,  11.4940,  35.8120,2,-999.0000,9,    193.9,2,    192.7,2,  -999.00,9,  -999.00,9,  -999.00,9,     0.96,2,      -999,9,   2359.7,2,     -999,9,  11.4152
         OMEX2,   915,  1,      9,19990107, 42.1743,  -9.5959, 1954,    804.0,  11.9560,  36.1240,2,-999.0000,9,    185.7,2,    186.1,2,  -999.00,9,  -999.00,9,  -999.00,9,     0.80,2,      -999,9,   2386.7,2,     -999,9,  11.8475
         OMEX2,   915,  1,     10,19990107, 42.1743,  -9.5959, 1954,   1004.0,  11.4170,  36.1780,2,-999.0000,9,    183.0,2,    182.9,2,  -999.00,9,  -999.00,9,  -999.00,9,     0.91,2,      -999,9,   2392.9,2,     -999,9,  11.2842
         OMEX2,   915,  1,     11,19990107, 42.1743,  -9.5959, 1954,   1205.3,   9.5910,  35.8730,2,-999.0000,9,    194.3,2,    192.7,2,  -999.00,9,  -999.00,9,  -999.00,9,     1.02,2,      -999,9,   2370.6,2,     -999,9,   9.4460
         OMEX2,   915,  1,     12,19990107, 42.1743,  -9.5959, 1954,   1407.1,   8.1770,  35.6650,2,  35.6650,2,    210.8,2,    208.1,2,  -999.00,9,  -999.00,9,  -999.00,9,     1.13,2,      -999,9,   2362.1,2,     -999,9,   8.0206
         OMEX2,   916,  1,      1,19990107, 42.1478,  -9.5181, 1954,     12.1,  14.7120,  35.9320,2,-999.0000,9,    240.3,2,    245.6,2,  -999.00,9,  -999.00,9,  -999.00,9,     0.13,2,      -999,9,   2354.2,2,     -999,9,  14.7102
         OMEX2,   916,  1,      2,19990107, 42.1478,  -9.5181, 1954,     52.0,  14.6440,  35.9260,2,-999.0000,9,    238.6,2,    244.2,2,  -999.00,9,  -999.00,9,  -999.00,9,     0.16,2,      -999,9,   2352.2,2,     -999,9,  14.6362
         OMEX2,   916,  1,      3,19990107, 42.1478,  -9.5181, 1954,    102.5,  14.3630,  35.9210,2,-999.0000,9,    234.1,2,    236.6,2,  -999.00,9,  -999.00,9,  -999.00,9,     0.22,2,      -999,9,   2349.4,2,     -999,9,  14.3479
         OMEX2,   916,  1,      4,19990107, 42.1478,  -9.5181, 1954,    202.9,  12.7150,  35.7480,2,-999.0000,9,    217.7,2,    223.3,2,  -999.00,9,  -999.00,9,  -999.00,9,     0.52,2,      -999,9,   2339.1,2,     -999,9,  12.6873
         OMEX2,   916,  1,      5,19990107, 42.1478,  -9.5181, 1954,    303.7,  11.9110,  35.6480,2,-999.0000,9,    221.0,2,    224.0,2,  -999.00,9,  -999.00,9,  -999.00,9,     0.65,2,      -999,9,   2337.4,2,     -999,9,  11.8711
         OMEX2,   916,  1,      6,19990107, 42.1478,  -9.5181, 1954,    404.0,  11.5270,  35.6130,2,-999.0000,9,    213.5,2,    213.5,2,  -999.00,9,  -999.00,9,  -999.00,9,     0.71,2,      -999,9,   2343.6,2,     -999,9,  11.4748
         OMEX2,   916,  1,      7,19990107, 42.1478,  -9.5181, 1954,    504.0,  11.1290,  35.6100,2,-999.0000,9,    208.6,2,    204.2,2,  -999.00,9,  -999.00,9,  -999.00,9,     0.83,2,      -999,9,   2345.8,2,     -999,9,  11.0651
         OMEX2,   916,  1,      8,19990107, 42.1478,  -9.5181, 1954,    705.6,  11.9240,  36.0600,2,-999.0000,9,    186.8,2,    188.1,2,  -999.00,9,  -999.00,9,  -999.00,9,     0.80,2,      -999,9,   2369.6,2,     -999,9,  11.8294
         OMEX2,   916,  1,      9,19990107, 42.1478,  -9.5181, 1954,    907.7,  11.7740,  36.1680,2,-999.0000,9,    184.7,2,    184.7,2,  -999.00,9,  -999.00,9,  -999.00,9,     0.90,2,      -999,9,   2379.6,2,     -999,9,  11.6521
         OMEX2,   916,  1,     10,19990107, 42.1478,  -9.5181, 1954,   1108.8,  11.2060,  36.1670,2,-999.0000,9,    184.9,2,    183.9,2,  -999.00,9,  -999.00,9,  -999.00,9,     0.84,2,      -999,9,   2382.0,2,     -999,9,  11.0603
         OMEX2,   916,  1,     11,19990107, 42.1478,  -9.5181, 1954,   1307.4,   9.6580,  35.9390,2,-999.0000,9,    197.3,2,    195.6,2,  -999.00,9,  -999.00,9,  -999.00,9,     0.99,2,      -999,9,   2380.6,2,     -999,9,   9.4992
         OMEX2,   916,  1,     12,19990107, 42.1478,  -9.5181, 1954,   1540.9,   7.7890,  35.6340,2,-999.0000,9,    218.0,2,    219.6,2,  -999.00,9,  -999.00,9,  -999.00,9,     1.15,2,      -999,9,   2358.2,2,     -999,9,   7.6208
         OMEX2,   917,  1,      1,19990107, 42.1505,  -9.4586,  364,    102.5,  13.9700,  35.8860,2,-999.0000,9,    225.5,2,   -999.0,9,  -999.00,9,  -999.00,9,  -999.00,9,  -999.00,9,      -999,9,   -999.0,9,     -999,9,  13.9551
         OMEX2,   917,  1,      2,19990107, 42.1505,  -9.4586,  364,    191.3,  13.1560,  35.7990,2,-999.0000,9,    211.0,2,   -999.0,9,  -999.00,9,  -999.00,9,  -999.00,9,  -999.00,9,      -999,9,   -999.0,9,     -999,9,  13.1293
         OMEX2,   917,  1,      3,19990107, 42.1505,  -9.4586,  364,    354.0,  11.8420,  35.6360,2,-999.0000,9,    224.5,2,   -999.0,9,  -999.00,9,  -999.00,9,  -999.00,9,  -999.00,9,      -999,9,   -999.0,9,     -999,9,  11.7956
         OMEX2,   918,  1,      1,19990107, 42.1502,  -9.4587,  364,    103.8,  13.9210,  35.8780,2,-999.0000,9,    217.6,2,   -999.0,9,  -999.00,9,  -999.00,9,  -999.00,9,  -999.00,9,      -999,9,   -999.0,9,     -999,9,  13.9060
         OMEX2,   918,  1,      2,19990107, 42.1502,  -9.4587,  364,    203.4,  13.1330,  35.7970,2,-999.0000,9,    210.3,2,   -999.0,9,  -999.00,9,  -999.00,9,  -999.00,9,  -999.00,9,      -999,9,   -999.0,9,     -999,9,  13.1046
         OMEX2,   918,  1,      3,19990107, 42.1502,  -9.4587,  364,    353.8,  11.8820,  35.6400,2,-999.0000,9,    223.7,2,   -999.0,9,  -999.00,9,  -999.00,9,  -999.00,9,  -999.00,9,      -999,9,   -999.0,9,     -999,9,  11.8355
         OMEX2,   919,  1,      1,19990107, 42.1494,  -9.4371,  545,     11.9,  14.5630,  35.9450,2,-999.0000,9,    244.2,2,    245.1,2,  -999.00,9,  -999.00,9,  -999.00,9,     0.14,2,      -999,9,   2352.2,2,     -999,9,  14.5612
         OMEX2,   919,  1,      2,19990107, 42.1494,  -9.4371,  545,     52.0,  14.4680,  35.9290,2,-999.0000,9,    240.4,2,    241.2,2,  -999.00,9,  -999.00,9,  -999.00,9,     0.14,2,      -999,9,   2352.3,2,     -999,9,  14.4603
         OMEX2,   919,  1,      3,19990107, 42.1494,  -9.4371,  545,     77.4,  14.4190,  35.9230,2,-999.0000,9,    238.1,2,    223.0,2,  -999.00,9,  -999.00,9,  -999.00,9,     0.35,2,      -999,9,   2349.4,2,     -999,9,  14.4075
         OMEX2,   919,  1,      4,19990107, 42.1494,  -9.4371,  545,    102.0,  13.9260,  35.8800,2,-999.0000,9,    220.2,2,    218.4,2,  -999.00,9,  -999.00,9,  -999.00,9,     0.44,2,      -999,9,   2345.5,2,     -999,9,  13.9112
         OMEX2,   919,  1,      5,19990107, 42.1494,  -9.4371,  545,    152.6,  13.4590,  35.8370,2,-999.0000,9,    214.9,2,    216.2,2,  -999.00,9,  -999.00,9,  -999.00,9,     0.48,2,      -999,9,   2345.8,2,     -999,9,  13.4374
         OMEX2,   919,  1,      6,19990107, 42.1494,  -9.4371,  545,    202.5,  13.2650,  35.8160,2,-999.0000,9,    213.1,2,    215.6,2,  -999.00,9,  -999.00,9,  -999.00,9,     0.52,2,      -999,9,   2348.9,2,     -999,9,  13.2365
         OMEX2,   919,  1,      7,19990107, 42.1494,  -9.4371,  545,    302.5,  12.4680,  35.7340,2,-999.0000,9,    213.4,2,    215.3,2,  -999.00,9,  -999.00,9,  -999.00,9,     0.62,2,      -999,9,   2341.2,2,     -999,9,  12.4271
         OMEX2,   919,  1,      8,19990107, 42.1494,  -9.4371,  545,    403.5,  11.9160,  35.6680,2,-999.0000,9,    213.8,2,    213.8,2,  -999.00,9,  -999.00,9,  -999.00,9,     0.69,2,      -999,9,   2339.4,2,     -999,9,  11.8628
         OMEX2,   919,  1,      9,19990107, 42.1494,  -9.4371,  545,    534.8,  11.3910,  35.6660,2,  35.6660,2,    205.4,2,    206.4,2,  -999.00,9,  -999.00,9,  -999.00,9,     0.75,2,      -999,9,   2347.8,2,     -999,9,  11.3221
         OMEX2,   920,  1,      1,19990108, 42.1501,  -9.3908,  242,    132.2,  13.5630,  35.8430,2,-999.0000,9,    212.7,2,   -999.0,9,  -999.00,9,  -999.00,9,  -999.00,9,  -999.00,9,      -999,9,   -999.0,9,     -999,9,  13.5442
         OMEX2,   920,  1,      2,19990108, 42.1501,  -9.3908,  242,    232.2,  13.1330,  35.7950,2,-999.0000,9,    213.4,2,   -999.0,9,  -999.00,9,  -999.00,9,  -999.00,9,  -999.00,9,      -999,9,   -999.0,9,     -999,9,  13.1006
         OMEX2,   921,  1,      1,19990108, 42.1504,  -9.3444,  213,     11.9,  14.5160,  35.9410,2,-999.0000,9,    239.5,2,    243.8,2,  -999.00,9,  -999.00,9,  -999.00,9,  -999.00,9,      -999,9,   2352.2,2,     -999,9,  14.5142
         OMEX2,   921,  1,      2,19990108, 42.1504,  -9.3444,  213,     52.4,  14.5160,  35.9410,2,-999.0000,9,    239.5,2,    244.4,2,  -999.00,9,  -999.00,9,  -999.00,9,  -999.00,9,      -999,9,   2351.1,2,     -999,9,  14.5082
         OMEX2,   921,  1,      3,19990108, 42.1504,  -9.3444,  213,     77.5,-999.0000,-999.0000,9,-999.0000,9,   -999.0,9,   -999.0,2,  -999.00,9,  -999.00,9,  -999.00,9,  -999.00,9,      -999,9,   -999.0,2,     -999,9,-999.0000
         OMEX2,   921,  1,      4,19990108, 42.1504,  -9.3444,  213,    102.5,  14.2050,  35.8950,2,-999.0000,9,   -999.0,9,    235.9,2,  -999.00,9,  -999.00,9,  -999.00,9,  -999.00,9,      -999,9,   2350.5,2,     -999,9,  14.1900
         OMEX2,   921,  1,      5,19990108, 42.1504,  -9.3444,  213,    152.6,  13.6880,  35.8480,2,-999.0000,9,    213.7,2,    213.8,2,  -999.00,9,  -999.00,9,  -999.00,9,  -999.00,9,      -999,9,   2346.6,2,     -999,9,  13.6661
         OMEX2,   921,  1,      6,19990108, 42.1504,  -9.3444,  213,    202.8,  13.4580,  35.8310,2,-999.0000,9,    213.2,2,    214.2,2,  -999.00,9,  -999.00,9,  -999.00,9,  -999.00,9,      -999,9,   2351.8,2,     -999,9,  13.4292
         OMEX2,   922,  1,      1,19990108, 42.1504,  -9.3004,  213,    203.1,  13.5860,  35.8310,2,-999.0000,9,    216.6,2,   -999.0,9,  -999.00,9,  -999.00,9,  -999.00,9,  -999.00,9,      -999,9,   -999.0,9,     -999,9,  13.5570
         OMEX2,   923,  1,      1,19990108, 42.1483,  -9.2178,  184,     12.3,  14.2680,  35.8940,2,-999.0000,9,    236.8,2,    240.4,2,  -999.00,9,  -999.00,9,  -999.00,9,     0.26,2,      -999,9,   2350.2,2,     -999,9,  14.2662
         OMEX2,   923,  1,      2,19990108, 42.1483,  -9.2178,  184,     52.4,  14.2780,  35.8940,2,-999.0000,9,    236.8,2,    240.3,2,  -999.00,9,  -999.00,9,  -999.00,9,     0.27,2,      -999,9,   2349.2,2,     -999,9,  14.2703
         OMEX2,   923,  1,      3,19990108, 42.1483,  -9.2178,  184,     77.4,  14.2740,  35.8940,2,-999.0000,9,    236.8,2,    240.0,2,  -999.00,9,  -999.00,9,  -999.00,9,     0.25,2,      -999,9,   2349.2,2,     -999,9,  14.2626
         OMEX2,   923,  1,      4,19990108, 42.1483,  -9.2178,  184,    102.4,  14.2770,  35.8940,2,-999.0000,9,    236.8,2,    240.7,2,  -999.00,9,  -999.00,9,  -999.00,9,     0.25,2,      -999,9,   2350.4,2,     -999,9,  14.2619
         OMEX2,   923,  1,      5,19990108, 42.1483,  -9.2178,  184,    162.3,  14.1590,  35.8780,2,  35.8730,2,    229.0,2,    232.0,2,  -999.00,9,  -999.00,9,  -999.00,9,     0.37,2,      -999,9,   2347.5,2,     -999,9,  14.1352
         OMEX2,   924,  1,      1,19990108, 42.1162,  -9.3134,  193,    183.1,  13.8100,  35.8540,2,-999.0000,9,    212.1,2,   -999.0,9,  -999.00,9,  -999.00,9,  -999.00,9,  -999.00,9,      -999,9,   -999.0,9,     -999,9,  13.7836
         OMEX2,   925,  1,      1,19990108, 42.1523, -10.5005, 2452,     61.3,  15.1810,  35.9840,2,-999.0000,9,    237.7,2,   -999.0,9,  -999.00,9,  -999.00,9,  -999.00,9,  -999.00,9,      -999,9,   -999.0,9,     -999,9,  15.1716
         OMEX2,   925,  1,      2,19990108, 42.1523, -10.5005, 2452,    101.5,  14.5780,  35.9180,2,-999.0000,9,    233.9,2,   -999.0,9,  -999.00,9,  -999.00,9,  -999.00,9,  -999.00,9,      -999,9,   -999.0,9,     -999,9,  14.5629
         OMEX2,   925,  1,      3,19990108, 42.1523, -10.5005, 2452,    151.6,  13.2270,  35.8020,2,-999.0000,9,    221.0,2,   -999.0,9,  -999.00,9,  -999.00,9,  -999.00,9,  -999.00,9,      -999,9,   -999.0,9,     -999,9,  13.2058
         OMEX2,   925,  1,      4,19990108, 42.1523, -10.5005, 2452,    202.0,  12.8470,  35.7670,2,-999.0000,9,    218.6,2,   -999.0,9,  -999.00,9,  -999.00,9,  -999.00,9,  -999.00,9,      -999,9,   -999.0,9,     -999,9,  12.8192
         OMEX2,   925,  1,      5,19990108, 42.1523, -10.5005, 2452,    302.1,  12.1100,  35.6700,2,-999.0000,9,    222.6,2,   -999.0,9,  -999.00,9,  -999.00,9,  -999.00,9,  -999.00,9,      -999,9,   -999.0,9,     -999,9,  12.0699
         OMEX2,   926,  1,      1,19990108, 42.1517, -10.4995, 2947,     11.0,  15.2050,  35.9730,2,-999.0000,9,    234.7,2,   -999.0,9,  -999.00,9,  -999.00,9,  -999.00,9,  -999.00,9,      -999,9,   -999.0,9,     -999,9,  15.2033
         OMEX2,   926,  1,      2,19990108, 42.1517, -10.4995, 2947,     31.1,  15.2340,  35.9840,2,-999.0000,9,    236.1,2,   -999.0,9,  -999.00,9,  -999.00,9,  -999.00,9,  -999.00,9,      -999,9,   -999.0,9,     -999,9,  15.2292
         OMEX2,   927,  1,      1,19990108, 42.1515, -10.4970, 2947,     11.2,  15.1710,  35.9620,2,-999.0000,9,    235.0,2,   -999.0,9,  -999.00,9,  -999.00,9,  -999.00,9,  -999.00,9,      -999,9,   -999.0,9,     -999,9,  15.1693
         OMEX2,   928,  1,      1,19990108, 42.1511, -10.4988, 2947,   1006.9,  11.2480,  36.1400,2,-999.0000,9,    183.8,2,   -999.0,9,  -999.00,9,  -999.00,9,  -999.00,9,  -999.00,9,      -999,9,   -999.0,9,     -999,9,  11.1160