BOTTLE,20020809WHPSIObren
EXPOCODE,SECT_ID,STNNBR,CASTNO,SAMPNO,BTLNBR,BTLNBR_FLAG_W,DATE,TIME,LATITUDE,LONGITUDE,DEPTH,CTDPRS,CTDTMP,CTDSAL,CTDSAL_FLAG_W,SALNTY,SALNTY_FLAG_W,CTDOXY,CTDOXY_FLAG_W,OXYGEN,OXYGEN_FLAG_W,SILCAT,SILCAT_FLAG_W,NO2+NO3,NO2+NO3_FLAG_W,PHSPHT,PHSPHT_FLAG_W,CTDRAW,REVTMP,REVPRS,THETA
,,,,,,,,,,,,DBAR,ITS-90,PSS-78,,PSS-78,,UMOL/KG,,UMOL/KG,,UMOL/KG,,UMOL/KG,,UMOL/KG,,,DEG C,DBAR,ITS-90
     32MW066_1,  PRS2,     2,  8,     24,     31,2,19950927,1518, 22.7670,-157.9912, 4710,      4.3,  26.8117,  34.8900,2,  34.8912,2,    201.0,1,   -999.0,9,  -999.00,9,  -999.00,9,  -999.00,9,      4,-999.000,  -999.0, 26.8107
     32MW066_1,  PRS2,     2,  8,     23,     30,2,19950927,1518, 22.7670,-157.9912, 4710,      9.4,  26.8175,  34.8894,2,  34.8873,2,    201.1,1,   -999.0,9,  -999.00,9,  -999.00,9,  -999.00,9,      9,-999.000,  -999.0, 26.8153
     32MW066_1,  PRS2,     2,  8,     22,     22,2,19950927,1518, 22.7670,-157.9912, 4710,     13.8,  26.8203,  34.8892,2,  34.8880,2,    201.3,1,   -999.0,9,  -999.00,9,  -999.00,9,  -999.00,9,     14,-999.000,  -999.0, 26.8171
     32MW066_1,  PRS2,     2,  8,     21,     21,2,19950927,1518, 22.7670,-157.9912, 4710,     19.5,  26.8200,  34.8890,2,  34.8872,2,    201.7,1,   -999.0,9,  -999.00,9,  -999.00,9,  -999.00,9,     19,-999.000,  -999.0, 26.8156
     32MW066_1,  PRS2,     2,  8,     20,     20,2,19950927,1518, 22.7670,-157.9912, 4710,     24.3,  26.8156,  34.8890,2,  34.8896,2,    202.1,1,   -999.0,9,  -999.00,9,  -999.00,9,  -999.00,9,     25,-999.000,  -999.0, 26.8101
     32MW066_1,  PRS2,     2,  8,     19,     19,2,19950927,1518, 22.7670,-157.9912, 4710,     29.8,  26.8190,  34.8885,2,  34.9124,4,    202.3,1,   -999.0,9,  -999.00,9,  -999.00,9,  -999.00,9,     30,-999.000,  -999.0, 26.8122
     32MW066_1,  PRS2,     2,  8,     18,     18,2,19950927,1518, 22.7670,-157.9912, 4710,     34.6,  26.8192,  34.8884,2,  34.8890,2,    202.3,1,   -999.0,9,  -999.00,9,  -999.00,9,  -999.00,9,     35,-999.000,  -999.0, 26.8113
     32MW066_1,  PRS2,     2,  8,     17,     17,2,19950927,1518, 22.7670,-157.9912, 4710,     39.1,  26.7057,  34.8920,2,  34.8910,2,    202.3,1,   -999.0,9,  -999.00,9,  -999.00,9,  -999.00,9,     39,-999.000,  -999.0, 26.6968
     32MW066_1,  PRS2,     2,  8,     16,     16,2,19950927,1518, 22.7670,-157.9912, 4710,     44.8,  26.3536,  34.8860,2,  34.8864,2,    207.8,1,   -999.0,9,  -999.00,9,  -999.00,9,  -999.00,9,     46,-999.000,  -999.0, 26.3435
     32MW066_1,  PRS2,     2,  8,     15,     15,2,19950927,1518, 22.7670,-157.9912, 4710,     49.7,  26.2563,  34.8840,2,  34.9089,4,    205.7,1,   -999.0,9,  -999.00,9,  -999.00,9,  -999.00,9,     50,-999.000,  -999.0, 26.2451
     32MW066_1,  PRS2,     2,  8,     14,     14,2,19950927,1518, 22.7670,-157.9912, 4710,     55.9,  25.9043,  34.9009,2,  34.9011,2,    210.1,1,   -999.0,9,  -999.00,9,  -999.00,9,  -999.00,9,     56,-999.000,  -999.0, 25.8919
     32MW066_1,  PRS2,     2,  8,     13,     13,2,19950927,1518, 22.7670,-157.9912, 4710,     65.0,  23.9211,  35.0252,2,  35.0234,2,    219.7,1,   -999.0,9,  -999.00,9,  -999.00,9,  -999.00,9,     66,-999.000,  -999.0, 23.9074
     32MW066_1,  PRS2,     2,  8,     12,     12,2,19950927,1518, 22.7670,-157.9912, 4710,     75.8,  22.5043,  35.1376,2,  35.1363,2,    224.5,1,   -999.0,9,  -999.00,9,  -999.00,9,  -999.00,9,     77,-999.000,  -999.0, 22.4891
     32MW066_1,  PRS2,     2,  8,     11,     11,2,19950927,1518, 22.7670,-157.9912, 4710,     84.5,  22.1592,  35.1377,2,  35.1364,2,    213.7,1,   -999.0,9,  -999.00,9,  -999.00,9,  -999.00,9,     84,-999.000,  -999.0, 22.1424
     32MW066_1,  PRS2,     2,  8,     10,     32,2,19950927,1518, 22.7670,-157.9912, 4710,     94.9,  21.2814,  35.1427,2,  35.1412,2,    208.7,1,   -999.0,9,  -999.00,9,  -999.00,9,  -999.00,9,     95,-999.000,  -999.0, 21.2631
     32MW066_1,  PRS2,     2,  8,      9,      3,2,19950927,1518, 22.7670,-157.9912, 4710,    105.0,  21.0869,  35.1527,2,  35.1521,2,    214.5,1,   -999.0,9,  -999.00,9,  -999.00,9,  -999.00,9,    106,-999.000,  -999.0, 21.0667
     32MW066_1,  PRS2,     2,  8,      8,     29,2,19950927,1518, 22.7670,-157.9912, 4710,    114.8,  20.6632,  35.1621,2,  35.1606,2,    207.5,1,   -999.0,9,  -999.00,9,  -999.00,9,  -999.00,9,    115,-999.000,  -999.0, 20.6415
     32MW066_1,  PRS2,     2,  8,      7,     28,2,19950927,1518, 22.7670,-157.9912, 4710,    125.6,  20.1546,  35.1365,2,  35.1410,2,    206.5,1,   -999.0,9,  -999.00,9,  -999.00,9,  -999.00,9,    126,-999.000,  -999.0, 20.1312
     32MW066_1,  PRS2,     2,  8,      6,      7,3,19950927,1518, 22.7670,-157.9912, 4710,    150.7,  18.7527,  35.0054,2,  35.0048,2,    200.9,1,   -999.0,9,  -999.00,9,  -999.00,9,  -999.00,9,    151,-999.000,  -999.0, 18.7261
     32MW066_1,  PRS2,     2,  8,      5,     23,2,19950927,1518, 22.7670,-157.9912, 4710,    177.5,  17.9460,  34.9447,2,  34.9465,2,    209.1,1,   -999.0,9,  -999.00,9,  -999.00,9,  -999.00,9,    178,-999.000,  -999.0, 17.9156
     32MW066_1,  PRS2,     2,  8,      4,     36,2,19950927,1518, 22.7670,-157.9912, 4710,    251.0,  15.3464,  34.5934,2,  34.5926,2,    187.3,1,   -999.0,9,  -999.00,9,  -999.00,9,  -999.00,9,    252,-999.000,  -999.0, 15.3079
     32MW066_1,  PRS2,     2,  8,      3,     35,2,19950927,1518, 22.7670,-157.9912, 4710,    461.5,   8.0776,  34.0536,2,  34.0545,2,    138.2,1,   -999.0,9,  -999.00,9,  -999.00,9,  -999.00,9,    462,-999.000,  -999.0,  8.0305
     32MW066_1,  PRS2,     2,  8,      2,     34,2,19950927,1518, 22.7670,-157.9912, 4710,    697.7,   5.2532,  34.2955,2,  34.2948,2,     18.3,1,   -999.0,9,  -999.00,9,  -999.00,9,  -999.00,9,    698,-999.000,  -999.0,  5.1955
     32MW066_1,  PRS2,     2,  8,      1,     33,2,19950927,1518, 22.7670,-157.9912, 4710,   1020.2,   3.9672,  34.4918,2,  34.4928,2,     34.5,1,   -999.0,9,  -999.00,9,  -999.00,9,  -999.00,9,   1020,-999.000,  -999.0,  3.8901
     32MW066_1,  PRS2,     2,  9,     23,     30,2,19950927,1800, 22.7792,-157.9718, 4700,      4.4,  26.8364,  34.8790,2,  34.8773,2,    201.9,2,   -999.0,5,  -999.00,9,  -999.00,9,  -999.00,9,      5,-999.000,  -999.0, 26.8354
     32MW066_1,  PRS2,     2,  9,     22,     22,2,19950927,1800, 22.7792,-157.9718, 4700,     14.9,  26.8378,  34.8782,2,  34.8797,2,    201.8,2,    203.2,6,  -999.00,9,  -999.00,9,  -999.00,9,     15,-999.000,  -999.0, 26.8344
     32MW066_1,  PRS2,     2,  9,     21,     21,2,19950927,1800, 22.7792,-157.9718, 4700,     25.2,  26.8386,  34.8779,2,  34.8787,2,    201.7,2,   -999.0,5,  -999.00,9,  -999.00,9,  -999.00,9,     26,-999.000,  -999.0, 26.8328
     32MW066_1,  PRS2,     2,  9,     20,     20,2,19950927,1800, 22.7792,-157.9718, 4700,     44.3,  26.8347,  34.8775,2,  34.8768,2,    201.7,2,   -999.0,5,  -999.00,9,  -999.00,9,  -999.00,9,     44,-999.000,  -999.0, 26.8246
     32MW066_1,  PRS2,     2,  9,     19,     19,2,19950927,1800, 22.7792,-157.9718, 4700,     75.2,  23.7107,  35.0799,2,  35.0789,2,    227.2,2,   -999.0,5,  -999.00,9,  -999.00,9,  -999.00,9,     76,-999.000,  -999.0, 23.6950
     32MW066_1,  PRS2,     2,  9,     18,     18,2,19950927,1800, 22.7792,-157.9718, 4700,     80.0,  23.3718,  35.1142,2,  35.1079,2,    229.9,2,    229.4,6,  -999.00,9,  -999.00,9,  -999.00,9,     80,-999.000,  -999.0, 23.3553
     32MW066_1,  PRS2,     2,  9,     17,     17,2,19950927,1800, 22.7792,-157.9718, 4700,     89.3,  22.4903,  35.1358,2,  35.1336,2,    224.7,2,    227.2,6,  -999.00,9,  -999.00,9,  -999.00,9,     90,-999.000,  -999.0, 22.4723
     32MW066_1,  PRS2,     2,  9,     16,     16,2,19950927,1800, 22.7792,-157.9718, 4700,     99.2,  22.0239,  35.1368,2,  35.1366,2,    224.8,2,    224.9,6,  -999.00,9,  -999.00,9,  -999.00,9,     99,-999.000,  -999.0, 22.0043
     32MW066_1,  PRS2,     2,  9,     15,     15,2,19950927,1800, 22.7792,-157.9718, 4700,     99.2,  22.0258,  35.1370,2,-999.0000,5,    224.3,2,   -999.0,5,  -999.00,9,  -999.00,9,  -999.00,9,     99,-999.000,  -999.0, 22.0062
     32MW066_1,  PRS2,     2,  9,     14,     14,2,19950927,1800, 22.7792,-157.9718, 4700,    109.9,  21.2755,  35.1433,2,  35.1432,2,    218.6,2,    220.2,6,  -999.00,9,  -999.00,9,  -999.00,9,    111,-999.000,  -999.0, 21.2543
     32MW066_1,  PRS2,     2,  9,     13,     13,2,19950927,1800, 22.7792,-157.9718, 4700,    118.8,  21.1987,  35.1497,2,  35.1505,2,    220.0,2,    219.8,6,  -999.00,9,  -999.00,9,  -999.00,9,    119,-999.000,  -999.0, 21.1758
     32MW066_1,  PRS2,     2,  9,     12,     12,2,19950927,1800, 22.7792,-157.9718, 4700,    124.4,  21.0715,  35.1562,2,  35.1566,2,    220.8,2,   -999.0,5,  -999.00,9,  -999.00,9,  -999.00,9,    125,-999.000,  -999.0, 21.0477
     32MW066_1,  PRS2,     2,  9,     11,     11,2,19950927,1800, 22.7792,-157.9718, 4700,    129.3,  20.8210,  35.1600,2,  35.1612,2,    220.1,2,    218.9,6,  -999.00,9,  -999.00,9,  -999.00,9,    129,-999.000,  -999.0, 20.7964
     32MW066_1,  PRS2,     2,  9,     10,     32,3,19950927,1800, 22.7792,-157.9718, 4700,    139.4,  20.3462,  35.1532,2,  35.1570,2,    209.5,2,    217.8,6,  -999.00,9,  -999.00,9,  -999.00,9,    140,-999.000,  -999.0, 20.3201
     32MW066_1,  PRS2,     2,  9,      8,     29,2,19950927,1800, 22.7792,-157.9718, 4700,    149.2,  19.6269,  35.0857,2,-999.0000,5,    203.8,2,    207.8,6,  -999.00,9,  -999.00,9,  -999.00,9,    150,-999.000,  -999.0, 19.5997
     32MW066_1,  PRS2,     2,  9,      9,      3,2,19950927,1800, 22.7792,-157.9718, 4700,    149.3,  19.6282,  35.0863,2,  35.0876,2,    205.3,2,   -999.0,5,  -999.00,9,  -999.00,9,  -999.00,9,    149,-999.000,  -999.0, 19.6010
     32MW066_1,  PRS2,     2,  9,      7,     28,2,19950927,1800, 22.7792,-157.9718, 4700,    159.7,  18.8170,  35.0141,2,  35.0138,2,    191.0,2,    206.3,6,  -999.00,9,  -999.00,9,  -999.00,9,    160,-999.000,  -999.0, 18.7887
     32MW066_1,  PRS2,     2,  9,      6,      7,2,19950927,1800, 22.7792,-157.9718, 4700,    170.5,  18.1209,  34.9700,2,  34.9697,2,    203.2,2,    208.7,6,  -999.00,9,  -999.00,9,  -999.00,9,    171,-999.000,  -999.0, 18.0915
     32MW066_1,  PRS2,     2,  9,      5,     23,2,19950927,1800, 22.7792,-157.9718, 4700,    175.8,  18.0708,  34.9625,2,  34.9650,2,    203.7,2,   -999.0,5,  -999.00,9,  -999.00,9,  -999.00,9,    177,-999.000,  -999.0, 18.0405
     32MW066_1,  PRS2,     2,  9,      4,     36,2,19950927,1800, 22.7792,-157.9718, 4700,    250.4,  14.7513,  34.5257,2,  34.5241,2,    192.0,2,   -999.0,5,  -999.00,9,  -999.00,9,  -999.00,9,    251,-999.000,  -999.0, 14.7139
     32MW066_1,  PRS2,     2,  9,      3,     35,2,19950927,1800, 22.7792,-157.9718, 4700,    500.0,   7.3391,  34.0490,2,  34.0487,2,    125.0,2,   -999.0,5,  -999.00,9,  -999.00,9,  -999.00,9,    500,-999.000,  -999.0,  7.2907
     32MW066_1,  PRS2,     2,  9,      2,     34,2,19950927,1800, 22.7792,-157.9718, 4700,    751.8,   5.1180,  34.3480,2,  34.3482,2,     22.7,2,   -999.0,5,  -999.00,9,  -999.00,9,  -999.00,9,    753,-999.000,  -999.0,  5.0562
     32MW066_1,  PRS2,     2,  9,      1,     33,2,19950927,1800, 22.7792,-157.9718, 4700,   1019.7,   4.0244,  34.4863,2,  34.4861,2,     34.3,2,   -999.0,5,  -999.00,9,  -999.00,9,  -999.00,9,   1018,-999.000,  -999.0,  3.9469
     32MW066_1,  PRS2,     2, 10,     20,     20,2,19950927,2059, 22.7807,-157.9670, 4700,      4.2,  26.9222,  34.8866,2,  34.8880,2,    200.8,1,   -999.0,9,  -999.00,9,  -999.00,9,  -999.00,9,      4,-999.000,  -999.0, 26.9212
     32MW066_1,  PRS2,     2, 10,     19,     19,2,19950927,2059, 22.7807,-157.9670, 4700,     24.8,  26.8848,  34.8870,2,-999.0000,5,    201.1,1,   -999.0,9,  -999.00,9,  -999.00,9,  -999.00,9,     26,-999.000,  -999.0, 26.8791
     32MW066_1,  PRS2,     2, 10,     18,     18,2,19950927,2059, 22.7807,-157.9670, 4700,     24.8,  26.8843,  34.8868,2,  34.8871,2,    201.1,1,   -999.0,9,  -999.00,9,  -999.00,9,  -999.00,9,     26,-999.000,  -999.0, 26.8787
     32MW066_1,  PRS2,     2, 10,     17,     17,2,19950927,2059, 22.7807,-157.9670, 4700,     45.2,  25.7008,  34.9211,2,  34.9175,2,    212.9,1,   -999.0,9,  -999.00,9,  -999.00,9,  -999.00,9,     46,-999.000,  -999.0, 25.6908
     32MW066_1,  PRS2,     2, 10,     16,     16,2,19950927,2059, 22.7807,-157.9670, 4700,     74.0,  22.3873,  35.1402,2,  35.1386,2,    225.2,1,   -999.0,9,  -999.00,9,  -999.00,9,  -999.00,9,     75,-999.000,  -999.0, 22.3725
     32MW066_1,  PRS2,     2, 10,     15,     15,2,19950927,2059, 22.7807,-157.9670, 4700,    100.0,  21.1273,  35.1494,2,  35.1499,2,    217.1,1,   -999.0,9,  -999.00,9,  -999.00,9,  -999.00,9,    101,-999.000,  -999.0, 21.1080
     32MW066_1,  PRS2,     2, 10,     14,     14,2,19950927,2059, 22.7807,-157.9670, 4700,    100.0,  21.1266,  35.1498,2,-999.0000,5,    217.2,1,   -999.0,9,  -999.00,9,  -999.00,9,  -999.00,9,    100,-999.000,  -999.0, 21.1074
     32MW066_1,  PRS2,     2, 10,     13,     13,2,19950927,2059, 22.7807,-157.9670, 4700,    124.6,  19.7012,  35.0936,2,  35.0931,2,    202.2,1,   -999.0,9,  -999.00,9,  -999.00,9,  -999.00,9,    125,-999.000,  -999.0, 19.6784
     32MW066_1,  PRS2,     2, 10,     11,     11,2,19950927,2059, 22.7807,-157.9670, 4700,    149.4,  18.4819,  35.0054,2,-999.0000,5,    193.1,1,   -999.0,9,  -999.00,9,  -999.00,9,  -999.00,9,    149,-999.000,  -999.0, 18.4558
     32MW066_1,  PRS2,     2, 10,     12,     12,2,19950927,2059, 22.7807,-157.9670, 4700,    149.6,  18.4729,  35.0047,2,  35.0016,2,    192.9,1,   -999.0,9,  -999.00,9,  -999.00,9,  -999.00,9,    150,-999.000,  -999.0, 18.4468
     32MW066_1,  PRS2,     2, 10,      9,      3,2,19950927,2059, 22.7807,-157.9670, 4700,    174.5,  17.6339,  34.8981,2,-999.0000,5,    207.3,1,   -999.0,9,  -999.00,9,  -999.00,9,  -999.00,9,    176,-999.000,  -999.0, 17.6044
     32MW066_1,  PRS2,     2, 10,     10,     32,2,19950927,2059, 22.7807,-157.9670, 4700,    174.6,  17.6272,  34.8971,2,  34.9005,2,    207.1,1,   -999.0,9,  -999.00,9,  -999.00,9,  -999.00,9,    174,-999.000,  -999.0, 17.5977
     32MW066_1,  PRS2,     2, 10,      8,     29,2,19950927,2059, 22.7807,-157.9670, 4700,    250.4,  13.9695,  34.4403,2,  34.4406,2,    188.1,1,   -999.0,9,  -999.00,9,  -999.00,9,  -999.00,9,    251,-999.000,  -999.0, 13.9335
     32MW066_1,  PRS2,     2, 10,      7,     28,2,19950927,2059, 22.7807,-157.9670, 4700,    250.4,  13.9697,  34.4403,2,-999.0000,5,    188.4,1,   -999.0,9,  -999.00,9,  -999.00,9,  -999.00,9,    251,-999.000,  -999.0, 13.9337
     32MW066_1,  PRS2,     2, 10,      5,     23,2,19950927,2059, 22.7807,-157.9670, 4700,    501.5,   7.0276,  34.0395,2,-999.0000,5,    109.8,1,   -999.0,9,  -999.00,9,  -999.00,9,  -999.00,9,    502,-999.000,  -999.0,  6.9802
     32MW066_1,  PRS2,     2, 10,      6,      7,2,19950927,2059, 22.7807,-157.9670, 4700,    501.6,   7.0244,  34.0405,2,  34.0436,2,    109.9,1,   -999.0,9,  -999.00,9,  -999.00,9,  -999.00,9,    502,-999.000,  -999.0,  6.9770
     32MW066_1,  PRS2,     2, 10,      4,     36,2,19950927,2059, 22.7807,-157.9670, 4700,    749.7,   5.1343,  34.3476,2,  34.3416,2,     23.4,1,   -999.0,9,  -999.00,9,  -999.00,9,  -999.00,9,    750,-999.000,  -999.0,  5.0726
     32MW066_1,  PRS2,     2, 10,      3,     35,2,19950927,2059, 22.7807,-157.9670, 4700,    749.7,   5.1356,  34.3461,2,-999.0000,5,     23.4,1,   -999.0,9,  -999.00,9,  -999.00,9,  -999.00,9,    751,-999.000,  -999.0,  5.0739
     32MW066_1,  PRS2,     2, 10,      2,     34,2,19950927,2059, 22.7807,-157.9670, 4700,   1019.8,   4.0283,  34.4853,2,  34.4846,2,     34.9,1,   -999.0,9,  -999.00,9,  -999.00,9,  -999.00,9,   1021,-999.000,  -999.0,  3.9509
     32MW066_1,  PRS2,     2, 10,      1,     33,2,19950927,2059, 22.7807,-157.9670, 4700,   1019.9,   4.0337,  34.4849,2,-999.0000,5,     34.9,1,   -999.0,9,  -999.00,9,  -999.00,9,  -999.00,9,   1022,-999.000,  -999.0,  3.9562