BOTTLE,20020809WHPSIObren
#code : jjward hyd_to_exchange.pl 
#original files copied from HTML directory: 20020809
#original HYD file: /whpo/11/HOTS/BOTTLE/hot66/hot66.sea   Fri Aug  9 09:51:35 2002
#original SUM file: /whpo/11/HOTS/BOTTLE/hot66/hot66.sum   Fri Aug  9 13:30:39 2002
EXPOCODE,SECT_ID,STNNBR,CASTNO,SAMPNO,BTLNBR,BTLNBR_FLAG_W,DATE,TIME,LATITUDE,LONGITUDE,DEPTH,CTDPRS,CTDTMP,CTDSAL,CTDSAL_FLAG_W,SALNTY,SALNTY_FLAG_W,CTDOXY,CTDOXY_FLAG_W,OXYGEN,OXYGEN_FLAG_W,SILCAT,SILCAT_FLAG_W,NO2+NO3,NO2+NO3_FLAG_W,PHSPHT,PHSPHT_FLAG_W,CTDRAW,REVTMP,REVPRS,THETA
,,,,,,,,,,,,DBAR,ITS-90,PSS-78,,PSS-78,,UMOL/KG,,UMOL/KG,,UMOL/KG,,UMOL/KG,,UMOL/KG,,,DEG C,DBAR,ITS-90
     32MW066_1,  PRS2,     1,  1,     23,     30,2,19950925,2317, 21.3410,-158.2732, 1470,      5.2,  28.0300,  34.6847,2,  34.6848,2,    200.3,2,    198.9,2,     1.60,2,     0.01,2,     0.09,2,      6,-999.000,  -999.0, 28.0288
     32MW066_1,  PRS2,     1,  1,     24,     31,2,19950925,2317, 21.3410,-158.2732, 1470,      5.3,  28.0298,  34.6853,2,  34.6886,2,    200.3,2,    199.1,2,  -999.00,5,  -999.00,5,  -999.00,5,      5,-999.000,  -999.0, 28.0286
     32MW066_1,  PRS2,     1,  1,     22,     22,2,19950925,2317, 21.3410,-158.2732, 1470,     25.3,  27.7792,  34.6761,2,  34.6796,2,    200.1,2,   -999.0,5,  -999.00,5,  -999.00,5,  -999.00,5,     26,-999.000,  -999.0, 27.7732
     32MW066_1,  PRS2,     1,  1,     21,     21,2,19950925,2317, 21.3410,-158.2732, 1470,     25.3,  27.7790,  34.6761,2,  34.6754,2,    199.7,2,    199.6,2,     1.62,2,     0.00,2,     0.10,2,     26,-999.000,  -999.0, 27.7731
     32MW066_1,  PRS2,     1,  1,     20,     20,2,19950925,2317, 21.3410,-158.2732, 1470,     44.0,  27.2786,  34.6695,2,  34.6651,2,    199.5,2,    207.2,2,     1.59,2,     0.03,2,     0.08,2,     45,-999.000,  -999.0, 27.2684
     32MW066_1,  PRS2,     1,  1,     19,     19,2,19950925,2317, 21.3410,-158.2732, 1470,     59.1,  26.5363,  34.8700,2,  34.8701,2,    204.3,2,    204.0,2,     1.54,2,     0.01,2,     0.07,2,     60,-999.000,  -999.0, 26.5229
     32MW066_1,  PRS2,     1,  1,     18,     18,2,19950925,2317, 21.3410,-158.2732, 1470,     74.7,  25.7086,  34.9215,2,  34.9190,2,    210.0,2,    208.7,2,     1.74,2,     0.02,2,     0.07,2,     75,-999.000,  -999.0, 25.6921
     32MW066_1,  PRS2,     1,  1,     17,     17,2,19950925,2317, 21.3410,-158.2732, 1470,     94.5,  24.4562,  34.9252,2,  34.9231,2,    213.7,2,    215.8,2,     1.89,2,     0.00,2,     0.06,2,     95,-999.000,  -999.0, 24.4360
     32MW066_1,  PRS2,     1,  1,     16,     16,2,19950925,2317, 21.3410,-158.2732, 1470,    104.8,  24.2157,  34.9362,2,  34.9405,2,    212.4,2,    215.4,2,     2.04,2,     0.01,2,     0.06,2,    106,-999.000,  -999.0, 24.1935
     32MW066_1,  PRS2,     1,  1,     15,     15,2,19950925,2317, 21.3410,-158.2732, 1470,    113.6,  22.9446,  35.0257,2,  35.0293,2,    209.1,2,    210.8,2,     2.23,2,     0.08,2,     0.09,2,    114,-999.000,  -999.0, 22.9215
     32MW066_1,  PRS2,     1,  1,     14,     14,2,19950925,2317, 21.3410,-158.2732, 1470,    123.9,  22.6480,  35.0456,2,  35.0504,2,    208.6,2,    209.6,2,     2.24,2,     0.11,2,     0.10,2,    124,-999.000,  -999.0, 22.6230
     32MW066_1,  PRS2,     1,  1,     13,     13,2,19950925,2317, 21.3410,-158.2732, 1470,    139.3,  21.5994,  35.0930,2,  35.0963,2,    204.6,2,    202.1,2,     2.61,2,     0.73,2,     0.14,2,    140,-999.000,  -999.0, 21.5722
     32MW066_1,  PRS2,     1,  1,     12,     12,2,19950925,2317, 21.3410,-158.2732, 1470,    149.3,  21.3099,  35.1060,2,  35.1068,2,    196.5,2,    201.0,2,     2.63,2,     0.85,2,     0.15,2,    150,-999.000,  -999.0, 21.2810
     32MW066_1,  PRS2,     1,  1,     11,     11,2,19950925,2317, 21.3410,-158.2732, 1470,    175.1,  20.3094,  35.0892,2,  35.0832,2,    195.1,2,    194.5,2,     3.07,2,     1.71,2,     0.21,2,    176,-999.000,  -999.0, 20.2767
     32MW066_1,  PRS2,     1,  1,     10,     32,2,19950925,2317, 21.3410,-158.2732, 1470,    199.4,  19.1646,  35.0040,2,  35.0094,2,    192.7,2,    191.9,2,     3.57,2,     2.61,2,     0.27,2,    200,-999.000,  -999.0, 19.1289
     32MW066_1,  PRS2,     1,  1,      9,      3,2,19950925,2317, 21.3410,-158.2732, 1470,    225.1,  17.2151,  34.8069,2,  34.8117,2,    189.2,2,    189.2,2,     5.08,2,     4.40,2,     0.41,2,    226,-999.000,  -999.0, 17.1776
     32MW066_1,  PRS2,     1,  1,      8,     29,2,19950925,2317, 21.3410,-158.2732, 1470,    249.5,  15.6744,  34.6402,2,  34.6456,2,    189.8,2,    192.5,2,     6.85,2,     5.99,2,     0.50,2,    249,-999.000,  -999.0, 15.6355
     32MW066_1,  PRS2,     1,  1,      7,     28,2,19950925,2317, 21.3410,-158.2732, 1470,    298.9,  13.1364,  34.3650,2,  34.3539,2,    185.3,2,    184.2,2,    11.58,2,    11.08,2,     0.85,2,    299,-999.000,  -999.0, 13.0951
     32MW066_1,  PRS2,     1,  1,      6,      7,2,19950925,2317, 21.3410,-158.2732, 1470,    399.6,   8.8041,  34.1171,2,  34.1197,2,    149.6,2,    150.0,2,    32.33,2,    23.25,2,     1.66,2,    400,-999.000,  -999.0,  8.7613
     32MW066_1,  PRS2,     1,  1,      5,     23,2,19950925,2317, 21.3410,-158.2732, 1470,    448.3,   7.8333,  34.1368,2,  34.1391,2,    111.5,2,    113.7,2,    43.32,2,    26.94,2,     2.00,2,    450,-999.000,  -999.0,  7.7883
     32MW066_1,  PRS2,     1,  1,      4,     36,2,19950925,2317, 21.3410,-158.2732, 1470,    499.7,   6.8438,  34.1822,2,  34.1831,2,     71.2,2,     69.0,2,    58.73,2,    33.56,2,     2.48,2,    501,-999.000,  -999.0,  6.7972
     32MW066_1,  PRS2,     1,  1,      3,     35,2,19950925,2317, 21.3410,-158.2732, 1470,    718.9,   5.2133,  34.4079,2,  34.4146,2,     25.9,2,     27.6,2,    87.78,2,    40.49,2,     3.02,2,    720,-999.000,  -999.0,  5.1538
     32MW066_1,  PRS2,     1,  1,      2,     34,4,19950925,2317, 21.3410,-158.2732, 1470,    749.6,   5.0389,  34.4320,2,-999.0000,5,     27.2,2,   -999.0,5,  -999.00,5,  -999.00,5,  -999.00,5,    750,-999.000,  -999.0,  4.9777
     32MW066_1,  PRS2,     1,  1,      1,     33,2,19950925,2317, 21.3410,-158.2732, 1470,   1020.2,   4.0401,  34.5044,2,  34.5051,2,     45.8,2,     45.4,2,   108.99,2,    40.74,2,     3.02,2,   1022,-999.000,  -999.0,  3.9624
     32MW066_1,  PRS2,     2,  1,      3,     35,2,19950926,1524, 22.7558,-157.9952, 4725,     10.0,  26.9797,  34.8857,2,  34.8959,2,    204.4,2,   -999.0,5,  -999.00,9,  -999.00,9,  -999.00,9,     10,-999.000,  -999.0, 26.9774
     32MW066_1,  PRS2,     2,  1,      2,     34,2,19950926,1524, 22.7558,-157.9952, 4725,     13.6,  26.9806,  34.8853,2,  34.8826,2,    204.9,2,    205.1,6,  -999.00,9,  -999.00,9,  -999.00,9,     14,-999.000,  -999.0, 26.9775
     32MW066_1,  PRS2,     2,  1,      1,     33,2,19950926,1524, 22.7558,-157.9952, 4725,     19.1,  26.9591,  34.8844,2,  34.8839,2,    205.1,2,    205.3,6,  -999.00,9,  -999.00,9,  -999.00,9,     20,-999.000,  -999.0, 26.9547
     32MW066_1,  PRS2,     2,  2,     24,     31,2,19950926,1803, 22.7373,-158.0043, 4725,      4.9,  26.8999,  34.8756,2,  34.8811,2,    195.9,2,    201.1,2,     1.52,2,     0.01,2,     0.11,2,      6,-999.000,  -999.0, 26.8988
     32MW066_1,  PRS2,     2,  2,     23,     30,2,19950926,1803, 22.7373,-158.0043, 4725,    119.9,  19.7067,  35.0954,2,  35.1016,2,    204.1,2,    206.8,2,     2.73,2,     0.76,2,     0.17,2,    120,-999.000,  -999.0, 19.6848
     32MW066_1,  PRS2,     2,  2,     22,     22,2,19950926,1803, 22.7373,-158.0043, 4725,    499.5,   7.0303,  34.0452,2,  34.0454,2,    119.4,2,    121.2,2,    46.50,2,    28.22,2,     2.03,2,    501,-999.000,  -999.0,  6.9831
     32MW066_1,  PRS2,     2,  2,     21,     21,2,19950926,1803, 22.7373,-158.0043, 4725,    830.1,   4.5686,  34.3966,2,  34.3959,2,     31.0,2,     31.0,2,    98.08,2,    40.48,2,     2.97,2,    830,-999.000,  -999.0,  4.5034
     32MW066_1,  PRS2,     2,  2,     20,     20,2,19950926,1803, 22.7373,-158.0043, 4725,   1399.1,   3.0152,  34.5637,2,  34.5645,2,     59.5,2,     63.4,2,   131.33,2,    40.60,2,     2.94,2,   1400,-999.000,  -999.0,  2.9156
     32MW066_1,  PRS2,     2,  2,     19,     19,2,19950926,1803, 22.7373,-158.0043, 4725,   1600.0,   2.6101,  34.5877,2,  34.5881,2,     71.4,2,     72.0,2,   149.90,4,    39.88,2,     2.88,2,   1601,-999.000,  -999.0,  2.4986
     32MW066_1,  PRS2,     2,  2,     18,     18,2,19950926,1803, 22.7373,-158.0043, 4725,   1799.6,   2.3519,  34.6063,2,  34.6061,2,     80.5,2,     81.0,2,   146.07,2,    39.40,2,     2.85,2,   1801,-999.000,  -999.0,  2.2272
     32MW066_1,  PRS2,     2,  2,     17,     17,2,19950926,1803, 22.7373,-158.0043, 4725,   2000.3,   2.1156,  34.6218,2,  34.6208,2,     89.3,2,     89.1,2,   150.96,2,    39.03,2,     2.82,2,   1999,-999.000,  -999.0,  1.9774
     32MW066_1,  PRS2,     2,  2,     16,     16,2,19950926,1803, 22.7373,-158.0043, 4725,   2199.3,   1.9432,  34.6337,2,  34.6325,2,     96.5,2,     96.1,2,   155.56,2,    38.61,2,     2.79,2,   2200,-999.000,  -999.0,  1.7907
     32MW066_1,  PRS2,     2,  2,     15,     15,2,19950926,1803, 22.7373,-158.0043, 4725,   2398.6,   1.8012,  34.6465,2,  34.6464,2,    105.9,2,    104.7,2,   157.81,2,    38.04,2,     2.74,2,   2400,-999.000,  -999.0,  1.6337
     32MW066_1,  PRS2,     2,  2,     14,     14,2,19950926,1803, 22.7373,-158.0043, 4725,   2600.4,   1.6868,  34.6572,2,  34.6571,2,    112.2,2,    113.0,2,   158.93,2,    37.52,2,     2.69,2,   2602,-999.000,  -999.0,  1.5033
     32MW066_1,  PRS2,     2,  2,     13,     13,2,19950926,1803, 22.7373,-158.0043, 4725,   2800.4,   1.6049,  34.6650,2,  34.6640,2,    119.6,2,    119.1,2,   158.68,2,    37.32,2,     2.66,2,   2800,-999.000,  -999.0,  1.4046
     32MW066_1,  PRS2,     2,  2,     12,     12,2,19950926,1803, 22.7373,-158.0043, 4725,   2999.7,   1.5557,  34.6705,2,  34.6691,2,    124.6,2,    124.9,2,   158.54,2,    36.67,2,     2.63,2,   3000,-999.000,  -999.0,  1.3377
     32MW066_1,  PRS2,     2,  2,     11,     11,2,19950926,1803, 22.7373,-158.0043, 4725,   3199.0,   1.5105,  34.6760,2,  34.6758,2,    130.1,2,    130.5,2,   157.69,2,    36.59,2,     2.61,2,   3200,-999.000,  -999.0,  1.2743
     32MW066_1,  PRS2,     2,  2,     10,     32,3,19950926,1803, 22.7373,-158.0043, 4725,   3398.7,   1.4883,  34.6796,2,  34.6785,2,    134.3,2,    135.3,2,   156.45,2,    35.95,2,     2.58,2,   3398,-999.000,  -999.0,  1.2327
     32MW066_1,  PRS2,     2,  2,      9,      3,2,19950926,1803, 22.7373,-158.0043, 4725,   3598.7,   1.4577,  34.6841,2,  34.6825,2,    141.0,2,    141.1,2,   154.67,2,    35.58,2,     2.54,2,   3598,-999.000,  -999.0,  1.1825
     32MW066_1,  PRS2,     2,  2,      8,     29,2,19950926,1803, 22.7373,-158.0043, 4725,   3801.4,   1.4504,  34.6866,2,  34.6851,2,    144.9,2,    144.9,2,   152.96,2,    35.55,2,     2.53,2,   3801,-999.000,  -999.0,  1.1542
     32MW066_1,  PRS2,     2,  2,      7,     28,2,19950926,1803, 22.7373,-158.0043, 4725,   3999.1,   1.4502,  34.6885,2,  34.6874,2,    148.3,2,    147.6,2,   152.08,2,    35.16,2,     2.51,2,   4000,-999.000,  -999.0,  1.1328
     32MW066_1,  PRS2,     2,  2,      6,      7,2,19950926,1803, 22.7373,-158.0043, 4725,   4199.2,   1.4608,  34.6897,2,  34.6896,2,    149.8,2,    149.8,2,   150.75,2,    35.04,2,     2.49,2,   4200,-999.000,  -999.0,  1.1211
     32MW066_1,  PRS2,     2,  2,      5,     23,2,19950926,1803, 22.7373,-158.0043, 4725,   4399.6,   1.4774,  34.6902,2,  34.6893,2,    150.8,2,    150.4,2,   150.20,2,    35.04,2,     2.49,2,   4400,-999.000,  -999.0,  1.1146
     32MW066_1,  PRS2,     2,  2,      4,     36,2,19950926,1803, 22.7373,-158.0043, 4725,   4498.4,   1.4884,  34.6902,2,  34.6907,2,    151.0,2,    150.9,2,   150.51,2,    35.12,2,     2.49,2,   4499,-999.000,  -999.0,  1.1139
     32MW066_1,  PRS2,     2,  2,      3,     35,2,19950926,1803, 22.7373,-158.0043, 4725,   4599.4,   1.4990,  34.6904,2,  34.6904,2,    151.6,2,    150.8,2,   149.88,2,    35.05,2,     2.49,2,   4599,-999.000,  -999.0,  1.1125
     32MW066_1,  PRS2,     2,  2,      2,     34,2,19950926,1803, 22.7373,-158.0043, 4725,   4700.0,   1.5091,  34.6906,2,  34.6903,2,    151.2,2,    151.4,2,   149.91,2,    35.21,2,     2.49,2,   4702,-999.000,  -999.0,  1.1104
     32MW066_1,  PRS2,     2,  2,      1,     33,2,19950926,1803, 22.7373,-158.0043, 4725,   4808.4,   1.5080,  34.6918,2,  34.6914,2,    152.5,2,    153.4,2,   148.62,2,    35.07,2,     2.46,2,   4809,-999.000,  -999.0,  1.0966
     32MW066_1,  PRS2,     2,  3,     24,     31,2,19950926,2359, 22.7920,-157.9650, 4690,      4.4,  27.0301,  34.8848,2,  34.8859,2,    201.7,2,    201.0,2,     2.63,2,     0.02,2,     0.07,2,      4,-999.000,  -999.0, 27.0291
     32MW066_1,  PRS2,     2,  3,     23,     30,2,19950926,2359, 22.7920,-157.9650, 4690,     27.4,  25.7510,  34.9280,2,  34.9406,2,    211.9,2,    212.8,2,     1.67,2,     0.02,2,     0.06,2,     28,-999.000,  -999.0, 25.7449
     32MW066_1,  PRS2,     2,  3,     22,     22,2,19950926,2359, 22.7920,-157.9650, 4690,     42.5,  23.7672,  35.0364,2,  35.0386,2,    222.2,2,    225.4,2,     2.23,2,     0.03,2,     0.06,2,     44,-999.000,  -999.0, 23.7583
     32MW066_1,  PRS2,     2,  3,     21,     21,2,19950926,2359, 22.7920,-157.9650, 4690,     49.0,  23.2582,  35.1234,2,  35.1200,2,    224.0,2,    227.7,2,     2.07,2,     0.02,2,     0.04,2,     49,-999.000,  -999.0, 23.2481
     32MW066_1,  PRS2,     2,  3,     20,     20,2,19950926,2359, 22.7920,-157.9650, 4690,     70.2,  21.7381,  35.1367,2,  35.1367,2,    219.1,2,    220.9,2,     2.22,2,     0.02,2,     0.06,2,     71,-999.000,  -999.0, 21.7244
     32MW066_1,  PRS2,     2,  3,     19,     19,2,19950926,2359, 22.7920,-157.9650, 4690,     87.6,  20.7021,  35.1664,2,  35.1664,2,    218.0,2,    216.8,2,     2.34,2,     0.02,2,     0.07,2,     87,-999.000,  -999.0, 20.6855
     32MW066_1,  PRS2,     2,  3,     18,     18,2,19950926,2359, 22.7920,-157.9650, 4690,    110.5,  19.4735,  35.0719,2,  35.0722,2,    204.1,2,    201.6,2,     2.93,2,     1.37,2,     0.18,2,    112,-999.000,  -999.0, 19.4535
     32MW066_1,  PRS2,     2,  3,     17,     17,2,19950926,2359, 22.7920,-157.9650, 4690,    196.6,  16.4246,  34.7263,2,  34.7257,2,    199.8,2,    199.8,2,     4.92,2,     3.93,2,     0.34,2,    197,-999.000,  -999.0, 16.3930
     32MW066_1,  PRS2,     2,  3,     16,     16,2,19950926,2359, 22.7920,-157.9650, 4690,    249.0,  14.2647,  34.4742,2,  34.4627,2,    198.4,2,    197.4,2,     7.46,2,     7.34,2,     0.57,2,    249,-999.000,  -999.0, 14.2283
     32MW066_1,  PRS2,     2,  3,     15,     15,2,19950926,2359, 22.7920,-157.9650, 4690,    290.2,  12.5783,  34.3055,2,  34.3033,2,    196.2,2,    198.8,2,    10.24,2,    10.12,2,     0.74,2,    290,-999.000,  -999.0, 12.5394
     32MW066_1,  PRS2,     2,  3,     14,     14,2,19950926,2359, 22.7920,-157.9650, 4690,    348.6,  10.7578,  34.1760,2,  34.1857,2,    193.3,2,    198.2,2,    15.25,2,    13.61,2,     0.99,2,    349,-999.000,  -999.0, 10.7155
     32MW066_1,  PRS2,     2,  3,     13,     13,2,19950926,2359, 22.7920,-157.9650, 4690,    396.2,   9.0905,  34.0963,2,  34.0933,2,    177.4,2,    178.0,2,    25.91,2,    19.33,2,     1.39,2,    397,-999.000,  -999.0,  9.0472
     32MW066_1,  PRS2,     2,  3,     12,     12,2,19950926,2359, 22.7920,-157.9650, 4690,    471.1,   7.4062,  34.0415,2,  34.0406,2,    141.2,2,    141.3,2,    41.77,2,    25.98,2,     1.87,2,    471,-999.000,  -999.0,  7.3605
     32MW066_1,  PRS2,     2,  3,     11,     11,2,19950926,2359, 22.7920,-157.9650, 4690,    475.2,   7.2609,  34.0392,2,  34.0408,2,    137.3,2,    134.9,2,    43.52,2,    26.87,2,     1.95,2,    476,-999.000,  -999.0,  7.2153
     32MW066_1,  PRS2,     2,  3,     10,     32,2,19950926,2359, 22.7920,-157.9650, 4690,    503.8,   6.8314,  34.0777,2,  34.0772,2,     98.5,2,     98.5,2,    52.72,2,    30.44,2,     2.26,2,    504,-999.000,  -999.0,  6.7846
     32MW066_1,  PRS2,     2,  3,      9,      3,2,19950926,2359, 22.7920,-157.9650, 4690,    545.5,   6.2264,  34.1236,2,  34.1220,2,     67.9,2,     64.0,2,    64.11,2,    34.26,2,     2.58,2,    546,-999.000,  -999.0,  6.1780
     32MW066_1,  PRS2,     2,  3,      8,     29,2,19950926,2359, 22.7920,-157.9650, 4690,    588.8,   5.5704,  34.1261,2,  34.1246,2,     54.3,2,     49.9,2,    74.57,2,    36.86,2,     2.77,2,    590,-999.000,  -999.0,  5.5208
     32MW066_1,  PRS2,     2,  3,      7,     28,2,19950926,2359, 22.7920,-157.9650, 4690,    646.1,   5.1571,  34.2181,2,  34.2116,2,     33.4,2,     28.9,2,    87.03,2,    39.57,2,     2.96,2,    644,-999.000,  -999.0,  5.1045
     32MW066_1,  PRS2,     2,  3,      6,      7,2,19950926,2359, 22.7920,-157.9650, 4690,    714.5,   4.9674,  34.3381,2,  34.3383,2,     32.1,2,     29.0,2,    91.02,2,    39.99,2,     2.99,2,    715,-999.000,  -999.0,  4.9097
     32MW066_1,  PRS2,     2,  3,      5,     23,2,19950926,2359, 22.7920,-157.9650, 4690,    808.3,   4.6229,  34.4190,2,  34.4274,3,     33.6,3,     31.4,2,    96.54,2,    40.43,2,     3.01,2,    808,-999.000,  -999.0,  4.5591
     32MW066_1,  PRS2,     2,  3,      4,     36,2,19950926,2359, 22.7920,-157.9650, 4690,    813.4,   4.5542,  34.4127,2,  34.4101,2,     33.3,2,     31.8,2,    99.63,2,    40.77,2,     3.02,2,    815,-999.000,  -999.0,  4.4905
     32MW066_1,  PRS2,     2,  3,      3,     35,2,19950926,2359, 22.7920,-157.9650, 4690,    899.7,   4.3619,  34.4559,2,  34.4546,2,     36.4,2,     36.2,2,  -999.00,5,  -999.00,5,  -999.00,5,    900,-999.000,  -999.0,  4.2920
     32MW066_1,  PRS2,     2,  3,      2,     34,2,19950926,2359, 22.7920,-157.9650, 4690,    982.1,   4.0918,  34.4809,2,  34.4802,2,     40.2,2,     42.4,2,   108.48,2,    40.74,2,     3.02,2,    983,-999.000,  -999.0,  4.0170
     32MW066_1,  PRS2,     2,  3,      1,     33,2,19950926,2359, 22.7920,-157.9650, 4690,   1019.6,   4.0208,  34.4997,2,  34.4985,2,     41.5,2,     42.6,2,   109.39,2,    40.93,2,     3.01,2,   1019,-999.000,  -999.0,  3.9433