BOTTLE,20020809WHPSIObren
EXPOCODE,SECT_ID,STNNBR,CASTNO,SAMPNO,BTLNBR,BTLNBR_FLAG_W,DATE,TIME,LATITUDE,LONGITUDE,DEPTH,CTDPRS,CTDTMP,CTDSAL,CTDSAL_FLAG_W,SALNTY,SALNTY_FLAG_W,CTDOXY,CTDOXY_FLAG_W,OXYGEN,OXYGEN_FLAG_W,SILCAT,SILCAT_FLAG_W,NO2+NO3,NO2+NO3_FLAG_W,PHSPHT,PHSPHT_FLAG_W,CTDRAW,REVTMP,REVPRS,THETA
,,,,,,,,,,,,DBAR,ITS-90,PSS-78,,PSS-78,,UMOL/KG,,UMOL/KG,,UMOL/KG,,UMOL/KG,,UMOL/KG,,,DEG C,DBAR,ITS-90
     32MW066_1,  PRS2,     2,  4,     24,     31,2,19950927,0259, 22.7920,-157.9812, 4700,      4.8,  26.9833,  34.8873,2,  34.8874,2,    203.7,2,    201.4,2,     1.58,2,     0.01,2,     0.06,2,      6,-999.000,  -999.0, 26.9822
     32MW066_1,  PRS2,     2,  4,     23,     30,2,19950927,0259, 22.7920,-157.9812, 4700,     14.7,  26.9862,  34.8865,2,  34.8878,2,    203.7,2,    201.3,2,     1.56,2,     0.01,2,     0.07,2,     15,-999.000,  -999.0, 26.9828
     32MW066_1,  PRS2,     2,  4,     22,     22,2,19950927,0259, 22.7920,-157.9812, 4700,     24.5,  26.9568,  34.8865,2,  34.8872,2,    203.8,2,    201.5,2,     1.56,2,     0.01,2,     0.07,2,     25,-999.000,  -999.0, 26.9512
     32MW066_1,  PRS2,     2,  4,     21,     21,2,19950927,0259, 22.7920,-157.9812, 4700,     44.3,  25.5828,  34.9485,2,  34.9422,2,    215.5,2,    213.9,2,     1.60,2,     0.01,2,     0.05,2,     45,-999.000,  -999.0, 25.5730
     32MW066_1,  PRS2,     2,  4,     20,     20,2,19950927,0259, 22.7920,-157.9812, 4700,     73.9,  22.8225,  35.1191,2,  35.1199,2,    227.9,2,    226.4,2,     2.08,2,     0.02,2,     0.05,2,     73,-999.000,  -999.0, 22.8075
     32MW066_1,  PRS2,     2,  4,     19,     19,2,19950927,0259, 22.7920,-157.9812, 4700,     99.5,  21.5285,  35.1354,2,  35.1378,2,    219.5,2,    219.9,2,     2.29,2,     0.00,2,     0.06,2,     99,-999.000,  -999.0, 21.5092
     32MW066_1,  PRS2,     2,  4,     18,     18,2,19950927,0259, 22.7920,-157.9812, 4700,    124.8,  20.2771,  35.1493,2,  35.1493,2,    214.4,2,    213.6,2,     2.51,2,     0.10,2,     0.08,2,    126,-999.000,  -999.0, 20.2538
     32MW066_1,  PRS2,     2,  4,     17,     17,2,19950927,0259, 22.7920,-157.9812, 4700,    173.6,  18.7158,  35.0019,2,  35.0041,2,    207.9,2,    206.0,2,     3.48,2,     1.48,2,     0.17,2,    174,-999.000,  -999.0, 18.6852
     32MW066_1,  PRS2,     2,  4,     16,     16,2,19950927,0259, 22.7920,-157.9812, 4700,    199.9,  18.0592,  34.9602,2,  34.9579,2,    210.6,2,    207.4,2,     3.83,2,     1.82,2,     0.19,2,    200,-999.000,  -999.0, 18.0248
     32MW066_1,  PRS2,     2,  4,     15,     15,2,19950927,0259, 22.7920,-157.9812, 4700,    210.3,  17.4142,  34.8633,2,  34.8682,2,    206.9,2,    206.3,2,     4.29,2,     2.37,2,     0.22,2,    211,-999.000,  -999.0, 17.3789
     32MW066_1,  PRS2,     2,  4,     14,     14,2,19950927,0259, 22.7920,-157.9812, 4700,    224.4,  16.5951,  34.7466,2,  34.7432,2,    199.5,2,    201.8,2,     5.04,2,     3.70,2,     0.32,2,    225,-999.000,  -999.0, 16.5587
     32MW066_1,  PRS2,     2,  4,     13,     13,2,19950927,0259, 22.7920,-157.9812, 4700,    233.4,  15.9074,  34.6631,2,  34.6613,2,    198.6,2,    199.8,2,     5.83,2,     4.83,2,     0.39,2,    234,-999.000,  -999.0, 15.8706
     32MW066_1,  PRS2,     2,  4,     12,     12,2,19950927,0259, 22.7920,-157.9812, 4700,    248.7,  14.9103,  34.5420,2,  34.5560,2,    194.6,2,    197.2,2,     6.69,2,     6.06,2,     0.48,2,    247,-999.000,  -999.0, 14.8728
     32MW066_1,  PRS2,     2,  4,     11,     11,2,19950927,0259, 22.7920,-157.9812, 4700,    272.5,  13.7611,  34.4185,2,  34.4169,2,    195.5,2,    197.7,2,     8.36,2,     8.03,2,     0.62,2,    272,-999.000,  -999.0, 13.7223
     32MW066_1,  PRS2,     2,  4,     10,     32,2,19950927,0259, 22.7920,-157.9812, 4700,    299.6,  12.5047,  34.3055,2,  34.3007,2,    196.3,2,    200.3,2,    10.81,2,    10.20,2,     0.75,2,    300,-999.000,  -999.0, 12.4646
     32MW066_1,  PRS2,     2,  4,      9,      3,2,19950927,0259, 22.7920,-157.9812, 4700,    324.0,  11.7706,  34.2463,2,  34.2453,2,    198.5,2,    200.9,2,    12.52,2,    11.51,2,     0.85,2,    325,-999.000,  -999.0, 11.7289
     32MW066_1,  PRS2,     2,  4,      8,     29,2,19950927,0259, 22.7920,-157.9812, 4700,    349.1,  10.7997,  34.1757,2,  34.1745,2,    194.1,2,    198.6,2,    15.66,2,    13.78,2,     1.00,2,    349,-999.000,  -999.0, 10.7573
     32MW066_1,  PRS2,     2,  4,      7,     28,2,19950927,0259, 22.7920,-157.9812, 4700,    399.7,   9.0658,  34.0883,2,  34.0892,2,    176.7,2,    183.5,2,    24.74,2,    18.65,2,     1.35,2,    400,-999.000,  -999.0,  9.0222
     32MW066_1,  PRS2,     2,  4,      6,      7,2,19950927,0259, 22.7920,-157.9812, 4700,    501.5,   7.3291,  34.0472,2,  34.0495,2,    133.8,2,    132.4,2,    43.20,2,    26.39,2,     1.94,2,    502,-999.000,  -999.0,  7.2806
     32MW066_1,  PRS2,     2,  4,      5,     23,2,19950927,0259, 22.7920,-157.9812, 4700,    600.0,   5.8744,  34.1328,2,  34.1327,2,     55.0,2,     55.0,2,    69.03,2,    35.13,2,     2.65,2,    600,-999.000,  -999.0,  5.8225
     32MW066_1,  PRS2,     2,  4,      4,     36,2,19950927,0259, 22.7920,-157.9812, 4700,    699.6,   5.1350,  34.2596,2,  34.2569,2,     28.6,2,     27.9,2,    87.32,2,    39.12,2,     2.96,2,    700,-999.000,  -999.0,  5.0778
     32MW066_1,  PRS2,     2,  4,      3,     35,2,19950927,0259, 22.7920,-157.9812, 4700,    800.5,   4.7385,  34.4064,2,  34.4024,2,     30.8,2,     30.3,2,    95.99,2,    40.19,2,     3.03,2,    800,-999.000,  -999.0,  4.6747
     32MW066_1,  PRS2,     2,  4,      2,     34,2,19950927,0259, 22.7920,-157.9812, 4700,    900.4,   4.3549,  34.4645,2,  34.4634,2,     35.8,2,     39.1,2,   103.52,2,    40.53,2,     3.02,2,    901,-999.000,  -999.0,  4.2850
     32MW066_1,  PRS2,     2,  4,      1,     33,2,19950927,0259, 22.7920,-157.9812, 4700,   1020.2,   3.9479,  34.5010,2,  34.5024,2,     39.6,2,     43.1,2,   111.12,2,    40.68,2,     3.03,2,   1019,-999.000,  -999.0,  3.8709
     32MW066_1,  PRS2,     2,  5,     23,     30,2,19950927,0559, 22.8043,-157.9755, 4685,      5.0,  26.9612,  34.8886,2,  34.8881,2,    202.2,2,   -999.0,5,  -999.00,5,  -999.00,5,  -999.00,5,      5,-999.000,  -999.0, 26.9600
     32MW066_1,  PRS2,     2,  5,     22,     22,2,19950927,0559, 22.8043,-157.9755, 4685,      5.0,  26.9558,  34.8888,2,  34.8875,2,    202.1,2,    201.2,2,     1.64,2,     0.01,2,     0.07,2,      6,-999.000,  -999.0, 26.9547
     32MW066_1,  PRS2,     2,  5,     21,     21,2,19950927,0559, 22.8043,-157.9755, 4685,     14.1,  26.9705,  34.8879,2,  34.9263,4,    202.1,3,    201.3,2,     1.58,2,     0.01,2,     0.06,2,     14,-999.000,  -999.0, 26.9672
     32MW066_1,  PRS2,     2,  5,     20,     20,2,19950927,0559, 22.8043,-157.9755, 4685,     24.8,  26.9680,  34.8877,2,  34.8877,2,    202.1,2,   -999.0,5,  -999.00,5,  -999.00,5,  -999.00,5,     24,-999.000,  -999.0, 26.9623
     32MW066_1,  PRS2,     2,  5,     19,     19,2,19950927,0559, 22.8043,-157.9755, 4685,     24.8,  26.9669,  34.8878,2,  34.8871,2,    202.0,2,    202.1,2,     1.58,2,     0.01,2,     0.06,2,     25,-999.000,  -999.0, 26.9612
     32MW066_1,  PRS2,     2,  5,     18,     18,2,19950927,0559, 22.8043,-157.9755, 4685,     35.0,  26.9134,  34.8905,2,  34.8929,2,    203.3,2,    202.1,2,     1.55,2,     0.00,2,     0.05,2,     35,-999.000,  -999.0, 26.9054
     32MW066_1,  PRS2,     2,  5,     17,     17,2,19950927,0559, 22.8043,-157.9755, 4685,     45.5,  26.1785,  34.9103,2,  34.9070,2,    208.4,2,    207.9,2,     3.05,2,     0.00,2,     0.06,2,     46,-999.000,  -999.0, 26.1683
     32MW066_1,  PRS2,     2,  5,     16,     16,2,19950927,0559, 22.8043,-157.9755, 4685,     60.4,  24.9299,  34.9838,2,  34.9779,2,    221.8,2,    218.0,2,     1.87,2,     0.04,2,     0.05,2,     61,-999.000,  -999.0, 24.9168
     32MW066_1,  PRS2,     2,  5,     15,     15,2,19950927,0559, 22.8043,-157.9755, 4685,     74.5,  23.3070,  35.1109,2,  35.1134,2,    230.0,2,    226.9,2,     2.13,2,     0.03,2,     0.04,2,     75,-999.000,  -999.0, 23.2917
     32MW066_1,  PRS2,     2,  5,     14,     14,2,19950927,0559, 22.8043,-157.9755, 4685,     85.0,  22.4959,  35.1157,2,  35.1135,2,    222.4,2,    223.6,2,     2.33,2,     0.00,2,     0.05,2,     85,-999.000,  -999.0, 22.4788
     32MW066_1,  PRS2,     2,  5,     13,     13,2,19950927,0559, 22.8043,-157.9755, 4685,     93.9,  21.7330,  35.1495,2,  35.1477,2,    221.9,2,    220.7,2,     2.41,2,     0.00,2,     0.06,2,     95,-999.000,  -999.0, 21.7146
     32MW066_1,  PRS2,     2,  5,     12,     12,2,19950927,0559, 22.8043,-157.9755, 4685,    104.1,  21.4669,  35.1353,2,  35.1348,2,    217.9,2,    218.5,2,     2.46,2,     0.01,2,     0.06,2,    105,-999.000,  -999.0, 21.4466
     32MW066_1,  PRS2,     2,  5,     11,     11,2,19950927,0559, 22.8043,-157.9755, 4685,    114.4,  20.7869,  35.1533,2,  35.1531,2,    217.8,2,    215.8,2,     3.07,2,     0.00,2,     0.06,2,    116,-999.000,  -999.0, 20.7652
     32MW066_1,  PRS2,     2,  5,     10,     32,2,19950927,0559, 22.8043,-157.9755, 4685,    124.0,  20.0163,  35.1303,2,  35.1295,2,    205.2,2,    210.5,2,     2.84,2,     0.29,2,     0.10,2,    125,-999.000,  -999.0, 19.9934
     32MW066_1,  PRS2,     2,  5,      9,      3,2,19950927,0559, 22.8043,-157.9755, 4685,    134.1,  19.8036,  35.1123,2,  35.1136,2,    205.8,2,    208.7,2,     2.97,2,     0.55,2,     0.12,2,    135,-999.000,  -999.0, 19.7790
     32MW066_1,  PRS2,     2,  5,      8,     29,2,19950927,0559, 22.8043,-157.9755, 4685,    149.1,  19.3685,  35.0649,2,  35.0662,2,    202.5,2,    202.8,2,     3.24,2,     1.49,2,     0.20,2,    148,-999.000,  -999.0, 19.3415
     32MW066_1,  PRS2,     2,  5,      7,     28,2,19950927,0559, 22.8043,-157.9755, 4685,    160.5,  18.9119,  35.0180,2,  35.0189,2,    197.0,2,    205.4,2,     3.41,2,     1.39,2,     0.18,2,    161,-999.000,  -999.0, 18.8834
     32MW066_1,  PRS2,     2,  5,      6,      7,2,19950927,0559, 22.8043,-157.9755, 4685,    174.4,  18.6491,  35.0293,2,  35.0325,2,    207.3,2,    204.8,2,     3.49,2,     1.61,2,     0.19,2,    174,-999.000,  -999.0, 18.6184
     32MW066_1,  PRS2,     2,  5,      5,     23,2,19950927,0559, 22.8043,-157.9755, 4685,    185.1,  18.3745,  34.9993,2,  34.9996,2,    207.8,2,    205.7,2,     3.60,2,     1.69,2,     0.19,2,    185,-999.000,  -999.0, 18.3422
     32MW066_1,  PRS2,     2,  5,      4,     36,2,19950927,0559, 22.8043,-157.9755, 4685,    200.5,  18.0681,  34.9603,2,  34.9600,2,    209.3,2,    206.9,2,     3.86,2,     1.86,2,     0.19,2,    201,-999.000,  -999.0, 18.0336
     32MW066_1,  PRS2,     2,  5,      3,     35,2,19950927,0559, 22.8043,-157.9755, 4685,    501.5,   7.1681,  34.0410,2,  34.0412,2,    117.1,2,    125.5,2,    45.50,2,    27.58,2,     2.02,2,    501,-999.000,  -999.0,  7.1202
     32MW066_1,  PRS2,     2,  5,      2,     34,2,19950927,0559, 22.8043,-157.9755, 4685,    748.5,   4.7936,  34.3044,2,  34.3041,2,     27.2,2,     25.6,2,    94.90,2,    40.04,2,     3.02,2,    751,-999.000,  -999.0,  4.7340
     32MW066_1,  PRS2,     2,  5,      1,     33,2,19950927,0559, 22.8043,-157.9755, 4685,   1017.8,   4.0481,  34.4970,2,  34.4958,2,     37.1,2,     43.2,2,   109.57,2,    40.68,2,     3.02,2,   1018,-999.000,  -999.0,  3.9706
     32MW066_1,  PRS2,     2,  6,     14,     14,2,19950927,0858, 22.8058,-157.9747, 4685,      5.2,  26.8853,  34.8895,2,  34.8887,2,    201.2,1,   -999.0,9,  -999.00,9,  -999.00,9,  -999.00,9,      6,-999.000,  -999.0, 26.8841
     32MW066_1,  PRS2,     2,  6,     13,     13,2,19950927,0858, 22.8058,-157.9747, 4685,     14.9,  26.8870,  34.8892,2,  34.8895,2,    201.2,1,   -999.0,9,  -999.00,9,  -999.00,9,  -999.00,9,     15,-999.000,  -999.0, 26.8836
     32MW066_1,  PRS2,     2,  6,     12,     12,2,19950927,0858, 22.8058,-157.9747, 4685,     24.5,  26.7629,  34.8906,2,  34.8891,2,    202.5,1,   -999.0,9,  -999.00,9,  -999.00,9,  -999.00,9,     25,-999.000,  -999.0, 26.7573
     32MW066_1,  PRS2,     2,  6,     11,     11,2,19950927,0858, 22.8058,-157.9747, 4685,     44.9,  25.5540,  34.9632,2,  34.9604,2,    214.6,1,   -999.0,9,  -999.00,9,  -999.00,9,  -999.00,9,     46,-999.000,  -999.0, 25.5441
     32MW066_1,  PRS2,     2,  6,     10,     32,2,19950927,0858, 22.8058,-157.9747, 4685,     74.7,  22.0160,  35.1404,2,  35.1366,2,    220.8,1,   -999.0,9,  -999.00,9,  -999.00,9,  -999.00,9,     75,-999.000,  -999.0, 22.0013
     32MW066_1,  PRS2,     2,  6,      9,      3,2,19950927,0858, 22.8058,-157.9747, 4685,    100.2,  20.0934,  35.1343,2,  35.1380,2,    209.7,1,   -999.0,9,  -999.00,9,  -999.00,9,  -999.00,9,    100,-999.000,  -999.0, 20.0749
     32MW066_1,  PRS2,     2,  6,      8,     29,2,19950927,0858, 22.8058,-157.9747, 4685,    125.6,  19.0722,  35.0379,2,  35.0381,2,    192.4,1,   -999.0,9,  -999.00,9,  -999.00,9,  -999.00,9,    127,-999.000,  -999.0, 19.0498
     32MW066_1,  PRS2,     2,  6,      7,     28,2,19950927,0858, 22.8058,-157.9747, 4685,    150.1,  18.3311,  34.9919,2,  34.9934,2,    206.2,1,   -999.0,9,  -999.00,9,  -999.00,9,  -999.00,9,    150,-999.000,  -999.0, 18.3050
     32MW066_1,  PRS2,     2,  6,      6,      7,2,19950927,0858, 22.8058,-157.9747, 4685,    175.3,  17.6820,  34.9048,2,  34.9060,2,    208.0,1,   -999.0,9,  -999.00,9,  -999.00,9,  -999.00,9,    176,-999.000,  -999.0, 17.6523
     32MW066_1,  PRS2,     2,  6,      5,     23,2,19950927,0858, 22.8058,-157.9747, 4685,    299.6,  11.2758,  34.2135,2,  34.2167,2,    191.4,1,   -999.0,9,  -999.00,9,  -999.00,9,  -999.00,9,    299,-999.000,  -999.0, 11.2384
     32MW066_1,  PRS2,     2,  6,      4,     36,2,19950927,0858, 22.8058,-157.9747, 4685,    399.7,   8.8180,  34.0751,2,  34.0727,2,    172.8,1,   -999.0,9,  -999.00,9,  -999.00,9,  -999.00,9,    400,-999.000,  -999.0,  8.7752
     32MW066_1,  PRS2,     2,  6,      3,     35,2,19950927,0858, 22.8058,-157.9747, 4685,    499.4,   6.8470,  34.0450,2,  34.0416,2,     98.6,1,   -999.0,9,  -999.00,9,  -999.00,9,  -999.00,9,    500,-999.000,  -999.0,  6.8005
     32MW066_1,  PRS2,     2,  6,      2,     34,2,19950927,0858, 22.8058,-157.9747, 4685,    749.6,   4.7748,  34.3063,2,  34.3068,2,     24.0,1,   -999.0,9,  -999.00,9,  -999.00,9,  -999.00,9,    750,-999.000,  -999.0,  4.7152
     32MW066_1,  PRS2,     2,  6,      1,     33,2,19950927,0858, 22.8058,-157.9747, 4685,   1024.4,   4.0842,  34.4922,2,  34.4918,2,     36.6,1,   -999.0,9,  -999.00,9,  -999.00,9,  -999.00,9,   1026,-999.000,  -999.0,  4.0059
     32MW066_1,  PRS2,     2,  7,     16,     16,2,19950927,1229, 22.8025,-157.9753, 4690,      2.5,  26.8371,  34.8874,2,  34.8878,2,    200.6,2,    203.3,6,  -999.00,9,  -999.00,9,  -999.00,9,      3,-999.000,  -999.0, 26.8365
     32MW066_1,  PRS2,     2,  7,     15,     15,2,19950927,1229, 22.8025,-157.9753, 4690,      9.9,  26.8410,  34.8867,2,  34.8879,2,    200.5,2,    203.6,6,  -999.00,9,  -999.00,9,  -999.00,9,     10,-999.000,  -999.0, 26.8388
     32MW066_1,  PRS2,     2,  7,     14,     14,2,19950927,1229, 22.8025,-157.9753, 4690,     14.7,  26.8429,  34.8863,2,  34.8864,2,    200.5,2,    203.6,6,  -999.00,9,  -999.00,9,  -999.00,9,     15,-999.000,  -999.0, 26.8396
     32MW066_1,  PRS2,     2,  7,     13,     13,2,19950927,1229, 22.8025,-157.9753, 4690,     19.7,  26.8367,  34.8856,2,  34.8861,2,    200.4,2,    204.0,6,  -999.00,9,  -999.00,9,  -999.00,9,     20,-999.000,  -999.0, 26.8322
     32MW066_1,  PRS2,     2,  7,     12,     12,2,19950927,1229, 22.8025,-157.9753, 4690,     29.7,  26.4284,  34.8874,2,  34.8877,2,    206.2,2,    208.8,6,  -999.00,9,  -999.00,9,  -999.00,9,     31,-999.000,  -999.0, 26.4217
     32MW066_1,  PRS2,     2,  7,     11,     11,2,19950927,1229, 22.8025,-157.9753, 4690,     38.8,  25.7057,  34.9343,2,  34.9254,2,    212.0,2,    214.4,6,  -999.00,9,  -999.00,9,  -999.00,9,     39,-999.000,  -999.0, 25.6971
     32MW066_1,  PRS2,     2,  7,     10,     32,2,19950927,1229, 22.8025,-157.9753, 4690,     48.8,  23.7451,  35.0535,2,  35.0595,2,    222.0,2,    228.1,6,  -999.00,9,  -999.00,9,  -999.00,9,     49,-999.000,  -999.0, 23.7349
     32MW066_1,  PRS2,     2,  7,      9,      3,2,19950927,1229, 22.8025,-157.9753, 4690,     59.7,  22.5817,  35.1078,2,  35.1090,2,    220.0,2,    226.2,6,  -999.00,9,  -999.00,9,  -999.00,9,     60,-999.000,  -999.0, 22.5696
     32MW066_1,  PRS2,     2,  7,      8,     29,2,19950927,1229, 22.8025,-157.9753, 4690,     69.5,  22.0599,  35.1365,2,  35.1306,2,    220.4,2,    224.4,6,  -999.00,9,  -999.00,9,  -999.00,9,     70,-999.000,  -999.0, 22.0461
     32MW066_1,  PRS2,     2,  7,      7,     28,2,19950927,1229, 22.8025,-157.9753, 4690,     80.1,  21.1361,  35.1389,2,  35.1419,2,    209.7,2,    220.9,6,  -999.00,9,  -999.00,9,  -999.00,9,     80,-999.000,  -999.0, 21.1207
     32MW066_1,  PRS2,     2,  7,      6,      7,2,19950927,1229, 22.8025,-157.9753, 4690,     89.4,  20.7116,  35.1660,2,  35.1625,2,    211.8,2,   -999.0,5,  -999.00,9,  -999.00,9,  -999.00,9,     90,-999.000,  -999.0, 20.6947
     32MW066_1,  PRS2,     2,  7,      5,     23,3,19950927,1229, 22.8025,-157.9753, 4690,    123.8,  18.9538,  35.0314,2,  35.0309,2,    193.6,2,   -999.0,5,  -999.00,9,  -999.00,9,  -999.00,9,    124,-999.000,  -999.0, 18.9318
     32MW066_1,  PRS2,     2,  7,      4,     36,2,19950927,1229, 22.8025,-157.9753, 4690,    149.8,  18.0898,  34.9664,2,  34.9663,2,    209.4,2,   -999.0,5,  -999.00,9,  -999.00,9,  -999.00,9,    150,-999.000,  -999.0, 18.0640
     32MW066_1,  PRS2,     2,  7,      3,     35,2,19950927,1229, 22.8025,-157.9753, 4690,    459.0,   7.6696,  34.0452,2,  34.0451,2,    139.6,2,   -999.0,5,  -999.00,9,  -999.00,9,  -999.00,9,    460,-999.000,  -999.0,  7.6241
     32MW066_1,  PRS2,     2,  7,      2,     34,2,19950927,1229, 22.8025,-157.9753, 4690,    749.5,   4.9265,  34.3612,2,  34.3730,4,     27.8,3,   -999.0,5,  -999.00,9,  -999.00,9,  -999.00,9,    751,-999.000,  -999.0,  4.8660
     32MW066_1,  PRS2,     2,  7,      1,     33,2,19950927,1229, 22.8025,-157.9753, 4690,   1019.7,   4.0387,  34.4975,2,  34.4980,2,     37.3,2,   -999.0,5,  -999.00,9,  -999.00,9,  -999.00,9,   1020,-999.000,  -999.0,  3.9611