BOTTLE,20020809WHPSIObren
EXPOCODE,SECT_ID,STNNBR,CASTNO,SAMPNO,BTLNBR,BTLNBR_FLAG_W,DATE,TIME,LATITUDE,LONGITUDE,DEPTH,CTDPRS,CTDTMP,CTDSAL,CTDSAL_FLAG_W,SALNTY,SALNTY_FLAG_W,CTDOXY,CTDOXY_FLAG_W,OXYGEN,OXYGEN_FLAG_W,SILCAT,SILCAT_FLAG_W,NO2+NO3,NO2+NO3_FLAG_W,PHSPHT,PHSPHT_FLAG_W,CTDRAW,REVTMP,REVPRS,THETA
,,,,,,,,,,,,DBAR,ITS-90,PSS-78,,PSS-78,,UMOL/KG,,UMOL/KG,,UMOL/KG,,UMOL/KG,,UMOL/KG,,,DEG C,DBAR,ITS-90
     32MW066_1,  PRS2,     2, 11,     24,     31,2,19950927,2358, 22.7812,-157.9620, 4700,      4.2,  26.9537,  34.8857,2,  34.8843,2,    218.7,1,   -999.0,9,  -999.00,9,  -999.00,9,  -999.00,9,      5,-999.000,  -999.0, 26.9527
     32MW066_1,  PRS2,     2, 11,     23,     30,2,19950927,2358, 22.7812,-157.9620, 4700,      9.4,  26.9564,  34.8856,2,  34.8853,2,    219.6,1,   -999.0,9,  -999.00,9,  -999.00,9,  -999.00,9,     10,-999.000,  -999.0, 26.9542
     32MW066_1,  PRS2,     2, 11,     22,     22,2,19950927,2358, 22.7812,-157.9620, 4700,     14.6,  26.9229,  34.8850,2,  34.8843,2,    221.2,1,   -999.0,9,  -999.00,9,  -999.00,9,  -999.00,9,     15,-999.000,  -999.0, 26.9195
     32MW066_1,  PRS2,     2, 11,     21,     21,2,19950927,2358, 22.7812,-157.9620, 4700,     19.2,  26.7692,  34.8907,2,  34.8859,2,    222.9,1,   -999.0,9,  -999.00,9,  -999.00,9,  -999.00,9,     20,-999.000,  -999.0, 26.7648
     32MW066_1,  PRS2,     2, 11,     20,     20,2,19950927,2358, 22.7812,-157.9620, 4700,     24.7,  26.4720,  34.9106,2,  34.9181,2,    224.6,1,   -999.0,9,  -999.00,9,  -999.00,9,  -999.00,9,     25,-999.000,  -999.0, 26.4665
     32MW066_1,  PRS2,     2, 11,     19,     19,2,19950927,2358, 22.7812,-157.9620, 4700,     29.7,  26.1072,  34.8994,2,  34.8976,2,    226.0,1,   -999.0,9,  -999.00,9,  -999.00,9,  -999.00,9,     30,-999.000,  -999.0, 26.1005
     32MW066_1,  PRS2,     2, 11,     18,     18,2,19950927,2358, 22.7812,-157.9620, 4700,     34.0,  25.5611,  34.9384,2,  34.9451,2,    227.2,1,   -999.0,9,  -999.00,9,  -999.00,9,  -999.00,9,     34,-999.000,  -999.0, 25.5536
     32MW066_1,  PRS2,     2, 11,     17,     17,2,19950927,2358, 22.7812,-157.9620, 4700,     39.8,  24.9705,  35.0075,2,  35.0406,3,    227.8,1,   -999.0,9,  -999.00,9,  -999.00,9,  -999.00,9,     40,-999.000,  -999.0, 24.9619
     32MW066_1,  PRS2,     2, 11,     16,     16,2,19950927,2358, 22.7812,-157.9620, 4700,     44.3,  23.5230,  35.0593,2,  35.0773,3,    224.7,1,   -999.0,9,  -999.00,9,  -999.00,9,  -999.00,9,     44,-999.000,  -999.0, 23.5138
     32MW066_1,  PRS2,     2, 11,     15,     15,2,19950927,2358, 22.7812,-157.9620, 4700,     50.0,  22.8524,  35.1289,2,  35.1315,2,    225.6,1,   -999.0,9,  -999.00,9,  -999.00,9,  -999.00,9,     50,-999.000,  -999.0, 22.8422
     32MW066_1,  PRS2,     2, 11,     14,     14,2,19950927,2358, 22.7812,-157.9620, 4700,     54.5,  22.5830,  35.1285,2,  35.1413,2,    225.4,1,   -999.0,9,  -999.00,9,  -999.00,9,  -999.00,9,     55,-999.000,  -999.0, 22.5720
     32MW066_1,  PRS2,     2, 11,     13,     13,2,19950927,2358, 22.7812,-157.9620, 4700,     64.7,  21.6281,  35.1457,2,  35.1471,2,    216.7,1,   -999.0,9,  -999.00,9,  -999.00,9,  -999.00,9,     64,-999.000,  -999.0, 21.6155
     32MW066_1,  PRS2,     2, 11,     12,     12,2,19950927,2358, 22.7812,-157.9620, 4700,     75.0,  21.2729,  35.1506,2,  35.1503,2,    215.9,1,   -999.0,9,  -999.00,9,  -999.00,9,  -999.00,9,     75,-999.000,  -999.0, 21.2584
     32MW066_1,  PRS2,     2, 11,     11,     11,2,19950927,2358, 22.7812,-157.9620, 4700,     83.8,  20.7447,  35.1567,2,  35.1547,2,    214.2,1,   -999.0,9,  -999.00,9,  -999.00,9,  -999.00,9,     85,-999.000,  -999.0, 20.7288
     32MW066_1,  PRS2,     2, 11,     10,     32,2,19950927,2358, 22.7812,-157.9620, 4700,     94.4,  20.0084,  35.1211,2,  35.1251,2,    202.6,1,   -999.0,9,  -999.00,9,  -999.00,9,  -999.00,9,     95,-999.000,  -999.0, 19.9910
     32MW066_1,  PRS2,     2, 11,      9,      3,2,19950927,2358, 22.7812,-157.9620, 4700,    104.5,  19.8251,  35.1045,2,  35.1042,2,    208.1,1,   -999.0,9,  -999.00,9,  -999.00,9,  -999.00,9,    105,-999.000,  -999.0, 19.8060
     32MW066_1,  PRS2,     2, 11,      8,     29,2,19950927,2358, 22.7812,-157.9620, 4700,    113.5,  19.3814,  35.0675,2,  35.0719,2,    199.7,1,   -999.0,9,  -999.00,9,  -999.00,9,  -999.00,9,    115,-999.000,  -999.0, 19.3609
     32MW066_1,  PRS2,     2, 11,      7,     28,2,19950927,2358, 22.7812,-157.9620, 4700,    124.1,  19.1545,  35.0542,2,  35.0540,2,    197.7,1,   -999.0,9,  -999.00,9,  -999.00,9,  -999.00,9,    124,-999.000,  -999.0, 19.1323
     32MW066_1,  PRS2,     2, 11,      6,      7,2,19950927,2358, 22.7812,-157.9620, 4700,    149.4,  18.3369,  34.9913,2,  34.9960,2,    202.5,1,   -999.0,9,  -999.00,9,  -999.00,9,  -999.00,9,    151,-999.000,  -999.0, 18.3109
     32MW066_1,  PRS2,     2, 11,      5,     23,2,19950927,2358, 22.7812,-157.9620, 4700,    174.6,  17.5829,  34.8890,2,  34.8920,2,    206.5,1,   -999.0,9,  -999.00,9,  -999.00,9,  -999.00,9,    175,-999.000,  -999.0, 17.5535
     32MW066_1,  PRS2,     2, 11,      4,     36,2,19950927,2358, 22.7812,-157.9620, 4700,    248.3,  13.9778,  34.4421,2,  34.4574,2,    188.4,1,   -999.0,9,  -999.00,9,  -999.00,9,  -999.00,9,    249,-999.000,  -999.0, 13.9421
     32MW066_1,  PRS2,     2, 11,      3,     35,2,19950927,2358, 22.7812,-157.9620, 4700,    499.2,   6.6961,  34.0472,2,  34.0446,2,     95.6,1,   -999.0,9,  -999.00,9,  -999.00,9,  -999.00,9,    500,-999.000,  -999.0,  6.6502
     32MW066_1,  PRS2,     2, 11,      2,     34,2,19950927,2358, 22.7812,-157.9620, 4700,    749.3,   4.9918,  34.3613,2,  34.3598,2,     22.7,1,   -999.0,9,  -999.00,9,  -999.00,9,  -999.00,9,    749,-999.000,  -999.0,  4.9309
     32MW066_1,  PRS2,     2, 11,      1,     33,2,19950927,2358, 22.7812,-157.9620, 4700,   1021.5,   4.0048,  34.4766,2,  34.4776,2,     32.7,1,   -999.0,9,  -999.00,9,  -999.00,9,  -999.00,9,   1022,-999.000,  -999.0,  3.9274
     32MW066_1,  PRS2,     2, 12,     18,     18,2,19950928,0257, 22.8240,-157.9827, 4690,      5.2,  26.8480,  34.8976,2,  34.8977,2,    201.2,2,   -999.0,5,  -999.00,9,  -999.00,9,  -999.00,9,      5,-999.000,  -999.0, 26.8468
     32MW066_1,  PRS2,     2, 12,     17,     17,2,19950928,0257, 22.8240,-157.9827, 4690,     14.8,  26.8498,  34.8969,2,  34.8969,2,    201.3,2,    203.9,6,  -999.00,9,  -999.00,9,  -999.00,9,     16,-999.000,  -999.0, 26.8464
     32MW066_1,  PRS2,     2, 12,     16,     16,2,19950928,0257, 22.8240,-157.9827, 4690,     24.3,  26.8241,  34.8967,2,  34.8982,2,    201.4,2,   -999.0,5,  -999.00,9,  -999.00,9,  -999.00,9,     25,-999.000,  -999.0, 26.8186
     32MW066_1,  PRS2,     2, 12,     15,     15,2,19950928,0257, 22.8240,-157.9827, 4690,     43.3,  25.7207,  34.9345,2,  34.9246,2,    212.5,2,   -999.0,5,  -999.00,9,  -999.00,9,  -999.00,9,     44,-999.000,  -999.0, 25.7111
     32MW066_1,  PRS2,     2, 12,     14,     14,2,19950928,0257, 22.8240,-157.9827, 4690,     73.8,  22.7161,  35.1230,2,  35.1216,2,    224.7,2,   -999.0,5,  -999.00,9,  -999.00,9,  -999.00,9,     75,-999.000,  -999.0, 22.7012
     32MW066_1,  PRS2,     2, 12,     13,     13,2,19950928,0257, 22.8240,-157.9827, 4690,     98.8,  20.8626,  35.1438,2,  35.1451,2,    212.0,2,   -999.0,5,  -999.00,9,  -999.00,9,  -999.00,9,    101,-999.000,  -999.0, 20.8438
     32MW066_1,  PRS2,     2, 12,     12,     12,2,19950928,0257, 22.8240,-157.9827, 4690,    125.4,  19.5372,  35.0803,2,  35.0811,2,    203.6,2,   -999.0,5,  -999.00,9,  -999.00,9,  -999.00,9,    126,-999.000,  -999.0, 19.5144
     32MW066_1,  PRS2,     2, 12,     11,     11,2,19950928,0257, 22.8240,-157.9827, 4690,    150.9,  18.8969,  35.0207,2,  35.0235,2,    196.1,2,   -999.0,5,  -999.00,9,  -999.00,9,  -999.00,9,    150,-999.000,  -999.0, 18.8701
     32MW066_1,  PRS2,     2, 12,     10,     32,2,19950928,0257, 22.8240,-157.9827, 4690,    174.3,  18.0590,  34.9577,2,  34.9633,2,    204.0,2,   -999.0,5,  -999.00,9,  -999.00,9,  -999.00,9,    174,-999.000,  -999.0, 18.0290
     32MW066_1,  PRS2,     2, 12,      9,      3,2,19950928,0257, 22.8240,-157.9827, 4690,    180.0,  17.9822,  34.9481,2,  34.9487,2,    205.9,2,    209.1,6,  -999.00,9,  -999.00,9,  -999.00,9,    180,-999.000,  -999.0, 17.9513
     32MW066_1,  PRS2,     2, 12,      8,     29,2,19950928,0257, 22.8240,-157.9827, 4690,    198.7,  17.5791,  34.8905,2,  34.8950,2,    204.8,2,    208.2,6,  -999.00,9,  -999.00,9,  -999.00,9,    200,-999.000,  -999.0, 17.5455
     32MW066_1,  PRS2,     2, 12,      7,     28,2,19950928,0257, 22.8240,-157.9827, 4690,    219.9,  16.6338,  34.7532,2,  34.7596,2,    195.0,2,    203.7,6,  -999.00,9,  -999.00,9,  -999.00,9,    221,-999.000,  -999.0, 16.5981
     32MW066_1,  PRS2,     2, 12,      6,      7,2,19950928,0257, 22.8240,-157.9827, 4690,    251.4,  15.1111,  34.5670,2,  34.5703,2,    190.5,2,    200.4,6,  -999.00,9,  -999.00,9,  -999.00,9,    252,-999.000,  -999.0, 15.0729
     32MW066_1,  PRS2,     2, 12,      5,     23,2,19950928,0257, 22.8240,-157.9827, 4690,    300.3,  12.5812,  34.3001,2,  34.3169,2,    187.3,2,    199.5,6,  -999.00,9,  -999.00,9,  -999.00,9,    302,-999.000,  -999.0, 12.5409
     32MW066_1,  PRS2,     2, 12,      4,     36,2,19950928,0257, 22.8240,-157.9827, 4690,    399.3,   9.5488,  34.1046,2,  34.1043,2,    178.4,2,    192.0,6,  -999.00,9,  -999.00,9,  -999.00,9,    399,-999.000,  -999.0,  9.5038
     32MW066_1,  PRS2,     2, 12,      3,     35,2,19950928,0257, 22.8240,-157.9827, 4690,    479.2,   7.5076,  34.0431,2,  34.0441,2,    121.0,2,   -999.0,5,  -999.00,9,  -999.00,9,  -999.00,9,    480,-999.000,  -999.0,  7.4607
     32MW066_1,  PRS2,     2, 12,      2,     34,2,19950928,0257, 22.8240,-157.9827, 4690,    748.7,   4.7028,  34.2865,2,  34.2867,2,     20.6,2,   -999.0,5,  -999.00,9,  -999.00,9,  -999.00,9,    747,-999.000,  -999.0,  4.6438
     32MW066_1,  PRS2,     2, 12,      1,     33,2,19950928,0257, 22.8240,-157.9827, 4690,   1021.2,   3.9854,  34.5006,2,  34.5009,2,     33.5,2,   -999.0,5,  -999.00,9,  -999.00,9,  -999.00,9,   1022,-999.000,  -999.0,  3.9081
     32MW066_1,  PRS2,     2, 13,     13,     13,2,19950928,0601, 22.8312,-158.0007, 4690,      5.3,  26.8031,  34.9001,2,  34.9017,2,    199.9,1,   -999.0,9,  -999.00,9,  -999.00,9,  -999.00,9,      5,-999.000,  -999.0, 26.8019
     32MW066_1,  PRS2,     2, 13,     12,     12,2,19950928,0601, 22.8312,-158.0007, 4690,     25.0,  26.8036,  34.8992,2,  34.8999,2,    199.9,1,   -999.0,9,  -999.00,9,  -999.00,9,  -999.00,9,     25,-999.000,  -999.0, 26.7979
     32MW066_1,  PRS2,     2, 13,     11,     11,2,19950928,0601, 22.8312,-158.0007, 4690,    115.3,  21.1074,  35.1535,2,  35.1520,2,    212.0,1,   -999.0,9,  -999.00,9,  -999.00,9,  -999.00,9,    116,-999.000,  -999.0, 21.0853
     32MW066_1,  PRS2,     2, 13,     10,     32,2,19950928,0601, 22.8312,-158.0007, 4690,    124.6,  20.2497,  35.1455,2,  35.1451,2,    206.1,1,   -999.0,9,  -999.00,9,  -999.00,9,  -999.00,9,    124,-999.000,  -999.0, 20.2264
     32MW066_1,  PRS2,     2, 13,      9,      3,2,19950928,0601, 22.8312,-158.0007, 4690,    134.1,  19.7269,  35.1028,2,  35.1029,2,    199.0,1,   -999.0,9,  -999.00,9,  -999.00,9,  -999.00,9,    136,-999.000,  -999.0, 19.7024
     32MW066_1,  PRS2,     2, 13,      8,     29,2,19950928,0601, 22.8312,-158.0007, 4690,    149.2,  19.2258,  35.0529,2,  35.0615,2,    191.2,1,   -999.0,9,  -999.00,9,  -999.00,9,  -999.00,9,    148,-999.000,  -999.0, 19.1990
     32MW066_1,  PRS2,     2, 13,      7,     28,2,19950928,0601, 22.8312,-158.0007, 4690,    160.1,  18.9242,  35.0236,2,  35.0261,2,    196.2,1,   -999.0,9,  -999.00,9,  -999.00,9,  -999.00,9,    161,-999.000,  -999.0, 18.8958
     32MW066_1,  PRS2,     2, 13,      6,      7,2,19950928,0601, 22.8312,-158.0007, 4690,    175.3,  18.5262,  34.9943,2,  34.9867,2,    209.0,1,   -999.0,9,  -999.00,9,  -999.00,9,  -999.00,9,    176,-999.000,  -999.0, 18.4955
     32MW066_1,  PRS2,     2, 13,      5,     23,2,19950928,0601, 22.8312,-158.0007, 4690,    185.2,  18.1062,  34.9629,2,  34.9635,2,    203.4,1,   -999.0,9,  -999.00,9,  -999.00,9,  -999.00,9,    186,-999.000,  -999.0, 18.0743
     32MW066_1,  PRS2,     2, 13,      4,     36,2,19950928,0601, 22.8312,-158.0007, 4690,    489.6,   7.3866,  34.0405,2,  34.0392,2,    113.4,1,   -999.0,9,  -999.00,9,  -999.00,9,  -999.00,9,    490,-999.000,  -999.0,  7.3391
     32MW066_1,  PRS2,     2, 13,      3,     35,2,19950928,0601, 22.8312,-158.0007, 4690,    509.2,   7.0264,  34.0398,2,  34.0388,2,    106.4,1,   -999.0,9,  -999.00,9,  -999.00,9,  -999.00,9,    510,-999.000,  -999.0,  6.9783
     32MW066_1,  PRS2,     2, 13,      2,     34,2,19950928,0601, 22.8312,-158.0007, 4690,    752.5,   4.7615,  34.2880,2,  34.2886,2,     19.1,1,   -999.0,9,  -999.00,9,  -999.00,9,  -999.00,9,    754,-999.000,  -999.0,  4.7018
     32MW066_1,  PRS2,     2, 13,      1,     33,2,19950928,0601, 22.8312,-158.0007, 4690,   1024.8,   3.9252,  34.5070,2,  34.5073,2,     34.9,1,   -999.0,9,  -999.00,9,  -999.00,9,  -999.00,9,   1025,-999.000,  -999.0,  3.8481
     32MW066_1,  PRS2,     2, 14,     18,     18,2,19950928,0901, 22.8002,-157.9760, 4700,      4.9,  26.8975,  34.9004,2,  34.8994,2,    202.0,1,   -999.0,9,  -999.00,9,  -999.00,9,  -999.00,9,      6,-999.000,  -999.0, 26.8964
     32MW066_1,  PRS2,     2, 14,     19,     19,2,19950928,0901, 22.8002,-157.9760, 4700,      5.0,  26.8981,  34.9004,2,-999.0000,5,    202.0,1,   -999.0,9,  -999.00,9,  -999.00,9,  -999.00,9,      6,-999.000,  -999.0, 26.8970
     32MW066_1,  PRS2,     2, 14,     17,     17,2,19950928,0901, 22.8002,-157.9760, 4700,     16.0,  26.9089,  34.8996,2,  34.8992,2,    201.7,1,   -999.0,9,  -999.00,9,  -999.00,9,  -999.00,9,     17,-999.000,  -999.0, 26.9052
     32MW066_1,  PRS2,     2, 14,     16,     16,2,19950928,0901, 22.8002,-157.9760, 4700,     24.8,  26.9085,  34.8995,2,  34.8992,2,    201.5,1,   -999.0,9,  -999.00,9,  -999.00,9,  -999.00,9,     25,-999.000,  -999.0, 26.9028
     32MW066_1,  PRS2,     2, 14,     15,     15,2,19950928,0901, 22.8002,-157.9760, 4700,     34.9,  26.9113,  34.8997,2,  34.8988,2,    201.2,1,   -999.0,9,  -999.00,9,  -999.00,9,  -999.00,9,     35,-999.000,  -999.0, 26.9033
     32MW066_1,  PRS2,     2, 14,     14,     14,2,19950928,0901, 22.8002,-157.9760, 4700,     44.2,  26.2669,  34.9011,2,  34.9014,2,    207.2,1,   -999.0,9,  -999.00,9,  -999.00,9,  -999.00,9,     45,-999.000,  -999.0, 26.2570
     32MW066_1,  PRS2,     2, 14,     13,     13,2,19950928,0901, 22.8002,-157.9760, 4700,     54.7,  25.7469,  34.9388,2,  34.9365,2,    212.5,1,   -999.0,9,  -999.00,9,  -999.00,9,  -999.00,9,     56,-999.000,  -999.0, 25.7347
     32MW066_1,  PRS2,     2, 14,     12,     12,2,19950928,0901, 22.8002,-157.9760, 4700,     64.5,  24.2841,  35.0692,2,  35.0712,2,    222.8,1,   -999.0,9,  -999.00,9,  -999.00,9,  -999.00,9,     65,-999.000,  -999.0, 24.2704
     32MW066_1,  PRS2,     2, 14,     11,     11,2,19950928,0901, 22.8002,-157.9760, 4700,     74.6,  22.9081,  35.0920,2,  35.0882,2,    218.1,1,   -999.0,9,  -999.00,9,  -999.00,9,  -999.00,9,     74,-999.000,  -999.0, 22.8929
     32MW066_1,  PRS2,     2, 14,     10,     32,2,19950928,0901, 22.8002,-157.9760, 4700,     94.1,  21.3010,  35.1477,2,  35.1481,2,    211.1,1,   -999.0,9,  -999.00,9,  -999.00,9,  -999.00,9,     94,-999.000,  -999.0, 21.2828
     32MW066_1,  PRS2,     2, 14,      9,      3,2,19950928,0901, 22.8002,-157.9760, 4700,     99.3,  21.0528,  35.1456,2,  35.1452,2,    209.6,1,   -999.0,9,  -999.00,9,  -999.00,9,  -999.00,9,    101,-999.000,  -999.0, 21.0338
     32MW066_1,  PRS2,     2, 14,      8,     29,2,19950928,0901, 22.8002,-157.9760, 4700,    110.7,  19.9115,  35.1137,2,  35.1147,2,    200.0,1,   -999.0,9,  -999.00,9,  -999.00,9,  -999.00,9,    112,-999.000,  -999.0, 19.8911
     32MW066_1,  PRS2,     2, 14,      7,     28,2,19950928,0901, 22.8002,-157.9760, 4700,    124.9,  19.3458,  35.0600,2,  35.0626,2,    190.0,1,   -999.0,9,  -999.00,9,  -999.00,9,  -999.00,9,    126,-999.000,  -999.0, 19.3233
     32MW066_1,  PRS2,     2, 14,      6,      7,2,19950928,0901, 22.8002,-157.9760, 4700,    149.7,  18.4404,  35.0001,2,  35.0005,2,    199.3,1,   -999.0,9,  -999.00,9,  -999.00,9,  -999.00,9,    150,-999.000,  -999.0, 18.4142
     32MW066_1,  PRS2,     2, 14,      5,     23,2,19950928,0901, 22.8002,-157.9760, 4700,    174.3,  17.6212,  34.8980,2,  34.9034,2,    206.4,1,   -999.0,9,  -999.00,9,  -999.00,9,  -999.00,9,    176,-999.000,  -999.0, 17.5917
     32MW066_1,  PRS2,     2, 14,      4,     36,2,19950928,0901, 22.8002,-157.9760, 4700,    249.6,  13.4336,  34.3843,2,  34.3842,2,    187.0,1,   -999.0,9,  -999.00,9,  -999.00,9,  -999.00,9,    250,-999.000,  -999.0, 13.3986
     32MW066_1,  PRS2,     2, 14,      3,     35,2,19950928,0901, 22.8002,-157.9760, 4700,    500.0,   7.1775,  34.0562,2,  34.0547,2,    106.9,1,   -999.0,9,  -999.00,9,  -999.00,9,  -999.00,9,    501,-999.000,  -999.0,  7.1297
     32MW066_1,  PRS2,     2, 14,      2,     34,2,19950928,0901, 22.8002,-157.9760, 4700,    750.1,   4.9250,  34.3040,2,  34.3029,2,     13.2,1,   -999.0,9,  -999.00,9,  -999.00,9,  -999.00,9,    752,-999.000,  -999.0,  4.8646
     32MW066_1,  PRS2,     2, 14,      1,     33,2,19950928,0901, 22.8002,-157.9760, 4700,   1016.7,   4.1054,  34.4916,2,  34.4911,2,     29.1,1,   -999.0,9,  -999.00,9,  -999.00,9,  -999.00,9,   1017,-999.000,  -999.0,  4.0275