BOTTLE,20020809WHPSIObren
EXPOCODE,SECT_ID,STNNBR,CASTNO,SAMPNO,BTLNBR,BTLNBR_FLAG_W,DATE,TIME,LATITUDE,LONGITUDE,DEPTH,CTDPRS,CTDTMP,CTDSAL,CTDSAL_FLAG_W,SALNTY,SALNTY_FLAG_W,CTDOXY,CTDOXY_FLAG_W,OXYGEN,OXYGEN_FLAG_W,SILCAT,SILCAT_FLAG_W,NO2+NO3,NO2+NO3_FLAG_W,PHSPHT,PHSPHT_FLAG_W,CTDRAW,REVTMP,REVPRS,THETA
,,,,,,,,,,,,DBAR,ITS-90,PSS-78,,PSS-78,,UMOL/KG,,UMOL/KG,,UMOL/KG,,UMOL/KG,,UMOL/KG,,,DEG C,DBAR,ITS-90
     32MW066_1,  PRS2,     2, 15,     16,     16,2,19950928,1314, 22.8293,-158.0253, 4710,      3.9,  26.7079,  34.9094,2,  34.9084,2,    200.8,1,   -999.0,9,  -999.00,9,  -999.00,9,  -999.00,9,      4,-999.000,  -999.0, 26.7070
     32MW066_1,  PRS2,     2, 15,     17,     17,2,19950928,1314, 22.8293,-158.0253, 4710,      4.0,  26.7079,  34.9094,2,-999.0000,5,    200.7,1,   -999.0,9,  -999.00,9,  -999.00,9,  -999.00,9,      5,-999.000,  -999.0, 26.7070
     32MW066_1,  PRS2,     2, 15,     15,     15,2,19950928,1314, 22.8293,-158.0253, 4710,      9.8,  26.7019,  34.9088,2,  34.9087,2,    200.8,1,   -999.0,9,  -999.00,9,  -999.00,9,  -999.00,9,     10,-999.000,  -999.0, 26.6997
     32MW066_1,  PRS2,     2, 15,     14,     14,2,19950928,1314, 22.8293,-158.0253, 4710,     19.6,  26.7048,  34.9084,2,  34.9082,2,    201.1,1,   -999.0,9,  -999.00,9,  -999.00,9,  -999.00,9,     20,-999.000,  -999.0, 26.7003
     32MW066_1,  PRS2,     2, 15,     13,     13,4,19950928,1314, 22.8293,-158.0253, 4710,     23.9,  26.6902,  34.9081,2,-999.0000,5,    201.4,1,   -999.0,9,  -999.00,9,  -999.00,9,  -999.00,9,     24,-999.000,  -999.0, 26.6847
     32MW066_1,  PRS2,     2, 15,     12,     12,2,19950928,1314, 22.8293,-158.0253, 4710,     29.7,  26.6526,  34.9086,2,  34.9082,2,    201.7,1,   -999.0,9,  -999.00,9,  -999.00,9,  -999.00,9,     30,-999.000,  -999.0, 26.6459
     32MW066_1,  PRS2,     2, 15,     11,     11,2,19950928,1314, 22.8293,-158.0253, 4710,     39.6,  26.0312,  34.9176,2,  34.9174,2,    207.7,1,   -999.0,9,  -999.00,9,  -999.00,9,  -999.00,9,     40,-999.000,  -999.0, 26.0223
     32MW066_1,  PRS2,     2, 15,     10,     32,2,19950928,1314, 22.8293,-158.0253, 4710,     49.5,  23.0493,  35.0559,2,  35.0533,2,    217.3,1,   -999.0,9,  -999.00,9,  -999.00,9,  -999.00,9,     50,-999.000,  -999.0, 23.0392
     32MW066_1,  PRS2,     2, 15,      9,      3,2,19950928,1314, 22.8293,-158.0253, 4710,     74.3,  21.3685,  35.1501,2,  35.1519,2,    218.0,1,   -999.0,9,  -999.00,9,  -999.00,9,  -999.00,9,     75,-999.000,  -999.0, 21.3541
     32MW066_1,  PRS2,     2, 15,      8,     29,2,19950928,1314, 22.8293,-158.0253, 4710,     99.1,  20.1907,  35.1453,2,  35.1508,2,    205.2,1,   -999.0,9,  -999.00,9,  -999.00,9,  -999.00,9,    100,-999.000,  -999.0, 20.1723
     32MW066_1,  PRS2,     2, 15,      7,     28,2,19950928,1314, 22.8293,-158.0253, 4710,    149.3,  18.4543,  34.9878,2,  34.9867,2,    202.9,1,   -999.0,9,  -999.00,9,  -999.00,9,  -999.00,9,    149,-999.000,  -999.0, 18.4282
     32MW066_1,  PRS2,     2, 15,      6,      7,2,19950928,1314, 22.8293,-158.0253, 4710,    199.3,  17.0498,  34.8188,2,  34.8248,2,    198.1,1,   -999.0,9,  -999.00,9,  -999.00,9,  -999.00,9,    199,-999.000,  -999.0, 17.0169
     32MW066_1,  PRS2,     2, 15,      5,     23,2,19950928,1314, 22.8293,-158.0253, 4710,    250.1,  15.1231,  34.5657,2,  34.5827,2,    194.3,1,   -999.0,9,  -999.00,9,  -999.00,9,  -999.00,9,    252,-999.000,  -999.0, 15.0851
     32MW066_1,  PRS2,     2, 15,      4,     36,2,19950928,1314, 22.8293,-158.0253, 4710,    300.0,  12.7168,  34.3228,2,  34.3225,2,    187.5,1,   -999.0,9,  -999.00,9,  -999.00,9,  -999.00,9,    300,-999.000,  -999.0, 12.6762
     32MW066_1,  PRS2,     2, 15,      3,     35,2,19950928,1314, 22.8293,-158.0253, 4710,    479.3,   7.2224,  34.0402,2,  34.0398,2,    104.2,1,   -999.0,9,  -999.00,9,  -999.00,9,  -999.00,9,    479,-999.000,  -999.0,  7.1765
     32MW066_1,  PRS2,     2, 15,      2,     34,2,19950928,1314, 22.8293,-158.0253, 4710,    749.7,   4.8396,  34.3342,2,  34.3329,2,     13.9,1,   -999.0,9,  -999.00,9,  -999.00,9,  -999.00,9,    750,-999.000,  -999.0,  4.7796
     32MW066_1,  PRS2,     2, 15,      1,     33,2,19950928,1314, 22.8293,-158.0253, 4710,   1020.6,   4.0402,  34.4963,2,  34.4959,2,     26.2,1,   -999.0,9,  -999.00,9,  -999.00,9,  -999.00,9,   1021,-999.000,  -999.0,  3.9625
     32MW066_1,  PRS2,     2, 16,     12,     12,2,19950928,1559, 22.7580,-157.9872, 4715,      4.3,  26.9673,  34.9006,2,  34.9007,2,    197.1,1,   -999.0,9,  -999.00,9,  -999.00,9,  -999.00,9,      4,-999.000,  -999.0, 26.9663
     32MW066_1,  PRS2,     2, 16,     11,     11,2,19950928,1559, 22.7580,-157.9872, 4715,     25.0,  26.9694,  34.8997,2,  34.9006,2,    197.0,1,   -999.0,9,  -999.00,9,  -999.00,9,  -999.00,9,     26,-999.000,  -999.0, 26.9637
     32MW066_1,  PRS2,     2, 16,     10,     32,2,19950928,1559, 22.7580,-157.9872, 4715,     45.5,  26.8774,  34.9013,2,  34.9007,2,    197.8,1,   -999.0,9,  -999.00,9,  -999.00,9,  -999.00,9,     46,-999.000,  -999.0, 26.8670
     32MW066_1,  PRS2,     2, 16,      9,      3,2,19950928,1559, 22.7580,-157.9872, 4715,     74.6,  23.2975,  35.0272,2,  35.0285,2,    217.5,1,   -999.0,9,  -999.00,9,  -999.00,9,  -999.00,9,     75,-999.000,  -999.0, 23.2822
     32MW066_1,  PRS2,     2, 16,      8,     29,2,19950928,1559, 22.7580,-157.9872, 4715,     99.3,  21.6996,  35.1363,2,  35.1333,2,    211.7,1,   -999.0,9,  -999.00,9,  -999.00,9,  -999.00,9,     99,-999.000,  -999.0, 21.6801
     32MW066_1,  PRS2,     2, 16,      7,     28,2,19950928,1559, 22.7580,-157.9872, 4715,    125.2,  20.2457,  35.1327,2,  35.1346,2,    192.1,1,   -999.0,9,  -999.00,9,  -999.00,9,  -999.00,9,    126,-999.000,  -999.0, 20.2223
     32MW066_1,  PRS2,     2, 16,      6,      7,2,19950928,1559, 22.7580,-157.9872, 4715,    149.2,  19.0587,  35.0562,2,  35.0586,2,    195.2,1,   -999.0,9,  -999.00,9,  -999.00,9,  -999.00,9,    150,-999.000,  -999.0, 19.0320
     32MW066_1,  PRS2,     2, 16,      5,     23,2,19950928,1559, 22.7580,-157.9872, 4715,    174.5,  18.4899,  35.0085,2,  35.0107,2,    204.5,1,   -999.0,9,  -999.00,9,  -999.00,9,  -999.00,9,    175,-999.000,  -999.0, 18.4593
     32MW066_1,  PRS2,     2, 16,      4,     36,2,19950928,1559, 22.7580,-157.9872, 4715,    250.0,  15.1466,  34.5689,2,  34.5719,2,    186.6,1,   -999.0,9,  -999.00,9,  -999.00,9,  -999.00,9,    251,-999.000,  -999.0, 15.1085
     32MW066_1,  PRS2,     2, 16,      3,     35,2,19950928,1559, 22.7580,-157.9872, 4715,    509.4,   7.2048,  34.0452,2,  34.0436,2,    102.1,1,   -999.0,9,  -999.00,9,  -999.00,9,  -999.00,9,    510,-999.000,  -999.0,  7.1560
     32MW066_1,  PRS2,     2, 16,      2,     34,2,19950928,1559, 22.7580,-157.9872, 4715,    750.1,   4.9744,  34.3447,2,  34.3478,2,     14.9,1,   -999.0,9,  -999.00,9,  -999.00,9,  -999.00,9,    750,-999.000,  -999.0,  4.9136
     32MW066_1,  PRS2,     2, 16,      1,     33,2,19950928,1559, 22.7580,-157.9872, 4715,   1018.9,   4.0406,  34.5022,2,  34.5014,2,     29.6,1,   -999.0,9,  -999.00,9,  -999.00,9,  -999.00,9,   1018,-999.000,  -999.0,  3.9630
     32MW066_1,  PRS2,     6,  1,     16,     16,2,19950926,0426, 21.8467,-158.3630, 2470,      4.5,  27.5950,  34.7552,2,  34.7545,2,    204.6,2,   -999.0,5,  -999.00,9,  -999.00,9,  -999.00,9,      5,-999.000,  -999.0, 27.5940
     32MW066_1,  PRS2,     6,  1,     15,     15,2,19950926,0426, 21.8467,-158.3630, 2470,      9.3,  27.6066,  34.7546,2,  34.7553,2,    205.0,2,    204.4,2,  -999.00,9,  -999.00,9,  -999.00,9,     10,-999.000,  -999.0, 27.6044
     32MW066_1,  PRS2,     6,  1,     14,     14,2,19950926,0426, 21.8467,-158.3630, 2470,     24.6,  27.6081,  34.7560,2,  34.7537,2,    205.3,2,   -999.0,5,  -999.00,9,  -999.00,9,  -999.00,9,     25,-999.000,  -999.0, 27.6023
     32MW066_1,  PRS2,     6,  1,     13,     13,2,19950926,0426, 21.8467,-158.3630, 2470,     44.2,  25.8397,  34.6502,2,  34.6544,2,    208.2,2,   -999.0,5,  -999.00,9,  -999.00,9,  -999.00,9,     45,-999.000,  -999.0, 25.8299
     32MW066_1,  PRS2,     6,  1,     12,     12,2,19950926,0426, 21.8467,-158.3630, 2470,     59.4,  24.5840,  34.7697,2,  34.7670,2,    211.8,2,   -999.0,5,  -999.00,9,  -999.00,9,  -999.00,9,     60,-999.000,  -999.0, 24.5713
     32MW066_1,  PRS2,     6,  1,     11,     11,2,19950926,0426, 21.8467,-158.3630, 2470,     75.0,  23.2851,  34.9276,2,  34.9303,2,    205.6,2,   -999.0,5,  -999.00,9,  -999.00,9,  -999.00,9,     76,-999.000,  -999.0, 23.2696
     32MW066_1,  PRS2,     6,  1,     10,     32,2,19950926,0426, 21.8467,-158.3630, 2470,     94.9,  23.1636,  34.9590,2,  34.9547,2,    210.1,2,    211.5,2,  -999.00,9,  -999.00,9,  -999.00,9,     94,-999.000,  -999.0, 23.1441
     32MW066_1,  PRS2,     6,  1,      9,      3,2,19950926,0426, 21.8467,-158.3630, 2470,    105.4,  22.9499,  34.9956,2,  34.9890,2,    210.9,2,   -999.0,5,  -999.00,9,  -999.00,9,  -999.00,9,    105,-999.000,  -999.0, 22.9284
     32MW066_1,  PRS2,     6,  1,      8,     29,2,19950926,0426, 21.8467,-158.3630, 2470,    114.7,  22.7355,  35.0890,2,  35.0924,2,    206.6,2,   -999.0,5,  -999.00,9,  -999.00,9,  -999.00,9,    115,-999.000,  -999.0, 22.7123
     32MW066_1,  PRS2,     6,  1,      7,     28,2,19950926,0426, 21.8467,-158.3630, 2470,    125.0,  22.6189,  35.1060,2,  35.1076,2,    214.2,2,   -999.0,5,  -999.00,9,  -999.00,9,  -999.00,9,    126,-999.000,  -999.0, 22.5937
     32MW066_1,  PRS2,     6,  1,      6,      7,2,19950926,0426, 21.8467,-158.3630, 2470,    150.2,  21.3017,  35.1622,2,  35.1607,2,    208.8,2,   -999.0,5,  -999.00,9,  -999.00,9,  -999.00,9,    151,-999.000,  -999.0, 21.2726
     32MW066_1,  PRS2,     6,  1,      5,     23,2,19950926,0426, 21.8467,-158.3630, 2470,    174.7,  19.8177,  35.1004,2,  35.0971,2,    203.6,2,   -999.0,5,  -999.00,9,  -999.00,9,  -999.00,9,    175,-999.000,  -999.0, 19.7856
     32MW066_1,  PRS2,     6,  1,      4,     36,2,19950926,0426, 21.8467,-158.3630, 2470,    200.0,  18.7541,  34.9915,2,  34.9903,2,    206.6,2,   -999.0,5,  -999.00,9,  -999.00,9,  -999.00,9,    199,-999.000,  -999.0, 18.7188
     32MW066_1,  PRS2,     6,  1,      3,     35,2,19950926,0426, 21.8467,-158.3630, 2470,    453.5,   8.3060,  34.1044,2,  34.1109,2,    138.7,2,    140.2,2,  -999.00,9,  -999.00,9,  -999.00,9,    453,-999.000,  -999.0,  8.2589
     32MW066_1,  PRS2,     6,  1,      2,     34,2,19950926,0426, 21.8467,-158.3630, 2470,    749.8,   5.0055,  34.4033,2,  34.4011,2,     31.2,2,     31.3,2,  -999.00,9,  -999.00,9,  -999.00,9,    750,-999.000,  -999.0,  4.9445
     32MW066_1,  PRS2,     6,  1,      1,     33,2,19950926,0426, 21.8467,-158.3630, 2470,   2483.0,   1.7788,  34.6498,2,  34.6493,2,    109.4,2,    109.4,2,  -999.00,9,  -999.00,9,  -999.00,9,   2482,-999.000,  -999.0,  1.6042