BOTTLE,20010427WHPSIOKJU
#code : jjward hyd_to_exchange.pl 
#original files copied from HTML directory: 20010427
#original HYD file: pr16_khy.txt   Fri Dec 10 12:00:29 1999
#original SUM file: pr16_ksu.txt   Mon Nov 22 15:01:28 1999
EXPOCODE,SECT_ID,STNNBR,CASTNO,SAMPNO,BTLNBR,BTLNBR_FLAG_W,DATE,TIME,LATITUDE,LONGITUDE,DEPTH,CTDPRS,CTDTMP,CTDSAL,CTDSAL_FLAG_W,SALNTY,SALNTY_FLAG_W,CTDOXY,CTDOXY_FLAG_W,OXYGEN,OXYGEN_FLAG_W
,,,,,,,,,,,,DBAR,ITS-90,PSS-78,,PSS-78,,UMOL/KG,,UMOL/KG,
   3175EP194_1,  PR16,    11,  1,     12,     12,2,19940426,2245, -4.9900,-110.0283, -999,      0.0,  27.4816,  35.0704,2,  35.0590,2,   -999.0,9,   -999.0,9
   3175EP194_1,  PR16,    11,  1,     11,     11,2,19940426,2245, -4.9900,-110.0283, -999,      0.0,  27.4816,  35.0690,2,  35.0620,2,   -999.0,9,   -999.0,9
   3175EP194_1,  PR16,    11,  1,     10,     10,2,19940426,2245, -4.9900,-110.0283, -999,      6.5,  27.4256,  35.0751,2,  35.0640,2,   -999.0,9,   -999.0,9
   3175EP194_1,  PR16,    11,  1,      9,      9,2,19940426,2245, -4.9900,-110.0283, -999,    109.5,  13.4369,  34.9782,2,  34.9740,2,   -999.0,9,   -999.0,9
   3175EP194_1,  PR16,    11,  1,      8,      8,2,19940426,2245, -4.9900,-110.0283, -999,    142.3,  12.8341,  34.9275,2,  34.9160,2,   -999.0,9,   -999.0,9
   3175EP194_1,  PR16,    11,  1,      7,      7,2,19940426,2245, -4.9900,-110.0283, -999,    240.7,  11.9935,  34.8791,2,  34.8680,2,   -999.0,9,   -999.0,9
   3175EP194_1,  PR16,    11,  1,      6,      6,2,19940426,2245, -4.9900,-110.0283, -999,    290.9,  11.5147,  34.8483,2,  34.8440,2,   -999.0,9,   -999.0,9
   3175EP194_1,  PR16,    11,  1,      5,      5,2,19940426,2245, -4.9900,-110.0283, -999,    390.5,   9.8905,  34.7553,2,  34.7560,2,   -999.0,9,   -999.0,9
   3175EP194_1,  PR16,    11,  1,      4,      4,2,19940426,2245, -4.9900,-110.0283, -999,    489.7,   8.1023,  34.6564,2,  34.6470,2,   -999.0,9,   -999.0,9
   3175EP194_1,  PR16,    11,  1,      3,      3,2,19940426,2245, -4.9900,-110.0283, -999,    590.7,   7.0387,  34.6004,2,  34.5990,2,   -999.0,9,   -999.0,9
   3175EP194_1,  PR16,    11,  1,      2,      2,2,19940426,2245, -4.9900,-110.0283, -999,    739.4,   5.8263,  34.5601,2,  34.5590,2,   -999.0,9,   -999.0,9
   3175EP194_1,  PR16,    11,  1,      1,      1,2,19940426,2245, -4.9900,-110.0283, -999,   1003.7,   4.4229,  34.5575,2,  34.5620,2,   -999.0,9,   -999.0,9
   3175EP194_1,  PR16,    12,  1,     12,     12,2,19940428,0148, -8.0033,-109.9750, -999,      0.0,  27.6255,  34.7936,2,  34.7760,2,   -999.0,9,   -999.0,9
   3175EP194_1,  PR16,    12,  1,     11,     11,2,19940428,0148, -8.0033,-109.9750, -999,      0.0,  27.6295,  34.7941,2,  34.7760,2,   -999.0,9,   -999.0,9
   3175EP194_1,  PR16,    12,  1,     10,     10,2,19940428,0148, -8.0033,-109.9750, -999,     92.5,  18.0348,  35.3393,2,  35.3230,2,   -999.0,9,   -999.0,9
   3175EP194_1,  PR16,    12,  1,      9,      9,2,19940428,0148, -8.0033,-109.9750, -999,    142.2,  13.5158,  34.9561,2,  34.9510,2,   -999.0,9,   -999.0,9
   3175EP194_1,  PR16,    12,  1,      8,      8,2,19940428,0148, -8.0033,-109.9750, -999,    192.2,  12.2284,  34.9224,2,  34.9130,2,   -999.0,9,   -999.0,9
   3175EP194_1,  PR16,    12,  1,      7,      7,2,19940428,0148, -8.0033,-109.9750, -999,    241.6,  11.6887,  34.8890,2,  34.8600,2,   -999.0,9,   -999.0,9
   3175EP194_1,  PR16,    12,  1,      6,      6,2,19940428,0148, -8.0033,-109.9750, -999,    290.7,  11.2748,  34.8634,2,  34.8330,2,   -999.0,9,   -999.0,9
   3175EP194_1,  PR16,    12,  1,      5,      5,2,19940428,0148, -8.0033,-109.9750, -999,    391.1,   9.9724,  34.7833,2,  34.7480,2,   -999.0,9,   -999.0,9
   3175EP194_1,  PR16,    12,  1,      4,      4,2,19940428,0148, -8.0033,-109.9750, -999,    490.0,   8.5441,  34.6958,2,  34.6650,2,   -999.0,9,   -999.0,9
   3175EP194_1,  PR16,    12,  1,      3,      3,2,19940428,0148, -8.0033,-109.9750, -999,    589.6,   7.2257,  34.6333,2,  34.6020,2,   -999.0,9,   -999.0,9
   3175EP194_1,  PR16,    12,  1,      2,      2,2,19940428,0148, -8.0033,-109.9750, -999,    739.0,   5.7353,  34.5909,2,  34.5580,2,   -999.0,9,   -999.0,9
   3175EP194_1,  PR16,    12,  1,      1,      1,2,19940428,0148, -8.0033,-109.9750, -999,    998.6,   4.4389,  34.5934,2,  34.5590,2,   -999.0,9,   -999.0,9