BOTTLE,20030310WHPSIODMB
#code : jjward hyd_to_exchange.pl 
#original files copied from HTML directory: 20030310
#original HYD file: pr16_ffhy.txt   Mon Mar 10 11:08:58 2003
#original SUM file: pr16_ffsu.txt   Mon Mar 10 11:12:10 2003
EXPOCODE,SECT_ID,STNNBR,CASTNO,SAMPNO,BTLNBR,BTLNBR_FLAG_W,DATE,TIME,LATITUDE,LONGITUDE,DEPTH,CTDPRS,CTDTMP,CTDSAL,CTDSAL_FLAG_W,SALNTY,SALNTY_FLAG_W,CTDOXY,CTDOXY_FLAG_W,OXYGEN,OXYGEN_FLAG_W,THETA
,,,,,,,,,,,,DBAR,ITS-90,PSS-78,,PSS-78,,UMOL/KG,,UMOL/KG,,DEG C
   33RBGP602_1,  PR16,    26,  1,     12,     12,2,20021025,2010, -8.0000,-110.1200, 3574,      2.5,  24.2787,  35.3154,2,  35.3154,2,   -999.0,9,   -999.0,9, 24.2781
   33RBGP602_1,  PR16,    26,  1,     11,     11,2,20021025,2010, -8.0000,-110.1200, 3574,     10.5,  24.2731,  35.3151,2,  35.3175,2,   -999.0,9,   -999.0,9, 24.2708
   33RBGP602_1,  PR16,    26,  1,     10,     10,2,20021025,2010, -8.0000,-110.1200, 3574,     25.2,  24.2384,  35.3187,2,  35.3186,2,   -999.0,9,   -999.0,9, 24.2330
   33RBGP602_1,  PR16,    26,  1,      9,      9,2,20021025,2010, -8.0000,-110.1200, 3574,     40.0,  24.2294,  35.3200,2,  35.3218,2,   -999.0,9,   -999.0,9, 24.2209
   33RBGP602_1,  PR16,    26,  1,      8,      8,2,20021025,2010, -8.0000,-110.1200, 3574,     60.3,  24.1590,  35.3327,2,  35.3463,2,   -999.0,9,   -999.0,9, 24.1462
   33RBGP602_1,  PR16,    26,  1,      7,      7,2,20021025,2010, -8.0000,-110.1200, 3574,    100.7,  21.2046,  35.8710,2,  35.8686,2,   -999.0,9,   -999.0,9, 21.1851
   33RBGP602_1,  PR16,    26,  1,      6,      6,2,20021025,2010, -8.0000,-110.1200, 3574,    150.2,  14.0127,  34.9521,2,  34.9797,2,   -999.0,9,   -999.0,9, 13.9911
   33RBGP602_1,  PR16,    26,  1,      5,      5,2,20021025,2010, -8.0000,-110.1200, 3574,    200.4,  12.2726,  34.8955,2,  34.8965,2,   -999.0,9,   -999.0,9, 12.2460
   33RBGP602_1,  PR16,    26,  1,      4,      4,2,20021025,2010, -8.0000,-110.1200, 3574,    400.9,   9.8110,  34.7334,2,  34.7347,2,   -999.0,9,   -999.0,9,  9.7647
   33RBGP602_1,  PR16,    26,  1,      3,      3,2,20021025,2010, -8.0000,-110.1200, 3574,    601.4,   7.5553,  34.6054,2,  34.6053,2,   -999.0,9,   -999.0,9,  7.4952
   33RBGP602_1,  PR16,    26,  1,      2,      2,2,20021025,2010, -8.0000,-110.1200, 3574,    800.2,   5.6329,  34.5396,2,  34.5419,2,   -999.0,9,   -999.0,9,  5.5635
   33RBGP602_1,  PR16,    26,  1,      1,      1,2,20021025,2010, -8.0000,-110.1200, 3574,    999.9,   4.5180,  34.5410,2,  34.5432,2,   -999.0,9,   -999.0,9,  4.4383
   33RBGP602_1,  PR16,    27,  1,     12,     12,2,20021027,2327, -4.9900,-110.0200, 3459,      1.7,  24.6155,  35.3078,2,  35.3098,2,   -999.0,9,   -999.0,9, 24.6151
   33RBGP602_1,  PR16,    27,  1,     11,     11,2,20021027,2327, -4.9900,-110.0200, 3459,     10.8,  24.5576,  35.3063,2,  35.3094,2,   -999.0,9,   -999.0,9, 24.5553
   33RBGP602_1,  PR16,    27,  1,      7,      7,2,20021027,2327, -4.9900,-110.0200, 3459,    100.3,  17.9816,  35.3239,2,  35.2780,2,   -999.0,9,   -999.0,9, 17.9644
   33RBGP602_1,  PR16,    27,  1,      6,      6,2,20021027,2327, -4.9900,-110.0200, 3459,    150.1,  13.1789,  34.9543,2,  34.9535,2,   -999.0,9,   -999.0,9, 13.1581
   33RBGP602_1,  PR16,    27,  1,      2,      2,2,20021027,2327, -4.9900,-110.0200, 3459,    800.3,   5.5493,  34.5409,2,  34.5437,2,   -999.0,9,   -999.0,9,  5.4803
   33RBGP602_1,  PR16,    27,  1,      1,      1,2,20021027,2327, -4.9900,-110.0200, 3459,   1000.9,   4.5518,  34.5442,2,  34.5485,2,   -999.0,9,   -999.0,9,  4.4718
   33RBGP602_1,  PR16,    28,  1,     12,     12,2,20021028,0527, -4.0033,-110.0017, 3705,      1.1,  24.5728,  35.2512,2,  35.2508,2,   -999.0,9,   -999.0,9, 24.5726
   33RBGP602_1,  PR16,    28,  1,     11,     11,2,20021028,0527, -4.0033,-110.0017, 3705,     10.1,  24.5835,  35.2533,2,  35.2544,2,   -999.0,9,   -999.0,9, 24.5813
   33RBGP602_1,  PR16,    28,  1,      7,      7,2,20021028,0527, -4.0033,-110.0017, 3705,    101.1,  15.2197,  35.0979,2,  35.1090,2,   -999.0,9,   -999.0,9, 15.2043
   33RBGP602_1,  PR16,    28,  1,      6,      6,2,20021028,0527, -4.0033,-110.0017, 3705,    150.4,  13.0238,  34.9263,2,  34.9267,2,   -999.0,9,   -999.0,9, 13.0031
   33RBGP602_1,  PR16,    28,  1,      2,      2,2,20021028,0527, -4.0033,-110.0017, 3705,    800.9,   5.2676,  34.5364,2,  34.5409,2,   -999.0,9,   -999.0,9,  5.2004
   33RBGP602_1,  PR16,    28,  1,      1,      1,2,20021028,0527, -4.0033,-110.0017, 3705,   1000.4,   4.3844,  34.5490,2,  34.5526,2,   -999.0,9,   -999.0,9,  4.3057
   33RBGP602_1,  PR16,    29,  1,     12,     12,2,20021028,1106, -3.0017,-110.0000, 3734,      2.0,  24.7718,  35.2856,2,  35.2877,2,   -999.0,9,   -999.0,9, 24.7713
   33RBGP602_1,  PR16,    29,  1,     11,     11,2,20021028,1106, -3.0017,-110.0000, 3734,      9.6,  24.7800,  35.2844,2,  35.2872,2,   -999.0,9,   -999.0,9, 24.7779
   33RBGP602_1,  PR16,    29,  1,      7,      7,2,20021028,1106, -3.0017,-110.0000, 3734,    101.2,  14.9089,  35.0454,2,  35.0477,2,   -999.0,9,   -999.0,9, 14.8937
   33RBGP602_1,  PR16,    29,  1,      6,      6,2,20021028,1106, -3.0017,-110.0000, 3734,    151.1,  13.3562,  34.9600,2,  34.9596,2,   -999.0,9,   -999.0,9, 13.3351
   33RBGP602_1,  PR16,    29,  1,      2,      2,2,20021028,1106, -3.0017,-110.0000, 3734,    800.2,   5.5212,  34.5475,2,  34.5518,2,   -999.0,9,   -999.0,9,  5.4524
   33RBGP602_1,  PR16,    29,  1,      1,      1,2,20021028,1106, -3.0017,-110.0000, 3734,   1000.5,   4.4083,  34.5478,2,  34.5522,2,   -999.0,9,   -999.0,9,  4.3294
   33RBGP602_1,  PR16,    30,  1,     12,     12,2,20021028,2317, -1.9733,-110.0017, 3935,      2.3,  24.9872,  35.2895,2,  35.2918,2,   -999.0,9,   -999.0,9, 24.9867
   33RBGP602_1,  PR16,    30,  1,     11,     11,2,20021028,2317, -1.9733,-110.0017, 3935,     10.4,  24.9809,  35.2880,2,  35.2900,2,   -999.0,9,   -999.0,9, 24.9786
   33RBGP602_1,  PR16,    30,  1,      7,      7,2,20021028,2317, -1.9733,-110.0017, 3935,    100.3,  15.9149,  35.0570,2,  35.0648,2,   -999.0,9,   -999.0,9, 15.8991
   33RBGP602_1,  PR16,    30,  1,      6,      6,2,20021028,2317, -1.9733,-110.0017, 3935,    150.3,  13.2707,  34.9527,2,  34.9551,2,   -999.0,9,   -999.0,9, 13.2498
   33RBGP602_1,  PR16,    30,  1,      2,      2,2,20021028,2317, -1.9733,-110.0017, 3935,    800.1,   5.5762,  34.5442,2,  34.5499,2,   -999.0,9,   -999.0,9,  5.5071
   33RBGP602_1,  PR16,    30,  1,      1,      1,2,20021028,2317, -1.9733,-110.0017, 3935,   1000.5,   4.5102,  34.5491,2,  34.5547,2,   -999.0,9,   -999.0,9,  4.4305
   33RBGP602_1,  PR16,    31,  1,     12,     12,2,20021029,0530, -1.0033,-110.0017, 3962,      1.5,  24.8479,  34.7183,2,  34.7210,2,   -999.0,9,   -999.0,9, 24.8476
   33RBGP602_1,  PR16,    31,  1,     11,     11,2,20021029,0530, -1.0033,-110.0017, 3962,      9.9,  24.8525,  34.7173,2,  34.7210,2,   -999.0,9,   -999.0,9, 24.8504
   33RBGP602_1,  PR16,    31,  1,      7,      7,2,20021029,0530, -1.0033,-110.0017, 3962,    100.0,  17.4575,  35.3138,2,  35.3006,2,   -999.0,9,   -999.0,9, 17.4407
   33RBGP602_1,  PR16,    31,  1,      6,      6,2,20021029,0530, -1.0033,-110.0017, 3962,    150.2,  13.6939,  35.0017,2,  35.0050,2,   -999.0,9,   -999.0,9, 13.6726
   33RBGP602_1,  PR16,    31,  1,      2,      2,2,20021029,0530, -1.0033,-110.0017, 3962,    800.4,   5.7994,  34.5512,2,  34.5545,2,   -999.0,9,   -999.0,9,  5.7289
   33RBGP602_1,  PR16,    31,  1,      1,      1,2,20021029,0530, -1.0033,-110.0017, 3962,   1000.8,   4.6067,  34.5508,2,  34.5575,2,   -999.0,9,   -999.0,9,  4.5262
   33RBGP602_1,  PR16,    32,  1,     12,     12,2,20021029,1611, -0.0600,-109.9267, 3806,      1.3,  25.3620,  34.5218,2,  34.5259,2,   -999.0,9,   -999.0,9, 25.3617
   33RBGP602_1,  PR16,    32,  1,     11,     11,2,20021029,1611, -0.0600,-109.9267, 3806,     11.7,  25.3336,  34.5198,2,  34.5253,2,   -999.0,9,   -999.0,9, 25.3311
   33RBGP602_1,  PR16,    32,  1,      7,      7,2,20021029,1611, -0.0600,-109.9267, 3806,    100.6,  19.6599,  34.9663,2,  34.9562,2,   -999.0,9,   -999.0,9, 19.6415
   33RBGP602_1,  PR16,    32,  1,      6,      6,2,20021029,1611, -0.0600,-109.9267, 3806,    149.3,  13.5833,  34.9468,2,  34.9491,2,   -999.0,9,   -999.0,9, 13.5622
   33RBGP602_1,  PR16,    32,  1,      2,      2,2,20021029,1611, -0.0600,-109.9267, 3806,    800.6,   5.6616,  34.5464,2,  34.5525,2,   -999.0,9,   -999.0,9,  5.5920
   33RBGP602_1,  PR16,    32,  1,      1,      1,2,20021029,1611, -0.0600,-109.9267, 3806,   1001.1,   4.4448,  34.5537,2,  34.5592,2,   -999.0,9,   -999.0,9,  4.3656
   33RBGP602_1,  PR16,    33,  1,     12,     12,2,20021030,1341,  0.9983,-110.0950, 3728,      1.8,  25.9501,  34.4853,2,  34.4902,2,   -999.0,9,   -999.0,9, 25.9497
   33RBGP602_1,  PR16,    33,  1,     11,     11,2,20021030,1341,  0.9983,-110.0950, 3728,     10.0,  25.9563,  34.4845,2,  34.4889,2,   -999.0,9,   -999.0,9, 25.9540
   33RBGP602_1,  PR16,    33,  1,      7,      7,2,20021030,1341,  0.9983,-110.0950, 3728,    100.3,  19.4042,  34.8496,2,  34.8739,2,   -999.0,9,   -999.0,9, 19.3861
   33RBGP602_1,  PR16,    33,  1,      6,      6,2,20021030,1341,  0.9983,-110.0950, 3728,    150.2,  13.4215,  34.9256,2,  34.9283,2,   -999.0,9,   -999.0,9, 13.4004
   33RBGP602_1,  PR16,    33,  1,      2,      2,2,20021030,1341,  0.9983,-110.0950, 3728,    799.8,   5.5321,  34.5478,2,  34.5534,2,   -999.0,9,   -999.0,9,  5.4633
   33RBGP602_1,  PR16,    33,  1,      1,      1,2,20021030,1341,  0.9983,-110.0950, 3728,   1000.2,   4.6106,  34.5567,2,  34.5628,2,   -999.0,9,   -999.0,9,  4.5301
   33RBGP602_1,  PR16,    34,  1,     12,     12,2,20021031,0241,  2.0617,-110.0467, 3726,      1.3,  26.0932,  34.5192,2,  34.5191,2,   -999.0,9,   -999.0,9, 26.0929
   33RBGP602_1,  PR16,    34,  1,     11,     11,2,20021031,0241,  2.0617,-110.0467, 3726,     10.9,  26.0514,  34.5161,2,  34.5164,2,   -999.0,9,   -999.0,9, 26.0490
   33RBGP602_1,  PR16,    34,  1,      7,      7,2,20021031,0241,  2.0617,-110.0467, 3726,    100.1,  15.4353,  34.9484,2,  34.9476,2,   -999.0,9,   -999.0,9, 15.4199
   33RBGP602_1,  PR16,    34,  1,      6,      6,2,20021031,0241,  2.0617,-110.0467, 3726,    150.5,  13.8082,  34.9594,2,  34.9537,2,   -999.0,9,   -999.0,9, 13.7867
   33RBGP602_1,  PR16,    34,  1,      2,      2,2,20021031,0241,  2.0617,-110.0467, 3726,    799.9,   5.2979,  34.5531,2,  34.5537,2,   -999.0,9,   -999.0,9,  5.2306
   33RBGP602_1,  PR16,    34,  1,      1,      1,2,20021031,0241,  2.0617,-110.0467, 3726,   1000.9,   4.2803,  34.5630,2,  34.5651,2,   -999.0,9,   -999.0,9,  4.2023
   33RBGP602_1,  PR16,    35,  1,     12,     12,2,20021031,0856,  3.0000,-110.0017, 3883,      2.4,  26.4586,  34.6290,2,  34.6333,2,   -999.0,9,   -999.0,9, 26.4581
   33RBGP602_1,  PR16,    35,  1,     11,     11,2,20021031,0856,  3.0000,-110.0017, 3883,     10.5,  26.4627,  34.6286,2,  34.6295,2,   -999.0,9,   -999.0,9, 26.4604
   33RBGP602_1,  PR16,    35,  1,      7,      7,2,20021031,0856,  3.0000,-110.0017, 3883,     99.8,  22.7765,  34.9191,2,  34.9308,2,   -999.0,9,   -999.0,9, 22.7563
   33RBGP602_1,  PR16,    35,  1,      6,      6,2,20021031,0856,  3.0000,-110.0017, 3883,    150.2,  13.7051,  34.9420,2,  34.9430,2,   -999.0,9,   -999.0,9, 13.6838
   33RBGP602_1,  PR16,    35,  1,      2,      2,2,20021031,0856,  3.0000,-110.0017, 3883,    800.6,   5.4641,  34.5548,2,  34.5554,2,   -999.0,9,   -999.0,9,  5.3956
   33RBGP602_1,  PR16,    35,  1,      1,      1,2,20021031,0856,  3.0000,-110.0017, 3883,   1000.8,   4.3435,  34.5662,2,  34.5688,2,   -999.0,9,   -999.0,9,  4.2650
   33RBGP602_1,  PR16,    36,  1,     12,     12,2,20021031,1437,  4.0000,-109.9983, 3876,      2.0,  26.8068,  34.6904,2,  34.6903,2,   -999.0,9,   -999.0,9, 26.8063
   33RBGP602_1,  PR16,    36,  1,     11,     11,2,20021031,1437,  4.0000,-109.9983, 3876,      9.9,  26.8084,  34.6899,2,  34.6903,2,   -999.0,9,   -999.0,9, 26.8061
   33RBGP602_1,  PR16,    36,  1,      7,      7,2,20021031,1437,  4.0000,-109.9983, 3876,    100.9,  22.4721,  34.9065,2,  34.9164,2,   -999.0,9,   -999.0,9, 22.4519
   33RBGP602_1,  PR16,    36,  1,      6,      6,2,20021031,1437,  4.0000,-109.9983, 3876,    150.5,  13.3077,  34.6587,2,  34.6633,2,   -999.0,9,   -999.0,9, 13.2868
   33RBGP602_1,  PR16,    36,  1,      2,      2,2,20021031,1437,  4.0000,-109.9983, 3876,    800.4,   5.3735,  34.5549,2,  34.5564,2,   -999.0,9,   -999.0,9,  5.3056
   33RBGP602_1,  PR16,    36,  1,      1,      1,2,20021031,1437,  4.0000,-109.9983, 3876,   1000.5,   4.4176,  34.5623,2,  34.5654,2,   -999.0,9,   -999.0,9,  4.3386
   33RBGP602_1,  PR16,    37,  1,     12,     12,2,20021101,0114,  5.0033,-110.0550, 3948,      1.3,  27.4319,  34.6466,2,  34.6481,2,   -999.0,9,   -999.0,9, 27.4316
   33RBGP602_1,  PR16,    37,  1,     11,     11,2,20021101,0114,  5.0033,-110.0550, 3948,     10.7,  27.4246,  34.6453,2,  34.6463,2,   -999.0,9,   -999.0,9, 27.4221
   33RBGP602_1,  PR16,    37,  1,      7,      7,2,20021101,0114,  5.0033,-110.0550, 3948,    100.4,  24.3065,  34.7667,2,  34.7817,2,   -999.0,9,   -999.0,9, 24.2852
   33RBGP602_1,  PR16,    37,  1,      6,      6,2,20021101,0114,  5.0033,-110.0550, 3948,    150.0,  12.6362,  34.7701,2,  34.7713,2,   -999.0,9,   -999.0,9, 12.6160
   33RBGP602_1,  PR16,    37,  1,      2,      2,2,20021101,0114,  5.0033,-110.0550, 3948,    800.6,   5.4494,  34.5577,2,  34.5605,2,   -999.0,9,   -999.0,9,  5.3810
   33RBGP602_1,  PR16,    37,  1,      1,      1,2,20021101,0114,  5.0033,-110.0550, 3948,    999.5,   4.4989,  34.5654,2,  34.5682,2,   -999.0,9,   -999.0,9,  4.4194
   33RBGP602_1,  PR16,    38,  1,     12,     12,2,20021101,0748,  5.9967,-110.1317, 3828,      2.2,  27.5218,  33.5008,2,  33.5009,2,   -999.0,9,   -999.0,9, 27.5213
   33RBGP602_1,  PR16,    38,  1,     11,     11,2,20021101,0748,  5.9967,-110.1317, 3828,     10.7,  27.5115,  33.4985,2,  33.5017,2,   -999.0,9,   -999.0,9, 27.5090
   33RBGP602_1,  PR16,    38,  1,      7,      7,2,20021101,0748,  5.9967,-110.1317, 3828,    101.0,  15.7722,  34.7602,2,  34.7646,2,   -999.0,9,   -999.0,9, 15.7565
   33RBGP602_1,  PR16,    38,  1,      6,      6,2,20021101,0748,  5.9967,-110.1317, 3828,    150.0,  13.0158,  34.8646,2,  34.8640,2,   -999.0,9,   -999.0,9, 12.9952
   33RBGP602_1,  PR16,    38,  1,      2,      2,2,20021101,0748,  5.9967,-110.1317, 3828,    802.7,   5.6846,  34.5604,2,  34.5637,2,   -999.0,9,   -999.0,9,  5.6146
   33RBGP602_1,  PR16,    38,  1,      1,      1,2,20021101,0748,  5.9967,-110.1317, 3828,   1000.3,   4.5049,  34.5625,2,  34.5676,2,   -999.0,9,   -999.0,9,  4.4252
   33RBGP602_1,  PR16,    39,  1,     12,     12,2,20021101,1336,  7.0017,-110.1467, 3676,      2.5,  27.4199,  33.2975,2,  33.2975,2,   -999.0,9,   -999.0,9, 27.4193
   33RBGP602_1,  PR16,    39,  1,     11,     11,2,20021101,1336,  7.0017,-110.1467, 3676,     10.5,  27.4238,  33.2995,2,  33.3423,2,   -999.0,9,   -999.0,9, 27.4214
   33RBGP602_1,  PR16,    39,  1,      7,      7,2,20021101,1336,  7.0017,-110.1467, 3676,     99.1,  12.9532,  34.8267,2,  34.8124,2,   -999.0,9,   -999.0,9, 12.9397
   33RBGP602_1,  PR16,    39,  1,      6,      6,2,20021101,1336,  7.0017,-110.1467, 3676,    151.0,  12.1245,  34.8000,2,  34.8001,2,   -999.0,9,   -999.0,9, 12.1047
   33RBGP602_1,  PR16,    39,  1,      2,      2,2,20021101,1336,  7.0017,-110.1467, 3676,    798.9,   5.7274,  34.5557,2,  34.5571,2,   -999.0,9,   -999.0,9,  5.6575
   33RBGP602_1,  PR16,    39,  1,      1,      1,2,20021101,1336,  7.0017,-110.1467, 3676,    999.9,   4.6008,  34.5624,2,  34.5649,2,   -999.0,9,   -999.0,9,  4.5204
   33RBGP602_1,  PR16,    40,  1,     12,     12,2,20021102,0558,  8.0833,-110.1067, 4103,      1.9,  27.5525,  32.9553,2,  32.9574,2,   -999.0,9,   -999.0,9, 27.5520
   33RBGP602_1,  PR16,    40,  1,     11,     11,2,20021102,0558,  8.0833,-110.1067, 4103,     11.0,  27.5595,  32.9547,2,  32.9601,2,   -999.0,9,   -999.0,9, 27.5569
   33RBGP602_1,  PR16,    40,  1,     10,     10,2,20021102,0558,  8.0833,-110.1067, 4103,     25.6,  27.9653,  33.3526,2,  33.3196,2,   -999.0,9,   -999.0,9, 27.9593
   33RBGP602_1,  PR16,    40,  1,      9,      9,2,20021102,0558,  8.0833,-110.1067, 4103,     40.4,  27.7215,  33.8519,2,  33.8152,2,   -999.0,9,   -999.0,9, 27.7121
   33RBGP602_1,  PR16,    40,  1,      8,      8,2,20021102,0558,  8.0833,-110.1067, 4103,     60.6,  24.4986,  34.2247,2,  34.3184,2,   -999.0,9,   -999.0,9, 24.4857
   33RBGP602_1,  PR16,    40,  1,      7,      7,2,20021102,0558,  8.0833,-110.1067, 4103,    101.3,  13.2114,  34.8047,2,  34.8048,2,   -999.0,9,   -999.0,9, 13.1974
   33RBGP602_1,  PR16,    40,  1,      6,      6,2,20021102,0558,  8.0833,-110.1067, 4103,    151.2,  12.0948,  34.7774,2,  34.7785,2,   -999.0,9,   -999.0,9, 12.0750
   33RBGP602_1,  PR16,    40,  1,      5,      5,2,20021102,0558,  8.0833,-110.1067, 4103,    200.7,  11.3640,  34.7530,2,  34.7503,2,   -999.0,9,   -999.0,9, 11.3388
   33RBGP602_1,  PR16,    40,  1,      4,      4,2,20021102,0558,  8.0833,-110.1067, 4103,   1000.2,   4.6455,  34.5593,2,  34.5600,2,   -999.0,9,   -999.0,9,  4.5648
   33RBGP602_1,  PR16,    40,  1,      3,      3,2,20021102,0558,  8.0833,-110.1067, 4103,   2002.3,   2.2193,  34.6425,2,  34.6446,2,   -999.0,9,   -999.0,9,  2.0792
   33RBGP602_1,  PR16,    40,  1,      1,      1,2,20021102,0558,  8.0833,-110.1067, 4103,   3099.7,   1.6644,  34.6745,2,  34.6791,2,   -999.0,9,   -999.0,9,  1.4343
   33RBGP602_1,  PR16,    40,  1,      2,      2,2,20021102,0558,  8.0833,-110.1067, 4103,   3100.4,   1.6653,  34.6742,2,  34.6781,2,   -999.0,9,   -999.0,9,  1.4351