BOTTLE,20020809WHPSIObren
EXPOCODE,SECT_ID,STNNBR,CASTNO,SAMPNO,BTLNBR,BTLNBR_FLAG_W,DATE,TIME,LATITUDE,LONGITUDE,DEPTH,CTDPRS,CTDTMP,CTDSAL,CTDSAL_FLAG_W,SALNTY,SALNTY_FLAG_W,CTDOXY,CTDOXY_FLAG_W,OXYGEN,OXYGEN_FLAG_W,SILCAT,SILCAT_FLAG_W,NO2+NO3,NO2+NO3_FLAG_W,PHSPHT,PHSPHT_FLAG_W,CTDRAW,REVTMP,REVPRS,THETA
,,,,,,,,,,,,DBAR,ITS-90,PSS-78,,PSS-78,,UMOL/KG,,UMOL/KG,,UMOL/KG,,UMOL/KG,,UMOL/KG,,,DEG C,DBAR,ITS-90
     32MW079_1,  PRS2,     2,  9,     24,     31,2,19970108,1604, 22.7627,-157.9962, 4715,      2.1,  23.4040,  34.9518,2,  34.9488,2,    208.0,1,   -999.0,9,  -999.00,9,  -999.00,9,  -999.00,9,      2,-999.000,  -999.0, 23.4036
     32MW079_1,  PRS2,     2,  9,     23,     30,2,19970108,1604, 22.7627,-157.9962, 4715,      4.5,  23.4064,  34.9511,2,  34.9485,2,    208.0,1,   -999.0,9,  -999.00,9,  -999.00,9,  -999.00,9,      4,-999.000,  -999.0, 23.4055
     32MW079_1,  PRS2,     2,  9,     22,     22,2,19970108,1604, 22.7627,-157.9962, 4715,      9.5,  23.4161,  34.9507,2,  34.9506,2,    208.0,1,   -999.0,9,  -999.00,9,  -999.00,9,  -999.00,9,      9,-999.000,  -999.0, 23.4141
     32MW079_1,  PRS2,     2,  9,     21,     21,2,19970108,1604, 22.7627,-157.9962, 4715,     14.7,  23.4259,  34.9542,2,  34.9523,2,    208.0,1,   -999.0,9,  -999.00,9,  -999.00,9,  -999.00,9,     15,-999.000,  -999.0, 23.4229
     32MW079_1,  PRS2,     2,  9,     20,     20,2,19970108,1604, 22.7627,-157.9962, 4715,     19.9,  23.4104,  34.9584,2,  34.9589,2,    207.9,1,   -999.0,9,  -999.00,9,  -999.00,9,  -999.00,9,     20,-999.000,  -999.0, 23.4063
     32MW079_1,  PRS2,     2,  9,     19,     19,2,19970108,1604, 22.7627,-157.9962, 4715,     24.5,  23.3966,  34.9604,2,  34.9592,2,    207.9,1,   -999.0,9,  -999.00,9,  -999.00,9,  -999.00,9,     26,-999.000,  -999.0, 23.3915
     32MW079_1,  PRS2,     2,  9,     18,     18,2,19970108,1604, 22.7627,-157.9962, 4715,     29.1,  23.3966,  34.9623,2,  34.9606,2,    207.9,1,   -999.0,9,  -999.00,9,  -999.00,9,  -999.00,9,     30,-999.000,  -999.0, 23.3906
     32MW079_1,  PRS2,     2,  9,     17,     17,2,19970108,1604, 22.7627,-157.9962, 4715,     34.4,  23.3601,  34.9687,2,  34.9692,2,    207.8,1,   -999.0,9,  -999.00,9,  -999.00,9,  -999.00,9,     34,-999.000,  -999.0, 23.3530
     32MW079_1,  PRS2,     2,  9,     16,     16,2,19970108,1604, 22.7627,-157.9962, 4715,     39.8,  23.2544,  34.9870,2,  34.9874,2,    207.5,1,   -999.0,9,  -999.00,9,  -999.00,9,  -999.00,9,     40,-999.000,  -999.0, 23.2462
     32MW079_1,  PRS2,     2,  9,     15,     15,2,19970108,1604, 22.7627,-157.9962, 4715,     44.6,  23.1035,  35.0076,2,  35.0074,2,    207.5,1,   -999.0,9,  -999.00,9,  -999.00,9,  -999.00,9,     45,-999.000,  -999.0, 23.0944
     32MW079_1,  PRS2,     2,  9,     14,     14,2,19970108,1604, 22.7627,-157.9962, 4715,     47.6,  23.0501,  35.0100,2,  35.0103,2,    207.1,1,   -999.0,9,  -999.00,9,  -999.00,9,  -999.00,9,     48,-999.000,  -999.0, 23.0404
     32MW079_1,  PRS2,     2,  9,     13,     13,2,19970108,1604, 22.7627,-157.9962, 4715,     52.7,  22.9476,  35.0194,2,  35.0168,2,    207.8,1,   -999.0,9,  -999.00,9,  -999.00,9,  -999.00,9,     53,-999.000,  -999.0, 22.9369
     32MW079_1,  PRS2,     2,  9,     12,     12,2,19970108,1604, 22.7627,-157.9962, 4715,     63.0,  22.6768,  35.0160,2,  35.0167,2,    206.7,1,   -999.0,9,  -999.00,9,  -999.00,9,  -999.00,9,     63,-999.000,  -999.0, 22.6641
     32MW079_1,  PRS2,     2,  9,     11,     11,2,19970108,1604, 22.7627,-157.9962, 4715,     74.4,  22.4020,  35.0322,2,  35.0343,2,    204.6,1,   -999.0,9,  -999.00,9,  -999.00,9,  -999.00,9,     74,-999.000,  -999.0, 22.3871
     32MW079_1,  PRS2,     2,  9,     10,     32,2,19970108,1604, 22.7627,-157.9962, 4715,     83.8,  22.1961,  35.0436,2,  35.0426,2,    205.1,1,   -999.0,9,  -999.00,9,  -999.00,9,  -999.00,9,     84,-999.000,  -999.0, 22.1794
     32MW079_1,  PRS2,     2,  9,      9,      3,2,19970108,1604, 22.7627,-157.9962, 4715,     96.5,  22.0055,  35.0782,2,  35.0797,2,    203.9,1,   -999.0,9,  -999.00,9,  -999.00,9,  -999.00,9,     97,-999.000,  -999.0, 21.9864
     32MW079_1,  PRS2,     2,  9,      8,     29,2,19970108,1604, 22.7627,-157.9962, 4715,    105.6,  21.7994,  35.0824,2,  35.0821,2,    203.0,1,   -999.0,9,  -999.00,9,  -999.00,9,  -999.00,9,    107,-999.000,  -999.0, 21.7787
     32MW079_1,  PRS2,     2,  9,      7,     28,2,19970108,1604, 22.7627,-157.9962, 4715,    112.7,  21.4709,  35.0934,2,  35.0931,2,    202.5,1,   -999.0,9,  -999.00,9,  -999.00,9,  -999.00,9,    113,-999.000,  -999.0, 21.4490
     32MW079_1,  PRS2,     2,  9,      6,      7,2,19970108,1604, 22.7627,-157.9962, 4715,    124.0,  21.0092,  35.0847,2,  35.0841,2,    198.5,1,   -999.0,9,  -999.00,9,  -999.00,9,  -999.00,9,    125,-999.000,  -999.0, 20.9855
     32MW079_1,  PRS2,     2,  9,      5,     38,2,19970108,1604, 22.7627,-157.9962, 4715,    149.9,  20.3263,  35.0856,2,  35.0851,2,    197.0,1,   -999.0,9,  -999.00,9,  -999.00,9,  -999.00,9,    151,-999.000,  -999.0, 20.2983
     32MW079_1,  PRS2,     2,  9,      4,     36,2,19970108,1604, 22.7627,-157.9962, 4715,    174.7,  19.2172,  35.0157,2,  35.0182,2,    193.1,1,   -999.0,9,  -999.00,9,  -999.00,9,  -999.00,9,    176,-999.000,  -999.0, 19.1858
     32MW079_1,  PRS2,     2,  9,      3,     35,2,19970108,1604, 22.7627,-157.9962, 4715,    249.5,  15.9064,  34.6554,2,  34.6615,2,    199.7,1,   -999.0,9,  -999.00,9,  -999.00,9,  -999.00,9,    248,-999.000,  -999.0, 15.8671
     32MW079_1,  PRS2,     2,  9,      2,     34,2,19970108,1604, 22.7627,-157.9962, 4715,    499.5,   7.4193,  34.0490,2,  34.0539,2,    136.6,1,   -999.0,9,  -999.00,9,  -999.00,9,  -999.00,9,    501,-999.000,  -999.0,  7.3707
     32MW079_1,  PRS2,     2,  9,      1,     33,2,19970108,1604, 22.7627,-157.9962, 4715,   1021.0,   3.8999,  34.4759,2,  34.4795,2,     42.0,1,   -999.0,9,  -999.00,9,  -999.00,9,  -999.00,9,   1023,-999.000,  -999.0,  3.8233
     32MW079_1,  PRS2,     2, 10,     12,     12,2,19970108,1943, 22.8082,-158.0005, 4705,      4.4,  23.5346,  34.9203,2,  34.9211,2,    209.6,1,   -999.0,9,  -999.00,9,  -999.00,9,  -999.00,9,      5,-999.000,  -999.0, 23.5337
     32MW079_1,  PRS2,     2, 10,     11,     11,2,19970108,1943, 22.8082,-158.0005, 4705,     25.5,  23.5182,  34.9508,2,  34.9511,2,    209.6,1,   -999.0,9,  -999.00,9,  -999.00,9,  -999.00,9,     26,-999.000,  -999.0, 23.5129
     32MW079_1,  PRS2,     2, 10,     10,     32,2,19970108,1943, 22.8082,-158.0005, 4705,     45.4,  23.4801,  35.0160,2,  35.0181,2,    209.6,1,   -999.0,9,  -999.00,9,  -999.00,9,  -999.00,9,     47,-999.000,  -999.0, 23.4707
     32MW079_1,  PRS2,     2, 10,      9,      3,2,19970108,1943, 22.8082,-158.0005, 4705,     75.9,  22.4204,  35.1009,2,  35.1032,2,    206.3,1,   -999.0,9,  -999.00,9,  -999.00,9,  -999.00,9,     76,-999.000,  -999.0, 22.4052
     32MW079_1,  PRS2,     2, 10,      8,     29,2,19970108,1943, 22.8082,-158.0005, 4705,    100.7,  21.1134,  35.0846,2,  35.0836,2,    200.8,1,   -999.0,9,  -999.00,9,  -999.00,9,  -999.00,9,    101,-999.000,  -999.0, 21.0941
     32MW079_1,  PRS2,     2, 10,      7,     28,2,19970108,1943, 22.8082,-158.0005, 4705,    124.4,  20.2101,  35.0685,2,  35.0715,2,    199.5,1,   -999.0,9,  -999.00,9,  -999.00,9,  -999.00,9,    124,-999.000,  -999.0, 20.1869
     32MW079_1,  PRS2,     2, 10,      6,      7,2,19970108,1943, 22.8082,-158.0005, 4705,    149.4,  19.4177,  35.0313,2,  35.0298,2,    195.9,1,   -999.0,9,  -999.00,9,  -999.00,9,  -999.00,9,    152,-999.000,  -999.0, 19.3907
     32MW079_1,  PRS2,     2, 10,      5,     38,2,19970108,1943, 22.8082,-158.0005, 4705,    174.7,  18.3187,  34.9338,2,  34.9350,2,    197.3,1,   -999.0,9,  -999.00,9,  -999.00,9,  -999.00,9,    174,-999.000,  -999.0, 18.2883
     32MW079_1,  PRS2,     2, 10,      4,     36,2,19970108,1943, 22.8082,-158.0005, 4705,    250.3,  15.2430,  34.5915,2,  34.5914,2,    205.5,1,   -999.0,9,  -999.00,9,  -999.00,9,  -999.00,9,    251,-999.000,  -999.0, 15.2047
     32MW079_1,  PRS2,     2, 10,      3,     35,2,19970108,1943, 22.8082,-158.0005, 4705,    500.4,   7.2744,  34.0433,2,  34.0434,2,    138.9,1,   -999.0,9,  -999.00,9,  -999.00,9,  -999.00,9,    500,-999.000,  -999.0,  7.2263
     32MW079_1,  PRS2,     2, 10,      2,     34,2,19970108,1943, 22.8082,-158.0005, 4705,    750.5,   4.7249,  34.2730,2,  34.2743,2,     32.7,1,   -999.0,9,  -999.00,9,  -999.00,9,  -999.00,9,    751,-999.000,  -999.0,  4.6656
     32MW079_1,  PRS2,     2, 10,      1,     33,2,19970108,1943, 22.8082,-158.0005, 4705,   1019.5,   3.8588,  34.4810,2,  34.4848,2,     42.7,1,   -999.0,9,  -999.00,9,  -999.00,9,  -999.00,9,   1019,-999.000,  -999.0,  3.7827
     32MW079_1,  PRS2,     2, 11,     23,     30,2,19970108,2202, 22.8032,-157.9863, 4700,      4.5,  23.4979,  34.9465,2,  34.9476,2,    209.6,1,   -999.0,9,  -999.00,9,  -999.00,9,  -999.00,9,      5,-999.000,  -999.0, 23.4969
     32MW079_1,  PRS2,     2, 11,     24,     31,2,19970108,2202, 22.8032,-157.9863, 4700,      4.6,  23.4967,  34.9465,2,  34.9467,2,    209.6,1,   -999.0,9,  -999.00,9,  -999.00,9,  -999.00,9,      5,-999.000,  -999.0, 23.4958
     32MW079_1,  PRS2,     2, 11,     22,     22,2,19970108,2202, 22.8032,-157.9863, 4700,     24.5,  23.4439,  34.9480,2,  34.9495,2,    209.8,1,   -999.0,9,  -999.00,9,  -999.00,9,  -999.00,9,     26,-999.000,  -999.0, 23.4388
     32MW079_1,  PRS2,     2, 11,     20,     20,2,19970108,2202, 22.8032,-157.9863, 4700,     45.0,  23.4327,  34.9539,2,  34.9551,2,    209.9,1,   -999.0,9,  -999.00,9,  -999.00,9,  -999.00,9,     46,-999.000,  -999.0, 23.4234
     32MW079_1,  PRS2,     2, 11,     21,     21,2,19970108,2202, 22.8032,-157.9863, 4700,     45.6,  23.4325,  34.9530,2,  34.9562,2,    209.9,1,   -999.0,9,  -999.00,9,  -999.00,9,  -999.00,9,     45,-999.000,  -999.0, 23.4231
     32MW079_1,  PRS2,     2, 11,     19,     19,2,19970108,2202, 22.8032,-157.9863, 4700,     74.8,  22.2640,  35.0542,2,  35.0413,2,    206.9,1,   -999.0,9,  -999.00,9,  -999.00,9,  -999.00,9,     74,-999.000,  -999.0, 22.2491
     32MW079_1,  PRS2,     2, 11,     18,     18,2,19970108,2202, 22.8032,-157.9863, 4700,     89.6,  21.9549,  35.0863,2,  35.0863,2,    203.5,1,   -999.0,9,  -999.00,9,  -999.00,9,  -999.00,9,     90,-999.000,  -999.0, 21.9372
     32MW079_1,  PRS2,     2, 11,     17,     17,2,19970108,2202, 22.8032,-157.9863, 4700,    100.3,  21.4186,  35.0872,2,  35.0895,2,    198.9,1,   -999.0,9,  -999.00,9,  -999.00,9,  -999.00,9,    101,-999.000,  -999.0, 21.3991
     32MW079_1,  PRS2,     2, 11,     16,     16,2,19970108,2202, 22.8032,-157.9863, 4700,    124.8,  20.5337,  35.0882,2,  35.0876,2,    198.8,1,   -999.0,9,  -999.00,9,  -999.00,9,  -999.00,9,    125,-999.000,  -999.0, 20.5102
     32MW079_1,  PRS2,     2, 11,     15,     15,4,19970108,2202, 22.8032,-157.9863, 4700,    138.9,  19.6699,  35.0478,2,-999.0000,5,    197.8,1,   -999.0,9,  -999.00,9,  -999.00,9,  -999.00,9,    139,-999.000,  -999.0, 19.6445
     32MW079_1,  PRS2,     2, 11,     14,     14,2,19970108,2202, 22.8032,-157.9863, 4700,    149.6,  19.3867,  35.0387,2,  35.0477,2,    197.1,1,   -999.0,9,  -999.00,9,  -999.00,9,  -999.00,9,    153,-999.000,  -999.0, 19.3596
     32MW079_1,  PRS2,     2, 11,     13,     13,2,19970108,2202, 22.8032,-157.9863, 4700,    175.0,  18.7359,  34.9765,2,  34.9749,2,    195.9,1,   -999.0,9,  -999.00,9,  -999.00,9,  -999.00,9,    175,-999.000,  -999.0, 18.7050
     32MW079_1,  PRS2,     2, 11,     12,     12,2,19970108,2202, 22.8032,-157.9863, 4700,    175.0,  18.7373,  34.9761,2,  34.9746,2,    195.9,1,   -999.0,9,  -999.00,9,  -999.00,9,  -999.00,9,    177,-999.000,  -999.0, 18.7065
     32MW079_1,  PRS2,     2, 11,     11,     11,2,19970108,2202, 22.8032,-157.9863, 4700,    199.6,  17.3766,  34.8294,2,  34.8295,2,    199.5,1,   -999.0,9,  -999.00,9,  -999.00,9,  -999.00,9,    201,-999.000,  -999.0, 17.3431
     32MW079_1,  PRS2,     2, 11,     10,     32,2,19970108,2202, 22.8032,-157.9863, 4700,    225.6,  15.9920,  34.6661,2,  34.6682,2,    200.5,1,   -999.0,9,  -999.00,9,  -999.00,9,  -999.00,9,    225,-999.000,  -999.0, 15.9563
     32MW079_1,  PRS2,     2, 11,      9,      3,2,19970108,2202, 22.8032,-157.9863, 4700,    250.6,  15.3313,  34.5964,2,  34.5939,2,    203.7,1,   -999.0,9,  -999.00,9,  -999.00,9,  -999.00,9,    252,-999.000,  -999.0, 15.2928
     32MW079_1,  PRS2,     2, 11,      8,     29,2,19970108,2202, 22.8032,-157.9863, 4700,    250.6,  15.3332,  34.5963,2,  34.5954,2,    203.7,1,   -999.0,9,  -999.00,9,  -999.00,9,  -999.00,9,    250,-999.000,  -999.0, 15.2947
     32MW079_1,  PRS2,     2, 11,      7,     28,2,19970108,2202, 22.8032,-157.9863, 4700,    299.8,  13.1566,  34.3619,2,  34.3640,2,    196.8,1,   -999.0,9,  -999.00,9,  -999.00,9,  -999.00,9,    301,-999.000,  -999.0, 13.1151
     32MW079_1,  PRS2,     2, 11,      6,      7,2,19970108,2202, 22.8032,-157.9863, 4700,    499.5,   7.1469,  34.0284,2,  34.0268,2,    139.0,1,   -999.0,9,  -999.00,9,  -999.00,9,  -999.00,9,    498,-999.000,  -999.0,  7.0993
     32MW079_1,  PRS2,     2, 11,      5,     38,2,19970108,2202, 22.8032,-157.9863, 4700,    508.7,   7.0261,  34.0267,2,  34.0289,2,    136.4,1,   -999.0,9,  -999.00,9,  -999.00,9,  -999.00,9,    511,-999.000,  -999.0,  6.9780
     32MW079_1,  PRS2,     2, 11,      3,     35,2,19970108,2202, 22.8032,-157.9863, 4700,    750.7,   4.6633,  34.2921,2,  34.2916,2,     31.0,1,   -999.0,9,  -999.00,9,  -999.00,9,  -999.00,9,    751,-999.000,  -999.0,  4.6043
     32MW079_1,  PRS2,     2, 11,      4,     36,2,19970108,2202, 22.8032,-157.9863, 4700,    751.1,   4.6634,  34.2918,2,  34.2925,2,     31.1,1,   -999.0,9,  -999.00,9,  -999.00,9,  -999.00,9,    750,-999.000,  -999.0,  4.6044
     32MW079_1,  PRS2,     2, 11,      1,     33,2,19970108,2202, 22.8032,-157.9863, 4700,   1019.3,   3.8187,  34.4886,2,  34.4893,2,     43.8,1,   -999.0,9,  -999.00,9,  -999.00,9,  -999.00,9,   1019,-999.000,  -999.0,  3.7429
     32MW079_1,  PRS2,     2, 11,      2,     34,2,19970108,2202, 22.8032,-157.9863, 4700,   1019.7,   3.8184,  34.4886,2,  34.4872,2,     43.7,1,   -999.0,9,  -999.00,9,  -999.00,9,  -999.00,9,   1020,-999.000,  -999.0,  3.7426
     32MW079_1,  PRS2,     2, 12,     14,     14,3,19970109,0056, 22.7830,-157.9603, 4695,      4.2,  23.5878,  34.9456,2,  34.9474,2,    210.5,1,   -999.0,9,  -999.00,9,  -999.00,9,  -999.00,9,      4,-999.000,  -999.0, 23.5869
     32MW079_1,  PRS2,     2, 12,     13,     13,2,19970109,0056, 22.7830,-157.9603, 4695,     24.7,  23.5070,  34.9388,2,  34.9406,2,    210.4,1,   -999.0,9,  -999.00,9,  -999.00,9,  -999.00,9,     25,-999.000,  -999.0, 23.5019
     32MW079_1,  PRS2,     2, 12,     12,     12,2,19970109,0056, 22.7830,-157.9603, 4695,     43.4,  23.4907,  34.9443,2,  34.9491,2,    210.3,1,   -999.0,9,  -999.00,9,  -999.00,9,  -999.00,9,     44,-999.000,  -999.0, 23.4817
     32MW079_1,  PRS2,     2, 12,     11,     11,2,19970109,0056, 22.7830,-157.9603, 4695,     49.4,  23.4644,  34.9600,2,  34.9546,2,    210.2,1,   -999.0,9,  -999.00,9,  -999.00,9,  -999.00,9,     50,-999.000,  -999.0, 23.4542
     32MW079_1,  PRS2,     2, 12,     10,     32,2,19970109,0056, 22.7830,-157.9603, 4695,     74.1,  22.7156,  35.0579,2,  35.0576,2,    209.3,1,   -999.0,9,  -999.00,9,  -999.00,9,  -999.00,9,     74,-999.000,  -999.0, 22.7006
     32MW079_1,  PRS2,     2, 12,      9,      3,2,19970109,0056, 22.7830,-157.9603, 4695,     99.9,  22.0720,  35.0864,2,  35.0878,2,    205.3,1,   -999.0,9,  -999.00,9,  -999.00,9,  -999.00,9,    101,-999.000,  -999.0, 22.0522
     32MW079_1,  PRS2,     2, 12,      8,     29,2,19970109,0056, 22.7830,-157.9603, 4695,    124.3,  21.0945,  35.0890,2,  35.0891,2,    198.6,1,   -999.0,9,  -999.00,9,  -999.00,9,  -999.00,9,    125,-999.000,  -999.0, 21.0707
     32MW079_1,  PRS2,     2, 12,      7,     28,2,19970109,0056, 22.7830,-157.9603, 4695,    149.9,  20.0589,  35.0663,2,  35.0674,2,    198.3,1,   -999.0,9,  -999.00,9,  -999.00,9,  -999.00,9,    151,-999.000,  -999.0, 20.0311
     32MW079_1,  PRS2,     2, 12,      6,      7,3,19970109,0056, 22.7830,-157.9603, 4695,    176.3,  19.4253,  35.0384,2,  35.0344,2,    198.5,1,   -999.0,9,  -999.00,9,  -999.00,9,  -999.00,9,    178,-999.000,  -999.0, 19.3934
     32MW079_1,  PRS2,     2, 12,      5,     38,2,19970109,0056, 22.7830,-157.9603, 4695,    251.4,  15.7936,  34.6384,2,  34.6711,4,    200.7,1,   -999.0,9,  -999.00,9,  -999.00,9,  -999.00,9,    251,-999.000,  -999.0, 15.7543
     32MW079_1,  PRS2,     2, 12,      4,     36,2,19970109,0056, 22.7830,-157.9603, 4695,    301.9,  13.5285,  34.4006,2,  34.4138,2,    200.9,1,   -999.0,9,  -999.00,9,  -999.00,9,  -999.00,9,    302,-999.000,  -999.0, 13.4859
     32MW079_1,  PRS2,     2, 12,      3,     35,2,19970109,0056, 22.7830,-157.9603, 4695,    503.1,   7.6274,  34.0807,2,  34.0789,2,    142.6,1,   -999.0,9,  -999.00,9,  -999.00,9,  -999.00,9,    504,-999.000,  -999.0,  7.5776
     32MW079_1,  PRS2,     2, 12,      2,     34,2,19970109,0056, 22.7830,-157.9603, 4695,    750.7,   4.7267,  34.2673,2,  34.2686,2,     32.8,1,   -999.0,9,  -999.00,9,  -999.00,9,  -999.00,9,    750,-999.000,  -999.0,  4.6674
     32MW079_1,  PRS2,     2, 12,      1,     33,2,19970109,0056, 22.7830,-157.9603, 4695,   1018.7,   3.8857,  34.4767,2,  34.4784,2,     42.6,1,   -999.0,9,  -999.00,9,  -999.00,9,  -999.00,9,   1019,-999.000,  -999.0,  3.8095