BOTTLE,20020809WHPSIObren
EXPOCODE,SECT_ID,STNNBR,CASTNO,SAMPNO,BTLNBR,BTLNBR_FLAG_W,DATE,TIME,LATITUDE,LONGITUDE,DEPTH,CTDPRS,CTDTMP,CTDSAL,CTDSAL_FLAG_W,SALNTY,SALNTY_FLAG_W,CTDOXY,CTDOXY_FLAG_W,OXYGEN,OXYGEN_FLAG_W,SILCAT,SILCAT_FLAG_W,NO2+NO3,NO2+NO3_FLAG_W,PHSPHT,PHSPHT_FLAG_W,CTDRAW,REVTMP,REVPRS,THETA
,,,,,,,,,,,,DBAR,ITS-90,PSS-78,,PSS-78,,UMOL/KG,,UMOL/KG,,UMOL/KG,,UMOL/KG,,UMOL/KG,,,DEG C,DBAR,ITS-90
     32MW079_1,  PRS2,     2, 13,     24,     31,4,19970109,0403, 22.7850,-157.9735, 4700,      2.1,  23.4428,  34.9557,2,-999.0000,5,    210.6,1,   -999.0,9,  -999.00,9,  -999.00,9,  -999.00,9,      2,-999.000,  -999.0, 23.4424
     32MW079_1,  PRS2,     2, 13,     23,     30,2,19970109,0403, 22.7850,-157.9735, 4700,      4.8,  23.4499,  34.9557,2,  34.9543,2,    210.6,1,   -999.0,9,  -999.00,9,  -999.00,9,  -999.00,9,      5,-999.000,  -999.0, 23.4489
     32MW079_1,  PRS2,     2, 13,     22,     22,2,19970109,0403, 22.7850,-157.9735, 4700,      9.7,  23.4573,  34.9552,2,  34.9545,2,    210.6,1,   -999.0,9,  -999.00,9,  -999.00,9,  -999.00,9,     10,-999.000,  -999.0, 23.4553
     32MW079_1,  PRS2,     2, 13,     21,     21,2,19970109,0403, 22.7850,-157.9735, 4700,     14.2,  23.4602,  34.9551,2,  34.9545,2,    210.6,1,   -999.0,9,  -999.00,9,  -999.00,9,  -999.00,9,     14,-999.000,  -999.0, 23.4573
     32MW079_1,  PRS2,     2, 13,     20,     20,2,19970109,0403, 22.7850,-157.9735, 4700,     18.8,  23.4577,  34.9550,2,  34.9559,2,    210.6,1,   -999.0,9,  -999.00,9,  -999.00,9,  -999.00,9,     19,-999.000,  -999.0, 23.4538
     32MW079_1,  PRS2,     2, 13,     19,     19,2,19970109,0403, 22.7850,-157.9735, 4700,     25.4,  23.4552,  34.9550,2,  34.9541,2,    210.6,1,   -999.0,9,  -999.00,9,  -999.00,9,  -999.00,9,     25,-999.000,  -999.0, 23.4500
     32MW079_1,  PRS2,     2, 13,     18,     18,2,19970109,0403, 22.7850,-157.9735, 4700,     29.7,  23.4564,  34.9551,2,  34.9531,2,    210.5,1,   -999.0,9,  -999.00,9,  -999.00,9,  -999.00,9,     30,-999.000,  -999.0, 23.4502
     32MW079_1,  PRS2,     2, 13,     17,     17,2,19970109,0403, 22.7850,-157.9735, 4700,     33.9,  23.4319,  34.9562,2,  34.9560,2,    210.5,1,   -999.0,9,  -999.00,9,  -999.00,9,  -999.00,9,     34,-999.000,  -999.0, 23.4249
     32MW079_1,  PRS2,     2, 13,     16,     16,2,19970109,0403, 22.7850,-157.9735, 4700,     39.9,  23.4117,  34.9598,2,  34.9606,2,    210.6,1,   -999.0,9,  -999.00,9,  -999.00,9,  -999.00,9,     39,-999.000,  -999.0, 23.4035
     32MW079_1,  PRS2,     2, 13,     15,     15,2,19970109,0403, 22.7850,-157.9735, 4700,     44.2,  23.4090,  34.9606,2,  34.9604,2,    210.7,1,   -999.0,9,  -999.00,9,  -999.00,9,  -999.00,9,     45,-999.000,  -999.0, 23.3998
     32MW079_1,  PRS2,     2, 13,     14,     14,2,19970109,0403, 22.7850,-157.9735, 4700,     49.7,  23.4012,  34.9606,2,  34.9598,2,    210.5,1,   -999.0,9,  -999.00,9,  -999.00,9,  -999.00,9,     50,-999.000,  -999.0, 23.3909
     32MW079_1,  PRS2,     2, 13,     13,     13,2,19970109,0403, 22.7850,-157.9735, 4700,     53.9,  23.3990,  34.9614,2,  34.9624,2,    210.6,1,   -999.0,9,  -999.00,9,  -999.00,9,  -999.00,9,     53,-999.000,  -999.0, 23.3879
     32MW079_1,  PRS2,     2, 13,     12,     12,2,19970109,0403, 22.7850,-157.9735, 4700,     64.6,  23.3801,  34.9663,2,  34.9658,2,    210.7,1,   -999.0,9,  -999.00,9,  -999.00,9,  -999.00,9,     63,-999.000,  -999.0, 23.3667
     32MW079_1,  PRS2,     2, 13,     11,     11,2,19970109,0403, 22.7850,-157.9735, 4700,     75.0,  22.8374,  35.0132,2,  35.1230,4,    210.0,1,   -999.0,9,  -999.00,9,  -999.00,9,  -999.00,9,     74,-999.000,  -999.0, 22.8222
     32MW079_1,  PRS2,     2, 13,     10,     32,2,19970109,0403, 22.7850,-157.9735, 4700,     85.1,  22.6532,  35.0289,2,  35.0223,2,    209.4,1,   -999.0,9,  -999.00,9,  -999.00,9,  -999.00,9,     83,-999.000,  -999.0, 22.6360
     32MW079_1,  PRS2,     2, 13,      9,      3,2,19970109,0403, 22.7850,-157.9735, 4700,     95.3,  22.2483,  35.0368,2,  35.0489,2,    207.7,1,   -999.0,9,  -999.00,9,  -999.00,9,  -999.00,9,     96,-999.000,  -999.0, 22.2293
     32MW079_1,  PRS2,     2, 13,      8,     29,2,19970109,0403, 22.7850,-157.9735, 4700,    104.9,  22.1641,  35.0772,2,  35.0775,2,    207.1,1,   -999.0,9,  -999.00,9,  -999.00,9,  -999.00,9,    105,-999.000,  -999.0, 22.1433
     32MW079_1,  PRS2,     2, 13,      7,     28,2,19970109,0403, 22.7850,-157.9735, 4700,    115.0,  22.0388,  35.0851,2,  35.0852,2,    205.6,1,   -999.0,9,  -999.00,9,  -999.00,9,  -999.00,9,    114,-999.000,  -999.0, 22.0160
     32MW079_1,  PRS2,     2, 13,      6,      7,2,19970109,0403, 22.7850,-157.9735, 4700,    125.2,  21.4615,  35.0868,2,  35.0872,2,    200.9,1,   -999.0,9,  -999.00,9,  -999.00,9,  -999.00,9,    126,-999.000,  -999.0, 21.4372
     32MW079_1,  PRS2,     2, 13,      5,     38,2,19970109,0403, 22.7850,-157.9735, 4700,    148.4,  20.4958,  35.0909,2,  35.0904,2,    201.3,1,   -999.0,9,  -999.00,9,  -999.00,9,  -999.00,9,    147,-999.000,  -999.0, 20.4679
     32MW079_1,  PRS2,     2, 13,      4,     36,2,19970109,0403, 22.7850,-157.9735, 4700,    174.8,  19.4978,  35.0420,2,  35.0444,2,    198.4,1,   -999.0,9,  -999.00,9,  -999.00,9,  -999.00,9,    176,-999.000,  -999.0, 19.4660
     32MW079_1,  PRS2,     2, 13,      3,     35,2,19970109,0403, 22.7850,-157.9735, 4700,    249.8,  15.8124,  34.6482,2,  34.6478,2,    199.7,1,   -999.0,9,  -999.00,9,  -999.00,9,  -999.00,9,    250,-999.000,  -999.0, 15.7733
     32MW079_1,  PRS2,     2, 13,      2,     34,2,19970109,0403, 22.7850,-157.9735, 4700,    490.4,   7.7766,  34.0490,2,  34.0501,2,    154.8,1,   -999.0,9,  -999.00,9,  -999.00,9,  -999.00,9,    490,-999.000,  -999.0,  7.7275
     32MW079_1,  PRS2,     2, 13,      1,     33,2,19970109,0403, 22.7850,-157.9735, 4700,   1021.1,   3.9731,  34.4646,2,  34.4655,2,     40.0,1,   -999.0,9,  -999.00,9,  -999.00,9,  -999.00,9,   1020,-999.000,  -999.0,  3.8960
     32MW079_1,  PRS2,     2, 14,     19,     19,2,19970109,0720, 22.7462,-157.9947, 4720,      5.3,  23.5454,  34.9371,2,  34.9360,2,    209.8,1,   -999.0,9,  -999.00,9,  -999.00,9,  -999.00,9,      6,-999.000,  -999.0, 23.5443
     32MW079_1,  PRS2,     2, 14,     18,     18,2,19970109,0720, 22.7462,-157.9947, 4720,     20.3,  23.5532,  34.9354,2,  34.9341,2,    209.8,1,   -999.0,9,  -999.00,9,  -999.00,9,  -999.00,9,     20,-999.000,  -999.0, 23.5490
     32MW079_1,  PRS2,     2, 14,     17,     17,2,19970109,0720, 22.7462,-157.9947, 4720,     25.1,  23.5534,  34.9365,2,  34.9361,2,    209.7,1,   -999.0,9,  -999.00,9,  -999.00,9,  -999.00,9,     25,-999.000,  -999.0, 23.5481
     32MW079_1,  PRS2,     2, 14,     16,     16,2,19970109,0720, 22.7462,-157.9947, 4720,     25.2,  23.5534,  34.9365,2,  34.9355,2,    209.7,1,   -999.0,9,  -999.00,9,  -999.00,9,  -999.00,9,     26,-999.000,  -999.0, 23.5481
     32MW079_1,  PRS2,     2, 14,     15,     15,2,19970109,0720, 22.7462,-157.9947, 4720,     39.8,  23.5242,  34.9383,2,  34.9375,2,    209.7,1,   -999.0,9,  -999.00,9,  -999.00,9,  -999.00,9,     39,-999.000,  -999.0, 23.5160
     32MW079_1,  PRS2,     2, 14,     14,     14,2,19970109,0720, 22.7462,-157.9947, 4720,     44.4,  23.4951,  34.9398,2,  34.9345,2,    209.6,1,   -999.0,9,  -999.00,9,  -999.00,9,  -999.00,9,     45,-999.000,  -999.0, 23.4859
     32MW079_1,  PRS2,     2, 14,     13,     13,2,19970109,0720, 22.7462,-157.9947, 4720,     60.3,  23.4508,  34.9850,2,  34.9818,2,    209.9,1,   -999.0,9,  -999.00,9,  -999.00,9,  -999.00,9,     61,-999.000,  -999.0, 23.4383
     32MW079_1,  PRS2,     2, 14,     12,     12,2,19970109,0720, 22.7462,-157.9947, 4720,     74.8,  23.0378,  35.0631,2,  35.0610,2,    208.8,1,   -999.0,9,  -999.00,9,  -999.00,9,  -999.00,9,     75,-999.000,  -999.0, 23.0225
     32MW079_1,  PRS2,     2, 14,     11,     11,2,19970109,0720, 22.7462,-157.9947, 4720,     79.4,  22.9654,  35.0850,2,  35.0833,2,    209.1,1,   -999.0,9,  -999.00,9,  -999.00,9,  -999.00,9,     81,-999.000,  -999.0, 22.9492
     32MW079_1,  PRS2,     2, 14,     10,     32,4,19970109,0720, 22.7462,-157.9947, 4720,     89.3,  22.6586,  35.1031,2,-999.0000,5,    208.6,1,   -999.0,9,  -999.00,9,  -999.00,9,  -999.00,9,     90,-999.000,  -999.0, 22.6406
     32MW079_1,  PRS2,     2, 14,      9,      3,2,19970109,0720, 22.7462,-157.9947, 4720,     99.9,  22.2084,  35.0947,2,  35.1022,2,    206.2,1,   -999.0,9,  -999.00,9,  -999.00,9,  -999.00,9,     99,-999.000,  -999.0, 22.1886
     32MW079_1,  PRS2,     2, 14,      8,     29,2,19970109,0720, 22.7462,-157.9947, 4720,    109.6,  21.7611,  35.0869,2,  35.0864,2,    203.5,1,   -999.0,9,  -999.00,9,  -999.00,9,  -999.00,9,    110,-999.000,  -999.0, 21.7396
     32MW079_1,  PRS2,     2, 14,      7,     28,2,19970109,0720, 22.7462,-157.9947, 4720,    119.5,  21.1720,  35.0874,2,  35.0924,2,    201.9,1,   -999.0,9,  -999.00,9,  -999.00,9,  -999.00,9,    119,-999.000,  -999.0, 21.1491
     32MW079_1,  PRS2,     2, 14,      6,      7,2,19970109,0720, 22.7462,-157.9947, 4720,    125.1,  20.8467,  35.0839,2,  35.0857,2,    197.9,1,   -999.0,9,  -999.00,9,  -999.00,9,  -999.00,9,    126,-999.000,  -999.0, 20.8229
     32MW079_1,  PRS2,     2, 14,      5,     38,2,19970109,0720, 22.7462,-157.9947, 4720,    140.6,  20.2615,  35.0860,2,  35.0877,2,    199.0,1,   -999.0,9,  -999.00,9,  -999.00,9,  -999.00,9,    141,-999.000,  -999.0, 20.2353
     32MW079_1,  PRS2,     2, 14,      4,     36,2,19970109,0720, 22.7462,-157.9947, 4720,    149.9,  19.8966,  35.0724,2,  35.0725,2,    199.4,1,   -999.0,9,  -999.00,9,  -999.00,9,  -999.00,9,    151,-999.000,  -999.0, 19.8690
     32MW079_1,  PRS2,     2, 14,      3,     35,2,19970109,0720, 22.7462,-157.9947, 4720,    176.3,  18.5867,  34.9608,2,  34.9655,2,    195.7,1,   -999.0,9,  -999.00,9,  -999.00,9,  -999.00,9,    177,-999.000,  -999.0, 18.5557
     32MW079_1,  PRS2,     2, 14,      2,     34,2,19970109,0720, 22.7462,-157.9947, 4720,    540.7,   6.7931,  34.0379,2,  34.0382,2,    121.0,1,   -999.0,9,  -999.00,9,  -999.00,9,  -999.00,9,    542,-999.000,  -999.0,  6.7429
     32MW079_1,  PRS2,     2, 14,      1,     33,2,19970109,0720, 22.7462,-157.9947, 4720,   1020.7,   4.0008,  34.4725,2,  34.4742,2,     40.2,1,   -999.0,9,  -999.00,9,  -999.00,9,  -999.00,9,   1021,-999.000,  -999.0,  3.9235