BOTTLE,20020809WHPSIObren
#code : jjward hyd_to_exchange.pl 
#original files copied from HTML directory: 20020809
#original HYD file: /whpo/11/HOTS/BOTTLE/hot79/hot79.sea   Fri Aug  9 09:51:37 2002
#original SUM file: /whpo/11/HOTS/BOTTLE/hot79/hot79.sum   Fri Aug  9 13:30:41 2002
EXPOCODE,SECT_ID,STNNBR,CASTNO,SAMPNO,BTLNBR,BTLNBR_FLAG_W,DATE,TIME,LATITUDE,LONGITUDE,DEPTH,CTDPRS,CTDTMP,CTDSAL,CTDSAL_FLAG_W,SALNTY,SALNTY_FLAG_W,CTDOXY,CTDOXY_FLAG_W,OXYGEN,OXYGEN_FLAG_W,SILCAT,SILCAT_FLAG_W,NO2+NO3,NO2+NO3_FLAG_W,PHSPHT,PHSPHT_FLAG_W,CTDRAW,REVTMP,REVPRS,THETA
,,,,,,,,,,,,DBAR,ITS-90,PSS-78,,PSS-78,,UMOL/KG,,UMOL/KG,,UMOL/KG,,UMOL/KG,,UMOL/KG,,,DEG C,DBAR,ITS-90
     32MW079_1,  PRS2,     1,  1,     24,     31,2,19970106,2243, 21.3423,-158.2732, 1745,      4.3,  24.5845,  34.8838,2,  34.8820,2,    207.7,2,    207.4,2,     4.30,3,     0.00,2,     0.06,2,      5,-999.000,  -999.0, 24.5836
     32MW079_1,  PRS2,     1,  1,     23,     30,2,19970106,2243, 21.3423,-158.2732, 1745,     24.2,  24.4739,  34.8811,2,  34.8799,2,    208.2,2,    208.7,2,     1.79,2,     0.01,2,     0.06,2,     25,-999.000,  -999.0, 24.4687
     32MW079_1,  PRS2,     1,  1,     22,     22,2,19970106,2243, 21.3423,-158.2732, 1745,     44.6,  24.4677,  34.8812,2,  34.8809,2,    208.4,2,    203.6,2,     1.70,2,     0.01,2,     0.06,2,     45,-999.000,  -999.0, 24.4582
     32MW079_1,  PRS2,     1,  1,     21,     21,2,19970106,2243, 21.3423,-158.2732, 1745,     59.4,  24.4571,  34.8831,2,  34.8830,2,    208.8,2,    212.3,2,     1.81,2,     0.01,2,     0.06,2,     60,-999.000,  -999.0, 24.4444
     32MW079_1,  PRS2,     1,  1,     20,     20,2,19970106,2243, 21.3423,-158.2732, 1745,     74.4,  24.1360,  34.9191,2,  34.9175,2,    209.0,2,    206.2,2,     1.90,2,     0.00,2,     0.06,2,     75,-999.000,  -999.0, 24.1203
     32MW079_1,  PRS2,     1,  1,     19,     19,2,19970106,2243, 21.3423,-158.2732, 1745,     94.0,  23.3795,  34.9985,2,  34.9942,2,    208.1,2,    209.0,2,     1.95,2,     0.03,2,     0.08,2,     94,-999.000,  -999.0, 23.3601
     32MW079_1,  PRS2,     1,  1,     18,     18,2,19970106,2243, 21.3423,-158.2732, 1745,    104.0,  23.1559,  35.0189,2,  35.0189,2,    208.2,2,    209.7,2,     1.93,2,     0.06,2,     0.09,2,    105,-999.000,  -999.0, 23.1346
     32MW079_1,  PRS2,     1,  1,     17,     17,2,19970106,2243, 21.3423,-158.2732, 1745,    114.0,  22.2000,  35.0458,2,  35.0445,2,    201.1,2,    199.9,2,     2.11,2,     0.45,2,     0.13,2,    115,-999.000,  -999.0, 22.1773
     32MW079_1,  PRS2,     1,  1,     16,     16,2,19970106,2243, 21.3423,-158.2732, 1745,    125.1,  21.9758,  35.0508,2,  35.0508,2,    199.5,2,    201.8,2,     2.19,2,     0.62,2,     0.15,2,    126,-999.000,  -999.0, 21.9511
     32MW079_1,  PRS2,     1,  1,     15,     15,2,19970106,2243, 21.3423,-158.2732, 1745,    149.3,  21.1146,  35.0640,2,  35.0602,2,    197.6,2,    198.7,2,     2.52,2,     1.11,2,     0.17,2,    151,-999.000,  -999.0, 21.0859
     32MW079_1,  PRS2,     1,  1,     14,     14,2,19970106,2243, 21.3423,-158.2732, 1745,    174.3,  19.4589,  35.0073,2,  35.0062,2,    192.9,2,    190.2,2,     3.12,2,     2.49,2,     0.25,2,    174,-999.000,  -999.0, 19.4273
     32MW079_1,  PRS2,     1,  1,     13,     13,2,19970106,2243, 21.3423,-158.2732, 1745,    199.1,  18.0640,  34.8972,2,  34.9018,2,    194.2,2,    193.9,2,     3.87,2,     3.27,2,     0.30,2,    199,-999.000,  -999.0, 18.0297
     32MW079_1,  PRS2,     1,  1,     12,     12,2,19970106,2243, 21.3423,-158.2732, 1745,    225.3,  16.5577,  34.7297,2,  34.7404,2,    193.9,2,    193.5,2,     5.19,2,     4.86,2,     0.41,2,    226,-999.000,  -999.0, 16.5212
     32MW079_1,  PRS2,     1,  1,     11,     11,2,19970106,2243, 21.3423,-158.2732, 1745,    251.7,  14.8982,  34.5512,2,  34.5539,2,    190.1,2,    191.5,2,     7.48,2,     7.42,2,     0.58,2,    253,-999.000,  -999.0, 14.8603
     32MW079_1,  PRS2,     1,  1,     10,     32,2,19970106,2243, 21.3423,-158.2732, 1745,    299.2,  11.8357,  34.2748,2,  34.2766,2,    178.1,2,    183.6,2,    14.14,2,    13.28,2,     0.98,2,    299,-999.000,  -999.0, 11.7972
     32MW079_1,  PRS2,     1,  1,      9,      3,2,19970106,2243, 21.3423,-158.2732, 1745,    439.5,   8.3391,  34.1313,2,  34.1287,2,    140.2,2,    140.1,2,    36.28,2,    24.09,2,     1.74,2,    440,-999.000,  -999.0,  8.2934
     32MW079_1,  PRS2,     1,  1,      8,     29,2,19970106,2243, 21.3423,-158.2732, 1745,    499.6,   6.9795,  34.1659,2,  34.1626,2,     92.3,2,     91.9,2,    54.17,2,    30.98,2,     2.27,2,    501,-999.000,  -999.0,  6.9324
     32MW079_1,  PRS2,     1,  1,      7,     28,2,19970106,2243, 21.3423,-158.2732, 1745,    574.2,   6.0586,  34.1765,2,  34.1754,2,     55.3,2,     54.7,2,    66.93,2,    35.91,2,     2.65,2,    574,-999.000,  -999.0,  6.0081
     32MW079_1,  PRS2,     1,  1,      6,      7,2,19970106,2243, 21.3423,-158.2732, 1745,    649.6,   5.4384,  34.3093,2,  34.3070,2,     31.0,2,     31.5,2,    79.47,2,    39.20,2,     2.91,2,    650,-999.000,  -999.0,  5.3840
     32MW079_1,  PRS2,     1,  1,      5,     38,2,19970106,2243, 21.3423,-158.2732, 1745,    725.0,   4.8957,  34.3467,2,  34.3510,2,     30.6,2,     30.7,2,    89.32,2,    40.32,2,     2.98,2,    725,-999.000,  -999.0,  4.8375
     32MW079_1,  PRS2,     1,  1,      4,     36,2,19970106,2243, 21.3423,-158.2732, 1745,    800.2,   4.8478,  34.4165,2,  34.4139,2,     32.7,2,     32.7,2,    90.66,2,    40.68,2,     2.99,2,    801,-999.000,  -999.0,  4.7833
     32MW079_1,  PRS2,     1,  1,      3,     35,2,19970106,2243, 21.3423,-158.2732, 1745,    877.1,   4.5617,  34.4740,2,  34.4733,2,     36.7,2,     36.8,2,    96.18,2,    41.29,2,     3.02,2,    878,-999.000,  -999.0,  4.4924
     32MW079_1,  PRS2,     1,  1,      2,     34,2,19970106,2243, 21.3423,-158.2732, 1745,    950.6,   4.2130,  34.4990,2,  34.5012,2,     40.7,2,     40.3,2,   102.62,2,    41.29,2,     3.03,2,    950,-999.000,  -999.0,  4.1399
     32MW079_1,  PRS2,     1,  1,      1,     33,2,19970106,2243, 21.3423,-158.2732, 1745,   1019.7,   3.9935,  34.5051,2,  34.5041,2,     45.1,2,     45.5,2,   107.28,2,    41.08,2,     3.02,2,   1020,-999.000,  -999.0,  3.9163
     32MW079_1,  PRS2,     2,  1,     24,     31,2,19970107,1358, 22.7495,-157.9982, 4725,      4.6,  23.5583,  34.9049,2,  34.9049,2,    211.1,2,    209.4,2,     0.99,2,     0.00,2,     0.07,2,      5,-999.000,  -999.0, 23.5573
     32MW079_1,  PRS2,     2,  1,     23,     30,2,19970107,1358, 22.7495,-157.9982, 4725,    143.7,  20.0816,  35.0863,2,  35.0857,2,    200.3,2,    200.1,2,     2.21,2,     1.12,2,     0.15,2,    144,-999.000,  -999.0, 20.0549
     32MW079_1,  PRS2,     2,  1,     22,     22,2,19970107,1358, 22.7495,-157.9982, 4725,    506.8,   7.3997,  34.0400,2,  34.0388,2,    143.5,2,    142.6,2,    39.50,2,    25.64,2,     1.76,2,    507,-999.000,  -999.0,  7.3504
     32MW079_1,  PRS2,     2,  1,     21,     21,2,19970107,1358, 22.7495,-157.9982, 4725,    801.8,   4.6453,  34.3080,2,  34.3070,2,     30.0,2,     28.9,2,    94.88,2,    40.27,2,     2.87,2,    802,-999.000,  -999.0,  4.5821
     32MW079_1,  PRS2,     2,  1,     20,     20,2,19970107,1358, 22.7495,-157.9982, 4725,   1200.0,   3.5097,  34.5276,2,  34.5281,2,     50.7,2,     50.5,2,   117.40,2,    40.82,2,     2.92,2,   1201,-999.000,  -999.0,  3.4216
     32MW079_1,  PRS2,     2,  1,     19,     19,2,19970107,1358, 22.7495,-157.9982, 4725,   1397.4,   3.0592,  34.5562,2,  34.5556,2,     59.4,2,     59.3,2,   127.55,2,    40.61,2,     2.91,2,   1398,-999.000,  -999.0,  2.9592
     32MW079_1,  PRS2,     2,  1,     18,     18,2,19970107,1358, 22.7495,-157.9982, 4725,   1600.2,   2.6352,  34.5813,2,  34.5825,2,     69.9,2,     70.1,2,   137.63,2,    40.01,2,     2.86,2,   1600,-999.000,  -999.0,  2.5234
     32MW079_1,  PRS2,     2,  1,     17,     17,2,19970107,1358, 22.7495,-157.9982, 4725,   1799.5,   2.3431,  34.5983,2,  34.5980,2,     78.1,2,     78.3,2,   143.73,2,    39.68,2,     2.82,2,   1799,-999.000,  -999.0,  2.2186
     32MW079_1,  PRS2,     2,  1,     16,     16,2,19970107,1358, 22.7495,-157.9982, 4725,   2000.3,   2.1024,  34.6152,2,  34.6162,2,     84.7,2,     86.4,2,   150.37,2,    39.20,2,     2.79,2,   2000,-999.000,  -999.0,  1.9644
     32MW079_1,  PRS2,     2,  1,     15,     15,2,19970107,1358, 22.7495,-157.9982, 4725,   2199.7,   1.9145,  34.6293,2,  34.6298,2,     92.4,2,     92.4,2,   155.00,2,    38.90,2,     2.75,2,   2200,-999.000,  -999.0,  1.7624
     32MW079_1,  PRS2,     2,  1,     14,     14,2,19970107,1358, 22.7495,-157.9982, 4725,   2400.8,   1.8113,  34.6391,2,  34.6405,2,     97.7,2,    100.3,2,   156.30,2,    38.45,2,     2.72,2,   2400,-999.000,  -999.0,  1.6434
     32MW079_1,  PRS2,     2,  1,     13,     13,2,19970107,1358, 22.7495,-157.9982, 4725,   2601.3,   1.7064,  34.6502,2,  34.6535,2,    107.9,2,    109.6,2,   155.52,3,    37.81,2,     2.67,2,   2602,-999.000,  -999.0,  1.5225
     32MW079_1,  PRS2,     2,  1,     12,     12,2,19970107,1358, 22.7495,-157.9982, 4725,   2798.6,   1.6183,  34.6583,2,  34.6597,2,    115.3,2,    116.6,2,   156.62,2,    37.39,2,     2.63,2,   2797,-999.000,  -999.0,  1.4180
     32MW079_1,  PRS2,     2,  1,     11,     11,2,19970107,1358, 22.7495,-157.9982, 4725,   2997.7,   1.5637,  34.6648,2,  34.6668,2,    121.8,2,    122.5,2,   156.37,2,    36.95,2,     2.60,2,   2997,-999.000,  -999.0,  1.3458
     32MW079_1,  PRS2,     2,  1,     10,     32,2,19970107,1358, 22.7495,-157.9982, 4725,   3198.7,   1.5191,  34.6710,2,  34.6699,2,    128.9,2,    130.5,2,   155.34,2,    36.48,2,     2.57,2,   3199,-999.000,  -999.0,  1.2828
     32MW079_1,  PRS2,     2,  1,      9,      3,2,19970107,1358, 22.7495,-157.9982, 4725,   3400.2,   1.4896,  34.6753,2,  34.6761,2,    134.7,2,    134.9,2,   153.39,2,    36.17,2,     2.54,2,   3399,-999.000,  -999.0,  1.2339
     32MW079_1,  PRS2,     2,  1,      8,     29,2,19970107,1358, 22.7495,-157.9982, 4725,   3599.7,   1.4646,  34.6791,2,  34.6796,2,    140.4,2,    140.3,2,   151.52,2,    35.83,2,     2.52,2,   3599,-999.000,  -999.0,  1.1891
     32MW079_1,  PRS2,     2,  1,      7,     28,2,19970107,1358, 22.7495,-157.9982, 4725,   3800.5,   1.4555,  34.6818,2,  34.6813,2,    144.5,2,    144.1,2,   150.62,2,    35.66,2,     2.50,2,   3801,-999.000,  -999.0,  1.1593
     32MW079_1,  PRS2,     2,  1,      6,      7,2,19970107,1358, 22.7495,-157.9982, 4725,   4000.1,   1.4563,  34.6836,2,  34.6834,2,    147.6,2,    147.5,2,   149.82,2,    35.45,2,     2.48,2,   4000,-999.000,  -999.0,  1.1387
     32MW079_1,  PRS2,     2,  1,      5,     38,2,19970107,1358, 22.7495,-157.9982, 4725,   4200.8,   1.4630,  34.6853,2,  34.6850,2,    150.9,2,    149.3,2,   147.72,2,    35.26,2,     2.47,2,   4201,-999.000,  -999.0,  1.1231
     32MW079_1,  PRS2,     2,  1,      4,     36,2,19970107,1358, 22.7495,-157.9982, 4725,   4401.1,   1.4768,  34.6862,2,  34.6857,2,    151.5,2,    151.5,2,   146.96,2,    35.34,2,     2.47,2,   4401,-999.000,  -999.0,  1.1138
     32MW079_1,  PRS2,     2,  1,      3,     35,2,19970107,1358, 22.7495,-157.9982, 4725,   4502.0,   1.4854,  34.6867,2,  34.6873,2,    153.2,2,    151.6,3,   146.88,2,    35.24,2,     2.47,2,   4501,-999.000,  -999.0,  1.1106
     32MW079_1,  PRS2,     2,  1,      2,     34,2,19970107,1358, 22.7495,-157.9982, 4725,   4602.8,   1.4933,  34.6870,2,  34.6857,2,    153.6,2,    152.0,3,   146.38,2,    35.25,2,     2.47,2,   4602,-999.000,  -999.0,  1.1066
     32MW079_1,  PRS2,     2,  1,      1,     33,2,19970107,1358, 22.7495,-157.9982, 4725,   4810.1,   1.4941,  34.6890,2,  34.6879,2,    157.8,2,    156.4,2,   143.57,3,    34.85,2,     2.45,2,   4809,-999.000,  -999.0,  1.0829
     32MW079_1,  PRS2,     2,  2,     24,     31,2,19970107,1857, 22.7437,-158.0010, 4725,      5.1,  23.5200,  34.9136,2,  34.9136,2,    209.6,2,    209.9,2,     1.44,2,     0.00,2,     0.09,2,      5,-999.000,  -999.0, 23.5189
     32MW079_1,  PRS2,     2,  2,     23,     30,2,19970107,1857, 22.7437,-158.0010, 4725,     25.3,  23.5254,  34.9303,2,  34.9306,2,    209.7,2,    210.1,2,     1.06,2,     0.00,2,     0.08,2,     26,-999.000,  -999.0, 23.5202
     32MW079_1,  PRS2,     2,  2,     22,     22,2,19970107,1857, 22.7437,-158.0010, 4725,     57.4,  22.8198,  35.0328,2,  35.0312,2,    209.9,2,    210.1,2,     1.56,2,     0.01,2,     0.11,2,     57,-999.000,  -999.0, 22.8081
     32MW079_1,  PRS2,     2,  2,     21,     21,2,19970107,1857, 22.7437,-158.0010, 4725,    100.8,  21.0088,  35.0864,2,  35.0855,2,    197.8,2,    200.1,2,     1.67,2,     0.92,2,     0.17,2,    101,-999.000,  -999.0, 20.9895
     32MW079_1,  PRS2,     2,  2,     20,     20,2,19970107,1857, 22.7437,-158.0010, 4725,    152.6,  19.0813,  35.0059,2,  35.0041,2,    194.7,2,    195.4,2,     2.63,2,     2.18,2,     0.24,2,    153,-999.000,  -999.0, 19.0541
     32MW079_1,  PRS2,     2,  2,     19,     19,2,19970107,1857, 22.7437,-158.0010, 4725,    224.6,  15.8590,  34.6520,2,  34.6505,2,    202.0,2,    200.5,2,     4.69,2,     4.80,2,     0.41,2,    225,-999.000,  -999.0, 15.8238
     32MW079_1,  PRS2,     2,  2,     18,     18,2,19970107,1857, 22.7437,-158.0010, 4725,    263.1,  15.0848,  34.5710,2,  34.5561,2,    206.5,2,    202.7,2,     5.58,2,     5.87,2,     0.48,2,    263,-999.000,  -999.0, 15.0449
     32MW079_1,  PRS2,     2,  2,     17,     17,2,19970107,1857, 22.7437,-158.0010, 4725,    303.0,  13.4287,  34.3901,2,  34.3885,2,    199.1,2,    197.3,2,     8.48,2,     8.85,2,     0.67,2,    302,-999.000,  -999.0, 13.3862
     32MW079_1,  PRS2,     2,  2,     16,     16,2,19970107,1857, 22.7437,-158.0010, 4725,    320.7,  12.5670,  34.3105,2,  34.3127,2,    194.2,2,    194.5,2,    10.03,2,    10.65,2,     0.81,2,    322,-999.000,  -999.0, 12.5239
     32MW079_1,  PRS2,     2,  2,     15,     15,2,19970107,1857, 22.7437,-158.0010, 4725,    362.9,  11.1031,  34.1882,2,  34.1839,2,    197.4,2,    197.4,2,    13.52,2,    13.35,2,     0.99,2,    363,-999.000,  -999.0, 11.0582
     32MW079_1,  PRS2,     2,  2,     14,     14,2,19970107,1857, 22.7437,-158.0010, 4725,    380.2,  10.3807,  34.1561,2,  34.1559,2,    193.5,2,    194.3,2,    16.30,2,    15.14,2,     1.12,2,    379,-999.000,  -999.0, 10.3356
     32MW079_1,  PRS2,     2,  2,     13,     13,2,19970107,1857, 22.7437,-158.0010, 4725,    426.5,   8.8704,  34.0797,2,  34.0779,2,    179.1,2,    178.0,2,    25.02,2,    19.83,2,     1.43,2,    426,-999.000,  -999.0,  8.8244
     32MW079_1,  PRS2,     2,  2,     12,     12,2,19970107,1857, 22.7437,-158.0010, 4725,    498.3,   7.2043,  34.0408,2,  34.0400,2,    137.7,2,    133.1,2,    42.51,2,    27.17,2,     1.95,2,    498,-999.000,  -999.0,  7.1566
     32MW079_1,  PRS2,     2,  2,     11,     11,2,19970107,1857, 22.7437,-158.0010, 4725,    527.0,   6.8613,  34.0567,2,  34.0561,2,    111.9,2,    110.0,2,    48.61,2,    29.70,2,     2.16,2,    527,-999.000,  -999.0,  6.8120
     32MW079_1,  PRS2,     2,  2,     10,     32,2,19970107,1857, 22.7437,-158.0010, 4725,    551.3,   6.4038,  34.0670,2,  34.0657,2,     97.0,2,     91.5,2,    55.92,2,    32.21,2,     2.36,2,    551,-999.000,  -999.0,  6.3542
     32MW079_1,  PRS2,     2,  2,      9,      3,2,19970107,1857, 22.7437,-158.0010, 4725,    582.3,   5.8792,  34.0856,2,  34.0840,2,     70.6,2,     48.4,4,    65.04,2,    34.91,2,     2.57,2,    583,-999.000,  -999.0,  5.8289
     32MW079_1,  PRS2,     2,  2,      8,     29,2,19970107,1857, 22.7437,-158.0010, 4725,    631.3,   5.4011,  34.1347,2,  34.1339,2,     49.2,2,     47.8,2,    75.36,2,    37.51,2,     2.77,2,    632,-999.000,  -999.0,  5.3486
     32MW079_1,  PRS2,     2,  2,      7,     28,2,19970107,1857, 22.7437,-158.0010, 4725,    697.7,   4.8032,  34.2020,2,  34.2011,2,     39.8,2,     38.3,2,    88.62,2,    39.31,2,     2.90,2,    698,-999.000,  -999.0,  4.7480
     32MW079_1,  PRS2,     2,  2,      6,      7,2,19970107,1857, 22.7437,-158.0010, 4725,    739.9,   4.7375,  34.2634,2,  34.2636,2,     33.0,2,     31.9,2,    91.73,2,    40.00,2,     2.95,2,    740,-999.000,  -999.0,  4.6790
     32MW079_1,  PRS2,     2,  2,      5,     38,2,19970107,1857, 22.7437,-158.0010, 4725,    778.4,   4.6500,  34.3055,2,  34.3047,2,     30.0,2,     29.2,2,    95.19,2,    40.46,2,     2.98,2,    778,-999.000,  -999.0,  4.5888
     32MW079_1,  PRS2,     2,  2,      4,     36,2,19970107,1857, 22.7437,-158.0010, 4725,    854.7,   4.3426,  34.3849,2,  34.3856,2,     31.2,2,     30.1,2,   100.69,2,    41.04,2,     3.03,2,    854,-999.000,  -999.0,  4.2768
     32MW079_1,  PRS2,     2,  2,      3,     35,2,19970107,1857, 22.7437,-158.0010, 4725,    919.3,   4.1845,  34.4301,2,  34.4290,2,     35.0,2,     34.1,2,   104.83,2,    41.06,2,     2.99,2,    920,-999.000,  -999.0,  4.1143
     32MW079_1,  PRS2,     2,  2,      2,     34,2,19970107,1857, 22.7437,-158.0010, 4725,    989.1,   3.9718,  34.4646,2,  34.4659,2,     39.6,2,     39.7,2,   108.69,2,    41.01,2,     3.01,2,    989,-999.000,  -999.0,  3.8973
     32MW079_1,  PRS2,     2,  2,      1,     33,2,19970107,1857, 22.7437,-158.0010, 4725,   1022.1,   3.8898,  34.4768,2,  34.4772,2,     42.0,2,     42.5,2,   109.84,2,    41.09,2,     3.02,2,   1022,-999.000,  -999.0,  3.8132
     32MW079_1,  PRS2,     2,  3,     12,     12,2,19970107,2201, 22.7460,-158.0090, 4725,      5.0,  23.5973,  34.9165,2,  34.9155,2,    208.8,1,   -999.0,9,  -999.00,9,  -999.00,9,  -999.00,9,      5,-999.000,  -999.0, 23.5962
     32MW079_1,  PRS2,     2,  3,     11,     11,2,19970107,2201, 22.7460,-158.0090, 4725,     24.8,  23.4923,  34.9439,2,  34.9431,2,    208.4,1,   -999.0,9,  -999.00,9,  -999.00,9,  -999.00,9,     25,-999.000,  -999.0, 23.4872
     32MW079_1,  PRS2,     2,  3,     10,     32,2,19970107,2201, 22.7460,-158.0090, 4725,     44.6,  23.4754,  34.9519,2,  34.9509,2,    208.3,1,   -999.0,9,  -999.00,9,  -999.00,9,  -999.00,9,     45,-999.000,  -999.0, 23.4662
     32MW079_1,  PRS2,     2,  3,      9,      3,2,19970107,2201, 22.7460,-158.0090, 4725,     74.4,  22.3095,  35.0492,2,  35.0488,2,    204.7,1,   -999.0,9,  -999.00,9,  -999.00,9,  -999.00,9,     76,-999.000,  -999.0, 22.2946
     32MW079_1,  PRS2,     2,  3,      8,     29,2,19970107,2201, 22.7460,-158.0090, 4725,    101.2,  21.5372,  35.0948,2,  35.0932,2,    205.7,1,   -999.0,9,  -999.00,9,  -999.00,9,  -999.00,9,    102,-999.000,  -999.0, 21.5175
     32MW079_1,  PRS2,     2,  3,      7,     28,2,19970107,2201, 22.7460,-158.0090, 4725,    125.1,  20.4613,  35.0920,2,  35.0912,2,    197.2,1,   -999.0,9,  -999.00,9,  -999.00,9,  -999.00,9,    126,-999.000,  -999.0, 20.4379
     32MW079_1,  PRS2,     2,  3,      6,      7,2,19970107,2201, 22.7460,-158.0090, 4725,    149.7,  19.6556,  35.0511,2,  35.0522,2,    196.3,1,   -999.0,9,  -999.00,9,  -999.00,9,  -999.00,9,    150,-999.000,  -999.0, 19.6283
     32MW079_1,  PRS2,     2,  3,      5,     38,2,19970107,2201, 22.7460,-158.0090, 4725,    174.0,  18.5862,  34.9587,2,  34.9582,2,    192.4,1,   -999.0,9,  -999.00,9,  -999.00,9,  -999.00,9,    174,-999.000,  -999.0, 18.5557
     32MW079_1,  PRS2,     2,  3,      4,     36,2,19970107,2201, 22.7460,-158.0090, 4725,    249.8,  15.2515,  34.5849,2,  34.5815,2,    201.2,1,   -999.0,9,  -999.00,9,  -999.00,9,  -999.00,9,    250,-999.000,  -999.0, 15.2133
     32MW079_1,  PRS2,     2,  3,      3,     35,2,19970107,2201, 22.7460,-158.0090, 4725,    511.0,   6.8625,  34.0573,2,  34.0553,2,    109.5,1,   -999.0,9,  -999.00,9,  -999.00,9,  -999.00,9,    510,-999.000,  -999.0,  6.8148
     32MW079_1,  PRS2,     2,  3,      2,     34,2,19970107,2201, 22.7460,-158.0090, 4725,    749.9,   4.7361,  34.2892,2,  34.2883,2,     30.7,1,   -999.0,9,  -999.00,9,  -999.00,9,  -999.00,9,    750,-999.000,  -999.0,  4.6768
     32MW079_1,  PRS2,     2,  3,      1,     33,2,19970107,2201, 22.7460,-158.0090, 4725,   1019.6,   3.9349,  34.4761,2,  34.4776,2,     41.4,1,   -999.0,9,  -999.00,9,  -999.00,9,  -999.00,9,   1020,-999.000,  -999.0,  3.8582