BOTTLE,20020809WHPSIObren
EXPOCODE,SECT_ID,STNNBR,CASTNO,SAMPNO,BTLNBR,BTLNBR_FLAG_W,DATE,TIME,LATITUDE,LONGITUDE,DEPTH,CTDPRS,CTDTMP,CTDSAL,CTDSAL_FLAG_W,SALNTY,SALNTY_FLAG_W,CTDOXY,CTDOXY_FLAG_W,OXYGEN,OXYGEN_FLAG_W,SILCAT,SILCAT_FLAG_W,NO2+NO3,NO2+NO3_FLAG_W,PHSPHT,PHSPHT_FLAG_W,CTDRAW,REVTMP,REVPRS,THETA
,,,,,,,,,,,,DBAR,ITS-90,PSS-78,,PSS-78,,UMOL/KG,,UMOL/KG,,UMOL/KG,,UMOL/KG,,UMOL/KG,,,DEG C,DBAR,ITS-90
     32MW079_1,  PRS2,     2,  4,     12,     12,2,19970108,0057, 22.7465,-158.0063, 4725,      5.1,  23.5559,  34.9356,2,  34.9353,2,    210.7,1,   -999.0,9,  -999.00,9,  -999.00,9,  -999.00,9,      6,-999.000,  -999.0, 23.5548
     32MW079_1,  PRS2,     2,  4,     11,     11,2,19970108,0057, 22.7465,-158.0063, 4725,     25.2,  23.4923,  34.9396,2,  34.9473,2,    210.3,1,   -999.0,9,  -999.00,9,  -999.00,9,  -999.00,9,     26,-999.000,  -999.0, 23.4871
     32MW079_1,  PRS2,     2,  4,     10,     32,2,19970108,0057, 22.7465,-158.0063, 4725,     44.8,  23.4576,  34.9548,2,  34.9548,2,    210.2,1,   -999.0,9,  -999.00,9,  -999.00,9,  -999.00,9,     45,-999.000,  -999.0, 23.4484
     32MW079_1,  PRS2,     2,  4,      9,      3,2,19970108,0057, 22.7465,-158.0063, 4725,     75.5,  22.6670,  35.0158,2,  35.0182,2,    208.5,1,   -999.0,9,  -999.00,9,  -999.00,9,  -999.00,9,     76,-999.000,  -999.0, 22.6517
     32MW079_1,  PRS2,     2,  4,      8,     29,2,19970108,0057, 22.7465,-158.0063, 4725,     99.8,  22.1576,  35.0944,2,  35.0945,2,    206.0,1,   -999.0,9,  -999.00,9,  -999.00,9,  -999.00,9,    100,-999.000,  -999.0, 22.1378
     32MW079_1,  PRS2,     2,  4,      7,     28,2,19970108,0057, 22.7465,-158.0063, 4725,    125.2,  20.9910,  35.0881,2,  35.0877,2,    198.5,1,   -999.0,9,  -999.00,9,  -999.00,9,  -999.00,9,    126,-999.000,  -999.0, 20.9670
     32MW079_1,  PRS2,     2,  4,      6,      7,3,19970108,0057, 22.7465,-158.0063, 4725,    150.4,  20.1929,  35.0828,2,  35.0815,2,    199.6,1,   -999.0,9,  -999.00,9,  -999.00,9,  -999.00,9,    150,-999.000,  -999.0, 20.1649
     32MW079_1,  PRS2,     2,  4,      5,     38,2,19970108,0057, 22.7465,-158.0063, 4725,    175.4,  19.1036,  35.0092,2,  35.0089,2,    196.3,1,   -999.0,9,  -999.00,9,  -999.00,9,  -999.00,9,    175,-999.000,  -999.0, 19.0722
     32MW079_1,  PRS2,     2,  4,      4,     36,2,19970108,0057, 22.7465,-158.0063, 4725,    250.1,  15.9386,  34.6572,2,  34.6560,2,    199.2,1,   -999.0,9,  -999.00,9,  -999.00,9,  -999.00,9,    250,-999.000,  -999.0, 15.8992
     32MW079_1,  PRS2,     2,  4,      3,     35,2,19970108,0057, 22.7465,-158.0063, 4725,    500.1,   7.3606,  34.0391,2,  34.0371,2,    140.7,1,   -999.0,9,  -999.00,9,  -999.00,9,  -999.00,9,    500,-999.000,  -999.0,  7.3121
     32MW079_1,  PRS2,     2,  4,      2,     34,2,19970108,0057, 22.7465,-158.0063, 4725,    750.7,   4.6693,  34.3064,2,  34.3038,2,     29.7,1,   -999.0,9,  -999.00,9,  -999.00,9,  -999.00,9,    751,-999.000,  -999.0,  4.6103
     32MW079_1,  PRS2,     2,  4,      1,     33,2,19970108,0057, 22.7465,-158.0063, 4725,   1021.0,   3.9126,  34.4774,2,  34.4761,2,     41.8,1,   -999.0,9,  -999.00,9,  -999.00,9,  -999.00,9,   1021,-999.000,  -999.0,  3.8359
     32MW079_1,  PRS2,     2,  5,     17,     17,2,19970108,0356, 22.7493,-158.0023, 4725,      4.4,  23.5310,  34.9364,2,  34.9369,2,    210.4,2,    210.6,2,     1.68,2,     0.00,2,     0.08,2,      5,-999.000,  -999.0, 23.5300
     32MW079_1,  PRS2,     2,  5,     16,     16,2,19970108,0356, 22.7493,-158.0023, 4725,    120.1,  20.9065,  35.0869,2,  35.0893,2,    198.9,2,    200.1,2,     2.64,2,     0.93,2,     0.17,2,    120,-999.000,  -999.0, 20.8836
     32MW079_1,  PRS2,     2,  5,     15,     15,4,19970108,0356, 22.7493,-158.0023, 4725,    209.3,  17.2394,  34.8109,2,-999.0000,5,    200.5,2,   -999.0,5,  -999.00,5,  -999.00,5,  -999.00,5,    210,-999.000,  -999.0, 17.2046
     32MW079_1,  PRS2,     2,  5,     14,     14,4,19970108,0356, 22.7493,-158.0023, 4725,    224.3,  16.7021,  34.7477,2,-999.0000,5,    199.5,2,   -999.0,5,  -999.00,5,  -999.00,5,  -999.00,5,    225,-999.000,  -999.0, 16.6655
     32MW079_1,  PRS2,     2,  5,     13,     13,2,19970108,0356, 22.7493,-158.0023, 4725,    235.3,  15.8201,  34.6478,2,  34.6592,2,    199.8,2,    201.2,2,     4.99,2,     4.72,2,     0.40,2,    235,-999.000,  -999.0, 15.7832
     32MW079_1,  PRS2,     2,  5,     12,     12,2,19970108,0356, 22.7493,-158.0023, 4725,    250.0,  14.9002,  34.5460,2,  34.5440,2,    202.1,2,    202.1,2,     6.07,2,     6.10,2,     0.49,2,    250,-999.000,  -999.0, 14.8626
     32MW079_1,  PRS2,     2,  5,     11,     11,2,19970108,0356, 22.7493,-158.0023, 4725,    274.4,  14.3340,  34.4909,2,  34.4890,2,    204.9,2,    202.4,2,     7.13,2,     7.12,2,     0.56,2,    274,-999.000,  -999.0, 14.2938
     32MW079_1,  PRS2,     2,  5,     10,     32,2,19970108,0356, 22.7493,-158.0023, 4725,    299.9,  13.1118,  34.3594,2,  34.3603,2,    194.0,2,    195.2,2,     9.65,2,     9.69,2,     0.74,2,    300,-999.000,  -999.0, 13.0704
     32MW079_1,  PRS2,     2,  5,      9,      3,2,19970108,0356, 22.7493,-158.0023, 4725,    325.8,  12.0802,  34.2694,2,  34.2694,2,    196.2,2,    197.0,2,    11.76,2,    11.56,2,     0.87,2,    327,-999.000,  -999.0, 12.0376
     32MW079_1,  PRS2,     2,  5,      8,     29,2,19970108,0356, 22.7493,-158.0023, 4725,    350.0,  11.1998,  34.1961,2,  34.1936,2,    196.9,2,    196.7,2,    13.80,2,    13.28,2,     0.98,2,    349,-999.000,  -999.0, 11.1563
     32MW079_1,  PRS2,     2,  5,      7,     28,2,19970108,0356, 22.7493,-158.0023, 4725,    400.2,   9.7520,  34.1110,2,  34.1089,2,    191.8,2,    190.1,2,    19.84,2,    17.01,2,     1.23,2,    401,-999.000,  -999.0,  9.7064
     32MW079_1,  PRS2,     2,  5,      6,      7,2,19970108,0356, 22.7493,-158.0023, 4725,    499.1,   7.5667,  34.0416,2,  34.0407,2,    151.0,2,     88.7,4,    38.16,2,    25.28,2,     1.81,2,    499,-999.000,  -999.0,  7.5176
     32MW079_1,  PRS2,     2,  5,      5,     38,2,19970108,0356, 22.7493,-158.0023, 4725,    599.5,   6.1381,  34.0782,2,  34.0777,2,     80.2,2,     79.0,2,    61.07,2,    33.84,2,     2.47,2,    599,-999.000,  -999.0,  6.0851
     32MW079_1,  PRS2,     2,  5,      4,     36,2,19970108,0356, 22.7493,-158.0023, 4725,    700.1,   5.0809,  34.1574,2,  34.1579,2,     46.8,2,     45.8,2,    82.37,2,    38.71,2,     2.82,2,    700,-999.000,  -999.0,  5.0240
     32MW079_1,  PRS2,     2,  5,      3,     35,3,19970108,0356, 22.7493,-158.0023, 4725,    801.4,   4.6085,  34.3237,2,  34.3261,2,     29.3,2,     28.1,2,    90.65,2,    38.47,3,     2.90,2,    802,-999.000,  -999.0,  4.5456
     32MW079_1,  PRS2,     2,  5,      2,     34,2,19970108,0356, 22.7493,-158.0023, 4725,    900.6,   4.2404,  34.4140,2,  34.4150,2,     33.9,2,     33.0,2,   104.82,2,    41.14,2,     3.04,2,    901,-999.000,  -999.0,  4.1714
     32MW079_1,  PRS2,     2,  5,      1,     33,2,19970108,0356, 22.7493,-158.0023, 4725,   1020.0,   3.9240,  34.4736,2,  34.4736,2,     41.4,2,     41.7,2,   110.18,2,    41.08,2,     3.02,2,   1021,-999.000,  -999.0,  3.8473
     32MW079_1,  PRS2,     2,  6,     23,     30,2,19970108,0657, 22.7502,-158.0130, 4725,      4.3,  23.4271,  34.9590,2,  34.9582,2,    210.6,2,   -999.0,5,  -999.00,5,  -999.00,5,  -999.00,5,      4,-999.000,  -999.0, 23.4262
     32MW079_1,  PRS2,     2,  6,     22,     22,2,19970108,0657, 22.7502,-158.0130, 4725,      4.3,  23.4266,  34.9591,2,  34.9590,2,    210.6,2,    210.6,2,     1.66,2,     0.00,2,     0.08,2,      5,-999.000,  -999.0, 23.4257
     32MW079_1,  PRS2,     2,  6,     21,     21,2,19970108,0657, 22.7502,-158.0130, 4725,     14.2,  23.4457,  34.9591,2,  34.9599,2,    210.5,2,    210.6,2,     2.34,2,     0.01,2,     0.09,2,     14,-999.000,  -999.0, 23.4428
     32MW079_1,  PRS2,     2,  6,     20,     20,2,19970108,0657, 22.7502,-158.0130, 4725,     24.3,  23.4476,  34.9591,2,  34.9599,2,    210.5,2,   -999.0,5,  -999.00,5,  -999.00,5,  -999.00,5,     24,-999.000,  -999.0, 23.4426
     32MW079_1,  PRS2,     2,  6,     19,     19,2,19970108,0657, 22.7502,-158.0130, 4725,     24.3,  23.4476,  34.9591,2,  34.9609,2,    210.5,2,    210.5,2,     2.59,2,     0.00,2,     0.08,2,     25,-999.000,  -999.0, 23.4426
     32MW079_1,  PRS2,     2,  6,     18,     18,2,19970108,0657, 22.7502,-158.0130, 4725,     34.4,  23.4208,  34.9620,2,  34.9629,2,    210.4,2,    210.7,2,     1.86,2,     0.00,2,     0.08,2,     35,-999.000,  -999.0, 23.4137
     32MW079_1,  PRS2,     2,  6,     17,     17,2,19970108,0657, 22.7502,-158.0130, 4725,     44.2,  23.3845,  34.9670,2,  34.9668,2,    210.6,2,    210.5,2,     1.95,2,     0.00,2,     0.08,2,     44,-999.000,  -999.0, 23.3754
     32MW079_1,  PRS2,     2,  6,     16,     16,2,19970108,0657, 22.7502,-158.0130, 4725,     59.3,  23.1484,  35.0014,2,  35.0168,4,    210.7,3,    210.5,2,     2.37,2,     0.00,2,     0.10,2,     60,-999.000,  -999.0, 23.1362
     32MW079_1,  PRS2,     2,  6,     15,     15,2,19970108,0657, 22.7502,-158.0130, 4725,     75.0,  22.8213,  35.0156,2,  35.0186,2,    209.6,2,    209.6,2,     2.33,2,     0.01,2,     0.11,2,     75,-999.000,  -999.0, 22.8061
     32MW079_1,  PRS2,     2,  6,     14,     14,2,19970108,0657, 22.7502,-158.0130, 4725,     84.8,  22.5119,  35.0918,2,  35.0881,2,    208.5,2,    208.0,2,     2.51,2,     0.15,2,     0.11,2,     85,-999.000,  -999.0, 22.4948
     32MW079_1,  PRS2,     2,  6,     13,     13,2,19970108,0657, 22.7502,-158.0130, 4725,     94.4,  22.3303,  35.0649,2,  35.0662,2,    207.3,2,    207.5,2,     2.31,2,     0.18,2,     0.11,2,     95,-999.000,  -999.0, 22.3114
     32MW079_1,  PRS2,     2,  6,     12,     12,2,19970108,0657, 22.7502,-158.0130, 4725,    104.5,  21.9454,  35.0809,2,  35.0806,2,    206.8,2,    205.6,2,     2.50,2,     0.38,2,     0.14,2,    104,-999.000,  -999.0, 21.9248
     32MW079_1,  PRS2,     2,  6,     11,     11,2,19970108,0657, 22.7502,-158.0130, 4725,    114.1,  21.5288,  35.0890,2,  35.0909,2,    202.6,2,    202.3,2,     4.26,3,     0.68,2,     0.15,2,    115,-999.000,  -999.0, 21.5066
     32MW079_1,  PRS2,     2,  6,     10,     32,2,19970108,0657, 22.7502,-158.0130, 4725,    124.9,  21.0323,  35.0897,2,  35.0893,2,    200.3,2,    200.6,2,     2.69,2,     0.90,2,     0.17,2,    124,-999.000,  -999.0, 21.0084
     32MW079_1,  PRS2,     2,  6,      9,      3,2,19970108,0657, 22.7502,-158.0130, 4725,    134.9,  20.6291,  35.0790,2,  35.0813,2,    197.5,2,    199.2,2,     2.65,2,     1.11,2,     0.18,2,    135,-999.000,  -999.0, 20.6036
     32MW079_1,  PRS2,     2,  6,      8,     29,2,19970108,0657, 22.7502,-158.0130, 4725,    149.9,  19.9910,  35.0730,2,  35.0714,2,    199.0,2,    198.5,2,     2.56,2,     1.37,2,     0.19,2,    150,-999.000,  -999.0, 19.9633
     32MW079_1,  PRS2,     2,  6,      7,     28,2,19970108,0657, 22.7502,-158.0130, 4725,    159.3,  19.6020,  35.0516,2,  35.0531,2,    198.4,2,    197.8,2,  -999.00,5,  -999.00,5,  -999.00,5,    160,-999.000,  -999.0, 19.5730
     32MW079_1,  PRS2,     2,  6,      6,      7,2,19970108,0657, 22.7502,-158.0130, 4725,    175.0,  19.1090,  35.0080,2,  35.0095,2,    194.6,2,    196.1,2,     3.07,2,     2.10,2,     0.23,2,    176,-999.000,  -999.0, 19.0777
     32MW079_1,  PRS2,     2,  6,      5,     38,2,19970108,0657, 22.7502,-158.0130, 4725,    185.8,  18.5620,  34.9543,2,  34.9588,2,    195.0,2,    195.3,2,  -999.00,5,  -999.00,5,  -999.00,5,    186,-999.000,  -999.0, 18.5294
     32MW079_1,  PRS2,     2,  6,      4,     36,2,19970108,0657, 22.7502,-158.0130, 4725,    199.8,  17.9996,  34.9000,2,  34.8999,2,    194.2,2,    196.2,2,     3.74,2,     2.93,2,     0.28,2,    200,-999.000,  -999.0, 17.9653
     32MW079_1,  PRS2,     2,  6,      3,     35,2,19970108,0657, 22.7502,-158.0130, 4725,    520.8,   7.0902,  34.0431,2,  34.0450,2,    127.8,2,    127.2,2,    45.21,2,    28.09,2,     2.02,2,    521,-999.000,  -999.0,  7.0407
     32MW079_1,  PRS2,     2,  6,      2,     34,2,19970108,0657, 22.7502,-158.0130, 4725,    825.0,   4.4868,  34.3540,2,  34.3550,2,     29.5,2,     29.3,2,    98.78,2,    40.84,2,     3.04,2,    825,-999.000,  -999.0,  4.4225
     32MW079_1,  PRS2,     2,  6,      1,     33,2,19970108,0657, 22.7502,-158.0130, 4725,   1019.9,   3.9062,  34.4764,2,  34.4780,2,     41.6,2,     42.5,2,   110.52,2,    41.07,2,     3.03,2,   1020,-999.000,  -999.0,  3.8297
     32MW079_1,  PRS2,     2,  7,      4,     36,2,19970108,0957, 22.7502,-157.9997, 4725,      4.6,  23.4180,  34.9454,2,  34.9468,2,    210.6,1,   -999.0,9,  -999.00,9,  -999.00,9,  -999.00,9,      5,-999.000,  -999.0, 23.4171
     32MW079_1,  PRS2,     2,  7,      3,     35,2,19970108,0957, 22.7502,-157.9997, 4725,    140.0,  20.2999,  35.0816,2,  35.0810,2,    198.3,1,   -999.0,9,  -999.00,9,  -999.00,9,  -999.00,9,    139,-999.000,  -999.0, 20.2738
     32MW079_1,  PRS2,     2,  7,      2,     34,2,19970108,0957, 22.7502,-157.9997, 4725,    516.7,   7.0113,  34.0325,2,  34.0342,2,    129.5,1,   -999.0,9,  -999.00,9,  -999.00,9,  -999.00,9,    517,-999.000,  -999.0,  6.9626
     32MW079_1,  PRS2,     2,  7,      1,     33,2,19970108,0957, 22.7502,-157.9997, 4725,   1019.6,   3.8974,  34.4782,2,  34.4775,2,     42.0,1,   -999.0,9,  -999.00,9,  -999.00,9,  -999.00,9,   1021,-999.000,  -999.0,  3.8210
     32MW079_1,  PRS2,     2,  8,     24,     31,2,19970108,1308, 22.7605,-157.9945, 4715,      4.4,  23.4684,  34.9260,2,  34.9323,2,    209.6,1,   -999.0,9,  -999.00,9,  -999.00,9,  -999.00,9,      4,-999.000,  -999.0, 23.4675
     32MW079_1,  PRS2,     2,  8,     23,     30,2,19970108,1308, 22.7605,-157.9945, 4715,      9.2,  23.4857,  34.9285,2,  34.9272,2,    209.6,1,   -999.0,9,  -999.00,9,  -999.00,9,  -999.00,9,      9,-999.000,  -999.0, 23.4838
     32MW079_1,  PRS2,     2,  8,     22,     22,2,19970108,1308, 22.7605,-157.9945, 4715,     24.3,  23.5050,  34.9326,2,  34.9320,2,    209.6,1,   -999.0,9,  -999.00,9,  -999.00,9,  -999.00,9,     25,-999.000,  -999.0, 23.5000
     32MW079_1,  PRS2,     2,  8,     21,     21,2,19970108,1308, 22.7605,-157.9945, 4715,     49.1,  23.4707,  34.9497,2,  34.9502,2,    210.2,1,   -999.0,9,  -999.00,9,  -999.00,9,  -999.00,9,     49,-999.000,  -999.0, 23.4606
     32MW079_1,  PRS2,     2,  8,     20,     20,2,19970108,1308, 22.7605,-157.9945, 4715,     73.5,  22.9670,  35.0039,2,  35.0022,2,    208.3,1,   -999.0,9,  -999.00,9,  -999.00,9,  -999.00,9,     72,-999.000,  -999.0, 22.9520
     32MW079_1,  PRS2,     2,  8,     19,     19,2,19970108,1308, 22.7605,-157.9945, 4715,     98.7,  22.3385,  35.0703,2,  35.0731,2,    207.3,1,   -999.0,9,  -999.00,9,  -999.00,9,  -999.00,9,    100,-999.000,  -999.0, 22.3188
     32MW079_1,  PRS2,     2,  8,     18,     18,2,19970108,1308, 22.7605,-157.9945, 4715,    123.6,  21.4445,  35.0906,2,  35.0909,2,    202.3,1,   -999.0,9,  -999.00,9,  -999.00,9,  -999.00,9,    124,-999.000,  -999.0, 21.4205
     32MW079_1,  PRS2,     2,  8,     17,     17,2,19970108,1308, 22.7605,-157.9945, 4715,    139.3,  20.7227,  35.0884,2,  35.0867,2,    197.4,1,   -999.0,9,  -999.00,9,  -999.00,9,  -999.00,9,    138,-999.000,  -999.0, 20.6963
     32MW079_1,  PRS2,     2,  8,     16,     16,2,19970108,1308, 22.7605,-157.9945, 4715,    148.7,  20.3243,  35.0789,2,  35.0782,2,    198.8,1,   -999.0,9,  -999.00,9,  -999.00,9,  -999.00,9,    148,-999.000,  -999.0, 20.2965
     32MW079_1,  PRS2,     2,  8,     15,     15,2,19970108,1308, 22.7605,-157.9945, 4715,    158.5,  20.1622,  35.0776,2,  35.0766,2,    199.0,1,   -999.0,9,  -999.00,9,  -999.00,9,  -999.00,9,    158,-999.000,  -999.0, 20.1327
     32MW079_1,  PRS2,     2,  8,     14,     14,2,19970108,1308, 22.7605,-157.9945, 4715,    170.3,  19.7490,  35.0595,2,  35.0575,2,    199.4,1,   -999.0,9,  -999.00,9,  -999.00,9,  -999.00,9,    172,-999.000,  -999.0, 19.7178
     32MW079_1,  PRS2,     2,  8,     13,     13,2,19970108,1308, 22.7605,-157.9945, 4715,    183.7,  19.3742,  35.0322,2,  35.0327,2,    197.7,1,   -999.0,9,  -999.00,9,  -999.00,9,  -999.00,9,    184,-999.000,  -999.0, 19.3410
     32MW079_1,  PRS2,     2,  8,     12,     12,2,19970108,1308, 22.7605,-157.9945, 4715,    198.9,  18.5495,  34.9622,2,  34.9603,2,    196.3,1,   -999.0,9,  -999.00,9,  -999.00,9,  -999.00,9,    200,-999.000,  -999.0, 18.5147
     32MW079_1,  PRS2,     2,  8,     11,     11,2,19970108,1308, 22.7605,-157.9945, 4715,    214.7,  17.6965,  34.8644,2,  34.8686,2,    198.4,1,   -999.0,9,  -999.00,9,  -999.00,9,  -999.00,9,    214,-999.000,  -999.0, 17.6601
     32MW079_1,  PRS2,     2,  8,     10,     32,2,19970108,1308, 22.7605,-157.9945, 4715,    229.9,  17.2434,  34.8141,2,  34.8178,2,    201.2,1,   -999.0,9,  -999.00,9,  -999.00,9,  -999.00,9,    230,-999.000,  -999.0, 17.2051
     32MW079_1,  PRS2,     2,  8,      9,      3,2,19970108,1308, 22.7605,-157.9945, 4715,    249.6,  16.1777,  34.6877,2,  34.7047,2,    201.3,1,   -999.0,9,  -999.00,9,  -999.00,9,  -999.00,9,    249,-999.000,  -999.0, 16.1380
     32MW079_1,  PRS2,     2,  8,      8,     29,2,19970108,1308, 22.7605,-157.9945, 4715,    275.4,  15.2908,  34.5954,2,  34.5942,2,    205.3,1,   -999.0,9,  -999.00,9,  -999.00,9,  -999.00,9,    276,-999.000,  -999.0, 15.2486
     32MW079_1,  PRS2,     2,  8,      7,     28,2,19970108,1308, 22.7605,-157.9945, 4715,    298.3,  13.4495,  34.3922,2,  34.3920,2,    197.0,1,   -999.0,9,  -999.00,9,  -999.00,9,  -999.00,9,    300,-999.000,  -999.0, 13.4076
     32MW079_1,  PRS2,     2,  8,      6,      7,2,19970108,1308, 22.7605,-157.9945, 4715,    400.1,   9.8268,  34.1156,2,  34.1162,2,    191.5,1,   -999.0,9,  -999.00,9,  -999.00,9,  -999.00,9,    401,-999.000,  -999.0,  9.7809
     32MW079_1,  PRS2,     2,  8,      5,     38,2,19970108,1308, 22.7605,-157.9945, 4715,    499.2,   7.4474,  34.0485,2,  34.0511,2,    145.1,1,   -999.0,9,  -999.00,9,  -999.00,9,  -999.00,9,    501,-999.000,  -999.0,  7.3987
     32MW079_1,  PRS2,     2,  8,      4,     36,2,19970108,1308, 22.7605,-157.9945, 4715,    600.3,   5.6104,  34.1133,2,  34.1154,2,     62.1,1,   -999.0,9,  -999.00,9,  -999.00,9,  -999.00,9,    601,-999.000,  -999.0,  5.5597
     32MW079_1,  PRS2,     2,  8,      3,     35,2,19970108,1308, 22.7605,-157.9945, 4715,    699.5,   4.8349,  34.1846,2,  34.1867,2,     42.0,1,   -999.0,9,  -999.00,9,  -999.00,9,  -999.00,9,    700,-999.000,  -999.0,  4.7794
     32MW079_1,  PRS2,     2,  8,      2,     34,2,19970108,1308, 22.7605,-157.9945, 4715,    851.3,   4.4600,  34.3620,2,  34.3626,2,     29.9,1,   -999.0,9,  -999.00,9,  -999.00,9,  -999.00,9,    852,-999.000,  -999.0,  4.3937
     32MW079_1,  PRS2,     2,  8,      1,     33,2,19970108,1308, 22.7605,-157.9945, 4715,   1021.2,   3.9981,  34.4575,2,  34.4580,2,     39.0,1,   -999.0,9,  -999.00,9,  -999.00,9,  -999.00,9,   1021,-999.000,  -999.0,  3.9208