BOTTLE,20020809WHPSIObren
EXPOCODE,SECT_ID,STNNBR,CASTNO,SAMPNO,BTLNBR,BTLNBR_FLAG_W,DATE,TIME,LATITUDE,LONGITUDE,DEPTH,CTDPRS,CTDTMP,CTDSAL,CTDSAL_FLAG_W,SALNTY,SALNTY_FLAG_W,CTDOXY,CTDOXY_FLAG_W,OXYGEN,OXYGEN_FLAG_W,SILCAT,SILCAT_FLAG_W,NO2+NO3,NO2+NO3_FLAG_W,PHSPHT,PHSPHT_FLAG_W,CTDRAW,REVTMP,REVPRS,THETA
,,,,,,,,,,,,DBAR,ITS-90,PSS-78,,PSS-78,,UMOL/KG,,UMOL/KG,,UMOL/KG,,UMOL/KG,,UMOL/KG,,,DEG C,DBAR,ITS-90
     32MW013_1,  PRS2,     2,  9,     16,     16,2,19900105,2006, 22.7967,-158.0817, 4700,      1.4,  23.9987,  35.1074,2,-999.0000,5,   -999.0,5,   -999.0,9,  -999.00,9,  -999.00,9,  -999.00,9,      2,-999.000,  -999.0, 23.9984
     32MW013_1,  PRS2,     2,  9,     15,     15,2,19900105,2006, 22.7967,-158.0817, 4700,      3.7,  23.9964,  35.1050,2,  35.1023,2,   -999.0,5,   -999.0,9,  -999.00,9,  -999.00,9,  -999.00,9,      4,-999.000,  -999.0, 23.9956
     32MW013_1,  PRS2,     2,  9,     14,     14,2,19900105,2006, 22.7967,-158.0817, 4700,     10.3,  23.9979,  35.1060,2,-999.0000,5,   -999.0,5,   -999.0,9,  -999.00,9,  -999.00,9,  -999.00,9,     11,-999.000,  -999.0, 23.9958
     32MW013_1,  PRS2,     2,  9,     13,     13,2,19900105,2006, 22.7967,-158.0817, 4700,     24.7,  23.9900,  35.1050,2,  35.1019,2,   -999.0,5,   -999.0,9,  -999.00,9,  -999.00,9,  -999.00,9,     24,-999.000,  -999.0, 23.9848
     32MW013_1,  PRS2,     2,  9,     12,     12,2,19900105,2006, 22.7967,-158.0817, 4700,     46.1,  23.9882,  35.1032,2,  35.1020,2,   -999.0,5,   -999.0,9,  -999.00,9,  -999.00,9,  -999.00,9,     46,-999.000,  -999.0, 23.9785
     32MW013_1,  PRS2,     2,  9,     11,     11,2,19900105,2006, 22.7967,-158.0817, 4700,     75.7,  23.9644,  35.1005,2,  35.1022,2,   -999.0,5,   -999.0,9,  -999.00,9,  -999.00,9,  -999.00,9,     66,-999.000,  -999.0, 23.9484
     32MW013_1,  PRS2,     2,  9,     10,     10,2,19900105,2006, 22.7967,-158.0817, 4700,    102.0,  23.9019,  35.1208,2,-999.0000,5,   -999.0,5,   -999.0,9,  -999.00,9,  -999.00,9,  -999.00,9,    100,-999.000,  -999.0, 23.8804
     32MW013_1,  PRS2,     2,  9,      9,      9,2,19900105,2006, 22.7967,-158.0817, 4700,    102.0,  23.9019,  35.1208,2,  34.8291,4,   -999.0,5,   -999.0,9,  -999.00,9,  -999.00,9,  -999.00,9,    100,-999.000,  -999.0, 23.8804
     32MW013_1,  PRS2,     2,  9,      8,      8,2,19900105,2006, 22.7967,-158.0817, 4700,    126.6,  23.1782,  35.1850,2,  35.1810,2,   -999.0,5,   -999.0,9,  -999.00,9,  -999.00,9,  -999.00,9,    124,-999.000,  -999.0, 23.1522
     32MW013_1,  PRS2,     2,  9,      7,      7,2,19900105,2006, 22.7967,-158.0817, 4700,    155.1,  21.6668,  35.2659,2,  35.2700,2,   -999.0,5,   -999.0,9,  -999.00,9,  -999.00,9,  -999.00,9,    152,-999.000,  -999.0, 21.6364
     32MW013_1,  PRS2,     2,  9,      6,      6,2,19900105,2006, 22.7967,-158.0817, 4700,    180.9,  21.0904,  35.2695,2,  35.2723,2,   -999.0,5,   -999.0,9,  -999.00,9,  -999.00,9,  -999.00,9,    177,-999.000,  -999.0, 21.0556
     32MW013_1,  PRS2,     2,  9,      5,      5,2,19900105,2006, 22.7967,-158.0817, 4700,    255.7,  16.9462,  34.7700,2,  34.7699,2,   -999.0,5,   -999.0,9,  -999.00,9,  -999.00,9,  -999.00,9,    249,-999.000,  -999.0, 16.9041
     32MW013_1,  PRS2,     2,  9,      4,      4,2,19900105,2006, 22.7967,-158.0817, 4700,    503.9,   6.6757,  34.0632,2,-999.0000,5,   -999.0,5,   -999.0,9,  -999.00,9,  -999.00,9,  -999.00,9,    496,-999.000,  -999.0,  6.6294
     32MW013_1,  PRS2,     2,  9,      3,      3,2,19900105,2006, 22.7967,-158.0817, 4700,    503.9,   6.6757,  34.0632,2,  34.0623,2,   -999.0,5,   -999.0,9,  -999.00,9,  -999.00,9,  -999.00,9,    496,-999.000,  -999.0,  6.6294
     32MW013_1,  PRS2,     2,  9,      2,      2,2,19900105,2006, 22.7967,-158.0817, 4700,    759.9,   4.8565,  34.3488,2,  34.3561,2,   -999.0,5,   -999.0,9,  -999.00,9,  -999.00,9,  -999.00,9,    749,-999.000,  -999.0,  4.7956
     32MW013_1,  PRS2,     2,  9,      1,      1,2,19900105,2006, 22.7967,-158.0817, 4700,   1019.6,   4.1191,  34.4938,2,  34.4970,2,   -999.0,5,   -999.0,9,  -999.00,9,  -999.00,9,  -999.00,9,   1011,-999.000,  -999.0,  4.0409
     32MW013_1,  PRS2,     2, 10,      6,      6,2,19900105,2310, 22.8083,-158.1367, 4700,      0.9,  24.0577,  35.1028,2,-999.0000,5,   -999.0,5,   -999.0,9,  -999.00,9,  -999.00,9,  -999.00,9,      0,-999.000,  -999.0, 24.0575
     32MW013_1,  PRS2,     2, 10,      5,      5,2,19900105,2310, 22.8083,-158.1367, 4700,     10.7,  24.0417,  35.1002,2,-999.0000,5,   -999.0,5,   -999.0,9,  -999.00,9,  -999.00,9,  -999.00,9,      8,-999.000,  -999.0, 24.0395
     32MW013_1,  PRS2,     2, 10,      4,      4,2,19900105,2310, 22.8083,-158.1367, 4700,    204.4,  20.1996,  35.2221,2,-999.0000,5,   -999.0,5,   -999.0,9,  -999.00,9,  -999.00,9,  -999.00,9,    200,-999.000,  -999.0, 20.1614
     32MW013_1,  PRS2,     2, 10,      3,      3,2,19900105,2310, 22.8083,-158.1367, 4700,    204.4,  20.1996,  35.2221,2,  35.2258,2,   -999.0,5,   -999.0,9,  -999.00,9,  -999.00,9,  -999.00,9,    200,-999.000,  -999.0, 20.1614
     32MW013_1,  PRS2,     2, 10,      2,      2,2,19900105,2310, 22.8083,-158.1367, 4700,    482.8,   7.3442,  34.0458,2,  34.0462,2,   -999.0,5,   -999.0,9,  -999.00,9,  -999.00,9,  -999.00,9,    474,-999.000,  -999.0,  7.2975
     32MW013_1,  PRS2,     2, 10,      1,      1,2,19900105,2310, 22.8083,-158.1367, 4700,   1024.1,   4.1072,  34.4959,2,  34.4947,2,   -999.0,5,   -999.0,9,  -999.00,9,  -999.00,9,  -999.00,9,   1015,-999.000,  -999.0,  4.0287
     32MW013_1,  PRS2,     2, 11,      8,      8,2,19900106,0203, 22.8200,-158.1683, 4750,      6.0,  24.0533,  35.1104,2,-999.0000,5,   -999.0,5,   -999.0,9,  -999.00,9,  -999.00,9,  -999.00,9,      7,-999.000,  -999.0, 24.0520
     32MW013_1,  PRS2,     2, 11,      7,      7,2,19900106,0203, 22.8200,-158.1683, 4750,     10.8,  24.0555,  35.1093,2,-999.0000,5,   -999.0,5,   -999.0,9,  -999.00,9,  -999.00,9,  -999.00,9,     11,-999.000,  -999.0, 24.0532
     32MW013_1,  PRS2,     2, 11,      6,      6,2,19900106,0203, 22.8200,-158.1683, 4750,     51.6,  23.9666,  35.1028,2,  35.1035,2,   -999.0,5,   -999.0,9,  -999.00,9,  -999.00,9,  -999.00,9,     52,-999.000,  -999.0, 23.9558
     32MW013_1,  PRS2,     2, 11,      5,      5,2,19900106,0203, 22.8200,-158.1683, 4750,     63.1,  23.9624,  35.1011,2,-999.0000,5,   -999.0,5,   -999.0,9,  -999.00,9,  -999.00,9,  -999.00,9,     62,-999.000,  -999.0, 23.9491
     32MW013_1,  PRS2,     2, 11,      4,      4,2,19900106,0203, 22.8200,-158.1683, 4750,     72.9,  23.9470,  35.0983,2,-999.0000,5,   -999.0,5,   -999.0,9,  -999.00,9,  -999.00,9,  -999.00,9,     71,-999.000,  -999.0, 23.9317
     32MW013_1,  PRS2,     2, 11,      3,      3,2,19900106,0203, 22.8200,-158.1683, 4750,    165.6,  20.9579,  35.2735,2,  35.2777,2,   -999.0,5,   -999.0,9,  -999.00,9,  -999.00,9,  -999.00,9,    161,-999.000,  -999.0, 20.9262
     32MW013_1,  PRS2,     2, 11,      2,      2,2,19900106,0203, 22.8200,-158.1683, 4750,    465.6,   7.5723,  34.0447,2,  34.0448,2,   -999.0,5,   -999.0,9,  -999.00,9,  -999.00,9,  -999.00,9,    457,-999.000,  -999.0,  7.5265
     32MW013_1,  PRS2,     2, 11,      1,      1,2,19900106,0203, 22.8200,-158.1683, 4750,   1017.2,   4.0762,  34.4964,2,  34.4958,2,   -999.0,5,   -999.0,9,  -999.00,9,  -999.00,9,  -999.00,9,   1006,-999.000,  -999.0,  3.9986
     32MW013_1,  PRS2,     2, 12,      5,      5,2,19900106,0648, 22.7717,-158.0717, 4750,    120.2,  21.4908,  35.2527,2,  35.2562,2,   -999.0,5,   -999.0,9,  -999.00,9,  -999.00,9,  -999.00,9,    117,-999.000,  -999.0, 21.4674
     32MW013_1,  PRS2,     2, 12,      4,      4,2,19900106,0648, 22.7717,-158.0717, 4750,    120.2,  21.4908,  35.2527,2,-999.0000,5,   -999.0,5,   -999.0,9,  -999.00,9,  -999.00,9,  -999.00,9,    117,-999.000,  -999.0, 21.4674
     32MW013_1,  PRS2,     2, 12,      3,      3,2,19900106,0648, 22.7717,-158.0717, 4750,    510.1,   7.0437,  34.0377,2,  34.0393,2,   -999.0,5,   -999.0,9,  -999.00,9,  -999.00,9,  -999.00,9,    501,-999.000,  -999.0,  6.9954
     32MW013_1,  PRS2,     2, 12,      2,      2,2,19900106,0648, 22.7717,-158.0717, 4750,   1017.8,   4.0743,  34.4985,2,  34.4960,2,   -999.0,5,   -999.0,9,  -999.00,9,  -999.00,9,  -999.00,9,   1006,-999.000,  -999.0,  3.9966
     32MW013_1,  PRS2,     2, 12,      1,      1,2,19900106,0648, 22.7717,-158.0717, 4750,   1017.8,   4.0743,  34.4985,2,  34.4969,2,   -999.0,5,   -999.0,9,  -999.00,9,  -999.00,9,  -999.00,9,   1006,-999.000,  -999.0,  3.9966
     32MW013_1,  PRS2,     2, 13,      7,      7,2,19900106,0939, 22.7550,-157.9483, 4750,    129.1,  21.5253,  35.2360,2,-999.0000,5,   -999.0,5,   -999.0,9,  -999.00,9,  -999.00,9,  -999.00,9,    102,-999.000,  -999.0, 21.5001
     32MW013_1,  PRS2,     2, 13,      8,      8,2,19900106,0939, 22.7550,-157.9483, 4750,    129.6,  21.5054,  35.2342,2,-999.0000,5,   -999.0,5,   -999.0,9,  -999.00,9,  -999.00,9,  -999.00,9,     75,-999.000,  -999.0, 21.4802
     32MW013_1,  PRS2,     2, 13,      6,      6,2,19900106,0939, 22.7550,-157.9483, 4750,    173.0,  20.3996,  35.2264,2,-999.0000,5,   -999.0,5,   -999.0,9,  -999.00,9,  -999.00,9,  -999.00,9,    128,-999.000,  -999.0, 20.3671
     32MW013_1,  PRS2,     2, 13,     13,     13,2,19900106,0939, 22.7550,-157.9483, 4750,    281.8,  15.0269,  34.5578,2,-999.0000,5,   -999.0,5,   -999.0,9,  -999.00,9,  -999.00,9,  -999.00,9,      7,-999.000,  -999.0, 14.9842
     32MW013_1,  PRS2,     2, 13,     12,     12,2,19900106,0939, 22.7550,-157.9483, 4750,    349.5,  11.0650,  34.1443,2,  35.0761,4,   -999.0,5,   -999.0,9,  -999.00,9,  -999.00,9,  -999.00,9,     12,-999.000,  -999.0, 11.0218
     32MW013_1,  PRS2,     2, 13,      5,      5,2,19900106,0939, 22.7550,-157.9483, 4750,    426.6,   8.9745,  34.1376,2,-999.0000,5,   -999.0,5,   -999.0,9,  -999.00,9,  -999.00,9,  -999.00,9,    154,-999.000,  -999.0,  8.9282
     32MW013_1,  PRS2,     2, 13,     11,     11,2,19900106,0939, 22.7550,-157.9483, 4750,    456.6,   8.0603,  34.0729,2,-999.0000,5,   -999.0,5,   -999.0,9,  -999.00,9,  -999.00,9,  -999.00,9,     26,-999.000,  -999.0,  8.0138
     32MW013_1,  PRS2,     2, 13,     10,     10,2,19900106,0939, 22.7550,-157.9483, 4750,    505.1,   7.1873,  34.0478,2,-999.0000,5,   -999.0,5,   -999.0,9,  -999.00,9,  -999.00,9,  -999.00,9,     45,-999.000,  -999.0,  7.1390
     32MW013_1,  PRS2,     2, 13,      9,      9,2,19900106,0939, 22.7550,-157.9483, 4750,    505.1,   7.1873,  34.0478,2,-999.0000,5,   -999.0,5,   -999.0,9,  -999.00,9,  -999.00,9,  -999.00,9,     45,-999.000,  -999.0,  7.1390
     32MW013_1,  PRS2,     2, 13,      4,      4,2,19900106,0939, 22.7550,-157.9483, 4750,    507.8,   7.1515,  34.0517,2,-999.0000,5,   -999.0,5,   -999.0,9,  -999.00,9,  -999.00,9,  -999.00,9,    174,-999.000,  -999.0,  7.1030
     32MW013_1,  PRS2,     2, 13,      3,      3,2,19900106,0939, 22.7550,-157.9483, 4750,    507.8,   7.1515,  34.0517,2,-999.0000,5,   -999.0,5,   -999.0,9,  -999.00,9,  -999.00,9,  -999.00,9,    174,-999.000,  -999.0,  7.1030
     32MW013_1,  PRS2,     2, 13,      2,      2,2,19900106,0939, 22.7550,-157.9483, 4750,    867.8,   4.5102,  34.4417,2,-999.0000,5,   -999.0,5,   -999.0,9,  -999.00,9,  -999.00,9,  -999.00,9,    498,-999.000,  -999.0,  4.4421
     32MW013_1,  PRS2,     2, 13,      1,      1,2,19900106,0939, 22.7550,-157.9483, 4750,    885.0,   4.4469,  34.4491,2,-999.0000,5,   -999.0,5,   -999.0,9,  -999.00,9,  -999.00,9,  -999.00,9,   1009,-999.000,  -999.0,  4.3778
     32MW013_1,  PRS2,     2, 14,      7,      7,2,19900106,1235, 22.7667,-157.9783, 4750,      4.5,  23.9988,  35.0763,2,-999.0000,5,   -999.0,5,   -999.0,9,  -999.00,9,  -999.00,9,  -999.00,9,      5,-999.000,  -999.0, 23.9978
     32MW013_1,  PRS2,     2, 14,      6,      6,2,19900106,1235, 22.7667,-157.9783, 4750,     10.5,  23.9948,  35.0736,2,-999.0000,5,   -999.0,5,   -999.0,9,  -999.00,9,  -999.00,9,  -999.00,9,     11,-999.000,  -999.0, 23.9926
     32MW013_1,  PRS2,     2, 14,      5,      5,2,19900106,1235, 22.7667,-157.9783, 4750,     10.5,  23.9924,  35.0733,2,  35.0743,2,   -999.0,5,   -999.0,9,  -999.00,9,  -999.00,9,  -999.00,9,     10,-999.000,  -999.0, 23.9902
     32MW013_1,  PRS2,     2, 14,      4,      4,2,19900106,1235, 22.7667,-157.9783, 4750,    148.4,  21.3459,  35.2592,2,-999.0000,5,   -999.0,5,   -999.0,9,  -999.00,9,  -999.00,9,  -999.00,9,    143,-999.000,  -999.0, 21.3171
     32MW013_1,  PRS2,     2, 14,      3,      3,2,19900106,1235, 22.7667,-157.9783, 4750,    148.4,  21.3459,  35.2592,2,  35.2662,2,   -999.0,5,   -999.0,9,  -999.00,9,  -999.00,9,  -999.00,9,    143,-999.000,  -999.0, 21.3171
     32MW013_1,  PRS2,     2, 14,      2,      2,2,19900106,1235, 22.7667,-157.9783, 4750,    512.3,   6.9498,  34.0400,2,  34.0434,2,   -999.0,5,   -999.0,9,  -999.00,9,  -999.00,9,  -999.00,9,    503,-999.000,  -999.0,  6.9017
     32MW013_1,  PRS2,     2, 14,      1,      1,2,19900106,1235, 22.7667,-157.9783, 4750,   1010.6,   4.2240,  34.4897,2,  34.4897,2,   -999.0,5,   -999.0,9,  -999.00,9,  -999.00,9,  -999.00,9,   1001,-999.000,  -999.0,  4.1458
     32MW013_1,  PRS2,     2, 15,     20,     20,2,19900106,2052, 22.7733,-158.0750, 4700,     -0.2,  24.0117,  35.0825,2,-999.0000,5,   -999.0,5,   -999.0,9,  -999.00,9,  -999.00,9,  -999.00,9,      1,-999.000,  -999.0, 24.0118
     32MW013_1,  PRS2,     2, 15,     19,     19,2,19900106,2052, 22.7733,-158.0750, 4700,      4.9,  24.0040,  35.0817,2,  35.0807,2,   -999.0,5,   -999.0,9,  -999.00,9,  -999.00,9,  -999.00,9,      5,-999.000,  -999.0, 24.0029
     32MW013_1,  PRS2,     2, 15,     18,     18,2,19900106,2052, 22.7733,-158.0750, 4700,      9.8,  23.9950,  35.0808,2,-999.0000,5,   -999.0,5,   -999.0,9,  -999.00,9,  -999.00,9,  -999.00,9,     11,-999.000,  -999.0, 23.9930
     32MW013_1,  PRS2,     2, 15,     15,     15,2,19900106,2052, 22.7733,-158.0750, 4700,     25.4,  23.9854,  35.0800,2,  35.0781,2,   -999.0,5,   -999.0,9,  -999.00,9,  -999.00,9,  -999.00,9,     25,-999.000,  -999.0, 23.9800
     32MW013_1,  PRS2,     2, 15,     17,     17,2,19900106,2052, 22.7733,-158.0750, 4700,     25.5,  23.9837,  35.0807,2,-999.0000,5,   -999.0,5,   -999.0,9,  -999.00,9,  -999.00,9,  -999.00,9,     24,-999.000,  -999.0, 23.9784
     32MW013_1,  PRS2,     2, 15,     16,     16,2,19900106,2052, 22.7733,-158.0750, 4700,     25.5,  23.9837,  35.0807,2,  35.0785,2,   -999.0,5,   -999.0,9,  -999.00,9,  -999.00,9,  -999.00,9,     24,-999.000,  -999.0, 23.9784
     32MW013_1,  PRS2,     2, 15,     14,     14,2,19900106,2052, 22.7733,-158.0750, 4700,     25.6,  23.9861,  35.0797,2,  35.0784,2,   -999.0,5,   -999.0,9,  -999.00,9,  -999.00,9,  -999.00,9,     26,-999.000,  -999.0, 23.9807
     32MW013_1,  PRS2,     2, 15,     13,     13,2,19900106,2052, 22.7733,-158.0750, 4700,     46.1,  23.8842,  35.1125,2,  35.1145,2,   -999.0,5,   -999.0,9,  -999.00,9,  -999.00,9,  -999.00,9,     45,-999.000,  -999.0, 23.8746
     32MW013_1,  PRS2,     2, 15,     12,     12,2,19900106,2052, 22.7733,-158.0750, 4700,     75.6,  23.5385,  35.1605,2,  35.1588,2,   -999.0,5,   -999.0,9,  -999.00,9,  -999.00,9,  -999.00,9,     74,-999.000,  -999.0, 23.5228
     32MW013_1,  PRS2,     2, 15,     10,     10,2,19900106,2052, 22.7733,-158.0750, 4700,    102.0,  22.0657,  35.2283,2,-999.0000,5,   -999.0,5,   -999.0,9,  -999.00,9,  -999.00,9,  -999.00,9,    100,-999.000,  -999.0, 22.0455
     32MW013_1,  PRS2,     2, 15,      9,      9,2,19900106,2052, 22.7733,-158.0750, 4700,    102.0,  22.0657,  35.2283,2,  35.2336,2,   -999.0,5,   -999.0,9,  -999.00,9,  -999.00,9,  -999.00,9,    100,-999.000,  -999.0, 22.0455
     32MW013_1,  PRS2,     2, 15,     11,     11,2,19900106,2052, 22.7733,-158.0750, 4700,    102.1,  22.0617,  35.2289,2,  35.2340,2,   -999.0,5,   -999.0,9,  -999.00,9,  -999.00,9,  -999.00,9,    101,-999.000,  -999.0, 22.0414
     32MW013_1,  PRS2,     2, 15,      8,      8,4,19900106,2052, 22.7733,-158.0750, 4700,    126.7,  21.3815,  35.2486,2,  35.1898,4,   -999.0,5,   -999.0,9,  -999.00,9,  -999.00,9,  -999.00,9,    125,-999.000,  -999.0, 21.3570
     32MW013_1,  PRS2,     2, 15,      7,      7,2,19900106,2052, 22.7733,-158.0750, 4700,    154.0,  21.0536,  35.2589,2,  35.2672,2,   -999.0,5,   -999.0,9,  -999.00,9,  -999.00,9,  -999.00,9,    151,-999.000,  -999.0, 21.0240
     32MW013_1,  PRS2,     2, 15,      6,      6,2,19900106,2052, 22.7733,-158.0750, 4700,    179.5,  20.5955,  35.2299,2,  35.2375,2,   -999.0,5,   -999.0,9,  -999.00,9,  -999.00,9,  -999.00,9,    176,-999.000,  -999.0, 20.5616
     32MW013_1,  PRS2,     2, 15,      5,      5,4,19900106,2052, 22.7733,-158.0750, 4700,    258.2,  16.4825,  34.7240,2,-999.0000,5,   -999.0,5,   -999.0,9,  -999.00,9,  -999.00,9,  -999.00,9,    251,-999.000,  -999.0, 16.4408
     32MW013_1,  PRS2,     2, 15,      4,      4,2,19900106,2052, 22.7733,-158.0750, 4700,    506.7,   6.6543,  34.0487,2,-999.0000,5,   -999.0,5,   -999.0,9,  -999.00,9,  -999.00,9,  -999.00,9,    497,-999.000,  -999.0,  6.6079
     32MW013_1,  PRS2,     2, 15,      3,      3,2,19900106,2052, 22.7733,-158.0750, 4700,    506.7,   6.6543,  34.0487,2,  34.1488,4,   -999.0,5,   -999.0,9,  -999.00,9,  -999.00,9,  -999.00,9,    497,-999.000,  -999.0,  6.6079
     32MW013_1,  PRS2,     2, 15,      2,      2,2,19900106,2052, 22.7733,-158.0750, 4700,    756.3,   4.7938,  34.3380,2,-999.0000,5,   -999.0,5,   -999.0,9,  -999.00,9,  -999.00,9,  -999.00,9,    747,-999.000,  -999.0,  4.7335
     32MW013_1,  PRS2,     2, 15,      1,      1,2,19900106,2052, 22.7733,-158.0750, 4700,   1011.2,   4.1562,  34.4959,2,-999.0000,5,   -999.0,5,   -999.0,9,  -999.00,9,  -999.00,9,  -999.00,9,   1002,-999.000,  -999.0,  4.0784