BOTTLE,20020809WHPSIObren
EXPOCODE,SECT_ID,STNNBR,CASTNO,SAMPNO,BTLNBR,BTLNBR_FLAG_W,DATE,TIME,LATITUDE,LONGITUDE,DEPTH,CTDPRS,CTDTMP,CTDSAL,CTDSAL_FLAG_W,SALNTY,SALNTY_FLAG_W,CTDOXY,CTDOXY_FLAG_W,OXYGEN,OXYGEN_FLAG_W,SILCAT,SILCAT_FLAG_W,NO2+NO3,NO2+NO3_FLAG_W,PHSPHT,PHSPHT_FLAG_W,CTDRAW,REVTMP,REVPRS,THETA
,,,,,,,,,,,,DBAR,ITS-90,PSS-78,,PSS-78,,UMOL/KG,,UMOL/KG,,UMOL/KG,,UMOL/KG,,UMOL/KG,,,DEG C,DBAR,ITS-90
     32MW013_1,  PRS2,     2, 16,     23,     23,2,19900106,2329, 22.7717,-158.0700, 4700,      4.6,  24.0317,  35.0965,2,-999.0000,9,   -999.0,5,   -999.0,5,  -999.00,9,  -999.00,9,  -999.00,9,      5,-999.000,  -999.0, 24.0307
     32MW013_1,  PRS2,     2, 16,     22,     22,2,19900106,2329, 22.7717,-158.0700, 4700,     14.6,  23.9965,  35.0941,2,-999.0000,9,   -999.0,5,    211.8,2,  -999.00,9,  -999.00,9,  -999.00,9,     15,-999.000,  -999.0, 23.9934
     32MW013_1,  PRS2,     2, 16,     21,     21,2,19900106,2329, 22.7717,-158.0700, 4700,     24.5,  23.9634,  35.0936,2,-999.0000,9,   -999.0,5,    214.7,2,  -999.00,9,  -999.00,9,  -999.00,9,     24,-999.000,  -999.0, 23.9583
     32MW013_1,  PRS2,     2, 16,     20,     20,2,19900106,2329, 22.7717,-158.0700, 4700,     35.4,  23.9216,  35.0981,2,-999.0000,9,   -999.0,5,    212.2,2,  -999.00,9,  -999.00,9,  -999.00,9,     36,-999.000,  -999.0, 23.9141
     32MW013_1,  PRS2,     2, 16,     19,     19,2,19900106,2329, 22.7717,-158.0700, 4700,     50.5,  23.9050,  35.1038,2,-999.0000,9,   -999.0,5,   -999.0,5,  -999.00,9,  -999.00,9,  -999.00,9,     50,-999.000,  -999.0, 23.8944
     32MW013_1,  PRS2,     2, 16,     18,     18,2,19900106,2329, 22.7717,-158.0700, 4700,     60.7,  23.9000,  35.1063,2,-999.0000,9,   -999.0,5,   -999.0,5,  -999.00,9,  -999.00,9,  -999.00,9,     60,-999.000,  -999.0, 23.8873
     32MW013_1,  PRS2,     2, 16,     17,     17,2,19900106,2329, 22.7717,-158.0700, 4700,     70.8,  23.8986,  35.1071,2,-999.0000,9,   -999.0,5,   -999.0,5,  -999.00,9,  -999.00,9,  -999.00,9,     69,-999.000,  -999.0, 23.8837
     32MW013_1,  PRS2,     2, 16,     16,     16,2,19900106,2329, 22.7717,-158.0700, 4700,     70.8,  23.8986,  35.1071,2,-999.0000,9,   -999.0,5,   -999.0,5,  -999.00,9,  -999.00,9,  -999.00,9,     69,-999.000,  -999.0, 23.8837
     32MW013_1,  PRS2,     2, 16,     15,     15,2,19900106,2329, 22.7717,-158.0700, 4700,     86.9,  23.8008,  35.1412,2,-999.0000,9,   -999.0,5,   -999.0,5,  -999.00,9,  -999.00,9,  -999.00,9,     86,-999.000,  -999.0, 23.7826
     32MW013_1,  PRS2,     2, 16,     14,     14,2,19900106,2329, 22.7717,-158.0700, 4700,     97.6,  23.1399,  35.1895,2,-999.0000,9,   -999.0,5,   -999.0,5,  -999.00,9,  -999.00,9,  -999.00,9,     95,-999.000,  -999.0, 23.1198
     32MW013_1,  PRS2,     2, 16,     13,     13,2,19900106,2329, 22.7717,-158.0700, 4700,    106.9,  22.5022,  35.2152,2,-999.0000,9,   -999.0,5,   -999.0,5,  -999.00,9,  -999.00,9,  -999.00,9,    105,-999.000,  -999.0, 22.4807
     32MW013_1,  PRS2,     2, 16,     12,     12,4,19900106,2329, 22.7717,-158.0700, 4700,    118.5,  21.8760,  35.2371,2,-999.0000,9,   -999.0,5,   -999.0,5,  -999.00,9,  -999.00,9,  -999.00,9,    116,-999.000,  -999.0, 21.8526
     32MW013_1,  PRS2,     2, 16,     11,     11,2,19900106,2329, 22.7717,-158.0700, 4700,    128.1,  21.4424,  35.2154,2,-999.0000,9,   -999.0,5,   -999.0,5,  -999.00,9,  -999.00,9,  -999.00,9,    125,-999.000,  -999.0, 21.4175
     32MW013_1,  PRS2,     2, 16,     10,     10,2,19900106,2329, 22.7717,-158.0700, 4700,    152.7,  20.8963,  35.2049,2,-999.0000,9,   -999.0,5,   -999.0,5,  -999.00,9,  -999.00,9,  -999.00,9,    150,-999.000,  -999.0, 20.8671
     32MW013_1,  PRS2,     2, 16,      9,      9,2,19900106,2329, 22.7717,-158.0700, 4700,    152.7,  20.8963,  35.2049,2,-999.0000,9,   -999.0,5,   -999.0,5,  -999.00,9,  -999.00,9,  -999.00,9,    150,-999.000,  -999.0, 20.8671
     32MW013_1,  PRS2,     2, 16,      8,      8,2,19900106,2329, 22.7717,-158.0700, 4700,    203.8,  19.6133,  35.1364,2,-999.0000,9,   -999.0,5,   -999.0,5,  -999.00,9,  -999.00,9,  -999.00,9,    198,-999.000,  -999.0, 19.5761
     32MW013_1,  PRS2,     2, 16,      7,      7,2,19900106,2329, 22.7717,-158.0700, 4700,    256.7,  15.9253,  34.6707,2,-999.0000,9,   -999.0,5,   -999.0,5,  -999.00,9,  -999.00,9,  -999.00,9,    251,-999.000,  -999.0, 15.8848
     32MW013_1,  PRS2,     2, 16,      6,      6,2,19900106,2329, 22.7717,-158.0700, 4700,    308.3,  12.2580,  34.2446,2,-999.0000,9,   -999.0,5,   -999.0,5,  -999.00,9,  -999.00,9,  -999.00,9,    302,-999.000,  -999.0, 12.2174
     32MW013_1,  PRS2,     2, 16,      5,      5,2,19900106,2329, 22.7717,-158.0700, 4700,    408.4,   9.6519,  34.1443,2,-999.0000,9,   -999.0,5,   -999.0,5,  -999.00,9,  -999.00,9,  -999.00,9,    401,-999.000,  -999.0,  9.6055
     32MW013_1,  PRS2,     2, 16,      4,      4,2,19900106,2329, 22.7717,-158.0700, 4700,    605.9,   5.9862,  34.1547,2,-999.0000,9,   -999.0,5,   -999.0,5,  -999.00,9,  -999.00,9,  -999.00,9,    596,-999.000,  -999.0,  5.9332
     32MW013_1,  PRS2,     2, 16,      3,      3,2,19900106,2329, 22.7717,-158.0700, 4700,    605.9,   5.9862,  34.1547,2,-999.0000,9,   -999.0,5,   -999.0,5,  -999.00,9,  -999.00,9,  -999.00,9,    596,-999.000,  -999.0,  5.9332
     32MW013_1,  PRS2,     2, 16,      2,      2,2,19900106,2329, 22.7717,-158.0700, 4700,    809.9,   4.8255,  34.4042,2,-999.0000,9,   -999.0,5,   -999.0,5,  -999.00,9,  -999.00,9,  -999.00,9,    801,-999.000,  -999.0,  4.7604
     32MW013_1,  PRS2,     2, 16,      1,      1,2,19900106,2329, 22.7717,-158.0700, 4700,   1022.0,   4.1278,  34.4990,2,-999.0000,9,   -999.0,5,   -999.0,5,  -999.00,9,  -999.00,9,  -999.00,9,   1014,-999.000,  -999.0,  4.0493
     32MW013_1,  PRS2,     2, 17,     21,     21,2,19900107,0143, 22.7733,-158.0700, 4750,      2.8,  24.0033,  35.1012,2,  35.1428,4,   -999.0,5,   -999.0,9,  -999.00,9,  -999.00,9,  -999.00,9,      4,-999.000,  -999.0, 24.0027
     32MW013_1,  PRS2,     2, 17,     20,     20,2,19900107,0143, 22.7733,-158.0700, 4750,      2.8,  24.0033,  35.1012,2,  35.1032,2,   -999.0,5,   -999.0,9,  -999.00,9,  -999.00,9,  -999.00,9,      4,-999.000,  -999.0, 24.0027
     32MW013_1,  PRS2,     2, 17,     19,     19,2,19900107,0143, 22.7733,-158.0700, 4750,     10.2,  24.0088,  35.1007,2,  35.0974,2,   -999.0,5,   -999.0,9,  -999.00,9,  -999.00,9,  -999.00,9,     12,-999.000,  -999.0, 24.0066
     32MW013_1,  PRS2,     2, 17,     18,     18,2,19900107,0143, 22.7733,-158.0700, 4750,     10.2,  24.0088,  35.1007,2,  35.0973,2,   -999.0,5,   -999.0,9,  -999.00,9,  -999.00,9,  -999.00,9,     12,-999.000,  -999.0, 24.0066
     32MW013_1,  PRS2,     2, 17,     17,     17,2,19900107,0143, 22.7733,-158.0700, 4750,     26.2,  24.0012,  35.0969,2,-999.0000,5,   -999.0,5,   -999.0,9,  -999.00,9,  -999.00,9,  -999.00,9,     26,-999.000,  -999.0, 23.9957
     32MW013_1,  PRS2,     2, 17,     16,     16,2,19900107,0143, 22.7733,-158.0700, 4750,     26.2,  24.0012,  35.0969,2,  35.1467,4,   -999.0,5,   -999.0,9,  -999.00,9,  -999.00,9,  -999.00,9,     26,-999.000,  -999.0, 23.9957
     32MW013_1,  PRS2,     2, 17,     15,     15,2,19900107,0143, 22.7733,-158.0700, 4750,     26.2,  24.0012,  35.0969,2,  35.0887,2,   -999.0,5,   -999.0,9,  -999.00,9,  -999.00,9,  -999.00,9,     26,-999.000,  -999.0, 23.9957
     32MW013_1,  PRS2,     2, 17,     14,     14,2,19900107,0143, 22.7733,-158.0700, 4750,     26.2,  24.0012,  35.0969,2,  35.0964,2,   -999.0,5,   -999.0,9,  -999.00,9,  -999.00,9,  -999.00,9,     26,-999.000,  -999.0, 23.9957
     32MW013_1,  PRS2,     2, 17,     13,     13,2,19900107,0143, 22.7733,-158.0700, 4750,     46.6,  23.9198,  35.1003,2,  35.0987,2,   -999.0,5,   -999.0,9,  -999.00,9,  -999.00,9,  -999.00,9,     47,-999.000,  -999.0, 23.9101
     32MW013_1,  PRS2,     2, 17,     12,     12,2,19900107,0143, 22.7733,-158.0700, 4750,     76.5,  23.8989,  35.1093,2,  35.1097,2,   -999.0,5,   -999.0,9,  -999.00,9,  -999.00,9,  -999.00,9,     76,-999.000,  -999.0, 23.8828
     32MW013_1,  PRS2,     2, 17,     11,     11,2,19900107,0143, 22.7733,-158.0700, 4750,    102.8,  22.4840,  35.2284,2,  35.2425,2,   -999.0,5,   -999.0,9,  -999.00,9,  -999.00,9,  -999.00,9,    102,-999.000,  -999.0, 22.4633
     32MW013_1,  PRS2,     2, 17,     10,     10,2,19900107,0143, 22.7733,-158.0700, 4750,    102.8,  22.4840,  35.2284,2,-999.0000,5,   -999.0,5,   -999.0,9,  -999.00,9,  -999.00,9,  -999.00,9,    102,-999.000,  -999.0, 22.4633
     32MW013_1,  PRS2,     2, 17,      9,      9,2,19900107,0143, 22.7733,-158.0700, 4750,    102.8,  22.4840,  35.2284,2,  35.3461,4,   -999.0,5,   -999.0,9,  -999.00,9,  -999.00,9,  -999.00,9,    102,-999.000,  -999.0, 22.4633
     32MW013_1,  PRS2,     2, 17,      8,      8,2,19900107,0143, 22.7733,-158.0700, 4750,    128.6,  21.4245,  35.2316,2,  35.2483,2,   -999.0,5,   -999.0,9,  -999.00,9,  -999.00,9,  -999.00,9,    126,-999.000,  -999.0, 21.3996
     32MW013_1,  PRS2,     2, 17,      7,      7,2,19900107,0143, 22.7733,-158.0700, 4750,    153.9,  20.7679,  35.2133,2,  35.2594,4,   -999.0,5,   -999.0,9,  -999.00,9,  -999.00,9,  -999.00,9,    150,-999.000,  -999.0, 20.7387
     32MW013_1,  PRS2,     2, 17,      6,      6,2,19900107,0143, 22.7733,-158.0700, 4750,    178.4,  20.4485,  35.2240,2,  35.2306,2,   -999.0,5,   -999.0,9,  -999.00,9,  -999.00,9,  -999.00,9,    176,-999.000,  -999.0, 20.4150
     32MW013_1,  PRS2,     2, 17,      5,      5,2,19900107,0143, 22.7733,-158.0700, 4750,    253.6,  17.0942,  34.8043,2,  34.8206,2,   -999.0,5,   -999.0,9,  -999.00,9,  -999.00,9,  -999.00,9,    248,-999.000,  -999.0, 17.0522
     32MW013_1,  PRS2,     2, 17,      4,      4,2,19900107,0143, 22.7733,-158.0700, 4750,    507.6,   6.9104,  34.0408,2,-999.0000,5,   -999.0,5,   -999.0,9,  -999.00,9,  -999.00,9,  -999.00,9,    499,-999.000,  -999.0,  6.8629
     32MW013_1,  PRS2,     2, 17,      3,      3,2,19900107,0143, 22.7733,-158.0700, 4750,    507.6,   6.9104,  34.0408,2,  34.2220,4,   -999.0,5,   -999.0,9,  -999.00,9,  -999.00,9,  -999.00,9,    499,-999.000,  -999.0,  6.8629
     32MW013_1,  PRS2,     2, 17,      2,      2,2,19900107,0143, 22.7733,-158.0700, 4750,    758.4,   4.8201,  34.2986,2,  34.3086,2,   -999.0,5,   -999.0,9,  -999.00,9,  -999.00,9,  -999.00,9,    750,-999.000,  -999.0,  4.7595
     32MW013_1,  PRS2,     2, 17,      1,      1,2,19900107,0143, 22.7733,-158.0700, 4750,   1016.0,   4.1201,  34.4972,2,  34.5383,4,   -999.0,5,   -999.0,9,  -999.00,9,  -999.00,9,  -999.00,9,   1007,-999.000,  -999.0,  4.0421