BOTTLE,20020809WHPSIObren
EXPOCODE,SECT_ID,STNNBR,CASTNO,SAMPNO,BTLNBR,BTLNBR_FLAG_W,DATE,TIME,LATITUDE,LONGITUDE,DEPTH,CTDPRS,CTDTMP,CTDSAL,CTDSAL_FLAG_W,SALNTY,SALNTY_FLAG_W,CTDOXY,CTDOXY_FLAG_W,OXYGEN,OXYGEN_FLAG_W,SILCAT,SILCAT_FLAG_W,NO2+NO3,NO2+NO3_FLAG_W,PHSPHT,PHSPHT_FLAG_W,CTDRAW,REVTMP,REVPRS,THETA
,,,,,,,,,,,,DBAR,ITS-90,PSS-78,,PSS-78,,UMOL/KG,,UMOL/KG,,UMOL/KG,,UMOL/KG,,UMOL/KG,,,DEG C,DBAR,ITS-90
     32MW013_1,  PRS2,     2,  4,     15,     15,2,19900105,0409, 22.7567,-158.0450, 4750,      4.7,  23.9248,  35.1097,2,  34.9486,4,   -999.0,5,    138.7,4,  -999.00,5,  -999.00,5,  -999.00,5,      5,-999.000,  -999.0, 23.9238
     32MW013_1,  PRS2,     2,  4,     14,     14,2,19900105,0409, 22.7567,-158.0450, 4750,     14.3,  23.9264,  35.1083,2,  35.1039,2,   -999.0,5,    211.1,2,  -999.00,5,  -999.00,5,  -999.00,5,     15,-999.000,  -999.0, 23.9234
     32MW013_1,  PRS2,     2,  4,     13,     13,2,19900105,0409, 22.7567,-158.0450, 4750,     24.2,  23.9275,  35.1084,2,  35.1055,2,   -999.0,5,    211.5,2,  -999.00,5,  -999.00,5,  -999.00,5,     25,-999.000,  -999.0, 23.9224
     32MW013_1,  PRS2,     2,  4,     12,     12,2,19900105,0409, 22.7567,-158.0450, 4750,     34.0,  23.9282,  35.1079,2,  35.1024,2,   -999.0,5,    211.5,2,  -999.00,5,  -999.00,5,  -999.00,5,     35,-999.000,  -999.0, 23.9211
     32MW013_1,  PRS2,     2,  4,     11,     11,2,19900105,0409, 22.7567,-158.0450, 4750,     45.8,  23.9121,  35.1061,2,  35.1039,2,   -999.0,5,    211.4,2,     2.05,2,     0.02,2,     0.06,2,     47,-999.000,  -999.0, 23.9025
     32MW013_1,  PRS2,     2,  4,     10,     10,2,19900105,0409, 22.7567,-158.0450, 4750,     60.0,  23.9120,  35.1064,2,  35.1033,2,   -999.0,5,    210.8,2,     1.46,2,     0.00,2,     0.06,2,     59,-999.000,  -999.0, 23.8994
     32MW013_1,  PRS2,     2,  4,      9,      9,2,19900105,0409, 22.7567,-158.0450, 4750,     75.5,  23.8207,  35.1458,2,  35.1431,2,   -999.0,5,    210.4,2,     0.85,2,     0.02,2,     0.05,2,     76,-999.000,  -999.0, 23.8049
     32MW013_1,  PRS2,     2,  4,      8,      8,2,19900105,0409, 22.7567,-158.0450, 4750,     85.6,  23.5509,  35.1774,2,  35.1706,2,   -999.0,5,    210.7,2,     0.85,2,     0.02,2,     0.08,2,     86,-999.000,  -999.0, 23.5332
     32MW013_1,  PRS2,     2,  4,      7,      7,2,19900105,0409, 22.7567,-158.0450, 4750,     95.1,  22.7726,  35.2180,2,  35.2029,2,   -999.0,5,    210.8,2,     0.85,2,     0.11,2,     0.08,2,     94,-999.000,  -999.0, 22.7534
     32MW013_1,  PRS2,     2,  4,      6,      6,2,19900105,0409, 22.7567,-158.0450, 4750,    105.9,  22.3436,  35.2498,2,  35.2464,2,   -999.0,5,    218.4,2,     0.85,2,     0.12,2,     0.09,2,    106,-999.000,  -999.0, 22.3225
     32MW013_1,  PRS2,     2,  4,      5,      5,2,19900105,0409, 22.7567,-158.0450, 4750,    117.3,  21.7756,  35.2735,2,  35.2707,2,   -999.0,5,    210.8,2,     1.05,2,     0.23,2,     0.10,2,    117,-999.000,  -999.0, 21.7525
     32MW013_1,  PRS2,     2,  4,      4,      4,2,19900105,0409, 22.7567,-158.0450, 4750,    126.9,  21.5209,  35.2772,2,  35.2490,4,   -999.0,5,    204.9,2,     2.45,2,     0.50,2,     0.15,2,    125,-999.000,  -999.0, 21.4962
     32MW013_1,  PRS2,     2,  4,      3,      3,2,19900105,0409, 22.7567,-158.0450, 4750,    136.8,  21.1686,  35.2724,2,  34.0437,4,   -999.0,5,    196.5,2,     1.86,2,     1.29,2,     0.20,2,    135,-999.000,  -999.0, 21.1422
     32MW013_1,  PRS2,     2,  4,      2,      2,2,19900105,0409, 22.7567,-158.0450, 4750,    479.6,   7.4881,  34.0430,2,  34.0438,2,   -999.0,5,    144.0,2,    40.71,2,    26.69,2,     1.94,2,    471,-999.000,  -999.0,  7.4412
     32MW013_1,  PRS2,     2,  4,      1,      1,2,19900105,0409, 22.7567,-158.0450, 4750,    479.6,   7.4881,  34.0430,2,  34.0447,2,   -999.0,5,   -999.0,5,    40.41,2,    26.93,2,     1.94,2,    471,-999.000,  -999.0,  7.4412
     32MW013_1,  PRS2,     2,  5,     23,     23,2,19900105,0736, 22.7617,-158.0250, 4750,      5.1,  23.9181,  35.1120,2,-999.0000,5,   -999.0,5,   -999.0,5,  -999.00,5,  -999.00,5,  -999.00,5,      5,-999.000,  -999.0, 23.9170
     32MW013_1,  PRS2,     2,  5,     22,     22,2,19900105,0736, 22.7617,-158.0250, 4750,      5.2,  23.9184,  35.1117,2,-999.0000,5,   -999.0,5,   -999.0,5,  -999.00,5,  -999.00,5,  -999.00,5,      6,-999.000,  -999.0, 23.9173
     32MW013_1,  PRS2,     2,  5,     21,     21,2,19900105,0736, 22.7617,-158.0250, 4750,     12.3,  23.9231,  35.1098,2,-999.0000,5,   -999.0,5,    213.4,2,     2.05,2,     0.00,2,     0.07,2,     12,-999.000,  -999.0, 23.9206
     32MW013_1,  PRS2,     2,  5,     20,     20,2,19900105,0736, 22.7617,-158.0250, 4750,     26.7,  23.9243,  35.1086,2,  35.1117,2,   -999.0,5,   -999.0,5,  -999.00,5,  -999.00,5,  -999.00,5,     25,-999.000,  -999.0, 23.9187
     32MW013_1,  PRS2,     2,  5,     19,     19,2,19900105,0736, 22.7617,-158.0250, 4750,     26.7,  23.9243,  35.1086,2,  35.1092,2,   -999.0,5,    211.8,2,     1.25,2,     0.00,2,     0.06,2,     25,-999.000,  -999.0, 23.9187
     32MW013_1,  PRS2,     2,  5,     18,     18,4,19900105,0736, 22.7617,-158.0250, 4750,    160.6,  20.8372,  35.2737,2,  35.2672,2,   -999.0,5,    199.5,2,     1.45,2,     0.93,2,     0.17,2,    160,-999.000,  -999.0, 20.8066
     32MW013_1,  PRS2,     2,  5,     17,     17,2,19900105,0736, 22.7617,-158.0250, 4750,    177.8,  20.5833,  35.2586,2,  35.2612,2,   -999.0,5,    197.7,2,  -999.00,5,  -999.00,5,  -999.00,5,    175,-999.000,  -999.0, 20.5497
     32MW013_1,  PRS2,     2,  5,     16,     16,4,19900105,0736, 22.7617,-158.0250, 4750,    203.5,  19.2297,  35.1242,2,-999.0000,5,   -999.0,5,   -999.0,5,  -999.00,5,  -999.00,5,  -999.00,5,    201,-999.000,  -999.0, 19.1931
     32MW013_1,  PRS2,     2,  5,     15,     15,2,19900105,0736, 22.7617,-158.0250, 4750,    215.3,  18.5340,  35.0092,2,  35.0146,2,   -999.0,5,    197.6,2,     2.78,2,     2.50,2,     0.26,2,    212,-999.000,  -999.0, 18.4962
     32MW013_1,  PRS2,     2,  5,     14,     14,2,19900105,0736, 22.7617,-158.0250, 4750,    230.0,  17.5613,  34.8533,2,  34.8603,2,   -999.0,5,    196.1,2,  -999.00,5,  -999.00,5,  -999.00,5,    226,-999.000,  -999.0, 17.5225
     32MW013_1,  PRS2,     2,  5,     13,     13,2,19900105,0736, 22.7617,-158.0250, 4750,    239.1,  17.0645,  34.7836,2,  34.7911,2,   -999.0,5,    196.0,2,     3.66,2,     3.94,2,     0.37,2,    236,-999.000,  -999.0, 17.0249
     32MW013_1,  PRS2,     2,  5,     12,     12,2,19900105,0736, 22.7617,-158.0250, 4750,    252.9,  16.3640,  34.6945,2,  34.6925,2,   -999.0,5,    195.5,2,     4.46,2,     4.69,2,     0.43,2,    249,-999.000,  -999.0, 16.3234
     32MW013_1,  PRS2,     2,  5,     11,     11,2,19900105,0736, 22.7617,-158.0250, 4750,    280.5,  14.7930,  34.5074,2,  34.5164,2,   -999.0,5,    198.2,2,     6.07,2,     6.33,2,     0.55,2,    277,-999.000,  -999.0, 14.7510
     32MW013_1,  PRS2,     2,  5,     10,     10,4,19900105,0736, 22.7617,-158.0250, 4750,    307.9,  12.9268,  34.2971,2,-999.0000,5,   -999.0,5,   -999.0,5,  -999.00,5,  -999.00,5,  -999.00,5,    303,-999.000,  -999.0, 12.8847
     32MW013_1,  PRS2,     2,  5,      9,      9,2,19900105,0736, 22.7617,-158.0250, 4750,    335.0,  11.3343,  34.2047,2,  34.2063,2,   -999.0,5,    173.3,2,    15.91,2,    15.68,2,     1.17,2,    329,-999.000,  -999.0, 11.2923
     32MW013_1,  PRS2,     2,  5,      8,      8,2,19900105,0736, 22.7617,-158.0250, 4750,    359.6,  10.4286,  34.1687,2,  34.1654,2,   -999.0,5,    175.3,2,    19.32,2,    17.48,2,     1.31,2,    352,-999.000,  -999.0, 10.3859
     32MW013_1,  PRS2,     2,  5,      7,      7,2,19900105,0736, 22.7617,-158.0250, 4750,    407.4,   9.0854,  34.1120,2,  34.1088,2,   -999.0,5,    168.8,2,    27.35,2,    20.95,2,     1.51,2,    401,-999.000,  -999.0,  9.0409
     32MW013_1,  PRS2,     2,  5,      6,      6,2,19900105,0736, 22.7617,-158.0250, 4750,    476.5,   7.5226,  34.0439,2,  34.0420,2,   -999.0,5,    142.2,2,  -999.00,5,  -999.00,5,  -999.00,5,    469,-999.000,  -999.0,  7.4759
     32MW013_1,  PRS2,     2,  5,      5,      5,2,19900105,0736, 22.7617,-158.0250, 4750,    608.8,   5.9318,  34.1820,2,  34.1788,2,   -999.0,5,     47.8,2,    71.12,2,    37.33,2,     2.79,2,    601,-999.000,  -999.0,  5.8788
     32MW013_1,  PRS2,     2,  5,      4,      4,2,19900105,0736, 22.7617,-158.0250, 4750,    711.3,   4.9269,  34.2787,2,  34.2766,2,   -999.0,5,     24.6,2,    90.19,2,    41.39,2,     3.06,2,    703,-999.000,  -999.0,  4.8698
     32MW013_1,  PRS2,     2,  5,      3,      3,2,19900105,0736, 22.7617,-158.0250, 4750,    811.8,   4.8315,  34.4152,2,  34.4127,2,   -999.0,5,     33.1,2,    94.13,2,    41.43,2,     3.05,2,    804,-999.000,  -999.0,  4.7661
     32MW013_1,  PRS2,     2,  5,      2,      2,2,19900105,0736, 22.7617,-158.0250, 4750,    909.0,   4.4646,  34.4645,2,  34.4640,2,   -999.0,5,     37.1,2,   101.71,2,    41.86,2,     3.05,2,    900,-999.000,  -999.0,  4.3932
     32MW013_1,  PRS2,     2,  5,      1,      1,2,19900105,0736, 22.7617,-158.0250, 4750,    909.0,   4.4646,  34.4645,2,  34.4631,2,   -999.0,5,     37.1,2,   101.71,2,    41.86,2,     3.06,2,    900,-999.000,  -999.0,  4.3932
     32MW013_1,  PRS2,     2,  6,     19,     19,2,19900105,1013, 22.7533,-158.0017, 4750,      1.8,  23.9620,  35.1100,2,-999.0000,5,   -999.0,5,   -999.0,9,  -999.00,9,  -999.00,9,  -999.00,9,      3,-999.000,  -999.0, 23.9616
     32MW013_1,  PRS2,     2,  6,     18,     18,2,19900105,1013, 22.7533,-158.0017, 4750,     10.4,  23.9677,  35.1099,2,  35.1025,2,   -999.0,5,   -999.0,9,  -999.00,9,  -999.00,9,  -999.00,9,     12,-999.000,  -999.0, 23.9655
     32MW013_1,  PRS2,     2,  6,     17,     17,4,19900105,1013, 22.7533,-158.0017, 4750,     20.2,  23.9807,  35.1098,2,-999.0000,5,   -999.0,5,   -999.0,9,  -999.00,9,  -999.00,9,  -999.00,9,     22,-999.000,  -999.0, 23.9765
     32MW013_1,  PRS2,     2,  6,     16,     16,2,19900105,1013, 22.7533,-158.0017, 4750,     20.2,  23.9807,  35.1098,2,-999.0000,5,   -999.0,5,   -999.0,9,  -999.00,9,  -999.00,9,  -999.00,9,     22,-999.000,  -999.0, 23.9765
     32MW013_1,  PRS2,     2,  6,     15,     15,2,19900105,1013, 22.7533,-158.0017, 4750,     30.3,  23.9792,  35.1092,2,-999.0000,5,   -999.0,5,   -999.0,9,  -999.00,9,  -999.00,9,  -999.00,9,     32,-999.000,  -999.0, 23.9729
     32MW013_1,  PRS2,     2,  6,     14,     14,2,19900105,1013, 22.7533,-158.0017, 4750,     40.2,  23.9827,  35.1090,2,-999.0000,5,   -999.0,5,   -999.0,9,  -999.00,9,  -999.00,9,  -999.00,9,     41,-999.000,  -999.0, 23.9743
     32MW013_1,  PRS2,     2,  6,     13,     13,2,19900105,1013, 22.7533,-158.0017, 4750,     51.2,  23.9852,  35.1085,2,-999.0000,5,   -999.0,5,   -999.0,9,  -999.00,9,  -999.00,9,  -999.00,9,     51,-999.000,  -999.0, 23.9744
     32MW013_1,  PRS2,     2,  6,     12,     12,2,19900105,1013, 22.7533,-158.0017, 4750,     61.2,  23.9717,  35.1084,2,-999.0000,5,   -999.0,5,   -999.0,9,  -999.00,9,  -999.00,9,  -999.00,9,     62,-999.000,  -999.0, 23.9588
     32MW013_1,  PRS2,     2,  6,     11,     11,2,19900105,1013, 22.7533,-158.0017, 4750,     71.2,  23.9198,  35.1155,2,-999.0000,5,   -999.0,5,   -999.0,9,  -999.00,9,  -999.00,9,  -999.00,9,     72,-999.000,  -999.0, 23.9048
     32MW013_1,  PRS2,     2,  6,     10,     10,4,19900105,1013, 22.7533,-158.0017, 4750,     81.0,  23.8501,  35.1303,2,-999.0000,5,   -999.0,5,   -999.0,9,  -999.00,9,  -999.00,9,  -999.00,9,     80,-999.000,  -999.0, 23.8331
     32MW013_1,  PRS2,     2,  6,      9,      9,2,19900105,1013, 22.7533,-158.0017, 4750,     81.0,  23.8501,  35.1303,2,-999.0000,5,   -999.0,5,   -999.0,9,  -999.00,9,  -999.00,9,  -999.00,9,     80,-999.000,  -999.0, 23.8331
     32MW013_1,  PRS2,     2,  6,      8,      8,2,19900105,1013, 22.7533,-158.0017, 4750,     91.1,  23.1614,  35.1845,2,-999.0000,5,   -999.0,5,   -999.0,9,  -999.00,9,  -999.00,9,  -999.00,9,     91,-999.000,  -999.0, 23.1427
     32MW013_1,  PRS2,     2,  6,      7,      7,2,19900105,1013, 22.7533,-158.0017, 4750,    101.4,  22.5803,  35.2316,2,-999.0000,5,   -999.0,5,   -999.0,9,  -999.00,9,  -999.00,9,  -999.00,9,    101,-999.000,  -999.0, 22.5599
     32MW013_1,  PRS2,     2,  6,      6,      6,2,19900105,1013, 22.7533,-158.0017, 4750,    111.8,  21.7756,  35.2629,2,-999.0000,5,   -999.0,5,   -999.0,9,  -999.00,9,  -999.00,9,  -999.00,9,    110,-999.000,  -999.0, 21.7536
     32MW013_1,  PRS2,     2,  6,      5,      5,2,19900105,1013, 22.7533,-158.0017, 4750,    124.1,  21.3452,  35.2584,2,-999.0000,5,   -999.0,5,   -999.0,9,  -999.00,9,  -999.00,9,  -999.00,9,    121,-999.000,  -999.0, 21.3212
     32MW013_1,  PRS2,     2,  6,      4,      4,4,19900105,1013, 22.7533,-158.0017, 4750,    144.4,  21.0176,  35.2603,2,-999.0000,5,   -999.0,5,   -999.0,9,  -999.00,9,  -999.00,9,  -999.00,9,    139,-999.000,  -999.0, 20.9899
     32MW013_1,  PRS2,     2,  6,      3,      3,2,19900105,1013, 22.7533,-158.0017, 4750,    144.4,  21.0176,  35.2603,2,  35.2636,2,   -999.0,5,   -999.0,9,  -999.00,9,  -999.00,9,  -999.00,9,    139,-999.000,  -999.0, 20.9899
     32MW013_1,  PRS2,     2,  6,      2,      2,2,19900105,1013, 22.7533,-158.0017, 4750,    518.8,   7.0036,  34.0383,2,  34.0450,2,   -999.0,5,   -999.0,9,  -999.00,9,  -999.00,9,  -999.00,9,    512,-999.000,  -999.0,  6.9547
     32MW013_1,  PRS2,     2,  6,      1,      1,2,19900105,1013, 22.7533,-158.0017, 4750,   1002.2,   4.1725,  34.4937,2,  34.4938,2,   -999.0,5,   -999.0,9,  -999.00,9,  -999.00,9,  -999.00,9,    994,-999.000,  -999.0,  4.0953
     32MW013_1,  PRS2,     2,  7,     23,     23,2,19900105,1340, 22.7583,-158.0233, 4700,      0.5,  23.9859,  35.1098,2,-999.0000,5,   -999.0,5,   -999.0,9,  -999.00,9,  -999.00,9,  -999.00,9,      1,-999.000,  -999.0, 23.9858
     32MW013_1,  PRS2,     2,  7,     22,     22,2,19900105,1340, 22.7583,-158.0233, 4700,     10.4,  23.9944,  35.1084,2,-999.0000,5,   -999.0,5,   -999.0,9,  -999.00,9,  -999.00,9,  -999.00,9,     12,-999.000,  -999.0, 23.9922
     32MW013_1,  PRS2,     2,  7,     21,     21,2,19900105,1340, 22.7583,-158.0233, 4700,     51.5,  23.9783,  35.1075,2,-999.0000,5,   -999.0,5,   -999.0,9,  -999.00,9,  -999.00,9,  -999.00,9,     52,-999.000,  -999.0, 23.9675
     32MW013_1,  PRS2,     2,  7,     20,     20,2,19900105,1340, 22.7583,-158.0233, 4700,     62.9,  23.9452,  35.1099,2,-999.0000,5,   -999.0,5,   -999.0,9,  -999.00,9,  -999.00,9,  -999.00,9,     62,-999.000,  -999.0, 23.9320
     32MW013_1,  PRS2,     2,  7,     19,     19,2,19900105,1340, 22.7583,-158.0233, 4700,     70.5,  23.9327,  35.1106,2,-999.0000,5,   -999.0,5,   -999.0,9,  -999.00,9,  -999.00,9,  -999.00,9,     70,-999.000,  -999.0, 23.9179
     32MW013_1,  PRS2,     2,  7,     18,     18,2,19900105,1340, 22.7583,-158.0233, 4700,    131.9,  21.5492,  35.2616,2,-999.0000,5,   -999.0,5,   -999.0,9,  -999.00,9,  -999.00,9,  -999.00,9,    131,-999.000,  -999.0, 21.5235
     32MW013_1,  PRS2,     2,  7,     17,     17,2,19900105,1340, 22.7583,-158.0233, 4700,    142.4,  21.2266,  35.2595,2,-999.0000,5,   -999.0,5,   -999.0,9,  -999.00,9,  -999.00,9,  -999.00,9,    140,-999.000,  -999.0, 21.1991
     32MW013_1,  PRS2,     2,  7,     16,     16,2,19900105,1340, 22.7583,-158.0233, 4700,    142.4,  21.2266,  35.2595,2,  35.2613,2,   -999.0,5,   -999.0,9,  -999.00,9,  -999.00,9,  -999.00,9,    140,-999.000,  -999.0, 21.1991
     32MW013_1,  PRS2,     2,  7,     15,     15,2,19900105,1340, 22.7583,-158.0233, 4700,    154.5,  20.9826,  35.2652,2,-999.0000,5,   -999.0,5,   -999.0,9,  -999.00,9,  -999.00,9,  -999.00,9,    150,-999.000,  -999.0, 20.9530
     32MW013_1,  PRS2,     2,  7,     14,     14,2,19900105,1340, 22.7583,-158.0233, 4700,    205.2,  19.5171,  35.1380,2,-999.0000,5,   -999.0,5,   -999.0,9,  -999.00,9,  -999.00,9,  -999.00,9,    200,-999.000,  -999.0, 19.4798
     32MW013_1,  PRS2,     2,  7,     13,     13,2,19900105,1340, 22.7583,-158.0233, 4700,    253.7,  16.4876,  34.7130,2,-999.0000,5,   -999.0,5,   -999.0,9,  -999.00,9,  -999.00,9,  -999.00,9,    249,-999.000,  -999.0, 16.4466
     32MW013_1,  PRS2,     2,  7,     12,     12,2,19900105,1340, 22.7583,-158.0233, 4700,    304.5,  13.0796,  34.3010,2,-999.0000,5,   -999.0,5,   -999.0,9,  -999.00,9,  -999.00,9,  -999.00,9,    300,-999.000,  -999.0, 13.0377
     32MW013_1,  PRS2,     2,  7,     11,     11,2,19900105,1340, 22.7583,-158.0233, 4700,    356.4,  10.7391,  34.1800,2,-999.0000,5,   -999.0,5,   -999.0,9,  -999.00,9,  -999.00,9,  -999.00,9,    351,-999.000,  -999.0, 10.6960
     32MW013_1,  PRS2,     2,  7,     10,     10,2,19900105,1340, 22.7583,-158.0233, 4700,    406.1,   9.2967,  34.1235,2,-999.0000,5,   -999.0,5,   -999.0,9,  -999.00,9,  -999.00,9,  -999.00,9,    398,-999.000,  -999.0,  9.2517
     32MW013_1,  PRS2,     2,  7,      9,      9,2,19900105,1340, 22.7583,-158.0233, 4700,    406.1,   9.2967,  34.1235,2,-999.0000,5,   -999.0,5,   -999.0,9,  -999.00,9,  -999.00,9,  -999.00,9,    398,-999.000,  -999.0,  9.2517
     32MW013_1,  PRS2,     2,  7,      8,      8,2,19900105,1340, 22.7583,-158.0233, 4700,    456.8,   8.0742,  34.0757,2,-999.0000,5,   -999.0,5,   -999.0,9,  -999.00,9,  -999.00,9,  -999.00,9,    449,-999.000,  -999.0,  8.0276
     32MW013_1,  PRS2,     2,  7,      7,      7,2,19900105,1340, 22.7583,-158.0233, 4700,    506.3,   7.0426,  34.0412,2,  34.0433,2,   -999.0,5,   -999.0,9,  -999.00,9,  -999.00,9,  -999.00,9,    497,-999.000,  -999.0,  6.9947
     32MW013_1,  PRS2,     2,  7,      6,      6,2,19900105,1340, 22.7583,-158.0233, 4700,    556.7,   6.3037,  34.1027,2,-999.0000,5,   -999.0,5,   -999.0,9,  -999.00,9,  -999.00,9,  -999.00,9,    548,-999.000,  -999.0,  6.2539
     32MW013_1,  PRS2,     2,  7,      5,      5,2,19900105,1340, 22.7583,-158.0233, 4700,    606.7,   5.8262,  34.1690,2,-999.0000,5,   -999.0,5,   -999.0,9,  -999.00,9,  -999.00,9,  -999.00,9,    598,-999.000,  -999.0,  5.7738
     32MW013_1,  PRS2,     2,  7,      4,      4,2,19900105,1340, 22.7583,-158.0233, 4700,    762.8,   4.9801,  34.3677,2,-999.0000,5,   -999.0,5,   -999.0,9,  -999.00,9,  -999.00,9,  -999.00,9,    753,-999.000,  -999.0,  4.9182
     32MW013_1,  PRS2,     2,  7,      3,      3,2,19900105,1340, 22.7583,-158.0233, 4700,    762.8,   4.9801,  34.3677,2,-999.0000,5,   -999.0,5,   -999.0,9,  -999.00,9,  -999.00,9,  -999.00,9,    753,-999.000,  -999.0,  4.9182
     32MW013_1,  PRS2,     2,  7,      2,      2,2,19900105,1340, 22.7583,-158.0233, 4700,    910.8,   4.5281,  34.4466,2,-999.0000,5,   -999.0,5,   -999.0,9,  -999.00,9,  -999.00,9,  -999.00,9,    902,-999.000,  -999.0,  4.4562
     32MW013_1,  PRS2,     2,  7,      1,      1,2,19900105,1340, 22.7583,-158.0233, 4700,   1033.4,   4.1803,  34.4955,2,  34.4955,2,   -999.0,5,   -999.0,9,  -999.00,9,  -999.00,9,  -999.00,9,   1024,-999.000,  -999.0,  4.1004
     32MW013_1,  PRS2,     2,  8,      5,      5,2,19900105,1700, 22.7800,-158.0500, 4700,      1.7,  23.9891,  35.1093,2,-999.0000,5,   -999.0,5,   -999.0,9,  -999.00,9,  -999.00,9,  -999.00,9,      2,-999.000,  -999.0, 23.9888
     32MW013_1,  PRS2,     2,  8,      4,      4,2,19900105,1700, 22.7800,-158.0500, 4700,     11.0,  23.9967,  35.1078,2,-999.0000,5,   -999.0,5,   -999.0,9,  -999.00,9,  -999.00,9,  -999.00,9,     12,-999.000,  -999.0, 23.9944
     32MW013_1,  PRS2,     2,  8,      3,      3,2,19900105,1700, 22.7800,-158.0500, 4700,     46.2,  24.0035,  35.1017,2,  35.1041,2,   -999.0,5,   -999.0,9,  -999.00,9,  -999.00,9,  -999.00,9,     44,-999.000,  -999.0, 23.9938
     32MW013_1,  PRS2,     2,  8,      2,      2,2,19900105,1700, 22.7800,-158.0500, 4700,    140.1,  21.7318,  35.2683,2,  35.2716,2,   -999.0,5,   -999.0,9,  -999.00,9,  -999.00,9,  -999.00,9,    135,-999.000,  -999.0, 21.7043
     32MW013_1,  PRS2,     2,  8,      1,      1,2,19900105,1700, 22.7800,-158.0500, 4700,    500.7,   6.7607,  34.0472,2,  34.0434,2,   -999.0,5,   -999.0,9,  -999.00,9,  -999.00,9,  -999.00,9,    491,-999.000,  -999.0,  6.7145