BOTTLE,20020809WHPSIObren
#code : jjward hyd_to_exchange.pl 
#original files copied from HTML directory: 20020809
#original HYD file: /whpo/11/HOTS/BOTTLE/hot13/hot13.sea   Fri Aug  9 09:51:29 2002
#original SUM file: /whpo/11/HOTS/BOTTLE/hot13/hot13.sum   Fri Aug  9 13:30:34 2002
EXPOCODE,SECT_ID,STNNBR,CASTNO,SAMPNO,BTLNBR,BTLNBR_FLAG_W,DATE,TIME,LATITUDE,LONGITUDE,DEPTH,CTDPRS,CTDTMP,CTDSAL,CTDSAL_FLAG_W,SALNTY,SALNTY_FLAG_W,CTDOXY,CTDOXY_FLAG_W,OXYGEN,OXYGEN_FLAG_W,SILCAT,SILCAT_FLAG_W,NO2+NO3,NO2+NO3_FLAG_W,PHSPHT,PHSPHT_FLAG_W,CTDRAW,REVTMP,REVPRS,THETA
,,,,,,,,,,,,DBAR,ITS-90,PSS-78,,PSS-78,,UMOL/KG,,UMOL/KG,,UMOL/KG,,UMOL/KG,,UMOL/KG,,,DEG C,DBAR,ITS-90
     32MW013_1,  PRS2,     1,  2,     22,     22,2,19900107,1925, 21.3433,-158.2700, 1446,     -0.1,  25.0859,  34.9433,2,  35.0094,4,   -999.0,5,   -999.0,5,  -999.00,5,  -999.00,5,  -999.00,5,      2,-999.000,  -999.0, 25.0859
     32MW013_1,  PRS2,     1,  2,     21,     21,2,19900107,1925, 21.3433,-158.2700, 1446,      7.2,  25.0670,  34.9409,2,-999.0000,5,   -999.0,5,    207.8,2,     1.65,2,     0.05,2,     0.07,2,      8,-999.000,  -999.0, 25.0655
     32MW013_1,  PRS2,     1,  2,     20,     20,2,19900107,1925, 21.3433,-158.2700, 1446,     26.9,  25.0375,  34.9398,2,-999.0000,5,   -999.0,5,    207.2,2,     1.25,2,     0.05,2,     0.07,2,     26,-999.000,  -999.0, 25.0316
     32MW013_1,  PRS2,     1,  2,     19,     19,2,19900107,1925, 21.3433,-158.2700, 1446,     46.2,  24.6526,  35.0153,2,-999.0000,5,   -999.0,5,    208.6,2,     1.46,2,     0.02,2,     0.06,2,     46,-999.000,  -999.0, 24.6427
     32MW013_1,  PRS2,     1,  2,     18,     18,2,19900107,1925, 21.3433,-158.2700, 1446,     62.1,  24.4685,  35.0254,2,-999.0000,5,   -999.0,5,    208.9,2,     1.65,2,     0.05,2,     0.06,2,     62,-999.000,  -999.0, 24.4552
     32MW013_1,  PRS2,     1,  2,     17,     17,2,19900107,1925, 21.3433,-158.2700, 1446,     76.7,  24.1956,  35.0881,2,-999.0000,5,   -999.0,5,   -999.0,5,  -999.00,5,  -999.00,5,  -999.00,5,     75,-999.000,  -999.0, 24.1793
     32MW013_1,  PRS2,     1,  2,     16,     16,2,19900107,1925, 21.3433,-158.2700, 1446,     76.7,  24.1956,  35.0881,2,-999.0000,5,   -999.0,5,    209.4,2,     1.25,2,     0.02,2,     0.05,2,     75,-999.000,  -999.0, 24.1793
     32MW013_1,  PRS2,     1,  2,     15,     15,2,19900107,1925, 21.3433,-158.2700, 1446,     96.9,  23.0419,  35.1591,2,-999.0000,5,   -999.0,5,    206.2,2,     1.18,2,     0.16,2,     0.10,2,     97,-999.000,  -999.0, 23.0221
     32MW013_1,  PRS2,     1,  2,     14,     14,2,19900107,1925, 21.3433,-158.2700, 1446,    107.2,  22.2457,  35.1950,2,  35.1950,2,   -999.0,5,    201.9,2,     1.25,2,     0.66,2,     0.14,2,    105,-999.000,  -999.0, 22.2244
     32MW013_1,  PRS2,     1,  2,     13,     13,2,19900107,1925, 21.3433,-158.2700, 1446,    126.8,  21.4298,  35.1555,2,-999.0000,5,   -999.0,5,    192.4,2,     1.65,2,     1.46,2,     0.21,2,    125,-999.000,  -999.0, 21.4052
     32MW013_1,  PRS2,     1,  2,     12,     12,2,19900107,1925, 21.3433,-158.2700, 1446,    149.8,  20.0864,  35.0518,2,-999.0000,5,   -999.0,5,    182.5,2,     2.45,2,     2.96,2,     0.32,2,    147,-999.000,  -999.0, 20.0586
     32MW013_1,  PRS2,     1,  2,     11,     11,2,19900107,1925, 21.3433,-158.2700, 1446,    182.4,  18.8464,  34.9816,2,-999.0000,5,   -999.0,5,    186.3,2,     2.66,2,     3.65,2,     0.36,2,    179,-999.000,  -999.0, 18.8141
     32MW013_1,  PRS2,     1,  2,     10,     10,2,19900107,1925, 21.3433,-158.2700, 1446,    206.4,  17.6108,  34.8415,2,-999.0000,5,   -999.0,5,   -999.0,5,  -999.00,5,  -999.00,5,  -999.00,5,    201,-999.000,  -999.0, 17.5759
     32MW013_1,  PRS2,     1,  2,      9,      9,2,19900107,1925, 21.3433,-158.2700, 1446,    206.4,  17.6108,  34.8415,2,-999.0000,5,   -999.0,5,    191.1,2,     5.26,2,     6.08,2,     0.53,2,    201,-999.000,  -999.0, 17.5759
     32MW013_1,  PRS2,     1,  2,      8,      8,2,19900107,1925, 21.3433,-158.2700, 1446,    230.2,  15.8995,  34.6345,2,-999.0000,5,   -999.0,5,    186.7,2,     5.47,2,     6.49,2,     0.56,2,    225,-999.000,  -999.0, 15.8633
     32MW013_1,  PRS2,     1,  2,      7,      7,2,19900107,1925, 21.3433,-158.2700, 1446,    256.0,  14.7928,  34.5156,2,-999.0000,5,   -999.0,5,    188.1,2,     6.87,2,     7.80,2,     0.64,2,    250,-999.000,  -999.0, 14.7544
     32MW013_1,  PRS2,     1,  2,      6,      6,2,19900107,1925, 21.3433,-158.2700, 1446,    308.4,  10.9530,  34.1988,2,-999.0000,5,   -999.0,5,    182.6,2,    17.51,2,    15.21,2,     1.14,2,    302,-999.000,  -999.0, 10.9153
     32MW013_1,  PRS2,     1,  2,      5,      5,2,19900107,1925, 21.3433,-158.2700, 1446,    408.6,   7.9574,  34.0985,2,-999.0000,5,   -999.0,5,    132.3,2,    38.40,2,    26.21,2,     1.94,2,    400,-999.000,  -999.0,  7.9162
     32MW013_1,  PRS2,     1,  2,      4,      4,2,19900107,1925, 21.3433,-158.2700, 1446,    508.6,   6.2486,  34.1217,2,-999.0000,5,   -999.0,5,   -999.0,5,  -999.00,5,  -999.00,5,  -999.00,5,    500,-999.000,  -999.0,  6.2035
     32MW013_1,  PRS2,     1,  2,      3,      3,2,19900107,1925, 21.3433,-158.2700, 1446,    508.6,   6.2486,  34.1217,2,  34.0437,4,   -999.0,5,     69.3,2,    62.50,2,    34.94,2,     2.59,2,    500,-999.000,  -999.0,  6.2035
     32MW013_1,  PRS2,     1,  2,      2,      2,2,19900107,1925, 21.3433,-158.2700, 1446,    759.6,   4.8681,  34.4187,2,-999.0000,5,   -999.0,5,     36.7,2,    92.58,2,    41.04,2,     3.04,2,    751,-999.000,  -999.0,  4.8071
     32MW013_1,  PRS2,     1,  2,      1,      1,2,19900107,1925, 21.3433,-158.2700, 1446,   1022.3,   3.8680,  34.5062,2,-999.0000,5,   -999.0,5,     49.6,2,   111.15,2,    41.51,2,     3.02,2,   1013,-999.000,  -999.0,  3.7915
     32MW013_1,  PRS2,     2,  1,     23,     23,2,19900104,1416, 22.7217,-157.9567, 4721,    899.8,   4.4365,  34.4516,2,  34.4500,2,     37.1,2,     35.4,2,   103.22,2,    41.75,2,     3.02,2,    900,-999.000,  -999.0,  4.3662
     32MW013_1,  PRS2,     2,  1,     22,     22,2,19900104,1416, 22.7217,-157.9567, 4721,    899.8,   4.4365,  34.4516,2,  34.4498,2,     37.1,2,     35.1,2,   103.22,2,    41.75,2,     3.04,2,    900,-999.000,  -999.0,  4.3662
     32MW013_1,  PRS2,     2,  1,     21,     21,2,19900104,1416, 22.7217,-157.9567, 4721,   1098.5,   3.8995,  34.5122,2,  34.5117,2,     45.1,2,     45.3,2,   112.25,2,    41.86,2,     3.02,2,   1099,-999.000,  -999.0,  3.8164
     32MW013_1,  PRS2,     2,  1,     20,     20,2,19900104,1416, 22.7217,-157.9567, 4721,   1249.3,   3.5239,  34.5345,2,  34.5336,2,     53.1,2,     52.9,2,   119.98,2,    41.63,2,     2.99,2,   1250,-999.000,  -999.0,  3.4315
     32MW013_1,  PRS2,     2,  1,     19,     19,2,19900104,1416, 22.7217,-157.9567, 4721,   1249.3,   3.5239,  34.5345,2,  34.5342,2,     53.1,2,     53.5,2,   119.68,2,    41.63,2,     3.00,2,   1250,-999.000,  -999.0,  3.4315
     32MW013_1,  PRS2,     2,  1,     18,     18,2,19900104,1416, 22.7217,-157.9567, 4721,   1395.2,   3.1685,  34.5573,2,  34.5575,2,     59.0,2,     58.8,2,   126.30,2,    41.63,2,     3.00,2,   1396,-999.000,  -999.0,  3.0675
     32MW013_1,  PRS2,     2,  1,     17,     17,2,19900104,1416, 22.7217,-157.9567, 4721,   1548.2,   2.8473,  34.5750,2,  34.5753,2,     65.8,2,     66.6,2,   133.32,2,    41.27,2,     2.94,2,   1548,-999.000,  -999.0,  2.7372
     32MW013_1,  PRS2,     2,  1,     16,     16,2,19900104,1416, 22.7217,-157.9567, 4721,   1701.2,   2.5849,  34.5912,2,  34.5914,2,     72.4,2,     73.4,2,   139.35,2,    40.79,2,     2.90,2,   1700,-999.000,  -999.0,  2.4653
     32MW013_1,  PRS2,     2,  1,     15,     15,2,19900104,1416, 22.7217,-157.9567, 4721,   1850.9,   2.3406,  34.6075,2,  34.6087,2,     81.6,2,     80.6,2,   143.76,2,    40.42,2,     2.88,2,   1851,-999.000,  -999.0,  2.2118
     32MW013_1,  PRS2,     2,  1,     14,     14,2,19900104,1416, 22.7217,-157.9567, 4721,   2000.5,   2.1475,  34.6207,2,  34.6210,2,     88.7,2,     87.7,2,   146.37,2,    39.95,2,     2.84,2,   2001,-999.000,  -999.0,  2.0089
     32MW013_1,  PRS2,     2,  1,     13,     13,2,19900104,1416, 22.7217,-157.9567, 4721,   2201.9,   1.9337,  34.6345,2,  34.6364,2,     96.6,2,     94.3,2,   149.38,2,    39.59,2,     2.78,2,   2202,-999.000,  -999.0,  1.7811
     32MW013_1,  PRS2,     2,  1,     12,     12,2,19900104,1416, 22.7217,-157.9567, 4721,   2591.4,   1.7213,  34.6539,2,  34.6573,2,    106.0,2,    108.8,2,   156.80,2,    38.75,2,     2.74,2,   2592,-999.000,  -999.0,  1.5380
     32MW013_1,  PRS2,     2,  1,     11,     11,2,19900104,1416, 22.7217,-157.9567, 4721,   2794.3,   1.6230,  34.6638,2,  34.6671,2,    116.0,2,    116.4,2,   156.80,2,    38.27,2,     2.67,2,   2794,-999.000,  -999.0,  1.4230
     32MW013_1,  PRS2,     2,  1,     10,     10,2,19900104,1416, 22.7217,-157.9567, 4721,   3000.3,   1.5714,  34.6700,2,  34.6701,2,    122.1,2,    122.2,2,   158.40,2,    38.04,2,     2.63,2,   3001,-999.000,  -999.0,  1.3530
     32MW013_1,  PRS2,     2,  1,      9,      9,2,19900104,1416, 22.7217,-157.9567, 4721,   3197.4,   1.5255,  34.6756,2,-999.0000,5,    129.0,2,   -999.0,5,  -999.00,5,  -999.00,5,  -999.00,5,   3197,-999.000,  -999.0,  1.2891
     32MW013_1,  PRS2,     2,  1,      8,      8,2,19900104,1416, 22.7217,-157.9567, 4721,   3395.2,   1.4907,  34.6803,2,  34.6812,2,    136.2,2,    134.9,2,   152.78,2,    36.96,2,     2.59,2,   3395,-999.000,  -999.0,  1.2354
     32MW013_1,  PRS2,     2,  1,      7,      7,2,19900104,1416, 22.7217,-157.9567, 4721,   3600.6,   1.4705,  34.6836,2,  34.6823,2,    139.5,2,    139.9,2,   151.77,2,    36.72,2,     2.54,2,   3601,-999.000,  -999.0,  1.1947
     32MW013_1,  PRS2,     2,  1,      6,      6,2,19900104,1416, 22.7217,-157.9567, 4721,   3800.2,   1.4609,  34.6863,2,  34.6862,2,    143.8,2,    144.5,2,   152.38,2,    36.36,2,     2.54,2,   3798,-999.000,  -999.0,  1.1645
     32MW013_1,  PRS2,     2,  1,      5,      5,2,19900104,1416, 22.7217,-157.9567, 4721,   3995.1,   1.4614,  34.6879,2,  34.6884,2,    147.9,2,    147.3,2,   147.77,2,    36.12,2,     2.51,2,   3996,-999.000,  -999.0,  1.1442
     32MW013_1,  PRS2,     2,  1,      4,      4,2,19900104,1416, 22.7217,-157.9567, 4721,   4196.1,   1.4669,  34.6895,2,  34.6893,2,    148.7,2,    150.2,2,   147.36,2,    36.01,2,     2.50,2,   4196,-999.000,  -999.0,  1.1273
     32MW013_1,  PRS2,     2,  1,      3,      3,2,19900104,1416, 22.7217,-157.9567, 4721,   4395.9,   1.4773,  34.6908,2,  34.6892,2,    150.0,2,    150.4,2,   147.36,2,    36.01,2,     2.51,2,   4394,-999.000,  -999.0,  1.1149
     32MW013_1,  PRS2,     2,  1,      1,      1,2,19900104,1416, 22.7217,-157.9567, 4721,   4600.5,   1.4937,  34.6915,2,  34.6925,2,    154.1,2,    152.7,2,   145.76,2,    35.65,2,     2.48,2,   4601,-999.000,  -999.0,  1.1072
     32MW013_1,  PRS2,     2,  1,      2,      2,2,19900104,1416, 22.7217,-157.9567, 4721,   4600.7,   1.4937,  34.6915,2,  34.6909,2,    153.7,2,    153.5,2,   145.35,2,    35.76,2,     2.48,2,   4600,-999.000,  -999.0,  1.1072
     32MW013_1,  PRS2,     2,  2,     23,     23,4,19900104,1940, 22.7500,-158.0000, 4700,     -0.3,  23.8949,  35.1177,2,-999.0000,5,    211.5,2,   -999.0,5,  -999.00,5,  -999.00,5,  -999.00,5,      1,-999.000,  -999.0, 23.8949
     32MW013_1,  PRS2,     2,  2,     22,     22,2,19900104,1940, 22.7500,-158.0000, 4700,     25.6,  23.8893,  35.1157,2,  35.1174,2,    211.7,2,    213.5,2,     0.85,2,     0.02,2,     0.07,2,     26,-999.000,  -999.0, 23.8839
     32MW013_1,  PRS2,     2,  2,     21,     21,2,19900104,1940, 22.7500,-158.0000, 4700,     51.3,  23.8955,  35.1149,2,  35.1145,2,    211.7,2,    210.9,2,     1.05,2,     0.00,2,     0.07,2,     51,-999.000,  -999.0, 23.8848
     32MW013_1,  PRS2,     2,  2,     20,     20,2,19900104,1940, 22.7500,-158.0000, 4700,     77.2,  23.8936,  35.1147,2,  35.1159,2,    211.8,2,    211.0,2,     0.85,2,     0.02,2,     0.07,2,     77,-999.000,  -999.0, 23.8774
     32MW013_1,  PRS2,     2,  2,     19,     19,2,19900104,1940, 22.7500,-158.0000, 4700,     77.2,  23.8936,  35.1147,2,  35.1162,2,    211.8,2,    210.7,2,     0.85,2,     0.00,2,     0.07,2,     77,-999.000,  -999.0, 23.8774
     32MW013_1,  PRS2,     2,  2,     18,     18,2,19900104,1940, 22.7500,-158.0000, 4700,    105.1,  23.6629,  35.1601,2,  35.1616,2,    200.8,2,    210.1,2,     1.05,2,     0.00,2,     0.06,2,    103,-999.000,  -999.0, 23.6410
     32MW013_1,  PRS2,     2,  2,     17,     17,2,19900104,1940, 22.7500,-158.0000, 4700,    131.6,  21.9264,  35.2606,2,  35.2650,2,    199.5,2,    212.1,2,     1.05,2,     0.31,2,     0.11,2,    131,-999.000,  -999.0, 21.9004
     32MW013_1,  PRS2,     2,  2,     16,     16,2,19900104,1940, 22.7500,-158.0000, 4700,    182.6,  20.8953,  35.2769,2,  35.2781,2,    187.0,2,    198.5,2,     1.05,2,     0.99,2,     0.18,2,    180,-999.000,  -999.0, 20.8604
     32MW013_1,  PRS2,     2,  2,     15,     15,2,19900104,1940, 22.7500,-158.0000, 4700,    182.6,  20.8953,  35.2769,2,  35.2784,2,    187.0,2,    198.3,2,     1.05,2,     0.98,2,     0.17,2,    180,-999.000,  -999.0, 20.8604
     32MW013_1,  PRS2,     2,  2,     14,     14,2,19900104,1940, 22.7500,-158.0000, 4700,    216.9,  19.2366,  35.1069,2,  35.1277,2,    184.6,2,    197.5,2,     1.86,2,     1.91,2,     0.21,2,    213,-999.000,  -999.0, 19.1975
     32MW013_1,  PRS2,     2,  2,     13,     13,2,19900104,1940, 22.7500,-158.0000, 4700,    338.5,  11.6140,  34.2179,2,  34.2165,2,    173.7,2,    174.8,2,    14.50,2,    14.49,2,     1.12,2,    333,-999.000,  -999.0, 11.5709
     32MW013_1,  PRS2,     2,  2,     12,     12,2,19900104,1940, 22.7500,-158.0000, 4700,    377.0,  10.2311,  34.1601,2,  34.1655,2,    172.9,2,    175.3,2,    19.72,2,    17.68,2,     1.33,2,    371,-999.000,  -999.0, 10.1868
     32MW013_1,  PRS2,     2,  2,     11,     11,2,19900104,1940, 22.7500,-158.0000, 4700,    496.0,   7.1497,  34.0405,2,  34.0501,2,    130.6,2,     63.3,4,    44.42,2,    28.24,2,     2.02,2,    492,-999.000,  -999.0,  7.1024
     32MW013_1,  PRS2,     2,  2,     10,     10,2,19900104,1940, 22.7500,-158.0000, 4700,    516.7,   6.8269,  34.0431,2,  34.0432,2,    118.7,2,    114.8,2,    49.44,2,    30.28,2,     2.18,2,    510,-999.000,  -999.0,  6.7789
     32MW013_1,  PRS2,     2,  2,      9,      9,2,19900104,1940, 22.7500,-158.0000, 4700,    555.3,   6.3560,  34.1042,2,  34.0971,2,     78.7,2,     76.3,2,    60.48,2,    34.59,2,     2.51,2,    549,-999.000,  -999.0,  6.3061
     32MW013_1,  PRS2,     2,  2,      8,      8,2,19900104,1940, 22.7500,-158.0000, 4700,    576.6,   5.9284,  34.1460,2,  34.1378,2,     59.7,2,     55.3,2,    68.51,2,    36.85,2,     2.71,2,    568,-999.000,  -999.0,  5.8784
     32MW013_1,  PRS2,     2,  2,      7,      7,2,19900104,1940, 22.7500,-158.0000, 4700,    618.3,   5.6593,  34.2114,2,  34.2110,2,     44.4,2,     42.6,2,    76.54,2,    38.53,2,     2.85,2,    610,-999.000,  -999.0,  5.6067
     32MW013_1,  PRS2,     2,  2,      6,      6,2,19900104,1940, 22.7500,-158.0000, 4700,    680.9,   5.0016,  34.2458,2,  34.2449,2,     26.2,2,     25.8,2,    90.19,2,    41.16,2,     3.02,2,    674,-999.000,  -999.0,  4.9467
     32MW013_1,  PRS2,     2,  2,      5,      5,2,19900104,1940, 22.7500,-158.0000, 4700,    742.1,   4.9700,  34.3678,2,  34.3658,2,     30.3,2,     31.4,2,    91.19,2,    41.04,2,     3.01,2,    734,-999.000,  -999.0,  4.9099
     32MW013_1,  PRS2,     2,  2,      4,      4,2,19900104,1940, 22.7500,-158.0000, 4700,    848.2,   4.5705,  34.4280,2,  34.4262,2,     33.1,2,     35.2,2,    99.41,2,    41.87,2,     3.05,2,    840,-999.000,  -999.0,  4.5037
     32MW013_1,  PRS2,     2,  2,      3,      3,2,19900104,1940, 22.7500,-158.0000, 4700,    903.9,   4.3971,  34.4618,2,  34.4583,2,     37.2,2,     37.7,2,   102.63,2,    41.75,2,     3.05,2,    895,-999.000,  -999.0,  4.3266
     32MW013_1,  PRS2,     2,  2,      2,      2,2,19900104,1940, 22.7500,-158.0000, 4700,   1009.5,   4.0844,  34.4984,2,  34.5020,2,     42.2,2,     43.0,2,   108.64,2,    41.98,2,     3.06,2,    999,-999.000,  -999.0,  4.0073
     32MW013_1,  PRS2,     2,  2,      1,      1,2,19900104,1940, 22.7500,-158.0000, 4700,   1024.6,   4.0234,  34.5030,2,  34.5050,2,     42.9,2,     44.2,2,   110.24,2,    41.98,2,     3.05,2,   1014,-999.000,  -999.0,  3.9455
     32MW013_1,  PRS2,     2,  3,      2,      2,2,19900105,0234, 22.7467,-158.0317, 4750,      1.0,  23.9349,  35.1122,2,  35.1104,2,    207.4,1,   -999.0,9,  -999.00,9,  -999.00,9,  -999.00,9,      1,-999.000,  -999.0, 23.9347
     32MW013_1,  PRS2,     2,  3,      1,      1,2,19900105,0234, 22.7467,-158.0317, 4750,     13.0,  23.9432,  33.3180,4,  35.1093,2,   -999.0,5,   -999.0,9,  -999.00,9,  -999.00,9,  -999.00,9,     12,-999.000,  -999.0, 23.9404