BOTTLE,20070323WHPSIODBK
#code : jjward hyd_to_exchange.pl 
#original files copied from HTML directory: 10070321
#original HYD file: pr15_20061104hy.txt   Tue Mar 13 12:20:11 2007
#original SUM file: pr15_20061104su.txt   Tue Mar 13 12:20:12 2007
EXPOCODE,SECT_ID,STNNBR,CASTNO,SAMPNO,BTLNBR,BTLNBR_FLAG_W,DATE,TIME,LATITUDE,LONGITUDE,DEPTH,CTDPRS,CTDTMP,CTDSAL,CTDSAL_FLAG_W,SALNTY,SALNTY_FLAG_W,CTDOXY,CTDOXY_FLAG_W,THETA,OXYGEN,OXYGEN_FLAG_W
,,,,,,,,,,,,DBAR,ITS-90,PSS-78,,PSS-78,,UMOL/KG,,DEG C,UMOL/KG,
  33KM20061104,  PR15,     1,  1,     24,     24,2,20061105,2235,  8.0500, 165.1000, 5168,      2.4,  29.6948,  33.8282,2,  33.8341,2,   -999.0,9, 29.6942,   -999.0,9
  33KM20061104,  PR15,     1,  1,     20,     20,2,20061105,2235,  8.0500, 165.1000, 5168,     20.8,  29.5468,  33.8290,2,  33.8339,2,   -999.0,9, 29.5417,   -999.0,9
  33KM20061104,  PR15,     1,  1,     17,     17,2,20061105,2235,  8.0500, 165.1000, 5168,     40.3,  29.5598,  34.0011,2,  33.9613,2,   -999.0,9, 29.5499,   -999.0,9
  33KM20061104,  PR15,     1,  1,      5,      5,2,20061105,2235,  8.0500, 165.1000, 5168,    200.7,  10.7432,  34.5744,2,  34.5780,2,   -999.0,9, 10.7190,   -999.0,9
  33KM20061104,  PR15,     1,  1,      4,      4,2,20061105,2235,  8.0500, 165.1000, 5168,    502.2,   7.8714,  34.5714,2,  34.5952,2,   -999.0,9,  7.8204,   -999.0,9
  33KM20061104,  PR15,     1,  1,      3,      3,2,20061105,2235,  8.0500, 165.1000, 5168,   1505.3,   3.0356,  34.5964,2,  34.6078,2,   -999.0,9,  2.9268,   -999.0,9
  33KM20061104,  PR15,     1,  1,     15,     15,2,20061105,2235,  8.0500, 165.1000, 5168,   2468.6,   1.8934,  34.6550,2,  34.6685,2,   -999.0,9,  1.7179,   -999.0,9
  33KM20061104,  PR15,     2,  1,     24,     24,2,20061106,0720,  7.0050, 165.0650, 5165,      1.8,  29.6897,  33.8062,2,  33.8104,2,   -999.0,9, 29.6892,   -999.0,9
  33KM20061104,  PR15,     2,  1,     20,     20,2,20061106,0720,  7.0050, 165.0650, 5165,     20.7,  29.5198,  33.7895,2,  33.7926,2,   -999.0,9, 29.5148,   -999.0,9
  33KM20061104,  PR15,     2,  1,     17,     17,2,20061106,0720,  7.0050, 165.0650, 5165,     40.3,  29.0291,  34.2030,2,  34.2006,2,   -999.0,9, 29.0194,   -999.0,9
  33KM20061104,  PR15,     2,  1,      5,      5,2,20061106,0720,  7.0050, 165.0650, 5165,    203.4,  11.1809,  34.5494,2,  34.5491,2,   -999.0,9, 11.1557,   -999.0,9
  33KM20061104,  PR15,     2,  1,      4,      4,2,20061106,0720,  7.0050, 165.0650, 5165,    400.8,   8.7351,  34.6246,2,  34.6285,2,   -999.0,9,  8.6920,   -999.0,9
  33KM20061104,  PR15,     2,  1,      3,      3,2,20061106,0720,  7.0050, 165.0650, 5165,    598.5,   7.1496,  34.5624,2,  34.5639,2,   -999.0,9,  7.0916,   -999.0,9
  33KM20061104,  PR15,     2,  1,      2,      2,2,20061106,0720,  7.0050, 165.0650, 5165,    798.8,   5.6927,  34.5414,2,  34.5452,2,   -999.0,9,  5.6231,   -999.0,9
  33KM20061104,  PR15,     2,  1,      1,      1,2,20061106,0720,  7.0050, 165.0650, 5165,    998.3,   4.6654,  34.5508,2,  34.5530,2,   -999.0,9,  4.5847,   -999.0,9
  33KM20061104,  PR15,     3,  1,     24,     24,2,20061106,1355,  5.9983, 165.0367, -999,      0.8,  29.2611,  33.7327,2,  33.7391,2,   -999.0,9, 29.2609,   -999.0,9
  33KM20061104,  PR15,     3,  1,     20,     20,2,20061106,1355,  5.9983, 165.0367, -999,     21.2,  29.2781,  33.7320,2,  33.7389,2,   -999.0,9, 29.2729,   -999.0,9
  33KM20061104,  PR15,     3,  1,     17,     17,2,20061106,1355,  5.9983, 165.0367, -999,     40.5,  29.2516,  33.7635,2,  33.7648,2,   -999.0,9, 29.2418,   -999.0,9
  33KM20061104,  PR15,     3,  1,      5,      5,2,20061106,1355,  5.9983, 165.0367, -999,    201.0,  12.6486,  34.5514,2,  34.5601,2,   -999.0,9, 12.6215,   -999.0,9
  33KM20061104,  PR15,     3,  1,      4,      4,2,20061106,1355,  5.9983, 165.0367, -999,    400.3,   8.5828,  34.6126,2,  34.6152,2,   -999.0,9,  8.5403,   -999.0,9
  33KM20061104,  PR15,     3,  1,      3,      3,2,20061106,1355,  5.9983, 165.0367, -999,    600.4,   7.3016,  34.5644,2,  34.5668,2,   -999.0,9,  7.2428,   -999.0,9
  33KM20061104,  PR15,     3,  1,      2,      2,2,20061106,1355,  5.9983, 165.0367, -999,    800.4,   5.7109,  34.5404,2,  34.5420,2,   -999.0,9,  5.6410,   -999.0,9
  33KM20061104,  PR15,     3,  1,      1,      1,2,20061106,1355,  5.9983, 165.0367, -999,   1000.7,   4.8015,  34.5496,2,  34.5550,2,   -999.0,9,  4.7196,   -999.0,9
  33KM20061104,  PR15,     4,  1,     24,     24,2,20061107,0547,  5.0083, 165.0167, 4775,      1.6,  29.4414,  33.7008,2,  33.7125,2,   -999.0,9, 29.4410,   -999.0,9
  33KM20061104,  PR15,     4,  1,     20,     20,2,20061107,0547,  5.0083, 165.0167, 4775,     21.0,  29.2698,  33.7373,2,  33.7426,2,   -999.0,9, 29.2647,   -999.0,9
  33KM20061104,  PR15,     4,  1,     17,     17,2,20061107,0547,  5.0083, 165.0167, 4775,     42.9,  27.8235,  34.1860,2,  34.1886,2,   -999.0,9, 27.8135,   -999.0,9
  33KM20061104,  PR15,     4,  1,      5,      5,2,20061107,0547,  5.0083, 165.0167, 4775,    199.0,  14.1609,  34.6111,2,  34.6220,2,   -999.0,9, 14.1320,   -999.0,9
  33KM20061104,  PR15,     4,  1,      4,      4,2,20061107,0547,  5.0083, 165.0167, 4775,    399.8,   8.6627,  34.6217,2,  34.6263,2,   -999.0,9,  8.6200,   -999.0,9
  33KM20061104,  PR15,     4,  1,      3,      3,2,20061107,0547,  5.0083, 165.0167, 4775,    601.0,   7.3540,  34.5719,2,  34.5794,2,   -999.0,9,  7.2949,   -999.0,9
  33KM20061104,  PR15,     4,  1,      2,      2,2,20061107,0547,  5.0083, 165.0167, 4775,    799.3,   5.7329,  34.5407,2,  34.5448,2,   -999.0,9,  5.6630,   -999.0,9
  33KM20061104,  PR15,     4,  1,      1,      1,2,20061107,0547,  5.0083, 165.0167, 4775,   1002.5,   4.8844,  34.5463,2,  34.5514,2,   -999.0,9,  4.8017,   -999.0,9
  33KM20061104,  PR15,     5,  1,     24,     24,2,20061107,1238,  3.9900, 165.0167, 4487,      1.3,  29.3608,  34.0222,2,  34.0212,2,   -999.0,9, 29.3604,   -999.0,9
  33KM20061104,  PR15,     5,  1,     20,     20,2,20061107,1238,  3.9900, 165.0167, 4487,     20.9,  29.3151,  34.0533,2,  34.0408,2,   -999.0,9, 29.3100,   -999.0,9
  33KM20061104,  PR15,     5,  1,     17,     17,2,20061107,1238,  3.9900, 165.0167, 4487,     40.4,  29.1137,  35.0447,2,  34.9935,2,   -999.0,9, 29.1039,   -999.0,9
  33KM20061104,  PR15,     5,  1,      5,      5,2,20061107,1238,  3.9900, 165.0167, 4487,    200.0,  16.2234,  34.6919,2,  34.6994,2,   -999.0,9, 16.1915,   -999.0,9
  33KM20061104,  PR15,     5,  1,      4,      4,2,20061107,1238,  3.9900, 165.0167, 4487,    400.7,   8.1849,  34.5818,2,  34.5858,2,   -999.0,9,  8.1435,   -999.0,9
  33KM20061104,  PR15,     5,  1,      3,      3,2,20061107,1238,  3.9900, 165.0167, 4487,    600.2,   6.8986,  34.5609,2,  34.5608,2,   -999.0,9,  6.8416,   -999.0,9
  33KM20061104,  PR15,     5,  1,      2,      2,2,20061107,1238,  3.9900, 165.0167, 4487,    801.7,   5.5603,  34.5417,2,  34.5418,2,   -999.0,9,  5.4911,   -999.0,9
  33KM20061104,  PR15,     5,  1,      1,      1,2,20061107,1238,  3.9900, 165.0167, 4487,   1003.2,   4.7263,  34.5517,2,  34.5507,2,   -999.0,9,  4.6447,   -999.0,9
  33KM20061104,  PR15,     6,  1,     24,     24,2,20061107,1948,  2.8683, 164.9983, 4240,      1.9,  29.3574,  34.0007,2,  34.0036,2,   -999.0,9, 29.3569,   -999.0,9
  33KM20061104,  PR15,     6,  1,     20,     20,2,20061107,1948,  2.8683, 164.9983, 4240,     20.3,  29.4021,  34.0328,2,  34.0354,2,   -999.0,9, 29.3972,   -999.0,9
  33KM20061104,  PR15,     6,  1,     17,     17,2,20061107,1948,  2.8683, 164.9983, 4240,     40.3,  29.4170,  34.1145,2,  34.1134,2,   -999.0,9, 29.4072,   -999.0,9
  33KM20061104,  PR15,     6,  1,      5,      5,2,20061107,1948,  2.8683, 164.9983, 4240,    204.6,  16.8471,  34.7229,2,  34.7384,2,   -999.0,9, 16.8136,   -999.0,9
  33KM20061104,  PR15,     6,  1,      4,      4,2,20061107,1948,  2.8683, 164.9983, 4240,    399.8,   9.5937,  34.6779,2,  34.6802,2,   -999.0,9,  9.5482,   -999.0,9
  33KM20061104,  PR15,     6,  1,      3,      3,2,20061107,1948,  2.8683, 164.9983, 4240,    602.7,   7.6669,  34.5773,2,  34.5787,2,   -999.0,9,  7.6061,   -999.0,9
  33KM20061104,  PR15,     6,  1,      2,      2,2,20061107,1948,  2.8683, 164.9983, 4240,    800.3,   5.8145,  34.5424,2,  34.5427,2,   -999.0,9,  5.7440,   -999.0,9
  33KM20061104,  PR15,     6,  1,      1,      1,2,20061107,1948,  2.8683, 164.9983, 4240,   1003.3,   4.8404,  34.5479,2,  34.5482,2,   -999.0,9,  4.7580,   -999.0,9
  33KM20061104,  PR15,     8,  1,     24,     24,2,20061108,0351,  2.0167, 164.9900, -999,      1.7,  29.5781,  34.0312,2,  34.0335,2,   -999.0,9, 29.5777,   -999.0,9
  33KM20061104,  PR15,     8,  1,     17,     17,2,20061108,0351,  2.0167, 164.9900, -999,     39.9,  29.4571,  34.1054,2,  34.1069,2,   -999.0,9, 29.4474,   -999.0,9
  33KM20061104,  PR15,     8,  1,      5,      5,2,20061108,0351,  2.0167, 164.9900, -999,    200.2,  13.7487,  34.6069,2,  34.6073,2,   -999.0,9, 13.7202,   -999.0,9
  33KM20061104,  PR15,     8,  1,      4,      4,2,20061108,0351,  2.0167, 164.9900, -999,    400.8,  10.0589,  34.7148,2,  34.7193,2,   -999.0,9, 10.0119,   -999.0,9
  33KM20061104,  PR15,     8,  1,      3,      3,2,20061108,0351,  2.0167, 164.9900, -999,    600.5,   7.4766,  34.5785,2,  34.5807,2,   -999.0,9,  7.4170,   -999.0,9
  33KM20061104,  PR15,     8,  1,      2,      2,2,20061108,0351,  2.0167, 164.9900, -999,    799.8,   5.7650,  34.5374,2,  34.5377,2,   -999.0,9,  5.6948,   -999.0,9
  33KM20061104,  PR15,     8,  1,      1,      1,2,20061108,0351,  2.0167, 164.9900, -999,   1000.8,   4.5425,  34.5542,2,  34.5571,2,   -999.0,9,  4.4625,   -999.0,9
  33KM20061104,  PR15,    10,  1,     20,     20,2,20061108,1132,  0.9967, 165.0283, 4328,     20.5,  29.5134,  34.0289,2,  34.0322,2,   -999.0,9, 29.5084,   -999.0,9
  33KM20061104,  PR15,    10,  1,     17,     17,2,20061108,1132,  0.9967, 165.0283, 4328,     41.4,  29.4491,  34.0211,2,  34.0249,2,   -999.0,9, 29.4390,   -999.0,9
  33KM20061104,  PR15,    10,  1,      5,      5,2,20061108,1132,  0.9967, 165.0283, 4328,    201.7,  16.5885,  34.8928,2,  34.9210,2,   -999.0,9, 16.5558,   -999.0,9
  33KM20061104,  PR15,    10,  1,      4,      4,2,20061108,1132,  0.9967, 165.0283, 4328,    402.5,  10.0773,  34.7256,2,  34.7284,2,   -999.0,9, 10.0300,   -999.0,9
  33KM20061104,  PR15,    10,  1,      3,      3,2,20061108,1132,  0.9967, 165.0283, 4328,    600.0,   7.0249,  34.5758,2,  34.5805,2,   -999.0,9,  6.9673,   -999.0,9
  33KM20061104,  PR15,    10,  1,      2,      2,2,20061108,1132,  0.9967, 165.0283, 4328,    799.5,   5.6243,  34.5378,2,  34.5406,2,   -999.0,9,  5.5550,   -999.0,9
  33KM20061104,  PR15,    10,  1,      1,      1,2,20061108,1132,  0.9967, 165.0283, 4328,    998.4,   4.5467,  34.5533,2,  34.5509,2,   -999.0,9,  4.4669,   -999.0,9
  33KM20061104,  PR15,    11,  1,     24,     24,2,20061108,1849,  0.0233, 165.0467, 4407,      1.8,  29.3845,  33.9697,2,  33.9742,2,   -999.0,9, 29.3841,   -999.0,9
  33KM20061104,  PR15,    11,  1,     20,     20,2,20061108,1849,  0.0233, 165.0467, 4407,     20.8,  29.3525,  33.9758,2,  33.9780,2,   -999.0,9, 29.3474,   -999.0,9
  33KM20061104,  PR15,    11,  1,     17,     17,2,20061108,1849,  0.0233, 165.0467, 4407,     40.3,  29.3390,  33.9872,2,  33.9918,2,   -999.0,9, 29.3292,   -999.0,9
  33KM20061104,  PR15,    11,  1,      5,      5,2,20061108,1849,  0.0233, 165.0467, 4407,    199.7,  16.9162,  35.2798,2,  35.2540,2,   -999.0,9, 16.8833,   -999.0,9
  33KM20061104,  PR15,    11,  1,      4,      4,2,20061108,1849,  0.0233, 165.0467, 4407,    500.1,   8.4223,  34.6247,2,  34.6279,2,   -999.0,9,  8.3694,   -999.0,9
  33KM20061104,  PR15,    11,  1,      3,      3,2,20061108,1849,  0.0233, 165.0467, 4407,   1499.3,   3.0522,  34.6016,2,  34.6080,2,   -999.0,9,  2.9437,   -999.0,9
  33KM20061104,  PR15,    11,  1,      2,      2,2,20061108,1849,  0.0233, 165.0467, 4407,   3000.3,   1.6215,  34.6727,2,  34.6760,2,   -999.0,9,  1.4020,   -999.0,9
  33KM20061104,  PR15,    11,  1,      1,      1,2,20061108,1849,  0.0233, 165.0467, 4407,   4001.7,   1.4467,  34.6902,2,  34.6942,2,   -999.0,9,  1.1290,   -999.0,9
  33KM20061104,  PR15,    12,  1,     24,     24,2,20061109,1459, -1.0000, 165.1033, -999,      1.3,  29.5410,  34.0508,2,  34.0597,2,   -999.0,9, 29.5407,   -999.0,9
  33KM20061104,  PR15,    12,  1,     20,     20,2,20061109,1459, -1.0000, 165.1033, -999,     20.0,  29.5436,  34.0687,2,  34.0718,2,   -999.0,9, 29.5387,   -999.0,9
  33KM20061104,  PR15,    12,  1,     17,     17,2,20061109,1459, -1.0000, 165.1033, -999,     39.9,  29.5608,  34.3078,2,  34.3118,2,   -999.0,9, 29.5510,   -999.0,9
  33KM20061104,  PR15,    12,  1,      5,      5,2,20061109,1459, -1.0000, 165.1033, -999,    202.3,  16.2146,  35.2880,2,  35.2959,2,   -999.0,9, 16.1822,   -999.0,9
  33KM20061104,  PR15,    12,  1,      4,      4,2,20061109,1459, -1.0000, 165.1033, -999,    404.5,  10.3449,  34.7451,2,  34.7519,2,   -999.0,9, 10.2966,   -999.0,9
  33KM20061104,  PR15,    12,  1,      3,      3,2,20061109,1459, -1.0000, 165.1033, -999,    608.7,   7.2293,  34.5722,2,  34.5767,2,   -999.0,9,  7.1699,   -999.0,9
  33KM20061104,  PR15,    12,  1,      2,      2,2,20061109,1459, -1.0000, 165.1033, -999,    798.2,   5.6386,  34.5403,2,  34.5454,2,   -999.0,9,  5.5694,   -999.0,9
  33KM20061104,  PR15,    12,  1,      1,      1,2,20061109,1459, -1.0000, 165.1033, -999,    988.0,   4.6689,  34.5453,2,  34.5451,2,   -999.0,9,  4.5891,   -999.0,9
  33KM20061104,  PR15,    13,  1,     24,     24,2,20061110,0615, -1.9667, 165.0167, 4464,      2.0,  29.8178,  34.6357,2,  34.6431,2,   -999.0,9, 29.8174,   -999.0,9
  33KM20061104,  PR15,    13,  1,     20,     20,2,20061110,0615, -1.9667, 165.0167, 4464,     20.7,  29.8239,  34.6345,2,  34.6394,2,   -999.0,9, 29.8188,   -999.0,9
  33KM20061104,  PR15,    13,  1,     17,     17,2,20061110,0615, -1.9667, 165.0167, 4464,     40.7,  29.8118,  34.6294,2,  34.6331,2,   -999.0,9, 29.8018,   -999.0,9
  33KM20061104,  PR15,    13,  1,      4,      4,2,20061110,0615, -1.9667, 165.0167, 4464,    400.5,   9.9615,  34.7284,2,  34.7344,2,   -999.0,9,  9.9148,   -999.0,9
  33KM20061104,  PR15,    13,  1,      3,      3,2,20061110,0615, -1.9667, 165.0167, 4464,    599.6,   7.2576,  34.5789,2,  34.5835,2,   -999.0,9,  7.1990,   -999.0,9
  33KM20061104,  PR15,    13,  1,      2,      2,2,20061110,0615, -1.9667, 165.0167, 4464,    800.0,   5.7041,  34.5318,2,  34.5370,2,   -999.0,9,  5.6343,   -999.0,9
  33KM20061104,  PR15,    13,  1,      1,      1,2,20061110,0615, -1.9667, 165.0167, 4464,   1000.4,   4.5953,  34.5431,2,  34.5487,2,   -999.0,9,  4.5150,   -999.0,9
  33KM20061104,  PR15,    14,  1,     24,     24,2,20061110,1335, -2.9983, 165.0483, 4192,      1.2,  29.7802,  34.7499,2,  34.7677,2,   -999.0,9, 29.7800,   -999.0,9
  33KM20061104,  PR15,    14,  1,     20,     20,2,20061110,1335, -2.9983, 165.0483, 4192,     20.7,  29.7910,  34.7492,2,  34.7646,2,   -999.0,9, 29.7859,   -999.0,9
  33KM20061104,  PR15,    14,  1,     17,     17,2,20061110,1335, -2.9983, 165.0483, 4192,     40.0,  29.7950,  34.7491,2,  34.7637,2,   -999.0,9, 29.7852,   -999.0,9
  33KM20061104,  PR15,    14,  1,      4,      4,2,20061110,1335, -2.9983, 165.0483, 4192,    400.4,   9.1441,  34.6839,2,  34.6997,2,   -999.0,9,  9.0998,   -999.0,9
  33KM20061104,  PR15,    14,  1,      3,      3,2,20061110,1335, -2.9983, 165.0483, 4192,    600.0,   7.0246,  34.5599,2,  34.5751,2,   -999.0,9,  6.9671,   -999.0,9
  33KM20061104,  PR15,    14,  1,      2,      2,2,20061110,1335, -2.9983, 165.0483, 4192,    799.9,   5.5648,  34.5343,2,  34.5485,2,   -999.0,9,  5.4958,   -999.0,9
  33KM20061104,  PR15,    14,  1,      1,      1,2,20061110,1335, -2.9983, 165.0483, 4192,   1001.3,   4.6066,  34.5418,2,  34.5413,2,   -999.0,9,  4.5261,   -999.0,9
  33KM20061104,  PR15,    15,  1,     24,     24,2,20061110,2030, -3.9967, 165.1167, 3380,      2.0,  29.8534,  34.7666,2,  34.7823,2,   -999.0,9, 29.8529,   -999.0,9
  33KM20061104,  PR15,    15,  1,     20,     20,2,20061110,2030, -3.9967, 165.1167, 3380,     20.3,  29.8557,  34.7652,2,  34.7833,2,   -999.0,9, 29.8507,   -999.0,9
  33KM20061104,  PR15,    15,  1,     17,     17,2,20061110,2030, -3.9967, 165.1167, 3380,     39.9,  29.8665,  34.7710,2,  34.7846,2,   -999.0,9, 29.8567,   -999.0,9
  33KM20061104,  PR15,    15,  1,      5,      5,2,20061110,2030, -3.9967, 165.1167, 3380,    200.2,  20.9827,  35.7937,2,  35.8240,2,   -999.0,9, 20.9442,   -999.0,9
  33KM20061104,  PR15,    15,  1,      4,      4,2,20061110,2030, -3.9967, 165.1167, 3380,    400.0,   9.4288,  34.7039,2,  34.7169,2,   -999.0,9,  9.3838,   -999.0,9
  33KM20061104,  PR15,    15,  1,      3,      3,2,20061110,2030, -3.9967, 165.1167, 3380,    600.1,   7.3302,  34.5784,2,  34.5943,2,   -999.0,9,  7.2713,   -999.0,9
  33KM20061104,  PR15,    15,  1,      2,      2,2,20061110,2030, -3.9967, 165.1167, 3380,    800.1,   5.6454,  34.5343,2,  34.5486,2,   -999.0,9,  5.5760,   -999.0,9
  33KM20061104,  PR15,    15,  1,      1,      1,2,20061110,2030, -3.9967, 165.1167, 3380,   1001.5,   4.6012,  34.5393,2,  34.5512,2,   -999.0,9,  4.5207,   -999.0,9
  33KM20061104,  PR15,    16,  1,     24,     24,2,20061111,0417, -5.0050, 165.2150, 2536,      2.6,  30.8597,  34.5613,2,  34.5764,2,   -999.0,9, 30.8590,   -999.0,9
  33KM20061104,  PR15,    16,  1,     20,     20,2,20061111,0417, -5.0050, 165.2150, 2536,     20.7,  29.9186,  34.5574,2,  34.5731,2,   -999.0,9, 29.9135,   -999.0,9
  33KM20061104,  PR15,    16,  1,     17,     17,2,20061111,0417, -5.0050, 165.2150, 2536,     39.9,  29.9705,  34.7802,2,  34.7782,2,   -999.0,9, 29.9606,   -999.0,9
  33KM20061104,  PR15,    16,  1,      5,      5,2,20061111,0417, -5.0050, 165.2150, 2536,    200.4,  20.5002,  35.7280,2,  35.7595,2,   -999.0,9, 20.4623,   -999.0,9
  33KM20061104,  PR15,    16,  1,      4,      4,2,20061111,0417, -5.0050, 165.2150, 2536,    400.1,   9.3253,  34.6904,2,  34.7073,2,   -999.0,9,  9.2805,   -999.0,9
  33KM20061104,  PR15,    16,  1,      3,      3,2,20061111,0417, -5.0050, 165.2150, 2536,    601.2,   7.2165,  34.5600,2,  34.5820,2,   -999.0,9,  7.1579,   -999.0,9
  33KM20061104,  PR15,    16,  1,      2,      2,2,20061111,0417, -5.0050, 165.2150, 2536,    800.6,   5.4942,  34.5216,2,  34.5386,2,   -999.0,9,  5.4256,   -999.0,9
  33KM20061104,  PR15,    16,  1,      1,      1,2,20061111,0417, -5.0050, 165.2150, 2536,   1001.6,   4.5470,  34.5317,2,  34.5486,2,   -999.0,9,  4.4670,   -999.0,9
  33KM20061104,  PR15,    17,  1,     24,     24,2,20061111,1621, -7.0033, 164.9067, 3711,      2.1,  29.6516,  34.5308,2,  34.5494,2,   -999.0,9, 29.6511,   -999.0,9
  33KM20061104,  PR15,    17,  1,     20,     20,2,20061111,1621, -7.0033, 164.9067, 3711,     20.2,  29.6337,  34.5243,2,  34.5391,2,   -999.0,9, 29.6287,   -999.0,9
  33KM20061104,  PR15,    17,  1,     17,     17,2,20061111,1621, -7.0033, 164.9067, 3711,     41.5,  28.6660,  34.6131,2,  34.6475,2,   -999.0,9, 28.6561,   -999.0,9
  33KM20061104,  PR15,    17,  1,      5,      5,2,20061111,1621, -7.0033, 164.9067, 3711,    200.4,  20.7479,  35.8295,2,  35.8615,2,   -999.0,9, 20.7097,   -999.0,9
  33KM20061104,  PR15,    17,  1,      4,      4,2,20061111,1621, -7.0033, 164.9067, 3711,    400.6,   8.6956,  34.6533,2,  34.6746,2,   -999.0,9,  8.6527,   -999.0,9
  33KM20061104,  PR15,    17,  1,      3,      3,2,20061111,1621, -7.0033, 164.9067, 3711,    600.2,   6.5175,  34.5332,2,  34.5490,2,   -999.0,9,  6.4623,   -999.0,9
  33KM20061104,  PR15,    17,  1,      2,      2,2,20061111,1621, -7.0033, 164.9067, 3711,    801.2,   5.1630,  34.5171,2,  34.5342,2,   -999.0,9,  5.0963,   -999.0,9
  33KM20061104,  PR15,    17,  1,      1,      1,2,20061111,1621, -7.0033, 164.9067, 3711,   1001.5,   4.3997,  34.5334,2,  34.5486,2,   -999.0,9,  4.3208,   -999.0,9