BOTTLE,20070323WHPSIODBK
EXPOCODE,SECT_ID,STNNBR,CASTNO,SAMPNO,BTLNBR,BTLNBR_FLAG_W,DATE,TIME,LATITUDE,LONGITUDE,DEPTH,CTDPRS,CTDTMP,CTDSAL,CTDSAL_FLAG_W,SALNTY,SALNTY_FLAG_W,CTDOXY,CTDOXY_FLAG_W,THETA,OXYGEN,OXYGEN_FLAG_W
,,,,,,,,,,,,DBAR,ITS-90,PSS-78,,PSS-78,,UMOL/KG,,DEG C,UMOL/KG,
  33KM20061104,  PR15,    18,  1,     24,     24,2,20061112,0801, -8.0217, 164.8233, 3892,      2.5,  29.4623,  34.3772,2,  34.3903,2,   -999.0,9, 29.4617,   -999.0,9
  33KM20061104,  PR15,    18,  1,     20,     20,2,20061112,0801, -8.0217, 164.8233, 3892,     19.9,  29.4418,  34.3896,2,  34.3969,2,   -999.0,9, 29.4370,   -999.0,9
  33KM20061104,  PR15,    18,  1,     17,     17,2,20061112,0801, -8.0217, 164.8233, 3892,     39.6,  29.4430,  34.5664,2,  34.5576,2,   -999.0,9, 29.4334,   -999.0,9
  33KM20061104,  PR15,    18,  1,      5,      5,2,20061112,0801, -8.0217, 164.8233, 3892,    200.0,  17.5683,  35.4662,2,  35.4974,2,   -999.0,9, 17.5344,   -999.0,9
  33KM20061104,  PR15,    18,  1,      4,      4,2,20061112,0801, -8.0217, 164.8233, 3892,    503.2,   7.6139,  34.5882,2,  34.6010,2,   -999.0,9,  7.5637,   -999.0,9
  33KM20061104,  PR15,    18,  1,      3,      3,2,20061112,0801, -8.0217, 164.8233, 3892,   1499.9,   2.8442,  34.5918,2,  34.6081,2,   -999.0,9,  2.7381,   -999.0,9
  33KM20061104,  PR15,    18,  1,      2,      2,2,20061112,0801, -8.0217, 164.8233, 3892,   2999.2,   1.6874,  34.6716,2,  34.6855,2,   -999.0,9,  1.4665,   -999.0,9
  33KM20061104,  PR15,    18,  1,      1,      1,2,20061112,0801, -8.0217, 164.8233, 3892,   3441.1,   1.5617,  34.6815,2,  34.6956,2,   -999.0,9,  1.3000,   -999.0,9