BOTTLE,20060405WHPSIOdm
EXPOCODE,SECT_ID,STNNBR,CASTNO,SAMPNO,BTLNBR,BTLNBR_FLAG_W,DATE,TIME,LATITUDE,LONGITUDE,DEPTH,CTDRAW,CTDPRS,CTDTMP,CTDSAL,CTDSAL_FLAG_W,SALNTY,SALNTY_FLAG_W,CTDOXY,CTDOXY_FLAG_W,THETA,OXYGEN,OXYGEN_FLAG_W,SILCAT,SILCAT_FLAG_W,NITRAT,NITRAT_FLAG_W,NITRIT,NITRIT_FLAG_W,PHSPHT,PHSPHT_FLAG_W,TRITUM,TRITUM_FLAG_W,TCARBN,TCARBN_FLAG_W,REVPRS,REVPRS_FLAG_W,TRITER,TRITER_FLAG_W,REVTMP,REVTMP_FLAG_W
,,,,,,,,,,,,,DBAR,ITS-90,PSS-78,,PSS-78,,UMOL/KG,,DEG C,UMOL/KG,,UMOL/KG,,UMOL/KG,,UMOL/KG,,UMOL/KG,,UMOL/KG,,UMOL/KG,,DBAR,,TU,,ITS-90,
  316N198212_1, ATAS1,    27,  1,      1,      1,2,19821217,1713,  5.6067, -50.4150, 2999,   27.3,     10.0,  27.2194,  36.2703,2,  36.2670,2,   -999.0,9, 27.2171,    201.6,2,     1.46,2,     0.05,2,     0.00,2,     0.11,2, -999.000,9,   -999.0,9,  -999.0,9,-999.000,9,  27.224,2
  316N198212_1, ATAS1,    27,  1,      2,      2,2,19821217,1713,  5.6067, -50.4150, 2999,   94.0,     78.0,  27.0005,  36.2578,2,  36.2540,2,   -999.0,9, 26.9825,    201.1,2,     1.46,2,     0.05,2,     0.00,2,     0.11,2, -999.000,9,   -999.0,9,  -999.0,9,-999.000,9,-999.000,9
  316N198212_1, ATAS1,    27,  1,      3,      3,2,19821217,1713,  5.6067, -50.4150, 2999,  135.6,    120.0,  26.1935,  36.3061,2,  36.3050,2,   -999.0,9, 26.1664,    195.4,2,     1.46,2,     0.01,2,     0.17,2,     0.16,2, -999.000,9,   -999.0,9,  -999.0,9,-999.000,9,-999.000,9
  316N198212_1, ATAS1,    27,  1,      4,      4,2,19821217,1713,  5.6067, -50.4150, 2999,  177.9,    163.0,  23.3955,  36.3158,2,  36.3080,2,   -999.0,9, 23.3616,    185.6,2,     2.25,2,     2.88,2,     0.04,2,     0.35,2, -999.000,9,   -999.0,9,  -999.0,9,-999.000,9,-999.000,9
  316N198212_1, ATAS1,    27,  1,      5,      5,2,19821217,1713,  5.6067, -50.4150, 2999,  211.2,    197.0,  10.4858,  34.9684,2,  34.9670,2,   -999.0,9, 10.4622,    152.7,2,    11.43,2,    22.48,2,     0.00,2,     1.50,2, -999.000,9,   -999.0,9,  -999.0,9,-999.000,9,-999.000,9
  316N198212_1, ATAS1,    27,  1,      6,      6,2,19821217,1713,  5.6067, -50.4150, 2999,  261.8,    248.0,   9.5008,  34.8444,2,  34.8420,2,   -999.0,9,  9.4729,    153.9,2,    12.90,2,    24.43,2,     0.00,2,     1.62,2, -999.000,9,   -999.0,9,  -999.0,9,-999.000,9,-999.000,9
  316N198212_1, ATAS1,    27,  1,      7,      7,2,19821217,1713,  5.6067, -50.4150, 2999,  310.7,    297.0,   8.9548,  34.7917,2,  34.7990,2,   -999.0,9,  8.9225,    153.5,2,    13.98,2,    25.41,2,     0.00,2,     1.69,2, -999.000,9,   -999.0,9,  -999.0,9,-999.000,9,-999.000,9
  316N198212_1, ATAS1,    27,  1,      8,      8,2,19821217,1713,  5.6067, -50.4150, 2999,  353.6,    340.0,   8.3978,  34.7329,2,  34.7310,2,   -999.0,9,  8.3622,    155.2,2,    15.34,2,    26.78,2,     0.00,2,     1.78,2, -999.000,9,   -999.0,9,   343.0,2,-999.000,9,   8.388,2
  316N198212_1, ATAS1,    27,  1,      9,      9,2,19821217,1713,  5.6067, -50.4150, 2999,  411.2,    394.0,   7.8908,  34.6851,2,  34.6790,2,   -999.0,9,  7.8509,    152.2,2,    16.81,2,    28.25,2,     0.00,2,     1.85,2, -999.000,9,   -999.0,9,  -999.0,9,-999.000,9,-999.000,9
  316N198212_1, ATAS1,    27,  1,     10,     10,2,19821217,1713,  5.6067, -50.4150, 2999,  511.6,    499.1,   6.8208,  34.6092,2,  34.6160,2,   -999.0,9,  6.7740,    141.7,2,    20.92,2,    31.57,2,     0.00,2,     2.05,2, -999.000,9,   -999.0,9,  -999.0,9,-999.000,9,-999.000,9
  316N198212_1, ATAS1,    27,  1,     11,     11,2,19821217,1713,  5.6067, -50.4150, 2999,  621.1,    608.9,   5.7869,  34.5647,2,  34.5610,2,   -999.0,9,  5.7341,    137.8,2,    25.51,2,    34.11,2,     0.00,2,     2.21,2, -999.000,9,   -999.0,9,   614.0,2,-999.000,9,   5.780,2
  316N198212_1, ATAS1,    27,  1,     12,     12,2,19821217,1713,  5.6067, -50.4150, 2999,  713.0,    701.0,   5.1999,  34.6023,2,  34.5990,2,   -999.0,9,  5.1418,    137.8,2,    28.93,2,    34.60,2,     0.00,2,     2.26,2, -999.000,9,   -999.0,9,  -999.0,9,-999.000,9,-999.000,9
  316N198212_1, ATAS1,    27,  1,     13,     13,2,19821217,1713,  5.6067, -50.4150, 2999,  811.9,    800.0,   4.6859,  34.5821,2,  34.5820,2,   -999.0,9,  4.6222,    152.6,2,    30.99,2,    33.92,2,     0.00,2,     2.24,2, -999.000,9,   -999.0,9,  -999.0,9,-999.000,9,-999.000,9
  316N198212_1, ATAS1,    27,  1,     14,     14,2,19821217,1713,  5.6067, -50.4150, 2999, 1024.0,   1012.5,   4.5539,  34.6864,2,  34.6830,2,   -999.0,9,  4.4726,    163.4,2,    29.52,2,    31.77,2,     0.00,2,     2.12,2, -999.000,9,   -999.0,9,  -999.0,9,-999.000,9,-999.000,9
  316N198212_1, ATAS1,    27,  1,     15,     15,2,19821217,1713,  5.6067, -50.4150, 2999, 1224.6,   1214.1,   4.7179,  34.8248,2,  34.8240,2,   -999.0,9,  4.6168,    179.5,2,    25.21,2,    28.44,2,     0.00,2,     1.90,2, -999.000,9,   -999.0,9,  -999.0,9,-999.000,9,-999.000,9
  316N198212_1, ATAS1,    27,  1,     16,     16,2,19821217,1713,  5.6067, -50.4150, 2999, 1426.3,   1416.9,   4.5439,  34.9675,2,  34.9680,2,   -999.0,9,  4.4254,    222.1,2,    18.47,2,    22.38,2,     0.00,2,     1.48,2, -999.000,9,   -999.0,9,  -999.0,9,-999.000,9,-999.000,9
  316N198212_1, ATAS1,    27,  1,     17,     17,2,19821217,1713,  5.6067, -50.4150, 2999, 1615.0,   1606.7,   4.0839,  34.9844,2,  34.9850,2,   -999.0,9,  3.9528,    248.5,2,    16.42,2,    19.93,2,     0.00,2,     1.32,2, -999.000,9,   -999.0,9,  1611.0,2,-999.000,9,   4.087,2
  316N198212_1, ATAS1,    27,  1,     18,     18,2,19821217,1713,  5.6067, -50.4150, 2999, 1803.8,   1796.5,   3.8679,  34.9839,2,  34.9840,2,   -999.0,9,  3.7218,    255.9,2,    16.32,2,    19.15,2,     0.00,2,     1.27,2, -999.000,9,   -999.0,9,  -999.0,9,-999.000,9,-999.000,9
  316N198212_1, ATAS1,    27,  1,     19,     19,2,19821217,1713,  5.6067, -50.4150, 2999, 2093.6,   2088.0,   3.5119,  34.9763,2,  34.9780,2,   -999.0,9,  3.3432,    262.0,2,    17.98,2,    18.76,2,     0.00,2,     1.24,2, -999.000,9,   -999.0,9,  2087.0,2,-999.000,9,   3.511,2
  316N198212_1, ATAS1,    27,  1,     20,     20,2,19821217,1713,  5.6067, -50.4150, 2999, 2379.4,   2375.3,   3.2829,  34.9657,2,  34.9650,2,   -999.0,9,  3.0901,    263.7,2,    20.03,2,    18.76,2,     0.00,2,     1.24,2, -999.000,9,   -999.0,9,  -999.0,9,-999.000,9,-999.000,9
  316N198212_1, ATAS1,    27,  1,     21,     21,2,19821217,1713,  5.6067, -50.4150, 2999, 2571.6,   2568.4,   3.1319,  34.9577,2,  34.9560,2,   -999.0,9,  2.9227,    262.9,2,    21.40,2,    18.76,2,     0.00,2,     1.26,2, -999.000,9,   -999.0,9,  -999.0,9,-999.000,9,-999.000,9
  316N198212_1, ATAS1,    27,  1,     22,     22,2,19821217,1713,  5.6067, -50.4150, 2999, 2762.8,   2760.6,   2.9889,  34.9475,2,  34.9460,2,   -999.0,9,  2.7631,    262.4,2,    23.26,2,    19.06,2,     0.00,2,     1.27,2, -999.000,9,   -999.0,9,  -999.0,9,-999.000,9,-999.000,9
  316N198212_1, ATAS1,    27,  1,     23,     23,2,19821217,1713,  5.6067, -50.4150, 2999, 2941.0,   2939.8,   2.7699,  34.9356,2,  34.9330,2,   -999.0,9,  2.5303,    263.3,2,    26.29,2,    19.25,2,     0.00,2,     1.30,2, -999.000,9,   -999.0,9,  2946.0,2,-999.000,9,   2.766,2
  316N198212_1, ATAS1,    28,  1,      1,      1,2,19821217,0030,  5.1800, -50.6167,  211,   24.5,      7.0,  27.1027,  36.2883,2,  36.2880,2,   -999.0,9, 27.1011,    202.0,2,     1.17,2,     0.05,2,     0.00,2,     0.15,2, -999.000,9,   -999.0,9,  -999.0,9,-999.000,9,  27.111,2
  316N198212_1, ATAS1,    28,  1,      2,      2,2,19821217,0030,  5.1800, -50.6167,  211,   44.9,     28.0,  26.7657,  36.2968,2,  36.2980,2,   -999.0,9, 26.7593,    202.4,2,     1.17,2,     0.04,2,     0.00,2,     0.15,2, -999.000,9,   -999.0,9,  -999.0,9,-999.000,9,-999.000,9
  316N198212_1, ATAS1,    28,  1,      3,      3,2,19821217,0030,  5.1800, -50.6167,  211,   74.1,     55.6,  26.6437,  36.3075,2,  36.3080,2,   -999.0,9, 26.6310,    202.0,2,     1.27,2,     0.04,2,     0.00,2,     0.16,2, -999.000,9,   -999.0,9,  -999.0,9,-999.000,9,-999.000,9
  316N198212_1, ATAS1,    28,  1,      4,      4,2,19821217,0030,  5.1800, -50.6167,  211,  102.9,     85.2,  25.9917,  36.3296,2,  36.3340,2,   -999.0,9, 25.9726,    195.4,2,     1.37,2,     0.28,2,     0.21,2,     0.21,2, -999.000,9,   -999.0,9,  -999.0,9,-999.000,9,-999.000,9
  316N198212_1, ATAS1,    28,  1,      5,      5,2,19821217,0030,  5.1800, -50.6167,  211,  130.8,    113.7,  25.8067,  36.4156,2,  36.4160,2,   -999.0,9, 25.7813,    198.4,2,     1.27,2,     0.30,2,     0.15,2,     0.20,2, -999.000,9,   -999.0,9,  -999.0,9,-999.000,9,-999.000,9
  316N198212_1, ATAS1,    28,  1,      6,      6,2,19821217,0030,  5.1800, -50.6167,  211,  158.3,    142.5,  23.7197,  36.3105,2,  36.3110,2,   -999.0,9, 23.6898,    191.8,2,     2.34,2,     2.51,2,     0.29,2,     0.37,2, -999.000,9,   -999.0,9,  -999.0,9,-999.000,9,-999.000,9
  316N198212_1, ATAS1,    28,  1,      7,      7,2,19821217,0030,  5.1800, -50.6167,  211,  174.9,    161.8,  17.8598,  35.7418,2,  35.7660,2,   -999.0,9, 17.8321,    169.8,2,     6.06,2,    11.04,2,     0.20,2,     0.91,2, -999.000,9,   -999.0,9,  -999.0,9,-999.000,9,-999.000,9
  316N198212_1, ATAS1,    28,  1,      8,      8,2,19821217,0030,  5.1800, -50.6167,  211,  190.6,    178.7,  15.0669,  35.5210,2,  35.5290,2,   -999.0,9, 15.0397,    154.9,2,     7.42,2,    15.24,2,     0.10,2,     1.10,2, -999.000,9,   -999.0,9,   176.0,2,-999.000,9,  15.216,2
  316N198212_1, ATAS1,    28,  1,      9,      9,2,19821217,0030,  5.1800, -50.6167,  211,  201.6,    190.6,  13.5479,  35.3642,2,  35.3670,2,   -999.0,9, 13.5209,    147.9,2,     9.18,2,    17.78,2,     0.08,2,     1.26,2, -999.000,9,   -999.0,9,  -999.0,9,-999.000,9,-999.000,9
  316N198212_1, ATAS1,    28,  1,     10,     10,2,19821217,0030,  5.1800, -50.6167,  211,  222.9,    212.8,  12.6179,  35.2701,2,  35.2790,2,   -999.0,9, 12.5892,    144.8,2,    10.45,2,    19.15,2,     0.08,2,     1.36,2, -999.000,9,   -999.0,9,  -999.0,9,-999.000,9,-999.000,9
  316N198212_1, ATAS1,    29,  1,      2,      2,2,19821218,0332,  4.9967, -50.7250,   92,   27.0,     10.0,  26.9999,  36.2850,2,-999.0000,9,   -999.0,9, 26.9976,   -999.0,9,  -999.00,9,  -999.00,9,  -999.00,9,  -999.00,9, -999.000,9,   -999.0,9,  -999.0,9,-999.000,9,-999.000,9
  316N198212_1, ATAS1,    29,  1,      1,      1,2,19821218,0332,  4.9967, -50.7250,   92,   27.0,     10.0,  26.9979,  36.2851,2,  36.2860,2,   -999.0,9, 26.9956,    201.1,2,     0.98,2,     0.05,2,     0.00,2,     0.15,2, -999.000,9,   -999.0,9,  -999.0,9,-999.000,9,  27.002,2
  316N198212_1, ATAS1,    29,  1,      3,      3,2,19821218,0332,  4.9967, -50.7250,   92,   42.9,     26.0,  26.8669,  36.2806,2,  36.2840,2,   -999.0,9, 26.8609,    201.5,2,     0.88,2,     0.04,2,     0.00,2,     0.15,2, -999.000,9,   -999.0,9,  -999.0,9,-999.000,9,-999.000,9
  316N198212_1, ATAS1,    29,  1,      4,      4,2,19821218,0332,  4.9967, -50.7250,   92,   52.9,     35.0,  26.7449,  36.2792,2,  36.2790,2,   -999.0,9, 26.7369,    202.8,2,     1.07,2,     0.00,2,     0.00,2,     0.14,2, -999.000,9,   -999.0,9,  -999.0,9,-999.000,9,-999.000,9
  316N198212_1, ATAS1,    29,  1,      5,      5,2,19821218,0332,  4.9967, -50.7250,   92,   62.6,     45.0,  26.6569,  36.2841,2,  36.2840,2,   -999.0,9, 26.6466,    201.5,2,     1.17,2,     0.00,2,     0.00,2,     0.14,2, -999.000,9,   -999.0,9,  -999.0,9,-999.000,9,-999.000,9
  316N198212_1, ATAS1,    29,  1,      7,      7,2,19821218,0332,  4.9967, -50.7250,   92,   72.2,     55.1,  26.5349,  36.3055,2,-999.0000,9,   -999.0,9, 26.5224,   -999.0,9,  -999.00,9,  -999.00,9,  -999.00,9,  -999.00,9, -999.000,9,   -999.0,9,  -999.0,9,-999.000,9,-999.000,9
  316N198212_1, ATAS1,    29,  1,      6,      6,2,19821218,0332,  4.9967, -50.7250,   92,   72.4,     55.3,  26.5369,  36.3053,2,  36.3060,2,   -999.0,9, 26.5243,    208.1,2,     1.17,2,     0.04,2,     0.00,2,     0.14,2, -999.000,9,   -999.0,9,  -999.0,9,-999.000,9,-999.000,9
  316N198212_1, ATAS1,    29,  1,      8,      8,2,19821218,0332,  4.9967, -50.7250,   92,   82.2,     65.0,  25.8989,  36.2916,2,  36.2920,2,   -999.0,9, 25.8844,    198.4,2,     1.27,2,     0.58,2,     0.05,2,     0.19,2, -999.000,9,   -999.0,9,  -999.0,9,-999.000,9,-999.000,9
  316N198212_1, ATAS1,    29,  1,      9,      9,2,19821218,0332,  4.9967, -50.7250,   92,   92.0,     75.0,  25.5779,  36.2800,2,  36.2830,2,   -999.0,9, 25.5613,    204.9,2,     1.56,2,     0.97,2,     0.07,2,     0.21,2, -999.000,9,   -999.0,9,  -999.0,9,-999.000,9,-999.000,9
  316N198212_1, ATAS1,    29,  1,     10,     10,2,19821218,0332,  4.9967, -50.7250,   92,  101.0,     84.0,  25.4269,  36.2788,2,  36.2800,2,   -999.0,9, 25.4084,    196.7,2,     1.46,2,     1.17,2,     0.08,2,     0.22,2, -999.000,9,   -999.0,9,  -999.0,9,-999.000,9,-999.000,9
  316N198212_1, ATAS1,    30,  1,      3,      3,2,19821218,0617,  4.7933, -50.7967,   70,   33.2,     15.3,  26.7781,  36.2489,2,-999.0000,9,   -999.0,9, 26.7746,   -999.0,9,  -999.00,9,  -999.00,9,  -999.00,9,  -999.00,9, -999.000,9,   -999.0,9,  -999.0,9,-999.000,9,-999.000,9
  316N198212_1, ATAS1,    30,  1,      5,      5,2,19821218,0617,  4.7933, -50.7967,   70,   33.2,     15.3,  26.7781,  36.2489,2,-999.0000,9,   -999.0,9, 26.7746,   -999.0,9,  -999.00,9,  -999.00,9,  -999.00,9,  -999.00,9, -999.000,9,   -999.0,9,  -999.0,9,-999.000,9,-999.000,9
  316N198212_1, ATAS1,    30,  1,      6,      6,2,19821218,0617,  4.7933, -50.7967,   70,   43.0,     25.0,  26.7221,  36.2881,2,-999.0000,9,   -999.0,9, 26.7164,   -999.0,9,  -999.00,9,  -999.00,9,  -999.00,9,  -999.00,9, -999.000,9,   -999.0,9,  -999.0,9,-999.000,9,-999.000,9
  316N198212_1, ATAS1,    30,  1,      7,      7,2,19821218,0617,  4.7933, -50.7967,   70,   52.6,     33.0,  26.2801,  36.2728,2,-999.0000,9,   -999.0,9, 26.2727,   -999.0,9,  -999.00,9,  -999.00,9,  -999.00,9,  -999.00,9, -999.000,9,   -999.0,9,  -999.0,9,-999.000,9,-999.000,9
  316N198212_1, ATAS1,    30,  1,      8,      8,2,19821218,0617,  4.7933, -50.7967,   70,   62.5,     45.0,  26.1831,  36.2695,2,-999.0000,9,   -999.0,9, 26.1730,   -999.0,9,  -999.00,9,  -999.00,9,  -999.00,9,  -999.00,9, -999.000,9,   -999.0,9,  -999.0,9,-999.000,9,-999.000,9
  316N198212_1, ATAS1,    30,  1,      9,      9,2,19821218,0617,  4.7933, -50.7967,   70,   72.1,     54.0,  26.1441,  36.2681,2,  36.2710,2,   -999.0,9, 26.1320,    195.8,2,     1.85,2,     0.52,2,     0.02,2,     0.21,2, -999.000,9,   -999.0,9,  -999.0,9,-999.000,9,-999.000,9
  316N198212_1, ATAS1,    30,  1,     10,     10,2,19821218,0617,  4.7933, -50.7967,   70,   82.0,     64.0,  26.1431,  36.2672,2,  36.2730,2,   -999.0,9, 26.1287,    195.8,2,     1.95,2,     0.52,2,     0.02,2,     0.21,2, -999.000,9,   -999.0,9,  -999.0,9,-999.000,9,-999.000,9
  316N198212_1, ATAS1,    32,  1,      1,      1,2,19821218,1254,  4.3933, -50.9700,   30,   18.5,      0.0,  27.9255,  20.7169,2,  21.7790,2,   -999.0,9, 27.9255,    219.2,2,    58.02,2,    10.07,2,     0.12,2,     0.55,2, -999.000,9,   -999.0,9,  -999.0,9,-999.000,9,  27.557,2
  316N198212_1, ATAS1,    32,  1,      2,      2,2,19821218,1254,  4.3933, -50.9700,   30,   19.3,      0.4,  28.0355,  20.6544,2,-999.0000,9,   -999.0,9, 28.0355,   -999.0,9,  -999.00,9,  -999.00,9,  -999.00,9,  -999.00,9, -999.000,9,   -999.0,9,  -999.0,9,-999.000,9,-999.000,9
  316N198212_1, ATAS1,    32,  1,      4,      4,2,19821218,1254,  4.3933, -50.9700,   30,   21.6,      3.6,  26.3166,  34.4022,2,-999.0000,9,   -999.0,9, 26.3158,   -999.0,9,  -999.00,9,  -999.00,9,  -999.00,9,  -999.00,9, -999.000,9,   -999.0,9,     1.0,2,-999.000,9,  26.050,2
  316N198212_1, ATAS1,    32,  1,      3,      3,2,19821218,1254,  4.3933, -50.9700,   30,   21.8,      3.7,  26.3326,  34.3874,2,  33.4440,2,   -999.0,9, 26.3317,    191.4,2,    12.03,2,     2.39,2,     0.36,2,     0.35,2, -999.000,9,   -999.0,9,  -999.0,9,-999.000,9,-999.000,9
  316N198212_1, ATAS1,    32,  1,      6,      6,2,19821218,1254,  4.3933, -50.9700,   30,   25.3,      7.7,  26.0736,  36.1495,2,-999.0000,9,   -999.0,9, 26.0719,   -999.0,9,  -999.00,9,  -999.00,9,  -999.00,9,  -999.00,9, -999.000,9,   -999.0,9,  -999.0,9,-999.000,9,-999.000,9
  316N198212_1, ATAS1,    32,  1,      5,      5,2,19821218,1254,  4.3933, -50.9700,   30,   25.4,      7.8,  26.0736,  36.1531,2,  36.1120,2,   -999.0,9, 26.0718,    186.7,2,     2.83,2,     0.69,2,     0.43,2,     0.30,2, -999.000,9,   -999.0,9,  -999.0,9,-999.000,9,-999.000,9
  316N198212_1, ATAS1,    32,  1,      7,      7,2,19821218,1254,  4.3933, -50.9700,   30,   29.2,     11.9,  26.0756,  36.1751,2,  36.1740,2,   -999.0,9, 26.0729,    186.7,2,     2.83,2,     0.62,2,     0.46,2,     0.30,2, -999.000,9,   -999.0,9,  -999.0,9,-999.000,9,-999.000,9
  316N198212_1, ATAS1,    32,  1,      8,      8,2,19821218,1254,  4.3933, -50.9700,   30,   29.1,     11.9,  26.0746,  36.1708,2,-999.0000,9,   -999.0,9, 26.0719,   -999.0,9,  -999.00,9,  -999.00,9,  -999.00,9,  -999.00,9, -999.000,9,   -999.0,9,  -999.0,9,-999.000,9,-999.000,9
  316N198212_1, ATAS1,    32,  1,     10,     10,2,19821218,1254,  4.3933, -50.9700,   30,   34.1,     17.4,  26.0836,  36.1897,2,  36.1770,2,   -999.0,9, 26.0797,    186.2,2,     2.73,2,     0.62,2,     0.47,2,     0.29,2, -999.000,9,   -999.0,9,  -999.0,9,-999.000,9,-999.000,9
  316N198212_1, ATAS1,    32,  1,      9,      9,2,19821218,1254,  4.3933, -50.9700,   30,   34.5,     17.7,  26.0866,  36.1924,2,-999.0000,9,   -999.0,9, 26.0826,   -999.0,9,  -999.00,9,  -999.00,9,  -999.00,9,  -999.00,9, -999.000,9,   -999.0,9,  -999.0,9,-999.000,9,-999.000,9