BOTTLE,20060405WHPSIOdm
EXPOCODE,SECT_ID,STNNBR,CASTNO,SAMPNO,BTLNBR,BTLNBR_FLAG_W,DATE,TIME,LATITUDE,LONGITUDE,DEPTH,CTDRAW,CTDPRS,CTDTMP,CTDSAL,CTDSAL_FLAG_W,SALNTY,SALNTY_FLAG_W,CTDOXY,CTDOXY_FLAG_W,THETA,OXYGEN,OXYGEN_FLAG_W,SILCAT,SILCAT_FLAG_W,NITRAT,NITRAT_FLAG_W,NITRIT,NITRIT_FLAG_W,PHSPHT,PHSPHT_FLAG_W,TRITUM,TRITUM_FLAG_W,TCARBN,TCARBN_FLAG_W,REVPRS,REVPRS_FLAG_W,TRITER,TRITER_FLAG_W,REVTMP,REVTMP_FLAG_W
,,,,,,,,,,,,,DBAR,ITS-90,PSS-78,,PSS-78,,UMOL/KG,,DEG C,UMOL/KG,,UMOL/KG,,UMOL/KG,,UMOL/KG,,UMOL/KG,,UMOL/KG,,UMOL/KG,,DBAR,,TU,,ITS-90,
  316N198212_1, ATAS1,    12,  2,      1,      1,2,19821208,1107, 13.5183, -57.6100, 4879,   27.8,     11.0,  26.6891,  35.2755,2,  35.2720,2,   -999.0,9, 26.6866,    203.4,2,     2.83,2,     0.03,2,     0.00,2,     0.03,2,    1.650,2,   1945.0,2,  -999.0,9,   0.080,2,  26.693,2
  316N198212_1, ATAS1,    12,  2,      2,      2,2,19821208,1107, 13.5183, -57.6100, 4879,   84.7,     68.0,  26.4701,  36.7112,2,  36.7280,2,   -999.0,9, 26.4547,    206.7,2,     1.17,2,     0.03,2,     0.00,2,     0.03,2,    1.810,2,   2018.0,2,  -999.0,9,   0.090,2,-999.000,9
  316N198212_1, ATAS1,    12,  2,      3,      3,2,19821208,1107, 13.5183, -57.6100, 4879,  118.6,    102.0,  24.4752,  37.0929,2,  37.1010,2,   -999.0,9, 24.4532,    187.8,2,     0.88,2,     0.46,2,     0.05,2,     0.06,2, -999.000,9,   -999.0,9,  -999.0,9,-999.000,9,-999.000,9
  316N198212_1, ATAS1,    12,  2,      4,      4,2,19821208,1107, 13.5183, -57.6100, 4879,  177.7,    162.0,  20.8372,  36.9148,2,  36.8980,2,   -999.0,9, 20.8061,    166.3,2,     1.46,2,     4.00,2,     0.02,2,     0.21,2,    2.930,2,   2113.0,2,  -999.0,9,   0.100,2,-999.000,9
  316N198212_1, ATAS1,    12,  2,      5,      5,2,19821208,1107, 13.5183, -57.6100, 4879,  217.8,    203.0,  18.2773,  36.5405,2,  36.5390,2,   -999.0,9, 18.2417,    168.8,2,     1.76,2,     6.76,2,     0.01,2,     0.37,2,    2.650,2,   2114.0,2,  -999.0,9,   0.081,2,-999.000,9
  316N198212_1, ATAS1,    12,  2,      6,      6,2,19821208,1107, 13.5183, -57.6100, 4879,  317.3,    305.0,  13.0554,  35.6113,2,  35.5960,2,   -999.0,9, 13.0129,    131.3,2,     8.40,2,    20.02,2,     0.00,2,     1.24,2,    1.907,2,   2166.0,2,  -999.0,9,   0.061,2,-999.000,9
  316N198212_1, ATAS1,    12,  2,      7,      7,2,19821208,1107, 13.5183, -57.6100, 4879,  396.9,    386.0,  10.1844,  35.1009,2,  35.0950,2,   -999.0,9, 10.1386,    121.8,2,    13.48,2,    26.38,2,     0.00,2,     1.69,2, -999.000,9,   -999.0,9,  -999.0,9,-999.000,9,-999.000,9
  316N198212_1, ATAS1,    12,  2,      8,      8,2,19821208,1107, 13.5183, -57.6100, 4879,  516.0,    503.7,   8.3895,  34.8899,2,  34.8900,2,   -999.0,9,  8.3361,    121.7,2,    17.59,2,    30.00,2,     0.00,2,     1.93,2,    0.265,2,   2197.0,2,   503.0,2,   0.024,2,   8.442,2
  316N198212_1, ATAS1,    12,  2,      9,      9,2,19821208,1107, 13.5183, -57.6100, 4879,  717.0,    705.3,   6.3915,  34.7034,2,  34.7070,2,   -999.0,9,  6.3266,    119.6,2,    24.04,2,    34.21,2,     0.00,2,     2.22,2, -999.000,9,   -999.0,9,  -999.0,9,-999.000,9,-999.000,9
  316N198212_1, ATAS1,    12,  2,     10,     10,2,19821208,1107, 13.5183, -57.6100, 4879,  916.4,    905.4,   5.1105,  34.6437,2,  34.6440,2,   -999.0,9,  5.0347,    141.7,2,    28.93,2,    33.72,2,     0.00,2,     2.24,2, -999.000,9,   -999.0,9,  -999.0,9,-999.000,9,-999.000,9
  316N198212_1, ATAS1,    12,  2,     11,     11,2,19821208,1107, 13.5183, -57.6100, 4879, 1116.1,   1105.3,   4.9715,  34.7811,2,  34.7800,2,   -999.0,9,  4.8784,    161.2,2,    26.68,2,    30.49,2,     0.00,2,     2.04,2, -999.000,9,   -999.0,9,  1112.0,2,-999.000,9,   4.965,2
  316N198212_1, ATAS1,    12,  2,     12,     12,2,19821208,1107, 13.5183, -57.6100, 4879, 1318.4,   1308.1,   5.0155,  34.9650,2,  34.9630,2,   -999.0,9,  4.9025,    203.8,2,    19.54,2,    23.84,2,     0.00,2,     1.58,2, -999.000,9,   -999.0,9,  -999.0,9,-999.000,9,-999.000,9
  316N198212_1, ATAS1,    12,  2,     13,     13,2,19821208,1107, 13.5183, -57.6100, 4879, 1518.4,   1508.6,   4.5335,  34.9975,2,  34.9970,2,   -999.0,9,  4.4064,    230.7,2,    16.71,2,    21.11,2,     0.00,2,     1.42,2, -999.000,9,   -999.0,9,  -999.0,9,-999.000,9,-999.000,9
  316N198212_1, ATAS1,    12,  2,     14,     14,2,19821208,1107, 13.5183, -57.6100, 4879, 1769.6,   1760.7,   3.9856,  34.9940,2,  34.9930,2,   -999.0,9,  3.8412,    255.5,2,    15.34,2,    19.15,2,     0.00,2,     1.26,2, -999.000,9,   -999.0,9,  -999.0,9,-999.000,9,-999.000,9
  316N198212_1, ATAS1,    12,  2,     15,     15,2,19821208,1107, 13.5183, -57.6100, 4879, 2071.9,   2064.4,   3.5026,  34.9771,2,  34.9760,2,   -999.0,9,  3.3363,    257.2,2,    17.59,2,    18.76,2,     0.00,2,     1.25,2, -999.000,9,   -999.0,9,  -999.0,9,-999.000,9,-999.000,9
  316N198212_1, ATAS1,    12,  2,     16,     16,2,19821208,1107, 13.5183, -57.6100, 4879, 2524.3,   2519.0,   3.0286,  34.9521,2,  34.9510,2,   -999.0,9,  2.8262,    261.6,2,    22.57,2,    19.15,2,     0.00,2,     1.27,2, -999.000,9,   -999.0,9,  -999.0,9,-999.000,9,-999.000,9
  316N198212_1, ATAS1,    12,  2,     17,     17,2,19821208,1107, 13.5183, -57.6100, 4879, 3025.3,   3022.2,   2.6056,  34.9252,2,  34.9260,2,   -999.0,9,  2.3611,    263.7,2,    26.78,2,    19.25,2,     0.00,2,     1.29,2, -999.000,9,   -999.0,9,  3036.0,2,-999.000,9,   2.606,2
  316N198212_1, ATAS1,    12,  2,     18,     18,2,19821208,1107, 13.5183, -57.6100, 4879, 3530.3,   3529.4,   2.3386,  34.9072,2,  34.9070,2,   -999.0,9,  2.0470,    263.3,2,    28.44,2,    18.76,2,     0.00,2,     1.26,2, -999.000,9,   -999.0,9,  -999.0,9,-999.000,9,-999.000,9
  316N198212_1, ATAS1,    12,  2,     19,     19,2,19821208,1107, 13.5183, -57.6100, 4879, 4137.9,   4139.6,   2.2296,  34.8939,2,  34.8940,2,   -999.0,9,  1.8729,    260.2,2,    33.62,2,    19.55,2,     0.00,2,     1.30,2, -999.000,9,   -999.0,9,  4140.0,2,-999.000,9,   2.231,2
  316N198212_1, ATAS1,    12,  2,     20,     20,2,19821208,1107, 13.5183, -57.6100, 4879, 4548.2,   4551.6,   2.2326,  34.8862,2,  34.8870,2,   -999.0,9,  1.8274,    263.3,2,    36.65,2,    20.03,2,     0.00,2,     1.35,2, -999.000,9,   -999.0,9,  -999.0,9,-999.000,9,-999.000,9
  316N198212_1, ATAS1,    12,  2,     21,     21,2,19821208,1107, 13.5183, -57.6100, 4879, 4848.7,   4853.4,   2.1726,  34.8749,2,  34.8770,2,   -999.0,9,  1.7326,    253.7,2,    42.80,2,    20.91,2,     0.00,2,     1.42,2, -999.000,9,   -999.0,9,  -999.0,9,-999.000,9,-999.000,9
  316N198212_1, ATAS1,    12,  2,     22,     22,2,19821208,1107, 13.5183, -57.6100, 4879, 4905.3,   4910.3,   2.1346,  34.8686,2,  34.8690,2,   -999.0,9,  1.6888,    251.6,2,    45.83,2,    21.40,2,     0.00,2,     1.45,2, -999.000,9,   -999.0,9,  -999.0,9,-999.000,9,-999.000,9
  316N198212_1, ATAS1,    12,  2,     23,     23,2,19821208,1107, 13.5183, -57.6100, 4879, 4932.6,   4937.7,   2.0206,  34.8524,2,  34.8540,2,   -999.0,9,  1.5753,    252.9,2,    53.75,2,    22.67,2,     0.00,2,     1.53,2, -999.000,9,   -999.0,9,  4940.0,2,-999.000,9,   2.024,2
  316N198212_1, ATAS1,    13,  1,      1,      1,2,19821209,0455, 13.9733, -56.0567, 5072,   -999,   -999.0,-999.0000,-999.0000,9,  34.7380,2,   -999.0,9, 26.7233,   -999.0,2,     3.71,2,     0.00,2,     0.00,2,     0.02,2, -999.000,9,   -999.0,9,    10.0,2,-999.000,9,  26.726,2
  316N198212_1, ATAS1,    13,  1,      2,      2,2,19821209,0455, 13.9733, -56.0567, 5072,   -999,   -999.0,-999.0000,-999.0000,9,  36.0920,2,   -999.0,9,-999.0000,   -999.0,2,     1.56,2,     0.00,2,     0.00,2,     0.01,2, -999.000,9,   -999.0,9,    60.0,2,-999.000,9,-999.000,9
  316N198212_1, ATAS1,    13,  1,      3,      3,2,19821209,0455, 13.9733, -56.0567, 5072,   -999,   -999.0,-999.0000,-999.0000,9,  37.1660,2,   -999.0,9,-999.0000,   -999.0,2,     0.88,2,     0.48,2,     0.06,2,     0.05,2, -999.000,9,   -999.0,9,   120.0,2,-999.000,9,-999.000,9
  316N198212_1, ATAS1,    13,  1,      4,      4,2,19821209,0455, 13.9733, -56.0567, 5072,   -999,   -999.0,-999.0000,-999.0000,9,  36.7440,2,   -999.0,9,-999.0000,   -999.0,2,     1.76,2,     5.98,2,     0.01,2,     0.31,2, -999.000,9,   -999.0,9,   171.0,2,-999.000,9,-999.000,9
  316N198212_1, ATAS1,    13,  1,      5,      5,2,19821209,0455, 13.9733, -56.0567, 5072,   -999,   -999.0,-999.0000,-999.0000,9,  36.4260,2,   -999.0,9,-999.0000,   -999.0,2,     2.15,2,     7.11,2,     0.00,2,     0.41,2, -999.000,9,   -999.0,9,   231.0,2,-999.000,9,-999.000,9
  316N198212_1, ATAS1,    13,  1,      6,      6,2,19821209,0455, 13.9733, -56.0567, 5072,   -999,   -999.0,-999.0000,-999.0000,9,  35.5840,2,   -999.0,9,-999.0000,   -999.0,2,     8.50,2,    20.41,2,     0.00,2,     1.24,2, -999.000,9,   -999.0,9,   352.0,2,-999.000,9,-999.000,9
  316N198212_1, ATAS1,    13,  1,      7,      7,2,19821209,0455, 13.9733, -56.0567, 5072,   -999,   -999.0,-999.0000,-999.0000,9,  35.1260,2,   -999.0,9,-999.0000,   -999.0,2,    14.85,2,    27.65,2,     0.00,2,     1.73,2, -999.000,9,   -999.0,9,   504.0,2,-999.000,9,-999.000,9
  316N198212_1, ATAS1,    13,  1,      8,      8,2,19821209,0455, 13.9733, -56.0567, 5072,   -999,   -999.0,-999.0000,-999.0000,9,  34.8360,2,   -999.0,9,  7.1619,   -999.0,2,    20.91,2,    31.86,2,     0.00,2,     2.02,2, -999.000,9,   -999.0,9,   655.0,2,-999.000,9,   7.226,2
  316N198212_1, ATAS1,    13,  1,      9,      9,2,19821209,0455, 13.9733, -56.0567, 5072,   -999,   -999.0,-999.0000,-999.0000,9,  34.7550,2,   -999.0,9,-999.0000,   -999.0,2,    25.02,2,    32.74,2,     0.00,2,     2.13,2, -999.000,9,   -999.0,9,   806.0,2,-999.000,9,-999.000,9
  316N198212_1, ATAS1,    13,  1,     10,     10,2,19821209,0455, 13.9733, -56.0567, 5072, 1009.0,    997.4,   5.3427,  34.8333,2,  34.8390,2,   -999.0,9,  5.2566,    162.1,2,    24.33,2,    29.42,2,     0.00,2,     1.94,2, -999.000,9,   -999.0,9,  -999.0,9,-999.000,9,-999.000,9
  316N198212_1, ATAS1,    13,  1,     11,     11,2,19821209,0455, 13.9733, -56.0567, 5072, 1208.0,   1197.0,   5.0128,  34.9692,2,  34.9700,2,   -999.0,9,  4.9103,    201.6,2,    19.35,2,    24.14,2,     0.00,2,     1.60,2, -999.000,9,   -999.0,9,  1205.0,2,-999.000,9,   5.011,2
  316N198212_1, ATAS1,    13,  1,     12,     12,2,19821209,0455, 13.9733, -56.0567, 5072, 1405.8,   1395.5,   4.5578,  34.9983,2,  35.0000,2,   -999.0,9,  4.4411,    231.6,2,    16.61,2,    21.01,2,     0.00,2,     1.40,2, -999.000,9,   -999.0,9,  -999.0,9,-999.000,9,-999.000,9
  316N198212_1, ATAS1,    13,  1,     13,     13,2,19821209,0455, 13.9733, -56.0567, 5072, 1651.3,   1641.2,   4.0638,  34.9946,2,  34.9970,2,   -999.0,9,  3.9297,    259.8,2,    14.66,2,    19.06,2,     0.00,2,     1.27,2, -999.000,9,   -999.0,9,  -999.0,9,-999.000,9,-999.000,9
  316N198212_1, ATAS1,    13,  1,     14,     14,2,19821209,0455, 13.9733, -56.0567, 5072, 1899.5,   1890.4,   3.6988,  34.9830,2,  34.9850,2,   -999.0,9,  3.5461,    261.1,2,    16.12,2,    18.66,2,     0.00,2,     1.25,2, -999.000,9,   -999.0,9,  -999.0,9,-999.000,9,-999.000,9
  316N198212_1, ATAS1,    13,  1,     15,     15,2,19821209,0455, 13.9733, -56.0567, 5072, 2352.5,   2345.5,   3.1708,  34.9596,2,  34.9600,2,   -999.0,9,  2.9828,    263.3,2,    20.42,2,    18.76,2,     0.00,2,     1.27,2, -999.000,9,   -999.0,9,  -999.0,9,-999.000,9,-999.000,9
  316N198212_1, ATAS1,    13,  1,     16,     16,2,19821209,0455, 13.9733, -56.0567, 5072, 2806.8,   2801.8,   2.8498,  34.9390,2,  34.9380,2,   -999.0,9,  2.6226,    261.1,2,    25.70,2,    19.45,2,     0.01,2,     1.31,2, -999.000,9,   -999.0,9,  -999.0,9,-999.000,9,-999.000,9
  316N198212_1, ATAS1,    13,  1,     17,     17,2,19821209,0455, 13.9733, -56.0567, 5072, 3310.4,   3307.5,   2.5728,  34.9221,2,  34.9220,2,   -999.0,9,  2.2993,    267.2,2,    26.19,2,    18.76,2,     0.00,2,     1.28,2, -999.000,9,   -999.0,9,  3330.0,2,-999.000,9,   2.579,2
  316N198212_1, ATAS1,    13,  1,     18,     18,2,19821209,0455, 13.9733, -56.0567, 5072, 3672.2,   3670.8,   2.3838,  34.9083,2,  34.9060,2,   -999.0,9,  2.0757,    267.2,2,    29.32,2,    19.06,2,     0.00,2,     1.30,2, -999.000,9,   -999.0,9,  -999.0,9,-999.000,9,-999.000,9
  316N198212_1, ATAS1,    13,  1,     19,     19,2,19821209,0455, 13.9733, -56.0567, 5072, 4029.4,   4029.5,   2.2848,  34.8973,2,  34.8990,2,   -999.0,9,  1.9392,    266.3,2,    32.84,2,    19.45,2,     0.00,2,     1.33,2, -999.000,9,   -999.0,9,  4035.0,2,-999.000,9,   2.285,2
  316N198212_1, ATAS1,    13,  1,     20,     20,2,19821209,0455, 13.9733, -56.0567, 5072, 4334.1,   4335.5,   2.2278,  34.8892,2,  34.8890,2,   -999.0,9,  1.8485,    265.9,2,    35.67,2,    19.64,2,     0.00,2,     1.35,2, -999.000,9,   -999.0,9,  -999.0,9,-999.000,9,-999.000,9
  316N198212_1, ATAS1,    13,  1,     21,     21,2,19821209,0455, 13.9733, -56.0567, 5072, 4837.9,   4841.5,   2.0378,  34.8573,2,  34.8590,2,   -999.0,9,  1.6038,    255.0,2,    51.41,2,    22.18,2,     0.00,2,     1.51,2, -999.000,9,   -999.0,9,  -999.0,9,-999.000,9,-999.000,9
  316N198212_1, ATAS1,    13,  1,     22,     22,2,19821209,0455, 13.9733, -56.0567, 5072, 5175.0,   5180.0,   1.8368,  34.8270,2,-999.0000,9,   -999.0,9,  1.3677,    245.5,2,  -999.00,9,  -999.00,9,  -999.00,9,  -999.00,9, -999.000,9,   -999.0,9,  -999.0,9,-999.000,9,-999.000,9
  316N198212_1, ATAS1,    13,  1,     23,     23,2,19821209,0455, 13.9733, -56.0567, 5072, 5176.4,   5181.4,   1.8378,  34.8266,2,  34.8280,2,   -999.0,9,  1.3685,    246.3,2,    65.58,2,    24.24,2,     0.00,2,     1.67,2, -999.000,9,   -999.0,9,  5183.0,2,-999.000,9,   1.840,2
  316N198212_1, ATAS1,    14,  1,      1,      1,2,19821209,2037, 14.4267, -54.4783, 5320,   26.9,     11.0,  26.3086,  35.3468,2,  35.3620,2,   -999.0,9, 26.3061,    205.1,2,     3.13,2,     0.04,2,     0.00,2,     0.03,2,    1.390,2,   1945.0,2,  -999.0,9,   0.070,2,  26.304,2
  316N198212_1, ATAS1,    14,  1,      2,      2,2,19821209,2037, 14.4267, -54.4783, 5320,   77.2,     60.0,  27.2326,  36.7903,2,  36.8280,2,   -999.0,9, 27.2186,    205.8,2,     1.46,2,     0.04,2,     0.00,2,     0.03,2,    1.740,2,   2018.0,2,  -999.0,9,   0.080,2,-999.000,9
  316N198212_1, ATAS1,    14,  1,      3,      3,2,19821209,2037, 14.4267, -54.4783, 5320,  137.1,    122.0,  22.8456,  37.1204,2,  37.1250,2,   -999.0,9, 22.8206,    174.2,2,     1.56,2,     1.70,2,     0.03,2,     0.11,2, -999.000,9,   -999.0,9,  -999.0,9,-999.000,9,-999.000,9
  316N198212_1, ATAS1,    14,  1,      4,      4,2,19821209,2037, 14.4267, -54.4783, 5320,  187.0,    173.0,  18.8787,  36.5775,2,  36.5740,2,   -999.0,9, 18.8477,    155.4,2,     2.64,2,     7.62,2,     0.01,2,     0.44,2,    2.510,2,   2128.0,2,  -999.0,9,   0.100,2,-999.000,9
  316N198212_1, ATAS1,    14,  1,      5,      5,2,19821209,2037, 14.4267, -54.4783, 5320,  265.9,    253.0,  15.2748,  36.0199,2,  36.0220,2,   -999.0,9, 15.2356,    143.1,2,     5.27,2,    14.65,2,     0.00,2,     0.88,2, -999.000,9,   -999.0,9,  -999.0,9,-999.000,9,-999.000,9
  316N198212_1, ATAS1,    14,  1,      6,      6,2,19821209,2037, 14.4267, -54.4783, 5320,  365.6,    354.0,  10.9279,  35.2536,2,  35.2550,2,   -999.0,9, 10.8840,    106.5,2,    12.51,2,    26.18,2,     0.00,2,     1.64,2, -999.000,9,   -999.0,9,  -999.0,9,-999.000,9,-999.000,9
  316N198212_1, ATAS1,    14,  1,      7,      7,2,19821209,2037, 14.4267, -54.4783, 5320,  465.9,    454.0,   9.1969,  35.0135,2,  35.0050,2,   -999.0,9,  9.1462,    100.4,2,    16.22,2,    30.39,2,     0.00,2,     1.92,2, -999.000,9,   -999.0,9,  -999.0,9,-999.000,9,-999.000,9
  316N198212_1, ATAS1,    14,  1,      8,      8,2,19821209,2037, 14.4267, -54.4783, 5320,  666.1,    651.8,   7.2069,  34.8029,2,  34.8030,2,   -999.0,9,  7.1431,    102.2,2,    22.28,2,    34.30,2,     0.00,2,     2.21,2, -999.000,9,   -999.0,9,   661.0,2,-999.000,9,   7.202,2
  316N198212_1, ATAS1,    14,  1,      9,      9,2,19821209,2037, 14.4267, -54.4783, 5320,  817.9,    804.1,   6.1720,  34.7404,2,  34.7380,2,   -999.0,9,  6.0986,    115.2,2,    25.90,2,    34.70,2,     0.00,2,     2.27,2,    0.040,2,   2216.0,2,  -999.0,9,   0.024,2,-999.000,9
  316N198212_1, ATAS1,    14,  1,     10,     10,2,19821209,2037, 14.4267, -54.4783, 5320, 1017.6,   1004.3,   5.1160,  34.7363,2,  34.7390,2,   -999.0,9,  5.0310,    151.7,2,    27.86,2,    31.67,2,     0.00,2,     2.12,2, -999.000,9,   -999.0,9,  -999.0,9,-999.000,9,-999.000,9
  316N198212_1, ATAS1,    14,  1,     11,     11,2,19821209,2037, 14.4267, -54.4783, 5320, 1217.1,   1204.3,   5.0750,  34.9234,2,  34.9220,2,   -999.0,9,  4.9714,    188.6,2,    21.99,2,    25.90,2,     0.00,2,     1.75,2, -999.000,9,   -999.0,9,  1211.0,2,-999.000,9,   5.077,2
  316N198212_1, ATAS1,    14,  1,     12,     12,2,19821209,2037, 14.4267, -54.4783, 5320, 1418.1,   1405.9,   4.5830,  34.9857,2,  34.9850,2,   -999.0,9,  4.4651,    221.6,2,    18.57,2,    22.28,2,     0.00,2,     1.50,2, -999.000,9,   -999.0,9,  -999.0,9,-999.000,9,-999.000,9
  316N198212_1, ATAS1,    14,  1,     13,     13,2,19821209,2037, 14.4267, -54.4783, 5320, 1669.0,   1657.2,   4.0470,  34.9928,2,  34.9920,2,   -999.0,9,  3.9116,    251.6,2,    16.03,2,    19.64,2,     0.00,2,     1.33,2, -999.000,9,   -999.0,9,  -999.0,9,-999.000,9,-999.000,9
  316N198212_1, ATAS1,    14,  1,     14,     14,2,19821209,2037, 14.4267, -54.4783, 5320, 1919.5,   1908.6,   3.6590,  34.9832,2,  34.9850,2,   -999.0,9,  3.5052,    259.0,2,    17.79,2,    19.15,2,     0.00,2,     1.29,2, -999.000,9,   -999.0,9,  -999.0,9,-999.000,9,-999.000,9
  316N198212_1, ATAS1,    14,  1,     15,     15,2,19821209,2037, 14.4267, -54.4783, 5320, 2369.3,   2360.3,   3.1360,  34.9597,2,  34.9560,2,   -999.0,9,  2.9472,    262.4,2,    22.09,2,    18.96,2,     0.00,2,     1.29,2, -999.000,9,   -999.0,9,  -999.0,9,-999.000,9,-999.000,9
  316N198212_1, ATAS1,    14,  1,     16,     16,2,19821209,2037, 14.4267, -54.4783, 5320, 2818.5,   2811.4,   2.8500,  34.9406,2,  34.9380,2,   -999.0,9,  2.6219,    260.3,2,    27.46,2,    19.64,2,     0.00,2,     1.34,2, -999.000,9,   -999.0,9,  -999.0,9,-999.000,9,-999.000,9
  316N198212_1, ATAS1,    14,  1,     17,     17,2,19821209,2037, 14.4267, -54.4783, 5320, 3323.9,   3318.9,   2.6310,  34.9231,2,  34.9220,2,   -999.0,9,  2.3549,    258.1,2,    33.42,2,    20.23,2,     0.00,2,     1.39,2, -999.000,9,   -999.0,9,  3342.0,2,-999.000,9,   2.637,2
  316N198212_1, ATAS1,    14,  1,     18,     18,2,19821209,2037, 14.4267, -54.4783, 5320, 3628.1,   3624.2,   2.4840,  34.9095,2,  34.9080,2,   -999.0,9,  2.1784,    258.9,2,    36.35,2,    20.42,2,     0.00,2,     1.41,2, -999.000,9,   -999.0,9,  -999.0,9,-999.000,9,-999.000,9
  316N198212_1, ATAS1,    14,  1,     19,     19,2,19821209,2037, 14.4267, -54.4783, 5320, 4130.4,   4128.6,   2.3240,  34.8982,2,  34.8980,2,   -999.0,9,  1.9659,    265.5,2,    35.28,2,    19.74,2,     0.00,2,     1.37,2, -999.000,9,   -999.0,9,  4133.0,2,-999.000,9,   2.325,2
  316N198212_1, ATAS1,    14,  1,     20,     20,2,19821209,2037, 14.4267, -54.4783, 5320, 4536.1,   4536.0,   2.2600,  34.8891,2,  34.8880,2,   -999.0,9,  1.8558,    264.6,2,    37.62,2,    20.03,2,     0.00,2,     1.38,2, -999.000,9,   -999.0,9,  -999.0,9,-999.000,9,-999.000,9
  316N198212_1, ATAS1,    14,  1,     21,     21,2,19821209,2037, 14.4267, -54.4783, 5320, 4894.3,   4895.5,   2.1000,  34.8640,2,  34.8660,2,   -999.0,9,  1.6573,    255.9,2,    49.45,2,    21.79,2,     0.00,2,     1.50,2, -999.000,9,   -999.0,9,  -999.0,9,-999.000,9,-999.000,9
  316N198212_1, ATAS1,    14,  1,     22,     22,2,19821209,2037, 14.4267, -54.4783, 5320, 5197.9,   5200.5,   1.8840,  34.8326,2,  34.8330,2,   -999.0,9,  1.4107,    248.1,2,    63.62,2,    23.85,2,     0.00,2,     1.64,2, -999.000,9,   -999.0,9,  -999.0,9,-999.000,9,-999.000,9
  316N198212_1, ATAS1,    14,  1,     23,     23,2,19821209,2037, 14.4267, -54.4783, 5320, 5341.6,   5344.6,   1.8460,  34.8267,2,  34.8270,2,   -999.0,9,  1.3558,    247.2,2,    66.07,2,    24.24,2,     0.00,2,     1.67,2, -999.000,9,   -999.0,9,  5351.0,2,-999.000,9,   1.849,2