BOTTLE,20060405WHPSIOdm
EXPOCODE,SECT_ID,STNNBR,CASTNO,SAMPNO,BTLNBR,BTLNBR_FLAG_W,DATE,TIME,LATITUDE,LONGITUDE,DEPTH,CTDRAW,CTDPRS,CTDTMP,CTDSAL,CTDSAL_FLAG_W,SALNTY,SALNTY_FLAG_W,CTDOXY,CTDOXY_FLAG_W,THETA,OXYGEN,OXYGEN_FLAG_W,SILCAT,SILCAT_FLAG_W,NITRAT,NITRAT_FLAG_W,NITRIT,NITRIT_FLAG_W,PHSPHT,PHSPHT_FLAG_W,TRITUM,TRITUM_FLAG_W,TCARBN,TCARBN_FLAG_W,REVPRS,REVPRS_FLAG_W,TRITER,TRITER_FLAG_W,REVTMP,REVTMP_FLAG_W
,,,,,,,,,,,,,DBAR,ITS-90,PSS-78,,PSS-78,,UMOL/KG,,DEG C,UMOL/KG,,UMOL/KG,,UMOL/KG,,UMOL/KG,,UMOL/KG,,UMOL/KG,,UMOL/KG,,DBAR,,TU,,ITS-90,
  316N198212_1, ATAS1,     6,  1,      1,      1,2,19821205,0057, 13.7017, -64.6200, 3486,   20.5,      8.0,  27.2768,  34.8932,2,-999.0000,9,   -999.0,9, 27.2749,    198.7,2,     4.01,2,     0.16,2,     0.00,2,     0.05,2, -999.000,9,   -999.0,9,  -999.0,9,-999.000,9,  27.279,2
  316N198212_1, ATAS1,     6,  1,      2,      2,2,19821205,0057, 13.7017, -64.6200, 3486,   60.3,     48.1,  27.6028,  35.5090,2,  35.5070,2,   -999.0,9, 27.5915,    200.8,2,     3.42,2,     0.00,2,     0.00,2,     0.06,2, -999.000,9,   -999.0,9,  -999.0,9,-999.000,9,-999.000,9
  316N198212_1, ATAS1,     6,  1,      3,      3,2,19821205,0057, 13.7017, -64.6200, 3486,  110.4,     99.0,  25.5738,  36.7062,2,  36.7250,2,   -999.0,9, 25.5518,    186.6,2,     1.85,2,     0.88,2,     0.07,2,     0.12,2, -999.000,9,   -999.0,9,  -999.0,9,-999.000,9,-999.000,9
  316N198212_1, ATAS1,     6,  1,      4,      4,2,19821205,0057, 13.7017, -64.6200, 3486,  160.4,    150.0,  22.0989,  36.8331,2,  36.8360,2,   -999.0,9, 22.0688,    156.3,2,     2.83,2,     4.68,2,     0.02,2,     0.30,2, -999.000,9,   -999.0,9,  -999.0,9,-999.000,9,-999.000,9
  316N198212_1, ATAS1,     6,  1,      5,      5,2,19821205,0057, 13.7017, -64.6200, 3486,  210.1,    201.0,  18.5569,  36.4345,2,  36.4420,2,   -999.0,9, 18.5214,    135.8,2,     4.69,2,    10.54,2,     0.00,2,     0.63,2, -999.000,9,   -999.0,9,  -999.0,9,-999.000,9,-999.000,9
  316N198212_1, ATAS1,     6,  1,      6,      6,2,19821205,0057, 13.7017, -64.6200, 3486,  310.8,    303.0,  14.5950,  35.8403,2,  35.8180,2,   -999.0,9, 14.5495,    134.4,2,     7.81,2,    17.29,2,     0.00,2,     1.07,2, -999.000,9,   -999.0,9,  -999.0,9,-999.000,9,-999.000,9
  316N198212_1, ATAS1,     6,  1,      7,      7,2,19821205,0057, 13.7017, -64.6200, 3486,  411.5,    403.0,  10.9611,  35.2398,2,  35.2410,2,   -999.0,9, 10.9109,    123.9,2,    12.41,2,    24.62,2,     0.00,2,     1.57,2, -999.000,9,   -999.0,9,  -999.0,9,-999.000,9,-999.000,9
  316N198212_1, ATAS1,     6,  1,      8,      8,2,19821205,0057, 13.7017, -64.6200, 3486,  512.4,    498.1,   9.2341,  35.0055,2,  35.0070,2,   -999.0,9,  9.1782,    121.7,2,    16.03,2,    28.24,2,     0.00,2,     1.81,2, -999.000,9,   -999.0,9,   501.0,2,-999.000,9,   9.241,2
  316N198212_1, ATAS1,     6,  1,      9,      9,2,19821205,0057, 13.7017, -64.6200, 3486,  612.5,    598.8,   7.3281,  34.7908,2,  34.7840,2,   -999.0,9,  7.2692,    124.8,2,    21.70,2,    31.86,2,     0.00,2,     2.06,2, -999.000,9,   -999.0,9,  -999.0,9,-999.000,9,-999.000,9
  316N198212_1, ATAS1,     6,  1,     10,     10,2,19821205,0057, 13.7017, -64.6200, 3486,  662.8,    649.4,   6.8202,  34.7549,2,  34.7570,2,   -999.0,9,  6.7585,    126.9,2,    23.07,2,    32.55,2,     0.00,2,     2.11,2, -999.000,9,   -999.0,9,  -999.0,9,-999.000,9,-999.000,9
  316N198212_1, ATAS1,     6,  1,     11,     11,2,19821205,0057, 13.7017, -64.6200, 3486,  713.8,    700.7,   6.3202,  34.7397,2,  34.7350,2,   -999.0,9,  6.2560,    131.3,2,    24.83,2,    32.74,2,     0.00,2,     2.14,2, -999.000,9,   -999.0,9,   701.0,2,-999.000,9,   6.301,2
  316N198212_1, ATAS1,     6,  1,     12,     12,2,19821205,0057, 13.7017, -64.6200, 3486,  812.2,    799.8,   5.7242,  34.7600,2,  34.7570,2,   -999.0,9,  5.6540,    143.9,2,    26.10,2,    31.76,2,     0.00,2,     2.10,2, -999.000,9,   -999.0,9,  -999.0,9,-999.000,9,-999.000,9
  316N198212_1, ATAS1,     6,  1,     13,     13,2,19821205,0057, 13.7017, -64.6200, 3486, 1011.1,   1000.0,   4.9532,  34.9092,2,  34.9080,2,   -999.0,9,  4.8696,    180.8,2,    26.29,2,    26.68,2,     0.00,2,     1.81,2, -999.000,9,   -999.0,9,  -999.0,9,-999.000,9,-999.000,9
  316N198212_1, ATAS1,     6,  1,     14,     14,2,19821205,0057, 13.7017, -64.6200, 3486, 1110.4,   1099.9,   4.6652,  34.9367,2,  34.9390,2,   -999.0,9,  4.5748,    192.5,2,    26.39,2,    25.31,2,     0.00,2,     1.72,2, -999.000,9,   -999.0,9,  -999.0,9,-999.000,9,-999.000,9
  316N198212_1, ATAS1,     6,  1,     15,     15,2,19821205,0057, 13.7017, -64.6200, 3486, 1209.8,   1199.8,   4.4792,  34.9484,2,  34.9480,2,   -999.0,9,  4.3814,    199.0,2,    26.97,2,    24.53,2,     0.00,2,     1.66,2, -999.000,9,   -999.0,9,  -999.0,9,-999.000,9,-999.000,9
  316N198212_1, ATAS1,     6,  1,     16,     16,2,19821205,0057, 13.7017, -64.6200, 3486, 1309.8,   1300.4,   4.3512,  34.9565,2,  34.9560,2,   -999.0,9,  4.2455,    204.2,2,    27.17,2,    23.94,2,     0.00,2,     1.62,2, -999.000,9,   -999.0,9,  -999.0,9,-999.000,9,-999.000,9
  316N198212_1, ATAS1,     6,  1,     17,     17,2,19821205,0057, 13.7017, -64.6200, 3486, 1510.6,   1502.3,   4.1872,  34.9656,2,  34.9660,2,   -999.0,9,  4.0647,    210.7,2,    27.95,2,    23.26,2,     0.00,2,     1.57,2, -999.000,9,   -999.0,9,  1506.0,2,-999.000,9,   4.186,2
  316N198212_1, ATAS1,     6,  1,     19,     19,2,19821205,0057, 13.7017, -64.6200, 3486, 1712.5,   1705.2,   4.1072,  34.9697,2,  34.9700,2,   -999.0,9,  3.9666,    215.1,2,    28.05,2,    22.87,2,     0.00,2,     1.54,2, -999.000,9,   -999.0,9,  1705.0,2,-999.000,9,   4.104,2
  316N198212_1, ATAS1,     6,  1,     20,     20,2,19821205,0057, 13.7017, -64.6200, 3486, 1911.3,   1904.9,   4.0732,  34.9718,2,  34.9710,2,   -999.0,9,  3.9139,    216.4,2,    28.24,2,    22.57,2,     0.00,2,     1.53,2, -999.000,9,   -999.0,9,  -999.0,9,-999.000,9,-999.000,9
  316N198212_1, ATAS1,     6,  1,     23,     23,2,19821205,0057, 13.7017, -64.6200, 3486, 2010.6,   2004.8,   4.0692,  34.9709,2,  34.9720,2,   -999.0,9,  3.9002,    218.6,2,    28.24,2,    22.57,2,     0.00,2,     1.53,2, -999.000,9,   -999.0,9,  2006.0,2,-999.000,9,   4.069,2
  316N198212_1, ATAS1,     7,  1,      2,      2,2,19821205,1650, 12.8467, -62.9850, 2969,   24.1,     10.0,  27.3170,  34.8607,2,  34.8370,2,   -999.0,9, 27.3147,    200.5,2,     3.62,2,     0.00,2,     0.00,2,     0.04,2, -999.000,9,   -999.0,9,  -999.0,9,-999.000,9,-999.000,9
  316N198212_1, ATAS1,     7,  1,      3,      3,2,19821205,1650, 12.8467, -62.9850, 2969,   57.0,     42.0,  27.5710,  35.9797,2,  35.9540,2,   -999.0,9, 27.5612,    205.1,2,     2.44,2,     0.00,2,     0.00,2,     0.06,2, -999.000,9,   -999.0,9,  -999.0,9,-999.000,9,-999.000,9
  316N198212_1, ATAS1,     7,  1,      4,      4,2,19821205,1650, 12.8467, -62.9850, 2969,  106.4,     93.0,  24.9910,  36.8303,2,  36.8400,2,   -999.0,9, 24.9707,    183.5,2,     1.37,2,     1.09,2,     0.09,2,     0.12,2, -999.000,9,   -999.0,9,  -999.0,9,-999.000,9,-999.000,9
  316N198212_1, ATAS1,     7,  1,      5,      5,2,19821205,1650, 12.8467, -62.9850, 2969,  141.2,    129.0,  21.6571,  36.7874,2,  36.7930,2,   -999.0,9, 21.6317,    157.6,2,     2.34,2,     4.97,2,     0.02,2,     0.32,2, -999.000,9,   -999.0,9,  -999.0,9,-999.000,9,-999.000,9
  316N198212_1, ATAS1,     7,  1,      6,      6,2,19821205,1650, 12.8467, -62.9850, 2969,  176.3,    165.0,  18.0912,  36.3565,2,  36.3510,2,   -999.0,9, 18.0625,    135.3,2,     3.90,2,    11.32,2,     0.01,2,     0.67,2, -999.000,9,   -999.0,9,  -999.0,9,-999.000,9,-999.000,9
  316N198212_1, ATAS1,     7,  1,      7,      7,2,19821205,1650, 12.8467, -62.9850, 2969,  231.6,    222.0,  14.8532,  35.8880,2,  35.8840,2,   -999.0,9, 14.8196,    136.1,2,     6.45,2,    16.21,2,     0.00,2,     1.01,2, -999.000,9,   -999.0,9,  -999.0,9,-999.000,9,-999.000,9
  316N198212_1, ATAS1,     7,  1,      8,      8,2,19821205,1650, 12.8467, -62.9850, 2969,  309.3,    301.0,  11.9273,  35.4048,2,  35.4070,2,   -999.0,9, 11.8878,    125.2,2,    10.45,2,    22.37,2,     0.00,2,     1.42,2, -999.000,9,   -999.0,9,   292.0,2,-999.000,9,  11.791,2
  316N198212_1, ATAS1,     7,  1,      9,      9,2,19821205,1650, 12.8467, -62.9850, 2969,  409.3,    402.0,   9.7683,  35.0725,2,  35.0720,2,   -999.0,9,  9.7218,    119.6,2,  -999.00,9,  -999.00,9,  -999.00,9,  -999.00,9, -999.000,9,   -999.0,9,  -999.0,9,-999.000,9,-999.000,9
  316N198212_1, ATAS1,     7,  1,     10,     10,2,19821205,1650, 12.8467, -62.9850, 2969,  510.0,    496.4,   8.7403,  34.9662,2,  34.9660,2,   -999.0,9,  8.6864,    121.7,2,    17.20,2,    29.02,2,     0.00,2,     1.87,2, -999.000,9,   -999.0,9,  -999.0,9,-999.000,9,-999.000,9
  316N198212_1, ATAS1,     7,  1,     11,     11,2,19821205,1650, 12.8467, -62.9850, 2969,  611.8,    598.7,   7.2414,  34.8004,2,  34.7960,2,   -999.0,9,  7.1828,    123.9,2,    21.50,2,    31.76,2,     0.00,2,     2.06,2, -999.000,9,   -999.0,9,   597.0,2,-999.000,9,   7.103,2
  316N198212_1, ATAS1,     7,  1,     12,     12,2,19821205,1650, 12.8467, -62.9850, 2969,  677.4,    664.6,   6.6394,  34.7342,2,  34.7310,2,   -999.0,9,  6.5771,    125.6,2,    23.55,2,    32.74,2,     0.00,2,     2.14,2, -999.000,9,   -999.0,9,  -999.0,9,-999.000,9,-999.000,9
  316N198212_1, ATAS1,     7,  1,     13,     13,2,19821205,1650, 12.8467, -62.9850, 2969,  743.4,    730.9,   6.3934,  34.7404,2,  34.7390,2,   -999.0,9,  6.3259,    130.0,2,    24.34,2,    32.64,2,     0.00,2,     2.14,2, -999.000,9,   -999.0,9,  -999.0,9,-999.000,9,-999.000,9
  316N198212_1, ATAS1,     7,  1,     14,     14,2,19821205,1650, 12.8467, -62.9850, 2969,  813.3,    801.3,   5.8154,  34.7558,2,  34.7540,2,   -999.0,9,  5.7445,    140.0,2,    25.80,2,    31.96,2,     0.00,2,     2.11,2, -999.000,9,   -999.0,9,  -999.0,9,-999.000,9,-999.000,9
  316N198212_1, ATAS1,     7,  1,     15,     15,2,19821205,1650, 12.8467, -62.9850, 2969,  913.0,    901.8,   5.2254,  34.8584,2,  34.8580,2,   -999.0,9,  5.1489,    166.5,2,    26.48,2,    28.44,2,     0.00,2,     1.89,2, -999.000,9,   -999.0,9,  -999.0,9,-999.000,9,-999.000,9
  316N198212_1, ATAS1,     7,  1,     16,     16,2,19821205,1650, 12.8467, -62.9850, 2969, 1010.6,   1000.1,   4.7574,  34.9209,2,  34.9190,2,   -999.0,9,  4.6753,    186.4,2,    27.56,2,    25.99,2,     0.00,2,     1.76,2, -999.000,9,   -999.0,9,  -999.0,9,-999.000,9,-999.000,9
  316N198212_1, ATAS1,     7,  1,     17,     17,2,19821205,1650, 12.8467, -62.9850, 2969, 1110.7,   1100.8,   4.5404,  34.9399,2,  34.9440,2,   -999.0,9,  4.4510,    194.7,2,    28.05,2,    24.92,2,     0.00,2,     1.69,2, -999.000,9,   -999.0,9,  1102.0,2,-999.000,9,   4.532,2
  316N198212_1, ATAS1,     7,  1,     18,     18,2,19821205,1650, 12.8467, -62.9850, 2969, 1209.5,   1200.2,   4.4254,  34.9499,2,  34.9500,2,   -999.0,9,  4.3281,    198.2,2,    28.44,2,    24.43,2,     0.00,2,     1.61,2, -999.000,9,   -999.0,9,  -999.0,9,-999.000,9,-999.000,9
  316N198212_1, ATAS1,     7,  1,     19,     19,2,19821205,1650, 12.8467, -62.9850, 2969, 1458.5,   1450.4,   4.1824,  34.9647,2,  34.9660,2,   -999.0,9,  4.0647,    207.7,2,    29.71,2,    23.45,2,     0.00,2,     1.60,2, -999.000,9,   -999.0,9,  1446.0,2,-999.000,9,   4.177,2
  316N198212_1, ATAS1,     7,  1,     20,     20,2,19821205,1650, 12.8467, -62.9850, 2969, 1709.7,   1702.9,   4.1074,  34.9697,2,  34.9680,2,   -999.0,9,  3.9671,    209.0,2,    30.49,2,    23.16,2,     0.00,2,     1.60,2, -999.000,9,   -999.0,9,  -999.0,9,-999.000,9,-999.000,9
  316N198212_1, ATAS1,     7,  1,     23,     23,2,19821205,1650, 12.8467, -62.9850, 2969, 2010.8,   2005.4,   4.1044,  34.9716,2,  34.9730,2,   -999.0,9,  3.9348,    210.3,2,    31.66,2,    23.06,2,     0.00,2,     1.57,2, -999.000,9,   -999.0,9,  2007.0,2,-999.000,9,   4.106,2
  316N198212_1, ATAS1,     8,  1,      1,      1,2,19821206,0138, 11.9850, -62.4700, 1894,   24.8,     10.0,  27.4222,  35.5039,2,  35.5010,2,   -999.0,9, 27.4199,    199.1,2,     3.03,2,     0.11,2,     0.00,2,     0.03,2,    1.660,2,   1965.0,2,  -999.0,9,   0.080,2,  27.417,2
  316N198212_1, ATAS1,     8,  1,      2,      2,2,19821206,0138, 11.9850, -62.4700, 1894,   61.8,     47.0,  27.4532,  35.9652,2,  35.9510,2,   -999.0,9, 27.4423,    196.0,2,     2.25,2,     0.10,2,     0.00,2,     0.05,2,    1.670,2,   2007.0,2,  -999.0,9,   0.070,2,-999.000,9
  316N198212_1, ATAS1,     8,  1,      3,      3,2,19821206,0138, 11.9850, -62.4700, 1894,  112.3,    101.0,  22.2283,  36.7435,2,  36.7490,2,   -999.0,9, 22.2080,    152.4,2,     2.24,2,     5.23,2,     0.03,2,     0.31,2,    2.220,2,   2107.0,2,  -999.0,9,   0.090,2,-999.000,9
  316N198212_1, ATAS1,     8,  1,      4,      4,2,19821206,0138, 11.9850, -62.4700, 1894,  162.5,    152.0,  19.8104,  36.5545,2,  36.5600,2,   -999.0,9, 19.7822,    142.3,2,     3.32,2,     8.69,2,     0.01,2,     0.51,2,    2.630,2,   2141.0,2,  -999.0,9,   0.110,2,-999.000,9
  316N198212_1, ATAS1,     8,  1,      5,      5,2,19821206,0138, 11.9850, -62.4700, 1894,  213.1,    203.0,  16.7044,  36.1835,2,  36.1870,2,   -999.0,9, 16.6710,    141.4,2,     4.59,2,    12.79,2,     0.01,2,     0.75,2,    2.850,2,   2141.0,2,  -999.0,9,   0.110,2,-999.000,9
  316N198212_1, ATAS1,     8,  1,      6,      6,2,19821206,0138, 11.9850, -62.4700, 1894,  313.3,    305.0,  12.8755,  35.5417,2,  35.5340,2,   -999.0,9, 12.8334,    127.0,2,     9.28,2,    20.81,2,     0.00,2,     1.29,2, -999.000,9,   -999.0,9,  -999.0,9,-999.000,9,-999.000,9
  316N198212_1, ATAS1,     8,  1,      7,      7,2,19821206,0138, 11.9850, -62.4700, 1894,  412.8,    405.0,   9.8685,  35.0663,2,  35.0650,2,   -999.0,9,  9.8214,    120.4,2,    14.07,2,    27.16,2,     0.00,2,     1.71,2,    0.780,2,   2188.0,2,  -999.0,9,   0.080,2,-999.000,9
  316N198212_1, ATAS1,     8,  1,      8,      8,2,19821206,0138, 11.9850, -62.4700, 1894,  512.2,    500.2,   7.9206,  34.7941,2,  34.7990,2,   -999.0,9,  7.8694,    121.3,2,    18.67,2,    31.08,2,     0.00,2,     1.97,2, -999.000,9,   -999.0,9,   502.0,2,-999.000,9,   7.937,2
  316N198212_1, ATAS1,     8,  1,      9,      9,2,19821206,0138, 11.9850, -62.4700, 1894,  613.5,    602.4,   7.0446,  34.7308,2,  34.7300,2,   -999.0,9,  6.9866,    123.9,2,    21.99,2,    32.55,2,     0.00,2,     2.09,2,    0.205,2,   2207.0,2,  -999.0,9,   0.041,2,-999.000,9
  316N198212_1, ATAS1,     8,  1,     10,     10,2,19821206,0138, 11.9850, -62.4700, 1894,  713.2,    703.0,   5.9876,  34.6570,2,  34.6580,2,   -999.0,9,  5.9251,    130.4,2,    25.71,2,    33.92,2,     0.00,2,     2.21,2, -999.000,9,   -999.0,9,  -999.0,9,-999.000,9,-999.000,9
  316N198212_1, ATAS1,     8,  1,     11,     11,2,19821206,0138, 11.9850, -62.4700, 1894,  813.1,    803.5,   5.8236,  34.7259,2,  34.7260,2,   -999.0,9,  5.7525,    140.4,2,    26.19,2,    32.35,2,     0.00,2,     2.12,2,    0.050,2,   2209.0,2,   800.0,2,   0.060,2,   5.820,2
  316N198212_1, ATAS1,     8,  1,     12,     12,2,19821206,0138, 11.9850, -62.4700, 1894,  911.8,    903.0,   5.3956,  34.8117,2,  34.8110,2,   -999.0,9,  5.3179,    157.8,2,    26.19,2,    29.81,2,     0.00,2,     1.97,2, -999.000,9,   -999.0,9,  -999.0,9,-999.000,9,-999.000,9
  316N198212_1, ATAS1,     8,  1,     13,     13,2,19821206,0138, 11.9850, -62.4700, 1894, 1010.6,   1002.4,   4.9136,  34.9031,2,  34.9050,2,   -999.0,9,  4.8301,    181.7,2,    26.39,2,    26.58,2,     0.00,2,     1.78,2, -999.000,9,   -999.0,9,  -999.0,9,-999.000,9,-999.000,9
  316N198212_1, ATAS1,     8,  1,     17,     17,2,19821206,0138, 11.9850, -62.4700, 1894, 1159.7,   1152.5,   4.5036,  34.9407,2,  34.9430,2,   -999.0,9,  4.4099,    195.5,2,    28.14,2,    24.82,2,     0.00,2,     1.67,2, -999.000,9,   -999.0,9,  1153.0,2,-999.000,9,   4.506,2
  316N198212_1, ATAS1,     8,  1,     19,     19,2,19821206,0138, 11.9850, -62.4700, 1894, 1309.1,   1302.8,   4.2917,  34.9557,2,  34.9560,2,   -999.0,9,  4.1863,    202.1,2,    29.41,2,    23.94,2,     0.00,2,     1.63,2, -999.000,9,   -999.0,9,  1299.0,2,-999.000,9,   4.292,2
  316N198212_1, ATAS1,     8,  1,     23,     23,2,19821206,0138, 11.9850, -62.4700, 1894, 1508.1,   1502.9,   4.1717,  34.9630,2,  34.9640,2,   -999.0,9,  4.0493,    206.4,2,    30.49,2,    23.45,2,     0.00,2,     1.59,2, -999.000,9,   -999.0,9,  1501.0,2,-999.000,9,   4.168,2