BOTTLE,20060405WHPSIOdm
EXPOCODE,SECT_ID,STNNBR,CASTNO,SAMPNO,BTLNBR,BTLNBR_FLAG_W,DATE,TIME,LATITUDE,LONGITUDE,DEPTH,CTDRAW,CTDPRS,CTDTMP,CTDSAL,CTDSAL_FLAG_W,SALNTY,SALNTY_FLAG_W,CTDOXY,CTDOXY_FLAG_W,THETA,OXYGEN,OXYGEN_FLAG_W,SILCAT,SILCAT_FLAG_W,NITRAT,NITRAT_FLAG_W,NITRIT,NITRIT_FLAG_W,PHSPHT,PHSPHT_FLAG_W,TRITUM,TRITUM_FLAG_W,TCARBN,TCARBN_FLAG_W,REVPRS,REVPRS_FLAG_W,TRITER,TRITER_FLAG_W,REVTMP,REVTMP_FLAG_W
,,,,,,,,,,,,,DBAR,ITS-90,PSS-78,,PSS-78,,UMOL/KG,,DEG C,UMOL/KG,,UMOL/KG,,UMOL/KG,,UMOL/KG,,UMOL/KG,,UMOL/KG,,UMOL/KG,,DBAR,,TU,,ITS-90,
  316N198212_1, ATAS1,     9,  1,      1,      1,2,19821206,1806, 12.6617, -60.5633, 2450,   27.0,     11.0,  27.2334,  35.1594,2,  35.1570,2,   -999.0,9, 27.2309,    205.2,2,     3.13,2,     0.00,2,     0.00,2,     0.03,2,    1.750,2,   1940.0,2,  -999.0,9,   0.100,2,  27.236,2
  316N198212_1, ATAS1,     9,  1,      2,      2,2,19821206,1806, 12.6617, -60.5633, 2450,   76.5,     60.0,  26.4595,  36.7201,2,  36.7240,2,   -999.0,9, 26.4458,    209.3,2,     1.27,2,     0.00,2,     0.00,2,     0.04,2,    1.890,2,   2028.0,2,  -999.0,9,   0.100,2,-999.000,9
  316N198212_1, ATAS1,     9,  1,      3,      3,2,19821206,1806, 12.6617, -60.5633, 2450,  124.0,    109.1,  24.1455,  37.1301,2,  37.1370,2,   -999.0,9, 24.1222,    184.3,2,     1.17,2,     0.73,2,     0.06,2,     0.08,2, -999.000,9,   -999.0,9,  -999.0,9,-999.000,9,-999.000,9
  316N198212_1, ATAS1,     9,  1,      4,      4,2,19821206,1806, 12.6617, -60.5633, 2450,  161.2,    147.0,  21.5545,  36.9682,2,  36.9730,2,   -999.0,9, 21.5256,    168.0,2,     1.46,2,     2.80,2,     0.02,2,     0.15,2,    3.151,2,   2115.0,2,  -999.0,9,   0.110,2,-999.000,9
  316N198212_1, ATAS1,     9,  1,      5,      5,2,19821206,1806, 12.6617, -60.5633, 2450,  214.0,    201.0,  17.5856,  36.3877,2,  36.3760,2,   -999.0,9, 17.5513,    162.3,2,     3.12,2,     9.06,2,     0.01,2,     0.55,2, -999.000,9,   -999.0,9,  -999.0,9,-999.000,9,-999.000,9
  316N198212_1, ATAS1,     9,  1,      6,      6,2,19821206,1806, 12.6617, -60.5633, 2450,  254.4,    242.0,  14.5087,  35.8286,2,  35.8260,2,   -999.0,9, 14.4725,    136.6,2,     6.93,2,    16.80,2,     0.01,2,     1.05,2, -999.000,9,   -999.0,9,  -999.0,9,-999.000,9,-999.000,9
  316N198212_1, ATAS1,     9,  1,      7,      7,2,19821206,1806, 12.6617, -60.5633, 2450,  303.6,    292.0,  12.3747,  35.4556,2,  35.4380,2,   -999.0,9, 12.3355,    123.9,2,    10.06,2,    22.08,2,     0.00,2,     1.40,2, -999.000,9,   -999.0,9,  -999.0,9,-999.000,9,-999.000,9
  316N198212_1, ATAS1,     9,  1,      8,      8,2,19821206,1806, 12.6617, -60.5633, 2450,  413.5,    403.0,   9.7698,  35.0334,2,  35.0330,2,   -999.0,9,  9.7232,    122.2,2,    14.27,2,    27.07,2,     0.00,2,     1.74,2, -999.000,9,   -999.0,9,   403.0,2,-999.000,9,   9.746,2
  316N198212_1, ATAS1,     9,  1,      9,      9,2,19821206,1806, 12.6617, -60.5633, 2450,  512.9,    499.1,   8.0008,  34.8117,2,  34.8090,2,   -999.0,9,  7.9494,    122.2,2,    18.57,2,    30.79,2,     0.00,2,     1.99,2, -999.000,9,   -999.0,9,  -999.0,9,-999.000,9,-999.000,9
  316N198212_1, ATAS1,     9,  1,     10,     10,2,19821206,1806, 12.6617, -60.5633, 2450,  612.8,    599.2,   7.0408,  34.7217,2,  34.7190,2,   -999.0,9,  6.9831,    121.3,2,    21.70,2,    32.55,2,     0.00,2,     2.12,2, -999.000,9,   -999.0,9,  -999.0,9,-999.000,9,-999.000,9
  316N198212_1, ATAS1,     9,  1,     11,     11,2,19821206,1806, 12.6617, -60.5633, 2450,  712.8,    699.5,   6.2198,  34.6711,2,  34.6720,2,   -999.0,9,  6.1564,    127.4,2,    24.63,2,    33.62,2,     0.00,2,     2.20,2,    0.001,2,   2211.0,2,   702.0,2,   0.060,2,   6.242,2
  316N198212_1, ATAS1,     9,  1,     12,     12,2,19821206,1806, 12.6617, -60.5633, 2450,  795.3,    782.1,   5.8638,  34.6639,2,  34.6610,2,   -999.0,9,  5.7946,    132.2,2,    26.20,2,    33.62,2,     0.00,2,     2.24,2, -999.000,9,   -999.0,9,  -999.0,9,-999.000,9,-999.000,9
  316N198212_1, ATAS1,     9,  1,     13,     13,2,19821206,1806, 12.6617, -60.5633, 2450,  896.0,    883.4,   5.4709,  34.6784,2,  34.6770,2,   -999.0,9,  5.3946,    137.8,2,    27.66,2,    33.33,2,     0.00,2,     2.20,2, -999.000,9,   -999.0,9,  -999.0,9,-999.000,9,-999.000,9
  316N198212_1, ATAS1,     9,  1,     14,     14,2,19821206,1806, 12.6617, -60.5633, 2450,  996.2,    984.2,   5.3529,  34.7667,2,  34.7640,2,   -999.0,9,  5.2679,    151.3,2,    26.19,2,    31.28,2,     0.00,2,     2.07,2, -999.000,9,   -999.0,9,  -999.0,9,-999.000,9,-999.000,9
  316N198212_1, ATAS1,     9,  1,     15,     15,2,19821206,1806, 12.6617, -60.5633, 2450, 1095.0,   1083.4,   5.3529,  34.9163,2,  34.9150,2,   -999.0,9,  5.2583,    180.8,2,    22.28,2,    26.39,2,     0.00,2,     1.74,2, -999.000,9,   -999.0,9,  -999.0,9,-999.000,9,-999.000,9
  316N198212_1, ATAS1,     9,  1,     16,     16,2,19821206,1806, 12.6617, -60.5633, 2450, 1197.5,   1186.5,   5.2069,  34.9890,2,  34.9880,2,   -999.0,9,  5.1037,   -999.0,9,    18.27,2,    23.06,2,     0.00,2,     1.52,2, -999.000,9,   -999.0,9,  -999.0,9,-999.000,9,-999.000,9
  316N198212_1, ATAS1,     9,  1,     17,     17,2,19821206,1806, 12.6617, -60.5633, 2450, 1398.1,   1388.4,   4.6159,  35.0129,2,  35.0140,2,   -999.0,9,  4.4992,    239.0,2,    15.24,2,    19.93,2,     0.00,2,     1.32,2, -999.000,9,   -999.0,9,  1395.0,2,-999.000,9,   4.614,2
  316N198212_1, ATAS1,     9,  1,     18,     18,2,19821206,1806, 12.6617, -60.5633, 2450, 1588.3,   1579.7,   4.1169,  35.0015,2,  35.0010,2,   -999.0,9,  3.9879,    256.4,2,    14.46,2,    18.76,2,     0.00,2,     1.24,2, -999.000,9,   -999.0,9,  -999.0,9,-999.000,9,-999.000,9
  316N198212_1, ATAS1,     9,  1,     19,     19,2,19821206,1806, 12.6617, -60.5633, 2450, 1781.9,   1774.3,   3.9109,  34.9917,2,  34.9930,2,   -999.0,9,  3.7663,    259.0,2,    15.54,2,    18.57,2,     0.00,2,     1.24,2, -999.000,9,   -999.0,9,  1773.0,2,-999.000,9,   3.906,2
  316N198212_1, ATAS1,     9,  1,     20,     20,2,19821206,1806, 12.6617, -60.5633, 2450, 1965.2,   1958.5,   3.8279,  34.9870,2,  34.9870,2,   -999.0,9,  3.6669,    258.5,2,    17.20,2,    18.76,2,     0.00,2,     1.26,2, -999.000,9,   -999.0,9,  -999.0,9,-999.000,9,-999.000,9
  316N198212_1, ATAS1,     9,  1,     21,     21,2,19821206,1806, 12.6617, -60.5633, 2450, 2162.0,   2156.3,   3.7989,  34.9864,2,  34.9860,2,   -999.0,9,  3.6190,    257.2,2,    18.37,2,    18.96,2,     0.00,2,     1.27,2, -999.000,9,   -999.0,9,  -999.0,9,-999.000,9,-999.000,9
  316N198212_1, ATAS1,     9,  1,     22,     22,2,19821206,1806, 12.6617, -60.5633, 2450, 2314.4,   2309.5,   3.7879,  34.9830,2,  34.9830,2,   -999.0,9,  3.5929,   -999.0,9,    19.93,2,    19.06,2,     0.00,2,     1.28,2, -999.000,9,   -999.0,9,  -999.0,9,-999.000,9,-999.000,9
  316N198212_1, ATAS1,     9,  1,     23,     23,2,19821206,1806, 12.6617, -60.5633, 2450, 2456.7,   2452.5,   3.7919,  34.9835,2,  34.9830,2,   -999.0,9,  3.5822,    254.2,2,    20.23,2,    19.06,2,     0.00,2,     1.28,2, -999.000,9,   -999.0,9,  2455.0,2,-999.000,9,   3.792,2
  316N198212_1, ATAS1,    10,  1,      1,      1,2,19821207,1459, 13.2200, -58.5900, 2779,   27.5,     11.0,  27.0157,  35.3875,2,  35.3840,2,   -999.0,9, 27.0131,    203.0,2,     3.03,2,     0.00,2,     0.00,2,     0.01,2,    1.730,2,   1944.0,2,  -999.0,9,   0.100,2,  27.031,2
  316N198212_1, ATAS1,    10,  1,      2,      2,2,19821207,1459, 13.2200, -58.5900, 2779,   76.0,     59.0,  27.4107,  36.6397,2,  36.6430,2,   -999.0,9, 27.3969,    211.6,2,     1.56,2,     0.00,2,     0.00,2,     0.02,2,    2.080,2,   2014.0,2,  -999.0,9,   0.090,2,-999.000,9
  316N198212_1, ATAS1,    10,  1,      3,      3,2,19821207,1459, 13.2200, -58.5900, 2779,  116.1,    100.0,  25.0257,  37.0438,2,  37.0400,2,   -999.0,9, 25.0038,    194.8,2,     1.07,2,     0.00,2,     0.06,2,     0.02,2, -999.000,9,   -999.0,9,  -999.0,9,-999.000,9,-999.000,9
  316N198212_1, ATAS1,    10,  1,      4,      4,2,19821207,1459, 13.2200, -58.5900, 2779,  144.5,    129.0,  23.4177,  37.1840,2,  37.1790,2,   -999.0,9, 23.3908,    179.4,2,     1.07,2,     1.07,2,     0.05,2,     0.06,2,    2.730,2,   2095.0,2,  -999.0,9,   0.120,2,-999.000,9
  316N198212_1, ATAS1,    10,  1,      5,      5,2,19821207,1459, 13.2200, -58.5900, 2779,  173.9,    159.0,  20.9338,  36.8224,2,  36.8040,2,   -999.0,9, 20.9031,    153.2,2,     2.05,2,     5.74,2,     0.02,2,     0.32,2,    2.450,2,   2121.0,2,  -999.0,9,   0.120,2,-999.000,9
  316N198212_1, ATAS1,    10,  1,      6,      6,2,19821207,1459, 13.2200, -58.5900, 2779,  214.4,    200.0,  18.5158,  36.5352,2,  36.5350,2,   -999.0,9, 18.4805,    160.1,2,     2.73,2,     7.48,2,     0.01,2,     0.41,2, -999.000,9,   -999.0,9,  -999.0,9,-999.000,9,-999.000,9
  316N198212_1, ATAS1,    10,  1,      7,      7,2,19821207,1459, 13.2200, -58.5900, 2779,  264.1,    251.0,  15.2789,  35.9763,2,  35.9610,2,   -999.0,9, 15.2400,    146.6,2,     5.86,2,    14.65,2,     0.00,2,     0.88,2,    2.548,2,   2140.0,2,  -999.0,9,   0.085,2,-999.000,9
  316N198212_1, ATAS1,    10,  1,      8,      8,2,19821207,1459, 13.2200, -58.5900, 2779,  304.0,    292.0,  12.8109,  35.5294,2,  35.5310,2,   -999.0,9, 12.7708,    129.2,2,     9.18,2,    20.81,2,     0.00,2,     1.29,2, -999.000,9,   -999.0,9,   292.0,2,-999.000,9,  12.797,2
  316N198212_1, ATAS1,    10,  1,      9,      9,2,19821207,1459, 13.2200, -58.5900, 2779,  414.8,    403.0,   9.9100,  35.0583,2,  35.0580,2,   -999.0,9,  9.8630,    116.1,2,    14.17,2,    27.26,2,     0.00,2,     1.74,2,    0.482,2,   2192.0,2,  -999.0,9,   0.044,2,-999.000,9
  316N198212_1, ATAS1,    10,  1,     10,     10,2,19821207,1459, 13.2200, -58.5900, 2779,  514.2,    500.8,   8.6230,  34.8877,2,  34.8880,2,   -999.0,9,  8.5691,    121.7,2,    17.20,2,    29.32,2,     0.00,2,     1.89,2, -999.000,9,   -999.0,9,  -999.0,9,-999.000,9,-999.000,9
  316N198212_1, ATAS1,    10,  1,     11,     11,2,19821207,1459, 13.2200, -58.5900, 2779,  638.6,    625.7,   7.3130,  34.7523,2,  34.7520,2,   -999.0,9,  7.2514,    123.0,2,    21.31,2,    32.06,2,     0.00,2,     2.07,2,    0.215,2,   2200.0,2,   628.0,2,   0.049,2,   7.305,2
  316N198212_1, ATAS1,    10,  1,     12,     12,2,19821207,1459, 13.2200, -58.5900, 2779,  764.7,    752.1,   6.3681,  34.6937,2,  34.6900,2,   -999.0,9,  6.2987,    122.6,2,    25.12,2,    33.82,2,     0.00,2,     2.21,2, -999.000,9,   -999.0,9,  -999.0,9,-999.000,9,-999.000,9
  316N198212_1, ATAS1,    10,  1,     13,     13,2,19821207,1459, 13.2200, -58.5900, 2779,  889.6,    877.4,   5.6361,  34.6654,2,  34.6650,2,   -999.0,9,  5.5593,    132.6,2,    27.47,2,    34.01,2,     0.00,2,     2.25,2, -999.000,9,   -999.0,9,  -999.0,9,-999.000,9,-999.000,9
  316N198212_1, ATAS1,    10,  1,     14,     14,2,19821207,1459, 13.2200, -58.5900, 2779, 1014.7,   1003.2,   5.3541,  34.7794,2,  34.7770,2,   -999.0,9,  5.2673,    153.9,2,    26.49,2,    30.88,2,     0.00,2,     2.05,2, -999.000,9,   -999.0,9,  -999.0,9,-999.000,9,-999.000,9
  316N198212_1, ATAS1,    10,  1,     15,     15,2,19821207,1459, 13.2200, -58.5900, 2779, 1140.0,   1129.0,   5.4171,  34.9685,2,  34.9680,2,   -999.0,9,  5.3176,    191.2,2,    20.23,2,    24.72,2,     0.00,2,     1.65,2, -999.000,9,   -999.0,9,  -999.0,9,-999.000,9,-999.000,9
  316N198212_1, ATAS1,    10,  1,     16,     16,2,19821207,1459, 13.2200, -58.5900, 2779, 1263.7,   1253.5,   4.9661,  35.0133,2,  35.0140,2,   -999.0,9,  4.8587,    223.4,2,    16.91,2,    21.30,2,     0.00,2,     1.41,2, -999.000,9,   -999.0,9,  -999.0,9,-999.000,9,-999.000,9
  316N198212_1, ATAS1,    10,  1,     17,     17,2,19821207,1459, 13.2200, -58.5900, 2779, 1387.7,   1378.3,   4.4901,  35.0137,2,  35.0140,2,   -999.0,9,  4.3757,    244.6,2,    15.24,2,    19.54,2,     0.00,2,     1.31,2, -999.000,9,   -999.0,9,  1380.0,2,-999.000,9,   4.491,2
  316N198212_1, ATAS1,    10,  1,     18,     18,2,19821207,1459, 13.2200, -58.5900, 2779, 1511.5,   1502.8,   4.1391,  35.0033,2,  35.0040,2,   -999.0,9,  4.0170,    258.5,2,    14.27,2,    18.57,2,     0.00,2,     1.23,2, -999.000,9,   -999.0,9,  -999.0,9,-999.000,9,-999.000,9
  316N198212_1, ATAS1,    10,  1,     19,     19,2,19821207,1459, 13.2200, -58.5900, 2779, 1761.8,   1754.5,   3.8851,  34.9947,2,  34.9970,2,   -999.0,9,  3.7427,    262.4,2,    15.15,2,    18.47,2,     0.00,2,     1.22,2, -999.000,9,   -999.0,9,  1752.0,2,-999.000,9,   3.886,2
  316N198212_1, ATAS1,    10,  1,     20,     20,2,19821207,1459, 13.2200, -58.5900, 2779, 2013.4,   2007.4,   3.6881,  34.9871,2,  34.9860,2,   -999.0,9,  3.5244,    262.9,2,    16.32,2,    18.47,2,     0.00,2,     1.23,2, -999.000,9,   -999.0,9,  -999.0,9,-999.000,9,-999.000,9
  316N198212_1, ATAS1,    10,  1,     21,     21,2,19821207,1459, 13.2200, -58.5900, 2779, 2264.8,   2260.2,   3.5211,  34.9794,2,  34.9790,2,   -999.0,9,  3.3355,    262.9,2,    17.88,2,    18.47,2,     0.00,2,     1.22,2, -999.000,9,   -999.0,9,  -999.0,9,-999.000,9,-999.000,9
  316N198212_1, ATAS1,    10,  1,     22,     22,2,19821207,1459, 13.2200, -58.5900, 2779, 2516.4,   2513.0,   3.3851,  34.9718,2,-999.0000,9,   -999.0,9,  3.1767,   -999.0,9,    18.96,2,    18.57,2,     0.00,2,     1.23,2, -999.000,9,   -999.0,9,  -999.0,9,-999.000,9,-999.000,9
  316N198212_1, ATAS1,    10,  1,     23,     23,2,19821207,1459, 13.2200, -58.5900, 2779, 2726.2,   2724.0,   3.1961,  34.9611,2,  34.9610,2,   -999.0,9,  2.9699,    264.2,2,    20.81,2,    18.66,2,     0.00,2,     1.24,2, -999.000,9,   -999.0,9,  2727.0,2,-999.000,9,   3.196,2
  316N198212_1, ATAS1,    11,  1,      1,      1,2,19821207,2215, 13.4017, -58.0700, 3207,   25.6,     10.0,  26.9309,  35.2283,2,  35.2280,2,   -999.0,9, 26.9286,    201.3,2,     3.22,2,     0.00,2,     0.00,2,     0.01,2, -999.000,9,   -999.0,9,  -999.0,9,-999.000,9,  26.931,2
  316N198212_1, ATAS1,    11,  1,      2,      2,2,19821207,2215, 13.4017, -58.0700, 3207,   69.0,     53.0,  27.2679,  35.6391,2,  35.7210,2,   -999.0,9, 27.2556,    205.1,2,     2.54,2,     0.00,2,     0.00,2,     0.01,2, -999.000,9,   -999.0,9,  -999.0,9,-999.000,9,-999.000,9
  316N198212_1, ATAS1,    11,  1,      3,      3,2,19821207,2215, 13.4017, -58.0700, 3207,  109.4,     93.0,  24.9699,  37.0674,2,  37.0720,2,   -999.0,9, 24.9496,    196.5,2,     1.17,2,     0.00,2,     0.06,2,     0.02,2, -999.000,9,   -999.0,9,  -999.0,9,-999.000,9,-999.000,9
  316N198212_1, ATAS1,    11,  1,      4,      4,2,19821207,2215, 13.4017, -58.0700, 3207,  146.1,    131.0,  23.4060,  37.1457,2,  37.1440,2,   -999.0,9, 23.3786,    176.8,2,     1.27,2,     1.23,2,     0.04,2,     0.08,2, -999.000,9,   -999.0,9,  -999.0,9,-999.000,9,-999.000,9
  316N198212_1, ATAS1,    11,  1,      5,      5,2,19821207,2215, 13.4017, -58.0700, 3207,  177.1,    163.0,  20.7420,  36.8398,2,  36.8440,2,   -999.0,9, 20.7108,    161.5,2,     1.95,2,     4.60,2,     0.02,2,     0.23,2, -999.000,9,   -999.0,9,  -999.0,9,-999.000,9,-999.000,9
  316N198212_1, ATAS1,    11,  1,      6,      6,2,19821207,2215, 13.4017, -58.0700, 3207,  217.2,    204.0,  18.3431,  36.5142,2,  36.4970,2,   -999.0,9, 18.3072,    157.1,2,     2.64,2,     8.32,2,     0.01,2,     0.46,2, -999.000,9,   -999.0,9,  -999.0,9,-999.000,9,-999.000,9
  316N198212_1, ATAS1,    11,  1,      7,      7,2,19821207,2215, 13.4017, -58.0700, 3207,  290.6,    280.0,  14.4251,  35.8454,2,  35.8290,2,   -999.0,9, 14.3834,    138.3,2,     6.35,2,    16.99,2,     0.01,2,     1.04,2, -999.000,9,   -999.0,9,  -999.0,9,-999.000,9,-999.000,9
  316N198212_1, ATAS1,    11,  1,      8,      8,2,19821207,2215, 13.4017, -58.0700, 3207,  365.3,    355.0,  11.4552,  35.3191,2,  35.3230,2,   -999.0,9, 11.4098,    125.7,2,    11.04,2,    23.35,2,     0.01,2,     1.48,2, -999.000,9,   -999.0,9,   353.0,2,-999.000,9,  11.461,2
  316N198212_1, ATAS1,    11,  1,      9,      9,2,19821207,2215, 13.4017, -58.0700, 3207,  441.2,    431.0,  10.0342,  35.0929,2,  35.0860,2,   -999.0,9,  9.9834,    120.0,2,    14.07,2,    26.87,2,     0.01,2,     1.71,2, -999.000,9,   -999.0,9,  -999.0,9,-999.000,9,-999.000,9
  316N198212_1, ATAS1,    11,  1,     10,     10,2,19821207,2215, 13.4017, -58.0700, 3207,  515.8,    502.5,   8.6932,  34.9146,2,  34.9190,2,   -999.0,9,  8.6389,    119.1,2,    16.91,2,    29.61,2,     0.01,2,     1.90,2, -999.000,9,   -999.0,9,  -999.0,9,-999.000,9,-999.000,9
  316N198212_1, ATAS1,    11,  1,     11,     11,2,19821207,2215, 13.4017, -58.0700, 3207,  664.7,    652.0,   6.9963,  34.7234,2,  34.7230,2,   -999.0,9,  6.9335,    123.0,2,    22.09,2,    32.74,2,     0.01,2,     2.13,2, -999.000,9,   -999.0,9,   650.0,2,-999.000,9,   6.992,2
  316N198212_1, ATAS1,    11,  1,     12,     12,2,19821207,2215, 13.4017, -58.0700, 3207,  816.7,    804.4,   5.7663,  34.6201,2,  34.6180,2,   -999.0,9,  5.6956,    131.3,2,    26.78,2,    34.50,2,     0.01,2,     2.27,2, -999.000,9,   -999.0,9,  -999.0,9,-999.000,9,-999.000,9
  316N198212_1, ATAS1,    11,  1,     13,     13,2,19821207,2215, 13.4017, -58.0700, 3207,  967.3,    955.2,   5.5633,  34.6999,2,  34.7010,2,   -999.0,9,  5.4796,    131.7,2,    27.37,2,    34.11,2,     0.01,2,     2.25,2, -999.000,9,   -999.0,9,  -999.0,9,-999.000,9,-999.000,9
  316N198212_1, ATAS1,    11,  1,     14,     14,2,19821207,2215, 13.4017, -58.0700, 3207, 1117.8,   1106.1,   5.5203,  34.8540,2,  34.8470,2,   -999.0,9,  5.4223,    163.0,2,    24.43,2,    29.12,2,     0.00,2,     1.94,2, -999.000,9,   -999.0,9,  -999.0,9,-999.000,9,-999.000,9
  316N198212_1, ATAS1,    11,  1,     15,     15,2,19821207,2215, 13.4017, -58.0700, 3207, 1218.2,   1207.2,   5.1233,  34.9142,2,  34.9140,2,   -999.0,9,  5.0190,    186.4,2,    23.55,2,    26.19,2,     0.00,2,     1.75,2, -999.000,9,   -999.0,9,  -999.0,9,-999.000,9,-999.000,9
  316N198212_1, ATAS1,    11,  1,     16,     16,2,19821207,2215, 13.4017, -58.0700, 3207, 1367.7,   1357.5,   4.8833,  35.0146,2,  35.0140,2,   -999.0,9,  4.7668,    228.6,2,    16.03,2,    21.01,2,     0.00,2,     1.41,2, -999.000,9,   -999.0,9,  -999.0,9,-999.000,9,-999.000,9
  316N198212_1, ATAS1,    11,  1,     17,     17,2,19821207,2215, 13.4017, -58.0700, 3207, 1517.2,   1507.9,   4.4763,  35.0143,2,  35.0170,2,   -999.0,9,  4.3499,    247.7,2,    14.17,2,    19.45,2,     0.00,2,     1.29,2, -999.000,9,   -999.0,9,  1512.0,2,-999.000,9,   4.482,2
  316N198212_1, ATAS1,    11,  1,     18,     18,2,19821207,2215, 13.4017, -58.0700, 3207, 1715.5,   1707.5,   4.0103,  34.9972,2,  34.9980,2,   -999.0,9,  3.8707,    259.8,2,    14.56,2,    18.66,2,     0.00,2,     1.26,2, -999.000,9,   -999.0,9,  -999.0,9,-999.000,9,-999.000,9
  316N198212_1, ATAS1,    11,  1,     19,     19,2,19821207,2215, 13.4017, -58.0700, 3207, 2113.8,   2107.9,   3.4243,  34.9746,2,  34.9750,2,   -999.0,9,  3.2551,    263.7,2,    18.08,2,    18.66,2,     0.00,2,     1.26,2, -999.000,9,   -999.0,9,  2106.0,2,-999.000,9,   3.422,2
  316N198212_1, ATAS1,    11,  1,     20,     20,2,19821207,2215, 13.4017, -58.0700, 3207, 2411.2,   2407.0,   3.0773,  34.9551,2,  34.9540,2,   -999.0,9,  2.8851,    264.6,2,    20.91,2,    18.76,2,     0.00,2,     1.27,2, -999.000,9,   -999.0,9,  -999.0,9,-999.000,9,-999.000,9
  316N198212_1, ATAS1,    11,  1,     21,     21,2,19821207,2215, 13.4017, -58.0700, 3207, 2713.1,   2710.6,   2.8243,  34.9390,2,  34.9400,2,   -999.0,9,  2.6069,    265.0,2,    24.92,2,    19.06,2,     0.00,2,     1.30,2, -999.000,9,   -999.0,9,  -999.0,9,-999.000,9,-999.000,9
  316N198212_1, ATAS1,    11,  1,     22,     22,2,19821207,2215, 13.4017, -58.0700, 3207, 3012.6,   3011.6,   2.5744,  34.9244,2,  34.9240,2,   -999.0,9,  2.3317,   -999.0,9,    25.41,2,    18.67,2,     0.00,2,     1.27,2, -999.000,9,   -999.0,9,  -999.0,9,-999.000,9,-999.000,9
  316N198212_1, ATAS1,    11,  1,     23,     23,2,19821207,2215, 13.4017, -58.0700, 3207, 3161.3,   3161.1,   2.4844,  34.9188,2,  34.9170,2,   -999.0,9,  2.2283,    268.5,2,    26.29,2,    18.67,2,     0.00,2,     1.29,2, -999.000,9,   -999.0,9,  3160.0,2,-999.000,9,   2.486,2