BOTTLE,20060405WHPSIOdm
#code : jjward hyd_to_exchange.pl 
#original files copied from HTML directory: 20060405
#original HYD file: atas1hy.txt   Wed Apr  5 12:06:17 2006
#original SUM file: atas1su.txt   Wed Jan 11 07:58:12 2006
EXPOCODE,SECT_ID,STNNBR,CASTNO,SAMPNO,BTLNBR,BTLNBR_FLAG_W,DATE,TIME,LATITUDE,LONGITUDE,DEPTH,CTDRAW,CTDPRS,CTDTMP,CTDSAL,CTDSAL_FLAG_W,SALNTY,SALNTY_FLAG_W,CTDOXY,CTDOXY_FLAG_W,THETA,OXYGEN,OXYGEN_FLAG_W,SILCAT,SILCAT_FLAG_W,NITRAT,NITRAT_FLAG_W,NITRIT,NITRIT_FLAG_W,PHSPHT,PHSPHT_FLAG_W,TRITUM,TRITUM_FLAG_W,TCARBN,TCARBN_FLAG_W,REVPRS,REVPRS_FLAG_W,TRITER,TRITER_FLAG_W,REVTMP,REVTMP_FLAG_W
,,,,,,,,,,,,,DBAR,ITS-90,PSS-78,,PSS-78,,UMOL/KG,,DEG C,UMOL/KG,,UMOL/KG,,UMOL/KG,,UMOL/KG,,UMOL/KG,,UMOL/KG,,UMOL/KG,,DBAR,,TU,,ITS-90,
  316N198212_1, ATAS1,     1,  1,      2,      2,2,19821202,0413, 17.9017, -65.2417, 4355,   23.0,     10.0,  27.2615,  35.4507,2,-999.0000,9,   -999.0,9, 27.2591,   -999.0,9,  -999.00,9,  -999.00,9,  -999.00,9,  -999.00,9, -999.000,9,   -999.0,9,  -999.0,9,-999.000,9,-999.000,9
  316N198212_1, ATAS1,     1,  1,      1,      1,2,19821202,0413, 17.9017, -65.2417, 4355,   23.0,     10.0,  27.2665,  35.4547,2,  35.5070,2,   -999.0,9, 27.2641,    196.9,2,     2.34,2,     0.00,2,     0.00,2,  -999.00,9, -999.000,9,   -999.0,9,  -999.0,9,-999.000,9,  27.286,2
  316N198212_1, ATAS1,     1,  1,      3,      3,2,19821202,0413, 17.9017, -65.2417, 4355,   66.6,     53.2,  28.0813,  36.0438,2,  36.0760,2,   -999.0,9, 28.0687,    198.2,2,     2.05,2,     0.00,2,     0.00,2,  -999.00,9, -999.000,9,   -999.0,9,  -999.0,9,-999.000,9,-999.000,9
  316N198212_1, ATAS1,     1,  1,      4,      4,2,19821202,0413, 17.9017, -65.2417, 4355,  118.5,    103.3,  25.1150,  36.6254,2,  36.6770,2,   -999.0,9, 25.0924,    207.0,2,     1.56,2,     0.03,2,     0.17,2,  -999.00,9, -999.000,9,   -999.0,9,  -999.0,9,-999.000,9,-999.000,9
  316N198212_1, ATAS1,     1,  1,      5,      5,2,19821202,0413, 17.9017, -65.2417, 4355,  169.9,    153.3,  22.6886,  36.8375,2,  36.8900,2,   -999.0,9, 22.6573,    189.9,2,     1.07,2,     0.65,2,     0.03,2,  -999.00,9, -999.000,9,   -999.0,9,  -999.0,9,-999.000,9,-999.000,9
  316N198212_1, ATAS1,     1,  1,      6,      6,2,19821202,0413, 17.9017, -65.2417, 4355,  220.7,    203.0,  20.0582,  36.7015,2,  36.7550,2,   -999.0,9, 20.0202,    181.9,2,     1.17,2,     2.10,2,     0.01,2,  -999.00,9, -999.000,9,   -999.0,9,  -999.0,9,-999.000,9,-999.000,9
  316N198212_1, ATAS1,     1,  1,      7,      7,2,19821202,0413, 17.9017, -65.2417, 4355,  324.7,    303.0,  17.6998,  36.4223,2,  36.4700,2,   -999.0,9, 17.6477,    198.0,2,     2.05,2,     4.76,2,     0.01,2,  -999.00,9, -999.000,9,   -999.0,9,  -999.0,9,-999.000,9,-999.000,9
  316N198212_1, ATAS1,     1,  1,      8,      8,2,19821202,0413, 17.9017, -65.2417, 4355,  426.0,    403.0,  15.6852,  36.0844,2,  36.1320,2,   -999.0,9, 15.6214,    172.7,2,     4.10,2,    10.74,2,     0.00,2,  -999.00,9, -999.000,9,   -999.0,9,  -999.0,9,-999.000,9,-999.000,9
  316N198212_1, ATAS1,     1,  1,      9,      9,2,19821202,0413, 17.9017, -65.2417, 4355,  528.5,    504.4,  12.9039,  35.6394,2,  35.6870,2,   -999.0,9, 12.8336,    148.7,2,     8.01,2,    17.78,2,     0.00,2,  -999.00,9, -999.000,9,   -999.0,9,   500.0,2,-999.000,9,  12.915,2
  316N198212_1, ATAS1,     1,  1,     10,     10,2,19821202,0413, 17.9017, -65.2417, 4355,  631.3,    604.9,  11.0963,  35.3784,2,  35.4250,2,   -999.0,9, 11.0196,    140.9,2,    11.14,2,    21.88,2,     0.00,2,  -999.00,9, -999.000,9,   -999.0,9,  -999.0,9,-999.000,9,-999.000,9
  316N198212_1, ATAS1,     1,  1,     11,     11,2,19821202,0413, 17.9017, -65.2417, 4355,  731.3,    702.8,   9.0348,  35.1171,2,  35.1640,2,   -999.0,9,  8.9560,    136.9,2,    15.54,2,    25.79,2,     0.00,2,  -999.00,9, -999.000,9,   -999.0,9,  -999.0,9,-999.000,9,-999.000,9
  316N198212_1, ATAS1,     1,  1,     12,     12,2,19821202,0413, 17.9017, -65.2417, 4355,  885.2,    855.0,   7.2123,  34.9675,2,  35.0130,2,   -999.0,9,  7.1271,    151.3,2,    18.86,2,    27.65,2,     0.00,2,  -999.00,9, -999.000,9,   -999.0,9,   853.0,2,-999.000,9,   7.221,2
  316N198212_1, ATAS1,     1,  1,     13,     13,2,19821202,0413, 17.9017, -65.2417, 4355, 1037.5,   1006.5,   5.9356,  34.9708,2,  35.0170,2,   -999.0,9,  5.8438,    190.8,2,    17.59,2,    23.84,2,     0.01,2,  -999.00,9, -999.000,9,   -999.0,9,  -999.0,9,-999.000,9,-999.000,9
  316N198212_1, ATAS1,     1,  1,     14,     14,2,19821202,0413, 17.9017, -65.2417, 4355, 1292.9,   1260.8,   4.5019,  34.9129,2,-999.0000,9,   -999.0,9,  4.3984,   -999.0,9,  -999.00,9,  -999.00,9,  -999.00,9,  -999.00,9, -999.000,9,   -999.0,9,  -999.0,9,-999.000,9,-999.000,9
  316N198212_1, ATAS1,     1,  1,     15,     15,2,19821202,0413, 17.9017, -65.2417, 4355, 1548.6,   1516.1,   4.0990,  34.9247,2,  34.9720,2,   -999.0,9,  3.9763,    216.0,2,    26.78,2,    22.57,2,     0.00,2,  -999.00,9, -999.000,9,   -999.0,9,  -999.0,9,-999.000,9,-999.000,9
  316N198212_1, ATAS1,     1,  1,     16,     16,2,19821202,0413, 17.9017, -65.2417, 4355, 1799.5,   1766.7,   3.9990,  34.9305,2,  34.9790,2,   -999.0,9,  3.8542,    226.8,2,    25.11,2,    21.60,2,     0.00,2,  -999.00,9, -999.000,9,   -999.0,9,  1755.0,2,-999.000,9,   4.016,2
  316N198212_1, ATAS1,     1,  1,     17,     17,2,19821202,0413, 17.9017, -65.2417, 4355, 2050.7,   2017.5,   3.8701,  34.9440,2,  34.9930,2,   -999.0,9,  3.7029,    260.7,2,    15.24,2,    18.66,2,     0.00,2,  -999.00,9, -999.000,9,   -999.0,9,  -999.0,9,-999.000,9,-999.000,9
  316N198212_1, ATAS1,     1,  1,     18,     18,2,19821202,0413, 17.9017, -65.2417, 4355, 2303.5,   2270.2,   3.8391,  34.9429,2,  34.9900,2,   -999.0,9,  3.6473,    261.1,2,    15.34,2,    18.57,2,     0.00,2,  -999.00,9, -999.000,9,   -999.0,9,  -999.0,9,-999.000,9,-999.000,9
  316N198212_1, ATAS1,     1,  1,     24,     24,2,19821202,0413, 17.9017, -65.2417, 4355, 2547.4,   2514.0,   3.8421,  34.9406,2,-999.0000,9,   -999.0,9,  3.6253,   -999.0,9,  -999.00,9,  -999.00,9,  -999.00,9,  -999.00,9, -999.000,9,   -999.0,9,  -999.0,9,-999.000,9,-999.000,9
  316N198212_1, ATAS1,     1,  1,     19,     19,2,19821202,0413, 17.9017, -65.2417, 4355, 2555.2,   2521.8,   3.8421,  34.9405,2,  34.9890,2,   -999.0,9,  3.6245,    261.1,2,    15.34,2,    18.66,2,     0.00,2,  -999.00,9, -999.000,9,   -999.0,9,  2526.0,2,-999.000,9,   3.857,2
  316N198212_1, ATAS1,     3,  1,      1,      1,2,19821203,0501, 15.6533, -65.7150, 4388,   21.3,      4.0,  27.5941,  34.6761,2,  34.6700,2,   -999.0,9, 27.5932,    200.5,2,     4.01,2,     0.06,2,     0.00,2,     0.02,2, -999.000,9,   -999.0,9,  -999.0,9,-999.000,9,  27.594,2
  316N198212_1, ATAS1,     3,  1,      6,      6,2,19821203,0501, 15.6533, -65.7150, 4388,   59.6,     46.0,  27.6061,  34.6809,2,  34.6750,2,   -999.0,9, 27.5954,    201.4,2,     3.91,2,     0.02,2,     0.00,2,     0.05,2, -999.000,9,   -999.0,9,  -999.0,9,-999.000,9,-999.000,9
  316N198212_1, ATAS1,     3,  1,      7,      7,2,19821203,0501, 15.6533, -65.7150, 4388,  110.0,     97.0,  25.0761,  36.7408,2,  36.7540,2,   -999.0,9, 25.0549,    190.9,2,     1.66,2,     0.54,2,     0.07,2,     0.07,2, -999.000,9,   -999.0,9,  -999.0,9,-999.000,9,-999.000,9
  316N198212_1, ATAS1,     3,  1,      8,      8,2,19821203,0501, 15.6533, -65.7150, 4388,  159.6,    147.0,  22.3892,  36.9764,2,  36.9860,2,   -999.0,9, 22.3595,    181.1,2,     1.46,2,     1.29,2,     0.03,2,     0.08,2, -999.000,9,   -999.0,9,  -999.0,9,-999.000,9,-999.000,9
  316N198212_1, ATAS1,     3,  1,      9,      9,2,19821203,0501, 15.6533, -65.7150, 4388,  207.7,    196.0,  18.9763,  36.6222,2,  36.6260,2,   -999.0,9, 18.9410,    185.4,2,     1.66,2,     3.56,2,     0.01,2,     0.17,2, -999.000,9,   -999.0,9,  -999.0,9,-999.000,9,-999.000,9
  316N198212_1, ATAS1,     3,  1,     10,     10,2,19821203,0501, 15.6533, -65.7150, 4388,  310.2,    298.0,  17.0713,  36.3554,2,  36.3600,2,   -999.0,9, 17.0214,    187.1,2,     2.73,2,     7.22,2,     0.01,2,     0.40,2, -999.000,9,   -999.0,9,  -999.0,9,-999.000,9,-999.000,9
  316N198212_1, ATAS1,     3,  1,     11,     11,2,19821203,0501, 15.6533, -65.7150, 4388,  413.3,    402.0,  14.2134,  35.8862,2,  35.8920,2,   -999.0,9, 14.1538,    159.6,2,     5.86,2,    14.65,2,     0.00,2,     0.88,2, -999.000,9,   -999.0,9,   401.0,2,-999.000,9,  14.208,2
  316N198212_1, ATAS1,     3,  1,     12,     12,2,19821203,0501, 15.6533, -65.7150, 4388,  509.1,    494.8,  10.7344,  35.2622,2,  35.2620,2,   -999.0,9, 10.6733,    123.9,2,    12.90,2,    24.82,2,     0.00,2,     1.55,2, -999.000,9,   -999.0,9,  -999.0,9,-999.000,9,-999.000,9
  316N198212_1, ATAS1,     3,  1,     13,     13,2,19821203,0501, 15.6533, -65.7150, 4388,  610.1,    596.3,   9.0284,  35.0346,2,  35.0340,2,   -999.0,9,  8.9620,    123.0,2,    17.00,2,    28.34,2,     0.00,2,     1.80,2, -999.000,9,   -999.0,9,  -999.0,9,-999.000,9,-999.000,9
  316N198212_1, ATAS1,     3,  1,     14,     14,2,19821203,0501, 15.6533, -65.7150, 4388,  709.9,    696.8,   7.9105,  34.9564,2,  34.9570,2,   -999.0,9,  7.8382,    129.6,2,    19.54,2,    29.51,2,     0.00,2,     1.88,2, -999.000,9,   -999.0,9,  -999.0,9,-999.000,9,-999.000,9
  316N198212_1, ATAS1,     3,  1,     15,     15,2,19821203,0501, 15.6533, -65.7150, 4388,  859.4,    847.7,   6.0925,  34.8627,2,  34.8600,2,   -999.0,9,  6.0153,    150.4,2,    24.43,2,    29.61,2,     0.00,2,     1.94,2, -999.000,9,   -999.0,9,  -999.0,9,-999.000,9,-999.000,9
  316N198212_1, ATAS1,     3,  1,     16,     16,2,19821203,0501, 15.6533, -65.7150, 4388, 1003.9,    993.3,   5.1585,  34.9122,2,  34.9100,2,   -999.0,9,  5.0740,    177.7,2,    25.60,2,    26.78,2,     0.00,2,     1.79,2, -999.000,9,   -999.0,9,  -999.0,9,-999.000,9,-999.000,9
  316N198212_1, ATAS1,     3,  1,     17,     17,2,19821203,0501, 15.6533, -65.7150, 4388, 1254.2,   1245.2,   4.3815,  34.9586,2,  34.9600,2,   -999.0,9,  4.2805,    205.5,2,    26.58,2,    23.75,2,     0.00,2,     1.61,2, -999.000,9,   -999.0,9,  1246.0,2,-999.000,9,   4.384,2
  316N198212_1, ATAS1,     3,  1,     18,     18,2,19821203,0501, 15.6533, -65.7150, 4388, 1498.7,   1490.9,   4.1785,  34.9669,2,  34.9660,2,   -999.0,9,  4.0572,    212.0,2,    27.56,2,    23.16,2,     0.00,2,     1.58,2, -999.000,9,   -999.0,9,  -999.0,9,-999.000,9,-999.000,9
  316N198212_1, ATAS1,     3,  1,     19,     19,2,19821203,0501, 15.6533, -65.7150, 4388, 1741.2,   1734.6,   4.0935,  34.9705,2,  34.9730,2,   -999.0,9,  3.9504,    216.4,2,    27.66,2,    22.67,2,     0.00,2,     1.53,2, -999.000,9,   -999.0,9,  1733.0,2,-999.000,9,   4.094,2
  316N198212_1, ATAS1,     3,  1,     23,     23,2,19821203,0501, 15.6533, -65.7150, 4388, 1999.6,   1994.3,   4.0685,  34.9725,2,  34.9720,2,   -999.0,9,  3.9006,    216.8,2,    28.34,2,    22.67,2,     0.00,2,     1.52,2, -999.000,9,   -999.0,9,  1995.0,2,-999.000,9,   4.072,2
  316N198212_1, ATAS1,     4,  2,      1,      1,2,19821203,2115, 14.3933, -66.0350, 4849,   39.1,     26.0,  27.5333,  35.0611,2,  35.0590,2,   -999.0,9, 27.5273,    203.5,2,     3.22,2,     0.05,2,     0.00,2,     0.05,2, -999.000,9,   -999.0,9,  -999.0,9,-999.000,9,  27.521,2
  316N198212_1, ATAS1,     4,  2,      2,      2,2,19821203,2115, 14.3933, -66.0350, 4849,  106.8,     96.0,  25.3774,  36.6800,2,  36.6820,2,   -999.0,9, 25.3562,    187.4,2,     1.17,2,     0.74,2,     0.17,2,     0.12,2, -999.000,9,   -999.0,9,  -999.0,9,-999.000,9,-999.000,9
  316N198212_1, ATAS1,     4,  2,      3,      3,2,19821203,2115, 14.3933, -66.0350, 4849,  187.2,    178.1,  19.3175,  36.5500,2,  36.5530,2,   -999.0,9, 19.2851,    151.9,2,     2.93,2,     7.86,2,     0.01,2,     0.49,2, -999.000,9,   -999.0,9,  -999.0,9,-999.000,9,-999.000,9
  316N198212_1, ATAS1,     4,  2,      4,      4,2,19821203,2115, 14.3933, -66.0350, 4849,  273.3,    264.0,  15.7425,  36.0629,2,  36.0630,2,   -999.0,9, 15.7008,    150.5,2,     5.18,2,    13.28,2,     0.00,2,     0.83,2, -999.000,9,   -999.0,9,  -999.0,9,-999.000,9,-999.000,9
  316N198212_1, ATAS1,     4,  2,      5,      5,2,19821203,2115, 14.3933, -66.0350, 4849,  388.8,    381.0,  12.0686,  35.4170,2,  35.4030,2,   -999.0,9, 12.0181,    126.1,2,    10.55,2,    22.47,2,     0.00,2,     1.43,2, -999.000,9,   -999.0,9,  -999.0,9,-999.000,9,-999.000,9
  316N198212_1, ATAS1,     4,  2,      6,      6,2,19821203,2115, 14.3933, -66.0350, 4849,  539.1,    525.2,   9.0137,  34.9465,2,  34.9370,2,   -999.0,9,  8.9555,    123.5,2,    16.52,2,    28.44,2,     0.00,2,     1.84,2, -999.000,9,   -999.0,9,  -999.0,9,-999.000,9,-999.000,9
  316N198212_1, ATAS1,     4,  2,      7,      7,2,19821203,2115, 14.3933, -66.0350, 4849,  715.2,    702.3,   5.8347,  34.7541,2,  34.7510,2,   -999.0,9,  5.7730,    140.8,2,    25.90,2,    31.86,2,     0.00,2,     2.09,2, -999.000,9,   -999.0,9,  -999.0,9,-999.000,9,-999.000,9
  316N198212_1, ATAS1,     4,  2,      8,      8,2,19821203,2115, 14.3933, -66.0350, 4849,  913.9,    901.3,   5.3697,  34.8665,2,  34.8650,2,   -999.0,9,  5.2922,    169.1,2,    25.70,2,    28.44,2,     0.00,2,     1.90,2, -999.000,9,   -999.0,9,   907.0,2,-999.000,9,   5.372,2
  316N198212_1, ATAS1,     4,  2,      9,      9,2,19821203,2115, 14.3933, -66.0350, 4849, 1014.7,   1002.4,   4.9188,  34.9139,2,  34.9100,2,   -999.0,9,  4.8352,    184.3,2,    26.87,2,    26.19,2,     0.00,2,     1.78,2, -999.000,9,   -999.0,9,  -999.0,9,-999.000,9,-999.000,9
  316N198212_1, ATAS1,     4,  2,     10,     10,2,19821203,2115, 14.3933, -66.0350, 4849, 1114.3,   1102.2,   4.6728,  34.9371,2,  34.9380,2,   -999.0,9,  4.5821,    192.9,2,    26.68,2,    25.11,2,     0.00,2,     1.71,2, -999.000,9,   -999.0,9,  -999.0,9,-999.000,9,-999.000,9
  316N198212_1, ATAS1,     4,  2,     11,     11,2,19821203,2115, 14.3933, -66.0350, 4849, 1215.3,   1203.5,   4.4968,  34.9505,2,  34.9500,2,   -999.0,9,  4.3984,    199.9,2,    26.97,2,    24.33,2,     0.00,2,     1.66,2, -999.000,9,   -999.0,9,  1209.0,2,-999.000,9,   4.492,2
  316N198212_1, ATAS1,     4,  2,     12,     12,2,19821203,2115, 14.3933, -66.0350, 4849, 1316.8,   1305.4,   4.3958,  34.9578,2,  34.9570,2,   -999.0,9,  4.2891,    204.7,2,    26.87,2,    23.84,2,     0.00,2,     1.63,2, -999.000,9,   -999.0,9,  -999.0,9,-999.000,9,-999.000,9
  316N198212_1, ATAS1,     4,  2,     13,     13,2,19821203,2115, 14.3933, -66.0350, 4849, 1417.2,   1406.1,   4.2928,  34.9633,2,  34.9620,2,   -999.0,9,  4.1780,    207.3,2,    27.17,2,    23.45,2,     0.00,2,     1.62,2, -999.000,9,   -999.0,9,  -999.0,9,-999.000,9,-999.000,9
  316N198212_1, ATAS1,     4,  2,     14,     14,2,19821203,2115, 14.3933, -66.0350, 4849, 1517.6,   1506.5,   4.2218,  34.9674,2,  34.9660,2,   -999.0,9,  4.0985,    211.2,2,    27.17,2,    23.26,2,     0.00,2,     1.59,2, -999.000,9,   -999.0,9,  -999.0,9,-999.000,9,-999.000,9
  316N198212_1, ATAS1,     4,  2,     15,     15,2,19821203,2115, 14.3933, -66.0350, 4849, 1718.3,   1707.8,   4.1398,  34.9708,2,  34.9700,2,   -999.0,9,  3.9985,    214.2,2,  -999.00,9,  -999.00,9,  -999.00,9,  -999.00,9, -999.000,9,   -999.0,9,  -999.0,9,-999.000,9,-999.000,9
  316N198212_1, ATAS1,     4,  2,     16,     16,2,19821203,2115, 14.3933, -66.0350, 4849, 1819.7,   1809.5,   4.1148,  34.9728,2,  34.9720,2,   -999.0,9,  3.9641,   -999.0,9,    27.95,2,    22.77,2,     0.00,2,     1.56,2, -999.000,9,   -999.0,9,  -999.0,9,-999.000,9,-999.000,9
  316N198212_1, ATAS1,     4,  2,     17,     17,2,19821203,2115, 14.3933, -66.0350, 4849, 1919.7,   1909.9,   4.0968,  34.9731,2,  34.9740,2,   -999.0,9,  3.9367,    217.7,2,  -999.00,9,  -999.00,9,  -999.00,9,  -999.00,9, -999.000,9,   -999.0,9,  1921.0,2,-999.000,9,   4.107,2
  316N198212_1, ATAS1,     4,  2,     18,     18,2,19821203,2115, 14.3933, -66.0350, 4849, 2272.3,   2264.1,   4.0788,  34.9747,2,  34.9750,2,   -999.0,9,  3.8835,    219.0,2,  -999.00,9,  -999.00,9,  -999.00,9,  -999.00,9, -999.000,9,   -999.0,9,  -999.0,9,-999.000,9,-999.000,9
  316N198212_1, ATAS1,     4,  2,     19,     19,2,19821203,2115, 14.3933, -66.0350, 4849, 2775.1,   2768.9,   4.1088,  34.9754,2,  34.9760,2,   -999.0,9,  3.8597,    219.0,2,  -999.00,9,  -999.00,9,  -999.00,9,  -999.00,9, -999.000,9,   -999.0,9,  2770.0,2,-999.000,9,   4.111,2
  316N198212_1, ATAS1,     4,  2,     20,     20,2,19821203,2115, 14.3933, -66.0350, 4849, 3788.2,   3786.3,   4.2158,  34.9734,2,  34.9740,2,   -999.0,9,  3.8464,    219.4,2,  -999.00,9,  -999.00,9,  -999.00,9,  -999.00,9, -999.000,9,   -999.0,9,  -999.0,9,-999.000,9,-999.000,9
  316N198212_1, ATAS1,     4,  2,     21,     21,2,19821203,2115, 14.3933, -66.0350, 4849, 4295.5,   4295.7,   4.2788,  34.9725,2,  34.9760,2,   -999.0,9,  3.8437,    220.3,2,    28.63,2,    22.08,2,     0.00,2,     1.52,2, -999.000,9,   -999.0,9,  -999.0,9,-999.000,9,-999.000,9
  316N198212_1, ATAS1,     4,  2,     22,     22,2,19821203,2115, 14.3933, -66.0350, 4849, 4802.3,   4804.6,   4.3468,  34.9724,2,  34.9760,2,   -999.0,9,  3.8425,    220.7,2,    28.93,2,    22.08,2,     0.00,2,     1.51,2, -999.000,9,   -999.0,9,  -999.0,9,-999.000,9,-999.000,9
  316N198212_1, ATAS1,     4,  2,     23,     23,2,19821203,2115, 14.3933, -66.0350, 4849, 4948.5,   4951.3,   4.3678,  34.9713,2,  34.9750,2,   -999.0,9,  3.8429,    219.9,2,    28.93,2,    22.18,2,     0.00,2,     1.51,2, -999.000,9,   -999.0,9,  4955.0,2,-999.000,9,   4.371,2