BOTTLE,20060405WHPSIOdm
EXPOCODE,SECT_ID,STNNBR,CASTNO,SAMPNO,BTLNBR,BTLNBR_FLAG_W,DATE,TIME,LATITUDE,LONGITUDE,DEPTH,CTDRAW,CTDPRS,CTDTMP,CTDSAL,CTDSAL_FLAG_W,SALNTY,SALNTY_FLAG_W,CTDOXY,CTDOXY_FLAG_W,THETA,OXYGEN,OXYGEN_FLAG_W,SILCAT,SILCAT_FLAG_W,NITRAT,NITRAT_FLAG_W,NITRIT,NITRIT_FLAG_W,PHSPHT,PHSPHT_FLAG_W,TRITUM,TRITUM_FLAG_W,TCARBN,TCARBN_FLAG_W,REVPRS,REVPRS_FLAG_W,TRITER,TRITER_FLAG_W,REVTMP,REVTMP_FLAG_W
,,,,,,,,,,,,,DBAR,ITS-90,PSS-78,,PSS-78,,UMOL/KG,,DEG C,UMOL/KG,,UMOL/KG,,UMOL/KG,,UMOL/KG,,UMOL/KG,,UMOL/KG,,UMOL/KG,,DBAR,,TU,,ITS-90,
  316N198212_1, ATAS1,    15,  1,      1,      1,2,19821210,1505, 14.9667, -52.6467, 4939,   26.2,     10.0,  26.3048,  35.7776,2,  35.7780,2,   -999.0,9, 26.3025,    204.6,2,     2.44,2,     0.03,2,     0.00,2,     0.03,2,    1.590,2,   1962.0,2,  -999.0,9,   0.090,2,  26.303,2
  316N198212_1, ATAS1,    15,  1,      2,      2,2,19821210,1505, 14.9667, -52.6467, 4939,   76.0,     60.0,  26.8448,  36.8743,2,  36.8810,2,   -999.0,9, 26.8310,    207.1,2,     1.56,2,     0.02,2,     0.00,2,     0.02,2,    1.930,2,   2023.0,2,  -999.0,9,   0.070,2,-999.000,9
  316N198212_1, ATAS1,    15,  1,      3,      3,2,19821210,1505, 14.9667, -52.6467, 4939,  126.5,    112.0,  24.0288,  37.2676,2,  37.2740,2,   -999.0,9, 24.0050,    205.6,2,     0.98,2,     0.06,2,     0.01,2,     0.03,2,    2.500,2,   2073.0,2,  -999.0,9,   0.110,2,-999.000,9
  316N198212_1, ATAS1,    15,  1,      4,      4,2,19821210,1505, 14.9667, -52.6467, 4939,  175.4,    162.0,  21.3539,  37.0504,2,  37.0530,2,   -999.0,9, 21.3222,    175.9,2,     1.46,2,     2.51,2,     0.02,2,     0.15,2,    2.760,2,   2107.0,2,  -999.0,9,   0.100,2,-999.000,9
  316N198212_1, ATAS1,    15,  1,      5,      5,2,19821210,1505, 14.9667, -52.6467, 4939,  264.9,    252.0,  17.0490,  36.3391,2,  36.3410,2,   -999.0,9, 17.0068,    151.4,2,     3.51,2,    10.74,2,     0.00,2,     0.62,2,    3.060,2,   2134.0,2,  -999.0,9,   0.120,2,-999.000,9
  316N198212_1, ATAS1,    15,  1,      6,      6,2,19821210,1505, 14.9667, -52.6467, 4939,  364.3,    353.0,  13.1470,  35.6724,2,  35.6670,2,   -999.0,9, 13.0975,    125.2,2,     8.11,2,    20.22,2,     0.00,2,     1.23,2,    1.710,2,   2166.0,2,  -999.0,9,   0.090,2,-999.000,9
  316N198212_1, ATAS1,    15,  1,      7,      7,2,19821210,1505, 14.9667, -52.6467, 4939,  464.7,    454.0,  10.2551,  35.2110,2,  35.2090,2,   -999.0,9, 10.2008,    120.0,2,    13.68,2,    25.99,2,     0.00,2,     1.63,2,    0.720,2,   2186.0,2,  -999.0,9,   0.060,2,-999.000,9
  316N198212_1, ATAS1,    15,  1,      8,      8,2,19821210,1505, 14.9667, -52.6467, 4939,  614.8,    601.1,   7.7111,  34.8617,2,  34.8660,2,   -999.0,9,  7.6501,    122.2,2,    20.03,2,    31.08,2,     0.00,2,     1.98,2,    0.050,2,   2196.0,2,   608.0,2,   0.060,2,   7.707,2
  316N198212_1, ATAS1,    15,  1,      9,      9,2,19821210,1505, 14.9667, -52.6467, 4939,  765.9,    752.7,   6.0302,  34.6898,2,  34.6890,2,   -999.0,9,  5.9627,    131.3,2,    25.80,2,    33.43,2,     0.00,2,     2.19,2,    0.060,2,   2208.0,2,  -999.0,9,   0.050,2,-999.000,9
  316N198212_1, ATAS1,    15,  1,     10,     10,2,19821210,1505, 14.9667, -52.6467, 4939,  966.6,    953.9,   5.3362,  34.7604,2,  34.7670,2,   -999.0,9,  5.2542,    147.3,2,    27.07,2,    31.67,2,     0.00,2,     2.11,2,   -0.040,2,   2215.0,2,  -999.0,9,   0.060,2,-999.000,9
  316N198212_1, ATAS1,    15,  1,     11,     11,2,19821210,1505, 14.9667, -52.6467, 4939, 1166.4,   1154.0,   5.1632,  34.9190,2,  34.9180,2,   -999.0,9,  5.0636,    181.2,2,    22.48,2,    26.78,2,     0.00,2,     1.79,2,    0.040,2,   2189.0,2,  1162.0,2,   0.050,2,   5.159,2
  316N198212_1, ATAS1,    15,  1,     12,     12,2,19821210,1505, 14.9667, -52.6467, 4939, 1368.4,   1356.7,   4.7802,  34.9865,2,  34.9860,2,   -999.0,9,  4.6649,    212.5,2,    19.35,2,    23.06,2,     0.00,2,     1.54,2, -999.000,9,   -999.0,9,  -999.0,9,-999.000,9,-999.000,9
  316N198212_1, ATAS1,    15,  1,     13,     13,2,19821210,1505, 14.9667, -52.6467, 4939, 1619.5,   1608.2,   4.1672,  34.9987,2,  34.9980,2,   -999.0,9,  4.0350,    248.5,2,    16.32,2,    19.64,2,     0.00,2,     1.32,2,    0.100,2,   2156.0,2,  -999.0,9,   0.050,2,-999.000,9
  316N198212_1, ATAS1,    15,  1,     14,     14,2,19821210,1505, 14.9667, -52.6467, 4939, 1921.9,   1912.1,   3.6152,  34.9804,2,  34.9810,2,   -999.0,9,  3.4617,    256.8,2,    18.76,2,    19.35,2,     0.00,2,     1.31,2, -999.000,9,   -999.0,9,  -999.0,9,-999.000,9,-999.000,9
  316N198212_1, ATAS1,    15,  1,     15,     15,2,19821210,1505, 14.9667, -52.6467, 4939, 2223.2,   2214.8,   3.1892,  34.9628,2,  34.9610,2,   -999.0,9,  3.0136,    261.6,2,    21.30,2,    19.06,2,     0.00,2,     1.29,2,   -0.020,2,   2158.0,2,  -999.0,9,   0.050,2,-999.000,9
  316N198212_1, ATAS1,    15,  1,     16,     16,2,19821210,1505, 14.9667, -52.6467, 4939, 2524.1,   2517.1,   2.9432,  34.9466,2,  34.9450,2,   -999.0,9,  2.7426,    262.0,2,    24.43,2,    19.25,2,     0.00,2,     1.31,2, -999.000,9,   -999.0,9,  -999.0,9,-999.000,9,-999.000,9
  316N198212_1, ATAS1,    15,  1,     17,     17,2,19821210,1505, 14.9667, -52.6467, 4939, 3022.1,   3017.3,   2.6802,  34.9285,2,  34.9280,2,   -999.0,9,  2.4347,    261.1,2,    29.02,2,    19.64,2,     0.00,2,     1.34,2,    0.080,2,   2165.0,2,  3034.0,2,   0.070,2,   2.685,2
  316N198212_1, ATAS1,    15,  1,     18,     18,2,19821210,1505, 14.9667, -52.6467, 4939, 3520.6,   3517.9,   2.4532,  34.9110,2,  34.9090,2,   -999.0,9,  2.1600,    263.3,2,    32.15,2,    19.74,2,     0.00,2,     1.35,2, -999.000,9,   -999.0,9,  -999.0,9,-999.000,9,-999.000,9
  316N198212_1, ATAS1,    15,  1,     19,     19,2,19821210,1505, 14.9667, -52.6467, 4939, 4028.4,   4028.0,   2.2933,  34.8966,2,  34.8980,2,   -999.0,9,  1.9476,    263.7,2,    34.40,2,    19.84,2,     0.00,2,     1.36,2,   -0.040,2,   2169.0,2,  4031.0,2,   0.050,2,   2.291,2
  316N198212_1, ATAS1,    15,  1,     20,     20,2,19821210,1505, 14.9667, -52.6467, 4939, 4536.7,   4538.4,   2.2023,  34.8805,2,  34.8810,2,   -999.0,9,  1.7996,    260.7,2,    40.46,2,    20.52,2,     0.00,2,     1.42,2, -999.000,9,   -999.0,9,  -999.0,9,-999.000,9,-999.000,9
  316N198212_1, ATAS1,    15,  1,     21,     21,2,19821210,1505, 14.9667, -52.6467, 4939, 4741.5,   4744.2,   2.0363,  34.8577,2,  34.8590,2,   -999.0,9,  1.6142,    253.3,2,    51.89,2,    22.28,2,     0.00,2,     1.53,2, -999.000,9,   -999.0,9,  -999.0,9,-999.000,9,-999.000,9
  316N198212_1, ATAS1,    15,  1,     22,     22,2,19821210,1505, 14.9667, -52.6467, 4939, 4947.2,   4950.9,   1.7793,  34.8245,2,  34.8250,2,   -999.0,9,  1.3406,    243.7,2,    66.07,2,    24.43,2,     0.00,2,     1.68,2, -999.000,9,   -999.0,9,  -999.0,9,-999.000,9,-999.000,9
  316N198212_1, ATAS1,    15,  1,     23,     23,2,19821210,1505, 14.9667, -52.6467, 4939, 4947.7,   4951.3,   1.7773,  34.8253,2,  34.8250,2,   -999.0,9,  1.3386,    243.3,2,    66.56,2,    24.53,2,     0.00,2,     1.69,2,   -0.040,2,   2204.0,2,  4958.0,2,   0.050,2,   1.779,2
  316N198212_1, ATAS1,    16,  1,      1,      1,2,19821211,0341, 15.3150, -51.5283, 5374,   -999,   -999.0,-999.0000,-999.0000,9,  35.9150,2,   -999.0,9, 26.4064,   -999.0,2,     1.76,2,     0.05,2,     0.00,2,     0.02,2, -999.000,9,   -999.0,9,    10.0,2,-999.000,9,  26.409,2
  316N198212_1, ATAS1,    16,  1,      2,      2,2,19821211,0341, 15.3150, -51.5283, 5374,   -999,   -999.0,-999.0000,-999.0000,9,  36.6430,2,   -999.0,9,-999.0000,   -999.0,2,     0.98,2,     0.00,2,     0.00,2,     0.02,2, -999.000,9,   -999.0,9,    61.0,2,-999.000,9,-999.000,9
  316N198212_1, ATAS1,    16,  1,      3,      3,2,19821211,0341, 15.3150, -51.5283, 5374,   -999,   -999.0,-999.0000,-999.0000,9,  37.0440,2,   -999.0,9,-999.0000,   -999.0,2,     0.78,2,     0.00,2,     0.00,2,     0.03,2, -999.000,9,   -999.0,9,    92.0,2,-999.000,9,-999.000,9
  316N198212_1, ATAS1,    16,  1,      4,      4,2,19821211,0341, 15.3150, -51.5283, 5374,   -999,   -999.0,-999.0000,-999.0000,9,  37.0160,2,   -999.0,9,-999.0000,   -999.0,2,     1.07,2,     1.80,2,     0.04,2,     0.15,2, -999.000,9,   -999.0,9,   132.0,2,-999.000,9,-999.000,9
  316N198212_1, ATAS1,    16,  1,      5,      5,2,19821211,0341, 15.3150, -51.5283, 5374,   -999,   -999.0,-999.0000,-999.0000,9,  36.3920,2,   -999.0,9,-999.0000,   -999.0,2,     0.98,2,     1.88,2,     0.04,2,     0.15,2, -999.000,9,   -999.0,9,   213.0,2,-999.000,9,-999.000,9
  316N198212_1, ATAS1,    16,  1,      6,      6,2,19821211,0341, 15.3150, -51.5283, 5374,   -999,   -999.0,-999.0000,-999.0000,9,  36.0390,2,   -999.0,9,-999.0000,   -999.0,2,     4.78,2,    15.23,2,     0.00,2,     0.92,2, -999.000,9,   -999.0,9,   279.0,2,-999.000,9,-999.000,9
  316N198212_1, ATAS1,    16,  1,      7,      7,2,19821211,0341, 15.3150, -51.5283, 5374,   -999,   -999.0,-999.0000,-999.0000,9,  35.8050,2,   -999.0,9,-999.0000,   -999.0,2,     6.54,2,    18.75,2,     0.00,2,     1.12,2, -999.000,9,   -999.0,9,   355.0,2,-999.000,9,-999.000,9
  316N198212_1, ATAS1,    16,  1,      8,      8,2,19821211,0341, 15.3150, -51.5283, 5374,   -999,   -999.0,-999.0000,-999.0000,9,  35.5390,2,   -999.0,9, 11.9699,   -999.0,2,     9.38,2,    22.95,2,     0.00,2,     1.39,2, -999.000,9,   -999.0,9,   431.0,2,-999.000,9,  12.027,2
  316N198212_1, ATAS1,    16,  1,      9,      9,2,19821211,0341, 15.3150, -51.5283, 5374,   -999,   -999.0,-999.0000,-999.0000,9,  35.2450,2,   -999.0,9,-999.0000,   -999.0,2,    13.68,2,    27.36,2,     0.00,2,     1.70,2, -999.000,9,   -999.0,9,   506.0,2,-999.000,9,-999.000,9
  316N198212_1, ATAS1,    16,  1,     10,     10,2,19821211,0341, 15.3150, -51.5283, 5374,   -999,   -999.0,-999.0000,-999.0000,9,  34.9830,2,   -999.0,9,-999.0000,   -999.0,2,    18.86,2,    30.68,2,     0.00,2,     1.96,2, -999.000,9,   -999.0,9,   607.0,2,-999.000,9,-999.000,9
  316N198212_1, ATAS1,    16,  1,     11,     11,2,19821211,0341, 15.3150, -51.5283, 5374,   -999,   -999.0,-999.0000,-999.0000,9,  34.7080,2,   -999.0,9,  6.0886,   -999.0,2,    24.73,2,    33.43,2,     0.00,2,     2.19,2, -999.000,9,   -999.0,9,   708.0,2,-999.000,9,   6.153,2
  316N198212_1, ATAS1,    16,  1,     12,     12,2,19821211,0341, 15.3150, -51.5283, 5374,   -999,   -999.0,-999.0000,-999.0000,9,  34.7030,2,   -999.0,9,-999.0000,   -999.0,2,    26.59,2,    33.13,2,     0.00,2,     2.21,2, -999.000,9,   -999.0,9,   859.0,2,-999.000,9,-999.000,9
  316N198212_1, ATAS1,    16,  1,     13,     13,2,19821211,0341, 15.3150, -51.5283, 5374,   -999,   -999.0,-999.0000,-999.0000,9,  34.7990,2,   -999.0,9,-999.0000,   -999.0,2,    25.51,2,    30.59,2,     0.00,2,     2.04,2, -999.000,9,   -999.0,9,  1010.0,2,-999.000,9,-999.000,9
  316N198212_1, ATAS1,    16,  1,     14,     14,2,19821211,0341, 15.3150, -51.5283, 5374,   -999,   -999.0,-999.0000,-999.0000,9,  34.9360,2,   -999.0,9,-999.0000,   -999.0,2,    21.11,2,    25.31,2,     0.00,2,     1.70,2, -999.000,9,   -999.0,9,  1260.0,2,-999.000,9,-999.000,9
  316N198212_1, ATAS1,    16,  1,     15,     15,2,19821211,0341, 15.3150, -51.5283, 5374,   -999,   -999.0,-999.0000,-999.0000,9,  34.9970,2,   -999.0,9,-999.0000,   -999.0,2,    15.83,2,    20.03,2,     0.00,2,     1.35,2, -999.000,9,   -999.0,9,  1661.0,2,-999.000,9,-999.000,9
  316N198212_1, ATAS1,    16,  1,     16,     16,2,19821211,0341, 15.3150, -51.5283, 5374,   -999,   -999.0,-999.0000,-999.0000,9,  34.9800,2,   -999.0,9,-999.0000,   -999.0,2,    18.18,2,    19.15,2,     0.00,2,     1.28,2, -999.000,9,   -999.0,9,  2011.0,2,-999.000,9,-999.000,9
  316N198212_1, ATAS1,    16,  1,     17,     17,2,19821211,0341, 15.3150, -51.5283, 5374, 2692.6,   2688.6,   2.8825,  34.9378,2,  34.9420,2,   -999.0,9,  2.6661,    255.0,2,    29.71,2,    20.23,2,     0.00,2,     1.37,2, -999.000,9,   -999.0,9,  2706.0,2,-999.000,9,   2.882,2
  316N198212_1, ATAS1,    16,  1,     18,     18,2,19821211,0341, 15.3150, -51.5283, 5374, 3424.9,   3423.6,   2.5645,  34.9132,2,  34.9120,2,   -999.0,9,  2.2787,    253.7,2,    37.43,2,    21.01,2,     0.01,2,     1.43,2, -999.000,9,   -999.0,9,  -999.0,9,-999.000,9,-999.000,9
  316N198212_1, ATAS1,    16,  1,     19,     19,2,19821211,0341, 15.3150, -51.5283, 5374, 4224.4,   4226.3,   2.1735,  34.8795,2,  34.9120,2,   -999.0,9,  1.8085,    253.7,2,    37.43,2,    21.01,2,     0.01,2,     1.43,2, -999.000,9,   -999.0,9,  -999.0,9,-999.000,9,-999.000,9
  316N198212_1, ATAS1,    16,  1,     20,     20,2,19821211,0341, 15.3150, -51.5283, 5374, 4505.6,   4508.5,   2.0165,  34.8601,2,  34.8580,2,   -999.0,9,  1.6233,    255.0,2,    51.21,2,    22.09,2,     0.01,2,     1.51,2, -999.000,9,   -999.0,9,  -999.0,9,-999.000,9,-999.000,9
  316N198212_1, ATAS1,    16,  1,     21,     21,2,19821211,0341, 15.3150, -51.5283, 5374, 4708.0,   4711.8,   1.9055,  34.8427,2,  34.8430,2,   -999.0,9,  1.4916,    250.7,2,    58.44,2,    23.26,2,     0.01,2,     1.59,2, -999.000,9,   -999.0,9,  -999.0,9,-999.000,9,-999.000,9
  316N198212_1, ATAS1,    16,  1,     22,     22,2,19821211,0341, 15.3150, -51.5283, 5374, 5120.8,   5125.9,   1.8475,  34.8298,2,  34.8290,2,   -999.0,9,  1.3848,    248.1,2,    64.11,2,    24.04,2,     0.00,2,     1.66,2, -999.000,9,   -999.0,9,  -999.0,9,-999.000,9,-999.000,9
  316N198212_1, ATAS1,    16,  1,     23,     23,2,19821211,0341, 15.3150, -51.5283, 5374, 5392.4,   5398.6,   1.8695,  34.8271,2,  34.8290,2,   -999.0,9,  1.3714,    248.1,2,    64.11,2,    24.04,2,     0.00,2,     1.66,2, -999.000,9,   -999.0,9,  -999.0,9,-999.000,9,-999.000,9
  316N198212_1, ATAS1,    17,  1,      1,      1,2,19821212,0350, 16.4483, -49.8367, 4609,   24.0,     10.0,  26.1692,  36.8525,2,  36.8580,2,   -999.0,9, 26.1670,    208.0,2,     0.68,2,     0.00,2,     0.00,2,     0.03,2,    1.650,2,   2019.0,2,  -999.0,9,   0.080,2,  26.171,2
  316N198212_1, ATAS1,    17,  1,      2,      2,2,19821212,0350, 16.4483, -49.8367, 4609,   86.9,     72.0,  26.1592,  36.8777,2,  36.8870,2,   -999.0,9, 26.1430,    204.5,2,     0.59,2,     0.00,2,     0.00,2,     0.03,2,    1.830,2,   2025.0,2,  -999.0,9,   0.070,2,-999.000,9
  316N198212_1, ATAS1,    17,  1,      3,      3,2,19821212,0350, 16.4483, -49.8367, 4609,  133.2,    119.0,  23.3603,  37.2612,2,  37.2660,2,   -999.0,9, 23.3355,    197.7,2,     0.49,2,     0.03,2,     0.09,2,     0.03,2, -999.000,9,   -999.0,9,  -999.0,9,-999.000,9,-999.000,9
  316N198212_1, ATAS1,    17,  1,      4,      4,2,19821212,0350, 16.4483, -49.8367, 4609,  173.6,    160.0,  21.0953,  37.0282,2,  37.0340,2,   -999.0,9, 21.0643,    180.6,2,     0.59,2,     1.92,2,     0.02,2,     0.12,2,    2.950,2,   2106.0,2,  -999.0,9,   0.100,2,-999.000,9
  316N198212_1, ATAS1,    17,  1,      5,      5,2,19821212,0350, 16.4483, -49.8367, 4609,  213.6,    201.0,  18.9784,  36.6655,2,  36.6750,2,   -999.0,9, 18.9422,    173.6,2,     1.37,2,     5.01,2,     0.01,2,     0.28,2,    2.820,2,   2109.0,2,  -999.0,9,   0.140,2,-999.000,9
  316N198212_1, ATAS1,    17,  1,      6,      6,2,19821212,0350, 16.4483, -49.8367, 4609,  313.6,    301.0,  15.3324,  36.0714,2,  36.0600,2,   -999.0,9, 15.2856,    157.5,2,     3.81,2,    12.79,2,     0.00,2,     0.77,2,    2.770,2,   2133.0,2,  -999.0,9,   0.110,2,-999.000,9
  316N198212_1, ATAS1,    17,  1,      7,      7,2,19821212,0350, 16.4483, -49.8367, 4609,  414.4,    403.0,  13.0605,  35.6997,2,  35.7130,2,   -999.0,9, 13.0041,    122.2,2,     7.42,2,    20.22,2,     0.00,2,     1.22,2,    1.790,2,   -999.0,9,  -999.0,9,   0.090,2,-999.000,9
  316N198212_1, ATAS1,    17,  1,      8,      8,2,19821212,0350, 16.4483, -49.8367, 4609,  513.5,    499.9,  10.3865,  35.2957,2,  35.3000,2,   -999.0,9, 10.3260,    103.0,2,    13.19,2,    27.36,2,     0.00,2,     1.69,2,    0.690,2,   2198.0,2,   502.0,2,   0.060,2,  10.411,2
  316N198212_1, ATAS1,    17,  1,      9,      9,2,19821212,0350, 16.4483, -49.8367, 4609,  612.5,    599.6,   8.4976,  35.0293,2,  35.0370,2,   -999.0,9,  8.4331,    107.4,2,    17.69,2,    30.78,2,     0.00,2,     1.94,2,    0.190,2,   -999.0,9,  -999.0,9,   0.060,2,-999.000,9
  316N198212_1, ATAS1,    17,  1,     10,     10,2,19821212,0350, 16.4483, -49.8367, 4609,  713.0,    700.9,   6.8186,  34.8213,2,  34.8250,2,   -999.0,9,  6.7517,    120.0,2,    22.38,2,    32.54,2,     0.00,2,     2.12,2,    0.040,2,   2207.0,2,  -999.0,9,   0.050,2,-999.000,9
  316N198212_1, ATAS1,    17,  1,     11,     11,2,19821212,0350, 16.4483, -49.8367, 4609,  812.8,    801.4,   6.2906,  34.7925,2,  34.7930,2,   -999.0,9,  6.2168,    123.9,2,    24.14,2,    33.03,2,     0.00,2,     2.17,2, -999.000,9,   -999.0,9,   798.0,2,-999.000,9,   6.296,2
  316N198212_1, ATAS1,    17,  1,     12,     12,2,19821212,0350, 16.4483, -49.8367, 4609,  913.1,    902.4,   5.8816,  34.7980,2,  34.8000,2,   -999.0,9,  5.8006,    132.6,2,    25.02,2,    32.45,2,     0.00,2,     2.14,2,   -0.180,2,   2208.0,2,  -999.0,9,   0.060,2,-999.000,9
  316N198212_1, ATAS1,    17,  1,     13,     13,2,19821212,0350, 16.4483, -49.8367, 4609, 1011.6,   1001.6,   5.6016,  34.8311,2,  34.8360,2,   -999.0,9,  5.5131,    143.4,2,    25.02,2,    31.18,2,     0.00,2,     2.07,2,   -0.070,2,   -999.0,9,  -999.0,9,   0.050,2,-999.000,9
  316N198212_1, ATAS1,    17,  1,     14,     14,2,19821212,0350, 16.4483, -49.8367, 4609, 1211.2,   1202.2,   5.2206,  34.9061,2,  34.9080,2,   -999.0,9,  5.1160,    173.0,2,    22.97,2,    27.56,2,     0.00,2,     1.86,2, -999.000,9,   -999.0,9,  -999.0,9,-999.000,9,-999.000,9
  316N198212_1, ATAS1,    17,  1,     17,     17,2,19821212,0350, 16.4483, -49.8367, 4609, 1461.9,   1454.5,   4.5507,  34.9854,2,  34.9880,2,   -999.0,9,  4.4285,    219.0,2,    18.66,2,    22.48,2,     0.00,2,     1.52,2, -999.000,9,   -999.0,9,  1457.0,2,-999.000,9,   4.541,2
  316N198212_1, ATAS1,    17,  1,     19,     19,2,19821212,0350, 16.4483, -49.8367, 4609, 1811.8,   1806.2,   3.9437,  34.9872,2,  34.9890,2,   -999.0,9,  3.7956,    239.0,2,    19.93,2,    20.91,2,     0.00,2,     1.42,2, -999.000,9,   -999.0,9,  1804.0,2,-999.000,9,   3.941,2
  316N198212_1, ATAS1,    17,  1,     23,     23,2,19821212,0350, 16.4483, -49.8367, 4609, 2010.9,   2006.4,   3.5467,  34.9742,2,  34.9760,2,   -999.0,9,  3.3852,    248.1,2,    22.08,2,    20.23,2,     0.00,2,     1.39,2, -999.000,9,   -999.0,9,  2005.0,2,-999.000,9,   3.547,2