BOTTLE,20060405WHPSIOdm
EXPOCODE,SECT_ID,STNNBR,CASTNO,SAMPNO,BTLNBR,BTLNBR_FLAG_W,DATE,TIME,LATITUDE,LONGITUDE,DEPTH,CTDRAW,CTDPRS,CTDTMP,CTDSAL,CTDSAL_FLAG_W,SALNTY,SALNTY_FLAG_W,CTDOXY,CTDOXY_FLAG_W,THETA,OXYGEN,OXYGEN_FLAG_W,SILCAT,SILCAT_FLAG_W,NITRAT,NITRAT_FLAG_W,NITRIT,NITRIT_FLAG_W,PHSPHT,PHSPHT_FLAG_W,TRITUM,TRITUM_FLAG_W,TCARBN,TCARBN_FLAG_W,REVPRS,REVPRS_FLAG_W,TRITER,TRITER_FLAG_W,REVTMP,REVTMP_FLAG_W
,,,,,,,,,,,,,DBAR,ITS-90,PSS-78,,PSS-78,,UMOL/KG,,DEG C,UMOL/KG,,UMOL/KG,,UMOL/KG,,UMOL/KG,,UMOL/KG,,UMOL/KG,,UMOL/KG,,DBAR,,TU,,ITS-90,
  316N198212_1, ATAS1,    24,  1,      1,      1,2,19821216,0645,  7.6283, -49.4650, 4259,   26.8,     10.0,  26.9738,  36.2401,2,  36.2390,2,   -999.0,9, 26.9715,    202.0,2,     1.17,2,     0.00,2,     0.00,2,     0.14,2,    1.410,2,   2015.0,2,  -999.0,9,   0.090,2,  26.976,2
  316N198212_1, ATAS1,    24,  1,      2,      2,2,19821216,0645,  7.6283, -49.4650, 4259,  105.7,     89.0,  25.7958,  36.2791,2,  36.2830,2,   -999.0,9, 25.7760,    200.6,2,     1.27,2,     0.44,2,     0.22,2,     0.22,2,    0.900,2,   2049.0,2,  -999.0,9,   0.090,2,-999.000,9
  316N198212_1, ATAS1,    24,  1,      3,      3,2,19821216,0645,  7.6283, -49.4650, 4259,  139.2,    123.0,  23.4899,  36.2706,2,  36.2690,2,   -999.0,9, 23.4642,    179.1,2,     2.54,2,     3.42,2,     0.24,2,     0.39,2, -999.000,9,   -999.0,9,  -999.0,9,-999.000,9,-999.000,9
  316N198212_1, ATAS1,    24,  1,      4,      4,2,19821216,0645,  7.6283, -49.4650, 4259,  187.0,    172.0,  17.0810,  36.2767,2,  36.2740,2,   -999.0,9, 17.0523,    139.7,2,     4.00,2,    12.30,2,     0.02,2,     0.76,2, -999.000,9,   -999.0,9,  -999.0,9,-999.000,9,-999.000,9
  316N198212_1, ATAS1,    24,  1,      5,      5,2,19821216,0645,  7.6283, -49.4650, 4259,  236.1,    222.0,  11.3291,  35.1820,2,  35.1810,2,   -999.0,9, 11.3011,    123.5,2,    11.14,2,    23.74,2,     0.01,2,     1.58,2, -999.000,9,   -999.0,9,  -999.0,9,-999.000,9,-999.000,9
  316N198212_1, ATAS1,    24,  1,      6,      6,2,19821216,0645,  7.6283, -49.4650, 4259,  309.8,    296.0,   9.2071,  34.8953,2,  34.8960,2,   -999.0,9,  9.1744,    119.6,2,    14.85,2,    28.34,2,     0.00,2,     1.87,2, -999.000,9,   -999.0,9,  -999.0,9,-999.000,9,-999.000,9
  316N198212_1, ATAS1,    24,  1,      7,      7,2,19821216,0645,  7.6283, -49.4650, 4259,  385.6,    371.0,   8.0201,  34.7550,2,  34.7490,2,   -999.0,9,  7.9822,    125.7,2,    17.59,2,    30.49,2,     0.00,2,     2.01,2, -999.000,9,   -999.0,9,  -999.0,9,-999.000,9,-999.000,9
  316N198212_1, ATAS1,    24,  1,      8,      8,2,19821216,0645,  7.6283, -49.4650, 4259,  456.4,    446.0,   7.3422,  34.7002,2,  34.7010,2,   -999.0,9,  7.2987,    123.5,2,    20.04,2,    32.25,2,     0.01,2,     2.11,2, -999.000,9,   -999.0,9,   447.0,2,-999.000,9,   7.352,2
  316N198212_1, ATAS1,    24,  1,      9,      9,2,19821216,0645,  7.6283, -49.4650, 4259,  526.8,    515.7,   6.4602,  34.6045,2,  34.6030,2,   -999.0,9,  6.4132,    133.9,2,    22.58,2,    33.04,2,     0.01,2,     2.20,2, -999.000,9,   -999.0,9,  -999.0,9,-999.000,9,-999.000,9
  316N198212_1, ATAS1,    24,  1,     10,     10,2,19821216,0645,  7.6283, -49.4650, 4259,  645.8,    634.8,   5.9232,  34.6018,2,  34.6130,2,   -999.0,9,  5.8674,    126.5,2,    25.32,2,    34.50,2,     0.01,2,     2.31,2, -999.000,9,   -999.0,9,  -999.0,9,-999.000,9,-999.000,9
  316N198212_1, ATAS1,    24,  1,     11,     11,2,19821216,0645,  7.6283, -49.4650, 4259,  786.9,    776.2,   5.2082,  34.6284,2,  34.6250,2,   -999.0,9,  5.1434,    135.2,2,    28.64,2,    34.50,2,     0.00,2,     2.34,2, -999.000,9,   -999.0,9,   778.0,2,-999.000,9,   5.208,2
  316N198212_1, ATAS1,    24,  1,     12,     12,2,19821216,0645,  7.6283, -49.4650, 4259,  959.0,    948.4,   4.8232,  34.7098,2,  34.7060,2,   -999.0,9,  4.7455,    154.7,2,    28.64,2,    32.16,2,     0.00,2,     2.19,2, -999.000,9,   -999.0,9,  -999.0,9,-999.000,9,-999.000,9
  316N198212_1, ATAS1,    24,  1,     13,     13,2,19821216,0645,  7.6283, -49.4650, 4259, 1135.5,   1125.1,   4.8892,  34.8551,2,  34.8540,2,   -999.0,9,  4.7948,    178.2,2,    24.24,2,    27.85,2,     0.00,2,     1.91,2, -999.000,9,   -999.0,9,  -999.0,9,-999.000,9,-999.000,9
  316N198212_1, ATAS1,    24,  1,     14,     14,2,19821216,0645,  7.6283, -49.4650, 4259, 1307.0,   1297.1,   4.7912,  34.9795,2,  34.9820,2,   -999.0,9,  4.6814,    216.8,2,    18.37,2,    22.57,2,     0.00,2,     1.54,2, -999.000,9,   -999.0,9,  -999.0,9,-999.000,9,-999.000,9
  316N198212_1, ATAS1,    24,  1,     15,     15,2,19821216,0645,  7.6283, -49.4650, 4259, 1577.0,   1568.6,   4.3102,  35.0036,2,  35.0030,2,   -999.0,9,  4.1800,    247.7,2,    15.34,2,    19.45,2,     0.00,2,     1.33,2, -999.000,9,   -999.0,9,  -999.0,9,-999.000,9,-999.000,9
  316N198212_1, ATAS1,    24,  1,     16,     16,2,19821216,0645,  7.6283, -49.4650, 4259, 1852.5,   1845.4,   4.0042,  34.9915,2,  34.9920,2,   -999.0,9,  3.8516,    255.1,2,    15.64,2,    19.06,2,     0.00,2,     1.30,2, -999.000,9,   -999.0,9,  -999.0,9,-999.000,9,-999.000,9
  316N198212_1, ATAS1,    24,  1,     17,     17,2,19821216,0645,  7.6283, -49.4650, 4259, 2194.9,   2189.6,   3.7222,  34.9853,2,  34.9870,2,   -999.0,9,  3.5403,    261.1,2,    16.51,2,    18.57,2,     0.00,2,     1.26,2, -999.000,9,   -999.0,9,  2199.0,2,-999.000,9,   3.723,2
  316N198212_1, ATAS1,    24,  1,     18,     18,2,19821216,0645,  7.6283, -49.4650, 4259, 2533.0,   2529.4,   3.3732,  34.9668,2,  34.9680,2,   -999.0,9,  3.1634,    262.0,2,    19.45,2,    18.76,2,     0.00,2,     1.27,2, -999.000,9,   -999.0,9,  -999.0,9,-999.000,9,-999.000,9
  316N198212_1, ATAS1,    24,  1,     19,     19,2,19821216,0645,  7.6283, -49.4650, 4259, 2825.4,   2823.3,   3.0052,  34.9484,2,  34.9490,2,   -999.0,9,  2.7727,    262.0,2,    23.94,2,    19.15,2,     0.00,2,     1.35,2, -999.000,9,   -999.0,9,  2823.0,2,-999.000,9,   2.999,2
  316N198212_1, ATAS1,    24,  1,     20,     20,2,19821216,0645,  7.6283, -49.4650, 4259, 3213.1,   3213.0,   2.6972,  34.9286,2,  34.9260,2,   -999.0,9,  2.4308,    260.3,2,    29.42,2,    19.54,2,     0.00,2,     1.34,2, -999.000,9,   -999.0,9,  -999.0,9,-999.000,9,-999.000,9
  316N198212_1, ATAS1,    24,  1,     21,     21,2,19821216,0645,  7.6283, -49.4650, 4259, 3607.7,   3609.5,   2.4603,  34.9118,2,  34.9120,2,   -999.0,9,  2.1569,    263.7,2,    31.27,2,    19.35,2,     0.00,2,     1.34,2, -999.000,9,   -999.0,9,  -999.0,9,-999.000,9,-999.000,9
  316N198212_1, ATAS1,    24,  1,     22,     22,2,19821216,0645,  7.6283, -49.4650, 4259, 3877.1,   3880.3,   2.3333,  34.9027,2,  34.9010,2,   -999.0,9,  2.0032,    266.8,2,    30.59,2,    18.96,2,     0.00,2,     1.31,2, -999.000,9,   -999.0,9,  -999.0,9,-999.000,9,-999.000,9
  316N198212_1, ATAS1,    24,  1,     23,     23,2,19821216,0645,  7.6283, -49.4650, 4259, 4071.4,   4075.4,   2.3073,  34.8991,2,  34.8990,2,   -999.0,9,  1.9558,    266.3,2,    32.45,2,    19.15,2,     0.00,2,     1.32,2, -999.000,9,   -999.0,9,  2120.0,2,-999.000,9,   2.307,2
  316N198212_1, ATAS1,    25,  2,      1,      1,2,19821216,2255,  6.9783, -49.7400, 4044,   27.2,     10.0,  27.0730,  36.2100,2,  36.2230,2,   -999.0,9, 27.0707,    201.1,2,     1.66,2,     0.03,2,     0.00,2,     0.12,2,    1.250,2,   2022.0,2,  -999.0,9,   0.090,2,  27.072,2
  316N198212_1, ATAS1,    25,  2,      2,      2,2,19821216,2255,  6.9783, -49.7400, 4044,   68.4,     51.0,  27.0200,  36.2204,2,  36.2200,2,   -999.0,9, 27.0083,    202.0,2,     1.56,2,     0.03,2,     0.00,2,     0.12,2, -999.000,9,   -999.0,9,  -999.0,9,-999.000,9,-999.000,9
  316N198212_1, ATAS1,    25,  2,      3,      3,2,19821216,2255,  6.9783, -49.7400, 4044,  115.0,     98.0,  26.0320,  36.2945,2,  36.2950,2,   -999.0,9, 26.0100,    195.8,2,     1.56,2,     0.00,2,     0.21,2,     0.19,2,    1.150,2,   2038.0,2,  -999.0,9,   0.070,2,-999.000,9
  316N198212_1, ATAS1,    25,  2,      4,      4,2,19821216,2255,  6.9783, -49.7400, 4044,  167.4,    150.0,  22.8921,  36.1986,2,  36.1910,2,   -999.0,9, 22.8614,    183.0,2,     3.12,2,     4.15,2,     0.11,2,     0.44,2,    1.350,2,   2083.0,2,  -999.0,9,   0.070,2,-999.000,9
  316N198212_1, ATAS1,    25,  2,      5,      5,2,19821216,2255,  6.9783, -49.7400, 4044,  216.8,    202.0,  15.3782,  35.7397,2,  35.7000,2,   -999.0,9, 15.3469,    142.7,2,     7.03,2,    15.92,2,     0.01,2,     1.07,2,    1.290,2,   2154.0,2,  -999.0,9,   0.070,2,-999.000,9
  316N198212_1, ATAS1,    25,  2,      6,      6,2,19821216,2255,  6.9783, -49.7400, 4044,  315.9,    303.0,   9.5993,  34.9760,2,  34.9740,2,   -999.0,9,  9.5649,    122.2,2,    14.56,2,    27.36,2,     0.01,2,     1.76,2,    0.360,2,   2199.0,2,  -999.0,9,   0.050,2,-999.000,9
  316N198212_1, ATAS1,    25,  2,      7,      7,2,19821216,2255,  6.9783, -49.7400, 4044,  415.5,    403.0,   7.8734,  34.7649,2,  34.7620,2,   -999.0,9,  7.8326,    120.4,2,    19.16,2,    31.67,2,     0.01,2,     2.02,2,    0.110,2,   2208.0,2,  -999.0,9,   0.050,2,-999.000,9
  316N198212_1, ATAS1,    25,  2,      8,      8,2,19821216,2255,  6.9783, -49.7400, 4044,  514.7,    501.6,   6.7074,  34.6757,2,  34.6740,2,   -999.0,9,  6.6607,    120.4,2,    23.26,2,    34.11,2,     0.01,2,     2.20,2,    0.030,2,   2216.0,2,   506.0,2,   0.050,2,   6.704,2
  316N198212_1, ATAS1,    25,  2,      9,      9,2,19821216,2255,  6.9783, -49.7400, 4044,  615.1,    602.3,   5.7124,  34.5953,2,  34.5910,2,   -999.0,9,  5.6606,    133.0,2,    27.08,2,    34.70,2,     0.01,2,     2.27,2, -999.000,9,   -999.0,9,  -999.0,9,-999.000,9,-999.000,9
  316N198212_1, ATAS1,    25,  2,     10,     10,2,19821216,2255,  6.9783, -49.7400, 4044,  714.9,    702.0,   5.4154,  34.5976,2,  34.6050,2,   -999.0,9,  5.3561,    135.6,2,    28.25,2,    34.60,2,     0.01,2,     2.28,2, -999.000,9,   -999.0,9,  -999.0,9,-999.000,9,-999.000,9
  316N198212_1, ATAS1,    25,  2,     11,     11,2,19821216,2255,  6.9783, -49.7400, 4044,  812.9,    800.3,   4.8204,  34.5884,2,  34.5840,2,   -999.0,9,  4.7559,    147.4,2,    30.99,2,    34.21,2,     0.01,2,     2.28,2, -999.000,9,   -999.0,9,   807.0,2,-999.000,9,   4.817,2
  316N198212_1, ATAS1,    25,  2,     12,     12,2,19821216,2255,  6.9783, -49.7400, 4044,  904.9,    892.3,   4.7534,  34.6391,2,  34.6360,2,   -999.0,9,  4.6813,    150.4,2,    30.69,2,    33.53,2,     0.01,2,     2.24,2, -999.000,9,   -999.0,9,  -999.0,9,-999.000,9,-999.000,9
  316N198212_1, ATAS1,    25,  2,     13,     13,2,19821216,2255,  6.9783, -49.7400, 4044, 1052.5,   1040.1,   4.7994,  34.7343,2,  34.7320,2,   -999.0,9,  4.7137,    159.1,2,    28.54,2,    31.57,2,     0.01,2,     2.11,2, -999.000,9,   -999.0,9,  -999.0,9,-999.000,9,-999.000,9
  316N198212_1, ATAS1,    25,  2,     14,     14,2,19821216,2255,  6.9783, -49.7400, 4044, 1255.5,   1243.6,   4.7824,  34.9344,2,  34.9360,2,   -999.0,9,  4.6778,    202.1,2,    21.11,2,    24.72,2,     0.01,2,     1.65,2, -999.000,9,   -999.0,9,  -999.0,9,-999.000,9,-999.000,9
  316N198212_1, ATAS1,    25,  2,     15,     15,2,19821216,2255,  6.9783, -49.7400, 4044, 1449.2,   1438.2,   4.4164,  35.0031,2,  35.0020,2,   -999.0,9,  4.2973,    242.0,2,    16.03,2,    19.93,2,     0.00,2,     1.36,2, -999.000,9,   -999.0,9,  -999.0,9,-999.000,9,-999.000,9
  316N198212_1, ATAS1,    25,  2,     16,     16,2,19821216,2255,  6.9783, -49.7400, 4044, 1655.0,   1645.1,   4.1754,  35.0003,2,  35.0020,2,   -999.0,9,  4.0396,    251.6,2,    15.34,2,    19.06,2,     0.00,2,     1.29,2, -999.000,9,   -999.0,9,  -999.0,9,-999.000,9,-999.000,9
  316N198212_1, ATAS1,    25,  2,     17,     17,2,19821216,2255,  6.9783, -49.7400, 4044, 1860.3,   1851.5,   3.9354,  34.9882,2,  34.9900,2,   -999.0,9,  3.7832,    255.1,2,    16.22,2,    19.15,2,     0.00,2,     1.27,2, -999.000,9,   -999.0,9,  1866.0,2,-999.000,9,   3.936,2
  316N198212_1, ATAS1,    25,  2,     18,     18,2,19821216,2255,  6.9783, -49.7400, 4044, 2054.6,   2046.7,   3.8324,  34.9869,2,  34.9890,2,   -999.0,9,  3.6628,    259.0,2,    16.03,2,    18.66,2,     0.00,2,     1.25,2,    0.090,2,   2164.0,2,  -999.0,9,   0.049,2,-999.000,9
  316N198212_1, ATAS1,    25,  2,     19,     19,2,19821216,2255,  6.9783, -49.7400, 4044, 2615.8,   2610.9,   3.1505,  34.9572,2,  34.9570,2,   -999.0,9,  2.9366,    262.0,2,    22.18,2,    19.15,2,     0.00,2,     1.29,2, -999.000,9,   -999.0,9,  2612.0,2,-999.000,9,   3.148,2
  316N198212_1, ATAS1,    25,  2,     20,     20,2,19821216,2255,  6.9783, -49.7400, 4044, 3108.1,   3105.6,   2.7215,  34.9319,2,  34.9310,2,   -999.0,9,  2.4658,    262.9,2,    27.36,2,    19.25,2,     0.00,2,     1.30,2,    0.095,2,   2175.0,2,  -999.0,9,   0.044,2,-999.000,9
  316N198212_1, ATAS1,    25,  2,     21,     21,2,19821216,2255,  6.9783, -49.7400, 4044, 3602.4,   3602.5,   2.3465,  34.9063,2,  34.9060,2,   -999.0,9,  2.0468,    266.8,2,    30.98,2,    19.25,2,     0.00,2,     1.31,2,    0.001,2,   2174.0,2,  -999.0,9,   0.052,2,-999.000,9
  316N198212_1, ATAS1,    25,  2,     22,     22,2,19821216,2255,  6.9783, -49.7400, 4044, 3859.2,   3860.5,   2.2775,  34.8991,2,  34.8980,2,   -999.0,9,  1.9512,    266.8,2,    32.64,2,    19.25,2,     0.00,2,     1.31,2,    0.050,2,   2177.0,2,  -999.0,9,   0.049,2,-999.000,9
  316N198212_1, ATAS1,    25,  2,     23,     23,2,19821216,2255,  6.9783, -49.7400, 4044, 3997.9,   3999.9,   2.2395,  34.8938,2,  34.8940,2,   -999.0,9,  1.8985,    265.0,2,    34.69,2,    19.45,2,     0.00,2,     1.34,2,    0.180,2,   2178.0,2,  4001.0,2,   0.033,2,   2.240,2
  316N198212_1, ATAS1,    26,  1,      1,      1,2,19821217,1025,  6.0933, -50.2217, 4584,   26.4,      9.0,  27.1982,  36.2317,2,  36.2330,2,   -999.0,9, 27.1961,    202.0,2,     1.37,2,     0.00,2,     0.00,2,     0.11,2,    1.190,2,   2020.0,2,  -999.0,9,   0.080,2,  27.203,2
  316N198212_1, ATAS1,    26,  1,      2,      2,2,19821217,1025,  6.0933, -50.2217, 4584,   85.0,     68.0,  26.5502,  36.2742,2,  36.2750,2,   -999.0,9, 26.5348,    200.2,2,     1.27,2,     0.00,2,     0.00,2,     0.13,2, -999.000,9,   -999.0,9,  -999.0,9,-999.000,9,-999.000,9
  316N198212_1, ATAS1,    26,  1,      3,      3,2,19821217,1025,  6.0933, -50.2217, 4584,  114.3,     97.0,  26.2642,  36.2838,2,  36.2840,2,   -999.0,9, 26.2423,    195.4,2,     1.07,2,     0.00,2,     0.17,2,     0.16,2,    1.090,2,   2036.0,2,  -999.0,9,   0.090,2,-999.000,9
  316N198212_1, ATAS1,    26,  1,      4,      4,2,19821217,1025,  6.0933, -50.2217, 4584,  154.1,    137.1,  24.5383,  36.3589,2,  36.3620,2,   -999.0,9, 24.5088,    187.9,2,     1.56,2,     1.52,2,     0.04,2,     0.28,2, -999.000,9,   -999.0,9,  -999.0,9,-999.000,9,-999.000,9
  316N198212_1, ATAS1,    26,  1,      5,      5,2,19821217,1025,  6.0933, -50.2217, 4584,  194.2,    183.0,  20.8483,  36.1958,2,  36.1960,2,   -999.0,9, 20.8133,    180.7,2,     2.73,2,     5.44,2,     0.02,2,     0.54,2,    1.100,2,   2099.0,2,  -999.0,9,   0.080,2,-999.000,9
  316N198212_1, ATAS1,    26,  1,      6,      6,2,19821217,1025,  6.0933, -50.2217, 4584,  222.4,    215.0,  10.5035,  34.9622,2,  34.9700,2,   -999.0,9, 10.4778,    153.1,2,    11.14,2,    22.28,2,     0.01,2,     1.50,2, -999.000,9,   -999.0,9,  -999.0,9,-999.000,9,-999.000,9
  316N198212_1, ATAS1,    26,  1,      7,      7,2,19821217,1025,  6.0933, -50.2217, 4584,  271.8,    265.0,   9.0066,  34.7957,2,  34.7990,2,   -999.0,9,  8.9777,    152.2,2,    13.98,2,    25.41,2,     0.00,2,     1.70,2,    0.160,2,   2175.0,2,  -999.0,9,   0.070,2,-999.000,9
  316N198212_1, ATAS1,    26,  1,      8,      8,2,19821217,1025,  6.0933, -50.2217, 4584,  336.6,    330.0,   8.3156,  34.7191,2,  34.7210,2,   -999.0,9,  8.2813,    156.5,2,    15.35,2,    26.68,2,     0.00,2,     1.78,2,    0.330,2,   2179.0,2,   326.0,2,   0.060,2,   8.319,2
  316N198212_1, ATAS1,    26,  1,      9,      9,2,19821217,1025,  6.0933, -50.2217, 4584,  412.9,    404.0,   7.9676,  34.6805,2,  34.6830,2,   -999.0,9,  7.9264,    156.1,2,    16.42,2,    27.66,2,     0.00,2,     1.84,2,    0.100,2,   2181.0,2,  -999.0,9,   0.070,2,-999.000,9
  316N198212_1, ATAS1,    26,  1,     10,     10,2,19821217,1025,  6.0933, -50.2217, 4584,  512.9,    500.8,   7.1226,  34.6227,2,  34.6280,2,   -999.0,9,  7.0745,    156.1,2,    19.45,2,    30.20,2,     0.00,2,     1.99,2, -999.000,9,   -999.0,9,  -999.0,9,-999.000,9,-999.000,9
  316N198212_1, ATAS1,    26,  1,     11,     11,2,19821217,1025,  6.0933, -50.2217, 4584,  662.1,    650.3,   5.7036,  34.5854,2,  34.5830,2,   -999.0,9,  5.6475,    133.9,2,    26.29,2,    34.31,2,     0.00,2,     2.26,2, -999.000,9,   -999.0,9,   656.0,2,-999.000,9,   5.695,2
  316N198212_1, ATAS1,    26,  1,     12,     12,2,19821217,1025,  6.0933, -50.2217, 4584,  811.9,    800.5,   4.5247,  34.5447,2,  34.5430,2,   -999.0,9,  4.4620,    159.1,2,    32.06,2,    33.63,2,     0.00,2,     2.26,2, -999.000,9,   -999.0,9,  -999.0,9,-999.000,9,-999.000,9
  316N198212_1, ATAS1,    26,  1,     13,     13,2,19821217,1025,  6.0933, -50.2217, 4584, 1011.8,   1000.6,   4.4937,  34.6426,2,  34.6440,2,   -999.0,9,  4.4139,    161.3,2,    30.89,2,    32.45,2,     0.00,2,     2.18,2, -999.000,9,   -999.0,9,  -999.0,9,-999.000,9,-999.000,9
  316N198212_1, ATAS1,    26,  1,     14,     14,2,19821217,1025,  6.0933, -50.2217, 4584, 1213.1,   1202.2,   4.6627,  34.7799,2,  34.7820,2,   -999.0,9,  4.5633,    173.4,2,    26.68,2,    29.32,2,     0.00,2,     1.97,2, -999.000,9,   -999.0,9,  -999.0,9,-999.000,9,-999.000,9
  316N198212_1, ATAS1,    26,  1,     15,     15,2,19821217,1025,  6.0933, -50.2217, 4584, 1412.7,   1402.9,   4.6247,  34.9688,2,  34.9700,2,   -999.0,9,  4.5066,    219.9,2,    18.47,2,    22.28,2,     0.00,2,     1.51,2, -999.000,9,   -999.0,9,  -999.0,9,-999.000,9,-999.000,9
  316N198212_1, ATAS1,    26,  1,     16,     16,2,19821217,1025,  6.0933, -50.2217, 4584, 1713.6,   1705.6,   3.9697,  34.9853,2,  34.9870,2,   -999.0,9,  3.8308,    253.8,2,    16.22,2,    19.15,2,     0.00,2,     1.31,2, -999.000,9,   -999.0,9,  -999.0,9,-999.000,9,-999.000,9
  316N198212_1, ATAS1,    26,  1,     17,     17,2,19821217,1025,  6.0933, -50.2217, 4584, 2012.4,   2005.9,   3.6377,  34.9786,2,  34.9820,2,   -999.0,9,  3.4749,    260.7,2,    17.20,2,    18.66,2,     0.00,2,     1.26,2, -999.000,9,   -999.0,9,  2013.0,2,-999.000,9,   3.636,2
  316N198212_1, ATAS1,    26,  1,     18,     18,2,19821217,1025,  6.0933, -50.2217, 4584, 2413.0,   2408.7,   3.2307,  34.9619,2,  34.9610,2,   -999.0,9,  3.0355,    262.9,2,    20.91,2,    18.66,2,     0.00,2,     1.29,2, -999.000,9,   -999.0,9,  -999.0,9,-999.000,9,-999.000,9
  316N198212_1, ATAS1,    26,  1,     19,     19,2,19821217,1025,  6.0933, -50.2217, 4584, 2714.7,   2712.1,   2.9297,  34.9444,2,  34.9450,2,   -999.0,9,  2.7100,    262.9,2,    24.72,2,    19.06,2,     0.00,2,     1.30,2, -999.000,9,   -999.0,9,  -999.0,9,-999.000,9,-999.000,9
  316N198212_1, ATAS1,    26,  1,     20,     20,2,19821217,1025,  6.0933, -50.2217, 4584, 3018.6,   3017.5,   2.7337,  34.9324,2,  34.9300,2,   -999.0,9,  2.4869,    263.3,2,    26.97,2,    19.06,2,     0.00,2,     1.32,2, -999.000,9,   -999.0,9,  -999.0,9,-999.000,9,-999.000,9
  316N198212_1, ATAS1,    26,  1,     21,     21,2,19821217,1025,  6.0933, -50.2217, 4584, 3221.0,   3220.9,   2.6517,  34.9247,2,  34.9270,2,   -999.0,9,  2.3855,    263.7,2,    27.66,2,    19.06,2,     0.00,2,     1.33,2, -999.000,9,   -999.0,9,  -999.0,9,-999.000,9,-999.000,9
  316N198212_1, ATAS1,    26,  1,     22,     22,2,19821217,1025,  6.0933, -50.2217, 4584, 3423.1,   3424.0,   2.4997,  34.9153,2,  34.9150,2,   -999.0,9,  2.2155,    265.5,2,    29.12,2,    19.06,2,     0.00,2,     1.32,2, -999.000,9,   -999.0,9,  -999.0,9,-999.000,9,-999.000,9
  316N198212_1, ATAS1,    26,  1,     23,     23,2,19821217,1025,  6.0933, -50.2217, 4584, 3574.6,   3576.3,   2.3337,  34.9038,2,  34.9040,2,   -999.0,9,  2.0372,    266.3,2,    30.78,2,    19.06,2,     0.00,2,     1.32,2, -999.000,9,   -999.0,9,  3577.0,2,-999.000,9,   2.329,2