BOTTLE,20060405WHPSIOdm
EXPOCODE,SECT_ID,STNNBR,CASTNO,SAMPNO,BTLNBR,BTLNBR_FLAG_W,DATE,TIME,LATITUDE,LONGITUDE,DEPTH,CTDRAW,CTDPRS,CTDTMP,CTDSAL,CTDSAL_FLAG_W,SALNTY,SALNTY_FLAG_W,CTDOXY,CTDOXY_FLAG_W,THETA,OXYGEN,OXYGEN_FLAG_W,SILCAT,SILCAT_FLAG_W,NITRAT,NITRAT_FLAG_W,NITRIT,NITRIT_FLAG_W,PHSPHT,PHSPHT_FLAG_W,TRITUM,TRITUM_FLAG_W,TCARBN,TCARBN_FLAG_W,REVPRS,REVPRS_FLAG_W,TRITER,TRITER_FLAG_W,REVTMP,REVTMP_FLAG_W
,,,,,,,,,,,,,DBAR,ITS-90,PSS-78,,PSS-78,,UMOL/KG,,DEG C,UMOL/KG,,UMOL/KG,,UMOL/KG,,UMOL/KG,,UMOL/KG,,UMOL/KG,,UMOL/KG,,DBAR,,TU,,ITS-90,
  316N198212_1, ATAS1,    18,  1,      1,      1,2,19821212,1914, 15.0833, -49.7467, 2099,   15.5,      2.0,  26.1635,  35.5343,2,  35.5320,2,   -999.0,9, 26.1630,    205.5,2,     2.74,2,     0.00,2,     0.00,2,     0.03,2, -999.000,9,   -999.0,9,  -999.0,9,-999.000,9,  26.163,2
  316N198212_1, ATAS1,    18,  1,      2,      2,2,19821212,1914, 15.0833, -49.7467, 2099,   23.1,     10.0,  26.1715,  35.5336,2,  35.5320,2,   -999.0,9, 26.1692,    205.5,2,     2.74,2,     0.00,2,     0.00,2,     0.02,2,    1.735,2,   1953.0,2,  -999.0,9,   0.065,2,-999.000,9
  316N198212_1, ATAS1,    18,  1,      3,      3,2,19821212,1914, 15.0833, -49.7467, 2099,   41.6,     28.0,  26.5385,  36.2899,2,  36.2870,2,   -999.0,9, 26.5321,    204.1,2,     1.85,2,     0.00,2,     0.00,2,     0.03,2, -999.000,9,   -999.0,9,  -999.0,9,-999.000,9,-999.000,9
  316N198212_1, ATAS1,    18,  1,      4,      4,2,19821212,1914, 15.0833, -49.7467, 2099,   76.7,     63.0,  26.4005,  36.8884,2,  36.8920,2,   -999.0,9, 26.3862,    203.6,2,     1.27,2,     0.00,2,     0.00,2,     0.02,2,    1.830,2,   2017.0,2,  -999.0,9,   0.090,2,-999.000,9
  316N198212_1, ATAS1,    18,  1,      5,      5,2,19821212,1914, 15.0833, -49.7467, 2099,  112.4,     99.0,  24.0555,  37.2229,2,  37.2280,2,   -999.0,9, 24.0344,    202.5,2,     0.98,2,     0.00,2,     0.00,2,     0.03,2,    2.462,2,   2071.0,2,  -999.0,9,   0.077,2,-999.000,9
  316N198212_1, ATAS1,    18,  1,      6,      6,2,19821212,1914, 15.0833, -49.7467, 2099,  160.9,    148.0,  21.9555,  37.1264,2,  37.1220,2,   -999.0,9, 21.9260,    178.9,2,     1.07,2,     1.72,2,     0.03,2,     0.12,2,    2.930,2,   2103.0,2,  -999.0,9,   0.110,2,-999.000,9
  316N198212_1, ATAS1,    18,  1,      7,      7,2,19821212,1914, 15.0833, -49.7467, 2099,  210.7,    199.0,  18.9246,  36.6587,2,  36.6570,2,   -999.0,9, 18.8888,    161.0,2,     2.05,2,     6.97,2,     0.01,2,     0.41,2,    3.070,2,   2129.0,2,  -999.0,9,   0.110,2,-999.000,9
  316N198212_1, ATAS1,    18,  1,      8,      8,2,19821212,1914, 15.0833, -49.7467, 2099,  260.1,    249.0,  16.6986,  36.2649,2,  36.2690,2,   -999.0,9, 16.6576,    140.1,2,     3.71,2,    12.40,2,     0.00,2,     0.74,2,    3.150,2,   -999.0,9,  -999.0,9,   0.120,2,-999.000,9
  316N198212_1, ATAS1,    18,  1,      9,      9,2,19821212,1914, 15.0833, -49.7467, 2099,  310.7,    300.0,  15.1607,  36.0086,2,  36.0130,2,   -999.0,9, 15.1144,    128.3,2,     5.37,2,    16.11,2,     0.00,2,     0.97,2,    2.767,2,   2154.0,2,  -999.0,9,   0.085,2,-999.000,9
  316N198212_1, ATAS1,    18,  1,     10,     10,2,19821212,1914, 15.0833, -49.7467, 2099,  409.0,    400.0,  12.0507,  35.5242,2,  35.5280,2,   -999.0,9, 11.9977,    102.2,2,     9.96,2,    24.22,2,     0.00,2,     1.46,2, -999.000,9,   -999.0,9,  -999.0,9,-999.000,9,-999.000,9
  316N198212_1, ATAS1,    18,  1,     11,     11,2,19821212,1914, 15.0833, -49.7467, 2099,  509.0,    494.8,  10.1118,  35.2422,2,  35.2420,2,   -999.0,9, 10.0529,    103.5,2,    14.07,2,    27.94,2,     0.00,2,     1.73,2,    1.280,2,   2195.0,2,   499.0,2,   0.050,2,  10.099,2
  316N198212_1, ATAS1,    18,  1,     12,     12,2,19821212,1914, 15.0833, -49.7467, 2099,  608.8,    595.1,   8.6718,  35.0286,2,  35.0290,2,   -999.0,9,  8.6071,    111.3,2,    17.69,2,    30.00,2,     0.00,2,     1.89,2,    0.280,2,   2201.0,2,  -999.0,9,   0.028,2,-999.000,9
  316N198212_1, ATAS1,    18,  1,     13,     13,2,19821212,1914, 15.0833, -49.7467, 2099,  708.4,    695.3,   7.0478,  34.8276,2,  34.8290,2,   -999.0,9,  6.9803,    118.7,2,    22.38,2,    32.45,2,     0.00,2,     2.10,2,    0.055,2,   2206.0,2,  -999.0,9,   0.024,2,-999.000,9
  316N198212_1, ATAS1,    18,  1,     14,     14,2,19821212,1914, 15.0833, -49.7467, 2099,  809.0,    796.8,   6.1808,  34.7661,2,  34.7660,2,   -999.0,9,  6.1082,    125.6,2,    25.41,2,    33.13,2,     0.00,2,     2.17,2, -999.000,9,   -999.0,9,  -999.0,9,-999.000,9,-999.000,9
  316N198212_1, ATAS1,    18,  1,     15,     15,2,19821212,1914, 15.0833, -49.7467, 2099,  909.8,    898.2,   5.7449,  34.7780,2,  34.7780,2,   -999.0,9,  5.6652,    133.9,2,    25.80,2,    32.55,2,     0.00,2,     2.14,2, -999.000,9,   -999.0,9,  -999.0,9,-999.000,9,-999.000,9
  316N198212_1, ATAS1,    18,  1,     16,     16,2,19821212,1914, 15.0833, -49.7467, 2099, 1009.6,    998.6,   5.4839,  34.8224,2,  34.8210,2,   -999.0,9,  5.3965,    146.9,2,    25.61,2,    31.08,2,     0.00,2,     2.06,2, -999.000,9,   -999.0,9,  -999.0,9,-999.000,9,-999.000,9
  316N198212_1, ATAS1,    18,  1,     17,     17,2,19821212,1914, 15.0833, -49.7467, 2099, 1108.4,   1097.9,   5.3379,  34.8839,2,  34.8840,2,   -999.0,9,  5.2422,    160.4,2,    23.94,2,    29.22,2,     0.00,2,     1.94,2, -999.000,9,   -999.0,9,  1103.0,2,-999.000,9,   5.343,2
  316N198212_1, ATAS1,    18,  1,     18,     18,2,19821212,1914, 15.0833, -49.7467, 2099, 1209.2,   1199.3,   5.1649,  34.9235,2,  34.9230,2,   -999.0,9,  5.0609,    177.7,2,    22.57,2,    26.97,2,     0.00,2,     1.81,2, -999.000,9,   -999.0,9,  -999.0,9,-999.000,9,-999.000,9
  316N198212_1, ATAS1,    18,  1,     19,     19,2,19821212,1914, 15.0833, -49.7467, 2099, 1308.4,   1299.1,   4.8949,  34.9634,2,  34.9640,2,   -999.0,9,  4.7839,    197.3,2,    20.81,2,    24.72,2,     0.00,2,     1.66,2, -999.000,9,   -999.0,9,  1299.0,2,-999.000,9,   4.893,2
  316N198212_1, ATAS1,    18,  1,     20,     20,2,19821212,1914, 15.0833, -49.7467, 2099, 1409.6,   1400.8,   4.6049,  34.9815,2,  34.9810,2,   -999.0,9,  4.4872,    216.8,2,    19.45,2,    22.77,2,     0.00,2,     1.53,2, -999.000,9,   -999.0,9,  -999.0,9,-999.000,9,-999.000,9
  316N198212_1, ATAS1,    18,  1,     21,     21,2,19821212,1914, 15.0833, -49.7467, 2099, 1609.8,   1602.2,   4.1559,  34.9875,2,  34.9880,2,   -999.0,9,  4.0244,    236.4,2,    18.66,2,    21.01,2,     0.00,2,     1.41,2, -999.000,9,   -999.0,9,  -999.0,9,-999.000,9,-999.000,9
  316N198212_1, ATAS1,    18,  1,     22,     22,2,19821212,1914, 15.0833, -49.7467, 2099, 1809.5,   1803.0,   3.7889,  34.9812,2,  34.9810,2,   -999.0,9,  3.6432,    247.2,2,    19.64,2,    20.13,2,     0.00,2,     1.35,2, -999.000,9,   -999.0,9,  -999.0,9,-999.000,9,-999.000,9
  316N198212_1, ATAS1,    18,  1,     23,     23,2,19821212,1914, 15.0833, -49.7467, 2099, 2058.6,   2053.5,   3.3469,  34.9658,2,  34.9650,2,   -999.0,9,  3.1840,    253.3,2,    23.55,2,    19.84,2,     0.00,2,     1.35,2, -999.000,9,   -999.0,9,  2054.0,2,-999.000,9,   3.346,2
  316N198212_1, ATAS1,    19,  1,      1,      1,2,19821213,0550, 13.9117, -49.6900, 4509,   15.7,      2.0,  26.4707,  35.5709,2,  35.5690,2,   -999.0,9, 26.4702,    203.8,2,     1.95,2,     0.00,2,     0.00,2,     0.00,2, -999.000,9,   -999.0,9,  -999.0,9,-999.000,9,  26.472,2
  316N198212_1, ATAS1,    19,  1,      2,      2,2,19821213,0550, 13.9117, -49.6900, 4509,   26.6,     10.0,  26.4767,  35.5732,2,  35.5690,2,   -999.0,9, 26.4744,    204.2,2,     2.05,2,     0.00,2,     0.00,2,     0.00,2, -999.000,9,   -999.0,9,  -999.0,9,-999.000,9,-999.000,9
  316N198212_1, ATAS1,    19,  1,      3,      3,2,19821213,0550, 13.9117, -49.6900, 4509,   64.0,     48.0,  27.0187,  36.6781,2,  36.6740,2,   -999.0,9, 27.0076,    204.5,2,     0.88,2,     0.00,2,     0.00,2,     0.00,2, -999.000,9,   -999.0,9,  -999.0,9,-999.000,9,-999.000,9
  316N198212_1, ATAS1,    19,  1,      4,      4,2,19821213,0550, 13.9117, -49.6900, 4509,  112.4,     97.0,  23.6867,  37.0948,2,  37.0970,2,   -999.0,9, 23.6663,    199.9,2,     0.78,2,     0.00,2,     0.10,2,     0.02,2, -999.000,9,   -999.0,9,  -999.0,9,-999.000,9,-999.000,9
  316N198212_1, ATAS1,    19,  1,      5,      5,2,19821213,0550, 13.9117, -49.6900, 4509,  212.6,    200.0,  15.5799,  35.9692,2,  35.9700,2,   -999.0,9, 15.5486,    111.4,2,     5.66,2,    17.97,2,     0.01,2,     1.07,2, -999.000,9,   -999.0,9,  -999.0,9,-999.000,9,-999.000,9
  316N198212_1, ATAS1,    19,  1,      6,      6,2,19821213,0550, 13.9117, -49.6900, 4509,  285.9,    275.0,  12.3320,  35.4251,2,  35.4250,2,   -999.0,9, 12.2952,    100.9,2,     9.38,2,    24.23,2,     0.00,2,     1.50,2, -999.000,9,   -999.0,9,  -999.0,9,-999.000,9,-999.000,9
  316N198212_1, ATAS1,    19,  1,      7,      7,2,19821213,0550, 13.9117, -49.6900, 4509,  360.8,    350.0,  11.3250,  35.3288,2,  35.3290,2,   -999.0,9, 11.2805,     93.9,2,    11.14,2,    26.67,2,     0.00,2,     1.64,2, -999.000,9,   -999.0,9,  -999.0,9,-999.000,9,-999.000,9
  316N198212_1, ATAS1,    19,  1,      8,      8,2,19821213,0550, 13.9117, -49.6900, 4509,  460.4,    450.0,   9.6370,  35.0845,2,  35.0850,2,   -999.0,9,  9.5852,     82.2,2,    15.15,2,    31.27,2,     0.00,2,     1.93,2, -999.000,9,   -999.0,9,   450.0,2,-999.000,9,   9.641,2
  316N198212_1, ATAS1,    19,  1,      9,      9,2,19821213,0550, 13.9117, -49.6900, 4509,  609.6,    598.4,   7.6880,  34.8385,2,  34.8370,2,   -999.0,9,  7.6274,    105.2,2,    19.94,2,    33.33,2,     0.00,2,     2.12,2, -999.000,9,   -999.0,9,  -999.0,9,-999.000,9,-999.000,9
  316N198212_1, ATAS1,    19,  1,     10,     10,2,19821213,0550, 13.9117, -49.6900, 4509,  806.3,    795.9,   5.8511,  34.6785,2,  34.6800,2,   -999.0,9,  5.7806,    129.5,2,    26.10,2,    33.92,2,     0.00,2,     2.25,2, -999.000,9,   -999.0,9,  -999.0,9,-999.000,9,-999.000,9
  316N198212_1, ATAS1,    19,  1,     11,     11,2,19821213,0550, 13.9117, -49.6900, 4509,  954.4,    944.2,   5.3611,  34.6998,2,  34.6980,2,   -999.0,9,  5.2799,    138.2,2,    27.47,2,    33.33,2,     0.00,2,     2.21,2, -999.000,9,   -999.0,9,   949.0,2,-999.000,9,   5.363,2
  316N198212_1, ATAS1,    19,  1,     12,     12,2,19821213,0550, 13.9117, -49.6900, 4509, 1101.9,   1091.9,   5.2881,  34.8448,2,  34.8420,2,   -999.0,9,  5.1934,    155.6,2,    24.92,2,    30.00,2,     0.00,2,     2.00,2, -999.000,9,   -999.0,9,  -999.0,9,-999.000,9,-999.000,9
  316N198212_1, ATAS1,    19,  1,     13,     13,2,19821213,0550, 13.9117, -49.6900, 4509, 1249.3,   1239.8,   5.0591,  34.9285,2,  34.9290,2,   -999.0,9,  4.9523,    184.3,2,    21.79,2,    26.19,2,     0.00,2,     1.76,2, -999.000,9,   -999.0,9,  -999.0,9,-999.000,9,-999.000,9
  316N198212_1, ATAS1,    19,  1,     14,     14,2,19821213,0550, 13.9117, -49.6900, 4509, 1399.7,   1390.7,   4.7861,  34.9755,2,  34.9750,2,   -999.0,9,  4.6675,    209.9,2,    19.06,2,    23.26,2,     0.00,2,     1.56,2, -999.000,9,   -999.0,9,  -999.0,9,-999.000,9,-999.000,9
  316N198212_1, ATAS1,    19,  1,     15,     15,2,19821213,0550, 13.9117, -49.6900, 4509, 1799.2,   1792.1,   3.8741,  34.9822,2,  34.9830,2,   -999.0,9,  3.7283,    246.8,2,    18.08,2,    20.03,2,     0.00,2,     1.34,2, -999.000,9,   -999.0,9,  -999.0,9,-999.000,9,-999.000,9
  316N198212_1, ATAS1,    19,  1,     16,     16,2,19821213,0550, 13.9117, -49.6900, 4509, 2200.1,   2195.0,   3.2851,  34.9640,2,  34.9610,2,   -999.0,9,  3.1098,    255.9,2,    22.28,2,    19.64,2,     0.00,2,     1.33,2, -999.000,9,   -999.0,9,  -999.0,9,-999.000,9,-999.000,9
  316N198212_1, ATAS1,    19,  1,     17,     17,2,19821213,0550, 13.9117, -49.6900, 4509, 2603.0,   2599.9,   2.9031,  34.9410,2,  34.9410,2,   -999.0,9,  2.6951,    254.2,2,    28.24,2,    20.33,2,     0.00,2,     1.38,2, -999.000,9,   -999.0,9,  2612.0,2,-999.000,9,   2.910,2
  316N198212_1, ATAS1,    19,  1,     18,     18,2,19821213,0550, 13.9117, -49.6900, 4509, 3013.3,   3012.1,   2.6971,  34.9238,2,  34.9240,2,   -999.0,9,  2.4517,    252.4,2,    34.69,2,    20.82,2,     0.00,2,     1.42,2, -999.000,9,   -999.0,9,  -999.0,9,-999.000,9,-999.000,9
  316N198212_1, ATAS1,    19,  1,     19,     19,2,19821213,0550, 13.9117, -49.6900, 4509, 3414.6,   3415.3,   2.5371,  34.9117,2,  34.9120,2,   -999.0,9,  2.2530,    252.9,2,    38.02,2,    21.01,2,     0.00,2,     1.45,2, -999.000,9,   -999.0,9,  3413.0,2,-999.000,9,   2.541,2
  316N198212_1, ATAS1,    19,  1,     20,     20,2,19821213,0550, 13.9117, -49.6900, 4509, 3810.8,   3813.4,   2.3111,  34.8909,2,  34.8900,2,   -999.0,9,  1.9892,    255.5,2,    41.63,2,    21.30,2,     0.00,2,     1.46,2, -999.000,9,   -999.0,9,  -999.0,9,-999.000,9,-999.000,9
  316N198212_1, ATAS1,    19,  1,     21,     21,2,19821213,0550, 13.9117, -49.6900, 4509, 4115.5,   4119.5,   2.1361,  34.8733,2,  34.8740,2,   -999.0,9,  1.7846,    255.9,2,    46.03,2,    21.50,2,     0.00,2,     1.49,2, -999.000,9,   -999.0,9,  -999.0,9,-999.000,9,-999.000,9
  316N198212_1, ATAS1,    19,  1,     22,     22,2,19821213,0550, 13.9117, -49.6900, 4509, 4267.4,   4272.2,   2.0321,  34.8607,2,  34.8600,2,   -999.0,9,  1.6662,    254.2,2,    50.82,2,    22.18,2,     0.00,2,     1.53,2, -999.000,9,   -999.0,9,  -999.0,9,-999.000,9,-999.000,9
  316N198212_1, ATAS1,    19,  1,     23,     23,2,19821213,0550, 13.9117, -49.6900, 4509, 4418.1,   4423.6,   1.9491,  34.8502,2,  34.8510,2,   -999.0,9,  1.5681,    251.1,2,    55.51,2,    22.77,2,     0.00,2,     1.58,2, -999.000,9,   -999.0,9,  4425.0,2,-999.000,9,   1.952,2
  316N198212_1, ATAS1,    20,  2,      1,      1,2,19821213,2339, 12.6750, -49.6550, 4884,   16.5,      1.0,  26.9499,  35.3770,2,  35.3740,2,   -999.0,9, 26.9497,    203.4,2,     2.15,2,     0.05,2,     0.00,2,     0.02,2, -999.000,9,   -999.0,9,  -999.0,9,-999.000,9,  26.953,2
  316N198212_1, ATAS1,    20,  2,      2,      2,2,19821213,2339, 12.6750, -49.6550, 4884,   25.7,     11.0,  26.9509,  35.3767,2,  35.3730,2,   -999.0,9, 26.9484,    203.9,2,     2.15,2,     0.05,2,     0.00,2,     0.02,2,    1.640,2,   1958.0,2,  -999.0,9,   0.080,2,-999.000,9
  316N198212_1, ATAS1,    20,  2,      3,      3,2,19821213,2339, 12.6750, -49.6550, 4884,   75.4,     60.0,  27.2309,  36.4646,2,  36.4770,2,   -999.0,9, 27.2170,    207.2,2,     0.98,2,     0.05,2,     0.00,2,     0.03,2,    1.760,2,   2006.0,2,  -999.0,9,   0.080,2,-999.000,9
  316N198212_1, ATAS1,    20,  2,      4,      4,2,19821213,2339, 12.6750, -49.6550, 4884,  105.4,     92.0,  24.4149,  36.8809,2,  36.8860,2,   -999.0,9, 24.3952,    203.5,2,     0.68,2,     0.11,2,     0.16,2,     0.04,2,    2.250,2,   2063.0,2,  -999.0,9,   0.100,2,-999.000,9
  316N198212_1, ATAS1,    20,  2,      5,      5,2,19821213,2339, 12.6750, -49.6550, 4884,  164.9,    154.0,  16.9591,  36.1017,2,  36.0950,2,   -999.0,9, 16.9335,    116.2,2,     5.08,2,    15.72,2,     0.02,2,     0.96,2,    2.190,2,   2168.0,2,  -999.0,9,   0.100,2,-999.000,9
  316N198212_1, ATAS1,    20,  2,      6,      6,2,19821213,2339, 12.6750, -49.6550, 4884,  264.2,    255.0,  13.2562,  35.6286,2,  35.6340,2,   -999.0,9, 13.2203,     98.3,2,     8.30,2,    22.86,2,     0.01,2,     1.39,2,    1.630,2,   2194.0,2,  -999.0,9,   0.080,2,-999.000,9
  316N198212_1, ATAS1,    20,  2,      7,      7,2,19821213,2339, 12.6750, -49.6550, 4884,  359.9,    352.0,  11.0002,  35.2808,2,  35.2840,2,   -999.0,9, 10.9563,     96.1,2,    11.72,2,    27.06,2,     0.00,2,     1.66,2,    0.990,2,   2200.0,2,  -999.0,9,   0.060,2,-999.000,9
  316N198212_1, ATAS1,    20,  2,      8,      8,2,19821213,2339, 12.6750, -49.6550, 4884,  461.1,    454.0,   9.3512,  35.0444,2,  35.0470,2,   -999.0,9,  9.3000,     94.8,2,    15.34,2,    30.68,2,     0.00,2,     1.91,2,    0.430,2,   2215.0,2,   453.0,2,   0.050,2,   9.347,2
  316N198212_1, ATAS1,    20,  2,      9,      9,2,19821213,2339, 12.6750, -49.6550, 4884,  583.9,    570.5,   7.8983,  34.8695,2,  34.8680,2,   -999.0,9,  7.8397,     99.1,2,    19.35,2,    33.52,2,     0.00,2,     2.11,2,    0.080,2,   2220.0,2,  -999.0,9,   0.050,2,-999.000,9
  316N198212_1, ATAS1,    20,  2,     10,     10,2,19821213,2339, 12.6750, -49.6550, 4884,  734.3,    721.4,   6.6003,  34.7578,2,  34.7550,2,   -999.0,9,  6.5326,    107.4,2,    23.55,2,    34.79,2,     0.01,2,     2.25,2,   -0.090,2,   2230.0,2,  -999.0,9,   0.050,2,-999.000,9
  316N198212_1, ATAS1,    20,  2,     11,     11,2,19821213,2339, 12.6750, -49.6550, 4884,  911.1,    898.6,   5.7293,  34.7525,2,  34.7500,2,   -999.0,9,  5.6498,    124.3,2,    26.29,2,    34.01,2,     0.00,2,     2.25,2, -999.000,9,   -999.0,9,   907.0,2,-999.000,9,   5.716,2
  316N198212_1, ATAS1,    20,  2,     12,     12,2,19821213,2339, 12.6750, -49.6550, 4884, 1010.2,    997.9,   5.4463,  34.7948,2,  34.7930,2,   -999.0,9,  5.3593,    137.8,2,    26.39,2,    32.55,2,     0.00,2,     2.16,2, -999.000,9,   -999.0,9,  -999.0,9,-999.000,9,-999.000,9
  316N198212_1, ATAS1,    20,  2,     13,     13,2,19821213,2339, 12.6750, -49.6550, 4884, 1258.2,   1246.6,   4.8873,  34.9388,2,  34.9390,2,   -999.0,9,  4.7814,    192.9,2,    21.40,2,    25.41,2,     0.00,2,     1.71,2, -999.000,9,   -999.0,9,  -999.0,9,-999.000,9,-999.000,9
  316N198212_1, ATAS1,    20,  2,     14,     14,2,19821213,2339, 12.6750, -49.6550, 4884, 1558.7,   1547.8,   4.2863,  34.9881,2,  34.9890,2,   -999.0,9,  4.1584,    233.8,2,    17.69,2,    21.21,2,     0.00,2,     1.43,2, -999.000,9,   -999.0,9,  -999.0,9,-999.000,9,-999.000,9
  316N198212_1, ATAS1,    20,  2,     15,     15,2,19821213,2339, 12.6750, -49.6550, 4884, 1860.7,   1851.2,   3.7333,  34.9828,2,  34.9810,2,   -999.0,9,  3.5839,    256.4,2,    17.10,2,    19.25,2,     0.00,2,     1.30,2, -999.000,9,   -999.0,9,  -999.0,9,-999.000,9,-999.000,9
  316N198212_1, ATAS1,    20,  2,     16,     16,2,19821213,2339, 12.6750, -49.6550, 4884, 2265.4,   2257.8,   3.2413,  34.9618,2,  34.9600,2,   -999.0,9,  3.0607,    258.5,2,    21.89,2,    19.35,2,     0.00,2,     1.34,2, -999.000,9,   -999.0,9,  -999.0,9,-999.000,9,-999.000,9
  316N198212_1, ATAS1,    20,  2,     17,     17,2,19821213,2339, 12.6750, -49.6550, 4884, 2763.2,   2757.7,   2.8614,  34.9382,2,  34.9400,2,   -999.0,9,  2.6384,    255.9,2,    29.51,2,    20.23,2,     0.00,2,     1.39,2, -999.000,9,   -999.0,9,  2771.0,2,-999.000,9,   2.864,2
  316N198212_1, ATAS1,    20,  2,     18,     18,2,19821213,2339, 12.6750, -49.6550, 4884, 3258.3,   3255.0,   2.5944,  34.9185,2,  34.9160,2,   -999.0,9,  2.3259,    255.5,2,    34.99,2,    20.62,2,     0.00,2,     1.42,2, -999.000,9,   -999.0,9,  -999.0,9,-999.000,9,-999.000,9
  316N198212_1, ATAS1,    20,  2,     19,     19,2,19821213,2339, 12.6750, -49.6550, 4884, 3765.9,   3765.0,   2.3424,  34.8958,2,  34.8950,2,   -999.0,9,  2.0250,    258.1,2,    39.87,2,    20.82,2,     0.00,2,     1.45,2, -999.000,9,   -999.0,9,  3767.0,2,-999.000,9,   2.337,2
  316N198212_1, ATAS1,    20,  2,     20,     20,2,19821213,2339, 12.6750, -49.6550, 4884, 4277.5,   4278.8,   2.0394,  34.8653,2,  34.8660,2,   -999.0,9,  1.6724,    255.9,2,    48.57,2,    21.79,2,     0.00,2,     1.51,2, -999.000,9,   -999.0,9,  -999.0,9,-999.000,9,-999.000,9
  316N198212_1, ATAS1,    20,  2,     21,     21,2,19821213,2339, 12.6750, -49.6550, 4884, 4481.0,   4483.3,   1.8354,  34.8384,2,  34.8400,2,   -999.0,9,  1.4509,    249.8,2,    60.50,2,    23.36,2,     0.00,2,     1.62,2, -999.000,9,   -999.0,9,  -999.0,9,-999.000,9,-999.000,9
  316N198212_1, ATAS1,    20,  2,     22,     22,2,19821213,2339, 12.6750, -49.6550, 4884, 4682.8,   4685.9,   1.7534,  34.8265,2,  34.8280,2,   -999.0,9,  1.3476,    247.6,2,    64.11,2,    24.04,2,     0.00,2,     1.66,2, -999.000,9,   -999.0,9,  -999.0,9,-999.000,9,-999.000,9
  316N198212_1, ATAS1,    20,  2,     23,     23,2,19821213,2339, 12.6750, -49.6550, 4884, 4867.3,   4871.3,   1.7514,  34.8235,2,  34.8230,2,   -999.0,9,  1.3234,    246.3,2,    66.75,2,    24.34,2,     0.00,2,     1.69,2, -999.000,9,   -999.0,9,  4878.0,2,-999.000,9,   1.756,2