BOTTLE,20060405WHPSIOdm
EXPOCODE,SECT_ID,STNNBR,CASTNO,SAMPNO,BTLNBR,BTLNBR_FLAG_W,DATE,TIME,LATITUDE,LONGITUDE,DEPTH,CTDRAW,CTDPRS,CTDTMP,CTDSAL,CTDSAL_FLAG_W,SALNTY,SALNTY_FLAG_W,CTDOXY,CTDOXY_FLAG_W,THETA,OXYGEN,OXYGEN_FLAG_W,SILCAT,SILCAT_FLAG_W,NITRAT,NITRAT_FLAG_W,NITRIT,NITRIT_FLAG_W,PHSPHT,PHSPHT_FLAG_W,TRITUM,TRITUM_FLAG_W,TCARBN,TCARBN_FLAG_W,REVPRS,REVPRS_FLAG_W,TRITER,TRITER_FLAG_W,REVTMP,REVTMP_FLAG_W
,,,,,,,,,,,,,DBAR,ITS-90,PSS-78,,PSS-78,,UMOL/KG,,DEG C,UMOL/KG,,UMOL/KG,,UMOL/KG,,UMOL/KG,,UMOL/KG,,UMOL/KG,,UMOL/KG,,DBAR,,TU,,ITS-90,
  316N198212_1, ATAS1,    21,  1,      1,      1,2,19821214,1309, 11.5383, -49.5883, 4944,   25.3,     10.0,  27.1121,  35.6311,2,  35.6280,2,   -999.0,9, 27.1098,    203.0,2,     1.86,2,     0.06,2,     0.00,2,     0.03,2,    1.470,2,   1975.0,2,  -999.0,9,   0.080,2,  27.117,2
  316N198212_1, ATAS1,    21,  1,      2,      2,2,19821214,1309, 11.5383, -49.5883, 4944,   78.4,     63.0,  27.1811,  36.1039,2,  36.1620,2,   -999.0,9, 27.1665,    205.9,2,     1.17,2,     0.06,2,     0.00,2,     0.03,2, -999.000,9,   -999.0,9,  -999.0,9,-999.000,9,-999.000,9
  316N198212_1, ATAS1,    21,  1,      3,      3,2,19821214,1309, 11.5383, -49.5883, 4944,   98.6,     85.0,  24.4792,  36.8475,2,  36.8610,2,   -999.0,9, 24.4609,    199.1,2,     0.88,2,     0.06,2,     0.05,2,     0.03,2,    1.940,2,   2057.0,2,  -999.0,9,   0.110,2,-999.000,9
  316N198212_1, ATAS1,    21,  1,      4,      4,2,19821214,1309, 11.5383, -49.5883, 4944,  134.3,    121.0,  18.7873,  36.3945,2,  36.4010,2,   -999.0,9, 18.7657,    128.8,2,     3.22,2,    11.71,2,     0.04,2,     0.70,2,    1.950,2,   2155.0,2,  -999.0,9,   0.100,2,-999.000,9
  316N198212_1, ATAS1,    21,  1,      5,      5,2,19821214,1309, 11.5383, -49.5883, 4944,  214.4,    203.0,  13.5814,  35.6342,2,  35.6370,2,   -999.0,9, 13.5524,    109.2,2,     8.01,2,    21.59,2,     0.01,2,     1.31,2, -999.000,9,   -999.0,9,  -999.0,9,-999.000,9,-999.000,9
  316N198212_1, ATAS1,    21,  1,      6,      6,2,19821214,1309, 11.5383, -49.5883, 4944,  314.2,    304.0,  10.7214,  35.1845,2,  35.1840,2,   -999.0,9, 10.6843,   -999.0,9,    12.12,2,    26.67,2,     0.00,2,     1.66,2, -999.000,9,   -999.0,9,  -999.0,9,-999.000,9,-999.000,9
  316N198212_1, ATAS1,    21,  1,      7,      7,2,19821214,1309, 11.5383, -49.5883, 4944,  413.2,    403.0,   9.3975,  35.0046,2,  35.0060,2,   -999.0,9,  9.3520,    107.8,2,    14.76,2,    29.32,2,     0.00,2,     1.83,2,    0.530,2,   2199.0,2,  -999.0,9,   0.070,2,-999.000,9
  316N198212_1, ATAS1,    21,  1,      8,      8,2,19821214,1309, 11.5383, -49.5883, 4944,  512.7,    499.6,   8.2485,  34.8703,2,  34.8690,2,   -999.0,9,  8.1961,    107.0,2,    17.79,2,    32.05,2,     0.00,2,     2.01,2, -999.000,9,   -999.0,9,   503.0,2,-999.000,9,   8.228,2
  316N198212_1, ATAS1,    21,  1,      9,      9,2,19821214,1309, 11.5383, -49.5883, 4944,  612.3,    599.3,   7.3835,  34.8106,2,  34.8090,2,   -999.0,9,  7.3242,    101.7,2,    20.62,2,    34.11,2,     0.00,2,     2.16,2, -999.000,9,   -999.0,9,  -999.0,9,-999.000,9,-999.000,9
  316N198212_1, ATAS1,    21,  1,     10,     10,2,19821214,1309, 11.5383, -49.5883, 4944,  712.1,    699.6,   6.6565,  34.7464,2,  34.7530,2,   -999.0,9,  6.5907,    107.4,2,    23.26,2,    34.89,2,     0.00,2,     2.22,2, -999.000,9,   -999.0,9,  -999.0,9,-999.000,9,-999.000,9
  316N198212_1, ATAS1,    21,  1,     11,     11,2,19821214,1309, 11.5383, -49.5883, 4944,  811.4,    799.7,   6.0965,  34.7293,2,  34.7280,2,   -999.0,9,  6.0241,    114.8,2,    25.22,2,    35.09,2,     0.00,2,     2.26,2, -999.000,9,   -999.0,9,   799.0,2,-999.000,9,   6.114,2
  316N198212_1, ATAS1,    21,  1,     12,     12,2,19821214,1309, 11.5383, -49.5883, 4944,  909.1,    898.0,   5.6815,  34.7398,2,  34.7400,2,   -999.0,9,  5.6024,    124.8,2,    26.49,2,    34.21,2,     0.00,2,     2.24,2, -999.000,9,   -999.0,9,  -999.0,9,-999.000,9,-999.000,9
  316N198212_1, ATAS1,    21,  1,     13,     13,2,19821214,1309, 11.5383, -49.5883, 4944, 1008.9,    998.4,   5.2525,  34.7886,2,  34.7900,2,   -999.0,9,  5.1670,    145.6,2,    26.00,2,    31.86,2,     0.00,2,     2.10,2, -999.000,9,   -999.0,9,  -999.0,9,-999.000,9,-999.000,9
  316N198212_1, ATAS1,    21,  1,     14,     14,2,19821214,1309, 11.5383, -49.5883, 4944, 1109.0,   1099.0,   5.1215,  34.8476,2,  34.8480,2,   -999.0,9,  5.0276,    161.7,2,    24.53,2,    29.61,2,     0.00,2,     1.95,2, -999.000,9,   -999.0,9,  -999.0,9,-999.000,9,-999.000,9
  316N198212_1, ATAS1,    21,  1,     15,     15,2,19821214,1309, 11.5383, -49.5883, 4944, 1207.0,   1197.6,   4.9845,  34.9074,2,  34.9070,2,   -999.0,9,  4.8824,    180.8,2,    22.28,2,    26.97,2,     0.00,2,     1.79,2, -999.000,9,   -999.0,9,  -999.0,9,-999.000,9,-999.000,9
  316N198212_1, ATAS1,    21,  1,     16,     16,2,19821214,1309, 11.5383, -49.5883, 4944, 1303.3,   1294.4,   4.8015,  34.9551,2,  34.9540,2,   -999.0,9,  4.6920,    199.9,2,    20.33,2,    24.63,2,     0.00,2,     1.63,2, -999.000,9,   -999.0,9,  -999.0,9,-999.000,9,-999.000,9
  316N198212_1, ATAS1,    21,  1,     17,     17,2,19821214,1309, 11.5383, -49.5883, 4944, 1398.8,   1390.5,   4.5705,  34.9793,2,  34.9810,2,   -999.0,9,  4.4542,    219.0,2,    18.27,2,    22.48,2,     0.00,2,     1.49,2, -999.000,9,   -999.0,9,  1396.0,2,-999.000,9,   4.576,2
  316N198212_1, ATAS1,    21,  1,     18,     18,2,19821214,1309, 11.5383, -49.5883, 4944, 1498.6,   1491.0,   4.3035,  34.9899,2,  34.9900,2,   -999.0,9,  4.1807,    235.9,2,    17.00,2,    20.91,2,     0.00,2,     1.39,2, -999.000,9,   -999.0,9,  -999.0,9,-999.000,9,-999.000,9
  316N198212_1, ATAS1,    21,  1,     19,     19,2,19821214,1309, 11.5383, -49.5883, 4944, 1599.8,   1592.7,   4.0966,  34.9896,2,  34.9910,2,   -999.0,9,  3.9666,    245.9,2,    16.42,2,    20.03,2,     0.00,2,     1.33,2, -999.000,9,   -999.0,9,  1592.0,2,-999.000,9,   4.094,2
  316N198212_1, ATAS1,    21,  1,     20,     20,2,19821214,1309, 11.5383, -49.5883, 4944, 1697.5,   1691.0,   3.8926,  34.9842,2,  34.9840,2,   -999.0,9,  3.7560,    249.8,2,    17.20,2,    19.74,2,     0.00,2,     1.32,2, -999.000,9,   -999.0,9,  -999.0,9,-999.000,9,-999.000,9
  316N198212_1, ATAS1,    21,  1,     21,     21,2,19821214,1309, 11.5383, -49.5883, 4944, 1796.6,   1790.6,   3.7406,  34.9824,2,  34.9840,2,   -999.0,9,  3.5967,    257.2,2,    16.32,2,    19.06,2,     0.00,2,     1.26,2, -999.000,9,   -999.0,9,  -999.0,9,-999.000,9,-999.000,9
  316N198212_1, ATAS1,    21,  1,     22,     22,2,19821214,1309, 11.5383, -49.5883, 4944, 1897.8,   1892.4,   3.6076,  34.9786,2,-999.0000,9,   -999.0,9,  3.4560,   -999.0,9,  -999.00,9,  -999.00,9,  -999.00,9,  -999.00,9, -999.000,9,   -999.0,9,  -999.0,9,-999.000,9,-999.000,9
  316N198212_1, ATAS1,    21,  1,     23,     23,2,19821214,1309, 11.5383, -49.5883, 4944, 2000.3,   1995.4,   3.4636,  34.9728,2,  34.9730,2,   -999.0,9,  3.3044,    260.7,2,    18.27,2,    18.96,2,     0.00,2,     1.26,2, -999.000,9,   -999.0,9,  1998.0,2,-999.000,9,   3.460,2
  316N198212_1, ATAS1,    22,  1,      1,      1,2,19821214,0102, 10.3033, -49.5700, 4874,   25.9,     10.0,  26.8473,  35.6674,2,  35.6620,2,   -999.0,9, 26.8451,    202.5,2,     2.15,2,     0.04,2,     0.00,2,     0.11,2,    1.500,2,   -999.0,9,  -999.0,9,   0.100,2,  26.843,2
  316N198212_1, ATAS1,    22,  1,      2,      2,2,19821214,0102, 10.3033, -49.5700, 4874,   70.1,     55.0,  26.3504,  36.1740,2,  36.1960,2,   -999.0,9, 26.3379,    195.4,2,     1.46,2,     0.04,2,     0.00,2,     0.15,2,    1.500,2,   2038.0,2,  -999.0,9,   0.080,2,-999.000,9
  316N198212_1, ATAS1,    22,  1,      3,      3,2,19821214,0102, 10.3033, -49.5700, 4874,   95.7,     82.0,  23.3424,  36.6755,2,  36.6840,2,   -999.0,9, 23.3254,    181.2,2,     1.27,2,     0.20,2,     0.23,2,     0.07,2,    1.980,2,   2078.0,2,  -999.0,9,   0.100,2,-999.000,9
  316N198212_1, ATAS1,    22,  1,      4,      4,2,19821214,0102, 10.3033, -49.5700, 4874,  151.0,    138.0,  17.4795,  36.1976,2,  36.1940,2,   -999.0,9, 17.4561,    121.0,2,     4.49,2,    14.55,2,     0.02,2,     0.88,2, -999.000,9,   -999.0,9,  -999.0,9,-999.000,9,-999.000,9
  316N198212_1, ATAS1,    22,  1,      5,      5,2,19821214,0102, 10.3033, -49.5700, 4874,  219.7,    208.0,  13.0166,  35.5596,2,  35.5520,2,   -999.0,9, 12.9878,    109.2,2,     8.79,2,    22.37,2,     0.00,2,     1.39,2,    1.480,2,   -999.0,9,  -999.0,9,   0.080,2,-999.000,9
  316N198212_1, ATAS1,    22,  1,      6,      6,2,19821214,0102, 10.3033, -49.5700, 4874,  300.8,    288.0,  10.7166,  35.2037,2,  35.1870,2,   -999.0,9, 10.6815,    108.3,2,    12.51,2,    26.48,2,     0.00,2,     1.67,2,    0.785,2,   2200.0,2,  -999.0,9,   0.049,2,-999.000,9
  316N198212_1, ATAS1,    22,  1,      7,      7,2,19821214,0102, 10.3033, -49.5700, 4874,  376.1,    363.8,   9.2987,  34.9925,2,  34.9890,2,   -999.0,9,  9.2580,    112.6,2,    15.34,2,    28.83,2,     0.00,2,     1.84,2,    0.385,2,   2190.0,2,  -999.0,9,   0.033,2,-999.000,9
  316N198212_1, ATAS1,    22,  1,      8,      8,2,19821214,0102, 10.3033, -49.5700, 4874,  449.8,    437.7,   8.2517,  34.8477,2,  34.8460,2,   -999.0,9,  8.2060,    117.0,2,    17.59,2,    30.59,2,     0.00,2,     1.97,2,    0.140,2,   2209.0,2,   441.0,2,   0.024,2,   8.246,2
  316N198212_1, ATAS1,    22,  1,      9,      9,2,19821214,0102, 10.3033, -49.5700, 4874,  547.7,    535.9,   7.0657,  34.7190,2,  34.7140,2,   -999.0,9,  7.0143,    121.7,2,    21.50,2,    32.74,2,     0.00,2,     2.13,2,    0.088,2,   2205.0,2,  -999.0,9,   0.028,2,-999.000,9
  316N198212_1, ATAS1,    22,  1,     10,     10,2,19821214,0102, 10.3033, -49.5700, 4874,  700.0,    688.4,   6.3357,  34.7249,2,  34.7270,2,   -999.0,9,  6.2727,    114.8,2,    24.53,2,    34.40,2,     0.00,2,     2.25,2, -999.000,9,   -999.0,9,  -999.0,9,-999.000,9,-999.000,9
  316N198212_1, ATAS1,    22,  1,     11,     11,2,19821214,0102, 10.3033, -49.5700, 4874,  849.8,    838.5,   5.6487,  34.7269,2,  34.7240,2,   -999.0,9,  5.5754,    126.5,2,    27.27,2,    34.11,2,     0.00,2,     2.26,2,    0.010,2,   2218.0,2,   845.0,2,   0.060,2,   5.648,2
  316N198212_1, ATAS1,    22,  1,     12,     12,2,19821214,0102, 10.3033, -49.5700, 4874, 1001.3,    990.3,   5.1278,  34.7713,2,  34.7700,2,   -999.0,9,  5.0439,    126.5,2,    27.07,2,    31.28,2,     0.00,2,     2.09,2, -999.000,9,   -999.0,9,  -999.0,9,-999.000,9,-999.000,9
  316N198212_1, ATAS1,    22,  1,     13,     13,2,19821214,0102, 10.3033, -49.5700, 4874, 1150.6,   1139.8,   5.0228,  34.8863,2,  34.8870,2,   -999.0,9,  4.9258,    181.7,2,    23.45,2,    26.97,2,     0.00,2,     1.82,2, -999.000,9,   -999.0,9,  -999.0,9,-999.000,9,-999.000,9
  316N198212_1, ATAS1,    22,  1,     14,     14,2,19821214,0102, 10.3033, -49.5700, 4874, 1301.5,   1291.3,   4.8308,  34.9751,2,  34.9750,2,   -999.0,9,  4.7212,    212.1,2,    19.25,2,    22.96,2,     0.00,2,     1.54,2, -999.000,9,   -999.0,9,  -999.0,9,-999.000,9,-999.000,9
  316N198212_1, ATAS1,    22,  1,     15,     15,2,19821214,0102, 10.3033, -49.5700, 4874, 1450.9,   1441.1,   4.4988,  34.9961,2,  34.9950,2,   -999.0,9,  4.3784,    230.7,2,    17.49,2,    21.11,2,     0.00,2,     1.43,2, -999.000,9,   -999.0,9,  -999.0,9,-999.000,9,-999.000,9
  316N198212_1, ATAS1,    22,  1,     16,     16,2,19821214,0102, 10.3033, -49.5700, 4874, 1651.6,   1642.3,   4.0578,  34.9948,2,  34.9930,2,   -999.0,9,  3.9237,    251.1,2,    16.12,2,    19.45,2,     0.00,2,     1.31,2, -999.000,9,   -999.0,9,  -999.0,9,-999.000,9,-999.000,9
  316N198212_1, ATAS1,    22,  1,     17,     17,2,19821214,0102, 10.3033, -49.5700, 4874, 1901.0,   1892.9,   3.6588,  34.9852,2,  34.9860,2,   -999.0,9,  3.5064,    260.3,2,    17.10,2,    18.76,2,     0.00,2,     1.26,2, -999.000,9,   -999.0,9,  1903.0,2,-999.000,9,   3.658,2
  316N198212_1, ATAS1,    22,  1,     18,     18,2,19821214,0102, 10.3033, -49.5700, 4874, 2250.7,   2244.2,   3.2808,  34.9679,2,  34.9660,2,   -999.0,9,  3.1008,    262.0,2,    20.42,2,    18.86,2,     0.00,2,     1.27,2, -999.000,9,   -999.0,9,  -999.0,9,-999.000,9,-999.000,9
  316N198212_1, ATAS1,    22,  1,     19,     19,2,19821214,0102, 10.3033, -49.5700, 4874, 2899.5,   2895.8,   2.7778,  34.9355,2,  34.9360,2,   -999.0,9,  2.5426,    256.3,2,    30.78,2,    20.23,2,     0.00,2,     1.36,2, -999.000,9,   -999.0,9,  2898.0,2,-999.000,9,   2.778,2
  316N198212_1, ATAS1,    22,  1,     20,     20,2,19821214,0102, 10.3033, -49.5700, 4874, 3651.6,   3651.3,   2.4498,  34.9113,2,  34.9100,2,   -999.0,9,  2.1421,    262.0,2,    33.13,2,    19.84,2,     0.00,2,     1.35,2, -999.000,9,   -999.0,9,  -999.0,9,-999.000,9,-999.000,9
  316N198212_1, ATAS1,    22,  1,     21,     21,2,19821214,0102, 10.3033, -49.5700, 4874, 4400.2,   4403.2,   2.2328,  34.8894,2,  34.8920,2,   -999.0,9,  1.8453,    263.3,2,    37.62,2,    20.13,2,     0.00,2,     1.38,2, -999.000,9,   -999.0,9,  -999.0,9,-999.000,9,-999.000,9
  316N198212_1, ATAS1,    22,  1,     22,     22,2,19821214,0102, 10.3033, -49.5700, 4874, 4650.4,   4654.6,   2.0868,  34.8688,2,  34.8680,2,   -999.0,9,  1.6739,    255.9,2,    48.18,2,    21.70,2,     0.00,2,     1.50,2, -999.000,9,   -999.0,9,  -999.0,9,-999.000,9,-999.000,9
  316N198212_1, ATAS1,    22,  1,     23,     23,2,19821214,0102, 10.3033, -49.5700, 4874, 4856.6,   4861.7,   1.8438,  34.8362,2,  34.8370,2,   -999.0,9,  1.4138,    247.2,2,    62.94,2,    23.94,2,     0.00,2,     1.64,2, -999.000,9,   -999.0,9,  4865.0,2,-999.000,9,   1.851,2
  316N198212_1, ATAS1,    23,  2,      1,      1,2,19821215,1728,  9.0400, -49.4333, 4625,   27.9,     11.0,  27.1426,  35.3745,2,  35.3840,2,   -999.0,9, 27.1400,    205.6,2,     2.54,2,     0.00,2,     0.00,2,     0.05,2,    1.460,2,   1956.0,2,  -999.0,9,   0.100,2,  27.141,2
  316N198212_1, ATAS1,    23,  2,      2,      2,2,19821215,1728,  9.0400, -49.4333, 4625,   83.5,     70.0,  24.5236,  36.6960,2,  36.6980,2,   -999.0,9, 24.5085,    200.9,2,     1.07,2,     0.00,2,     0.01,2,     0.04,2,    1.800,2,   2059.0,2,  -999.0,9,   0.090,2,-999.000,9
  316N198212_1, ATAS1,    23,  2,      3,      3,2,19821215,1728,  9.0400, -49.4333, 4625,  123.3,    111.0,  19.7417,  36.4816,2,  36.4890,2,   -999.0,9, 19.7212,    133.6,2,     3.03,2,     9.65,2,     0.04,2,     0.60,2,    2.340,2,   2143.0,2,  -999.0,9,   0.100,2,-999.000,9
  316N198212_1, ATAS1,    23,  2,      4,      4,2,19821215,1728,  9.0400, -49.4333, 4625,  162.9,    152.0,  16.2358,  36.0824,2,  36.1030,2,   -999.0,9, 16.2113,    125.7,2,     5.08,2,    15.52,2,     0.01,2,     0.95,2, -999.000,9,   -999.0,9,  -999.0,9,-999.000,9,-999.000,9
  316N198212_1, ATAS1,    23,  2,      5,      5,2,19821215,1728,  9.0400, -49.4333, 4625,  237.1,    228.0,  11.5949,  35.2976,2,  35.2990,2,   -999.0,9, 11.5656,    112.6,2,    10.94,2,    24.52,2,     0.00,2,     1.56,2,    0.860,2,   2170.0,2,  -999.0,9,   0.049,2,-999.000,9
  316N198212_1, ATAS1,    23,  2,      6,      6,2,19821215,1728,  9.0400, -49.4333, 4625,  309.3,    301.0,   9.7599,  35.0205,2,  35.0200,2,   -999.0,9,  9.7253,    120.5,2,    13.88,2,    27.17,2,     0.00,2,     1.76,2,    0.510,2,   2199.0,2,  -999.0,9,   0.033,2,-999.000,9
  316N198212_1, ATAS1,    23,  2,      7,      7,2,19821215,1728,  9.0400, -49.4333, 4625,  386.6,    376.0,   8.4499,  34.8436,2,  34.8450,2,   -999.0,9,  8.4102,    118.3,2,    16.91,2,    30.10,2,     0.00,2,     1.95,2,    0.230,2,   2205.0,2,  -999.0,9,   0.024,2,-999.000,9
  316N198212_1, ATAS1,    23,  2,      8,      8,2,19821215,1728,  9.0400, -49.4333, 4625,  461.5,    451.0,   7.7379,  34.7678,2,  34.7710,2,   -999.0,9,  7.6926,    119.6,2,    18.86,2,    31.67,2,     0.00,2,     2.05,2,    0.105,2,   2204.0,2,   452.0,2,   0.024,2,   7.732,2
  316N198212_1, ATAS1,    23,  2,      9,      9,2,19821215,1728,  9.0400, -49.4333, 4625,  562.1,    549.3,   6.5430,  34.6520,2,  34.6520,2,   -999.0,9,  6.4924,    126.1,2,    22.87,2,    33.62,2,     0.00,2,     2.20,2,   -0.006,2,   2211.0,2,  -999.0,9,   0.028,2,-999.000,9
  316N198212_1, ATAS1,    23,  2,     10,     10,2,19821215,1728,  9.0400, -49.4333, 4625,  661.9,    649.2,   5.9100,  34.6145,2,  34.6160,2,   -999.0,9,  5.8529,    130.9,2,    25.71,2,    34.21,2,     0.00,2,     2.26,2, -999.000,9,   -999.0,9,  -999.0,9,-999.000,9,-999.000,9
  316N198212_1, ATAS1,    23,  2,     11,     11,2,19821215,1728,  9.0400, -49.4333, 4625,  761.9,    749.9,   5.4210,  34.6015,2,  34.6000,2,   -999.0,9,  5.3573,    135.6,2,    27.96,2,    34.50,2,     0.00,2,     2.31,2, -999.000,9,   -999.0,9,   754.0,2,-999.000,9,   5.410,2
  316N198212_1, ATAS1,    23,  2,     12,     12,2,19821215,1728,  9.0400, -49.4333, 4625,  857.9,    846.6,   5.0810,  34.6077,2,  34.6080,2,   -999.0,9,  5.0107,    141.7,2,    29.62,2,    34.21,2,     0.00,2,     2.29,2, -999.000,9,   -999.0,9,  -999.0,9,-999.000,9,-999.000,9
  316N198212_1, ATAS1,    23,  2,     13,     13,2,19821215,1728,  9.0400, -49.4333, 4625,  957.5,    946.6,   4.9760,  34.6682,2,  34.6680,2,   -999.0,9,  4.8974,    147.8,2,    29.32,2,    33.13,2,     0.00,2,     2.23,2, -999.000,9,   -999.0,9,  -999.0,9,-999.000,9,-999.000,9
  316N198212_1, ATAS1,    23,  2,     14,     14,2,19821215,1728,  9.0400, -49.4333, 4625, 1057.8,   1047.4,   4.9600,  34.7625,2,  34.7630,2,   -999.0,9,  4.8722,    159.5,2,    27.07,2,    30.79,2,     0.00,2,     2.07,2, -999.000,9,   -999.0,9,  -999.0,9,-999.000,9,-999.000,9
  316N198212_1, ATAS1,    23,  2,     15,     15,2,19821215,1728,  9.0400, -49.4333, 4625, 1157.0,   1147.1,   5.0780,  34.8652,2,  34.8650,2,   -999.0,9,  4.9799,    177.3,2,    23.75,2,    27.66,2,     0.00,2,     1.87,2, -999.000,9,   -999.0,9,  -999.0,9,-999.000,9,-999.000,9
  316N198212_1, ATAS1,    23,  2,     16,     16,2,19821215,1728,  9.0400, -49.4333, 4625, 1254.6,   1245.2,   4.9450,  34.9281,2,  34.9290,2,   -999.0,9,  4.8387,    193.8,2,    21.40,2,    25.31,2,     0.00,2,     1.70,2, -999.000,9,   -999.0,9,  -999.0,9,-999.000,9,-999.000,9
  316N198212_1, ATAS1,    23,  2,     17,     17,2,19821215,1728,  9.0400, -49.4333, 4625, 1352.6,   1343.8,   4.7170,  34.9676,2,  34.9700,2,   -999.0,9,  4.6036,    216.4,2,    18.86,2,    22.77,2,     0.00,2,     1.54,2, -999.000,9,   -999.0,9,  1349.0,2,-999.000,9,   4.713,2
  316N198212_1, ATAS1,    23,  2,     18,     18,2,19821215,1728,  9.0400, -49.4333, 4625, 1451.3,   1443.1,   4.5220,  34.9841,2,  34.9830,2,   -999.0,9,  4.4012,    229.4,2,    17.49,2,    21.40,2,     0.00,2,     1.45,2, -999.000,9,   -999.0,9,  -999.0,9,-999.000,9,-999.000,9
  316N198212_1, ATAS1,    23,  2,     19,     19,2,19821215,1728,  9.0400, -49.4333, 4625, 1552.2,   1544.5,   4.3470,  34.9975,2,  34.9990,2,   -999.0,9,  4.2186,    245.5,2,    15.64,2,    19.93,2,     0.00,2,     1.33,2, -999.000,9,   -999.0,9,  1542.0,2,-999.000,9,   4.346,2
  316N198212_1, ATAS1,    23,  2,     20,     20,2,19821215,1728,  9.0400, -49.4333, 4625, 1698.0,   1691.2,   3.9930,  34.9854,2,  34.9880,2,   -999.0,9,  3.8552,    252.5,2,    16.32,2,    19.45,2,     0.00,2,     1.32,2, -999.000,9,   -999.0,9,  -999.0,9,-999.000,9,-999.000,9
  316N198212_1, ATAS1,    23,  2,     21,     21,2,19821215,1728,  9.0400, -49.4333, 4625, 1796.4,   1790.0,   3.8710,  34.9904,2,  34.9930,2,   -999.0,9,  3.7254,    262.4,2,    15.54,2,    18.66,2,     0.00,2,     1.25,2, -999.000,9,   -999.0,9,  -999.0,9,-999.000,9,-999.000,9
  316N198212_1, ATAS1,    23,  2,     22,     22,2,19821215,1728,  9.0400, -49.4333, 4625, 1895.7,   1890.0,   3.7000,  34.9815,2,  34.9830,2,   -999.0,9,  3.5474,    261.1,2,    16.71,2,    18.76,2,     0.00,2,     1.26,2, -999.000,9,   -999.0,9,  -999.0,9,-999.000,9,-999.000,9
  316N198212_1, ATAS1,    23,  2,     23,     23,2,19821215,1728,  9.0400, -49.4333, 4625, 1996.0,   1990.8,   3.5320,  34.9785,2,  34.9780,2,   -999.0,9,  3.3723,    263.3,2,    17.69,2,    18.66,2,     0.00,2,     1.26,2, -999.000,9,   -999.0,9,  1994.0,2,-999.000,9,   3.530,2