BOTTLE,20020819WHPSIO
EXPOCODE,SECT_ID,STNNBR,CASTNO,SAMPNO,BTLNBR,BTLNBR_FLAG_W,DATE,TIME,LATITUDE,LONGITUDE,DEPTH,CTDPRS,CTDTMP,CTDSAL,CTDSAL_FLAG_W,SALNTY,SALNTY_FLAG_W,CTDOXY,CTDOXY_FLAG_W,OXYGEN,OXYGEN_FLAG_W,REVPRS,THETA,CTDRAW,REVTMP
,,,,,,,,,,,,DBAR,ITS-90,PSS-78,,PSS-78,,UMOL/KG,,UMOL/KG,,DBAR,DEG C,,DEG C
     07AL991_3,   AR6,   365,  1,      1,      1,2,19910926,1921, 32.0000, -20.0000, 4508,   4340.3,   2.3650,  34.5450,1,  34.9000,2,   -999.0,9,   -999.0,9,  -999.0,  1.9830,  42574,-999.000
     07AL991_3,   AR6,   366,  1,      2,      3,2,19910927,0251, 32.5000, -20.0000, 4564,    643.5,  10.8240,  35.2360,1,  35.5140,2,   -999.0,9,   -999.0,9,  -999.0, 10.7414,   6283,  10.825
     07AL991_3,   AR6,   366,  1,      1,      1,2,19910927,0251, 32.5000, -20.0000, 4564,   1232.1,   7.7590,  35.2130,1,  35.5310,2,   -999.0,9,   -999.0,9,  1233.7,  7.6257,  12239,   7.760
     07AL991_3,   AR6,   367,  1,      2,      3,2,19910927,0758, 33.0000, -20.0000, 4630,    502.9,  12.3750,  35.4230,1,  35.6760,2,   -999.0,9,   -999.0,9,  -999.0, 12.3046,   4849,  12.315
     07AL991_3,   AR6,   367,  1,      1,      1,2,19910927,0758, 33.0000, -20.0000, 4630,   3392.4,   2.5750,  34.5790,1,  34.9300,2,   -999.0,9,   -999.0,9,  -999.0,  2.2936,  33512,   2.565
     07AL991_3,   AR6,   368,  1,      2,      3,2,19910927,1451, 33.5000, -20.0000, 4974,    726.3,  10.6580,  35.2640,1,  35.5400,2,   -999.0,9,   -999.0,9,  -999.0, 10.5655,   7125,  10.640
     07AL991_3,   AR6,   368,  1,      1,      1,2,19910927,1451, 33.5000, -20.0000, 4974,   1934.1,   4.8180,  34.8560,1,  35.1970,2,   -999.0,9,   -999.0,9,  1931.9,  4.6439,  19251,   4.810
     07AL991_3,   AR6,   369,  1,      2,      3,2,19910927,1948, 34.0000, -20.0000, 5178,      1.5,  23.4090,  36.6920,1,  36.8560,2,   -999.0,9,   -999.0,9,  -999.0, 23.4051,   -299,  23.380
     07AL991_3,   AR6,   369,  1,      1,      1,2,19910927,1948, 34.0000, -20.0000, 5178,   2348.5,   3.6000,  34.7070,1,  35.0430,2,   -999.0,9,   -999.0,9,  2340.7,  3.4041,  23345,   3.610
     07AL991_3,   AR6,   370,  1,      2,      3,2,19910928,0243, 34.5000, -20.0000, 5158,    540.1,  11.9670,  35.3540,1,  35.6180,2,   -999.0,9,   -999.0,9,  -999.0, 11.8931,   5229,  11.960
     07AL991_3,   AR6,   370,  1,      1,      1,2,19910928,0243, 34.5000, -20.0000, 5158,   1740.0,   5.3280,  34.9320,1,  35.2430,2,   -999.0,9,   -999.0,9,  1737.5,  5.1667,  17322,   5.260
     07AL991_3,   AR6,   371,  1,      2,      3,2,19910928,0738, 35.0000, -20.0000, 5222,      5.0,  23.3690,  36.5270,1,  36.6920,2,   -999.0,9,   -999.0,9,  -999.0, 23.3644,   -262,  23.350
     07AL991_3,   AR6,   371,  1,      1,      1,2,19910928,0738, 35.0000, -20.0000, 5222,   3383.1,   2.6000,  34.5900,1,  34.9330,2,   -999.0,9,   -999.0,9,  -999.0,  2.3189,  33422,   2.585
     07AL991_3,  AR16,   372,  1,      2,      3,2,19910928,1502, 35.5000, -20.0000, 5275,    967.3,   9.7330,  35.5090,1,  35.7890,2,   -999.0,9,   -999.0,9,  -999.0,  9.6152,   9568,   9.730
     07AL991_3,  AR16,   372,  1,      1,      1,2,19910928,1502, 35.5000, -20.0000, 5275,   1818.4,   4.5920,  34.8070,1,  35.1430,2,   -999.0,9,   -999.0,9,  1815.4,  4.4330,  18102,   4.570
     07AL991_3,  AR16,   373,  1,      2,      3,2,19910930,0711, 36.0000, -20.0000, 5275,      7.2,  22.0410,  36.4010,1,  36.5580,2,   -999.0,9,   -999.0,9,  -999.0, 22.0361,   -240,  22.040
     07AL991_3,  AR16,   373,  1,      1,      1,2,19910930,0711, 36.0000, -20.0000, 5275,   4571.8,   2.3940,  34.5590,1,  34.9160,2,   -999.0,9,   -999.0,9,  -999.0,  1.9833,  44763,   2.570
     07AL991_3,  AR16,   374,  1,      2,      3,2,19910930,1503, 36.5000, -20.0000, 5149,    695.4,  10.7880,  35.3230,1,  35.5690,2,   -999.0,9,   -999.0,9,  -999.0, 10.6988,   6811,  10.785
     07AL991_3,  AR16,   374,  1,      1,      1,2,19910930,1503, 36.5000, -20.0000, 5149,   1277.7,   9.3340,  35.6350,1,  35.9060,2,   -999.0,9,   -999.0,9,  1282.1,  9.1801,  12698,   9.345
     07AL991_3,  AR16,   375,  1,      2,      3,2,19910930,1955, 37.0000, -20.0000, 3782,    484.7,  11.7310,  35.3820,1,  35.6160,2,   -999.0,9,   -999.0,9,  -999.0, 11.6654,   4663,  11.710
     07AL991_3,  AR16,   375,  1,      1,      1,2,19910930,1955, 37.0000, -20.0000, 3782,   2411.9,   3.4880,  34.7020,1,  35.0140,2,   -999.0,9,   -999.0,9,  2414.5,  3.2878,  23968,   3.460
     07AL991_3,  AR16,   376,  1,      2,      3,2,19911001,0212, 37.5000, -20.0000, 4839,    940.0,   9.6720,  35.4690,1,  35.7210,2,   -999.0,9,   -999.0,9,  -999.0,  9.5581,   9292,   9.675
     07AL991_3,  AR16,   376,  1,      1,      1,2,19911001,0212, 37.5000, -20.0000, 4839,   1967.5,   4.3420,  34.7980,1,  35.1070,2,   -999.0,9,   -999.0,9,  1970.4,  4.1717,  19582,   4.330
     07AL991_3,  AR16,   377,  1,      2,      3,2,19911001,0647, 38.0000, -20.0000, 5135,      4.9,  21.5810,  36.2290,1,  36.3860,2,   -999.0,9,   -999.0,9,  -999.0, 21.5767,   -264,  21.570
     07AL991_3,  AR16,   377,  1,      1,      1,2,19911001,0647, 38.0000, -20.0000, 5135,   3462.6,   2.5850,  34.6140,1,  34.9310,2,   -999.0,9,   -999.0,9,  -999.0,  2.2956,  34189,-999.000
     07AL991_3,  AR16,   378,  1,      2,      3,2,19911001,1320, 38.5000, -20.0000, 4117,    241.7,  12.4030,  35.5290,1,  35.7510,2,   -999.0,9,   -999.0,9,  -999.0, 12.3683,   2174,  12.380
     07AL991_3,  AR16,   378,  1,      1,      1,2,19911001,1320, 38.5000, -20.0000, 4117,   1801.3,   4.3180,  34.7680,1,  35.0710,2,   -999.0,9,   -999.0,9,  -999.0,  4.1646,  17932,-999.000
     07AL991_3,  AR16,   379,  1,      2,      3,2,19911001,1817, 39.0000, -20.0000, 4712,    484.2,  11.8570,  35.4390,1,  35.6690,2,   -999.0,9,   -999.0,9,  -999.0, 11.7910,   4658,  11.850
     07AL991_3,  AR16,   379,  1,      1,      1,2,19911001,1817, 39.0000, -20.0000, 4712,   2314.1,   3.6860,  34.7230,1,  35.0220,2,   -999.0,9,   -999.0,9,  2322.9,  3.4919,  23006,   3.655
     07AL991_3,  AR16,   380,  1,      2,      3,2,19911002,0052, 39.5000, -20.0000, 4661,    678.0,  10.7580,  35.2770,1,  35.5170,2,   -999.0,9,   -999.0,9,  -999.0, 10.6712,   6634,  10.750
     07AL991_3,  AR16,   380,  1,      1,      1,2,19911002,0052, 39.5000, -20.0000, 4661,   1976.2,   4.1060,  34.7220,1,  35.0300,2,   -999.0,9,   -999.0,9,  1979.3,  3.9386,  19668,   4.080
     07AL991_3,  AR16,   381,  1,      2,      3,2,19911002,0524, 40.0000, -20.0000, 4752,      8.4,  21.4910,  36.1830,1,  36.3460,2,   -999.0,9,   -999.0,9,  -999.0, 21.4860,   -227,  21.480
     07AL991_3,  AR16,   381,  1,      1,      1,2,19911002,0524, 40.0000, -20.0000, 4752,   4642.7,   2.4800,  34.5860,1,  34.9060,2,   -999.0,9,   -999.0,9,  -999.0,  2.0577,  45432,   2.475
     07AL991_3,  AR16,   382,  1,      2,      3,2,19911002,1136, 40.0000, -19.5000, 4676,    755.1,  10.2880,  35.3130,1,  35.5620,2,   -999.0,9,   -999.0,9,  -999.0, 10.1938,   7418,  10.285
     07AL991_3,  AR16,   382,  1,      1,      1,2,19911002,1136, 40.0000, -19.5000, 4676,   1480.5,   6.2960,  35.0740,1,  35.3680,2,   -999.0,9,   -999.0,9,  1484.8,  6.1501,  14732,   6.315
     07AL991_3,  AR16,   383,  1,      2,      3,2,19911002,1520, 40.0000, -19.0000, 5322,    485.4,  11.7460,  35.4140,1,  35.6500,2,   -999.0,9,   -999.0,9,  -999.0, 11.6802,   4670,  11.730
     07AL991_3,  AR16,   383,  1,      1,      1,2,19911002,1520, 40.0000, -19.0000, 5322,   3472.6,   2.5890,  34.6100,1,  34.9300,2,   -999.0,9,   -999.0,9,  -999.0,  2.2984,  34285,   2.565
     07AL991_3,  AR16,   384,  1,      2,      3,2,19911002,2042, 40.0000, -18.5000, 4165,    963.2,   9.8570,  35.5360,1,  35.8000,2,   -999.0,9,   -999.0,9,  -999.0,  9.7388,   9527,   9.870
     07AL991_3,  AR16,   384,  1,      1,      1,2,19911002,2042, 40.0000, -18.5000, 4165,   1969.7,   3.9580,  34.7160,1,  35.0350,2,   -999.0,9,   -999.0,9,  1969.5,  3.7935,  19604,   3.920
     07AL991_3,  AR16,   385,  1,      2,      3,2,19911003,0033, 40.0000, -18.0000, 4740,      0.8,  20.9870,  36.0760,1,  36.2390,2,   -999.0,9,   -999.0,9,  -999.0, 20.9836,   -306,  20.970
     07AL991_3,  AR16,   385,  1,      1,      1,2,19911003,0033, 40.0000, -18.0000, 4740,   2339.0,   3.1410,  34.6650,1,  34.9750,2,   -999.0,9,   -999.0,9,  -999.0,  2.9543,  23251,-999.000
     07AL991_3,  AR16,   386,  1,      2,      3,2,19911003,0624, 40.0000, -17.5000, 4223,    747.6,  10.5640,  35.4790,1,  35.7390,2,   -999.0,9,   -999.0,9,  -999.0, 10.4690,   7341,  10.570
     07AL991_3,  AR16,   386,  1,      1,      1,2,19911003,0624, 40.0000, -17.5000, 4223,   1398.3,   5.8110,  34.9670,1,  35.2700,2,   -999.0,9,   -999.0,9,  1404.2,  5.6792,  13908,   5.810
     07AL991_3,  AR16,   387,  1,      2,      3,2,19911003,1023, 40.0000, -17.0000, 4223,    481.0,  11.3210,  35.3370,1,  35.5790,2,   -999.0,9,   -999.0,9,  -999.0, 11.2574,   4625,  11.305
     07AL991_3,  AR16,   387,  1,      1,      1,2,19911003,1023, 40.0000, -17.0000, 4223,   3506.8,   2.5900,  34.6040,1,  34.9300,2,   -999.0,9,   -999.0,9,  -999.0,  2.2957,  34614,   2.555
     07AL991_3,  AR16,   388,  1,      2,      3,2,19911003,1556, 40.0000, -16.5000, 4778,   1200.1,   9.3710,  35.6090,1,  35.8660,2,   -999.0,9,   -999.0,9,  -999.0,  9.2266,  11917,   9.360
     07AL991_3,  AR16,   388,  1,      1,      1,2,19911003,1556, 40.0000, -16.5000, 4778,   2021.3,   4.0140,  34.7390,1,  35.0560,2,   -999.0,9,   -999.0,9,  2026.7,  3.8435,  20115,   3.990
     07AL991_3,  AR16,   389,  1,      2,      3,2,19911004,0023, 40.0000, -16.0000, 5057,    787.3,  10.9300,  35.6320,1,  35.8940,2,   -999.0,9,   -999.0,9,  -999.0, 10.8277,   7745,  10.920
     07AL991_3,  AR16,   389,  1,      1,      1,2,19911004,0023, 40.0000, -16.0000, 5057,   2047.0,   3.9170,  34.7300,1,  35.0490,2,   -999.0,9,   -999.0,9,  2052.0,  3.7455,  20370,   3.905
     07AL991_3,  AR16,   390,  1,      2,      3,2,19911004,0705, 40.0000, -15.5000, 4163,    477.1,  11.0930,  35.3300,1,  35.5820,2,   -999.0,9,   -999.0,9,  -999.0, 11.0307,   4585,  11.070
     07AL991_3,  AR16,   390,  1,      1,      1,2,19911004,0705, 40.0000, -15.5000, 4163,   1107.0,  10.1290,  35.7510,1,  36.0140,2,   -999.0,9,   -999.0,9,  1102.3,  9.9900,  10979,  10.150
     07AL991_3,  AR16,   391,  1,      2,      3,2,19911004,1150, 40.0000, -15.0000, 5369,      4.0,  20.6230,  36.0510,1,  36.2330,2,   -999.0,9,   -999.0,9,  -999.0, 20.6190,   -273,  20.620
     07AL991_3,  AR16,   391,  1,      1,      1,2,19911004,1150, 40.0000, -15.0000, 5369,   4172.6,   2.4790,  34.5810,1,  34.9120,2,   -999.0,9,   -999.0,9,  -999.0,  2.1129,  40982,   2.480
     07AL991_3,  AR16,   392,  1,      2,      3,2,19911004,1833, 40.0000, -14.6667, 5292,    642.8,  11.2430,  35.5880,1,  35.8480,2,   -999.0,9,   -999.0,9,  -999.0, 11.1582,   6275,  11.235
     07AL991_3,  AR16,   392,  1,      1,      1,2,19911004,1833, 40.0000, -14.6667, 5292,   1944.0,   4.3590,  34.7900,1,  35.1250,2,   -999.0,9,   -999.0,9,  1936.4,  4.1908,  19349,   4.370
     07AL991_3,  AR16,   393,  1,      2,      3,2,19911004,2156, 40.0000, -14.3333, 4570,    448.2,  11.3670,  35.3420,1,  35.3940,2,   -999.0,9,   -999.0,9,  -999.0, 11.3075,   4290,  11.340
     07AL991_3,  AR16,   393,  1,      1,      1,2,19911004,2156, 40.0000, -14.3333, 4570,   1268.0,  10.3160,  35.8770,1,  36.1460,2,   -999.0,9,   -999.0,9,  1273.3, 10.1541,  12600,  10.310
     07AL991_3,  AR16,   394,  1,      2,      3,2,19911005,0120, 40.0000, -14.0000, 4870,      2.1,  20.0380,  35.9060,1,  36.1040,2,   -999.0,9,   -999.0,9,  -999.0, 20.0345,   -292,-999.000
     07AL991_3,  AR16,   394,  1,      1,      1,2,19911005,0120, 40.0000, -14.0000, 4870,   3483.9,   2.6240,  34.6020,1,  34.9340,2,   -999.0,9,   -999.0,9,  -999.0,  2.3313,  34394,   2.610
     07AL991_3,  AR16,   395,  1,      2,      3,2,19911005,0701, 40.0000, -13.6667, 5352,    629.9,  10.4630,  35.2870,1,  35.5530,2,   -999.0,9,   -999.0,9,  -999.0, 10.3837,   6144,  10.400
     07AL991_3,  AR16,   395,  1,      1,      1,2,19911005,0701, 40.0000, -13.6667, 5352,   1927.1,   4.8440,  34.8550,1,  35.1820,2,   -999.0,9,   -999.0,9,  1918.2,  4.6702,  19182,   4.815
     07AL991_3,  AR16,   396,  1,      2,      3,2,19911005,1033, 40.0000, -13.3333, 5422,    377.8,  11.5770,  35.3710,1,  35.6350,2,   -999.0,9,   -999.0,9,  -999.0, 11.5261,   3570,  11.545
     07AL991_3,  AR16,   396,  1,      1,      1,2,19911005,1033, 40.0000, -13.3333, 5422,   1100.3,  11.0330,  35.9160,1,  36.1860,2,   -999.0,9,   -999.0,9,  1096.4, 10.8876,  10912,  11.065
     07AL991_3,  AR16,   397,  1,      2,      3,2,19911005,1403, 40.0000, -13.0000, 5327,    794.1,  10.9670,  35.5960,1,  35.8950,2,   -999.0,9,   -999.0,9,  -999.0, 10.8636,   7814,  10.960
     07AL991_3,  AR16,   397,  1,      1,      1,2,19911005,1403, 40.0000, -13.0000, 5327,   2152.6,   3.7980,  34.7030,1,  35.0340,2,   -999.0,9,   -999.0,9,  2158.7,  3.6182,  21414,   3.785
     07AL991_3,  AR16,   398,  1,      2,      3,2,19911005,1931, 40.0000, -12.6667, 5279,    658.4,  10.6960,  35.3820,1,  35.6600,2,   -999.0,9,   -999.0,9,  -999.0, 10.6119,   6434,  10.690
     07AL991_3,  AR16,   398,  1,      1,      1,2,19911005,1931, 40.0000, -12.6667, 5279,   1919.6,   4.2620,  34.7460,1,  35.0840,2,   -999.0,9,   -999.0,9,  1909.5,  4.0978,  19107,   4.260
     07AL991_3,  AR16,   399,  1,      1,      1,2,19911005,2257, 40.0000, -12.3333, 5229,   1145.8,  11.0250,  35.9810,1,  36.0880,2,   -999.0,9,   -999.0,9,  -999.0, 10.8734,  11370,-999.000
     07AL991_3,  AR16,   400,  1,      2,      3,2,19911006,1950, 40.0000, -12.0000, 5183,      3.8,  19.7230,  35.8810,1,  36.0990,2,   -999.0,9,   -999.0,9,  -999.0, 19.7192,   -275,  19.725
     07AL991_3,  AR16,   400,  1,      1,      1,2,19911006,1950, 40.0000, -12.0000, 5183,   3469.6,   2.5690,  34.5640,1,  34.9280,2,   -999.0,9,   -999.0,9,  -999.0,  2.2795,  34256,   2.585
     07AL991_3,  AR16,   401,  1,      2,      3,2,19911007,0053, 40.0000, -11.6667, 5134,    691.4,  11.5510,  35.6900,1,  35.9640,2,   -999.0,9,   -999.0,9,  -999.0, 11.4581,   6770,  11.530
     07AL991_3,  AR16,   401,  1,      1,      1,2,19911007,0053, 40.0000, -11.6667, 5134,   1904.8,   4.4150,  34.7780,1,  35.1220,2,   -999.0,9,   -999.0,9,  1901.5,  4.2500,  18960,   4.400
     07AL991_3,  AR16,   402,  1,      2,      3,2,19911007,0423, 40.0000, -11.3333, 5020,    509.8,  11.1850,  35.3550,1,  35.6290,2,   -999.0,9,   -999.0,9,  -999.0, 11.1181,   4919,  11.170
     07AL991_3,  AR16,   402,  1,      1,      1,2,19911007,0423, 40.0000, -11.3333, 5020,   1091.9,  11.2370,  35.9630,1,  36.2370,2,   -999.0,9,   -999.0,9,  1098.2, 11.0912,  10827,  11.245
     07AL991_3,  AR16,   403,  1,      2,      3,2,19911007,0750, 40.0000, -11.0000, 5020,    836.8,  10.9560,  35.6860,1,  35.9690,2,   -999.0,9,   -999.0,9,  -999.0, 10.8469,   8247,  10.950
     07AL991_3,  AR16,   403,  1,      1,      1,2,19911007,0750, 40.0000, -11.0000, 5020,   2230.8,   3.9420,  34.7490,1,  35.0880,2,   -999.0,9,   -999.0,9,  2239.6,  3.7518,  22185,   3.920
     07AL991_3,  AR16,   404,  1,      2,      3,2,19911007,1231, 40.0000, -10.6667, 4785,    645.9,  11.4810,  35.6710,1,  35.9540,2,   -999.0,9,   -999.0,9,  -999.0, 11.3946,   6307,  11.485
     07AL991_3,  AR16,   404,  1,      1,      1,2,19911007,1231, 40.0000, -10.6667, 4785,   1952.2,   4.4210,  34.8070,1,  35.1460,2,   -999.0,9,   -999.0,9,  1954.4,  4.2510,  19431,   4.400
     07AL991_3,  AR16,   405,  1,      2,      3,2,19911007,1548, 40.0000, -10.3333, 4036,    482.6,  11.2420,  35.3470,1,  35.6370,2,   -999.0,9,   -999.0,9,  -999.0, 11.1784,   4642,  11.230
     07AL991_3,  AR16,   405,  1,      1,      1,2,19911007,1548, 40.0000, -10.3333, 4036,   1427.0,   9.5250,  35.7130,1,  36.0290,2,   -999.0,9,   -999.0,9,  1432.6,  9.3500,  14196,   9.545
     07AL991_3,  AR16,   406,  1,      2,      3,2,19911007,1856, 40.0000, -10.0000, 2109,      7.9,  19.1320,  35.7090,1,  35.9380,2,   -999.0,9,   -999.0,9,  -999.0, 19.1276,   -233,  19.120
     07AL991_3,  AR16,   406,  1,      1,      1,2,19911007,1856, 40.0000, -10.0000, 2109,   1997.3,   4.5760,  34.8150,1,  35.1790,2,   -999.0,9,   -999.0,9,  1995.2,  4.3991,  19878,   4.570
     07AL991_3,  AR16,   407,  1,      2,      3,2,19911007,2208, 40.0000,  -9.8333, 1314,    597.0,  11.2580,  35.4700,1,  35.7800,2,   -999.0,9,   -999.0,9,  -999.0, 11.1793,   5809,  11.275
     07AL991_3,  AR16,   407,  1,      1,      1,2,19911007,2208, 40.0000,  -9.8333, 1314,   1167.1,  11.2380,  35.9480,1,  36.2480,2,   -999.0,9,   -999.0,9,  1158.8, 11.0818,  11585,  11.220
     07AL991_3,  AR16,   408,  1,      1,      1,2,19911008,0016, 40.0000,  -9.6667,  457,    363.8,  11.4660,  35.3430,1,  35.6400,2,   -999.0,9,   -999.0,9,  -999.0, 11.4172,   3426,  11.450
     07AL991_3,  AR16,   409,  1,      1,      1,2,19911008,0140, 40.0000,  -9.5000,  146,    101.6,  13.5720,  35.6500,1,  35.9350,2,   -999.0,9,   -999.0,9,  -999.0, 13.5552,    733,  13.560
     07AL991_3,  AR16,   410,  1,      1,      1,2,19911008,0255, 40.0000,  -9.3333,  127,     97.6,  13.4110,  35.6130,1,  35.8960,2,   -999.0,9,   -999.0,9,  -999.0, 13.3949,    692,  13.410
     07AL991_3,  AR16,   411,  1,      2,      3,2,19911008,2152, 38.2167,  -9.4167, 1860,    400.9,  11.4810,  35.3480,1,  35.6530,2,   -999.0,9,   -999.0,9,  -999.0, 11.4273,   3806,  11.480
     07AL991_3,  AR16,   411,  1,      1,      1,2,19911008,2152, 38.2167,  -9.4167, 1860,   1254.6,  11.6590,  36.0890,1,  36.3960,2,   -999.0,9,   -999.0,9,  1254.0, 11.4868,  12466,  11.665
     07AL991_3,  AR16,   412,  1,      2,      3,2,19911009,0140, 38.1000,  -9.5500, 1498,    354.8,  11.8820,  35.3650,1,  35.6390,2,   -999.0,9,   -999.0,9,  -999.0, 11.8333,   3334,  11.865
     07AL991_3,  AR16,   412,  1,      1,      1,2,19911009,0140, 38.1000,  -9.5500, 1498,    759.2,  10.7160,  35.5260,1,  35.8150,2,   -999.0,9,   -999.0,9,   759.4, 10.6186,   7459,  10.750
     07AL991_3,  AR16,   413,  1,      2,      3,2,19911009,0550, 37.9667,  -9.6917, 1807,     11.0,  18.1140,  35.8070,1,  36.0290,2,   -999.0,9,   -999.0,9,  -999.0, 18.1092,   -201,  18.105
     07AL991_3,  AR16,   413,  1,      1,      1,2,19911009,0550, 37.9667,  -9.6917, 1807,   1669.2,   7.0130,  35.2640,1,  35.6370,2,   -999.0,9,   -999.0,9,  1663.3,  6.8373,  16617,   7.050
     07AL991_3,  AR16,   414,  1,      2,      3,2,19911009,0930, 37.8500,  -9.8167, 3012,    526.5,  11.3070,  35.3840,1,  35.6670,2,   -999.0,9,   -999.0,9,  -999.0, 11.2374,   5090,  11.300
     07AL991_3,  AR16,   414,  1,      1,      1,2,19911009,0930, 37.8500,  -9.8167, 3012,    906.2,  12.1130,  36.1260,1,  36.4090,2,   -999.0,9,   -999.0,9,   916.3, 11.9867,   8950,  12.130
     07AL991_3,  AR16,   415,  1,      2,      3,2,19911009,1329, 37.7167,  -9.9583, 2309,    286.4,  13.3020,  35.6130,1,  35.8790,2,   -999.0,9,   -999.0,9,  -999.0, 13.2592,   2633,  13.290
     07AL991_3,  AR16,   415,  1,      1,      1,2,19911009,1329, 37.7167,  -9.9583, 2309,   1819.0,   5.5090,  34.9950,1,  35.3370,2,   -999.0,9,   -999.0,9,  1819.6,  5.3368,  18108,   5.515
     07AL991_3,  AR16,   416,  1,      2,      3,2,19911010,0627, 37.5833, -10.1000, 2494,    483.3,  11.6360,  35.3440,1,  35.6300,2,   -999.0,9,   -999.0,9,  -999.0, 11.5709,   4649,  11.630
     07AL991_3,  AR16,   416,  1,      1,      1,2,19911010,0627, 37.5833, -10.1000, 2494,   1413.9,   9.6530,  35.7570,1,  36.0780,2,   -999.0,9,   -999.0,9,  1422.2,  9.4783,  14065,   9.685
     07AL991_3,  AR16,   417,  1,      2,      3,2,19911010,1013, 37.4667, -10.2417, 3286,    923.9,  10.9700,  35.8070,1,  36.1060,2,   -999.0,9,   -999.0,9,  -999.0, 10.8491,   9129,  10.970
     07AL991_3,  AR16,   417,  1,      1,      1,2,19911010,1013, 37.4667, -10.2417, 3286,   2416.7,   3.3120,  34.6520,1,  35.0130,2,   -999.0,9,   -999.0,9,  2422.3,  3.1147,  24015,   3.295