BOTTLE,20020819WHPSIO
EXPOCODE,SECT_ID,STNNBR,CASTNO,SAMPNO,BTLNBR,BTLNBR_FLAG_W,DATE,TIME,LATITUDE,LONGITUDE,DEPTH,CTDPRS,CTDTMP,CTDSAL,CTDSAL_FLAG_W,SALNTY,SALNTY_FLAG_W,CTDOXY,CTDOXY_FLAG_W,OXYGEN,OXYGEN_FLAG_W,REVPRS,THETA,CTDRAW,REVTMP
,,,,,,,,,,,,DBAR,ITS-90,PSS-78,,PSS-78,,UMOL/KG,,UMOL/KG,,DBAR,DEG C,,DEG C
     07AL991_3,  AR16,   418,  1,      2,      3,2,19911010,1511, 37.3333, -10.3833, 4011,    349.9,  12.1460,  35.3980,1,  35.7000,2,   -999.0,9,   -999.0,9,  -999.0, 12.0972,   3284,  12.115
     07AL991_3,  AR16,   418,  1,      1,      1,2,19911010,1511, 37.3333, -10.3833, 4011,   3862.7,   2.4320,  34.5290,1,  34.9160,2,   -999.0,9,   -999.0,9,  -999.0,  2.1031,  38028,   2.420
     07AL991_3,  AR16,   419,  1,      2,      3,2,19911010,2021, 37.2000, -10.5250, 3497,    540.9,  11.0860,  35.3680,1,  35.7200,2,   -999.0,9,   -999.0,9,  -999.0, 11.0154,   5237,  11.170
     07AL991_3,  AR16,   419,  1,      1,      1,2,19911010,2021, 37.2000, -10.5250, 3497,   1617.2,   7.5110,  35.3110,1,  35.6710,2,   -999.0,9,   -999.0,9,  1621.8,  7.3353,  16098,   7.550
     07AL991_3,  AR16,   420,  1,      2,      3,2,19911011,0120, 37.0667, -10.6667, 2667,    362.8,  11.8910,  35.3290,1,  35.6460,2,   -999.0,9,   -999.0,9,  -999.0, 11.8412,   3416,  11.880
     07AL991_3,  AR16,   420,  1,      1,      1,2,19911011,0120, 37.0667, -10.6667, 2667,   2502.1,   3.2820,  34.6040,1,  35.0100,2,   -999.0,9,   -999.0,9,  2488.2,  3.0770,  24853,   3.260
     07AL991_3,  AR16,   421,  1,      2,      3,2,19911011,1857, 36.9333, -10.8000, 1987,    751.3,  11.1730,  35.6010,1,  35.9320,2,   -999.0,9,   -999.0,9,  -999.0, 11.0741,   7379,  11.170
     07AL991_3,  AR16,   421,  1,      1,      1,2,19911011,1857, 36.9333, -10.8000, 1987,   1940.3,   4.5280,  34.7650,1,  35.1780,2,   -999.0,9,   -999.0,9,  1937.9,  4.3578,  19313,   4.530
     07AL991_3,  AR16,   422,  1,      2,      3,2,19911011,2242, 36.8000, -10.9500, 1205,    480.2,  11.3520,  35.3060,1,  35.6280,2,   -999.0,9,   -999.0,9,  -999.0, 11.2884,   4617,  11.360
     07AL991_3,  AR16,   422,  1,      1,      1,2,19911011,2242, 36.8000, -10.9500, 1205,   1120.9,  10.6990,  35.8510,1,  36.1900,2,   -999.0,9,   -999.0,9,  1124.8, 10.5536,  11119,  10.730
     07AL991_3,  AR16,   423,  1,      1,      1,2,19911012,0226, 36.7083, -11.1333,   59,      8.9,  20.3130,  36.1860,1,  36.4390,2,   -999.0,9,   -999.0,9,  -999.0, 20.3081,   -222,  20.310
     07AL991_3,  AR16,   424,  1,      1,      1,2,19911012,0435, 36.6250, -11.3250,  889,    195.0,  13.6570,  35.6480,1,  35.9470,2,   -999.0,9,   -999.0,9,  -999.0, 13.6267,   1694,  13.645
     07AL991_3,  AR16,   425,  1,      1,      1,2,19911012,0900, 36.5417, -11.5000,  247,     93.7,  16.7810,  35.9270,1,  36.2240,2,   -999.0,9,   -999.0,9,  -999.0, 16.7628,    652,  16.810
     07AL991_3,  AR16,   426,  1,      1,      1,2,19911012,1128, 36.4583, -11.6833,  758,    217.6,  14.0870,  35.7280,1,  36.0200,2,   -999.0,9,   -999.0,9,  -999.0, 14.0527,   1927,  14.030
     07AL991_3,  AR16,   427,  1,      2,      3,2,19911012,2319, 37.4167,  -9.7000, 2912,      3.8,  20.5800,  36.3020,1,  36.5370,2,   -999.0,9,   -999.0,9,  -999.0, 20.5760,   -275,  20.575
     07AL991_3,  AR16,   427,  1,      1,      1,2,19911012,2319, 37.4167,  -9.7000, 2912,   2761.1,   3.0440,  34.5790,1,  34.9830,2,   -999.0,9,   -999.0,9,  1369.7,  2.8177,  27388,   3.025
     07AL991_3,  AR16,   428,  1,      2,      3,2,19911013,0420, 37.9500,  -9.6500, 1691,    244.4,  13.2160,  35.5560,1,  35.8490,2,   -999.0,9,   -999.0,9,  -999.0, 13.1794,   2202,  13.215
     07AL991_3,  AR16,   428,  1,      1,      1,2,19911013,0420, 37.9500,  -9.6500, 1691,   1007.2,  11.2290,  35.8610,1,  36.1740,2,   -999.0,9,   -999.0,9,  -999.0, 11.0950,   9972,-999.000
     07AL991_3,  AR16,   429,  1,      2,      3,2,19911013,0900, 38.4500,  -9.7833, 1952,    455.7,  11.5020,  35.3580,1,  35.6630,2,   -999.0,9,   -999.0,9,  -999.0, 11.4410,   4367,  11.505
     07AL991_3,  AR16,   429,  1,      1,      1,2,19911013,0900, 38.4500,  -9.7833, 1952,   1158.2,  11.5540,  36.0370,1,  36.3530,2,   -999.0,9,   -999.0,9,  1158.6, 11.3963,  11495,  11.575
     07AL991_3,  AR16,   430,  1,      2,      3,2,19911013,1343, 38.7000, -10.2833, 2066,      5.9,  19.3690,  36.0100,1,  36.2410,2,   -999.0,9,   -999.0,9,  -999.0, 19.3648,   -253,-999.000
     07AL991_3,  AR16,   430,  1,      1,      1,2,19911013,1343, 38.7000, -10.2833, 2066,   1894.3,   5.4240,  34.9500,1,-999.0000,2,   -999.0,9,   -999.0,9,  1886.9,  5.2451,  18856,   5.435
     07AL991_3,  AR16,   431,  1,      2,      3,2,19911014,0638, 39.0000, -10.6333, 1967,    445.9,  11.4910,  35.3360,1,  35.6470,2,   -999.0,9,   -999.0,9,  -999.0, 11.4314,   4266,  11.490
     07AL991_3,  AR16,   431,  1,      1,      1,2,19911014,0638, 39.0000, -10.6333, 1967,    929.5,  11.1610,  35.7970,1,  36.1120,2,   -999.0,9,   -999.0,9,   924.6, 11.0381,   9186,  11.185
     07AL991_4,  AR16,   432,  1,      2,      3,2,19911018,2147, 39.4333, -10.1167, 2187,     16.7,  18.1750,  35.5890,1,  35.9060,2,   -999.0,9,   -999.0,9,  -999.0, 18.1692,   -142,  18.180
     07AL991_4,  AR16,   432,  1,      1,      1,2,19911018,2147, 39.4333, -10.1167, 2187,   1963.4,   4.6960,  34.7350,1,-999.0000,2,   -999.0,9,   -999.0,9,  1949.4,  4.5211,  19542,   4.750
     07AL991_4,  AR16,   433,  1,      2,      3,2,19911019,0216, 39.8833,  -9.9083, 2164,    356.8,  11.6920,  35.3180,1,  35.6770,2,   -999.0,9,   -999.0,9,  -999.0, 11.6435,   3355,  11.680
     07AL991_4,  AR16,   433,  1,      1,      1,2,19911019,0216, 39.8833,  -9.9083, 2164,   1072.8,  11.4840,  35.8530,3,  35.8640,2,   -999.0,9,   -999.0,9,  1072.9, 11.3391,  10634,  11.505
     07AL991_4,  AR16,   434,  1,      2,      3,2,19911019,0620, 40.1500, -10.0000, 2723,    400.3,  11.6750,  35.2810,1,  35.6380,2,   -999.0,9,   -999.0,9,  -999.0, 11.6209,   3800,  11.625
     07AL991_4,  AR16,   434,  1,      1,      1,2,19911019,0620, 40.1500, -10.0000, 2723,    653.2,  11.6430,  35.5710,1,  35.9780,2,   -999.0,9,   -999.0,9,  -999.0, 11.5549,   6381,-999.000