BOTTLE,20020819WHPSIO
EXPOCODE,SECT_ID,STNNBR,CASTNO,SAMPNO,BTLNBR,BTLNBR_FLAG_W,DATE,TIME,LATITUDE,LONGITUDE,DEPTH,CTDPRS,CTDTMP,CTDSAL,CTDSAL_FLAG_W,SALNTY,SALNTY_FLAG_W,CTDOXY,CTDOXY_FLAG_W,OXYGEN,OXYGEN_FLAG_W,REVPRS,THETA,CTDRAW,REVTMP
,,,,,,,,,,,,DBAR,ITS-90,PSS-78,,PSS-78,,UMOL/KG,,UMOL/KG,,DBAR,DEG C,,DEG C
     07AL991_2,   AR6,   301,  1,      2,      3,2,19910911,0101, 34.3333,  -8.5000, 3087,    488.8,  11.5120,  35.6380,1,  35.5900,2,   -999.0,9,   -999.0,9,  -999.0, 11.4464,   5061,-999.000
     07AL991_2,   AR6,   301,  1,      1,      1,2,19910911,0101, 34.3333,  -8.5000, 3087,   1928.5,   4.9390,  35.1190,1,  35.2400,2,   -999.0,9,   -999.0,9,  1937.8,  4.7629,  19549,   4.925
     07AL991_2,   AR6,   302,  1,      2,      3,2,19910911,0416, 34.1667,  -8.5000, 3098,   1359.9,   9.0200,  35.8050,1,  35.8980,2,   -999.0,9,   -999.0,9,  -999.0,  8.8584,  13806,-999.000
     07AL991_2,   AR6,   302,  1,      1,      1,2,19910911,0416, 34.1667,  -8.5000, 3098,   1745.0,   6.0070,  35.2880,1,  35.4030,2,   -999.0,9,   -999.0,9,  1754.0,  5.8353,  17699,   5.985
     07AL991_2,   AR6,   303,  1,      2,      3,2,19910911,0834, 34.0000,  -8.5000, 1691,      5.4,  23.9720,  36.4290,1,  36.5780,2,   -999.0,9,   -999.0,9,  -999.0, 23.9673,     55,  23.940
     07AL991_2,   AR6,   303,  1,      1,      1,2,19910911,0834, 34.0000,  -8.5000, 1691,   1469.0,   8.3530,  35.5960,1,  35.7740,2,   -999.0,9,   -999.0,9,  -999.0,  8.1850,  14906,-999.000
     07AL991_2,   AR6,   304,  1,      1,      1,2,19910911,1057, 33.8333,  -8.5000,  537,    391.0,  11.9900,  35.7300,1,  35.6420,2,   -999.0,9,   -999.0,9,  -999.0, 11.9359,   4076,  11.985
     07AL991_2,   AR6,   305,  1,      1,      1,2,19910911,1317, 33.6667,  -8.5000,  152,     75.2,  15.5570,  36.3550,1,  36.2460,2,   -999.0,9,   -999.0,9,  -999.0, 15.5425,    869,  15.740
     07AL991_2,   AR6,   306,  1,      1,      1,2,19910911,1439, 33.5233,  -8.5000,  104,     81.4,  14.0370,  36.0840,1,  35.9800,2,   -999.0,9,   -999.0,9,  -999.0, 14.0226,    952,  14.075
     07AL991_2,   AR6,   307,  1,      1,      1,2,19910911,1703, 33.3667,  -8.7833,  124,    101.0,  14.4490,  36.1290,1,  36.0530,2,   -999.0,9,   -999.0,9,  -999.0, 14.4314,   1142,  14.440
     07AL991_2,   AR6,   308,  1,      1,      1,2,19910911,1939, 33.5333,  -8.8833,  388,    292.7,  12.9720,  35.8580,1,  35.7940,2,   -999.0,9,   -999.0,9,  -999.0, 12.9289,   3080,  13.030
     07AL991_2,   AR6,   309,  1,      2,      3,2,19910912,0306, 33.7000,  -8.9833, 1487,      2.1,  24.2730,  36.6810,1,  36.7240,2,   -999.0,9,   -999.0,9,  -999.0, 24.2689,     17,-999.000
     07AL991_2,   AR6,   309,  1,      1,      1,2,19910912,0306, 33.7000,  -8.9833, 1487,   1376.5,   9.0870,  35.8700,1,  35.8330,2,   -999.0,9,   -999.0,9,  1369.3,  8.9225,  13971,   9.115
     07AL991_2,   AR6,   310,  1,      2,      3,2,19910912,0624, 33.8667,  -9.0833, 3121,    490.8,  11.5270,  35.6510,1,  35.5920,2,   -999.0,9,   -999.0,9,  -999.0, 11.4611,   5080,-999.000
     07AL991_2,   AR6,   310,  1,      1,      1,2,19910912,0624, 33.8667,  -9.0833, 3121,   1568.5,   7.5340,  35.5490,1,  35.6540,2,   -999.0,9,   -999.0,9,  1567.9,  7.3632,  15913,   7.555
     07AL991_2,   AR6,   311,  1,      2,      3,2,19910912,1119, 34.2000,  -9.2833, 4299,    484.2,  11.2990,  35.6040,1,  35.5740,2,   -999.0,9,   -999.0,9,  -999.0, 11.2348,   5018,-999.000
     07AL991_2,   AR6,   311,  1,      1,      1,2,19910912,1119, 34.2000,  -9.2833, 4299,    963.2,   9.8310,  35.6520,1,  35.7720,2,   -999.0,9,   -999.0,9,   963.5,  9.7128,   9828,   9.810
     07AL991_3,   AR6,   312,  1,      1,      1,2,19910918,0225, 33.0500,  -9.0833,  109,     58.1,  15.6190,  36.1650,1,  36.2740,2,   -999.0,9,   -999.0,9,  -999.0, 15.6072,    556,  15.680
     07AL991_3,   AR6,   313,  1,      1,      1,2,19910918,0359, 33.1667,  -9.2333,  171,     39.0,  17.8460,  36.3450,1,  36.4040,2,   -999.0,9,   -999.0,9,  -999.0, 17.8363,    369,  17.945
     07AL991_3,   AR6,   314,  1,      2,      3,2,19910918,0535, 33.2833,  -9.3833,  855,      5.0,  24.0860,  36.5960,1,  36.5890,2,   -999.0,9,   -999.0,9,  -999.0, 24.0813,     35,  24.080
     07AL991_3,   AR6,   314,  1,      1,      1,2,19910918,0535, 33.2833,  -9.3833,  855,    738.3,   9.9850,  35.4050,1,  35.5130,2,   -999.0,9,   -999.0,9,   731.2,  9.8944,   7233,   9.990
     07AL991_3,   AR6,   315,  1,      2,      3,2,19910918,0741, 33.4000,  -9.5333, 1360,    475.6,  11.2870,  35.4900,1,  35.5680,2,   -999.0,9,   -999.0,9,  -999.0, 11.2241,   4655,  11.270
     07AL991_3,   AR6,   315,  1,      1,      1,2,19910918,0741, 33.4000,  -9.5333, 1360,   1073.5,   9.0170,  35.5310,1,  35.6340,2,   -999.0,9,   -999.0,9,  1063.9,  8.8913,  10524,   9.020
     07AL991_3,   AR6,   316,  1,      2,      3,2,19910918,1052, 33.6333,  -9.8333, 4364,    672.0,  10.3700,  35.4630,1,  35.5430,2,   -999.0,9,   -999.0,9,  -999.0, 10.2857,   6583,  10.375
     07AL991_3,   AR6,   316,  1,      1,      1,2,19910918,1052, 33.6333,  -9.8333, 4364,   1542.7,   7.5040,  35.5400,1,  35.6440,2,   -999.0,9,   -999.0,9,  1522.1,  7.3366,  15130,   7.535
     07AL991_3,   AR6,   317,  1,      2,      3,2,19910918,1432, 33.8667, -10.1333, 4354,      5.1,  25.0970,  36.6400,1,  36.5970,2,   -999.0,9,   -999.0,9,  -999.0, 25.0921,     36,  25.080
     07AL991_3,   AR6,   317,  1,      1,      1,2,19910918,1432, 33.8667, -10.1333, 4354,   2037.3,   4.6050,  35.0680,1,  35.1900,2,   -999.0,9,   -999.0,9,  1004.5,  4.4227,  19985,   4.600
     07AL991_3,   AR6,   318,  1,      1,      1,2,19910918,1813, 34.1000, -10.4333, 4375,   1775.2,   5.8820,  35.2780,1,  35.2490,2,   -999.0,9,   -999.0,9,  1741.4,  5.7087,  17412,   5.885
     07AL991_3,   AR6,   319,  1,      1,      1,2,19910918,2147, 34.3333, -10.7333, 4419,   1284.6,   9.7440,  35.9520,1,  36.0180,2,   -999.0,9,   -999.0,9,  1264.9,  9.5849,  12596,   9.745
     07AL991_3,   AR6,   320,  1,      1,      3,2,19910919,0125, 34.5667, -11.0333, 4423,      5.5,  24.2390,  36.8190,1,  36.7650,2,   -999.0,9,   -999.0,9,  -999.0, 24.2341,     40,  24.230
     07AL991_3,   AR6,   321,  1,      1,      1,2,19910919,0516, 34.8000, -11.3333, 4349,   1294.0,   9.1360,  35.8220,1,-999.0000,2,   -999.0,9,   -999.0,9,  1278.1,  8.9815,  12688,   9.135
     07AL991_3,   AR6,   322,  1,      1,      1,2,19910919,0837, 35.0333, -11.6333, 2056,      6.5,  24.0000,  36.8020,1,  36.7310,2,   -999.0,9,   -999.0,9,  -999.0, 23.9949,     50,  23.990
     07AL991_3,   AR6,   324,  1,      2,      3,2,19910919,2342, 33.4833, -13.0000, 4436,    483.0,  11.3400,  35.5630,1,  35.5750,2,   -999.0,9,   -999.0,9,  -999.0, 11.2759,   4727,  11.320
     07AL991_3,   AR6,   324,  1,      1,      1,2,19910919,2342, 33.4833, -13.0000, 4436,   1012.5,   9.6040,  35.7650,1,  35.7940,2,   -999.0,9,   -999.0,9,  1002.2,  9.4811,   9925,   9.620
     07AL991_3,   AR6,   325,  1,      2,      3,2,19910920,0314, 33.3500, -12.6333, 4195,      5.2,  24.4730,  36.8770,1,  36.7830,2,   -999.0,9,   -999.0,9,  -999.0, 24.4681,     37,  24.450
     07AL991_3,   AR6,   325,  1,      1,      1,2,19910920,0314, 33.3500, -12.6333, 4195,   1990.1,   4.4620,  35.0930,1,  35.1660,2,   -999.0,9,   -999.0,9,  -999.0,  4.2866,  19521,-999.000
     07AL991_3,   AR6,   326,  1,      2,      3,2,19910920,0647, 33.2167, -12.2667, 4111,    288.2,  13.8100,  35.9390,1,  35.9280,2,   -999.0,9,   -999.0,9,  -999.0, 13.7657,   2815,-999.000
     07AL991_3,   AR6,   326,  1,      1,      1,2,19910920,0647, 33.2167, -12.2667, 4111,   1480.4,   7.3990,  35.5780,1,  35.6210,2,   -999.0,9,   -999.0,9,  -999.0,  7.2399,  14518,-999.000
     07AL991_3,   AR6,   327,  1,      1,      1,2,19910920,1016, 33.0833, -11.9000, 4045,    869.9,   9.7360,  35.5770,1,  35.6030,2,   -999.0,9,   -999.0,9,  -999.0,  9.6303,   8525,   9.750
     07AL991_3,   AR6,   328,  1,      1,      1,2,19910920,1339, 32.9500, -11.5333, 3575,   1995.1,   5.0150,  35.1890,1,  35.2570,2,   -999.0,9,   -999.0,9,  1959.8,  4.8305,  19571,   5.010
     07AL991_3,   AR6,   329,  1,      1,      1,2,19910920,1652, 32.8167, -11.1667, 3709,   1679.0,   6.9490,  35.5110,1,  35.5530,2,   -999.0,9,   -999.0,9,  1654.3,  6.7723,  16468,   6.950
     07AL991_3,   AR6,   330,  1,      1,      1,2,19910920,1959, 32.6833, -10.8000, 4023,   1347.4,   8.6870,  35.7890,1,  35.8110,2,   -999.0,9,   -999.0,9,  -999.0,  8.5302,  13213,   8.700
     07AL991_3,   AR6,   331,  1,      1,      1,2,19910920,2305, 32.5500, -10.4333, 3378,   1066.6,   9.0470,  35.6490,1,  35.6630,2,   -999.0,9,   -999.0,9,  1057.6,  8.9217,  10456,   9.040
     07AL991_3,   AR6,   332,  1,      1,      1,2,19910921,0223, 32.4167, -10.0667, 2157,    750.6,   9.7690,  35.4690,1,  35.4740,2,   -999.0,9,   -999.0,9,   747.8,  9.6780,   7354,   9.765
     07AL991_3,   AR6,   333,  1,      1,      1,2,19910921,0457, 32.3500,  -9.8833,  834,    483.1,  11.4250,  35.5950,1,  35.5890,2,   -999.0,9,   -999.0,9,  -999.0, 11.3605,   4728,  11.410
     07AL991_3,   AR6,   334,  1,      1,      1,2,19910921,0642, 32.2833,  -9.7000,  105,     72.6,  14.7770,  36.1330,1,  36.0830,2,   -999.0,9,   -999.0,9,  -999.0, 14.7634,    699,  14.730
     07AL991_3,   AR6,   335,  1,      1,      1,2,19910921,0802, 32.2267,  -9.5500,   45,      5.5,  20.9130,  36.2970,1,  36.2310,2,   -999.0,9,   -999.0,9,  -999.0, 20.9086,     40,  20.905
     07AL991_3,   AR6,   336,  1,      1,      1,2,19910921,1205, 32.0000,  -9.7167,   48,      2.9,  20.8050,  36.2960,1,  36.2300,2,   -999.0,9,   -999.0,9,  -999.0, 20.8012,     15,  20.795
     07AL991_3,   AR6,   337,  1,      1,      1,2,19910921,1323, 32.0000,  -9.8333,   96,     67.5,  14.8720,  36.1260,1,  36.0960,2,   -999.0,9,   -999.0,9,  -999.0, 14.8591,    649,  14.885
     07AL991_3,   AR6,   338,  1,      1,      1,2,19910921,1440, 32.0000, -10.0000,  846,    582.1,  11.0740,  35.5780,1,  35.5700,2,   -999.0,9,   -999.0,9,  -999.0, 10.9979,   5700,  11.070
     07AL991_3,   AR6,   339,  1,      2,      3,2,19910921,2023, 32.0000, -10.1667, 1283,      5.5,  23.3890,  36.5600,1,  36.4610,2,   -999.0,9,   -999.0,9,  -999.0, 23.3843,     40,  23.380
     07AL991_3,   AR6,   339,  1,      1,      1,2,19910921,2023, 32.0000, -10.1667, 1283,   1180.0,   8.7030,  35.6010,1,  35.6120,2,   -999.0,9,   -999.0,9,  -999.0,  8.5668,  11569,-999.000
     07AL991_3,   AR6,   340,  1,      2,      3,2,19910921,2226, 32.0000, -10.3333, 1808,    487.7,  11.3900,  35.5890,1,  35.5770,2,   -999.0,9,   -999.0,9,  -999.0, 11.3250,   4774,-999.000
     07AL991_3,   AR6,   340,  1,      1,      1,2,19910921,2226, 32.0000, -10.3333, 1808,   1428.3,   7.7830,  35.6050,1,  35.6220,2,   -999.0,9,   -999.0,9,  1409.1,  7.6259,  14007,   7.795
     07AL991_3,   AR6,   341,  1,      2,      3,2,19910922,0057, 32.0000, -10.5000, 2179,    586.4,  10.8290,  35.5560,1,  35.5420,2,   -999.0,9,   -999.0,9,  -999.0, 10.7534,   5742,  10.810
     07AL991_3,   AR6,   341,  1,      1,      1,2,19910922,0057, 32.0000, -10.5000, 2179,    983.9,   9.0350,  35.5930,1,  35.5960,2,   -999.0,9,   -999.0,9,   976.1,  8.9200,   9644,   9.040
     07AL991_3,   AR6,   342,  1,      2,      3,2,19910922,0330, 32.0000, -10.6667, 2638,      5.0,  23.2530,  36.5810,1,  36.4750,2,   -999.0,9,   -999.0,9,  -999.0, 23.2484,     35,  23.220
     07AL991_3,   AR6,   342,  1,      1,      1,2,19910922,0330, 32.0000, -10.6667, 2638,   1923.0,   5.1000,  35.2210,1,  35.2630,2,   -999.0,9,   -999.0,9,  1890.5,  4.9218,  18863,   5.090
     07AL991_3,   AR6,   343,  1,      2,      3,2,19910922,0703, 32.0000, -11.0000, 2814,    465.5,  11.4480,  35.6070,1,  35.6250,2,   -999.0,9,   -999.0,9,  -999.0, 11.3857,   4467,  11.425
     07AL991_3,   AR6,   343,  1,      1,      1,2,19910922,0703, 32.0000, -11.0000, 2814,   1860.0,   5.1500,  35.2350,1,  35.2770,2,   -999.0,9,   -999.0,9,  1861.5,  4.9777,  18516,   5.145
     07AL991_3,   AR6,   344,  1,      2,      3,2,19910922,1331, 32.0000, -11.3333, 2960,    489.2,  11.4700,  35.6110,1,  35.5930,2,   -999.0,9,   -999.0,9,  -999.0, 11.4045,   4709,  11.430
     07AL991_3,   AR6,   344,  1,      1,      1,2,19910922,1331, 32.0000, -11.3333, 2960,   1413.0,   8.0200,  35.6970,1,  35.7100,2,   -999.0,9,   -999.0,9,  1416.6,  7.8620,  14056,   8.020
     07AL991_3,   AR6,   345,  1,      2,      3,2,19910922,1639, 32.0000, -11.6667, 3168,      2.2,  23.5660,  36.4620,1,  36.4310,2,   -999.0,9,   -999.0,9,  -999.0, 23.5620,   -291,  23.545
     07AL991_3,   AR6,   345,  1,      1,      1,2,19910922,1639, 32.0000, -11.6667, 3168,   1973.7,   4.7490,  35.1360,1,  35.2120,2,   -999.0,9,   -999.0,9,  1968.6,  4.5709,  19644,   4.750
     07AL991_3,   AR6,   346,  1,      2,      3,2,19910923,0027, 32.0000, -12.0000, 3218,    484.8,  11.5790,  35.4600,1,  35.5960,2,   -999.0,9,   -999.0,9,  -999.0, 11.5139,   4664,  11.550
     07AL991_3,   AR6,   346,  1,      1,      1,2,19910923,0027, 32.0000, -12.0000, 3218,   3096.1,   2.7340,  34.7860,1,  34.9480,2,   -999.0,9,   -999.0,9,  1539.4,  2.4790,  30647,   2.715
     07AL991_3,   AR6,   347,  1,      2,      3,2,19910923,0536, 32.0000, -12.3333, 3495,    761.7,  10.2330,  35.4050,1,  35.5820,2,   -999.0,9,   -999.0,9,  -999.0, 10.1381,   7485,  10.230
     07AL991_3,   AR6,   347,  1,      1,      1,2,19910923,0536, 32.0000, -12.3333, 3495,   1140.6,   9.1790,  35.5910,1,  35.7780,2,   -999.0,9,   -999.0,9,  1141.5,  9.0437,  11318,   9.185
     07AL991_3,   AR6,   348,  1,      2,      3,2,19910923,0906, 32.0000, -12.6667, 3741,     44.5,  20.2640,  36.4780,1,  36.5980,2,   -999.0,9,   -999.0,9,  -999.0, 20.2524,    145,  20.185
     07AL991_3,   AR6,   348,  1,      1,      1,2,19910923,0906, 32.0000, -12.6667, 3741,   1965.4,   4.7240,  34.9610,1,  35.2000,2,   -999.0,9,   -999.0,9,  -999.0,  4.5477,  19561,-999.000
     07AL991_3,   AR6,   349,  1,      2,      3,2,19910923,1256, 32.0000, -13.0000, 3359,   1258.8,   8.4220,  35.4220,1,  35.6820,2,   -999.0,9,   -999.0,9,  -999.0,  8.2792,  12508,   8.420
     07AL991_3,   AR6,   349,  1,      1,      1,2,19910923,1256, 32.0000, -13.0000, 3359,   2404.1,   3.6310,  34.7840,1,  35.0510,2,   -999.0,9,   -999.0,9,  2412.7,  3.4286,  23891,   3.600
     07AL991_3,   AR6,   350,  1,      2,      3,2,19910923,1824, 32.0000, -13.3333, 3514,     49.8,  19.2890,  36.2340,1,  36.4540,2,   -999.0,9,   -999.0,9,  -999.0, 19.2769,    200,-999.000
     07AL991_3,   AR6,   350,  1,      1,      1,2,19910923,1824, 32.0000, -13.3333, 3514,   1966.3,   4.7760,  34.8650,1,  35.2100,2,   -999.0,9,   -999.0,9,  -999.0,  4.5992,  19570,-999.000
     07AL991_3,   AR6,   351,  1,      2,      3,2,19910923,2147, 32.0000, -13.6667, 4065,    389.2,  12.6700,  35.4560,1,  35.7330,2,   -999.0,9,   -999.0,9,  -999.0, 12.6144,   3686,  12.655
     07AL991_3,   AR6,   351,  1,      1,      1,2,19910923,2147, 32.0000, -13.6667, 4065,   1635.4,   6.4260,  35.1030,1,  35.4470,2,   -999.0,9,   -999.0,9,  1641.3,  6.2617,  16280,   6.415
     07AL991_3,   AR6,   352,  1,      2,      3,2,19910924,0118, 32.0000, -14.0000, 4260,    968.0,   9.1470,  35.2860,1,  35.5230,2,   -999.0,9,   -999.0,9,  -999.0,  9.0336,   9576,-999.000
     07AL991_3,   AR6,   352,  1,      1,      1,2,19910924,0118, 32.0000, -14.0000, 4260,   3995.9,   2.3970,  34.5400,1,  34.9050,2,   -999.0,9,   -999.0,9,  -999.0,  2.0540,  39300,-999.000
     07AL991_3,   AR6,   353,  1,      2,      3,2,19910924,0714, 32.0000, -14.3333, 4381,     40.6,  21.7440,  36.2950,1,  36.4970,2,   -999.0,9,   -999.0,9,  -999.0, 21.7326,    105,  21.690
     07AL991_3,   AR6,   353,  1,      1,      1,2,19910924,0714, 32.0000, -14.3333, 4381,   1966.9,   4.6630,  34.8410,1,  35.1880,2,   -999.0,9,   -999.0,9,  -999.0,  4.4878,  19576,   4.640
     07AL991_3,   AR6,   354,  1,      2,      3,2,19910924,1108, 32.0000, -14.6667, 4402,    192.8,  15.3610,  35.9490,1,  36.2080,2,   -999.0,9,   -999.0,9,  -999.0, 15.3284,   1672,-999.000
     07AL991_3,   AR6,   354,  1,      1,      1,2,19910924,1108, 32.0000, -14.6667, 4402,   1702.4,   5.7560,  35.0000,1,  35.3510,2,   -999.0,9,   -999.0,9,  1703.9,  5.5930,  16948,   5.750
     07AL991_3,   AR6,   355,  1,      2,      3,2,19910924,1448, 32.0000, -15.0000, 4405,      2.2,  24.2850,  36.5630,1,  36.7280,2,   -999.0,9,   -999.0,9,  -999.0, 24.2809,   -291,  24.270
     07AL991_3,   AR6,   355,  1,      1,      1,2,19910924,1448, 32.0000, -15.0000, 4405,   4260.2,   2.3830,  34.5310,1,  34.9010,2,   -999.0,9,   -999.0,9,  -999.0,  2.0099,  41814,   2.355
     07AL991_3,   AR6,   356,  1,      2,      3,2,19910924,2124, 32.0000, -15.5000, 4405,    889.8,   9.3870,  35.2680,1,  35.5710,2,   -999.0,9,   -999.0,9,  -999.0,  9.2815,   8784,   9.515
     07AL991_3,   AR6,   356,  1,      1,      1,2,19910924,2124, 32.0000, -15.5000, 4405,   1944.8,   4.9130,  34.8790,1,  35.2350,2,   -999.0,9,   -999.0,9,  1937.7,  4.7363,  19357,   4.915
     07AL991_3,   AR6,   357,  1,      2,      3,2,19910925,0119, 32.0000, -16.0000, 4421,    731.3,  10.2420,  35.2510,1,  35.5440,2,   -999.0,9,   -999.0,9,  -999.0, 10.1511,   7176,  10.670
     07AL991_3,   AR6,   357,  1,      1,      1,2,19910925,0119, 32.0000, -16.0000, 4421,   3456.8,   2.5220,  34.5560,1,  34.9200,2,   -999.0,9,   -999.0,9,  -999.0,  2.2351,  34133,   2.505
     07AL991_3,   AR6,   358,  1,      2,      3,2,19910925,0725, 32.0000, -16.5000, 4343,    636.6,  10.9200,  35.2660,1,  35.5500,2,   -999.0,9,   -999.0,9,  -999.0, 10.8378,   6212,  10.895
     07AL991_3,   AR6,   358,  1,      1,      1,2,19910925,0725, 32.0000, -16.5000, 4343,   1396.9,   7.4840,  35.2610,1,  35.5980,2,   -999.0,9,   -999.0,9,  -999.0,  7.3343,  13894,   7.580
     07AL991_3,   AR6,   359,  1,      2,      3,2,19910925,1133, 32.0000, -17.0000, 4260,    390.0,  13.3320,  35.5580,1,  35.8100,2,   -999.0,9,   -999.0,9,  -999.0, 13.2744,   3695,-999.000
     07AL991_3,   AR6,   359,  1,      1,      1,2,19910925,1133, 32.0000, -17.0000, 4260,   2447.9,   3.4820,  34.6890,1,  35.0340,2,   -999.0,9,   -999.0,9,  2452.6,  3.2783,  24322,   3.460
     07AL991_3,   AR6,   360,  1,      2,      3,2,19910925,1737, 32.0000, -17.5000, 4415,    896.0,   9.3290,  35.2460,1,  35.5510,2,   -999.0,9,   -999.0,9,  -999.0,  9.2231,   8847,   9.310
     07AL991_3,   AR6,   360,  1,      1,      1,2,19910925,1737, 32.0000, -17.5000, 4415,   1937.5,   4.5110,  34.7940,1,  35.1600,2,   -999.0,9,   -999.0,9,  1930.1,  4.3412,  19285,   4.485
     07AL991_3,   AR6,   361,  1,      2,      3,2,19910925,2153, 32.0000, -18.0000, 4415,      1.2,  24.2800,  36.7990,1,  36.9620,2,   -999.0,9,   -999.0,9,  -999.0, 24.2760,   -302,-999.000
     07AL991_3,   AR6,   361,  1,      1,      1,2,19910925,2153, 32.0000, -18.0000, 4415,   3386.2,   2.5450,  34.5680,1,  34.9270,2,   -999.0,9,   -999.0,9,  -999.0,  2.2651,  33452,   2.515
     07AL991_3,   AR6,   362,  1,      2,      3,2,19910926,0409, 32.0000, -18.5000, 4608,    626.8,  10.8350,  35.2400,1,  35.5290,2,   -999.0,9,   -999.0,9,  -999.0, 10.7545,   6113,  10.825
     07AL991_3,   AR6,   362,  1,      1,      1,2,19910926,0409, 32.0000, -18.5000, 4608,   1205.1,   8.2400,  35.3230,1,  35.6380,2,   -999.0,9,   -999.0,9,  1205.4,  8.1054,  11968,   8.235
     07AL991_3,   AR6,   363,  1,      2,      3,2,19910926,0831, 32.0000, -19.0000, 4469,    494.5,  12.3630,  35.4380,1,  35.6990,2,   -999.0,9,   -999.0,9,  -999.0, 12.2938,   4763,  12.330
     07AL991_3,   AR6,   363,  1,      1,      1,2,19910926,0831, 32.0000, -19.0000, 4469,   2284.6,   3.6010,  34.7040,1,  35.0430,2,   -999.0,9,   -999.0,9,  2291.7,  3.4114,  22716,   3.580
     07AL991_3,   AR6,   364,  1,      1,      1,2,19910926,1452, 32.0000, -19.5000, 4065,   1937.4,   4.6440,  34.8220,1,  35.1760,2,   -999.0,9,   -999.0,9,  1934.2,  4.4722,  19284,   4.640