BOTTLE,20020819WHPSIO
#code : jjward hyd_to_exchange.pl 
#original files copied from HTML directory: 
#original HYD file: ar16_bhy.txt   Tue Jun 25 10:00:38 2002
#original SUM file: out   Mon Aug 19 18:56:15 2002
EXPOCODE,SECT_ID,STNNBR,CASTNO,SAMPNO,BTLNBR,BTLNBR_FLAG_W,DATE,TIME,LATITUDE,LONGITUDE,DEPTH,CTDPRS,CTDTMP,CTDSAL,CTDSAL_FLAG_W,SALNTY,SALNTY_FLAG_W,CTDOXY,CTDOXY_FLAG_W,OXYGEN,OXYGEN_FLAG_W,REVPRS,THETA,CTDRAW,REVTMP
,,,,,,,,,,,,DBAR,ITS-90,PSS-78,,PSS-78,,UMOL/KG,,UMOL/KG,,DBAR,DEG C,,DEG C
     07AL991_1,  AR16,   240,  1,      2,      3,2,19910826,1550, 41.8167,  -9.6333, 2172,    150.9,  12.7300,  36.0000,1,  35.9250,2,    227.2,3,   -999.0,9,  -999.0, 12.7070,   1462,-999.000
     07AL991_1,  AR16,   240,  1,      1,      1,2,19910826,1550, 41.8167,  -9.6333, 2172,    896.3,  11.4410,  36.0940,3,  36.2470,2,    182.3,2,    184.3,2,  -999.0, 11.3204,   8874,  11.400
     07AL991_1,  AR16,   241,  1,      1,      1,2,19910826,1956, 41.3667,  -9.5667, 3041,      6.3,  19.4380,  35.8210,1,  35.7680,2,    219.0,3,    238.7,2,  -999.0, 19.4338,     24,  19.380
     07AL991_1,  AR16,   241,  2,      1,      1,2,19910826,2034, 41.3667,  -9.5667, -999,   2129.5,   4.1470,  35.0400,1,  35.1040,2,    201.0,3,    247.2,2,  2129.0,  3.9626,  21138,   4.105
     07AL991_1,  AR16,   242,  1,      1,      1,2,19910827,0040, 40.8833,  -9.6083, 2430,      6.3,  19.0990,  35.8140,1,  35.7500,2,    228.6,3,    241.7,2,  -999.0, 19.0949,     24,  19.060
     07AL991_1,  AR16,   242,  2,      1,      1,2,19910827,0054, 40.8833,  -9.6083, -999,   1081.4,  11.2170,  36.1910,1,  36.2280,2,    171.3,3,    182.5,2,  1075.6, 11.0724,  10652,  11.195
     07AL991_1,  AR16,   243,  1,      1,      1,2,19910827,0544, 40.3917,  -9.8650, 2974,      5.9,  20.0120,  35.8280,1,  35.7740,2,    213.0,3,    233.0,2,  -999.0, 20.0078,     20,  19.970
     07AL991_1,  AR16,   243,  2,      1,      1,2,19910827,0555, 40.3917,  -9.8650, -999,   1761.2,   5.7890,  35.2960,1,  35.3400,2,    201.8,3,    234.6,2,  -999.0,  5.6184,  17416,-999.000
     07AL991_1,  AR16,   244,  1,      1,      1,2,19910827,2138, 40.1500, -10.0000, 2715,      6.2,  20.5050,  35.9290,1,  35.8490,2,    204.7,3,    228.3,2,  -999.0, 20.5007,     23,  20.460
     07AL991_1,  AR16,   244,  2,      1,      1,2,19910827,2148, 40.1500, -10.0000, -999,   2124.2,   4.0250,  35.0230,1,  35.0930,2,    194.1,3,    243.8,2,  2115.5,  3.8431,  21023,   4.015
     07AL991_1,  AR16,   245,  1,      1,      1,2,19910828,0114, 39.8833,  -9.9083, 2169,      5.9,  20.4020,  35.9130,1,  35.8480,2,    203.0,3,    227.8,2,  -999.0, 20.3977,     20,  20.340
     07AL991_1,  AR16,   245,  2,      1,      1,2,19910828,0124, 39.8833,  -9.9083, -999,   1250.0,  11.0320,  36.2460,1,  36.3020,2,    164.7,3,    185.1,2,  1254.8, 10.8655,  12392,  11.000
     07AL991_1,  AR16,   246,  1,      1,      1,2,19910828,1926, 39.4333, -10.1167, 2238,      5.8,  20.7120,  36.0160,1,  35.9190,2,    197.3,3,    226.9,2,  -999.0, 20.7077,     19,  20.670
     07AL991_1,  AR16,   246,  2,      1,      1,2,19910828,1938, 39.4333, -10.1167, -999,   1789.0,   5.6530,  35.2680,1,  35.3350,2,    186.7,3,    235.1,2,  1787.1,  5.4813,  17752,   5.620
     07AL991_1,  AR16,   247,  1,      1,      1,2,19910829,0051, 39.0000, -10.6333, 1929,      6.1,  20.8470,  36.0480,1,  35.9790,2,    199.5,3,    224.8,2,  -999.0, 20.8426,     22,  20.810
     07AL991_1,  AR16,   247,  2,      1,      1,2,19910829,0059, 39.0000, -10.6333, -999,   1182.7,  11.1410,  36.2610,1,  36.2930,2,    156.9,3,    184.7,2,  1187.1, 10.9829,  11722,  11.110
     07AL991_1,  AR16,   248,  1,      1,      1,2,19910829,0501, 38.7000, -10.2833, 2059,      5.7,  21.0410,  36.0870,1,  36.0260,2,    197.3,3,    225.6,2,  -999.0, 21.0366,     18,  21.000
     07AL991_1,  AR16,   248,  2,      1,      1,2,19910829,0511, 38.7000, -10.2833, -999,   1229.8,  11.4160,  36.3390,1,  36.3960,2,    156.9,3,    188.6,2,  1230.9, 11.2489,  12191,  11.395
     07AL991_1,  AR16,   249,  1,      1,      1,2,19910829,0942, 38.4500,  -9.7833, 2059,      6.1,  20.9330,  36.2130,1,  36.1710,2,    202.5,3,   -999.0,9,  -999.0, 20.9285,     22,  20.880
     07AL991_1,  AR16,   249,  2,      1,      1,2,19910829,0954, 38.4500,  -9.7833, -999,   1923.1,   5.5650,  35.3130,1,  35.3920,2,    184.8,3,   -999.0,9,  1919.1,  5.3799,  19085,   5.555
     07AL991_1,  AR16,   250,  1,      1,      1,2,19910829,1429, 37.9500,  -9.6500, 1678,      5.6,  21.2210,  36.1440,1,  36.0480,2,    206.0,3,    233.1,2,  -999.0, 21.2166,     17,-999.000
     07AL991_1,  AR16,   250,  2,      1,      1,2,19910829,1442, 37.9500,  -9.6500, -999,    976.7,  11.6030,  36.4680,3,  36.2920,2,    159.7,3,    183.4,2,   979.0, 11.4697,   9674,  11.585
     07AL991_1,  AR16,   251,  1,      1,      1,2,19910829,1911, 37.4167,  -9.7000, 2926,      9.9,  22.5080,  36.3590,1,-999.0000,2,    192.6,3,   -999.0,9,  -999.0, 22.5025,      6,  22.460
     07AL991_1,  AR16,   251,  2,      1,      1,2,19910829,1917, 37.4167,  -9.7000, -999,    406.1,  11.3250,  35.6130,1,  35.5730,2,    173.6,3,    198.7,2,  -999.0, 11.2709,   4000,  11.285
     07AL991_2,  AR16,   254,  1,      1,      1,2,19910903,0630, 40.0000,  -9.6667,  499,    185.9,  12.8490,  35.7500,1,  35.8330,2,    210.3,3,    233.1,2,  -999.0, 12.8211,   1810,  12.820
     07AL991_2,  AR16,   255,  1,      1,      1,2,19910903,0806, 40.0000,  -9.8333, 1311,      5.8,  20.7230,  35.7430,1,  35.8170,2,    196.0,3,    229.6,2,  -999.0, 20.7188,     19,  20.700
     07AL991_2,  AR16,   255,  2,      1,      1,2,19910903,0816, 40.0000,  -9.8333, -999,   1252.7,  10.9800,  36.1740,1,  36.2340,2,    159.5,3,    191.6,2,  1250.2, 10.8138,  12418,  10.970
     07AL991_2,  AR16,   256,  1,      2,      3,2,19910903,1003, 40.0000, -10.0000, 2141,    385.6,  11.5320,  35.5910,1,  35.6360,2,    177.1,3,    187.0,3,  -999.0, 11.4800,   3796,  11.500
     07AL991_2,  AR16,   256,  1,      1,      1,2,19910903,1003, 40.0000, -10.0000, 2141,   1196.5,  10.8330,  36.1610,1,  36.2220,2,    153.9,3,    206.8,3,  1200.3, 10.6757,  11860,  10.805
     07AL991_2,  AR16,   257,  1,      2,      3,2,19910903,1318, 40.0000, -10.3333, 4013,    799.7,  11.5180,  36.0180,1,  36.0550,2,    157.2,3,    186.0,2,  -999.0, 11.4102,   7914,  11.530
     07AL991_2,  AR16,   257,  1,      1,      1,2,19910903,1318, 40.0000, -10.3333, 4013,   1136.3,  11.1260,  36.2090,1,  36.2430,2,    152.7,3,    185.6,2,  1134.5, 10.9745,  11261,  11.115
     07AL991_2,  AR16,   258,  1,      1,      1,2,19910903,1637, 40.0000, -10.6667, 4773,      5.8,  21.3470,  35.9740,1,  36.0000,2,    191.2,3,    225.7,2,  -999.0, 21.3426,     19,  21.330
     07AL991_2,  AR16,   258,  2,      1,      1,2,19910903,1648, 40.0000, -10.6667, -999,   1994.4,   4.6820,  35.1340,1,  35.1750,2,    175.7,3,    245.1,2,  1992.0,  4.5028,  19794,   4.645
     07AL991_2,  AR16,   259,  1,      2,      3,2,19910903,1945, 40.0000, -11.0000, 4717,    389.5,  11.5240,  35.6090,1,  35.6180,2,    181.0,3,    214.4,2,  -999.0, 11.4715,   3835,  11.470
     07AL991_2,  AR16,   259,  1,      1,      1,2,19910903,1945, 40.0000, -11.0000, 4717,   1561.4,   8.4510,  35.7980,1,  35.8300,2,    161.4,3,    210.7,2,  1562.7,  8.2701,  15488,   8.415
     07AL991_2,  AR16,   260,  1,      2,      3,2,19910903,2300, 40.0000, -11.3333, 5026,    877.0,  11.9010,  36.1960,1,  36.2010,2,    149.0,3,    185.6,2,  -999.0, 11.7800,   8682,  11.850
     07AL991_2,  AR16,   260,  1,      1,      1,2,19910903,2300, 40.0000, -11.3333, 5026,   1354.2,  10.4670,  36.1740,1,  36.1910,2,    149.5,3,    190.8,2,  1358.3, 10.2915,  13428,  10.445
     07AL991_2,  AR16,   261,  1,      1,      1,2,19910904,0615, 39.0000, -11.3333, 3730,      5.7,  21.8250,  36.2420,1,  36.2330,2,    178.6,3,    223.0,2,  -999.0, 21.8205,     18,  21.780
     07AL991_2,  AR16,   261,  2,      1,      1,2,19910904,0626, 39.0000, -11.3333, -999,   1985.5,   4.5400,  35.1150,1,  35.1490,2,    174.9,3,    247.7,2,  1985.8,  4.3639,  19706,   4.485
     07AL991_2,  AR16,   262,  1,      2,      3,2,19910904,0949, 39.0000, -11.0000, 3366,    486.7,  11.5270,  35.6570,1,  35.6550,2,    160.1,3,    193.9,2,  -999.0, 11.4616,   4801,  11.500
     07AL991_2,  AR16,   262,  1,      1,      1,2,19910904,0949, 39.0000, -11.0000, 3366,   1756.4,   5.8690,  35.3270,1,  35.3590,2,    163.4,3,    231.6,2,  1758.4,  5.6978,  17427,   5.820
     07AL991_2,  AR16,   263,  1,      1,      1,2,19910904,1322, 39.0000, -10.6667, 2048,   1125.0,  11.0970,  36.2270,1,  36.2300,2,    144.4,3,    183.4,2,  -999.0, 10.9473,  11149,  11.090
     07AL991_2,  AR16,   263,  1,      2,      3,2,19910904,1322, 39.0000, -10.6667, 2048,   1126.0,  11.1190,  36.2310,1,  36.2280,2,    143.6,3,    182.9,2,  1127.7, 10.9689,  11158,  11.065
     07AL991_2,  AR16,   264,  1,      1,      1,2,19910904,1545, 39.0000, -10.5000, 1634,      5.5,  21.5650,  36.1140,1,  36.1110,2,    190.4,3,    223.5,2,  -999.0, 21.5606,     16,  21.570
     07AL991_2,  AR16,   264,  2,      1,      1,2,19910904,1555, 39.0000, -10.5000, -999,   1223.4,  10.7890,  36.2000,1,  36.1950,2,    146.5,3,    185.5,2,  1225.8, 10.6284,  12127,  10.755
     07AL991_2,  AR16,   265,  1,      2,      3,2,19910904,1748, 39.0000, -10.3333, 1428,    390.5,  11.6430,  35.6580,1,  35.6460,2,    151.1,3,    200.9,2,  -999.0, 11.5900,   3844,  11.600
     07AL991_2,  AR16,   265,  1,      1,      1,2,19910904,1748, 39.0000, -10.3333, 1428,    977.9,  11.6320,  36.2640,1,  36.2500,2,    150.6,3,    187.3,2,   980.8, 11.4986,   9686,  11.600
     07AL991_2,  AR16,   266,  1,      1,      1,2,19910904,1958, 39.0000, -10.1667,  301,    146.6,  13.4710,  35.9310,1,  35.9120,2,    186.9,3,    212.6,2,  -999.0, 13.4478,   1419,  13.450
     07AL991_2,  AR16,   267,  1,      1,      1,2,19910904,2114, 39.0000, -10.0000,  256,    195.8,  13.1800,  35.8940,1,  35.8720,2,    186.8,3,    217.0,2,  -999.0, 13.1502,   1908,  13.140
     07AL991_2,  AR16,   268,  1,      1,      1,2,19910904,2236, 39.0000,  -9.8333,  117,     96.7,  13.9400,  35.9940,1,  35.9710,2,    175.2,3,    197.9,3,  -999.0, 13.9235,    923,  13.915
     07AL991_2,  AR16,   269,  1,      1,      1,2,19910905,0530, 38.0000,  -9.1667,  426,    313.2,  11.7910,  35.6570,1,  35.6460,2,    172.8,3,    203.1,2,  -999.0, 11.7479,   3076,  11.760
     07AL991_2,  AR16,   270,  1,      1,      1,2,19910905,0653, 38.0000,  -9.3333,  793,    666.1,  11.8200,  36.0820,1,  36.0650,2,    154.3,3,    190.4,2,  -999.0, 11.7288,   6585,  11.790
     07AL991_2,  AR16,   271,  1,      2,      3,2,19910905,0827, 38.0000,  -9.5000, 1370,    776.3,  11.8300,  36.2010,1,  36.1880,2,    155.5,3,    189.9,2,  -999.0, 11.7235,   7681,  11.790
     07AL991_2,  AR16,   271,  1,      1,      1,2,19910905,0827, 38.0000,  -9.5000, 1370,   1074.1,  11.6270,  36.3470,1,  36.3330,2,    150.1,3,    187.7,2,  1075.6, 11.4801,  10642,  11.600
     07AL991_2,  AR16,   272,  1,      1,      1,2,19910905,1039, 38.0000,  -9.6667, 1701,      6.0,  20.6230,  36.1260,1,  36.1010,2,    197.7,3,    234.8,2,  -999.0, 20.6186,     21,  20.600
     07AL991_2,  AR16,   272,  2,      1,      1,2,19910905,1120, 38.0000,  -9.6667, -999,   1611.1,   8.0310,  35.7750,1,  35.7780,2,    158.8,3,    207.2,2,  1610.6,  7.8488,  15982,   8.010
     07AL991_2,  AR16,   273,  1,      2,      3,2,19910905,1347, 38.0000, -10.0000, 3164,    810.8,  11.4070,  36.0970,1,  36.0890,2,    146.8,3,    183.8,2,  -999.0, 11.2982,   8024,-999.000
     07AL991_2,  AR16,   273,  1,      1,      1,2,19910905,1347, 38.0000, -10.0000, 3164,   1325.0,  11.4320,  36.4010,1,  36.4180,2,    146.5,3,    185.1,2,  1329.0, 11.2512,  13137,  11.450
     07AL991_2,  AR16,   274,  1,      2,      3,2,19910905,1650, 38.0000, -10.3333, 4137,    792.0,  12.4290,  36.3420,1,  36.3070,2,    159.8,3,    194.7,2,  -999.0, 12.3168,   7837,  12.380
     07AL991_2,  AR16,   274,  1,      1,      1,2,19910905,1650, 38.0000, -10.3333, 4137,   1132.7,  11.8070,  36.4070,1,  36.3980,2,    150.5,3,    194.2,2,  1130.5, 11.6503,  11225,  11.770
     07AL991_2,  AR16,   275,  1,      1,      1,2,19910905,2017, 38.0000, -10.6667, 4930,      5.4,  22.1910,  36.3400,1,  36.3210,2,    180.4,3,    220.0,2,  -999.0, 22.1865,     15,  22.160
     07AL991_2,  AR16,   275,  2,      1,      1,2,19910905,2026, 38.0000, -10.6667, -999,   1973.6,   5.0940,  35.2610,1,  35.2650,2,    165.8,3,    235.1,2,  1969.5,  4.9104,  19587,   5.055
     07AL991_2,  AR16,   279,  1,      2,      3,2,19910907,1503, 37.0000, -11.0000, 2532,    428.2,  11.3710,  35.5910,1,  35.5910,2,   -999.0,9,   -999.0,9,  -999.0, 11.3139,   4457,-999.000
     07AL991_2,  AR16,   279,  1,      1,      1,2,19910907,1503, 37.0000, -11.0000, 2532,   1688.2,   6.1020,  35.3130,1,  35.4250,2,   -999.0,9,   -999.0,9,  -999.0,  5.9353,  17129,-999.000
     07AL991_2,  AR16,   280,  1,      2,      3,2,19910907,1947, 37.0000, -10.6667, 2628,     94.5,  15.6300,  36.1570,1,  36.2010,2,   -999.0,9,   -999.0,9,  -999.0, 15.6125,   1061,-999.000
     07AL991_2,  AR16,   280,  1,      1,      1,2,19910907,1947, 37.0000, -10.6667, 2628,   1995.1,   4.7350,  35.0700,1,  35.2010,2,   -999.0,9,   -999.0,9,  -999.0,  4.5551,  20217,-999.000
     07AL991_2,  AR16,   281,  1,      2,      3,2,19910907,2240, 37.0000, -10.3333, 3793,    488.1,  11.5940,  35.5630,1,  35.6320,2,   -999.0,9,   -999.0,9,  -999.0, 11.5283,   5053,-999.000
     07AL991_2,  AR16,   281,  1,      1,      1,2,19910907,2240, 37.0000, -10.3333, 3793,   1462.4,   9.0350,  35.8500,1,  35.9700,2,   -999.0,9,   -999.0,9,  -999.0,  8.8602,  14831,-999.000
     07AL991_2,  AR16,   282,  1,      1,      1,2,19910908,0156, 37.0000, -10.0000, 3026,    976.7,  10.6250,  35.9280,1,  36.0450,2,   -999.0,9,   -999.0,9,  -999.0, 10.4992,   9952,-999.000
     07AL991_2,  AR16,   283,  1,      2,      3,2,19910908,0507, 37.0000,  -9.6667, 1913,    194.8,  14.0120,  35.9830,1,  36.0000,2,   -999.0,9,   -999.0,9,  -999.0, 13.9811,   2086,-999.000
     07AL991_2,  AR16,   283,  1,      1,      1,2,19910908,0507, 37.0000,  -9.6667, 1913,   1799.6,   5.9050,  35.2940,1,  35.3950,2,   -999.0,9,   -999.0,9,  -999.0,  5.7287,  18246,-999.000
     07AL991_2,  AR16,   284,  1,      2,      3,2,19910908,0712, 37.0000,  -9.5000, 1382,    382.1,  12.0560,  35.5860,1,  35.6930,2,   -999.0,9,   -999.0,9,  -999.0, 12.0030,   3986,-999.000
     07AL991_2,  AR16,   284,  1,      1,      1,2,19910908,0712, 37.0000,  -9.5000, 1382,   1006.4,  12.1600,  36.3930,1,  36.4450,2,   -999.0,9,   -999.0,9,  -999.0, 12.0188,  10228,-999.000
     07AL991_2,  AR16,   285,  1,      1,      1,2,19910908,0908, 37.0000,  -9.3333, 1902,    711.9,  12.9970,  36.3150,1,  36.3660,2,   -999.0,9,   -999.0,9,  -999.0, 12.8934,   7271,-999.000
     07AL991_2,  AR16,   286,  1,      1,      1,2,19910908,1441, 36.8333,  -8.5000,  173,    155.4,  13.4540,  35.9460,1,  35.8890,2,   -999.0,9,   -999.0,9,  -999.0, 13.4295,   1700,-999.000
     07AL991_2,  AR16,   287,  1,      1,      1,2,19910908,2141, 36.6667,  -8.5000,  841,    365.8,  11.8750,  35.6630,1,  35.6320,2,   -999.0,9,   -999.0,9,  -999.0, 11.8246,   3826,-999.000
     07AL991_2,  AR16,   288,  1,      2,      3,2,19910908,2328, 36.5000,  -8.5000, 2309,      3.6,  20.7980,  36.2820,1,  36.2810,2,   -999.0,9,   -999.0,9,  -999.0, 20.7940,     80,-999.000
     07AL991_2,  AR16,   288,  1,      1,      1,2,19910908,2328, 36.5000,  -8.5000, 2309,   1964.7,   5.4640,  35.2330,1,  35.3460,2,   -999.0,9,   -999.0,9,  -999.0,  5.2761,  19903,-999.000
     07AL991_2,  AR16,   289,  1,      2,      3,2,19910909,0307, 36.3333,  -8.5000, 2330,    384.0,  12.1000,  35.6520,1,  35.6550,2,   -999.0,9,   -999.0,9,  -999.0, 12.0466,   4005,-999.000
     07AL991_2,  AR16,   289,  1,      1,      1,2,19910909,0307, 36.3333,  -8.5000, 2330,   1243.0,  10.1200,  35.9870,1,  36.0940,2,   -999.0,9,   -999.0,9,  -999.0,  9.9629,  12622,-999.000
     07AL991_2,  AR16,   290,  1,      2,      3,2,19910909,0540, 36.1667,  -8.5000, 1679,    336.6,  12.5190,  35.6930,1,  35.7060,2,   -999.0,9,   -999.0,9,  -999.0, 12.4709,   3525,-999.000
     07AL991_2,  AR16,   290,  1,      1,      1,2,19910909,0540, 36.1667,  -8.5000, 1679,    663.8,  10.6270,  35.5730,1,  35.6280,2,   -999.0,9,   -999.0,9,  -999.0, 10.5424,   6823,-999.000
     07AL991_2,  AR16,   291,  1,      2,      3,2,19910909,0923, 36.0000,  -8.5000, 2576,     94.1,  15.4390,  36.1900,1,  36.2010,2,   -999.0,9,   -999.0,9,  -999.0, 15.4217,   1059,-999.000
     07AL991_2,  AR16,   291,  1,      1,      1,2,19910909,0923, 36.0000,  -8.5000, 2576,   2413.5,   3.6100,  34.9450,1,  35.0500,2,   -999.0,9,   -999.0,9,  -999.0,  3.4064,  24417,-999.000
     07AL991_2,  AR16,   292,  1,      1,      3,2,19910909,1215, 35.8333,  -8.5000, 2468,    871.2,   9.7870,  35.6410,1,  35.7210,2,   -999.0,9,   -999.0,9,  -999.0,  9.6807,   8909,-999.000
     07AL991_2,  AR16,   293,  1,      2,      3,2,19910909,1805, 35.6667,  -8.5000, 2414,    877.4,  10.1560,  35.7220,1,  35.7970,2,   -999.0,9,   -999.0,9,  -999.0, 10.0465,   8965,-999.000
     07AL991_2,  AR16,   293,  1,      1,      1,2,19910909,1805, 35.6667,  -8.5000, 2414,   1267.0,  10.0500,  36.0110,1,  36.1040,2,   -999.0,9,   -999.0,9,  -999.0,  9.8903,  12863,-999.000
     07AL991_2,  AR16,   294,  1,      2,      3,2,19910909,2038, 35.5000,  -8.5000, 2414,      4.4,  23.8960,  36.6360,1,  36.6920,2,   -999.0,9,   -999.0,9,  -999.0, 23.8914,     46,-999.000
     07AL991_2,  AR16,   294,  1,      1,      1,2,19910909,2038, 35.5000,  -8.5000, 2414,   2524.9,   3.3820,  34.8190,1,  35.0210,2,   -999.0,9,   -999.0,9,  -999.0,  3.1719,  25534,-999.000
     07AL991_2,  AR16,   295,  1,      1,      3,2,19910909,2339, 35.3333,  -8.5000, 2467,    390.3,  11.8100,  35.6060,1,  35.6380,2,   -999.0,9,   -999.0,9,  -999.0, 11.7566,   4072,-999.000
     07AL991_2,   AR6,   296,  1,      2,      3,2,19910910,0257, 35.1667,  -8.5000, 2921,    978.1,  10.5600,  35.9860,1,  36.0540,2,   -999.0,9,   -999.0,9,  -999.0, 10.4344,   9967,-999.000
     07AL991_2,   AR6,   296,  1,      1,      1,2,19910910,0257, 35.1667,  -8.5000, 2921,   1947.4,   4.7220,  35.0360,1,  35.2120,2,   -999.0,9,   -999.0,9,  -999.0,  4.5473,  19741,-999.000
     07AL991_2,   AR6,   297,  1,      1,      3,2,19910910,0715, 35.0000,  -8.5000, 3070,      0.9,  23.9340,  36.6200,1,  36.6700,2,   -999.0,9,   -999.0,9,  -999.0, 23.9302,     10,-999.000
     07AL991_2,   AR6,   298,  1,      2,      3,2,19910910,1052, 34.8333,  -8.5000, 3050,      0.2,  24.0830,  36.6820,1,  36.7070,2,   -999.0,9,   -999.0,9,  -999.0, 24.0793,      1,-999.000
     07AL991_2,   AR6,   298,  1,      1,      1,2,19910910,1052, 34.8333,  -8.5000, 3050,   1941.6,   4.8050,  35.0610,1,  35.2200,2,   -999.0,9,   -999.0,9,  -999.0,  4.6296,  19681,-999.000
     07AL991_2,   AR6,   299,  1,      1,      1,2,19910910,1433, 34.6667,  -8.5000, 3296,   1536.4,   7.1430,  35.3920,1,  35.5890,2,   -999.0,9,   -999.0,9,  -999.0,  6.9807,  15597,-999.000
     07AL991_2,   AR6,   299,  1,      2,      3,2,19910910,1433, 34.6667,  -8.5000, 3296,   1540.8,   7.1020,  35.5290,1,  35.5730,2,   -999.0,9,   -999.0,9,  -999.0,  6.9393,  15642,-999.000
     07AL991_2,   AR6,   300,  1,      2,      3,2,19910910,2033, 34.5000,  -8.5000, 3327,      3.6,  24.1300,  36.6810,1,  36.6990,2,   -999.0,9,   -999.0,9,  -999.0, 24.1255,     34,-999.000
     07AL991_2,   AR6,   300,  1,      1,      1,2,19910910,2033, 34.5000,  -8.5000, 3327,   3214.3,   2.6320,  34.7610,1,  34.9380,2,   -999.0,9,   -999.0,9,  -999.0,  2.3671,  32438,   2.540