BOTTLE,20050511WHPSIOSCD
#code : jjward hyd_to_exchange.pl 
#original files copied from HTML directory: 20050511
#original HYD file: gp604.sea   Wed May 11 16:30:33 2005
#original SUM file: gp604.sum   Wed May 11 16:33:52 2005
EXPOCODE,SECT_ID,STNNBR,CASTNO,SAMPNO,BTLNBR,BTLNBR_FLAG_W,DATE,TIME,LATITUDE,LONGITUDE,DEPTH,CTDPRS,CTDTMP,CTDSAL,CTDSAL_FLAG_W,SALNTY,SALNTY_FLAG_W,CTDOXY,CTDOXY_FLAG_W,THETA,OXYGEN,OXYGEN_FLAG_W
,,,,,,,,,,,,DBAR,ITS-90,PSS-78,,PSS-78,,UMOL/KG,,DEG C,UMOL/KG,
   33RBGP604_1,  PR16,    28,  1,      8,      8,2,20041114,1124,  8.0733,-110.1883, 4242,      2.4,  27.6890,  33.4881,2,  33.4858,2,   -999.0,9, 27.6884,   -999.0,9
   33RBGP604_1,  PR16,    28,  1,      7,      7,2,20041114,1124,  8.0733,-110.1883, 4242,     19.8,  27.6952,  33.4885,2,  33.4867,2,   -999.0,9, 27.6905,   -999.0,9
   33RBGP604_1,  PR16,    28,  1,      6,      6,2,20041114,1124,  8.0733,-110.1883, 4242,     39.7,  27.6988,  33.4856,2,  33.4880,2,   -999.0,9, 27.6896,   -999.0,9
   33RBGP604_1,  PR16,    28,  1,      5,      5,2,20041114,1124,  8.0733,-110.1883, 4242,    201.2,  10.9780,  34.7446,2,  34.7398,2,   -999.0,9, 10.9533,   -999.0,9
   33RBGP604_1,  PR16,    28,  1,      4,      4,2,20041114,1124,  8.0733,-110.1883, 4242,    401.0,   9.1298,  34.6546,2,  34.6508,2,   -999.0,9,  9.0855,   -999.0,9
   33RBGP604_1,  PR16,    28,  1,      3,      3,2,20041114,1124,  8.0733,-110.1883, 4242,    599.7,   6.9598,  34.5806,2,  34.5782,2,   -999.0,9,  6.9026,   -999.0,9
   33RBGP604_1,  PR16,    28,  1,      2,      2,2,20041114,1124,  8.0733,-110.1883, 4242,    799.8,   5.5415,  34.5607,2,  34.5580,2,   -999.0,9,  5.4726,   -999.0,9
   33RBGP604_1,  PR16,    28,  1,      1,      1,2,20041114,1124,  8.0733,-110.1883, 4242,   1000.8,   4.7798,  34.5637,2,  34.5618,2,   -999.0,9,  4.6979,   -999.0,9
   33RBGP604_1,  PR16,    29,  1,      8,      8,2,20041115,0111,  6.9983,-110.0000, 3751,      2.0,  27.4742,  33.4678,2,  33.4653,2,   -999.0,9, 27.4737,   -999.0,9
   33RBGP604_1,  PR16,    29,  1,      7,      7,2,20041115,0111,  6.9983,-110.0000, 3751,     20.3,  27.5176,  33.6074,2,  33.6116,2,   -999.0,9, 27.5129,   -999.0,9
   33RBGP604_1,  PR16,    29,  1,      6,      6,2,20041115,0111,  6.9983,-110.0000, 3751,     39.0,  27.5727,  33.7253,2,  33.7385,2,   -999.0,9, 27.5636,   -999.0,9
   33RBGP604_1,  PR16,    29,  1,      5,      5,2,20041115,0111,  6.9983,-110.0000, 3751,    200.1,  11.4815,  34.7648,2,  34.7837,2,   -999.0,9, 11.4562,   -999.0,9
   33RBGP604_1,  PR16,    29,  1,      4,      4,2,20041115,0111,  6.9983,-110.0000, 3751,    400.2,   9.1784,  34.6626,2,  34.6578,2,   -999.0,9,  9.1341,   -999.0,9
   33RBGP604_1,  PR16,    29,  1,      3,      3,2,20041115,0111,  6.9983,-110.0000, 3751,    599.9,   7.0443,  34.5870,2,  34.5833,2,   -999.0,9,  6.9867,   -999.0,9
   33RBGP604_1,  PR16,    29,  1,      2,      2,2,20041115,0111,  6.9983,-110.0000, 3751,    799.7,   5.7140,  34.5662,2,  34.5642,2,   -999.0,9,  5.6441,   -999.0,9
   33RBGP604_1,  PR16,    29,  1,      1,      1,2,20041115,0111,  6.9983,-110.0000, 3751,   1000.7,   4.6528,  34.5662,2,  34.5651,2,   -999.0,9,  4.5719,   -999.0,9
   33RBGP604_1,  PR16,    30,  1,      8,      8,2,20041115,0719,  6.0000,-110.0000, 3694,      2.6,  27.1689,  34.0272,2,  34.0296,2,   -999.0,9, 27.1683,   -999.0,9
   33RBGP604_1,  PR16,    30,  1,      7,      7,2,20041115,0719,  6.0000,-110.0000, 3694,     20.5,  27.1741,  34.0251,2,  34.0266,2,   -999.0,9, 27.1694,   -999.0,9
   33RBGP604_1,  PR16,    30,  1,      6,      6,2,20041115,0719,  6.0000,-110.0000, 3694,     40.9,  27.2011,  34.0588,2,  34.0634,2,   -999.0,9, 27.1917,   -999.0,9
   33RBGP604_1,  PR16,    30,  1,      5,      5,2,20041115,0719,  6.0000,-110.0000, 3694,    200.9,  11.5438,  34.7729,2,  34.7718,2,   -999.0,9, 11.5183,   -999.0,9
   33RBGP604_1,  PR16,    30,  1,      4,      4,2,20041115,0719,  6.0000,-110.0000, 3694,    400.3,   9.3179,  34.6753,2,  34.6738,2,   -999.0,9,  9.2731,   -999.0,9
   33RBGP604_1,  PR16,    30,  1,      3,      3,2,20041115,0719,  6.0000,-110.0000, 3694,    600.6,   6.8603,  34.5815,2,  34.5821,2,   -999.0,9,  6.8034,   -999.0,9
   33RBGP604_1,  PR16,    30,  1,      2,      2,2,20041115,0719,  6.0000,-110.0000, 3694,    801.0,   5.5089,  34.5650,2,  34.5665,2,   -999.0,9,  5.4401,   -999.0,9
   33RBGP604_1,  PR16,    30,  1,      1,      1,2,20041115,0719,  6.0000,-110.0000, 3694,   1000.8,   4.5840,  34.5670,2,  34.5677,2,   -999.0,9,  4.5037,   -999.0,9
   33RBGP604_1,  PR16,    31,  1,      8,      8,2,20041115,1309,  5.1133,-110.0350, 3932,      1.5,  27.1019,  34.2688,2,  34.2700,2,   -999.0,9, 27.1016,   -999.0,9
   33RBGP604_1,  PR16,    31,  1,      7,      7,2,20041115,1309,  5.1133,-110.0350, 3932,     20.0,  27.1089,  34.2689,2,  34.2709,2,   -999.0,9, 27.1043,   -999.0,9
   33RBGP604_1,  PR16,    31,  1,      6,      6,2,20041115,1309,  5.1133,-110.0350, 3932,     41.2,  27.1141,  34.2687,2,  34.2722,2,   -999.0,9, 27.1046,   -999.0,9
   33RBGP604_1,  PR16,    31,  1,      5,      5,2,20041115,1309,  5.1133,-110.0350, 3932,    199.8,  12.6136,  34.8477,2,  34.8496,2,   -999.0,9, 12.5867,   -999.0,9
   33RBGP604_1,  PR16,    31,  1,      4,      4,2,20041115,1309,  5.1133,-110.0350, 3932,    401.0,   9.7992,  34.6936,2,  34.6928,2,   -999.0,9,  9.7530,   -999.0,9
   33RBGP604_1,  PR16,    31,  1,      3,      3,2,20041115,1309,  5.1133,-110.0350, 3932,    599.4,   7.3840,  34.5939,2,  34.5953,2,   -999.0,9,  7.3249,   -999.0,9
   33RBGP604_1,  PR16,    31,  1,      2,      2,2,20041115,1309,  5.1133,-110.0350, 3932,    801.0,   5.5974,  34.5641,2,  34.5658,2,   -999.0,9,  5.5280,   -999.0,9
   33RBGP604_1,  PR16,    31,  1,      1,      1,2,20041115,1309,  5.1133,-110.0350, 3932,   1000.5,   4.5438,  34.5672,2,  34.5702,2,   -999.0,9,  4.4638,   -999.0,9
   33RBGP604_1,  PR16,    32,  1,      8,      8,2,20041115,2040,  4.0000,-110.0000, 3877,      1.8,  26.8981,  34.2666,2,  34.2686,2,   -999.0,9, 26.8977,   -999.0,9
   33RBGP604_1,  PR16,    32,  1,      7,      7,2,20041115,2040,  4.0000,-110.0000, 3877,     20.9,  26.8923,  34.2673,2,  34.2701,2,   -999.0,9, 26.8876,   -999.0,9
   33RBGP604_1,  PR16,    32,  1,      6,      6,2,20041115,2040,  4.0000,-110.0000, 3877,     40.2,  26.8547,  34.2820,2,  34.2911,2,   -999.0,9, 26.8455,   -999.0,9
   33RBGP604_1,  PR16,    32,  1,      5,      5,2,20041115,2040,  4.0000,-110.0000, 3877,    200.6,  13.3036,  34.9266,2,  34.9259,2,   -999.0,9, 13.2756,   -999.0,9
   33RBGP604_1,  PR16,    32,  1,      4,      4,2,20041115,2040,  4.0000,-110.0000, 3877,    400.4,  10.5447,  34.7323,2,  34.7322,2,   -999.0,9, 10.4963,   -999.0,9
   33RBGP604_1,  PR16,    32,  1,      3,      3,2,20041115,2040,  4.0000,-110.0000, 3877,    601.1,   7.2232,  34.5903,2,  34.5918,2,   -999.0,9,  7.1646,   -999.0,9
   33RBGP604_1,  PR16,    32,  1,      2,      2,2,20041115,2040,  4.0000,-110.0000, 3877,    800.2,   5.7821,  34.5533,2,  34.5562,2,   -999.0,9,  5.7118,   -999.0,9
   33RBGP604_1,  PR16,    32,  1,      1,      1,2,20041115,2040,  4.0000,-110.0000, 3877,   1000.6,   4.6607,  34.5609,2,  34.5642,2,   -999.0,9,  4.5798,   -999.0,9
   33RBGP604_1,  PR16,    33,  1,      8,      8,2,20041116,0230,  2.9983,-110.0033, 3884,      1.9,  24.8752,  34.0672,2,  34.0687,2,   -999.0,9, 24.8748,   -999.0,9
   33RBGP604_1,  PR16,    33,  1,      7,      7,2,20041116,0230,  2.9983,-110.0033, 3884,     20.1,  24.8829,  34.0700,2,  34.0722,2,   -999.0,9, 24.8786,   -999.0,9
   33RBGP604_1,  PR16,    33,  1,      6,      6,2,20041116,0230,  2.9983,-110.0033, 3884,     40.6,  24.8968,  34.1081,2,  34.1245,2,   -999.0,9, 24.8881,   -999.0,9
   33RBGP604_1,  PR16,    33,  1,      5,      5,2,20041116,0230,  2.9983,-110.0033, 3884,    200.8,  12.9128,  34.9055,2,  34.9037,2,   -999.0,9, 12.8853,   -999.0,9
   33RBGP604_1,  PR16,    33,  1,      4,      4,2,20041116,0230,  2.9983,-110.0033, 3884,    400.6,  10.4645,  34.7258,2,  34.7244,2,   -999.0,9, 10.4163,   -999.0,9
   33RBGP604_1,  PR16,    33,  1,      3,      3,2,20041116,0230,  2.9983,-110.0033, 3884,    599.7,   7.0589,  34.5839,2,  34.5857,2,   -999.0,9,  7.0012,   -999.0,9
   33RBGP604_1,  PR16,    33,  1,      2,      2,2,20041116,0230,  2.9983,-110.0033, 3884,    800.1,   5.7257,  34.5624,2,  34.5656,2,   -999.0,9,  5.6557,   -999.0,9
   33RBGP604_1,  PR16,    33,  1,      1,      1,2,20041116,0230,  2.9983,-110.0033, 3884,   1001.7,   4.7057,  34.5607,2,  34.5643,2,   -999.0,9,  4.6243,   -999.0,9
   33RBGP604_1,  PR16,    35,  1,      8,      8,2,20041116,1008,  2.0433,-110.1250, 3811,      2.5,  25.2054,  34.2163,2,  34.2183,2,   -999.0,9, 25.2049,   -999.0,9
   33RBGP604_1,  PR16,    35,  1,      7,      7,2,20041116,1008,  2.0433,-110.1250, 3811,     20.2,  25.2131,  34.2174,2,  34.2184,2,   -999.0,9, 25.2088,   -999.0,9
   33RBGP604_1,  PR16,    35,  1,      6,      6,2,20041116,1008,  2.0433,-110.1250, 3811,     40.8,  25.1420,  34.2320,2,  34.2405,2,   -999.0,9, 25.1331,   -999.0,9
   33RBGP604_1,  PR16,    35,  1,      5,      5,2,20041116,1008,  2.0433,-110.1250, 3811,    200.3,  12.7473,  34.9075,2,  34.9084,2,   -999.0,9, 12.7202,   -999.0,9
   33RBGP604_1,  PR16,    35,  1,      4,      4,2,20041116,1008,  2.0433,-110.1250, 3811,    399.6,   9.6930,  34.7147,2,  34.7159,2,   -999.0,9,  9.6472,   -999.0,9
   33RBGP604_1,  PR16,    35,  1,      3,      3,2,20041116,1008,  2.0433,-110.1250, 3811,    599.4,   7.1729,  34.5873,2,  34.5908,2,   -999.0,9,  7.1147,   -999.0,9
   33RBGP604_1,  PR16,    35,  1,      2,      2,2,20041116,1008,  2.0433,-110.1250, 3811,    801.5,   5.4865,  34.5549,2,  34.5580,2,   -999.0,9,  5.4178,   -999.0,9
   33RBGP604_1,  PR16,    35,  1,      1,      1,2,20041116,1008,  2.0433,-110.1250, 3811,   1000.4,   4.5633,  34.5633,2,  34.5668,2,   -999.0,9,  4.4832,   -999.0,9
   33RBGP604_1,  PR16,    37,  1,      8,      8,2,20041116,1721,  1.0000,-110.1667, 3742,      3.1,  24.1377,  34.3802,2,  34.3822,2,   -999.0,9, 24.1371,   -999.0,9
   33RBGP604_1,  PR16,    37,  1,      7,      7,2,20041116,1721,  1.0000,-110.1667, 3742,     20.4,  24.0055,  34.4030,2,  34.4414,2,   -999.0,9, 24.0013,   -999.0,9
   33RBGP604_1,  PR16,    37,  1,      6,      6,2,20041116,1721,  1.0000,-110.1667, 3742,     40.3,  22.5470,  34.8087,2,  34.8125,2,   -999.0,9, 22.5389,   -999.0,9
   33RBGP604_1,  PR16,    37,  1,      5,      5,2,20041116,1721,  1.0000,-110.1667, 3742,    201.0,  12.7501,  34.9110,2,  34.9107,2,   -999.0,9, 12.7229,   -999.0,9
   33RBGP604_1,  PR16,    37,  1,      4,      4,2,20041116,1721,  1.0000,-110.1667, 3742,    401.0,   9.8549,  34.7213,2,  34.7233,2,   -999.0,9,  9.8085,   -999.0,9
   33RBGP604_1,  PR16,    37,  1,      3,      3,2,20041116,1721,  1.0000,-110.1667, 3742,    600.8,   7.2467,  34.5961,2,  34.5979,2,   -999.0,9,  7.1880,   -999.0,9
   33RBGP604_1,  PR16,    37,  1,      2,      2,2,20041116,1721,  1.0000,-110.1667, 3742,    800.7,   5.7318,  34.5537,2,  34.5569,2,   -999.0,9,  5.6617,   -999.0,9
   33RBGP604_1,  PR16,    37,  1,      1,      1,2,20041116,1721,  1.0000,-110.1667, 3742,    999.0,   4.6660,  34.5564,2,  34.5606,2,   -999.0,9,  4.5852,   -999.0,9
   33RBGP604_1,  PR16,    38,  1,      8,      8,2,20041117,0235,  0.2750,-110.2183, 3838,      5.9,  23.7839,  34.5060,2,  34.5072,2,   -999.0,9, 23.7827,   -999.0,9
   33RBGP604_1,  PR16,    38,  1,      7,      7,2,20041117,0235,  0.2750,-110.2183, 3838,     19.6,  23.5608,  34.5567,2,  34.5905,2,   -999.0,9, 23.5568,   -999.0,9
   33RBGP604_1,  PR16,    38,  1,      6,      6,2,20041117,0235,  0.2750,-110.2183, 3838,     41.0,  21.8851,  34.8501,2,  34.8614,2,   -999.0,9, 21.8771,   -999.0,9
   33RBGP604_1,  PR16,    38,  1,      5,      5,2,20041117,0235,  0.2750,-110.2183, 3838,    199.0,  13.1500,  34.9245,2,  34.9266,2,   -999.0,9, 13.1225,   -999.0,9
   33RBGP604_1,  PR16,    38,  1,      4,      4,2,20041117,0235,  0.2750,-110.2183, 3838,    799.8,   5.7409,  34.5546,2,  34.5584,2,   -999.0,9,  5.6709,   -999.0,9
   33RBGP604_1,  PR16,    38,  1,      3,      3,2,20041117,0235,  0.2750,-110.2183, 3838,    999.9,   4.8324,  34.5547,2,  34.5591,2,   -999.0,9,  4.7503,   -999.0,9
   33RBGP604_1,  PR16,    38,  1,      2,      2,2,20041117,0235,  0.2750,-110.2183, 3838,   1999.8,   2.2982,  34.6406,2,  34.6461,2,   -999.0,9,  2.1572,   -999.0,9
   33RBGP604_1,  PR16,    38,  1,      1,      1,2,20041117,0235,  0.2750,-110.2183, 3838,   2999.9,   1.7384,  34.6737,2,  34.6786,2,   -999.0,9,  1.5163,   -999.0,9
   33RBGP604_1,  PR16,    40,  1,      8,      8,2,20041119,0143, -1.0017,-110.0000, 3965,      2.1,  23.4355,  34.5392,2,  34.5383,2,   -999.0,9, 23.4350,   -999.0,9
   33RBGP604_1,  PR16,    40,  1,      7,      7,2,20041119,0143, -1.0017,-110.0000, 3965,     21.2,  23.1323,  34.5916,2,  34.5978,2,   -999.0,9, 23.1280,   -999.0,9
   33RBGP604_1,  PR16,    40,  1,      6,      6,2,20041119,0143, -1.0017,-110.0000, 3965,     40.2,  22.4479,  34.7445,2,  34.7600,2,   -999.0,9, 22.4399,   -999.0,9
   33RBGP604_1,  PR16,    40,  1,      5,      5,2,20041119,0143, -1.0017,-110.0000, 3965,    203.3,  12.7215,  34.9143,2,  34.9141,2,   -999.0,9, 12.6940,   -999.0,9
   33RBGP604_1,  PR16,    40,  1,      4,      4,2,20041119,0143, -1.0017,-110.0000, 3965,    401.0,  10.3688,  34.7529,2,  34.7518,2,   -999.0,9, 10.3209,   -999.0,9
   33RBGP604_1,  PR16,    40,  1,      3,      3,2,20041119,0143, -1.0017,-110.0000, 3965,    600.6,   7.2008,  34.5879,2,  34.5873,2,   -999.0,9,  7.1423,   -999.0,9
   33RBGP604_1,  PR16,    40,  1,      1,      1,2,20041119,0143, -1.0017,-110.0000, 3965,   1000.3,   4.8486,  34.5519,2,  34.5542,2,   -999.0,9,  4.7664,   -999.0,9
   33RBGP604_1,  PR16,    42,  1,      8,      8,2,20041119,0921, -1.8700,-109.9717, 3931,      3.9,  23.1872,  34.5737,2,  34.5731,2,   -999.0,9, 23.1864,   -999.0,9
   33RBGP604_1,  PR16,    42,  1,      7,      7,2,20041119,0921, -1.8700,-109.9717, 3931,     19.9,  23.1884,  34.5788,2,  34.5760,2,   -999.0,9, 23.1844,   -999.0,9
   33RBGP604_1,  PR16,    42,  1,      6,      6,2,20041119,0921, -1.8700,-109.9717, 3931,     38.8,  23.0179,  34.6673,2,  34.6604,2,   -999.0,9, 23.0100,   -999.0,9
   33RBGP604_1,  PR16,    42,  1,      5,      5,2,20041119,0921, -1.8700,-109.9717, 3931,    199.0,  12.5458,  34.8990,2,  34.8974,2,   -999.0,9, 12.5191,   -999.0,9
   33RBGP604_1,  PR16,    42,  1,      4,      4,2,20041119,0921, -1.8700,-109.9717, 3931,    400.9,  11.0342,  34.7957,2,  34.7946,2,   -999.0,9, 10.9843,   -999.0,9
   33RBGP604_1,  PR16,    42,  1,      3,      3,2,20041119,0921, -1.8700,-109.9717, 3931,    600.3,   7.2741,  34.5966,2,  34.5966,2,   -999.0,9,  7.2153,   -999.0,9
   33RBGP604_1,  PR16,    42,  1,      2,      2,2,20041119,0921, -1.8700,-109.9717, 3931,    800.8,   5.7390,  34.5558,2,  34.5567,2,   -999.0,9,  5.6689,   -999.0,9
   33RBGP604_1,  PR16,    42,  1,      1,      1,2,20041119,0921, -1.8700,-109.9717, 3931,   1001.0,   4.7784,  34.5513,2,  34.5531,2,   -999.0,9,  4.6966,   -999.0,9
   33RBGP604_1,  PR16,    44,  1,      8,      8,2,20041120,0152, -3.0000,-110.0000, 3767,      1.3,  23.5191,  34.6142,2,  34.6133,2,   -999.0,9, 23.5188,   -999.0,9
   33RBGP604_1,  PR16,    44,  1,      7,      7,2,20041120,0152, -3.0000,-110.0000, 3767,     22.0,  23.3609,  34.6042,2,  34.6137,2,   -999.0,9, 23.3564,   -999.0,9
   33RBGP604_1,  PR16,    44,  1,      6,      6,2,20041120,0152, -3.0000,-110.0000, 3767,     40.8,  23.3950,  34.8415,2,  34.8381,2,   -999.0,9, 23.3866,   -999.0,9
   33RBGP604_1,  PR16,    44,  1,      5,      5,2,20041120,0152, -3.0000,-110.0000, 3767,    200.3,  12.8380,  34.9225,2,  34.9199,2,   -999.0,9, 12.8107,   -999.0,9
   33RBGP604_1,  PR16,    44,  1,      4,      4,2,20041120,0152, -3.0000,-110.0000, 3767,    400.1,  10.3708,  34.7690,2,  34.7682,2,   -999.0,9, 10.3230,   -999.0,9
   33RBGP604_1,  PR16,    44,  1,      3,      3,2,20041120,0152, -3.0000,-110.0000, 3767,    599.8,   7.3387,  34.6001,2,  34.6022,2,   -999.0,9,  7.2798,   -999.0,9
   33RBGP604_1,  PR16,    44,  1,      2,      2,2,20041120,0152, -3.0000,-110.0000, 3767,    801.6,   5.6779,  34.5552,2,  34.5481,2,   -999.0,9,  5.6081,   -999.0,9
   33RBGP604_1,  PR16,    44,  1,      1,      1,2,20041120,0152, -3.0000,-110.0000, 3767,   1001.1,   4.6202,  34.5563,2,  34.5575,2,   -999.0,9,  4.5396,   -999.0,9
   33RBGP604_1,  PR16,    45,  1,      8,      8,2,20041120,0740, -4.0000,-110.0000, 3824,      3.9,  23.7136,  35.1122,2,  35.1063,2,   -999.0,9, 23.7128,   -999.0,9
   33RBGP604_1,  PR16,    45,  1,      7,      7,2,20041120,0740, -4.0000,-110.0000, 3824,     20.0,  23.7096,  35.1107,2,  35.1075,2,   -999.0,9, 23.7054,   -999.0,9
   33RBGP604_1,  PR16,    45,  1,      6,      6,2,20041120,0740, -4.0000,-110.0000, 3824,     41.0,  23.6270,  35.1012,2,  35.0966,2,   -999.0,9, 23.6185,   -999.0,9
   33RBGP604_1,  PR16,    45,  1,      5,      5,2,20041120,0740, -4.0000,-110.0000, 3824,    199.6,  12.9098,  34.9278,2,  34.9244,2,   -999.0,9, 12.8825,   -999.0,9
   33RBGP604_1,  PR16,    45,  1,      4,      4,2,20041120,0740, -4.0000,-110.0000, 3824,    399.9,  10.5005,  34.7780,2,  34.7743,2,   -999.0,9, 10.4523,   -999.0,9
   33RBGP604_1,  PR16,    45,  1,      3,      3,2,20041120,0740, -4.0000,-110.0000, 3824,    600.0,   7.1818,  34.5954,2,  34.5941,2,   -999.0,9,  7.1235,   -999.0,9
   33RBGP604_1,  PR16,    45,  1,      2,      2,2,20041120,0740, -4.0000,-110.0000, 3824,    800.6,   5.3835,  34.5426,2,  34.5426,2,   -999.0,9,  5.3156,   -999.0,9
   33RBGP604_1,  PR16,    45,  1,      1,      1,2,20041120,0740, -4.0000,-110.0000, 3824,   1001.1,   4.4870,  34.5464,2,  34.5475,2,   -999.0,9,  4.4074,   -999.0,9
   33RBGP604_1,  PR16,    46,  1,      8,      8,2,20041120,2030, -4.9917,-109.9967, 3612,      2.3,  24.1331,  35.2575,2,  35.2553,2,   -999.0,9, 24.1326,   -999.0,9
   33RBGP604_1,  PR16,    46,  1,      7,      7,2,20041120,2030, -4.9917,-109.9967, 3612,     20.5,  24.0005,  35.2541,2,  35.2522,2,   -999.0,9, 23.9962,   -999.0,9
   33RBGP604_1,  PR16,    46,  1,      6,      6,2,20041120,2030, -4.9917,-109.9967, 3612,     38.8,  23.9925,  35.2529,2,  35.2526,2,   -999.0,9, 23.9844,   -999.0,9
   33RBGP604_1,  PR16,    46,  1,      5,      5,2,20041120,2030, -4.9917,-109.9967, 3612,    200.4,  12.7798,  34.9185,2,  34.9159,2,   -999.0,9, 12.7526,   -999.0,9
   33RBGP604_1,  PR16,    46,  1,      4,      4,2,20041120,2030, -4.9917,-109.9967, 3612,    400.2,  10.3299,  34.7661,2,  34.7635,2,   -999.0,9, 10.2822,   -999.0,9
   33RBGP604_1,  PR16,    46,  1,      3,      3,2,20041120,2030, -4.9917,-109.9967, 3612,    598.6,   7.7677,  34.6225,2,  34.6198,2,   -999.0,9,  7.7069,   -999.0,9
   33RBGP604_1,  PR16,    46,  1,      2,      2,2,20041120,2030, -4.9917,-109.9967, 3612,    800.3,   5.6959,  34.5487,2,  34.5479,2,   -999.0,9,  5.6261,   -999.0,9
   33RBGP604_1,  PR16,    46,  1,      1,      1,2,20041120,2030, -4.9917,-109.9967, 3612,   1001.7,   4.5364,  34.5459,2,  34.5463,2,   -999.0,9,  4.4564,   -999.0,9