BOTTLE,20050511WHPSIOSCD
EXPOCODE,SECT_ID,STNNBR,CASTNO,SAMPNO,BTLNBR,BTLNBR_FLAG_W,DATE,TIME,LATITUDE,LONGITUDE,DEPTH,CTDPRS,CTDTMP,CTDSAL,CTDSAL_FLAG_W,SALNTY,SALNTY_FLAG_W,CTDOXY,CTDOXY_FLAG_W,THETA,OXYGEN,OXYGEN_FLAG_W
,,,,,,,,,,,,DBAR,ITS-90,PSS-78,,PSS-78,,UMOL/KG,,DEG C,UMOL/KG,
   33RBGP604_1,  PR16,    47,  1,      8,      8,2,20041121,0237, -6.0033,-110.0017, 3751,      1.7,  24.3310,  35.3404,2,  35.3384,2,   -999.0,9, 24.3306,   -999.0,9
   33RBGP604_1,  PR16,    47,  1,      7,      7,2,20041121,0237, -6.0033,-110.0017, 3751,     20.2,  24.3226,  35.3392,2,  35.3374,2,   -999.0,9, 24.3183,   -999.0,9
   33RBGP604_1,  PR16,    47,  1,      6,      6,2,20041121,0237, -6.0033,-110.0017, 3751,     40.2,  24.3202,  35.3389,2,  35.3307,2,   -999.0,9, 24.3116,   -999.0,9
   33RBGP604_1,  PR16,    47,  1,      5,      5,2,20041121,0237, -6.0033,-110.0017, 3751,    201.2,  12.5619,  34.9198,2,  34.9176,2,   -999.0,9, 12.5348,   -999.0,9
   33RBGP604_1,  PR16,    47,  1,      4,      4,2,20041121,0237, -6.0033,-110.0017, 3751,    400.4,   9.5973,  34.7230,2,  34.7234,2,   -999.0,9,  9.5517,   -999.0,9
   33RBGP604_1,  PR16,    47,  1,      3,      3,2,20041121,0237, -6.0033,-110.0017, 3751,    600.5,   7.1191,  34.5898,2,  34.5892,2,   -999.0,9,  7.0610,   -999.0,9
   33RBGP604_1,  PR16,    47,  1,      2,      2,2,20041121,0237, -6.0033,-110.0017, 3751,    801.1,   5.5757,  34.5442,2,  34.5446,2,   -999.0,9,  5.5065,   -999.0,9
   33RBGP604_1,  PR16,    47,  1,      1,      1,2,20041121,0237, -6.0033,-110.0017, 3751,   1000.1,   4.6326,  34.5446,2,  34.5469,2,   -999.0,9,  4.5520,   -999.0,9
   33RBGP604_1,  PR16,    48,  1,      8,      8,2,20041121,0822, -7.0000,-110.0000, 3457,      1.9,  24.4472,  35.4168,2,  35.4150,2,   -999.0,9, 24.4468,   -999.0,9
   33RBGP604_1,  PR16,    48,  1,      7,      7,2,20041121,0822, -7.0000,-110.0000, 3457,     19.9,  24.4520,  35.4164,2,  35.4146,2,   -999.0,9, 24.4478,   -999.0,9
   33RBGP604_1,  PR16,    48,  1,      6,      6,2,20041121,0822, -7.0000,-110.0000, 3457,     40.7,  24.4570,  35.4157,2,  35.4144,2,   -999.0,9, 24.4483,   -999.0,9
   33RBGP604_1,  PR16,    48,  1,      5,      5,2,20041121,0822, -7.0000,-110.0000, 3457,    200.0,  12.0493,  34.8837,2,  34.8839,2,   -999.0,9, 12.0232,   -999.0,9
   33RBGP604_1,  PR16,    48,  1,      4,      4,2,20041121,0822, -7.0000,-110.0000, 3457,    400.3,   9.9080,  34.7416,2,  34.7408,2,   -999.0,9,  9.8615,   -999.0,9
   33RBGP604_1,  PR16,    48,  1,      3,      3,2,20041121,0822, -7.0000,-110.0000, 3457,    600.6,   7.2083,  34.5909,2,  34.5900,2,   -999.0,9,  7.1498,   -999.0,9
   33RBGP604_1,  PR16,    48,  1,      2,      2,2,20041121,0822, -7.0000,-110.0000, 3457,    800.2,   5.6006,  34.5454,2,  34.5467,2,   -999.0,9,  5.5313,   -999.0,9
   33RBGP604_1,  PR16,    48,  1,      1,      1,2,20041121,0822, -7.0000,-110.0000, 3457,   1000.9,   4.6330,  34.5446,2,  34.5450,2,   -999.0,9,  4.5523,   -999.0,9
   33RBGP604_1,  PR16,    49,  1,      8,      8,2,20041121,2235, -7.9917,-110.0717, 3420,      2.3,  24.9978,  35.6111,2,  35.6113,2,   -999.0,9, 24.9973,   -999.0,9
   33RBGP604_1,  PR16,    49,  1,      7,      7,2,20041121,2235, -7.9917,-110.0717, 3420,     19.0,  24.8734,  35.6147,2,  35.6140,2,   -999.0,9, 24.8693,   -999.0,9
   33RBGP604_1,  PR16,    49,  1,      6,      6,2,20041121,2235, -7.9917,-110.0717, 3420,     39.6,  24.7301,  35.6063,2,  35.6057,2,   -999.0,9, 24.7215,   -999.0,9
   33RBGP604_1,  PR16,    49,  1,      5,      5,2,20041121,2235, -7.9917,-110.0717, 3420,    199.4,  12.6161,  34.9067,2,  34.9016,2,   -999.0,9, 12.5892,   -999.0,9
   33RBGP604_1,  PR16,    49,  1,      4,      4,2,20041121,2235, -7.9917,-110.0717, 3420,    800.7,   5.5687,  34.5427,2,  34.5428,2,   -999.0,9,  5.4996,   -999.0,9
   33RBGP604_1,  PR16,    49,  1,      3,      3,2,20041121,2235, -7.9917,-110.0717, 3420,   1000.5,   4.6455,  34.5415,2,  34.5407,2,   -999.0,9,  4.5648,   -999.0,9
   33RBGP604_1,  PR16,    49,  1,      2,      2,2,20041121,2235, -7.9917,-110.0717, 3420,   1999.4,   2.2927,  34.6391,2,  34.6399,2,   -999.0,9,  2.1519,   -999.0,9
   33RBGP604_1,  PR16,    49,  1,      1,      1,2,20041121,2235, -7.9917,-110.0717, 3420,   3026.8,   1.7486,  34.6774,2,  34.6784,2,   -999.0,9,  1.5237,   -999.0,9