BOTTLE,20140514CCHSIOSE
EXPOCODE,SECT_ID,STNNBR,CASTNO,SAMPNO,BTLNBR,BTLNBR_FLAG_W,DATE,TIME,LATITUDE,LONGITUDE,DEPTH,CTDPRS,CTDTMP,CTDSAL,CTDSAL_FLAG_W,SALNTY,SALNTY_FLAG_W,CTDOXY,CTDOXY_FLAG_W,OXYGEN,OXYGEN_FLAG_W,SILCAT,SILCAT_FLAG_W,NITRAT,NITRAT_FLAG_W,NITRIT,NITRIT_FLAG_W,PHSPHT,PHSPHT_FLAG_W,CFC-11,CFC-11_FLAG_W,CFC-12,CFC-12_FLAG_W,CFC113,CFC113_FLAG_W,TCARBN,TCARBN_FLAG_W,ALKALI,ALKALI_FLAG_W,TRITUM,TRITUM_FLAG_W,HELIUM,HELIUM_FLAG_W,DELHE3,DELHE3_FLAG_W,DELC13,DELC13_FLAG_W,DELC14,DELC14_FLAG_W,C14ERR,NEON,NEON_FLAG_W,NEONER,CCL4,CCL4_FLAG_W,HELIER,THETA,TRITER,DELHER
,,,,,,,,,,,METERS,DBAR,ITS-90,PSS-78,,PSS-78,,UMOL/KG,,UMOL/KG,,UMOL/KG,,UMOL/KG,,UMOL/KG,,UMOL/KG,,PMOL/KG,,PMOL/KG,,PMOL/KG,,UMOL/KG,,UMOL/KG,,TU,,NMOL/KG,,PERCNT,,/MILLE,,/MILLE,,/MILLE,NMOL/KG,,NMOL/KG,PMOL/KG,,NMOL/KG,DEG C,TU,PERCNT
  316N145_8,        I03,     519,          1,         27,         27,2,19950519,       1915,   -19.9983,    68.2173,       2516,     7.1,  24.8580,  35.1648,2,  35.1643,2,    208.1,2,   208.6,2,    3.07,2,    0.00,2,    0.00,2,    0.12,2,-999.000,9,-999.000,9,-999.000,9,  1961.4,2,  2301.0,6,-999.0000,9,-999.0000,9, -999.00,9, -999.00,9,  -999.0,9,  -999.0,-999.000,9,-999.000,-999.000,9,-999.0000,  24.8564,-999.0000,-999.000
  316N145_8,        I03,     519,          1,         26,         26,2,19950519,       1915,   -19.9983,    68.2173,       2516,    54.2,  24.8567,  35.1654,2,  35.1653,2,    211.3,2,   208.7,2,    3.06,2,    0.04,2,    0.00,2,    0.12,2,-999.000,9,-999.000,9,-999.000,9,  1960.9,2,  2301.0,2,-999.0000,9,-999.0000,9, -999.00,9, -999.00,9,  -999.0,9,  -999.0,-999.000,9,-999.000,-999.000,9,-999.0000,  24.8450,-999.0000,-999.000
  316N145_8,        I03,     519,          1,         25,         25,2,19950519,       1915,   -19.9983,    68.2173,       2516,   104.4,  22.6735,  35.3816,2,  35.3823,2,    229.6,2,   220.1,2,    3.04,2,    0.03,2,    0.00,2,    0.12,2,-999.000,9,-999.000,9,-999.000,9,  1988.1,2,  2314.0,2,-999.0000,9,-999.0000,9, -999.00,9, -999.00,9,  -999.0,9,  -999.0,-999.000,9,-999.000,-999.000,9,-999.0000,  22.6524,-999.0000,-999.000
  316N145_8,        I03,     519,          1,         24,         24,2,19950519,       1915,   -19.9983,    68.2173,       2516,   153.9,  20.8160,  35.5896,2,  35.5956,2,    204.2,2,   200.9,2,    3.45,2,    0.98,2,    0.23,2,    0.23,2,-999.000,9,-999.000,9,-999.000,9,  2027.4,2,  2330.0,2,-999.0000,9,-999.0000,9, -999.00,9, -999.00,9,  -999.0,9,  -999.0,-999.000,9,-999.000,-999.000,9,-999.0000,  20.7866,-999.0000,-999.000
  316N145_8,        I03,     519,          1,         23,         23,2,19950519,       1915,   -19.9983,    68.2173,       2516,   204.2,  19.3109,  35.7152,2,  35.7113,2,    202.2,2,   199.9,2,    3.44,2,    1.94,2,    0.01,2,    0.28,2,-999.000,9,-999.000,9,-999.000,9,  2052.0,2,  2337.0,2,-999.0000,9,-999.0000,9, -999.00,9, -999.00,9,  -999.0,9,  -999.0,-999.000,9,-999.000,-999.000,9,-999.0000,  19.2739,-999.0000,-999.000
  316N145_8,        I03,     519,          1,         22,         22,2,19950519,       1915,   -19.9983,    68.2173,       2516,   255.0,  18.0981,  35.7589,2,  35.7566,2,    203.3,2,   203.7,2,    3.22,2,    2.18,2,    0.01,2,    0.31,2,-999.000,9,-999.000,9,-999.000,9,  2068.3,2,  2343.0,2,-999.0000,9,-999.0000,9, -999.00,9, -999.00,9,  -999.0,9,  -999.0,-999.000,9,-999.000,-999.000,9,-999.0000,  18.0539,-999.0000,-999.000
  316N145_8,        I03,     519,          1,         21,         21,2,19950519,       1915,   -19.9983,    68.2173,       2516,   305.1,  16.3455,  35.6443,2,  35.6502,2,    200.8,2,   206.0,2,    3.63,2,    3.63,2,    0.01,2,    0.42,2,-999.000,9,-999.000,9,-999.000,9,  2084.9,2,  2341.0,2,-999.0000,9,-999.0000,9, -999.00,9, -999.00,9,  -999.0,9,  -999.0,-999.000,9,-999.000,-999.000,9,-999.0000,  16.2961,-999.0000,-999.000
  316N145_8,        I03,     519,          1,         20,         20,2,19950519,       1915,   -19.9983,    68.2173,       2516,   355.2,  14.4125,  35.4316,2,  35.4191,2,    216.3,2,   217.5,2,    3.41,2,    5.83,2,    0.01,2,    0.55,2,-999.000,9,-999.000,9,-999.000,9,  2095.2,2,  2328.0,2,-999.0000,9,-999.0000,9, -999.00,9, -999.00,9,  -999.0,9,  -999.0,-999.000,9,-999.000,-999.000,9,-999.0000,  14.3597,-999.0000,-999.000
  316N145_8,        I03,     519,          1,         19,         19,2,19950519,       1915,   -19.9983,    68.2173,       2516,   405.9,  12.5795,  35.1787,2,  35.1797,2,    224.8,2,   227.7,2,    3.82,2,    8.74,2,    0.00,2,    0.71,2,-999.000,9,-999.000,9,-999.000,9,  2098.2,2,  2315.0,2,-999.0000,9,-999.0000,9, -999.00,9, -999.00,9,  -999.0,9,  -999.0,-999.000,9,-999.000,-999.000,9,-999.0000,  12.5243,-999.0000,-999.000
  316N145_8,        I03,     519,          1,         18,         18,2,19950519,       1915,   -19.9983,    68.2173,       2516,   456.2,  11.9754,  35.0866,2,  35.0908,2,    226.3,2,   230.0,2,    4.02,2,    9.92,2,    0.00,2,    0.78,2,-999.000,9,-999.000,9,-999.000,9,  2100.4,2,  2313.0,2,-999.0000,9,-999.0000,9, -999.00,9, -999.00,9,  -999.0,9,  -999.0,-999.000,9,-999.000,-999.000,9,-999.0000,  11.9153,-999.0000,-999.000
  316N145_8,        I03,     519,          1,         17,         17,2,19950519,       1915,   -19.9983,    68.2173,       2516,   506.6,  11.3089,  34.9859,2,  34.9847,2,    232.1,2,   231.6,2,    4.22,2,   11.33,2,    0.00,2,    0.86,2,-999.000,9,-999.000,9,-999.000,9,  2102.2,2,  2308.0,2,-999.0000,9,-999.0000,9, -999.00,9, -999.00,9,  -999.0,9,  -999.0,-999.000,9,-999.000,-999.000,9,-999.0000,  11.2445,-999.0000,-999.000
  316N145_8,        I03,     519,          1,         16,         16,2,19950519,       1915,   -19.9983,    68.2173,       2516,   606.1,   9.8351,  34.7664,2,  34.7657,2,    230.4,2,   231.0,2,    5.47,2,   15.18,2,    0.00,2,    1.10,2,   2.484,2,   1.232,2,-999.000,9,  2112.2,2,  2298.0,2,-999.0000,9,-999.0000,9, -999.00,9, -999.00,9,  -999.0,9,  -999.0,-999.000,9,-999.000,-999.000,9,-999.0000,   9.7643,-999.0000,-999.000
  316N145_8,        I03,     519,          1,         15,         15,2,19950519,       1915,   -19.9983,    68.2173,       2516,   707.4,   8.6214,  34.6259,2,  34.6246,2,    216.6,2,   214.7,2,   10.08,2,   19.89,2,    0.00,2,    1.39,2,   1.564,2,   0.782,2,-999.000,9,  2131.5,2,  2293.0,2,-999.0000,9,-999.0000,9, -999.00,9, -999.00,9,  -999.0,9,  -999.0,-999.000,9,-999.000,-999.000,9,-999.0000,   8.5446,-999.0000,-999.000
  316N145_8,        I03,     519,          1,         14,         14,2,19950519,       1915,   -19.9983,    68.2173,       2516,   807.1,   6.9013,  34.5031,2,  34.5034,2,    194.5,2,   194.4,2,   21.41,2,   25.61,2,    0.00,2,    1.78,2,   0.648,2,   0.337,2,-999.000,9,  2164.1,2,  2298.0,2,-999.0000,9,-999.0000,9, -999.00,9, -999.00,9,  -999.0,9,  -999.0,-999.000,9,-999.000,-999.000,9,-999.0000,   6.8236,-999.0000,-999.000
  316N145_8,        I03,     519,          1,         13,         13,2,19950519,       1915,   -19.9983,    68.2173,       2516,   908.6,   5.3515,  34.4709,2,  34.4715,2,    165.5,2,   166.5,2,   44.29,2,   31.14,2,    0.00,2,    2.20,2,   0.183,2,   0.098,2,-999.000,9,  2208.4,2,  2315.0,2,-999.0000,9,-999.0000,9, -999.00,9, -999.00,9,  -999.0,9,  -999.0,-999.000,9,-999.000,-999.000,9,-999.0000,   5.2741,-999.0000,-999.000
  316N145_8,        I03,     519,          1,         12,         12,2,19950519,       1915,   -19.9983,    68.2173,       2516,  1009.3,   4.8134,  34.5344,2,  34.5340,2,    138.2,2,   139.2,2,   64.26,2,   33.78,2,    0.00,2,    2.42,2,   0.040,2,   0.023,2,-999.000,9,  2243.4,2,  2341.0,2,-999.0000,9,   1.8480,2,    7.83,2, -999.00,9,  -999.0,9,  -999.0,   7.844,2,   0.042,-999.000,9,   0.0150,   4.7307,-999.0000,    0.12
  316N145_8,        I03,     519,          1,         11,         11,2,19950519,       1915,   -19.9983,    68.2173,       2516,  1109.8,   4.4523,  34.5990,2,  34.6007,2,    124.7,2,   126.1,2,   78.81,2,   34.95,2,    0.00,2,    2.53,2,   0.010,2,   0.007,2,-999.000,9,  2265.8,2,  2355.0,2,-999.0000,9,   1.8490,2,   10.25,2, -999.00,9,  -999.0,9,  -999.0,   7.859,2,   0.021,-999.000,9,   0.0030,   4.3634,-999.0000,    0.13
  316N145_8,        I03,     519,          1,         10,         10,2,19950519,       1915,   -19.9983,    68.2173,       2516,  1211.0,   4.3034,  34.6332,2,  34.6334,2,    122.3,2,   121.2,2,   84.95,2,   35.20,2,    0.00,2,    2.55,2,-999.000,9,-999.000,9,-999.000,9,  2273.5,2,  2360.0,2,-999.0000,9,   1.8520,2,   11.08,2, -999.00,9,  -999.0,9,  -999.0,   7.916,2,   0.028,-999.000,9,   0.0030,   4.2068,-999.0000,    0.12
  316N145_8,        I03,     519,          1,          9,          9,2,19950519,       1915,   -19.9983,    68.2173,       2516,  1311.1,   4.0438,  34.6528,2,  34.6548,2,    123.2,2,   123.8,2,   89.19,2,   35.11,2,    0.00,2,    2.55,2,-999.000,9,-999.000,9,-999.000,9,  2278.6,2,  2362.0,2,-999.0000,9,   1.8610,2,   11.50,2, -999.00,9,  -999.0,9,  -999.0,   7.939,2,   0.021,-999.000,9,   0.0030,   3.9408,-999.0000,    0.13
  316N145_8,        I03,     519,          1,          8,          8,2,19950519,       1915,   -19.9983,    68.2173,       2516,  1412.3,   3.7599,  34.6715,2,  34.6713,2,    128.2,2,   128.6,2,   92.79,2,   34.97,2,    0.01,2,    2.52,2,-999.000,9,-999.000,9,-999.000,9,  2279.2,2,  2368.0,2,-999.0000,9,-999.0000,9, -999.00,9, -999.00,9,  -999.0,9,  -999.0,-999.000,9,-999.000,-999.000,9,-999.0000,   3.6509,-999.0000,-999.000
  316N145_8,        I03,     519,          1,          7,          7,2,19950519,       1915,   -19.9983,    68.2173,       2516,  1514.8,   3.3506,  34.6761,2,  34.6764,2,    135.8,2,   137.5,2,   94.49,2,   34.64,2,    0.01,2,    2.48,2,-999.000,9,-999.000,9,-999.000,9,  2277.8,2,  2368.0,2,-999.0000,9,   1.8700,2,   12.19,2, -999.00,9,  -999.0,9,  -999.0,   8.012,2,   0.062,-999.000,9,   0.0060,   3.2372,-999.0000,    0.13
  316N145_8,        I03,     519,          1,          6,          6,2,19950519,       1915,   -19.9983,    68.2173,       2516,  1614.7,   2.9858,  34.6753,2,  34.6748,2,    148.2,2,   149.9,2,   93.62,2,   34.03,2,    0.01,2,    2.42,2,-999.000,9,-999.000,9,-999.000,9,  2271.6,2,  2369.0,2,-999.0000,9,   1.8770,2,   11.78,2, -999.00,9,  -999.0,9,  -999.0,   8.044,2,   0.053,-999.000,9,   0.0100,   2.8682,-999.0000,    0.13
  316N145_8,        I03,     519,          1,          5,          5,2,19950519,       1915,   -19.9983,    68.2173,       2516,  1714.5,   2.7160,  34.6909,2,  34.6909,2,    156.0,2,   156.2,2,   97.03,2,   33.70,2,    0.01,2,    2.39,2,-999.000,9,-999.000,9,-999.000,9,  2273.7,2,  2370.0,2,-999.0000,9,   1.8850,2,   12.77,2, -999.00,9,  -999.0,9,  -999.0,   8.126,2,   0.055,-999.000,9,   0.0060,   2.5933,-999.0000,    0.13
  316N145_8,        I03,     519,          1,          4,          4,2,19950519,       1915,   -19.9983,    68.2173,       2516,  1917.2,   2.2411,  34.7119,2,  34.7121,2,    167.5,2,   168.1,2,  103.66,2,   33.08,2,    0.01,2,    2.33,2,-999.000,9,-999.000,9,-999.000,9,  2272.9,2,  2376.0,2,-999.0000,9,   1.9270,2,   14.42,2, -999.00,9,  -999.0,9,  -999.0,   8.192,2,   0.024,-999.000,9,   0.0040,   2.1078,-999.0000,    0.10
  316N145_8,        I03,     519,          1,          3,          3,2,19950519,       1915,   -19.9983,    68.2173,       2516,  2120.3,   1.9200,  34.7202,2,  34.7208,2,    174.3,2,   174.6,2,  110.99,2,   32.85,2,    0.01,2,    2.30,2,-999.000,9,-999.000,9,-999.000,9,  2275.5,2,  2382.0,2,-999.0000,9,   1.9360,2,   16.88,2, -999.00,9,  -999.0,9,  -999.0,   8.275,2,   0.073,-999.000,9,   0.0060,   1.7743,-999.0000,    0.13
  316N145_8,        I03,     519,          1,          2,          2,2,19950519,       1915,   -19.9983,    68.2173,       2516,  2322.3,   1.8636,  34.7219,2,  34.7217,2,    175.1,2,   176.8,2,  111.84,2,   32.76,2,    0.01,2,    2.30,2,-999.000,9,-999.000,9,-999.000,9,  2274.9,2,  2383.0,2,-999.0000,9,   1.9080,2,   17.52,2, -999.00,9,  -999.0,9,  -999.0,   8.088,2,   0.024,-999.000,9,   0.0040,   1.7014,-999.0000,    0.10
  316N145_8,        I03,     519,          1,          1,          1,2,19950519,       1915,   -19.9983,    68.2173,       2516,  2553.5,   1.8175,  34.7222,2,  34.7229,2,    178.0,2,   178.1,2,  112.70,2,   32.62,2,    0.01,2,    2.30,2,-999.000,9,-999.000,9,-999.000,9,  2275.8,6,  2383.5,6,-999.0000,9,   1.8950,2,   18.17,2, -999.00,9,  -999.0,9,  -999.0,   8.115,2,   0.057,-999.000,9,   0.0060,   1.6355,-999.0000,    0.13