BOTTLE,20140514CCHSIOSE
EXPOCODE,SECT_ID,STNNBR,CASTNO,SAMPNO,BTLNBR,BTLNBR_FLAG_W,DATE,TIME,LATITUDE,LONGITUDE,DEPTH,CTDPRS,CTDTMP,CTDSAL,CTDSAL_FLAG_W,SALNTY,SALNTY_FLAG_W,CTDOXY,CTDOXY_FLAG_W,OXYGEN,OXYGEN_FLAG_W,SILCAT,SILCAT_FLAG_W,NITRAT,NITRAT_FLAG_W,NITRIT,NITRIT_FLAG_W,PHSPHT,PHSPHT_FLAG_W,CFC-11,CFC-11_FLAG_W,CFC-12,CFC-12_FLAG_W,CFC113,CFC113_FLAG_W,TCARBN,TCARBN_FLAG_W,ALKALI,ALKALI_FLAG_W,TRITUM,TRITUM_FLAG_W,HELIUM,HELIUM_FLAG_W,DELHE3,DELHE3_FLAG_W,DELC13,DELC13_FLAG_W,DELC14,DELC14_FLAG_W,C14ERR,NEON,NEON_FLAG_W,NEONER,CCL4,CCL4_FLAG_W,HELIER,THETA,TRITER,DELHER
,,,,,,,,,,,METERS,DBAR,ITS-90,PSS-78,,PSS-78,,UMOL/KG,,UMOL/KG,,UMOL/KG,,UMOL/KG,,UMOL/KG,,UMOL/KG,,PMOL/KG,,PMOL/KG,,PMOL/KG,,UMOL/KG,,UMOL/KG,,TU,,NMOL/KG,,PERCNT,,/MILLE,,/MILLE,,/MILLE,NMOL/KG,,NMOL/KG,PMOL/KG,,NMOL/KG,DEG C,TU,PERCNT
  316N145_8,        I03,     562,          1,          7,          7,2,19950601,       2325,   -20.0008,    48.9177,        233,     7.8,  26.1510,  35.0204,2,  35.0173,2,    204.3,2,   205.0,2,    2.15,2,    0.15,2,    0.00,2,    0.13,2,-999.000,9,-999.000,9,-999.000,9,  -999.0,9,  -999.0,9,-999.0000,9,-999.0000,9, -999.00,9, -999.00,9,  -999.0,9,  -999.0,-999.000,9,-999.000,-999.000,9,-999.0000,  26.1493,-999.0000,-999.000
  316N145_8,        I03,     562,          1,          6,          6,2,19950601,       2325,   -20.0008,    48.9177,        233,    36.9,  26.1416,  35.0212,2,  35.0183,2,    205.4,2,   204.7,2,    2.14,2,    0.10,2,    0.00,2,    0.13,2,-999.000,9,-999.000,9,-999.000,9,  -999.0,9,  -999.0,9,   1.0994,2,   1.7151,2,   -1.39,2, -999.00,9,  -999.0,9,  -999.0,   6.779,2,   0.034,-999.000,9,   0.0086,  26.1334,   0.0039,    0.14
  316N145_8,        I03,     562,          1,          5,          5,2,19950601,       2325,   -20.0008,    48.9177,        233,    67.9,  24.4892,  35.1786,2,  35.1726,2,    207.7,2,   208.0,2,    4.42,4,    3.93,4,    0.04,4,    0.40,4,-999.000,9,-999.000,9,-999.000,9,  -999.0,9,  -999.0,9,-999.0000,9,-999.0000,9, -999.00,9, -999.00,9,  -999.0,9,  -999.0,-999.000,9,-999.000,-999.000,9,-999.0000,  24.4747,-999.0000,-999.000
  316N145_8,        I03,     562,          1,          4,          4,2,19950601,       2325,   -20.0008,    48.9177,        233,   102.5,  21.5210,  35.3190,2,  35.3136,2,    177.4,2,   176.4,2,    4.42,2,    3.93,2,    0.05,2,    0.41,2,-999.000,9,-999.000,9,-999.000,9,  -999.0,9,  -999.0,9,   1.0971,2,   1.7380,2,   -0.17,2, -999.00,9,  -999.0,9,  -999.0,   6.985,2,   0.035,-999.000,9,   0.0087,  21.5010,   0.0039,    0.14
  316N145_8,        I03,     562,          1,          3,          3,2,19950601,       2325,   -20.0008,    48.9177,        233,   152.5,  20.1229,  35.4004,2,  35.3985,2,    164.4,2,   164.5,2,    6.07,2,    6.19,2,    0.01,2,    0.54,2,-999.000,9,-999.000,9,-999.000,9,  -999.0,9,  -999.0,9,   1.0781,2,   1.7542,2,    0.86,2, -999.00,9,  -999.0,9,  -999.0,   7.098,2,   0.035,-999.000,9,   0.0088,  20.0945,   0.0039,    0.14
  316N145_8,        I03,     562,          1,          2,          2,2,19950601,       2325,   -20.0008,    48.9177,        233,   202.2,  18.1455,  35.4997,2,  35.4963,2,    166.8,2,   167.9,2,    7.31,2,    7.22,2,    0.00,2,    0.61,2,-999.000,9,-999.000,9,-999.000,9,  -999.0,9,  -999.0,9,   1.0266,2,   1.7593,2,    1.45,2, -999.00,9,  -999.0,9,  -999.0,   7.153,2,   0.036,-999.000,9,   0.0088,  18.1105,   0.0039,    0.14
  316N145_8,        I03,     562,          1,          1,          1,2,19950601,       2325,   -20.0008,    48.9177,        233,   232.8,  17.2894,  35.4914,2,  35.4912,2,    169.8,2,   170.9,2,    7.51,2,    7.60,2,    0.01,2,    0.65,2,-999.000,9,-999.000,9,-999.000,9,  -999.0,9,  -999.0,9,-999.0000,9,-999.0000,9, -999.00,9, -999.00,9,  -999.0,9,  -999.0,-999.000,9,-999.000,-999.000,9,-999.0000,  17.2504,-999.0000,-999.000
  316N145_8,        I03,     563,          1,          7,          7,2,19950602,       0032,   -20.0002,    48.9912,       1022,     8.1,  26.1751,  35.0343,2,  35.0324,2,    208.7,2,   208.2,2, -999.00,9, -999.00,9, -999.00,9, -999.00,9,-999.000,9,-999.000,9,-999.000,9,  -999.0,9,  -999.0,9,-999.0000,9,-999.0000,9, -999.00,9, -999.00,9,  -999.0,9,  -999.0,-999.000,9,-999.000,-999.000,9,-999.0000,  26.1733,-999.0000,-999.000
  316N145_8,        I03,     563,          1,          6,          6,2,19950602,       0032,   -20.0002,    48.9912,       1022,    69.8,  24.0775,  35.2082,2,  35.2050,2,    215.0,2,   215.1,2, -999.00,9, -999.00,9, -999.00,9, -999.00,9,-999.000,9,-999.000,9,-999.000,9,  -999.0,9,  -999.0,9,-999.0000,9,-999.0000,9, -999.00,9, -999.00,9,  -999.0,9,  -999.0,-999.000,9,-999.000,-999.000,9,-999.0000,  24.0628,-999.0000,-999.000
  316N145_8,        I03,     563,          1,          5,          5,2,19950602,       0032,   -20.0002,    48.9912,       1022,   178.7,  19.2566,  35.4621,2,  35.4599,2,    165.2,2,   165.1,2, -999.00,9, -999.00,9, -999.00,9, -999.00,9,-999.000,9,-999.000,9,-999.000,9,  -999.0,9,  -999.0,9,-999.0000,9,-999.0000,9, -999.00,9, -999.00,9,  -999.0,9,  -999.0,-999.000,9,-999.000,-999.000,9,-999.0000,  19.2244,-999.0000,-999.000
  316N145_8,        I03,     563,          1,          4,          4,2,19950602,       0032,   -20.0002,    48.9912,       1022,   379.6,  13.4002,  35.2781,2,  35.2788,2,    217.8,2,   217.5,2, -999.00,9, -999.00,9, -999.00,9, -999.00,9,-999.000,9,-999.000,9,-999.000,9,  -999.0,9,  -999.0,9,-999.0000,9,-999.0000,9, -999.00,9, -999.00,9,  -999.0,9,  -999.0,-999.000,9,-999.000,-999.000,9,-999.0000,  13.3464,-999.0000,-999.000
  316N145_8,        I03,     563,          1,          3,          3,2,19950602,       0032,   -20.0002,    48.9912,       1022,   556.3,  10.2286,  34.8360,2,  34.8289,2,    214.3,2,   214.8,2, -999.00,9, -999.00,9, -999.00,9, -999.00,9,-999.000,9,-999.000,9,-999.000,9,  -999.0,9,  -999.0,9,-999.0000,9,-999.0000,9, -999.00,9, -999.00,9,  -999.0,9,  -999.0,-999.000,9,-999.000,-999.000,9,-999.0000,  10.1621,-999.0000,-999.000
  316N145_8,        I03,     563,          1,          2,          2,2,19950602,       0032,   -20.0002,    48.9912,       1022,   907.6,   5.3299,  34.5753,2,  34.5717,2,    143.6,2,   143.7,2, -999.00,9, -999.00,9, -999.00,9, -999.00,9,-999.000,9,-999.000,9,-999.000,9,  -999.0,9,  -999.0,9,-999.0000,9,-999.0000,9, -999.00,9, -999.00,9,  -999.0,9,  -999.0,-999.000,9,-999.000,-999.000,9,-999.0000,   5.2525,-999.0000,-999.000
  316N145_8,        I03,     563,          1,          1,          1,2,19950602,       0032,   -20.0002,    48.9912,       1022,  1046.1,   4.7839,  34.5956,2,  34.5968,2,    135.8,2,   136.3,2, -999.00,9, -999.00,9, -999.00,9, -999.00,9,-999.000,9,-999.000,9,-999.000,9,  -999.0,9,  -999.0,9,-999.0000,9,-999.0000,9, -999.00,9, -999.00,9,  -999.0,9,  -999.0,-999.000,9,-999.000,-999.000,9,-999.0000,   4.6980,-999.0000,-999.000
  316N145_8,        I03,     564,          1,         10,         10,2,19950602,       0237,   -20.0008,    49.1505,       2295,     8.4,  26.1433,  35.1072,2,  35.1055,2,    203.9,2,   212.5,3, -999.00,9, -999.00,9, -999.00,9, -999.00,9,-999.000,9,-999.000,9,-999.000,9,  -999.0,9,  -999.0,9,-999.0000,9,-999.0000,9, -999.00,9, -999.00,9,  -999.0,9,  -999.0,-999.000,9,-999.000,-999.000,9,-999.0000,  26.1415,-999.0000,-999.000
  316N145_8,        I03,     564,          1,          9,          9,2,19950602,       0237,   -20.0008,    49.1505,       2295,    75.5,  24.1672,  35.2173,2,  35.2093,2,    217.6,2,   215.3,2, -999.00,9, -999.00,9, -999.00,9, -999.00,9,-999.000,9,-999.000,9,-999.000,9,  -999.0,9,  -999.0,9,-999.0000,9,-999.0000,9, -999.00,9, -999.00,9,  -999.0,9,  -999.0,-999.000,9,-999.000,-999.000,9,-999.0000,  24.1512,-999.0000,-999.000
  316N145_8,        I03,     564,          1,          8,          8,2,19950602,       0237,   -20.0008,    49.1505,       2295,   203.7,  18.7920,  35.4375,2,  35.4340,2,    158.6,2,   158.3,2, -999.00,9, -999.00,9, -999.00,9, -999.00,9,-999.000,9,-999.000,9,-999.000,9,  -999.0,9,  -999.0,9,-999.0000,9,-999.0000,9, -999.00,9, -999.00,9,  -999.0,9,  -999.0,-999.000,9,-999.000,-999.000,9,-999.0000,  18.7559,-999.0000,-999.000
  316N145_8,        I03,     564,          1,          7,          7,2,19950602,       0237,   -20.0008,    49.1505,       2295,   419.8,  12.4191,  35.1424,2,  35.1320,2,    218.4,2,   220.4,2, -999.00,9, -999.00,9, -999.00,9, -999.00,9,-999.000,9,-999.000,9,-999.000,9,  -999.0,9,  -999.0,9,-999.0000,9,-999.0000,9, -999.00,9, -999.00,9,  -999.0,9,  -999.0,-999.000,9,-999.000,-999.000,9,-999.0000,  12.3625,-999.0000,-999.000
  316N145_8,        I03,     564,          1,          6,          6,2,19950602,       0237,   -20.0008,    49.1505,       2295,   519.6,  10.4897,  34.8671,2,  34.8649,2,    215.7,2,   214.9,2, -999.00,9, -999.00,9, -999.00,9, -999.00,9,-999.000,9,-999.000,9,-999.000,9,  -999.0,9,  -999.0,9,-999.0000,9,-999.0000,9, -999.00,9, -999.00,9,  -999.0,9,  -999.0,-999.000,9,-999.000,-999.000,9,-999.0000,  10.4267,-999.0000,-999.000
  316N145_8,        I03,     564,          1,          5,          5,2,19950602,       0237,   -20.0008,    49.1505,       2295,   984.1,   4.8984,  34.6051,2,  34.6054,2,    133.3,2,   132.5,2, -999.00,9, -999.00,9, -999.00,9, -999.00,9,-999.000,9,-999.000,9,-999.000,9,  -999.0,9,  -999.0,9,-999.0000,9,-999.0000,9, -999.00,9, -999.00,9,  -999.0,9,  -999.0,-999.000,9,-999.000,-999.000,9,-999.0000,   4.8171,-999.0000,-999.000
  316N145_8,        I03,     564,          1,          4,          4,2,19950602,       0237,   -20.0008,    49.1505,       2295,  1084.1,   4.4050,  34.6091,2,  34.6101,2,    134.1,2,   135.2,2, -999.00,9, -999.00,9, -999.00,9, -999.00,9,-999.000,9,-999.000,9,-999.000,9,  -999.0,9,  -999.0,9,-999.0000,9,-999.0000,9, -999.00,9, -999.00,9,  -999.0,9,  -999.0,-999.000,9,-999.000,-999.000,9,-999.0000,   4.3187,-999.0000,-999.000
  316N145_8,        I03,     564,          1,          3,          3,2,19950602,       0237,   -20.0008,    49.1505,       2295,  1310.8,   3.4299,  34.6102,2,  34.6103,2,    152.2,2,   152.7,2, -999.00,9, -999.00,9, -999.00,9, -999.00,9,-999.000,9,-999.000,9,-999.000,9,  -999.0,9,  -999.0,9,-999.0000,9,-999.0000,9, -999.00,9, -999.00,9,  -999.0,9,  -999.0,-999.000,9,-999.000,-999.000,9,-999.0000,   3.3331,-999.0000,-999.000
  316N145_8,        I03,     564,          1,          2,          2,2,19950602,       0237,   -20.0008,    49.1505,       2295,  2017.6,   2.3726,  34.7219,2,  34.7220,2,    161.4,2,   161.0,2, -999.00,9, -999.00,9, -999.00,9, -999.00,9,-999.000,9,-999.000,9,-999.000,9,  -999.0,9,  -999.0,9,-999.0000,9,-999.0000,9, -999.00,9, -999.00,9,  -999.0,9,  -999.0,-999.000,9,-999.000,-999.000,9,-999.0000,   2.2286,-999.0000,-999.000
  316N145_8,        I03,     564,          1,          1,          1,2,19950602,       0237,   -20.0008,    49.1505,       2295,  2309.8,   2.2099,  34.7329,2,  34.7329,2,    159.8,2,   159.5,2, -999.00,9, -999.00,9, -999.00,9, -999.00,9,-999.000,9,-999.000,9,-999.000,9,  -999.0,9,  -999.0,9,-999.0000,9,-999.0000,9, -999.00,9, -999.00,9,  -999.0,9,  -999.0,-999.000,9,-999.000,-999.000,9,-999.0000,   2.0428,-999.0000,-999.000
  316N145_8,        I03,     565,          1,         11,         11,2,19950602,       0533,   -20.0000,    49.3895,       2908,     8.7,  26.2497,  35.1673,2,  35.1659,2,    202.9,2,   204.7,2, -999.00,9, -999.00,9, -999.00,9, -999.00,9,-999.000,9,-999.000,9,-999.000,9,  -999.0,9,  -999.0,9,-999.0000,9,-999.0000,9, -999.00,9, -999.00,9,  -999.0,9,  -999.0,-999.000,9,-999.000,-999.000,9,-999.0000,  26.2477,-999.0000,-999.000
  316N145_8,        I03,     565,          1,         10,         10,2,19950602,       0533,   -20.0000,    49.3895,       2908,    86.3,  24.2143,  35.1712,2,  35.1724,2,    216.0,2,   213.6,2, -999.00,9, -999.00,9, -999.00,9, -999.00,9,-999.000,9,-999.000,9,-999.000,9,  -999.0,9,  -999.0,9,-999.0000,9,-999.0000,9, -999.00,9, -999.00,9,  -999.0,9,  -999.0,-999.000,9,-999.000,-999.000,9,-999.0000,  24.1960,-999.0000,-999.000
  316N145_8,        I03,     565,          1,          9,          9,2,19950602,       0533,   -20.0000,    49.3895,       2908,   235.3,  18.1882,  35.4468,2,  35.4402,2,    152.7,2,   158.1,2, -999.00,9, -999.00,9, -999.00,9, -999.00,9,-999.000,9,-999.000,9,-999.000,9,  -999.0,9,  -999.0,9,-999.0000,9,-999.0000,9, -999.00,9, -999.00,9,  -999.0,9,  -999.0,-999.000,9,-999.000,-999.000,9,-999.0000,  18.1474,-999.0000,-999.000
  316N145_8,        I03,     565,          1,          8,          8,2,19950602,       0533,   -20.0000,    49.3895,       2908,   525.5,  10.0270,  34.8071,2,  34.8065,2,    212.7,2,   212.6,2, -999.00,9, -999.00,9, -999.00,9, -999.00,9,-999.000,9,-999.000,9,-999.000,9,  -999.0,9,  -999.0,9,-999.0000,9,-999.0000,9, -999.00,9, -999.00,9,  -999.0,9,  -999.0,-999.000,9,-999.000,-999.000,9,-999.0000,   9.9650,-999.0000,-999.000
  316N145_8,        I03,     565,          1,          7,          7,2,19950602,       0533,   -20.0000,    49.3895,       2908,   807.0,   6.2814,  34.5857,2,  34.5940,2,    147.0,2,   146.7,2, -999.00,9, -999.00,9, -999.00,9, -999.00,9,-999.000,9,-999.000,9,-999.000,9,  -999.0,9,  -999.0,9,-999.0000,9,-999.0000,9, -999.00,9, -999.00,9,  -999.0,9,  -999.0,-999.000,9,-999.000,-999.000,9,-999.0000,   6.2074,-999.0000,-999.000
  316N145_8,        I03,     565,          1,          6,          6,2,19950602,       0533,   -20.0000,    49.3895,       2908,   907.4,   5.1059,  34.5334,2,  34.5348,2,    150.1,2,   151.1,2, -999.00,9, -999.00,9, -999.00,9, -999.00,9,-999.000,9,-999.000,9,-999.000,9,  -999.0,9,  -999.0,9,-999.0000,9,-999.0000,9, -999.00,9, -999.00,9,  -999.0,9,  -999.0,-999.000,9,-999.000,-999.000,9,-999.0000,   5.0302,-999.0000,-999.000
  316N145_8,        I03,     565,          1,          5,          5,2,19950602,       0533,   -20.0000,    49.3895,       2908,  1022.6,   4.7746,  34.6108,2,  34.6120,2,    131.7,2,   131.5,2, -999.00,9, -999.00,9, -999.00,9, -999.00,9,-999.000,9,-999.000,9,-999.000,9,  -999.0,9,  -999.0,9,-999.0000,9,-999.0000,9, -999.00,9, -999.00,9,  -999.0,9,  -999.0,-999.000,9,-999.000,-999.000,9,-999.0000,   4.6909,-999.0000,-999.000
  316N145_8,        I03,     565,          1,          4,          4,2,19950602,       0533,   -20.0000,    49.3895,       2908,  1310.6,   3.4792,  34.6324,2,  34.6314,2,    148.6,2,   148.9,2, -999.00,9, -999.00,9, -999.00,9, -999.00,9,-999.000,9,-999.000,9,-999.000,9,  -999.0,9,  -999.0,9,-999.0000,9,-999.0000,9, -999.00,9, -999.00,9,  -999.0,9,  -999.0,-999.000,9,-999.000,-999.000,9,-999.0000,   3.3819,-999.0000,-999.000
  316N145_8,        I03,     565,          1,          3,          3,2,19950602,       0533,   -20.0000,    49.3895,       2908,  2017.7,   2.4238,  34.7217,2,  34.7211,2,    160.0,2,   159.3,2, -999.00,9, -999.00,9, -999.00,9, -999.00,9,-999.000,9,-999.000,9,-999.000,9,  -999.0,9,  -999.0,9,-999.0000,9,-999.0000,9, -999.00,9, -999.00,9,  -999.0,9,  -999.0,-999.000,9,-999.000,-999.000,9,-999.0000,   2.2791,-999.0000,-999.000
  316N145_8,        I03,     565,          1,          2,          2,2,19950602,       0533,   -20.0000,    49.3895,       2908,  2726.4,   1.9493,  34.7362,2,  34.7376,2,    160.5,2,   160.8,2, -999.00,9, -999.00,9, -999.00,9, -999.00,9,-999.000,9,-999.000,9,-999.000,9,  -999.0,9,  -999.0,9,-999.0000,9,-999.0000,9, -999.00,9, -999.00,9,  -999.0,9,  -999.0,-999.000,9,-999.000,-999.000,9,-999.0000,   1.7486,-999.0000,-999.000
  316N145_8,        I03,     565,          1,          1,          1,2,19950602,       0533,   -20.0000,    49.3895,       2908,  2934.7,   1.8780,  34.7359,2,  34.7370,2,    161.8,2,   162.0,2, -999.00,9, -999.00,9, -999.00,9, -999.00,9,-999.000,9,-999.000,9,-999.000,9,  -999.0,9,  -999.0,9,-999.0000,9,-999.0000,9, -999.00,9, -999.00,9,  -999.0,9,  -999.0,-999.000,9,-999.000,-999.000,9,-999.0000,   1.6590,-999.0000,-999.000