BOTTLE,20140514CCHSIOSE
# Merged parameters: DELC13_FLAG_W, TRITUM, TRITER, DELHER
# Changed DELC14 units from "\MILLE" to "/MILLE"
# 20040729WHPSIODBK
#code : jjward hyd_to_exchange.pl 
#original files copied from HTML directory: 20040728
#original HYD file: i03hy.txt   Thu Jul 29 07:43:20 2004
#original SUM file: i03su.txt   Fri Feb 15 08:13:12 2002
EXPOCODE,SECT_ID,STNNBR,CASTNO,SAMPNO,BTLNBR,BTLNBR_FLAG_W,DATE,TIME,LATITUDE,LONGITUDE,DEPTH,CTDPRS,CTDTMP,CTDSAL,CTDSAL_FLAG_W,SALNTY,SALNTY_FLAG_W,CTDOXY,CTDOXY_FLAG_W,OXYGEN,OXYGEN_FLAG_W,SILCAT,SILCAT_FLAG_W,NITRAT,NITRAT_FLAG_W,NITRIT,NITRIT_FLAG_W,PHSPHT,PHSPHT_FLAG_W,CFC-11,CFC-11_FLAG_W,CFC-12,CFC-12_FLAG_W,CFC113,CFC113_FLAG_W,TCARBN,TCARBN_FLAG_W,ALKALI,ALKALI_FLAG_W,TRITUM,TRITUM_FLAG_W,HELIUM,HELIUM_FLAG_W,DELHE3,DELHE3_FLAG_W,DELC13,DELC13_FLAG_W,DELC14,DELC14_FLAG_W,C14ERR,NEON,NEON_FLAG_W,NEONER,CCL4,CCL4_FLAG_W,HELIER,THETA,TRITER,DELHER
,,,,,,,,,,,METERS,DBAR,ITS-90,PSS-78,,PSS-78,,UMOL/KG,,UMOL/KG,,UMOL/KG,,UMOL/KG,,UMOL/KG,,UMOL/KG,,PMOL/KG,,PMOL/KG,,PMOL/KG,,UMOL/KG,,UMOL/KG,,TU,,NMOL/KG,,PERCNT,,/MILLE,,/MILLE,,/MILLE,NMOL/KG,,NMOL/KG,PMOL/KG,,NMOL/KG,DEG C,TU,PERCNT
  316N145_8,        I03,     443,          1,         35,         35,2,19950425,       0147,   -28.2292,   113.2680,        442,     8.3,  25.3282,  35.5251,2,  35.5287,3,    212.0,2,   206.6,2,    3.97,2,    0.08,2,    0.00,2,    0.08,2,   1.876,2,   1.056,2,-999.000,9,  -999.0,9,  -999.0,9,-999.0000,9,-999.0000,9, -999.00,9, -999.00,9,  -999.0,9,  -999.0,-999.000,9,-999.000,-999.000,9,-999.0000,  25.3263,-999.0000,-999.000
  316N145_8,        I03,     443,          1,         36,         36,2,19950425,       0147,   -28.2292,   113.2680,        442,     8.7,  25.3284,  35.5249,2,  35.5280,3,    207.1,2,   208.6,3,    3.97,2,    0.07,2,    0.00,2,    0.08,2,   1.896,3,   1.033,3,-999.000,9,  -999.0,9,  -999.0,9,-999.0000,9,-999.0000,9, -999.00,9, -999.00,9,  -999.0,9,  -999.0,-999.000,9,-999.000,-999.000,9,-999.0000,  25.3265,-999.0000,-999.000
  316N145_8,        I03,     443,          1,         34,         34,2,19950425,       0147,   -28.2292,   113.2680,        442,    33.5,  25.3111,  35.5257,2,  35.5260,3,    203.8,2,   206.0,2,    3.96,2,    0.08,2,    0.00,2,    0.08,2,   1.690,3,   0.956,3,-999.000,9,  -999.0,9,  -999.0,9,-999.0000,9,-999.0000,9, -999.00,9, -999.00,9,  -999.0,9,  -999.0,-999.000,9,-999.000,-999.000,9,-999.0000,  25.3037,-999.0000,-999.000
  316N145_8,        I03,     443,          1,         33,         33,2,19950425,       0147,   -28.2292,   113.2680,        442,    64.0,  23.6708,  35.5590,2,  35.5754,3,    204.5,2,   190.1,3,    5.01,2,    1.42,2,    0.15,2,    0.24,2,   1.955,2,   1.082,2,-999.000,9,  -999.0,9,  -999.0,9,-999.0000,9,-999.0000,9, -999.00,9, -999.00,9,  -999.0,9,  -999.0,-999.000,9,-999.000,-999.000,9,-999.0000,  23.6574,-999.0000,-999.000
  316N145_8,        I03,     443,          1,         31,         31,2,19950425,       0147,   -28.2292,   113.2680,        442,    92.4,  23.2574,  35.8397,2,  35.8364,3,    204.7,2,   209.9,2,    4.15,2,    0.44,2,    0.09,2,    0.12,2,-999.000,9,-999.000,9,-999.000,9,  -999.0,9,  -999.0,9,-999.0000,9,-999.0000,9, -999.00,9, -999.00,9,  -999.0,9,  -999.0,-999.000,9,-999.000,-999.000,9,-999.0000,  23.2384,-999.0000,-999.000
  316N145_8,        I03,     443,          1,         24,         24,2,19950425,       0147,   -28.2292,   113.2680,        442,    92.8,  23.2426,  35.8510,2,  35.8407,3,    204.7,2,   210.7,2,    3.90,2,    0.38,2,    0.08,2,    0.11,2,-999.000,9,-999.000,9,-999.000,9,  -999.0,9,  -999.0,9,-999.0000,9,-999.0000,9, -999.00,9, -999.00,9,  -999.0,9,  -999.0,-999.000,9,-999.000,-999.000,9,-999.0000,  23.2235,-999.0000,-999.000
  316N145_8,        I03,     443,          1,         30,         30,3,19950425,       0147,   -28.2292,   113.2680,        442,    93.2,  23.2874,  35.8546,2,  35.8284,4,    204.7,2,   209.5,4,    4.15,4,    0.44,4,    0.09,4,    0.12,4,-999.000,9,-999.000,9,-999.000,9,  -999.0,9,  -999.0,9,-999.0000,9,-999.0000,9, -999.00,9, -999.00,9,  -999.0,9,  -999.0,-999.000,9,-999.000,-999.000,9,-999.0000,  23.2682,-999.0000,-999.000
  316N145_8,        I03,     443,          1,         28,         28,2,19950425,       0147,   -28.2292,   113.2680,        442,    93.3,  23.2768,  35.8526,2,  35.8377,3,    204.7,2,   210.3,2,    3.93,2,    0.41,2,    0.09,2,    0.11,2,-999.000,9,-999.000,9,-999.000,9,  -999.0,9,  -999.0,9,-999.0000,9,-999.0000,9, -999.00,9, -999.00,9,  -999.0,9,  -999.0,-999.000,9,-999.000,-999.000,9,-999.0000,  23.2576,-999.0000,-999.000
  316N145_8,        I03,     443,          1,         25,         25,2,19950425,       0147,   -28.2292,   113.2680,        442,    93.3,  23.2423,  35.8423,2,  35.8371,3,    204.7,2,   210.4,2,    3.91,2,    0.42,2,    0.09,2,    0.11,2,-999.000,9,-999.000,9,-999.000,9,  -999.0,9,  -999.0,9,-999.0000,9,-999.0000,9, -999.00,9, -999.00,9,  -999.0,9,  -999.0,-999.000,9,-999.000,-999.000,9,-999.0000,  23.2231,-999.0000,-999.000
  316N145_8,        I03,     443,          1,         32,         32,2,19950425,       0147,   -28.2292,   113.2680,        442,    93.5,  23.2845,  35.8521,2,  35.8319,3,    204.7,2,   209.6,2,    4.16,2,    0.43,2,    0.09,2,    0.12,2,-999.000,9,-999.000,9,-999.000,9,  -999.0,9,  -999.0,9,-999.0000,9,-999.0000,9, -999.00,9, -999.00,9,  -999.0,9,  -999.0,-999.000,9,-999.000,-999.000,9,-999.0000,  23.2652,-999.0000,-999.000
  316N145_8,        I03,     443,          1,         27,         27,2,19950425,       0147,   -28.2292,   113.2680,        442,    93.5,  23.2862,  35.8548,2,  35.8376,3,    204.7,2,   210.1,2,    3.92,2,    0.41,2,    0.09,2,    0.11,2,   2.103,2,   1.165,2,-999.000,9,  -999.0,9,  -999.0,9,-999.0000,9,-999.0000,9, -999.00,9, -999.00,9,  -999.0,9,  -999.0,-999.000,9,-999.000,-999.000,9,-999.0000,  23.2669,-999.0000,-999.000
  316N145_8,        I03,     443,          1,         26,         26,2,19950425,       0147,   -28.2292,   113.2680,        442,    93.9,  23.2813,  35.8526,2,  35.8373,3,    204.7,2,   210.4,2,    3.92,2,    0.41,2,    0.09,2,    0.11,2,-999.000,9,-999.000,9,-999.000,9,  -999.0,9,  -999.0,9,-999.0000,9,-999.0000,9, -999.00,9, -999.00,9,  -999.0,9,  -999.0,-999.000,9,-999.000,-999.000,9,-999.0000,  23.2619,-999.0000,-999.000
  316N145_8,        I03,     443,          1,         29,         29,2,19950425,       0147,   -28.2292,   113.2680,        442,    94.1,  23.2992,  35.8601,2,  35.8475,3,    204.7,2,   210.5,2,    3.93,2,    0.36,2,    0.08,2,    0.12,2,-999.000,9,-999.000,9,-999.000,9,  -999.0,9,  -999.0,9,-999.0000,9,-999.0000,9, -999.00,9, -999.00,9,  -999.0,9,  -999.0,-999.000,9,-999.000,-999.000,9,-999.0000,  23.2797,-999.0000,-999.000
  316N145_8,        I03,     443,          1,         23,         23,2,19950425,       0147,   -28.2292,   113.2680,        442,   124.4,  21.1527,  35.8651,2,  35.8637,3,    225.2,2,   221.2,2,    3.48,2,    0.06,2,    0.02,2,    0.12,2,   2.274,3,   1.219,3,-999.000,9,  -999.0,9,  -999.0,9,-999.0000,9,-999.0000,9, -999.00,9, -999.00,9,  -999.0,9,  -999.0,-999.000,9,-999.000,-999.000,9,-999.0000,  21.1287,-999.0000,-999.000
  316N145_8,        I03,     443,          1,         22,         22,2,19950425,       0147,   -28.2292,   113.2680,        442,   153.3,  20.0282,  35.9037,2,  35.8958,3,    224.6,2,   219.3,2,    3.47,2,    0.47,2,    0.13,2,    0.16,2,   2.408,2,   1.344,2,-999.000,9,  -999.0,9,  -999.0,9,-999.0000,9,-999.0000,9, -999.00,9, -999.00,9,  -999.0,9,  -999.0,-999.000,9,-999.000,-999.000,9,-999.0000,  19.9997,-999.0000,-999.000
  316N145_8,        I03,     443,          1,         17,         17,2,19950425,       0147,   -28.2292,   113.2680,        442,   203.3,  18.5387,  35.8861,2,  35.8847,3,    216.7,2,   216.1,2,    3.24,2,    0.99,2,    0.03,2,    0.21,2,-999.000,9,-999.000,9,-999.000,9,  -999.0,9,  -999.0,9,-999.0000,9,-999.0000,9, -999.00,9, -999.00,9,  -999.0,9,  -999.0,-999.000,9,-999.000,-999.000,9,-999.0000,  18.5029,-999.0000,-999.000
  316N145_8,        I03,     443,          1,         14,         14,2,19950425,       0147,   -28.2292,   113.2680,        442,   203.7,  18.5272,  35.8852,2,  35.8833,3,    216.6,2,   216.0,2,    3.22,2,    1.00,2,    0.03,2,    0.21,2,-999.000,9,-999.000,9,-999.000,9,  -999.0,9,  -999.0,9,-999.0000,9,-999.0000,9, -999.00,9, -999.00,9,  -999.0,9,  -999.0,-999.000,9,-999.000,-999.000,9,-999.0000,  18.4913,-999.0000,-999.000
  316N145_8,        I03,     443,          1,         21,         21,2,19950425,       0147,   -28.2292,   113.2680,        442,   203.8,  18.4920,  35.8838,2,  35.8819,3,    215.3,2,   216.4,2,    3.47,2,    0.97,2,    0.03,2,    0.21,2,-999.000,9,-999.000,9,-999.000,9,  -999.0,9,  -999.0,9,-999.0000,9,-999.0000,9, -999.00,9, -999.00,9,  -999.0,9,  -999.0,-999.000,9,-999.000,-999.000,9,-999.0000,  18.4561,-999.0000,-999.000
  316N145_8,        I03,     443,          1,         16,         16,2,19950425,       0147,   -28.2292,   113.2680,        442,   204.0,  18.5312,  35.8852,2,  35.8836,3,    216.6,2,   215.9,2,    3.23,2,    0.99,2,    0.02,2,    0.21,2,-999.000,9,-999.000,9,-999.000,9,  -999.0,9,  -999.0,9,-999.0000,9,-999.0000,9, -999.00,9, -999.00,9,  -999.0,9,  -999.0,-999.000,9,-999.000,-999.000,9,-999.0000,  18.4952,-999.0000,-999.000
  316N145_8,        I03,     443,          1,         13,         13,2,19950425,       0147,   -28.2292,   113.2680,        442,   204.1,  18.5093,  35.8871,2,  35.8830,3,    215.3,2,   215.9,2,    3.22,2,    1.00,2,    0.03,2,    0.21,2,-999.000,9,-999.000,9,-999.000,9,  -999.0,9,  -999.0,9,-999.0000,9,-999.0000,9, -999.00,9, -999.00,9,  -999.0,9,  -999.0,-999.000,9,-999.000,-999.000,9,-999.0000,  18.4733,-999.0000,-999.000
  316N145_8,        I03,     443,          1,         20,         20,2,19950425,       0147,   -28.2292,   113.2680,        442,   204.1,  18.5092,  35.8869,2,  35.8832,3,    215.3,2,   216.3,2,    3.25,2,    0.98,2,    0.03,2,    0.21,2,-999.000,9,-999.000,9,-999.000,9,  -999.0,9,  -999.0,9,-999.0000,9,-999.0000,9, -999.00,9, -999.00,9,  -999.0,9,  -999.0,-999.000,9,-999.000,-999.000,9,-999.0000,  18.4732,-999.0000,-999.000
  316N145_8,        I03,     443,          1,         19,         19,2,19950425,       0147,   -28.2292,   113.2680,        442,   204.3,  18.5123,  35.8871,2,  35.8847,3,    215.3,2,   216.0,2,    3.25,2,    0.98,2,    0.03,2,    0.21,2,-999.000,9,-999.000,9,-999.000,9,  -999.0,9,  -999.0,9,-999.0000,9,-999.0000,9, -999.00,9, -999.00,9,  -999.0,9,  -999.0,-999.000,9,-999.000,-999.000,9,-999.0000,  18.4763,-999.0000,-999.000
  316N145_8,        I03,     443,          1,         15,         15,2,19950425,       0147,   -28.2292,   113.2680,        442,   204.6,  18.5029,  35.8843,2,  35.8841,3,    215.3,2,   216.0,2,    3.23,2,    1.00,2,    0.03,2,    0.21,2,   2.511,2,   1.360,2,-999.000,9,  -999.0,9,  -999.0,9,-999.0000,9,-999.0000,9, -999.00,9, -999.00,9,  -999.0,9,  -999.0,-999.000,9,-999.000,-999.000,9,-999.0000,  18.4669,-999.0000,-999.000
  316N145_8,        I03,     443,          1,         18,         18,2,19950425,       0147,   -28.2292,   113.2680,        442,   204.7,  18.5144,  35.8840,2,  35.8850,3,    215.3,2,   215.9,2,    3.24,2,    0.98,2,    0.03,2,    0.21,2,-999.000,9,-999.000,9,-999.000,9,  -999.0,9,  -999.0,9,-999.0000,9,-999.0000,9, -999.00,9, -999.00,9,  -999.0,9,  -999.0,-999.000,9,-999.000,-999.000,9,-999.0000,  18.4783,-999.0000,-999.000
  316N145_8,        I03,     443,          1,         12,         12,2,19950425,       0147,   -28.2292,   113.2680,        442,   254.4,  16.5563,  35.7598,2,  35.7559,3,    227.0,2,   229.0,2,    2.58,2,    1.13,2,    0.04,2,    0.24,2,   2.818,2,   1.489,2,-999.000,9,  -999.0,9,  -999.0,9,-999.0000,9,-999.0000,9, -999.00,9, -999.00,9,  -999.0,9,  -999.0,-999.000,9,-999.000,-999.000,9,-999.0000,  16.5148,-999.0000,-999.000
  316N145_8,        I03,     443,          1,         11,         11,2,19950425,       0147,   -28.2292,   113.2680,        442,   304.7,  13.2605,  35.2943,2,  35.2672,3,    231.5,2,   236.9,2,    2.37,2,    5.76,2,    0.01,2,    0.53,2,   3.256,2,   1.675,2,-999.000,9,  -999.0,9,  -999.0,9,-999.0000,9,-999.0000,9, -999.00,9, -999.00,9,  -999.0,9,  -999.0,-999.000,9,-999.000,-999.000,9,-999.0000,  13.2177,-999.0000,-999.000
  316N145_8,        I03,     443,          1,         10,         10,2,19950425,       0147,   -28.2292,   113.2680,        442,   353.8,   9.9343,  34.7679,2,  34.7742,3,    240.1,2,   156.6,4,    4.25,2,   13.44,2,    0.00,2,    0.99,2,-999.000,9,-999.000,9,-999.000,9,  -999.0,9,  -999.0,9,-999.0000,9,-999.0000,9, -999.00,9, -999.00,9,  -999.0,9,  -999.0,-999.000,9,-999.000,-999.000,9,-999.0000,   9.8932,-999.0000,-999.000
  316N145_8,        I03,     443,          1,          5,          5,2,19950425,       0147,   -28.2292,   113.2680,        442,   353.8,   9.9692,  34.7722,2,  34.7828,3,    240.0,2,   242.2,2,    4.01,2,   13.34,2,    0.00,2,    0.99,2,-999.000,9,-999.000,9,-999.000,9,  -999.0,9,  -999.0,9,-999.0000,9,-999.0000,9, -999.00,9, -999.00,9,  -999.0,9,  -999.0,-999.000,9,-999.000,-999.000,9,-999.0000,   9.9280,-999.0000,-999.000
  316N145_8,        I03,     443,          1,          7,          7,2,19950425,       0147,   -28.2292,   113.2680,        442,   353.9,   9.9472,  34.7747,2,  34.7747,3,    240.0,2,   242.2,2,    4.23,2,   13.50,2,    0.00,2,    1.00,2,-999.000,9,-999.000,9,-999.000,9,  -999.0,9,  -999.0,9,-999.0000,9,-999.0000,9, -999.00,9, -999.00,9,  -999.0,9,  -999.0,-999.000,9,-999.000,-999.000,9,-999.0000,   9.9061,-999.0000,-999.000
  316N145_8,        I03,     443,          1,          6,          6,2,19950425,       0147,   -28.2292,   113.2680,        442,   354.1,   9.9532,  34.7730,2,  34.7790,3,    240.0,2,   242.1,2,    4.23,2,   13.42,2,    0.00,2,    1.00,2,-999.000,9,-999.000,9,-999.000,9,  -999.0,9,  -999.0,9,-999.0000,9,-999.0000,9, -999.00,9, -999.00,9,  -999.0,9,  -999.0,-999.000,9,-999.000,-999.000,9,-999.0000,   9.9120,-999.0000,-999.000
  316N145_8,        I03,     443,          1,          3,          3,2,19950425,       0147,   -28.2292,   113.2680,        442,   354.1,   9.9911,  34.7778,2,  34.7875,3,    240.0,2,   241.9,2,    4.00,2,   13.21,2,    0.00,2,    0.98,2,-999.000,9,-999.000,9,-999.000,9,  -999.0,9,  -999.0,9,-999.0000,9,-999.0000,9, -999.00,9, -999.00,9,  -999.0,9,  -999.0,-999.000,9,-999.000,-999.000,9,-999.0000,   9.9498,-999.0000,-999.000
  316N145_8,        I03,     443,          1,          8,          8,2,19950425,       0147,   -28.2292,   113.2680,        442,   354.4,   9.9699,  34.7716,2,  34.7742,3,    240.0,2,   242.2,2,    4.24,2,   13.50,2,    0.00,2,    1.00,2,-999.000,9,-999.000,9,-999.000,9,  -999.0,9,  -999.0,9,-999.0000,9,-999.0000,9, -999.00,9, -999.00,9,  -999.0,9,  -999.0,-999.000,9,-999.000,-999.000,9,-999.0000,   9.9286,-999.0000,-999.000
  316N145_8,        I03,     443,          1,          4,          4,2,19950425,       0147,   -28.2292,   113.2680,        442,   354.7,   9.9661,  34.7671,2,  34.7810,3,    240.0,2,   241.9,2,    4.01,2,   13.38,2,    0.00,2,    0.99,2,-999.000,9,-999.000,9,-999.000,9,  -999.0,9,  -999.0,9,-999.0000,9,-999.0000,9, -999.00,9, -999.00,9,  -999.0,9,  -999.0,-999.000,9,-999.000,-999.000,9,-999.0000,   9.9248,-999.0000,-999.000
  316N145_8,        I03,     443,          1,          9,          9,2,19950425,       0147,   -28.2292,   113.2680,        442,   354.9,   9.8352,  34.7526,2,  34.7724,3,    242.2,2,   242.2,2,    4.24,2,   13.53,2,    0.00,2,    1.00,2,-999.000,9,-999.000,9,-999.000,9,  -999.0,9,  -999.0,9,-999.0000,9,-999.0000,9, -999.00,9, -999.00,9,  -999.0,9,  -999.0,-999.000,9,-999.000,-999.000,9,-999.0000,   9.7943,-999.0000,-999.000
  316N145_8,        I03,     443,          1,          2,          2,2,19950425,       0147,   -28.2292,   113.2680,        442,   354.9,  10.0032,  34.7804,2,  34.8002,3,    240.0,2,   242.0,2,    4.00,2,   13.09,2,    0.00,2,    0.97,2,   3.514,2,   1.776,2,-999.000,9,  -999.0,9,  -999.0,9,-999.0000,9,-999.0000,9, -999.00,9, -999.00,9,  -999.0,9,  -999.0,-999.000,9,-999.000,-999.000,9,-999.0000,   9.9618,-999.0000,-999.000
  316N145_8,        I03,     443,          1,          1,          1,2,19950425,       0147,   -28.2292,   113.2680,        442,   404.5,   9.0720,  34.6475,2,  34.6645,3,    240.2,2,   239.5,2,    5.87,2,   16.78,2,    0.00,2,    1.20,2,   3.270,2,   1.616,2,-999.000,9,  -999.0,9,  -999.0,9,-999.0000,9,-999.0000,9, -999.00,9, -999.00,9,  -999.0,9,  -999.0,-999.000,9,-999.000,-999.000,9,-999.0000,   9.0275,-999.0000,-999.000
  316N145_8,        I03,     444,          1,          6,          6,2,19950426,       1014,   -22.2247,   113.7598,        153,     7.0,  28.0837,  35.2841,2,  35.2795,2,    198.1,2,   198.6,2,    4.32,2,    0.10,2,    0.00,2,    0.12,2,   1.700,2,   0.967,2,   0.818,3,  -999.0,9,  -999.0,9,-999.0000,9,-999.0000,9, -999.00,9, -999.00,9,  -999.0,9,  -999.0,-999.000,9,-999.000,   1.713,2,-999.0000,  28.0821,-999.0000,-999.000
  316N145_8,        I03,     444,          1,          5,          5,2,19950426,       1014,   -22.2247,   113.7598,        153,    32.1,  27.1682,  35.2332,2,  35.2312,2,    196.4,2,   197.4,2,    4.53,2,    0.16,2,    0.02,2,    0.14,2,   1.710,2,   0.971,2,-999.000,9,  -999.0,9,  -999.0,9,-999.0000,9,-999.0000,9, -999.00,9, -999.00,9,  -999.0,9,  -999.0,-999.000,9,-999.000,-999.000,9,-999.0000,  27.1608,-999.0000,-999.000
  316N145_8,        I03,     444,          1,          4,          4,2,19950426,       1014,   -22.2247,   113.7598,        153,    62.0,  26.1205,  35.1987,2,  35.1962,2,    181.7,2,   181.0,2,    6.26,2,    1.58,2,    0.36,2,    0.27,2,   1.745,2,   0.981,2,   0.782,3,  -999.0,9,  -999.0,9,-999.0000,9,-999.0000,9, -999.00,9, -999.00,9,  -999.0,9,  -999.0,-999.000,9,-999.000,   1.271,2,-999.0000,  26.1066,-999.0000,-999.000
  316N145_8,        I03,     444,          1,          3,          3,2,19950426,       1014,   -22.2247,   113.7598,        153,    91.7,  23.9869,  35.1731,2,  35.1732,2,    172.3,2,   168.3,2,    8.42,2,    3.92,2,    0.13,2,    0.43,2,   1.797,2,   0.999,2,-999.000,9,  -999.0,9,  -999.0,9,-999.0000,9,-999.0000,9, -999.00,9, -999.00,9,  -999.0,9,  -999.0,-999.000,9,-999.000,-999.000,9,-999.0000,  23.9676,-999.0000,-999.000
  316N145_8,        I03,     444,          1,          2,          2,2,19950426,       1014,   -22.2247,   113.7598,        153,   122.1,  21.9472,  35.2334,2,  35.2299,2,    160.4,2,   158.5,2,   10.14,2,    6.16,2,    0.04,2,    0.56,2,   1.865,2,   1.027,2,   0.326,3,  -999.0,9,  -999.0,9,-999.0000,9,-999.0000,9, -999.00,9, -999.00,9,  -999.0,9,  -999.0,-999.000,9,-999.000,   0.773,2,-999.0000,  21.9231,-999.0000,-999.000
  316N145_8,        I03,     444,          1,          1,          1,2,19950426,       1014,   -22.2247,   113.7598,        153,   152.8,  20.9004,  35.2822,2,  35.2733,2,    156.8,2,   157.5,2,   10.79,2,    7.00,2,    0.03,2,    0.62,2,   1.880,2,   1.023,2,-999.000,9,  -999.0,9,  -999.0,9,-999.0000,9,-999.0000,9, -999.00,9, -999.00,9,  -999.0,9,  -999.0,-999.000,9,-999.000,-999.000,9,-999.0000,  20.8712,-999.0000,-999.000