BOTTLE,20140514CCHSIOSE
EXPOCODE,SECT_ID,STNNBR,CASTNO,SAMPNO,BTLNBR,BTLNBR_FLAG_W,DATE,TIME,LATITUDE,LONGITUDE,DEPTH,CTDPRS,CTDTMP,CTDSAL,CTDSAL_FLAG_W,SALNTY,SALNTY_FLAG_W,CTDOXY,CTDOXY_FLAG_W,OXYGEN,OXYGEN_FLAG_W,SILCAT,SILCAT_FLAG_W,NITRAT,NITRAT_FLAG_W,NITRIT,NITRIT_FLAG_W,PHSPHT,PHSPHT_FLAG_W,CFC-11,CFC-11_FLAG_W,CFC-12,CFC-12_FLAG_W,CFC113,CFC113_FLAG_W,TCARBN,TCARBN_FLAG_W,ALKALI,ALKALI_FLAG_W,TRITUM,TRITUM_FLAG_W,HELIUM,HELIUM_FLAG_W,DELHE3,DELHE3_FLAG_W,DELC13,DELC13_FLAG_W,DELC14,DELC14_FLAG_W,C14ERR,NEON,NEON_FLAG_W,NEONER,CCL4,CCL4_FLAG_W,HELIER,THETA,TRITER,DELHER
,,,,,,,,,,,METERS,DBAR,ITS-90,PSS-78,,PSS-78,,UMOL/KG,,UMOL/KG,,UMOL/KG,,UMOL/KG,,UMOL/KG,,UMOL/KG,,PMOL/KG,,PMOL/KG,,PMOL/KG,,UMOL/KG,,UMOL/KG,,TU,,NMOL/KG,,PERCNT,,/MILLE,,/MILLE,,/MILLE,NMOL/KG,,NMOL/KG,PMOL/KG,,NMOL/KG,DEG C,TU,PERCNT
  316N145_8,        I03,     470,          1,         36,         36,2,19950503,       0837,   -20.0010,    96.9497,       5303,    13.0,  24.7092,  35.6202,2,  35.6196,2,    209.7,2,   209.9,2,    2.93,2,    0.09,2,    0.00,2,    0.08,2,   1.947,2,   1.106,2,-999.000,9,  1991.3,6,  2330.5,6,-999.0000,9,-999.0000,9, -999.00,9, -999.00,9,  -999.0,9,  -999.0,-999.000,9,-999.000,-999.000,9,-999.0000,  24.7064,-999.0000,-999.000
  316N145_8,        I03,     470,          1,         35,         35,2,19950503,       0837,   -20.0010,    96.9497,       5303,    57.3,  24.5728,  35.6144,2,  35.6149,2,    210.4,2,   210.3,2,    2.92,2,    0.09,2,    0.00,2,    0.07,2,-999.000,9,-999.000,9,-999.000,9,  1987.8,2,  2334.0,2,-999.0000,9,-999.0000,9, -999.00,9, -999.00,9,  -999.0,9,  -999.0,-999.000,9,-999.000,-999.000,9,-999.0000,  24.5606,-999.0000,-999.000
  316N145_8,        I03,     470,          1,         34,         34,2,19950503,       0837,   -20.0010,    96.9497,       5303,   108.9,  21.4568,  35.6404,2,  35.6450,2,    217.5,2,   218.0,2,    3.33,2,    0.09,2,    0.00,2,    0.13,2,   2.210,2,   1.222,2,-999.000,9,  2016.3,2,  2334.0,2,-999.0000,9,-999.0000,9, -999.00,9, -999.00,9,  -999.0,9,  -999.0,-999.000,9,-999.000,-999.000,9,-999.0000,  21.4355,-999.0000,-999.000
  316N145_8,        I03,     470,          1,         33,         33,2,19950503,       0837,   -20.0010,    96.9497,       5303,   152.5,  19.8451,  35.8120,2,  35.8087,2,    200.8,2,   201.3,2,    3.54,2,    1.59,2,    0.03,2,    0.24,2,   2.304,2,   1.273,2,-999.000,9,  2051.7,2,  2345.0,2,-999.0000,9,-999.0000,9, -999.00,9, -999.00,9,  -999.0,9,  -999.0,-999.000,9,-999.000,-999.000,9,-999.0000,  19.8169,-999.0000,-999.000
  316N145_8,        I03,     470,          1,         32,         32,2,19950503,       0837,   -20.0010,    96.9497,       5303,   208.3,  18.2676,  35.8914,2,  35.8921,2,    213.6,2,   214.7,2,    3.09,2,    1.06,2,    0.01,2,    0.24,2,   2.501,2,   1.352,2,-999.000,9,  2067.5,2,  2353.0,2,-999.0000,9,-999.0000,9, -999.00,9, -999.00,9,  -999.0,9,  -999.0,-999.000,9,-999.000,-999.000,9,-999.0000,  18.2312,-999.0000,-999.000
  316N145_8,        I03,     470,          1,         31,         31,2,19950503,       0837,   -20.0010,    96.9497,       5303,   258.0,  16.7988,  35.7552,2,  35.7320,2,    209.9,2,   212.8,2,    3.07,2,    2.55,2,    0.01,2,    0.35,2,   2.610,2,   1.401,2,-999.000,9,  2082.7,2,  2346.0,2,-999.0000,9,-999.0000,9, -999.00,9, -999.00,9,  -999.0,9,  -999.0,-999.000,9,-999.000,-999.000,9,-999.0000,  16.7562,-999.0000,-999.000
  316N145_8,        I03,     470,          1,         30,         30,2,19950503,       0837,   -20.0010,    96.9497,       5303,   308.7,  14.6252,  35.5059,2,  35.4975,2,    218.7,2,   221.0,2,    2.84,2,    4.72,2,    0.01,2,    0.49,2,   2.860,2,   1.473,2,-999.000,9,  2092.7,2,  2335.0,2,-999.0000,9,-999.0000,9, -999.00,9, -999.00,9,  -999.0,9,  -999.0,-999.000,9,-999.000,-999.000,9,-999.0000,  14.5789,-999.0000,-999.000
  316N145_8,        I03,     470,          1,         29,         29,2,19950503,       0837,   -20.0010,    96.9497,       5303,   359.4,  12.8937,  35.2465,2,  35.2672,2,    229.4,2,   229.7,2,    3.05,2,    7.19,2,    0.01,2,    0.63,2,   3.083,2,   1.577,2,-999.000,9,  2098.3,2,  2323.0,2,-999.0000,9,-999.0000,9, -999.00,9, -999.00,9,  -999.0,9,  -999.0,-999.000,9,-999.000,-999.000,9,-999.0000,  12.8441,-999.0000,-999.000
  316N145_8,        I03,     470,          1,         28,         28,2,19950503,       0837,   -20.0010,    96.9497,       5303,   409.3,  11.7049,  35.0634,2,  35.0499,2,    233.8,2,   236.2,2,    3.47,2,    9.96,2,    0.01,2,    0.79,2,   3.152,2,   1.597,2,-999.000,9,  2104.6,2,  2313.0,2,-999.0000,9,-999.0000,9, -999.00,9, -999.00,9,  -999.0,9,  -999.0,-999.000,9,-999.000,-999.000,9,-999.0000,  11.6518,-999.0000,-999.000
  316N145_8,        I03,     470,          1,         27,         27,2,19950503,       0837,   -20.0010,    96.9497,       5303,   509.3,   9.7362,  34.7588,2,  34.7618,2,    236.1,2,   233.2,2,    5.40,2,   15.16,2,    0.01,2,    1.10,2,   2.901,2,   1.443,2,-999.000,9,  2116.4,2,  2298.0,2,-999.0000,9,-999.0000,9, -999.00,9, -999.00,9,  -999.0,9,  -999.0,-999.000,9,-999.000,-999.000,9,-999.0000,   9.6773,-999.0000,-999.000
  316N145_8,        I03,     470,          1,         26,         26,2,19950503,       0837,   -20.0010,    96.9497,       5303,   610.7,   8.2539,  34.5947,2,  34.5911,2,    205.3,2,   200.8,2,   15.53,2,   22.29,2,    0.01,2,    1.55,2,   1.555,2,   0.774,2,-999.000,9,  2151.6,2,  2296.0,2,-999.0000,9,-999.0000,9, -999.00,9, -999.00,9,  -999.0,9,  -999.0,-999.000,9,-999.000,-999.000,9,-999.0000,   8.1896,-999.0000,-999.000
  316N145_8,        I03,     470,          1,         25,         25,2,19950503,       0837,   -20.0010,    96.9497,       5303,   711.5,   6.5361,  34.5451,2,  34.5471,2,    151.4,2,   145.4,2,   44.44,2,   30.56,2,    0.01,2,    2.15,2,   0.265,2,   0.141,2,-999.000,9,  2214.8,2,  2320.0,2,-999.0000,9,-999.0000,9, -999.00,9, -999.00,9,  -999.0,9,  -999.0,-999.000,9,-999.000,-999.000,9,-999.0000,   6.4700,-999.0000,-999.000
  316N145_8,        I03,     470,          1,         24,         24,2,19950503,       0837,   -20.0010,    96.9497,       5303,   812.1,   5.8202,  34.6075,2,  34.6081,2,    111.4,2,   108.7,2,   68.19,2,   34.43,2,    0.01,2,    2.48,2,   0.025,2,   0.014,2,-999.000,9,  2259.9,2,  2342.0,2,-999.0000,9,-999.0000,9, -999.00,9, -999.00,9,  -999.0,9,  -999.0,-999.000,9,-999.000,-999.000,9,-999.0000,   5.7484,-999.0000,-999.000
  316N145_8,        I03,     470,          1,         23,         23,2,19950503,       0837,   -20.0010,    96.9497,       5303,   912.3,   5.2929,  34.6138,2,  34.6168,2,    101.1,2,   103.3,2,   80.29,2,   35.54,2,    0.01,2,    2.58,2,   0.018,2,   0.008,2,-999.000,9,  2277.9,2,  2357.0,2,-999.0000,9,-999.0000,9, -999.00,9, -999.00,9,  -999.0,9,  -999.0,-999.000,9,-999.000,-999.000,9,-999.0000,   5.2153,-999.0000,-999.000
  316N145_8,        I03,     470,          1,         22,         22,2,19950503,       0837,   -20.0010,    96.9497,       5303,  1013.9,   4.8875,  34.6066,2,  34.6095,2,    105.6,2,   105.9,2,   85.03,2,   35.79,2,    0.01,2,    2.60,2,   0.008,2,   0.005,2,-999.000,9,  2281.1,2,  2359.0,2,-999.0000,9,-999.0000,9, -999.00,9, -999.00,9,  -999.0,9,  -999.0,-999.000,9,-999.000,-999.000,9,-999.0000,   4.8036,-999.0000,-999.000
  316N145_8,        I03,     470,          1,         21,         21,2,19950503,       0837,   -20.0010,    96.9497,       5303,  1112.9,   4.6337,  34.6155,2,  34.6160,2,    108.6,2,   107.2,2,   88.90,2,   35.84,2,    0.01,2,    2.61,2,   0.010,3,   0.010,4,-999.000,9,  2285.9,2,  2364.0,2,-999.0000,9,-999.0000,9, -999.00,9, -999.00,9,  -999.0,9,  -999.0,-999.000,9,-999.000,-999.000,9,-999.0000,   4.5430,-999.0000,-999.000
  316N145_8,        I03,     470,          1,         20,         20,2,19950503,       0837,   -20.0010,    96.9497,       5303,  1212.5,   4.4207,  34.6383,2,  34.6380,2,    107.3,2,   108.6,2,   92.34,2,   35.94,2,    0.01,2,    2.61,2,   0.002,2,   0.004,2,-999.000,9,  2288.3,2,  2368.0,2,-999.0000,9,-999.0000,9, -999.00,9, -999.00,9,  -999.0,9,  -999.0,-999.000,9,-999.000,-999.000,9,-999.0000,   4.3229,-999.0000,-999.000
  316N145_8,        I03,     470,          1,         19,         19,2,19950503,       0837,   -20.0010,    96.9497,       5303,  1413.4,   3.8119,  34.6544,2,  34.6544,2,    118.5,2,   119.2,2,   96.65,2,   35.68,2,    0.01,2,    2.58,2,  -0.002,2,   0.000,2,-999.000,9,  2289.7,2,  2375.0,2,-999.0000,9,-999.0000,9, -999.00,9, -999.00,9,  -999.0,9,  -999.0,-999.000,9,-999.000,-999.000,9,-999.0000,   3.7023,-999.0000,-999.000
  316N145_8,        I03,     470,          1,         18,         18,2,19950503,       0837,   -20.0010,    96.9497,       5303,  1614.9,   3.2428,  34.6839,2,  34.6839,2,    131.9,2,   132.4,2,  100.98,2,   35.08,2,    0.01,2,    2.53,2,  -0.003,2,  -0.002,2,-999.000,9,  2291.8,2,  2375.0,2,-999.0000,9,-999.0000,9, -999.00,9, -999.00,9,  -999.0,9,  -999.0,-999.000,9,-999.000,-999.000,9,-999.0000,   3.1220,-999.0000,-999.000
  316N145_8,        I03,     470,          1,         17,         17,2,19950503,       0837,   -20.0010,    96.9497,       5303,  1818.3,   2.7821,  34.7045,2,  34.7045,2,    142.6,2,   142.6,2,  106.42,2,   34.57,2,    0.01,2,    2.48,2,-999.000,9,-999.000,9,-999.000,9,  2289.3,2,  2385.0,2,-999.0000,9,-999.0000,9, -999.00,9, -999.00,9,  -999.0,9,  -999.0,-999.000,9,-999.000,-999.000,9,-999.0000,   2.6496,-999.0000,-999.000
  316N145_8,        I03,     470,          1,         16,         16,2,19950503,       0837,   -20.0010,    96.9497,       5303,  2022.7,   2.4555,  34.7156,2,  34.7168,2,    150.6,2,   151.1,2,  110.55,2,   34.12,2,    0.01,2,    2.43,2,   0.002,2,   0.000,2,-999.000,9,  -999.0,9,  -999.0,9,-999.0000,9,-999.0000,9, -999.00,9, -999.00,9,  -999.0,9,  -999.0,-999.000,9,-999.000,-999.000,9,-999.0000,   2.3099,-999.0000,-999.000
  316N145_8,        I03,     470,          1,         15,         15,2,19950503,       0837,   -20.0010,    96.9497,       5303,  2224.9,   2.1858,  34.7235,2,  34.7241,2,    158.3,2,   158.3,2,  114.69,2,   33.86,2,    0.01,2,    2.40,2,-999.000,9,-999.000,9,-999.000,9,  2294.4,2,  2393.0,2,-999.0000,9,-999.0000,9, -999.00,9, -999.00,9,  -999.0,9,  -999.0,-999.000,9,-999.000,-999.000,9,-999.0000,   2.0266,-999.0000,-999.000
  316N145_8,        I03,     470,          1,         14,         14,2,19950503,       0837,   -20.0010,    96.9497,       5303,  2428.2,   1.9903,  34.7256,2,  34.7266,2,    163.6,2,   163.3,2,  117.52,2,   33.61,2,    0.00,2,    2.38,2,  -0.003,2,   0.000,2,-999.000,9,  -999.0,9,  -999.0,9,-999.0000,9,-999.0000,9, -999.00,9, -999.00,9,  -999.0,9,  -999.0,-999.000,9,-999.000,-999.000,9,-999.0000,   1.8165,-999.0000,-999.000
  316N145_8,        I03,     470,          1,         13,         13,2,19950503,       0837,   -20.0010,    96.9497,       5303,  2631.2,   1.8350,  34.7257,2,  34.7272,2,    168.0,2,   168.8,2,  119.68,2,   33.36,2,    0.00,2,    2.36,2,-999.000,9,-999.000,9,-999.000,9,  2293.0,2,  2394.0,2,-999.0000,9,-999.0000,9, -999.00,9, -999.00,9,  -999.0,9,  -999.0,-999.000,9,-999.000,-999.000,9,-999.0000,   1.6456,-999.0000,-999.000
  316N145_8,        I03,     470,          1,         12,         12,2,19950503,       0837,   -20.0010,    96.9497,       5303,  2835.7,   1.7121,  34.7260,2,  34.7270,2,    172.8,2,   172.7,2,  121.18,2,   33.26,2,    0.00,2,    2.35,2,  -0.002,2,   0.001,2,-999.000,9,  -999.0,9,  -999.0,9,-999.0000,9,-999.0000,9, -999.00,9, -999.00,9,  -999.0,9,  -999.0,-999.000,9,-999.000,-999.000,9,-999.0000,   1.5061,-999.0000,-999.000
  316N145_8,        I03,     470,          1,         11,         11,2,19950503,       0837,   -20.0010,    96.9497,       5303,  3038.1,   1.5972,  34.7244,2,  34.7251,2,    176.2,2,   175.6,2,  123.58,2,   33.21,2,    0.00,2,    2.34,2,-999.000,9,-999.000,9,-999.000,9,  2293.8,2,  2396.0,2,-999.0000,9,-999.0000,9, -999.00,9, -999.00,9,  -999.0,9,  -999.0,-999.000,9,-999.000,-999.000,9,-999.0000,   1.3744,-999.0000,-999.000
  316N145_8,        I03,     470,          1,         10,         10,2,19950503,       0837,   -20.0010,    96.9497,       5303,  3241.8,   1.5068,  34.7227,2,  34.7233,2,    177.6,2,   177.3,2,  125.53,2,   33.26,2,    0.00,2,    2.34,2,  -0.003,2,   0.001,2,-999.000,9,  -999.0,9,  -999.0,9,-999.0000,9,-999.0000,9, -999.00,9, -999.00,9,  -999.0,9,  -999.0,-999.000,9,-999.000,-999.000,9,-999.0000,   1.2662,-999.0000,-999.000
  316N145_8,        I03,     470,          1,          9,          9,2,19950503,       0837,   -20.0010,    96.9497,       5303,  3444.9,   1.4185,  34.7206,2,  34.7206,2,    179.5,2,  -999.0,5,  127.26,2,   33.25,2,    0.00,2,    2.33,2,-999.000,9,-999.000,9,-999.000,9,  2293.6,2,  2402.0,2,-999.0000,9,-999.0000,9, -999.00,9, -999.00,9,  -999.0,9,  -999.0,-999.000,9,-999.000,-999.000,9,-999.0000,   1.1598,-999.0000,-999.000
  316N145_8,        I03,     470,          1,          8,          8,2,19950503,       0837,   -20.0010,    96.9497,       5303,  3650.0,   1.3400,  34.7185,2,  34.7190,2,    183.6,2,   184.2,2,  127.87,2,   33.15,2,    0.00,2,    2.32,2,   0.001,2,   0.002,2,-999.000,9,  -999.0,9,  -999.0,9,-999.0000,9,-999.0000,9, -999.00,9, -999.00,9,  -999.0,9,  -999.0,-999.000,9,-999.000,-999.000,9,-999.0000,   1.0623,-999.0000,-999.000
  316N145_8,        I03,     470,          1,          7,          7,2,19950503,       0837,   -20.0010,    96.9497,       5303,  3854.7,   1.2720,  34.7169,2,  34.7174,2,    188.2,2,   188.2,2,  127.13,2,   32.95,2,    0.00,2,    2.30,2,-999.000,9,-999.000,9,-999.000,9,  2289.5,2,  2396.0,2,-999.0000,9,-999.0000,9, -999.00,9, -999.00,9,  -999.0,9,  -999.0,-999.000,9,-999.000,-999.000,9,-999.0000,   0.9748,-999.0000,-999.000
  316N145_8,        I03,     470,          1,          6,          6,2,19950503,       0837,   -20.0010,    96.9497,       5303,  4058.4,   1.2109,  34.7161,2,  34.7160,2,    194.0,2,   194.6,2,  124.59,2,   32.55,2,    0.00,2,    2.27,2,  -0.001,2,  -0.002,2,-999.000,9,  -999.0,9,  -999.0,9,-999.0000,9,-999.0000,9, -999.00,9, -999.00,9,  -999.0,9,  -999.0,-999.000,9,-999.000,-999.000,9,-999.0000,   0.8937,-999.0000,-999.000
  316N145_8,        I03,     470,          1,          5,          5,2,19950503,       0837,   -20.0010,    96.9497,       5303,  4313.1,   1.1473,  34.7142,2,  34.7149,2,    199.0,2,   198.7,2,  123.85,2,   32.34,2,    0.00,2,    2.25,2,-999.000,9,-999.000,9,-999.000,9,  2279.1,2,  2391.0,2,-999.0000,9,-999.0000,9, -999.00,9, -999.00,9,  -999.0,9,  -999.0,-999.000,9,-999.000,-999.000,9,-999.0000,   0.8041,-999.0000,-999.000
  316N145_8,        I03,     470,          1,          4,          4,2,19950503,       0837,   -20.0010,    96.9497,       5303,  4569.7,   1.0995,  34.7126,2,  34.7121,2,    202.2,2,   202.5,2,  123.34,2,   32.24,2,    0.00,2,    2.24,2,   0.001,2,  -0.001,2,-999.000,9,  -999.0,9,  -999.0,9,-999.0000,9,-999.0000,9, -999.00,9, -999.00,9,  -999.0,9,  -999.0,-999.000,9,-999.000,-999.000,9,-999.0000,   0.7289,-999.0000,-999.000
  316N145_8,        I03,     470,          1,          3,          3,2,19950503,       0837,   -20.0010,    96.9497,       5303,  4827.7,   1.0890,  34.7114,2,  34.7111,2,    204.1,2,   204.3,2,  123.05,2,   32.19,2,    0.00,2,    2.23,2,-999.000,9,-999.000,9,-999.000,9,  2273.0,2,  2381.0,2,-999.0000,9,-999.0000,9, -999.00,9, -999.00,9,  -999.0,9,  -999.0,-999.000,9,-999.000,-999.000,9,-999.0000,   0.6889,-999.0000,-999.000
  316N145_8,        I03,     470,          1,          2,          2,2,19950503,       0837,   -20.0010,    96.9497,       5303,  5083.7,   1.1015,  34.7108,2,  34.7108,2,    205.3,2,   204.6,2,  123.21,2,   32.19,2,    0.00,2,    2.23,2,   0.001,2,   0.001,2,-999.000,9,  -999.0,9,  -999.0,9,-999.0000,9,-999.0000,9, -999.00,9, -999.00,9,  -999.0,9,  -999.0,-999.000,9,-999.000,-999.000,9,-999.0000,   0.6706,-999.0000,-999.000
  316N145_8,        I03,     470,          1,          1,          1,2,19950503,       0837,   -20.0010,    96.9497,       5303,  5421.7,   1.1279,  34.7098,2,  34.7096,2,    207.0,3,   205.1,2,  122.92,2,   32.14,2,    0.00,2,    2.23,2,   0.003,2,   0.001,2,-999.000,9,  2273.0,2,  2383.0,2,-999.0000,9,-999.0000,9, -999.00,9, -999.00,9,  -999.0,9,  -999.0,-999.000,9,-999.000,-999.000,9,-999.0000,   0.6546,-999.0000,-999.000