BOTTLE,20140514CCHSIOSE
EXPOCODE,SECT_ID,STNNBR,CASTNO,SAMPNO,BTLNBR,BTLNBR_FLAG_W,DATE,TIME,LATITUDE,LONGITUDE,DEPTH,CTDPRS,CTDTMP,CTDSAL,CTDSAL_FLAG_W,SALNTY,SALNTY_FLAG_W,CTDOXY,CTDOXY_FLAG_W,OXYGEN,OXYGEN_FLAG_W,SILCAT,SILCAT_FLAG_W,NITRAT,NITRAT_FLAG_W,NITRIT,NITRIT_FLAG_W,PHSPHT,PHSPHT_FLAG_W,CFC-11,CFC-11_FLAG_W,CFC-12,CFC-12_FLAG_W,CFC113,CFC113_FLAG_W,TCARBN,TCARBN_FLAG_W,ALKALI,ALKALI_FLAG_W,TRITUM,TRITUM_FLAG_W,HELIUM,HELIUM_FLAG_W,DELHE3,DELHE3_FLAG_W,DELC13,DELC13_FLAG_W,DELC14,DELC14_FLAG_W,C14ERR,NEON,NEON_FLAG_W,NEONER,CCL4,CCL4_FLAG_W,HELIER,THETA,TRITER,DELHER
,,,,,,,,,,,METERS,DBAR,ITS-90,PSS-78,,PSS-78,,UMOL/KG,,UMOL/KG,,UMOL/KG,,UMOL/KG,,UMOL/KG,,UMOL/KG,,PMOL/KG,,PMOL/KG,,PMOL/KG,,UMOL/KG,,UMOL/KG,,TU,,NMOL/KG,,PERCNT,,/MILLE,,/MILLE,,/MILLE,NMOL/KG,,NMOL/KG,PMOL/KG,,NMOL/KG,DEG C,TU,PERCNT
  316N145_8,        I03,     525,          1,         28,         28,2,19950520,       2336,   -20.0918,    64.9335,       2900,     6.2,  25.0375,  34.8662,2,  34.8647,2,    209.6,2,   210.8,2,    3.38,2,    0.04,2,    0.00,2,    0.12,2,-999.000,9,-999.000,9,-999.000,9,  1943.7,2,  2281.0,2,-999.0000,9,-999.0000,9, -999.00,9, -999.00,9,  -999.0,9,  -999.0,-999.000,9,-999.000,-999.000,9,-999.0000,  25.0362,-999.0000,-999.000
  316N145_8,        I03,     525,          1,         27,         27,2,19950520,       2336,   -20.0918,    64.9335,       2900,    55.3,  25.0494,  34.9509,2,  34.9501,2,    212.2,2,   209.6,2,    3.15,2,    0.04,2,    0.00,2,    0.12,2,-999.000,9,-999.000,9,-999.000,9,  1948.0,6,  2287.0,6,-999.0000,9,-999.0000,9, -999.00,9, -999.00,9,  -999.0,9,  -999.0,-999.000,9,-999.000,-999.000,9,-999.0000,  25.0374,-999.0000,-999.000
  316N145_8,        I03,     525,          1,         26,         26,2,19950520,       2336,   -20.0918,    64.9335,       2900,   104.5,  23.6671,  35.2994,2,  35.2942,2,    217.9,2,   216.4,2,    3.33,2,    0.00,2,    0.00,2,    0.14,2,-999.000,9,-999.000,9,-999.000,9,  1981.1,2,  2311.0,2,-999.0000,9,-999.0000,9, -999.00,9, -999.00,9,  -999.0,9,  -999.0,-999.000,9,-999.000,-999.000,9,-999.0000,  23.6453,-999.0000,-999.000
  316N145_8,        I03,     525,          1,         25,         25,2,19950520,       2336,   -20.0918,    64.9335,       2900,   154.2,  21.4759,  35.4452,2,  35.4461,2,    195.8,2,   193.5,2,    4.14,2,    1.56,2,    0.15,2,    0.28,2,-999.000,9,-999.000,9,-999.000,9,  2019.7,2,  2319.0,2,-999.0000,9,-999.0000,9, -999.00,9, -999.00,9,  -999.0,9,  -999.0,-999.000,9,-999.000,-999.000,9,-999.0000,  21.4458,-999.0000,-999.000
  316N145_8,        I03,     525,          1,         24,         24,2,19950520,       2336,   -20.0918,    64.9335,       2900,   205.7,  19.1131,  35.6159,2,  35.6110,2,    189.7,2,   183.5,2,    5.37,2,    3.99,2,    0.01,2,    0.41,2,-999.000,9,-999.000,9,-999.000,9,  2062.8,2,  2338.0,2,-999.0000,9,-999.0000,9, -999.00,9, -999.00,9,  -999.0,9,  -999.0,-999.000,9,-999.000,-999.000,9,-999.0000,  19.0761,-999.0000,-999.000
  316N145_8,        I03,     525,          1,         23,         23,2,19950520,       2336,   -20.0918,    64.9335,       2900,   254.9,  17.6174,  35.7066,2,  35.7079,2,    199.9,2,   200.3,2,    3.89,2,    2.92,2,    0.01,2,    0.37,2,-999.000,9,-999.000,9,-999.000,9,  2073.6,2,  2340.0,2,-999.0000,9,-999.0000,9, -999.00,9, -999.00,9,  -999.0,9,  -999.0,-999.000,9,-999.000,-999.000,9,-999.0000,  17.5740,-999.0000,-999.000
  316N145_8,        I03,     525,          1,         22,         22,2,19950520,       2336,   -20.0918,    64.9335,       2900,   306.4,  15.8363,  35.5840,2,  35.5855,2,    206.3,2,   207.4,2,    3.87,2,    4.23,2,    0.01,2,    0.47,2,-999.000,9,-999.000,9,-999.000,9,  2087.5,2,  2336.0,2,-999.0000,9,-999.0000,9, -999.00,9, -999.00,9,  -999.0,9,  -999.0,-999.000,9,-999.000,-999.000,9,-999.0000,  15.7878,-999.0000,-999.000
  316N145_8,        I03,     525,          1,         21,         21,2,19950520,       2336,   -20.0918,    64.9335,       2900,   356.5,  14.4227,  35.4326,2,  35.4335,2,    218.3,2,   217.2,2,    3.44,2,    5.59,2,    0.00,2,    0.54,2,-999.000,9,-999.000,9,-999.000,9,  2092.5,2,  2330.0,2,-999.0000,9,-999.0000,9, -999.00,9, -999.00,9,  -999.0,9,  -999.0,-999.000,9,-999.000,-999.000,9,-999.0000,  14.3697,-999.0000,-999.000
  316N145_8,        I03,     525,          1,         20,         20,2,19950520,       2336,   -20.0918,    64.9335,       2900,   405.7,  12.9216,  35.2313,2,  35.2359,2,    225.7,2,   225.6,2,    3.62,2,    7.97,2,    0.00,2,    0.68,2,-999.000,9,-999.000,9,-999.000,9,  2097.5,2,  2322.0,2,-999.0000,9,-999.0000,9, -999.00,9, -999.00,9,  -999.0,9,  -999.0,-999.000,9,-999.000,-999.000,9,-999.0000,  12.8654,-999.0000,-999.000
  316N145_8,        I03,     525,          1,         19,         19,2,19950520,       2336,   -20.0918,    64.9335,       2900,   456.2,  11.9891,  35.0963,2,  35.0938,2,    229.2,2,   230.9,2,    4.02,2,    9.75,2,    0.00,2,    0.78,2,-999.000,9,-999.000,9,-999.000,9,  2100.7,2,  2313.0,2,-999.0000,9,-999.0000,9, -999.00,9, -999.00,9,  -999.0,9,  -999.0,-999.000,9,-999.000,-999.000,9,-999.0000,  11.9290,-999.0000,-999.000
  316N145_8,        I03,     525,          1,         18,         18,2,19950520,       2336,   -20.0918,    64.9335,       2900,   507.4,  11.1999,  34.9687,2,  34.9733,2,    232.3,2,   233.4,2,    4.41,2,   11.44,2,    0.00,2,    0.88,2,-999.000,9,-999.000,9,-999.000,9,  2104.2,2,  2308.0,2,-999.0000,9,-999.0000,9, -999.00,9, -999.00,9,  -999.0,9,  -999.0,-999.000,9,-999.000,-999.000,9,-999.0000,  11.1358,-999.0000,-999.000
  316N145_8,        I03,     525,          1,         17,         17,2,19950520,       2336,   -20.0918,    64.9335,       2900,   605.4,   9.9989,  34.7919,2,  34.7914,2,    228.5,2,   230.7,2,    5.43,2,   14.62,2,    0.00,2,    1.07,2,-999.000,9,-999.000,9,-999.000,9,  2112.7,2,  2298.0,2,-999.0000,9,-999.0000,9, -999.00,9, -999.00,9,  -999.0,9,  -999.0,-999.000,9,-999.000,-999.000,9,-999.0000,   9.9274,-999.0000,-999.000
  316N145_8,        I03,     525,          1,         16,         16,2,19950520,       2336,   -20.0918,    64.9335,       2900,   706.5,   8.6827,  34.6335,2,  34.6329,2,    215.1,2,   215.3,2,    9.96,2,   19.59,2,    0.00,2,    1.37,2,   1.650,2,   0.839,2,-999.000,9,  2131.7,2,  2296.0,2,-999.0000,9,-999.0000,9, -999.00,9, -999.00,9,  -999.0,9,  -999.0,-999.000,9,-999.000,-999.000,9,-999.0000,   8.6057,-999.0000,-999.000
  316N145_8,        I03,     525,          1,         15,         15,2,19950520,       2336,   -20.0918,    64.9335,       2900,   808.8,   7.1010,  34.5332,2,  34.5324,2,    178.4,2,   185.0,2,   24.23,2,   25.99,2,    0.00,2,    1.80,2,   0.583,2,   0.308,2,-999.000,9,  2170.1,2,  2299.0,2,-999.0000,9,-999.0000,9, -999.00,9, -999.00,9,  -999.0,9,  -999.0,-999.000,9,-999.000,-999.000,9,-999.0000,   7.0218,-999.0000,-999.000
  316N145_8,        I03,     525,          1,         14,         14,2,19950520,       2336,   -20.0918,    64.9335,       2900,   908.6,   6.0208,  34.5750,2,  34.5746,2,    140.7,2,   139.4,2,   51.34,2,   31.68,2,    0.00,2,    2.24,2,   0.142,2,   0.079,2,-999.000,9,  2224.9,2,  2326.0,2,-999.0000,9,-999.0000,9, -999.00,9, -999.00,9,  -999.0,9,  -999.0,-999.000,9,-999.000,-999.000,9,-999.0000,   5.9386,-999.0000,-999.000
  316N145_8,        I03,     525,          1,         13,         13,2,19950520,       2336,   -20.0918,    64.9335,       2900,  1009.8,   5.1966,  34.5642,2,  34.5664,2,    130.8,2,   133.6,2,   63.55,2,   33.55,2,    0.00,2,    2.38,2,   0.057,2,   0.033,2,-999.000,9,  2243.6,2,  2337.0,2,-999.0000,9,-999.0000,9, -999.00,9, -999.00,9,  -999.0,9,  -999.0,-999.000,9,-999.000,-999.000,9,-999.0000,   5.1108,-999.0000,-999.000
  316N145_8,        I03,     525,          1,         12,         12,2,19950520,       2336,   -20.0918,    64.9335,       2900,  1110.4,   4.7545,  34.6130,2,  34.6126,2,    122.3,2,   122.6,2,   76.61,2,   34.70,2,    0.00,2,    2.48,2,   0.021,2,   0.011,2,-999.000,9,  2262.4,2,  2350.0,2,-999.0000,9,-999.0000,9, -999.00,9, -999.00,9,  -999.0,9,  -999.0,-999.000,9,-999.000,-999.000,9,-999.0000,   4.6630,-999.0000,-999.000
  316N145_8,        I03,     525,          1,         11,         11,2,19950520,       2336,   -20.0918,    64.9335,       2900,  1211.0,   4.3479,  34.6467,2,  34.6482,2,    119.6,2,   120.2,2,   85.76,2,   35.18,2,    0.00,2,    2.53,2,-999.000,9,-999.000,9,-999.000,9,  2274.5,2,  2362.0,2,-999.0000,9,-999.0000,9, -999.00,9, -999.00,9,  -999.0,9,  -999.0,-999.000,9,-999.000,-999.000,9,-999.0000,   4.2509,-999.0000,-999.000
  316N145_8,        I03,     525,          1,         10,         10,2,19950520,       2336,   -20.0918,    64.9335,       2900,  1311.0,   4.0612,  34.6735,2,  34.6739,2,    120.7,2,   120.5,2,   91.79,2,   35.32,2,    0.00,2,    2.53,2,-999.000,9,-999.000,9,-999.000,9,  2281.4,2,  2366.0,2,-999.0000,9,-999.0000,9, -999.00,9, -999.00,9,  -999.0,9,  -999.0,-999.000,9,-999.000,-999.000,9,-999.0000,   3.9580,-999.0000,-999.000
  316N145_8,        I03,     525,          1,          9,          9,2,19950520,       2336,   -20.0918,    64.9335,       2900,  1412.3,   3.6873,  34.6825,2,  34.6809,2,    130.0,2,   129.4,2,   94.26,2,   34.94,2,    0.00,2,    2.50,2,-999.000,9,-999.000,9,-999.000,9,  2281.5,2,  2372.0,2,-999.0000,9,-999.0000,9, -999.00,9, -999.00,9,  -999.0,9,  -999.0,-999.000,9,-999.000,-999.000,9,-999.0000,   3.5790,-999.0000,-999.000
  316N145_8,        I03,     525,          1,          8,          8,2,19950520,       2336,   -20.0918,    64.9335,       2900,  1514.2,   3.2327,  34.6802,2,  34.6795,2,    141.0,2,   141.8,2,   95.26,2,   34.41,2,    0.00,2,    2.45,2,-999.000,9,-999.000,9,-999.000,9,  2277.5,2,  2369.0,2,-999.0000,9,-999.0000,9, -999.00,9, -999.00,9,  -999.0,9,  -999.0,-999.000,9,-999.000,-999.000,9,-999.0000,   3.1207,-999.0000,-999.000
  316N145_8,        I03,     525,          1,          7,          7,2,19950520,       2336,   -20.0918,    64.9335,       2900,  1716.6,   2.6976,  34.6963,2,  34.6962,2,    156.1,2,   155.9,2,   99.00,2,   33.64,2,    0.00,2,    2.37,2,-999.000,9,-999.000,9,-999.000,9,  2274.8,2,  2375.0,2,-999.0000,9,-999.0000,9, -999.00,9, -999.00,9,  -999.0,9,  -999.0,-999.000,9,-999.000,-999.000,9,-999.0000,   2.5750,-999.0000,-999.000
  316N145_8,        I03,     525,          1,          6,          6,2,19950520,       2336,   -20.0918,    64.9335,       2900,  1917.2,   2.3013,  34.7148,2,  34.7151,2,    164.0,2,   164.3,2,  106.57,2,   33.21,2,    0.00,2,    2.34,2,-999.000,9,-999.000,9,-999.000,9,  2278.3,2,  2382.0,2,-999.0000,9,-999.0000,9, -999.00,9, -999.00,9,  -999.0,9,  -999.0,-999.000,9,-999.000,-999.000,9,-999.0000,   2.1671,-999.0000,-999.000
  316N145_8,        I03,     525,          1,          5,          5,2,19950520,       2336,   -20.0918,    64.9335,       2900,  2119.7,   2.1070,  34.7230,2,  34.7235,2,    166.1,2,   166.6,2,  112.06,2,   33.31,2,    0.00,2,    2.34,2,-999.000,9,-999.000,9,-999.000,9,  2282.8,2,  2384.0,2,-999.0000,9,-999.0000,9, -999.00,9, -999.00,9,  -999.0,9,  -999.0,-999.000,9,-999.000,-999.000,9,-999.0000,   1.9584,-999.0000,-999.000
  316N145_8,        I03,     525,          1,          4,          4,2,19950520,       2336,   -20.0918,    64.9335,       2900,  2322.4,   1.9321,  34.7241,2,  34.7243,2,    170.1,2,   170.9,2,  115.21,2,   33.21,2,    0.00,2,    2.33,2,-999.000,9,-999.000,9,-999.000,9,  2283.5,2,  2389.0,2,-999.0000,9,-999.0000,9, -999.00,9, -999.00,9,  -999.0,9,  -999.0,-999.000,9,-999.000,-999.000,9,-999.0000,   1.7687,-999.0000,-999.000
  316N145_8,        I03,     525,          1,          3,          3,2,19950520,       2336,   -20.0918,    64.9335,       2900,  2523.3,   1.8592,  34.7240,2,  34.7239,2,    172.1,2,   172.8,2,  117.09,2,   33.17,2,    0.00,2,    2.32,2,-999.000,9,-999.000,9,-999.000,9,  2282.7,2,  2391.0,2,-999.0000,9,-999.0000,9, -999.00,9, -999.00,9,  -999.0,9,  -999.0,-999.000,9,-999.000,-999.000,9,-999.0000,   1.6791,-999.0000,-999.000
  316N145_8,        I03,     525,          1,          2,          2,2,19950520,       2336,   -20.0918,    64.9335,       2900,  2727.1,   1.7954,  34.7248,2,  34.7245,2,    174.9,2,   174.1,2,  118.75,2,   33.17,2,    0.00,2,    2.32,2,-999.000,9,-999.000,9,-999.000,9,  2283.9,6,  2391.5,6,-999.0000,9,-999.0000,9, -999.00,9, -999.00,9,  -999.0,9,  -999.0,-999.000,9,-999.000,-999.000,9,-999.0000,   1.5979,-999.0000,-999.000
  316N145_8,        I03,     525,          1,          1,          1,2,19950520,       2336,   -20.0918,    64.9335,       2900,  2945.8,   1.7887,  34.7249,2,  34.7247,2,    175.2,2,   174.8,2,  118.91,2,   33.17,2,    0.00,2,    2.32,2,-999.000,9,-999.000,9,-999.000,9,  2284.0,2,  2395.0,2,-999.0000,9,-999.0000,9, -999.00,9, -999.00,9,  -999.0,9,  -999.0,-999.000,9,-999.000,-999.000,9,-999.0000,   1.5706,-999.0000,-999.000