BOTTLE,20140514CCHSIOSE
EXPOCODE,SECT_ID,STNNBR,CASTNO,SAMPNO,BTLNBR,BTLNBR_FLAG_W,DATE,TIME,LATITUDE,LONGITUDE,DEPTH,CTDPRS,CTDTMP,CTDSAL,CTDSAL_FLAG_W,SALNTY,SALNTY_FLAG_W,CTDOXY,CTDOXY_FLAG_W,OXYGEN,OXYGEN_FLAG_W,SILCAT,SILCAT_FLAG_W,NITRAT,NITRAT_FLAG_W,NITRIT,NITRIT_FLAG_W,PHSPHT,PHSPHT_FLAG_W,CFC-11,CFC-11_FLAG_W,CFC-12,CFC-12_FLAG_W,CFC113,CFC113_FLAG_W,TCARBN,TCARBN_FLAG_W,ALKALI,ALKALI_FLAG_W,TRITUM,TRITUM_FLAG_W,HELIUM,HELIUM_FLAG_W,DELHE3,DELHE3_FLAG_W,DELC13,DELC13_FLAG_W,DELC14,DELC14_FLAG_W,C14ERR,NEON,NEON_FLAG_W,NEONER,CCL4,CCL4_FLAG_W,HELIER,THETA,TRITER,DELHER
,,,,,,,,,,,METERS,DBAR,ITS-90,PSS-78,,PSS-78,,UMOL/KG,,UMOL/KG,,UMOL/KG,,UMOL/KG,,UMOL/KG,,UMOL/KG,,PMOL/KG,,PMOL/KG,,PMOL/KG,,UMOL/KG,,UMOL/KG,,TU,,NMOL/KG,,PERCNT,,/MILLE,,/MILLE,,/MILLE,NMOL/KG,,NMOL/KG,PMOL/KG,,NMOL/KG,DEG C,TU,PERCNT
  316N145_8,        I03,     488,          1,         36,         36,2,19950508,       2009,   -20.0005,    86.9088,       3527,    15.5,  25.0956,  35.2356,2,  35.2359,2,    207.4,2,   208.5,2,    3.13,2,    0.09,2,    0.00,2,    0.12,2,   1.887,2,   1.069,2,-999.000,9,  1964.1,6,  2309.6,6,-999.0000,9,-999.0000,9, -999.00,9, -999.00,9,  -999.0,9,  -999.0,-999.000,9,-999.000,-999.000,9,-999.0000,  25.0922,-999.0000,-999.000
  316N145_8,        I03,     488,          1,         35,         35,2,19950508,       2009,   -20.0005,    86.9088,       3527,    55.2,  25.0646,  35.4045,2,  35.4036,2,    209.1,2,   208.8,2,    2.90,2,    0.09,2,    0.00,2,    0.12,2,   1.911,2,   1.085,2,-999.000,9,  -999.0,9,  -999.0,9,-999.0000,9,-999.0000,9, -999.00,9, -999.00,9,  -999.0,9,  -999.0,-999.000,9,-999.000,-999.000,9,-999.0000,  25.0526,-999.0000,-999.000
  316N145_8,        I03,     488,          1,         34,         34,2,19950508,       2009,   -20.0005,    86.9088,       3527,   106.0,  21.7153,  35.4543,2,  35.4585,2,    203.9,2,   201.0,2,    4.18,2,    1.33,2,    0.10,2,    0.24,2,-999.000,9,-999.000,9,-999.000,9,  -999.0,9,  -999.0,9,-999.0000,9,-999.0000,9, -999.00,9, -999.00,9,  -999.0,9,  -999.0,-999.000,9,-999.000,-999.000,9,-999.0000,  21.6945,-999.0000,-999.000
  316N145_8,        I03,     488,          1,         33,         33,2,19950508,       2009,   -20.0005,    86.9088,       3527,   155.7,  20.3694,  35.6378,2,  35.6496,2,    194.2,2,   194.8,2,    4.38,2,    2.11,2,    0.02,2,    0.29,2,   2.226,2,   1.229,2,-999.000,9,  -999.0,9,  -999.0,9,-999.0000,9,-999.0000,9, -999.00,9, -999.00,9,  -999.0,9,  -999.0,-999.000,9,-999.000,-999.000,9,-999.0000,  20.3401,-999.0000,-999.000
  316N145_8,        I03,     488,          1,         32,         32,2,19950508,       2009,   -20.0005,    86.9088,       3527,   207.3,  19.1447,  35.8146,2,  35.8079,2,    203.6,2,   202.7,2,    3.50,2,    1.67,2,    0.01,2,    0.28,2,-999.000,9,-999.000,9,-999.000,9,  -999.0,9,  -999.0,9,-999.0000,9,-999.0000,9, -999.00,9, -999.00,9,  -999.0,9,  -999.0,-999.000,9,-999.000,-999.000,9,-999.0000,  19.1073,-999.0000,-999.000
  316N145_8,        I03,     488,          1,         31,         31,2,19950508,       2009,   -20.0005,    86.9088,       3527,   256.6,  17.1849,  35.7450,2,  35.7448,2,    208.0,2,   204.0,2,    3.71,2,    2.87,2,    0.01,2,    0.38,2,   2.489,2,   1.325,2,-999.000,9,  -999.0,9,  -999.0,9,-999.0000,9,-999.0000,9, -999.00,9, -999.00,9,  -999.0,9,  -999.0,-999.000,9,-999.000,-999.000,9,-999.0000,  17.1420,-999.0000,-999.000
  316N145_8,        I03,     488,          1,         30,         30,2,19950508,       2009,   -20.0005,    86.9088,       3527,   307.1,  15.0645,  35.5279,2,  35.5317,2,    206.9,2,   208.2,2,    4.12,2,    5.42,2,    0.00,2,    0.53,2,-999.000,9,-999.000,9,-999.000,9,  -999.0,9,  -999.0,9,-999.0000,9,-999.0000,9, -999.00,9, -999.00,9,  -999.0,9,  -999.0,-999.000,9,-999.000,-999.000,9,-999.0000,  15.0174,-999.0000,-999.000
  316N145_8,        I03,     488,          1,         29,         29,2,19950508,       2009,   -20.0005,    86.9088,       3527,   358.8,  13.3186,  35.2988,2,  35.2880,2,    217.8,2,   218.7,2,    4.33,2,    7.81,2,    0.00,2,    0.69,2,   2.804,2,   1.426,2,-999.000,9,  -999.0,9,  -999.0,9,-999.0000,9,-999.0000,9, -999.00,9, -999.00,9,  -999.0,9,  -999.0,-999.000,9,-999.000,-999.000,9,-999.0000,  13.2680,-999.0000,-999.000
  316N145_8,        I03,     488,          1,         28,         28,2,19950508,       2009,   -20.0005,    86.9088,       3527,   406.9,  12.0873,  35.1144,2,  35.1084,2,    223.2,2,   224.7,2,    4.53,2,   10.06,2,    0.00,2,    1.11,3,   2.832,2,   1.449,2,-999.000,9,  -999.0,9,  -999.0,9,-999.0000,9,-999.0000,9, -999.00,9, -999.00,9,  -999.0,9,  -999.0,-999.000,9,-999.000,-999.000,9,-999.0000,  12.0335,-999.0000,-999.000
  316N145_8,        I03,     488,          1,         27,         27,2,19950508,       2009,   -20.0005,    86.9088,       3527,   458.5,  11.0629,  34.9676,2,  34.9524,2,    227.5,2,   231.2,2,    4.52,2,   11.86,2,    0.00,2,    0.91,2,-999.000,9,-999.000,9,-999.000,9,  -999.0,9,  -999.0,9,-999.0000,9,-999.0000,9, -999.00,9, -999.00,9,  -999.0,9,  -999.0,-999.000,9,-999.000,-999.000,9,-999.0000,  11.0056,-999.0000,-999.000
  316N145_8,        I03,     488,          1,         26,         26,2,19950508,       2009,   -20.0005,    86.9088,       3527,   508.1,  10.3135,  34.8461,2,  34.8495,2,    228.4,2,   230.5,2,    5.15,2,   13.66,2,    0.00,2,    1.02,2,-999.000,9,-999.000,9,-999.000,9,  -999.0,9,  -999.0,9,-999.0000,9,-999.0000,9, -999.00,9, -999.00,9,  -999.0,9,  -999.0,-999.000,9,-999.000,-999.000,9,-999.0000,  10.2525,-999.0000,-999.000
  316N145_8,        I03,     488,          1,         25,         25,2,19950508,       2009,   -20.0005,    86.9088,       3527,   608.1,   9.1293,  34.6789,2,  34.6789,2,    222.7,2,   222.7,2,    7.72,2,   17.76,2,    0.00,2,    1.26,2,   2.250,2,   1.118,2,-999.000,9,  -999.0,9,  -999.0,9,-999.0000,9,-999.0000,9, -999.00,9, -999.00,9,  -999.0,9,  -999.0,-999.000,9,-999.000,-999.000,9,-999.0000,   9.0613,-999.0000,-999.000
  316N145_8,        I03,     488,          1,         24,         24,2,19950508,       2009,   -20.0005,    86.9088,       3527,   708.0,   7.4562,  34.5453,2,  34.5443,2,    189.1,2,   189.5,2,   20.84,2,   24.88,2,    0.00,2,    1.73,2,-999.000,9,-999.000,9,-999.000,9,  -999.0,9,  -999.0,9,-999.0000,9,-999.0000,9, -999.00,9, -999.00,9,  -999.0,9,  -999.0,-999.000,9,-999.000,-999.000,9,-999.0000,   7.3855,-999.0000,-999.000
  316N145_8,        I03,     488,          1,         23,         23,2,19950508,       2009,   -20.0005,    86.9088,       3527,   809.0,   6.0306,  34.5338,2,  34.5328,2,    148.6,2,   146.5,2,   47.10,2,   31.29,2,    0.00,2,    2.21,2,-999.000,9,-999.000,9,-999.000,9,  -999.0,9,  -999.0,9,-999.0000,9,-999.0000,9, -999.00,9, -999.00,9,  -999.0,9,  -999.0,-999.000,9,-999.000,-999.000,9,-999.0000,   5.9579,-999.0000,-999.000
  316N145_8,        I03,     488,          1,         22,         22,2,19950508,       2009,   -20.0005,    86.9088,       3527,   909.5,   5.3992,  34.5826,2,  34.5837,2,    126.8,2,   119.3,2,   68.01,2,   34.34,2,    0.00,2,    2.46,2,   0.026,2,   0.018,2,-999.000,9,  -999.0,9,  -999.0,9,-999.0000,9,-999.0000,9, -999.00,9, -999.00,9,  -999.0,9,  -999.0,-999.000,9,-999.000,-999.000,9,-999.0000,   5.3212,-999.0000,-999.000
  316N145_8,        I03,     488,          1,         21,         21,2,19950508,       2009,   -20.0005,    86.9088,       3527,  1008.9,   4.9064,  34.6020,2,  34.6029,2,    110.8,2,   114.8,2,   77.73,2,   35.22,2,    0.00,2,    2.55,2,   0.007,2,   0.008,2,-999.000,9,  -999.0,9,  -999.0,9,-999.0000,9,   1.8630,2,   10.73,2, -999.00,9,  -999.0,9,  -999.0,   7.913,2,   0.017,-999.000,9,   0.0040,   4.8228,-999.0000,    0.16
  316N145_8,        I03,     488,          1,         20,         20,2,19950508,       2009,   -20.0005,    86.9088,       3527,  1111.2,   4.6642,  34.6363,2,  34.6367,2,    110.5,2,   110.8,2,   84.65,2,   35.53,2,    0.00,2,    2.57,2,   0.006,2,   0.007,2,-999.000,9,  -999.0,9,  -999.0,9,-999.0000,9,-999.0000,9, -999.00,9, -999.00,9,  -999.0,9,  -999.0,-999.000,9,-999.000,-999.000,9,-999.0000,   4.5733,-999.0000,-999.000
  316N145_8,        I03,     488,          1,         19,         19,2,19950508,       2009,   -20.0005,    86.9088,       3527,  1210.5,   4.2734,  34.6427,2,  34.6432,2,    114.1,2,   115.2,2,   88.76,2,   35.59,2,    0.00,2,    2.58,2,-999.000,9,-999.000,9,-999.000,9,  -999.0,9,  -999.0,9,-999.0000,9,   1.8810,2,   11.43,2, -999.00,9,  -999.0,9,  -999.0,   7.936,2,   0.017,-999.000,9,   0.0050,   4.1771,-999.0000,    0.16
  316N145_8,        I03,     488,          1,         18,         18,2,19950508,       2009,   -20.0005,    86.9088,       3527,  1312.8,   3.9780,  34.6570,2,  34.6586,2,    119.7,2,   119.5,2,   91.79,2,   35.49,2,    0.00,2,    2.56,2,-999.000,9,-999.000,9,-999.000,9,  -999.0,9,  -999.0,9,-999.0000,9,   1.9020,2,   11.89,2, -999.00,9,  -999.0,9,  -999.0,   8.059,2,   0.017,-999.000,9,   0.0030,   3.8755,-999.0000,    0.16
  316N145_8,        I03,     488,          1,         17,         17,2,19950508,       2009,   -20.0005,    86.9088,       3527,  1413.2,   3.7282,  34.6786,2,  34.6806,2,    122.8,2,   122.2,2,   95.92,2,   35.35,2,    0.00,2,    2.56,2,-999.000,9,-999.000,9,-999.000,9,  -999.0,9,  -999.0,9,-999.0000,9,   1.8820,2,   12.34,2, -999.00,9,  -999.0,9,  -999.0,   8.015,2,   0.017,-999.000,9,   0.0040,   3.6194,-999.0000,    0.16
  316N145_8,        I03,     488,          1,         16,         16,2,19950508,       2009,   -20.0005,    86.9088,       3527,  1516.3,   3.4778,  34.6931,2,  34.6922,2,    127.8,2,   127.6,2,   98.74,2,   35.15,2,    0.00,2,    2.54,2,-999.000,9,-999.000,9,-999.000,9,  -999.0,9,  -999.0,9,-999.0000,9,   1.8680,2,   12.71,2, -999.00,9,  -999.0,9,  -999.0,   7.975,2,   0.018,-999.000,9,   0.0040,   3.3628,-999.0000,    0.17
  316N145_8,        I03,     488,          1,         15,         15,2,19950508,       2009,   -20.0005,    86.9088,       3527,  1617.3,   3.2754,  34.7069,2,  34.7069,2,    132.8,2,   131.3,2,  102.23,2,   34.95,2,    0.00,2,    2.52,2,   0.000,2,   0.001,2,-999.000,9,  -999.0,9,  -999.0,9,-999.0000,9,   1.8800,2,   12.26,2, -999.00,9,  -999.0,9,  -999.0,   8.038,2,   0.024,-999.000,9,   0.0030,   3.1539,-999.0000,    0.10
  316N145_8,        I03,     488,          1,         14,         14,2,19950508,       2009,   -20.0005,    86.9088,       3527,  1716.9,   3.0769,  34.7113,2,  34.7104,2,    136.2,2,   135.5,2,  104.40,2,   34.81,2,    0.00,2,    2.50,2,-999.000,9,-999.000,9,-999.000,9,  -999.0,9,  -999.0,9,-999.0000,9,   1.7610,3,   13.54,2, -999.00,9,  -999.0,9,  -999.0,   0.000,5,   0.000,-999.000,9,   0.0050,   2.9493,-999.0000,    0.17
  316N145_8,        I03,     488,          1,         13,         13,2,19950508,       2009,   -20.0005,    86.9088,       3527,  1813.3,   2.8619,  34.7164,2,  34.7167,2,    139.5,2,   139.8,2,  106.80,2,   34.61,2,    0.00,2,    2.48,2,-999.000,9,-999.000,9,-999.000,9,  -999.0,9,  -999.0,9,-999.0000,9,   1.8860,2,   13.40,2, -999.00,9,  -999.0,9,  -999.0,   8.037,2,   0.024,-999.000,9,   0.0040,   2.7287,-999.0000,    0.10
  316N145_8,        I03,     488,          1,         12,         12,2,19950508,       2009,   -20.0005,    86.9088,       3527,  1918.3,   2.6650,  34.7205,2,  34.7208,2,    145.6,2,   145.7,2,  108.55,2,   34.26,2,    0.00,2,    2.45,2,-999.000,9,-999.000,9,-999.000,9,  -999.0,9,  -999.0,9,-999.0000,9,   1.8960,2,   13.35,2, -999.00,9,  -999.0,9,  -999.0,   8.092,2,   0.018,-999.000,9,   0.0030,   2.5254,-999.0000,    0.17
  316N145_8,        I03,     488,          1,         11,         11,2,19950508,       2009,   -20.0005,    86.9088,       3527,  2015.2,   2.5252,  34.7234,2,  34.7236,2,    149.4,2,   150.2,2,  110.07,2,   34.07,2,    0.00,2,    2.44,2,   0.000,2,   0.003,2,-999.000,9,  -999.0,9,  -999.0,9,-999.0000,9,   1.9000,2,   14.30,2, -999.00,9,  -999.0,9,  -999.0,   8.086,2,   0.024,-999.000,9,   0.0040,   2.3792,-999.0000,    0.10
  316N145_8,        I03,     488,          1,         10,         10,2,19950508,       2009,   -20.0005,    86.9088,       3527,  2116.0,   2.3750,  34.7240,2,  34.7236,2,    154.8,2,   155.0,2,  111.15,2,   33.72,2,    0.00,2,    2.41,2,-999.000,9,-999.000,9,-999.000,9,  -999.0,9,  -999.0,9,-999.0000,9,   1.9100,2,   14.75,2, -999.00,9,  -999.0,9,  -999.0,   8.137,2,   0.018,-999.000,9,   0.0030,   2.2224,-999.0000,    0.16
  316N145_8,        I03,     488,          1,          9,          9,2,19950508,       2009,   -20.0005,    86.9088,       3527,  2218.5,   2.2518,  34.7249,2,  34.7237,2,    159.3,2,   159.2,2,  112.02,2,   33.67,2,    0.00,2,    2.37,2,-999.000,9,-999.000,9,-999.000,9,  -999.0,9,  -999.0,9,-999.0000,9,   1.8860,2,   14.92,2, -999.00,9,  -999.0,9,  -999.0,   8.035,2,   0.024,-999.000,9,   0.0030,   2.0922,-999.0000,    0.10
  316N145_8,        I03,     488,          1,          8,          8,2,19950508,       2009,   -20.0005,    86.9088,       3527,  2320.1,   2.1323,  34.7260,2,  34.7255,2,    162.5,2,   163.0,2,  113.10,2,   33.53,2,    0.00,2,    2.37,2,-999.000,9,-999.000,9,-999.000,9,  -999.0,9,  -999.0,9,-999.0000,9,   1.8770,2,   15.07,2, -999.00,9,  -999.0,9,  -999.0,   8.067,2,   0.018,-999.000,9,   0.0030,   1.9656,-999.0000,    0.16
  316N145_8,        I03,     488,          1,          7,          7,2,19950508,       2009,   -20.0005,    86.9088,       3527,  2418.7,   2.0262,  34.7262,2,  34.7267,2,    165.7,2,   166.3,2,  113.97,2,   33.33,2,    0.00,2,    2.35,2,-999.000,9,-999.000,9,-999.000,9,  -999.0,9,  -999.0,9,-999.0000,9,   1.9010,2,   14.76,2, -999.00,9,  -999.0,9,  -999.0,   8.148,2,   0.024,-999.000,9,   0.0030,   1.8525,-999.0000,    0.10
  316N145_8,        I03,     488,          1,          6,          6,2,19950508,       2009,   -20.0005,    86.9088,       3527,  2622.3,   1.8648,  34.7271,2,  34.7273,2,    170.0,2,   170.7,2,  116.61,2,   33.29,2,    0.00,2,    2.34,2,  -0.001,2,  -0.001,2,-999.000,9,  -999.0,9,  -999.0,9,-999.0000,9,   1.9190,2,   14.84,2, -999.00,9,  -999.0,9,  -999.0,   8.182,2,   0.019,-999.000,9,   0.0030,   1.6756,-999.0000,    0.16
  316N145_8,        I03,     488,          1,          5,          5,2,19950508,       2009,   -20.0005,    86.9088,       3527,  2825.8,   1.7017,  34.7266,2,  34.7257,2,    174.7,2,   174.1,2,  119.71,2,   33.29,2,    0.00,2,    2.32,2,-999.000,9,-999.000,9,-999.000,9,  -999.0,9,  -999.0,9,-999.0000,9,   1.9270,2,   13.78,2, -999.00,9,  -999.0,9,  -999.0,   8.230,2,   0.025,-999.000,9,   0.0040,   1.4968,-999.0000,    0.10
  316N145_8,        I03,     488,          1,          4,          4,2,19950508,       2009,   -20.0005,    86.9088,       3527,  3032.3,   1.5990,  34.7253,2,  34.7251,2,    175.6,2,   175.5,2,  123.71,2,   33.40,2,    0.00,2,    2.34,2,-999.000,9,-999.000,9,-999.000,9,  -999.0,9,  -999.0,9,-999.0000,9,   1.9400,2,   13.62,2, -999.00,9,  -999.0,9,  -999.0,   8.276,2,   0.014,-999.000,9,   0.0050,   1.3767,-999.0000,    0.15
  316N145_8,        I03,     488,          1,          3,          3,2,19950508,       2009,   -20.0005,    86.9088,       3527,  3236.2,   1.4907,  34.7231,2,  34.7253,2,    177.3,2,   178.4,2,  126.16,2,   33.41,2,    0.00,2,    2.34,2,-999.000,9,-999.000,9,-999.000,9,  -999.0,9,  -999.0,9,-999.0000,9,   1.9580,3,   12.74,2, -999.00,9,  -999.0,9,  -999.0,   8.370,3,   0.035,-999.000,9,   0.0050,   1.2510,-999.0000,    0.19
  316N145_8,        I03,     488,          1,          2,          2,2,19950508,       2009,   -20.0005,    86.9088,       3527,  3440.8,   1.4135,  34.7215,2,  34.7233,2,    180.3,2,   180.9,2,  128.17,2,   33.47,2,    0.00,2,    2.34,2,-999.000,9,-999.000,9,-999.000,9,  -999.0,9,  -999.0,9,-999.0000,9,   1.8910,2,   12.61,2, -999.00,9,  -999.0,9,  -999.0,   8.139,2,   0.014,-999.000,9,   0.0050,   1.1553,-999.0000,    0.15
  316N145_8,        I03,     488,          1,          1,          1,2,19950508,       2009,   -20.0005,    86.9088,       3527,  3573.1,   1.4016,  34.7211,2,  34.7225,2,    181.5,2,   181.1,2,  128.37,2,   33.43,2,    0.00,2,    2.32,2,   0.001,2,   0.001,2,-999.000,9,  -999.0,9,  -999.0,9,-999.0000,9,   1.8960,2,   12.08,2, -999.00,9,  -999.0,9,  -999.0,   8.114,2,   0.034,-999.000,9,   0.0050,   1.1303,-999.0000,    0.20