BOTTLE,20140514CCHSIOSE
EXPOCODE,SECT_ID,STNNBR,CASTNO,SAMPNO,BTLNBR,BTLNBR_FLAG_W,DATE,TIME,LATITUDE,LONGITUDE,DEPTH,CTDPRS,CTDTMP,CTDSAL,CTDSAL_FLAG_W,SALNTY,SALNTY_FLAG_W,CTDOXY,CTDOXY_FLAG_W,OXYGEN,OXYGEN_FLAG_W,SILCAT,SILCAT_FLAG_W,NITRAT,NITRAT_FLAG_W,NITRIT,NITRIT_FLAG_W,PHSPHT,PHSPHT_FLAG_W,CFC-11,CFC-11_FLAG_W,CFC-12,CFC-12_FLAG_W,CFC113,CFC113_FLAG_W,TCARBN,TCARBN_FLAG_W,ALKALI,ALKALI_FLAG_W,TRITUM,TRITUM_FLAG_W,HELIUM,HELIUM_FLAG_W,DELHE3,DELHE3_FLAG_W,DELC13,DELC13_FLAG_W,DELC14,DELC14_FLAG_W,C14ERR,NEON,NEON_FLAG_W,NEONER,CCL4,CCL4_FLAG_W,HELIER,THETA,TRITER,DELHER
,,,,,,,,,,,METERS,DBAR,ITS-90,PSS-78,,PSS-78,,UMOL/KG,,UMOL/KG,,UMOL/KG,,UMOL/KG,,UMOL/KG,,UMOL/KG,,PMOL/KG,,PMOL/KG,,PMOL/KG,,UMOL/KG,,UMOL/KG,,TU,,NMOL/KG,,PERCNT,,/MILLE,,/MILLE,,/MILLE,NMOL/KG,,NMOL/KG,PMOL/KG,,NMOL/KG,DEG C,TU,PERCNT
  316N145_8,        I03,     468,          1,         36,         36,2,19950502,       1642,   -20.0003,    98.7165,       6230,    13.4,  25.0426,  35.6186,2,  35.6175,2,    209.8,3,   209.2,2,    3.16,2,    0.09,2,    0.00,2,    0.07,2,   1.912,2,   1.084,2,-999.000,9,  1988.7,6,  2336.8,6,-999.0000,9,-999.0000,9, -999.00,9, -999.00,9,  -999.0,9,  -999.0,-999.000,9,-999.000,-999.000,9,-999.0000,  25.0397,-999.0000,-999.000
  316N145_8,        I03,     468,          1,         35,         35,2,19950502,       1642,   -20.0003,    98.7165,       6230,    57.0,  24.9860,  35.6184,2,  35.6204,2,    215.4,2,   209.5,2,    3.15,2,    0.09,2,    0.00,2,    0.07,2,   1.919,2,   1.088,2,-999.000,9,  -999.0,9,  -999.0,9,-999.0000,9,-999.0000,9, -999.00,9, -999.00,9,  -999.0,9,  -999.0,-999.000,9,-999.000,-999.000,9,-999.0000,  24.9736,-999.0000,-999.000
  316N145_8,        I03,     468,          1,         34,         34,2,19950502,       1642,   -20.0003,    98.7165,       6230,   107.7,  21.0147,  35.7470,2,  35.7483,2,    227.9,2,   219.9,2,    3.35,2,    0.09,2,    0.00,2,    0.13,2,   2.288,2,   1.254,2,-999.000,9,  -999.0,9,  -999.0,9,-999.0000,9,-999.0000,9, -999.00,9, -999.00,9,  -999.0,9,  -999.0,-999.000,9,-999.000,-999.000,9,-999.0000,  20.9941,-999.0000,-999.000
  316N145_8,        I03,     468,          1,         33,         33,2,19950502,       1642,   -20.0003,    98.7165,       6230,   157.9,  19.4046,  35.8376,2,  35.8351,2,    205.7,2,   204.6,2,    3.56,2,    1.25,2,    0.02,2,    0.24,2,   2.362,2,   1.299,2,-999.000,9,  -999.0,9,  -999.0,9,-999.0000,9,-999.0000,9, -999.00,9, -999.00,9,  -999.0,9,  -999.0,-999.000,9,-999.000,-999.000,9,-999.0000,  19.3759,-999.0000,-999.000
  316N145_8,        I03,     468,          1,         32,         32,2,19950502,       1642,   -20.0003,    98.7165,       6230,   207.2,  17.5116,  35.7779,2,  35.7720,2,    200.8,2,   200.2,2,    4.42,2,    3.51,2,    0.01,2,    0.38,2,   2.460,2,   1.327,2,-999.000,9,  -999.0,9,  -999.0,9,-999.0000,9,-999.0000,9, -999.00,9, -999.00,9,  -999.0,9,  -999.0,-999.000,9,-999.000,-999.000,9,-999.0000,  17.4765,-999.0000,-999.000
  316N145_8,        I03,     468,          1,         31,         31,2,19950502,       1642,   -20.0003,    98.7165,       6230,   258.2,  15.5829,  35.6381,2,  35.6374,2,    213.9,2,   213.4,2,    3.75,2,    4.01,2,    0.01,2,    0.43,2,   2.700,2,   1.419,2,-999.000,9,  -999.0,9,  -999.0,9,-999.0000,9,-999.0000,9, -999.00,9, -999.00,9,  -999.0,9,  -999.0,-999.000,9,-999.000,-999.000,9,-999.0000,  15.5425,-999.0000,-999.000
  316N145_8,        I03,     468,          1,         30,         30,2,19950502,       1642,   -20.0003,    98.7165,       6230,   308.5,  13.8068,  35.4035,2,  35.4020,2,    222.0,2,   223.4,2,    3.52,2,    5.97,2,    0.01,2,    0.55,2,   2.951,2,   1.535,2,-999.000,9,  -999.0,9,  -999.0,9,-999.0000,9,-999.0000,9, -999.00,9, -999.00,9,  -999.0,9,  -999.0,-999.000,9,-999.000,-999.000,9,-999.0000,  13.7623,-999.0000,-999.000
  316N145_8,        I03,     468,          1,         29,         29,2,19950502,       1642,   -20.0003,    98.7165,       6230,   357.2,  12.3320,  35.1752,2,  35.1620,2,    230.0,2,   232.0,2,    3.51,2,    8.43,2,    0.01,2,    0.70,2,   3.131,2,   1.603,2,-999.000,9,  -999.0,9,  -999.0,9,-999.0000,9,-999.0000,9, -999.00,9, -999.00,9,  -999.0,9,  -999.0,-999.000,9,-999.000,-999.000,9,-999.0000,  12.2842,-999.0000,-999.000
  316N145_8,        I03,     468,          1,         28,         28,2,19950502,       1642,   -20.0003,    98.7165,       6230,   409.9,  11.1732,  34.9862,2,  34.9864,2,    235.6,2,   235.5,2,    4.14,2,   10.83,2,    0.01,2,    0.84,2,   3.165,2,   1.601,2,-999.000,9,  -999.0,9,  -999.0,9,-999.0000,9,-999.0000,9, -999.00,9, -999.00,9,  -999.0,9,  -999.0,-999.000,9,-999.000,-999.000,9,-999.0000,  11.1217,-999.0000,-999.000
  316N145_8,        I03,     468,          1,         27,         27,2,19950502,       1642,   -20.0003,    98.7165,       6230,   509.8,   9.6408,  34.7463,2,  34.7412,2,    229.9,2,   230.5,2,    6.53,2,   15.85,2,    0.00,2,    1.14,2,   2.823,2,   1.415,2,-999.000,9,  -999.0,9,  -999.0,9,-999.0000,9,-999.0000,9, -999.00,9, -999.00,9,  -999.0,9,  -999.0,-999.000,9,-999.000,-999.000,9,-999.0000,   9.5822,-999.0000,-999.000
  316N145_8,        I03,     468,          1,         26,         26,2,19950502,       1642,   -20.0003,    98.7165,       6230,   609.5,   8.0276,  34.5714,2,  34.5709,2,    202.4,2,   204.7,2,   14.57,2,   22.31,2,    0.00,2,    1.56,2,   1.566,2,   0.780,2,-999.000,9,  -999.0,9,  -999.0,9,-999.0000,9,-999.0000,9, -999.00,9, -999.00,9,  -999.0,9,  -999.0,-999.000,9,-999.000,-999.000,9,-999.0000,   7.9646,-999.0000,-999.000
  316N145_8,        I03,     468,          1,         25,         25,2,19950502,       1642,   -20.0003,    98.7165,       6230,   710.0,   6.4767,  34.5037,2,  34.4922,2,    172.9,2,   171.8,2,   34.14,2,   28.85,2,    0.00,2,    2.02,2,   0.527,2,   0.268,2,-999.000,9,  -999.0,9,  -999.0,9,-999.0000,9,-999.0000,9, -999.00,9, -999.00,9,  -999.0,9,  -999.0,-999.000,9,-999.000,-999.000,9,-999.0000,   6.4110,-999.0000,-999.000
  316N145_8,        I03,     468,          1,         24,         24,2,19950502,       1642,   -20.0003,    98.7165,       6230,   810.7,   5.4492,  34.5215,2,  34.5095,2,    141.6,2,   144.0,2,   55.24,2,   32.79,2,    0.00,2,    2.33,2,   0.124,2,   0.067,2,-999.000,9,  -999.0,9,  -999.0,9,-999.0000,9,-999.0000,9, -999.00,9, -999.00,9,  -999.0,9,  -999.0,-999.000,9,-999.000,-999.000,9,-999.0000,   5.3800,-999.0000,-999.000
  316N145_8,        I03,     468,          1,         23,         23,2,19950502,       1642,   -20.0003,    98.7165,       6230,   912.2,   4.8824,  34.5545,2,  34.5554,2,    122.7,2,   125.4,2,   71.80,2,   34.69,2,    0.00,2,    2.49,2,   0.031,2,   0.016,2,-999.000,9,  -999.0,9,  -999.0,9,-999.0000,9,-999.0000,9, -999.00,9, -999.00,9,  -999.0,9,  -999.0,-999.000,9,-999.000,-999.000,9,-999.0000,   4.8077,-999.0000,-999.000
  316N145_8,        I03,     468,          1,         22,         22,2,19950502,       1642,   -20.0003,    98.7165,       6230,  1012.7,   4.5570,  34.5932,2,  34.5928,2,    117.7,2,   117.5,2,   82.28,2,   35.50,2,    0.00,2,    2.57,2,   0.006,2,   0.004,2,-999.000,9,  -999.0,9,  -999.0,9,-999.0000,9,-999.0000,9, -999.00,9, -999.00,9,  -999.0,9,  -999.0,-999.000,9,-999.000,-999.000,9,-999.0000,   4.4758,-999.0000,-999.000
  316N145_8,        I03,     468,          1,         21,         21,2,19950502,       1642,   -20.0003,    98.7165,       6230,  1113.0,   4.3266,  34.6240,2,  34.6238,2,    112.1,2,   114.2,2,   89.05,2,   35.81,2,    0.00,2,    2.59,2,   0.000,2,   0.001,2,-999.000,9,  -999.0,9,  -999.0,9,-999.0000,9,-999.0000,9, -999.00,9, -999.00,9,  -999.0,9,  -999.0,-999.000,9,-999.000,-999.000,9,-999.0000,   4.2385,-999.0000,-999.000
  316N145_8,        I03,     468,          1,         20,         20,2,19950502,       1642,   -20.0003,    98.7165,       6230,  1213.0,   4.0733,  34.6418,2,  34.6421,2,    116.8,2,   117.6,2,   91.88,2,   35.71,2,    0.01,2,    2.58,2,   0.000,2,   0.005,2,-999.000,9,  -999.0,9,  -999.0,9,-999.0000,9,-999.0000,9, -999.00,9, -999.00,9,  -999.0,9,  -999.0,-999.000,9,-999.000,-999.000,9,-999.0000,   3.9787,-999.0000,-999.000
  316N145_8,        I03,     468,          1,         19,         19,2,19950502,       1642,   -20.0003,    98.7165,       6230,  1413.1,   3.4347,  34.6681,2,  34.6678,2,    126.4,2,   127.8,2,   99.13,2,   35.36,2,    0.01,2,    2.55,2,   0.001,2,   0.000,2,-999.000,9,  -999.0,9,  -999.0,9,-999.0000,9,-999.0000,9, -999.00,9, -999.00,9,  -999.0,9,  -999.0,-999.000,9,-999.000,-999.000,9,-999.0000,   3.3291,-999.0000,-999.000
  316N145_8,        I03,     468,          1,         18,         18,2,19950502,       1642,   -20.0003,    98.7165,       6230,  1616.7,   2.8911,  34.6928,2,  34.6927,2,    139.3,2,   140.7,2,  104.18,2,   34.76,2,    0.01,2,    2.50,2,  -0.002,2,  -0.001,2,-999.000,9,  -999.0,9,  -999.0,9,-999.0000,9,-999.0000,9, -999.00,9, -999.00,9,  -999.0,9,  -999.0,-999.000,9,-999.000,-999.000,9,-999.0000,   2.7745,-999.0000,-999.000
  316N145_8,        I03,     468,          1,         17,         17,2,19950502,       1642,   -20.0003,    98.7165,       6230,  1818.7,   2.5327,  34.7136,2,  34.7121,2,    146.8,2,   148.5,2,  110.60,2,   34.31,2,    0.00,2,    2.46,2,-999.000,9,-999.000,9,-999.000,9,  -999.0,9,  -999.0,9,-999.0000,9,-999.0000,9, -999.00,9, -999.00,9,  -999.0,9,  -999.0,-999.000,9,-999.000,-999.000,9,-999.0000,   2.4036,-999.0000,-999.000
  316N145_8,        I03,     468,          1,         16,         16,2,19950502,       1642,   -20.0003,    98.7165,       6230,  2020.9,   2.2522,  34.7227,2,  34.7227,2,    155.8,2,   154.9,2,  115.25,2,   34.07,2,    0.00,2,    2.43,2,-999.000,9,-999.000,9,-999.000,9,  -999.0,9,  -999.0,9,-999.0000,9,-999.0000,9, -999.00,9, -999.00,9,  -999.0,9,  -999.0,-999.000,9,-999.000,-999.000,9,-999.0000,   2.1099,-999.0000,-999.000
  316N145_8,        I03,     468,          1,         15,         15,2,19950502,       1642,   -20.0003,    98.7165,       6230,  2223.9,   2.0898,  34.7263,2,  34.7253,2,    159.7,2,   158.4,2,  118.81,2,   33.87,2,    0.01,2,    2.42,2,-999.000,9,-999.000,9,-999.000,9,  -999.0,9,  -999.0,9,-999.0000,9,-999.0000,9, -999.00,9, -999.00,9,  -999.0,9,  -999.0,-999.000,9,-999.000,-999.000,9,-999.0000,   1.9324,-999.0000,-999.000
  316N145_8,        I03,     468,          1,         14,         14,2,19950502,       1642,   -20.0003,    98.7165,       6230,  2426.8,   1.9223,  34.7266,2,  34.7255,2,    164.3,2,   163.6,2,  121.02,2,   33.77,2,    0.00,2,    2.40,2,  -0.001,2,   0.000,2,-999.000,9,  -999.0,9,  -999.0,9,-999.0000,9,-999.0000,9, -999.00,9, -999.00,9,  -999.0,9,  -999.0,-999.000,9,-999.000,-999.000,9,-999.0000,   1.7497,-999.0000,-999.000
  316N145_8,        I03,     468,          1,         13,         13,2,19950502,       1642,   -20.0003,    98.7165,       6230,  2630.0,   1.7741,  34.7261,2,  34.7255,2,    170.1,2,   169.7,2,  121.43,2,   33.38,2,    0.01,2,    2.37,2,-999.000,9,-999.000,9,-999.000,9,  -999.0,9,  -999.0,9,-999.0000,9,-999.0000,9, -999.00,9, -999.00,9,  -999.0,9,  -999.0,-999.000,9,-999.000,-999.000,9,-999.0000,   1.5859,-999.0000,-999.000
  316N145_8,        I03,     468,          1,         12,         12,2,19950502,       1642,   -20.0003,    98.7165,       6230,  2832.4,   1.6450,  34.7249,2,  34.7241,2,    174.5,2,   173.9,2,  123.20,2,   33.28,2,    0.00,2,    2.36,2,   0.000,2,   0.002,2,-999.000,9,  -999.0,9,  -999.0,9,-999.0000,9,-999.0000,9, -999.00,9, -999.00,9,  -999.0,9,  -999.0,-999.000,9,-999.000,-999.000,9,-999.0000,   1.4407,-999.0000,-999.000
  316N145_8,        I03,     468,          1,         11,         11,2,19950502,       1642,   -20.0003,    98.7165,       6230,  3035.2,   1.5337,  34.7231,2,  34.7235,2,    178.1,2,   177.0,2,  125.20,2,   33.18,2,    0.01,2,    2.35,2,-999.000,9,-999.000,9,-999.000,9,  -999.0,9,  -999.0,9,-999.0000,9,-999.0000,9, -999.00,9, -999.00,9,  -999.0,9,  -999.0,-999.000,9,-999.000,-999.000,9,-999.0000,   1.3125,-999.0000,-999.000
  316N145_8,        I03,     468,          1,         10,         10,2,19950502,       1642,   -20.0003,    98.7165,       6230,  3341.8,   1.4023,  34.7204,2,  34.7192,2,    180.6,2,   180.5,2,  127.65,2,   33.24,2,    0.00,2,    2.35,2,   0.005,3,   0.009,4,-999.000,9,  -999.0,9,  -999.0,9,-999.0000,9,-999.0000,9, -999.00,9, -999.00,9,  -999.0,9,  -999.0,-999.000,9,-999.000,-999.000,9,-999.0000,   1.1543,-999.0000,-999.000
  316N145_8,        I03,     468,          1,          9,          9,2,19950502,       1642,   -20.0003,    98.7165,       6230,  3647.5,   1.3086,  34.7173,2,  34.7162,2,    184.6,2,   185.1,2,  128.52,2,   33.09,2,    0.00,2,    2.33,2,-999.000,9,-999.000,9,-999.000,9,  -999.0,9,  -999.0,9,-999.0000,9,-999.0000,9, -999.00,9, -999.00,9,  -999.0,9,  -999.0,-999.000,9,-999.000,-999.000,9,-999.0000,   1.0320,-999.0000,-999.000
  316N145_8,        I03,     468,          1,          8,          8,2,19950502,       1642,   -20.0003,    98.7165,       6230,  3952.9,   1.2394,  34.7155,2,  34.7139,2,    189.6,2,   190.2,2,  128.03,2,   32.90,2,    0.00,2,    2.31,2,  -0.001,2,   0.000,2,-999.000,9,  -999.0,9,  -999.0,9,-999.0000,9,-999.0000,9, -999.00,9, -999.00,9,  -999.0,9,  -999.0,-999.000,9,-999.000,-999.000,9,-999.0000,   0.9327,-999.0000,-999.000
  316N145_8,        I03,     468,          1,          7,          7,2,19950502,       1642,   -20.0003,    98.7165,       6230,  4259.5,   1.1691,  34.7147,2,  34.7131,2,    195.1,2,   195.9,2,  126.40,2,   32.55,2,    0.00,2,    2.28,2,-999.000,9,-999.000,9,-999.000,9,  -999.0,9,  -999.0,9,-999.0000,9,-999.0000,9, -999.00,9, -999.00,9,  -999.0,9,  -999.0,-999.000,9,-999.000,-999.000,9,-999.0000,   0.8311,-999.0000,-999.000
  316N145_8,        I03,     468,          1,          6,          6,2,19950502,       1642,   -20.0003,    98.7165,       6230,  4566.9,   1.1284,  34.7133,2,  34.7121,2,    199.0,2,   200.4,2,  125.00,2,   32.35,2,    0.00,2,    2.26,2,  -0.002,2,   0.002,2,-999.000,9,  -999.0,9,  -999.0,9,-999.0000,9,-999.0000,9, -999.00,9, -999.00,9,  -999.0,9,  -999.0,-999.000,9,-999.000,-999.000,9,-999.0000,   0.7572,-999.0000,-999.000
  316N145_8,        I03,     468,          1,          5,          5,2,19950502,       1642,   -20.0003,    98.7165,       6230,  4875.0,   1.1128,  34.7118,2,  34.7098,2,    201.9,2,   202.8,2,  124.06,2,   32.26,2,    0.00,2,    2.25,2,-999.000,9,-999.000,9,-999.000,9,  -999.0,9,  -999.0,9,-999.0000,9,-999.0000,9, -999.00,9, -999.00,9,  -999.0,9,  -999.0,-999.000,9,-999.000,-999.000,9,-999.0000,   0.7064,-999.0000,-999.000
  316N145_8,        I03,     468,          1,          4,          4,2,19950502,       1642,   -20.0003,    98.7165,       6230,  5182.8,   1.1126,  34.7104,2,  34.7104,2,    204.1,2,   204.6,2,  123.57,2,   32.16,2,    0.00,2,    2.24,2,   0.001,2,   0.001,2,-999.000,9,  -999.0,9,  -999.0,9,-999.0000,9,-999.0000,9, -999.00,9, -999.00,9,  -999.0,9,  -999.0,-999.000,9,-999.000,-999.000,9,-999.0000,   0.6693,-999.0000,-999.000
  316N145_8,        I03,     468,          1,          3,          3,2,19950502,       1642,   -20.0003,    98.7165,       6230,  5490.6,   1.1278,  34.7089,2,  34.7092,2,    205.3,2,   205.4,2,  123.53,2,   32.17,2,    0.00,2,    2.24,2,-999.000,9,-999.000,9,-999.000,9,  -999.0,9,  -999.0,9,-999.0000,9,-999.0000,9, -999.00,9, -999.00,9,  -999.0,9,  -999.0,-999.000,9,-999.000,-999.000,9,-999.0000,   0.6459,-999.0000,-999.000
  316N145_8,        I03,     468,          1,          2,          2,2,19950502,       1642,   -20.0003,    98.7165,       6230,  5799.3,   1.1599,  34.7092,2,  34.7088,2,    206.0,2,   205.7,2,  123.71,2,   32.22,2,    0.00,2,    2.24,2,   0.003,2,   0.001,2,-999.000,9,  -999.0,9,  -999.0,9,-999.0000,9,-999.0000,9, -999.00,9, -999.00,9,  -999.0,9,  -999.0,-999.000,9,-999.000,-999.000,9,-999.0000,   0.6374,-999.0000,-999.000
  316N145_8,        I03,     468,          1,          1,          1,2,19950502,       1642,   -20.0003,    98.7165,       6230,  6088.3,   1.1954,  34.7092,2,  34.7082,2,    206.1,2,   204.4,3,  123.45,2,   32.18,2,    0.00,2,    2.24,2,   0.002,2,   0.002,2,-999.000,9,  -999.0,9,  -999.0,9,-999.0000,9,-999.0000,9, -999.00,9, -999.00,9,  -999.0,9,  -999.0,-999.000,9,-999.000,-999.000,9,-999.0000,   0.6335,-999.0000,-999.000