BOTTLE,20140514CCHSIOSE
EXPOCODE,SECT_ID,STNNBR,CASTNO,SAMPNO,BTLNBR,BTLNBR_FLAG_W,DATE,TIME,LATITUDE,LONGITUDE,DEPTH,CTDPRS,CTDTMP,CTDSAL,CTDSAL_FLAG_W,SALNTY,SALNTY_FLAG_W,CTDOXY,CTDOXY_FLAG_W,OXYGEN,OXYGEN_FLAG_W,SILCAT,SILCAT_FLAG_W,NITRAT,NITRAT_FLAG_W,NITRIT,NITRIT_FLAG_W,PHSPHT,PHSPHT_FLAG_W,CFC-11,CFC-11_FLAG_W,CFC-12,CFC-12_FLAG_W,CFC113,CFC113_FLAG_W,TCARBN,TCARBN_FLAG_W,ALKALI,ALKALI_FLAG_W,TRITUM,TRITUM_FLAG_W,HELIUM,HELIUM_FLAG_W,DELHE3,DELHE3_FLAG_W,DELC13,DELC13_FLAG_W,DELC14,DELC14_FLAG_W,C14ERR,NEON,NEON_FLAG_W,NEONER,CCL4,CCL4_FLAG_W,HELIER,THETA,TRITER,DELHER
,,,,,,,,,,,METERS,DBAR,ITS-90,PSS-78,,PSS-78,,UMOL/KG,,UMOL/KG,,UMOL/KG,,UMOL/KG,,UMOL/KG,,UMOL/KG,,PMOL/KG,,PMOL/KG,,PMOL/KG,,UMOL/KG,,UMOL/KG,,TU,,NMOL/KG,,PERCNT,,/MILLE,,/MILLE,,/MILLE,NMOL/KG,,NMOL/KG,PMOL/KG,,NMOL/KG,DEG C,TU,PERCNT
  316N145_8,        I03,     483,          1,         36,         36,2,19950507,       1505,   -19.9995,    88.9162,       4973,     8.2,  26.1006,  35.1319,2,  35.1313,2,    201.5,3,   204.6,2,    3.12,2,    0.14,2,    0.00,2,    0.12,2,   1.828,2,   1.041,2,-999.000,9,  1954.3,6,  2308.1,6,-999.0000,9,-999.0000,9, -999.00,9, -999.00,9,  -999.0,9,  -999.0,-999.000,9,-999.000,-999.000,9,-999.0000,  26.0988,-999.0000,-999.000
  316N145_8,        I03,     483,          1,         35,         35,2,19950507,       1505,   -19.9995,    88.9162,       4973,    55.9,  25.7602,  35.2237,2,  35.2257,2,    211.8,2,   206.0,2,    2.89,2,    0.13,2,    0.00,2,    0.13,2,-999.000,9,-999.000,9,-999.000,9,  -999.0,9,  -999.0,9,-999.0000,9,-999.0000,9, -999.00,9, -999.00,9,  -999.0,9,  -999.0,-999.000,9,-999.000,-999.000,9,-999.0000,  25.7478,-999.0000,-999.000
  316N145_8,        I03,     483,          1,         34,         34,2,19950507,       1505,   -19.9995,    88.9162,       4973,   106.0,  21.7885,  35.5450,2,  35.5468,2,    226.4,2,   222.2,2,    3.10,2,    0.13,2,    0.00,2,    0.15,2,   2.223,2,   1.229,2,-999.000,9,  -999.0,9,  -999.0,9,-999.0000,9,-999.0000,9, -999.00,9, -999.00,9,  -999.0,9,  -999.0,-999.000,9,-999.000,-999.000,9,-999.0000,  21.7676,-999.0000,-999.000
  316N145_8,        I03,     483,          1,         33,         33,2,19950507,       1505,   -19.9995,    88.9162,       4973,   156.9,  20.4786,  35.7094,2,  35.7158,2,    206.2,2,   207.5,2,    3.30,2,    0.55,2,    0.22,2,    0.22,2,-999.000,9,-999.000,9,-999.000,9,  -999.0,9,  -999.0,9,-999.0000,9,-999.0000,9, -999.00,9, -999.00,9,  -999.0,9,  -999.0,-999.000,9,-999.000,-999.000,9,-999.0000,  20.4490,-999.0000,-999.000
  316N145_8,        I03,     483,          1,         32,         32,2,19950507,       1505,   -19.9995,    88.9162,       4973,   207.9,  18.6411,  35.8428,2,  35.8371,2,    210.5,2,   211.0,2,    2.86,2,    1.25,2,    0.01,2,    0.28,2,   2.463,2,   1.344,2,-999.000,9,  -999.0,9,  -999.0,9,-999.0000,9,-999.0000,9, -999.00,9, -999.00,9,  -999.0,9,  -999.0,-999.000,9,-999.000,-999.000,9,-999.0000,  18.6043,-999.0000,-999.000
  316N145_8,        I03,     483,          1,         31,         31,2,19950507,       1505,   -19.9995,    88.9162,       4973,   257.3,  16.6293,  35.7284,2,  35.7149,2,    218.7,2,   217.7,2,    2.64,2,    2.13,2,    0.00,2,    0.36,2,-999.000,9,-999.000,9,-999.000,9,  -999.0,9,  -999.0,9,-999.0000,9,-999.0000,9, -999.00,9, -999.00,9,  -999.0,9,  -999.0,-999.000,9,-999.000,-999.000,9,-999.0000,  16.5872,-999.0000,-999.000
  316N145_8,        I03,     483,          1,         30,         30,2,19950507,       1505,   -19.9995,    88.9162,       4973,   307.2,  14.8348,  35.5066,2,  35.4966,2,    220.5,2,   219.5,2,    2.85,2,    4.72,2,    0.00,2,    0.51,2,   2.819,2,   1.469,2,-999.000,9,  -999.0,9,  -999.0,9,-999.0000,9,-999.0000,9, -999.00,9, -999.00,9,  -999.0,9,  -999.0,-999.000,9,-999.000,-999.000,9,-999.0000,  14.7883,-999.0000,-999.000
  316N145_8,        I03,     483,          1,         29,         29,2,19950507,       1505,   -19.9995,    88.9162,       4973,   357.7,  13.3160,  35.3031,2,  35.2926,2,    226.2,2,   226.3,2,    3.27,2,    7.26,2,    0.00,2,    0.65,2,   2.961,2,   1.512,2,-999.000,9,  -999.0,9,  -999.0,9,-999.0000,9,-999.0000,9, -999.00,9, -999.00,9,  -999.0,9,  -999.0,-999.000,9,-999.000,-999.000,9,-999.0000,  13.2655,-999.0000,-999.000
  316N145_8,        I03,     483,          1,         28,         28,2,19950507,       1505,   -19.9995,    88.9162,       4973,   407.5,  12.2388,  35.1381,2,  35.1361,2,    228.5,2,   231.2,2,    3.69,2,    9.32,2,    0.00,2,    0.77,2,   2.985,2,   1.520,2,-999.000,9,  -999.0,9,  -999.0,9,-999.0000,9,-999.0000,9, -999.00,9, -999.00,9,  -999.0,9,  -999.0,-999.000,9,-999.000,-999.000,9,-999.0000,  12.1844,-999.0000,-999.000
  316N145_8,        I03,     483,          1,         27,         27,2,19950507,       1505,   -19.9995,    88.9162,       4973,   507.0,  10.7499,  34.9051,2,  34.9059,2,    235.6,2,   236.3,2,    4.32,2,   12.49,2,    0.00,2,    0.96,2,   2.928,2,   1.472,2,-999.000,9,  -999.0,9,  -999.0,9,-999.0000,9,-999.0000,9, -999.00,9, -999.00,9,  -999.0,9,  -999.0,-999.000,9,-999.000,-999.000,9,-999.0000,  10.6875,-999.0000,-999.000
  316N145_8,        I03,     483,          1,         26,         26,2,19950507,       1505,   -19.9995,    88.9162,       4973,   608.1,   9.5265,  34.7238,2,  34.7232,2,    236.4,2,   232.2,2,    5.81,2,   16.21,2,    0.00,2,    1.19,2,   2.584,2,   1.287,2,-999.000,9,  -999.0,9,  -999.0,9,-999.0000,9,-999.0000,9, -999.00,9, -999.00,9,  -999.0,9,  -999.0,-999.000,9,-999.000,-999.000,9,-999.0000,   9.4568,-999.0000,-999.000
  316N145_8,        I03,     483,          1,         25,         25,2,19950507,       1505,   -19.9995,    88.9162,       4973,   709.3,   7.9486,  34.5746,2,  34.5713,2,    201.7,2,   198.6,2,   16.49,2,   23.17,2,    0.00,2,    1.64,2,   1.167,2,   0.593,2,-999.000,9,  -999.0,9,  -999.0,9,-999.0000,9,-999.0000,9, -999.00,9, -999.00,9,  -999.0,9,  -999.0,-999.000,9,-999.000,-999.000,9,-999.0000,   7.8752,-999.0000,-999.000
  316N145_8,        I03,     483,          1,         24,         24,2,19950507,       1505,   -19.9995,    88.9162,       4973,   809.5,   6.2688,  34.5202,2,  34.5184,2,    158.2,2,   159.0,2,   40.20,2,   30.17,2,    0.00,2,    2.14,2,   0.249,2,   0.130,2,-999.000,9,  -999.0,9,  -999.0,9,-999.0000,9,-999.0000,9, -999.00,9, -999.00,9,  -999.0,9,  -999.0,-999.000,9,-999.000,-999.000,9,-999.0000,   6.1947,-999.0000,-999.000
  316N145_8,        I03,     483,          1,         23,         23,2,19950507,       1505,   -19.9995,    88.9162,       4973,   908.5,   5.1621,  34.5150,2,  34.5156,2,    147.0,2,   142.2,2,   58.36,2,   33.35,2,    0.00,2,    2.40,2,   0.092,2,   0.047,2,-999.000,9,  -999.0,9,  -999.0,9,-999.0000,9,-999.0000,9, -999.00,9, -999.00,9,  -999.0,9,  -999.0,-999.000,9,-999.000,-999.000,9,-999.0000,   5.0859,-999.0000,-999.000
  316N145_8,        I03,     483,          1,         22,         22,2,19950507,       1505,   -19.9995,    88.9162,       4973,  1011.5,   4.7999,  34.5699,2,  34.5690,2,    125.3,2,   123.7,2,   73.34,2,   35.00,2,    0.00,2,    2.49,2,   0.021,2,   0.013,2,-999.000,9,  -999.0,9,  -999.0,9,-999.0000,9,-999.0000,9, -999.00,9, -999.00,9,  -999.0,9,  -999.0,-999.000,9,-999.000,-999.000,9,-999.0000,   4.7170,-999.0000,-999.000
  316N145_8,        I03,     483,          1,         21,         21,2,19950507,       1505,   -19.9995,    88.9162,       4973,  1111.5,   4.4962,  34.6169,2,  34.6168,2,    112.9,2,   114.6,2,   84.49,2,   35.70,2,    0.00,2,    2.60,2,   0.011,2,   0.005,2,-999.000,9,  -999.0,9,  -999.0,9,-999.0000,9,-999.0000,9, -999.00,9, -999.00,9,  -999.0,9,  -999.0,-999.000,9,-999.000,-999.000,9,-999.0000,   4.4068,-999.0000,-999.000
  316N145_8,        I03,     483,          1,         20,         20,2,19950507,       1505,   -19.9995,    88.9162,       4973,  1212.3,   4.0780,  34.6257,2,  34.6267,2,    119.4,2,   119.8,2,   88.78,2,   35.75,2,    0.00,2,    2.58,2,   0.001,2,   0.006,2,-999.000,9,  -999.0,9,  -999.0,9,-999.0000,9,-999.0000,9, -999.00,9, -999.00,9,  -999.0,9,  -999.0,-999.000,9,-999.000,-999.000,9,-999.0000,   3.9834,-999.0000,-999.000
  316N145_8,        I03,     483,          1,         19,         19,2,19950507,       1505,   -19.9995,    88.9162,       4973,  1413.5,   3.4599,  34.6526,2,  34.6524,2,    132.1,2,   131.7,2,   93.49,2,   35.30,2,    0.00,2,    2.54,2,-999.000,9,-999.000,9,-999.000,9,  -999.0,9,  -999.0,9,-999.0000,9,-999.0000,9, -999.00,9, -999.00,9,  -999.0,9,  -999.0,-999.000,9,-999.000,-999.000,9,-999.0000,   3.3540,-999.0000,-999.000
  316N145_8,        I03,     483,          1,         18,         18,2,19950507,       1505,   -19.9995,    88.9162,       4973,  1613.2,   3.0622,  34.6798,2,  34.6800,2,    139.6,2,   140.3,2,   98.66,2,   34.84,2,    0.00,2,    2.50,2,   0.002,2,   0.004,2,-999.000,9,  -999.0,9,  -999.0,9,-999.0000,9,-999.0000,9, -999.00,9, -999.00,9,  -999.0,9,  -999.0,-999.000,9,-999.000,-999.000,9,-999.0000,   2.9438,-999.0000,-999.000
  316N145_8,        I03,     483,          1,         17,         17,2,19950507,       1505,   -19.9995,    88.9162,       4973,  1817.2,   2.6336,  34.7088,2,  34.6798,4,    148.4,2,   149.7,2,  105.81,2,   34.29,2,    0.00,2,    2.45,2,-999.000,9,-999.000,9,-999.000,9,  -999.0,9,  -999.0,9,-999.0000,9,-999.0000,9, -999.00,9, -999.00,9,  -999.0,9,  -999.0,-999.000,9,-999.000,-999.000,9,-999.0000,   2.5033,-999.0000,-999.000
  316N145_8,        I03,     483,          1,         16,         16,2,19950507,       1505,   -19.9995,    88.9162,       4973,  2017.9,   2.3394,  34.7200,2,  34.7197,2,    157.1,2,   158.4,2,  110.14,2,   33.94,2,    0.00,2,    2.42,2,  -0.002,2,   0.000,2,-999.000,9,  -999.0,9,  -999.0,9,-999.0000,9,-999.0000,9, -999.00,9, -999.00,9,  -999.0,9,  -999.0,-999.000,9,-999.000,-999.000,9,-999.0000,   2.1959,-999.0000,-999.000
  316N145_8,        I03,     483,          1,         15,         15,2,19950507,       1505,   -19.9995,    88.9162,       4973,  2221.4,   2.1127,  34.7251,2,  34.7246,2,    164.5,2,   163.5,2,  112.95,2,   33.44,2,    0.00,2,    2.38,2,-999.000,9,-999.000,9,-999.000,9,  -999.0,9,  -999.0,9,-999.0000,9,-999.0000,9, -999.00,9, -999.00,9,  -999.0,9,  -999.0,-999.000,9,-999.000,-999.000,9,-999.0000,   1.9551,-999.0000,-999.000
  316N145_8,        I03,     483,          1,         14,         14,2,19950507,       1505,   -19.9995,    88.9162,       4973,  2425.1,   1.9368,  34.7265,2,  34.7266,2,    170.7,2,   169.8,2,  114.67,2,   33.29,2,    0.00,2,    2.36,2,-999.000,9,-999.000,9,-999.000,9,  -999.0,9,  -999.0,9,-999.0000,9,-999.0000,9, -999.00,9, -999.00,9,  -999.0,9,  -999.0,-999.000,9,-999.000,-999.000,9,-999.0000,   1.7641,-999.0000,-999.000
  316N145_8,        I03,     483,          1,         13,         13,2,19950507,       1505,   -19.9995,    88.9162,       4973,  2617.2,   1.8130,  34.7270,2,  34.7274,2,    176.0,2,   175.2,2,  115.06,2,   32.95,2,    0.00,2,    2.33,2,-999.000,9,-999.000,9,-999.000,9,  -999.0,9,  -999.0,9,-999.0000,9,-999.0000,9, -999.00,9, -999.00,9,  -999.0,9,  -999.0,-999.000,9,-999.000,-999.000,9,-999.0000,   1.6253,-999.0000,-999.000
  316N145_8,        I03,     483,          1,         12,         12,2,19950507,       1505,   -19.9995,    88.9162,       4973,  2810.7,   1.6850,  34.7275,2,  34.7274,2,    178.8,2,   179.4,2,  116.56,2,   32.85,2,    0.00,2,    2.31,2,   0.001,2,   0.004,2,-999.000,9,  -999.0,9,  -999.0,9,-999.0000,9,-999.0000,9, -999.00,9, -999.00,9,  -999.0,9,  -999.0,-999.000,9,-999.000,-999.000,9,-999.0000,   1.4819,-999.0000,-999.000
  316N145_8,        I03,     483,          1,         11,         11,2,19950507,       1505,   -19.9995,    88.9162,       4973,  3009.8,   1.5604,  34.7251,2,  34.7256,2,    182.1,2,   180.8,2,  120.27,2,   32.94,2,    0.00,2,    2.32,2,  -0.002,2,   0.004,2,-999.000,9,  -999.0,9,  -999.0,9,-999.0000,9,-999.0000,9, -999.00,9, -999.00,9,  -999.0,9,  -999.0,-999.000,9,-999.000,-999.000,9,-999.0000,   1.3411,-999.0000,-999.000
  316N145_8,        I03,     483,          1,         10,         10,2,19950507,       1505,   -19.9995,    88.9162,       4973,  3212.5,   1.4747,  34.7234,2,  34.7234,2,    182.7,2,   182.4,2,  122.44,2,   32.99,2,    0.00,2,    2.32,2,   0.003,2,   0.003,2,-999.000,9,  -999.0,9,  -999.0,9,-999.0000,9,-999.0000,9, -999.00,9, -999.00,9,  -999.0,9,  -999.0,-999.000,9,-999.000,-999.000,9,-999.0000,   1.2377,-999.0000,-999.000
  316N145_8,        I03,     483,          1,          9,          9,2,19950507,       1505,   -19.9995,    88.9162,       4973,  3416.8,   1.3596,  34.7211,2,  34.7205,2,    188.5,2,   187.4,2,  122.62,2,   32.84,2,    0.00,2,    2.30,2,   0.001,2,   0.002,2,-999.000,9,  -999.0,9,  -999.0,9,-999.0000,9,-999.0000,9, -999.00,9, -999.00,9,  -999.0,9,  -999.0,-999.000,9,-999.000,-999.000,9,-999.0000,   1.1051,-999.0000,-999.000
  316N145_8,        I03,     483,          1,          8,          8,2,19950507,       1505,   -19.9995,    88.9162,       4973,  3621.7,   1.2263,  34.7179,2,  34.7180,2,    194.4,2,   194.4,2,  122.35,2,   32.59,2,    0.00,2,    2.27,2,   0.003,2,   0.002,2,-999.000,9,  -999.0,9,  -999.0,9,-999.0000,9,-999.0000,9, -999.00,9, -999.00,9,  -999.0,9,  -999.0,-999.000,9,-999.000,-999.000,9,-999.0000,   0.9546,-999.0000,-999.000
  316N145_8,        I03,     483,          1,          7,          7,2,19950507,       1505,   -19.9995,    88.9162,       4973,  3825.6,   1.1212,  34.7156,2,  34.7152,2,    198.7,2,   199.1,2,  122.97,2,   32.45,2,    0.00,2,    2.26,2,  -0.003,2,   0.001,2,-999.000,9,  -999.0,9,  -999.0,9,-999.0000,9,-999.0000,9, -999.00,9, -999.00,9,  -999.0,9,  -999.0,-999.000,9,-999.000,-999.000,9,-999.0000,   0.8312,-999.0000,-999.000
  316N145_8,        I03,     483,          1,          6,          6,2,19950507,       1505,   -19.9995,    88.9162,       4973,  4028.7,   1.1021,  34.7142,2,  34.7143,2,    200.2,2,   200.5,2,  123.37,2,   32.40,2,    0.00,2,    2.25,2,  -0.001,2,   0.005,2,-999.000,9,  -999.0,9,  -999.0,9,-999.0000,9,-999.0000,9, -999.00,9, -999.00,9,  -999.0,9,  -999.0,-999.000,9,-999.000,-999.000,9,-999.0000,   0.7912,-999.0000,-999.000
  316N145_8,        I03,     483,          1,          5,          5,2,19950507,       1505,   -19.9995,    88.9162,       4973,  4232.5,   1.1056,  34.7139,2,  34.7133,2,    200.8,2,   201.3,2,  123.32,2,   32.35,2,    0.00,2,    2.25,2,   0.002,2,   0.003,2,-999.000,9,  -999.0,9,  -999.0,9,-999.0000,9,-999.0000,9, -999.00,9, -999.00,9,  -999.0,9,  -999.0,-999.000,9,-999.000,-999.000,9,-999.0000,   0.7725,-999.0000,-999.000
  316N145_8,        I03,     483,          1,          4,          4,2,19950507,       1505,   -19.9995,    88.9162,       4973,  4436.5,   1.1217,  34.7136,2,  34.7137,2,    201.6,2,   201.6,2,  123.27,2,   32.30,2,    0.00,2,    2.25,2,  -0.003,2,   0.004,2,-999.000,9,  -999.0,9,  -999.0,9,-999.0000,9,-999.0000,9, -999.00,9, -999.00,9,  -999.0,9,  -999.0,-999.000,9,-999.000,-999.000,9,-999.0000,   0.7655,-999.0000,-999.000
  316N145_8,        I03,     483,          1,          3,          3,2,19950507,       1505,   -19.9995,    88.9162,       4973,  4642.4,   1.1389,  34.7134,2,  34.7131,2,    201.4,2,   201.7,2,  123.00,2,   32.34,2,    0.00,2,    2.25,2,   0.004,2,   0.001,2,-999.000,9,  -999.0,9,  -999.0,9,-999.0000,9,-999.0000,9, -999.00,9, -999.00,9,  -999.0,9,  -999.0,-999.000,9,-999.000,-999.000,9,-999.0000,   0.7587,-999.0000,-999.000
  316N145_8,        I03,     483,          1,          2,          2,2,19950507,       1505,   -19.9995,    88.9162,       4973,  4871.7,   1.1637,  34.7135,2,  34.7135,2,    202.4,2,   202.9,2,  123.40,2,   32.24,2,    0.00,2,    2.24,2,   0.000,2,   0.002,2,-999.000,9,  -999.0,9,  -999.0,9,-999.0000,9,-999.0000,9, -999.00,9, -999.00,9,  -999.0,9,  -999.0,-999.000,9,-999.000,-999.000,9,-999.0000,   0.7559,-999.0000,-999.000
  316N145_8,        I03,     483,          1,          1,          1,2,19950507,       1505,   -19.9995,    88.9162,       4973,  5073.2,   1.1879,  34.7136,2,  34.7137,2,    202.6,2,   202.5,2,  123.35,2,   32.24,2,    0.00,2,    2.24,2,   0.006,2,   0.001,2,-999.000,9,  -999.0,9,  -999.0,9,   0.0002,2,-999.0000,9, -999.00,9, -999.00,9,  -999.0,9,  -999.0,-999.000,9,-999.000,-999.000,9,-999.0000,   0.7552,   0.0022,-999.000