BOTTLE,20140514CCHSIOSE
EXPOCODE,SECT_ID,STNNBR,CASTNO,SAMPNO,BTLNBR,BTLNBR_FLAG_W,DATE,TIME,LATITUDE,LONGITUDE,DEPTH,CTDPRS,CTDTMP,CTDSAL,CTDSAL_FLAG_W,SALNTY,SALNTY_FLAG_W,CTDOXY,CTDOXY_FLAG_W,OXYGEN,OXYGEN_FLAG_W,SILCAT,SILCAT_FLAG_W,NITRAT,NITRAT_FLAG_W,NITRIT,NITRIT_FLAG_W,PHSPHT,PHSPHT_FLAG_W,CFC-11,CFC-11_FLAG_W,CFC-12,CFC-12_FLAG_W,CFC113,CFC113_FLAG_W,TCARBN,TCARBN_FLAG_W,ALKALI,ALKALI_FLAG_W,TRITUM,TRITUM_FLAG_W,HELIUM,HELIUM_FLAG_W,DELHE3,DELHE3_FLAG_W,DELC13,DELC13_FLAG_W,DELC14,DELC14_FLAG_W,C14ERR,NEON,NEON_FLAG_W,NEONER,CCL4,CCL4_FLAG_W,HELIER,THETA,TRITER,DELHER
,,,,,,,,,,,METERS,DBAR,ITS-90,PSS-78,,PSS-78,,UMOL/KG,,UMOL/KG,,UMOL/KG,,UMOL/KG,,UMOL/KG,,UMOL/KG,,PMOL/KG,,PMOL/KG,,PMOL/KG,,UMOL/KG,,UMOL/KG,,TU,,NMOL/KG,,PERCNT,,/MILLE,,/MILLE,,/MILLE,NMOL/KG,,NMOL/KG,PMOL/KG,,NMOL/KG,DEG C,TU,PERCNT
  316N145_8,        I03,     524,          1,         26,         26,2,19950520,       1901,   -20.0000,    65.4348,       2520,     4.8,  25.5661,  34.7219,2,  34.7215,2,    209.3,2,   209.8,2,    2.89,2,    0.05,2,    0.00,2,    0.12,2,   1.829,2,   1.045,2,-999.000,9,  1940.8,6,  2276.1,6,-999.0000,9,-999.0000,9, -999.00,9, -999.00,9,  -999.0,9,  -999.0,-999.000,9,-999.000,-999.000,9,-999.0000,  25.5650,-999.0000,-999.000
  316N145_8,        I03,     524,          1,         25,         25,2,19950520,       1901,   -20.0000,    65.4348,       2520,    54.8,  25.0276,  34.9608,2,  34.9642,2,    209.6,2,   208.5,2,    2.67,2,    0.05,2,    0.00,2,    0.12,2,   1.865,2,   1.078,2,-999.000,9,  -999.0,9,  -999.0,9,-999.0000,9,-999.0000,9, -999.00,9, -999.00,9,  -999.0,9,  -999.0,-999.000,9,-999.000,-999.000,9,-999.0000,  25.0157,-999.0000,-999.000
  316N145_8,        I03,     524,          1,         24,         24,2,19950520,       1901,   -20.0000,    65.4348,       2520,   105.6,  23.0856,  35.2532,2,  35.2552,2,    216.4,2,   211.1,2,    3.08,2,    0.09,2,    0.01,2,    0.16,2,   2.098,2,   1.176,2,-999.000,9,  -999.0,9,  -999.0,9,-999.0000,9,-999.0000,9, -999.00,9, -999.00,9,  -999.0,9,  -999.0,-999.000,9,-999.000,-999.000,9,-999.0000,  23.0639,-999.0000,-999.000
  316N145_8,        I03,     524,          1,         23,         23,2,19950520,       1901,   -20.0000,    65.4348,       2520,   154.9,  21.4499,  35.4799,2,  35.4847,2,    207.2,2,   199.5,2,    3.49,2,    1.04,2,    0.25,2,    0.24,2,   2.158,2,   1.203,2,-999.000,9,  -999.0,9,  -999.0,9,-999.0000,9,-999.0000,9, -999.00,9, -999.00,9,  -999.0,9,  -999.0,-999.000,9,-999.000,-999.000,9,-999.0000,  21.4197,-999.0000,-999.000
  316N145_8,        I03,     524,          1,         22,         22,2,19950520,       1901,   -20.0000,    65.4348,       2520,   205.5,  19.4047,  35.6353,2,  35.6279,2,    188.9,2,   186.9,2,    4.54,2,    3.42,2,    0.01,2,    0.36,2,-999.000,9,-999.000,9,-999.000,9,  -999.0,9,  -999.0,9,-999.0000,9,-999.0000,9, -999.00,9, -999.00,9,  -999.0,9,  -999.0,-999.000,9,-999.000,-999.000,9,-999.0000,  19.3673,-999.0000,-999.000
  316N145_8,        I03,     524,          1,         21,         21,2,19950520,       1901,   -20.0000,    65.4348,       2520,   255.6,  17.5240,  35.6710,2,  35.6687,2,    195.8,2,   192.0,2,    4.95,2,    4.09,2,    0.01,2,    0.43,2,   2.333,2,   1.249,2,-999.000,9,  -999.0,9,  -999.0,9,-999.0000,9,-999.0000,9, -999.00,9, -999.00,9,  -999.0,9,  -999.0,-999.000,9,-999.000,-999.000,9,-999.0000,  17.4807,-999.0000,-999.000
  316N145_8,        I03,     524,          1,         20,         20,2,19950520,       1901,   -20.0000,    65.4348,       2520,   306.5,  15.9293,  35.5959,2,  35.5940,2,    205.6,2,   206.5,2,    3.66,2,    4.13,2,    0.01,2,    0.45,2,   2.553,2,   1.338,2,-999.000,9,  -999.0,9,  -999.0,9,-999.0000,9,-999.0000,9, -999.00,9, -999.00,9,  -999.0,9,  -999.0,-999.000,9,-999.000,-999.000,9,-999.0000,  15.8806,-999.0000,-999.000
  316N145_8,        I03,     524,          1,         19,         19,2,19950520,       1901,   -20.0000,    65.4348,       2520,   357.0,  14.1905,  35.4035,2,  35.3878,2,    218.6,2,   216.7,2,    3.44,2,    6.27,2,    0.01,2,    0.57,2,   2.725,2,   1.414,2,-999.000,9,  -999.0,9,  -999.0,9,-999.0000,9,-999.0000,9, -999.00,9, -999.00,9,  -999.0,9,  -999.0,-999.000,9,-999.000,-999.000,9,-999.0000,  14.1380,-999.0000,-999.000
  316N145_8,        I03,     524,          1,         18,         18,2,19950520,       1901,   -20.0000,    65.4348,       2520,   405.9,  13.0186,  35.2418,2,  35.2231,2,    223.1,2,   225.8,2,    3.43,2,    8.13,2,    0.01,2,    0.67,2,   2.831,2,   1.458,2,-999.000,9,  -999.0,9,  -999.0,9,-999.0000,9,-999.0000,9, -999.00,9, -999.00,9,  -999.0,9,  -999.0,-999.000,9,-999.000,-999.000,9,-999.0000,  12.9621,-999.0000,-999.000
  316N145_8,        I03,     524,          1,         17,         17,2,19950520,       1901,   -20.0000,    65.4348,       2520,   456.8,  11.9782,  35.0874,2,  35.0890,2,    225.8,2,   230.5,2,    3.84,2,    9.84,2,    0.01,2,    0.77,2,   2.860,2,   1.455,2,-999.000,9,  -999.0,9,  -999.0,9,-999.0000,9,-999.0000,9, -999.00,9, -999.00,9,  -999.0,9,  -999.0,-999.000,9,-999.000,-999.000,9,-999.0000,  11.9180,-999.0000,-999.000
  316N145_8,        I03,     524,          1,         16,         16,2,19950520,       1901,   -20.0000,    65.4348,       2520,   507.0,  11.5342,  35.0190,2,  35.0206,2,    231.2,2,   231.9,2,    4.03,2,   10.79,2,    0.01,2,    0.82,2,   2.820,2,   1.426,2,-999.000,9,  -999.0,9,  -999.0,9,-999.0000,9,-999.0000,9, -999.00,9, -999.00,9,  -999.0,9,  -999.0,-999.000,9,-999.000,-999.000,9,-999.0000,  11.4689,-999.0000,-999.000
  316N145_8,        I03,     524,          1,         15,         15,2,19950520,       1901,   -20.0000,    65.4348,       2520,   607.8,  10.1240,  34.8082,2,  34.8075,2,    230.4,2,   231.3,2,    5.08,2,   14.26,2,    0.01,2,    1.03,2,-999.000,9,-999.000,9,-999.000,9,  -999.0,9,  -999.0,9,-999.0000,9,-999.0000,9, -999.00,9, -999.00,9,  -999.0,9,  -999.0,-999.000,9,-999.000,-999.000,9,-999.0000,  10.0516,-999.0000,-999.000
  316N145_8,        I03,     524,          1,         14,         14,2,19950520,       1901,   -20.0000,    65.4348,       2520,   709.2,   8.6922,  34.6334,2,  34.6334,2,    217.5,2,   216.6,2,    9.28,2,   19.44,2,    0.01,2,    1.34,2,   1.648,2,   0.829,2,-999.000,9,  -999.0,9,  -999.0,9,-999.0000,9,-999.0000,9, -999.00,9, -999.00,9,  -999.0,9,  -999.0,-999.000,9,-999.000,-999.000,9,-999.0000,   8.6148,-999.0000,-999.000
  316N145_8,        I03,     524,          1,         13,         13,2,19950520,       1901,   -20.0000,    65.4348,       2520,   807.2,   6.8018,  34.5091,2,  34.5091,2,    189.8,2,   186.2,2,   25.08,2,   26.56,2,    0.00,2,    1.83,2,   0.525,2,   0.278,2,-999.000,9,  -999.0,9,  -999.0,9,-999.0000,9,-999.0000,9, -999.00,9, -999.00,9,  -999.0,9,  -999.0,-999.000,9,-999.000,-999.000,9,-999.0000,   6.7246,-999.0000,-999.000
  316N145_8,        I03,     524,          1,         12,         12,2,19950520,       1901,   -20.0000,    65.4348,       2520,   908.9,   5.7142,  34.5373,2,  34.5377,2,    156.2,2,   147.9,2,   50.98,2,   31.89,2,    0.00,2,    2.25,2,   0.139,2,   0.074,2,-999.000,9,  -999.0,9,  -999.0,9,-999.0000,9,-999.0000,9, -999.00,9, -999.00,9,  -999.0,9,  -999.0,-999.000,9,-999.000,-999.000,9,-999.0000,   5.6341,-999.0000,-999.000
  316N145_8,        I03,     524,          1,         11,         11,2,19950520,       1901,   -20.0000,    65.4348,       2520,  1009.9,   5.2028,  34.5878,2,  34.5895,2,    130.4,2,   128.3,2,   67.60,2,   33.92,2,    0.00,2,    2.43,2,   0.046,2,   0.024,2,-999.000,9,  -999.0,9,  -999.0,9,-999.0000,9,-999.0000,9, -999.00,9, -999.00,9,  -999.0,9,  -999.0,-999.000,9,-999.000,-999.000,9,-999.0000,   5.1169,-999.0000,-999.000
  316N145_8,        I03,     524,          1,         10,         10,2,19950520,       1901,   -20.0000,    65.4348,       2520,  1110.6,   4.7617,  34.6291,2,  34.6305,2,    119.2,2,   120.0,2,   79.39,2,   34.88,2,    0.00,2,    2.51,2,   0.020,2,   0.013,2,-999.000,9,  -999.0,9,  -999.0,9,-999.0000,9,-999.0000,9, -999.00,9, -999.00,9,  -999.0,9,  -999.0,-999.000,9,-999.000,-999.000,9,-999.0000,   4.6701,-999.0000,-999.000
  316N145_8,        I03,     524,          1,          9,          9,2,19950520,       1901,   -20.0000,    65.4348,       2520,  1212.0,   4.3859,  34.6614,2,  34.6603,2,    119.1,2,   119.0,2,   87.18,2,   35.21,2,    0.00,2,    2.54,2,   0.015,2,   0.005,2,-999.000,9,  -999.0,9,  -999.0,9,-999.0000,9,-999.0000,9, -999.00,9, -999.00,9,  -999.0,9,  -999.0,-999.000,9,-999.000,-999.000,9,-999.0000,   4.2884,-999.0000,-999.000
  316N145_8,        I03,     524,          1,          8,          8,2,19950520,       1901,   -20.0000,    65.4348,       2520,  1312.1,   4.0286,  34.6538,2,  34.6534,2,    122.8,2,   125.1,2,   89.02,2,   35.15,2,    0.00,2,    2.52,2,   0.001,2,   0.005,2,-999.000,9,  -999.0,9,  -999.0,9,-999.0000,9,-999.0000,9, -999.00,9, -999.00,9,  -999.0,9,  -999.0,-999.000,9,-999.000,-999.000,9,-999.0000,   3.9257,-999.0000,-999.000
  316N145_8,        I03,     524,          1,          7,          7,2,19950520,       1901,   -20.0000,    65.4348,       2520,  1413.1,   3.6213,  34.6646,2,  34.6631,2,    133.4,2,   133.1,2,   91.71,2,   34.85,2,    0.00,2,    2.49,2,-999.000,9,-999.000,9,-999.000,9,  -999.0,9,  -999.0,9,-999.0000,9,-999.0000,9, -999.00,9, -999.00,9,  -999.0,9,  -999.0,-999.000,9,-999.000,-999.000,9,-999.0000,   3.5137,-999.0000,-999.000
  316N145_8,        I03,     524,          1,          6,          6,2,19950520,       1901,   -20.0000,    65.4348,       2520,  1564.4,   3.0779,  34.6752,2,  34.6746,2,    146.7,2,   147.3,2,   94.19,2,   34.16,2,    0.00,2,    2.42,2,   0.001,2,   0.001,2,-999.000,9,  -999.0,9,  -999.0,9,-999.0000,9,-999.0000,9, -999.00,9, -999.00,9,  -999.0,9,  -999.0,-999.000,9,-999.000,-999.000,9,-999.0000,   2.9635,-999.0000,-999.000
  316N145_8,        I03,     524,          1,          5,          5,2,19950520,       1901,   -20.0000,    65.4348,       2520,  1766.2,   2.5487,  34.7029,2,  34.7017,2,    157.5,2,   159.2,2,  100.94,2,   33.42,2,    0.00,2,    2.36,2,-999.000,9,-999.000,9,-999.000,9,  -999.0,9,  -999.0,9,-999.0000,9,-999.0000,9, -999.00,9, -999.00,9,  -999.0,9,  -999.0,-999.000,9,-999.000,-999.000,9,-999.0000,   2.4238,-999.0000,-999.000
  316N145_8,        I03,     524,          1,          4,          4,2,19950520,       1901,   -20.0000,    65.4348,       2520,  1967.2,   2.2737,  34.7164,2,  34.7155,2,    164.6,2,   164.5,2,  107.30,2,   33.31,2,    0.00,2,    2.34,2,   0.002,2,  -0.001,2,-999.000,9,  -999.0,9,  -999.0,9,-999.0000,9,-999.0000,9, -999.00,9, -999.00,9,  -999.0,9,  -999.0,-999.000,9,-999.000,-999.000,9,-999.0000,   2.1356,-999.0000,-999.000
  316N145_8,        I03,     524,          1,          3,          3,2,19950520,       1901,   -20.0000,    65.4348,       2520,  2171.1,   2.0585,  34.7216,2,  34.7211,2,    168.0,2,   168.2,2,  112.60,2,   33.26,2,    0.00,2,    2.34,2,-999.000,9,-999.000,9,-999.000,9,  -999.0,9,  -999.0,9,-999.0000,9,-999.0000,9, -999.00,9, -999.00,9,  -999.0,9,  -999.0,-999.000,9,-999.000,-999.000,9,-999.0000,   1.9062,-999.0000,-999.000
  316N145_8,        I03,     524,          1,          2,          2,2,19950520,       1901,   -20.0000,    65.4348,       2520,  2373.0,   1.8608,  34.7234,2,  34.7233,2,    172.8,2,   172.9,2,  116.63,2,   33.20,2,    0.00,2,    2.33,2,-999.000,9,-999.000,9,-999.000,9,  -999.0,9,  -999.0,9,-999.0000,9,-999.0000,9, -999.00,9, -999.00,9,  -999.0,9,  -999.0,-999.000,9,-999.000,-999.000,9,-999.0000,   1.6942,-999.0000,-999.000
  316N145_8,        I03,     524,          1,          1,          1,2,19950520,       1901,   -20.0000,    65.4348,       2520,  2540.6,   1.8500,  34.7231,2,  34.7231,2,    173.9,2,   173.8,2,  116.97,2,   33.19,2,    0.00,2,    2.32,2,  -0.004,2,   0.001,2,-999.000,9,  -999.0,9,  -999.0,9,-999.0000,9,-999.0000,9, -999.00,9, -999.00,9,  -999.0,9,  -999.0,-999.000,9,-999.000,-999.000,9,-999.0000,   1.6686,-999.0000,-999.000