BOTTLE,20140514CCHSIOSE
EXPOCODE,SECT_ID,STNNBR,CASTNO,SAMPNO,BTLNBR,BTLNBR_FLAG_W,DATE,TIME,LATITUDE,LONGITUDE,DEPTH,CTDPRS,CTDTMP,CTDSAL,CTDSAL_FLAG_W,SALNTY,SALNTY_FLAG_W,CTDOXY,CTDOXY_FLAG_W,OXYGEN,OXYGEN_FLAG_W,SILCAT,SILCAT_FLAG_W,NITRAT,NITRAT_FLAG_W,NITRIT,NITRIT_FLAG_W,PHSPHT,PHSPHT_FLAG_W,CFC-11,CFC-11_FLAG_W,CFC-12,CFC-12_FLAG_W,CFC113,CFC113_FLAG_W,TCARBN,TCARBN_FLAG_W,ALKALI,ALKALI_FLAG_W,TRITUM,TRITUM_FLAG_W,HELIUM,HELIUM_FLAG_W,DELHE3,DELHE3_FLAG_W,DELC13,DELC13_FLAG_W,DELC14,DELC14_FLAG_W,C14ERR,NEON,NEON_FLAG_W,NEONER,CCL4,CCL4_FLAG_W,HELIER,THETA,TRITER,DELHER
,,,,,,,,,,,METERS,DBAR,ITS-90,PSS-78,,PSS-78,,UMOL/KG,,UMOL/KG,,UMOL/KG,,UMOL/KG,,UMOL/KG,,UMOL/KG,,PMOL/KG,,PMOL/KG,,PMOL/KG,,UMOL/KG,,UMOL/KG,,TU,,NMOL/KG,,PERCNT,,/MILLE,,/MILLE,,/MILLE,NMOL/KG,,NMOL/KG,PMOL/KG,,NMOL/KG,DEG C,TU,PERCNT
  316N145_8,        I03,     538,          1,         27,         27,2,19950524,       0651,   -20.3672,    58.0060,       2516,     6.5,  25.2377,  35.1877,2,  35.1881,2,    207.8,2,   207.3,2,    2.97,2,    0.04,2,    0.00,2,    0.13,2,-999.000,9,-999.000,9,-999.000,9,  1959.6,6,  2302.2,6,-999.0000,9,-999.0000,9, -999.00,9, -999.00,9,  -999.0,9,  -999.0,-999.000,9,-999.000,-999.000,9,-999.0000,  25.2363,-999.0000,-999.000
  316N145_8,        I03,     538,          1,         26,         26,2,19950524,       0651,   -20.3672,    58.0060,       2516,    53.8,  25.1911,  35.1874,2,  35.1860,2,    209.9,2,  -999.0,5,    2.96,2,    0.04,2,    0.00,2,    0.13,2,-999.000,9,-999.000,9,-999.000,9,  -999.0,9,  -999.0,9,-999.0000,9,-999.0000,9, -999.00,9, -999.00,9,  -999.0,9,  -999.0,-999.000,9,-999.000,-999.000,9,-999.0000,  25.1794,-999.0000,-999.000
  316N145_8,        I03,     538,          1,         25,         25,2,19950524,       0651,   -20.3672,    58.0060,       2516,   103.7,  22.8942,  35.3129,2,  35.3142,2,    208.0,2,   205.9,2,    3.15,2,    0.32,2,    0.11,2,    0.19,2,-999.000,9,-999.000,9,-999.000,9,  -999.0,9,  -999.0,9,-999.0000,9,-999.0000,9, -999.00,9, -999.00,9,  -999.0,9,  -999.0,-999.000,9,-999.000,-999.000,9,-999.0000,  22.8731,-999.0000,-999.000
  316N145_8,        I03,     538,          1,         24,         24,2,19950524,       0651,   -20.3672,    58.0060,       2516,   154.0,  20.9839,  35.4758,2,  35.4827,2,    191.4,2,   188.6,2,    4.17,2,    2.58,2,    0.02,2,    0.33,2,-999.000,9,-999.000,9,-999.000,9,  -999.0,9,  -999.0,9,-999.0000,9,-999.0000,9, -999.00,9, -999.00,9,  -999.0,9,  -999.0,-999.000,9,-999.000,-999.000,9,-999.0000,  20.9544,-999.0000,-999.000
  316N145_8,        I03,     538,          1,         23,         23,2,19950524,       0651,   -20.3672,    58.0060,       2516,   204.2,  19.4906,  35.5701,2,  35.5631,2,    183.1,2,   180.7,2,    5.39,2,    4.33,2,    0.01,2,    0.44,2,-999.000,9,-999.000,9,-999.000,9,  -999.0,9,  -999.0,9,-999.0000,9,-999.0000,9, -999.00,9, -999.00,9,  -999.0,9,  -999.0,-999.000,9,-999.000,-999.000,9,-999.0000,  19.4534,-999.0000,-999.000
  316N145_8,        I03,     538,          1,         22,         22,2,19950524,       0651,   -20.3672,    58.0060,       2516,   254.2,  17.5608,  35.5984,2,  35.5978,2,    183.1,2,   186.2,2,    5.58,2,    5.15,2,    0.01,2,    0.51,2,-999.000,9,-999.000,9,-999.000,9,  -999.0,9,  -999.0,9,-999.0000,9,-999.0000,9, -999.00,9, -999.00,9,  -999.0,9,  -999.0,-999.000,9,-999.000,-999.000,9,-999.0000,  17.5176,-999.0000,-999.000
  316N145_8,        I03,     538,          1,         21,         21,2,19950524,       0651,   -20.3672,    58.0060,       2516,   304.0,  16.5534,  35.5975,2,  35.5932,2,    193.4,2,   194.9,2,    5.36,2,    5.15,2,    0.00,2,    0.51,2,-999.000,9,-999.000,9,-999.000,9,  -999.0,9,  -999.0,9,-999.0000,9,-999.0000,9, -999.00,9, -999.00,9,  -999.0,9,  -999.0,-999.000,9,-999.000,-999.000,9,-999.0000,  16.5038,-999.0000,-999.000
  316N145_8,        I03,     538,          1,         20,         20,2,19950524,       0651,   -20.3672,    58.0060,       2516,   354.3,  14.6783,  35.4360,2,  35.4353,2,    204.5,2,   208.6,2,    4.52,2,    6.37,2,    0.00,2,    0.59,2,-999.000,9,-999.000,9,-999.000,9,  -999.0,9,  -999.0,9,-999.0000,9,-999.0000,9, -999.00,9, -999.00,9,  -999.0,9,  -999.0,-999.000,9,-999.000,-999.000,9,-999.0000,  14.6250,-999.0000,-999.000
  316N145_8,        I03,     538,          1,         19,         19,2,19950524,       0651,   -20.3672,    58.0060,       2516,   405.1,  13.7287,  35.3260,2,  35.3170,2,    214.3,2,   218.3,2,    4.10,2,    7.38,2,    0.00,2,    0.64,2,-999.000,9,-999.000,9,-999.000,9,  -999.0,9,  -999.0,9,-999.0000,9,-999.0000,9, -999.00,9, -999.00,9,  -999.0,9,  -999.0,-999.000,9,-999.000,-999.000,9,-999.0000,  13.6704,-999.0000,-999.000
  316N145_8,        I03,     538,          1,         18,         18,2,19950524,       0651,   -20.3672,    58.0060,       2516,   455.1,  12.7802,  35.1988,2,  35.2041,2,    223.3,2,   224.4,2,    3.87,2,    8.69,2,    0.00,2,    0.71,2,-999.000,9,-999.000,9,-999.000,9,  -999.0,9,  -999.0,9,-999.0000,9,-999.0000,9, -999.00,9, -999.00,9,  -999.0,9,  -999.0,-999.000,9,-999.000,-999.000,9,-999.0000,  12.7176,-999.0000,-999.000
  316N145_8,        I03,     538,          1,         17,         17,2,19950524,       0651,   -20.3672,    58.0060,       2516,   505.8,  11.7476,  35.0482,2,  35.0501,2,    227.2,2,   228.3,2,    4.27,2,   10.72,2,    0.00,2,    0.83,2,-999.000,9,-999.000,9,-999.000,9,  -999.0,9,  -999.0,9,-999.0000,9,-999.0000,9, -999.00,9, -999.00,9,  -999.0,9,  -999.0,-999.000,9,-999.000,-999.000,9,-999.0000,  11.6816,-999.0000,-999.000
  316N145_8,        I03,     538,          1,         16,         16,2,19950524,       0651,   -20.3672,    58.0060,       2516,   605.7,  10.2311,  34.8242,2,  34.8307,2,    228.7,2,   226.6,2,    5.71,2,   14.31,2,    0.00,2,    1.03,2,-999.000,9,-999.000,9,-999.000,9,  -999.0,9,  -999.0,9,-999.0000,9,-999.0000,9, -999.00,9, -999.00,9,  -999.0,9,  -999.0,-999.000,9,-999.000,-999.000,9,-999.0000,  10.1585,-999.0000,-999.000
  316N145_8,        I03,     538,          1,         15,         15,2,19950524,       0651,   -20.3672,    58.0060,       2516,   706.0,   8.9885,  34.6762,2,  34.6792,2,    218.7,2,   216.8,2,    9.41,2,   18.54,2,    0.00,2,    1.31,2,-999.000,9,-999.000,9,-999.000,9,  -999.0,9,  -999.0,9,-999.0000,9,-999.0000,9, -999.00,9, -999.00,9,  -999.0,9,  -999.0,-999.000,9,-999.000,-999.000,9,-999.0000,   8.9099,-999.0000,-999.000
  316N145_8,        I03,     538,          1,         14,         14,2,19950524,       0651,   -20.3672,    58.0060,       2516,   806.2,   6.7321,  34.5235,2,  34.5266,2,    188.6,2,   185.2,2,   27.19,2,   26.48,2,    0.00,2,    1.82,2,-999.000,9,-999.000,9,-999.000,9,  -999.0,9,  -999.0,9,-999.0000,9,-999.0000,9, -999.00,9, -999.00,9,  -999.0,9,  -999.0,-999.000,9,-999.000,-999.000,9,-999.0000,   6.6555,-999.0000,-999.000
  316N145_8,        I03,     538,          1,         13,         13,2,19950524,       0651,   -20.3672,    58.0060,       2516,   907.4,   5.2291,  34.5342,2,  34.5348,2,    153.9,2,   149.3,2,   55.74,2,   32.28,2,    0.00,2,    2.27,2,-999.000,9,-999.000,9,-999.000,9,  -999.0,9,  -999.0,9,-999.0000,9,-999.0000,9, -999.00,9, -999.00,9,  -999.0,9,  -999.0,-999.000,9,-999.000,-999.000,9,-999.0000,   5.1525,-999.0000,-999.000
  316N145_8,        I03,     538,          1,         12,         12,2,19950524,       0651,   -20.3672,    58.0060,       2516,  1005.8,   4.8421,  34.5997,2,  34.5999,2,    135.7,2,   132.9,2,   70.26,2,   33.71,2,    0.00,2,    2.39,2,-999.000,9,-999.000,9,-999.000,9,  -999.0,9,  -999.0,9,-999.0000,9,-999.0000,9, -999.00,9, -999.00,9,  -999.0,9,  -999.0,-999.000,9,-999.000,-999.000,9,-999.0000,   4.7593,-999.0000,-999.000
  316N145_8,        I03,     538,          1,         11,         11,2,19950524,       0651,   -20.3672,    58.0060,       2516,  1106.2,   4.4463,  34.6141,2,  34.6142,2,    131.7,2,   132.6,2,   76.29,2,   34.11,2,    0.00,2,    2.44,2,-999.000,9,-999.000,9,-999.000,9,  -999.0,9,  -999.0,9,-999.0000,9,-999.0000,9, -999.00,9, -999.00,9,  -999.0,9,  -999.0,-999.000,9,-999.000,-999.000,9,-999.0000,   4.3577,-999.0000,-999.000
  316N145_8,        I03,     538,          1,         10,         10,2,19950524,       0651,   -20.3672,    58.0060,       2516,  1207.2,   4.1258,  34.6274,2,  34.6279,2,    135.5,2,   134.5,2,   80.67,2,   34.27,2,    0.00,2,    2.44,2,-999.000,9,-999.000,9,-999.000,9,  -999.0,9,  -999.0,9,-999.0000,9,-999.0000,9, -999.00,9, -999.00,9,  -999.0,9,  -999.0,-999.000,9,-999.000,-999.000,9,-999.0000,   4.0312,-999.0000,-999.000
  316N145_8,        I03,     538,          1,          9,          9,2,19950524,       0651,   -20.3672,    58.0060,       2516,  1310.6,   3.6210,  34.6407,2,  34.6395,2,    140.1,2,   141.3,2,   84.64,2,   34.13,2,    0.00,2,    2.41,2,-999.000,9,-999.000,9,-999.000,9,  -999.0,9,  -999.0,9,-999.0000,9,-999.0000,9, -999.00,9, -999.00,9,  -999.0,9,  -999.0,-999.000,9,-999.000,-999.000,9,-999.0000,   3.5223,-999.0000,-999.000
  316N145_8,        I03,     538,          1,          8,          8,2,19950524,       0651,   -20.3672,    58.0060,       2516,  1412.5,   3.4064,  34.6691,2,  34.6676,2,    142.1,2,   142.5,2,   90.50,2,   34.08,2,    0.00,2,    2.41,2,-999.000,9,-999.000,9,-999.000,9,  -999.0,9,  -999.0,9,-999.0000,9,-999.0000,9, -999.00,9, -999.00,9,  -999.0,9,  -999.0,-999.000,9,-999.000,-999.000,9,-999.0000,   3.3012,-999.0000,-999.000
  316N145_8,        I03,     538,          1,          7,          7,2,19950524,       0651,   -20.3672,    58.0060,       2516,  1513.5,   3.1350,  34.6699,2,  34.6697,2,    149.0,2,   149.3,2,   91.34,2,   33.74,2,    0.00,2,    2.38,2,-999.000,9,-999.000,9,-999.000,9,  -999.0,9,  -999.0,9,-999.0000,9,-999.0000,9, -999.00,9, -999.00,9,  -999.0,9,  -999.0,-999.000,9,-999.000,-999.000,9,-999.0000,   3.0243,-999.0000,-999.000
  316N145_8,        I03,     538,          1,          6,          6,2,19950524,       0651,   -20.3672,    58.0060,       2516,  1614.6,   2.8512,  34.6839,2,  34.6833,2,    153.5,2,   155.1,2,   94.91,2,   33.55,2,    0.00,2,    2.35,2,-999.000,9,-999.000,9,-999.000,9,  -999.0,9,  -999.0,9,-999.0000,9,-999.0000,9, -999.00,9, -999.00,9,  -999.0,9,  -999.0,-999.000,9,-999.000,-999.000,9,-999.0000,   2.7353,-999.0000,-999.000
  316N145_8,        I03,     538,          1,          5,          5,2,19950524,       0651,   -20.3672,    58.0060,       2516,  1815.2,   2.4807,  34.7082,2,  34.7074,2,    160.1,2,   161.0,2,  103.15,2,   33.26,2,    0.00,2,    2.33,2,-999.000,9,-999.000,9,-999.000,9,  -999.0,9,  -999.0,9,-999.0000,9,-999.0000,9, -999.00,9, -999.00,9,  -999.0,9,  -999.0,-999.000,9,-999.000,-999.000,9,-999.0000,   2.3526,-999.0000,-999.000
  316N145_8,        I03,     538,          1,          4,          4,2,19950524,       0651,   -20.3672,    58.0060,       2516,  2017.1,   2.2614,  34.7191,2,  34.7186,2,    163.4,2,   163.8,2,  108.68,2,   33.26,2,    0.00,2,    2.33,2,-999.000,9,-999.000,9,-999.000,9,  -999.0,9,  -999.0,9,-999.0000,9,-999.0000,9, -999.00,9, -999.00,9,  -999.0,9,  -999.0,-999.000,9,-999.000,-999.000,9,-999.0000,   2.1192,-999.0000,-999.000
  316N145_8,        I03,     538,          1,          3,          3,2,19950524,       0651,   -20.3672,    58.0060,       2516,  2220.1,   2.1393,  34.7247,2,  34.7237,2,    165.0,2,   165.2,2,  112.31,2,   33.27,2,    0.00,2,    2.33,2,-999.000,9,-999.000,9,-999.000,9,  -999.0,9,  -999.0,9,-999.0000,9,-999.0000,9, -999.00,9, -999.00,9,  -999.0,9,  -999.0,-999.000,9,-999.000,-999.000,9,-999.0000,   1.9814,-999.0000,-999.000
  316N145_8,        I03,     538,          1,          2,          2,2,19950524,       0651,   -20.3672,    58.0060,       2516,  2423.8,   1.9811,  34.7288,2,  34.7290,2,    166.8,2,   166.3,2,  117.03,2,   33.32,2,    0.00,2,    2.34,2,-999.000,9,-999.000,9,-999.000,9,  -999.0,9,  -999.0,9,-999.0000,9,-999.0000,9, -999.00,9, -999.00,9,  -999.0,9,  -999.0,-999.000,9,-999.000,-999.000,9,-999.0000,   1.8077,-999.0000,-999.000
  316N145_8,        I03,     538,          1,          1,          1,2,19950524,       0651,   -20.3672,    58.0060,       2516,  2601.7,   1.8882,  34.7305,2,  34.7298,2,    167.3,2,   167.5,2,  120.05,2,   33.48,2,    0.00,2,    2.34,2,-999.000,9,-999.000,9,-999.000,9,  -999.0,9,  -999.0,9,-999.0000,9,-999.0000,9, -999.00,9, -999.00,9,  -999.0,9,  -999.0,-999.000,9,-999.000,-999.000,9,-999.0000,   1.7004,-999.0000,-999.000