BOTTLE,20140514CCHSIOSE
EXPOCODE,SECT_ID,STNNBR,CASTNO,SAMPNO,BTLNBR,BTLNBR_FLAG_W,DATE,TIME,LATITUDE,LONGITUDE,DEPTH,CTDPRS,CTDTMP,CTDSAL,CTDSAL_FLAG_W,SALNTY,SALNTY_FLAG_W,CTDOXY,CTDOXY_FLAG_W,OXYGEN,OXYGEN_FLAG_W,SILCAT,SILCAT_FLAG_W,NITRAT,NITRAT_FLAG_W,NITRIT,NITRIT_FLAG_W,PHSPHT,PHSPHT_FLAG_W,CFC-11,CFC-11_FLAG_W,CFC-12,CFC-12_FLAG_W,CFC113,CFC113_FLAG_W,TCARBN,TCARBN_FLAG_W,ALKALI,ALKALI_FLAG_W,TRITUM,TRITUM_FLAG_W,HELIUM,HELIUM_FLAG_W,DELHE3,DELHE3_FLAG_W,DELC13,DELC13_FLAG_W,DELC14,DELC14_FLAG_W,C14ERR,NEON,NEON_FLAG_W,NEONER,CCL4,CCL4_FLAG_W,HELIER,THETA,TRITER,DELHER
,,,,,,,,,,,METERS,DBAR,ITS-90,PSS-78,,PSS-78,,UMOL/KG,,UMOL/KG,,UMOL/KG,,UMOL/KG,,UMOL/KG,,UMOL/KG,,PMOL/KG,,PMOL/KG,,PMOL/KG,,UMOL/KG,,UMOL/KG,,TU,,NMOL/KG,,PERCNT,,/MILLE,,/MILLE,,/MILLE,NMOL/KG,,NMOL/KG,PMOL/KG,,NMOL/KG,DEG C,TU,PERCNT
  316N145_8,        I03,     478,          1,         36,         36,2,19950505,       2217,   -20.0088,    91.3233,       4767,     7.1,  25.1070,  35.3767,2,  35.3756,2,    200.1,3,   209.2,2,    3.35,2,    0.04,2,    0.00,2,    0.10,2,   1.909,2,   1.077,2,-999.000,9,  1971.7,2,  2314.0,6,-999.0000,9,-999.0000,9, -999.00,9, -999.00,9,  -999.0,9,  -999.0,-999.000,9,-999.000,-999.000,9,-999.0000,  25.1054,-999.0000,-999.000
  316N145_8,        I03,     478,          1,         35,         35,2,19950505,       2217,   -20.0088,    91.3233,       4767,    57.4,  24.8442,  35.4219,2,  35.4219,2,    211.0,2,   209.5,2,    3.33,2,    0.04,2,    0.00,2,    0.10,2,-999.000,9,-999.000,9,-999.000,9,  1976.3,2,  2315.0,2,-999.0000,9,-999.0000,9, -999.00,9, -999.00,9,  -999.0,9,  -999.0,-999.000,9,-999.000,-999.000,9,-999.0000,  24.8318,-999.0000,-999.000
  316N145_8,        I03,     478,          1,         34,         34,2,19950505,       2217,   -20.0088,    91.3233,       4767,   107.2,  21.1745,  35.5868,2,  35.6049,2,    219.8,2,   211.0,2,    3.97,2,    0.46,2,    0.07,2,    0.18,2,   2.214,2,   1.221,2,-999.000,9,  2019.7,2,  2333.0,2,-999.0000,9,-999.0000,9, -999.00,9, -999.00,9,  -999.0,9,  -999.0,-999.000,9,-999.000,-999.000,9,-999.0000,  21.1538,-999.0000,-999.000
  316N145_8,        I03,     478,          1,         33,         33,2,19950505,       2217,   -20.0088,    91.3233,       4767,   156.4,  19.7725,  35.7665,2,  35.7708,2,    209.6,2,   201.0,2,    4.17,2,    1.49,2,    0.03,2,    0.25,2,-999.000,9,-999.000,9,-999.000,9,  2050.3,2,  2346.0,2,-999.0000,9,-999.0000,9, -999.00,9, -999.00,9,  -999.0,9,  -999.0,-999.000,9,-999.000,-999.000,9,-999.0000,  19.7437,-999.0000,-999.000
  316N145_8,        I03,     478,          1,         32,         32,2,19950505,       2217,   -20.0088,    91.3233,       4767,   206.7,  18.2793,  35.8151,2,  35.8152,2,    203.0,2,   203.2,2,    3.72,2,    2.00,2,    0.01,2,    0.31,2,   2.433,2,   1.306,2,-999.000,9,  2070.6,2,  2348.0,2,-999.0000,9,-999.0000,9, -999.00,9, -999.00,9,  -999.0,9,  -999.0,-999.000,9,-999.000,-999.000,9,-999.0000,  18.2432,-999.0000,-999.000
  316N145_8,        I03,     478,          1,         31,         31,2,19950505,       2217,   -20.0088,    91.3233,       4767,   258.4,  16.0605,  35.6724,2,  35.6691,2,    211.4,2,   210.1,2,    3.49,2,    3.38,2,    0.01,2,    0.41,2,-999.000,9,-999.000,9,-999.000,9,  2085.6,2,  2344.0,2,-999.0000,9,-999.0000,9, -999.00,9, -999.00,9,  -999.0,9,  -999.0,-999.000,9,-999.000,-999.000,9,-999.0000,  16.0192,-999.0000,-999.000
  316N145_8,        I03,     478,          1,         30,         30,2,19950505,       2217,   -20.0088,    91.3233,       4767,   308.4,  14.4781,  35.4812,2,  35.4908,2,    216.5,2,   217.1,2,    3.48,2,    5.11,2,    0.01,2,    0.51,2,   2.793,2,   1.453,2,-999.000,9,  2091.9,2,  2333.0,2,-999.0000,9,-999.0000,9, -999.00,9, -999.00,9,  -999.0,9,  -999.0,-999.000,9,-999.000,-999.000,9,-999.0000,  14.4322,-999.0000,-999.000
  316N145_8,        I03,     478,          1,         29,         29,2,19950505,       2217,   -20.0088,    91.3233,       4767,   357.6,  12.8894,  35.2520,2,  35.2460,2,    225.8,2,   226.6,2,    3.47,2,    7.67,2,    0.01,2,    0.66,2,-999.000,9,-999.000,9,-999.000,9,  2097.0,2,  2322.0,2,-999.0000,9,-999.0000,9, -999.00,9, -999.00,9,  -999.0,9,  -999.0,-999.000,9,-999.000,-999.000,9,-999.0000,  12.8401,-999.0000,-999.000
  316N145_8,        I03,     478,          1,         28,         28,2,19950505,       2217,   -20.0088,    91.3233,       4767,   407.3,  11.8028,  35.0806,2,  35.0735,2,    231.7,2,   232.2,2,    3.88,2,    9.80,2,    0.01,2,    0.79,2,   3.048,2,   1.547,2,-999.000,9,  2101.0,2,  2313.0,2,-999.0000,9,-999.0000,9, -999.00,9, -999.00,9,  -999.0,9,  -999.0,-999.000,9,-999.000,-999.000,9,-999.0000,  11.7497,-999.0000,-999.000
  316N145_8,        I03,     478,          1,         27,         27,2,19950505,       2217,   -20.0088,    91.3233,       4767,   457.6,  10.8334,  34.9247,2,  34.9118,2,    233.3,2,   235.0,2,    4.52,2,   12.17,2,    0.01,2,    0.93,2,-999.000,9,-999.000,9,-999.000,9,  2105.9,2,  2303.0,2,-999.0000,9,-999.0000,9, -999.00,9, -999.00,9,  -999.0,9,  -999.0,-999.000,9,-999.000,-999.000,9,-999.0000,  10.7769,-999.0000,-999.000
  316N145_8,        I03,     478,          1,         26,         26,2,19950505,       2217,   -20.0088,    91.3233,       4767,   508.8,  10.0587,  34.8030,2,  34.8003,2,    235.1,2,   234.8,2,    5.15,2,   14.19,2,    0.01,2,    1.05,2,   2.803,2,   1.405,2,-999.000,9,  2110.2,2,  2301.0,2,-999.0000,9,-999.0000,9, -999.00,9, -999.00,9,  -999.0,9,  -999.0,-999.000,9,-999.000,-999.000,9,-999.0000,   9.9986,-999.0000,-999.000
  316N145_8,        I03,     478,          1,         25,         25,2,19950505,       2217,   -20.0088,    91.3233,       4767,   609.4,   9.1511,  34.6762,2,  34.6744,2,    225.6,2,   227.3,2,    7.07,2,   17.45,2,    0.01,2,    1.25,2,   2.430,2,   1.206,2,-999.000,9,  2121.5,2,  2294.0,2,-999.0000,9,-999.0000,9, -999.00,9, -999.00,9,  -999.0,9,  -999.0,-999.000,9,-999.000,-999.000,9,-999.0000,   9.0829,-999.0000,-999.000
  316N145_8,        I03,     478,          1,         24,         24,2,19950505,       2217,   -20.0088,    91.3233,       4767,   709.0,   7.3501,  34.5294,2,  34.5297,2,    195.8,2,   193.4,2,   19.75,2,   24.74,2,    0.01,2,    1.72,2,   0.916,2,   0.467,2,-999.000,9,  2159.4,2,  2298.0,2,-999.0000,9,-999.0000,9, -999.00,9, -999.00,9,  -999.0,9,  -999.0,-999.000,9,-999.000,-999.000,9,-999.0000,   7.2799,-999.0000,-999.000
  316N145_8,        I03,     478,          1,         23,         23,2,19950505,       2217,   -20.0088,    91.3233,       4767,   810.0,   5.7009,  34.4962,2,  34.4877,2,    154.9,2,   161.1,2,   43.82,2,   30.92,2,    0.01,2,    2.18,2,   0.222,2,   0.116,2,-999.000,9,  2208.2,2,  2316.0,2,-999.0000,9,-999.0000,9, -999.00,9, -999.00,9,  -999.0,9,  -999.0,-999.000,9,-999.000,-999.000,9,-999.0000,   5.6302,-999.0000,-999.000
  316N145_8,        I03,     478,          1,         22,         22,2,19950505,       2217,   -20.0088,    91.3233,       4767,   910.6,   5.2017,  34.5694,2,  34.5697,2,    120.1,2,   121.3,2,   69.86,2,   34.58,2,    0.01,2,    2.48,2,   0.026,2,   0.018,2,-999.000,9,  2254.0,2,  2345.0,2,-999.0000,9,-999.0000,9, -999.00,9, -999.00,9,  -999.0,9,  -999.0,-999.000,9,-999.000,-999.000,9,-999.0000,   5.1249,-999.0000,-999.000
  316N145_8,        I03,     478,          1,         21,         21,2,19950505,       2217,   -20.0088,    91.3233,       4767,  1010.9,   4.7356,  34.6059,2,  34.6060,2,    115.1,2,   114.8,2,   80.86,2,   35.44,2,    0.00,2,    2.55,2,   0.004,2,   0.003,2,-999.000,9,  2270.4,2,  2357.0,2,-999.0000,9,-999.0000,9, -999.00,9, -999.00,9,  -999.0,9,  -999.0,-999.000,9,-999.000,-999.000,9,-999.0000,   4.6531,-999.0000,-999.000
  316N145_8,        I03,     478,          1,         20,         20,2,19950505,       2217,   -20.0088,    91.3233,       4767,  1111.6,   4.4099,  34.6267,2,  34.6230,2,    115.0,2,   115.5,2,   86.46,2,   35.64,2,    0.00,2,    2.58,2,-999.000,9,-999.000,9,-999.000,9,  2276.3,2,  2359.0,2,-999.0000,9,-999.0000,9, -999.00,9, -999.00,9,  -999.0,9,  -999.0,-999.000,9,-999.000,-999.000,9,-999.0000,   4.3211,-999.0000,-999.000
  316N145_8,        I03,     478,          1,         19,         19,2,19950505,       2217,   -20.0088,    91.3233,       4767,  1213.1,   4.1387,  34.6356,2,  34.6362,2,    116.9,2,   118.0,2,   89.90,2,   35.69,2,    0.00,2,    2.57,2,-999.000,9,-999.000,9,-999.000,9,  2279.2,2,  2362.0,2,-999.0000,9,-999.0000,9, -999.00,9, -999.00,9,  -999.0,9,  -999.0,-999.000,9,-999.000,-999.000,9,-999.0000,   4.0434,-999.0000,-999.000
  316N145_8,        I03,     478,          1,         18,         18,2,19950505,       2217,   -20.0088,    91.3233,       4767,  1413.1,   3.4917,  34.6658,2,  34.6656,2,    128.6,2,   128.9,2,   96.83,2,   35.34,2,    0.00,2,    2.53,2,-999.000,9,-999.000,9,-999.000,9,  2283.4,2,  2373.0,2,-999.0000,9,-999.0000,9, -999.00,9, -999.00,9,  -999.0,9,  -999.0,-999.000,9,-999.000,-999.000,9,-999.0000,   3.3855,-999.0000,-999.000
  316N145_8,        I03,     478,          1,         17,         17,2,19950505,       2217,   -20.0088,    91.3233,       4767,  1615.2,   3.0987,  34.7032,2,  34.7019,2,    134.6,2,   135.2,2,  104.45,2,   34.98,2,    0.00,2,    2.51,2,-999.000,9,-999.000,9,-999.000,9,  2288.6,2,  2382.0,2,-999.0000,9,-999.0000,9, -999.00,9, -999.00,9,  -999.0,9,  -999.0,-999.000,9,-999.000,-999.000,9,-999.0000,   2.9796,-999.0000,-999.000
  316N145_8,        I03,     478,          1,         16,         16,2,19950505,       2217,   -20.0088,    91.3233,       4767,  1818.1,   2.6809,  34.7147,2,  34.7133,2,    146.5,2,   145.6,2,  109.03,2,   34.48,2,    0.00,2,    2.46,2,-999.000,9,-999.000,9,-999.000,9,  2289.0,2,  2382.0,2,-999.0000,9,-999.0000,9, -999.00,9, -999.00,9,  -999.0,9,  -999.0,-999.000,9,-999.000,-999.000,9,-999.0000,   2.5498,-999.0000,-999.000
  316N145_8,        I03,     478,          1,         15,         15,2,19950505,       2217,   -20.0088,    91.3233,       4767,  2021.0,   2.3963,  34.7228,2,  34.7211,2,    153.4,2,   152.3,2,  113.18,2,   34.22,2,    0.00,2,    2.43,2,  -0.001,2,   0.000,2,-999.000,9,  2290.1,2,  2390.0,2,-999.0000,9,-999.0000,9, -999.00,9, -999.00,9,  -999.0,9,  -999.0,-999.000,9,-999.000,-999.000,9,-999.0000,   2.2517,-999.0000,-999.000
  316N145_8,        I03,     478,          1,         14,         14,2,19950505,       2217,   -20.0088,    91.3233,       4767,  2223.2,   2.1498,  34.7265,2,  34.7249,2,    161.2,2,   159.4,2,  116.23,2,   33.77,2,    0.00,2,    2.40,2,-999.000,9,-999.000,9,-999.000,9,  2289.4,2,  2389.0,2,-999.0000,9,-999.0000,9, -999.00,9, -999.00,9,  -999.0,9,  -999.0,-999.000,9,-999.000,-999.000,9,-999.0000,   1.9914,-999.0000,-999.000
  316N145_8,        I03,     478,          1,         13,         13,2,19950505,       2217,   -20.0088,    91.3233,       4767,  2426.6,   1.9532,  34.7279,2,  34.7266,2,    165.1,2,   164.9,2,  118.63,2,   33.62,2,    0.00,2,    2.38,2,-999.000,9,-999.000,9,-999.000,9,  2288.3,2,  2395.0,2,-999.0000,9,-999.0000,9, -999.00,9, -999.00,9,  -999.0,9,  -999.0,-999.000,9,-999.000,-999.000,9,-999.0000,   1.7801,-999.0000,-999.000
  316N145_8,        I03,     478,          1,         12,         12,2,19950505,       2217,   -20.0088,    91.3233,       4767,  2627.5,   1.8113,  34.7273,2,  34.7268,2,    169.5,2,   169.4,2,  120.81,2,   33.47,2,    0.00,2,    2.36,2,-999.000,9,-999.000,9,-999.000,9,  2289.1,2,  2393.0,2,-999.0000,9,-999.0000,9, -999.00,9, -999.00,9,  -999.0,9,  -999.0,-999.000,9,-999.000,-999.000,9,-999.0000,   1.6227,-999.0000,-999.000
  316N145_8,        I03,     478,          1,         11,         11,2,19950505,       2217,   -20.0088,    91.3233,       4767,  2831.8,   1.6980,  34.7263,2,  34.7257,2,    171.8,2,   171.6,2,  123.44,2,   33.52,2,    0.00,2,    2.36,2,-999.000,9,-999.000,9,-999.000,9,  2290.4,2,  2399.0,2,-999.0000,9,-999.0000,9, -999.00,9, -999.00,9,  -999.0,9,  -999.0,-999.000,9,-999.000,-999.000,9,-999.0000,   1.4926,-999.0000,-999.000
  316N145_8,        I03,     478,          1,         10,         10,2,19950505,       2217,   -20.0088,    91.3233,       4767,  3036.0,   1.6252,  34.7255,2,  34.7243,2,    173.2,2,   173.6,2,  125.19,2,   33.37,2,    0.00,2,    2.35,2,-999.000,9,-999.000,9,-999.000,9,  2291.6,6,  2398.0,6,-999.0000,9,-999.0000,9, -999.00,9, -999.00,9,  -999.0,9,  -999.0,-999.000,9,-999.000,-999.000,9,-999.0000,   1.4020,-999.0000,-999.000
  316N145_8,        I03,     478,          1,          9,          9,2,19950505,       2217,   -20.0088,    91.3233,       4767,  3238.3,   1.5270,  34.7242,2,  34.7235,2,    177.7,2,   177.8,2,  125.59,2,   33.27,2,    0.00,2,    2.33,2,-999.000,9,-999.000,9,-999.000,9,  2289.1,2,  2396.0,2,-999.0000,9,-999.0000,9, -999.00,9, -999.00,9,  -999.0,9,  -999.0,-999.000,9,-999.000,-999.000,9,-999.0000,   1.2862,-999.0000,-999.000
  316N145_8,        I03,     478,          1,          8,          8,2,19950505,       2217,   -20.0088,    91.3233,       4767,  3442.4,   1.4224,  34.7224,2,  34.7206,2,    182.2,2,   183.3,2,  125.54,2,   33.02,2,    0.00,2,    2.31,2,-999.000,9,-999.000,9,-999.000,9,  2281.6,2,  2398.0,2,-999.0000,9,-999.0000,9, -999.00,9, -999.00,9,  -999.0,9,  -999.0,-999.000,9,-999.000,-999.000,9,-999.0000,   1.1639,-999.0000,-999.000
  316N145_8,        I03,     478,          1,          7,          7,2,19950505,       2217,   -20.0088,    91.3233,       4767,  3647.1,   1.3255,  34.7200,2,  34.7188,2,    186.4,2,   187.6,2,  125.49,2,   32.82,2,    0.00,2,    2.29,2,-999.000,9,-999.000,9,-999.000,9,  2282.8,2,  2392.0,2,-999.0000,9,-999.0000,9, -999.00,9, -999.00,9,  -999.0,9,  -999.0,-999.000,9,-999.000,-999.000,9,-999.0000,   1.0485,-999.0000,-999.000
  316N145_8,        I03,     478,          1,          6,          6,2,19950505,       2217,   -20.0088,    91.3233,       4767,  3851.1,   1.2001,  34.7171,2,  34.7162,2,    193.1,2,   194.3,2,  124.55,2,   32.56,2,    0.00,2,    2.27,2,   0.001,2,   0.004,2,-999.000,9,  2275.8,2,  2391.0,2,-999.0000,9,-999.0000,9, -999.00,9, -999.00,9,  -999.0,9,  -999.0,-999.000,9,-999.000,-999.000,9,-999.0000,   0.9053,-999.0000,-999.000
  316N145_8,        I03,     478,          1,          5,          5,2,19950505,       2217,   -20.0088,    91.3233,       4767,  4055.9,   1.1126,  34.7151,2,  34.7133,2,    197.7,3,   199.0,2,  124.28,2,   32.41,2,    0.00,2,    2.25,2,   0.000,2,   0.002,2,-999.000,9,  2273.1,2,  2385.0,2,-999.0000,9,-999.0000,9, -999.00,9, -999.00,9,  -999.0,9,  -999.0,-999.000,9,-999.000,-999.000,9,-999.0000,   0.7985,-999.0000,-999.000
  316N145_8,        I03,     478,          1,          4,          4,2,19950505,       2217,   -20.0088,    91.3233,       4767,  4260.9,   1.0969,  34.7142,2,  34.7123,2,    200.2,3,   200.5,2,  124.23,2,   32.36,2,    0.00,2,    2.24,2,   0.001,2,   0.001,2,-999.000,9,  2272.0,2,  2385.0,2,-999.0000,9,-999.0000,9, -999.00,9, -999.00,9,  -999.0,9,  -999.0,-999.000,9,-999.000,-999.000,9,-999.0000,   0.7610,-999.0000,-999.000
  316N145_8,        I03,     478,          1,          3,          3,2,19950505,       2217,   -20.0088,    91.3233,       4767,  4464.9,   1.0891,  34.7135,2,  34.7115,2,    200.7,3,   201.8,2,  124.40,2,   32.31,2,    0.00,2,    2.24,2,   0.002,2,   0.001,2,-999.000,9,  2271.4,2,  2383.0,2,-999.0000,9,-999.0000,9, -999.00,9, -999.00,9,  -999.0,9,  -999.0,-999.000,9,-999.000,-999.000,9,-999.0000,   0.7307,-999.0000,-999.000
  316N145_8,        I03,     478,          1,          2,          2,2,19950505,       2217,   -20.0088,    91.3233,       4767,  4760.9,   1.1079,  34.7125,2,  34.7106,2,    201.9,3,   202.0,2,  124.13,2,   32.31,2,    0.00,2,    2.24,2,  -0.001,2,   0.003,2,-999.000,9,  2270.8,2,  2387.0,2,-999.0000,9,-999.0000,9, -999.00,9, -999.00,9,  -999.0,9,  -999.0,-999.000,9,-999.000,-999.000,9,-999.0000,   0.7150,-999.0000,-999.000
  316N145_8,        I03,     478,          1,          1,          1,2,19950505,       2217,   -20.0088,    91.3233,       4767,  4867.5,   1.1154,  34.7124,2,  34.7109,2,    202.5,3,   201.9,2,  124.08,2,   32.26,2,    0.00,2,    2.24,2,   0.002,2,   0.002,2,-999.000,9,  2270.4,2,  2383.0,2,-999.0000,9,-999.0000,9, -999.00,9, -999.00,9,  -999.0,9,  -999.0,-999.000,9,-999.000,-999.000,9,-999.0000,   0.7098,-999.0000,-999.000