BOTTLE,20140514CCHSIOSE
EXPOCODE,SECT_ID,STNNBR,CASTNO,SAMPNO,BTLNBR,BTLNBR_FLAG_W,DATE,TIME,LATITUDE,LONGITUDE,DEPTH,CTDPRS,CTDTMP,CTDSAL,CTDSAL_FLAG_W,SALNTY,SALNTY_FLAG_W,CTDOXY,CTDOXY_FLAG_W,OXYGEN,OXYGEN_FLAG_W,SILCAT,SILCAT_FLAG_W,NITRAT,NITRAT_FLAG_W,NITRIT,NITRIT_FLAG_W,PHSPHT,PHSPHT_FLAG_W,CFC-11,CFC-11_FLAG_W,CFC-12,CFC-12_FLAG_W,CFC113,CFC113_FLAG_W,TCARBN,TCARBN_FLAG_W,ALKALI,ALKALI_FLAG_W,TRITUM,TRITUM_FLAG_W,HELIUM,HELIUM_FLAG_W,DELHE3,DELHE3_FLAG_W,DELC13,DELC13_FLAG_W,DELC14,DELC14_FLAG_W,C14ERR,NEON,NEON_FLAG_W,NEONER,CCL4,CCL4_FLAG_W,HELIER,THETA,TRITER,DELHER
,,,,,,,,,,,METERS,DBAR,ITS-90,PSS-78,,PSS-78,,UMOL/KG,,UMOL/KG,,UMOL/KG,,UMOL/KG,,UMOL/KG,,UMOL/KG,,PMOL/KG,,PMOL/KG,,PMOL/KG,,UMOL/KG,,UMOL/KG,,TU,,NMOL/KG,,PERCNT,,/MILLE,,/MILLE,,/MILLE,NMOL/KG,,NMOL/KG,PMOL/KG,,NMOL/KG,DEG C,TU,PERCNT
  316N145_8,        I03,     471,          1,         36,         36,2,19950503,       1625,   -19.9997,    96.0678,       5090,     6.7,  24.9098,  35.5213,2,  35.5211,2,    207.3,3,   208.1,2,    3.39,2,    0.09,2,    0.00,2,    0.09,2,   1.907,3,   1.090,3,-999.000,9,  1981.3,6,  2326.1,6,-999.0000,9,-999.0000,9, -999.00,9, -999.00,9,  -999.0,9,  -999.0,-999.000,9,-999.000,-999.000,9,-999.0000,  24.9083,-999.0000,-999.000
  316N145_8,        I03,     471,          1,         35,         35,2,19950503,       1625,   -19.9997,    96.0678,       5090,    57.0,  24.5696,  35.5742,2,  35.5826,2,    208.8,2,   209.8,2,    3.37,2,    0.09,2,    0.00,2,    0.08,2,-999.000,9,-999.000,9,-999.000,9,  -999.0,9,  -999.0,9,-999.0000,9,-999.0000,9, -999.00,9, -999.00,9,  -999.0,9,  -999.0,-999.000,9,-999.000,-999.000,9,-999.0000,  24.5574,-999.0000,-999.000
  316N145_8,        I03,     471,          1,         34,         34,2,19950503,       1625,   -19.9997,    96.0678,       5090,   107.4,  21.2314,  35.6757,2,  35.6811,2,    208.8,2,   213.4,2,    3.79,2,    0.09,2,    0.00,2,    0.14,2,   2.236,2,   1.231,2,-999.000,9,  -999.0,9,  -999.0,9,-999.0000,9,-999.0000,9, -999.00,9, -999.00,9,  -999.0,9,  -999.0,-999.000,9,-999.000,-999.000,9,-999.0000,  21.2106,-999.0000,-999.000
  316N145_8,        I03,     471,          1,         33,         33,2,19950503,       1625,   -19.9997,    96.0678,       5090,   156.7,  19.3979,  35.8117,2,  35.8134,2,    200.8,2,   199.6,2,    4.22,2,    1.78,2,    0.03,2,    0.28,2,-999.000,9,-999.000,9,-999.000,9,  -999.0,9,  -999.0,9,-999.0000,9,-999.0000,9, -999.00,9, -999.00,9,  -999.0,9,  -999.0,-999.000,9,-999.000,-999.000,9,-999.0000,  19.3694,-999.0000,-999.000
  316N145_8,        I03,     471,          1,         32,         32,2,19950503,       1625,   -19.9997,    96.0678,       5090,   206.4,  17.6248,  35.8057,2,  35.8035,2,    202.0,2,   205.8,2,    3.55,2,    2.29,2,    0.01,2,    0.33,2,   2.509,2,   1.350,2,-999.000,9,  -999.0,9,  -999.0,9,-999.0000,9,-999.0000,9, -999.00,9, -999.00,9,  -999.0,9,  -999.0,-999.000,9,-999.000,-999.000,9,-999.0000,  17.5896,-999.0000,-999.000
  316N145_8,        I03,     471,          1,         31,         31,2,19950503,       1625,   -19.9997,    96.0678,       5090,   257.0,  15.6788,  35.6200,2,  35.6171,2,    204.0,2,   205.1,2,    5.06,2,    4.96,2,    0.00,2,    0.49,2,-999.000,9,-999.000,9,-999.000,9,  -999.0,9,  -999.0,9,-999.0000,9,-999.0000,9, -999.00,9, -999.00,9,  -999.0,9,  -999.0,-999.000,9,-999.000,-999.000,9,-999.0000,  15.6384,-999.0000,-999.000
  316N145_8,        I03,     471,          1,         30,         30,2,19950503,       1625,   -19.9997,    96.0678,       5090,   305.8,  13.9014,  35.3902,2,  35.3813,2,    215.0,2,   215.8,2,    4.39,2,    6.88,2,    0.00,2,    0.61,2,   2.764,2,   1.433,2,-999.000,9,  -999.0,9,  -999.0,9,-999.0000,9,-999.0000,9, -999.00,9, -999.00,9,  -999.0,9,  -999.0,-999.000,9,-999.000,-999.000,9,-999.0000,  13.8571,-999.0000,-999.000
  316N145_8,        I03,     471,          1,         29,         29,2,19950503,       1625,   -19.9997,    96.0678,       5090,   356.5,  12.3984,  35.1686,2,  35.1681,2,    221.0,2,   221.9,2,    5.03,2,    9.29,2,    0.00,2,    0.75,2,-999.000,9,-999.000,9,-999.000,9,  -999.0,9,  -999.0,9,-999.0000,9,-999.0000,9, -999.00,9, -999.00,9,  -999.0,9,  -999.0,-999.000,9,-999.000,-999.000,9,-999.0000,  12.3505,-999.0000,-999.000
  316N145_8,        I03,     471,          1,         28,         28,2,19950503,       1625,   -19.9997,    96.0678,       5090,   405.3,  11.4025,  35.0176,2,  35.0165,2,    225.4,2,   228.4,2,    4.80,2,   11.02,2,    0.00,2,    0.86,2,   2.945,2,   1.489,2,-999.000,9,  -999.0,9,  -999.0,9,-999.0000,9,-999.0000,9, -999.00,9, -999.00,9,  -999.0,9,  -999.0,-999.000,9,-999.000,-999.000,9,-999.0000,  11.3509,-999.0000,-999.000
  316N145_8,        I03,     471,          1,         27,         27,2,19950503,       1625,   -19.9997,    96.0678,       5090,   505.8,   9.6629,  34.7512,2,  34.7494,2,    228.7,2,   228.6,2,    6.53,2,   15.81,2,    0.00,2,    1.15,2,-999.000,9,-999.000,9,-999.000,9,  -999.0,9,  -999.0,9,-999.0000,9,-999.0000,9, -999.00,9, -999.00,9,  -999.0,9,  -999.0,-999.000,9,-999.000,-999.000,9,-999.0000,   9.6047,-999.0000,-999.000
  316N145_8,        I03,     471,          1,         26,         26,2,19950503,       1625,   -19.9997,    96.0678,       5090,   605.9,   8.2067,  34.5873,2,  34.5852,2,    206.7,2,   206.8,2,   13.48,2,   21.69,2,    0.00,2,    1.51,2,   1.491,2,   0.757,2,-999.000,9,  -999.0,9,  -999.0,9,-999.0000,9,-999.0000,9, -999.00,9, -999.00,9,  -999.0,9,  -999.0,-999.000,9,-999.000,-999.000,9,-999.0000,   8.1432,-999.0000,-999.000
  316N145_8,        I03,     471,          1,         25,         25,2,19950503,       1625,   -19.9997,    96.0678,       5090,   703.8,   6.5946,  34.5460,2,  34.5454,2,    152.6,2,   151.3,2,   40.45,2,   29.73,2,    0.00,2,    2.10,2,-999.000,9,-999.000,9,-999.000,9,  -999.0,9,  -999.0,9,-999.0000,9,-999.0000,9, -999.00,9, -999.00,9,  -999.0,9,  -999.0,-999.000,9,-999.000,-999.000,9,-999.0000,   6.5289,-999.0000,-999.000
  316N145_8,        I03,     471,          1,         24,         24,2,19950503,       1625,   -19.9997,    96.0678,       5090,   802.9,   6.1853,  34.6436,2,  34.6436,2,    104.0,2,    98.3,4,   69.63,2,   34.54,2,    0.00,2,    2.49,2,   0.029,2,   0.014,2,-999.000,9,  -999.0,9,  -999.0,9,-999.0000,9,-999.0000,9, -999.00,9, -999.00,9,  -999.0,9,  -999.0,-999.000,9,-999.000,-999.000,9,-999.0000,   6.1122,-999.0000,-999.000
  316N145_8,        I03,     471,          1,         23,         23,2,19950503,       1625,   -19.9997,    96.0678,       5090,   899.8,   5.5806,  34.6408,2,  34.6403,2,     98.7,2,    98.5,2,   78.13,2,   35.35,2,    0.00,2,    2.56,2,   0.005,2,   0.004,2,-999.000,9,  -999.0,9,  -999.0,9,-999.0000,9,-999.0000,9, -999.00,9, -999.00,9,  -999.0,9,  -999.0,-999.000,9,-999.000,-999.000,9,-999.0000,   5.5022,-999.0000,-999.000
  316N145_8,        I03,     471,          1,         22,         22,2,19950503,       1625,   -19.9997,    96.0678,       5090,   998.7,   5.2069,  34.6530,2,  34.6527,2,     97.5,2,    97.1,2,   85.54,2,   35.80,2,    0.00,2,    2.60,2,  -0.001,2,   0.004,2,-999.000,9,  -999.0,9,  -999.0,9,-999.0000,9,   1.8650,2,   11.74,2, -999.00,9,  -999.0,9,  -999.0,   7.895,2,   0.016,-999.000,9,   0.0030,   5.1219,-999.0000,    0.16
  316N145_8,        I03,     471,          1,         21,         21,2,19950503,       1625,   -19.9997,    96.0678,       5090,  1103.4,   4.8622,  34.6573,2,  34.6568,2,     98.6,2,    99.4,2,   90.55,2,   35.91,2,    0.00,2,    2.62,2,-999.000,9,-999.000,9,-999.000,9,  -999.0,9,  -999.0,9,-999.0000,9,   1.8900,2,   12.39,2, -999.00,9,  -999.0,9,  -999.0,   7.948,2,   0.013,-999.000,9,   0.0020,   4.7703,-999.0000,    0.18
  316N145_8,        I03,     471,          1,         20,         20,2,19950503,       1625,   -19.9997,    96.0678,       5090,  1205.5,   4.5415,  34.6607,2,  34.6609,2,    103.6,2,   103.6,2,   93.59,2,   35.96,2,    0.00,2,    2.61,2,-999.000,9,-999.000,9,-999.000,9,  -999.0,9,  -999.0,9,-999.0000,9,   1.8910,2,   12.69,2, -999.00,9,  -999.0,9,  -999.0,   7.954,2,   0.017,-999.000,9,   0.0030,   4.4432,-999.0000,    0.16
  316N145_8,        I03,     471,          1,         19,         19,2,19950503,       1625,   -19.9997,    96.0678,       5090,  1407.2,   3.9536,  34.6729,2,  34.6733,2,    111.9,2,   112.8,2,   99.28,2,   35.81,2,    0.00,2,    2.60,2,-999.000,9,-999.000,9,-999.000,9,  -999.0,9,  -999.0,9,-999.0000,9,-999.0000,9, -999.00,9, -999.00,9,  -999.0,9,  -999.0,-999.000,9,-999.000,-999.000,9,-999.0000,   3.8429,-999.0000,-999.000
  316N145_8,        I03,     471,          1,         18,         18,2,19950503,       1625,   -19.9997,    96.0678,       5090,  1608.4,   3.1911,  34.6752,2,  34.6756,2,    134.4,2,   134.1,2,  100.78,2,   35.01,2,    0.00,2,    2.51,2,-999.000,9,-999.000,9,-999.000,9,  -999.0,9,  -999.0,9,-999.0000,9,   1.9340,3,   12.33,2, -999.00,9,  -999.0,9,  -999.0,   8.208,3,   0.017,-999.000,9,   0.0030,   3.0715,-999.0000,    0.16
  316N145_8,        I03,     471,          1,         17,         17,2,19950503,       1625,   -19.9997,    96.0678,       5090,  1814.8,   2.7542,  34.7074,2,  34.7068,2,    141.1,2,   142.7,2,  107.83,2,   34.56,2,    0.00,2,    2.48,2,-999.000,9,-999.000,9,-999.000,9,  -999.0,9,  -999.0,9,-999.0000,9,   1.9170,2,   13.15,2, -999.00,9,  -999.0,9,  -999.0,   8.116,2,   0.013,-999.000,9,   0.0020,   2.6224,-999.0000,    0.18
  316N145_8,        I03,     471,          1,         16,         16,2,19950503,       1625,   -19.9997,    96.0678,       5090,  2020.3,   2.4361,  34.7191,2,  34.7192,2,    149.6,2,   150.0,2,  113.13,2,   34.26,2,    0.00,2,    2.44,2,-999.000,9,-999.000,9,-999.000,9,  -999.0,9,  -999.0,9,-999.0000,9,   1.9000,2,   14.10,2, -999.00,9,  -999.0,9,  -999.0,   8.093,2,   0.017,-999.000,9,   0.0030,   2.2910,-999.0000,    0.16
  316N145_8,        I03,     471,          1,         15,         15,2,19950503,       1625,   -19.9997,    96.0678,       5090,  2218.8,   2.2001,  34.7241,2,  34.7229,2,    156.0,2,   156.5,2,  115.76,2,   33.91,2,    0.00,2,    2.40,2,-999.000,9,-999.000,9,-999.000,9,  -999.0,9,  -999.0,9,-999.0000,9,   1.9140,2,   14.19,2, -999.00,9,  -999.0,9,  -999.0,   8.146,2,   0.013,-999.000,9,   0.0020,   2.0413,-999.0000,    0.18
  316N145_8,        I03,     471,          1,         14,         14,2,19950503,       1625,   -19.9997,    96.0678,       5090,  2422.8,   2.0117,  34.7263,2,  34.7259,2,    160.7,2,   162.0,2,  118.63,2,   33.71,2,    0.00,2,    2.39,2,-999.000,9,-999.000,9,-999.000,9,  -999.0,9,  -999.0,9,-999.0000,9,   1.9060,2,   14.50,2, -999.00,9,  -999.0,9,  -999.0,   8.127,2,   0.017,-999.000,9,   0.0030,   1.8379,-999.0000,    0.16
  316N145_8,        I03,     471,          1,         13,         13,2,19950503,       1625,   -19.9997,    96.0678,       5090,  2629.0,   1.8711,  34.7264,2,  34.7264,2,    165.8,2,   167.0,2,  120.15,2,   33.51,2,    0.00,2,    2.37,2,-999.000,9,-999.000,9,-999.000,9,  -999.0,9,  -999.0,9,-999.0000,9,   1.8890,2,   13.97,2, -999.00,9,  -999.0,9,  -999.0,   8.055,2,   0.013,-999.000,9,   0.0030,   1.6811,-999.0000,    0.18
  316N145_8,        I03,     471,          1,         12,         12,2,19950503,       1625,   -19.9997,    96.0678,       5090,  2830.1,   1.7370,  34.7256,2,  34.7257,2,    170.5,2,   171.7,2,  121.89,2,   33.36,2,    0.00,2,    2.35,2,  -0.007,2,   0.002,2,-999.000,9,  -999.0,9,  -999.0,9,-999.0000,9,   1.9190,2,   13.64,2, -999.00,9,  -999.0,9,  -999.0,   8.226,2,   0.017,-999.000,9,   0.0030,   1.5309,-999.0000,    0.16
  316N145_8,        I03,     471,          1,         11,         11,2,19950503,       1625,   -19.9997,    96.0678,       5090,  3034.2,   1.6396,  34.7248,2,  34.7243,2,    174.5,2,   173.7,2,  123.65,2,   33.26,2,    0.00,2,    2.34,2,-999.000,9,-999.000,9,-999.000,9,  -999.0,9,  -999.0,9,-999.0000,9,   1.9080,2,   13.30,2, -999.00,9,  -999.0,9,  -999.0,   8.201,2,   0.013,-999.000,9,   0.0020,   1.4162,-999.0000,    0.18
  316N145_8,        I03,     471,          1,         10,         10,2,19950503,       1625,   -19.9997,    96.0678,       5090,  3236.2,   1.5339,  34.7228,2,  34.7223,2,    177.0,2,   175.8,2,  126.31,2,   33.32,2,    0.00,2,    2.34,2,-999.000,9,-999.000,9,-999.000,9,  -999.0,9,  -999.0,9,-999.0000,9,   1.8950,2,   12.48,2, -999.00,9,  -999.0,9,  -999.0,   8.156,2,   0.017,-999.000,9,   0.0030,   1.2932,-999.0000,    0.16
  316N145_8,        I03,     471,          1,          9,          9,2,19950503,       1625,   -19.9997,    96.0678,       5090,  3442.7,   1.4530,  34.7206,2,  34.7196,2,    178.9,2,   178.7,2,  127.61,2,   33.32,2,    0.00,2,    2.34,2,-999.000,9,-999.000,9,-999.000,9,  -999.0,9,  -999.0,9,-999.0000,9,-999.0000,9, -999.00,9, -999.00,9,  -999.0,9,  -999.0,-999.000,9,-999.000,-999.000,9,-999.0000,   1.1937,-999.0000,-999.000
  316N145_8,        I03,     471,          1,          8,          8,2,19950503,       1625,   -19.9997,    96.0678,       5090,  3646.5,   1.3860,  34.7193,2,  34.7180,2,    182.1,2,   181.3,2,  128.01,2,   33.07,2,    0.00,2,    2.33,2,   0.003,2,   0.003,2,-999.000,9,  -999.0,9,  -999.0,9,-999.0000,9,   1.8950,2,   12.56,2, -999.00,9,  -999.0,9,  -999.0,   8.142,2,   0.013,-999.000,9,   0.0020,   1.1075,-999.0000,    0.18
  316N145_8,        I03,     471,          1,          7,          7,2,19950503,       1625,   -19.9997,    96.0678,       5090,  3850.5,   1.3076,  34.7172,2,  34.7168,2,    185.9,2,   186.3,2,  127.73,2,   32.97,2,    0.00,2,    2.30,2,-999.000,9,-999.000,9,-999.000,9,  -999.0,9,  -999.0,9,-999.0000,9,   1.9200,2,   12.10,2, -999.00,9,  -999.0,9,  -999.0,   8.267,2,   0.017,-999.000,9,   0.0030,   1.0099,-999.0000,    0.16
  316N145_8,        I03,     471,          1,          6,          6,2,19950503,       1625,   -19.9997,    96.0678,       5090,  4054.7,   1.2446,  34.7163,2,  34.7159,2,    191.3,2,   192.1,2,  125.41,2,   32.62,2,    0.00,2,    2.28,2,   0.002,2,   0.001,2,-999.000,9,  -999.0,9,  -999.0,9,-999.0000,9,   1.9360,2,   11.41,2, -999.00,9,  -999.0,9,  -999.0,   8.256,2,   0.017,-999.000,9,   0.0030,   0.9268,-999.0000,    0.16
  316N145_8,        I03,     471,          1,          5,          5,2,19950503,       1625,   -19.9997,    96.0678,       5090,  4260.3,   1.1835,  34.7156,2,  34.7145,2,    196.7,2,   197.0,2,  123.78,2,   32.32,2,    0.00,2,    2.26,2,-999.000,9,-999.000,9,-999.000,9,  -999.0,9,  -999.0,9,-999.0000,9,   1.9010,2,   10.91,2, -999.00,9,  -999.0,9,  -999.0,   8.175,2,   0.013,-999.000,9,   0.0020,   0.8450,-999.0000,    0.18
  316N145_8,        I03,     471,          1,          4,          4,2,19950503,       1625,   -19.9997,    96.0678,       5090,  4463.9,   1.1177,  34.7133,2,  34.7129,2,    201.1,2,   201.0,2,  123.05,2,   32.12,2,    0.00,2,    2.24,2,-999.000,9,-999.000,9,-999.000,9,  -999.0,9,  -999.0,9,-999.0000,9,   1.9440,3,   10.36,2, -999.00,9,  -999.0,9,  -999.0,   8.372,3,   0.013,-999.000,9,   0.0030,   0.7585,-999.0000,    0.18
  316N145_8,        I03,     471,          1,          3,          3,2,19950503,       1625,   -19.9997,    96.0678,       5090,  4670.0,   1.0819,  34.7115,2,  34.7104,2,    203.7,2,   203.3,2,  123.22,2,   32.08,2,    0.00,2,    2.24,2,-999.000,9,-999.000,9,-999.000,9,  -999.0,9,  -999.0,9,-999.0000,9,   1.8990,2,   10.48,2, -999.00,9,  -999.0,9,  -999.0,   8.178,2,   0.014,-999.000,9,   0.0020,   0.7004,-999.0000,    0.18
  316N145_8,        I03,     471,          1,          2,          2,2,19950503,       1625,   -19.9997,    96.0678,       5090,  4873.3,   1.0809,  34.7104,2,  34.7096,2,    204.2,2,   204.2,2,  123.39,2,   32.03,2,    0.00,2,    2.24,2,  -0.006,2,   0.004,2,-999.000,9,  -999.0,9,  -999.0,9,-999.0000,9,   1.8890,2,   10.18,2, -999.00,9,  -999.0,9,  -999.0,   8.188,2,   0.018,-999.000,9,   0.0030,   0.6757,-999.0000,    0.16
  316N145_8,        I03,     471,          1,          1,          1,2,19950503,       1625,   -19.9997,    96.0678,       5090,  5197.6,   1.1003,  34.7102,2,  34.7090,2,    204.3,2,   204.6,2,  123.34,2,   32.08,2,    0.00,2,    2.24,2,   0.001,2,   0.004,2,-999.000,9,  -999.0,9,  -999.0,9,-999.0000,9,   1.8890,2,   10.19,2, -999.00,9,  -999.0,9,  -999.0,   8.149,2,   0.013,-999.000,9,   0.0020,   0.6556,-999.0000,    0.18