BOTTLE,20140514CCHSIOSE
EXPOCODE,SECT_ID,STNNBR,CASTNO,SAMPNO,BTLNBR,BTLNBR_FLAG_W,DATE,TIME,LATITUDE,LONGITUDE,DEPTH,CTDPRS,CTDTMP,CTDSAL,CTDSAL_FLAG_W,SALNTY,SALNTY_FLAG_W,CTDOXY,CTDOXY_FLAG_W,OXYGEN,OXYGEN_FLAG_W,SILCAT,SILCAT_FLAG_W,NITRAT,NITRAT_FLAG_W,NITRIT,NITRIT_FLAG_W,PHSPHT,PHSPHT_FLAG_W,CFC-11,CFC-11_FLAG_W,CFC-12,CFC-12_FLAG_W,CFC113,CFC113_FLAG_W,TCARBN,TCARBN_FLAG_W,ALKALI,ALKALI_FLAG_W,TRITUM,TRITUM_FLAG_W,HELIUM,HELIUM_FLAG_W,DELHE3,DELHE3_FLAG_W,DELC13,DELC13_FLAG_W,DELC14,DELC14_FLAG_W,C14ERR,NEON,NEON_FLAG_W,NEONER,CCL4,CCL4_FLAG_W,HELIER,THETA,TRITER,DELHER
,,,,,,,,,,,METERS,DBAR,ITS-90,PSS-78,,PSS-78,,UMOL/KG,,UMOL/KG,,UMOL/KG,,UMOL/KG,,UMOL/KG,,UMOL/KG,,PMOL/KG,,PMOL/KG,,PMOL/KG,,UMOL/KG,,UMOL/KG,,TU,,NMOL/KG,,PERCNT,,/MILLE,,/MILLE,,/MILLE,NMOL/KG,,NMOL/KG,PMOL/KG,,NMOL/KG,DEG C,TU,PERCNT
  316N145_8,        I03,     518,          1,         27,         27,2,19950519,       1443,   -20.0005,    68.8000,       2623,     4.4,  24.7745,  35.1568,2,  35.1559,2,    207.7,2,   208.9,2,    2.86,2,    0.01,2,    0.00,2,    0.10,2,   1.897,2,   1.083,2,-999.000,9,  1959.1,6,  2302.1,6,-999.0000,9,-999.0000,9, -999.00,9, -999.00,9,  -999.0,9,  -999.0,-999.000,9,-999.000,-999.000,9,-999.0000,  24.7736,-999.0000,-999.000
  316N145_8,        I03,     518,          1,         26,         26,2,19950519,       1443,   -20.0005,    68.8000,       2623,    54.3,  24.7905,  35.1566,2,  35.1555,2,    216.0,2,   208.9,2,    2.64,2,    0.01,2,    0.00,2,    0.10,2,   1.886,2,   1.071,2,-999.000,9,  -999.0,9,  -999.0,9,-999.0000,9,-999.0000,9, -999.00,9, -999.00,9,  -999.0,9,  -999.0,-999.000,9,-999.000,-999.000,9,-999.0000,  24.7788,-999.0000,-999.000
  316N145_8,        I03,     518,          1,         25,         25,2,19950519,       1443,   -20.0005,    68.8000,       2623,   105.2,  21.5770,  35.5256,2,  35.5231,2,    215.1,2,   211.9,2,    3.05,2,    0.15,2,    0.05,2,    0.15,2,   2.189,2,   1.209,2,-999.000,9,  -999.0,9,  -999.0,9,-999.0000,9,-999.0000,9, -999.00,9, -999.00,9,  -999.0,9,  -999.0,-999.000,9,-999.000,-999.000,9,-999.0000,  21.5564,-999.0000,-999.000
  316N145_8,        I03,     518,          1,         24,         24,2,19950519,       1443,   -20.0005,    68.8000,       2623,   155.0,  19.8041,  35.7321,2,  35.7458,2,    213.6,2,   211.5,2,    2.83,2,    0.81,2,    0.05,2,    0.19,2,   2.340,2,   1.271,2,-999.000,9,  -999.0,9,  -999.0,9,-999.0000,9,-999.0000,9, -999.00,9, -999.00,9,  -999.0,9,  -999.0,-999.000,9,-999.000,-999.000,9,-999.0000,  19.7756,-999.0000,-999.000
  316N145_8,        I03,     518,          1,         23,         23,2,19950519,       1443,   -20.0005,    68.8000,       2623,   205.4,  18.1005,  35.7299,2,  35.7265,2,    206.3,2,   204.7,2,    3.03,2,    2.02,2,    0.01,2,    0.30,2,   2.461,2,   1.322,2,-999.000,9,  -999.0,9,  -999.0,9,-999.0000,9,-999.0000,9, -999.00,9, -999.00,9,  -999.0,9,  -999.0,-999.000,9,-999.000,-999.000,9,-999.0000,  18.0649,-999.0000,-999.000
  316N145_8,        I03,     518,          1,         22,         22,2,19950519,       1443,   -20.0005,    68.8000,       2623,   256.1,  16.6022,  35.6543,2,  35.6575,2,    212.0,2,   210.2,2,    3.02,2,    2.83,2,    0.01,2,    0.36,2,-999.000,9,-999.000,9,-999.000,9,  -999.0,9,  -999.0,9,-999.0000,9,-999.0000,9, -999.00,9, -999.00,9,  -999.0,9,  -999.0,-999.000,9,-999.000,-999.000,9,-999.0000,  16.5604,-999.0000,-999.000
  316N145_8,        I03,     518,          1,         21,         21,2,19950519,       1443,   -20.0005,    68.8000,       2623,   305.7,  14.7870,  35.4833,2,  35.4898,2,    216.5,2,   217.4,2,    2.80,2,    4.57,2,    0.01,2,    0.48,2,   2.748,2,   1.424,2,-999.000,9,  -999.0,9,  -999.0,9,-999.0000,9,-999.0000,9, -999.00,9, -999.00,9,  -999.0,9,  -999.0,-999.000,9,-999.000,-999.000,9,-999.0000,  14.7409,-999.0000,-999.000
  316N145_8,        I03,     518,          1,         20,         20,2,19950519,       1443,   -20.0005,    68.8000,       2623,   356.5,  13.1487,  35.2709,2,  35.2823,2,    222.5,2,   224.9,2,    3.21,2,    7.30,2,    0.01,2,    0.62,2,   2.887,2,   1.483,2,-999.000,9,  -999.0,9,  -999.0,9,-999.0000,9,-999.0000,9, -999.00,9, -999.00,9,  -999.0,9,  -999.0,-999.000,9,-999.000,-999.000,9,-999.0000,  13.0988,-999.0000,-999.000
  316N145_8,        I03,     518,          1,         19,         19,2,19950519,       1443,   -20.0005,    68.8000,       2623,   406.5,  12.3427,  35.1466,2,  35.1427,2,    226.8,2,   230.3,2,    3.61,2,    9.14,2,    0.00,2,    0.73,2,   2.915,2,   1.484,2,-999.000,9,  -999.0,9,  -999.0,9,-999.0000,9,-999.0000,9, -999.00,9, -999.00,9,  -999.0,9,  -999.0,-999.000,9,-999.000,-999.000,9,-999.0000,  12.2882,-999.0000,-999.000
  316N145_8,        I03,     518,          1,         18,         18,2,19950519,       1443,   -20.0005,    68.8000,       2623,   456.9,  11.8155,  35.0652,2,  35.0651,2,    230.6,2,   232.2,2,    3.81,2,   10.08,2,    0.00,2,    0.78,2,   2.917,2,   1.475,2,-999.000,9,  -999.0,9,  -999.0,9,-999.0000,9,-999.0000,9, -999.00,9, -999.00,9,  -999.0,9,  -999.0,-999.000,9,-999.000,-999.000,9,-999.0000,  11.7558,-999.0000,-999.000
  316N145_8,        I03,     518,          1,         17,         17,2,19950519,       1443,   -20.0005,    68.8000,       2623,   505.6,  11.1913,  34.9695,2,  34.9701,2,    232.7,2,   233.4,2,    4.01,2,   11.45,2,    0.00,2,    0.86,2,   2.872,2,   1.446,2,-999.000,9,  -999.0,9,  -999.0,9,-999.0000,9,-999.0000,9, -999.00,9, -999.00,9,  -999.0,9,  -999.0,-999.000,9,-999.000,-999.000,9,-999.0000,  11.1274,-999.0000,-999.000
  316N145_8,        I03,     518,          1,         16,         16,2,19950519,       1443,   -20.0005,    68.8000,       2623,   604.5,   9.7649,  34.7588,2,  34.7614,2,    230.6,2,   228.6,2,    5.68,2,   15.41,2,    0.00,2,    1.10,2,   2.344,2,   1.165,2,-999.000,9,  -999.0,9,  -999.0,9,-999.0000,9,-999.0000,9, -999.00,9, -999.00,9,  -999.0,9,  -999.0,-999.000,9,-999.000,-999.000,9,-999.0000,   9.6946,-999.0000,-999.000
  316N145_8,        I03,     518,          1,         15,         15,2,19950519,       1443,   -20.0005,    68.8000,       2623,   706.0,   8.3681,  34.6001,2,  34.6042,2,    213.7,2,   212.6,2,   10.91,2,   20.65,2,    0.00,2,    1.43,2,   1.450,2,   0.730,2,-999.000,9,  -999.0,9,  -999.0,9,-999.0000,9,-999.0000,9, -999.00,9, -999.00,9,  -999.0,9,  -999.0,-999.000,9,-999.000,-999.000,9,-999.0000,   8.2929,-999.0000,-999.000
  316N145_8,        I03,     518,          1,         14,         14,2,19950519,       1443,   -20.0005,    68.8000,       2623,   807.9,   6.7606,  34.5110,2,  34.5117,2,    184.6,2,   183.7,2,   26.01,2,   26.81,2,    0.00,2,    1.85,2,   0.496,2,   0.263,2,-999.000,9,  -999.0,9,  -999.0,9,-999.0000,9,-999.0000,9, -999.00,9, -999.00,9,  -999.0,9,  -999.0,-999.000,9,-999.000,-999.000,9,-999.0000,   6.6836,-999.0000,-999.000
  316N145_8,        I03,     518,          1,         13,         13,2,19950519,       1443,   -20.0005,    68.8000,       2623,   910.0,   5.4774,  34.4862,2,  34.4856,2,    157.2,2,   163.2,2,   44.87,2,   31.20,2,    0.00,2,    2.19,2,   0.163,2,   0.087,2,-999.000,9,  -999.0,9,  -999.0,9,-999.0000,9,-999.0000,9, -999.00,9, -999.00,9,  -999.0,9,  -999.0,-999.000,9,-999.000,-999.000,9,-999.0000,   5.3989,-999.0000,-999.000
  316N145_8,        I03,     518,          1,         12,         12,2,19950519,       1443,   -20.0005,    68.8000,       2623,  1009.4,   4.7348,  34.5512,2,  34.5481,2,    135.0,2,   136.2,2,   67.54,2,   34.18,2,    0.00,2,    2.44,2,   0.041,2,   0.020,2,-999.000,9,  -999.0,9,  -999.0,9,-999.0000,9,-999.0000,9, -999.00,9, -999.00,9,  -999.0,9,  -999.0,-999.000,9,-999.000,-999.000,9,-999.0000,   4.6526,-999.0000,-999.000
  316N145_8,        I03,     518,          1,         11,         11,2,19950519,       1443,   -20.0005,    68.8000,       2623,  1110.2,   4.3669,  34.5969,2,  34.5979,2,    128.0,2,   129.9,2,   78.69,2,   34.91,2,    0.00,2,    2.51,2,   0.016,2,   0.008,2,-999.000,9,  -999.0,9,  -999.0,9,-999.0000,9,-999.0000,9, -999.00,9, -999.00,9,  -999.0,9,  -999.0,-999.000,9,-999.000,-999.000,9,-999.0000,   4.2787,-999.0000,-999.000
  316N145_8,        I03,     518,          1,         10,         10,2,19950519,       1443,   -20.0005,    68.8000,       2623,  1209.5,   4.0996,  34.6179,2,  34.6181,2,    130.7,2,   129.2,2,   83.10,2,   35.01,2,    0.00,2,    2.52,2,   0.007,2,   0.005,2,-999.000,9,  -999.0,9,  -999.0,9,-999.0000,9,-999.0000,9, -999.00,9, -999.00,9,  -999.0,9,  -999.0,-999.000,9,-999.000,-999.000,9,-999.0000,   4.0051,-999.0000,-999.000
  316N145_8,        I03,     518,          1,          9,          9,2,19950519,       1443,   -20.0005,    68.8000,       2623,  1308.8,   3.7737,  34.6444,2,  34.6432,2,    132.9,2,   132.1,2,   88.16,2,   34.91,2,    0.00,2,    2.50,2,   0.005,2,   0.003,2,-999.000,9,  -999.0,9,  -999.0,9,-999.0000,9,-999.0000,9, -999.00,9, -999.00,9,  -999.0,9,  -999.0,-999.000,9,-999.000,-999.000,9,-999.0000,   3.6737,-999.0000,-999.000
  316N145_8,        I03,     518,          1,          8,          8,2,19950519,       1443,   -20.0005,    68.8000,       2623,  1411.6,   3.5388,  34.6593,2,  34.6572,2,    137.1,2,   136.8,2,   91.10,2,   34.72,2,    0.00,2,    2.49,2,   0.002,2,   0.001,2,-999.000,9,  -999.0,9,  -999.0,9,-999.0000,9,-999.0000,9, -999.00,9, -999.00,9,  -999.0,9,  -999.0,-999.000,9,-999.000,-999.000,9,-999.0000,   3.4323,-999.0000,-999.000
  316N145_8,        I03,     518,          1,          7,          7,2,19950519,       1443,   -20.0005,    68.8000,       2623,  1513.3,   3.2410,  34.6713,2,  34.6701,2,    143.1,2,   143.3,2,   93.62,2,   34.48,2,    0.00,2,    2.47,2,-999.000,9,-999.000,9,-999.000,9,  -999.0,9,  -999.0,9,-999.0000,9,-999.0000,9, -999.00,9, -999.00,9,  -999.0,9,  -999.0,-999.000,9,-999.000,-999.000,9,-999.0000,   3.1290,-999.0000,-999.000
  316N145_8,        I03,     518,          1,          6,          6,2,19950519,       1443,   -20.0005,    68.8000,       2623,  1690.9,   2.8357,  34.6891,2,  34.6886,2,    151.4,2,   153.1,2,   97.20,2,   33.81,2,    0.00,2,    2.41,2,   0.002,2,   0.000,2,-999.000,9,  -999.0,9,  -999.0,9,-999.0000,9,-999.0000,9, -999.00,9, -999.00,9,  -999.0,9,  -999.0,-999.000,9,-999.000,-999.000,9,-999.0000,   2.7135,-999.0000,-999.000
  316N145_8,        I03,     518,          1,          5,          5,2,19950519,       1443,   -20.0005,    68.8000,       2623,  1868.8,   2.3115,  34.7089,2,  34.7084,2,    167.1,2,   167.5,2,  101.65,2,   32.99,2,    0.00,2,    2.33,2,-999.000,9,-999.000,9,-999.000,9,  -999.0,9,  -999.0,9,-999.0000,9,-999.0000,9, -999.00,9, -999.00,9,  -999.0,9,  -999.0,-999.000,9,-999.000,-999.000,9,-999.0000,   2.1812,-999.0000,-999.000
  316N145_8,        I03,     518,          1,          4,          4,2,19950519,       1443,   -20.0005,    68.8000,       2623,  2071.0,   1.9457,  34.7200,2,  34.7200,2,    175.1,2,   175.1,2,  110.00,2,   32.85,2,    0.00,2,    2.31,2,   0.000,2,   0.001,2,-999.000,9,  -999.0,9,  -999.0,9,-999.0000,9,-999.0000,9, -999.00,9, -999.00,9,  -999.0,9,  -999.0,-999.000,9,-999.000,-999.000,9,-999.0000,   1.8038,-999.0000,-999.000
  316N145_8,        I03,     518,          1,          3,          3,3,19950519,       1443,   -20.0005,    68.8000,       2623,  2271.9,   1.8784,  34.7210,2,  34.7272,4,    176.4,2,   177.6,4,  109.96,4,   32.47,4,    0.00,4,    2.28,4,-999.000,9,-999.000,9,-999.000,9,  -999.0,9,  -999.0,9,-999.0000,9,-999.0000,9, -999.00,9, -999.00,9,  -999.0,9,  -999.0,-999.000,9,-999.000,-999.000,9,-999.0000,   1.7204,-999.0000,-999.000
  316N145_8,        I03,     518,          1,          2,          2,2,19950519,       1443,   -20.0005,    68.8000,       2623,  2475.4,   1.8118,  34.7221,2,  34.7227,2,    178.6,2,   179.1,2,  113.16,2,   32.76,2,    0.00,2,    2.30,2,  -0.001,2,   0.000,2,-999.000,9,  -999.0,9,  -999.0,9,-999.0000,9,-999.0000,9, -999.00,9, -999.00,9,  -999.0,9,  -999.0,-999.000,9,-999.000,-999.000,9,-999.0000,   1.6370,-999.0000,-999.000
  316N145_8,        I03,     518,          1,          1,          1,2,19950519,       1443,   -20.0005,    68.8000,       2623,  2636.7,   1.7832,  34.7230,2,  34.7233,2,    180.2,2,   180.5,2,  113.34,2,   32.57,2,    0.00,2,    2.29,2,   0.000,2,  -0.001,2,-999.000,9,  -999.0,9,  -999.0,9,-999.0000,9,-999.0000,9, -999.00,9, -999.00,9,  -999.0,9,  -999.0,-999.000,9,-999.000,-999.000,9,-999.0000,   1.5942,-999.0000,-999.000