BOTTLE,20140514CCHSIOSE
EXPOCODE,SECT_ID,STNNBR,CASTNO,SAMPNO,BTLNBR,BTLNBR_FLAG_W,DATE,TIME,LATITUDE,LONGITUDE,DEPTH,CTDPRS,CTDTMP,CTDSAL,CTDSAL_FLAG_W,SALNTY,SALNTY_FLAG_W,CTDOXY,CTDOXY_FLAG_W,OXYGEN,OXYGEN_FLAG_W,SILCAT,SILCAT_FLAG_W,NITRAT,NITRAT_FLAG_W,NITRIT,NITRIT_FLAG_W,PHSPHT,PHSPHT_FLAG_W,CFC-11,CFC-11_FLAG_W,CFC-12,CFC-12_FLAG_W,CFC113,CFC113_FLAG_W,TCARBN,TCARBN_FLAG_W,ALKALI,ALKALI_FLAG_W,TRITUM,TRITUM_FLAG_W,HELIUM,HELIUM_FLAG_W,DELHE3,DELHE3_FLAG_W,DELC13,DELC13_FLAG_W,DELC14,DELC14_FLAG_W,C14ERR,NEON,NEON_FLAG_W,NEONER,CCL4,CCL4_FLAG_W,HELIER,THETA,TRITER,DELHER
,,,,,,,,,,,METERS,DBAR,ITS-90,PSS-78,,PSS-78,,UMOL/KG,,UMOL/KG,,UMOL/KG,,UMOL/KG,,UMOL/KG,,UMOL/KG,,PMOL/KG,,PMOL/KG,,PMOL/KG,,UMOL/KG,,UMOL/KG,,TU,,NMOL/KG,,PERCNT,,/MILLE,,/MILLE,,/MILLE,NMOL/KG,,NMOL/KG,PMOL/KG,,NMOL/KG,DEG C,TU,PERCNT
  316N145_8,        I03,     466,          1,         36,         36,2,19950502,       0019,   -19.9998,   100.4668,       5890,     6.8,  25.6494,  35.5052,2,  35.5042,2,    205.6,2,   206.4,2,    3.59,2,    0.00,2,    0.00,2,    0.08,2,   1.855,2,   1.061,2,-999.000,9,  1977.1,6,  2326.2,6,-999.0000,9,-999.0000,9, -999.00,9, -999.00,9,  -999.0,9,  -999.0,-999.000,9,-999.000,-999.000,9,-999.0000,  25.6479,-999.0000,-999.000
  316N145_8,        I03,     466,          1,         35,         35,2,19950502,       0019,   -19.9998,   100.4668,       5890,    57.4,  25.6422,  35.5050,2,  35.5048,2,    214.8,2,   207.0,2,    3.57,2,    0.00,2,    0.00,2,    0.08,2,   1.846,2,   1.049,2,-999.000,9,  -999.0,9,  -999.0,9,-999.0000,9,-999.0000,9, -999.00,9, -999.00,9,  -999.0,9,  -999.0,-999.000,9,-999.000,-999.000,9,-999.0000,  25.6295,-999.0000,-999.000
  316N145_8,        I03,     466,          1,         34,         34,2,19950502,       0019,   -19.9998,   100.4668,       5890,   108.5,  21.2125,  35.7225,2,  35.7223,2,    229.8,2,   224.4,2,    3.35,2,    0.05,2,    0.00,2,    0.12,2,   2.301,2,   1.264,2,-999.000,9,  -999.0,9,  -999.0,9,-999.0000,9,-999.0000,9, -999.00,9, -999.00,9,  -999.0,9,  -999.0,-999.000,9,-999.000,-999.000,9,-999.0000,  21.1915,-999.0000,-999.000
  316N145_8,        I03,     466,          1,         33,         33,2,19950502,       0019,   -19.9998,   100.4668,       5890,   157.0,  19.1422,  35.8821,2,  35.8819,2,    213.9,2,   212.9,2,    3.33,2,    0.39,2,    0.14,2,    0.21,2,   2.446,2,   1.330,2,-999.000,9,  -999.0,9,  -999.0,9,-999.0000,9,-999.0000,9, -999.00,9, -999.00,9,  -999.0,9,  -999.0,-999.000,9,-999.000,-999.000,9,-999.0000,  19.1139,-999.0000,-999.000
  316N145_8,        I03,     466,          1,         32,         32,2,19950502,       0019,   -19.9998,   100.4668,       5890,   208.3,  17.7367,  35.8218,2,  35.8148,2,    208.8,2,   206.7,2,    3.93,2,    2.08,2,    0.01,2,    0.32,2,   2.500,2,   1.333,2,-999.000,9,  -999.0,9,  -999.0,9,-999.0000,9,-999.0000,9, -999.00,9, -999.00,9,  -999.0,9,  -999.0,-999.000,9,-999.000,-999.000,9,-999.0000,  17.7011,-999.0000,-999.000
  316N145_8,        I03,     466,          1,         31,         31,2,19950502,       0019,   -19.9998,   100.4668,       5890,   258.2,  15.8157,  35.6681,2,  35.6553,2,    217.3,2,   215.1,2,    3.71,2,    3.44,2,    0.01,2,    0.41,2,   2.719,2,   1.439,2,-999.000,9,  -999.0,9,  -999.0,9,-999.0000,9,-999.0000,9, -999.00,9, -999.00,9,  -999.0,9,  -999.0,-999.000,9,-999.000,-999.000,9,-999.0000,  15.7749,-999.0000,-999.000
  316N145_8,        I03,     466,          1,         30,         30,2,19950502,       0019,   -19.9998,   100.4668,       5890,   308.1,  13.8794,  35.4132,2,  35.4248,2,    220.5,2,   221.7,2,    3.90,2,    5.68,2,    0.01,2,    0.54,2,   2.908,2,   1.503,2,-999.000,9,  -999.0,9,  -999.0,9,-999.0000,9,-999.0000,9, -999.00,9, -999.00,9,  -999.0,9,  -999.0,-999.000,9,-999.000,-999.000,9,-999.0000,  13.8348,-999.0000,-999.000
  316N145_8,        I03,     466,          1,         29,         29,2,19950502,       0019,   -19.9998,   100.4668,       5890,   358.6,  12.2207,  35.1539,2,  35.1651,2,    224.1,2,   226.0,2,    4.71,2,    8.80,2,    0.00,2,    0.73,2,   3.023,2,   1.546,2,-999.000,9,  -999.0,9,  -999.0,9,-999.0000,9,-999.0000,9, -999.00,9, -999.00,9,  -999.0,9,  -999.0,-999.000,9,-999.000,-999.000,9,-999.0000,  12.1730,-999.0000,-999.000
  316N145_8,        I03,     466,          1,         28,         28,2,19950502,       0019,   -19.9998,   100.4668,       5890,   408.5,  11.0934,  34.9722,2,  34.9752,2,    235.4,2,   231.6,2,    4.90,2,   11.24,2,    0.00,2,    0.88,2,   3.092,2,   1.557,2,-999.000,9,  -999.0,9,  -999.0,9,-999.0000,9,-999.0000,9, -999.00,9, -999.00,9,  -999.0,9,  -999.0,-999.000,9,-999.000,-999.000,9,-999.0000,  11.0423,-999.0000,-999.000
  316N145_8,        I03,     466,          1,         27,         27,2,19950502,       0019,   -19.9998,   100.4668,       5890,   508.8,   9.5829,  34.7376,2,  34.7317,2,    228.1,2,   232.6,2,    6.12,2,   15.77,2,    0.00,2,    1.14,2,   2.858,2,   1.413,2,-999.000,9,  -999.0,9,  -999.0,9,-999.0000,9,-999.0000,9, -999.00,9, -999.00,9,  -999.0,9,  -999.0,-999.000,9,-999.000,-999.000,9,-999.0000,   9.5246,-999.0000,-999.000
  316N145_8,        I03,     466,          1,         26,         26,2,19950502,       0019,   -19.9998,   100.4668,       5890,   609.3,   7.8128,  34.5624,2,  34.5715,2,    191.7,2,   196.5,2,   18.30,2,   23.35,2,    0.00,2,    1.63,2,   1.327,2,   0.669,2,-999.000,9,  -999.0,9,  -999.0,9,-999.0000,9,-999.0000,9, -999.00,9, -999.00,9,  -999.0,9,  -999.0,-999.000,9,-999.000,-999.000,9,-999.0000,   7.7507,-999.0000,-999.000
  316N145_8,        I03,     466,          1,         25,         25,2,19950502,       0019,   -19.9998,   100.4668,       5890,   710.2,   6.0830,  34.5054,2,  34.5064,2,    156.5,2,   157.5,2,   42.48,2,   30.38,2,    0.00,2,    2.13,2,   0.281,2,   0.145,2,-999.000,9,  -999.0,9,  -999.0,9,-999.0000,9,-999.0000,9, -999.00,9, -999.00,9,  -999.0,9,  -999.0,-999.000,9,-999.000,-999.000,9,-999.0000,   6.0194,-999.0000,-999.000
  316N145_8,        I03,     466,          1,         24,         24,2,19950502,       0019,   -19.9998,   100.4668,       5890,   810.1,   5.5891,  34.6020,2,  34.6019,2,    109.1,2,   108.3,2,   72.50,2,   34.85,2,    0.00,2,    2.50,2,   0.025,2,   0.016,2,-999.000,9,  -999.0,9,  -999.0,9,-999.0000,9,-999.0000,9, -999.00,9, -999.00,9,  -999.0,9,  -999.0,-999.000,9,-999.000,-999.000,9,-999.0000,   5.5190,-999.0000,-999.000
  316N145_8,        I03,     466,          1,         23,         23,2,19950502,       0019,   -19.9998,   100.4668,       5890,   911.1,   5.2233,  34.6340,2,  34.6342,2,    101.1,2,   101.1,2,   82.87,2,   35.81,2,    0.00,2,    2.60,2,   0.004,2,   0.002,2,-999.000,9,  -999.0,9,  -999.0,9,-999.0000,9,-999.0000,9, -999.00,9, -999.00,9,  -999.0,9,  -999.0,-999.000,9,-999.000,-999.000,9,-999.0000,   5.1462,-999.0000,-999.000
  316N145_8,        I03,     466,          1,         22,         22,2,19950502,       0019,   -19.9998,   100.4668,       5890,  1011.8,   4.7829,  34.6390,2,  34.6370,2,    100.3,2,   100.9,2,   91.41,2,   36.07,2,    0.00,2,    2.63,2,   0.001,2,   0.004,2,-999.000,9,  -999.0,9,  -999.0,9,-999.0000,9,   1.8960,2,   12.54,2, -999.00,9,  -999.0,9,  -999.0,   7.979,2,   0.016,-999.000,9,   0.0030,   4.7000,-999.0000,    0.13
  316N145_8,        I03,     466,          1,         21,         21,2,19950502,       0019,   -19.9998,   100.4668,       5890,  1112.4,   4.4752,  34.6385,2,  34.6387,2,    104.8,2,   105.1,2,   94.94,2,   36.12,2,    0.00,2,    2.63,2,   0.002,2,   0.002,2,-999.000,9,  -999.0,9,  -999.0,9,-999.0000,9,   1.9000,2,   13.01,2, -999.00,9,  -999.0,9,  -999.0,   8.046,2,   0.014,-999.000,9,   0.0020,   4.3858,-999.0000,    0.11
  316N145_8,        I03,     466,          1,         20,         20,2,19950502,       0019,   -19.9998,   100.4668,       5890,  1212.7,   4.1596,  34.6572,2,  34.6564,2,    111.0,2,   110.4,2,   96.78,2,   36.03,2,    0.00,2,    2.62,2,-999.000,9,-999.000,9,-999.000,9,  -999.0,9,  -999.0,9,-999.0000,9,   1.8710,2,   12.78,2, -999.00,9,  -999.0,9,  -999.0,   7.910,2,   0.016,-999.000,9,   0.0030,   4.0641,-999.0000,    0.13
  316N145_8,        I03,     466,          1,         19,         19,2,19950502,       0019,   -19.9998,   100.4668,       5890,  1415.0,   3.3929,  34.6665,2,  34.6668,2,    129.1,2,   128.2,2,   99.90,2,   35.44,2,    0.00,2,    2.55,2,-999.000,9,-999.000,9,-999.000,9,  -999.0,9,  -999.0,9,-999.0000,9,   1.8780,2,   12.43,2, -999.00,9,  -999.0,9,  -999.0,   7.975,2,   0.016,-999.000,9,   0.0030,   3.2876,-999.0000,    0.13
  316N145_8,        I03,     466,          1,         18,         18,2,19950502,       0019,   -19.9998,   100.4668,       5890,  1616.4,   2.8897,  34.6945,2,  34.6951,2,    139.8,2,   140.3,2,  105.13,2,   34.94,2,    0.00,2,    2.50,2,   0.001,2,   0.001,2,-999.000,9,  -999.0,9,  -999.0,9,-999.0000,9,   1.8780,2,   12.89,2, -999.00,9,  -999.0,9,  -999.0,   8.006,2,   0.016,-999.000,9,   0.0030,   2.7731,-999.0000,    0.13
  316N145_8,        I03,     466,          1,         17,         17,9,19950502,       0019,   -19.9998,   100.4668,       5890,  1819.9,   2.5318,  34.7135,2,-999.0000,9,    148.0,2,  -999.0,9, -999.00,9, -999.00,9, -999.00,9, -999.00,9,-999.000,9,-999.000,9,-999.000,9,  -999.0,9,  -999.0,9,-999.0000,9,-999.0000,9, -999.00,9, -999.00,9,  -999.0,9,  -999.0,-999.000,9,-999.000,-999.000,9,-999.0000,   2.4026,-999.0000,-999.000
  316N145_8,        I03,     466,          1,         16,         16,9,19950502,       0019,   -19.9998,   100.4668,       5890,  2021.8,   2.2656,  34.7217,2,-999.0000,9,    155.4,2,  -999.0,9, -999.00,9, -999.00,9, -999.00,9, -999.00,9,-999.000,9,-999.000,9,-999.000,9,  -999.0,9,  -999.0,9,-999.0000,9,-999.0000,9, -999.00,9, -999.00,9,  -999.0,9,  -999.0,-999.000,9,-999.000,-999.000,9,-999.0000,   2.1230,-999.0000,-999.000
  316N145_8,        I03,     466,          1,         15,         15,2,19950502,       0019,   -19.9998,   100.4668,       5890,  2224.5,   2.0635,  34.7252,2,  34.7255,2,    159.0,2,   159.2,2,  119.16,2,   34.00,2,    0.00,2,    2.42,2,  -0.002,2,   0.003,2,-999.000,9,  -999.0,9,  -999.0,9,-999.0000,9,   1.9320,3,   13.69,2, -999.00,9,  -999.0,9,  -999.0,   8.248,3,   0.016,-999.000,9,   0.0030,   1.9065,-999.0000,    0.13
  316N145_8,        I03,     466,          1,         14,         14,2,19950502,       0019,   -19.9998,   100.4668,       5890,  2426.9,   1.9113,  34.7263,2,  34.7263,2,    163.8,2,   164.0,2,  121.05,2,   33.81,2,    0.00,2,    2.40,2,-999.000,9,-999.000,9,-999.000,9,  -999.0,9,  -999.0,9,-999.0000,9,   1.9040,2,   14.05,2, -999.00,9,  -999.0,9,  -999.0,   8.124,2,   0.015,-999.000,9,   0.0020,   1.7389,-999.0000,    0.11
  316N145_8,        I03,     466,          1,         13,         13,2,19950502,       0019,   -19.9998,   100.4668,       5890,  2630.6,   1.7691,  34.7256,2,  34.7259,2,    167.3,2,   169.0,2,  122.94,2,   33.57,2,    0.00,2,    2.37,2,  -0.003,2,   0.005,3,-999.000,9,  -999.0,9,  -999.0,9,-999.0000,9,-999.0000,9, -999.00,9, -999.00,9,  -999.0,9,  -999.0,-999.000,9,-999.000,-999.000,9,-999.0000,   1.5809,-999.0000,-999.000
  316N145_8,        I03,     466,          1,         12,         12,2,19950502,       0019,   -19.9998,   100.4668,       5890,  2833.6,   1.6547,  34.7248,2,  34.7253,2,    173.5,2,   172.4,2,  124.83,2,   33.48,2,    0.00,2,    2.36,2,-999.000,9,-999.000,9,-999.000,9,  -999.0,9,  -999.0,9,-999.0000,9,   1.9210,2,   13.26,2, -999.00,9,  -999.0,9,  -999.0,   8.218,2,   0.015,-999.000,9,   0.0020,   1.4501,-999.0000,    0.11
  316N145_8,        I03,     466,          1,         11,         11,2,19950502,       0019,   -19.9998,   100.4668,       5890,  3036.8,   1.5451,  34.7226,2,  34.7233,2,    176.8,2,   175.6,2,  126.95,2,   33.43,2,    0.00,2,    2.35,2,-999.000,9,-999.000,9,-999.000,9,  -999.0,9,  -999.0,9,-999.0000,9,   1.9160,2,   12.88,2, -999.00,9,  -999.0,9,  -999.0,   8.207,2,   0.015,-999.000,9,   0.0020,   1.3235,-999.0000,    0.11
  316N145_8,        I03,     466,          1,         10,         10,2,19950502,       0019,   -19.9998,   100.4668,       5890,  3291.3,   1.4525,  34.7204,2,  34.7206,2,    179.2,2,   178.6,2,  127.99,2,   33.34,2,    0.00,2,    2.35,2,  -0.003,2,   0.000,2,-999.000,9,  -999.0,9,  -999.0,9,-999.0000,9,   1.8980,2,   12.46,2, -999.00,9,  -999.0,9,  -999.0,   8.182,2,   0.014,-999.000,9,   0.0020,   1.2083,-999.0000,    0.11
  316N145_8,        I03,     466,          1,          9,          9,2,19950502,       0019,   -19.9998,   100.4668,       5890,  3545.3,   1.3633,  34.7184,2,  34.7174,2,    181.6,2,   181.7,2,  129.02,2,   33.30,2,    0.00,2,    2.34,2,-999.000,9,-999.000,9,-999.000,9,  -999.0,9,  -999.0,9,-999.0000,9,   1.9010,2,   12.43,2, -999.00,9,  -999.0,9,  -999.0,   8.134,2,   0.015,-999.000,9,   0.0020,   1.0958,-999.0000,    0.11
  316N145_8,        I03,     466,          1,          8,          8,2,19950502,       0019,   -19.9998,   100.4668,       5890,  3852.4,   1.2807,  34.7162,2,  34.7153,2,    186.5,2,   186.6,2,  129.19,2,   33.06,2,    0.00,2,    2.32,2,-999.000,9,-999.000,9,-999.000,9,  -999.0,9,  -999.0,9,-999.0000,9,   1.9180,2,   12.09,2, -999.00,9,  -999.0,9,  -999.0,   8.221,2,   0.014,-999.000,9,   0.0020,   0.9835,-999.0000,    0.11
  316N145_8,        I03,     466,          1,          7,          7,2,19950502,       0019,   -19.9998,   100.4668,       5890,  4158.7,   1.2245,  34.7146,2,  34.7139,2,    189.8,2,   190.8,2,  128.05,2,   32.92,2,    0.00,2,    2.30,2,   0.001,2,   0.003,2,-999.000,9,  -999.0,9,  -999.0,9,-999.0000,9,   1.9310,2,   11.55,2, -999.00,9,  -999.0,9,  -999.0,   8.253,2,   0.015,-999.000,9,   0.0020,   0.8960,-999.0000,    0.11
  316N145_8,        I03,     466,          1,          6,          6,2,19950502,       0019,   -19.9998,   100.4668,       5890,  4465.7,   1.1833,  34.7130,2,  34.7133,2,    194.8,2,   195.1,2,  126.91,2,   32.62,2,    0.00,2,    2.28,2,-999.000,9,-999.000,9,-999.000,9,  -999.0,9,  -999.0,9,-999.0000,9,   1.9190,2,   10.86,2, -999.00,9,  -999.0,9,  -999.0,   8.260,2,   0.015,-999.000,9,   0.0020,   0.8219,-999.0000,    0.11
  316N145_8,        I03,     466,          1,          5,          5,2,19950502,       0019,   -19.9998,   100.4668,       5890,  4772.8,   1.1598,  34.7118,2,  34.7111,2,    198.8,2,   199.1,2,  125.77,2,   32.48,2,    0.00,2,    2.26,2,-999.000,9,-999.000,9,-999.000,9,  -999.0,9,  -999.0,9,-999.0000,9,-999.0000,9, -999.00,9, -999.00,9,  -999.0,9,  -999.0,-999.000,9,-999.000,-999.000,9,-999.0000,   0.7638,-999.0000,-999.000
  316N145_8,        I03,     466,          1,          4,          4,2,19950502,       0019,   -19.9998,   100.4668,       5890,  5080.0,   1.1475,  34.7113,2,  34.7111,2,    201.2,2,   201.5,2,  125.07,2,   32.39,2,    0.00,2,    2.25,2,   0.002,2,   0.000,2,-999.000,9,  -999.0,9,  -999.0,9,-999.0000,9,   1.9290,2,   10.10,2, -999.00,9,  -999.0,9,  -999.0,   8.293,2,   0.017,-999.000,9,   0.0030,   0.7154,-999.0000,    0.13
  316N145_8,        I03,     466,          1,          3,          3,2,19950502,       0019,   -19.9998,   100.4668,       5890,  5389.4,   1.1479,  34.7102,2,  34.7094,2,    202.7,2,   202.9,2,  124.80,2,   32.30,2,    0.00,2,    2.24,2,-999.000,9,-999.000,9,-999.000,9,  -999.0,9,  -999.0,9,-999.0000,9,   1.9060,2,   10.09,2, -999.00,9,  -999.0,9,  -999.0,   8.237,2,   0.016,-999.000,9,   0.0030,   0.6779,-999.0000,    0.13
  316N145_8,        I03,     466,          1,          2,          2,2,19950502,       0019,   -19.9998,   100.4668,       5890,  5697.9,   1.1684,  34.7097,2,  34.7098,2,    204.7,2,   204.3,2,  124.32,2,   32.20,2,    0.00,2,    2.24,2,   0.000,2,   0.002,2,-999.000,9,  -999.0,9,  -999.0,9,-999.0000,9,   1.8870,2,   10.25,2, -999.00,9,  -999.0,9,  -999.0,   8.145,2,   0.015,-999.000,9,   0.0020,   0.6586,-999.0000,    0.11
  316N145_8,        I03,     466,          1,          1,          1,2,19950502,       0019,   -19.9998,   100.4668,       5890,  6048.9,   1.2043,  34.7090,2,  34.7094,2,    205.2,2,   205.1,2,  124.05,2,   32.16,2,    0.00,2,    2.24,2,  -0.002,2,   0.001,2,-999.000,9,  -999.0,9,  -999.0,9,-999.0000,9,   1.8830,2,   10.22,2, -999.00,9,  -999.0,9,  -999.0,   8.149,2,   0.017,-999.000,9,   0.0030,   0.6474,-999.0000,    0.13