BOTTLE,20140514CCHSIOSE
EXPOCODE,SECT_ID,STNNBR,CASTNO,SAMPNO,BTLNBR,BTLNBR_FLAG_W,DATE,TIME,LATITUDE,LONGITUDE,DEPTH,CTDPRS,CTDTMP,CTDSAL,CTDSAL_FLAG_W,SALNTY,SALNTY_FLAG_W,CTDOXY,CTDOXY_FLAG_W,OXYGEN,OXYGEN_FLAG_W,SILCAT,SILCAT_FLAG_W,NITRAT,NITRAT_FLAG_W,NITRIT,NITRIT_FLAG_W,PHSPHT,PHSPHT_FLAG_W,CFC-11,CFC-11_FLAG_W,CFC-12,CFC-12_FLAG_W,CFC113,CFC113_FLAG_W,TCARBN,TCARBN_FLAG_W,ALKALI,ALKALI_FLAG_W,TRITUM,TRITUM_FLAG_W,HELIUM,HELIUM_FLAG_W,DELHE3,DELHE3_FLAG_W,DELC13,DELC13_FLAG_W,DELC14,DELC14_FLAG_W,C14ERR,NEON,NEON_FLAG_W,NEONER,CCL4,CCL4_FLAG_W,HELIER,THETA,TRITER,DELHER
,,,,,,,,,,,METERS,DBAR,ITS-90,PSS-78,,PSS-78,,UMOL/KG,,UMOL/KG,,UMOL/KG,,UMOL/KG,,UMOL/KG,,UMOL/KG,,PMOL/KG,,PMOL/KG,,PMOL/KG,,UMOL/KG,,UMOL/KG,,TU,,NMOL/KG,,PERCNT,,/MILLE,,/MILLE,,/MILLE,NMOL/KG,,NMOL/KG,PMOL/KG,,NMOL/KG,DEG C,TU,PERCNT
  316N145_8,        I03,     484,          1,         36,         36,2,19950508,       0155,   -20.0008,    88.5155,       3148,     7.2,  25.7623,  35.1807,2,  35.1810,2,    204.6,2,   204.6,2,    3.49,2,    0.10,2,    0.00,2,    0.11,2,   1.832,2,   1.047,2,-999.000,9,  1959.2,2,  2302.0,2,-999.0000,9,-999.0000,9, -999.00,9, -999.00,9,  -999.0,9,  -999.0,-999.000,9,-999.000,-999.000,9,-999.0000,  25.7607,-999.0000,-999.000
  316N145_8,        I03,     484,          1,         35,         35,2,19950508,       0155,   -20.0008,    88.5155,       3148,    55.8,  25.6253,  35.2603,2,  35.2951,2,    214.1,2,   206.3,2,    3.47,2,    0.10,2,    0.00,2,    0.11,2,   1.851,2,   1.048,2,-999.000,9,  1962.0,2,  2308.0,6,-999.0000,9,-999.0000,9, -999.00,9, -999.00,9,  -999.0,9,  -999.0,-999.000,9,-999.000,-999.000,9,-999.0000,  25.6130,-999.0000,-999.000
  316N145_8,        I03,     484,          1,         34,         34,2,19950508,       0155,   -20.0008,    88.5155,       3148,   104.6,  21.4395,  35.5918,2,  35.5928,2,    216.6,2,   219.4,2,    3.67,2,    0.10,2,    0.00,2,    0.13,2,   2.238,2,   1.243,2,-999.000,9,  2007.9,2,  2332.0,2,-999.0000,9,-999.0000,9, -999.00,9, -999.00,9,  -999.0,9,  -999.0,-999.000,9,-999.000,-999.000,9,-999.0000,  21.4191,-999.0000,-999.000
  316N145_8,        I03,     484,          1,         33,         33,2,19950508,       0155,   -20.0008,    88.5155,       3148,   156.0,  20.0718,  35.7565,2,  35.7544,2,    211.4,2,   210.8,2,    3.65,2,    0.38,2,    0.21,2,    0.19,2,   2.328,2,   1.275,2,-999.000,9,  2037.3,2,  2342.0,2,-999.0000,9,-999.0000,9, -999.00,9, -999.00,9,  -999.0,9,  -999.0,-999.000,9,-999.000,-999.000,9,-999.0000,  20.0428,-999.0000,-999.000
  316N145_8,        I03,     484,          1,         32,         32,2,19950508,       0155,   -20.0008,    88.5155,       3148,   205.9,  18.4432,  35.7786,2,  35.7479,2,    201.3,2,   194.6,2,    5.12,2,    3.18,2,    0.01,2,    0.36,2,   2.334,2,   1.258,2,-999.000,9,  2070.3,2,  2346.0,2,-999.0000,9,-999.0000,9, -999.00,9, -999.00,9,  -999.0,9,  -999.0,-999.000,9,-999.000,-999.000,9,-999.0000,  18.4070,-999.0000,-999.000
  316N145_8,        I03,     484,          1,         31,         31,2,19950508,       0155,   -20.0008,    88.5155,       3148,   256.1,  16.7075,  35.6859,2,  35.6745,2,    199.7,2,   200.3,2,    4.89,2,    4.22,2,    0.00,2,    0.44,2,   2.475,2,   1.314,2,-999.000,9,  2085.5,2,  2341.0,2,-999.0000,9,-999.0000,9, -999.00,9, -999.00,9,  -999.0,9,  -999.0,-999.000,9,-999.000,-999.000,9,-999.0000,  16.6654,-999.0000,-999.000
  316N145_8,        I03,     484,          1,         30,         30,2,19950508,       0155,   -20.0008,    88.5155,       3148,   306.2,  14.8497,  35.5052,2,  35.4905,2,    207.5,2,   214.6,2,    4.24,2,    5.26,2,    0.00,2,    0.51,2,   2.726,2,   1.427,2,-999.000,9,  2091.3,2,  2335.0,2,-999.0000,9,-999.0000,9, -999.00,9, -999.00,9,  -999.0,9,  -999.0,-999.000,9,-999.000,-999.000,9,-999.0000,  14.8033,-999.0000,-999.000
  316N145_8,        I03,     484,          1,         29,         29,2,19950508,       0155,   -20.0008,    88.5155,       3148,   356.3,  13.5058,  35.3284,2,  35.3185,2,    218.5,2,   223.1,2,    3.58,2,    7.03,2,    0.00,2,    0.61,2,   2.900,2,   1.496,2,-999.000,9,  2093.6,2,  2325.0,2,-999.0000,9,-999.0000,9, -999.00,9, -999.00,9,  -999.0,9,  -999.0,-999.000,9,-999.000,-999.000,9,-999.0000,  13.4550,-999.0000,-999.000
  316N145_8,        I03,     484,          1,         28,         28,2,19950508,       0155,   -20.0008,    88.5155,       3148,   406.9,  12.2639,  35.1447,2,  35.1397,2,    228.2,2,   228.3,2,    4.20,2,    9.30,2,    0.00,2,    0.74,2,   2.933,2,   1.498,2,-999.000,9,  2098.7,2,  2314.0,2,-999.0000,9,-999.0000,9, -999.00,9, -999.00,9,  -999.0,9,  -999.0,-999.000,9,-999.000,-999.000,9,-999.0000,  12.2095,-999.0000,-999.000
  316N145_8,        I03,     484,          1,         27,         27,2,19950508,       0155,   -20.0008,    88.5155,       3148,   456.7,  11.2988,  34.9937,2,  34.9863,2,    228.4,2,   228.5,2,    5.04,2,   11.57,2,    0.00,2,    0.89,2,   2.846,2,   1.435,2,-999.000,9,  2105.8,2,  2312.0,2,-999.0000,9,-999.0000,9, -999.00,9, -999.00,9,  -999.0,9,  -999.0,-999.000,9,-999.000,-999.000,9,-999.0000,  11.2409,-999.0000,-999.000
  316N145_8,        I03,     484,          1,         26,         26,2,19950508,       0155,   -20.0008,    88.5155,       3148,   506.3,  10.4646,  34.8677,2,  34.8667,2,    229.3,2,   232.4,2,    5.24,2,   13.31,2,    0.00,2,    0.98,2,   2.836,2,   1.421,2,-999.000,9,  2108.3,2,  2301.0,2,-999.0000,9,-999.0000,9, -999.00,9, -999.00,9,  -999.0,9,  -999.0,-999.000,9,-999.000,-999.000,9,-999.0000,  10.4034,-999.0000,-999.000
  316N145_8,        I03,     484,          1,         25,         25,2,19950508,       0155,   -20.0008,    88.5155,       3148,   607.6,   8.8929,  34.6529,2,  34.6527,2,    219.4,2,   218.7,2,    9.06,2,   18.84,2,    0.00,2,    1.33,2,   2.044,2,   1.018,2,-999.000,9,  2127.4,2,  2296.0,2,-999.0000,9,-999.0000,9, -999.00,9, -999.00,9,  -999.0,9,  -999.0,-999.000,9,-999.000,-999.000,9,-999.0000,   8.8261,-999.0000,-999.000
  316N145_8,        I03,     484,          1,         24,         24,2,19950508,       0155,   -20.0008,    88.5155,       3148,   708.3,   7.2661,  34.5348,2,  34.5396,2,    187.8,2,   183.9,2,   23.54,2,   25.68,2,    0.00,2,    1.78,2,   0.730,2,   0.375,2,-999.000,9,  2167.3,2,  2300.0,2,-999.0000,9,-999.0000,9, -999.00,9, -999.00,9,  -999.0,9,  -999.0,-999.000,9,-999.000,-999.000,9,-999.0000,   7.1964,-999.0000,-999.000
  316N145_8,        I03,     484,          1,         23,         23,2,19950508,       0155,   -20.0008,    88.5155,       3148,   809.0,   5.7247,  34.4747,2,  34.4729,2,    170.5,2,   169.4,2,   38.88,2,   30.13,2,    0.00,2,    2.10,2,   0.288,2,   0.155,2,-999.000,9,  2200.0,2,  2313.0,2,-999.0000,9,-999.0000,9, -999.00,9, -999.00,9,  -999.0,9,  -999.0,-999.000,9,-999.000,-999.000,9,-999.0000,   5.6540,-999.0000,-999.000
  316N145_8,        I03,     484,          1,         22,         22,2,19950508,       0155,   -20.0008,    88.5155,       3148,   910.1,   5.0913,  34.5342,2,  34.5352,2,    134.8,2,   134.7,2,   62.78,2,   33.75,2,    0.00,2,    2.39,2,   0.054,2,   0.031,2,-999.000,9,  2240.9,2,  2335.0,2,-999.0000,9,-999.0000,9, -999.00,9, -999.00,9,  -999.0,9,  -999.0,-999.000,9,-999.000,-999.000,9,-999.0000,   5.0154,-999.0000,-999.000
  316N145_8,        I03,     484,          1,         21,         21,2,19950508,       0155,   -20.0008,    88.5155,       3148,  1010.0,   4.8443,  34.5866,2,  34.5882,2,    117.5,2,   118.2,2,   75.82,2,   34.97,2,    0.00,2,    2.52,2,   0.013,2,   0.007,2,-999.000,9,  2264.6,2,  2352.0,2,-999.0000,9,   1.8540,2,   10.28,2, -999.00,9,  -999.0,9,  -999.0,   7.901,2,   0.024,-999.000,9,   0.0030,   4.7612,-999.0000,    0.10
  316N145_8,        I03,     484,          1,         20,         20,2,19950508,       0155,   -20.0008,    88.5155,       3148,  1111.5,   4.4454,  34.6273,2,  34.6278,2,    114.1,2,   114.4,2,   85.69,2,   35.54,2,    0.00,2,    2.59,2,   0.003,2,   0.002,2,-999.000,9,  2274.7,2,  2352.0,2,-999.0000,9,   1.8530,2,   11.59,2, -999.00,9,  -999.0,9,  -999.0,   7.859,2,   0.016,-999.000,9,   0.0030,   4.3563,-999.0000,    0.16
  316N145_8,        I03,     484,          1,         19,         19,2,19950508,       0155,   -20.0008,    88.5155,       3148,  1210.7,   4.1365,  34.6371,2,  34.6401,2,    116.7,2,   117.5,2,   89.33,2,   35.51,2,    0.00,2,    2.58,2,   0.001,2,   0.005,2,-999.000,9,  2280.1,2,  2364.0,2,-999.0000,9,   1.8620,2,   12.23,2, -999.00,9,  -999.0,9,  -999.0,   7.922,2,   0.017,-999.000,9,   0.0030,   4.0415,-999.0000,    0.16
  316N145_8,        I03,     484,          1,         18,         18,2,19950508,       0155,   -20.0008,    88.5155,       3148,  1311.0,   3.7676,  34.6516,2,  34.6521,2,    123.1,2,   123.3,2,   92.55,2,   35.37,2,    0.00,2,    2.56,2,   0.001,2,   0.001,2,-999.000,9,  2280.9,2,  2366.0,2,-999.0000,9,   1.8780,2,   11.94,2, -999.00,9,  -999.0,9,  -999.0,   7.975,2,   0.016,-999.000,9,   0.0030,   3.6674,-999.0000,    0.16
  316N145_8,        I03,     484,          1,         17,         17,2,19950508,       0155,   -20.0008,    88.5155,       3148,  1412.7,   3.4995,  34.6661,2,  34.6654,2,    128.6,2,   128.8,2,   94.05,2,   35.18,2,    0.00,2,    2.55,2,-999.000,9,-999.000,9,-999.000,9,  2282.6,2,  2373.0,2,-999.0000,9,   1.8700,2,   12.37,2, -999.00,9,  -999.0,9,  -999.0,   7.991,2,   0.017,-999.000,9,   0.0030,   3.3932,-999.0000,    0.16
  316N145_8,        I03,     484,          1,         16,         16,2,19950508,       0155,   -20.0008,    88.5155,       3148,  1514.0,   3.2928,  34.6928,2,  34.6931,2,    131.9,2,  -999.0,5,   99.45,2,   34.99,2,    0.00,2,    2.52,2,  -0.005,2,   0.001,2,-999.000,9,  2285.7,2,  2378.0,2,-999.0000,9,   1.8730,2,   12.87,2, -999.00,9,  -999.0,9,  -999.0,   7.956,2,   0.014,-999.000,9,   0.0040,   3.1802,-999.0000,    0.15
  316N145_8,        I03,     484,          1,         15,         15,2,19950508,       0155,   -20.0008,    88.5155,       3148,  1614.9,   3.1008,  34.7062,2,  34.7068,2,    134.3,2,   135.1,2,  102.90,2,   34.75,2,    0.00,2,    2.51,2,-999.000,9,-999.000,9,-999.000,9,  2287.0,2,  2377.0,2,-999.0000,9,   1.8720,2,   13.10,2, -999.00,9,  -999.0,9,  -999.0,   7.994,2,   0.021,-999.000,9,   0.0030,   2.9817,-999.0000,    0.15
  316N145_8,        I03,     484,          1,         14,         14,2,19950508,       0155,   -20.0008,    88.5155,       3148,  1716.1,   2.8631,  34.7170,2,  34.7166,2,    138.2,2,   140.0,2,  106.37,2,   34.61,2,    0.01,2,    2.47,2,   0.005,2,   0.002,2,-999.000,9,  2288.0,2,  2383.0,2,-999.0000,9,   1.8920,2,   13.90,2, -999.00,9,  -999.0,9,  -999.0,   8.029,2,   0.014,-999.000,9,   0.0040,   2.7383,-999.0000,    0.15
  316N145_8,        I03,     484,          1,         13,         13,2,19950508,       0155,   -20.0008,    88.5155,       3148,  1817.1,   2.6857,  34.7203,2,  34.7205,2,    144.2,2,   144.7,2,  108.54,2,   34.32,2,    0.00,2,    2.47,2,-999.000,9,-999.000,9,-999.000,9,  2287.9,2,  2388.0,2,-999.0000,9,   1.8840,2,   13.64,2, -999.00,9,  -999.0,9,  -999.0,   8.036,2,   0.020,-999.000,9,   0.0020,   2.5546,-999.0000,    0.15
  316N145_8,        I03,     484,          1,         12,         12,2,19950508,       0155,   -20.0008,    88.5155,       3148,  1918.7,   2.5321,  34.7199,2,  34.7207,2,    148.4,2,   148.9,2,  109.83,2,   34.19,2,    0.00,2,    2.45,2,-999.000,9,-999.000,9,-999.000,9,  2286.8,2,  2386.0,2,-999.0000,9,   1.9100,2,   14.02,2, -999.00,9,  -999.0,9,  -999.0,   8.121,2,   0.014,-999.000,9,   0.0050,   2.3944,-999.0000,    0.15
  316N145_8,        I03,     484,          1,         11,         11,2,19950508,       0155,   -20.0008,    88.5155,       3148,  2020.3,   2.3646,  34.7227,2,  34.7230,2,    152.9,2,   153.7,2,  111.13,2,   33.90,2,    0.00,2,    2.42,2,  -0.002,2,   0.001,2,-999.000,9,  2288.6,2,  2390.0,2,-999.0000,9,   1.8470,3,   14.15,2, -999.00,9,  -999.0,9,  -999.0,   7.981,2,   0.020,-999.000,9,   0.0030,   2.2205,-999.0000,    0.19
  316N145_8,        I03,     484,          1,         10,         10,2,19950508,       0155,   -20.0008,    88.5155,       3148,  2121.2,   2.2459,  34.7247,2,  34.7244,2,    157.8,2,   157.6,2,  112.64,2,   33.81,2,    0.00,2,    2.41,2,  -0.002,2,   0.004,2,-999.000,9,  2289.5,2,  2387.0,2,-999.0000,9,   1.9000,2,   14.57,2, -999.00,9,  -999.0,9,  -999.0,   8.120,2,   0.015,-999.000,9,   0.0050,   2.0949,-999.0000,    0.15
  316N145_8,        I03,     484,          1,          9,          9,2,19950508,       0155,   -20.0008,    88.5155,       3148,  2222.2,   2.1441,  34.7261,2,  34.7258,2,    160.2,2,   160.7,2,  113.94,2,   33.62,2,    0.00,2,    2.39,2,-999.000,9,-999.000,9,-999.000,9,  2288.5,2,  2392.0,2,-999.0000,9,   1.8860,2,   14.33,2, -999.00,9,  -999.0,9,  -999.0,   8.047,2,   0.021,-999.000,9,   0.0020,   1.9859,-999.0000,    0.15
  316N145_8,        I03,     484,          1,          8,          8,2,19950508,       0155,   -20.0008,    88.5155,       3148,  2323.7,   2.0469,  34.7260,2,  34.7263,2,    163.7,2,   163.2,2,  115.46,2,   33.53,2,    0.01,2,    2.38,2,  -0.001,2,   0.000,2,-999.000,9,  2288.3,2,  2390.0,2,-999.0000,9,   1.8850,2,   14.51,2, -999.00,9,  -999.0,9,  -999.0,   8.054,2,   0.014,-999.000,9,   0.0050,   1.8814,-999.0000,    0.15
  316N145_8,        I03,     484,          1,          7,          7,2,19950508,       0155,   -20.0008,    88.5155,       3148,  2424.2,   1.9717,  34.7267,2,  34.7275,2,    165.2,2,   162.9,4,  115.88,2,   33.45,2,    0.00,2,    2.38,2,-999.000,9,-999.000,9,-999.000,9,  2286.6,2,  2395.0,2,-999.0000,9,   1.8970,2,   14.72,2, -999.00,9,  -999.0,9,  -999.0,   8.171,2,   0.020,-999.000,9,   0.0020,   1.7985,-999.0000,    0.15
  316N145_8,        I03,     484,          1,          6,          6,2,19950508,       0155,   -20.0008,    88.5155,       3148,  2525.6,   1.9265,  34.7266,2,  34.7273,2,    166.7,2,   166.4,2,  117.18,2,   33.56,2,    0.00,2,    2.35,2,  -0.001,2,  -0.001,2,-999.000,9,  2288.9,2,  2392.0,2,-999.0000,9,   1.9110,2,   14.57,2, -999.00,9,  -999.0,9,  -999.0,   8.185,2,   0.014,-999.000,9,   0.0050,   1.7449,-999.0000,    0.15
  316N145_8,        I03,     484,          1,          5,          5,2,19950508,       0155,   -20.0008,    88.5155,       3148,  2625.9,   1.8446,  34.7272,2,  34.7271,2,    168.6,2,   168.8,2,  118.93,2,   33.43,2,    0.00,2,    2.34,2,-999.000,9,-999.000,9,-999.000,9,  2289.2,2,  2398.0,2,-999.0000,9,   1.9170,2,   13.98,2, -999.00,9,  -999.0,9,  -999.0,   8.218,2,   0.021,-999.000,9,   0.0030,   1.6554,-999.0000,    0.15
  316N145_8,        I03,     484,          1,          4,          4,2,19950508,       0155,   -20.0008,    88.5155,       3148,  2727.3,   1.8050,  34.7272,2,  34.7273,2,    171.0,2,   170.5,2,  118.69,2,   33.29,2,    0.00,2,    2.34,2,   0.000,2,   0.002,2,-999.000,9,  2286.2,2,  2395.0,2,-999.0000,9,   1.9290,2,   13.88,2, -999.00,9,  -999.0,9,  -999.0,   8.262,2,   0.014,-999.000,9,   0.0050,   1.6073,-999.0000,    0.15
  316N145_8,        I03,     484,          1,          3,          3,2,19950508,       0155,   -20.0008,    88.5155,       3148,  2828.9,   1.7207,  34.7265,2,  34.7265,2,    174.3,2,   174.0,2,  119.11,2,   33.15,2,    0.00,2,    2.34,2,-999.000,9,-999.000,9,-999.000,9,  2284.5,6,  2394.5,6,-999.0000,9,   1.9170,2,   13.56,2, -999.00,9,  -999.0,9,  -999.0,   8.207,2,   0.021,-999.000,9,   0.0020,   1.5151,-999.0000,    0.15
  316N145_8,        I03,     484,          1,          2,          2,2,19950508,       0155,   -20.0008,    88.5155,       3148,  2980.5,   1.5546,  34.7249,2,  34.7247,2,    178.1,2,   179.0,2,  120.86,2,   33.01,2,    0.00,2,    2.34,2,  -0.001,2,   0.001,2,-999.000,9,  2284.8,2,  2397.0,2,-999.0000,9,   1.8990,2,   12.85,2, -999.00,9,  -999.0,9,  -999.0,   8.099,2,   0.015,-999.000,9,   0.0050,   1.3382,-999.0000,    0.15
  316N145_8,        I03,     484,          1,          1,          1,2,19950508,       0155,   -20.0008,    88.5155,       3148,  3194.8,   1.4696,  34.7236,2,  34.7235,2,    182.3,2,   182.0,2,  120.83,2,   32.77,2,    0.00,2,    2.31,2,   0.000,2,  -0.003,2,-999.000,9,  2286.2,2,  2393.0,2,-999.0000,9,   1.9010,2,   12.41,2, -999.00,9,  -999.0,9,  -999.0,   8.171,2,   0.021,-999.000,9,   0.0070,   1.2345,-999.0000,    0.15