BOTTLE,20140514CCHSIOSE
EXPOCODE,SECT_ID,STNNBR,CASTNO,SAMPNO,BTLNBR,BTLNBR_FLAG_W,DATE,TIME,LATITUDE,LONGITUDE,DEPTH,CTDPRS,CTDTMP,CTDSAL,CTDSAL_FLAG_W,SALNTY,SALNTY_FLAG_W,CTDOXY,CTDOXY_FLAG_W,OXYGEN,OXYGEN_FLAG_W,SILCAT,SILCAT_FLAG_W,NITRAT,NITRAT_FLAG_W,NITRIT,NITRIT_FLAG_W,PHSPHT,PHSPHT_FLAG_W,CFC-11,CFC-11_FLAG_W,CFC-12,CFC-12_FLAG_W,CFC113,CFC113_FLAG_W,TCARBN,TCARBN_FLAG_W,ALKALI,ALKALI_FLAG_W,TRITUM,TRITUM_FLAG_W,HELIUM,HELIUM_FLAG_W,DELHE3,DELHE3_FLAG_W,DELC13,DELC13_FLAG_W,DELC14,DELC14_FLAG_W,C14ERR,NEON,NEON_FLAG_W,NEONER,CCL4,CCL4_FLAG_W,HELIER,THETA,TRITER,DELHER
,,,,,,,,,,,METERS,DBAR,ITS-90,PSS-78,,PSS-78,,UMOL/KG,,UMOL/KG,,UMOL/KG,,UMOL/KG,,UMOL/KG,,UMOL/KG,,PMOL/KG,,PMOL/KG,,PMOL/KG,,UMOL/KG,,UMOL/KG,,TU,,NMOL/KG,,PERCNT,,/MILLE,,/MILLE,,/MILLE,NMOL/KG,,NMOL/KG,PMOL/KG,,NMOL/KG,DEG C,TU,PERCNT
  316N145_8,        I03,     558,          1,         31,         31,2,19950601,       0900,   -19.9992,    49.6335,       3642,     4.5,  26.3455,  35.0757,2,  35.0770,2,    204.1,3,   205.5,2,    2.47,2,    0.14,2,    0.00,2,    0.14,2,   1.807,2,   1.033,2,-999.000,9,  -999.0,9,  -999.0,9,-999.0000,9,-999.0000,9, -999.00,9, -999.00,9,  -999.0,9,  -999.0,-999.000,9,-999.000,-999.000,9,-999.0000,  26.3445,-999.0000,-999.000
  316N145_8,        I03,     558,          1,         30,         30,2,19950601,       0900,   -19.9992,    49.6335,       3642,    54.5,  26.1944,  35.0818,2,  35.0796,2,    208.7,3,   205.6,2,    2.26,2,    0.13,2,    0.00,2,    0.13,2,   1.805,2,   1.019,2,-999.000,9,  -999.0,9,  -999.0,9,-999.0000,9,-999.0000,9, -999.00,9, -999.00,9,  -999.0,9,  -999.0,-999.000,9,-999.000,-999.000,9,-999.0000,  26.1821,-999.0000,-999.000
  316N145_8,        I03,     558,          1,         29,         29,2,19950601,       0900,   -19.9992,    49.6335,       3642,   105.0,  23.6297,  35.2412,2,  35.2396,2,    208.2,2,   209.5,2,    2.46,2,    0.12,2,    0.01,2,    0.16,2,   2.096,2,   1.176,2,-999.000,9,  -999.0,9,  -999.0,9,-999.0000,9,-999.0000,9, -999.00,9, -999.00,9,  -999.0,9,  -999.0,-999.000,9,-999.000,-999.000,9,-999.0000,  23.6078,-999.0000,-999.000
  316N145_8,        I03,     558,          1,         28,         28,2,19950601,       0900,   -19.9992,    49.6335,       3642,   153.3,  21.8128,  35.3482,2,  35.3470,2,    185.5,2,   185.2,2,    3.50,2,    2.28,2,    0.02,2,    0.32,2,   2.095,2,   1.160,2,-999.000,9,  -999.0,9,  -999.0,9,-999.0000,9,-999.0000,9, -999.00,9, -999.00,9,  -999.0,9,  -999.0,-999.000,9,-999.000,-999.000,9,-999.0000,  21.7826,-999.0000,-999.000
  316N145_8,        I03,     558,          1,         27,         27,2,19950601,       0900,   -19.9992,    49.6335,       3642,   204.2,  19.9256,  35.4525,2,  35.4535,2,    177.4,2,   172.1,2,    5.59,2,    5.38,2,    0.01,2,    0.49,2,   2.078,2,   1.134,2,-999.000,9,  -999.0,9,  -999.0,9,-999.0000,9,-999.0000,9, -999.00,9, -999.00,9,  -999.0,9,  -999.0,-999.000,9,-999.000,-999.000,9,-999.0000,  19.8878,-999.0000,-999.000
  316N145_8,        I03,     558,          1,         26,         26,2,19950601,       0900,   -19.9992,    49.6335,       3642,   254.4,  17.6957,  35.4068,2,  35.4027,2,    153.6,2,   151.7,2,   10.39,2,   10.01,2,    0.01,2,    0.78,2,   1.894,2,   1.011,2,-999.000,9,  -999.0,9,  -999.0,9,-999.0000,9,-999.0000,9, -999.00,9, -999.00,9,  -999.0,9,  -999.0,-999.000,9,-999.000,-999.000,9,-999.0000,  17.6523,-999.0000,-999.000
  316N145_8,        I03,     558,          1,         25,         25,2,19950601,       0900,   -19.9992,    49.6335,       3642,   305.0,  16.2519,  35.3886,2,  35.3871,2,    161.0,2,   159.7,2,   10.81,2,   10.64,2,    0.01,2,    0.84,2,   1.929,2,   1.014,2,-999.000,9,  -999.0,9,  -999.0,9,-999.0000,9,-999.0000,9, -999.00,9, -999.00,9,  -999.0,9,  -999.0,-999.000,9,-999.000,-999.000,9,-999.0000,  16.2028,-999.0000,-999.000
  316N145_8,        I03,     558,          1,         24,         24,2,19950601,       0900,   -19.9992,    49.6335,       3642,   354.1,  14.8019,  35.3246,2,  35.3236,2,    173.5,2,   172.0,2,   10.60,2,   11.13,2,    0.01,2,    0.87,2,   2.030,2,   1.056,2,-999.000,9,  -999.0,9,  -999.0,9,-999.0000,9,-999.0000,9, -999.00,9, -999.00,9,  -999.0,9,  -999.0,-999.000,9,-999.000,-999.000,9,-999.0000,  14.7484,-999.0000,-999.000
  316N145_8,        I03,     558,          1,         23,         23,2,19950601,       0900,   -19.9992,    49.6335,       3642,   403.6,  13.3047,  35.2003,2,  35.1980,2,    183.1,2,   186.3,2,    9.97,2,   12.19,2,    0.00,2,    0.94,2,   2.140,2,   1.094,2,-999.000,9,  -999.0,9,  -999.0,9,-999.0000,9,-999.0000,9, -999.00,9, -999.00,9,  -999.0,9,  -999.0,-999.000,9,-999.000,-999.000,9,-999.0000,  13.2478,-999.0000,-999.000
  316N145_8,        I03,     558,          1,         22,         22,2,19950601,       0900,   -19.9992,    49.6335,       3642,   453.9,  10.8051,  34.9107,2,  34.9134,2,    199.7,2,   201.0,2,   10.39,2,   15.73,2,    0.00,2,    1.14,2,   2.035,2,   1.023,2,-999.000,9,  -999.0,9,  -999.0,9,-999.0000,9,-999.0000,9, -999.00,9, -999.00,9,  -999.0,9,  -999.0,-999.000,9,-999.000,-999.000,9,-999.0000,  10.7491,-999.0000,-999.000
  316N145_8,        I03,     558,          1,         21,         21,2,19950601,       0900,   -19.9992,    49.6335,       3642,   503.3,   9.3897,  34.7402,2,  34.7404,2,    203.4,2,   204.7,2,   11.85,2,   18.73,2,    0.00,2,    1.33,2,   1.690,2,   0.837,2,-999.000,9,  -999.0,9,  -999.0,9,-999.0000,9,-999.0000,9, -999.00,9, -999.00,9,  -999.0,9,  -999.0,-999.000,9,-999.000,-999.000,9,-999.0000,   9.3328,-999.0000,-999.000
  316N145_8,        I03,     558,          1,         20,         20,2,19950601,       0900,   -19.9992,    49.6335,       3642,   605.7,   7.7700,  34.6197,2,  34.6190,2,    178.6,2,   178.0,2,   25.68,2,   24.95,2,    0.00,2,    1.76,2,   0.798,2,   0.408,2,-999.000,9,  -999.0,9,  -999.0,9,-999.0000,9,-999.0000,9, -999.00,9, -999.00,9,  -999.0,9,  -999.0,-999.000,9,-999.000,-999.000,9,-999.0000,   7.7084,-999.0000,-999.000
  316N145_8,        I03,     558,          1,         19,         19,2,19950601,       0900,   -19.9992,    49.6335,       3642,   705.1,   6.5357,  34.5781,2,  34.5782,2,    160.8,2,   158.1,2,   40.97,2,   29.15,2,    0.00,2,    2.07,2,   0.344,2,   0.176,2,-999.000,9,  -999.0,9,  -999.0,9,-999.0000,9,-999.0000,9, -999.00,9, -999.00,9,  -999.0,9,  -999.0,-999.000,9,-999.000,-999.000,9,-999.0000,   6.4702,-999.0000,-999.000
  316N145_8,        I03,     558,          1,         18,         18,2,19950601,       0900,   -19.9992,    49.6335,       3642,   806.8,   5.7616,  34.5677,2,  34.5709,2,    146.6,2,   146.6,2,   52.10,2,   31.46,2,    0.00,2,    2.25,2,   0.180,2,   0.088,2,-999.000,9,  -999.0,9,  -999.0,9,-999.0000,9,-999.0000,9, -999.00,9, -999.00,9,  -999.0,9,  -999.0,-999.000,9,-999.000,-999.000,9,-999.0000,   5.6907,-999.0000,-999.000
  316N145_8,        I03,     558,          1,         17,         17,2,19950601,       0900,   -19.9992,    49.6335,       3642,   906.6,   4.9194,  34.5843,2,  34.5850,2,    145.4,2,   138.2,2,   65.97,2,   33.48,2,    0.00,2,    2.39,2,   0.070,2,   0.032,2,-999.000,9,  -999.0,9,  -999.0,9,-999.0000,9,-999.0000,9, -999.00,9, -999.00,9,  -999.0,9,  -999.0,-999.000,9,-999.000,-999.000,9,-999.0000,   4.8449,-999.0000,-999.000
  316N145_8,        I03,     558,          1,         16,         16,2,19950601,       0900,   -19.9992,    49.6335,       3642,  1008.0,   4.3770,  34.5856,2,  34.5838,2,    136.0,2,   141.2,2,   71.67,2,   33.98,2,    0.00,2,    2.43,2,   0.045,2,   0.024,2,-999.000,9,  -999.0,9,  -999.0,9,-999.0000,9,-999.0000,9, -999.00,9, -999.00,9,  -999.0,9,  -999.0,-999.000,9,-999.000,-999.000,9,-999.0000,   4.2976,-999.0000,-999.000
  316N145_8,        I03,     558,          1,         15,         15,2,19950601,       0900,   -19.9992,    49.6335,       3642,  1108.8,   3.9324,  34.6008,2,  34.6009,2,    141.5,2,   143.5,2,   77.16,2,   34.19,2,    0.00,2,    2.46,2,   0.026,2,   0.014,2,-999.000,9,  -999.0,9,  -999.0,9,-999.0000,9,-999.0000,9, -999.00,9, -999.00,9,  -999.0,9,  -999.0,-999.000,9,-999.000,-999.000,9,-999.0000,   3.8480,-999.0000,-999.000
  316N145_8,        I03,     558,          1,         14,         14,2,19950601,       0900,   -19.9992,    49.6335,       3642,  1210.1,   3.5398,  34.6140,2,  34.6134,2,    147.6,2,   149.7,2,   79.92,2,   33.95,2,    0.00,2,    2.43,2,   0.016,2,   0.008,2,-999.000,9,  -999.0,9,  -999.0,9,-999.0000,9,-999.0000,9, -999.00,9, -999.00,9,  -999.0,9,  -999.0,-999.000,9,-999.000,-999.000,9,-999.0000,   3.4504,-999.0000,-999.000
  316N145_8,        I03,     558,          1,         13,         13,2,19950601,       0900,   -19.9992,    49.6335,       3642,  1361.2,   3.2086,  34.6408,2,  34.6409,2,    152.6,2,   154.3,2,   84.59,2,   33.71,2,    0.00,2,    2.42,2,   0.009,2,   0.006,2,-999.000,9,  -999.0,9,  -999.0,9,-999.0000,9,-999.0000,9, -999.00,9, -999.00,9,  -999.0,9,  -999.0,-999.000,9,-999.000,-999.000,9,-999.0000,   3.1098,-999.0000,-999.000
  316N145_8,        I03,     558,          1,         12,         12,2,19950601,       0900,   -19.9992,    49.6335,       3642,  1512.1,   2.9081,  34.6622,2,  34.6620,2,    157.2,2,   161.8,2,   87.57,2,   33.27,2,    0.00,2,    2.38,2,   0.008,2,   0.005,2,-999.000,9,  -999.0,9,  -999.0,9,-999.0000,9,-999.0000,9, -999.00,9, -999.00,9,  -999.0,9,  -999.0,-999.000,9,-999.000,-999.000,9,-999.0000,   2.8001,-999.0000,-999.000
  316N145_8,        I03,     558,          1,         11,         11,2,19950601,       0900,   -19.9992,    49.6335,       3642,  1715.4,   2.6676,  34.6988,2,  34.6987,2,    160.5,2,   159.9,2,   97.60,2,   33.37,2,    0.00,2,    2.37,2,-999.000,9,-999.000,9,-999.000,9,  -999.0,9,  -999.0,9,-999.0000,9,-999.0000,9, -999.00,9, -999.00,9,  -999.0,9,  -999.0,-999.000,9,-999.000,-999.000,9,-999.0000,   2.5455,-999.0000,-999.000
  316N145_8,        I03,     558,          1,         10,         10,2,19950601,       0900,   -19.9992,    49.6335,       3642,  1917.8,   2.4681,  34.7197,2,  34.7199,2,    159.0,2,   159.5,2,  105.98,2,   33.47,2,    0.00,2,    2.39,2,  -0.001,2,  -0.001,2,-999.000,9,  -999.0,9,  -999.0,9,-999.0000,9,-999.0000,9, -999.00,9, -999.00,9,  -999.0,9,  -999.0,-999.000,9,-999.000,-999.000,9,-999.0000,   2.3314,-999.0000,-999.000
  316N145_8,        I03,     558,          1,          9,          9,2,19950601,       0900,   -19.9992,    49.6335,       3642,  2119.4,   2.3102,  34.7323,2,  34.7315,2,    159.4,2,   158.5,2,  113.35,2,   33.78,2,    0.00,2,    2.41,2,-999.000,9,-999.000,9,-999.000,9,  -999.0,9,  -999.0,9,-999.0000,9,-999.0000,9, -999.00,9, -999.00,9,  -999.0,9,  -999.0,-999.000,9,-999.000,-999.000,9,-999.0000,   2.1583,-999.0000,-999.000
  316N145_8,        I03,     558,          1,          8,          8,2,19950601,       0900,   -19.9992,    49.6335,       3642,  2322.8,   2.1984,  34.7378,2,  34.7369,2,    158.1,2,   158.0,2,  117.72,2,   33.98,2,    0.00,2,    2.42,2,-999.000,9,-999.000,9,-999.000,9,  -999.0,9,  -999.0,9,-999.0000,9,-999.0000,9, -999.00,9, -999.00,9,  -999.0,9,  -999.0,-999.000,9,-999.000,-999.000,9,-999.0000,   2.0303,-999.0000,-999.000
  316N145_8,        I03,     558,          1,          7,          7,2,19950601,       0900,   -19.9992,    49.6335,       3642,  2524.7,   2.0992,  34.7390,2,  34.7407,2,    158.3,2,   157.5,2,  121.90,2,   34.08,2,    0.00,2,    2.43,2,-999.000,9,-999.000,9,-999.000,9,  -999.0,9,  -999.0,9,-999.0000,9,-999.0000,9, -999.00,9, -999.00,9,  -999.0,9,  -999.0,-999.000,9,-999.000,-999.000,9,-999.0000,   1.9144,-999.0000,-999.000
  316N145_8,        I03,     558,          1,          6,          6,2,19950601,       0900,   -19.9992,    49.6335,       3642,  2728.0,   1.9707,  34.7372,2,  34.7371,2,    160.2,2,   161.8,2,  123.45,2,   34.04,2,    0.00,2,    2.42,2,   0.000,2,   0.000,2,-999.000,9,  -999.0,9,  -999.0,9,-999.0000,9,-999.0000,9, -999.00,9, -999.00,9,  -999.0,9,  -999.0,-999.000,9,-999.000,-999.000,9,-999.0000,   1.7694,-999.0000,-999.000
  316N145_8,        I03,     558,          1,          5,          5,2,19950601,       0900,   -19.9992,    49.6335,       3642,  2930.6,   1.8550,  34.7378,2,  34.7371,2,    163.1,2,   162.8,2,  127.22,2,   34.10,2,    0.00,2,    2.43,2,-999.000,9,-999.000,9,-999.000,9,  -999.0,9,  -999.0,9,-999.0000,9,-999.0000,9, -999.00,9, -999.00,9,  -999.0,9,  -999.0,-999.000,9,-999.000,-999.000,9,-999.0000,   1.6368,-999.0000,-999.000
  316N145_8,        I03,     558,          1,          4,          4,2,19950601,       0900,   -19.9992,    49.6335,       3642,  3134.0,   1.7529,  34.7344,2,  34.7345,2,    165.7,2,   166.3,2,  128.35,2,   33.95,2,    0.00,2,    2.42,2,-999.000,9,-999.000,9,-999.000,9,  -999.0,9,  -999.0,9,-999.0000,9,-999.0000,9, -999.00,9, -999.00,9,  -999.0,9,  -999.0,-999.000,9,-999.000,-999.000,9,-999.0000,   1.5171,-999.0000,-999.000
  316N145_8,        I03,     558,          1,          3,          3,2,19950601,       0900,   -19.9992,    49.6335,       3642,  3337.4,   1.6940,  34.7326,2,  34.7322,2,    169.1,2,   168.9,2,  128.82,2,   33.76,2,    0.00,2,    2.39,2,-999.000,9,-999.000,9,-999.000,9,  -999.0,9,  -999.0,9,-999.0000,9,-999.0000,9, -999.00,9, -999.00,9,  -999.0,9,  -999.0,-999.000,9,-999.000,-999.000,9,-999.0000,   1.4393,-999.0000,-999.000
  316N145_8,        I03,     558,          1,          2,          2,2,19950601,       0900,   -19.9992,    49.6335,       3642,  3540.1,   1.5568,  34.7282,2,  34.7276,2,    175.4,2,   175.9,2,  128.39,2,   33.57,2,    0.00,2,    2.37,2,   0.002,2,   0.001,2,-999.000,9,  -999.0,9,  -999.0,9,  -0.0006,2,-999.0000,9, -999.00,9, -999.00,9,  -999.0,9,  -999.0,-999.000,9,-999.000,-999.000,9,-999.0000,   1.2848,   0.0023,-999.000
  316N145_8,        I03,     558,          1,          1,          1,2,19950601,       0900,   -19.9992,    49.6335,       3642,  3684.2,   1.1755,  34.7172,2,  34.7159,2,    194.3,2,   194.9,2,  124.21,2,   32.53,2,    0.00,2,    2.29,2,   0.001,2,   0.001,2,-999.000,9,  -999.0,9,  -999.0,9,  -0.0010,2,-999.0000,9, -999.00,9, -999.00,9,  -999.0,9,  -999.0,-999.000,9,-999.000,-999.000,9,-999.0000,   0.8986,   0.0022,-999.000