BOTTLE,20140514CCHSIOSE
EXPOCODE,SECT_ID,STNNBR,CASTNO,SAMPNO,BTLNBR,BTLNBR_FLAG_W,DATE,TIME,LATITUDE,LONGITUDE,DEPTH,CTDPRS,CTDTMP,CTDSAL,CTDSAL_FLAG_W,SALNTY,SALNTY_FLAG_W,CTDOXY,CTDOXY_FLAG_W,OXYGEN,OXYGEN_FLAG_W,SILCAT,SILCAT_FLAG_W,NITRAT,NITRAT_FLAG_W,NITRIT,NITRIT_FLAG_W,PHSPHT,PHSPHT_FLAG_W,CFC-11,CFC-11_FLAG_W,CFC-12,CFC-12_FLAG_W,CFC113,CFC113_FLAG_W,TCARBN,TCARBN_FLAG_W,ALKALI,ALKALI_FLAG_W,TRITUM,TRITUM_FLAG_W,HELIUM,HELIUM_FLAG_W,DELHE3,DELHE3_FLAG_W,DELC13,DELC13_FLAG_W,DELC14,DELC14_FLAG_W,C14ERR,NEON,NEON_FLAG_W,NEONER,CCL4,CCL4_FLAG_W,HELIER,THETA,TRITER,DELHER
,,,,,,,,,,,METERS,DBAR,ITS-90,PSS-78,,PSS-78,,UMOL/KG,,UMOL/KG,,UMOL/KG,,UMOL/KG,,UMOL/KG,,UMOL/KG,,PMOL/KG,,PMOL/KG,,PMOL/KG,,UMOL/KG,,UMOL/KG,,TU,,NMOL/KG,,PERCNT,,/MILLE,,/MILLE,,/MILLE,NMOL/KG,,NMOL/KG,PMOL/KG,,NMOL/KG,DEG C,TU,PERCNT
  316N145_8,        I03,     486,          1,         24,         24,2,19950508,       1232,   -19.9998,    87.7483,       1803,     7.5,  25.3379,  35.3711,2,  35.3711,2,    205.5,2,   206.8,2,    3.10,2,    0.20,2,    0.00,2,    0.09,2,   1.885,2,   1.068,2,   0.043,3,  1963.5,6,  2314.2,6,-999.0000,9,-999.0000,9, -999.00,9, -999.00,9,  -999.0,9,  -999.0,-999.000,9,-999.000,   2.325,2,-999.0000,  25.3362,-999.0000,-999.000
  316N145_8,        I03,     486,          1,         23,         23,2,19950508,       1232,   -19.9998,    87.7483,       1803,    54.0,  25.2018,  35.3902,2,  35.3947,2,    208.2,2,   207.6,2,    3.08,2,    0.20,2,    0.00,2,    0.09,2,-999.000,9,-999.000,9,   0.077,3,  -999.0,9,  -999.0,9,-999.0000,9,-999.0000,9, -999.00,9, -999.00,9,  -999.0,9,  -999.0,-999.000,9,-999.000,   2.289,2,-999.0000,  25.1900,-999.0000,-999.000
  316N145_8,        I03,     486,          1,         22,         22,2,19950508,       1232,   -19.9998,    87.7483,       1803,   104.7,  21.1124,  35.6751,2,  35.7032,2,    228.3,2,   220.1,2,    3.28,2,    0.20,2,    0.00,2,    0.12,2,-999.000,9,-999.000,9,   0.131,3,  -999.0,9,  -999.0,9,-999.0000,9,-999.0000,9, -999.00,9, -999.00,9,  -999.0,9,  -999.0,-999.000,9,-999.000,   1.531,2,-999.0000,  21.0922,-999.0000,-999.000
  316N145_8,        I03,     486,          1,         21,         21,2,19950508,       1232,   -19.9998,    87.7483,       1803,   154.6,  19.9466,  35.8153,2,  35.8148,2,    208.8,2,   209.0,2,    3.27,2,    0.31,2,    0.13,2,    0.18,2,-999.000,9,-999.000,9,   0.151,3,  -999.0,9,  -999.0,9,-999.0000,9,-999.0000,9, -999.00,9, -999.00,9,  -999.0,9,  -999.0,-999.000,9,-999.000,   1.356,2,-999.0000,  19.9179,-999.0000,-999.000
  316N145_8,        I03,     486,          1,         20,         20,2,19950508,       1232,   -19.9998,    87.7483,       1803,   203.6,  18.0919,  35.8338,2,  35.8323,2,    210.3,2,   207.8,2,    3.25,2,    1.62,2,    0.01,2,    0.26,2,   2.462,2,   1.319,2,   0.111,3,  -999.0,9,  -999.0,9,-999.0000,9,-999.0000,9, -999.00,9, -999.00,9,  -999.0,9,  -999.0,-999.000,9,-999.000,   0.954,2,-999.0000,  18.0566,-999.0000,-999.000
  316N145_8,        I03,     486,          1,         19,         19,2,19950508,       1232,   -19.9998,    87.7483,       1803,   254.1,  16.3154,  35.6924,2,  35.6890,2,    212.2,2,   212.6,2,    3.02,2,    2.77,2,    0.01,2,    0.36,2,-999.000,9,-999.000,9,-999.000,9,  -999.0,9,  -999.0,9,-999.0000,9,-999.0000,9, -999.00,9, -999.00,9,  -999.0,9,  -999.0,-999.000,9,-999.000,-999.000,9,-999.0000,  16.2744,-999.0000,-999.000
  316N145_8,        I03,     486,          1,         18,         18,2,19950508,       1232,   -19.9998,    87.7483,       1803,   305.9,  14.5192,  35.4643,2,  35.4632,2,    216.8,2,   219.1,2,    3.01,2,    5.05,2,    0.00,2,    0.50,2,   2.794,2,   1.442,2,   0.048,3,  -999.0,9,  -999.0,9,-999.0000,9,-999.0000,9, -999.00,9, -999.00,9,  -999.0,9,  -999.0,-999.000,9,-999.000,   0.733,2,-999.0000,  14.4736,-999.0000,-999.000
  316N145_8,        I03,     486,          1,         17,         17,2,19950508,       1232,   -19.9998,    87.7483,       1803,   355.9,  12.9766,  35.2472,2,  35.2452,2,    222.5,2,   227.1,2,    3.42,2,    7.73,2,    0.00,2,    0.66,2,   2.940,2,   1.509,2,-999.000,9,  -999.0,9,  -999.0,9,-999.0000,9,-999.0000,9, -999.00,9, -999.00,9,  -999.0,9,  -999.0,-999.000,9,-999.000,-999.000,9,-999.0000,  12.9273,-999.0000,-999.000
  316N145_8,        I03,     486,          1,         16,         16,2,19950508,       1232,   -19.9998,    87.7483,       1803,   406.0,  12.1779,  35.1245,2,  35.1236,2,    230.7,2,   231.7,2,    3.84,2,    9.32,2,    0.00,2,    0.74,2,   3.008,2,   1.529,2,  -0.185,3,  -999.0,9,  -999.0,9,-999.0000,9,-999.0000,9, -999.00,9, -999.00,9,  -999.0,9,  -999.0,-999.000,9,-999.000,   1.066,2,-999.0000,  12.1239,-999.0000,-999.000
  316N145_8,        I03,     486,          1,         15,         15,2,19950508,       1232,   -19.9998,    87.7483,       1803,   456.3,  11.5491,  35.0282,2,  35.0259,2,    234.2,2,   234.6,2,    4.04,2,   10.57,2,    0.00,2,    0.82,2,-999.000,9,-999.000,9,-999.000,9,  -999.0,9,  -999.0,9,-999.0000,9,-999.0000,9, -999.00,9, -999.00,9,  -999.0,9,  -999.0,-999.000,9,-999.000,-999.000,9,-999.0000,  11.4904,-999.0000,-999.000
  316N145_8,        I03,     486,          1,         14,         14,2,19950508,       1232,   -19.9998,    87.7483,       1803,   506.5,  10.6999,  34.8970,2,  34.9012,2,    235.1,2,   235.7,2,    4.45,2,   12.41,2,    0.00,2,    0.93,2,-999.000,9,-999.000,9,   0.068,3,  -999.0,9,  -999.0,9,-999.0000,9,-999.0000,9, -999.00,9, -999.00,9,  -999.0,9,  -999.0,-999.000,9,-999.000,   1.428,2,-999.0000,  10.6377,-999.0000,-999.000
  316N145_8,        I03,     486,          1,         13,         13,2,19950508,       1232,   -19.9998,    87.7483,       1803,   607.0,   9.1312,  34.6753,2,  34.6705,2,    227.8,2,   225.6,2,    7.79,2,   17.65,2,    0.00,2,    1.26,2,-999.000,9,-999.000,9,   0.064,3,  -999.0,9,  -999.0,9,-999.0000,9,-999.0000,9, -999.00,9, -999.00,9,  -999.0,9,  -999.0,-999.000,9,-999.000,   1.450,2,-999.0000,   9.0634,-999.0000,-999.000
  316N145_8,        I03,     486,          1,         12,         12,2,19950508,       1232,   -19.9998,    87.7483,       1803,   707.5,   7.4790,  34.5486,2,  34.5511,2,    194.0,2,   188.4,2,   21.09,2,   24.79,2,    0.00,2,    1.72,2,   0.815,2,   0.423,2,   0.008,3,  -999.0,9,  -999.0,9,-999.0000,9,-999.0000,9, -999.00,9, -999.00,9,  -999.0,9,  -999.0,-999.000,9,-999.000,   0.873,2,-999.0000,   7.4082,-999.0000,-999.000
  316N145_8,        I03,     486,          1,         11,         11,2,19950508,       1232,   -19.9998,    87.7483,       1803,   806.8,   6.2281,  34.5350,2,  34.5356,2,    157.0,2,   149.7,2,   44.06,2,   30.67,2,    0.00,2,    2.15,2,   0.186,2,   0.104,2,   0.044,3,  -999.0,9,  -999.0,9,-999.0000,9,-999.0000,9, -999.00,9, -999.00,9,  -999.0,9,  -999.0,-999.000,9,-999.000,   0.455,2,-999.0000,   6.1545,-999.0000,-999.000
  316N145_8,        I03,     486,          1,         10,         10,2,19950508,       1232,   -19.9998,    87.7483,       1803,   907.0,   5.7286,  34.5973,2,  34.5350,4,    118.9,2,   115.8,2,   65.78,2,   34.11,2,    0.00,2,    2.42,2,   0.032,2,   0.019,2,-999.000,9,  -999.0,9,  -999.0,9,-999.0000,9,-999.0000,9, -999.00,9, -999.00,9,  -999.0,9,  -999.0,-999.000,9,-999.000,-999.000,9,-999.0000,   5.6485,-999.0000,-999.000
  316N145_8,        I03,     486,          1,          9,          9,2,19950508,       1232,   -19.9998,    87.7483,       1803,  1008.2,   5.0244,  34.5922,2,  34.5932,2,    118.6,2,   118.6,2,   74.04,2,   34.93,2,    0.00,2,    2.50,2,   0.017,2,   0.010,2,-999.000,9,  -999.0,9,  -999.0,9,-999.0000,9,   1.8490,2,    9.86,2, -999.00,9,  -999.0,9,  -999.0,   7.830,2,   0.028,-999.000,9,   0.0020,   4.9401,-999.0000,    0.12
  316N145_8,        I03,     486,          1,          8,          8,2,19950508,       1232,   -19.9998,    87.7483,       1803,  1110.8,   4.6207,  34.6264,2,  34.6260,2,    112.4,2,   113.3,2,   84.35,2,   35.53,2,    0.00,2,    2.55,2,   0.004,2,   0.003,2,   0.030,3,  -999.0,9,  -999.0,9,-999.0000,9,   1.8660,2,   11.55,2, -999.00,9,  -999.0,9,  -999.0,   7.908,2,   0.016,   0.041,2,   0.0030,   4.5302,-999.0000,    0.16
  316N145_8,        I03,     486,          1,          7,          7,2,19950508,       1232,   -19.9998,    87.7483,       1803,  1211.3,   4.3165,  34.6451,2,  34.6476,2,    115.0,2,   115.5,2,   89.34,2,   35.64,2,    0.00,2,    2.56,2,-999.000,9,-999.000,9,-999.000,9,  -999.0,9,  -999.0,9,-999.0000,9,   1.8730,2,   11.90,2, -999.00,9,  -999.0,9,  -999.0,   7.933,2,   0.016,-999.000,9,   0.0030,   4.2198,-999.0000,    0.16
  316N145_8,        I03,     486,          1,          6,          6,2,19950508,       1232,   -19.9998,    87.7483,       1803,  1310.8,   4.1033,  34.6618,2,  34.6635,2,    116.9,2,   116.5,2,   92.59,2,   35.60,2,    0.00,2,    2.56,2,-999.000,9,-999.000,9,-999.000,9,  -999.0,9,  -999.0,9,-999.0000,9,   1.8900,2,   11.66,2, -999.00,9,  -999.0,9,  -999.0,   8.052,2,   0.017,-999.000,9,   0.0030,   3.9997,-999.0000,    0.16
  316N145_8,        I03,     486,          1,          5,          5,2,19950508,       1232,   -19.9998,    87.7483,       1803,  1412.4,   3.8517,  34.6772,2,  34.6790,2,    120.3,2,   119.7,2,   96.06,2,   35.56,2,    0.00,2,    2.55,2,   0.003,2,   0.002,2,-999.000,9,  -999.0,9,  -999.0,9,-999.0000,9,   1.8840,2,   12.35,2, -999.00,9,  -999.0,9,  -999.0,   7.966,2,   0.028,-999.000,9,   0.0030,   3.7417,-999.0000,    0.12
  316N145_8,        I03,     486,          1,          4,          4,2,19950508,       1232,   -19.9998,    87.7483,       1803,  1512.8,   3.5520,  34.6901,2,  34.6905,2,    125.5,2,   124.5,2,   99.77,2,   35.36,2,    0.00,2,    2.53,2,-999.000,9,-999.000,9,-999.000,9,  -999.0,9,  -999.0,9,-999.0000,9,   2.0170,3,   11.97,2, -999.00,9,  -999.0,9,  -999.0,   8.394,3,   0.018,-999.000,9,   0.0030,   3.4365,-999.0000,    0.16
  316N145_8,        I03,     486,          1,          3,          3,2,19950508,       1232,   -19.9998,    87.7483,       1803,  1614.3,   3.3124,  34.7007,2,  34.7009,2,    128.9,2,   128.9,2,  103.04,2,   35.16,2,    0.00,2,    2.51,2,-999.000,9,-999.000,9,-999.000,9,  -999.0,9,  -999.0,9,-999.0000,9,   1.8700,2,   13.03,2, -999.00,9,  -999.0,9,  -999.0,   7.945,2,   0.017,-999.000,9,   0.0030,   3.1908,-999.0000,    0.16
  316N145_8,        I03,     486,          1,          2,          2,2,19950508,       1232,   -19.9998,    87.7483,       1803,  1714.6,   2.9814,  34.7082,2,  34.7086,2,    134.9,2,   137.4,2,  105.89,2,   34.87,2,    0.00,2,    2.47,2,-999.000,9,-999.000,9,-999.000,9,  -999.0,9,  -999.0,9,-999.0000,9,-999.0000,9, -999.00,9, -999.00,9,  -999.0,9,  -999.0,-999.000,9,-999.000,-999.000,9,-999.0000,   2.8552,-999.0000,-999.000
  316N145_8,        I03,     486,          1,          1,          1,2,19950508,       1232,   -19.9998,    87.7483,       1803,  1812.0,   2.7919,  34.7145,2,  34.7149,2,    142.6,2,   142.1,2,  108.08,2,   34.62,2,    0.00,2,    2.46,2,   0.001,2,   0.003,2,   0.039,3,  -999.0,9,  -999.0,9,-999.0000,9,-999.0000,9, -999.00,9, -999.00,9,  -999.0,9,  -999.0,-999.000,9,-999.000,   0.003,2,-999.0000,   2.6597,-999.0000,-999.000