BOTTLE,20140514CCHSIOSE
EXPOCODE,SECT_ID,STNNBR,CASTNO,SAMPNO,BTLNBR,BTLNBR_FLAG_W,DATE,TIME,LATITUDE,LONGITUDE,DEPTH,CTDPRS,CTDTMP,CTDSAL,CTDSAL_FLAG_W,SALNTY,SALNTY_FLAG_W,CTDOXY,CTDOXY_FLAG_W,OXYGEN,OXYGEN_FLAG_W,SILCAT,SILCAT_FLAG_W,NITRAT,NITRAT_FLAG_W,NITRIT,NITRIT_FLAG_W,PHSPHT,PHSPHT_FLAG_W,CFC-11,CFC-11_FLAG_W,CFC-12,CFC-12_FLAG_W,CFC113,CFC113_FLAG_W,TCARBN,TCARBN_FLAG_W,ALKALI,ALKALI_FLAG_W,TRITUM,TRITUM_FLAG_W,HELIUM,HELIUM_FLAG_W,DELHE3,DELHE3_FLAG_W,DELC13,DELC13_FLAG_W,DELC14,DELC14_FLAG_W,C14ERR,NEON,NEON_FLAG_W,NEONER,CCL4,CCL4_FLAG_W,HELIER,THETA,TRITER,DELHER
,,,,,,,,,,,METERS,DBAR,ITS-90,PSS-78,,PSS-78,,UMOL/KG,,UMOL/KG,,UMOL/KG,,UMOL/KG,,UMOL/KG,,UMOL/KG,,PMOL/KG,,PMOL/KG,,PMOL/KG,,UMOL/KG,,UMOL/KG,,TU,,NMOL/KG,,PERCNT,,/MILLE,,/MILLE,,/MILLE,NMOL/KG,,NMOL/KG,PMOL/KG,,NMOL/KG,DEG C,TU,PERCNT
  316N145_8,        I03,     464,          1,         36,         36,2,19950501,       0758,   -20.0010,   102.2337,       5995,    13.2,  26.2511,  35.2894,2,  35.2896,2,    203.1,2,   203.4,2,    3.26,2,    0.00,2,    0.00,2,    0.08,2,   1.795,2,   1.036,2,-999.000,9,  1963.6,6,  -999.0,9,   1.2091,2,   1.7012,2,   -0.95,2, -999.00,9,  -999.0,9,  -999.0,   6.704,2,   0.034,-999.000,9,   0.0085,  26.2481,   0.0042,    0.14
  316N145_8,        I03,     464,          1,         35,         35,2,19950501,       0758,   -20.0010,   102.2337,       5995,    58.1,  22.7374,  35.4633,2,  35.4551,2,    224.1,2,   223.5,2,    4.09,2,    0.05,2,    0.00,2,    0.11,2,   2.104,2,   1.174,2,-999.000,9,  -999.0,9,  -999.0,9,   1.1668,2,   1.7285,2,   -0.49,2, -999.00,9,  -999.0,9,  -999.0,   6.960,2,   0.035,-999.000,9,   0.0086,  22.7256,   0.0041,    0.14
  316N145_8,        I03,     464,          1,         34,         34,2,19950501,       0758,   -20.0010,   102.2337,       5995,   107.1,  20.4976,  35.6597,2,  35.6606,2,    191.2,2,   190.1,2,    4.91,2,    1.96,2,    0.26,2,    0.29,2,   2.198,2,   1.209,2,-999.000,9,  -999.0,9,  -999.0,9,   1.1398,2,   1.7311,2,   -0.10,2, -999.00,9,  -999.0,9,  -999.0,   6.977,2,   0.035,-999.000,9,   0.0087,  20.4774,   0.0040,    0.14
  316N145_8,        I03,     464,          1,         33,         33,2,19950501,       0758,   -20.0010,   102.2337,       5995,   159.0,  19.1327,  35.8026,2,  35.8017,2,    190.3,2,   193.7,2,    4.69,2,    2.84,2,    0.02,2,    0.32,2,   2.330,2,   1.273,2,-999.000,9,  -999.0,9,  -999.0,9,   1.1162,2,   1.7303,2,   -0.91,2, -999.00,9,  -999.0,9,  -999.0,   7.009,2,   0.035,-999.000,9,   0.0087,  19.1041,   0.0040,    0.14
  316N145_8,        I03,     464,          1,         32,         32,2,19950501,       0758,   -20.0010,   102.2337,       5995,   207.9,  17.5014,  35.8056,2,  35.8001,2,    202.9,2,   204.5,2,    3.85,2,    2.80,2,    0.01,2,    0.35,2,   2.492,2,   1.345,2,-999.000,9,  -999.0,9,  -999.0,9,   1.0235,2,   1.7294,2,   -0.13,2, -999.00,9,  -999.0,9,  -999.0,   7.074,2,   0.035,-999.000,9,   0.0086,  17.4662,   0.0039,    0.14
  316N145_8,        I03,     464,          1,         31,         31,2,19950501,       0758,   -20.0010,   102.2337,       5995,   258.6,  15.4430,  35.6039,2,  35.6140,2,    208.5,2,   211.7,2,    4.05,2,    4.35,2,    0.00,2,    0.46,2,   2.664,2,   1.383,2,-999.000,9,  -999.0,9,  -999.0,9,   0.9169,2,   1.7428,2,   -0.15,2, -999.00,9,  -999.0,9,  -999.0,   7.194,2,   0.036,-999.000,9,   0.0087,  15.4028,   0.0037,    0.14
  316N145_8,        I03,     464,          1,         30,         30,2,19950501,       0758,   -20.0010,   102.2337,       5995,   310.1,  13.5376,  35.3691,2,  35.3797,2,    222.4,2,   227.9,2,    2.79,2,    5.81,2,    0.00,2,    0.54,2,   3.026,2,   1.570,2,-999.000,9,  -999.0,9,  -999.0,9,   0.8043,2,   1.7572,2,   -0.51,2, -999.00,9,  -999.0,9,  -999.0,   7.309,2,   0.037,-999.000,9,   0.0088,  13.4935,   0.0034,    0.14
  316N145_8,        I03,     464,          1,         29,         29,2,19950501,       0758,   -20.0010,   102.2337,       5995,   359.2,  11.8804,  35.1053,2,  35.1208,2,    232.6,2,   234.8,2,    3.41,2,    8.72,2,    0.00,2,    0.71,2,   3.193,2,   1.636,2,-999.000,9,  -999.0,9,  -999.0,9,-999.0000,9,-999.0000,9, -999.00,9, -999.00,9,  -999.0,9,  -999.0,-999.000,9,-999.000,-999.000,9,-999.0000,  11.8334,-999.0000,-999.000
  316N145_8,        I03,     464,          1,         28,         28,2,19950501,       0758,   -20.0010,   102.2337,       5995,   409.5,  10.7371,  34.9198,2,  34.9229,2,    237.8,2,   237.0,2,    4.23,2,   11.73,2,    0.00,2,    0.89,2,   3.168,2,   1.607,2,-999.000,9,  -999.0,9,  -999.0,9,   0.5906,2,   1.7570,2,   -0.42,2, -999.00,9,  -999.0,9,  -999.0,   7.401,2,   0.037,-999.000,9,   0.0088,  10.6869,   0.0031,    0.14
  316N145_8,        I03,     464,          1,         27,         27,2,19950501,       0758,   -20.0010,   102.2337,       5995,   508.9,   9.3889,  34.7173,2,  34.7091,2,    224.4,2,   224.2,2,    7.55,2,   17.02,2,    0.00,2,    1.20,2,   2.492,2,   1.241,2,-999.000,9,  -999.0,9,  -999.0,9,   0.4388,2,   1.7783,2,    0.92,2, -999.00,9,  -999.0,9,  -999.0,   7.563,2,   0.038,-999.000,9,   0.0089,   9.3314,   0.0028,    0.14
  316N145_8,        I03,     464,          1,         26,         26,2,19950501,       0758,   -20.0010,   102.2337,       5995,   609.6,   7.6144,  34.5533,2,  34.5527,2,    196.0,2,   189.3,2,   21.05,2,   24.56,2,    0.00,2,    1.69,2,   1.024,2,   0.517,2,-999.000,9,  -999.0,9,  -999.0,9,   0.2026,2,   1.8294,2,    2.97,2, -999.00,9,  -999.0,9,  -999.0,   7.789,2,   0.039,-999.000,9,   0.0091,   7.5532,   0.0025,    0.14
  316N145_8,        I03,     464,          1,         25,         25,2,19950501,       0758,   -20.0010,   102.2337,       5995,   709.3,   6.3245,  34.5335,2,  34.5353,2,    149.3,2,   146.9,2,   45.37,2,   30.64,2,    0.00,2,    2.15,2,   0.255,2,   0.134,2,-999.000,9,  -999.0,9,  -999.0,9,   0.0688,2,   1.8379,2,    6.01,2, -999.00,9,  -999.0,9,  -999.0,   7.812,2,   0.039,-999.000,9,   0.0092,   6.2597,   0.0023,    0.14
  316N145_8,        I03,     464,          1,         24,         24,2,19950501,       0758,   -20.0010,   102.2337,       5995,   811.7,   5.6961,  34.5941,2,  34.5931,2,    107.3,2,   110.8,2,   70.14,2,   34.45,2,    0.00,2,    2.46,2,   0.042,2,   0.022,2,-999.000,9,  -999.0,9,  -999.0,9,   0.0197,2,   1.8824,2,    9.58,2, -999.00,9,  -999.0,9,  -999.0,   7.946,2,   0.040,-999.000,9,   0.0094,   5.6252,   0.0022,    0.14
  316N145_8,        I03,     464,          1,         23,         23,2,19950501,       0758,   -20.0010,   102.2337,       5995,   911.7,   5.3046,  34.6196,2,  34.6200,2,     99.0,2,    99.9,2,   83.51,2,   35.69,2,    0.00,2,    2.57,2,   0.013,2,   0.008,2,-999.000,9,  -999.0,9,  -999.0,9,-999.0000,9,-999.0000,9, -999.00,9, -999.00,9,  -999.0,9,  -999.0,-999.000,9,-999.000,-999.000,9,-999.0000,   5.2270,-999.0000,-999.000
  316N145_8,        I03,     464,          1,         22,         22,2,19950501,       0758,   -20.0010,   102.2337,       5995,  1011.9,   4.9867,  34.6428,2,  34.6421,2,    100.1,2,   100.6,2,   87.68,2,   35.90,2,    0.00,2,    2.59,2,   0.009,2,   0.002,2,-999.000,9,  -999.0,9,  -999.0,9,   0.0051,2,   1.8517,2,   12.24,2, -999.00,9,  -999.0,9,  -999.0,   7.855,2,   0.039,-999.000,9,   0.0093,   4.9021,   0.0022,    0.14
  316N145_8,        I03,     464,          1,         21,         21,2,19950501,       0758,   -20.0010,   102.2337,       5995,  1112.7,   4.6081,  34.6439,2,  34.6443,2,    100.7,2,   102.0,2,   93.98,2,   36.15,2,    0.00,2,    2.62,2,   0.001,2,   0.001,2,-999.000,9,  -999.0,9,  -999.0,9,-999.0000,9,-999.0000,9, -999.00,9, -999.00,9,  -999.0,9,  -999.0,-999.000,9,-999.000,-999.000,9,-999.0000,   4.5176,-999.0000,-999.000
  316N145_8,        I03,     464,          1,         20,         20,2,19950501,       0758,   -20.0010,   102.2337,       5995,  1212.3,   4.3275,  34.6564,2,  34.6574,2,    106.8,2,   108.2,2,   95.01,2,   35.90,2,    0.00,2,    2.60,2,   0.005,2,   0.001,2,-999.000,9,  -999.0,9,  -999.0,9,   0.0031,2,   1.8717,2,   12.89,2, -999.00,9,  -999.0,9,  -999.0,   7.923,2,   0.040,-999.000,9,   0.0094,   4.2305,   0.0022,    0.14
  316N145_8,        I03,     464,          1,         19,         19,2,19950501,       0758,   -20.0010,   102.2337,       5995,  1415.0,   3.7478,  34.6673,2,  34.6672,2,    123.1,2,   119.4,2,   98.79,2,   35.66,2,    0.00,2,    2.56,2,-999.000,9,-999.000,9,-999.000,9,  -999.0,9,  -999.0,9,  -0.0007,2,   1.8755,2,   12.75,2, -999.00,9,  -999.0,9,  -999.0,   7.960,2,   0.040,-999.000,9,   0.0094,   3.6387,   0.0022,    0.14
  316N145_8,        I03,     464,          1,         18,         18,2,19950501,       0758,   -20.0010,   102.2337,       5995,  1616.5,   3.1896,  34.6871,2,  34.6874,2,    135.1,2,   133.1,2,  102.36,2,   35.06,2,    0.00,2,    2.52,2,   0.007,2,  -0.001,2,-999.000,9,  -999.0,9,  -999.0,9,   0.0004,2,   1.8829,2,   13.19,2, -999.00,9,  -999.0,9,  -999.0,   8.031,2,   0.040,-999.000,9,   0.0094,   3.0693,   0.0022,    0.14
  316N145_8,        I03,     464,          1,         17,         17,2,19950501,       0758,   -20.0010,   102.2337,       5995,  1819.6,   2.7069,  34.7049,2,  34.7044,2,    143.4,2,   144.5,2,  107.65,2,   34.47,2,    0.00,2,    2.45,2,-999.000,9,-999.000,9,-999.000,9,  -999.0,9,  -999.0,9,-999.0000,9,   1.9340,2,   13.01,2, -999.00,9,  -999.0,9,  -999.0,   8.252,2,   0.029,-999.000,9,   0.0030,   2.5753,-999.0000,    0.12
  316N145_8,        I03,     464,          1,         16,         16,2,19950501,       0758,   -20.0010,   102.2337,       5995,  2023.0,   2.3744,  34.7195,2,  34.7190,2,    152.7,2,   151.1,2,  114.04,2,   34.18,2,    0.00,2,    2.44,2,   0.000,2,   0.002,2,-999.000,9,  -999.0,9,  -999.0,9,-999.0000,9,-999.0000,9, -999.00,9, -999.00,9,  -999.0,9,  -999.0,-999.000,9,-999.000,-999.000,9,-999.0000,   2.2300,-999.0000,-999.000
  316N145_8,        I03,     464,          1,         15,         15,2,19950501,       0758,   -20.0010,   102.2337,       5995,  2275.0,   2.0921,  34.7248,2,  34.7237,2,    159.1,2,   158.3,2,  118.96,2,   33.93,2,    0.00,2,    2.40,2,-999.000,9,-999.000,9,-999.000,9,  -999.0,9,  -999.0,9,-999.0000,9,   1.9150,2,   13.46,2, -999.00,9,  -999.0,9,  -999.0,   8.161,2,   0.013,-999.000,9,   0.0020,   1.9301,-999.0000,    0.18
  316N145_8,        I03,     464,          1,         14,         14,2,19950501,       0758,   -20.0010,   102.2337,       5995,  2530.0,   1.8617,  34.7258,2,  34.7258,2,    164.8,2,   165.6,2,  121.53,2,   33.73,2,    0.00,2,    2.37,2,   0.001,2,   0.002,2,-999.000,9,  -999.0,9,  -999.0,9,-999.0000,9,   1.9250,2,   13.82,2, -999.00,9,  -999.0,9,  -999.0,   8.177,2,   0.014,-999.000,9,   0.0020,   1.6810,-999.0000,    0.18
  316N145_8,        I03,     464,          1,         13,         13,2,19950501,       0758,   -20.0010,   102.2337,       5995,  2784.5,   1.6947,  34.7251,2,  34.7246,2,    170.9,2,   171.6,2,  123.23,2,   33.39,2,    0.00,2,    2.35,2,-999.000,9,-999.000,9,-999.000,9,  -999.0,9,  -999.0,9,-999.0000,9,   1.9090,2,   13.34,2, -999.00,9,  -999.0,9,  -999.0,   8.139,2,   0.013,-999.000,9,   0.0020,   1.4938,-999.0000,    0.18
  316N145_8,        I03,     464,          1,         12,         12,2,19950501,       0758,   -20.0010,   102.2337,       5995,  3038.1,   1.5450,  34.7229,2,  34.7232,2,    176.6,2,   176.8,2,  124.94,2,   33.25,2,    0.00,2,    2.33,2,   0.004,3,   0.006,4,-999.000,9,  -999.0,9,  -999.0,9,-999.0000,9,-999.0000,9, -999.00,9, -999.00,9,  -999.0,9,  -999.0,-999.000,9,-999.000,-999.000,9,-999.0000,   1.3233,-999.0000,-999.000
  316N145_8,        I03,     464,          1,         11,         11,2,19950501,       0758,   -20.0010,   102.2337,       5995,  3292.8,   1.4165,  34.7202,2,  34.7201,2,    181.7,2,   180.7,2,  127.31,2,   33.15,2,    0.00,2,    2.31,2,-999.000,9,-999.000,9,-999.000,9,  -999.0,9,  -999.0,9,-999.0000,9,   1.9010,2,   12.45,2, -999.00,9,  -999.0,9,  -999.0,   8.144,2,   0.013,-999.000,9,   0.0020,   1.1730,-999.0000,    0.18
  316N145_8,        I03,     464,          1,         10,         10,2,19950501,       0758,   -20.0010,   102.2337,       5995,  3549.4,   1.3128,  34.7178,2,  34.7171,2,    183.0,2,   184.4,2,  128.59,2,   33.10,2,    0.00,2,    2.30,2,   0.000,2,   0.001,2,-999.000,9,  -999.0,9,  -999.0,9,-999.0000,9,   1.8870,2,   12.19,2, -999.00,9,  -999.0,9,  -999.0,   8.123,2,   0.013,-999.000,9,   0.0020,   1.0462,-999.0000,    0.18
  316N145_8,        I03,     464,          1,          9,          9,2,19950501,       0758,   -20.0010,   102.2337,       5995,  3802.6,   1.2558,  34.7153,2,  34.7148,2,    186.6,2,   187.3,2,  128.99,2,   33.01,2,    0.00,2,    2.30,2,-999.000,9,-999.000,9,-999.000,9,  -999.0,9,  -999.0,9,-999.0000,9,   1.9150,2,   12.29,2, -999.00,9,  -999.0,9,  -999.0,   8.224,2,   0.029,-999.000,9,   0.0030,   0.9646,-999.0000,    0.12
  316N145_8,        I03,     464,          1,          8,          8,2,19950501,       0758,   -20.0010,   102.2337,       5995,  4057.0,   1.2120,  34.7146,2,  34.7138,2,    189.1,2,   176.2,4,  128.96,2,   32.86,2,    0.00,2,    2.29,2,   0.000,2,  -0.006,2,-999.000,9,  -999.0,9,  -999.0,9,-999.0000,9,   1.9260,2,   11.60,2, -999.00,9,  -999.0,9,  -999.0,   8.280,2,   0.029,-999.000,9,   0.0030,   0.8950,-999.0000,    0.12
  316N145_8,        I03,     464,          1,          7,          7,2,19950501,       0758,   -20.0010,   102.2337,       5995,  4313.8,   1.1838,  34.7136,2,  34.7132,2,    193.0,2,   193.4,2,  128.49,2,   32.67,2,    0.00,2,    2.27,2,-999.000,9,-999.000,9,-999.000,9,  -999.0,9,  -999.0,9,-999.0000,9,   1.8940,2,   11.30,2, -999.00,9,  -999.0,9,  -999.0,   8.085,2,   0.029,-999.000,9,   0.0040,   0.8394,-999.0000,    0.12
  316N145_8,        I03,     464,          1,          6,          6,2,19950501,       0758,   -20.0010,   102.2337,       5995,  4568.6,   1.1818,  34.7131,2,  34.7120,2,    195.0,3,   195.2,2,  128.24,2,   32.62,2,    0.00,2,    2.27,2,   0.003,2,  -0.002,2,-999.000,9,  -999.0,9,  -999.0,9,-999.0000,9,   1.9010,2,   11.41,2, -999.00,9,  -999.0,9,  -999.0,   8.186,2,   0.029,-999.000,9,   0.0030,   0.8087,-999.0000,    0.12
  316N145_8,        I03,     464,          1,          5,          5,2,19950501,       0758,   -20.0010,   102.2337,       5995,  4875.7,   1.1635,  34.7121,2,  34.7116,2,    196.1,3,   198.0,2,  127.56,2,   32.48,2,    0.00,2,    2.25,2,-999.000,9,-999.000,9,-999.000,9,  -999.0,9,  -999.0,9,-999.0000,9,   1.9010,2,   11.01,2, -999.00,9,  -999.0,9,  -999.0,   8.202,2,   0.029,-999.000,9,   0.0030,   0.7553,-999.0000,    0.12
  316N145_8,        I03,     464,          1,          4,          4,2,19950501,       0758,   -20.0010,   102.2337,       5995,  5184.5,   1.1583,  34.7112,2,  34.7108,2,    199.9,3,   200.7,2,  126.43,2,   32.33,2,    0.00,2,    2.24,2,   0.000,2,   0.001,2,-999.000,9,  -999.0,9,  -999.0,9,-999.0000,9,   1.9020,2,   10.46,2, -999.00,9,  -999.0,9,  -999.0,   8.181,2,   0.029,-999.000,9,   0.0030,   0.7131,-999.0000,    0.12
  316N145_8,        I03,     464,          1,          3,          3,2,19950501,       0758,   -20.0010,   102.2337,       5995,  5493.8,   1.1809,  34.7103,2,  34.7104,2,    201.3,2,   201.6,2,  126.18,2,   32.29,2,    0.00,2,    2.23,2,-999.000,9,-999.000,9,-999.000,9,  -999.0,9,  -999.0,9,-999.0000,9,   1.8910,2,   10.62,2, -999.00,9,  -999.0,9,  -999.0,   8.172,2,   0.029,-999.000,9,   0.0020,   0.6966,-999.0000,    0.12
  316N145_8,        I03,     464,          1,          2,          2,2,19950501,       0758,   -20.0010,   102.2337,       5995,  5803.8,   1.2168,  34.7103,2,  34.7102,2,    201.7,2,   201.7,2,  126.15,2,   32.29,2,    0.00,2,    2.24,2,   0.003,2,   0.003,2,-999.000,9,  -999.0,9,  -999.0,9,-999.0000,9,-999.0000,9, -999.00,9, -999.00,9,  -999.0,9,  -999.0,-999.000,9,-999.000,-999.000,9,-999.0000,   0.6916,-999.0000,-999.000
  316N145_8,        I03,     464,          1,          1,          1,2,19950501,       0758,   -20.0010,   102.2337,       5995,  6100.9,   1.2507,  34.7101,2,  34.7100,2,    203.2,2,   202.5,2,  125.90,2,   32.29,2,    0.00,2,    2.23,2,   0.012,3,  -0.001,2,-999.000,9,  -999.0,9,  -999.0,9,-999.0000,9,-999.0000,9, -999.00,9, -999.00,9,  -999.0,9,  -999.0,-999.000,9,-999.000,-999.000,9,-999.0000,   0.6850,-999.0000,-999.000