BOTTLE,20140514CCHSIOSE
EXPOCODE,SECT_ID,STNNBR,CASTNO,SAMPNO,BTLNBR,BTLNBR_FLAG_W,DATE,TIME,LATITUDE,LONGITUDE,DEPTH,CTDPRS,CTDTMP,CTDSAL,CTDSAL_FLAG_W,SALNTY,SALNTY_FLAG_W,CTDOXY,CTDOXY_FLAG_W,OXYGEN,OXYGEN_FLAG_W,SILCAT,SILCAT_FLAG_W,NITRAT,NITRAT_FLAG_W,NITRIT,NITRIT_FLAG_W,PHSPHT,PHSPHT_FLAG_W,CFC-11,CFC-11_FLAG_W,CFC-12,CFC-12_FLAG_W,CFC113,CFC113_FLAG_W,TCARBN,TCARBN_FLAG_W,ALKALI,ALKALI_FLAG_W,TRITUM,TRITUM_FLAG_W,HELIUM,HELIUM_FLAG_W,DELHE3,DELHE3_FLAG_W,DELC13,DELC13_FLAG_W,DELC14,DELC14_FLAG_W,C14ERR,NEON,NEON_FLAG_W,NEONER,CCL4,CCL4_FLAG_W,HELIER,THETA,TRITER,DELHER
,,,,,,,,,,,METERS,DBAR,ITS-90,PSS-78,,PSS-78,,UMOL/KG,,UMOL/KG,,UMOL/KG,,UMOL/KG,,UMOL/KG,,UMOL/KG,,PMOL/KG,,PMOL/KG,,PMOL/KG,,UMOL/KG,,UMOL/KG,,TU,,NMOL/KG,,PERCNT,,/MILLE,,/MILLE,,/MILLE,NMOL/KG,,NMOL/KG,PMOL/KG,,NMOL/KG,DEG C,TU,PERCNT
  316N145_8,        I03,     461,          1,         36,         36,2,19950430,       0710,   -20.0007,   104.8835,       5725,    13.3,  25.8687,  35.6874,2,  35.6867,2,    204.3,2,   205.7,2,    3.67,2,    0.00,2,    0.00,2,    0.05,2,   1.820,2,   1.033,2,-999.000,9,  1985.2,6,  2339.6,6,-999.0000,9,-999.0000,9, -999.00,9,    1.25,2,    27.6,2,     7.6,-999.000,9,-999.000,-999.000,9,-999.0000,  25.8657,-999.0000,-999.000
  316N145_8,        I03,     461,          1,         35,         35,2,19950430,       0710,   -20.0007,   104.8835,       5725,    58.7,  25.8014,  35.6810,2,  35.6787,2,    206.7,2,   206.0,2,    3.65,2,    0.00,2,    0.00,2,    0.04,2,-999.000,9,-999.000,9,-999.000,9,  -999.0,9,  -999.0,9,-999.0000,9,-999.0000,9, -999.00,9, -999.00,9,  -999.0,9,  -999.0,-999.000,9,-999.000,-999.000,9,-999.0000,  25.7883,-999.0000,-999.000
  316N145_8,        I03,     461,          1,         34,         34,2,19950430,       0710,   -20.0007,   104.8835,       5725,   108.9,  22.0746,  35.5618,2,  35.5603,2,    209.1,2,   210.0,2,    4.05,2,    0.07,2,    0.03,2,    0.14,2,-999.000,9,-999.000,9,-999.000,9,  -999.0,9,  -999.0,9,-999.0000,9,-999.0000,9, -999.00,9,    1.09,2,    31.6,2,     6.0,-999.000,9,-999.000,-999.000,9,-999.0000,  22.0530,-999.0000,-999.000
  316N145_8,        I03,     461,          1,         33,         33,2,19950430,       0710,   -20.0007,   104.8835,       5725,   158.7,  19.7242,  35.7506,2,  35.7486,2,    188.6,2,   189.7,2,    4.88,2,    3.11,2,    0.02,2,    0.32,2,   2.241,2,   1.239,2,-999.000,9,  -999.0,9,  -999.0,9,-999.0000,9,-999.0000,9, -999.00,9, -999.00,9,  -999.0,9,  -999.0,-999.000,9,-999.000,-999.000,9,-999.0000,  19.6951,-999.0000,-999.000
  316N145_8,        I03,     461,          1,         32,         32,2,19950430,       0710,   -20.0007,   104.8835,       5725,   208.1,  17.7355,  35.7558,2,  35.7547,2,    193.3,2,   192.5,2,    5.28,2,    4.15,2,    0.01,2,    0.40,2,-999.000,9,-999.000,9,-999.000,9,  -999.0,9,  -999.0,9,-999.0000,9,-999.0000,9, -999.00,9,    0.78,2,    61.3,2,     6.6,-999.000,9,-999.000,-999.000,9,-999.0000,  17.6999,-999.0000,-999.000
  316N145_8,        I03,     461,          1,         31,         31,9,19950430,       0710,   -20.0007,   104.8835,       5725,   258.3,  15.6406,  35.6217,2,-999.0000,9,    206.4,2,  -999.0,9, -999.00,9, -999.00,9, -999.00,9, -999.00,9,-999.000,9,-999.000,9,-999.000,9,  -999.0,9,  -999.0,9,-999.0000,9,-999.0000,9, -999.00,9, -999.00,9,  -999.0,9,  -999.0,-999.000,9,-999.000,-999.000,9,-999.0000,  15.6001,-999.0000,-999.000
  316N145_8,        I03,     461,          1,         30,         30,2,19950430,       0710,   -20.0007,   104.8835,       5725,   309.6,  13.3983,  35.3381,2,  35.3329,2,    219.0,2,   221.2,2,    4.21,2,    7.04,2,    0.01,2,    0.61,2,   2.903,2,   1.488,2,-999.000,9,  -999.0,9,  -999.0,9,-999.0000,9,-999.0000,9, -999.00,9,    1.24,2,    42.9,2,     6.0,-999.000,9,-999.000,-999.000,9,-999.0000,  13.3545,-999.0000,-999.000
  316N145_8,        I03,     461,          1,         29,         29,2,19950430,       0710,   -20.0007,   104.8835,       5725,   359.0,  11.6880,  35.0696,2,  35.0640,2,    227.0,2,   228.3,2,    4.62,2,   10.18,2,    0.01,2,    0.80,2,-999.000,9,-999.000,9,-999.000,9,  -999.0,9,  -999.0,9,-999.0000,9,-999.0000,9, -999.00,9, -999.00,9,  -999.0,9,  -999.0,-999.000,9,-999.000,-999.000,9,-999.0000,  11.6416,-999.0000,-999.000
  316N145_8,        I03,     461,          1,         28,         28,2,19950430,       0710,   -20.0007,   104.8835,       5725,   409.1,  10.5487,  34.8882,2,  34.8901,2,    232.2,2,   231.6,2,    5.23,2,   12.83,2,    0.00,2,    0.95,2,   3.032,2,   1.504,2,-999.000,9,  -999.0,9,  -999.0,9,-999.0000,9,-999.0000,9, -999.00,9,    1.27,2,    44.6,2,     4.3,-999.000,9,-999.000,-999.000,9,-999.0000,  10.4992,-999.0000,-999.000
  316N145_8,        I03,     461,          1,         27,         27,2,19950430,       0710,   -20.0007,   104.8835,       5725,   511.1,   8.8239,  34.6481,2,  34.6505,2,    220.3,2,   216.4,2,   10.28,2,   19.26,2,    0.00,2,    1.35,2,   2.236,2,   1.107,2,-999.000,9,  -999.0,9,  -999.0,9,-999.0000,9,-999.0000,9, -999.00,9,    1.13,2,     9.9,2,     3.5,-999.000,9,-999.000,-999.000,9,-999.0000,   8.7683,-999.0000,-999.000
  316N145_8,        I03,     461,          1,         26,         26,2,19950430,       0710,   -20.0007,   104.8835,       5725,   610.5,   7.2565,  34.5475,2,  34.5481,2,    176.0,2,   173.3,2,   29.26,2,   26.79,2,    0.00,2,    1.86,2,   0.810,2,   0.405,2,-999.000,9,  -999.0,9,  -999.0,9,-999.0000,9,-999.0000,9, -999.00,9,    0.88,2,   -46.7,2,     6.9,-999.000,9,-999.000,-999.000,9,-999.0000,   7.1969,-999.0000,-999.000
  316N145_8,        I03,     461,          1,         25,         25,2,19950430,       0710,   -20.0007,   104.8835,       5725,   710.2,   6.0665,  34.5419,2,  34.5415,2,    140.0,2,   138.0,2,   52.25,2,   31.95,2,    0.00,2,    2.25,2,   0.202,2,   0.103,2,-999.000,9,  -999.0,9,  -999.0,9,-999.0000,9,-999.0000,9, -999.00,9,    0.59,2,  -105.3,2,     3.8,-999.000,9,-999.000,-999.000,9,-999.0000,   6.0030,-999.0000,-999.000
  316N145_8,        I03,     461,          1,         24,         24,2,19950430,       0710,   -20.0007,   104.8835,       5725,   810.3,   5.6498,  34.5988,2,  34.5980,2,    105.0,2,   106.6,2,   73.17,2,   34.90,2,    0.00,2,    2.50,2,-999.000,9,-999.000,9,-999.000,9,  -999.0,9,  -999.0,9,-999.0000,9,-999.0000,9, -999.00,9,    0.28,2,  -149.6,2,     2.7,-999.000,9,-999.000,-999.000,9,-999.0000,   5.5793,-999.0000,-999.000
  316N145_8,        I03,     461,          1,         23,         23,2,19950430,       0710,   -20.0007,   104.8835,       5725,   908.9,   5.2130,  34.6175,2,  34.6169,2,     98.2,2,    99.7,2,   84.82,2,   35.91,2,    0.00,2,    2.59,2,   0.021,3,   0.025,4,-999.000,9,  -999.0,9,  -999.0,9,-999.0000,9,-999.0000,9, -999.00,9,    0.22,2,  -161.3,2,     2.7,-999.000,9,-999.000,-999.000,9,-999.0000,   5.1362,-999.0000,-999.000
  316N145_8,        I03,     461,          1,         22,         22,2,19950430,       0710,   -20.0007,   104.8835,       5725,  1010.3,   4.8951,  34.6300,2,  34.6301,2,     98.2,2,   100.0,2,   90.54,2,   36.16,2,    0.00,2,    2.62,2,   0.001,2,   0.004,2,-999.000,9,  -999.0,9,  -999.0,9,-999.0000,9,-999.0000,9, -999.00,9,    0.15,2,  -160.4,2,     2.6,-999.000,9,-999.000,-999.000,9,-999.0000,   4.8114,-999.0000,-999.000
  316N145_8,        I03,     461,          1,         21,         21,2,19950430,       0710,   -20.0007,   104.8835,       5725,  1111.8,   4.5686,  34.6446,2,  34.6442,2,    100.5,2,   102.3,2,   95.20,2,   36.27,2,    0.00,2,    2.63,2,-999.000,9,-999.000,9,-999.000,9,  -999.0,9,  -999.0,9,-999.0000,9,-999.0000,9, -999.00,9,    0.17,2,  -161.7,2,     3.4,-999.000,9,-999.000,-999.000,9,-999.0000,   4.4785,-999.0000,-999.000
  316N145_8,        I03,     461,          1,         20,         20,2,19950430,       0710,   -20.0007,   104.8835,       5725,  1213.0,   4.2891,  34.6459,2,  34.6448,2,    107.4,2,   107.5,2,   96.44,2,   36.22,2,    0.00,2,    2.61,2,   0.002,2,   0.000,2,-999.000,9,  -999.0,9,  -999.0,9,-999.0000,9,-999.0000,9, -999.00,9,   -0.08,3,  -158.9,2,     4.7,-999.000,9,-999.000,-999.000,9,-999.0000,   4.1925,-999.0000,-999.000
  316N145_8,        I03,     461,          1,         19,         19,2,19950430,       0710,   -20.0007,   104.8835,       5725,  1414.8,   3.6083,  34.6578,2,  34.6574,2,    122.0,2,   121.5,2,  100.48,2,   35.82,2,    0.00,2,    2.57,2,-999.000,9,-999.000,9,-999.000,9,  -999.0,9,  -999.0,9,-999.0000,9,-999.0000,9, -999.00,9,    0.14,2,  -157.0,2,     3.2,-999.000,9,-999.000,-999.000,9,-999.0000,   3.5007,-999.0000,-999.000
  316N145_8,        I03,     461,          1,         18,         18,2,19950430,       0710,   -20.0007,   104.8835,       5725,  1618.7,   3.0910,  34.6861,2,  34.6857,2,    134.1,2,   133.0,2,  104.73,2,   35.06,2,    0.00,2,    2.52,2,-999.000,9,-999.000,9,-999.000,9,  -999.0,9,  -999.0,9,-999.0000,9,-999.0000,9, -999.00,9,    0.20,2,  -169.1,2,     3.2,-999.000,9,-999.000,-999.000,9,-999.0000,   2.9718,-999.0000,-999.000
  316N145_8,        I03,     461,          1,         17,         17,2,19950430,       0710,   -20.0007,   104.8835,       5725,  1820.0,   2.6674,  34.7093,2,  34.7082,2,    145.6,2,   144.0,2,  109.66,2,   34.66,2,    0.00,2,    2.47,2,-999.000,9,-999.000,9,-999.000,9,  -999.0,9,  -999.0,9,-999.0000,9,-999.0000,9, -999.00,9,    0.17,2,  -179.1,2,     2.6,-999.000,9,-999.000,-999.000,9,-999.0000,   2.5363,-999.0000,-999.000
  316N145_8,        I03,     461,          1,         16,         16,2,19950430,       0710,   -20.0007,   104.8835,       5725,  2022.9,   2.3732,  34.7205,2,  34.7200,2,    151.1,2,   150.3,2,  115.03,2,   34.41,2,    0.00,2,    2.44,2,-999.000,9,-999.000,9,-999.000,9,  -999.0,9,  -999.0,9,-999.0000,9,-999.0000,9, -999.00,9,    0.27,2,  -185.2,2,     4.0,-999.000,9,-999.000,-999.000,9,-999.0000,   2.2288,-999.0000,-999.000
  316N145_8,        I03,     461,          1,         15,         15,2,19950430,       0710,   -20.0007,   104.8835,       5725,  2224.7,   2.1424,  34.7257,2,  34.7231,2,    155.9,2,   156.2,2,  118.69,2,   34.16,2,    0.00,2,    2.42,2,-999.000,9,-999.000,9,-999.000,9,  -999.0,9,  -999.0,9,-999.0000,9,-999.0000,9, -999.00,9,    0.24,2,  -188.3,2,     3.7,-999.000,9,-999.000,-999.000,9,-999.0000,   1.9840,-999.0000,-999.000
  316N145_8,        I03,     461,          1,         14,         14,2,19950430,       0710,   -20.0007,   104.8835,       5725,  2428.8,   1.9742,  34.7271,2,  34.7278,2,    160.1,2,   160.0,2,  122.15,2,   34.07,2,    0.00,2,    2.40,2,   0.008,3,   0.001,2,-999.000,9,  -999.0,9,  -999.0,9,-999.0000,9,-999.0000,9, -999.00,9,    0.26,2,  -190.6,2,     2.5,-999.000,9,-999.000,-999.000,9,-999.0000,   1.8005,-999.0000,-999.000
  316N145_8,        I03,     461,          1,         13,         13,2,19950430,       0710,   -20.0007,   104.8835,       5725,  2632.3,   1.8294,  34.7267,2,  34.7267,2,    164.1,2,   164.7,2,  123.42,2,   33.82,2,    0.00,2,    2.38,2,-999.000,9,-999.000,9,-999.000,9,  -999.0,9,  -999.0,9,-999.0000,9,-999.0000,9, -999.00,9,    0.29,2,  -192.9,2,     2.3,-999.000,9,-999.000,-999.000,9,-999.0000,   1.6400,-999.0000,-999.000
  316N145_8,        I03,     461,          1,         12,         12,2,19950430,       0710,   -20.0007,   104.8835,       5725,  2835.8,   1.6889,  34.7259,2,  34.7257,2,    171.4,2,   171.2,2,  124.25,2,   33.52,2,    0.00,2,    2.35,2,-999.000,9,-999.000,9,-999.000,9,  -999.0,9,  -999.0,9,-999.0000,9,-999.0000,9, -999.00,9,    0.30,2,  -196.1,2,     3.6,-999.000,9,-999.000,-999.000,9,-999.0000,   1.4833,-999.0000,-999.000
  316N145_8,        I03,     461,          1,         11,         11,2,19950430,       0710,   -20.0007,   104.8835,       5725,  3037.6,   1.5712,  34.7239,2,  34.7232,2,    175.2,2,   175.7,2,  124.86,2,   33.37,2,    0.00,2,    2.33,2,-999.000,9,-999.000,9,-999.000,9,  -999.0,9,  -999.0,9,-999.0000,9,-999.0000,9, -999.00,9,    0.27,2,  -193.8,2,     3.3,-999.000,9,-999.000,-999.000,9,-999.0000,   1.3490,-999.0000,-999.000
  316N145_8,        I03,     461,          1,         10,         10,2,19950430,       0710,   -20.0007,   104.8835,       5725,  3292.5,   1.4217,  34.7211,2,  34.7210,2,    180.1,2,   180.7,2,  127.01,2,   33.32,2,    0.00,2,    2.32,2,  -0.002,2,   0.000,2,-999.000,9,  -999.0,9,  -999.0,9,-999.0000,9,-999.0000,9, -999.00,9,    0.35,2,  -198.2,2,     2.8,-999.000,9,-999.000,-999.000,9,-999.0000,   1.1781,-999.0000,-999.000
  316N145_8,        I03,     461,          1,          9,          9,2,19950430,       0710,   -20.0007,   104.8835,       5725,  3549.1,   1.3192,  34.7182,2,  34.7173,2,    183.7,2,   184.6,2,  128.07,2,   33.17,2,    0.00,2,    2.31,2,-999.000,9,-999.000,9,-999.000,9,  -999.0,9,  -999.0,9,-999.0000,9,-999.0000,9, -999.00,9,    0.34,2,  -194.2,2,     3.4,-999.000,9,-999.000,-999.000,9,-999.0000,   1.0524,-999.0000,-999.000
  316N145_8,        I03,     461,          1,          8,          8,2,19950430,       0710,   -20.0007,   104.8835,       5725,  3801.9,   1.2537,  34.7163,2,  34.7157,2,    186.4,2,   187.2,2,  129.79,2,   33.18,2,    0.00,2,    2.31,2,-999.000,9,-999.000,9,-999.000,9,  -999.0,9,  -999.0,9,-999.0000,9,-999.0000,9, -999.00,9,    0.24,2,  -192.4,2,     2.4,-999.000,9,-999.000,-999.000,9,-999.0000,   0.9626,-999.0000,-999.000
  316N145_8,        I03,     461,          1,          7,          7,2,19950430,       0710,   -20.0007,   104.8835,       5725,  4057.2,   1.2146,  34.7153,2,  34.7147,2,    190.2,2,   190.3,2,  130.18,2,   33.08,2,    0.00,2,    2.30,2,-999.000,9,-999.000,9,-999.000,9,  -999.0,9,  -999.0,9,-999.0000,9,-999.0000,9, -999.00,9,    0.34,2,  -198.6,2,     2.1,-999.000,9,-999.000,-999.000,9,-999.0000,   0.8974,-999.0000,-999.000
  316N145_8,        I03,     461,          1,          6,          6,2,19950430,       0710,   -20.0007,   104.8835,       5725,  4366.4,   1.1885,  34.7144,2,  34.7132,2,    193.3,2,   193.3,2,  129.46,2,   32.93,2,    0.00,2,    2.28,2,-999.000,9,-999.000,9,-999.000,9,  -999.0,9,  -999.0,9,-999.0000,9,-999.0000,9, -999.00,9,    0.41,2,  -188.8,2,     3.1,-999.000,9,-999.000,-999.000,9,-999.0000,   0.8381,-999.0000,-999.000
  316N145_8,        I03,     461,          1,          5,          5,2,19950430,       0710,   -20.0007,   104.8835,       5725,  4671.9,   1.1774,  34.7136,2,  34.7126,2,    194.8,2,   195.6,2,  128.75,2,   32.73,2,    0.00,2,    2.27,2,-999.000,9,-999.000,9,-999.000,9,  -999.0,9,  -999.0,9,-999.0000,9,-999.0000,9, -999.00,9,    0.39,2,  -192.2,6,     2.1,-999.000,9,-999.000,-999.000,9,-999.0000,   0.7925,-999.0000,-999.000
  316N145_8,        I03,     461,          1,          4,          4,2,19950430,       0710,   -20.0007,   104.8835,       5725,  4979.6,   1.1691,  34.7128,2,  34.7112,2,    198.1,2,   198.2,2,  128.04,2,   32.58,2,    0.00,2,    2.26,2,   0.000,2,   0.002,2,-999.000,9,  -999.0,9,  -999.0,9,-999.0000,9,-999.0000,9, -999.00,9,    0.32,2,  -169.2,2,     3.5,-999.000,9,-999.000,-999.000,9,-999.0000,   0.7483,-999.0000,-999.000
  316N145_8,        I03,     461,          1,          3,          3,2,19950430,       0710,   -20.0007,   104.8835,       5725,  5288.4,   1.1729,  34.7120,2,  34.7107,2,    200.4,2,   200.3,2,  127.33,2,   32.53,2,    0.00,2,    2.25,2,-999.000,9,-999.000,9,-999.000,9,  -999.0,9,  -999.0,9,-999.0000,9,-999.0000,9, -999.00,9,    0.42,2,  -171.6,2,     2.5,-999.000,9,-999.000,-999.000,9,-999.0000,   0.7145,-999.0000,-999.000
  316N145_8,        I03,     461,          1,          2,          2,2,19950430,       0710,   -20.0007,   104.8835,       5725,  5597.3,   1.1924,  34.7114,2,  34.7109,2,    201.4,2,   201.3,2,  127.06,2,   32.49,2,    0.00,2,    2.24,2,-999.000,9,-999.000,9,-999.000,9,  -999.0,9,  -999.0,9,-999.0000,9,-999.0000,9, -999.00,9,    0.42,2,  -181.0,2,     2.4,-999.000,9,-999.000,-999.000,9,-999.0000,   0.6945,-999.0000,-999.000
  316N145_8,        I03,     461,          1,          1,          1,2,19950430,       0710,   -20.0007,   104.8835,       5725,  5860.9,   1.2147,  34.7112,2,  34.7111,2,    203.1,2,   200.5,3,  127.01,2,   32.39,2,    0.00,2,    2.24,2,   0.006,2,   0.003,2,-999.000,9,  -999.0,9,  -999.0,9,  -0.0016,2,-999.0000,9, -999.00,9,    0.39,2,  -176.1,2,     2.6,-999.000,9,-999.000,-999.000,9,-999.0000,   0.6821,   0.0022,-999.000