BOTTLE,20140514CCHSIOSE
EXPOCODE,SECT_ID,STNNBR,CASTNO,SAMPNO,BTLNBR,BTLNBR_FLAG_W,DATE,TIME,LATITUDE,LONGITUDE,DEPTH,CTDPRS,CTDTMP,CTDSAL,CTDSAL_FLAG_W,SALNTY,SALNTY_FLAG_W,CTDOXY,CTDOXY_FLAG_W,OXYGEN,OXYGEN_FLAG_W,SILCAT,SILCAT_FLAG_W,NITRAT,NITRAT_FLAG_W,NITRIT,NITRIT_FLAG_W,PHSPHT,PHSPHT_FLAG_W,CFC-11,CFC-11_FLAG_W,CFC-12,CFC-12_FLAG_W,CFC113,CFC113_FLAG_W,TCARBN,TCARBN_FLAG_W,ALKALI,ALKALI_FLAG_W,TRITUM,TRITUM_FLAG_W,HELIUM,HELIUM_FLAG_W,DELHE3,DELHE3_FLAG_W,DELC13,DELC13_FLAG_W,DELC14,DELC14_FLAG_W,C14ERR,NEON,NEON_FLAG_W,NEONER,CCL4,CCL4_FLAG_W,HELIER,THETA,TRITER,DELHER
,,,,,,,,,,,METERS,DBAR,ITS-90,PSS-78,,PSS-78,,UMOL/KG,,UMOL/KG,,UMOL/KG,,UMOL/KG,,UMOL/KG,,UMOL/KG,,PMOL/KG,,PMOL/KG,,PMOL/KG,,UMOL/KG,,UMOL/KG,,TU,,NMOL/KG,,PERCNT,,/MILLE,,/MILLE,,/MILLE,NMOL/KG,,NMOL/KG,PMOL/KG,,NMOL/KG,DEG C,TU,PERCNT
  316N145_8,        I03,     497,          1,         36,         36,2,19950511,       0500,   -20.0002,    81.2675,       4530,     6.8,  25.7806,  35.0006,2,  35.0023,2,    204.3,2,   204.4,2,    3.26,2,    0.10,2,    0.00,2,    0.11,2,   1.825,2,   1.045,2,-999.000,9,  1939.7,6,  2291.9,6,-999.0000,9,-999.0000,9, -999.00,9, -999.00,9,  -999.0,9,  -999.0,-999.000,9,-999.000,-999.000,9,-999.0000,  25.7791,-999.0000,-999.000
  316N145_8,        I03,     497,          1,         35,         35,2,19950511,       0500,   -20.0002,    81.2675,       4530,    54.8,  25.3978,  35.1672,2,  35.1710,2,    207.9,2,   206.6,2,    3.24,2,    0.10,2,    0.00,2,    0.11,2,   1.847,2,   1.053,2,-999.000,9,  -999.0,9,  -999.0,9,-999.0000,9,-999.0000,9, -999.00,9, -999.00,9,  -999.0,9,  -999.0,-999.000,9,-999.000,-999.000,9,-999.0000,  25.3858,-999.0000,-999.000
  316N145_8,        I03,     497,          1,         34,         34,2,19950511,       0500,   -20.0002,    81.2675,       4530,   105.6,  21.6981,  35.4780,2,  35.4839,2,    215.3,2,   184.0,4,    3.86,2,    0.09,2,    0.00,2,    0.15,2,   2.193,2,   1.214,2,-999.000,9,  -999.0,9,  -999.0,9,-999.0000,9,-999.0000,9, -999.00,9, -999.00,9,  -999.0,9,  -999.0,-999.000,9,-999.000,-999.000,9,-999.0000,  21.6774,-999.0000,-999.000
  316N145_8,        I03,     497,          1,         33,         33,2,19950511,       0500,   -20.0002,    81.2675,       4530,   156.0,  19.9368,  35.6152,2,  35.6045,2,    189.6,2,   184.0,2,    5.96,2,    3.64,2,    0.02,2,    0.39,2,   2.180,2,   1.189,2,-999.000,9,  -999.0,9,  -999.0,9,-999.0000,9,-999.0000,9, -999.00,9, -999.00,9,  -999.0,9,  -999.0,-999.000,9,-999.000,-999.000,9,-999.0000,  19.9079,-999.0000,-999.000
  316N145_8,        I03,     497,          1,         32,         32,2,19950511,       0500,   -20.0002,    81.2675,       4530,   205.8,  18.4912,  35.7498,2,  35.7618,2,    195.6,2,   196.9,2,    4.46,2,    2.68,2,    0.01,2,    0.35,2,   2.364,2,   1.275,2,-999.000,9,  -999.0,9,  -999.0,9,-999.0000,9,-999.0000,9, -999.00,9, -999.00,9,  -999.0,9,  -999.0,-999.000,9,-999.000,-999.000,9,-999.0000,  18.4550,-999.0000,-999.000
  316N145_8,        I03,     497,          1,         31,         31,2,19950511,       0500,   -20.0002,    81.2675,       4530,   256.5,  16.7699,  35.7226,2,  35.7127,2,    209.3,2,   213.4,2,    3.59,2,    2.29,2,    0.01,2,    0.36,2,   2.619,2,   1.387,2,-999.000,9,  -999.0,9,  -999.0,9,-999.0000,9,-999.0000,9, -999.00,9, -999.00,9,  -999.0,9,  -999.0,-999.000,9,-999.000,-999.000,9,-999.0000,  16.7276,-999.0000,-999.000
  316N145_8,        I03,     497,          1,         30,         30,2,19950511,       0500,   -20.0002,    81.2675,       4530,   306.1,  14.9859,  35.5291,2,  35.5046,2,    215.7,2,   216.0,2,    3.57,2,    4.78,2,    0.01,2,    0.50,2,   2.742,2,   1.424,2,-999.000,9,  -999.0,9,  -999.0,9,-999.0000,9,-999.0000,9, -999.00,9, -999.00,9,  -999.0,9,  -999.0,-999.000,9,-999.000,-999.000,9,-999.0000,  14.9393,-999.0000,-999.000
  316N145_8,        I03,     497,          1,         29,         29,2,19950511,       0500,   -20.0002,    81.2675,       4530,   356.3,  13.3635,  35.3116,2,  35.3017,2,    218.9,2,   222.8,2,    3.56,2,    7.17,2,    0.00,2,    0.63,2,   2.872,2,   1.475,2,-999.000,9,  -999.0,9,  -999.0,9,-999.0000,9,-999.0000,9, -999.00,9, -999.00,9,  -999.0,9,  -999.0,-999.000,9,-999.000,-999.000,9,-999.0000,  13.3131,-999.0000,-999.000
  316N145_8,        I03,     497,          1,         28,         28,2,19950511,       0500,   -20.0002,    81.2675,       4530,   407.0,  12.2703,  35.1435,2,  35.1416,2,    227.5,2,   229.0,2,    3.75,2,    9.03,2,    0.00,2,    0.74,2,   2.938,2,   1.486,2,-999.000,9,  -999.0,9,  -999.0,9,-999.0000,9,-999.0000,9, -999.00,9, -999.00,9,  -999.0,9,  -999.0,-999.000,9,-999.000,-999.000,9,-999.0000,  12.2159,-999.0000,-999.000
  316N145_8,        I03,     497,          1,         27,         27,2,19950511,       0500,   -20.0002,    81.2675,       4530,   456.2,  11.1599,  34.9761,2,  34.9747,2,    232.7,2,   233.4,2,    4.37,2,   11.32,2,    0.00,2,    0.87,2,   2.963,2,   1.489,2,-999.000,9,  -999.0,9,  -999.0,9,-999.0000,9,-999.0000,9, -999.00,9, -999.00,9,  -999.0,9,  -999.0,-999.000,9,-999.000,-999.000,9,-999.0000,  11.1025,-999.0000,-999.000
  316N145_8,        I03,     497,          1,         26,         26,2,19950511,       0500,   -20.0002,    81.2675,       4530,   506.0,  10.3960,  34.8544,2,  34.8523,2,    230.9,2,   231.5,2,    5.20,2,   13.47,2,    0.00,2,    1.00,2,   2.754,2,   1.374,2,-999.000,9,  -999.0,9,  -999.0,9,-999.0000,9,-999.0000,9, -999.00,9, -999.00,9,  -999.0,9,  -999.0,-999.000,9,-999.000,-999.000,9,-999.0000,  10.3351,-999.0000,-999.000
  316N145_8,        I03,     497,          1,         25,         25,2,19950511,       0500,   -20.0002,    81.2675,       4530,   607.0,   9.0777,  34.6684,2,  34.6692,2,    226.4,2,   224.9,2,    7.29,2,   17.72,2,    0.00,2,    1.26,2,   2.229,2,   1.105,2,-999.000,9,  -999.0,9,  -999.0,9,-999.0000,9,-999.0000,9, -999.00,9, -999.00,9,  -999.0,9,  -999.0,-999.000,9,-999.000,-999.000,9,-999.0000,   9.0101,-999.0000,-999.000
  316N145_8,        I03,     497,          1,         24,         24,2,19950511,       0500,   -20.0002,    81.2675,       4530,   707.7,   7.7229,  34.5606,2,  34.5647,2,    196.0,2,   192.1,2,   18.70,2,   23.94,2,    0.00,2,    1.66,2,   0.887,2,   0.449,2,-999.000,9,  -999.0,9,  -999.0,9,-999.0000,9,-999.0000,9, -999.00,9, -999.00,9,  -999.0,9,  -999.0,-999.000,9,-999.000,-999.000,9,-999.0000,   7.6508,-999.0000,-999.000
  316N145_8,        I03,     497,          1,         23,         23,2,19950511,       0500,   -20.0002,    81.2675,       4530,   808.5,   6.0469,  34.4896,2,  34.4943,2,    175.5,2,   166.8,2,   38.13,2,   29.90,2,    0.00,2,    2.08,2,   0.231,2,   0.125,2,-999.000,9,  -999.0,9,  -999.0,9,-999.0000,9,-999.0000,9, -999.00,9, -999.00,9,  -999.0,9,  -999.0,-999.000,9,-999.000,-999.000,9,-999.0000,   5.9742,-999.0000,-999.000
  316N145_8,        I03,     497,          1,         22,         22,2,19950511,       0500,   -20.0002,    81.2675,       4530,   908.0,   5.0907,  34.5200,2,  34.5221,2,    143.9,2,   141.6,2,   59.27,2,   33.31,2,    0.00,2,    2.36,2,   0.045,2,   0.027,2,-999.000,9,  -999.0,9,  -999.0,9,-999.0000,9,-999.0000,9, -999.00,9, -999.00,9,  -999.0,9,  -999.0,-999.000,9,-999.000,-999.000,9,-999.0000,   5.0150,-999.0000,-999.000
  316N145_8,        I03,     497,          1,         21,         21,2,19950511,       0500,   -20.0002,    81.2675,       4530,  1009.0,   4.7265,  34.5880,2,  34.5870,2,    123.3,2,   123.2,2,   74.94,2,   34.85,2,    0.00,2,    2.49,2,   0.009,2,   0.009,2,-999.000,9,  -999.0,9,  -999.0,9,-999.0000,9,-999.0000,9, -999.00,9, -999.00,9,  -999.0,9,  -999.0,-999.000,9,-999.000,-999.000,9,-999.0000,   4.6443,-999.0000,-999.000
  316N145_8,        I03,     497,          1,         20,         20,2,19950511,       0500,   -20.0002,    81.2675,       4530,  1111.0,   4.4683,  34.6350,2,  34.6388,2,    117.1,2,   117.2,2,   84.70,2,   35.34,2,    0.01,2,    2.54,2,   0.005,2,   0.003,2,-999.000,9,  -999.0,9,  -999.0,9,-999.0000,9,-999.0000,9, -999.00,9, -999.00,9,  -999.0,9,  -999.0,-999.000,9,-999.000,-999.000,9,-999.0000,   4.3791,-999.0000,-999.000
  316N145_8,        I03,     497,          1,         19,         19,2,19950511,       0500,   -20.0002,    81.2675,       4530,  1211.2,   4.3436,  34.6823,2,  34.6834,2,    112.4,2,   112.6,2,   92.14,2,   35.54,2,    0.01,2,    2.56,2,   0.003,2,   0.005,2,-999.000,9,  -999.0,9,  -999.0,9,-999.0000,9,-999.0000,9, -999.00,9, -999.00,9,  -999.0,9,  -999.0,-999.000,9,-999.000,-999.000,9,-999.0000,   4.2465,-999.0000,-999.000
  316N145_8,        I03,     497,          1,         18,         18,2,19950511,       0500,   -20.0002,    81.2675,       4530,  1312.3,   3.9998,  34.6860,2,  34.6891,2,    115.5,2,   116.3,2,   95.75,2,   35.53,2,    0.01,2,    2.56,2,   0.000,2,   0.002,2,-999.000,9,  -999.0,9,  -999.0,9,-999.0000,9,-999.0000,9, -999.00,9, -999.00,9,  -999.0,9,  -999.0,-999.000,9,-999.000,-999.000,9,-999.0000,   3.8971,-999.0000,-999.000
  316N145_8,        I03,     497,          1,         17,         17,2,19950511,       0500,   -20.0002,    81.2675,       4530,  1412.0,   3.7645,  34.6995,2,  34.7001,2,    119.0,2,   119.4,2,   98.93,2,   35.48,2,    0.01,2,    2.56,2,-999.000,9,-999.000,9,-999.000,9,  -999.0,9,  -999.0,9,-999.0000,9,-999.0000,9, -999.00,9, -999.00,9,  -999.0,9,  -999.0,-999.000,9,-999.000,-999.000,9,-999.0000,   3.6554,-999.0000,-999.000
  316N145_8,        I03,     497,          1,         16,         16,2,19950511,       0500,   -20.0002,    81.2675,       4530,  1614.8,   3.2800,  34.7124,2,  34.7130,2,    129.8,2,   130.2,2,  103.41,2,   35.02,2,    0.01,2,    2.52,2,  -0.001,2,   0.001,2,-999.000,9,  -999.0,9,  -999.0,9,-999.0000,9,-999.0000,9, -999.00,9, -999.00,9,  -999.0,9,  -999.0,-999.000,9,-999.000,-999.000,9,-999.0000,   3.1586,-999.0000,-999.000
  316N145_8,        I03,     497,          1,         15,         15,2,19950511,       0500,   -20.0002,    81.2675,       4530,  1817.6,   2.8865,  34.7215,2,  34.7222,2,    140.3,2,   139.4,2,  107.69,2,   34.57,2,    0.01,2,    2.48,2,-999.000,9,-999.000,9,-999.000,9,  -999.0,9,  -999.0,9,-999.0000,9,-999.0000,9, -999.00,9, -999.00,9,  -999.0,9,  -999.0,-999.000,9,-999.000,-999.000,9,-999.0000,   2.7526,-999.0000,-999.000
  316N145_8,        I03,     497,          1,         14,         14,2,19950511,       0500,   -20.0002,    81.2675,       4530,  2019.0,   2.5388,  34.7258,2,  34.7268,2,    150.8,2,   148.7,2,  111.12,2,   34.17,2,    0.00,2,    2.44,2,-999.000,9,-999.000,9,-999.000,9,  -999.0,9,  -999.0,9,-999.0000,9,-999.0000,9, -999.00,9, -999.00,9,  -999.0,9,  -999.0,-999.000,9,-999.000,-999.000,9,-999.0000,   2.3922,-999.0000,-999.000
  316N145_8,        I03,     497,          1,         13,         13,2,19950511,       0500,   -20.0002,    81.2675,       4530,  2222.4,   2.2922,  34.7265,2,  34.7276,2,    158.9,2,   158.1,2,  112.38,2,   33.72,2,    0.00,2,    2.39,2,   0.000,2,   0.002,2,-999.000,9,  -999.0,9,  -999.0,9,-999.0000,9,-999.0000,9, -999.00,9, -999.00,9,  -999.0,9,  -999.0,-999.000,9,-999.000,-999.000,9,-999.0000,   2.1315,-999.0000,-999.000
  316N145_8,        I03,     497,          1,         12,         12,2,19950511,       0500,   -20.0002,    81.2675,       4530,  2424.4,   2.0630,  34.7253,2,  34.7270,2,    167.1,2,   166.4,2,  113.20,2,   33.22,2,    0.00,2,    2.34,2,-999.000,9,-999.000,9,-999.000,9,  -999.0,9,  -999.0,9,-999.0000,9,-999.0000,9, -999.00,9, -999.00,9,  -999.0,9,  -999.0,-999.000,9,-999.000,-999.000,9,-999.0000,   1.8882,-999.0000,-999.000
  316N145_8,        I03,     497,          1,         11,         11,2,19950511,       0500,   -20.0002,    81.2675,       4530,  2628.2,   1.9111,  34.7261,2,  34.7270,2,    171.8,2,   171.7,2,  114.46,2,   33.02,2,    0.00,2,    2.32,2,-999.000,9,-999.000,9,-999.000,9,  -999.0,9,  -999.0,9,-999.0000,9,-999.0000,9, -999.00,9, -999.00,9,  -999.0,9,  -999.0,-999.000,9,-999.000,-999.000,9,-999.0000,   1.7204,-999.0000,-999.000
  316N145_8,        I03,     497,          1,         10,         10,2,19950511,       0500,   -20.0002,    81.2675,       4530,  2831.9,   1.7830,  34.7266,2,  34.7278,2,    175.9,2,   176.4,2,  115.94,2,   32.82,2,    0.00,2,    2.30,2,  -0.002,2,   0.002,2,-999.000,9,  -999.0,9,  -999.0,9,-999.0000,9,-999.0000,9, -999.00,9, -999.00,9,  -999.0,9,  -999.0,-999.000,9,-999.000,-999.000,9,-999.0000,   1.5758,-999.0000,-999.000
  316N145_8,        I03,     497,          1,          9,          9,2,19950511,       0500,   -20.0002,    81.2675,       4530,  3035.2,   1.6662,  34.7262,2,  34.7266,2,    178.2,2,   179.1,2,  118.52,2,   32.72,2,    0.00,2,    2.29,2,-999.000,9,-999.000,9,-999.000,9,  -999.0,9,  -999.0,9,-999.0000,9,-999.0000,9, -999.00,9, -999.00,9,  -999.0,9,  -999.0,-999.000,9,-999.000,-999.000,9,-999.0000,   1.4421,-999.0000,-999.000
  316N145_8,        I03,     497,          1,          8,          8,2,19950511,       0500,   -20.0002,    81.2675,       4530,  3239.0,   1.5567,  34.7251,2,  34.7262,2,    181.0,2,   181.5,2,  120.88,2,   32.71,2,    0.00,2,    2.29,2,-999.000,9,-999.000,9,-999.000,9,  -999.0,9,  -999.0,9,-999.0000,9,-999.0000,9, -999.00,9, -999.00,9,  -999.0,9,  -999.0,-999.000,9,-999.000,-999.000,9,-999.0000,   1.3151,-999.0000,-999.000
  316N145_8,        I03,     497,          1,          7,          7,2,19950511,       0500,   -20.0002,    81.2675,       4530,  3442.4,   1.4956,  34.7253,2,  34.7258,2,    184.6,2,   184.6,2,  120.39,2,   32.51,2,    0.00,2,    2.27,2,   0.001,2,   0.000,2,-999.000,9,  -999.0,9,  -999.0,9,-999.0000,9,-999.0000,9, -999.00,9, -999.00,9,  -999.0,9,  -999.0,-999.000,9,-999.000,-999.000,9,-999.0000,   1.2352,-999.0000,-999.000
  316N145_8,        I03,     497,          1,          6,          6,2,19950511,       0500,   -20.0002,    81.2675,       4530,  3646.5,   1.4269,  34.7226,2,  34.7235,2,    183.5,2,   184.4,2,  124.53,2,   32.81,2,    0.00,2,    2.29,2,-999.000,9,-999.000,9,-999.000,9,  -999.0,9,  -999.0,9,-999.0000,9,-999.0000,9, -999.00,9, -999.00,9,  -999.0,9,  -999.0,-999.000,9,-999.000,-999.000,9,-999.0000,   1.1474,-999.0000,-999.000
  316N145_8,        I03,     497,          1,          5,          5,2,19950511,       0500,   -20.0002,    81.2675,       4530,  3849.2,   1.3976,  34.7206,2,  34.7209,2,    183.8,2,   184.5,2,  126.47,2,   32.95,2,    0.00,2,    2.29,2,-999.000,9,-999.000,9,-999.000,9,  -999.0,9,  -999.0,9,-999.0000,9,-999.0000,9, -999.00,9, -999.00,9,  -999.0,9,  -999.0,-999.000,9,-999.000,-999.000,9,-999.0000,   1.0976,-999.0000,-999.000
  316N145_8,        I03,     497,          1,          4,          4,2,19950511,       0500,   -20.0002,    81.2675,       4530,  4053.6,   1.3716,  34.7190,2,  34.7200,2,    184.3,2,   184.5,2,  128.63,2,   33.10,2,    0.00,2,    2.30,2,  -0.001,2,   0.003,2,-999.000,9,  -999.0,9,  -999.0,9,-999.0000,9,-999.0000,9, -999.00,9, -999.00,9,  -999.0,9,  -999.0,-999.000,9,-999.000,-999.000,9,-999.0000,   1.0502,-999.0000,-999.000
  316N145_8,        I03,     497,          1,          3,          3,2,19950511,       0500,   -20.0002,    81.2675,       4530,  4258.1,   1.3765,  34.7182,2,  34.7194,2,    184.4,2,   184.3,2,  129.69,2,   33.14,2,    0.00,2,    2.31,2,-999.000,9,-999.000,9,-999.000,9,  -999.0,9,  -999.0,9,-999.0000,9,-999.0000,9, -999.00,9, -999.00,9,  -999.0,9,  -999.0,-999.000,9,-999.000,-999.000,9,-999.0000,   1.0325,-999.0000,-999.000
  316N145_8,        I03,     497,          1,          2,          2,2,19950511,       0500,   -20.0002,    81.2675,       4530,  4461.7,   1.3785,  34.7176,2,  34.7182,2,    184.9,2,   184.3,2,  130.75,2,   33.24,2,    0.00,2,    2.31,2,   0.003,2,   0.003,2,-999.000,9,  -999.0,9,  -999.0,9,-999.0000,9,-999.0000,9, -999.00,9, -999.00,9,  -999.0,9,  -999.0,-999.000,9,-999.000,-999.000,9,-999.0000,   1.0114,-999.0000,-999.000
  316N145_8,        I03,     497,          1,          1,          1,2,19950511,       0500,   -20.0002,    81.2675,       4530,  4617.1,   1.3891,  34.7170,2,  34.7178,2,    184.3,2,   184.4,2,  131.37,2,   33.28,2,    0.00,2,    2.31,2,  -0.001,2,   0.001,2,-999.000,9,  -999.0,9,  -999.0,9,-999.0000,9,-999.0000,9, -999.00,9, -999.00,9,  -999.0,9,  -999.0,-999.000,9,-999.000,-999.000,9,-999.0000,   1.0038,-999.0000,-999.000