BOTTLE,20140514CCHSIOSE
EXPOCODE,SECT_ID,STNNBR,CASTNO,SAMPNO,BTLNBR,BTLNBR_FLAG_W,DATE,TIME,LATITUDE,LONGITUDE,DEPTH,CTDPRS,CTDTMP,CTDSAL,CTDSAL_FLAG_W,SALNTY,SALNTY_FLAG_W,CTDOXY,CTDOXY_FLAG_W,OXYGEN,OXYGEN_FLAG_W,SILCAT,SILCAT_FLAG_W,NITRAT,NITRAT_FLAG_W,NITRIT,NITRIT_FLAG_W,PHSPHT,PHSPHT_FLAG_W,CFC-11,CFC-11_FLAG_W,CFC-12,CFC-12_FLAG_W,CFC113,CFC113_FLAG_W,TCARBN,TCARBN_FLAG_W,ALKALI,ALKALI_FLAG_W,TRITUM,TRITUM_FLAG_W,HELIUM,HELIUM_FLAG_W,DELHE3,DELHE3_FLAG_W,DELC13,DELC13_FLAG_W,DELC14,DELC14_FLAG_W,C14ERR,NEON,NEON_FLAG_W,NEONER,CCL4,CCL4_FLAG_W,HELIER,THETA,TRITER,DELHER
,,,,,,,,,,,METERS,DBAR,ITS-90,PSS-78,,PSS-78,,UMOL/KG,,UMOL/KG,,UMOL/KG,,UMOL/KG,,UMOL/KG,,UMOL/KG,,PMOL/KG,,PMOL/KG,,PMOL/KG,,UMOL/KG,,UMOL/KG,,TU,,NMOL/KG,,PERCNT,,/MILLE,,/MILLE,,/MILLE,NMOL/KG,,NMOL/KG,PMOL/KG,,NMOL/KG,DEG C,TU,PERCNT
  316N145_8,        I03,     455,          1,         36,         36,2,19950428,       0927,   -20.8315,   109.4400,       5042,    13.4,  27.5597,  35.0825,2,  35.0846,2,    200.1,2,   199.8,2,    3.13,2,    0.10,2,    0.00,2,    0.07,2,-999.000,9,-999.000,9,-999.000,9,  1949.5,6,  2304.3,6,-999.0000,9,-999.0000,9, -999.00,9,    1.39,2,    63.1,2,     4.0,-999.000,9,-999.000,-999.000,9,-999.0000,  27.5566,-999.0000,-999.000
  316N145_8,        I03,     455,          1,         35,         35,2,19950428,       0927,   -20.8315,   109.4400,       5042,    58.3,  23.4352,  35.3835,2,  35.3776,2,    217.1,2,   219.3,2,    4.19,2,    0.10,2,    0.00,2,    0.09,2,-999.000,9,-999.000,9,-999.000,9,  -999.0,9,  -999.0,9,-999.0000,9,-999.0000,9, -999.00,9, -999.00,9,  -999.0,9,  -999.0,-999.000,9,-999.000,-999.000,9,-999.0000,  23.4231,-999.0000,-999.000
  316N145_8,        I03,     455,          1,         34,         34,2,19950428,       0927,   -20.8315,   109.4400,       5042,   107.7,  20.8778,  35.5182,2,  35.5251,2,    176.0,2,   175.3,2,    6.09,2,    3.46,2,    0.04,2,    0.36,2,-999.000,9,-999.000,9,-999.000,9,  -999.0,9,  -999.0,9,-999.0000,9,-999.0000,9, -999.00,9,    0.82,2,    68.9,2,     3.0,-999.000,9,-999.000,-999.000,9,-999.0000,  20.8572,-999.0000,-999.000
  316N145_8,        I03,     455,          1,         33,         33,2,19950428,       0927,   -20.8315,   109.4400,       5042,   158.1,  18.5036,  35.5956,2,  35.5930,2,    175.4,2,   173.4,2,    8.43,2,    6.44,2,    0.01,2,    0.52,2,-999.000,9,-999.000,9,-999.000,9,  -999.0,9,  -999.0,9,-999.0000,9,-999.0000,9, -999.00,9, -999.00,9,  -999.0,9,  -999.0,-999.000,9,-999.000,-999.000,9,-999.0000,  18.4758,-999.0000,-999.000
  316N145_8,        I03,     455,          1,         32,         32,2,19950428,       0927,   -20.8315,   109.4400,       5042,   209.8,  16.6919,  35.5750,2,  35.5813,2,    197.1,2,   181.7,2,    9.27,2,    7.10,2,    0.01,2,    0.58,2,-999.000,9,-999.000,9,-999.000,9,  -999.0,9,  -999.0,9,-999.0000,9,-999.0000,9, -999.00,9,    0.90,2,    67.2,2,     3.0,-999.000,9,-999.000,-999.000,9,-999.0000,  16.6575,-999.0000,-999.000
  316N145_8,        I03,     455,          1,         31,         31,2,19950428,       0927,   -20.8315,   109.4400,       5042,   259.2,  15.0426,  35.5555,2,  35.5348,2,    210.2,2,   213.1,2,    4.57,2,    5.33,2,    0.01,2,    0.48,2,-999.000,9,-999.000,9,-999.000,9,  -999.0,9,  -999.0,9,-999.0000,9,-999.0000,9, -999.00,9, -999.00,9,  -999.0,9,  -999.0,-999.000,9,-999.000,-999.000,9,-999.0000,  15.0030,-999.0000,-999.000
  316N145_8,        I03,     455,          1,         30,         30,2,19950428,       0927,   -20.8315,   109.4400,       5042,   308.6,  12.8915,  35.2629,2,  35.2629,2,    223.7,2,   223.9,2,    4.14,2,    7.72,2,    0.01,2,    0.63,2,-999.000,9,-999.000,9,-999.000,9,  -999.0,9,  -999.0,9,-999.0000,9,-999.0000,9, -999.00,9,    1.26,2,    64.2,2,     3.8,-999.000,9,-999.000,-999.000,9,-999.0000,  12.8490,-999.0000,-999.000
  316N145_8,        I03,     455,          1,         29,         29,2,19950428,       0927,   -20.8315,   109.4400,       5042,   359.9,  11.8696,  35.0984,2,  35.1063,2,    227.8,2,   229.8,2,    4.13,2,    9.40,2,    0.01,2,    0.73,2,-999.000,9,-999.000,9,-999.000,9,  -999.0,9,  -999.0,9,-999.0000,9,-999.0000,9, -999.00,9, -999.00,9,  -999.0,9,  -999.0,-999.000,9,-999.000,-999.000,9,-999.0000,  11.8226,-999.0000,-999.000
  316N145_8,        I03,     455,          1,         28,         28,2,19950428,       0927,   -20.8315,   109.4400,       5042,   408.5,  10.2881,  34.8485,2,  34.8414,2,    233.1,2,   234.1,2,    4.98,2,   13.53,2,    0.00,2,    0.97,2,-999.000,9,-999.000,9,-999.000,9,  -999.0,9,  -999.0,9,-999.0000,9,-999.0000,9, -999.00,9,    1.31,2,    37.3,2,     3.9,-999.000,9,-999.000,-999.000,9,-999.0000,  10.2394,-999.0000,-999.000
  316N145_8,        I03,     455,          1,         27,         27,2,19950428,       0927,   -20.8315,   109.4400,       5042,   509.6,   8.7959,  34.6438,2,  34.6464,2,    220.1,2,   215.8,2,   10.72,2,   19.49,2,    0.00,2,    1.35,2,-999.000,9,-999.000,9,-999.000,9,  -999.0,9,  -999.0,9,-999.0000,9,-999.0000,9, -999.00,9,    1.19,2,    20.5,2,     3.5,-999.000,9,-999.000,-999.000,9,-999.0000,   8.7406,-999.0000,-999.000
  316N145_8,        I03,     455,          1,         26,         26,2,19950428,       0927,   -20.8315,   109.4400,       5042,   610.9,   7.2791,  34.5570,2,  34.5582,2,    168.4,2,   165.9,2,   32.01,2,   27.34,2,    0.00,2,    1.90,2,-999.000,9,-999.000,9,-999.000,9,  -999.0,9,  -999.0,9,-999.0000,9,-999.0000,9, -999.00,9,    0.89,2,   -66.8,2,     3.3,-999.000,9,-999.000,-999.000,9,-999.0000,   7.2193,-999.0000,-999.000
  316N145_8,        I03,     455,          1,         25,         25,2,19950428,       0927,   -20.8315,   109.4400,       5042,   711.6,   6.1908,  34.5791,2,  34.5790,2,    123.4,2,   119.9,2,   60.76,2,   33.06,2,    0.00,2,    2.35,2,-999.000,9,-999.000,9,-999.000,9,  -999.0,9,  -999.0,9,-999.0000,9,-999.0000,9, -999.00,9,    0.47,2,  -137.5,2,     2.4,-999.000,9,-999.000,-999.000,9,-999.0000,   6.1265,-999.0000,-999.000
  316N145_8,        I03,     455,          1,         24,         24,2,19950428,       0927,   -20.8315,   109.4400,       5042,   812.3,   5.7520,  34.6126,2,  34.6119,2,    100.3,2,    99.9,2,   76.32,2,   35.22,2,    0.00,2,    2.55,2,-999.000,9,-999.000,9,-999.000,9,  -999.0,9,  -999.0,9,-999.0000,9,-999.0000,9, -999.00,9,    0.28,2,  -160.3,2,     2.4,-999.000,9,-999.000,-999.000,9,-999.0000,   5.6806,-999.0000,-999.000
  316N145_8,        I03,     455,          1,         23,         23,2,19950428,       0927,   -20.8315,   109.4400,       5042,   911.2,   5.4230,  34.6324,2,  34.6317,2,     94.6,2,    94.1,2,   85.07,2,   36.00,2,    0.00,2,    2.63,2,-999.000,9,-999.000,9,-999.000,9,  -999.0,9,  -999.0,9,-999.0000,9,-999.0000,9, -999.00,9,    0.23,2,  -182.3,2,     2.4,-999.000,9,-999.000,-999.000,9,-999.0000,   5.3446,-999.0000,-999.000
  316N145_8,        I03,     455,          1,         22,         22,2,19950428,       0927,   -20.8315,   109.4400,       5042,  1012.0,   5.0192,  34.6281,2,  34.6288,2,     98.3,2,    97.7,2,   90.63,2,   36.16,2,    0.00,2,    2.65,2,-999.000,9,-999.000,9,-999.000,9,  -999.0,9,  -999.0,9,-999.0000,9,-999.0000,9, -999.00,9,    0.19,2,  -181.8,2,     2.7,-999.000,9,-999.000,-999.000,9,-999.0000,   4.9345,-999.0000,-999.000
  316N145_8,        I03,     455,          1,         21,         21,2,19950428,       0927,   -20.8315,   109.4400,       5042,  1114.1,   4.6390,  34.6300,2,  34.6309,2,    100.0,2,   100.8,2,   95.76,2,   36.37,2,    0.00,2,    2.66,2,-999.000,9,-999.000,9,-999.000,9,  -999.0,9,  -999.0,9,-999.0000,9,-999.0000,9, -999.00,9,    0.14,2,  -177.3,2,     2.4,-999.000,9,-999.000,-999.000,9,-999.0000,   4.5481,-999.0000,-999.000
  316N145_8,        I03,     455,          1,         20,         20,2,19950428,       0927,   -20.8315,   109.4400,       5042,  1214.5,   4.3288,  34.6380,2,  34.6390,2,    104.4,2,   105.4,2,   97.67,2,   36.28,2,    0.00,2,    2.65,2,-999.000,9,-999.000,9,-999.000,9,  -999.0,9,  -999.0,9,-999.0000,9,-999.0000,9, -999.00,9,    0.16,2,  -183.4,2,     3.0,-999.000,9,-999.000,-999.000,9,-999.0000,   4.2317,-999.0000,-999.000
  316N145_8,        I03,     455,          1,         19,         19,2,19950428,       0927,   -20.8315,   109.4400,       5042,  1416.5,   3.7308,  34.6540,2,  34.6541,2,    117.0,2,   118.9,2,  100.44,2,   35.88,2,    0.00,2,    2.60,2,-999.000,9,-999.000,9,-999.000,9,  -999.0,9,  -999.0,9,-999.0000,9,-999.0000,9, -999.00,9,    0.19,2,  -184.1,2,     2.5,-999.000,9,-999.000,-999.000,9,-999.0000,   3.6217,-999.0000,-999.000
  316N145_8,        I03,     455,          1,         18,         18,2,19950428,       0927,   -20.8315,   109.4400,       5042,  1619.7,   3.1455,  34.6790,2,  34.6789,2,    130.7,2,   130.9,2,  105.59,2,   35.43,2,    0.00,2,    2.55,2,-999.000,9,-999.000,9,-999.000,9,  -999.0,9,  -999.0,9,-999.0000,9,-999.0000,9, -999.00,9,    0.25,2,  -187.2,2,     2.5,-999.000,9,-999.000,-999.000,9,-999.0000,   3.0255,-999.0000,-999.000
  316N145_8,        I03,     455,          1,         17,         17,2,19950428,       0927,   -20.8315,   109.4400,       5042,  1818.8,   2.7217,  34.7025,2,  34.7034,2,    137.7,2,   139.2,2,  112.05,2,   34.98,2,    0.00,2,    2.52,2,-999.000,9,-999.000,9,-999.000,9,  -999.0,9,  -999.0,9,-999.0000,9,-999.0000,9, -999.00,9,    0.10,2,  -199.2,2,     3.6,-999.000,9,-999.000,-999.000,9,-999.0000,   2.5900,-999.0000,-999.000
  316N145_8,        I03,     455,          1,         16,         16,2,19950428,       0927,   -20.8315,   109.4400,       5042,  2023.4,   2.4371,  34.7169,2,  34.7172,2,    146.5,2,   145.5,2,  117.67,2,   34.78,2,    0.00,2,    2.50,2,-999.000,9,-999.000,9,-999.000,9,  -999.0,9,  -999.0,9,-999.0000,9,-999.0000,9, -999.00,9,    0.13,2,  -200.1,2,     2.8,-999.000,9,-999.000,-999.000,9,-999.0000,   2.2917,-999.0000,-999.000
  316N145_8,        I03,     455,          1,         15,         15,2,19950428,       0927,   -20.8315,   109.4400,       5042,  2226.1,   2.2174,  34.7241,2,  34.7235,2,    151.3,2,   149.9,2,  121.78,2,   34.53,2,    0.00,2,    2.48,2,-999.000,9,-999.000,9,-999.000,9,  -999.0,9,  -999.0,9,-999.0000,9,-999.0000,9, -999.00,9,    0.24,2,  -197.6,2,     2.9,-999.000,9,-999.000,-999.000,9,-999.0000,   2.0577,-999.0000,-999.000
  316N145_8,        I03,     455,          1,         14,         14,2,19950428,       0927,   -20.8315,   109.4400,       5042,  2427.4,   2.0369,  34.7258,2,  34.7252,2,    155.5,2,   155.0,2,  124.37,2,   34.44,2,    0.00,2,    2.46,2,-999.000,9,-999.000,9,-999.000,9,  -999.0,9,  -999.0,9,-999.0000,9,-999.0000,9, -999.00,9,    0.24,2,  -206.6,2,     2.5,-999.000,9,-999.000,-999.000,9,-999.0000,   1.8623,-999.0000,-999.000
  316N145_8,        I03,     455,          1,         13,         13,2,19950428,       0927,   -20.8315,   109.4400,       5042,  2631.4,   1.8763,  34.7261,2,  34.7258,2,    160.9,2,   159.6,2,  125.88,2,   34.14,2,    0.00,2,    2.44,2,-999.000,9,-999.000,9,-999.000,9,  -999.0,9,  -999.0,9,-999.0000,9,-999.0000,9, -999.00,9,    0.23,2,  -209.1,2,     2.4,-999.000,9,-999.000,-999.000,9,-999.0000,   1.6860,-999.0000,-999.000
  316N145_8,        I03,     455,          1,         12,         12,2,19950428,       0927,   -20.8315,   109.4400,       5042,  2835.7,   1.7412,  34.7252,2,  34.7252,2,    166.9,2,   167.1,2,  125.63,2,   33.84,2,    0.00,2,    2.40,2,-999.000,9,-999.000,9,-999.000,9,  -999.0,9,  -999.0,9,-999.0000,9,-999.0000,9, -999.00,9,    0.23,2,  -206.8,2,     1.9,-999.000,9,-999.000,-999.000,9,-999.0000,   1.5345,-999.0000,-999.000
  316N145_8,        I03,     455,          1,         11,         11,2,19950428,       0927,   -20.8315,   109.4400,       5042,  3037.6,   1.6112,  34.7239,2,  34.7235,2,    173.7,2,   173.3,2,  125.61,2,   33.54,2,    0.00,2,    2.37,2,-999.000,9,-999.000,9,-999.000,9,  -999.0,9,  -999.0,9,-999.0000,9,-999.0000,9, -999.00,9,    0.31,2,  -201.7,2,     1.9,-999.000,9,-999.000,-999.000,9,-999.0000,   1.3881,-999.0000,-999.000
  316N145_8,        I03,     455,          1,         10,         10,2,19950428,       0927,   -20.8315,   109.4400,       5042,  3242.0,   1.4838,  34.7216,2,  34.7221,2,    177.4,2,   178.5,2,  126.68,2,   33.35,2,    0.00,2,    2.35,2,-999.000,9,-999.000,9,-999.000,9,  -999.0,9,  -999.0,9,-999.0000,9,-999.0000,9, -999.00,9,    0.34,2,  -187.1,2,     3.5,-999.000,9,-999.000,-999.000,9,-999.0000,   1.2437,-999.0000,-999.000
  316N145_8,        I03,     455,          1,          9,          9,2,19950428,       0927,   -20.8315,   109.4400,       5042,  3444.7,   1.3674,  34.7193,2,  34.7182,2,    182.5,2,   182.4,2,  128.18,2,   33.25,2,    0.00,2,    2.34,2,-999.000,9,-999.000,9,-999.000,9,  -999.0,9,  -999.0,9,-999.0000,9,-999.0000,9, -999.00,9,    0.33,2,  -185.5,2,     2.4,-999.000,9,-999.000,-999.000,9,-999.0000,   1.1099,-999.0000,-999.000
  316N145_8,        I03,     455,          1,          8,          8,2,19950428,       0927,   -20.8315,   109.4400,       5042,  3649.2,   1.2858,  34.7168,2,  34.7160,2,    184.6,2,   185.4,2,  129.25,2,   33.16,2,    0.00,2,    2.32,2,-999.000,9,-999.000,9,-999.000,9,  -999.0,9,  -999.0,9,-999.0000,9,-999.0000,9, -999.00,9,    0.34,2,  -186.5,2,     3.0,-999.000,9,-999.000,-999.000,9,-999.0000,   1.0097,-999.0000,-999.000
  316N145_8,        I03,     455,          1,          7,          7,2,19950428,       0927,   -20.8315,   109.4400,       5042,  3852.4,   1.2344,  34.7155,2,  34.7152,2,    187.9,2,   187.6,2,  129.88,2,   33.07,2,    0.00,2,    2.30,2,-999.000,9,-999.000,9,-999.000,9,  -999.0,9,  -999.0,9,-999.0000,9,-999.0000,9, -999.00,9,    0.27,2,  -180.3,2,     2.4,-999.000,9,-999.000,-999.000,9,-999.0000,   0.9385,-999.0000,-999.000
  316N145_8,        I03,     455,          1,          6,          6,2,19950428,       0927,   -20.8315,   109.4400,       5042,  4056.7,   1.2009,  34.7144,2,  34.7140,2,    189.3,2,   189.4,2,  130.52,2,   33.02,2,    0.00,2,    2.29,2,-999.000,9,-999.000,9,-999.000,9,  -999.0,9,  -999.0,9,-999.0000,9,-999.0000,9, -999.00,9,    0.28,2,  -190.6,2,     2.4,-999.000,9,-999.000,-999.000,9,-999.0000,   0.8842,-999.0000,-999.000
  316N145_8,        I03,     455,          1,          5,          5,2,19950428,       0927,   -20.8315,   109.4400,       5042,  4260.8,   1.1858,  34.7140,2,  34.7121,2,    190.9,2,   190.9,2,  130.71,2,   33.08,2,    0.00,2,    2.29,2,-999.000,9,-999.000,9,-999.000,9,  -999.0,9,  -999.0,9,-999.0000,9,-999.0000,9, -999.00,9,    0.34,2,  -180.4,2,     3.1,-999.000,9,-999.000,-999.000,9,-999.0000,   0.8472,-999.0000,-999.000
  316N145_8,        I03,     455,          1,          4,          4,2,19950428,       0927,   -20.8315,   109.4400,       5042,  4465.7,   1.1865,  34.7134,2,  34.7134,2,    190.5,2,   191.6,2,  130.90,2,   32.99,2,    0.00,2,    2.29,2,-999.000,9,-999.000,9,-999.000,9,  -999.0,9,  -999.0,9,-999.0000,9,-999.0000,9, -999.00,9,    0.32,2,  -179.4,2,     2.7,-999.000,9,-999.000,-999.000,9,-999.0000,   0.8249,-999.0000,-999.000
  316N145_8,        I03,     455,          1,          3,          3,2,19950428,       0927,   -20.8315,   109.4400,       5042,  4670.5,   1.1943,  34.7130,2,  34.7142,2,    191.8,2,   192.5,2,  130.66,2,   32.95,2,    0.00,2,    2.29,2,-999.000,9,-999.000,9,-999.000,9,  -999.0,9,  -999.0,9,-999.0000,9,-999.0000,9, -999.00,9,    0.34,2,  -188.7,2,     3.8,-999.000,9,-999.000,-999.000,9,-999.0000,   0.8091,-999.0000,-999.000
  316N145_8,        I03,     455,          1,          2,          2,2,19950428,       0927,   -20.8315,   109.4400,       5042,  4906.2,   1.2013,  34.7130,2,  34.7131,2,    193.1,2,   193.5,2,  130.63,2,   32.90,2,    0.00,2,    2.28,2,-999.000,9,-999.000,9,-999.000,9,  -999.0,9,  -999.0,9,-999.0000,9,-999.0000,9, -999.00,9,    0.37,2,  -179.6,2,     3.5,-999.000,9,-999.000,-999.000,9,-999.0000,   0.7883,-999.0000,-999.000
  316N145_8,        I03,     455,          1,          1,          1,2,19950428,       0927,   -20.8315,   109.4400,       5042,  5141.1,   1.2128,  34.7125,2,  34.7125,2,    194.9,2,   194.6,2,  130.16,2,   32.86,2,    0.00,2,    2.29,2,-999.000,9,-999.000,9,-999.000,9,  -999.0,9,  -999.0,9,-999.0000,9,-999.0000,9, -999.00,9,    0.35,2,  -177.7,2,     2.7,-999.000,9,-999.000,-999.000,9,-999.0000,   0.7711,-999.0000,-999.000