BOTTLE,20140514CCHSIOSE
EXPOCODE,SECT_ID,STNNBR,CASTNO,SAMPNO,BTLNBR,BTLNBR_FLAG_W,DATE,TIME,LATITUDE,LONGITUDE,DEPTH,CTDPRS,CTDTMP,CTDSAL,CTDSAL_FLAG_W,SALNTY,SALNTY_FLAG_W,CTDOXY,CTDOXY_FLAG_W,OXYGEN,OXYGEN_FLAG_W,SILCAT,SILCAT_FLAG_W,NITRAT,NITRAT_FLAG_W,NITRIT,NITRIT_FLAG_W,PHSPHT,PHSPHT_FLAG_W,CFC-11,CFC-11_FLAG_W,CFC-12,CFC-12_FLAG_W,CFC113,CFC113_FLAG_W,TCARBN,TCARBN_FLAG_W,ALKALI,ALKALI_FLAG_W,TRITUM,TRITUM_FLAG_W,HELIUM,HELIUM_FLAG_W,DELHE3,DELHE3_FLAG_W,DELC13,DELC13_FLAG_W,DELC14,DELC14_FLAG_W,C14ERR,NEON,NEON_FLAG_W,NEONER,CCL4,CCL4_FLAG_W,HELIER,THETA,TRITER,DELHER
,,,,,,,,,,,METERS,DBAR,ITS-90,PSS-78,,PSS-78,,UMOL/KG,,UMOL/KG,,UMOL/KG,,UMOL/KG,,UMOL/KG,,UMOL/KG,,PMOL/KG,,PMOL/KG,,PMOL/KG,,UMOL/KG,,UMOL/KG,,TU,,NMOL/KG,,PERCNT,,/MILLE,,/MILLE,,/MILLE,NMOL/KG,,NMOL/KG,PMOL/KG,,NMOL/KG,DEG C,TU,PERCNT
  316N145_8,        I03,     534,          1,         34,         34,2,19950523,       0808,   -20.3663,    59.8238,       3985,     6.1,  24.5327,  35.2559,2,  35.2552,2,    209.3,2,   209.7,2,    2.83,2,    0.05,2,    0.00,2,    0.11,2,-999.000,9,-999.000,9,-999.000,9,  1966.3,6,  2309.4,6,-999.0000,9,-999.0000,9, -999.00,9, -999.00,9,  -999.0,9,  -999.0,-999.000,9,-999.000,-999.000,9,-999.0000,  24.5314,-999.0000,-999.000
  316N145_8,        I03,     534,          1,         33,         33,2,19950523,       0808,   -20.3663,    59.8238,       3985,    56.4,  24.5103,  35.2597,2,  35.2587,2,    211.2,2,   209.8,2,    2.82,2,    0.05,2,    0.00,2,    0.11,2,-999.000,9,-999.000,9,-999.000,9,  -999.0,9,  -999.0,9,-999.0000,9,-999.0000,9, -999.00,9, -999.00,9,  -999.0,9,  -999.0,-999.000,9,-999.000,-999.000,9,-999.0000,  24.4983,-999.0000,-999.000
  316N145_8,        I03,     534,          1,         32,         32,2,19950523,       0808,   -20.3663,    59.8238,       3985,   106.4,  22.4178,  35.3208,2,  35.3215,2,    217.8,2,   217.2,2,    2.81,2,    0.00,2,    0.00,2,    0.13,2,-999.000,9,-999.000,9,-999.000,9,  -999.0,9,  -999.0,9,-999.0000,9,-999.0000,9, -999.00,9, -999.00,9,  -999.0,9,  -999.0,-999.000,9,-999.000,-999.000,9,-999.0000,  22.3964,-999.0000,-999.000
  316N145_8,        I03,     534,          1,         31,         31,2,19950523,       0808,   -20.3663,    59.8238,       3985,   156.5,  21.1605,  35.5247,2,  35.5288,2,    197.8,2,   198.2,2,    3.42,2,    1.28,2,    0.07,2,    0.24,2,-999.000,9,-999.000,9,-999.000,9,  -999.0,9,  -999.0,9,-999.0000,9,-999.0000,9, -999.00,9, -999.00,9,  -999.0,9,  -999.0,-999.000,9,-999.000,-999.000,9,-999.0000,  21.1303,-999.0000,-999.000
  316N145_8,        I03,     534,          1,         30,         30,2,19950523,       0808,   -20.3663,    59.8238,       3985,   206.5,  19.7884,  35.6622,2,  35.6687,2,    191.6,2,   193.7,2,    3.82,2,    2.49,2,    0.02,2,    0.31,2,-999.000,9,-999.000,9,-999.000,9,  -999.0,9,  -999.0,9,-999.0000,9,-999.0000,9, -999.00,9, -999.00,9,  -999.0,9,  -999.0,-999.000,9,-999.000,-999.000,9,-999.0000,  19.7504,-999.0000,-999.000
  316N145_8,        I03,     534,          1,         29,         29,2,19950523,       0808,   -20.3663,    59.8238,       3985,   257.6,  18.3933,  35.7139,2,  35.7126,2,    190.4,2,   196.2,2,    4.02,2,    2.98,2,    0.01,2,    0.36,2,-999.000,9,-999.000,9,-999.000,9,  -999.0,9,  -999.0,9,-999.0000,9,-999.0000,9, -999.00,9, -999.00,9,  -999.0,9,  -999.0,-999.000,9,-999.000,-999.000,9,-999.0000,  18.3481,-999.0000,-999.000
  316N145_8,        I03,     534,          1,         28,         28,2,19950523,       0808,   -20.3663,    59.8238,       3985,   307.9,  16.4187,  35.5923,2,  35.5881,2,    194.9,2,   196.3,2,    5.04,2,    5.11,2,    0.01,2,    0.50,2,-999.000,9,-999.000,9,-999.000,9,  -999.0,9,  -999.0,9,-999.0000,9,-999.0000,9, -999.00,9, -999.00,9,  -999.0,9,  -999.0,-999.000,9,-999.000,-999.000,9,-999.0000,  16.3688,-999.0000,-999.000
  316N145_8,        I03,     534,          1,         27,         27,2,19950523,       0808,   -20.3663,    59.8238,       3985,   357.3,  14.6463,  35.4525,2,  35.4565,2,    214.0,2,   215.7,2,    3.38,2,    5.50,2,    0.01,2,    0.53,2,-999.000,9,-999.000,9,-999.000,9,  -999.0,9,  -999.0,9,-999.0000,9,-999.0000,9, -999.00,9, -999.00,9,  -999.0,9,  -999.0,-999.000,9,-999.000,-999.000,9,-999.0000,  14.5926,-999.0000,-999.000
  316N145_8,        I03,     534,          1,         26,         26,2,19950523,       0808,   -20.3663,    59.8238,       3985,   407.8,  13.1712,  35.2612,2,  35.2563,2,    222.3,2,   222.6,2,    3.79,2,    8.01,2,    0.01,2,    0.67,2,-999.000,9,-999.000,9,-999.000,9,  -999.0,9,  -999.0,9,-999.0000,9,-999.0000,9, -999.00,9, -999.00,9,  -999.0,9,  -999.0,-999.000,9,-999.000,-999.000,9,-999.0000,  13.1140,-999.0000,-999.000
  316N145_8,        I03,     534,          1,         25,         25,2,19950523,       0808,   -20.3663,    59.8238,       3985,   457.5,  11.9070,  35.0772,2,  35.0746,2,    225.8,2,   226.0,2,    4.40,2,   10.47,2,    0.00,2,    0.81,2,-999.000,9,-999.000,9,-999.000,9,  -999.0,9,  -999.0,9,-999.0000,9,-999.0000,9, -999.00,9, -999.00,9,  -999.0,9,  -999.0,-999.000,9,-999.000,-999.000,9,-999.0000,  11.8469,-999.0000,-999.000
  316N145_8,        I03,     534,          1,         24,         24,2,19950523,       0808,   -20.3663,    59.8238,       3985,   507.9,  11.0167,  34.9406,2,  34.9469,2,    228.7,2,   230.5,2,    4.59,2,   12.12,2,    0.00,2,    0.92,2,-999.000,9,-999.000,9,-999.000,9,  -999.0,9,  -999.0,9,-999.0000,9,-999.0000,9, -999.00,9, -999.00,9,  -999.0,9,  -999.0,-999.000,9,-999.000,-999.000,9,-999.0000,  10.9531,-999.0000,-999.000
  316N145_8,        I03,     534,          1,         23,         23,2,19950523,       0808,   -20.3663,    59.8238,       3985,   607.5,   9.8107,  34.7665,2,  34.7674,2,    227.1,2,   225.8,2,    6.03,2,   15.65,2,    0.00,2,    1.12,2,   2.220,2,   1.105,2,-999.000,9,  -999.0,9,  -999.0,9,-999.0000,9,-999.0000,9, -999.00,9, -999.00,9,  -999.0,9,  -999.0,-999.000,9,-999.000,-999.000,9,-999.0000,   9.7398,-999.0000,-999.000
  316N145_8,        I03,     534,          1,         22,         22,2,19950523,       0808,   -20.3663,    59.8238,       3985,   708.1,   8.7079,  34.6427,2,  34.6449,2,    220.6,2,   214.2,2,    9.94,2,   19.42,2,    0.00,2,    1.35,2,   1.554,2,   0.772,2,-999.000,9,  -999.0,9,  -999.0,9,-999.0000,9,-999.0000,9, -999.00,9, -999.00,9,  -999.0,9,  -999.0,-999.000,9,-999.000,-999.000,9,-999.0000,   8.6305,-999.0000,-999.000
  316N145_8,        I03,     534,          1,         21,         21,2,19950523,       0808,   -20.3663,    59.8238,       3985,   808.4,   6.8614,  34.5112,2,  34.5124,2,    195.5,2,   190.9,2,   23.55,2,   25.88,2,    0.00,2,    1.78,2,   0.600,2,   0.307,2,-999.000,9,  -999.0,9,  -999.0,9,-999.0000,9,-999.0000,9, -999.00,9, -999.00,9,  -999.0,9,  -999.0,-999.000,9,-999.000,-999.000,9,-999.0000,   6.7838,-999.0000,-999.000
  316N145_8,        I03,     534,          1,         20,         20,2,19950523,       0808,   -20.3663,    59.8238,       3985,   909.5,   5.8239,  34.5006,2,  34.4974,2,    172.1,2,   171.6,2,   38.80,2,   29.49,2,    0.00,2,    2.05,2,   0.299,2,   0.149,2,-999.000,9,  -999.0,9,  -999.0,9,-999.0000,9,-999.0000,9, -999.00,9, -999.00,9,  -999.0,9,  -999.0,-999.000,9,-999.000,-999.000,9,-999.0000,   5.7430,-999.0000,-999.000
  316N145_8,        I03,     534,          1,         19,         19,2,19950523,       0808,   -20.3663,    59.8238,       3985,  1010.2,   5.2538,  34.5614,2,  34.5622,2,    137.1,2,   139.2,2,   60.46,2,   32.78,2,    0.00,2,    2.32,2,   0.092,2,   0.041,2,-999.000,9,  -999.0,9,  -999.0,9,-999.0000,9,   1.8330,2,    7.66,2, -999.00,9,  -999.0,9,  -999.0,   7.794,2,   0.063,-999.000,9,   0.0060,   5.1675,-999.0000,    0.13
  316N145_8,        I03,     534,          1,         18,         18,2,19950523,       0808,   -20.3663,    59.8238,       3985,  1110.4,   4.7959,  34.5929,2,  34.5933,2,    129.8,2,   128.5,2,   72.03,2,   34.06,2,    0.00,2,    2.42,2,   0.034,2,   0.015,2,-999.000,9,  -999.0,9,  -999.0,9,-999.0000,9,   1.8450,2,    8.86,2, -999.00,9,  -999.0,9,  -999.0,   7.857,2,   0.023,-999.000,9,   0.0030,   4.7041,-999.0000,    0.10
  316N145_8,        I03,     534,          1,         17,         17,2,19950523,       0808,   -20.3663,    59.8238,       3985,  1209.8,   4.3458,  34.6375,2,  34.6371,2,    124.5,2,   124.2,2,   82.38,2,   34.71,2,    0.00,2,    2.48,2,   0.014,2,   0.004,2,-999.000,9,  -999.0,9,  -999.0,9,-999.0000,9,   1.7810,3,   10.74,3, -999.00,9,  -999.0,9,  -999.0,   7.583,4,   0.052,-999.000,9,   0.0060,   4.2489,-999.0000,    0.13
  316N145_8,        I03,     534,          1,         16,         16,2,19950523,       0808,   -20.3663,    59.8238,       3985,  1310.7,   3.8569,  34.6510,2,  34.6496,2,    132.8,2,   133.3,2,   86.31,2,   34.46,2,    0.00,2,    2.44,2,-999.000,9,-999.000,9,-999.000,9,  -999.0,9,  -999.0,9,-999.0000,9,   1.8580,2,   10.46,2, -999.00,9,  -999.0,9,  -999.0,   7.989,2,   0.023,-999.000,9,   0.0040,   3.7558,-999.0000,    0.10
  316N145_8,        I03,     534,          1,         15,         15,2,19950523,       0808,   -20.3663,    59.8238,       3985,  1410.9,   3.4565,  34.6520,2,  34.6529,2,    141.4,2,   142.3,2,   87.95,2,   34.06,2,    0.00,2,    2.41,2,-999.000,9,-999.000,9,-999.000,9,  -999.0,9,  -999.0,9,-999.0000,9,   1.8540,2,   11.20,2, -999.00,9,  -999.0,9,  -999.0,   7.954,2,   0.070,-999.000,9,   0.0060,   3.3509,-999.0000,    0.13
  316N145_8,        I03,     534,          1,         14,         14,2,19950523,       0808,   -20.3663,    59.8238,       3985,  1512.3,   3.1664,  34.6669,2,  34.6655,2,    147.7,2,   149.0,2,   90.63,2,   33.77,2,    0.00,2,    2.39,2,-999.000,9,-999.000,9,-999.000,9,  -999.0,9,  -999.0,9,-999.0000,9,   1.8600,2,   11.33,2, -999.00,9,  -999.0,9,  -999.0,   7.966,2,   0.024,-999.000,9,   0.0030,   3.0554,-999.0000,    0.10
  316N145_8,        I03,     534,          1,         13,         13,2,19950523,       0808,   -20.3663,    59.8238,       3985,  1716.6,   2.6016,  34.6990,2,  34.6998,2,    159.3,2,   159.7,2,   99.18,2,   33.17,2,    0.00,2,    2.33,2,-999.000,9,-999.000,9,-999.000,9,  -999.0,9,  -999.0,9,-999.0000,9,   1.8860,2,   12.11,2, -999.00,9,  -999.0,9,  -999.0,   8.042,2,   0.073,-999.000,9,   0.0120,   2.4802,-999.0000,    0.13
  316N145_8,        I03,     534,          1,         12,         12,2,19950523,       0808,   -20.3663,    59.8238,       3985,  1920.5,   2.3476,  34.7163,2,  34.7165,2,    164.6,2,   164.1,2,  104.41,2,   33.02,2,    0.00,2,    2.32,2,-999.000,9,-999.000,9,-999.000,9,  -999.0,9,  -999.0,9,-999.0000,9,   1.8700,2,   12.64,2, -999.00,9,  -999.0,9,  -999.0,   8.053,2,   0.023,-999.000,9,   0.0040,   2.2124,-999.0000,    0.10
  316N145_8,        I03,     534,          1,         11,         11,2,19950523,       0808,   -20.3663,    59.8238,       3985,  2121.2,   2.2160,  34.7258,2,  34.7263,2,    164.8,2,   164.4,2,  109.67,2,   33.12,2,    0.01,2,    2.33,2,-999.000,9,-999.000,9,-999.000,9,  -999.0,9,  -999.0,9,-999.0000,9,   1.8710,2,   13.20,2, -999.00,9,  -999.0,9,  -999.0,   8.114,2,   0.058,-999.000,9,   0.0060,   2.0655,-999.0000,    0.13
  316N145_8,        I03,     534,          1,         10,         10,2,19950523,       0808,   -20.3663,    59.8238,       3985,  2324.5,   2.0541,  34.7293,2,  34.7302,2,    165.7,2,   165.1,2,  115.38,2,   33.22,2,    0.00,2,    2.34,2,-999.000,9,-999.000,9,-999.000,9,  -999.0,9,  -999.0,9,-999.0000,9,   1.8930,2,   14.08,2, -999.00,9,  -999.0,9,  -999.0,   8.107,2,   0.024,-999.000,9,   0.0040,   1.8884,-999.0000,    0.10
  316N145_8,        I03,     534,          1,          9,          9,2,19950523,       0808,   -20.3663,    59.8238,       3985,  2527.2,   1.9071,  34.7296,2,  34.7304,2,    166.5,2,   167.6,2,  119.19,2,   33.27,2,    0.00,2,    2.35,2,-999.000,9,-999.000,9,-999.000,9,  -999.0,9,  -999.0,9,-999.0000,9,   1.8820,2,   14.77,2, -999.00,9,  -999.0,9,  -999.0,   8.164,2,   0.064,-999.000,9,   0.0060,   1.7257,-999.0000,    0.13
  316N145_8,        I03,     534,          1,          8,          8,2,19950523,       0808,   -20.3663,    59.8238,       3985,  2731.8,   1.7844,  34.7285,2,  34.7292,2,    170.8,2,   170.9,2,  121.73,2,   33.32,2,    0.00,2,    2.34,2,-999.000,9,-999.000,9,-999.000,9,  -999.0,9,  -999.0,9,-999.0000,9,   1.8930,2,   14.55,2, -999.00,9,  -999.0,9,  -999.0,   8.117,2,   0.024,-999.000,9,   0.0030,   1.5866,-999.0000,    0.14
  316N145_8,        I03,     534,          1,          7,          7,2,19950523,       0808,   -20.3663,    59.8238,       3985,  2933.8,   1.6803,  34.7267,2,  34.7275,2,    173.0,2,   174.2,2,  122.98,2,   33.17,2,    0.00,2,    2.34,2,-999.000,9,-999.000,9,-999.000,9,  -999.0,9,  -999.0,9,-999.0000,9,   1.8930,2,   13.36,2, -999.00,9,  -999.0,9,  -999.0,   8.118,2,   0.069,-999.000,9,   0.0120,   1.4656,-999.0000,    0.13
  316N145_8,        I03,     534,          1,          6,          6,2,19950523,       0808,   -20.3663,    59.8238,       3985,  3138.0,   1.5546,  34.7223,2,  34.7233,2,    178.8,2,   179.6,2,  123.59,2,   32.98,2,    0.00,2,    2.32,2,-999.000,9,-999.000,9,-999.000,9,  -999.0,9,  -999.0,9,-999.0000,9,   1.7590,4,   13.37,2, -999.00,9,  -999.0,9,  -999.0,   0.000,5,   0.000,-999.000,9,   0.0030,   1.3230,-999.0000,    0.14
  316N145_8,        I03,     534,          1,          5,          5,2,19950523,       0808,   -20.3663,    59.8238,       3985,  3341.6,   1.5257,  34.7220,2,  34.7220,2,    181.0,2,   181.1,2,  123.98,2,   32.93,2,    0.00,2,    2.32,2,-999.000,9,-999.000,9,-999.000,9,  -999.0,9,  -999.0,9,-999.0000,9,-999.0000,9, -999.00,9, -999.00,9,  -999.0,9,  -999.0,-999.000,9,-999.000,-999.000,9,-999.0000,   1.2747,-999.0000,-999.000
  316N145_8,        I03,     534,          1,          4,          4,2,19950523,       0808,   -20.3663,    59.8238,       3985,  3545.0,   1.5022,  34.7208,2,  34.7212,2,    183.0,2,   182.5,2,  123.93,2,   32.88,2,    0.00,2,    2.31,2,-999.000,9,-999.000,9,-999.000,9,  -999.0,9,  -999.0,9,-999.0000,9,   1.8980,2,   12.53,2, -999.00,9,  -999.0,9,  -999.0,   8.173,2,   0.024,-999.000,9,   0.0040,   1.2312,-999.0000,    0.10
  316N145_8,        I03,     534,          1,          3,          3,2,19950523,       0808,   -20.3663,    59.8238,       3985,  3749.6,   1.4647,  34.7199,2,  34.7196,2,    184.7,2,   184.2,2,  124.32,2,   32.83,2,    0.00,2,    2.31,2,-999.000,9,-999.000,9,-999.000,9,  -999.0,9,  -999.0,9,-999.0000,9,-999.0000,9, -999.00,9, -999.00,9,  -999.0,9,  -999.0,-999.000,9,-999.000,-999.000,9,-999.0000,   1.1734,-999.0000,-999.000
  316N145_8,        I03,     534,          1,          2,          2,2,19950523,       0808,   -20.3663,    59.8238,       3985,  3953.6,   1.4412,  34.7192,2,  34.7188,2,    186.0,2,   185.9,2,  124.50,2,   32.63,2,    0.00,2,    2.31,2,-999.000,9,-999.000,9,-999.000,9,  -999.0,9,  -999.0,9,-999.0000,9,-999.0000,9, -999.00,9, -999.00,9,  -999.0,9,  -999.0,-999.000,9,-999.000,-999.000,9,-999.0000,   1.1288,-999.0000,-999.000
  316N145_8,        I03,     534,          1,          1,          1,2,19950523,       0808,   -20.3663,    59.8238,       3985,  4102.5,   1.4182,  34.7183,2,  34.7178,2,    187.2,2,   187.1,2,  124.88,2,   32.83,2,    0.00,2,    2.30,2,-999.000,9,-999.000,9,-999.000,9,  -999.0,9,  -999.0,9,-999.0000,9,   1.8740,2,   11.24,2, -999.00,9,  -999.0,9,  -999.0,   8.038,2,   0.021,-999.000,9,   0.0030,   1.0902,-999.0000,    0.13