BOTTLE,20140514CCHSIOSE
EXPOCODE,SECT_ID,STNNBR,CASTNO,SAMPNO,BTLNBR,BTLNBR_FLAG_W,DATE,TIME,LATITUDE,LONGITUDE,DEPTH,CTDPRS,CTDTMP,CTDSAL,CTDSAL_FLAG_W,SALNTY,SALNTY_FLAG_W,CTDOXY,CTDOXY_FLAG_W,OXYGEN,OXYGEN_FLAG_W,SILCAT,SILCAT_FLAG_W,NITRAT,NITRAT_FLAG_W,NITRIT,NITRIT_FLAG_W,PHSPHT,PHSPHT_FLAG_W,CFC-11,CFC-11_FLAG_W,CFC-12,CFC-12_FLAG_W,CFC113,CFC113_FLAG_W,TCARBN,TCARBN_FLAG_W,ALKALI,ALKALI_FLAG_W,TRITUM,TRITUM_FLAG_W,HELIUM,HELIUM_FLAG_W,DELHE3,DELHE3_FLAG_W,DELC13,DELC13_FLAG_W,DELC14,DELC14_FLAG_W,C14ERR,NEON,NEON_FLAG_W,NEONER,CCL4,CCL4_FLAG_W,HELIER,THETA,TRITER,DELHER
,,,,,,,,,,,METERS,DBAR,ITS-90,PSS-78,,PSS-78,,UMOL/KG,,UMOL/KG,,UMOL/KG,,UMOL/KG,,UMOL/KG,,UMOL/KG,,PMOL/KG,,PMOL/KG,,PMOL/KG,,UMOL/KG,,UMOL/KG,,TU,,NMOL/KG,,PERCNT,,/MILLE,,/MILLE,,/MILLE,NMOL/KG,,NMOL/KG,PMOL/KG,,NMOL/KG,DEG C,TU,PERCNT
  316N145_8,        I03,     452,          1,         36,         36,2,19950427,       1306,   -21.6658,   111.3665,       5031,    12.4,  27.7422,  35.2805,2,  35.2799,2,    200.0,2,   200.7,2,    4.56,2,    0.29,2,    0.00,2,    0.07,2,   1.720,2,   0.980,2,-999.000,9,  1960.1,6,  2309.0,6,-999.0000,9,-999.0000,9, -999.00,9,    1.35,2,    50.3,2,     4.0,-999.000,9,-999.000,-999.000,9,-999.0000,  27.7393,-999.0000,-999.000
  316N145_8,        I03,     452,          1,         35,         35,2,19950427,       1306,   -21.6658,   111.3665,       5031,    57.2,  24.5546,  35.1528,2,  35.1550,2,    207.1,2,   199.8,2,    6.24,2,    0.48,2,    0.03,2,    0.19,2,   1.877,2,   1.058,2,-999.000,9,  1989.3,2,  2308.0,2,-999.0000,9,-999.0000,9, -999.00,9, -999.00,9,  -999.0,9,  -999.0,-999.000,9,-999.000,-999.000,9,-999.0000,  24.5424,-999.0000,-999.000
  316N145_8,        I03,     452,          1,         34,         34,2,19950427,       1306,   -21.6658,   111.3665,       5031,   106.9,  20.6249,  35.2727,2,  35.2694,2,    152.6,2,   149.3,2,   11.55,2,    8.26,2,    0.02,2,    0.64,2,   1.850,2,   1.023,2,-999.000,9,  2057.8,2,  2314.0,2,-999.0000,9,-999.0000,9, -999.00,9,    0.63,2,    63.0,2,     3.7,-999.000,9,-999.000,-999.000,9,-999.0000,  20.6047,-999.0000,-999.000
  316N145_8,        I03,     452,          1,         33,         33,2,19950427,       1306,   -21.6658,   111.3665,       5031,   157.9,  18.8880,  35.4306,2,  35.4264,2,    157.6,2,   158.6,2,   11.95,2,    8.57,2,    0.01,2,    0.66,2,   1.966,2,   1.078,2,-999.000,9,  2078.7,2,  2314.0,2,-999.0000,9,-999.0000,9, -999.00,9,    0.74,2,    55.8,2,     3.8,-999.000,9,-999.000,-999.000,9,-999.0000,  18.8599,-999.0000,-999.000
  316N145_8,        I03,     452,          1,         32,         32,2,19950427,       1306,   -21.6658,   111.3665,       5031,   208.0,  18.0862,  35.8051,2,  35.7859,2,    195.9,2,   201.2,2,    5.12,2,    3.51,2,    0.01,2,    0.36,2,   2.457,2,   1.323,2,-999.000,9,  2072.7,2,  2347.0,2,-999.0000,9,-999.0000,9, -999.00,9,    1.01,2,    78.7,2,     3.0,-999.000,9,-999.000,-999.000,9,-999.0000,  18.0502,-999.0000,-999.000
  316N145_8,        I03,     452,          1,         31,         31,2,19950427,       1306,   -21.6658,   111.3665,       5031,   258.6,  16.2351,  35.6825,2,  35.6866,2,    209.3,2,   208.6,2,    5.10,2,    4.21,2,    0.01,2,    0.41,2,   2.621,2,   1.392,2,-999.000,9,  2082.2,2,  2347.0,2,-999.0000,9,-999.0000,9, -999.00,9, -999.00,9,  -999.0,9,  -999.0,-999.000,9,-999.000,-999.000,9,-999.0000,  16.1935,-999.0000,-999.000
  316N145_8,        I03,     452,          1,         30,         30,2,19950427,       1306,   -21.6658,   111.3665,       5031,   307.7,  14.1045,  35.4245,2,  35.4114,2,    219.1,2,   221.7,2,    4.44,2,    6.22,2,    0.01,2,    0.54,2,   2.952,2,   1.536,2,-999.000,9,  2091.4,2,  2333.0,2,-999.0000,9,-999.0000,9, -999.00,9,    1.19,2,    77.8,2,     4.8,-999.000,9,-999.000,-999.000,9,-999.0000,  14.0595,-999.0000,-999.000
  316N145_8,        I03,     452,          1,         29,         29,2,19950427,       1306,   -21.6658,   111.3665,       5031,   358.7,  12.2149,  35.1457,2,  35.1316,2,    227.2,2,   229.0,2,    4.64,2,    9.39,2,    0.01,2,    0.73,2,   3.122,2,   1.597,2,-999.000,9,  2099.7,2,  -999.0,5,-999.0000,9,-999.0000,9, -999.00,9, -999.00,9,  -999.0,9,  -999.0,-999.000,9,-999.000,-999.000,9,-999.0000,  12.1672,-999.0000,-999.000
  316N145_8,        I03,     452,          1,         28,         28,2,19950427,       1306,   -21.6658,   111.3665,       5031,   409.0,  10.7361,  34.9154,2,  34.9108,2,    227.3,2,   230.2,2,    6.32,2,   12.86,2,    0.01,2,    0.94,2,   3.095,2,   1.567,2,-999.000,9,  2111.1,2,  2308.0,2,-999.0000,9,-999.0000,9, -999.00,9,    1.11,2,    72.7,2,     4.4,-999.000,9,-999.000,-999.000,9,-999.0000,  10.6860,-999.0000,-999.000
  316N145_8,        I03,     452,          1,         27,         27,2,19950427,       1306,   -21.6658,   111.3665,       5031,   508.9,   8.5340,  34.6231,2,  34.6246,2,    208.6,2,  -999.0,9,   13.53,2,   20.65,2,    0.01,2,    1.42,2,   2.112,2,   1.030,2,-999.000,9,  2138.6,2,  2301.0,2,-999.0000,9,-999.0000,9, -999.00,9,    1.09,2,    21.6,2,     3.3,-999.000,9,-999.000,-999.000,9,-999.0000,   8.4797,-999.0000,-999.000
  316N145_8,        I03,     452,          1,         26,         26,2,19950427,       1306,   -21.6658,   111.3665,       5031,   608.9,   6.7944,  34.5341,2,  34.5331,2,    167.4,2,   162.6,2,   36.88,2,   28.63,2,    0.00,2,    2.00,2,   0.628,2,   0.316,2,-999.000,9,  2193.6,2,  2310.0,2,-999.0000,9,-999.0000,9, -999.00,9,    0.80,2,   -77.9,2,     3.4,-999.000,9,-999.000,-999.000,9,-999.0000,   6.7370,-999.0000,-999.000
  316N145_8,        I03,     452,          1,         25,         25,2,19950427,       1306,   -21.6658,   111.3665,       5031,   709.5,   6.0079,  34.5527,2,  34.5535,2,    129.4,2,   130.4,2,   57.68,2,   32.56,2,    0.00,2,    2.33,2,-999.000,9,-999.000,9,-999.000,9,  2232.5,2,  2329.0,2,-999.0000,9,-999.0000,9, -999.00,9,    0.46,2,  -131.0,2,     2.9,-999.000,9,-999.000,-999.000,9,-999.0000,   5.9448,-999.0000,-999.000
  316N145_8,        I03,     452,          1,         24,         24,2,19950427,       1306,   -21.6658,   111.3665,       5031,   811.2,   5.7276,  34.6113,2,  34.6125,2,     98.8,2,    99.6,2,   77.43,2,   35.17,2,    0.00,2,    2.57,2,   0.033,2,   0.017,2,-999.000,9,  2267.7,2,  2357.0,2,-999.0000,9,-999.0000,9, -999.00,9,    0.28,2,  -164.4,2,     3.5,-999.000,9,-999.000,-999.000,9,-999.0000,   5.6565,-999.0000,-999.000
  316N145_8,        I03,     452,          1,         23,         23,2,19950427,       1306,   -21.6658,   111.3665,       5031,   910.9,   5.2440,  34.6141,2,  34.6160,2,     99.6,2,    99.3,2,   85.70,2,   35.78,2,    0.00,2,    2.62,2,   0.015,2,   0.007,2,-999.000,9,  2278.3,2,  2359.0,2,-999.0000,9,-999.0000,9, -999.00,9,    0.24,2,  -163.7,2,     3.1,-999.000,9,-999.000,-999.000,9,-999.0000,   5.1668,-999.0000,-999.000
  316N145_8,        I03,     452,          1,         22,         22,2,19950427,       1306,   -21.6658,   111.3665,       5031,  1012.9,   4.8759,  34.6192,2,  34.6209,2,    100.1,2,   102.1,2,   89.92,2,   36.00,2,    0.00,2,    2.64,2,   0.010,2,   0.005,2,-999.000,9,  2282.0,2,  2366.0,2,-999.0000,9,-999.0000,9, -999.00,9,    0.29,2,  -175.1,2,     3.1,-999.000,9,-999.000,-999.000,9,-999.0000,   4.7922,-999.0000,-999.000
  316N145_8,        I03,     452,          1,         21,         21,2,19950427,       1306,   -21.6658,   111.3665,       5031,  1112.7,   4.5592,  34.6254,2,  34.6249,2,    103.1,2,   103.2,2,   95.42,2,   36.13,2,    0.00,2,    2.65,2,   0.006,2,   0.003,2,-999.000,9,  2289.2,2,  2370.0,2,-999.0000,9,-999.0000,9, -999.00,9,    0.17,2,  -183.9,2,     4.5,-999.000,9,-999.000,-999.000,9,-999.0000,   4.4691,-999.0000,-999.000
  316N145_8,        I03,     452,          1,         20,         20,2,19950427,       1306,   -21.6658,   111.3665,       5031,  1214.1,   4.2773,  34.6357,2,  34.6361,2,    103.5,2,   104.6,2,  100.94,2,   36.25,2,    0.00,2,    2.66,2,   0.007,2,   0.006,2,-999.000,9,  2294.6,2,  2379.0,2,-999.0000,9,-999.0000,9, -999.00,9,    0.08,2,  -184.7,2,     3.3,-999.000,9,-999.000,-999.000,9,-999.0000,   4.1807,-999.0000,-999.000
  316N145_8,        I03,     452,          1,         19,         19,2,19950427,       1306,   -21.6658,   111.3665,       5031,  1415.2,   3.5763,  34.6526,2,  34.6528,2,    118.2,2,   119.6,2,  104.31,2,   35.76,2,    0.00,2,    2.61,2,-999.000,9,-999.000,9,-999.000,9,  2293.0,2,  2379.0,2,-999.0000,9,-999.0000,9, -999.00,9,    0.20,2,  -178.8,2,     6.6,-999.000,9,-999.000,-999.000,9,-999.0000,   3.4691,-999.0000,-999.000
  316N145_8,        I03,     452,          1,         18,         18,2,19950427,       1306,   -21.6658,   111.3665,       5031,  1617.7,   3.0271,  34.6805,2,  34.6801,2,    132.3,2,   132.9,2,  107.69,2,   35.26,2,    0.00,2,    2.54,2,   0.004,2,   0.003,2,-999.000,9,  2291.0,2,  2387.0,2,-999.0000,9,-999.0000,9, -999.00,9,    0.13,2,  -206.0,3,     2.5,-999.000,9,-999.000,-999.000,9,-999.0000,   2.9087,-999.0000,-999.000
  316N145_8,        I03,     452,          1,         17,         17,2,19950427,       1306,   -21.6658,   111.3665,       5031,  1819.8,   2.6459,  34.7080,2,  34.7073,2,    140.5,2,   139.2,2,  115.60,2,   34.99,2,    0.00,2,    2.52,2,-999.000,9,-999.000,9,-999.000,9,  2296.5,2,  2392.0,2,-999.0000,9,-999.0000,9, -999.00,9, -999.00,9,  -999.0,9,  -999.0,-999.000,9,-999.000,-999.000,9,-999.0000,   2.5152,-999.0000,-999.000
  316N145_8,        I03,     452,          1,         16,         16,2,19950427,       1306,   -21.6658,   111.3665,       5031,  2021.8,   2.3440,  34.7194,2,  34.7199,2,    147.6,2,   146.8,2,  119.42,2,   34.62,2,    0.00,2,    2.49,2,   0.001,2,   0.000,2,-999.000,9,  2297.6,2,  2398.0,2,-999.0000,9,-999.0000,9, -999.00,9, -999.00,9,  -999.0,9,  -999.0,-999.000,9,-999.000,-999.000,9,-999.0000,   2.2001,-999.0000,-999.000
  316N145_8,        I03,     452,          1,         15,         15,2,19950427,       1306,   -21.6658,   111.3665,       5031,  2223.1,   2.1513,  34.7253,2,  34.7252,2,    149.7,2,   150.3,2,  124.35,2,   34.57,2,    0.00,2,    2.48,2,   0.009,3,   0.002,2,-999.000,9,  2301.1,2,  2399.0,2,-999.0000,9,-999.0000,9, -999.00,9, -999.00,9,  -999.0,9,  -999.0,-999.000,9,-999.000,-999.000,9,-999.0000,   1.9929,-999.0000,-999.000
  316N145_8,        I03,     452,          1,         14,         14,2,19950427,       1306,   -21.6658,   111.3665,       5031,  2427.7,   1.9982,  34.7256,2,  34.7260,2,    155.1,2,   154.3,2,  126.67,2,   34.43,2,    0.00,2,    2.46,2,   0.001,2,   0.000,2,-999.000,9,  2301.4,2,  2405.0,2,-999.0000,9,-999.0000,9, -999.00,9, -999.00,9,  -999.0,9,  -999.0,-999.000,9,-999.000,-999.000,9,-999.0000,   1.8243,-999.0000,-999.000
  316N145_8,        I03,     452,          1,         13,         13,2,19950427,       1306,   -21.6658,   111.3665,       5031,  2629.9,   1.8531,  34.7252,2,  34.7254,2,    162.7,2,   161.7,2,  125.73,2,   34.03,2,    0.00,2,    2.42,2,-999.000,9,-999.000,9,-999.000,9,  2296.7,2,  2399.0,2,-999.0000,9,-999.0000,9, -999.00,9, -999.00,9,  -999.0,9,  -999.0,-999.000,9,-999.000,-999.000,9,-999.0000,   1.6634,-999.0000,-999.000
  316N145_8,        I03,     452,          1,         12,         12,2,19950427,       1306,   -21.6658,   111.3665,       5031,  2833.1,   1.7079,  34.7244,2,  34.7243,2,    168.4,2,   171.8,2,  126.31,2,   33.75,2,    0.00,2,    2.39,2,   0.007,3,   0.006,3,-999.000,9,  2294.6,2,  2402.0,2,-999.0000,9,-999.0000,9, -999.00,9, -999.00,9,  -999.0,9,  -999.0,-999.000,9,-999.000,-999.000,9,-999.0000,   1.5022,-999.0000,-999.000
  316N145_8,        I03,     452,          1,         11,         11,2,19950427,       1306,   -21.6658,   111.3665,       5031,  3036.9,   1.5780,  34.7225,2,  34.7225,2,    175.9,2,   175.2,2,  126.68,2,   33.53,2,    0.00,2,    2.36,2,-999.000,9,-999.000,9,-999.000,9,  2290.3,6,  2398.5,6,-999.0000,9,-999.0000,9, -999.00,9, -999.00,9,  -999.0,9,  -999.0,-999.000,9,-999.000,-999.000,9,-999.0000,   1.3557,-999.0000,-999.000
  316N145_8,        I03,     452,          1,         10,         10,2,19950427,       1306,   -21.6658,   111.3665,       5031,  3241.6,   1.4606,  34.7205,2,  34.7202,2,    179.3,2,   180.8,2,  127.26,2,   33.30,2,    0.00,2,    2.35,2,   0.002,2,   0.004,2,-999.000,9,  2288.9,2,  2401.0,2,-999.0000,9,-999.0000,9, -999.00,9, -999.00,9,  -999.0,9,  -999.0,-999.000,9,-999.000,-999.000,9,-999.0000,   1.2211,-999.0000,-999.000
  316N145_8,        I03,     452,          1,          9,          9,2,19950427,       1306,   -21.6658,   111.3665,       5031,  3445.0,   1.3599,  34.7187,2,  34.7180,2,    185.0,2,   185.7,2,  127.84,2,   33.11,2,    0.00,2,    2.33,2,-999.000,9,-999.000,9,-999.000,9,  2287.5,2,  2399.0,2,-999.0000,9,-999.0000,9, -999.00,9, -999.00,9,  -999.0,9,  -999.0,-999.000,9,-999.000,-999.000,9,-999.0000,   1.1026,-999.0000,-999.000
  316N145_8,        I03,     452,          1,          8,          8,2,19950427,       1306,   -21.6658,   111.3665,       5031,  3649.0,   1.2819,  34.7167,2,  34.7176,2,    188.1,2,   188.4,2,  129.08,2,   33.02,2,    0.00,2,    2.32,2,   0.004,2,   0.004,2,-999.000,9,  2287.3,2,  2402.0,2,-999.0000,9,-999.0000,9, -999.00,9, -999.00,9,  -999.0,9,  -999.0,-999.000,9,-999.000,-999.000,9,-999.0000,   1.0059,-999.0000,-999.000
  316N145_8,        I03,     452,          1,          7,          7,2,19950427,       1306,   -21.6658,   111.3665,       5031,  3853.7,   1.2128,  34.7145,2,  34.7143,2,    191.0,2,   190.4,2,  130.31,2,   33.06,2,    0.00,2,    2.32,2,-999.000,9,-999.000,9,-999.000,9,  2286.7,2,  2402.0,2,-999.0000,9,-999.0000,9, -999.00,9, -999.00,9,  -999.0,9,  -999.0,-999.000,9,-999.000,-999.000,9,-999.0000,   0.9174,-999.0000,-999.000
  316N145_8,        I03,     452,          1,          6,          6,2,19950427,       1306,   -21.6658,   111.3665,       5031,  4057.2,   1.1875,  34.7142,2,  34.7145,2,    192.5,2,   192.1,2,  130.89,2,   33.01,2,    0.00,2,    2.31,2,   0.000,2,   0.003,2,-999.000,9,  2287.7,2,  2408.0,2,-999.0000,9,-999.0000,9, -999.00,9, -999.00,9,  -999.0,9,  -999.0,-999.000,9,-999.000,-999.000,9,-999.0000,   0.8710,-999.0000,-999.000
  316N145_8,        I03,     452,          1,          5,          5,2,19950427,       1306,   -21.6658,   111.3665,       5031,  4261.6,   1.1790,  34.7138,2,  34.7132,2,    192.8,2,   192.8,2,  131.26,2,   32.96,2,    0.00,2,    2.30,2,-999.000,9,-999.000,9,-999.000,9,  2286.8,2,  2401.0,2,-999.0000,9,-999.0000,9, -999.00,9, -999.00,9,  -999.0,9,  -999.0,-999.000,9,-999.000,-999.000,9,-999.0000,   0.8405,-999.0000,-999.000
  316N145_8,        I03,     452,          1,          4,          4,2,19950427,       1306,   -21.6658,   111.3665,       5031,  4466.8,   1.1809,  34.7134,2,  34.7132,2,    193.8,2,   192.4,2,  131.40,2,   32.99,2,    0.00,2,    2.30,2,  -0.001,2,   0.004,2,-999.000,9,  2286.9,2,  2408.0,2,-999.0000,9,-999.0000,9, -999.00,9, -999.00,9,  -999.0,9,  -999.0,-999.000,9,-999.000,-999.000,9,-999.0000,   0.8194,-999.0000,-999.000
  316N145_8,        I03,     452,          1,          3,          3,2,19950427,       1306,   -21.6658,   111.3665,       5031,  4672.0,   1.1904,  34.7121,2,  34.7126,2,    194.0,2,   193.5,2,  131.55,2,   32.94,2,    0.00,2,    2.29,2,  -0.001,2,   0.000,2,-999.000,9,  2287.0,2,  2404.0,2,-999.0000,9,-999.0000,9, -999.00,9, -999.00,9,  -999.0,9,  -999.0,-999.000,9,-999.000,-999.000,9,-999.0000,   0.8051,-999.0000,-999.000
  316N145_8,        I03,     452,          1,          2,          2,2,19950427,       1306,   -21.6658,   111.3665,       5031,  4876.8,   1.2037,  34.7122,2,  34.7116,2,    193.3,2,   194.4,2,  131.69,2,   32.94,2,    0.00,2,    2.30,2,   0.003,2,   0.001,2,-999.000,9,  2284.8,2,  2408.0,2,-999.0000,9,-999.0000,9, -999.00,9, -999.00,9,  -999.0,9,  -999.0,-999.000,9,-999.000,-999.000,9,-999.0000,   0.7941,-999.0000,-999.000
  316N145_8,        I03,     452,          1,          1,          1,2,19950427,       1306,   -21.6658,   111.3665,       5031,  5133.5,   1.2295,  34.7123,2,  34.7117,2,    195.3,2,   195.8,2,  131.84,2,   32.97,2,    0.00,2,    2.30,2,   0.001,2,   0.003,2,-999.000,9,  2286.0,2,  2409.0,2,-999.0000,9,-999.0000,9, -999.00,9, -999.00,9,  -999.0,9,  -999.0,-999.000,9,-999.000,-999.000,9,-999.0000,   0.7881,-999.0000,-999.000