BOTTLE,20140514CCHSIOSE
EXPOCODE,SECT_ID,STNNBR,CASTNO,SAMPNO,BTLNBR,BTLNBR_FLAG_W,DATE,TIME,LATITUDE,LONGITUDE,DEPTH,CTDPRS,CTDTMP,CTDSAL,CTDSAL_FLAG_W,SALNTY,SALNTY_FLAG_W,CTDOXY,CTDOXY_FLAG_W,OXYGEN,OXYGEN_FLAG_W,SILCAT,SILCAT_FLAG_W,NITRAT,NITRAT_FLAG_W,NITRIT,NITRIT_FLAG_W,PHSPHT,PHSPHT_FLAG_W,CFC-11,CFC-11_FLAG_W,CFC-12,CFC-12_FLAG_W,CFC113,CFC113_FLAG_W,TCARBN,TCARBN_FLAG_W,ALKALI,ALKALI_FLAG_W,TRITUM,TRITUM_FLAG_W,HELIUM,HELIUM_FLAG_W,DELHE3,DELHE3_FLAG_W,DELC13,DELC13_FLAG_W,DELC14,DELC14_FLAG_W,C14ERR,NEON,NEON_FLAG_W,NEONER,CCL4,CCL4_FLAG_W,HELIER,THETA,TRITER,DELHER
,,,,,,,,,,,METERS,DBAR,ITS-90,PSS-78,,PSS-78,,UMOL/KG,,UMOL/KG,,UMOL/KG,,UMOL/KG,,UMOL/KG,,UMOL/KG,,PMOL/KG,,PMOL/KG,,PMOL/KG,,UMOL/KG,,UMOL/KG,,TU,,NMOL/KG,,PERCNT,,/MILLE,,/MILLE,,/MILLE,NMOL/KG,,NMOL/KG,PMOL/KG,,NMOL/KG,DEG C,TU,PERCNT
  316N145_8,        I03,     566,          1,         12,         12,2,19950602,       0854,   -20.0005,    49.6343,       3643,    19.1,  26.2354,  35.1087,2,  35.1077,2,    205.6,2,   205.6,2, -999.00,9, -999.00,9, -999.00,9, -999.00,9,-999.000,9,-999.000,9,-999.000,9,  -999.0,9,  -999.0,9,-999.0000,9,-999.0000,9, -999.00,9, -999.00,9,  -999.0,9,  -999.0,-999.000,9,-999.000,-999.000,9,-999.0000,  26.2311,-999.0000,-999.000
  316N145_8,        I03,     566,          1,         11,         11,2,19950602,       0854,   -20.0005,    49.6343,       3643,    84.4,  24.0456,  35.1941,2,  35.1832,2,    213.2,2,   212.4,2, -999.00,9, -999.00,9, -999.00,9, -999.00,9,-999.000,9,-999.000,9,-999.000,9,  -999.0,9,  -999.0,9,-999.0000,9,-999.0000,9, -999.00,9, -999.00,9,  -999.0,9,  -999.0,-999.000,9,-999.000,-999.000,9,-999.0000,  24.0278,-999.0000,-999.000
  316N145_8,        I03,     566,          1,         10,         10,2,19950602,       0854,   -20.0005,    49.6343,       3643,   264.7,  17.3152,  35.4081,2,  35.4065,2,    156.1,2,   152.8,2, -999.00,9, -999.00,9, -999.00,9, -999.00,9,-999.000,9,-999.000,9,-999.000,9,  -999.0,9,  -999.0,9,-999.0000,9,-999.0000,9, -999.00,9, -999.00,9,  -999.0,9,  -999.0,-999.000,9,-999.000,-999.000,9,-999.0000,  17.2708,-999.0000,-999.000
  316N145_8,        I03,     566,          1,          9,          9,2,19950602,       0854,   -20.0005,    49.6343,       3643,   464.7,  10.3864,  34.8592,2,  34.8485,2,    203.8,2,   204.2,2, -999.00,9, -999.00,9, -999.00,9, -999.00,9,-999.000,9,-999.000,9,-999.000,9,  -999.0,9,  -999.0,9,-999.0000,9,-999.0000,9, -999.00,9, -999.00,9,  -999.0,9,  -999.0,-999.000,9,-999.000,-999.000,9,-999.0000,  10.3306,-999.0000,-999.000
  316N145_8,        I03,     566,          1,          8,          8,2,19950602,       0854,   -20.0005,    49.6343,       3643,   556.2,   8.5502,  34.6657,2,  34.6656,2,    194.5,2,   191.8,2, -999.00,9, -999.00,9, -999.00,9, -999.00,9,-999.000,9,-999.000,9,-999.000,9,  -999.0,9,  -999.0,9,-999.0000,9,-999.0000,9, -999.00,9, -999.00,9,  -999.0,9,  -999.0,-999.000,9,-999.000,-999.000,9,-999.0000,   8.4906,-999.0000,-999.000
  316N145_8,        I03,     566,          1,          7,          7,2,19950602,       0854,   -20.0005,    49.6343,       3643,   817.9,   5.6569,  34.5684,2,  34.5712,2,    144.2,2,   145.1,2, -999.00,9, -999.00,9, -999.00,9, -999.00,9,-999.000,9,-999.000,9,-999.000,9,  -999.0,9,  -999.0,9,-999.0000,9,-999.0000,9, -999.00,9, -999.00,9,  -999.0,9,  -999.0,-999.000,9,-999.000,-999.000,9,-999.0000,   5.5857,-999.0000,-999.000
  316N145_8,        I03,     566,          1,          6,          6,2,19950602,       0854,   -20.0005,    49.6343,       3643,  1209.7,   3.5501,  34.6211,2,  34.6218,2,    143.7,2,   148.5,2, -999.00,9, -999.00,9, -999.00,9, -999.00,9,-999.000,9,-999.000,9,-999.000,9,  -999.0,9,  -999.0,9,-999.0000,9,-999.0000,9, -999.00,9, -999.00,9,  -999.0,9,  -999.0,-999.000,9,-999.000,-999.000,9,-999.0000,   3.4606,-999.0000,-999.000
  316N145_8,        I03,     566,          1,          5,          5,2,19950602,       0854,   -20.0005,    49.6343,       3643,  1562.6,   2.8896,  34.6735,2,  34.6747,2,    157.8,2,   158.0,2, -999.00,9, -999.00,9, -999.00,9, -999.00,9,-999.000,9,-999.000,9,-999.000,9,  -999.0,9,  -999.0,9,-999.0000,9,-999.0000,9, -999.00,9, -999.00,9,  -999.0,9,  -999.0,-999.000,9,-999.000,-999.000,9,-999.0000,   2.7776,-999.0000,-999.000
  316N145_8,        I03,     566,          1,          4,          4,2,19950602,       0854,   -20.0005,    49.6343,       3643,  2017.9,   2.3857,  34.7253,2,  34.7256,2,    160.5,2,   159.5,2, -999.00,9, -999.00,9, -999.00,9, -999.00,9,-999.000,9,-999.000,9,-999.000,9,  -999.0,9,  -999.0,9,-999.0000,9,-999.0000,9, -999.00,9, -999.00,9,  -999.0,9,  -999.0,-999.000,9,-999.000,-999.000,9,-999.0000,   2.2415,-999.0000,-999.000
  316N145_8,        I03,     566,          1,          3,          3,2,19950602,       0854,   -20.0005,    49.6343,       3643,  2726.0,   1.9919,  34.7396,2,  34.7397,2,    159.9,2,   158.6,2, -999.00,9, -999.00,9, -999.00,9, -999.00,9,-999.000,9,-999.000,9,-999.000,9,  -999.0,9,  -999.0,9,-999.0000,9,-999.0000,9, -999.00,9, -999.00,9,  -999.0,9,  -999.0,-999.000,9,-999.000,-999.000,9,-999.0000,   1.7905,-999.0000,-999.000
  316N145_8,        I03,     566,          1,          2,          2,2,19950602,       0854,   -20.0005,    49.6343,       3643,  3436.1,   1.5510,  34.7272,2,  34.7271,2,    176.1,3,   177.7,3, -999.00,9, -999.00,9, -999.00,9, -999.00,9,-999.000,9,-999.000,9,-999.000,9,  -999.0,9,  -999.0,9,-999.0000,9,-999.0000,9, -999.00,9, -999.00,9,  -999.0,9,  -999.0,-999.000,9,-999.000,-999.000,9,-999.0000,   1.2898,-999.0000,-999.000
  316N145_8,        I03,     566,          1,          1,          1,2,19950602,       0854,   -20.0005,    49.6343,       3643,  3682.4,   1.2237,  34.7166,2,  34.7171,2,    192.5,2,   193.4,2, -999.00,9, -999.00,9, -999.00,9, -999.00,9,-999.000,9,-999.000,9,-999.000,9,  -999.0,9,  -999.0,9,-999.0000,9,-999.0000,9, -999.00,9, -999.00,9,  -999.0,9,  -999.0,-999.000,9,-999.000,-999.000,9,-999.0000,   0.9458,-999.0000,-999.000
  316N145_8,        I03,     567,          1,         12,         12,2,19950602,       1342,   -20.0020,    50.0663,       4333,     5.8,  26.3148,  35.0699,2,  35.0758,2,    203.5,2,   205.6,2, -999.00,9, -999.00,9, -999.00,9, -999.00,9,-999.000,9,-999.000,9,-999.000,9,  -999.0,9,  -999.0,9,-999.0000,9,-999.0000,9, -999.00,9, -999.00,9,  -999.0,9,  -999.0,-999.000,9,-999.000,-999.000,9,-999.0000,  26.3135,-999.0000,-999.000
  316N145_8,        I03,     567,          1,         11,         11,2,19950602,       1342,   -20.0020,    50.0663,       4333,    56.1,  26.2524,  35.0909,2,  35.0864,2,    207.4,2,   205.6,2, -999.00,9, -999.00,9, -999.00,9, -999.00,9,-999.000,9,-999.000,9,-999.000,9,  -999.0,9,  -999.0,9,-999.0000,9,-999.0000,9, -999.00,9, -999.00,9,  -999.0,9,  -999.0,-999.000,9,-999.000,-999.000,9,-999.0000,  26.2398,-999.0000,-999.000
  316N145_8,        I03,     567,          1,         10,         10,2,19950602,       1342,   -20.0020,    50.0663,       4333,   100.9,  24.5266,  35.2326,2,  35.2107,2,    218.9,2,   217.3,2, -999.00,9, -999.00,9, -999.00,9, -999.00,9,-999.000,9,-999.000,9,-999.000,9,  -999.0,9,  -999.0,9,-999.0000,9,-999.0000,9, -999.00,9, -999.00,9,  -999.0,9,  -999.0,-999.000,9,-999.000,-999.000,9,-999.0000,  24.5050,-999.0000,-999.000
  316N145_8,        I03,     567,          1,          9,          9,2,19950602,       1342,   -20.0020,    50.0663,       4333,   262.2,  17.7472,  35.4100,2,  35.4029,2,    154.6,2,   152.0,2, -999.00,9, -999.00,9, -999.00,9, -999.00,9,-999.000,9,-999.000,9,-999.000,9,  -999.0,9,  -999.0,9,-999.0000,9,-999.0000,9, -999.00,9, -999.00,9,  -999.0,9,  -999.0,-999.000,9,-999.000,-999.000,9,-999.0000,  17.7024,-999.0000,-999.000
  316N145_8,        I03,     567,          1,          8,          8,2,19950602,       1342,   -20.0020,    50.0663,       4333,   455.0,  10.4267,  34.8672,2,  34.8545,2,    199.7,2,   201.8,2, -999.00,9, -999.00,9, -999.00,9, -999.00,9,-999.000,9,-999.000,9,-999.000,9,  -999.0,9,  -999.0,9,-999.0000,9,-999.0000,9, -999.00,9, -999.00,9,  -999.0,9,  -999.0,-999.000,9,-999.000,-999.000,9,-999.0000,  10.3719,-999.0000,-999.000
  316N145_8,        I03,     567,          1,          7,          7,2,19950602,       1342,   -20.0020,    50.0663,       4333,   545.8,   8.6967,  34.6760,2,  34.6749,2,    195.5,2,   194.7,2, -999.00,9, -999.00,9, -999.00,9, -999.00,9,-999.000,9,-999.000,9,-999.000,9,  -999.0,9,  -999.0,9,-999.0000,9,-999.0000,9, -999.00,9, -999.00,9,  -999.0,9,  -999.0,-999.000,9,-999.000,-999.000,9,-999.0000,   8.6376,-999.0000,-999.000
  316N145_8,        I03,     567,          1,          6,          6,2,19950602,       1342,   -20.0020,    50.0663,       4333,  1009.0,   4.5841,  34.6430,2,  34.6443,2,    126.4,2,   127.7,2, -999.00,9, -999.00,9, -999.00,9, -999.00,9,-999.000,9,-999.000,9,-999.000,9,  -999.0,9,  -999.0,9,-999.0000,9,-999.0000,9, -999.00,9, -999.00,9,  -999.0,9,  -999.0,-999.000,9,-999.000,-999.000,9,-999.0000,   4.5030,-999.0000,-999.000
  316N145_8,        I03,     567,          1,          5,          5,2,19950602,       1342,   -20.0020,    50.0663,       4333,  1407.4,   3.1716,  34.6480,2,  34.6474,2,    154.3,2,   154.5,2, -999.00,9, -999.00,9, -999.00,9, -999.00,9,-999.000,9,-999.000,9,-999.000,9,  -999.0,9,  -999.0,9,-999.0000,9,-999.0000,9, -999.00,9, -999.00,9,  -999.0,9,  -999.0,-999.000,9,-999.000,-999.000,9,-999.0000,   3.0694,-999.0000,-999.000
  316N145_8,        I03,     567,          1,          4,          4,2,19950602,       1342,   -20.0020,    50.0663,       4333,  2422.5,   2.1664,  34.7370,2,  34.7375,2,    159.1,2,   158.3,2, -999.00,9, -999.00,9, -999.00,9, -999.00,9,-999.000,9,-999.000,9,-999.000,9,  -999.0,9,  -999.0,9,-999.0000,9,-999.0000,9, -999.00,9, -999.00,9,  -999.0,9,  -999.0,-999.000,9,-999.000,-999.000,9,-999.0000,   1.9898,-999.0000,-999.000
  316N145_8,        I03,     567,          1,          3,          3,2,19950602,       1342,   -20.0020,    50.0663,       4333,  3234.7,   1.7578,  34.7338,2,  34.7341,2,    166.0,2,   165.7,2, -999.00,9, -999.00,9, -999.00,9, -999.00,9,-999.000,9,-999.000,9,-999.000,9,  -999.0,9,  -999.0,9,-999.0000,9,-999.0000,9, -999.00,9, -999.00,9,  -999.0,9,  -999.0,-999.000,9,-999.000,-999.000,9,-999.0000,   1.5119,-999.0000,-999.000
  316N145_8,        I03,     567,          1,          2,          2,2,19950602,       1342,   -20.0020,    50.0663,       4333,  3998.5,   1.1506,  34.7132,2,  34.7133,2,    197.8,2,   197.3,2, -999.00,9, -999.00,9, -999.00,9, -999.00,9,-999.000,9,-999.000,9,-999.000,9,  -999.0,9,  -999.0,9,-999.0000,9,-999.0000,9, -999.00,9, -999.00,9,  -999.0,9,  -999.0,-999.000,9,-999.000,-999.000,9,-999.0000,   0.8415,-999.0000,-999.000
  316N145_8,        I03,     567,          1,          1,          1,2,19950602,       1342,   -20.0020,    50.0663,       4333,  4400.7,   0.9890,  34.7063,2,  34.7068,2,    205.8,2,   205.5,2, -999.00,9, -999.00,9, -999.00,9, -999.00,9,-999.000,9,-999.000,9,-999.000,9,  -999.0,9,  -999.0,9,-999.0000,9,-999.0000,9, -999.00,9, -999.00,9,  -999.0,9,  -999.0,-999.000,9,-999.000,-999.000,9,-999.0000,   0.6409,-999.0000,-999.000
  316N145_8,        I03,     568,          1,         12,         12,2,19950602,       1912,   -20.0005,    50.6000,       4741,     2.7,  26.0721,  35.1138,2,  35.1150,2,    209.0,2,   210.9,2, -999.00,9, -999.00,9, -999.00,9, -999.00,9,-999.000,9,-999.000,9,-999.000,9,  -999.0,9,  -999.0,9,-999.0000,9,-999.0000,9, -999.00,9, -999.00,9,  -999.0,9,  -999.0,-999.000,9,-999.000,-999.000,9,-999.0000,  26.0715,-999.0000,-999.000
  316N145_8,        I03,     568,          1,         11,         11,2,19950602,       1912,   -20.0005,    50.6000,       4741,    75.7,  25.3719,  35.3044,2,  35.3089,2,    210.2,2,   207.7,2, -999.00,9, -999.00,9, -999.00,9, -999.00,9,-999.000,9,-999.000,9,-999.000,9,  -999.0,9,  -999.0,9,-999.0000,9,-999.0000,9, -999.00,9, -999.00,9,  -999.0,9,  -999.0,-999.000,9,-999.000,-999.000,9,-999.0000,  25.3553,-999.0000,-999.000
  316N145_8,        I03,     568,          1,         10,         10,2,19950602,       1912,   -20.0005,    50.6000,       4741,   185.8,  20.0936,  35.3783,2,  35.3802,2,    157.9,2,   158.3,2, -999.00,9, -999.00,9, -999.00,9, -999.00,9,-999.000,9,-999.000,9,-999.000,9,  -999.0,9,  -999.0,9,-999.0000,9,-999.0000,9, -999.00,9, -999.00,9,  -999.0,9,  -999.0,-999.000,9,-999.000,-999.000,9,-999.0000,  20.0591,-999.0000,-999.000
  316N145_8,        I03,     568,          1,          9,          9,2,19950602,       1912,   -20.0005,    50.6000,       4741,   455.3,  11.4449,  34.9874,2,  34.9866,2,    199.8,2,   199.6,2, -999.00,9, -999.00,9, -999.00,9, -999.00,9,-999.000,9,-999.000,9,-999.000,9,  -999.0,9,  -999.0,9,-999.0000,9,-999.0000,9, -999.00,9, -999.00,9,  -999.0,9,  -999.0,-999.000,9,-999.000,-999.000,9,-999.0000,  11.3867,-999.0000,-999.000
  316N145_8,        I03,     568,          1,          8,          8,2,19950602,       1912,   -20.0005,    50.6000,       4741,   555.5,   9.6077,  34.7730,2,  34.7743,2,    201.7,2,   201.4,2, -999.00,9, -999.00,9, -999.00,9, -999.00,9,-999.000,9,-999.000,9,-999.000,9,  -999.0,9,  -999.0,9,-999.0000,9,-999.0000,9, -999.00,9, -999.00,9,  -999.0,9,  -999.0,-999.000,9,-999.000,-999.000,9,-999.0000,   9.5438,-999.0000,-999.000
  316N145_8,        I03,     568,          1,          7,          7,2,19950602,       1912,   -20.0005,    50.6000,       4741,   908.6,   5.4770,  34.6111,2,  34.6123,2,    132.9,2,   131.9,2, -999.00,9, -999.00,9, -999.00,9, -999.00,9,-999.000,9,-999.000,9,-999.000,9,  -999.0,9,  -999.0,9,-999.0000,9,-999.0000,9, -999.00,9, -999.00,9,  -999.0,9,  -999.0,-999.000,9,-999.000,-999.000,9,-999.0000,   5.3984,-999.0000,-999.000
  316N145_8,        I03,     568,          1,          6,          6,2,19950602,       1912,   -20.0005,    50.6000,       4741,  1109.6,   4.3121,  34.6240,2,  34.6250,2,    133.0,2,   133.9,2, -999.00,9, -999.00,9, -999.00,9, -999.00,9,-999.000,9,-999.000,9,-999.000,9,  -999.0,9,  -999.0,9,-999.0000,9,-999.0000,9, -999.00,9, -999.00,9,  -999.0,9,  -999.0,-999.000,9,-999.000,-999.000,9,-999.0000,   4.2244,-999.0000,-999.000
  316N145_8,        I03,     568,          1,          5,          5,2,19950602,       1912,   -20.0005,    50.6000,       4741,  1765.7,   2.5935,  34.7025,2,  34.7031,2,    161.2,2,   161.3,2, -999.00,9, -999.00,9, -999.00,9, -999.00,9,-999.000,9,-999.000,9,-999.000,9,  -999.0,9,  -999.0,9,-999.0000,9,-999.0000,9, -999.00,9, -999.00,9,  -999.0,9,  -999.0,-999.000,9,-999.000,-999.000,9,-999.0000,   2.4680,-999.0000,-999.000
  316N145_8,        I03,     568,          1,          4,          4,2,19950602,       1912,   -20.0005,    50.6000,       4741,  2525.4,   2.0619,  34.7380,2,  34.7390,2,    159.0,2,   158.4,2, -999.00,9, -999.00,9, -999.00,9, -999.00,9,-999.000,9,-999.000,9,-999.000,9,  -999.0,9,  -999.0,9,-999.0000,9,-999.0000,9, -999.00,9, -999.00,9,  -999.0,9,  -999.0,-999.000,9,-999.000,-999.000,9,-999.0000,   1.8778,-999.0000,-999.000
  316N145_8,        I03,     568,          1,          3,          3,2,19950602,       1912,   -20.0005,    50.6000,       4741,  3236.1,   1.7781,  34.7347,2,  34.7345,2,    165.4,2,   165.1,2, -999.00,9, -999.00,9, -999.00,9, -999.00,9,-999.000,9,-999.000,9,-999.000,9,  -999.0,9,  -999.0,9,-999.0000,9,-999.0000,9, -999.00,9, -999.00,9,  -999.0,9,  -999.0,-999.000,9,-999.000,-999.000,9,-999.0000,   1.5316,-999.0000,-999.000
  316N145_8,        I03,     568,          1,          2,          2,2,19950602,       1912,   -20.0005,    50.6000,       4741,  3997.3,   1.2344,  34.7163,2,  34.7162,2,    191.9,2,   193.7,2, -999.00,9, -999.00,9, -999.00,9, -999.00,9,-999.000,9,-999.000,9,-999.000,9,  -999.0,9,  -999.0,9,-999.0000,9,-999.0000,9, -999.00,9, -999.00,9,  -999.0,9,  -999.0,-999.000,9,-999.000,-999.000,9,-999.0000,   0.9231,-999.0000,-999.000
  316N145_8,        I03,     568,          1,          1,          1,2,19950602,       1912,   -20.0005,    50.6000,       4741,  4829.5,   1.0021,  34.7059,2,  34.7052,2,    206.3,2,   206.5,2, -999.00,9, -999.00,9, -999.00,9, -999.00,9,-999.000,9,-999.000,9,-999.000,9,  -999.0,9,  -999.0,9,-999.0000,9,-999.0000,9, -999.00,9, -999.00,9,  -999.0,9,  -999.0,-999.000,9,-999.000,-999.000,9,-999.0000,   0.6047,-999.0000,-999.000