BOTTLE,20140514CCHSIOSE
EXPOCODE,SECT_ID,STNNBR,CASTNO,SAMPNO,BTLNBR,BTLNBR_FLAG_W,DATE,TIME,LATITUDE,LONGITUDE,DEPTH,CTDPRS,CTDTMP,CTDSAL,CTDSAL_FLAG_W,SALNTY,SALNTY_FLAG_W,CTDOXY,CTDOXY_FLAG_W,OXYGEN,OXYGEN_FLAG_W,SILCAT,SILCAT_FLAG_W,NITRAT,NITRAT_FLAG_W,NITRIT,NITRIT_FLAG_W,PHSPHT,PHSPHT_FLAG_W,CFC-11,CFC-11_FLAG_W,CFC-12,CFC-12_FLAG_W,CFC113,CFC113_FLAG_W,TCARBN,TCARBN_FLAG_W,ALKALI,ALKALI_FLAG_W,TRITUM,TRITUM_FLAG_W,HELIUM,HELIUM_FLAG_W,DELHE3,DELHE3_FLAG_W,DELC13,DELC13_FLAG_W,DELC14,DELC14_FLAG_W,C14ERR,NEON,NEON_FLAG_W,NEONER,CCL4,CCL4_FLAG_W,HELIER,THETA,TRITER,DELHER
,,,,,,,,,,,METERS,DBAR,ITS-90,PSS-78,,PSS-78,,UMOL/KG,,UMOL/KG,,UMOL/KG,,UMOL/KG,,UMOL/KG,,UMOL/KG,,PMOL/KG,,PMOL/KG,,PMOL/KG,,UMOL/KG,,UMOL/KG,,TU,,NMOL/KG,,PERCNT,,/MILLE,,/MILLE,,/MILLE,NMOL/KG,,NMOL/KG,PMOL/KG,,NMOL/KG,DEG C,TU,PERCNT
  316N145_8,        I03,     498,          2,         36,         36,2,19950511,       1310,   -20.0000,    80.5330,       4770,     6.4,  26.1663,  34.9882,2,  34.9900,2,    202.3,2,   203.8,2,    3.47,2,    0.19,2,    0.00,2,    0.13,2,   1.795,2,   1.020,2,-999.000,9,  1941.5,2,  2288.0,2,-999.0000,9,-999.0000,9, -999.00,9, -999.00,9,  -999.0,9,  -999.0,-999.000,9,-999.000,-999.000,9,-999.0000,  26.1649,-999.0000,-999.000
  316N145_8,        I03,     498,          2,         35,         35,2,19950511,       1310,   -20.0000,    80.5330,       4770,    57.2,  26.0307,  35.0052,2,  35.0047,2,    206.3,2,   204.5,2,    3.46,2,    0.19,2,    0.00,2,    0.11,2,-999.000,9,-999.000,9,-999.000,9,  -999.0,5,  2288.0,6,-999.0000,9,-999.0000,9, -999.00,9, -999.00,9,  -999.0,9,  -999.0,-999.000,9,-999.000,-999.000,9,-999.0000,  26.0179,-999.0000,-999.000
  316N145_8,        I03,     498,          2,         34,         34,2,19950511,       1310,   -20.0000,    80.5330,       4770,   106.9,  22.2024,  35.4587,2,  35.4644,2,    221.9,2,   220.7,2,    3.86,2,    0.18,2,    0.00,2,    0.13,2,   2.199,2,   1.214,2,-999.000,9,  1995.0,2,  2322.0,2,-999.0000,9,-999.0000,9, -999.00,9, -999.00,9,  -999.0,9,  -999.0,-999.000,9,-999.000,-999.000,9,-999.0000,  22.1811,-999.0000,-999.000
  316N145_8,        I03,     498,          2,         33,         33,2,19950511,       1310,   -20.0000,    80.5330,       4770,   157.5,  20.5018,  35.6318,2,  35.6370,2,    198.6,2,   195.8,2,    4.48,2,    1.67,2,    0.03,2,    0.28,2,-999.000,9,-999.000,9,-999.000,9,  2039.0,2,  2334.0,2,-999.0000,9,-999.0000,9, -999.00,9, -999.00,9,  -999.0,9,  -999.0,-999.000,9,-999.000,-999.000,9,-999.0000,  20.4721,-999.0000,-999.000
  316N145_8,        I03,     498,          2,         32,         32,2,19950511,       1310,   -20.0000,    80.5330,       4770,   208.1,  18.8539,  35.7706,2,  35.7710,2,    197.6,2,   198.8,2,    4.04,2,    2.17,2,    0.01,2,    0.31,2,   2.377,2,   1.276,2,-999.000,9,  2062.5,2,  2344.0,2,-999.0000,9,-999.0000,9, -999.00,9, -999.00,9,  -999.0,9,  -999.0,-999.000,9,-999.000,-999.000,9,-999.0000,  18.8168,-999.0000,-999.000
  316N145_8,        I03,     498,          2,         31,         31,2,19950511,       1310,   -20.0000,    80.5330,       4770,   257.9,  17.4680,  35.7639,2,  35.7535,2,    206.7,2,   206.1,2,    3.81,2,    2.46,2,    0.01,2,    0.36,2,-999.000,9,-999.000,9,-999.000,9,  2076.0,2,  2346.0,2,-999.0000,9,-999.0000,9, -999.00,9, -999.00,9,  -999.0,9,  -999.0,-999.000,9,-999.000,-999.000,9,-999.0000,  17.4244,-999.0000,-999.000
  316N145_8,        I03,     498,          2,         30,         30,2,19950511,       1310,   -20.0000,    80.5330,       4770,   307.9,  15.4843,  35.5728,2,  35.5672,2,    206.1,2,   208.5,2,    4.21,2,    4.65,2,    0.01,2,    0.50,2,   2.596,2,   1.349,2,-999.000,9,  2088.6,2,  2337.0,2,-999.0000,9,-999.0000,9, -999.00,9, -999.00,9,  -999.0,9,  -999.0,-999.000,9,-999.000,-999.000,9,-999.0000,  15.4362,-999.0000,-999.000
  316N145_8,        I03,     498,          2,         29,         29,2,19950511,       1310,   -20.0000,    80.5330,       4770,   356.9,  13.8330,  35.3738,2,  35.3725,2,    219.1,2,   219.5,2,    3.77,2,    6.40,2,    0.00,2,    0.60,2,   2.833,2,   1.447,2,-999.000,9,  2094.2,2,  2327.0,2,-999.0000,9,-999.0000,9, -999.00,9, -999.00,9,  -999.0,9,  -999.0,-999.000,9,-999.000,-999.000,9,-999.0000,  13.7814,-999.0000,-999.000
  316N145_8,        I03,     498,          2,         28,         28,2,19950511,       1310,   -20.0000,    80.5330,       4770,   404.4,  12.5439,  35.1820,2,  35.1807,2,    227.4,2,   228.0,2,    3.97,2,    8.59,2,    0.00,2,    0.73,2,   2.940,2,   1.497,2,-999.000,9,  2098.6,2,  2315.0,2,-999.0000,9,-999.0000,9, -999.00,9, -999.00,9,  -999.0,9,  -999.0,-999.000,9,-999.000,-999.000,9,-999.0000,  12.4890,-999.0000,-999.000
  316N145_8,        I03,     498,          2,         27,         27,2,19950511,       1310,   -20.0000,    80.5330,       4770,   453.7,  11.6172,  35.0406,2,  35.0393,2,    229.6,2,  -999.0,5,    4.59,2,   10.59,2,    0.00,2,    0.84,2,-999.000,9,-999.000,9,-999.000,9,  -999.0,9,  -999.0,9,-999.0000,9,-999.0000,9, -999.00,9, -999.00,9,  -999.0,9,  -999.0,-999.000,9,-999.000,-999.000,9,-999.0000,  11.5586,-999.0000,-999.000
  316N145_8,        I03,     498,          2,         26,         26,2,19950511,       1310,   -20.0000,    80.5330,       4770,   503.2,  10.8357,  34.9235,2,  34.9202,2,    225.9,2,   229.9,2,    5.21,2,   12.44,2,    0.00,2,    0.95,2,   2.763,2,   1.381,2,-999.000,9,  -999.0,9,  -999.0,9,-999.0000,9,-999.0000,9, -999.00,9, -999.00,9,  -999.0,9,  -999.0,-999.000,9,-999.000,-999.000,9,-999.0000,  10.7734,-999.0000,-999.000
  316N145_8,        I03,     498,          2,         25,         25,2,19950511,       1310,   -20.0000,    80.5330,       4770,   605.3,   9.3137,  34.7010,2,  34.7060,2,    227.9,2,   223.2,2,    7.52,2,   17.02,2,    0.00,2,    1.23,2,-999.000,9,-999.000,9,-999.000,9,  2120.4,2,  2298.0,2,-999.0000,9,-999.0000,9, -999.00,9, -999.00,9,  -999.0,9,  -999.0,-999.000,9,-999.000,-999.000,9,-999.0000,   9.2453,-999.0000,-999.000
  316N145_8,        I03,     498,          2,         24,         24,2,19950511,       1310,   -20.0000,    80.5330,       4770,   708.3,   7.7023,  34.5588,2,  34.5632,2,    197.2,2,   194.9,2,   17.89,2,   23.62,2,    0.00,2,    1.65,2,   0.923,2,   0.469,2,-999.000,9,  -999.0,9,  -999.0,9,-999.0000,9,-999.0000,9, -999.00,9, -999.00,9,  -999.0,9,  -999.0,-999.000,9,-999.000,-999.000,9,-999.0000,   7.6303,-999.0000,-999.000
  316N145_8,        I03,     498,          2,         23,         23,2,19950511,       1310,   -20.0000,    80.5330,       4770,   809.7,   6.0806,  34.5127,2,  34.5130,2,    162.4,2,   158.4,2,   41.81,2,   30.35,2,    0.00,2,    2.14,2,   0.206,2,   0.112,2,-999.000,9,  -999.0,9,  -999.0,9,-999.0000,9,-999.0000,9, -999.00,9, -999.00,9,  -999.0,9,  -999.0,-999.000,9,-999.000,-999.000,9,-999.0000,   6.0076,-999.0000,-999.000
  316N145_8,        I03,     498,          2,         22,         22,2,19950511,       1310,   -20.0000,    80.5330,       4770,   911.8,   5.2345,  34.5391,2,  34.5381,2,    135.4,2,   135.6,2,   61.52,2,   33.52,2,    0.00,2,    2.40,2,   0.045,2,   0.027,2,-999.000,9,  2238.6,2,  2333.0,2,-999.0000,9,-999.0000,9, -999.00,9, -999.00,9,  -999.0,9,  -999.0,-999.000,9,-999.000,-999.000,9,-999.0000,   5.1574,-999.0000,-999.000
  316N145_8,        I03,     498,          2,         21,         21,2,19950511,       1310,   -20.0000,    80.5330,       4770,  1011.8,   4.7682,  34.5877,2,  34.5889,2,    121.6,2,   119.5,2,   77.02,2,   35.01,2,    0.00,2,    2.54,2,   0.016,2,   0.011,2,-999.000,9,  -999.0,9,  -999.0,9,-999.0000,9,-999.0000,9, -999.00,9, -999.00,9,  -999.0,9,  -999.0,-999.000,9,-999.000,-999.000,9,-999.0000,   4.6855,-999.0000,-999.000
  316N145_8,        I03,     498,          2,         20,         20,2,19950511,       1310,   -20.0000,    80.5330,       4770,  1113.0,   4.3952,  34.6119,2,  34.6128,2,    118.0,2,   119.1,2,   83.82,2,   35.26,2,    0.00,2,    2.57,2,   0.000,2,   0.003,2,-999.000,9,  -999.0,9,  -999.0,9,-999.0000,9,-999.0000,9, -999.00,9, -999.00,9,  -999.0,9,  -999.0,-999.000,9,-999.000,-999.000,9,-999.0000,   4.3065,-999.0000,-999.000
  316N145_8,        I03,     498,          2,         19,         19,2,19950511,       1310,   -20.0000,    80.5330,       4770,  1212.6,   4.0554,  34.6281,2,  34.6291,2,    121.7,2,   122.2,2,   88.07,2,   35.41,2,    0.00,2,    2.58,2,-999.000,9,-999.000,9,-999.000,9,  2275.8,2,  2368.0,2,-999.0000,9,-999.0000,9, -999.00,9, -999.00,9,  -999.0,9,  -999.0,-999.000,9,-999.000,-999.000,9,-999.0000,   3.9610,-999.0000,-999.000
  316N145_8,        I03,     498,          2,         18,         18,2,19950511,       1310,   -20.0000,    80.5330,       4770,  1314.4,   3.7782,  34.6496,2,  34.6497,2,    125.1,2,   125.9,2,   91.89,2,   35.26,2,    0.01,2,    2.56,2,-999.000,9,-999.000,9,-999.000,9,  -999.0,9,  -999.0,9,-999.0000,9,-999.0000,9, -999.00,9, -999.00,9,  -999.0,9,  -999.0,-999.000,9,-999.000,-999.000,9,-999.0000,   3.6776,-999.0000,-999.000
  316N145_8,        I03,     498,          2,         17,         17,2,19950511,       1310,   -20.0000,    80.5330,       4770,  1514.9,   3.3927,  34.7057,2,  34.7047,2,    128.7,2,   128.6,2,  101.54,2,   34.96,2,    0.01,2,    2.55,2,   0.001,2,   0.002,2,-999.000,9,  -999.0,9,  -999.0,9,-999.0000,9,-999.0000,9, -999.00,9, -999.00,9,  -999.0,9,  -999.0,-999.000,9,-999.000,-999.000,9,-999.0000,   3.2788,-999.0000,-999.000
  316N145_8,        I03,     498,          2,         16,         16,2,19950511,       1310,   -20.0000,    80.5330,       4770,  1718.3,   2.9745,  34.7193,2,  34.7198,2,    137.2,2,   137.5,2,  107.14,2,   34.61,2,    0.00,2,    2.50,2,-999.000,9,-999.000,9,-999.000,9,  2289.3,2,  2384.0,2,-999.0000,9,-999.0000,9, -999.00,9, -999.00,9,  -999.0,9,  -999.0,-999.000,9,-999.000,-999.000,9,-999.0000,   2.8480,-999.0000,-999.000
  316N145_8,        I03,     498,          2,         15,         15,2,19950511,       1310,   -20.0000,    80.5330,       4770,  1919.7,   2.6441,  34.7257,2,  34.7259,2,    146.0,2,   146.1,2,  110.79,2,   34.27,2,    0.00,2,    2.47,2,-999.000,9,-999.000,9,-999.000,9,  -999.0,9,  -999.0,9,-999.0000,9,-999.0000,9, -999.00,9, -999.00,9,  -999.0,9,  -999.0,-999.000,9,-999.000,-999.000,9,-999.0000,   2.5047,-999.0000,-999.000
  316N145_8,        I03,     498,          2,         14,         14,2,19950511,       1310,   -20.0000,    80.5330,       4770,  2120.1,   2.3651,  34.7266,2,  34.7266,2,    155.9,2,   154.5,2,  112.94,2,   33.87,2,    0.01,2,    2.42,2,  -0.001,2,   0.001,2,-999.000,9,  -999.0,9,  -999.0,9,-999.0000,9,-999.0000,9, -999.00,9, -999.00,9,  -999.0,9,  -999.0,-999.000,9,-999.000,-999.000,9,-999.0000,   2.2123,-999.0000,-999.000
  316N145_8,        I03,     498,          2,         13,         13,2,19950511,       1310,   -20.0000,    80.5330,       4770,  2323.8,   2.1334,  34.7263,2,  34.7270,2,    164.6,2,   164.0,2,  113.55,2,   33.37,2,    0.01,2,    2.38,2,-999.000,9,-999.000,9,-999.000,9,  2284.1,2,  2390.0,2,-999.0000,9,-999.0000,9, -999.00,9, -999.00,9,  -999.0,9,  -999.0,-999.000,9,-999.000,-999.000,9,-999.0000,   1.9663,-999.0000,-999.000
  316N145_8,        I03,     498,          2,         12,         12,2,19950511,       1310,   -20.0000,    80.5330,       4770,  2527.2,   1.9384,  34.7259,2,  34.7268,2,    171.9,2,   172.0,2,  113.95,2,   32.88,2,    0.01,2,    2.34,2,-999.000,9,-999.000,9,-999.000,9,  -999.0,9,  -999.0,9,-999.0000,9,-999.0000,9, -999.00,9, -999.00,9,  -999.0,9,  -999.0,-999.000,9,-999.000,-999.000,9,-999.0000,   1.7565,-999.0000,-999.000
  316N145_8,        I03,     498,          2,         11,         11,2,19950511,       1310,   -20.0000,    80.5330,       4770,  2730.9,   1.8063,  34.7263,2,  34.7268,2,    179.0,2,   178.0,2,  113.69,2,   32.53,2,    0.01,2,    2.31,2,-999.000,9,-999.000,9,-999.000,9,  -999.0,9,  -999.0,9,-999.0000,9,-999.0000,9, -999.00,9, -999.00,9,  -999.0,9,  -999.0,-999.000,9,-999.000,-999.000,9,-999.0000,   1.6082,-999.0000,-999.000
  316N145_8,        I03,     498,          2,         10,         10,2,19950511,       1310,   -20.0000,    80.5330,       4770,  2933.3,   1.6875,  34.7271,2,  34.7280,2,    182.0,2,   183.0,2,  114.09,2,   32.34,2,    0.00,2,    2.28,2,   0.003,2,   0.002,2,-999.000,9,  2274.9,2,  2387.0,2,-999.0000,9,-999.0000,9, -999.00,9, -999.00,9,  -999.0,9,  -999.0,-999.000,9,-999.000,-999.000,9,-999.0000,   1.4727,-999.0000,-999.000
  316N145_8,        I03,     498,          2,          9,          9,2,19950511,       1310,   -20.0000,    80.5330,       4770,  3139.4,   1.5740,  34.7264,2,  34.7266,2,    184.1,2,   184.6,2,  117.99,2,   32.24,2,    0.00,2,    2.28,2,-999.000,9,-999.000,9,-999.000,9,  -999.0,9,  -999.0,9,-999.0000,9,-999.0000,9, -999.00,9, -999.00,9,  -999.0,9,  -999.0,-999.000,9,-999.000,-999.000,9,-999.0000,   1.3418,-999.0000,-999.000
  316N145_8,        I03,     498,          2,          8,          8,2,19950511,       1310,   -20.0000,    80.5330,       4770,  3342.0,   1.4921,  34.7253,2,  34.7255,2,    184.0,2,   183.7,2,  122.13,2,   32.64,2,    0.00,2,    2.30,2,-999.000,9,-999.000,9,-999.000,9,  -999.0,9,  -999.0,9,-999.0000,9,-999.0000,9, -999.00,9, -999.00,9,  -999.0,9,  -999.0,-999.000,9,-999.000,-999.000,9,-999.0000,   1.2419,-999.0000,-999.000
  316N145_8,        I03,     498,          2,          7,          7,2,19950511,       1310,   -20.0000,    80.5330,       4770,  3544.8,   1.4258,  34.7232,2,  34.7237,2,    184.2,2,   184.7,2,  124.52,2,   32.69,2,    0.00,2,    2.30,2,  -0.002,2,   0.003,2,-999.000,9,  2284.1,2,  2398.0,2,-999.0000,9,-999.0000,9, -999.00,9, -999.00,9,  -999.0,9,  -999.0,-999.000,9,-999.000,-999.000,9,-999.0000,   1.1568,-999.0000,-999.000
  316N145_8,        I03,     498,          2,          6,          6,2,19950511,       1310,   -20.0000,    80.5330,       4770,  3749.7,   1.3961,  34.7223,2,  34.7225,2,    185.7,2,   186.3,2,  125.14,2,   32.74,2,    0.00,2,    2.30,2,-999.000,9,-999.000,9,-999.000,9,  -999.0,9,  -999.0,9,-999.0000,9,-999.0000,9, -999.00,9, -999.00,9,  -999.0,9,  -999.0,-999.000,9,-999.000,-999.000,9,-999.0000,   1.1066,-999.0000,-999.000
  316N145_8,        I03,     498,          2,          5,          5,2,19950511,       1310,   -20.0000,    80.5330,       4770,  3954.4,   1.3774,  34.7206,2,  34.7198,2,    185.6,2,   185.9,2,  127.54,2,   32.89,2,    0.00,2,    2.30,2,-999.000,9,-999.000,9,-999.000,9,  -999.0,9,  -999.0,9,-999.0000,9,-999.0000,9, -999.00,9, -999.00,9,  -999.0,9,  -999.0,-999.000,9,-999.000,-999.000,9,-999.0000,   1.0666,-999.0000,-999.000
  316N145_8,        I03,     498,          2,          4,          4,2,19950511,       1310,   -20.0000,    80.5330,       4770,  4158.2,   1.3748,  34.7189,2,  34.7190,2,    184.5,2,   185.0,2,  129.72,2,   33.09,2,    0.00,2,    2.32,2,  -0.001,2,   0.002,2,-999.000,9,  2289.8,2,  2408.0,2,-999.0000,9,-999.0000,9, -999.00,9, -999.00,9,  -999.0,9,  -999.0,-999.000,9,-999.000,-999.000,9,-999.0000,   1.0419,-999.0000,-999.000
  316N145_8,        I03,     498,          2,          3,          3,2,19950511,       1310,   -20.0000,    80.5330,       4770,  4361.7,   1.3794,  34.7186,2,  34.7178,2,    184.3,2,   184.4,2,  131.01,2,   33.19,2,    0.00,2,    2.33,2,-999.000,9,-999.000,9,-999.000,9,  -999.0,9,  -999.0,9,-999.0000,9,-999.0000,9, -999.00,9, -999.00,9,  -999.0,9,  -999.0,-999.000,9,-999.000,-999.000,9,-999.0000,   1.0237,-999.0000,-999.000
  316N145_8,        I03,     498,          2,          2,          2,2,19950511,       1310,   -20.0000,    80.5330,       4770,  4617.5,   1.3923,  34.7172,2,  34.7180,2,    183.9,2,   185.0,2,  131.42,2,   33.29,2,    0.00,2,    2.34,2,-999.000,9,-999.000,9,-999.000,9,  -999.0,9,  -999.0,9,-999.0000,9,-999.0000,9, -999.00,9, -999.00,9,  -999.0,9,  -999.0,-999.000,9,-999.000,-999.000,9,-999.0000,   1.0069,-999.0000,-999.000
  316N145_8,        I03,     498,          2,          1,          1,2,19950511,       1310,   -20.0000,    80.5330,       4770,  4866.4,   1.4172,  34.7171,2,  34.7176,2,    184.3,2,   183.4,3,  131.60,2,   33.29,2,    0.00,2,    2.33,2,  -0.001,2,   0.003,2,-999.000,9,  2293.0,2,  2411.0,2,-999.0000,9,-999.0000,9, -999.00,9, -999.00,9,  -999.0,9,  -999.0,-999.000,9,-999.000,-999.000,9,-999.0000,   1.0017,-999.0000,-999.000