BOTTLE,20140514CCHSIOSE
EXPOCODE,SECT_ID,STNNBR,CASTNO,SAMPNO,BTLNBR,BTLNBR_FLAG_W,DATE,TIME,LATITUDE,LONGITUDE,DEPTH,CTDPRS,CTDTMP,CTDSAL,CTDSAL_FLAG_W,SALNTY,SALNTY_FLAG_W,CTDOXY,CTDOXY_FLAG_W,OXYGEN,OXYGEN_FLAG_W,SILCAT,SILCAT_FLAG_W,NITRAT,NITRAT_FLAG_W,NITRIT,NITRIT_FLAG_W,PHSPHT,PHSPHT_FLAG_W,CFC-11,CFC-11_FLAG_W,CFC-12,CFC-12_FLAG_W,CFC113,CFC113_FLAG_W,TCARBN,TCARBN_FLAG_W,ALKALI,ALKALI_FLAG_W,TRITUM,TRITUM_FLAG_W,HELIUM,HELIUM_FLAG_W,DELHE3,DELHE3_FLAG_W,DELC13,DELC13_FLAG_W,DELC14,DELC14_FLAG_W,C14ERR,NEON,NEON_FLAG_W,NEONER,CCL4,CCL4_FLAG_W,HELIER,THETA,TRITER,DELHER
,,,,,,,,,,,METERS,DBAR,ITS-90,PSS-78,,PSS-78,,UMOL/KG,,UMOL/KG,,UMOL/KG,,UMOL/KG,,UMOL/KG,,UMOL/KG,,PMOL/KG,,PMOL/KG,,PMOL/KG,,UMOL/KG,,UMOL/KG,,TU,,NMOL/KG,,PERCNT,,/MILLE,,/MILLE,,/MILLE,NMOL/KG,,NMOL/KG,PMOL/KG,,NMOL/KG,DEG C,TU,PERCNT
  316N145_8,        I03,     528,          1,         28,         28,2,19950522,       0009,   -20.3663,    63.3827,       2929,     6.1,  25.3055,  35.0772,2,  35.0754,2,    205.2,3,   210.4,2,    3.01,2,    0.01,2,    0.00,2,    0.13,2,-999.000,9,-999.000,9,-999.000,9,  1950.8,6,  2292.7,6,-999.0000,9,-999.0000,9, -999.00,9, -999.00,9,  -999.0,9,  -999.0,-999.000,9,-999.000,-999.000,9,-999.0000,  25.3041,-999.0000,-999.000
  316N145_8,        I03,     528,          1,         27,         27,2,19950522,       0009,   -20.3663,    63.3827,       2929,    54.6,  25.3167,  35.0765,2,  35.0748,2,    210.6,2,   208.4,2,    3.00,2,    0.01,2,    0.00,2,    0.13,2,-999.000,9,-999.000,9,-999.000,9,  -999.0,9,  -999.0,9,-999.0000,9,-999.0000,9, -999.00,9, -999.00,9,  -999.0,9,  -999.0,-999.000,9,-999.000,-999.000,9,-999.0000,  25.3047,-999.0000,-999.000
  316N145_8,        I03,     528,          1,         26,         26,2,19950522,       0009,   -20.3663,    63.3827,       2929,   105.8,  22.4319,  35.3316,2,  35.3287,2,    203.6,2,   205.1,2,    3.40,2,    0.14,2,    0.07,2,    0.18,2,-999.000,9,-999.000,9,-999.000,9,  -999.0,9,  -999.0,9,-999.0000,9,-999.0000,9, -999.00,9, -999.00,9,  -999.0,9,  -999.0,-999.000,9,-999.000,-999.000,9,-999.0000,  22.4106,-999.0000,-999.000
  316N145_8,        I03,     528,          1,         25,         25,2,19950522,       0009,   -20.3663,    63.3827,       2929,   155.5,  21.2130,  35.4730,2,  35.4699,2,    197.7,2,   193.0,2,    4.01,2,    1.69,2,    0.13,2,    0.27,2,-999.000,9,-999.000,9,-999.000,9,  -999.0,9,  -999.0,9,-999.0000,9,-999.0000,9, -999.00,9, -999.00,9,  -999.0,9,  -999.0,-999.000,9,-999.000,-999.000,9,-999.0000,  21.1830,-999.0000,-999.000
  316N145_8,        I03,     528,          1,         24,         24,2,19950522,       0009,   -20.3663,    63.3827,       2929,   204.3,  19.6564,  35.5867,2,  35.5849,2,    189.4,2,   185.3,2,    4.82,2,    3.56,2,    0.01,2,    0.38,2,-999.000,9,-999.000,9,-999.000,9,  -999.0,9,  -999.0,9,-999.0000,9,-999.0000,9, -999.00,9, -999.00,9,  -999.0,9,  -999.0,-999.000,9,-999.000,-999.000,9,-999.0000,  19.6190,-999.0000,-999.000
  316N145_8,        I03,     528,          1,         23,         23,2,19950522,       0009,   -20.3663,    63.3827,       2929,   255.7,  17.9398,  35.6666,2,  35.6647,2,    199.9,2,   197.2,2,    4.18,2,    3.37,2,    0.01,2,    0.39,2,-999.000,9,-999.000,9,-999.000,9,  -999.0,9,  -999.0,9,-999.0000,9,-999.0000,9, -999.00,9, -999.00,9,  -999.0,9,  -999.0,-999.000,9,-999.000,-999.000,9,-999.0000,  17.8957,-999.0000,-999.000
  316N145_8,        I03,     528,          1,         22,         22,2,19950522,       0009,   -20.3663,    63.3827,       2929,   305.3,  15.2771,  35.5235,2,  35.5394,2,    209.2,2,   211.2,2,    3.54,2,    4.54,2,    0.01,2,    0.48,2,-999.000,9,-999.000,9,-999.000,9,  -999.0,9,  -999.0,9,-999.0000,9,-999.0000,9, -999.00,9, -999.00,9,  -999.0,9,  -999.0,-999.000,9,-999.000,-999.000,9,-999.0000,  15.2299,-999.0000,-999.000
  316N145_8,        I03,     528,          1,         21,         21,2,19950522,       0009,   -20.3663,    63.3827,       2929,   356.1,  13.5741,  35.3142,2,  35.3153,2,    217.0,2,   222.2,2,    3.73,2,    7.12,2,    0.00,2,    0.62,2,-999.000,9,-999.000,9,-999.000,9,  -999.0,9,  -999.0,9,-999.0000,9,-999.0000,9, -999.00,9, -999.00,9,  -999.0,9,  -999.0,-999.000,9,-999.000,-999.000,9,-999.0000,  13.5233,-999.0000,-999.000
  316N145_8,        I03,     528,          1,         20,         20,2,19950522,       0009,   -20.3663,    63.3827,       2929,   406.5,  12.9072,  35.2210,2,  35.2234,2,    221.7,2,   224.1,2,    3.92,2,    8.34,2,    0.00,2,    0.69,2,-999.000,9,-999.000,9,-999.000,9,  -999.0,9,  -999.0,9,-999.0000,9,-999.0000,9, -999.00,9, -999.00,9,  -999.0,9,  -999.0,-999.000,9,-999.000,-999.000,9,-999.0000,  12.8510,-999.0000,-999.000
  316N145_8,        I03,     528,          1,         19,         19,2,19950522,       0009,   -20.3663,    63.3827,       2929,   457.2,  12.2805,  35.1317,2,  35.1314,2,    224.5,2,   227.2,2,    4.12,2,    9.52,2,    0.00,2,    0.76,2,-999.000,9,-999.000,9,-999.000,9,  -999.0,9,  -999.0,9,-999.0000,9,-999.0000,9, -999.00,9, -999.00,9,  -999.0,9,  -999.0,-999.000,9,-999.000,-999.000,9,-999.0000,  12.2192,-999.0000,-999.000
  316N145_8,        I03,     528,          1,         18,         18,2,19950522,       0009,   -20.3663,    63.3827,       2929,   506.5,  11.6901,  35.0443,2,  35.0480,2,    230.0,2,   230.3,2,    4.10,2,   10.49,2,    0.00,2,    0.81,2,-999.000,9,-999.000,9,-999.000,9,  -999.0,9,  -999.0,9,-999.0000,9,-999.0000,9, -999.00,9, -999.00,9,  -999.0,9,  -999.0,-999.000,9,-999.000,-999.000,9,-999.0000,  11.6242,-999.0000,-999.000
  316N145_8,        I03,     528,          1,         17,         17,2,19950522,       0009,   -20.3663,    63.3827,       2929,   607.7,  10.1436,  34.8126,2,  34.8152,2,    227.2,2,   231.0,2,    5.33,2,   14.20,2,    0.00,2,    1.03,2,-999.000,9,-999.000,9,-999.000,9,  -999.0,9,  -999.0,9,-999.0000,9,-999.0000,9, -999.00,9, -999.00,9,  -999.0,9,  -999.0,-999.000,9,-999.000,-999.000,9,-999.0000,  10.0711,-999.0000,-999.000
  316N145_8,        I03,     528,          1,         16,         16,2,19950522,       0009,   -20.3663,    63.3827,       2929,   708.7,   9.1261,  34.6829,2,  34.6784,2,    222.3,2,   221.2,2,    8.02,2,   17.86,2,    0.01,2,    1.26,2,   1.936,2,   0.954,2,-999.000,9,  -999.0,9,  -999.0,9,-999.0000,9,-999.0000,9, -999.00,9, -999.00,9,  -999.0,9,  -999.0,-999.000,9,-999.000,-999.000,9,-999.0000,   9.0465,-999.0000,-999.000
  316N145_8,        I03,     528,          1,         15,         15,2,19950522,       0009,   -20.3663,    63.3827,       2929,   808.1,   7.7072,  34.5582,2,  34.5556,2,    202.8,2,   200.3,2,   16.72,2,   23.33,2,    0.00,2,    1.61,2,   0.906,2,   0.461,2,-999.000,9,  -999.0,9,  -999.0,9,-999.0000,9,-999.0000,9, -999.00,9, -999.00,9,  -999.0,9,  -999.0,-999.000,9,-999.000,-999.000,9,-999.0000,   7.6245,-999.0000,-999.000
  316N145_8,        I03,     528,          1,         14,         14,2,19950522,       0009,   -20.3663,    63.3827,       2929,   908.2,   5.8050,  34.4809,2,  34.4793,2,    173.5,2,   174.3,2,   37.26,2,   29.52,2,    0.01,2,    2.04,2,   0.285,2,   0.145,2,-999.000,9,  -999.0,9,  -999.0,9,-999.0000,9,-999.0000,9, -999.00,9, -999.00,9,  -999.0,9,  -999.0,-999.000,9,-999.000,-999.000,9,-999.0000,   5.7244,-999.0000,-999.000
  316N145_8,        I03,     528,          1,         13,         13,2,19950522,       0009,   -20.3663,    63.3827,       2929,  1009.4,   4.6855,  34.4871,2,  34.4860,2,    158.5,2,   160.4,2,   54.48,2,   32.39,2,    0.00,2,    2.27,2,   0.123,2,   0.057,2,-999.000,9,  -999.0,9,  -999.0,9,-999.0000,9,-999.0000,9, -999.00,9, -999.00,9,  -999.0,9,  -999.0,-999.000,9,-999.000,-999.000,9,-999.0000,   4.6038,-999.0000,-999.000
  316N145_8,        I03,     528,          1,         12,         12,2,19950522,       0009,   -20.3663,    63.3827,       2929,  1109.6,   4.1181,  34.5336,2,  34.5336,2,    147.1,2,   148.1,2,   69.01,2,   33.88,2,    0.00,2,    2.40,2,   0.043,2,   0.019,2,-999.000,9,  -999.0,9,  -999.0,9,-999.0000,9,-999.0000,9, -999.00,9, -999.00,9,  -999.0,9,  -999.0,-999.000,9,-999.000,-999.000,9,-999.0000,   4.0322,-999.0000,-999.000
  316N145_8,        I03,     528,          1,         11,         11,2,19950522,       0009,   -20.3663,    63.3827,       2929,  1211.0,   3.8326,  34.5899,2,  34.5889,2,    140.9,2,   139.9,2,   79.61,2,   34.48,2,    0.00,2,    2.44,2,   0.013,2,   0.006,2,-999.000,9,  -999.0,9,  -999.0,9,-999.0000,9,-999.0000,9, -999.00,9, -999.00,9,  -999.0,9,  -999.0,-999.000,9,-999.000,-999.000,9,-999.0000,   3.7405,-999.0000,-999.000
  316N145_8,        I03,     528,          1,         10,         10,2,19950522,       0009,   -20.3663,    63.3827,       2929,  1312.4,   3.4657,  34.6211,2,  34.6208,2,    143.4,2,   144.7,2,   84.38,2,   34.28,2,    0.01,2,    2.42,2,   0.005,2,   0.003,2,-999.000,9,  -999.0,9,  -999.0,9,-999.0000,9,-999.0000,9, -999.00,9, -999.00,9,  -999.0,9,  -999.0,-999.000,9,-999.000,-999.000,9,-999.0000,   3.3684,-999.0000,-999.000
  316N145_8,        I03,     528,          1,          9,          9,2,19950522,       0009,   -20.3663,    63.3827,       2929,  1411.8,   3.1901,  34.6611,2,  34.6585,2,    145.3,2,   146.2,2,   90.83,2,   34.12,2,    0.01,2,    2.41,2,-999.000,9,-999.000,9,-999.000,9,  -999.0,9,  -999.0,9,-999.0000,9,-999.0000,9, -999.00,9, -999.00,9,  -999.0,9,  -999.0,-999.000,9,-999.000,-999.000,9,-999.0000,   3.0873,-999.0000,-999.000
  316N145_8,        I03,     528,          1,          8,          8,2,19950522,       0009,   -20.3663,    63.3827,       2929,  1513.5,   3.0034,  34.6730,2,  34.6708,2,    149.7,2,   150.6,2,   93.09,2,   33.72,2,    0.01,2,    2.38,2,-999.000,9,-999.000,9,-999.000,9,  -999.0,9,  -999.0,9,-999.0000,9,-999.0000,9, -999.00,9, -999.00,9,  -999.0,9,  -999.0,-999.000,9,-999.000,-999.000,9,-999.0000,   2.8941,-999.0000,-999.000
  316N145_8,        I03,     528,          1,          7,          7,2,19950522,       0009,   -20.3663,    63.3827,       2929,  1716.8,   2.5378,  34.7005,2,  34.6995,2,    161.1,2,   160.9,2,   99.79,2,   33.23,2,    0.01,2,    2.34,2,-999.000,9,-999.000,9,-999.000,9,  -999.0,9,  -999.0,9,-999.0000,9,-999.0000,9, -999.00,9, -999.00,9,  -999.0,9,  -999.0,-999.000,9,-999.000,-999.000,9,-999.0000,   2.4172,-999.0000,-999.000
  316N145_8,        I03,     528,          1,          6,          6,2,19950522,       0009,   -20.3663,    63.3827,       2929,  1918.4,   2.2848,  34.7167,2,  34.7157,2,    164.4,2,   164.7,2,  106.51,2,   33.08,2,    0.01,2,    2.32,2,-999.000,9,-999.000,9,-999.000,9,  -999.0,9,  -999.0,9,-999.0000,9,-999.0000,9, -999.00,9, -999.00,9,  -999.0,9,  -999.0,-999.000,9,-999.000,-999.000,9,-999.0000,   2.1507,-999.0000,-999.000
  316N145_8,        I03,     528,          1,          5,          5,2,19950522,       0009,   -20.3663,    63.3827,       2929,  2121.6,   2.1092,  34.7219,2,  34.7212,2,    167.0,2,   167.0,2,  111.78,2,   33.18,2,    0.01,2,    2.32,2,-999.000,9,-999.000,9,-999.000,9,  -999.0,9,  -999.0,9,-999.0000,9,-999.0000,9, -999.00,9, -999.00,9,  -999.0,9,  -999.0,-999.000,9,-999.000,-999.000,9,-999.0000,   1.9604,-999.0000,-999.000
  316N145_8,        I03,     528,          1,          4,          4,2,19950522,       0009,   -20.3663,    63.3827,       2929,  2322.9,   1.9833,  34.7239,2,  34.7234,2,    168.9,2,   169.5,2,  114.29,2,   33.08,2,    0.01,2,    2.32,2,-999.000,9,-999.000,9,-999.000,9,  -999.0,9,  -999.0,9,-999.0000,9,-999.0000,9, -999.00,9, -999.00,9,  -999.0,9,  -999.0,-999.000,9,-999.000,-999.000,9,-999.0000,   1.8189,-999.0000,-999.000
  316N145_8,        I03,     528,          1,          3,          3,2,19950522,       0009,   -20.3663,    63.3827,       2929,  2526.8,   1.8506,  34.7244,2,  34.7226,2,    172.7,2,   173.0,2,  116.80,2,   32.98,2,    0.00,2,    2.30,2,-999.000,9,-999.000,9,-999.000,9,  -999.0,9,  -999.0,9,-999.0000,9,-999.0000,9, -999.00,9, -999.00,9,  -999.0,9,  -999.0,-999.000,9,-999.000,-999.000,9,-999.0000,   1.6704,-999.0000,-999.000
  316N145_8,        I03,     528,          1,          2,          2,2,19950522,       0009,   -20.3663,    63.3827,       2929,  2729.7,   1.7773,  34.7244,2,  34.7237,2,    174.8,2,   174.7,2,  118.46,2,   33.03,2,    0.00,2,    2.30,2,-999.000,9,-999.000,9,-999.000,9,  -999.0,9,  -999.0,9,-999.0000,9,-999.0000,9, -999.00,9, -999.00,9,  -999.0,9,  -999.0,-999.000,9,-999.000,-999.000,9,-999.0000,   1.5798,-999.0000,-999.000
  316N145_8,        I03,     528,          1,          1,          1,2,19950522,       0009,   -20.3663,    63.3827,       2929,  2956.9,   1.6940,  34.7241,2,  34.7231,2,    175.9,2,   176.1,2,  120.77,2,   33.08,2,    0.00,2,    2.31,2,-999.000,9,-999.000,9,-999.000,9,  -999.0,9,  -999.0,9,-999.0000,9,-999.0000,9, -999.00,9, -999.00,9,  -999.0,9,  -999.0,-999.000,9,-999.000,-999.000,9,-999.0000,   1.4768,-999.0000,-999.000