BOTTLE,20140514CCHSIOSE
EXPOCODE,SECT_ID,STNNBR,CASTNO,SAMPNO,BTLNBR,BTLNBR_FLAG_W,DATE,TIME,LATITUDE,LONGITUDE,DEPTH,CTDPRS,CTDTMP,CTDSAL,CTDSAL_FLAG_W,SALNTY,SALNTY_FLAG_W,CTDOXY,CTDOXY_FLAG_W,OXYGEN,OXYGEN_FLAG_W,SILCAT,SILCAT_FLAG_W,NITRAT,NITRAT_FLAG_W,NITRIT,NITRIT_FLAG_W,PHSPHT,PHSPHT_FLAG_W,CFC-11,CFC-11_FLAG_W,CFC-12,CFC-12_FLAG_W,CFC113,CFC113_FLAG_W,TCARBN,TCARBN_FLAG_W,ALKALI,ALKALI_FLAG_W,TRITUM,TRITUM_FLAG_W,HELIUM,HELIUM_FLAG_W,DELHE3,DELHE3_FLAG_W,DELC13,DELC13_FLAG_W,DELC14,DELC14_FLAG_W,C14ERR,NEON,NEON_FLAG_W,NEONER,CCL4,CCL4_FLAG_W,HELIER,THETA,TRITER,DELHER
,,,,,,,,,,,METERS,DBAR,ITS-90,PSS-78,,PSS-78,,UMOL/KG,,UMOL/KG,,UMOL/KG,,UMOL/KG,,UMOL/KG,,UMOL/KG,,PMOL/KG,,PMOL/KG,,PMOL/KG,,UMOL/KG,,UMOL/KG,,TU,,NMOL/KG,,PERCNT,,/MILLE,,/MILLE,,/MILLE,NMOL/KG,,NMOL/KG,PMOL/KG,,NMOL/KG,DEG C,TU,PERCNT
  316N145_8,        I03,     479,          1,         36,         36,2,19950506,       0403,   -19.9998,    90.8160,       5112,     7.7,  25.4189,  35.1717,2,  35.1716,2,    205.1,2,   206.4,2,    3.48,2,    0.14,2,    0.00,2,    0.13,2,   1.845,2,   1.057,2,-999.000,9,  1958.3,6,  2305.4,6,-999.0000,9,-999.0000,9, -999.00,9, -999.00,9,  -999.0,9,  -999.0,-999.000,9,-999.000,-999.000,9,-999.0000,  25.4172,-999.0000,-999.000
  316N145_8,        I03,     479,          1,         35,         35,2,19950506,       0403,   -19.9998,    90.8160,       5112,    56.4,  25.2694,  35.1987,2,  35.1973,2,    208.9,2,   207.3,2,    3.45,2,    0.14,2,    0.00,2,    0.13,2,   1.892,2,   1.073,2,-999.000,9,  -999.0,9,  -999.0,9,-999.0000,9,-999.0000,9, -999.00,9, -999.00,9,  -999.0,9,  -999.0,-999.000,9,-999.000,-999.000,9,-999.0000,  25.2571,-999.0000,-999.000
  316N145_8,        I03,     479,          1,         34,         34,2,19950506,       0403,   -19.9998,    90.8160,       5112,   107.3,  21.3512,  35.3827,2,  35.3892,2,    196.2,2,   190.7,2,    6.01,2,    2.66,2,    0.19,2,    0.34,2,   2.065,2,   1.146,2,-999.000,9,  -999.0,9,  -999.0,9,-999.0000,9,-999.0000,9, -999.00,9, -999.00,9,  -999.0,9,  -999.0,-999.000,9,-999.000,-999.000,9,-999.0000,  21.3304,-999.0000,-999.000
  316N145_8,        I03,     479,          1,         33,         33,2,19950506,       0403,   -19.9998,    90.8160,       5112,   156.9,  20.0089,  35.7354,2,  35.7278,2,    200.5,2,   200.9,2,    4.48,2,    1.58,2,    0.08,2,    0.27,2,   2.304,2,   1.249,2,-999.000,9,  -999.0,9,  -999.0,9,-999.0000,9,-999.0000,9, -999.00,9, -999.00,9,  -999.0,9,  -999.0,-999.000,9,-999.000,-999.000,9,-999.0000,  19.9798,-999.0000,-999.000
  316N145_8,        I03,     479,          1,         32,         32,2,19950506,       0403,   -19.9998,    90.8160,       5112,   207.4,  18.4298,  35.8541,2,  35.8514,2,    210.2,2,   211.5,2,    3.60,2,    1.11,2,    0.01,2,    0.25,2,   2.465,2,   1.334,2,-999.000,9,  -999.0,9,  -999.0,9,-999.0000,9,-999.0000,9, -999.00,9, -999.00,9,  -999.0,9,  -999.0,-999.000,9,-999.000,-999.000,9,-999.0000,  18.3934,-999.0000,-999.000
  316N145_8,        I03,     479,          1,         31,         31,2,19950506,       0403,   -19.9998,    90.8160,       5112,   256.0,  16.8314,  35.7170,2,  35.7169,2,    206.1,2,   204.9,2,    4.22,2,    3.18,2,    0.01,2,    0.39,2,   2.484,2,   1.326,2,-999.000,9,  -999.0,9,  -999.0,9,-999.0000,9,-999.0000,9, -999.00,9, -999.00,9,  -999.0,9,  -999.0,-999.000,9,-999.000,-999.000,9,-999.0000,  16.7891,-999.0000,-999.000
  316N145_8,        I03,     479,          1,         30,         30,2,19950506,       0403,   -19.9998,    90.8160,       5112,   306.5,  15.0727,  35.5276,2,  35.5232,2,    207.1,2,   207.3,2,    4.84,2,    5.70,2,    0.01,2,    0.54,2,   2.604,2,   1.350,2,-999.000,9,  -999.0,9,  -999.0,9,-999.0000,9,-999.0000,9, -999.00,9, -999.00,9,  -999.0,9,  -999.0,-999.000,9,-999.000,-999.000,9,-999.0000,  15.0257,-999.0000,-999.000
  316N145_8,        I03,     479,          1,         29,         29,2,19950506,       0403,   -19.9998,    90.8160,       5112,   356.2,  13.3349,  35.3122,2,  35.3116,2,    222.2,2,   223.4,2,    3.97,2,    7.07,2,    0.01,2,    0.62,2,   2.929,2,   1.492,2,-999.000,9,  -999.0,9,  -999.0,9,-999.0000,9,-999.0000,9, -999.00,9, -999.00,9,  -999.0,9,  -999.0,-999.000,9,-999.000,-999.000,9,-999.0000,  13.2846,-999.0000,-999.000
  316N145_8,        I03,     479,          1,         28,         28,2,19950506,       0403,   -19.9998,    90.8160,       5112,   408.5,  12.0459,  35.1197,2,  35.1184,2,    229.2,2,   228.9,2,    4.16,2,    9.39,2,    0.01,2,    0.76,2,   2.982,2,   1.505,2,-999.000,9,  -999.0,9,  -999.0,9,-999.0000,9,-999.0000,9, -999.00,9, -999.00,9,  -999.0,9,  -999.0,-999.000,9,-999.000,-999.000,9,-999.0000,  11.9920,-999.0000,-999.000
  316N145_8,        I03,     479,          1,         27,         27,2,19950506,       0403,   -19.9998,    90.8160,       5112,   508.4,  10.2730,  34.8362,2,  34.8357,2,    232.2,2,   234.2,2,    5.21,2,   13.63,2,    0.00,2,    1.01,2,   2.862,2,   1.422,2,-999.000,9,  -999.0,9,  -999.0,9,-999.0000,9,-999.0000,9, -999.00,9, -999.00,9,  -999.0,9,  -999.0,-999.000,9,-999.000,-999.000,9,-999.0000,  10.2121,-999.0000,-999.000
  316N145_8,        I03,     479,          1,         26,         26,2,19950506,       0403,   -19.9998,    90.8160,       5112,   608.8,   9.0258,  34.6652,2,  34.6769,2,    225.1,2,   224.6,2,    7.55,2,   17.63,2,    0.00,2,    1.25,2,   2.301,2,   1.134,2,-999.000,9,  -999.0,9,  -999.0,9,-999.0000,9,-999.0000,9, -999.00,9, -999.00,9,  -999.0,9,  -999.0,-999.000,9,-999.000,-999.000,9,-999.0000,   8.9583,-999.0000,-999.000
  316N145_8,        I03,     479,          1,         25,         25,2,19950506,       0403,   -19.9998,    90.8160,       5112,   709.0,   7.2845,  34.5266,2,  34.5272,2,    198.2,2,   192.4,2,   20.82,2,   25.05,2,    0.00,2,    1.73,2,   0.853,2,   0.432,2,-999.000,9,  -999.0,9,  -999.0,9,-999.0000,9,-999.0000,9, -999.00,9, -999.00,9,  -999.0,9,  -999.0,-999.000,9,-999.000,-999.000,9,-999.0000,   7.2147,-999.0000,-999.000
  316N145_8,        I03,     479,          1,         24,         24,2,19950506,       0403,   -19.9998,    90.8160,       5112,   810.6,   5.7927,  34.5048,2,  34.5098,2,    156.4,2,   152.3,2,   47.39,2,   31.42,2,    0.00,2,    2.19,2,   0.181,2,   0.098,2,-999.000,9,  -999.0,9,  -999.0,9,-999.0000,9,-999.0000,9, -999.00,9, -999.00,9,  -999.0,9,  -999.0,-999.000,9,-999.000,-999.000,9,-999.0000,   5.7214,-999.0000,-999.000
  316N145_8,        I03,     479,          1,         23,         23,2,19950506,       0403,   -19.9998,    90.8160,       5112,   908.8,   5.2329,  34.5700,2,  34.5713,2,    121.8,2,   122.5,2,   69.49,2,   34.48,2,    0.00,2,    2.45,2,   0.029,2,   0.012,2,-999.000,9,  -999.0,9,  -999.0,9,-999.0000,9,-999.0000,9, -999.00,9, -999.00,9,  -999.0,9,  -999.0,-999.000,9,-999.000,-999.000,9,-999.0000,   5.1560,-999.0000,-999.000
  316N145_8,        I03,     479,          1,         22,         22,2,19950506,       0403,   -19.9998,    90.8160,       5112,  1003.1,   4.7779,  34.5985,2,  34.5980,2,    114.9,2,   117.1,2,   79.81,2,   35.34,2,    0.00,2,    2.54,2,   0.007,2,   0.006,2,-999.000,9,  -999.0,9,  -999.0,9,-999.0000,9,-999.0000,9, -999.00,9, -999.00,9,  -999.0,9,  -999.0,-999.000,9,-999.000,-999.000,9,-999.0000,   4.6959,-999.0000,-999.000
  316N145_8,        I03,     479,          1,         21,         21,2,19950506,       0403,   -19.9998,    90.8160,       5112,  1100.4,   4.4754,  34.6191,2,  34.6205,2,    115.2,2,   115.5,2,   85.83,2,   35.59,2,    0.00,2,    2.55,2,   0.003,2,   0.003,2,-999.000,9,  -999.0,9,  -999.0,9,-999.0000,9,-999.0000,9, -999.00,9, -999.00,9,  -999.0,9,  -999.0,-999.000,9,-999.000,-999.000,9,-999.0000,   4.3871,-999.0000,-999.000
  316N145_8,        I03,     479,          1,         20,         20,2,19950506,       0403,   -19.9998,    90.8160,       5112,  1203.1,   4.0611,  34.6368,2,  34.6384,2,    117.3,2,   119.4,2,   91.00,2,   35.63,2,    0.00,2,    2.56,2,-999.000,9,-999.000,9,-999.000,9,  -999.0,9,  -999.0,9,-999.0000,9,-999.0000,9, -999.00,9, -999.00,9,  -999.0,9,  -999.0,-999.000,9,-999.000,-999.000,9,-999.0000,   3.9674,-999.0000,-999.000
  316N145_8,        I03,     479,          1,         19,         19,2,19950506,       0403,   -19.9998,    90.8160,       5112,  1414.2,   3.5892,  34.6746,2,  34.6748,2,    124.6,2,   124.9,2,   98.58,2,   35.43,2,    0.00,2,    2.54,2,-999.000,9,-999.000,9,-999.000,9,  -999.0,9,  -999.0,9,-999.0000,9,-999.0000,9, -999.00,9, -999.00,9,  -999.0,9,  -999.0,-999.000,9,-999.000,-999.000,9,-999.0000,   3.4819,-999.0000,-999.000
  316N145_8,        I03,     479,          1,         18,         18,2,19950506,       0403,   -19.9998,    90.8160,       5112,  1615.1,   3.0424,  34.6912,2,  34.6921,2,    138.4,2,   138.7,2,  102.26,2,   34.77,2,    0.01,2,    2.48,2,   0.002,2,  -0.001,2,-999.000,9,  -999.0,9,  -999.0,9,-999.0000,9,-999.0000,9, -999.00,9, -999.00,9,  -999.0,9,  -999.0,-999.000,9,-999.000,-999.000,9,-999.0000,   2.9240,-999.0000,-999.000
  316N145_8,        I03,     479,          1,         17,         17,2,19950506,       0403,   -19.9998,    90.8160,       5112,  1817.4,   2.6815,  34.7135,2,  34.7119,2,    146.6,2,   145.5,2,  108.80,2,   34.42,2,    0.00,2,    2.45,2,-999.000,9,-999.000,9,-999.000,9,  -999.0,9,  -999.0,9,-999.0000,9,-999.0000,9, -999.00,9, -999.00,9,  -999.0,9,  -999.0,-999.000,9,-999.000,-999.000,9,-999.0000,   2.5504,-999.0000,-999.000
  316N145_8,        I03,     479,          1,         16,         16,2,19950506,       0403,   -19.9998,    90.8160,       5112,  2020.3,   2.4027,  34.7216,2,  34.7211,2,    153.0,2,   153.0,2,  112.51,2,   34.02,2,    0.00,2,    2.42,2,-999.000,9,-999.000,9,-999.000,9,  -999.0,9,  -999.0,9,-999.0000,9,-999.0000,9, -999.00,9, -999.00,9,  -999.0,9,  -999.0,-999.000,9,-999.000,-999.000,9,-999.0000,   2.2580,-999.0000,-999.000
  316N145_8,        I03,     479,          1,         15,         15,2,19950506,       0403,   -19.9998,    90.8160,       5112,  2222.3,   2.1762,  34.7254,2,  34.7246,2,    161.0,2,   159.6,2,  115.13,2,   33.71,2,    0.00,2,    2.38,2,-999.000,9,-999.000,9,-999.000,9,  -999.0,9,  -999.0,9,-999.0000,9,-999.0000,9, -999.00,9, -999.00,9,  -999.0,9,  -999.0,-999.000,9,-999.000,-999.000,9,-999.0000,   2.0174,-999.0000,-999.000
  316N145_8,        I03,     479,          1,         14,         14,2,19950506,       0403,   -19.9998,    90.8160,       5112,  2426.9,   1.9903,  34.7268,2,  34.7268,2,    166.1,2,   165.7,2,  117.53,2,   33.51,2,    0.00,2,    2.37,2,  -0.002,2,   0.002,2,-999.000,9,  -999.0,9,  -999.0,9,-999.0000,9,-999.0000,9, -999.00,9, -999.00,9,  -999.0,9,  -999.0,-999.000,9,-999.000,-999.000,9,-999.0000,   1.8166,-999.0000,-999.000
  316N145_8,        I03,     479,          1,         13,         13,2,19950506,       0403,   -19.9998,    90.8160,       5112,  2630.0,   1.8463,  34.7274,2,  34.7272,2,    169.4,2,   168.4,2,  121.28,2,   33.46,2,    0.00,2,    2.36,2,-999.000,9,-999.000,9,-999.000,9,  -999.0,9,  -999.0,9,-999.0000,9,-999.0000,9, -999.00,9, -999.00,9,  -999.0,9,  -999.0,-999.000,9,-999.000,-999.000,9,-999.0000,   1.6567,-999.0000,-999.000
  316N145_8,        I03,     479,          1,         12,         12,2,19950506,       0403,   -19.9998,    90.8160,       5112,  2833.4,   1.7194,  34.7267,2,  34.7264,2,    172.6,2,   172.4,2,  122.13,2,   33.26,2,    0.00,2,    2.33,2,-999.000,9,-999.000,9,-999.000,9,  -999.0,9,  -999.0,9,-999.0000,9,-999.0000,9, -999.00,9, -999.00,9,  -999.0,9,  -999.0,-999.000,9,-999.000,-999.000,9,-999.0000,   1.5134,-999.0000,-999.000
  316N145_8,        I03,     479,          1,         11,         11,2,19950506,       0403,   -19.9998,    90.8160,       5112,  3035.8,   1.6232,  34.7269,2,  34.7248,2,    175.1,2,   175.0,2,  124.78,2,   33.31,2,    0.00,2,    2.33,2,-999.000,9,-999.000,9,-999.000,9,  -999.0,9,  -999.0,9,-999.0000,9,-999.0000,9, -999.00,9, -999.00,9,  -999.0,9,  -999.0,-999.000,9,-999.000,-999.000,9,-999.0000,   1.4000,-999.0000,-999.000
  316N145_8,        I03,     479,          1,         10,         10,2,19950506,       0403,   -19.9998,    90.8160,       5112,  3236.3,   1.5237,  34.7241,2,  34.7238,2,    179.8,2,   179.7,2,  124.96,2,   33.06,2,    0.00,2,    2.32,2,   0.001,2,   0.001,2,-999.000,9,  -999.0,9,  -999.0,9,-999.0000,9,-999.0000,9, -999.00,9, -999.00,9,  -999.0,9,  -999.0,-999.000,9,-999.000,-999.000,9,-999.0000,   1.2832,-999.0000,-999.000
  316N145_8,        I03,     479,          1,          9,          9,2,19950506,       0403,   -19.9998,    90.8160,       5112,  3442.3,   1.4221,  34.7223,2,  34.7210,2,    183.7,2,   183.8,2,  125.60,2,   33.01,2,    0.00,2,    2.29,2,  -0.001,2,  -0.003,2,-999.000,9,  -999.0,9,  -999.0,9,-999.0000,9,-999.0000,9, -999.00,9, -999.00,9,  -999.0,9,  -999.0,-999.000,9,-999.000,-999.000,9,-999.0000,   1.1636,-999.0000,-999.000
  316N145_8,        I03,     479,          1,          8,          8,2,19950506,       0403,   -19.9998,    90.8160,       5112,  3647.5,   1.3017,  34.7194,2,  34.7185,2,    187.8,2,   188.9,2,  126.01,2,   32.85,2,    0.00,2,    2.29,2,   0.000,2,  -0.003,2,-999.000,9,  -999.0,9,  -999.0,9,-999.0000,9,-999.0000,9, -999.00,9, -999.00,9,  -999.0,9,  -999.0,-999.000,9,-999.000,-999.000,9,-999.0000,   1.0253,-999.0000,-999.000
  316N145_8,        I03,     479,          1,          7,          7,2,19950506,       0403,   -19.9998,    90.8160,       5112,  3850.4,   1.1824,  34.7168,2,  34.7159,2,    194.9,2,   196.0,2,  125.08,2,   32.50,2,    0.00,2,    2.26,2,  -0.001,2,   0.002,2,-999.000,9,  -999.0,9,  -999.0,9,-999.0000,9,-999.0000,9, -999.00,9, -999.00,9,  -999.0,9,  -999.0,-999.000,9,-999.000,-999.000,9,-999.0000,   0.8881,-999.0000,-999.000
  316N145_8,        I03,     479,          1,          6,          6,2,19950506,       0403,   -19.9998,    90.8160,       5112,  4056.0,   1.1015,  34.7144,2,  34.7134,2,    198.4,2,   199.4,2,  125.04,2,   32.30,2,    0.00,2,    2.25,2,  -0.002,2,   0.001,2,-999.000,9,  -999.0,9,  -999.0,9,-999.0000,9,-999.0000,9, -999.00,9, -999.00,9,  -999.0,9,  -999.0,-999.000,9,-999.000,-999.000,9,-999.0000,   0.7877,-999.0000,-999.000
  316N145_8,        I03,     479,          1,          5,          5,2,19950506,       0403,   -19.9998,    90.8160,       5112,  4259.5,   1.0722,  34.7133,2,  34.7122,2,    201.8,2,   202.3,2,  124.55,2,   32.20,2,    0.00,2,    2.24,2,-999.000,9,-999.000,9,-999.000,9,  -999.0,9,  -999.0,9,-999.0000,9,-999.0000,9, -999.00,9, -999.00,9,  -999.0,9,  -999.0,-999.000,9,-999.000,-999.000,9,-999.0000,   0.7372,-999.0000,-999.000
  316N145_8,        I03,     479,          1,          4,          4,2,19950506,       0403,   -19.9998,    90.8160,       5112,  4465.4,   1.0775,  34.7127,2,  34.7118,2,    201.6,2,   202.8,2,  124.29,2,   32.15,2,    0.00,2,    2.24,2,   0.000,2,   0.002,2,-999.000,9,  -999.0,9,  -999.0,9,-999.0000,9,-999.0000,9, -999.00,9, -999.00,9,  -999.0,9,  -999.0,-999.000,9,-999.000,-999.000,9,-999.0000,   0.7194,-999.0000,-999.000
  316N145_8,        I03,     479,          1,          3,          3,2,19950506,       0403,   -19.9998,    90.8160,       5112,  4669.7,   1.0961,  34.7129,2,  34.7114,2,    202.8,2,   202.7,2,  124.03,2,   32.15,2,    0.00,2,    2.24,2,   0.000,2,   0.000,2,-999.000,9,  -999.0,9,  -999.0,9,-999.0000,9,-999.0000,9, -999.00,9, -999.00,9,  -999.0,9,  -999.0,-999.000,9,-999.000,-999.000,9,-999.0000,   0.7142,-999.0000,-999.000
  316N145_8,        I03,     479,          1,          2,          2,2,19950506,       0403,   -19.9998,    90.8160,       5112,  4926.7,   1.1189,  34.7123,2,  34.7110,2,    203.8,2,   202.9,2,  124.00,2,   32.15,2,    0.00,2,    2.23,2,   0.000,2,   0.001,2,-999.000,9,  -999.0,9,  -999.0,9,-999.0000,9,-999.0000,9, -999.00,9, -999.00,9,  -999.0,9,  -999.0,-999.000,9,-999.000,-999.000,9,-999.0000,   0.7061,-999.0000,-999.000
  316N145_8,        I03,     479,          1,          1,          1,2,19950506,       0403,   -19.9998,    90.8160,       5112,  5213.5,   1.1503,  34.7121,2,  34.7115,2,    203.5,2,   203.0,2,  123.96,2,   32.15,2,    0.00,2,    2.24,2,   0.001,2,  -0.001,2,-999.000,9,  -999.0,9,  -999.0,9,-999.0000,9,-999.0000,9, -999.00,9, -999.00,9,  -999.0,9,  -999.0,-999.000,9,-999.000,-999.000,9,-999.0000,   0.7019,-999.0000,-999.000