BOTTLE,20140514CCHSIOSE
EXPOCODE,SECT_ID,STNNBR,CASTNO,SAMPNO,BTLNBR,BTLNBR_FLAG_W,DATE,TIME,LATITUDE,LONGITUDE,DEPTH,CTDPRS,CTDTMP,CTDSAL,CTDSAL_FLAG_W,SALNTY,SALNTY_FLAG_W,CTDOXY,CTDOXY_FLAG_W,OXYGEN,OXYGEN_FLAG_W,SILCAT,SILCAT_FLAG_W,NITRAT,NITRAT_FLAG_W,NITRIT,NITRIT_FLAG_W,PHSPHT,PHSPHT_FLAG_W,CFC-11,CFC-11_FLAG_W,CFC-12,CFC-12_FLAG_W,CFC113,CFC113_FLAG_W,TCARBN,TCARBN_FLAG_W,ALKALI,ALKALI_FLAG_W,TRITUM,TRITUM_FLAG_W,HELIUM,HELIUM_FLAG_W,DELHE3,DELHE3_FLAG_W,DELC13,DELC13_FLAG_W,DELC14,DELC14_FLAG_W,C14ERR,NEON,NEON_FLAG_W,NEONER,CCL4,CCL4_FLAG_W,HELIER,THETA,TRITER,DELHER
,,,,,,,,,,,METERS,DBAR,ITS-90,PSS-78,,PSS-78,,UMOL/KG,,UMOL/KG,,UMOL/KG,,UMOL/KG,,UMOL/KG,,UMOL/KG,,PMOL/KG,,PMOL/KG,,PMOL/KG,,UMOL/KG,,UMOL/KG,,TU,,NMOL/KG,,PERCNT,,/MILLE,,/MILLE,,/MILLE,NMOL/KG,,NMOL/KG,PMOL/KG,,NMOL/KG,DEG C,TU,PERCNT
  316N145_8,        I03,     543,          1,         36,         36,2,19950525,       0033,   -19.9993,    57.0497,       4356,     6.6,  25.2968,  35.1594,2,  35.1600,2,    205.5,2,   206.8,2,    3.00,2,    0.11,2,    0.00,2,    0.12,2,   1.874,2,   1.065,2,-999.000,9,  -999.0,9,  -999.0,9,-999.0000,9,-999.0000,9, -999.00,9, -999.00,9,  -999.0,9,  -999.0,-999.000,9,-999.000,-999.000,9,-999.0000,  25.2954,-999.0000,-999.000
  316N145_8,        I03,     543,          1,         35,         35,2,19950525,       0033,   -19.9993,    57.0497,       4356,    55.0,  25.3089,  35.1752,2,  35.1757,2,    205.2,2,   206.6,2,    2.98,2,    0.11,2,    0.00,2,    0.12,2,   1.861,2,   1.068,2,-999.000,9,  -999.0,9,  -999.0,9,-999.0000,9,-999.0000,9, -999.00,9, -999.00,9,  -999.0,9,  -999.0,-999.000,9,-999.000,-999.000,9,-999.0000,  25.2968,-999.0000,-999.000
  316N145_8,        I03,     543,          1,         34,         34,2,19950525,       0033,   -19.9993,    57.0497,       4356,   105.2,  22.9466,  35.2962,2,  35.2959,2,    209.2,2,   211.1,2,    3.18,2,    0.17,2,    0.04,2,    0.16,2,   2.097,2,   1.157,2,-999.000,9,  -999.0,9,  -999.0,9,-999.0000,9,-999.0000,9, -999.00,9, -999.00,9,  -999.0,9,  -999.0,-999.000,9,-999.000,-999.000,9,-999.0000,  22.9252,-999.0000,-999.000
  316N145_8,        I03,     543,          1,         33,         33,2,19950525,       0033,   -19.9993,    57.0497,       4356,   156.0,  21.0027,  35.4483,2,  35.4554,2,    191.4,2,   185.6,2,    4.61,2,    3.05,2,    0.02,2,    0.34,2,   2.131,2,   1.171,2,-999.000,9,  -999.0,9,  -999.0,9,-999.0000,9,-999.0000,9, -999.00,9, -999.00,9,  -999.0,9,  -999.0,-999.000,9,-999.000,-999.000,9,-999.0000,  20.9728,-999.0000,-999.000
  316N145_8,        I03,     543,          1,         32,         32,2,19950525,       0033,   -19.9993,    57.0497,       4356,   205.3,  19.3147,  35.5683,2,  35.5759,2,    183.3,2,   180.8,2,    5.62,2,    4.56,2,    0.01,2,    0.44,2,   2.166,2,   1.174,2,-999.000,9,  -999.0,9,  -999.0,9,-999.0000,9,-999.0000,9, -999.00,9, -999.00,9,  -999.0,9,  -999.0,-999.000,9,-999.000,-999.000,9,-999.0000,  19.2776,-999.0000,-999.000
  316N145_8,        I03,     543,          1,         31,         31,2,19950525,       0033,   -19.9993,    57.0497,       4356,   256.2,  17.6158,  35.5725,2,  35.5727,2,    186.7,2,   185.8,2,    5.82,2,    5.38,2,    0.01,2,    0.50,2,   2.262,2,   1.214,2,-999.000,9,  -999.0,9,  -999.0,9,-999.0000,9,-999.0000,9, -999.00,9, -999.00,9,  -999.0,9,  -999.0,-999.000,9,-999.000,-999.000,9,-999.0000,  17.5722,-999.0000,-999.000
  316N145_8,        I03,     543,          1,         30,         30,2,19950525,       0033,   -19.9993,    57.0497,       4356,   305.7,  15.9032,  35.5244,2,  35.5253,2,    198.1,2,   198.9,2,    5.19,2,    5.77,2,    0.00,2,    0.53,2,   2.429,2,   1.281,2,-999.000,9,  -999.0,9,  -999.0,9,-999.0000,9,-999.0000,9, -999.00,9, -999.00,9,  -999.0,9,  -999.0,-999.000,9,-999.000,-999.000,9,-999.0000,  15.8547,-999.0000,-999.000
  316N145_8,        I03,     543,          1,         29,         29,2,19950525,       0033,   -19.9993,    57.0497,       4356,   355.7,  14.6036,  35.4184,2,  35.4288,2,    206.6,2,   208.4,2,    4.76,2,    6.50,2,    0.00,2,    0.59,2,   2.582,2,   1.334,2,-999.000,9,  -999.0,9,  -999.0,9,-999.0000,9,-999.0000,9, -999.00,9, -999.00,9,  -999.0,9,  -999.0,-999.000,9,-999.000,-999.000,9,-999.0000,  14.5503,-999.0000,-999.000
  316N145_8,        I03,     543,          1,         28,         28,2,19950525,       0033,   -19.9993,    57.0497,       4356,   406.9,  13.4352,  35.2813,2,  35.2743,2,    218.4,2,   219.9,2,    4.34,2,    8.05,2,    0.00,2,    0.67,2,   2.715,2,   1.390,2,-999.000,9,  -999.0,9,  -999.0,9,-999.0000,9,-999.0000,9, -999.00,9, -999.00,9,  -999.0,9,  -999.0,-999.000,9,-999.000,-999.000,9,-999.0000,  13.3774,-999.0000,-999.000
  316N145_8,        I03,     543,          1,         27,         27,2,19950525,       0033,   -19.9993,    57.0497,       4356,   456.5,  12.4334,  35.1444,2,  35.1337,2,    225.8,2,   225.2,2,    4.53,2,    9.80,2,    0.00,2,    0.78,2,   2.728,2,   1.387,2,-999.000,9,  -999.0,9,  -999.0,9,-999.0000,9,-999.0000,9, -999.00,9, -999.00,9,  -999.0,9,  -999.0,-999.000,9,-999.000,-999.000,9,-999.0000,  12.3717,-999.0000,-999.000
  316N145_8,        I03,     543,          1,         26,         26,2,19950525,       0033,   -19.9993,    57.0497,       4356,   506.8,  11.5325,  35.0126,2,  35.0236,2,    224.9,2,   227.3,2,    4.93,2,   11.35,2,    0.00,2,    0.86,2,   2.637,2,   1.331,2,-999.000,9,  -999.0,9,  -999.0,9,-999.0000,9,-999.0000,9, -999.00,9, -999.00,9,  -999.0,9,  -999.0,-999.000,9,-999.000,-999.000,9,-999.0000,  11.4672,-999.0000,-999.000
  316N145_8,        I03,     543,          1,         25,         25,2,19950525,       0033,   -19.9993,    57.0497,       4356,   607.0,  10.0305,  34.8021,2,  34.8010,2,    228.5,2,   223.8,2,    6.77,2,   15.32,2,    0.00,2,    1.10,2,   2.169,2,   1.089,2,-999.000,9,  -999.0,9,  -999.0,9,-999.0000,9,-999.0000,9, -999.00,9, -999.00,9,  -999.0,9,  -999.0,-999.000,9,-999.000,-999.000,9,-999.0000,   9.9586,-999.0000,-999.000
  316N145_8,        I03,     543,          1,         24,         24,2,19950525,       0033,   -19.9993,    57.0497,       4356,   708.0,   8.5377,  34.6436,2,  34.6458,2,    212.3,2,   207.8,2,   13.15,2,   20.41,2,    0.00,2,    1.40,2,   1.371,2,   0.685,2,-999.000,9,  -999.0,9,  -999.0,9,-999.0000,9,-999.0000,9, -999.00,9, -999.00,9,  -999.0,9,  -999.0,-999.000,9,-999.000,-999.000,9,-999.0000,   8.4613,-999.0000,-999.000
  316N145_8,        I03,     543,          1,         23,         23,2,19950525,       0033,   -19.9993,    57.0497,       4356,   808.3,   6.4932,  34.5097,2,  34.5107,2,    180.7,2,   181.8,2,   30.04,2,   27.41,2,    0.00,2,    1.87,2,   0.471,2,   0.237,2,-999.000,9,  -999.0,9,  -999.0,9,-999.0000,9,-999.0000,9, -999.00,9, -999.00,9,  -999.0,9,  -999.0,-999.000,9,-999.000,-999.000,9,-999.0000,   6.4179,-999.0000,-999.000
  316N145_8,        I03,     543,          1,         22,         22,2,19950525,       0033,   -19.9993,    57.0497,       4356,   907.0,   5.6371,  34.5506,2,  34.5487,2,    148.7,2,   151.3,2,   51.06,2,   31.33,2,    0.00,2,    2.17,2,   0.177,2,   0.087,2,-999.000,9,  -999.0,9,  -999.0,9,-999.0000,9,-999.0000,9, -999.00,9, -999.00,9,  -999.0,9,  -999.0,-999.000,9,-999.000,-999.000,9,-999.0000,   5.5577,-999.0000,-999.000
  316N145_8,        I03,     543,          1,         21,         21,2,19950525,       0033,   -19.9993,    57.0497,       4356,  1008.3,   4.9544,  34.5633,2,  34.5656,2,    138.0,2,   139.9,2,   64.27,2,   33.21,2,    0.00,2,    2.32,2,   0.078,2,   0.037,2,-999.000,9,  -999.0,9,  -999.0,9,-999.0000,9,-999.0000,9, -999.00,9, -999.00,9,  -999.0,9,  -999.0,-999.000,9,-999.000,-999.000,9,-999.0000,   4.8706,-999.0000,-999.000
  316N145_8,        I03,     543,          1,         20,         20,2,19950525,       0033,   -19.9993,    57.0497,       4356,  1109.1,   4.5369,  34.6115,2,  34.6128,2,    130.9,2,   131.2,2,   75.64,2,   34.14,2,    0.00,2,    2.40,2,   0.034,2,   0.018,2,-999.000,9,  -999.0,9,  -999.0,9,-999.0000,9,-999.0000,9, -999.00,9, -999.00,9,  -999.0,9,  -999.0,-999.000,9,-999.000,-999.000,9,-999.0000,   4.4474,-999.0000,-999.000
  316N145_8,        I03,     543,          1,         19,         19,2,19950525,       0033,   -19.9993,    57.0497,       4356,  1209.8,   4.1358,  34.6331,2,  34.6354,2,    132.6,2,   133.2,2,   81.44,2,   34.29,2,    0.00,2,    2.42,2,   0.016,2,   0.007,2,-999.000,9,  -999.0,9,  -999.0,9,-999.0000,9,-999.0000,9, -999.00,9, -999.00,9,  -999.0,9,  -999.0,-999.000,9,-999.000,-999.000,9,-999.0000,   4.0408,-999.0000,-999.000
  316N145_8,        I03,     543,          1,         18,         18,2,19950525,       0033,   -19.9993,    57.0497,       4356,  1310.8,   3.8312,  34.6512,2,  34.6517,2,    138.2,2,   137.5,2,   85.58,2,   34.15,2,    0.00,2,    2.41,2,   0.015,2,   0.009,2,-999.000,9,  -999.0,9,  -999.0,9,-999.0000,9,-999.0000,9, -999.00,9, -999.00,9,  -999.0,9,  -999.0,-999.000,9,-999.000,-999.000,9,-999.0000,   3.7304,-999.0000,-999.000
  316N145_8,        I03,     543,          1,         17,         17,2,19950525,       0033,   -19.9993,    57.0497,       4356,  1412.3,   3.3862,  34.6637,2,  34.6615,2,    145.5,2,   145.8,2,   88.69,2,   33.90,2,    0.00,2,    2.38,2,   0.013,2,   0.003,2,-999.000,9,  -999.0,9,  -999.0,9,-999.0000,9,-999.0000,9, -999.00,9, -999.00,9,  -999.0,9,  -999.0,-999.000,9,-999.000,-999.000,9,-999.0000,   3.2812,-999.0000,-999.000
  316N145_8,        I03,     543,          1,         16,         16,2,19950525,       0033,   -19.9993,    57.0497,       4356,  1513.1,   3.0670,  34.6744,2,  34.6742,2,    151.6,2,   151.8,2,   92.63,2,   33.60,2,    0.00,2,    2.37,2,   0.010,2,   0.003,2,-999.000,9,  -999.0,9,  -999.0,9,-999.0000,9,-999.0000,9, -999.00,9, -999.00,9,  -999.0,9,  -999.0,-999.000,9,-999.000,-999.000,9,-999.0000,   2.9571,-999.0000,-999.000
  316N145_8,        I03,     543,          1,         15,         15,2,19950525,       0033,   -19.9993,    57.0497,       4356,  1615.0,   2.8638,  34.6847,2,  34.6839,2,    156.1,2,   155.6,2,   95.12,2,   33.46,2,    0.00,2,    2.34,2,   0.005,2,   0.003,2,-999.000,9,  -999.0,9,  -999.0,9,-999.0000,9,-999.0000,9, -999.00,9, -999.00,9,  -999.0,9,  -999.0,-999.000,9,-999.000,-999.000,9,-999.0000,   2.7477,-999.0000,-999.000
  316N145_8,        I03,     543,          1,         14,         14,2,19950525,       0033,   -19.9993,    57.0497,       4356,  1817.1,   2.5260,  34.7066,2,  34.7066,2,    159.7,2,   159.9,2,  103.09,2,   33.26,2,    0.00,2,    2.33,2,-999.000,9,-999.000,9,-999.000,9,  -999.0,9,  -999.0,9,-999.0000,9,-999.0000,9, -999.00,9, -999.00,9,  -999.0,9,  -999.0,-999.000,9,-999.000,-999.000,9,-999.0000,   2.3971,-999.0000,-999.000
  316N145_8,        I03,     543,          1,         13,         13,2,19950525,       0033,   -19.9993,    57.0497,       4356,  2019.0,   2.3086,  34.7175,2,  34.7174,2,    163.0,2,   162.2,2,  108.78,2,   33.31,2,    0.00,2,    2.34,2,   0.003,2,   0.000,2,-999.000,9,  -999.0,9,  -999.0,9,-999.0000,9,-999.0000,9, -999.00,9, -999.00,9,  -999.0,9,  -999.0,-999.000,9,-999.000,-999.000,9,-999.0000,   2.1655,-999.0000,-999.000
  316N145_8,        I03,     543,          1,         12,         12,2,19950525,       0033,   -19.9993,    57.0497,       4356,  2222.3,   2.1337,  34.7236,2,  34.7239,2,    163.3,2,   164.1,2,  113.86,2,   33.36,2,    0.00,2,    2.33,2,-999.000,9,-999.000,9,-999.000,9,  -999.0,9,  -999.0,9,-999.0000,9,-999.0000,9, -999.00,9, -999.00,9,  -999.0,9,  -999.0,-999.000,9,-999.000,-999.000,9,-999.0000,   1.9757,-999.0000,-999.000
  316N145_8,        I03,     543,          1,         11,         11,2,19950525,       0033,   -19.9993,    57.0497,       4356,  2424.5,   2.0044,  34.7253,2,  34.7257,2,    166.4,2,   166.0,2,  117.26,2,   33.36,2,    0.01,2,    2.33,2,-999.000,9,-999.000,9,-999.000,9,  -999.0,9,  -999.0,9,-999.0000,9,-999.0000,9, -999.00,9, -999.00,9,  -999.0,9,  -999.0,-999.000,9,-999.000,-999.000,9,-999.0000,   1.8306,-999.0000,-999.000
  316N145_8,        I03,     543,          1,         10,         10,2,19950525,       0033,   -19.9993,    57.0497,       4356,  2627.1,   1.8979,  34.7274,2,  34.7282,2,    168.1,2,   167.7,2,  120.02,2,   33.42,2,    0.00,2,    2.33,2,   0.005,2,   0.002,2,-999.000,9,  -999.0,9,  -999.0,9,-999.0000,9,-999.0000,9, -999.00,9, -999.00,9,  -999.0,9,  -999.0,-999.000,9,-999.000,-999.000,9,-999.0000,   1.7076,-999.0000,-999.000
  316N145_8,        I03,     543,          1,          9,          9,2,19950525,       0033,   -19.9993,    57.0497,       4356,  2831.2,   1.8294,  34.7290,2,  34.7298,2,    168.0,2,   167.6,2,  123.23,2,   33.57,2,    0.00,2,    2.33,2,-999.000,9,-999.000,9,-999.000,9,  -999.0,9,  -999.0,9,-999.0000,9,-999.0000,9, -999.00,9, -999.00,9,  -999.0,9,  -999.0,-999.000,9,-999.000,-999.000,9,-999.0000,   1.6214,-999.0000,-999.000
  316N145_8,        I03,     543,          1,          8,          8,2,19950525,       0033,   -19.9993,    57.0497,       4356,  3032.7,   1.7612,  34.7305,2,  34.7304,2,    167.9,2,   167.8,2,  125.59,2,   33.57,2,    0.00,2,    2.34,2,-999.000,9,-999.000,9,-999.000,9,  -999.0,9,  -999.0,9,-999.0000,9,-999.0000,9, -999.00,9, -999.00,9,  -999.0,9,  -999.0,-999.000,9,-999.000,-999.000,9,-999.0000,   1.5352,-999.0000,-999.000
  316N145_8,        I03,     543,          1,          7,          7,2,19950525,       0033,   -19.9993,    57.0497,       4356,  3236.7,   1.7111,  34.7309,2,  34.7315,2,    168.4,2,   168.5,2,  127.51,2,   33.67,2,    0.00,2,    2.34,2,   0.003,2,   0.002,2,-999.000,9,  -999.0,9,  -999.0,9,-999.0000,9,-999.0000,9, -999.00,9, -999.00,9,  -999.0,9,  -999.0,-999.000,9,-999.000,-999.000,9,-999.0000,   1.4661,-999.0000,-999.000
  316N145_8,        I03,     543,          1,          6,          6,2,19950525,       0033,   -19.9993,    57.0497,       4356,  3439.0,   1.6463,  34.7293,2,  34.7294,2,    171.1,2,   170.9,2,  128.36,2,   33.52,2,    0.00,2,    2.34,2,-999.000,9,-999.000,9,-999.000,9,  -999.0,9,  -999.0,9,-999.0000,9,-999.0000,9, -999.00,9, -999.00,9,  -999.0,9,  -999.0,-999.000,9,-999.000,-999.000,9,-999.0000,   1.3825,-999.0000,-999.000
  316N145_8,        I03,     543,          1,          5,          5,2,19950525,       0033,   -19.9993,    57.0497,       4356,  3642.3,   1.5632,  34.7265,2,  34.7261,2,    175.0,2,   174.8,2,  128.55,2,   33.42,2,    0.00,2,    2.33,2,-999.000,9,-999.000,9,-999.000,9,  -999.0,9,  -999.0,9,-999.0000,9,-999.0000,9, -999.00,9, -999.00,9,  -999.0,9,  -999.0,-999.000,9,-999.000,-999.000,9,-999.0000,   1.2804,-999.0000,-999.000
  316N145_8,        I03,     543,          1,          4,          4,2,19950525,       0033,   -19.9993,    57.0497,       4356,  3847.5,   1.4741,  34.7233,2,  34.7231,2,    179.9,2,   180.2,2,  128.09,2,   33.23,2,    0.00,2,    2.29,2,   0.004,2,   0.001,2,-999.000,9,  -999.0,9,  -999.0,9,-999.0000,9,-999.0000,9, -999.00,9, -999.00,9,  -999.0,9,  -999.0,-999.000,9,-999.000,-999.000,9,-999.0000,   1.1721,-999.0000,-999.000
  316N145_8,        I03,     543,          1,          3,          3,2,19950525,       0033,   -19.9993,    57.0497,       4356,  4051.5,   1.3843,  34.7202,2,  34.7192,2,    184.5,2,   185.1,2,  127.41,2,   33.03,2,    0.00,2,    2.28,2,-999.000,9,-999.000,9,-999.000,9,  -999.0,9,  -999.0,9,-999.0000,9,-999.0000,9, -999.00,9, -999.00,9,  -999.0,9,  -999.0,-999.000,9,-999.000,-999.000,9,-999.0000,   1.0628,-999.0000,-999.000
  316N145_8,        I03,     543,          1,          2,          2,2,19950525,       0033,   -19.9993,    57.0497,       4356,  4254.5,   1.3085,  34.7168,2,  34.7168,2,    189.9,2,   189.8,2,  126.73,2,   32.84,2,    0.00,2,    2.27,2,-999.000,9,-999.000,9,-999.000,9,  -999.0,9,  -999.0,9,-999.0000,9,-999.0000,9, -999.00,9, -999.00,9,  -999.0,9,  -999.0,-999.000,9,-999.000,-999.000,9,-999.0000,   0.9669,-999.0000,-999.000
  316N145_8,        I03,     543,          1,          1,          1,2,19950525,       0033,   -19.9993,    57.0497,       4356,  4431.7,   1.2454,  34.7139,2,  34.7143,2,    194.2,2,   194.1,2,  126.27,2,   32.64,2,    0.00,2,    2.25,2,   0.004,2,   0.004,2,-999.000,9,  -999.0,9,  -999.0,9,-999.0000,9,-999.0000,9, -999.00,9, -999.00,9,  -999.0,9,  -999.0,-999.000,9,-999.000,-999.000,9,-999.0000,   0.8859,-999.0000,-999.000