BOTTLE,20140514CCHSIOSE
EXPOCODE,SECT_ID,STNNBR,CASTNO,SAMPNO,BTLNBR,BTLNBR_FLAG_W,DATE,TIME,LATITUDE,LONGITUDE,DEPTH,CTDPRS,CTDTMP,CTDSAL,CTDSAL_FLAG_W,SALNTY,SALNTY_FLAG_W,CTDOXY,CTDOXY_FLAG_W,OXYGEN,OXYGEN_FLAG_W,SILCAT,SILCAT_FLAG_W,NITRAT,NITRAT_FLAG_W,NITRIT,NITRIT_FLAG_W,PHSPHT,PHSPHT_FLAG_W,CFC-11,CFC-11_FLAG_W,CFC-12,CFC-12_FLAG_W,CFC113,CFC113_FLAG_W,TCARBN,TCARBN_FLAG_W,ALKALI,ALKALI_FLAG_W,TRITUM,TRITUM_FLAG_W,HELIUM,HELIUM_FLAG_W,DELHE3,DELHE3_FLAG_W,DELC13,DELC13_FLAG_W,DELC14,DELC14_FLAG_W,C14ERR,NEON,NEON_FLAG_W,NEONER,CCL4,CCL4_FLAG_W,HELIER,THETA,TRITER,DELHER
,,,,,,,,,,,METERS,DBAR,ITS-90,PSS-78,,PSS-78,,UMOL/KG,,UMOL/KG,,UMOL/KG,,UMOL/KG,,UMOL/KG,,UMOL/KG,,PMOL/KG,,PMOL/KG,,PMOL/KG,,UMOL/KG,,UMOL/KG,,TU,,NMOL/KG,,PERCNT,,/MILLE,,/MILLE,,/MILLE,NMOL/KG,,NMOL/KG,PMOL/KG,,NMOL/KG,DEG C,TU,PERCNT
  316N145_8,        I03,     569,          1,         12,         12,2,19950603,       0017,   -19.9998,    50.9993,       4828,     3.2,  24.8942,  35.3410,2,  35.3415,2,    208.6,2,   210.1,2, -999.00,9, -999.00,9, -999.00,9, -999.00,9,-999.000,9,-999.000,9,-999.000,9,  -999.0,9,  -999.0,9,-999.0000,9,-999.0000,9, -999.00,9, -999.00,9,  -999.0,9,  -999.0,-999.000,9,-999.000,-999.000,9,-999.0000,  24.8935,-999.0000,-999.000
  316N145_8,        I03,     569,          1,         11,         11,2,19950603,       0017,   -19.9998,    50.9993,       4828,    95.1,  23.5676,  35.2183,2,  35.2195,2,    210.4,2,   205.4,2, -999.00,9, -999.00,9, -999.00,9, -999.00,9,-999.000,9,-999.000,9,-999.000,9,  -999.0,9,  -999.0,9,-999.0000,9,-999.0000,9, -999.00,9, -999.00,9,  -999.0,9,  -999.0,-999.000,9,-999.000,-999.000,9,-999.0000,  23.5478,-999.0000,-999.000
  316N145_8,        I03,     569,          1,         10,         10,2,19950603,       0017,   -19.9998,    50.9993,       4828,   205.0,  18.4043,  35.4644,2,  35.4675,2,    163.6,2,   162.7,2, -999.00,9, -999.00,9, -999.00,9, -999.00,9,-999.000,9,-999.000,9,-999.000,9,  -999.0,9,  -999.0,9,-999.0000,9,-999.0000,9, -999.00,9, -999.00,9,  -999.0,9,  -999.0,-999.000,9,-999.000,-999.000,9,-999.0000,  18.3684,-999.0000,-999.000
  316N145_8,        I03,     569,          1,          9,          9,2,19950603,       0017,   -19.9998,    50.9993,       4828,   481.3,  11.6121,  35.0193,2,  35.0180,2,    219.9,2,   217.5,2, -999.00,9, -999.00,9, -999.00,9, -999.00,9,-999.000,9,-999.000,9,-999.000,9,  -999.0,9,  -999.0,9,-999.0000,9,-999.0000,9, -999.00,9, -999.00,9,  -999.0,9,  -999.0,-999.000,9,-999.000,-999.000,9,-999.0000,  11.5499,-999.0000,-999.000
  316N145_8,        I03,     569,          1,          8,          8,2,19950603,       0017,   -19.9998,    50.9993,       4828,   580.5,  10.0342,  34.8061,2,  34.8067,2,    216.9,2,   216.7,2, -999.00,9, -999.00,9, -999.00,9, -999.00,9,-999.000,9,-999.000,9,-999.000,9,  -999.0,9,  -999.0,9,-999.0000,9,-999.0000,9, -999.00,9, -999.00,9,  -999.0,9,  -999.0,-999.000,9,-999.000,-999.000,9,-999.0000,   9.9655,-999.0000,-999.000
  316N145_8,        I03,     569,          1,          7,          7,2,19950603,       0017,   -19.9998,    50.9993,       4828,  1043.2,   4.8891,  34.5951,2,  34.5882,2,    134.6,2,   135.7,2, -999.00,9, -999.00,9, -999.00,9, -999.00,9,-999.000,9,-999.000,9,-999.000,9,  -999.0,9,  -999.0,9,-999.0000,9,-999.0000,9, -999.00,9, -999.00,9,  -999.0,9,  -999.0,-999.000,9,-999.000,-999.000,9,-999.0000,   4.8026,-999.0000,-999.000
  316N145_8,        I03,     569,          1,          6,          6,2,19950603,       0017,   -19.9998,    50.9993,       4828,  1159.1,   4.3640,  34.6186,2,  34.6188,2,    132.5,2,   135.0,2, -999.00,9, -999.00,9, -999.00,9, -999.00,9,-999.000,9,-999.000,9,-999.000,9,  -999.0,9,  -999.0,9,-999.0000,9,-999.0000,9, -999.00,9, -999.00,9,  -999.0,9,  -999.0,-999.000,9,-999.000,-999.000,9,-999.0000,   4.2715,-999.0000,-999.000
  316N145_8,        I03,     569,          1,          5,          5,2,19950603,       0017,   -19.9998,    50.9993,       4828,  1814.1,   2.5514,  34.7052,2,  34.7059,2,    161.8,2,   162.4,2, -999.00,9, -999.00,9, -999.00,9, -999.00,9,-999.000,9,-999.000,9,-999.000,9,  -999.0,9,  -999.0,9,-999.0000,9,-999.0000,9, -999.00,9, -999.00,9,  -999.0,9,  -999.0,-999.000,9,-999.000,-999.000,9,-999.0000,   2.4224,-999.0000,-999.000
  316N145_8,        I03,     569,          1,          4,          4,2,19950603,       0017,   -19.9998,    50.9993,       4828,  2524.8,   2.0824,  34.7367,2,  34.7379,2,    159.3,2,   158.7,2, -999.00,9, -999.00,9, -999.00,9, -999.00,9,-999.000,9,-999.000,9,-999.000,9,  -999.0,9,  -999.0,9,-999.0000,9,-999.0000,9, -999.00,9, -999.00,9,  -999.0,9,  -999.0,-999.000,9,-999.000,-999.000,9,-999.0000,   1.8980,-999.0000,-999.000
  316N145_8,        I03,     569,          1,          3,          3,2,19950603,       0017,   -19.9998,    50.9993,       4828,  3235.6,   1.8072,  34.7352,2,  34.7352,2,    163.9,2,   163.8,2, -999.00,9, -999.00,9, -999.00,9, -999.00,9,-999.000,9,-999.000,9,-999.000,9,  -999.0,9,  -999.0,9,-999.0000,9,-999.0000,9, -999.00,9, -999.00,9,  -999.0,9,  -999.0,-999.000,9,-999.000,-999.000,9,-999.0000,   1.5601,-999.0000,-999.000
  316N145_8,        I03,     569,          1,          2,          2,2,19950603,       0017,   -19.9998,    50.9993,       4828,  3999.2,   1.2808,  34.7172,2,  34.7173,2,    190.5,2,   192.1,2, -999.00,9, -999.00,9, -999.00,9, -999.00,9,-999.000,9,-999.000,9,-999.000,9,  -999.0,9,  -999.0,9,-999.0000,9,-999.0000,9, -999.00,9, -999.00,9,  -999.0,9,  -999.0,-999.000,9,-999.000,-999.000,9,-999.0000,   0.9680,-999.0000,-999.000
  316N145_8,        I03,     569,          1,          1,          1,2,19950603,       0017,   -19.9998,    50.9993,       4828,  4926.3,   1.0084,  34.7052,2,  34.7053,2,    206.9,2,   206.6,2, -999.00,9, -999.00,9, -999.00,9, -999.00,9,-999.000,9,-999.000,9,-999.000,9,  -999.0,9,  -999.0,9,-999.0000,9,-999.0000,9, -999.00,9, -999.00,9,  -999.0,9,  -999.0,-999.000,9,-999.000,-999.000,9,-999.0000,   0.5995,-999.0000,-999.000
  316N145_8,        I03,     570,          1,         12,         12,2,19950603,       0449,   -20.0005,    51.3000,       4875,     2.6,  24.8222,  35.3098,2,  35.3099,2,    207.4,2,   208.8,2, -999.00,9, -999.00,9, -999.00,9, -999.00,9,-999.000,9,-999.000,9,-999.000,9,  -999.0,9,  -999.0,9,-999.0000,9,-999.0000,9, -999.00,9, -999.00,9,  -999.0,9,  -999.0,-999.000,9,-999.000,-999.000,9,-999.0000,  24.8217,-999.0000,-999.000
  316N145_8,        I03,     570,          1,         11,         11,2,19950603,       0449,   -20.0005,    51.3000,       4875,    96.0,  23.3589,  35.2481,2,  35.2477,2,    200.8,2,   204.0,2, -999.00,9, -999.00,9, -999.00,9, -999.00,9,-999.000,9,-999.000,9,-999.000,9,  -999.0,9,  -999.0,9,-999.0000,9,-999.0000,9, -999.00,9, -999.00,9,  -999.0,9,  -999.0,-999.000,9,-999.000,-999.000,9,-999.0000,  23.3390,-999.0000,-999.000
  316N145_8,        I03,     570,          1,         10,         10,2,19950603,       0449,   -20.0005,    51.3000,       4875,   151.6,  20.7334,  35.4191,2,  35.4292,2,    178.3,2,   174.2,2, -999.00,9, -999.00,9, -999.00,9, -999.00,9,-999.000,9,-999.000,9,-999.000,9,  -999.0,9,  -999.0,9,-999.0000,9,-999.0000,9, -999.00,9, -999.00,9,  -999.0,9,  -999.0,-999.000,9,-999.000,-999.000,9,-999.0000,  20.7046,-999.0000,-999.000
  316N145_8,        I03,     570,          1,          9,          9,2,19950603,       0449,   -20.0005,    51.3000,       4875,   457.3,  12.0089,  35.0764,2,  35.0776,2,    226.6,2,   226.9,2, -999.00,9, -999.00,9, -999.00,9, -999.00,9,-999.000,9,-999.000,9,-999.000,9,  -999.0,9,  -999.0,9,-999.0000,9,-999.0000,9, -999.00,9, -999.00,9,  -999.0,9,  -999.0,-999.000,9,-999.000,-999.000,9,-999.0000,  11.9486,-999.0000,-999.000
  316N145_8,        I03,     570,          1,          8,          8,2,19950603,       0449,   -20.0005,    51.3000,       4875,   557.3,  10.4558,  34.8574,2,  34.8566,2,    227.9,2,   226.2,2, -999.00,9, -999.00,9, -999.00,9, -999.00,9,-999.000,9,-999.000,9,-999.000,9,  -999.0,9,  -999.0,9,-999.0000,9,-999.0000,9, -999.00,9, -999.00,9,  -999.0,9,  -999.0,-999.000,9,-999.000,-999.000,9,-999.0000,  10.3883,-999.0000,-999.000
  316N145_8,        I03,     570,          1,          7,          7,2,19950603,       0449,   -20.0005,    51.3000,       4875,  1060.3,   5.0984,  34.6320,2,  34.6348,2,    126.3,2,   126.2,2, -999.00,9, -999.00,9, -999.00,9, -999.00,9,-999.000,9,-999.000,9,-999.000,9,  -999.0,9,  -999.0,9,-999.0000,9,-999.0000,9, -999.00,9, -999.00,9,  -999.0,9,  -999.0,-999.000,9,-999.000,-999.000,9,-999.0000,   5.0086,-999.0000,-999.000
  316N145_8,        I03,     570,          1,          6,          6,2,19950603,       0449,   -20.0005,    51.3000,       4875,  1161.0,   4.6631,  34.6500,2,  34.6550,2,    125.8,2,   125.1,2, -999.00,9, -999.00,9, -999.00,9, -999.00,9,-999.000,9,-999.000,9,-999.000,9,  -999.0,9,  -999.0,9,-999.0000,9,-999.0000,9, -999.00,9, -999.00,9,  -999.0,9,  -999.0,-999.000,9,-999.000,-999.000,9,-999.0000,   4.5677,-999.0000,-999.000
  316N145_8,        I03,     570,          1,          5,          5,2,19950603,       0449,   -20.0005,    51.3000,       4875,  1864.2,   2.5839,  34.7025,2,  34.7035,2,    162.1,2,   161.8,2, -999.00,9, -999.00,9, -999.00,9, -999.00,9,-999.000,9,-999.000,9,-999.000,9,  -999.0,9,  -999.0,9,-999.0000,9,-999.0000,9, -999.00,9, -999.00,9,  -999.0,9,  -999.0,-999.000,9,-999.000,-999.000,9,-999.0000,   2.4502,-999.0000,-999.000
  316N145_8,        I03,     570,          1,          4,          4,2,19950603,       0449,   -20.0005,    51.3000,       4875,  2522.4,   2.0806,  34.7369,2,  34.7388,2,    158.7,2,   158.6,2, -999.00,9, -999.00,9, -999.00,9, -999.00,9,-999.000,9,-999.000,9,-999.000,9,  -999.0,9,  -999.0,9,-999.0000,9,-999.0000,9, -999.00,9, -999.00,9,  -999.0,9,  -999.0,-999.000,9,-999.000,-999.000,9,-999.0000,   1.8964,-999.0000,-999.000
  316N145_8,        I03,     570,          1,          3,          3,2,19950603,       0449,   -20.0005,    51.3000,       4875,  3237.4,   1.8187,  34.7349,2,  34.7361,2,    164.2,2,   163.8,2, -999.00,9, -999.00,9, -999.00,9, -999.00,9,-999.000,9,-999.000,9,-999.000,9,  -999.0,9,  -999.0,9,-999.0000,9,-999.0000,9, -999.00,9, -999.00,9,  -999.0,9,  -999.0,-999.000,9,-999.000,-999.000,9,-999.0000,   1.5712,-999.0000,-999.000
  316N145_8,        I03,     570,          1,          2,          2,2,19950603,       0449,   -20.0005,    51.3000,       4875,  3988.4,   1.3136,  34.7180,2,  34.7190,2,    188.6,2,   190.9,2, -999.00,9, -999.00,9, -999.00,9, -999.00,9,-999.000,9,-999.000,9,-999.000,9,  -999.0,9,  -999.0,9,-999.0000,9,-999.0000,9, -999.00,9, -999.00,9,  -999.0,9,  -999.0,-999.000,9,-999.000,-999.000,9,-999.0000,   1.0010,-999.0000,-999.000
  316N145_8,        I03,     570,          1,          1,          1,2,19950603,       0449,   -20.0005,    51.3000,       4875,  4977.8,   1.0116,  34.7037,2,  34.7052,2,    207.2,2,   206.7,2, -999.00,9, -999.00,9, -999.00,9, -999.00,9,-999.000,9,-999.000,9,-999.000,9,  -999.0,9,  -999.0,9,-999.0000,9,-999.0000,9, -999.00,9, -999.00,9,  -999.0,9,  -999.0,-999.000,9,-999.000,-999.000,9,-999.0000,   0.5965,-999.0000,-999.000
  316N145_8,        I03,     571,          1,         12,         12,2,19950603,       1011,   -20.0007,    51.7877,       4912,     4.8,  25.7023,  35.0433,2,  35.0407,2,    204.2,2,   205.4,2, -999.00,9, -999.00,9, -999.00,9, -999.00,9,-999.000,9,-999.000,9,-999.000,9,  -999.0,9,  -999.0,9,-999.0000,9,-999.0000,9, -999.00,9, -999.00,9,  -999.0,9,  -999.0,-999.000,9,-999.000,-999.000,9,-999.0000,  25.7013,-999.0000,-999.000
  316N145_8,        I03,     571,          1,         11,         11,2,19950603,       1011,   -20.0007,    51.7877,       4912,    54.9,  24.8735,  35.3069,2,  35.3067,2,    209.9,2,   209.1,2, -999.00,9, -999.00,9, -999.00,9, -999.00,9,-999.000,9,-999.000,9,-999.000,9,  -999.0,9,  -999.0,9,-999.0000,9,-999.0000,9, -999.00,9, -999.00,9,  -999.0,9,  -999.0,-999.000,9,-999.000,-999.000,9,-999.0000,  24.8616,-999.0000,-999.000
  316N145_8,        I03,     571,          1,         10,         10,2,19950603,       1011,   -20.0007,    51.7877,       4912,   174.9,  19.6498,  35.5017,2,  35.5052,2,    181.9,2,   178.5,2, -999.00,9, -999.00,9, -999.00,9, -999.00,9,-999.000,9,-999.000,9,-999.000,9,  -999.0,9,  -999.0,9,-999.0000,9,-999.0000,9, -999.00,9, -999.00,9,  -999.0,9,  -999.0,-999.000,9,-999.000,-999.000,9,-999.0000,  19.6178,-999.0000,-999.000
  316N145_8,        I03,     571,          1,          9,          9,2,19950603,       1011,   -20.0007,    51.7877,       4912,   456.0,  12.2468,  35.1174,2,  35.1158,2,    227.8,2,   227.3,2, -999.00,9, -999.00,9, -999.00,9, -999.00,9,-999.000,9,-999.000,9,-999.000,9,  -999.0,9,  -999.0,9,-999.0000,9,-999.0000,9, -999.00,9, -999.00,9,  -999.0,9,  -999.0,-999.000,9,-999.000,-999.000,9,-999.0000,  12.1858,-999.0000,-999.000
  316N145_8,        I03,     571,          1,          8,          8,2,19950603,       1011,   -20.0007,    51.7877,       4912,   556.1,  10.5490,  34.8680,2,  34.8650,2,    225.6,2,   227.0,2, -999.00,9, -999.00,9, -999.00,9, -999.00,9,-999.000,9,-999.000,9,-999.000,9,  -999.0,9,  -999.0,9,-999.0000,9,-999.0000,9, -999.00,9, -999.00,9,  -999.0,9,  -999.0,-999.000,9,-999.000,-999.000,9,-999.0000,  10.4812,-999.0000,-999.000
  316N145_8,        I03,     571,          1,          7,          7,2,19950603,       1011,   -20.0007,    51.7877,       4912,   958.6,   5.7383,  34.5863,2,  34.5881,2,    140.1,2,   140.5,2, -999.00,9, -999.00,9, -999.00,9, -999.00,9,-999.000,9,-999.000,9,-999.000,9,  -999.0,9,  -999.0,9,-999.0000,9,-999.0000,9, -999.00,9, -999.00,9,  -999.0,9,  -999.0,-999.000,9,-999.000,-999.000,9,-999.0000,   5.6532,-999.0000,-999.000
  316N145_8,        I03,     571,          1,          6,          6,2,19950603,       1011,   -20.0007,    51.7877,       4912,  1209.8,   4.3649,  34.6344,2,  34.6360,2,    130.6,2,   131.7,2, -999.00,9, -999.00,9, -999.00,9, -999.00,9,-999.000,9,-999.000,9,-999.000,9,  -999.0,9,  -999.0,9,-999.0000,9,-999.0000,9, -999.00,9, -999.00,9,  -999.0,9,  -999.0,-999.000,9,-999.000,-999.000,9,-999.0000,   4.2678,-999.0000,-999.000
  316N145_8,        I03,     571,          1,          5,          5,2,19950603,       1011,   -20.0007,    51.7877,       4912,  1815.0,   2.6600,  34.6951,2,  34.6960,2,    160.7,2,   161.0,2, -999.00,9, -999.00,9, -999.00,9, -999.00,9,-999.000,9,-999.000,9,-999.000,9,  -999.0,9,  -999.0,9,-999.0000,9,-999.0000,9, -999.00,9, -999.00,9,  -999.0,9,  -999.0,-999.000,9,-999.000,-999.000,9,-999.0000,   2.5295,-999.0000,-999.000
  316N145_8,        I03,     571,          1,          4,          4,2,19950603,       1011,   -20.0007,    51.7877,       4912,  2523.4,   2.0774,  34.7360,2,  34.7372,2,    160.5,2,   159.8,2, -999.00,9, -999.00,9, -999.00,9, -999.00,9,-999.000,9,-999.000,9,-999.000,9,  -999.0,9,  -999.0,9,-999.0000,9,-999.0000,9, -999.00,9, -999.00,9,  -999.0,9,  -999.0,-999.000,9,-999.000,-999.000,9,-999.0000,   1.8932,-999.0000,-999.000
  316N145_8,        I03,     571,          1,          3,          3,2,19950603,       1011,   -20.0007,    51.7877,       4912,  3337.6,   1.7531,  34.7334,2,  34.7337,2,    165.9,2,   166.2,2, -999.00,9, -999.00,9, -999.00,9, -999.00,9,-999.000,9,-999.000,9,-999.000,9,  -999.0,9,  -999.0,9,-999.0000,9,-999.0000,9, -999.00,9, -999.00,9,  -999.0,9,  -999.0,-999.000,9,-999.000,-999.000,9,-999.0000,   1.4969,-999.0000,-999.000
  316N145_8,        I03,     571,          1,          2,          2,2,19950603,       1011,   -20.0007,    51.7877,       4912,  3996.5,   1.3667,  34.7198,2,  34.7200,2,    184.9,2,   187.8,2, -999.00,9, -999.00,9, -999.00,9, -999.00,9,-999.000,9,-999.000,9,-999.000,9,  -999.0,9,  -999.0,9,-999.0000,9,-999.0000,9, -999.00,9, -999.00,9,  -999.0,9,  -999.0,-999.000,9,-999.000,-999.000,9,-999.0000,   1.0517,-999.0000,-999.000
  316N145_8,        I03,     571,          1,          1,          1,2,19950603,       1011,   -20.0007,    51.7877,       4912,  5010.1,   1.0173,  34.7043,2,  34.7056,2,    207.1,2,   207.0,2, -999.00,9, -999.00,9, -999.00,9, -999.00,9,-999.000,9,-999.000,9,-999.000,9,  -999.0,9,  -999.0,9,-999.0000,9,-999.0000,9, -999.00,9, -999.00,9,  -999.0,9,  -999.0,-999.000,9,-999.000,-999.000,9,-999.0000,   0.5982,-999.0000,-999.000