BOTTLE,20140514CCHSIOSE
EXPOCODE,SECT_ID,STNNBR,CASTNO,SAMPNO,BTLNBR,BTLNBR_FLAG_W,DATE,TIME,LATITUDE,LONGITUDE,DEPTH,CTDPRS,CTDTMP,CTDSAL,CTDSAL_FLAG_W,SALNTY,SALNTY_FLAG_W,CTDOXY,CTDOXY_FLAG_W,OXYGEN,OXYGEN_FLAG_W,SILCAT,SILCAT_FLAG_W,NITRAT,NITRAT_FLAG_W,NITRIT,NITRIT_FLAG_W,PHSPHT,PHSPHT_FLAG_W,CFC-11,CFC-11_FLAG_W,CFC-12,CFC-12_FLAG_W,CFC113,CFC113_FLAG_W,TCARBN,TCARBN_FLAG_W,ALKALI,ALKALI_FLAG_W,TRITUM,TRITUM_FLAG_W,HELIUM,HELIUM_FLAG_W,DELHE3,DELHE3_FLAG_W,DELC13,DELC13_FLAG_W,DELC14,DELC14_FLAG_W,C14ERR,NEON,NEON_FLAG_W,NEONER,CCL4,CCL4_FLAG_W,HELIER,THETA,TRITER,DELHER
,,,,,,,,,,,METERS,DBAR,ITS-90,PSS-78,,PSS-78,,UMOL/KG,,UMOL/KG,,UMOL/KG,,UMOL/KG,,UMOL/KG,,UMOL/KG,,PMOL/KG,,PMOL/KG,,PMOL/KG,,UMOL/KG,,UMOL/KG,,TU,,NMOL/KG,,PERCNT,,/MILLE,,/MILLE,,/MILLE,NMOL/KG,,NMOL/KG,PMOL/KG,,NMOL/KG,DEG C,TU,PERCNT
  316N145_8,        I03,     546,          1,         35,         35,2,19950528,       1632,   -19.9998,    55.5328,       4377,     5.8,  25.0364,  35.2105,2,  35.2111,2,    208.7,2,   208.1,2,    2.69,2,    0.14,2,    0.00,2,    0.11,2,   1.895,2,   1.077,2,-999.000,9,  -999.0,5,  2303.4,6,-999.0000,9,-999.0000,9, -999.00,9, -999.00,9,  -999.0,9,  -999.0,-999.000,9,-999.000,-999.000,9,-999.0000,  25.0352,-999.0000,-999.000
  316N145_8,        I03,     546,          1,         34,         34,2,19950528,       1632,   -19.9998,    55.5328,       4377,    56.1,  24.6652,  35.2353,2,  35.2349,2,    203.7,2,   208.8,2,    2.68,2,    0.14,2,    0.00,2,    0.11,2,   1.912,2,   1.093,2,-999.000,9,  -999.0,9,  -999.0,9,-999.0000,9,-999.0000,9, -999.00,9, -999.00,9,  -999.0,9,  -999.0,-999.000,9,-999.000,-999.000,9,-999.0000,  24.6531,-999.0000,-999.000
  316N145_8,        I03,     546,          1,         33,         33,2,19950528,       1632,   -19.9998,    55.5328,       4377,   106.3,  22.0611,  35.3521,2,  35.3534,2,    184.6,2,   190.7,2,    3.59,2,    1.49,2,    0.05,2,    0.27,2,-999.000,9,-999.000,9,-999.000,9,  -999.0,9,  -999.0,9,-999.0000,9,-999.0000,9, -999.00,9, -999.00,9,  -999.0,9,  -999.0,-999.000,9,-999.000,-999.000,9,-999.0000,  22.0401,-999.0000,-999.000
  316N145_8,        I03,     546,          1,         32,         32,2,19950528,       1632,   -19.9998,    55.5328,       4377,   156.0,  20.1102,  35.5129,2,  35.5120,2,    187.2,2,   180.2,2,    4.96,2,    3.98,2,    0.01,2,    0.40,2,   2.134,2,   1.165,2,-999.000,9,  -999.0,9,  -999.0,9,-999.0000,9,-999.0000,9, -999.00,9, -999.00,9,  -999.0,9,  -999.0,-999.000,9,-999.000,-999.000,9,-999.0000,  20.0812,-999.0000,-999.000
  316N145_8,        I03,     546,          1,         31,         31,2,19950528,       1632,   -19.9998,    55.5328,       4377,   205.3,  18.5334,  35.6106,2,  35.6109,2,    185.3,2,   182.7,2,    5.18,2,    4.61,2,    0.01,2,    0.45,2,-999.000,9,-999.000,9,-999.000,9,  -999.0,9,  -999.0,9,-999.0000,9,-999.0000,9, -999.00,9, -999.00,9,  -999.0,9,  -999.0,-999.000,9,-999.000,-999.000,9,-999.0000,  18.4973,-999.0000,-999.000
  316N145_8,        I03,     546,          1,         30,         30,2,19950528,       1632,   -19.9998,    55.5328,       4377,   255.6,  17.0926,  35.6059,2,  35.6042,2,    193.6,2,   190.1,2,    5.17,2,    5.10,2,    0.00,2,    0.49,2,   2.347,2,   1.242,2,-999.000,9,  -999.0,9,  -999.0,9,-999.0000,9,-999.0000,9, -999.00,9, -999.00,9,  -999.0,9,  -999.0,-999.000,9,-999.000,-999.000,9,-999.0000,  17.0500,-999.0000,-999.000
  316N145_8,        I03,     546,          1,         29,         29,2,19950528,       1632,   -19.9998,    55.5328,       4377,   306.3,  15.0814,  35.4789,2,  35.4760,2,    206.5,2,   207.8,2,    4.24,2,    5.91,2,    0.00,2,    0.55,2,-999.000,9,-999.000,9,-999.000,9,  -999.0,9,  -999.0,9,-999.0000,9,-999.0000,9, -999.00,9, -999.00,9,  -999.0,9,  -999.0,-999.000,9,-999.000,-999.000,9,-999.0000,  15.0345,-999.0000,-999.000
  316N145_8,        I03,     546,          1,         28,         28,2,19950528,       1632,   -19.9998,    55.5328,       4377,   356.9,  13.9497,  35.3494,2,  35.3500,2,    215.5,2,   216.1,2,    3.99,2,    7.26,2,    0.00,2,    0.63,2,-999.000,9,-999.000,9,-999.000,9,  -999.0,9,  -999.0,9,-999.0000,9,-999.0000,9, -999.00,9, -999.00,9,  -999.0,9,  -999.0,-999.000,9,-999.000,-999.000,9,-999.0000,  13.8978,-999.0000,-999.000
  316N145_8,        I03,     546,          1,         27,         27,2,19950528,       1632,   -19.9998,    55.5328,       4377,   407.4,  12.9494,  35.2174,2,  35.2207,2,    218.9,2,   221.8,2,    4.21,2,    8.80,2,    0.00,2,    0.72,2,   2.735,2,   1.398,2,-999.000,9,  -999.0,9,  -999.0,9,-999.0000,9,-999.0000,9, -999.00,9, -999.00,9,  -999.0,9,  -999.0,-999.000,9,-999.000,-999.000,9,-999.0000,  12.8929,-999.0000,-999.000
  316N145_8,        I03,     546,          1,         26,         26,2,19950528,       1632,   -19.9998,    55.5328,       4377,   457.0,  12.1788,  35.1101,2,  35.1014,2,    222.6,2,   224.7,2,    4.43,2,   10.40,2,    0.00,2,    0.81,2,   2.686,2,   1.350,2,-999.000,9,  -999.0,9,  -999.0,9,-999.0000,9,-999.0000,9, -999.00,9, -999.00,9,  -999.0,9,  -999.0,-999.000,9,-999.000,-999.000,9,-999.0000,  12.1179,-999.0000,-999.000
  316N145_8,        I03,     546,          1,         25,         25,2,19950528,       1632,   -19.9998,    55.5328,       4377,   507.7,  11.4109,  34.9946,2,  34.9966,2,    226.0,2,   226.5,2,    4.65,2,   11.79,2,    0.00,2,    0.90,2,-999.000,9,-999.000,9,-999.000,9,  -999.0,9,  -999.0,9,-999.0000,9,-999.0000,9, -999.00,9, -999.00,9,  -999.0,9,  -999.0,-999.000,9,-999.000,-999.000,9,-999.0000,  11.3459,-999.0000,-999.000
  316N145_8,        I03,     546,          1,         24,         24,2,19950528,       1632,   -19.9998,    55.5328,       4377,   607.4,  10.1333,  34.8122,2,  34.8122,2,    225.9,2,   225.3,2,    6.01,2,   14.97,2,    0.00,2,    1.09,2,-999.000,9,-999.000,9,-999.000,9,  -999.0,9,  -999.0,9,-999.0000,9,-999.0000,9, -999.00,9, -999.00,9,  -999.0,9,  -999.0,-999.000,9,-999.000,-999.000,9,-999.0000,  10.0609,-999.0000,-999.000
  316N145_8,        I03,     546,          1,         23,         23,2,19950528,       1632,   -19.9998,    55.5328,       4377,   708.3,   8.6463,  34.6403,2,  34.6418,2,    216.8,2,   212.0,2,   10.58,2,   19.89,2,    0.00,2,    1.40,2,   1.476,2,   0.741,2,-999.000,9,  -999.0,9,  -999.0,9,-999.0000,9,-999.0000,9, -999.00,9, -999.00,9,  -999.0,9,  -999.0,-999.000,9,-999.000,-999.000,9,-999.0000,   8.5693,-999.0000,-999.000
  316N145_8,        I03,     546,          1,         22,         22,2,19950528,       1632,   -19.9998,    55.5328,       4377,   808.8,   6.9285,  34.5266,2,  34.5292,2,    194.9,2,   190.3,2,   23.16,2,   25.70,2,    0.00,2,    1.78,2,   0.651,2,   0.333,2,-999.000,9,  -999.0,9,  -999.0,9,-999.0000,9,-999.0000,9, -999.00,9, -999.00,9,  -999.0,9,  -999.0,-999.000,9,-999.000,-999.000,9,-999.0000,   6.8504,-999.0000,-999.000
  316N145_8,        I03,     546,          1,         21,         21,2,19950528,       1632,   -19.9998,    55.5328,       4377,   909.6,   5.8704,  34.5177,2,  34.5188,2,    169.9,2,   171.1,2,   40.31,2,   29.40,2,    0.00,2,    2.06,2,   0.363,2,   0.188,2,-999.000,9,  -999.0,9,  -999.0,9,-999.0000,9,-999.0000,9, -999.00,9, -999.00,9,  -999.0,9,  -999.0,-999.000,9,-999.000,-999.000,9,-999.0000,   5.7892,-999.0000,-999.000
  316N145_8,        I03,     546,          1,         20,         20,2,19950528,       1632,   -19.9998,    55.5328,       4377,  1009.1,   5.3493,  34.5977,2,  34.6024,2,    135.0,2,   133.6,2,   61.57,2,   32.97,2,    0.00,2,    2.34,2,-999.000,9,-999.000,9,-999.000,9,  -999.0,9,  -999.0,9,-999.0000,9,-999.0000,9, -999.00,9, -999.00,9,  -999.0,9,  -999.0,-999.000,9,-999.000,-999.000,9,-999.0000,   5.2624,-999.0000,-999.000
  316N145_8,        I03,     546,          1,         19,         19,2,19950528,       1632,   -19.9998,    55.5328,       4377,  1110.0,   4.6660,  34.6081,2,  34.6075,2,    129.6,2,   130.5,2,   72.75,2,   34.20,2,    0.00,2,    2.44,2,   0.038,2,   0.019,2,-999.000,9,  -999.0,9,  -999.0,9,-999.0000,9,-999.0000,9, -999.00,9, -999.00,9,  -999.0,9,  -999.0,-999.000,9,-999.000,-999.000,9,-999.0000,   4.5753,-999.0000,-999.000
  316N145_8,        I03,     546,          1,         18,         18,2,19950528,       1632,   -19.9998,    55.5328,       4377,  1209.6,   4.2313,  34.6283,2,  34.6259,2,    131.8,2,   132.2,2,   78.66,2,   34.50,2,    0.00,2,    2.46,2,-999.000,9,-999.000,9,-999.000,9,  -999.0,9,  -999.0,9,-999.0000,9,-999.0000,9, -999.00,9, -999.00,9,  -999.0,9,  -999.0,-999.000,9,-999.000,-999.000,9,-999.0000,   4.1355,-999.0000,-999.000
  316N145_8,        I03,     546,          1,         17,         17,2,19950528,       1632,   -19.9998,    55.5328,       4377,  1310.6,   3.9356,  34.6471,2,  34.6479,2,    133.3,2,   133.6,2,   83.43,2,   34.54,2,    0.00,2,    2.46,2,-999.000,9,-999.000,9,-999.000,9,  -999.0,9,  -999.0,9,-999.0000,9,-999.0000,9, -999.00,9, -999.00,9,  -999.0,9,  -999.0,-999.000,9,-999.000,-999.000,9,-999.0000,   3.8337,-999.0000,-999.000
  316N145_8,        I03,     546,          1,         16,         16,2,19950528,       1632,   -19.9998,    55.5328,       4377,  1513.0,   3.2676,  34.6724,2,  34.6724,2,    143.0,2,   144.8,2,   90.72,2,   34.15,2,    0.00,2,    2.41,2,   0.002,2,   0.001,2,-999.000,9,  -999.0,9,  -999.0,9,-999.0000,9,-999.0000,9, -999.00,9, -999.00,9,  -999.0,9,  -999.0,-999.000,9,-999.000,-999.000,9,-999.0000,   3.1553,-999.0000,-999.000
  316N145_8,        I03,     546,          1,         15,         15,2,19950528,       1632,   -19.9998,    55.5328,       4377,  1714.4,   2.7563,  34.6873,2,  34.6871,2,    154.2,2,   157.2,2,   94.80,2,   33.46,2,    0.00,2,    2.35,2,-999.000,9,-999.000,9,-999.000,9,  -999.0,9,  -999.0,9,-999.0000,9,-999.0000,9, -999.00,9, -999.00,9,  -999.0,9,  -999.0,-999.000,9,-999.000,-999.000,9,-999.0000,   2.6331,-999.0000,-999.000
  316N145_8,        I03,     546,          1,         14,         14,2,19950528,       1632,   -19.9998,    55.5328,       4377,  1916.7,   2.4859,  34.7086,2,  34.7089,2,    159.2,2,   159.6,2,  103.05,2,   33.51,2,    0.00,2,    2.35,2,-999.000,9,-999.000,9,-999.000,9,  -999.0,9,  -999.0,9,-999.0000,9,-999.0000,9, -999.00,9, -999.00,9,  -999.0,9,  -999.0,-999.000,9,-999.000,-999.000,9,-999.0000,   2.3491,-999.0000,-999.000
  316N145_8,        I03,     546,          1,         13,         13,2,19950528,       1632,   -19.9998,    55.5328,       4377,  2120.6,   2.2694,  34.7195,2,  34.7193,2,    162.2,2,   162.3,2,  108.30,2,   33.51,2,    0.00,2,    2.35,2,   0.002,2,   0.001,2,-999.000,9,  -999.0,9,  -999.0,9,-999.0000,9,-999.0000,9, -999.00,9, -999.00,9,  -999.0,9,  -999.0,-999.000,9,-999.000,-999.000,9,-999.0000,   2.1181,-999.0000,-999.000
  316N145_8,        I03,     546,          1,         12,         12,2,19950528,       1632,   -19.9998,    55.5328,       4377,  2324.3,   2.1061,  34.7300,2,  34.7297,2,    162.9,2,   162.6,2,  114.73,2,   33.65,2,    0.01,2,    2.36,2,-999.000,9,-999.000,9,-999.000,9,  -999.0,9,  -999.0,9,-999.0000,9,-999.0000,9, -999.00,9, -999.00,9,  -999.0,9,  -999.0,-999.000,9,-999.000,-999.000,9,-999.0000,   1.9395,-999.0000,-999.000
  316N145_8,        I03,     546,          1,         11,         11,2,19950528,       1632,   -19.9998,    55.5328,       4377,  2526.3,   2.0057,  34.7332,2,  34.7338,2,    162.4,2,   162.1,2,  119.08,2,   33.80,2,    0.01,2,    2.38,2,-999.000,9,-999.000,9,-999.000,9,  -999.0,9,  -999.0,9,-999.0000,9,-999.0000,9, -999.00,9, -999.00,9,  -999.0,9,  -999.0,-999.000,9,-999.000,-999.000,9,-999.0000,   1.8226,-999.0000,-999.000
  316N145_8,        I03,     546,          1,         10,         10,2,19950528,       1632,   -19.9998,    55.5328,       4377,  2729.5,   1.9172,  34.7342,2,  34.7351,2,    162.7,2,   162.4,2,  122.28,2,   33.95,2,    0.01,2,    2.38,2,   0.001,2,   0.000,2,-999.000,9,  -999.0,9,  -999.0,9,-999.0000,9,-999.0000,9, -999.00,9, -999.00,9,  -999.0,9,  -999.0,-999.000,9,-999.000,-999.000,9,-999.0000,   1.7169,-999.0000,-999.000
  316N145_8,        I03,     546,          1,          9,          9,2,19950528,       1632,   -19.9998,    55.5328,       4377,  2932.9,   1.8292,  34.7338,2,  34.7336,2,    165.2,2,   164.2,2,  124.77,2,   34.00,2,    0.01,2,    2.38,2,-999.000,9,-999.000,9,-999.000,9,  -999.0,9,  -999.0,9,-999.0000,9,-999.0000,9, -999.00,9, -999.00,9,  -999.0,9,  -999.0,-999.000,9,-999.000,-999.000,9,-999.0000,   1.6114,-999.0000,-999.000
  316N145_8,        I03,     546,          1,          8,          8,2,19950528,       1632,   -19.9998,    55.5328,       4377,  3136.6,   1.7559,  34.7314,2,  34.7322,2,    166.5,2,   167.0,2,  125.62,2,   33.95,2,    0.01,2,    2.37,2,-999.000,9,-999.000,9,-999.000,9,  -999.0,9,  -999.0,9,-999.0000,9,-999.0000,9, -999.00,9, -999.00,9,  -999.0,9,  -999.0,-999.000,9,-999.000,-999.000,9,-999.0000,   1.5198,-999.0000,-999.000
  316N145_8,        I03,     546,          1,          7,          7,2,19950528,       1632,   -19.9998,    55.5328,       4377,  3340.8,   1.6798,  34.7303,2,  34.7306,2,    169.0,2,   168.9,2,  127.18,2,   33.90,2,    0.01,2,    2.37,2,   0.001,2,  -0.002,2,-999.000,9,  -999.0,9,  -999.0,9,-999.0000,9,-999.0000,9, -999.00,9, -999.00,9,  -999.0,9,  -999.0,-999.000,9,-999.000,-999.000,9,-999.0000,   1.4251,-999.0000,-999.000
  316N145_8,        I03,     546,          1,          6,          6,2,19950528,       1632,   -19.9998,    55.5328,       4377,  3543.9,   1.5962,  34.7281,2,  34.7282,2,    173.3,2,   172.4,2,  127.80,2,   33.80,2,    0.01,2,    2.36,2,-999.000,9,-999.000,9,-999.000,9,  -999.0,9,  -999.0,9,-999.0000,9,-999.0000,9, -999.00,9, -999.00,9,  -999.0,9,  -999.0,-999.000,9,-999.000,-999.000,9,-999.0000,   1.3229,-999.0000,-999.000
  316N145_8,        I03,     546,          1,          5,          5,2,19950528,       1632,   -19.9998,    55.5328,       4377,  3747.0,   1.5294,  34.7252,2,  34.7255,2,    177.0,2,   176.5,2,  127.48,2,   33.65,2,    0.01,2,    2.34,2,-999.000,9,-999.000,9,-999.000,9,  -999.0,9,  -999.0,9,-999.0000,9,-999.0000,9, -999.00,9, -999.00,9,  -999.0,9,  -999.0,-999.000,9,-999.000,-999.000,9,-999.0000,   1.2366,-999.0000,-999.000
  316N145_8,        I03,     546,          1,          4,          4,2,19950528,       1632,   -19.9998,    55.5328,       4377,  3950.9,   1.4474,  34.7224,2,  34.7222,2,    182.0,2,   181.0,2,  127.39,2,   33.41,2,    0.01,2,    2.32,2,   0.002,2,   0.002,2,-999.000,9,  -999.0,9,  -999.0,9,-999.0000,9,-999.0000,9, -999.00,9, -999.00,9,  -999.0,9,  -999.0,-999.000,9,-999.000,-999.000,9,-999.0000,   1.1351,-999.0000,-999.000
  316N145_8,        I03,     546,          1,          3,          3,2,19950528,       1632,   -19.9998,    55.5328,       4377,  4104.4,   1.3921,  34.7204,2,  34.7198,2,    183.3,2,   184.4,2,  126.84,2,   33.26,2,    0.01,2,    2.31,2,-999.000,9,-999.000,9,-999.000,9,  -999.0,9,  -999.0,9,-999.0000,9,-999.0000,9, -999.00,9, -999.00,9,  -999.0,9,  -999.0,-999.000,9,-999.000,-999.000,9,-999.0000,   1.0647,-999.0000,-999.000
  316N145_8,        I03,     546,          1,          2,          2,2,19950528,       1632,   -19.9998,    55.5328,       4377,  4257.9,   1.3572,  34.7190,2,  34.7184,2,    186.5,2,   186.9,2,  126.52,2,   33.16,2,    0.01,2,    2.30,2,-999.000,9,-999.000,9,-999.000,9,  -999.0,9,  -999.0,9,-999.0000,9,-999.0000,9, -999.00,9, -999.00,9,  -999.0,9,  -999.0,-999.000,9,-999.000,-999.000,9,-999.0000,   1.0138,-999.0000,-999.000
  316N145_8,        I03,     546,          1,          1,          1,2,19950528,       1632,   -19.9998,    55.5328,       4377,  4451.9,   1.2257,  34.7144,2,  34.7139,2,    193.5,2,   193.8,2,  125.50,2,   32.82,2,    0.01,2,    2.27,2,   0.003,2,   0.002,2,-999.000,9,  -999.0,9,  -999.0,9,-999.0000,9,-999.0000,9, -999.00,9, -999.00,9,  -999.0,9,  -999.0,-999.000,9,-999.000,-999.000,9,-999.0000,   0.8646,-999.0000,-999.000