BOTTLE,20140514CCHSIOSE
EXPOCODE,SECT_ID,STNNBR,CASTNO,SAMPNO,BTLNBR,BTLNBR_FLAG_W,DATE,TIME,LATITUDE,LONGITUDE,DEPTH,CTDPRS,CTDTMP,CTDSAL,CTDSAL_FLAG_W,SALNTY,SALNTY_FLAG_W,CTDOXY,CTDOXY_FLAG_W,OXYGEN,OXYGEN_FLAG_W,SILCAT,SILCAT_FLAG_W,NITRAT,NITRAT_FLAG_W,NITRIT,NITRIT_FLAG_W,PHSPHT,PHSPHT_FLAG_W,CFC-11,CFC-11_FLAG_W,CFC-12,CFC-12_FLAG_W,CFC113,CFC113_FLAG_W,TCARBN,TCARBN_FLAG_W,ALKALI,ALKALI_FLAG_W,TRITUM,TRITUM_FLAG_W,HELIUM,HELIUM_FLAG_W,DELHE3,DELHE3_FLAG_W,DELC13,DELC13_FLAG_W,DELC14,DELC14_FLAG_W,C14ERR,NEON,NEON_FLAG_W,NEONER,CCL4,CCL4_FLAG_W,HELIER,THETA,TRITER,DELHER
,,,,,,,,,,,METERS,DBAR,ITS-90,PSS-78,,PSS-78,,UMOL/KG,,UMOL/KG,,UMOL/KG,,UMOL/KG,,UMOL/KG,,UMOL/KG,,PMOL/KG,,PMOL/KG,,PMOL/KG,,UMOL/KG,,UMOL/KG,,TU,,NMOL/KG,,PERCNT,,/MILLE,,/MILLE,,/MILLE,NMOL/KG,,NMOL/KG,PMOL/KG,,NMOL/KG,DEG C,TU,PERCNT
  316N145_8,        I03,     511,          1,         34,         34,2,19950518,       0439,   -20.0015,    72.2015,       3905,     7.4,  25.3587,  34.6830,2,  34.6839,2,    207.2,2,   206.5,2,    3.09,2,    0.00,2,    0.00,2,    0.12,2,-999.000,9,-999.000,9,   0.075,3,  1929.4,6,  2269.9,6,-999.0000,9,-999.0000,9, -999.00,9, -999.00,9,  -999.0,9,  -999.0,-999.000,9,-999.000,   2.036,2,-999.0000,  25.3571,-999.0000,-999.000
  316N145_8,        I03,     511,          1,         33,         33,2,19950518,       0439,   -20.0015,    72.2015,       3905,    55.1,  25.3254,  34.6935,2,  34.6966,2,    204.1,2,   206.6,2,    3.08,2,    0.00,2,    0.00,2,    0.12,2,-999.000,9,-999.000,9,-999.000,9,  -999.0,9,  -999.0,9,-999.0000,9,-999.0000,9, -999.00,9, -999.00,9,  -999.0,9,  -999.0,-999.000,9,-999.000,-999.000,9,-999.0000,  25.3133,-999.0000,-999.000
  316N145_8,        I03,     511,          1,         32,         32,2,19950518,       0439,   -20.0015,    72.2015,       3905,   105.4,  21.0777,  35.3589,2,  35.4140,2,    169.9,2,   187.1,2,    5.40,2,    2.91,2,    0.12,2,    0.34,2,-999.000,9,-999.000,9,   0.140,3,  -999.0,9,  -999.0,9,-999.0000,9,-999.0000,9, -999.00,9, -999.00,9,  -999.0,9,  -999.0,-999.000,9,-999.000,   1.119,2,-999.0000,  21.0574,-999.0000,-999.000
  316N145_8,        I03,     511,          1,         31,         31,2,19950518,       0439,   -20.0015,    72.2015,       3905,   154.7,  20.1279,  35.6901,2,  35.7014,2,    196.1,2,   200.3,2,    3.47,2,    1.42,2,    0.04,2,    0.25,2,-999.000,9,-999.000,9,-999.000,9,  -999.0,9,  -999.0,9,-999.0000,9,-999.0000,9, -999.00,9, -999.00,9,  -999.0,9,  -999.0,-999.000,9,-999.000,-999.000,9,-999.0000,  20.0991,-999.0000,-999.000
  316N145_8,        I03,     511,          1,         30,         30,2,19950518,       0439,   -20.0015,    72.2015,       3905,   204.9,  18.3602,  35.8013,2,  35.7832,2,    200.8,2,   201.4,2,    3.67,2,    2.07,2,    0.01,2,    0.30,2,-999.000,9,-999.000,9,   0.067,3,  -999.0,9,  -999.0,9,-999.0000,9,-999.0000,9, -999.00,9, -999.00,9,  -999.0,9,  -999.0,-999.000,9,-999.000,   0.904,2,-999.0000,  18.3243,-999.0000,-999.000
  316N145_8,        I03,     511,          1,         29,         29,2,19950518,       0439,   -20.0015,    72.2015,       3905,   255.2,  16.8713,  35.7105,2,  35.7095,2,    209.8,2,   209.7,2,    3.23,2,    2.45,2,    0.00,2,    0.35,2,-999.000,9,-999.000,9,-999.000,9,  -999.0,9,  -999.0,9,-999.0000,9,-999.0000,9, -999.00,9, -999.00,9,  -999.0,9,  -999.0,-999.000,9,-999.000,-999.000,9,-999.0000,  16.8291,-999.0000,-999.000
  316N145_8,        I03,     511,          1,         28,         28,2,19950518,       0439,   -20.0015,    72.2015,       3905,   305.1,  14.5990,  35.4685,2,  35.4691,2,    213.7,2,   216.3,2,    3.22,2,    5.10,2,    0.00,2,    0.50,2,-999.000,9,-999.000,9,   0.062,3,  -999.0,9,  -999.0,9,-999.0000,9,-999.0000,9, -999.00,9, -999.00,9,  -999.0,9,  -999.0,-999.000,9,-999.000,   0.794,2,-999.0000,  14.5533,-999.0000,-999.000
  316N145_8,        I03,     511,          1,         27,         27,2,19950518,       0439,   -20.0015,    72.2015,       3905,   355.3,  13.1687,  35.2748,2,  35.2656,2,    224.6,2,   224.7,2,    3.41,2,    7.50,2,    0.00,2,    0.64,2,-999.000,9,-999.000,9,-999.000,9,  -999.0,9,  -999.0,9,-999.0000,9,-999.0000,9, -999.00,9, -999.00,9,  -999.0,9,  -999.0,-999.000,9,-999.000,-999.000,9,-999.0000,  13.1190,-999.0000,-999.000
  316N145_8,        I03,     511,          1,         26,         26,2,19950518,       0439,   -20.0015,    72.2015,       3905,   406.4,  12.1750,  35.1207,2,  35.0230,3,    229.3,2,   232.3,2,    3.83,2,    9.30,2,    0.00,2,    0.74,2,-999.000,9,-999.000,9,   0.066,3,  -999.0,9,  -999.0,9,-999.0000,9,-999.0000,9, -999.00,9, -999.00,9,  -999.0,9,  -999.0,-999.000,9,-999.000,   1.137,2,-999.0000,  12.1210,-999.0000,-999.000
  316N145_8,        I03,     511,          1,         25,         25,2,19950518,       0439,   -20.0015,    72.2015,       3905,   453.1,  11.5176,  35.0200,2,  35.0224,2,    232.4,2,   234.1,2,    4.02,2,   10.67,2,    0.01,2,    0.82,2,-999.000,9,-999.000,9,   0.073,3,  -999.0,9,  -999.0,9,-999.0000,9,-999.0000,9, -999.00,9, -999.00,9,  -999.0,9,  -999.0,-999.000,9,-999.000,   1.261,2,-999.0000,  11.4594,-999.0000,-999.000
  316N145_8,        I03,     511,          1,         24,         24,2,19950518,       0439,   -20.0015,    72.2015,       3905,   501.4,  10.8619,  34.9213,2,  34.9228,2,    237.5,2,   236.5,2,    4.22,2,   11.94,2,    0.01,2,    0.90,2,-999.000,9,-999.000,9,   0.026,3,  -999.0,9,  -999.0,9,-999.0000,9,-999.0000,9, -999.00,9, -999.00,9,  -999.0,9,  -999.0,-999.000,9,-999.000,   1.370,2,-999.0000,  10.7997,-999.0000,-999.000
  316N145_8,        I03,     511,          1,         23,         23,2,19950518,       0439,   -20.0015,    72.2015,       3905,   606.2,   9.5654,  34.7337,2,  34.7351,2,    232.9,2,   227.9,2,    6.12,2,   15.96,2,    0.00,2,    1.14,2,-999.000,9,-999.000,9,-999.000,9,  -999.0,9,  -999.0,9,-999.0000,9,-999.0000,9, -999.00,9, -999.00,9,  -999.0,9,  -999.0,-999.000,9,-999.000,-999.000,9,-999.0000,   9.4957,-999.0000,-999.000
  316N145_8,        I03,     511,          1,         22,         22,2,19950518,       0439,   -20.0015,    72.2015,       3905,   707.0,   8.0262,  34.5750,2,  34.5795,2,    209.4,2,   204.9,2,   13.53,2,   22.01,2,    0.00,2,    1.53,2,-999.000,9,-999.000,9,   0.015,3,  -999.0,9,  -999.0,9,-999.0000,9,-999.0000,9, -999.00,9, -999.00,9,  -999.0,9,  -999.0,-999.000,9,-999.000,   1.152,2,-999.0000,   7.9526,-999.0000,-999.000
  316N145_8,        I03,     511,          1,         21,         21,2,19950518,       0439,   -20.0015,    72.2015,       3905,   807.3,   6.0528,  34.4898,2,  34.4897,2,    173.0,2,   169.0,2,   36.87,2,   29.44,2,    0.00,2,    2.06,2,-999.000,9,-999.000,9,-999.000,9,  -999.0,9,  -999.0,9,-999.0000,9,-999.0000,9, -999.00,9, -999.00,9,  -999.0,9,  -999.0,-999.000,9,-999.000,-999.000,9,-999.0000,   5.9802,-999.0000,-999.000
  316N145_8,        I03,     511,          1,         20,         20,2,19950518,       0439,   -20.0015,    72.2015,       3905,   907.4,   5.0183,  34.5014,2,  34.5022,2,    150.5,2,   148.5,2,   56.60,2,   32.94,2,    0.00,2,    2.34,2,-999.000,9,-999.000,9,  -0.008,3,  -999.0,9,  -999.0,9,-999.0000,9,-999.0000,9, -999.00,9, -999.00,9,  -999.0,9,  -999.0,-999.000,9,-999.000,   0.433,2,-999.0000,   4.9432,-999.0000,-999.000
  316N145_8,        I03,     511,          1,         19,         19,2,19950518,       0439,   -20.0015,    72.2015,       3905,  1008.7,   4.4679,  34.5577,2,  34.5589,2,    132.9,2,   132.3,2,   73.17,2,   34.53,2,    0.01,2,    2.48,2,-999.000,9,-999.000,9,-999.000,9,  -999.0,9,  -999.0,9,-999.0000,9,   1.8730,2,    9.31,2, -999.00,9,  -999.0,9,  -999.0,   8.014,2,   0.024,-999.000,9,   0.0040,   4.3878,-999.0000,    0.10
  316N145_8,        I03,     511,          1,         18,         18,2,19950518,       0439,   -20.0015,    72.2015,       3905,  1109.6,   4.2394,  34.6121,2,  34.6136,2,    125.6,2,   123.5,2,   83.60,2,   35.20,2,    0.01,2,    2.53,2,-999.000,9,-999.000,9,  -0.016,3,  -999.0,9,  -999.0,9,-999.0000,9,-999.0000,9, -999.00,9, -999.00,9,  -999.0,9,  -999.0,-999.000,9,-999.000,   0.108,2,-999.0000,   4.1524,-999.0000,-999.000
  316N145_8,        I03,     511,          1,         17,         17,2,19950518,       0439,   -20.0015,    72.2015,       3905,  1209.3,   4.1691,  34.6664,2,  34.6670,2,    117.1,2,   116.8,2,   91.49,2,   35.43,2,    0.01,2,    2.57,2,-999.000,9,-999.000,9,-999.000,9,  -999.0,9,  -999.0,9,-999.0000,9,   1.8970,2,   11.50,2, -999.00,9,  -999.0,9,  -999.0,   8.063,2,   0.024,-999.000,9,   0.0030,   4.0738,-999.0000,    0.10
  316N145_8,        I03,     511,          1,         16,         16,2,19950518,       0439,   -20.0015,    72.2015,       3905,  1312.4,   3.8878,  34.6726,2,  34.6725,2,    120.7,2,   122.5,2,   93.17,2,   35.33,2,    0.01,2,    2.55,2,-999.000,9,-999.000,9,   0.003,3,  -999.0,9,  -999.0,9,-999.0000,9,   1.8850,2,   12.09,2, -999.00,9,  -999.0,9,  -999.0,   8.019,2,   0.043,   0.033,2,   0.0030,   3.7862,-999.0000,    0.12
  316N145_8,        I03,     511,          1,         15,         15,2,19950518,       0439,   -20.0015,    72.2015,       3905,  1412.3,   3.7701,  34.6981,2,  34.6980,2,    122.4,2,   122.6,2,   97.86,2,   35.18,2,    0.01,2,    2.55,2,-999.000,9,-999.000,9,-999.000,9,  -999.0,9,  -999.0,9,-999.0000,9,   1.8920,2,   12.21,2, -999.00,9,  -999.0,9,  -999.0,   8.083,2,   0.024,-999.000,9,   0.0040,   3.6610,-999.0000,    0.10
  316N145_8,        I03,     511,          1,         14,         14,2,19950518,       0439,   -20.0015,    72.2015,       3905,  1514.2,   3.4716,  34.7076,2,  34.7054,2,    127.3,2,   129.8,2,  100.19,2,   34.84,2,    0.01,2,    2.51,2,-999.000,9,-999.000,9,  -0.008,3,  -999.0,9,  -999.0,9,-999.0000,9,   1.8750,2,   12.82,2, -999.00,9,  -999.0,9,  -999.0,   7.982,2,   0.051,   0.016,2,   0.0030,   3.3568,-999.0000,    0.12
  316N145_8,        I03,     511,          1,         13,         13,2,19950518,       0439,   -20.0015,    72.2015,       3905,  1614.8,   3.3141,  34.7222,2,  34.7215,2,    128.6,2,   127.8,2,  105.56,2,   35.07,2,    0.01,2,    2.54,2,-999.000,9,-999.000,9,-999.000,9,  -999.0,9,  -999.0,9,-999.0000,9,-999.0000,9, -999.00,9, -999.00,9,  -999.0,9,  -999.0,-999.000,9,-999.000,-999.000,9,-999.0000,   3.1924,-999.0000,-999.000
  316N145_8,        I03,     511,          1,         12,         12,2,19950518,       0439,   -20.0015,    72.2015,       3905,  1815.4,   2.8329,  34.7250,2,  34.7249,2,    140.4,2,   140.2,2,  109.42,2,   34.54,2,    0.01,2,    2.48,2,-999.000,9,-999.000,9,  -0.005,3,  -999.0,9,  -999.0,9,-999.0000,9,   1.8970,2,   13.71,2, -999.00,9,  -999.0,9,  -999.0,   8.118,2,   0.024,   0.013,2,   0.0060,   2.6998,-999.0000,    0.10
  316N145_8,        I03,     511,          1,         11,         11,2,19950518,       0439,   -20.0015,    72.2015,       3905,  2018.7,   2.4659,  34.7263,2,  34.7261,2,    152.3,2,   152.3,2,  111.33,2,   33.95,2,    0.01,2,    2.42,2,-999.000,9,-999.000,9,-999.000,9,  -999.0,9,  -999.0,9,-999.0000,9,   1.8860,2,   14.48,2, -999.00,9,  -999.0,9,  -999.0,   8.066,2,   0.052,-999.000,9,   0.0050,   2.3205,-999.0000,    0.12
  316N145_8,        I03,     511,          1,         10,         10,2,19950518,       0439,   -20.0015,    72.2015,       3905,  2217.9,   2.1549,  34.7265,2,  34.7257,2,    163.4,2,   163.6,2,  112.81,2,   33.37,2,    0.01,2,    2.36,2,-999.000,9,-999.000,9,   0.011,3,  -999.0,9,  -999.0,9,-999.0000,9,   1.9030,2,   15.52,2, -999.00,9,  -999.0,9,  -999.0,   8.126,2,   0.024,  -0.004,2,   0.0040,   1.9969,-999.0000,    0.10
  316N145_8,        I03,     511,          1,          9,          9,2,19950518,       0439,   -20.0015,    72.2015,       3905,  2415.2,   1.9559,  34.7215,2,  34.7213,2,    175.3,2,   175.8,2,  109.27,2,   32.55,2,    0.00,2,    2.29,2,-999.000,9,-999.000,9,-999.000,9,  -999.0,9,  -999.0,9,-999.0000,9,   1.8940,2,   16.43,2, -999.00,9,  -999.0,9,  -999.0,   8.100,2,   0.049,-999.000,9,   0.0030,   1.7838,-999.0000,    0.12
  316N145_8,        I03,     511,          1,          8,          8,2,19950518,       0439,   -20.0015,    72.2015,       3905,  2616.2,   1.8019,  34.7248,2,  34.7247,2,    179.8,2,   180.1,2,  111.84,2,   32.35,2,    0.00,2,    2.27,2,-999.000,9,-999.000,9,   0.007,3,  -999.0,9,  -999.0,9,-999.0000,9,   1.8960,2,   16.58,2, -999.00,9,  -999.0,9,  -999.0,   8.132,2,   0.024,  -0.012,2,   0.0040,   1.6145,-999.0000,    0.10
  316N145_8,        I03,     511,          1,          7,          7,2,19950518,       0439,   -20.0015,    72.2015,       3905,  2818.4,   1.6826,  34.7271,2,  34.7263,2,    180.6,2,   181.0,2,  116.16,2,   32.54,2,    0.00,2,    2.28,2,-999.000,9,-999.000,9,-999.000,9,  -999.0,9,  -999.0,9,-999.0000,9,   1.8960,2,   15.07,2, -999.00,9,  -999.0,9,  -999.0,   8.114,2,   0.048,-999.000,9,   0.0030,   1.4788,-999.0000,    0.12
  316N145_8,        I03,     511,          1,          6,          6,2,19950518,       0439,   -20.0015,    72.2015,       3905,  3020.4,   1.5976,  34.7261,2,  34.7266,2,    184.5,2,   184.6,2,  116.98,2,   32.34,2,    0.00,2,    2.27,2,-999.000,9,-999.000,9,  -0.014,3,  -999.0,9,  -999.0,9,-999.0000,9,   1.9150,2,   14.13,2, -999.00,9,  -999.0,9,  -999.0,   8.206,2,   0.025,   0.010,2,   0.0040,   1.3765,-999.0000,    0.10
  316N145_8,        I03,     511,          1,          5,          5,2,19950518,       0439,   -20.0015,    72.2015,       3905,  3222.3,   1.5047,  34.7258,2,  34.7237,2,    185.0,2,   186.0,2,  119.78,2,   32.44,2,    0.00,2,    2.27,2,-999.000,9,-999.000,9,-999.000,9,  -999.0,9,  -999.0,9,-999.0000,9,   1.8470,3,   12.62,2, -999.00,9,  -999.0,9,  -999.0,   8.059,3,   0.022,-999.000,9,   0.0100,   1.2660,-999.0000,    0.08
  316N145_8,        I03,     511,          1,          4,          4,2,19950518,       0439,   -20.0015,    72.2015,       3905,  3426.6,   1.4456,  34.7238,2,  34.7235,2,    185.9,2,   186.9,2,  122.60,2,   32.58,2,    0.00,2,    2.28,2,-999.000,9,-999.000,9,  -0.014,3,  -999.0,9,  -999.0,9,-999.0000,9,-999.0000,9, -999.00,9, -999.00,9,  -999.0,9,  -999.0,-999.000,9,-999.000,   0.018,2,-999.0000,   1.1881,-999.0000,-999.000
  316N145_8,        I03,     511,          1,          3,          3,2,19950518,       0439,   -20.0015,    72.2015,       3905,  3631.2,   1.4098,  34.7220,2,  34.7198,3,    184.1,2,   184.4,2,  126.75,2,   32.76,2,    0.00,2,    2.31,2,-999.000,9,-999.000,9,-999.000,9,  -999.0,9,  -999.0,9,-999.0000,9,   1.9140,2,   12.00,2, -999.00,9,  -999.0,9,  -999.0,   8.260,2,   0.029,-999.000,9,   0.0030,   1.1323,-999.0000,    0.08
  316N145_8,        I03,     511,          1,          2,          2,2,19950518,       0439,   -20.0015,    72.2015,       3905,  3834.8,   1.4092,  34.7212,2,  34.7204,2,    183.2,2,   183.6,2,  128.69,2,   33.00,2,    0.00,2,    2.31,2,-999.000,9,-999.000,9,  -0.008,3,  -999.0,9,  -999.0,9,-999.0000,9,   1.8940,2,   12.09,2, -999.00,9,  -999.0,9,  -999.0,   8.138,2,   0.021,   0.030,2,   0.0030,   1.1104,-999.0000,    0.14
  316N145_8,        I03,     511,          1,          1,          1,2,19950518,       0439,   -20.0015,    72.2015,       3905,  4015.6,   1.4252,  34.7209,2,  34.7202,2,    184.2,2,   183.3,2,  128.86,2,   33.05,2,    0.00,2,    2.32,2,-999.000,9,-999.000,9,  -0.014,3,  -999.0,9,  -999.0,9,-999.0000,9,-999.0000,9, -999.00,9, -999.00,9,  -999.0,9,  -999.0,-999.000,9,-999.000,   0.045,2,-999.0000,   1.1065,-999.0000,-999.000