BOTTLE,20140514CCHSIOSE
EXPOCODE,SECT_ID,STNNBR,CASTNO,SAMPNO,BTLNBR,BTLNBR_FLAG_W,DATE,TIME,LATITUDE,LONGITUDE,DEPTH,CTDPRS,CTDTMP,CTDSAL,CTDSAL_FLAG_W,SALNTY,SALNTY_FLAG_W,CTDOXY,CTDOXY_FLAG_W,OXYGEN,OXYGEN_FLAG_W,SILCAT,SILCAT_FLAG_W,NITRAT,NITRAT_FLAG_W,NITRIT,NITRIT_FLAG_W,PHSPHT,PHSPHT_FLAG_W,CFC-11,CFC-11_FLAG_W,CFC-12,CFC-12_FLAG_W,CFC113,CFC113_FLAG_W,TCARBN,TCARBN_FLAG_W,ALKALI,ALKALI_FLAG_W,TRITUM,TRITUM_FLAG_W,HELIUM,HELIUM_FLAG_W,DELHE3,DELHE3_FLAG_W,DELC13,DELC13_FLAG_W,DELC14,DELC14_FLAG_W,C14ERR,NEON,NEON_FLAG_W,NEONER,CCL4,CCL4_FLAG_W,HELIER,THETA,TRITER,DELHER
,,,,,,,,,,,METERS,DBAR,ITS-90,PSS-78,,PSS-78,,UMOL/KG,,UMOL/KG,,UMOL/KG,,UMOL/KG,,UMOL/KG,,UMOL/KG,,PMOL/KG,,PMOL/KG,,PMOL/KG,,UMOL/KG,,UMOL/KG,,TU,,NMOL/KG,,PERCNT,,/MILLE,,/MILLE,,/MILLE,NMOL/KG,,NMOL/KG,PMOL/KG,,NMOL/KG,DEG C,TU,PERCNT
  316N145_8,        I03,     502,          1,         36,         36,2,19950512,       1731,   -20.0000,    77.6333,       5105,     7.0,  25.1375,  35.1604,2,  35.1629,2,    204.4,2,   207.8,3,    2.78,2,    0.10,2,    0.00,2,    0.13,2,   1.849,2,   1.058,2,-999.000,9,  1952.3,6,  2301.0,6,-999.0000,9,-999.0000,9, -999.00,9, -999.00,9,  -999.0,9,  -999.0,-999.000,9,-999.000,-999.000,9,-999.0000,  25.1360,-999.0000,-999.000
  316N145_8,        I03,     502,          1,         35,         35,2,19950512,       1731,   -20.0000,    77.6333,       5105,    57.4,  25.0257,  35.2704,2,  35.2721,2,    210.5,2,   209.5,2,    2.77,2,    0.10,2,    0.00,2,    0.11,2,-999.000,9,-999.000,9,-999.000,9,  -999.0,9,  -999.0,9,-999.0000,9,-999.0000,9, -999.00,9, -999.00,9,  -999.0,9,  -999.0,-999.000,9,-999.000,-999.000,9,-999.0000,  25.0133,-999.0000,-999.000
  316N145_8,        I03,     502,          1,         34,         34,2,19950512,       1731,   -20.0000,    77.6333,       5105,   107.2,  21.8047,  35.5032,2,  35.5095,2,    214.0,2,   215.3,2,    3.20,2,    0.08,2,    0.02,2,    0.15,2,   2.162,2,   1.194,2,-999.000,9,  -999.0,9,  -999.0,9,-999.0000,9,-999.0000,9, -999.00,9, -999.00,9,  -999.0,9,  -999.0,-999.000,9,-999.000,-999.000,9,-999.0000,  21.7836,-999.0000,-999.000
  316N145_8,        I03,     502,          1,         33,         33,2,19950512,       1731,   -20.0000,    77.6333,       5105,   157.8,  20.0901,  35.6590,2,  35.6746,2,    189.1,2,   197.3,2,    4.07,2,    1.88,2,    0.02,2,    0.28,2,-999.000,9,-999.000,9,-999.000,9,  -999.0,9,  -999.0,9,-999.0000,9,-999.0000,9, -999.00,9, -999.00,9,  -999.0,9,  -999.0,-999.000,9,-999.000,-999.000,9,-999.0000,  20.0607,-999.0000,-999.000
  316N145_8,        I03,     502,          1,         32,         32,2,19950512,       1731,   -20.0000,    77.6333,       5105,   208.2,  18.9636,  35.7843,2,  35.7252,2,    197.7,2,   192.8,2,    4.93,2,    3.23,2,    0.01,2,    0.37,2,   2.247,2,   1.213,2,-999.000,9,  -999.0,9,  -999.0,9,-999.0000,9,-999.0000,9, -999.00,9, -999.00,9,  -999.0,9,  -999.0,-999.000,9,-999.000,-999.000,9,-999.0000,  18.9263,-999.0000,-999.000
  316N145_8,        I03,     502,          1,         31,         31,2,19950512,       1731,   -20.0000,    77.6333,       5105,   257.8,  17.1181,  35.7131,2,  35.6970,2,    198.4,2,   197.3,2,    4.70,2,    3.93,2,    0.01,2,    0.44,2,-999.000,9,-999.000,9,-999.000,9,  -999.0,9,  -999.0,9,-999.0000,9,-999.0000,9, -999.00,9, -999.00,9,  -999.0,9,  -999.0,-999.000,9,-999.000,-999.000,9,-999.0000,  17.0751,-999.0000,-999.000
  316N145_8,        I03,     502,          1,         30,         30,2,19950512,       1731,   -20.0000,    77.6333,       5105,   307.8,  15.2604,  35.5559,2,  35.5551,2,    209.4,2,   211.5,2,    3.38,2,    4.53,2,    0.01,2,    0.49,2,   2.624,2,   1.360,2,-999.000,9,  -999.0,9,  -999.0,9,-999.0000,9,-999.0000,9, -999.00,9, -999.00,9,  -999.0,9,  -999.0,-999.000,9,-999.000,-999.000,9,-999.0000,  15.2128,-999.0000,-999.000
  316N145_8,        I03,     502,          1,         29,         29,2,19950512,       1731,   -20.0000,    77.6333,       5105,   358.6,  13.7619,  35.3605,2,  35.3444,2,    214.9,2,   219.1,2,    3.59,2,    6.87,2,    0.01,2,    0.62,2,-999.000,9,-999.000,9,-999.000,9,  -999.0,9,  -999.0,9,-999.0000,9,-999.0000,9, -999.00,9, -999.00,9,  -999.0,9,  -999.0,-999.000,9,-999.000,-999.000,9,-999.0000,  13.7103,-999.0000,-999.000
  316N145_8,        I03,     502,          1,         28,         28,2,19950512,       1731,   -20.0000,    77.6333,       5105,   408.0,  12.6147,  35.1962,2,  35.1872,2,    222.5,2,   225.1,2,    3.80,2,    8.61,2,    0.01,2,    0.72,2,   2.812,2,   1.422,2,-999.000,9,  -999.0,9,  -999.0,9,-999.0000,9,-999.0000,9, -999.00,9, -999.00,9,  -999.0,9,  -999.0,-999.000,9,-999.000,-999.000,9,-999.0000,  12.5591,-999.0000,-999.000
  316N145_8,        I03,     502,          1,         27,         27,2,19950512,       1731,   -20.0000,    77.6333,       5105,   508.8,  10.5393,  34.8761,2,  34.8704,2,    233.1,2,   232.7,2,    4.66,2,   13.00,2,    0.01,2,    0.97,2,   2.756,2,   1.368,2,-999.000,9,  -999.0,9,  -999.0,9,-999.0000,9,-999.0000,9, -999.00,9, -999.00,9,  -999.0,9,  -999.0,-999.000,9,-999.000,-999.000,9,-999.0000,  10.4775,-999.0000,-999.000
  316N145_8,        I03,     502,          1,         26,         26,2,19950512,       1731,   -20.0000,    77.6333,       5105,   608.8,   9.2297,  34.6867,2,  34.6894,2,    229.7,2,   226.9,2,    6.62,2,   17.09,2,    0.01,2,    1.23,2,-999.000,9,-999.000,9,-999.000,9,  -999.0,9,  -999.0,9,-999.0000,9,-999.0000,9, -999.00,9, -999.00,9,  -999.0,9,  -999.0,-999.000,9,-999.000,-999.000,9,-999.0000,   9.1613,-999.0000,-999.000
  316N145_8,        I03,     502,          1,         25,         25,2,19950512,       1731,   -20.0000,    77.6333,       5105,   708.2,   7.7205,  34.5620,2,  34.5680,2,    195.7,2,   194.5,2,   17.54,2,   23.58,2,    0.01,2,    1.65,2,   0.911,2,   0.463,2,-999.000,9,  -999.0,9,  -999.0,9,-999.0000,9,-999.0000,9, -999.00,9, -999.00,9,  -999.0,9,  -999.0,-999.000,9,-999.000,-999.000,9,-999.0000,   7.6484,-999.0000,-999.000
  316N145_8,        I03,     502,          1,         24,         24,2,19950512,       1731,   -20.0000,    77.6333,       5105,   810.0,   6.0786,  34.4960,2,  34.4972,2,    167.4,2,   165.6,2,   38.07,2,   29.75,2,    0.01,2,    2.08,2,-999.000,9,-999.000,9,-999.000,9,  -999.0,9,  -999.0,9,-999.0000,9,-999.0000,9, -999.00,9, -999.00,9,  -999.0,9,  -999.0,-999.000,9,-999.000,-999.000,9,-999.0000,   6.0056,-999.0000,-999.000
  316N145_8,        I03,     502,          1,         23,         23,2,19950512,       1731,   -20.0000,    77.6333,       5105,   911.1,   5.3299,  34.5523,2,  34.5509,2,    129.3,2,   129.3,2,   62.31,2,   33.74,2,    0.01,2,    2.41,2,   0.048,2,   0.024,2,-999.000,9,  -999.0,9,  -999.0,9,-999.0000,9,-999.0000,9, -999.00,9, -999.00,9,  -999.0,9,  -999.0,-999.000,9,-999.000,-999.000,9,-999.0000,   5.2523,-999.0000,-999.000
  316N145_8,        I03,     502,          1,         22,         22,2,19950512,       1731,   -20.0000,    77.6333,       5105,  1011.6,   4.7912,  34.5779,2,  34.5756,2,    120.9,2,   123.6,2,   73.01,2,   34.85,2,    0.01,2,    2.51,2,   0.008,2,   0.008,2,-999.000,9,  -999.0,9,  -999.0,9,-999.0000,9,-999.0000,9, -999.00,9, -999.00,9,  -999.0,9,  -999.0,-999.000,9,-999.000,-999.000,9,-999.0000,   4.7084,-999.0000,-999.000
  316N145_8,        I03,     502,          1,         21,         21,2,19950512,       1731,   -20.0000,    77.6333,       5105,  1110.9,   4.3568,  34.6023,2,  34.6029,2,    121.0,2,   121.2,2,   81.53,2,   35.40,2,    0.01,2,    2.56,2,-999.000,9,-999.000,9,-999.000,9,  -999.0,9,  -999.0,9,-999.0000,9,-999.0000,9, -999.00,9, -999.00,9,  -999.0,9,  -999.0,-999.000,9,-999.000,-999.000,9,-999.0000,   4.2686,-999.0000,-999.000
  316N145_8,        I03,     502,          1,         20,         20,2,19950512,       1731,   -20.0000,    77.6333,       5105,  1211.8,   4.1213,  34.6527,2,  34.6539,2,    118.0,2,   118.8,2,   89.19,2,   35.49,2,    0.01,2,    2.57,2,-999.000,9,-999.000,9,-999.000,9,  -999.0,9,  -999.0,9,-999.0000,9,-999.0000,9, -999.00,9, -999.00,9,  -999.0,9,  -999.0,-999.000,9,-999.000,-999.000,9,-999.0000,   4.0263,-999.0000,-999.000
  316N145_8,        I03,     502,          1,         19,         19,2,19950512,       1731,   -20.0000,    77.6333,       5105,  1413.6,   3.7131,  34.6927,2,  34.6923,2,    122.5,2,   122.5,2,   96.65,2,   35.33,2,    0.01,2,    2.56,2,-999.000,9,-999.000,9,-999.000,9,  -999.0,9,  -999.0,9,-999.0000,9,-999.0000,9, -999.00,9, -999.00,9,  -999.0,9,  -999.0,-999.000,9,-999.000,-999.000,9,-999.0000,   3.6044,-999.0000,-999.000
  316N145_8,        I03,     502,          1,         18,         18,2,19950512,       1731,   -20.0000,    77.6333,       5105,  1616.5,   3.2254,  34.7145,2,  34.7147,2,    131.1,2,   131.9,2,  103.24,2,   34.92,2,    0.01,2,    2.52,2,  -0.002,2,   0.000,2,-999.000,9,  -999.0,9,  -999.0,9,-999.0000,9,-999.0000,9, -999.00,9, -999.00,9,  -999.0,9,  -999.0,-999.000,9,-999.000,-999.000,9,-999.0000,   3.1046,-999.0000,-999.000
  316N145_8,        I03,     502,          1,         17,         17,2,19950512,       1731,   -20.0000,    77.6333,       5105,  1818.0,   2.8635,  34.7243,2,  34.7239,2,    140.6,2,   139.8,2,  107.64,2,   34.65,2,    0.01,2,    2.48,2,-999.000,9,-999.000,9,-999.000,9,  -999.0,9,  -999.0,9,-999.0000,9,-999.0000,9, -999.00,9, -999.00,9,  -999.0,9,  -999.0,-999.000,9,-999.000,-999.000,9,-999.0000,   2.7299,-999.0000,-999.000
  316N145_8,        I03,     502,          1,         16,         16,2,19950512,       1731,   -20.0000,    77.6333,       5105,  2020.1,   2.5378,  34.7267,2,  34.7264,2,    148.9,2,   149.4,2,  110.03,2,   34.14,2,    0.01,2,    2.44,2,-999.000,9,-999.000,9,-999.000,9,  -999.0,9,  -999.0,9,-999.0000,9,-999.0000,9, -999.00,9, -999.00,9,  -999.0,9,  -999.0,-999.000,9,-999.000,-999.000,9,-999.0000,   2.3911,-999.0000,-999.000
  316N145_8,        I03,     502,          1,         15,         15,2,19950512,       1731,   -20.0000,    77.6333,       5105,  2222.8,   2.2402,  34.7258,2,  34.7256,2,    160.7,2,   160.8,2,  110.87,2,   33.58,2,    0.01,2,    2.38,2,-999.000,9,-999.000,9,-999.000,9,  -999.0,9,  -999.0,9,-999.0000,9,-999.0000,9, -999.00,9, -999.00,9,  -999.0,9,  -999.0,-999.000,9,-999.000,-999.000,9,-999.0000,   2.0804,-999.0000,-999.000
  316N145_8,        I03,     502,          1,         14,         14,2,19950512,       1731,   -20.0000,    77.6333,       5105,  2425.3,   2.0160,  34.7246,2,  34.7242,2,    170.5,2,   171.2,2,  109.92,2,   32.96,2,    0.01,2,    2.33,2,  -0.001,2,   0.000,2,-999.000,9,  -999.0,9,  -999.0,9,-999.0000,9,-999.0000,9, -999.00,9, -999.00,9,  -999.0,9,  -999.0,-999.000,9,-999.000,-999.000,9,-999.0000,   1.8419,-999.0000,-999.000
  316N145_8,        I03,     502,          1,         13,         13,2,19950512,       1731,   -20.0000,    77.6333,       5105,  2628.8,   1.8460,  34.7254,2,  34.7260,2,    180.3,2,   179.4,2,  109.42,2,   32.50,2,    0.01,2,    2.28,2,-999.000,9,-999.000,9,-999.000,9,  -999.0,9,  -999.0,9,-999.0000,9,-999.0000,9, -999.00,9, -999.00,9,  -999.0,9,  -999.0,-999.000,9,-999.000,-999.000,9,-999.0000,   1.6566,-999.0000,-999.000
  316N145_8,        I03,     502,          1,         12,         12,2,19950512,       1731,   -20.0000,    77.6333,       5105,  2831.5,   1.6966,  34.7273,2,  34.7272,2,    184.0,2,   183.6,2,  112.04,2,   32.24,2,    0.01,2,    2.26,2,-999.000,9,-999.000,9,-999.000,9,  -999.0,9,  -999.0,9,-999.0000,9,-999.0000,9, -999.00,9, -999.00,9,  -999.0,9,  -999.0,-999.000,9,-999.000,-999.000,9,-999.0000,   1.4913,-999.0000,-999.000
  316N145_8,        I03,     502,          1,         11,         11,2,19950512,       1731,   -20.0000,    77.6333,       5105,  3034.9,   1.5922,  34.7275,2,  34.7275,2,    187.4,2,   186.5,2,  114.21,2,   32.24,2,    0.00,2,    2.26,2,-999.000,9,-999.000,9,-999.000,9,  -999.0,9,  -999.0,9,-999.0000,9,-999.0000,9, -999.00,9, -999.00,9,  -999.0,9,  -999.0,-999.000,9,-999.000,-999.000,9,-999.0000,   1.3698,-999.0000,-999.000
  316N145_8,        I03,     502,          1,         10,         10,2,19950512,       1731,   -20.0000,    77.6333,       5105,  3238.0,   1.4908,  34.7265,2,  34.7262,2,    188.2,2,   187.7,2,  118.18,2,   32.38,2,    0.00,2,    2.26,2,   0.000,2,   0.002,2,-999.000,9,  -999.0,9,  -999.0,9,-999.0000,9,-999.0000,9, -999.00,9, -999.00,9,  -999.0,9,  -999.0,-999.000,9,-999.000,-999.000,9,-999.0000,   1.2509,-999.0000,-999.000
  316N145_8,        I03,     502,          1,          9,          9,2,19950512,       1731,   -20.0000,    77.6333,       5105,  3440.4,   1.4291,  34.7248,2,  34.7240,2,    187.8,2,   187.6,2,  121.27,2,   32.63,2,    0.00,2,    2.28,2,-999.000,9,-999.000,9,-999.000,9,  -999.0,9,  -999.0,9,-999.0000,9,-999.0000,9, -999.00,9, -999.00,9,  -999.0,9,  -999.0,-999.000,9,-999.000,-999.000,9,-999.0000,   1.1706,-999.0000,-999.000
  316N145_8,        I03,     502,          1,          8,          8,2,19950512,       1731,   -20.0000,    77.6333,       5105,  3644.5,   1.3879,  34.7228,2,  34.7222,2,    187.8,2,   187.9,2,  123.46,2,   32.72,2,    0.00,2,    2.28,2,-999.000,9,-999.000,9,-999.000,9,  -999.0,9,  -999.0,9,-999.0000,9,-999.0000,9, -999.00,9, -999.00,9,  -999.0,9,  -999.0,-999.000,9,-999.000,-999.000,9,-999.0000,   1.1095,-999.0000,-999.000
  316N145_8,        I03,     502,          1,          7,          7,2,19950512,       1731,   -20.0000,    77.6333,       5105,  3848.3,   1.3752,  34.7210,2,  34.7210,2,    186.9,2,   186.7,2,  126.11,2,   32.92,2,    0.00,2,    2.29,2,-999.000,9,-999.000,9,-999.000,9,  -999.0,9,  -999.0,9,-999.0000,9,-999.0000,9, -999.00,9, -999.00,9,  -999.0,9,  -999.0,-999.000,9,-999.000,-999.000,9,-999.0000,   1.0758,-999.0000,-999.000
  316N145_8,        I03,     502,          1,          6,          6,2,19950512,       1731,   -20.0000,    77.6333,       5105,  4054.2,   1.3733,  34.7195,2,  34.7193,2,    185.8,2,   185.4,2,  128.54,2,   33.12,2,    0.00,2,    2.30,2,  -0.001,2,   0.001,2,-999.000,9,  -999.0,9,  -999.0,9,-999.0000,9,-999.0000,9, -999.00,9, -999.00,9,  -999.0,9,  -999.0,-999.000,9,-999.000,-999.000,9,-999.0000,   1.0518,-999.0000,-999.000
  316N145_8,        I03,     502,          1,          5,          5,2,19950512,       1731,   -20.0000,    77.6333,       5105,  4283.5,   1.3783,  34.7188,2,  34.7179,2,    184.2,2,   184.5,2,  130.52,2,   33.31,2,    0.00,2,    2.31,2,-999.000,9,-999.000,9,-999.000,9,  -999.0,9,  -999.0,9,-999.0000,9,-999.0000,9, -999.00,9, -999.00,9,  -999.0,9,  -999.0,-999.000,9,-999.000,-999.000,9,-999.0000,   1.0314,-999.0000,-999.000
  316N145_8,        I03,     502,          1,          4,          4,2,19950512,       1731,   -20.0000,    77.6333,       5105,  4514.2,   1.3930,  34.7181,2,  34.7177,2,    183.6,2,   184.1,2,  131.14,2,   33.36,2,    0.00,2,    2.32,2,-999.000,9,-999.000,9,-999.000,9,  -999.0,9,  -999.0,9,-999.0000,9,-999.0000,9, -999.00,9, -999.00,9,  -999.0,9,  -999.0,-999.000,9,-999.000,-999.000,9,-999.0000,   1.0196,-999.0000,-999.000
  316N145_8,        I03,     502,          1,          3,          3,2,19950512,       1731,   -20.0000,    77.6333,       5105,  4745.0,   1.4133,  34.7174,2,  34.7171,2,    183.3,2,   183.6,2,  131.53,2,   33.40,2,    0.00,2,    2.32,2,-999.000,9,-999.000,9,-999.000,9,  -999.0,9,  -999.0,9,-999.0000,9,-999.0000,9, -999.00,9, -999.00,9,  -999.0,9,  -999.0,-999.000,9,-999.000,-999.000,9,-999.0000,   1.0123,-999.0000,-999.000
  316N145_8,        I03,     502,          1,          2,          2,2,19950512,       1731,   -20.0000,    77.6333,       5105,  4976.2,   1.4412,  34.7177,2,  34.7172,2,    183.4,2,   184.2,2,  131.69,2,   33.34,2,    0.00,2,    2.32,2,-999.000,9,-999.000,9,-999.000,9,  -999.0,9,  -999.0,9,-999.0000,9,-999.0000,9, -999.00,9, -999.00,9,  -999.0,9,  -999.0,-999.000,9,-999.000,-999.000,9,-999.0000,   1.0116,-999.0000,-999.000
  316N145_8,        I03,     502,          1,          1,          1,2,19950512,       1731,   -20.0000,    77.6333,       5105,  5212.2,   1.4707,  34.7176,2,  34.7172,2,    184.3,2,   183.5,2,  131.62,2,   33.44,2,    0.00,2,    2.32,2,   0.005,2,   0.001,2,-999.000,9,  -999.0,9,  -999.0,9,-999.0000,9,-999.0000,9, -999.00,9, -999.00,9,  -999.0,9,  -999.0,-999.000,9,-999.000,-999.000,9,-999.0000,   1.0112,-999.0000,-999.000