BOTTLE,20140514CCHSIOSE
EXPOCODE,SECT_ID,STNNBR,CASTNO,SAMPNO,BTLNBR,BTLNBR_FLAG_W,DATE,TIME,LATITUDE,LONGITUDE,DEPTH,CTDPRS,CTDTMP,CTDSAL,CTDSAL_FLAG_W,SALNTY,SALNTY_FLAG_W,CTDOXY,CTDOXY_FLAG_W,OXYGEN,OXYGEN_FLAG_W,SILCAT,SILCAT_FLAG_W,NITRAT,NITRAT_FLAG_W,NITRIT,NITRIT_FLAG_W,PHSPHT,PHSPHT_FLAG_W,CFC-11,CFC-11_FLAG_W,CFC-12,CFC-12_FLAG_W,CFC113,CFC113_FLAG_W,TCARBN,TCARBN_FLAG_W,ALKALI,ALKALI_FLAG_W,TRITUM,TRITUM_FLAG_W,HELIUM,HELIUM_FLAG_W,DELHE3,DELHE3_FLAG_W,DELC13,DELC13_FLAG_W,DELC14,DELC14_FLAG_W,C14ERR,NEON,NEON_FLAG_W,NEONER,CCL4,CCL4_FLAG_W,HELIER,THETA,TRITER,DELHER
,,,,,,,,,,,METERS,DBAR,ITS-90,PSS-78,,PSS-78,,UMOL/KG,,UMOL/KG,,UMOL/KG,,UMOL/KG,,UMOL/KG,,UMOL/KG,,PMOL/KG,,PMOL/KG,,PMOL/KG,,UMOL/KG,,UMOL/KG,,TU,,NMOL/KG,,PERCNT,,/MILLE,,/MILLE,,/MILLE,NMOL/KG,,NMOL/KG,PMOL/KG,,NMOL/KG,DEG C,TU,PERCNT
  316N145_8,        I03,     481,          1,         36,         36,2,19950506,       1923,   -19.9988,    89.9827,       4650,    12.3,  25.8433,  35.1328,2,  35.1321,2,    203.0,2,   208.6,3,    3.39,2,    0.19,2,    0.00,2,    0.13,2,   1.814,2,   1.031,2,   0.043,3,  1955.1,6,  2304.7,6,-999.0000,9,-999.0000,9, -999.00,9, -999.00,9,  -999.0,9,  -999.0,-999.000,9,-999.000,   2.279,2,-999.0000,  25.8406,-999.0000,-999.000
  316N145_8,        I03,     481,          1,         35,         35,2,19950506,       1923,   -19.9988,    89.9827,       4650,    56.9,  25.6775,  35.1578,2,  35.1576,2,    208.6,2,   208.7,2,    3.38,2,    0.19,2,    0.00,2,    0.13,2,-999.000,9,-999.000,9,-999.000,9,  -999.0,9,  -999.0,9,-999.0000,9,-999.0000,9, -999.00,9, -999.00,9,  -999.0,9,  -999.0,-999.000,9,-999.000,-999.000,9,-999.0000,  25.6649,-999.0000,-999.000
  316N145_8,        I03,     481,          1,         34,         34,2,19950506,       1923,   -19.9988,    89.9827,       4650,   106.6,  21.6697,  35.5199,2,  35.5164,2,    218.2,2,   211.9,2,    3.80,2,    0.23,2,    0.06,2,    0.17,2,-999.000,9,-999.000,9,   0.172,3,  -999.0,9,  -999.0,9,-999.0000,9,-999.0000,9, -999.00,9, -999.00,9,  -999.0,9,  -999.0,-999.000,9,-999.000,   1.297,2,-999.0000,  21.6488,-999.0000,-999.000
  316N145_8,        I03,     481,          1,         33,         33,2,19950506,       1923,   -19.9988,    89.9827,       4650,   157.0,  20.3921,  35.7222,2,  35.7219,2,    206.8,2,   205.8,2,    3.78,2,    1.09,2,    0.08,2,    0.23,2,   2.283,2,   1.248,2,   0.129,3,  -999.0,9,  -999.0,9,-999.0000,9,-999.0000,9, -999.00,9, -999.00,9,  -999.0,9,  -999.0,-999.000,9,-999.000,   1.277,2,-999.0000,  20.3625,-999.0000,-999.000
  316N145_8,        I03,     481,          1,         32,         32,2,19950506,       1923,   -19.9988,    89.9827,       4650,   207.1,  18.3886,  35.7592,2,  35.7525,2,    195.1,2,   193.5,2,    5.08,2,    3.22,2,    0.00,2,    0.38,2,-999.000,9,-999.000,9,   0.071,3,  -999.0,9,  -999.0,9,-999.0000,9,-999.0000,9, -999.00,9, -999.00,9,  -999.0,9,  -999.0,-999.000,9,-999.000,   0.588,2,-999.0000,  18.3523,-999.0000,-999.000
  316N145_8,        I03,     481,          1,         31,         31,2,19950506,       1923,   -19.9988,    89.9827,       4650,   256.9,  16.8826,  35.7364,2,  35.7322,2,    207.0,2,   209.3,2,    3.54,2,    2.69,2,    0.00,2,    0.37,2,-999.000,9,-999.000,9,   0.063,3,  -999.0,9,  -999.0,9,-999.0000,9,-999.0000,9, -999.00,9, -999.00,9,  -999.0,9,  -999.0,-999.000,9,-999.000,   0.668,2,-999.0000,  16.8401,-999.0000,-999.000
  316N145_8,        I03,     481,          1,         30,         30,2,19950506,       1923,   -19.9988,    89.9827,       4650,   307.5,  15.1683,  35.5630,2,  35.5394,2,    214.2,2,   217.3,2,    3.31,2,    4.40,2,    0.00,2,    0.47,2,   2.718,2,   1.418,2,   0.067,3,  -999.0,9,  -999.0,9,-999.0000,9,-999.0000,9, -999.00,9, -999.00,9,  -999.0,9,  -999.0,-999.000,9,-999.000,   0.671,2,-999.0000,  15.1210,-999.0000,-999.000
  316N145_8,        I03,     481,          1,         29,         29,2,19950506,       1923,   -19.9988,    89.9827,       4650,   356.9,  13.3520,  35.3226,2,  35.3085,2,    222.6,2,   225.2,2,    3.51,2,    6.96,2,    0.00,2,    0.61,2,-999.000,9,-999.000,9,   0.069,3,  -999.0,9,  -999.0,9,-999.0000,9,-999.0000,9, -999.00,9, -999.00,9,  -999.0,9,  -999.0,-999.000,9,-999.000,   0.770,2,-999.0000,  13.3015,-999.0000,-999.000
  316N145_8,        I03,     481,          1,         28,         28,2,19950506,       1923,   -19.9988,    89.9827,       4650,   407.7,  12.2746,  35.1548,2,  35.1510,2,    230.6,2,   230.9,2,    3.72,2,    8.83,2,    0.00,2,    0.72,2,   2.977,2,   1.519,2,   0.111,3,  -999.0,9,  -999.0,9,-999.0000,9,-999.0000,9, -999.00,9, -999.00,9,  -999.0,9,  -999.0,-999.000,9,-999.000,   0.970,2,-999.0000,  12.2201,-999.0000,-999.000
  316N145_8,        I03,     481,          1,         27,         27,2,19950506,       1923,   -19.9988,    89.9827,       4650,   507.7,  10.8342,  34.9267,2,  34.9177,2,    235.1,2,   236.3,2,    4.58,2,   12.08,2,    0.00,2,    0.92,2,   2.975,2,   1.499,2,   0.066,3,  -999.0,9,  -999.0,9,-999.0000,9,-999.0000,9, -999.00,9, -999.00,9,  -999.0,9,  -999.0,-999.000,9,-999.000,   1.432,2,-999.0000,  10.7713,-999.0000,-999.000
  316N145_8,        I03,     481,          1,         26,         26,2,19950506,       1923,   -19.9988,    89.9827,       4650,   608.5,   9.2262,  34.6896,2,  34.6727,2,    228.8,2,   227.7,2,    7.19,2,   17.49,2,    0.01,2,    1.25,2,   2.391,2,   1.179,2,   0.053,3,  -999.0,9,  -999.0,9,-999.0000,9,-999.0000,9, -999.00,9, -999.00,9,  -999.0,9,  -999.0,-999.000,9,-999.000,   1.530,2,-999.0000,   9.1578,-999.0000,-999.000
  316N145_8,        I03,     481,          1,         25,         25,2,19950506,       1923,   -19.9988,    89.9827,       4650,   709.6,   7.4644,  34.5315,2,  34.5293,2,    196.8,2,   196.7,2,   18.75,2,   24.36,2,    0.00,2,    1.70,2,   0.942,2,   0.479,2,-999.000,9,  -999.0,9,  -999.0,9,-999.0000,9,-999.0000,9, -999.00,9, -999.00,9,  -999.0,9,  -999.0,-999.000,9,-999.000,-999.000,9,-999.0000,   7.3935,-999.0000,-999.000
  316N145_8,        I03,     481,          1,         24,         24,2,19950506,       1923,   -19.9988,    89.9827,       4650,   809.6,   5.9002,  34.5055,2,  34.5079,2,    152.8,2,   154.7,2,   45.16,2,   30.92,2,    0.01,2,    2.18,2,   0.191,2,   0.098,2,   0.032,3,  -999.0,9,  -999.0,9,-999.0000,9,-999.0000,9, -999.00,9, -999.00,9,  -999.0,9,  -999.0,-999.000,9,-999.000,   0.419,2,-999.0000,   5.8284,-999.0000,-999.000
  316N145_8,        I03,     481,          1,         23,         23,2,19950506,       1923,   -19.9988,    89.9827,       4650,   910.0,   5.2379,  34.5673,2,  34.5664,2,    122.1,2,   123.6,2,   67.45,2,   34.17,2,    0.01,2,    2.46,2,   0.034,2,   0.019,2,-999.000,9,  -999.0,9,  -999.0,9,-999.0000,9,-999.0000,9, -999.00,9, -999.00,9,  -999.0,9,  -999.0,-999.000,9,-999.000,-999.000,9,-999.0000,   5.1609,-999.0000,-999.000
  316N145_8,        I03,     481,          1,         22,         22,2,19950506,       1923,   -19.9988,    89.9827,       4650,  1010.8,   4.9576,  34.6155,2,  34.6178,2,    112.1,2,   111.4,2,   79.73,2,   35.18,2,    0.01,2,    2.55,2,-999.000,9,-999.000,9,   0.036,3,  -999.0,9,  -999.0,9,-999.0000,9,-999.0000,9, -999.00,9, -999.00,9,  -999.0,9,  -999.0,-999.000,9,-999.000,   0.060,2,-999.0000,   4.8734,-999.0000,-999.000
  316N145_8,        I03,     481,          1,         21,         21,2,19950506,       1923,   -19.9988,    89.9827,       4650,  1111.3,   4.5606,  34.6455,2,  34.6454,2,    109.5,2,   109.6,2,   88.30,2,   35.64,2,    0.01,2,    2.59,2,-999.000,9,-999.000,9,-999.000,9,  -999.0,9,  -999.0,9,-999.0000,9,-999.0000,9, -999.00,9, -999.00,9,  -999.0,9,  -999.0,-999.000,9,-999.000,-999.000,9,-999.0000,   4.4706,-999.0000,-999.000
  316N145_8,        I03,     481,          1,         20,         20,2,19950506,       1923,   -19.9988,    89.9827,       4650,  1213.0,   4.2067,  34.6617,2,  34.6623,2,    112.0,2,   112.0,2,   94.25,2,   35.79,2,    0.01,2,    2.59,2,-999.000,9,-999.000,9,   0.039,3,  -999.0,9,  -999.0,9,-999.0000,9,-999.0000,9, -999.00,9, -999.00,9,  -999.0,9,  -999.0,-999.000,9,-999.000,   0.011,2,-999.0000,   4.1107,-999.0000,-999.000
  316N145_8,        I03,     481,          1,         19,         19,2,19950506,       1923,   -19.9988,    89.9827,       4650,  1413.7,   3.6455,  34.6816,2,  34.6803,2,    121.7,2,   123.1,2,   98.88,2,   35.45,2,    0.01,2,    2.56,2,-999.000,9,-999.000,9,-999.000,9,  -999.0,9,  -999.0,9,-999.0000,9,-999.0000,9, -999.00,9, -999.00,9,  -999.0,9,  -999.0,-999.000,9,-999.000,-999.000,9,-999.0000,   3.5376,-999.0000,-999.000
  316N145_8,        I03,     481,          1,         18,         18,2,19950506,       1923,   -19.9988,    89.9827,       4650,  1615.2,   3.1967,  34.6998,2,  34.6998,2,    132.3,2,   132.1,2,  104.64,2,   34.90,2,    0.01,2,    2.52,2,-999.000,9,-999.000,9,-999.000,9,  -999.0,9,  -999.0,9,-999.0000,9,-999.0000,9, -999.00,9, -999.00,9,  -999.0,9,  -999.0,-999.000,9,-999.000,-999.000,9,-999.0000,   3.0764,-999.0000,-999.000
  316N145_8,        I03,     481,          1,         17,         17,2,19950506,       1923,   -19.9988,    89.9827,       4650,  1816.7,   2.7101,  34.7149,2,  34.7141,2,    145.3,2,   144.8,2,  108.87,2,   34.45,2,    0.01,2,    2.46,2,-999.000,9,-999.000,9,-999.000,9,  -999.0,9,  -999.0,9,-999.0000,9,-999.0000,9, -999.00,9, -999.00,9,  -999.0,9,  -999.0,-999.000,9,-999.000,-999.000,9,-999.0000,   2.5787,-999.0000,-999.000
  316N145_8,        I03,     481,          1,         16,         16,2,19950506,       1923,   -19.9988,    89.9827,       4650,  2020.6,   2.3963,  34.7218,2,  34.7215,2,    153.9,2,   153.2,2,  112.66,2,   34.05,2,    0.01,2,    2.42,2,-999.000,9,-999.000,9,-999.000,9,  -999.0,9,  -999.0,9,-999.0000,9,-999.0000,9, -999.00,9, -999.00,9,  -999.0,9,  -999.0,-999.000,9,-999.000,-999.000,9,-999.0000,   2.2517,-999.0000,-999.000
  316N145_8,        I03,     481,          1,         15,         15,2,19950506,       1923,   -19.9988,    89.9827,       4650,  2222.5,   2.1355,  34.7261,2,  34.7247,2,    161.7,2,   160.6,2,  115.33,2,   33.66,2,    0.01,2,    2.39,2,-999.000,9,-999.000,9,-999.000,9,  -999.0,9,  -999.0,9,-999.0000,9,-999.0000,9, -999.00,9, -999.00,9,  -999.0,9,  -999.0,-999.000,9,-999.000,-999.000,9,-999.0000,   1.9774,-999.0000,-999.000
  316N145_8,        I03,     481,          1,         14,         14,2,19950506,       1923,   -19.9988,    89.9827,       4650,  2425.8,   1.9971,  34.7266,2,  34.7259,2,    165.0,2,   164.2,2,  117.34,2,   33.46,2,    0.01,2,    2.37,2,-999.000,9,-999.000,9,-999.000,9,  -999.0,9,  -999.0,9,-999.0000,9,-999.0000,9, -999.00,9, -999.00,9,  -999.0,9,  -999.0,-999.000,9,-999.000,-999.000,9,-999.0000,   1.8233,-999.0000,-999.000
  316N145_8,        I03,     481,          1,         13,         13,2,19950506,       1923,   -19.9988,    89.9827,       4650,  2627.7,   1.8585,  34.7275,2,  34.7268,2,    170.0,2,   169.2,2,  118.90,2,   33.31,2,    0.01,2,    2.36,2,-999.000,9,-999.000,9,-999.000,9,  -999.0,9,  -999.0,9,-999.0000,9,-999.0000,9, -999.00,9, -999.00,9,  -999.0,9,  -999.0,-999.000,9,-999.000,-999.000,9,-999.0000,   1.6689,-999.0000,-999.000
  316N145_8,        I03,     481,          1,         12,         12,2,19950506,       1923,   -19.9988,    89.9827,       4650,  2832.4,   1.7308,  34.7272,2,  34.7268,2,    172.4,2,   172.6,2,  121.37,2,   33.22,2,    0.01,2,    2.34,2,-999.000,9,-999.000,9,   0.023,3,  -999.0,9,  -999.0,9,-999.0000,9,-999.0000,9, -999.00,9, -999.00,9,  -999.0,9,  -999.0,-999.000,9,-999.000,   0.002,2,-999.0000,   1.5247,-999.0000,-999.000
  316N145_8,        I03,     481,          1,         11,         11,2,19950506,       1923,   -19.9988,    89.9827,       4650,  3035.0,   1.6152,  34.7254,2,  34.7251,2,    176.6,2,   176.2,2,  123.17,2,   33.12,2,    0.01,2,    2.33,2,-999.000,9,-999.000,9,-999.000,9,  -999.0,9,  -999.0,9,-999.0000,9,-999.0000,9, -999.00,9, -999.00,9,  -999.0,9,  -999.0,-999.000,9,-999.000,-999.000,9,-999.0000,   1.3923,-999.0000,-999.000
  316N145_8,        I03,     481,          1,         10,         10,2,19950506,       1923,   -19.9988,    89.9827,       4650,  3238.2,   1.5232,  34.7244,2,  34.7237,2,    179.2,2,   180.2,2,  124.06,2,   33.03,2,    0.01,2,    2.32,2,-999.000,9,-999.000,9,-999.000,9,  -999.0,9,  -999.0,9,-999.0000,9,-999.0000,9, -999.00,9, -999.00,9,  -999.0,9,  -999.0,-999.000,9,-999.000,-999.000,9,-999.0000,   1.2825,-999.0000,-999.000
  316N145_8,        I03,     481,          1,          9,          9,2,19950506,       1923,   -19.9988,    89.9827,       4650,  3442.8,   1.4025,  34.7219,2,  34.7200,2,    183.0,2,   184.5,2,  124.49,2,   32.83,2,    0.01,2,    2.30,2,-999.000,9,-999.000,9,-999.000,9,  -999.0,9,  -999.0,9,-999.0000,9,-999.0000,9, -999.00,9, -999.00,9,  -999.0,9,  -999.0,-999.000,9,-999.000,-999.000,9,-999.0000,   1.1444,-999.0000,-999.000
  316N145_8,        I03,     481,          1,          8,          8,2,19950506,       1923,   -19.9988,    89.9827,       4650,  3646.8,   1.2965,  34.7191,2,  34.7178,2,    189.8,2,   190.6,2,  123.79,2,   32.59,2,    0.01,2,    2.28,2,-999.000,9,-999.000,9,-999.000,9,  -999.0,9,  -999.0,9,-999.0000,9,-999.0000,9, -999.00,9, -999.00,9,  -999.0,9,  -999.0,-999.000,9,-999.000,-999.000,9,-999.0000,   1.0203,-999.0000,-999.000
  316N145_8,        I03,     481,          1,          7,          7,2,19950506,       1923,   -19.9988,    89.9827,       4650,  3851.2,   1.1780,  34.7167,2,  34.7160,2,    195.6,2,   196.1,2,  123.32,2,   32.34,2,    0.00,2,    2.26,2,  -0.001,2,   0.001,2,-999.000,9,  -999.0,9,  -999.0,9,-999.0000,9,-999.0000,9, -999.00,9, -999.00,9,  -999.0,9,  -999.0,-999.000,9,-999.000,-999.000,9,-999.0000,   0.8837,-999.0000,-999.000
  316N145_8,        I03,     481,          1,          6,          6,2,19950506,       1923,   -19.9988,    89.9827,       4650,  4056.3,   1.1247,  34.7148,2,  34.7137,2,    198.7,2,   199.7,2,  123.08,2,   32.10,2,    0.00,2,    2.25,2,  -0.002,2,   0.000,2,   0.031,3,  -999.0,9,  -999.0,9,-999.0000,9,-999.0000,9, -999.00,9, -999.00,9,  -999.0,9,  -999.0,-999.000,9,-999.000,   0.005,2,-999.0000,   0.8102,-999.0000,-999.000
  316N145_8,        I03,     481,          1,          5,          5,2,19950506,       1923,   -19.9988,    89.9827,       4650,  4259.3,   1.1089,  34.7140,2,  34.7125,2,    200.6,2,   200.8,2,  123.06,2,   32.20,2,    0.00,2,    2.25,2,-999.000,9,-999.000,9,   0.023,3,  -999.0,9,  -999.0,9,-999.0000,9,-999.0000,9, -999.00,9, -999.00,9,  -999.0,9,  -999.0,-999.000,9,-999.000,   0.006,2,-999.0000,   0.7728,-999.0000,-999.000
  316N145_8,        I03,     481,          1,          4,          4,2,19950506,       1923,   -19.9988,    89.9827,       4650,  4463.8,   1.1118,  34.7138,2,  34.7125,2,    201.6,2,   201.8,2,  123.04,2,   32.16,2,    0.00,2,    2.25,2,   0.002,2,   0.000,2,  -0.001,3,  -999.0,9,  -999.0,9,-999.0000,9,-999.0000,9, -999.00,9, -999.00,9,  -999.0,9,  -999.0,-999.000,9,-999.000,   0.006,2,-999.0000,   0.7528,-999.0000,-999.000
  316N145_8,        I03,     481,          1,          3,          3,2,19950506,       1923,   -19.9988,    89.9827,       4650,  4669.4,   1.1309,  34.7134,2,  34.7117,2,    202.1,2,   201.8,2,  123.02,2,   32.21,2,    0.00,2,    2.25,2,-999.000,9,-999.000,9,-999.000,9,  -999.0,9,  -999.0,9,-999.0000,9,-999.0000,9, -999.00,9, -999.00,9,  -999.0,9,  -999.0,-999.000,9,-999.000,-999.000,9,-999.0000,   0.7478,-999.0000,-999.000
  316N145_8,        I03,     481,          1,          2,          2,2,19950506,       1923,   -19.9988,    89.9827,       4650,  4925.4,   1.1594,  34.7136,2,  34.7121,2,    202.6,2,   202.5,2,  123.23,2,   32.22,2,    0.00,2,    2.25,2,   0.002,2,  -0.001,2,  -0.025,3,  -999.0,9,  -999.0,9,-999.0000,9,-999.0000,9, -999.00,9, -999.00,9,  -999.0,9,  -999.0,-999.000,9,-999.000,   0.007,2,-999.0000,   0.7454,-999.0000,-999.000
  316N145_8,        I03,     481,          1,          1,          1,2,19950506,       1923,   -19.9988,    89.9827,       4650,  5217.0,   1.1959,  34.7130,2,  34.7123,2,    202.6,2,   202.4,2,  122.98,2,   32.22,2,    0.00,2,    2.25,2,   0.000,2,  -0.001,2,   0.025,3,  -999.0,9,  -999.0,9,-999.0000,9,-999.0000,9, -999.00,9, -999.00,9,  -999.0,9,  -999.0,-999.000,9,-999.000,   0.012,2,-999.0000,   0.7454,-999.0000,-999.000