BOTTLE,20140514CCHSIOSE
EXPOCODE,SECT_ID,STNNBR,CASTNO,SAMPNO,BTLNBR,BTLNBR_FLAG_W,DATE,TIME,LATITUDE,LONGITUDE,DEPTH,CTDPRS,CTDTMP,CTDSAL,CTDSAL_FLAG_W,SALNTY,SALNTY_FLAG_W,CTDOXY,CTDOXY_FLAG_W,OXYGEN,OXYGEN_FLAG_W,SILCAT,SILCAT_FLAG_W,NITRAT,NITRAT_FLAG_W,NITRIT,NITRIT_FLAG_W,PHSPHT,PHSPHT_FLAG_W,CFC-11,CFC-11_FLAG_W,CFC-12,CFC-12_FLAG_W,CFC113,CFC113_FLAG_W,TCARBN,TCARBN_FLAG_W,ALKALI,ALKALI_FLAG_W,TRITUM,TRITUM_FLAG_W,HELIUM,HELIUM_FLAG_W,DELHE3,DELHE3_FLAG_W,DELC13,DELC13_FLAG_W,DELC14,DELC14_FLAG_W,C14ERR,NEON,NEON_FLAG_W,NEONER,CCL4,CCL4_FLAG_W,HELIER,THETA,TRITER,DELHER
,,,,,,,,,,,METERS,DBAR,ITS-90,PSS-78,,PSS-78,,UMOL/KG,,UMOL/KG,,UMOL/KG,,UMOL/KG,,UMOL/KG,,UMOL/KG,,PMOL/KG,,PMOL/KG,,PMOL/KG,,UMOL/KG,,UMOL/KG,,TU,,NMOL/KG,,PERCNT,,/MILLE,,/MILLE,,/MILLE,NMOL/KG,,NMOL/KG,PMOL/KG,,NMOL/KG,DEG C,TU,PERCNT
  316N145_8,        I03,     467,          1,         36,         36,2,19950502,       0834,   -19.9997,    99.5832,       5785,    13.8,  25.6467,  35.4811,2,  35.4810,2,    205.9,2,   206.9,2,    2.89,2,    0.10,2,    0.00,2,    0.08,2,   1.857,2,   1.051,2,-999.000,9,  1985.4,6,  2324.0,6,-999.0000,9,-999.0000,9, -999.00,9, -999.00,9,  -999.0,9,  -999.0,-999.000,9,-999.000,-999.000,9,-999.0000,  25.6437,-999.0000,-999.000
  316N145_8,        I03,     467,          1,         35,         35,2,19950502,       0834,   -19.9997,    99.5832,       5785,    59.3,  24.5645,  35.5687,2,  35.5647,2,    207.3,2,   215.5,2,    3.34,2,    0.10,2,    0.00,2,    0.07,2,-999.000,9,-999.000,9,-999.000,9,  1990.2,2,  2329.0,2,-999.0000,9,-999.0000,9, -999.00,9, -999.00,9,  -999.0,9,  -999.0,-999.000,9,-999.000,-999.000,9,-999.0000,  24.5518,-999.0000,-999.000
  316N145_8,        I03,     467,          1,         34,         34,2,19950502,       0834,   -19.9997,    99.5832,       5785,   108.5,  20.5851,  35.7187,2,  35.7152,2,    206.6,2,   202.3,2,    3.79,2,    0.97,2,    0.11,2,    0.21,2,   2.264,2,   1.236,2,-999.000,9,  2039.8,2,  2339.0,2,-999.0000,9,-999.0000,9, -999.00,9, -999.00,9,  -999.0,9,  -999.0,-999.000,9,-999.000,-999.000,9,-999.0000,  20.5646,-999.0000,-999.000
  316N145_8,        I03,     467,          1,         33,         33,2,19950502,       0834,   -19.9997,    99.5832,       5785,   158.9,  18.9821,  35.8535,2,  35.8491,2,    202.5,2,   205.6,2,    3.32,2,    1.47,2,    0.02,2,    0.25,2,-999.000,9,-999.000,9,-999.000,9,  2061.2,2,  2350.0,2,-999.0000,9,-999.0000,9, -999.00,9, -999.00,9,  -999.0,9,  -999.0,-999.000,9,-999.000,-999.000,9,-999.0000,  18.9536,-999.0000,-999.000
  316N145_8,        I03,     467,          1,         32,         32,2,19950502,       0834,   -19.9997,    99.5832,       5785,   209.8,  17.3663,  35.7927,2,  35.7767,2,    198.5,2,   204.1,2,    3.77,2,    3.06,2,    0.01,2,    0.36,2,   2.503,2,   1.336,2,-999.000,9,  2079.6,2,  2346.0,2,-999.0000,9,-999.0000,9, -999.00,9, -999.00,9,  -999.0,9,  -999.0,-999.000,9,-999.000,-999.000,9,-999.0000,  17.3310,-999.0000,-999.000
  316N145_8,        I03,     467,          1,         31,         31,2,19950502,       0834,   -19.9997,    99.5832,       5785,   260.4,  15.3406,  35.6086,2,  35.5952,2,    214.6,2,   215.6,2,    3.53,2,    4.40,2,    0.01,2,    0.45,2,-999.000,9,-999.000,9,-999.000,9,  2087.5,2,  2339.0,2,-999.0000,9,-999.0000,9, -999.00,9, -999.00,9,  -999.0,9,  -999.0,-999.000,9,-999.000,-999.000,9,-999.0000,  15.3002,-999.0000,-999.000
  316N145_8,        I03,     467,          1,         30,         30,2,19950502,       0834,   -19.9997,    99.5832,       5785,   309.4,  13.4914,  35.3576,2,  35.3618,2,    223.3,2,   225.3,2,    3.30,2,    6.38,2,    0.01,2,    0.57,2,   2.986,2,   1.541,2,-999.000,9,  2094.4,2,  2326.0,2,-999.0000,9,-999.0000,9, -999.00,9, -999.00,9,  -999.0,9,  -999.0,-999.000,9,-999.000,-999.000,9,-999.0000,  13.4474,-999.0000,-999.000
  316N145_8,        I03,     467,          1,         29,         29,2,19950502,       0834,   -19.9997,    99.5832,       5785,   359.7,  12.1419,  35.1436,2,  35.1425,2,    230.0,2,   229.3,2,    3.75,2,    9.01,2,    0.00,2,    0.72,2,-999.000,9,-999.000,9,-999.000,9,  2100.9,2,  2316.0,2,-999.0000,9,-999.0000,9, -999.00,9, -999.00,9,  -999.0,9,  -999.0,-999.000,9,-999.000,-999.000,9,-999.0000,  12.0943,-999.0000,-999.000
  316N145_8,        I03,     467,          1,         28,         28,2,19950502,       0834,   -19.9997,    99.5832,       5785,   410.1,  10.7714,  34.9211,2,  34.9159,2,    235.3,2,   233.1,2,    4.65,2,   12.28,2,    0.00,2,    0.92,2,   3.109,2,   1.554,2,-999.000,9,  2108.0,2,  2305.0,2,-999.0000,9,-999.0000,9, -999.00,9, -999.00,9,  -999.0,9,  -999.0,-999.000,9,-999.000,-999.000,9,-999.0000,  10.7210,-999.0000,-999.000
  316N145_8,        I03,     467,          1,         27,         27,2,19950502,       0834,   -19.9997,    99.5832,       5785,   509.9,   9.3969,  34.7087,2,  34.7068,2,    230.5,2,   231.6,2,    6.24,2,   16.55,2,    0.00,2,    1.18,2,-999.000,9,-999.000,9,-999.000,9,  2117.6,2,  2296.0,2,-999.0000,9,-999.0000,9, -999.00,9, -999.00,9,  -999.0,9,  -999.0,-999.000,9,-999.000,-999.000,9,-999.0000,   9.3392,-999.0000,-999.000
  316N145_8,        I03,     467,          1,         26,         26,2,19950502,       0834,   -19.9997,    99.5832,       5785,   610.2,   7.5736,  34.5406,2,  34.5432,2,    192.2,2,   195.2,2,   18.81,2,   24.26,2,    0.00,2,    1.68,2,   1.208,2,   0.597,2,-999.000,9,  2157.2,2,  2298.0,2,-999.0000,9,-999.0000,9, -999.00,9, -999.00,9,  -999.0,9,  -999.0,-999.000,9,-999.000,-999.000,9,-999.0000,   7.5126,-999.0000,-999.000
  316N145_8,        I03,     467,          1,         25,         25,2,19950502,       0834,   -19.9997,    99.5832,       5785,   710.3,   5.8887,  34.4807,2,  34.4811,2,    162.5,2,   166.8,2,   39.16,2,   30.26,2,    0.00,2,    2.11,2,-999.000,9,-999.000,9,-999.000,9,  2200.1,2,  2314.0,2,-999.0000,9,-999.0000,9, -999.00,9, -999.00,9,  -999.0,9,  -999.0,-999.000,9,-999.000,-999.000,9,-999.0000,   5.8263,-999.0000,-999.000
  316N145_8,        I03,     467,          1,         24,         24,2,19950502,       0834,   -19.9997,    99.5832,       5785,   812.5,   5.1143,  34.5304,2,  34.5377,2,    125.0,2,   131.5,2,   64.11,2,   33.98,2,    0.00,2,    2.42,2,   0.069,2,   0.040,2,-999.000,9,  2243.8,2,  2336.0,2,-999.0000,9,-999.0000,9, -999.00,9, -999.00,9,  -999.0,9,  -999.0,-999.000,9,-999.000,-999.000,9,-999.0000,   5.0470,-999.0000,-999.000
  316N145_8,        I03,     467,          1,         23,         23,2,19950502,       0834,   -19.9997,    99.5832,       5785,   913.0,   5.0407,  34.6123,2,  34.6130,2,    104.4,2,   105.5,2,   82.93,2,   35.75,2,    0.00,2,    2.59,2,   0.009,2,   0.004,2,-999.000,9,  2274.0,2,  2358.0,2,-999.0000,9,-999.0000,9, -999.00,9, -999.00,9,  -999.0,9,  -999.0,-999.000,9,-999.000,-999.000,9,-999.0000,   4.9648,-999.0000,-999.000
  316N145_8,        I03,     467,          1,         22,         22,2,19950502,       0834,   -19.9997,    99.5832,       5785,  1012.7,   4.6129,  34.6190,2,  34.6185,2,    111.7,2,   110.5,2,   86.62,2,   35.75,2,    0.00,2,    2.60,2,   0.003,2,   0.005,2,-999.000,9,  2277.0,2,  2360.0,2,-999.0000,9,-999.0000,9, -999.00,9, -999.00,9,  -999.0,9,  -999.0,-999.000,9,-999.000,-999.000,9,-999.0000,   4.5312,-999.0000,-999.000
  316N145_8,        I03,     467,          1,         21,         21,2,19950502,       0834,   -19.9997,    99.5832,       5785,  1114.4,   4.3015,  34.6481,2,  34.6476,2,    108.7,2,   108.9,2,   94.48,2,   35.96,2,    0.00,2,    2.62,2,   0.004,2,   0.000,2,-999.000,9,  2287.9,2,  2371.0,2,-999.0000,9,-999.0000,9, -999.00,9, -999.00,9,  -999.0,9,  -999.0,-999.000,9,-999.000,-999.000,9,-999.0000,   4.2134,-999.0000,-999.000
  316N145_8,        I03,     467,          1,         20,         20,2,19950502,       0834,   -19.9997,    99.5832,       5785,  1214.7,   3.9948,  34.6504,2,  34.6507,2,    115.5,2,   116.9,2,   94.02,2,   35.75,2,    0.00,2,    2.59,2,-999.000,9,-999.000,9,-999.000,9,  2285.3,2,  2369.0,2,-999.0000,9,-999.0000,9, -999.00,9, -999.00,9,  -999.0,9,  -999.0,-999.000,9,-999.000,-999.000,9,-999.0000,   3.9007,-999.0000,-999.000
  316N145_8,        I03,     467,          1,         19,         19,2,19950502,       0834,   -19.9997,    99.5832,       5785,  1416.9,   3.4248,  34.6668,2,  34.6672,2,    127.6,2,   128.0,2,   98.65,2,   35.25,2,    0.00,2,    2.55,2,-999.000,9,-999.000,9,-999.000,9,  2286.4,2,  2374.0,2,-999.0000,9,-999.0000,9, -999.00,9, -999.00,9,  -999.0,9,  -999.0,-999.000,9,-999.000,-999.000,9,-999.0000,   3.3190,-999.0000,-999.000
  316N145_8,        I03,     467,          1,         18,         18,2,19950502,       0834,   -19.9997,    99.5832,       5785,  1618.5,   2.9627,  34.6903,2,  34.6905,2,    139.4,2,   139.5,2,  102.83,2,   34.74,2,    0.00,2,    2.50,2,-999.000,9,-999.000,9,-999.000,9,  2286.3,2,  2381.0,2,-999.0000,9,-999.0000,9, -999.00,9, -999.00,9,  -999.0,9,  -999.0,-999.000,9,-999.000,-999.000,9,-999.0000,   2.8450,-999.0000,-999.000
  316N145_8,        I03,     467,          1,         17,         17,2,19950502,       0834,   -19.9997,    99.5832,       5785,  1821.0,   2.5767,  34.7104,2,  34.7100,2,    148.4,2,   147.7,2,  108.66,2,   34.29,2,    0.00,2,    2.46,2,-999.000,9,-999.000,9,-999.000,9,  2287.9,2,  2384.0,2,-999.0000,9,-999.0000,9, -999.00,9, -999.00,9,  -999.0,9,  -999.0,-999.000,9,-999.000,-999.000,9,-999.0000,   2.4467,-999.0000,-999.000
  316N145_8,        I03,     467,          1,         16,         16,2,19950502,       0834,   -19.9997,    99.5832,       5785,  2023.1,   2.2845,  34.7212,2,  34.7208,2,    155.3,2,   154.5,2,  113.81,2,   34.04,2,    0.00,2,    2.43,2,-999.000,9,-999.000,9,-999.000,9,  2289.7,2,  2393.0,2,-999.0000,9,-999.0000,9, -999.00,9, -999.00,9,  -999.0,9,  -999.0,-999.000,9,-999.000,-999.000,9,-999.0000,   2.1415,-999.0000,-999.000
  316N145_8,        I03,     467,          1,         15,         15,2,19950502,       0834,   -19.9997,    99.5832,       5785,  2227.3,   2.0545,  34.7246,2,  34.7243,2,    161.9,2,   161.2,2,  117.10,2,   33.83,2,    0.00,2,    2.40,2,-999.000,9,-999.000,9,-999.000,9,  2290.0,2,  2394.0,2,-999.0000,9,-999.0000,9, -999.00,9, -999.00,9,  -999.0,9,  -999.0,-999.000,9,-999.000,-999.000,9,-999.0000,   1.8974,-999.0000,-999.000
  316N145_8,        I03,     467,          1,         14,         14,2,19950502,       0834,   -19.9997,    99.5832,       5785,  2427.6,   1.8903,  34.7259,2,  34.7255,2,    163.7,2,   165.5,2,  119.93,2,   33.63,2,    0.00,2,    2.38,2,-999.000,9,-999.000,9,-999.000,9,  2290.7,2,  2397.0,2,-999.0000,9,-999.0000,9, -999.00,9, -999.00,9,  -999.0,9,  -999.0,-999.000,9,-999.000,-999.000,9,-999.0000,   1.7183,-999.0000,-999.000
  316N145_8,        I03,     467,          1,         13,         13,2,19950502,       0834,   -19.9997,    99.5832,       5785,  2633.2,   1.7553,  34.7257,2,  34.7261,2,    171.9,2,   170.2,2,  120.88,2,   33.43,2,    0.00,2,    2.37,2,-999.000,9,-999.000,9,-999.000,9,  2289.4,2,  2398.0,2,-999.0000,9,-999.0000,9, -999.00,9, -999.00,9,  -999.0,9,  -999.0,-999.000,9,-999.000,-999.000,9,-999.0000,   1.5672,-999.0000,-999.000
  316N145_8,        I03,     467,          1,         12,         12,2,19950502,       0834,   -19.9997,    99.5832,       5785,  2835.6,   1.6389,  34.7249,2,  34.7259,2,    175.0,2,   174.1,2,  122.54,2,   33.38,2,    0.00,2,    2.35,2,-999.000,9,-999.000,9,-999.000,9,  2287.9,2,  2396.0,2,-999.0000,9,-999.0000,9, -999.00,9, -999.00,9,  -999.0,9,  -999.0,-999.000,9,-999.000,-999.000,9,-999.0000,   1.4344,-999.0000,-999.000
  316N145_8,        I03,     467,          1,         11,         11,2,19950502,       0834,   -19.9997,    99.5832,       5785,  3040.2,   1.5320,  34.7230,2,  34.7233,2,    176.3,2,   176.2,2,  125.62,2,   33.38,2,    0.00,2,    2.35,2,-999.000,9,-999.000,9,-999.000,9,  2290.2,6,  2401.5,6,-999.0000,9,-999.0000,9, -999.00,9, -999.00,9,  -999.0,9,  -999.0,-999.000,9,-999.000,-999.000,9,-999.0000,   1.3104,-999.0000,-999.000
  316N145_8,        I03,     467,          1,         10,         10,2,19950502,       0834,   -19.9997,    99.5832,       5785,  3293.0,   1.4221,  34.7207,2,  34.7210,2,    179.9,2,   180.3,2,  126.81,2,   33.28,2,    0.00,2,    2.34,2,-999.000,9,-999.000,9,-999.000,9,  2288.7,2,  2401.0,2,-999.0000,9,-999.0000,9, -999.00,9, -999.00,9,  -999.0,9,  -999.0,-999.000,9,-999.000,-999.000,9,-999.0000,   1.1785,-999.0000,-999.000
  316N145_8,        I03,     467,          1,          9,          9,2,19950502,       0834,   -19.9997,    99.5832,       5785,  3548.2,   1.3155,  34.7177,2,  34.7176,2,    184.5,2,   184.5,2,  128.24,2,   33.23,2,    0.00,2,    2.32,2,-999.000,9,-999.000,9,-999.000,9,  2287.9,2,  2397.0,2,-999.0000,9,-999.0000,9, -999.00,9, -999.00,9,  -999.0,9,  -999.0,-999.000,9,-999.000,-999.000,9,-999.0000,   1.0489,-999.0000,-999.000
  316N145_8,        I03,     467,          1,          8,          8,2,19950502,       0834,   -19.9997,    99.5832,       5785,  3803.4,   1.2602,  34.7164,2,  34.7157,2,    187.0,2,   188.0,2,  127.78,2,   33.08,2,    0.00,2,    2.31,2,-999.000,9,-999.000,9,-999.000,9,  2284.7,2,  2401.0,2,-999.0000,9,-999.0000,9, -999.00,9, -999.00,9,  -999.0,9,  -999.0,-999.000,9,-999.000,-999.000,9,-999.0000,   0.9688,-999.0000,-999.000
  316N145_8,        I03,     467,          1,          7,          7,2,19950502,       0834,   -19.9997,    99.5832,       5785,  4058.0,   1.2006,  34.7154,2,  34.7153,2,    193.3,2,   193.4,2,  126.13,2,   32.78,2,    0.00,2,    2.28,2,-999.000,9,-999.000,9,-999.000,9,  2279.9,2,  2394.0,2,-999.0000,9,-999.0000,9, -999.00,9, -999.00,9,  -999.0,9,  -999.0,-999.000,9,-999.000,-999.000,9,-999.0000,   0.8838,-999.0000,-999.000
  316N145_8,        I03,     467,          1,          6,          6,2,19950502,       0834,   -19.9997,    99.5832,       5785,  4364.8,   1.1509,  34.7133,2,  34.7125,2,    196.1,2,   196.8,2,  126.61,2,   32.58,2,    0.00,2,    2.26,2,-999.000,9,-999.000,9,-999.000,9,  2278.3,2,  2396.0,2,-999.0000,9,-999.0000,9, -999.00,9, -999.00,9,  -999.0,9,  -999.0,-999.000,9,-999.000,-999.000,9,-999.0000,   0.8018,-999.0000,-999.000
  316N145_8,        I03,     467,          1,          5,          5,2,19950502,       0834,   -19.9997,    99.5832,       5785,  4673.5,   1.1276,  34.7118,2,  34.7117,2,    199.9,2,   200.2,2,  125.43,2,   32.48,2,    0.00,2,    2.25,2,-999.000,9,-999.000,9,-999.000,9,  2275.1,2,  2389.0,2,-999.0000,9,-999.0000,9, -999.00,9, -999.00,9,  -999.0,9,  -999.0,-999.000,9,-999.000,-999.000,9,-999.0000,   0.7442,-999.0000,-999.000
  316N145_8,        I03,     467,          1,          4,          4,2,19950502,       0834,   -19.9997,    99.5832,       5785,  4981.4,   1.1227,  34.7115,2,  34.7111,2,    202.1,2,   202.0,2,  125.20,2,   32.43,2,    0.00,2,    2.25,2,-999.000,9,-999.000,9,-999.000,9,  2271.1,2,  2390.0,2,-999.0000,9,-999.0000,9, -999.00,9, -999.00,9,  -999.0,9,  -999.0,-999.000,9,-999.000,-999.000,9,-999.0000,   0.7033,-999.0000,-999.000
  316N145_8,        I03,     467,          1,          3,          3,2,19950502,       0834,   -19.9997,    99.5832,       5785,  5289.2,   1.1194,  34.7100,2,  34.7108,2,    205.2,2,   204.8,2,  124.03,2,   32.28,2,    0.00,2,    2.24,2,-999.000,9,-999.000,9,-999.000,9,  2267.2,2,  2381.0,2,-999.0000,9,-999.0000,9, -999.00,9, -999.00,9,  -999.0,9,  -999.0,-999.000,9,-999.000,-999.000,9,-999.0000,   0.6628,-999.0000,-999.000
  316N145_8,        I03,     467,          1,          2,          2,2,19950502,       0834,   -19.9997,    99.5832,       5785,  5598.2,   1.1464,  34.7097,2,  34.7090,2,    204.5,2,   205.4,2,  123.80,2,   32.29,2,    0.00,2,    2.23,2,   0.002,2,   0.002,2,-999.000,9,  2265.8,2,  2383.0,2,-999.0000,9,-999.0000,9, -999.00,9, -999.00,9,  -999.0,9,  -999.0,-999.000,9,-999.000,-999.000,9,-999.0000,   0.6502,-999.0000,-999.000
  316N145_8,        I03,     467,          1,          1,          1,2,19950502,       0834,   -19.9997,    99.5832,       5785,  5926.8,   1.1840,  34.7093,2,  34.7094,2,    206.4,2,   203.4,3,  123.81,2,   32.19,2,    0.00,2,    2.23,2,   0.002,2,   0.002,2,-999.000,9,  2267.3,2,  2380.0,2,-999.0000,9,-999.0000,9, -999.00,9, -999.00,9,  -999.0,9,  -999.0,-999.000,9,-999.000,-999.000,9,-999.0000,   0.6439,-999.0000,-999.000