BOTTLE,20140514CCHSIOSE
EXPOCODE,SECT_ID,STNNBR,CASTNO,SAMPNO,BTLNBR,BTLNBR_FLAG_W,DATE,TIME,LATITUDE,LONGITUDE,DEPTH,CTDPRS,CTDTMP,CTDSAL,CTDSAL_FLAG_W,SALNTY,SALNTY_FLAG_W,CTDOXY,CTDOXY_FLAG_W,OXYGEN,OXYGEN_FLAG_W,SILCAT,SILCAT_FLAG_W,NITRAT,NITRAT_FLAG_W,NITRIT,NITRIT_FLAG_W,PHSPHT,PHSPHT_FLAG_W,CFC-11,CFC-11_FLAG_W,CFC-12,CFC-12_FLAG_W,CFC113,CFC113_FLAG_W,TCARBN,TCARBN_FLAG_W,ALKALI,ALKALI_FLAG_W,TRITUM,TRITUM_FLAG_W,HELIUM,HELIUM_FLAG_W,DELHE3,DELHE3_FLAG_W,DELC13,DELC13_FLAG_W,DELC14,DELC14_FLAG_W,C14ERR,NEON,NEON_FLAG_W,NEONER,CCL4,CCL4_FLAG_W,HELIER,THETA,TRITER,DELHER
,,,,,,,,,,,METERS,DBAR,ITS-90,PSS-78,,PSS-78,,UMOL/KG,,UMOL/KG,,UMOL/KG,,UMOL/KG,,UMOL/KG,,UMOL/KG,,PMOL/KG,,PMOL/KG,,PMOL/KG,,UMOL/KG,,UMOL/KG,,TU,,NMOL/KG,,PERCNT,,/MILLE,,/MILLE,,/MILLE,NMOL/KG,,NMOL/KG,PMOL/KG,,NMOL/KG,DEG C,TU,PERCNT
  316N145_8,        I03,     472,          1,         36,         36,2,19950504,       0005,   -20.0003,    95.1838,       5250,     6.8,  25.1950,  35.2181,2,  35.2173,2,    206.1,2,   207.0,2,    3.12,2,    0.03,2,    0.00,2,    0.10,2,   1.883,2,   1.075,2,-999.000,9,  1963.2,2,  -999.0,5,-999.0000,9,-999.0000,9, -999.00,9, -999.00,9,  -999.0,9,  -999.0,-999.000,9,-999.000,-999.000,9,-999.0000,  25.1935,-999.0000,-999.000
  316N145_8,        I03,     472,          1,         35,         35,2,19950504,       0005,   -20.0003,    95.1838,       5250,    57.4,  24.8624,  35.4702,2,  35.4733,2,    213.5,2,   210.2,2,    3.10,2,    0.04,2,    0.00,2,    0.08,2,   1.945,2,   1.096,2,-999.000,9,  1983.3,6,  2321.5,6,-999.0000,9,-999.0000,9, -999.00,9, -999.00,9,  -999.0,9,  -999.0,-999.000,9,-999.000,-999.000,9,-999.0000,  24.8500,-999.0000,-999.000
  316N145_8,        I03,     472,          1,         34,         34,2,19950504,       0005,   -20.0003,    95.1838,       5250,   107.1,  20.8879,  35.6826,2,  35.6772,2,    212.6,2,   210.6,2,    3.73,2,    0.07,2,    0.07,2,    0.16,2,   2.262,2,   1.265,2,-999.000,9,  2025.7,2,  -999.0,5,-999.0000,9,-999.0000,9, -999.00,9, -999.00,9,  -999.0,9,  -999.0,-999.000,9,-999.000,-999.000,9,-999.0000,  20.8674,-999.0000,-999.000
  316N145_8,        I03,     472,          1,         33,         33,2,19950504,       0005,   -20.0003,    95.1838,       5250,   157.8,  19.3947,  35.8239,2,  35.8239,2,    206.3,2,   200.1,2,    3.93,2,    1.85,2,    0.02,2,    0.27,2,   2.367,2,   1.288,2,-999.000,9,  2059.5,2,  2348.0,2,-999.0000,9,-999.0000,9, -999.00,9, -999.00,9,  -999.0,9,  -999.0,-999.000,9,-999.000,-999.000,9,-999.0000,  19.3660,-999.0000,-999.000
  316N145_8,        I03,     472,          1,         32,         32,2,19950504,       0005,   -20.0003,    95.1838,       5250,   207.5,  17.5303,  35.7449,2,  35.7453,2,    197.9,2,   193.7,2,    5.20,2,    3.97,2,    0.00,2,    0.42,2,   2.394,2,   1.284,2,-999.000,9,  2081.2,2,  2345.0,2,-999.0000,9,-999.0000,9, -999.00,9, -999.00,9,  -999.0,9,  -999.0,-999.000,9,-999.000,-999.000,9,-999.0000,  17.4952,-999.0000,-999.000
  316N145_8,        I03,     472,          1,         31,         31,2,19950504,       0005,   -20.0003,    95.1838,       5250,   258.4,  16.0233,  35.6590,2,  35.6658,2,    206.4,2,   203.3,2,    4.75,2,    4.47,2,    0.00,2,    0.46,2,   2.573,2,   1.354,2,-999.000,9,  2095.2,2,  2342.0,2,-999.0000,9,-999.0000,9, -999.00,9, -999.00,9,  -999.0,9,  -999.0,-999.000,9,-999.000,-999.000,9,-999.0000,  15.9821,-999.0000,-999.000
  316N145_8,        I03,     472,          1,         30,         30,2,19950504,       0005,   -20.0003,    95.1838,       5250,   307.2,  14.5068,  35.4777,2,  35.4653,2,    213.9,2,   212.9,2,    4.31,2,    6.05,2,    0.00,2,    0.56,2,   2.753,2,   1.429,2,-999.000,9,  2095.5,2,  2332.0,2,-999.0000,9,-999.0000,9, -999.00,9, -999.00,9,  -999.0,9,  -999.0,-999.000,9,-999.000,-999.000,9,-999.0000,  14.4610,-999.0000,-999.000
  316N145_8,        I03,     472,          1,         29,         29,2,19950504,       0005,   -20.0003,    95.1838,       5250,   358.0,  12.7534,  35.2215,2,  35.2138,2,    220.1,2,   220.8,2,    4.51,2,    8.66,2,    0.00,2,    0.71,2,   2.903,2,   1.486,2,-999.000,9,  2104.2,2,  2319.0,2,-999.0000,9,-999.0000,9, -999.00,9, -999.00,9,  -999.0,9,  -999.0,-999.000,9,-999.000,-999.000,9,-999.0000,  12.7044,-999.0000,-999.000
  316N145_8,        I03,     472,          1,         28,         28,2,19950504,       0005,   -20.0003,    95.1838,       5250,   409.0,  11.5824,  35.0429,2,  35.0328,2,    221.0,2,   224.5,2,    5.14,2,   11.07,2,    0.00,2,    0.86,2,   2.862,2,   1.454,2,-999.000,9,  2107.2,2,  2315.0,2,-999.0000,9,-999.0000,9, -999.00,9, -999.00,9,  -999.0,9,  -999.0,-999.000,9,-999.000,-999.000,9,-999.0000,  11.5297,-999.0000,-999.000
  316N145_8,        I03,     472,          1,         27,         27,2,19950504,       0005,   -20.0003,    95.1838,       5250,   508.4,   9.4617,  34.7260,2,  34.7331,2,    215.9,2,   220.1,2,    8.76,2,   16.93,2,    0.00,2,    1.22,2,   2.511,2,   1.249,2,-999.000,9,  2124.8,2,  2299.0,2,-999.0000,9,-999.0000,9, -999.00,9, -999.00,9,  -999.0,9,  -999.0,-999.000,9,-999.000,-999.000,9,-999.0000,   9.4040,-999.0000,-999.000
  316N145_8,        I03,     472,          1,         26,         26,2,19950504,       0005,   -20.0003,    95.1838,       5250,   609.1,   7.6359,  34.5475,2,  34.5501,2,    198.8,2,   195.5,2,   18.36,2,   23.89,2,    0.00,2,    1.66,2,   1.177,2,   0.589,2,-999.000,9,  2155.9,2,  2297.0,2,-999.0000,9,-999.0000,9, -999.00,9, -999.00,9,  -999.0,9,  -999.0,-999.000,9,-999.000,-999.000,9,-999.0000,   7.5747,-999.0000,-999.000
  316N145_8,        I03,     472,          1,         25,         25,2,19950504,       0005,   -20.0003,    95.1838,       5250,   710.7,   6.1633,  34.5104,2,  34.5113,2,    163.7,2,   157.4,2,   40.98,2,   30.19,2,    0.00,2,    2.12,2,   0.268,2,   0.138,2,-999.000,9,  2205.2,2,  2312.0,2,-999.0000,9,-999.0000,9, -999.00,9, -999.00,9,  -999.0,9,  -999.0,-999.000,9,-999.000,-999.000,9,-999.0000,   6.0992,-999.0000,-999.000
  316N145_8,        I03,     472,          1,         24,         24,2,19950504,       0005,   -20.0003,    95.1838,       5250,   810.1,   5.6647,  34.5932,2,  34.5948,2,    119.8,2,   113.9,2,   68.11,2,   34.28,2,    0.00,2,    2.46,2,   0.024,2,   0.016,2,-999.000,9,  2254.2,2,  2342.0,2,-999.0000,9,-999.0000,9, -999.00,9, -999.00,9,  -999.0,9,  -999.0,-999.000,9,-999.000,-999.000,9,-999.0000,   5.5941,-999.0000,-999.000
  316N145_8,        I03,     472,          1,         23,         23,2,19950504,       0005,   -20.0003,    95.1838,       5250,   910.7,   5.2739,  34.6350,2,  34.6415,2,    104.4,2,   100.0,2,   82.45,2,   35.54,2,    0.00,2,    2.58,2,   0.007,2,   0.000,2,-999.000,9,  2275.6,2,  2355.0,2,-999.0000,9,-999.0000,9, -999.00,9, -999.00,9,  -999.0,9,  -999.0,-999.000,9,-999.000,-999.000,9,-999.0000,   5.1965,-999.0000,-999.000
  316N145_8,        I03,     472,          1,         22,         22,2,19950504,       0005,   -20.0003,    95.1838,       5250,  1010.2,   4.9542,  34.6535,2,  34.6535,2,     99.6,2,    99.3,2,   89.08,2,   35.90,2,    0.00,2,    2.61,2,   0.006,2,  -0.001,2,-999.000,9,  2284.7,2,  2365.0,2,-999.0000,9,-999.0000,9, -999.00,9, -999.00,9,  -999.0,9,  -999.0,-999.000,9,-999.000,-999.000,9,-999.0000,   4.8700,-999.0000,-999.000
  316N145_8,        I03,     472,          1,         21,         21,2,19950504,       0005,   -20.0003,    95.1838,       5250,  1111.6,   4.5827,  34.6558,2,  34.6563,2,    103.4,2,   103.6,2,   92.70,2,   36.00,2,    0.00,2,    2.61,2,  -0.001,2,   0.001,2,-999.000,9,  2286.5,2,  2365.0,2,-999.0000,9,-999.0000,9, -999.00,9, -999.00,9,  -999.0,9,  -999.0,-999.000,9,-999.000,-999.000,9,-999.0000,   4.4925,-999.0000,-999.000
  316N145_8,        I03,     472,          1,         20,         20,2,19950504,       0005,   -20.0003,    95.1838,       5250,  1211.0,   4.2715,  34.6615,2,  34.6622,2,    109.2,2,   110.7,2,   94.16,2,   35.85,2,    0.00,2,    2.60,2,  -0.002,2,  -0.002,2,-999.000,9,  2292.8,2,  2368.0,2,-999.0000,9,-999.0000,9, -999.00,9, -999.00,9,  -999.0,9,  -999.0,-999.000,9,-999.000,-999.000,9,-999.0000,   4.1752,-999.0000,-999.000
  316N145_8,        I03,     472,          1,         19,         19,2,19950504,       0005,   -20.0003,    95.1838,       5250,  1416.2,   3.6349,  34.6716,2,  34.6708,2,    121.5,2,   121.9,2,   98.87,2,   35.55,2,    0.00,2,    2.57,2,-999.000,9,-999.000,9,-999.000,9,  2289.0,2,  2374.0,2,-999.0000,9,-999.0000,9, -999.00,9, -999.00,9,  -999.0,9,  -999.0,-999.000,9,-999.000,-999.000,9,-999.0000,   3.5269,-999.0000,-999.000
  316N145_8,        I03,     472,          1,         18,         18,2,19950504,       0005,   -20.0003,    95.1838,       5250,  1616.1,   3.1323,  34.6953,2,  34.6954,2,    134.8,2,   133.9,2,  103.15,2,   34.95,2,    0.00,2,    2.51,2,   0.000,2,   0.001,2,-999.000,9,  2289.8,2,  2379.0,2,-999.0000,9,-999.0000,9, -999.00,9, -999.00,9,  -999.0,9,  -999.0,-999.000,9,-999.000,-999.000,9,-999.0000,   3.0128,-999.0000,-999.000
  316N145_8,        I03,     472,          1,         17,         17,2,19950504,       0005,   -20.0003,    95.1838,       5250,  1819.2,   2.7230,  34.7088,2,  34.7083,2,    142.3,2,   143.7,2,  107.67,2,   34.55,2,    0.00,2,    2.47,2,-999.000,9,-999.000,9,-999.000,9,  2290.7,2,  2382.0,2,-999.0000,9,-999.0000,9, -999.00,9, -999.00,9,  -999.0,9,  -999.0,-999.000,9,-999.000,-999.000,9,-999.0000,   2.5912,-999.0000,-999.000
  316N145_8,        I03,     472,          1,         16,         16,2,19950504,       0005,   -20.0003,    95.1838,       5250,  2020.2,   2.4039,  34.7192,2,  34.7185,2,    152.4,2,   151.6,2,  112.20,2,   34.15,2,    0.00,2,    2.43,2,-999.000,9,-999.000,9,-999.000,9,  2290.8,2,  2388.0,2,-999.0000,9,-999.0000,9, -999.00,9, -999.00,9,  -999.0,9,  -999.0,-999.000,9,-999.000,-999.000,9,-999.0000,   2.2592,-999.0000,-999.000
  316N145_8,        I03,     472,          1,         15,         15,2,19950504,       0005,   -20.0003,    95.1838,       5250,  2222.9,   2.1651,  34.7234,2,  34.7221,2,    157.9,2,   157.6,2,  116.31,2,   33.90,2,    0.00,2,    2.41,2,-999.000,9,-999.000,9,-999.000,9,  2291.9,2,  2389.0,2,-999.0000,9,-999.0000,9, -999.00,9, -999.00,9,  -999.0,9,  -999.0,-999.000,9,-999.000,-999.000,9,-999.0000,   2.0065,-999.0000,-999.000
  316N145_8,        I03,     472,          1,         14,         14,2,19950504,       0005,   -20.0003,    95.1838,       5250,  2425.9,   1.9848,  34.7259,2,  34.7258,2,    163.3,2,   163.8,2,  118.22,2,   33.60,2,    0.00,2,    2.38,2,   0.002,2,   0.000,2,-999.000,9,  2290.0,2,  2395.0,2,-999.0000,9,-999.0000,9, -999.00,9, -999.00,9,  -999.0,9,  -999.0,-999.000,9,-999.000,-999.000,9,-999.0000,   1.8112,-999.0000,-999.000
  316N145_8,        I03,     472,          1,         13,         13,2,19950504,       0005,   -20.0003,    95.1838,       5250,  2630.4,   1.8449,  34.7262,2,  34.7266,2,    169.4,2,   168.7,2,  119.26,2,   33.36,2,    0.00,2,    2.35,2,-999.000,9,-999.000,9,-999.000,9,  2288.7,2,  2392.0,2,-999.0000,9,-999.0000,9, -999.00,9, -999.00,9,  -999.0,9,  -999.0,-999.000,9,-999.000,-999.000,9,-999.0000,   1.6553,-999.0000,-999.000
  316N145_8,        I03,     472,          1,         12,         12,2,19950504,       0005,   -20.0003,    95.1838,       5250,  2832.1,   1.7331,  34.7260,2,  34.7265,2,    172.8,2,   171.3,2,  121.84,2,   33.31,2,    0.00,2,    2.35,2,   0.001,2,   0.002,2,-999.000,9,  2290.1,2,  2397.0,6,-999.0000,9,-999.0000,9, -999.00,9, -999.00,9,  -999.0,9,  -999.0,-999.000,9,-999.000,-999.000,9,-999.0000,   1.5269,-999.0000,-999.000
  316N145_8,        I03,     472,          1,         11,         11,2,19950504,       0005,   -20.0003,    95.1838,       5250,  3035.6,   1.6108,  34.7246,2,  34.7249,2,    175.9,2,   174.6,2,  124.21,2,   33.31,2,    0.00,2,    2.34,2,-999.000,9,-999.000,9,-999.000,9,  2290.3,2,  2398.0,2,-999.0000,9,-999.0000,9, -999.00,9, -999.00,9,  -999.0,9,  -999.0,-999.000,9,-999.000,-999.000,9,-999.0000,   1.3879,-999.0000,-999.000
  316N145_8,        I03,     472,          1,         10,         10,2,19950504,       0005,   -20.0003,    95.1838,       5250,  3240.0,   1.5297,  34.7229,2,  34.7226,2,    176.5,2,   175.6,2,  127.03,2,   33.36,2,    0.00,2,    2.34,2,  -0.001,2,   0.002,2,-999.000,9,  2292.6,2,  2403.0,2,-999.0000,9,-999.0000,9, -999.00,9, -999.00,9,  -999.0,9,  -999.0,-999.000,9,-999.000,-999.000,9,-999.0000,   1.2887,-999.0000,-999.000
  316N145_8,        I03,     472,          1,          9,          9,2,19950504,       0005,   -20.0003,    95.1838,       5250,  3443.3,   1.4493,  34.7212,2,  34.7200,2,    179.2,2,   178.6,2,  127.85,2,   33.32,2,    0.00,2,    2.34,2,-999.000,9,-999.000,9,-999.000,9,  2291.6,2,  2400.0,2,-999.0000,9,-999.0000,9, -999.00,9, -999.00,9,  -999.0,9,  -999.0,-999.000,9,-999.000,-999.000,9,-999.0000,   1.1900,-999.0000,-999.000
  316N145_8,        I03,     472,          1,          8,          8,2,19950504,       0005,   -20.0003,    95.1838,       5250,  3647.1,   1.3633,  34.7197,2,  34.7187,2,    184.1,2,   184.4,2,  126.67,2,   33.02,2,    0.00,2,    2.31,2,-999.000,9,-999.000,9,-999.000,9,  2285.8,2,  2399.0,2,-999.0000,9,-999.0000,9, -999.00,9, -999.00,9,  -999.0,9,  -999.0,-999.000,9,-999.000,-999.000,9,-999.0000,   1.0853,-999.0000,-999.000
  316N145_8,        I03,     472,          1,          7,          7,2,19950504,       0005,   -20.0003,    95.1838,       5250,  3850.5,   1.2837,  34.7174,2,  34.7173,2,    188.3,2,   188.9,2,  126.15,2,   32.77,2,    0.00,2,    2.29,2,   0.003,3,   0.007,4,-999.000,9,  2281.5,2,  -999.0,5,-999.0000,9,-999.0000,9, -999.00,9, -999.00,9,  -999.0,9,  -999.0,-999.000,9,-999.000,-999.000,9,-999.0000,   0.9866,-999.0000,-999.000
  316N145_8,        I03,     472,          1,          6,          6,2,19950504,       0005,   -20.0003,    95.1838,       5250,  4055.7,   1.2092,  34.7165,2,  34.7154,2,    194.1,2,   194.4,2,  124.52,2,   32.47,2,    0.00,2,    2.26,2,  -0.003,2,  -0.001,2,-999.000,9,  2277.5,2,  2392.0,2,-999.0000,9,-999.0000,9, -999.00,9, -999.00,9,  -999.0,9,  -999.0,-999.000,9,-999.000,-999.000,9,-999.0000,   0.8924,-999.0000,-999.000
  316N145_8,        I03,     472,          1,          5,          5,2,19950504,       0005,   -20.0003,    95.1838,       5250,  4311.6,   1.1227,  34.7139,2,  34.7128,2,    199.6,2,   200.0,2,  123.57,2,   32.18,2,    0.00,2,    2.26,2,  -0.001,2,   0.000,2,-999.000,9,  2272.0,2,  2385.0,2,-999.0000,9,-999.0000,9, -999.00,9, -999.00,9,  -999.0,9,  -999.0,-999.000,9,-999.000,-999.000,9,-999.0000,   0.7804,-999.0000,-999.000
  316N145_8,        I03,     472,          1,          4,          4,2,19950504,       0005,   -20.0003,    95.1838,       5250,  4567.1,   1.0798,  34.7118,2,  34.7107,2,    202.5,2,   202.8,2,  123.27,2,   32.18,2,    0.00,2,    2.23,2,  -0.001,2,   0.002,2,-999.000,9,  2270.0,2,  2384.0,2,-999.0000,9,-999.0000,9, -999.00,9, -999.00,9,  -999.0,9,  -999.0,-999.000,9,-999.000,-999.000,9,-999.0000,   0.7101,-999.0000,-999.000
  316N145_8,        I03,     472,          1,          3,          3,2,19950504,       0005,   -20.0003,    95.1838,       5250,  4822.9,   1.0791,  34.7109,2,  34.7099,2,    203.4,2,   204.2,2,  123.42,2,   32.13,2,    0.00,2,    2.24,2,   0.000,2,   0.000,2,-999.000,9,  2268.0,2,  2381.0,2,-999.0000,9,-999.0000,9, -999.00,9, -999.00,9,  -999.0,9,  -999.0,-999.000,9,-999.000,-999.000,9,-999.0000,   0.6799,-999.0000,-999.000
  316N145_8,        I03,     472,          1,          2,          2,2,19950504,       0005,   -20.0003,    95.1838,       5250,  5078.5,   1.0984,  34.7109,2,  34.7101,2,    203.8,2,   204.3,2,  123.57,2,   32.14,2,    0.00,2,    2.25,3,   0.002,2,   0.001,2,-999.000,9,  2268.0,2,  2382.0,2,-999.0000,9,-999.0000,9, -999.00,9, -999.00,9,  -999.0,9,  -999.0,-999.000,9,-999.000,-999.000,9,-999.0000,   0.6682,-999.0000,-999.000
  316N145_8,        I03,     472,          1,          1,          1,2,19950504,       0005,   -20.0003,    95.1838,       5250,  5371.3,   1.1271,  34.7101,2,  34.7084,2,    204.6,2,   203.9,2,  123.72,2,   32.14,2,    0.00,2,    2.23,2,  -0.002,2,   0.001,2,-999.000,9,  2269.5,2,  2380.0,2,-999.0000,9,-999.0000,9, -999.00,9, -999.00,9,  -999.0,9,  -999.0,-999.000,9,-999.000,-999.000,9,-999.0000,   0.6601,-999.0000,-999.000