BOTTLE,20140514CCHSIOSE
EXPOCODE,SECT_ID,STNNBR,CASTNO,SAMPNO,BTLNBR,BTLNBR_FLAG_W,DATE,TIME,LATITUDE,LONGITUDE,DEPTH,CTDPRS,CTDTMP,CTDSAL,CTDSAL_FLAG_W,SALNTY,SALNTY_FLAG_W,CTDOXY,CTDOXY_FLAG_W,OXYGEN,OXYGEN_FLAG_W,SILCAT,SILCAT_FLAG_W,NITRAT,NITRAT_FLAG_W,NITRIT,NITRIT_FLAG_W,PHSPHT,PHSPHT_FLAG_W,CFC-11,CFC-11_FLAG_W,CFC-12,CFC-12_FLAG_W,CFC113,CFC113_FLAG_W,TCARBN,TCARBN_FLAG_W,ALKALI,ALKALI_FLAG_W,TRITUM,TRITUM_FLAG_W,HELIUM,HELIUM_FLAG_W,DELHE3,DELHE3_FLAG_W,DELC13,DELC13_FLAG_W,DELC14,DELC14_FLAG_W,C14ERR,NEON,NEON_FLAG_W,NEONER,CCL4,CCL4_FLAG_W,HELIER,THETA,TRITER,DELHER
,,,,,,,,,,,METERS,DBAR,ITS-90,PSS-78,,PSS-78,,UMOL/KG,,UMOL/KG,,UMOL/KG,,UMOL/KG,,UMOL/KG,,UMOL/KG,,PMOL/KG,,PMOL/KG,,PMOL/KG,,UMOL/KG,,UMOL/KG,,TU,,NMOL/KG,,PERCNT,,/MILLE,,/MILLE,,/MILLE,NMOL/KG,,NMOL/KG,PMOL/KG,,NMOL/KG,DEG C,TU,PERCNT
  316N145_8,        I03,     550,          1,         36,         36,2,19950529,       1511,   -19.9995,    53.3332,       4879,     5.0,  25.9538,  34.9952,2,  34.9955,2,    203.8,2,   205.8,2,    3.07,2,    0.05,2,    0.01,2,    0.13,2,-999.000,9,-999.000,9,-999.000,9,  1944.3,6,  2290.9,6,-999.0000,9,-999.0000,9, -999.00,9,    1.27,2,    72.5,2,     3.9,-999.000,9,-999.000,-999.000,9,-999.0000,  25.9527,-999.0000,-999.000
  316N145_8,        I03,     550,          1,         35,         35,2,19950529,       1511,   -19.9995,    53.3332,       4879,    56.7,  25.9153,  34.9949,2,  34.9939,2,    207.3,2,   205.9,2,    3.05,2,    0.10,2,    0.01,2,    0.13,2,-999.000,9,-999.000,9,-999.000,9,  -999.0,9,  -999.0,9,-999.0000,9,-999.0000,9, -999.00,9, -999.00,9,  -999.0,9,  -999.0,-999.000,9,-999.000,-999.000,9,-999.0000,  25.9027,-999.0000,-999.000
  316N145_8,        I03,     550,          1,         34,         34,2,19950529,       1511,   -19.9995,    53.3332,       4879,   106.8,  23.7277,  35.1246,2,  35.1268,2,    217.4,2,   208.7,2,    3.27,2,    0.13,2,    0.02,2,    0.16,2,-999.000,9,-999.000,9,-999.000,9,  -999.0,9,  -999.0,9,-999.0000,9,-999.0000,9, -999.00,9,    1.12,2,    71.4,2,     3.9,-999.000,9,-999.000,-999.000,9,-999.0000,  23.7054,-999.0000,-999.000
  316N145_8,        I03,     550,          1,         33,         33,2,19950529,       1511,   -19.9995,    53.3332,       4879,   157.2,  21.7962,  35.2758,2,  35.3006,2,    188.6,2,   179.2,2,    5.07,2,    3.46,2,    0.04,2,    0.38,2,-999.000,9,-999.000,9,-999.000,9,  -999.0,9,  -999.0,9,-999.0000,9,-999.0000,9, -999.00,9, -999.00,9,  -999.0,9,  -999.0,-999.000,9,-999.000,-999.000,9,-999.0000,  21.7652,-999.0000,-999.000
  316N145_8,        I03,     550,          1,         32,         32,2,19950529,       1511,   -19.9995,    53.3332,       4879,   206.8,  19.9840,  35.4678,2,  35.4672,2,    182.4,2,   174.9,2,    5.96,2,    4.91,2,    0.02,2,    0.45,2,-999.000,9,-999.000,9,-999.000,9,  -999.0,9,  -999.0,9,-999.0000,9,-999.0000,9, -999.00,9,    0.83,2,   105.6,2,     3.7,-999.000,9,-999.000,-999.000,9,-999.0000,  19.9457,-999.0000,-999.000
  316N145_8,        I03,     550,          1,         31,         31,2,19950529,       1511,   -19.9995,    53.3332,       4879,   257.1,  17.1058,  35.3180,2,  35.3107,2,    155.1,2,   140.9,2,   13.20,2,   12.32,2,    0.02,2,    0.92,2,-999.000,9,-999.000,9,-999.000,9,  -999.0,9,  -999.0,9,-999.0000,9,-999.0000,9, -999.00,9, -999.00,9,  -999.0,9,  -999.0,-999.000,9,-999.000,-999.000,9,-999.0000,  17.0630,-999.0000,-999.000
  316N145_8,        I03,     550,          1,         30,         30,2,19950529,       1511,   -19.9995,    53.3332,       4879,   307.6,  15.9303,  35.4221,2,  35.3813,2,    178.4,2,   165.0,2,   10.69,2,   10.21,2,    0.02,2,    0.81,2,-999.000,9,-999.000,9,-999.000,9,  -999.0,9,  -999.0,9,-999.0000,9,-999.0000,9, -999.00,9,    0.82,2,    83.8,2,     3.6,-999.000,9,-999.000,-999.000,9,-999.0000,  15.8814,-999.0000,-999.000
  316N145_8,        I03,     550,          1,         29,         29,2,19950529,       1511,   -19.9995,    53.3332,       4879,   357.3,  14.4554,  35.2870,2,  35.2861,2,    176.5,2,   171.4,2,   11.36,2,   11.70,2,    0.02,2,    0.90,2,-999.000,9,-999.000,9,-999.000,9,  -999.0,9,  -999.0,9,-999.0000,9,-999.0000,9, -999.00,9, -999.00,9,  -999.0,9,  -999.0,-999.000,9,-999.000,-999.000,9,-999.0000,  14.4023,-999.0000,-999.000
  316N145_8,        I03,     550,          1,         28,         28,2,19950529,       1511,   -19.9995,    53.3332,       4879,   407.6,  13.2695,  35.2217,2,  35.2129,2,    195.1,2,   197.1,2,    8.40,2,   10.89,2,    0.02,2,    0.85,2,   2.236,2,   1.146,2,-999.000,9,  -999.0,9,  -999.0,9,-999.0000,9,-999.0000,9, -999.00,9,    1.05,2,    74.7,2,     3.4,-999.000,9,-999.000,-999.000,9,-999.0000,  13.2121,-999.0000,-999.000
  316N145_8,        I03,     550,          1,         27,         27,2,19950529,       1511,   -19.9995,    53.3332,       4879,   508.2,  11.1246,  34.9513,2,  34.9519,2,    212.1,2,   211.6,2,    8.16,2,   13.91,2,    0.02,2,    1.02,2,-999.000,9,-999.000,9,-999.000,9,  -999.0,9,  -999.0,9,-999.0000,9,-999.0000,9, -999.00,9,    1.19,2,    52.2,2,     3.0,-999.000,9,-999.000,-999.000,9,-999.0000,  11.0607,-999.0000,-999.000
  316N145_8,        I03,     550,          1,         26,         26,2,19950529,       1511,   -19.9995,    53.3332,       4879,   607.8,   9.5762,  34.7579,2,  34.7612,2,    209.8,2,   208.5,2,   11.09,2,   17.84,2,    0.02,2,    1.26,2,-999.000,9,-999.000,9,-999.000,9,  -999.0,9,  -999.0,9,-999.0000,9,-999.0000,9, -999.00,9,    1.19,2,    24.5,2,     3.5,-999.000,9,-999.000,-999.000,9,-999.0000,   9.5063,-999.0000,-999.000
  316N145_8,        I03,     550,          1,         25,         25,2,19950529,       1511,   -19.9995,    53.3332,       4879,   709.0,   7.8865,  34.6268,2,  34.6297,2,    183.6,2,   181.2,2,   24.45,2,   24.32,2,    0.02,2,    1.70,2,-999.000,9,-999.000,9,-999.000,9,  -999.0,9,  -999.0,9,-999.0000,9,-999.0000,9, -999.00,9,    0.95,2,   -34.9,2,     4.0,-999.000,9,-999.000,-999.000,9,-999.0000,   7.8133,-999.0000,-999.000
  316N145_8,        I03,     550,          1,         24,         24,2,19950529,       1511,   -19.9995,    53.3332,       4879,   809.1,   6.6358,  34.5886,2,  34.5891,2,    158.8,2,   155.9,2,   41.67,2,   29.16,2,    0.02,2,    2.05,2,   0.350,2,   0.173,2,-999.000,9,  -999.0,9,  -999.0,9,-999.0000,9,-999.0000,9, -999.00,9,    0.74,2,   -93.9,2,     2.7,-999.000,9,-999.000,-999.000,9,-999.0000,   6.5594,-999.0000,-999.000
  316N145_8,        I03,     550,          1,         23,         23,2,19950529,       1511,   -19.9995,    53.3332,       4879,   910.3,   5.9515,  34.6303,2,  34.6315,2,    132.6,2,   131.5,2,   59.12,2,   32.32,2,    0.02,2,    2.30,2,   0.135,2,   0.066,2,-999.000,9,  -999.0,9,  -999.0,9,-999.0000,9,-999.0000,9, -999.00,9,    0.49,2,  -132.4,2,     2.8,-999.000,9,-999.000,-999.000,9,-999.0000,   5.8695,-999.0000,-999.000
  316N145_8,        I03,     550,          1,         22,         22,2,19950529,       1511,   -19.9995,    53.3332,       4879,  1010.2,   5.2640,  34.6364,2,  34.6376,2,    124.6,2,   125.6,2,   69.32,2,   33.74,2,    0.02,2,    2.42,2,   0.048,2,   0.026,2,-999.000,9,  -999.0,9,  -999.0,9,-999.0000,9,-999.0000,9, -999.00,9,    0.39,2,  -149.1,2,     2.6,-999.000,9,-999.000,-999.000,9,-999.0000,   5.1775,-999.0000,-999.000
  316N145_8,        I03,     550,          1,         21,         21,2,19950529,       1511,   -19.9995,    53.3332,       4879,  1111.4,   4.7769,  34.6418,2,  34.6431,2,    125.7,2,   126.6,2,   75.21,2,   34.33,2,    0.02,2,    2.46,2,-999.000,9,-999.000,9,-999.000,9,  -999.0,9,  -999.0,9,-999.0000,9,-999.0000,9, -999.00,9,    0.39,2,  -158.8,2,     2.6,-999.000,9,-999.000,-999.000,9,-999.0000,   4.6851,-999.0000,-999.000
  316N145_8,        I03,     550,          1,         20,         20,2,19950529,       1511,   -19.9995,    53.3332,       4879,  1211.5,   4.3643,  34.6513,2,  34.6529,2,    129.1,2,   129.7,2,   80.43,2,   34.49,2,    0.02,2,    2.48,2,   0.015,2,   0.008,2,-999.000,9,  -999.0,9,  -999.0,9,-999.0000,9,-999.0000,9, -999.00,9,    0.25,2,  -153.2,2,     3.2,-999.000,9,-999.000,-999.000,9,-999.0000,   4.2671,-999.0000,-999.000
  316N145_8,        I03,     550,          1,         19,         19,2,19950529,       1511,   -19.9995,    53.3332,       4879,  1311.8,   3.9782,  34.6490,2,  34.6507,2,    135.3,2,   135.8,2,   83.14,2,   34.40,2,    0.02,2,    2.46,2,-999.000,9,-999.000,9,-999.000,9,  -999.0,9,  -999.0,9,-999.0000,9,-999.0000,9, -999.00,9,    0.28,2,  -163.6,2,     3.7,-999.000,9,-999.000,-999.000,9,-999.0000,   3.8758,-999.0000,-999.000
  316N145_8,        I03,     550,          1,         18,         18,2,19950529,       1511,   -19.9995,    53.3332,       4879,  1511.9,   3.1963,  34.6519,2,  34.6517,2,    150.0,2,   153.0,2,   86.77,2,   33.81,2,    0.02,2,    2.39,2,   0.006,2,   0.000,2,-999.000,9,  -999.0,9,  -999.0,9,-999.0000,9,-999.0000,9, -999.00,9,    0.25,2,  -168.1,2,     3.0,-999.000,9,-999.000,-999.000,9,-999.0000,   3.0850,-999.0000,-999.000
  316N145_8,        I03,     550,          1,         17,         17,2,19950529,       1511,   -19.9995,    53.3332,       4879,  1712.4,   2.7687,  34.6827,2,  34.6825,2,    159.4,2,   160.7,2,   93.14,2,   33.33,2,    0.02,2,    2.35,2,-999.000,9,-999.000,9,-999.000,9,  -999.0,9,  -999.0,9,-999.0000,9,-999.0000,9, -999.00,9,    0.35,2,  -166.7,2,     3.2,-999.000,9,-999.000,-999.000,9,-999.0000,   2.6455,-999.0000,-999.000
  316N145_8,        I03,     550,          1,         16,         16,2,19950529,       1511,   -19.9995,    53.3332,       4879,  1914.8,   2.4771,  34.7095,2,  34.7098,2,    162.5,2,   163.3,2,  101.82,2,   33.28,2,    0.03,2,    2.34,2,-999.000,9,-999.000,9,-999.000,9,  -999.0,9,  -999.0,9,-999.0000,9,-999.0000,9, -999.00,9,    0.17,2,  -177.8,2,     2.2,-999.000,9,-999.000,-999.000,9,-999.0000,   2.3406,-999.0000,-999.000
  316N145_8,        I03,     550,          1,         15,         15,2,19950529,       1511,   -19.9995,    53.3332,       4879,  2116.1,   2.2619,  34.7238,2,  34.7237,2,    162.3,2,   163.2,2,  109.86,2,   33.48,2,    0.03,2,    2.37,2,   0.004,2,  -0.001,2,-999.000,9,  -999.0,9,  -999.0,9,-999.0000,9,-999.0000,9, -999.00,9,    0.28,2,  -182.7,2,     2.5,-999.000,9,-999.000,-999.000,9,-999.0000,   2.1111,-999.0000,-999.000
  316N145_8,        I03,     550,          1,         14,         14,2,19950529,       1511,   -19.9995,    53.3332,       4879,  2318.2,   2.1185,  34.7300,2,  34.7306,2,    163.6,2,   162.8,2,  115.85,2,   33.68,2,    0.03,2,    2.39,2,-999.000,9,-999.000,9,-999.000,9,  -999.0,9,  -999.0,9,-999.0000,9,-999.0000,9, -999.00,9,    0.19,2,  -182.1,2,     2.4,-999.000,9,-999.000,-999.000,9,-999.0000,   1.9522,-999.0000,-999.000
  316N145_8,        I03,     550,          1,         13,         13,2,19950529,       1511,   -19.9995,    53.3332,       4879,  2520.8,   2.0380,  34.7326,2,  34.7337,2,    163.1,2,   162.7,2,  119.30,2,   33.83,2,    0.03,2,    2.39,2,-999.000,9,-999.000,9,-999.000,9,  -999.0,9,  -999.0,9,-999.0000,9,-999.0000,9, -999.00,9,    0.27,2,  -176.5,2,     2.2,-999.000,9,-999.000,-999.000,9,-999.0000,   1.8548,-999.0000,-999.000
  316N145_8,        I03,     550,          1,         12,         12,2,19950529,       1511,   -19.9995,    53.3332,       4879,  2723.1,   1.9665,  34.7348,2,  34.7363,2,    162.8,2,   162.8,2,  122.54,2,   33.98,2,    0.03,2,    2.40,2,  -0.001,2,   0.000,2,-999.000,9,  -999.0,9,  -999.0,9,-999.0000,9,-999.0000,9, -999.00,9,    0.25,2,  -174.1,2,     2.9,-999.000,9,-999.000,-999.000,9,-999.0000,   1.7658,-999.0000,-999.000
  316N145_8,        I03,     550,          1,         11,         11,2,19950529,       1511,   -19.9995,    53.3332,       4879,  2926.5,   1.8770,  34.7353,2,  34.7359,2,    164.6,2,   164.2,2,  125.08,2,   33.99,2,    0.03,2,    2.41,2,-999.000,9,-999.000,9,-999.000,9,  -999.0,9,  -999.0,9,-999.0000,9,-999.0000,9, -999.00,9,    0.22,2,  -177.1,2,     2.5,-999.000,9,-999.000,-999.000,9,-999.0000,   1.6588,-999.0000,-999.000
  316N145_8,        I03,     550,          1,         10,         10,2,19950529,       1511,   -19.9995,    53.3332,       4879,  3131.4,   1.7925,  34.7340,2,  34.7343,2,    166.1,2,   165.9,2,  126.92,2,   34.09,2,    0.03,2,    2.41,2,  -0.002,2,  -0.001,2,-999.000,9,  -999.0,9,  -999.0,9,-999.0000,9,-999.0000,9, -999.00,9,    0.23,2,  -180.7,2,     2.9,-999.000,9,-999.000,-999.000,9,-999.0000,   1.5562,-999.0000,-999.000
  316N145_8,        I03,     550,          1,          9,          9,2,19950529,       1511,   -19.9995,    53.3332,       4879,  3337.3,   1.7087,  34.7322,2,  34.7321,2,    169.1,2,   168.3,2,  128.30,2,   34.05,2,    0.03,2,    2.40,2,  -0.002,2,  -0.001,2,-999.000,9,  -999.0,9,  -999.0,9,-999.0000,9,-999.0000,9, -999.00,9,    0.23,2,  -186.2,2,     2.8,-999.000,9,-999.000,-999.000,9,-999.0000,   1.4537,-999.0000,-999.000
  316N145_8,        I03,     550,          1,          8,          8,2,19950529,       1511,   -19.9995,    53.3332,       4879,  3542.1,   1.6105,  34.7288,2,  34.7292,2,    174.2,2,   172.5,2,  128.97,2,   33.91,2,    0.03,2,    2.38,2,-999.000,9,-999.000,9,-999.000,9,  -999.0,9,  -999.0,9,-999.0000,9,-999.0000,9, -999.00,9,    0.22,2,  -180.3,2,     2.3,-999.000,9,-999.000,-999.000,9,-999.0000,   1.3370,-999.0000,-999.000
  316N145_8,        I03,     550,          1,          7,          7,2,19950529,       1511,   -19.9995,    53.3332,       4879,  3747.0,   1.5073,  34.7250,2,  34.7255,2,    178.6,2,   178.3,2,  128.24,2,   33.62,2,    0.03,2,    2.36,2,-999.000,9,-999.000,9,-999.000,9,  -999.0,9,  -999.0,9,-999.0000,9,-999.0000,9, -999.00,9,    0.30,2,  -182.7,2,     2.2,-999.000,9,-999.000,-999.000,9,-999.0000,   1.2151,-999.0000,-999.000
  316N145_8,        I03,     550,          1,          6,          6,2,19950529,       1511,   -19.9995,    53.3332,       4879,  3950.7,   1.3756,  34.7195,2,  34.7204,2,    186.2,2,   185.7,2,  127.03,2,   33.33,2,    0.03,2,    2.33,2,  -0.001,2,   0.000,2,-999.000,9,  -999.0,9,  -999.0,9,-999.0000,9,-999.0000,9, -999.00,9,    0.31,2,  -179.6,2,     2.8,-999.000,9,-999.000,-999.000,9,-999.0000,   1.0653,-999.0000,-999.000
  316N145_8,        I03,     550,          1,          5,          5,2,19950529,       1511,   -19.9995,    53.3332,       4879,  4153.5,   1.2251,  34.7160,2,  34.7143,2,    194.6,2,   194.5,2,  125.13,2,   32.85,2,    0.03,2,    2.30,2,-999.000,9,-999.000,9,-999.000,9,  -999.0,9,  -999.0,9,-999.0000,9,-999.0000,9, -999.00,9,    0.35,2,  -177.2,2,     3.0,-999.000,9,-999.000,-999.000,9,-999.0000,   0.8972,-999.0000,-999.000
  316N145_8,        I03,     550,          1,          4,          4,2,19950529,       1511,   -19.9995,    53.3332,       4879,  4356.1,   1.1364,  34.7122,2,  34.7111,2,    199.3,2,   199.7,2,  124.17,2,   32.56,2,    0.03,2,    2.27,2,  -0.001,2,   0.002,3,-999.000,9,  -999.0,9,  -999.0,9,-999.0000,9,-999.0000,9, -999.00,9,    0.26,2,  -169.4,2,     3.1,-999.000,9,-999.000,-999.000,9,-999.0000,   0.7887,-999.0000,-999.000
  316N145_8,        I03,     550,          1,          3,          3,2,19950529,       1511,   -19.9995,    53.3332,       4879,  4562.0,   1.0632,  34.7084,2,  34.7082,2,    203.3,2,   203.4,2,  123.90,2,   32.42,2,    0.03,2,    2.25,2,-999.000,9,-999.000,9,-999.000,9,  -999.0,9,  -999.0,9,-999.0000,9,-999.0000,9, -999.00,9,    0.11,3,  -167.4,2,     2.4,-999.000,9,-999.000,-999.000,9,-999.0000,   0.6947,-999.0000,-999.000
  316N145_8,        I03,     550,          1,          2,          2,2,19950529,       1511,   -19.9995,    53.3332,       4879,  4768.7,   1.0611,  34.7067,2,  34.7078,2,    204.4,2,   204.7,2,  124.11,2,   32.38,2,    0.03,2,    2.25,2,-999.000,9,-999.000,9,-999.000,9,  -999.0,9,  -999.0,9,-999.0000,9,-999.0000,9, -999.00,9,    0.34,2,  -168.2,2,     2.9,-999.000,9,-999.000,-999.000,9,-999.0000,   0.6689,-999.0000,-999.000
  316N145_8,        I03,     550,          1,          1,          1,2,19950529,       1511,   -19.9995,    53.3332,       4879,  4977.6,   1.0339,  34.7055,2,  34.7060,2,    206.7,2,   207.1,2,  124.55,2,   32.23,2,    0.03,2,    2.24,2,   0.005,2,   0.000,2,-999.000,9,  -999.0,9,  -999.0,9,-999.0000,9,-999.0000,9, -999.00,9,    0.41,2,  -159.7,2,     3.0,-999.000,9,-999.000,-999.000,9,-999.0000,   0.6181,-999.0000,-999.000