BOTTLE,20140514CCHSIOSE
EXPOCODE,SECT_ID,STNNBR,CASTNO,SAMPNO,BTLNBR,BTLNBR_FLAG_W,DATE,TIME,LATITUDE,LONGITUDE,DEPTH,CTDPRS,CTDTMP,CTDSAL,CTDSAL_FLAG_W,SALNTY,SALNTY_FLAG_W,CTDOXY,CTDOXY_FLAG_W,OXYGEN,OXYGEN_FLAG_W,SILCAT,SILCAT_FLAG_W,NITRAT,NITRAT_FLAG_W,NITRIT,NITRIT_FLAG_W,PHSPHT,PHSPHT_FLAG_W,CFC-11,CFC-11_FLAG_W,CFC-12,CFC-12_FLAG_W,CFC113,CFC113_FLAG_W,TCARBN,TCARBN_FLAG_W,ALKALI,ALKALI_FLAG_W,TRITUM,TRITUM_FLAG_W,HELIUM,HELIUM_FLAG_W,DELHE3,DELHE3_FLAG_W,DELC13,DELC13_FLAG_W,DELC14,DELC14_FLAG_W,C14ERR,NEON,NEON_FLAG_W,NEONER,CCL4,CCL4_FLAG_W,HELIER,THETA,TRITER,DELHER
,,,,,,,,,,,METERS,DBAR,ITS-90,PSS-78,,PSS-78,,UMOL/KG,,UMOL/KG,,UMOL/KG,,UMOL/KG,,UMOL/KG,,UMOL/KG,,PMOL/KG,,PMOL/KG,,PMOL/KG,,UMOL/KG,,UMOL/KG,,TU,,NMOL/KG,,PERCNT,,/MILLE,,/MILLE,,/MILLE,NMOL/KG,,NMOL/KG,PMOL/KG,,NMOL/KG,DEG C,TU,PERCNT
  316N145_8,        I03,     529,          1,         30,         30,2,19950522,       0504,   -20.3655,    62.8495,       3354,     6.2,  25.4362,  35.1236,2,  35.1234,2,    208.5,2,   211.9,3,    3.13,2,    0.00,2,    0.00,2,    0.12,2,   1.832,2,   1.042,2,-999.000,9,  1953.8,6,  -999.0,5,-999.0000,9,-999.0000,9, -999.00,9, -999.00,9,  -999.0,9,  -999.0,-999.000,9,-999.000,-999.000,9,-999.0000,  25.4348,-999.0000,-999.000
  316N145_8,        I03,     529,          1,         29,         29,2,19950522,       0504,   -20.3655,    62.8495,       3354,    54.7,  25.4115,  35.1325,2,  35.1331,2,    212.4,2,   208.9,2,    3.11,2,    0.00,2,    0.00,2,    0.12,2,   1.837,2,   1.050,2,-999.000,9,  1956.5,6,  2300.0,6,-999.0000,9,-999.0000,9, -999.00,9, -999.00,9,  -999.0,9,  -999.0,-999.000,9,-999.000,-999.000,9,-999.0000,  25.3995,-999.0000,-999.000
  316N145_8,        I03,     529,          1,         28,         28,2,19950522,       0504,   -20.3655,    62.8495,       3354,   104.8,  22.1633,  35.4043,2,  35.4024,2,    211.3,2,   208.1,2,    3.50,2,    0.15,2,    0.04,2,    0.17,2,   2.132,2,   1.185,2,-999.000,9,  2001.3,2,  2314.0,2,-999.0000,9,-999.0000,9, -999.00,9, -999.00,9,  -999.0,9,  -999.0,-999.000,9,-999.000,-999.000,9,-999.0000,  22.1424,-999.0000,-999.000
  316N145_8,        I03,     529,          1,         27,         27,2,19950522,       0504,   -20.3655,    62.8495,       3354,   153.8,  20.3796,  35.5112,2,  35.5075,2,    185.5,2,   182.1,2,    5.32,2,    3.62,2,    0.02,2,    0.38,2,   2.127,2,   1.166,2,-999.000,9,  2043.3,2,  2325.0,2,-999.0000,9,-999.0000,9, -999.00,9, -999.00,9,  -999.0,9,  -999.0,-999.000,9,-999.000,-999.000,9,-999.0000,  20.3507,-999.0000,-999.000
  316N145_8,        I03,     529,          1,         26,         26,2,19950522,       0504,   -20.3655,    62.8495,       3354,   205.1,  18.9957,  35.6495,2,  35.6474,2,    189.4,2,   187.7,2,    5.10,2,    3.63,2,    0.01,2,    0.39,2,   2.249,2,   1.216,2,-999.000,9,  2063.2,2,  2335.0,2,-999.0000,9,-999.0000,9, -999.00,9, -999.00,9,  -999.0,9,  -999.0,-999.000,9,-999.000,-999.000,9,-999.0000,  18.9590,-999.0000,-999.000
  316N145_8,        I03,     529,          1,         25,         25,2,19950522,       0504,   -20.3655,    62.8495,       3354,   255.9,  17.0089,  35.6618,2,  35.6382,2,    203.5,2,   205.1,2,    3.85,2,    3.49,2,    0.01,2,    0.41,2,-999.000,9,-999.000,9,-999.000,9,  2079.6,2,  2340.0,2,-999.0000,9,-999.0000,9, -999.00,9, -999.00,9,  -999.0,9,  -999.0,-999.000,9,-999.000,-999.000,9,-999.0000,  16.9664,-999.0000,-999.000
  316N145_8,        I03,     529,          1,         24,         24,2,19950522,       0504,   -20.3655,    62.8495,       3354,   305.1,  15.6038,  35.5559,2,  35.5452,2,    209.4,2,   211.1,2,    3.63,2,    4.41,2,    0.01,2,    0.48,2,   2.509,3,   1.324,3,-999.000,9,  2088.1,2,  2335.0,2,-999.0000,9,-999.0000,9, -999.00,9, -999.00,9,  -999.0,9,  -999.0,-999.000,9,-999.000,-999.000,9,-999.0000,  15.5560,-999.0000,-999.000
  316N145_8,        I03,     529,          1,         23,         23,2,19950522,       0504,   -20.3655,    62.8495,       3354,   356.3,  14.1525,  35.3887,2,  35.3900,2,    218.0,2,   219.2,2,    3.61,2,    6.09,2,    0.00,2,    0.57,2,   2.785,2,   1.454,2,-999.000,9,  2093.2,2,  2314.0,2,-999.0000,9,-999.0000,9, -999.00,9, -999.00,9,  -999.0,9,  -999.0,-999.000,9,-999.000,-999.000,9,-999.0000,  14.1002,-999.0000,-999.000
  316N145_8,        I03,     529,          1,         22,         22,2,19950522,       0504,   -20.3655,    62.8495,       3354,   407.1,  13.1399,  35.2551,2,  35.2585,2,    221.3,2,   224.6,2,    3.79,2,    7.81,2,    0.00,2,    0.66,2,   2.852,2,   1.454,2,-999.000,9,  2096.6,2,  2321.0,2,-999.0000,9,-999.0000,9, -999.00,9, -999.00,9,  -999.0,9,  -999.0,-999.000,9,-999.000,-999.000,9,-999.0000,  13.0829,-999.0000,-999.000
  316N145_8,        I03,     529,          1,         21,         21,2,19950522,       0504,   -20.3655,    62.8495,       3354,   455.9,  12.1595,  35.1086,2,  35.1087,2,    228.2,2,   229.2,2,    4.39,2,    9.83,2,    0.00,2,    0.78,2,   2.810,2,   1.436,2,-999.000,9,  2100.4,2,  2313.0,2,-999.0000,9,-999.0000,9, -999.00,9, -999.00,9,  -999.0,9,  -999.0,-999.000,9,-999.000,-999.000,9,-999.0000,  12.0988,-999.0000,-999.000
  316N145_8,        I03,     529,          1,         20,         20,2,19950522,       0504,   -20.3655,    62.8495,       3354,   507.0,  11.6173,  35.0251,2,  35.0242,2,    230.6,2,   231.0,2,    4.57,2,   10.98,2,    0.00,2,    0.85,2,   2.732,2,   1.377,2,-999.000,9,  2102.5,2,  2310.0,2,-999.0000,9,-999.0000,9, -999.00,9, -999.00,9,  -999.0,9,  -999.0,-999.000,9,-999.000,-999.000,9,-999.0000,  11.5516,-999.0000,-999.000
  316N145_8,        I03,     529,          1,         19,         19,2,19950522,       0504,   -20.3655,    62.8495,       3354,   607.7,  10.2023,  34.8196,2,  34.8209,2,    228.2,2,   230.7,2,    5.37,2,   14.10,2,    0.00,2,    1.03,2,   2.518,2,   1.263,2,-999.000,9,  2111.1,2,  2301.0,2,-999.0000,9,-999.0000,9, -999.00,9, -999.00,9,  -999.0,9,  -999.0,-999.000,9,-999.000,-999.000,9,-999.0000,  10.1296,-999.0000,-999.000
  316N145_8,        I03,     529,          1,         18,         18,2,19950522,       0504,   -20.3655,    62.8495,       3354,   708.6,   8.6530,  34.6339,2,  34.6378,2,    210.6,2,   215.3,2,    9.85,2,   19.34,2,    0.00,2,    1.36,2,   1.625,2,   0.805,2,-999.000,9,  2130.3,2,  2294.0,2,-999.0000,9,-999.0000,9, -999.00,9, -999.00,9,  -999.0,9,  -999.0,-999.000,9,-999.000,-999.000,9,-999.0000,   8.5759,-999.0000,-999.000
  316N145_8,        I03,     529,          1,         17,         17,2,19950522,       0504,   -20.3655,    62.8495,       3354,   807.2,   7.0531,  34.5179,2,  34.5183,2,    190.4,2,   192.0,2,   22.09,2,   25.36,2,    0.00,2,    1.75,2,   0.631,2,   0.322,2,-999.000,9,  2164.9,2,  2300.0,2,-999.0000,9,-999.0000,9, -999.00,9, -999.00,9,  -999.0,9,  -999.0,-999.000,9,-999.000,-999.000,9,-999.0000,   6.9744,-999.0000,-999.000
  316N145_8,        I03,     529,          1,         16,         16,2,19950522,       0504,   -20.3655,    62.8495,       3354,   909.7,   5.3559,  34.4817,2,  34.4824,2,    164.0,2,   163.5,2,   46.19,2,   31.14,2,    0.00,2,    2.17,2,   0.166,2,   0.092,2,-999.000,9,  2212.1,2,  2321.0,2,-999.0000,9,-999.0000,9, -999.00,9, -999.00,9,  -999.0,9,  -999.0,-999.000,9,-999.000,-999.000,9,-999.0000,   5.2783,-999.0000,-999.000
  316N145_8,        I03,     529,          1,         15,         15,2,19950522,       0504,   -20.3655,    62.8495,       3354,  1010.9,   4.7096,  34.5334,2,  34.5289,2,    153.1,2,   145.9,2,   62.95,2,   33.24,2,    0.00,2,    2.34,2,   0.072,2,   0.036,2,-999.000,9,  2240.1,2,  2334.0,2,-999.0000,9,-999.0000,9, -999.00,9, -999.00,9,  -999.0,9,  -999.0,-999.000,9,-999.000,-999.000,9,-999.0000,   4.6275,-999.0000,-999.000
  316N145_8,        I03,     529,          1,         14,         14,2,19950522,       0504,   -20.3655,    62.8495,       3354,  1111.3,   4.4130,  34.5933,2,  34.5938,2,    130.3,2,   129.9,2,   77.08,2,   34.51,2,    0.00,2,    2.46,2,   0.018,2,   0.010,2,-999.000,9,  2262.9,2,  2352.0,2,-999.0000,9,-999.0000,9, -999.00,9, -999.00,9,  -999.0,9,  -999.0,-999.000,9,-999.000,-999.000,9,-999.0000,   4.3243,-999.0000,-999.000
  316N145_8,        I03,     529,          1,         13,         13,2,19950522,       0504,   -20.3655,    62.8495,       3354,  1210.7,   3.9778,  34.6235,2,  34.6244,2,    131.9,2,   131.9,2,   83.85,2,   34.55,2,    0.00,2,    2.46,2,   0.005,2,   0.005,2,-999.000,9,  2269.2,2,  2357.0,2,-999.0000,9,-999.0000,9, -999.00,9, -999.00,9,  -999.0,9,  -999.0,-999.000,9,-999.000,-999.000,9,-999.0000,   3.8842,-999.0000,-999.000
  316N145_8,        I03,     529,          1,         12,         12,2,19950522,       0504,   -20.3655,    62.8495,       3354,  1312.6,   3.6903,  34.6339,2,  34.6340,2,    135.0,2,   136.7,2,   86.49,2,   34.46,2,    0.00,2,    2.45,2,   0.004,2,   0.003,2,-999.000,9,  2270.9,2,  2363.0,2,-999.0000,9,-999.0000,9, -999.00,9, -999.00,9,  -999.0,9,  -999.0,-999.000,9,-999.000,-999.000,9,-999.0000,   3.5907,-999.0000,-999.000
  316N145_8,        I03,     529,          1,         11,         11,2,19950522,       0504,   -20.3655,    62.8495,       3354,  1412.4,   3.4352,  34.6659,2,  34.6650,2,    136.8,2,   138.2,2,   92.04,2,   34.26,2,    0.00,2,    2.44,2,   0.001,2,   0.001,2,-999.000,9,  2282.5,2,  2368.0,2,-999.0000,9,-999.0000,9, -999.00,9, -999.00,9,  -999.0,9,  -999.0,-999.000,9,-999.000,-999.000,9,-999.0000,   3.3297,-999.0000,-999.000
  316N145_8,        I03,     529,          1,         10,         10,2,19950522,       0504,   -20.3655,    62.8495,       3354,  1612.0,   2.8518,  34.6895,2,  34.6892,2,    150.7,2,   152.7,2,   97.61,2,   33.57,2,    0.00,2,    2.38,2,-999.000,9,-999.000,9,-999.000,9,  2275.6,2,  2374.0,2,-999.0000,9,-999.0000,9, -999.00,9, -999.00,9,  -999.0,9,  -999.0,-999.000,9,-999.000,-999.000,9,-999.0000,   2.7361,-999.0000,-999.000
  316N145_8,        I03,     529,          1,          9,          9,2,19950522,       0504,   -20.3655,    62.8495,       3354,  1813.2,   2.4362,  34.7063,2,  34.7068,2,    162.4,2,   161.9,2,  103.41,2,   33.08,2,    0.00,2,    2.33,2,-999.000,9,-999.000,9,-999.000,9,  2277.6,2,  2380.0,2,-999.0000,9,-999.0000,9, -999.00,9, -999.00,9,  -999.0,9,  -999.0,-999.000,9,-999.000,-999.000,9,-999.0000,   2.3089,-999.0000,-999.000
  316N145_8,        I03,     529,          1,          8,          8,2,19950522,       0504,   -20.3655,    62.8495,       3354,  2011.5,   2.1664,  34.7187,2,  34.7190,2,    165.9,2,   166.3,2,  110.08,2,   33.02,2,    0.00,2,    2.32,2,-999.000,9,-999.000,9,-999.000,9,  2281.2,2,  2386.0,2,-999.0000,9,-999.0000,9, -999.00,9, -999.00,9,  -999.0,9,  -999.0,-999.000,9,-999.000,-999.000,9,-999.0000,   2.0261,-999.0000,-999.000
  316N145_8,        I03,     529,          1,          7,          7,2,19950522,       0504,   -20.3655,    62.8495,       3354,  2213.2,   2.0193,  34.7216,2,  34.7223,2,    169.9,2,   169.0,2,  113.20,2,   32.93,2,    0.00,2,    2.31,2,-999.000,9,-999.000,9,-999.000,9,  2282.5,2,  2388.0,2,-999.0000,9,-999.0000,9, -999.00,9, -999.00,9,  -999.0,9,  -999.0,-999.000,9,-999.000,-999.000,9,-999.0000,   1.8640,-999.0000,-999.000
  316N145_8,        I03,     529,          1,          6,          6,2,19950522,       0504,   -20.3655,    62.8495,       3354,  2418.5,   1.8946,  34.7228,2,  34.7233,2,    172.4,2,   172.8,2,  115.70,2,   32.93,2,    0.00,2,    2.31,2,   0.001,2,   0.000,2,-999.000,9,  2283.3,2,  2389.0,2,-999.0000,9,-999.0000,9, -999.00,9, -999.00,9,  -999.0,9,  -999.0,-999.000,9,-999.000,-999.000,9,-999.0000,   1.7233,-999.0000,-999.000
  316N145_8,        I03,     529,          1,          5,          5,2,19950522,       0504,   -20.3655,    62.8495,       3354,  2624.7,   1.8042,  34.7223,2,  34.7229,2,    173.8,2,   174.2,2,  117.99,2,   32.88,2,    0.00,2,    2.31,2,-999.000,9,-999.000,9,-999.000,9,  2285.9,2,  2392.0,2,-999.0000,9,-999.0000,9, -999.00,9, -999.00,9,  -999.0,9,  -999.0,-999.000,9,-999.000,-999.000,9,-999.0000,   1.6160,-999.0000,-999.000
  316N145_8,        I03,     529,          1,          4,          4,2,19950522,       0504,   -20.3655,    62.8495,       3354,  2829.6,   1.7534,  34.7231,2,  34.7231,2,    176.0,2,   175.3,2,  119.22,2,   32.87,2,    0.00,2,    2.30,2,-999.000,9,-999.000,9,-999.000,9,  2285.0,2,  2393.0,2,-999.0000,9,-999.0000,9, -999.00,9, -999.00,9,  -999.0,9,  -999.0,-999.000,9,-999.000,-999.000,9,-999.0000,   1.5471,-999.0000,-999.000
  316N145_8,        I03,     529,          1,          3,          3,2,19950522,       0504,   -20.3655,    62.8495,       3354,  3032.7,   1.7009,  34.7226,2,  34.7229,2,    177.6,2,   176.8,2,  120.66,2,   32.87,2,    0.00,2,    2.30,2,-999.000,9,-999.000,9,-999.000,9,  2284.5,2,  2392.0,2,-999.0000,9,-999.0000,9, -999.00,9, -999.00,9,  -999.0,9,  -999.0,-999.000,9,-999.000,-999.000,9,-999.0000,   1.4763,-999.0000,-999.000
  316N145_8,        I03,     529,          1,          2,          2,2,19950522,       0504,   -20.3655,    62.8495,       3354,  3236.5,   1.6649,  34.7225,2,  34.7221,2,    177.8,2,   178.1,2,  121.46,2,   32.87,2,    0.00,2,    2.30,2,-999.000,9,-999.000,9,-999.000,9,  2284.8,6,  2394.0,6,-999.0000,9,-999.0000,9, -999.00,9, -999.00,9,  -999.0,9,  -999.0,-999.000,9,-999.000,-999.000,9,-999.0000,   1.4211,-999.0000,-999.000
  316N145_8,        I03,     529,          1,          1,          1,2,19950522,       0504,   -20.3655,    62.8495,       3354,  3400.1,   1.5657,  34.7221,2,  34.7217,2,    179.9,2,   180.1,2,  123.34,2,   32.87,2,    0.00,2,    2.30,2,   0.001,2,   0.002,2,-999.000,9,  2284.9,2,  2393.0,2,-999.0000,9,-999.0000,9, -999.00,9, -999.00,9,  -999.0,9,  -999.0,-999.000,9,-999.000,-999.000,9,-999.0000,   1.3078,-999.0000,-999.000