BOTTLE,20140514CCHSIOSE
EXPOCODE,SECT_ID,STNNBR,CASTNO,SAMPNO,BTLNBR,BTLNBR_FLAG_W,DATE,TIME,LATITUDE,LONGITUDE,DEPTH,CTDPRS,CTDTMP,CTDSAL,CTDSAL_FLAG_W,SALNTY,SALNTY_FLAG_W,CTDOXY,CTDOXY_FLAG_W,OXYGEN,OXYGEN_FLAG_W,SILCAT,SILCAT_FLAG_W,NITRAT,NITRAT_FLAG_W,NITRIT,NITRIT_FLAG_W,PHSPHT,PHSPHT_FLAG_W,CFC-11,CFC-11_FLAG_W,CFC-12,CFC-12_FLAG_W,CFC113,CFC113_FLAG_W,TCARBN,TCARBN_FLAG_W,ALKALI,ALKALI_FLAG_W,TRITUM,TRITUM_FLAG_W,HELIUM,HELIUM_FLAG_W,DELHE3,DELHE3_FLAG_W,DELC13,DELC13_FLAG_W,DELC14,DELC14_FLAG_W,C14ERR,NEON,NEON_FLAG_W,NEONER,CCL4,CCL4_FLAG_W,HELIER,THETA,TRITER,DELHER
,,,,,,,,,,,METERS,DBAR,ITS-90,PSS-78,,PSS-78,,UMOL/KG,,UMOL/KG,,UMOL/KG,,UMOL/KG,,UMOL/KG,,UMOL/KG,,PMOL/KG,,PMOL/KG,,PMOL/KG,,UMOL/KG,,UMOL/KG,,TU,,NMOL/KG,,PERCNT,,/MILLE,,/MILLE,,/MILLE,NMOL/KG,,NMOL/KG,PMOL/KG,,NMOL/KG,DEG C,TU,PERCNT
  316N145_8,        I03,     522,          1,         25,         25,2,19950520,       0942,   -19.9993,    66.5335,       2315,     4.5,  26.1052,  34.6642,2,  34.6627,2,    202.8,2,   204.0,2,    3.06,2,    0.01,2,    0.00,2,    0.12,2,   1.767,2,   1.012,2,-999.000,9,  1932.1,6,  2270.9,6,-999.0000,9,-999.0000,9, -999.00,9, -999.00,9,  -999.0,9,  -999.0,-999.000,9,-999.000,-999.000,9,-999.0000,  26.1042,-999.0000,-999.000
  316N145_8,        I03,     522,          1,         24,         24,2,19950520,       0942,   -19.9993,    66.5335,       2315,    45.1,  26.1029,  34.6667,2,  34.7481,3,    205.3,2,   204.7,2,    3.04,2,    0.01,2,    0.00,2,    0.12,2,   1.819,2,   1.028,2,-999.000,9,  -999.0,9,  -999.0,9,-999.0000,9,-999.0000,9, -999.00,9, -999.00,9,  -999.0,9,  -999.0,-999.000,9,-999.000,-999.000,9,-999.0000,  26.0928,-999.0000,-999.000
  316N145_8,        I03,     522,          1,         23,         23,2,19950520,       0942,   -19.9993,    66.5335,       2315,    95.6,  24.1063,  35.3154,2,  35.3035,2,    213.2,2,   216.6,2,    2.82,2,    0.00,2,    0.00,2,    0.11,2,   2.050,2,   1.152,2,-999.000,9,  -999.0,9,  -999.0,9,-999.0000,9,-999.0000,9, -999.00,9, -999.00,9,  -999.0,9,  -999.0,-999.000,9,-999.000,-999.000,9,-999.0000,  24.0860,-999.0000,-999.000
  316N145_8,        I03,     522,          1,         22,         22,2,19950520,       0942,   -19.9993,    66.5335,       2315,   155.2,  20.8121,  35.5792,2,  35.5935,2,    203.2,2,   199.6,2,    3.43,2,    1.12,2,    0.17,2,    0.23,2,-999.000,9,-999.000,9,-999.000,9,  -999.0,9,  -999.0,9,-999.0000,9,-999.0000,9, -999.00,9, -999.00,9,  -999.0,9,  -999.0,-999.000,9,-999.000,-999.000,9,-999.0000,  20.7825,-999.0000,-999.000
  316N145_8,        I03,     522,          1,         21,         21,2,19950520,       0942,   -19.9993,    66.5335,       2315,   206.1,  19.2278,  35.7404,2,  35.7372,2,    203.6,2,   199.8,2,    3.42,2,    1.80,2,    0.01,2,    0.27,2,   2.332,2,   1.257,2,-999.000,9,  -999.0,9,  -999.0,9,-999.0000,9,-999.0000,9, -999.00,9, -999.00,9,  -999.0,9,  -999.0,-999.000,9,-999.000,-999.000,9,-999.0000,  19.1906,-999.0000,-999.000
  316N145_8,        I03,     522,          1,         20,         20,2,19950520,       0942,   -19.9993,    66.5335,       2315,   254.9,  17.2895,  35.7113,2,  35.7088,2,    203.5,2,   201.0,2,    3.83,2,    3.04,2,    0.00,2,    0.37,2,-999.000,9,-999.000,9,-999.000,9,  -999.0,9,  -999.0,9,-999.0000,9,-999.0000,9, -999.00,9, -999.00,9,  -999.0,9,  -999.0,-999.000,9,-999.000,-999.000,9,-999.0000,  17.2467,-999.0000,-999.000
  316N145_8,        I03,     522,          1,         19,         19,2,19950520,       0942,   -19.9993,    66.5335,       2315,   305.7,  15.1655,  35.5303,2,  35.5279,2,    213.4,2,   214.5,2,    3.19,2,    4.36,2,    0.00,2,    0.46,2,   2.690,2,   1.391,2,-999.000,9,  -999.0,9,  -999.0,9,-999.0000,9,-999.0000,9, -999.00,9, -999.00,9,  -999.0,9,  -999.0,-999.000,9,-999.000,-999.000,9,-999.0000,  15.1185,-999.0000,-999.000
  316N145_8,        I03,     522,          1,         18,         18,2,19950520,       0942,   -19.9993,    66.5335,       2315,   356.2,  13.8828,  35.3633,2,  35.3726,2,    213.2,2,   214.4,2,    4.22,2,    6.73,2,    0.00,2,    0.60,2,   2.674,2,   1.372,2,-999.000,9,  -999.0,9,  -999.0,9,-999.0000,9,-999.0000,9, -999.00,9, -999.00,9,  -999.0,9,  -999.0,-999.000,9,-999.000,-999.000,9,-999.0000,  13.8312,-999.0000,-999.000
  316N145_8,        I03,     522,          1,         17,         17,2,19950520,       0942,   -19.9993,    66.5335,       2315,   405.1,  12.7252,  35.1975,2,  35.2003,2,    224.4,2,   224.7,2,    4.00,2,    8.62,2,    0.00,2,    0.70,2,   2.775,2,   1.413,2,-999.000,9,  -999.0,9,  -999.0,9,-999.0000,9,-999.0000,9, -999.00,9, -999.00,9,  -999.0,9,  -999.0,-999.000,9,-999.000,-999.000,9,-999.0000,  12.6697,-999.0000,-999.000
  316N145_8,        I03,     522,          1,         16,         16,2,19950520,       0942,   -19.9993,    66.5335,       2315,   455.7,  12.0527,  35.0981,2,  35.0980,2,    225.3,2,   227.6,2,    4.19,2,    9.89,2,    0.00,2,    0.78,2,   2.759,2,   1.393,2,-999.000,9,  -999.0,9,  -999.0,9,-999.0000,9,-999.0000,9, -999.00,9, -999.00,9,  -999.0,9,  -999.0,-999.000,9,-999.000,-999.000,9,-999.0000,  11.9924,-999.0000,-999.000
  316N145_8,        I03,     522,          1,         15,         15,2,19950520,       0942,   -19.9993,    66.5335,       2315,   506.9,  11.4677,  35.0092,2,  35.0072,2,    228.8,2,   229.0,2,    4.60,2,   11.17,2,    0.00,2,    0.85,2,   2.726,2,   1.368,2,-999.000,9,  -999.0,9,  -999.0,9,-999.0000,9,-999.0000,9, -999.00,9, -999.00,9,  -999.0,9,  -999.0,-999.000,9,-999.000,-999.000,9,-999.0000,  11.4026,-999.0000,-999.000
  316N145_8,        I03,     522,          1,         14,         14,2,19950520,       0942,   -19.9993,    66.5335,       2315,   609.0,   9.7920,  34.7629,2,  34.7622,2,    225.2,2,   227.9,2,    5.84,2,   15.42,2,    0.00,2,    1.10,2,   2.332,2,   1.160,2,-999.000,9,  -999.0,9,  -999.0,9,-999.0000,9,-999.0000,9, -999.00,9, -999.00,9,  -999.0,9,  -999.0,-999.000,9,-999.000,-999.000,9,-999.0000,   9.7210,-999.0000,-999.000
  316N145_8,        I03,     522,          1,         13,         13,9,19950520,       0942,   -19.9993,    66.5335,       2315,   708.8,   8.0543,  34.5810,2,-999.0000,9,    210.3,2,  -999.0,9, -999.00,9, -999.00,9, -999.00,9, -999.00,9,-999.000,9,-999.000,9,-999.000,9,  -999.0,9,  -999.0,9,-999.0000,9,-999.0000,9, -999.00,9, -999.00,9,  -999.0,9,  -999.0,-999.000,9,-999.000,-999.000,9,-999.0000,   7.9804,-999.0000,-999.000
  316N145_8,        I03,     522,          1,         12,         12,2,19950520,       0942,   -19.9993,    66.5335,       2315,   809.4,   6.4412,  34.4934,2,  34.4934,2,    182.8,2,   181.2,2,   29.37,2,   27.80,2,    0.00,2,    1.92,2,   0.397,2,   0.207,2,-999.000,9,  -999.0,9,  -999.0,9,-999.0000,9,-999.0000,9, -999.00,9, -999.00,9,  -999.0,9,  -999.0,-999.000,9,-999.000,-999.000,9,-999.0000,   6.3660,-999.0000,-999.000
  316N145_8,        I03,     522,          1,         11,         11,2,19950520,       0942,   -19.9993,    66.5335,       2315,   909.6,   5.2989,  34.4959,2,  34.4964,2,    151.7,2,   155.5,2,   50.18,2,   32.06,2,    0.00,2,    2.26,2,   0.115,2,   0.063,2,-999.000,9,  -999.0,9,  -999.0,9,-999.0000,9,-999.0000,9, -999.00,9, -999.00,9,  -999.0,9,  -999.0,-999.000,9,-999.000,-999.000,9,-999.0000,   5.2217,-999.0000,-999.000
  316N145_8,        I03,     522,          1,         10,         10,2,19950520,       0942,   -19.9993,    66.5335,       2315,  1010.1,   4.9438,  34.5908,2,  34.5911,2,    125.2,2,   126.1,2,   71.65,2,   34.47,2,    0.00,2,    2.47,2,   0.027,2,   0.012,2,-999.000,9,  -999.0,9,  -999.0,9,-999.0000,9,-999.0000,9, -999.00,9, -999.00,9,  -999.0,9,  -999.0,-999.000,9,-999.000,-999.000,9,-999.0000,   4.8598,-999.0000,-999.000
  316N145_8,        I03,     522,          1,          9,          9,2,19950520,       0942,   -19.9993,    66.5335,       2315,  1109.2,   4.7012,  34.6515,2,  34.6521,2,    115.9,2,   117.0,2,   82.71,2,   35.13,2,    0.00,2,    2.53,2,   0.017,2,   0.008,2,-999.000,9,  -999.0,9,  -999.0,9,-999.0000,9,-999.0000,9, -999.00,9, -999.00,9,  -999.0,9,  -999.0,-999.000,9,-999.000,-999.000,9,-999.0000,   4.6101,-999.0000,-999.000
  316N145_8,        I03,     522,          1,          8,          8,2,19950520,       0942,   -19.9993,    66.5335,       2315,  1212.9,   4.4231,  34.6657,2,  34.6657,2,    118.4,2,   118.1,2,   87.07,2,   35.37,2,    0.00,2,    2.54,2,   0.009,2,   0.002,2,-999.000,9,  -999.0,9,  -999.0,9,-999.0000,9,-999.0000,9, -999.00,9, -999.00,9,  -999.0,9,  -999.0,-999.000,9,-999.000,-999.000,9,-999.0000,   4.3251,-999.0000,-999.000
  316N145_8,        I03,     522,          1,          7,          7,2,19950520,       0942,   -19.9993,    66.5335,       2315,  1310.6,   4.1256,  34.6814,2,  34.6812,2,    119.0,2,   118.5,2,   92.49,2,   35.46,2,    0.00,2,    2.55,2,-999.000,9,-999.000,9,-999.000,9,  -999.0,9,  -999.0,9,-999.0000,9,-999.0000,9, -999.00,9, -999.00,9,  -999.0,9,  -999.0,-999.000,9,-999.000,-999.000,9,-999.0000,   4.0218,-999.0000,-999.000
  316N145_8,        I03,     522,          1,          6,          6,2,19950520,       0942,   -19.9993,    66.5335,       2315,  1412.7,   3.8603,  34.6946,2,  34.6946,2,    120.3,2,   122.6,2,   96.66,2,   35.45,2,    0.00,2,    2.55,2,   0.002,2,   0.000,2,-999.000,9,  -999.0,9,  -999.0,9,-999.0000,9,-999.0000,9, -999.00,9, -999.00,9,  -999.0,9,  -999.0,-999.000,9,-999.000,-999.000,9,-999.0000,   3.7501,-999.0000,-999.000
  316N145_8,        I03,     522,          1,          5,          5,2,19950520,       0942,   -19.9993,    66.5335,       2315,  1616.2,   3.3227,  34.7098,2,  34.7083,2,    133.2,2,   132.4,2,  101.90,2,   35.00,2,    0.00,2,    2.51,2,-999.000,9,-999.000,9,-999.000,9,  -999.0,9,  -999.0,9,-999.0000,9,-999.0000,9, -999.00,9, -999.00,9,  -999.0,9,  -999.0,-999.000,9,-999.000,-999.000,9,-999.0000,   3.2008,-999.0000,-999.000
  316N145_8,        I03,     522,          1,          4,          4,2,19950520,       0942,   -19.9993,    66.5335,       2315,  1818.0,   2.7767,  34.7091,2,  34.7081,2,    152.6,2,   150.4,2,  102.68,2,   34.03,2,    0.00,2,    2.42,2,  -0.001,2,  -0.001,2,-999.000,9,  -999.0,9,  -999.0,9,-999.0000,9,-999.0000,9, -999.00,9, -999.00,9,  -999.0,9,  -999.0,-999.000,9,-999.000,-999.000,9,-999.0000,   2.6443,-999.0000,-999.000
  316N145_8,        I03,     522,          1,          3,          3,2,19950520,       0942,   -19.9993,    66.5335,       2315,  2019.2,   2.1822,  34.7176,2,  34.7176,2,    167.4,2,   167.5,2,  107.94,2,   33.29,2,    0.00,2,    2.33,2,-999.000,9,-999.000,9,-999.000,9,  -999.0,9,  -999.0,9,-999.0000,9,-999.0000,9, -999.00,9, -999.00,9,  -999.0,9,  -999.0,-999.000,9,-999.000,-999.000,9,-999.0000,   2.0410,-999.0000,-999.000
  316N145_8,        I03,     522,          1,          2,          2,2,19950520,       0942,   -19.9993,    66.5335,       2315,  2217.5,   2.0374,  34.7212,2,  34.7207,2,    170.7,2,   171.3,2,  111.08,2,   33.14,2,    0.00,2,    2.33,2,   0.001,2,   0.001,2,-999.000,9,  -999.0,9,  -999.0,9,-999.0000,9,-999.0000,9, -999.00,9, -999.00,9,  -999.0,9,  -999.0,-999.000,9,-999.000,-999.000,9,-999.0000,   1.8814,-999.0000,-999.000
  316N145_8,        I03,     522,          1,          1,          1,2,19950520,       0942,   -19.9993,    66.5335,       2315,  2420.8,   1.9274,  34.7235,2,  34.7229,2,    174.8,2,   174.9,2,  112.51,2,   32.89,2,    0.00,2,    2.31,2,   0.001,2,   0.000,2,-999.000,9,  -999.0,9,  -999.0,9,-999.0000,9,-999.0000,9, -999.00,9, -999.00,9,  -999.0,9,  -999.0,-999.000,9,-999.000,-999.000,9,-999.0000,   1.7553,-999.0000,-999.000