BOTTLE,20140514CCHSIOSE
EXPOCODE,SECT_ID,STNNBR,CASTNO,SAMPNO,BTLNBR,BTLNBR_FLAG_W,DATE,TIME,LATITUDE,LONGITUDE,DEPTH,CTDPRS,CTDTMP,CTDSAL,CTDSAL_FLAG_W,SALNTY,SALNTY_FLAG_W,CTDOXY,CTDOXY_FLAG_W,OXYGEN,OXYGEN_FLAG_W,SILCAT,SILCAT_FLAG_W,NITRAT,NITRAT_FLAG_W,NITRIT,NITRIT_FLAG_W,PHSPHT,PHSPHT_FLAG_W,CFC-11,CFC-11_FLAG_W,CFC-12,CFC-12_FLAG_W,CFC113,CFC113_FLAG_W,TCARBN,TCARBN_FLAG_W,ALKALI,ALKALI_FLAG_W,TRITUM,TRITUM_FLAG_W,HELIUM,HELIUM_FLAG_W,DELHE3,DELHE3_FLAG_W,DELC13,DELC13_FLAG_W,DELC14,DELC14_FLAG_W,C14ERR,NEON,NEON_FLAG_W,NEONER,CCL4,CCL4_FLAG_W,HELIER,THETA,TRITER,DELHER
,,,,,,,,,,,METERS,DBAR,ITS-90,PSS-78,,PSS-78,,UMOL/KG,,UMOL/KG,,UMOL/KG,,UMOL/KG,,UMOL/KG,,UMOL/KG,,PMOL/KG,,PMOL/KG,,PMOL/KG,,UMOL/KG,,UMOL/KG,,TU,,NMOL/KG,,PERCNT,,/MILLE,,/MILLE,,/MILLE,NMOL/KG,,NMOL/KG,PMOL/KG,,NMOL/KG,DEG C,TU,PERCNT
  316N145_8,        I03,     462,          1,         36,         36,2,19950430,       1524,   -20.0002,   104.0008,       5525,     6.7,  26.1578,  35.4106,2,  35.4093,2,    204.4,2,   205.3,2,    3.42,2,    0.01,2,    0.00,2,    0.06,2,   1.800,2,   1.031,2,-999.000,9,  1972.0,6,  2341.0,6,-999.0000,9,-999.0000,9, -999.00,9, -999.00,9,  -999.0,9,  -999.0,-999.000,9,-999.000,-999.000,9,-999.0000,  26.1563,-999.0000,-999.000
  316N145_8,        I03,     462,          1,         35,         35,2,19950430,       1524,   -20.0002,   104.0008,       5525,    59.8,  24.6489,  35.4697,2,  35.5012,2,    218.2,2,   218.4,2,    3.62,2,    0.01,2,    0.00,2,    0.06,2,   1.947,2,   1.109,2,-999.000,9,  1983.3,2,  2318.0,2,-999.0000,9,-999.0000,9, -999.00,9, -999.00,9,  -999.0,9,  -999.0,-999.000,9,-999.000,-999.000,9,-999.0000,  24.6360,-999.0000,-999.000
  316N145_8,        I03,     462,          1,         34,         34,2,19950430,       1524,   -20.0002,   104.0008,       5525,   106.3,  21.0982,  35.5122,2,  35.5099,2,    184.6,2,   183.3,2,    5.47,2,    1.85,2,    0.04,2,    0.30,2,   2.106,2,   1.162,2,-999.000,9,  2039.7,2,  2326.0,2,-999.0000,9,-999.0000,9, -999.00,9, -999.00,9,  -999.0,9,  -999.0,-999.000,9,-999.000,-999.000,9,-999.0000,  21.0777,-999.0000,-999.000
  316N145_8,        I03,     462,          1,         33,         33,2,19950430,       1524,   -20.0002,   104.0008,       5525,   152.5,  19.2964,  35.7324,2,  35.7288,2,    181.4,2,   184.7,2,    5.46,2,    3.81,2,    0.01,2,    0.37,2,   2.226,2,   1.222,2,-999.000,9,  2064.7,2,  2348.0,2,-999.0000,9,-999.0000,9, -999.00,9, -999.00,9,  -999.0,9,  -999.0,-999.000,9,-999.000,-999.000,9,-999.0000,  19.2688,-999.0000,-999.000
  316N145_8,        I03,     462,          1,         32,         32,2,19950430,       1524,   -20.0002,   104.0008,       5525,   206.4,  18.0321,  35.7519,2,  35.7487,2,    190.4,2,   190.0,2,    5.65,2,    4.16,2,    0.01,2,    0.41,2,   2.332,2,   1.273,2,-999.000,9,  2076.8,2,  2346.0,2,-999.0000,9,-999.0000,9, -999.00,9, -999.00,9,  -999.0,9,  -999.0,-999.000,9,-999.000,-999.000,9,-999.0000,  17.9964,-999.0000,-999.000
  316N145_8,        I03,     462,          1,         31,         31,2,19950430,       1524,   -20.0002,   104.0008,       5525,   258.7,  16.0628,  35.6702,2,  35.6744,2,    204.0,2,   203.6,2,    4.81,2,    4.45,2,    0.01,2,    0.45,2,   2.566,2,   1.361,2,-999.000,9,  2087.1,2,  2343.0,2,-999.0000,9,-999.0000,9, -999.00,9, -999.00,9,  -999.0,9,  -999.0,-999.000,9,-999.000,-999.000,9,-999.0000,  16.0215,-999.0000,-999.000
  316N145_8,        I03,     462,          1,         30,         30,2,19950430,       1524,   -20.0002,   104.0008,       5525,   309.5,  14.3654,  35.4643,2,  35.4660,2,    211.6,2,   212.4,2,    4.79,2,    6.10,2,    0.00,2,    0.56,2,   2.733,2,   1.431,2,-999.000,9,  2095.4,2,  2334.0,2,-999.0000,9,-999.0000,9, -999.00,9, -999.00,9,  -999.0,9,  -999.0,-999.000,9,-999.000,-999.000,9,-999.0000,  14.3196,-999.0000,-999.000
  316N145_8,        I03,     462,          1,         29,         29,2,19950430,       1524,   -20.0002,   104.0008,       5525,   358.2,  12.5878,  35.2059,2,  35.2060,2,    219.8,2,   222.3,2,    4.78,2,    8.57,2,    0.00,2,    0.70,2,-999.000,9,-999.000,9,-999.000,9,  2101.7,2,  2320.0,2,-999.0000,9,-999.0000,9, -999.00,9, -999.00,9,  -999.0,9,  -999.0,-999.000,9,-999.000,-999.000,9,-999.0000,  12.5392,-999.0000,-999.000
  316N145_8,        I03,     462,          1,         28,         28,2,19950430,       1524,   -20.0002,   104.0008,       5525,   407.6,  11.0684,  34.9673,2,  34.9658,2,    223.9,2,   227.4,2,    5.39,2,   11.77,2,    0.00,2,    0.90,2,   2.985,2,   1.525,2,-999.000,9,  2108.5,2,  2311.0,2,-999.0000,9,-999.0000,9, -999.00,9, -999.00,9,  -999.0,9,  -999.0,-999.000,9,-999.000,-999.000,9,-999.0000,  11.0175,-999.0000,-999.000
  316N145_8,        I03,     462,          1,         27,         27,2,19950430,       1524,   -20.0002,   104.0008,       5525,   508.8,   9.3636,  34.7089,2,  34.7056,2,    228.0,2,   227.9,2,    7.24,2,   16.76,2,    0.00,2,    1.20,2,   2.746,2,   1.367,2,-999.000,9,  2120.6,2,  2298.0,2,-999.0000,9,-999.0000,9, -999.00,9, -999.00,9,  -999.0,9,  -999.0,-999.000,9,-999.000,-999.000,9,-999.0000,   9.3062,-999.0000,-999.000
  316N145_8,        I03,     462,          1,         26,         26,2,19950430,       1524,   -20.0002,   104.0008,       5525,   610.2,   7.8608,  34.5717,2,  34.5719,2,    192.3,2,   191.0,2,   19.65,2,   23.76,2,    0.00,2,    1.65,2,   1.256,2,   0.634,2,-999.000,9,  2155.8,2,  2280.0,4,-999.0000,9,-999.0000,9, -999.00,9, -999.00,9,  -999.0,9,  -999.0,-999.000,9,-999.000,-999.000,9,-999.0000,   7.7984,-999.0000,-999.000
  316N145_8,        I03,     462,          1,         25,         25,2,19950430,       1524,   -20.0002,   104.0008,       5525,   708.7,   6.2520,  34.5340,2,  34.5352,2,    147.2,2,   145.6,2,   46.75,2,   30.90,2,    0.00,2,    2.17,2,   0.258,2,   0.134,2,-999.000,9,  2213.4,2,  2322.0,2,-999.0000,9,-999.0000,9, -999.00,9, -999.00,9,  -999.0,9,  -999.0,-999.000,9,-999.000,-999.000,9,-999.0000,   6.1877,-999.0000,-999.000
  316N145_8,        I03,     462,          1,         24,         24,2,19950430,       1524,   -20.0002,   104.0008,       5525,   807.6,   5.6201,  34.5984,2,  34.5995,2,    105.5,2,   108.6,2,   71.83,2,   34.61,2,    0.00,2,    2.49,2,   0.029,2,   0.015,2,-999.000,9,  2259.2,2,  2351.0,2,-999.0000,9,-999.0000,9, -999.00,9, -999.00,9,  -999.0,9,  -999.0,-999.000,9,-999.000,-999.000,9,-999.0000,   5.5500,-999.0000,-999.000
  316N145_8,        I03,     462,          1,         23,         23,2,19950430,       1524,   -20.0002,   104.0008,       5525,   908.1,   5.2978,  34.6361,2,  34.6364,2,     97.2,2,    95.9,2,   85.15,2,   35.80,2,    0.00,2,    2.60,2,   0.008,2,   0.004,2,-999.000,9,  2278.6,2,  2361.0,2,-999.0000,9,-999.0000,9, -999.00,9, -999.00,9,  -999.0,9,  -999.0,-999.000,9,-999.000,-999.000,9,-999.0000,   5.2205,-999.0000,-999.000
  316N145_8,        I03,     462,          1,         22,         22,2,19950430,       1524,   -20.0002,   104.0008,       5525,  1008.0,   4.9254,  34.6365,2,  34.6374,2,     97.5,2,    99.3,2,   89.51,2,   35.96,2,    0.00,2,    2.61,2,   0.000,2,   0.002,2,-999.000,9,  2283.6,2,  2364.0,2,-999.0000,9,   1.9140,2,   11.72,2, -999.00,9,  -999.0,9,  -999.0,   8.092,2,   0.034,-999.000,9,   0.0040,   4.8417,-999.0000,    0.19
  316N145_8,        I03,     462,          1,         21,         21,2,19950430,       1524,   -20.0002,   104.0008,       5525,  1108.1,   4.6371,  34.6422,2,  34.6442,2,    101.5,2,   102.6,2,   93.05,2,   36.01,2,    0.00,2,    2.61,2,  -0.001,2,  -0.002,2,-999.000,9,  2286.5,2,  2367.0,2,-999.0000,9,   1.8910,2,   12.37,2, -999.00,9,  -999.0,9,  -999.0,   7.985,2,   0.033,-999.000,9,   0.0040,   4.5467,-999.0000,    0.19
  316N145_8,        I03,     462,          1,         20,         20,2,19950430,       1524,   -20.0002,   104.0008,       5525,  1210.7,   4.2263,  34.6357,2,  34.6368,2,    110.4,2,   108.9,2,   96.98,2,   36.08,2,    0.00,2,    2.61,2,   0.002,2,   0.003,2,-999.000,9,  2289.2,2,  2375.0,2,-999.0000,9,   1.8800,2,   13.07,2, -999.00,9,  -999.0,9,  -999.0,   7.940,2,   0.033,-999.000,9,   0.0040,   4.1304,-999.0000,    0.19
  316N145_8,        I03,     462,          1,         19,         19,2,19950430,       1524,   -20.0002,   104.0008,       5525,  1413.6,   3.5930,  34.6582,2,  34.6589,2,    123.8,2,   124.1,2,   98.70,2,   35.52,2,    0.00,2,    2.56,2,-999.000,9,-999.000,9,-999.000,9,  2284.6,2,  -999.0,5,-999.0000,9,   1.9100,2,   12.37,2, -999.00,9,  -999.0,9,  -999.0,   8.045,2,   0.034,-999.000,9,   0.0040,   3.4857,-999.0000,    0.19
  316N145_8,        I03,     462,          1,         18,         18,2,19950430,       1524,   -20.0002,   104.0008,       5525,  1616.2,   3.0777,  34.6889,2,  34.6901,2,    135.0,2,   133.9,2,  104.97,2,   35.09,2,    0.00,2,    2.51,2,   0.001,2,   0.002,2,-999.000,9,  2288.9,2,  2381.0,2,-999.0000,9,   1.8860,2,   13.10,2, -999.00,9,  -999.0,9,  -999.0,   8.037,2,   0.034,-999.000,9,   0.0040,   2.9589,-999.0000,    0.19
  316N145_8,        I03,     462,          1,         17,         17,2,19950430,       1524,   -20.0002,   104.0008,       5525,  1819.3,   2.6115,  34.7099,2,  34.7102,2,    143.2,2,   145.1,2,  110.88,2,   34.59,2,    0.00,2,    2.46,2,-999.000,9,-999.000,9,-999.000,9,  -999.0,9,  -999.0,9,-999.0000,9,   1.8880,2,   13.42,2, -999.00,9,  -999.0,9,  -999.0,   8.063,2,   0.018,-999.000,9,   0.0030,   2.4812,-999.0000,    0.14
  316N145_8,        I03,     462,          1,         16,         16,2,19950430,       1524,   -20.0002,   104.0008,       5525,  2020.3,   2.3152,  34.7208,2,  34.7221,2,    151.8,2,   151.2,2,  116.41,2,   34.25,2,    0.00,2,    2.44,2,  -0.001,2,   0.001,2,-999.000,9,  2293.3,2,  2398.0,2,-999.0000,9,-999.0000,9, -999.00,9, -999.00,9,  -999.0,9,  -999.0,-999.000,9,-999.000,-999.000,9,-999.0000,   2.1719,-999.0000,-999.000
  316N145_8,        I03,     462,          1,         15,         15,2,19950430,       1524,   -20.0002,   104.0008,       5525,  2225.1,   2.1106,  34.7260,2,  34.7263,2,    155.5,2,   155.0,2,  121.53,2,   34.21,2,    0.00,2,    2.43,2,-999.000,9,-999.000,9,-999.000,9,  2296.1,2,  2396.0,2,-999.0000,9,-999.0000,9, -999.00,9, -999.00,9,  -999.0,9,  -999.0,-999.000,9,-999.000,-999.000,9,-999.0000,   1.9527,-999.0000,-999.000
  316N145_8,        I03,     462,          1,         14,         14,2,19950430,       1524,   -20.0002,   104.0008,       5525,  2427.4,   1.9611,  34.7263,2,  34.7268,2,    159.8,2,   164.4,3,  122.57,2,   34.02,2,    0.00,2,    2.41,2,   0.002,2,   0.003,2,-999.000,9,  2294.5,2,  2398.0,2,-999.0000,9,   1.9050,2,   13.95,2, -999.00,9,  -999.0,9,  -999.0,   8.121,2,   0.034,-999.000,9,   0.0040,   1.7878,-999.0000,    0.19
  316N145_8,        I03,     462,          1,         13,         13,2,19950430,       1524,   -20.0002,   104.0008,       5525,  2628.4,   1.8196,  34.7259,2,  34.7264,2,    166.8,2,   166.6,2,  122.75,2,   33.63,2,    0.00,2,    2.37,2,-999.000,9,-999.000,9,-999.000,9,  2291.8,2,  2398.0,2,-999.0000,9,-999.0000,9, -999.00,9, -999.00,9,  -999.0,9,  -999.0,-999.000,9,-999.000,-999.000,9,-999.0000,   1.6307,-999.0000,-999.000
  316N145_8,        I03,     462,          1,         12,         12,2,19950430,       1524,   -20.0002,   104.0008,       5525,  2831.6,   1.6843,  34.7249,2,  34.7253,2,    171.5,2,   171.7,2,  123.80,2,   33.38,2,    0.00,2,    2.35,2,  -0.001,2,   0.000,2,-999.000,9,  2288.6,2,  2396.0,2,-999.0000,9,-999.0000,9, -999.00,9, -999.00,9,  -999.0,9,  -999.0,-999.000,9,-999.000,-999.000,9,-999.0000,   1.4792,-999.0000,-999.000
  316N145_8,        I03,     462,          1,         11,         11,2,19950430,       1524,   -20.0002,   104.0008,       5525,  3035.9,   1.5451,  34.7227,2,  34.7245,2,    175.7,2,   176.7,2,  125.27,2,   33.29,2,    0.00,2,    2.33,2,-999.000,9,-999.000,9,-999.000,9,  2287.3,2,  2398.5,6,-999.0000,9,-999.0000,9, -999.00,9, -999.00,9,  -999.0,9,  -999.0,-999.000,9,-999.000,-999.000,9,-999.0000,   1.3236,-999.0000,-999.000
  316N145_8,        I03,     462,          1,         10,         10,2,19950430,       1524,   -20.0002,   104.0008,       5525,  3290.1,   1.4220,  34.7202,2,  34.7211,2,    181.0,2,   179.8,2,  128.06,2,   33.25,2,    0.00,2,    2.33,2,   0.001,2,   0.004,2,-999.000,9,  2288.3,2,  2402.0,2,-999.0000,9,-999.0000,9, -999.00,9, -999.00,9,  -999.0,9,  -999.0,-999.000,9,-999.000,-999.000,9,-999.0000,   1.1787,-999.0000,-999.000
  316N145_8,        I03,     462,          1,          9,          9,2,19950430,       1524,   -20.0002,   104.0008,       5525,  3545.0,   1.3254,  34.7178,2,  34.7182,2,    184.1,2,   184.0,2,  128.68,2,   33.15,2,    0.00,2,    2.31,2,-999.000,9,-999.000,9,-999.000,9,  2285.4,2,  2402.0,2,-999.0000,9,   1.9320,2,   12.01,2, -999.00,9,  -999.0,9,  -999.0,   8.265,2,   0.013,-999.000,9,   0.0030,   1.0589,-999.0000,    0.18
  316N145_8,        I03,     462,          1,          8,          8,2,19950430,       1524,   -20.0002,   104.0008,       5525,  3800.6,   1.2576,  34.7159,2,  34.7162,2,    187.0,2,   187.3,2,  129.51,2,   33.01,2,    0.00,2,    2.30,2,   0.003,2,   0.004,2,-999.000,9,  2285.1,2,  2398.0,2,-999.0000,9,   1.9000,2,   12.24,2, -999.00,9,  -999.0,9,  -999.0,   8.080,2,   0.019,-999.000,9,   0.0020,   0.9665,-999.0000,    0.17
  316N145_8,        I03,     462,          1,          7,          7,2,19950430,       1524,   -20.0002,   104.0008,       5525,  4055.5,   1.2134,  34.7142,2,  34.7151,2,    189.1,2,   189.7,2,  130.12,2,   32.97,2,    0.00,2,    2.29,2,-999.000,9,-999.000,9,-999.000,9,  2284.2,2,  2402.0,2,-999.0000,9,   1.9460,2,   11.77,2, -999.00,9,  -999.0,9,  -999.0,   8.321,2,   0.019,-999.000,9,   0.0020,   0.8965,-999.0000,    0.17
  316N145_8,        I03,     462,          1,          6,          6,2,19950430,       1524,   -20.0002,   104.0008,       5525,  4310.7,   1.1878,  34.7134,2,  34.7139,2,    192.1,2,   192.2,2,  130.08,2,   32.77,2,    0.00,2,    2.28,2,   0.000,2,   0.003,2,-999.000,9,  2283.0,2,  2398.0,2,-999.0000,9,-999.0000,9, -999.00,9, -999.00,9,  -999.0,9,  -999.0,-999.000,9,-999.000,-999.000,9,-999.0000,   0.8436,-999.0000,-999.000
  316N145_8,        I03,     462,          1,          5,          5,2,19950430,       1524,   -20.0002,   104.0008,       5525,  4567.2,   1.1724,  34.7128,2,  34.7121,2,    195.4,2,   194.2,2,  129.61,2,   32.73,2,    0.00,2,    2.28,2,-999.000,9,-999.000,9,-999.000,9,  2281.6,2,  2400.0,2,-999.0000,9,   1.9050,2,   11.42,2, -999.00,9,  -999.0,9,  -999.0,   8.189,2,   0.013,-999.000,9,   0.0020,   0.7998,-999.0000,    0.18
  316N145_8,        I03,     462,          1,          4,          4,2,19950430,       1524,   -20.0002,   104.0008,       5525,  4824.6,   1.1574,  34.7116,2,  34.7125,2,    196.7,2,   197.2,2,  128.69,2,   32.59,2,    0.00,2,    2.26,2,   0.000,2,   0.000,2,-999.000,9,  2276.3,2,  2393.0,2,-999.0000,9,   1.9710,3,   10.85,2, -999.00,9,  -999.0,9,  -999.0,   8.449,3,   0.019,-999.000,9,   0.0030,   0.7554,-999.0000,    0.14
  316N145_8,        I03,     462,          1,          3,          3,2,19950430,       1524,   -20.0002,   104.0008,       5525,  5079.7,   1.1526,  34.7110,2,  34.7117,2,    199.1,2,   199.6,2,  127.57,2,   32.45,2,    0.00,2,    2.25,2,-999.000,9,-999.000,9,-999.000,9,  2274.7,2,  2395.0,2,-999.0000,9,-999.0000,9, -999.00,9, -999.00,9,  -999.0,9,  -999.0,-999.000,9,-999.000,-999.000,9,-999.0000,   0.7204,-999.0000,-999.000
  316N145_8,        I03,     462,          1,          2,          2,2,19950430,       1524,   -20.0002,   104.0008,       5525,  5388.6,   1.1639,  34.7097,2,  34.7113,2,    200.3,2,   201.3,2,  126.66,2,   32.35,2,    0.00,2,    2.24,2,   0.002,2,   0.004,2,-999.000,9,  2271.9,2,  2389.0,2,-999.0000,9,   1.8940,2,   10.60,2, -999.00,9,  -999.0,9,  -999.0,   8.198,2,   0.018,-999.000,9,   0.0040,   0.6934,-999.0000,    0.14
  316N145_8,        I03,     462,          1,          1,          1,2,19950430,       1524,   -20.0002,   104.0008,       5525,  5698.3,   1.1954,  34.7099,2,  34.7108,2,    202.6,2,   202.0,2,  126.62,2,   32.36,2,    0.00,2,    2.24,2,   0.000,2,   0.003,2,-999.000,9,  2271.9,2,  2386.0,2,-999.0000,9,   1.8850,2,   10.60,2, -999.00,9,  -999.0,9,  -999.0,   8.178,2,   0.018,-999.000,9,   0.0030,   0.6845,-999.0000,    0.14