BOTTLE,20140514CCHSIOSE
EXPOCODE,SECT_ID,STNNBR,CASTNO,SAMPNO,BTLNBR,BTLNBR_FLAG_W,DATE,TIME,LATITUDE,LONGITUDE,DEPTH,CTDPRS,CTDTMP,CTDSAL,CTDSAL_FLAG_W,SALNTY,SALNTY_FLAG_W,CTDOXY,CTDOXY_FLAG_W,OXYGEN,OXYGEN_FLAG_W,SILCAT,SILCAT_FLAG_W,NITRAT,NITRAT_FLAG_W,NITRIT,NITRIT_FLAG_W,PHSPHT,PHSPHT_FLAG_W,CFC-11,CFC-11_FLAG_W,CFC-12,CFC-12_FLAG_W,CFC113,CFC113_FLAG_W,TCARBN,TCARBN_FLAG_W,ALKALI,ALKALI_FLAG_W,TRITUM,TRITUM_FLAG_W,HELIUM,HELIUM_FLAG_W,DELHE3,DELHE3_FLAG_W,DELC13,DELC13_FLAG_W,DELC14,DELC14_FLAG_W,C14ERR,NEON,NEON_FLAG_W,NEONER,CCL4,CCL4_FLAG_W,HELIER,THETA,TRITER,DELHER
,,,,,,,,,,,METERS,DBAR,ITS-90,PSS-78,,PSS-78,,UMOL/KG,,UMOL/KG,,UMOL/KG,,UMOL/KG,,UMOL/KG,,UMOL/KG,,PMOL/KG,,PMOL/KG,,PMOL/KG,,UMOL/KG,,UMOL/KG,,TU,,NMOL/KG,,PERCNT,,/MILLE,,/MILLE,,/MILLE,NMOL/KG,,NMOL/KG,PMOL/KG,,NMOL/KG,DEG C,TU,PERCNT
  316N145_8,        I03,     523,          1,         26,         26,2,19950520,       1427,   -19.9995,    65.9832,       2457,     2.7,  25.7412,  34.7039,2,  34.7035,2,    204.0,2,   205.6,2,    2.75,2,    0.00,2,    0.00,2,    0.12,2,-999.000,9,-999.000,9,   0.104,3,  1935.4,2,  2271.5,6,   1.1290,2,   1.7233,2,   -1.07,2, -999.00,9,  -999.0,9,  -999.0,   6.824,2,   0.034,   1.935,2,   0.0086,  25.7407,   0.0040,    0.14
  316N145_8,        I03,     523,          1,         25,         25,2,19950520,       1427,   -19.9995,    65.9832,       2457,    54.3,  24.8260,  35.0580,2,  35.0562,2,    211.3,2,   208.9,2,    2.53,2,    0.00,2,    0.00,2,    0.12,2,-999.000,9,-999.000,9,-999.000,9,  1956.0,2,  2295.0,2,   1.1192,2,   1.7375,2,   -1.12,2, -999.00,9,  -999.0,9,  -999.0,   6.877,2,   0.034,-999.000,9,   0.0087,  24.8143,   0.0040,    0.14
  316N145_8,        I03,     523,          1,         24,         24,2,19950520,       1427,   -19.9995,    65.9832,       2457,   104.3,  22.8288,  35.3189,2,  35.3154,2,    221.7,2,   213.7,2,    2.95,2,    0.05,2,    0.02,2,    0.15,2,-999.000,9,-999.000,9,   0.126,3,  1988.9,2,  2310.0,2,   1.1267,2,   1.7318,2,   -0.93,2, -999.00,9,  -999.0,9,  -999.0,   6.961,2,   0.035,   1.309,2,   0.0087,  22.8076,   0.0040,    0.14
  316N145_8,        I03,     523,          1,         23,         23,2,19950520,       1427,   -19.9995,    65.9832,       2457,   154.9,  20.6174,  35.5411,2,  35.5363,2,    190.5,2,   190.8,2,    3.79,2,    2.27,2,    0.03,2,    0.30,2,-999.000,9,-999.000,9,-999.000,9,  2034.1,2,  2325.0,2,   1.0975,2,   1.7370,2,   -0.63,2, -999.00,9,  -999.0,9,  -999.0,   7.002,2,   0.035,-999.000,9,   0.0087,  20.5881,   0.0040,    0.14
  316N145_8,        I03,     523,          1,         22,         22,2,19950520,       1427,   -19.9995,    65.9832,       2457,   204.8,  18.5413,  35.6765,2,  35.6732,2,    189.2,2,   188.0,2,    4.84,2,    3.72,2,    0.01,2,    0.40,2,-999.000,9,-999.000,9,   0.057,3,  2070.5,2,  2338.0,2,   1.0347,2,   1.7405,2,    0.05,2, -999.00,9,  -999.0,9,  -999.0,   7.081,2,   0.035,   0.612,2,   0.0087,  18.5052,   0.0039,    0.14
  316N145_8,        I03,     523,          1,         21,         21,2,19950520,       1427,   -19.9995,    65.9832,       2457,   256.1,  16.6139,  35.6485,2,  35.6521,2,    198.7,2,   198.6,2,    4.42,2,    4.01,2,    0.01,2,    0.44,2,-999.000,9,-999.000,9,-999.000,9,  2085.4,2,  2341.0,2,   0.9549,2,   1.7362,2,    0.38,2, -999.00,9,  -999.0,9,  -999.0,   7.146,2,   0.036,-999.000,9,   0.0087,  16.5721,   0.0038,    0.14
  316N145_8,        I03,     523,          1,         20,         20,2,19950520,       1427,   -19.9995,    65.9832,       2457,   303.7,  14.9400,  35.4819,2,  35.4812,2,    205.7,2,   205.7,2,    4.63,2,    5.77,2,    0.01,2,    0.55,2,-999.000,9,-999.000,9,-999.000,9,  2095.4,2,  2334.0,2,   0.8605,2,   1.7384,2,    0.42,2, -999.00,9,  -999.0,9,  -999.0,   7.184,2,   0.036,-999.000,9,   0.0087,  14.8938,   0.0036,    0.14
  316N145_8,        I03,     523,          1,         19,         19,2,19950520,       1427,   -19.9995,    65.9832,       2457,   356.8,  13.7283,  35.3337,2,  35.3237,2,    211.6,2,   214.5,2,    4.42,2,    7.38,2,    0.01,2,    0.64,2,-999.000,9,-999.000,9,-999.000,9,  2098.1,2,  2325.0,2,-999.0000,9,-999.0000,9, -999.00,9, -999.00,9,  -999.0,9,  -999.0,-999.000,9,-999.000,-999.000,9,-999.0000,  13.6770,-999.0000,-999.000
  316N145_8,        I03,     523,          1,         18,         18,2,19950520,       1427,   -19.9995,    65.9832,       2457,   407.1,  12.4406,  35.1541,2,  35.1547,2,    220.0,2,   224.1,2,    4.21,2,    9.23,2,    0.01,2,    0.74,2,-999.000,9,-999.000,9,-999.000,9,  2100.5,2,  2317.0,2,   0.7109,2,   1.7467,2,    0.02,2, -999.00,9,  -999.0,9,  -999.0,   7.334,2,   0.037,-999.000,9,   0.0087,  12.3857,   0.0033,    0.14
  316N145_8,        I03,     523,          1,         17,         17,2,19950520,       1427,   -19.9995,    65.9832,       2457,   455.9,  11.6081,  35.0304,2,  35.0309,2,    227.2,2,   227.4,2,    4.41,2,   10.85,2,    0.01,2,    0.84,2,-999.000,9,-999.000,9,-999.000,9,  2103.3,2,  2311.0,2,-999.0000,9,-999.0000,9, -999.00,9, -999.00,9,  -999.0,9,  -999.0,-999.000,9,-999.000,-999.000,9,-999.0000,  11.5492,-999.0000,-999.000
  316N145_8,        I03,     523,          1,         16,         16,2,19950520,       1427,   -19.9995,    65.9832,       2457,   505.8,  10.9237,  34.9255,2,  34.9257,2,    229.0,2,   230.2,2,    4.62,2,   12.32,2,    0.01,2,    0.92,2,-999.000,9,-999.000,9,-999.000,9,  2106.2,2,  2305.0,2,   0.5897,2,   1.7537,2,    0.15,2, -999.00,9,  -999.0,9,  -999.0,   7.413,2,   0.037,-999.000,9,   0.0088,  10.8608,   0.0031,    0.14
  316N145_8,        I03,     523,          1,         15,         15,2,19950520,       1427,   -19.9995,    65.9832,       2457,   605.6,   9.5835,  34.7346,2,  34.7343,2,    226.0,2,   225.2,2,    6.51,2,   16.26,2,    0.00,2,    1.16,2,   2.160,2,   1.071,2,-999.000,9,  2116.9,2,  2297.0,2,-999.0000,9,-999.0000,9, -999.00,9, -999.00,9,  -999.0,9,  -999.0,-999.000,9,-999.000,-999.000,9,-999.0000,   9.5138,-999.0000,-999.000
  316N145_8,        I03,     523,          1,         14,         14,2,19950520,       1427,   -19.9995,    65.9832,       2457,   706.1,   8.0309,  34.5807,2,  34.5838,2,    208.0,2,   206.1,2,   13.23,2,   21.82,2,    0.01,2,    1.51,2,   1.166,2,   0.590,2,-999.000,9,  2142.0,2,  2293.0,2,-999.0000,9,-999.0000,9, -999.00,9, -999.00,9,  -999.0,9,  -999.0,-999.000,9,-999.000,-999.000,9,-999.0000,   7.9574,-999.0000,-999.000
  316N145_8,        I03,     523,          1,         13,         13,2,19950520,       1427,   -19.9995,    65.9832,       2457,   807.4,   6.2988,  34.5007,2,  34.5013,2,    178.1,2,   172.4,2,   34.00,2,   28.79,2,    0.00,2,    2.00,2,   0.311,2,   0.163,2,-999.000,9,  2190.6,2,  2307.0,2,   0.0805,2,   1.8074,2,    3.91,2, -999.00,9,  -999.0,9,  -999.0,   7.747,2,   0.039,-999.000,9,   0.0090,   6.2247,   0.0023,    0.14
  316N145_8,        I03,     523,          1,         12,         12,2,19950520,       1427,   -19.9995,    65.9832,       2457,   908.0,   5.0724,  34.5440,2,  34.5454,2,    139.5,2,   138.5,2,   62.34,2,   33.65,2,    0.00,2,    2.39,2,   0.051,2,   0.026,2,-999.000,9,  2241.6,2,  2335.0,2,-999.0000,9,-999.0000,9, -999.00,9, -999.00,9,  -999.0,9,  -999.0,-999.000,9,-999.000,-999.000,9,-999.0000,   4.9968,-999.0000,-999.000
  316N145_8,        I03,     523,          1,         11,         11,2,19950520,       1427,   -19.9995,    65.9832,       2457,  1009.5,   4.7931,  34.6052,2,  34.6046,2,    124.6,2,   124.1,2,   75.58,2,   34.71,2,    0.00,2,    2.49,2,   0.018,2,   0.008,2,-999.000,9,  2260.9,2,  2351.0,2,   0.0078,2,   1.8371,2,    9.68,2, -999.00,9,  -999.0,9,  -999.0,   7.812,2,   0.039,-999.000,9,   0.0092,   4.7104,   0.0022,    0.14
  316N145_8,        I03,     523,          1,         10,         10,2,19950520,       1427,   -19.9995,    65.9832,       2457,  1109.8,   4.6177,  34.6418,2,  34.6438,2,    118.4,2,   119.3,2,   82.09,2,   34.99,2,    0.00,2,    2.52,2,   0.016,2,   0.005,2,-999.000,9,  2270.6,2,  2357.0,2,   0.0076,2,   1.8480,2,   10.83,2, -999.00,9,  -999.0,9,  -999.0,   7.850,2,   0.039,-999.000,9,   0.0092,   4.5273,   0.0022,    0.14
  316N145_8,        I03,     523,          1,          9,          9,2,19950520,       1427,   -19.9995,    65.9832,       2457,  1210.1,   4.3994,  34.6717,2,  34.6723,2,    118.2,2,   117.8,2,   88.19,2,   35.18,2,    0.00,2,    2.53,2,   0.010,2,   0.004,2,-999.000,9,  2276.5,2,  2364.0,2,-999.0000,9,-999.0000,9, -999.00,9, -999.00,9,  -999.0,9,  -999.0,-999.000,9,-999.000,-999.000,9,-999.0000,   4.3019,-999.0000,-999.000
  316N145_8,        I03,     523,          1,          8,          8,2,19950520,       1427,   -19.9995,    65.9832,       2457,  1312.4,   4.1511,  34.6778,2,  34.6786,2,    121.1,2,   121.5,2,   90.91,2,   35.12,2,    0.00,2,    2.53,2,-999.000,9,-999.000,9,-999.000,9,  2280.0,2,  2366.0,2,   0.0009,2,   1.8234,2,   11.49,2, -999.00,9,  -999.0,9,  -999.0,   7.785,2,   0.039,-999.000,9,   0.0091,   4.0468,   0.0022,    0.14
  316N145_8,        I03,     523,          1,          7,          7,2,19950520,       1427,   -19.9995,    65.9832,       2457,  1413.0,   3.8524,  34.6877,2,  34.6892,2,    125.8,2,   124.6,2,   94.47,2,   35.02,2,    0.00,2,    2.53,2,-999.000,9,-999.000,9,-999.000,9,  2281.7,6,  2370.0,6,-999.0000,9,-999.0000,9, -999.00,9, -999.00,9,  -999.0,9,  -999.0,-999.000,9,-999.000,-999.000,9,-999.0000,   3.7423,-999.0000,-999.000
  316N145_8,        I03,     523,          1,          6,          6,2,19950520,       1427,   -19.9995,    65.9832,       2457,  1513.8,   3.4990,  34.6912,2,  34.6901,2,    132.1,2,   132.6,2,   96.77,2,   34.86,2,    0.00,2,    2.50,2,-999.000,9,-999.000,9,  -0.020,3,  2281.1,2,  2371.0,2,   0.0075,2,   1.8393,2,   12.11,2, -999.00,9,  -999.0,9,  -999.0,   7.841,2,   0.039,   0.026,2,   0.0092,   3.3839,   0.0023,    0.14
  316N145_8,        I03,     523,          1,          5,          5,2,19950520,       1427,   -19.9995,    65.9832,       2457,  1715.4,   2.8481,  34.6953,2,  34.6939,2,    150.1,2,   151.2,2,   98.85,2,   33.94,2,    0.00,2,    2.41,2,-999.000,9,-999.000,9,-999.000,9,  2276.4,2,  2374.0,2,  -0.0021,2,   1.8312,2,   12.82,2, -999.00,9,  -999.0,9,  -999.0,   7.858,2,   0.039,-999.000,9,   0.0092,   2.7236,   0.0022,    0.14
  316N145_8,        I03,     523,          1,          4,          4,2,19950520,       1427,   -19.9995,    65.9832,       2457,  1917.7,   2.3170,  34.7128,2,  34.7137,2,    164.3,2,   164.2,2,  106.07,2,   33.25,2,    0.00,2,    2.35,2,-999.000,9,-999.000,9,-999.000,9,  2276.1,2,  2379.0,2,-999.0000,9,-999.0000,9, -999.00,9, -999.00,9,  -999.0,9,  -999.0,-999.000,9,-999.000,-999.000,9,-999.0000,   2.1825,-999.0000,-999.000
  316N145_8,        I03,     523,          1,          3,          3,2,19950520,       1427,   -19.9995,    65.9832,       2457,  2122.3,   2.0388,  34.7193,2,  34.7196,2,    169.8,2,   170.8,2,  112.04,2,   33.15,2,    0.00,2,    2.33,2,-999.000,9,-999.000,9,-999.000,9,  2279.6,2,  2385.0,2,-999.0000,9,   1.8830,2,   17.02,2, -999.00,9,  -999.0,9,  -999.0,   8.032,2,   0.021,-999.000,9,   0.0030,   1.8911,-999.0000,    0.13
  316N145_8,        I03,     523,          1,          2,          2,2,19950520,       1427,   -19.9995,    65.9832,       2457,  2322.8,   1.9753,  34.7200,2,  34.7213,2,    171.2,2,   172.2,2,  113.93,2,   33.09,2,    0.00,2,    2.33,2,-999.000,9,-999.000,9,  -0.011,3,  2280.4,2,  2388.0,2,-999.0000,9,   1.7800,3,   17.10,2, -999.00,9,  -999.0,9,  -999.0,   7.642,4,   0.045,   0.015,2,   0.0030,   1.8111,-999.0000,    0.12
  316N145_8,        I03,     523,          1,          1,          1,2,19950520,       1427,   -19.9995,    65.9832,       2457,  2500.2,   1.9629,  34.7209,2,  34.7225,2,    172.5,2,   171.9,2,  114.52,2,   33.08,2,    0.00,2,    2.32,2,-999.000,9,-999.000,9,   0.012,3,  2282.1,2,  2390.0,2,-999.0000,9,   1.8900,2,   17.40,2, -999.00,9,  -999.0,9,  -999.0,   8.077,2,   0.021,   0.009,2,   0.0030,   1.7830,-999.0000,    0.12