BOTTLE,20140514CCHSIOSE
EXPOCODE,SECT_ID,STNNBR,CASTNO,SAMPNO,BTLNBR,BTLNBR_FLAG_W,DATE,TIME,LATITUDE,LONGITUDE,DEPTH,CTDPRS,CTDTMP,CTDSAL,CTDSAL_FLAG_W,SALNTY,SALNTY_FLAG_W,CTDOXY,CTDOXY_FLAG_W,OXYGEN,OXYGEN_FLAG_W,SILCAT,SILCAT_FLAG_W,NITRAT,NITRAT_FLAG_W,NITRIT,NITRIT_FLAG_W,PHSPHT,PHSPHT_FLAG_W,CFC-11,CFC-11_FLAG_W,CFC-12,CFC-12_FLAG_W,CFC113,CFC113_FLAG_W,TCARBN,TCARBN_FLAG_W,ALKALI,ALKALI_FLAG_W,TRITUM,TRITUM_FLAG_W,HELIUM,HELIUM_FLAG_W,DELHE3,DELHE3_FLAG_W,DELC13,DELC13_FLAG_W,DELC14,DELC14_FLAG_W,C14ERR,NEON,NEON_FLAG_W,NEONER,CCL4,CCL4_FLAG_W,HELIER,THETA,TRITER,DELHER
,,,,,,,,,,,METERS,DBAR,ITS-90,PSS-78,,PSS-78,,UMOL/KG,,UMOL/KG,,UMOL/KG,,UMOL/KG,,UMOL/KG,,UMOL/KG,,PMOL/KG,,PMOL/KG,,PMOL/KG,,UMOL/KG,,UMOL/KG,,TU,,NMOL/KG,,PERCNT,,/MILLE,,/MILLE,,/MILLE,NMOL/KG,,NMOL/KG,PMOL/KG,,NMOL/KG,DEG C,TU,PERCNT
  316N145_8,        I03,     449,          1,         31,         31,2,19950426,       2114,   -22.0778,   112.8143,       2226,     9.2,  28.0139,  35.2580,2,  35.2591,2,    194.9,2,   197.5,2,    4.22,2,    0.07,3,    0.00,2,    0.11,2,-999.000,9,-999.000,9,-999.000,9,  -999.0,9,  -999.0,9,   1.1933,2,   1.7637,2,   -1.27,2,    1.27,2,    63.9,2,     3.0,   6.835,2,   0.034,-999.000,9,   0.0088,  28.0117,   0.0046,    0.14
  316N145_8,        I03,     449,          1,         30,         30,2,19950426,       2114,   -22.0778,   112.8143,       2226,    34.5,  27.3865,  35.2245,2,  35.2266,2,    201.4,2,   197.9,2,    4.64,2,    0.12,3,    0.00,2,    0.12,2,-999.000,9,-999.000,9,-999.000,9,  -999.0,9,  -999.0,9,-999.0000,9,-999.0000,9, -999.00,9, -999.00,9,  -999.0,9,  -999.0,-999.000,9,-999.000,-999.000,9,-999.0000,  27.3785,-999.0000,-999.000
  316N145_8,        I03,     449,          1,         29,         29,2,19950426,       2114,   -22.0778,   112.8143,       2226,    64.8,  26.9730,  35.2206,2,  35.2158,2,    203.0,2,   196.7,2,    4.22,2,    0.13,3,    0.03,2,    0.14,2,-999.000,9,-999.000,9,-999.000,9,  -999.0,9,  -999.0,9,   1.1858,2,   1.7535,2,   -1.04,2, -999.00,9,  -999.0,9,  -999.0,   6.855,2,   0.034,-999.000,9,   0.0088,  26.9582,   0.0045,    0.14
  316N145_8,        I03,     449,          1,         28,         28,2,19950426,       2114,   -22.0778,   112.8143,       2226,    94.4,  23.7690,  35.1499,2,  35.1578,2,    179.5,2,   166.6,2,    8.02,2,    4.05,3,    0.04,2,    0.43,2,-999.000,9,-999.000,9,-999.000,9,  -999.0,9,  -999.0,9,-999.0000,9,-999.0000,9, -999.00,9,    0.07,3,    68.4,2,     2.8,-999.000,9,-999.000,-999.000,9,-999.0000,  23.7493,-999.0000,-999.000
  316N145_8,        I03,     449,          1,         27,         27,2,19950426,       2114,   -22.0778,   112.8143,       2226,   124.4,  21.8950,  35.2541,2,  35.2638,2,    169.5,2,   158.9,2,    8.86,2,    5.48,3,    0.03,2,    0.52,2,-999.000,9,-999.000,9,-999.000,9,  -999.0,9,  -999.0,9,-999.0000,9,   1.7303,2,    0.62,2, -999.00,9,  -999.0,9,  -999.0,   6.945,2,   0.035,-999.000,9,   0.0087,  21.8704,-999.0000,    0.14
  316N145_8,        I03,     449,          1,         26,         26,2,19950426,       2114,   -22.0778,   112.8143,       2226,   156.1,  20.2535,  35.4220,2,  35.4164,2,    163.9,2,   161.4,2,    9.07,2,    6.45,3,    0.02,2,    0.56,2,-999.000,9,-999.000,9,-999.000,9,  -999.0,9,  -999.0,9,   1.0938,2,   1.7581,2,    0.70,2,    0.61,3,    59.6,2,     2.8,   7.083,2,   0.035,-999.000,9,   0.0088,  20.2244,   0.0043,    0.14
  316N145_8,        I03,     449,          1,         25,         25,2,19950426,       2114,   -22.0778,   112.8143,       2226,   204.5,  19.1398,  35.8474,2,  35.8456,2,    203.0,2,   199.2,2,    3.58,2,    1.91,3,    0.02,2,    0.27,2,-999.000,9,-999.000,9,-999.000,9,  -999.0,9,  -999.0,9,   1.0869,2,   1.7872,2,   -0.76,2,   -0.14,3,    43.7,2,     2.7,   7.232,2,   0.036,-999.000,9,   0.0089,  19.1029,   0.0044,    0.14
  316N145_8,        I03,     449,          1,         24,         24,2,19950426,       2114,   -22.0778,   112.8143,       2226,   255.6,  17.1977,  35.7753,2,  35.7510,2,    209.4,2,   206.2,2,    4.01,2,    3.20,3,    0.01,2,    0.37,2,-999.000,9,-999.000,9,-999.000,9,  -999.0,9,  -999.0,9,   1.0153,2,   1.7508,2,   -0.50,2, -999.00,9,  -999.0,9,  -999.0,   7.189,2,   0.036,-999.000,9,   0.0088,  17.1549,   0.0042,    0.14
  316N145_8,        I03,     449,          1,         23,         23,2,19950426,       2114,   -22.0778,   112.8143,       2226,   305.3,  14.3070,  35.4386,2,  35.4248,2,    210.3,2,   206.7,2,    6.75,2,    6.99,3,    0.01,2,    0.61,2,-999.000,9,-999.000,9,-999.000,9,  -999.0,9,  -999.0,9,   0.8108,2,   1.7510,2,    0.24,2,    1.08,2,    64.4,2,     3.2,   7.272,2,   0.036,-999.000,9,   0.0088,  14.2619,   0.0038,    0.14
  316N145_8,        I03,     449,          1,         22,         22,2,19950426,       2114,   -22.0778,   112.8143,       2226,   355.4,  12.0103,  35.1068,2,  35.1119,2,    203.9,2,   219.2,2,    6.75,2,   10.00,3,    0.01,2,    0.79,2,-999.000,9,-999.000,9,-999.000,9,  -999.0,9,  -999.0,9,   0.6895,2,   1.7805,2,    0.18,2, -999.00,9,  -999.0,9,  -999.0,   7.448,2,   0.037,-999.000,9,   0.0089,  11.9636,   0.0036,    0.14
  316N145_8,        I03,     449,          1,         21,         21,2,19950426,       2114,   -22.0778,   112.8143,       2226,   405.8,  10.9430,  34.9328,2,  34.9399,2,    224.9,2,   231.6,2,    5.06,2,   11.73,3,    0.01,2,    0.89,2,-999.000,9,-999.000,9,-999.000,9,  -999.0,9,  -999.0,9,   0.5642,2,   1.7517,2,   -0.52,2,    1.30,2,    71.3,2,     2.6,   7.388,2,   0.037,-999.000,9,   0.0088,  10.8927,   0.0033,    0.14
  316N145_8,        I03,     449,          1,         20,         20,2,19950426,       2114,   -22.0778,   112.8143,       2226,   456.5,  10.0765,  34.8111,2,  34.8026,2,    229.9,2,   232.4,2,    5.91,2,   14.33,3,    0.01,2,    1.04,2,-999.000,9,-999.000,9,-999.000,9,  -999.0,9,  -999.0,9,-999.0000,9,-999.0000,9, -999.00,9, -999.00,9,  -999.0,9,  -999.0,-999.000,9,-999.000,-999.000,9,-999.0000,  10.0227,-999.0000,-999.000
  316N145_8,        I03,     449,          1,         19,         19,2,19950426,       2114,   -22.0778,   112.8143,       2226,   506.4,   9.1315,  34.6814,2,  34.6856,2,    222.9,2,   224.4,2,    8.44,2,   17.74,3,    0.01,2,    1.24,2,-999.000,9,-999.000,9,-999.000,9,  -999.0,9,  -999.0,9,   0.4145,2,   1.7570,2,    0.45,2,    1.11,2,    40.7,2,     2.7,   7.467,2,   0.037,-999.000,9,   0.0088,   9.0752,   0.0030,    0.14
  316N145_8,        I03,     449,          1,         18,         18,2,19950426,       2114,   -22.0778,   112.8143,       2226,   606.8,   7.4259,  34.5823,2,  34.5834,2,    161.4,2,   160.2,2,   34.60,2,   27.51,3,    0.00,2,    1.90,2,-999.000,9,-999.000,9,-999.000,9,  -999.0,9,  -999.0,9,   0.1895,2,   1.7928,2,    5.06,2,    0.77,2,   -56.4,2,     3.4,   7.654,2,   0.038,-999.000,9,   0.0090,   7.3658,   0.0026,    0.14
  316N145_8,        I03,     449,          1,         17,         17,2,19950426,       2114,   -22.0778,   112.8143,       2226,   708.8,   6.5480,  34.5925,2,  34.5930,2,    118.5,2,   115.5,2,   59.52,2,   33.04,3,    0.00,2,    2.32,2,-999.000,9,-999.000,9,-999.000,9,  -999.0,9,  -999.0,9,-999.0000,9,-999.0000,9, -999.00,9, -999.00,9,  -999.0,9,  -999.0,-999.000,9,-999.000,-999.000,9,-999.0000,   6.4820,-999.0000,-999.000
  316N145_8,        I03,     449,          1,         16,         16,2,19950426,       2114,   -22.0778,   112.8143,       2226,   809.1,   6.0292,  34.6114,2,  34.6128,2,    100.6,2,    99.8,2,   73.47,2,   35.32,3,    0.00,2,    2.51,2,-999.000,9,-999.000,9,-999.000,9,  -999.0,9,  -999.0,9,   0.0191,2,   1.8324,2,   10.60,2,    0.31,2,  -149.0,2,     2.7,   7.743,2,   0.039,-999.000,9,   0.0092,   5.9564,   0.0023,    0.14
  316N145_8,        I03,     449,          1,         15,         15,2,19950426,       2114,   -22.0778,   112.8143,       2226,   909.1,   5.5891,  34.6301,2,  34.6301,2,     91.4,2,    90.8,2,   85.55,2,   36.59,3,    0.00,2,    2.61,2,-999.000,9,-999.000,9,-999.000,9,  -999.0,9,  -999.0,9,-999.0000,9,-999.0000,9, -999.00,9,    0.18,2,  -151.7,2,     3.2,-999.000,9,-999.000,-999.000,9,-999.0000,   5.5098,-999.0000,-999.000
  316N145_8,        I03,     449,          1,         14,         14,2,19950426,       2114,   -22.0778,   112.8143,       2226,  1012.1,   5.0968,  34.6198,2,  34.6213,2,     97.8,2,    99.5,2,   87.04,2,   36.66,3,    0.00,2,    2.62,2,-999.000,9,-999.000,9,-999.000,9,  -999.0,9,  -999.0,9,   0.0036,2,   1.8294,2,   12.09,2, -999.00,9,  -999.0,9,  -999.0,   7.772,2,   0.039,-999.000,9,   0.0091,   5.0115,   0.0023,    0.14
  316N145_8,        I03,     449,          1,         13,         13,2,19950426,       2114,   -22.0778,   112.8143,       2226,  1111.6,   4.8588,  34.6279,2,  34.6301,2,     95.6,2,    96.5,2,   94.91,2,   36.92,3,    0.00,2,    2.64,2,-999.000,9,-999.000,9,-999.000,9,  -999.0,9,  -999.0,9,-999.0000,9,-999.0000,9, -999.00,9,    0.14,2,  -171.6,2,     2.6,-999.000,9,-999.000,-999.000,9,-999.0000,   4.7663,-999.0000,-999.000
  316N145_8,        I03,     449,          1,         12,         12,2,19950426,       2114,   -22.0778,   112.8143,       2226,  1212.3,   4.5121,  34.6277,2,  34.6287,2,    102.3,2,   102.3,2,   97.46,2,   36.95,3,    0.00,2,    2.64,2,-999.000,9,-999.000,9,-999.000,9,  -999.0,9,  -999.0,9,   0.0060,2,   1.8592,2,   13.78,2, -999.00,9,  -999.0,9,  -999.0,   7.850,2,   0.039,-999.000,9,   0.0093,   4.4135,   0.0023,    0.14
  316N145_8,        I03,     449,          1,         11,         11,2,19950426,       2114,   -22.0778,   112.8143,       2226,  1312.7,   4.2386,  34.6339,2,  34.6350,2,    106.1,2,   106.0,2,  100.45,2,   36.89,3,    0.00,2,    2.64,2,-999.000,9,-999.000,9,-999.000,9,  -999.0,9,  -999.0,9,-999.0000,9,-999.0000,9, -999.00,9, -999.00,9,  -999.0,9,  -999.0,-999.000,9,-999.000,-999.000,9,-999.0000,   4.1336,-999.0000,-999.000
  316N145_8,        I03,     449,          1,         10,         10,2,19950426,       2114,   -22.0778,   112.8143,       2226,  1413.9,   3.8641,  34.6452,2,  34.6454,2,    112.4,2,   112.7,2,  103.44,2,   36.73,3,    0.00,2,    2.62,2,-999.000,9,-999.000,9,-999.000,9,  -999.0,9,  -999.0,9,-999.0000,9,   1.8334,2,   13.55,2,    0.05,2,  -186.0,6,     2.1,   7.778,2,   0.039,-999.000,9,   0.0092,   3.7539,-999.0000,    0.14
  316N145_8,        I03,     449,          1,          9,          9,2,19950426,       2114,   -22.0778,   112.8143,       2226,  1514.6,   3.4961,  34.6576,2,  34.6575,2,    122.1,2,   121.4,2,  104.72,2,   36.39,3,    0.00,2,    2.58,2,-999.000,9,-999.000,9,-999.000,9,  -999.0,9,  -999.0,9,-999.0000,9,-999.0000,9, -999.00,9, -999.00,9,  -999.0,9,  -999.0,-999.000,9,-999.000,-999.000,9,-999.0000,   3.3811,-999.0000,-999.000
  316N145_8,        I03,     449,          1,          8,          8,2,19950426,       2114,   -22.0778,   112.8143,       2226,  1616.2,   3.2127,  34.6725,2,  34.6721,2,    129.0,2,   128.2,2,  106.42,2,   36.10,3,    0.00,2,    2.55,2,-999.000,9,-999.000,9,-999.000,9,  -999.0,9,  -999.0,9,  -0.0001,2,   1.8640,2,   12.89,2,    0.11,2,  -185.5,2,     2.5,   7.856,2,   0.039,-999.000,9,   0.0093,   3.0922,   0.0023,    0.14
  316N145_8,        I03,     449,          1,          7,          7,2,19950426,       2114,   -22.0778,   112.8143,       2226,  1716.7,   3.0087,  34.6864,2,  34.6864,2,    131.9,2,   131.6,2,  109.85,2,   35.94,3,    0.00,2,    2.54,2,-999.000,9,-999.000,9,-999.000,9,  -999.0,9,  -999.0,9,-999.0000,9,-999.0000,9, -999.00,9, -999.00,9,  -999.0,9,  -999.0,-999.000,9,-999.000,-999.000,9,-999.0000,   2.8820,-999.0000,-999.000
  316N145_8,        I03,     449,          1,          6,          6,2,19950426,       2114,   -22.0778,   112.8143,       2226,  1818.3,   2.7385,  34.7004,2,  34.6992,2,    137.8,2,   138.2,2,  113.28,2,   35.56,3,    0.00,2,    2.51,2,-999.000,9,-999.000,9,-999.000,9,  -999.0,9,  -999.0,9,-999.0000,9,-999.0000,9, -999.00,9, -999.00,9,  -999.0,9,  -999.0,-999.000,9,-999.000,-999.000,9,-999.0000,   2.6066,-999.0000,-999.000
  316N145_8,        I03,     449,          1,          5,          5,2,19950426,       2114,   -22.0778,   112.8143,       2226,  1918.8,   2.5613,  34.7086,2,  34.7078,2,    140.9,2,   141.8,2,  116.08,2,   35.50,3,    0.00,2,    2.50,2,-999.000,9,-999.000,9,-999.000,9,  -999.0,9,  -999.0,9,-999.0000,9,-999.0000,9, -999.00,9,    0.05,2,  -190.1,2,     2.3,-999.000,9,-999.000,-999.000,9,-999.0000,   2.4232,-999.0000,-999.000
  316N145_8,        I03,     449,          1,          4,          4,2,19950426,       2114,   -22.0778,   112.8143,       2226,  2021.2,   2.4635,  34.7147,2,  34.7131,2,    144.0,2,   143.9,2,  117.59,2,   35.35,3,    0.00,2,    2.49,2,-999.000,9,-999.000,9,-999.000,9,  -999.0,9,  -999.0,9,-999.0000,9,-999.0000,9, -999.00,9, -999.00,9,  -999.0,9,  -999.0,-999.000,9,-999.000,-999.000,9,-999.0000,   2.3179,-999.0000,-999.000
  316N145_8,        I03,     449,          1,          3,          3,2,19950426,       2114,   -22.0778,   112.8143,       2226,  2121.7,   2.3581,  34.7181,2,  34.7174,2,    144.9,2,   146.1,2,  119.53,2,   35.24,3,    0.00,2,    2.48,2,-999.000,9,-999.000,9,-999.000,9,  -999.0,9,  -999.0,9,-999.0000,9,-999.0000,9, -999.00,9,    0.22,2,  -196.1,2,     2.5,-999.000,9,-999.000,-999.000,9,-999.0000,   2.2053,-999.0000,-999.000
  316N145_8,        I03,     449,          1,          2,          2,2,19950426,       2114,   -22.0778,   112.8143,       2226,  2222.9,   2.3257,  34.7190,2,  34.7182,2,    146.6,2,   146.8,2,  120.60,2,   35.22,3,    0.00,2,    2.48,2,-999.000,9,-999.000,9,-999.000,9,  -999.0,9,  -999.0,9,-999.0000,9,-999.0000,9, -999.00,9, -999.00,9,  -999.0,9,  -999.0,-999.000,9,-999.000,-999.000,9,-999.0000,   2.1644,-999.0000,-999.000
  316N145_8,        I03,     449,          1,          1,          1,2,19950426,       2114,   -22.0778,   112.8143,       2226,  2251.1,   2.3155,  34.7194,2,  34.7180,2,    146.1,2,   146.9,2,  120.82,2,   35.16,3,    0.00,2,    2.48,2,-999.000,9,-999.000,9,-999.000,9,  -999.0,9,  -999.0,9,-999.0000,9,-999.0000,9, -999.00,9,    0.19,2,  -201.0,2,     2.5,-999.000,9,-999.000,-999.000,9,-999.0000,   2.1519,-999.0000,-999.000