BOTTLE,20140514CCHSIOSE
EXPOCODE,SECT_ID,STNNBR,CASTNO,SAMPNO,BTLNBR,BTLNBR_FLAG_W,DATE,TIME,LATITUDE,LONGITUDE,DEPTH,CTDPRS,CTDTMP,CTDSAL,CTDSAL_FLAG_W,SALNTY,SALNTY_FLAG_W,CTDOXY,CTDOXY_FLAG_W,OXYGEN,OXYGEN_FLAG_W,SILCAT,SILCAT_FLAG_W,NITRAT,NITRAT_FLAG_W,NITRIT,NITRIT_FLAG_W,PHSPHT,PHSPHT_FLAG_W,CFC-11,CFC-11_FLAG_W,CFC-12,CFC-12_FLAG_W,CFC113,CFC113_FLAG_W,TCARBN,TCARBN_FLAG_W,ALKALI,ALKALI_FLAG_W,TRITUM,TRITUM_FLAG_W,HELIUM,HELIUM_FLAG_W,DELHE3,DELHE3_FLAG_W,DELC13,DELC13_FLAG_W,DELC14,DELC14_FLAG_W,C14ERR,NEON,NEON_FLAG_W,NEONER,CCL4,CCL4_FLAG_W,HELIER,THETA,TRITER,DELHER
,,,,,,,,,,,METERS,DBAR,ITS-90,PSS-78,,PSS-78,,UMOL/KG,,UMOL/KG,,UMOL/KG,,UMOL/KG,,UMOL/KG,,UMOL/KG,,PMOL/KG,,PMOL/KG,,PMOL/KG,,UMOL/KG,,UMOL/KG,,TU,,NMOL/KG,,PERCNT,,/MILLE,,/MILLE,,/MILLE,NMOL/KG,,NMOL/KG,PMOL/KG,,NMOL/KG,DEG C,TU,PERCNT
  316N145_8,        I03,     516,          1,         30,         30,2,19950519,       0529,   -19.9990,    69.8000,       3595,     6.8,  24.9998,  35.1215,2,  35.1217,2,    207.2,2,   208.2,2,    2.79,2,    0.00,2,    0.00,2,    0.10,2,   1.870,2,   1.068,2,-999.000,9,  1957.0,6,  2298.9,6,-999.0000,9,-999.0000,9, -999.00,9, -999.00,9,  -999.0,9,  -999.0,-999.000,9,-999.000,-999.000,9,-999.0000,  24.9983,-999.0000,-999.000
  316N145_8,        I03,     516,          1,         29,         29,2,19950519,       0529,   -19.9990,    69.8000,       3595,    56.2,  24.9808,  35.1180,2,  35.1166,2,    208.9,2,   208.3,2,    2.78,2,    0.00,2,    0.00,2,    0.10,2,   1.885,2,   1.086,2,-999.000,9,  -999.0,9,  -999.0,9,-999.0000,9,-999.0000,9, -999.00,9, -999.00,9,  -999.0,9,  -999.0,-999.000,9,-999.000,-999.000,9,-999.0000,  24.9686,-999.0000,-999.000
  316N145_8,        I03,     516,          1,         28,         28,2,19950519,       0529,   -19.9990,    69.8000,       3595,   105.8,  21.8186,  35.5064,2,  35.5012,2,    220.8,2,   215.5,2,    2.97,2,    0.00,2,    0.00,2,    0.12,2,   2.183,2,   1.209,2,-999.000,9,  -999.0,9,  -999.0,9,-999.0000,9,-999.0000,9, -999.00,9, -999.00,9,  -999.0,9,  -999.0,-999.000,9,-999.000,-999.000,9,-999.0000,  21.7977,-999.0000,-999.000
  316N145_8,        I03,     516,          1,         27,         27,2,19950519,       0529,   -19.9990,    69.8000,       3595,   155.4,  19.7639,  35.7146,2,  35.7077,2,    199.5,2,   199.9,2,    3.37,2,    1.60,2,    0.02,2,    0.25,2,   2.309,2,   1.257,2,   0.065,3,  -999.0,9,  -999.0,9,-999.0000,9,-999.0000,9, -999.00,9, -999.00,9,  -999.0,9,  -999.0,-999.000,9,-999.000,   0.985,2,-999.0000,  19.7353,-999.0000,-999.000
  316N145_8,        I03,     516,          1,         26,         26,2,19950519,       0529,   -19.9990,    69.8000,       3595,   205.2,  18.0919,  35.7654,2,  35.7647,2,    203.5,2,   204.3,2,    3.15,2,    2.03,2,    0.01,2,    0.29,2,   2.442,2,   1.313,2,   0.064,3,  -999.0,9,  -999.0,9,-999.0000,9,-999.0000,9, -999.00,9, -999.00,9,  -999.0,9,  -999.0,-999.000,9,-999.000,   0.652,2,-999.0000,  18.0564,-999.0000,-999.000
  316N145_8,        I03,     516,          1,         25,         25,2,19950519,       0529,   -19.9990,    69.8000,       3595,   257.0,  16.5225,  35.6587,2,  35.6543,2,    210.3,2,   210.9,2,    2.93,2,    2.92,2,    0.00,2,    0.37,2,   2.606,2,   1.375,2,-999.000,9,  -999.0,9,  -999.0,9,-999.0000,9,-999.0000,9, -999.00,9, -999.00,9,  -999.0,9,  -999.0,-999.000,9,-999.000,-999.000,9,-999.0000,  16.4807,-999.0000,-999.000
  316N145_8,        I03,     516,          1,         24,         24,2,19950519,       0529,   -19.9990,    69.8000,       3595,   306.1,  14.3498,  35.4296,2,  35.4355,2,    219.1,2,   219.5,2,    2.92,2,    5.24,2,    0.00,2,    0.51,2,   2.801,2,   1.459,2,-999.000,9,  -999.0,9,  -999.0,9,-999.0000,9,-999.0000,9, -999.00,9, -999.00,9,  -999.0,9,  -999.0,-999.000,9,-999.000,-999.000,9,-999.0000,  14.3045,-999.0000,-999.000
  316N145_8,        I03,     516,          1,         23,         23,2,19950519,       0529,   -19.9990,    69.8000,       3595,   355.6,  13.3089,  35.2868,2,  35.2892,2,    223.6,2,   225.2,2,    3.32,2,    7.25,2,    0.00,2,    0.62,2,   2.909,2,   1.497,2,-999.000,9,  -999.0,9,  -999.0,9,-999.0000,9,-999.0000,9, -999.00,9, -999.00,9,  -999.0,9,  -999.0,-999.000,9,-999.000,-999.000,9,-999.0000,  13.2588,-999.0000,-999.000
  316N145_8,        I03,     516,          1,         22,         22,2,19950519,       0529,   -19.9990,    69.8000,       3595,   407.7,  12.4162,  35.1577,2,  35.1649,2,    228.1,2,   228.4,2,    3.72,2,    8.84,2,    0.00,2,    0.71,2,   2.893,2,   1.477,2,-999.000,9,  -999.0,9,  -999.0,9,-999.0000,9,-999.0000,9, -999.00,9, -999.00,9,  -999.0,9,  -999.0,-999.000,9,-999.000,-999.000,9,-999.0000,  12.3613,-999.0000,-999.000
  316N145_8,        I03,     516,          1,         21,         21,2,19950519,       0529,   -19.9990,    69.8000,       3595,   456.3,  11.7164,  35.0483,2,  35.0438,2,    231.5,2,   230.7,2,    4.12,2,   10.52,2,    0.00,2,    0.81,2,   2.826,2,   1.428,2,-999.000,9,  -999.0,9,  -999.0,9,-999.0000,9,-999.0000,9, -999.00,9, -999.00,9,  -999.0,9,  -999.0,-999.000,9,-999.000,-999.000,9,-999.0000,  11.6571,-999.0000,-999.000
  316N145_8,        I03,     516,          1,         20,         20,2,19950519,       0529,   -19.9990,    69.8000,       3595,   506.4,  10.9646,  34.9325,2,  34.9385,2,    231.7,2,   232.4,2,    4.52,2,   12.06,2,    0.00,2,    0.90,2,   2.778,2,   1.395,2,-999.000,9,  -999.0,9,  -999.0,9,-999.0000,9,-999.0000,9, -999.00,9, -999.00,9,  -999.0,9,  -999.0,-999.000,9,-999.000,-999.000,9,-999.0000,  10.9014,-999.0000,-999.000
  316N145_8,        I03,     516,          1,         19,         19,2,19950519,       0529,   -19.9990,    69.8000,       3595,   608.6,   9.4620,  34.7159,2,  34.7202,2,    228.4,2,   228.5,2,    5.96,2,   16.27,2,    0.00,2,    1.15,2,   2.269,2,   1.130,2,   0.040,3,  -999.0,9,  -999.0,9,-999.0000,9,-999.0000,9, -999.00,9, -999.00,9,  -999.0,9,  -999.0,-999.000,9,-999.000,   1.218,2,-999.0000,   9.3925,-999.0000,-999.000
  316N145_8,        I03,     516,          1,         18,         18,2,19950519,       0529,   -19.9990,    69.8000,       3595,   708.3,   8.3561,  34.6050,2,  34.6075,2,    211.3,2,   212.6,2,   10.73,2,   20.44,2,    0.00,2,    1.42,2,   1.473,2,   0.744,2,-999.000,9,  -999.0,9,  -999.0,9,-999.0000,9,-999.0000,9, -999.00,9, -999.00,9,  -999.0,9,  -999.0,-999.000,9,-999.000,-999.000,9,-999.0000,   8.2807,-999.0000,-999.000
  316N145_8,        I03,     516,          1,         17,         17,2,19950519,       0529,   -19.9990,    69.8000,       3595,   808.2,   6.5185,  34.4998,2,  34.5032,2,    179.1,2,   180.2,2,   29.01,2,   27.55,2,    0.00,2,    1.91,2,   0.409,2,   0.215,2,-999.000,9,  -999.0,9,  -999.0,9,-999.0000,9,-999.0000,9, -999.00,9, -999.00,9,  -999.0,9,  -999.0,-999.000,9,-999.000,-999.000,9,-999.0000,   6.4430,-999.0000,-999.000
  316N145_8,        I03,     516,          1,         16,         16,2,19950519,       0529,   -19.9990,    69.8000,       3595,   909.6,   5.6067,  34.5325,2,  34.5348,2,    143.5,2,   145.4,2,   51.88,2,   31.97,2,    0.00,2,    2.27,2,   0.107,2,   0.061,2,-999.000,9,  -999.0,9,  -999.0,9,-999.0000,9,-999.0000,9, -999.00,9, -999.00,9,  -999.0,9,  -999.0,-999.000,9,-999.000,-999.000,9,-999.0000,   5.5273,-999.0000,-999.000
  316N145_8,        I03,     516,          1,         15,         15,2,19950519,       0529,   -19.9990,    69.8000,       3595,  1011.1,   5.1408,  34.6080,2,  34.6087,2,    120.1,2,   121.8,2,   71.88,2,   34.27,2,    0.00,2,    2.47,2,   0.027,2,   0.014,2,-999.000,9,  -999.0,9,  -999.0,9,-999.0000,9,-999.0000,9, -999.00,9, -999.00,9,  -999.0,9,  -999.0,-999.000,9,-999.000,-999.000,9,-999.0000,   5.0552,-999.0000,-999.000
  316N145_8,        I03,     516,          1,         14,         14,2,19950519,       0529,   -19.9990,    69.8000,       3595,  1111.3,   4.6762,  34.6281,2,  34.6276,2,    118.3,2,   117.8,2,   80.25,2,   34.90,2,    0.00,2,    2.52,2,   0.012,2,   0.010,2,-999.000,9,  -999.0,9,  -999.0,9,-999.0000,9,-999.0000,9, -999.00,9, -999.00,9,  -999.0,9,  -999.0,-999.000,9,-999.000,-999.000,9,-999.0000,   4.5852,-999.0000,-999.000
  316N145_8,        I03,     516,          1,         13,         13,2,19950519,       0529,   -19.9990,    69.8000,       3595,  1211.0,   4.2894,  34.6357,2,  34.6364,2,    118.8,2,   119.4,2,   86.12,2,   35.20,2,    0.00,2,    2.54,2,   0.000,2,   0.001,2,-999.000,9,  -999.0,9,  -999.0,9,-999.0000,9,-999.0000,9, -999.00,9, -999.00,9,  -999.0,9,  -999.0,-999.000,9,-999.000,-999.000,9,-999.0000,   4.1930,-999.0000,-999.000
  316N145_8,        I03,     516,          1,         12,         12,2,19950519,       0529,   -19.9990,    69.8000,       3595,  1408.8,   3.9454,  34.6966,2,  34.6976,2,    120.0,2,   120.4,2,   95.39,2,   34.97,2,    0.00,2,    2.54,2,-999.000,9,-999.000,9,-999.000,9,  -999.0,9,  -999.0,9,-999.0000,9,-999.0000,9, -999.00,9, -999.00,9,  -999.0,9,  -999.0,-999.000,9,-999.000,-999.000,9,-999.0000,   3.8346,-999.0000,-999.000
  316N145_8,        I03,     516,          1,         11,         11,2,19950519,       0529,   -19.9990,    69.8000,       3595,  1605.2,   3.2840,  34.6919,2,  34.6899,2,    137.9,2,   138.1,2,   96.86,2,   34.35,2,    0.00,2,    2.46,2,   0.000,2,   0.002,2,-999.000,9,  -999.0,9,  -999.0,9,-999.0000,9,-999.0000,9, -999.00,9, -999.00,9,  -999.0,9,  -999.0,-999.000,9,-999.000,-999.000,9,-999.0000,   3.1636,-999.0000,-999.000
  316N145_8,        I03,     516,          1,         10,         10,2,19950519,       0529,   -19.9990,    69.8000,       3595,  1812.6,   2.6636,  34.6968,2,  34.6964,2,    157.4,2,   157.1,2,   97.70,2,   33.31,2,    0.00,2,    2.36,2,   0.000,2,   0.000,2,   0.008,3,  -999.0,9,  -999.0,9,-999.0000,9,-999.0000,9, -999.00,9, -999.00,9,  -999.0,9,  -999.0,-999.000,9,-999.000,   0.026,2,-999.0000,   2.5333,-999.0000,-999.000
  316N145_8,        I03,     516,          1,          9,          9,2,19950519,       0529,   -19.9990,    69.8000,       3595,  2017.9,   2.1974,  34.7135,2,  34.7127,2,    171.0,2,   172.0,2,  101.72,2,   32.50,2,    0.00,2,    2.30,2,   0.000,2,   0.000,2,-999.000,9,  -999.0,9,  -999.0,9,-999.0000,9,-999.0000,9, -999.00,9, -999.00,9,  -999.0,9,  -999.0,-999.000,9,-999.000,-999.000,9,-999.0000,   2.0562,-999.0000,-999.000
  316N145_8,        I03,     516,          1,          8,          8,2,19950519,       0529,   -19.9990,    69.8000,       3595,  2221.4,   1.8858,  34.7230,2,  34.7237,2,    179.3,2,   178.4,2,  107.68,2,   32.32,2,    0.00,2,    2.27,2,  -0.001,2,   0.000,2,-999.000,9,  -999.0,9,  -999.0,9,-999.0000,9,-999.0000,9, -999.00,9, -999.00,9,  -999.0,9,  -999.0,-999.000,9,-999.000,-999.000,9,-999.0000,   1.7320,-999.0000,-999.000
  316N145_8,        I03,     516,          1,          7,          7,2,19950519,       0529,   -19.9990,    69.8000,       3595,  2423.7,   1.7333,  34.7246,2,  34.7251,2,    183.1,2,   182.9,2,  110.24,2,   32.13,2,    0.00,2,    2.26,2,   0.000,2,   0.003,2,-999.000,9,  -999.0,9,  -999.0,9,-999.0000,9,-999.0000,9, -999.00,9, -999.00,9,  -999.0,9,  -999.0,-999.000,9,-999.000,-999.000,9,-999.0000,   1.5645,-999.0000,-999.000
  316N145_8,        I03,     516,          1,          6,          6,2,19950519,       0529,   -19.9990,    69.8000,       3595,  2626.4,   1.6673,  34.7249,2,  34.7251,2,    184.1,2,   184.2,2,  112.60,2,   32.19,2,    0.00,2,    2.26,2,   0.000,2,   0.001,2,-999.000,9,  -999.0,9,  -999.0,9,-999.0000,9,-999.0000,9, -999.00,9, -999.00,9,  -999.0,9,  -999.0,-999.000,9,-999.000,-999.000,9,-999.0000,   1.4816,-999.0000,-999.000
  316N145_8,        I03,     516,          1,          5,          5,2,19950519,       0529,   -19.9990,    69.8000,       3595,  2830.1,   1.6096,  34.7256,2,  34.7251,2,    184.9,2,   185.1,2,  114.53,2,   32.20,2,    0.00,2,    2.26,2,-999.000,9,-999.000,9,-999.000,9,  -999.0,9,  -999.0,9,-999.0000,9,-999.0000,9, -999.00,9, -999.00,9,  -999.0,9,  -999.0,-999.000,9,-999.000,-999.000,9,-999.0000,   1.4063,-999.0000,-999.000
  316N145_8,        I03,     516,          1,          4,          4,2,19950519,       0529,   -19.9990,    69.8000,       3595,  3033.2,   1.5597,  34.7251,2,  34.7255,2,    185.7,2,   186.0,2,  116.89,2,   32.21,2,    0.00,2,    2.26,2,  -0.001,2,   0.002,2,   0.013,3,  -999.0,9,  -999.0,9,-999.0000,9,-999.0000,9, -999.00,9, -999.00,9,  -999.0,9,  -999.0,-999.000,9,-999.000,   0.009,2,-999.0000,   1.3381,-999.0000,-999.000
  316N145_8,        I03,     516,          1,          3,          3,2,19950519,       0529,   -19.9990,    69.8000,       3595,  3238.0,   1.5394,  34.7250,2,  34.7247,2,    186.7,2,   186.3,2,  117.96,2,   32.31,2,    0.00,2,    2.27,2,-999.000,9,-999.000,9,-999.000,9,  -999.0,9,  -999.0,9,-999.0000,9,-999.0000,9, -999.00,9, -999.00,9,  -999.0,9,  -999.0,-999.000,9,-999.000,-999.000,9,-999.0000,   1.2984,-999.0000,-999.000
  316N145_8,        I03,     516,          1,          2,          2,2,19950519,       0529,   -19.9990,    69.8000,       3595,  3443.9,   1.5356,  34.7245,2,  34.7251,2,    185.5,2,   186.2,2,  118.82,2,   32.42,2,    0.00,2,    2.26,2,  -0.002,2,   0.000,2,-999.000,9,  -999.0,9,  -999.0,9,-999.0000,9,-999.0000,9, -999.00,9, -999.00,9,  -999.0,9,  -999.0,-999.000,9,-999.000,-999.000,9,-999.0000,   1.2740,-999.0000,-999.000
  316N145_8,        I03,     516,          1,          1,          1,2,19950519,       0529,   -19.9990,    69.8000,       3595,  3663.4,   1.5479,  34.7251,2,  34.7249,2,    186.5,2,   186.1,2,  119.68,2,   32.33,2,    0.00,2,    2.27,2,  -0.001,2,   0.000,2,-999.000,9,  -999.0,9,  -999.0,9,-999.0000,9,-999.0000,9, -999.00,9, -999.00,9,  -999.0,9,  -999.0,-999.000,9,-999.000,-999.000,9,-999.0000,   1.2634,-999.0000,-999.000