BOTTLE,20140514CCHSIOSE
EXPOCODE,SECT_ID,STNNBR,CASTNO,SAMPNO,BTLNBR,BTLNBR_FLAG_W,DATE,TIME,LATITUDE,LONGITUDE,DEPTH,CTDPRS,CTDTMP,CTDSAL,CTDSAL_FLAG_W,SALNTY,SALNTY_FLAG_W,CTDOXY,CTDOXY_FLAG_W,OXYGEN,OXYGEN_FLAG_W,SILCAT,SILCAT_FLAG_W,NITRAT,NITRAT_FLAG_W,NITRIT,NITRIT_FLAG_W,PHSPHT,PHSPHT_FLAG_W,CFC-11,CFC-11_FLAG_W,CFC-12,CFC-12_FLAG_W,CFC113,CFC113_FLAG_W,TCARBN,TCARBN_FLAG_W,ALKALI,ALKALI_FLAG_W,TRITUM,TRITUM_FLAG_W,HELIUM,HELIUM_FLAG_W,DELHE3,DELHE3_FLAG_W,DELC13,DELC13_FLAG_W,DELC14,DELC14_FLAG_W,C14ERR,NEON,NEON_FLAG_W,NEONER,CCL4,CCL4_FLAG_W,HELIER,THETA,TRITER,DELHER
,,,,,,,,,,,METERS,DBAR,ITS-90,PSS-78,,PSS-78,,UMOL/KG,,UMOL/KG,,UMOL/KG,,UMOL/KG,,UMOL/KG,,UMOL/KG,,PMOL/KG,,PMOL/KG,,PMOL/KG,,UMOL/KG,,UMOL/KG,,TU,,NMOL/KG,,PERCNT,,/MILLE,,/MILLE,,/MILLE,NMOL/KG,,NMOL/KG,PMOL/KG,,NMOL/KG,DEG C,TU,PERCNT
  316N145_8,        I03,     482,          1,         36,         36,2,19950507,       0509,   -19.9997,    89.4670,       5115,     6.9,  25.9920,  35.1379,2,  35.1382,2,    203.5,2,   204.8,2,    3.16,2,    0.20,2,    0.00,2,    0.12,2,   1.755,2,   1.017,2,-999.000,9,  1958.7,2,  2300.0,2,-999.0000,9,-999.0000,9, -999.00,9,    1.18,2,    62.8,2,     2.9,-999.000,9,-999.000,-999.000,9,-999.0000,  25.9904,-999.0000,-999.000
  316N145_8,        I03,     482,          1,         35,         35,2,19950507,       0509,   -19.9997,    89.4670,       5115,    50.2,  25.7479,  35.1827,2,  35.1932,2,    206.0,2,   206.6,2,    3.14,2,    0.20,2,    0.00,2,    0.12,2,   1.739,2,   1.020,2,-999.000,9,  1961.0,6,  2304.5,6,-999.0000,9,-999.0000,9, -999.00,9, -999.00,9,  -999.0,9,  -999.0,-999.000,9,-999.000,-999.000,9,-999.0000,  25.7368,-999.0000,-999.000
  316N145_8,        I03,     482,          1,         34,         34,2,19950507,       0509,   -19.9997,    89.4670,       5115,   105.7,  22.0704,  35.5065,2,  35.5235,2,    225.0,2,   222.2,2,    3.35,2,    0.20,2,    0.00,2,    0.13,2,   2.207,2,   1.226,2,-999.000,9,  1999.1,2,  2325.0,2,-999.0000,9,-999.0000,9, -999.00,9,    1.16,2,    77.3,2,     3.3,-999.000,9,-999.000,-999.000,9,-999.0000,  22.0495,-999.0000,-999.000
  316N145_8,        I03,     482,          1,         33,         33,2,19950507,       0509,   -19.9997,    89.4670,       5115,   156.0,  20.3169,  35.6850,2,  35.6902,2,    204.3,2,   201.9,2,    3.76,2,    1.36,2,    0.07,2,    0.24,2,   2.084,2,   1.172,2,-999.000,9,  2038.9,2,  2336.0,2,-999.0000,9,-999.0000,9, -999.00,9, -999.00,9,  -999.0,9,  -999.0,-999.000,9,-999.000,-999.000,9,-999.0000,  20.2876,-999.0000,-999.000
  316N145_8,        I03,     482,          1,         32,         32,2,19950507,       0509,   -19.9997,    89.4670,       5115,   205.7,  18.5792,  35.7558,2,  35.7566,2,    195.7,2,   195.3,2,    4.40,2,    2.70,2,    0.01,2,    0.34,2,   2.197,2,   1.206,2,-999.000,9,  2066.1,2,  2345.0,2,-999.0000,9,-999.0000,9, -999.00,9,    0.88,2,    87.9,2,     2.8,-999.000,9,-999.000,-999.000,9,-999.0000,  18.5429,-999.0000,-999.000
  316N145_8,        I03,     482,          1,         31,         31,2,19950507,       0509,   -19.9997,    89.4670,       5115,   255.0,  16.4069,  35.6716,2,  35.6718,2,    200.8,2,   204.5,2,    4.39,2,    3.89,2,    0.01,2,    0.44,2,   2.457,2,   1.310,2,-999.000,9,  2085.5,2,  2343.0,2,-999.0000,9,-999.0000,9, -999.00,9, -999.00,9,  -999.0,9,  -999.0,-999.000,9,-999.000,-999.000,9,-999.0000,  16.3656,-999.0000,-999.000
  316N145_8,        I03,     482,          1,         30,         30,2,19950507,       0509,   -19.9997,    89.4670,       5115,   305.6,  14.6989,  35.5016,2,  35.4912,2,    215.2,2,   218.0,2,    3.94,2,    5.08,2,    0.01,2,    0.52,2,   2.756,2,   1.431,2,-999.000,9,  2096.2,2,  2333.0,2,-999.0000,9,-999.0000,9, -999.00,9,    1.19,2,    94.8,2,     2.9,-999.000,9,-999.000,-999.000,9,-999.0000,  14.6529,-999.0000,-999.000
  316N145_8,        I03,     482,          1,         29,         29,2,19950507,       0509,   -19.9997,    89.4670,       5115,   356.1,  13.1304,  35.2751,2,  35.2683,2,    223.0,2,   226.3,2,    3.49,2,    7.55,2,    0.00,2,    0.66,2,   2.923,2,   1.488,2,-999.000,9,  2090.9,2,  2323.0,2,-999.0000,9,-999.0000,9, -999.00,9, -999.00,9,  -999.0,9,  -999.0,-999.000,9,-999.000,-999.000,9,-999.0000,  13.0806,-999.0000,-999.000
  316N145_8,        I03,     482,          1,         28,         28,2,19950507,       0509,   -19.9997,    89.4670,       5115,   405.9,  12.1789,  35.1301,2,  35.1320,2,    231.1,2,   231.2,2,    3.91,2,    9.22,2,    0.00,2,    0.76,2,   2.754,2,   1.431,2,-999.000,9,  2099.1,2,  2314.0,2,-999.0000,9,-999.0000,9, -999.00,9,    1.26,2,    73.9,2,     3.7,-999.000,9,-999.000,-999.000,9,-999.0000,  12.1249,-999.0000,-999.000
  316N145_8,        I03,     482,          1,         27,         27,2,19950507,       0509,   -19.9997,    89.4670,       5115,   506.3,  10.7886,  34.9108,2,  34.9047,2,    234.9,2,   236.0,2,    4.76,2,   11.99,2,    0.00,2,    0.95,2,   2.797,2,   1.411,2,-999.000,9,  2104.7,2,  2303.0,2,-999.0000,9,-999.0000,9, -999.00,9,    1.28,2,    52.0,2,     4.1,-999.000,9,-999.000,-999.000,9,-999.0000,  10.7261,-999.0000,-999.000
  316N145_8,        I03,     482,          1,         26,         26,2,19950507,       0509,   -19.9997,    89.4670,       5115,   606.4,   9.4678,  34.7168,2,  34.7129,2,    232.3,2,   230.8,2,    6.26,2,   16.38,2,    0.00,2,    1.18,2,   2.485,2,   1.230,2,-999.000,9,  2116.8,2,  2296.0,2,-999.0000,9,-999.0000,9, -999.00,9,    1.06,2,    39.1,2,     3.4,-999.000,9,-999.000,-999.000,9,-999.0000,   9.3986,-999.0000,-999.000
  316N145_8,        I03,     482,          1,         25,         25,2,19950507,       0509,   -19.9997,    89.4670,       5115,   707.4,   8.0093,  34.5696,2,  34.5681,2,    208.7,2,   204.8,2,   14.68,2,   22.37,2,    0.00,2,    1.57,2,   1.210,2,   0.609,2,-999.000,9,  2145.4,2,  2295.0,2,-999.0000,9,-999.0000,9, -999.00,9,    1.03,2,   -21.5,2,     3.8,-999.000,9,-999.000,-999.000,9,-999.0000,   7.9358,-999.0000,-999.000
  316N145_8,        I03,     482,          1,         24,         24,2,19950507,       0509,   -19.9997,    89.4670,       5115,   808.3,   6.1470,  34.4914,2,  34.4904,2,    172.3,2,   169.5,2,   37.16,2,   29.67,2,    0.00,2,    2.07,2,   0.322,2,   0.168,2,-999.000,9,  2195.0,2,  2313.0,2,-999.0000,9,-999.0000,9, -999.00,9,    0.82,2,   -95.2,2,     3.1,-999.000,9,-999.000,-999.000,9,-999.0000,   6.0737,-999.0000,-999.000
  316N145_8,        I03,     482,          1,         23,         23,2,19950507,       0509,   -19.9997,    89.4670,       5115,   909.0,   5.1609,  34.5567,2,  34.5477,2,    136.1,2,   130.8,2,   65.49,2,   34.12,2,    0.00,2,    2.43,2,   0.049,2,   0.021,2,-999.000,9,  2245.7,2,  2340.0,2,-999.0000,9,-999.0000,9, -999.00,9,    0.49,2,  -143.9,2,     2.9,-999.000,9,-999.000,-999.000,9,-999.0000,   5.0846,-999.0000,-999.000
  316N145_8,        I03,     482,          1,         22,         22,2,19950507,       0509,   -19.9997,    89.4670,       5115,  1010.7,   4.8992,  34.5928,2,  34.6002,3,    117.0,2,   116.7,2,   77.59,2,   35.17,2,    0.00,2,    2.53,2,   0.009,2,   0.008,2,-999.000,9,  2264.3,2,  2350.0,2,-999.0000,9,   1.8460,2,   10.01,2,    0.24,2,  -174.4,2,     4.3,   7.848,2,   0.057,-999.000,9,   0.0050,   4.8155,-999.0000,    0.12
  316N145_8,        I03,     482,          1,         21,         21,2,19950507,       0509,   -19.9997,    89.4670,       5115,  1110.4,   4.5091,  34.6280,2,  34.6285,2,    114.7,2,   114.3,2,   86.03,2,   35.67,2,    0.00,2,    2.57,2,   0.002,2,   0.000,2,-999.000,9,  2274.4,2,  2362.0,2,-999.0000,9,   1.8620,2,   11.07,2,    0.30,2,  -177.9,2,     3.4,   7.911,2,   0.020,-999.000,9,   0.0020,   4.4197,-999.0000,    0.14
  316N145_8,        I03,     482,          1,         20,         20,2,19950507,       0509,   -19.9997,    89.4670,       5115,  1210.0,   4.2223,  34.6489,2,  34.6488,2,    114.1,2,   116.6,2,   90.34,2,   35.66,2,    0.00,2,    2.57,2,-999.000,9,-999.000,9,-999.000,9,  2279.3,2,  2363.0,2,-999.0000,9,   1.8630,2,   11.35,2,    0.24,2,  -160.4,2,     2.8,   7.989,2,   0.039,-999.000,9,   0.0080,   4.1265,-999.0000,    0.12
  316N145_8,        I03,     482,          1,         19,         19,2,19950507,       0509,   -19.9997,    89.4670,       5115,  1410.1,   3.7158,  34.6744,2,  34.6741,2,    122.2,2,   123.1,2,   97.49,2,   35.60,2,    0.00,2,    2.56,2,   0.000,2,   0.002,2,-999.000,9,  2282.8,2,  2374.0,2,-999.0000,9,   1.8710,2,   12.37,2,    0.22,2,  -180.7,2,     2.5,   7.940,2,   0.020,-999.000,9,   0.0030,   3.6074,-999.0000,    0.14
  316N145_8,        I03,     482,          1,         18,         18,2,19950507,       0509,   -19.9997,    89.4670,       5115,  1613.6,   3.1503,  34.6961,2,  34.6963,2,    135.3,2,   135.4,2,  102.92,2,   34.99,2,    0.00,2,    2.51,2,-999.000,9,-999.000,9,-999.000,9,  2285.1,2,  2376.0,2,-999.0000,9,   1.8660,2,   12.41,2,    0.27,2,  -182.2,2,     2.3,   8.003,2,   0.045,-999.000,9,   0.0080,   3.0307,-999.0000,    0.12
  316N145_8,        I03,     482,          1,         17,         17,2,19950507,       0509,   -19.9997,    89.4670,       5115,  1817.7,   2.7148,  34.7080,2,  34.7079,2,    146.6,2,   146.7,2,  107.26,2,   34.48,2,    0.00,2,    2.46,2,-999.000,9,-999.000,9,-999.000,9,  2284.6,2,  2383.0,2,-999.0000,9,-999.0000,9, -999.00,9,    0.25,2,  -183.9,2,     3.2,-999.000,9,-999.000,-999.000,9,-999.0000,   2.5833,-999.0000,-999.000
  316N145_8,        I03,     482,          1,         16,         16,2,19950507,       0509,   -19.9997,    89.4670,       5115,  2018.7,   2.3923,  34.7192,2,  34.7181,2,    154.7,2,   154.3,2,  111.83,2,   34.08,2,    0.00,2,    2.42,2,-999.000,9,-999.000,9,-999.000,9,  2285.1,2,  2384.0,2,-999.0000,9,   1.8100,3,   13.73,2,    0.15,2,  -191.9,2,     2.2,   7.755,3,   0.047,-999.000,9,   0.0040,   2.2480,-999.0000,    0.12
  316N145_8,        I03,     482,          1,         15,         15,2,19950507,       0509,   -19.9997,    89.4670,       5115,  2221.4,   2.1329,  34.7252,2,  34.7242,2,    162.7,2,   161.9,2,  114.42,2,   33.62,2,    0.00,2,    2.38,2,   0.002,2,   0.000,2,-999.000,9,  2284.4,2,  2390.0,2,-999.0000,9,   1.8930,2,   14.37,2,    0.13,2,  -194.8,2,     3.0,   8.088,2,   0.021,-999.000,9,   0.0030,   1.9749,-999.0000,    0.14
  316N145_8,        I03,     482,          1,         14,         14,2,19950507,       0509,   -19.9997,    89.4670,       5115,  2424.7,   1.9294,  34.7265,2,  34.7267,2,    170.1,2,   169.7,2,  116.57,2,   33.26,2,    0.00,2,    2.36,2,-999.000,9,-999.000,9,-999.000,9,  2284.3,2,  2389.0,2,-999.0000,9,   1.8960,2,   14.47,2,    0.21,2,  -192.4,2,     2.1,   8.220,2,   0.061,-999.000,9,   0.0050,   1.7569,-999.0000,    0.15
  316N145_8,        I03,     482,          1,         13,         13,2,19950507,       0509,   -19.9997,    89.4670,       5115,  2627.6,   1.7999,  34.7273,2,  34.7279,2,    174.1,2,   173.6,2,  118.28,2,   33.16,2,    0.00,2,    2.33,2,-999.000,9,-999.000,9,-999.000,9,  2283.1,2,  2393.0,2,-999.0000,9,   1.8910,2,   14.48,2,    0.32,2,  -192.4,2,     2.1,   8.165,2,   0.040,-999.000,9,   0.0050,   1.6115,-999.0000,    0.12
  316N145_8,        I03,     482,          1,         12,         12,2,19950507,       0509,   -19.9997,    89.4670,       5115,  2832.1,   1.6726,  34.7270,2,  34.7275,2,    177.2,2,   177.5,2,  120.21,2,   32.95,2,    0.00,2,    2.32,2,-999.000,9,-999.000,9,-999.000,9,  2282.7,2,  2392.0,2,-999.0000,9,   1.8320,3,   13.57,2,    0.35,2,  -197.4,2,     2.5,   7.854,3,   0.052,-999.000,9,   0.0080,   1.4677,-999.0000,    0.15
  316N145_8,        I03,     482,          1,         11,         11,2,19950507,       0509,   -19.9997,    89.4670,       5115,  3034.9,   1.5623,  34.7251,2,  34.7255,2,    180.7,2,   180.1,2,  122.37,2,   33.00,2,    0.00,2,    2.31,2,  -0.001,2,   0.000,2,-999.000,9,  -999.0,5,  2392.0,2,-999.0000,9,   1.8850,2,   12.85,2,    0.25,2,  -198.8,2,     2.1,   8.134,2,   0.054,-999.000,9,   0.0090,   1.3405,-999.0000,    0.12
  316N145_8,        I03,     482,          1,         10,         10,2,19950507,       0509,   -19.9997,    89.4670,       5115,  3238.8,   1.4627,  34.7239,2,  34.7238,2,    184.1,2,   184.3,2,  122.96,2,   32.84,2,    0.00,2,    2.30,2,-999.000,9,-999.000,9,-999.000,9,  2282.1,2,  2392.0,2,-999.0000,9,   1.9050,2,   12.44,2,    0.32,2,  -179.7,2,     3.0,   8.273,2,   0.049,-999.000,9,   0.0050,   1.2234,-999.0000,    0.15
  316N145_8,        I03,     482,          1,          9,          9,2,19950507,       0509,   -19.9997,    89.4670,       5115,  3440.9,   1.3378,  34.7207,2,  34.7208,2,    188.8,2,   188.3,2,  124.45,2,   32.78,2,    0.00,2,    2.29,2,-999.000,9,-999.000,9,-999.000,9,  2279.1,2,  2393.0,2,-999.0000,9,   1.8870,2,   11.71,2,    0.17,2,  -193.3,2,     1.9,   8.225,2,   0.045,-999.000,9,   0.0060,   1.0815,-999.0000,    0.12
  316N145_8,        I03,     482,          1,          8,          8,2,19950507,       0509,   -19.9997,    89.4670,       5115,  3641.8,   1.2151,  34.7180,2,  34.7175,2,    194.1,2,   195.4,2,  123.70,2,   32.48,2,    0.00,2,    2.26,2,   0.006,2,   0.004,2,-999.000,9,  2274.2,2,  2389.0,2,-999.0000,9,   1.8840,2,   11.26,2,    0.37,2,  -190.8,6,     3.7,   8.185,2,   0.054,-999.000,9,   0.0050,   0.9416,-999.0000,    0.15
  316N145_8,        I03,     482,          1,          7,          7,2,19950507,       0509,   -19.9997,    89.4670,       5115,  3847.6,   1.1219,  34.7157,2,  34.7153,2,    198.8,2,   199.0,2,  123.62,2,   32.32,2,    0.00,2,    2.26,2,  -0.001,2,   0.002,2,-999.000,9,  2271.8,2,  2389.0,2,-999.0000,9,   1.9110,2,   10.79,2,    0.40,2,  -182.9,2,     2.3,   8.287,2,   0.062,-999.000,9,   0.0050,   0.8296,-999.0000,    0.12
  316N145_8,        I03,     482,          1,          6,          6,2,19950507,       0509,   -19.9997,    89.4670,       5115,  4053.9,   1.0994,  34.7147,2,  34.7141,2,    200.5,2,   200.7,2,  123.77,2,   32.27,2,    0.00,2,    2.25,2,   0.002,2,  -0.001,2,-999.000,9,  2270.6,2,  2386.0,2,-999.0000,9,   1.9040,2,   10.56,2,    0.41,2,  -172.6,2,     2.1,   8.295,2,   0.068,-999.000,9,   0.0060,   0.7859,-999.0000,    0.15
  316N145_8,        I03,     482,          1,          5,          5,2,19950507,       0509,   -19.9997,    89.4670,       5115,  4258.1,   1.1064,  34.7142,2,  34.7133,2,    201.7,2,   201.0,2,  123.46,2,   32.26,2,    0.00,2,    2.24,2,   0.003,2,   0.000,2,-999.000,9,  2269.9,2,  2387.0,2,-999.0000,9,   1.7630,4,   10.57,2,    0.40,2,  -184.1,2,     3.4,   0.000,5,   0.000,-999.000,9,   0.0050,   0.7705,-999.0000,    0.12
  316N145_8,        I03,     482,          1,          4,          4,2,19950507,       0509,   -19.9997,    89.4670,       5115,  4462.2,   1.1161,  34.7136,2,  34.7129,2,    201.9,2,   201.8,2,  123.16,2,   32.26,2,    0.00,2,    2.24,2,   0.000,2,   0.002,2,-999.000,9,  2269.9,2,  2386.0,2,-999.0000,9,-999.0000,9, -999.00,9,    0.12,2,  -191.2,2,     3.9,-999.000,9,-999.000,-999.000,9,-999.0000,   0.7572,-999.0000,-999.000
  316N145_8,        I03,     482,          1,          3,          3,2,19950507,       0509,   -19.9997,    89.4670,       5115,  4718.9,   1.1418,  34.7137,2,  34.7127,2,    202.7,2,   202.2,2,  123.08,2,   32.25,2,    0.00,2,    2.24,2,   0.001,2,  -0.001,2,-999.000,9,  2268.5,2,  2384.0,2,-999.0000,9,   1.8370,3,   10.37,2,    0.21,2,  -181.0,2,     1.9,   8.005,3,   0.048,-999.000,9,   0.0050,   0.7527,-999.0000,    0.12
  316N145_8,        I03,     482,          1,          2,          2,2,19950507,       0509,   -19.9997,    89.4670,       5115,  4975.7,   1.1701,  34.7136,2,  34.7125,2,    203.7,2,   203.2,2,  123.01,2,   32.25,2,    0.00,2,    2.24,2,   0.000,2,  -0.001,2,-999.000,9,  2266.5,2,  -999.0,5,-999.0000,9,   1.8710,2,   10.55,2,    0.33,2,  -179.2,2,     1.9,   8.119,3,   0.067,-999.000,9,   0.0080,   0.7497,-999.0000,    0.15
  316N145_8,        I03,     482,          1,          1,          1,2,19950507,       0509,   -19.9997,    89.4670,       5115,  5278.7,   1.2087,  34.7136,2,  34.7113,3,    202.0,2,   201.8,2,  123.37,2,   32.24,2,    0.00,2,    2.24,2,  -0.003,2,  -0.005,2,-999.000,9,  2269.7,2,  2384.0,2,-999.0000,9,   1.8860,2,   10.46,2,    0.42,2,  -181.8,2,     2.9,   8.231,2,   0.040,-999.000,9,   0.0050,   0.7502,-999.0000,    0.12