BOTTLE,20140514CCHSIOSE
EXPOCODE,SECT_ID,STNNBR,CASTNO,SAMPNO,BTLNBR,BTLNBR_FLAG_W,DATE,TIME,LATITUDE,LONGITUDE,DEPTH,CTDPRS,CTDTMP,CTDSAL,CTDSAL_FLAG_W,SALNTY,SALNTY_FLAG_W,CTDOXY,CTDOXY_FLAG_W,OXYGEN,OXYGEN_FLAG_W,SILCAT,SILCAT_FLAG_W,NITRAT,NITRAT_FLAG_W,NITRIT,NITRIT_FLAG_W,PHSPHT,PHSPHT_FLAG_W,CFC-11,CFC-11_FLAG_W,CFC-12,CFC-12_FLAG_W,CFC113,CFC113_FLAG_W,TCARBN,TCARBN_FLAG_W,ALKALI,ALKALI_FLAG_W,TRITUM,TRITUM_FLAG_W,HELIUM,HELIUM_FLAG_W,DELHE3,DELHE3_FLAG_W,DELC13,DELC13_FLAG_W,DELC14,DELC14_FLAG_W,C14ERR,NEON,NEON_FLAG_W,NEONER,CCL4,CCL4_FLAG_W,HELIER,THETA,TRITER,DELHER
,,,,,,,,,,,METERS,DBAR,ITS-90,PSS-78,,PSS-78,,UMOL/KG,,UMOL/KG,,UMOL/KG,,UMOL/KG,,UMOL/KG,,UMOL/KG,,PMOL/KG,,PMOL/KG,,PMOL/KG,,UMOL/KG,,UMOL/KG,,TU,,NMOL/KG,,PERCNT,,/MILLE,,/MILLE,,/MILLE,NMOL/KG,,NMOL/KG,PMOL/KG,,NMOL/KG,DEG C,TU,PERCNT
  316N145_8,        I03,     458,          1,         36,         36,2,19950429,       0616,   -19.9995,   107.5002,       5358,    11.2,  27.0908,  34.9732,2,  34.9740,2,    199.2,2,   201.2,2,    3.49,2,    0.11,2,    0.00,2,    0.08,2,   1.736,2,   0.990,2,-999.000,9,  1947.0,6,  2294.5,6,-999.0000,9,-999.0000,9, -999.00,9, -999.00,9,  -999.0,9,  -999.0,-999.000,9,-999.000,-999.000,9,-999.0000,  27.0882,-999.0000,-999.000
  316N145_8,        I03,     458,          1,         35,         35,2,19950429,       0616,   -19.9995,   107.5002,       5358,    56.7,  25.9113,  35.5269,2,  35.5184,2,    223.4,2,   218.2,2,    3.68,2,    0.11,2,    0.00,2,    0.05,2,   1.891,2,   1.083,2,-999.000,9,  1977.3,2,  2324.0,2,-999.0000,9,-999.0000,9, -999.00,9, -999.00,9,  -999.0,9,  -999.0,-999.000,9,-999.000,-999.000,9,-999.0000,  25.8987,-999.0000,-999.000
  316N145_8,        I03,     458,          1,         34,         34,2,19950429,       0616,   -19.9995,   107.5002,       5358,   107.2,  21.1911,  35.5297,2,  35.5294,2,    186.6,2,   185.6,2,    5.33,2,    1.37,2,    0.16,2,    0.27,2,   2.131,2,   1.175,2,-999.000,9,  2038.0,2,  2328.0,2,-999.0000,9,-999.0000,9, -999.00,9, -999.00,9,  -999.0,9,  -999.0,-999.000,9,-999.000,-999.000,9,-999.0000,  21.1704,-999.0000,-999.000
  316N145_8,        I03,     458,          1,         33,         33,2,19950429,       0616,   -19.9995,   107.5002,       5358,   157.2,  19.1620,  35.5919,2,  35.5924,2,    176.2,2,   173.2,2,    8.05,2,    5.99,2,    0.02,2,    0.48,2,   2.107,2,   1.146,2,-999.000,9,  2071.2,2,  2336.0,2,-999.0000,9,-999.0000,9, -999.00,9, -999.00,9,  -999.0,9,  -999.0,-999.000,9,-999.000,-999.000,9,-999.0000,  19.1337,-999.0000,-999.000
  316N145_8,        I03,     458,          1,         32,         32,2,19950429,       0616,   -19.9995,   107.5002,       5358,   207.2,  17.4135,  35.6162,2,  35.6362,2,    187.5,2,   183.7,2,    8.24,2,    6.05,2,    0.01,2,    0.51,2,   2.257,2,   1.215,2,-999.000,9,  2085.5,2,  2341.0,2,-999.0000,9,-999.0000,9, -999.00,9, -999.00,9,  -999.0,9,  -999.0,-999.000,9,-999.000,-999.000,9,-999.0000,  17.3786,-999.0000,-999.000
  316N145_8,        I03,     458,          1,         31,         31,2,19950429,       0616,   -19.9995,   107.5002,       5358,   258.1,  15.5830,  35.6406,2,  35.6297,2,    212.7,2,   214.4,2,    3.81,2,    4.07,2,    0.01,2,    0.41,2,   2.735,2,   1.428,2,-999.000,9,  2085.4,2,  2342.0,2,-999.0000,9,-999.0000,9, -999.00,9, -999.00,9,  -999.0,9,  -999.0,-999.000,9,-999.000,-999.000,9,-999.0000,  15.5426,-999.0000,-999.000
  316N145_8,        I03,     458,          1,         30,         30,2,19950429,       0616,   -19.9995,   107.5002,       5358,   307.5,  13.7942,  35.3981,2,  35.3965,2,    216.0,2,   220.1,2,    4.22,2,    6.36,2,    0.01,2,    0.54,2,   2.893,2,   1.501,2,-999.000,9,  2094.0,2,  2329.0,2,-999.0000,9,-999.0000,9, -999.00,9, -999.00,9,  -999.0,9,  -999.0,-999.000,9,-999.000,-999.000,9,-999.0000,  13.7499,-999.0000,-999.000
  316N145_8,        I03,     458,          1,         29,         29,2,19950429,       0616,   -19.9995,   107.5002,       5358,   357.8,  12.2629,  35.1571,2,  35.1677,2,    226.4,2,   226.3,2,    4.42,2,    8.75,2,    0.00,2,    0.69,2,   3.027,2,   1.544,2,-999.000,9,  2099.8,2,  2320.0,2,-999.0000,9,-999.0000,9, -999.00,9, -999.00,9,  -999.0,9,  -999.0,-999.000,9,-999.000,-999.000,9,-999.0000,  12.2152,-999.0000,-999.000
  316N145_8,        I03,     458,          1,         28,         28,2,19950429,       0616,   -19.9995,   107.5002,       5358,   408.0,  10.9723,  34.9551,2,  34.9522,2,    232.8,2,   236.0,2,    4.20,2,   11.25,2,    0.00,2,    0.83,2,   3.196,2,   1.615,2,-999.000,9,  2104.0,2,  2306.0,2,-999.0000,9,-999.0000,9, -999.00,9, -999.00,9,  -999.0,9,  -999.0,-999.000,9,-999.000,-999.000,9,-999.0000,  10.9216,-999.0000,-999.000
  316N145_8,        I03,     458,          1,         27,         27,2,19950429,       0616,   -19.9995,   107.5002,       5358,   508.1,   9.3651,  34.7160,2,  34.7125,2,    221.2,2,   219.5,2,    9.23,2,   17.52,2,    0.00,2,    1.22,2,   2.477,2,   1.214,2,-999.000,9,  2125.2,2,  2299.0,2,-999.0000,9,-999.0000,9, -999.00,9, -999.00,9,  -999.0,9,  -999.0,-999.000,9,-999.000,-999.000,9,-999.0000,   9.3078,-999.0000,-999.000
  316N145_8,        I03,     458,          1,         26,         26,2,19950429,       0616,   -19.9995,   107.5002,       5358,   609.1,   7.6422,  34.5570,2,  34.5496,2,    189.3,2,   189.9,2,   21.41,2,   24.67,2,    0.00,2,    1.69,2,   1.166,2,   0.587,2,-999.000,9,  2160.7,2,  2300.0,2,-999.0000,9,-999.0000,9, -999.00,9, -999.00,9,  -999.0,9,  -999.0,-999.000,9,-999.000,-999.000,9,-999.0000,   7.5810,-999.0000,-999.000
  316N145_8,        I03,     458,          1,         25,         25,2,19950429,       0616,   -19.9995,   107.5002,       5358,   708.0,   6.3766,  34.5608,2,  34.5671,2,    127.6,2,   129.4,2,   54.42,2,   31.96,2,    0.00,2,    2.25,2,   0.219,2,   0.115,2,-999.000,9,  2227.7,2,  2330.0,2,-999.0000,9,-999.0000,9, -999.00,9, -999.00,9,  -999.0,9,  -999.0,-999.000,9,-999.000,-999.000,9,-999.0000,   6.3116,-999.0000,-999.000
  316N145_8,        I03,     458,          1,         24,         24,2,19950429,       0616,   -19.9995,   107.5002,       5358,   807.1,   5.9651,  34.6180,2,  34.6199,2,    101.4,2,   100.0,2,   72.74,2,   34.82,2,    0.00,2,    2.51,2,   0.027,2,   0.017,2,-999.000,9,  2261.2,2,  2346.0,2,-999.0000,9,-999.0000,9, -999.00,9, -999.00,9,  -999.0,9,  -999.0,-999.000,9,-999.000,-999.000,9,-999.0000,   5.8929,-999.0000,-999.000
  316N145_8,        I03,     458,          1,         23,         23,2,19950429,       0616,   -19.9995,   107.5002,       5358,   908.8,   5.5356,  34.6310,2,  34.6327,2,     93.7,2,    94.0,2,   83.51,2,   35.76,2,    0.00,2,    2.60,2,   0.013,3,   0.013,4,-999.000,9,  2275.4,2,  2360.0,2,-999.0000,9,-999.0000,9, -999.00,9, -999.00,9,  -999.0,9,  -999.0,-999.000,9,-999.000,-999.000,9,-999.0000,   5.4566,-999.0000,-999.000
  316N145_8,        I03,     458,          1,         22,         22,2,19950429,       0616,   -19.9995,   107.5002,       5358,  1011.4,   5.1756,  34.6385,2,  34.6386,2,     92.4,2,    93.6,2,   90.49,2,   36.13,2,    0.00,2,    2.64,2,   0.006,2,   0.003,2,-999.000,9,  2283.4,2,  2364.0,2,-999.0000,9,-999.0000,9, -999.00,9, -999.00,9,  -999.0,9,  -999.0,-999.000,9,-999.000,-999.000,9,-999.0000,   5.0897,-999.0000,-999.000
  316N145_8,        I03,     458,          1,         21,         21,2,19950429,       0616,   -19.9995,   107.5002,       5358,  1111.9,   4.7818,  34.6361,2,  34.6370,2,     95.7,2,    97.4,2,   95.36,2,   36.30,2,    0.00,2,    2.63,2,   0.004,2,   0.004,2,-999.000,9,  2289.8,2,  2372.0,2,-999.0000,9,-999.0000,9, -999.00,9, -999.00,9,  -999.0,9,  -999.0,-999.000,9,-999.000,-999.000,9,-999.0000,   4.6899,-999.0000,-999.000
  316N145_8,        I03,     458,          1,         20,         20,2,19950429,       0616,   -19.9995,   107.5002,       5358,  1212.1,   4.4782,  34.6397,2,  34.6401,2,    100.6,2,   101.9,2,   98.32,2,   36.25,2,    0.00,2,    2.63,2,   0.003,2,   0.003,2,-999.000,9,  2291.2,2,  2372.0,2,-999.0000,9,-999.0000,9, -999.00,9, -999.00,9,  -999.0,9,  -999.0,-999.000,9,-999.000,-999.000,9,-999.0000,   4.3798,-999.0000,-999.000
  316N145_8,        I03,     458,          1,         19,         19,2,19950429,       0616,   -19.9995,   107.5002,       5358,  1414.8,   3.8164,  34.6538,2,  34.6543,2,    117.3,2,   116.4,2,   99.14,2,   35.85,2,    0.00,2,    2.59,2,-999.000,9,-999.000,9,-999.000,9,  2288.1,2,  2376.0,2,-999.0000,9,-999.0000,9, -999.00,9, -999.00,9,  -999.0,9,  -999.0,-999.000,9,-999.000,-999.000,9,-999.0000,   3.7066,-999.0000,-999.000
  316N145_8,        I03,     458,          1,         18,         18,2,19950429,       0616,   -19.9995,   107.5002,       5358,  1612.7,   3.2667,  34.6746,2,  34.6751,2,    129.8,2,   129.5,2,  102.96,2,   35.38,2,    0.00,2,    2.53,2,-999.000,9,-999.000,9,-999.000,9,  2288.6,2,  2377.0,2,-999.0000,9,-999.0000,9, -999.00,9, -999.00,9,  -999.0,9,  -999.0,-999.000,9,-999.000,-999.000,9,-999.0000,   3.1458,-999.0000,-999.000
  316N145_8,        I03,     458,          1,         17,         17,2,19950429,       0616,   -19.9995,   107.5002,       5358,  1818.5,   2.7549,  34.7010,2,  34.7011,2,    140.1,2,   139.3,2,  111.11,2,   34.87,2,    0.00,2,    2.49,2,-999.000,9,-999.000,9,-999.000,9,  2291.6,2,  2388.0,2,-999.0000,9,-999.0000,9, -999.00,9, -999.00,9,  -999.0,9,  -999.0,-999.000,9,-999.000,-999.000,9,-999.0000,   2.6227,-999.0000,-999.000
  316N145_8,        I03,     458,          1,         16,         16,2,19950429,       0616,   -19.9995,   107.5002,       5358,  2019.8,   2.4192,  34.7168,2,  34.7174,2,    146.9,2,   146.9,2,  116.49,2,   34.62,2,    0.00,2,    2.47,2,  -0.003,2,   0.000,2,-999.000,9,  2294.0,2,  2392.0,2,-999.0000,9,-999.0000,9, -999.00,9, -999.00,9,  -999.0,9,  -999.0,-999.000,9,-999.000,-999.000,9,-999.0000,   2.2744,-999.0000,-999.000
  316N145_8,        I03,     458,          1,         15,         15,2,19950429,       0616,   -19.9995,   107.5002,       5358,  2224.1,   2.1922,  34.7245,2,  34.7243,2,    153.1,2,   153.7,2,  120.37,2,   34.42,2,    0.00,2,    2.44,2,-999.000,9,-999.000,9,-999.000,9,  2295.0,2,  2398.0,2,-999.0000,9,-999.0000,9, -999.00,9, -999.00,9,  -999.0,9,  -999.0,-999.000,9,-999.000,-999.000,9,-999.0000,   2.0330,-999.0000,-999.000
  316N145_8,        I03,     458,          1,         14,         14,2,19950429,       0616,   -19.9995,   107.5002,       5358,  2425.8,   2.0331,  34.7259,2,  34.7258,2,    156.2,2,   156.4,2,  123.61,2,   34.22,2,    0.00,2,    2.42,2,   0.002,2,   0.003,2,-999.000,9,  2296.2,2,  2398.0,2,-999.0000,9,-999.0000,9, -999.00,9, -999.00,9,  -999.0,9,  -999.0,-999.000,9,-999.000,-999.000,9,-999.0000,   1.8587,-999.0000,-999.000
  316N145_8,        I03,     458,          1,         13,         13,2,19950429,       0616,   -19.9995,   107.5002,       5358,  2630.5,   1.8738,  34.7262,2,  34.7268,2,    162.8,2,   161.7,2,  125.11,2,   34.02,2,    0.00,2,    2.40,2,-999.000,9,-999.000,9,-999.000,9,  2294.5,2,  2404.0,2,-999.0000,9,-999.0000,9, -999.00,9, -999.00,9,  -999.0,9,  -999.0,-999.000,9,-999.000,-999.000,9,-999.0000,   1.6836,-999.0000,-999.000
  316N145_8,        I03,     458,          1,         12,         12,2,19950429,       0616,   -19.9995,   107.5002,       5358,  2833.8,   1.7295,  34.7249,2,  34.7246,2,    168.2,2,   168.9,2,  124.41,2,   33.61,2,    0.00,2,    2.37,2,   0.000,2,   0.004,2,-999.000,9,  2290.7,2,  2397.0,2,-999.0000,9,-999.0000,9, -999.00,9, -999.00,9,  -999.0,9,  -999.0,-999.000,9,-999.000,-999.000,9,-999.0000,   1.5233,-999.0000,-999.000
  316N145_8,        I03,     458,          1,         11,         11,2,19950429,       0616,   -19.9995,   107.5002,       5358,  3035.5,   1.5803,  34.7234,2,  34.7239,2,    175.4,2,   173.5,2,  124.82,2,   33.26,2,    0.00,2,    2.34,2,   0.012,3,   0.013,3,-999.000,9,  2286.8,6,  2398.5,6,-999.0000,9,-999.0000,9, -999.00,9, -999.00,9,  -999.0,9,  -999.0,-999.000,9,-999.000,-999.000,9,-999.0000,   1.3581,-999.0000,-999.000
  316N145_8,        I03,     458,          1,         10,         10,2,19950429,       0616,   -19.9995,   107.5002,       5358,  3239.1,   1.4482,  34.7213,2,  34.7217,2,    180.1,2,   180.3,2,  126.09,2,   33.06,2,    0.00,2,    2.31,2,-999.000,9,-999.000,9,-999.000,9,  2285.6,2,  2397.0,2,-999.0000,9,-999.0000,9, -999.00,9, -999.00,9,  -999.0,9,  -999.0,-999.000,9,-999.000,-999.000,9,-999.0000,   1.2093,-999.0000,-999.000
  316N145_8,        I03,     458,          1,          9,          9,2,19950429,       0616,   -19.9995,   107.5002,       5358,  3444.9,   1.3477,  34.7191,2,  34.7190,2,    182.4,2,   183.7,2,  128.04,2,   33.07,2,    0.00,2,    2.30,2,-999.000,9,-999.000,9,-999.000,9,  2285.1,2,  2400.0,2,-999.0000,9,-999.0000,9, -999.00,9, -999.00,9,  -999.0,9,  -999.0,-999.000,9,-999.000,-999.000,9,-999.0000,   1.0907,-999.0000,-999.000
  316N145_8,        I03,     458,          1,          8,          8,2,19950429,       0616,   -19.9995,   107.5002,       5358,  3648.9,   1.2787,  34.7165,2,  34.7164,2,    185.7,2,   186.4,2,  128.88,2,   33.07,2,    0.00,2,    2.31,2,   0.001,2,   0.003,2,-999.000,9,  2284.9,2,  2399.0,2,-999.0000,9,-999.0000,9, -999.00,9, -999.00,9,  -999.0,9,  -999.0,-999.000,9,-999.000,-999.000,9,-999.0000,   1.0028,-999.0000,-999.000
  316N145_8,        I03,     458,          1,          7,          7,2,19950429,       0616,   -19.9995,   107.5002,       5358,  3851.6,   1.2363,  34.7148,2,  34.7152,2,    187.1,2,   187.6,2,  130.17,2,   32.98,2,    0.00,2,    2.30,2,-999.000,9,-999.000,9,-999.000,9,  2284.3,2,  2405.0,2,-999.0000,9,-999.0000,9, -999.00,9, -999.00,9,  -999.0,9,  -999.0,-999.000,9,-999.000,-999.000,9,-999.0000,   0.9405,-999.0000,-999.000
  316N145_8,        I03,     458,          1,          6,          6,2,19950429,       0616,   -19.9995,   107.5002,       5358,  4057.1,   1.2095,  34.7147,2,  34.7150,2,    190.0,2,   189.9,2,  130.35,2,   32.99,2,    0.00,2,    2.29,2,  -0.002,2,   0.002,2,-999.000,9,  2283.8,2,  2398.0,2,-999.0000,9,-999.0000,9, -999.00,9, -999.00,9,  -999.0,9,  -999.0,-999.000,9,-999.000,-999.000,9,-999.0000,   0.8925,-999.0000,-999.000
  316N145_8,        I03,     458,          1,          5,          5,2,19950429,       0616,   -19.9995,   107.5002,       5358,  4337.7,   1.1910,  34.7133,2,  34.7129,2,    191.2,2,   191.9,2,  130.53,2,   32.89,2,    0.00,2,    2.29,2,-999.000,9,-999.000,9,-999.000,9,  2283.0,2,  2403.0,2,-999.0000,9,-999.0000,9, -999.00,9, -999.00,9,  -999.0,9,  -999.0,-999.000,9,-999.000,-999.000,9,-999.0000,   0.8437,-999.0000,-999.000
  316N145_8,        I03,     458,          1,          4,          4,2,19950429,       0616,   -19.9995,   107.5002,       5358,  4619.3,   1.1869,  34.7131,2,  34.7129,2,    193.3,2,   192.7,2,  130.27,2,   32.74,2,    0.00,2,    2.28,2,   0.003,2,   0.003,2,-999.000,9,  2281.1,2,  2397.0,2,-999.0000,9,-999.0000,9, -999.00,9, -999.00,9,  -999.0,9,  -999.0,-999.000,9,-999.000,-999.000,9,-999.0000,   0.8078,-999.0000,-999.000
  316N145_8,        I03,     458,          1,          3,          3,2,19950429,       0616,   -19.9995,   107.5002,       5358,  4902.4,   1.1879,  34.7122,2,  34.7117,2,    195.8,2,   195.7,2,  130.01,2,   32.65,2,    0.00,2,    2.28,2,-999.000,9,-999.000,9,-999.000,9,  2278.5,2,  2399.0,2,-999.0000,9,-999.0000,9, -999.00,9, -999.00,9,  -999.0,9,  -999.0,-999.000,9,-999.000,-999.000,9,-999.0000,   0.7757,-999.0000,-999.000
  316N145_8,        I03,     458,          1,          2,          2,2,19950429,       0616,   -19.9995,   107.5002,       5358,  5185.0,   1.1969,  34.7121,2,  34.7121,2,    197.3,2,   197.4,2,  128.86,2,   32.55,2,    0.00,2,    2.26,2,-999.000,9,-999.000,9,-999.000,9,  2277.4,2,  2393.0,2,-999.0000,9,-999.0000,9, -999.00,9, -999.00,9,  -999.0,9,  -999.0,-999.000,9,-999.000,-999.000,9,-999.0000,   0.7503,-999.0000,-999.000
  316N145_8,        I03,     458,          1,          1,          1,2,19950429,       0616,   -19.9995,   107.5002,       5358,  5472.9,   1.2060,  34.7113,2,  34.7103,2,    199.5,2,   199.2,2,  128.16,2,   32.45,2,    0.00,2,    2.26,2,   0.005,2,   0.003,2,-999.000,9,  2277.4,2,  2390.0,2,-999.0000,9,-999.0000,9, -999.00,9, -999.00,9,  -999.0,9,  -999.0,-999.000,9,-999.000,-999.000,9,-999.0000,   0.7235,-999.0000,-999.000