BOTTLE,20140514CCHSIOSE
EXPOCODE,SECT_ID,STNNBR,CASTNO,SAMPNO,BTLNBR,BTLNBR_FLAG_W,DATE,TIME,LATITUDE,LONGITUDE,DEPTH,CTDPRS,CTDTMP,CTDSAL,CTDSAL_FLAG_W,SALNTY,SALNTY_FLAG_W,CTDOXY,CTDOXY_FLAG_W,OXYGEN,OXYGEN_FLAG_W,SILCAT,SILCAT_FLAG_W,NITRAT,NITRAT_FLAG_W,NITRIT,NITRIT_FLAG_W,PHSPHT,PHSPHT_FLAG_W,CFC-11,CFC-11_FLAG_W,CFC-12,CFC-12_FLAG_W,CFC113,CFC113_FLAG_W,TCARBN,TCARBN_FLAG_W,ALKALI,ALKALI_FLAG_W,TRITUM,TRITUM_FLAG_W,HELIUM,HELIUM_FLAG_W,DELHE3,DELHE3_FLAG_W,DELC13,DELC13_FLAG_W,DELC14,DELC14_FLAG_W,C14ERR,NEON,NEON_FLAG_W,NEONER,CCL4,CCL4_FLAG_W,HELIER,THETA,TRITER,DELHER
,,,,,,,,,,,METERS,DBAR,ITS-90,PSS-78,,PSS-78,,UMOL/KG,,UMOL/KG,,UMOL/KG,,UMOL/KG,,UMOL/KG,,UMOL/KG,,PMOL/KG,,PMOL/KG,,PMOL/KG,,UMOL/KG,,UMOL/KG,,TU,,NMOL/KG,,PERCNT,,/MILLE,,/MILLE,,/MILLE,NMOL/KG,,NMOL/KG,PMOL/KG,,NMOL/KG,DEG C,TU,PERCNT
  316N145_8,        I03,     560,          1,         23,         23,2,19950601,       1912,   -19.9998,    49.1517,       2292,     7.3,  26.1988,  35.0885,2,  35.0867,2,    204.2,2,   205.4,2,    2.26,2,    0.10,2,    0.00,2,    0.12,2,-999.000,9,-999.000,9,   0.046,3,  1947.0,2,  2295.2,6,-999.0000,9,-999.0000,9, -999.00,9, -999.00,9,  -999.0,9,  -999.0,-999.000,9,-999.000,   1.874,2,-999.0000,  26.1971,-999.0000,-999.000
  316N145_8,        I03,     560,          1,         22,         22,2,19950601,       1912,   -19.9998,    49.1517,       2292,    53.8,  26.1741,  35.1067,2,  35.1038,2,    215.5,2,   206.5,2,    2.04,2,    0.10,2,    0.00,2,    0.11,2,-999.000,9,-999.000,9,-999.000,9,  -999.0,9,  -999.0,9,-999.0000,9,-999.0000,9, -999.00,9, -999.00,9,  -999.0,9,  -999.0,-999.000,9,-999.000,-999.000,9,-999.0000,  26.1621,-999.0000,-999.000
  316N145_8,        I03,     560,          1,         21,         21,2,19950601,       1912,   -19.9998,    49.1517,       2292,   104.7,  22.8891,  35.2630,2,  35.2595,2,    199.9,2,   196.2,2,    2.66,2,    0.64,2,    0.08,2,    0.22,2,-999.000,9,-999.000,9,-999.000,9,  -999.0,9,  -999.0,9,-999.0000,9,-999.0000,9, -999.00,9, -999.00,9,  -999.0,9,  -999.0,-999.000,9,-999.000,-999.000,9,-999.0000,  22.8678,-999.0000,-999.000
  316N145_8,        I03,     560,          1,         20,         20,2,19950601,       1912,   -19.9998,    49.1517,       2292,   153.6,  21.1434,  35.3954,2,  35.3906,2,    180.2,2,   177.7,2,    4.12,2,    3.80,2,    0.02,2,    0.38,2,-999.000,9,-999.000,9,  -0.005,3,  -999.0,9,  -999.0,9,-999.0000,9,-999.0000,9, -999.00,9, -999.00,9,  -999.0,9,  -999.0,-999.000,9,-999.000,   0.502,2,-999.0000,  21.1138,-999.0000,-999.000
  316N145_8,        I03,     560,          1,         19,         19,2,19950601,       1912,   -19.9998,    49.1517,       2292,   204.5,  18.3271,  35.4549,2,  35.4402,2,    158.1,2,   158.5,2,    8.65,2,    8.55,2,    0.01,2,    0.69,2,-999.000,9,-999.000,9,-999.000,9,  -999.0,9,  -999.0,9,-999.0000,9,-999.0000,9, -999.00,9, -999.00,9,  -999.0,9,  -999.0,-999.000,9,-999.000,-999.000,9,-999.0000,  18.2914,-999.0000,-999.000
  316N145_8,        I03,     560,          1,         18,         18,2,19950601,       1912,   -19.9998,    49.1517,       2292,   254.6,  16.7881,  35.4586,2,  35.4593,2,    161.8,2,   166.5,2,    9.06,2,    8.94,2,    0.00,2,    0.73,2,-999.000,9,-999.000,9,  -0.081,3,  -999.0,9,  -999.0,9,-999.0000,9,-999.0000,9, -999.00,9, -999.00,9,  -999.0,9,  -999.0,-999.000,9,-999.000,   0.346,2,-999.0000,  16.7462,-999.0000,-999.000
  316N145_8,        I03,     560,          1,         17,         17,2,19950601,       1912,   -19.9998,    49.1517,       2292,   304.2,  15.1089,  35.3818,2,  35.3746,2,    175.3,2,   175.5,2,    9.32,2,   10.09,2,    0.00,2,    0.80,2,-999.000,9,-999.000,9,-999.000,9,  -999.0,9,  -999.0,9,-999.0000,9,-999.0000,9, -999.00,9, -999.00,9,  -999.0,9,  -999.0,-999.000,9,-999.000,-999.000,9,-999.0000,  15.0623,-999.0000,-999.000
  316N145_8,        I03,     560,          1,         16,         16,2,19950601,       1912,   -19.9998,    49.1517,       2292,   352.7,  14.0855,  35.3174,2,  35.3164,2,    189.3,2,   194.5,2,    7.22,2,    9.66,2,    0.00,2,    0.77,2,-999.000,9,-999.000,9,  -0.014,3,  -999.0,9,  -999.0,9,-999.0000,9,-999.0000,9, -999.00,9, -999.00,9,  -999.0,9,  -999.0,-999.000,9,-999.000,   0.452,2,-999.0000,  14.0339,-999.0000,-999.000
  316N145_8,        I03,     560,          1,         15,         15,2,19950601,       1912,   -19.9998,    49.1517,       2292,   400.7,  13.0016,  35.2088,2,  35.2039,2,    197.6,2,   206.9,2,    6.38,2,   10.48,2,    0.00,2,    0.82,2,-999.000,9,-999.000,9,-999.000,9,  -999.0,9,  -999.0,9,-999.0000,9,-999.0000,9, -999.00,9, -999.00,9,  -999.0,9,  -999.0,-999.000,9,-999.000,-999.000,9,-999.0000,  12.9459,-999.0000,-999.000
  316N145_8,        I03,     560,          1,         14,         14,2,19950601,       1912,   -19.9998,    49.1517,       2292,   495.7,  11.2060,  34.9631,2,  34.9617,2,    214.5,2,   215.9,2,    6.59,2,   13.54,2,    0.00,2,    1.00,2,-999.000,9,-999.000,9,   0.030,3,  -999.0,9,  -999.0,9,-999.0000,9,-999.0000,9, -999.00,9, -999.00,9,  -999.0,9,  -999.0,-999.000,9,-999.000,   0.910,2,-999.0000,  11.1434,-999.0000,-999.000
  316N145_8,        I03,     560,          1,         13,         13,2,19950601,       1912,   -19.9998,    49.1517,       2292,   596.7,   9.7212,  34.7689,2,  34.7684,2,    211.8,2,   215.4,2,    8.46,2,   17.08,2,    0.00,2,    1.21,2,-999.000,9,-999.000,9,  -0.011,3,  -999.0,9,  -999.0,9,-999.0000,9,-999.0000,9, -999.00,9, -999.00,9,  -999.0,9,  -999.0,-999.000,9,-999.000,   0.973,2,-999.0000,   9.6519,-999.0000,-999.000
  316N145_8,        I03,     560,          1,         12,         12,2,19950601,       1912,   -19.9998,    49.1517,       2292,   704.5,   7.8092,  34.5996,2,  34.5987,2,    190.8,2,   190.8,2,   20.35,2,   23.92,2,    0.00,2,    1.67,2,-999.000,9,-999.000,9,  -0.058,3,  -999.0,9,  -999.0,9,-999.0000,9,-999.0000,9, -999.00,9, -999.00,9,  -999.0,9,  -999.0,-999.000,9,-999.000,   0.703,2,-999.0000,   7.7370,-999.0000,-999.000
  316N145_8,        I03,     560,          1,         11,         11,2,19950601,       1912,   -19.9998,    49.1517,       2292,   807.2,   5.9518,  34.5204,2,  34.5220,2,    167.1,2,   166.7,2,   40.57,2,   29.81,2,    0.00,2,    2.09,2,-999.000,9,-999.000,9,-999.000,9,  -999.0,9,  -999.0,9,-999.0000,9,-999.0000,9, -999.00,9, -999.00,9,  -999.0,9,  -999.0,-999.000,9,-999.000,-999.000,9,-999.0000,   5.8798,-999.0000,-999.000
  316N145_8,        I03,     560,          1,         10,         10,2,19950601,       1912,   -19.9998,    49.1517,       2292,   905.5,   5.0918,  34.5333,2,  34.5352,2,    153.8,2,   151.4,2,   56.43,2,   32.62,2,    0.00,2,    2.30,2,-999.000,9,-999.000,9,   0.019,3,  -999.0,9,  -999.0,9,-999.0000,9,-999.0000,9, -999.00,9, -999.00,9,  -999.0,9,  -999.0,-999.000,9,-999.000,   0.371,2,-999.0000,   5.0163,-999.0000,-999.000
  316N145_8,        I03,     560,          1,          9,          9,2,19950601,       1912,   -19.9998,    49.1517,       2292,  1004.5,   4.7491,  34.6080,2,  34.6085,2,    132.0,2,   132.4,2,   71.70,2,   34.11,2,    0.00,2,    2.44,2,-999.000,9,-999.000,9,-999.000,9,  -999.0,9,  -999.0,9,-999.0000,9,-999.0000,9, -999.00,9, -999.00,9,  -999.0,9,  -999.0,-999.000,9,-999.000,-999.000,9,-999.0000,   4.6671,-999.0000,-999.000
  316N145_8,        I03,     560,          1,          8,          8,2,19950601,       1912,   -19.9998,    49.1517,       2292,  1104.5,   4.1168,  34.5882,2,  34.5889,2,    142.2,2,   142.5,2,   74.42,2,   34.27,2,    0.00,2,    2.43,2,-999.000,9,-999.000,9,  -9.009,9,  -999.0,9,  -999.0,9,-999.0000,9,-999.0000,9, -999.00,9, -999.00,9,  -999.0,9,  -999.0,-999.000,9,-999.000,   0.133,2,-999.0000,   4.0312,-999.0000,-999.000
  316N145_8,        I03,     560,          1,          7,          7,2,19950601,       1912,   -19.9998,    49.1517,       2292,  1205.1,   3.7037,  34.5999,2,  34.6001,2,    146.6,2,   148.0,2,   77.34,2,   34.17,2,    0.00,2,    2.41,2,-999.000,9,-999.000,9,-999.000,9,  -999.0,9,  -999.0,9,-999.0000,9,-999.0000,9, -999.00,9, -999.00,9,  -999.0,9,  -999.0,-999.000,9,-999.000,-999.000,9,-999.0000,   3.6132,-999.0000,-999.000
  316N145_8,        I03,     560,          1,          6,          6,2,19950601,       1912,   -19.9998,    49.1517,       2292,  1357.6,   3.2563,  34.6321,2,  34.6313,2,    153.0,2,   154.2,2,   82.80,2,   33.93,2,    0.00,2,    2.40,2,-999.000,9,-999.000,9,  -0.020,3,  -999.0,9,  -999.0,9,-999.0000,9,-999.0000,9, -999.00,9, -999.00,9,  -999.0,9,  -999.0,-999.000,9,-999.000,   0.081,2,-999.0000,   3.1573,-999.0000,-999.000
  316N145_8,        I03,     560,          1,          5,          5,2,19950601,       1912,   -19.9998,    49.1517,       2292,  1510.1,   2.9212,  34.6577,2,  34.6572,2,    160.7,2,   160.7,2,   87.21,2,   33.55,2,    0.00,2,    2.39,2,-999.000,9,-999.000,9,-999.000,9,  -999.0,9,  -999.0,9,-999.0000,9,-999.0000,9, -999.00,9, -999.00,9,  -999.0,9,  -999.0,-999.000,9,-999.000,-999.000,9,-999.0000,   2.8132,-999.0000,-999.000
  316N145_8,        I03,     560,          1,          4,          4,2,19950601,       1912,   -19.9998,    49.1517,       2292,  1711.2,   2.6594,  34.6955,2,  34.6951,2,    162.9,2,   161.9,2,   96.72,2,   33.50,2,    0.00,2,    2.38,2,-999.000,9,-999.000,9,  -0.066,3,  -999.0,9,  -999.0,9,-999.0000,9,-999.0000,9, -999.00,9, -999.00,9,  -999.0,9,  -999.0,-999.000,9,-999.000,   0.018,2,-999.0000,   2.5377,-999.0000,-999.000
  316N145_8,        I03,     560,          1,          3,          3,2,19950601,       1912,   -19.9998,    49.1517,       2292,  1914.8,   2.4716,  34.7140,2,  34.7149,2,    161.5,2,   161.5,2,  104.80,2,   33.66,2,    0.00,2,    2.40,2,-999.000,9,-999.000,9,-999.000,9,  -999.0,9,  -999.0,9,-999.0000,9,-999.0000,9, -999.00,9, -999.00,9,  -999.0,9,  -999.0,-999.000,9,-999.000,-999.000,9,-999.0000,   2.3351,-999.0000,-999.000
  316N145_8,        I03,     560,          1,          2,          2,2,19950601,       1912,   -19.9998,    49.1517,       2292,  2117.5,   2.3429,  34.7250,2,  34.7261,2,    160.0,2,   160.6,2,  111.21,2,   33.81,2,    0.00,2,    2.41,2,-999.000,9,-999.000,9,  -0.030,3,  -999.0,9,  -999.0,9,-999.0000,9,-999.0000,9, -999.00,9, -999.00,9,  -999.0,9,  -999.0,-999.000,9,-999.000,   0.024,2,-999.0000,   2.1907,-999.0000,-999.000
  316N145_8,        I03,     560,          1,          1,          1,2,19950601,       1912,   -19.9998,    49.1517,       2292,  2310.3,   2.2288,  34.7326,2,  34.7319,2,    158.7,2,   158.7,2,  116.59,2,   33.87,2,    0.00,2,    2.43,2,-999.000,9,-999.000,9,  -0.024,3,  -999.0,9,  -999.0,9,-999.0000,9,-999.0000,9, -999.00,9, -999.00,9,  -999.0,9,  -999.0,-999.000,9,-999.000,   0.005,2,-999.0000,   2.0613,-999.0000,-999.000
  316N145_8,        I03,     561,          1,         17,         17,2,19950601,       2125,   -20.0005,    48.9905,       1024,     7.4,  26.1656,  35.0342,2,  35.0314,2,    205.5,2,   206.7,2,    2.47,2,    0.10,2,    0.00,2,    0.13,2,   1.808,2,   1.047,2,-999.000,9,  -999.0,5,  2293.0,6,-999.0000,9,-999.0000,9, -999.00,9, -999.00,9,  -999.0,9,  -999.0,-999.000,9,-999.000,-999.000,9,-999.0000,  26.1640,-999.0000,-999.000
  316N145_8,        I03,     561,          1,         16,         16,2,19950601,       2125,   -20.0005,    48.9905,       1024,    52.2,  25.8146,  35.1000,2,  35.0877,2,    221.0,2,   206.7,2,    2.47,2,    0.10,2,    0.00,2,    0.13,2,-999.000,9,-999.000,9,-999.000,9,  -999.0,5,  2294.0,2,-999.0000,9,-999.0000,9, -999.00,9, -999.00,9,  -999.0,9,  -999.0,-999.000,9,-999.000,-999.000,9,-999.0000,  25.8030,-999.0000,-999.000
  316N145_8,        I03,     561,          1,         15,         15,2,19950601,       2125,   -20.0005,    48.9905,       1024,   102.9,  22.3554,  35.2730,2,  35.2713,2,    193.3,2,   186.1,2,    3.72,2,    2.24,2,    0.08,2,    0.32,2,   2.028,2,   1.128,2,-999.000,9,  -999.0,5,  2312.0,2,-999.0000,9,-999.0000,9, -999.00,9, -999.00,9,  -999.0,9,  -999.0,-999.000,9,-999.000,-999.000,9,-999.0000,  22.3348,-999.0000,-999.000
  316N145_8,        I03,     561,          1,         14,         14,2,19950601,       2125,   -20.0005,    48.9905,       1024,   153.5,  20.1140,  35.3939,2,  35.3920,2,    162.1,2,   161.6,2,    6.85,2,    6.75,2,    0.01,2,    0.56,2,-999.000,9,-999.000,9,-999.000,9,  -999.0,5,  2319.0,2,-999.0000,9,-999.0000,9, -999.00,9, -999.00,9,  -999.0,9,  -999.0,-999.000,9,-999.000,-999.000,9,-999.0000,  20.0855,-999.0000,-999.000
  316N145_8,        I03,     561,          1,         13,         13,2,19950601,       2125,   -20.0005,    48.9905,       1024,   203.4,  18.2613,  35.4647,2,  35.4619,2,    163.5,2,   161.8,2,    8.30,2,    8.06,2,    0.01,2,    0.65,2,-999.000,9,-999.000,9,-999.000,9,  -999.0,5,  2326.0,2,-999.0000,9,-999.0000,9, -999.00,9, -999.00,9,  -999.0,9,  -999.0,-999.000,9,-999.000,-999.000,9,-999.0000,  18.2259,-999.0000,-999.000
  316N145_8,        I03,     561,          1,         12,         12,2,19950601,       2125,   -20.0005,    48.9905,       1024,   252.8,  16.3678,  35.4897,2,  35.4900,2,    179.5,2,   180.0,2,    7.46,2,    7.63,2,    0.00,2,    0.65,2,   2.192,2,   1.158,2,-999.000,9,  -999.0,5,  2329.0,2,-999.0000,9,   1.7580,2,    1.46,2, -999.00,9,  -999.0,9,  -999.0,   7.279,2,   0.021,-999.000,9,   0.0030,  16.3270,-999.0000,    0.14
  316N145_8,        I03,     561,          1,         11,         11,2,19950601,       2125,   -20.0005,    48.9905,       1024,   303.3,  14.9687,  35.4277,2,  35.4272,2,    190.8,2,   198.6,2,    5.78,2,    7.54,2,    0.00,2,    0.64,2,-999.000,9,-999.000,9,-999.000,9,  -999.0,5,  2327.0,2,-999.0000,9,   1.7630,2,    1.16,2, -999.00,9,  -999.0,9,  -999.0,   7.209,2,   0.049,-999.000,9,   0.0040,  14.9226,-999.0000,    0.17
  316N145_8,        I03,     561,          1,         10,         10,2,19950601,       2125,   -20.0005,    48.9905,       1024,   354.2,  13.8477,  35.3349,2,  35.3339,2,    214.5,2,   216.1,2,    4.31,2,    7.78,2,    0.00,2,    0.66,2,-999.000,9,-999.000,9,-999.000,9,  -999.0,5,  2322.0,2,-999.0000,9,   1.7530,2,    0.18,2, -999.00,9,  -999.0,9,  -999.0,   7.315,2,   0.021,-999.000,9,   0.0030,  13.7965,-999.0000,    0.14
  316N145_8,        I03,     561,          1,          9,          9,2,19950601,       2125,   -20.0005,    48.9905,       1024,   405.1,  12.8405,  35.1836,2,  35.1826,2,    203.8,2,   205.8,2,    6.81,2,   10.83,2,    0.00,2,    0.84,2,   2.440,2,   1.241,2,-999.000,9,  -999.0,5,  2317.0,2,-999.0000,9,   1.7450,2,    1.00,2, -999.00,9,  -999.0,9,  -999.0,   7.283,2,   0.051,-999.000,9,   0.0100,  12.7847,-999.0000,    0.17
  316N145_8,        I03,     561,          1,          8,          8,2,19950601,       2125,   -20.0005,    48.9905,       1024,   454.8,  11.6349,  35.0233,2,  35.0224,2,    210.0,2,   211.5,2,    7.01,2,   12.87,2,    0.00,2,    0.96,2,-999.000,9,-999.000,9,-999.000,9,  -999.0,5,  2309.0,2,-999.0000,9,   1.7620,2,    1.42,2, -999.00,9,  -999.0,9,  -999.0,   7.427,2,   0.022,-999.000,9,   0.0030,  11.5761,-999.0000,    0.14
  316N145_8,        I03,     561,          1,          7,          7,2,19950601,       2125,   -20.0005,    48.9905,       1024,   505.3,  10.7114,  34.8958,2,  34.8916,2,    213.6,2,   213.0,2,    7.84,2,   14.90,2,    0.00,2,    1.08,2,-999.000,9,-999.000,9,-999.000,9,  -999.0,5,  2304.0,2,-999.0000,9,   1.7750,2,    1.23,2, -999.00,9,  -999.0,9,  -999.0,   7.455,2,   0.032,-999.000,9,   0.0090,  10.6493,-999.0000,    0.17
  316N145_8,        I03,     561,          1,          6,          6,2,19950601,       2125,   -20.0005,    48.9905,       1024,   605.3,   9.0531,  34.6904,2,  34.6799,2,    217.3,2,   214.5,2,    9.50,2,   18.98,2,    0.00,2,    1.33,2,-999.000,9,-999.000,9,-999.000,9,  -999.0,5,  2296.0,2,-999.0000,9,-999.0000,9, -999.00,9, -999.00,9,  -999.0,9,  -999.0,-999.000,9,-999.000,-999.000,9,-999.0000,   8.9858,-999.0000,-999.000
  316N145_8,        I03,     561,          1,          5,          5,2,19950601,       2125,   -20.0005,    48.9905,       1024,   707.3,   7.4744,  34.5707,2,  34.5719,2,    194.5,2,   190.3,2,   21.81,2,   24.67,2,    0.00,2,    1.72,2,   0.771,2,   0.393,2,-999.000,9,  -999.0,5,  2299.0,2,-999.0000,9,   1.8030,2,    2.37,2, -999.00,9,  -999.0,9,  -999.0,   7.707,2,   0.031,-999.000,9,   0.0090,   7.4036,-999.0000,    0.17
  316N145_8,        I03,     561,          1,          4,          4,2,19950601,       2125,   -20.0005,    48.9905,       1024,   805.9,   6.2653,  34.5298,2,  34.5283,2,    172.2,2,   171.7,2,   36.20,2,   28.82,2,    0.00,2,    2.03,2,   0.385,2,   0.193,2,-999.000,9,  -999.0,5,  2311.0,2,-999.0000,9,   1.8400,2,    4.29,2, -999.00,9,  -999.0,9,  -999.0,   7.879,2,   0.023,-999.000,9,   0.0030,   6.1915,-999.0000,    0.14
  316N145_8,        I03,     561,          1,          3,          3,2,19950601,       2125,   -20.0005,    48.9905,       1024,   906.6,   5.3237,  34.5803,2,  34.5813,2,    139.1,2,   139.4,2,   60.19,2,   32.76,2,    0.00,2,    2.34,2,   0.108,2,   0.051,2,-999.000,9,  -999.0,5,  2331.0,2,-999.0000,9,   1.8330,2,    7.27,2, -999.00,9,  -999.0,9,  -999.0,   7.801,2,   0.056,-999.000,9,   0.0100,   5.2465,-999.0000,    0.13
  316N145_8,        I03,     561,          1,          2,          2,2,19950601,       2125,   -20.0005,    48.9905,       1024,  1008.4,   4.8684,  34.5991,2,  34.6003,2,    133.9,2,   134.7,2,   68.53,2,   33.70,2,    0.00,2,    2.42,2,-999.000,9,-999.000,9,-999.000,9,  -999.0,5,  2341.0,2,-999.0000,9,-999.0000,9, -999.00,9, -999.00,9,  -999.0,9,  -999.0,-999.000,9,-999.000,-999.000,9,-999.0000,   4.7852,-999.0000,-999.000
  316N145_8,        I03,     561,          1,          1,          1,2,19950601,       2125,   -20.0005,    48.9905,       1024,  1066.7,   4.4447,  34.5985,2,  34.6007,2,    135.9,2,   136.5,2,   72.28,2,   34.01,2,    0.00,2,    2.46,2,   0.042,2,   0.014,2,-999.000,9,  -999.0,5,  2344.0,2,-999.0000,9,   1.8360,2,    9.00,2, -999.00,9,  -999.0,9,  -999.0,   7.797,2,   0.064,-999.000,9,   0.0080,   4.3596,-999.0000,    0.13