BOTTLE,20140514CCHSIOSE
EXPOCODE,SECT_ID,STNNBR,CASTNO,SAMPNO,BTLNBR,BTLNBR_FLAG_W,DATE,TIME,LATITUDE,LONGITUDE,DEPTH,CTDPRS,CTDTMP,CTDSAL,CTDSAL_FLAG_W,SALNTY,SALNTY_FLAG_W,CTDOXY,CTDOXY_FLAG_W,OXYGEN,OXYGEN_FLAG_W,SILCAT,SILCAT_FLAG_W,NITRAT,NITRAT_FLAG_W,NITRIT,NITRIT_FLAG_W,PHSPHT,PHSPHT_FLAG_W,CFC-11,CFC-11_FLAG_W,CFC-12,CFC-12_FLAG_W,CFC113,CFC113_FLAG_W,TCARBN,TCARBN_FLAG_W,ALKALI,ALKALI_FLAG_W,TRITUM,TRITUM_FLAG_W,HELIUM,HELIUM_FLAG_W,DELHE3,DELHE3_FLAG_W,DELC13,DELC13_FLAG_W,DELC14,DELC14_FLAG_W,C14ERR,NEON,NEON_FLAG_W,NEONER,CCL4,CCL4_FLAG_W,HELIER,THETA,TRITER,DELHER
,,,,,,,,,,,METERS,DBAR,ITS-90,PSS-78,,PSS-78,,UMOL/KG,,UMOL/KG,,UMOL/KG,,UMOL/KG,,UMOL/KG,,UMOL/KG,,PMOL/KG,,PMOL/KG,,PMOL/KG,,UMOL/KG,,UMOL/KG,,TU,,NMOL/KG,,PERCNT,,/MILLE,,/MILLE,,/MILLE,NMOL/KG,,NMOL/KG,PMOL/KG,,NMOL/KG,DEG C,TU,PERCNT
  316N145_8,        I03,     512,          1,         29,         29,2,19950518,       0948,   -19.9995,    71.7007,       3470,     5.6,  25.4070,  34.7115,2,  34.7123,2,    207.1,2,   207.2,2,    2.87,2,    0.05,2,    0.00,2,    0.11,2,   1.836,2,   1.054,2,-999.000,9,  1932.8,2,  2272.0,2,-999.0000,9,-999.0000,9, -999.00,9,    1.10,2,    59.1,2,     3.1,-999.000,9,-999.000,-999.000,9,-999.0000,  25.4058,-999.0000,-999.000
  316N145_8,        I03,     512,          1,         28,         28,2,19950518,       0948,   -19.9995,    71.7007,       3470,    46.5,  25.2380,  34.8414,2,  34.8699,2,    210.0,2,   207.8,2,    2.85,2,    0.05,2,    0.00,2,    0.11,2,   1.853,2,   1.058,2,-999.000,9,  1940.4,2,  2279.0,2,-999.0000,9,-999.0000,9, -999.00,9, -999.00,9,  -999.0,9,  -999.0,-999.000,9,-999.000,-999.000,9,-999.0000,  25.2279,-999.0000,-999.000
  316N145_8,        I03,     512,          1,         27,         27,2,19950518,       0948,   -19.9995,    71.7007,       3470,   107.3,  21.4191,  35.6068,2,  35.6017,2,    216.1,2,   220.4,2,    3.05,2,    0.04,2,    0.00,2,    0.13,2,   2.271,2,   1.260,2,-999.000,9,  1975.8,6,  2331.5,6,-999.0000,9,-999.0000,9, -999.00,9,    1.09,2,    85.3,2,     3.3,-999.000,9,-999.000,-999.000,9,-999.0000,  21.3982,-999.0000,-999.000
  316N145_8,        I03,     512,          1,         26,         26,2,19950518,       0948,   -19.9995,    71.7007,       3470,   155.3,  19.5229,  35.7328,2,  35.7179,2,    193.3,2,   196.0,2,    3.88,2,    2.19,2,    0.01,2,    0.29,2,   2.291,2,   1.253,2,-999.000,9,  2052.8,2,  2339.0,2,-999.0000,9,-999.0000,9, -999.00,9, -999.00,9,  -999.0,9,  -999.0,-999.000,9,-999.000,-999.000,9,-999.0000,  19.4946,-999.0000,-999.000
  316N145_8,        I03,     512,          1,         25,         25,2,19950518,       0948,   -19.9995,    71.7007,       3470,   206.6,  18.2989,  35.7811,2,  35.7789,2,    201.2,2,   200.0,2,    3.65,2,    2.34,2,    0.01,2,    0.31,2,   2.389,2,   1.286,2,-999.000,9,  2070.1,2,  2345.0,2,-999.0000,9,-999.0000,9, -999.00,9,    1.03,2,    85.4,2,     2.9,-999.000,9,-999.000,-999.000,9,-999.0000,  18.2628,-999.0000,-999.000
  316N145_8,        I03,     512,          1,         24,         24,2,19950518,       0948,   -19.9995,    71.7007,       3470,   256.6,  16.2686,  35.6362,2,  35.6488,2,    210.6,2,   215.6,2,    2.79,2,    2.43,2,    0.00,2,    0.35,2,   2.654,2,   1.399,2,-999.000,9,  2078.6,2,  2339.0,2,-999.0000,9,-999.0000,9, -999.00,9, -999.00,9,  -999.0,9,  -999.0,-999.000,9,-999.000,-999.000,9,-999.0000,  16.2273,-999.0000,-999.000
  316N145_8,        I03,     512,          1,         23,         23,2,19950518,       0948,   -19.9995,    71.7007,       3470,   308.0,  14.4577,  35.4449,2,  35.4492,2,    215.7,2,   219.6,2,    2.98,2,    5.06,2,    0.00,2,    0.50,2,   2.806,2,   1.462,2,-999.000,9,  2090.8,2,  2330.0,2,-999.0000,9,-999.0000,9, -999.00,9,    1.16,2,    73.0,2,     3.4,-999.000,9,-999.000,-999.000,9,-999.0000,  14.4119,-999.0000,-999.000
  316N145_8,        I03,     512,          1,         22,         22,2,19950518,       0948,   -19.9995,    71.7007,       3470,   358.1,  13.0758,  35.2516,2,  35.2532,2,    225.9,2,   227.3,2,    3.18,2,    7.59,2,    0.00,2,    0.64,2,   2.997,2,   1.544,2,-999.000,9,  2096.2,2,  2319.0,2,-999.0000,9,-999.0000,9, -999.00,9, -999.00,9,  -999.0,9,  -999.0,-999.000,9,-999.000,-999.000,9,-999.0000,  13.0259,-999.0000,-999.000
  316N145_8,        I03,     512,          1,         21,         21,2,19950518,       0948,   -19.9995,    71.7007,       3470,   408.1,  12.3497,  35.1528,2,  35.1511,2,    229.3,2,   229.5,2,    3.59,2,    9.00,2,    0.00,2,    0.72,2,   2.929,2,   1.495,2,-999.000,9,  2099.3,2,  2316.0,2,-999.0000,9,-999.0000,9, -999.00,9,    1.09,2,    73.1,2,     4.4,-999.000,9,-999.000,-999.000,9,-999.0000,  12.2949,-999.0000,-999.000
  316N145_8,        I03,     512,          1,         20,         20,2,19950518,       0948,   -19.9995,    71.7007,       3470,   508.1,  10.5779,  34.8811,2,  34.8844,2,    232.9,2,   232.3,2,    4.64,2,   12.85,2,    0.00,2,    0.95,2,   2.805,2,   1.410,2,-999.000,9,  2108.2,2,  2305.0,2,-999.0000,9,-999.0000,9, -999.00,9,    1.20,2,    59.2,2,     3.5,-999.000,9,-999.000,-999.000,9,-999.0000,  10.5160,-999.0000,-999.000
  316N145_8,        I03,     512,          1,         19,         19,2,19950518,       0948,   -19.9995,    71.7007,       3470,   601.7,   9.3103,  34.6993,2,  34.7042,2,    227.9,2,   224.5,2,    6.96,2,   16.98,2,    0.00,2,    1.20,2,   2.294,2,   1.140,2,-999.000,9,  2120.9,2,  2297.0,2,-999.0000,9,-999.0000,9, -999.00,9,    1.08,2,    44.0,2,     2.7,-999.000,9,-999.000,-999.000,9,-999.0000,   9.2423,-999.0000,-999.000
  316N145_8,        I03,     512,          1,         18,         18,2,19950518,       0948,   -19.9995,    71.7007,       3470,   708.1,   7.9244,  34.5681,2,  34.5704,2,    202.4,2,   202.8,2,   14.39,2,   22.54,2,    0.00,2,    1.55,2,   1.081,2,   0.552,2,-999.000,9,  2145.7,2,  2294.0,2,-999.0000,9,-999.0000,9, -999.00,9,    1.10,2,    -8.1,2,     3.1,-999.000,9,-999.000,-999.000,9,-999.0000,   7.8513,-999.0000,-999.000
  316N145_8,        I03,     512,          1,         17,         17,2,19950518,       0948,   -19.9995,    71.7007,       3470,   807.5,   5.9581,  34.4637,2,  34.4641,2,    181.9,2,   179.9,2,   32.87,2,   29.07,2,    0.00,2,    2.01,2,   0.327,2,   0.176,2,-999.000,9,  2187.5,2,  2309.0,2,-999.0000,9,-999.0000,9, -999.00,9,    0.82,2,   -83.8,2,     2.8,-999.000,9,-999.000,-999.000,9,-999.0000,   5.8861,-999.0000,-999.000
  316N145_8,        I03,     512,          1,         16,         16,2,19950518,       0948,   -19.9995,    71.7007,       3470,   907.4,   4.8408,  34.4824,2,  34.4849,2,    156.7,2,   155.1,2,   54.76,2,   32.90,2,    0.00,2,    2.31,2,   0.085,2,   0.047,2,-999.000,9,  2224.2,2,  2327.0,2,-999.0000,9,-999.0000,9, -999.00,9,    0.62,2,  -139.0,2,     2.6,-999.000,9,-999.000,-999.000,9,-999.0000,   4.7670,-999.0000,-999.000
  316N145_8,        I03,     512,          1,         15,         15,2,19950518,       0948,   -19.9995,    71.7007,       3470,  1008.7,   4.4106,  34.5497,2,  34.5510,2,    136.2,2,   135.1,2,   72.21,2,   34.62,2,    0.00,2,    2.47,2,   0.015,2,   0.007,2,-999.000,9,  2252.5,2,  2344.0,2,-999.0000,9,-999.0000,9, -999.00,9,    0.42,2,  -158.1,2,     3.6,-999.000,9,-999.000,-999.000,9,-999.0000,   4.3309,-999.0000,-999.000
  316N145_8,        I03,     512,          1,         14,         14,2,19950518,       0948,   -19.9995,    71.7007,       3470,  1158.5,   4.5413,  34.6811,2,  34.6830,2,    109.3,2,   108.9,2,   90.81,2,   35.64,2,    0.00,2,    2.58,2,   0.006,2,   0.002,2,-999.000,9,  2282.3,2,  2368.0,2,-999.0000,9,-999.0000,9, -999.00,9,    0.20,2,  -167.9,2,     2.1,-999.000,9,-999.000,-999.000,9,-999.0000,   4.4472,-999.0000,-999.000
  316N145_8,        I03,     512,          1,         13,         13,2,19950518,       0948,   -19.9995,    71.7007,       3470,  1310.7,   4.0985,  34.6922,2,  34.6936,2,    117.0,2,   117.0,2,   94.65,2,   35.35,2,    0.00,2,    2.56,2,   0.003,2,   0.002,2,-999.000,9,  2284.3,2,  2370.0,2,-999.0000,9,-999.0000,9, -999.00,9,    0.14,2,  -176.9,2,     8.2,-999.000,9,-999.000,-999.000,9,-999.0000,   3.9949,-999.0000,-999.000
  316N145_8,        I03,     512,          1,         12,         12,2,19950518,       0948,   -19.9995,    71.7007,       3470,  1514.0,   3.6339,  34.7161,2,  34.7167,2,    121.4,2,   122.0,2,  101.74,2,   35.30,2,    0.00,2,    2.55,2,   0.004,2,   0.002,2,-999.000,9,  2291.1,2,  2381.0,2,-999.0000,9,-999.0000,9, -999.00,9,    0.17,2,  -163.5,3,     4.1,-999.000,9,-999.000,-999.000,9,-999.0000,   3.5172,-999.0000,-999.000
  316N145_8,        I03,     512,          1,         11,         11,2,19950518,       0948,   -19.9995,    71.7007,       3470,  1714.3,   3.0653,  34.7152,2,  34.7157,2,    137.1,2,   137.6,2,  104.51,2,   34.63,2,    0.00,2,    2.48,2,   0.001,2,   0.000,2,-999.000,9,  2287.3,2,  2381.0,2,-999.0000,9,-999.0000,9, -999.00,9,    0.13,2,  -181.7,2,     4.3,-999.000,9,-999.000,-999.000,9,-999.0000,   2.9381,-999.0000,-999.000
  316N145_8,        I03,     512,          1,         10,         10,2,19950518,       0948,   -19.9995,    71.7007,       3470,  1918.8,   2.5778,  34.7114,2,  34.7118,2,    153.2,2,   155.7,2,  104.25,2,   33.66,2,    0.00,2,    2.39,2,  -0.002,2,   0.001,2,-999.000,9,  2276.2,2,  2379.0,2,-999.0000,9,-999.0000,9, -999.00,9,    0.32,2,  -162.9,3,     3.9,-999.000,9,-999.000,-999.000,9,-999.0000,   2.4394,-999.0000,-999.000
  316N145_8,        I03,     512,          1,          9,          9,2,19950518,       0948,   -19.9995,    71.7007,       3470,  2118.8,   2.1657,  34.7187,2,  34.7188,2,    167.2,2,   169.6,2,  106.60,2,   32.90,2,    0.00,2,    2.32,2,  -0.001,2,   0.000,2,-999.000,9,  2274.4,2,  2380.0,2,-999.0000,9,-999.0000,9, -999.00,9, -999.00,9,  -999.0,9,  -999.0,-999.000,9,-999.000,-999.000,9,-999.0000,   2.0162,-999.0000,-999.000
  316N145_8,        I03,     512,          1,          8,          8,2,19950518,       0948,   -19.9995,    71.7007,       3470,  2323.5,   1.9531,  34.7210,2,  34.7216,2,    175.7,2,   176.1,2,  108.95,2,   32.47,2,    0.00,2,    2.29,2,  -0.002,2,   0.002,2,-999.000,9,  2271.9,2,  2382.0,2,-999.0000,9,-999.0000,9, -999.00,9, -999.00,9,  -999.0,9,  -999.0,-999.000,9,-999.000,-999.000,9,-999.0000,   1.7892,-999.0000,-999.000
  316N145_8,        I03,     512,          1,          7,          7,2,19950518,       0948,   -19.9995,    71.7007,       3470,  2528.1,   1.7729,  34.7256,2,  34.7263,2,    178.7,2,   179.2,2,  112.83,2,   32.47,2,    0.00,2,    2.27,2,   0.000,2,   0.002,2,-999.000,9,  2275.7,2,  2383.0,2,-999.0000,9,-999.0000,9, -999.00,9, -999.00,9,  -999.0,9,  -999.0,-999.000,9,-999.000,-999.000,9,-999.0000,   1.5940,-999.0000,-999.000
  316N145_8,        I03,     512,          1,          6,          6,2,19950518,       0948,   -19.9995,    71.7007,       3470,  2731.7,   1.6680,  34.7263,2,  34.7267,2,    181.5,2,   182.4,2,  114.75,2,   32.42,2,    0.00,2,    2.26,2,   0.000,2,  -0.001,2,-999.000,9,  2276.8,2,  2388.0,2,-999.0000,9,-999.0000,9, -999.00,9, -999.00,9,  -999.0,9,  -999.0,-999.000,9,-999.000,-999.000,9,-999.0000,   1.4726,-999.0000,-999.000
  316N145_8,        I03,     512,          1,          5,          5,2,19950518,       0948,   -19.9995,    71.7007,       3470,  2933.7,   1.5656,  34.7265,2,  34.7267,2,    186.9,2,   186.9,2,  115.14,2,   32.19,2,    0.00,2,    2.24,2,  -0.002,2,   0.000,2,-999.000,9,  2274.1,2,  2385.0,2,-999.0000,9,-999.0000,9, -999.00,9, -999.00,9,  -999.0,9,  -999.0,-999.000,9,-999.000,-999.000,9,-999.0000,   1.3534,-999.0000,-999.000
  316N145_8,        I03,     512,          1,          4,          4,2,19950518,       0948,   -19.9995,    71.7007,       3470,  3137.9,   1.4794,  34.7249,2,  34.7255,2,    187.1,2,   187.4,2,  119.05,2,   32.33,2,    0.00,2,    2.26,2,-999.000,9,-999.000,9,-999.000,9,  2278.5,2,  2391.0,2,-999.0000,9,-999.0000,9, -999.00,9, -999.00,9,  -999.0,9,  -999.0,-999.000,9,-999.000,-999.000,9,-999.0000,   1.2496,-999.0000,-999.000
  316N145_8,        I03,     512,          1,          3,          3,2,19950518,       0948,   -19.9995,    71.7007,       3470,  3341.2,   1.4314,  34.7233,2,  34.7235,2,    186.9,2,   186.6,2,  122.97,2,   32.57,2,    0.00,2,    2.27,2,   0.002,2,   0.003,2,-999.000,9,  2282.6,2,  2395.0,2,-999.0000,9,-999.0000,9, -999.00,9, -999.00,9,  -999.0,9,  -999.0,-999.000,9,-999.000,-999.000,9,-999.0000,   1.1828,-999.0000,-999.000
  316N145_8,        I03,     512,          1,          2,          2,2,19950518,       0948,   -19.9995,    71.7007,       3470,  3492.7,   1.4069,  34.7218,2,  34.7217,2,    185.3,2,   186.0,2,  125.58,2,   32.76,2,    0.00,2,    2.28,2,-999.000,9,-999.000,9,-999.000,9,  2286.4,2,  2402.0,2,-999.0000,9,-999.0000,9, -999.00,9, -999.00,9,  -999.0,9,  -999.0,-999.000,9,-999.000,-999.000,9,-999.0000,   1.1437,-999.0000,-999.000
  316N145_8,        I03,     512,          1,          1,          1,2,19950518,       0948,   -19.9995,    71.7007,       3470,  3682.9,   1.3938,  34.7208,2,  34.7206,2,    184.3,2,   183.9,2,  128.20,2,   32.96,2,    0.00,2,    2.30,2,  -0.002,2,   0.001,2,-999.000,9,  2289.7,2,  2403.0,2,-999.0000,9,-999.0000,9, -999.00,9, -999.00,9,  -999.0,9,  -999.0,-999.000,9,-999.000,-999.000,9,-999.0000,   1.1114,-999.0000,-999.000