BOTTLE,20140514CCHSIOSE
EXPOCODE,SECT_ID,STNNBR,CASTNO,SAMPNO,BTLNBR,BTLNBR_FLAG_W,DATE,TIME,LATITUDE,LONGITUDE,DEPTH,CTDPRS,CTDTMP,CTDSAL,CTDSAL_FLAG_W,SALNTY,SALNTY_FLAG_W,CTDOXY,CTDOXY_FLAG_W,OXYGEN,OXYGEN_FLAG_W,SILCAT,SILCAT_FLAG_W,NITRAT,NITRAT_FLAG_W,NITRIT,NITRIT_FLAG_W,PHSPHT,PHSPHT_FLAG_W,CFC-11,CFC-11_FLAG_W,CFC-12,CFC-12_FLAG_W,CFC113,CFC113_FLAG_W,TCARBN,TCARBN_FLAG_W,ALKALI,ALKALI_FLAG_W,TRITUM,TRITUM_FLAG_W,HELIUM,HELIUM_FLAG_W,DELHE3,DELHE3_FLAG_W,DELC13,DELC13_FLAG_W,DELC14,DELC14_FLAG_W,C14ERR,NEON,NEON_FLAG_W,NEONER,CCL4,CCL4_FLAG_W,HELIER,THETA,TRITER,DELHER
,,,,,,,,,,,METERS,DBAR,ITS-90,PSS-78,,PSS-78,,UMOL/KG,,UMOL/KG,,UMOL/KG,,UMOL/KG,,UMOL/KG,,UMOL/KG,,PMOL/KG,,PMOL/KG,,PMOL/KG,,UMOL/KG,,UMOL/KG,,TU,,NMOL/KG,,PERCNT,,/MILLE,,/MILLE,,/MILLE,NMOL/KG,,NMOL/KG,PMOL/KG,,NMOL/KG,DEG C,TU,PERCNT
  316N145_8,        I03,     506,          1,         36,         36,2,19950516,       2321,   -20.0005,    74.7340,       4807,     7.1,  24.6599,  35.0865,2,  35.0861,2,    208.2,2,   209.1,2,    3.00,2,    0.05,2,    0.00,2,    0.10,2,   1.910,2,   1.091,2,-999.000,9,  1957.0,2,  2296.0,2,-999.0000,9,-999.0000,9, -999.00,9, -999.00,9,  -999.0,9,  -999.0,-999.000,9,-999.000,-999.000,9,-999.0000,  24.6584,-999.0000,-999.000
  316N145_8,        I03,     506,          1,         35,         35,2,19950516,       2321,   -20.0005,    74.7340,       4807,    58.3,  23.5075,  35.4126,2,  35.3839,2,    221.0,2,   220.4,2,    2.99,2,    0.05,2,    0.00,2,    0.11,2,   2.076,2,   1.161,2,-999.000,9,  1982.1,6,  2315.0,6,-999.0000,9,-999.0000,9, -999.00,9, -999.00,9,  -999.0,9,  -999.0,-999.000,9,-999.000,-999.000,9,-999.0000,  23.4954,-999.0000,-999.000
  316N145_8,        I03,     506,          1,         34,         34,2,19950516,       2321,   -20.0005,    74.7340,       4807,   107.5,  20.4149,  35.6989,2,  35.7130,2,    226.8,2,   216.8,2,    3.19,2,    0.05,2,    0.00,2,    0.15,2,   2.321,2,   1.274,2,-999.000,9,  2031.5,2,  2342.0,2,-999.0000,9,-999.0000,9, -999.00,9, -999.00,9,  -999.0,9,  -999.0,-999.000,9,-999.000,-999.000,9,-999.0000,  20.3947,-999.0000,-999.000
  316N145_8,        I03,     506,          1,         33,         33,2,19950516,       2321,   -20.0005,    74.7340,       4807,   156.8,  18.9382,  35.7820,2,  35.7830,2,    201.7,2,   203.3,2,    3.40,2,    1.48,2,    0.03,2,    0.26,2,   2.386,2,   1.297,2,-999.000,9,  2059.9,2,  2347.0,2,-999.0000,9,-999.0000,9, -999.00,9, -999.00,9,  -999.0,9,  -999.0,-999.000,9,-999.000,-999.000,9,-999.0000,  18.9102,-999.0000,-999.000
  316N145_8,        I03,     506,          1,         32,         32,2,19950516,       2321,   -20.0005,    74.7340,       4807,   207.0,  17.3954,  35.7650,2,  35.7590,2,    210.2,2,   210.0,2,    3.16,2,    1.94,2,    0.01,2,    0.31,2,   2.550,2,   1.362,2,-999.000,9,  2075.3,2,  2347.0,2,-999.0000,9,-999.0000,9, -999.00,9, -999.00,9,  -999.0,9,  -999.0,-999.000,9,-999.000,-999.000,9,-999.0000,  17.3605,-999.0000,-999.000
  316N145_8,        I03,     506,          1,         31,         31,2,19950516,       2321,   -20.0005,    74.7340,       4807,   259.3,  15.6466,  35.5985,2,  35.5883,2,    215.9,2,   213.4,2,    3.15,2,    3.75,2,    0.01,2,    0.43,2,   2.676,2,   1.409,2,-999.000,9,  2088.7,2,  2339.0,2,-999.0000,9,-999.0000,9, -999.00,9, -999.00,9,  -999.0,9,  -999.0,-999.000,9,-999.000,-999.000,9,-999.0000,  15.6059,-999.0000,-999.000
  316N145_8,        I03,     506,          1,         30,         30,2,19950516,       2321,   -20.0005,    74.7340,       4807,   309.3,  14.2658,  35.4241,2,  35.4191,2,    215.7,2,   215.3,2,    3.80,2,    6.09,2,    0.01,2,    0.56,2,   2.744,2,   1.408,2,-999.000,9,  2096.5,2,  2330.0,2,-999.0000,9,-999.0000,9, -999.00,9, -999.00,9,  -999.0,9,  -999.0,-999.000,9,-999.000,-999.000,9,-999.0000,  14.2202,-999.0000,-999.000
  316N145_8,        I03,     506,          1,         29,         29,2,19950516,       2321,   -20.0005,    74.7340,       4807,   358.3,  12.5445,  35.1857,2,  35.1873,2,    223.1,2,   224.1,2,    4.23,2,    8.77,2,    0.01,2,    0.71,2,   2.855,2,   1.449,2,-999.000,9,  2101.7,2,  2318.0,2,-999.0000,9,-999.0000,9, -999.00,9, -999.00,9,  -999.0,9,  -999.0,-999.000,9,-999.000,-999.000,9,-999.0000,  12.4960,-999.0000,-999.000
  316N145_8,        I03,     506,          1,         28,         28,2,19950516,       2321,   -20.0005,    74.7340,       4807,   408.5,  11.6019,  35.0387,2,  35.0395,2,    230.4,2,   230.9,2,    4.21,2,   10.57,2,    0.01,2,    0.82,2,   2.892,2,   1.477,2,-999.000,9,  2103.9,2,  2312.0,2,-999.0000,9,-999.0000,9, -999.00,9, -999.00,9,  -999.0,9,  -999.0,-999.000,9,-999.000,-999.000,9,-999.0000,  11.5493,-999.0000,-999.000
  316N145_8,        I03,     506,          1,         27,         27,2,19950516,       2321,   -20.0005,    74.7340,       4807,   458.1,  10.8210,  34.9159,2,  34.9159,2,    231.9,2,   232.7,2,    4.86,2,   12.38,2,    0.00,2,    0.93,2,   2.828,2,   1.417,2,-999.000,9,  2107.8,2,  2305.0,2,-999.0000,9,-999.0000,9, -999.00,9, -999.00,9,  -999.0,9,  -999.0,-999.000,9,-999.000,-999.000,9,-999.0000,  10.7645,-999.0000,-999.000
  316N145_8,        I03,     506,          1,         26,         26,2,19950516,       2321,   -20.0005,    74.7340,       4807,   507.9,  10.1478,  34.8163,2,  34.8171,2,    229.5,2,   232.5,2,    5.29,2,   14.13,2,    0.00,2,    1.03,2,   2.715,2,   1.351,2,-999.000,9,  2112.0,2,  2301.0,2,-999.0000,9,-999.0000,9, -999.00,9, -999.00,9,  -999.0,9,  -999.0,-999.000,9,-999.000,-999.000,9,-999.0000,  10.0875,-999.0000,-999.000
  316N145_8,        I03,     506,          1,         25,         25,2,19950516,       2321,   -20.0005,    74.7340,       4807,   609.4,   8.8380,  34.6428,2,  34.6397,2,    224.8,2,   220.1,2,    8.59,2,   18.96,2,    0.01,2,    1.32,2,   1.964,2,   0.960,2,-999.000,9,  2128.9,2,  2296.0,2,-999.0000,9,-999.0000,9, -999.00,9, -999.00,9,  -999.0,9,  -999.0,-999.000,9,-999.000,-999.000,9,-999.0000,   8.7713,-999.0000,-999.000
  316N145_8,        I03,     506,          1,         24,         24,2,19950516,       2321,   -20.0005,    74.7340,       4807,   709.8,   7.3081,  34.5254,2,  34.5226,2,    194.3,2,   196.3,2,   18.96,2,   24.73,2,    0.00,2,    1.71,2,   0.830,2,   0.420,2,-999.000,9,  2159.1,2,  2298.0,2,-999.0000,9,-999.0000,9, -999.00,9, -999.00,9,  -999.0,9,  -999.0,-999.000,9,-999.000,-999.000,9,-999.0000,   7.2381,-999.0000,-999.000
  316N145_8,        I03,     506,          1,         23,         23,2,19950516,       2321,   -20.0005,    74.7340,       4807,   812.7,   5.7403,  34.5017,2,  34.5009,2,    160.3,2,   155.9,2,   45.67,2,   31.22,2,    0.01,2,    2.19,2,   0.179,2,   0.093,2,-999.000,9,  2213.0,2,  2319.0,2,-999.0000,9,-999.0000,9, -999.00,9, -999.00,9,  -999.0,9,  -999.0,-999.000,9,-999.000,-999.000,9,-999.0000,   5.6691,-999.0000,-999.000
  316N145_8,        I03,     506,          1,         22,         22,2,19950516,       2321,   -20.0005,    74.7340,       4807,   911.5,   4.7822,  34.5281,2,  34.5228,2,    146.9,2,   140.3,2,   64.20,2,   33.94,2,    0.00,2,    2.40,2,   0.040,2,   0.024,2,-999.000,9,  2243.7,2,  2338.0,2,-999.0000,9,-999.0000,9, -999.00,9, -999.00,9,  -999.0,9,  -999.0,-999.000,9,-999.000,-999.000,9,-999.0000,   4.7084,-999.0000,-999.000
  316N145_8,        I03,     506,          1,         21,         21,2,19950516,       2321,   -20.0005,    74.7340,       4807,  1012.9,   4.5660,  34.5828,2,  34.5822,2,    122.1,2,   123.2,2,   77.67,2,   35.17,2,    0.01,2,    2.53,2,   0.005,2,   0.006,4,-999.000,9,  2265.2,2,  2350.0,2,-999.0000,9,-999.0000,9, -999.00,9, -999.00,9,  -999.0,9,  -999.0,-999.000,9,-999.000,-999.000,9,-999.0000,   4.4848,-999.0000,-999.000
  316N145_8,        I03,     506,          1,         20,         20,2,19950516,       2321,   -20.0005,    74.7340,       4807,  1112.0,   4.2981,  34.6189,2,  34.6185,2,    120.1,2,   119.9,2,   85.17,2,   35.52,2,    0.00,2,    2.56,2,   0.002,2,   0.001,2,-999.000,9,  2275.2,2,  2361.0,2,-999.0000,9,-999.0000,9, -999.00,9, -999.00,9,  -999.0,9,  -999.0,-999.000,9,-999.000,-999.000,9,-999.0000,   4.2103,-999.0000,-999.000
  316N145_8,        I03,     506,          1,         19,         19,2,19950516,       2321,   -20.0005,    74.7340,       4807,  1212.0,   4.0304,  34.6681,2,  34.6686,2,    118.3,2,   119.5,2,   92.68,2,   35.51,2,    0.00,2,    2.57,2,   0.003,2,   0.001,2,-999.000,9,  2283.0,2,  2367.0,2,-999.0000,9,-999.0000,9, -999.00,9, -999.00,9,  -999.0,9,  -999.0,-999.000,9,-999.000,-999.000,9,-999.0000,   3.9362,-999.0000,-999.000
  316N145_8,        I03,     506,          1,         18,         18,2,19950516,       2321,   -20.0005,    74.7340,       4807,  1414.0,   3.5533,  34.7058,2,  34.7054,2,    124.6,2,   124.4,2,  101.12,2,   35.30,2,    0.00,2,    2.55,2,   0.006,3,   0.006,3,-999.000,9,  2290.4,2,  2376.0,2,-999.0000,9,-999.0000,9, -999.00,9, -999.00,9,  -999.0,9,  -999.0,-999.000,9,-999.000,-999.000,9,-999.0000,   3.4463,-999.0000,-999.000
  316N145_8,        I03,     506,          1,         17,         17,2,19950516,       2321,   -20.0005,    74.7340,       4807,  1616.0,   3.2082,  34.7170,2,  34.7162,2,    131.9,2,   131.8,2,  105.32,2,   35.09,2,    0.00,2,    2.53,2,-999.000,9,-999.000,9,-999.000,9,  2291.6,2,  2382.0,2,-999.0000,9,-999.0000,9, -999.00,9, -999.00,9,  -999.0,9,  -999.0,-999.000,9,-999.000,-999.000,9,-999.0000,   3.0876,-999.0000,-999.000
  316N145_8,        I03,     506,          1,         16,         16,2,19950516,       2321,   -20.0005,    74.7340,       4807,  1817.3,   2.8050,  34.7249,2,  34.7233,2,    142.3,2,   142.0,2,  109.07,2,   34.59,2,    0.00,2,    2.48,2,   0.001,2,   0.000,2,-999.000,9,  2291.9,2,  2384.0,2,-999.0000,9,-999.0000,9, -999.00,9, -999.00,9,  -999.0,9,  -999.0,-999.000,9,-999.000,-999.000,9,-999.0000,   2.6722,-999.0000,-999.000
  316N145_8,        I03,     506,          1,         15,         15,2,19950516,       2321,   -20.0005,    74.7340,       4807,  2019.8,   2.5147,  34.7261,2,  34.7251,2,    150.7,2,   151.2,2,  111.04,2,   34.23,2,    0.00,2,    2.43,2,-999.000,9,-999.000,9,-999.000,9,  2289.6,2,  2385.0,2,-999.0000,9,-999.0000,9, -999.00,9, -999.00,9,  -999.0,9,  -999.0,-999.000,9,-999.000,-999.000,9,-999.0000,   2.3684,-999.0000,-999.000
  316N145_8,        I03,     506,          1,         14,         14,2,19950516,       2321,   -20.0005,    74.7340,       4807,  2223.7,   2.1938,  34.7236,2,  34.7227,2,    165.6,2,   164.9,2,  110.07,2,   33.38,2,    0.01,2,    2.35,2,   0.001,2,   0.000,2,-999.000,9,  2281.3,2,  2384.0,2,-999.0000,9,-999.0000,9, -999.00,9, -999.00,9,  -999.0,9,  -999.0,-999.000,9,-999.000,-999.000,9,-999.0000,   2.0346,-999.0000,-999.000
  316N145_8,        I03,     506,          1,         13,         13,2,19950516,       2321,   -20.0005,    74.7340,       4807,  2425.1,   1.9561,  34.7240,2,  34.7239,2,    174.5,2,   175.5,2,  109.55,2,   32.73,2,    0.01,2,    2.30,2,-999.000,9,-999.000,9,-999.000,9,  2275.0,2,  2380.0,2,-999.0000,9,-999.0000,9, -999.00,9, -999.00,9,  -999.0,9,  -999.0,-999.000,9,-999.000,-999.000,9,-999.0000,   1.7831,-999.0000,-999.000
  316N145_8,        I03,     506,          1,         12,         12,2,19950516,       2321,   -20.0005,    74.7340,       4807,  2629.7,   1.7709,  34.7265,2,  34.7264,2,    182.5,2,   181.6,2,  111.51,2,   32.43,2,    0.00,2,    2.28,2,   0.002,2,   0.003,2,-999.000,9,  2273.9,2,  2380.0,2,-999.0000,9,-999.0000,9, -999.00,9, -999.00,9,  -999.0,9,  -999.0,-999.000,9,-999.000,-999.000,9,-999.0000,   1.5828,-999.0000,-999.000
  316N145_8,        I03,     506,          1,         11,         11,2,19950516,       2321,   -20.0005,    74.7340,       4807,  2830.6,   1.6714,  34.7277,2,  34.7270,2,    183.5,2,   182.9,2,  114.60,2,   32.47,2,    0.00,2,    2.27,2,-999.000,9,-999.000,9,-999.000,9,  2276.3,2,  2386.0,2,-999.0000,9,-999.0000,9, -999.00,9, -999.00,9,  -999.0,9,  -999.0,-999.000,9,-999.000,-999.000,9,-999.0000,   1.4667,-999.0000,-999.000
  316N145_8,        I03,     506,          1,         10,         10,2,19950516,       2321,   -20.0005,    74.7340,       4807,  3036.3,   1.5869,  34.7276,2,  34.7268,2,    185.7,2,   184.8,2,  116.79,2,   32.36,2,    0.00,2,    2.27,2,  -0.001,2,   0.000,2,-999.000,9,  2278.9,2,  2387.0,2,-999.0000,9,-999.0000,9, -999.00,9, -999.00,9,  -999.0,9,  -999.0,-999.000,9,-999.000,-999.000,9,-999.0000,   1.3645,-999.0000,-999.000
  316N145_8,        I03,     506,          1,          9,          9,2,19950516,       2321,   -20.0005,    74.7340,       4807,  3238.3,   1.5090,  34.7261,2,  34.7259,2,    185.4,2,   186.5,2,  119.21,2,   32.50,2,    0.01,2,    2.26,2,-999.000,9,-999.000,9,-999.000,9,  2283.8,6,  2391.0,6,-999.0000,9,-999.0000,9, -999.00,9, -999.00,9,  -999.0,9,  -999.0,-999.000,9,-999.000,-999.000,9,-999.0000,   1.2687,-999.0000,-999.000
  316N145_8,        I03,     506,          1,          8,          8,2,19950516,       2321,   -20.0005,    74.7340,       4807,  3443.3,   1.4318,  34.7238,2,  34.7233,2,    184.5,2,   185.0,2,  123.92,2,   32.79,2,    0.01,2,    2.29,2,  -0.003,2,   0.002,2,-999.000,9,  2289.3,2,  2398.0,2,-999.0000,9,-999.0000,9, -999.00,9, -999.00,9,  -999.0,9,  -999.0,-999.000,9,-999.000,-999.000,9,-999.0000,   1.1729,-999.0000,-999.000
  316N145_8,        I03,     506,          1,          7,          7,2,19950516,       2321,   -20.0005,    74.7340,       4807,  3647.1,   1.3824,  34.7212,2,  34.7210,2,    183.8,2,   184.4,2,  127.95,2,   33.08,2,    0.01,2,    2.29,2,-999.000,9,-999.000,9,-999.000,9,  2291.9,2,  2402.0,2,-999.0000,9,-999.0000,9, -999.00,9, -999.00,9,  -999.0,9,  -999.0,-999.000,9,-999.000,-999.000,9,-999.0000,   1.1039,-999.0000,-999.000
  316N145_8,        I03,     506,          1,          6,          6,2,19950516,       2321,   -20.0005,    74.7340,       4807,  3850.3,   1.3802,  34.7202,2,  34.7198,2,    183.5,2,   183.9,2,  129.71,2,   33.17,2,    0.00,2,    2.32,2,  -0.001,2,   0.002,2,-999.000,9,  2293.5,2,  2406.0,2,-999.0000,9,-999.0000,9, -999.00,9, -999.00,9,  -999.0,9,  -999.0,-999.000,9,-999.000,-999.000,9,-999.0000,   1.0805,-999.0000,-999.000
  316N145_8,        I03,     506,          1,          5,          5,2,19950516,       2321,   -20.0005,    74.7340,       4807,  4056.8,   1.3857,  34.7195,2,  34.7180,2,    182.3,2,   183.4,2,  130.78,2,   33.32,2,    0.00,2,    2.34,2,-999.000,9,-999.000,9,-999.000,9,  2293.5,2,  2406.0,2,-999.0000,9,-999.0000,9, -999.00,9, -999.00,9,  -999.0,9,  -999.0,-999.000,9,-999.000,-999.000,9,-999.0000,   1.0636,-999.0000,-999.000
  316N145_8,        I03,     506,          1,          4,          4,2,19950516,       2321,   -20.0005,    74.7340,       4807,  4261.0,   1.4036,  34.7198,2,  34.7190,2,    183.0,2,   182.8,2,  131.39,2,   33.36,2,    0.00,2,    2.33,2,   0.000,2,  -0.004,2,-999.000,9,  2292.2,2,  2408.0,2,-999.0000,9,-999.0000,9, -999.00,9, -999.00,9,  -999.0,9,  -999.0,-999.000,9,-999.000,-999.000,9,-999.0000,   1.0585,-999.0000,-999.000
  316N145_8,        I03,     506,          1,          3,          3,2,19950516,       2321,   -20.0005,    74.7340,       4807,  4463.3,   1.4258,  34.7194,2,  34.7184,2,    183.2,2,   182.7,2,  131.32,2,   33.30,2,    0.00,2,    2.33,2,-999.000,9,-999.000,9,-999.000,9,  2294.1,2,  2406.0,2,-999.0000,9,-999.0000,9, -999.00,9, -999.00,9,  -999.0,9,  -999.0,-999.000,9,-999.000,-999.000,9,-999.0000,   1.0571,-999.0000,-999.000
  316N145_8,        I03,     506,          1,          2,          2,2,19950516,       2321,   -20.0005,    74.7340,       4807,  4669.6,   1.4488,  34.7201,2,  34.7188,2,    183.1,2,   182.9,2,  131.24,2,   33.30,2,    0.00,2,    2.33,2,   0.000,2,   0.003,2,-999.000,9,  2294.1,2,  2405.0,2,-999.0000,9,-999.0000,9, -999.00,9, -999.00,9,  -999.0,9,  -999.0,-999.000,9,-999.000,-999.000,9,-999.0000,   1.0555,-999.0000,-999.000
  316N145_8,        I03,     506,          1,          1,          1,2,19950516,       2321,   -20.0005,    74.7340,       4807,  4897.6,   1.4762,  34.7195,2,  34.7184,2,    182.7,2,   182.4,2,  131.16,2,   33.34,2,    0.00,2,    2.33,2,   0.000,2,   0.001,2,-999.000,9,  2294.5,2,  2408.0,2,-999.0000,9,-999.0000,9, -999.00,9, -999.00,9,  -999.0,9,  -999.0,-999.000,9,-999.000,-999.000,9,-999.0000,   1.0549,-999.0000,-999.000