BOTTLE,20140514CCHSIOSE
EXPOCODE,SECT_ID,STNNBR,CASTNO,SAMPNO,BTLNBR,BTLNBR_FLAG_W,DATE,TIME,LATITUDE,LONGITUDE,DEPTH,CTDPRS,CTDTMP,CTDSAL,CTDSAL_FLAG_W,SALNTY,SALNTY_FLAG_W,CTDOXY,CTDOXY_FLAG_W,OXYGEN,OXYGEN_FLAG_W,SILCAT,SILCAT_FLAG_W,NITRAT,NITRAT_FLAG_W,NITRIT,NITRIT_FLAG_W,PHSPHT,PHSPHT_FLAG_W,CFC-11,CFC-11_FLAG_W,CFC-12,CFC-12_FLAG_W,CFC113,CFC113_FLAG_W,TCARBN,TCARBN_FLAG_W,ALKALI,ALKALI_FLAG_W,TRITUM,TRITUM_FLAG_W,HELIUM,HELIUM_FLAG_W,DELHE3,DELHE3_FLAG_W,DELC13,DELC13_FLAG_W,DELC14,DELC14_FLAG_W,C14ERR,NEON,NEON_FLAG_W,NEONER,CCL4,CCL4_FLAG_W,HELIER,THETA,TRITER,DELHER
,,,,,,,,,,,METERS,DBAR,ITS-90,PSS-78,,PSS-78,,UMOL/KG,,UMOL/KG,,UMOL/KG,,UMOL/KG,,UMOL/KG,,UMOL/KG,,PMOL/KG,,PMOL/KG,,PMOL/KG,,UMOL/KG,,UMOL/KG,,TU,,NMOL/KG,,PERCNT,,/MILLE,,/MILLE,,/MILLE,NMOL/KG,,NMOL/KG,PMOL/KG,,NMOL/KG,DEG C,TU,PERCNT
  316N145_8,        I03,     510,          1,         34,         34,2,19950517,       2250,   -19.9992,    72.7182,       4140,     6.7,  24.9724,  34.8829,2,  34.8817,2,    208.5,2,   211.8,2,    2.69,2,    0.05,2,    0.00,2,    0.11,2,   1.891,2,   1.084,2,-999.000,9,  1942.5,2,  2283.0,2,-999.0000,9,-999.0000,9, -999.00,9, -999.00,9,  -999.0,9,  -999.0,-999.000,9,-999.000,-999.000,9,-999.0000,  24.9710,-999.0000,-999.000
  316N145_8,        I03,     510,          1,         33,         33,2,19950517,       2250,   -19.9992,    72.7182,       4140,    54.2,  24.9913,  34.8962,2,  34.8837,2,    214.4,2,   209.1,2,    2.68,2,    0.05,2,    0.00,2,    0.11,2,   1.874,2,   1.072,2,-999.000,9,  1942.3,6,  2285.0,6,-999.0000,9,-999.0000,9, -999.00,9, -999.00,9,  -999.0,9,  -999.0,-999.000,9,-999.000,-999.000,9,-999.0000,  24.9796,-999.0000,-999.000
  316N145_8,        I03,     510,          1,         32,         32,2,19950517,       2250,   -19.9992,    72.7182,       4140,   106.6,  21.6682,  35.5894,2,  35.5857,2,    227.1,2,   223.0,2,    2.88,2,    0.05,2,    0.00,2,    0.12,2,   2.226,2,   1.239,2,-999.000,9,  2005.9,2,  2329.0,2,-999.0000,9,-999.0000,9, -999.00,9, -999.00,9,  -999.0,9,  -999.0,-999.000,9,-999.000,-999.000,9,-999.0000,  21.6473,-999.0000,-999.000
  316N145_8,        I03,     510,          1,         31,         31,2,19950517,       2250,   -19.9992,    72.7182,       4140,   156.1,  20.2470,  35.6967,2,  35.7000,2,    202.7,2,   205.9,2,    3.08,2,    0.60,2,    0.20,2,    0.21,2,   2.299,2,   1.268,2,-999.000,9,  2038.9,2,  2339.0,2,-999.0000,9,-999.0000,9, -999.00,9, -999.00,9,  -999.0,9,  -999.0,-999.000,9,-999.000,-999.000,9,-999.0000,  20.2178,-999.0000,-999.000
  316N145_8,        I03,     510,          1,         30,         30,2,19950517,       2250,   -19.9992,    72.7182,       4140,   206.3,  18.6597,  35.7898,2,  35.7947,2,    204.3,2,   202.3,2,    3.29,2,    1.92,2,    0.01,2,    0.30,2,   2.407,2,   1.299,2,-999.000,9,  2067.2,2,  2348.0,2,-999.0000,9,-999.0000,9, -999.00,9, -999.00,9,  -999.0,9,  -999.0,-999.000,9,-999.000,-999.000,9,-999.0000,  18.6232,-999.0000,-999.000
  316N145_8,        I03,     510,          1,         29,         29,2,19950517,       2250,   -19.9992,    72.7182,       4140,   254.6,  17.1002,  35.7374,2,  35.7383,2,    209.4,2,   219.0,2,    2.43,2,    1.17,2,    0.01,2,    0.28,2,   2.636,2,   1.421,2,-999.000,9,  2072.2,2,  2347.0,2,-999.0000,9,-999.0000,9, -999.00,9, -999.00,9,  -999.0,9,  -999.0,-999.000,9,-999.000,-999.000,9,-999.0000,  17.0577,-999.0000,-999.000
  316N145_8,        I03,     510,          1,         28,         28,2,19950517,       2250,   -19.9992,    72.7182,       4140,   305.8,  14.8788,  35.4852,2,  35.4857,2,    217.4,2,   220.0,2,    2.63,2,    4.24,2,    0.01,2,    0.47,2,-999.000,9,-999.000,9,-999.000,9,  2088.7,2,  2332.0,2,-999.0000,9,-999.0000,9, -999.00,9, -999.00,9,  -999.0,9,  -999.0,-999.000,9,-999.000,-999.000,9,-999.0000,  14.8324,-999.0000,-999.000
  316N145_8,        I03,     510,          1,         27,         27,2,19950517,       2250,   -19.9992,    72.7182,       4140,   356.3,  13.3516,  35.2961,2,  35.2904,2,    222.2,2,   225.0,2,    3.26,2,    7.17,2,    0.01,2,    0.63,2,   2.939,2,   1.512,2,-999.000,9,  2096.4,2,  2323.0,2,-999.0000,9,-999.0000,9, -999.00,9, -999.00,9,  -999.0,9,  -999.0,-999.000,9,-999.000,-999.000,9,-999.0000,  13.3012,-999.0000,-999.000
  316N145_8,        I03,     510,          1,         26,         26,2,19950517,       2250,   -19.9992,    72.7182,       4140,   406.5,  12.4838,  35.1755,2,  35.1860,2,    224.8,2,   227.6,2,    3.46,2,    8.45,2,    0.01,2,    0.71,2,   2.921,2,   1.494,2,-999.000,9,  2099.5,2,  2317.0,2,-999.0000,9,-999.0000,9, -999.00,9, -999.00,9,  -999.0,9,  -999.0,-999.000,9,-999.000,-999.000,9,-999.0000,  12.4288,-999.0000,-999.000
  316N145_8,        I03,     510,          1,         25,         25,2,19950517,       2250,   -19.9992,    72.7182,       4140,   457.3,  11.5498,  35.0279,2,  35.0348,2,    233.1,2,   232.5,2,    3.88,2,   10.49,2,    0.01,2,    0.83,2,   2.951,2,   1.496,2,-999.000,9,  2103.0,2,  2310.0,2,-999.0000,9,-999.0000,9, -999.00,9, -999.00,9,  -999.0,9,  -999.0,-999.000,9,-999.000,-999.000,9,-999.0000,  11.4909,-999.0000,-999.000
  316N145_8,        I03,     510,          1,         24,         24,2,19950517,       2250,   -19.9992,    72.7182,       4140,   506.1,  10.7782,  34.9053,2,  34.9100,2,    238.2,2,   235.6,2,    4.51,2,   12.34,2,    0.01,2,    0.94,2,   2.886,2,   1.444,2,-999.000,9,  2106.4,2,  2304.0,2,-999.0000,9,-999.0000,9, -999.00,9, -999.00,9,  -999.0,9,  -999.0,-999.000,9,-999.000,-999.000,9,-999.0000,  10.7158,-999.0000,-999.000
  316N145_8,        I03,     510,          1,         23,         23,2,19950517,       2250,   -19.9992,    72.7182,       4140,   606.0,   9.4955,  34.7189,2,  34.7213,2,    231.2,2,   230.3,2,    5.99,2,   16.18,2,    0.01,2,    1.17,2,   2.425,2,   1.217,2,-999.000,9,  2116.8,2,  2295.0,2,-999.0000,9,-999.0000,9, -999.00,9, -999.00,9,  -999.0,9,  -999.0,-999.000,9,-999.000,-999.000,9,-999.0000,   9.4262,-999.0000,-999.000
  316N145_8,        I03,     510,          1,         22,         22,2,19950517,       2250,   -19.9992,    72.7182,       4140,   707.7,   8.1935,  34.5846,2,  34.5846,2,    206.8,2,   207.5,2,   12.98,2,   21.64,2,    0.01,2,    1.53,2,   1.357,2,   0.684,2,-999.000,9,  2141.7,2,  2293.0,2,-999.0000,9,-999.0000,9, -999.00,9, -999.00,9,  -999.0,9,  -999.0,-999.000,9,-999.000,-999.000,9,-999.0000,   8.1189,-999.0000,-999.000
  316N145_8,        I03,     510,          1,         21,         21,2,19950517,       2250,   -19.9992,    72.7182,       4140,   808.3,   6.1972,  34.4842,2,  34.4844,2,    176.2,2,   177.2,2,   32.08,2,   28.56,2,    0.01,2,    2.01,2,   0.362,2,   0.195,2,-999.000,9,  2186.7,2,  2304.0,2,-999.0000,9,-999.0000,9, -999.00,9, -999.00,9,  -999.0,9,  -999.0,-999.000,9,-999.000,-999.000,9,-999.0000,   6.1237,-999.0000,-999.000
  316N145_8,        I03,     510,          1,         20,         20,2,19950517,       2250,   -19.9992,    72.7182,       4140,   910.1,   5.0204,  34.5034,2,  34.5013,2,    148.5,2,   148.6,2,   56.30,2,   32.94,2,    0.01,2,    2.37,2,   0.071,2,   0.043,2,-999.000,9,  2229.7,2,  2328.0,2,-999.0000,9,-999.0000,9, -999.00,9, -999.00,9,  -999.0,9,  -999.0,-999.000,9,-999.000,-999.000,9,-999.0000,   4.9451,-999.0000,-999.000
  316N145_8,        I03,     510,          1,         19,         19,2,19950517,       2250,   -19.9992,    72.7182,       4140,  1009.6,   4.6192,  34.5602,2,  34.5597,2,    128.8,2,   130.0,2,   72.49,2,   34.65,2,    0.01,2,    2.51,2,   0.013,2,   0.010,2,-999.000,9,  2255.7,2,  2343.0,2,-999.0000,9,-999.0000,9, -999.00,9, -999.00,9,  -999.0,9,  -999.0,-999.000,9,-999.000,-999.000,9,-999.0000,   4.5379,-999.0000,-999.000
  316N145_8,        I03,     510,          1,         18,         18,2,19950517,       2250,   -19.9992,    72.7182,       4140,  1108.1,   4.3138,  34.6210,2,  34.6211,2,    121.7,2,   120.4,2,   84.67,2,   35.39,2,    0.01,2,    2.59,2,  -0.001,2,   0.000,2,-999.000,9,  2273.5,2,  2357.0,2,-999.0000,9,-999.0000,9, -999.00,9, -999.00,9,  -999.0,9,  -999.0,-999.000,9,-999.000,-999.000,9,-999.0000,   4.2262,-999.0000,-999.000
  316N145_8,        I03,     510,          1,         17,         17,2,19950517,       2250,   -19.9992,    72.7182,       4140,  1209.7,   4.0674,  34.6547,2,  34.6544,2,    122.4,2,   121.1,2,   90.46,2,   35.35,2,    0.00,2,    2.59,2,   0.000,2,   0.001,2,-999.000,9,  2279.1,2,  2363.0,2,-999.0000,9,-999.0000,9, -999.00,9, -999.00,9,  -999.0,9,  -999.0,-999.000,9,-999.000,-999.000,9,-999.0000,   3.9731,-999.0000,-999.000
  316N145_8,        I03,     510,          1,         16,         16,2,19950517,       2250,   -19.9992,    72.7182,       4140,  1312.9,   3.9914,  34.6933,2,  34.6939,2,    116.3,2,   116.7,2,   96.92,2,   35.55,2,    0.00,2,    2.61,2,   0.002,2,   0.001,2,-999.000,9,  2287.2,2,  2373.0,2,-999.0000,9,-999.0000,9, -999.00,9, -999.00,9,  -999.0,9,  -999.0,-999.000,9,-999.000,-999.000,9,-999.0000,   3.8887,-999.0000,-999.000
  316N145_8,        I03,     510,          1,         15,         15,2,19950517,       2250,   -19.9992,    72.7182,       4140,  1414.4,   3.6571,  34.7014,2,  34.6990,2,    124.2,2,   125.9,2,   98.22,2,   35.17,2,    0.00,2,    2.58,2,-999.000,9,-999.000,9,-999.000,9,  2286.2,2,  2373.0,2,-999.0000,9,-999.0000,9, -999.00,9, -999.00,9,  -999.0,9,  -999.0,-999.000,9,-999.000,-999.000,9,-999.0000,   3.5489,-999.0000,-999.000
  316N145_8,        I03,     510,          1,         14,         14,2,19950517,       2250,   -19.9992,    72.7182,       4140,  1612.6,   3.2127,  34.7076,2,  34.7066,2,    135.6,2,   135.7,2,  101.89,2,   34.79,2,    0.00,2,    2.52,2,   0.004,2,   0.001,2,-999.000,9,  2286.1,2,  2379.0,2,-999.0000,9,-999.0000,9, -999.00,9, -999.00,9,  -999.0,9,  -999.0,-999.000,9,-999.000,-999.000,9,-999.0000,   3.0924,-999.0000,-999.000
  316N145_8,        I03,     510,          1,         13,         13,2,19950517,       2250,   -19.9992,    72.7182,       4140,  1816.7,   2.8367,  34.7268,2,  34.7261,2,    142.0,2,   140.6,2,  108.85,2,   34.60,2,    0.00,2,    2.51,2,-999.000,9,-999.000,9,-999.000,9,  2291.1,2,  2386.0,2,-999.0000,9,-999.0000,9, -999.00,9, -999.00,9,  -999.0,9,  -999.0,-999.000,9,-999.000,-999.000,9,-999.0000,   2.7036,-999.0000,-999.000
  316N145_8,        I03,     510,          1,         12,         12,2,19950517,       2250,   -19.9992,    72.7182,       4140,  2020.2,   2.4636,  34.7264,2,  34.7263,2,    151.3,2,   152.2,2,  111.25,2,   33.93,2,    0.00,2,    2.44,2,  -0.002,2,   0.001,2,-999.000,9,  2288.3,2,  2388.0,2,-999.0000,9,-999.0000,9, -999.00,9, -999.00,9,  -999.0,9,  -999.0,-999.000,9,-999.000,-999.000,9,-999.0000,   2.3181,-999.0000,-999.000
  316N145_8,        I03,     510,          1,         11,         11,2,19950517,       2250,   -19.9992,    72.7182,       4140,  2220.0,   2.1902,  34.7252,2,  34.7249,2,    163.0,2,   162.8,2,  111.68,2,   33.50,2,    0.00,2,    2.39,2,-999.000,9,-999.000,9,-999.000,9,  2283.3,2,  2387.0,2,-999.0000,9,-999.0000,9, -999.00,9, -999.00,9,  -999.0,9,  -999.0,-999.000,9,-999.000,-999.000,9,-999.0000,   2.0314,-999.0000,-999.000
  316N145_8,        I03,     510,          1,         10,         10,2,19950517,       2250,   -19.9992,    72.7182,       4140,  2424.2,   1.9446,  34.7251,2,  34.7249,2,    171.9,2,   171.2,2,  112.77,2,   33.03,2,    0.00,2,    2.33,2,   0.000,2,   0.001,2,-999.000,9,  2279.8,2,  2385.0,2,-999.0000,9,-999.0000,9, -999.00,9, -999.00,9,  -999.0,9,  -999.0,-999.000,9,-999.000,-999.000,9,-999.0000,   1.7719,-999.0000,-999.000
  316N145_8,        I03,     510,          1,          9,          9,2,19950517,       2250,   -19.9992,    72.7182,       4140,  2626.1,   1.8177,  34.7253,2,  34.7243,2,    178.2,2,   -20.0,4,  111.45,2,   32.50,2,    0.00,2,    2.29,2,-999.000,9,-999.000,9,-999.000,9,  2274.1,2,  2384.0,2,-999.0000,9,-999.0000,9, -999.00,9, -999.00,9,  -999.0,9,  -999.0,-999.000,9,-999.000,-999.000,9,-999.0000,   1.6291,-999.0000,-999.000
  316N145_8,        I03,     510,          1,          8,          8,2,19950517,       2250,   -19.9992,    72.7182,       4140,  2827.3,   1.6819,  34.7264,2,  34.7257,2,    182.2,2,   182.6,2,  114.08,2,   32.41,2,    0.00,2,    2.27,2,  -0.001,2,  -0.001,2,-999.000,9,  2275.6,2,  2384.0,2,-999.0000,9,-999.0000,9, -999.00,9, -999.00,9,  -999.0,9,  -999.0,-999.000,9,-999.000,-999.000,9,-999.0000,   1.4773,-999.0000,-999.000
  316N145_8,        I03,     510,          1,          7,          7,2,19950517,       2250,   -19.9992,    72.7182,       4140,  3033.1,   1.5862,  34.7263,2,  34.7270,2,    184.3,2,   184.9,2,  116.05,2,   32.37,2,    0.00,2,    2.27,2,-999.000,9,-999.000,9,-999.000,9,  2277.1,2,  2387.0,2,-999.0000,9,-999.0000,9, -999.00,9, -999.00,9,  -999.0,9,  -999.0,-999.000,9,-999.000,-999.000,9,-999.0000,   1.3640,-999.0000,-999.000
  316N145_8,        I03,     510,          1,          6,          6,2,19950517,       2250,   -19.9992,    72.7182,       4140,  3233.1,   1.4971,  34.7257,2,  34.7261,2,    187.3,2,   187.4,2,  118.03,2,   32.38,2,    0.00,2,    2.27,2,  -0.003,2,  -0.001,2,-999.000,9,  2278.0,2,  2391.0,2,-999.0000,9,-999.0000,9, -999.00,9, -999.00,9,  -999.0,9,  -999.0,-999.000,9,-999.000,-999.000,9,-999.0000,   1.2576,-999.0000,-999.000
  316N145_8,        I03,     510,          1,          5,          5,2,19950517,       2250,   -19.9992,    72.7182,       4140,  3437.8,   1.4519,  34.7255,2,  34.7241,2,    187.5,2,   186.9,2,  121.34,2,   32.58,2,    0.00,2,    2.28,2,-999.000,9,-999.000,9,-999.000,9,  2281.6,2,  2395.0,2,-999.0000,9,-999.0000,9, -999.00,9, -999.00,9,  -999.0,9,  -999.0,-999.000,9,-999.000,-999.000,9,-999.0000,   1.1931,-999.0000,-999.000
  316N145_8,        I03,     510,          1,          4,          4,2,19950517,       2250,   -19.9992,    72.7182,       4140,  3644.4,   1.4316,  34.7227,2,  34.7227,2,    185.5,2,   185.7,2,  124.44,2,   32.69,2,    0.00,2,    2.29,2,   0.002,2,   0.001,2,-999.000,9,  2285.9,2,  2398.0,2,-999.0000,9,-999.0000,9, -999.00,9, -999.00,9,  -999.0,9,  -999.0,-999.000,9,-999.000,-999.000,9,-999.0000,   1.1521,-999.0000,-999.000
  316N145_8,        I03,     510,          1,          3,          3,2,19950517,       2250,   -19.9992,    72.7182,       4140,  3848.6,   1.4327,  34.7225,2,  34.7219,2,    184.6,2,   184.9,2,  126.22,2,   32.94,2,    0.00,2,    2.30,2,-999.000,9,-999.000,9,-999.000,9,  2287.9,2,  2401.0,2,-999.0000,9,-999.0000,9, -999.00,9, -999.00,9,  -999.0,9,  -999.0,-999.000,9,-999.000,-999.000,9,-999.0000,   1.1318,-999.0000,-999.000
  316N145_8,        I03,     510,          1,          2,          2,2,19950517,       2250,   -19.9992,    72.7182,       4140,  4053.5,   1.4362,  34.7214,2,  34.7210,2,    183.6,2,   184.0,2,  127.78,2,   33.14,2,    0.00,2,    2.31,2,  -0.001,2,   0.002,2,-999.000,9,  2291.4,2,  2405.0,2,-999.0000,9,-999.0000,9, -999.00,9, -999.00,9,  -999.0,9,  -999.0,-999.000,9,-999.000,-999.000,9,-999.0000,   1.1131,-999.0000,-999.000
  316N145_8,        I03,     510,          1,          1,          1,2,19950517,       2250,   -19.9992,    72.7182,       4140,  4262.5,   1.4499,  34.7211,2,  34.7210,2,    184.4,2,   184.1,2,  128.22,2,   33.15,2,    0.00,2,    2.31,2,  -0.002,2,  -0.003,2,-999.000,9,  2291.9,2,  2405.0,2,-999.0000,9,-999.0000,9, -999.00,9, -999.00,9,  -999.0,9,  -999.0,-999.000,9,-999.000,-999.000,9,-999.0000,   1.1032,-999.0000,-999.000