BOTTLE,20140514CCHSIOSE
EXPOCODE,SECT_ID,STNNBR,CASTNO,SAMPNO,BTLNBR,BTLNBR_FLAG_W,DATE,TIME,LATITUDE,LONGITUDE,DEPTH,CTDPRS,CTDTMP,CTDSAL,CTDSAL_FLAG_W,SALNTY,SALNTY_FLAG_W,CTDOXY,CTDOXY_FLAG_W,OXYGEN,OXYGEN_FLAG_W,SILCAT,SILCAT_FLAG_W,NITRAT,NITRAT_FLAG_W,NITRIT,NITRIT_FLAG_W,PHSPHT,PHSPHT_FLAG_W,CFC-11,CFC-11_FLAG_W,CFC-12,CFC-12_FLAG_W,CFC113,CFC113_FLAG_W,TCARBN,TCARBN_FLAG_W,ALKALI,ALKALI_FLAG_W,TRITUM,TRITUM_FLAG_W,HELIUM,HELIUM_FLAG_W,DELHE3,DELHE3_FLAG_W,DELC13,DELC13_FLAG_W,DELC14,DELC14_FLAG_W,C14ERR,NEON,NEON_FLAG_W,NEONER,CCL4,CCL4_FLAG_W,HELIER,THETA,TRITER,DELHER
,,,,,,,,,,,METERS,DBAR,ITS-90,PSS-78,,PSS-78,,UMOL/KG,,UMOL/KG,,UMOL/KG,,UMOL/KG,,UMOL/KG,,UMOL/KG,,PMOL/KG,,PMOL/KG,,PMOL/KG,,UMOL/KG,,UMOL/KG,,TU,,NMOL/KG,,PERCNT,,/MILLE,,/MILLE,,/MILLE,NMOL/KG,,NMOL/KG,PMOL/KG,,NMOL/KG,DEG C,TU,PERCNT
  316N145_8,        I03,     469,          1,         36,         36,2,19950503,       0049,   -20.0005,    97.8335,       5795,     6.9,  24.4646,  35.5868,2,  35.5881,2,    210.4,2,   210.5,2,    3.37,2,    0.15,2,    0.00,2,    0.09,2,   1.953,2,   1.112,2,   0.131,3,  1991.0,2,  2331.0,2,   1.1752,2,   1.7189,2,   -1.20,2,    1.05,2,    77.6,2,     4.3,   6.855,2,   0.034,   2.623,2,   0.0086,  24.4631,   0.0041,    0.14
  316N145_8,        I03,     469,          1,         35,         35,2,19950503,       0049,   -20.0005,    97.8335,       5795,    58.2,  24.4325,  35.5830,2,  35.5824,2,    213.4,2,   211.0,2,    3.35,2,    0.20,2,    0.00,2,    0.09,2,-999.000,9,-999.000,9,   0.328,3,  1990.3,6,  2329.0,6,-999.0000,9,-999.0000,9, -999.00,9, -999.00,9,  -999.0,9,  -999.0,-999.000,9,-999.000,   2.833,2,-999.0000,  24.4201,-999.0000,-999.000
  316N145_8,        I03,     469,          1,         34,         34,2,19950503,       0049,   -20.0005,    97.8335,       5795,   108.2,  20.8984,  35.6916,2,  35.6963,2,    207.1,2,   209.0,2,    3.77,2,    0.19,2,    0.06,2,    0.17,2,   2.254,2,   1.236,2,   0.274,3,  2029.8,2,  2339.0,2,   1.1339,2,   1.7400,2,   -0.90,2,    1.00,2,    97.9,2,     4.4,   7.015,2,   0.035,   1.779,2,   0.0087,  20.8777,   0.0040,    0.14
  316N145_8,        I03,     469,          1,         33,         33,2,19950503,       0049,   -20.0005,    97.8335,       5795,   158.3,  19.3027,  35.8341,2,  35.8418,2,    203.3,2,   205.1,2,    3.54,2,    1.41,2,    0.02,2,    0.25,2,-999.000,9,-999.000,9,   0.282,3,  2056.8,2,  2348.0,2,   1.0874,2,   1.7434,2,   -0.47,2,    0.93,2,    90.4,2,     3.7,   7.058,2,   0.035,   1.443,2,   0.0087,  19.2741,   0.0039,    0.14
  316N145_8,        I03,     469,          1,         32,         32,2,19950503,       0049,   -20.0005,    97.8335,       5795,   208.4,  17.2660,  35.7896,2,  35.8014,2,    206.6,2,   207.7,2,    3.53,2,    2.35,2,    0.01,2,    0.34,2,   2.510,2,   1.356,2,   0.281,3,  2074.5,2,  2348.0,2,   1.0050,2,   1.7356,2,   -0.19,2,    1.12,2,    90.7,2,     3.5,   7.128,2,   0.036,   0.925,2,   0.0087,  17.2310,   0.0039,    0.14
  316N145_8,        I03,     469,          1,         31,         31,2,19950503,       0049,   -20.0005,    97.8335,       5795,   258.5,  15.4410,  35.6080,2,  35.5853,2,    217.1,2,   219.1,2,    3.51,2,    3.88,2,    0.01,2,    0.44,2,-999.000,9,-999.000,9,   0.172,3,  2086.3,2,  2340.0,2,   0.8663,2,-999.0000,9, -999.00,9,    0.97,2,    82.5,2,     3.6,-999.000,9,-999.000,   0.941,2,-999.0000,  15.4008,   0.0036,-999.000
  316N145_8,        I03,     469,          1,         30,         30,2,19950503,       0049,   -20.0005,    97.8335,       5795,   309.0,  13.6653,  35.3771,2,  35.3477,2,    225.3,2,   225.2,2,    3.28,2,    6.55,2,    0.01,2,    0.59,2,   2.985,2,   1.546,2,   0.175,3,  2094.4,2,  2325.0,2,   0.7706,2,   1.7624,2,   -0.02,2,    1.24,2,    80.3,2,     3.1,   7.358,2,   0.037,   1.060,2,   0.0088,  13.6211,   0.0034,    0.14
  316N145_8,        I03,     469,          1,         29,         29,2,19950503,       0049,   -20.0005,    97.8335,       5795,   358.1,  12.4374,  35.1818,2,  35.1734,2,    232.3,2,   232.6,2,    3.48,2,    8.52,2,    0.00,2,    0.71,2,-999.000,9,-999.000,9,   0.207,3,  2098.5,2,  2317.0,2,   0.7106,2,   1.7637,2,    0.05,2,    1.13,2,    69.9,6,     2.7,   7.425,2,   0.037,   1.258,2,   0.0088,  12.3892,   0.0033,    0.14
  316N145_8,        I03,     469,          1,         28,         28,2,19950503,       0049,   -20.0005,    97.8335,       5795,   409.8,  11.5093,  35.0293,2,  35.0279,2,    235.9,2,   237.4,2,    3.90,2,   10.44,2,    0.00,2,    0.82,2,   3.143,2,   1.608,2,   0.148,3,  2101.7,2,  2309.0,2,   0.6384,2,   1.7680,2,   -0.04,2,    1.15,2,    63.6,2,     3.5,   7.418,2,   0.037,   1.740,2,   0.0088,  11.4568,   0.0032,    0.14
  316N145_8,        I03,     469,          1,         27,         27,2,19950503,       0049,   -20.0005,    97.8335,       5795,   509.9,  10.1136,  34.8098,2,  34.8120,2,    239.3,2,   238.6,2,    4.97,2,   13.90,2,    0.00,2,    1.02,2,   3.031,2,   1.511,2,   0.292,3,  2109.4,2,  2300.0,2,   0.5235,2,   1.7611,2,    0.27,2,    1.17,2,    52.7,2,     3.7,   7.484,2,   0.037,   1.993,2,   0.0088,  10.0532,   0.0030,    0.14
  316N145_8,        I03,     469,          1,         26,         26,2,19950503,       0049,   -20.0005,    97.8335,       5795,   609.5,   8.7561,  34.6264,2,  34.6225,2,    223.9,2,   221.4,2,    8.84,2,   19.38,2,    0.00,2,    1.36,2,   2.124,2,   1.054,2,   0.148,3,  2129.4,2,  2293.0,2,   0.3477,2,   1.7924,2,    1.16,2,    1.20,2,    22.6,2,     3.4,   7.585,2,   0.038,   1.805,2,   0.0090,   8.6898,   0.0027,    0.14
  316N145_8,        I03,     469,          1,         25,         25,2,19950503,       0049,   -20.0005,    97.8335,       5795,   710.6,   6.9360,  34.5270,2,  34.5275,2,    174.2,2,   176.1,2,   28.48,2,   27.15,2,    0.00,2,    1.89,2,   0.668,2,   0.346,2,-999.000,9,  2179.1,2,  2306.0,2,-999.0000,9,-999.0000,9, -999.00,9,    0.92,2,   -69.5,2,     3.5,-999.000,9,-999.000,-999.000,9,-999.0000,   6.8678,-999.0000,-999.000
  316N145_8,        I03,     469,          1,         24,         24,2,19950503,       0049,   -20.0005,    97.8335,       5795,   811.2,   5.8603,  34.5620,2,  34.5607,2,    127.1,2,   127.4,2,   58.49,2,   33.14,2,    0.00,2,    2.36,2,   0.086,2,   0.046,2,  -0.012,3,  2238.0,2,  2330.0,2,   0.0299,2,   1.8389,2,    7.98,2,    0.46,2,  -135.7,2,     2.5,   7.834,2,   0.039,   0.302,2,   0.0092,   5.7884,   0.0022,    0.14
  316N145_8,        I03,     469,          1,         23,         23,2,19950503,       0049,   -20.0005,    97.8335,       5795,   911.9,   5.4232,  34.6217,2,  34.6205,2,    103.3,2,   103.9,2,   77.08,2,   35.30,2,    0.00,2,    2.56,2,   0.014,2,   0.006,2,   0.084,3,  2268.0,2,  2352.0,2,-999.0000,9,-999.0000,9, -999.00,9,    0.10,2,  -162.2,2,     2.5,-999.000,9,-999.000,   0.067,2,-999.0000,   5.3447,-999.0000,-999.000
  316N145_8,        I03,     469,          1,         22,         22,2,19950503,       0049,   -20.0005,    97.8335,       5795,  1012.5,   4.9613,  34.6233,2,  34.6234,2,    100.5,2,    99.9,2,   89.00,2,   36.05,2,    0.00,2,    2.63,2,   0.008,2,   0.007,2,  -0.049,3,  2283.7,2,  2364.0,2,   0.0117,2,   1.8654,2,   12.66,2,   -0.33,3,  -184.2,6,     4.3,   7.875,2,   0.039,   0.040,2,   0.0093,   4.8769,   0.0022,    0.14
  316N145_8,        I03,     469,          1,         21,         21,2,19950503,       0049,   -20.0005,    97.8335,       5795,  1112.9,   4.6073,  34.6332,2,  34.6350,2,    103.5,2,   104.2,2,   92.22,2,   36.10,2,    0.00,2,    2.63,2,-999.000,9,-999.000,9,-999.000,9,  2284.0,2,  -999.0,5,-999.0000,9,-999.0000,9, -999.00,9,    0.09,3,  -162.1,2,     2.9,-999.000,9,-999.000,-999.000,9,-999.0000,   4.5168,-999.0000,-999.000
  316N145_8,        I03,     469,          1,         20,         20,2,19950503,       0049,   -20.0005,    97.8335,       5795,  1213.0,   4.2088,  34.6386,2,  34.6399,2,    110.7,2,   111.3,2,   94.34,2,   35.90,2,    0.00,2,    2.62,2,-999.000,9,-999.000,9,-999.000,9,  2287.1,2,  2368.0,2,   0.0019,2,-999.0000,9, -999.00,9,   -0.08,3,  -174.1,2,     2.4,-999.000,9,-999.000,-999.000,9,-999.0000,   4.1129,   0.0022,-999.000
  316N145_8,        I03,     469,          1,         19,         19,2,19950503,       0049,   -20.0005,    97.8335,       5795,  1414.4,   3.5837,  34.6626,2,  34.6646,2,    122.6,2,   123.9,2,   98.44,2,   35.59,2,    0.01,2,    2.57,2,-999.000,9,-999.000,9,-999.000,9,  2288.2,2,  2375.0,2,   0.0001,2,   1.8736,2,   12.76,2, -999.00,9,  -999.0,9,  -999.0,   7.990,2,   0.040,-999.000,9,   0.0094,   3.4764,   0.0022,    0.14
  316N145_8,        I03,     469,          1,         18,         18,2,19950503,       0049,   -20.0005,    97.8335,       5795,  1616.2,   3.0408,  34.6863,2,  34.6874,2,    138.3,2,   138.0,2,  101.88,2,   34.93,2,    0.00,2,    2.50,2,-999.000,9,-999.000,9,-999.000,9,  2287.3,2,  2376.0,2,-999.0000,9,-999.0000,9, -999.00,9, -999.00,9,  -999.0,9,  -999.0,-999.000,9,-999.000,-999.000,9,-999.0000,   2.9223,-999.0000,-999.000
  316N145_8,        I03,     469,          1,         17,         17,2,19950503,       0049,   -20.0005,    97.8335,       5795,  1818.2,   2.6373,  34.7083,2,  34.7092,2,    145.3,2,   146.6,2,  108.20,2,   34.48,2,    0.00,2,    2.47,2,-999.000,9,-999.000,9,-999.000,9,  2289.3,2,  2385.0,2,   0.0006,2,   1.8711,2,   13.74,2, -999.00,9,  -999.0,9,  -999.0,   8.004,2,   0.040,-999.000,9,   0.0094,   2.5068,   0.0022,    0.14
  316N145_8,        I03,     469,          1,         16,         16,2,19950503,       0049,   -20.0005,    97.8335,       5795,  2021.0,   2.3316,  34.7198,2,  34.7208,2,    154.4,2,   153.7,2,  113.66,2,   34.18,2,    0.00,2,    2.44,2,-999.000,9,-999.000,9,-999.000,9,  -999.0,5,  2387.0,2,-999.0000,9,   1.8890,2,   14.08,2, -999.00,9,  -999.0,9,  -999.0,   8.094,2,   0.021,-999.000,9,   0.0020,   2.1880,-999.0000,    0.15
  316N145_8,        I03,     469,          1,         15,         15,2,19950503,       0049,   -20.0005,    97.8335,       5795,  2223.7,   2.1039,  34.7248,2,  34.7255,2,    160.9,2,   159.5,2,  117.15,2,   33.93,2,    0.00,2,    2.42,2,-999.000,9,-999.000,9,-999.000,9,  2287.9,2,  2393.0,2,-999.0000,9,   1.7410,4,   14.22,2, -999.00,9,  -999.0,9,  -999.0,   0.000,5,   0.000,-999.000,9,   0.0020,   1.9462,-999.0000,    0.16
  316N145_8,        I03,     469,          1,         14,         14,2,19950503,       0049,   -20.0005,    97.8335,       5795,  2425.8,   1.9387,  34.7256,2,  34.7266,2,    163.8,2,   164.3,2,  119.75,2,   33.77,2,    0.00,2,    2.39,2,-999.000,9,-999.000,9,-999.000,9,  -999.0,5,  2393.0,2,-999.0000,9,   1.9040,2,   13.93,2, -999.00,9,  -999.0,9,  -999.0,   8.116,2,   0.017,-999.000,9,   0.0070,   1.7659,-999.0000,    0.20
  316N145_8,        I03,     469,          1,         13,         13,2,19950503,       0049,   -20.0005,    97.8335,       5795,  2627.4,   1.7933,  34.7259,2,  34.7268,2,    168.7,2,   169.4,2,  120.79,2,   33.52,2,    0.00,2,    2.37,2,-999.000,9,-999.000,9,-999.000,9,  2288.4,2,  2396.0,2,-999.0000,9,   1.9180,2,   13.43,2, -999.00,9,  -999.0,9,  -999.0,   8.209,2,   0.021,-999.000,9,   0.0030,   1.6050,-999.0000,    0.15
  316N145_8,        I03,     469,          1,         12,         12,2,19950503,       0049,   -20.0005,    97.8335,       5795,  2830.1,   1.6645,  34.7249,2,  34.7268,2,    173.4,2,   173.6,2,  122.50,2,   33.42,2,    0.00,2,    2.35,2,-999.000,9,-999.000,9,-999.000,9,  -999.0,5,  2397.0,2,-999.0000,9,   1.9170,2,   12.99,2, -999.00,9,  -999.0,9,  -999.0,   8.214,2,   0.017,-999.000,9,   0.0070,   1.4600,-999.0000,    0.20
  316N145_8,        I03,     469,          1,         11,         11,2,19950503,       0049,   -20.0005,    97.8335,       5795,  3035.1,   1.5615,  34.7238,2,  34.7251,2,    176.6,2,   176.7,2,  124.45,2,   33.37,2,    0.00,2,    2.35,2,  -0.001,2,   0.003,2,-999.000,9,  2289.0,6,  2397.0,6,-999.0000,9,   1.9220,2,   12.44,2, -999.00,9,  -999.0,9,  -999.0,   8.225,2,   0.021,-999.000,9,   0.0020,   1.3397,-999.0000,    0.15
  316N145_8,        I03,     469,          1,         10,         10,2,19950503,       0049,   -20.0005,    97.8335,       5795,  3289.6,   1.4428,  34.7210,2,  34.7217,2,    178.7,2,   179.8,2,  127.29,2,   33.32,2,    0.00,2,    2.34,2,-999.000,9,-999.000,9,-999.000,9,  -999.0,5,  2399.0,2,-999.0000,9,   1.9100,2,   12.39,2, -999.00,9,  -999.0,9,  -999.0,   8.197,2,   0.016,-999.000,9,   0.0030,   1.1990,-999.0000,    0.13
  316N145_8,        I03,     469,          1,          9,          9,2,19950503,       0049,   -20.0005,    97.8335,       5795,  3543.3,   1.3571,  34.7187,2,  34.7192,2,    182.3,2,   182.7,2,  128.56,2,   33.27,2,    0.00,2,    2.33,2,-999.000,9,-999.000,9,-999.000,9,  2289.7,2,  2403.0,2,-999.0000,9,   1.9160,2,   12.36,2, -999.00,9,  -999.0,9,  -999.0,   8.220,2,   0.015,-999.000,9,   0.0020,   1.0899,-999.0000,    0.11
  316N145_8,        I03,     469,          1,          8,          8,2,19950503,       0049,   -20.0005,    97.8335,       5795,  3798.1,   1.2868,  34.7169,2,  34.7170,2,    186.5,2,   186.4,2,  128.26,2,   33.21,2,    0.00,2,    2.32,2,-999.000,9,-999.000,9,-999.000,9,  -999.0,5,  2398.0,2,-999.0000,9,   1.9030,2,   12.30,2, -999.00,9,  -999.0,9,  -999.0,   8.207,2,   0.017,-999.000,9,   0.0070,   0.9952,-999.0000,    0.20
  316N145_8,        I03,     469,          1,          7,          7,2,19950503,       0049,   -20.0005,    97.8335,       5795,  4053.6,   1.2259,  34.7157,2,  34.7162,2,    191.8,2,   191.8,2,  127.51,2,   32.91,2,    0.00,2,    2.30,2,-999.000,9,-999.000,9,-999.000,9,  2283.5,2,  2397.0,2,-999.0000,9,   1.9060,2,   11.10,2, -999.00,9,  -999.0,9,  -999.0,   8.226,2,   0.021,-999.000,9,   0.0030,   0.9088,-999.0000,    0.19
  316N145_8,        I03,     469,          1,          6,          6,2,19950503,       0049,   -20.0005,    97.8335,       5795,  4362.1,   1.1620,  34.7146,2,  34.7159,2,    197.4,2,   198.3,2,  124.74,2,   32.51,2,    0.00,2,    2.26,2,-999.000,9,-999.000,9,   0.107,3,  -999.0,5,  2387.0,2,-999.0000,9,   1.9290,2,   10.75,2, -999.00,9,  -999.0,9,  -999.0,   8.362,2,   0.019,   0.003,2,   0.0070,   0.8129,-999.0000,    0.17
  316N145_8,        I03,     469,          1,          5,          5,2,19950503,       0049,   -20.0005,    97.8335,       5795,  4669.6,   1.1094,  34.7122,2,  34.7125,2,    201.6,2,   202.1,2,  123.77,2,   32.26,2,    0.00,2,    2.25,2,-999.000,9,-999.000,9,-999.000,9,  2270.5,2,  2386.0,2,-999.0000,9,   1.8910,2,   10.23,2, -999.00,9,  -999.0,9,  -999.0,   8.179,2,   0.021,-999.000,9,   0.0030,   0.7270,-999.0000,    0.20
  316N145_8,        I03,     469,          1,          4,          4,2,19950503,       0049,   -20.0005,    97.8335,       5795,  4976.5,   1.1003,  34.7113,2,  34.7111,2,    203.5,2,   204.0,2,  123.70,2,   32.31,2,    0.00,2,    2.24,2,-999.000,9,-999.000,9,-999.000,9,  -999.0,5,  2380.0,2,-999.0000,9,-999.0000,9, -999.00,9, -999.00,9,  -999.0,9,  -999.0,-999.000,9,-999.000,-999.000,9,-999.0000,   0.6823,-999.0000,-999.000
  316N145_8,        I03,     469,          1,          3,          3,2,19950503,       0049,   -20.0005,    97.8335,       5795,  5283.9,   1.1128,  34.7101,2,  34.7106,2,    205.1,2,   204.9,2,  123.63,2,   32.21,2,    0.00,2,    2.24,2,-999.000,9,-999.000,9,   0.026,3,  2268.5,2,  2381.0,2,-999.0000,9,   1.8910,2,   10.52,2, -999.00,9,  -999.0,9,  -999.0,   8.169,2,   0.021,   0.044,2,   0.0030,   0.6571,-999.0000,    0.20
  316N145_8,        I03,     469,          1,          2,          2,2,19950503,       0049,   -20.0005,    97.8335,       5795,  5592.3,   1.1425,  34.7091,2,  34.7108,2,    206.2,2,   205.4,2,  123.55,2,   32.26,2,    0.00,2,    2.24,2,   0.002,2,   0.004,2,   0.029,3,  -999.0,5,  2383.0,2,-999.0000,9,-999.0000,9, -999.00,9, -999.00,9,  -999.0,9,  -999.0,-999.000,9,-999.000,   0.050,2,-999.0000,   0.6472,-999.0000,-999.000
  316N145_8,        I03,     469,          1,          1,          1,2,19950503,       0049,   -20.0005,    97.8335,       5795,  5940.1,   1.1849,  34.7089,2,  34.7100,2,    205.6,2,   205.9,2,  123.70,2,   32.30,2,    0.00,2,    2.24,2,   0.003,2,   0.007,2,  -0.056,3,  2269.4,2,  2383.0,2,-999.0000,9,-999.0000,9, -999.00,9, -999.00,9,  -999.0,9,  -999.0,-999.000,9,-999.000,   0.053,2,-999.0000,   0.6430,-999.0000,-999.000