BOTTLE,20140514CCHSIOSE
EXPOCODE,SECT_ID,STNNBR,CASTNO,SAMPNO,BTLNBR,BTLNBR_FLAG_W,DATE,TIME,LATITUDE,LONGITUDE,DEPTH,CTDPRS,CTDTMP,CTDSAL,CTDSAL_FLAG_W,SALNTY,SALNTY_FLAG_W,CTDOXY,CTDOXY_FLAG_W,OXYGEN,OXYGEN_FLAG_W,SILCAT,SILCAT_FLAG_W,NITRAT,NITRAT_FLAG_W,NITRIT,NITRIT_FLAG_W,PHSPHT,PHSPHT_FLAG_W,CFC-11,CFC-11_FLAG_W,CFC-12,CFC-12_FLAG_W,CFC113,CFC113_FLAG_W,TCARBN,TCARBN_FLAG_W,ALKALI,ALKALI_FLAG_W,TRITUM,TRITUM_FLAG_W,HELIUM,HELIUM_FLAG_W,DELHE3,DELHE3_FLAG_W,DELC13,DELC13_FLAG_W,DELC14,DELC14_FLAG_W,C14ERR,NEON,NEON_FLAG_W,NEONER,CCL4,CCL4_FLAG_W,HELIER,THETA,TRITER,DELHER
,,,,,,,,,,,METERS,DBAR,ITS-90,PSS-78,,PSS-78,,UMOL/KG,,UMOL/KG,,UMOL/KG,,UMOL/KG,,UMOL/KG,,UMOL/KG,,PMOL/KG,,PMOL/KG,,PMOL/KG,,UMOL/KG,,UMOL/KG,,TU,,NMOL/KG,,PERCNT,,/MILLE,,/MILLE,,/MILLE,NMOL/KG,,NMOL/KG,PMOL/KG,,NMOL/KG,DEG C,TU,PERCNT
  316N145_8,        I03,     490,          1,         36,         36,2,19950509,       0654,   -19.9987,    85.9318,       4377,     6.3,  25.8713,  35.1283,2,  35.1323,2,    204.2,2,   205.4,2,    3.29,2,    0.15,2,    0.00,2,    0.12,2,   1.829,2,   1.038,2,-999.000,9,  1955.0,6,  2301.2,6,   1.1614,2,   1.7131,2,   -1.14,2, -999.00,9,  -999.0,9,  -999.0,   6.754,2,   0.034,-999.000,9,   0.0086,  25.8699,   0.0041,    0.14
  316N145_8,        I03,     490,          1,         35,         35,2,19950509,       0654,   -19.9987,    85.9318,       4377,    56.1,  25.6615,  35.1592,2,  35.1586,2,    208.2,2,   205.8,2,    3.28,2,    0.15,2,    0.00,2,    0.11,2,-999.000,9,-999.000,9,-999.000,9,  -999.0,9,  -999.0,9,   1.1113,2,   1.7065,2,   -1.07,2, -999.00,9,  -999.0,9,  -999.0,   6.733,2,   0.034,-999.000,9,   0.0085,  25.6491,   0.0040,    0.14
  316N145_8,        I03,     490,          1,         34,         34,2,19950509,       0654,   -19.9987,    85.9318,       4377,   105.5,  21.6867,  35.5056,2,  35.5353,2,    225.2,2,   214.2,2,    3.69,2,    0.13,2,    0.01,2,    0.15,2,   2.200,2,   1.215,2,-999.000,9,  -999.0,9,  -999.0,9,   1.1129,2,   1.7266,2,   -0.89,2, -999.00,9,  -999.0,9,  -999.0,   6.982,2,   0.035,-999.000,9,   0.0086,  21.6660,   0.0040,    0.14
  316N145_8,        I03,     490,          1,         33,         33,2,19950509,       0654,   -19.9987,    85.9318,       4377,   155.9,  20.2103,  35.7661,2,  35.7176,2,    199.8,2,   205.7,2,    3.67,2,    0.60,2,    0.23,2,    0.21,2,-999.000,9,-999.000,9,-999.000,9,  -999.0,9,  -999.0,9,   1.1146,2,   1.7415,2,   -0.63,2, -999.00,9,  -999.0,9,  -999.0,   7.041,2,   0.035,-999.000,9,   0.0087,  20.1812,   0.0040,    0.14
  316N145_8,        I03,     490,          1,         32,         32,2,19950509,       0654,   -19.9987,    85.9318,       4377,   205.9,  18.6077,  35.6068,2,  35.6511,2,    178.1,2,   183.2,2,    6.84,2,    4.54,2,    0.01,2,    0.45,2,   2.202,2,   1.193,2,-999.000,9,  -999.0,9,  -999.0,9,   1.0751,2,   1.7379,2,    0.85,2, -999.00,9,  -999.0,9,  -999.0,   7.081,2,   0.035,-999.000,9,   0.0087,  18.5714,   0.0039,    0.14
  316N145_8,        I03,     490,          1,         31,         31,2,19950509,       0654,   -19.9987,    85.9318,       4377,   255.4,  17.4795,  35.7620,2,  35.7609,2,    203.6,2,   204.5,2,    3.86,2,    2.59,2,    0.00,2,    0.36,2,-999.000,9,-999.000,9,-999.000,9,  -999.0,9,  -999.0,9,   0.9982,2,   1.7456,2,    0.08,2, -999.00,9,  -999.0,9,  -999.0,   7.170,2,   0.036,-999.000,9,   0.0087,  17.4363,   0.0038,    0.14
  316N145_8,        I03,     490,          1,         30,         30,2,19950509,       0654,   -19.9987,    85.9318,       4377,   306.1,  15.4691,  35.5810,2,  35.5879,2,    205.6,2,   208.2,2,    4.06,2,    4.59,2,    0.00,2,    0.49,2,   2.619,2,   1.369,2,-999.000,9,  -999.0,9,  -999.0,9,   0.9167,2,   1.7634,2,    0.41,2, -999.00,9,  -999.0,9,  -999.0,   7.262,2,   0.036,-999.000,9,   0.0088,  15.4214,   0.0037,    0.14
  316N145_8,        I03,     490,          1,         29,         29,2,19950509,       0654,   -19.9987,    85.9318,       4377,   356.1,  14.0240,  35.3990,2,  35.3876,2,    211.2,2,   215.1,2,    4.26,2,    6.75,2,    0.00,2,    0.61,2,-999.000,9,-999.000,9,-999.000,9,  -999.0,9,  -999.0,9,-999.0000,9,   1.7493,2,    0.57,2, -999.00,9,  -999.0,9,  -999.0,   7.271,2,   0.036,-999.000,9,   0.0087,  13.9721,-999.0000,    0.14
  316N145_8,        I03,     490,          1,         28,         28,2,19950509,       0654,   -19.9987,    85.9318,       4377,   406.6,  12.5522,  35.1866,2,  35.1790,2,    221.6,2,   222.8,2,    4.46,2,    9.00,2,    0.00,2,    0.74,2,   2.825,2,   1.434,2,-999.000,9,  -999.0,9,  -999.0,9,   0.7316,2,   1.7538,2,    0.36,2, -999.00,9,  -999.0,9,  -999.0,   7.337,2,   0.037,-999.000,9,   0.0088,  12.4970,   0.0034,    0.14
  316N145_8,        I03,     490,          1,         27,         27,2,19950509,       0654,   -19.9987,    85.9318,       4377,   457.2,  11.2750,  34.9864,2,  34.9882,2,    226.7,2,   228.8,2,    4.87,2,   11.51,2,    0.00,2,    0.88,2,-999.000,9,-999.000,9,-999.000,9,  -999.0,9,  -999.0,9,-999.0000,9,-999.0000,9, -999.00,9, -999.00,9,  -999.0,9,  -999.0,-999.000,9,-999.000,-999.000,9,-999.0000,  11.2171,-999.0000,-999.000
  316N145_8,        I03,     490,          1,         26,         26,2,19950509,       0654,   -19.9987,    85.9318,       4377,   507.2,  10.0984,  34.8127,2,  34.8167,2,    228.1,2,   228.9,2,    5.92,2,   14.41,2,    0.00,2,    1.06,2,   2.665,2,   1.329,2,-999.000,9,  -999.0,9,  -999.0,9,   0.5274,2,   1.7596,2,    0.63,2, -999.00,9,  -999.0,9,  -999.0,   7.464,2,   0.037,-999.000,9,   0.0088,  10.0384,   0.0030,    0.14
  316N145_8,        I03,     490,          1,         25,         25,2,19950509,       0654,   -19.9987,    85.9318,       4377,   557.6,   9.4549,  34.7217,2,  34.7236,2,    227.2,2,   224.3,2,    7.40,2,   16.72,2,    0.00,2,    1.20,2,-999.000,9,-999.000,9,-999.000,9,  -999.0,9,  -999.0,9,-999.0000,9,-999.0000,9, -999.00,9, -999.00,9,  -999.0,9,  -999.0,-999.000,9,-999.000,-999.000,9,-999.0000,   9.3914,-999.0000,-999.000
  316N145_8,        I03,     490,          1,         24,         24,2,19950509,       0654,   -19.9987,    85.9318,       4377,   608.9,   8.8629,  34.6470,2,  34.6500,2,    222.6,2,   219.6,2,    8.87,2,   18.79,2,    0.00,2,    1.32,2,   2.010,2,   0.996,2,-999.000,9,  -999.0,9,  -999.0,9,   0.3137,2,   1.7641,2,    1.30,2, -999.00,9,  -999.0,9,  -999.0,   7.537,2,   0.038,-999.000,9,   0.0088,   8.7961,   0.0028,    0.14
  316N145_8,        I03,     490,          1,         23,         23,2,19950509,       0654,   -19.9987,    85.9318,       4377,   709.3,   7.2121,  34.5246,2,  34.5277,2,    194.8,2,   188.7,2,   22.44,2,   25.60,2,    0.00,2,    1.77,2,-999.000,9,-999.000,9,-999.000,9,  -999.0,9,  -999.0,9,-999.0000,9,-999.0000,9, -999.00,9, -999.00,9,  -999.0,9,  -999.0,-999.000,9,-999.000,-999.000,9,-999.0000,   7.1426,-999.0000,-999.000
  316N145_8,        I03,     490,          1,         22,         22,2,19950509,       0654,   -19.9987,    85.9318,       4377,   809.5,   6.1110,  34.5414,2,  34.5445,2,    144.3,2,   143.7,2,   48.12,2,   31.51,2,    0.00,2,    2.21,2,   0.137,2,   0.076,2,-999.000,9,  -999.0,9,  -999.0,9,   0.0051,2,   1.8081,2,    6.48,2, -999.00,9,  -999.0,9,  -999.0,   7.727,2,   0.039,-999.000,9,   0.0090,   6.0378,   0.0023,    0.14
  316N145_8,        I03,     490,          1,         21,         21,2,19950509,       0654,   -19.9987,    85.9318,       4377,   910.2,   5.2778,  34.5563,2,  34.5571,2,    120.7,2,   127.9,2,   64.91,2,   34.02,2,    0.00,2,    2.41,2,   0.040,2,   0.023,2,-999.000,9,  -999.0,9,  -999.0,9,-999.0000,9,-999.0000,9, -999.00,9, -999.00,9,  -999.0,9,  -999.0,-999.000,9,-999.000,-999.000,9,-999.0000,   5.2005,-999.0000,-999.000
  316N145_8,        I03,     490,          1,         20,         20,2,19950509,       0654,   -19.9987,    85.9318,       4377,  1010.1,   4.8323,  34.5882,2,  34.5906,2,    120.2,2,   122.2,2,   75.14,2,   34.98,2,    0.00,2,    2.51,2,-999.000,9,-999.000,9,-999.000,9,  -999.0,9,  -999.0,9,   0.0029,2,   1.8370,2,   10.49,2, -999.00,9,  -999.0,9,  -999.0,   7.887,2,   0.039,-999.000,9,   0.0092,   4.7492,   0.0022,    0.14
  316N145_8,        I03,     490,          1,         19,         19,2,19950509,       0654,   -19.9987,    85.9318,       4377,  1111.3,   4.5838,  34.6343,2,  34.6369,2,    115.1,2,   114.9,2,   84.76,2,   35.60,2,    0.00,2,    2.58,2,   0.003,2,   0.002,2,-999.000,9,  -999.0,9,  -999.0,9,-999.0000,9,-999.0000,9, -999.00,9, -999.00,9,  -999.0,9,  -999.0,-999.000,9,-999.000,-999.000,9,-999.0000,   4.4936,-999.0000,-999.000
  316N145_8,        I03,     490,          1,         18,         18,2,19950509,       0654,   -19.9987,    85.9318,       4377,  1211.7,   4.3406,  34.6642,2,  34.6649,2,    112.6,2,   113.6,2,   90.54,2,   35.71,2,    0.00,2,    2.59,2,-999.000,9,-999.000,9,-999.000,9,  -999.0,9,  -999.0,9,   0.2177,3,   1.8617,2,   11.88,2, -999.00,9,  -999.0,9,  -999.0,   7.886,2,   0.039,-999.000,9,   0.0093,   4.2436,   0.0026,    0.14
  316N145_8,        I03,     490,          1,         17,         17,2,19950509,       0654,   -19.9987,    85.9318,       4377,  1310.7,   4.1023,  34.6827,2,  34.6839,2,    116.1,2,   115.6,2,   94.63,2,   35.72,2,    0.00,2,    2.60,2,-999.000,9,-999.000,9,-999.000,9,  -999.0,9,  -999.0,9,-999.0000,9,-999.0000,9, -999.00,9, -999.00,9,  -999.0,9,  -999.0,-999.000,9,-999.000,-999.000,9,-999.0000,   3.9987,-999.0000,-999.000
  316N145_8,        I03,     490,          1,         16,         16,2,19950509,       0654,   -19.9987,    85.9318,       4377,  1514.2,   3.5755,  34.6999,2,  34.6998,2,    125.0,2,   125.7,2,   99.80,2,   35.39,2,    0.00,2,    2.58,2,-999.000,9,-999.000,9,-999.000,9,  -999.0,9,  -999.0,9,-999.0000,9,   1.8665,2,   12.76,2, -999.00,9,  -999.0,9,  -999.0,   7.974,2,   0.040,-999.000,9,   0.0093,   3.4596,-999.0000,    0.14
  316N145_8,        I03,     490,          1,         15,         15,2,19950509,       0654,   -19.9987,    85.9318,       4377,  1715.4,   3.1310,  34.7114,2,  34.7122,2,    135.0,2,   135.0,2,  104.35,2,   34.95,2,    0.00,2,    2.54,2,   0.001,2,   0.001,2,-999.000,9,  -999.0,9,  -999.0,9,-999.0000,9,   1.8705,2,   13.16,2, -999.00,9,  -999.0,9,  -999.0,   8.004,2,   0.040,-999.000,9,   0.0094,   3.0028,-999.0000,    0.14
  316N145_8,        I03,     490,          1,         14,         14,2,19950509,       0654,   -19.9987,    85.9318,       4377,  1917.4,   2.7618,  34.7231,2,  34.7230,2,    143.8,2,   144.0,2,  109.13,2,   34.66,2,    0.00,2,    2.50,2,-999.000,9,-999.000,9,-999.000,9,  -999.0,9,  -999.0,9,-999.0000,9,-999.0000,9, -999.00,9, -999.00,9,  -999.0,9,  -999.0,-999.000,9,-999.000,-999.000,9,-999.0000,   2.6208,-999.0000,-999.000
  316N145_8,        I03,     490,          1,         13,         13,2,19950509,       0654,   -19.9987,    85.9318,       4377,  2122.1,   2.4254,  34.7246,2,  34.7248,2,    154.6,2,   154.3,2,  111.53,2,   34.17,2,    0.00,2,    2.44,2,-999.000,9,-999.000,9,-999.000,9,  -999.0,9,  -999.0,9,-999.0000,9,   1.8830,2,   14.58,2, -999.00,9,  -999.0,9,  -999.0,   8.046,2,   0.053,-999.000,9,   0.0050,   2.2715,-999.0000,    0.15
  316N145_8,        I03,     490,          1,         12,         12,2,19950509,       0654,   -19.9987,    85.9318,       4377,  2324.2,   2.1628,  34.7258,2,  34.7275,2,    163.9,2,   162.8,2,  112.84,2,   33.63,2,    0.00,2,    2.39,2,-999.000,9,-999.000,9,-999.000,9,  -999.0,9,  -999.0,9,-999.0000,9,-999.0000,9, -999.00,9, -999.00,9,  -999.0,9,  -999.0,-999.000,9,-999.000,-999.000,9,-999.0000,   1.9952,-999.0000,-999.000
  316N145_8,        I03,     490,          1,         11,         11,2,19950509,       0654,   -19.9987,    85.9318,       4377,  2528.4,   1.9492,  34.7257,2,  34.7263,2,    171.9,2,   172.0,2,  113.93,2,   33.19,2,    0.00,2,    2.34,2,   0.001,2,   0.000,2,-999.000,9,  -999.0,9,  -999.0,9,-999.0000,9,   1.8950,2,   15.50,2, -999.00,9,  -999.0,9,  -999.0,   8.128,2,   0.024,-999.000,9,   0.0030,   1.7669,-999.0000,    0.10
  316N145_8,        I03,     490,          1,         10,         10,2,19950509,       0654,   -19.9987,    85.9318,       4377,  2730.9,   1.7984,  34.7268,2,  34.7271,2,    176.4,2,   176.2,2,  116.34,2,   33.00,2,    0.00,2,    2.30,2,-999.000,9,-999.000,9,-999.000,9,  -999.0,9,  -999.0,9,-999.0000,9,   1.9000,2,   14.82,2, -999.00,9,  -999.0,9,  -999.0,   8.108,2,   0.043,-999.000,9,   0.0070,   1.6005,-999.0000,    0.14
  316N145_8,        I03,     490,          1,          9,          9,2,19950509,       0654,   -19.9987,    85.9318,       4377,  2934.8,   1.6877,  34.7266,2,  34.7265,2,    176.4,2,   176.7,2,  120.30,2,   33.16,2,    0.00,2,    2.31,2,-999.000,9,-999.000,9,-999.000,9,  -999.0,9,  -999.0,9,-999.0000,9,   1.9980,3,   14.03,2, -999.00,9,  -999.0,9,  -999.0,   8.346,3,   0.025,-999.000,9,   0.0030,   1.4728,-999.0000,    0.10
  316N145_8,        I03,     490,          1,          8,          8,2,19950509,       0654,   -19.9987,    85.9318,       4377,  3137.2,   1.6036,  34.7251,2,  34.7249,2,    177.1,2,   177.9,2,  123.39,2,   33.28,2,    0.00,2,    2.32,2,-999.000,9,-999.000,9,-999.000,9,  -999.0,9,  -999.0,9,-999.0000,9,   1.8800,2,   13.50,2, -999.00,9,  -999.0,9,  -999.0,   8.044,2,   0.050,-999.000,9,   0.0050,   1.3710,-999.0000,    0.15
  316N145_8,        I03,     490,          1,          7,          7,2,19950509,       0654,   -19.9987,    85.9318,       4377,  3340.9,   1.5128,  34.7240,2,  34.7235,2,    178.9,2,   179.5,2,  125.61,2,   33.24,2,    0.00,2,    2.32,2,-999.000,9,-999.000,9,-999.000,9,  -999.0,9,  -999.0,9,-999.0000,9,   1.9040,2,   12.85,2, -999.00,9,  -999.0,9,  -999.0,   8.179,2,   0.024,-999.000,9,   0.0030,   1.2622,-999.0000,    0.10
  316N145_8,        I03,     490,          1,          6,          6,2,19950509,       0654,   -19.9987,    85.9318,       4377,  3543.7,   1.4397,  34.7226,2,  34.7216,2,    181.8,2,   181.7,2,  127.16,2,   33.25,2,    0.00,2,    2.30,2,   0.000,2,  -0.001,2,-999.000,9,  -999.0,9,  -999.0,9,-999.0000,9,   1.8980,2,   12.17,2, -999.00,9,  -999.0,9,  -999.0,   8.095,2,   0.055,-999.000,9,   0.0120,   1.1704,-999.0000,    0.15
  316N145_8,        I03,     490,          1,          5,          5,2,19950509,       0654,   -19.9987,    85.9318,       4377,  3747.4,   1.3831,  34.7206,2,  34.7196,2,    183.4,2,   183.6,2,  128.72,2,   33.26,2,    0.00,2,    2.30,2,-999.000,9,-999.000,9,-999.000,9,  -999.0,9,  -999.0,9,-999.0000,9,   1.9120,2,   11.98,2, -999.00,9,  -999.0,9,  -999.0,   8.227,2,   0.025,-999.000,9,   0.0030,   1.0941,-999.0000,    0.10
  316N145_8,        I03,     490,          1,          4,          4,2,19950509,       0654,   -19.9987,    85.9318,       4377,  3950.7,   1.3679,  34.7198,2,  34.7184,2,    184.5,2,   185.4,2,  128.71,2,   33.18,2,    0.00,2,    2.30,2,-999.000,9,-999.000,9,-999.000,9,  -999.0,9,  -999.0,9,-999.0000,9,   1.9110,2,   11.25,2, -999.00,9,  -999.0,9,  -999.0,   8.192,2,   0.050,-999.000,9,   0.0100,   1.0578,-999.0000,    0.15
  316N145_8,        I03,     490,          1,          3,          3,2,19950509,       0654,   -19.9987,    85.9318,       4377,  4150.9,   1.3518,  34.7178,2,  34.7206,3,    183.6,2,   183.8,2,  129.83,2,   33.09,2,    0.00,2,    2.31,2,-999.000,9,-999.000,9,-999.000,9,  -999.0,9,  -999.0,9,-999.0000,9,   1.8940,2,   11.66,2, -999.00,9,  -999.0,9,  -999.0,   8.201,2,   0.024,-999.000,9,   0.0030,   1.0204,-999.0000,    0.10
  316N145_8,        I03,     490,          1,          2,          2,2,19950509,       0654,   -19.9987,    85.9318,       4377,  4300.5,   1.3493,  34.7172,2,  34.7168,2,    184.5,2,   183.8,2,  131.84,2,   33.40,2,    0.00,2,    2.31,2,-999.000,9,-999.000,9,-999.000,9,  -999.0,9,  -999.0,9,-999.0000,9,   1.8220,3,   11.43,2, -999.00,9,  -999.0,9,  -999.0,   7.859,3,   0.041,-999.000,9,   0.0040,   1.0014,-999.0000,    0.14
  316N145_8,        I03,     490,          1,          1,          1,2,19950509,       0654,   -19.9987,    85.9318,       4377,  4432.2,   1.3588,  34.7174,2,  34.7182,2,    184.3,2,   184.7,2,  131.83,2,   33.37,2,    0.00,2,    2.32,2,   0.000,2,   0.000,2,-999.000,9,  -999.0,9,  -999.0,9,-999.0000,9,-999.0000,9, -999.00,9, -999.00,9,  -999.0,9,  -999.0,-999.000,9,-999.000,-999.000,9,-999.0000,   0.9957,-999.0000,-999.000