BOTTLE,20140514CCHSIOSE
EXPOCODE,SECT_ID,STNNBR,CASTNO,SAMPNO,BTLNBR,BTLNBR_FLAG_W,DATE,TIME,LATITUDE,LONGITUDE,DEPTH,CTDPRS,CTDTMP,CTDSAL,CTDSAL_FLAG_W,SALNTY,SALNTY_FLAG_W,CTDOXY,CTDOXY_FLAG_W,OXYGEN,OXYGEN_FLAG_W,SILCAT,SILCAT_FLAG_W,NITRAT,NITRAT_FLAG_W,NITRIT,NITRIT_FLAG_W,PHSPHT,PHSPHT_FLAG_W,CFC-11,CFC-11_FLAG_W,CFC-12,CFC-12_FLAG_W,CFC113,CFC113_FLAG_W,TCARBN,TCARBN_FLAG_W,ALKALI,ALKALI_FLAG_W,TRITUM,TRITUM_FLAG_W,HELIUM,HELIUM_FLAG_W,DELHE3,DELHE3_FLAG_W,DELC13,DELC13_FLAG_W,DELC14,DELC14_FLAG_W,C14ERR,NEON,NEON_FLAG_W,NEONER,CCL4,CCL4_FLAG_W,HELIER,THETA,TRITER,DELHER
,,,,,,,,,,,METERS,DBAR,ITS-90,PSS-78,,PSS-78,,UMOL/KG,,UMOL/KG,,UMOL/KG,,UMOL/KG,,UMOL/KG,,UMOL/KG,,PMOL/KG,,PMOL/KG,,PMOL/KG,,UMOL/KG,,UMOL/KG,,TU,,NMOL/KG,,PERCNT,,/MILLE,,/MILLE,,/MILLE,NMOL/KG,,NMOL/KG,PMOL/KG,,NMOL/KG,DEG C,TU,PERCNT
  316N145_8,        I03,     542,          1,         31,         31,2,19950524,       2047,   -19.9995,    57.2842,       3385,     7.0,  25.2688,  35.1503,2,  35.1527,2,    206.6,2,   207.9,2,    3.34,2,    0.09,2,    0.00,2,    0.13,2,-999.000,9,-999.000,9,-999.000,9,  -999.0,9,  -999.0,9,-999.0000,9,-999.0000,9, -999.00,9, -999.00,9,  -999.0,9,  -999.0,-999.000,9,-999.000,-999.000,9,-999.0000,  25.2673,-999.0000,-999.000
  316N145_8,        I03,     542,          1,         30,         30,2,19950524,       2047,   -19.9995,    57.2842,       3385,    54.5,  25.2142,  35.1653,2,  35.1744,2,    208.7,2,   208.3,2,    3.32,2,    0.09,2,    0.00,2,    0.13,2,-999.000,9,-999.000,9,-999.000,9,  -999.0,9,  -999.0,9,-999.0000,9,-999.0000,9, -999.00,9, -999.00,9,  -999.0,9,  -999.0,-999.000,9,-999.000,-999.000,9,-999.0000,  25.2023,-999.0000,-999.000
  316N145_8,        I03,     542,          1,         29,         29,2,19950524,       2047,   -19.9995,    57.2842,       3385,   104.4,  24.0687,  35.2575,2,  35.2570,2,    209.8,2,   211.0,2,    3.30,2,    0.17,2,    0.01,2,    0.14,2,-999.000,9,-999.000,9,-999.000,9,  -999.0,9,  -999.0,9,-999.0000,9,-999.0000,9, -999.00,9, -999.00,9,  -999.0,9,  -999.0,-999.000,9,-999.000,-999.000,9,-999.0000,  24.0467,-999.0000,-999.000
  316N145_8,        I03,     542,          1,         28,         28,2,19950524,       2047,   -19.9995,    57.2842,       3385,   154.5,  20.6593,  35.4859,2,  35.4847,2,    186.0,2,   184.7,2,    4.93,2,    3.24,2,    0.02,2,    0.36,2,-999.000,9,-999.000,9,-999.000,9,  -999.0,9,  -999.0,9,-999.0000,9,-999.0000,9, -999.00,9, -999.00,9,  -999.0,9,  -999.0,-999.000,9,-999.000,-999.000,9,-999.0000,  20.6301,-999.0000,-999.000
  316N145_8,        I03,     542,          1,         27,         27,2,19950524,       2047,   -19.9995,    57.2842,       3385,   205.2,  19.4707,  35.5503,2,  35.5530,2,    181.6,2,   180.7,2,    5.73,2,    4.45,2,    0.01,2,    0.44,2,-999.000,9,-999.000,9,-999.000,9,  -999.0,9,  -999.0,9,-999.0000,9,-999.0000,9, -999.00,9, -999.00,9,  -999.0,9,  -999.0,-999.000,9,-999.000,-999.000,9,-999.0000,  19.4333,-999.0000,-999.000
  316N145_8,        I03,     542,          1,         26,         26,2,19950524,       2047,   -19.9995,    57.2842,       3385,   254.9,  17.8871,  35.6050,2,  35.6052,2,    186.3,2,   184.1,2,    6.32,2,    5.22,2,    0.00,2,    0.50,2,-999.000,9,-999.000,9,-999.000,9,  -999.0,9,  -999.0,9,-999.0000,9,-999.0000,9, -999.00,9, -999.00,9,  -999.0,9,  -999.0,-999.000,9,-999.000,-999.000,9,-999.0000,  17.8433,-999.0000,-999.000
  316N145_8,        I03,     542,          1,         25,         25,2,19950524,       2047,   -19.9995,    57.2842,       3385,   305.4,  16.6887,  35.5812,2,  35.5747,2,    191.3,2,   193.8,2,    5.69,2,    5.42,2,    0.00,2,    0.52,2,-999.000,9,-999.000,9,-999.000,9,  -999.0,9,  -999.0,9,-999.0000,9,-999.0000,9, -999.00,9, -999.00,9,  -999.0,9,  -999.0,-999.000,9,-999.000,-999.000,9,-999.0000,  16.6385,-999.0000,-999.000
  316N145_8,        I03,     542,          1,         24,         24,2,19950524,       2047,   -19.9995,    57.2842,       3385,   355.9,  14.6530,  35.4198,2,  35.4209,2,    208.3,2,   207.8,2,    5.26,2,    6.81,2,    0.00,2,    0.61,2,-999.000,9,-999.000,9,-999.000,9,  -999.0,9,  -999.0,9,-999.0000,9,-999.0000,9, -999.00,9, -999.00,9,  -999.0,9,  -999.0,-999.000,9,-999.000,-999.000,9,-999.0000,  14.5995,-999.0000,-999.000
  316N145_8,        I03,     542,          1,         23,         23,2,19950524,       2047,   -19.9995,    57.2842,       3385,   405.0,  13.5568,  35.2920,2,  35.2831,2,    213.7,2,   217.2,2,    4.83,2,    8.21,2,    0.00,2,    0.69,2,-999.000,9,-999.000,9,-999.000,9,  -999.0,9,  -999.0,9,-999.0000,9,-999.0000,9, -999.00,9, -999.00,9,  -999.0,9,  -999.0,-999.000,9,-999.000,-999.000,9,-999.0000,  13.4989,-999.0000,-999.000
  316N145_8,        I03,     542,          1,         22,         22,2,19950524,       2047,   -19.9995,    57.2842,       3385,   455.4,  12.5552,  35.1595,2,  35.1569,2,    222.8,2,   227.5,4,    4.81,2,    9.65,2,    0.00,2,    0.77,2,-999.000,9,-999.000,9,-999.000,9,  -999.0,9,  -999.0,9,-999.0000,9,-999.0000,9, -999.00,9, -999.00,9,  -999.0,9,  -999.0,-999.000,9,-999.000,-999.000,9,-999.0000,  12.4933,-999.0000,-999.000
  316N145_8,        I03,     542,          1,         21,         21,2,19950524,       2047,   -19.9995,    57.2842,       3385,   505.6,  11.9346,  35.0710,2,  35.0662,2,    224.7,2,   226.5,2,    4.79,2,   10.81,2,    0.00,2,    0.83,2,-999.000,9,-999.000,9,-999.000,9,  -999.0,9,  -999.0,9,-999.0000,9,-999.0000,9, -999.00,9, -999.00,9,  -999.0,9,  -999.0,-999.000,9,-999.000,-999.000,9,-999.0000,  11.8680,-999.0000,-999.000
  316N145_8,        I03,     542,          1,         20,         20,2,19950524,       2047,   -19.9995,    57.2842,       3385,   605.6,  10.2598,  34.8296,2,  34.8321,2,    224.1,2,   225.5,2,    6.21,2,   14.67,2,    0.00,2,    1.06,2,-999.000,9,-999.000,9,-999.000,9,  -999.0,9,  -999.0,9,-999.0000,9,-999.0000,9, -999.00,9, -999.00,9,  -999.0,9,  -999.0,-999.000,9,-999.000,-999.000,9,-999.0000,  10.1870,-999.0000,-999.000
  316N145_8,        I03,     542,          1,         19,         19,2,19950524,       2047,   -19.9995,    57.2842,       3385,   706.2,   8.5103,  34.6482,2,  34.6546,2,    201.7,2,   201.5,2,   15.00,2,   20.95,2,    0.00,2,    1.45,2,-999.000,9,-999.000,9,-999.000,9,  -999.0,9,  -999.0,9,-999.0000,9,-999.0000,9, -999.00,9, -999.00,9,  -999.0,9,  -999.0,-999.000,9,-999.000,-999.000,9,-999.0000,   8.4342,-999.0000,-999.000
  316N145_8,        I03,     542,          1,         18,         18,2,19950524,       2047,   -19.9995,    57.2842,       3385,   806.5,   6.6807,  34.5181,2,  34.5173,2,    189.8,2,   188.2,2,   26.26,2,   26.39,2,    0.00,2,    1.81,2,   0.587,2,   0.293,2,-999.000,9,  -999.0,9,  -999.0,9,-999.0000,9,-999.0000,9, -999.00,9, -999.00,9,  -999.0,9,  -999.0,-999.000,9,-999.000,-999.000,9,-999.0000,   6.6044,-999.0000,-999.000
  316N145_8,        I03,     542,          1,         17,         17,2,19950524,       2047,   -19.9995,    57.2842,       3385,   908.2,   5.4060,  34.5602,2,  34.5611,2,    151.7,2,   143.1,2,   57.40,2,   32.35,2,    0.00,2,    2.27,2,   0.117,2,   0.059,2,-999.000,9,  -999.0,9,  -999.0,9,-999.0000,9,-999.0000,9, -999.00,9, -999.00,9,  -999.0,9,  -999.0,-999.000,9,-999.000,-999.000,9,-999.0000,   5.3281,-999.0000,-999.000
  316N145_8,        I03,     542,          1,         16,         16,2,19950524,       2047,   -19.9995,    57.2842,       3385,  1008.5,   4.8109,  34.6069,2,  34.6075,2,    132.9,2,   130.7,2,   71.77,2,   33.88,2,    0.00,2,    2.38,2,   0.053,2,   0.023,2,-999.000,9,  -999.0,9,  -999.0,9,-999.0000,9,-999.0000,9, -999.00,9, -999.00,9,  -999.0,9,  -999.0,-999.000,9,-999.000,-999.000,9,-999.0000,   4.7281,-999.0000,-999.000
  316N145_8,        I03,     542,          1,         15,         15,2,19950524,       2047,   -19.9995,    57.2842,       3385,  1109.3,   4.3662,  34.6322,2,  34.6323,2,    131.5,2,   131.0,2,   79.17,2,   34.29,2,    0.00,2,    2.41,2,   0.025,2,   0.010,2,-999.000,9,  -999.0,9,  -999.0,9,-999.0000,9,-999.0000,9, -999.00,9, -999.00,9,  -999.0,9,  -999.0,-999.000,9,-999.000,-999.000,9,-999.0000,   4.2780,-999.0000,-999.000
  316N145_8,        I03,     542,          1,         14,         14,2,19950524,       2047,   -19.9995,    57.2842,       3385,  1209.7,   4.0897,  34.6414,2,  34.6429,2,    133.3,2,   133.4,2,   82.66,2,   34.29,2,    0.00,2,    2.41,2,   0.022,2,   0.003,2,-999.000,9,  -999.0,9,  -999.0,9,-999.0000,9,-999.0000,9, -999.00,9, -999.00,9,  -999.0,9,  -999.0,-999.000,9,-999.000,-999.000,9,-999.0000,   3.9952,-999.0000,-999.000
  316N145_8,        I03,     542,          1,         13,         13,2,19950524,       2047,   -19.9995,    57.2842,       3385,  1311.2,   3.7049,  34.6552,2,  34.6546,2,    140.0,2,   139.6,2,   85.94,2,   34.10,2,    0.00,2,    2.41,2,   0.012,2,   0.006,2,-999.000,9,  -999.0,9,  -999.0,9,-999.0000,9,-999.0000,9, -999.00,9, -999.00,9,  -999.0,9,  -999.0,-999.000,9,-999.000,-999.000,9,-999.0000,   3.6052,-999.0000,-999.000
  316N145_8,        I03,     542,          1,         12,         12,2,19950524,       2047,   -19.9995,    57.2842,       3385,  1411.2,   3.3427,  34.6638,2,  34.6638,2,    145.7,2,   146.6,2,   89.02,2,   33.86,2,    0.00,2,    2.37,2,   0.012,2,   0.003,2,-999.000,9,  -999.0,9,  -999.0,9,-999.0000,9,-999.0000,9, -999.00,9, -999.00,9,  -999.0,9,  -999.0,-999.000,9,-999.000,-999.000,9,-999.0000,   3.2383,-999.0000,-999.000
  316N145_8,        I03,     542,          1,         11,         11,2,19950524,       2047,   -19.9995,    57.2842,       3385,  1513.2,   3.1315,  34.6720,2,  34.6723,2,    150.2,2,   151.0,2,   91.48,2,   33.67,2,    0.00,2,    2.36,2,-999.000,9,-999.000,9,-999.000,9,  -999.0,9,  -999.0,9,-999.0000,9,-999.0000,9, -999.00,9, -999.00,9,  -999.0,9,  -999.0,-999.000,9,-999.000,-999.000,9,-999.0000,   3.0208,-999.0000,-999.000
  316N145_8,        I03,     542,          1,         10,         10,2,19950524,       2047,   -19.9995,    57.2842,       3385,  1614.4,   2.8538,  34.6854,2,  34.6847,2,    156.0,2,   156.1,2,   94.78,2,   33.43,2,    0.00,2,    2.34,2,-999.000,9,-999.000,9,-999.000,9,  -999.0,9,  -999.0,9,-999.0000,9,-999.0000,9, -999.00,9, -999.00,9,  -999.0,9,  -999.0,-999.000,9,-999.000,-999.000,9,-999.0000,   2.7379,-999.0000,-999.000
  316N145_8,        I03,     542,          1,          9,          9,2,19950524,       2047,   -19.9995,    57.2842,       3385,  1816.6,   2.4732,  34.7104,2,  34.7106,2,    160.4,2,   160.6,2,  103.95,2,   33.29,2,    0.00,2,    2.32,2,-999.000,9,-999.000,9,-999.000,9,  -999.0,9,  -999.0,9,-999.0000,9,-999.0000,9, -999.00,9, -999.00,9,  -999.0,9,  -999.0,-999.000,9,-999.000,-999.000,9,-999.0000,   2.3451,-999.0000,-999.000
  316N145_8,        I03,     542,          1,          8,          8,2,19950524,       2047,   -19.9995,    57.2842,       3385,  2018.9,   2.2066,  34.7211,2,  34.7213,2,    162.1,2,   163.1,2,  111.30,2,   33.39,2,    0.00,2,    2.32,2,-999.000,9,-999.000,9,-999.000,9,  -999.0,9,  -999.0,9,-999.0000,9,-999.0000,9, -999.00,9, -999.00,9,  -999.0,9,  -999.0,-999.000,9,-999.000,-999.000,9,-999.0000,   2.0651,-999.0000,-999.000
  316N145_8,        I03,     542,          1,          7,          7,2,19950524,       2047,   -19.9995,    57.2842,       3385,  2220.8,   2.0278,  34.7244,2,  34.7255,2,    165.1,2,   165.7,2,  115.51,2,   33.40,2,    0.00,2,    2.32,2,-999.000,9,-999.000,9,-999.000,9,  -999.0,9,  -999.0,9,-999.0000,9,-999.0000,9, -999.00,9, -999.00,9,  -999.0,9,  -999.0,-999.000,9,-999.000,-999.000,9,-999.0000,   1.8717,-999.0000,-999.000
  316N145_8,        I03,     542,          1,          6,          6,2,19950524,       2047,   -19.9995,    57.2842,       3385,  2423.3,   1.9302,  34.7270,2,  34.7272,2,    166.9,2,   166.8,2,  118.67,2,   33.50,2,    0.00,2,    2.34,2,-999.000,9,-999.000,9,-999.000,9,  -999.0,9,  -999.0,9,-999.0000,9,-999.0000,9, -999.00,9, -999.00,9,  -999.0,9,  -999.0,-999.000,9,-999.000,-999.000,9,-999.0000,   1.7578,-999.0000,-999.000
  316N145_8,        I03,     542,          1,          5,          5,2,19950524,       2047,   -19.9995,    57.2842,       3385,  2627.0,   1.8300,  34.7304,2,  34.7292,2,    167.1,2,   167.0,2,  122.71,2,   33.61,2,    0.00,2,    2.34,2,-999.000,9,-999.000,9,-999.000,9,  -999.0,9,  -999.0,9,-999.0000,9,-999.0000,9, -999.00,9, -999.00,9,  -999.0,9,  -999.0,-999.000,9,-999.000,-999.000,9,-999.0000,   1.6410,-999.0000,-999.000
  316N145_8,        I03,     542,          1,          4,          4,2,19950524,       2047,   -19.9995,    57.2842,       3385,  2829.7,   1.7983,  34.7318,2,  34.7319,2,    166.2,2,   166.0,2,  125.04,2,   33.77,2,    0.00,2,    2.35,2,-999.000,9,-999.000,9,-999.000,9,  -999.0,9,  -999.0,9,-999.0000,9,-999.0000,9, -999.00,9, -999.00,9,  -999.0,9,  -999.0,-999.000,9,-999.000,-999.000,9,-999.0000,   1.5910,-999.0000,-999.000
  316N145_8,        I03,     542,          1,          3,          3,2,19950524,       2047,   -19.9995,    57.2842,       3385,  3032.4,   1.7145,  34.7313,2,  34.7306,2,    168.2,2,   167.9,2,  127.16,2,   33.57,3,    0.00,2,    2.38,3,-999.000,9,-999.000,9,-999.000,9,  -999.0,9,  -999.0,9,-999.0000,9,-999.0000,9, -999.00,9, -999.00,9,  -999.0,9,  -999.0,-999.000,9,-999.000,-999.000,9,-999.0000,   1.4896,-999.0000,-999.000
  316N145_8,        I03,     542,          1,          2,          2,2,19950524,       2047,   -19.9995,    57.2842,       3385,  3236.3,   1.6696,  34.7308,2,  34.7302,2,    169.5,2,   169.8,2,  127.99,2,   33.78,2,    0.00,2,    2.35,2,-999.000,9,-999.000,9,-999.000,9,  -999.0,9,  -999.0,9,-999.0000,9,-999.0000,9, -999.00,9, -999.00,9,  -999.0,9,  -999.0,-999.000,9,-999.000,-999.000,9,-999.0000,   1.4257,-999.0000,-999.000
  316N145_8,        I03,     542,          1,          1,          1,2,19950524,       2047,   -19.9995,    57.2842,       3385,  3452.6,   1.6204,  34.7287,2,  34.7278,2,    171.9,2,   171.9,2,  128.39,2,   33.69,2,    0.00,2,    2.35,2,-999.000,9,-999.000,9,-999.000,9,  -999.0,9,  -999.0,9,-999.0000,9,-999.0000,9, -999.00,9, -999.00,9,  -999.0,9,  -999.0,-999.000,9,-999.000,-999.000,9,-999.0000,   1.3559,-999.0000,-999.000