BOTTLE,20140514CCHSIOSE
EXPOCODE,SECT_ID,STNNBR,CASTNO,SAMPNO,BTLNBR,BTLNBR_FLAG_W,DATE,TIME,LATITUDE,LONGITUDE,DEPTH,CTDPRS,CTDTMP,CTDSAL,CTDSAL_FLAG_W,SALNTY,SALNTY_FLAG_W,CTDOXY,CTDOXY_FLAG_W,OXYGEN,OXYGEN_FLAG_W,SILCAT,SILCAT_FLAG_W,NITRAT,NITRAT_FLAG_W,NITRIT,NITRIT_FLAG_W,PHSPHT,PHSPHT_FLAG_W,CFC-11,CFC-11_FLAG_W,CFC-12,CFC-12_FLAG_W,CFC113,CFC113_FLAG_W,TCARBN,TCARBN_FLAG_W,ALKALI,ALKALI_FLAG_W,TRITUM,TRITUM_FLAG_W,HELIUM,HELIUM_FLAG_W,DELHE3,DELHE3_FLAG_W,DELC13,DELC13_FLAG_W,DELC14,DELC14_FLAG_W,C14ERR,NEON,NEON_FLAG_W,NEONER,CCL4,CCL4_FLAG_W,HELIER,THETA,TRITER,DELHER
,,,,,,,,,,,METERS,DBAR,ITS-90,PSS-78,,PSS-78,,UMOL/KG,,UMOL/KG,,UMOL/KG,,UMOL/KG,,UMOL/KG,,UMOL/KG,,PMOL/KG,,PMOL/KG,,PMOL/KG,,UMOL/KG,,UMOL/KG,,TU,,NMOL/KG,,PERCNT,,/MILLE,,/MILLE,,/MILLE,NMOL/KG,,NMOL/KG,PMOL/KG,,NMOL/KG,DEG C,TU,PERCNT
  316N145_8,        I03,     456,          1,         36,         36,2,19950428,       1557,   -20.6338,   108.7988,       5032,     6.7,  27.0138,  35.2866,2,-999.0000,9,    205.1,2,   205.7,2, -999.00,9, -999.00,9, -999.00,9, -999.00,9,   1.760,2,   1.007,2,-999.000,9,  1961.1,2,  2311.0,2,-999.0000,9,-999.0000,9, -999.00,9, -999.00,9,  -999.0,9,  -999.0,-999.000,9,-999.000,-999.000,9,-999.0000,  27.0122,-999.0000,-999.000
  316N145_8,        I03,     456,          1,         35,         35,2,19950428,       1557,   -20.6338,   108.7988,       5032,    56.7,  24.4098,  35.2171,2,  35.2253,2,    220.6,2,   218.6,2,    4.56,2,    0.11,2,    0.00,2,    0.11,2,   1.951,2,   1.100,2,   0.362,3,  1978.3,2,  2308.0,2,-999.0000,9,-999.0000,9, -999.00,9, -999.00,9,  -999.0,9,  -999.0,-999.000,9,-999.000,   1.206,2,-999.0000,  24.3977,-999.0000,-999.000
  316N145_8,        I03,     456,          1,         34,         34,2,19950428,       1557,   -20.6338,   108.7988,       5032,   106.6,  20.9457,  35.6012,2,  35.5922,2,    187.9,2,   189.3,2,    4.96,2,    1.91,2,    0.04,2,    0.26,2,   2.165,2,   1.191,2,-999.000,9,  2035.3,3,  -999.0,5,-999.0000,9,-999.0000,9, -999.00,9, -999.00,9,  -999.0,9,  -999.0,-999.000,9,-999.000,-999.000,9,-999.0000,  20.9253,-999.0000,-999.000
  316N145_8,        I03,     456,          1,         33,         33,2,19950428,       1557,   -20.6338,   108.7988,       5032,   156.7,  19.6910,  35.8250,2,  35.8283,2,    197.2,2,   201.7,2,    3.88,2,    1.56,2,    0.03,2,    0.23,2,   2.315,2,   1.258,2,-999.000,9,  2051.4,2,  2348.0,2,-999.0000,9,-999.0000,9, -999.00,9, -999.00,9,  -999.0,9,  -999.0,-999.000,9,-999.000,-999.000,9,-999.0000,  19.6622,-999.0000,-999.000
  316N145_8,        I03,     456,          1,         32,         32,2,19950428,       1557,   -20.6338,   108.7988,       5032,   207.4,  17.2725,  35.7111,2,  35.7112,2,    193.4,2,   193.0,2,    6.21,2,    4.78,2,    0.01,2,    0.44,2,   2.376,2,   1.267,2,-999.000,9,  2081.5,2,  2346.0,2,-999.0000,9,-999.0000,9, -999.00,9, -999.00,9,  -999.0,9,  -999.0,-999.000,9,-999.000,-999.000,9,-999.0000,  17.2377,-999.0000,-999.000
  316N145_8,        I03,     456,          1,         31,         31,2,19950428,       1557,   -20.6338,   108.7988,       5032,   258.4,  15.7460,  35.6669,2,  35.6627,2,    215.6,2,   214.1,2,    3.20,2,    3.71,2,    0.01,2,    0.39,2,   2.740,2,   1.447,2,   0.110,3,  2084.2,2,  2342.0,2,-999.0000,9,-999.0000,9, -999.00,9, -999.00,9,  -999.0,9,  -999.0,-999.000,9,-999.000,   0.848,2,-999.0000,  15.7052,-999.0000,-999.000
  316N145_8,        I03,     456,          1,         30,         30,2,19950428,       1557,   -20.6338,   108.7988,       5032,   307.6,  14.0969,  35.4534,2,  35.4305,2,    224.2,2,   223.4,2,    2.97,2,    5.60,2,    0.01,2,    0.50,2,   2.949,2,   1.529,2,-999.000,9,  2091.6,2,  2330.0,2,-999.0000,9,-999.0000,9, -999.00,9, -999.00,9,  -999.0,9,  -999.0,-999.000,9,-999.000,-999.000,9,-999.0000,  14.0519,-999.0000,-999.000
  316N145_8,        I03,     456,          1,         29,         29,2,19950428,       1557,   -20.6338,   108.7988,       5032,   358.0,  12.1126,  35.1427,2,  35.1229,2,    230.3,2,   234.6,2,    2.95,2,    8.66,2,    0.01,2,    0.69,2,   3.218,2,   1.634,2,-999.000,9,  2101.7,2,  2305.0,2,-999.0000,9,-999.0000,9, -999.00,9, -999.00,9,  -999.0,9,  -999.0,-999.000,9,-999.000,-999.000,9,-999.0000,  12.0653,-999.0000,-999.000
  316N145_8,        I03,     456,          1,         28,         28,2,19950428,       1557,   -20.6338,   108.7988,       5032,   407.8,  10.7948,  34.9262,2,  34.9276,2,    234.1,2,   238.3,2,    3.79,2,   11.56,2,    0.01,2,    0.86,2,   3.257,2,   1.641,2,   0.315,3,  2104.3,2,  2310.0,2,-999.0000,9,-999.0000,9, -999.00,9, -999.00,9,  -999.0,9,  -999.0,-999.000,9,-999.000,   1.756,2,-999.0000,  10.7447,-999.0000,-999.000
  316N145_8,        I03,     456,          1,         27,         27,2,19950428,       1557,   -20.6338,   108.7988,       5032,   508.2,   9.1909,  34.6759,2,  34.6748,2,    223.0,2,   230.9,2,    6.54,2,   17.32,2,    0.00,2,    1.21,2,   2.740,2,   1.347,2,-999.000,9,  2118.8,2,  2296.0,2,-999.0000,9,-999.0000,9, -999.00,9, -999.00,9,  -999.0,9,  -999.0,-999.000,9,-999.000,-999.000,9,-999.0000,   9.1342,-999.0000,-999.000
  316N145_8,        I03,     456,          1,         26,         26,2,19950428,       1557,   -20.6338,   108.7988,       5032,   608.4,   7.5234,  34.5638,2,  34.5644,2,    176.1,2,   176.6,2,   26.98,2,   25.88,2,    0.00,2,    1.79,2,   1.032,2,   0.517,2,   0.106,3,  2174.2,2,  2310.0,2,-999.0000,9,-999.0000,9, -999.00,9, -999.00,9,  -999.0,9,  -999.0,-999.000,9,-999.000,   0.955,2,-999.0000,   7.4628,-999.0000,-999.000
  316N145_8,        I03,     456,          1,         25,         25,2,19950428,       1557,   -20.6338,   108.7988,       5032,   709.4,   6.2550,  34.5617,2,  34.5612,2,    132.6,2,   130.3,2,   54.87,2,   32.22,2,    0.00,2,    2.29,2,   0.192,2,   0.099,2,-999.000,9,  2228.4,2,  2336.0,2,-999.0000,9,-999.0000,9, -999.00,9, -999.00,9,  -999.0,9,  -999.0,-999.000,9,-999.000,-999.000,9,-999.0000,   6.1906,-999.0000,-999.000
  316N145_8,        I03,     456,          1,         24,         24,2,19950428,       1557,   -20.6338,   108.7988,       5032,   810.0,   5.7603,  34.6077,2,  34.6086,2,    105.0,2,   103.1,2,   74.04,2,   35.03,2,    0.00,2,    2.54,2,   0.040,2,   0.016,2,-999.000,9,  2258.6,2,  2348.0,2,-999.0000,9,-999.0000,9, -999.00,9, -999.00,9,  -999.0,9,  -999.0,-999.000,9,-999.000,-999.000,9,-999.0000,   5.6891,-999.0000,-999.000
  316N145_8,        I03,     456,          1,         23,         23,2,19950428,       1557,   -20.6338,   108.7988,       5032,   909.5,   5.3234,  34.6246,2,  34.6265,2,     97.5,2,    96.7,2,   85.12,2,   35.91,2,    0.00,2,    2.62,2,   0.014,2,   0.005,2,-999.000,9,  2275.3,3,  -999.0,5,-999.0000,9,-999.0000,9, -999.00,9, -999.00,9,  -999.0,9,  -999.0,-999.000,9,-999.000,-999.000,9,-999.0000,   5.2458,-999.0000,-999.000
  316N145_8,        I03,     456,          1,         22,         22,2,19950428,       1557,   -20.6338,   108.7988,       5032,  1009.4,   5.0004,  34.6408,2,  34.6422,2,     95.8,2,    95.6,2,   91.51,2,   36.22,2,    0.00,2,    2.66,2,   0.006,2,   0.003,2,-999.000,9,  2285.8,2,  2366.0,2,-999.0000,9,-999.0000,9, -999.00,9, -999.00,9,  -999.0,9,  -999.0,-999.000,9,-999.000,-999.000,9,-999.0000,   4.9160,-999.0000,-999.000
  316N145_8,        I03,     456,          1,         21,         21,2,19950428,       1557,   -20.6338,   108.7988,       5032,  1108.8,   4.6387,  34.6407,2,  34.6422,2,     99.8,2,   101.3,2,   94.90,2,   36.28,2,    0.00,2,    2.66,2,   0.000,2,   0.002,2,-999.000,9,  2285.6,3,  -999.0,5,-999.0000,9,-999.0000,9, -999.00,9, -999.00,9,  -999.0,9,  -999.0,-999.000,9,-999.000,-999.000,9,-999.0000,   4.5482,-999.0000,-999.000
  316N145_8,        I03,     456,          1,         20,         20,2,19950428,       1557,   -20.6338,   108.7988,       5032,  1209.2,   4.3336,  34.6430,2,  34.6442,2,    105.0,2,   106.0,2,   97.60,2,   36.18,2,    0.00,2,    2.65,2,   0.010,3,   0.005,2,-999.000,9,  2289.1,2,  2377.0,2,-999.0000,9,-999.0000,9, -999.00,9, -999.00,9,  -999.0,9,  -999.0,-999.000,9,-999.000,-999.000,9,-999.0000,   4.2369,-999.0000,-999.000
  316N145_8,        I03,     456,          1,         19,         19,2,19950428,       1557,   -20.6338,   108.7988,       5032,  1411.8,   3.6786,  34.6550,2,  34.6556,2,    116.0,2,   118.0,2,  103.24,2,   35.92,2,    0.00,2,    2.62,2,-999.000,9,-999.000,9,-999.000,9,  2290.1,3,  -999.0,5,-999.0000,9,-999.0000,9, -999.00,9, -999.00,9,  -999.0,9,  -999.0,-999.000,9,-999.000,-999.000,9,-999.0000,   3.5705,-999.0000,-999.000
  316N145_8,        I03,     456,          1,         18,         18,2,19950428,       1557,   -20.6338,   108.7988,       5032,  1614.5,   3.1300,  34.6813,2,  34.6821,2,    130.2,2,   130.4,2,  107.68,2,   35.42,2,    0.00,2,    2.56,2,   0.004,2,   0.003,2,   0.023,3,  2292.8,2,  2383.0,2,-999.0000,9,-999.0000,9, -999.00,9, -999.00,9,  -999.0,9,  -999.0,-999.000,9,-999.000,   0.007,2,-999.0000,   3.0107,-999.0000,-999.000
  316N145_8,        I03,     456,          1,         17,         17,2,19950428,       1557,   -20.6338,   108.7988,       5032,  1817.9,   2.6896,  34.7058,2,  34.7061,2,    137.8,2,   139.1,2,  114.33,2,   35.02,2,    0.00,2,    2.53,2,-999.000,9,-999.000,9,-999.000,9,  2295.1,2,  2388.0,2,-999.0000,9,-999.0000,9, -999.00,9, -999.00,9,  -999.0,9,  -999.0,-999.000,9,-999.000,-999.000,9,-999.0000,   2.5584,-999.0000,-999.000
  316N145_8,        I03,     456,          1,         16,         16,2,19950428,       1557,   -20.6338,   108.7988,       5032,  2019.2,   2.3996,  34.7199,2,  34.7206,2,    144.0,2,   143.6,2,  121.02,2,   34.92,2,    0.00,2,    2.51,2,-999.000,9,-999.000,9,-999.000,9,  2299.4,2,  2396.0,2,-999.0000,9,-999.0000,9, -999.00,9, -999.00,9,  -999.0,9,  -999.0,-999.000,9,-999.000,-999.000,9,-999.0000,   2.2551,-999.0000,-999.000
  316N145_8,        I03,     456,          1,         15,         15,2,19950428,       1557,   -20.6338,   108.7988,       5032,  2220.9,   2.1919,  34.7247,2,  34.7250,2,    148.8,2,   147.9,2,  125.33,2,   34.77,2,    0.00,2,    2.49,2,-999.000,9,-999.000,9,-999.000,9,  2304.2,2,  2403.0,2,-999.0000,9,-999.0000,9, -999.00,9, -999.00,9,  -999.0,9,  -999.0,-999.000,9,-999.000,-999.000,9,-999.0000,   2.0330,-999.0000,-999.000
  316N145_8,        I03,     456,          1,         14,         14,2,19950428,       1557,   -20.6338,   108.7988,       5032,  2426.3,   2.0276,  34.7265,2,  34.7281,2,    153.6,2,   153.7,2,  126.37,2,   34.52,2,    0.00,2,    2.47,2,   0.003,2,   0.004,2,-999.000,9,  2301.9,2,  2398.0,2,-999.0000,9,-999.0000,9, -999.00,9, -999.00,9,  -999.0,9,  -999.0,-999.000,9,-999.000,-999.000,9,-999.0000,   1.8532,-999.0000,-999.000
  316N145_8,        I03,     456,          1,         13,         13,2,19950428,       1557,   -20.6338,   108.7988,       5032,  2628.6,   1.9094,  34.7262,2,  34.7271,2,    158.9,2,   158.6,2,  126.97,2,   34.12,2,    0.00,2,    2.45,2,-999.000,9,-999.000,9,-999.000,9,  2300.0,2,  2404.0,2,-999.0000,9,-999.0000,9, -999.00,9, -999.00,9,  -999.0,9,  -999.0,-999.000,9,-999.000,-999.000,9,-999.0000,   1.7187,-999.0000,-999.000
  316N145_8,        I03,     456,          1,         12,         12,2,19950428,       1557,   -20.6338,   108.7988,       5032,  2831.4,   1.7745,  34.7251,2,  34.7260,2,    166.5,2,   165.0,2,  127.14,2,   33.97,2,    0.00,2,    2.42,2,   0.011,3,   0.008,3,-999.000,9,  2297.3,2,  2400.0,2,-999.0000,9,-999.0000,9, -999.00,9, -999.00,9,  -999.0,9,  -999.0,-999.000,9,-999.000,-999.000,9,-999.0000,   1.5675,-999.0000,-999.000
  316N145_8,        I03,     456,          1,         11,         11,2,19950428,       1557,   -20.6338,   108.7988,       5032,  3036.8,   1.6293,  34.7237,2,  34.7250,2,    171.2,2,   172.5,2,  126.43,2,   33.56,2,    0.00,2,    2.38,2,-999.000,9,-999.000,9,-999.000,9,  2293.5,2,  2399.5,6,-999.0000,9,-999.0000,9, -999.00,9, -999.00,9,  -999.0,9,  -999.0,-999.000,9,-999.000,-999.000,9,-999.0000,   1.4059,-999.0000,-999.000
  316N145_8,        I03,     456,          1,         10,         10,2,19950428,       1557,   -20.6338,   108.7988,       5032,  3238.5,   1.5135,  34.7220,2,  34.7228,2,    177.9,2,   177.5,2,  127.25,2,   33.41,2,    0.00,2,    2.35,2,-999.000,9,-999.000,9,-999.000,9,  2290.4,2,  2401.0,2,-999.0000,9,-999.0000,9, -999.00,9, -999.00,9,  -999.0,9,  -999.0,-999.000,9,-999.000,-999.000,9,-999.0000,   1.2730,-999.0000,-999.000
  316N145_8,        I03,     456,          1,          9,          9,2,19950428,       1557,   -20.6338,   108.7988,       5032,  3442.4,   1.3739,  34.7195,2,  34.7193,2,    183.1,2,   182.6,2,  128.51,2,   33.21,2,    0.00,2,    2.33,2,-999.000,9,-999.000,9,-999.000,9,  2288.7,2,  2400.0,2,-999.0000,9,-999.0000,9, -999.00,9, -999.00,9,  -999.0,9,  -999.0,-999.000,9,-999.000,-999.000,9,-999.0000,   1.1165,-999.0000,-999.000
  316N145_8,        I03,     456,          1,          8,          8,2,19950428,       1557,   -20.6338,   108.7988,       5032,  3648.0,   1.2915,  34.7172,2,  34.7181,2,    186.0,2,   185.4,2,  129.55,2,   33.07,2,    0.00,2,    2.32,2,   0.002,2,   0.004,2,-999.000,9,  2288.1,2,  2399.0,2,-999.0000,9,-999.0000,9, -999.00,9, -999.00,9,  -999.0,9,  -999.0,-999.000,9,-999.000,-999.000,9,-999.0000,   1.0153,-999.0000,-999.000
  316N145_8,        I03,     456,          1,          7,          7,2,19950428,       1557,   -20.6338,   108.7988,       5032,  3850.7,   1.2343,  34.7151,2,  34.7160,2,    185.2,2,   188.0,2,  130.59,2,   33.07,2,    0.00,2,    2.32,2,-999.000,9,-999.000,9,-999.000,9,  2286.4,2,  2402.0,2,-999.0000,9,-999.0000,9, -999.00,9, -999.00,9,  -999.0,9,  -999.0,-999.000,9,-999.000,-999.000,9,-999.0000,   0.9386,-999.0000,-999.000
  316N145_8,        I03,     456,          1,          6,          6,2,19950428,       1557,   -20.6338,   108.7988,       5032,  4055.5,   1.2032,  34.7144,2,  34.7150,2,    187.1,2,   189.6,2,  130.98,2,   33.08,2,    0.00,2,    2.32,2,-999.000,9,-999.000,9,-999.000,9,  2287.8,2,  2401.0,2,-999.0000,9,-999.0000,9, -999.00,9, -999.00,9,  -999.0,9,  -999.0,-999.000,9,-999.000,-999.000,9,-999.0000,   0.8866,-999.0000,-999.000
  316N145_8,        I03,     456,          1,          5,          5,2,19950428,       1557,   -20.6338,   108.7988,       5032,  4261.5,   1.1855,  34.7134,2,  34.7136,2,    189.6,2,   190.8,2,  131.36,2,   33.03,2,    0.00,2,    2.31,2,-999.000,9,-999.000,9,-999.000,9,  2288.7,2,  2404.0,2,-999.0000,9,-999.0000,9, -999.00,9, -999.00,9,  -999.0,9,  -999.0,-999.000,9,-999.000,-999.000,9,-999.0000,   0.8468,-999.0000,-999.000
  316N145_8,        I03,     456,          1,          4,          4,2,19950428,       1557,   -20.6338,   108.7988,       5032,  4465.8,   1.1831,  34.7130,2,  34.7138,2,    191.1,2,   191.7,2,  131.31,2,   32.98,2,    0.00,2,    2.31,2,   0.003,2,   0.003,2,-999.000,9,  2288.2,2,  2402.0,2,-999.0000,9,-999.0000,9, -999.00,9, -999.00,9,  -999.0,9,  -999.0,-999.000,9,-999.000,-999.000,9,-999.0000,   0.8216,-999.0000,-999.000
  316N145_8,        I03,     456,          1,          3,          3,2,19950428,       1557,   -20.6338,   108.7988,       5032,  4669.2,   1.1899,  34.7129,2,  34.7134,2,    192.9,2,   192.4,2,  131.25,2,   32.94,2,    0.00,2,    2.30,2,-999.000,9,-999.000,9,-999.000,9,  2287.4,2,  2404.0,2,-999.0000,9,-999.0000,9, -999.00,9, -999.00,9,  -999.0,9,  -999.0,-999.000,9,-999.000,-999.000,9,-999.0000,   0.8049,-999.0000,-999.000
  316N145_8,        I03,     456,          1,          2,          2,2,19950428,       1557,   -20.6338,   108.7988,       5032,  4875.9,   1.1958,  34.7124,2,  34.7138,2,    194.0,2,   193.6,2,  130.98,2,   32.89,2,    0.00,2,    2.29,2,-999.000,9,-999.000,9,-999.000,9,  2286.2,2,  2401.0,2,-999.0000,9,-999.0000,9, -999.00,9, -999.00,9,  -999.0,9,  -999.0,-999.000,9,-999.000,-999.000,9,-999.0000,   0.7864,-999.0000,-999.000
  316N145_8,        I03,     456,          1,          1,          1,2,19950428,       1557,   -20.6338,   108.7988,       5032,  5136.8,   1.2023,  34.7118,2,  34.7129,2,    198.1,3,   194.5,2,  129.83,2,   32.79,2,    0.00,2,    2.28,2,   0.000,2,   0.006,2,-999.000,9,  2285.1,2,  2400.0,2,-999.0000,9,-999.0000,9, -999.00,9, -999.00,9,  -999.0,9,  -999.0,-999.000,9,-999.000,-999.000,9,-999.0000,   0.7615,-999.0000,-999.000