BOTTLE,20140514CCHSIOSE
EXPOCODE,SECT_ID,STNNBR,CASTNO,SAMPNO,BTLNBR,BTLNBR_FLAG_W,DATE,TIME,LATITUDE,LONGITUDE,DEPTH,CTDPRS,CTDTMP,CTDSAL,CTDSAL_FLAG_W,SALNTY,SALNTY_FLAG_W,CTDOXY,CTDOXY_FLAG_W,OXYGEN,OXYGEN_FLAG_W,SILCAT,SILCAT_FLAG_W,NITRAT,NITRAT_FLAG_W,NITRIT,NITRIT_FLAG_W,PHSPHT,PHSPHT_FLAG_W,CFC-11,CFC-11_FLAG_W,CFC-12,CFC-12_FLAG_W,CFC113,CFC113_FLAG_W,TCARBN,TCARBN_FLAG_W,ALKALI,ALKALI_FLAG_W,TRITUM,TRITUM_FLAG_W,HELIUM,HELIUM_FLAG_W,DELHE3,DELHE3_FLAG_W,DELC13,DELC13_FLAG_W,DELC14,DELC14_FLAG_W,C14ERR,NEON,NEON_FLAG_W,NEONER,CCL4,CCL4_FLAG_W,HELIER,THETA,TRITER,DELHER
,,,,,,,,,,,METERS,DBAR,ITS-90,PSS-78,,PSS-78,,UMOL/KG,,UMOL/KG,,UMOL/KG,,UMOL/KG,,UMOL/KG,,UMOL/KG,,PMOL/KG,,PMOL/KG,,PMOL/KG,,UMOL/KG,,UMOL/KG,,TU,,NMOL/KG,,PERCNT,,/MILLE,,/MILLE,,/MILLE,NMOL/KG,,NMOL/KG,PMOL/KG,,NMOL/KG,DEG C,TU,PERCNT
  316N145_8,        I03,     451,          1,         36,         36,2,19950427,       0719,   -21.8325,   111.8947,       4939,    12.4,  28.1240,  35.3790,2,  35.3804,2,    200.0,2,   199.4,2,    3.70,2,    0.12,2,    0.00,2,    0.07,2,-999.000,9,-999.000,9,-999.000,9,  1960.9,6,  2319.3,6,   1.2308,2,   1.7493,2,   -1.21,2, -999.00,9,  -999.0,9,  -999.0,   6.790,2,   0.034,-999.000,9,   0.0087,  28.1211,   0.0042,    0.14
  316N145_8,        I03,     451,          1,         35,         35,2,19950427,       0719,   -21.8325,   111.8947,       4939,    57.0,  25.2608,  35.2244,2,  35.2243,2,    219.0,2,   208.9,2,    3.68,2,    0.13,2,    0.00,2,    0.07,2,-999.000,9,-999.000,9,-999.000,9,  -999.0,9,  -999.0,9,   1.2104,2,   1.7327,2,   -0.87,2, -999.00,9,  -999.0,9,  -999.0,   6.919,2,   0.035,-999.000,9,   0.0087,  25.2484,   0.0042,    0.14
  316N145_8,        I03,     451,          1,         34,         34,2,19950427,       0719,   -21.8325,   111.8947,       4939,   107.6,  21.1566,  35.2381,2,  35.2491,2,    169.4,2,   153.3,2,   10.63,2,    7.21,2,    0.03,2,    0.60,2,-999.000,9,-999.000,9,-999.000,9,  -999.0,9,  -999.0,9,   1.1379,2,   1.7399,2,    0.85,2, -999.00,9,  -999.0,9,  -999.0,   7.019,2,   0.035,-999.000,9,   0.0087,  21.1359,   0.0040,    0.14
  316N145_8,        I03,     451,          1,         33,         33,2,19950427,       0719,   -21.8325,   111.8947,       4939,   158.7,  18.7863,  35.4402,2,  35.4374,2,    161.2,2,   158.2,2,   11.67,2,    8.59,2,    0.01,2,    0.67,2,-999.000,9,-999.000,9,-999.000,9,  -999.0,9,  -999.0,9,   1.0865,2,   1.7597,2,    1.47,2, -999.00,9,  -999.0,9,  -999.0,   7.108,2,   0.036,-999.000,9,   0.0088,  18.7582,   0.0039,    0.14
  316N145_8,        I03,     451,          1,         32,         32,2,19950427,       0719,   -21.8325,   111.8947,       4939,   208.2,  16.5422,  35.4584,2,  35.4443,2,    166.1,2,   166.1,2,   13.13,2,    9.55,2,    0.01,2,    0.75,2,-999.000,9,-999.000,9,-999.000,9,  -999.0,9,  -999.0,9,   0.9777,2,   1.7372,2,    2.08,2, -999.00,9,  -999.0,9,  -999.0,   7.130,2,   0.036,-999.000,9,   0.0087,  16.5084,   0.0038,    0.14
  316N145_8,        I03,     451,          1,         31,         31,2,19950427,       0719,   -21.8325,   111.8947,       4939,   259.0,  14.6225,  35.3611,2,  35.3753,2,    179.7,2,   182.6,2,   12.91,2,    9.87,2,    0.01,2,    0.79,2,-999.000,9,-999.000,9,-999.000,9,  -999.0,9,  -999.0,9,   0.8664,2,   1.7599,2,    2.02,2, -999.00,9,  -999.0,9,  -999.0,   7.244,2,   0.036,-999.000,9,   0.0088,  14.5838,   0.0036,    0.14
  316N145_8,        I03,     451,          1,         30,         30,2,19950427,       0719,   -21.8325,   111.8947,       4939,   308.1,  12.6453,  35.1484,2,  35.1463,2,    185.9,2,   188.4,2,   14.16,2,   12.45,2,    0.00,2,    0.95,2,-999.000,9,-999.000,9,-999.000,9,  -999.0,9,  -999.0,9,   0.7254,2,   1.7725,2,    2.52,2, -999.00,9,  -999.0,9,  -999.0,   7.338,2,   0.037,-999.000,9,   0.0089,  12.6034,   0.0034,    0.14
  316N145_8,        I03,     451,          1,         29,         29,2,19950427,       0719,   -21.8325,   111.8947,       4939,   358.6,  11.4307,  35.0065,2,  35.0073,2,    211.8,2,   209.4,2,   10.77,2,   12.90,2,    0.00,2,    0.97,2,-999.000,9,-999.000,9,-999.000,9,  -999.0,9,  -999.0,9,-999.0000,9,-999.0000,9, -999.00,9, -999.00,9,  -999.0,9,  -999.0,-999.000,9,-999.000,-999.000,9,-999.0000,  11.3851,-999.0000,-999.000
  316N145_8,        I03,     451,          1,         28,         28,2,19950427,       0719,   -21.8325,   111.8947,       4939,   409.1,  10.3780,  34.8556,2,  34.8572,2,    211.4,2,   234.0,2,    5.70,2,   13.08,2,    0.00,2,    0.97,2,-999.000,9,-999.000,9,-999.000,9,  -999.0,9,  -999.0,9,   0.5553,2,   1.7700,2,    0.04,2, -999.00,9,  -999.0,9,  -999.0,   7.332,2,   0.037,-999.000,9,   0.0088,  10.3290,   0.0030,    0.14
  316N145_8,        I03,     451,          1,         27,         27,2,19950427,       0719,   -21.8325,   111.8947,       4939,   509.8,   8.6229,  34.6056,2,  34.6015,2,    221.4,2,   223.4,2,    8.64,2,   19.60,2,    0.00,2,    1.35,2,-999.000,9,-999.000,9,-999.000,9,  -999.0,9,  -999.0,9,   0.3603,2,   1.7993,2,    0.71,2, -999.00,9,  -999.0,9,  -999.0,   7.604,2,   0.038,-999.000,9,   0.0090,   8.5682,   0.0027,    0.14
  316N145_8,        I03,     451,          1,         26,         26,2,19950427,       0719,   -21.8325,   111.8947,       4939,   608.9,   6.8797,  34.5262,2,  34.5235,2,    160.6,2,   170.1,2,   32.44,2,   27.89,2,    0.00,2,    1.93,2,-999.000,9,-999.000,9,-999.000,9,  -999.0,9,  -999.0,9,   0.1418,2,   1.8036,2,    4.00,2, -999.00,9,  -999.0,9,  -999.0,   7.687,2,   0.038,-999.000,9,   0.0090,   6.8220,   0.0024,    0.14
  316N145_8,        I03,     451,          1,         25,         25,2,19950427,       0719,   -21.8325,   111.8947,       4939,   709.6,   6.2781,  34.5943,2,  34.5999,2,    116.3,2,   110.2,2,   66.80,2,   33.56,2,    0.00,2,    2.40,2,-999.000,9,-999.000,9,-999.000,9,  -999.0,9,  -999.0,9,-999.0000,9,-999.0000,9, -999.00,9, -999.00,9,  -999.0,9,  -999.0,-999.000,9,-999.000,-999.000,9,-999.0000,   6.2135,-999.0000,-999.000
  316N145_8,        I03,     451,          1,         24,         24,2,19950427,       0719,   -21.8325,   111.8947,       4939,   810.0,   5.7180,  34.6163,2,  34.6154,2,     97.9,2,    96.9,2,   79.25,2,   35.38,2,    0.00,2,    2.55,2,-999.000,9,-999.000,9,-999.000,9,  -999.0,9,  -999.0,9,   0.0275,2,   1.8087,2,   11.60,2, -999.00,9,  -999.0,9,  -999.0,   7.640,2,   0.038,-999.000,9,   0.0090,   5.6471,   0.0022,    0.14
  316N145_8,        I03,     451,          1,         23,         23,2,19950427,       0719,   -21.8325,   111.8947,       4939,   910.1,   5.3135,  34.6305,2,  34.6314,2,     94.8,2,    92.0,2,   90.46,2,   36.10,2,    0.00,2,    2.63,2,-999.000,9,-999.000,9,-999.000,9,  -999.0,9,  -999.0,9,-999.0000,9,-999.0000,9, -999.00,9, -999.00,9,  -999.0,9,  -999.0,-999.000,9,-999.000,-999.000,9,-999.0000,   5.2360,-999.0000,-999.000
  316N145_8,        I03,     451,          1,         22,         22,2,19950427,       0719,   -21.8325,   111.8947,       4939,  1011.9,   4.9175,  34.6312,2,  34.6319,2,     92.1,2,    94.7,2,   95.31,2,   36.28,2,    0.00,2,    2.64,2,-999.000,9,-999.000,9,-999.000,9,  -999.0,9,  -999.0,9,   0.0162,2,   1.8283,2,   13.67,2, -999.00,9,  -999.0,9,  -999.0,   7.625,2,   0.038,-999.000,9,   0.0091,   4.8335,   0.0022,    0.14
  316N145_8,        I03,     451,          1,         21,         21,2,19950427,       0719,   -21.8325,   111.8947,       4939,  1112.2,   4.5966,  34.6310,2,  34.6315,2,     97.4,2,    97.8,2,  100.18,2,   36.29,2,    0.00,2,    2.65,2,-999.000,9,-999.000,9,-999.000,9,  -999.0,9,  -999.0,9,-999.0000,9,-999.0000,9, -999.00,9, -999.00,9,  -999.0,9,  -999.0,-999.000,9,-999.000,-999.000,9,-999.0000,   4.5062,-999.0000,-999.000
  316N145_8,        I03,     451,          1,         20,         20,2,19950427,       0719,   -21.8325,   111.8947,       4939,  1213.1,   4.2907,  34.6320,2,  34.6331,2,    104.2,2,   105.6,2,   99.29,2,   36.26,2,    0.00,2,    2.63,2,-999.000,9,-999.000,9,-999.000,9,  -999.0,9,  -999.0,9,   0.0102,2,   1.8805,2,   13.02,2, -999.00,9,  -999.0,9,  -999.0,   7.907,2,   0.040,-999.000,9,   0.0094,   4.1941,   0.0022,    0.14
  316N145_8,        I03,     451,          1,         19,         19,2,19950427,       0719,   -21.8325,   111.8947,       4939,  1415.5,   3.6978,  34.6482,2,  34.6484,2,    116.8,2,   117.8,2,  102.89,2,   35.83,2,    0.00,2,    2.60,2,-999.000,9,-999.000,9,-999.000,9,  -999.0,9,  -999.0,9,-999.0000,9,   1.8404,2,   12.99,2, -999.00,9,  -999.0,9,  -999.0,   7.748,2,   0.039,-999.000,9,   0.0092,   3.5892,-999.0000,    0.14
  316N145_8,        I03,     451,          1,         18,         18,2,19950427,       0719,   -21.8325,   111.8947,       4939,  1618.2,   3.1480,  34.6763,2,  34.6763,2,    129.1,2,   129.5,2,  107.34,2,   35.44,2,    0.00,2,    2.55,2,-999.000,9,-999.000,9,-999.000,9,  -999.0,9,  -999.0,9,-999.0000,9,-999.0000,9, -999.00,9, -999.00,9,  -999.0,9,  -999.0,-999.000,9,-999.000,-999.000,9,-999.0000,   3.0281,-999.0000,-999.000
  316N145_8,        I03,     451,          1,         17,         17,2,19950427,       0719,   -21.8325,   111.8947,       4939,  1819.7,   2.7307,  34.7016,2,  34.7023,2,    138.7,2,   138.0,2,  113.73,2,   35.09,2,    0.00,2,    2.52,2,-999.000,9,-999.000,9,-999.000,9,  -999.0,9,  -999.0,9,  -0.0013,2,   1.8138,2,   13.37,2, -999.00,9,  -999.0,9,  -999.0,   7.672,2,   0.038,-999.000,9,   0.0091,   2.5988,   0.0022,    0.14
  316N145_8,        I03,     451,          1,         16,         16,2,19950427,       0719,   -21.8325,   111.8947,       4939,  2023.0,   2.3960,  34.7166,2,  34.7172,2,    143.6,2,   145.2,2,  119.71,2,   34.84,2,    0.00,2,    2.49,2,-999.000,9,-999.000,9,-999.000,9,  -999.0,9,  -999.0,9,-999.0000,9,   1.8336,2,   14.12,2, -999.00,9,  -999.0,9,  -999.0,   7.853,2,   0.039,-999.000,9,   0.0092,   2.2512,-999.0000,    0.14
  316N145_8,        I03,     451,          1,         15,         15,2,19950427,       0719,   -21.8325,   111.8947,       4939,  2225.7,   2.1787,  34.7242,2,  34.7239,2,    151.0,2,   149.4,2,  124.21,2,   34.63,2,    0.00,2,    2.48,2,-999.000,9,-999.000,9,-999.000,9,  -999.0,9,  -999.0,9,-999.0000,9,-999.0000,9, -999.00,9, -999.00,9,  -999.0,9,  -999.0,-999.000,9,-999.000,-999.000,9,-999.0000,   2.0196,-999.0000,-999.000
  316N145_8,        I03,     451,          1,         14,         14,2,19950427,       0719,   -21.8325,   111.8947,       4939,  2428.6,   2.0498,  34.7252,2,  34.7241,2,    153.3,2,   153.8,2,  125.48,2,   34.46,2,    0.00,2,    2.45,2,-999.000,9,-999.000,9,-999.000,9,  -999.0,9,  -999.0,9,-999.0000,9,-999.0000,9, -999.00,9, -999.00,9,  -999.0,9,  -999.0,-999.000,9,-999.000,-999.000,9,-999.0000,   1.8748,-999.0000,-999.000
  316N145_8,        I03,     451,          1,         13,         13,2,19950427,       0719,   -21.8325,   111.8947,       4939,  2630.8,   1.9154,  34.7251,2,  34.7261,2,    160.1,2,   159.6,2,  125.87,2,   34.20,2,    0.00,2,    2.43,2,-999.000,9,-999.000,9,-999.000,9,  -999.0,9,  -999.0,9,-999.0000,9,-999.0000,9, -999.00,9, -999.00,9,  -999.0,9,  -999.0,-999.000,9,-999.000,-999.000,9,-999.0000,   1.7244,-999.0000,-999.000
  316N145_8,        I03,     451,          1,         12,         12,2,19950427,       0719,   -21.8325,   111.8947,       4939,  2834.1,   1.7866,  34.7248,2,  34.7247,2,    166.7,2,   165.7,2,  125.62,2,   33.82,2,    0.00,2,    2.39,2,-999.000,9,-999.000,9,-999.000,9,  -999.0,9,  -999.0,9,-999.0000,9,-999.0000,9, -999.00,9, -999.00,9,  -999.0,9,  -999.0,-999.000,9,-999.000,-999.000,9,-999.0000,   1.5792,-999.0000,-999.000
  316N145_8,        I03,     451,          1,         11,         11,2,19950427,       0719,   -21.8325,   111.8947,       4939,  3037.7,   1.6555,  34.7237,2,  34.7233,2,    171.9,2,   171.7,2,  125.80,2,   33.52,2,    0.00,2,    2.36,2,-999.000,9,-999.000,9,-999.000,9,  -999.0,9,  -999.0,9,-999.0000,9,-999.0000,9, -999.00,9, -999.00,9,  -999.0,9,  -999.0,-999.000,9,-999.000,-999.000,9,-999.0000,   1.4314,-999.0000,-999.000
  316N145_8,        I03,     451,          1,         10,         10,2,19950427,       0719,   -21.8325,   111.8947,       4939,  3243.4,   1.5108,  34.7212,2,  34.7212,2,    176.6,2,   177.6,2,  126.63,2,   33.40,2,    0.00,2,    2.34,2,-999.000,9,-999.000,9,-999.000,9,  -999.0,9,  -999.0,9,-999.0000,9,-999.0000,9, -999.00,9, -999.00,9,  -999.0,9,  -999.0,-999.000,9,-999.000,-999.000,9,-999.0000,   1.2699,-999.0000,-999.000
  316N145_8,        I03,     451,          1,          9,          9,2,19950427,       0719,   -21.8325,   111.8947,       4939,  3445.9,   1.3853,  34.7186,2,  34.7190,2,    181.9,2,   182.8,2,  127.67,2,   33.32,2,    0.00,2,    2.32,2,-999.000,9,-999.000,9,-999.000,9,  -999.0,9,  -999.0,9,-999.0000,9,-999.0000,9, -999.00,9, -999.00,9,  -999.0,9,  -999.0,-999.000,9,-999.000,-999.000,9,-999.0000,   1.1273,-999.0000,-999.000
  316N145_8,        I03,     451,          1,          8,          8,2,19950427,       0719,   -21.8325,   111.8947,       4939,  3650.6,   1.2870,  34.7167,2,  34.7168,2,    186.4,2,   185.9,2,  128.94,2,   33.15,2,    0.00,2,    2.31,2,-999.000,9,-999.000,9,-999.000,9,  -999.0,9,  -999.0,9,-999.0000,9,-999.0000,9, -999.00,9, -999.00,9,  -999.0,9,  -999.0,-999.000,9,-999.000,-999.000,9,-999.0000,   1.0107,-999.0000,-999.000
  316N145_8,        I03,     451,          1,          7,          7,2,19950427,       0719,   -21.8325,   111.8947,       4939,  3854.3,   1.2261,  34.7146,2,  34.7151,2,    187.4,2,   188.1,2,  129.77,2,   33.11,2,    0.00,2,    2.30,2,-999.000,9,-999.000,9,-999.000,9,  -999.0,9,  -999.0,9,-999.0000,9,-999.0000,9, -999.00,9, -999.00,9,  -999.0,9,  -999.0,-999.000,9,-999.000,-999.000,9,-999.0000,   0.9303,-999.0000,-999.000
  316N145_8,        I03,     451,          1,          6,          6,2,19950427,       0719,   -21.8325,   111.8947,       4939,  4059.7,   1.1927,  34.7137,2,  34.7141,2,    190.0,2,   189.9,2,  130.82,2,   33.08,2,    0.00,2,    2.30,2,-999.000,9,-999.000,9,-999.000,9,  -999.0,9,  -999.0,9,-999.0000,9,-999.0000,9, -999.00,9, -999.00,9,  -999.0,9,  -999.0,-999.000,9,-999.000,-999.000,9,-999.0000,   0.8758,-999.0000,-999.000
  316N145_8,        I03,     451,          1,          5,          5,2,19950427,       0719,   -21.8325,   111.8947,       4939,  4263.1,   1.1794,  34.7132,2,  34.7129,2,    192.0,2,   191.1,2,  131.21,2,   33.00,2,    0.00,2,    2.29,2,-999.000,9,-999.000,9,-999.000,9,  -999.0,9,  -999.0,9,-999.0000,9,-999.0000,9, -999.00,9, -999.00,9,  -999.0,9,  -999.0,-999.000,9,-999.000,-999.000,9,-999.0000,   0.8407,-999.0000,-999.000
  316N145_8,        I03,     451,          1,          4,          4,2,19950427,       0719,   -21.8325,   111.8947,       4939,  4469.0,   1.1789,  34.7126,2,  34.7125,2,    191.5,2,   192.1,2,  131.18,2,   32.92,2,    0.00,2,    2.28,2,-999.000,9,-999.000,9,-999.000,9,  -999.0,9,  -999.0,9,-999.0000,9,-999.0000,9, -999.00,9, -999.00,9,  -999.0,9,  -999.0,-999.000,9,-999.000,-999.000,9,-999.0000,   0.8172,-999.0000,-999.000
  316N145_8,        I03,     451,          1,          3,          3,2,19950427,       0719,   -21.8325,   111.8947,       4939,  4671.4,   1.1889,  34.7124,2,  34.7117,2,    193.7,2,   192.3,2,  131.36,2,   32.98,2,    0.00,2,    2.30,2,-999.000,9,-999.000,9,-999.000,9,  -999.0,9,  -999.0,9,-999.0000,9,-999.0000,9, -999.00,9, -999.00,9,  -999.0,9,  -999.0,-999.000,9,-999.000,-999.000,9,-999.0000,   0.8037,-999.0000,-999.000
  316N145_8,        I03,     451,          1,          2,          2,2,19950427,       0719,   -21.8325,   111.8947,       4939,  4878.2,   1.2032,  34.7120,2,  34.7121,2,    192.3,2,   193.2,2,  131.32,2,   32.90,2,    0.00,2,    2.29,2,-999.000,9,-999.000,9,-999.000,9,  -999.0,9,  -999.0,9,-999.0000,9,-999.0000,9, -999.00,9, -999.00,9,  -999.0,9,  -999.0,-999.000,9,-999.000,-999.000,9,-999.0000,   0.7934,-999.0000,-999.000
  316N145_8,        I03,     451,          1,          1,          1,2,19950427,       0719,   -21.8325,   111.8947,       4939,  5020.3,   1.2138,  34.7116,2,  34.7115,2,    193.6,2,   189.4,3,  131.50,2,   32.91,2,    0.00,2,    2.28,2,-999.000,9,-999.000,9,-999.000,9,  -999.0,9,  -999.0,9,-999.0000,9,-999.0000,9, -999.00,9, -999.00,9,  -999.0,9,  -999.0,-999.000,9,-999.000,-999.000,9,-999.0000,   0.7867,-999.0000,-999.000