BOTTLE,20140514CCHSIOSE
EXPOCODE,SECT_ID,STNNBR,CASTNO,SAMPNO,BTLNBR,BTLNBR_FLAG_W,DATE,TIME,LATITUDE,LONGITUDE,DEPTH,CTDPRS,CTDTMP,CTDSAL,CTDSAL_FLAG_W,SALNTY,SALNTY_FLAG_W,CTDOXY,CTDOXY_FLAG_W,OXYGEN,OXYGEN_FLAG_W,SILCAT,SILCAT_FLAG_W,NITRAT,NITRAT_FLAG_W,NITRIT,NITRIT_FLAG_W,PHSPHT,PHSPHT_FLAG_W,CFC-11,CFC-11_FLAG_W,CFC-12,CFC-12_FLAG_W,CFC113,CFC113_FLAG_W,TCARBN,TCARBN_FLAG_W,ALKALI,ALKALI_FLAG_W,TRITUM,TRITUM_FLAG_W,HELIUM,HELIUM_FLAG_W,DELHE3,DELHE3_FLAG_W,DELC13,DELC13_FLAG_W,DELC14,DELC14_FLAG_W,C14ERR,NEON,NEON_FLAG_W,NEONER,CCL4,CCL4_FLAG_W,HELIER,THETA,TRITER,DELHER
,,,,,,,,,,,METERS,DBAR,ITS-90,PSS-78,,PSS-78,,UMOL/KG,,UMOL/KG,,UMOL/KG,,UMOL/KG,,UMOL/KG,,UMOL/KG,,PMOL/KG,,PMOL/KG,,PMOL/KG,,UMOL/KG,,UMOL/KG,,TU,,NMOL/KG,,PERCNT,,/MILLE,,/MILLE,,/MILLE,NMOL/KG,,NMOL/KG,PMOL/KG,,NMOL/KG,DEG C,TU,PERCNT
  316N145_8,        I03,     556,          1,         36,         36,2,19950531,       1553,   -19.9998,    50.6013,       4738,     5.6,  26.0573,  35.1849,2,  35.1852,2,    203.7,3,   205.3,2,    2.23,2,    0.10,2,    0.00,2,    0.11,2,   1.801,2,   1.029,2,-999.000,9,  1953.4,6,  2302.0,6,-999.0000,9,-999.0000,9, -999.00,9, -999.00,9,  -999.0,9,  -999.0,-999.000,9,-999.000,-999.000,9,-999.0000,  26.0560,-999.0000,-999.000
  316N145_8,        I03,     556,          1,         35,         35,2,19950531,       1553,   -19.9998,    50.6013,       4738,    56.3,  26.0751,  35.1977,2,  35.1962,2,    201.1,3,   205.3,2,    2.22,2,    0.10,2,    0.00,2,    0.11,2,   1.805,2,   1.020,2,-999.000,9,  -999.0,9,  -999.0,9,-999.0000,9,-999.0000,9, -999.00,9, -999.00,9,  -999.0,9,  -999.0,-999.000,9,-999.000,-999.000,9,-999.0000,  26.0625,-999.0000,-999.000
  316N145_8,        I03,     556,          1,         34,         34,2,19950531,       1553,   -19.9998,    50.6013,       4738,   106.6,  24.1433,  35.1946,2,  35.2265,2,    209.3,2,   208.5,2,    2.40,2,    0.10,2,    0.01,2,    0.15,2,   2.022,2,   1.137,2,-999.000,9,  -999.0,9,  -999.0,9,-999.0000,9,-999.0000,9, -999.00,9, -999.00,9,  -999.0,9,  -999.0,-999.000,9,-999.000,-999.000,9,-999.0000,  24.1207,-999.0000,-999.000
  316N145_8,        I03,     556,          1,         33,         33,2,19950531,       1553,   -19.9998,    50.6013,       4738,   156.4,  21.7188,  35.3014,2,  35.3061,2,    183.9,2,   175.2,2,    4.52,2,    4.02,2,    0.02,2,    0.40,2,-999.000,9,-999.000,9,-999.000,9,  -999.0,9,  -999.0,9,-999.0000,9,-999.0000,9, -999.00,9, -999.00,9,  -999.0,9,  -999.0,-999.000,9,-999.000,-999.000,9,-999.0000,  21.6881,-999.0000,-999.000
  316N145_8,        I03,     556,          1,         32,         32,2,19950531,       1553,   -19.9998,    50.6013,       4738,   205.7,  19.7484,  35.4128,2,  35.4130,2,    167.6,2,   161.2,2,    6.83,2,    6.93,2,    0.01,2,    0.58,2,   1.991,2,   1.090,2,-999.000,9,  -999.0,9,  -999.0,9,-999.0000,9,-999.0000,9, -999.00,9, -999.00,9,  -999.0,9,  -999.0,-999.000,9,-999.000,-999.000,9,-999.0000,  19.7106,-999.0000,-999.000
  316N145_8,        I03,     556,          1,         31,         31,2,19950531,       1553,   -19.9998,    50.6013,       4738,   256.3,  17.3486,  35.4646,2,  35.4630,2,    165.1,2,   163.2,2,    8.94,2,    8.79,2,    0.01,2,    0.71,2,   1.976,2,   1.061,2,-999.000,9,  -999.0,9,  -999.0,9,-999.0000,9,-999.0000,9, -999.00,9, -999.00,9,  -999.0,9,  -999.0,-999.000,9,-999.000,-999.000,9,-999.0000,  17.3055,-999.0000,-999.000
  316N145_8,        I03,     556,          1,         30,         30,2,19950531,       1553,   -19.9998,    50.6013,       4738,   307.1,  15.9872,  35.4725,2,  35.4711,2,    183.6,2,   184.0,2,    6.99,2,    7.60,2,    0.00,2,    0.65,2,   2.224,2,   1.164,2,-999.000,9,  -999.0,9,  -999.0,9,-999.0000,9,-999.0000,9, -999.00,9, -999.00,9,  -999.0,9,  -999.0,-999.000,9,-999.000,-999.000,9,-999.0000,  15.9383,-999.0000,-999.000
  316N145_8,        I03,     556,          1,         29,         29,2,19950531,       1553,   -19.9998,    50.6013,       4738,   356.2,  14.5758,  35.3858,2,  35.3829,2,    199.4,2,   198.3,2,    6.01,2,    8.13,2,    0.00,2,    0.68,2,-999.000,9,-999.000,9,-999.000,9,  -999.0,9,  -999.0,9,-999.0000,9,-999.0000,9, -999.00,9, -999.00,9,  -999.0,9,  -999.0,-999.000,9,-999.000,-999.000,9,-999.0000,  14.5225,-999.0000,-999.000
  316N145_8,        I03,     556,          1,         28,         28,2,19950531,       1553,   -19.9998,    50.6013,       4738,   404.9,  12.8745,  35.1640,2,  35.1617,2,    190.1,2,   190.4,2,    9.28,2,   12.40,2,    0.00,2,    0.93,2,   2.179,2,   1.121,2,-999.000,9,  -999.0,9,  -999.0,9,-999.0000,9,-999.0000,9, -999.00,9, -999.00,9,  -999.0,9,  -999.0,-999.000,9,-999.000,-999.000,9,-999.0000,  12.8186,-999.0000,-999.000
  316N145_8,        I03,     556,          1,         27,         27,2,19950531,       1553,   -19.9998,    50.6013,       4738,   505.2,  10.2507,  34.8355,2,  34.8357,2,    212.7,2,   212.8,2,    8.11,2,   15.78,2,    0.00,2,    1.13,2,-999.000,9,-999.000,9,-999.000,9,  -999.0,9,  -999.0,9,-999.0000,9,-999.0000,9, -999.00,9, -999.00,9,  -999.0,9,  -999.0,-999.000,9,-999.000,-999.000,9,-999.0000,  10.1903,-999.0000,-999.000
  316N145_8,        I03,     556,          1,         26,         26,2,19950531,       1553,   -19.9998,    50.6013,       4738,   608.4,   8.4164,  34.6493,2,  34.6503,2,    200.4,2,   197.9,2,   16.01,2,   21.60,2,    0.00,2,    1.51,2,   1.172,2,   0.590,2,-999.000,9,  -999.0,9,  -999.0,9,-999.0000,9,-999.0000,9, -999.00,9, -999.00,9,  -999.0,9,  -999.0,-999.000,9,-999.000,-999.000,9,-999.0000,   8.3517,-999.0000,-999.000
  316N145_8,        I03,     556,          1,         25,         25,2,19950531,       1553,   -19.9998,    50.6013,       4738,   708.8,   6.9886,  34.5679,2,  34.5683,2,    179.3,2,   174.6,2,   30.48,2,   26.91,2,    0.00,2,    1.89,2,   0.511,2,   0.256,2,-999.000,9,  -999.0,9,  -999.0,9,-999.0000,9,-999.0000,9, -999.00,9, -999.00,9,  -999.0,9,  -999.0,-999.000,9,-999.000,-999.000,9,-999.0000,   6.9203,-999.0000,-999.000
  316N145_8,        I03,     556,          1,         24,         24,2,19950531,       1553,   -19.9998,    50.6013,       4738,   809.6,   6.0251,  34.5694,2,  34.5702,2,    156.1,2,   150.5,2,   48.02,2,   30.71,2,    0.00,2,    2.17,2,   0.219,2,   0.110,2,-999.000,9,  -999.0,9,  -999.0,9,-999.0000,9,-999.0000,9, -999.00,9, -999.00,9,  -999.0,9,  -999.0,-999.000,9,-999.000,-999.000,9,-999.0000,   5.9524,-999.0000,-999.000
  316N145_8,        I03,     556,          1,         23,         23,2,19950531,       1553,   -19.9998,    50.6013,       4738,   910.0,   5.1201,  34.5651,2,  34.5649,2,    142.8,2,   144.4,2,   60.18,2,   32.79,2,    0.00,2,    2.34,2,   0.109,2,   0.057,2,-999.000,9,  -999.0,9,  -999.0,9,-999.0000,9,-999.0000,9, -999.00,9, -999.00,9,  -999.0,9,  -999.0,-999.000,9,-999.000,-999.000,9,-999.0000,   5.0440,-999.0000,-999.000
  316N145_8,        I03,     556,          1,         22,         22,2,19950531,       1553,   -19.9998,    50.6013,       4738,  1009.9,   4.8134,  34.6198,2,  34.6208,2,    136.1,2,   130.3,2,   72.16,2,   33.96,2,    0.00,2,    2.43,2,   0.036,2,   0.019,2,-999.000,9,  -999.0,9,  -999.0,9,-999.0000,9,-999.0000,9, -999.00,9, -999.00,9,  -999.0,9,  -999.0,-999.000,9,-999.000,-999.000,9,-999.0000,   4.7305,-999.0000,-999.000
  316N145_8,        I03,     556,          1,         21,         21,2,19950531,       1553,   -19.9998,    50.6013,       4738,  1111.1,   4.3338,  34.6281,2,  34.6286,2,    131.5,2,   132.3,2,   78.54,2,   34.30,2,    0.00,2,    2.45,2,   0.020,2,   0.007,3,-999.000,9,  -999.0,9,  -999.0,9,-999.0000,9,-999.0000,9, -999.00,9, -999.00,9,  -999.0,9,  -999.0,-999.000,9,-999.000,-999.000,9,-999.0000,   4.2458,-999.0000,-999.000
  316N145_8,        I03,     556,          1,         20,         20,2,19950531,       1553,   -19.9998,    50.6013,       4738,  1209.8,   3.8960,  34.6334,2,  34.6335,2,    140.2,2,   138.1,2,   82.01,2,   34.26,2,    0.00,2,    2.46,2,   0.014,2,   0.006,3,-999.000,9,  -999.0,9,  -999.0,9,-999.0000,9,-999.0000,9, -999.00,9, -999.00,9,  -999.0,9,  -999.0,-999.000,9,-999.000,-999.000,9,-999.0000,   3.8033,-999.0000,-999.000
  316N145_8,        I03,     556,          1,         19,         19,2,19950531,       1553,   -19.9998,    50.6013,       4738,  1310.6,   3.4944,  34.6372,2,  34.6357,2,    146.8,2,   147.8,2,   82.93,2,   33.97,2,    0.00,2,    2.42,2,-999.000,9,-999.000,9,-999.000,9,  -999.0,9,  -999.0,9,-999.0000,9,-999.0000,9, -999.00,9, -999.00,9,  -999.0,9,  -999.0,-999.000,9,-999.000,-999.000,9,-999.0000,   3.3969,-999.0000,-999.000
  316N145_8,        I03,     556,          1,         18,         18,2,19950531,       1553,   -19.9998,    50.6013,       4738,  1412.0,   3.1776,  34.6497,2,  34.6494,2,    153.4,2,   153.9,2,   85.82,2,   33.72,2,    0.00,2,    2.37,2,   0.008,2,   0.002,3,-999.000,9,  -999.0,9,  -999.0,9,-999.0000,9,-999.0000,9, -999.00,9, -999.00,9,  -999.0,9,  -999.0,-999.000,9,-999.000,-999.000,9,-999.0000,   3.0749,-999.0000,-999.000
  316N145_8,        I03,     556,          1,         17,         17,2,19950531,       1553,   -19.9998,    50.6013,       4738,  1613.6,   2.7335,  34.6859,2,  34.6845,2,    159.2,2,   161.3,2,   93.62,2,   33.24,2,    0.00,2,    2.36,2,-999.000,9,-999.000,9,-999.000,9,  -999.0,9,  -999.0,9,-999.0000,9,-999.0000,9, -999.00,9, -999.00,9,  -999.0,9,  -999.0,-999.000,9,-999.000,-999.000,9,-999.0000,   2.6191,-999.0000,-999.000
  316N145_8,        I03,     556,          1,         16,         16,2,19950531,       1553,   -19.9998,    50.6013,       4738,  1816.4,   2.5056,  34.7172,2,  34.7161,2,    161.2,2,   159.5,2,  103.86,2,   33.48,2,    0.00,2,    2.39,2,   0.000,2,  -0.007,3,-999.000,9,  -999.0,9,  -999.0,9,-999.0000,9,-999.0000,9, -999.00,9, -999.00,9,  -999.0,9,  -999.0,-999.000,9,-999.000,-999.000,9,-999.0000,   2.3770,-999.0000,-999.000
  316N145_8,        I03,     556,          1,         15,         15,2,19950531,       1553,   -19.9998,    50.6013,       4738,  2019.6,   2.3506,  34.7300,2,  34.7287,2,    159.2,2,   158.4,2,  111.82,2,   33.68,2,    0.00,2,    2.41,2,-999.000,9,-999.000,9,-999.000,9,  -999.0,9,  -999.0,9,-999.0000,9,-999.0000,9, -999.00,9, -999.00,9,  -999.0,9,  -999.0,-999.000,9,-999.000,-999.000,9,-999.0000,   2.2068,-999.0000,-999.000
  316N145_8,        I03,     556,          1,         14,         14,2,19950531,       1553,   -19.9998,    50.6013,       4738,  2222.0,   2.2113,  34.7362,2,  34.7357,2,    160.9,2,   158.3,2,  117.84,2,   33.98,2,    0.00,2,    2.43,2,  -0.002,2,  -0.004,3,-999.000,9,  -999.0,9,  -999.0,9,-999.0000,9,-999.0000,9, -999.00,9, -999.00,9,  -999.0,9,  -999.0,-999.000,9,-999.000,-999.000,9,-999.0000,   2.0520,-999.0000,-999.000
  316N145_8,        I03,     556,          1,         13,         13,2,19950531,       1553,   -19.9998,    50.6013,       4738,  2423.1,   2.0814,  34.7378,2,  34.7383,2,    159.3,2,   159.2,2,  121.87,2,   34.03,2,    0.00,2,    2.43,2,-999.000,9,-999.000,9,-999.000,9,  -999.0,9,  -999.0,9,-999.0000,9,-999.0000,9, -999.00,9, -999.00,9,  -999.0,9,  -999.0,-999.000,9,-999.000,-999.000,9,-999.0000,   1.9063,-999.0000,-999.000
  316N145_8,        I03,     556,          1,         12,         12,2,19950531,       1553,   -19.9998,    50.6013,       4738,  2622.7,   2.0037,  34.7389,2,  34.7399,2,    160.5,2,   160.0,2,  125.09,2,   34.13,2,    0.00,2,    2.44,2,   0.002,2,  -0.002,3,-999.000,9,  -999.0,9,  -999.0,9,-999.0000,9,-999.0000,9, -999.00,9, -999.00,9,  -999.0,9,  -999.0,-999.000,9,-999.000,-999.000,9,-999.0000,   1.8117,-999.0000,-999.000
  316N145_8,        I03,     556,          1,         11,         11,2,19950531,       1553,   -19.9998,    50.6013,       4738,  2825.5,   1.9237,  34.7393,2,  34.7385,2,    162.1,2,   160.8,2,  127.72,2,   34.18,2,    0.00,2,    2.45,2,-999.000,9,-999.000,9,-999.000,9,  -999.0,9,  -999.0,9,-999.0000,9,-999.0000,9, -999.00,9, -999.00,9,  -999.0,9,  -999.0,-999.000,9,-999.000,-999.000,9,-999.0000,   1.7141,-999.0000,-999.000
  316N145_8,        I03,     556,          1,         10,         10,2,19950531,       1553,   -19.9998,    50.6013,       4738,  3029.2,   1.8567,  34.7378,2,  34.7377,2,    162.7,2,   162.7,2,  129.10,2,   34.13,2,    0.00,2,    2.42,2,  -0.002,2,  -0.003,3,   0.008,3,  -999.0,9,  -999.0,9,-999.0000,9,-999.0000,9, -999.00,9, -999.00,9,  -999.0,9,  -999.0,-999.000,9,-999.000,  -0.004,2,-999.0000,   1.6289,-999.0000,-999.000
  316N145_8,        I03,     556,          1,          9,          9,2,19950531,       1553,   -19.9998,    50.6013,       4738,  3234.5,   1.7715,  34.7350,2,  34.7349,2,    165.1,2,   165.2,2,  129.66,2,   34.03,2,    0.00,2,    2.40,2,   0.001,2,   0.002,3,-999.000,9,  -999.0,9,  -999.0,9,-999.0000,9,-999.0000,9, -999.00,9, -999.00,9,  -999.0,9,  -999.0,-999.000,9,-999.000,-999.000,9,-999.0000,   1.5253,-999.0000,-999.000
  316N145_8,        I03,     556,          1,          8,          8,2,19950531,       1553,   -19.9998,    50.6013,       4738,  3438.8,   1.6675,  34.7317,2,  34.7310,2,    168.9,2,   169.9,2,  129.79,2,   33.89,2,    0.00,2,    2.39,2,  -0.001,2,  -0.004,3,   0.001,3,  -999.0,9,  -999.0,9,-999.0000,9,-999.0000,9, -999.00,9, -999.00,9,  -999.0,9,  -999.0,-999.000,9,-999.000,   0.002,2,-999.0000,   1.4032,-999.0000,-999.000
  316N145_8,        I03,     556,          1,          7,          7,2,19950531,       1553,   -19.9998,    50.6013,       4738,  3641.8,   1.5349,  34.7276,2,  34.7265,2,    175.2,2,   176.9,2,  128.26,2,   33.50,2,    0.00,2,    2.36,2,-999.000,9,-999.000,9,-999.000,9,  -999.0,9,  -999.0,9,-999.0000,9,-999.0000,9, -999.00,9, -999.00,9,  -999.0,9,  -999.0,-999.000,9,-999.000,-999.000,9,-999.0000,   1.2529,-999.0000,-999.000
  316N145_8,        I03,     556,          1,          6,          6,2,19950531,       1553,   -19.9998,    50.6013,       4738,  3846.3,   1.3251,  34.7208,2,  34.7196,2,    186.0,2,   188.6,2,  126.12,2,   33.02,2,    0.00,2,    2.32,2,  -0.001,2,  -0.002,3,  -0.001,3,  -999.0,9,  -999.0,9,-999.0000,9,-999.0000,9, -999.00,9, -999.00,9,  -999.0,9,  -999.0,-999.000,9,-999.000,   0.017,2,-999.0000,   1.0273,-999.0000,-999.000
  316N145_8,        I03,     556,          1,          5,          5,2,19950531,       1553,   -19.9998,    50.6013,       4738,  4047.5,   1.1870,  34.7156,2,  34.7143,2,    195.5,2,   196.7,2,  123.99,2,   32.59,2,    0.00,2,    2.26,2,-999.000,9,-999.000,9,-999.000,9,  -999.0,9,  -999.0,9,-999.0000,9,-999.0000,9, -999.00,9, -999.00,9,  -999.0,9,  -999.0,-999.000,9,-999.000,-999.000,9,-999.0000,   0.8716,-999.0000,-999.000
  316N145_8,        I03,     556,          1,          4,          4,2,19950531,       1553,   -19.9998,    50.6013,       4738,  4250.9,   1.0601,  34.7102,2,  34.7100,2,    203.0,2,   203.2,2,  123.71,2,   32.30,2,    0.00,2,    2.23,2,   0.001,2,  -0.001,3,-999.000,9,  -999.0,9,  -999.0,9,-999.0000,9,-999.0000,9, -999.00,9, -999.00,9,  -999.0,9,  -999.0,-999.000,9,-999.000,   0.047,2,-999.0000,   0.7264,-999.0000,-999.000
  316N145_8,        I03,     556,          1,          3,          3,2,19950531,       1553,   -19.9998,    50.6013,       4738,  4454.6,   1.0068,  34.7076,2,  34.7070,2,    205.8,3,   205.4,2,  124.46,2,   32.25,2,    0.00,2,    2.23,2,   0.005,2,  -0.002,3,-999.000,9,  -999.0,9,  -999.0,9,-999.0000,9,-999.0000,9, -999.00,9, -999.00,9,  -999.0,9,  -999.0,-999.000,9,-999.000,   0.053,2,-999.0000,   0.6522,-999.0000,-999.000
  316N145_8,        I03,     556,          1,          2,          2,2,19950531,       1553,   -19.9998,    50.6013,       4738,  4659.8,   0.9946,  34.7067,2,  34.7061,2,    206.8,3,   206.5,2,  124.19,2,   32.25,2,    0.00,2,    2.22,2,   0.003,2,   0.004,3,  -0.003,3,  -999.0,9,  -999.0,9,-999.0000,9,-999.0000,9, -999.00,9, -999.00,9,  -999.0,9,  -999.0,-999.000,9,-999.000,   0.055,2,-999.0000,   0.6171,-999.0000,-999.000
  316N145_8,        I03,     556,          1,          1,          1,2,19950531,       1553,   -19.9998,    50.6013,       4738,  4828.8,   1.0005,  34.7056,2,  34.7053,2,    208.2,3,   207.3,2,  124.53,2,   32.26,2,    0.00,2,    2.22,2,   0.008,2,   0.001,3,   0.122,3,  -999.0,9,  -999.0,9,-999.0000,9,-999.0000,9, -999.00,9, -999.00,9,  -999.0,9,  -999.0,-999.000,9,-999.000,   0.058,2,-999.0000,   0.6032,-999.0000,-999.000