BOTTLE,20140514CCHSIOSE
EXPOCODE,SECT_ID,STNNBR,CASTNO,SAMPNO,BTLNBR,BTLNBR_FLAG_W,DATE,TIME,LATITUDE,LONGITUDE,DEPTH,CTDPRS,CTDTMP,CTDSAL,CTDSAL_FLAG_W,SALNTY,SALNTY_FLAG_W,CTDOXY,CTDOXY_FLAG_W,OXYGEN,OXYGEN_FLAG_W,SILCAT,SILCAT_FLAG_W,NITRAT,NITRAT_FLAG_W,NITRIT,NITRIT_FLAG_W,PHSPHT,PHSPHT_FLAG_W,CFC-11,CFC-11_FLAG_W,CFC-12,CFC-12_FLAG_W,CFC113,CFC113_FLAG_W,TCARBN,TCARBN_FLAG_W,ALKALI,ALKALI_FLAG_W,TRITUM,TRITUM_FLAG_W,HELIUM,HELIUM_FLAG_W,DELHE3,DELHE3_FLAG_W,DELC13,DELC13_FLAG_W,DELC14,DELC14_FLAG_W,C14ERR,NEON,NEON_FLAG_W,NEONER,CCL4,CCL4_FLAG_W,HELIER,THETA,TRITER,DELHER
,,,,,,,,,,,METERS,DBAR,ITS-90,PSS-78,,PSS-78,,UMOL/KG,,UMOL/KG,,UMOL/KG,,UMOL/KG,,UMOL/KG,,UMOL/KG,,PMOL/KG,,PMOL/KG,,PMOL/KG,,UMOL/KG,,UMOL/KG,,TU,,NMOL/KG,,PERCNT,,/MILLE,,/MILLE,,/MILLE,NMOL/KG,,NMOL/KG,PMOL/KG,,NMOL/KG,DEG C,TU,PERCNT
  316N145_8,        I03,     494,          1,         36,         36,2,19950510,       0830,   -19.9997,    83.3997,       5156,     7.0,  25.6189,  35.0621,2,  35.0627,2,    206.2,2,   206.5,2,    3.11,2,    0.10,2,    0.00,2,    0.11,2,   1.853,2,   1.056,2,-999.000,9,  1951.0,2,  2299.0,6,-999.0000,9,-999.0000,9, -999.00,9, -999.00,9,  -999.0,9,  -999.0,-999.000,9,-999.000,-999.000,9,-999.0000,  25.6173,-999.0000,-999.000
  316N145_8,        I03,     494,          1,         35,         35,2,19950510,       0830,   -19.9997,    83.3997,       5156,    57.4,  25.5442,  35.0607,2,  35.0611,2,    206.9,2,   206.1,2,    3.10,2,    0.10,2,    0.00,2,    0.11,2,-999.000,9,-999.000,9,-999.000,9,  -999.0,9,  -999.0,9,-999.0000,9,-999.0000,9, -999.00,9, -999.00,9,  -999.0,9,  -999.0,-999.000,9,-999.000,-999.000,9,-999.0000,  25.5315,-999.0000,-999.000
  316N145_8,        I03,     494,          1,         34,         34,2,19950510,       0830,   -19.9997,    83.3997,       5156,   107.6,  22.3113,  35.2229,2,  35.2235,2,    201.6,2,   190.4,2,    4.99,2,    1.19,2,    0.22,2,    0.27,2,   2.011,2,   1.126,2,-999.000,9,  -999.0,9,  -999.0,9,-999.0000,9,-999.0000,9, -999.00,9, -999.00,9,  -999.0,9,  -999.0,-999.000,9,-999.000,-999.000,9,-999.0000,  22.2898,-999.0000,-999.000
  316N145_8,        I03,     494,          1,         33,         33,2,19950510,       0830,   -19.9997,    83.3997,       5156,   157.7,  20.6631,  35.4897,2,  35.5080,2,    182.9,2,   182.9,2,    5.41,2,    3.62,2,    0.02,2,    0.37,2,-999.000,9,-999.000,9,-999.000,9,  -999.0,9,  -999.0,9,-999.0000,9,-999.0000,9, -999.00,9, -999.00,9,  -999.0,9,  -999.0,-999.000,9,-999.000,-999.000,9,-999.0000,  20.6332,-999.0000,-999.000
  316N145_8,        I03,     494,          1,         32,         32,2,19950510,       0830,   -19.9997,    83.3997,       5156,   207.9,  18.9088,  35.6407,2,  35.6400,2,    182.7,2,   183.3,2,    6.45,2,    4.41,2,    0.00,2,    0.44,2,   2.198,2,   1.190,2,-999.000,9,  -999.0,9,  -999.0,9,-999.0000,9,-999.0000,9, -999.00,9, -999.00,9,  -999.0,9,  -999.0,-999.000,9,-999.000,-999.000,9,-999.0000,  18.8717,-999.0000,-999.000
  316N145_8,        I03,     494,          1,         31,         31,2,19950510,       0830,   -19.9997,    83.3997,       5156,   259.2,  17.2038,  35.6305,2,  35.6250,2,    178.5,2,   183.3,2,    7.29,2,    5.97,2,    0.00,2,    0.54,2,-999.000,9,-999.000,9,-999.000,9,  -999.0,9,  -999.0,9,-999.0000,9,-999.0000,9, -999.00,9, -999.00,9,  -999.0,9,  -999.0,-999.000,9,-999.000,-999.000,9,-999.0000,  17.1604,-999.0000,-999.000
  316N145_8,        I03,     494,          1,         30,         30,2,19950510,       0830,   -19.9997,    83.3997,       5156,   307.2,  15.5182,  35.5696,2,  35.5694,2,    205.0,2,   205.8,2,    4.53,2,    5.20,2,    0.00,2,    0.51,2,   2.527,2,   1.325,2,-999.000,9,  -999.0,9,  -999.0,9,-999.0000,9,-999.0000,9, -999.00,9, -999.00,9,  -999.0,9,  -999.0,-999.000,9,-999.000,-999.000,9,-999.0000,  15.4702,-999.0000,-999.000
  316N145_8,        I03,     494,          1,         29,         29,2,19950510,       0830,   -19.9997,    83.3997,       5156,   358.6,  13.7253,  35.3543,2,  35.3505,2,    218.1,2,   219.7,2,    4.10,2,    7.00,2,    0.00,2,    0.62,2,-999.000,9,-999.000,9,-999.000,9,  -999.0,9,  -999.0,9,-999.0000,9,-999.0000,9, -999.00,9, -999.00,9,  -999.0,9,  -999.0,-999.000,9,-999.000,-999.000,9,-999.0000,  13.6738,-999.0000,-999.000
  316N145_8,        I03,     494,          1,         28,         28,2,19950510,       0830,   -19.9997,    83.3997,       5156,   409.0,  12.4106,  35.1672,2,  35.1677,2,    225.9,2,   227.0,2,    3.88,2,    9.04,2,    0.00,2,    0.73,2,   2.878,2,   1.464,2,-999.000,9,  -999.0,9,  -999.0,9,-999.0000,9,-999.0000,9, -999.00,9, -999.00,9,  -999.0,9,  -999.0,-999.000,9,-999.000,-999.000,9,-999.0000,  12.3555,-999.0000,-999.000
  316N145_8,        I03,     494,          1,         27,         27,2,19950510,       0830,   -19.9997,    83.3997,       5156,   510.6,  10.7178,  34.9031,2,  34.8991,2,    235.7,2,   235.4,2,    4.51,2,   12.59,2,    0.00,2,    0.94,2,-999.000,9,-999.000,9,-999.000,9,  -999.0,9,  -999.0,9,-999.0000,9,-999.0000,9, -999.00,9, -999.00,9,  -999.0,9,  -999.0,-999.000,9,-999.000,-999.000,9,-999.0000,  10.6550,-999.0000,-999.000
  316N145_8,        I03,     494,          1,         26,         26,2,19950510,       0830,   -19.9997,    83.3997,       5156,   609.2,   9.3058,  34.6960,2,  34.7022,2,    229.0,2,   229.1,2,    6.61,2,   16.93,2,    0.00,2,    1.20,2,   2.415,2,   1.205,2,-999.000,9,  -999.0,9,  -999.0,9,-999.0000,9,-999.0000,9, -999.00,9, -999.00,9,  -999.0,9,  -999.0,-999.000,9,-999.000,-999.000,9,-999.0000,   9.2370,-999.0000,-999.000
  316N145_8,        I03,     494,          1,         25,         25,2,19950510,       0830,   -19.9997,    83.3997,       5156,   709.6,   7.5167,  34.5410,2,  34.5392,2,    201.7,2,   195.4,2,   18.85,2,   24.39,2,    0.00,2,    1.68,2,-999.000,9,-999.000,9,-999.000,9,  -999.0,9,  -999.0,9,-999.0000,9,-999.0000,9, -999.00,9, -999.00,9,  -999.0,9,  -999.0,-999.000,9,-999.000,-999.000,9,-999.0000,   7.4455,-999.0000,-999.000
  316N145_8,        I03,     494,          1,         24,         24,2,19950510,       0830,   -19.9997,    83.3997,       5156,   811.0,   6.2727,  34.5368,2,  34.5368,2,    151.3,2,   151.6,2,   43.14,2,   30.53,2,    0.00,2,    2.14,2,   0.190,2,   0.101,2,-999.000,9,  -999.0,9,  -999.0,9,-999.0000,9,-999.0000,9, -999.00,9, -999.00,9,  -999.0,9,  -999.0,-999.000,9,-999.000,-999.000,9,-999.0000,   6.1984,-999.0000,-999.000
  316N145_8,        I03,     494,          1,         23,         23,2,19950510,       0830,   -19.9997,    83.3997,       5156,   909.7,   5.3183,  34.5494,2,  34.5502,2,    129.3,2,   129.1,2,   64.07,2,   33.90,2,    0.00,2,    2.43,2,   0.057,2,   0.027,2,-999.000,9,  -999.0,9,  -999.0,9,-999.0000,9,-999.0000,9, -999.00,9, -999.00,9,  -999.0,9,  -999.0,-999.000,9,-999.000,-999.000,9,-999.0000,   5.2409,-999.0000,-999.000
  316N145_8,        I03,     494,          1,         22,         22,2,19950510,       0830,   -19.9997,    83.3997,       5156,  1011.6,   4.8237,  34.5998,2,  34.6025,2,    116.0,2,   116.4,2,   78.48,2,   35.25,2,    0.00,2,    2.54,2,   0.006,2,   0.004,2,-999.000,9,  -999.0,9,  -999.0,9,-999.0000,9,-999.0000,9, -999.00,9, -999.00,9,  -999.0,9,  -999.0,-999.000,9,-999.000,-999.000,9,-999.0000,   4.7406,-999.0000,-999.000
  316N145_8,        I03,     494,          1,         21,         21,3,19950510,       0830,   -19.9997,    83.3997,       5156,  1113.9,   4.5977,  34.6448,2,  34.7509,4,    112.4,2,   129.0,4,   68.89,4,   29.90,4,    0.00,4,    2.15,4,-999.000,9,-999.000,9,-999.000,9,  -999.0,9,  -999.0,9,-999.0000,9,-999.0000,9, -999.00,9, -999.00,9,  -999.0,9,  -999.0,-999.000,9,-999.000,-999.000,9,-999.0000,   4.5071,-999.0000,-999.000
  316N145_8,        I03,     494,          1,         20,         20,2,19950510,       0830,   -19.9997,    83.3997,       5156,  1211.4,   4.3490,  34.6694,2,  34.6700,2,    111.2,2,   111.8,2,   91.23,2,   35.66,2,    0.00,2,    2.59,2,-999.000,9,-999.000,9,-999.000,9,  -999.0,9,  -999.0,9,-999.0000,9,-999.0000,9, -999.00,9, -999.00,9,  -999.0,9,  -999.0,-999.000,9,-999.000,-999.000,9,-999.0000,   4.2519,-999.0000,-999.000
  316N145_8,        I03,     494,          1,         19,         19,2,19950510,       0830,   -19.9997,    83.3997,       5156,  1359.0,   4.0552,  34.6925,2,  34.6942,2,    113.5,2,   114.6,2,   96.78,2,   35.71,2,    0.00,2,    2.59,2,   0.003,2,   0.003,2,-999.000,9,  -999.0,9,  -999.0,9,-999.0000,9,-999.0000,9, -999.00,9, -999.00,9,  -999.0,9,  -999.0,-999.000,9,-999.000,-999.000,9,-999.0000,   3.9478,-999.0000,-999.000
  316N145_8,        I03,     494,          1,         18,         18,2,19950510,       0830,   -19.9997,    83.3997,       5156,  1515.4,   3.5682,  34.6993,2,  34.6999,2,    125.7,2,   124.9,2,  100.19,2,   35.37,2,    0.00,2,    2.56,2,-999.000,9,-999.000,9,-999.000,9,  -999.0,9,  -999.0,9,-999.0000,9,-999.0000,9, -999.00,9, -999.00,9,  -999.0,9,  -999.0,-999.000,9,-999.000,-999.000,9,-999.0000,   3.4522,-999.0000,-999.000
  316N145_8,        I03,     494,          1,         17,         17,2,19950510,       0830,   -19.9997,    83.3997,       5156,  1718.2,   3.0826,  34.7112,2,  34.7112,2,    134.2,2,   135.2,2,  105.55,2,   34.97,2,    0.00,2,    2.51,2,-999.000,9,-999.000,9,-999.000,9,  -999.0,9,  -999.0,9,-999.0000,9,-999.0000,9, -999.00,9, -999.00,9,  -999.0,9,  -999.0,-999.000,9,-999.000,-999.000,9,-999.0000,   2.9548,-999.0000,-999.000
  316N145_8,        I03,     494,          1,         16,         16,2,19950510,       0830,   -19.9997,    83.3997,       5156,  1918.4,   2.7121,  34.7229,2,  34.7230,2,    145.2,2,   145.4,2,  109.20,2,   34.53,2,    0.00,2,    2.47,2,  -0.001,2,   0.000,2,-999.000,9,  -999.0,9,  -999.0,9,-999.0000,9,-999.0000,9, -999.00,9, -999.00,9,  -999.0,9,  -999.0,-999.000,9,-999.000,-999.000,9,-999.0000,   2.5718,-999.0000,-999.000
  316N145_8,        I03,     494,          1,         15,         15,2,19950510,       0830,   -19.9997,    83.3997,       5156,  2123.4,   2.3907,  34.7254,2,  34.7256,2,    154.3,2,   154.3,2,  112.43,2,   33.98,2,    0.00,2,    2.42,2,-999.000,9,-999.000,9,-999.000,9,  -999.0,9,  -999.0,9,-999.0000,9,-999.0000,9, -999.00,9, -999.00,9,  -999.0,9,  -999.0,-999.000,9,-999.000,-999.000,9,-999.0000,   2.2372,-999.0000,-999.000
  316N145_8,        I03,     494,          1,         14,         14,2,19950510,       0830,   -19.9997,    83.3997,       5156,  2326.2,   2.1378,  34.7258,2,  34.7258,2,    163.7,2,   163.4,2,  113.49,2,   33.49,2,    0.00,2,    2.38,2,-999.000,9,-999.000,9,-999.000,9,  -999.0,9,  -999.0,9,-999.0000,9,-999.0000,9, -999.00,9, -999.00,9,  -999.0,9,  -999.0,-999.000,9,-999.000,-999.000,9,-999.0000,   1.9704,-999.0000,-999.000
  316N145_8,        I03,     494,          1,         13,         13,2,19950510,       0830,   -19.9997,    83.3997,       5156,  2529.2,   1.9731,  34.7263,2,  34.7266,2,    170.5,2,   169.5,2,  114.55,2,   33.25,2,    0.00,2,    2.35,2,-999.000,9,-999.000,9,-999.000,9,  -999.0,9,  -999.0,9,-999.0000,9,-999.0000,9, -999.00,9, -999.00,9,  -999.0,9,  -999.0,-999.000,9,-999.000,-999.000,9,-999.0000,   1.7903,-999.0000,-999.000
  316N145_8,        I03,     494,          1,         12,         12,2,19950510,       0830,   -19.9997,    83.3997,       5156,  2728.3,   1.8257,  34.7267,2,  34.7276,2,    173.5,2,   173.6,2,  116.70,2,   33.10,2,    0.00,2,    2.33,2,-999.000,9,-999.000,9,-999.000,9,  -999.0,9,  -999.0,9,-999.0000,9,-999.0000,9, -999.00,9, -999.00,9,  -999.0,9,  -999.0,-999.000,9,-999.000,-999.000,9,-999.0000,   1.6274,-999.0000,-999.000
  316N145_8,        I03,     494,          1,         11,         11,2,19950510,       0830,   -19.9997,    83.3997,       5156,  2934.0,   1.7066,  34.7268,2,  34.7270,2,    179.3,2,   179.4,2,  117.32,2,   32.81,2,    0.00,2,    2.31,2,   0.000,2,   0.000,2,-999.000,9,  -999.0,9,  -999.0,9,-999.0000,9,-999.0000,9, -999.00,9, -999.00,9,  -999.0,9,  -999.0,-999.000,9,-999.000,-999.000,9,-999.0000,   1.4913,-999.0000,-999.000
  316N145_8,        I03,     494,          1,         10,         10,2,19950510,       0830,   -19.9997,    83.3997,       5156,  3137.5,   1.6100,  34.7263,2,  34.7262,2,    181.9,2,   180.9,2,  119.92,2,   32.81,2,    0.00,2,    2.30,2,-999.000,9,-999.000,9,-999.000,9,  -999.0,9,  -999.0,9,-999.0000,9,-999.0000,9, -999.00,9, -999.00,9,  -999.0,9,  -999.0,-999.000,9,-999.000,-999.000,9,-999.0000,   1.3773,-999.0000,-999.000
  316N145_8,        I03,     494,          1,          9,          9,2,19950510,       0830,   -19.9997,    83.3997,       5156,  3342.4,   1.5348,  34.7247,2,  34.7242,2,    178.6,2,   178.5,2,  125.84,2,   33.21,2,    0.00,2,    2.33,2,-999.000,9,-999.000,9,-999.000,9,  -999.0,9,  -999.0,9,-999.0000,9,-999.0000,9, -999.00,9, -999.00,9,  -999.0,9,  -999.0,-999.000,9,-999.000,-999.000,9,-999.0000,   1.2835,-999.0000,-999.000
  316N145_8,        I03,     494,          1,          8,          8,2,19950510,       0830,   -19.9997,    83.3997,       5156,  3546.7,   1.4651,  34.7223,2,  34.7217,2,    179.6,2,   179.2,2,  127.80,2,   33.32,2,    0.00,2,    2.34,2,-999.000,9,-999.000,9,-999.000,9,  -999.0,9,  -999.0,9,-999.0000,9,-999.0000,9, -999.00,9, -999.00,9,  -999.0,9,  -999.0,-999.000,9,-999.000,-999.000,9,-999.0000,   1.1948,-999.0000,-999.000
  316N145_8,        I03,     494,          1,          7,          7,2,19950510,       0830,   -19.9997,    83.3997,       5156,  3751.1,   1.4112,  34.7210,2,  34.7207,2,    180.5,2,   181.3,2,  128.87,2,   33.22,2,    0.00,2,    2.33,2,-999.000,9,-999.000,9,-999.000,9,  -999.0,9,  -999.0,9,-999.0000,9,-999.0000,9, -999.00,9, -999.00,9,  -999.0,9,  -999.0,-999.000,9,-999.000,-999.000,9,-999.0000,   1.1212,-999.0000,-999.000
  316N145_8,        I03,     494,          1,          6,          6,2,19950510,       0830,   -19.9997,    83.3997,       5156,  3953.2,   1.3815,  34.7193,2,  34.7195,2,    182.7,2,   183.1,2,  129.95,2,   33.23,2,    0.00,2,    2.33,2,  -0.002,2,  -0.001,2,-999.000,9,  -999.0,9,  -999.0,9,-999.0000,9,-999.0000,9, -999.00,9, -999.00,9,  -999.0,9,  -999.0,-999.000,9,-999.000,-999.000,9,-999.0000,   1.0707,-999.0000,-999.000
  316N145_8,        I03,     494,          1,          5,          5,2,19950510,       0830,   -19.9997,    83.3997,       5156,  4208.3,   1.3690,  34.7183,2,  34.7178,2,    183.5,2,   183.0,2,  131.48,2,   33.33,2,    0.00,2,    2.33,2,-999.000,9,-999.000,9,-999.000,9,  -999.0,9,  -999.0,9,-999.0000,9,-999.0000,9, -999.00,9, -999.00,9,  -999.0,9,  -999.0,-999.000,9,-999.000,-999.000,9,-999.0000,   1.0307,-999.0000,-999.000
  316N145_8,        I03,     494,          1,          4,          4,2,19950510,       0830,   -19.9997,    83.3997,       5156,  4464.1,   1.3723,  34.7174,2,  34.7174,2,    183.8,2,   184.0,2,  131.66,2,   33.29,2,    0.00,2,    2.33,2,-999.000,9,-999.000,9,-999.000,9,  -999.0,9,  -999.0,9,-999.0000,9,-999.0000,9, -999.00,9, -999.00,9,  -999.0,9,  -999.0,-999.000,9,-999.000,-999.000,9,-999.0000,   1.0052,-999.0000,-999.000
  316N145_8,        I03,     494,          1,          3,          3,2,19950510,       0830,   -19.9997,    83.3997,       5156,  4721.0,   1.3881,  34.7169,2,  34.7168,2,    184.2,2,   184.2,2,  131.63,2,   33.34,2,    0.00,2,    2.33,2,-999.000,9,-999.000,9,-999.000,9,  -999.0,9,  -999.0,9,-999.0000,9,-999.0000,9, -999.00,9, -999.00,9,  -999.0,9,  -999.0,-999.000,9,-999.000,-999.000,9,-999.0000,   0.9907,-999.0000,-999.000
  316N145_8,        I03,     494,          1,          2,          2,2,19950510,       0830,   -19.9997,    83.3997,       5156,  4976.8,   1.4173,  34.7170,2,  34.7168,2,    185.7,2,   184.3,3,  131.37,2,   33.25,2,    0.00,2,    2.32,2,-999.000,9,-999.000,9,-999.000,9,  -999.0,9,  -999.0,9,-999.0000,9,-999.0000,9, -999.00,9, -999.00,9,  -999.0,9,  -999.0,-999.000,9,-999.000,-999.000,9,-999.0000,   0.9885,-999.0000,-999.000
  316N145_8,        I03,     494,          1,          1,          1,2,19950510,       0830,   -19.9997,    83.3997,       5156,  5286.0,   1.4559,  34.7172,2,  34.7172,2,    185.5,2,   185.5,2,  131.11,2,   33.25,2,    0.00,2,    2.33,2,  -0.001,2,   0.003,2,-999.000,9,  -999.0,9,  -999.0,9,-999.0000,9,-999.0000,9, -999.00,9, -999.00,9,  -999.0,9,  -999.0,-999.000,9,-999.000,-999.000,9,-999.0000,   0.9877,-999.0000,-999.000