BOTTLE,20140514CCHSIOSE
EXPOCODE,SECT_ID,STNNBR,CASTNO,SAMPNO,BTLNBR,BTLNBR_FLAG_W,DATE,TIME,LATITUDE,LONGITUDE,DEPTH,CTDPRS,CTDTMP,CTDSAL,CTDSAL_FLAG_W,SALNTY,SALNTY_FLAG_W,CTDOXY,CTDOXY_FLAG_W,OXYGEN,OXYGEN_FLAG_W,SILCAT,SILCAT_FLAG_W,NITRAT,NITRAT_FLAG_W,NITRIT,NITRIT_FLAG_W,PHSPHT,PHSPHT_FLAG_W,CFC-11,CFC-11_FLAG_W,CFC-12,CFC-12_FLAG_W,CFC113,CFC113_FLAG_W,TCARBN,TCARBN_FLAG_W,ALKALI,ALKALI_FLAG_W,TRITUM,TRITUM_FLAG_W,HELIUM,HELIUM_FLAG_W,DELHE3,DELHE3_FLAG_W,DELC13,DELC13_FLAG_W,DELC14,DELC14_FLAG_W,C14ERR,NEON,NEON_FLAG_W,NEONER,CCL4,CCL4_FLAG_W,HELIER,THETA,TRITER,DELHER
,,,,,,,,,,,METERS,DBAR,ITS-90,PSS-78,,PSS-78,,UMOL/KG,,UMOL/KG,,UMOL/KG,,UMOL/KG,,UMOL/KG,,UMOL/KG,,PMOL/KG,,PMOL/KG,,PMOL/KG,,UMOL/KG,,UMOL/KG,,TU,,NMOL/KG,,PERCNT,,/MILLE,,/MILLE,,/MILLE,NMOL/KG,,NMOL/KG,PMOL/KG,,NMOL/KG,DEG C,TU,PERCNT
  316N145_8,        I03,     530,          1,         29,         29,2,19950522,       1024,   -20.3663,    62.2423,       3020,     6.6,  25.3951,  35.1209,2,  35.1207,2,    206.0,2,   207.1,2,    3.16,2,    0.01,2,    0.00,2,    0.11,2,-999.000,9,-999.000,9,-999.000,9,  1967.3,6,  2301.6,6,   1.1263,2,   1.7159,2,   -1.30,2, -999.00,9,  -999.0,9,  -999.0,   6.780,2,   0.034,-999.000,9,   0.0086,  25.3936,   0.0040,    0.14
  316N145_8,        I03,     530,          1,         28,         28,2,19950522,       1024,   -20.3663,    62.2423,       3020,    54.8,  25.3403,  35.1245,2,  35.1242,2,    208.3,2,   207.0,2,    3.15,2,    0.01,2,    0.00,2,    0.12,2,-999.000,9,-999.000,9,-999.000,9,  -999.0,9,  -999.0,9,   1.1188,2,   1.7078,2,   -1.03,2, -999.00,9,  -999.0,9,  -999.0,   6.764,2,   0.034,-999.000,9,   0.0085,  25.3283,   0.0040,    0.14
  316N145_8,        I03,     530,          1,         27,         27,2,19950522,       1024,   -20.3663,    62.2423,       3020,   106.3,  22.7198,  35.4300,2,  35.4297,2,    217.5,2,   218.4,2,    3.34,2,    0.01,2,    0.00,2,    0.13,2,-999.000,9,-999.000,9,-999.000,9,  -999.0,9,  -999.0,9,   1.1230,2,   1.7244,2,   -1.15,2, -999.00,9,  -999.0,9,  -999.0,   6.880,2,   0.034,-999.000,9,   0.0086,  22.6982,   0.0040,    0.14
  316N145_8,        I03,     530,          1,         26,         26,2,19950522,       1024,   -20.3663,    62.2423,       3020,   154.9,  20.3211,  35.5885,2,  35.5877,2,    197.9,2,   198.4,2,    3.93,2,    1.52,2,    0.07,2,    0.25,2,-999.000,9,-999.000,9,-999.000,9,  -999.0,9,  -999.0,9,   1.0935,2,   1.7342,2,   -0.40,2, -999.00,9,  -999.0,9,  -999.0,   7.038,2,   0.035,-999.000,9,   0.0087,  20.2920,   0.0039,    0.14
  316N145_8,        I03,     530,          1,         25,         25,2,19950522,       1024,   -20.3663,    62.2423,       3020,   206.6,  18.3830,  35.6543,2,  35.6543,2,    188.2,2,   189.5,2,    4.94,2,    3.92,2,    0.01,2,    0.40,2,-999.000,9,-999.000,9,-999.000,9,  -999.0,9,  -999.0,9,   1.0294,2,   1.7361,2,    0.18,2, -999.00,9,  -999.0,9,  -999.0,   7.083,2,   0.035,-999.000,9,   0.0087,  18.3468,   0.0039,    0.14
  316N145_8,        I03,     530,          1,         24,         24,2,19950522,       1024,   -20.3663,    62.2423,       3020,   257.0,  17.0877,  35.6667,2,  35.6637,2,    202.6,2,   201.3,2,    4.11,2,    3.59,2,    0.00,2,    0.41,2,-999.000,9,-999.000,9,-999.000,9,  -999.0,9,  -999.0,9,   0.9680,2,   1.7456,2,    0.25,2, -999.00,9,  -999.0,9,  -999.0,   7.144,2,   0.036,-999.000,9,   0.0087,  17.0449,   0.0038,    0.14
  316N145_8,        I03,     530,          1,         23,         23,2,19950522,       1024,   -20.3663,    62.2423,       3020,   307.0,  15.2195,  35.5042,2,  35.5016,2,    212.9,2,   212.9,2,    3.69,2,    4.93,2,    0.00,2,    0.49,2,-999.000,9,-999.000,9,-999.000,9,  -999.0,9,  -999.0,9,   0.8879,2,   1.7462,2,    0.01,2, -999.00,9,  -999.0,9,  -999.0,   7.189,2,   0.036,-999.000,9,   0.0087,  15.1722,   0.0036,    0.14
  316N145_8,        I03,     530,          1,         22,         22,2,19950522,       1024,   -20.3663,    62.2423,       3020,   355.5,  13.6122,  35.3242,2,  35.3018,2,    220.7,2,   222.0,2,    3.88,2,    7.42,2,    0.00,2,    0.64,2,-999.000,9,-999.000,9,-999.000,9,  -999.0,9,  -999.0,9,-999.0000,9,-999.0000,9, -999.00,9, -999.00,9,  -999.0,9,  -999.0,-999.000,9,-999.000,-999.000,9,-999.0000,  13.5614,-999.0000,-999.000
  316N145_8,        I03,     530,          1,         21,         21,2,19950522,       1024,   -20.3663,    62.2423,       3020,   406.5,  12.4555,  35.1515,2,  35.1527,2,    224.2,2,   228.2,2,    4.07,2,    9.33,2,    0.00,2,    0.75,2,-999.000,9,-999.000,9,-999.000,9,  -999.0,9,  -999.0,9,   0.7270,2,   1.7612,2,    0.07,2, -999.00,9,  -999.0,9,  -999.0,   7.391,2,   0.037,-999.000,9,   0.0088,  12.4006,   0.0034,    0.14
  316N145_8,        I03,     530,          1,         20,         20,2,19950522,       1024,   -20.3663,    62.2423,       3020,   456.6,  11.6706,  35.0306,2,  35.0406,2,    228.5,2,   230.7,2,    4.25,2,   10.77,2,    0.00,2,    0.84,2,-999.000,9,-999.000,9,-999.000,9,  -999.0,9,  -999.0,9,-999.0000,9,-999.0000,9, -999.00,9, -999.00,9,  -999.0,9,  -999.0,-999.000,9,-999.000,-999.000,9,-999.0000,  11.6114,-999.0000,-999.000
  316N145_8,        I03,     530,          1,         19,         19,2,19950522,       1024,   -20.3663,    62.2423,       3020,   506.6,  11.0722,  34.9487,2,  34.9481,2,    233.0,2,   231.8,2,    4.44,2,   12.06,2,    0.00,2,    0.91,2,-999.000,9,-999.000,9,-999.000,9,  -999.0,9,  -999.0,9,   0.6139,2,   1.7569,2,    0.62,2, -999.00,9,  -999.0,9,  -999.0,   7.419,2,   0.037,-999.000,9,   0.0088,  11.0087,   0.0031,    0.14
  316N145_8,        I03,     530,          1,         18,         18,2,19950522,       1024,   -20.3663,    62.2423,       3020,   608.1,   9.9934,  34.7879,2,  34.7890,2,    233.3,2,   229.0,2,    5.66,2,   14.79,2,    0.00,2,    1.07,2,-999.000,9,-999.000,9,-999.000,9,  -999.0,9,  -999.0,9,-999.0000,9,   1.7590,2,    1.08,2, -999.00,9,  -999.0,9,  -999.0,   7.491,2,   0.037,-999.000,9,   0.0088,   9.9216,-999.0000,    0.14
  316N145_8,        I03,     530,          1,         17,         17,2,19950522,       1024,   -20.3663,    62.2423,       3020,   708.3,   8.8638,  34.6504,2,  34.6559,2,    217.4,2,   217.2,2,    8.91,2,   18.63,2,    0.00,2,    1.32,2,   1.734,2,   0.868,2,-999.000,9,  -999.0,9,  -999.0,9,   0.3579,2,   1.7628,2,    1.62,2, -999.00,9,  -999.0,9,  -999.0,   7.478,2,   0.037,-999.000,9,   0.0088,   8.7857,   0.0028,    0.14
  316N145_8,        I03,     530,          1,         16,         16,2,19950522,       1024,   -20.3663,    62.2423,       3020,   809.2,   7.1345,  34.5251,2,  34.5261,2,    192.7,2,   192.1,2,   21.36,2,   24.97,2,    0.00,2,    1.74,2,   0.657,2,   0.342,2,-999.000,9,  -999.0,9,  -999.0,9,   0.1524,2,   1.7800,2,    3.03,2, -999.00,9,  -999.0,9,  -999.0,   7.661,2,   0.038,-999.000,9,   0.0089,   7.0551,   0.0024,    0.14
  316N145_8,        I03,     530,          1,         15,         15,2,19950522,       1024,   -20.3663,    62.2423,       3020,   910.2,   5.4616,  34.4695,2,  34.4694,2,    169.7,2,   172.0,2,   40.75,2,   30.10,2,    0.00,2,    2.11,2,   0.236,2,   0.125,2,-999.000,9,  -999.0,9,  -999.0,9,-999.0000,9,-999.0000,9, -999.00,9, -999.00,9,  -999.0,9,  -999.0,-999.000,9,-999.000,-999.000,9,-999.0000,   5.3832,-999.0000,-999.000
  316N145_8,        I03,     530,          1,         14,         14,2,19950522,       1024,   -20.3663,    62.2423,       3020,  1010.1,   4.8327,  34.5271,2,  34.5268,2,    143.3,2,   145.0,2,   61.39,2,   32.98,2,    0.00,2,    2.35,2,   0.068,2,   0.035,2,-999.000,9,  -999.0,9,  -999.0,9,   0.0149,2,   1.8138,2,    8.19,2, -999.00,9,  -999.0,9,  -999.0,   7.774,2,   0.039,-999.000,9,   0.0091,   4.7497,   0.0022,    0.14
  316N145_8,        I03,     530,          1,         13,         13,2,19950522,       1024,   -20.3663,    62.2423,       3020,  1111.0,   4.4509,  34.5852,2,  34.5878,2,    130.3,2,   129.9,2,   75.94,2,   34.40,2,    0.01,2,    2.47,2,   0.015,2,   0.010,2,-999.000,9,  -999.0,9,  -999.0,9,   0.0035,2,   1.8414,2,   10.26,2, -999.00,9,  -999.0,9,  -999.0,   7.868,2,   0.039,-999.000,9,   0.0092,   4.3619,   0.0022,    0.14
  316N145_8,        I03,     530,          1,         12,         12,2,19950522,       1024,   -20.3663,    62.2423,       3020,  1211.1,   4.1620,  34.6349,2,  34.6361,2,    128.3,2,   127.9,2,   84.15,2,   34.55,2,    0.00,2,    2.49,2,   0.006,2,   0.005,2,-999.000,9,  -999.0,9,  -999.0,9,-999.0000,9,-999.0000,9, -999.00,9, -999.00,9,  -999.0,9,  -999.0,-999.000,9,-999.000,-999.000,9,-999.0000,   4.0667,-999.0000,-999.000
  316N145_8,        I03,     530,          1,         11,         11,2,19950522,       1024,   -20.3663,    62.2423,       3020,  1312.3,   3.7486,  34.6508,2,  34.6512,2,    134.5,2,   133.7,2,   88.25,2,   34.40,2,    0.01,2,    2.47,2,   0.005,2,   0.004,2,-999.000,9,  -999.0,9,  -999.0,9,-999.0000,9,   1.8476,2,   11.67,2, -999.00,9,  -999.0,9,  -999.0,   7.914,2,   0.040,-999.000,9,   0.0092,   3.6485,-999.0000,    0.14
  316N145_8,        I03,     530,          1,         10,         10,2,19950522,       1024,   -20.3663,    62.2423,       3020,  1413.1,   3.4172,  34.6669,2,  34.6663,2,    138.4,2,   140.1,2,   91.74,2,   34.22,2,    0.00,2,    2.45,2,-999.000,9,-999.000,9,-999.000,9,  -999.0,9,  -999.0,9,-999.0000,9,-999.0000,9, -999.00,9, -999.00,9,  -999.0,9,  -999.0,-999.000,9,-999.000,-999.000,9,-999.0000,   3.3118,-999.0000,-999.000
  316N145_8,        I03,     530,          1,          9,          9,2,19950522,       1024,   -20.3663,    62.2423,       3020,  1514.6,   3.0912,  34.6799,2,  34.6796,2,    145.6,2,   146.9,2,   94.82,2,   33.88,2,    0.00,2,    2.41,2,-999.000,9,-999.000,9,-999.000,9,  -999.0,9,  -999.0,9,   0.0003,2,   1.8531,2,   12.50,2, -999.00,9,  -999.0,9,  -999.0,   7.952,2,   0.040,-999.000,9,   0.0093,   2.9809,   0.0022,    0.14
  316N145_8,        I03,     530,          1,          8,          8,2,19950522,       1024,   -20.3663,    62.2423,       3020,  1616.2,   2.7480,  34.6929,2,  34.6931,2,    153.4,2,   155.4,2,   98.32,2,   33.44,2,    0.00,2,    2.37,2,-999.000,9,-999.000,9,-999.000,9,  -999.0,9,  -999.0,9,-999.0000,9,   1.8710,2,   12.73,2, -999.00,9,  -999.0,9,  -999.0,   8.020,2,   0.018,-999.000,9,   0.0030,   2.6332,-999.0000,    0.14
  316N145_8,        I03,     530,          1,          7,          7,2,19950522,       1024,   -20.3663,    62.2423,       3020,  1818.6,   2.4668,  34.7064,2,  34.7071,2,    161.8,2,   161.4,2,  103.30,2,   33.10,2,    0.00,2,    2.33,2,-999.000,9,-999.000,9,-999.000,9,  -999.0,9,  -999.0,9,-999.0000,9,   1.8740,2,   13.54,2, -999.00,9,  -999.0,9,  -999.0,   8.050,2,   0.020,-999.000,9,   0.0030,   2.3386,-999.0000,    0.13
  316N145_8,        I03,     530,          1,          6,          6,2,19950522,       1024,   -20.3663,    62.2423,       3020,  2020.1,   2.2091,  34.7187,2,  34.7180,2,    165.7,2,   165.7,2,  108.93,2,   33.01,2,    0.00,2,    2.33,2,-999.000,9,-999.000,9,-999.000,9,  -999.0,9,  -999.0,9,-999.0000,9,   1.9080,2,   15.13,2, -999.00,9,  -999.0,9,  -999.0,   8.116,2,   0.019,-999.000,9,   0.0030,   2.0675,-999.0000,    0.14
  316N145_8,        I03,     530,          1,          5,          5,2,19950522,       1024,   -20.3663,    62.2423,       3020,  2223.0,   2.0463,  34.7226,2,  34.7231,2,    168.3,2,   168.4,2,  112.69,2,   32.97,2,    0.00,2,    2.32,2,-999.000,9,-999.000,9,-999.000,9,  -999.0,9,  -999.0,9,-999.0000,9,   1.8860,2,   16.01,2, -999.00,9,  -999.0,9,  -999.0,   8.078,2,   0.021,-999.000,9,   0.0030,   1.8897,-999.0000,    0.13
  316N145_8,        I03,     530,          1,          4,          4,2,19950522,       1024,   -20.3663,    62.2423,       3020,  2426.2,   1.9370,  34.7244,2,  34.7243,2,    171.3,2,   170.7,2,  114.98,2,   32.92,2,    0.00,2,    2.32,2,-999.000,9,-999.000,9,-999.000,9,  -999.0,9,  -999.0,9,-999.0000,9,   1.9110,2,   16.01,2, -999.00,9,  -999.0,9,  -999.0,   8.164,2,   0.019,-999.000,9,   0.0030,   1.7642,-999.0000,    0.14
  316N145_8,        I03,     530,          1,          3,          3,2,19950522,       1024,   -20.3663,    62.2423,       3020,  2629.6,   1.8587,  34.7252,2,  34.7253,2,    172.2,2,   172.1,2,  117.27,2,   32.98,2,    0.00,2,    2.32,2,-999.000,9,-999.000,9,-999.000,9,  -999.0,9,  -999.0,9,-999.0000,9,   1.8740,2,   15.64,2, -999.00,9,  -999.0,9,  -999.0,   8.055,2,   0.020,-999.000,9,   0.0030,   1.6689,-999.0000,    0.13
  316N145_8,        I03,     530,          1,          2,          2,2,19950522,       1024,   -20.3663,    62.2423,       3020,  2831.5,   1.7216,  34.7242,2,  34.7237,2,    176.1,2,   176.5,2,  120.64,2,   32.88,2,    0.00,2,    2.31,2,-999.000,9,-999.000,9,-999.000,9,  -999.0,9,  -999.0,9,-999.0000,9,   1.8860,2,   14.86,2, -999.00,9,  -999.0,9,  -999.0,   8.097,2,   0.019,-999.000,9,   0.0030,   1.5158,-999.0000,    0.14
  316N145_8,        I03,     530,          1,          1,          1,2,19950522,       1024,   -20.3663,    62.2423,       3020,  3061.7,   1.6767,  34.7236,2,  34.7227,2,    178.2,2,   177.9,2,  120.82,2,   32.89,2,    0.00,2,    2.30,2,-999.000,9,-999.000,9,-999.000,9,  -999.0,9,  -999.0,9,-999.0000,9,   1.8880,2,   14.38,2, -999.00,9,  -999.0,9,  -999.0,   8.107,2,   0.021,-999.000,9,   0.0030,   1.4498,-999.0000,    0.13