BOTTLE,20140514CCHSIOSE
EXPOCODE,SECT_ID,STNNBR,CASTNO,SAMPNO,BTLNBR,BTLNBR_FLAG_W,DATE,TIME,LATITUDE,LONGITUDE,DEPTH,CTDPRS,CTDTMP,CTDSAL,CTDSAL_FLAG_W,SALNTY,SALNTY_FLAG_W,CTDOXY,CTDOXY_FLAG_W,OXYGEN,OXYGEN_FLAG_W,SILCAT,SILCAT_FLAG_W,NITRAT,NITRAT_FLAG_W,NITRIT,NITRIT_FLAG_W,PHSPHT,PHSPHT_FLAG_W,CFC-11,CFC-11_FLAG_W,CFC-12,CFC-12_FLAG_W,CFC113,CFC113_FLAG_W,TCARBN,TCARBN_FLAG_W,ALKALI,ALKALI_FLAG_W,TRITUM,TRITUM_FLAG_W,HELIUM,HELIUM_FLAG_W,DELHE3,DELHE3_FLAG_W,DELC13,DELC13_FLAG_W,DELC14,DELC14_FLAG_W,C14ERR,NEON,NEON_FLAG_W,NEONER,CCL4,CCL4_FLAG_W,HELIER,THETA,TRITER,DELHER
,,,,,,,,,,,METERS,DBAR,ITS-90,PSS-78,,PSS-78,,UMOL/KG,,UMOL/KG,,UMOL/KG,,UMOL/KG,,UMOL/KG,,UMOL/KG,,PMOL/KG,,PMOL/KG,,PMOL/KG,,UMOL/KG,,UMOL/KG,,TU,,NMOL/KG,,PERCNT,,/MILLE,,/MILLE,,/MILLE,NMOL/KG,,NMOL/KG,PMOL/KG,,NMOL/KG,DEG C,TU,PERCNT
  316N145_8,        I03,     500,          1,         36,         36,2,19950512,       0405,   -20.0002,    79.0820,       4837,     7.0,  26.0087,  35.0277,2,  35.0289,2,    204.1,2,   204.8,2,    3.12,2,    0.05,2,    0.00,2,    0.13,2,   1.804,2,   1.024,2,-999.000,9,  1941.2,6,  2291.1,6,-999.0000,9,-999.0000,9, -999.00,9, -999.00,9,  -999.0,9,  -999.0,-999.000,9,-999.000,-999.000,9,-999.0000,  26.0071,-999.0000,-999.000
  316N145_8,        I03,     500,          1,         35,         35,2,19950512,       0405,   -20.0002,    79.0820,       4837,    55.9,  25.9049,  35.0382,2,  35.0409,2,    206.2,2,   205.5,2,    3.11,2,    0.05,2,    0.00,2,    0.15,2,-999.000,9,-999.000,9,-999.000,9,  -999.0,9,  -999.0,9,-999.0000,9,-999.0000,9, -999.00,9, -999.00,9,  -999.0,9,  -999.0,-999.000,9,-999.000,-999.000,9,-999.0000,  25.8925,-999.0000,-999.000
  316N145_8,        I03,     500,          1,         34,         34,2,19950512,       0405,   -20.0002,    79.0820,       4837,   105.3,  21.9552,  35.4535,2,  35.4611,2,    215.6,2,   217.2,2,    3.31,2,    0.05,2,    0.00,2,    0.18,2,   2.192,2,   1.216,2,-999.000,9,  -999.0,9,  -999.0,9,-999.0000,9,-999.0000,9, -999.00,9, -999.00,9,  -999.0,9,  -999.0,-999.000,9,-999.000,-999.000,9,-999.0000,  21.9344,-999.0000,-999.000
  316N145_8,        I03,     500,          1,         33,         33,2,19950512,       0405,   -20.0002,    79.0820,       4837,   155.6,  20.0864,  35.5493,2,  35.5434,2,    187.9,2,   182.5,2,    6.09,2,    3.96,2,    0.03,2,    0.42,2,-999.000,9,-999.000,9,-999.000,9,  -999.0,9,  -999.0,9,-999.0000,9,-999.0000,9, -999.00,9, -999.00,9,  -999.0,9,  -999.0,-999.000,9,-999.000,-999.000,9,-999.0000,  20.0575,-999.0000,-999.000
  316N145_8,        I03,     500,          1,         32,         32,2,19950512,       0405,   -20.0002,    79.0820,       4837,   205.5,  18.6763,  35.7077,2,  35.7077,2,    186.2,2,   190.5,2,    5.22,2,    3.40,2,    0.01,2,    0.41,2,   2.262,2,   1.220,2,-999.000,9,  -999.0,9,  -999.0,9,-999.0000,9,-999.0000,9, -999.00,9, -999.00,9,  -999.0,9,  -999.0,-999.000,9,-999.000,-999.000,9,-999.0000,  18.6399,-999.0000,-999.000
  316N145_8,        I03,     500,          1,         31,         31,2,19950512,       0405,   -20.0002,    79.0820,       4837,   256.3,  17.3093,  35.7541,2,  35.7397,2,    205.5,2,   205.8,2,    4.13,2,    2.67,2,    0.01,2,    0.39,2,-999.000,9,-999.000,9,-999.000,9,  -999.0,9,  -999.0,9,-999.0000,9,-999.0000,9, -999.00,9, -999.00,9,  -999.0,9,  -999.0,-999.000,9,-999.000,-999.000,9,-999.0000,  17.2662,-999.0000,-999.000
  316N145_8,        I03,     500,          1,         30,         30,2,19950512,       0405,   -20.0002,    79.0820,       4837,   307.0,  15.2277,  35.5453,2,  35.5363,2,    208.9,2,   209.0,2,    4.12,2,    5.16,2,    0.01,2,    0.54,2,   2.605,2,   1.353,2,-999.000,9,  -999.0,9,  -999.0,9,-999.0000,9,-999.0000,9, -999.00,9, -999.00,9,  -999.0,9,  -999.0,-999.000,9,-999.000,-999.000,9,-999.0000,  15.1803,-999.0000,-999.000
  316N145_8,        I03,     500,          1,         29,         29,2,19950512,       0405,   -20.0002,    79.0820,       4837,   356.5,  13.6969,  35.3481,2,  35.3613,2,    214.7,2,   216.6,2,    4.10,2,    6.87,2,    0.01,2,    0.64,2,   2.740,2,   1.403,2,-999.000,9,  -999.0,9,  -999.0,9,-999.0000,9,-999.0000,9, -999.00,9, -999.00,9,  -999.0,9,  -999.0,-999.000,9,-999.000,-999.000,9,-999.0000,  13.6457,-999.0000,-999.000
  316N145_8,        I03,     500,          1,         28,         28,2,19950512,       0405,   -20.0002,    79.0820,       4837,   406.8,  12.4547,  35.1720,2,  35.1681,2,    220.9,2,   225.0,2,    4.09,2,    9.02,2,    0.01,2,    0.77,2,   2.830,2,   1.435,2,-999.000,9,  -999.0,9,  -999.0,9,-999.0000,9,-999.0000,9, -999.00,9, -999.00,9,  -999.0,9,  -999.0,-999.000,9,-999.000,-999.000,9,-999.0000,  12.3998,-999.0000,-999.000
  316N145_8,        I03,     500,          1,         27,         27,2,19950512,       0405,   -20.0002,    79.0820,       4837,   457.2,  11.5452,  35.0303,2,  35.0166,2,    230.7,2,   230.3,2,    4.29,2,   10.88,2,    0.01,2,    0.86,2,   2.856,2,   1.437,2,-999.000,9,  -999.0,9,  -999.0,9,-999.0000,9,-999.0000,9, -999.00,9, -999.00,9,  -999.0,9,  -999.0,-999.000,9,-999.000,-999.000,9,-999.0000,  11.4864,-999.0000,-999.000
  316N145_8,        I03,     500,          1,         26,         26,2,19950512,       0405,   -20.0002,    79.0820,       4837,   507.3,  10.6434,  34.8918,2,  34.8889,2,    227.1,2,   229.0,2,    5.35,2,   13.08,2,    0.01,2,    0.99,2,-999.000,9,-999.000,9,-999.000,9,  -999.0,9,  -999.0,9,-999.0000,9,-999.0000,9, -999.00,9, -999.00,9,  -999.0,9,  -999.0,-999.000,9,-999.000,-999.000,9,-999.0000,  10.5813,-999.0000,-999.000
  316N145_8,        I03,     500,          1,         25,         25,2,19950512,       0405,   -20.0002,    79.0820,       4837,   606.7,   9.3356,  34.7066,2,  34.7075,2,    220.1,2,   221.7,2,    7.92,2,   17.24,2,    0.01,2,    1.24,2,   2.161,2,   1.076,2,-999.000,9,  -999.0,9,  -999.0,9,-999.0000,9,-999.0000,9, -999.00,9, -999.00,9,  -999.0,9,  -999.0,-999.000,9,-999.000,-999.000,9,-999.0000,   9.2669,-999.0000,-999.000
  316N145_8,        I03,     500,          1,         24,         24,2,19950512,       0405,   -20.0002,    79.0820,       4837,   707.4,   7.9032,  34.5756,2,  34.5766,2,    193.8,2,   196.2,2,   17.14,2,   23.22,2,    0.01,2,    1.62,2,   1.007,2,   0.515,2,-999.000,9,  -999.0,9,  -999.0,9,-999.0000,9,-999.0000,9, -999.00,9, -999.00,9,  -999.0,9,  -999.0,-999.000,9,-999.000,-999.000,9,-999.0000,   7.8302,-999.0000,-999.000
  316N145_8,        I03,     500,          1,         23,         23,2,19950512,       0405,   -20.0002,    79.0820,       4837,   807.4,   6.2307,  34.4976,2,  34.4984,2,    171.1,2,   169.7,2,   34.94,2,   29.14,2,    0.01,2,    2.03,2,   0.294,2,   0.154,2,-999.000,9,  -999.0,9,  -999.0,9,-999.0000,9,-999.0000,9, -999.00,9, -999.00,9,  -999.0,9,  -999.0,-999.000,9,-999.000,-999.000,9,-999.0000,   6.1571,-999.0000,-999.000
  316N145_8,        I03,     500,          1,         22,         22,2,19950512,       0405,   -20.0002,    79.0820,       4837,   908.3,   5.2422,  34.5374,2,  34.5347,2,    138.9,2,   137.1,2,   60.28,2,   33.51,2,    0.01,2,    2.38,2,   0.050,2,   0.028,2,-999.000,9,  -999.0,9,  -999.0,9,-999.0000,9,-999.0000,9, -999.00,9, -999.00,9,  -999.0,9,  -999.0,-999.000,9,-999.000,-999.000,9,-999.0000,   5.1654,-999.0000,-999.000
  316N145_8,        I03,     500,          1,         21,         21,2,19950512,       0405,   -20.0002,    79.0820,       4837,  1009.6,   4.8179,  34.5869,2,  34.5872,2,    120.8,2,   120.5,2,   75.34,2,   34.97,2,    0.01,2,    2.52,2,   0.010,2,   0.007,2,-999.000,9,  -999.0,9,  -999.0,9,-999.0000,9,-999.0000,9, -999.00,9, -999.00,9,  -999.0,9,  -999.0,-999.000,9,-999.000,-999.000,9,-999.0000,   4.7350,-999.0000,-999.000
  316N145_8,        I03,     500,          1,         20,         20,2,19950512,       0405,   -20.0002,    79.0820,       4837,  1109.7,   4.5249,  34.6206,2,  34.6210,2,    113.8,2,   114.9,2,   84.61,2,   35.58,2,    0.01,2,    2.57,2,   0.003,2,   0.001,2,-999.000,9,  -999.0,9,  -999.0,9,-999.0000,9,-999.0000,9, -999.00,9, -999.00,9,  -999.0,9,  -999.0,-999.000,9,-999.000,-999.000,9,-999.0000,   4.4354,-999.0000,-999.000
  316N145_8,        I03,     500,          1,         19,         19,2,19950512,       0405,   -20.0002,    79.0820,       4837,  1211.4,   4.0450,  34.6252,2,  34.6263,2,    121.1,2,   122.1,2,   87.83,2,   35.49,2,    0.01,2,    2.54,2,-999.000,9,-999.000,9,-999.000,9,  -999.0,9,  -999.0,9,-999.0000,9,-999.0000,9, -999.00,9, -999.00,9,  -999.0,9,  -999.0,-999.000,9,-999.000,-999.000,9,-999.0000,   3.9508,-999.0000,-999.000
  316N145_8,        I03,     500,          1,         18,         18,2,19950512,       0405,   -20.0002,    79.0820,       4837,  1412.7,   3.5399,  34.6681,2,  34.6679,2,    129.2,2,   130.2,2,   94.53,2,   35.20,2,    0.01,2,    2.50,2,-999.000,9,-999.000,9,-999.000,9,  -999.0,9,  -999.0,9,-999.0000,9,-999.0000,9, -999.00,9, -999.00,9,  -999.0,9,  -999.0,-999.000,9,-999.000,-999.000,9,-999.0000,   3.4333,-999.0000,-999.000
  316N145_8,        I03,     500,          1,         17,         17,2,19950512,       0405,   -20.0002,    79.0820,       4837,  1615.1,   3.1629,  34.7139,2,  34.7132,2,    134.2,2,   133.9,2,  104.32,2,   34.96,2,    0.01,2,    2.49,2,-999.000,9,-999.000,9,-999.000,9,  -999.0,9,  -999.0,9,-999.0000,9,-999.0000,9, -999.00,9, -999.00,9,  -999.0,9,  -999.0,-999.000,9,-999.000,-999.000,9,-999.0000,   3.0430,-999.0000,-999.000
  316N145_8,        I03,     500,          1,         16,         16,2,19950512,       0405,   -20.0002,    79.0820,       4837,  1817.1,   2.7833,  34.7243,2,  34.7234,2,    141.4,2,   142.0,2,  109.34,2,   34.57,2,    0.01,2,    2.45,2,-999.000,9,-999.000,9,-999.000,9,  -999.0,9,  -999.0,9,-999.0000,9,-999.0000,9, -999.00,9, -999.00,9,  -999.0,9,  -999.0,-999.000,9,-999.000,-999.000,9,-999.0000,   2.6508,-999.0000,-999.000
  316N145_8,        I03,     500,          1,         15,         15,2,19950512,       0405,   -20.0002,    79.0820,       4837,  2021.1,   2.4858,  34.7267,2,  34.7258,2,    151.3,2,   151.7,2,  111.73,2,   34.13,2,    0.01,2,    2.41,2,-999.000,9,-999.000,9,-999.000,9,  -999.0,9,  -999.0,9,-999.0000,9,-999.0000,9, -999.00,9, -999.00,9,  -999.0,9,  -999.0,-999.000,9,-999.000,-999.000,9,-999.0000,   2.3398,-999.0000,-999.000
  316N145_8,        I03,     500,          1,         14,         14,2,19950512,       0405,   -20.0002,    79.0820,       4837,  2221.4,   2.2086,  34.7258,2,  34.7246,2,    160.8,2,   161.4,2,  112.58,2,   33.63,2,    0.01,2,    2.36,2,-999.000,9,-999.000,9,-999.000,9,  -999.0,9,  -999.0,9,-999.0000,9,-999.0000,9, -999.00,9, -999.00,9,  -999.0,9,  -999.0,-999.000,9,-999.000,-999.000,9,-999.0000,   2.0494,-999.0000,-999.000
  316N145_8,        I03,     500,          1,         13,         13,2,19950512,       0405,   -20.0002,    79.0820,       4837,  2425.6,   2.0016,  34.7246,2,  34.7244,2,    171.3,2,   170.8,2,  112.10,2,   33.10,2,    0.00,2,    2.31,2,-999.000,9,-999.000,9,-999.000,9,  -999.0,9,  -999.0,9,-999.0000,9,-999.0000,9, -999.00,9, -999.00,9,  -999.0,9,  -999.0,-999.000,9,-999.000,-999.000,9,-999.0000,   1.8278,-999.0000,-999.000
  316N145_8,        I03,     500,          1,         12,         12,2,19950512,       0405,   -20.0002,    79.0820,       4837,  2626.3,   1.8251,  34.7255,2,  34.7252,2,    178.8,2,   180.3,2,  111.18,2,   32.46,2,    0.00,2,    2.26,2,-999.000,9,-999.000,9,-999.000,9,  -999.0,9,  -999.0,9,-999.0000,9,-999.0000,9, -999.00,9, -999.00,9,  -999.0,9,  -999.0,-999.000,9,-999.000,-999.000,9,-999.0000,   1.6363,-999.0000,-999.000
  316N145_8,        I03,     500,          1,         11,         11,2,19950512,       0405,   -20.0002,    79.0820,       4837,  2830.3,   1.6970,  34.7273,2,  34.7266,2,    183.6,2,   183.9,2,  112.91,2,   32.37,2,    0.00,2,    2.25,2,-999.000,9,-999.000,9,-999.000,9,  -999.0,9,  -999.0,9,-999.0000,9,-999.0000,9, -999.00,9, -999.00,9,  -999.0,9,  -999.0,-999.000,9,-999.000,-999.000,9,-999.0000,   1.4918,-999.0000,-999.000
  316N145_8,        I03,     500,          1,         10,         10,2,19950512,       0405,   -20.0002,    79.0820,       4837,  3035.2,   1.5828,  34.7275,2,  34.7262,2,    184.5,2,   185.2,2,  116.63,2,   32.42,2,    0.01,2,    2.25,2,-999.000,9,-999.000,9,-999.000,9,  -999.0,9,  -999.0,9,-999.0000,9,-999.0000,9, -999.00,9, -999.00,9,  -999.0,9,  -999.0,-999.000,9,-999.000,-999.000,9,-999.0000,   1.3605,-999.0000,-999.000
  316N145_8,        I03,     500,          1,          9,          9,2,19950512,       0405,   -20.0002,    79.0820,       4837,  3238.7,   1.4978,  34.7258,2,  34.7250,2,    186.0,2,   185.7,2,  119.93,2,   32.59,2,    0.00,2,    2.26,2,-999.000,9,-999.000,9,-999.000,9,  -999.0,9,  -999.0,9,-999.0000,9,-999.0000,9, -999.00,9, -999.00,9,  -999.0,9,  -999.0,-999.000,9,-999.000,-999.000,9,-999.0000,   1.2577,-999.0000,-999.000
  316N145_8,        I03,     500,          1,          8,          8,2,19950512,       0405,   -20.0002,    79.0820,       4837,  3443.5,   1.4257,  34.7232,2,  34.7223,2,    185.4,2,   185.9,2,  123.46,2,   32.74,2,    0.00,2,    2.27,2,-999.000,9,-999.000,9,-999.000,9,  -999.0,9,  -999.0,9,-999.0000,9,-999.0000,9, -999.00,9, -999.00,9,  -999.0,9,  -999.0,-999.000,9,-999.000,-999.000,9,-999.0000,   1.1670,-999.0000,-999.000
  316N145_8,        I03,     500,          1,          7,          7,2,19950512,       0405,   -20.0002,    79.0820,       4837,  3646.8,   1.3881,  34.7216,2,  34.7211,2,    184.6,2,   185.2,2,  126.33,2,   32.95,2,    0.00,2,    2.28,2,-999.000,9,-999.000,9,-999.000,9,  -999.0,9,  -999.0,9,-999.0000,9,-999.0000,9, -999.00,9, -999.00,9,  -999.0,9,  -999.0,-999.000,9,-999.000,-999.000,9,-999.0000,   1.1095,-999.0000,-999.000
  316N145_8,        I03,     500,          1,          6,          6,2,19950512,       0405,   -20.0002,    79.0820,       4837,  3850.3,   1.3680,  34.7200,2,  34.7194,2,    184.6,2,   184.8,2,  128.08,2,   33.06,2,    0.00,2,    2.29,2,-999.000,9,-999.000,9,-999.000,9,  -999.0,9,  -999.0,9,-999.0000,9,-999.0000,9, -999.00,9, -999.00,9,  -999.0,9,  -999.0,-999.000,9,-999.000,-999.000,9,-999.0000,   1.0686,-999.0000,-999.000
  316N145_8,        I03,     500,          1,          5,          5,2,19950512,       0405,   -20.0002,    79.0820,       4837,  4053.6,   1.3618,  34.7187,2,  34.7178,2,    183.7,2,   184.3,2,  130.07,2,   33.27,2,    0.00,2,    2.31,2,-999.000,9,-999.000,9,-999.000,9,  -999.0,9,  -999.0,9,-999.0000,9,-999.0000,9, -999.00,9, -999.00,9,  -999.0,9,  -999.0,-999.000,9,-999.000,-999.000,9,-999.0000,   1.0407,-999.0000,-999.000
  316N145_8,        I03,     500,          1,          4,          4,2,19950512,       0405,   -20.0002,    79.0820,       4837,  4259.1,   1.3658,  34.7177,2,  34.7174,2,    184.2,2,   183.9,2,  131.16,2,   33.28,2,    0.00,2,    2.31,2,-999.000,9,-999.000,9,-999.000,9,  -999.0,9,  -999.0,9,-999.0000,9,-999.0000,9, -999.00,9, -999.00,9,  -999.0,9,  -999.0,-999.000,9,-999.000,-999.000,9,-999.0000,   1.0220,-999.0000,-999.000
  316N145_8,        I03,     500,          1,          3,          3,2,19950512,       0405,   -20.0002,    79.0820,       4837,  4463.3,   1.3765,  34.7178,2,  34.7154,3,    183.7,2,   183.7,2,  131.80,2,   33.29,2,    0.00,2,    2.31,2,-999.000,9,-999.000,9,-999.000,9,  -999.0,9,  -999.0,9,-999.0000,9,-999.0000,9, -999.00,9, -999.00,9,  -999.0,9,  -999.0,-999.000,9,-999.000,-999.000,9,-999.0000,   1.0093,-999.0000,-999.000
  316N145_8,        I03,     500,          1,          2,          2,2,19950512,       0405,   -20.0002,    79.0820,       4837,  4667.3,   1.3973,  34.7176,2,  34.7168,2,    183.7,2,   183.8,2,  131.98,2,   33.30,2,    0.00,2,    2.31,2,-999.000,9,-999.000,9,-999.000,9,  -999.0,9,  -999.0,9,-999.0000,9,-999.0000,9, -999.00,9, -999.00,9,  -999.0,9,  -999.0,-999.000,9,-999.000,-999.000,9,-999.0000,   1.0060,-999.0000,-999.000
  316N145_8,        I03,     500,          1,          1,          1,2,19950512,       0405,   -20.0002,    79.0820,       4837,  4937.0,   1.4283,  34.7173,2,  34.7160,2,    184.5,2,   183.9,2,  131.72,2,   33.36,2,    0.00,2,    2.32,2,-999.000,9,-999.000,9,-999.000,9,  -999.0,9,  -999.0,9,-999.0000,9,-999.0000,9, -999.00,9, -999.00,9,  -999.0,9,  -999.0,-999.000,9,-999.000,-999.000,9,-999.0000,   1.0039,-999.0000,-999.000