BOTTLE,20140514CCHSIOSE
EXPOCODE,SECT_ID,STNNBR,CASTNO,SAMPNO,BTLNBR,BTLNBR_FLAG_W,DATE,TIME,LATITUDE,LONGITUDE,DEPTH,CTDPRS,CTDTMP,CTDSAL,CTDSAL_FLAG_W,SALNTY,SALNTY_FLAG_W,CTDOXY,CTDOXY_FLAG_W,OXYGEN,OXYGEN_FLAG_W,SILCAT,SILCAT_FLAG_W,NITRAT,NITRAT_FLAG_W,NITRIT,NITRIT_FLAG_W,PHSPHT,PHSPHT_FLAG_W,CFC-11,CFC-11_FLAG_W,CFC-12,CFC-12_FLAG_W,CFC113,CFC113_FLAG_W,TCARBN,TCARBN_FLAG_W,ALKALI,ALKALI_FLAG_W,TRITUM,TRITUM_FLAG_W,HELIUM,HELIUM_FLAG_W,DELHE3,DELHE3_FLAG_W,DELC13,DELC13_FLAG_W,DELC14,DELC14_FLAG_W,C14ERR,NEON,NEON_FLAG_W,NEONER,CCL4,CCL4_FLAG_W,HELIER,THETA,TRITER,DELHER
,,,,,,,,,,,METERS,DBAR,ITS-90,PSS-78,,PSS-78,,UMOL/KG,,UMOL/KG,,UMOL/KG,,UMOL/KG,,UMOL/KG,,UMOL/KG,,PMOL/KG,,PMOL/KG,,PMOL/KG,,UMOL/KG,,UMOL/KG,,TU,,NMOL/KG,,PERCNT,,/MILLE,,/MILLE,,/MILLE,NMOL/KG,,NMOL/KG,PMOL/KG,,NMOL/KG,DEG C,TU,PERCNT
  316N145_8,        I03,     535,          1,         36,         36,2,19950523,       1352,   -20.3668,    59.2253,       4752,     7.4,  24.5578,  35.2743,2,  35.2735,2,    208.8,3,   209.9,2,    3.00,2,    0.04,2,    0.00,2,    0.11,2,   1.933,2,   1.092,2,-999.000,9,  1968.4,2,  2309.0,2,-999.0000,9,-999.0000,9, -999.00,9,    1.17,2,    79.1,2,     4.2,-999.000,9,-999.000,-999.000,9,-999.0000,  24.5563,-999.0000,-999.000
  316N145_8,        I03,     535,          1,         35,         35,2,19950523,       1352,   -20.3668,    59.2253,       4752,    58.5,  24.5756,  35.2760,2,  35.2739,2,    204.5,3,   209.9,2,    2.99,2,    0.00,2,    0.00,2,    0.11,2,   1.899,2,   1.083,2,-999.000,9,  1969.9,6,  2309.5,6,-999.0000,9,-999.0000,9, -999.00,9, -999.00,9,  -999.0,9,  -999.0,-999.000,9,-999.000,-999.000,9,-999.0000,  24.5631,-999.0000,-999.000
  316N145_8,        I03,     535,          1,         34,         34,2,19950523,       1352,   -20.3668,    59.2253,       4752,   107.2,  22.4563,  35.3347,2,  35.3249,2,    218.0,2,   216.6,2,    2.97,2,    0.00,2,    0.00,2,    0.14,2,   2.134,2,   1.182,2,-999.000,9,  1988.5,2,  2311.0,2,-999.0000,9,-999.0000,9, -999.00,9,    1.17,2,    87.1,2,     4.0,-999.000,9,-999.000,-999.000,9,-999.0000,  22.4347,-999.0000,-999.000
  316N145_8,        I03,     535,          1,         33,         33,2,19950523,       1352,   -20.3668,    59.2253,       4752,   157.8,  21.2274,  35.5111,2,  35.5111,2,    201.3,2,   197.7,2,    3.58,2,    1.40,2,    0.03,2,    0.24,2,   2.181,2,   1.200,2,-999.000,9,  2021.2,2,  2323.0,2,-999.0000,9,-999.0000,9, -999.00,9, -999.00,9,  -999.0,9,  -999.0,-999.000,9,-999.000,-999.000,9,-999.0000,  21.1969,-999.0000,-999.000
  316N145_8,        I03,     535,          1,         32,         32,2,19950523,       1352,   -20.3668,    59.2253,       4752,   208.6,  19.5778,  35.6733,2,  35.6760,2,    196.6,2,   193.6,2,    3.98,2,    2.61,2,    0.01,2,    0.31,2,   2.261,2,   1.219,2,-999.000,9,  2052.8,2,  2336.0,2,-999.0000,9,-999.0000,9, -999.00,9,    0.95,2,    75.1,2,     3.9,-999.000,9,-999.000,-999.000,9,-999.0000,  19.5396,-999.0000,-999.000
  316N145_8,        I03,     535,          1,         31,         31,2,19950523,       1352,   -20.3668,    59.2253,       4752,   257.9,  17.9162,  35.7200,2,  35.7166,2,    198.7,2,   199.8,2,    3.76,2,    2.90,2,    0.01,2,    0.35,2,   2.397,2,   1.285,2,-999.000,9,  2072.8,2,  2342.0,2,-999.0000,9,-999.0000,9, -999.00,9, -999.00,9,  -999.0,9,  -999.0,-999.000,9,-999.000,-999.000,9,-999.0000,  17.8718,-999.0000,-999.000
  316N145_8,        I03,     535,          1,         30,         30,2,19950523,       1352,   -20.3668,    59.2253,       4752,   308.8,  16.1702,  35.6193,2,  35.6183,2,    205.0,2,   207.9,2,    3.54,2,    3.86,2,    0.00,2,    0.43,2,   2.576,2,   1.353,2,-999.000,9,  2085.3,2,  2340.0,2,-999.0000,9,-999.0000,9, -999.00,9,    1.13,2,    79.2,2,     3.9,-999.000,9,-999.000,-999.000,9,-999.0000,  16.1206,-999.0000,-999.000
  316N145_8,        I03,     535,          1,         29,         29,2,19950523,       1352,   -20.3668,    59.2253,       4752,   358.7,  14.8127,  35.4646,2,  35.4662,2,    211.1,2,   212.3,2,    3.94,2,    5.64,2,    0.00,2,    0.54,2,   2.655,2,   1.375,2,-999.000,9,  2092.8,2,  2337.0,2,-999.0000,9,-999.0000,9, -999.00,9, -999.00,9,  -999.0,9,  -999.0,-999.000,9,-999.000,-999.000,9,-999.0000,  14.7584,-999.0000,-999.000
  316N145_8,        I03,     535,          1,         28,         28,2,19950523,       1352,   -20.3668,    59.2253,       4752,   408.7,  13.1343,  35.2551,2,  35.2627,2,    219.1,2,   222.7,2,    3.72,2,    7.94,2,    0.00,2,    0.66,2,   2.799,2,   1.421,2,-999.000,9,  2097.5,2,  2320.0,2,-999.0000,9,-999.0000,9, -999.00,9,    1.20,2,    84.3,2,     4.4,-999.000,9,-999.000,-999.000,9,-999.0000,  13.0771,-999.0000,-999.000
  316N145_8,        I03,     535,          1,         27,         27,2,19950523,       1352,   -20.3668,    59.2253,       4752,   508.5,  11.5107,  35.0094,2,  35.0126,2,    227.8,2,   229.0,2,    4.53,2,   11.40,2,    0.00,2,    0.86,2,-999.000,9,-999.000,9,-999.000,9,  2103.0,2,  2309.0,2,-999.0000,9,-999.0000,9, -999.00,9,    1.26,2,    62.7,2,     4.4,-999.000,9,-999.000,-999.000,9,-999.0000,  11.4453,-999.0000,-999.000
  316N145_8,        I03,     535,          1,         26,         26,2,19950523,       1352,   -20.3668,    59.2253,       4752,   608.9,  10.1700,  34.8152,2,  34.8160,2,    225.6,2,   226.1,2,    5.96,2,   14.76,2,    0.00,2,    1.06,2,   2.334,2,   1.159,2,-999.000,9,  2112.8,2,  2300.0,2,-999.0000,9,-999.0000,9, -999.00,9,    1.26,2,    53.4,2,     4.1,-999.000,9,-999.000,-999.000,9,-999.0000,  10.0973,-999.0000,-999.000
  316N145_8,        I03,     535,          1,         25,         25,2,19950523,       1352,   -20.3668,    59.2253,       4752,   709.0,   8.9516,  34.6662,2,  34.6647,2,    220.5,2,   217.8,2,    8.83,2,   18.70,2,    0.00,2,    1.31,2,   1.686,2,   0.838,2,-999.000,9,  2127.0,2,  2294.0,2,-999.0000,9,-999.0000,9, -999.00,9,    1.12,2,    20.7,2,     3.8,-999.000,9,-999.000,-999.000,9,-999.0000,   8.8729,-999.0000,-999.000
  316N145_8,        I03,     535,          1,         24,         24,2,19950523,       1352,   -20.3668,    59.2253,       4752,   810.3,   7.2266,  34.5315,2,  34.5335,2,    198.8,2,   195.3,2,   20.15,2,   24.73,2,    0.00,2,    1.71,2,   0.740,2,   0.375,2,-999.000,9,  2159.3,2,  2297.0,2,-999.0000,9,-999.0000,9, -999.00,9,    1.08,2,   -54.9,2,     3.6,-999.000,9,-999.000,-999.000,9,-999.0000,   7.1466,-999.0000,-999.000
  316N145_8,        I03,     535,          1,         23,         23,2,19950523,       1352,   -20.3668,    59.2253,       4752,   911.3,   6.1795,  34.5185,2,  34.5221,2,    162.6,2,   166.3,2,   39.08,2,   29.33,2,    0.00,2,    2.06,2,   0.298,2,   0.154,2,-999.000,9,  2198.8,2,  2315.0,2,-999.0000,9,-999.0000,9, -999.00,9,    0.81,2,   -84.9,2,     3.6,-999.000,9,-999.000,-999.000,9,-999.0000,   6.0961,-999.0000,-999.000
  316N145_8,        I03,     535,          1,         22,         22,2,19950523,       1352,   -20.3668,    59.2253,       4752,  1011.6,   5.2453,  34.5532,2,  34.5529,2,    146.0,2,   141.8,2,   59.27,2,   32.65,2,    0.00,2,    2.32,2,   0.099,2,   0.050,2,-999.000,9,  2234.0,2,  2333.0,2,-999.0000,9,-999.0000,9, -999.00,9,    0.52,2,  -124.2,2,     3.5,-999.000,9,-999.000,-999.000,9,-999.0000,   5.1589,-999.0000,-999.000
  316N145_8,        I03,     535,          1,         21,         21,2,19950523,       1352,   -20.3668,    59.2253,       4752,  1112.9,   4.7372,  34.6050,2,  34.6057,2,    127.5,2,   126.4,2,   74.75,2,   34.17,2,    0.00,2,    2.47,2,   0.027,2,   0.012,2,-999.000,9,  2258.1,2,  2350.0,2,-999.0000,9,-999.0000,9, -999.00,9,    0.38,2,  -154.9,2,     3.0,-999.000,9,-999.000,-999.000,9,-999.0000,   4.6456,-999.0000,-999.000
  316N145_8,        I03,     535,          1,         20,         20,2,19950523,       1352,   -20.3668,    59.2253,       4752,  1213.4,   4.1868,  34.6357,2,  34.6369,2,    128.4,2,   127.7,2,   83.65,2,   34.67,2,    0.00,2,    2.50,2,   0.010,2,   0.004,2,-999.000,9,  2270.7,2,  2358.0,2,-999.0000,9,-999.0000,9, -999.00,9,    0.36,2,  -163.4,2,     3.5,-999.000,9,-999.000,-999.000,9,-999.0000,   4.0910,-999.0000,-999.000
  316N145_8,        I03,     535,          1,         19,         19,2,19950523,       1352,   -20.3668,    59.2253,       4752,  1313.7,   3.7915,  34.6503,2,  34.6506,2,    133.8,2,   134.6,2,   86.94,2,   34.42,2,    0.00,2,    2.48,2,   0.007,2,   0.003,2,-999.000,9,  2271.4,2,  2362.0,2,-999.0000,9,-999.0000,9, -999.00,9,    0.36,2,  -163.1,2,     3.3,-999.000,9,-999.000,-999.000,9,-999.0000,   3.6908,-999.0000,-999.000
  316N145_8,        I03,     535,          1,         18,         18,2,19950523,       1352,   -20.3668,    59.2253,       4752,  1414.3,   3.4670,  34.6646,2,  34.6637,2,    139.8,2,   140.6,2,   90.45,2,   34.08,2,    0.00,2,    2.46,2,   0.007,2,   0.003,2,-999.000,9,  2273.1,2,  2363.0,2,-999.0000,9,-999.0000,9, -999.00,9,    0.33,2,  -164.4,2,     3.5,-999.000,9,-999.000,-999.000,9,-999.0000,   3.3610,-999.0000,-999.000
  316N145_8,        I03,     535,          1,         17,         17,2,19950523,       1352,   -20.3668,    59.2253,       4752,  1616.9,   2.9209,  34.6882,2,  34.6879,2,    151.3,2,   151.7,2,   96.69,2,   33.69,2,    0.00,2,    2.41,2,-999.000,9,-999.000,9,-999.000,9,  2274.2,2,  2373.0,2,-999.0000,9,-999.0000,9, -999.00,9,    0.32,2,  -181.7,2,     2.8,-999.000,9,-999.000,-999.000,9,-999.0000,   2.8039,-999.0000,-999.000
  316N145_8,        I03,     535,          1,         16,         16,2,19950523,       1352,   -20.3668,    59.2253,       4752,  1818.1,   2.5346,  34.7068,2,  34.7069,2,    158.8,2,   159.2,2,  103.17,2,   33.25,2,    0.00,2,    2.37,2,-999.000,9,-999.000,9,-999.000,9,  2276.6,2,  2377.0,2,-999.0000,9,-999.0000,9, -999.00,9,    0.33,2,  -175.6,2,     3.8,-999.000,9,-999.000,-999.000,9,-999.0000,   2.4055,-999.0000,-999.000
  316N145_8,        I03,     535,          1,         15,         15,2,19950523,       1352,   -20.3668,    59.2253,       4752,  2021.9,   2.2465,  34.7211,2,  34.7217,2,    164.7,2,   164.2,2,  108.63,2,   33.11,2,    0.00,2,    2.36,2,   0.002,2,   0.002,2,-999.000,9,  2279.5,2,  2384.0,2,-999.0000,9,-999.0000,9, -999.00,9,    0.38,2,  -176.7,2,     2.5,-999.000,9,-999.000,-999.000,9,-999.0000,   2.1042,-999.0000,-999.000
  316N145_8,        I03,     535,          1,         14,         14,2,19950523,       1352,   -20.3668,    59.2253,       4752,  2223.7,   2.0917,  34.7256,2,  34.7266,2,    166.3,2,   165.7,2,  113.05,2,   33.21,2,    0.00,2,    2.36,2,-999.000,9,-999.000,9,-999.000,9,  2284.5,2,  2388.0,2,-999.0000,9,-999.0000,9, -999.00,9,    0.36,2,  -191.9,2,     3.4,-999.000,9,-999.000,-999.000,9,-999.0000,   1.9343,-999.0000,-999.000
  316N145_8,        I03,     535,          1,         13,         13,2,19950523,       1352,   -20.3668,    59.2253,       4752,  2425.4,   1.9789,  34.7270,2,  34.7277,2,    166.2,2,   167.7,2,  116.21,2,   33.21,2,    0.00,2,    2.36,2,-999.000,9,-999.000,9,-999.000,9,  2285.8,2,  2395.0,2,-999.0000,9,-999.0000,9, -999.00,9,    0.33,2,  -186.9,2,     3.5,-999.000,9,-999.000,-999.000,9,-999.0000,   1.8054,-999.0000,-999.000
  316N145_8,        I03,     535,          1,         12,         12,2,19950523,       1352,   -20.3668,    59.2253,       4752,  2630.0,   1.8805,  34.7271,2,  34.7274,2,    170.9,2,   170.3,2,  118.09,2,   33.07,2,    0.00,2,    2.35,2,  -0.001,2,   0.000,2,-999.000,9,  2285.5,2,  2396.0,2,-999.0000,9,-999.0000,9, -999.00,9,   -0.08,3,  -205.4,3,     3.2,-999.000,9,-999.000,-999.000,9,-999.0000,   1.6902,-999.0000,-999.000
  316N145_8,        I03,     535,          1,         11,         11,2,19950523,       1352,   -20.3668,    59.2253,       4752,  2832.2,   1.7639,  34.7263,2,  34.7266,2,    173.2,2,   172.8,2,  120.62,2,   33.07,2,    0.00,2,    2.34,2,-999.000,9,-999.000,9,-999.000,9,  2287.4,2,  2395.0,2,-999.0000,9,-999.0000,9, -999.00,9,    0.34,2,  -190.0,2,     3.3,-999.000,9,-999.000,-999.000,9,-999.0000,   1.5571,-999.0000,-999.000
  316N145_8,        I03,     535,          1,         10,         10,2,19950523,       1352,   -20.3668,    59.2253,       4752,  3035.6,   1.6948,  34.7260,2,  34.7270,2,    174.8,2,   174.9,2,  122.30,2,   33.07,2,    0.00,2,    2.34,2,-999.000,9,-999.000,9,-999.000,9,  2286.6,2,  2394.0,2,-999.0000,9,-999.0000,9, -999.00,9,    0.35,2,  -192.2,2,     2.5,-999.000,9,-999.000,-999.000,9,-999.0000,   1.4700,-999.0000,-999.000
  316N145_8,        I03,     535,          1,          9,          9,2,19950523,       1352,   -20.3668,    59.2253,       4752,  3238.8,   1.6068,  34.7240,2,  34.7252,2,    178.5,2,   178.2,2,  122.91,2,   32.88,2,    0.00,2,    2.33,2,   0.001,2,   0.000,2,-999.000,9,  2284.3,6,  2394.5,6,-999.0000,9,-999.0000,9, -999.00,9,    0.36,2,  -999.0,5,  -999.0,-999.000,9,-999.000,-999.000,9,-999.0000,   1.3642,-999.0000,-999.000
  316N145_8,        I03,     535,          1,          8,          8,2,19950523,       1352,   -20.3668,    59.2253,       4752,  3442.0,   1.5196,  34.7211,2,  34.7211,2,    182.0,2,   181.8,2,  123.73,2,   32.83,2,    0.00,2,    2.32,2,-999.000,9,-999.000,9,-999.000,9,  -999.0,5,  2392.0,2,-999.0000,9,-999.0000,9, -999.00,9,    0.37,2,  -184.2,2,     2.7,-999.000,9,-999.000,-999.000,9,-999.0000,   1.2586,-999.0000,-999.000
  316N145_8,        I03,     535,          1,          7,          7,2,19950523,       1352,   -20.3668,    59.2253,       4752,  3645.8,   1.4567,  34.7196,2,  34.7199,2,    184.6,2,   184.6,2,  124.11,2,   32.79,2,    0.00,2,    2.31,2,-999.000,9,-999.000,9,-999.000,9,  2281.8,2,  2392.0,2,-999.0000,9,-999.0000,9, -999.00,9,    0.34,2,  -188.3,2,     2.5,-999.000,9,-999.000,-999.000,9,-999.0000,   1.1765,-999.0000,-999.000
  316N145_8,        I03,     535,          1,          6,          6,2,19950523,       1352,   -20.3668,    59.2253,       4752,  3850.7,   1.3758,  34.7179,2,  34.7182,2,    186.4,2,   188.1,2,  124.94,2,   32.69,2,    0.00,2,    2.30,2,   0.001,2,   0.001,2,-999.000,9,  2280.0,2,  2388.0,2,-999.0000,9,-999.0000,9, -999.00,9,   -0.06,3,  -190.9,2,     2.5,-999.000,9,-999.000,-999.000,9,-999.0000,   1.0761,-999.0000,-999.000
  316N145_8,        I03,     535,          1,          5,          5,2,19950523,       1352,   -20.3668,    59.2253,       4752,  4055.8,   1.3176,  34.7153,2,  34.7158,2,    190.3,2,   190.2,2,  125.32,2,   32.50,2,    0.00,2,    2.29,2,-999.000,9,-999.000,9,-999.000,9,  2277.4,2,  2387.0,2,-999.0000,9,-999.0000,9, -999.00,9,    0.39,2,  -173.8,2,     4.5,-999.000,9,-999.000,-999.000,9,-999.0000,   0.9976,-999.0000,-999.000
  316N145_8,        I03,     535,          1,          4,          4,2,19950523,       1352,   -20.3668,    59.2253,       4752,  4259.5,   1.2875,  34.7142,2,  34.7148,2,    192.4,2,   192.1,2,  125.50,2,   32.50,2,    0.00,2,    2.29,2,-999.000,9,-999.000,9,-999.000,9,  2275.2,2,  2385.0,2,-999.0000,9,-999.0000,9, -999.00,9,    0.41,2,  -176.0,2,     2.9,-999.000,9,-999.000,-999.000,9,-999.0000,   0.9460,-999.0000,-999.000
  316N145_8,        I03,     535,          1,          3,          3,2,19950523,       1352,   -20.3668,    59.2253,       4752,  4463.5,   1.2688,  34.7137,2,  34.7141,2,    193.7,2,   193.8,2,  125.45,2,   32.41,2,    0.00,2,    2.28,2,  -0.001,2,   0.002,2,-999.000,9,  2274.1,2,  2386.0,2,-999.0000,9,-999.0000,9, -999.00,9,    0.41,2,  -170.8,2,     2.6,-999.000,9,-999.000,-999.000,9,-999.0000,   0.9050,-999.0000,-999.000
  316N145_8,        I03,     535,          1,          2,          2,2,19950523,       1352,   -20.3668,    59.2253,       4752,  4669.6,   1.2613,  34.7131,2,  34.7129,2,    194.6,2,   195.0,2,  125.19,2,   32.36,2,    0.00,2,    2.27,2,-999.000,9,-999.000,9,-999.000,9,  2273.9,2,  2384.0,2,-999.0000,9,-999.0000,9, -999.00,9,    0.44,2,  -175.5,2,     2.7,-999.000,9,-999.000,-999.000,9,-999.0000,   0.8741,-999.0000,-999.000
  316N145_8,        I03,     535,          1,          1,          1,2,19950523,       1352,   -20.3668,    59.2253,       4752,  4843.4,   1.2675,  34.7126,2,  34.7129,2,    195.5,2,   195.5,2,  125.58,2,   32.36,2,    0.00,2,    2.27,2,   0.001,2,   0.001,2,-999.000,9,  2274.0,2,  2384.0,2,-999.0000,9,-999.0000,9, -999.00,9,    0.40,2,  -169.9,2,     3.7,-999.000,9,-999.000,-999.000,9,-999.0000,   0.8597,-999.0000,-999.000