BOTTLE,20140514CCHSIOSE
EXPOCODE,SECT_ID,STNNBR,CASTNO,SAMPNO,BTLNBR,BTLNBR_FLAG_W,DATE,TIME,LATITUDE,LONGITUDE,DEPTH,CTDPRS,CTDTMP,CTDSAL,CTDSAL_FLAG_W,SALNTY,SALNTY_FLAG_W,CTDOXY,CTDOXY_FLAG_W,OXYGEN,OXYGEN_FLAG_W,SILCAT,SILCAT_FLAG_W,NITRAT,NITRAT_FLAG_W,NITRIT,NITRIT_FLAG_W,PHSPHT,PHSPHT_FLAG_W,CFC-11,CFC-11_FLAG_W,CFC-12,CFC-12_FLAG_W,CFC113,CFC113_FLAG_W,TCARBN,TCARBN_FLAG_W,ALKALI,ALKALI_FLAG_W,TRITUM,TRITUM_FLAG_W,HELIUM,HELIUM_FLAG_W,DELHE3,DELHE3_FLAG_W,DELC13,DELC13_FLAG_W,DELC14,DELC14_FLAG_W,C14ERR,NEON,NEON_FLAG_W,NEONER,CCL4,CCL4_FLAG_W,HELIER,THETA,TRITER,DELHER
,,,,,,,,,,,METERS,DBAR,ITS-90,PSS-78,,PSS-78,,UMOL/KG,,UMOL/KG,,UMOL/KG,,UMOL/KG,,UMOL/KG,,UMOL/KG,,PMOL/KG,,PMOL/KG,,PMOL/KG,,UMOL/KG,,UMOL/KG,,TU,,NMOL/KG,,PERCNT,,/MILLE,,/MILLE,,/MILLE,NMOL/KG,,NMOL/KG,PMOL/KG,,NMOL/KG,DEG C,TU,PERCNT
  316N145_8,        I03,     485,          1,         30,         30,2,19950508,       0848,   -20.0002,    88.1663,       2315,     8.1,  25.4916,  35.3298,2,  35.3311,2,    205.5,2,   206.6,2,    3.35,2,    0.05,2,    0.00,2,    0.10,2,   1.872,2,   1.066,2,-999.000,9,  1962.6,6,  2314.2,6,-999.0000,9,-999.0000,9, -999.00,9, -999.00,9,  -999.0,9,  -999.0,-999.000,9,-999.000,-999.000,9,-999.0000,  25.4899,-999.0000,-999.000
  316N145_8,        I03,     485,          1,         29,         29,2,19950508,       0848,   -20.0002,    88.1663,       2315,    54.1,  25.4043,  35.3382,2,  35.3516,2,    208.9,2,   207.1,2,    3.13,2,    0.05,2,    0.00,2,    0.10,2,-999.000,9,-999.000,9,-999.000,9,  -999.0,9,  -999.0,9,-999.0000,9,-999.0000,9, -999.00,9, -999.00,9,  -999.0,9,  -999.0,-999.000,9,-999.000,-999.000,9,-999.0000,  25.3924,-999.0000,-999.000
  316N145_8,        I03,     485,          1,         28,         28,2,19950508,       0848,   -20.0002,    88.1663,       2315,   105.1,  21.3990,  35.6046,2,  35.6080,2,    218.9,2,   219.7,2,    3.33,2,    0.05,2,    0.00,2,    0.13,2,-999.000,9,-999.000,9,-999.000,9,  -999.0,9,  -999.0,9,-999.0000,9,-999.0000,9, -999.00,9, -999.00,9,  -999.0,9,  -999.0,-999.000,9,-999.000,-999.000,9,-999.0000,  21.3786,-999.0000,-999.000
  316N145_8,        I03,     485,          1,         27,         27,2,19950508,       0848,   -20.0002,    88.1663,       2315,   154.0,  20.0907,  35.7680,2,  35.7915,2,    210.0,2,   211.5,2,    3.11,2,    0.38,2,    0.16,2,    0.20,2,-999.000,9,-999.000,9,-999.000,9,  -999.0,9,  -999.0,9,-999.0000,9,-999.0000,9, -999.00,9, -999.00,9,  -999.0,9,  -999.0,-999.000,9,-999.000,-999.000,9,-999.0000,  20.0620,-999.0000,-999.000
  316N145_8,        I03,     485,          1,         26,         26,2,19950508,       0848,   -20.0002,    88.1663,       2315,   205.0,  18.5096,  35.8095,2,  35.8055,2,    203.0,2,   202.3,2,    3.74,2,    1.91,2,    0.01,2,    0.30,2,   2.400,2,   1.294,2,-999.000,9,  -999.0,9,  -999.0,9,-999.0000,9,-999.0000,9, -999.00,9, -999.00,9,  -999.0,9,  -999.0,-999.000,9,-999.000,-999.000,9,-999.0000,  18.4735,-999.0000,-999.000
  316N145_8,        I03,     485,          1,         25,         25,2,19950508,       0848,   -20.0002,    88.1663,       2315,   255.5,  16.9557,  35.7661,2,  35.7560,2,    214.2,2,   214.4,2,    2.87,2,    1.82,2,    0.01,2,    0.32,2,-999.000,9,-999.000,9,-999.000,9,  -999.0,9,  -999.0,9,-999.0000,9,-999.0000,9, -999.00,9, -999.00,9,  -999.0,9,  -999.0,-999.000,9,-999.000,-999.000,9,-999.0000,  16.9133,-999.0000,-999.000
  316N145_8,        I03,     485,          1,         24,         24,2,19950508,       0848,   -20.0002,    88.1663,       2315,   305.0,  14.5411,  35.4727,2,  35.4748,2,    218.0,2,   217.1,2,    3.51,2,    5.03,2,    0.01,2,    0.51,2,   2.794,2,   1.450,2,-999.000,9,  -999.0,9,  -999.0,9,-999.0000,9,-999.0000,9, -999.00,9, -999.00,9,  -999.0,9,  -999.0,-999.000,9,-999.000,-999.000,9,-999.0000,  14.4956,-999.0000,-999.000
  316N145_8,        I03,     485,          1,         23,         23,2,19950508,       0848,   -20.0002,    88.1663,       2315,   356.0,  13.2096,  35.2837,2,  35.2680,2,    227.6,2,   225.6,2,    3.50,2,    7.55,2,    0.01,2,    0.65,2,-999.000,9,-999.000,9,-999.000,9,  -999.0,9,  -999.0,9,-999.0000,9,-999.0000,9, -999.00,9, -999.00,9,  -999.0,9,  -999.0,-999.000,9,-999.000,-999.000,9,-999.0000,  13.1597,-999.0000,-999.000
  316N145_8,        I03,     485,          1,         22,         22,2,19950508,       0848,   -20.0002,    88.1663,       2315,   405.6,  12.1310,  35.1207,2,  35.1169,2,    231.3,2,   235.1,2,    3.70,2,    9.14,2,    0.01,2,    0.74,2,   3.129,2,   1.593,2,-999.000,9,  -999.0,9,  -999.0,9,-999.0000,9,-999.0000,9, -999.00,9, -999.00,9,  -999.0,9,  -999.0,-999.000,9,-999.000,-999.000,9,-999.0000,  12.0772,-999.0000,-999.000
  316N145_8,        I03,     485,          1,         21,         21,2,19950508,       0848,   -20.0002,    88.1663,       2315,   455.7,  11.2017,  34.9798,2,  34.9803,2,    231.8,2,   233.8,2,    4.33,2,   11.27,2,    0.01,2,    0.86,2,-999.000,9,-999.000,9,-999.000,9,  -999.0,9,  -999.0,9,-999.0000,9,-999.0000,9, -999.00,9, -999.00,9,  -999.0,9,  -999.0,-999.000,9,-999.000,-999.000,9,-999.0000,  11.1442,-999.0000,-999.000
  316N145_8,        I03,     485,          1,         20,         20,2,19950508,       0848,   -20.0002,    88.1663,       2315,   505.9,  10.4051,  34.8540,2,  34.8597,2,    235.1,2,   235.5,2,    4.75,2,   13.11,2,    0.01,2,    0.98,2,   2.862,2,   1.434,2,-999.000,9,  -999.0,9,  -999.0,9,-999.0000,9,-999.0000,9, -999.00,9, -999.00,9,  -999.0,9,  -999.0,-999.000,9,-999.000,-999.000,9,-999.0000,  10.3441,-999.0000,-999.000
  316N145_8,        I03,     485,          1,         19,         19,2,19950508,       0848,   -20.0002,    88.1663,       2315,   606.4,   9.1249,  34.6763,2,  34.6770,2,    218.4,2,   222.5,2,    7.95,2,   17.77,2,    0.00,2,    1.27,2,-999.000,9,-999.000,9,-999.000,9,  -999.0,9,  -999.0,9,-999.0000,9,-999.0000,9, -999.00,9, -999.00,9,  -999.0,9,  -999.0,-999.000,9,-999.000,-999.000,9,-999.0000,   9.0572,-999.0000,-999.000
  316N145_8,        I03,     485,          1,         18,         18,2,19950508,       0848,   -20.0002,    88.1663,       2315,   707.6,   7.5268,  34.5328,2,  34.5342,2,    200.5,2,   200.2,2,   16.73,2,   23.79,2,    0.00,2,    1.65,2,   1.063,2,   0.541,2,-999.000,9,  -999.0,9,  -999.0,9,-999.0000,9,-999.0000,9, -999.00,9, -999.00,9,  -999.0,9,  -999.0,-999.000,9,-999.000,-999.000,9,-999.0000,   7.4559,-999.0000,-999.000
  316N145_8,        I03,     485,          1,         17,         17,2,19950508,       0848,   -20.0002,    88.1663,       2315,   807.5,   6.0531,  34.5185,2,  34.5183,2,    156.0,2,   153.2,2,   44.14,2,   30.69,2,    0.00,2,    2.17,2,   0.195,2,   0.110,2,-999.000,9,  -999.0,9,  -999.0,9,-999.0000,9,-999.0000,9, -999.00,9, -999.00,9,  -999.0,9,  -999.0,-999.000,9,-999.000,-999.000,9,-999.0000,   5.9805,-999.0000,-999.000
  316N145_8,        I03,     485,          1,         16,         16,2,19950508,       0848,   -20.0002,    88.1663,       2315,   909.4,   5.1796,  34.5204,2,  34.5220,2,    140.1,2,   140.2,2,   59.35,2,   33.16,2,    0.00,2,    2.37,2,   0.066,2,   0.041,2,-999.000,9,  -999.0,9,  -999.0,9,-999.0000,9,-999.0000,9, -999.00,9, -999.00,9,  -999.0,9,  -999.0,-999.000,9,-999.000,-999.000,9,-999.0000,   5.1032,-999.0000,-999.000
  316N145_8,        I03,     485,          1,         15,         15,2,19950508,       0848,   -20.0002,    88.1663,       2315,  1009.0,   4.8265,  34.5942,2,  34.5938,2,    117.9,2,   116.7,2,   77.82,2,   35.14,2,    0.00,2,    2.54,2,   0.010,2,   0.007,2,-999.000,9,  -999.0,9,  -999.0,9,-999.0000,9,-999.0000,9, -999.00,9, -999.00,9,  -999.0,9,  -999.0,-999.000,9,-999.000,-999.000,9,-999.0000,   4.7436,-999.0000,-999.000
  316N145_8,        I03,     485,          1,         14,         14,2,19950508,       0848,   -20.0002,    88.1663,       2315,  1110.7,   4.5177,  34.6201,2,  34.6205,2,    113.8,2,   114.0,2,   85.15,2,   35.56,2,    0.00,2,    2.58,2,   0.004,2,   0.000,2,-999.000,9,  -999.0,9,  -999.0,9,-999.0000,9,-999.0000,9, -999.00,9, -999.00,9,  -999.0,9,  -999.0,-999.000,9,-999.000,-999.000,9,-999.0000,   4.4282,-999.0000,-999.000
  316N145_8,        I03,     485,          1,         13,         13,2,19950508,       0848,   -20.0002,    88.1663,       2315,  1211.1,   4.1627,  34.6332,2,  34.6344,2,    117.5,2,   117.9,2,   89.45,2,   35.52,2,    0.00,2,    2.57,2,-999.000,9,-999.000,9,-999.000,9,  -999.0,9,  -999.0,9,-999.0000,9,-999.0000,9, -999.00,9, -999.00,9,  -999.0,9,  -999.0,-999.000,9,-999.000,-999.000,9,-999.0000,   4.0674,-999.0000,-999.000
  316N145_8,        I03,     485,          1,         12,         12,2,19950508,       0848,   -20.0002,    88.1663,       2315,  1311.0,   3.8313,  34.6512,2,  34.6511,2,    122.6,2,   122.4,2,   93.12,2,   35.43,2,    0.00,2,    2.57,2,-999.000,9,-999.000,9,-999.000,9,  -999.0,9,  -999.0,9,-999.0000,9,-999.0000,9, -999.00,9, -999.00,9,  -999.0,9,  -999.0,-999.000,9,-999.000,-999.000,9,-999.0000,   3.7304,-999.0000,-999.000
  316N145_8,        I03,     485,          1,         11,         11,2,19950508,       0848,   -20.0002,    88.1663,       2315,  1412.5,   3.5715,  34.6687,2,  34.6686,2,    125.7,2,   127.4,2,   95.92,2,   35.23,2,    0.00,2,    2.54,2,-999.000,9,-999.000,9,-999.000,9,  -999.0,9,  -999.0,9,-999.0000,9,-999.0000,9, -999.00,9, -999.00,9,  -999.0,9,  -999.0,-999.000,9,-999.000,-999.000,9,-999.0000,   3.4645,-999.0000,-999.000
  316N145_8,        I03,     485,          1,         10,         10,2,19950508,       0848,   -20.0002,    88.1663,       2315,  1512.5,   3.3571,  34.6876,2,  34.6872,2,    130.7,2,   130.8,2,   99.17,2,   35.04,2,    0.00,2,    2.52,2,-999.000,9,-999.000,9,-999.000,9,  -999.0,9,  -999.0,9,-999.0000,9,-999.0000,9, -999.00,9, -999.00,9,  -999.0,9,  -999.0,-999.000,9,-999.000,-999.000,9,-999.0000,   3.2438,-999.0000,-999.000
  316N145_8,        I03,     485,          1,          9,          9,2,19950508,       0848,   -20.0002,    88.1663,       2315,  1615.3,   3.1228,  34.7007,2,  34.7007,2,    136.0,2,   135.7,2,  102.64,2,   34.75,2,    0.00,2,    2.51,2,-999.000,9,-999.000,9,-999.000,9,  -999.0,9,  -999.0,9,-999.0000,9,-999.0000,9, -999.00,9, -999.00,9,  -999.0,9,  -999.0,-999.000,9,-999.000,-999.000,9,-999.0000,   3.0034,-999.0000,-999.000
  316N145_8,        I03,     485,          1,          8,          8,2,19950508,       0848,   -20.0002,    88.1663,       2315,  1715.9,   2.9423,  34.7148,2,  34.7139,2,    139.3,2,   139.4,2,  105.90,2,   34.66,2,    0.00,2,    2.48,2,   0.000,2,   0.001,2,-999.000,9,  -999.0,9,  -999.0,9,-999.0000,9,-999.0000,9, -999.00,9, -999.00,9,  -999.0,9,  -999.0,-999.000,9,-999.000,-999.000,9,-999.0000,   2.8165,-999.0000,-999.000
  316N145_8,        I03,     485,          1,          7,          7,2,19950508,       0848,   -20.0002,    88.1663,       2315,  1816.6,   2.7372,  34.7191,2,  34.7196,2,    144.2,2,   143.8,2,  108.51,2,   34.36,2,    0.00,2,    2.46,2,-999.000,9,-999.000,9,-999.000,9,  -999.0,9,  -999.0,9,-999.0000,9,-999.0000,9, -999.00,9, -999.00,9,  -999.0,9,  -999.0,-999.000,9,-999.000,-999.000,9,-999.0000,   2.6054,-999.0000,-999.000
  316N145_8,        I03,     485,          1,          6,          6,2,19950508,       0848,   -20.0002,    88.1663,       2315,  1918.6,   2.5576,  34.7218,2,  34.7217,2,    148.2,2,   148.7,2,  110.90,2,   34.22,2,    0.00,2,    2.44,2,-999.000,9,-999.000,9,-999.000,9,  -999.0,9,  -999.0,9,-999.0000,9,-999.0000,9, -999.00,9, -999.00,9,  -999.0,9,  -999.0,-999.000,9,-999.000,-999.000,9,-999.0000,   2.4195,-999.0000,-999.000
  316N145_8,        I03,     485,          1,          5,          5,2,19950508,       0848,   -20.0002,    88.1663,       2315,  2019.5,   2.4331,  34.7223,2,  34.7215,2,    153.8,2,   151.8,2,  111.98,2,   34.03,2,    0.00,2,    2.44,2,-999.000,9,-999.000,9,-999.000,9,  -999.0,9,  -999.0,9,-999.0000,9,-999.0000,9, -999.00,9, -999.00,9,  -999.0,9,  -999.0,-999.000,9,-999.000,-999.000,9,-999.0000,   2.2881,-999.0000,-999.000
  316N145_8,        I03,     485,          1,          4,          4,2,19950508,       0848,   -20.0002,    88.1663,       2315,  2120.9,   2.2879,  34.7238,2,  34.7237,2,    156.5,2,   159.3,2,  112.18,2,   33.73,2,    0.00,2,    2.40,2,   0.000,2,   0.002,2,-999.000,9,  -999.0,9,  -999.0,9,-999.0000,9,-999.0000,9, -999.00,9, -999.00,9,  -999.0,9,  -999.0,-999.000,9,-999.000,-999.000,9,-999.0000,   2.1363,-999.0000,-999.000
  316N145_8,        I03,     485,          1,          3,          3,2,19950508,       0848,   -20.0002,    88.1663,       2315,  2220.0,   2.1517,  34.7248,2,  34.7247,2,    160.4,2,   162.2,2,  113.70,2,   33.59,2,    0.00,2,    2.38,2,-999.000,9,-999.000,9,-999.000,9,  -999.0,9,  -999.0,9,-999.0000,9,-999.0000,9, -999.00,9, -999.00,9,  -999.0,9,  -999.0,-999.000,9,-999.000,-999.000,9,-999.0000,   1.9936,-999.0000,-999.000
  316N145_8,        I03,     485,          1,          2,          2,2,19950508,       0848,   -20.0002,    88.1663,       2315,  2222.5,   2.1495,  34.7248,2,  34.7251,2,    160.9,2,   162.3,2,  113.67,2,   33.55,2,    0.00,2,    2.38,2,-999.000,9,-999.000,9,-999.000,9,  -999.0,9,  -999.0,9,-999.0000,9,-999.0000,9, -999.00,9, -999.00,9,  -999.0,9,  -999.0,-999.000,9,-999.000,-999.000,9,-999.0000,   1.9912,-999.0000,-999.000
  316N145_8,        I03,     485,          1,          1,          1,2,19950508,       0848,   -20.0002,    88.1663,       2315,  2326.8,   2.0226,  34.7254,2,  34.7261,2,    166.0,2,   165.8,2,  114.75,2,   33.36,2,    0.00,2,    2.36,2,   0.004,2,   0.003,2,-999.000,9,  -999.0,9,  -999.0,9,-999.0000,9,-999.0000,9, -999.00,9, -999.00,9,  -999.0,9,  -999.0,-999.000,9,-999.000,-999.000,9,-999.0000,   1.8573,-999.0000,-999.000