BOTTLE,20140514CCHSIOSE
EXPOCODE,SECT_ID,STNNBR,CASTNO,SAMPNO,BTLNBR,BTLNBR_FLAG_W,DATE,TIME,LATITUDE,LONGITUDE,DEPTH,CTDPRS,CTDTMP,CTDSAL,CTDSAL_FLAG_W,SALNTY,SALNTY_FLAG_W,CTDOXY,CTDOXY_FLAG_W,OXYGEN,OXYGEN_FLAG_W,SILCAT,SILCAT_FLAG_W,NITRAT,NITRAT_FLAG_W,NITRIT,NITRIT_FLAG_W,PHSPHT,PHSPHT_FLAG_W,CFC-11,CFC-11_FLAG_W,CFC-12,CFC-12_FLAG_W,CFC113,CFC113_FLAG_W,TCARBN,TCARBN_FLAG_W,ALKALI,ALKALI_FLAG_W,TRITUM,TRITUM_FLAG_W,HELIUM,HELIUM_FLAG_W,DELHE3,DELHE3_FLAG_W,DELC13,DELC13_FLAG_W,DELC14,DELC14_FLAG_W,C14ERR,NEON,NEON_FLAG_W,NEONER,CCL4,CCL4_FLAG_W,HELIER,THETA,TRITER,DELHER
,,,,,,,,,,,METERS,DBAR,ITS-90,PSS-78,,PSS-78,,UMOL/KG,,UMOL/KG,,UMOL/KG,,UMOL/KG,,UMOL/KG,,UMOL/KG,,PMOL/KG,,PMOL/KG,,PMOL/KG,,UMOL/KG,,UMOL/KG,,TU,,NMOL/KG,,PERCNT,,/MILLE,,/MILLE,,/MILLE,NMOL/KG,,NMOL/KG,PMOL/KG,,NMOL/KG,DEG C,TU,PERCNT
  316N145_8,        I03,     450,          1,         36,         36,2,19950427,       0140,   -21.9998,   112.3832,       4241,     6.8,  28.3970,  35.2623,2,  35.2643,2,    196.6,2,   198.3,2,    4.36,2,    0.10,2,    0.00,2,    0.10,2,   1.666,2,   0.972,2,   0.272,3,  1959.0,2,  2310.0,2,-999.0000,9,-999.0000,9, -999.00,9, -999.00,9,  -999.0,9,  -999.0,-999.000,9,-999.000,   2.371,2,-999.0000,  28.3954,-999.0000,-999.000
  316N145_8,        I03,     450,          1,         35,         35,2,19950427,       0140,   -21.9998,   112.3832,       4241,    36.8,  28.3146,  35.4021,2,  35.4077,2,    196.3,2,   197.8,2,    3.71,2,    0.10,2,    0.00,2,    0.07,2,   1.662,2,   0.954,2,   0.151,3,  1963.5,6,  2321.5,6,-999.0000,9,-999.0000,9, -999.00,9, -999.00,9,  -999.0,9,  -999.0,-999.000,9,-999.000,   1.800,2,-999.0000,  28.3059,-999.0000,-999.000
  316N145_8,        I03,     450,          1,         34,         34,2,19950427,       0140,   -21.9998,   112.3832,       4241,    67.2,  24.7734,  35.2532,2,  35.2530,2,    210.4,2,   208.1,2,    4.97,2,    0.10,2,    0.00,2,    0.14,2,-999.000,9,-999.000,9,-999.000,9,  1983.6,2,  2311.0,2,-999.0000,9,-999.0000,9, -999.00,9, -999.00,9,  -999.0,9,  -999.0,-999.000,9,-999.000,-999.000,9,-999.0000,  24.7589,-999.0000,-999.000
  316N145_8,        I03,     450,          1,         33,         33,2,19950427,       0140,   -21.9998,   112.3832,       4241,    96.8,  22.8229,  35.2472,2,  35.2461,2,    180.9,2,   179.9,2,    6.65,2,    1.73,2,    0.18,2,    0.32,2,   1.928,2,   1.080,2,   0.242,3,  2017.7,2,  2311.0,2,-999.0000,9,-999.0000,9, -999.00,9, -999.00,9,  -999.0,9,  -999.0,-999.000,9,-999.000,   1.020,2,-999.0000,  22.8032,-999.0000,-999.000
  316N145_8,        I03,     450,          1,         32,         32,2,19950427,       0140,   -21.9998,   112.3832,       4241,   127.8,  21.5826,  35.5019,2,  35.4961,2,    183.7,2,   187.0,2,    6.00,2,    2.41,2,    0.17,2,    0.32,2,   2.075,2,   1.147,2,   0.255,3,  2034.2,2,  2326.0,2,-999.0000,9,-999.0000,9, -999.00,9, -999.00,9,  -999.0,9,  -999.0,-999.000,9,-999.000,   1.058,2,-999.0000,  21.5576,-999.0000,-999.000
  316N145_8,        I03,     450,          1,         31,         31,2,19950427,       0140,   -21.9998,   112.3832,       4241,   157.4,  20.3315,  35.5695,2,  35.5635,2,    178.6,2,   178.7,2,    7.04,2,    4.50,2,    0.02,2,    0.42,2,-999.000,9,-999.000,9,   0.310,3,  2053.5,2,  2330.0,2,-999.0000,9,-999.0000,9, -999.00,9, -999.00,9,  -999.0,9,  -999.0,-999.000,9,-999.000,   0.866,2,-999.0000,  20.3019,-999.0000,-999.000
  316N145_8,        I03,     450,          1,         30,         30,2,19950427,       0140,   -21.9998,   112.3832,       4241,   207.1,  17.2089,  35.4032,2,  35.3992,2,    160.5,2,   160.3,2,   13.61,2,    9.87,2,    0.01,2,    0.76,2,   1.963,2,   1.059,2,-999.000,9,  2098.5,2,  2328.0,2,-999.0000,9,-999.0000,9, -999.00,9, -999.00,9,  -999.0,9,  -999.0,-999.000,9,-999.000,-999.000,9,-999.0000,  17.1743,-999.0000,-999.000
  316N145_8,        I03,     450,          1,         29,         29,2,19950427,       0140,   -21.9998,   112.3832,       4241,   257.5,  14.6342,  35.3061,2,  35.3066,2,    175.4,2,   172.6,2,   15.07,2,   11.33,2,    0.01,2,    0.87,2,-999.000,9,-999.000,9,-999.000,9,  2116.7,2,  2330.0,2,-999.0000,9,-999.0000,9, -999.00,9, -999.00,9,  -999.0,9,  -999.0,-999.000,9,-999.000,-999.000,9,-999.0000,  14.5957,-999.0000,-999.000
  316N145_8,        I03,     450,          1,         28,         28,2,19950427,       0140,   -21.9998,   112.3832,       4241,   308.6,  13.1638,  35.1933,2,  35.1941,2,    184.3,2,   186.6,2,   13.78,2,   12.00,2,    0.00,2,    0.92,2,   2.322,2,   1.194,2,   0.111,3,  2121.5,2,  2322.0,2,-999.0000,9,-999.0000,9, -999.00,9, -999.00,9,  -999.0,9,  -999.0,-999.000,9,-999.000,   0.770,2,-999.0000,  13.1207,-999.0000,-999.000
  316N145_8,        I03,     450,          1,         27,         27,2,19950427,       0140,   -21.9998,   112.3832,       4241,   357.8,  11.9910,  35.0831,2,  35.0830,2,    193.4,2,   212.5,2,    9.10,2,   11.51,2,    0.00,2,    0.89,2,-999.000,9,-999.000,9,-999.000,9,  2114.9,2,  2316.0,2,-999.0000,9,-999.0000,9, -999.00,9, -999.00,9,  -999.0,9,  -999.0,-999.000,9,-999.000,-999.000,9,-999.0000,  11.9440,-999.0000,-999.000
  316N145_8,        I03,     450,          1,         26,         26,2,19950427,       0140,   -21.9998,   112.3832,       4241,   408.8,  10.2531,  34.8360,2,  34.8404,2,    194.1,2,   196.4,2,   16.29,2,   17.14,2,    0.00,2,    1.23,2,   2.312,2,   1.155,2,-999.000,9,  2138.3,2,  2309.0,2,-999.0000,9,-999.0000,9, -999.00,9, -999.00,9,  -999.0,9,  -999.0,-999.000,9,-999.000,-999.000,9,-999.0000,  10.2045,-999.0000,-999.000
  316N145_8,        I03,     450,          1,         25,         25,2,19950427,       0140,   -21.9998,   112.3832,       4241,   458.3,   9.1833,  34.7149,2,  34.7226,2,    188.0,2,   186.8,2,   21.14,2,   20.64,2,    0.00,2,    1.45,2,-999.000,9,-999.000,9,-999.000,9,  2153.1,2,  2309.0,2,-999.0000,9,-999.0000,9, -999.00,9, -999.00,9,  -999.0,9,  -999.0,-999.000,9,-999.000,-999.000,9,-999.0000,   9.1323,-999.0000,-999.000
  316N145_8,        I03,     450,          1,         24,         24,2,19950427,       0140,   -21.9998,   112.3832,       4241,   509.6,   8.2189,  34.6028,2,  34.6041,2,    188.1,2,   194.5,2,   19.01,2,   22.63,2,    0.00,2,    1.57,2,   1.670,2,   0.830,2,   0.465,3,  2153.8,2,  2299.0,2,-999.0000,9,-999.0000,9, -999.00,9, -999.00,9,  -999.0,9,  -999.0,-999.000,9,-999.000,   1.948,2,-999.0000,   8.1657,-999.0000,-999.000
  316N145_8,        I03,     450,          1,         23,         23,2,19950427,       0140,   -21.9998,   112.3832,       4241,   609.6,   7.0533,  34.5867,2,  34.5860,2,    145.7,2,   137.5,2,   46.72,2,   30.00,2,    0.00,2,    2.10,2,   0.462,2,   0.230,2,-999.000,9,  2212.6,2,  2324.0,2,-999.0000,9,-999.0000,9, -999.00,9, -999.00,9,  -999.0,9,  -999.0,-999.000,9,-999.000,-999.000,9,-999.0000,   6.9946,-999.0000,-999.000
  316N145_8,        I03,     450,          1,         22,         22,2,19950427,       0140,   -21.9998,   112.3832,       4241,   709.0,   6.2732,  34.5992,2,  34.5982,2,    119.0,2,   116.2,2,   65.12,2,   33.70,2,    0.00,2,    2.39,2,   0.101,2,   0.051,2,   0.088,3,  2248.2,2,  2342.0,2,-999.0000,9,-999.0000,9, -999.00,9, -999.00,9,  -999.0,9,  -999.0,-999.000,9,-999.000,   0.224,2,-999.0000,   6.2087,-999.0000,-999.000
  316N145_8,        I03,     450,          1,         21,         21,2,19950427,       0140,   -21.9998,   112.3832,       4241,   810.4,   5.7833,  34.6151,2,  34.6151,2,    101.9,2,   105.0,2,   78.44,2,   35.31,2,    0.00,2,    2.54,2,   0.033,2,   0.020,2,   0.142,3,  2268.3,2,  2351.0,2,-999.0000,9,-999.0000,9, -999.00,9, -999.00,9,  -999.0,9,  -999.0,-999.000,9,-999.000,   0.107,2,-999.0000,   5.7119,-999.0000,-999.000
  316N145_8,        I03,     450,          1,         20,         20,2,19950427,       0140,   -21.9998,   112.3832,       4241,   911.6,   5.3863,  34.6258,2,  34.6273,2,     97.1,2,    99.0,3,   87.33,2,   36.07,2,    0.00,2,    2.60,2,   0.026,2,   0.014,2,   0.149,3,  2281.8,2,  2360.0,2,-999.0000,9,-999.0000,9, -999.00,9, -999.00,9,  -999.0,9,  -999.0,-999.000,9,-999.000,   0.052,2,-999.0000,   5.3081,-999.0000,-999.000
  316N145_8,        I03,     450,          1,         19,         19,2,19950427,       0140,   -21.9998,   112.3832,       4241,  1011.8,   5.0839,  34.6304,2,  34.6308,2,     94.2,2,    98.9,3,   94.10,2,   36.33,2,    0.00,2,    2.64,2,   0.018,2,   0.011,2,-999.000,9,  2289.2,2,  2370.0,2,-999.0000,9,-999.0000,9, -999.00,9, -999.00,9,  -999.0,9,  -999.0,-999.000,9,-999.000,-999.000,9,-999.0000,   4.9987,-999.0000,-999.000
  316N145_8,        I03,     450,          1,         18,         18,2,19950427,       0140,   -21.9998,   112.3832,       4241,  1111.7,   4.8405,  34.6288,2,  34.6308,2,     98.1,2,    99.2,2,   96.82,2,   36.42,2,    0.00,2,    2.64,2,-999.000,9,-999.000,9,-999.000,9,  2292.2,2,  2369.0,2,-999.0000,9,-999.0000,9, -999.00,9, -999.00,9,  -999.0,9,  -999.0,-999.000,9,-999.000,-999.000,9,-999.0000,   4.7481,-999.0000,-999.000
  316N145_8,        I03,     450,          1,         17,         17,2,19950427,       0140,   -21.9998,   112.3832,       4241,  1212.4,   4.5759,  34.6337,2,  34.6330,2,    102.4,2,   101.8,2,  100.18,2,   36.47,2,    0.00,2,    2.65,2,   0.000,2,   0.002,2,-999.000,9,  2296.3,2,  2377.0,2,-999.0000,9,-999.0000,9, -999.00,9, -999.00,9,  -999.0,9,  -999.0,-999.000,9,-999.000,-999.000,9,-999.0000,   4.4767,-999.0000,-999.000
  316N145_8,        I03,     450,          1,         16,         16,2,19950427,       0140,   -21.9998,   112.3832,       4241,  1312.9,   4.2561,  34.6372,2,  34.6390,2,    107.4,2,   107.7,2,  102.48,2,   36.34,2,    0.00,2,    2.62,2,-999.000,9,-999.000,9,-999.000,9,  2297.7,2,  2376.0,2,-999.0000,9,-999.0000,9, -999.00,9, -999.00,9,  -999.0,9,  -999.0,-999.000,9,-999.000,-999.000,9,-999.0000,   4.1509,-999.0000,-999.000
  316N145_8,        I03,     450,          1,         15,         15,2,19950427,       0140,   -21.9998,   112.3832,       4241,  1413.7,   3.9185,  34.6404,2,  34.6416,2,    115.9,2,   116.4,2,  102.21,2,   36.07,2,    0.00,2,    2.60,2,   0.004,2,   0.003,2,-999.000,9,  2295.3,2,  2379.0,2,-999.0000,9,-999.0000,9, -999.00,9, -999.00,9,  -999.0,9,  -999.0,-999.000,9,-999.000,-999.000,9,-999.0000,   3.8077,-999.0000,-999.000
  316N145_8,        I03,     450,          1,         14,         14,2,19950427,       0140,   -21.9998,   112.3832,       4241,  1615.3,   3.3741,  34.6684,2,  34.6681,2,    124.4,2,   127.0,2,  107.93,2,   35.71,2,    0.00,2,    2.56,2,   0.001,2,   0.003,2,   0.122,3,  2298.7,2,  2382.0,2,-999.0000,9,-999.0000,9, -999.00,9, -999.00,9,  -999.0,9,  -999.0,-999.000,9,-999.000,   0.004,2,-999.0000,   3.2517,-999.0000,-999.000
  316N145_8,        I03,     450,          1,         13,         13,2,19950427,       0140,   -21.9998,   112.3832,       4241,  1818.0,   2.9754,  34.6867,2,  34.6850,2,    136.2,2,   136.8,2,  109.16,2,   35.26,2,    0.00,2,    2.51,2,-999.000,9,-999.000,9,-999.000,9,  2295.4,2,  2387.0,2,-999.0000,9,-999.0000,9, -999.00,9, -999.00,9,  -999.0,9,  -999.0,-999.000,9,-999.000,-999.000,9,-999.0000,   2.8403,-999.0000,-999.000
  316N145_8,        I03,     450,          1,         12,         12,2,19950427,       0140,   -21.9998,   112.3832,       4241,  2018.6,   2.5686,  34.7090,2,  34.7100,2,    144.0,2,   144.6,2,  116.19,2,   34.91,2,    0.00,2,    2.48,2,-999.000,9,-999.000,9,-999.000,9,  2299.0,2,  2391.0,2,-999.0000,9,-999.0000,9, -999.00,9, -999.00,9,  -999.0,9,  -999.0,-999.000,9,-999.000,-999.000,9,-999.0000,   2.4216,-999.0000,-999.000
  316N145_8,        I03,     450,          1,         11,         11,2,19950427,       0140,   -21.9998,   112.3832,       4241,  2220.8,   2.2654,  34.7208,2,  34.7214,2,    150.4,2,   154.7,3,  121.53,2,   34.59,2,    0.00,2,    2.46,2,   0.008,2,   0.004,2,-999.000,9,  2300.1,2,  2400.0,2,-999.0000,9,-999.0000,9, -999.00,9, -999.00,9,  -999.0,9,  -999.0,-999.000,9,-999.000,-999.000,9,-999.0000,   2.1053,-999.0000,-999.000
  316N145_8,        I03,     450,          1,         10,         10,2,19950427,       0140,   -21.9998,   112.3832,       4241,  2422.6,   2.0899,  34.7243,2,  34.7247,2,    155.3,2,   155.7,3,  123.63,2,   34.42,2,    0.00,2,    2.43,2,-999.000,9,-999.000,9,-999.000,9,  2300.3,2,  2403.0,2,-999.0000,9,-999.0000,9, -999.00,9, -999.00,9,  -999.0,9,  -999.0,-999.000,9,-999.000,-999.000,9,-999.0000,   1.9147,-999.0000,-999.000
  316N145_8,        I03,     450,          1,          9,          9,2,19950427,       0140,   -21.9998,   112.3832,       4241,  2626.3,   1.9238,  34.7253,2,  34.7251,2,    160.2,2,   162.4,3,  124.65,2,   34.06,2,    0.00,2,    2.40,2,-999.000,9,-999.000,9,-999.000,9,  2297.9,2,  2399.0,2,-999.0000,9,-999.0000,9, -999.00,9, -999.00,9,  -999.0,9,  -999.0,-999.000,9,-999.000,-999.000,9,-999.0000,   1.7330,-999.0000,-999.000
  316N145_8,        I03,     450,          1,          8,          8,2,19950427,       0140,   -21.9998,   112.3832,       4241,  2831.0,   1.7824,  34.7244,2,  34.7247,2,    167.4,2,   172.1,3,  125.45,2,   33.79,2,    0.00,2,    2.37,2,-999.000,9,-999.000,9,-999.000,9,  2296.2,2,  2403.0,2,-999.0000,9,-999.0000,9, -999.00,9, -999.00,9,  -999.0,9,  -999.0,-999.000,9,-999.000,-999.000,9,-999.0000,   1.5753,-999.0000,-999.000
  316N145_8,        I03,     450,          1,          7,          7,2,19950427,       0140,   -21.9998,   112.3832,       4241,  3033.5,   1.6630,  34.7233,2,  34.7241,2,    170.8,2,   174.2,3,  126.69,2,   33.57,2,    0.00,2,    2.37,2,-999.000,9,-999.000,9,-999.000,9,  2295.2,2,  2401.5,6,-999.0000,9,-999.0000,9, -999.00,9, -999.00,9,  -999.0,9,  -999.0,-999.000,9,-999.000,-999.000,9,-999.0000,   1.4392,-999.0000,-999.000
  316N145_8,        I03,     450,          1,          6,          6,2,19950427,       0140,   -21.9998,   112.3832,       4241,  3237.7,   1.5271,  34.7211,2,  34.7209,2,    176.5,2,   181.3,3,  127.28,2,   33.39,2,    0.00,2,    2.33,2,   0.004,2,   0.002,2,   0.300,3,  2292.0,2,  2403.0,2,-999.0000,9,-999.0000,9, -999.00,9, -999.00,9,  -999.0,9,  -999.0,-999.000,9,-999.000,   0.000,2,-999.0000,   1.2864,-999.0000,-999.000
  316N145_8,        I03,     450,          1,          5,          5,2,19950427,       0140,   -21.9998,   112.3832,       4241,  3442.1,   1.3895,  34.7190,2,  34.7182,2,    181.4,2,   185.0,3,  127.86,2,   33.26,2,    0.00,2,    2.31,2,-999.000,9,-999.000,9,-999.000,9,  2289.4,2,  2399.0,2,-999.0000,9,-999.0000,9, -999.00,9, -999.00,9,  -999.0,9,  -999.0,-999.000,9,-999.000,-999.000,9,-999.0000,   1.1317,-999.0000,-999.000
  316N145_8,        I03,     450,          1,          4,          4,2,19950427,       0140,   -21.9998,   112.3832,       4241,  3643.6,   1.2853,  34.7169,2,  34.7172,2,    185.9,2,   188.2,3,  129.10,2,   33.08,2,    0.00,2,    2.30,2,-999.000,9,-999.000,9,-999.000,9,  2288.7,2,  2401.0,2,-999.0000,9,-999.0000,9, -999.00,9, -999.00,9,  -999.0,9,  -999.0,-999.000,9,-999.000,-999.000,9,-999.0000,   1.0098,-999.0000,-999.000
  316N145_8,        I03,     450,          1,          3,          3,2,19950427,       0140,   -21.9998,   112.3832,       4241,  3845.5,   1.2060,  34.7149,2,  34.7135,2,    187.7,2,   191.6,3,  130.12,2,   33.04,2,    0.00,2,    2.29,2,-999.000,9,-999.000,9,-999.000,9,  2288.6,2,  2405.0,2,-999.0000,9,-999.0000,9, -999.00,9, -999.00,9,  -999.0,9,  -999.0,-999.000,9,-999.000,-999.000,9,-999.0000,   0.9116,-999.0000,-999.000
  316N145_8,        I03,     450,          1,          2,          2,2,19950427,       0140,   -21.9998,   112.3832,       4241,  4044.4,   1.1773,  34.7136,2,  34.7139,2,    189.8,2,   194.5,3,  130.71,2,   33.08,2,    0.00,2,    2.29,2,   0.006,2,   0.001,2,   0.061,3,  2289.0,2,  2401.0,2,-999.0000,9,-999.0000,9, -999.00,9, -999.00,9,  -999.0,9,  -999.0,-999.000,9,-999.000,   0.004,2,-999.0000,   0.8625,-999.0000,-999.000
  316N145_8,        I03,     450,          1,          1,          1,2,19950427,       0140,   -21.9998,   112.3832,       4241,  4326.4,   1.1663,  34.7129,2,  34.7119,2,    192.2,2,   191.6,2,  130.86,2,   32.99,2,    0.00,2,    2.29,2,   0.005,2,   0.002,2,-999.000,9,  2288.7,2,  2407.0,2,-999.0000,9,-999.0000,9, -999.00,9, -999.00,9,  -999.0,9,  -999.0,-999.000,9,-999.000,-999.000,9,-999.0000,   0.8210,-999.0000,-999.000