BOTTLE,20140514CCHSIOSE
EXPOCODE,SECT_ID,STNNBR,CASTNO,SAMPNO,BTLNBR,BTLNBR_FLAG_W,DATE,TIME,LATITUDE,LONGITUDE,DEPTH,CTDPRS,CTDTMP,CTDSAL,CTDSAL_FLAG_W,SALNTY,SALNTY_FLAG_W,CTDOXY,CTDOXY_FLAG_W,OXYGEN,OXYGEN_FLAG_W,SILCAT,SILCAT_FLAG_W,NITRAT,NITRAT_FLAG_W,NITRIT,NITRIT_FLAG_W,PHSPHT,PHSPHT_FLAG_W,CFC-11,CFC-11_FLAG_W,CFC-12,CFC-12_FLAG_W,CFC113,CFC113_FLAG_W,TCARBN,TCARBN_FLAG_W,ALKALI,ALKALI_FLAG_W,TRITUM,TRITUM_FLAG_W,HELIUM,HELIUM_FLAG_W,DELHE3,DELHE3_FLAG_W,DELC13,DELC13_FLAG_W,DELC14,DELC14_FLAG_W,C14ERR,NEON,NEON_FLAG_W,NEONER,CCL4,CCL4_FLAG_W,HELIER,THETA,TRITER,DELHER
,,,,,,,,,,,METERS,DBAR,ITS-90,PSS-78,,PSS-78,,UMOL/KG,,UMOL/KG,,UMOL/KG,,UMOL/KG,,UMOL/KG,,UMOL/KG,,PMOL/KG,,PMOL/KG,,PMOL/KG,,UMOL/KG,,UMOL/KG,,TU,,NMOL/KG,,PERCNT,,/MILLE,,/MILLE,,/MILLE,NMOL/KG,,NMOL/KG,PMOL/KG,,NMOL/KG,DEG C,TU,PERCNT
  316N145_8,        I03,     555,          1,         36,         36,2,19950531,       0751,   -20.0003,    51.0005,       4827,     6.2,  24.8804,  35.3079,2,  35.3073,2,    207.7,2,   209.0,2,    2.57,2,    0.11,2,    0.00,2,    0.13,2,-999.000,9,-999.000,9,-999.000,9,  1969.9,2,  2306.0,2,-999.0000,9,-999.0000,9, -999.00,9, -999.00,9,  -999.0,9,  -999.0,-999.000,9,-999.000,-999.000,9,-999.0000,  24.8790,-999.0000,-999.000
  316N145_8,        I03,     555,          1,         35,         35,2,19950531,       0751,   -20.0003,    51.0005,       4827,    55.4,  24.8274,  35.3053,2,  35.3046,2,    207.8,2,   209.0,2,    2.55,2,    0.11,2,    0.00,2,    0.12,2,-999.000,9,-999.000,9,-999.000,9,  1969.3,6,  2306.5,6,-999.0000,9,-999.0000,9, -999.00,9, -999.00,9,  -999.0,9,  -999.0,-999.000,9,-999.000,-999.000,9,-999.0000,  24.8155,-999.0000,-999.000
  316N145_8,        I03,     555,          1,         34,         34,2,19950531,       0751,   -20.0003,    51.0005,       4827,   101.0,  23.4203,  35.2009,2,  35.2054,2,    208.8,2,   203.7,2,    2.92,2,    0.15,2,    0.01,2,    0.17,2,-999.000,9,-999.000,9,-999.000,9,  1985.3,2,  2300.0,2,-999.0000,9,-999.0000,9, -999.00,9, -999.00,9,  -999.0,9,  -999.0,-999.000,9,-999.000,-999.000,9,-999.0000,  23.3994,-999.0000,-999.000
  316N145_8,        I03,     555,          1,         33,         33,2,19950531,       0751,   -20.0003,    51.0005,       4827,   155.2,  21.1280,  35.3829,2,  35.3805,2,    177.4,2,   176.1,2,    5.02,2,    4.30,2,    0.01,2,    0.41,2,-999.000,9,-999.000,9,-999.000,9,  2035.3,2,  2331.0,3,-999.0000,9,-999.0000,9, -999.00,9, -999.00,9,  -999.0,9,  -999.0,-999.000,9,-999.000,-999.000,9,-999.0000,  21.0981,-999.0000,-999.000
  316N145_8,        I03,     555,          1,         32,         32,2,19950531,       0751,   -20.0003,    51.0005,       4827,   206.7,  18.9369,  35.4687,2,  35.4782,2,    161.8,2,   166.6,2,    7.12,2,    6.92,2,    0.00,2,    0.58,2,-999.000,9,-999.000,9,-999.000,9,  2073.8,2,  2323.0,2,-999.0000,9,-999.0000,9, -999.00,9, -999.00,9,  -999.0,9,  -999.0,-999.000,9,-999.000,-999.000,9,-999.0000,  18.9000,-999.0000,-999.000
  316N145_8,        I03,     555,          1,         31,         31,2,19950531,       0751,   -20.0003,    51.0005,       4827,   255.6,  17.1196,  35.5096,2,  35.5101,2,    165.7,2,   175.2,2,    7.48,2,    7.39,2,    0.00,2,    0.62,2,-999.000,9,-999.000,9,-999.000,9,  2090.8,2,  2330.0,2,-999.0000,9,-999.0000,9, -999.00,9, -999.00,9,  -999.0,9,  -999.0,-999.000,9,-999.000,-999.000,9,-999.0000,  17.0770,-999.0000,-999.000
  316N145_8,        I03,     555,          1,         30,         30,2,19950531,       0751,   -20.0003,    51.0005,       4827,   307.3,  15.4717,  35.3764,2,  35.3766,2,    172.8,2,   170.4,2,    9.97,2,   10.33,2,    0.00,2,    0.80,2,-999.000,9,-999.000,9,-999.000,9,  2109.9,2,  2327.0,2,-999.0000,9,-999.0000,9, -999.00,9, -999.00,9,  -999.0,9,  -999.0,-999.000,9,-999.000,-999.000,9,-999.0000,  15.4238,-999.0000,-999.000
  316N145_8,        I03,     555,          1,         29,         29,2,19950531,       0751,   -20.0003,    51.0005,       4827,   356.3,  14.3286,  35.2849,2,  35.2858,2,    175.7,2,   177.0,2,   10.14,2,   11.37,2,    0.00,2,    0.88,2,-999.000,9,-999.000,9,-999.000,9,  2115.3,2,  2322.0,2,-999.0000,9,-999.0000,9, -999.00,9, -999.00,9,  -999.0,9,  -999.0,-999.000,9,-999.000,-999.000,9,-999.0000,  14.2759,-999.0000,-999.000
  316N145_8,        I03,     555,          1,         28,         28,2,19950531,       0751,   -20.0003,    51.0005,       4827,   405.0,  13.2448,  35.1910,2,  35.1906,2,    186.6,2,   188.1,2,    9.55,2,   12.04,2,    0.00,2,    0.92,2,-999.000,9,-999.000,9,-999.000,9,  2117.3,2,  2323.0,2,-999.0000,9,-999.0000,9, -999.00,9, -999.00,9,  -999.0,9,  -999.0,-999.000,9,-999.000,-999.000,9,-999.0000,  13.1878,-999.0000,-999.000
  316N145_8,        I03,     555,          1,         27,         27,2,19950531,       0751,   -20.0003,    51.0005,       4827,   455.8,  12.1389,  35.0696,2,  35.0693,2,    197.5,2,   197.4,2,    9.34,2,   13.32,2,    0.00,2,    0.99,2,-999.000,9,-999.000,9,-999.000,9,  2119.3,2,  2316.0,2,-999.0000,9,-999.0000,9, -999.00,9, -999.00,9,  -999.0,9,  -999.0,-999.000,9,-999.000,-999.000,9,-999.0000,  12.0783,-999.0000,-999.000
  316N145_8,        I03,     555,          1,         26,         26,2,19950531,       0751,   -20.0003,    51.0005,       4827,   506.4,  10.8617,  34.9194,2,  34.9202,2,    202.1,2,   202.7,2,    9.90,2,   15.46,2,    0.00,2,    1.12,2,-999.000,9,-999.000,9,-999.000,9,  2125.3,2,  2305.0,2,-999.0000,9,-999.0000,9, -999.00,9, -999.00,9,  -999.0,9,  -999.0,-999.000,9,-999.000,-999.000,9,-999.0000,  10.7989,-999.0000,-999.000
  316N145_8,        I03,     555,          1,         25,         25,2,19950531,       0751,   -20.0003,    51.0005,       4827,   607.7,   9.0539,  34.7107,2,  34.7117,2,    197.7,2,   197.8,2,   14.49,2,   20.11,2,    0.00,2,    1.42,2,-999.000,9,-999.000,9,-999.000,9,  2142.2,2,  2299.0,2,-999.0000,9,-999.0000,9, -999.00,9, -999.00,9,  -999.0,9,  -999.0,-999.000,9,-999.000,-999.000,9,-999.0000,   8.9863,-999.0000,-999.000
  316N145_8,        I03,     555,          1,         24,         24,2,19950531,       0751,   -20.0003,    51.0005,       4827,   707.6,   7.7322,  34.5940,2,  34.5975,2,    188.6,2,   190.1,2,   20.61,2,   23.88,2,    0.00,2,    1.66,2,-999.000,9,-999.000,9,-999.000,9,  2160.3,2,  2300.0,2,-999.0000,9,-999.0000,9, -999.00,9, -999.00,9,  -999.0,9,  -999.0,-999.000,9,-999.000,-999.000,9,-999.0000,   7.6601,-999.0000,-999.000
  316N145_8,        I03,     555,          1,         23,         23,2,19950531,       0751,   -20.0003,    51.0005,       4827,   809.1,   6.6090,  34.5647,2,  34.5639,2,    165.4,2,   165.5,2,   36.90,2,   28.47,2,    0.00,2,    2.00,2,-999.000,9,-999.000,9,-999.000,9,  2195.2,2,  2325.0,3,-999.0000,9,-999.0000,9, -999.00,9, -999.00,9,  -999.0,9,  -999.0,-999.000,9,-999.000,-999.000,9,-999.0000,   6.5328,-999.0000,-999.000
  316N145_8,        I03,     555,          1,         22,         22,2,19950531,       0751,   -20.0003,    51.0005,       4827,   908.4,   5.9031,  34.5729,2,  34.5739,2,    143.4,2,   146.8,2,   50.70,2,   31.17,2,    0.00,2,    2.22,2,-999.000,9,-999.000,9,-999.000,9,  2220.8,2,  2325.0,2,-999.0000,9,-999.0000,9, -999.00,9, -999.00,9,  -999.0,9,  -999.0,-999.000,9,-999.000,-999.000,9,-999.0000,   5.8217,-999.0000,-999.000
  316N145_8,        I03,     555,          1,         21,         21,2,19950531,       0751,   -20.0003,    51.0005,       4827,  1009.6,   5.1196,  34.5926,2,  34.5910,2,    130.6,2,   135.2,2,   64.72,2,   33.25,2,    0.00,2,    2.39,2,-999.000,9,-999.000,9,-999.000,9,  2246.2,2,  2337.0,2,-999.0000,9,-999.0000,9, -999.00,9, -999.00,9,  -999.0,9,  -999.0,-999.000,9,-999.000,-999.000,9,-999.0000,   5.0344,-999.0000,-999.000
  316N145_8,        I03,     555,          1,         20,         20,2,19950531,       0751,   -20.0003,    51.0005,       4827,  1112.5,   4.3895,  34.5914,2,  34.5884,2,    140.6,2,   140.5,2,   71.06,2,   33.89,2,    0.00,2,    2.43,2,-999.000,9,-999.000,9,-999.000,9,  2252.9,2,  2342.0,2,-999.0000,9,-999.0000,9, -999.00,9, -999.00,9,  -999.0,9,  -999.0,-999.000,9,-999.000,-999.000,9,-999.0000,   4.3009,-999.0000,-999.000
  316N145_8,        I03,     555,          1,         19,         19,2,19950531,       0751,   -20.0003,    51.0005,       4827,  1211.3,   4.0651,  34.6157,2,  34.6180,2,    137.5,2,   138.9,2,   77.61,2,   34.09,2,    0.00,2,    2.46,2,-999.000,9,-999.000,9,-999.000,9,  2260.0,2,  2350.0,2,-999.0000,9,-999.0000,9, -999.00,9, -999.00,9,  -999.0,9,  -999.0,-999.000,9,-999.000,-999.000,9,-999.0000,   3.9707,-999.0000,-999.000
  316N145_8,        I03,     555,          1,         18,         18,2,19950531,       0751,   -20.0003,    51.0005,       4827,  1413.1,   3.3029,  34.6536,2,  34.6551,2,    147.0,2,   148.1,2,   86.71,2,   33.90,2,    0.00,2,    2.41,2,-999.000,9,-999.000,9,-999.000,9,  2267.3,2,  2360.0,2,-999.0000,9,-999.0000,9, -999.00,9, -999.00,9,  -999.0,9,  -999.0,-999.000,9,-999.000,-999.000,9,-999.0000,   3.1988,-999.0000,-999.000
  316N145_8,        I03,     555,          1,         17,         17,2,19950531,       0751,   -20.0003,    51.0005,       4827,  1614.6,   2.8592,  34.6845,2,  34.6841,2,    154.7,2,   155.6,2,   93.92,2,   33.52,2,    0.00,2,    2.39,2,-999.000,9,-999.000,9,-999.000,9,  2271.3,2,  2366.0,2,-999.0000,9,-999.0000,9, -999.00,9, -999.00,9,  -999.0,9,  -999.0,-999.000,9,-999.000,-999.000,9,-999.0000,   2.7432,-999.0000,-999.000
  316N145_8,        I03,     555,          1,         16,         16,2,19950531,       0751,   -20.0003,    51.0005,       4827,  1817.2,   2.5544,  34.7064,2,  34.7063,2,    162.5,2,   162.3,2,   98.21,2,   33.04,2,    0.00,2,    2.35,2,-999.000,9,-999.000,9,-999.000,9,  2273.4,2,  2372.0,2,-999.0000,9,-999.0000,9, -999.00,9, -999.00,9,  -999.0,9,  -999.0,-999.000,9,-999.000,-999.000,9,-999.0000,   2.4251,-999.0000,-999.000
  316N145_8,        I03,     555,          1,         15,         15,2,19950531,       0751,   -20.0003,    51.0005,       4827,  2018.6,   2.3423,  34.7245,2,  34.7250,2,    162.8,2,   161.7,2,  107.09,2,   33.19,2,    0.00,2,    2.36,2,   0.001,2,  -0.003,2,-999.000,9,  2281.7,2,  2384.0,2,-999.0000,9,-999.0000,9, -999.00,9, -999.00,9,  -999.0,9,  -999.0,-999.000,9,-999.000,-999.000,9,-999.0000,   2.1987,-999.0000,-999.000
  316N145_8,        I03,     555,          1,         14,         14,2,19950531,       0751,   -20.0003,    51.0005,       4827,  2222.3,   2.2252,  34.7355,2,  34.7348,2,    159.0,2,   159.1,2,  114.68,2,   33.68,2,    0.00,2,    2.41,2,-999.000,9,-999.000,9,-999.000,9,  2288.2,2,  -999.0,5,-999.0000,9,-999.0000,9, -999.00,9, -999.00,9,  -999.0,9,  -999.0,-999.000,9,-999.000,-999.000,9,-999.0000,   2.0656,-999.0000,-999.000
  316N145_8,        I03,     555,          1,         13,         13,2,19950531,       0751,   -20.0003,    51.0005,       4827,  2424.7,   2.1149,  34.7385,2,  34.7381,2,    158.8,2,   158.9,2,  119.10,2,   33.84,2,    0.00,2,    2.43,2,-999.000,9,-999.000,9,-999.000,9,  2293.5,2,  2398.0,2,-999.0000,9,-999.0000,9, -999.00,9, -999.00,9,  -999.0,9,  -999.0,-999.000,9,-999.000,-999.000,9,-999.0000,   1.9390,-999.0000,-999.000
  316N145_8,        I03,     555,          1,         12,         12,2,19950531,       0751,   -20.0003,    51.0005,       4827,  2626.9,   2.0316,  34.7389,2,  34.7401,2,    158.7,2,   159.0,2,  122.94,2,   33.89,2,    0.00,2,    2.44,2,-999.000,9,-999.000,9,-999.000,9,  2296.9,2,  2402.0,2,-999.0000,9,-999.0000,9, -999.00,9, -999.00,9,  -999.0,9,  -999.0,-999.000,9,-999.000,-999.000,9,-999.0000,   1.8387,-999.0000,-999.000
  316N145_8,        I03,     555,          1,         11,         11,2,19950531,       0751,   -20.0003,    51.0005,       4827,  2832.1,   1.9445,  34.7379,2,  34.7393,2,    160.5,2,   160.4,2,  125.77,2,   33.95,2,    0.00,2,    2.44,2,-999.000,9,-999.000,9,-999.000,9,  2299.0,2,  2403.0,2,-999.0000,9,-999.0000,9, -999.00,9, -999.00,9,  -999.0,9,  -999.0,-999.000,9,-999.000,-999.000,9,-999.0000,   1.7339,-999.0000,-999.000
  316N145_8,        I03,     555,          1,         10,         10,2,19950531,       0751,   -20.0003,    51.0005,       4827,  3033.7,   1.8726,  34.7381,2,  34.7385,2,    161.5,2,   161.7,2,  128.00,2,   34.00,2,    0.00,2,    2.44,2,-999.000,9,-999.000,9,-999.000,9,  2299.9,2,  2405.0,2,-999.0000,9,-999.0000,9, -999.00,9, -999.00,9,  -999.0,9,  -999.0,-999.000,9,-999.000,-999.000,9,-999.0000,   1.6440,-999.0000,-999.000
  316N145_8,        I03,     555,          1,          9,          9,2,19950531,       0751,   -20.0003,    51.0005,       4827,  3236.5,   1.7973,  34.7357,2,  34.7355,2,    164.7,2,   164.6,2,  129.20,2,   33.91,2,    0.00,2,    2.43,2,-999.000,9,-999.000,9,-999.000,9,  2298.9,2,  2403.0,2,-999.0000,9,-999.0000,9, -999.00,9, -999.00,9,  -999.0,9,  -999.0,-999.000,9,-999.000,-999.000,9,-999.0000,   1.5504,-999.0000,-999.000
  316N145_8,        I03,     555,          1,          8,          8,2,19950531,       0751,   -20.0003,    51.0005,       4827,  3440.7,   1.7061,  34.7332,2,  34.7326,2,    168.2,2,   168.0,2,  129.98,2,   33.87,2,    0.00,2,    2.40,2,-999.000,9,-999.000,9,-999.000,9,  2298.9,2,  2404.0,2,-999.0000,9,-999.0000,9, -999.00,9, -999.00,9,  -999.0,9,  -999.0,-999.000,9,-999.000,-999.000,9,-999.0000,   1.4406,-999.0000,-999.000
  316N145_8,        I03,     555,          1,          7,          7,2,19950531,       0751,   -20.0003,    51.0005,       4827,  3643.3,   1.5599,  34.7274,2,  34.7279,2,    174.8,2,   175.5,2,  129.10,2,   33.49,2,    0.00,2,    2.36,2,-999.000,9,-999.000,9,-999.000,9,  2290.6,2,  2399.0,2,-999.0000,9,-999.0000,9, -999.00,9, -999.00,9,  -999.0,9,  -999.0,-999.000,9,-999.000,-999.000,9,-999.0000,   1.2771,-999.0000,-999.000
  316N145_8,        I03,     555,          1,          6,          6,2,19950531,       0751,   -20.0003,    51.0005,       4827,  3849.9,   1.3861,  34.7220,2,  34.7218,2,    185.7,2,   186.3,2,  126.14,2,   32.91,2,    0.00,2,    2.32,2,-999.000,9,-999.000,9,-999.000,9,  2280.4,2,  2388.0,2,-999.0000,9,-999.0000,9, -999.00,9, -999.00,9,  -999.0,9,  -999.0,-999.000,9,-999.000,-999.000,9,-999.0000,   1.0862,-999.0000,-999.000
  316N145_8,        I03,     555,          1,          5,          5,2,19950531,       0751,   -20.0003,    51.0005,       4827,  4052.8,   1.2012,  34.7160,2,  34.7159,2,    195.6,2,   196.1,2,  124.45,2,   32.39,2,    0.00,2,    2.28,2,-999.000,9,-999.000,9,-999.000,9,  2271.3,2,  2380.0,2,-999.0000,9,-999.0000,9, -999.00,9, -999.00,9,  -999.0,9,  -999.0,-999.000,9,-999.000,-999.000,9,-999.0000,   0.8849,-999.0000,-999.000
  316N145_8,        I03,     555,          1,          4,          4,2,19950531,       0751,   -20.0003,    51.0005,       4827,  4257.9,   1.0776,  34.7116,2,  34.7112,2,    201.6,2,   202.2,2,  123.99,2,   32.20,2,    0.00,2,    2.25,2,-999.000,9,-999.000,9,-999.000,9,  2267.8,2,  2375.0,2,-999.0000,9,-999.0000,9, -999.00,9, -999.00,9,  -999.0,9,  -999.0,-999.000,9,-999.000,-999.000,9,-999.0000,   0.7426,-999.0000,-999.000
  316N145_8,        I03,     555,          1,          3,          3,2,19950531,       0751,   -20.0003,    51.0005,       4827,  4461.7,   1.0102,  34.7077,2,  34.7070,2,    205.5,2,   205.5,2,  124.35,2,   32.16,2,    0.00,2,    2.25,2,   0.005,2,  -0.001,2,-999.000,9,  2263.5,2,  2373.0,2,-999.0000,9,-999.0000,9, -999.00,9, -999.00,9,  -999.0,9,  -999.0,-999.000,9,-999.000,-999.000,9,-999.0000,   0.6547,-999.0000,-999.000
  316N145_8,        I03,     555,          1,          2,          2,2,19950531,       0751,   -20.0003,    51.0005,       4827,  4693.7,   0.9964,  34.7061,2,  34.7055,2,    206.1,2,   206.7,2,  124.71,2,   32.12,2,    0.00,2,    2.24,2,   0.006,2,   0.000,2,-999.000,9,  2263.0,2,  2371.0,2,-999.0000,9,-999.0000,9, -999.00,9, -999.00,9,  -999.0,9,  -999.0,-999.000,9,-999.000,-999.000,9,-999.0000,   0.6149,-999.0000,-999.000
  316N145_8,        I03,     555,          1,          1,          1,2,19950531,       0751,   -20.0003,    51.0005,       4827,  4925.5,   1.0117,  34.7062,2,  34.7056,2,    207.2,2,   206.6,3,  125.07,2,   32.22,2,    0.00,2,    2.24,2,   0.006,2,   0.000,2,-999.000,9,  2262.7,2,  2372.0,2,-999.0000,9,-999.0000,9, -999.00,9, -999.00,9,  -999.0,9,  -999.0,-999.000,9,-999.000,-999.000,9,-999.0000,   0.6028,-999.0000,-999.000