BOTTLE,20140514CCHSIOSE
EXPOCODE,SECT_ID,STNNBR,CASTNO,SAMPNO,BTLNBR,BTLNBR_FLAG_W,DATE,TIME,LATITUDE,LONGITUDE,DEPTH,CTDPRS,CTDTMP,CTDSAL,CTDSAL_FLAG_W,SALNTY,SALNTY_FLAG_W,CTDOXY,CTDOXY_FLAG_W,OXYGEN,OXYGEN_FLAG_W,SILCAT,SILCAT_FLAG_W,NITRAT,NITRAT_FLAG_W,NITRIT,NITRIT_FLAG_W,PHSPHT,PHSPHT_FLAG_W,CFC-11,CFC-11_FLAG_W,CFC-12,CFC-12_FLAG_W,CFC113,CFC113_FLAG_W,TCARBN,TCARBN_FLAG_W,ALKALI,ALKALI_FLAG_W,TRITUM,TRITUM_FLAG_W,HELIUM,HELIUM_FLAG_W,DELHE3,DELHE3_FLAG_W,DELC13,DELC13_FLAG_W,DELC14,DELC14_FLAG_W,C14ERR,NEON,NEON_FLAG_W,NEONER,CCL4,CCL4_FLAG_W,HELIER,THETA,TRITER,DELHER
,,,,,,,,,,,METERS,DBAR,ITS-90,PSS-78,,PSS-78,,UMOL/KG,,UMOL/KG,,UMOL/KG,,UMOL/KG,,UMOL/KG,,UMOL/KG,,PMOL/KG,,PMOL/KG,,PMOL/KG,,UMOL/KG,,UMOL/KG,,TU,,NMOL/KG,,PERCNT,,/MILLE,,/MILLE,,/MILLE,NMOL/KG,,NMOL/KG,PMOL/KG,,NMOL/KG,DEG C,TU,PERCNT
  316N145_8,        I03,     539,          1,         22,         22,2,19950524,       0946,   -20.3668,    57.9660,       1450,     7.7,  25.3227,  35.2163,2,  35.2155,2,    206.5,2,   207.7,2,    2.79,2,    0.01,2,    0.00,2,    0.12,2,   1.872,2,   1.058,2,   0.078,3,  1962.7,6,  2307.6,6,-999.0000,9,-999.0000,9, -999.00,9, -999.00,9,  -999.0,9,  -999.0,-999.000,9,-999.000,   2.048,2,-999.0000,  25.3210,-999.0000,-999.000
  316N145_8,        I03,     539,          1,         21,         21,2,19950524,       0946,   -20.3668,    57.9660,       1450,    54.6,  25.1932,  35.2053,2,  35.2035,2,    207.9,2,   207.8,2,    2.77,2,    0.01,2,    0.00,2,    0.12,2,-999.000,9,-999.000,9,-999.000,9,  -999.0,9,  -999.0,9,-999.0000,9,-999.0000,9, -999.00,9, -999.00,9,  -999.0,9,  -999.0,-999.000,9,-999.000,-999.000,9,-999.0000,  25.1813,-999.0000,-999.000
  316N145_8,        I03,     539,          1,         20,         20,2,19950524,       0946,   -20.3668,    57.9660,       1450,   104.3,  22.7833,  35.3183,2,  35.3173,2,    206.9,2,   205.5,2,    3.17,2,    0.33,2,    0.11,2,    0.19,2,   2.100,2,   1.165,2,   0.135,3,  -999.0,9,  -999.0,9,-999.0000,9,-999.0000,9, -999.00,9, -999.00,9,  -999.0,9,  -999.0,-999.000,9,-999.000,   1.239,2,-999.0000,  22.7621,-999.0000,-999.000
  316N145_8,        I03,     539,          1,         19,         19,2,19950524,       0946,   -20.3668,    57.9660,       1450,   153.9,  21.4477,  35.4333,2,  35.4374,2,    196.3,2,   189.7,2,    3.98,2,    2.22,2,    0.02,2,    0.30,2,-999.000,9,-999.000,9,-999.000,9,  -999.0,9,  -999.0,9,-999.0000,9,-999.0000,9, -999.00,9, -999.00,9,  -999.0,9,  -999.0,-999.000,9,-999.000,-999.000,9,-999.0000,  21.4177,-999.0000,-999.000
  316N145_8,        I03,     539,          1,         18,         18,2,19950524,       0946,   -20.3668,    57.9660,       1450,   204.5,  19.7992,  35.5559,2,  35.5721,2,    183.6,2,   184.3,2,    4.79,2,    3.73,2,    0.01,2,    0.38,2,   2.179,2,   1.181,2,   0.063,3,  -999.0,9,  -999.0,9,-999.0000,9,-999.0000,9, -999.00,9, -999.00,9,  -999.0,9,  -999.0,-999.000,9,-999.000,   0.610,2,-999.0000,  19.7616,-999.0000,-999.000
  316N145_8,        I03,     539,          1,         17,         17,2,19950524,       0946,   -20.3668,    57.9660,       1450,   255.4,  17.7372,  35.5943,2,  35.5938,2,    186.6,2,   185.9,2,    5.60,2,    5.10,2,    0.01,2,    0.49,2,-999.000,9,-999.000,9,-999.000,9,  -999.0,9,  -999.0,9,-999.0000,9,-999.0000,9, -999.00,9, -999.00,9,  -999.0,9,  -999.0,-999.000,9,-999.000,-999.000,9,-999.0000,  17.6935,-999.0000,-999.000
  316N145_8,        I03,     539,          1,         16,         16,2,19950524,       0946,   -20.3668,    57.9660,       1450,   305.5,  16.5093,  35.5920,2,  35.5904,2,    193.4,2,   194.6,2,    5.38,2,    5.20,2,    0.00,2,    0.51,2,   2.373,2,   1.245,2,   0.034,3,  -999.0,9,  -999.0,9,-999.0000,9,-999.0000,9, -999.00,9, -999.00,9,  -999.0,9,  -999.0,-999.000,9,-999.000,   0.477,2,-999.0000,  16.4596,-999.0000,-999.000
  316N145_8,        I03,     539,          1,         15,         15,2,19950524,       0946,   -20.3668,    57.9660,       1450,   355.2,  14.9607,  35.4620,2,  35.4612,2,    205.6,2,   205.7,2,    4.96,2,    6.22,2,    0.00,2,    0.58,2,-999.000,9,-999.000,9,-999.000,9,  -999.0,9,  -999.0,9,-999.0000,9,-999.0000,9, -999.00,9, -999.00,9,  -999.0,9,  -999.0,-999.000,9,-999.000,-999.000,9,-999.0000,  14.9066,-999.0000,-999.000
  316N145_8,        I03,     539,          1,         14,         14,2,19950524,       0946,   -20.3668,    57.9660,       1450,   404.5,  13.9348,  35.3476,2,  35.3478,2,    213.3,2,   215.2,2,    4.34,2,    7.15,2,    0.00,2,    0.63,2,   2.674,2,   1.367,2,   0.037,3,  -999.0,9,  -999.0,9,-999.0000,9,-999.0000,9, -999.00,9, -999.00,9,  -999.0,9,  -999.0,-999.000,9,-999.000,   0.560,2,-999.0000,  13.8760,-999.0000,-999.000
  316N145_8,        I03,     539,          1,         13,         13,2,19950524,       0946,   -20.3668,    57.9660,       1450,   454.3,  13.1190,  35.2464,2,  35.2441,2,    221.2,2,   221.6,2,    4.12,2,    8.32,2,    0.00,2,    0.69,2,-999.000,9,-999.000,9,-999.000,9,  -999.0,9,  -999.0,9,-999.0000,9,-999.0000,9, -999.00,9, -999.00,9,  -999.0,9,  -999.0,-999.000,9,-999.000,-999.000,9,-999.0000,  13.0554,-999.0000,-999.000
  316N145_8,        I03,     539,          1,         12,         12,2,19950524,       0946,   -20.3668,    57.9660,       1450,   503.6,  12.1951,  35.1101,2,  35.1102,2,    222.0,2,   224.8,2,    4.52,2,   10.12,2,    0.00,2,    0.80,2,   2.694,2,   1.357,2,   0.054,3,  -999.0,9,  -999.0,9,-999.0000,9,-999.0000,9, -999.00,9, -999.00,9,  -999.0,9,  -999.0,-999.000,9,-999.000,   0.873,2,-999.0000,  12.1278,-999.0000,-999.000
  316N145_8,        I03,     539,          1,         11,         11,2,19950524,       0946,   -20.3668,    57.9660,       1450,   603.3,  10.6988,  34.8954,2,  34.8948,2,    225.5,2,   226.1,2,    5.74,2,   13.47,2,    0.00,2,    0.99,2,-999.000,9,-999.000,9,-999.000,9,  -999.0,9,  -999.0,9,-999.0000,9,-999.0000,9, -999.00,9, -999.00,9,  -999.0,9,  -999.0,-999.000,9,-999.000,-999.000,9,-999.0000,  10.6244,-999.0000,-999.000
  316N145_8,        I03,     539,          1,         10,         10,2,19950524,       0946,   -20.3668,    57.9660,       1450,   703.5,   8.7055,  34.6503,2,  34.6494,2,    208.8,2,   211.4,2,   11.28,2,   19.75,2,    0.00,2,    1.38,2,   1.516,2,   0.758,2,   0.019,3,  -999.0,9,  -999.0,9,-999.0000,9,-999.0000,9, -999.00,9, -999.00,9,  -999.0,9,  -999.0,-999.000,9,-999.000,   1.046,2,-999.0000,   8.6287,-999.0000,-999.000
  316N145_8,        I03,     539,          1,          9,          9,2,19950524,       0946,   -20.3668,    57.9660,       1450,   806.0,   6.5080,  34.5354,2,  34.5343,2,    175.5,2,   174.5,2,   34.69,2,   27.97,2,    0.00,2,    1.94,2,-999.000,9,-999.000,9,-999.000,9,  -999.0,9,  -999.0,9,-999.0000,9,-999.0000,9, -999.00,9, -999.00,9,  -999.0,9,  -999.0,-999.000,9,-999.000,-999.000,9,-999.0000,   6.4328,-999.0000,-999.000
  316N145_8,        I03,     539,          1,          8,          8,2,19950524,       0946,   -20.3668,    57.9660,       1450,   906.7,   5.4791,  34.5626,2,  34.5656,2,    148.0,2,   145.8,2,   56.27,2,   31.92,2,    0.00,2,    2.25,2,-999.000,9,-999.000,9,  -0.003,3,  -999.0,9,  -999.0,9,-999.0000,9,-999.0000,9, -999.00,9, -999.00,9,  -999.0,9,  -999.0,-999.000,9,-999.000,   0.346,2,-999.0000,   5.4008,-999.0000,-999.000
  316N145_8,        I03,     539,          1,          7,          7,2,19950524,       0946,   -20.3668,    57.9660,       1450,  1007.9,   4.8960,  34.5925,2,  34.5947,2,    134.5,2,   133.7,2,   69.45,2,   33.67,2,    0.00,2,    2.39,2,   0.064,2,   0.028,2,-999.000,9,  -999.0,9,  -999.0,9,-999.0000,9,-999.0000,9, -999.00,9, -999.00,9,  -999.0,9,  -999.0,-999.000,9,-999.000,-999.000,9,-999.0000,   4.8126,-999.0000,-999.000
  316N145_8,        I03,     539,          1,          6,          6,2,19950524,       0946,   -20.3668,    57.9660,       1450,  1108.5,   4.4133,  34.6131,2,  34.6141,2,    132.6,2,   133.3,2,   76.67,2,   34.17,2,    0.00,2,    2.42,2,-999.000,9,-999.000,9,   0.006,3,  -999.0,9,  -999.0,9,-999.0000,9,-999.0000,9, -999.00,9, -999.00,9,  -999.0,9,  -999.0,-999.000,9,-999.000,   0.172,2,-999.0000,   4.3248,-999.0000,-999.000
  316N145_8,        I03,     539,          1,          5,          5,2,19950524,       0946,   -20.3668,    57.9660,       1450,  1209.0,   3.9972,  34.6285,2,  34.6282,2,    136.5,2,   137.0,2,   81.43,2,   34.39,2,    0.00,2,    2.42,2,-999.000,9,-999.000,9,-999.000,9,  -999.0,9,  -999.0,9,-999.0000,9,-999.0000,9, -999.00,9, -999.00,9,  -999.0,9,  -999.0,-999.000,9,-999.000,-999.000,9,-999.0000,   3.9037,-999.0000,-999.000
  316N145_8,        I03,     539,          1,          4,          4,2,19950524,       0946,   -20.3668,    57.9660,       1450,  1308.7,   3.8045,  34.6417,2,  34.6415,2,    139.0,2,   139.3,2,   84.32,2,   34.30,2,    0.00,2,    2.41,2,   0.011,2,   0.007,2,   0.003,3,  -999.0,9,  -999.0,9,-999.0000,9,-999.0000,9, -999.00,9, -999.00,9,  -999.0,9,  -999.0,-999.000,9,-999.000,   0.037,2,-999.0000,   3.7041,-999.0000,-999.000
  316N145_8,        I03,     539,          1,          3,          3,2,19950524,       0946,   -20.3668,    57.9660,       1450,  1409.4,   3.3727,  34.6623,2,  34.6619,2,    144.8,2,   145.1,2,   89.71,2,   34.06,2,    0.00,2,    2.40,2,-999.000,9,-999.000,9,-999.000,9,  -999.0,9,  -999.0,9,-999.0000,9,-999.0000,9, -999.00,9, -999.00,9,  -999.0,9,  -999.0,-999.000,9,-999.000,-999.000,9,-999.0000,   3.2681,-999.0000,-999.000
  316N145_8,        I03,     539,          1,          2,          2,2,19950524,       0946,   -20.3668,    57.9660,       1450,  1510.8,   3.0492,  34.6741,2,  34.6745,2,    150.1,2,   151.8,2,   92.82,2,   33.82,2,    0.00,2,    2.37,2,-999.000,9,-999.000,9,  -0.005,3,  -999.0,9,  -999.0,9,-999.0000,9,-999.0000,9, -999.00,9, -999.00,9,  -999.0,9,  -999.0,-999.000,9,-999.000,   0.000,2,-999.0000,   2.9396,-999.0000,-999.000
  316N145_8,        I03,     539,          1,          1,          1,2,19950524,       0946,   -20.3668,    57.9660,       1450,  1611.2,   2.7965,  34.6902,2,  34.6898,2,    156.2,2,   156.0,2,   97.41,2,   33.64,2,    0.00,2,    2.36,2,   0.003,2,   0.000,2,  -0.022,3,  -999.0,9,  -999.0,9,-999.0000,9,-999.0000,9, -999.00,9, -999.00,9,  -999.0,9,  -999.0,-999.000,9,-999.000,   0.015,2,-999.0000,   2.6815,-999.0000,-999.000
  316N145_8,        I03,     540,          1,         21,         21,2,19950524,       1521,   -19.9998,    57.4870,       1417,     6.2,  25.2483,  35.1558,2,  35.1543,2,    205.5,2,   207.3,2,    2.95,2,    0.05,2,    0.00,2,    0.12,2,-999.000,9,-999.000,9,-999.000,9,  -999.0,5,  2301.0,6,-999.0000,9,-999.0000,9, -999.00,9, -999.00,9,  -999.0,9,  -999.0,-999.000,9,-999.000,-999.000,9,-999.0000,  25.2470,-999.0000,-999.000
  316N145_8,        I03,     540,          1,         20,         20,2,19950524,       1521,   -19.9998,    57.4870,       1417,    53.5,  25.1591,  35.1685,2,  35.1665,2,    206.9,2,   207.8,2,    2.93,2,    0.05,2,    0.00,2,    0.12,2,-999.000,9,-999.000,9,-999.000,9,  1959.0,2,  2297.0,2,-999.0000,9,-999.0000,9, -999.00,9, -999.00,9,  -999.0,9,  -999.0,-999.000,9,-999.000,-999.000,9,-999.0000,  25.1474,-999.0000,-999.000
  316N145_8,        I03,     540,          1,         19,         19,2,19950524,       1521,   -19.9998,    57.4870,       1417,   104.0,  23.4580,  35.2914,2,  35.2874,2,    210.5,2,   206.3,2,    3.33,2,    0.31,2,    0.03,2,    0.16,2,-999.000,9,-999.000,9,-999.000,9,  1986.0,2,  2311.0,2,-999.0000,9,-999.0000,9, -999.00,9, -999.00,9,  -999.0,9,  -999.0,-999.000,9,-999.000,-999.000,9,-999.0000,  23.4365,-999.0000,-999.000
  316N145_8,        I03,     540,          1,         18,         18,2,19950524,       1521,   -19.9998,    57.4870,       1417,   154.3,  22.1166,  35.3887,2,  35.3906,2,    208.0,2,   207.3,2,    3.31,2,    0.30,2,    0.09,2,    0.17,2,-999.000,9,-999.000,9,-999.000,9,  2000.8,2,  2315.0,2,-999.0000,9,-999.0000,9, -999.00,9, -999.00,9,  -999.0,9,  -999.0,-999.000,9,-999.000,-999.000,9,-999.0000,  22.0859,-999.0000,-999.000
  316N145_8,        I03,     540,          1,         17,         17,2,19950524,       1521,   -19.9998,    57.4870,       1417,   204.7,  20.5375,  35.4983,2,  35.4951,2,    191.9,2,   185.3,2,    4.74,2,    3.27,2,    0.02,2,    0.36,2,-999.000,9,-999.000,9,-999.000,9,  2039.6,2,  2329.0,2,-999.0000,9,-999.0000,9, -999.00,9, -999.00,9,  -999.0,9,  -999.0,-999.000,9,-999.000,-999.000,9,-999.0000,  20.4988,-999.0000,-999.000
  316N145_8,        I03,     540,          1,         16,         16,2,19950524,       1521,   -19.9998,    57.4870,       1417,   255.5,  17.7137,  35.5536,2,  35.5587,2,    190.9,2,   189.2,2,    5.75,2,    5.07,2,    0.01,2,    0.49,2,-999.000,9,-999.000,9,-999.000,9,  2074.7,2,  2338.0,2,-999.0000,9,-999.0000,9, -999.00,9, -999.00,9,  -999.0,9,  -999.0,-999.000,9,-999.000,-999.000,9,-999.0000,  17.6701,-999.0000,-999.000
  316N145_8,        I03,     540,          1,         15,         15,2,19950524,       1521,   -19.9998,    57.4870,       1417,   305.2,  15.8584,  35.5203,2,  35.5132,2,    195.7,2,   198.8,2,    5.52,2,    6.10,2,    0.01,2,    0.55,2,-999.000,9,-999.000,9,-999.000,9,  2082.6,2,  2333.0,2,-999.0000,9,-999.0000,9, -999.00,9, -999.00,9,  -999.0,9,  -999.0,-999.000,9,-999.000,-999.000,9,-999.0000,  15.8100,-999.0000,-999.000
  316N145_8,        I03,     540,          1,         14,         14,2,19950524,       1521,   -19.9998,    57.4870,       1417,   355.2,  14.3085,  35.3906,2,  35.3846,2,    207.7,2,   209.9,2,    5.09,2,    7.26,2,    0.01,2,    0.63,2,-999.000,9,-999.000,9,-999.000,9,  2094.7,2,  2327.0,2,-999.0000,9,-999.0000,9, -999.00,9, -999.00,9,  -999.0,9,  -999.0,-999.000,9,-999.000,-999.000,9,-999.0000,  14.2560,-999.0000,-999.000
  316N145_8,        I03,     540,          1,         13,         13,2,19950524,       1521,   -19.9998,    57.4870,       1417,   405.1,  13.1678,  35.2453,2,  35.2404,2,    216.3,2,   219.4,2,    4.66,2,    8.62,2,    0.01,2,    0.70,2,-999.000,9,-999.000,9,-999.000,9,  2098.1,2,  2320.0,2,-999.0000,9,-999.0000,9, -999.00,9, -999.00,9,  -999.0,9,  -999.0,-999.000,9,-999.000,-999.000,9,-999.0000,  13.1110,-999.0000,-999.000
  316N145_8,        I03,     540,          1,         12,         12,2,19950524,       1521,   -19.9998,    57.4870,       1417,   455.8,  12.4458,  35.1449,2,  35.1308,2,    219.5,2,   223.7,2,    4.65,2,    9.99,2,    0.00,2,    0.79,2,-999.000,9,-999.000,9,-999.000,9,  2098.2,2,  2314.0,2,-999.0000,9,-999.0000,9, -999.00,9, -999.00,9,  -999.0,9,  -999.0,-999.000,9,-999.000,-999.000,9,-999.0000,  12.3842,-999.0000,-999.000
  316N145_8,        I03,     540,          1,         11,         11,2,19950524,       1521,   -19.9998,    57.4870,       1417,   506.0,  11.7303,  35.0410,2,  35.0341,2,    223.8,2,   225.7,2,    5.04,2,   11.35,2,    0.00,2,    0.86,2,-999.000,9,-999.000,9,-999.000,9,  2103.4,2,  2309.0,2,-999.0000,9,-999.0000,9, -999.00,9, -999.00,9,  -999.0,9,  -999.0,-999.000,9,-999.000,-999.000,9,-999.0000,  11.6644,-999.0000,-999.000
  316N145_8,        I03,     540,          1,         10,         10,2,19950524,       1521,   -19.9998,    57.4870,       1417,   606.9,  10.2321,  34.8375,2,  34.8345,2,    222.5,2,   222.0,2,    7.50,2,   15.09,2,    0.00,2,    1.09,2,-999.000,9,-999.000,9,-999.000,9,  2115.9,2,  2303.0,2,-999.0000,9,-999.0000,9, -999.00,9, -999.00,9,  -999.0,9,  -999.0,-999.000,9,-999.000,-999.000,9,-999.0000,  10.1593,-999.0000,-999.000
  316N145_8,        I03,     540,          1,          9,          9,2,19950524,       1521,   -19.9998,    57.4870,       1417,   707.5,   8.9491,  34.6991,2,  34.6953,2,    210.1,2,   209.2,2,   13.25,2,   19.47,2,    0.00,2,    1.37,2,-999.000,9,-999.000,9,-999.000,9,  2136.0,2,  2301.0,2,-999.0000,9,-999.0000,9, -999.00,9, -999.00,9,  -999.0,9,  -999.0,-999.000,9,-999.000,-999.000,9,-999.0000,   8.8706,-999.0000,-999.000
  316N145_8,        I03,     540,          1,          8,          8,2,19950524,       1521,   -19.9998,    57.4870,       1417,   808.6,   6.5619,  34.5535,2,  34.5502,2,    173.2,2,   173.3,2,   35.30,2,   27.83,2,    0.00,2,    1.92,2,-999.000,9,-999.000,9,-999.000,9,  2187.9,2,  2312.0,2,-999.0000,9,-999.0000,9, -999.00,9, -999.00,9,  -999.0,9,  -999.0,-999.000,9,-999.000,-999.000,9,-999.0000,   6.4861,-999.0000,-999.000
  316N145_8,        I03,     540,          1,          7,          7,2,19950524,       1521,   -19.9998,    57.4870,       1417,   909.4,   5.6398,  34.5487,2,  34.5494,2,    154.3,2,   153.2,2,   50.75,2,   31.14,2,    0.00,2,    2.18,2,-999.000,9,-999.000,9,-999.000,9,  2219.8,2,  2327.0,2,-999.0000,9,-999.0000,9, -999.00,9, -999.00,9,  -999.0,9,  -999.0,-999.000,9,-999.000,-999.000,9,-999.0000,   5.5602,-999.0000,-999.000
  316N145_8,        I03,     540,          1,          6,          6,2,19950524,       1521,   -19.9998,    57.4870,       1417,  1010.0,   5.2523,  34.5870,2,  34.5876,2,    143.6,2,   142.6,2,   61.48,2,   32.43,2,    0.00,2,    2.28,2,-999.000,9,-999.000,9,-999.000,9,  2236.3,2,  2338.0,2,-999.0000,9,-999.0000,9, -999.00,9, -999.00,9,  -999.0,9,  -999.0,-999.000,9,-999.000,-999.000,9,-999.0000,   5.1660,-999.0000,-999.000
  316N145_8,        I03,     540,          1,          5,          5,2,19950524,       1521,   -19.9998,    57.4870,       1417,  1110.8,   4.5686,  34.6226,2,  34.6241,2,    134.2,2,   133.4,2,   75.33,2,   33.97,2,    0.00,2,    2.39,2,-999.000,9,-999.000,9,-999.000,9,  2256.6,2,  2351.0,2,-999.0000,9,-999.0000,9, -999.00,9, -999.00,9,  -999.0,9,  -999.0,-999.000,9,-999.000,-999.000,9,-999.0000,   4.4786,-999.0000,-999.000
  316N145_8,        I03,     540,          1,          4,          4,2,19950524,       1521,   -19.9998,    57.4870,       1417,  1211.2,   4.1673,  34.6377,2,  34.6394,2,    134.4,2,   135.1,2,   80.92,2,   34.08,2,    0.00,2,    2.41,2,-999.000,9,-999.000,9,-999.000,9,  2262.5,2,  2357.0,2,-999.0000,9,-999.0000,9, -999.00,9, -999.00,9,  -999.0,9,  -999.0,-999.000,9,-999.000,-999.000,9,-999.0000,   4.0719,-999.0000,-999.000
  316N145_8,        I03,     540,          1,          3,          3,2,19950524,       1521,   -19.9998,    57.4870,       1417,  1336.8,   3.7790,  34.6520,2,  34.6523,2,    138.5,2,   138.8,2,   85.47,2,   34.28,2,    0.00,2,    2.42,2,-999.000,9,-999.000,9,-999.000,9,  2266.6,2,  2361.0,2,-999.0000,9,-999.0000,9, -999.00,9, -999.00,9,  -999.0,9,  -999.0,-999.000,9,-999.000,-999.000,9,-999.0000,   3.6765,-999.0000,-999.000
  316N145_8,        I03,     540,          1,          2,          2,2,19950524,       1521,   -19.9998,    57.4870,       1417,  1463.6,   3.2858,  34.6682,2,  34.6696,2,    146.2,2,   147.4,2,   91.09,2,   34.04,2,    0.00,2,    2.40,2,-999.000,9,-999.000,9,-999.000,9,  2269.7,2,  2368.0,2,-999.0000,9,-999.0000,9, -999.00,9, -999.00,9,  -999.0,9,  -999.0,-999.000,9,-999.000,-999.000,9,-999.0000,   3.1776,-999.0000,-999.000
  316N145_8,        I03,     540,          1,          1,          1,2,19950524,       1521,   -19.9998,    57.4870,       1417,  1578.6,   2.8289,  34.6888,2,  34.6892,2,    154.7,2,   155.2,2,   97.14,2,   33.65,2,    0.00,2,    2.37,2,-999.000,9,-999.000,9,-999.000,9,  2273.1,2,  2373.0,2,-999.0000,9,-999.0000,9, -999.00,9, -999.00,9,  -999.0,9,  -999.0,-999.000,9,-999.000,-999.000,9,-999.0000,   2.7162,-999.0000,-999.000