BOTTLE,20140514CCHSIOSE
EXPOCODE,SECT_ID,STNNBR,CASTNO,SAMPNO,BTLNBR,BTLNBR_FLAG_W,DATE,TIME,LATITUDE,LONGITUDE,DEPTH,CTDPRS,CTDTMP,CTDSAL,CTDSAL_FLAG_W,SALNTY,SALNTY_FLAG_W,CTDOXY,CTDOXY_FLAG_W,OXYGEN,OXYGEN_FLAG_W,SILCAT,SILCAT_FLAG_W,NITRAT,NITRAT_FLAG_W,NITRIT,NITRIT_FLAG_W,PHSPHT,PHSPHT_FLAG_W,CFC-11,CFC-11_FLAG_W,CFC-12,CFC-12_FLAG_W,CFC113,CFC113_FLAG_W,TCARBN,TCARBN_FLAG_W,ALKALI,ALKALI_FLAG_W,TRITUM,TRITUM_FLAG_W,HELIUM,HELIUM_FLAG_W,DELHE3,DELHE3_FLAG_W,DELC13,DELC13_FLAG_W,DELC14,DELC14_FLAG_W,C14ERR,NEON,NEON_FLAG_W,NEONER,CCL4,CCL4_FLAG_W,HELIER,THETA,TRITER,DELHER
,,,,,,,,,,,METERS,DBAR,ITS-90,PSS-78,,PSS-78,,UMOL/KG,,UMOL/KG,,UMOL/KG,,UMOL/KG,,UMOL/KG,,UMOL/KG,,PMOL/KG,,PMOL/KG,,PMOL/KG,,UMOL/KG,,UMOL/KG,,TU,,NMOL/KG,,PERCNT,,/MILLE,,/MILLE,,/MILLE,NMOL/KG,,NMOL/KG,PMOL/KG,,NMOL/KG,DEG C,TU,PERCNT
  316N145_8,        I03,     527,          1,         28,         28,2,19950521,       1915,   -20.2752,    63.9017,       2982,     6.4,  25.3800,  35.0390,2,  35.0364,2,    208.6,2,   210.3,2,    3.17,2,    0.00,2,    0.00,2,    0.13,2,   1.843,2,   1.057,2,-999.000,9,  1950.6,2,  2292.0,2,-999.0000,9,-999.0000,9, -999.00,9, -999.00,9,  -999.0,9,  -999.0,-999.000,9,-999.000,-999.000,9,-999.0000,  25.3786,-999.0000,-999.000
  316N145_8,        I03,     527,          1,         27,         27,2,19950521,       1915,   -20.2752,    63.9017,       2982,    54.7,  25.3907,  35.0387,2,  35.0367,2,    214.3,2,   209.0,2,    3.15,2,    0.00,2,    0.00,2,    0.13,2,   1.864,2,   1.056,2,-999.000,9,  1950.1,6,  2294.0,6,-999.0000,9,-999.0000,9, -999.00,9, -999.00,9,  -999.0,9,  -999.0,-999.000,9,-999.000,-999.000,9,-999.0000,  25.3787,-999.0000,-999.000
  316N145_8,        I03,     527,          1,         26,         26,2,19950521,       1915,   -20.2752,    63.9017,       2982,   105.7,  22.9160,  35.3173,2,  35.3128,2,    212.5,2,   212.5,2,    3.34,2,    0.00,2,    0.00,2,    0.15,2,   2.089,2,   1.156,2,   0.086,3,  1987.7,2,  2310.0,2,-999.0000,9,-999.0000,9, -999.00,9, -999.00,9,  -999.0,9,  -999.0,-999.000,9,-999.000,   1.273,2,-999.0000,  22.8945,-999.0000,-999.000
  316N145_8,        I03,     527,          1,         25,         25,2,19950521,       1915,   -20.2752,    63.9017,       2982,   154.5,  21.2338,  35.4642,2,  35.4581,2,    192.4,2,   191.9,2,    4.36,2,    1.92,2,    0.17,2,    0.29,2,   2.126,2,   1.186,2,-999.000,9,  2022.5,2,  2321.0,2,-999.0000,9,-999.0000,9, -999.00,9, -999.00,9,  -999.0,9,  -999.0,-999.000,9,-999.000,-999.000,9,-999.0000,  21.2039,-999.0000,-999.000
  316N145_8,        I03,     527,          1,         24,         24,2,19950521,       1915,   -20.2752,    63.9017,       2982,   206.1,  19.7969,  35.5782,2,  35.5733,2,    189.3,2,   185.0,2,    4.96,2,    3.57,2,    0.01,2,    0.38,2,   2.198,2,   1.197,2,   0.112,3,  2050.1,2,  2329.0,2,-999.0000,9,-999.0000,9, -999.00,9, -999.00,9,  -999.0,9,  -999.0,-999.000,9,-999.000,   0.602,2,-999.0000,  19.7590,-999.0000,-999.000
  316N145_8,        I03,     527,          1,         23,         23,2,19950521,       1915,   -20.2752,    63.9017,       2982,   255.3,  17.7625,  35.6761,2,  35.6738,2,    197.4,2,   193.4,2,    4.94,2,    3.92,2,    0.00,2,    0.42,2,   2.340,2,   1.253,2,-999.000,9,  2075.6,2,  2340.0,2,-999.0000,9,-999.0000,9, -999.00,9, -999.00,9,  -999.0,9,  -999.0,-999.000,9,-999.000,-999.000,9,-999.0000,  17.7188,-999.0000,-999.000
  316N145_8,        I03,     527,          1,         22,         22,2,19950521,       1915,   -20.2752,    63.9017,       2982,   304.1,  16.2100,  35.6109,2,  35.6088,2,    206.1,2,   205.7,2,    4.09,2,    4.16,2,    0.00,2,    0.45,2,   2.534,2,   1.334,2,   0.037,3,  2085.2,2,  2339.0,2,-999.0000,9,-999.0000,9, -999.00,9, -999.00,9,  -999.0,9,  -999.0,-999.000,9,-999.000,   0.507,2,-999.0000,  16.1611,-999.0000,-999.000
  316N145_8,        I03,     527,          1,         21,         21,2,19950521,       1915,   -20.2752,    63.9017,       2982,   356.1,  14.3116,  35.4086,2,  35.4083,2,    217.5,2,   218.6,2,    3.65,2,    5.95,2,    0.00,2,    0.56,2,   2.760,2,   1.429,2,-999.000,9,  2091.7,2,  2328.0,2,-999.0000,9,-999.0000,9, -999.00,9, -999.00,9,  -999.0,9,  -999.0,-999.000,9,-999.000,-999.000,9,-999.0000,  14.2589,-999.0000,-999.000
  316N145_8,        I03,     527,          1,         20,         20,2,19950521,       1915,   -20.2752,    63.9017,       2982,   406.0,  13.1715,  35.2626,2,  35.2420,2,    220.4,2,   224.7,2,    3.84,2,    8.03,2,    0.00,2,    0.68,2,   2.851,2,   1.449,2,-999.000,9,  2097.0,2,  2320.0,2,-999.0000,9,-999.0000,9, -999.00,9, -999.00,9,  -999.0,9,  -999.0,-999.000,9,-999.000,-999.000,9,-999.0000,  13.1146,-999.0000,-999.000
  316N145_8,        I03,     527,          1,         19,         19,2,19950521,       1915,   -20.2752,    63.9017,       2982,   455.1,  12.1928,  35.1189,2,  35.1130,2,    225.1,2,   228.0,2,    4.23,2,    9.82,2,    0.00,2,    0.78,2,   2.818,2,   1.432,2,   0.065,3,  2100.9,2,  2313.0,2,-999.0000,9,-999.0000,9, -999.00,9, -999.00,9,  -999.0,9,  -999.0,-999.000,9,-999.000,   0.922,2,-999.0000,  12.1321,-999.0000,-999.000
  316N145_8,        I03,     527,          1,         18,         18,2,19950521,       1915,   -20.2752,    63.9017,       2982,   505.3,  11.5334,  35.0193,2,  35.0155,2,    228.2,2,   229.0,2,    4.63,2,   11.17,2,    0.00,2,    0.86,2,   2.757,2,   1.388,2,   0.041,3,  2104.1,2,  2310.0,2,-999.0000,9,-999.0000,9, -999.00,9, -999.00,9,  -999.0,9,  -999.0,-999.000,9,-999.000,   1.004,2,-999.0000,  11.4683,-999.0000,-999.000
  316N145_8,        I03,     527,          1,         17,         17,2,19950521,       1915,   -20.2752,    63.9017,       2982,   605.8,  10.1143,  34.8105,2,  34.8138,2,    230.0,2,   229.5,2,    5.64,2,   14.50,2,    0.00,2,    1.06,2,   2.477,2,   1.235,2,   0.046,3,  2112.0,2,  2300.0,2,-999.0000,9,-999.0000,9, -999.00,9, -999.00,9,  -999.0,9,  -999.0,-999.000,9,-999.000,   1.178,2,-999.0000,  10.0422,-999.0000,-999.000
  316N145_8,        I03,     527,          1,         16,         16,2,19950521,       1915,   -20.2752,    63.9017,       2982,   707.8,   8.9232,  34.6642,2,  34.6625,2,    217.4,2,   219.1,2,    8.94,2,   18.62,2,    0.00,2,    1.31,2,   1.804,2,   0.895,2,   0.048,3,  2127.1,2,  2295.0,2,-999.0000,9,-999.0000,9, -999.00,9, -999.00,9,  -999.0,9,  -999.0,-999.000,9,-999.000,   1.114,2,-999.0000,   8.8448,-999.0000,-999.000
  316N145_8,        I03,     527,          1,         15,         15,2,19950521,       1915,   -20.2752,    63.9017,       2982,   808.9,   7.4108,  34.5505,2,  34.5495,2,    193.6,2,   194.2,2,   20.54,2,   24.39,2,    0.00,2,    1.69,2,   0.791,2,   0.407,2,-999.000,9,  2159.1,2,  2299.0,2,-999.0000,9,-999.0000,9, -999.00,9, -999.00,9,  -999.0,9,  -999.0,-999.000,9,-999.000,-999.000,9,-999.0000,   7.3298,-999.0000,-999.000
  316N145_8,        I03,     527,          1,         14,         14,2,19950521,       1915,   -20.2752,    63.9017,       2982,   908.4,   5.7866,  34.4818,2,  34.4815,2,    169.2,2,   170.8,2,   38.97,2,   29.85,2,    0.00,2,    2.08,2,   0.247,2,   0.130,2,  -0.002,3,  2198.6,2,  2312.0,2,-999.0000,9,-999.0000,9, -999.00,9, -999.00,9,  -999.0,9,  -999.0,-999.000,9,-999.000,   0.532,2,-999.0000,   5.7061,-999.0000,-999.000
  316N145_8,        I03,     527,          1,         13,         13,2,19950521,       1915,   -20.2752,    63.9017,       2982,  1009.5,   4.7867,  34.5127,2,  34.5128,2,    151.3,2,   150.7,2,   59.28,2,   32.99,2,    0.00,2,    2.32,2,   0.088,2,   0.046,2,-999.000,9,  2231.7,2,  2330.0,2,-999.0000,9,   1.8220,2,    7.26,2, -999.00,9,  -999.0,9,  -999.0,   7.804,2,   0.021,-999.000,9,   0.0030,   4.7042,-999.0000,    0.13
  316N145_8,        I03,     527,          1,         12,         12,2,19950521,       1915,   -20.2752,    63.9017,       2982,  1110.5,   4.1102,  34.5345,2,  34.5352,2,    148.5,2,   148.0,2,   69.43,2,   33.98,2,    0.00,2,    2.40,2,   0.048,2,   0.021,2,   0.001,3,  2248.6,2,  2341.0,2,-999.0000,9,-999.0000,9, -999.00,9, -999.00,9,  -999.0,9,  -999.0,-999.000,9,-999.000,   0.203,2,-999.0000,   4.0243,-999.0000,-999.000
  316N145_8,        I03,     527,          1,         11,         11,2,19950521,       1915,   -20.2752,    63.9017,       2982,  1211.8,   3.7567,  34.5803,2,  34.5781,2,    140.7,2,   144.2,2,   77.72,2,   34.32,2,    0.00,2,    2.43,2,   0.016,2,   0.008,2,-999.000,9,  2259.2,2,  2348.0,2,-999.0000,9,   1.8520,2,    9.71,2, -999.00,9,  -999.0,9,  -999.0,   7.901,2,   0.021,-999.000,9,   0.0030,   3.6652,-999.0000,    0.13
  316N145_8,        I03,     527,          1,         10,         10,2,19950521,       1915,   -20.2752,    63.9017,       2982,  1311.5,   3.5166,  34.6223,2,  34.6232,2,    141.6,2,   142.3,2,   85.19,2,   34.38,2,    0.00,2,    2.44,2,-999.000,9,-999.000,9,  -0.005,3,  2268.3,2,  2358.0,2,-999.0000,9,   1.8600,2,   10.91,2, -999.00,9,  -999.0,9,  -999.0,   8.046,3,   0.030,   0.058,2,   0.0030,   3.4190,-999.0000,    0.12
  316N145_8,        I03,     527,          1,          9,          9,2,19950521,       1915,   -20.2752,    63.9017,       2982,  1411.9,   3.3087,  34.6434,2,  34.6425,2,    144.4,2,   145.2,2,   88.28,2,   34.18,2,    0.00,2,    2.42,2,-999.000,9,-999.000,9,-999.000,9,  2269.9,2,  2359.0,2,-999.0000,9,   1.8590,2,   11.36,2, -999.00,9,  -999.0,9,  -999.0,   7.922,2,   0.021,-999.000,9,   0.0030,   3.2047,-999.0000,    0.13
  316N145_8,        I03,     527,          1,          8,          8,2,19950521,       1915,   -20.2752,    63.9017,       2982,  1612.0,   2.7680,  34.6725,2,  34.6727,2,    158.9,2,   159.7,2,   91.79,2,   33.34,2,    0.00,2,    2.35,2,   0.000,2,   0.002,2,  -0.003,3,  2266.3,2,  2368.0,2,-999.0000,9,   1.8670,2,   11.36,2, -999.00,9,  -999.0,9,  -999.0,   8.064,2,   0.038,   0.033,2,   0.0030,   2.6533,-999.0000,    0.12
  316N145_8,        I03,     527,          1,          7,          7,2,19950521,       1915,   -20.2752,    63.9017,       2982,  1814.8,   2.4445,  34.7072,2,  34.7064,2,    163.0,2,   162.9,2,  102.28,2,   33.15,2,    0.00,2,    2.34,2,-999.000,9,-999.000,9,-999.000,9,  2275.8,2,  2379.0,2,-999.0000,9,   1.9050,2,   12.97,2, -999.00,9,  -999.0,9,  -999.0,   8.194,2,   0.035,-999.000,9,   0.0030,   2.3170,-999.0000,    0.12
  316N145_8,        I03,     527,          1,          6,          6,2,19950521,       1915,   -20.2752,    63.9017,       2982,  2020.2,   2.2291,  34.7208,2,  34.7196,2,    164.6,2,   165.0,2,  108.59,2,   33.20,2,    0.00,2,    2.34,2,-999.000,9,-999.000,9,  -0.001,3,  2280.8,2,  2384.0,2,-999.0000,9,   1.9000,2,   13.89,2, -999.00,9,  -999.0,9,  -999.0,   8.107,2,   0.019,   0.008,2,   0.0030,   2.0872,-999.0000,    0.14
  316N145_8,        I03,     527,          1,          5,          5,2,19950521,       1915,   -20.2752,    63.9017,       2982,  2219.2,   2.0437,  34.7256,2,  34.7251,2,    167.3,2,   167.5,2,  114.08,2,   33.25,2,    0.00,2,    2.33,2,-999.000,9,-999.000,9,-999.000,9,  2283.8,2,  2388.0,2,-999.0000,9,   1.8980,6,   15.21,6, -999.00,9,  -999.0,9,  -999.0,   8.116,6,   0.020,-999.000,9,   0.0030,   1.8875,-999.0000,    0.14
  316N145_8,        I03,     527,          1,          4,          4,2,19950521,       1915,   -20.2752,    63.9017,       2982,  2420.9,   1.8884,  34.7254,2,  34.7253,2,    170.8,2,   171.9,2,  116.38,2,   33.05,2,    0.00,2,    2.32,2,   0.001,2,   0.000,2,  -0.007,3,  2283.1,2,  2391.0,2,-999.0000,9,   1.9320,3,   16.09,2, -999.00,9,  -999.0,9,  -999.0,   8.235,3,   0.021,   0.009,2,   0.0030,   1.7170,-999.0000,    0.12
  316N145_8,        I03,     527,          1,          3,          3,2,19950521,       1915,   -20.2752,    63.9017,       2982,  2623.8,   1.7772,  34.7255,2,  34.7241,2,    174.1,2,   174.7,2,  118.89,2,   33.00,2,    0.00,2,    2.31,2,-999.000,9,-999.000,9,-999.000,9,  2283.5,2,  2391.0,2,-999.0000,9,   1.8890,2,   15.69,2, -999.00,9,  -999.0,9,  -999.0,   8.074,2,   0.020,-999.000,9,   0.0030,   1.5895,-999.0000,    0.13
  316N145_8,        I03,     527,          1,          2,          2,2,19950521,       1915,   -20.2752,    63.9017,       2982,  2829.3,   1.7539,  34.7253,2,  34.7251,2,    175.7,2,   175.6,2,  119.48,2,   33.00,2,    0.00,2,    2.31,2,-999.000,9,-999.000,9,  -0.001,3,  2283.5,2,  2392.0,2,-999.0000,9,   1.8920,2,   15.63,2, -999.00,9,  -999.0,9,  -999.0,   8.131,2,   0.021,   0.006,2,   0.0030,   1.5476,-999.0000,    0.13
  316N145_8,        I03,     527,          1,          1,          1,2,19950521,       1915,   -20.2752,    63.9017,       2982,  3003.6,   1.7443,  34.7252,2,  34.7251,2,    176.2,2,   175.9,2,  120.06,2,   33.01,2,    0.00,2,    2.30,2,  -0.001,2,   0.001,2,  -0.008,3,  2284.3,2,  2391.0,2,-999.0000,9,   1.8980,2,   15.46,2, -999.00,9,  -999.0,9,  -999.0,   8.148,2,   0.019,   0.007,2,   0.0030,   1.5215,-999.0000,    0.14