BOTTLE,20140514CCHSIOSE
EXPOCODE,SECT_ID,STNNBR,CASTNO,SAMPNO,BTLNBR,BTLNBR_FLAG_W,DATE,TIME,LATITUDE,LONGITUDE,DEPTH,CTDPRS,CTDTMP,CTDSAL,CTDSAL_FLAG_W,SALNTY,SALNTY_FLAG_W,CTDOXY,CTDOXY_FLAG_W,OXYGEN,OXYGEN_FLAG_W,SILCAT,SILCAT_FLAG_W,NITRAT,NITRAT_FLAG_W,NITRIT,NITRIT_FLAG_W,PHSPHT,PHSPHT_FLAG_W,CFC-11,CFC-11_FLAG_W,CFC-12,CFC-12_FLAG_W,CFC113,CFC113_FLAG_W,TCARBN,TCARBN_FLAG_W,ALKALI,ALKALI_FLAG_W,TRITUM,TRITUM_FLAG_W,HELIUM,HELIUM_FLAG_W,DELHE3,DELHE3_FLAG_W,DELC13,DELC13_FLAG_W,DELC14,DELC14_FLAG_W,C14ERR,NEON,NEON_FLAG_W,NEONER,CCL4,CCL4_FLAG_W,HELIER,THETA,TRITER,DELHER
,,,,,,,,,,,METERS,DBAR,ITS-90,PSS-78,,PSS-78,,UMOL/KG,,UMOL/KG,,UMOL/KG,,UMOL/KG,,UMOL/KG,,UMOL/KG,,PMOL/KG,,PMOL/KG,,PMOL/KG,,UMOL/KG,,UMOL/KG,,TU,,NMOL/KG,,PERCNT,,/MILLE,,/MILLE,,/MILLE,NMOL/KG,,NMOL/KG,PMOL/KG,,NMOL/KG,DEG C,TU,PERCNT
  316N145_8,        I03,     473,          1,         36,         36,2,19950504,       0736,   -19.9998,    94.3000,       5085,    11.9,  25.3487,  35.2092,2,-999.0000,9,    206.5,2,   206.8,2,    3.74,2,    0.09,2,    0.00,2,    0.09,2,   1.874,2,   1.063,2,-999.000,9,  1962.8,6,  2306.4,6,   1.1917,2,-999.0000,9, -999.00,9, -999.00,9,  -999.0,9,  -999.0,-999.000,9,-999.000,-999.000,9,-999.0000,  25.3461,   0.0041,-999.000
  316N145_8,        I03,     473,          1,         35,         35,2,19950504,       0736,   -19.9998,    94.3000,       5085,    57.0,  24.9813,  35.5250,2,  35.5130,2,    208.7,2,   212.6,2,    3.52,2,    0.09,2,    0.00,2,    0.08,2,-999.000,9,-999.000,9,   0.209,3,  -999.0,9,  -999.0,9,   1.2102,2,   1.7169,2,   -1.11,2, -999.00,9,  -999.0,9,  -999.0,   6.816,2,   0.034,   2.633,2,   0.0086,  24.9689,   0.0042,    0.14
  316N145_8,        I03,     473,          1,         34,         34,2,19950504,       0736,   -19.9998,    94.3000,       5085,   106.9,  20.7909,  35.6903,2,  35.6989,2,    209.5,2,   205.0,2,    3.93,2,    0.10,2,    0.19,2,    0.19,2,   2.246,2,   1.220,2,   0.211,3,  -999.0,9,  -999.0,9,   1.1598,2,   1.7408,2,   -0.79,2, -999.00,9,  -999.0,9,  -999.0,   7.030,2,   0.035,   1.593,2,   0.0087,  20.7705,   0.0041,    0.14
  316N145_8,        I03,     473,          1,         33,         33,2,19950504,       0736,   -19.9998,    94.3000,       5085,   157.7,  19.3072,  35.7749,2,  35.7836,2,    192.1,2,   194.4,2,    4.56,2,    2.54,2,    0.02,2,    0.31,2,-999.000,9,-999.000,9,   0.146,3,  -999.0,9,  -999.0,9,   1.1281,2,   1.7287,2,   -0.19,2, -999.00,9,  -999.0,9,  -999.0,   7.045,2,   0.035,   0.973,2,   0.0086,  19.2787,   0.0040,    0.14
  316N145_8,        I03,     473,          1,         32,         32,2,19950504,       0736,   -19.9998,    94.3000,       5085,   207.2,  17.6919,  35.7840,2,  35.7803,2,    200.0,2,   198.8,2,    4.76,2,    3.24,2,    0.01,2,    0.37,2,   2.421,2,   1.289,2,   0.003,3,  -999.0,9,  -999.0,9,-999.0000,9,   1.7503,2,    0.15,2, -999.00,9,  -999.0,9,  -999.0,   7.145,2,   0.036,   0.678,2,   0.0088,  17.6565,-999.0000,    0.14
  316N145_8,        I03,     473,          1,         31,         31,2,19950504,       0736,   -19.9998,    94.3000,       5085,   257.4,  15.8580,  35.6404,2,  35.6501,2,    204.2,2,   207.2,2,    4.10,2,    4.13,2,    0.01,2,    0.44,2,-999.000,9,-999.000,9,-999.000,9,  -999.0,9,  -999.0,9,-999.0000,9,   1.7374,2,   -0.04,2, -999.00,9,  -999.0,9,  -999.0,   7.176,2,   0.036,-999.000,9,   0.0087,  15.8172,-999.0000,    0.14
  316N145_8,        I03,     473,          1,         30,         30,2,19950504,       0736,   -19.9998,    94.3000,       5085,   308.3,  14.3249,  35.4490,2,  35.4463,2,    209.2,2,   214.9,2,    4.09,2,    6.01,2,    0.00,2,    0.56,2,-999.000,9,-999.000,9,   0.082,3,  -999.0,9,  -999.0,9,-999.0000,9,   1.7605,2,    0.15,2, -999.00,9,  -999.0,9,  -999.0,   7.315,2,   0.037,   0.710,2,   0.0088,  14.2793,-999.0000,    0.14
  316N145_8,        I03,     473,          1,         29,         29,2,19950504,       0736,   -19.9998,    94.3000,       5085,   357.3,  12.7953,  35.2348,2,  35.2255,2,    219.9,2,   219.8,2,    4.93,2,    8.58,2,    0.00,2,    0.70,2,-999.000,9,-999.000,9,-999.000,9,  -999.0,9,  -999.0,9,-999.0000,9,   1.7463,2,    0.17,2, -999.00,9,  -999.0,9,  -999.0,   7.339,2,   0.037,-999.000,9,   0.0087,  12.7462,-999.0000,    0.14
  316N145_8,        I03,     473,          1,         28,         28,2,19950504,       0736,   -19.9998,    94.3000,       5085,   407.9,  11.5448,  35.0395,2,  35.0337,2,    226.6,2,   227.7,2,    4.92,2,   10.76,2,    0.00,2,    0.83,2,   2.976,2,   1.507,2,-999.000,9,  -999.0,9,  -999.0,9,-999.0000,9,   1.7581,2,    0.25,2, -999.00,9,  -999.0,9,  -999.0,   7.390,2,   0.037,-999.000,9,   0.0088,  11.4924,-999.0000,    0.14
  316N145_8,        I03,     473,          1,         27,         27,2,19950504,       0736,   -19.9998,    94.3000,       5085,   508.6,   9.6946,  34.7583,2,  34.7494,2,    227.0,2,   228.1,2,    6.83,2,   15.86,2,    0.00,2,    1.14,2,-999.000,9,-999.000,9,-999.000,9,  -999.0,9,  -999.0,9,-999.0000,9,   1.7814,2,    0.44,2, -999.00,9,  -999.0,9,  -999.0,   7.535,2,   0.038,-999.000,9,   0.0089,   9.6359,-999.0000,    0.14
  316N145_8,        I03,     473,          1,         26,         26,2,19950504,       0736,   -19.9998,    94.3000,       5085,   608.1,   8.1142,  34.5846,2,  34.5844,2,    201.1,2,   200.0,2,   16.00,2,   22.45,2,    0.00,2,    1.56,2,-999.000,9,-999.000,9,   0.060,3,  -999.0,9,  -999.0,9,   0.2732,2,   1.7847,2,    2.11,2, -999.00,9,  -999.0,9,  -999.0,   7.608,2,   0.038,   1.334,2,   0.0089,   8.0509,   0.0026,    0.14
  316N145_8,        I03,     473,          1,         25,         25,2,19950504,       0736,   -19.9998,    94.3000,       5085,   709.0,   6.3809,  34.5142,2,  34.5153,2,    164.3,2,   160.9,2,   38.64,2,   29.68,2,    0.00,2,    2.07,2,-999.000,9,-999.000,9,-999.000,9,  -999.0,9,  -999.0,9,   0.0856,2,   1.8194,2,    5.03,2, -999.00,9,  -999.0,9,  -999.0,   7.768,2,   0.039,-999.000,9,   0.0091,   6.3158,   0.0023,    0.14
  316N145_8,        I03,     473,          1,         24,         24,2,19950504,       0736,   -19.9998,    94.3000,       5085,   810.8,   5.5840,  34.5526,2,  34.5512,2,    130.9,2,   128.4,2,   61.29,2,   33.44,2,    0.00,2,    2.39,2,   0.078,2,   0.039,2,  -0.011,3,  -999.0,9,  -999.0,9,   0.0255,2,   1.8457,2,    8.40,2, -999.00,9,  -999.0,9,  -999.0,   7.862,2,   0.039,   0.269,2,   0.0092,   5.5139,   0.0023,    0.14
  316N145_8,        I03,     473,          1,         23,         23,2,19950504,       0736,   -19.9998,    94.3000,       5085,   911.1,   5.1865,  34.6027,2,  34.6041,2,    110.7,2,   108.9,2,   77.58,2,   35.31,2,    0.00,2,    2.55,2,-999.000,9,-999.000,9,-999.000,9,  -999.0,9,  -999.0,9,-999.0000,9,-999.0000,9, -999.00,9, -999.00,9,  -999.0,9,  -999.0,-999.000,9,-999.000,-999.000,9,-999.0000,   5.1097,-999.0000,-999.000
  316N145_8,        I03,     473,          1,         22,         22,2,19950504,       0736,   -19.9998,    94.3000,       5085,  1011.3,   4.8423,  34.6233,2,  34.6245,2,    107.8,2,   108.5,2,   84.02,2,   35.67,2,    0.00,2,    2.58,2,   0.003,2,   0.003,2,   0.066,3,  -999.0,9,  -999.0,9,   0.0023,2,   1.8479,2,   11.34,2, -999.00,9,  -999.0,9,  -999.0,   7.847,2,   0.039,   0.047,2,   0.0092,   4.7590,   0.0022,    0.14
  316N145_8,        I03,     473,          1,         21,         21,2,19950504,       0736,   -19.9998,    94.3000,       5085,  1113.6,   4.5606,  34.6478,2,  34.6475,2,    107.6,2,   107.8,2,   89.61,2,   35.87,2,    0.00,2,    2.60,2,-999.000,9,-999.000,9,-999.000,9,  -999.0,9,  -999.0,9,-999.0000,9,-999.0000,9, -999.00,9, -999.00,9,  -999.0,9,  -999.0,-999.000,9,-999.000,-999.000,9,-999.0000,   4.4704,-999.0000,-999.000
  316N145_8,        I03,     473,          1,         20,         20,2,19950504,       0736,   -19.9998,    94.3000,       5085,  1213.2,   4.2644,  34.6542,2,  34.6555,2,    110.7,2,   111.9,2,   92.40,2,   35.83,2,    0.00,2,    2.60,2,-999.000,9,-999.000,9,-999.000,9,  -999.0,9,  -999.0,9,   0.0021,2,   1.8568,2,   12.17,2, -999.00,9,  -999.0,9,  -999.0,   7.868,2,   0.039,-999.000,9,   0.0093,   4.1680,   0.0022,    0.14
  316N145_8,        I03,     473,          1,         19,         19,2,19950504,       0736,   -19.9998,    94.3000,       5085,  1414.6,   3.6023,  34.6649,2,  34.6657,2,    124.6,2,   125.0,2,   96.94,2,   35.48,2,    0.00,2,    2.56,2,-999.000,9,-999.000,9,-999.000,9,  -999.0,9,  -999.0,9,  -0.0020,2,   1.8854,2,   12.79,2, -999.00,9,  -999.0,9,  -999.0,   8.035,2,   0.040,-999.000,9,   0.0094,   3.4948,   0.0022,    0.14
  316N145_8,        I03,     473,          1,         18,         18,2,19950504,       0736,   -19.9998,    94.3000,       5085,  1616.6,   3.0415,  34.6922,2,  34.6930,2,    137.4,2,   137.3,2,  102.57,2,   34.87,2,    0.00,2,    2.50,2,   0.004,2,   0.004,2,   0.087,3,  -999.0,9,  -999.0,9,-999.0000,9,   1.9010,2,   12.92,2, -999.00,9,  -999.0,9,  -999.0,   8.040,2,   0.017,   0.000,2,   0.0070,   2.9230,-999.0000,    0.20
  316N145_8,        I03,     473,          1,         17,         17,2,19950504,       0736,   -19.9998,    94.3000,       5085,  1819.4,   2.6144,  34.7135,2,  34.7128,2,    145.5,2,   147.6,2,  108.45,2,   34.32,2,    0.00,2,    2.45,2,-999.000,9,-999.000,9,-999.000,9,  -999.0,9,  -999.0,9,-999.0000,9,   1.9050,2,   13.78,2, -999.00,9,  -999.0,9,  -999.0,   8.139,2,   0.017,-999.000,9,   0.0070,   2.4840,-999.0000,    0.20
  316N145_8,        I03,     473,          1,         16,         16,2,19950504,       0736,   -19.9998,    94.3000,       5085,  2022.0,   2.3448,  34.7210,2,  34.7216,2,    155.1,2,   154.7,2,  112.39,2,   34.01,2,    0.00,2,    2.42,2,-999.000,9,-999.000,9,-999.000,9,  -999.0,9,  -999.0,9,-999.0000,9,   1.9000,2,   14.30,2, -999.00,9,  -999.0,9,  -999.0,   8.067,2,   0.017,-999.000,9,   0.0070,   2.2009,-999.0000,    0.20
  316N145_8,        I03,     473,          1,         15,         15,2,19950504,       0736,   -19.9998,    94.3000,       5085,  2225.4,   2.1202,  34.7248,2,  34.7244,2,    160.8,2,   160.0,2,  116.11,2,   33.77,2,    0.00,2,    2.40,2,-999.000,9,-999.000,9,-999.000,9,  -999.0,9,  -999.0,9,-999.0000,9,   1.8990,2,   13.80,2, -999.00,9,  -999.0,9,  -999.0,   8.090,2,   0.017,-999.000,9,   0.0070,   1.9621,-999.0000,    0.20
  316N145_8,        I03,     473,          1,         14,         14,2,19950504,       0736,   -19.9998,    94.3000,       5085,  2427.6,   1.9657,  34.7261,2,  34.7269,2,    164.6,2,   164.3,2,  118.30,2,   33.62,2,    0.00,2,    2.38,2,   0.003,2,  -0.001,2,-999.000,9,  -999.0,9,  -999.0,9,-999.0000,9,   1.9010,2,   14.23,2, -999.00,9,  -999.0,9,  -999.0,   8.154,2,   0.017,-999.000,9,   0.0070,   1.7923,-999.0000,    0.20
  316N145_8,        I03,     473,          1,         13,         13,2,19950504,       0736,   -19.9998,    94.3000,       5085,  2630.5,   1.8454,  34.7269,2,  34.7271,2,    168.8,2,   168.9,2,  119.61,2,   33.42,2,    0.00,2,    2.36,2,-999.000,9,-999.000,9,-999.000,9,  -999.0,9,  -999.0,9,-999.0000,9,   1.9010,2,   13.97,2, -999.00,9,  -999.0,9,  -999.0,   8.123,2,   0.017,-999.000,9,   0.0070,   1.6558,-999.0000,    0.20
  316N145_8,        I03,     473,          1,         12,         12,2,19950504,       0736,   -19.9998,    94.3000,       5085,  2833.6,   1.7206,  34.7259,2,  34.7261,2,    173.0,2,   173.8,2,  122.70,2,   33.42,2,    0.00,2,    2.35,2,-999.000,9,-999.000,9,  -0.019,3,  -999.0,9,  -999.0,9,-999.0000,9,   1.9130,2,   13.21,2, -999.00,9,  -999.0,9,  -999.0,   8.173,2,   0.018,   0.001,2,   0.0070,   1.5146,-999.0000,    0.20
  316N145_8,        I03,     473,          1,         11,         11,2,19950504,       0736,   -19.9998,    94.3000,       5085,  3037.5,   1.6204,  34.7248,2,  34.7253,2,    174.3,2,   173.8,2,  124.69,2,   33.37,2,    0.00,2,    2.35,2,-999.000,9,-999.000,9,-999.000,9,  -999.0,9,  -999.0,9,-999.0000,9,   1.8900,2,   13.10,2, -999.00,9,  -999.0,9,  -999.0,   8.112,2,   0.017,-999.000,9,   0.0070,   1.3971,-999.0000,    0.20
  316N145_8,        I03,     473,          1,         10,         10,2,19950504,       0736,   -19.9998,    94.3000,       5085,  3241.4,   1.5219,  34.7238,2,  34.7247,2,    178.6,2,   178.2,2,  125.11,2,   33.22,2,    0.00,2,    2.33,2,   0.009,3,   0.001,2,-999.000,9,  -999.0,9,  -999.0,9,-999.0000,9,-999.0000,9, -999.00,9, -999.00,9,  -999.0,9,  -999.0,-999.000,9,-999.000,-999.000,9,-999.0000,   1.2809,-999.0000,-999.000
  316N145_8,        I03,     473,          1,          9,          9,2,19950504,       0736,   -19.9998,    94.3000,       5085,  3444.0,   1.4207,  34.7218,2,  34.7218,2,    184.0,2,   182.8,2,  125.98,2,   33.07,2,    0.00,2,    2.31,2,-999.000,9,-999.000,9,-999.000,9,  -999.0,9,  -999.0,9,-999.0000,9,   1.8920,2,   12.47,2, -999.00,9,  -999.0,9,  -999.0,   8.150,2,   0.017,-999.000,9,   0.0070,   1.1620,-999.0000,    0.20
  316N145_8,        I03,     473,          1,          8,          8,2,19950504,       0736,   -19.9998,    94.3000,       5085,  3649.2,   1.3231,  34.7191,2,  34.7192,2,    186.2,2,   187.6,2,  126.18,2,   32.82,2,    0.00,2,    2.30,2,-999.000,9,-999.000,9,-999.000,9,  -999.0,9,  -999.0,9,-999.0000,9,   1.9040,2,   11.57,2, -999.00,9,  -999.0,9,  -999.0,   8.212,2,   0.017,-999.000,9,   0.0070,   1.0460,-999.0000,    0.20
  316N145_8,        I03,     473,          1,          7,          7,2,19950504,       0736,   -19.9998,    94.3000,       5085,  3852.6,   1.2297,  34.7174,2,  34.7179,2,    192.5,2,   193.6,2,  124.15,2,   32.58,2,    0.00,2,    2.27,2,-999.000,9,-999.000,9,-999.000,9,  -999.0,9,  -999.0,9,-999.0000,9,   1.8840,2,   11.04,2, -999.00,9,  -999.0,9,  -999.0,   8.142,2,   0.017,-999.000,9,   0.0070,   0.9339,-999.0000,    0.20
  316N145_8,        I03,     473,          1,          6,          6,2,19950504,       0736,   -19.9998,    94.3000,       5085,  4056.6,   1.1603,  34.7156,2,  34.7153,2,    197.3,2,   197.4,2,  124.13,2,   32.43,2,    0.00,2,    2.25,2,   0.000,2,   0.000,2,  -0.021,3,  -999.0,9,  -999.0,9,-999.0000,9,   1.9220,2,   11.40,2, -999.00,9,  -999.0,9,  -999.0,   8.206,2,   0.017,   0.004,2,   0.0080,   0.8447,-999.0000,    0.20
  316N145_8,        I03,     473,          1,          5,          5,2,19950504,       0736,   -19.9998,    94.3000,       5085,  4260.2,   1.1068,  34.7144,2,  34.7137,2,    200.1,2,   200.4,2,  123.88,2,   32.28,2,    0.00,2,    2.25,2,-999.000,9,-999.000,9,  -0.021,3,  -999.0,9,  -999.0,9,-999.0000,9,-999.0000,9, -999.00,9, -999.00,9,  -999.0,9,  -999.0,-999.000,9,-999.000,   0.011,2,-999.0000,   0.7706,-999.0000,-999.000
  316N145_8,        I03,     473,          1,          4,          4,2,19950504,       0736,   -19.9998,    94.3000,       5085,  4465.9,   1.0765,  34.7124,2,  34.7121,2,    203.3,2,   202.5,2,  123.86,2,   32.23,2,    0.00,2,    2.24,2,-999.000,9,-999.000,9,  -0.004,3,  -999.0,9,  -999.0,9,-999.0000,9,-999.0000,9, -999.00,9, -999.00,9,  -999.0,9,  -999.0,-999.000,9,-999.000,   0.019,2,-999.0000,   0.7184,-999.0000,-999.000
  316N145_8,        I03,     473,          1,          3,          3,2,19950504,       0736,   -19.9998,    94.3000,       5085,  4670.9,   1.0699,  34.7112,2,  34.7108,2,    203.5,2,   203.8,2,  123.61,2,   32.19,2,    0.00,2,    2.23,2,-999.000,9,-999.000,9,   0.011,3,  -999.0,9,  -999.0,9,-999.0000,9,   1.9070,2,   10.35,2, -999.00,9,  -999.0,9,  -999.0,   8.196,2,   0.017,   0.024,2,   0.0080,   0.6887,-999.0000,    0.20
  316N145_8,        I03,     473,          1,          2,          2,2,19950504,       0736,   -19.9998,    94.3000,       5085,  4929.0,   1.0818,  34.7106,2,  34.7104,2,    204.9,2,   204.5,2,  123.81,2,   32.19,2,    0.00,2,    2.23,2,   0.001,2,  -0.001,2,  -0.010,3,  -999.0,9,  -999.0,9,-999.0000,9,-999.0000,9, -999.00,9, -999.00,9,  -999.0,9,  -999.0,-999.000,9,-999.000,   0.035,2,-999.0000,   0.6700,-999.0000,-999.000
  316N145_8,        I03,     473,          1,          1,          1,2,19950504,       0736,   -19.9998,    94.3000,       5085,  5179.7,   1.1051,  34.7105,2,  34.7102,2,    205.0,2,   222.8,4,  123.79,2,   32.19,2,    0.00,2,    2.23,2,   0.000,2,   0.003,2,   0.010,3,  -999.0,9,  -999.0,9,-999.0000,9,   1.9160,2,   10.32,2, -999.00,9,  -999.0,9,  -999.0,   8.194,2,   0.017,   0.038,2,   0.0070,   0.6624,-999.0000,    0.20