BOTTLE,20140514CCHSIOSE
EXPOCODE,SECT_ID,STNNBR,CASTNO,SAMPNO,BTLNBR,BTLNBR_FLAG_W,DATE,TIME,LATITUDE,LONGITUDE,DEPTH,CTDPRS,CTDTMP,CTDSAL,CTDSAL_FLAG_W,SALNTY,SALNTY_FLAG_W,CTDOXY,CTDOXY_FLAG_W,OXYGEN,OXYGEN_FLAG_W,SILCAT,SILCAT_FLAG_W,NITRAT,NITRAT_FLAG_W,NITRIT,NITRIT_FLAG_W,PHSPHT,PHSPHT_FLAG_W,CFC-11,CFC-11_FLAG_W,CFC-12,CFC-12_FLAG_W,CFC113,CFC113_FLAG_W,TCARBN,TCARBN_FLAG_W,ALKALI,ALKALI_FLAG_W,TRITUM,TRITUM_FLAG_W,HELIUM,HELIUM_FLAG_W,DELHE3,DELHE3_FLAG_W,DELC13,DELC13_FLAG_W,DELC14,DELC14_FLAG_W,C14ERR,NEON,NEON_FLAG_W,NEONER,CCL4,CCL4_FLAG_W,HELIER,THETA,TRITER,DELHER
,,,,,,,,,,,METERS,DBAR,ITS-90,PSS-78,,PSS-78,,UMOL/KG,,UMOL/KG,,UMOL/KG,,UMOL/KG,,UMOL/KG,,UMOL/KG,,PMOL/KG,,PMOL/KG,,PMOL/KG,,UMOL/KG,,UMOL/KG,,TU,,NMOL/KG,,PERCNT,,/MILLE,,/MILLE,,/MILLE,NMOL/KG,,NMOL/KG,PMOL/KG,,NMOL/KG,DEG C,TU,PERCNT
  316N145_8,        I03,     499,          1,         36,         36,2,19950511,       2014,   -20.0002,    79.8083,       4782,     7.1,  26.2383,  34.9336,2,  34.9342,2,    204.7,2,   209.5,3,    3.30,2,    0.09,2,    0.00,2,    0.12,2,   1.782,2,   1.020,2,  -0.078,3,  1936.8,6,  2284.5,6,-999.0000,9,-999.0000,9, -999.00,9, -999.00,9,  -999.0,9,  -999.0,-999.000,9,-999.000,   2.065,2,-999.0000,  26.2367,-999.0000,-999.000
  316N145_8,        I03,     499,          1,         35,         35,2,19950511,       2014,   -20.0002,    79.8083,       4782,    55.2,  26.1034,  35.0218,2,  35.0222,2,    215.7,2,   209.2,2,    3.29,2,    0.09,2,    0.00,2,    0.11,2,   1.805,2,   1.031,2,   0.282,3,  1942.5,2,  2291.0,2,-999.0000,9,-999.0000,9, -999.00,9, -999.00,9,  -999.0,9,  -999.0,-999.000,9,-999.000,   2.015,2,-999.0000,  26.0911,-999.0000,-999.000
  316N145_8,        I03,     499,          1,         34,         34,2,19950511,       2014,   -20.0002,    79.8083,       4782,   104.6,  21.8838,  35.4086,2,  35.3951,2,    219.5,2,   208.4,2,    4.34,2,    0.71,2,    0.06,2,    0.20,2,   2.138,2,   1.191,2,   0.570,3,  2002.5,2,  2315.0,2,-999.0000,9,-999.0000,9, -999.00,9, -999.00,9,  -999.0,9,  -999.0,-999.000,9,-999.000,   1.292,2,-999.0000,  21.8631,-999.0000,-999.000
  316N145_8,        I03,     499,          1,         33,         33,2,19950511,       2014,   -20.0002,    79.8083,       4782,   155.9,  20.3420,  35.5884,2,  35.5779,2,    194.3,2,   191.0,2,    4.96,2,    2.54,2,    0.03,2,    0.32,2,   2.187,2,   1.204,2,   0.737,3,  2036.9,2,  2329.0,2,-999.0000,9,-999.0000,9, -999.00,9, -999.00,9,  -999.0,9,  -999.0,-999.000,9,-999.000,   1.002,2,-999.0000,  20.3127,-999.0000,-999.000
  316N145_8,        I03,     499,          1,         32,         32,2,19950511,       2014,   -20.0002,    79.8083,       4782,   205.3,  19.0266,  35.7629,2,  35.7673,2,    205.2,2,   197.6,2,    4.73,2,    2.41,2,    0.01,2,    0.32,2,   2.297,2,   1.248,2,-999.000,9,  2060.2,2,  2345.0,2,-999.0000,9,-999.0000,9, -999.00,9, -999.00,9,  -999.0,9,  -999.0,-999.000,9,-999.000,-999.000,9,-999.0000,  18.9898,-999.0000,-999.000
  316N145_8,        I03,     499,          1,         31,         31,2,19950511,       2014,   -20.0002,    79.8083,       4782,   254.9,  17.4584,  35.7686,2,  35.7675,2,    204.3,2,   204.5,2,    3.87,2,    2.47,2,    0.01,2,    0.35,2,   2.476,2,   1.322,2,  -0.004,3,  2075.9,2,  2347.0,2,-999.0000,9,-999.0000,9, -999.00,9, -999.00,9,  -999.0,9,  -999.0,-999.000,9,-999.000,   0.670,2,-999.0000,  17.4153,-999.0000,-999.000
  316N145_8,        I03,     499,          1,         30,         30,2,19950511,       2014,   -20.0002,    79.8083,       4782,   305.1,  15.3007,  35.5493,2,  35.5347,2,    210.4,2,   206.7,2,    4.71,2,    5.29,2,    0.01,2,    0.53,2,   2.586,2,   1.339,2,  -0.007,3,  2092.3,2,  2336.0,2,-999.0000,9,-999.0000,9, -999.00,9, -999.00,9,  -999.0,9,  -999.0,-999.000,9,-999.000,   0.521,2,-999.0000,  15.2535,-999.0000,-999.000
  316N145_8,        I03,     499,          1,         29,         29,2,19950511,       2014,   -20.0002,    79.8083,       4782,   355.8,  13.8266,  35.3577,2,  35.3666,2,    216.0,2,   215.9,2,    4.27,2,    6.81,2,    0.01,2,    0.62,2,   2.727,2,   1.404,2,  -0.011,3,  2096.1,2,  2333.0,2,-999.0000,9,-999.0000,9, -999.00,9, -999.00,9,  -999.0,9,  -999.0,-999.000,9,-999.000,   0.624,2,-999.0000,  13.7752,-999.0000,-999.000
  316N145_8,        I03,     499,          1,         28,         28,2,19950511,       2014,   -20.0002,    79.8083,       4782,   406.0,  12.4383,  35.1617,2,  35.1704,2,    218.2,2,   220.3,2,    5.10,2,    9.30,2,    0.01,2,    0.76,2,   2.731,2,   1.389,2,  -0.008,3,  2102.6,2,  2318.0,2,-999.0000,9,-999.0000,9, -999.00,9, -999.00,9,  -999.0,9,  -999.0,-999.000,9,-999.000,   0.810,2,-999.0000,  12.3835,-999.0000,-999.000
  316N145_8,        I03,     499,          1,         27,         27,2,19950511,       2014,   -20.0002,    79.8083,       4782,   456.6,  11.3912,  35.0081,2,  35.0067,2,    231.0,2,   231.1,2,    4.67,2,   10.96,2,    0.01,2,    0.86,2,   2.878,2,   1.451,2,  -0.007,3,  2103.4,2,  2312.0,2,   1.1203,3,-999.0000,9, -999.00,9, -999.00,9,  -999.0,9,  -999.0,-999.000,9,-999.000,   1.116,2,-999.0000,  11.3330,   0.0044,-999.000
  316N145_8,        I03,     499,          1,         26,         26,2,19950511,       2014,   -20.0002,    79.8083,       4782,   508.1,  10.4669,  34.8648,2,  34.8615,2,    232.5,2,   233.0,2,    5.08,2,   13.20,2,    0.01,2,    0.99,2,   2.821,2,   1.409,2,   0.322,3,  -999.0,9,  -999.0,9,-999.0000,9,-999.0000,9, -999.00,9, -999.00,9,  -999.0,9,  -999.0,-999.000,9,-999.000,   1.242,2,-999.0000,  10.4054,-999.0000,-999.000
  316N145_8,        I03,     499,          1,         25,         25,2,19950511,       2014,   -20.0002,    79.8083,       4782,   606.3,   9.2548,  34.6958,2,  34.6990,2,    219.8,2,   221.6,2,    8.04,2,   17.36,2,    0.01,2,    1.25,2,   2.168,2,   1.067,2,  -0.008,3,  -999.0,9,  -999.0,9,-999.0000,9,-999.0000,9, -999.00,9, -999.00,9,  -999.0,9,  -999.0,-999.000,9,-999.000,   1.255,2,-999.0000,   9.1866,-999.0000,-999.000
  316N145_8,        I03,     499,          1,         24,         24,2,19950511,       2014,   -20.0002,    79.8083,       4782,   707.6,   7.9182,  34.5763,2,  34.5736,2,    196.5,2,   194.4,2,   18.00,2,   23.43,2,    0.01,2,    1.64,2,   0.977,2,   0.499,2,-999.000,9,  2153.1,2,  2296.0,2,-999.0000,9,-999.0000,9, -999.00,9, -999.00,9,  -999.0,9,  -999.0,-999.000,9,-999.000,-999.000,9,-999.0000,   7.8452,-999.0000,-999.000
  316N145_8,        I03,     499,          1,         23,         23,2,19950511,       2014,   -20.0002,    79.8083,       4782,   809.4,   6.0540,  34.4898,2,  34.4934,2,    167.7,2,   168.4,2,   36.87,2,   29.43,2,    0.01,2,    2.06,2,   0.296,2,   0.159,2,-999.000,9,  2195.6,2,  2312.0,2,-999.0000,9,-999.0000,9, -999.00,9, -999.00,9,  -999.0,9,  -999.0,-999.000,9,-999.000,-999.000,9,-999.0000,   5.9812,-999.0000,-999.000
  316N145_8,        I03,     499,          1,         22,         22,2,19950511,       2014,   -20.0002,    79.8083,       4782,   910.3,   5.1928,  34.5373,2,  34.5350,2,    142.0,2,   135.3,2,   61.48,2,   33.55,2,    0.01,2,    2.39,2,   0.053,2,   0.028,2,-999.000,9,  -999.0,9,  -999.0,9,-999.0000,9,-999.0000,9, -999.00,9, -999.00,9,  -999.0,9,  -999.0,-999.000,9,-999.000,-999.000,9,-999.0000,   5.1162,-999.0000,-999.000
  316N145_8,        I03,     499,          1,         21,         21,2,19950511,       2014,   -20.0002,    79.8083,       4782,  1010.8,   4.7169,  34.5774,2,  34.5773,2,    124.5,2,   122.3,2,   75.51,2,   34.94,2,    0.01,2,    2.52,2,   0.012,2,   0.007,2,   0.683,3,  2261.9,2,  2348.0,2,-999.0000,9,   1.8020,3,    9.88,2, -999.00,9,  -999.0,9,  -999.0,   7.661,3,   0.054,   0.107,2,   0.0040,   4.6346,-999.0000,    0.15
  316N145_8,        I03,     499,          1,         20,         20,2,19950511,       2014,   -20.0002,    79.8083,       4782,  1110.7,   4.4117,  34.6172,2,  34.6172,2,    117.1,2,   117.1,2,   84.67,2,   35.49,2,    0.01,2,    2.56,2,   0.003,2,   0.002,2,-999.000,9,  -999.0,9,  -999.0,9,-999.0000,9,   1.8760,2,   11.14,2, -999.00,9,  -999.0,9,  -999.0,   7.988,2,   0.024,-999.000,9,   0.0030,   4.3230,-999.0000,    0.10
  316N145_8,        I03,     499,          1,         19,         19,2,19950511,       2014,   -20.0002,    79.8083,       4782,  1211.4,   3.9829,  34.6250,2,  34.6252,2,    122.9,2,   123.4,2,   88.07,2,   35.39,2,    0.01,2,    2.55,2,   0.005,2,   0.002,2,-999.000,9,  -999.0,9,  -999.0,9,-999.0000,9,   1.8570,2,   11.10,2, -999.00,9,  -999.0,9,  -999.0,   7.962,2,   0.057,-999.000,9,   0.0110,   3.8892,-999.0000,    0.15
  316N145_8,        I03,     499,          1,         18,         18,2,19950511,       2014,   -20.0002,    79.8083,       4782,  1413.2,   3.5015,  34.6824,2,  34.6811,2,    128.5,2,   128.8,2,   97.07,2,   35.09,2,    0.01,2,    2.52,2,   0.002,2,   0.001,2,-999.000,9,  -999.0,9,  -999.0,9,-999.0000,9,   1.8750,2,   12.01,2, -999.00,9,  -999.0,9,  -999.0,   8.001,2,   0.047,-999.000,9,   0.0050,   3.3951,-999.0000,    0.15
  316N145_8,        I03,     499,          1,         17,         17,2,19950511,       2014,   -20.0002,    79.8083,       4782,  1615.6,   3.0868,  34.7122,2,  34.7115,2,    135.6,2,   136.3,2,  103.73,2,   34.74,2,    0.01,2,    2.50,2,   0.002,2,   0.000,2,-999.000,9,  -999.0,9,  -999.0,9,-999.0000,9,   1.8990,2,   13.10,2, -999.00,9,  -999.0,9,  -999.0,   8.058,2,   0.024,-999.000,9,   0.0030,   2.9678,-999.0000,    0.10
  316N145_8,        I03,     499,          1,         16,         16,2,19950511,       2014,   -20.0002,    79.8083,       4782,  1817.3,   2.7463,  34.7246,2,  34.7241,2,    142.8,2,   142.7,2,  109.78,2,   34.45,2,    0.01,2,    2.48,2,-999.000,9,-999.000,9,-999.000,9,  -999.0,9,  -999.0,9,-999.0000,9,   1.9110,2,   13.90,2, -999.00,9,  -999.0,9,  -999.0,   8.151,2,   0.024,-999.000,9,   0.0040,   2.6143,-999.0000,    0.10
  316N145_8,        I03,     499,          1,         15,         15,2,19950511,       2014,   -20.0002,    79.8083,       4782,  2019.6,   2.4469,  34.7276,2,  34.7270,2,    152.2,2,   152.2,2,  112.14,2,   34.05,2,    0.01,2,    2.42,2,-999.000,9,-999.000,9,-999.000,9,  2289.0,2,  2390.0,2,-999.0000,9,-999.0000,9, -999.00,9, -999.00,9,  -999.0,9,  -999.0,-999.000,9,-999.000,-999.000,9,-999.0000,   2.3017,-999.0000,-999.000
  316N145_8,        I03,     499,          1,         14,         14,2,19950511,       2014,   -20.0002,    79.8083,       4782,  2222.6,   2.2076,  34.7268,2,  34.7263,2,    162.1,2,   161.0,2,  112.98,2,   33.55,2,    0.01,2,    2.39,2,   0.001,2,  -0.002,2,-999.000,9,  -999.0,9,  -999.0,9,-999.0000,9,-999.0000,9, -999.00,9, -999.00,9,  -999.0,9,  -999.0,-999.000,9,-999.000,-999.000,9,-999.0000,   2.0484,-999.0000,-999.000
  316N145_8,        I03,     499,          1,         13,         13,2,19950511,       2014,   -20.0002,    79.8083,       4782,  2425.9,   2.0000,  34.7259,2,  34.7259,2,    168.6,2,   169.0,2,  113.60,2,   33.11,2,    0.01,2,    2.34,2,   0.000,2,   0.001,2,-999.000,9,  -999.0,9,  -999.0,9,-999.0000,9,   1.8930,2,   15.45,2, -999.00,9,  -999.0,9,  -999.0,   8.052,2,   0.048,-999.000,9,   0.0050,   1.8262,-999.0000,    0.15
  316N145_8,        I03,     499,          1,         12,         12,2,19950511,       2014,   -20.0002,    79.8083,       4782,  2627.2,   1.8614,  34.7267,2,  34.7264,2,    175.4,2,   174.5,2,  114.65,2,   32.81,2,    0.01,2,    2.31,2,-999.000,9,-999.000,9,-999.000,9,  2279.0,2,  2387.0,2,-999.0000,9,-999.0000,9, -999.00,9, -999.00,9,  -999.0,9,  -999.0,-999.000,9,-999.000,-999.000,9,-999.0000,   1.6718,-999.0000,-999.000
  316N145_8,        I03,     499,          1,         11,         11,2,19950511,       2014,   -20.0002,    79.8083,       4782,  2831.2,   1.7380,  34.7270,2,  34.7268,2,    180.8,2,   180.9,2,  114.17,2,   32.47,2,    0.01,2,    2.28,2,  -0.002,2,   0.001,2,-999.000,9,  -999.0,9,  -999.0,9,-999.0000,9,   1.9020,2,   15.24,2, -999.00,9,  -999.0,9,  -999.0,   8.150,2,   0.045,-999.000,9,   0.0100,   1.5318,-999.0000,    0.15
  316N145_8,        I03,     499,          1,         10,         10,2,19950511,       2014,   -20.0002,    79.8083,       4782,  3035.5,   1.6235,  34.7272,2,  34.7266,2,    184.1,2,   183.9,2,  116.33,2,   32.37,2,    0.01,2,    2.27,2,-999.000,9,-999.000,9,-999.000,9,  2276.2,2,  2390.0,2,-999.0000,9,   1.8720,2,   13.99,2, -999.00,9,  -999.0,9,  -999.0,   8.164,2,   0.016,-999.000,9,   0.0030,   1.4003,-999.0000,    0.14
  316N145_8,        I03,     499,          1,          9,          9,2,19950511,       2014,   -20.0002,    79.8083,       4782,  3238.4,   1.5112,  34.7263,2,  34.7257,2,    185.2,2,   185.4,2,  119.36,2,   32.42,2,    0.01,2,    2.27,2,   0.001,2,   0.000,2,-999.000,9,  -999.0,9,  -999.0,9,-999.0000,9,   1.8870,2,   12.90,2, -999.00,9,  -999.0,9,  -999.0,   8.162,2,   0.045,-999.000,9,   0.0050,   1.2708,-999.0000,    0.15
  316N145_8,        I03,     499,          1,          8,          8,2,19950511,       2014,   -20.0002,    79.8083,       4782,  3442.3,   1.4451,  34.7238,2,  34.7235,2,    184.0,2,   185.3,2,  122.85,2,   32.67,2,    0.01,2,    2.28,2,-999.000,9,-999.000,9,-999.000,9,  -999.0,9,  -999.0,9,-999.0000,9,   1.9080,2,   11.57,2, -999.00,9,  -999.0,9,  -999.0,   8.251,2,   0.021,-999.000,9,   0.0040,   1.1860,-999.0000,    0.15
  316N145_8,        I03,     499,          1,          7,          7,2,19950511,       2014,   -20.0002,    79.8083,       4782,  3645.7,   1.4024,  34.7227,2,  34.7221,2,    184.3,2,   185.9,2,  124.80,2,   32.67,2,    0.00,2,    2.28,2,-999.000,9,-999.000,9,-999.000,9,  -999.0,9,  -999.0,9,-999.0000,9,   1.9130,2,   11.71,2, -999.00,9,  -999.0,9,  -999.0,   8.227,2,   0.021,-999.000,9,   0.0030,   1.1236,-999.0000,    0.15
  316N145_8,        I03,     499,          1,          6,          6,2,19950511,       2014,   -20.0002,    79.8083,       4782,  3850.7,   1.3820,  34.7206,2,  34.7206,2,    186.7,2,   186.4,2,  125.65,2,   32.72,2,    0.00,2,    2.29,2,-999.000,9,-999.000,9,-999.000,9,  -999.0,9,  -999.0,9,-999.0000,9,-999.0000,9, -999.00,9, -999.00,9,  -999.0,9,  -999.0,-999.000,9,-999.000,-999.000,9,-999.0000,   1.0822,-999.0000,-999.000
  316N145_8,        I03,     499,          1,          5,          5,2,19950511,       2014,   -20.0002,    79.8083,       4782,  4054.7,   1.3748,  34.7189,2,  34.7186,2,    183.9,2,   184.9,2,  129.16,2,   33.07,2,    0.00,2,    2.31,2,  -0.001,2,   0.001,2,-999.000,9,  2289.6,2,  2406.0,2,-999.0000,9,   1.9180,2,   11.74,2, -999.00,9,  -999.0,9,  -999.0,   8.194,2,   0.022,-999.000,9,   0.0020,   1.0532,-999.0000,    0.15
  316N145_8,        I03,     499,          1,          4,          4,2,19950511,       2014,   -20.0002,    79.8083,       4782,  4258.1,   1.3775,  34.7184,2,  34.7178,2,    184.4,2,   184.8,2,  130.01,2,   33.13,2,    0.00,2,    2.31,2,-999.000,9,-999.000,9,-999.000,9,  -999.0,9,  -999.0,9,-999.0000,9,   1.9570,3,   11.33,2, -999.00,9,  -999.0,9,  -999.0,   8.391,3,   0.022,-999.000,9,   0.0030,   1.0334,-999.0000,    0.15
  316N145_8,        I03,     499,          1,          3,          3,2,19950511,       2014,   -20.0002,    79.8083,       4782,  4463.8,   1.3844,  34.7183,2,  34.7170,2,    184.1,2,   184.0,2,  131.09,2,   33.23,2,    0.00,2,    2.32,2,-999.000,9,-999.000,9,-999.000,9,  -999.0,9,  -999.0,9,-999.0000,9,   1.9290,2,   11.40,2, -999.00,9,  -999.0,9,  -999.0,   8.277,2,   0.022,-999.000,9,   0.0030,   1.0169,-999.0000,    0.15
  316N145_8,        I03,     499,          1,          2,          2,2,19950511,       2014,   -20.0002,    79.8083,       4782,  4668.0,   1.3992,  34.7176,2,  34.7170,2,    184.2,2,   184.2,2,  131.72,2,   33.28,2,    0.00,2,    2.32,2,   0.001,2,   0.001,2,   0.579,3,  2293.3,2,  2408.0,2,-999.0000,9,   1.8940,2,   11.51,2, -999.00,9,  -999.0,9,  -999.0,   8.166,2,   0.021,   0.019,2,   0.0020,   1.0077,-999.0000,    0.15
  316N145_8,        I03,     499,          1,          1,          1,2,19950511,       2014,   -20.0002,    79.8083,       4782,  4920.3,   1.4257,  34.7175,2,  34.7168,2,    184.9,2,   181.7,3,  131.90,2,   33.28,2,    0.00,2,    2.32,2,   0.000,2,   0.001,2,-999.000,9,  -999.0,9,  -999.0,9,-999.0000,9,   1.9030,2,   11.31,2, -999.00,9,  -999.0,9,  -999.0,   8.173,2,   0.022,-999.000,9,   0.0030,   1.0034,-999.0000,    0.15