BOTTLE,20140514CCHSIOSE
EXPOCODE,SECT_ID,STNNBR,CASTNO,SAMPNO,BTLNBR,BTLNBR_FLAG_W,DATE,TIME,LATITUDE,LONGITUDE,DEPTH,CTDPRS,CTDTMP,CTDSAL,CTDSAL_FLAG_W,SALNTY,SALNTY_FLAG_W,CTDOXY,CTDOXY_FLAG_W,OXYGEN,OXYGEN_FLAG_W,SILCAT,SILCAT_FLAG_W,NITRAT,NITRAT_FLAG_W,NITRIT,NITRIT_FLAG_W,PHSPHT,PHSPHT_FLAG_W,CFC-11,CFC-11_FLAG_W,CFC-12,CFC-12_FLAG_W,CFC113,CFC113_FLAG_W,TCARBN,TCARBN_FLAG_W,ALKALI,ALKALI_FLAG_W,TRITUM,TRITUM_FLAG_W,HELIUM,HELIUM_FLAG_W,DELHE3,DELHE3_FLAG_W,DELC13,DELC13_FLAG_W,DELC14,DELC14_FLAG_W,C14ERR,NEON,NEON_FLAG_W,NEONER,CCL4,CCL4_FLAG_W,HELIER,THETA,TRITER,DELHER
,,,,,,,,,,,METERS,DBAR,ITS-90,PSS-78,,PSS-78,,UMOL/KG,,UMOL/KG,,UMOL/KG,,UMOL/KG,,UMOL/KG,,UMOL/KG,,PMOL/KG,,PMOL/KG,,PMOL/KG,,UMOL/KG,,UMOL/KG,,TU,,NMOL/KG,,PERCNT,,/MILLE,,/MILLE,,/MILLE,NMOL/KG,,NMOL/KG,PMOL/KG,,NMOL/KG,DEG C,TU,PERCNT
  316N145_8,        I03,     514,          1,         30,         30,2,19950518,       2011,   -20.0000,    70.7468,       3637,     6.8,  24.7262,  35.0244,2,  35.0240,2,    207.9,2,   208.9,2,    2.78,2,    0.04,2,    0.00,2,    0.11,2,   1.896,2,   1.078,2,-999.000,9,  1951.4,2,  2290.0,2,-999.0000,9,-999.0000,9, -999.00,9, -999.00,9,  -999.0,9,  -999.0,-999.000,9,-999.000,-999.000,9,-999.0000,  24.7247,-999.0000,-999.000
  316N145_8,        I03,     514,          1,         29,         29,2,19950518,       2011,   -20.0000,    70.7468,       3637,    53.6,  24.7465,  35.0720,2,  35.0725,2,    209.9,2,   210.1,2,    2.76,2,    0.03,2,    0.00,2,    0.10,2,   1.893,2,   1.082,2,-999.000,9,  1954.0,6,  2296.0,6,-999.0000,9,-999.0000,9, -999.00,9, -999.00,9,  -999.0,9,  -999.0,-999.000,9,-999.000,-999.000,9,-999.0000,  24.7350,-999.0000,-999.000
  316N145_8,        I03,     514,          1,         28,         28,2,19950518,       2011,   -20.0000,    70.7468,       3637,   105.3,  22.5636,  35.3939,2,  35.3912,2,    227.9,2,   220.5,2,    2.95,2,    0.03,2,    0.00,2,    0.13,2,   2.144,2,   1.197,2,-999.000,9,  1990.3,2,  2315.0,2,-999.0000,9,-999.0000,9, -999.00,9, -999.00,9,  -999.0,9,  -999.0,-999.000,9,-999.000,-999.000,9,-999.0000,  22.5424,-999.0000,-999.000
  316N145_8,        I03,     514,          1,         27,         27,2,19950518,       2011,   -20.0000,    70.7468,       3637,   154.1,  20.5773,  35.6572,2,  35.6458,2,    209.2,2,   203.4,2,    3.13,2,    0.69,2,    0.19,2,    0.20,2,   2.248,2,   1.247,2,-999.000,9,  2029.7,2,  2334.0,2,-999.0000,9,-999.0000,9, -999.00,9, -999.00,9,  -999.0,9,  -999.0,-999.000,9,-999.000,-999.000,9,-999.0000,  20.5482,-999.0000,-999.000
  316N145_8,        I03,     514,          1,         26,         26,2,19950518,       2011,   -20.0000,    70.7468,       3637,   205.0,  19.0331,  35.7929,2,  35.7884,2,    204.5,2,   202.7,2,    3.11,2,    1.61,2,    0.01,2,    0.26,2,   2.365,2,   1.283,2,-999.000,9,  2059.2,2,  2344.0,2,-999.0000,9,-999.0000,9, -999.00,9, -999.00,9,  -999.0,9,  -999.0,-999.000,9,-999.000,-999.000,9,-999.0000,  18.9963,-999.0000,-999.000
  316N145_8,        I03,     514,          1,         25,         25,2,19950518,       2011,   -20.0000,    70.7468,       3637,   253.9,  17.3394,  35.7406,2,  35.7416,2,    205.0,2,   202.7,2,    3.51,2,    2.79,2,    0.01,2,    0.36,2,   2.456,2,   1.321,2,-999.000,9,  2079.4,2,  2343.0,2,-999.0000,9,-999.0000,9, -999.00,9, -999.00,9,  -999.0,9,  -999.0,-999.000,9,-999.000,-999.000,9,-999.0000,  17.2967,-999.0000,-999.000
  316N145_8,        I03,     514,          1,         24,         24,2,19950518,       2011,   -20.0000,    70.7468,       3637,   304.9,  16.0968,  35.6255,2,  35.6289,2,    200.9,2,   202.4,2,    3.91,2,    4.43,2,    0.01,2,    0.46,2,   2.476,2,   1.311,2,-999.000,9,  2089.9,2,  2339.0,2,-999.0000,9,-999.0000,9, -999.00,9, -999.00,9,  -999.0,9,  -999.0,-999.000,9,-999.000,-999.000,9,-999.0000,  16.0480,-999.0000,-999.000
  316N145_8,        I03,     514,          1,         23,         23,2,19950518,       2011,   -20.0000,    70.7468,       3637,   355.0,  14.4179,  35.4377,2,  35.4323,2,    207.9,2,   209.0,2,    4.31,2,    6.49,2,    0.01,2,    0.59,2,   2.581,2,   1.349,2,-999.000,9,  2098.0,2,  2331.0,2,-999.0000,9,-999.0000,9, -999.00,9, -999.00,9,  -999.0,9,  -999.0,-999.000,9,-999.000,-999.000,9,-999.0000,  14.3651,-999.0000,-999.000
  316N145_8,        I03,     514,          1,         22,         22,2,19950518,       2011,   -20.0000,    70.7468,       3637,   406.6,  13.0061,  35.2489,2,  35.2436,2,    218.1,2,   219.4,2,    4.07,2,    8.37,2,    0.01,2,    0.70,2,   2.736,2,   1.399,2,-999.000,9,  2101.0,2,  2321.0,2,-999.0000,9,-999.0000,9, -999.00,9, -999.00,9,  -999.0,9,  -999.0,-999.000,9,-999.000,-999.000,9,-999.0000,  12.9496,-999.0000,-999.000
  316N145_8,        I03,     514,          1,         21,         21,2,19950518,       2011,   -20.0000,    70.7468,       3637,   456.2,  11.9577,  35.0890,2,  35.0932,2,    225.8,2,   226.8,2,    4.26,2,   10.01,2,    0.01,2,    0.79,2,   2.800,2,   1.428,2,-999.000,9,  2102.4,2,  2315.0,2,-999.0000,9,-999.0000,9, -999.00,9, -999.00,9,  -999.0,9,  -999.0,-999.000,9,-999.000,-999.000,9,-999.0000,  11.8977,-999.0000,-999.000
  316N145_8,        I03,     514,          1,         20,         20,2,19950518,       2011,   -20.0000,    70.7468,       3637,   504.2,  10.9374,  34.9320,2,  34.9336,2,    224.8,2,   229.2,2,    4.87,2,   12.31,2,    0.00,2,    0.93,2,   2.716,2,   1.372,2,-999.000,9,  2108.0,2,  2306.0,2,-999.0000,9,-999.0000,9, -999.00,9, -999.00,9,  -999.0,9,  -999.0,-999.000,9,-999.000,-999.000,9,-999.0000,  10.8746,-999.0000,-999.000
  316N145_8,        I03,     514,          1,         19,         19,2,19950518,       2011,   -20.0000,    70.7468,       3637,   605.6,   9.3627,  34.7069,2,  34.7131,2,    223.2,2,   223.8,2,    6.96,2,   16.96,2,    0.00,2,    1.22,2,   2.149,2,   1.081,2,-999.000,9,  2120.1,2,  2295.0,2,-999.0000,9,-999.0000,9, -999.00,9, -999.00,9,  -999.0,9,  -999.0,-999.000,9,-999.000,-999.000,9,-999.0000,   9.2940,-999.0000,-999.000
  316N145_8,        I03,     514,          1,         18,         18,2,19950518,       2011,   -20.0000,    70.7468,       3637,   706.5,   7.9074,  34.5648,2,  34.5669,2,    207.3,2,   206.0,2,   13.72,2,   22.28,2,    0.00,2,    1.55,2,   1.160,2,   0.593,2,-999.000,9,  2144.2,2,  2292.0,2,-999.0000,9,-999.0000,9, -999.00,9, -999.00,9,  -999.0,9,  -999.0,-999.000,9,-999.000,-999.000,9,-999.0000,   7.8346,-999.0000,-999.000
  316N145_8,        I03,     514,          1,         17,         17,2,19950518,       2011,   -20.0000,    70.7468,       3637,   807.5,   6.1663,  34.4908,2,  34.4922,2,    171.0,2,   170.7,2,   35.10,2,   29.14,2,    0.00,2,    2.05,2,   0.272,2,   0.145,2,-999.000,9,  2193.3,2,  2309.0,2,-999.0000,9,-999.0000,9, -999.00,9, -999.00,9,  -999.0,9,  -999.0,-999.000,9,-999.000,-999.000,9,-999.0000,   6.0930,-999.0000,-999.000
  316N145_8,        I03,     514,          1,         16,         16,2,19950518,       2011,   -20.0000,    70.7468,       3637,   907.3,   5.3384,  34.5043,2,  34.5054,2,    145.5,2,   150.9,2,   52.03,2,   32.24,2,    0.00,2,    2.29,2,   0.099,2,   0.051,2,-999.000,9,  2224.2,2,  2322.0,2,-999.0000,9,-999.0000,9, -999.00,9, -999.00,9,  -999.0,9,  -999.0,-999.000,9,-999.000,-999.000,9,-999.0000,   5.2611,-999.0000,-999.000
  316N145_8,        I03,     514,          1,         15,         15,2,19950518,       2011,   -20.0000,    70.7468,       3637,  1008.1,   4.6885,  34.5387,2,  34.5397,2,    134.7,2,   136.2,2,   67.49,2,   34.21,2,    0.00,2,    2.46,2,   0.025,2,   0.015,2,-999.000,9,  2251.2,2,  2341.0,2,-999.0000,9,-999.0000,9, -999.00,9, -999.00,9,  -999.0,9,  -999.0,-999.000,9,-999.000,-999.000,9,-999.0000,   4.6068,-999.0000,-999.000
  316N145_8,        I03,     514,          1,         14,         14,2,19950518,       2011,   -20.0000,    70.7468,       3637,  1158.1,   4.2691,  34.6235,2,  34.6236,2,    120.5,2,   122.1,2,   84.07,2,   35.22,2,    0.00,2,    2.55,2,   0.001,2,   0.003,2,-999.000,9,  2278.5,2,  2357.0,2,-999.0000,9,-999.0000,9, -999.00,9, -999.00,9,  -999.0,9,  -999.0,-999.000,9,-999.000,-999.000,9,-999.0000,   4.1775,-999.0000,-999.000
  316N145_8,        I03,     514,          1,         13,         13,2,19950518,       2011,   -20.0000,    70.7468,       3637,  1311.1,   3.9911,  34.6824,2,  34.6839,2,    119.0,2,   119.1,2,   93.88,2,   35.32,2,    0.00,2,    2.56,2,   0.001,2,   0.002,2,-999.000,9,  2284.5,2,  2372.0,2,-999.0000,9,-999.0000,9, -999.00,9, -999.00,9,  -999.0,9,  -999.0,-999.000,9,-999.000,-999.000,9,-999.0000,   3.8886,-999.0000,-999.000
  316N145_8,        I03,     514,          1,         12,         12,2,19950518,       2011,   -20.0000,    70.7468,       3637,  1512.8,   3.4910,  34.7063,2,  34.7062,2,    126.3,2,   127.0,2,  100.50,2,   35.12,2,    0.00,2,    2.54,2,   0.001,2,   0.002,2,-999.000,9,  2289.5,2,  2375.0,2,-999.0000,9,-999.0000,9, -999.00,9, -999.00,9,  -999.0,9,  -999.0,-999.000,9,-999.000,-999.000,9,-999.0000,   3.3761,-999.0000,-999.000
  316N145_8,        I03,     514,          1,         11,         11,2,19950518,       2011,   -20.0000,    70.7468,       3637,  1716.2,   2.9789,  34.7129,2,  34.7131,2,    141.7,2,   141.2,2,  103.90,2,   34.45,2,    0.00,2,    2.49,2,-999.000,9,-999.000,9,-999.000,9,  2286.7,2,  2380.0,2,-999.0000,9,-999.0000,9, -999.00,9, -999.00,9,  -999.0,9,  -999.0,-999.000,9,-999.000,-999.000,9,-999.0000,   2.8526,-999.0000,-999.000
  316N145_8,        I03,     514,          1,         10,         10,2,19950518,       2011,   -20.0000,    70.7468,       3637,  1916.3,   2.5748,  34.7257,2,  34.7251,2,    149.8,2,   149.1,2,  110.14,2,   34.21,2,    0.00,2,    2.45,2,   0.001,2,   0.001,2,-999.000,9,  2288.7,2,  2385.0,2,-999.0000,9,-999.0000,9, -999.00,9, -999.00,9,  -999.0,9,  -999.0,-999.000,9,-999.000,-999.000,9,-999.0000,   2.4366,-999.0000,-999.000
  316N145_8,        I03,     514,          1,          9,          9,2,19950518,       2011,   -20.0000,    70.7468,       3637,  2121.2,   2.2424,  34.7223,2,  34.7221,2,    161.8,2,   163.0,2,  109.43,2,   33.34,2,    0.00,2,    2.37,2,   0.001,2,   0.004,3,-999.000,9,  2281.8,2,  2385.0,2,-999.0000,9,-999.0000,9, -999.00,9, -999.00,9,  -999.0,9,  -999.0,-999.000,9,-999.000,-999.000,9,-999.0000,   2.0915,-999.0000,-999.000
  316N145_8,        I03,     514,          1,          8,          8,2,19950518,       2011,   -20.0000,    70.7468,       3637,  2322.1,   1.9217,  34.7237,2,  34.7225,2,    178.9,2,   179.4,2,  106.11,2,   32.34,2,    0.00,2,    2.28,2,-999.000,9,-999.000,9,-999.000,9,  2270.7,2,  2376.0,2,-999.0000,9,-999.0000,9, -999.00,9, -999.00,9,  -999.0,9,  -999.0,-999.000,9,-999.000,-999.000,9,-999.0000,   1.7585,-999.0000,-999.000
  316N145_8,        I03,     514,          1,          7,          7,2,19950518,       2011,   -20.0000,    70.7468,       3637,  2526.5,   1.7357,  34.7265,2,  34.7263,2,    184.7,2,   183.9,2,  109.74,2,   32.15,2,    0.00,2,    2.26,2,   0.001,2,   0.004,3,-999.000,9,  2270.1,2,  2381.0,2,-999.0000,9,-999.0000,9, -999.00,9, -999.00,9,  -999.0,9,  -999.0,-999.000,9,-999.000,-999.000,9,-999.0000,   1.5576,-999.0000,-999.000
  316N145_8,        I03,     514,          1,          6,          6,2,19950518,       2011,   -20.0000,    70.7468,       3637,  2727.7,   1.6176,  34.7275,2,  34.7272,2,    186.4,2,   186.5,2,  112.95,2,   32.10,2,    0.00,2,    2.26,2,   0.000,2,   0.001,2,-999.000,9,  2271.8,2,  2380.0,2,-999.0000,9,-999.0000,9, -999.00,9, -999.00,9,  -999.0,9,  -999.0,-999.000,9,-999.000,-999.000,9,-999.0000,   1.4236,-999.0000,-999.000
  316N145_8,        I03,     514,          1,          5,          5,2,19950518,       2011,   -20.0000,    70.7468,       3637,  2931.5,   1.5128,  34.7255,2,  34.7255,2,    186.6,2,   186.9,2,  117.26,2,   32.34,2,    0.00,2,    2.26,2,-999.000,9,-999.000,9,-999.000,9,  2280.1,2,  2390.0,6,-999.0000,9,-999.0000,9, -999.00,9, -999.00,9,  -999.0,9,  -999.0,-999.000,9,-999.000,-999.000,9,-999.0000,   1.3020,-999.0000,-999.000
  316N145_8,        I03,     514,          1,          4,          4,2,19950518,       2011,   -20.0000,    70.7468,       3637,  3136.3,   1.4840,  34.7254,2,  34.7253,2,    186.0,2,   186.9,2,  118.96,2,   32.39,2,    0.00,2,    2.26,2,  -0.002,2,   0.003,2,-999.000,9,  2278.6,2,  2394.0,2,-999.0000,9,-999.0000,9, -999.00,9, -999.00,9,  -999.0,9,  -999.0,-999.000,9,-999.000,-999.000,9,-999.0000,   1.2542,-999.0000,-999.000
  316N145_8,        I03,     514,          1,          3,          3,2,19950518,       2011,   -20.0000,    70.7468,       3637,  3339.3,   1.4520,  34.7241,2,  34.7235,2,    185.7,2,   186.1,2,  122.19,2,   32.58,2,    0.00,2,    2.28,2,  -0.001,2,   0.002,2,-999.000,9,  2284.0,2,  2395.0,2,-999.0000,9,-999.0000,9, -999.00,9, -999.00,9,  -999.0,9,  -999.0,-999.000,9,-999.000,-999.000,9,-999.0000,   1.2030,-999.0000,-999.000
  316N145_8,        I03,     514,          1,          2,          2,2,19950518,       2011,   -20.0000,    70.7468,       3637,  3542.7,   1.4490,  34.7240,2,  34.7227,2,    185.3,2,   185.3,2,  123.68,2,   32.73,2,    0.00,2,    2.28,2,   0.000,2,   0.003,2,-999.000,9,  2284.6,2,  2400.0,2,-999.0000,9,-999.0000,9, -999.00,9, -999.00,9,  -999.0,9,  -999.0,-999.000,9,-999.000,-999.000,9,-999.0000,   1.1796,-999.0000,-999.000
  316N145_8,        I03,     514,          1,          1,          1,2,19950518,       2011,   -20.0000,    70.7468,       3637,  3741.1,   1.4459,  34.7231,2,  34.7219,2,    185.6,2,   184.9,2,  125.16,2,   32.82,2,    0.00,2,    2.30,2,  -0.002,2,   0.000,2,-999.000,9,  2287.1,2,  2401.0,2,-999.0000,9,-999.0000,9, -999.00,9, -999.00,9,  -999.0,9,  -999.0,-999.000,9,-999.000,-999.000,9,-999.0000,   1.1560,-999.0000,-999.000