BOTTLE,20140514CCHSIOSE
EXPOCODE,SECT_ID,STNNBR,CASTNO,SAMPNO,BTLNBR,BTLNBR_FLAG_W,DATE,TIME,LATITUDE,LONGITUDE,DEPTH,CTDPRS,CTDTMP,CTDSAL,CTDSAL_FLAG_W,SALNTY,SALNTY_FLAG_W,CTDOXY,CTDOXY_FLAG_W,OXYGEN,OXYGEN_FLAG_W,SILCAT,SILCAT_FLAG_W,NITRAT,NITRAT_FLAG_W,NITRIT,NITRIT_FLAG_W,PHSPHT,PHSPHT_FLAG_W,CFC-11,CFC-11_FLAG_W,CFC-12,CFC-12_FLAG_W,CFC113,CFC113_FLAG_W,TCARBN,TCARBN_FLAG_W,ALKALI,ALKALI_FLAG_W,TRITUM,TRITUM_FLAG_W,HELIUM,HELIUM_FLAG_W,DELHE3,DELHE3_FLAG_W,DELC13,DELC13_FLAG_W,DELC14,DELC14_FLAG_W,C14ERR,NEON,NEON_FLAG_W,NEONER,CCL4,CCL4_FLAG_W,HELIER,THETA,TRITER,DELHER
,,,,,,,,,,,METERS,DBAR,ITS-90,PSS-78,,PSS-78,,UMOL/KG,,UMOL/KG,,UMOL/KG,,UMOL/KG,,UMOL/KG,,UMOL/KG,,PMOL/KG,,PMOL/KG,,PMOL/KG,,UMOL/KG,,UMOL/KG,,TU,,NMOL/KG,,PERCNT,,/MILLE,,/MILLE,,/MILLE,NMOL/KG,,NMOL/KG,PMOL/KG,,NMOL/KG,DEG C,TU,PERCNT
  316N145_8,        I03,     475,          1,         36,         36,2,19950504,       2132,   -20.0010,    92.8005,       4990,     7.7,  25.4940,  35.2078,2,  35.2078,2,    208.8,2,   209.9,2,    2.73,2,    0.03,2,    0.00,2,    0.10,2,   1.852,2,   1.059,2,-999.000,9,  1962.2,6,  2304.8,6,-999.0000,9,-999.0000,9, -999.00,9, -999.00,9,  -999.0,9,  -999.0,-999.000,9,-999.000,-999.000,9,-999.0000,  25.4923,-999.0000,-999.000
  316N145_8,        I03,     475,          1,         35,         35,2,19950504,       2132,   -20.0010,    92.8005,       4990,    56.4,  25.5210,  35.2353,2,  35.2399,2,    208.7,2,   207.4,2,    2.72,2,    0.04,2,    0.00,2,    0.10,2,-999.000,9,-999.000,9,-999.000,9,  -999.0,9,  -999.0,9,-999.0000,9,-999.0000,9, -999.00,9, -999.00,9,  -999.0,9,  -999.0,-999.000,9,-999.000,-999.000,9,-999.0000,  25.5086,-999.0000,-999.000
  316N145_8,        I03,     475,          1,         34,         34,2,19950504,       2132,   -20.0010,    92.8005,       4990,   107.2,  22.0290,  35.5397,2,  35.5479,2,    224.3,2,   220.7,2,    3.14,2,    0.00,2,    0.00,2,    0.12,2,   2.202,2,   1.223,2,-999.000,9,  -999.0,9,  -999.0,9,-999.0000,9,-999.0000,9, -999.00,9, -999.00,9,  -999.0,9,  -999.0,-999.000,9,-999.000,-999.000,9,-999.0000,  22.0078,-999.0000,-999.000
  316N145_8,        I03,     475,          1,         33,         33,2,19950504,       2132,   -20.0010,    92.8005,       4990,   155.9,  20.3224,  35.7433,2,  35.7470,2,    205.2,2,   205.7,2,    3.35,2,    0.84,2,    0.13,2,    0.22,2,-999.000,9,-999.000,9,-999.000,9,  -999.0,9,  -999.0,9,-999.0000,9,-999.0000,9, -999.00,9, -999.00,9,  -999.0,9,  -999.0,-999.000,9,-999.000,-999.000,9,-999.0000,  20.2931,-999.0000,-999.000
  316N145_8,        I03,     475,          1,         32,         32,2,19950504,       2132,   -20.0010,    92.8005,       4990,   207.7,  18.2207,  35.6670,2,  35.6900,2,    185.4,2,   186.1,2,    5.89,2,    4.35,2,    0.01,2,    0.44,2,   2.248,2,   1.219,2,-999.000,9,  -999.0,9,  -999.0,9,-999.0000,9,-999.0000,9, -999.00,9, -999.00,9,  -999.0,9,  -999.0,-999.000,9,-999.000,-999.000,9,-999.0000,  18.1846,-999.0000,-999.000
  316N145_8,        I03,     475,          1,         31,         31,2,19950504,       2132,   -20.0010,    92.8005,       4990,   257.8,  16.5404,  35.7088,2,  35.7123,2,    208.7,2,   205.3,2,    3.97,2,    3.62,2,    0.01,2,    0.41,2,-999.000,9,-999.000,9,-999.000,9,  -999.0,9,  -999.0,9,-999.0000,9,-999.0000,9, -999.00,9, -999.00,9,  -999.0,9,  -999.0,-999.000,9,-999.000,-999.000,9,-999.0000,  16.4984,-999.0000,-999.000
  316N145_8,        I03,     475,          1,         30,         30,2,19950504,       2132,   -20.0010,    92.8005,       4990,   306.3,  14.3221,  35.4618,2,  35.4438,2,    218.7,2,   217.9,2,    3.33,2,    5.74,2,    0.00,2,    0.54,2,   2.812,2,   1.462,2,-999.000,9,  -999.0,9,  -999.0,9,-999.0000,9,-999.0000,9, -999.00,9, -999.00,9,  -999.0,9,  -999.0,-999.000,9,-999.000,-999.000,9,-999.0000,  14.2768,-999.0000,-999.000
  316N145_8,        I03,     475,          1,         29,         29,2,19950504,       2132,   -20.0010,    92.8005,       4990,   357.7,  12.8499,  35.2479,2,  35.2401,2,    221.6,2,   226.7,2,    3.33,2,    7.70,2,    0.00,2,    0.66,2,   2.995,2,   1.532,2,-999.000,9,  -999.0,9,  -999.0,9,-999.0000,9,-999.0000,9, -999.00,9, -999.00,9,  -999.0,9,  -999.0,-999.000,9,-999.000,-999.000,9,-999.0000,  12.8006,-999.0000,-999.000
  316N145_8,        I03,     475,          1,         28,         28,2,19950504,       2132,   -20.0010,    92.8005,       4990,   407.2,  11.7190,  35.0680,2,  35.0732,2,    227.5,2,   230.5,2,    3.75,2,    9.86,2,    0.00,2,    0.78,2,   3.036,2,   1.543,2,-999.000,9,  -999.0,9,  -999.0,9,-999.0000,9,-999.0000,9, -999.00,9, -999.00,9,  -999.0,9,  -999.0,-999.000,9,-999.000,-999.000,9,-999.0000,  11.6662,-999.0000,-999.000
  316N145_8,        I03,     475,          1,         27,         27,2,19950504,       2132,   -20.0010,    92.8005,       4990,   507.7,   9.9901,  34.7988,2,  34.7877,2,    232.3,2,   231.8,2,    5.44,2,   14.63,2,    0.00,2,    1.06,2,   2.821,2,   1.403,2,-999.000,9,  -999.0,9,  -999.0,9,-999.0000,9,-999.0000,9, -999.00,9, -999.00,9,  -999.0,9,  -999.0,-999.000,9,-999.000,-999.000,9,-999.0000,   9.9304,-999.0000,-999.000
  316N145_8,        I03,     475,          1,         26,         26,2,19950504,       2132,   -20.0010,    92.8005,       4990,   608.7,   8.5634,  34.6258,2,  34.6205,2,    211.5,2,   213.7,2,   10.52,2,   19.98,2,    0.00,2,    1.39,2,   1.836,2,   0.914,2,-999.000,9,  -999.0,9,  -999.0,9,-999.0000,9,-999.0000,9, -999.00,9, -999.00,9,  -999.0,9,  -999.0,-999.000,9,-999.000,-999.000,9,-999.0000,   8.4980,-999.0000,-999.000
  316N145_8,        I03,     475,          1,         25,         25,2,19950504,       2132,   -20.0010,    92.8005,       4990,   708.4,   6.4511,  34.4917,2,  34.4917,2,    178.7,2,   177.9,2,   30.42,2,   28.02,2,    0.00,2,    1.93,2,   0.500,2,   0.255,2,-999.000,9,  -999.0,9,  -999.0,9,-999.0000,9,-999.0000,9, -999.00,9, -999.00,9,  -999.0,9,  -999.0,-999.000,9,-999.000,-999.000,9,-999.0000,   6.3857,-999.0000,-999.000
  316N145_8,        I03,     475,          1,         24,         24,2,19950504,       2132,   -20.0010,    92.8005,       4990,   808.5,   5.5295,  34.5514,2,  34.5504,2,    139.9,2,   131.0,2,   60.29,2,   33.34,2,    0.00,2,    2.35,2,   0.058,2,   0.037,2,-999.000,9,  -999.0,9,  -999.0,9,-999.0000,9,-999.0000,9, -999.00,9, -999.00,9,  -999.0,9,  -999.0,-999.000,9,-999.000,-999.000,9,-999.0000,   5.4599,-999.0000,-999.000
  316N145_8,        I03,     475,          1,         23,         23,2,19950504,       2132,   -20.0010,    92.8005,       4990,   908.9,   5.0913,  34.5961,2,  34.5966,2,    116.0,2,   115.1,2,   75.14,2,   34.99,2,    0.00,2,    2.50,2,   0.006,2,   0.005,2,-999.000,9,  -999.0,9,  -999.0,9,-999.0000,9,-999.0000,9, -999.00,9, -999.00,9,  -999.0,9,  -999.0,-999.000,9,-999.000,-999.000,9,-999.0000,   5.0154,-999.0000,-999.000
  316N145_8,        I03,     475,          1,         22,         22,2,19950504,       2132,   -20.0010,    92.8005,       4990,  1010.1,   4.8014,  34.6326,2,  34.6337,2,    107.7,2,   108.9,2,   84.07,2,   35.53,2,    0.01,2,    2.55,2,   0.002,2,   0.000,2,-999.000,9,  -999.0,9,  -999.0,9,-999.0000,9,-999.0000,9, -999.00,9, -999.00,9,  -999.0,9,  -999.0,-999.000,9,-999.000,-999.000,9,-999.0000,   4.7185,-999.0000,-999.000
  316N145_8,        I03,     475,          1,         21,         21,2,19950504,       2132,   -20.0010,    92.8005,       4990,  1110.8,   4.5300,  34.6519,2,  34.6527,2,    108.7,2,   109.0,2,   89.81,2,   35.73,2,    0.01,2,    2.57,2,-999.000,9,-999.000,9,-999.000,9,  -999.0,9,  -999.0,9,-999.0000,9,-999.0000,9, -999.00,9, -999.00,9,  -999.0,9,  -999.0,-999.000,9,-999.000,-999.000,9,-999.0000,   4.4403,-999.0000,-999.000
  316N145_8,        I03,     475,          1,         20,         20,2,19950504,       2132,   -20.0010,    92.8005,       4990,  1211.2,   4.1665,  34.6559,2,  34.6565,2,    113.4,2,   114.1,2,   93.00,2,   35.73,2,    0.01,2,    2.57,2,-999.000,9,-999.000,9,-999.000,9,  -999.0,9,  -999.0,9,-999.0000,9,-999.0000,9, -999.00,9, -999.00,9,  -999.0,9,  -999.0,-999.000,9,-999.000,-999.000,9,-999.0000,   4.0711,-999.0000,-999.000
  316N145_8,        I03,     475,          1,         19,         19,2,19950504,       2132,   -20.0010,    92.8005,       4990,  1412.9,   3.5285,  34.6776,2,  34.6787,2,    123.3,2,   126.2,2,   98.76,2,   35.43,2,    0.01,2,    2.53,2,-999.000,9,-999.000,9,-999.000,9,  -999.0,9,  -999.0,9,-999.0000,9,-999.0000,9, -999.00,9, -999.00,9,  -999.0,9,  -999.0,-999.000,9,-999.000,-999.000,9,-999.0000,   3.4220,-999.0000,-999.000
  316N145_8,        I03,     475,          1,         18,         18,2,19950504,       2132,   -20.0010,    92.8005,       4990,  1615.3,   3.0722,  34.6939,2,  34.6944,2,    136.5,2,   135.6,2,  103.91,2,   35.03,2,    0.01,2,    2.50,2,-999.000,9,-999.000,9,-999.000,9,  -999.0,9,  -999.0,9,-999.0000,9,-999.0000,9, -999.00,9, -999.00,9,  -999.0,9,  -999.0,-999.000,9,-999.000,-999.000,9,-999.0000,   2.9535,-999.0000,-999.000
  316N145_8,        I03,     475,          1,         17,         17,2,19950504,       2132,   -20.0010,    92.8005,       4990,  1817.7,   2.6508,  34.7141,2,  34.7132,2,    147.2,2,   145.4,2,  109.29,2,   34.48,2,    0.01,2,    2.45,2,   0.000,2,   0.002,2,-999.000,9,  -999.0,9,  -999.0,9,-999.0000,9,-999.0000,9, -999.00,9, -999.00,9,  -999.0,9,  -999.0,-999.000,9,-999.000,-999.000,9,-999.0000,   2.5202,-999.0000,-999.000
  316N145_8,        I03,     475,          1,         16,         16,2,19950504,       2132,   -20.0010,    92.8005,       4990,  2020.7,   2.3551,  34.7216,2,  34.7211,2,    154.6,2,   152.9,2,  113.38,2,   34.13,2,    0.00,2,    2.42,2,-999.000,9,-999.000,9,-999.000,9,  -999.0,9,  -999.0,9,-999.0000,9,-999.0000,9, -999.00,9, -999.00,9,  -999.0,9,  -999.0,-999.000,9,-999.000,-999.000,9,-999.0000,   2.2112,-999.0000,-999.000
  316N145_8,        I03,     475,          1,         15,         15,2,19950504,       2132,   -20.0010,    92.8005,       4990,  2223.5,   2.1222,  34.7257,2,  34.7250,2,    159.4,2,   160.8,2,  115.74,2,   33.73,2,    0.00,2,    2.38,2,-999.000,9,-999.000,9,-999.000,9,  -999.0,9,  -999.0,9,-999.0000,9,-999.0000,9, -999.00,9, -999.00,9,  -999.0,9,  -999.0,-999.000,9,-999.000,-999.000,9,-999.0000,   1.9642,-999.0000,-999.000
  316N145_8,        I03,     475,          1,         14,         14,2,19950504,       2132,   -20.0010,    92.8005,       4990,  2425.1,   1.9674,  34.7266,2,  34.7268,2,    166.6,2,   165.7,2,  118.33,2,   33.53,2,    0.00,2,    2.37,2,-999.000,9,-999.000,9,-999.000,9,  -999.0,9,  -999.0,9,-999.0000,9,-999.0000,9, -999.00,9, -999.00,9,  -999.0,9,  -999.0,-999.000,9,-999.000,-999.000,9,-999.0000,   1.7942,-999.0000,-999.000
  316N145_8,        I03,     475,          1,         13,         13,2,19950504,       2132,   -20.0010,    92.8005,       4990,  2629.7,   1.8314,  34.7263,2,  34.7270,2,    169.5,2,   169.0,2,  120.26,2,   33.43,2,    0.00,2,    2.35,2,-999.000,9,-999.000,9,-999.000,9,  -999.0,9,  -999.0,9,-999.0000,9,-999.0000,9, -999.00,9, -999.00,9,  -999.0,9,  -999.0,-999.000,9,-999.000,-999.000,9,-999.0000,   1.6422,-999.0000,-999.000
  316N145_8,        I03,     475,          1,         12,         12,2,19950504,       2132,   -20.0010,    92.8005,       4990,  2829.7,   1.6932,  34.7253,2,  34.7262,2,    173.2,2,   172.6,2,  122.86,2,   33.43,2,    0.00,2,    2.34,2,-999.000,9,-999.000,9,-999.000,9,  -999.0,9,  -999.0,9,-999.0000,9,-999.0000,9, -999.00,9, -999.00,9,  -999.0,9,  -999.0,-999.000,9,-999.000,-999.000,9,-999.0000,   1.4881,-999.0000,-999.000
  316N145_8,        I03,     475,          1,         11,         11,2,19950504,       2132,   -20.0010,    92.8005,       4990,  3032.0,   1.5964,  34.7241,2,  34.7242,2,    175.7,2,   175.0,2,  124.81,2,   33.33,2,    0.00,2,    2.33,2,  -0.005,2,   0.001,2,-999.000,9,  -999.0,9,  -999.0,9,-999.0000,9,-999.0000,9, -999.00,9, -999.00,9,  -999.0,9,  -999.0,-999.000,9,-999.000,-999.000,9,-999.0000,   1.3742,-999.0000,-999.000
  316N145_8,        I03,     475,          1,         10,         10,2,19950504,       2132,   -20.0010,    92.8005,       4990,  3237.3,   1.4969,  34.7219,2,  34.7223,2,    178.1,2,   178.1,2,  127.20,2,   33.23,2,    0.00,2,    2.33,2,-999.000,9,-999.000,9,-999.000,9,  -999.0,9,  -999.0,9,-999.0000,9,-999.0000,9, -999.00,9, -999.00,9,  -999.0,9,  -999.0,-999.000,9,-999.000,-999.000,9,-999.0000,   1.2570,-999.0000,-999.000
  316N145_8,        I03,     475,          1,          9,          9,2,19950504,       2132,   -20.0010,    92.8005,       4990,  3443.8,   1.4183,  34.7205,2,  34.7189,2,    180.1,2,   179.0,2,  128.26,2,   33.33,2,    0.00,2,    2.32,2,-999.000,9,-999.000,9,-999.000,9,  -999.0,9,  -999.0,9,-999.0000,9,-999.0000,9, -999.00,9, -999.00,9,  -999.0,9,  -999.0,-999.000,9,-999.000,-999.000,9,-999.0000,   1.1597,-999.0000,-999.000
  316N145_8,        I03,     475,          1,          8,          8,2,19950504,       2132,   -20.0010,    92.8005,       4990,  3647.0,   1.3335,  34.7189,2,  34.7188,2,    184.6,2,   185.3,2,  126.88,2,   32.98,2,    0.00,2,    2.30,2,  -0.001,2,  -0.001,2,-999.000,9,  -999.0,9,  -999.0,9,-999.0000,9,-999.0000,9, -999.00,9, -999.00,9,  -999.0,9,  -999.0,-999.000,9,-999.000,-999.000,9,-999.0000,   1.0563,-999.0000,-999.000
  316N145_8,        I03,     475,          1,          7,          7,2,19950504,       2132,   -20.0010,    92.8005,       4990,  3851.3,   1.2356,  34.7160,2,  34.7170,2,    190.4,2,   192.0,2,  125.06,2,   32.63,2,    0.00,2,    2.27,2,-999.000,9,-999.000,9,-999.000,9,  -999.0,9,  -999.0,9,-999.0000,9,-999.0000,9, -999.00,9, -999.00,9,  -999.0,9,  -999.0,-999.000,9,-999.000,-999.000,9,-999.0000,   0.9398,-999.0000,-999.000
  316N145_8,        I03,     475,          1,          6,          6,2,19950504,       2132,   -20.0010,    92.8005,       4990,  4055.9,   1.1605,  34.7147,2,  34.7150,2,    195.7,2,   197.1,2,  124.36,2,   32.43,2,    0.00,2,    2.25,2,  -0.005,2,   0.000,2,-999.000,9,  -999.0,9,  -999.0,9,-999.0000,9,-999.0000,9, -999.00,9, -999.00,9,  -999.0,9,  -999.0,-999.000,9,-999.000,-999.000,9,-999.0000,   0.8450,-999.0000,-999.000
  316N145_8,        I03,     475,          1,          5,          5,2,19950504,       2132,   -20.0010,    92.8005,       4990,  4260.4,   1.1209,  34.7135,2,  34.7129,2,    198.6,2,   199.3,2,  124.31,2,   32.23,2,    0.00,2,    2.25,2,  -0.002,2,   0.000,2,-999.000,9,  -999.0,9,  -999.0,9,-999.0000,9,-999.0000,9, -999.00,9, -999.00,9,  -999.0,9,  -999.0,-999.000,9,-999.000,-999.000,9,-999.0000,   0.7843,-999.0000,-999.000
  316N145_8,        I03,     475,          1,          4,          4,2,19950504,       2132,   -20.0010,    92.8005,       4990,  4464.3,   1.0980,  34.7123,2,  34.7123,2,    200.6,2,   201.1,2,  124.26,2,   32.23,2,    0.00,2,    2.24,2,  -0.001,2,   0.001,2,-999.000,9,  -999.0,9,  -999.0,9,-999.0000,9,-999.0000,9, -999.00,9, -999.00,9,  -999.0,9,  -999.0,-999.000,9,-999.000,-999.000,9,-999.0000,   0.7394,-999.0000,-999.000
  316N145_8,        I03,     475,          1,          3,          3,2,19950504,       2132,   -20.0010,    92.8005,       4990,  4668.1,   1.1002,  34.7117,2,  34.7113,2,    201.8,2,   201.7,2,  124.00,2,   32.23,2,    0.00,2,    2.23,2,  -0.004,2,   0.001,2,-999.000,9,  -999.0,9,  -999.0,9,-999.0000,9,-999.0000,9, -999.00,9, -999.00,9,  -999.0,9,  -999.0,-999.000,9,-999.000,-999.000,9,-999.0000,   0.7183,-999.0000,-999.000
  316N145_8,        I03,     475,          1,          2,          2,2,19950504,       2132,   -20.0010,    92.8005,       4990,  4874.3,   1.1094,  34.7111,2,  34.7113,2,    202.7,2,   202.2,2,  123.95,2,   32.18,2,    0.00,2,    2.23,2,   0.001,2,   0.001,2,-999.000,9,  -999.0,9,  -999.0,9,-999.0000,9,-999.0000,9, -999.00,9, -999.00,9,  -999.0,9,  -999.0,-999.000,9,-999.000,-999.000,9,-999.0000,   0.7032,-999.0000,-999.000
  316N145_8,        I03,     475,          1,          1,          1,2,19950504,       2132,   -20.0010,    92.8005,       4990,  5140.9,   1.1304,  34.7112,2,  34.7109,2,    204.0,2,   203.6,2,  123.69,2,   32.19,2,    0.00,2,    2.23,2,  -0.003,2,  -0.001,2,-999.000,9,  -999.0,9,  -999.0,9,-999.0000,9,-999.0000,9, -999.00,9, -999.00,9,  -999.0,9,  -999.0,-999.000,9,-999.000,-999.000,9,-999.0000,   0.6915,-999.0000,-999.000