BOTTLE,20140514CCHSIOSE
EXPOCODE,SECT_ID,STNNBR,CASTNO,SAMPNO,BTLNBR,BTLNBR_FLAG_W,DATE,TIME,LATITUDE,LONGITUDE,DEPTH,CTDPRS,CTDTMP,CTDSAL,CTDSAL_FLAG_W,SALNTY,SALNTY_FLAG_W,CTDOXY,CTDOXY_FLAG_W,OXYGEN,OXYGEN_FLAG_W,SILCAT,SILCAT_FLAG_W,NITRAT,NITRAT_FLAG_W,NITRIT,NITRIT_FLAG_W,PHSPHT,PHSPHT_FLAG_W,CFC-11,CFC-11_FLAG_W,CFC-12,CFC-12_FLAG_W,CFC113,CFC113_FLAG_W,TCARBN,TCARBN_FLAG_W,ALKALI,ALKALI_FLAG_W,TRITUM,TRITUM_FLAG_W,HELIUM,HELIUM_FLAG_W,DELHE3,DELHE3_FLAG_W,DELC13,DELC13_FLAG_W,DELC14,DELC14_FLAG_W,C14ERR,NEON,NEON_FLAG_W,NEONER,CCL4,CCL4_FLAG_W,HELIER,THETA,TRITER,DELHER
,,,,,,,,,,,METERS,DBAR,ITS-90,PSS-78,,PSS-78,,UMOL/KG,,UMOL/KG,,UMOL/KG,,UMOL/KG,,UMOL/KG,,UMOL/KG,,PMOL/KG,,PMOL/KG,,PMOL/KG,,UMOL/KG,,UMOL/KG,,TU,,NMOL/KG,,PERCNT,,/MILLE,,/MILLE,,/MILLE,NMOL/KG,,NMOL/KG,PMOL/KG,,NMOL/KG,DEG C,TU,PERCNT
  316N145_8,        I03,     474,          1,         36,         36,2,19950504,       1445,   -20.0007,    93.5327,       5250,    12.4,  25.3204,  35.2268,2,  35.2267,2,    207.6,2,   207.0,2,    3.56,2,    0.09,2,    0.00,2,    0.11,2,   1.876,2,   1.072,2,-999.000,9,  1965.9,6,  2308.0,6,-999.0000,9,-999.0000,9, -999.00,9, -999.00,9,  -999.0,9,  -999.0,-999.000,9,-999.000,-999.000,9,-999.0000,  25.3176,-999.0000,-999.000
  316N145_8,        I03,     474,          1,         35,         35,2,19950504,       1445,   -20.0007,    93.5327,       5250,    58.2,  24.2361,  35.4418,2,  35.4428,2,    218.8,2,   220.9,2,    3.54,2,    0.09,2,    0.00,2,    0.10,2,-999.000,9,-999.000,9,-999.000,9,  1982.7,2,  2322.0,2,-999.0000,9,-999.0000,9, -999.00,9, -999.00,9,  -999.0,9,  -999.0,-999.000,9,-999.000,-999.000,9,-999.0000,  24.2238,-999.0000,-999.000
  316N145_8,        I03,     474,          1,         34,         34,2,19950504,       1445,   -20.0007,    93.5327,       5250,   108.0,  20.9516,  35.6864,2,  35.6900,2,    214.2,2,   211.5,2,    3.96,2,    0.20,2,    0.09,2,    0.14,2,   2.276,2,   1.262,2,-999.000,9,  2024.0,2,  2339.0,2,-999.0000,9,-999.0000,9, -999.00,9, -999.00,9,  -999.0,9,  -999.0,-999.000,9,-999.000,-999.000,9,-999.0000,  20.9309,-999.0000,-999.000
  316N145_8,        I03,     474,          1,         33,         33,2,19950504,       1445,   -20.0007,    93.5327,       5250,   158.5,  20.0500,  35.7676,2,  35.7657,2,    195.5,2,   198.0,2,    4.38,2,    1.86,2,    0.02,2,    0.26,2,   2.297,2,   1.274,2,-999.000,9,  2048.5,2,  2342.0,2,-999.0000,9,-999.0000,9, -999.00,9, -999.00,9,  -999.0,9,  -999.0,-999.000,9,-999.000,-999.000,9,-999.0000,  20.0205,-999.0000,-999.000
  316N145_8,        I03,     474,          1,         32,         32,2,19950504,       1445,   -20.0007,    93.5327,       5250,   208.0,  18.6434,  35.7861,2,  35.7911,2,    197.1,2,   195.1,2,    5.01,2,    2.92,2,    0.01,2,    0.34,2,   2.344,2,   1.275,2,-999.000,9,  2067.7,2,  2348.0,2,-999.0000,9,-999.0000,9, -999.00,9, -999.00,9,  -999.0,9,  -999.0,-999.000,9,-999.000,-999.000,9,-999.0000,  18.6066,-999.0000,-999.000
  316N145_8,        I03,     474,          1,         31,         31,2,19950504,       1445,   -20.0007,    93.5327,       5250,   258.5,  17.2730,  35.7810,2,  35.7775,2,    207.8,2,   206.8,2,    3.69,2,    2.43,2,    0.01,2,    0.33,2,   2.537,2,   1.350,2,-999.000,9,  2078.2,2,  2347.0,2,-999.0000,9,-999.0000,9, -999.00,9, -999.00,9,  -999.0,9,  -999.0,-999.000,9,-999.000,-999.000,9,-999.0000,  17.2296,-999.0000,-999.000
  316N145_8,        I03,     474,          1,         30,         30,2,19950504,       1445,   -20.0007,    93.5327,       5250,   308.5,  14.9637,  35.5392,2,  35.5142,2,    212.7,2,   213.5,2,    4.11,2,    5.27,2,    0.01,2,    0.51,2,   2.762,2,   1.442,2,-999.000,9,  2092.4,2,  2337.0,2,-999.0000,9,-999.0000,9, -999.00,9, -999.00,9,  -999.0,9,  -999.0,-999.000,9,-999.000,-999.000,9,-999.0000,  14.9167,-999.0000,-999.000
  316N145_8,        I03,     474,          1,         29,         29,2,19950504,       1445,   -20.0007,    93.5327,       5250,   358.2,  13.4387,  35.3303,2,  35.3211,2,    220.6,2,   221.3,2,    4.10,2,    7.17,2,    0.01,2,    0.62,2,   2.907,2,   1.493,2,-999.000,9,  2096.9,2,  2326.0,2,-999.0000,9,-999.0000,9, -999.00,9, -999.00,9,  -999.0,9,  -999.0,-999.000,9,-999.000,-999.000,9,-999.0000,  13.3878,-999.0000,-999.000
  316N145_8,        I03,     474,          1,         28,         28,2,19950504,       1445,   -20.0007,    93.5327,       5250,   408.1,  11.9913,  35.1085,2,  35.1065,2,    229.1,2,   230.4,2,    4.30,2,    9.52,2,    0.00,2,    0.76,2,   3.003,2,   1.527,2,-999.000,9,  2100.6,2,  2316.0,2,-999.0000,9,-999.0000,9, -999.00,9, -999.00,9,  -999.0,9,  -999.0,-999.000,9,-999.000,-999.000,9,-999.0000,  11.9376,-999.0000,-999.000
  316N145_8,        I03,     474,          1,         27,         27,2,19950504,       1445,   -20.0007,    93.5327,       5250,   508.4,   9.9079,  34.7850,2,  34.7873,2,    226.3,2,   230.4,2,    6.23,2,   14.86,2,    0.00,2,    1.07,2,   2.738,2,   1.366,2,-999.000,9,  2113.8,2,  2298.0,2,-999.0000,9,-999.0000,9, -999.00,9, -999.00,9,  -999.0,9,  -999.0,-999.000,9,-999.000,-999.000,9,-999.0000,   9.8485,-999.0000,-999.000
  316N145_8,        I03,     474,          1,         26,         26,2,19950504,       1445,   -20.0007,    93.5327,       5250,   607.7,   8.3459,  34.5963,2,  34.5928,2,    215.2,2,   213.5,2,   11.42,2,   20.87,2,    0.00,2,    1.44,2,   1.718,2,   0.855,2,-999.000,9,  2134.1,2,  2280.8,3,-999.0000,9,-999.0000,9, -999.00,9, -999.00,9,  -999.0,9,  -999.0,-999.000,9,-999.000,-999.000,9,-999.0000,   8.2816,-999.0000,-999.000
  316N145_8,        I03,     474,          1,         25,         25,2,19950504,       1445,   -20.0007,    93.5327,       5250,   708.7,   6.3884,  34.4859,2,  34.4860,2,    182.6,2,   178.8,2,   30.71,2,   28.16,2,    0.00,2,    1.94,2,   0.475,2,   0.246,2,-999.000,9,  2182.1,2,  2303.0,2,-999.0000,9,-999.0000,9, -999.00,9, -999.00,9,  -999.0,9,  -999.0,-999.000,9,-999.000,-999.000,9,-999.0000,   6.3234,-999.0000,-999.000
  316N145_8,        I03,     474,          1,         24,         24,2,19950504,       1445,   -20.0007,    93.5327,       5250,   809.6,   5.4811,  34.5572,2,  34.5568,2,    130.5,2,   129.0,2,   62.17,2,   33.57,2,    0.00,2,    2.37,2,   0.047,2,   0.030,2,-999.000,9,  2241.8,2,  2337.0,2,-999.0000,9,-999.0000,9, -999.00,9, -999.00,9,  -999.0,9,  -999.0,-999.000,9,-999.000,-999.000,9,-999.0000,   5.4117,-999.0000,-999.000
  316N145_8,        I03,     474,          1,         23,         23,2,19950504,       1445,   -20.0007,    93.5327,       5250,   910.5,   5.1082,  34.6154,2,  34.6174,2,    106.5,2,   107.6,2,   79.79,2,   35.40,2,    0.00,2,    2.54,2,   0.014,2,   0.007,2,-999.000,9,  2270.1,2,  2356.0,2,-999.0000,9,-999.0000,9, -999.00,9, -999.00,9,  -999.0,9,  -999.0,-999.000,9,-999.000,-999.000,9,-999.0000,   5.0320,-999.0000,-999.000
  316N145_8,        I03,     474,          1,         22,         22,2,19950504,       1445,   -20.0007,    93.5327,       5250,  1011.9,   4.8365,  34.6504,2,  34.6505,2,    100.4,2,   103.2,2,   87.63,2,   35.81,2,    0.00,2,    2.58,2,   0.002,2,   0.002,2,-999.000,9,  2281.1,2,  2361.0,2,-999.0000,9,-999.0000,9, -999.00,9, -999.00,9,  -999.0,9,  -999.0,-999.000,9,-999.000,-999.000,9,-999.0000,   4.7531,-999.0000,-999.000
  316N145_8,        I03,     474,          1,         21,         21,2,19950504,       1445,   -20.0007,    93.5327,       5250,  1111.9,   4.5415,  34.6611,2,  34.6631,2,    104.3,2,   104.6,2,   92.87,2,   36.02,2,    0.00,2,    2.60,2,-999.000,9,-999.000,9,-999.000,9,  2287.3,2,  2367.0,2,-999.0000,9,-999.0000,9, -999.00,9, -999.00,9,  -999.0,9,  -999.0,-999.000,9,-999.000,-999.000,9,-999.0000,   4.4516,-999.0000,-999.000
  316N145_8,        I03,     474,          1,         20,         20,2,19950504,       1445,   -20.0007,    93.5327,       5250,  1213.2,   4.2387,  34.6672,2,  34.6684,2,    108.3,2,   108.7,2,   96.36,2,   35.87,2,    0.00,2,    2.59,2,  -0.001,2,  -0.002,2,-999.000,9,  2289.6,2,  2367.0,2,-999.0000,9,-999.0000,9, -999.00,9, -999.00,9,  -999.0,9,  -999.0,-999.000,9,-999.000,-999.000,9,-999.0000,   4.1425,-999.0000,-999.000
  316N145_8,        I03,     474,          1,         19,         19,2,19950504,       1445,   -20.0007,    93.5327,       5250,  1414.2,   3.5852,  34.6797,2,  34.6799,2,    123.2,2,   123.6,2,   99.19,2,   35.41,2,    0.00,2,    2.54,2,-999.000,9,-999.000,9,-999.000,9,  2287.7,2,  2373.0,2,-999.0000,9,-999.0000,9, -999.00,9, -999.00,9,  -999.0,9,  -999.0,-999.000,9,-999.000,-999.000,9,-999.0000,   3.4779,-999.0000,-999.000
  316N145_8,        I03,     474,          1,         18,         18,2,19950504,       1445,   -20.0007,    93.5327,       5250,  1615.2,   3.0293,  34.6997,2,  34.7013,2,    136.6,2,   136.6,2,  104.24,2,   34.85,2,    0.00,2,    2.49,2,   0.000,2,   0.003,2,-999.000,9,  2287.6,2,  2382.0,2,-999.0000,9,-999.0000,9, -999.00,9, -999.00,9,  -999.0,9,  -999.0,-999.000,9,-999.000,-999.000,9,-999.0000,   2.9110,-999.0000,-999.000
  316N145_8,        I03,     474,          1,         17,         17,2,19950504,       1445,   -20.0007,    93.5327,       5250,  1817.6,   2.6285,  34.7167,2,  34.7162,2,    147.4,2,   145.9,2,  109.98,2,   34.44,2,    0.00,2,    2.45,2,-999.000,9,-999.000,9,-999.000,9,  2289.2,2,  2383.0,2,-999.0000,9,-999.0000,9, -999.00,9, -999.00,9,  -999.0,9,  -999.0,-999.000,9,-999.000,-999.000,9,-999.0000,   2.4982,-999.0000,-999.000
  316N145_8,        I03,     474,          1,         16,         16,2,19950504,       1445,   -20.0007,    93.5327,       5250,  2021.0,   2.3436,  34.7218,2,  34.7229,2,    152.9,2,   153.9,2,  113.29,2,   34.09,2,    0.00,2,    2.41,2,-999.000,9,-999.000,9,-999.000,9,  2289.5,2,  2390.0,2,-999.0000,9,-999.0000,9, -999.00,9, -999.00,9,  -999.0,9,  -999.0,-999.000,9,-999.000,-999.000,9,-999.0000,   2.1998,-999.0000,-999.000
  316N145_8,        I03,     474,          1,         15,         15,2,19950504,       1445,   -20.0007,    93.5327,       5250,  2223.7,   2.1080,  34.7253,2,  34.7249,2,    159.5,2,   160.5,2,  116.16,2,   33.73,2,    0.00,2,    2.38,2,-999.000,9,-999.000,9,-999.000,9,  2288.8,2,  2390.0,2,-999.0000,9,-999.0000,9, -999.00,9, -999.00,9,  -999.0,9,  -999.0,-999.000,9,-999.000,-999.000,9,-999.0000,   1.9503,-999.0000,-999.000
  316N145_8,        I03,     474,          1,         14,         14,2,19950504,       1445,   -20.0007,    93.5327,       5250,  2426.5,   1.9402,  34.7266,2,  34.7272,2,    166.1,2,   165.7,2,  118.37,2,   33.48,2,    0.00,2,    2.36,2,   0.000,2,  -0.002,2,-999.000,9,  2288.0,2,  2395.0,2,-999.0000,9,-999.0000,9, -999.00,9, -999.00,9,  -999.0,9,  -999.0,-999.000,9,-999.000,-999.000,9,-999.0000,   1.7673,-999.0000,-999.000
  316N145_8,        I03,     474,          1,         13,         13,2,19950504,       1445,   -20.0007,    93.5327,       5250,  2629.2,   1.8162,  34.7267,2,  34.7270,2,    169.8,2,   169.0,2,  120.36,2,   33.38,2,    0.00,2,    2.35,2,-999.000,9,-999.000,9,-999.000,9,  2287.8,2,  2393.0,2,-999.0000,9,-999.0000,9, -999.00,9, -999.00,9,  -999.0,9,  -999.0,-999.000,9,-999.000,-999.000,9,-999.0000,   1.6273,-999.0000,-999.000
  316N145_8,        I03,     474,          1,         12,         12,2,19950504,       1445,   -20.0007,    93.5327,       5250,  2829.8,   1.7175,  34.7260,2,  34.7270,2,    172.7,2,   171.8,2,  122.12,2,   33.38,2,    0.00,2,    2.34,2,-999.000,9,-999.000,9,-999.000,9,  2289.1,2,  2399.0,2,-999.0000,9,-999.0000,9, -999.00,9, -999.00,9,  -999.0,9,  -999.0,-999.000,9,-999.000,-999.000,9,-999.0000,   1.5119,-999.0000,-999.000
  316N145_8,        I03,     474,          1,         11,         11,2,19950504,       1445,   -20.0007,    93.5327,       5250,  3030.7,   1.6009,  34.7246,2,  34.7251,2,    175.6,2,   174.8,2,  125.02,2,   33.33,2,    0.00,2,    2.34,2,-999.000,9,-999.000,9,-999.000,9,  2292.1,6,  2399.0,6,-999.0000,9,-999.0000,9, -999.00,9, -999.00,9,  -999.0,9,  -999.0,-999.000,9,-999.000,-999.000,9,-999.0000,   1.3787,-999.0000,-999.000
  316N145_8,        I03,     474,          1,         10,         10,2,19950504,       1445,   -20.0007,    93.5327,       5250,  3234.7,   1.5008,  34.7229,2,  34.7241,2,    178.7,2,   178.0,2,  126.35,2,   33.23,2,    0.00,2,    2.33,2,   0.001,2,   0.002,2,-999.000,9,  2290.3,2,  2400.0,2,-999.0000,9,-999.0000,9, -999.00,9, -999.00,9,  -999.0,9,  -999.0,-999.000,9,-999.000,-999.000,9,-999.0000,   1.2610,-999.0000,-999.000
  316N145_8,        I03,     474,          1,          9,          9,2,19950504,       1445,   -20.0007,    93.5327,       5250,  3440.8,   1.4075,  34.7203,2,  34.7200,2,    181.6,2,   181.6,2,  127.22,2,   33.13,2,    0.00,2,    2.31,2,-999.000,9,-999.000,9,-999.000,9,  2288.1,2,  2397.0,2,-999.0000,9,-999.0000,9, -999.00,9, -999.00,9,  -999.0,9,  -999.0,-999.000,9,-999.000,-999.000,9,-999.0000,   1.1495,-999.0000,-999.000
  316N145_8,        I03,     474,          1,          8,          8,2,19950504,       1445,   -20.0007,    93.5327,       5250,  3646.4,   1.3268,  34.7188,2,  34.7186,2,    187.3,2,   186.7,2,  126.73,2,   32.98,2,    0.00,2,    2.30,2,   0.001,2,   0.001,2,-999.000,9,  2284.6,2,  2398.0,2,-999.0000,9,-999.0000,9, -999.00,9, -999.00,9,  -999.0,9,  -999.0,-999.000,9,-999.000,-999.000,9,-999.0000,   1.0499,-999.0000,-999.000
  316N145_8,        I03,     474,          1,          7,          7,2,19950504,       1445,   -20.0007,    93.5327,       5250,  3850.0,   1.2415,  34.7169,2,  34.7170,2,    191.9,2,   191.5,2,  125.34,2,   32.68,2,    0.00,2,    2.28,2,-999.000,9,-999.000,9,-999.000,9,  2280.1,2,  2391.0,2,-999.0000,9,-999.0000,9, -999.00,9, -999.00,9,  -999.0,9,  -999.0,-999.000,9,-999.000,-999.000,9,-999.0000,   0.9457,-999.0000,-999.000
  316N145_8,        I03,     474,          1,          6,          6,2,19950504,       1445,   -20.0007,    93.5327,       5250,  4056.1,   1.1556,  34.7148,2,  34.7157,2,    197.0,2,   198.0,2,  123.76,2,   32.39,2,    0.00,2,    2.25,2,  -0.002,2,   0.001,2,-999.000,9,  2274.3,2,  2386.0,2,-999.0000,9,-999.0000,9, -999.00,9, -999.00,9,  -999.0,9,  -999.0,-999.000,9,-999.000,-999.000,9,-999.0000,   0.8402,-999.0000,-999.000
  316N145_8,        I03,     474,          1,          5,          5,2,19950504,       1445,   -20.0007,    93.5327,       5250,  4311.4,   1.0912,  34.7132,2,  34.7137,2,    201.2,2,   201.7,2,  123.27,2,   32.24,2,    0.00,2,    2.24,2,  -0.003,2,  -0.001,2,-999.000,9,  2271.0,2,  2383.0,2,-999.0000,9,-999.0000,9, -999.00,9, -999.00,9,  -999.0,9,  -999.0,-999.000,9,-999.000,-999.000,9,-999.0000,   0.7499,-999.0000,-999.000
  316N145_8,        I03,     474,          1,          4,          4,2,19950504,       1445,   -20.0007,    93.5327,       5250,  4567.1,   1.0684,  34.7118,2,  34.7119,2,    203.1,2,   203.7,2,  123.46,2,   32.19,2,    0.00,2,    2.23,2,   0.004,2,  -0.001,2,-999.000,9,  2269.2,2,  2387.0,2,-999.0000,9,-999.0000,9, -999.00,9, -999.00,9,  -999.0,9,  -999.0,-999.000,9,-999.000,-999.000,9,-999.0000,   0.6991,-999.0000,-999.000
  316N145_8,        I03,     474,          1,          3,          3,2,19950504,       1445,   -20.0007,    93.5327,       5250,  4823.9,   1.0812,  34.7111,2,  34.7106,2,    203.8,2,   204.1,2,  123.43,2,   32.24,2,    0.00,2,    2.23,2,-999.000,9,-999.000,9,-999.000,9,  2269.5,2,  2381.0,2,-999.0000,9,-999.0000,9, -999.00,9, -999.00,9,  -999.0,9,  -999.0,-999.000,9,-999.000,-999.000,9,-999.0000,   0.6818,-999.0000,-999.000
  316N145_8,        I03,     474,          1,          2,          2,2,19950504,       1445,   -20.0007,    93.5327,       5250,  5080.0,   1.1049,  34.7109,2,  34.7109,2,    203.4,2,   204.3,2,  123.82,2,   32.18,2,    0.00,2,    2.23,2,   0.003,2,   0.006,2,-999.000,9,  2269.3,2,  2383.0,2,-999.0000,9,-999.0000,9, -999.00,9, -999.00,9,  -999.0,9,  -999.0,-999.000,9,-999.000,-999.000,9,-999.0000,   0.6743,-999.0000,-999.000
  316N145_8,        I03,     474,          1,          1,          1,2,19950504,       1445,   -20.0007,    93.5327,       5250,  5388.0,   1.1428,  34.7107,2,  34.7109,2,    205.2,2,   204.2,2,  123.79,2,   32.18,2,    0.00,2,    2.23,2,   0.006,2,   0.003,2,-999.000,9,  2269.9,2,  2380.0,2,-999.0000,9,-999.0000,9, -999.00,9, -999.00,9,  -999.0,9,  -999.0,-999.000,9,-999.000,-999.000,9,-999.0000,   0.6731,-999.0000,-999.000