BOTTLE,20140514CCHSIOSE
EXPOCODE,SECT_ID,STNNBR,CASTNO,SAMPNO,BTLNBR,BTLNBR_FLAG_W,DATE,TIME,LATITUDE,LONGITUDE,DEPTH,CTDPRS,CTDTMP,CTDSAL,CTDSAL_FLAG_W,SALNTY,SALNTY_FLAG_W,CTDOXY,CTDOXY_FLAG_W,OXYGEN,OXYGEN_FLAG_W,SILCAT,SILCAT_FLAG_W,NITRAT,NITRAT_FLAG_W,NITRIT,NITRIT_FLAG_W,PHSPHT,PHSPHT_FLAG_W,CFC-11,CFC-11_FLAG_W,CFC-12,CFC-12_FLAG_W,CFC113,CFC113_FLAG_W,TCARBN,TCARBN_FLAG_W,ALKALI,ALKALI_FLAG_W,TRITUM,TRITUM_FLAG_W,HELIUM,HELIUM_FLAG_W,DELHE3,DELHE3_FLAG_W,DELC13,DELC13_FLAG_W,DELC14,DELC14_FLAG_W,C14ERR,NEON,NEON_FLAG_W,NEONER,CCL4,CCL4_FLAG_W,HELIER,THETA,TRITER,DELHER
,,,,,,,,,,,METERS,DBAR,ITS-90,PSS-78,,PSS-78,,UMOL/KG,,UMOL/KG,,UMOL/KG,,UMOL/KG,,UMOL/KG,,UMOL/KG,,PMOL/KG,,PMOL/KG,,PMOL/KG,,UMOL/KG,,UMOL/KG,,TU,,NMOL/KG,,PERCNT,,/MILLE,,/MILLE,,/MILLE,NMOL/KG,,NMOL/KG,PMOL/KG,,NMOL/KG,DEG C,TU,PERCNT
  316N145_8,        I03,     520,          1,         28,         28,2,19950520,       0000,   -19.9998,    67.6495,       2850,     5.2,  24.8916,  34.9492,2,  34.9517,2,    205.3,2,   208.6,2,    3.01,2,    0.01,2,    0.00,2,    0.11,2,   1.887,2,   1.073,2,-999.000,9,  1947.0,2,  2290.8,6,-999.0000,9,-999.0000,9, -999.00,9, -999.00,9,  -999.0,9,  -999.0,-999.000,9,-999.000,-999.000,9,-999.0000,  24.8905,-999.0000,-999.000
  316N145_8,        I03,     520,          1,         27,         27,2,19950520,       0000,   -19.9998,    67.6495,       2850,    54.7,  24.9370,  34.9910,2,  34.9896,2,    209.5,2,   208.3,2,    3.00,2,    0.01,2,    0.00,2,    0.11,2,   1.880,2,   1.085,2,-999.000,9,  -999.0,9,  -999.0,9,-999.0000,9,-999.0000,9, -999.00,9, -999.00,9,  -999.0,9,  -999.0,-999.000,9,-999.000,-999.000,9,-999.0000,  24.9252,-999.0000,-999.000
  316N145_8,        I03,     520,          1,         26,         26,2,19950520,       0000,   -19.9998,    67.6495,       2850,   105.0,  21.8691,  35.4664,2,  35.4825,2,    218.2,2,   212.9,2,    3.19,2,    0.08,2,    0.03,2,    0.15,2,   2.202,2,   1.221,2,-999.000,9,  -999.0,9,  -999.0,9,-999.0000,9,-999.0000,9, -999.00,9, -999.00,9,  -999.0,9,  -999.0,-999.000,9,-999.000,-999.000,9,-999.0000,  21.8484,-999.0000,-999.000
  316N145_8,        I03,     520,          1,         25,         25,2,19950520,       0000,   -19.9998,    67.6495,       2850,   154.1,  20.6711,  35.6373,2,  35.6370,2,    205.8,2,   204.6,2,    3.17,2,    0.55,2,    0.26,2,    0.20,2,   2.246,2,   1.245,2,-999.000,9,  -999.0,9,  -999.0,9,-999.0000,9,-999.0000,9, -999.00,9, -999.00,9,  -999.0,9,  -999.0,-999.000,9,-999.000,-999.000,9,-999.0000,  20.6419,-999.0000,-999.000
  316N145_8,        I03,     520,          1,         24,         24,2,19950520,       0000,   -19.9998,    67.6495,       2850,   204.0,  19.2460,  35.7461,2,  35.7381,2,    200.6,2,   199.8,2,    3.37,2,    1.74,2,    0.01,2,    0.27,2,   2.330,2,   1.267,2,-999.000,9,  -999.0,9,  -999.0,9,-999.0000,9,-999.0000,9, -999.00,9, -999.00,9,  -999.0,9,  -999.0,-999.000,9,-999.000,-999.000,9,-999.0000,  19.2091,-999.0000,-999.000
  316N145_8,        I03,     520,          1,         23,         23,2,19950520,       0000,   -19.9998,    67.6495,       2850,   256.2,  18.1538,  35.7683,2,  35.7686,2,    202.7,2,   202.8,2,    3.35,2,    2.12,2,    0.01,2,    0.31,2,   2.414,2,   1.301,2,-999.000,9,  -999.0,9,  -999.0,9,-999.0000,9,-999.0000,9, -999.00,9, -999.00,9,  -999.0,9,  -999.0,-999.000,9,-999.000,-999.000,9,-999.0000,  18.1093,-999.0000,-999.000
  316N145_8,        I03,     520,          1,         22,         22,2,19950520,       0000,   -19.9998,    67.6495,       2850,   306.6,  16.0038,  35.6128,2,  35.6236,2,    211.2,2,   209.3,2,    3.33,2,    3.63,2,    0.00,2,    0.42,2,   2.588,2,   1.363,2,-999.000,9,  -999.0,9,  -999.0,9,-999.0000,9,-999.0000,9, -999.00,9, -999.00,9,  -999.0,9,  -999.0,-999.000,9,-999.000,-999.000,9,-999.0000,  15.9549,-999.0000,-999.000
  316N145_8,        I03,     520,          1,         21,         21,2,19950520,       0000,   -19.9998,    67.6495,       2850,   355.9,  14.4174,  35.4340,2,  35.4408,2,    216.2,2,   217.2,2,    3.32,2,    5.51,2,    0.00,2,    0.53,2,   2.734,2,   1.419,2,-999.000,9,  -999.0,9,  -999.0,9,-999.0000,9,-999.0000,9, -999.00,9, -999.00,9,  -999.0,9,  -999.0,-999.000,9,-999.000,-999.000,9,-999.0000,  14.3645,-999.0000,-999.000
  316N145_8,        I03,     520,          1,         20,         20,2,19950520,       0000,   -19.9998,    67.6495,       2850,   405.3,  13.1784,  35.2707,2,  35.2707,2,    222.6,2,   223.3,2,    3.51,2,    7.58,2,    0.00,2,    0.65,2,   2.803,2,   1.448,2,-999.000,9,  -999.0,9,  -999.0,9,-999.0000,9,-999.0000,9, -999.00,9, -999.00,9,  -999.0,9,  -999.0,-999.000,9,-999.000,-999.000,9,-999.0000,  13.1215,-999.0000,-999.000
  316N145_8,        I03,     520,          1,         19,         19,2,19950520,       0000,   -19.9998,    67.6495,       2850,   456.0,  12.0521,  35.1000,2,  35.1010,2,    225.0,2,   229.7,2,    3.91,2,    9.74,2,    0.00,2,    0.77,2,   2.842,2,   1.443,2,-999.000,9,  -999.0,9,  -999.0,9,-999.0000,9,-999.0000,9, -999.00,9, -999.00,9,  -999.0,9,  -999.0,-999.000,9,-999.000,-999.000,9,-999.0000,  11.9918,-999.0000,-999.000
  316N145_8,        I03,     520,          1,         18,         18,2,19950520,       0000,   -19.9998,    67.6495,       2850,   506.0,  11.0919,  34.9541,2,  34.9605,2,    229.7,2,   232.6,2,    4.32,2,   11.67,2,    0.00,2,    0.88,2,   2.773,2,   1.402,2,-999.000,9,  -999.0,9,  -999.0,9,-999.0000,9,-999.0000,9, -999.00,9, -999.00,9,  -999.0,9,  -999.0,-999.000,9,-999.000,-999.000,9,-999.0000,  11.0284,-999.0000,-999.000
  316N145_8,        I03,     520,          1,         17,         17,2,19950520,       0000,   -19.9998,    67.6495,       2850,   606.9,   9.9589,  34.7862,2,  34.7810,2,    228.0,2,   230.9,2,    5.34,2,   14.83,2,    0.00,2,    1.08,2,   2.502,2,   1.250,2,-999.000,9,  -999.0,9,  -999.0,9,-999.0000,9,-999.0000,9, -999.00,9, -999.00,9,  -999.0,9,  -999.0,-999.000,9,-999.000,-999.000,9,-999.0000,   9.8874,-999.0000,-999.000
  316N145_8,        I03,     520,          1,         16,         16,2,19950520,       0000,   -19.9998,    67.6495,       2850,   706.3,   8.5264,  34.6117,2,  34.6203,2,    215.3,2,   216.2,2,    9.70,2,   19.82,2,    0.00,2,    1.37,2,   1.603,2,   0.801,2,-999.000,9,  -999.0,9,  -999.0,9,-999.0000,9,-999.0000,9, -999.00,9, -999.00,9,  -999.0,9,  -999.0,-999.000,9,-999.000,-999.000,9,-999.0000,   8.4503,-999.0000,-999.000
  316N145_8,        I03,     520,          1,         15,         15,2,19950520,       0000,   -19.9998,    67.6495,       2850,   807.9,   7.0111,  34.5133,2,  34.5132,2,    190.6,2,   191.3,2,   22.19,2,   25.73,2,    0.00,2,    1.78,2,   0.630,2,   0.325,2,-999.000,9,  -999.0,9,  -999.0,9,-999.0000,9,-999.0000,9, -999.00,9, -999.00,9,  -999.0,9,  -999.0,-999.000,9,-999.000,-999.000,9,-999.0000,   6.9326,-999.0000,-999.000
  316N145_8,        I03,     520,          1,         14,         14,2,19950520,       0000,   -19.9998,    67.6495,       2850,   908.4,   5.4457,  34.4843,2,  34.4850,2,    156.3,2,   161.5,2,   45.72,2,   31.26,2,    0.00,2,    2.19,2,   0.155,2,   0.085,2,-999.000,9,  -999.0,9,  -999.0,9,-999.0000,9,-999.0000,9, -999.00,9, -999.00,9,  -999.0,9,  -999.0,-999.000,9,-999.000,-999.000,9,-999.0000,   5.3676,-999.0000,-999.000
  316N145_8,        I03,     520,          1,         13,         13,2,19950520,       0000,   -19.9998,    67.6495,       2850,  1008.7,   4.8046,  34.5418,2,  34.5415,2,    133.6,2,   136.9,2,   65.95,2,   34.00,2,    0.00,2,    2.42,2,   0.034,2,   0.020,2,-999.000,9,  -999.0,9,  -999.0,9,-999.0000,9,-999.0000,9, -999.00,9, -999.00,9,  -999.0,9,  -999.0,-999.000,9,-999.000,-999.000,9,-999.0000,   4.7220,-999.0000,-999.000
  316N145_8,        I03,     520,          1,         12,         12,2,19950520,       0000,   -19.9998,    67.6495,       2850,  1109.6,   4.4533,  34.5897,2,  34.5930,2,    128.1,2,   129.3,2,   76.81,2,   34.82,2,    0.00,2,    2.49,2,   0.018,2,   0.009,2,-999.000,9,  -999.0,9,  -999.0,9,-999.0000,9,-999.0000,9, -999.00,9, -999.00,9,  -999.0,9,  -999.0,-999.000,9,-999.000,-999.000,9,-999.0000,   4.3644,-999.0000,-999.000
  316N145_8,        I03,     520,          1,         11,         11,2,19950520,       0000,   -19.9998,    67.6495,       2850,  1210.3,   4.1835,  34.6294,2,  34.6305,2,    124.5,2,   124.3,2,   84.76,2,   35.20,2,    0.00,2,    2.53,2,   0.005,2,   0.006,2,-999.000,9,  -999.0,9,  -999.0,9,-999.0000,9,-999.0000,9, -999.00,9, -999.00,9,  -999.0,9,  -999.0,-999.000,9,-999.000,-999.000,9,-999.0000,   4.0881,-999.0000,-999.000
  316N145_8,        I03,     520,          1,         10,         10,2,19950520,       0000,   -19.9998,    67.6495,       2850,  1311.2,   3.8871,  34.6517,2,  34.6527,2,    126.9,2,   127.2,2,   89.37,2,   35.06,2,    0.00,2,    2.52,2,   0.002,2,   0.002,2,-999.000,9,  -999.0,9,  -999.0,9,-999.0000,9,-999.0000,9, -999.00,9, -999.00,9,  -999.0,9,  -999.0,-999.000,9,-999.000,-999.000,9,-999.0000,   3.7857,-999.0000,-999.000
  316N145_8,        I03,     520,          1,          9,          9,2,19950520,       0000,   -19.9998,    67.6495,       2850,  1412.2,   3.6405,  34.6655,2,  34.6656,2,    130.3,2,   131.2,2,   92.09,2,   34.82,2,    0.00,2,    2.51,2,   0.003,2,   0.002,2,-999.000,9,  -999.0,9,  -999.0,9,-999.0000,9,-999.0000,9, -999.00,9, -999.00,9,  -999.0,9,  -999.0,-999.000,9,-999.000,-999.000,9,-999.0000,   3.5328,-999.0000,-999.000
  316N145_8,        I03,     520,          1,          8,          8,2,19950520,       0000,   -19.9998,    67.6495,       2850,  1515.0,   3.3521,  34.6804,2,  34.6786,2,    136.4,2,   137.1,2,   94.81,2,   34.67,2,    0.00,2,    2.48,2,   0.002,2,  -0.001,2,-999.000,9,  -999.0,9,  -999.0,9,-999.0000,9,-999.0000,9, -999.00,9, -999.00,9,  -999.0,9,  -999.0,-999.000,9,-999.000,-999.000,9,-999.0000,   3.2387,-999.0000,-999.000
  316N145_8,        I03,     520,          1,          7,          7,2,19950520,       0000,   -19.9998,    67.6495,       2850,  1715.1,   2.7491,  34.6895,2,  34.6896,2,    155.1,2,   155.4,2,   96.68,2,   33.71,2,    0.00,2,    2.38,2,-999.000,9,-999.000,9,-999.000,9,  -999.0,9,  -999.0,9,-999.0000,9,-999.0000,9, -999.00,9, -999.00,9,  -999.0,9,  -999.0,-999.000,9,-999.000,-999.000,9,-999.0000,   2.6259,-999.0000,-999.000
  316N145_8,        I03,     520,          1,          6,          6,2,19950520,       0000,   -19.9998,    67.6495,       2850,  1917.0,   2.2679,  34.7104,2,  34.7108,2,    168.6,2,   168.4,2,  102.17,2,   32.99,2,    0.00,2,    2.31,2,   0.004,2,   0.002,2,-999.000,9,  -999.0,9,  -999.0,9,-999.0000,9,-999.0000,9, -999.00,9, -999.00,9,  -999.0,9,  -999.0,-999.000,9,-999.000,-999.000,9,-999.0000,   2.1342,-999.0000,-999.000
  316N145_8,        I03,     520,          1,          5,          5,2,19950520,       0000,   -19.9998,    67.6495,       2850,  2118.7,   1.9232,  34.7206,2,  34.7204,2,    175.2,2,   174.7,2,  110.69,2,   32.85,2,    0.00,2,    2.31,2,-999.000,9,-999.000,9,-999.000,9,  -999.0,9,  -999.0,9,-999.0000,9,-999.0000,9, -999.00,9, -999.00,9,  -999.0,9,  -999.0,-999.000,9,-999.000,-999.000,9,-999.0000,   1.7776,-999.0000,-999.000
  316N145_8,        I03,     520,          1,          4,          4,2,19950520,       0000,   -19.9998,    67.6495,       2850,  2322.1,   1.8378,  34.7216,2,  34.7227,2,    177.2,2,   177.7,2,  112.38,2,   32.66,2,    0.00,2,    2.30,2,   0.004,2,   0.002,2,-999.000,9,  -999.0,9,  -999.0,9,-999.0000,9,-999.0000,9, -999.00,9, -999.00,9,  -999.0,9,  -999.0,-999.000,9,-999.000,-999.000,9,-999.0000,   1.6761,-999.0000,-999.000
  316N145_8,        I03,     520,          1,          3,          3,2,19950520,       0000,   -19.9998,    67.6495,       2850,  2525.0,   1.7799,  34.7227,2,  34.7231,2,    179.7,2,   180.0,2,  112.56,2,   32.51,2,    0.00,2,    2.28,2,-999.000,9,-999.000,9,-999.000,9,  -999.0,9,  -999.0,9,-999.0000,9,-999.0000,9, -999.00,9, -999.00,9,  -999.0,9,  -999.0,-999.000,9,-999.000,-999.000,9,-999.0000,   1.6011,-999.0000,-999.000
  316N145_8,        I03,     520,          1,          2,          2,2,19950520,       0000,   -19.9998,    67.6495,       2850,  2727.8,   1.7094,  34.7241,2,  34.7243,2,    181.4,2,   182.7,2,  113.39,2,   32.42,2,    0.00,2,    2.27,2,   0.001,2,  -0.001,2,-999.000,9,  -999.0,9,  -999.0,9,-999.0000,9,-999.0000,9, -999.00,9, -999.00,9,  -999.0,9,  -999.0,-999.000,9,-999.000,-999.000,9,-999.0000,   1.5135,-999.0000,-999.000
  316N145_8,        I03,     520,          1,          1,          1,2,19950520,       0000,   -19.9998,    67.6495,       2850,  2968.4,   1.6606,  34.7255,2,  34.7253,2,    183.8,2,   183.7,2,  114.43,2,   32.37,2,    0.00,2,    2.27,2,  -0.001,2,   0.002,2,-999.000,9,  -999.0,9,  -999.0,9,-999.0000,9,-999.0000,9, -999.00,9, -999.00,9,  -999.0,9,  -999.0,-999.000,9,-999.000,-999.000,9,-999.0000,   1.4431,-999.0000,-999.000