BOTTLE,20140514CCHSIOSE
EXPOCODE,SECT_ID,STNNBR,CASTNO,SAMPNO,BTLNBR,BTLNBR_FLAG_W,DATE,TIME,LATITUDE,LONGITUDE,DEPTH,CTDPRS,CTDTMP,CTDSAL,CTDSAL_FLAG_W,SALNTY,SALNTY_FLAG_W,CTDOXY,CTDOXY_FLAG_W,OXYGEN,OXYGEN_FLAG_W,SILCAT,SILCAT_FLAG_W,NITRAT,NITRAT_FLAG_W,NITRIT,NITRIT_FLAG_W,PHSPHT,PHSPHT_FLAG_W,CFC-11,CFC-11_FLAG_W,CFC-12,CFC-12_FLAG_W,CFC113,CFC113_FLAG_W,TCARBN,TCARBN_FLAG_W,ALKALI,ALKALI_FLAG_W,TRITUM,TRITUM_FLAG_W,HELIUM,HELIUM_FLAG_W,DELHE3,DELHE3_FLAG_W,DELC13,DELC13_FLAG_W,DELC14,DELC14_FLAG_W,C14ERR,NEON,NEON_FLAG_W,NEONER,CCL4,CCL4_FLAG_W,HELIER,THETA,TRITER,DELHER
,,,,,,,,,,,METERS,DBAR,ITS-90,PSS-78,,PSS-78,,UMOL/KG,,UMOL/KG,,UMOL/KG,,UMOL/KG,,UMOL/KG,,UMOL/KG,,PMOL/KG,,PMOL/KG,,PMOL/KG,,UMOL/KG,,UMOL/KG,,TU,,NMOL/KG,,PERCNT,,/MILLE,,/MILLE,,/MILLE,NMOL/KG,,NMOL/KG,PMOL/KG,,NMOL/KG,DEG C,TU,PERCNT
  316N145_8,        I03,     547,          1,         36,         36,2,19950528,       2203,   -19.9988,    54.9837,       4382,     7.3,  25.0856,  35.1385,2,  35.1378,2,    206.8,2,   208.3,2,    2.65,2,    0.04,2,    0.00,2,    0.11,2,   1.835,2,   1.056,2,-999.000,9,  -999.0,5,  2297.0,2,-999.0000,9,-999.0000,9, -999.00,9, -999.00,9,  -999.0,9,  -999.0,-999.000,9,-999.000,-999.000,9,-999.0000,  25.0840,-999.0000,-999.000
  316N145_8,        I03,     547,          1,         35,         35,2,19950528,       2203,   -19.9988,    54.9837,       4382,    56.4,  24.8403,  35.2197,2,  35.2204,2,    212.7,2,   209.7,2,    2.64,2,    0.04,2,    0.00,2,    0.11,2,   1.894,2,   1.074,2,-999.000,9,  -999.0,5,  2303.0,6,-999.0000,9,-999.0000,9, -999.00,9, -999.00,9,  -999.0,9,  -999.0,-999.000,9,-999.000,-999.000,9,-999.0000,  24.8281,-999.0000,-999.000
  316N145_8,        I03,     547,          1,         34,         34,2,19950528,       2203,   -19.9988,    54.9837,       4382,   106.6,  22.5184,  35.3236,2,  35.3384,2,    207.7,2,   195.5,2,    3.31,2,    0.84,2,    0.06,2,    0.23,2,   2.018,2,   1.140,2,-999.000,9,  -999.0,5,  2312.0,2,-999.0000,9,-999.0000,9, -999.00,9, -999.00,9,  -999.0,9,  -999.0,-999.000,9,-999.000,-999.000,9,-999.0000,  22.4969,-999.0000,-999.000
  316N145_8,        I03,     547,          1,         33,         33,2,19950528,       2203,   -19.9988,    54.9837,       4382,   156.6,  20.6356,  35.4625,2,  35.4626,2,    185.1,2,   180.3,2,    4.67,2,    3.73,2,    0.01,2,    0.39,2,   2.108,2,   1.157,2,-999.000,9,  -999.0,5,  2309.0,2,-999.0000,9,-999.0000,9, -999.00,9, -999.00,9,  -999.0,9,  -999.0,-999.000,9,-999.000,-999.000,9,-999.0000,  20.6060,-999.0000,-999.000
  316N145_8,        I03,     547,          1,         32,         32,2,19950528,       2203,   -19.9988,    54.9837,       4382,   206.8,  19.0153,  35.6067,2,  35.6080,2,    188.9,2,   183.1,2,    5.11,2,    4.36,2,    0.01,2,    0.43,2,   2.156,2,   1.169,2,-999.000,9,  -999.0,5,  2319.0,2,-999.0000,9,-999.0000,9, -999.00,9, -999.00,9,  -999.0,9,  -999.0,-999.000,9,-999.000,-999.000,9,-999.0000,  18.9782,-999.0000,-999.000
  316N145_8,        I03,     547,          1,         31,         31,2,19950528,       2203,   -19.9988,    54.9837,       4382,   257.0,  17.4118,  35.5937,2,  35.5909,2,    190.1,2,   187.8,2,    5.56,2,    5.27,2,    0.01,2,    0.51,2,-999.000,9,-999.000,9,-999.000,9,  -999.0,5,  2333.0,2,-999.0000,9,-999.0000,9, -999.00,9, -999.00,9,  -999.0,9,  -999.0,-999.000,9,-999.000,-999.000,9,-999.0000,  17.3685,-999.0000,-999.000
  316N145_8,        I03,     547,          1,         30,         30,2,19950528,       2203,   -19.9988,    54.9837,       4382,   307.3,  15.0996,  35.4327,2,  35.4483,2,    205.5,2,   203.4,2,    5.31,2,    6.67,2,    0.01,2,    0.60,2,   2.483,2,   1.288,2,-999.000,9,  -999.0,5,  2328.0,2,-999.0000,9,-999.0000,9, -999.00,9, -999.00,9,  -999.0,9,  -999.0,-999.000,9,-999.000,-999.000,9,-999.0000,  15.0525,-999.0000,-999.000
  316N145_8,        I03,     547,          1,         29,         29,2,19950528,       2203,   -19.9988,    54.9837,       4382,   357.5,  13.9567,  35.3434,2,  35.3418,2,    215.8,2,   215.5,2,    4.38,2,    7.39,2,    0.00,2,    0.64,2,-999.000,9,-999.000,9,-999.000,9,  -999.0,5,  2324.0,2,-999.0000,9,-999.0000,9, -999.00,9, -999.00,9,  -999.0,9,  -999.0,-999.000,9,-999.000,-999.000,9,-999.0000,  13.9047,-999.0000,-999.000
  316N145_8,        I03,     547,          1,         28,         28,2,19950528,       2203,   -19.9988,    54.9837,       4382,   406.5,  12.8825,  35.2023,2,  35.2070,2,    222.1,2,   221.6,2,    4.36,2,    9.08,2,    0.00,2,    0.73,2,   2.666,2,   1.357,2,-999.000,9,  -999.0,5,  2317.0,2,-999.0000,9,-999.0000,9, -999.00,9, -999.00,9,  -999.0,9,  -999.0,-999.000,9,-999.000,-999.000,9,-999.0000,  12.8264,-999.0000,-999.000
  316N145_8,        I03,     547,          1,         27,         27,2,19950528,       2203,   -19.9988,    54.9837,       4382,   457.5,  12.3449,  35.1300,2,  35.1279,2,    223.2,2,   224.7,2,    4.57,2,   10.09,2,    0.00,2,    0.79,2,   2.637,2,   1.337,2,-999.000,9,  -999.0,5,  2314.0,2,-999.0000,9,-999.0000,9, -999.00,9, -999.00,9,  -999.0,9,  -999.0,-999.000,9,-999.000,-999.000,9,-999.0000,  12.2834,-999.0000,-999.000
  316N145_8,        I03,     547,          1,         26,         26,2,19950528,       2203,   -19.9988,    54.9837,       4382,   507.2,  11.2927,  34.9768,2,  34.9739,2,    226.2,2,   227.1,2,    5.01,2,   12.21,2,    0.00,2,    0.92,2,   2.540,2,   1.273,2,-999.000,9,  -999.0,5,  2307.0,2,-999.0000,9,-999.0000,9, -999.00,9, -999.00,9,  -999.0,9,  -999.0,-999.000,9,-999.000,-999.000,9,-999.0000,  11.2283,-999.0000,-999.000
  316N145_8,        I03,     547,          1,         25,         25,2,19950528,       2203,   -19.9988,    54.9837,       4382,   567.9,  10.5014,  34.8680,2,  34.8682,2,    191.0,2,   208.1,2,    9.34,2,   15.73,2,    0.00,2,    1.13,2,   2.015,2,   1.014,2,-999.000,9,  -999.0,5,  2303.0,2,-999.0000,9,-999.0000,9, -999.00,9, -999.00,9,  -999.0,9,  -999.0,-999.000,9,-999.000,-999.000,9,-999.0000,  10.4323,-999.0000,-999.000
  316N145_8,        I03,     547,          1,         24,         24,2,19950528,       2203,   -19.9988,    54.9837,       4382,   607.8,   9.7629,  34.7833,2,  34.7908,2,    188.5,2,   194.0,2,   13.44,2,   18.72,2,    0.00,2,    1.33,2,-999.000,9,-999.000,9,-999.000,9,  -999.0,5,  2304.0,2,-999.0000,9,-999.0000,9, -999.00,9, -999.00,9,  -999.0,9,  -999.0,-999.000,9,-999.000,-999.000,9,-999.0000,   9.6922,-999.0000,-999.000
  316N145_8,        I03,     547,          1,         23,         23,2,19950528,       2203,   -19.9988,    54.9837,       4382,   707.6,   8.2368,  34.6377,2,  34.6452,2,    194.2,2,   188.1,2,   19.81,2,   22.83,2,    0.00,2,    1.59,2,   1.058,2,   0.529,2,-999.000,9,  -999.0,5,  2301.0,2,-999.0000,9,-999.0000,9, -999.00,9, -999.00,9,  -999.0,9,  -999.0,-999.000,9,-999.000,-999.000,9,-999.0000,   8.1620,-999.0000,-999.000
  316N145_8,        I03,     547,          1,         22,         22,2,19950528,       2203,   -19.9988,    54.9837,       4382,   808.1,   6.6886,  34.5601,2,  34.5713,2,    168.7,2,   167.5,2,   35.31,2,   27.88,2,    0.00,2,    1.95,2,   0.454,2,   0.234,2,-999.000,9,  -999.0,5,  2312.0,2,-999.0000,9,-999.0000,9, -999.00,9, -999.00,9,  -999.0,9,  -999.0,-999.000,9,-999.000,-999.000,9,-999.0000,   6.6120,-999.0000,-999.000
  316N145_8,        I03,     547,          1,         21,         21,2,19950528,       2203,   -19.9988,    54.9837,       4382,   909.0,   5.8012,  34.5609,2,  34.5628,2,    153.9,2,   149.4,2,   51.02,2,   31.20,2,    0.00,2,    2.19,2,   0.190,2,   0.092,2,-999.000,9,  -999.0,5,  2324.0,2,-999.0000,9,-999.0000,9, -999.00,9, -999.00,9,  -999.0,9,  -999.0,-999.000,9,-999.000,-999.000,9,-999.0000,   5.7204,-999.0000,-999.000
  316N145_8,        I03,     547,          1,         20,         20,2,19950528,       2203,   -19.9988,    54.9837,       4382,  1010.3,   5.2107,  34.6027,2,  34.6058,2,    133.7,2,   132.0,2,   66.50,2,   33.32,2,    0.00,2,    2.37,2,   0.076,2,   0.035,2,-999.000,9,  -999.0,5,  2341.0,2,-999.0000,9,-999.0000,9, -999.00,9, -999.00,9,  -999.0,9,  -999.0,-999.000,9,-999.000,-999.000,9,-999.0000,   5.1247,-999.0000,-999.000
  316N145_8,        I03,     547,          1,         19,         19,2,19950528,       2203,   -19.9988,    54.9837,       4382,  1109.9,   4.8105,  34.6150,2,  34.6146,2,    128.5,2,   129.1,2,   73.53,2,   34.06,2,    0.00,2,    2.43,2,   0.039,2,   0.019,2,-999.000,9,  -999.0,5,  2346.0,2,-999.0000,9,-999.0000,9, -999.00,9, -999.00,9,  -999.0,9,  -999.0,-999.000,9,-999.000,-999.000,9,-999.0000,   4.7186,-999.0000,-999.000
  316N145_8,        I03,     547,          1,         18,         18,2,19950528,       2203,   -19.9988,    54.9837,       4382,  1210.4,   4.2912,  34.6298,2,  34.6307,2,    130.4,2,   131.2,2,   80.79,2,   34.40,2,    0.00,2,    2.47,2,   0.019,2,   0.007,2,-999.000,9,  -999.0,5,  2355.0,2,-999.0000,9,-999.0000,9, -999.00,9, -999.00,9,  -999.0,9,  -999.0,-999.000,9,-999.000,-999.000,9,-999.0000,   4.1948,-999.0000,-999.000
  316N145_8,        I03,     547,          1,         17,         17,2,19950528,       2203,   -19.9988,    54.9837,       4382,  1312.1,   3.9335,  34.6400,2,  34.6413,2,    135.1,2,   135.8,2,   84.38,2,   34.40,2,    0.00,2,    2.47,2,-999.000,9,-999.000,9,-999.000,9,  -999.0,5,  2358.0,2,-999.0000,9,-999.0000,9, -999.00,9, -999.00,9,  -999.0,9,  -999.0,-999.000,9,-999.000,-999.000,9,-999.0000,   3.8315,-999.0000,-999.000
  316N145_8,        I03,     547,          1,         16,         16,2,19950528,       2203,   -19.9988,    54.9837,       4382,  1412.7,   3.6444,  34.6500,2,  34.6503,2,    140.2,2,   140.7,2,   87.06,2,   34.31,2,    0.00,2,    2.46,2,   0.008,2,   0.002,2,-999.000,9,  -999.0,5,  2362.0,2,-999.0000,9,-999.0000,9, -999.00,9, -999.00,9,  -999.0,9,  -999.0,-999.000,9,-999.000,-999.000,9,-999.0000,   3.5366,-999.0000,-999.000
  316N145_8,        I03,     547,          1,         15,         15,2,19950528,       2203,   -19.9988,    54.9837,       4382,  1614.4,   3.0282,  34.6709,2,  34.6723,2,    152.6,2,   153.4,2,   92.27,2,   33.62,2,    0.00,2,    2.41,2,-999.000,9,-999.000,9,-999.000,9,  -999.0,5,  2369.0,2,-999.0000,9,-999.0000,9, -999.00,9, -999.00,9,  -999.0,9,  -999.0,-999.000,9,-999.000,-999.000,9,-999.0000,   2.9101,-999.0000,-999.000
  316N145_8,        I03,     547,          1,         14,         14,2,19950528,       2203,   -19.9988,    54.9837,       4382,  1817.6,   2.6385,  34.6963,2,  34.6972,2,    160.5,2,   160.6,2,   97.24,2,   33.27,2,    0.00,2,    2.37,2,   0.001,2,   0.002,2,-999.000,9,  -999.0,5,  2374.0,2,-999.0000,9,-999.0000,9, -999.00,9, -999.00,9,  -999.0,9,  -999.0,-999.000,9,-999.000,-999.000,9,-999.0000,   2.5081,-999.0000,-999.000
  316N145_8,        I03,     547,          1,         13,         13,2,19950528,       2203,   -19.9988,    54.9837,       4382,  2019.3,   2.3734,  34.7172,2,  34.7174,2,    163.2,2,   162.9,2,  105.68,2,   33.23,2,    0.00,2,    2.36,2,-999.000,9,-999.000,9,-999.000,9,  -999.0,5,  2382.0,2,-999.0000,9,-999.0000,9, -999.00,9, -999.00,9,  -999.0,9,  -999.0,-999.000,9,-999.000,-999.000,9,-999.0000,   2.2293,-999.0000,-999.000
  316N145_8,        I03,     547,          1,         12,         12,2,19950528,       2203,   -19.9988,    54.9837,       4382,  2222.1,   2.2075,  34.7280,2,  34.7284,2,    162.4,2,   162.2,2,  113.00,2,   33.38,2,    0.00,2,    2.39,2,   0.001,2,  -0.001,2,-999.000,9,  -999.0,5,  2390.0,2,-999.0000,9,-999.0000,9, -999.00,9, -999.00,9,  -999.0,9,  -999.0,-999.000,9,-999.000,-999.000,9,-999.0000,   2.0483,-999.0000,-999.000
  316N145_8,        I03,     547,          1,         11,         11,2,19950528,       2203,   -19.9988,    54.9837,       4382,  2425.5,   2.0891,  34.7305,2,  34.7325,2,    161.4,2,   162.3,2,  117.32,2,   33.62,2,    0.00,2,    2.39,2,-999.000,9,-999.000,9,-999.000,9,  -999.0,5,  2394.0,2,-999.0000,9,-999.0000,9, -999.00,9, -999.00,9,  -999.0,9,  -999.0,-999.000,9,-999.000,-999.000,9,-999.0000,   1.9136,-999.0000,-999.000
  316N145_8,        I03,     547,          1,         10,         10,2,19950528,       2203,   -19.9988,    54.9837,       4382,  2628.0,   1.9955,  34.7330,2,  34.7341,2,    163.3,2,   162.8,2,  120.73,2,   33.67,2,    0.00,2,    2.39,2,  -0.001,2,   0.002,2,-999.000,9,  -999.0,5,  2397.0,2,-999.0000,9,-999.0000,9, -999.00,9, -999.00,9,  -999.0,9,  -999.0,-999.000,9,-999.000,-999.000,9,-999.0000,   1.8032,-999.0000,-999.000
  316N145_8,        I03,     547,          1,          9,          9,2,19950528,       2203,   -19.9988,    54.9837,       4382,  2830.4,   1.8970,  34.7348,2,  34.7353,2,    163.9,2,   163.0,2,  123.90,2,   33.82,2,    0.00,2,    2.39,2,-999.000,9,-999.000,9,-999.000,9,  -999.0,5,  2402.5,6,-999.0000,9,-999.0000,9, -999.00,9, -999.00,9,  -999.0,9,  -999.0,-999.000,9,-999.000,-999.000,9,-999.0000,   1.6876,-999.0000,-999.000
  316N145_8,        I03,     547,          1,          8,          8,2,19950528,       2203,   -19.9988,    54.9837,       4382,  3032.9,   1.8243,  34.7338,2,  34.7345,2,    165.9,2,   164.7,2,  125.68,2,   33.83,2,    0.00,2,    2.39,2,  -0.002,2,  -0.001,2,   0.034,3,  -999.0,5,  2403.0,2,-999.0000,9,-999.0000,9, -999.00,9, -999.00,9,  -999.0,9,  -999.0,-999.000,9,-999.000,   0.030,2,-999.0000,   1.5969,-999.0000,-999.000
  316N145_8,        I03,     547,          1,          7,          7,2,19950528,       2203,   -19.9988,    54.9837,       4382,  3236.7,   1.7416,  34.7319,2,  34.7321,2,    168.8,2,   167.5,2,  126.75,2,   33.73,2,    0.00,2,    2.38,2,   0.001,2,   0.001,2,-999.000,9,  -999.0,5,  2405.0,2,-999.0000,9,-999.0000,9, -999.00,9, -999.00,9,  -999.0,9,  -999.0,-999.000,9,-999.000,-999.000,9,-999.0000,   1.4959,-999.0000,-999.000
  316N145_8,        I03,     547,          1,          6,          6,2,19950528,       2203,   -19.9988,    54.9837,       4382,  3441.0,   1.6723,  34.7305,2,  34.7308,2,    171.5,2,   170.1,2,  127.60,2,   33.73,2,    0.00,2,    2.37,2,-999.000,9,-999.000,9,-999.000,9,  -999.0,5,  2402.0,2,-999.0000,9,-999.0000,9, -999.00,9, -999.00,9,  -999.0,9,  -999.0,-999.000,9,-999.000,-999.000,9,-999.0000,   1.4076,-999.0000,-999.000
  316N145_8,        I03,     547,          1,          5,          5,2,19950528,       2203,   -19.9988,    54.9837,       4382,  3646.2,   1.5976,  34.7277,2,  34.7278,2,    174.7,2,   173.7,2,  127.73,2,   33.54,2,    0.00,2,    2.34,2,   0.000,2,  -0.001,2,-999.000,9,  -999.0,5,  2400.0,2,-999.0000,9,-999.0000,9, -999.00,9, -999.00,9,  -999.0,9,  -999.0,-999.000,9,-999.000,-999.000,9,-999.0000,   1.3136,-999.0000,-999.000
  316N145_8,        I03,     547,          1,          4,          4,2,19950528,       2203,   -19.9988,    54.9837,       4382,  3849.0,   1.5160,  34.7246,2,  34.7251,2,    179.5,2,   178.1,2,  127.17,2,   33.34,2,    0.00,2,    2.34,2,-999.000,9,-999.000,9,-999.000,9,  -999.0,5,  2399.0,2,-999.0000,9,-999.0000,9, -999.00,9, -999.00,9,  -999.0,9,  -999.0,-999.000,9,-999.000,-999.000,9,-999.0000,   1.2127,-999.0000,-999.000
  316N145_8,        I03,     547,          1,          3,          3,2,19950528,       2203,   -19.9988,    54.9837,       4382,  4052.3,   1.4124,  34.7206,2,  34.7210,2,    183.4,2,   184.0,2,  126.61,2,   33.04,2,    0.00,2,    2.30,2,   0.000,2,  -0.002,2,   0.021,3,  -999.0,5,  2394.0,2,-999.0000,9,-999.0000,9, -999.00,9, -999.00,9,  -999.0,9,  -999.0,-999.000,9,-999.000,   0.021,2,-999.0000,   1.0901,-999.0000,-999.000
  316N145_8,        I03,     547,          1,          2,          2,2,19950528,       2203,   -19.9988,    54.9837,       4382,  4258.1,   1.3153,  34.7173,2,  34.7178,2,    189.2,2,   189.6,2,  125.58,2,   32.85,2,    0.00,2,    2.29,2,-999.000,9,-999.000,9,   0.024,3,  -999.0,5,  2394.0,2,-999.0000,9,-999.0000,9, -999.00,9, -999.00,9,  -999.0,9,  -999.0,-999.000,9,-999.000,   0.028,2,-999.0000,   0.9731,-999.0000,-999.000
  316N145_8,        I03,     547,          1,          1,          1,2,19950528,       2203,   -19.9988,    54.9837,       4382,  4502.4,   1.2518,  34.7147,2,  34.7151,2,    193.1,2,   194.1,2,  124.79,2,   32.60,2,    0.01,2,    2.27,2,   0.001,2,   0.001,2,   0.025,3,  -999.0,5,  2393.0,2,-999.0000,9,-999.0000,9, -999.00,9, -999.00,9,  -999.0,9,  -999.0,-999.000,9,-999.000,   0.041,2,-999.0000,   0.8841,-999.0000,-999.000