BOTTLE,20140514CCHSIOSE
EXPOCODE,SECT_ID,STNNBR,CASTNO,SAMPNO,BTLNBR,BTLNBR_FLAG_W,DATE,TIME,LATITUDE,LONGITUDE,DEPTH,CTDPRS,CTDTMP,CTDSAL,CTDSAL_FLAG_W,SALNTY,SALNTY_FLAG_W,CTDOXY,CTDOXY_FLAG_W,OXYGEN,OXYGEN_FLAG_W,SILCAT,SILCAT_FLAG_W,NITRAT,NITRAT_FLAG_W,NITRIT,NITRIT_FLAG_W,PHSPHT,PHSPHT_FLAG_W,CFC-11,CFC-11_FLAG_W,CFC-12,CFC-12_FLAG_W,CFC113,CFC113_FLAG_W,TCARBN,TCARBN_FLAG_W,ALKALI,ALKALI_FLAG_W,TRITUM,TRITUM_FLAG_W,HELIUM,HELIUM_FLAG_W,DELHE3,DELHE3_FLAG_W,DELC13,DELC13_FLAG_W,DELC14,DELC14_FLAG_W,C14ERR,NEON,NEON_FLAG_W,NEONER,CCL4,CCL4_FLAG_W,HELIER,THETA,TRITER,DELHER
,,,,,,,,,,,METERS,DBAR,ITS-90,PSS-78,,PSS-78,,UMOL/KG,,UMOL/KG,,UMOL/KG,,UMOL/KG,,UMOL/KG,,UMOL/KG,,PMOL/KG,,PMOL/KG,,PMOL/KG,,UMOL/KG,,UMOL/KG,,TU,,NMOL/KG,,PERCNT,,/MILLE,,/MILLE,,/MILLE,NMOL/KG,,NMOL/KG,PMOL/KG,,NMOL/KG,DEG C,TU,PERCNT
  316N145_8,        I03,     460,          1,         36,         36,2,19950429,       2313,   -20.0000,   105.7493,       5290,     9.8,  26.2478,  35.4098,2,  35.4095,2,    202.6,2,   203.8,2,    3.10,2,    0.07,2,    0.00,2,    0.05,2,   1.796,2,   1.026,2,   0.183,3,  1969.3,2,  2340.0,2,-999.0000,9,-999.0000,9, -999.00,9, -999.00,9,  -999.0,9,  -999.0,-999.000,9,-999.000,   1.940,2,-999.0000,  26.2456,-999.0000,-999.000
  316N145_8,        I03,     460,          1,         35,         35,2,19950429,       2313,   -20.0000,   105.7493,       5290,    57.4,  25.3275,  35.5728,2,  35.5717,2,    214.1,2,   209.2,2,    2.67,2,    0.02,2,    0.00,2,    0.04,2,   1.878,2,   1.070,2,   0.162,3,  1979.7,6,  2333.5,6,-999.0000,9,-999.0000,9, -999.00,9, -999.00,9,  -999.0,9,  -999.0,-999.000,9,-999.000,   1.931,2,-999.0000,  25.3149,-999.0000,-999.000
  316N145_8,        I03,     460,          1,         34,         34,2,19950429,       2313,   -20.0000,   105.7493,       5290,   108.0,  20.9583,  35.6550,2,  35.6559,2,    198.0,2,   198.7,2,    4.13,2,    1.30,2,    0.04,2,    0.23,2,   2.213,2,   1.214,2,   0.194,3,  2035.8,2,  2334.0,2,-999.0000,9,-999.0000,9, -999.00,9, -999.00,9,  -999.0,9,  -999.0,-999.000,9,-999.000,   1.210,2,-999.0000,  20.9376,-999.0000,-999.000
  316N145_8,        I03,     460,          1,         33,         33,2,19950429,       2313,   -20.0000,   105.7493,       5290,   158.1,  19.4941,  35.8702,2,  35.8710,2,    210.6,2,   207.1,2,    3.28,2,    1.27,2,    0.02,2,    0.21,2,-999.000,9,-999.000,9,   0.212,3,  2050.5,2,  2348.0,2,-999.0000,9,-999.0000,9, -999.00,9, -999.00,9,  -999.0,9,  -999.0,-999.000,9,-999.000,   1.039,2,-999.0000,  19.4652,-999.0000,-999.000
  316N145_8,        I03,     460,          1,         32,         32,2,19950429,       2313,   -20.0000,   105.7493,       5290,   207.2,  18.5465,  35.8873,2,  35.8892,2,    215.7,2,   207.6,3,    3.27,2,    1.73,2,    0.01,2,    0.24,2,   2.461,2,   1.336,2,   0.210,3,  2060.5,2,  2350.0,2,-999.0000,9,-999.0000,9, -999.00,9, -999.00,9,  -999.0,9,  -999.0,-999.000,9,-999.000,   0.812,2,-999.0000,  18.5100,-999.0000,-999.000
  316N145_8,        I03,     460,          1,         31,         31,2,19950429,       2313,   -20.0000,   105.7493,       5290,   258.3,  16.5884,  35.7413,2,  35.7452,2,    212.0,2,   207.6,2,    3.68,2,    3.34,2,    0.01,2,    0.38,2,   2.587,2,   1.382,2,   0.022,3,  2081.7,2,  2346.0,2,-999.0000,9,-999.0000,9, -999.00,9, -999.00,9,  -999.0,9,  -999.0,-999.000,9,-999.000,   0.561,2,-999.0000,  16.5462,-999.0000,-999.000
  316N145_8,        I03,     460,          1,         30,         30,2,19950429,       2313,   -20.0000,   105.7493,       5290,   308.2,  14.2368,  35.4630,2,  35.4606,2,    219.5,2,   219.7,2,    3.67,2,    5.50,2,    0.01,2,    0.52,2,   2.864,2,   1.490,2,   0.055,3,  2092.8,2,  2331.0,2,-999.0000,9,-999.0000,9, -999.00,9, -999.00,9,  -999.0,9,  -999.0,-999.000,9,-999.000,   0.884,2,-999.0000,  14.1914,-999.0000,-999.000
  316N145_8,        I03,     460,          1,         29,         29,2,19950429,       2313,   -20.0000,   105.7493,       5290,   357.5,  12.3347,  35.1695,2,  35.1646,2,    223.6,2,   224.3,2,    4.72,2,    8.92,2,    0.00,2,    0.73,2,   3.017,2,   1.538,2,   0.054,3,  2102.5,2,  2318.0,2,-999.0000,9,-999.0000,9, -999.00,9, -999.00,9,  -999.0,9,  -999.0,-999.000,9,-999.000,   1.065,2,-999.0000,  12.2868,-999.0000,-999.000
  316N145_8,        I03,     460,          1,         28,         28,2,19950429,       2313,   -20.0000,   105.7493,       5290,   408.5,  10.8504,  34.9363,2,  34.9304,2,    225.0,2,   229.2,2,    5.76,2,   12.29,2,    0.00,2,    0.92,2,   3.059,2,   1.539,2,   0.077,3,  2110.9,2,  2305.0,2,-999.0000,9,-999.0000,9, -999.00,9, -999.00,9,  -999.0,9,  -999.0,-999.000,9,-999.000,   1.228,2,-999.0000,  10.8000,-999.0000,-999.000
  316N145_8,        I03,     460,          1,         27,         27,2,19950429,       2313,   -20.0000,   105.7493,       5290,   507.1,   8.9377,  34.6662,2,  34.6628,2,    221.0,2,   212.2,2,   12.26,2,   19.34,2,    0.00,2,    1.35,2,   2.239,2,   1.110,2,   0.123,3,  2133.9,2,  2299.0,2,-999.0000,9,-999.0000,9, -999.00,9, -999.00,9,  -999.0,9,  -999.0,-999.000,9,-999.000,   1.425,2,-999.0000,   8.8821,-999.0000,-999.000
  316N145_8,        I03,     460,          1,         26,         26,2,19950429,       2313,   -20.0000,   105.7493,       5290,   609.0,   7.0551,  34.5489,2,  34.5530,2,    177.8,2,   159.0,2,   35.99,2,   28.23,2,    0.00,2,    1.95,2,   0.561,2,   0.286,2,  -0.032,3,  2194.2,2,  2310.0,2,-999.0000,9,-999.0000,9, -999.00,9, -999.00,9,  -999.0,9,  -999.0,-999.000,9,-999.000,   0.715,2,-999.0000,   6.9965,-999.0000,-999.000
  316N145_8,        I03,     460,          1,         25,         25,2,19950429,       2313,   -20.0000,   105.7493,       5290,   710.3,   6.2128,  34.5864,2,  34.5866,2,    131.8,2,   118.8,2,   59.49,2,   32.99,2,    0.00,2,    2.34,2,   0.093,3,   0.047,4,  -0.058,3,  2239.0,2,  2335.0,2,-999.0000,9,-999.0000,9, -999.00,9, -999.00,9,  -999.0,9,  -999.0,-999.000,9,-999.000,   0.327,2,-999.0000,   6.1485,-999.0000,-999.000
  316N145_8,        I03,     460,          1,         24,         24,2,19950429,       2313,   -20.0000,   105.7493,       5290,   810.8,   5.7573,  34.6307,2,  34.6314,2,     98.7,2,    96.9,2,   76.96,2,   35.33,2,    0.00,2,    2.53,2,   0.009,2,   0.006,2,  -0.033,3,  2268.5,2,  2351.0,2,-999.0000,9,-999.0000,9, -999.00,9, -999.00,9,  -999.0,9,  -999.0,-999.000,9,-999.000,   0.094,2,-999.0000,   5.6860,-999.0000,-999.000
  316N145_8,        I03,     460,          1,         23,         23,2,19950429,       2313,   -20.0000,   105.7493,       5290,   909.8,   5.2290,  34.6247,2,  34.6241,2,     96.5,2,    98.1,2,   85.39,2,   35.78,2,    0.00,2,    2.58,2,   0.011,2,   0.008,2,  -0.062,3,  2280.3,2,  2362.0,2,-999.0000,9,-999.0000,9, -999.00,9, -999.00,9,  -999.0,9,  -999.0,-999.000,9,-999.000,   0.056,2,-999.0000,   5.1520,-999.0000,-999.000
  316N145_8,        I03,     460,          1,         22,         22,2,19950429,       2313,   -20.0000,   105.7493,       5290,  1009.3,   4.9064,  34.6318,2,  34.6322,2,     97.8,2,    99.1,2,   90.02,2,   35.98,2,    0.00,2,    2.60,2,   0.004,2,   0.005,2,   0.010,3,  2285.5,2,  2363.0,2,-999.0000,9,-999.0000,9, -999.00,9, -999.00,9,  -999.0,9,  -999.0,-999.000,9,-999.000,   0.031,2,-999.0000,   4.8227,-999.0000,-999.000
  316N145_8,        I03,     460,          1,         21,         21,2,19950429,       2313,   -20.0000,   105.7493,       5290,  1112.2,   4.6465,  34.6453,2,  34.6447,2,    100.5,2,   100.0,2,   94.67,2,   36.13,2,    0.00,2,    2.62,2,-999.000,9,-999.000,9,-999.000,9,  2291.1,2,  2368.0,2,-999.0000,9,-999.0000,9, -999.00,9, -999.00,9,  -999.0,9,  -999.0,-999.000,9,-999.000,-999.000,9,-999.0000,   4.5557,-999.0000,-999.000
  316N145_8,        I03,     460,          1,         20,         20,2,19950429,       2313,   -20.0000,   105.7493,       5290,  1212.3,   4.2470,  34.6443,2,  34.6450,2,    108.1,2,   107.3,2,   96.97,2,   35.98,2,    0.00,2,    2.60,2,   0.002,2,   0.001,2,   0.116,3,  2291.6,2,  2374.0,2,-999.0000,9,-999.0000,9, -999.00,9, -999.00,9,  -999.0,9,  -999.0,-999.000,9,-999.000,   0.017,2,-999.0000,   4.1508,-999.0000,-999.000
  316N145_8,        I03,     460,          1,         19,         19,2,19950429,       2313,   -20.0000,   105.7493,       5290,  1415.4,   3.5934,  34.6553,2,  34.6546,2,    119.5,2,   122.8,2,  100.99,2,   35.58,2,    0.00,2,    2.56,2,-999.000,9,-999.000,9,-999.000,9,  2292.8,2,  2376.0,2,-999.0000,9,-999.0000,9, -999.00,9, -999.00,9,  -999.0,9,  -999.0,-999.000,9,-999.000,-999.000,9,-999.0000,   3.4860,-999.0000,-999.000
  316N145_8,        I03,     460,          1,         18,         18,2,19950429,       2313,   -20.0000,   105.7493,       5290,  1617.5,   3.0724,  34.6787,2,  34.6786,2,    133.8,2,  -999.0,9,  102.87,2,   34.93,2,    0.00,2,    2.50,2,-999.000,9,-999.000,9,-999.000,9,  2289.4,2,  2376.0,2,-999.0000,9,-999.0000,9, -999.00,9, -999.00,9,  -999.0,9,  -999.0,-999.000,9,-999.000,-999.000,9,-999.0000,   2.9535,-999.0000,-999.000
  316N145_8,        I03,     460,          1,         17,         17,2,19950429,       2313,   -20.0000,   105.7493,       5290,  1819.8,   2.6391,  34.7076,2,  34.7071,2,    143.7,2,   142.9,2,  111.00,2,   34.58,2,    0.00,2,    2.46,2,  -0.001,2,   0.002,2,   0.059,3,  2294.2,2,  2387.0,2,-999.0000,9,-999.0000,9, -999.00,9, -999.00,9,  -999.0,9,  -999.0,-999.000,9,-999.000,   0.004,2,-999.0000,   2.5085,-999.0000,-999.000
  316N145_8,        I03,     460,          1,         16,         16,2,19950429,       2313,   -20.0000,   105.7493,       5290,  2020.5,   2.3535,  34.7211,2,  34.7200,2,    149.1,2,   148.3,2,  117.44,2,   34.43,2,    0.00,2,    2.44,2,-999.000,9,-999.000,9,-999.000,9,  2296.9,2,  2392.0,2,-999.0000,9,-999.0000,9, -999.00,9, -999.00,9,  -999.0,9,  -999.0,-999.000,9,-999.000,-999.000,9,-999.0000,   2.2096,-999.0000,-999.000
  316N145_8,        I03,     460,          1,         15,         15,2,19950429,       2313,   -20.0000,   105.7493,       5290,  2222.9,   2.1306,  34.7255,2,  34.7246,2,    153.3,2,   153.0,2,  121.97,2,   34.23,2,    0.00,2,    2.43,2,-999.000,9,-999.000,9,-999.000,9,  2298.9,2,  2396.0,2,-999.0000,9,-999.0000,9, -999.00,9, -999.00,9,  -999.0,9,  -999.0,-999.000,9,-999.000,-999.000,9,-999.0000,   1.9726,-999.0000,-999.000
  316N145_8,        I03,     460,          1,         14,         14,2,19950429,       2313,   -20.0000,   105.7493,       5290,  2425.8,   1.9688,  34.7263,2,  34.7248,2,    156.5,2,   157.5,2,  124.33,2,   34.08,2,    0.00,2,    2.40,2,   0.001,2,   0.003,2,-999.000,9,  2298.4,2,  2402.0,2,-999.0000,9,-999.0000,9, -999.00,9, -999.00,9,  -999.0,9,  -999.0,-999.000,9,-999.000,-999.000,9,-999.0000,   1.7955,-999.0000,-999.000
  316N145_8,        I03,     460,          1,         13,         13,2,19950429,       2313,   -20.0000,   105.7493,       5290,  2631.1,   1.8184,  34.7257,2,  34.7262,2,    164.9,2,   164.6,2,  124.28,2,   33.68,2,    0.00,2,    2.37,2,-999.000,9,-999.000,9,-999.000,9,  2295.9,2,  2401.0,2,-999.0000,9,-999.0000,9, -999.00,9, -999.00,9,  -999.0,9,  -999.0,-999.000,9,-999.000,-999.000,9,-999.0000,   1.6293,-999.0000,-999.000
  316N145_8,        I03,     460,          1,         12,         12,2,19950429,       2313,   -20.0000,   105.7493,       5290,  2833.2,   1.6904,  34.7250,2,  34.7262,2,    170.3,2,   169.5,2,  125.55,2,   33.58,2,    0.00,2,    2.35,2,  -0.001,2,   0.001,2,-999.000,9,  2293.2,2,  2400.0,2,-999.0000,9,-999.0000,9, -999.00,9, -999.00,9,  -999.0,9,  -999.0,-999.000,9,-999.000,-999.000,9,-999.0000,   1.4851,-999.0000,-999.000
  316N145_8,        I03,     460,          1,         11,         11,2,19950429,       2313,   -20.0000,   105.7493,       5290,  3036.1,   1.5730,  34.7235,2,  34.7242,2,    176.3,2,   175.4,2,  125.50,2,   33.23,2,    0.00,2,    2.33,2,   0.002,2,   0.002,2,  -0.057,3,  2290.2,2,  2396.0,2,-999.0000,9,-999.0000,9, -999.00,9, -999.00,9,  -999.0,9,  -999.0,-999.000,9,-999.000,   0.002,2,-999.0000,   1.3509,-999.0000,-999.000
  316N145_8,        I03,     460,          1,         10,         10,2,19950429,       2313,   -20.0000,   105.7493,       5290,  3240.7,   1.4497,  34.7215,2,  34.7213,2,    180.4,2,   179.6,2,  126.63,2,   33.08,2,    0.00,2,    2.32,2,   0.000,2,   0.001,2,-999.000,9,  2288.5,6,  2397.5,6,-999.0000,9,-999.0000,9, -999.00,9, -999.00,9,  -999.0,9,  -999.0,-999.000,9,-999.000,-999.000,9,-999.0000,   1.2106,-999.0000,-999.000
  316N145_8,        I03,     460,          1,          9,          9,2,19950429,       2313,   -20.0000,   105.7493,       5290,  3444.1,   1.3541,  34.7192,2,  34.7181,2,    183.0,2,   182.9,2,  127.90,2,   33.03,2,    0.00,2,    2.31,2,-999.000,9,-999.000,9,-999.000,9,  2288.3,2,  2398.0,2,-999.0000,9,-999.0000,9, -999.00,9, -999.00,9,  -999.0,9,  -999.0,-999.000,9,-999.000,-999.000,9,-999.0000,   1.0970,-999.0000,-999.000
  316N145_8,        I03,     460,          1,          8,          8,2,19950429,       2313,   -20.0000,   105.7493,       5290,  3647.3,   1.2929,  34.7172,2,  34.7167,2,    185.2,2,   185.0,2,  128.73,2,   32.98,2,    0.00,2,    2.30,2,   0.001,2,   0.001,2,-999.000,9,  2287.9,2,  2396.0,2,-999.0000,9,-999.0000,9, -999.00,9, -999.00,9,  -999.0,9,  -999.0,-999.000,9,-999.000,-999.000,9,-999.0000,   1.0168,-999.0000,-999.000
  316N145_8,        I03,     460,          1,          7,          7,2,19950429,       2313,   -20.0000,   105.7493,       5290,  3851.7,   1.2463,  34.7161,2,  34.7154,2,    186.4,2,   187.8,2,  128.90,2,   32.88,2,    0.00,2,    2.29,2,-999.000,9,-999.000,9,-999.000,9,  2286.9,2,  2402.0,2,-999.0000,9,-999.0000,9, -999.00,9, -999.00,9,  -999.0,9,  -999.0,-999.000,9,-999.000,-999.000,9,-999.0000,   0.9502,-999.0000,-999.000
  316N145_8,        I03,     460,          1,          6,          6,2,19950429,       2313,   -20.0000,   105.7493,       5290,  4056.9,   1.2120,  34.7149,2,  34.7142,2,    188.7,2,   189.6,2,  129.29,2,   32.78,2,    0.00,2,    2.28,2,-999.000,9,-999.000,9,  -0.044,3,  2286.5,2,  2402.0,2,-999.0000,9,-999.0000,9, -999.00,9, -999.00,9,  -999.0,9,  -999.0,-999.000,9,-999.000,-999.000,9,-999.0000,   0.8950,-999.0000,-999.000
  316N145_8,        I03,     460,          1,          5,          5,2,19950429,       2313,   -20.0000,   105.7493,       5290,  4310.5,   1.1867,  34.7140,2,  34.7126,2,    193.1,2,   191.8,2,  128.59,2,   32.68,2,    0.00,2,    2.27,2,  -0.002,2,   0.003,2,-999.000,9,  2283.6,2,  2397.0,2,-999.0000,9,-999.0000,9, -999.00,9, -999.00,9,  -999.0,9,  -999.0,-999.000,9,-999.000,-999.000,9,-999.0000,   0.8425,-999.0000,-999.000
  316N145_8,        I03,     460,          1,          4,          4,2,19950429,       2313,   -20.0000,   105.7493,       5290,  4568.6,   1.1729,  34.7139,2,  34.7122,2,    194.1,2,   194.6,2,  128.10,2,   32.58,2,    0.00,2,    2.25,2,-999.000,9,-999.000,9,-999.000,9,  2281.8,2,  2398.0,2,-999.0000,9,-999.0000,9, -999.00,9, -999.00,9,  -999.0,9,  -999.0,-999.000,9,-999.000,-999.000,9,-999.0000,   0.8001,-999.0000,-999.000
  316N145_8,        I03,     460,          1,          3,          3,2,19950429,       2313,   -20.0000,   105.7493,       5290,  4824.0,   1.1640,  34.7128,2,  34.7107,3,    196.8,2,   197.0,2,  127.61,2,   32.44,2,    0.00,2,    2.25,2,-999.000,9,-999.000,9,-999.000,9,  2280.3,2,  2393.0,2,-999.0000,9,-999.0000,9, -999.00,9, -999.00,9,  -999.0,9,  -999.0,-999.000,9,-999.000,-999.000,9,-999.0000,   0.7618,-999.0000,-999.000
  316N145_8,        I03,     460,          1,          2,          2,2,19950429,       2313,   -20.0000,   105.7493,       5290,  5079.9,   1.1508,  34.7115,2,  34.7105,2,    199.9,2,   199.7,2,  126.47,2,   32.34,2,    0.00,2,    2.24,2,   0.002,2,   0.004,2,-999.000,9,  2276.8,2,  2393.0,2,-999.0000,9,-999.0000,9, -999.00,9, -999.00,9,  -999.0,9,  -999.0,-999.000,9,-999.000,-999.000,9,-999.0000,   0.7186,-999.0000,-999.000
  316N145_8,        I03,     460,          1,          1,          1,2,19950429,       2313,   -20.0000,   105.7493,       5290,  5414.7,   1.1418,  34.7106,2,  34.7093,2,    203.0,2,   202.6,2,  125.11,2,   32.19,2,    0.00,2,    2.22,2,   0.002,2,   0.004,2,-999.000,9,  2273.3,2,  2384.0,2,-999.0000,9,-999.0000,9, -999.00,9, -999.00,9,  -999.0,9,  -999.0,-999.000,9,-999.000,-999.000,9,-999.0000,   0.6688,-999.0000,-999.000