BOTTLE,20140514CCHSIOSE
EXPOCODE,SECT_ID,STNNBR,CASTNO,SAMPNO,BTLNBR,BTLNBR_FLAG_W,DATE,TIME,LATITUDE,LONGITUDE,DEPTH,CTDPRS,CTDTMP,CTDSAL,CTDSAL_FLAG_W,SALNTY,SALNTY_FLAG_W,CTDOXY,CTDOXY_FLAG_W,OXYGEN,OXYGEN_FLAG_W,SILCAT,SILCAT_FLAG_W,NITRAT,NITRAT_FLAG_W,NITRIT,NITRIT_FLAG_W,PHSPHT,PHSPHT_FLAG_W,CFC-11,CFC-11_FLAG_W,CFC-12,CFC-12_FLAG_W,CFC113,CFC113_FLAG_W,TCARBN,TCARBN_FLAG_W,ALKALI,ALKALI_FLAG_W,TRITUM,TRITUM_FLAG_W,HELIUM,HELIUM_FLAG_W,DELHE3,DELHE3_FLAG_W,DELC13,DELC13_FLAG_W,DELC14,DELC14_FLAG_W,C14ERR,NEON,NEON_FLAG_W,NEONER,CCL4,CCL4_FLAG_W,HELIER,THETA,TRITER,DELHER
,,,,,,,,,,,METERS,DBAR,ITS-90,PSS-78,,PSS-78,,UMOL/KG,,UMOL/KG,,UMOL/KG,,UMOL/KG,,UMOL/KG,,UMOL/KG,,PMOL/KG,,PMOL/KG,,PMOL/KG,,UMOL/KG,,UMOL/KG,,TU,,NMOL/KG,,PERCNT,,/MILLE,,/MILLE,,/MILLE,NMOL/KG,,NMOL/KG,PMOL/KG,,NMOL/KG,DEG C,TU,PERCNT
  316N145_8,        I03,     548,          1,         36,         36,2,19950529,       0345,   -19.9997,    54.4337,       4045,     6.7,  25.5591,  35.0273,2,  35.0265,2,    200.1,3,   207.5,2,    2.88,2,    0.13,2,    0.00,2,    0.12,2,   1.810,2,   1.041,2,-999.000,9,  1949.0,6,  2293.0,6,-999.0000,9,-999.0000,9, -999.00,9, -999.00,9,  -999.0,9,  -999.0,-999.000,9,-999.000,-999.000,9,-999.0000,  25.5576,-999.0000,-999.000
  316N145_8,        I03,     548,          1,         35,         35,2,19950529,       0345,   -19.9997,    54.4337,       4045,    55.6,  25.5687,  35.0270,2,  35.0263,2,    207.6,2,   206.8,2,    2.86,2,    0.13,2,    0.00,2,    0.12,2,-999.000,9,-999.000,9,-999.000,9,  -999.0,9,  -999.0,9,-999.0000,9,-999.0000,9, -999.00,9, -999.00,9,  -999.0,9,  -999.0,-999.000,9,-999.000,-999.000,9,-999.0000,  25.5564,-999.0000,-999.000
  316N145_8,        I03,     548,          1,         34,         34,2,19950529,       0345,   -19.9997,    54.4337,       4045,   105.6,  22.7988,  35.2720,2,  35.2648,2,    204.4,2,   198.0,2,    3.30,2,    0.57,2,    0.14,2,    0.21,2,   2.014,2,   1.135,2,-999.000,9,  -999.0,9,  -999.0,9,-999.0000,9,-999.0000,9, -999.00,9, -999.00,9,  -999.0,9,  -999.0,-999.000,9,-999.000,-999.000,9,-999.0000,  22.7773,-999.0000,-999.000
  316N145_8,        I03,     548,          1,         33,         33,2,19950529,       0345,   -19.9997,    54.4337,       4045,   156.1,  20.4796,  35.3000,2,  35.2993,2,    164.2,2,   157.5,2,    7.70,2,    7.14,2,    0.02,2,    0.58,2,-999.000,9,-999.000,9,-999.000,9,  -999.0,9,  -999.0,9,-999.0000,9,-999.0000,9, -999.00,9, -999.00,9,  -999.0,9,  -999.0,-999.000,9,-999.000,-999.000,9,-999.0000,  20.4502,-999.0000,-999.000
  316N145_8,        I03,     548,          1,         32,         32,2,19950529,       0345,   -19.9997,    54.4337,       4045,   206.4,  18.3767,  35.3813,2,  35.3752,2,    156.6,2,   148.9,2,   10.23,2,    9.86,2,    0.01,2,    0.75,2,-999.000,9,-999.000,9,-999.000,9,  -999.0,9,  -999.0,9,-999.0000,9,-999.0000,9, -999.00,9, -999.00,9,  -999.0,9,  -999.0,-999.000,9,-999.000,-999.000,9,-999.0000,  18.3406,-999.0000,-999.000
  316N145_8,        I03,     548,          1,         31,         31,2,19950529,       0345,   -19.9997,    54.4337,       4045,   256.2,  16.9028,  35.4311,2,  35.4280,2,    158.4,2,   157.9,2,   10.67,2,    9.96,2,    0.01,2,    0.77,2,   1.902,2,   1.006,2,-999.000,9,  -999.0,9,  -999.0,9,-999.0000,9,-999.0000,9, -999.00,9, -999.00,9,  -999.0,9,  -999.0,-999.000,9,-999.000,-999.000,9,-999.0000,  16.8605,-999.0000,-999.000
  316N145_8,        I03,     548,          1,         30,         30,2,19950529,       0345,   -19.9997,    54.4337,       4045,   305.9,  15.1083,  35.3304,2,  35.3207,2,    167.0,2,   165.1,2,   11.57,2,   11.61,2,    0.01,2,    0.88,2,-999.000,9,-999.000,9,-999.000,9,  -999.0,9,  -999.0,9,-999.0000,9,-999.0000,9, -999.00,9, -999.00,9,  -999.0,9,  -999.0,-999.000,9,-999.000,-999.000,9,-999.0000,  15.0614,-999.0000,-999.000
  316N145_8,        I03,     548,          1,         29,         29,2,19950529,       0345,   -19.9997,    54.4337,       4045,   355.9,  13.7450,  35.2240,2,  35.2249,2,    171.0,2,   176.7,2,   11.08,2,   12.43,2,    0.01,2,    0.93,2,-999.000,9,-999.000,9,-999.000,9,  -999.0,9,  -999.0,9,-999.0000,9,-999.0000,9, -999.00,9, -999.00,9,  -999.0,9,  -999.0,-999.000,9,-999.000,-999.000,9,-999.0000,  13.6939,-999.0000,-999.000
  316N145_8,        I03,     548,          1,         28,         28,2,19950529,       0345,   -19.9997,    54.4337,       4045,   406.5,  13.0325,  35.1761,2,  35.1747,2,    184.9,2,   189.2,2,    9.67,2,   12.29,2,    0.01,2,    0.92,2,   2.138,2,   1.096,2,-999.000,9,  -999.0,9,  -999.0,9,-999.0000,9,-999.0000,9, -999.00,9, -999.00,9,  -999.0,9,  -999.0,-999.000,9,-999.000,-999.000,9,-999.0000,  12.9759,-999.0000,-999.000
  316N145_8,        I03,     548,          1,         27,         27,2,19950529,       0345,   -19.9997,    54.4337,       4045,   457.3,  12.1003,  35.0747,2,  35.0772,2,    199.8,2,   202.2,2,    8.48,2,   12.72,2,    0.01,2,    0.94,2,-999.000,9,-999.000,9,-999.000,9,  -999.0,9,  -999.0,9,-999.0000,9,-999.0000,9, -999.00,9, -999.00,9,  -999.0,9,  -999.0,-999.000,9,-999.000,-999.000,9,-999.0000,  12.0397,-999.0000,-999.000
  316N145_8,        I03,     548,          1,         26,         26,2,19950529,       0345,   -19.9997,    54.4337,       4045,   507.1,  11.1600,  34.9516,2,  34.9576,2,    205.2,2,   207.5,2,    8.46,2,   14.23,2,    0.00,2,    1.03,2,-999.000,9,-999.000,9,-999.000,9,  -999.0,9,  -999.0,9,-999.0000,9,-999.0000,9, -999.00,9, -999.00,9,  -999.0,9,  -999.0,-999.000,9,-999.000,-999.000,9,-999.0000,  11.0961,-999.0000,-999.000
  316N145_8,        I03,     548,          1,         25,         25,2,19950529,       0345,   -19.9997,    54.4337,       4045,   607.4,   9.4836,  34.7470,2,  34.7496,2,    209.4,2,   210.3,2,   10.52,2,   17.97,2,    0.00,2,    1.25,2,   1.809,2,   0.898,2,-999.000,9,  -999.0,9,  -999.0,9,-999.0000,9,-999.0000,9, -999.00,9, -999.00,9,  -999.0,9,  -999.0,-999.000,9,-999.000,-999.000,9,-999.0000,   9.4141,-999.0000,-999.000
  316N145_8,        I03,     548,          1,         24,         24,2,19950529,       0345,   -19.9997,    54.4337,       4045,   707.7,   8.0716,  34.6292,2,  34.6315,2,    189.6,2,   189.5,2,   20.21,2,   23.18,2,    0.00,2,    1.59,2,-999.000,9,-999.000,9,-999.000,9,  -999.0,9,  -999.0,9,-999.0000,9,-999.0000,9, -999.00,9, -999.00,9,  -999.0,9,  -999.0,-999.000,9,-999.000,-999.000,9,-999.0000,   7.9977,-999.0000,-999.000
  316N145_8,        I03,     548,          1,         23,         23,2,19950529,       0345,   -19.9997,    54.4337,       4045,   809.0,   6.7132,  34.5905,2,  34.5901,2,    158.6,2,   157.2,2,   39.58,2,   28.95,2,    0.00,2,    2.00,2,-999.000,9,-999.000,9,-999.000,9,  -999.0,9,  -999.0,9,-999.0000,9,-999.0000,9, -999.00,9, -999.00,9,  -999.0,9,  -999.0,-999.000,9,-999.000,-999.000,9,-999.0000,   6.6363,-999.0000,-999.000
  316N145_8,        I03,     548,          1,         22,         22,2,19950529,       0345,   -19.9997,    54.4337,       4045,   909.4,   6.0182,  34.6134,2,  34.6140,2,    140.8,2,   137.0,2,   54.79,2,   31.76,2,    0.00,2,    2.25,2,   0.176,2,   0.082,2,-999.000,9,  -999.0,9,  -999.0,9,-999.0000,9,-999.0000,9, -999.00,9, -999.00,9,  -999.0,9,  -999.0,-999.000,9,-999.000,-999.000,9,-999.0000,   5.9359,-999.0000,-999.000
  316N145_8,        I03,     548,          1,         21,         21,2,19950529,       0345,   -19.9997,    54.4337,       4045,  1009.0,   5.4970,  34.6433,2,  34.6434,2,    125.9,2,   124.0,2,   66.98,2,   33.49,2,    0.00,2,    2.40,2,-999.000,9,-999.000,9,-999.000,9,  -999.0,9,  -999.0,9,-999.0000,9,-999.0000,9, -999.00,9, -999.00,9,  -999.0,9,  -999.0,-999.000,9,-999.000,-999.000,9,-999.0000,   5.4088,-999.0000,-999.000
  316N145_8,        I03,     548,          1,         20,         20,2,19950529,       0345,   -19.9997,    54.4337,       4045,  1109.7,   5.0184,  34.6568,2,  34.6548,2,    121.6,2,   121.3,2,   74.55,2,   34.28,2,    0.00,2,    2.45,2,-999.000,9,-999.000,9,-999.000,9,  -999.0,9,  -999.0,9,-999.0000,9,-999.0000,9, -999.00,9, -999.00,9,  -999.0,9,  -999.0,-999.000,9,-999.000,-999.000,9,-999.0000,   4.9247,-999.0000,-999.000
  316N145_8,        I03,     548,          1,         19,         19,2,19950529,       0345,   -19.9997,    54.4337,       4045,  1210.6,   4.4168,  34.6517,2,  34.6534,2,    126.4,2,   127.6,2,   79.35,2,   34.47,2,    0.00,2,    2.47,2,-999.000,9,-999.000,9,-999.000,9,  -999.0,9,  -999.0,9,-999.0000,9,-999.0000,9, -999.00,9, -999.00,9,  -999.0,9,  -999.0,-999.000,9,-999.000,-999.000,9,-999.0000,   4.3191,-999.0000,-999.000
  316N145_8,        I03,     548,          1,         18,         18,2,19950529,       0345,   -19.9997,    54.4337,       4045,  1310.8,   4.0411,  34.6493,2,  34.6501,2,    133.9,2,   133.6,2,   81.82,2,   34.47,2,    0.00,2,    2.46,2,   0.015,2,   0.004,2,-999.000,9,  -999.0,9,  -999.0,9,-999.0000,9,-999.0000,9, -999.00,9, -999.00,9,  -999.0,9,  -999.0,-999.000,9,-999.000,-999.000,9,-999.0000,   3.9382,-999.0000,-999.000
  316N145_8,        I03,     548,          1,         17,         17,2,19950529,       0345,   -19.9997,    54.4337,       4045,  1411.0,   3.5932,  34.6513,2,  34.6507,2,    142.7,2,   143.0,2,   84.53,2,   34.22,2,    0.00,2,    2.43,2,-999.000,9,-999.000,9,-999.000,9,  -999.0,9,  -999.0,9,-999.0000,9,-999.0000,9, -999.00,9, -999.00,9,  -999.0,9,  -999.0,-999.000,9,-999.000,-999.000,9,-999.0000,   3.4862,-999.0000,-999.000
  316N145_8,        I03,     548,          1,         16,         16,2,19950529,       0345,   -19.9997,    54.4337,       4045,  1513.0,   3.2461,  34.6626,2,  34.6627,2,    147.7,2,   149.5,2,   87.93,2,   33.87,2,    0.00,2,    2.40,2,-999.000,9,-999.000,9,-999.000,9,  -999.0,9,  -999.0,9,-999.0000,9,-999.0000,9, -999.00,9, -999.00,9,  -999.0,9,  -999.0,-999.000,9,-999.000,-999.000,9,-999.0000,   3.1341,-999.0000,-999.000
  316N145_8,        I03,     548,          1,         15,         15,2,19950529,       0345,   -19.9997,    54.4337,       4045,  1614.9,   2.9680,  34.6755,2,  34.6756,2,    153.8,2,   155.2,2,   91.56,2,   33.67,2,    0.00,2,    2.36,2,-999.000,9,-999.000,9,-999.000,9,  -999.0,9,  -999.0,9,-999.0000,9,-999.0000,9, -999.00,9, -999.00,9,  -999.0,9,  -999.0,-999.000,9,-999.000,-999.000,9,-999.0000,   2.8506,-999.0000,-999.000
  316N145_8,        I03,     548,          1,         14,         14,2,19950529,       0345,   -19.9997,    54.4337,       4045,  1715.7,   2.8148,  34.6876,2,  34.6872,2,    156.4,2,   157.5,2,   94.73,2,   33.57,2,    0.00,2,    2.37,2,-999.000,9,-999.000,9,-999.000,9,  -999.0,9,  -999.0,9,-999.0000,9,-999.0000,9, -999.00,9, -999.00,9,  -999.0,9,  -999.0,-999.000,9,-999.000,-999.000,9,-999.0000,   2.6907,-999.0000,-999.000
  316N145_8,        I03,     548,          1,         13,         13,2,19950529,       0345,   -19.9997,    54.4337,       4045,  1816.4,   2.6174,  34.7004,2,  34.6998,2,    159.7,2,   159.9,2,   99.05,2,   33.46,2,    0.00,2,    2.35,2,   0.002,2,  -0.001,2,-999.000,9,  -999.0,9,  -999.0,9,-999.0000,9,-999.0000,9, -999.00,9, -999.00,9,  -999.0,9,  -999.0,-999.000,9,-999.000,-999.000,9,-999.0000,   2.4874,-999.0000,-999.000
  316N145_8,        I03,     548,          1,         12,         12,2,19950529,       0345,   -19.9997,    54.4337,       4045,  2018.4,   2.3642,  34.7193,2,  34.7182,2,    162.2,2,   162.3,2,  106.65,2,   33.51,2,    0.00,2,    2.35,2,-999.000,9,-999.000,9,-999.000,9,  -999.0,9,  -999.0,9,-999.0000,9,-999.0000,9, -999.00,9, -999.00,9,  -999.0,9,  -999.0,-999.000,9,-999.000,-999.000,9,-999.0000,   2.2203,-999.0000,-999.000
  316N145_8,        I03,     548,          1,         11,         11,2,19950529,       0345,   -19.9997,    54.4337,       4045,  2222.0,   2.1807,  34.7292,2,  34.7288,2,    163.0,2,   161.9,2,  113.80,2,   33.66,2,    0.00,2,    2.39,2,-999.000,9,-999.000,9,-999.000,9,  -999.0,9,  -999.0,9,-999.0000,9,-999.0000,9, -999.00,9, -999.00,9,  -999.0,9,  -999.0,-999.000,9,-999.000,-999.000,9,-999.0000,   2.0219,-999.0000,-999.000
  316N145_8,        I03,     548,          1,         10,         10,2,19950529,       0345,   -19.9997,    54.4337,       4045,  2424.0,   2.0620,  34.7324,2,  34.7327,2,    161.8,2,   162.1,2,  118.39,2,   33.85,2,    0.00,2,    2.39,2,-999.000,9,-999.000,9,-999.000,9,  -999.0,9,  -999.0,9,-999.0000,9,-999.0000,9, -999.00,9, -999.00,9,  -999.0,9,  -999.0,-999.000,9,-999.000,-999.000,9,-999.0000,   1.8872,-999.0000,-999.000
  316N145_8,        I03,     548,          1,          9,          9,2,19950529,       0345,   -19.9997,    54.4337,       4045,  2627.5,   1.9960,  34.7347,2,  34.7353,2,    161.4,2,   161.4,2,  121.59,2,   33.95,2,    0.01,2,    2.40,2,-999.000,9,-999.000,9,-999.000,9,  -999.0,9,  -999.0,9,-999.0000,9,-999.0000,9, -999.00,9, -999.00,9,  -999.0,9,  -999.0,-999.000,9,-999.000,-999.000,9,-999.0000,   1.8037,-999.0000,-999.000
  316N145_8,        I03,     548,          1,          8,          8,2,19950529,       0345,   -19.9997,    54.4337,       4045,  2831.1,   1.9099,  34.7351,2,  34.7351,2,    163.5,2,   162.5,2,  124.08,2,   34.00,2,    0.00,2,    2.41,2,-999.000,9,-999.000,9,-999.000,9,  -999.0,9,  -999.0,9,-999.0000,9,-999.0000,9, -999.00,9, -999.00,9,  -999.0,9,  -999.0,-999.000,9,-999.000,-999.000,9,-999.0000,   1.7001,-999.0000,-999.000
  316N145_8,        I03,     548,          1,          7,          7,2,19950529,       0345,   -19.9997,    54.4337,       4045,  3033.8,   1.8317,  34.7335,2,  34.7345,2,    164.5,2,   164.6,2,  125.63,2,   33.94,2,    0.01,2,    2.41,2,   0.000,2,   0.000,2,-999.000,9,  -999.0,9,  -999.0,9,-999.0000,9,-999.0000,9, -999.00,9, -999.00,9,  -999.0,9,  -999.0,-999.000,9,-999.000,-999.000,9,-999.0000,   1.6041,-999.0000,-999.000
  316N145_8,        I03,     548,          1,          6,          6,2,19950529,       0345,   -19.9997,    54.4337,       4045,  3237.7,   1.7515,  34.7332,2,  34.7335,2,    165.1,3,   166.2,2,  127.89,2,   33.94,2,    0.01,2,    2.42,2,-999.000,9,-999.000,9,-999.000,9,  -999.0,9,  -999.0,9,-999.0000,9,-999.0000,9, -999.00,9, -999.00,9,  -999.0,9,  -999.0,-999.000,9,-999.000,-999.000,9,-999.0000,   1.5055,-999.0000,-999.000
  316N145_8,        I03,     548,          1,          5,          5,2,19950529,       0345,   -19.9997,    54.4337,       4045,  3441.1,   1.6566,  34.7304,2,  34.7300,2,    169.1,3,   170.1,2,  128.26,2,   33.84,2,    0.01,2,    2.41,2,-999.000,9,-999.000,9,-999.000,9,  -999.0,9,  -999.0,9,-999.0000,9,-999.0000,9, -999.00,9, -999.00,9,  -999.0,9,  -999.0,-999.000,9,-999.000,-999.000,9,-999.0000,   1.3923,-999.0000,-999.000
  316N145_8,        I03,     548,          1,          4,          4,2,19950529,       0345,   -19.9997,    54.4337,       4045,  3644.3,   1.5785,  34.7278,2,  34.7276,2,    173.1,3,   174.4,2,  128.39,2,   33.73,2,    0.01,2,    2.39,2,-999.000,9,-999.000,9,-999.000,9,  -999.0,9,  -999.0,9,-999.0000,9,-999.0000,9, -999.00,9, -999.00,9,  -999.0,9,  -999.0,-999.000,9,-999.000,-999.000,9,-999.0000,   1.2951,-999.0000,-999.000
  316N145_8,        I03,     548,          1,          3,          3,2,19950529,       0345,   -19.9997,    54.4337,       4045,  3847.8,   1.4248,  34.7219,2,  34.7217,2,    182.2,3,   182.6,2,  127.34,2,   33.34,2,    0.01,2,    2.34,2,-999.000,9,-999.000,9,-999.000,9,  -999.0,9,  -999.0,9,-999.0000,9,-999.0000,9, -999.00,9, -999.00,9,  -999.0,9,  -999.0,-999.000,9,-999.000,-999.000,9,-999.0000,   1.1242,-999.0000,-999.000
  316N145_8,        I03,     548,          1,          2,          2,2,19950529,       0345,   -19.9997,    54.4337,       4045,  4052.5,   1.3891,  34.7209,2,  34.7202,2,    184.4,3,   185.1,2,  127.01,2,   33.24,2,    0.01,2,    2.34,2,-999.000,9,-999.000,9,-999.000,9,  -999.0,9,  -999.0,9,-999.0000,9,-999.0000,9, -999.00,9, -999.00,9,  -999.0,9,  -999.0,-999.000,9,-999.000,-999.000,9,-999.0000,   1.0673,-999.0000,-999.000
  316N145_8,        I03,     548,          1,          1,          1,2,19950529,       0345,   -19.9997,    54.4337,       4045,  4220.4,   1.3370,  34.7181,2,  34.7180,2,    187.5,3,   187.0,2,  126.43,2,   32.94,2,    0.01,2,    2.30,2,   0.002,2,  -0.001,2,-999.000,9,  -999.0,9,  -999.0,9,-999.0000,9,-999.0000,9, -999.00,9, -999.00,9,  -999.0,9,  -999.0,-999.000,9,-999.000,-999.000,9,-999.0000,   0.9984,-999.0000,-999.000