BOTTLE,20140514CCHSIOSE
EXPOCODE,SECT_ID,STNNBR,CASTNO,SAMPNO,BTLNBR,BTLNBR_FLAG_W,DATE,TIME,LATITUDE,LONGITUDE,DEPTH,CTDPRS,CTDTMP,CTDSAL,CTDSAL_FLAG_W,SALNTY,SALNTY_FLAG_W,CTDOXY,CTDOXY_FLAG_W,OXYGEN,OXYGEN_FLAG_W,SILCAT,SILCAT_FLAG_W,NITRAT,NITRAT_FLAG_W,NITRIT,NITRIT_FLAG_W,PHSPHT,PHSPHT_FLAG_W,CFC-11,CFC-11_FLAG_W,CFC-12,CFC-12_FLAG_W,CFC113,CFC113_FLAG_W,TCARBN,TCARBN_FLAG_W,ALKALI,ALKALI_FLAG_W,TRITUM,TRITUM_FLAG_W,HELIUM,HELIUM_FLAG_W,DELHE3,DELHE3_FLAG_W,DELC13,DELC13_FLAG_W,DELC14,DELC14_FLAG_W,C14ERR,NEON,NEON_FLAG_W,NEONER,CCL4,CCL4_FLAG_W,HELIER,THETA,TRITER,DELHER
,,,,,,,,,,,METERS,DBAR,ITS-90,PSS-78,,PSS-78,,UMOL/KG,,UMOL/KG,,UMOL/KG,,UMOL/KG,,UMOL/KG,,UMOL/KG,,PMOL/KG,,PMOL/KG,,PMOL/KG,,UMOL/KG,,UMOL/KG,,TU,,NMOL/KG,,PERCNT,,/MILLE,,/MILLE,,/MILLE,NMOL/KG,,NMOL/KG,PMOL/KG,,NMOL/KG,DEG C,TU,PERCNT
  316N145_8,        I03,     493,          1,         36,         36,2,19950510,       0213,   -20.0002,    84.0330,       4774,     7.0,  25.5751,  35.0649,2,  35.0643,2,    205.8,2,   210.7,3,    3.47,2,    0.10,2,    0.00,2,    0.11,2,   1.845,2,   1.042,2,-999.000,9,  1952.5,2,  2294.0,2,-999.0000,9,-999.0000,9, -999.00,9, -999.00,9,  -999.0,9,  -999.0,-999.000,9,-999.000,-999.000,9,-999.0000,  25.5735,-999.0000,-999.000
  316N145_8,        I03,     493,          1,         35,         35,2,19950510,       0213,   -20.0002,    84.0330,       4774,    56.6,  25.5693,  35.0645,2,  35.0639,2,    213.1,2,   209.2,2,    3.24,2,    0.10,2,    0.00,2,    0.11,2,   1.854,2,   1.047,2,-999.000,9,  1952.6,6,  2293.5,6,-999.0000,9,-999.0000,9, -999.00,9, -999.00,9,  -999.0,9,  -999.0,-999.000,9,-999.000,-999.000,9,-999.0000,  25.5568,-999.0000,-999.000
  316N145_8,        I03,     493,          1,         34,         34,2,19950510,       0213,   -20.0002,    84.0330,       4774,   106.9,  21.9125,  35.2633,2,  35.2538,2,    190.4,2,   189.3,2,    5.33,2,    0.70,2,    0.12,2,    0.27,2,   2.039,2,   1.128,2,-999.000,9,  2014.1,2,  2311.0,2,-999.0000,9,-999.0000,9, -999.00,9, -999.00,9,  -999.0,9,  -999.0,-999.000,9,-999.000,-999.000,9,-999.0000,  21.8914,-999.0000,-999.000
  316N145_8,        I03,     493,          1,         33,         33,2,19950510,       0213,   -20.0002,    84.0330,       4774,   157.4,  20.0486,  35.4849,2,  35.4733,2,    174.8,2,   173.7,2,    7.20,2,    4.95,2,    0.02,2,    0.45,2,   2.063,2,   1.133,2,-999.000,9,  2052.3,2,  -999.0,5,-999.0000,9,-999.0000,9, -999.00,9, -999.00,9,  -999.0,9,  -999.0,-999.000,9,-999.000,-999.000,9,-999.0000,  20.0194,-999.0000,-999.000
  316N145_8,        I03,     493,          1,         32,         32,2,19950510,       0213,   -20.0002,    84.0330,       4774,   206.6,  18.7335,  35.6911,2,  35.6987,2,    184.6,2,   187.3,2,    5.72,2,    3.74,2,    0.01,2,    0.40,2,   2.252,2,   1.209,2,-999.000,9,  2068.3,2,  -999.0,5,-999.0000,9,-999.0000,9, -999.00,9, -999.00,9,  -999.0,9,  -999.0,-999.000,9,-999.000,-999.000,9,-999.0000,  18.6969,-999.0000,-999.000
  316N145_8,        I03,     493,          1,         31,         31,2,19950510,       0213,   -20.0002,    84.0330,       4774,   257.7,  17.2705,  35.7213,2,  35.7222,2,    198.9,2,   199.2,2,    4.66,2,    3.45,2,    0.01,2,    0.39,2,   2.418,2,   1.281,2,-999.000,9,  2080.5,2,  2345.0,2,-999.0000,9,-999.0000,9, -999.00,9, -999.00,9,  -999.0,9,  -999.0,-999.000,9,-999.000,-999.000,9,-999.0000,  17.2272,-999.0000,-999.000
  316N145_8,        I03,     493,          1,         30,         30,2,19950510,       0213,   -20.0002,    84.0330,       4774,   306.7,  15.4157,  35.5713,2,  35.5515,2,    206.1,2,   209.5,2,    4.22,2,    4.91,2,    0.01,2,    0.49,2,   2.613,2,   1.351,2,-999.000,9,  2090.8,2,  2338.0,2,-999.0000,9,-999.0000,9, -999.00,9, -999.00,9,  -999.0,9,  -999.0,-999.000,9,-999.000,-999.000,9,-999.0000,  15.3680,-999.0000,-999.000
  316N145_8,        I03,     493,          1,         29,         29,2,19950510,       0213,   -20.0002,    84.0330,       4774,   357.0,  13.8702,  35.3745,2,  35.3749,2,    218.6,2,   219.7,2,    3.79,2,    6.48,2,    0.00,2,    0.57,2,   2.816,2,   1.456,2,-999.000,9,  2094.2,2,  2329.0,2,-999.0000,9,-999.0000,9, -999.00,9, -999.00,9,  -999.0,9,  -999.0,-999.000,9,-999.000,-999.000,9,-999.0000,  13.8185,-999.0000,-999.000
  316N145_8,        I03,     493,          1,         28,         28,2,19950510,       0213,   -20.0002,    84.0330,       4774,   406.0,  12.6016,  35.1933,2,  35.1897,2,    224.5,2,   226.6,2,    3.99,2,    8.62,2,    0.00,2,    0.70,2,   2.895,2,   1.471,2,-999.000,9,  2097.9,2,  2318.0,2,-999.0000,9,-999.0000,9, -999.00,9, -999.00,9,  -999.0,9,  -999.0,-999.000,9,-999.000,-999.000,9,-999.0000,  12.5463,-999.0000,-999.000
  316N145_8,        I03,     493,          1,         27,         27,2,19950510,       0213,   -20.0002,    84.0330,       4774,   457.2,  11.7699,  35.0630,2,  35.0625,2,    229.1,2,   232.6,2,    4.18,2,   10.29,2,    0.00,2,    0.79,2,   2.945,2,   1.485,2,-999.000,9,  2099.9,2,  2313.0,2,-999.0000,9,-999.0000,9, -999.00,9, -999.00,9,  -999.0,9,  -999.0,-999.000,9,-999.000,-999.000,9,-999.0000,  11.7103,-999.0000,-999.000
  316N145_8,        I03,     493,          1,         26,         26,2,19950510,       0213,   -20.0002,    84.0330,       4774,   507.2,  11.0265,  34.9455,2,  34.9470,2,    235.9,2,   235.3,2,    4.59,2,   11.85,2,    0.00,2,    0.89,2,   2.910,2,   1.459,2,-999.000,9,  2103.4,2,  2306.0,2,-999.0000,9,-999.0000,9, -999.00,9, -999.00,9,  -999.0,9,  -999.0,-999.000,9,-999.000,-999.000,9,-999.0000,  10.9630,-999.0000,-999.000
  316N145_8,        I03,     493,          1,         25,         25,2,19950510,       0213,   -20.0002,    84.0330,       4774,   605.6,   9.6217,  34.7371,2,  34.7373,2,    228.4,2,   231.5,2,    6.04,2,   15.76,2,    0.00,2,    1.13,2,   2.554,2,   1.263,2,-999.000,9,  2200.4,4,  2297.0,2,-999.0000,9,-999.0000,9, -999.00,9, -999.00,9,  -999.0,9,  -999.0,-999.000,9,-999.000,-999.000,9,-999.0000,   9.5518,-999.0000,-999.000
  316N145_8,        I03,     493,          1,         24,         24,2,19950510,       0213,   -20.0002,    84.0330,       4774,   707.2,   8.0231,  34.5735,2,  34.5717,2,    208.0,2,   204.8,2,   14.41,2,   22.32,2,    0.00,2,    1.55,2,   1.299,2,   0.647,2,-999.000,9,  2141.9,2,  -999.0,5,-999.0000,9,-999.0000,9, -999.00,9, -999.00,9,  -999.0,9,  -999.0,-999.000,9,-999.000,-999.000,9,-999.0000,   7.9495,-999.0000,-999.000
  316N145_8,        I03,     493,          1,         23,         23,2,19950510,       0213,   -20.0002,    84.0330,       4774,   808.4,   6.1393,  34.5026,2,  34.5047,2,    168.1,2,   162.0,2,   39.73,2,   30.01,2,    0.00,2,    2.09,2,   0.242,2,   0.126,2,-999.000,9,  2198.4,2,  -999.0,5,-999.0000,9,-999.0000,9, -999.00,9, -999.00,9,  -999.0,9,  -999.0,-999.000,9,-999.000,-999.000,9,-999.0000,   6.0660,-999.0000,-999.000
  316N145_8,        I03,     493,          1,         22,         22,2,19950510,       0213,   -20.0002,    84.0330,       4774,   910.0,   5.3153,  34.5603,2,  34.5588,2,    128.9,2,   127.6,2,   64.87,2,   34.03,2,    0.00,2,    2.42,2,   0.040,2,   0.022,2,-999.000,9,  2246.0,2,  2340.0,2,-999.0000,9,-999.0000,9, -999.00,9, -999.00,9,  -999.0,9,  -999.0,-999.000,9,-999.000,-999.000,9,-999.0000,   5.2379,-999.0000,-999.000
  316N145_8,        I03,     493,          1,         21,         21,2,19950510,       0213,   -20.0002,    84.0330,       4774,  1010.4,   4.8712,  34.5951,2,  34.5961,2,    115.1,2,   114.2,2,   78.74,2,   35.28,2,    0.01,2,    2.56,2,   0.007,2,   0.006,2,-999.000,9,  2266.6,2,  2351.0,2,-999.0000,9,-999.0000,9, -999.00,9, -999.00,9,  -999.0,9,  -999.0,-999.000,9,-999.000,-999.000,9,-999.0000,   4.7878,-999.0000,-999.000
  316N145_8,        I03,     493,          1,         20,         20,2,19950510,       0213,   -20.0002,    84.0330,       4774,  1111.0,   4.5370,  34.6264,2,  34.6267,2,    112.8,2,   113.8,2,   85.47,2,   35.54,2,    0.01,2,    2.59,2,   0.004,2,   0.004,2,-999.000,9,  2275.1,2,  2361.0,2,-999.0000,9,   1.8650,2,   11.37,2, -999.00,9,  -999.0,9,  -999.0,   7.902,2,   0.024,-999.000,9,   0.0030,   4.4473,-999.0000,    0.10
  316N145_8,        I03,     493,          1,         19,         19,2,19950510,       0213,   -20.0002,    84.0330,       4774,  1211.8,   4.2816,  34.6569,2,  34.6565,2,    115.5,2,   115.7,2,   89.46,2,   35.45,2,    0.01,2,    2.59,2,   0.000,2,   0.003,2,-999.000,9,  2278.5,2,  2362.0,2,-999.0000,9,   1.8720,2,   11.49,2, -999.00,9,  -999.0,9,  -999.0,   7.930,2,   0.058,-999.000,9,   0.0060,   4.1851,-999.0000,    0.15
  316N145_8,        I03,     493,          1,         18,         18,2,19950510,       0213,   -20.0002,    84.0330,       4774,  1413.9,   3.7381,  34.6757,2,  34.6757,2,    124.2,2,   123.0,2,   95.38,2,   35.36,2,    0.01,2,    2.57,2,   0.002,2,  -0.002,2,-999.000,9,  2283.0,2,  2373.0,2,-999.0000,9,   1.8860,2,   12.04,2, -999.00,9,  -999.0,9,  -999.0,   8.032,2,   0.024,-999.000,9,   0.0030,   3.6291,-999.0000,    0.10
  316N145_8,        I03,     493,          1,         17,         17,2,19950510,       0213,   -20.0002,    84.0330,       4774,  1616.5,   3.2939,  34.7110,2,  34.7095,2,    128.4,2,   129.5,2,  103.68,2,   35.11,2,    0.01,2,    2.52,2,-999.000,9,-999.000,9,-999.000,9,  -999.0,5,  2379.0,2,-999.0000,9,   1.9110,2,   12.87,2, -999.00,9,  -999.0,9,  -999.0,   8.158,2,   0.045,-999.000,9,   0.0050,   3.1723,-999.0000,    0.15
  316N145_8,        I03,     493,          1,         16,         16,2,19950510,       0213,   -20.0002,    84.0330,       4774,  1817.9,   2.8778,  34.7209,2,  34.7199,2,    140.4,2,   140.4,2,  107.94,2,   34.67,2,    0.01,2,    2.47,2,-999.000,9,-999.000,9,-999.000,9,  2289.0,2,  2386.0,2,-999.0000,9,   1.8930,2,   13.60,2, -999.00,9,  -999.0,9,  -999.0,   8.140,2,   0.046,-999.000,9,   0.0050,   2.7440,-999.0000,    0.12
  316N145_8,        I03,     493,          1,         15,         15,2,19950510,       0213,   -20.0002,    84.0330,       4774,  2020.1,   2.5520,  34.7249,2,  34.7242,2,    148.9,2,   148.6,2,  111.13,2,   34.23,2,    0.01,2,    2.45,2,-999.000,9,-999.000,9,-999.000,9,  2288.3,2,  2386.0,2,-999.0000,9,   1.9040,2,   14.12,2, -999.00,9,  -999.0,9,  -999.0,   8.100,2,   0.060,-999.000,9,   0.0050,   2.4051,-999.0000,    0.15
  316N145_8,        I03,     493,          1,         14,         14,2,19950510,       0213,   -20.0002,    84.0330,       4774,  2219.0,   2.3005,  34.7260,2,  34.7254,2,    158.7,2,   157.6,2,  112.83,2,   33.79,2,    0.01,2,    2.40,2,  -0.002,2,   0.001,2,-999.000,9,  2285.8,2,  2389.0,2,-999.0000,9,   1.7910,3,   14.86,2, -999.00,9,  -999.0,9,  -999.0,   7.685,4,   0.054,-999.000,9,   0.0060,   2.1400,-999.0000,    0.12
  316N145_8,        I03,     493,          1,         13,         13,2,19950510,       0213,   -20.0002,    84.0330,       4774,  2422.7,   2.0773,  34.7269,2,  34.7266,2,    164.1,2,   164.1,2,  115.17,2,   33.45,2,    0.01,2,    2.41,2,-999.000,9,-999.000,9,-999.000,9,  2284.8,2,  2392.0,2,-999.0000,9,   1.8930,2,   14.92,2, -999.00,9,  -999.0,9,  -999.0,   8.133,2,   0.048,-999.000,9,   0.0050,   1.9023,-999.0000,    0.15
  316N145_8,        I03,     493,          1,         12,         12,2,19950510,       0213,   -20.0002,    84.0330,       4774,  2626.7,   1.9055,  34.7276,2,  34.7272,2,    170.5,2,   169.6,2,  117.09,2,   33.26,2,    0.01,2,    2.39,2,-999.000,9,-999.000,9,-999.000,9,  2283.5,2,  2391.0,2,-999.0000,9,   1.9180,2,   14.75,2, -999.00,9,  -999.0,9,  -999.0,   8.174,2,   0.059,-999.000,9,   0.0080,   1.7151,-999.0000,    0.12
  316N145_8,        I03,     493,          1,         11,         11,2,19950510,       0213,   -20.0002,    84.0330,       4774,  2830.8,   1.7815,  34.7271,2,  34.7264,2,    174.3,2,   174.4,2,  117.71,2,   32.97,2,    0.01,2,    2.35,2,-999.000,9,-999.000,9,-999.000,9,  2281.7,2,  2391.0,2,-999.0000,9,   1.8300,3,   14.92,2, -999.00,9,  -999.0,9,  -999.0,   7.896,3,   0.054,-999.000,9,   0.0050,   1.5744,-999.0000,    0.15
  316N145_8,        I03,     493,          1,         10,         10,2,19950510,       0213,   -20.0002,    84.0330,       4774,  3034.0,   1.6707,  34.7265,2,  34.7260,2,    176.9,2,   176.7,2,  120.94,2,   33.02,2,    0.00,2,    2.33,2,-999.000,9,-999.000,9,-999.000,9,  2285.3,2,  2398.0,2,-999.0000,9,   1.8970,2,   14.10,2, -999.00,9,  -999.0,9,  -999.0,   8.151,2,   0.055,-999.000,9,   0.0080,   1.4466,-999.0000,    0.12
  316N145_8,        I03,     493,          1,          9,          9,2,19950510,       0213,   -20.0002,    84.0330,       4774,  3235.9,   1.5812,  34.7251,2,  34.7240,2,    176.1,2,   176.9,2,  124.41,2,   33.13,2,    0.00,2,    2.32,2,-999.000,9,-999.000,9,-999.000,9,  2289.0,6,  2400.5,6,-999.0000,9,   1.8990,2,   13.39,2, -999.00,9,  -999.0,9,  -999.0,   8.170,2,   0.024,-999.000,9,   0.0030,   1.3394,-999.0000,    0.10
  316N145_8,        I03,     493,          1,          8,          8,2,19950510,       0213,   -20.0002,    84.0330,       4774,  3439.5,   1.5042,  34.7231,2,  34.7225,2,    176.4,2,   176.8,2,  128.55,2,   33.34,2,    0.00,2,    2.36,2,  -0.002,2,   0.002,2,-999.000,9,  2292.8,2,  2404.0,2,-999.0000,9,-999.0000,9, -999.00,9, -999.00,9,  -999.0,9,  -999.0,-999.000,9,-999.000,-999.000,9,-999.0000,   1.2439,-999.0000,-999.000
  316N145_8,        I03,     493,          1,          7,          7,2,19950510,       0213,   -20.0002,    84.0330,       4774,  3645.7,   1.4475,  34.7217,2,  34.7213,2,    179.0,2,   179.1,2,  128.73,2,   33.25,2,    0.00,2,    2.36,2,-999.000,9,-999.000,9,-999.000,9,  2292.5,2,  2404.0,2,-999.0000,9,   1.9010,2,   12.17,2, -999.00,9,  -999.0,9,  -999.0,   8.188,2,   0.044,-999.000,9,   0.0070,   1.1675,-999.0000,    0.12
  316N145_8,        I03,     493,          1,          6,          6,2,19950510,       0213,   -20.0002,    84.0330,       4774,  3849.4,   1.4067,  34.7210,2,  34.7199,2,    181.5,2,   183.8,2,  127.15,2,   32.96,2,    0.00,2,    2.32,2,-999.000,9,-999.000,9,-999.000,9,  2288.4,2,  2405.0,2,-999.0000,9,   1.9220,2,   11.71,2, -999.00,9,  -999.0,9,  -999.0,   8.228,2,   0.025,-999.000,9,   0.0030,   1.1064,-999.0000,    0.10
  316N145_8,        I03,     493,          1,          5,          5,2,19950510,       0213,   -20.0002,    84.0330,       4774,  4054.7,   1.3853,  34.7195,2,  34.7184,2,    183.7,2,   183.9,2,  129.32,2,   33.07,2,    0.00,2,    2.33,2,-999.000,9,-999.000,9,-999.000,9,  2290.8,2,  2404.0,2,-999.0000,9,   1.9180,2,   11.56,2, -999.00,9,  -999.0,9,  -999.0,   8.252,2,   0.055,-999.000,9,   0.0050,   1.0634,-999.0000,    0.12
  316N145_8,        I03,     493,          1,          4,          4,2,19950510,       0213,   -20.0002,    84.0330,       4774,  4257.0,   1.3724,  34.7182,2,  34.7174,2,    183.8,2,   183.7,2,  130.83,2,   33.22,2,    0.00,2,    2.33,2,-999.000,9,-999.000,9,-999.000,9,  2293.3,2,  2409.0,2,-999.0000,9,-999.0000,9, -999.00,9, -999.00,9,  -999.0,9,  -999.0,-999.000,9,-999.000,-999.000,9,-999.0000,   1.0286,-999.0000,-999.000
  316N145_8,        I03,     493,          1,          3,          3,2,19950510,       0213,   -20.0002,    84.0330,       4774,  4461.8,   1.3693,  34.7177,2,  34.7162,2,    184.0,2,   183.9,2,  131.46,2,   33.18,2,    0.00,2,    2.33,2,-999.000,9,-999.000,9,-999.000,9,  2294.3,2,  2410.0,2,-999.0000,9,   1.9070,2,   11.48,2, -999.00,9,  -999.0,9,  -999.0,   8.276,2,   0.050,-999.000,9,   0.0050,   1.0025,-999.0000,    0.15
  316N145_8,        I03,     493,          1,          2,          2,2,19950510,       0213,   -20.0002,    84.0330,       4774,  4667.9,   1.3833,  34.7174,2,  34.7160,2,    184.1,2,   184.5,2,  130.75,2,   33.24,2,    0.00,2,    2.33,2,   0.000,2,  -0.003,2,-999.000,9,  2295.8,2,  2407.0,2,-999.0000,9,-999.0000,9, -999.00,9, -999.00,9,  -999.0,9,  -999.0,-999.000,9,-999.000,-999.000,9,-999.0000,   0.9923,-999.0000,-999.000
  316N145_8,        I03,     493,          1,          1,          1,2,19950510,       0213,   -20.0002,    84.0330,       4774,  4882.6,   1.4045,  34.7171,2,  34.7166,2,    185.1,2,   184.2,2,  131.38,2,   33.25,2,    0.00,2,    2.33,2,   0.001,2,   0.002,2,-999.000,9,  2296.0,2,  2410.0,2,-999.0000,9,   1.9060,2,   11.39,2, -999.00,9,  -999.0,9,  -999.0,   8.222,2,   0.061,-999.000,9,   0.0050,   0.9875,-999.0000,    0.12