BOTTLE,20140514CCHSIOSE
EXPOCODE,SECT_ID,STNNBR,CASTNO,SAMPNO,BTLNBR,BTLNBR_FLAG_W,DATE,TIME,LATITUDE,LONGITUDE,DEPTH,CTDPRS,CTDTMP,CTDSAL,CTDSAL_FLAG_W,SALNTY,SALNTY_FLAG_W,CTDOXY,CTDOXY_FLAG_W,OXYGEN,OXYGEN_FLAG_W,SILCAT,SILCAT_FLAG_W,NITRAT,NITRAT_FLAG_W,NITRIT,NITRIT_FLAG_W,PHSPHT,PHSPHT_FLAG_W,CFC-11,CFC-11_FLAG_W,CFC-12,CFC-12_FLAG_W,CFC113,CFC113_FLAG_W,TCARBN,TCARBN_FLAG_W,ALKALI,ALKALI_FLAG_W,TRITUM,TRITUM_FLAG_W,HELIUM,HELIUM_FLAG_W,DELHE3,DELHE3_FLAG_W,DELC13,DELC13_FLAG_W,DELC14,DELC14_FLAG_W,C14ERR,NEON,NEON_FLAG_W,NEONER,CCL4,CCL4_FLAG_W,HELIER,THETA,TRITER,DELHER
,,,,,,,,,,,METERS,DBAR,ITS-90,PSS-78,,PSS-78,,UMOL/KG,,UMOL/KG,,UMOL/KG,,UMOL/KG,,UMOL/KG,,UMOL/KG,,PMOL/KG,,PMOL/KG,,PMOL/KG,,UMOL/KG,,UMOL/KG,,TU,,NMOL/KG,,PERCNT,,/MILLE,,/MILLE,,/MILLE,NMOL/KG,,NMOL/KG,PMOL/KG,,NMOL/KG,DEG C,TU,PERCNT
  316N145_8,        I03,     531,          1,         31,         31,2,19950522,       1549,   -20.3660,    61.6408,       3570,     8.5,  25.0382,  35.2225,2,  35.2227,2,    207.2,2,   208.0,2,    2.83,2,    0.00,2,    0.00,2,    0.12,2,   1.864,2,   1.056,2,-999.000,9,  1964.1,2,  2308.0,2,-999.0000,9,-999.0000,9, -999.00,9,    1.23,2,    54.3,2,     3.4,-999.000,9,-999.000,-999.000,9,-999.0000,  25.0364,-999.0000,-999.000
  316N145_8,        I03,     531,          1,         30,         30,2,19950522,       1549,   -20.3660,    61.6408,       3570,    55.3,  25.0421,  35.2230,2,  35.2219,2,    208.8,2,   208.0,2,    2.82,2,    0.00,2,    0.00,2,    0.12,2,   1.898,2,   1.068,2,   0.120,3,  1964.5,2,  2305.0,2,-999.0000,9,-999.0000,9, -999.00,9,    1.21,2,    53.5,2,     3.3,-999.000,9,-999.000,   2.136,2,-999.0000,  25.0301,-999.0000,-999.000
  316N145_8,        I03,     531,          1,         29,         29,2,19950522,       1549,   -20.3660,    61.6408,       3570,   106.0,  21.4258,  35.5352,2,  35.5233,2,    213.1,2,   214.0,2,    3.02,2,    0.13,2,    0.02,2,    0.15,2,   2.199,2,   1.216,2,-999.000,9,  2032.3,2,  2324.0,6,-999.0000,9,-999.0000,9, -999.00,9,    1.15,2,    73.1,2,     2.8,-999.000,9,-999.000,-999.000,9,-999.0000,  21.4052,-999.0000,-999.000
  316N145_8,        I03,     531,          1,         28,         28,2,19950522,       1549,   -20.3660,    61.6408,       3570,   156.0,  19.3398,  35.5994,2,  35.5954,2,    189.1,2,   186.9,2,    4.46,2,    3.49,2,    0.01,2,    0.37,2,   2.215,2,   1.198,2,   0.121,3,  2071.0,2,  2331.0,2,-999.0000,9,-999.0000,9, -999.00,9,    0.91,2,    79.0,2,     3.7,-999.000,9,-999.000,   0.552,2,-999.0000,  19.3116,-999.0000,-999.000
  316N145_8,        I03,     531,          1,         27,         27,2,19950522,       1549,   -20.3660,    61.6408,       3570,   206.4,  18.1459,  35.6557,2,  35.6541,2,    193.7,2,   192.5,2,    4.45,2,    3.73,2,    0.01,2,    0.41,2,   2.312,2,   1.247,2,-999.000,9,  2082.5,2,  2338.0,2,-999.0000,9,-999.0000,9, -999.00,9,    1.02,2,    95.3,2,     3.0,-999.000,9,-999.000,-999.000,9,-999.0000,  18.1101,-999.0000,-999.000
  316N145_8,        I03,     531,          1,         26,         26,2,19950522,       1549,   -20.3660,    61.6408,       3570,   256.2,  16.1650,  35.5931,2,  35.6050,2,    208.0,2,   206.9,2,    3.61,2,    3.88,2,    0.01,2,    0.43,2,   2.583,2,   1.359,2,   1.380,3,  2080.6,2,  -999.0,5,-999.0000,9,-999.0000,9, -999.00,9,    1.05,2,   103.4,2,     4.0,-999.000,9,-999.000,   0.371,2,-999.0000,  16.1239,-999.0000,-999.000
  316N145_8,        I03,     531,          1,         25,         25,2,19950522,       1549,   -20.3660,    61.6408,       3570,   308.1,  14.1948,  35.3931,2,  35.3951,2,    216.2,2,   219.0,2,    3.60,2,    6.14,2,    0.01,2,    0.57,2,-999.000,9,-999.000,9,-999.000,9,  -999.0,5,  2328.0,2,-999.0000,9,-999.0000,9, -999.00,9,    1.21,2,    95.4,2,     2.8,-999.000,9,-999.000,-999.000,9,-999.0000,  14.1496,-999.0000,-999.000
  316N145_8,        I03,     531,          1,         24,         24,2,19950522,       1549,   -20.3660,    61.6408,       3570,   357.4,  13.4204,  35.2929,2,  35.2941,2,    219.6,2,   223.7,2,    3.80,2,    7.48,2,    0.01,2,    0.64,2,   2.830,2,   1.453,2,   0.145,3,  2091.7,2,  2323.0,2,-999.0000,9,-999.0000,9, -999.00,9,    1.20,2,    87.8,2,     3.2,-999.000,9,-999.000,   0.501,2,-999.0000,  13.3697,-999.0000,-999.000
  316N145_8,        I03,     531,          1,         23,         23,2,19950522,       1549,   -20.3660,    61.6408,       3570,   407.1,  12.7336,  35.1937,2,  35.1954,2,    225.9,2,   227.3,2,    3.99,2,    8.83,2,    0.00,2,    0.72,2,   2.859,2,   1.450,2,-999.000,9,  2096.0,2,  2319.0,2,-999.0000,9,-999.0000,9, -999.00,9,    1.21,2,    88.9,2,     2.9,-999.000,9,-999.000,-999.000,9,-999.0000,  12.6778,-999.0000,-999.000
  316N145_8,        I03,     531,          1,         22,         22,2,19950522,       1549,   -20.3660,    61.6408,       3570,   457.8,  12.1577,  35.1078,2,  35.1108,2,    230.4,2,   229.4,2,    4.19,2,    9.89,2,    0.00,2,    0.77,2,   2.827,2,   1.426,2,-999.000,9,  2097.5,2,  2313.0,2,-999.0000,9,-999.0000,9, -999.00,9,    1.21,2,    89.9,2,     6.0,-999.000,9,-999.000,-999.000,9,-999.0000,  12.0968,-999.0000,-999.000
  316N145_8,        I03,     531,          1,         21,         21,2,19950522,       1549,   -20.3660,    61.6408,       3570,   506.9,  11.4780,  35.0074,2,  35.0066,2,    231.3,2,   231.5,2,    4.18,2,   11.14,2,    0.00,2,    0.85,2,   2.774,2,   1.393,2,   0.096,3,  2101.2,2,  2308.0,2,-999.0000,9,-999.0000,9, -999.00,9,    1.28,2,    80.3,2,     5.0,-999.000,9,-999.000,   1.081,2,-999.0000,  11.4129,-999.0000,-999.000
  316N145_8,        I03,     531,          1,         20,         20,2,19950522,       1549,   -20.3660,    61.6408,       3570,   606.2,  10.3307,  34.8377,2,  34.8381,2,    227.1,2,   228.2,2,    5.41,2,   14.03,2,    0.00,2,    1.02,2,-999.000,9,-999.000,9,-999.000,9,  2109.6,2,  2302.0,2,-999.0000,9,-999.0000,9, -999.00,9,    1.31,2,    64.4,2,     4.8,-999.000,9,-999.000,-999.000,9,-999.0000,  10.2575,-999.0000,-999.000
  316N145_8,        I03,     531,          1,         19,         19,2,19950522,       1549,   -20.3660,    61.6408,       3570,   707.2,   8.9098,  34.6612,2,  34.6589,2,    213.9,2,   217.7,2,    8.71,2,   18.71,2,    0.00,2,    1.31,2,   1.699,2,   0.842,2,-999.000,9,  2126.0,2,  2300.0,2,-999.0000,9,-999.0000,9, -999.00,9,    1.25,2,    32.4,2,     3.5,-999.000,9,-999.000,-999.000,9,-999.0000,   8.8315,-999.0000,-999.000
  316N145_8,        I03,     531,          1,         18,         18,2,19950522,       1549,   -20.3660,    61.6408,       3570,   806.9,   7.4851,  34.5448,2,  34.5476,2,    194.2,2,   198.9,2,   17.81,2,   23.74,2,    0.00,2,    1.64,2,   0.847,2,   0.432,2,-999.000,9,  2152.7,2,  2302.0,2,-999.0000,9,-999.0000,9, -999.00,9,    1.09,2,   -44.0,2,     4.7,-999.000,9,-999.000,-999.000,9,-999.0000,   7.4038,-999.0000,-999.000
  316N145_8,        I03,     531,          1,         17,         17,2,19950522,       1549,   -20.3660,    61.6408,       3570,   907.5,   5.8834,  34.5271,2,  34.5267,2,    159.1,2,   159.2,2,   44.28,2,   30.35,2,    0.00,2,    2.12,2,   0.223,2,   0.115,2,-999.000,9,  2208.3,2,  2317.0,2,-999.0000,9,-999.0000,9, -999.00,9,    0.74,2,  -107.2,2,     2.5,-999.000,9,-999.000,-999.000,9,-999.0000,   5.8023,-999.0000,-999.000
  316N145_8,        I03,     531,          1,         16,         16,2,19950522,       1549,   -20.3660,    61.6408,       3570,  1008.4,   4.9060,  34.5259,2,  34.5272,2,    149.3,2,   150.6,2,   59.18,2,   32.61,2,    0.00,2,    2.30,2,   0.096,2,   0.050,2,-999.000,9,  2231.7,2,  2332.0,2,-999.0000,9,-999.0000,9, -999.00,9,    0.57,2,  -139.0,2,     2.2,-999.000,9,-999.000,-999.000,9,-999.0000,   4.8226,-999.0000,-999.000
  316N145_8,        I03,     531,          1,         15,         15,2,19950522,       1549,   -20.3660,    61.6408,       3570,  1109.2,   4.5122,  34.5790,2,  34.5768,2,    136.8,2,   136.2,2,   72.24,2,   34.04,2,    0.00,2,    2.41,2,   0.030,2,   0.016,2,-999.000,9,  2253.4,2,  2344.0,2,-999.0000,9,-999.0000,9, -999.00,9,    0.45,2,  -150.1,2,     2.9,-999.000,9,-999.000,-999.000,9,-999.0000,   4.4229,-999.0000,-999.000
  316N145_8,        I03,     531,          1,         14,         14,2,19950522,       1549,   -20.3660,    61.6408,       3570,  1209.2,   4.2195,  34.6317,2,  34.6294,2,    128.9,2,   127.6,2,   82.84,2,   34.69,2,    0.00,2,    2.47,2,   0.009,2,   0.003,2,-999.000,9,  2268.2,2,  2359.0,2,-999.0000,9,-999.0000,9, -999.00,9,    0.35,2,  -162.0,2,     2.9,-999.000,9,-999.000,-999.000,9,-999.0000,   4.1238,-999.0000,-999.000
  316N145_8,        I03,     531,          1,         13,         13,2,19950522,       1549,   -20.3660,    61.6408,       3570,  1310.1,   3.7367,  34.6606,2,  34.6600,2,    131.0,2,   133.2,2,   89.92,2,   34.60,2,    0.00,2,    2.46,2,   0.007,2,   0.001,2,-999.000,9,  2274.0,2,  2363.0,2,-999.0000,9,-999.0000,9, -999.00,9,    0.31,2,  -163.3,2,     3.7,-999.000,9,-999.000,-999.000,9,-999.0000,   3.6368,-999.0000,-999.000
  316N145_8,        I03,     531,          1,         12,         12,2,19950522,       1549,   -20.3660,    61.6408,       3570,  1413.1,   3.4339,  34.6721,2,  34.6716,2,    137.2,2,   138.8,2,   92.83,2,   34.11,2,    0.00,2,    2.44,2,   0.002,2,   0.002,2,  -0.010,3,  2276.4,2,  2369.0,2,-999.0000,9,-999.0000,9, -999.00,9,    0.31,2,  -161.6,2,     3.6,-999.000,9,-999.000,   0.025,2,-999.0000,   3.3283,-999.0000,-999.000
  316N145_8,        I03,     531,          1,         11,         11,2,19950522,       1549,   -20.3660,    61.6408,       3570,  1615.2,   2.8181,  34.6884,2,  34.6896,2,    153.5,2,   154.1,2,   97.22,2,   33.53,2,    0.00,2,    2.37,2,-999.000,9,-999.000,9,-999.000,9,  2273.9,2,  2371.0,2,-999.0000,9,-999.0000,9, -999.00,9,    0.35,2,  -175.9,2,     4.5,-999.000,9,-999.000,-999.000,9,-999.0000,   2.7025,-999.0000,-999.000
  316N145_8,        I03,     531,          1,         10,         10,2,19950522,       1549,   -20.3660,    61.6408,       3570,  1816.1,   2.4873,  34.7056,2,  34.7055,2,    161.8,2,   161.2,2,  102.89,2,   33.24,2,    0.00,2,    2.33,2,-999.000,9,-999.000,9,-999.000,9,  2276.3,2,  2381.0,2,-999.0000,9,-999.0000,9, -999.00,9,    0.35,2,  -170.1,2,     2.9,-999.000,9,-999.000,-999.000,9,-999.0000,   2.3591,-999.0000,-999.000
  316N145_8,        I03,     531,          1,          9,          9,2,19950522,       1549,   -20.3660,    61.6408,       3570,  2019.8,   2.2927,  34.7158,2,  34.7149,2,    165.3,2,   164.3,2,  107.52,2,   33.10,2,    0.00,2,    2.32,2,   0.003,2,  -0.001,2,-999.000,9,  2279.2,2,  2381.0,2,-999.0000,9,-999.0000,9, -999.00,9,    0.34,2,  -174.4,2,     3.5,-999.000,9,-999.000,-999.000,9,-999.0000,   2.1498,-999.0000,-999.000
  316N145_8,        I03,     531,          1,          8,          8,2,19950522,       1549,   -20.3660,    61.6408,       3570,  2222.9,   2.1017,  34.7207,2,  34.7212,2,    169.0,2,   169.2,2,  111.54,2,   33.11,2,    0.00,2,    2.32,2,-999.000,9,-999.000,9,   0.000,3,  2281.0,2,  2387.0,2,-999.0000,9,-999.0000,9, -999.00,9,    0.32,6,  -174.7,6,     5.4,-999.000,9,-999.000,   0.096,2,-999.0000,   1.9442,-999.0000,-999.000
  316N145_8,        I03,     531,          1,          7,          7,2,19950522,       1549,   -20.3660,    61.6408,       3570,  2425.7,   1.9351,  34.7235,2,  34.7237,2,    171.6,2,   171.9,2,  114.93,2,   32.97,2,    0.00,2,    2.30,2,   0.003,2,   0.000,2,-999.000,9,  2280.6,2,  2389.0,2,-999.0000,9,-999.0000,9, -999.00,9,    0.34,2,  -175.4,2,     2.3,-999.000,9,-999.000,-999.000,9,-999.0000,   1.7624,-999.0000,-999.000
  316N145_8,        I03,     531,          1,          6,          6,2,19950522,       1549,   -20.3660,    61.6408,       3570,  2627.8,   1.8098,  34.7242,2,  34.7243,2,    174.1,2,   175.0,2,  117.47,2,   32.88,2,    0.00,2,    2.30,2,-999.000,9,-999.000,9,   0.017,3,  2283.8,2,  2395.0,2,-999.0000,9,-999.0000,9, -999.00,9,    0.31,2,  -179.6,2,     3.0,-999.000,9,-999.000,  -0.053,2,-999.0000,   1.6212,-999.0000,-999.000
  316N145_8,        I03,     531,          1,          5,          5,2,19950522,       1549,   -20.3660,    61.6408,       3570,  2832.3,   1.7066,  34.7241,2,  34.7239,2,    176.6,2,   177.6,2,  119.80,2,   32.89,2,    0.00,2,    2.29,2,  -0.001,2,   0.000,2,-999.000,9,  2284.1,2,  2394.0,2,-999.0000,9,-999.0000,9, -999.00,9,    0.35,2,  -177.7,2,     2.7,-999.000,9,-999.000,-999.000,9,-999.0000,   1.5010,-999.0000,-999.000
  316N145_8,        I03,     531,          1,          4,          4,2,19950522,       1549,   -20.3660,    61.6408,       3570,  3032.9,   1.6470,  34.7232,2,  34.7231,2,    177.9,2,   178.0,2,  120.85,2,   32.89,2,    0.00,2,    2.30,2,-999.000,9,-999.000,9,  -0.010,3,  2283.7,2,  2395.0,2,-999.0000,9,-999.0000,9, -999.00,9,    0.33,2,  -179.7,2,     2.6,-999.000,9,-999.000,  -0.003,2,-999.0000,   1.4236,-999.0000,-999.000
  316N145_8,        I03,     531,          1,          3,          3,2,19950522,       1549,   -20.3660,    61.6408,       3570,  3235.8,   1.6016,  34.7228,2,  34.7223,2,    180.2,2,   179.6,2,  122.11,2,   32.85,2,    0.00,2,    2.30,2,   0.000,2,   0.000,2,-999.000,9,  2283.8,2,  2393.0,2,-999.0000,9,-999.0000,9, -999.00,9,    0.36,2,  -179.9,2,     2.6,-999.000,9,-999.000,-999.000,9,-999.0000,   1.3594,-999.0000,-999.000
  316N145_8,        I03,     531,          1,          2,          2,2,19950522,       1549,   -20.3660,    61.6408,       3570,  3439.1,   1.5689,  34.7223,2,  34.7215,2,    180.3,2,   182.0,3,  122.94,2,   32.86,2,    0.00,2,    2.29,2,-999.000,9,-999.000,9,   0.014,3,  2282.8,6,  2393.5,6,-999.0000,9,-999.0000,9, -999.00,9,    0.11,3,  -198.4,2,     3.0,-999.000,9,-999.000,  -0.030,2,-999.0000,   1.3070,-999.0000,-999.000
  316N145_8,        I03,     531,          1,          1,          1,2,19950522,       1549,   -20.3660,    61.6408,       3570,  3607.5,   1.5667,  34.7216,2,  34.7215,2,    181.1,2,   163.4,4,  123.12,2,   32.87,2,    0.00,2,    2.29,2,  -0.001,2,  -0.001,2,  -0.023,3,  2282.6,2,  2392.0,2,-999.0000,9,-999.0000,9, -999.00,9,    0.31,2,  -176.0,2,     3.9,-999.000,9,-999.000,   0.030,2,-999.0000,   1.2875,-999.0000,-999.000