BOTTLE,20140514CCHSIOSE
EXPOCODE,SECT_ID,STNNBR,CASTNO,SAMPNO,BTLNBR,BTLNBR_FLAG_W,DATE,TIME,LATITUDE,LONGITUDE,DEPTH,CTDPRS,CTDTMP,CTDSAL,CTDSAL_FLAG_W,SALNTY,SALNTY_FLAG_W,CTDOXY,CTDOXY_FLAG_W,OXYGEN,OXYGEN_FLAG_W,SILCAT,SILCAT_FLAG_W,NITRAT,NITRAT_FLAG_W,NITRIT,NITRIT_FLAG_W,PHSPHT,PHSPHT_FLAG_W,CFC-11,CFC-11_FLAG_W,CFC-12,CFC-12_FLAG_W,CFC113,CFC113_FLAG_W,TCARBN,TCARBN_FLAG_W,ALKALI,ALKALI_FLAG_W,TRITUM,TRITUM_FLAG_W,HELIUM,HELIUM_FLAG_W,DELHE3,DELHE3_FLAG_W,DELC13,DELC13_FLAG_W,DELC14,DELC14_FLAG_W,C14ERR,NEON,NEON_FLAG_W,NEONER,CCL4,CCL4_FLAG_W,HELIER,THETA,TRITER,DELHER
,,,,,,,,,,,METERS,DBAR,ITS-90,PSS-78,,PSS-78,,UMOL/KG,,UMOL/KG,,UMOL/KG,,UMOL/KG,,UMOL/KG,,UMOL/KG,,PMOL/KG,,PMOL/KG,,PMOL/KG,,UMOL/KG,,UMOL/KG,,TU,,NMOL/KG,,PERCNT,,/MILLE,,/MILLE,,/MILLE,NMOL/KG,,NMOL/KG,PMOL/KG,,NMOL/KG,DEG C,TU,PERCNT
  316N145_8,        I03,     463,          1,         36,         36,2,19950430,       2335,   -20.0008,   103.1172,       5645,     7.4,  26.2910,  35.2969,2,  35.2967,2,    202.5,2,   204.3,2,    3.37,2,    0.04,2,    0.00,2,    0.07,2,   1.794,2,   1.024,2,-999.000,9,  1965.2,6,  2315.4,6,-999.0000,9,-999.0000,9, -999.00,9, -999.00,9,  -999.0,9,  -999.0,-999.000,9,-999.000,-999.000,9,-999.0000,  26.2893,-999.0000,-999.000
  316N145_8,        I03,     463,          1,         35,         35,2,19950430,       2335,   -20.0008,   103.1172,       5645,    59.2,  24.0831,  35.3859,2,  35.3823,2,    229.0,2,   228.7,2,    3.56,2,    0.04,2,    0.00,2,    0.07,2,   2.095,2,   1.176,2,-999.000,9,  -999.0,9,  -999.0,9,-999.0000,9,-999.0000,9, -999.00,9, -999.00,9,  -999.0,9,  -999.0,-999.000,9,-999.000,-999.000,9,-999.0000,  24.0706,-999.0000,-999.000
  316N145_8,        I03,     463,          1,         34,         34,2,19950430,       2335,   -20.0008,   103.1172,       5645,   108.4,  20.5814,  35.6710,2,  35.6703,2,    201.0,2,   196.1,2,    4.57,2,    1.12,2,    0.18,2,    0.23,2,   2.213,2,   1.222,2,-999.000,9,  -999.0,9,  -999.0,9,-999.0000,9,-999.0000,9, -999.00,9, -999.00,9,  -999.0,9,  -999.0,-999.000,9,-999.000,-999.000,9,-999.0000,  20.5609,-999.0000,-999.000
  316N145_8,        I03,     463,          1,         33,         33,2,19950430,       2335,   -20.0008,   103.1172,       5645,   157.9,  19.0492,  35.8087,2,  35.8016,2,    195.3,2,   195.5,2,    4.56,2,    2.63,2,    0.01,2,    0.30,2,   2.319,2,   1.263,2,-999.000,9,  -999.0,9,  -999.0,9,-999.0000,9,-999.0000,9, -999.00,9, -999.00,9,  -999.0,9,  -999.0,-999.000,9,-999.000,-999.000,9,-999.0000,  19.0209,-999.0000,-999.000
  316N145_8,        I03,     463,          1,         32,         32,2,19950430,       2335,   -20.0008,   103.1172,       5645,   209.3,  17.5422,  35.7989,2,  35.7856,2,    206.4,2,   203.9,2,    4.13,2,    2.69,2,    0.01,2,    0.34,2,   2.464,2,   1.318,2,-999.000,9,  -999.0,9,  -999.0,9,-999.0000,9,-999.0000,9, -999.00,9, -999.00,9,  -999.0,9,  -999.0,-999.000,9,-999.000,-999.000,9,-999.0000,  17.5067,-999.0000,-999.000
  316N145_8,        I03,     463,          1,         31,         31,2,19950430,       2335,   -20.0008,   103.1172,       5645,   258.5,  15.4776,  35.6186,2,  35.6084,2,    211.4,2,   214.0,2,    3.70,2,    4.00,2,    0.00,2,    0.43,2,   2.716,2,   1.435,2,-999.000,9,  -999.0,9,  -999.0,9,-999.0000,9,-999.0000,9, -999.00,9, -999.00,9,  -999.0,9,  -999.0,-999.000,9,-999.000,-999.000,9,-999.0000,  15.4373,-999.0000,-999.000
  316N145_8,        I03,     463,          1,         30,         30,2,19950430,       2335,   -20.0008,   103.1172,       5645,   308.3,  13.6700,  35.3823,2,  35.3729,2,    220.9,2,   224.2,2,    3.48,2,    6.17,2,    0.00,2,    0.55,2,   2.966,2,   1.539,2,-999.000,9,  -999.0,9,  -999.0,9,-999.0000,9,-999.0000,9, -999.00,9, -999.00,9,  -999.0,9,  -999.0,-999.000,9,-999.000,-999.000,9,-999.0000,  13.6259,-999.0000,-999.000
  316N145_8,        I03,     463,          1,         29,         29,2,19950430,       2335,   -20.0008,   103.1172,       5645,   358.8,  12.3402,  35.1773,2,  35.1659,2,    227.6,2,   231.1,2,    3.46,2,    8.40,2,    0.00,2,    0.69,2,   3.097,2,   1.586,2,-999.000,9,  -999.0,9,  -999.0,9,-999.0000,9,-999.0000,9, -999.00,9, -999.00,9,  -999.0,9,  -999.0,-999.000,9,-999.000,-999.000,9,-999.0000,  12.2921,-999.0000,-999.000
  316N145_8,        I03,     463,          1,         28,         28,2,19950430,       2335,   -20.0008,   103.1172,       5645,   408.9,  11.3007,  35.0048,2,  35.0000,2,    236.3,2,   234.6,2,    4.06,2,   10.63,2,    0.00,2,    0.82,2,   3.097,2,   1.571,2,-999.000,9,  -999.0,9,  -999.0,9,-999.0000,9,-999.0000,9, -999.00,9, -999.00,9,  -999.0,9,  -999.0,-999.000,9,-999.000,-999.000,9,-999.0000,  11.2489,-999.0000,-999.000
  316N145_8,        I03,     463,          1,         27,         27,2,19950430,       2335,   -20.0008,   103.1172,       5645,   509.8,   9.8456,  34.7733,2,  34.7742,2,    233.9,2,   235.0,2,    5.28,2,   14.60,2,    0.00,2,    1.06,2,   2.959,2,   1.480,2,-999.000,9,  -999.0,9,  -999.0,9,-999.0000,9,-999.0000,9, -999.00,9, -999.00,9,  -999.0,9,  -999.0,-999.000,9,-999.000,-999.000,9,-999.0000,   9.7863,-999.0000,-999.000
  316N145_8,        I03,     463,          1,         26,         26,2,19950430,       2335,   -20.0008,   103.1172,       5645,   607.7,   8.1954,  34.5816,2,  34.5819,2,    209.7,2,  -999.0,5,   12.88,2,   21.48,2,    0.00,2,    1.49,2,   1.667,2,   0.829,2,-999.000,9,  -999.0,9,  -999.0,9,-999.0000,9,-999.0000,9, -999.00,9, -999.00,9,  -999.0,9,  -999.0,-999.000,9,-999.000,-999.000,9,-999.0000,   8.1318,-999.0000,-999.000
  316N145_8,        I03,     463,          1,         25,         25,2,19950430,       2335,   -20.0008,   103.1172,       5645,   707.1,   6.5980,  34.5252,2,  34.5254,2,    174.9,2,   160.3,2,   38.40,2,   29.19,2,    0.00,2,    2.03,2,   0.499,2,   0.255,2,-999.000,9,  -999.0,9,  -999.0,9,-999.0000,9,-999.0000,9, -999.00,9, -999.00,9,  -999.0,9,  -999.0,-999.000,9,-999.000,-999.000,9,-999.0000,   6.5320,-999.0000,-999.000
  316N145_8,        I03,     463,          1,         24,         24,2,19950430,       2335,   -20.0008,   103.1172,       5645,   807.0,   5.7927,  34.5780,2,  34.5778,2,    119.5,2,   115.9,2,   66.84,2,   34.11,2,    0.00,2,    2.41,2,   0.071,2,   0.037,2,-999.000,9,  -999.0,9,  -999.0,9,-999.0000,9,-999.0000,9, -999.00,9, -999.00,9,  -999.0,9,  -999.0,-999.000,9,-999.000,-999.000,9,-999.0000,   5.7216,-999.0000,-999.000
  316N145_8,        I03,     463,          1,         23,         23,2,19950430,       2335,   -20.0008,   103.1172,       5645,   908.0,   5.3192,  34.6045,2,  34.6047,2,    102.0,2,   103.6,2,   80.69,2,   35.55,2,    0.00,2,    2.54,2,   0.025,2,   0.007,2,-999.000,9,  -999.0,9,  -999.0,9,-999.0000,9,-999.0000,9, -999.00,9, -999.00,9,  -999.0,9,  -999.0,-999.000,9,-999.000,-999.000,9,-999.0000,   5.2418,-999.0000,-999.000
  316N145_8,        I03,     463,          1,         22,         22,2,19950430,       2335,   -20.0008,   103.1172,       5645,  1009.0,   4.7412,  34.6057,2,  34.6068,2,    105.3,2,   106.6,2,   85.86,2,   35.75,2,    0.00,2,    2.57,2,-999.000,9,-999.000,9,-999.000,9,  -999.0,9,  -999.0,9,-999.0000,9,-999.0000,9, -999.00,9, -999.00,9,  -999.0,9,  -999.0,-999.000,9,-999.000,-999.000,9,-999.0000,   4.6588,-999.0000,-999.000
  316N145_8,        I03,     463,          1,         21,         21,2,19950430,       2335,   -20.0008,   103.1172,       5645,  1110.3,   4.4924,  34.6283,2,  34.6288,2,    107.5,2,   109.1,2,   93.34,2,   36.04,2,    0.00,2,    2.60,2,-999.000,9,-999.000,9,-999.000,9,  -999.0,9,  -999.0,9,-999.0000,9,-999.0000,9, -999.00,9, -999.00,9,  -999.0,9,  -999.0,-999.000,9,-999.000,-999.000,9,-999.0000,   4.4031,-999.0000,-999.000
  316N145_8,        I03,     463,          1,         20,         20,2,19950430,       2335,   -20.0008,   103.1172,       5645,  1213.3,   4.1825,  34.6389,2,  34.6390,2,    111.9,2,   111.8,2,   94.98,2,   35.99,2,    0.00,2,    2.59,2,-999.000,9,-999.000,9,-999.000,9,  -999.0,9,  -999.0,9,-999.0000,9,-999.0000,9, -999.00,9, -999.00,9,  -999.0,9,  -999.0,-999.000,9,-999.000,-999.000,9,-999.0000,   4.0868,-999.0000,-999.000
  316N145_8,        I03,     463,          1,         19,         19,2,19950430,       2335,   -20.0008,   103.1172,       5645,  1414.8,   3.5287,  34.6537,2,  34.6532,2,    123.8,2,   125.5,2,   98.72,2,   35.65,2,    0.00,2,    2.55,2,-999.000,9,-999.000,9,-999.000,9,  -999.0,9,  -999.0,9,-999.0000,9,-999.0000,9, -999.00,9, -999.00,9,  -999.0,9,  -999.0,-999.000,9,-999.000,-999.000,9,-999.0000,   3.4220,-999.0000,-999.000
  316N145_8,        I03,     463,          1,         18,         18,2,19950430,       2335,   -20.0008,   103.1172,       5645,  1615.4,   3.0333,  34.6868,2,  34.6861,2,    136.9,2,   136.2,2,  104.58,2,   35.10,2,    0.00,2,    2.50,2,-999.000,9,-999.000,9,-999.000,9,  -999.0,9,  -999.0,9,-999.0000,9,-999.0000,9, -999.00,9, -999.00,9,  -999.0,9,  -999.0,-999.000,9,-999.000,-999.000,9,-999.0000,   2.9150,-999.0000,-999.000
  316N145_8,        I03,     463,          1,         17,         17,2,19950430,       2335,   -20.0008,   103.1172,       5645,  1814.8,   2.6323,  34.7058,2,  34.7054,2,    147.5,2,   144.9,2,  110.43,2,   34.66,2,    0.00,2,    2.46,2,-999.000,9,-999.000,9,-999.000,9,  -999.0,9,  -999.0,9,-999.0000,9,-999.0000,9, -999.00,9, -999.00,9,  -999.0,9,  -999.0,-999.000,9,-999.000,-999.000,9,-999.0000,   2.5022,-999.0000,-999.000
  316N145_8,        I03,     463,          1,         16,         16,2,19950430,       2335,   -20.0008,   103.1172,       5645,  2020.0,   2.3000,  34.7204,2,  34.7203,2,    152.6,2,   151.9,2, -999.00,5, -999.00,5, -999.00,5, -999.00,5,-999.000,9,-999.000,9,-999.000,9,  -999.0,9,  -999.0,9,-999.0000,9,-999.0000,9, -999.00,9, -999.00,9,  -999.0,9,  -999.0,-999.000,9,-999.000,-999.000,9,-999.0000,   2.1570,-999.0000,-999.000
  316N145_8,        I03,     463,          1,         15,         15,2,19950430,       2335,   -20.0008,   103.1172,       5645,  2226.2,   2.0865,  34.7242,2,  34.7244,2,    157.4,2,   156.5,2,  121.07,2,   34.16,2,    0.00,2,    2.40,2,-999.000,9,-999.000,9,-999.000,9,  -999.0,9,  -999.0,9,-999.0000,9,-999.0000,9, -999.00,9, -999.00,9,  -999.0,9,  -999.0,-999.000,9,-999.000,-999.000,9,-999.0000,   1.9289,-999.0000,-999.000
  316N145_8,        I03,     463,          1,         14,         14,2,19950430,       2335,   -20.0008,   103.1172,       5645,  2426.3,   1.9037,  34.7253,2,  34.7258,2,    163.6,2,   162.9,2,  122.97,2,   33.81,2,    0.00,2,    2.37,2,-999.000,9,-999.000,9,-999.000,9,  -999.0,9,  -999.0,9,-999.0000,9,-999.0000,9, -999.00,9, -999.00,9,  -999.0,9,  -999.0,-999.000,9,-999.000,-999.000,9,-999.0000,   1.7315,-999.0000,-999.000
  316N145_8,        I03,     463,          1,         13,         13,2,19950430,       2335,   -20.0008,   103.1172,       5645,  2628.9,   1.7792,  34.7254,2,  34.7256,2,    168.4,2,   167.1,2,  123.79,2,   33.62,2,    0.00,2,    2.35,2,-999.000,9,-999.000,9,-999.000,9,  -999.0,9,  -999.0,9,-999.0000,9,-999.0000,9, -999.00,9, -999.00,9,  -999.0,9,  -999.0,-999.000,9,-999.000,-999.000,9,-999.0000,   1.5910,-999.0000,-999.000
  316N145_8,        I03,     463,          1,         12,         12,2,19950430,       2335,   -20.0008,   103.1172,       5645,  2833.6,   1.6339,  34.7240,2,  34.7246,2,    173.2,2,   172.8,2,  125.27,2,   33.37,2,    0.00,2,    2.33,2,-999.000,9,-999.000,9,-999.000,9,  -999.0,9,  -999.0,9,-999.0000,9,-999.0000,9, -999.00,9, -999.00,9,  -999.0,9,  -999.0,-999.000,9,-999.000,-999.000,9,-999.0000,   1.4297,-999.0000,-999.000
  316N145_8,        I03,     463,          1,         11,         11,2,19950430,       2335,   -20.0008,   103.1172,       5645,  3037.0,   1.5144,  34.7226,2,  34.7225,2,    177.2,2,   177.0,2,  126.31,2,   33.22,2,    0.00,2,    2.31,2,-999.000,9,-999.000,9,-999.000,9,  -999.0,9,  -999.0,9,-999.0000,9,-999.0000,9, -999.00,9, -999.00,9,  -999.0,9,  -999.0,-999.000,9,-999.000,-999.000,9,-999.0000,   1.2935,-999.0000,-999.000
  316N145_8,        I03,     463,          1,         10,         10,2,19950430,       2335,   -20.0008,   103.1172,       5645,  3289.7,   1.3933,  34.7200,2,  34.7199,2,    181.2,2,   181.6,2,  127.79,2,   33.17,2,    0.00,2,    2.31,2,-999.000,9,-999.000,9,-999.000,9,  -999.0,9,  -999.0,9,-999.0000,9,-999.0000,9, -999.00,9, -999.00,9,  -999.0,9,  -999.0,-999.000,9,-999.000,-999.000,9,-999.0000,   1.1507,-999.0000,-999.000
  316N145_8,        I03,     463,          1,          9,          9,2,19950430,       2335,   -20.0008,   103.1172,       5645,  3543.3,   1.3039,  34.7172,2,  34.7168,2,    184.4,2,   184.7,2,  129.71,2,   33.07,2,    0.00,2,    2.30,2,-999.000,9,-999.000,9,-999.000,9,  -999.0,9,  -999.0,9,-999.0000,9,-999.0000,9, -999.00,9, -999.00,9,  -999.0,9,  -999.0,-999.000,9,-999.000,-999.000,9,-999.0000,   1.0381,-999.0000,-999.000
  316N145_8,        I03,     463,          1,          8,          8,2,19950430,       2335,   -20.0008,   103.1172,       5645,  3795.9,   1.2387,  34.7153,2,  34.7150,2,    186.7,2,   187.8,2,  130.32,2,   33.03,2,    0.00,2,    2.30,2,-999.000,9,-999.000,9,-999.000,9,  -999.0,9,  -999.0,9,-999.0000,9,-999.0000,9, -999.00,9, -999.00,9,  -999.0,9,  -999.0,-999.000,9,-999.000,-999.000,9,-999.0000,   0.9486,-999.0000,-999.000
  316N145_8,        I03,     463,          1,          7,          7,2,19950430,       2335,   -20.0008,   103.1172,       5645,  4051.0,   1.1986,  34.7143,2,  34.7140,2,    190.6,2,   190.6,2,  130.06,2,   32.78,2,    0.00,2,    2.27,2,-999.000,9,-999.000,9,-999.000,9,  -999.0,9,  -999.0,9,-999.0000,9,-999.0000,9, -999.00,9, -999.00,9,  -999.0,9,  -999.0,-999.000,9,-999.000,-999.000,9,-999.0000,   0.8826,-999.0000,-999.000
  316N145_8,        I03,     463,          1,          6,          6,2,19950430,       2335,   -20.0008,   103.1172,       5645,  4308.0,   1.1762,  34.7135,2,  34.7129,2,    193.0,2,   192.9,2,  129.81,2,   32.73,2,    0.00,2,    2.27,2,-999.000,9,-999.000,9,-999.000,9,  -999.0,9,  -999.0,9,-999.0000,9,-999.0000,9, -999.00,9, -999.00,9,  -999.0,9,  -999.0,-999.000,9,-999.000,-999.000,9,-999.0000,   0.8326,-999.0000,-999.000
  316N145_8,        I03,     463,          1,          5,          5,2,19950430,       2335,   -20.0008,   103.1172,       5645,  4566.6,   1.1541,  34.7129,2,  34.7111,2,    195.4,2,   196.0,2,  129.12,2,   32.63,2,    0.00,2,    2.25,2,-999.000,9,-999.000,9,-999.000,9,  -999.0,9,  -999.0,9,-999.0000,9,-999.0000,9, -999.00,9, -999.00,9,  -999.0,9,  -999.0,-999.000,9,-999.000,-999.000,9,-999.0000,   0.7821,-999.0000,-999.000
  316N145_8,        I03,     463,          1,          4,          4,2,19950430,       2335,   -20.0008,   103.1172,       5645,  4874.4,   1.1471,  34.7118,2,  34.7111,2,    198.7,2,   198.4,2,  128.43,2,   32.58,2,    0.00,2,    2.25,2,-999.000,9,-999.000,9,-999.000,9,  -999.0,9,  -999.0,9,-999.0000,9,-999.0000,9, -999.00,9, -999.00,9,  -999.0,9,  -999.0,-999.000,9,-999.000,-999.000,9,-999.0000,   0.7396,-999.0000,-999.000
  316N145_8,        I03,     463,          1,          3,          3,2,19950430,       2335,   -20.0008,   103.1172,       5645,  5183.2,   1.1476,  34.7107,2,  34.7096,2,    201.1,2,   200.7,2,  127.52,2,   32.34,2,    0.00,2,    2.24,2,-999.000,9,-999.000,9,-999.000,9,  -999.0,9,  -999.0,9,-999.0000,9,-999.0000,9, -999.00,9, -999.00,9,  -999.0,9,  -999.0,-999.000,9,-999.000,-999.000,9,-999.0000,   0.7030,-999.0000,-999.000
  316N145_8,        I03,     463,          1,          2,          2,2,19950430,       2335,   -20.0008,   103.1172,       5645,  5490.4,   1.1751,  34.7104,2,  34.7099,2,    202.1,2,   201.6,2,  127.26,2,   32.29,2,    0.00,2,    2.23,2,-999.000,9,-999.000,9,-999.000,9,  -999.0,9,  -999.0,9,-999.0000,9,-999.0000,9, -999.00,9, -999.00,9,  -999.0,9,  -999.0,-999.000,9,-999.000,-999.000,9,-999.0000,   0.6914,-999.0000,-999.000
  316N145_8,        I03,     463,          1,          1,          1,2,19950430,       2335,   -20.0008,   103.1172,       5645,  5810.4,   1.2143,  34.7105,2,  34.7102,2,    202.4,2,   199.1,3,  127.01,2,   32.29,2,    0.00,2,    2.23,2,   0.000,2,   0.004,2,-999.000,9,  -999.0,9,  -999.0,9,-999.0000,9,-999.0000,9, -999.00,9, -999.00,9,  -999.0,9,  -999.0,-999.000,9,-999.000,-999.000,9,-999.0000,   0.6883,-999.0000,-999.000