BOTTLE,20140514CCHSIOSE
EXPOCODE,SECT_ID,STNNBR,CASTNO,SAMPNO,BTLNBR,BTLNBR_FLAG_W,DATE,TIME,LATITUDE,LONGITUDE,DEPTH,CTDPRS,CTDTMP,CTDSAL,CTDSAL_FLAG_W,SALNTY,SALNTY_FLAG_W,CTDOXY,CTDOXY_FLAG_W,OXYGEN,OXYGEN_FLAG_W,SILCAT,SILCAT_FLAG_W,NITRAT,NITRAT_FLAG_W,NITRIT,NITRIT_FLAG_W,PHSPHT,PHSPHT_FLAG_W,CFC-11,CFC-11_FLAG_W,CFC-12,CFC-12_FLAG_W,CFC113,CFC113_FLAG_W,TCARBN,TCARBN_FLAG_W,ALKALI,ALKALI_FLAG_W,TRITUM,TRITUM_FLAG_W,HELIUM,HELIUM_FLAG_W,DELHE3,DELHE3_FLAG_W,DELC13,DELC13_FLAG_W,DELC14,DELC14_FLAG_W,C14ERR,NEON,NEON_FLAG_W,NEONER,CCL4,CCL4_FLAG_W,HELIER,THETA,TRITER,DELHER
,,,,,,,,,,,METERS,DBAR,ITS-90,PSS-78,,PSS-78,,UMOL/KG,,UMOL/KG,,UMOL/KG,,UMOL/KG,,UMOL/KG,,UMOL/KG,,PMOL/KG,,PMOL/KG,,PMOL/KG,,UMOL/KG,,UMOL/KG,,TU,,NMOL/KG,,PERCNT,,/MILLE,,/MILLE,,/MILLE,NMOL/KG,,NMOL/KG,PMOL/KG,,NMOL/KG,DEG C,TU,PERCNT
  316N145_8,        I03,     480,          1,         36,         36,2,19950506,       1336,   -20.0013,    90.2828,       5245,     8.8,  25.7718,  35.1307,2,  35.1317,2,    204.0,2,   205.7,2,    3.38,2,    0.13,2,    0.00,2,    0.12,2,   1.826,2,   1.037,2,-999.000,9,  1958.3,2,  2299.0,2,   1.1652,2,   1.7173,2,   -1.37,2, -999.00,9,  -999.0,9,  -999.0,   6.770,2,   0.034,-999.000,9,   0.0086,  25.7698,   0.0041,    0.14
  316N145_8,        I03,     480,          1,         35,         35,2,19950506,       1336,   -20.0013,    90.2828,       5245,    57.9,  25.6275,  35.1408,2,  35.1427,2,    207.2,2,   206.4,2,    3.36,2,    0.13,2,    0.00,2,    0.12,2,-999.000,9,-999.000,9,-999.000,9,  1959.0,2,  2301.0,2,   1.1751,2,   1.7139,2,   -1.04,2, -999.00,9,  -999.0,9,  -999.0,   6.770,2,   0.034,-999.000,9,   0.0086,  25.6147,   0.0041,    0.14
  316N145_8,        I03,     480,          1,         34,         34,2,19950506,       1336,   -20.0013,    90.2828,       5245,   106.9,  21.5439,  35.5310,2,  35.5416,2,    209.8,2,   208.9,2,    4.00,2,    0.37,2,    0.19,2,    0.19,2,   2.189,2,   1.202,2,-999.000,9,  2014.3,2,  2328.0,2,   1.1313,2,   1.7212,2,   -0.76,2, -999.00,9,  -999.0,9,  -999.0,   6.940,2,   0.035,-999.000,9,   0.0086,  21.5230,   0.0040,    0.14
  316N145_8,        I03,     480,          1,         33,         33,2,19950506,       1336,   -20.0013,    90.2828,       5245,   158.1,  20.1491,  35.6781,2,  35.6787,2,    195.4,2,   195.7,2,    4.64,2,    2.06,2,    0.02,2,    0.29,2,   2.227,2,   1.220,2,-999.000,9,  2045.3,2,  2339.0,2,   1.0630,2,   1.7338,2,   -0.39,2, -999.00,9,  -999.0,9,  -999.0,   6.999,2,   0.035,-999.000,9,   0.0087,  20.1196,   0.0042,    0.14
  316N145_8,        I03,     480,          1,         32,         32,2,19950506,       1336,   -20.0013,    90.2828,       5245,   207.5,  19.1581,  35.8807,2,  35.8769,2,    212.9,2,   213.5,2,    3.32,2,    0.75,2,    0.06,2,    0.22,2,   2.403,2,   1.309,2,-999.000,9,  2055.2,2,  2352.0,2,   1.0660,2,   1.7351,2,   -0.59,2, -999.00,9,  -999.0,9,  -999.0,   7.068,2,   0.035,-999.000,9,   0.0087,  19.1207,   0.0039,    0.14
  316N145_8,        I03,     480,          1,         31,         31,2,19950506,       1336,   -20.0013,    90.2828,       5245,   256.9,  16.8480,  35.7341,2,  35.7313,2,    208.0,2,   208.2,2, -999.00,9, -999.00,9, -999.00,9, -999.00,9,-999.000,9,-999.000,9,-999.000,9,  2080.9,2,  2346.0,2,   0.9686,2,   1.7409,2,   -0.25,2, -999.00,9,  -999.0,9,  -999.0,   7.150,2,   0.036,-999.000,9,   0.0087,  16.8055,   0.0038,    0.14
  316N145_8,        I03,     480,          1,         30,         30,2,19950506,       1336,   -20.0013,    90.2828,       5245,   307.7,  14.6532,  35.4877,2,  35.4728,2,    221.4,2,   220.4,2,    3.31,2,    4.87,2,    0.01,2,    0.51,2,   2.831,2,   1.461,2,-999.000,9,  2090.1,2,  2332.0,2,   0.8432,2,   1.7494,2,   -0.50,2, -999.00,9,  -999.0,9,  -999.0,   7.202,2,   0.036,-999.000,9,   0.0087,  14.6070,   0.0035,    0.14
  316N145_8,        I03,     480,          1,         29,         29,2,19950506,       1336,   -20.0013,    90.2828,       5245,   358.2,  12.8771,  35.2487,2,  35.2404,2,    224.8,2,   226.3,2,    3.73,2,    7.91,2,    0.01,2,    0.67,2,   2.929,2,   1.494,2,-999.000,9,  2097.4,2,  2321.0,2,-999.0000,9,-999.0000,9, -999.00,9, -999.00,9,  -999.0,9,  -999.0,-999.000,9,-999.000,-999.000,9,-999.0000,  12.8277,-999.0000,-999.000
  316N145_8,        I03,     480,          1,         28,         28,2,19950506,       1336,   -20.0013,    90.2828,       5245,   407.6,  11.9541,  35.1043,2,  35.0897,2,    231.3,2,   230.9,2,    4.15,2,    9.78,2,    0.01,2,    0.79,2,   2.984,2,   1.507,2,-999.000,9,  2101.0,2,  2316.0,2,   0.6874,2,   1.7521,2,    0.08,2, -999.00,9,  -999.0,9,  -999.0,   7.363,2,   0.037,-999.000,9,   0.0088,  11.9006,   0.0033,    0.14
  316N145_8,        I03,     480,          1,         27,         27,2,19950506,       1336,   -20.0013,    90.2828,       5245,   508.0,  10.2283,  34.8313,2,  34.8219,2,    233.9,2,   234.3,2,    5.44,2,   13.95,2,    0.01,2,    1.03,2,   2.830,2,   1.405,2,-999.000,9,  2110.2,2,  2300.0,2,-999.0000,9,   1.7687,2,   -0.05,2, -999.00,9,  -999.0,9,  -999.0,   7.479,2,   0.037,-999.000,9,   0.0088,  10.1677,-999.0000,    0.14
  316N145_8,        I03,     480,          1,         26,         26,2,19950506,       1336,   -20.0013,    90.2828,       5245,   608.7,   8.9991,  34.6630,2,  34.6586,2,    226.8,2,   223.7,2,    8.04,2,   18.18,2,    0.01,2,    1.29,2,   2.189,2,   1.078,2,-999.000,9,  2124.1,2,  2295.0,2,   0.3983,2,   1.7676,2,    1.04,2, -999.00,9,  -999.0,9,  -999.0,   7.546,2,   0.038,-999.000,9,   0.0088,   8.9317,   0.0028,    0.14
  316N145_8,        I03,     480,          1,         25,         25,2,19950506,       1336,   -20.0013,    90.2828,       5245,   710.1,   7.0352,  34.5074,2,  34.5162,2,    197.8,2,   184.3,2,   25.20,2,   26.38,2,    0.01,2,    1.83,2,   0.641,2,   0.329,2,-999.000,9,  2171.7,2,  2302.0,2,   0.1410,2,   1.7945,2,    3.29,2, -999.00,9,  -999.0,9,  -999.0,   7.708,2,   0.039,-999.000,9,   0.0090,   6.9666,   0.0024,    0.14
  316N145_8,        I03,     480,          1,         24,         24,2,19950506,       1336,   -20.0013,    90.2828,       5245,   810.7,   5.7643,  34.5181,2,  34.5188,2,    159.4,2,   147.2,2,   50.19,2,   31.84,2,    0.01,2,    2.25,2,   0.149,2,   0.070,2,-999.000,9,  2219.7,2,  2325.0,2,   0.0362,2,   1.8297,2,    6.28,2, -999.00,9,  -999.0,9,  -999.0,   7.795,2,   0.039,-999.000,9,   0.0091,   5.6931,   0.0022,    0.14
  316N145_8,        I03,     480,          1,         23,         23,2,19950506,       1336,   -20.0013,    90.2828,       5245,   910.6,   5.1955,  34.5780,2,  34.5780,2,    125.2,2,   120.6,2,   69.99,2,   34.45,2,    0.01,2,    2.48,2,   0.029,2,   0.018,2,-999.000,9,  2252.7,2,  2342.0,2,-999.0000,9,-999.0000,9, -999.00,9, -999.00,9,  -999.0,9,  -999.0,-999.000,9,-999.000,-999.000,9,-999.0000,   5.1187,-999.0000,-999.000
  316N145_8,        I03,     480,          1,         22,         22,2,19950506,       1336,   -20.0013,    90.2828,       5245,  1010.9,   4.7827,  34.6023,2,  34.6025,2,    114.8,2,   115.8,2,   79.80,2,   35.31,2,    0.01,2,    2.55,2,   0.009,2,   0.004,2,-999.000,9,  2267.4,2,  2355.0,2,   0.0011,2,   1.8466,2,   10.59,2, -999.00,9,  -999.0,9,  -999.0,   7.828,2,   0.039,-999.000,9,   0.0092,   4.6999,   0.0022,    0.14
  316N145_8,        I03,     480,          1,         21,         21,2,19950506,       1336,   -20.0013,    90.2828,       5245,  1112.6,   4.4620,  34.6223,2,  34.6237,2,    114.0,2,   115.2,2,   85.69,2,   35.56,2,    0.01,2,    2.57,2,   0.001,2,   0.004,2,-999.000,9,  2274.5,2,  2360.0,2,-999.0000,9,-999.0000,9, -999.00,9, -999.00,9,  -999.0,9,  -999.0,-999.000,9,-999.000,-999.000,9,-999.0000,   4.3727,-999.0000,-999.000
  316N145_8,        I03,     480,          1,         20,         20,2,19950506,       1336,   -20.0013,    90.2828,       5245,  1212.9,   4.0777,  34.6412,2,  34.6417,2,    119.4,2,   119.2,2,   90.50,2,   35.52,2,    0.01,2,    2.57,2,  -0.001,2,   0.000,2,-999.000,9,  2278.6,2,  2368.0,2,   0.0020,2,   1.8617,2,   12.00,2, -999.00,9,  -999.0,9,  -999.0,   7.942,2,   0.040,-999.000,9,   0.0093,   3.9830,   0.0022,    0.14
  316N145_8,        I03,     480,          1,         19,         19,2,19950506,       1336,   -20.0013,    90.2828,       5245,  1415.3,   3.5664,  34.6646,2,  34.6650,2,    126.0,2,   127.0,2,   95.75,2,   35.32,2,    0.01,2,    2.55,2,-999.000,9,-999.000,9,-999.000,9,  2279.4,2,  2371.0,2,   0.0012,2,   1.8755,2,   12.10,2, -999.00,9,  -999.0,9,  -999.0,   7.988,2,   0.040,-999.000,9,   0.0094,   3.4593,   0.0022,    0.14
  316N145_8,        I03,     480,          1,         18,         18,2,19950506,       1336,   -20.0013,    90.2828,       5245,  1616.9,   3.0857,  34.6943,2,  34.6937,2,    138.5,2,   136.8,2,  102.13,2,   34.82,2,    0.01,2,    2.50,2,   0.000,2,  -0.001,2,-999.000,9,  2284.8,2,  2380.0,2,-999.0000,9,   1.8761,2,   12.89,2, -999.00,9,  -999.0,9,  -999.0,   7.973,2,   0.040,-999.000,9,   0.0094,   2.9667,-999.0000,    0.14
  316N145_8,        I03,     480,          1,         17,         17,2,19950506,       1336,   -20.0013,    90.2828,       5245,  1818.0,   2.6562,  34.7136,2,  34.7129,2,    146.2,2,   146.7,2,  107.87,2,   34.32,2,    0.01,2,    2.46,2,-999.000,9,-999.000,9,-999.000,9,  2286.1,2,  2384.0,2,-999.0000,9,   1.9110,2,   12.92,2, -999.00,9,  -999.0,9,  -999.0,   8.278,2,   0.064,-999.000,9,   0.0100,   2.5255,-999.0000,    0.12
  316N145_8,        I03,     480,          1,         16,         16,2,19950506,       1336,   -20.0013,    90.2828,       5245,  2020.8,   2.3214,  34.7214,2,  34.7127,3,    156.5,2,   156.1,2,  111.40,2,   33.82,2,    0.01,2,    2.41,2,-999.000,9,-999.000,9,-999.000,9,  2284.5,2,  2389.0,2,-999.0000,9,   1.8890,2,   14.15,2, -999.00,9,  -999.0,9,  -999.0,   8.014,2,   0.065,-999.000,9,   0.0110,   2.1780,-999.0000,    0.15
  316N145_8,        I03,     480,          1,         15,         15,2,19950506,       1336,   -20.0013,    90.2828,       5245,  2223.5,   2.1191,  34.7261,2,  34.7260,2,    161.0,2,   161.0,2,  115.40,2,   33.63,2,    0.01,2,    2.39,2,-999.000,9,-999.000,9,-999.000,9,  2286.7,2,  2390.0,2,-999.0000,9,   1.8760,2,   14.59,2, -999.00,9,  -999.0,9,  -999.0,   8.028,2,   0.031,-999.000,9,   0.0030,   1.9612,-999.0000,    0.12
  316N145_8,        I03,     480,          1,         14,         14,2,19950506,       1336,   -20.0013,    90.2828,       5245,  2425.2,   1.9767,  34.7270,2,  34.7274,2,    166.2,2,   165.8,2,  116.93,2,   33.48,2,    0.01,2,    2.37,2,-999.000,9,-999.000,9,-999.000,9,  2286.5,2,  2393.0,2,-999.0000,9,   1.8800,2,   14.42,2, -999.00,9,  -999.0,9,  -999.0,   8.068,2,   0.027,-999.000,9,   0.0050,   1.8033,-999.0000,    0.15
  316N145_8,        I03,     480,          1,         13,         13,2,19950506,       1336,   -20.0013,    90.2828,       5245,  2627.9,   1.8395,  34.7272,2,  34.7274,2,    169.8,2,   169.1,2,  119.15,2,   33.33,2,    0.01,2,    2.36,2,-999.000,9,-999.000,9,-999.000,9,  2287.5,2,  2396.0,2,-999.0000,9,   1.8530,3,   14.10,2, -999.00,9,  -999.0,9,  -999.0,   7.975,3,   0.049,-999.000,9,   0.0050,   1.6503,-999.0000,    0.15
  316N145_8,        I03,     480,          1,         12,         12,2,19950506,       1336,   -20.0013,    90.2828,       5245,  2831.8,   1.7197,  34.7270,2,  34.7268,2,    174.1,2,   173.3,2,  121.14,2,   33.29,2,    0.01,2,    2.35,2,   0.000,2,   0.000,2,-999.000,9,  2286.4,2,  2398.0,2,-999.0000,9,   1.8930,2,   13.46,2, -999.00,9,  -999.0,9,  -999.0,   8.111,2,   0.030,-999.000,9,   0.0030,   1.5139,-999.0000,    0.12
  316N145_8,        I03,     480,          1,         11,         11,2,19950506,       1336,   -20.0013,    90.2828,       5245,  3060.9,   1.5944,  34.7258,2,  34.7258,2,    178.5,2,   177.8,2,  121.79,2,   33.14,2,    0.01,2,    2.32,2,-999.000,9,-999.000,9,-999.000,9,  2285.6,2,  2397.0,6,-999.0000,9,   1.8850,2,   13.15,2, -999.00,9,  -999.0,9,  -999.0,   8.126,2,   0.052,-999.000,9,   0.0160,   1.3695,-999.0000,    0.15
  316N145_8,        I03,     480,          1,         10,         10,2,19950506,       1336,   -20.0013,    90.2828,       5245,  3289.6,   1.5092,  34.7242,2,  34.7238,2,    182.6,2,   182.1,2,  121.98,2,   32.85,2,    0.01,2,    2.31,2,-999.000,9,-999.000,9,-999.000,9,  2283.5,2,  2396.0,2,-999.0000,9,   1.9060,2,   12.75,2, -999.00,9,  -999.0,9,  -999.0,   8.081,2,   0.034,-999.000,9,   0.0140,   1.2638,-999.0000,    0.15
  316N145_8,        I03,     480,          1,          9,          9,2,19950506,       1336,   -20.0013,    90.2828,       5245,  3519.2,   1.4312,  34.7224,2,  34.7210,2,    185.1,2,   185.9,2,  122.85,2,   32.80,2,    0.01,2,    2.31,2,-999.000,9,-999.000,9,-999.000,9,  2281.2,2,  2395.0,2,-999.0000,9,   1.9040,2,   12.39,2, -999.00,9,  -999.0,9,  -999.0,   8.197,2,   0.027,-999.000,9,   0.0150,   1.1646,-999.0000,    0.15
  316N145_8,        I03,     480,          1,          8,          8,2,19950506,       1336,   -20.0013,    90.2828,       5245,  3746.3,   1.3204,  34.7197,2,  34.7189,2,    189.4,2,   190.2,2,  123.72,2,   32.66,2,    0.00,2,    2.30,2,   0.001,2,   0.000,2,-999.000,9,  2278.0,2,  2398.0,2,-999.0000,9,   1.8840,2,   11.73,2, -999.00,9,  -999.0,9,  -999.0,   8.123,2,   0.045,-999.000,9,   0.0050,   1.0333,-999.0000,    0.16
  316N145_8,        I03,     480,          1,          7,          7,2,19950506,       1336,   -20.0013,    90.2828,       5245,  3974.4,   1.1924,  34.7167,2,  34.7169,2,    196.2,2,   196.4,2,  123.24,2,   32.37,2,    0.00,2,    2.27,2,  -0.001,2,  -0.001,2,-999.000,9,  2272.6,2,  2392.0,2,-999.0000,9,   1.9150,2,   11.11,2, -999.00,9,  -999.0,9,  -999.0,   8.167,2,   0.050,-999.000,9,   0.0120,   0.8847,-999.0000,    0.15
  316N145_8,        I03,     480,          1,          6,          6,2,19950506,       1336,   -20.0013,    90.2828,       5245,  4228.1,   1.1191,  34.7149,2,  34.7143,2,    200.1,2,   200.8,2,  123.44,2,   32.22,2,    0.00,2,    2.26,2,   0.000,2,   0.003,2,-999.000,9,  2269.8,2,  2390.0,2,-999.0000,9,-999.0000,9, -999.00,9, -999.00,9,  -999.0,9,  -999.0,-999.000,9,-999.000,-999.000,9,-999.0000,   0.7861,-999.0000,-999.000
  316N145_8,        I03,     480,          1,          5,          5,2,19950506,       1336,   -20.0013,    90.2828,       5245,  4483.3,   1.1059,  34.7133,2,  34.7126,2,    201.4,2,   202.0,2,  123.40,2,   32.23,2,    0.00,2,    2.25,2,   0.000,2,   0.000,2,-999.000,9,  2268.9,2,  2388.0,2,-999.0000,9,   1.8960,2,   10.58,2, -999.00,9,  -999.0,9,  -999.0,   8.217,2,   0.028,-999.000,9,   0.0070,   0.7449,-999.0000,    0.15
  316N145_8,        I03,     480,          1,          4,          4,2,19950506,       1336,   -20.0013,    90.2828,       5245,  4744.0,   1.1179,  34.7129,2,  34.7124,2,    203.0,2,   202.8,2,  123.37,2,   32.18,2,    0.00,2,    2.26,2,   0.001,2,   0.001,2,-999.000,9,  2268.5,2,  2390.0,2,-999.0000,9,   1.7970,3,   10.51,2, -999.00,9,  -999.0,9,  -999.0,   7.741,4,   0.034,-999.000,9,   0.0040,   0.7266,-999.0000,    0.17
  316N145_8,        I03,     480,          1,          3,          3,2,19950506,       1336,   -20.0013,    90.2828,       5245,  5001.0,   1.1412,  34.7129,2,  34.7118,2,    203.3,2,   203.0,2,  123.34,2,   32.19,2,    0.00,2,    2.25,2,   0.003,2,  -0.001,2,-999.000,9,  2268.7,2,  2388.0,2,-999.0000,9,   1.8810,2,   10.77,2, -999.00,9,  -999.0,9,  -999.0,   8.154,2,   0.057,-999.000,9,   0.0050,   0.7188,-999.0000,    0.15
  316N145_8,        I03,     480,          1,          2,          2,2,19950506,       1336,   -20.0013,    90.2828,       5245,  5258.5,   1.1642,  34.7124,2,  34.7116,2,    203.2,2,   203.4,2,  123.54,2,   32.19,2,    0.00,2,    2.25,2,   0.002,2,   0.002,2,-999.000,9,  2270.1,2,  2389.0,2,-999.0000,9,-999.0000,9, -999.00,9, -999.00,9,  -999.0,9,  -999.0,-999.000,9,-999.000,-999.000,9,-999.0000,   0.7097,-999.0000,-999.000
  316N145_8,        I03,     480,          1,          1,          1,2,19950506,       1336,   -20.0013,    90.2828,       5245,  5480.4,   1.1912,  34.7123,2,  34.7117,2,    203.4,3,   202.6,2,  123.50,2,   32.19,2,    0.00,2,    2.26,2,-999.000,5,  -0.001,2,-999.000,9,  2268.0,2,  -999.0,5,-999.0000,9,   1.9030,2,   10.12,2, -999.00,9,  -999.0,9,  -999.0,   8.118,2,   0.046,-999.000,9,   0.0130,   0.7082,-999.0000,    0.16