BOTTLE,20140514CCHSIOSE
EXPOCODE,SECT_ID,STNNBR,CASTNO,SAMPNO,BTLNBR,BTLNBR_FLAG_W,DATE,TIME,LATITUDE,LONGITUDE,DEPTH,CTDPRS,CTDTMP,CTDSAL,CTDSAL_FLAG_W,SALNTY,SALNTY_FLAG_W,CTDOXY,CTDOXY_FLAG_W,OXYGEN,OXYGEN_FLAG_W,SILCAT,SILCAT_FLAG_W,NITRAT,NITRAT_FLAG_W,NITRIT,NITRIT_FLAG_W,PHSPHT,PHSPHT_FLAG_W,CFC-11,CFC-11_FLAG_W,CFC-12,CFC-12_FLAG_W,CFC113,CFC113_FLAG_W,TCARBN,TCARBN_FLAG_W,ALKALI,ALKALI_FLAG_W,TRITUM,TRITUM_FLAG_W,HELIUM,HELIUM_FLAG_W,DELHE3,DELHE3_FLAG_W,DELC13,DELC13_FLAG_W,DELC14,DELC14_FLAG_W,C14ERR,NEON,NEON_FLAG_W,NEONER,CCL4,CCL4_FLAG_W,HELIER,THETA,TRITER,DELHER
,,,,,,,,,,,METERS,DBAR,ITS-90,PSS-78,,PSS-78,,UMOL/KG,,UMOL/KG,,UMOL/KG,,UMOL/KG,,UMOL/KG,,UMOL/KG,,PMOL/KG,,PMOL/KG,,PMOL/KG,,UMOL/KG,,UMOL/KG,,TU,,NMOL/KG,,PERCNT,,/MILLE,,/MILLE,,/MILLE,NMOL/KG,,NMOL/KG,PMOL/KG,,NMOL/KG,DEG C,TU,PERCNT
  316N145_8,        I03,     491,          1,         36,         36,2,19950509,       1259,   -19.9998,    85.2997,       4860,     6.3,  25.6107,  35.1130,2,  35.1144,2,    204.2,2,   206.6,2,    3.15,2,    0.10,2,    0.00,2,    0.11,2,   1.860,2,   1.057,2,  -0.009,3,  1954.6,6,  2298.0,6,-999.0000,9,-999.0000,9, -999.00,9,    1.24,2,    76.4,2,     3.5,-999.000,9,-999.000,   2.210,2,-999.0000,  25.6093,-999.0000,-999.000
  316N145_8,        I03,     491,          1,         35,         35,2,19950509,       1259,   -19.9998,    85.2997,       4860,    57.5,  25.6022,  35.1096,2,  35.1100,2,    209.3,2,   206.6,2,    3.14,2,    0.10,2,    0.00,2,    0.11,2,   1.842,2,   1.052,2,   0.019,3,  1954.6,2,  2299.0,2,-999.0000,9,-999.0000,9, -999.00,9, -999.00,9,  -999.0,9,  -999.0,-999.000,9,-999.000,   2.025,2,-999.0000,  25.5895,-999.0000,-999.000
  316N145_8,        I03,     491,          1,         34,         34,2,19950509,       1259,   -19.9998,    85.2997,       4860,   107.4,  21.9235,  35.3921,2,  35.3931,2,    212.6,2,   210.1,2,    4.20,2,    0.18,2,    0.01,2,    0.18,2,   2.133,2,   1.178,2,   0.051,3,  2004.0,2,  2318.0,2,-999.0000,9,-999.0000,9, -999.00,9,    1.10,2,    91.2,2,     3.6,-999.000,9,-999.000,   1.317,2,-999.0000,  21.9023,-999.0000,-999.000
  316N145_8,        I03,     491,          1,         33,         33,2,19950509,       1259,   -19.9998,    85.2997,       4860,   157.4,  20.6764,  35.6898,2,  35.6890,2,    209.9,2,   208.7,2,    3.34,2,    0.21,2,    0.23,2,    0.18,2,   2.272,2,   1.247,2,   0.082,3,  2030.7,2,  2337.0,2,-999.0000,9,-999.0000,9, -999.00,9, -999.00,9,  -999.0,9,  -999.0,-999.000,9,-999.000,   1.286,2,-999.0000,  20.6466,-999.0000,-999.000
  316N145_8,        I03,     491,          1,         32,         32,2,19950509,       1259,   -19.9998,    85.2997,       4860,   206.4,  18.8445,  35.7170,2,  35.7162,2,    189.7,2,   190.3,2,    5.04,2,    3.24,2,    0.01,2,    0.37,2,   2.274,2,   1.232,2,  -0.009,3,  2066.6,2,  2341.0,2,-999.0000,9,-999.0000,9, -999.00,9,    0.94,2,    93.4,2,     3.6,-999.000,9,-999.000,   0.532,2,-999.0000,  18.8077,-999.0000,-999.000
  316N145_8,        I03,     491,          1,         31,         31,2,19950509,       1259,   -19.9998,    85.2997,       4860,   256.9,  17.0697,  35.7123,2,  35.7085,2,    201.4,2,   198.6,2,    4.60,2,    3.73,2,    0.00,2,    0.42,2,   2.427,2,   1.286,2,  -0.045,3,  2085.0,2,  2344.0,2,-999.0000,9,-999.0000,9, -999.00,9, -999.00,9,  -999.0,9,  -999.0,-999.000,9,-999.000,   0.471,2,-999.0000,  17.0269,-999.0000,-999.000
  316N145_8,        I03,     491,          1,         30,         30,2,19950509,       1259,   -19.9998,    85.2997,       4860,   306.7,  15.4083,  35.5822,2,  35.5587,2,    209.0,2,   209.9,2,    3.95,2,    4.76,2,    0.00,2,    0.49,2,   2.628,2,   1.368,2,  -0.025,3,  2092.1,2,  2337.0,2,-999.0000,9,-999.0000,9, -999.00,9,    1.16,2,    98.0,2,     3.7,-999.000,9,-999.000,   0.513,2,-999.0000,  15.3606,-999.0000,-999.000
  316N145_8,        I03,     491,          1,         29,         29,2,19950509,       1259,   -19.9998,    85.2997,       4860,   357.9,  13.8882,  35.3802,2,  35.3716,2,    219.8,2,   219.5,2,    3.73,2,    6.48,2,    0.01,2,    0.58,2,   2.833,2,   1.461,2,  -0.031,3,  2096.6,2,  2327.0,2,-999.0000,9,-999.0000,9, -999.00,9, -999.00,9,  -999.0,9,  -999.0,-999.000,9,-999.000,   0.653,2,-999.0000,  13.8363,-999.0000,-999.000
  316N145_8,        I03,     491,          1,         28,         28,2,19950509,       1259,   -19.9998,    85.2997,       4860,   408.9,  12.2569,  35.1417,2,  35.1501,2,    224.7,2,   226.0,2,    4.15,2,    9.14,2,    0.00,2,    0.74,2,   2.887,2,   1.464,2,   0.001,3,  2102.2,2,  2317.0,2,-999.0000,9,-999.0000,9, -999.00,9,    1.27,2,    92.3,2,     3.6,-999.000,9,-999.000,   0.911,2,-999.0000,  12.2023,-999.0000,-999.000
  316N145_8,        I03,     491,          1,         27,         27,2,19950509,       1259,   -19.9998,    85.2997,       4860,   458.1,  11.3525,  35.0032,2,  35.0111,2,    226.9,2,   229.2,2,    4.78,2,   11.02,2,    0.00,2,    0.85,2,-999.000,9,-999.000,9,-999.000,9,  2106.2,2,  2310.0,2,-999.0000,9,-999.0000,9, -999.00,9,    1.31,2,    84.6,2,     3.9,-999.000,9,-999.000,-999.000,9,-999.0000,  11.2942,-999.0000,-999.000
  316N145_8,        I03,     491,          1,         26,         26,2,19950509,       1259,   -19.9998,    85.2997,       4860,   508.4,  10.3263,  34.8449,2,  34.8516,2,    230.3,2,   230.9,2,    5.42,2,   13.58,2,    0.00,2,    1.01,2,   2.768,2,   1.377,2,  -0.013,3,  2111.3,2,  2303.0,2,-999.0000,9,-999.0000,9, -999.00,9,    1.28,2,    70.2,2,     3.5,-999.000,9,-999.000,   1.259,2,-999.0000,  10.2652,-999.0000,-999.000
  316N145_8,        I03,     491,          1,         25,         25,2,19950509,       1259,   -19.9998,    85.2997,       4860,   609.8,   9.1040,  34.6727,2,  34.6722,2,    220.1,2,   223.4,2,    7.98,2,   17.87,2,    0.00,2,    1.27,2,-999.000,9,-999.000,9,  -0.026,3,  2124.6,2,  2294.0,2,-999.0000,9,-999.0000,9, -999.00,9,    1.30,2,    41.0,2,     3.5,-999.000,9,-999.000,   1.297,2,-999.0000,   9.0360,-999.0000,-999.000
  316N145_8,        I03,     491,          1,         24,         24,2,19950509,       1259,   -19.9998,    85.2997,       4860,   709.5,   7.2597,  34.5355,2,  34.5384,2,    188.1,2,   186.9,2,   22.54,2,   25.23,2,    0.00,2,    1.78,2,   0.765,2,   0.387,2,  -0.019,3,  2167.0,2,  2302.0,2,-999.0000,9,-999.0000,9, -999.00,9,    0.98,2,   -43.1,2,     3.4,-999.000,9,-999.000,   0.786,2,-999.0000,   7.1899,-999.0000,-999.000
  316N145_8,        I03,     491,          1,         23,         23,2,19950509,       1259,   -19.9998,    85.2997,       4860,   808.8,   5.8913,  34.4936,2,  34.4972,2,    154.2,2,   162.0,2,   42.23,2,   30.41,2,    0.00,2,    2.19,2,   0.232,2,   0.121,2,  -0.016,3,  2207.1,2,  2315.0,2,-999.0000,9,-999.0000,9, -999.00,9,    0.74,2,  -123.1,2,     4.2,-999.000,9,-999.000,   0.516,2,-999.0000,   5.8196,-999.0000,-999.000
  316N145_8,        I03,     491,          1,         22,         22,2,19950509,       1259,   -19.9998,    85.2997,       4860,   910.6,   5.1611,  34.5500,2,  34.5497,2,    127.0,2,   132.0,2,   63.45,2,   33.66,2,    0.00,2,    2.45,2,   0.034,2,   0.024,2,  -0.005,3,  2244.8,2,  2338.0,2,-999.0000,9,-999.0000,9, -999.00,9,    0.34,2,  -145.6,2,     2.5,-999.000,9,-999.000,   0.185,2,-999.0000,   5.0846,-999.0000,-999.000
  316N145_8,        I03,     491,          1,         21,         21,2,19950509,       1259,   -19.9998,    85.2997,       4860,  1013.1,   4.8361,  34.6086,2,  34.6080,2,    116.9,2,   118.2,2,   77.19,2,   34.87,2,    0.00,2,    2.56,2,   0.011,2,   0.008,2,  -0.032,3,  2266.3,2,  2350.0,2,-999.0000,9,-999.0000,9, -999.00,9,    0.11,2,  -156.8,2,     2.8,-999.000,9,-999.000,   0.063,2,-999.0000,   4.7527,-999.0000,-999.000
  316N145_8,        I03,     491,          1,         20,         20,2,19950509,       1259,   -19.9998,    85.2997,       4860,  1112.8,   4.6368,  34.6611,2,  34.6543,2,    111.5,2,   112.8,2,   86.01,2,   35.27,2,    0.00,2,    2.59,2,   0.006,2,   0.003,2,-999.000,9,  2278.3,2,  2362.0,2,-999.0000,9,-999.0000,9, -999.00,9,    0.22,2,  -164.2,2,     2.9,-999.000,9,-999.000,-999.000,9,-999.0000,   4.5460,-999.0000,-999.000
  316N145_8,        I03,     491,          1,         19,         19,2,19950509,       1259,   -19.9998,    85.2997,       4860,  1313.3,   4.1339,  34.6860,2,  34.6874,2,    114.3,2,   114.0,2,   94.65,2,   35.33,2,    0.00,2,    2.60,2,-999.000,9,-999.000,9,-999.000,9,  2287.4,2,  2369.0,2,-999.0000,9,-999.0000,9, -999.00,9,    0.22,2,  -176.2,2,     2.4,-999.000,9,-999.000,-999.000,9,-999.0000,   4.0297,-999.0000,-999.000
  316N145_8,        I03,     491,          1,         18,         18,2,19950509,       1259,   -19.9998,    85.2997,       4860,  1515.2,   3.6109,  34.7030,2,  34.7027,2,    123.6,2,   123.5,2,  100.28,2,   35.18,2,    0.00,2,    2.57,2,   0.002,2,   0.003,2,  -0.034,3,  2291.8,2,  2380.0,2,-999.0000,9,-999.0000,9, -999.00,9,    0.13,2,  -179.0,2,     2.3,-999.000,9,-999.000,  -0.017,2,-999.0000,   3.4944,-999.0000,-999.000
  316N145_8,        I03,     491,          1,         17,         17,2,19950509,       1259,   -19.9998,    85.2997,       4860,  1717.2,   3.1475,  34.7130,2,  34.7129,2,    135.6,2,   134.8,2,  103.96,2,   34.68,2,    0.00,2,    2.52,2,-999.000,9,-999.000,9,-999.000,9,  2290.6,2,  2378.0,2,-999.0000,9,-999.0000,9, -999.00,9,    0.22,2,  -182.8,2,     2.9,-999.000,9,-999.000,-999.000,9,-999.0000,   3.0189,-999.0000,-999.000
  316N145_8,        I03,     491,          1,         16,         16,2,19950509,       1259,   -19.9998,    85.2997,       4860,  1920.3,   2.7296,  34.7238,2,  34.7235,2,    144.9,2,   143.9,2,  108.97,2,   34.33,2,    0.00,2,    2.48,2,-999.000,9,-999.000,9,-999.000,9,  2295.9,3,  2384.0,2,-999.0000,9,-999.0000,9, -999.00,9, -999.00,9,  -999.0,9,  -999.0,-999.000,9,-999.000,-999.000,9,-999.0000,   2.5889,-999.0000,-999.000
  316N145_8,        I03,     491,          1,         15,         15,2,19950509,       1259,   -19.9998,    85.2997,       4860,  2123.5,   2.4223,  34.7258,2,  34.7260,2,    155.1,2,   155.1,2,  111.14,2,   33.83,2,    0.00,2,    2.43,2,  -0.001,2,   0.002,2,-999.000,9,  2288.3,2,  2385.0,2,-999.0000,9,-999.0000,9, -999.00,9, -999.00,9,  -999.0,9,  -999.0,-999.000,9,-999.000,-999.000,9,-999.0000,   2.2683,-999.0000,-999.000
  316N145_8,        I03,     491,          1,         14,         14,2,19950509,       1259,   -19.9998,    85.2997,       4860,  2324.6,   2.1753,  34.7254,2,  34.7254,2,    164.3,2,   163.5,2,  112.21,2,   33.33,2,    0.00,2,    2.37,2,-999.000,9,-999.000,9,-999.000,9,  2283.9,2,  2388.0,2,-999.0000,9,-999.0000,9, -999.00,9, -999.00,9,  -999.0,9,  -999.0,-999.000,9,-999.000,-999.000,9,-999.0000,   2.0074,-999.0000,-999.000
  316N145_8,        I03,     491,          1,         13,         13,2,19950509,       1259,   -19.9998,    85.2997,       4860,  2527.9,   1.9775,  34.7261,2,  34.7272,2,    170.3,2,   170.4,2,  113.28,2,   32.94,2,    0.00,2,    2.34,2,   0.000,2,   0.002,2,-999.000,9,  2281.8,2,  2386.0,2,-999.0000,9,-999.0000,9, -999.00,9, -999.00,9,  -999.0,9,  -999.0,-999.000,9,-999.000,-999.000,9,-999.0000,   1.7947,-999.0000,-999.000
  316N145_8,        I03,     491,          1,         12,         12,2,19950509,       1259,   -19.9998,    85.2997,       4860,  2729.4,   1.8209,  34.7267,2,  34.7276,2,    176.2,2,   175.4,2,  115.01,2,   32.74,2,    0.00,2,    2.32,2,-999.000,9,-999.000,9,-999.000,9,  2281.2,2,  2386.0,2,-999.0000,9,-999.0000,9, -999.00,9, -999.00,9,  -999.0,9,  -999.0,-999.000,9,-999.000,-999.000,9,-999.0000,   1.6226,-999.0000,-999.000
  316N145_8,        I03,     491,          1,         11,         11,2,19950509,       1259,   -19.9998,    85.2997,       4860,  2934.7,   1.6991,  34.7271,2,  34.7281,2,    177.1,2,   177.4,2,  118.74,2,   32.74,2,    0.00,2,    2.32,2,-999.000,9,-999.000,9,-999.000,9,  2284.6,2,  2390.5,6,-999.0000,9,-999.0000,9, -999.00,9, -999.00,9,  -999.0,9,  -999.0,-999.000,9,-999.000,-999.000,9,-999.0000,   1.4839,-999.0000,-999.000
  316N145_8,        I03,     491,          1,         10,         10,2,19950509,       1259,   -19.9998,    85.2997,       4860,  3138.0,   1.6057,  34.7256,2,  34.7258,2,    175.6,2,   176.0,2,  123.82,2,   33.05,2,    0.00,2,    2.34,2,   0.000,2,   0.003,2,  -0.039,3,  2291.5,2,  2399.0,2,-999.0000,9,-999.0000,9, -999.00,9, -999.00,9,  -999.0,9,  -999.0,-999.000,9,-999.000,  -0.018,2,-999.0000,   1.3730,-999.0000,-999.000
  316N145_8,        I03,     491,          1,          9,          9,2,19950509,       1259,   -19.9998,    85.2997,       4860,  3339.9,   1.5293,  34.7241,2,  34.7234,2,    176.3,2,   176.1,2,  126.92,2,   33.25,2,    0.00,2,    2.35,3,-999.000,9,-999.000,9,-999.000,9,  2294.6,2,  2401.0,2,-999.0000,9,-999.0000,9, -999.00,9, -999.00,9,  -999.0,9,  -999.0,-999.000,9,-999.000,-999.000,9,-999.0000,   1.2784,-999.0000,-999.000
  316N145_8,        I03,     491,          1,          8,          8,2,19950509,       1259,   -19.9998,    85.2997,       4860,  3544.8,   1.4635,  34.7222,2,  34.7218,2,    178.6,2,   178.6,2,  128.68,2,   33.26,2,    0.00,2,    2.35,3,-999.000,9,-999.000,9,-999.000,9,  2295.4,2,  2406.0,2,-999.0000,9,-999.0000,9, -999.00,9, -999.00,9,  -999.0,9,  -999.0,-999.000,9,-999.000,-999.000,9,-999.0000,   1.1935,-999.0000,-999.000
  316N145_8,        I03,     491,          1,          7,          7,2,19950509,       1259,   -19.9998,    85.2997,       4860,  3749.0,   1.4186,  34.7207,2,  34.7212,2,    179.9,2,   180.6,2,  129.54,2,   33.21,2,    0.00,2,    2.34,3,   0.000,2,   0.004,2,-999.000,9,  2293.2,2,  2403.0,2,-999.0000,9,-999.0000,9, -999.00,9, -999.00,9,  -999.0,9,  -999.0,-999.000,9,-999.000,-999.000,9,-999.0000,   1.1286,-999.0000,-999.000
  316N145_8,        I03,     491,          1,          6,          6,2,19950509,       1259,   -19.9998,    85.2997,       4860,  3954.6,   1.3856,  34.7197,2,  34.7202,2,    182.0,2,   183.0,2,  129.51,2,   33.07,2,    0.00,2,    2.33,3,-999.000,9,-999.000,9,-999.000,9,  2293.6,2,  2407.0,2,-999.0000,9,-999.0000,9, -999.00,9, -999.00,9,  -999.0,9,  -999.0,-999.000,9,-999.000,-999.000,9,-999.0000,   1.0746,-999.0000,-999.000
  316N145_8,        I03,     491,          1,          5,          5,2,19950509,       1259,   -19.9998,    85.2997,       4860,  4158.2,   1.3664,  34.7184,2,  34.7179,2,    183.6,2,   183.7,2,  130.37,2,   33.17,2,    0.00,2,    2.34,3,-999.000,9,-999.000,9,-999.000,9,  2294.7,2,  2404.0,2,-999.0000,9,-999.0000,9, -999.00,9, -999.00,9,  -999.0,9,  -999.0,-999.000,9,-999.000,-999.000,9,-999.0000,   1.0337,-999.0000,-999.000
  316N145_8,        I03,     491,          1,          4,          4,2,19950509,       1259,   -19.9998,    85.2997,       4860,  4362.0,   1.3625,  34.7179,2,  34.7179,2,    183.4,2,   184.0,2,  131.69,2,   33.22,2,    0.00,2,    2.33,2,   0.002,2,   0.005,2,-999.000,9,  2294.7,2,  2409.0,2,-999.0000,9,-999.0000,9, -999.00,9, -999.00,9,  -999.0,9,  -999.0,-999.000,9,-999.000,-999.000,9,-999.0000,   1.0072,-999.0000,-999.000
  316N145_8,        I03,     491,          1,          3,          3,2,19950509,       1259,   -19.9998,    85.2997,       4860,  4566.6,   1.3707,  34.7175,2,  34.7173,2,    184.8,2,   185.4,2,  131.43,2,   33.18,2,    0.00,2,    2.33,2,-999.000,9,-999.000,9,-999.000,9,  2295.1,2,  2405.0,2,-999.0000,9,-999.0000,9, -999.00,9, -999.00,9,  -999.0,9,  -999.0,-999.000,9,-999.000,-999.000,9,-999.0000,   0.9918,-999.0000,-999.000
  316N145_8,        I03,     491,          1,          2,          2,2,19950509,       1259,   -19.9998,    85.2997,       4860,  4770.5,   1.3872,  34.7170,2,  34.7176,2,    185.0,2,   184.9,2,  131.17,2,   33.18,2,    0.00,2,    2.32,2,-999.000,9,-999.000,9,   0.010,3,  2293.9,2,  2405.0,2,-999.0000,9,-999.0000,9, -999.00,9, -999.00,9,  -999.0,9,  -999.0,-999.000,9,-999.000,   0.007,2,-999.0000,   0.9840,-999.0000,-999.000
  316N145_8,        I03,     491,          1,          1,          1,2,19950509,       1259,   -19.9998,    85.2997,       4860,  4962.4,   1.4098,  34.7174,2,  34.7166,2,    185.9,2,   185.6,2,  131.13,2,   33.09,2,    0.00,2,    2.33,2,   0.002,2,   0.003,2,  -0.005,3,  2292.9,2,  2405.0,2,-999.0000,9,-999.0000,9, -999.00,9, -999.00,9,  -999.0,9,  -999.0,-999.000,9,-999.000,  -0.001,2,-999.0000,   0.9830,-999.0000,-999.000