BOTTLE,20140514CCHSIOSE
EXPOCODE,SECT_ID,STNNBR,CASTNO,SAMPNO,BTLNBR,BTLNBR_FLAG_W,DATE,TIME,LATITUDE,LONGITUDE,DEPTH,CTDPRS,CTDTMP,CTDSAL,CTDSAL_FLAG_W,SALNTY,SALNTY_FLAG_W,CTDOXY,CTDOXY_FLAG_W,OXYGEN,OXYGEN_FLAG_W,SILCAT,SILCAT_FLAG_W,NITRAT,NITRAT_FLAG_W,NITRIT,NITRIT_FLAG_W,PHSPHT,PHSPHT_FLAG_W,CFC-11,CFC-11_FLAG_W,CFC-12,CFC-12_FLAG_W,CFC113,CFC113_FLAG_W,TCARBN,TCARBN_FLAG_W,ALKALI,ALKALI_FLAG_W,TRITUM,TRITUM_FLAG_W,HELIUM,HELIUM_FLAG_W,DELHE3,DELHE3_FLAG_W,DELC13,DELC13_FLAG_W,DELC14,DELC14_FLAG_W,C14ERR,NEON,NEON_FLAG_W,NEONER,CCL4,CCL4_FLAG_W,HELIER,THETA,TRITER,DELHER
,,,,,,,,,,,METERS,DBAR,ITS-90,PSS-78,,PSS-78,,UMOL/KG,,UMOL/KG,,UMOL/KG,,UMOL/KG,,UMOL/KG,,UMOL/KG,,PMOL/KG,,PMOL/KG,,PMOL/KG,,UMOL/KG,,UMOL/KG,,TU,,NMOL/KG,,PERCNT,,/MILLE,,/MILLE,,/MILLE,NMOL/KG,,NMOL/KG,PMOL/KG,,NMOL/KG,DEG C,TU,PERCNT
  316N145_8,        I03,     508,          1,         32,         32,2,19950517,       1104,   -19.9913,    73.6777,       4080,    11.3,  24.5844,  35.1113,2,  35.1120,2,    210.4,2,   210.2,2,    3.15,2,    0.04,2,    0.00,2,    0.11,2,   1.921,2,   1.084,2,-999.000,9,  1957.7,2,  2294.0,2,-999.0000,9,-999.0000,9, -999.00,9, -999.00,9,  -999.0,9,  -999.0,-999.000,9,-999.000,-999.000,9,-999.0000,  24.5820,-999.0000,-999.000
  316N145_8,        I03,     508,          1,         31,         31,2,19950517,       1104,   -19.9913,    73.6777,       4080,    46.6,  24.5036,  35.1746,2,  35.1803,2,    214.8,2,   213.0,2,    3.14,2,    0.04,2,    0.00,2,    0.11,2,   1.957,2,   1.105,2,-999.000,9,  1963.8,6,  2300.5,6,-999.0000,9,-999.0000,9, -999.00,9, -999.00,9,  -999.0,9,  -999.0,-999.000,9,-999.000,-999.000,9,-999.0000,  24.4937,-999.0000,-999.000
  316N145_8,        I03,     508,          1,         30,         30,2,19950517,       1104,   -19.9913,    73.6777,       4080,   105.0,  20.3424,  35.6707,2,  35.6705,2,    210.0,2,   207.9,2,    3.34,2,    0.39,2,    0.12,2,    0.19,2,   2.310,2,   1.268,2,-999.000,9,  2033.0,2,  2334.0,2,-999.0000,9,-999.0000,9, -999.00,9, -999.00,9,  -999.0,9,  -999.0,-999.000,9,-999.000,-999.000,9,-999.0000,  20.3227,-999.0000,-999.000
  316N145_8,        I03,     508,          1,         29,         29,2,19950517,       1104,   -19.9913,    73.6777,       4080,   156.2,  18.6959,  35.7918,2,  35.7925,2,    198.9,2,   202.2,2,    3.54,2,    1.79,2,    0.02,2,    0.29,2,   2.393,2,   1.290,2,-999.000,9,  2064.1,2,  2345.0,2,-999.0000,9,-999.0000,9, -999.00,9, -999.00,9,  -999.0,9,  -999.0,-999.000,9,-999.000,-999.000,9,-999.0000,  18.6683,-999.0000,-999.000
  316N145_8,        I03,     508,          1,         28,         28,2,19950517,       1104,   -19.9913,    73.6777,       4080,   204.8,  17.3845,  35.7553,2,  35.7515,2,    202.6,2,   204.1,2,    3.74,2,    2.65,2,    0.01,2,    0.35,2,   2.470,2,   1.306,2,-999.000,9,  2077.3,2,  2345.0,2,-999.0000,9,-999.0000,9, -999.00,9, -999.00,9,  -999.0,9,  -999.0,-999.000,9,-999.000,-999.000,9,-999.0000,  17.3500,-999.0000,-999.000
  316N145_8,        I03,     508,          1,         27,         27,2,19950517,       1104,   -19.9913,    73.6777,       4080,   256.6,  15.2607,  35.5470,2,  35.5369,2,    208.8,2,   213.6,2,    3.51,2,    4.37,2,    0.01,2,    0.47,2,   2.684,2,   1.406,2,-999.000,9,  2087.9,2,  2337.0,2,-999.0000,9,-999.0000,9, -999.00,9, -999.00,9,  -999.0,9,  -999.0,-999.000,9,-999.000,-999.000,9,-999.0000,  15.2211,-999.0000,-999.000
  316N145_8,        I03,     508,          1,         26,         26,2,19950517,       1104,   -19.9913,    73.6777,       4080,   307.9,  13.5973,  35.3323,2,  35.3292,2,    213.9,2,   220.0,2,    3.72,2,    7.00,2,    0.01,2,    0.62,2,   2.807,2,   1.435,2,-999.000,9,  2097.8,2,  2326.0,2,-999.0000,9,-999.0000,9, -999.00,9, -999.00,9,  -999.0,9,  -999.0,-999.000,9,-999.000,-999.000,9,-999.0000,  13.5534,-999.0000,-999.000
  316N145_8,        I03,     508,          1,         25,         25,2,19950517,       1104,   -19.9913,    73.6777,       4080,   357.4,  12.4744,  35.1702,2,  35.1683,2,    223.7,2,   228.1,2,    3.70,2,    8.82,2,    0.01,2,    0.71,2,   2.907,2,   1.473,2,-999.000,9,  2096.0,2,  2318.0,2,-999.0000,9,-999.0000,9, -999.00,9, -999.00,9,  -999.0,9,  -999.0,-999.000,9,-999.000,-999.000,9,-999.0000,  12.4262,-999.0000,-999.000
  316N145_8,        I03,     508,          1,         24,         24,2,19950517,       1104,   -19.9913,    73.6777,       4080,   406.6,  11.6316,  35.0438,2,  35.0474,2,    227.9,2,   229.1,2,    4.56,2,   10.49,2,    0.01,2,    0.81,2,   2.850,2,   1.437,2,-999.000,9,  2101.9,2,  2310.0,2,-999.0000,9,-999.0000,9, -999.00,9, -999.00,9,  -999.0,9,  -999.0,-999.000,9,-999.000,-999.000,9,-999.0000,  11.5791,-999.0000,-999.000
  316N145_8,        I03,     508,          1,         23,         23,2,19950517,       1104,   -19.9913,    73.6777,       4080,   508.3,  10.2365,  34.8352,2,  34.8356,2,    229.7,2,   230.6,2,    5.41,2,   13.80,2,    0.00,2,    1.01,2,   2.683,2,   1.338,2,-999.000,9,  2110.3,2,  2300.0,2,-999.0000,9,-999.0000,9, -999.00,9, -999.00,9,  -999.0,9,  -999.0,-999.000,9,-999.000,-999.000,9,-999.0000,  10.1758,-999.0000,-999.000
  316N145_8,        I03,     508,          1,         22,         22,2,19950517,       1104,   -19.9913,    73.6777,       4080,   607.8,   8.8964,  34.6446,2,  34.6534,2,    226.5,2,   223.8,2,    7.57,2,   18.20,2,    0.00,2,    1.28,2,   2.068,2,   1.018,2,-999.000,9,  2123.6,2,  2294.0,2,-999.0000,9,-999.0000,9, -999.00,9, -999.00,9,  -999.0,9,  -999.0,-999.000,9,-999.000,-999.000,9,-999.0000,   8.8296,-999.0000,-999.000
  316N145_8,        I03,     508,          1,         21,         21,2,19950517,       1104,   -19.9913,    73.6777,       4080,   707.3,   7.4599,  34.5337,2,  34.5326,2,    204.1,2,   198.1,2,   17.99,2,   24.15,2,    0.00,2,    1.66,2,   0.902,2,   0.456,2,-999.000,9,  2154.6,2,  2294.0,2,-999.0000,9,-999.0000,9, -999.00,9, -999.00,9,  -999.0,9,  -999.0,-999.000,9,-999.000,-999.000,9,-999.0000,   7.3893,-999.0000,-999.000
  316N145_8,        I03,     508,          1,         20,         20,2,19950517,       1104,   -19.9913,    73.6777,       4080,   809.0,   5.8091,  34.4998,2,  34.5003,2,    162.5,2,   159.8,2,   44.05,2,   30.82,2,    0.00,2,    2.16,2,   0.191,2,   0.102,2,-999.000,9,  2208.8,2,  2317.0,2,-999.0000,9,-999.0000,9, -999.00,9, -999.00,9,  -999.0,9,  -999.0,-999.000,9,-999.000,-999.000,9,-999.0000,   5.7378,-999.0000,-999.000
  316N145_8,        I03,     508,          1,         19,         19,2,19950517,       1104,   -19.9913,    73.6777,       4080,   910.4,   4.9252,  34.5338,2,  34.5356,2,    138.7,2,   137.4,2,   65.13,2,   33.98,2,    0.00,2,    2.42,2,   0.042,2,   0.022,2,-999.000,9,  2243.7,2,  2335.0,2,-999.0000,9,-999.0000,9, -999.00,9, -999.00,9,  -999.0,9,  -999.0,-999.000,9,-999.000,-999.000,9,-999.0000,   4.8504,-999.0000,-999.000
  316N145_8,        I03,     508,          1,         18,         18,2,19950517,       1104,   -19.9913,    73.6777,       4080,  1011.5,   4.4977,  34.5724,2,  34.5742,2,    128.7,2,   128.5,2,   76.23,2,   34.86,2,    0.00,2,    2.51,2,   0.012,2,   0.006,2,-999.000,9,  2260.2,2,  2349.0,2,-999.0000,9,-999.0000,9, -999.00,9, -999.00,9,  -999.0,9,  -999.0,-999.000,9,-999.000,-999.000,9,-999.0000,   4.4172,-999.0000,-999.000
  316N145_8,        I03,     508,          1,         17,         17,2,19950517,       1104,   -19.9913,    73.6777,       4080,  1159.5,   4.2058,  34.6558,2,  34.6572,2,    119.2,2,   119.2,2,   89.55,2,   35.34,2,    0.01,2,    2.56,2,   0.002,2,   0.003,2,-999.000,9,  2279.0,2,  2362.0,2,-999.0000,9,-999.0000,9, -999.00,9, -999.00,9,  -999.0,9,  -999.0,-999.000,9,-999.000,-999.000,9,-999.0000,   4.1145,-999.0000,-999.000
  316N145_8,        I03,     508,          1,         16,         16,2,19950517,       1104,   -19.9913,    73.6777,       4080,  1307.7,   3.9426,  34.6961,2,  34.6974,2,    118.3,2,   118.3,2,   97.66,2,   35.44,2,    0.01,2,    2.57,2,   0.002,2,  -0.002,2,-999.000,9,  2287.4,2,  2374.0,2,-999.0000,9,-999.0000,9, -999.00,9, -999.00,9,  -999.0,9,  -999.0,-999.000,9,-999.000,-999.000,9,-999.0000,   3.8408,-999.0000,-999.000
  316N145_8,        I03,     508,          1,         15,         15,2,19950517,       1104,   -19.9913,    73.6777,       4080,  1512.3,   3.4808,  34.7075,2,  34.7072,2,    128.7,2,   128.5,2,  102.04,2,   35.10,2,    0.00,2,    2.55,2,   0.000,2,   0.000,2,-999.000,9,  2287.7,2,  2375.0,2,-999.0000,9,-999.0000,9, -999.00,9, -999.00,9,  -999.0,9,  -999.0,-999.000,9,-999.000,-999.000,9,-999.0000,   3.3660,-999.0000,-999.000
  316N145_8,        I03,     508,          1,         14,         14,2,19950517,       1104,   -19.9913,    73.6777,       4080,  1713.4,   2.9856,  34.7216,2,  34.7221,2,    137.2,2,   138.5,2,  107.98,2,   34.75,2,    0.00,2,    2.51,2,  -0.001,2,   0.001,2,-999.000,9,  2289.8,2,  2385.0,2,-999.0000,9,-999.0000,9, -999.00,9, -999.00,9,  -999.0,9,  -999.0,-999.000,9,-999.000,-999.000,9,-999.0000,   2.8594,-999.0000,-999.000
  316N145_8,        I03,     508,          1,         13,         13,2,19950517,       1104,   -19.9913,    73.6777,       4080,  1920.5,   2.5151,  34.7186,2,  34.7196,2,    155.1,2,   154.9,2,  108.39,2,   33.82,2,    0.00,2,    2.42,2,   0.002,2,   0.000,2,-999.000,9,  2282.0,2,  2381.0,2,-999.0000,9,-999.0000,9, -999.00,9, -999.00,9,  -999.0,9,  -999.0,-999.000,9,-999.000,-999.000,9,-999.0000,   2.3775,-999.0000,-999.000
  316N145_8,        I03,     508,          1,         12,         12,2,19950517,       1104,   -19.9913,    73.6777,       4080,  2122.1,   2.2668,  34.7261,2,  34.7270,2,    160.3,2,   160.3,2,  113.03,2,   33.67,2,    0.00,2,    2.41,2,-999.000,9,-999.000,9,-999.000,9,  2285.2,2,  2388.0,2,-999.0000,9,-999.0000,9, -999.00,9, -999.00,9,  -999.0,9,  -999.0,-999.000,9,-999.000,-999.000,9,-999.0000,   2.1154,-999.0000,-999.000
  316N145_8,        I03,     508,          1,         11,         11,2,19950517,       1104,   -19.9913,    73.6777,       4080,  2323.9,   2.0479,  34.7250,2,  34.7263,2,    168.0,2,   168.2,2,  113.66,2,   33.19,2,    0.00,2,    2.36,2,   0.000,2,   0.001,2,-999.000,9,  2281.4,2,  2385.0,2,-999.0000,9,-999.0000,9, -999.00,9, -999.00,9,  -999.0,9,  -999.0,-999.000,9,-999.000,-999.000,9,-999.0000,   1.8824,-999.0000,-999.000
  316N145_8,        I03,     508,          1,         10,         10,2,19950517,       1104,   -19.9913,    73.6777,       4080,  2519.0,   1.8651,  34.7245,2,  34.7251,2,    180.1,2,   178.3,2,  111.84,2,   32.55,2,    0.00,2,    2.31,2,-999.000,9,-999.000,9,-999.000,9,  2275.8,2,  2384.0,2,-999.0000,9,-999.0000,9, -999.00,9, -999.00,9,  -999.0,9,  -999.0,-999.000,9,-999.000,-999.000,9,-999.0000,   1.6853,-999.0000,-999.000
  316N145_8,        I03,     508,          1,          9,          9,2,19950517,       1104,   -19.9913,    73.6777,       4080,  2718.0,   1.7005,  34.7262,2,  34.7266,2,    184.4,2,   183.7,2,  113.58,2,   32.31,2,    0.00,2,    2.28,2,  -0.003,2,   0.002,2,-999.000,9,  2274.3,2,  2382.0,2,-999.0000,9,-999.0000,9, -999.00,9, -999.00,9,  -999.0,9,  -999.0,-999.000,9,-999.000,-999.000,9,-999.0000,   1.5057,-999.0000,-999.000
  316N145_8,        I03,     508,          1,          8,          8,2,19950517,       1104,   -19.9913,    73.6777,       4080,  2914.0,   1.5749,  34.7265,2,  34.7268,2,    185.0,2,   184.9,2,  117.57,2,   32.40,2,    0.00,2,    2.28,2,-999.000,9,-999.000,9,-999.000,9,  2277.5,2,  2390.0,2,-999.0000,9,-999.0000,9, -999.00,9, -999.00,9,  -999.0,9,  -999.0,-999.000,9,-999.000,-999.000,9,-999.0000,   1.3643,-999.0000,-999.000
  316N145_8,        I03,     508,          1,          7,          7,2,19950517,       1104,   -19.9913,    73.6777,       4080,  3113.1,   1.4819,  34.7259,2,  34.7270,2,    186.7,2,   187.7,2,  119.32,2,   32.35,2,    0.00,2,    2.27,2,  -0.002,2,   0.001,2,-999.000,9,  2278.7,6,  2392.0,6,-999.0000,9,-999.0000,9, -999.00,9, -999.00,9,  -999.0,9,  -999.0,-999.000,9,-999.000,-999.000,9,-999.0000,   1.2544,-999.0000,-999.000
  316N145_8,        I03,     508,          1,          6,          6,2,19950517,       1104,   -19.9913,    73.6777,       4080,  3315.7,   1.4446,  34.7246,2,  34.7247,2,    187.8,2,   188.0,2,  121.53,2,   32.45,2,    0.00,2,    2.27,2,-999.000,9,-999.000,9,-999.000,9,  2280.8,2,  2397.0,2,-999.0000,9,-999.0000,9, -999.00,9, -999.00,9,  -999.0,9,  -999.0,-999.000,9,-999.000,-999.000,9,-999.0000,   1.1982,-999.0000,-999.000
  316N145_8,        I03,     508,          1,          5,          5,2,19950517,       1104,   -19.9913,    73.6777,       4080,  3515.1,   1.4143,  34.7227,2,  34.7229,2,    186.4,2,   186.0,2,  124.87,2,   32.69,2,    0.00,2,    2.29,2,  -0.001,2,   0.003,2,-999.000,9,  2284.6,2,  2396.0,2,-999.0000,9,-999.0000,9, -999.00,9, -999.00,9,  -999.0,9,  -999.0,-999.000,9,-999.000,-999.000,9,-999.0000,   1.1486,-999.0000,-999.000
  316N145_8,        I03,     508,          1,          4,          4,2,19950517,       1104,   -19.9913,    73.6777,       4080,  3723.9,   1.4118,  34.7217,2,  34.7217,2,    184.2,2,   185.2,2,  126.86,2,   32.84,2,    0.00,2,    2.29,2,-999.000,9,-999.000,9,-999.000,9,  2287.4,2,  2403.0,2,-999.0000,9,-999.0000,9, -999.00,9, -999.00,9,  -999.0,9,  -999.0,-999.000,9,-999.000,-999.000,9,-999.0000,   1.1246,-999.0000,-999.000
  316N145_8,        I03,     508,          1,          3,          3,2,19950517,       1104,   -19.9913,    73.6777,       4080,  3928.6,   1.4044,  34.7213,2,  34.7206,2,    183.9,2,   184.8,2,  129.09,2,   33.08,2,    0.00,2,    2.31,2,   0.000,2,   0.001,2,-999.000,9,  2290.5,2,  2403.0,2,-999.0000,9,-999.0000,9, -999.00,9, -999.00,9,  -999.0,9,  -999.0,-999.000,9,-999.000,-999.000,9,-999.0000,   1.0957,-999.0000,-999.000
  316N145_8,        I03,     508,          1,          2,          2,2,19950517,       1104,   -19.9913,    73.6777,       4080,  4079.9,   1.4047,  34.7207,2,  34.7194,2,    182.5,2,   183.6,2,  130.18,2,   33.13,2,    0.00,2,    2.32,2,-999.000,9,-999.000,9,-999.000,9,  2292.9,2,  2408.0,2,-999.0000,9,-999.0000,9, -999.00,9, -999.00,9,  -999.0,9,  -999.0,-999.000,9,-999.000,-999.000,9,-999.0000,   1.0796,-999.0000,-999.000
  316N145_8,        I03,     508,          1,          1,          1,2,19950517,       1104,   -19.9913,    73.6777,       4080,  4217.6,   1.4102,  34.7197,2,  34.7213,2,    182.4,2,   182.0,2,  130.14,2,   33.18,2,    0.00,2,    2.32,2,   0.000,2,  -0.002,2,-999.000,9,  2293.6,2,  2408.0,2,-999.0000,9,-999.0000,9, -999.00,9, -999.00,9,  -999.0,9,  -999.0,-999.000,9,-999.000,-999.000,9,-999.0000,   1.0698,-999.0000,-999.000