BOTTLE,20140514CCHSIOSE
EXPOCODE,SECT_ID,STNNBR,CASTNO,SAMPNO,BTLNBR,BTLNBR_FLAG_W,DATE,TIME,LATITUDE,LONGITUDE,DEPTH,CTDPRS,CTDTMP,CTDSAL,CTDSAL_FLAG_W,SALNTY,SALNTY_FLAG_W,CTDOXY,CTDOXY_FLAG_W,OXYGEN,OXYGEN_FLAG_W,SILCAT,SILCAT_FLAG_W,NITRAT,NITRAT_FLAG_W,NITRIT,NITRIT_FLAG_W,PHSPHT,PHSPHT_FLAG_W,CFC-11,CFC-11_FLAG_W,CFC-12,CFC-12_FLAG_W,CFC113,CFC113_FLAG_W,TCARBN,TCARBN_FLAG_W,ALKALI,ALKALI_FLAG_W,TRITUM,TRITUM_FLAG_W,HELIUM,HELIUM_FLAG_W,DELHE3,DELHE3_FLAG_W,DELC13,DELC13_FLAG_W,DELC14,DELC14_FLAG_W,C14ERR,NEON,NEON_FLAG_W,NEONER,CCL4,CCL4_FLAG_W,HELIER,THETA,TRITER,DELHER
,,,,,,,,,,,METERS,DBAR,ITS-90,PSS-78,,PSS-78,,UMOL/KG,,UMOL/KG,,UMOL/KG,,UMOL/KG,,UMOL/KG,,UMOL/KG,,PMOL/KG,,PMOL/KG,,PMOL/KG,,UMOL/KG,,UMOL/KG,,TU,,NMOL/KG,,PERCNT,,/MILLE,,/MILLE,,/MILLE,NMOL/KG,,NMOL/KG,PMOL/KG,,NMOL/KG,DEG C,TU,PERCNT
  316N145_8,        I03,     513,          1,         31,         31,2,19950518,       1456,   -20.0000,    71.2497,       4055,     5.5,  24.8700,  34.9504,2,  34.9517,2,    209.6,2,   208.8,2,    2.69,2,    0.00,2,    0.00,2,    0.10,2,-999.000,9,-999.000,9,-999.000,9,  1942.7,6,  2288.1,6,-999.0000,9,-999.0000,9, -999.00,9, -999.00,9,  -999.0,9,  -999.0,-999.000,9,-999.000,-999.000,9,-999.0000,  24.8688,-999.0000,-999.000
  316N145_8,        I03,     513,          1,         30,         30,2,19950518,       1456,   -20.0000,    71.2497,       4055,    46.0,  24.8233,  34.9898,2,  34.9860,2,    211.3,2,   209.6,2,    2.67,2,    0.00,2,    0.00,2,    0.10,2,-999.000,9,-999.000,9,-999.000,9,  -999.0,9,  -999.0,9,-999.0000,9,-999.0000,9, -999.00,9, -999.00,9,  -999.0,9,  -999.0,-999.000,9,-999.000,-999.000,9,-999.0000,  24.8134,-999.0000,-999.000
  316N145_8,        I03,     513,          1,         29,         29,2,19950518,       1456,   -20.0000,    71.2497,       4055,   106.3,  21.6642,  35.5072,2,  35.5026,2,    218.0,2,   217.1,2,    3.09,2,    0.00,2,    0.00,2,    0.13,2,-999.000,9,-999.000,9,-999.000,9,  -999.0,9,  -999.0,9,-999.0000,9,-999.0000,9, -999.00,9, -999.00,9,  -999.0,9,  -999.0,-999.000,9,-999.000,-999.000,9,-999.0000,  21.6434,-999.0000,-999.000
  316N145_8,        I03,     513,          1,         28,         28,2,19950518,       1456,   -20.0000,    71.2497,       4055,   155.0,  20.5299,  35.6831,2,  35.6837,2,    209.7,2,   210.4,2,    3.07,2,    0.01,2,    0.04,2,    0.16,2,-999.000,9,-999.000,9,-999.000,9,  -999.0,9,  -999.0,9,-999.0000,9,-999.0000,9, -999.00,9, -999.00,9,  -999.0,9,  -999.0,-999.000,9,-999.000,-999.000,9,-999.0000,  20.5006,-999.0000,-999.000
  316N145_8,        I03,     513,          1,         27,         27,2,19950518,       1456,   -20.0000,    71.2497,       4055,   205.8,  18.5643,  35.7713,2,  35.7714,2,    198.5,2,   199.3,2,    3.48,2,    2.26,2,    0.01,2,    0.30,2,-999.000,9,-999.000,9,-999.000,9,  -999.0,9,  -999.0,9,-999.0000,9,-999.0000,9, -999.00,9, -999.00,9,  -999.0,9,  -999.0,-999.000,9,-999.000,-999.000,9,-999.0000,  18.5280,-999.0000,-999.000
  316N145_8,        I03,     513,          1,         26,         26,2,19950518,       1456,   -20.0000,    71.2497,       4055,   256.3,  16.4426,  35.6573,2,  35.6606,2,    203.2,2,   204.5,2,    3.90,2,    3.63,2,    0.01,2,    0.41,2,-999.000,9,-999.000,9,-999.000,9,  -999.0,9,  -999.0,9,-999.0000,9,-999.0000,9, -999.00,9, -999.00,9,  -999.0,9,  -999.0,-999.000,9,-999.000,-999.000,9,-999.0000,  16.4010,-999.0000,-999.000
  316N145_8,        I03,     513,          1,         25,         25,2,19950518,       1456,   -20.0000,    71.2497,       4055,   306.6,  14.7173,  35.4769,2,  35.4667,2,    211.0,2,   219.2,2,    2.81,2,    4.81,2,    0.00,2,    0.49,2,-999.000,9,-999.000,9,-999.000,9,  -999.0,9,  -999.0,9,-999.0000,9,-999.0000,9, -999.00,9, -999.00,9,  -999.0,9,  -999.0,-999.000,9,-999.000,-999.000,9,-999.0000,  14.6712,-999.0000,-999.000
  316N145_8,        I03,     513,          1,         24,         24,2,19950518,       1456,   -20.0000,    71.2497,       4055,   356.1,  13.0709,  35.2523,2,  35.2471,2,    220.7,2,   227.9,2,    3.43,2,    7.79,2,    0.00,2,    0.65,2,-999.000,9,-999.000,9,-999.000,9,  -999.0,9,  -999.0,9,-999.0000,9,-999.0000,9, -999.00,9, -999.00,9,  -999.0,9,  -999.0,-999.000,9,-999.000,-999.000,9,-999.0000,  13.0213,-999.0000,-999.000
  316N145_8,        I03,     513,          1,         23,         23,2,19950518,       1456,   -20.0000,    71.2497,       4055,   406.4,  12.3601,  35.1499,2,  35.1554,2,    229.7,2,   229.9,2,    3.42,2,    8.97,2,    0.00,2,    0.72,2,-999.000,9,-999.000,9,-999.000,9,  -999.0,9,  -999.0,9,-999.0000,9,-999.0000,9, -999.00,9, -999.00,9,  -999.0,9,  -999.0,-999.000,9,-999.000,-999.000,9,-999.0000,  12.3055,-999.0000,-999.000
  316N145_8,        I03,     513,          1,         22,         22,2,19950518,       1456,   -20.0000,    71.2497,       4055,   506.7,  10.8203,  34.9195,2,  34.9198,2,    232.5,2,   232.5,2,    4.26,2,   12.28,2,    0.00,2,    0.91,2,-999.000,9,-999.000,9,-999.000,9,  -999.0,9,  -999.0,9,-999.0000,9,-999.0000,9, -999.00,9, -999.00,9,  -999.0,9,  -999.0,-999.000,9,-999.000,-999.000,9,-999.0000,  10.7576,-999.0000,-999.000
  316N145_8,        I03,     513,          1,         21,         21,2,19950518,       1456,   -20.0000,    71.2497,       4055,   607.6,   9.2761,  34.6978,2,  34.6985,2,    222.3,2,   221.3,2,    7.67,2,   17.43,2,    0.00,2,    1.22,2,-999.000,9,-999.000,9,-999.000,9,  -999.0,9,  -999.0,9,-999.0000,9,-999.0000,9, -999.00,9, -999.00,9,  -999.0,9,  -999.0,-999.000,9,-999.000,-999.000,9,-999.0000,   9.2076,-999.0000,-999.000
  316N145_8,        I03,     513,          1,         20,         20,2,19950518,       1456,   -20.0000,    71.2497,       4055,   706.9,   7.7580,  34.5589,2,  34.5653,2,    201.3,2,   199.2,2,   16.22,2,   23.25,2,    0.00,2,    1.60,2,-999.000,9,-999.000,9,-999.000,9,  -999.0,9,  -999.0,9,-999.0000,9,-999.0000,9, -999.00,9, -999.00,9,  -999.0,9,  -999.0,-999.000,9,-999.000,-999.000,9,-999.0000,   7.6858,-999.0000,-999.000
  316N145_8,        I03,     513,          1,         19,         19,2,19950518,       1456,   -20.0000,    71.2497,       4055,   808.6,   5.8561,  34.4631,2,  34.4655,2,    178.8,2,   178.7,2,   33.98,2,   29.21,2,    0.00,2,    2.02,2,-999.000,9,-999.000,9,-999.000,9,  -999.0,9,  -999.0,9,-999.0000,9,-999.0000,9, -999.00,9, -999.00,9,  -999.0,9,  -999.0,-999.000,9,-999.000,-999.000,9,-999.0000,   5.7846,-999.0000,-999.000
  316N145_8,        I03,     513,          1,         18,         18,2,19950518,       1456,   -20.0000,    71.2497,       4055,   908.1,   4.8565,  34.5079,2,  34.5033,2,    148.4,2,   147.7,2,   58.57,2,   33.33,2,    0.00,2,    2.37,2,-999.000,9,-999.000,9,-999.000,9,  -999.0,9,  -999.0,9,-999.0000,9,-999.0000,9, -999.00,9, -999.00,9,  -999.0,9,  -999.0,-999.000,9,-999.000,-999.000,9,-999.0000,   4.7824,-999.0000,-999.000
  316N145_8,        I03,     513,          1,         17,         17,2,19950518,       1456,   -20.0000,    71.2497,       4055,  1008.0,   4.8972,  34.6334,2,  34.6306,2,    119.5,2,   116.3,2,   79.14,2,   35.02,2,    0.00,2,    2.52,2,-999.000,9,-999.000,9,-999.000,9,  -999.0,9,  -999.0,9,-999.0000,9,-999.0000,9, -999.00,9, -999.00,9,  -999.0,9,  -999.0,-999.000,9,-999.000,-999.000,9,-999.0000,   4.8137,-999.0000,-999.000
  316N145_8,        I03,     513,          1,         16,         16,2,19950518,       1456,   -20.0000,    71.2497,       4055,  1160.1,   4.5501,  34.6752,2,  34.6747,2,    111.0,2,   112.8,2,   88.56,2,   35.45,2,    0.00,2,    2.56,2,-999.000,9,-999.000,9,-999.000,9,  -999.0,9,  -999.0,9,-999.0000,9,-999.0000,9, -999.00,9, -999.00,9,  -999.0,9,  -999.0,-999.000,9,-999.000,-999.000,9,-999.0000,   4.4558,-999.0000,-999.000
  316N145_8,        I03,     513,          1,         15,         15,2,19950518,       1456,   -20.0000,    71.2497,       4055,  1311.3,   4.1764,  34.6961,2,  34.6959,2,    115.5,2,   116.0,2,   94.77,2,   35.49,2,    0.00,2,    2.57,2,-999.000,9,-999.000,9,-999.000,9,  -999.0,9,  -999.0,9,-999.0000,9,-999.0000,9, -999.00,9, -999.00,9,  -999.0,9,  -999.0,-999.000,9,-999.000,-999.000,9,-999.0000,   4.0719,-999.0000,-999.000
  316N145_8,        I03,     513,          1,         14,         14,2,19950518,       1456,   -20.0000,    71.2497,       4055,  1514.3,   3.5952,  34.7028,2,  34.7022,2,    126.4,2,   125.8,2,  100.13,2,   35.24,2,    0.00,2,    2.54,2,-999.000,9,-999.000,9,-999.000,9,  -999.0,9,  -999.0,9,-999.0000,9,-999.0000,9, -999.00,9, -999.00,9,  -999.0,9,  -999.0,-999.000,9,-999.000,-999.000,9,-999.0000,   3.4790,-999.0000,-999.000
  316N145_8,        I03,     513,          1,         13,         13,2,19950518,       1456,   -20.0000,    71.2497,       4055,  1713.2,   3.1603,  34.7125,2,  34.7118,2,    137.5,2,   136.3,2,  103.75,2,   34.85,2,    0.00,2,    2.51,2,-999.000,9,-999.000,9,-999.000,9,  -999.0,9,  -999.0,9,-999.0000,9,-999.0000,9, -999.00,9, -999.00,9,  -999.0,9,  -999.0,-999.000,9,-999.000,-999.000,9,-999.0000,   3.0319,-999.0000,-999.000
  316N145_8,        I03,     513,          1,         12,         12,2,19950518,       1456,   -20.0000,    71.2497,       4055,  1914.3,   2.5954,  34.7107,2,  34.7108,2,    157.2,2,   156.4,2,  104.33,2,   33.78,2,    0.00,2,    2.39,2,-999.000,9,-999.000,9,-999.000,9,  -999.0,9,  -999.0,9,-999.0000,9,-999.0000,9, -999.00,9, -999.00,9,  -999.0,9,  -999.0,-999.000,9,-999.000,-999.000,9,-999.0000,   2.4571,-999.0000,-999.000
  316N145_8,        I03,     513,          1,         11,         11,2,19950518,       1456,   -20.0000,    71.2497,       4055,  2116.8,   2.0948,  34.7180,2,  34.7187,2,    170.8,2,   171.5,2,  107.74,2,   32.86,2,    0.00,2,    2.32,2,-999.000,9,-999.000,9,-999.000,9,  -999.0,9,  -999.0,9,-999.0000,9,-999.0000,9, -999.00,9, -999.00,9,  -999.0,9,  -999.0,-999.000,9,-999.000,-999.000,9,-999.0000,   1.9466,-999.0000,-999.000
  316N145_8,        I03,     513,          1,         10,         10,2,19950518,       1456,   -20.0000,    71.2497,       4055,  2321.9,   1.9130,  34.7246,2,  34.7245,2,    175.3,2,   174.4,2,  112.04,2,   32.80,2,    0.00,2,    2.31,2,-999.000,9,-999.000,9,-999.000,9,  -999.0,9,  -999.0,9,-999.0000,9,-999.0000,9, -999.00,9, -999.00,9,  -999.0,9,  -999.0,-999.000,9,-999.000,-999.000,9,-999.0000,   1.7500,-999.0000,-999.000
  316N145_8,        I03,     513,          1,          9,          9,2,19950518,       1456,   -20.0000,    71.2497,       4055,  2522.4,   1.7549,  34.7261,2,  34.7247,2,    183.6,2,   183.1,2,  110.42,2,   32.22,2,    0.00,2,    2.26,2,-999.000,9,-999.000,9,-999.000,9,  -999.0,9,  -999.0,9,-999.0000,9,-999.0000,9, -999.00,9, -999.00,9,  -999.0,9,  -999.0,-999.000,9,-999.000,-999.000,9,-999.0000,   1.5768,-999.0000,-999.000
  316N145_8,        I03,     513,          1,          8,          8,2,19950518,       1456,   -20.0000,    71.2497,       4055,  2727.3,   1.6140,  34.7266,2,  34.7263,2,    184.5,2,   185.5,2,  113.84,2,   32.27,2,    0.00,2,    2.26,2,-999.000,9,-999.000,9,-999.000,9,  -999.0,9,  -999.0,9,-999.0000,9,-999.0000,9, -999.00,9, -999.00,9,  -999.0,9,  -999.0,-999.000,9,-999.000,-999.000,9,-999.0000,   1.4201,-999.0000,-999.000
  316N145_8,        I03,     513,          1,          7,          7,2,19950518,       1456,   -20.0000,    71.2497,       4055,  2930.3,   1.5351,  34.7261,2,  34.7261,2,    186.5,2,   187.6,2,  116.83,2,   32.26,2,    0.00,2,    2.25,2,-999.000,9,-999.000,9,-999.000,9,  -999.0,9,  -999.0,9,-999.0000,9,-999.0000,9, -999.00,9, -999.00,9,  -999.0,9,  -999.0,-999.000,9,-999.000,-999.000,9,-999.0000,   1.3239,-999.0000,-999.000
  316N145_8,        I03,     513,          1,          6,          6,2,19950518,       1456,   -20.0000,    71.2497,       4055,  3135.2,   1.4784,  34.7246,2,  34.7243,2,    186.3,2,   186.9,2,  120.06,2,   32.40,2,    0.00,2,    2.27,2,-999.000,9,-999.000,9,-999.000,9,  -999.0,9,  -999.0,9,-999.0000,9,-999.0000,9, -999.00,9, -999.00,9,  -999.0,9,  -999.0,-999.000,9,-999.000,-999.000,9,-999.0000,   1.2489,-999.0000,-999.000
  316N145_8,        I03,     513,          1,          5,          5,2,19950518,       1456,   -20.0000,    71.2497,       4055,  3340.2,   1.4594,  34.7241,2,  34.7235,2,    187.3,2,   187.4,2,  121.96,2,   32.54,2,    0.00,2,    2.28,2,-999.000,9,-999.000,9,-999.000,9,  -999.0,9,  -999.0,9,-999.0000,9,-999.0000,9, -999.00,9, -999.00,9,  -999.0,9,  -999.0,-999.000,9,-999.000,-999.000,9,-999.0000,   1.2102,-999.0000,-999.000
  316N145_8,        I03,     513,          1,          4,          4,2,19950518,       1456,   -20.0000,    71.2497,       4055,  3542.5,   1.4383,  34.7229,2,  34.7222,2,    186.0,2,   185.6,2,  124.30,2,   32.63,2,    0.00,2,    2.29,2,-999.000,9,-999.000,9,-999.000,9,  -999.0,9,  -999.0,9,-999.0000,9,-999.0000,9, -999.00,9, -999.00,9,  -999.0,9,  -999.0,-999.000,9,-999.000,-999.000,9,-999.0000,   1.1692,-999.0000,-999.000
  316N145_8,        I03,     513,          1,          3,          3,2,19950518,       1456,   -20.0000,    71.2497,       4055,  3746.6,   1.4304,  34.7222,2,  34.7225,2,    184.1,2,   184.9,2,  126.21,2,   32.87,2,    0.00,2,    2.30,2,-999.000,9,-999.000,9,-999.000,9,  -999.0,9,  -999.0,9,-999.0000,9,-999.0000,9, -999.00,9, -999.00,9,  -999.0,9,  -999.0,-999.000,9,-999.000,-999.000,9,-999.0000,   1.1403,-999.0000,-999.000
  316N145_8,        I03,     513,          1,          2,          2,2,19950518,       1456,   -20.0000,    71.2497,       4055,  3949.3,   1.4417,  34.7218,2,  34.7212,2,    184.7,2,   184.7,2,  127.23,2,   32.77,2,    0.00,2,    2.30,2,-999.000,9,-999.000,9,-999.000,9,  -999.0,9,  -999.0,9,-999.0000,9,-999.0000,9, -999.00,9, -999.00,9,  -999.0,9,  -999.0,-999.000,9,-999.000,-999.000,9,-999.0000,   1.1297,-999.0000,-999.000
  316N145_8,        I03,     513,          1,          1,          1,2,19950518,       1456,   -20.0000,    71.2497,       4055,  4125.4,   1.4567,  34.7212,2,  34.7212,2,    184.5,2,   184.2,2,  127.36,2,   32.95,2,    0.00,2,    2.29,2,-999.000,9,-999.000,9,-999.000,9,  -999.0,9,  -999.0,9,-999.0000,9,-999.0000,9, -999.00,9, -999.00,9,  -999.0,9,  -999.0,-999.000,9,-999.000,-999.000,9,-999.0000,   1.1251,-999.0000,-999.000