BOTTLE,20140514CCHSIOSE
EXPOCODE,SECT_ID,STNNBR,CASTNO,SAMPNO,BTLNBR,BTLNBR_FLAG_W,DATE,TIME,LATITUDE,LONGITUDE,DEPTH,CTDPRS,CTDTMP,CTDSAL,CTDSAL_FLAG_W,SALNTY,SALNTY_FLAG_W,CTDOXY,CTDOXY_FLAG_W,OXYGEN,OXYGEN_FLAG_W,SILCAT,SILCAT_FLAG_W,NITRAT,NITRAT_FLAG_W,NITRIT,NITRIT_FLAG_W,PHSPHT,PHSPHT_FLAG_W,CFC-11,CFC-11_FLAG_W,CFC-12,CFC-12_FLAG_W,CFC113,CFC113_FLAG_W,TCARBN,TCARBN_FLAG_W,ALKALI,ALKALI_FLAG_W,TRITUM,TRITUM_FLAG_W,HELIUM,HELIUM_FLAG_W,DELHE3,DELHE3_FLAG_W,DELC13,DELC13_FLAG_W,DELC14,DELC14_FLAG_W,C14ERR,NEON,NEON_FLAG_W,NEONER,CCL4,CCL4_FLAG_W,HELIER,THETA,TRITER,DELHER
,,,,,,,,,,,METERS,DBAR,ITS-90,PSS-78,,PSS-78,,UMOL/KG,,UMOL/KG,,UMOL/KG,,UMOL/KG,,UMOL/KG,,UMOL/KG,,PMOL/KG,,PMOL/KG,,PMOL/KG,,UMOL/KG,,UMOL/KG,,TU,,NMOL/KG,,PERCNT,,/MILLE,,/MILLE,,/MILLE,NMOL/KG,,NMOL/KG,PMOL/KG,,NMOL/KG,DEG C,TU,PERCNT
  316N145_8,        I03,     489,          1,         36,         36,2,19950509,       0111,   -20.0000,    86.4835,       4339,     6.6,  25.6668,  35.1344,2,  35.1340,2,    203.9,3,   204.5,2,    3.09,2,    0.10,2,    0.00,2,    0.12,2,   1.857,2,   1.057,2,-999.000,9,  1960.9,2,  2301.0,2,-999.0000,9,-999.0000,9, -999.00,9, -999.00,9,  -999.0,9,  -999.0,-999.000,9,-999.000,-999.000,9,-999.0000,  25.6654,-999.0000,-999.000
  316N145_8,        I03,     489,          1,         35,         35,2,19950509,       0111,   -20.0000,    86.4835,       4339,    56.1,  25.6808,  35.1347,2,  35.1339,2,    202.2,2,   206.2,2,    3.07,2,    0.10,2,    0.00,2,    0.11,2,-999.000,9,-999.000,9,-999.000,9,  1960.1,6,  2301.0,6,-999.0000,9,-999.0000,9, -999.00,9, -999.00,9,  -999.0,9,  -999.0,-999.000,9,-999.000,-999.000,9,-999.0000,  25.6684,-999.0000,-999.000
  316N145_8,        I03,     489,          1,         34,         34,2,19950509,       0111,   -20.0000,    86.4835,       4339,   105.8,  22.0336,  35.4884,2,  35.5012,2,    215.6,2,   219.8,2,    3.48,2,    0.10,2,    0.00,2,    0.13,2,   2.185,2,   1.211,2,-999.000,9,  2000.9,2,  2325.0,2,-999.0000,9,-999.0000,9, -999.00,9, -999.00,9,  -999.0,9,  -999.0,-999.000,9,-999.000,-999.000,9,-999.0000,  22.0126,-999.0000,-999.000
  316N145_8,        I03,     489,          1,         33,         33,2,19950509,       0111,   -20.0000,    86.4835,       4339,   155.6,  20.3323,  35.5715,2,  35.5729,2,    193.7,2,   191.6,2,    5.38,2,    2.64,2,    0.12,2,    0.33,2,   2.156,2,   1.192,2,-999.000,9,  2040.5,2,  2331.0,2,-999.0000,9,-999.0000,9, -999.00,9, -999.00,9,  -999.0,9,  -999.0,-999.000,9,-999.000,-999.000,9,-999.0000,  20.3031,-999.0000,-999.000
  316N145_8,        I03,     489,          1,         32,         32,2,19950509,       0111,   -20.0000,    86.4835,       4339,   205.4,  18.6587,  35.7513,2,  35.7515,2,    190.4,2,   192.0,2,    4.52,2,    2.84,2,    0.01,2,    0.35,2,   2.323,2,   1.260,2,-999.000,9,  2066.1,2,  2343.0,2,-999.0000,9,-999.0000,9, -999.00,9, -999.00,9,  -999.0,9,  -999.0,-999.000,9,-999.000,-999.000,9,-999.0000,  18.6224,-999.0000,-999.000
  316N145_8,        I03,     489,          1,         31,         31,2,19950509,       0111,   -20.0000,    86.4835,       4339,   256.6,  17.1704,  35.7466,2,  35.7379,2,    206.1,2,   205.1,2,    4.08,2,    2.90,2,    0.01,2,    0.38,2,   2.493,2,   1.326,2,-999.000,9,  2078.8,2,  2345.0,2,-999.0000,9,-999.0000,9, -999.00,9, -999.00,9,  -999.0,9,  -999.0,-999.000,9,-999.000,-999.000,9,-999.0000,  17.1275,-999.0000,-999.000
  316N145_8,        I03,     489,          1,         30,         30,2,19950509,       0111,   -20.0000,    86.4835,       4339,   306.4,  14.9428,  35.4762,2,  35.4778,2,    190.6,2,   198.8,2,    6.62,2,    6.83,2,    0.01,2,    0.61,2,   2.470,2,   1.287,2,-999.000,9,  2097.9,2,  2334.0,2,-999.0000,9,-999.0000,9, -999.00,9, -999.00,9,  -999.0,9,  -999.0,-999.000,9,-999.000,-999.000,9,-999.0000,  14.8962,-999.0000,-999.000
  316N145_8,        I03,     489,          1,         29,         29,2,19950509,       0111,   -20.0000,    86.4835,       4339,   356.9,  13.7963,  35.3647,2,  35.3506,2,    216.2,2,   217.8,2,    4.48,2,    7.04,2,    0.00,2,    0.62,2,   2.779,2,   1.435,2,-999.000,9,  2095.5,2,  2326.0,2,-999.0000,9,-999.0000,9, -999.00,9, -999.00,9,  -999.0,9,  -999.0,-999.000,9,-999.000,-999.000,9,-999.0000,  13.7448,-999.0000,-999.000
  316N145_8,        I03,     489,          1,         28,         28,2,19950509,       0111,   -20.0000,    86.4835,       4339,   406.6,  12.2766,  35.1444,2,  35.1258,2,    223.5,2,   225.7,2,    4.47,2,    9.60,2,    0.00,2,    0.77,2,   2.862,2,   1.465,2,-999.000,9,  2100.6,2,  2315.0,2,-999.0000,9,-999.0000,9, -999.00,9, -999.00,9,  -999.0,9,  -999.0,-999.000,9,-999.000,-999.000,9,-999.0000,  12.2222,-999.0000,-999.000
  316N145_8,        I03,     489,          1,         27,         27,2,19950509,       0111,   -20.0000,    86.4835,       4339,   457.9,  11.1591,  34.9722,2,  34.8354,4,    230.0,2,   230.2,2,    4.89,2,   11.83,2,    0.00,2,    0.90,2,   2.840,2,   1.436,2,-999.000,9,  2105.0,2,  2307.0,2,-999.0000,9,-999.0000,9, -999.00,9, -999.00,9,  -999.0,9,  -999.0,-999.000,9,-999.000,-999.000,9,-999.0000,  11.1015,-999.0000,-999.000
  316N145_8,        I03,     489,          1,         26,         26,2,19950509,       0111,   -20.0000,    86.4835,       4339,   506.9,  10.1922,  34.8269,2,  34.8354,2,    231.5,2,   229.1,2,    5.72,2,   14.05,2,    0.00,2,    1.04,2,   2.697,2,   1.350,2,-999.000,9,  2110.6,2,  2301.0,2,-999.0000,9,-999.0000,9, -999.00,9, -999.00,9,  -999.0,9,  -999.0,-999.000,9,-999.000,-999.000,9,-999.0000,  10.1318,-999.0000,-999.000
  316N145_8,        I03,     489,          1,         25,         25,2,19950509,       0111,   -20.0000,    86.4835,       4339,   607.2,   8.8473,  34.6468,2,  34.6482,2,    221.5,2,   214.8,2,   10.18,2,   19.29,2,    0.00,2,    1.36,2,   1.880,2,   0.928,2,-999.000,9,  2129.8,2,  2295.0,2,-999.0000,9,-999.0000,9, -999.00,9, -999.00,9,  -999.0,9,  -999.0,-999.000,9,-999.000,-999.000,9,-999.0000,   8.7808,-999.0000,-999.000
  316N145_8,        I03,     489,          1,         24,         24,2,19950509,       0111,   -20.0000,    86.4835,       4339,   708.3,   7.2878,  34.5315,2,  34.5275,2,    189.1,2,   190.3,2,   21.65,2,   25.29,2,    0.00,2,    1.74,2,   0.788,2,   0.405,2,-999.000,9,  2162.7,2,  2299.0,2,-999.0000,9,-999.0000,9, -999.00,9, -999.00,9,  -999.0,9,  -999.0,-999.000,9,-999.000,-999.000,9,-999.0000,   7.2180,-999.0000,-999.000
  316N145_8,        I03,     489,          1,         23,         23,2,19950509,       0111,   -20.0000,    86.4835,       4339,   808.4,   5.9548,  34.5296,2,  34.5287,2,    152.7,2,   146.5,2,   48.23,2,   31.48,2,    0.00,2,    2.22,2,   0.139,2,   0.077,2,-999.000,9,  2216.7,2,  2322.0,2,-999.0000,9,-999.0000,9, -999.00,9, -999.00,9,  -999.0,9,  -999.0,-999.000,9,-999.000,-999.000,9,-999.0000,   5.8827,-999.0000,-999.000
  316N145_8,        I03,     489,          1,         22,         22,2,19950509,       0111,   -20.0000,    86.4835,       4339,   909.2,   5.4502,  34.5896,2,  34.5895,2,    120.7,2,   118.1,2,   67.83,2,   34.30,2,    0.00,2,    2.46,2,   0.024,2,   0.020,2,-999.000,9,  2252.6,2,  2341.0,2,-999.0000,9,-999.0000,9, -999.00,9, -999.00,9,  -999.0,9,  -999.0,-999.000,9,-999.000,-999.000,9,-999.0000,   5.3718,-999.0000,-999.000
  316N145_8,        I03,     489,          1,         21,         21,2,19950509,       0111,   -20.0000,    86.4835,       4339,  1010.9,   4.9477,  34.6216,2,  34.6227,2,    112.1,2,   111.6,2,   79.59,2,   35.27,2,    0.00,2,    2.55,2,   0.005,2,   0.005,2,-999.000,9,  2268.8,2,  2356.0,2,-999.0000,9,-999.0000,9, -999.00,9, -999.00,9,  -999.0,9,  -999.0,-999.000,9,-999.000,-999.000,9,-999.0000,   4.8636,-999.0000,-999.000
  316N145_8,        I03,     489,          1,         20,         20,2,19950509,       0111,   -20.0000,    86.4835,       4339,  1110.1,   4.4956,  34.6266,2,  34.6274,2,    113.1,2,   115.8,2,   84.08,2,   35.38,2,    0.00,2,    2.55,2,   0.004,2,   0.006,2,-999.000,9,  2272.5,2,  2358.0,2,-999.0000,9,-999.0000,9, -999.00,9, -999.00,9,  -999.0,9,  -999.0,-999.000,9,-999.000,-999.000,9,-999.0000,   4.4063,-999.0000,-999.000
  316N145_8,        I03,     489,          1,         19,         19,2,19950509,       0111,   -20.0000,    86.4835,       4339,  1210.4,   4.2850,  34.6528,2,  34.6529,2,    115.9,2,   116.2,2,   88.80,2,   35.50,2,    0.00,2,    2.56,2,   0.002,2,   0.003,2,-999.000,9,  2278.5,2,  2363.0,2,-999.0000,9,-999.0000,9, -999.00,9, -999.00,9,  -999.0,9,  -999.0,-999.000,9,-999.000,-999.000,9,-999.0000,   4.1886,-999.0000,-999.000
  316N145_8,        I03,     489,          1,         18,         18,2,19950509,       0111,   -20.0000,    86.4835,       4339,  1311.8,   4.0389,  34.6714,2,  34.6735,2,    119.2,2,   118.6,2,   92.89,2,   35.41,2,    0.00,2,    2.56,2,-999.000,9,-999.000,9,-999.000,9,  2282.8,2,  2370.0,2,-999.0000,9,-999.0000,9, -999.00,9, -999.00,9,  -999.0,9,  -999.0,-999.000,9,-999.000,-999.000,9,-999.0000,   3.9359,-999.0000,-999.000
  316N145_8,        I03,     489,          1,         17,         17,2,19950509,       0111,   -20.0000,    86.4835,       4339,  1413.6,   3.6744,  34.6781,2,  34.6770,2,    124.8,2,   124.4,2,   95.90,2,   35.37,2,    0.00,2,    2.54,2,-999.000,9,-999.000,9,-999.000,9,  2283.8,2,  2373.0,2,-999.0000,9,-999.0000,9, -999.00,9, -999.00,9,  -999.0,9,  -999.0,-999.000,9,-999.000,-999.000,9,-999.0000,   3.5662,-999.0000,-999.000
  316N145_8,        I03,     489,          1,         16,         16,2,19950509,       0111,   -20.0000,    86.4835,       4339,  1513.1,   3.4313,  34.6939,2,  34.6939,2,    128.2,2,   129.3,2,   99.14,2,   35.13,2,    0.00,2,    2.51,2,-999.000,9,-999.000,9,-999.000,9,  2284.8,2,  2374.0,2,-999.0000,9,-999.0000,9, -999.00,9, -999.00,9,  -999.0,9,  -999.0,-999.000,9,-999.000,-999.000,9,-999.0000,   3.3171,-999.0000,-999.000
  316N145_8,        I03,     489,          1,         15,         15,2,19950509,       0111,   -20.0000,    86.4835,       4339,  1615.1,   3.2454,  34.7085,2,  34.7082,2,    131.6,2,   131.5,2,  102.82,2,   34.98,2,    0.00,2,    2.52,2,-999.000,9,-999.000,9,-999.000,9,  2290.3,2,  2379.0,2,-999.0000,9,-999.0000,9, -999.00,9, -999.00,9,  -999.0,9,  -999.0,-999.000,9,-999.000,-999.000,9,-999.0000,   3.1245,-999.0000,-999.000
  316N145_8,        I03,     489,          1,         14,         14,2,19950509,       0111,   -20.0000,    86.4835,       4339,  1815.4,   2.8738,  34.7217,2,  34.7204,2,    139.0,2,   139.7,2,  108.04,2,   34.69,2,    0.00,2,    2.48,2,  -0.001,2,   0.001,2,-999.000,9,  2291.3,2,  2386.0,2,-999.0000,9,-999.0000,9, -999.00,9, -999.00,9,  -999.0,9,  -999.0,-999.000,9,-999.000,-999.000,9,-999.0000,   2.7403,-999.0000,-999.000
  316N145_8,        I03,     489,          1,         13,         13,2,19950509,       0111,   -20.0000,    86.4835,       4339,  2019.2,   2.5362,  34.7241,2,  34.7233,2,    149.7,2,   149.7,2,  110.43,2,   34.15,2,    0.00,2,    2.45,2,-999.000,9,-999.000,9,-999.000,9,  2289.0,2,  2385.0,2,-999.0000,9,-999.0000,9, -999.00,9, -999.00,9,  -999.0,9,  -999.0,-999.000,9,-999.000,-999.000,9,-999.0000,   2.3896,-999.0000,-999.000
  316N145_8,        I03,     489,          1,         12,         12,2,19950509,       0111,   -20.0000,    86.4835,       4339,  2221.7,   2.2142,  34.7250,2,  34.7253,2,    160.0,2,   161.3,2,  111.74,2,   33.50,2,    0.00,2,    2.38,2,-999.000,9,-999.000,9,-999.000,9,  2284.1,2,  2389.0,2,-999.0000,9,-999.0000,9, -999.00,9, -999.00,9,  -999.0,9,  -999.0,-999.000,9,-999.000,-999.000,9,-999.0000,   2.0549,-999.0000,-999.000
  316N145_8,        I03,     489,          1,         11,         11,2,19950509,       0111,   -20.0000,    86.4835,       4339,  2424.4,   2.0009,  34.7259,2,  34.7257,2,    169.1,2,   169.6,2,  112.61,2,   33.06,2,    0.00,2,    2.34,2,-999.000,9,-999.000,9,-999.000,9,  2281.0,2,  2386.0,2,-999.0000,9,-999.0000,9, -999.00,9, -999.00,9,  -999.0,9,  -999.0,-999.000,9,-999.000,-999.000,9,-999.0000,   1.8272,-999.0000,-999.000
  316N145_8,        I03,     489,          1,         10,         10,2,19950509,       0111,   -20.0000,    86.4835,       4339,  2626.7,   1.8500,  34.7266,2,  34.7263,2,    173.8,2,   174.3,2,  114.79,2,   32.92,2,    0.00,2,    2.33,2,   0.002,2,   0.004,2,-999.000,9,  2281.7,2,  2390.0,2,-999.0000,9,-999.0000,9, -999.00,9, -999.00,9,  -999.0,9,  -999.0,-999.000,9,-999.000,-999.000,9,-999.0000,   1.6607,-999.0000,-999.000
  316N145_8,        I03,     489,          1,          9,          9,2,19950509,       0111,   -20.0000,    86.4835,       4339,  2830.9,   1.7316,  34.7269,2,  34.7264,2,    175.5,2,   175.8,2,  118.09,2,   32.98,2,    0.00,2,    2.32,2,-999.000,9,-999.000,9,-999.000,9,  2283.6,2,  2392.0,2,-999.0000,9,-999.0000,9, -999.00,9, -999.00,9,  -999.0,9,  -999.0,-999.000,9,-999.000,-999.000,9,-999.0000,   1.5256,-999.0000,-999.000
  316N145_8,        I03,     489,          1,          8,          8,2,19950509,       0111,   -20.0000,    86.4835,       4339,  3035.5,   1.6243,  34.7256,2,  34.7259,2,    176.7,2,   176.8,2,  122.07,2,   33.04,2,    0.00,2,    2.31,2,-999.000,9,-999.000,9,-999.000,9,  2287.4,2,  2399.0,2,-999.0000,9,-999.0000,9, -999.00,9, -999.00,9,  -999.0,9,  -999.0,-999.000,9,-999.000,-999.000,9,-999.0000,   1.4011,-999.0000,-999.000
  316N145_8,        I03,     489,          1,          7,          7,2,19950509,       0111,   -20.0000,    86.4835,       4339,  3238.3,   1.5346,  34.7241,2,  34.7241,2,    176.6,2,   176.3,2,  126.29,2,   33.36,2,    0.00,2,    2.34,2,-999.000,9,-999.000,9,-999.000,9,  2292.2,6,  2403.5,6,-999.0000,9,-999.0000,9, -999.00,9, -999.00,9,  -999.0,9,  -999.0,-999.000,9,-999.000,-999.000,9,-999.0000,   1.2936,-999.0000,-999.000
  316N145_8,        I03,     489,          1,          6,          6,2,19950509,       0111,   -20.0000,    86.4835,       4339,  3442.0,   1.4605,  34.7224,2,  34.7225,2,    179.7,2,   179.6,2,  127.17,2,   33.37,2,    0.00,2,    2.32,2,-999.000,9,-999.000,9,-999.000,9,  2291.5,2,  2402.0,2,-999.0000,9,-999.0000,9, -999.00,9, -999.00,9,  -999.0,9,  -999.0,-999.000,9,-999.000,-999.000,9,-999.0000,   1.2010,-999.0000,-999.000
  316N145_8,        I03,     489,          1,          5,          5,2,19950509,       0111,   -20.0000,    86.4835,       4339,  3645.9,   1.4122,  34.7218,2,  34.7211,2,    182.7,2,   183.1,2,  126.94,2,   33.13,2,    0.00,2,    2.30,2,-999.000,9,-999.000,9,-999.000,9,  2289.8,2,  2402.0,2,-999.0000,9,-999.0000,9, -999.00,9, -999.00,9,  -999.0,9,  -999.0,-999.000,9,-999.000,-999.000,9,-999.0000,   1.1331,-999.0000,-999.000
  316N145_8,        I03,     489,          1,          4,          4,2,19950509,       0111,   -20.0000,    86.4835,       4339,  3849.6,   1.3697,  34.7199,2,  34.7194,2,    184.3,2,   184.5,2,  128.27,2,   33.09,2,    0.00,2,    2.30,2,  -0.002,2,   0.002,2,-999.000,9,  2290.2,2,  2409.0,2,-999.0000,9,-999.0000,9, -999.00,9, -999.00,9,  -999.0,9,  -999.0,-999.000,9,-999.000,-999.000,9,-999.0000,   1.0703,-999.0000,-999.000
  316N145_8,        I03,     489,          1,          3,          3,2,19950509,       0111,   -20.0000,    86.4835,       4339,  4054.0,   1.3544,  34.7188,2,  34.7188,2,    183.9,2,   184.0,2,  130.28,2,   33.05,2,    0.00,2,    2.31,2,-999.000,9,-999.000,9,-999.000,9,  2292.0,2,  2407.0,2,-999.0000,9,-999.0000,9, -999.00,9, -999.00,9,  -999.0,9,  -999.0,-999.000,9,-999.000,-999.000,9,-999.0000,   1.0335,-999.0000,-999.000
  316N145_8,        I03,     489,          1,          2,          2,2,19950509,       0111,   -20.0000,    86.4835,       4339,  4258.2,   1.3493,  34.7173,2,  34.7178,2,    183.6,2,   184.0,2,  131.40,2,   33.26,2,    0.00,2,    2.32,2,-999.000,9,-999.000,9,-999.000,9,  2293.5,2,  2410.0,2,-999.0000,9,-999.0000,9, -999.00,9, -999.00,9,  -999.0,9,  -999.0,-999.000,9,-999.000,-999.000,9,-999.0000,   1.0061,-999.0000,-999.000
  316N145_8,        I03,     489,          1,          1,          1,2,19950509,       0111,   -20.0000,    86.4835,       4339,  4413.4,   1.3537,  34.7174,2,  34.7164,2,    184.4,2,   184.1,2,  131.39,2,   33.27,2,    0.00,2,    2.34,2,   0.000,2,   0.003,2,-999.000,9,  2293.7,2,  2411.0,2,-999.0000,9,-999.0000,9, -999.00,9, -999.00,9,  -999.0,9,  -999.0,-999.000,9,-999.000,-999.000,9,-999.0000,   0.9929,-999.0000,-999.000