BOTTLE,20140514CCHSIOSE
EXPOCODE,SECT_ID,STNNBR,CASTNO,SAMPNO,BTLNBR,BTLNBR_FLAG_W,DATE,TIME,LATITUDE,LONGITUDE,DEPTH,CTDPRS,CTDTMP,CTDSAL,CTDSAL_FLAG_W,SALNTY,SALNTY_FLAG_W,CTDOXY,CTDOXY_FLAG_W,OXYGEN,OXYGEN_FLAG_W,SILCAT,SILCAT_FLAG_W,NITRAT,NITRAT_FLAG_W,NITRIT,NITRIT_FLAG_W,PHSPHT,PHSPHT_FLAG_W,CFC-11,CFC-11_FLAG_W,CFC-12,CFC-12_FLAG_W,CFC113,CFC113_FLAG_W,TCARBN,TCARBN_FLAG_W,ALKALI,ALKALI_FLAG_W,TRITUM,TRITUM_FLAG_W,HELIUM,HELIUM_FLAG_W,DELHE3,DELHE3_FLAG_W,DELC13,DELC13_FLAG_W,DELC14,DELC14_FLAG_W,C14ERR,NEON,NEON_FLAG_W,NEONER,CCL4,CCL4_FLAG_W,HELIER,THETA,TRITER,DELHER
,,,,,,,,,,,METERS,DBAR,ITS-90,PSS-78,,PSS-78,,UMOL/KG,,UMOL/KG,,UMOL/KG,,UMOL/KG,,UMOL/KG,,UMOL/KG,,PMOL/KG,,PMOL/KG,,PMOL/KG,,UMOL/KG,,UMOL/KG,,TU,,NMOL/KG,,PERCNT,,/MILLE,,/MILLE,,/MILLE,NMOL/KG,,NMOL/KG,PMOL/KG,,NMOL/KG,DEG C,TU,PERCNT
  316N145_8,        I03,     532,          1,         32,         32,2,19950522,       2113,   -20.3663,    61.0330,       3668,     7.1,  24.9315,  35.3248,2,  35.3233,2,    207.9,2,   208.5,2,    2.84,2,    0.00,2,    0.00,2,    0.11,2,-999.000,9,-999.000,9,-999.000,9,  1968.3,6,  2314.6,6,-999.0000,9,-999.0000,9, -999.00,9, -999.00,9,  -999.0,9,  -999.0,-999.000,9,-999.000,-999.000,9,-999.0000,  24.9300,-999.0000,-999.000
  316N145_8,        I03,     532,          1,         31,         31,2,19950522,       2113,   -20.3663,    61.0330,       3668,    55.8,  24.9471,  35.3260,2,  35.3243,2,    215.2,2,   208.4,2,    2.83,2,    0.00,2,    0.00,2,    0.11,2,-999.000,9,-999.000,9,-999.000,9,  -999.0,9,  -999.0,9,-999.0000,9,-999.0000,9, -999.00,9, -999.00,9,  -999.0,9,  -999.0,-999.000,9,-999.000,-999.000,9,-999.0000,  24.9350,-999.0000,-999.000
  316N145_8,        I03,     532,          1,         30,         30,2,19950522,       2113,   -20.3663,    61.0330,       3668,   105.5,  22.5021,  35.4911,2,  35.4961,2,    223.2,2,   221.1,2,    2.82,2,    0.00,2,    0.00,2,    0.12,2,-999.000,9,-999.000,9,-999.000,9,  -999.0,9,  -999.0,9,-999.0000,9,-999.0000,9, -999.00,9, -999.00,9,  -999.0,9,  -999.0,-999.000,9,-999.000,-999.000,9,-999.0000,  22.4808,-999.0000,-999.000
  316N145_8,        I03,     532,          1,         29,         29,2,19950522,       2113,   -20.3663,    61.0330,       3668,   155.6,  20.6763,  35.6100,2,  35.6084,2,    205.6,2,   207.0,2,    3.02,2,    0.31,2,    0.18,2,    0.18,2,-999.000,9,-999.000,9,-999.000,9,  -999.0,9,  -999.0,9,-999.0000,9,-999.0000,9, -999.00,9, -999.00,9,  -999.0,9,  -999.0,-999.000,9,-999.000,-999.000,9,-999.0000,  20.6468,-999.0000,-999.000
  316N145_8,        I03,     532,          1,         28,         28,2,19950522,       2113,   -20.3663,    61.0330,       3668,   205.7,  18.3630,  35.6965,2,  35.6953,2,    201.1,2,   202.9,2,    3.22,2,    2.36,2,    0.01,2,    0.32,2,-999.000,9,-999.000,9,-999.000,9,  -999.0,9,  -999.0,9,-999.0000,9,-999.0000,9, -999.00,9, -999.00,9,  -999.0,9,  -999.0,-999.000,9,-999.000,-999.000,9,-999.0000,  18.3270,-999.0000,-999.000
  316N145_8,        I03,     532,          1,         27,         27,2,19950522,       2113,   -20.3663,    61.0330,       3668,   255.3,  16.2591,  35.6204,2,  35.6186,2,    208.9,2,   207.4,2,    3.41,2,    3.71,2,    0.00,2,    0.43,2,-999.000,9,-999.000,9,-999.000,9,  -999.0,9,  -999.0,9,-999.0000,9,-999.0000,9, -999.00,9, -999.00,9,  -999.0,9,  -999.0,-999.000,9,-999.000,-999.000,9,-999.0000,  16.2180,-999.0000,-999.000
  316N145_8,        I03,     532,          1,         26,         26,2,19950522,       2113,   -20.3663,    61.0330,       3668,   304.9,  14.9414,  35.4867,2,  35.4841,2,    213.9,2,   215.3,2,    3.40,2,    5.00,2,    0.00,2,    0.51,2,-999.000,9,-999.000,9,-999.000,9,  -999.0,9,  -999.0,9,-999.0000,9,-999.0000,9, -999.00,9, -999.00,9,  -999.0,9,  -999.0,-999.000,9,-999.000,-999.000,9,-999.0000,  14.8951,-999.0000,-999.000
  316N145_8,        I03,     532,          1,         25,         25,2,19950522,       2113,   -20.3663,    61.0330,       3668,   357.2,  13.6308,  35.3220,2,  35.3121,2,    221.9,2,   222.0,2,    3.60,2,    7.27,2,    0.00,2,    0.64,2,-999.000,9,-999.000,9,-999.000,9,  -999.0,9,  -999.0,9,-999.0000,9,-999.0000,9, -999.00,9, -999.00,9,  -999.0,9,  -999.0,-999.000,9,-999.000,-999.000,9,-999.0000,  13.5797,-999.0000,-999.000
  316N145_8,        I03,     532,          1,         24,         24,2,19950522,       2113,   -20.3663,    61.0330,       3668,   406.6,  12.6888,  35.1893,2,  35.1785,2,    224.5,2,   226.7,2,    3.80,2,    8.95,2,    0.00,2,    0.73,2,-999.000,9,-999.000,9,-999.000,9,  -999.0,9,  -999.0,9,-999.0000,9,-999.0000,9, -999.00,9, -999.00,9,  -999.0,9,  -999.0,-999.000,9,-999.000,-999.000,9,-999.0000,  12.6332,-999.0000,-999.000
  316N145_8,        I03,     532,          1,         23,         23,2,19950522,       2113,   -20.3663,    61.0330,       3668,   457.2,  11.8438,  35.0642,2,  35.0609,2,    227.0,2,   230.0,2,    4.00,2,   10.44,2,    0.00,2,    0.81,2,-999.000,9,-999.000,9,-999.000,9,  -999.0,9,  -999.0,9,-999.0000,9,-999.0000,9, -999.00,9, -999.00,9,  -999.0,9,  -999.0,-999.000,9,-999.000,-999.000,9,-999.0000,  11.7839,-999.0000,-999.000
  316N145_8,        I03,     532,          1,         22,         22,2,19950522,       2113,   -20.3663,    61.0330,       3668,   507.0,  11.0008,  34.9357,2,  34.9356,2,    230.5,2,   231.9,2,    4.40,2,   12.18,2,    0.00,2,    0.92,2,-999.000,9,-999.000,9,-999.000,9,  -999.0,9,  -999.0,9,-999.0000,9,-999.0000,9, -999.00,9, -999.00,9,  -999.0,9,  -999.0,-999.000,9,-999.000,-999.000,9,-999.0000,  10.9374,-999.0000,-999.000
  316N145_8,        I03,     532,          1,         21,         21,2,19950522,       2113,   -20.3663,    61.0330,       3668,   606.6,   9.9406,  34.7817,2,  34.7824,2,    230.3,2,   228.4,2,    5.64,2,   15.07,2,    0.00,2,    1.09,2,-999.000,9,-999.000,9,-999.000,9,  -999.0,9,  -999.0,9,-999.0000,9,-999.0000,9, -999.00,9, -999.00,9,  -999.0,9,  -999.0,-999.000,9,-999.000,-999.000,9,-999.0000,   9.8692,-999.0000,-999.000
  316N145_8,        I03,     532,          1,         20,         20,2,19950522,       2113,   -20.3663,    61.0330,       3668,   707.8,   8.6607,  34.6354,2,  34.6354,2,    218.1,2,   214.6,2,    9.99,2,   19.55,2,    0.00,2,    1.37,2,   1.535,2,   0.766,2,-999.000,9,  -999.0,9,  -999.0,9,-999.0000,9,-999.0000,9, -999.00,9, -999.00,9,  -999.0,9,  -999.0,-999.000,9,-999.000,-999.000,9,-999.0000,   8.5836,-999.0000,-999.000
  316N145_8,        I03,     532,          1,         19,         19,2,19950522,       2113,   -20.3663,    61.0330,       3668,   808.8,   6.8027,  34.5247,2,  34.5244,2,    194.0,2,   181.8,2,   27.41,2,   26.72,2,    0.00,2,    1.86,2,   0.499,2,   0.260,2,-999.000,9,  -999.0,9,  -999.0,9,-999.0000,9,-999.0000,9, -999.00,9, -999.00,9,  -999.0,9,  -999.0,-999.000,9,-999.000,-999.000,9,-999.0000,   6.7253,-999.0000,-999.000
  316N145_8,        I03,     532,          1,         18,         18,2,19950522,       2113,   -20.3663,    61.0330,       3668,   908.9,   5.7620,  34.5366,2,  34.5366,2,    155.6,2,   153.5,2,   48.36,2,   30.91,2,    0.00,2,    2.18,2,   0.198,2,   0.102,2,-999.000,9,  -999.0,9,  -999.0,9,-999.0000,9,-999.0000,9, -999.00,9, -999.00,9,  -999.0,9,  -999.0,-999.000,9,-999.000,-999.000,9,-999.0000,   5.6816,-999.0000,-999.000
  316N145_8,        I03,     532,          1,         17,         17,2,19950522,       2113,   -20.3663,    61.0330,       3668,  1009.4,   4.7525,  34.5612,2,  34.5593,2,    145.4,2,   139.2,2,   66.85,2,   33.51,2,    0.00,2,    2.38,2,   0.053,2,   0.026,2,-999.000,9,  -999.0,9,  -999.0,9,-999.0000,9,-999.0000,9, -999.00,9, -999.00,9,  -999.0,9,  -999.0,-999.000,9,-999.000,-999.000,9,-999.0000,   4.6702,-999.0000,-999.000
  316N145_8,        I03,     532,          1,         16,         16,2,19950522,       2113,   -20.3663,    61.0330,       3668,  1110.0,   4.3830,  34.6289,2,  34.6279,2,    128.1,2,   124.3,2,   81.64,2,   34.65,2,    0.00,2,    2.48,2,   0.008,2,   0.005,2,-999.000,9,  -999.0,9,  -999.0,9,-999.0000,9,-999.0000,9, -999.00,9, -999.00,9,  -999.0,9,  -999.0,-999.000,9,-999.000,-999.000,9,-999.0000,   4.2946,-999.0000,-999.000
  316N145_8,        I03,     532,          1,         15,         15,2,19950522,       2113,   -20.3663,    61.0330,       3668,  1211.4,   4.1478,  34.6438,2,  34.6432,2,    125.4,2,   125.5,2,   85.59,2,   34.76,2,    0.00,2,    2.49,2,   0.008,2,   0.003,2,-999.000,9,  -999.0,9,  -999.0,9,-999.0000,9,-999.0000,9, -999.00,9, -999.00,9,  -999.0,9,  -999.0,-999.000,9,-999.000,-999.000,9,-999.0000,   4.0526,-999.0000,-999.000
  316N145_8,        I03,     532,          1,         14,         14,2,19950522,       2113,   -20.3663,    61.0330,       3668,  1312.6,   3.7835,  34.6611,2,  34.6591,2,    130.2,2,   130.8,2,   89.55,2,   34.62,2,    0.00,2,    2.48,2,   0.002,2,   0.002,2,-999.000,9,  -999.0,9,  -999.0,9,-999.0000,9,-999.0000,9, -999.00,9, -999.00,9,  -999.0,9,  -999.0,-999.000,9,-999.000,-999.000,9,-999.0000,   3.6830,-999.0000,-999.000
  316N145_8,        I03,     532,          1,         13,         13,2,19950522,       2113,   -20.3663,    61.0330,       3668,  1413.2,   3.4898,  34.6712,2,  34.6709,2,    136.0,2,   136.8,2,   92.68,2,   34.38,2,    0.00,2,    2.45,2,   0.002,2,   0.001,2,-999.000,9,  -999.0,9,  -999.0,9,-999.0000,9,-999.0000,9, -999.00,9, -999.00,9,  -999.0,9,  -999.0,-999.000,9,-999.000,-999.000,9,-999.0000,   3.3836,-999.0000,-999.000
  316N145_8,        I03,     532,          1,         12,         12,2,19950522,       2113,   -20.3663,    61.0330,       3668,  1514.0,   3.1573,  34.6795,2,  34.6794,2,    143.6,2,   145.0,2,   94.75,2,   34.04,2,    0.00,2,    2.41,2,-999.000,9,-999.000,9,-999.000,9,  -999.0,9,  -999.0,9,-999.0000,9,-999.0000,9, -999.00,9, -999.00,9,  -999.0,9,  -999.0,-999.000,9,-999.000,-999.000,9,-999.0000,   3.0462,-999.0000,-999.000
  316N145_8,        I03,     532,          1,         11,         11,2,19950522,       2113,   -20.3663,    61.0330,       3668,  1715.4,   2.6886,  34.6956,2,  34.6945,2,    156.8,2,   156.8,2,   98.73,2,   33.41,2,    0.00,2,    2.36,2,-999.000,9,-999.000,9,-999.000,9,  -999.0,9,  -999.0,9,-999.0000,9,-999.0000,9, -999.00,9, -999.00,9,  -999.0,9,  -999.0,-999.000,9,-999.000,-999.000,9,-999.0000,   2.5662,-999.0000,-999.000
  316N145_8,        I03,     532,          1,         10,         10,2,19950522,       2113,   -20.3663,    61.0330,       3668,  1917.2,   2.3581,  34.7128,2,  34.7121,2,    162.8,2,   162.6,2,  105.90,2,   33.17,2,    0.00,2,    2.34,2,-999.000,9,-999.000,9,-999.000,9,  -999.0,9,  -999.0,9,-999.0000,9,-999.0000,9, -999.00,9, -999.00,9,  -999.0,9,  -999.0,-999.000,9,-999.000,-999.000,9,-999.0000,   2.2230,-999.0000,-999.000
  316N145_8,        I03,     532,          1,          9,          9,2,19950522,       2113,   -20.3663,    61.0330,       3668,  2120.5,   2.1482,  34.7203,2,  34.7186,2,    167.0,2,   166.7,2,  110.77,2,   33.13,2,    0.00,2,    2.32,2,-999.000,9,-999.000,9,-999.000,9,  -999.0,9,  -999.0,9,-999.0000,9,-999.0000,9, -999.00,9, -999.00,9,  -999.0,9,  -999.0,-999.000,9,-999.000,-999.000,9,-999.0000,   1.9988,-999.0000,-999.000
  316N145_8,        I03,     532,          1,          8,          8,2,19950522,       2113,   -20.3663,    61.0330,       3668,  2324.1,   1.9859,  34.7227,2,  34.7223,2,    171.0,2,   170.1,2,  113.74,2,   32.99,2,    0.00,2,    2.31,2,-999.000,9,-999.000,9,-999.000,9,  -999.0,9,  -999.0,9,-999.0000,9,-999.0000,9, -999.00,9, -999.00,9,  -999.0,9,  -999.0,-999.000,9,-999.000,-999.000,9,-999.0000,   1.8214,-999.0000,-999.000
  316N145_8,        I03,     532,          1,          7,          7,2,19950522,       2113,   -20.3663,    61.0330,       3668,  2525.7,   1.8954,  34.7234,2,  34.7239,2,    171.9,2,   172.6,2,  115.42,2,   32.90,2,    0.00,2,    2.31,2,-999.000,9,-999.000,9,-999.000,9,  -999.0,9,  -999.0,9,-999.0000,9,-999.0000,9, -999.00,9, -999.00,9,  -999.0,9,  -999.0,-999.000,9,-999.000,-999.000,9,-999.0000,   1.7144,-999.0000,-999.000
  316N145_8,        I03,     532,          1,          6,          6,2,19950522,       2113,   -20.3663,    61.0330,       3668,  2729.1,   1.7767,  34.7241,2,  34.7233,2,    174.3,2,   175.0,2,  118.18,2,   32.90,2,    0.00,2,    2.30,2,-999.000,9,-999.000,9,-999.000,9,  -999.0,9,  -999.0,9,-999.0000,9,-999.0000,9, -999.00,9, -999.00,9,  -999.0,9,  -999.0,-999.000,9,-999.000,-999.000,9,-999.0000,   1.5793,-999.0000,-999.000
  316N145_8,        I03,     532,          1,          5,          5,2,19950522,       2113,   -20.3663,    61.0330,       3668,  2930.7,   1.7354,  34.7239,2,  34.7227,2,    174.9,2,   176.1,2,  119.44,2,   32.86,2,    0.00,2,    2.30,2,-999.000,9,-999.000,9,-999.000,9,  -999.0,9,  -999.0,9,-999.0000,9,-999.0000,9, -999.00,9, -999.00,9,  -999.0,9,  -999.0,-999.000,9,-999.000,-999.000,9,-999.0000,   1.5198,-999.0000,-999.000
  316N145_8,        I03,     532,          1,          4,          4,2,19950522,       2113,   -20.3663,    61.0330,       3668,  3132.7,   1.6313,  34.7233,2,  34.7225,2,    177.7,2,   178.9,2,  121.56,2,   32.92,2,    0.00,2,    2.29,2,-999.000,9,-999.000,9,-999.000,9,  -999.0,9,  -999.0,9,-999.0000,9,-999.0000,9, -999.00,9, -999.00,9,  -999.0,9,  -999.0,-999.000,9,-999.000,-999.000,9,-999.0000,   1.3985,-999.0000,-999.000
  316N145_8,        I03,     532,          1,          3,          3,2,19950522,       2113,   -20.3663,    61.0330,       3668,  3337.2,   1.5857,  34.7230,2,  34.7210,2,    179.0,2,   180.2,2,  122.61,2,   32.87,2,    0.00,2,    2.29,2,-999.000,9,-999.000,9,-999.000,9,  -999.0,9,  -999.0,9,-999.0000,9,-999.0000,9, -999.00,9, -999.00,9,  -999.0,9,  -999.0,-999.000,9,-999.000,-999.000,9,-999.0000,   1.3337,-999.0000,-999.000
  316N145_8,        I03,     532,          1,          2,          2,2,19950522,       2113,   -20.3663,    61.0330,       3668,  3540.7,   1.5721,  34.7221,2,  34.7211,2,    181.2,2,   180.9,2,  123.01,2,   32.93,2,    0.00,2,    2.30,2,-999.000,9,-999.000,9,-999.000,9,  -999.0,9,  -999.0,9,-999.0000,9,-999.0000,9, -999.00,9, -999.00,9,  -999.0,9,  -999.0,-999.000,9,-999.000,-999.000,9,-999.0000,   1.2997,-999.0000,-999.000
  316N145_8,        I03,     532,          1,          1,          1,2,19950522,       2113,   -20.3663,    61.0330,       3668,  3725.7,   1.5713,  34.7216,2,  34.7208,2,    181.6,2,   181.4,2,  123.40,2,   32.89,2,    0.00,2,    2.30,2,-999.000,9,-999.000,9,-999.000,9,  -999.0,9,  -999.0,9,-999.0000,9,-999.0000,9, -999.00,9, -999.00,9,  -999.0,9,  -999.0,-999.000,9,-999.000,-999.000,9,-999.0000,   1.2796,-999.0000,-999.000