BOTTLE,20140514CCHSIOSE
EXPOCODE,SECT_ID,STNNBR,CASTNO,SAMPNO,BTLNBR,BTLNBR_FLAG_W,DATE,TIME,LATITUDE,LONGITUDE,DEPTH,CTDPRS,CTDTMP,CTDSAL,CTDSAL_FLAG_W,SALNTY,SALNTY_FLAG_W,CTDOXY,CTDOXY_FLAG_W,OXYGEN,OXYGEN_FLAG_W,SILCAT,SILCAT_FLAG_W,NITRAT,NITRAT_FLAG_W,NITRIT,NITRIT_FLAG_W,PHSPHT,PHSPHT_FLAG_W,CFC-11,CFC-11_FLAG_W,CFC-12,CFC-12_FLAG_W,CFC113,CFC113_FLAG_W,TCARBN,TCARBN_FLAG_W,ALKALI,ALKALI_FLAG_W,TRITUM,TRITUM_FLAG_W,HELIUM,HELIUM_FLAG_W,DELHE3,DELHE3_FLAG_W,DELC13,DELC13_FLAG_W,DELC14,DELC14_FLAG_W,C14ERR,NEON,NEON_FLAG_W,NEONER,CCL4,CCL4_FLAG_W,HELIER,THETA,TRITER,DELHER
,,,,,,,,,,,METERS,DBAR,ITS-90,PSS-78,,PSS-78,,UMOL/KG,,UMOL/KG,,UMOL/KG,,UMOL/KG,,UMOL/KG,,UMOL/KG,,PMOL/KG,,PMOL/KG,,PMOL/KG,,UMOL/KG,,UMOL/KG,,TU,,NMOL/KG,,PERCNT,,/MILLE,,/MILLE,,/MILLE,NMOL/KG,,NMOL/KG,PMOL/KG,,NMOL/KG,DEG C,TU,PERCNT
  316N145_8,        I03,     465,          1,         36,         36,2,19950501,       1610,   -20.0005,   101.3500,       5606,     9.1,  25.8060,  35.4691,2,  35.4685,2,    204.4,2,   206.1,2,    3.78,2,    0.05,2,    0.00,2,    0.08,2,-999.000,9,-999.000,9,   0.296,3,  1978.6,2,  2325.0,2,-999.0000,9,-999.0000,9, -999.00,9,    1.26,2,    95.8,2,     3.6,-999.000,9,-999.000,   1.041,2,-999.0000,  25.8040,-999.0000,-999.000
  316N145_8,        I03,     465,          1,         35,         35,2,19950501,       1610,   -20.0005,   101.3500,       5606,    63.1,  24.0652,  35.4577,2,  35.4745,2,    221.0,2,   221.2,2,    4.18,2,    0.05,2,    0.00,2,    0.09,2,-999.000,9,-999.000,9,   0.305,3,  1987.5,2,  2325.0,6,-999.0000,9,-999.0000,9, -999.00,9, -999.00,9,  -999.0,9,  -999.0,-999.000,9,-999.000,   1.175,2,-999.0000,  24.0519,-999.0000,-999.000
  316N145_8,        I03,     465,          1,         34,         34,2,19950501,       1610,   -20.0005,   101.3500,       5606,   112.7,  20.4370,  35.7698,2,  35.7681,2,    204.1,2,   200.8,2,    4.36,2,    0.29,2,    0.19,2,    0.20,2,-999.000,9,-999.000,9,   0.338,3,  2043.9,2,  2343.0,2,-999.0000,9,-999.0000,9, -999.00,9,    0.99,2,    98.3,2,     3.5,-999.000,9,-999.000,   1.273,2,-999.0000,  20.4158,-999.0000,-999.000
  316N145_8,        I03,     465,          1,         33,         33,2,19950501,       1610,   -20.0005,   101.3500,       5606,   163.1,  19.1878,  35.8794,2,  35.8783,2,    210.5,2,   206.2,2,    3.93,2,    1.53,2,    0.02,2,    0.24,2,-999.000,9,-999.000,9,-999.000,9,  2053.2,2,  2331.4,3,-999.0000,9,-999.0000,9, -999.00,9,    0.84,2,    94.0,2,     3.7,-999.000,9,-999.000,-999.000,9,-999.0000,  19.1584,-999.0000,-999.000
  316N145_8,        I03,     465,          1,         32,         32,2,19950501,       1610,   -20.0005,   101.3500,       5606,   213.4,  17.7646,  35.8091,2,  35.8028,2,    203.5,2,   202.6,2,    4.53,2,    2.84,2,    0.01,2,    0.35,2,-999.000,9,-999.000,9,-999.000,9,  2076.4,2,  2348.0,2,-999.0000,9,-999.0000,9, -999.00,9,    0.89,2,    89.9,2,     3.6,-999.000,9,-999.000,-999.000,9,-999.0000,  17.7281,-999.0000,-999.000
  316N145_8,        I03,     465,          1,         31,         31,2,19950501,       1610,   -20.0005,   101.3500,       5606,   262.7,  15.1070,  35.5654,2,  35.5489,2,    207.1,2,   211.1,2,    4.93,2,    5.21,2,    0.01,2,    0.52,2,-999.000,9,-999.000,9,   0.166,3,  2092.6,2,  2339.0,2,-999.0000,9,-999.0000,9, -999.00,9,    1.03,2,    87.7,2,     4.7,-999.000,9,-999.000,   1.431,2,-999.0000,  15.0667,-999.0000,-999.000
  316N145_8,        I03,     465,          1,         30,         30,2,19950501,       1610,   -20.0005,   101.3500,       5606,   314.8,  13.4716,  35.3472,2,  35.3424,2,    224.4,2,   225.7,2,    3.68,2,    6.42,2,    0.01,2,    0.60,2,-999.000,9,-999.000,9,   0.124,3,  2095.3,2,  2325.0,2,-999.0000,9,-999.0000,9, -999.00,9,    1.15,2,    85.7,2,     3.5,-999.000,9,-999.000,   1.572,2,-999.0000,  13.4269,-999.0000,-999.000
  316N145_8,        I03,     465,          1,         29,         29,2,19950501,       1610,   -20.0005,   101.3500,       5606,   364.0,  12.2607,  35.1560,2,  35.1572,2,    226.2,2,   228.9,2,    4.07,2,    8.74,2,    0.01,2,    0.73,2,-999.000,9,-999.000,9,-999.000,9,  2101.0,2,  2318.0,2,-999.0000,9,-999.0000,9, -999.00,9,    1.19,2,    83.8,2,     3.1,-999.000,9,-999.000,-999.000,9,-999.0000,  12.2122,-999.0000,-999.000
  316N145_8,        I03,     465,          1,         28,         28,2,19950501,       1610,   -20.0005,   101.3500,       5606,   414.1,  11.1812,  34.9836,2,  34.9692,2,    233.1,2,   233.3,2,    4.67,2,   11.26,2,    0.01,2,    0.88,2,-999.000,9,-999.000,9,   0.167,3,  2105.8,2,  2306.0,2,-999.0000,9,-999.0000,9, -999.00,9,    0.94,3,    77.0,2,     3.1,-999.000,9,-999.000,   1.553,2,-999.0000,  11.1291,-999.0000,-999.000
  316N145_8,        I03,     465,          1,         27,         27,2,19950501,       1610,   -20.0005,   101.3500,       5606,   514.4,   9.4831,  34.7208,2,  34.7159,2,    234.5,2,   231.8,2,    6.30,2,   16.20,2,    0.01,2,    1.17,2,-999.000,9,-999.000,9,   0.221,3,  2118.4,2,  2297.0,2,-999.0000,9,-999.0000,9, -999.00,9,    1.09,2,    55.7,2,     4.4,-999.000,9,-999.000,   1.428,2,-999.0000,   9.4246,-999.0000,-999.000
  316N145_8,        I03,     465,          1,         26,         26,2,19950501,       1610,   -20.0005,   101.3500,       5606,   615.6,   7.9942,  34.5694,2,  34.5705,2,    197.8,2,   202.6,2,   15.33,2,   22.50,2,    0.01,2,    1.58,2,-999.000,9,-999.000,9,   0.180,3,  2147.5,2,  2295.0,2,-999.0000,9,-999.0000,9, -999.00,9,    0.91,2,    -5.3,2,     3.2,-999.000,9,-999.000,   0.746,2,-999.0000,   7.9307,-999.0000,-999.000
  316N145_8,        I03,     465,          1,         25,         25,2,19950501,       1610,   -20.0005,   101.3500,       5606,   714.6,   6.3187,  34.5218,2,  34.5215,2,    158.6,2,   154.3,2,   42.24,2,   30.17,2,    0.01,2,    2.13,2,-999.000,9,-999.000,9,   0.064,3,  2206.8,2,  2314.0,2,-999.0000,9,-999.0000,9, -999.00,9,    0.75,2,   -93.3,2,     4.1,-999.000,9,-999.000,   0.164,2,-999.0000,   6.2535,-999.0000,-999.000
  316N145_8,        I03,     465,          1,         24,         24,2,19950501,       1610,   -20.0005,   101.3500,       5606,   815.1,   5.6086,  34.5816,2,  34.5826,2,    122.7,2,   116.0,2,   67.76,2,   34.31,2,    0.01,2,    2.46,2,-999.000,9,-999.000,9,   0.047,3,  2252.9,2,  2342.0,2,-999.0000,9,-999.0000,9, -999.00,9,    0.23,2,  -151.4,2,     2.8,-999.000,9,-999.000,   0.031,2,-999.0000,   5.5379,-999.0000,-999.000
  316N145_8,        I03,     465,          1,         23,         23,2,19950501,       1610,   -20.0005,   101.3500,       5606,   916.0,   5.3086,  34.6440,2,  34.6438,2,     98.3,2,    96.6,2,   84.70,2,   35.95,2,    0.01,2,    2.61,2,   0.006,2,   0.005,2,-999.000,9,  2279.4,2,  2361.0,2,-999.0000,9,-999.0000,9, -999.00,9,    0.02,2,  -177.4,2,     2.6,-999.000,9,-999.000,-999.000,9,-999.0000,   5.2305,-999.0000,-999.000
  316N145_8,        I03,     465,          1,         22,         22,2,19950501,       1610,   -20.0005,   101.3500,       5606,  1016.3,   4.9342,  34.6470,2,  34.6480,2,     98.4,2,   100.8,2,   88.61,2,   35.95,2,    0.01,2,    2.62,2,   0.000,2,   0.001,2,   0.228,3,  -999.0,5,  2362.0,2,-999.0000,9,-999.0000,9, -999.00,9,    0.20,2,  -180.1,2,     2.7,-999.000,9,-999.000,   0.000,2,-999.0000,   4.8497,-999.0000,-999.000
  316N145_8,        I03,     465,          1,         21,         21,2,19950501,       1610,   -20.0005,   101.3500,       5606,  1117.4,   4.6085,  34.6536,2,  34.6546,2,    101.4,2,   102.1,2,   94.20,2,   36.16,2,    0.01,2,    2.64,2,  -0.001,2,   0.001,2,-999.000,9,  2289.8,2,  2370.0,2,-999.0000,9,-999.0000,9, -999.00,9,    0.19,2,  -186.1,2,     3.3,-999.000,9,-999.000,-999.000,9,-999.0000,   4.5175,-999.0000,-999.000
  316N145_8,        I03,     465,          1,         20,         20,2,19950501,       1610,   -20.0005,   101.3500,       5606,  1218.9,   4.2906,  34.6555,2,  34.6560,2,    107.2,2,   108.6,2,   96.25,2,   36.06,2,    0.01,2,    2.62,2,   0.002,2,   0.002,2,   0.088,3,  2292.6,2,  2370.0,2,-999.0000,9,-999.0000,9, -999.00,9,    0.17,2,  -181.3,2,     2.5,-999.000,9,-999.000,   0.000,2,-999.0000,   4.1934,-999.0000,-999.000
  316N145_8,        I03,     465,          1,         19,         19,2,19950501,       1610,   -20.0005,   101.3500,       5606,  1420.4,   3.5582,  34.6710,2,  34.6703,2,    122.7,2,   123.9,2,   99.77,2,   35.62,2,    0.01,2,    2.57,2,-999.000,9,-999.000,9,-999.000,9,  2285.9,2,  -999.0,5,-999.0000,9,-999.0000,9, -999.00,9, -999.00,9,  -999.0,9,  -999.0,-999.000,9,-999.000,-999.000,9,-999.0000,   3.4507,-999.0000,-999.000
  316N145_8,        I03,     465,          1,         18,         18,2,19950501,       1610,   -20.0005,   101.3500,       5606,  1622.4,   3.0391,  34.6946,2,  34.6954,2,    133.8,2,   135.6,2,  105.20,2,   35.03,2,    0.01,2,    2.52,2,-999.000,9,-999.000,9,-999.000,9,  2290.5,2,  2379.0,2,-999.0000,9,-999.0000,9, -999.00,9, -999.00,9,  -999.0,9,  -999.0,-999.000,9,-999.000,-999.000,9,-999.0000,   2.9201,-999.0000,-999.000
  316N145_8,        I03,     465,          1,         17,         17,2,19950501,       1610,   -20.0005,   101.3500,       5606,  1822.8,   2.6673,  34.7119,2,  34.7109,2,    144.4,2,   143.6,2,  110.65,2,   34.64,2,    0.00,2,    2.49,2,-999.000,9,-999.000,9,-999.000,9,  2291.1,2,  2388.0,2,-999.0000,9,-999.0000,9, -999.00,9, -999.00,9,  -999.0,9,  -999.0,-999.000,9,-999.000,-999.000,9,-999.0000,   2.5360,-999.0000,-999.000
  316N145_8,        I03,     465,          1,         16,         16,2,19950501,       1610,   -20.0005,   101.3500,       5606,  2022.1,   2.3837,  34.7203,2,  34.7198,2,    151.8,2,   151.4,2,  114.43,2,   34.24,2,    0.00,2,    2.45,2,-999.000,9,-999.000,9,-999.000,9,  2291.1,2,  2389.0,2,-999.0000,9,-999.0000,9, -999.00,9, -999.00,9,  -999.0,9,  -999.0,-999.000,9,-999.000,-999.000,9,-999.0000,   2.2392,-999.0000,-999.000
  316N145_8,        I03,     465,          1,         15,         15,2,19950501,       1610,   -20.0005,   101.3500,       5606,  2224.6,   2.1450,  34.7243,2,  34.7237,2,    158.9,2,   157.9,2,  117.15,2,   33.95,2,    0.00,2,    2.42,2,-999.000,9,-999.000,9,-999.000,9,  2290.5,2,  2395.0,2,-999.0000,9,-999.0000,9, -999.00,9, -999.00,9,  -999.0,9,  -999.0,-999.000,9,-999.000,-999.000,9,-999.0000,   1.9866,-999.0000,-999.000
  316N145_8,        I03,     465,          1,         14,         14,2,19950501,       1610,   -20.0005,   101.3500,       5606,  2430.0,   1.9524,  34.7262,2,  34.7257,2,    162.2,2,   161.5,2,  122.03,2,   33.85,2,    0.00,2,    2.41,2,   0.002,2,   0.002,2,-999.000,9,  2294.9,2,  2396.0,2,-999.0000,9,-999.0000,9, -999.00,9, -999.00,9,  -999.0,9,  -999.0,-999.000,9,-999.000,-999.000,9,-999.0000,   1.7790,-999.0000,-999.000
  316N145_8,        I03,     465,          1,         13,         13,2,19950501,       1610,   -20.0005,   101.3500,       5606,  2635.0,   1.8000,  34.7257,2,  34.7253,2,    166.4,2,   167.4,2,  123.06,2,   33.61,2,    0.00,2,    2.39,2,-999.000,9,-999.000,9,-999.000,9,  2292.7,2,  2400.0,2,-999.0000,9,-999.0000,9, -999.00,9, -999.00,9,  -999.0,9,  -999.0,-999.000,9,-999.000,-999.000,9,-999.0000,   1.6109,-999.0000,-999.000
  316N145_8,        I03,     465,          1,         12,         12,2,19950501,       1610,   -20.0005,   101.3500,       5606,  2837.7,   1.6773,  34.7252,2,  34.7261,2,    173.9,2,   172.3,2,  123.88,2,   33.37,2,    0.00,2,    2.36,2,  -0.003,2,   0.002,2,-999.000,9,  2289.0,6,  2398.5,6,-999.0000,9,-999.0000,9, -999.00,9, -999.00,9,  -999.0,9,  -999.0,-999.000,9,-999.000,-999.000,9,-999.0000,   1.4718,-999.0000,-999.000
  316N145_8,        I03,     465,          1,         11,         11,2,19950501,       1610,   -20.0005,   101.3500,       5606,  3040.8,   1.5542,  34.7233,2,  34.7245,2,    176.4,2,   176.6,2,  125.34,2,   33.22,2,    0.00,2,    2.35,2,-999.000,9,-999.000,9,   0.056,3,  2288.6,2,  2402.0,2,-999.0000,9,-999.0000,9, -999.00,9, -999.00,9,  -999.0,9,  -999.0,-999.000,9,-999.000,   0.000,2,-999.0000,   1.3320,-999.0000,-999.000
  316N145_8,        I03,     465,          1,         10,         10,2,19950501,       1610,   -20.0005,   101.3500,       5606,  3296.6,   1.4188,  34.7207,2,  34.7213,2,    182.0,2,   180.6,2,  127.46,2,   33.08,2,    0.00,2,    2.33,2,  -0.001,2,   0.003,2,-999.000,9,  2288.4,2,  2398.0,2,-999.0000,9,-999.0000,9, -999.00,9, -999.00,9,  -999.0,9,  -999.0,-999.000,9,-999.000,-999.000,9,-999.0000,   1.1749,-999.0000,-999.000
  316N145_8,        I03,     465,          1,          9,          9,2,19950501,       1610,   -20.0005,   101.3500,       5606,  3551.0,   1.3251,  34.7179,2,  34.7168,2,    185.0,2,   184.0,2,  129.14,2,   33.13,2,    0.00,2,    2.33,2,-999.000,9,-999.000,9,-999.000,9,  2288.5,2,  2402.0,2,-999.0000,9,-999.0000,9, -999.00,9, -999.00,9,  -999.0,9,  -999.0,-999.000,9,-999.000,-999.000,9,-999.0000,   1.0580,-999.0000,-999.000
  316N145_8,        I03,     465,          1,          8,          8,2,19950501,       1610,   -20.0005,   101.3500,       5606,  3805.5,   1.2560,  34.7158,2,  34.7155,2,    186.5,2,   187.4,2,  129.75,2,   32.99,2,    0.00,2,    2.32,2,   0.001,2,   0.003,2,-999.000,9,  2286.5,2,  2398.0,2,-999.0000,9,-999.0000,9, -999.00,9, -999.00,9,  -999.0,9,  -999.0,-999.000,9,-999.000,-999.000,9,-999.0000,   0.9645,-999.0000,-999.000
  316N145_8,        I03,     465,          1,          7,          7,2,19950501,       1610,   -20.0005,   101.3500,       5606,  4061.5,   1.2101,  34.7149,2,  34.7141,2,    188.7,2,   191.1,2,  129.48,2,   32.89,2,    0.00,2,    2.30,2,-999.000,9,-999.000,9,-999.000,9,  2283.4,2,  2400.0,2,-999.0000,9,-999.0000,9, -999.00,9, -999.00,9,  -999.0,9,  -999.0,-999.000,9,-999.000,-999.000,9,-999.0000,   0.8926,-999.0000,-999.000
  316N145_8,        I03,     465,          1,          6,          6,2,19950501,       1610,   -20.0005,   101.3500,       5606,  4318.5,   1.1803,  34.7134,2,  34.7133,2,    192.4,2,   193.4,2,  129.00,2,   32.75,2,    0.00,2,    2.29,2,  -0.002,2,   0.001,2,   0.115,3,  2283.4,2,  2397.0,2,-999.0000,9,-999.0000,9, -999.00,9, -999.00,9,  -999.0,9,  -999.0,-999.000,9,-999.000,   0.000,2,-999.0000,   0.8355,-999.0000,-999.000
  316N145_8,        I03,     465,          1,          5,          5,2,19950501,       1610,   -20.0005,   101.3500,       5606,  4572.9,   1.1608,  34.7131,2,  34.7115,2,    195.7,2,   196.4,2,  128.31,2,   32.61,2,    0.00,2,    2.28,2,-999.000,9,-999.000,9,-999.000,9,  2280.5,2,  2397.0,2,-999.0000,9,-999.0000,9, -999.00,9, -999.00,9,  -999.0,9,  -999.0,-999.000,9,-999.000,-999.000,9,-999.0000,   0.7879,-999.0000,-999.000
  316N145_8,        I03,     465,          1,          4,          4,2,19950501,       1610,   -20.0005,   101.3500,       5606,  4828.9,   1.1390,  34.7122,2,  34.7115,2,    199.3,2,   199.2,2,  127.18,2,   32.41,2,    0.00,2,    2.26,2,  -0.001,2,   0.002,2,-999.000,9,  2274.1,2,  -999.0,5,-999.0000,9,-999.0000,9, -999.00,9, -999.00,9,  -999.0,9,  -999.0,-999.000,9,-999.000,-999.000,9,-999.0000,   0.7371,-999.0000,-999.000
  316N145_8,        I03,     465,          1,          3,          3,2,19950501,       1610,   -20.0005,   101.3500,       5606,  5084.0,   1.1439,  34.7113,2,  34.7104,2,    200.5,2,   200.7,2,  127.13,2,   32.42,2,    0.00,2,    2.26,2,-999.000,9,-999.000,9,-999.000,9,  2274.4,2,  2393.0,2,-999.0000,9,-999.0000,9, -999.00,9, -999.00,9,  -999.0,9,  -999.0,-999.000,9,-999.000,-999.000,9,-999.0000,   0.7114,-999.0000,-999.000
  316N145_8,        I03,     465,          1,          2,          2,2,19950501,       1610,   -20.0005,   101.3500,       5606,  5395.2,   1.1670,  34.7109,2,  34.7106,2,    201.6,2,   201.1,2,  126.87,2,   32.42,2,    0.00,2,    2.25,2,   0.004,2,   0.002,2,-999.000,9,  2273.4,2,  2386.0,2,-999.0000,9,-999.0000,9, -999.00,9, -999.00,9,  -999.0,9,  -999.0,-999.000,9,-999.000,-999.000,9,-999.0000,   0.6955,-999.0000,-999.000
  316N145_8,        I03,     465,          1,          1,          1,2,19950501,       1610,   -20.0005,   101.3500,       5606,  5743.7,   1.1931,  34.7104,2,  34.7104,2,    203.1,2,   202.9,2,  125.96,2,   32.27,2,    0.00,2,    2.25,2,   0.000,2,   0.003,2,   0.066,3,  2272.1,2,  2385.0,2,-999.0000,9,-999.0000,9, -999.00,9, -999.00,9,  -999.0,9,  -999.0,-999.000,9,-999.000,   0.000,2,-999.0000,   0.6765,-999.0000,-999.000