BOTTLE,20140514CCHSIOSE
EXPOCODE,SECT_ID,STNNBR,CASTNO,SAMPNO,BTLNBR,BTLNBR_FLAG_W,DATE,TIME,LATITUDE,LONGITUDE,DEPTH,CTDPRS,CTDTMP,CTDSAL,CTDSAL_FLAG_W,SALNTY,SALNTY_FLAG_W,CTDOXY,CTDOXY_FLAG_W,OXYGEN,OXYGEN_FLAG_W,SILCAT,SILCAT_FLAG_W,NITRAT,NITRAT_FLAG_W,NITRIT,NITRIT_FLAG_W,PHSPHT,PHSPHT_FLAG_W,CFC-11,CFC-11_FLAG_W,CFC-12,CFC-12_FLAG_W,CFC113,CFC113_FLAG_W,TCARBN,TCARBN_FLAG_W,ALKALI,ALKALI_FLAG_W,TRITUM,TRITUM_FLAG_W,HELIUM,HELIUM_FLAG_W,DELHE3,DELHE3_FLAG_W,DELC13,DELC13_FLAG_W,DELC14,DELC14_FLAG_W,C14ERR,NEON,NEON_FLAG_W,NEONER,CCL4,CCL4_FLAG_W,HELIER,THETA,TRITER,DELHER
,,,,,,,,,,,METERS,DBAR,ITS-90,PSS-78,,PSS-78,,UMOL/KG,,UMOL/KG,,UMOL/KG,,UMOL/KG,,UMOL/KG,,UMOL/KG,,PMOL/KG,,PMOL/KG,,PMOL/KG,,UMOL/KG,,UMOL/KG,,TU,,NMOL/KG,,PERCNT,,/MILLE,,/MILLE,,/MILLE,NMOL/KG,,NMOL/KG,PMOL/KG,,NMOL/KG,DEG C,TU,PERCNT
  316N145_8,        I03,     526,          1,         31,         31,2,19950521,       0427,   -20.1827,    64.4162,       3039,     7.1,  25.0524,  34.8917,2,  34.8916,2,    202.1,3,   208.3,2,    2.91,2,    0.03,2,    0.00,2,    0.13,2,   1.890,2,   1.070,2,-999.000,9,  1945.0,6,  2284.8,6,-999.0000,9,-999.0000,9, -999.00,9,    1.21,2,    60.8,2,     5.1,-999.000,9,-999.000,-999.000,9,-999.0000,  25.0509,-999.0000,-999.000
  316N145_8,        I03,     526,          1,         30,         30,2,19950521,       0427,   -20.1827,    64.4162,       3039,    55.8,  25.0594,  34.8923,2,  34.8916,2,    207.6,2,   208.2,2,    3.00,2,    0.04,2,    0.00,2,    0.12,2,-999.000,9,-999.000,9,-999.000,9,  -999.0,9,  -999.0,9,-999.0000,9,-999.0000,9, -999.00,9, -999.00,9,  -999.0,9,  -999.0,-999.000,9,-999.000,-999.000,9,-999.0000,  25.0473,-999.0000,-999.000
  316N145_8,        I03,     526,          1,         29,         29,2,19950521,       0427,   -20.1827,    64.4162,       3039,   105.7,  22.8397,  35.3304,2,  35.3288,2,    212.7,2,   211.4,2,    3.19,2,    0.04,2,    0.00,2,    0.15,2,   2.104,2,   1.171,2,-999.000,9,  -999.0,9,  -999.0,9,-999.0000,9,-999.0000,9, -999.00,9,    1.11,2,    63.1,2,     2.8,-999.000,9,-999.000,-999.000,9,-999.0000,  22.8182,-999.0000,-999.000
  316N145_8,        I03,     526,          1,         28,         28,2,19950521,       0427,   -20.1827,    64.4162,       3039,   155.6,  20.8006,  35.4868,2,  35.4863,2,    189.0,2,   185.4,2,    4.62,2,    2.90,2,    0.05,2,    0.34,2,-999.000,9,-999.000,9,-999.000,9,  -999.0,9,  -999.0,9,-999.0000,9,-999.0000,9, -999.00,9, -999.00,9,  -999.0,9,  -999.0,-999.000,9,-999.000,-999.000,9,-999.0000,  20.7709,-999.0000,-999.000
  316N145_8,        I03,     526,          1,         27,         27,2,19950521,       0427,   -20.1827,    64.4162,       3039,   204.5,  19.0166,  35.5298,2,  35.5196,2,    170.8,2,   166.9,2,    7.30,2,    6.33,2,    0.01,2,    0.55,2,   2.043,3,   1.106,3,-999.000,9,  -999.0,9,  -999.0,9,-999.0000,9,-999.0000,9, -999.00,9,    0.80,2,    64.1,2,     2.9,-999.000,9,-999.000,-999.000,9,-999.0000,  18.9800,-999.0000,-999.000
  316N145_8,        I03,     526,          1,         26,         26,2,19950521,       0427,   -20.1827,    64.4162,       3039,   256.0,  17.0124,  35.5882,2,  35.5828,2,    183.1,2,   182.1,2,    7.08,2,    6.05,2,    0.01,2,    0.56,2,-999.000,9,-999.000,9,-999.000,9,  -999.0,9,  -999.0,9,-999.0000,9,-999.0000,9, -999.00,9, -999.00,9,  -999.0,9,  -999.0,-999.000,9,-999.000,-999.000,9,-999.0000,  16.9699,-999.0000,-999.000
  316N145_8,        I03,     526,          1,         25,         25,2,19950521,       0427,   -20.1827,    64.4162,       3039,   306.8,  15.2769,  35.5337,2,  35.5304,2,    211.9,2,   212.9,2,    3.31,2,    4.45,2,    0.01,2,    0.47,2,   2.667,2,   1.389,2,-999.000,9,  -999.0,9,  -999.0,9,-999.0000,9,-999.0000,9, -999.00,9,    1.17,2,   101.0,2,     4.7,-999.000,9,-999.000,-999.000,9,-999.0000,  15.2295,-999.0000,-999.000
  316N145_8,        I03,     526,          1,         24,         24,2,19950521,       0427,   -20.1827,    64.4162,       3039,   357.3,  14.2942,  35.4171,2,  35.4211,2,    218.7,2,   218.1,2,    3.09,2,    5.62,2,    0.01,2,    0.54,2,   2.778,2,   1.426,2,-999.000,9,  -999.0,9,  -999.0,9,-999.0000,9,-999.0000,9, -999.00,9, -999.00,9,  -999.0,9,  -999.0,-999.000,9,-999.000,-999.000,9,-999.0000,  14.2414,-999.0000,-999.000
  316N145_8,        I03,     526,          1,         23,         23,2,19950521,       0427,   -20.1827,    64.4162,       3039,   406.0,  13.1091,  35.2549,2,  35.2625,2,    222.2,2,   224.8,2,    3.49,2,    7.55,2,    0.01,2,    0.65,2,   2.879,2,   1.487,2,-999.000,9,  -999.0,9,  -999.0,9,-999.0000,9,-999.0000,9, -999.00,9,    1.04,2,    94.3,2,     3.9,-999.000,9,-999.000,-999.000,9,-999.0000,  13.0523,-999.0000,-999.000
  316N145_8,        I03,     526,          1,         22,         22,2,19950521,       0427,   -20.1827,    64.4162,       3039,   457.6,  12.0450,  35.0962,2,  35.0998,2,    230.1,2,   230.5,2,    3.89,2,    9.67,2,    0.01,2,    0.77,2,   2.872,2,   1.455,2,-999.000,9,  -999.0,9,  -999.0,9,-999.0000,9,-999.0000,9, -999.00,9, -999.00,9,  -999.0,9,  -999.0,-999.000,9,-999.000,-999.000,9,-999.0000,  11.9845,-999.0000,-999.000
  316N145_8,        I03,     526,          1,         21,         21,2,19950521,       0427,   -20.1827,    64.4162,       3039,   507.7,  11.4340,  35.0030,2,  35.0055,2,    230.3,2,   231.8,2,    4.08,2,   10.98,2,    0.01,2,    0.84,2,   2.827,2,   1.410,2,-999.000,9,  -999.0,9,  -999.0,9,-999.0000,9,-999.0000,9, -999.00,9,    1.23,2,    80.2,2,     2.7,-999.000,9,-999.000,-999.000,9,-999.0000,  11.3689,-999.0000,-999.000
  316N145_8,        I03,     526,          1,         20,         20,2,19950521,       0427,   -20.1827,    64.4162,       3039,   603.9,  10.0389,  34.7958,2,  34.7957,2,    228.5,2,   229.2,2,    5.31,2,   14.56,2,    0.01,2,    1.06,2,   2.479,2,   1.227,2,-999.000,9,  -999.0,9,  -999.0,9,-999.0000,9,-999.0000,9, -999.00,9,    1.48,3,    68.8,2,     2.7,-999.000,9,-999.000,-999.000,9,-999.0000,   9.9674,-999.0000,-999.000
  316N145_8,        I03,     526,          1,         19,         19,2,19950521,       0427,   -20.1827,    64.4162,       3039,   704.6,   8.4899,  34.6171,2,  34.6150,2,    211.0,2,   211.3,2,   11.08,2,   20.36,2,    0.00,2,    1.41,2,   1.469,2,   0.734,2,-999.000,9,  -999.0,9,  -999.0,9,-999.0000,9,-999.0000,9, -999.00,9,    1.21,2,    16.6,2,     2.6,-999.000,9,-999.000,-999.000,9,-999.0000,   8.4141,-999.0000,-999.000
  316N145_8,        I03,     526,          1,         18,         18,2,19950521,       0427,   -20.1827,    64.4162,       3039,   803.5,   6.9796,  34.5320,2,  34.5305,2,    181.5,2,   180.2,2,   26.77,2,   26.65,2,    0.00,2,    1.84,2,   0.518,2,   0.262,2,-999.000,9,  -999.0,9,  -999.0,9,-999.0000,9,-999.0000,9, -999.00,9,    0.95,2,   -61.7,2,     2.6,-999.000,9,-999.000,-999.000,9,-999.0000,   6.9018,-999.0000,-999.000
  316N145_8,        I03,     526,          1,         17,         17,2,19950521,       0427,   -20.1827,    64.4162,       3039,   851.3,   6.2693,  34.4914,2,  34.4903,2,    174.6,2,   180.2,2,   31.30,2,   28.22,2,    0.00,2,    1.95,2,   0.386,2,   0.197,2,-999.000,9,  -999.0,9,  -999.0,9,-999.0000,9,-999.0000,9, -999.00,9,    0.92,2,   -72.2,2,     3.2,-999.000,9,-999.000,-999.000,9,-999.0000,   6.1911,-999.0000,-999.000
  316N145_8,        I03,     526,          1,         16,         16,2,19950521,       0427,   -20.1827,    64.4162,       3039,   904.3,   5.6280,  34.5122,2,  34.5111,2,    166.7,2,   161.1,2,   45.75,2,   30.89,2,    0.00,2,    2.15,2,   0.228,2,   0.114,2,-999.000,9,  -999.0,9,  -999.0,9,-999.0000,9,-999.0000,9, -999.00,9, -999.00,9,  -999.0,9,  -999.0,-999.000,9,-999.000,-999.000,9,-999.0000,   5.5490,-999.0000,-999.000
  316N145_8,        I03,     526,          1,         15,         15,2,19950521,       0427,   -20.1827,    64.4162,       3039,   987.8,   4.8671,  34.5383,2,  34.5617,2,    135.7,2,   137.1,2,   65.19,2,   33.62,2,    0.00,2,    2.38,2,   0.067,2,   0.031,2,-999.000,9,  -999.0,9,  -999.0,9,-999.0000,9,-999.0000,9, -999.00,9,    0.56,2,  -121.2,2,     3.8,-999.000,9,-999.000,-999.000,9,-999.0000,   4.7858,-999.0000,-999.000
  316N145_8,        I03,     526,          1,         14,         14,2,19950521,       0427,   -20.1827,    64.4162,       3039,  1051.1,   4.6959,  34.6137,2,  34.6130,2,    125.0,2,   125.8,2,   76.38,2,   34.43,2,    0.00,2,    2.46,2,   0.031,2,   0.014,2,-999.000,9,  -999.0,9,  -999.0,9,-999.0000,9,-999.0000,9, -999.00,9, -999.00,9,  -999.0,9,  -999.0,-999.000,9,-999.000,-999.000,9,-999.0000,   4.6102,-999.0000,-999.000
  316N145_8,        I03,     526,          1,         13,         13,2,19950521,       0427,   -20.1827,    64.4162,       3039,  1110.5,   4.5048,  34.6272,2,  34.6279,2,    124.6,2,   123.9,2,   80.52,2,   34.77,2,    0.00,2,    2.49,2,   0.017,2,   0.006,2,-999.000,9,  -999.0,9,  -999.0,9,-999.0000,9,-999.0000,9, -999.00,9,    0.37,2,  -169.2,2,     8.3,-999.000,9,-999.000,-999.000,9,-999.0000,   4.4154,-999.0000,-999.000
  316N145_8,        I03,     526,          1,         12,         12,2,19950521,       0427,   -20.1827,    64.4162,       3039,  1211.1,   4.1238,  34.6500,2,  34.6511,2,    125.4,2,   125.3,2,   86.97,2,   34.96,2,    0.00,2,    2.50,2,   0.016,2,   0.005,2,-999.000,9,  -999.0,9,  -999.0,9,-999.0000,9,-999.0000,9, -999.00,9,    0.28,2,  -160.4,2,     2.9,-999.000,9,-999.000,-999.000,9,-999.0000,   4.0288,-999.0000,-999.000
  316N145_8,        I03,     526,          1,         11,         11,2,19950521,       0427,   -20.1827,    64.4162,       3039,  1310.3,   3.7438,  34.6526,2,  34.6525,2,    132.1,2,   132.6,2,   89.03,2,   34.67,2,    0.00,2,    2.47,2,   0.003,2,   0.001,2,-999.000,9,  -999.0,9,  -999.0,9,-999.0000,9,-999.0000,9, -999.00,9,    0.31,2,  -163.2,2,     3.1,-999.000,9,-999.000,-999.000,9,-999.0000,   3.6438,-999.0000,-999.000
  316N145_8,        I03,     526,          1,         10,         10,2,19950521,       0427,   -20.1827,    64.4162,       3039,  1412.4,   3.4289,  34.6674,2,  34.6662,2,    138.3,2,   138.2,2,   92.15,2,   34.52,2,    0.00,2,    2.45,2,-999.000,9,-999.000,9,-999.000,9,  -999.0,9,  -999.0,9,-999.0000,9,-999.0000,9, -999.00,9,    0.37,2,  -169.5,2,     2.3,-999.000,9,-999.000,-999.000,9,-999.0000,   3.3234,-999.0000,-999.000
  316N145_8,        I03,     526,          1,          9,          9,2,19950521,       0427,   -20.1827,    64.4162,       3039,  1512.9,   3.0992,  34.6735,2,  34.6725,2,    146.5,2,   147.5,2,   93.59,2,   34.03,2,    0.00,2,    2.42,2,-999.000,9,-999.000,9,-999.000,9,  -999.0,9,  -999.0,9,-999.0000,9,-999.0000,9, -999.00,9,    0.32,2,  -163.8,2,     2.7,-999.000,9,-999.000,-999.000,9,-999.0000,   2.9889,-999.0000,-999.000
  316N145_8,        I03,     526,          1,          8,          8,2,19950521,       0427,   -20.1827,    64.4162,       3039,  1616.2,   2.8596,  34.6829,2,  34.6815,2,    152.7,2,   153.9,2,   95.45,2,   33.69,2,    0.00,2,    2.39,2,   0.003,2,   0.001,2,-999.000,9,  -999.0,9,  -999.0,9,-999.0000,9,-999.0000,9, -999.00,9, -999.00,9,  -999.0,9,  -999.0,-999.000,9,-999.000,-999.000,9,-999.0000,   2.7435,-999.0000,-999.000
  316N145_8,        I03,     526,          1,          7,          7,2,19950521,       0427,   -20.1827,    64.4162,       3039,  1817.7,   2.5029,  34.7046,2,  34.7043,2,    161.2,2,   160.6,2,  101.95,2,   33.30,2,    0.00,2,    2.36,2,-999.000,9,-999.000,9,-999.000,9,  -999.0,9,  -999.0,9,-999.0000,9,-999.0000,9, -999.00,9, -999.00,9,  -999.0,9,  -999.0,-999.000,9,-999.000,-999.000,9,-999.0000,   2.3743,-999.0000,-999.000
  316N145_8,        I03,     526,          1,          6,          6,2,19950521,       0427,   -20.1827,    64.4162,       3039,  2017.0,   2.1918,  34.7191,2,  34.7178,2,    166.0,2,   165.9,2,  109.14,2,   33.11,2,    0.00,2,    2.34,2,   0.000,2,   0.001,2,-999.000,9,  -999.0,9,  -999.0,9,-999.0000,9,-999.0000,9, -999.00,9, -999.00,9,  -999.0,9,  -999.0,-999.000,9,-999.000,-999.000,9,-999.0000,   2.0507,-999.0000,-999.000
  316N145_8,        I03,     526,          1,          5,          5,2,19950521,       0427,   -20.1827,    64.4162,       3039,  2220.2,   2.0431,  34.7214,2,  34.7208,2,    168.2,2,   168.5,2,  112.52,2,   33.11,2,    0.00,2,    2.32,2,-999.000,9,-999.000,9,-999.000,9,  -999.0,9,  -999.0,9,-999.0000,9,-999.0000,9, -999.00,9, -999.00,9,  -999.0,9,  -999.0,-999.000,9,-999.000,-999.000,9,-999.0000,   1.8868,-999.0000,-999.000
  316N145_8,        I03,     526,          1,          4,          4,2,19950521,       0427,   -20.1827,    64.4162,       3039,  2422.8,   1.9375,  34.7229,2,  34.7229,2,    170.8,2,   171.2,2,  114.63,2,   33.01,2,    0.00,2,    2.31,2,-999.000,9,-999.000,9,-999.000,9,  -999.0,9,  -999.0,9,-999.0000,9,-999.0000,9, -999.00,9, -999.00,9,  -999.0,9,  -999.0,-999.000,9,-999.000,-999.000,9,-999.0000,   1.7650,-999.0000,-999.000
  316N145_8,        I03,     526,          1,          3,          3,2,19950521,       0427,   -20.1827,    64.4162,       3039,  2626.2,   1.8613,  34.7245,2,  34.7235,2,    172.7,2,   172.9,2,  116.96,2,   33.00,2,    0.00,2,    2.32,2,   0.004,2,   0.002,2,-999.000,9,  -999.0,9,  -999.0,9,-999.0000,9,-999.0000,9, -999.00,9, -999.00,9,  -999.0,9,  -999.0,-999.000,9,-999.000,-999.000,9,-999.0000,   1.6718,-999.0000,-999.000
  316N145_8,        I03,     526,          1,          2,          2,2,19950521,       0427,   -20.1827,    64.4162,       3039,  2826.4,   1.8091,  34.7245,2,  34.7237,2,    174.0,2,   174.1,2,  118.21,2,   33.00,2,    0.00,2,    2.31,2,-999.000,9,-999.000,9,-999.000,9,  -999.0,9,  -999.0,9,-999.0000,9,-999.0000,9, -999.00,9, -999.00,9,  -999.0,9,  -999.0,-999.000,9,-999.000,-999.000,9,-999.0000,   1.6020,-999.0000,-999.000
  316N145_8,        I03,     526,          1,          1,          1,2,19950521,       0427,   -20.1827,    64.4162,       3039,  3069.9,   1.7696,  34.7255,2,  34.7235,2,    175.6,2,   175.9,2,  119.26,2,   33.04,2,    0.00,2,    2.31,2,  -0.002,2,  -0.001,2,-999.000,9,  -999.0,9,  -999.0,9,-999.0000,9,-999.0000,9, -999.00,9, -999.00,9,  -999.0,9,  -999.0,-999.000,9,-999.000,-999.000,9,-999.0000,   1.5398,-999.0000,-999.000