BOTTLE,20140514CCHSIOSE
EXPOCODE,SECT_ID,STNNBR,CASTNO,SAMPNO,BTLNBR,BTLNBR_FLAG_W,DATE,TIME,LATITUDE,LONGITUDE,DEPTH,CTDPRS,CTDTMP,CTDSAL,CTDSAL_FLAG_W,SALNTY,SALNTY_FLAG_W,CTDOXY,CTDOXY_FLAG_W,OXYGEN,OXYGEN_FLAG_W,SILCAT,SILCAT_FLAG_W,NITRAT,NITRAT_FLAG_W,NITRIT,NITRIT_FLAG_W,PHSPHT,PHSPHT_FLAG_W,CFC-11,CFC-11_FLAG_W,CFC-12,CFC-12_FLAG_W,CFC113,CFC113_FLAG_W,TCARBN,TCARBN_FLAG_W,ALKALI,ALKALI_FLAG_W,TRITUM,TRITUM_FLAG_W,HELIUM,HELIUM_FLAG_W,DELHE3,DELHE3_FLAG_W,DELC13,DELC13_FLAG_W,DELC14,DELC14_FLAG_W,C14ERR,NEON,NEON_FLAG_W,NEONER,CCL4,CCL4_FLAG_W,HELIER,THETA,TRITER,DELHER
,,,,,,,,,,,METERS,DBAR,ITS-90,PSS-78,,PSS-78,,UMOL/KG,,UMOL/KG,,UMOL/KG,,UMOL/KG,,UMOL/KG,,UMOL/KG,,PMOL/KG,,PMOL/KG,,PMOL/KG,,UMOL/KG,,UMOL/KG,,TU,,NMOL/KG,,PERCNT,,/MILLE,,/MILLE,,/MILLE,NMOL/KG,,NMOL/KG,PMOL/KG,,NMOL/KG,DEG C,TU,PERCNT
  316N145_8,        I03,     457,          1,         36,         36,2,19950428,       2302,   -20.3160,   108.1515,       4975,     9.7,  26.8545,  35.3106,2,  35.3082,2,    200.3,2,   202.3,2,    3.70,2,    0.04,2,    0.00,2,    0.06,2,   1.749,2,   1.002,2,-999.000,9,  1963.8,6,  2315.4,6,-999.0000,9,-999.0000,9, -999.00,9, -999.00,9,  -999.0,9,  -999.0,-999.000,9,-999.000,-999.000,9,-999.0000,  26.8523,-999.0000,-999.000
  316N145_8,        I03,     457,          1,         35,         35,2,19950428,       2302,   -20.3160,   108.1515,       4975,    58.4,  24.5336,  35.3594,2,  35.3603,2,    229.5,2,   225.4,2,    4.11,2,    0.04,2,    0.00,2,    0.07,2,-999.000,9,-999.000,9,-999.000,9,  -999.0,9,  -999.0,9,-999.0000,9,-999.0000,9, -999.00,9, -999.00,9,  -999.0,9,  -999.0,-999.000,9,-999.000,-999.000,9,-999.0000,  24.5211,-999.0000,-999.000
  316N145_8,        I03,     457,          1,         34,         34,2,19950428,       2302,   -20.3160,   108.1515,       4975,   108.1,  21.2519,  35.3926,2,  35.3922,2,    174.4,2,   166.5,2,    7.65,2,    4.50,2,    0.04,2,    0.43,2,   1.995,2,   1.102,2,-999.000,9,  -999.0,9,  -999.0,9,-999.0000,9,-999.0000,9, -999.00,9, -999.00,9,  -999.0,9,  -999.0,-999.000,9,-999.000,-999.000,9,-999.0000,  21.2310,-999.0000,-999.000
  316N145_8,        I03,     457,          1,         33,         33,2,19950428,       2302,   -20.3160,   108.1515,       4975,   157.2,  19.4672,  35.7511,2,  35.7411,2,    190.2,2,   193.4,2,    5.34,2,    3.17,2,    0.01,2,    0.32,2,-999.000,9,-999.000,9,-999.000,9,  -999.0,9,  -999.0,9,-999.0000,9,-999.0000,9, -999.00,9, -999.00,9,  -999.0,9,  -999.0,-999.000,9,-999.000,-999.000,9,-999.0000,  19.4385,-999.0000,-999.000
  316N145_8,        I03,     457,          1,         32,         32,2,19950428,       2302,   -20.3160,   108.1515,       4975,   208.6,  17.8508,  35.8263,2,  35.8224,2,    203.3,2,   201.7,2,    3.87,2,    2.67,2,    0.01,2,    0.31,2,   2.471,2,   1.330,2,-999.000,9,  -999.0,9,  -999.0,9,-999.0000,9,-999.0000,9, -999.00,9, -999.00,9,  -999.0,9,  -999.0,-999.000,9,-999.000,-999.000,9,-999.0000,  17.8150,-999.0000,-999.000
  316N145_8,        I03,     457,          1,         31,         31,2,19950428,       2302,   -20.3160,   108.1515,       4975,   257.8,  15.7974,  35.6707,2,  35.6567,2,    215.2,2,   214.0,2,    3.24,2,    3.69,2,    0.00,2,    0.39,2,-999.000,9,-999.000,9,-999.000,9,  -999.0,9,  -999.0,9,-999.0000,9,-999.0000,9, -999.00,9, -999.00,9,  -999.0,9,  -999.0,-999.000,9,-999.000,-999.000,9,-999.0000,  15.7567,-999.0000,-999.000
  316N145_8,        I03,     457,          1,         30,         30,2,19950428,       2302,   -20.3160,   108.1515,       4975,   308.4,  13.5226,  35.3675,2,  35.3652,2,    223.3,2,   225.1,2,    3.23,2,    6.17,2,    0.00,2,    0.54,2,   3.001,2,   1.557,2,-999.000,9,  -999.0,9,  -999.0,9,-999.0000,9,-999.0000,9, -999.00,9, -999.00,9,  -999.0,9,  -999.0,-999.000,9,-999.000,-999.000,9,-999.0000,  13.4787,-999.0000,-999.000
  316N145_8,        I03,     457,          1,         29,         29,2,19950428,       2302,   -20.3160,   108.1515,       4975,   357.7,  11.9022,  35.1065,2,  35.1126,2,    231.3,2,   232.0,2,    3.43,2,    8.96,2,    0.00,2,    0.71,2,   3.147,2,   1.598,2,-999.000,9,  -999.0,9,  -999.0,9,-999.0000,9,-999.0000,9, -999.00,9, -999.00,9,  -999.0,9,  -999.0,-999.000,9,-999.000,-999.000,9,-999.0000,  11.8554,-999.0000,-999.000
  316N145_8,        I03,     457,          1,         28,         28,2,19950428,       2302,   -20.3160,   108.1515,       4975,   408.1,  10.6369,  34.9004,2,  34.8997,2,    235.7,2,   236.8,2,    4.26,2,   12.00,2,    0.00,2,    0.89,2,   3.228,2,   1.633,2,-999.000,9,  -999.0,9,  -999.0,9,-999.0000,9,-999.0000,9, -999.00,9, -999.00,9,  -999.0,9,  -999.0,-999.000,9,-999.000,-999.000,9,-999.0000,  10.5872,-999.0000,-999.000
  316N145_8,        I03,     457,          1,         27,         27,2,19950428,       2302,   -20.3160,   108.1515,       4975,   507.4,   9.1667,  34.6791,2,  34.6760,2,    226.0,2,   226.8,2,    7.60,2,   17.48,2,    0.00,2,    1.22,2,   2.690,2,   1.330,2,-999.000,9,  -999.0,9,  -999.0,9,-999.0000,9,-999.0000,9, -999.00,9, -999.00,9,  -999.0,9,  -999.0,-999.000,9,-999.000,-999.000,9,-999.0000,   9.1102,-999.0000,-999.000
  316N145_8,        I03,     457,          1,         26,         26,2,19950428,       2302,   -20.3160,   108.1515,       4975,   607.1,   7.4594,  34.5840,2,  34.5850,2,    160.4,2,   155.4,2,   34.35,2,   27.53,2,    0.00,2,    1.91,2,   0.566,2,   0.293,2,-999.000,9,  -999.0,9,  -999.0,9,-999.0000,9,-999.0000,9, -999.00,9, -999.00,9,  -999.0,9,  -999.0,-999.000,9,-999.000,-999.000,9,-999.0000,   7.3991,-999.0000,-999.000
  316N145_8,        I03,     457,          1,         25,         25,2,19950428,       2302,   -20.3160,   108.1515,       4975,   708.8,   6.3950,  34.5974,2,  34.5964,2,    114.4,2,   114.2,2,   60.07,2,   32.89,2,    0.00,2,    2.36,2,   0.095,2,   0.052,2,-999.000,9,  -999.0,9,  -999.0,9,-999.0000,9,-999.0000,9, -999.00,9, -999.00,9,  -999.0,9,  -999.0,-999.000,9,-999.000,-999.000,9,-999.0000,   6.3298,-999.0000,-999.000
  316N145_8,        I03,     457,          1,         24,         24,2,19950428,       2302,   -20.3160,   108.1515,       4975,   810.3,   5.7844,  34.6253,2,  34.6259,2,     94.0,3,    93.6,2,   78.94,2,   35.20,2,    0.00,2,    2.54,2,   0.020,2,   0.012,2,-999.000,9,  -999.0,9,  -999.0,9,-999.0000,9,-999.0000,9, -999.00,9, -999.00,9,  -999.0,9,  -999.0,-999.000,9,-999.000,-999.000,9,-999.0000,   5.7130,-999.0000,-999.000
  316N145_8,        I03,     457,          1,         23,         23,2,19950428,       2302,   -20.3160,   108.1515,       4975,   912.4,   5.4286,  34.6319,2,  34.6326,2,     91.1,3,    92.2,2,   86.50,2,   35.83,2,    0.00,2,    2.61,2,   0.012,2,   0.004,2,-999.000,9,  -999.0,9,  -999.0,9,-999.0000,9,-999.0000,9, -999.00,9, -999.00,9,  -999.0,9,  -999.0,-999.000,9,-999.000,-999.000,9,-999.0000,   5.3500,-999.0000,-999.000
  316N145_8,        I03,     457,          1,         22,         22,2,19950428,       2302,   -20.3160,   108.1515,       4975,  1012.7,   5.0724,  34.6327,2,  34.6335,2,     94.0,3,    93.2,2,   92.60,2,   36.05,2,    0.00,2,    2.62,2,   0.004,2,   0.004,2,-999.000,9,  -999.0,9,  -999.0,9,-999.0000,9,-999.0000,9, -999.00,9, -999.00,9,  -999.0,9,  -999.0,-999.000,9,-999.000,-999.000,9,-999.0000,   4.9872,-999.0000,-999.000
  316N145_8,        I03,     457,          1,         21,         21,2,19950428,       2302,   -20.3160,   108.1515,       4975,  1111.5,   4.7276,  34.6345,2,  34.6339,2,     99.1,3,    97.2,2,   97.03,2,   36.12,2,    0.00,2,    2.64,2,-999.000,9,-999.000,9,-999.000,9,  -999.0,9,  -999.0,9,-999.0000,9,   1.8910,2,   13.69,2, -999.00,9,  -999.0,9,  -999.0,   7.923,2,   0.023,-999.000,9,   0.0030,   4.6361,-999.0000,    0.12
  316N145_8,        I03,     457,          1,         20,         20,2,19950428,       2302,   -20.3160,   108.1515,       4975,  1212.2,   4.3666,  34.6386,2,  34.6381,2,    102.1,3,   103.4,2,   99.76,2,   36.13,2,    0.00,2,    2.63,2,-999.000,9,-999.000,9,-999.000,9,  -999.0,9,  -999.0,9,-999.0000,9,-999.0000,9, -999.00,9, -999.00,9,  -999.0,9,  -999.0,-999.000,9,-999.000,-999.000,9,-999.0000,   4.2693,-999.0000,-999.000
  316N145_8,        I03,     457,          1,         19,         19,2,19950428,       2302,   -20.3160,   108.1515,       4975,  1412.5,   3.7544,  34.6566,2,  34.6564,2,    114.5,2,   121.0,3,  102.29,2,   35.79,2,    0.00,2,    2.59,2,-999.000,9,-999.000,9,-999.000,9,  -999.0,9,  -999.0,9,-999.0000,9,   1.8790,2,   13.11,2, -999.00,9,  -999.0,9,  -999.0,   7.988,2,   0.023,-999.000,9,   0.0040,   3.6455,-999.0000,    0.12
  316N145_8,        I03,     457,          1,         18,         18,2,19950428,       2302,   -20.3160,   108.1515,       4975,  1617.0,   3.1989,  34.6783,2,  34.6778,2,    127.5,2,   128.8,2,  105.68,2,   35.29,2,    0.00,2,    2.53,2,-999.000,9,-999.000,9,-999.000,9,  -999.0,9,  -999.0,9,-999.0000,9,   1.8980,2,   12.77,2, -999.00,9,  -999.0,9,  -999.0,   8.046,2,   0.023,-999.000,9,   0.0040,   3.0785,-999.0000,    0.12
  316N145_8,        I03,     457,          1,         17,         17,2,19950428,       2302,   -20.3160,   108.1515,       4975,  1818.5,   2.6923,  34.7059,2,  34.7061,2,    135.9,2,   137.9,2,  114.61,2,   34.89,2,    0.00,2,    2.50,2,-999.000,9,-999.000,9,-999.000,9,  -999.0,9,  -999.0,9,-999.0000,9,   1.9150,2,   12.90,2, -999.00,9,  -999.0,9,  -999.0,   8.156,2,   0.024,-999.000,9,   0.0030,   2.5610,-999.0000,    0.12
  316N145_8,        I03,     457,          1,         16,         16,2,19950428,       2302,   -20.3160,   108.1515,       4975,  2021.5,   2.3647,  34.7204,2,  34.7191,2,    142.5,2,   208.5,4,  121.66,2,   34.70,2,    0.00,2,    2.48,2,-999.000,9,-999.000,9,-999.000,9,  -999.0,9,  -999.0,9,-999.0000,9,   1.9300,2,   13.62,2, -999.00,9,  -999.0,9,  -999.0,   8.171,2,   0.021,-999.000,9,   0.0030,   2.2205,-999.0000,    0.14
  316N145_8,        I03,     457,          1,         15,         15,2,19950428,       2302,   -20.3160,   108.1515,       4975,  2221.9,   2.1803,  34.7251,2,  34.7236,2,    148.0,2,   149.0,2,  124.45,2,   34.51,2,    0.00,2,    2.46,2,-999.000,9,-999.000,9,-999.000,9,  -999.0,9,  -999.0,9,-999.0000,9,   1.9230,2,   13.50,2, -999.00,9,  -999.0,9,  -999.0,   8.226,2,   0.053,-999.000,9,   0.0050,   2.0215,-999.0000,    0.14
  316N145_8,        I03,     457,          1,         14,         14,2,19950428,       2302,   -20.3160,   108.1515,       4975,  2424.3,   2.0253,  34.7264,2,  34.7258,2,    155.2,2,   154.5,2,  125.08,2,   34.27,2,    0.00,2,    2.44,2,-999.000,9,-999.000,9,-999.000,9,  -999.0,9,  -999.0,9,-999.0000,9,   1.9280,2,   13.33,2, -999.00,9,  -999.0,9,  -999.0,   8.177,2,   0.043,-999.000,9,   0.0100,   1.8512,-999.0000,    0.14
  316N145_8,        I03,     457,          1,         13,         13,2,19950428,       2302,   -20.3160,   108.1515,       4975,  2628.5,   1.8817,  34.7259,2,  34.7260,2,    159.7,2,   160.0,2,  125.49,2,   33.93,2,    0.00,2,    2.42,2,-999.000,9,-999.000,9,-999.000,9,  -999.0,9,  -999.0,9,-999.0000,9,   1.9210,2,   13.65,2, -999.00,9,  -999.0,9,  -999.0,   8.178,2,   0.021,-999.000,9,   0.0030,   1.6916,-999.0000,    0.14
  316N145_8,        I03,     457,          1,         12,         12,2,19950428,       2302,   -20.3160,   108.1515,       4975,  2831.9,   1.7304,  34.7249,2,  34.7234,2,    166.0,2,   167.1,2,  125.69,2,   33.64,2,    0.00,2,    2.36,2,-999.000,9,-999.000,9,-999.000,9,  -999.0,9,  -999.0,9,-999.0000,9,   1.9360,2,   12.87,2, -999.00,9,  -999.0,9,  -999.0,   8.300,2,   0.044,-999.000,9,   0.0050,   1.5243,-999.0000,    0.14
  316N145_8,        I03,     457,          1,         11,         11,2,19950428,       2302,   -20.3160,   108.1515,       4975,  3037.2,   1.5884,  34.7233,2,  34.7209,3,    172.6,2,   172.7,2,  125.90,2,   33.35,2,    0.00,2,    2.34,2,-999.000,9,-999.000,9,-999.000,9,  -999.0,9,  -999.0,9,-999.0000,9,-999.0000,9, -999.00,9, -999.00,9,  -999.0,9,  -999.0,-999.000,9,-999.000,-999.000,9,-999.0000,   1.3659,-999.0000,-999.000
  316N145_8,        I03,     457,          1,         10,         10,2,19950428,       2302,   -20.3160,   108.1515,       4975,  3240.7,   1.4868,  34.7213,2,  34.7199,2,    178.4,2,   177.5,2,  126.53,2,   33.21,2,    0.00,2,    2.32,2,-999.000,9,-999.000,9,-999.000,9,  -999.0,9,  -999.0,9,-999.0000,9,   1.9020,2,   12.63,2, -999.00,9,  -999.0,9,  -999.0,   8.201,2,   0.039,-999.000,9,   0.0050,   1.2468,-999.0000,    0.14
  316N145_8,        I03,     457,          1,          9,          9,2,19950428,       2302,   -20.3160,   108.1515,       4975,  3444.5,   1.3886,  34.7193,2,  34.7165,3,    182.4,2,   181.2,2,  127.17,2,   33.02,2,    0.00,2,    2.30,2,-999.000,9,-999.000,9,-999.000,9,  -999.0,9,  -999.0,9,-999.0000,9,-999.0000,9, -999.00,9, -999.00,9,  -999.0,9,  -999.0,-999.000,9,-999.000,-999.000,9,-999.0000,   1.1306,-999.0000,-999.000
  316N145_8,        I03,     457,          1,          8,          8,2,19950428,       2302,   -20.3160,   108.1515,       4975,  3648.0,   1.2944,  34.7172,2,  34.7165,2,    186.2,2,   185.4,2,  127.81,2,   32.93,2,    0.00,2,    2.29,2,-999.000,9,-999.000,9,-999.000,9,  -999.0,9,  -999.0,9,-999.0000,9,   1.8980,2,   12.30,2, -999.00,9,  -999.0,9,  -999.0,   8.159,2,   0.020,-999.000,9,   0.0030,   1.0182,-999.0000,    0.14
  316N145_8,        I03,     457,          1,          7,          7,2,19950428,       2302,   -20.3160,   108.1515,       4975,  3851.6,   1.2454,  34.7158,2,  34.7156,2,    187.9,2,   187.3,2,  128.88,2,   32.84,2,    0.00,2,    2.29,2,-999.000,9,-999.000,9,-999.000,9,  -999.0,9,  -999.0,9,-999.0000,9,   1.9080,2,   11.91,2, -999.00,9,  -999.0,9,  -999.0,   8.255,2,   0.040,-999.000,9,   0.0050,   0.9493,-999.0000,    0.14
  316N145_8,        I03,     457,          1,          6,          6,2,19950428,       2302,   -20.3160,   108.1515,       4975,  4055.9,   1.2058,  34.7145,2,  34.7138,2,    189.8,2,   189.5,2,  129.73,2,   32.85,2,    0.00,2,    2.27,2,-999.000,9,-999.000,9,-999.000,9,  -999.0,9,  -999.0,9,-999.0000,9,-999.0000,9, -999.00,9, -999.00,9,  -999.0,9,  -999.0,-999.000,9,-999.000,-999.000,9,-999.0000,   0.8891,-999.0000,-999.000
  316N145_8,        I03,     457,          1,          5,          5,2,19950428,       2302,   -20.3160,   108.1515,       4975,  4260.7,   1.1907,  34.7139,2,  34.7124,2,    191.0,2,   190.7,2,  129.72,2,   32.71,2,    0.00,2,    2.26,2,-999.000,9,-999.000,9,-999.000,9,  -999.0,9,  -999.0,9,-999.0000,9,   1.8860,2,   11.62,2, -999.00,9,  -999.0,9,  -999.0,   8.150,2,   0.057,-999.000,9,   0.0050,   0.8519,-999.0000,    0.14
  316N145_8,        I03,     457,          1,          4,          4,2,19950428,       2302,   -20.3160,   108.1515,       4975,  4465.3,   1.1864,  34.7136,2,  34.7130,2,    191.9,2,   192.3,2,  129.71,2,   32.67,2,    0.00,2,    2.26,2,-999.000,9,-999.000,9,-999.000,9,  -999.0,9,  -999.0,9,-999.0000,9,-999.0000,9, -999.00,9, -999.00,9,  -999.0,9,  -999.0,-999.000,9,-999.000,-999.000,9,-999.0000,   0.8249,-999.0000,-999.000
  316N145_8,        I03,     457,          1,          3,          3,2,19950428,       2302,   -20.3160,   108.1515,       4975,  4669.3,   1.1829,  34.7131,2,  34.7115,2,    192.2,2,   193.1,2,  129.91,2,   32.69,2,    0.00,2,    2.28,2,-999.000,9,-999.000,9,-999.000,9,  -999.0,9,  -999.0,9,-999.0000,9,   1.8030,3,   11.44,3, -999.00,9,  -999.0,9,  -999.0,   7.818,4,   0.036,-999.000,9,   0.0040,   0.7982,-999.0000,    0.14
  316N145_8,        I03,     457,          1,          2,          2,2,19950428,       2302,   -20.3160,   108.1515,       4975,  4873.5,   1.1829,  34.7126,2,  34.7117,2,    194.7,2,   194.6,2,  129.47,2,   32.65,2,    0.00,2,    2.27,2,-999.000,9,-999.000,9,-999.000,9,  -999.0,9,  -999.0,9,-999.0000,9,   1.8900,2,   11.08,2, -999.00,9,  -999.0,9,  -999.0,   8.111,2,   0.021,-999.000,9,   0.0030,   0.7743,-999.0000,    0.14
  316N145_8,        I03,     457,          1,          1,          1,2,19950428,       2302,   -20.3160,   108.1515,       4975,  5077.7,   1.1849,  34.7124,2,  34.7119,2,    196.2,2,   195.8,2,  129.03,2,   32.56,2,    0.00,2,    2.27,2,-999.000,9,-999.000,9,-999.000,9,  -999.0,9,  -999.0,9,-999.0000,9,   1.9000,2,   10.85,2, -999.00,9,  -999.0,9,  -999.0,   8.210,2,   0.040,-999.000,9,   0.0110,   0.7518,-999.0000,    0.14