BOTTLE,20140514CCHSIOSE
EXPOCODE,SECT_ID,STNNBR,CASTNO,SAMPNO,BTLNBR,BTLNBR_FLAG_W,DATE,TIME,LATITUDE,LONGITUDE,DEPTH,CTDPRS,CTDTMP,CTDSAL,CTDSAL_FLAG_W,SALNTY,SALNTY_FLAG_W,CTDOXY,CTDOXY_FLAG_W,OXYGEN,OXYGEN_FLAG_W,SILCAT,SILCAT_FLAG_W,NITRAT,NITRAT_FLAG_W,NITRIT,NITRIT_FLAG_W,PHSPHT,PHSPHT_FLAG_W,CFC-11,CFC-11_FLAG_W,CFC-12,CFC-12_FLAG_W,CFC113,CFC113_FLAG_W,TCARBN,TCARBN_FLAG_W,ALKALI,ALKALI_FLAG_W,TRITUM,TRITUM_FLAG_W,HELIUM,HELIUM_FLAG_W,DELHE3,DELHE3_FLAG_W,DELC13,DELC13_FLAG_W,DELC14,DELC14_FLAG_W,C14ERR,NEON,NEON_FLAG_W,NEONER,CCL4,CCL4_FLAG_W,HELIER,THETA,TRITER,DELHER
,,,,,,,,,,,METERS,DBAR,ITS-90,PSS-78,,PSS-78,,UMOL/KG,,UMOL/KG,,UMOL/KG,,UMOL/KG,,UMOL/KG,,UMOL/KG,,PMOL/KG,,PMOL/KG,,PMOL/KG,,UMOL/KG,,UMOL/KG,,TU,,NMOL/KG,,PERCNT,,/MILLE,,/MILLE,,/MILLE,NMOL/KG,,NMOL/KG,PMOL/KG,,NMOL/KG,DEG C,TU,PERCNT
  316N145_8,        I03,     454,          1,         36,         36,2,19950428,       0211,   -21.1508,   110.1488,       5042,     6.4,  27.5531,  35.0505,2,  35.0504,2,    199.1,2,   200.6,2,    3.34,2,    0.26,2,    0.00,2,    0.08,2,   1.728,2,   0.980,2,-999.000,9,  1950.8,2,  -999.0,5,   1.2326,2,   1.7336,2,   -1.24,2, -999.00,9,  -999.0,9,  -999.0,   6.759,2,   0.034,-999.000,9,   0.0087,  27.5516,   0.0042,    0.14
  316N145_8,        I03,     454,          1,         35,         35,2,19950428,       0211,   -21.1508,   110.1488,       5042,    55.9,  25.8012,  35.3839,2,  35.3677,2,    222.4,2,   224.1,2,    3.55,2,    0.26,2,    0.00,2,    0.06,2,   1.938,2,   1.085,2,-999.000,9,  1971.5,2,  2318.0,6,   1.2284,2,   1.7112,2,   -0.58,2, -999.00,9,  -999.0,9,  -999.0,   6.830,2,   0.034,-999.000,9,   0.0086,  25.7888,   0.0042,    0.14
  316N145_8,        I03,     454,          1,         34,         34,2,19950428,       0211,   -21.1508,   110.1488,       5042,   106.7,  21.5762,  35.4239,2,  35.4168,2,    190.5,2,   183.4,2,    5.86,2,    1.83,2,    0.22,2,    0.29,2,   2.037,2,   1.118,2,-999.000,9,  2032.9,2,  2322.0,2,   1.1752,2,   1.7298,2,    0.34,2, -999.00,9,  -999.0,9,  -999.0,   6.971,2,   0.035,-999.000,9,   0.0086,  21.5554,   0.0041,    0.14
  316N145_8,        I03,     454,          1,         33,         33,2,19950428,       0211,   -21.1508,   110.1488,       5042,   156.4,  19.5743,  35.5799,2,  35.5811,2,    173.7,2,   172.0,2,    7.54,2,    5.86,2,    0.01,2,    0.48,2,   2.110,2,   1.151,2,-999.000,9,  2066.7,2,  2332.0,2,   1.1278,2,   1.7363,2,    0.85,2, -999.00,9,  -999.0,9,  -999.0,   7.027,2,   0.035,-999.000,9,   0.0087,  19.5457,   0.0040,    0.14
  316N145_8,        I03,     454,          1,         32,         32,2,19950428,       0211,   -21.1508,   110.1488,       5042,   206.1,  17.8610,  35.7577,2,  35.7541,2,    194.3,2,   193.2,2,    5.21,2,    4.24,2,    0.01,2,    0.40,2,   2.399,2,   1.280,2,-999.000,9,  2078.2,2,  2346.0,2,   1.0702,2,   1.7538,2,   -0.14,2, -999.00,9,  -999.0,9,  -999.0,   7.147,2,   0.036,-999.000,9,   0.0088,  17.8256,   0.0039,    0.14
  316N145_8,        I03,     454,          1,         31,         31,2,19950428,       0211,   -21.1508,   110.1488,       5042,   255.8,  15.5910,  35.6158,2,  35.5991,2,    207.9,2,   206.5,2,    4.79,2,    5.26,2,    0.00,2,    0.48,2,   2.638,2,   1.381,2,-999.000,9,  2091.5,2,  2339.0,2,   0.9389,2,   1.7366,2,   -0.33,2, -999.00,9,  -999.0,9,  -999.0,   7.134,2,   0.036,-999.000,9,   0.0087,  15.5509,   0.0037,    0.14
  316N145_8,        I03,     454,          1,         30,         30,2,19950428,       0211,   -21.1508,   110.1488,       5042,   306.4,  13.6717,  35.3605,2,  35.3508,2,    221.5,2,   213.0,2,    5.63,2,    7.72,2,    0.00,2,    0.63,2,   3.186,2,   1.648,2,-999.000,9,  2100.9,2,  2326.0,2,   0.8085,2,   1.7481,2,    0.16,2, -999.00,9,  -999.0,9,  -999.0,   7.280,2,   0.036,-999.000,9,   0.0087,  13.6279,   0.0034,    0.14
  316N145_8,        I03,     454,          1,         29,         29,2,19950428,       0211,   -21.1508,   110.1488,       5042,   355.9,  11.9449,  35.1114,2,  35.1144,2,    234.8,2,   231.8,2,    3.52,2,    9.10,2,    0.00,2,    0.73,2,   3.164,2,   1.608,2,-999.000,9,  2100.2,2,  2318.0,2,-999.0000,9,-999.0000,9, -999.00,9, -999.00,9,  -999.0,9,  -999.0,-999.000,9,-999.000,-999.000,9,-999.0000,  11.8983,-999.0000,-999.000
  316N145_8,        I03,     454,          1,         28,         28,2,19950428,       0211,   -21.1508,   110.1488,       5042,   406.4,  10.6819,  34.9065,2,  34.9040,2,    229.4,2,   237.0,2,    4.14,2,   12.11,2,    0.00,2,    0.90,2,   3.246,2,   1.640,2,-999.000,9,  2105.6,2,  2306.0,2,   0.5829,2,   1.7826,2,   -0.43,2, -999.00,9,  -999.0,9,  -999.0,   7.463,2,   0.037,-999.000,9,   0.0089,  10.6323,   0.0030,    0.14
  316N145_8,        I03,     454,          1,         27,         27,2,19950428,       0211,   -21.1508,   110.1488,       5042,   506.8,   9.0182,  34.6626,2,  34.6637,2,    214.3,2,   221.7,2,    8.77,2,   18.55,2,    0.00,2,    1.29,2,   2.510,2,   1.238,2,-999.000,9,  2125.9,2,  2296.0,2,   0.4105,2,   1.7699,2,    0.46,2, -999.00,9,  -999.0,9,  -999.0,   7.566,2,   0.038,-999.000,9,   0.0088,   8.9623,   0.0028,    0.14
  316N145_8,        I03,     454,          1,         26,         26,2,19950428,       0211,   -21.1508,   110.1488,       5042,   606.8,   7.5608,  34.5750,2,  34.5745,2,    168.5,2,   170.1,2,   28.98,2,   26.47,2,    0.00,2,    1.84,2,   0.875,2,   0.443,2,-999.000,9,  2177.3,2,  2306.0,2,   0.1922,2,   1.8323,2,    3.96,2, -999.00,9,  -999.0,9,  -999.0,   7.779,2,   0.039,-999.000,9,   0.0092,   7.5002,   0.0025,    0.14
  316N145_8,        I03,     454,          1,         25,         25,2,19950428,       0211,   -21.1508,   110.1488,       5042,   707.5,   6.5815,  34.5865,2,  34.5873,2,    123.0,2,   123.7,2,   54.02,2,   32.20,2,    0.00,2,    2.30,2,   0.159,2,   0.084,2,-999.000,9,  2228.8,2,  2327.0,2,  -0.0020,2,   1.8525,2,    7.25,2, -999.00,9,  -999.0,9,  -999.0,   7.873,2,   0.039,-999.000,9,   0.0093,   6.5155,   0.0022,    0.14
  316N145_8,        I03,     454,          1,         24,         24,2,19950428,       0211,   -21.1508,   110.1488,       5042,   809.0,   6.1212,  34.6227,2,  34.6254,2,     99.7,2,    98.9,2,   70.87,2,   34.86,2,    0.00,2,    2.52,2,   0.030,3,   0.020,4,-999.000,9,  2257.1,2,  -999.0,5,-999.0000,9,-999.0000,9, -999.00,9, -999.00,9,  -999.0,9,  -999.0,-999.000,9,-999.000,-999.000,9,-999.0000,   6.0478,-999.0000,-999.000
  316N145_8,        I03,     454,          1,         37,         37,2,19950428,       0211,   -21.1508,   110.1488,       5042,   909.2,   5.5901,  34.6330,2,  34.6329,2,     94.6,2,    92.8,2,   83.74,2,   35.99,2,    0.00,2,    2.63,2,   0.016,2,   0.012,2,-999.000,9,  2275.7,2,  2360.0,2,   0.0159,2,   1.8562,2,   11.90,2, -999.00,9,  -999.0,9,  -999.0,   7.816,2,   0.039,-999.000,9,   0.0093,   5.5107,   0.0022,    0.14
  316N145_8,        I03,     454,          1,         22,         22,2,19950428,       0211,   -21.1508,   110.1488,       5042,  1010.4,   5.1736,  34.6376,2,  34.6356,2,     93.0,2,    92.9,2,   90.71,2,   36.30,2,    0.00,2,    2.66,2,   0.008,2,   0.001,2,-999.000,9,  2284.6,2,  2365.0,2,-999.0000,9,-999.0000,9, -999.00,9, -999.00,9,  -999.0,9,  -999.0,-999.000,9,-999.000,-999.000,9,-999.0000,   5.0878,-999.0000,-999.000
  316N145_8,        I03,     454,          1,         21,         21,2,19950428,       0211,   -21.1508,   110.1488,       5042,  1110.1,   4.7665,  34.6330,2,  34.6317,2,     96.5,2,    96.6,2,   96.84,2,   36.45,2,    0.00,2,    2.67,2,   0.006,2,   0.007,2,-999.000,9,  2290.2,2,  2374.0,2,   0.0149,2,   1.8883,2,   13.88,2, -999.00,9,  -999.0,9,  -999.0,   7.871,2,   0.039,-999.000,9,   0.0094,   4.6749,   0.0022,    0.14
  316N145_8,        I03,     454,          1,         20,         20,2,19950428,       0211,   -21.1508,   110.1488,       5042,  1211.4,   4.4387,  34.6380,2,  34.6378,2,    101.4,2,   101.8,2,   98.73,2,   36.35,2,    0.00,2,    2.66,2,   0.004,2,   0.002,2,-999.000,9,  2291.8,2,  2372.0,2,-999.0000,9,-999.0000,9, -999.00,9, -999.00,9,  -999.0,9,  -999.0,-999.000,9,-999.000,-999.000,9,-999.0000,   4.3408,-999.0000,-999.000
  316N145_8,        I03,     454,          1,         19,         19,2,19950428,       0211,   -21.1508,   110.1488,       5042,  1411.9,   3.8290,  34.6470,2,  34.6460,2,    112.9,2,   115.6,2,  100.61,2,   36.04,2,    0.00,2,    2.62,2,-999.000,9,-999.000,9,-999.000,9,  2291.0,2,  2378.0,2,   0.0048,2,   1.8747,2,   12.67,2, -999.00,9,  -999.0,9,  -999.0,   7.938,2,   0.040,-999.000,9,   0.0094,   3.7194,   0.0022,    0.14
  316N145_8,        I03,     454,          1,         18,         18,2,19950428,       0211,   -21.1508,   110.1488,       5042,  1613.7,   3.1493,  34.6758,2,  34.6761,2,    130.2,2,   131.5,2,  104.84,2,   35.43,2,    0.00,2,    2.55,2,   0.004,2,   0.001,2,-999.000,9,  2289.0,2,  2379.0,2,-999.0000,9,-999.0000,9, -999.00,9, -999.00,9,  -999.0,9,  -999.0,-999.000,9,-999.000,-999.000,9,-999.0000,   3.0298,-999.0000,-999.000
  316N145_8,        I03,     454,          1,         17,         17,2,19950428,       0211,   -21.1508,   110.1488,       5042,  1816.1,   2.7181,  34.7008,2,  34.7003,2,    139.9,2,   140.8,2,  110.15,2,   34.92,2,    0.00,2,    2.51,2,-999.000,9,-999.000,9,-999.000,9,  2290.2,2,  2388.0,2,   0.0005,2,   1.9002,2,   13.33,2, -999.00,9,  -999.0,9,  -999.0,   8.089,2,   0.040,-999.000,9,   0.0095,   2.5867,   0.0022,    0.14
  316N145_8,        I03,     454,          1,         16,         16,2,19950428,       0211,   -21.1508,   110.1488,       5042,  2019.1,   2.4312,  34.7164,2,  34.7158,2,    147.4,2,   144.9,2,  116.55,2,   34.66,2,    0.00,2,    2.51,3,   0.002,2,   0.001,2,-999.000,9,  2293.7,2,  2391.0,2,-999.0000,9,   1.8940,2,   13.36,2, -999.00,9,  -999.0,9,  -999.0,   8.055,2,   0.023,-999.000,9,   0.0030,   2.2863,-999.0000,    0.12
  316N145_8,        I03,     454,          1,         15,         15,2,19950428,       0211,   -21.1508,   110.1488,       5042,  2222.3,   2.2086,  34.7231,2,  34.7229,2,    148.6,2,  -999.0,5,  121.25,2,   34.61,2,    0.00,2,    2.51,3,  -0.001,2,   0.001,2,-999.000,9,  2296.2,2,  2398.0,2,-999.0000,9,-999.0000,9, -999.00,9, -999.00,9,  -999.0,9,  -999.0,-999.000,9,-999.000,-999.000,9,-999.0000,   2.0494,-999.0000,-999.000
  316N145_8,        I03,     454,          1,         14,         14,2,19950428,       0211,   -21.1508,   110.1488,       5042,  2425.3,   2.0390,  34.7254,2,  34.7256,2,    156.8,2,   156.5,2,  123.16,2,   34.30,2,    0.00,2,    2.47,3,   0.003,2,   0.001,2,-999.000,9,  2295.5,2,  2397.0,2,-999.0000,9,   1.9130,2,   13.69,2, -999.00,9,  -999.0,9,  -999.0,   8.168,2,   0.023,-999.000,9,   0.0030,   1.8645,-999.0000,    0.12
  316N145_8,        I03,     454,          1,         13,         13,2,19950428,       0211,   -21.1508,   110.1488,       5042,  2627.2,   1.8800,  34.7257,2,  34.7258,2,    162.7,2,   162.4,2,  124.43,2,   33.99,2,    0.00,2,    2.45,3,-999.000,9,-999.000,9,-999.000,9,  2293.9,2,  2400.0,2,-999.0000,9,   1.9100,2,   13.52,2, -999.00,9,  -999.0,9,  -999.0,   8.155,2,   0.023,-999.000,9,   0.0030,   1.6900,-999.0000,    0.12
  316N145_8,        I03,     454,          1,         12,         12,2,19950428,       0211,   -21.1508,   110.1488,       5042,  2831.9,   1.7374,  34.7251,2,  34.7252,2,    170.1,2,   168.8,2,  124.18,2,   33.74,2,    0.00,2,    2.41,3,-999.000,9,-999.000,9,-999.000,9,  2290.8,2,  2400.0,2,-999.0000,9,   1.9260,2,   13.21,2, -999.00,9,  -999.0,9,  -999.0,   8.270,2,   0.023,-999.000,9,   0.0030,   1.5312,-999.0000,    0.12
  316N145_8,        I03,     454,          1,         11,         11,2,19950428,       0211,   -21.1508,   110.1488,       5042,  3036.0,   1.6023,  34.7236,2,  34.7241,2,    175.0,2,   174.5,2,  125.01,2,   33.48,2,    0.00,2,    2.38,3,-999.000,9,-999.000,9,-999.000,9,  2288.7,6,  2398.0,6,-999.0000,9,   1.9100,2,   12.86,2, -999.00,9,  -999.0,9,  -999.0,   8.209,2,   0.023,-999.000,9,   0.0030,   1.3796,-999.0000,    0.12
  316N145_8,        I03,     454,          1,         10,         10,2,19950428,       0211,   -21.1508,   110.1488,       5042,  3240.1,   1.4793,  34.7215,2,  34.7221,2,    179.5,2,   179.0,2,  125.84,2,   33.33,2,    0.00,2,    2.36,3,   0.007,3,   0.002,2,-999.000,9,  2286.3,2,  2396.0,2,-999.0000,9,   1.8890,2,   11.76,2, -999.00,9,  -999.0,9,  -999.0,   8.108,2,   0.023,-999.000,9,   0.0030,   1.2395,-999.0000,    0.12
  316N145_8,        I03,     454,          1,          9,          9,2,19950428,       0211,   -21.1508,   110.1488,       5042,  3443.2,   1.3577,  34.7188,2,  34.7193,2,    182.3,2,   182.9,2,  127.97,2,   33.28,2,    0.00,2,    2.35,3,-999.000,9,-999.000,9,-999.000,9,  2286.8,2,  2398.0,2,-999.0000,9,   1.8910,2,   12.47,2, -999.00,9,  -999.0,9,  -999.0,   8.116,2,   0.016,-999.000,9,   0.0020,   1.1006,-999.0000,    0.14
  316N145_8,        I03,     454,          1,          8,          8,2,19950428,       0211,   -21.1508,   110.1488,       5042,  3647.8,   1.2750,  34.7169,2,  34.7170,2,    185.6,2,   186.3,2,  128.59,2,   33.13,2,    0.00,2,    2.33,2,-999.000,9,-999.000,9,-999.000,9,  2285.4,2,  2402.0,2,-999.0000,9,   1.8980,2,   12.03,2, -999.00,9,  -999.0,9,  -999.0,   8.208,2,   0.023,-999.000,9,   0.0030,   0.9993,-999.0000,    0.12
  316N145_8,        I03,     454,          1,          7,          7,2,19950428,       0211,   -21.1508,   110.1488,       5042,  3850.7,   1.2242,  34.7153,2,  34.7158,2,    187.3,2,   188.0,2,  129.64,2,   33.07,2,    0.00,2,    2.33,2,-999.000,9,-999.000,9,-999.000,9,  2284.8,2,  2400.0,2,-999.0000,9,   1.9060,2,   11.65,2, -999.00,9,  -999.0,9,  -999.0,   8.224,2,   0.016,-999.000,9,   0.0020,   0.9288,-999.0000,    0.14
  316N145_8,        I03,     454,          1,          6,          6,2,19950428,       0211,   -21.1508,   110.1488,       5042,  4055.7,   1.1975,  34.7143,2,  34.7138,2,    189.3,2,   189.4,2,  130.26,2,   33.13,2,    0.00,2,    2.33,2,   0.001,2,  -0.001,2,-999.000,9,  2286.2,2,  2404.0,2,-999.0000,9,   1.8880,2,   11.67,2, -999.00,9,  -999.0,9,  -999.0,   8.155,2,   0.023,-999.000,9,   0.0030,   0.8810,-999.0000,    0.12
  316N145_8,        I03,     454,          1,          5,          5,2,19950428,       0211,   -21.1508,   110.1488,       5042,  4258.9,   1.1822,  34.7138,2,  34.7132,2,    192.5,2,   190.8,2,  130.66,2,   33.02,2,    0.00,2,    2.32,2,-999.000,9,-999.000,9,-999.000,9,  2286.8,2,  2401.0,2,-999.0000,9,   1.8940,2,   11.72,2, -999.00,9,  -999.0,9,  -999.0,   8.197,2,   0.016,-999.000,9,   0.0020,   0.8439,-999.0000,    0.14
  316N145_8,        I03,     454,          1,          4,          4,2,19950428,       0211,   -21.1508,   110.1488,       5042,  4463.7,   1.1820,  34.7136,2,  34.7132,2,    191.3,2,   191.7,2,  130.84,2,   33.03,2,    0.00,2,    2.31,2,-999.000,9,-999.000,9,-999.000,9,  2286.9,2,  2407.0,2,-999.0000,9,   1.9420,3,   11.15,2, -999.00,9,  -999.0,9,  -999.0,   8.390,3,   0.024,-999.000,9,   0.0030,   0.8208,-999.0000,    0.12
  316N145_8,        I03,     454,          1,          3,          3,2,19950428,       0211,   -21.1508,   110.1488,       5042,  4667.2,   1.1914,  34.7125,2,  34.7134,2,    191.2,2,   192.3,2,  130.59,2,   32.92,2,    0.00,2,    2.30,2,-999.000,9,-999.000,9,-999.000,9,  2286.9,2,  2402.0,2,-999.0000,9,   1.9000,2,   11.57,2, -999.00,9,  -999.0,9,  -999.0,   8.155,2,   0.016,-999.000,9,   0.0020,   0.8066,-999.0000,    0.14
  316N145_8,        I03,     454,          1,          2,          2,2,19950428,       0211,   -21.1508,   110.1488,       5042,  4872.5,   1.1988,  34.7125,2,  34.7119,2,    192.3,2,   193.0,2,  129.91,2,   32.92,2,    0.00,2,    2.29,2,   0.001,2,   0.002,2,-999.000,9,  2283.9,2,  2404.0,2,-999.0000,9,   1.8890,2,   11.23,2, -999.00,9,  -999.0,9,  -999.0,   8.143,2,   0.023,-999.000,9,   0.0030,   0.7898,-999.0000,    0.13
  316N145_8,        I03,     454,          1,          1,          1,2,19950428,       0211,   -21.1508,   110.1488,       5042,  5148.2,   1.2025,  34.7118,2,  34.7113,2,    196.1,2,   195.7,2,  129.22,2,   32.77,2,    0.00,2,    2.28,2,   0.002,2,   0.002,2,-999.000,9,  2282.3,2,  2396.0,2,-999.0000,9,   1.8480,3,   11.18,3, -999.00,9,  -999.0,9,  -999.0,   7.960,3,   0.016,-999.000,9,   0.0020,   0.7603,-999.0000,    0.14