BOTTLE,20140514CCHSIOSE
EXPOCODE,SECT_ID,STNNBR,CASTNO,SAMPNO,BTLNBR,BTLNBR_FLAG_W,DATE,TIME,LATITUDE,LONGITUDE,DEPTH,CTDPRS,CTDTMP,CTDSAL,CTDSAL_FLAG_W,SALNTY,SALNTY_FLAG_W,CTDOXY,CTDOXY_FLAG_W,OXYGEN,OXYGEN_FLAG_W,SILCAT,SILCAT_FLAG_W,NITRAT,NITRAT_FLAG_W,NITRIT,NITRIT_FLAG_W,PHSPHT,PHSPHT_FLAG_W,CFC-11,CFC-11_FLAG_W,CFC-12,CFC-12_FLAG_W,CFC113,CFC113_FLAG_W,TCARBN,TCARBN_FLAG_W,ALKALI,ALKALI_FLAG_W,TRITUM,TRITUM_FLAG_W,HELIUM,HELIUM_FLAG_W,DELHE3,DELHE3_FLAG_W,DELC13,DELC13_FLAG_W,DELC14,DELC14_FLAG_W,C14ERR,NEON,NEON_FLAG_W,NEONER,CCL4,CCL4_FLAG_W,HELIER,THETA,TRITER,DELHER
,,,,,,,,,,,METERS,DBAR,ITS-90,PSS-78,,PSS-78,,UMOL/KG,,UMOL/KG,,UMOL/KG,,UMOL/KG,,UMOL/KG,,UMOL/KG,,PMOL/KG,,PMOL/KG,,PMOL/KG,,UMOL/KG,,UMOL/KG,,TU,,NMOL/KG,,PERCNT,,/MILLE,,/MILLE,,/MILLE,NMOL/KG,,NMOL/KG,PMOL/KG,,NMOL/KG,DEG C,TU,PERCNT
  316N145_8,        I03,     504,          1,         36,         36,2,19950513,       0728,   -20.0023,    76.1842,       4705,     5.4,  26.2545,  34.6896,2,  34.6872,2,    202.4,2,   203.7,2,    2.89,2,    0.05,2,    0.00,2,    0.11,2,   1.700,2,   1.000,2,-999.000,9,  1924.1,6,  2270.4,6,-999.0000,9,-999.0000,9, -999.00,9, -999.00,9,  -999.0,9,  -999.0,-999.000,9,-999.000,-999.000,9,-999.0000,  26.2533,-999.0000,-999.000
  316N145_8,        I03,     504,          1,         35,         35,2,19950513,       0728,   -20.0023,    76.1842,       4705,    54.3,  26.1588,  34.6968,2,  34.7161,2,    204.8,2,   204.2,2,    2.90,2,    0.05,2,    0.00,2,    0.11,2,-999.000,9,-999.000,9,-999.000,9,  -999.0,9,  -999.0,9,-999.0000,9,-999.0000,9, -999.00,9, -999.00,9,  -999.0,9,  -999.0,-999.000,9,-999.000,-999.000,9,-999.0000,  26.1467,-999.0000,-999.000
  316N145_8,        I03,     504,          1,         34,         34,2,19950513,       0728,   -20.0023,    76.1842,       4705,   104.4,  22.4631,  35.0764,2,  35.1020,2,    201.0,2,   174.8,2,    6.42,2,    2.98,2,    0.48,2,    0.42,2,   1.798,2,   1.012,2,-999.000,9,  -999.0,9,  -999.0,9,-999.0000,9,-999.0000,9, -999.00,9, -999.00,9,  -999.0,9,  -999.0,-999.000,9,-999.000,-999.000,9,-999.0000,  22.4421,-999.0000,-999.000
  316N145_8,        I03,     504,          1,         33,         33,2,19950513,       0728,   -20.0023,    76.1842,       4705,   154.4,  20.5813,  35.3147,2,  35.3048,2,    162.8,2,   162.8,2,    8.61,2,    6.56,2,    0.02,2,    0.57,2,-999.000,9,-999.000,9,-999.000,9,  -999.0,9,  -999.0,9,-999.0000,9,-999.0000,9, -999.00,9, -999.00,9,  -999.0,9,  -999.0,-999.000,9,-999.000,-999.000,9,-999.0000,  20.5522,-999.0000,-999.000
  316N145_8,        I03,     504,          1,         32,         32,2,19950513,       0728,   -20.0023,    76.1842,       4705,   204.7,  18.9169,  35.4744,2,  35.4648,2,    164.4,2,   162.3,2,    9.71,2,    7.31,2,    0.01,2,    0.63,2,   1.868,2,   1.029,2,-999.000,9,  -999.0,9,  -999.0,9,-999.0000,9,-999.0000,9, -999.00,9, -999.00,9,  -999.0,9,  -999.0,-999.000,9,-999.000,-999.000,9,-999.0000,  18.8804,-999.0000,-999.000
  316N145_8,        I03,     504,          1,         31,         31,2,19950513,       0728,   -20.0023,    76.1842,       4705,   255.3,  17.3883,  35.7325,2,  35.7346,2,    199.1,2,   199.9,2,    4.22,2,    3.01,2,    0.01,2,    0.39,2,-999.000,9,-999.000,9,-999.000,9,  -999.0,9,  -999.0,9,-999.0000,9,-999.0000,9, -999.00,9, -999.00,9,  -999.0,9,  -999.0,-999.000,9,-999.000,-999.000,9,-999.0000,  17.3453,-999.0000,-999.000
  316N145_8,        I03,     504,          1,         30,         30,2,19950513,       0728,   -20.0023,    76.1842,       4705,   305.3,  15.5845,  35.5880,2,  35.5990,2,    214.3,2,   214.5,2,    3.57,2,    3.36,2,    0.01,2,    0.43,2,   2.510,2,   1.335,2,-999.000,9,  -999.0,9,  -999.0,9,-999.0000,9,-999.0000,9, -999.00,9, -999.00,9,  -999.0,9,  -999.0,-999.000,9,-999.000,-999.000,9,-999.0000,  15.5366,-999.0000,-999.000
  316N145_8,        I03,     504,          1,         29,         29,2,19950513,       0728,   -20.0023,    76.1842,       4705,   356.0,  14.0378,  35.3937,2,  35.3952,2,    219.8,2,   219.7,2,    3.57,2,    5.88,2,    0.01,2,    0.57,2,   2.692,2,   1.408,2,-999.000,9,  -999.0,9,  -999.0,9,-999.0000,9,-999.0000,9, -999.00,9, -999.00,9,  -999.0,9,  -999.0,-999.000,9,-999.000,-999.000,9,-999.0000,  13.9858,-999.0000,-999.000
  316N145_8,        I03,     504,          1,         28,         28,2,19950513,       0728,   -20.0023,    76.1842,       4705,   406.3,  12.7339,  35.2072,2,  35.2049,2,    224.4,2,   227.7,2,    3.79,2,    8.26,2,    0.01,2,    0.70,2,   2.781,2,   1.439,2,-999.000,9,  -999.0,9,  -999.0,9,-999.0000,9,-999.0000,9, -999.00,9, -999.00,9,  -999.0,9,  -999.0,-999.000,9,-999.000,-999.000,9,-999.0000,  12.6782,-999.0000,-999.000
  316N145_8,        I03,     504,          1,         27,         27,2,19950513,       0728,   -20.0023,    76.1842,       4705,   456.6,  11.7171,  35.0566,2,  35.0580,2,    229.4,2,   230.2,2,    4.45,2,   10.24,2,    0.00,2,    0.82,2,   2.785,2,   1.419,2,-999.000,9,  -999.0,9,  -999.0,9,-999.0000,9,-999.0000,9, -999.00,9, -999.00,9,  -999.0,9,  -999.0,-999.000,9,-999.000,-999.000,9,-999.0000,  11.6577,-999.0000,-999.000
  316N145_8,        I03,     504,          1,         26,         26,2,19950513,       0728,   -20.0023,    76.1842,       4705,   506.7,  10.7650,  34.9053,2,  34.9144,2,    229.6,2,   230.9,2,    5.11,2,   12.42,2,    0.00,2,    0.95,2,   2.623,2,   1.329,2,-999.000,9,  -999.0,9,  -999.0,9,-999.0000,9,-999.0000,9, -999.00,9, -999.00,9,  -999.0,9,  -999.0,-999.000,9,-999.000,-999.000,9,-999.0000,  10.7025,-999.0000,-999.000
  316N145_8,        I03,     504,          1,         25,         25,2,19950513,       0728,   -20.0023,    76.1842,       4705,   607.4,   9.4669,  34.7213,2,  34.7218,2,    226.2,2,   222.9,2,    7.74,2,   16.78,2,    0.00,2,    1.21,2,   2.087,2,   1.044,2,-999.000,9,  -999.0,9,  -999.0,9,-999.0000,9,-999.0000,9, -999.00,9, -999.00,9,  -999.0,9,  -999.0,-999.000,9,-999.000,-999.000,9,-999.0000,   9.3975,-999.0000,-999.000
  316N145_8,        I03,     504,          1,         24,         24,2,19950513,       0728,   -20.0023,    76.1842,       4705,   707.6,   7.7954,  34.5564,2,  34.5582,2,    207.6,2,   204.4,2,   14.96,2,   22.84,2,    0.00,2,    1.58,2,   1.030,2,   0.522,2,-999.000,9,  -999.0,9,  -999.0,9,-999.0000,9,-999.0000,9, -999.00,9, -999.00,9,  -999.0,9,  -999.0,-999.000,9,-999.000,-999.000,9,-999.0000,   7.7230,-999.0000,-999.000
  316N145_8,        I03,     504,          1,         23,         23,2,19950513,       0728,   -20.0023,    76.1842,       4705,   807.7,   6.0699,  34.4757,2,  34.4764,2,    177.9,2,   176.4,2,   34.21,2,   29.17,2,    0.00,2,    2.03,2,   0.304,2,   0.156,2,-999.000,9,  -999.0,9,  -999.0,9,-999.0000,9,-999.0000,9, -999.00,9, -999.00,9,  -999.0,9,  -999.0,-999.000,9,-999.000,-999.000,9,-999.0000,   5.9972,-999.0000,-999.000
  316N145_8,        I03,     504,          1,         22,         22,2,19950513,       0728,   -20.0023,    76.1842,       4705,   908.1,   5.1331,  34.4999,2,  34.5031,2,    148.5,2,   148.3,2,   56.29,2,   33.03,2,    0.00,2,    2.34,2,   0.077,2,   0.037,2,-999.000,9,  -999.0,9,  -999.0,9,-999.0000,9,-999.0000,9, -999.00,9, -999.00,9,  -999.0,9,  -999.0,-999.000,9,-999.000,-999.000,9,-999.0000,   5.0571,-999.0000,-999.000
  316N145_8,        I03,     504,          1,         21,         21,2,19950513,       0728,   -20.0023,    76.1842,       4705,  1008.6,   4.6790,  34.5656,2,  34.5676,2,    126.3,2,   125.6,2,   74.90,2,   35.10,2,    0.00,2,    2.51,2,   0.012,2,   0.006,2,-999.000,9,  -999.0,9,  -999.0,9,-999.0000,9,   1.8610,2,    9.48,2, -999.00,9,  -999.0,9,  -999.0,   7.859,2,   0.018,-999.000,9,   0.0030,   4.5972,-999.0000,    0.14
  316N145_8,        I03,     504,          1,         20,         20,2,19950513,       0728,   -20.0023,    76.1842,       4705,  1110.1,   4.2583,  34.5995,2,  34.6006,2,    122.9,2,   124.0,2,   83.66,2,   35.60,2,    0.00,2,    2.56,2,   0.005,2,   0.000,2,-999.000,9,  -999.0,9,  -999.0,9,-999.0000,9,   1.8630,2,   10.84,2, -999.00,9,  -999.0,9,  -999.0,   7.860,2,   0.022,-999.000,9,   0.0020,   4.1711,-999.0000,    0.10
  316N145_8,        I03,     504,          1,         19,         19,2,19950513,       0728,   -20.0023,    76.1842,       4705,  1210.7,   3.9398,  34.6277,2,  34.6304,2,    125.6,2,   125.6,2,   89.35,2,   35.55,2,    0.00,2,    2.55,2,-999.000,9,-999.000,9,-999.000,9,  -999.0,9,  -999.0,9,-999.0000,9,   1.8850,2,   11.02,2, -999.00,9,  -999.0,9,  -999.0,   7.958,2,   0.022,-999.000,9,   0.0020,   3.8466,-999.0000,    0.10
  316N145_8,        I03,     504,          1,         18,         18,2,19950513,       0728,   -20.0023,    76.1842,       4705,  1310.4,   3.7237,  34.6681,2,  34.6677,2,    127.3,2,   127.6,2,   94.83,2,   35.44,2,    0.00,2,    2.54,2,-999.000,9,-999.000,9,-999.000,9,  -999.0,9,  -999.0,9,-999.0000,9,   1.8340,3,   11.69,2, -999.00,9,  -999.0,9,  -999.0,   7.961,2,   0.018,-999.000,9,   0.0070,   3.6239,-999.0000,    0.14
  316N145_8,        I03,     504,          1,         17,         17,2,19950513,       0728,   -20.0023,    76.1842,       4705,  1412.0,   3.5775,  34.6999,2,  34.6995,2,    125.4,2,   126.1,2,  100.49,2,   35.43,2,    0.00,2,    2.54,2,-999.000,9,-999.000,9,-999.000,9,  -999.0,9,  -999.0,9,-999.0000,9,   1.8730,2,   12.07,2, -999.00,9,  -999.0,9,  -999.0,   7.986,2,   0.018,-999.000,9,   0.0030,   3.4704,-999.0000,    0.14
  316N145_8,        I03,     504,          1,         16,         16,2,19950513,       0728,   -20.0023,    76.1842,       4705,  1615.6,   3.1406,  34.7151,2,  34.7156,2,    134.2,2,   134.8,2,  105.98,2,   35.07,2,    0.00,2,    2.50,2,-999.000,9,-999.000,9,-999.000,9,  -999.0,9,  -999.0,9,-999.0000,9,-999.0000,9, -999.00,9, -999.00,9,  -999.0,9,  -999.0,-999.000,9,-999.000,-999.000,9,-999.0000,   3.0209,-999.0000,-999.000
  316N145_8,        I03,     504,          1,         15,         15,2,19950513,       0728,   -20.0023,    76.1842,       4705,  1818.3,   2.7976,  34.7263,2,  34.7258,2,    141.2,2,   141.8,2,  110.83,2,   34.87,2,    0.00,2,    2.49,2,-999.000,9,-999.000,9,-999.000,9,  -999.0,9,  -999.0,9,-999.0000,9,   1.8740,2,   14.06,2, -999.00,9,  -999.0,9,  -999.0,   8.025,2,   0.018,-999.000,9,   0.0030,   2.6648,-999.0000,    0.14
  316N145_8,        I03,     504,          1,         14,         14,2,19950513,       0728,   -20.0023,    76.1842,       4705,  2016.5,   2.4823,  34.7279,2,  34.7283,2,    150.3,2,   151.0,2,  113.32,2,   34.42,2,    0.00,2,    2.43,2,-999.000,9,-999.000,9,-999.000,9,  -999.0,9,  -999.0,9,-999.0000,9,   1.8850,2,   14.44,2, -999.00,9,  -999.0,9,  -999.0,   8.068,2,   0.030,-999.000,9,   0.0040,   2.3368,-999.0000,    0.15
  316N145_8,        I03,     504,          1,         13,         13,2,19950513,       0728,   -20.0023,    76.1842,       4705,  2214.0,   2.2239,  34.7259,2,  34.7262,2,    160.0,2,   162.0,2,  113.49,2,   33.87,2,    0.00,2,    2.39,2,-999.000,9,-999.000,9,-999.000,9,  -999.0,9,  -999.0,9,-999.0000,9,   1.8830,2,   15.34,2, -999.00,9,  -999.0,9,  -999.0,   8.051,2,   0.018,-999.000,9,   0.0030,   2.0651,-999.0000,    0.14
  316N145_8,        I03,     504,          1,         12,         12,2,19950513,       0728,   -20.0023,    76.1842,       4705,  2421.5,   1.9992,  34.7246,2,  34.7264,2,    170.8,2,   171.3,2,  113.44,2,   33.26,2,    0.00,2,    2.33,2,-999.000,9,-999.000,9,-999.000,9,  -999.0,9,  -999.0,9,-999.0000,9,   1.8850,2,   15.95,2, -999.00,9,  -999.0,9,  -999.0,   8.083,2,   0.030,-999.000,9,   0.0040,   1.8258,-999.0000,    0.15
  316N145_8,        I03,     504,          1,         11,         11,2,19950513,       0728,   -20.0023,    76.1842,       4705,  2629.1,   1.8252,  34.7258,2,  34.7264,2,    179.8,2,   179.3,2,  113.45,2,   32.80,2,    0.00,2,    2.28,2,-999.000,9,-999.000,9,-999.000,9,  -999.0,9,  -999.0,9,-999.0000,9,   1.8800,2,   16.13,2, -999.00,9,  -999.0,9,  -999.0,   8.135,2,   0.018,-999.000,9,   0.0040,   1.6361,-999.0000,    0.14
  316N145_8,        I03,     504,          1,         10,         10,2,19950513,       0728,   -20.0023,    76.1842,       4705,  2830.7,   1.7018,  34.7267,2,  34.7276,2,    185.5,2,   184.7,2,  113.85,2,   32.49,2,    0.00,2,    2.26,2,-999.000,9,-999.000,9,-999.000,9,  -999.0,9,  -999.0,9,-999.0000,9,   1.8940,2,   15.46,2, -999.00,9,  -999.0,9,  -999.0,   8.141,2,   0.030,-999.000,9,   0.0030,   1.4964,-999.0000,    0.15
  316N145_8,        I03,     504,          1,          9,          9,2,19950513,       0728,   -20.0023,    76.1842,       4705,  3033.1,   1.5822,  34.7271,2,  34.7274,2,    187.6,2,   188.0,2,  116.25,2,   32.44,2,    0.00,2,    2.25,2,-999.000,9,-999.000,9,-999.000,9,  -999.0,9,  -999.0,9,-999.0000,9,   1.8920,2,   13.81,2, -999.00,9,  -999.0,9,  -999.0,   8.117,2,   0.018,-999.000,9,   0.0030,   1.3601,-999.0000,    0.14
  316N145_8,        I03,     504,          1,          8,          8,2,19950513,       0728,   -20.0023,    76.1842,       4705,  3236.4,   1.4869,  34.7261,2,  34.7266,2,    188.8,2,   188.9,2,  119.79,2,   32.59,2,    0.00,2,    2.26,2,-999.000,9,-999.000,9,-999.000,9,  -999.0,9,  -999.0,9,-999.0000,9,   1.9020,2,   12.33,2, -999.00,9,  -999.0,9,  -999.0,   8.132,2,   0.022,-999.000,9,   0.0020,   1.2473,-999.0000,    0.10
  316N145_8,        I03,     504,          1,          7,          7,2,19950513,       0728,   -20.0023,    76.1842,       4705,  3439.5,   1.4232,  34.7240,2,  34.7254,2,    188.5,2,   187.7,2,  123.11,2,   32.74,2,    0.00,2,    2.27,2,-999.000,9,-999.000,9,-999.000,9,  -999.0,9,  -999.0,9,-999.0000,9,   1.9040,2,   12.17,2, -999.00,9,  -999.0,9,  -999.0,   8.163,2,   0.031,-999.000,9,   0.0040,   1.1649,-999.0000,    0.15
  316N145_8,        I03,     504,          1,          6,          6,2,19950513,       0728,   -20.0023,    76.1842,       4705,  3643.1,   1.3936,  34.7222,2,  34.7223,2,    187.8,2,   187.1,2,  125.76,2,   32.89,2,    0.00,2,    2.29,2,-999.000,9,-999.000,9,-999.000,9,  -999.0,9,  -999.0,9,-999.0000,9,   1.9050,2,   12.11,2, -999.00,9,  -999.0,9,  -999.0,   8.149,2,   0.031,-999.000,9,   0.0040,   1.1153,-999.0000,    0.15
  316N145_8,        I03,     504,          1,          5,          5,2,19950513,       0728,   -20.0023,    76.1842,       4705,  3847.3,   1.3867,  34.7204,2,  34.7215,2,    186.5,2,   186.4,2,  127.73,2,   33.09,2,    0.00,2,    2.30,2,-999.000,9,-999.000,9,-999.000,9,  -999.0,9,  -999.0,9,-999.0000,9,   1.8990,2,   11.72,2, -999.00,9,  -999.0,9,  -999.0,   8.200,2,   0.018,-999.000,9,   0.0030,   1.0871,-999.0000,    0.14
  316N145_8,        I03,     504,          1,          4,          4,2,19950513,       0728,   -20.0023,    76.1842,       4705,  4104.8,   1.3942,  34.7195,2,  34.7194,2,    185.0,2,   185.0,2,  129.72,2,   33.24,2,    0.00,2,    2.31,2,-999.000,9,-999.000,9,-999.000,9,  -999.0,9,  -999.0,9,-999.0000,9,   1.9130,2,   11.26,2, -999.00,9,  -999.0,9,  -999.0,   8.164,2,   0.022,-999.000,9,   0.0020,   1.0667,-999.0000,    0.10
  316N145_8,        I03,     504,          1,          3,          3,2,19950513,       0728,   -20.0023,    76.1842,       4705,  4359.3,   1.4150,  34.7193,2,  34.7194,2,    185.3,2,   185.8,2,  130.79,2,   33.39,2,    0.00,2,    2.31,2,-999.000,9,-999.000,9,-999.000,9,  -999.0,9,  -999.0,9,-999.0000,9,-999.0000,9, -999.00,9, -999.00,9,  -999.0,9,  -999.0,-999.000,9,-999.000,-999.000,9,-999.0000,   1.0585,-999.0000,-999.000
  316N145_8,        I03,     504,          1,          2,          2,2,19950513,       0728,   -20.0023,    76.1842,       4705,  4617.1,   1.4413,  34.7186,2,  34.7198,2,    184.9,2,   185.3,2,  131.18,2,   33.44,2,    0.00,2,    2.31,2,-999.000,9,-999.000,9,-999.000,9,  -999.0,9,  -999.0,9,-999.0000,9,   1.8850,2,   11.59,2, -999.00,9,  -999.0,9,  -999.0,   8.120,2,   0.022,-999.000,9,   0.0020,   1.0544,-999.0000,    0.10
  316N145_8,        I03,     504,          1,          1,          1,2,19950513,       0728,   -20.0023,    76.1842,       4705,  4850.3,   1.4687,  34.7187,2,  34.7200,2,    185.4,2,   185.1,2,  131.12,2,   33.43,2,    0.00,2,    2.32,2,-999.000,9,-999.000,9,-999.000,9,  -999.0,9,  -999.0,9,-999.0000,9,   1.8930,2,   11.31,2, -999.00,9,  -999.0,9,  -999.0,   8.149,2,   0.030,-999.000,9,   0.0040,   1.0534,-999.0000,    0.15