BOTTLE,20140514CCHSIOSE
EXPOCODE,SECT_ID,STNNBR,CASTNO,SAMPNO,BTLNBR,BTLNBR_FLAG_W,DATE,TIME,LATITUDE,LONGITUDE,DEPTH,CTDPRS,CTDTMP,CTDSAL,CTDSAL_FLAG_W,SALNTY,SALNTY_FLAG_W,CTDOXY,CTDOXY_FLAG_W,OXYGEN,OXYGEN_FLAG_W,SILCAT,SILCAT_FLAG_W,NITRAT,NITRAT_FLAG_W,NITRIT,NITRIT_FLAG_W,PHSPHT,PHSPHT_FLAG_W,CFC-11,CFC-11_FLAG_W,CFC-12,CFC-12_FLAG_W,CFC113,CFC113_FLAG_W,TCARBN,TCARBN_FLAG_W,ALKALI,ALKALI_FLAG_W,TRITUM,TRITUM_FLAG_W,HELIUM,HELIUM_FLAG_W,DELHE3,DELHE3_FLAG_W,DELC13,DELC13_FLAG_W,DELC14,DELC14_FLAG_W,C14ERR,NEON,NEON_FLAG_W,NEONER,CCL4,CCL4_FLAG_W,HELIER,THETA,TRITER,DELHER
,,,,,,,,,,,METERS,DBAR,ITS-90,PSS-78,,PSS-78,,UMOL/KG,,UMOL/KG,,UMOL/KG,,UMOL/KG,,UMOL/KG,,UMOL/KG,,PMOL/KG,,PMOL/KG,,PMOL/KG,,UMOL/KG,,UMOL/KG,,TU,,NMOL/KG,,PERCNT,,/MILLE,,/MILLE,,/MILLE,NMOL/KG,,NMOL/KG,PMOL/KG,,NMOL/KG,DEG C,TU,PERCNT
  316N145_8,        I03,     507,          1,         36,         36,2,19950517,       0520,   -19.9988,    74.1705,       4942,     7.4,  24.3150,  35.1145,2,  35.1146,2,    210.1,2,   210.7,2,    2.96,2,    0.05,2,    0.00,2,    0.10,2,-999.000,9,-999.000,9,   0.091,3,  1957.9,2,  2297.2,6,   1.1034,2,   1.7224,2,   -1.41,2,    1.20,2,    78.9,2,     4.2,   6.811,2,   0.034,   2.163,2,   0.0086,  24.3135,   0.0040,    0.14
  316N145_8,        I03,     507,          1,         35,         35,2,19950517,       0520,   -19.9988,    74.1705,       4942,    57.0,  24.1018,  35.1866,2,  35.1710,2,    215.5,2,   212.7,2,    2.95,2,    0.05,2,    0.00,2,    0.10,2,-999.000,9,-999.000,9,-999.000,9,  -999.0,9,  -999.0,9,   1.0872,2,   1.7353,2,   -1.10,2, -999.00,9,  -999.0,9,  -999.0,   6.888,2,   0.034,-999.000,9,   0.0087,  24.0897,   0.0040,    0.14
  316N145_8,        I03,     507,          1,         34,         34,2,19950517,       0520,   -19.9988,    74.1705,       4942,   108.1,  19.9054,  35.7627,2,  35.7655,2,    218.4,2,   215.7,2,    2.93,2,    0.08,2,    0.01,2,    0.16,2,-999.000,9,-999.000,9,   0.157,3,  -999.0,9,  -999.0,9,   1.0979,2,   1.7356,2,   -0.88,2,    0.87,2,    84.2,2,     3.7,   7.029,2,   0.035,   1.426,2,   0.0087,  19.8854,   0.0039,    0.14
  316N145_8,        I03,     507,          1,         33,         33,2,19950517,       0520,   -19.9988,    74.1705,       4942,   157.6,  18.1967,  35.7872,2,  35.7856,2,    205.2,2,   207.6,2,    3.14,2,    1.53,2,    0.01,2,    0.27,2,-999.000,9,-999.000,9,-999.000,9,  -999.0,9,  -999.0,9,   1.0384,2,   1.7652,2,   -0.68,2,    0.89,2,    92.2,2,     3.9,   7.189,2,   0.036,-999.000,9,   0.0088,  18.1694,   0.0039,    0.14
  316N145_8,        I03,     507,          1,         32,         32,2,19950517,       0520,   -19.9988,    74.1705,       4942,   208.3,  16.5762,  35.6937,2,  35.6949,2,    207.5,2,   207.6,2,    3.34,2,    2.98,2,    0.01,2,    0.38,2,-999.000,9,-999.000,9,   0.073,3,  -999.0,9,  -999.0,9,   0.9567,2,   1.7633,2,    0.07,2,    0.95,2,   104.9,2,     4.2,   7.238,2,   0.036,   0.636,2,   0.0088,  16.5423,   0.0037,    0.14
  316N145_8,        I03,     507,          1,         31,         31,2,19950517,       0520,   -19.9988,    74.1705,       4942,   257.3,  14.9468,  35.5182,2,  35.5040,2,    212.1,2,   212.3,2,    3.77,2,    5.10,2,    0.01,2,    0.50,2,-999.000,9,-999.000,9,-999.000,9,  -999.0,9,  -999.0,9,   0.8778,2,   1.7562,2,    0.21,2, -999.00,9,  -999.0,9,  -999.0,   7.296,2,   0.036,-999.000,9,   0.0088,  14.9077,   0.0036,    0.14
  316N145_8,        I03,     507,          1,         30,         30,2,19950517,       0520,   -19.9988,    74.1705,       4942,   309.3,  13.5027,  35.3154,2,  35.3240,2,    221.1,2,   222.9,2,    3.31,2,    6.74,2,    0.01,2,    0.60,2,-999.000,9,-999.000,9,   0.117,3,  -999.0,9,  -999.0,9,   0.8002,2,   1.7568,2,   -0.11,2,    1.04,2,   108.8,2,     4.0,   7.352,2,   0.037,   1.052,2,   0.0088,  13.4587,   0.0034,    0.14
  316N145_8,        I03,     507,          1,         29,         29,2,19950517,       0520,   -19.9988,    74.1705,       4942,   358.7,  12.4850,  35.1702,2,  35.1946,2,    227.3,2,   227.9,2,    3.74,2,    8.47,2,    0.01,2,    0.70,2,-999.000,9,-999.000,9,-999.000,9,  -999.0,9,  -999.0,9,-999.0000,9,-999.0000,9, -999.00,9, -999.00,9,  -999.0,9,  -999.0,-999.000,9,-999.000,-999.000,9,-999.0000,  12.4366,-999.0000,-999.000
  316N145_8,        I03,     507,          1,         28,         28,2,19950517,       0520,   -19.9988,    74.1705,       4942,   405.6,  11.8147,  35.0687,2,  35.0695,2,    228.5,2,   230.8,2,    4.16,2,   10.06,2,    0.01,2,    0.79,2,-999.000,9,-999.000,9,   0.077,3,  -999.0,9,  -999.0,9,   0.6872,2,   1.7729,2,    0.18,2,    1.13,2,    79.5,2,     3.9,   7.460,2,   0.037,   1.156,2,   0.0089,  11.7618,   0.0033,    0.14
  316N145_8,        I03,     507,          1,         27,         27,2,19950517,       0520,   -19.9988,    74.1705,       4942,   503.6,  10.1310,  34.8122,2,  34.8120,2,    231.1,2,   230.5,2,    5.46,2,   14.26,2,    0.01,2,    1.04,2,-999.000,9,-999.000,9,   0.088,3,  -999.0,9,  -999.0,9,   0.5292,2,-999.0000,9, -999.00,9,    1.08,2,    51.6,2,     3.8,-999.000,9,-999.000,   1.407,2,-999.0000,  10.0713,   0.0030,-999.000
  316N145_8,        I03,     507,          1,         26,         26,2,19950517,       0520,   -19.9988,    74.1705,       4942,   606.5,   8.7638,  34.6358,2,  34.6353,2,    222.6,2,   218.8,2,    8.93,2,   19.17,2,    0.01,2,    1.34,2,-999.000,9,-999.000,9,   0.034,3,  -999.0,9,  -999.0,9,   0.3613,2,   1.7748,2,    1.59,2,    1.08,2,    22.5,2,     3.9,   7.574,2,   0.038,   1.394,2,   0.0089,   8.6978,   0.0028,    0.14
  316N145_8,        I03,     507,          1,         25,         25,2,19950517,       0520,   -19.9988,    74.1705,       4942,   706.9,   7.1662,  34.5124,2,  34.5155,2,    196.1,2,   196.4,2,   19.39,2,   24.92,2,    0.01,2,    1.72,2,-999.000,9,-999.000,9,-999.000,9,  -999.0,9,  -999.0,9,-999.0000,9,-999.0000,9, -999.00,9,    0.91,2,   -37.1,2,     3.6,-999.000,9,-999.000,-999.000,9,-999.0000,   7.0973,-999.0000,-999.000
  316N145_8,        I03,     507,          1,         24,         24,2,19950517,       0520,   -19.9988,    74.1705,       4942,   810.7,   5.6109,  34.5016,2,  34.5067,2,    152.1,2,   152.9,2,   47.74,2,   31.58,2,    0.01,2,    2.21,2,-999.000,9,-999.000,9,-999.000,9,  -999.0,9,  -999.0,9,-999.0000,9,   1.8313,2,    6.22,2,    0.65,2,  -128.1,2,     6.5,   7.852,2,   0.039,-999.000,9,   0.0092,   5.5407,-999.0000,    0.14
  316N145_8,        I03,     507,          1,         23,         23,2,19950517,       0520,   -19.9988,    74.1705,       4942,   907.8,   4.7208,  34.5051,2,  34.5065,2,    142.4,2,   146.0,2,   61.68,2,   33.63,2,    0.01,2,    2.40,2,-999.000,9,-999.000,9,-999.000,9,  -999.0,9,  -999.0,9,-999.0000,9,-999.0000,9, -999.00,9,    0.34,2,  -140.1,2,    11.3,-999.000,9,-999.000,-999.000,9,-999.0000,   4.6477,-999.0000,-999.000
  316N145_8,        I03,     507,          1,         22,         22,2,19950517,       0520,   -19.9988,    74.1705,       4942,  1008.1,   4.5159,  34.5954,2,  34.5967,2,    123.0,2,   121.6,2,   80.03,2,   35.24,2,    0.01,2,    2.54,2,-999.000,9,-999.000,9,   0.005,3,  -999.0,9,  -999.0,9,   0.0057,2,   1.8543,2,   10.52,2, -999.00,9,  -999.0,9,  -999.0,   7.916,2,   0.040,   0.034,2,   0.0093,   4.4355,   0.0022,    0.14
  316N145_8,        I03,     507,          1,         21,         21,2,19950517,       0520,   -19.9988,    74.1705,       4942,  1106.1,   4.1974,  34.6065,2,  34.6077,2,    122.7,2,   125.5,2,   83.05,2,   35.23,2,    0.01,2,    2.53,2,-999.000,9,-999.000,9,-999.000,9,  -999.0,9,  -999.0,9,-999.0000,9,-999.0000,9, -999.00,9,    0.31,2,  -175.1,2,     2.7,-999.000,9,-999.000,-999.000,9,-999.0000,   4.1109,-999.0000,-999.000
  316N145_8,        I03,     507,          1,         20,         20,2,19950517,       0520,   -19.9988,    74.1705,       4942,  1205.8,   4.0022,  34.6503,2,  34.6516,2,    124.7,2,   122.8,2,   90.26,2,   35.31,2,    0.01,2,    2.55,2,-999.000,9,-999.000,9,   0.020,3,  -999.0,9,  -999.0,9,   0.0032,2,   1.8747,2,   11.67,2,    0.09,2,  -179.3,2,     2.7,   7.981,2,   0.040,  -0.010,2,   0.0094,   3.9088,   0.0022,    0.14
  316N145_8,        I03,     507,          1,         19,         19,2,19950517,       0520,   -19.9988,    74.1705,       4942,  1401.6,   3.6511,  34.7053,2,  34.7052,2,    123.0,2,   122.8,2,  100.36,2,   35.30,2,    0.01,2,    2.55,2,-999.000,9,-999.000,9,-999.000,9,  -999.0,9,  -999.0,9,   0.0030,2,   1.8922,2,   12.58,2,    0.20,2,  -179.5,2,    24.6,   8.051,2,   0.040,-999.000,9,   0.0095,   3.5441,   0.0022,    0.14
  316N145_8,        I03,     507,          1,         18,         18,2,19950517,       0520,   -19.9988,    74.1705,       4942,  1611.2,   3.1636,  34.7126,2,  34.7138,2,    134.0,2,   135.7,2,  104.07,2,   34.70,2,    0.01,2,    2.49,2,-999.000,9,-999.000,9,   0.020,3,  -999.0,9,  -999.0,9,  -0.0001,2,   1.8812,2,   13.21,2,    0.16,2,  -181.8,2,     2.5,   8.030,2,   0.040,   0.005,2,   0.0094,   3.0440,   0.0022,    0.14
  316N145_8,        I03,     507,          1,         17,         17,2,19950517,       0520,   -19.9988,    74.1705,       4942,  1816.4,   2.7368,  34.7283,2,  34.7273,2,    143.0,2,   143.2,2,  110.90,2,   34.49,2,    0.01,2,    2.46,2,-999.000,9,-999.000,9,-999.000,9,  -999.0,9,  -999.0,9,   0.0007,2,   1.8940,2,   14.34,2,    0.03,2,  -188.7,2,     3.0,   8.084,2,   0.040,-999.000,9,   0.0095,   2.6050,   0.0022,    0.14
  316N145_8,        I03,     507,          1,         16,         16,2,19950517,       0520,   -19.9988,    74.1705,       4942,  2018.1,   2.4310,  34.7287,2,  34.7285,2,    153.1,2,   152.5,2,  113.07,2,   34.03,2,    0.01,2,    2.43,2,-999.000,9,-999.000,9,   0.008,3,  -999.0,9,  -999.0,9,-999.0000,9,   1.8900,2,   14.91,2,    0.11,2,  -188.5,2,     3.4,   8.081,2,   0.032,   0.028,2,   0.0030,   2.2862,-999.0000,    0.12
  316N145_8,        I03,     507,          1,         15,         15,2,19950517,       0520,   -19.9988,    74.1705,       4942,  2221.5,   2.1281,  34.7251,2,  34.7236,2,    165.8,2,   166.5,2,  112.12,2,   33.24,2,    0.01,2,    2.35,2,-999.000,9,-999.000,9,-999.000,9,  -999.0,9,  -999.0,9,-999.0000,9,   1.8850,2,   16.03,2,    0.29,2,  -189.6,2,     2.2,   8.094,2,   0.036,-999.000,9,   0.0040,   1.9702,-999.0000,    0.14
  316N145_8,        I03,     507,          1,         14,         14,2,19950517,       0520,   -19.9988,    74.1705,       4942,  2423.8,   1.9271,  34.7239,2,  34.7244,2,    176.0,2,   175.1,2,  112.28,2,   32.79,2,    0.00,2,    2.31,2,-999.000,9,-999.000,9,   0.024,3,  -999.0,9,  -999.0,9,-999.0000,9,   1.8910,2,   16.31,2,    0.25,2,  -185.0,2,     2.9,   8.119,2,   0.034,   0.029,2,   0.0040,   1.7547,-999.0000,    0.12
  316N145_8,        I03,     507,          1,         13,         13,2,19950517,       0520,   -19.9988,    74.1705,       4942,  2627.4,   1.7734,  34.7257,2,  34.7261,2,    180.4,2,   179.5,2,  114.00,2,   32.48,2,    0.00,2,    2.28,2,-999.000,9,-999.000,9,-999.000,9,  -999.0,9,  -999.0,9,-999.0000,9,   1.9010,2,   16.17,2,    0.28,2,  -186.0,2,     2.2,   8.143,2,   0.036,-999.000,9,   0.0080,   1.5854,-999.0000,    0.14
  316N145_8,        I03,     507,          1,         12,         12,2,19950517,       0520,   -19.9988,    74.1705,       4942,  2831.7,   1.6714,  34.7268,2,  34.7273,2,    182.9,2,   184.4,2,  115.27,2,   32.37,2,    0.00,2,    2.27,2,-999.000,9,-999.000,9,  -0.007,3,  -999.0,9,  -999.0,9,-999.0000,9,   1.9010,2,   15.27,2,    0.06,2,  -186.1,2,     2.2,   8.160,2,   0.038,   0.009,2,   0.0040,   1.4666,-999.0000,    0.12
  316N145_8,        I03,     507,          1,         11,         11,2,19950517,       0520,   -19.9988,    74.1705,       4942,  3032.5,   1.5629,  34.7259,2,  34.7267,2,    185.0,2,   184.6,2,  118.35,2,   32.41,2,    0.00,2,    2.26,2,-999.000,9,-999.000,9,-999.000,9,  -999.0,9,  -999.0,9,-999.0000,9,   1.8780,2,   13.91,2,    0.18,2,  -197.0,2,     2.7,   8.147,2,   0.035,-999.000,9,   0.0050,   1.3413,-999.0000,    0.14
  316N145_8,        I03,     507,          1,         10,         10,2,19950517,       0520,   -19.9988,    74.1705,       4942,  3239.2,   1.4849,  34.7265,2,  34.7269,2,    188.6,2,   188.4,2,  118.73,2,   32.21,2,    0.00,2,    2.25,2,-999.000,9,-999.000,9,   0.019,3,  -999.0,9,  -999.0,9,-999.0000,9,   1.8810,2,   12.65,2,    0.25,2,  -188.4,2,     2.2,   8.141,2,   0.029,   0.025,2,   0.0030,   1.2450,-999.0000,    0.12
  316N145_8,        I03,     507,          1,          9,          9,2,19950517,       0520,   -19.9988,    74.1705,       4942,  3444.7,   1.4253,  34.7242,2,  34.7237,2,    187.3,2,   187.7,2,  122.48,2,   32.49,2,    0.00,2,    2.27,2,-999.000,9,-999.000,9,-999.000,9,  -999.0,9,  -999.0,9,-999.0000,9,   1.8890,2,   12.13,2,    0.22,2,  -190.2,6,     1.8,   8.163,2,   0.047,-999.000,9,   0.0050,   1.1664,-999.0000,    0.14
  316N145_8,        I03,     507,          1,          8,          8,2,19950517,       0520,   -19.9988,    74.1705,       4942,  3647.5,   1.4009,  34.7228,2,  34.7222,2,    185.6,2,   186.0,2,  126.25,2,   32.72,2,    0.00,2,    2.29,2,-999.000,9,-999.000,9,   0.002,3,  -999.0,9,  -999.0,9,-999.0000,9,   1.8840,2,   11.82,2,    0.22,2,  -180.3,2,     3.4,   8.150,2,   0.029,   0.033,2,   0.0030,   1.1219,-999.0000,    0.12
  316N145_8,        I03,     507,          1,          7,          7,2,19950517,       0520,   -19.9988,    74.1705,       4942,  3847.5,   1.3865,  34.7204,2,  34.7196,2,    184.1,2,   183.9,2,  129.58,2,   33.05,2,    0.00,2,    2.30,2,-999.000,9,-999.000,9,-999.000,9,  -999.0,9,  -999.0,9,-999.0000,9,   1.8960,2,   11.87,2,    0.20,2,  -188.1,2,     2.3,   8.207,2,   0.046,-999.000,9,   0.0100,   1.0869,-999.0000,    0.14
  316N145_8,        I03,     507,          1,          6,          6,2,19950517,       0520,   -19.9988,    74.1705,       4942,  4054.0,   1.3911,  34.7195,2,  34.7198,2,    183.5,2,   183.4,2,  131.10,2,   33.23,2,    0.00,2,    2.32,2,-999.000,9,-999.000,9,  -0.002,3,  -999.0,9,  -999.0,9,-999.0000,9,   1.8880,2,   11.78,2,    0.14,2,  -181.5,2,     3.4,   8.117,2,   0.055,   0.014,2,   0.0030,   1.0692,-999.0000,    0.12
  316N145_8,        I03,     507,          1,          5,          5,2,19950517,       0520,   -19.9988,    74.1705,       4942,  4260.7,   1.4063,  34.7192,2,  34.7190,2,    182.7,2,   183.2,2,  131.48,2,   33.17,2,    0.00,2,    2.32,2,-999.000,9,-999.000,9,-999.000,9,  -999.0,9,  -999.0,9,-999.0000,9,   1.8820,2,   11.91,2,   -0.01,3,  -209.4,2,     2.3,   8.209,2,   0.035,-999.000,9,   0.0040,   1.0612,-999.0000,    0.14
  316N145_8,        I03,     507,          1,          4,          4,2,19950517,       0520,   -19.9988,    74.1705,       4942,  4465.3,   1.4277,  34.7192,2,  34.7190,2,    182.7,2,   182.9,2,  131.64,2,   33.21,2,    0.00,2,    2.33,2,-999.000,9,-999.000,9,  -0.007,3,  -999.0,9,  -999.0,9,-999.0000,9,   1.8920,2,   11.68,2,    0.14,2,  -204.4,6,     3.8,   8.182,2,   0.028,   0.003,2,   0.0030,   1.0588,-999.0000,    0.12
  316N145_8,        I03,     507,          1,          3,          3,2,19950517,       0520,   -19.9988,    74.1705,       4942,  4668.6,   1.4477,  34.7188,2,  34.7190,2,    182.2,2,   182.6,2,  132.02,2,   33.25,2,    0.00,2,    2.32,2,-999.000,9,-999.000,9,-999.000,9,  -999.0,9,  -999.0,9,-999.0000,9,   1.7900,3,   11.70,2,    0.15,2,  -203.6,2,     3.0,   7.764,4,   0.054,-999.000,9,   0.0130,   1.0546,-999.0000,    0.14
  316N145_8,        I03,     507,          1,          2,          2,2,19950517,       0520,   -19.9988,    74.1705,       4942,  4873.4,   1.4714,  34.7198,2,  34.7190,2,    182.3,2,   182.6,2,  132.17,2,   33.28,2,    0.00,2,    2.32,2,-999.000,9,-999.000,9,   0.014,3,  -999.0,9,  -999.0,9,-999.0000,9,   1.8740,2,   11.66,2,    0.16,2,  -201.8,2,     3.2,   8.099,2,   0.053,  -0.020,2,   0.0030,   1.0532,-999.0000,    0.12
  316N145_8,        I03,     507,          1,          1,          1,2,19950517,       0520,   -19.9988,    74.1705,       4942,  5048.4,   1.4931,  34.7189,2,  34.7188,2,    183.0,2,   182.6,2,  132.10,2,   33.22,2,    0.00,2,    2.32,2,-999.000,9,-999.000,9,  -0.001,3,  -999.0,9,  -999.0,9,-999.0000,9,   1.8830,2,   11.61,2,   -0.01,2,  -202.5,2,     2.2,   8.127,2,   0.057,  -0.018,2,   0.0120,   1.0530,-999.0000,    0.14