BOTTLE,20140514CCHSIOSE
EXPOCODE,SECT_ID,STNNBR,CASTNO,SAMPNO,BTLNBR,BTLNBR_FLAG_W,DATE,TIME,LATITUDE,LONGITUDE,DEPTH,CTDPRS,CTDTMP,CTDSAL,CTDSAL_FLAG_W,SALNTY,SALNTY_FLAG_W,CTDOXY,CTDOXY_FLAG_W,OXYGEN,OXYGEN_FLAG_W,SILCAT,SILCAT_FLAG_W,NITRAT,NITRAT_FLAG_W,NITRIT,NITRIT_FLAG_W,PHSPHT,PHSPHT_FLAG_W,CFC-11,CFC-11_FLAG_W,CFC-12,CFC-12_FLAG_W,CFC113,CFC113_FLAG_W,TCARBN,TCARBN_FLAG_W,ALKALI,ALKALI_FLAG_W,TRITUM,TRITUM_FLAG_W,HELIUM,HELIUM_FLAG_W,DELHE3,DELHE3_FLAG_W,DELC13,DELC13_FLAG_W,DELC14,DELC14_FLAG_W,C14ERR,NEON,NEON_FLAG_W,NEONER,CCL4,CCL4_FLAG_W,HELIER,THETA,TRITER,DELHER
,,,,,,,,,,,METERS,DBAR,ITS-90,PSS-78,,PSS-78,,UMOL/KG,,UMOL/KG,,UMOL/KG,,UMOL/KG,,UMOL/KG,,UMOL/KG,,PMOL/KG,,PMOL/KG,,PMOL/KG,,UMOL/KG,,UMOL/KG,,TU,,NMOL/KG,,PERCNT,,/MILLE,,/MILLE,,/MILLE,NMOL/KG,,NMOL/KG,PMOL/KG,,NMOL/KG,DEG C,TU,PERCNT
  316N145_8,        I03,     501,          1,         36,         36,2,19950512,       1043,   -20.0000,    78.3588,       4507,    11.4,  25.8759,  35.0100,2,  35.0112,2,    204.4,2,   205.6,2,    2.90,2,    0.24,2,    0.00,2,    0.10,2,   1.814,2,   1.030,2,-999.000,9,  1943.3,2,  2291.0,2,   1.0943,2,   1.7129,2,   -0.96,2,    1.20,2,    61.0,2,     3.9,   6.774,2,   0.034,-999.000,9,   0.0086,  25.8734,   0.0039,    0.14
  316N145_8,        I03,     501,          1,         35,         35,2,19950512,       1043,   -20.0000,    78.3588,       4507,    81.2,  23.0620,  35.3577,2,  35.3675,2,    226.8,2,   225.9,2,    3.09,2,    0.24,2,    0.00,2,    0.11,2,   2.138,2,   1.184,2,-999.000,9,  1982.9,2,  2314.0,2,   1.1281,2,   1.7239,2,   -0.76,2, -999.00,9,  -999.0,9,  -999.0,   6.928,2,   0.035,-999.000,9,   0.0086,  23.0453,   0.0040,    0.14
  316N145_8,        I03,     501,          1,         33,         33,2,19950512,       1043,   -20.0000,    78.3588,       4507,   156.4,  20.3988,  35.6488,2,  35.6340,2,    196.7,2,   196.2,2,    3.92,2,    1.90,2,    0.06,2,    0.28,2,   2.231,2,   1.225,2,-999.000,9,  2037.6,2,  2332.0,2,   1.1019,2,   1.7353,2,   -0.56,2,    0.92,2,    89.7,2,     3.6,   7.020,2,   0.035,-999.000,9,   0.0087,  20.3694,   0.0039,    0.14
  316N145_8,        I03,     501,          1,         34,         34,2,19950512,       1043,   -20.0000,    78.3588,       4507,   156.5,  20.5286,  35.6326,2,  35.6241,2,    198.8,2,   197.8,2,    3.72,2,    1.55,2,    0.16,2,    0.26,2,   2.198,2,   1.209,2,-999.000,9,  2033.5,2,  2331.0,2,   1.1074,2,   1.7474,2,   -0.64,2,    1.01,2,    61.5,2,     4.5,   7.073,2,   0.035,-999.000,9,   0.0087,  20.4990,   0.0040,    0.14
  316N145_8,        I03,     501,          1,         32,         32,2,19950512,       1043,   -20.0000,    78.3588,       4507,   206.6,  19.1359,  35.7863,2,  35.7830,2,    203.5,2,   202.6,2,    3.25,2,    1.79,2,    0.01,2,    0.28,2,   2.360,2,   1.281,2,-999.000,9,  -999.0,5,  2344.0,2,   1.0525,2,   1.7457,2,   -0.55,2,    0.99,2,    87.6,2,     4.7,   7.091,2,   0.035,-999.000,9,   0.0087,  19.0987,   0.0039,    0.14
  316N145_8,        I03,     501,          1,         31,         31,2,19950512,       1043,   -20.0000,    78.3588,       4507,   257.1,  17.4707,  35.7585,2,  35.7430,2,    204.4,2,   172.4,4,    3.45,2,    2.83,2,    0.01,2,    0.37,2,   2.469,2,   1.306,2,-999.000,9,  2078.7,2,  2345.0,2,-999.0000,9,-999.0000,9, -999.00,9, -999.00,9,  -999.0,9,  -999.0,-999.000,9,-999.000,-999.000,9,-999.0000,  17.4272,-999.0000,-999.000
  316N145_8,        I03,     501,          1,         30,         30,2,19950512,       1043,   -20.0000,    78.3588,       4507,   307.8,  15.4908,  35.5756,2,  35.5583,2,    209.2,2,   210.2,2,    3.65,2,    4.64,2,    0.01,2,    0.49,2,   2.653,2,   1.373,2,-999.000,9,  2091.2,2,  2337.0,2,   0.8861,2,-999.0000,9, -999.00,9,    1.14,2,    96.5,2,     3.5,-999.000,9,-999.000,-999.000,9,-999.0000,  15.4427,   0.0036,-999.000
  316N145_8,        I03,     501,          1,         29,         29,2,19950512,       1043,   -20.0000,    78.3588,       4507,   357.3,  13.8743,  35.3726,2,  35.3683,2,    215.7,2,   216.5,2,    3.85,2,    6.85,2,    0.01,2,    0.62,2,   2.735,2,   1.403,2,-999.000,9,  2096.8,2,  2328.0,2,-999.0000,9,-999.0000,9, -999.00,9, -999.00,9,  -999.0,9,  -999.0,-999.000,9,-999.000,-999.000,9,-999.0000,  13.8226,-999.0000,-999.000
  316N145_8,        I03,     501,          1,         28,         28,2,19950512,       1043,   -20.0000,    78.3588,       4507,   407.3,  12.4320,  35.1684,2,  35.1462,2,    222.6,2,   223.4,2,    4.48,2,    9.45,2,    0.01,2,    0.77,2,   2.744,2,   1.390,2,-999.000,9,  2102.4,2,  2317.0,2,   0.7093,2,   1.7602,2,    0.37,2,    1.12,2,    76.7,2,     4.6,   7.364,2,   0.037,-999.000,9,   0.0088,  12.3771,   0.0033,    0.14
  316N145_8,        I03,     501,          1,         27,         27,2,19950512,       1043,   -20.0000,    78.3588,       4507,   457.4,  11.2481,  34.9897,2,  34.9823,2,    227.5,2,   228.7,2,    4.89,2,   11.61,2,    0.01,2,    0.90,2,   2.763,2,   1.385,2,-999.000,9,  2106.3,2,  2308.0,2,-999.0000,9,-999.0000,9, -999.00,9,    1.25,2,    70.4,2,     2.9,-999.000,9,-999.000,-999.000,9,-999.0000,  11.1903,-999.0000,-999.000
  316N145_8,        I03,     501,          1,         26,         26,2,19950512,       1043,   -20.0000,    78.3588,       4507,   507.3,  10.4645,  34.8643,2,  34.8683,2,    228.2,2,   229.0,2,    5.52,2,   13.52,2,    0.01,2,    1.03,2,   2.661,2,   1.323,2,-999.000,9,  2110.7,2,  2304.0,2,   0.5580,2,   1.7608,2,    0.82,2,    1.20,2,    69.1,2,     5.8,   7.432,2,   0.037,-999.000,9,   0.0088,  10.4031,   0.0030,    0.14
  316N145_8,        I03,     501,          1,         25,         25,2,19950512,       1043,   -20.0000,    78.3588,       4507,   608.4,   9.1459,  34.6844,2,  34.6916,2,    221.2,2,   220.6,2,    8.09,2,   17.70,2,    0.01,2,    1.26,2,   2.114,2,   1.040,2,-999.000,9,  2124.3,2,  2296.0,2,   0.4231,2,   1.7691,2,    1.28,2,    1.14,2,    29.2,2,     2.8,   7.525,2,   0.038,-999.000,9,   0.0088,   9.0778,   0.0028,    0.14
  316N145_8,        I03,     501,          1,         24,         24,2,19950512,       1043,   -20.0000,    78.3588,       4507,   708.1,   7.7737,  34.5676,2,  34.5659,2,    193.5,2,   194.7,2,   18.00,2,   23.71,2,    0.00,2,    1.65,2,   0.920,2,   0.465,2,-999.000,9,  2154.5,2,  2298.0,2,   0.2082,2,   1.7782,2,    2.55,2,    1.11,2,   -29.1,2,     2.6,   7.607,2,   0.038,-999.000,9,   0.0089,   7.7013,   0.0025,    0.14
  316N145_8,        I03,     501,          1,         23,         23,2,19950512,       1043,   -20.0000,    78.3588,       4507,   809.9,   6.2253,  34.5059,2,  34.5055,2,    164.8,2,   165.5,2,   37.18,2,   29.50,2,    0.01,2,    2.07,2,   0.247,2,   0.133,2,-999.000,9,  2195.3,2,  2310.0,2,   0.0635,2,   1.8125,2,    4.65,2,    0.52,2,  -107.5,2,     2.6,   7.737,2,   0.039,-999.000,9,   0.0091,   6.1514,   0.0023,    0.14
  316N145_8,        I03,     501,          1,         22,         22,2,19950512,       1043,   -20.0000,    78.3588,       4507,   910.4,   5.2884,  34.5444,2,  34.5449,2,    136.0,2,   134.6,2,   60.90,2,   33.53,2,    0.01,2,    2.40,2,   0.036,2,   0.025,2,-999.000,9,  2239.9,2,  2336.0,2,   0.0122,2,   1.8310,2,    7.95,2,    0.52,2,  -142.0,2,     2.9,   7.841,2,   0.039,-999.000,9,   0.0092,   5.2110,   0.0022,    0.14
  316N145_8,        I03,     501,          1,         21,         21,2,19950512,       1043,   -20.0000,    78.3588,       4507,  1011.2,   4.8539,  34.5936,2,  34.5939,2,    118.4,2,   119.2,2,   77.09,2,   35.13,2,    0.01,2,    2.55,2,   0.008,2,   0.005,2,-999.000,9,  2264.7,2,  2349.0,2,-999.0000,9,-999.0000,9, -999.00,9,    0.26,2,  -150.6,2,     2.4,-999.000,9,-999.000,-999.000,9,-999.0000,   4.7706,-999.0000,-999.000
  316N145_8,        I03,     501,          1,         20,         20,2,19950512,       1043,   -20.0000,    78.3588,       4507,  1111.3,   4.4156,  34.6115,2,  34.6118,2,    118.0,2,   119.2,2,   83.78,2,   35.48,2,    0.01,2,    2.57,2,   0.004,2,   0.003,2,-999.000,9,  2273.7,2,  2359.0,2,   0.0051,2,   1.8694,2,   11.06,2,    0.31,2,  -158.0,2,     4.3,   7.949,2,   0.040,-999.000,9,   0.0093,   4.3268,   0.0022,    0.14
  316N145_8,        I03,     501,          1,         19,         19,2,19950512,       1043,   -20.0000,    78.3588,       4507,  1211.8,   4.0338,  34.6184,2,  34.6216,2,    123.7,2,   125.4,2,   87.20,2,   35.42,2,    0.01,2,    2.57,2,   0.001,2,   0.002,2,-999.000,9,  2275.2,2,  2360.0,2,-999.0000,9,-999.0000,9, -999.00,9,    0.03,2,  -188.0,2,     3.4,-999.000,9,-999.000,-999.000,9,-999.0000,   3.9397,-999.0000,-999.000
  316N145_8,        I03,     501,          1,         18,         18,2,19950512,       1043,   -20.0000,    78.3588,       4507,  1312.4,   3.7713,  34.6442,2,  34.6449,2,    127.8,2,   128.2,2,   90.85,2,   35.32,2,    0.01,2,    2.55,2,-999.000,9,-999.000,9,-999.000,9,  2277.9,2,  2366.0,2,   0.0005,2,   1.8644,2,   11.59,2,    0.30,2,  -183.3,2,     3.5,   7.956,2,   0.040,-999.000,9,   0.0093,   3.6710,   0.0022,    0.14
  316N145_8,        I03,     501,          1,         17,         17,2,19950512,       1043,   -20.0000,    78.3588,       4507,  1413.0,   3.5896,  34.6734,2,  34.6739,2,    129.2,2,   129.0,2,   95.16,2,   35.17,2,    0.01,2,    2.53,2,   0.000,2,  -0.001,2,-999.000,9,  2282.6,2,  2370.0,2,-999.0000,9,-999.0000,9, -999.00,9, -999.00,9,  -999.0,9,  -999.0,-999.000,9,-999.000,-999.000,9,-999.0000,   3.4824,-999.0000,-999.000
  316N145_8,        I03,     501,          1,         16,         16,2,19950512,       1043,   -20.0000,    78.3588,       4507,  1512.0,   3.4139,  34.6954,2,  34.6947,2,    131.6,2,   131.1,2,   99.26,2,   35.06,2,    0.01,2,    2.53,2,   0.000,2,   0.000,2,-999.000,9,  2285.5,2,  2376.0,2,   0.0039,2,   1.8639,2,   12.49,2, -999.00,9,  -999.0,9,  -999.0,   7.997,2,   0.040,-999.000,9,   0.0093,   3.3000,   0.0022,    0.14
  316N145_8,        I03,     501,          1,         15,         15,2,19950512,       1043,   -20.0000,    78.3588,       4507,  1716.2,   3.0310,  34.7180,2,  34.7181,2,    139.1,2,   137.7,2,  106.44,2,   34.76,2,    0.01,2,    2.50,2,-999.000,9,-999.000,9,-999.000,9,  2289.1,2,  2382.0,2,   0.0009,2,   1.8602,2,   13.39,2, -999.00,9,  -999.0,9,  -999.0,   7.957,2,   0.040,-999.000,9,   0.0093,   2.9039,   0.0022,    0.14
  316N145_8,        I03,     501,          1,         14,         14,2,19950512,       1043,   -20.0000,    78.3588,       4507,  1918.7,   2.6749,  34.7253,2,  34.7255,2,    146.9,2,   145.9,2,  110.35,2,   34.41,2,    0.01,2,    2.47,2,  -0.001,2,   0.002,2,-999.000,9,  2290.3,2,  2389.0,2,-999.0000,9,   1.8920,2,   14.22,2, -999.00,9,  -999.0,9,  -999.0,   8.034,2,   0.016,-999.000,9,   0.0030,   2.5351,-999.0000,    0.12
  316N145_8,        I03,     501,          1,         13,         13,2,19950512,       1043,   -20.0000,    78.3588,       4507,  2120.6,   2.3422,  34.7252,2,  34.7267,2,    158.2,2,   157.1,2,  112.05,2,   33.81,2,    0.01,2,    2.40,2,-999.000,9,-999.000,9,-999.000,9,  2285.9,2,  2387.0,2,-999.0000,9,   1.8840,2,   15.31,2, -999.00,9,  -999.0,9,  -999.0,   8.017,2,   0.016,-999.000,9,   0.0030,   2.1897,-999.0000,    0.12
  316N145_8,        I03,     501,          1,         12,         12,2,19950512,       1043,   -20.0000,    78.3588,       4507,  2323.0,   2.1053,  34.7243,2,  34.7249,2,    166.8,2,   167.4,2,  111.99,2,   33.26,2,    0.01,2,    2.35,2,   0.000,2,   0.001,2,-999.000,9,  2281.3,2,  2388.0,2,-999.0000,9,   1.8940,2,   15.48,2, -999.00,9,  -999.0,9,  -999.0,   8.088,2,   0.022,-999.000,9,   0.0020,   1.9388,-999.0000,    0.10
  316N145_8,        I03,     501,          1,         11,         11,2,19950512,       1043,   -20.0000,    78.3588,       4507,  2527.5,   1.8863,  34.7246,2,  34.7263,2,    177.7,2,   178.1,2,  110.38,2,   32.56,2,    0.01,2,    2.28,2,-999.000,9,-999.000,9,-999.000,9,  2273.8,2,  2381.0,2,-999.0000,9,   1.8970,2,   16.56,2, -999.00,9,  -999.0,9,  -999.0,   8.118,2,   0.016,-999.000,9,   0.0030,   1.7053,-999.0000,    0.13
  316N145_8,        I03,     501,          1,         10,         10,2,19950512,       1043,   -20.0000,    78.3588,       4507,  2731.4,   1.7459,  34.7261,2,  34.7265,2,    182.9,2,   182.8,2,  112.08,2,   32.31,2,    0.01,2,    2.27,2,   0.000,2,   0.002,2,-999.000,9,  2271.9,2,  2381.0,2,-999.0000,9,   1.8750,2,   16.03,2, -999.00,9,  -999.0,9,  -999.0,   8.042,2,   0.021,-999.000,9,   0.0020,   1.5489,-999.0000,    0.10
  316N145_8,        I03,     501,          1,          9,          9,2,19950512,       1043,   -20.0000,    78.3588,       4507,  2934.2,   1.6316,  34.7273,2,  34.7277,2,    185.4,2,   185.3,2,  114.67,2,   32.26,2,    0.00,2,    2.26,2,-999.000,9,-999.000,9,-999.000,9,  2274.3,2,  2385.0,2,-999.0000,9,   1.8890,2,   14.52,2, -999.00,9,  -999.0,9,  -999.0,   8.072,2,   0.016,-999.000,9,   0.0020,   1.4180,-999.0000,    0.12
  316N145_8,        I03,     501,          1,          8,          8,2,19950512,       1043,   -20.0000,    78.3588,       4507,  3138.0,   1.5312,  34.7256,2,  34.7261,2,    185.5,2,   186.2,2,  118.82,2,   32.45,2,    0.00,2,    2.27,2,   0.000,2,   0.001,2,-999.000,9,  2278.7,2,  2394.0,2,-999.0000,9,   1.8950,2,   13.34,2, -999.00,9,  -999.0,9,  -999.0,   8.119,2,   0.016,-999.000,9,   0.0030,   1.3002,-999.0000,    0.12
  316N145_8,        I03,     501,          1,          7,          7,2,19950512,       1043,   -20.0000,    78.3588,       4507,  3341.9,   1.4539,  34.7247,2,  34.7259,2,    186.7,2,   186.9,2,  121.20,2,   32.55,2,    0.00,2,    2.27,2,-999.000,9,-999.000,9,-999.000,9,  2281.0,2,  2393.0,2,-999.0000,9,   1.8980,2,   12.41,2, -999.00,9,  -999.0,9,  -999.0,   8.178,2,   0.016,-999.000,9,   0.0020,   1.2046,-999.0000,    0.12
  316N145_8,        I03,     501,          1,          6,          6,2,19950512,       1043,   -20.0000,    78.3588,       4507,  3544.1,   1.3982,  34.7227,2,  34.7226,2,    186.7,2,   186.6,2,  124.26,2,   32.70,2,    0.00,2,    2.29,2,  -0.003,2,   0.001,2,-999.000,9,  2284.0,2,  2401.0,2,-999.0000,9,   1.8940,2,   11.72,2, -999.00,9,  -999.0,9,  -999.0,   8.135,2,   0.022,-999.000,9,   0.0020,   1.1299,-999.0000,    0.10
  316N145_8,        I03,     501,          1,          5,          5,2,19950512,       1043,   -20.0000,    78.3588,       4507,  3747.0,   1.3756,  34.7208,2,  34.7212,2,    186.2,2,   187.5,3,  125.76,2,   32.85,2,    0.00,2,    2.29,2,-999.000,9,-999.000,9,-999.000,9,  2285.2,2,  2400.0,2,-999.0000,9,   1.8950,2,   11.53,2, -999.00,9,  -999.0,9,  -999.0,   8.180,2,   0.022,-999.000,9,   0.0030,   1.0869,-999.0000,    0.18
  316N145_8,        I03,     501,          1,          4,          4,2,19950512,       1043,   -20.0000,    78.3588,       4507,  3951.5,   1.3680,  34.7198,2,  34.7196,2,    185.8,2,   185.9,2,  127.93,2,   33.00,2,    0.00,2,    2.30,2,-999.000,9,-999.000,9,-999.000,9,  2286.5,2,  2390.7,4,-999.0000,9,   1.8940,2,   11.82,2, -999.00,9,  -999.0,9,  -999.0,   8.175,2,   0.016,-999.000,9,   0.0030,   1.0578,-999.0000,    0.13
  316N145_8,        I03,     501,          1,          3,          3,2,19950512,       1043,   -20.0000,    78.3588,       4507,  4157.2,   1.3674,  34.7182,2,  34.7186,2,    185.0,2,   184.6,2,  130.34,2,   33.15,2,    0.00,2,    2.31,2,-999.000,9,-999.000,9,-999.000,9,  2291.7,2,  2407.0,2,-999.0000,9,-999.0000,9, -999.00,9, -999.00,9,  -999.0,9,  -999.0,-999.000,9,-999.000,-999.000,9,-999.0000,   1.0348,-999.0000,-999.000
  316N145_8,        I03,     501,          1,          2,          2,2,19950512,       1043,   -20.0000,    78.3588,       4507,  4361.6,   1.3778,  34.7176,2,  34.7178,2,    184.7,2,   185.3,2,  131.17,2,   33.25,2,    0.00,2,    2.31,2,  -0.001,2,   0.000,2,-999.000,9,  2293.1,2,  2410.0,2,-999.0000,9,   1.8870,2,   11.64,2, -999.00,9,  -999.0,9,  -999.0,   8.131,2,   0.061,-999.000,9,   0.0050,   1.0221,-999.0000,    0.15
  316N145_8,        I03,     501,          1,          1,          1,2,19950512,       1043,   -20.0000,    78.3588,       4507,  4586.8,   1.3895,  34.7174,2,  34.7170,2,    184.1,2,   183.9,2,  131.77,2,   33.29,2,    0.00,2,    2.32,2,  -0.001,2,   0.003,2,-999.000,9,  2293.6,2,  2409.0,2,-999.0000,9,-999.0000,9, -999.00,9, -999.00,9,  -999.0,9,  -999.0,-999.000,9,-999.000,-999.000,9,-999.0000,   1.0077,-999.0000,-999.000