BOTTLE,20140514CCHSIOSE
EXPOCODE,SECT_ID,STNNBR,CASTNO,SAMPNO,BTLNBR,BTLNBR_FLAG_W,DATE,TIME,LATITUDE,LONGITUDE,DEPTH,CTDPRS,CTDTMP,CTDSAL,CTDSAL_FLAG_W,SALNTY,SALNTY_FLAG_W,CTDOXY,CTDOXY_FLAG_W,OXYGEN,OXYGEN_FLAG_W,SILCAT,SILCAT_FLAG_W,NITRAT,NITRAT_FLAG_W,NITRIT,NITRIT_FLAG_W,PHSPHT,PHSPHT_FLAG_W,CFC-11,CFC-11_FLAG_W,CFC-12,CFC-12_FLAG_W,CFC113,CFC113_FLAG_W,TCARBN,TCARBN_FLAG_W,ALKALI,ALKALI_FLAG_W,TRITUM,TRITUM_FLAG_W,HELIUM,HELIUM_FLAG_W,DELHE3,DELHE3_FLAG_W,DELC13,DELC13_FLAG_W,DELC14,DELC14_FLAG_W,C14ERR,NEON,NEON_FLAG_W,NEONER,CCL4,CCL4_FLAG_W,HELIER,THETA,TRITER,DELHER
,,,,,,,,,,,METERS,DBAR,ITS-90,PSS-78,,PSS-78,,UMOL/KG,,UMOL/KG,,UMOL/KG,,UMOL/KG,,UMOL/KG,,UMOL/KG,,PMOL/KG,,PMOL/KG,,PMOL/KG,,UMOL/KG,,UMOL/KG,,TU,,NMOL/KG,,PERCNT,,/MILLE,,/MILLE,,/MILLE,NMOL/KG,,NMOL/KG,PMOL/KG,,NMOL/KG,DEG C,TU,PERCNT
  316N145_8,        I03,     537,          1,         36,         36,2,19950524,       0201,   -20.3667,    58.1542,       4342,     6.4,  25.2089,  35.2091,2,  35.2086,2,    207.1,2,   208.9,2,    2.93,2,    0.01,2,    0.00,2,    0.12,2,   1.863,2,   1.058,2,-999.000,9,  1963.0,2,  2307.0,2,-999.0000,9,   1.7528,2,   -1.38,2, -999.00,9,  -999.0,9,  -999.0,   6.917,2,   0.035,-999.000,9,   0.0088,  25.2075,-999.0000,    0.14
  316N145_8,        I03,     537,          1,         35,         35,2,19950524,       0201,   -20.3667,    58.1542,       4342,    55.5,  25.2086,  35.2147,2,  35.2159,2,    212.6,2,   209.0,2,    2.91,2,    0.01,2,    0.00,2,    0.12,2,   1.859,2,   1.054,2,-999.000,9,  1963.9,6,  2306.5,6,   1.1417,2,   1.7516,2,   -1.33,2, -999.00,9,  -999.0,9,  -999.0,   6.921,2,   0.035,-999.000,9,   0.0088,  25.1965,   0.0040,    0.14
  316N145_8,        I03,     537,          1,         34,         34,2,19950524,       0201,   -20.3667,    58.1542,       4342,   105.7,  22.9105,  35.3068,2,  35.3162,2,    213.5,2,   207.4,2,    3.30,2,    0.15,2,    0.10,2,    0.17,2,   2.107,2,   1.172,2,-999.000,9,  1993.6,2,  2317.0,2,   1.1318,2,   1.7625,2,   -0.90,2, -999.00,9,  -999.0,9,  -999.0,   7.080,2,   0.035,-999.000,9,   0.0088,  22.8890,   0.0040,    0.14
  316N145_8,        I03,     537,          1,         33,         33,2,19950524,       0201,   -20.3667,    58.1542,       4342,   155.3,  21.3330,  35.4575,2,  35.4587,2,    185.1,2,   192.3,2,    4.11,2,    2.01,2,    0.03,2,    0.29,2,   2.135,2,   1.182,2,-999.000,9,  2021.8,2,  2320.0,2,   1.1250,2,   1.7885,2,   -0.73,2, -999.00,9,  -999.0,9,  -999.0,   7.208,2,   0.036,-999.000,9,   0.0089,  21.3029,   0.0040,    0.14
  316N145_8,        I03,     537,          1,         32,         32,2,19950524,       0201,   -20.3667,    58.1542,       4342,   205.5,  19.3174,  35.5295,2,  35.5288,2,    179.7,2,   176.0,2,    5.94,2,    5.11,2,    0.01,2,    0.48,2,   2.125,2,   1.152,2,-999.000,9,  2060.2,2,  -999.0,5,-999.0000,9,   1.7653,2,    0.02,2, -999.00,9,  -999.0,9,  -999.0,   7.164,2,   0.036,-999.000,9,   0.0088,  19.2802,-999.0000,    0.14
  316N145_8,        I03,     537,          1,         31,         31,2,19950524,       0201,   -20.3667,    58.1542,       4342,   256.2,  17.3704,  35.5885,2,  35.5877,2,    189.3,2,   188.6,2,    5.51,2,    5.11,2,    0.00,2,    0.51,2,   2.301,2,   1.222,2,-999.000,9,  2080.8,2,  2335.0,2,-999.0000,9,   1.7412,2,    2.91,2, -999.00,9,  -999.0,9,  -999.0,   7.199,2,   0.036,-999.000,9,   0.0087,  17.3273,-999.0000,    0.14
  316N145_8,        I03,     537,          1,         30,         30,2,19950524,       0201,   -20.3667,    58.1542,       4342,   306.6,  15.8321,  35.5487,2,  35.5448,2,    198.0,2,   199.6,2,    5.28,2,    5.55,2,    0.00,2,    0.54,2,   2.447,2,   1.282,2,-999.000,9,  2091.1,2,  2335.0,2,-999.0000,9,   1.7685,2,    0.52,2, -999.00,9,  -999.0,9,  -999.0,   7.308,2,   0.037,-999.000,9,   0.0088,  15.7836,-999.0000,    0.14
  316N145_8,        I03,     537,          1,         29,         29,2,19950524,       0201,   -20.3667,    58.1542,       4342,   356.0,  14.7269,  35.4592,2,  35.4589,2,    213.9,2,   212.1,2,    4.43,2,    5.94,2,    0.00,2,    0.57,2,   2.650,2,   1.377,2,-999.000,9,  -999.0,5,  2331.0,2,   0.7989,2,   1.7776,2,    0.11,2, -999.00,9,  -999.0,9,  -999.0,   7.376,2,   0.037,-999.000,9,   0.0089,  14.6732,   0.0038,    0.14
  316N145_8,        I03,     537,          1,         28,         28,9,19950524,       0201,   -20.3667,    58.1542,       4342,   406.0,  13.5303,  35.2995,2,-999.0000,9,    220.4,2,  -999.0,9, -999.00,9, -999.00,9, -999.00,9, -999.00,9,-999.000,9,-999.000,9,-999.000,9,  -999.0,9,  -999.0,9,-999.0000,9,-999.0000,9, -999.00,9, -999.00,9,  -999.0,9,  -999.0,-999.000,9,-999.000,-999.000,9,-999.0000,  13.4723,-999.0000,-999.000
  316N145_8,        I03,     537,          1,         27,         27,2,19950524,       0201,   -20.3667,    58.1542,       4342,   506.9,  11.5957,  35.0214,2,  35.0222,2,    228.7,2,   229.1,2,    4.61,2,   11.15,2,    0.00,2,    0.86,2,   2.696,2,   1.358,2,-999.000,9,  2103.6,2,  2310.0,2,-999.0000,9,   1.7711,2,    0.59,2, -999.00,9,  -999.0,9,  -999.0,   7.440,2,   0.037,-999.000,9,   0.0089,  11.5301,-999.0000,    0.14
  316N145_8,        I03,     537,          1,         26,         26,2,19950524,       0201,   -20.3667,    58.1542,       4342,   606.5,  10.1674,  34.8150,2,  34.8130,2,    225.3,2,   227.7,2,    6.03,2,   14.77,2,    0.00,2,    1.08,2,   2.315,2,   1.151,2,-999.000,9,  2113.8,2,  2301.0,2,-999.0000,9,-999.0000,9, -999.00,9, -999.00,9,  -999.0,9,  -999.0,-999.000,9,-999.000,-999.000,9,-999.0000,  10.0950,-999.0000,-999.000
  316N145_8,        I03,     537,          1,         25,         25,2,19950524,       0201,   -20.3667,    58.1542,       4342,   707.8,   8.6652,  34.6485,2,  34.6413,2,    213.8,2,   212.7,2,   10.97,2,   19.84,2,    0.00,2,    1.40,2,   1.494,2,   0.751,2,-999.000,9,  2134.7,2,  2297.0,2,-999.0000,9,   1.7787,2,    1.71,2, -999.00,9,  -999.0,9,  -999.0,   7.577,2,   0.038,-999.000,9,   0.0089,   8.5881,-999.0000,    0.14
  316N145_8,        I03,     537,          1,         24,         24,2,19950524,       0201,   -20.3667,    58.1542,       4342,   808.7,   6.7653,  34.5269,2,  34.5264,2,    180.4,2,   183.2,2,   28.30,2,   26.77,2,    0.00,2,    1.88,2,   0.537,2,   0.275,2,-999.000,9,  2177.5,2,  2309.0,2,-999.0000,9,-999.0000,9, -999.00,9, -999.00,9,  -999.0,9,  -999.0,-999.000,9,-999.000,-999.000,9,-999.0000,   6.6882,-999.0000,-999.000
  316N145_8,        I03,     537,          1,         23,         23,2,19950524,       0201,   -20.3667,    58.1542,       4342,   909.2,   5.8657,  34.5103,2,  34.5126,2,    165.6,2,   165.3,2,   42.32,2,   30.04,2,    0.00,2,    2.12,2,   0.264,2,   0.135,2,-999.000,9,  2204.8,2,  2316.0,2,   0.0620,2,   1.8191,2,    5.38,2, -999.00,9,  -999.0,9,  -999.0,   7.779,2,   0.039,-999.000,9,   0.0091,   5.7845,   0.0023,    0.14
  316N145_8,        I03,     537,          1,         22,         22,2,19950524,       0201,   -20.3667,    58.1542,       4342,  1009.9,   5.1953,  34.5743,2,  34.5760,2,    135.0,2,   136.2,2,   63.80,2,   33.18,2,    0.00,2,    2.37,2,   0.079,2,   0.040,2,-999.000,9,  2242.7,2,  2337.0,2,-999.0000,9,-999.0000,9, -999.00,9, -999.00,9,  -999.0,9,  -999.0,-999.000,9,-999.000,-999.000,9,-999.0000,   5.1095,-999.0000,-999.000
  316N145_8,        I03,     537,          1,         21,         21,2,19950524,       0201,   -20.3667,    58.1542,       4342,  1110.2,   4.8344,  34.6065,2,  34.6087,2,    126.7,2,   128.1,2,   73.51,2,   34.12,2,    0.00,2,    2.46,2,   0.041,2,   0.021,2,-999.000,9,  -999.0,5,  2349.0,2,   0.0129,2,   1.8366,2,    9.72,2, -999.00,9,  -999.0,9,  -999.0,   7.838,2,   0.039,-999.000,9,   0.0092,   4.7423,   0.0022,    0.14
  316N145_8,        I03,     537,          1,         20,         20,2,19950524,       0201,   -20.3667,    58.1542,       4342,  1210.1,   4.3591,  34.6320,2,  34.6344,2,    129.2,2,   127.0,2,   81.36,2,   34.61,2,    0.00,2,    2.50,2,   0.018,2,   0.009,2,-999.000,9,  -999.0,9,  -999.0,9,-999.0000,9,-999.0000,9, -999.00,9, -999.00,9,  -999.0,9,  -999.0,-999.000,9,-999.000,-999.000,9,-999.0000,   4.2621,-999.0000,-999.000
  316N145_8,        I03,     537,          1,         19,         19,2,19950524,       0201,   -20.3667,    58.1542,       4342,  1311.6,   3.9111,  34.6422,2,  34.6446,2,    135.2,2,   135.3,2,   84.85,2,   34.42,2,    0.00,2,    2.47,2,   0.014,2,   0.006,2,-999.000,9,  2267.6,2,  2359.0,2,   0.0038,2,   1.8608,2,   10.75,2, -999.00,9,  -999.0,9,  -999.0,   7.925,2,   0.040,-999.000,9,   0.0093,   3.8094,   0.0022,    0.14
  316N145_8,        I03,     537,          1,         18,         18,2,19950524,       0201,   -20.3667,    58.1542,       4342,  1411.9,   3.4790,  34.6561,2,  34.6570,2,    143.0,2,   142.8,2,   88.98,2,   34.12,2,    0.00,2,    2.44,2,   0.011,2,   0.005,2,-999.000,9,  2269.2,2,  2363.0,2,-999.0000,9,-999.0000,9, -999.00,9, -999.00,9,  -999.0,9,  -999.0,-999.000,9,-999.000,-999.000,9,-999.0000,   3.3730,-999.0000,-999.000
  316N145_8,        I03,     537,          1,         17,         17,2,19950524,       0201,   -20.3667,    58.1542,       4342,  1513.3,   3.1542,  34.6653,2,  34.6662,2,    147.9,2,   150.0,2,   91.02,2,   33.68,2,    0.00,2,    2.41,2,   0.009,2,   0.004,2,-999.000,9,  2269.9,2,  2368.0,2,   0.0041,2,   1.8697,2,   11.63,2, -999.00,9,  -999.0,9,  -999.0,   8.034,2,   0.040,-999.000,9,   0.0093,   3.0433,   0.0023,    0.14
  316N145_8,        I03,     537,          1,         16,         16,2,19950524,       0201,   -20.3667,    58.1542,       4342,  1614.5,   2.9444,  34.6862,2,  34.6872,2,    151.6,2,   151.5,2,   96.62,2,   33.73,2,    0.00,2,    2.41,2,-999.000,9,-999.000,9,-999.000,9,  2274.3,2,  2373.0,2,-999.0000,9,-999.0000,9, -999.00,9, -999.00,9,  -999.0,9,  -999.0,-999.000,9,-999.000,-999.000,9,-999.0000,   2.8273,-999.0000,-999.000
  316N145_8,        I03,     537,          1,         15,         15,2,19950524,       0201,   -20.3667,    58.1542,       4342,  1815.6,   2.5447,  34.7051,2,  34.7058,2,    159.2,2,   159.3,2,  102.88,2,   33.39,2,    0.00,2,    2.37,2,-999.000,9,-999.000,9,-999.000,9,  2276.9,2,  2379.0,2,   0.0015,2,   1.8853,2,   13.26,2, -999.00,9,  -999.0,9,  -999.0,   8.044,2,   0.040,-999.000,9,   0.0094,   2.4157,   0.0022,    0.14
  316N145_8,        I03,     537,          1,         14,         14,2,19950524,       0201,   -20.3667,    58.1542,       4342,  2017.5,   2.3059,  34.7182,2,  34.7188,2,    164.0,2,   163.6,2,  107.26,2,   33.19,2,    0.00,2,    2.35,2,   0.005,2,   0.000,2,-999.000,9,  2280.2,2,  2382.0,2,   0.0011,2,   1.9035,2,   13.19,2, -999.00,9,  -999.0,9,  -999.0,   8.126,2,   0.041,-999.000,9,   0.0095,   2.1630,   0.0022,    0.14
  316N145_8,        I03,     537,          1,         13,         13,2,19950524,       0201,   -20.3667,    58.1542,       4342,  2221.9,   2.1281,  34.7251,2,  34.7259,2,    165.0,2,   164.9,2,  112.94,2,   33.19,2,    0.00,2,    2.36,2,-999.000,9,-999.000,9,-999.000,9,  2285.7,2,  2388.0,2,-999.0000,9,   1.8940,2,   14.18,2, -999.00,9,  -999.0,9,  -999.0,   8.083,2,   0.021,-999.000,9,   0.0030,   1.9702,-999.0000,    0.19
  316N145_8,        I03,     537,          1,         12,         12,2,19950524,       0201,   -20.3667,    58.1542,       4342,  2423.8,   1.9765,  34.7263,2,  34.7280,2,    167.0,2,   167.6,2,  116.30,2,   33.25,2,    0.00,2,    2.36,2,   0.004,2,   0.001,2,-999.000,9,  2285.9,2,  2392.0,2,-999.0000,9,   1.8860,2,   15.46,2, -999.00,9,  -999.0,9,  -999.0,   8.055,2,   0.018,-999.000,9,   0.0030,   1.8032,-999.0000,    0.14
  316N145_8,        I03,     537,          1,         11,         11,9,19950524,       0201,   -20.3667,    58.1542,       4342,  2627.1,   1.8775,  34.7256,2,-999.0000,9,    170.5,2,  -999.0,9, -999.00,9, -999.00,9, -999.00,9, -999.00,9,-999.000,9,-999.000,9,-999.000,9,  -999.0,9,  -999.0,9,-999.0000,9,-999.0000,9, -999.00,9, -999.00,9,  -999.0,9,  -999.0,-999.000,9,-999.000,-999.000,9,-999.0000,   1.6876,-999.0000,-999.000
  316N145_8,        I03,     537,          1,         10,         10,9,19950524,       0201,   -20.3667,    58.1542,       4342,  2829.1,   1.7967,  34.7266,2,-999.0000,9,    171.1,2,  -999.0,9, -999.00,9, -999.00,9, -999.00,9, -999.00,9,-999.000,9,-999.000,9,-999.000,9,  -999.0,9,  -999.0,9,-999.0000,9,-999.0000,9, -999.00,9, -999.00,9,  -999.0,9,  -999.0,-999.000,9,-999.000,-999.000,9,-999.0000,   1.5896,-999.0000,-999.000
  316N145_8,        I03,     537,          1,          9,          9,2,19950524,       0201,   -20.3667,    58.1542,       4342,  3032.4,   1.7570,  34.7298,2,  34.7304,2,    168.6,2,   168.7,2,  125.28,2,   33.59,2,    0.00,2,    2.37,2,-999.000,9,-999.000,9,-999.000,9,  2292.9,2,  2402.0,2,-999.0000,9,   1.8970,2,   13.26,2, -999.00,9,  -999.0,9,  -999.0,   8.116,2,   0.021,-999.000,9,   0.0030,   1.5311,-999.0000,    0.19
  316N145_8,        I03,     537,          1,          8,          8,2,19950524,       0201,   -20.3667,    58.1542,       4342,  3236.7,   1.7278,  34.7306,2,  34.7310,2,    169.1,2,   169.4,2,  126.30,2,   33.59,2,    0.00,2,    2.37,2,   0.002,2,   0.000,2,-999.000,9,  2294.3,6,  2401.0,6,-999.0000,9,-999.0000,9, -999.00,9, -999.00,9,  -999.0,9,  -999.0,-999.000,9,-999.000,-999.000,9,-999.0000,   1.4824,-999.0000,-999.000
  316N145_8,        I03,     537,          1,          7,          7,2,19950524,       0201,   -20.3667,    58.1542,       4342,  3236.7,   1.7239,  34.7298,2,  34.7308,2,    169.1,2,   169.7,2,  126.23,2,   33.60,2,    0.00,2,    2.36,2,-999.000,9,-999.000,9,-999.000,9,  2293.9,2,  2400.0,2,-999.0000,9,   1.8910,2,   12.92,2, -999.00,9,  -999.0,9,  -999.0,   8.078,2,   0.023,-999.000,9,   0.0030,   1.4786,-999.0000,    0.10
  316N145_8,        I03,     537,          1,          6,          6,2,19950524,       0201,   -20.3667,    58.1542,       4342,  3440.1,   1.6393,  34.7247,2,  34.7257,2,    176.1,2,   175.7,2,  124.65,2,   33.25,2,    0.00,2,    2.33,2,-999.000,9,-999.000,9,-999.000,9,  2289.4,2,  2398.0,2,-999.0000,9,   1.9210,2,   13.15,2, -999.00,9,  -999.0,9,  -999.0,   8.223,2,   0.018,-999.000,9,   0.0030,   1.3756,-999.0000,    0.14
  316N145_8,        I03,     537,          1,          5,          5,2,19950524,       0201,   -20.3667,    58.1542,       4342,  3643.8,   1.5633,  34.7243,2,  34.7241,2,    176.6,2,   177.5,2,  126.32,2,   33.26,2,    0.00,2,    2.34,2,   0.000,2,   0.001,2,-999.000,9,  2288.9,2,  2397.0,2,-999.0000,9,   1.9060,2,   12.20,2, -999.00,9,  -999.0,9,  -999.0,   8.163,2,   0.024,-999.000,9,   0.0050,   1.2804,-999.0000,    0.10
  316N145_8,        I03,     537,          1,          4,          4,2,19950524,       0201,   -20.3667,    58.1542,       4342,  3848.9,   1.4814,  34.7192,2,  34.7208,2,    182.8,2,   183.0,2,  124.74,2,   32.96,2,    0.00,2,    2.31,2,-999.000,9,-999.000,9,-999.000,9,  2283.9,2,  2394.0,2,-999.0000,9,   1.9410,2,   11.86,2, -999.00,9,  -999.0,9,  -999.0,   8.301,2,   0.024,-999.000,9,   0.0040,   1.1791,-999.0000,    0.10
  316N145_8,        I03,     537,          1,          3,          3,2,19950524,       0201,   -20.3667,    58.1542,       4342,  4052.6,   1.3201,  34.7152,2,  34.7160,2,    189.7,2,   190.1,2,  125.54,2,   32.77,2,    0.00,2,    2.28,2,-999.000,9,-999.000,9,-999.000,9,  2278.4,2,  2388.0,2,-999.0000,9,   1.9140,2,   10.29,2, -999.00,9,  -999.0,9,  -999.0,   8.194,2,   0.024,-999.000,9,   0.0040,   1.0004,-999.0000,    0.10
  316N145_8,        I03,     537,          1,          2,          2,2,19950524,       0201,   -20.3667,    58.1542,       4342,  4257.3,   1.2618,  34.7133,2,  34.7147,2,    193.1,2,   193.2,2,  125.47,2,   32.63,2,    0.00,2,    2.28,2,-999.000,9,-999.000,9,-999.000,9,  2275.3,2,  2386.0,2,-999.0000,9,   1.8940,2,   10.04,2, -999.00,9,  -999.0,9,  -999.0,   8.163,2,   0.024,-999.000,9,   0.0030,   0.9214,-999.0000,    0.10
  316N145_8,        I03,     537,          1,          1,          1,2,19950524,       0201,   -20.3667,    58.1542,       4342,  4421.7,   1.2488,  34.7134,2,  34.7137,2,    194.0,2,   194.1,2,  125.41,2,   32.58,2,    0.00,2,    2.27,2,   0.003,2,   0.000,2,-999.000,9,  2274.7,2,  2384.0,2,-999.0000,9,   1.9040,2,    9.97,2, -999.00,9,  -999.0,9,  -999.0,   8.191,2,   0.024,-999.000,9,   0.0030,   0.8904,-999.0000,    0.10