BOTTLE,20140514CCHSIOSE
EXPOCODE,SECT_ID,STNNBR,CASTNO,SAMPNO,BTLNBR,BTLNBR_FLAG_W,DATE,TIME,LATITUDE,LONGITUDE,DEPTH,CTDPRS,CTDTMP,CTDSAL,CTDSAL_FLAG_W,SALNTY,SALNTY_FLAG_W,CTDOXY,CTDOXY_FLAG_W,OXYGEN,OXYGEN_FLAG_W,SILCAT,SILCAT_FLAG_W,NITRAT,NITRAT_FLAG_W,NITRIT,NITRIT_FLAG_W,PHSPHT,PHSPHT_FLAG_W,CFC-11,CFC-11_FLAG_W,CFC-12,CFC-12_FLAG_W,CFC113,CFC113_FLAG_W,TCARBN,TCARBN_FLAG_W,ALKALI,ALKALI_FLAG_W,TRITUM,TRITUM_FLAG_W,HELIUM,HELIUM_FLAG_W,DELHE3,DELHE3_FLAG_W,DELC13,DELC13_FLAG_W,DELC14,DELC14_FLAG_W,C14ERR,NEON,NEON_FLAG_W,NEONER,CCL4,CCL4_FLAG_W,HELIER,THETA,TRITER,DELHER
,,,,,,,,,,,METERS,DBAR,ITS-90,PSS-78,,PSS-78,,UMOL/KG,,UMOL/KG,,UMOL/KG,,UMOL/KG,,UMOL/KG,,UMOL/KG,,PMOL/KG,,PMOL/KG,,PMOL/KG,,UMOL/KG,,UMOL/KG,,TU,,NMOL/KG,,PERCNT,,/MILLE,,/MILLE,,/MILLE,NMOL/KG,,NMOL/KG,PMOL/KG,,NMOL/KG,DEG C,TU,PERCNT
  316N145_8,        I03,     495,          1,         36,         36,2,19950510,       1507,   -20.0008,    82.7337,       5201,     6.1,  25.9805,  35.0723,2,  35.0725,2,    205.8,2,   206.7,2,    3.12,2,    0.09,2,    0.00,2,    0.12,2,   1.806,2,   1.036,2,   0.040,3,  1951.7,2,  2306.0,2,-999.0000,9,-999.0000,9, -999.00,9,    1.27,2,    71.3,2,     4.5,-999.000,9,-999.000,   2.032,2,-999.0000,  25.9791,-999.0000,-999.000
  316N145_8,        I03,     495,          1,         35,         35,2,19950510,       1507,   -20.0008,    82.7337,       5201,    58.1,  25.9372,  35.0710,2,  35.0714,2,    211.8,2,   206.9,2,    3.10,2,    0.09,2,    0.00,2,    0.12,2,   1.800,2,   1.033,2,   0.051,3,  1952.1,2,  2298.0,2,-999.0000,9,-999.0000,9, -999.00,9, -999.00,9,  -999.0,9,  -999.0,-999.000,9,-999.000,   2.014,2,-999.0000,  25.9243,-999.0000,-999.000
  316N145_8,        I03,     495,          1,         34,         34,2,19950510,       1507,   -20.0008,    82.7337,       5201,   107.7,  22.2818,  35.4203,2,  35.4207,2,    229.3,2,   222.7,2,    3.30,2,    0.09,2,    0.00,2,    0.13,2,   2.160,2,   1.219,2,   0.053,3,  1993.6,2,  2318.0,2,-999.0000,9,-999.0000,9, -999.00,9,    1.05,2,    87.0,2,     3.2,-999.000,9,-999.000,   1.468,2,-999.0000,  22.2603,-999.0000,-999.000
  316N145_8,        I03,     495,          1,         33,         33,2,19950510,       1507,   -20.0008,    82.7337,       5201,   157.7,  20.9020,  35.6009,2,  35.6029,2,    205.6,2,   205.9,2,    3.50,2,    0.25,2,    0.23,2,    0.20,2,   2.184,2,   1.215,2,   0.038,3,  2023.7,2,  2331.0,2,-999.0000,9,-999.0000,9, -999.00,9, -999.00,9,  -999.0,9,  -999.0,-999.000,9,-999.000,   1.256,2,-999.0000,  20.8718,-999.0000,-999.000
  316N145_8,        I03,     495,          1,         32,         32,2,19950510,       1507,   -20.0008,    82.7337,       5201,   207.7,  19.4911,  35.7158,2,  35.7139,2,    199.7,2,   192.0,2,    4.56,2,    2.67,2,    0.01,2,    0.32,2,   2.208,2,   1.212,2,   0.037,3,  2058.4,2,  2340.0,2,-999.0000,9,-999.0000,9, -999.00,9,    0.72,3,    90.7,2,     3.5,-999.000,9,-999.000,   0.667,2,-999.0000,  19.4532,-999.0000,-999.000
  316N145_8,        I03,     495,          1,         31,         31,2,19950510,       1507,   -20.0008,    82.7337,       5201,   258.0,  17.9945,  35.7616,2,  35.7663,2,    199.7,2,   198.7,2,    4.33,2,    2.82,2,    0.01,2,    0.35,2,   2.356,2,   1.278,2,  -0.035,3,  2073.5,2,  2348.0,2,-999.0000,9,-999.0000,9, -999.00,9, -999.00,9,  -999.0,9,  -999.0,-999.000,9,-999.000,   0.670,2,-999.0000,  17.9499,-999.0000,-999.000
  316N145_8,        I03,     495,          1,         30,         30,2,19950510,       1507,   -20.0008,    82.7337,       5201,   307.8,  15.9954,  35.6429,2,  35.6481,2,    209.9,2,   210.7,2,    3.25,2,    3.42,2,    0.01,2,    0.41,2,   2.551,2,   1.353,2,   0.039,3,  2085.8,2,  2342.0,2,-999.0000,9,-999.0000,9, -999.00,9,    1.17,2,    89.9,2,     3.6,-999.000,9,-999.000,   0.590,2,-999.0000,  15.9463,-999.0000,-999.000
  316N145_8,        I03,     495,          1,         29,         29,2,19950510,       1507,   -20.0008,    82.7337,       5201,   356.6,  14.1213,  35.4113,2,  35.4064,2,    219.4,2,   219.0,2,    3.24,2,    6.02,2,    0.01,2,    0.56,2,   2.758,2,   1.437,2,   0.018,3,  2093.5,2,  2330.0,2,-999.0000,9,-999.0000,9, -999.00,9, -999.00,9,  -999.0,9,  -999.0,-999.000,9,-999.000,   0.648,2,-999.0000,  14.0690,-999.0000,-999.000
  316N145_8,        I03,     495,          1,         28,         28,2,19950510,       1507,   -20.0008,    82.7337,       5201,   405.8,  12.6260,  35.1968,2,  35.1981,2,    225.9,2,   227.7,2,    3.65,2,    8.38,2,    0.01,2,    0.70,2,   2.888,2,   1.477,2,  -0.010,3,  2098.9,2,  2317.0,2,-999.0000,9,-999.0000,9, -999.00,9,    1.23,2,    76.6,2,     3.1,-999.000,9,-999.000,   0.863,2,-999.0000,  12.5707,-999.0000,-999.000
  316N145_8,        I03,     495,          1,         27,         27,2,19950510,       1507,   -20.0008,    82.7337,       5201,   506.0,  10.8208,  34.9176,2,  34.9123,2,    234.2,2,   234.1,2,    4.50,2,   12.36,2,    0.01,2,    0.93,2,   2.860,2,   1.432,2,   0.015,3,  2106.6,2,  2304.0,2,-999.0000,9,-999.0000,9, -999.00,9,    1.30,2,    75.4,2,     5.1,-999.000,9,-999.000,   1.268,2,-999.0000,  10.7582,-999.0000,-999.000
  316N145_8,        I03,     495,          1,         26,         26,2,19950510,       1507,   -20.0008,    82.7337,       5201,   602.5,   9.3696,  34.7047,2,  34.7056,2,    224.5,2,   227.4,2,    6.63,2,   16.79,2,    0.01,2,    1.20,2,   2.342,2,   1.166,2,  -0.027,3,  2119.8,2,  2294.0,2,-999.0000,9,-999.0000,9, -999.00,9,    1.26,2,    54.1,2,     4.1,-999.000,9,-999.000,   1.346,2,-999.0000,   9.3013,-999.0000,-999.000
  316N145_8,        I03,     495,          1,         25,         25,2,19950510,       1507,   -20.0008,    82.7337,       5201,   701.7,   7.7015,  34.5469,2,  34.5482,2,    202.6,2,   201.2,2,   16.04,2,   23.40,2,    0.01,2,    1.63,2,   1.110,2,   0.563,2,  -0.028,3,  2151.4,2,  2294.0,2,-999.0000,9,-999.0000,9, -999.00,9,    1.11,2,     2.6,2,     3.9,-999.000,9,-999.000,   1.032,2,-999.0000,   7.6302,-999.0000,-999.000
  316N145_8,        I03,     495,          1,         24,         24,2,19950510,       1507,   -20.0008,    82.7337,       5201,   802.8,   6.2039,  34.5049,2,  34.5061,2,    162.1,2,   164.5,2,   37.88,2,   29.70,2,    0.01,2,    2.09,2,   0.259,2,   0.137,2,  -0.033,3,  2198.8,2,  2310.0,2,-999.0000,9,-999.0000,9, -999.00,9,    0.77,2,   -76.6,2,     3.2,-999.000,9,-999.000,   0.508,2,-999.0000,   6.1309,-999.0000,-999.000
  316N145_8,        I03,     495,          1,         23,         23,2,19950510,       1507,   -20.0008,    82.7337,       5201,   904.0,   5.3325,  34.5497,2,  34.5526,2,    129.5,2,   131.7,2,   61.66,2,   33.66,2,    0.00,2,    2.41,2,   0.044,2,   0.025,2,-999.000,9,  2242.2,2,  2336.0,2,-999.0000,9,-999.0000,9, -999.00,9,    0.50,2,  -131.7,2,     2.5,-999.000,9,-999.000,-999.000,9,-999.0000,   5.2555,-999.0000,-999.000
  316N145_8,        I03,     495,          1,         22,         22,2,19950510,       1507,   -20.0008,    82.7337,       5201,  1005.1,   4.7688,  34.5863,2,  34.5885,2,    120.2,2,   122.0,2,   75.40,2,   35.02,2,    0.00,2,    2.53,2,   0.004,2,   0.006,2,  -0.027,3,  2262.9,2,  2348.0,2,-999.0000,9,-999.0000,9, -999.00,9,    0.36,2,  -148.3,2,     3.1,-999.000,9,-999.000,   0.093,2,-999.0000,   4.6867,-999.0000,-999.000
  316N145_8,        I03,     495,          1,         21,         21,2,19950510,       1507,   -20.0008,    82.7337,       5201,  1107.8,   4.4533,  34.6253,2,  34.6279,2,    116.4,2,   117.8,2,   84.01,2,   35.48,2,    0.00,2,    2.57,2,   0.005,2,   0.005,2,-999.000,9,  2274.2,2,  2360.0,2,-999.0000,9,-999.0000,9, -999.00,9,    0.25,2,  -163.8,2,     2.5,-999.000,9,-999.000,-999.000,9,-999.0000,   4.3645,-999.0000,-999.000
  316N145_8,        I03,     495,          1,         20,         20,2,19950510,       1507,   -20.0008,    82.7337,       5201,  1207.3,   4.2368,  34.6613,2,  34.6609,2,    118.3,2,   117.1,2,   90.04,2,   35.58,2,    0.00,2,    2.59,2,   0.002,2,   0.002,2,  -0.028,3,  2281.4,2,  2364.0,2,-999.0000,9,-999.0000,9, -999.00,9,    0.21,2,  -160.2,2,     4.1,-999.000,9,-999.000,   0.022,2,-999.0000,   4.1411,-999.0000,-999.000
  316N145_8,        I03,     495,          1,         19,         19,2,19950510,       1507,   -20.0008,    82.7337,       5201,  1410.0,   3.7680,  34.6993,2,  34.6996,2,    118.6,2,   119.8,2,   98.48,2,   35.54,2,    0.00,2,    2.58,2,   0.001,2,   0.002,2,-999.000,9,  2289.2,2,  2376.0,2,-999.0000,9,-999.0000,9, -999.00,9,    0.17,2,  -169.7,2,     2.5,-999.000,9,-999.000,-999.000,9,-999.0000,   3.6591,-999.0000,-999.000
  316N145_8,        I03,     495,          1,         18,         18,2,19950510,       1507,   -20.0008,    82.7337,       5201,  1611.2,   3.2947,  34.7139,2,  34.7145,2,    128.8,2,   129.2,2,  104.12,2,   35.19,2,    0.00,2,    2.54,2,  -0.001,2,   0.001,2,  -0.026,3,  2291.0,2,  2379.0,2,-999.0000,9,-999.0000,9, -999.00,9,    0.18,2,  -179.5,2,     2.7,-999.000,9,-999.000,   0.006,2,-999.0000,   3.1736,-999.0000,-999.000
  316N145_8,        I03,     495,          1,         17,         17,2,19950510,       1507,   -20.0008,    82.7337,       5201,  1813.8,   2.8776,  34.7228,2,  34.7231,2,    139.6,2,   139.3,2,  108.25,2,   34.69,2,    0.00,2,    2.50,2,-999.000,9,-999.000,9,-999.000,9,  2291.1,2,  2385.0,2,-999.0000,9,-999.0000,9, -999.00,9,    0.20,2,  -178.0,2,     2.8,-999.000,9,-999.000,-999.000,9,-999.0000,   2.7441,-999.0000,-999.000
  316N145_8,        I03,     495,          1,         16,         16,2,19950510,       1507,   -20.0008,    82.7337,       5201,  2020.1,   2.5147,  34.7265,2,  34.7267,2,    150.5,2,   149.7,2,  111.30,2,   34.24,2,    0.00,2,    2.45,2,   0.005,2,   0.003,2,-999.000,9,  2289.7,2,  2386.0,2,-999.0000,9,-999.0000,9, -999.00,9,    0.25,2,  -186.9,2,     3.3,-999.000,9,-999.000,-999.000,9,-999.0000,   2.3684,-999.0000,-999.000
  316N145_8,        I03,     495,          1,         15,         15,2,19950510,       1507,   -20.0008,    82.7337,       5201,  2221.5,   2.2611,  34.7268,2,  34.7265,2,    159.4,2,   159.0,2,  112.81,2,   33.74,2,    0.00,2,    2.40,2,-999.000,9,-999.000,9,-999.000,9,  2286.7,2,  2390.0,2,-999.0000,9,-999.0000,9, -999.00,9,    0.28,2,  -195.0,2,     3.9,-999.000,9,-999.000,-999.000,9,-999.0000,   2.1010,-999.0000,-999.000
  316N145_8,        I03,     495,          1,         14,         14,2,19950510,       1507,   -20.0008,    82.7337,       5201,  2424.7,   2.0387,  34.7255,2,  34.7263,2,    167.9,2,   168.1,2,  112.99,2,   33.30,2,    0.00,2,    2.36,2,   0.001,2,   0.001,2,-999.000,9,  2282.8,2,  2385.0,2,-999.0000,9,-999.0000,9, -999.00,9,    0.35,2,  -180.4,2,     2.8,-999.000,9,-999.000,-999.000,9,-999.0000,   1.8643,-999.0000,-999.000
  316N145_8,        I03,     495,          1,         13,         13,2,19950510,       1507,   -20.0008,    82.7337,       5201,  2610.2,   1.8888,  34.7261,2,  34.7263,2,    174.4,2,   173.8,2,  113.62,2,   32.95,2,    0.00,2,    2.33,2,-999.000,9,-999.000,9,-999.000,9,  2280.2,2,  2388.0,2,-999.0000,9,-999.0000,9, -999.00,9,    0.35,2,  -186.8,2,     3.1,-999.000,9,-999.000,-999.000,9,-999.0000,   1.7002,-999.0000,-999.000
  316N145_8,        I03,     495,          1,         12,         12,2,19950510,       1507,   -20.0008,    82.7337,       5201,  2832.0,   1.7480,  34.7267,2,  34.7269,2,    180.4,2,   180.4,2,  113.59,2,   32.56,2,    0.00,2,    2.29,2,   0.001,2,   0.001,2,-999.000,9,  2276.8,2,  2384.0,2,-999.0000,9,-999.0000,9, -999.00,9,    0.24,2,  -182.1,2,     2.5,-999.000,9,-999.000,-999.000,9,-999.0000,   1.5415,-999.0000,-999.000
  316N145_8,        I03,     495,          1,         11,         11,2,19950510,       1507,   -20.0008,    82.7337,       5201,  3034.7,   1.6420,  34.7270,2,  34.7275,2,    180.3,2,   181.0,2,  117.53,2,   32.66,2,    0.00,2,    2.30,2,-999.000,9,-999.000,9,-999.000,9,  2280.0,2,  2391.0,2,-999.0000,9,-999.0000,9, -999.00,9,   -0.17,3,  -193.9,2,     4.4,-999.000,9,-999.000,-999.000,9,-999.0000,   1.4185,-999.0000,-999.000
  316N145_8,        I03,     495,          1,         10,         10,2,19950510,       1507,   -20.0008,    82.7337,       5201,  3238.3,   1.5616,  34.7252,2,  34.7252,2,    183.3,2,   179.3,2,  123.05,2,   32.87,2,    0.00,2,    2.32,2,   0.001,2,   0.000,2,   0.051,3,  2287.4,2,  2397.0,2,-999.0000,9,-999.0000,9, -999.00,9,    0.16,2,  -184.3,2,     2.9,-999.000,9,-999.000,   0.000,2,-999.0000,   1.3200,-999.0000,-999.000
  316N145_8,        I03,     495,          1,          9,          9,2,19950510,       1507,   -20.0008,    82.7337,       5201,  3442.5,   1.4874,  34.7235,2,  34.7230,2,    181.5,2,   179.7,2,  126.14,2,   33.17,2,    0.00,2,    2.34,2,-999.000,9,-999.000,9,-999.000,9,  2290.2,2,  2404.0,2,-999.0000,9,-999.0000,9, -999.00,9,    0.32,2,  -199.1,2,     4.2,-999.000,9,-999.000,-999.000,9,-999.0000,   1.2272,-999.0000,-999.000
  316N145_8,        I03,     495,          1,          8,          8,2,19950510,       1507,   -20.0008,    82.7337,       5201,  3645.9,   1.4300,  34.7218,2,  34.7219,2,    181.4,2,   181.8,2,  127.23,2,   33.17,2,    0.00,2,    2.33,2,   0.001,2,   0.001,2,-999.000,9,  2290.2,2,  2401.0,2,-999.0000,9,-999.0000,9, -999.00,9,    0.31,2,  -183.1,6,     2.5,-999.000,9,-999.000,-999.000,9,-999.0000,   1.1504,-999.0000,-999.000
  316N145_8,        I03,     495,          1,          7,          7,2,19950510,       1507,   -20.0008,    82.7337,       5201,  3848.6,   1.3914,  34.7202,2,  34.7205,2,    182.4,2,   183.1,2,  128.76,2,   33.18,2,    0.00,2,    2.33,2,-999.000,9,-999.000,9,-999.000,9,  2290.7,2,  2406.0,2,-999.0000,9,-999.0000,9, -999.00,9,    0.31,2,  -184.9,2,     2.9,-999.000,9,-999.000,-999.000,9,-999.0000,   1.0916,-999.0000,-999.000
  316N145_8,        I03,     495,          1,          6,          6,2,19950510,       1507,   -20.0008,    82.7337,       5201,  4052.3,   1.3760,  34.7190,2,  34.7195,2,    182.9,2,   183.5,2,  129.62,2,   33.24,2,    0.00,2,    2.32,2,  -0.002,2,   0.001,2,-999.000,9,  2292.0,2,  2404.0,2,-999.0000,9,-999.0000,9, -999.00,9,    0.28,2,  -182.7,2,     3.7,-999.000,9,-999.000,-999.000,9,-999.0000,   1.0547,-999.0000,-999.000
  316N145_8,        I03,     495,          1,          5,          5,2,19950510,       1507,   -20.0008,    82.7337,       5201,  4257.3,   1.3689,  34.7178,2,  34.7176,2,    184.5,2,   183.7,2,  130.26,2,   33.29,2,    0.00,2,    2.32,2,-999.000,9,-999.000,9,-999.000,9,  2292.5,2,  2409.0,2,-999.0000,9,-999.0000,9, -999.00,9,    0.26,2,  -195.3,2,     3.7,-999.000,9,-999.000,-999.000,9,-999.0000,   1.0252,-999.0000,-999.000
  316N145_8,        I03,     495,          1,          4,          4,2,19950510,       1507,   -20.0008,    82.7337,       5201,  4514.2,   1.3774,  34.7177,2,  34.7172,2,    183.9,2,   183.7,2,  131.35,2,   33.29,2,    0.00,2,    2.33,2,-999.000,9,-999.000,9,-999.000,9,  2294.0,2,  2406.0,2,-999.0000,9,-999.0000,9, -999.00,9,    0.29,2,  -200.2,2,     4.3,-999.000,9,-999.000,-999.000,9,-999.0000,   1.0044,-999.0000,-999.000
  316N145_8,        I03,     495,          1,          3,          3,2,19950510,       1507,   -20.0008,    82.7337,       5201,  4770.1,   1.4002,  34.7174,2,  34.7166,2,    184.4,2,   184.0,2,  131.31,2,   33.30,2,    0.00,2,    2.33,2,-999.000,9,-999.000,9,-999.000,9,  2294.5,2,  2408.0,2,-999.0000,9,-999.0000,9, -999.00,9,    0.23,2,  -209.2,2,     4.6,-999.000,9,-999.000,-999.000,9,-999.0000,   0.9967,-999.0000,-999.000
  316N145_8,        I03,     495,          1,          2,          2,2,19950510,       1507,   -20.0008,    82.7337,       5201,  5026.0,   1.4252,  34.7175,2,  34.7176,2,    184.6,2,   185.0,2,  131.28,2,   33.25,2,    0.00,2,    2.32,2,   0.001,2,   0.003,2,  -0.007,3,  2293.8,2,  2405.0,2,-999.0000,9,-999.0000,9, -999.00,9,   -0.07,3,  -196.6,2,     3.4,-999.000,9,-999.000,   0.006,2,-999.0000,   0.9902,-999.0000,-999.000
  316N145_8,        I03,     495,          1,          1,          1,2,19950510,       1507,   -20.0008,    82.7337,       5201,  5284.9,   1.4593,  34.7172,2,  34.7164,2,    184.8,2,   184.3,2,  131.24,2,   33.26,2,    0.00,2,    2.32,2,   0.000,2,   0.001,2,  -0.026,3,  2293.7,2,  2410.0,2,-999.0000,9,-999.0000,9, -999.00,9,    0.34,2,  -206.3,2,     3.1,-999.000,9,-999.000,   0.000,2,-999.0000,   0.9912,-999.0000,-999.000