BOTTLE,20140514CCHSIOSE
EXPOCODE,SECT_ID,STNNBR,CASTNO,SAMPNO,BTLNBR,BTLNBR_FLAG_W,DATE,TIME,LATITUDE,LONGITUDE,DEPTH,CTDPRS,CTDTMP,CTDSAL,CTDSAL_FLAG_W,SALNTY,SALNTY_FLAG_W,CTDOXY,CTDOXY_FLAG_W,OXYGEN,OXYGEN_FLAG_W,SILCAT,SILCAT_FLAG_W,NITRAT,NITRAT_FLAG_W,NITRIT,NITRIT_FLAG_W,PHSPHT,PHSPHT_FLAG_W,CFC-11,CFC-11_FLAG_W,CFC-12,CFC-12_FLAG_W,CFC113,CFC113_FLAG_W,TCARBN,TCARBN_FLAG_W,ALKALI,ALKALI_FLAG_W,TRITUM,TRITUM_FLAG_W,HELIUM,HELIUM_FLAG_W,DELHE3,DELHE3_FLAG_W,DELC13,DELC13_FLAG_W,DELC14,DELC14_FLAG_W,C14ERR,NEON,NEON_FLAG_W,NEONER,CCL4,CCL4_FLAG_W,HELIER,THETA,TRITER,DELHER
,,,,,,,,,,,METERS,DBAR,ITS-90,PSS-78,,PSS-78,,UMOL/KG,,UMOL/KG,,UMOL/KG,,UMOL/KG,,UMOL/KG,,UMOL/KG,,PMOL/KG,,PMOL/KG,,PMOL/KG,,UMOL/KG,,UMOL/KG,,TU,,NMOL/KG,,PERCNT,,/MILLE,,/MILLE,,/MILLE,NMOL/KG,,NMOL/KG,PMOL/KG,,NMOL/KG,DEG C,TU,PERCNT
  316N145_8,        I03,     545,          1,         36,         36,2,19950528,       1052,   -20.0007,    56.0832,       4373,     5.2,  25.4438,  35.1792,2,  35.1791,2,    205.6,2,   207.3,2,    2.86,2,    0.25,2,    0.00,2,    0.11,2,   1.894,2,   1.074,2,-999.000,9,  1959.5,2,  2301.0,2,-999.0000,9,-999.0000,9, -999.00,9, -999.00,9,  -999.0,9,  -999.0,-999.000,9,-999.000,-999.000,9,-999.0000,  25.4427,-999.0000,-999.000
  316N145_8,        I03,     545,          1,         35,         35,2,19950528,       1052,   -20.0007,    56.0832,       4373,    57.0,  25.0680,  35.2150,2,  35.2157,2,    207.5,2,   208.4,2,    2.85,2,    0.25,2,    0.00,2,    0.11,2,   1.893,2,   1.071,2,-999.000,9,  1962.3,6,  2303.0,6,-999.0000,9,-999.0000,9, -999.00,9, -999.00,9,  -999.0,9,  -999.0,-999.000,9,-999.000,-999.000,9,-999.0000,  25.0557,-999.0000,-999.000
  316N145_8,        I03,     545,          1,         34,         34,2,19950528,       1052,   -20.0007,    56.0832,       4373,   107.2,  22.3927,  35.3304,2,  35.3217,2,    205.6,2,   198.0,2,    3.52,2,    0.58,2,    0.06,2,    0.21,2,   2.093,2,   1.155,2,-999.000,9,  2001.7,2,  2312.0,2,-999.0000,9,-999.0000,9, -999.00,9, -999.00,9,  -999.0,9,  -999.0,-999.000,9,-999.000,-999.000,9,-999.0000,  22.3713,-999.0000,-999.000
  316N145_8,        I03,     545,          1,         33,         33,2,19950528,       1052,   -20.0007,    56.0832,       4373,   157.3,  20.6185,  35.4658,2,  35.4642,2,    186.7,2,   180.2,2,    4.87,2,    3.67,2,    0.02,2,    0.38,2,   2.113,2,   1.153,2,-999.000,9,  2038.4,2,  2321.0,2,-999.0000,9,-999.0000,9, -999.00,9, -999.00,9,  -999.0,9,  -999.0,-999.000,9,-999.000,-999.000,9,-999.0000,  20.5888,-999.0000,-999.000
  316N145_8,        I03,     545,          1,         32,         32,2,19950528,       1052,   -20.0007,    56.0832,       4373,   207.0,  19.0297,  35.5586,2,  35.5566,2,    184.4,2,   178.4,2,    5.76,2,    4.89,2,    0.02,2,    0.46,2,   2.168,2,   1.162,2,-999.000,9,  2064.2,2,  2331.0,2,-999.0000,9,-999.0000,9, -999.00,9, -999.00,9,  -999.0,9,  -999.0,-999.000,9,-999.000,-999.000,9,-999.0000,  18.9926,-999.0000,-999.000
  316N145_8,        I03,     545,          1,         31,         31,2,19950528,       1052,   -20.0007,    56.0832,       4373,   257.7,  17.2094,  35.5826,2,  35.5788,2,    191.9,2,   189.4,2,    5.30,2,    5.28,2,    0.01,2,    0.49,2,   2.327,2,   1.225,2,-999.000,9,  2080.1,2,  2335.0,2,-999.0000,9,-999.0000,9, -999.00,9, -999.00,9,  -999.0,9,  -999.0,-999.000,9,-999.000,-999.000,9,-999.0000,  17.1663,-999.0000,-999.000
  316N145_8,        I03,     545,          1,         30,         30,2,19950528,       1052,   -20.0007,    56.0832,       4373,   307.8,  15.9265,  35.5152,2,  35.5175,2,    199.9,2,   199.1,2,    4.84,2,    5.91,2,    0.01,2,    0.53,2,   2.456,2,   1.274,2,-999.000,9,  2087.4,2,  2332.0,2,-999.0000,9,-999.0000,9, -999.00,9, -999.00,9,  -999.0,9,  -999.0,-999.000,9,-999.000,-999.000,9,-999.0000,  15.8776,-999.0000,-999.000
  316N145_8,        I03,     545,          1,         29,         29,2,19950528,       1052,   -20.0007,    56.0832,       4373,   357.2,  14.2537,  35.3779,2,  35.3838,2,    210.2,2,   211.5,2,    4.39,2,    6.98,2,    0.01,2,    0.61,2,   2.629,2,   1.346,2,-999.000,9,  2093.5,2,  2326.0,2,-999.0000,9,-999.0000,9, -999.00,9, -999.00,9,  -999.0,9,  -999.0,-999.000,9,-999.000,-999.000,9,-999.0000,  14.2010,-999.0000,-999.000
  316N145_8,        I03,     545,          1,         28,         28,2,19950528,       1052,   -20.0007,    56.0832,       4373,   406.8,  13.2796,  35.2643,2,  35.2729,2,    217.3,2,   219.4,2,    4.15,2,    8.34,2,    0.02,2,    0.67,2,   2.739,2,   1.384,2,-999.000,9,  2095.4,2,  2321.0,2,-999.0000,9,-999.0000,9, -999.00,9, -999.00,9,  -999.0,9,  -999.0,-999.000,9,-999.000,-999.000,9,-999.0000,  13.2222,-999.0000,-999.000
  316N145_8,        I03,     545,          1,         27,         27,2,19950528,       1052,   -20.0007,    56.0832,       4373,   458.7,  12.3011,  35.1255,2,  35.1232,2,    221.2,2,   223.7,2,    4.60,2,   10.24,2,    0.01,2,    0.78,2,   2.693,2,   1.352,2,-999.000,9,  2100.3,2,  2313.0,2,-999.0000,9,-999.0000,9, -999.00,9, -999.00,9,  -999.0,9,  -999.0,-999.000,9,-999.000,-999.000,9,-999.0000,  12.2396,-999.0000,-999.000
  316N145_8,        I03,     545,          1,         26,         26,2,19950528,       1052,   -20.0007,    56.0832,       4373,   507.9,  11.7811,  35.0493,2,  35.0481,2,    219.8,3,   224.7,2,    4.82,2,   11.26,2,    0.01,2,    0.85,2,   2.654,2,   1.328,2,-999.000,9,  2102.9,2,  2310.0,2,-999.0000,9,-999.0000,9, -999.00,9, -999.00,9,  -999.0,9,  -999.0,-999.000,9,-999.000,-999.000,9,-999.0000,  11.7147,-999.0000,-999.000
  316N145_8,        I03,     545,          1,         25,         25,2,19950528,       1052,   -20.0007,    56.0832,       4373,   607.5,  10.0543,  34.8021,2,  34.8023,2,    221.1,3,   223.8,2,    6.39,2,   15.14,2,    0.01,2,    1.08,2,   2.297,2,   1.133,2,-999.000,9,  2114.0,2,  2300.0,2,-999.0000,9,-999.0000,9, -999.00,9, -999.00,9,  -999.0,9,  -999.0,-999.000,9,-999.000,-999.000,9,-999.0000,   9.9823,-999.0000,-999.000
  316N145_8,        I03,     545,          1,         24,         24,2,19950528,       1052,   -20.0007,    56.0832,       4373,   708.6,   8.7449,  34.6476,2,  34.6493,2,    213.3,2,   213.1,2,   10.24,2,   19.57,2,    0.01,2,    1.36,2,   1.572,2,   0.776,2,-999.000,9,  2130.3,2,  2295.0,2,-999.0000,9,-999.0000,9, -999.00,9, -999.00,9,  -999.0,9,  -999.0,-999.000,9,-999.000,-999.000,9,-999.0000,   8.6673,-999.0000,-999.000
  316N145_8,        I03,     545,          1,         23,         23,2,19950528,       1052,   -20.0007,    56.0832,       4373,   808.6,   6.4758,  34.5413,2,  34.5394,2,    181.5,2,   173.0,2,   35.39,2,   28.16,2,    0.01,2,    1.94,2,   0.460,2,   0.230,2,-999.000,9,  2188.7,2,  2311.0,2,-999.0000,9,-999.0000,9, -999.00,9, -999.00,9,  -999.0,9,  -999.0,-999.000,9,-999.000,-999.000,9,-999.0000,   6.4004,-999.0000,-999.000
  316N145_8,        I03,     545,          1,         22,         22,2,19950528,       1052,   -20.0007,    56.0832,       4373,   908.5,   5.8180,  34.5622,2,  34.5624,2,    158.3,2,   149.7,2,   51.03,2,   31.25,2,    0.01,2,    2.20,2,   0.212,2,   0.109,2,-999.000,9,  -999.0,5,  -999.0,5,-999.0000,9,-999.0000,9, -999.00,9, -999.00,9,  -999.0,9,  -999.0,-999.000,9,-999.000,-999.000,9,-999.0000,   5.7372,-999.0000,-999.000
  316N145_8,        I03,     545,          1,         21,         21,2,19950528,       1052,   -20.0007,    56.0832,       4373,  1010.0,   5.1471,  34.5816,2,  34.5810,2,    140.6,2,   138.7,2,   63.75,2,   33.08,2,    0.01,2,    2.33,2,   0.100,2,   0.052,2,-999.000,9,  2238.5,2,  2338.0,2,-999.0000,9,   1.8350,2,    7.89,2, -999.00,9,  -999.0,9,  -999.0,   7.826,2,   0.018,-999.000,9,   0.0030,   5.0616,-999.0000,    0.14
  316N145_8,        I03,     545,          1,         20,         20,2,19950528,       1052,   -20.0007,    56.0832,       4373,  1111.0,   4.6766,  34.6189,2,  34.6202,2,    129.8,2,   128.7,2,   75.59,2,   34.32,2,    0.01,2,    2.42,2,   0.044,2,   0.015,2,-999.000,9,  2257.1,2,  2348.0,2,-999.0000,9,   1.8330,2,    9.73,2, -999.00,9,  -999.0,9,  -999.0,   7.818,2,   0.020,-999.000,9,   0.0060,   4.5856,-999.0000,    0.13
  316N145_8,        I03,     545,          1,         19,         19,2,19950528,       1052,   -20.0007,    56.0832,       4373,  1211.1,   4.1885,  34.6370,2,  34.6369,2,    131.2,2,   131.3,2,   81.30,2,   34.61,2,    0.01,2,    2.45,2,   0.020,2,   0.012,2,-999.000,9,  2263.6,2,  2356.0,2,-999.0000,9,   1.8420,2,   10.40,2, -999.00,9,  -999.0,9,  -999.0,   7.861,2,   0.029,-999.000,9,   0.0030,   4.0929,-999.0000,    0.15
  316N145_8,        I03,     545,          1,         18,         18,2,19950528,       1052,   -20.0007,    56.0832,       4373,  1312.4,   3.7408,  34.6522,2,  34.6518,2,    136.2,2,   137.9,2,   86.57,2,   34.42,2,    0.01,2,    2.43,2,   0.016,2,   0.003,2,-999.000,9,  2268.3,2,  2361.0,2,-999.0000,9,   1.8520,2,   11.07,2, -999.00,9,  -999.0,9,  -999.0,   7.906,2,   0.021,-999.000,9,   0.0020,   3.6407,-999.0000,    0.10
  316N145_8,        I03,     545,          1,         17,         17,2,19950528,       1052,   -20.0007,    56.0832,       4373,  1414.0,   3.4037,  34.6595,2,  34.6584,2,    142.4,2,   144.7,2,   89.33,2,   34.12,2,    0.02,2,    2.40,2,   0.008,2,   0.003,2,-999.000,9,  2270.2,2,  2363.0,2,-999.0000,9,   1.8600,2,   11.15,2, -999.00,9,  -999.0,9,  -999.0,   7.944,2,   0.022,-999.000,9,   0.0020,   3.2984,-999.0000,    0.10
  316N145_8,        I03,     545,          1,         16,         16,2,19950528,       1052,   -20.0007,    56.0832,       4373,  1514.0,   3.1199,  34.6776,2,  34.6773,2,    146.8,2,   148.4,2,   93.70,2,   34.02,2,    0.01,2,    2.40,2,-999.000,9,-999.000,9,-999.000,9,  2271.5,2,  2369.0,2,-999.0000,9,   1.8560,2,   11.79,2, -999.00,9,  -999.0,9,  -999.0,   7.936,2,   0.021,-999.000,9,   0.0030,   3.0093,-999.0000,    0.13
  316N145_8,        I03,     545,          1,         15,         15,2,19950528,       1052,   -20.0007,    56.0832,       4373,  1614.8,   2.8272,  34.6884,2,  34.6881,2,    154.7,2,   154.4,2,   96.93,2,   33.67,2,    0.01,2,    2.37,2,-999.000,9,-999.000,9,-999.000,9,  2272.5,2,  2371.0,2,-999.0000,9,   1.8670,2,   12.18,2, -999.00,9,  -999.0,9,  -999.0,   7.999,2,   0.038,-999.000,9,   0.0030,   2.7115,-999.0000,    0.08
  316N145_8,        I03,     545,          1,         14,         14,2,19950528,       1052,   -20.0007,    56.0832,       4373,  1817.5,   2.5122,  34.7057,2,  34.7055,2,    162.1,2,   161.0,2,  101.55,2,   33.38,2,    0.01,2,    2.35,2,   0.002,2,  -0.002,2,-999.000,9,  2273.4,2,  2376.0,2,-999.0000,9,   1.8590,2,   12.55,2, -999.00,9,  -999.0,9,  -999.0,   7.995,2,   0.021,-999.000,9,   0.0030,   2.3835,-999.0000,    0.13
  316N145_8,        I03,     545,          1,         13,         13,2,19950528,       1052,   -20.0007,    56.0832,       4373,  2020.2,   2.2716,  34.7188,2,  34.7196,2,    161.1,2,   162.1,2,  109.20,2,   33.42,2,    0.01,2,    2.37,2,-999.000,9,-999.000,9,-999.000,9,  2280.4,2,  2384.0,2,-999.0000,9,   1.8900,2,   13.81,2, -999.00,9,  -999.0,9,  -999.0,   8.086,2,   0.019,-999.000,9,   0.0030,   2.1290,-999.0000,    0.14
  316N145_8,        I03,     545,          1,         12,         12,2,19950528,       1052,   -20.0007,    56.0832,       4373,  2221.7,   2.1140,  34.7258,2,  34.7259,2,    164.6,2,   163.9,2,  113.63,2,   33.53,2,    0.01,2,    2.37,2,-999.000,9,-999.000,9,-999.000,9,  2284.5,2,  2390.0,2,-999.0000,9,   1.8620,2,   14.31,2, -999.00,9,  -999.0,9,  -999.0,   8.007,2,   0.021,-999.000,9,   0.0030,   1.9563,-999.0000,    0.13
  316N145_8,        I03,     545,          1,         11,         11,2,19950528,       1052,   -20.0007,    56.0832,       4373,  2424.4,   1.9779,  34.7301,2,  34.7304,2,    164.7,2,   165.2,2,  118.77,2,   33.68,2,    0.01,2,    2.37,2,   0.002,2,  -0.004,2,-999.000,9,  2288.5,2,  2395.0,2,-999.0000,9,   1.8980,2,   14.07,2, -999.00,9,  -999.0,9,  -999.0,   8.116,2,   0.018,-999.000,9,   0.0030,   1.8045,-999.0000,    0.14
  316N145_8,        I03,     545,          1,         10,         10,2,19950528,       1052,   -20.0007,    56.0832,       4373,  2628.2,   1.9049,  34.7326,2,  34.7338,2,    164.6,2,   162.0,3,  122.07,2,   33.83,2,    0.01,2,    2.37,2,-999.000,9,-999.000,9,-999.000,9,  2293.1,2,  2399.0,2,-999.0000,9,   1.8760,2,   13.55,2, -999.00,9,  -999.0,9,  -999.0,   8.038,2,   0.021,-999.000,9,   0.0030,   1.7143,-999.0000,    0.13
  316N145_8,        I03,     545,          1,          9,          9,2,19950528,       1052,   -20.0007,    56.0832,       4373,  2830.6,   1.8310,  34.7324,2,  34.7326,2,    166.6,2,   165.8,2,  124.44,2,   33.87,2,    0.01,2,    2.37,2,-999.000,9,-999.000,9,-999.000,9,  2295.1,2,  2400.5,6,-999.0000,9,   1.8860,2,   13.15,2, -999.00,9,  -999.0,9,  -999.0,   8.110,2,   0.018,-999.000,9,   0.0030,   1.6230,-999.0000,    0.14
  316N145_8,        I03,     545,          1,          8,          8,2,19950528,       1052,   -20.0007,    56.0832,       4373,  3033.2,   1.7587,  34.7326,2,  34.7326,2,    167.0,2,   165.8,2,  126.58,2,   33.93,2,    0.01,2,    2.39,2,   0.002,2,  -0.005,2,   0.056,3,  2295.6,2,  2403.0,2,-999.0000,9,   1.8780,2,   13.01,2, -999.00,9,  -999.0,9,  -999.0,   8.067,2,   0.021,  -0.243,2,   0.0030,   1.5327,-999.0000,    0.13
  316N145_8,        I03,     545,          1,          7,          7,2,19950528,       1052,   -20.0007,    56.0832,       4373,  3235.9,   1.6861,  34.7305,2,  34.7310,2,    168.4,2,   168.1,2,  127.79,2,   33.88,2,    0.01,2,    2.37,2,-999.000,9,-999.000,9,-999.000,9,  2294.6,2,  2404.0,2,-999.0000,9,   1.8840,2,   12.55,2, -999.00,9,  -999.0,9,  -999.0,   8.131,2,   0.020,-999.000,9,   0.0030,   1.4418,-999.0000,    0.08
  316N145_8,        I03,     545,          1,          6,          6,2,19950528,       1052,   -20.0007,    56.0832,       4373,  3439.5,   1.6264,  34.7292,2,  34.7286,2,    169.3,2,   170.8,2,  128.05,2,   33.83,2,    0.01,2,    2.36,2,-999.000,9,-999.000,9,-999.000,9,  2294.0,2,  2403.0,2,-999.0000,9,   1.8870,2,   12.31,2, -999.00,9,  -999.0,9,  -999.0,   8.133,2,   0.030,-999.000,9,   0.0030,   1.3630,-999.0000,    0.15
  316N145_8,        I03,     545,          1,          5,          5,2,19950528,       1052,   -20.0007,    56.0832,       4373,  3643.6,   1.5428,  34.7260,2,  34.7251,2,    173.2,2,   175.2,2,  128.08,2,   33.58,2,    0.01,2,    2.34,2,   0.001,2,  -0.002,2,-999.000,9,  2289.1,2,  2400.0,2,-999.0000,9,   1.9070,2,   11.76,2, -999.00,9,  -999.0,9,  -999.0,   8.151,2,   0.022,-999.000,9,   0.0020,   1.2605,-999.0000,    0.10
  316N145_8,        I03,     545,          1,          4,          4,2,19950528,       1052,   -20.0007,    56.0832,       4373,  3848.1,   1.4719,  34.7233,2,  34.7235,2,    177.7,2,   179.3,2,  127.87,2,   33.43,2,    0.01,2,    2.33,2,-999.000,9,-999.000,9,-999.000,9,  2285.9,2,  2397.0,2,-999.0000,9,   1.8950,2,   11.30,2, -999.00,9,  -999.0,9,  -999.0,   8.148,2,   0.030,-999.000,9,   0.0040,   1.1699,-999.0000,    0.15
  316N145_8,        I03,     545,          1,          3,          3,2,19950528,       1052,   -20.0007,    56.0832,       4373,  4049.7,   1.4157,  34.7211,2,  34.7206,2,    183.0,2,   182.8,2,  127.42,2,   33.24,2,    0.01,2,    2.30,2,-999.000,9,-999.000,9,   0.006,3,  2283.2,2,  2394.0,2,-999.0000,9,   1.8910,2,   11.02,2, -999.00,9,  -999.0,9,  -999.0,   8.145,2,   0.022,  -0.004,2,   0.0020,   1.0936,-999.0000,    0.10
  316N145_8,        I03,     545,          1,          2,          2,2,19950528,       1052,   -20.0007,    56.0832,       4373,  4256.7,   1.3470,  34.7186,2,  34.7174,2,    187.0,2,   187.2,2,  126.74,2,   32.99,2,    0.01,2,    2.29,2,   0.004,2,  -0.003,2,   0.008,3,  2280.0,2,  2391.0,2,-999.0000,9,   1.8840,2,   10.41,2, -999.00,9,  -999.0,9,  -999.0,   8.176,2,   0.031,   0.003,2,   0.0040,   1.0040,-999.0000,    0.15
  316N145_8,        I03,     545,          1,          1,          1,2,19950528,       1052,   -20.0007,    56.0832,       4373,  4448.1,   1.2456,  34.7150,2,  34.7137,2,    193.1,2,   192.0,2,  126.06,2,   32.84,2,    0.01,2,    2.28,2,   0.004,2,  -0.001,2,   0.014,3,  2274.1,2,  2387.0,2,-999.0000,9,   1.8700,2,    9.27,2, -999.00,9,  -999.0,9,  -999.0,   8.200,2,   0.022,   0.015,2,   0.0100,   0.8843,-999.0000,    0.10