BOTTLE,20140514CCHSIOSE
EXPOCODE,SECT_ID,STNNBR,CASTNO,SAMPNO,BTLNBR,BTLNBR_FLAG_W,DATE,TIME,LATITUDE,LONGITUDE,DEPTH,CTDPRS,CTDTMP,CTDSAL,CTDSAL_FLAG_W,SALNTY,SALNTY_FLAG_W,CTDOXY,CTDOXY_FLAG_W,OXYGEN,OXYGEN_FLAG_W,SILCAT,SILCAT_FLAG_W,NITRAT,NITRAT_FLAG_W,NITRIT,NITRIT_FLAG_W,PHSPHT,PHSPHT_FLAG_W,CFC-11,CFC-11_FLAG_W,CFC-12,CFC-12_FLAG_W,CFC113,CFC113_FLAG_W,TCARBN,TCARBN_FLAG_W,ALKALI,ALKALI_FLAG_W,TRITUM,TRITUM_FLAG_W,HELIUM,HELIUM_FLAG_W,DELHE3,DELHE3_FLAG_W,DELC13,DELC13_FLAG_W,DELC14,DELC14_FLAG_W,C14ERR,NEON,NEON_FLAG_W,NEONER,CCL4,CCL4_FLAG_W,HELIER,THETA,TRITER,DELHER
,,,,,,,,,,,METERS,DBAR,ITS-90,PSS-78,,PSS-78,,UMOL/KG,,UMOL/KG,,UMOL/KG,,UMOL/KG,,UMOL/KG,,UMOL/KG,,PMOL/KG,,PMOL/KG,,PMOL/KG,,UMOL/KG,,UMOL/KG,,TU,,NMOL/KG,,PERCNT,,/MILLE,,/MILLE,,/MILLE,NMOL/KG,,NMOL/KG,PMOL/KG,,NMOL/KG,DEG C,TU,PERCNT
  316N145_8,        I03,     515,          1,         28,         28,2,19950519,       0102,   -19.9998,    70.2498,       3253,     6.3,  24.9657,  35.0435,2,  35.0419,2,    207.8,2,   215.1,3,    2.60,2,    0.05,2,    0.00,2,    0.11,2,-999.000,9,-999.000,9,-999.000,9,  1950.6,6,  2295.5,6,   1.1237,2,   1.7029,2,   -1.31,2, -999.00,9,  -999.0,9,  -999.0,   6.768,2,   0.034,-999.000,9,   0.0085,  24.9643,   0.0040,    0.14
  316N145_8,        I03,     515,          1,         27,         27,2,19950519,       0102,   -19.9998,    70.2498,       3253,    56.1,  24.9104,  35.0324,2,  35.0301,2,    211.1,2,   212.8,2,    2.59,2,    0.05,2,    0.00,2,    0.12,2,-999.000,9,-999.000,9,-999.000,9,  -999.0,9,  -999.0,9,-999.0000,9,-999.0000,9, -999.00,9, -999.00,9,  -999.0,9,  -999.0,-999.000,9,-999.000,-999.000,9,-999.0000,  24.8983,-999.0000,-999.000
  316N145_8,        I03,     515,          1,         26,         26,2,19950519,       0102,   -19.9998,    70.2498,       3253,   105.5,  22.1882,  35.4255,2,  35.4244,2,    219.8,2,   216.6,2,    2.99,2,    0.05,2,    0.00,2,    0.14,2,-999.000,9,-999.000,9,-999.000,9,  -999.0,9,  -999.0,9,   1.1359,2,   1.7331,2,   -1.17,2, -999.00,9,  -999.0,9,  -999.0,   6.978,2,   0.035,-999.000,9,   0.0087,  22.1672,   0.0041,    0.14
  316N145_8,        I03,     515,          1,         25,         25,2,19950519,       0102,   -19.9998,    70.2498,       3253,   156.4,  20.5153,  35.6677,2,  35.6659,2,    206.8,2,   202.0,2,    3.18,2,    1.01,2,    0.07,2,    0.22,2,-999.000,9,-999.000,9,-999.000,9,  -999.0,9,  -999.0,9,-999.0000,9,   1.7294,2,   -1.15,2, -999.00,9,  -999.0,9,  -999.0,   6.988,2,   0.035,-999.000,9,   0.0086,  20.4858,-999.0000,    0.14
  316N145_8,        I03,     515,          1,         24,         24,2,19950519,       0102,   -19.9998,    70.2498,       3253,   205.8,  18.7244,  35.7810,2,  35.7809,2,    206.3,2,   201.5,2,    3.16,2,    1.82,2,    0.01,2,    0.28,2,-999.000,9,-999.000,9,-999.000,9,  -999.0,9,  -999.0,9,   1.0400,2,   1.7416,2,   -0.47,2, -999.00,9,  -999.0,9,  -999.0,   7.097,2,   0.035,-999.000,9,   0.0087,  18.6879,   0.0039,    0.14
  316N145_8,        I03,     515,          1,         23,         23,2,19950519,       0102,   -19.9998,    70.2498,       3253,   256.4,  16.9902,  35.6996,2,  35.6985,2,    197.1,2,   196.1,2,    4.40,2,    4.02,2,    0.00,2,    0.42,2,-999.000,9,-999.000,9,-999.000,9,  -999.0,9,  -999.0,9,   0.9576,2,   1.7537,2,    0.17,2, -999.00,9,  -999.0,9,  -999.0,   7.188,2,   0.036,-999.000,9,   0.0088,  16.9476,   0.0038,    0.14
  316N145_8,        I03,     515,          1,         22,         22,2,19950519,       0102,   -19.9998,    70.2498,       3253,   306.1,  15.1583,  35.5276,2,  35.5284,2,    207.6,2,   207.0,2,    4.18,2,    5.29,2,    0.00,2,    0.52,2,-999.000,9,-999.000,9,-999.000,9,  -999.0,9,  -999.0,9,   0.8709,2,   1.7494,2,    0.27,2, -999.00,9,  -999.0,9,  -999.0,   7.242,2,   0.036,-999.000,9,   0.0087,  15.1112,   0.0036,    0.14
  316N145_8,        I03,     515,          1,         21,         21,2,19950519,       0102,   -19.9998,    70.2498,       3253,   357.9,  13.8574,  35.3641,2,  35.3674,2,    214.9,2,   213.8,2,    4.16,2,    7.02,2,    0.01,2,    0.61,2,-999.000,9,-999.000,9,-999.000,9,  -999.0,9,  -999.0,9,   0.7832,2,   1.7647,2,    0.40,2, -999.00,9,  -999.0,9,  -999.0,   7.344,2,   0.037,-999.000,9,   0.0088,  13.8056,   0.0034,    0.14
  316N145_8,        I03,     515,          1,         20,         20,2,19950519,       0102,   -19.9998,    70.2498,       3253,   406.4,  12.4327,  35.1647,2,  35.1641,2,    226.3,2,   227.2,2,    3.73,2,    8.94,2,    0.01,2,    0.72,2,-999.000,9,-999.000,9,-999.000,9,  -999.0,9,  -999.0,9,   0.6920,2,   1.7673,2,   -0.30,2, -999.00,9,  -999.0,9,  -999.0,   7.368,2,   0.037,-999.000,9,   0.0088,  12.3779,   0.0033,    0.14
  316N145_8,        I03,     515,          1,         19,         19,2,19950519,       0102,   -19.9998,    70.2498,       3253,   456.9,  11.6394,  35.0382,2,  35.0381,2,    231.6,2,   232.5,2,    3.92,2,   10.53,2,    0.01,2,    0.81,2,-999.000,9,-999.000,9,-999.000,9,  -999.0,9,  -999.0,9,-999.0000,9,-999.0000,9, -999.00,9, -999.00,9,  -999.0,9,  -999.0,-999.000,9,-999.000,-999.000,9,-999.0000,  11.5803,-999.0000,-999.000
  316N145_8,        I03,     515,          1,         18,         18,2,19950519,       0102,   -19.9998,    70.2498,       3253,   507.0,  10.9031,  34.9231,2,  34.9246,2,    231.5,2,   232.9,2,    4.32,2,   12.22,2,    0.00,2,    0.91,2,-999.000,9,-999.000,9,-999.000,9,  -999.0,9,  -999.0,9,   0.5721,2,   1.7546,2,   -0.14,2, -999.00,9,  -999.0,9,  -999.0,   7.395,2,   0.037,-999.000,9,   0.0088,  10.8401,   0.0030,    0.14
  316N145_8,        I03,     515,          1,         17,         17,2,19950519,       0102,   -19.9998,    70.2498,       3253,   607.7,   9.5479,  34.7366,2,  34.7390,2,    221.3,2,   223.3,2,    6.80,2,   16.39,2,    0.00,2,    1.16,2,-999.000,9,-999.000,9,-999.000,9,  -999.0,9,  -999.0,9,   0.4424,2,   1.7646,2,    0.83,2, -999.00,9,  -999.0,9,  -999.0,   7.464,2,   0.037,-999.000,9,   0.0088,   9.4781,   0.0028,    0.14
  316N145_8,        I03,     515,          1,         16,         16,2,19950519,       0102,   -19.9998,    70.2498,       3253,   708.5,   8.1195,  34.5800,2,  34.5799,2,    206.4,2,   207.8,2,   12.83,2,   21.75,2,    0.00,2,    1.50,2,-999.000,9,-999.000,9,-999.000,9,  -999.0,9,  -999.0,9,   0.2524,2,   1.7787,2,    1.67,2, -999.00,9,  -999.0,9,  -999.0,   7.620,2,   0.038,-999.000,9,   0.0089,   8.0453,   0.0026,    0.14
  316N145_8,        I03,     515,          1,         15,         15,2,19950519,       0102,   -19.9998,    70.2498,       3253,   809.6,   6.3357,  34.4886,2,  34.4873,2,    177.6,2,   179.2,2,   30.10,2,   28.02,2,    0.00,2,    1.94,2,-999.000,9,-999.000,9,-999.000,9,  -999.0,9,  -999.0,9,-999.0000,9,-999.0000,9, -999.00,9, -999.00,9,  -999.0,9,  -999.0,-999.000,9,-999.000,-999.000,9,-999.0000,   6.2612,-999.0000,-999.000
  316N145_8,        I03,     515,          1,         14,         14,2,19950519,       0102,   -19.9998,    70.2498,       3253,   910.9,   5.1589,  34.5027,2,  34.5046,2,    148.3,2,   150.2,2,   54.24,2,   32.59,2,    0.00,2,    2.30,2,-999.000,9,-999.000,9,-999.000,9,  -999.0,9,  -999.0,9,   0.0206,2,   1.8061,2,    6.48,2, -999.00,9,  -999.0,9,  -999.0,   7.717,2,   0.039,-999.000,9,   0.0090,   5.0825,   0.0023,    0.14
  316N145_8,        I03,     515,          1,         13,         13,2,19950519,       0102,   -19.9998,    70.2498,       3253,  1010.5,   4.5933,  34.5466,2,  34.5483,2,    135.6,2,   133.7,2,   70.28,2,   34.50,2,    0.01,2,    2.45,2,-999.000,9,-999.000,9,-999.000,9,  -999.0,9,  -999.0,9,-999.0000,9,-999.0000,9, -999.00,9, -999.00,9,  -999.0,9,  -999.0,-999.000,9,-999.000,-999.000,9,-999.0000,   4.5121,-999.0000,-999.000
  316N145_8,        I03,     515,          1,         12,         12,2,19950519,       0102,   -19.9998,    70.2498,       3253,  1162.0,   4.2476,  34.6246,2,  34.6246,2,    121.7,2,   122.4,2,   84.70,2,   35.26,2,    0.00,2,    2.53,2,-999.000,9,-999.000,9,-999.000,9,  -999.0,9,  -999.0,9,   0.0017,2,   1.8533,2,   10.65,2, -999.00,9,  -999.0,9,  -999.0,   7.849,2,   0.039,-999.000,9,   0.0093,   4.1559,   0.0022,    0.14
  316N145_8,        I03,     515,          1,         11,         11,2,19950519,       0102,   -19.9998,    70.2498,       3253,  1314.4,   3.9978,  34.6707,2,  34.6707,2,    120.2,2,   120.5,2,   92.44,2,   35.36,2,    0.00,2,    2.55,2,-999.000,9,-999.000,9,-999.000,9,  -999.0,9,  -999.0,9,-999.0000,9,-999.0000,9, -999.00,9, -999.00,9,  -999.0,9,  -999.0,-999.000,9,-999.000,-999.000,9,-999.0000,   3.8950,-999.0000,-999.000
  316N145_8,        I03,     515,          1,         10,         10,2,19950519,       0102,   -19.9998,    70.2498,       3253,  1514.8,   3.6064,  34.7032,2,  34.7019,2,    125.5,2,   125.2,2,   99.37,2,   35.01,2,    0.01,2,    2.51,2,-999.000,9,-999.000,9,-999.000,9,  -999.0,9,  -999.0,9,  -0.0014,2,   1.8709,2,   12.67,2, -999.00,9,  -999.0,9,  -999.0,   7.937,2,   0.040,-999.000,9,   0.0094,   3.4900,   0.0022,    0.14
  316N145_8,        I03,     515,          1,          9,          9,2,19950519,       0102,   -19.9998,    70.2498,       3253,  1716.2,   2.9968,  34.7028,2,  34.7019,2,    143.0,2,   143.9,2,  100.79,2,   34.29,2,    0.00,2,    2.45,2,-999.000,9,-999.000,9,-999.000,9,  -999.0,9,  -999.0,9,   0.0018,2,   1.8607,2,   12.97,2, -999.00,9,  -999.0,9,  -999.0,   7.955,2,   0.040,-999.000,9,   0.0093,   2.8702,   0.0022,    0.14
  316N145_8,        I03,     515,          1,          8,          8,2,19950519,       0102,   -19.9998,    70.2498,       3253,  1918.8,   2.4226,  34.7120,2,  34.7106,2,    163.1,2,   162.0,2,  102.86,2,   33.33,2,    0.00,2,    2.34,2,-999.000,9,-999.000,9,-999.000,9,  -999.0,9,  -999.0,9,-999.0000,9,-999.0000,9, -999.00,9, -999.00,9,  -999.0,9,  -999.0,-999.000,9,-999.000,-999.000,9,-999.0000,   2.2865,-999.0000,-999.000
  316N145_8,        I03,     515,          1,          7,          7,2,19950519,       0102,   -19.9998,    70.2498,       3253,  2120.6,   2.0147,  34.7217,2,  34.7213,2,    174.8,2,   174.3,2,  106.84,2,   32.65,2,    0.00,2,    2.29,2,-999.000,9,-999.000,9,-999.000,9,  -999.0,9,  -999.0,9,-999.0000,9,   1.8830,2,   16.26,2, -999.00,9,  -999.0,9,  -999.0,   8.060,2,   0.066,-999.000,9,   0.0060,   1.8675,-999.0000,    0.13
  316N145_8,        I03,     515,          1,          6,          6,2,19950519,       0102,   -19.9998,    70.2498,       3253,  2323.5,   1.7682,  34.7257,2,  34.7253,2,    181.4,2,   182.6,2,  109.35,2,   32.27,2,    0.00,2,    2.26,2,-999.000,9,-999.000,9,-999.000,9,  -999.0,9,  -999.0,9,-999.0000,9,   1.9240,2,   16.24,2, -999.00,9,  -999.0,9,  -999.0,   8.216,2,   0.024,-999.000,9,   0.0040,   1.6075,-999.0000,    0.10
  316N145_8,        I03,     515,          1,          5,          5,2,19950519,       0102,   -19.9998,    70.2498,       3253,  2527.5,   1.6647,  34.7265,2,  34.7249,2,    184.1,2,   184.2,2,  112.71,2,   32.17,2,    0.00,2,    2.25,2,-999.000,9,-999.000,9,-999.000,9,  -999.0,9,  -999.0,9,-999.0000,9,   1.9260,2,   16.28,2, -999.00,9,  -999.0,9,  -999.0,   8.207,2,   0.071,-999.000,9,   0.0060,   1.4879,-999.0000,    0.13
  316N145_8,        I03,     515,          1,          4,          4,2,19950519,       0102,   -19.9998,    70.2498,       3253,  2731.3,   1.5990,  34.7257,2,  34.7255,2,    185.6,2,   185.1,2,  115.22,2,   32.31,2,    0.00,2,    2.26,2,-999.000,9,-999.000,9,-999.000,9,  -999.0,9,  -999.0,9,-999.0000,9,   1.9350,2,   15.28,2, -999.00,9,  -999.0,9,  -999.0,   8.229,2,   0.025,-999.000,9,   0.0040,   1.4051,-999.0000,    0.10
  316N145_8,        I03,     515,          1,          3,          3,2,19950519,       0102,   -19.9998,    70.2498,       3253,  2933.1,   1.5736,  34.7254,2,  34.7249,2,    185.3,3,   185.6,2,  116.23,2,   32.35,2,    0.00,2,    2.26,2,-999.000,9,-999.000,9,-999.000,9,  -999.0,9,  -999.0,9,-999.0000,9,   1.9080,2,   14.67,2, -999.00,9,  -999.0,9,  -999.0,   8.188,2,   0.055,-999.000,9,   0.0140,   1.3613,-999.0000,    0.13
  316N145_8,        I03,     515,          1,          2,          2,2,19950519,       0102,   -19.9998,    70.2498,       3253,  3135.6,   1.5338,  34.7254,2,  34.7249,2,    185.2,3,   186.1,2,  118.54,2,   32.40,2,    0.00,2,    2.26,2,-999.000,9,-999.000,9,-999.000,9,  -999.0,9,  -999.0,9,-999.0000,9,   1.8970,2,   14.15,2, -999.00,9,  -999.0,9,  -999.0,   8.112,2,   0.024,-999.000,9,   0.0040,   1.3029,-999.0000,    0.10
  316N145_8,        I03,     515,          1,          1,          1,2,19950519,       0102,   -19.9998,    70.2498,       3253,  3348.2,   1.5183,  34.7254,2,  34.7239,2,    186.0,3,   184.9,2,  119.98,2,   32.49,2,    0.00,2,    2.27,2,-999.000,9,-999.000,9,-999.000,9,  -999.0,9,  -999.0,9,-999.0000,9,   1.8710,2,   13.13,2, -999.00,9,  -999.0,9,  -999.0,   8.023,2,   0.066,-999.000,9,   0.0130,   1.2668,-999.0000,    0.13