BOTTLE,20140514CCHSIOSE
EXPOCODE,SECT_ID,STNNBR,CASTNO,SAMPNO,BTLNBR,BTLNBR_FLAG_W,DATE,TIME,LATITUDE,LONGITUDE,DEPTH,CTDPRS,CTDTMP,CTDSAL,CTDSAL_FLAG_W,SALNTY,SALNTY_FLAG_W,CTDOXY,CTDOXY_FLAG_W,OXYGEN,OXYGEN_FLAG_W,SILCAT,SILCAT_FLAG_W,NITRAT,NITRAT_FLAG_W,NITRIT,NITRIT_FLAG_W,PHSPHT,PHSPHT_FLAG_W,CFC-11,CFC-11_FLAG_W,CFC-12,CFC-12_FLAG_W,CFC113,CFC113_FLAG_W,TCARBN,TCARBN_FLAG_W,ALKALI,ALKALI_FLAG_W,TRITUM,TRITUM_FLAG_W,HELIUM,HELIUM_FLAG_W,DELHE3,DELHE3_FLAG_W,DELC13,DELC13_FLAG_W,DELC14,DELC14_FLAG_W,C14ERR,NEON,NEON_FLAG_W,NEONER,CCL4,CCL4_FLAG_W,HELIER,THETA,TRITER,DELHER
,,,,,,,,,,,METERS,DBAR,ITS-90,PSS-78,,PSS-78,,UMOL/KG,,UMOL/KG,,UMOL/KG,,UMOL/KG,,UMOL/KG,,UMOL/KG,,PMOL/KG,,PMOL/KG,,PMOL/KG,,UMOL/KG,,UMOL/KG,,TU,,NMOL/KG,,PERCNT,,/MILLE,,/MILLE,,/MILLE,NMOL/KG,,NMOL/KG,PMOL/KG,,NMOL/KG,DEG C,TU,PERCNT
  316N145_8,        I03,     536,          1,         36,         36,2,19950523,       1959,   -20.3668,    58.6163,       4424,     6.9,  25.1728,  35.2468,2,  35.2450,2,    206.8,2,   207.5,2,    2.69,2,    0.00,2,    0.00,2,    0.12,2,-999.000,9,-999.000,9,-999.000,9,  1964.0,6,  2308.5,6,-999.0000,9,-999.0000,9, -999.00,9, -999.00,9,  -999.0,9,  -999.0,-999.000,9,-999.000,-999.000,9,-999.0000,  25.1713,-999.0000,-999.000
  316N145_8,        I03,     536,          1,         35,         35,2,19950523,       1959,   -20.3668,    58.6163,       4424,    55.6,  25.1860,  35.2467,2,  35.2457,2,    212.0,2,   207.6,2,    2.68,2,    0.00,2,    0.00,2,    0.12,2,-999.000,9,-999.000,9,-999.000,9,  -999.0,9,  -999.0,9,-999.0000,9,-999.0000,9, -999.00,9, -999.00,9,  -999.0,9,  -999.0,-999.000,9,-999.000,-999.000,9,-999.0000,  25.1739,-999.0000,-999.000
  316N145_8,        I03,     536,          1,         34,         34,2,19950523,       1959,   -20.3668,    58.6163,       4424,   106.0,  22.7989,  35.3219,2,  35.3280,2,    216.2,2,   213.7,2,    2.88,2,    0.00,2,    0.00,2,    0.14,2,-999.000,9,-999.000,9,-999.000,9,  -999.0,9,  -999.0,9,-999.0000,9,-999.0000,9, -999.00,9, -999.00,9,  -999.0,9,  -999.0,-999.000,9,-999.000,-999.000,9,-999.0000,  22.7774,-999.0000,-999.000
  316N145_8,        I03,     536,          1,         33,         33,2,19950523,       1959,   -20.3668,    58.6163,       4424,   155.7,  21.5357,  35.4875,2,  35.4847,2,    196.9,2,   201.8,2,    3.09,2,    0.79,2,    0.15,2,    0.21,2,-999.000,9,-999.000,9,-999.000,9,  -999.0,9,  -999.0,9,-999.0000,9,-999.0000,9, -999.00,9, -999.00,9,  -999.0,9,  -999.0,-999.000,9,-999.000,-999.000,9,-999.0000,  21.5053,-999.0000,-999.000
  316N145_8,        I03,     536,          1,         32,         32,2,19950523,       1959,   -20.3668,    58.6163,       4424,   205.6,  19.5893,  35.5892,2,  35.5855,2,    187.9,2,   186.0,2,    4.55,2,    3.54,2,    0.01,2,    0.38,2,-999.000,9,-999.000,9,-999.000,9,  -999.0,9,  -999.0,9,-999.0000,9,-999.0000,9, -999.00,9, -999.00,9,  -999.0,9,  -999.0,-999.000,9,-999.000,-999.000,9,-999.0000,  19.5517,-999.0000,-999.000
  316N145_8,        I03,     536,          1,         31,         31,2,19950523,       1959,   -20.3668,    58.6163,       4424,   256.2,  18.0677,  35.6321,2,  35.6310,2,    189.5,2,   191.6,2,    4.54,2,    3.98,2,    0.00,2,    0.41,2,-999.000,9,-999.000,9,-999.000,9,  -999.0,9,  -999.0,9,-999.0000,9,-999.0000,9, -999.00,9, -999.00,9,  -999.0,9,  -999.0,-999.000,9,-999.000,-999.000,9,-999.0000,  18.0234,-999.0000,-999.000
  316N145_8,        I03,     536,          1,         30,         30,2,19950523,       1959,   -20.3668,    58.6163,       4424,   306.0,  16.4703,  35.5794,2,  35.5731,2,    201.2,2,   202.3,2,    4.12,2,    4.56,2,    0.00,2,    0.46,2,-999.000,9,-999.000,9,-999.000,9,  -999.0,9,  -999.0,9,-999.0000,9,-999.0000,9, -999.00,9, -999.00,9,  -999.0,9,  -999.0,-999.000,9,-999.000,-999.000,9,-999.0000,  16.4206,-999.0000,-999.000
  316N145_8,        I03,     536,          1,         29,         29,2,19950523,       1959,   -20.3668,    58.6163,       4424,   355.4,  14.7384,  35.4503,2,  35.4524,2,    210.1,2,   213.0,2,    3.69,2,    5.87,2,    0.00,2,    0.55,2,   2.577,2,   1.356,2,-999.000,9,  -999.0,9,  -999.0,9,-999.0000,9,-999.0000,9, -999.00,9, -999.00,9,  -999.0,9,  -999.0,-999.000,9,-999.000,-999.000,9,-999.0000,  14.6848,-999.0000,-999.000
  316N145_8,        I03,     536,          1,         28,         28,2,19950523,       1959,   -20.3668,    58.6163,       4424,   405.7,  13.6882,  35.3201,2,  35.3222,2,    213.3,2,   216.4,2,    4.32,2,    7.52,2,    0.00,2,    0.65,2,   2.671,2,   1.370,2,-999.000,9,  -999.0,9,  -999.0,9,-999.0000,9,-999.0000,9, -999.00,9, -999.00,9,  -999.0,9,  -999.0,-999.000,9,-999.000,-999.000,9,-999.0000,  13.6299,-999.0000,-999.000
  316N145_8,        I03,     536,          1,         27,         27,2,19950523,       1959,   -20.3668,    58.6163,       4424,   456.5,  12.4950,  35.1568,2,  35.1568,2,    220.7,2,   222.8,2,    4.52,2,    9.60,2,    0.00,2,    0.76,2,   2.632,2,   1.341,2,-999.000,9,  -999.0,9,  -999.0,9,-999.0000,9,-999.0000,9, -999.00,9, -999.00,9,  -999.0,9,  -999.0,-999.000,9,-999.000,-999.000,9,-999.0000,  12.4331,-999.0000,-999.000
  316N145_8,        I03,     536,          1,         26,         26,2,19950523,       1959,   -20.3668,    58.6163,       4424,   506.7,  11.6644,  35.0348,2,  35.0469,2,    225.5,2,   227.6,2,    4.51,2,   10.95,2,    0.00,2,    0.85,2,-999.000,9,-999.000,9,-999.000,9,  -999.0,9,  -999.0,9,-999.0000,9,-999.0000,9, -999.00,9, -999.00,9,  -999.0,9,  -999.0,-999.000,9,-999.000,-999.000,9,-999.0000,  11.5986,-999.0000,-999.000
  316N145_8,        I03,     536,          1,         25,         25,2,19950523,       1959,   -20.3668,    58.6163,       4424,   607.0,  10.2108,  34.8239,2,  34.8298,2,    227.6,2,   227.5,2,    5.55,2,   14.49,2,    0.00,2,    1.05,2,-999.000,9,-999.000,9,-999.000,9,  -999.0,9,  -999.0,9,-999.0000,9,-999.0000,9, -999.00,9, -999.00,9,  -999.0,9,  -999.0,-999.000,9,-999.000,-999.000,9,-999.0000,  10.1381,-999.0000,-999.000
  316N145_8,        I03,     536,          1,         24,         24,2,19950523,       1959,   -20.3668,    58.6163,       4424,   707.9,   8.6347,  34.6392,2,  34.6416,2,    218.5,2,   213.6,2,   10.76,2,   19.77,2,    0.00,2,    1.38,2,   1.472,2,   0.735,2,-999.000,9,  -999.0,9,  -999.0,9,-999.0000,9,-999.0000,9, -999.00,9, -999.00,9,  -999.0,9,  -999.0,-999.000,9,-999.000,-999.000,9,-999.0000,   8.5578,-999.0000,-999.000
  316N145_8,        I03,     536,          1,         23,         23,2,19950523,       1959,   -20.3668,    58.6163,       4424,   808.8,   7.2163,  34.5459,2,  34.5461,2,    197.6,2,   194.3,2,   21.39,2,   24.68,2,    0.00,2,    1.71,2,   0.738,2,   0.373,2,-999.000,9,  -999.0,9,  -999.0,9,-999.0000,9,-999.0000,9, -999.00,9, -999.00,9,  -999.0,9,  -999.0,-999.000,9,-999.000,-999.000,9,-999.0000,   7.1365,-999.0000,-999.000
  316N145_8,        I03,     536,          1,         22,         22,2,19950523,       1959,   -20.3668,    58.6163,       4424,   908.7,   5.6893,  34.4968,2,  34.4971,2,    173.4,2,   169.0,2,   41.60,2,   30.06,2,    0.00,2,    2.10,2,   0.251,2,   0.125,2,-999.000,9,  -999.0,9,  -999.0,9,-999.0000,9,-999.0000,9, -999.00,9, -999.00,9,  -999.0,9,  -999.0,-999.000,9,-999.000,-999.000,9,-999.0000,   5.6095,-999.0000,-999.000
  316N145_8,        I03,     536,          1,         21,         21,2,19950523,       1959,   -20.3668,    58.6163,       4424,  1009.1,   5.1462,  34.5459,2,  34.5459,2,    152.0,2,   143.5,2,   59.52,2,   32.72,2,    0.00,2,    2.32,2,   0.092,2,   0.044,2,-999.000,9,  -999.0,9,  -999.0,9,-999.0000,9,-999.0000,9, -999.00,9, -999.00,9,  -999.0,9,  -999.0,-999.000,9,-999.000,-999.000,9,-999.0000,   5.0609,-999.0000,-999.000
  316N145_8,        I03,     536,          1,         20,         20,2,19950523,       1959,   -20.3668,    58.6163,       4424,  1109.8,   4.6390,  34.6120,2,  34.6100,2,    128.4,2,   127.4,2,   75.82,2,   34.35,2,    0.00,2,    2.46,2,   0.026,2,   0.010,2,-999.000,9,  -999.0,9,  -999.0,9,-999.0000,9,-999.0000,9, -999.00,9, -999.00,9,  -999.0,9,  -999.0,-999.000,9,-999.000,-999.000,9,-999.0000,   4.5485,-999.0000,-999.000
  316N145_8,        I03,     536,          1,         19,         19,2,19950523,       1959,   -20.3668,    58.6163,       4424,  1210.7,   4.3205,  34.6319,2,  34.6318,2,    126.6,2,   126.7,2,   81.88,2,   34.61,2,    0.00,2,    2.48,2,   0.012,2,   0.006,2,-999.000,9,  -999.0,9,  -999.0,9,-999.0000,9,-999.0000,9, -999.00,9, -999.00,9,  -999.0,9,  -999.0,-999.000,9,-999.000,-999.000,9,-999.0000,   4.2238,-999.0000,-999.000
  316N145_8,        I03,     536,          1,         18,         18,2,19950523,       1959,   -20.3668,    58.6163,       4424,  1311.5,   3.8527,  34.6392,2,  34.6390,2,    134.3,2,   136.5,2,   84.37,2,   34.32,2,    0.00,2,    2.45,2,   0.010,2,   0.004,2,-999.000,9,  -999.0,9,  -999.0,9,-999.0000,9,-999.0000,9, -999.00,9, -999.00,9,  -999.0,9,  -999.0,-999.000,9,-999.000,-999.000,9,-999.0000,   3.7516,-999.0000,-999.000
  316N145_8,        I03,     536,          1,         17,         17,2,19950523,       1959,   -20.3668,    58.6163,       4424,  1412.2,   3.4312,  34.6555,2,  34.6547,2,    143.5,2,   144.3,2,   88.34,2,   33.93,2,    0.00,2,    2.43,2,-999.000,9,-999.000,9,-999.000,9,  -999.0,9,  -999.0,9,-999.0000,9,-999.0000,9, -999.00,9, -999.00,9,  -999.0,9,  -999.0,-999.000,9,-999.000,-999.000,9,-999.0000,   3.3258,-999.0000,-999.000
  316N145_8,        I03,     536,          1,         16,         16,2,19950523,       1959,   -20.3668,    58.6163,       4424,  1513.0,   3.1252,  34.6737,2,  34.6732,2,    147.0,2,   148.6,2,   92.53,2,   33.83,2,    0.00,2,    2.40,2,-999.000,9,-999.000,9,-999.000,9,  -999.0,9,  -999.0,9,-999.0000,9,-999.0000,9, -999.00,9, -999.00,9,  -999.0,9,  -999.0,-999.000,9,-999.000,-999.000,9,-999.0000,   3.0146,-999.0000,-999.000
  316N145_8,        I03,     536,          1,         15,         15,2,19950523,       1959,   -20.3668,    58.6163,       4424,  1714.4,   2.6248,  34.6964,2,  34.6951,2,    161.0,2,   160.7,2,   97.78,2,   33.20,2,    0.00,2,    2.34,2,-999.000,9,-999.000,9,-999.000,9,  -999.0,9,  -999.0,9,-999.0000,9,-999.0000,9, -999.00,9, -999.00,9,  -999.0,9,  -999.0,-999.000,9,-999.000,-999.000,9,-999.0000,   2.5033,-999.0000,-999.000
  316N145_8,        I03,     536,          1,         14,         14,2,19950523,       1959,   -20.3668,    58.6163,       4424,  1915.9,   2.4098,  34.7129,2,  34.7120,2,    162.2,2,   162.3,2,  104.76,2,   33.20,2,    0.00,2,    2.35,2,-999.000,9,-999.000,9,-999.000,9,  -999.0,9,  -999.0,9,-999.0000,9,-999.0000,9, -999.00,9, -999.00,9,  -999.0,9,  -999.0,-999.000,9,-999.000,-999.000,9,-999.0000,   2.2742,-999.0000,-999.000
  316N145_8,        I03,     536,          1,         13,         13,2,19950523,       1959,   -20.3668,    58.6163,       4424,  2118.5,   2.2360,  34.7224,2,  34.7216,2,    164.9,2,   164.4,2,  109.42,2,   33.16,2,    0.00,2,    2.35,2,-999.000,9,-999.000,9,-999.000,9,  -999.0,9,  -999.0,9,-999.0000,9,-999.0000,9, -999.00,9, -999.00,9,  -999.0,9,  -999.0,-999.000,9,-999.000,-999.000,9,-999.0000,   2.0855,-999.0000,-999.000
  316N145_8,        I03,     536,          1,         12,         12,2,19950523,       1959,   -20.3668,    58.6163,       4424,  2321.7,   2.0903,  34.7278,2,  34.7285,2,    164.8,2,   164.8,2,  114.75,2,   33.26,2,    0.00,2,    2.35,2,-999.000,9,-999.000,9,-999.000,9,  -999.0,9,  -999.0,9,-999.0000,9,-999.0000,9, -999.00,9, -999.00,9,  -999.0,9,  -999.0,-999.000,9,-999.000,-999.000,9,-999.0000,   1.9242,-999.0000,-999.000
  316N145_8,        I03,     536,          1,         11,         11,2,19950523,       1959,   -20.3668,    58.6163,       4424,  2525.5,   1.9638,  34.7303,2,  34.7302,2,    166.0,2,   166.4,2,  118.60,2,   33.37,2,    0.00,2,    2.36,2,-999.000,9,-999.000,9,-999.000,9,  -999.0,9,  -999.0,9,-999.0000,9,-999.0000,9, -999.00,9, -999.00,9,  -999.0,9,  -999.0,-999.000,9,-999.000,-999.000,9,-999.0000,   1.7815,-999.0000,-999.000
  316N145_8,        I03,     536,          1,         10,         10,2,19950523,       1959,   -20.3668,    58.6163,       4424,  2729.6,   1.8802,  34.7312,2,  34.7308,2,    167.1,2,   167.3,2,  121.37,2,   33.38,2,    0.00,2,    2.35,2,-999.000,9,-999.000,9,-999.000,9,  -999.0,9,  -999.0,9,-999.0000,9,-999.0000,9, -999.00,9, -999.00,9,  -999.0,9,  -999.0,-999.000,9,-999.000,-999.000,9,-999.0000,   1.6807,-999.0000,-999.000
  316N145_8,        I03,     536,          1,          9,          9,2,19950523,       1959,   -20.3668,    58.6163,       4424,  2932.2,   1.8063,  34.7313,2,  34.7312,2,    168.1,2,   167.9,2,  123.94,2,   33.53,2,    0.00,2,    2.36,2,-999.000,9,-999.000,9,-999.000,9,  -999.0,9,  -999.0,9,-999.0000,9,-999.0000,9, -999.00,9, -999.00,9,  -999.0,9,  -999.0,-999.000,9,-999.000,-999.000,9,-999.0000,   1.5891,-999.0000,-999.000
  316N145_8,        I03,     536,          1,          8,          8,2,19950523,       1959,   -20.3668,    58.6163,       4424,  3136.1,   1.7076,  34.7285,2,  34.7283,2,    171.6,2,   171.7,2,  124.77,2,   33.39,2,    0.00,2,    2.35,2,-999.000,9,-999.000,9,-999.000,9,  -999.0,9,  -999.0,9,-999.0000,9,-999.0000,9, -999.00,9, -999.00,9,  -999.0,9,  -999.0,-999.000,9,-999.000,-999.000,9,-999.0000,   1.4727,-999.0000,-999.000
  316N145_8,        I03,     536,          1,          7,          7,2,19950523,       1959,   -20.3668,    58.6163,       4424,  3339.0,   1.6523,  34.7272,2,  34.7271,2,    174.7,2,   174.3,2,  125.38,2,   33.20,2,    0.00,2,    2.34,2,-999.000,9,-999.000,9,-999.000,9,  -999.0,9,  -999.0,9,-999.0000,9,-999.0000,9, -999.00,9, -999.00,9,  -999.0,9,  -999.0,-999.000,9,-999.000,-999.000,9,-999.0000,   1.3985,-999.0000,-999.000
  316N145_8,        I03,     536,          1,          6,          6,2,19950523,       1959,   -20.3668,    58.6163,       4424,  3543.2,   1.5506,  34.7243,2,  34.7243,2,    178.2,2,   178.3,2,  126.21,2,   33.21,2,    0.00,2,    2.33,2,-999.000,9,-999.000,9,-999.000,9,  -999.0,9,  -999.0,9,-999.0000,9,-999.0000,9, -999.00,9, -999.00,9,  -999.0,9,  -999.0,-999.000,9,-999.000,-999.000,9,-999.0000,   1.2785,-999.0000,-999.000
  316N145_8,        I03,     536,          1,          5,          5,2,19950523,       1959,   -20.3668,    58.6163,       4424,  3746.9,   1.4853,  34.7225,2,  34.7212,2,    181.2,2,   182.0,2,  125.51,2,   33.02,2,    0.00,2,    2.31,2,-999.000,9,-999.000,9,-999.000,9,  -999.0,9,  -999.0,9,-999.0000,9,-999.0000,9, -999.00,9, -999.00,9,  -999.0,9,  -999.0,-999.000,9,-999.000,-999.000,9,-999.0000,   1.1937,-999.0000,-999.000
  316N145_8,        I03,     536,          1,          4,          4,2,19950523,       1959,   -20.3668,    58.6163,       4424,  3950.1,   1.3452,  34.7178,2,  34.7172,2,    187.9,2,   188.8,2,  125.69,2,   32.78,2,    0.00,2,    2.29,2,-999.000,9,-999.000,9,-999.000,9,  -999.0,9,  -999.0,9,-999.0000,9,-999.0000,9, -999.00,9, -999.00,9,  -999.0,9,  -999.0,-999.000,9,-999.000,-999.000,9,-999.0000,   1.0358,-999.0000,-999.000
  316N145_8,        I03,     536,          1,          3,          3,2,19950523,       1959,   -20.3668,    58.6163,       4424,  4154.5,   1.2917,  34.7158,2,  34.7147,2,    190.9,2,   191.8,2,  125.65,2,   32.63,2,    0.00,2,    2.28,2,-999.000,9,-999.000,9,-999.000,9,  -999.0,9,  -999.0,9,-999.0000,9,-999.0000,9, -999.00,9, -999.00,9,  -999.0,9,  -999.0,-999.000,9,-999.000,-999.000,9,-999.0000,   0.9617,-999.0000,-999.000
  316N145_8,        I03,     536,          1,          2,          2,2,19950523,       1959,   -20.3668,    58.6163,       4424,  4358.7,   1.2689,  34.7137,2,  34.7137,2,    192.9,2,   193.5,2,  125.61,2,   32.59,2,    0.00,2,    2.28,2,-999.000,9,-999.000,9,-999.000,9,  -999.0,9,  -999.0,9,-999.0000,9,-999.0000,9, -999.00,9, -999.00,9,  -999.0,9,  -999.0,-999.000,9,-999.000,-999.000,9,-999.0000,   0.9169,-999.0000,-999.000
  316N145_8,        I03,     536,          1,          1,          1,2,19950523,       1959,   -20.3668,    58.6163,       4424,  4554.9,   1.2580,  34.7135,2,  34.7131,2,    194.1,2,   193.8,2,  125.56,2,   32.60,2,    0.00,2,    2.28,2,-999.000,9,-999.000,9,-999.000,9,  -999.0,9,  -999.0,9,-999.0000,9,-999.0000,9, -999.00,9, -999.00,9,  -999.0,9,  -999.0,-999.000,9,-999.000,-999.000,9,-999.0000,   0.8841,-999.0000,-999.000