BOTTLE,20140514CCHSIOSE
EXPOCODE,SECT_ID,STNNBR,CASTNO,SAMPNO,BTLNBR,BTLNBR_FLAG_W,DATE,TIME,LATITUDE,LONGITUDE,DEPTH,CTDPRS,CTDTMP,CTDSAL,CTDSAL_FLAG_W,SALNTY,SALNTY_FLAG_W,CTDOXY,CTDOXY_FLAG_W,OXYGEN,OXYGEN_FLAG_W,SILCAT,SILCAT_FLAG_W,NITRAT,NITRAT_FLAG_W,NITRIT,NITRIT_FLAG_W,PHSPHT,PHSPHT_FLAG_W,CFC-11,CFC-11_FLAG_W,CFC-12,CFC-12_FLAG_W,CFC113,CFC113_FLAG_W,TCARBN,TCARBN_FLAG_W,ALKALI,ALKALI_FLAG_W,TRITUM,TRITUM_FLAG_W,HELIUM,HELIUM_FLAG_W,DELHE3,DELHE3_FLAG_W,DELC13,DELC13_FLAG_W,DELC14,DELC14_FLAG_W,C14ERR,NEON,NEON_FLAG_W,NEONER,CCL4,CCL4_FLAG_W,HELIER,THETA,TRITER,DELHER
,,,,,,,,,,,METERS,DBAR,ITS-90,PSS-78,,PSS-78,,UMOL/KG,,UMOL/KG,,UMOL/KG,,UMOL/KG,,UMOL/KG,,UMOL/KG,,PMOL/KG,,PMOL/KG,,PMOL/KG,,UMOL/KG,,UMOL/KG,,TU,,NMOL/KG,,PERCNT,,/MILLE,,/MILLE,,/MILLE,NMOL/KG,,NMOL/KG,PMOL/KG,,NMOL/KG,DEG C,TU,PERCNT
  316N145_8,        I03,     552,          1,         36,         36,2,19950530,       1220,   -20.0008,    52.2665,       4917,     6.1,  25.2091,  35.2090,2,  35.2080,2,    207.5,2,   208.1,2,    2.66,2,    0.10,2,    0.00,2,    0.11,2,   1.895,2,   1.072,2,   0.035,3,  1956.7,6,  2304.4,6,-999.0000,9,-999.0000,9, -999.00,9, -999.00,9,  -999.0,9,  -999.0,-999.000,9,-999.000,   2.144,2,-999.0000,  25.2078,-999.0000,-999.000
  316N145_8,        I03,     552,          1,         35,         35,2,19950530,       1220,   -20.0008,    52.2665,       4917,    56.1,  24.9543,  35.3206,2,  35.3209,2,    210.2,2,   209.5,2,    2.65,2,    0.10,2,    0.00,2,    0.11,2,   1.900,2,   1.081,2,-999.000,9,  -999.0,9,  -999.0,9,-999.0000,9,-999.0000,9, -999.00,9, -999.00,9,  -999.0,9,  -999.0,-999.000,9,-999.000,-999.000,9,-999.0000,  24.9421,-999.0000,-999.000
  316N145_8,        I03,     552,          1,         34,         34,2,19950530,       1220,   -20.0008,    52.2665,       4917,   105.7,  23.4627,  35.2624,2,  35.2644,2,    210.8,2,   205.3,2,    2.86,2,    0.09,2,    0.00,2,    0.16,2,   2.012,2,   1.133,2,-999.000,9,  -999.0,9,  -999.0,9,-999.0000,9,-999.0000,9, -999.00,9, -999.00,9,  -999.0,9,  -999.0,-999.000,9,-999.000,-999.000,9,-999.0000,  23.4408,-999.0000,-999.000
  316N145_8,        I03,     552,          1,         33,         33,2,19950530,       1220,   -20.0008,    52.2665,       4917,   156.1,  21.0852,  35.4276,2,  35.4292,2,    183.3,2,   183.2,2,    4.23,2,    3.41,2,    0.02,2,    0.35,2,-999.000,9,-999.000,9,-999.000,9,  -999.0,9,  -999.0,9,-999.0000,9,-999.0000,9, -999.00,9, -999.00,9,  -999.0,9,  -999.0,-999.000,9,-999.000,-999.000,9,-999.0000,  21.0551,-999.0000,-999.000
  316N145_8,        I03,     552,          1,         32,         32,2,19950530,       1220,   -20.0008,    52.2665,       4917,   206.0,  18.7302,  35.5856,2,  35.5844,2,    188.4,2,   188.5,2,    4.68,2,    4.14,2,    0.01,2,    0.40,2,   2.111,4,   1.162,4,   0.041,3,  -999.0,9,  -999.0,9,-999.0000,9,-999.0000,9, -999.00,9, -999.00,9,  -999.0,9,  -999.0,-999.000,9,-999.000,   0.534,2,-999.0000,  18.6937,-999.0000,-999.000
  316N145_8,        I03,     552,          1,         31,         31,2,19950530,       1220,   -20.0008,    52.2665,       4917,   255.8,  16.3789,  35.5780,2,  35.5773,2,    209.6,2,   210.2,2,    3.51,2,    3.67,2,    0.01,2,    0.40,2,   2.612,2,   1.380,2,-999.000,9,  -999.0,9,  -999.0,9,-999.0000,9,-999.0000,9, -999.00,9, -999.00,9,  -999.0,9,  -999.0,-999.000,9,-999.000,-999.000,9,-999.0000,  16.3375,-999.0000,-999.000
  316N145_8,        I03,     552,          1,         30,         30,2,19950530,       1220,   -20.0008,    52.2665,       4917,   306.9,  14.7907,  35.4445,2,  35.4455,2,    211.2,2,   210.4,2,    4.42,2,    6.49,2,    0.00,2,    0.56,2,   2.640,2,   1.377,2,   0.036,3,  -999.0,9,  -999.0,9,-999.0000,9,-999.0000,9, -999.00,9, -999.00,9,  -999.0,9,  -999.0,-999.000,9,-999.000,   0.574,2,-999.0000,  14.7444,-999.0000,-999.000
  316N145_8,        I03,     552,          1,         29,         29,2,19950530,       1220,   -20.0008,    52.2665,       4917,   356.1,  13.9017,  35.3602,2,  35.3612,2,    220.2,2,   222.5,2,    3.94,2,    7.20,2,    0.00,2,    0.60,2,   2.850,2,   1.477,2,-999.000,9,  -999.0,9,  -999.0,9,-999.0000,9,-999.0000,9, -999.00,9, -999.00,9,  -999.0,9,  -999.0,-999.000,9,-999.000,-999.000,9,-999.0000,  13.8501,-999.0000,-999.000
  316N145_8,        I03,     552,          1,         28,         28,2,19950530,       1220,   -20.0008,    52.2665,       4917,   407.1,  13.1252,  35.2516,2,  35.2580,2,    225.7,2,   227.5,2,    4.16,2,    8.49,2,    0.00,2,    0.67,2,   2.879,2,   1.481,2,-999.000,9,  -999.0,9,  -999.0,9,-999.0000,9,-999.0000,9, -999.00,9, -999.00,9,  -999.0,9,  -999.0,-999.000,9,-999.000,-999.000,9,-999.0000,  13.0682,-999.0000,-999.000
  316N145_8,        I03,     552,          1,         27,         27,2,19950530,       1220,   -20.0008,    52.2665,       4917,   507.7,  11.7889,  35.0455,2,  35.0468,2,    225.6,2,   226.3,2,    4.60,2,   11.55,2,    0.00,2,    0.85,2,   2.605,2,   1.310,2,-999.000,9,  -999.0,9,  -999.0,9,-999.0000,9,-999.0000,9, -999.00,9, -999.00,9,  -999.0,9,  -999.0,-999.000,9,-999.000,-999.000,9,-999.0000,  11.7225,-999.0000,-999.000
  316N145_8,        I03,     552,          1,         26,         26,2,19950530,       1220,   -20.0008,    52.2665,       4917,   607.2,  10.4544,  34.8575,2,  34.8576,2,    225.6,2,   223.6,2,    6.20,2,   14.52,2,    0.00,2,    1.04,2,   2.250,2,   1.126,2,   0.029,3,  -999.0,9,  -999.0,9,-999.0000,9,-999.0000,9, -999.00,9, -999.00,9,  -999.0,9,  -999.0,-999.000,9,-999.000,   0.991,2,-999.0000,  10.3806,-999.0000,-999.000
  316N145_8,        I03,     552,          1,         25,         25,2,19950530,       1220,   -20.0008,    52.2665,       4917,   708.4,   8.9691,  34.6799,2,  34.6823,2,    209.7,2,   213.6,2,   10.33,2,   19.02,2,    0.00,2,    1.32,2,   1.578,2,   0.790,2,-999.000,9,  -999.0,9,  -999.0,9,-999.0000,9,-999.0000,9, -999.00,9, -999.00,9,  -999.0,9,  -999.0,-999.000,9,-999.000,-999.000,9,-999.0000,   8.8904,-999.0000,-999.000
  316N145_8,        I03,     552,          1,         24,         24,2,19950530,       1220,   -20.0008,    52.2665,       4917,   809.1,   7.1996,  34.5505,2,  34.5491,2,    197.4,2,   188.1,2,   24.12,2,   25.59,2,    0.00,2,    1.77,2,   0.657,2,   0.338,2,   0.041,3,  -999.0,9,  -999.0,9,-999.0000,9,-999.0000,9, -999.00,9, -999.00,9,  -999.0,9,  -999.0,-999.000,9,-999.000,   0.693,2,-999.0000,   7.1199,-999.0000,-999.000
  316N145_8,        I03,     552,          1,         23,         23,2,19950530,       1220,   -20.0008,    52.2665,       4917,   908.8,   5.8993,  34.5236,2,  34.5158,2,    179.9,2,   166.1,2,   42.50,2,   30.14,2,    0.00,2,    2.10,2,   0.285,2,   0.146,2,-999.000,9,  -999.0,9,  -999.0,9,-999.0000,9,-999.0000,9, -999.00,9, -999.00,9,  -999.0,9,  -999.0,-999.000,9,-999.000,-999.000,9,-999.0000,   5.8180,-999.0000,-999.000
  316N145_8,        I03,     552,          1,         22,         22,2,19950530,       1220,   -20.0008,    52.2665,       4917,  1009.9,   5.0808,  34.5722,2,  34.5719,2,    142.6,2,   141.1,2,   62.50,2,   33.11,2,    0.00,2,    2.35,2,   0.094,2,   0.051,2,   0.033,3,  -999.0,9,  -999.0,9,-999.0000,9,-999.0000,9, -999.00,9, -999.00,9,  -999.0,9,  -999.0,-999.000,9,-999.000,   0.237,2,-999.0000,   4.9959,-999.0000,-999.000
  316N145_8,        I03,     552,          1,         21,         21,2,19950530,       1220,   -20.0008,    52.2665,       4917,  1110.7,   4.4490,  34.5852,2,  34.5848,2,    145.2,2,   139.7,2,   70.98,2,   33.99,2,    0.00,2,    2.40,2,-999.000,9,-999.000,9,-999.000,9,  -999.0,9,  -999.0,9,-999.0000,9,-999.0000,9, -999.00,9, -999.00,9,  -999.0,9,  -999.0,-999.000,9,-999.000,-999.000,9,-999.0000,   4.3600,-999.0000,-999.000
  316N145_8,        I03,     552,          1,         20,         20,2,19950530,       1220,   -20.0008,    52.2665,       4917,  1211.1,   4.0706,  34.5961,2,  34.5973,2,    142.6,2,   142.7,2,   75.32,2,   34.19,2,    0.00,2,    2.43,2,   0.028,2,   0.018,2,   0.047,3,  -999.0,9,  -999.0,9,-999.0000,9,-999.0000,9, -999.00,9, -999.00,9,  -999.0,9,  -999.0,-999.000,9,-999.000,   0.135,2,-999.0000,   3.9762,-999.0000,-999.000
  316N145_8,        I03,     552,          1,         19,         19,2,19950530,       1220,   -20.0008,    52.2665,       4917,  1309.6,   3.8490,  34.6428,2,  34.6397,2,    147.0,2,   137.4,2,   84.04,2,   34.39,2,    0.00,2,    2.45,2,-999.000,9,-999.000,9,-999.000,9,  -999.0,9,  -999.0,9,-999.0000,9,-999.0000,9, -999.00,9, -999.00,9,  -999.0,9,  -999.0,-999.000,9,-999.000,-999.000,9,-999.0000,   3.7481,-999.0000,-999.000
  316N145_8,        I03,     552,          1,         18,         18,2,19950530,       1220,   -20.0008,    52.2665,       4917,  1511.0,   3.0409,  34.6572,2,  34.6578,2,    154.5,2,   157.0,2,   87.69,2,   33.61,2,    0.00,2,    2.36,2,   0.008,2,   0.003,2,  -0.033,3,  -999.0,9,  -999.0,9,-999.0000,9,-999.0000,9, -999.00,9, -999.00,9,  -999.0,9,  -999.0,-999.000,9,-999.000,   0.051,2,-999.0000,   2.9314,-999.0000,-999.000
  316N145_8,        I03,     552,          1,         17,         17,2,19950530,       1220,   -20.0008,    52.2665,       4917,  1709.7,   2.6574,  34.6915,2,  34.6909,2,    159.8,2,   162.9,2,   94.82,2,   33.12,2,    0.00,2,    2.35,2,-999.000,9,-999.000,9,-999.000,9,  -999.0,9,  -999.0,9,-999.0000,9,-999.0000,9, -999.00,9, -999.00,9,  -999.0,9,  -999.0,-999.000,9,-999.000,-999.000,9,-999.0000,   2.5359,-999.0000,-999.000
  316N145_8,        I03,     552,          1,         16,         16,2,19950530,       1220,   -20.0008,    52.2665,       4917,  1911.4,   2.4562,  34.7166,2,  34.7170,2,    162.8,2,   162.6,2,  102.89,2,   33.22,2,    0.00,2,    2.35,2,   0.002,2,   0.001,2,-999.000,9,  -999.0,9,  -999.0,9,-999.0000,9,-999.0000,9, -999.00,9, -999.00,9,  -999.0,9,  -999.0,-999.000,9,-999.000,-999.000,9,-999.0000,   2.3202,-999.0000,-999.000
  316N145_8,        I03,     552,          1,         15,         15,2,19950530,       1220,   -20.0008,    52.2665,       4917,  2117.0,   2.3028,  34.7296,2,  34.7292,2,    162.3,2,   161.4,2,  110.06,2,   33.47,2,    0.00,2,    2.36,2,   0.001,2,   0.003,2,-999.000,9,  -999.0,9,  -999.0,9,-999.0000,9,-999.0000,9, -999.00,9, -999.00,9,  -999.0,9,  -999.0,-999.000,9,-999.000,-999.000,9,-999.0000,   2.1513,-999.0000,-999.000
  316N145_8,        I03,     552,          1,         14,         14,2,19950530,       1220,   -20.0008,    52.2665,       4917,  2319.3,   2.1574,  34.7349,2,  34.7345,2,    161.1,2,   160.8,2,  116.09,2,   33.72,2,    0.00,2,    2.38,2,   0.001,2,   0.003,2,   0.003,3,  -999.0,9,  -999.0,9,-999.0000,9,-999.0000,9, -999.00,9, -999.00,9,  -999.0,9,  -999.0,-999.000,9,-999.000,   0.004,2,-999.0000,   1.9903,-999.0000,-999.000
  316N145_8,        I03,     552,          1,         13,         13,2,19950530,       1220,   -20.0008,    52.2665,       4917,  2523.2,   2.0607,  34.7356,2,  34.7361,2,    161.0,2,   161.4,2,  119.78,2,   33.86,2,    0.00,2,    2.39,2,-999.000,9,-999.000,9,-999.000,9,  -999.0,9,  -999.0,9,-999.0000,9,-999.0000,9, -999.00,9, -999.00,9,  -999.0,9,  -999.0,-999.000,9,-999.000,-999.000,9,-999.0000,   1.8768,-999.0000,-999.000
  316N145_8,        I03,     552,          1,         12,         12,2,19950530,       1220,   -20.0008,    52.2665,       4917,  2730.7,   1.9739,  34.7366,2,  34.7374,2,    162.4,2,   161.7,2,  123.02,2,   34.01,2,    0.00,2,    2.40,2,   0.002,2,   0.003,2,-999.000,9,  -999.0,9,  -999.0,9,-999.0000,9,-999.0000,9, -999.00,9, -999.00,9,  -999.0,9,  -999.0,-999.000,9,-999.000,-999.000,9,-999.0000,   1.7723,-999.0000,-999.000
  316N145_8,        I03,     552,          1,         11,         11,2,19950530,       1220,   -20.0008,    52.2665,       4917,  2932.1,   1.8905,  34.7367,2,  34.7367,2,    163.8,2,   162.7,2,  125.31,2,   34.07,2,    0.00,2,    2.40,2,-999.000,9,-999.000,9,-999.000,9,  -999.0,9,  -999.0,9,-999.0000,9,-999.0000,9, -999.00,9, -999.00,9,  -999.0,9,  -999.0,-999.000,9,-999.000,-999.000,9,-999.0000,   1.6714,-999.0000,-999.000
  316N145_8,        I03,     552,          1,         10,         10,2,19950530,       1220,   -20.0008,    52.2665,       4917,  3136.6,   1.8025,  34.7347,2,  34.7347,2,    165.0,2,   165.1,2,  127.13,2,   34.02,2,    0.00,2,    2.40,2,   0.004,2,   0.002,2,   0.016,3,  -999.0,9,  -999.0,9,-999.0000,9,-999.0000,9, -999.00,9, -999.00,9,  -999.0,9,  -999.0,-999.000,9,-999.000,   0.000,2,-999.0000,   1.5654,-999.0000,-999.000
  316N145_8,        I03,     552,          1,          9,          9,2,19950530,       1220,   -20.0008,    52.2665,       4917,  3339.2,   1.7305,  34.7329,2,  34.7321,2,    167.8,2,   167.6,2,  128.25,2,   33.93,2,    0.00,2,    2.39,2,-999.000,9,-999.000,9,-999.000,9,  -999.0,9,  -999.0,9,-999.0000,9,-999.0000,9, -999.00,9, -999.00,9,  -999.0,9,  -999.0,-999.000,9,-999.000,-999.000,9,-999.0000,   1.4747,-999.0000,-999.000
  316N145_8,        I03,     552,          1,          8,          8,2,19950530,       1220,   -20.0008,    52.2665,       4917,  3544.2,   1.6327,  34.7296,2,  34.7290,2,    172.1,2,   172.5,2,  128.42,2,   33.78,2,    0.00,2,    2.37,2,   0.000,2,   0.002,2,   0.020,3,  -999.0,9,  -999.0,9,-999.0000,9,-999.0000,9, -999.00,9, -999.00,9,  -999.0,9,  -999.0,-999.000,9,-999.000,   0.003,2,-999.0000,   1.3584,-999.0000,-999.000
  316N145_8,        I03,     552,          1,          7,          7,2,19950530,       1220,   -20.0008,    52.2665,       4917,  3747.6,   1.5004,  34.7252,2,  34.7249,2,    178.7,2,   178.7,2,  128.11,2,   33.40,2,    0.00,2,    2.34,2,-999.000,9,-999.000,9,-999.000,9,  -999.0,9,  -999.0,9,-999.0000,9,-999.0000,9, -999.00,9, -999.00,9,  -999.0,9,  -999.0,-999.000,9,-999.000,-999.000,9,-999.0000,   1.2083,-999.0000,-999.000
  316N145_8,        I03,     552,          1,          6,          6,2,19950530,       1220,   -20.0008,    52.2665,       4917,  3952.0,   1.3398,  34.7198,2,  34.7194,2,    187.0,2,   188.0,2,  126.62,2,   33.06,2,    0.00,2,    2.32,2,   0.001,2,   0.005,2,  -0.045,3,  -999.0,9,  -999.0,9,-999.0000,9,-999.0000,9, -999.00,9, -999.00,9,  -999.0,9,  -999.0,-999.000,9,-999.000,   0.069,2,-999.0000,   1.0303,-999.0000,-999.000
  316N145_8,        I03,     552,          1,          5,          5,2,19950530,       1220,   -20.0008,    52.2665,       4917,  4156.4,   1.2273,  34.7155,2,  34.7153,2,    194.2,2,   194.4,2,  125.14,2,   32.72,2,    0.00,2,    2.28,2,-999.000,9,-999.000,9,   0.011,3,  -999.0,9,  -999.0,9,-999.0000,9,-999.0000,9, -999.00,9, -999.00,9,  -999.0,9,  -999.0,-999.000,9,-999.000,   0.030,2,-999.0000,   0.8990,-999.0000,-999.000
  316N145_8,        I03,     552,          1,          4,          4,2,19950530,       1220,   -20.0008,    52.2665,       4917,  4359.0,   1.0993,  34.7115,2,  34.7106,2,    200.6,2,   201.0,2,  124.36,2,   32.43,2,    0.00,2,    2.25,2,   0.005,2,   0.004,2,   0.055,3,  -999.0,9,  -999.0,9,-999.0000,9,-999.0000,9, -999.00,9, -999.00,9,  -999.0,9,  -999.0,-999.000,9,-999.000,   0.082,2,-999.0000,   0.7525,-999.0000,-999.000
  316N145_8,        I03,     552,          1,          3,          3,2,19950530,       1220,   -20.0008,    52.2665,       4917,  4564.5,   1.0335,  34.7075,2,  34.7080,2,    204.5,2,   205.1,2,  124.06,2,   32.29,2,    0.00,2,    2.23,2,   0.004,2,   0.003,2,   0.013,3,  -999.0,9,  -999.0,9,-999.0000,9,-999.0000,9, -999.00,9, -999.00,9,  -999.0,9,  -999.0,-999.000,9,-999.000,   0.054,2,-999.0000,   0.6657,-999.0000,-999.000
  316N145_8,        I03,     552,          1,          2,          2,2,19950530,       1220,   -20.0008,    52.2665,       4917,  4769.6,   1.0136,  34.7061,2,  34.7062,2,    206.3,2,   206.5,2,  123.99,2,   32.19,2,    0.00,2,    2.23,2,   0.008,3,   0.010,4,  -0.034,3,  -999.0,9,  -999.0,9,-999.0000,9,-999.0000,9, -999.00,9, -999.00,9,  -999.0,9,  -999.0,-999.000,9,-999.000,   0.116,2,-999.0000,   0.6229,-999.0000,-999.000
  316N145_8,        I03,     552,          1,          1,          1,2,19950530,       1220,   -20.0008,    52.2665,       4917,  5017.9,   1.0299,  34.7053,2,  34.7064,2,    207.0,2,   205.7,3,  124.16,2,   32.20,2,    0.00,2,    2.23,2,   0.006,2,   0.003,2,   0.012,3,  -999.0,9,  -999.0,9,-999.0000,9,-999.0000,9, -999.00,9, -999.00,9,  -999.0,9,  -999.0,-999.000,9,-999.000,   0.068,2,-999.0000,   0.6094,-999.0000,-999.000