BOTTLE,20140514CCHSIOSE
EXPOCODE,SECT_ID,STNNBR,CASTNO,SAMPNO,BTLNBR,BTLNBR_FLAG_W,DATE,TIME,LATITUDE,LONGITUDE,DEPTH,CTDPRS,CTDTMP,CTDSAL,CTDSAL_FLAG_W,SALNTY,SALNTY_FLAG_W,CTDOXY,CTDOXY_FLAG_W,OXYGEN,OXYGEN_FLAG_W,SILCAT,SILCAT_FLAG_W,NITRAT,NITRAT_FLAG_W,NITRIT,NITRIT_FLAG_W,PHSPHT,PHSPHT_FLAG_W,CFC-11,CFC-11_FLAG_W,CFC-12,CFC-12_FLAG_W,CFC113,CFC113_FLAG_W,TCARBN,TCARBN_FLAG_W,ALKALI,ALKALI_FLAG_W,TRITUM,TRITUM_FLAG_W,HELIUM,HELIUM_FLAG_W,DELHE3,DELHE3_FLAG_W,DELC13,DELC13_FLAG_W,DELC14,DELC14_FLAG_W,C14ERR,NEON,NEON_FLAG_W,NEONER,CCL4,CCL4_FLAG_W,HELIER,THETA,TRITER,DELHER
,,,,,,,,,,,METERS,DBAR,ITS-90,PSS-78,,PSS-78,,UMOL/KG,,UMOL/KG,,UMOL/KG,,UMOL/KG,,UMOL/KG,,UMOL/KG,,PMOL/KG,,PMOL/KG,,PMOL/KG,,UMOL/KG,,UMOL/KG,,TU,,NMOL/KG,,PERCNT,,/MILLE,,/MILLE,,/MILLE,NMOL/KG,,NMOL/KG,PMOL/KG,,NMOL/KG,DEG C,TU,PERCNT
  316N145_8,        I03,     559,          1,         27,         27,2,19950601,       1529,   -19.9995,    49.3892,       2906,     4.2,  26.2603,  35.1516,2,  35.1506,2,    203.7,3,   205.4,2,    2.24,2,    0.13,2,    0.00,2,    0.12,2,   1.800,2,   1.026,2,-999.000,9,  1951.8,6,  2298.0,6,-999.0000,9,-999.0000,9, -999.00,9, -999.00,9,  -999.0,9,  -999.0,-999.000,9,-999.000,-999.000,9,-999.0000,  26.2593,-999.0000,-999.000
  316N145_8,        I03,     559,          1,         26,         26,2,19950601,       1529,   -19.9995,    49.3892,       2906,    49.2,  26.2496,  35.1577,2,  35.1588,2,    201.7,3,   205.3,2,    2.24,2,    0.13,2,    0.00,2,    0.12,2,-999.000,9,-999.000,9,-999.000,9,  1953.5,2,  2299.0,2,-999.0000,9,-999.0000,9, -999.00,9, -999.00,9,  -999.0,9,  -999.0,-999.000,9,-999.000,-999.000,9,-999.0000,  26.2385,-999.0000,-999.000
  316N145_8,        I03,     559,          1,         25,         25,2,19950601,       1529,   -19.9995,    49.3892,       2906,   104.3,  23.4868,  35.1688,2,  35.1726,2,    194.6,2,   200.6,2,    2.86,2,    0.35,2,    0.21,2,    0.21,2,   2.028,2,   1.134,2,-999.000,9,  1988.6,2,  2300.0,2,-999.0000,9,-999.0000,9, -999.00,9, -999.00,9,  -999.0,9,  -999.0,-999.000,9,-999.000,-999.000,9,-999.0000,  23.4652,-999.0000,-999.000
  316N145_8,        I03,     559,          1,         24,         24,2,19950601,       1529,   -19.9995,    49.3892,       2906,   155.0,  21.2994,  35.3583,2,  35.3459,2,    174.0,2,   179.5,2,    4.52,2,    3.67,2,    0.02,2,    0.38,2,-999.000,9,-999.000,9,-999.000,9,  2027.5,2,  2312.0,2,-999.0000,9,-999.0000,9, -999.00,9, -999.00,9,  -999.0,9,  -999.0,-999.000,9,-999.000,-999.000,9,-999.0000,  21.2694,-999.0000,-999.000
  316N145_8,        I03,     559,          1,         23,         23,2,19950601,       1529,   -19.9995,    49.3892,       2906,   205.0,  19.2274,  35.4407,2,  35.4414,2,    171.3,2,   163.0,2,    7.42,2,    7.24,2,    0.01,2,    0.59,2,   2.004,2,   1.088,2,-999.000,9,  2072.0,2,  2323.0,2,-999.0000,9,-999.0000,9, -999.00,9, -999.00,9,  -999.0,9,  -999.0,-999.000,9,-999.000,-999.000,9,-999.0000,  19.1904,-999.0000,-999.000
  316N145_8,        I03,     559,          1,         22,         22,2,19950601,       1529,   -19.9995,    49.3892,       2906,   254.0,  17.4764,  35.4420,2,  35.4239,2,    156.2,2,   156.2,2,   10.13,2,    9.75,2,    0.01,2,    0.76,2,   1.922,2,   1.022,2,-999.000,9,  2098.3,2,  2326.0,2,-999.0000,9,-999.0000,9, -999.00,9, -999.00,9,  -999.0,9,  -999.0,-999.000,9,-999.000,-999.000,9,-999.0000,  17.4335,-999.0000,-999.000
  316N145_8,        I03,     559,          1,         21,         21,2,19950601,       1529,   -19.9995,    49.3892,       2906,   304.2,  15.5120,  35.3660,2,  35.3792,2,    169.9,2,   166.3,2,   10.55,2,   10.62,2,    0.01,2,    0.83,2,   1.997,2,   1.048,2,-999.000,9,  2112.3,2,  2328.0,2,-999.0000,9,-999.0000,9, -999.00,9, -999.00,9,  -999.0,9,  -999.0,-999.000,9,-999.000,-999.000,9,-999.0000,  15.4645,-999.0000,-999.000
  316N145_8,        I03,     559,          1,         20,         20,2,19950601,       1529,   -19.9995,    49.3892,       2906,   353.4,  13.8117,  35.2546,2,  35.2552,2,    181.7,2,   182.1,2,    9.93,2,   11.64,2,    0.00,2,    0.89,2,-999.000,9,-999.000,9,-999.000,9,  2117.1,2,  2322.0,2,-999.0000,9,-999.0000,9, -999.00,9, -999.00,9,  -999.0,9,  -999.0,-999.000,9,-999.000,-999.000,9,-999.0000,  13.7607,-999.0000,-999.000
  316N145_8,        I03,     559,          1,         19,         19,2,19950601,       1529,   -19.9995,    49.3892,       2906,   403.4,  12.4647,  35.1090,2,  35.1083,2,    189.1,2,   191.0,2,   10.14,2,   13.33,2,    0.00,2,    1.00,2,   2.138,2,   1.086,2,-999.000,9,  2122.0,2,  2316.0,2,-999.0000,9,-999.0000,9, -999.00,9, -999.00,9,  -999.0,9,  -999.0,-999.000,9,-999.000,-999.000,9,-999.0000,  12.4102,-999.0000,-999.000
  316N145_8,        I03,     559,          1,         18,         18,2,19950601,       1529,   -19.9995,    49.3892,       2906,   453.1,  11.4309,  34.9908,2,  34.9917,2,    209.1,2,   208.4,2,    8.05,2,   13.72,2,    0.00,2,    1.02,2,-999.000,9,-999.000,9,-999.000,9,  2118.1,2,  2308.0,2,-999.0000,9,-999.0000,9, -999.00,9, -999.00,9,  -999.0,9,  -999.0,-999.000,9,-999.000,-999.000,9,-999.0000,  11.3730,-999.0000,-999.000
  316N145_8,        I03,     559,          1,         17,         17,2,19950601,       1529,   -19.9995,    49.3892,       2906,   502.8,  10.4521,  34.8625,2,  34.8623,2,    209.9,2,   212.2,2,    8.47,2,   15.61,2,    0.00,2,    1.13,2,   2.099,2,   1.049,2,-999.000,9,  2122.1,2,  2305.0,2,-999.0000,9,-999.0000,9, -999.00,9, -999.00,9,  -999.0,9,  -999.0,-999.000,9,-999.000,-999.000,9,-999.0000,  10.3913,-999.0000,-999.000
  316N145_8,        I03,     559,          1,         16,         16,2,19950601,       1529,   -19.9995,    49.3892,       2906,   603.9,   8.9603,  34.6927,2,  34.6925,2,    202.9,2,   203.9,2,   13.08,2,   19.97,2,    0.00,2,    1.40,2,-999.000,9,-999.000,9,-999.000,9,  2139.0,2,  2299.0,2,-999.0000,9,-999.0000,9, -999.00,9, -999.00,9,  -999.0,9,  -999.0,-999.000,9,-999.000,-999.000,9,-999.0000,   8.8936,-999.0000,-999.000
  316N145_8,        I03,     559,          1,         15,         15,2,19950601,       1529,   -19.9995,    49.3892,       2906,   705.7,   7.3589,  34.5866,2,  34.5850,2,    179.8,2,   178.7,2,   27.94,2,   25.99,2,    0.00,2,    1.82,2,   0.653,2,   0.332,2,-999.000,9,  2175.7,2,  2308.0,2,-999.0000,9,-999.0000,9, -999.00,9, -999.00,9,  -999.0,9,  -999.0,-999.000,9,-999.000,-999.000,9,-999.0000,   7.2889,-999.0000,-999.000
  316N145_8,        I03,     559,          1,         14,         14,2,19950601,       1529,   -19.9995,    49.3892,       2906,   807.4,   6.1210,  34.5613,2,  34.5666,2,    151.2,2,   155.8,2,   45.35,2,   30.19,2,    0.00,2,    2.14,2,   0.278,2,   0.138,2,-999.000,9,  2210.1,2,  2321.0,2,-999.0000,9,-999.0000,9, -999.00,9, -999.00,9,  -999.0,9,  -999.0,-999.000,9,-999.000,-999.000,9,-999.0000,   6.0479,-999.0000,-999.000
  316N145_8,        I03,     559,          1,         13,         13,2,19950601,       1529,   -19.9995,    49.3892,       2906,   907.5,   5.1234,  34.5394,2,  34.5422,2,    150.9,2,   149.8,2,   57.97,2,   32.61,2,    0.00,2,    2.33,2,   0.128,2,   0.067,2,-999.000,9,  2231.7,2,  2329.0,2,-999.0000,9,-999.0000,9, -999.00,9, -999.00,9,  -999.0,9,  -999.0,-999.000,9,-999.000,-999.000,9,-999.0000,   5.0475,-999.0000,-999.000
  316N145_8,        I03,     559,          1,         12,         12,2,19950601,       1529,   -19.9995,    49.3892,       2906,  1008.5,   4.5826,  34.5830,2,  34.5846,2,    135.6,2,   139.8,2,   70.64,2,   34.00,2,    0.00,2,    2.45,2,   0.054,2,   0.025,2,-999.000,9,  2249.8,2,  2339.0,2,-999.0000,9,-999.0000,9, -999.00,9, -999.00,9,  -999.0,9,  -999.0,-999.000,9,-999.000,-999.000,9,-999.0000,   4.5016,-999.0000,-999.000
  316N145_8,        I03,     559,          1,         11,         11,2,19950601,       1529,   -19.9995,    49.3892,       2906,  1108.4,   4.0991,  34.5951,2,  34.5977,2,    143.5,2,   141.5,2,   76.81,2,   34.31,2,    0.00,2,    2.46,2,-999.000,9,-999.000,9,-999.000,9,  2257.5,2,  2347.0,2,-999.0000,9,-999.0000,9, -999.00,9, -999.00,9,  -999.0,9,  -999.0,-999.000,9,-999.000,-999.000,9,-999.0000,   4.0133,-999.0000,-999.000
  316N145_8,        I03,     559,          1,         10,         10,2,19950601,       1529,   -19.9995,    49.3892,       2906,  1209.7,   3.6516,  34.6054,2,  34.6072,2,    148.7,2,   148.6,2,   80.04,2,   34.12,2,    0.00,2,    2.45,2,   0.023,2,   0.009,2,-999.000,9,  2258.1,2,  2347.0,2,-999.0000,9,-999.0000,9, -999.00,9, -999.00,9,  -999.0,9,  -999.0,-999.000,9,-999.000,-999.000,9,-999.0000,   3.5612,-999.0000,-999.000
  316N145_8,        I03,     559,          1,          9,          9,2,19950601,       1529,   -19.9995,    49.3892,       2906,  1361.2,   3.3556,  34.6475,2,  34.6482,2,    149.2,2,   150.3,2,   87.10,2,   33.93,2,    0.00,2,    2.43,2,-999.000,9,-999.000,9,-999.000,9,  2264.5,2,  2359.0,2,-999.0000,9,-999.0000,9, -999.00,9, -999.00,9,  -999.0,9,  -999.0,-999.000,9,-999.000,-999.000,9,-999.0000,   3.2553,-999.0000,-999.000
  316N145_8,        I03,     559,          1,          8,          8,2,19950601,       1529,   -19.9995,    49.3892,       2906,  1513.1,   3.0053,  34.6660,2,  34.6666,2,    156.1,2,   156.7,2,   90.78,2,   33.59,2,    0.00,2,    2.40,2,   0.007,2,   0.001,2,-999.000,9,  2266.4,2,  2361.0,2,-999.0000,9,-999.0000,9, -999.00,9, -999.00,9,  -999.0,9,  -999.0,-999.000,9,-999.000,-999.000,9,-999.0000,   2.8961,-999.0000,-999.000
  316N145_8,        I03,     559,          1,          7,          7,2,19950601,       1529,   -19.9995,    49.3892,       2906,  1715.5,   2.6923,  34.6955,2,  34.6952,2,    158.6,2,   159.8,2,   98.11,2,   33.40,2,    0.00,2,    2.38,2,-999.000,9,-999.000,9,-999.000,9,  -999.0,5,  2371.0,2,-999.0000,9,-999.0000,9, -999.00,9, -999.00,9,  -999.0,9,  -999.0,-999.000,9,-999.000,-999.000,9,-999.0000,   2.5698,-999.0000,-999.000
  316N145_8,        I03,     559,          1,          6,          6,2,19950601,       1529,   -19.9995,    49.3892,       2906,  1918.5,   2.4887,  34.7160,2,  34.7162,2,    160.1,2,   159.9,2,  105.72,2,   33.51,2,    0.00,2,    2.39,2,-999.000,9,-999.000,9,-999.000,9,  2280.9,2,  2378.0,2,-999.0000,9,-999.0000,9, -999.00,9, -999.00,9,  -999.0,9,  -999.0,-999.000,9,-999.000,-999.000,9,-999.0000,   2.3517,-999.0000,-999.000
  316N145_8,        I03,     559,          1,          5,          5,2,19950601,       1529,   -19.9995,    49.3892,       2906,  2119.8,   2.3401,  34.7298,2,  34.7292,2,    159.0,2,   158.9,2,  112.51,2,   33.72,2,    0.00,2,    2.41,2,-999.000,9,-999.000,9,-999.000,9,  2286.9,2,  2388.0,2,-999.0000,9,-999.0000,9, -999.00,9, -999.00,9,  -999.0,9,  -999.0,-999.000,9,-999.000,-999.000,9,-999.0000,   2.1877,-999.0000,-999.000
  316N145_8,        I03,     559,          1,          4,          4,2,19950601,       1529,   -19.9995,    49.3892,       2906,  2321.1,   2.2234,  34.7336,2,  34.7341,2,    159.0,2,   159.5,2,  117.18,2,   33.87,2,    0.00,2,    2.41,2,   0.003,2,  -0.004,3,-999.000,9,  2291.3,2,  2390.0,2,-999.0000,9,-999.0000,9, -999.00,9, -999.00,9,  -999.0,9,  -999.0,-999.000,9,-999.000,-999.000,9,-999.0000,   2.0550,-999.0000,-999.000
  316N145_8,        I03,     559,          1,          3,          3,2,19950601,       1529,   -19.9995,    49.3892,       2906,  2524.0,   2.1130,  34.7379,2,  34.7382,2,    158.3,2,   158.5,2,  122.31,2,   34.13,2,    0.00,2,    2.42,2,-999.000,9,-999.000,9,-999.000,9,  2296.0,2,  2397.0,2,-999.0000,9,-999.0000,9, -999.00,9, -999.00,9,  -999.0,9,  -999.0,-999.000,9,-999.000,-999.000,9,-999.0000,   1.9280,-999.0000,-999.000
  316N145_8,        I03,     559,          1,          2,          2,2,19950601,       1529,   -19.9995,    49.3892,       2906,  2726.8,   1.9810,  34.7377,2,  34.7386,2,    160.5,2,   160.9,2,  125.72,2,   34.09,2,    0.00,2,    2.43,2,-999.000,9,-999.000,9,-999.000,9,  2298.0,2,  2399.0,2,-999.0000,9,-999.0000,9, -999.00,9, -999.00,9,  -999.0,9,  -999.0,-999.000,9,-999.000,-999.000,9,-999.0000,   1.7796,-999.0000,-999.000
  316N145_8,        I03,     559,          1,          1,          1,2,19950601,       1529,   -19.9995,    49.3892,       2906,  2931.7,   1.8589,  34.7371,2,  34.7370,2,    162.3,2,   162.3,2,  128.02,2,   34.05,2,    0.00,2,    2.42,2,   0.002,2,   0.000,2,-999.000,9,  2298.6,2,  2404.0,2,-999.0000,9,-999.0000,9, -999.00,9, -999.00,9,  -999.0,9,  -999.0,-999.000,9,-999.000,-999.000,9,-999.0000,   1.6406,-999.0000,-999.000