BOTTLE,20140514CCHSIOSE
EXPOCODE,SECT_ID,STNNBR,CASTNO,SAMPNO,BTLNBR,BTLNBR_FLAG_W,DATE,TIME,LATITUDE,LONGITUDE,DEPTH,CTDPRS,CTDTMP,CTDSAL,CTDSAL_FLAG_W,SALNTY,SALNTY_FLAG_W,CTDOXY,CTDOXY_FLAG_W,OXYGEN,OXYGEN_FLAG_W,SILCAT,SILCAT_FLAG_W,NITRAT,NITRAT_FLAG_W,NITRIT,NITRIT_FLAG_W,PHSPHT,PHSPHT_FLAG_W,CFC-11,CFC-11_FLAG_W,CFC-12,CFC-12_FLAG_W,CFC113,CFC113_FLAG_W,TCARBN,TCARBN_FLAG_W,ALKALI,ALKALI_FLAG_W,TRITUM,TRITUM_FLAG_W,HELIUM,HELIUM_FLAG_W,DELHE3,DELHE3_FLAG_W,DELC13,DELC13_FLAG_W,DELC14,DELC14_FLAG_W,C14ERR,NEON,NEON_FLAG_W,NEONER,CCL4,CCL4_FLAG_W,HELIER,THETA,TRITER,DELHER
,,,,,,,,,,,METERS,DBAR,ITS-90,PSS-78,,PSS-78,,UMOL/KG,,UMOL/KG,,UMOL/KG,,UMOL/KG,,UMOL/KG,,UMOL/KG,,PMOL/KG,,PMOL/KG,,PMOL/KG,,UMOL/KG,,UMOL/KG,,TU,,NMOL/KG,,PERCNT,,/MILLE,,/MILLE,,/MILLE,NMOL/KG,,NMOL/KG,PMOL/KG,,NMOL/KG,DEG C,TU,PERCNT
  316N145_8,        I03,     551,          1,         36,         36,2,19950529,       2119,   -20.0003,    52.7857,       4907,     8.1,  26.1237,  34.9725,2,  34.9733,2,    204.4,2,   205.8,2,    2.63,2,    0.06,2,    0.00,2,    0.12,2,   1.807,2,   1.036,2,-999.000,9,  1944.6,2,  2288.0,2,-999.0000,9,-999.0000,9, -999.00,9, -999.00,9,  -999.0,9,  -999.0,-999.000,9,-999.000,-999.000,9,-999.0000,  26.1219,-999.0000,-999.000
  316N145_8,        I03,     551,          1,         35,         35,2,19950529,       2119,   -20.0003,    52.7857,       4907,    55.9,  26.0261,  35.0502,2,  35.0505,2,    206.1,2,   205.4,2,    2.62,2,    0.06,2,    0.00,2,    0.12,2,   1.819,2,   1.033,2,-999.000,9,  1948.4,6,  2293.0,6,-999.0000,9,-999.0000,9, -999.00,9, -999.00,9,  -999.0,9,  -999.0,-999.000,9,-999.000,-999.000,9,-999.0000,  26.0136,-999.0000,-999.000
  316N145_8,        I03,     551,          1,         34,         34,2,19950529,       2119,   -20.0003,    52.7857,       4907,   106.0,  23.6744,  35.1673,2,  35.1677,2,    211.1,2,   208.4,2,    2.84,2,    0.06,2,    0.00,2,    0.15,2,   2.030,2,   1.136,2,-999.000,9,  1979.7,2,  2301.0,2,-999.0000,9,-999.0000,9, -999.00,9, -999.00,9,  -999.0,9,  -999.0,-999.000,9,-999.000,-999.000,9,-999.0000,  23.6523,-999.0000,-999.000
  316N145_8,        I03,     551,          1,         33,         33,2,19950529,       2119,   -20.0003,    52.7857,       4907,   156.6,  21.4886,  35.3576,2,  35.3565,2,    183.9,2,   180.3,2,    4.41,2,    3.29,2,    0.02,2,    0.36,2,-999.000,9,-999.000,9,-999.000,9,  2025.9,2,  2314.0,2,-999.0000,9,-999.0000,9, -999.00,9, -999.00,9,  -999.0,9,  -999.0,-999.000,9,-999.000,-999.000,9,-999.0000,  21.4581,-999.0000,-999.000
  316N145_8,        I03,     551,          1,         32,         32,2,19950529,       2119,   -20.0003,    52.7857,       4907,   207.0,  19.1764,  35.4904,2,  35.4912,2,    169.2,2,   172.5,2,    6.42,2,    5.70,2,    0.01,2,    0.51,2,   2.086,2,   1.136,2,-999.000,9,  2065.4,2,  2326.0,2,-999.0000,9,-999.0000,9, -999.00,9, -999.00,9,  -999.0,9,  -999.0,-999.000,9,-999.000,-999.000,9,-999.0000,  19.1391,-999.0000,-999.000
  316N145_8,        I03,     551,          1,         31,         31,2,19950529,       2119,   -20.0003,    52.7857,       4907,   256.5,  17.0959,  35.5573,2,  35.5554,2,    192.0,2,   186.1,2,    5.96,2,    5.75,2,    0.01,2,    0.54,2,   2.265,2,   1.207,2,-999.000,9,  2085.2,2,  2334.0,2,-999.0000,9,-999.0000,9, -999.00,9, -999.00,9,  -999.0,9,  -999.0,-999.000,9,-999.000,-999.000,9,-999.0000,  17.0532,-999.0000,-999.000
  316N145_8,        I03,     551,          1,         30,         30,2,19950529,       2119,   -20.0003,    52.7857,       4907,   305.7,  15.4803,  35.4542,2,  35.4533,2,    183.9,2,   192.0,2,    6.63,2,    7.33,2,    0.01,2,    0.64,2,   2.337,2,   1.219,2,-999.000,9,  2097.3,2,  2330.0,2,-999.0000,9,-999.0000,9, -999.00,9, -999.00,9,  -999.0,9,  -999.0,-999.000,9,-999.000,-999.000,9,-999.0000,  15.4326,-999.0000,-999.000
  316N145_8,        I03,     551,          1,         29,         29,2,19950529,       2119,   -20.0003,    52.7857,       4907,   354.2,  13.8747,  35.2594,2,  35.2591,2,    179.4,2,   182.0,2,   10.00,2,   11.25,2,    0.01,2,    0.89,2,   2.123,2,   1.095,2,-999.000,9,  2116.8,2,  2324.0,2,-999.0000,9,-999.0000,9, -999.00,9, -999.00,9,  -999.0,9,  -999.0,-999.000,9,-999.000,-999.000,9,-999.0000,  13.8235,-999.0000,-999.000
  316N145_8,        I03,     551,          1,         28,         28,2,19950529,       2119,   -20.0003,    52.7857,       4907,   405.3,  12.7725,  35.1482,2,  35.1486,2,    189.0,2,   191.7,2,    9.77,2,   12.31,2,    0.01,2,    0.94,2,   2.185,2,   1.118,2,-999.000,9,  2119.1,2,  2317.0,2,-999.0000,9,-999.0000,9, -999.00,9, -999.00,9,  -999.0,9,  -999.0,-999.000,9,-999.000,-999.000,9,-999.0000,  12.7169,-999.0000,-999.000
  316N145_8,        I03,     551,          1,         27,         27,2,19950529,       2119,   -20.0003,    52.7857,       4907,   505.8,  11.2706,  34.9701,2,  34.9716,2,    206.6,2,   211.2,2,    7.74,2,   13.51,2,    0.00,2,    1.01,2,   2.301,2,   1.162,2,-999.000,9,  2117.1,2,  2309.0,2,-999.0000,9,-999.0000,9, -999.00,9, -999.00,9,  -999.0,9,  -999.0,-999.000,9,-999.000,-999.000,9,-999.0000,  11.2064,-999.0000,-999.000
  316N145_8,        I03,     551,          1,         26,         26,2,19950529,       2119,   -20.0003,    52.7857,       4907,   606.8,   9.7597,  34.7796,2,  34.7821,2,    207.6,2,   204.7,2,   11.11,2,   17.67,2,    0.01,2,    1.26,2,   1.823,2,   0.909,2,-999.000,9,  2131.8,2,  2303.0,2,-999.0000,9,-999.0000,9, -999.00,9, -999.00,9,  -999.0,9,  -999.0,-999.000,9,-999.000,-999.000,9,-999.0000,   9.6891,-999.0000,-999.000
  316N145_8,        I03,     551,          1,         25,         25,2,19950529,       2119,   -20.0003,    52.7857,       4907,   708.2,   8.3048,  34.6418,2,  34.6420,2,    195.9,2,   193.1,2,   18.32,2,   22.32,2,    0.01,2,    1.56,2,   1.129,2,   0.567,2,-999.000,9,  2153.9,2,  2302.0,2,-999.0000,9,-999.0000,9, -999.00,9, -999.00,9,  -999.0,9,  -999.0,-999.000,9,-999.000,-999.000,9,-999.0000,   8.2295,-999.0000,-999.000
  316N145_8,        I03,     551,          1,         24,         24,2,19950529,       2119,   -20.0003,    52.7857,       4907,   809.0,   6.9357,  34.5867,2,  34.5804,2,    164.2,2,   164.0,2,   36.13,2,   28.11,2,    0.01,2,    1.97,2,   0.446,2,   0.226,2,-999.000,9,  2193.4,2,  2312.0,2,-999.0000,9,-999.0000,9, -999.00,9, -999.00,9,  -999.0,9,  -999.0,-999.000,9,-999.000,-999.000,9,-999.0000,   6.8575,-999.0000,-999.000
  316N145_8,        I03,     551,          1,         23,         23,2,19950529,       2119,   -20.0003,    52.7857,       4907,   908.8,   5.9970,  34.5931,2,  34.5947,2,    148.4,2,   141.6,2,   52.59,2,   31.35,2,    0.01,2,    2.25,2,   0.183,2,   0.093,2,-999.000,9,  2225.4,2,  2331.0,2,-999.0000,9,-999.0000,9, -999.00,9, -999.00,9,  -999.0,9,  -999.0,-999.000,9,-999.000,-999.000,9,-999.0000,   5.9149,-999.0000,-999.000
  316N145_8,        I03,     551,          1,         22,         22,2,19950529,       2119,   -20.0003,    52.7857,       4907,  1009.7,   5.0879,  34.5728,2,  34.5767,2,    142.1,2,   140.9,2,   63.43,2,   33.01,2,    0.01,2,    2.35,2,   0.102,2,   0.052,2,-999.000,9,  2240.5,2,  2336.0,2,-999.0000,9,-999.0000,9, -999.00,9, -999.00,9,  -999.0,9,  -999.0,-999.000,9,-999.000,-999.000,9,-999.0000,   5.0029,-999.0000,-999.000
  316N145_8,        I03,     551,          1,         21,         21,3,19950529,       2119,   -20.0003,    52.7857,       4907,  1111.0,   4.6533,  34.6059,2,  34.6977,4,    134.3,2,   139.7,4,   63.88,4,   30.33,4,    0.01,4,    2.16,4,-999.000,9,-999.000,9,-999.000,9,  2233.4,4,  2346.0,2,-999.0000,9,-999.0000,9, -999.00,9, -999.00,9,  -999.0,9,  -999.0,-999.000,9,-999.000,-999.000,9,-999.0000,   4.5626,-999.0000,-999.000
  316N145_8,        I03,     551,          1,         20,         20,2,19950529,       2119,   -20.0003,    52.7857,       4907,  1210.7,   4.3544,  34.6390,2,  34.6396,2,    127.6,2,   127.4,2,   81.77,2,   34.67,2,    0.01,2,    2.48,2,   0.021,2,   0.008,2,-999.000,9,  2267.6,2,  2356.0,2,-999.0000,9,   1.8610,2,   10.43,2, -999.00,9,  -999.0,9,  -999.0,   7.900,2,   0.018,-999.000,9,   0.0030,   4.2574,-999.0000,    0.14
  316N145_8,        I03,     551,          1,         19,         19,2,19950529,       2119,   -20.0003,    52.7857,       4907,  1413.1,   3.4420,  34.6390,2,  34.6396,2,    147.0,2,   147.7,2,   84.49,2,   34.03,2,    0.01,2,    2.43,2,   0.010,2,   0.004,2,-999.000,9,  2265.0,2,  2359.0,2,-999.0000,9,   1.8710,2,   10.42,2, -999.00,9,  -999.0,9,  -999.0,   8.013,2,   0.018,-999.000,9,   0.0030,   3.3364,-999.0000,    0.14
  316N145_8,        I03,     551,          1,         18,         18,2,19950529,       2119,   -20.0003,    52.7857,       4907,  1615.7,   2.8811,  34.6713,2,  34.6718,2,    158.2,2,   159.3,2,   90.40,2,   33.39,2,    0.01,2,    2.39,2,   0.004,2,   0.004,2,-999.000,9,  2265.7,2,  2365.0,2,-999.0000,9,   1.8530,2,   10.49,2, -999.00,9,  -999.0,9,  -999.0,   7.953,2,   0.021,-999.000,9,   0.0030,   2.7648,-999.0000,    0.13
  316N145_8,        I03,     551,          1,         17,         17,2,19950529,       2119,   -20.0003,    52.7857,       4907,  1817.0,   2.5637,  34.7021,2,  34.7038,2,    163.2,2,   163.0,2,   98.60,2,   33.14,2,    0.01,2,    2.35,2,-999.000,9,-999.000,9,-999.000,9,  2273.0,2,  2376.0,2,-999.0000,9,   1.8760,2,   11.62,2, -999.00,9,  -999.0,9,  -999.0,   8.004,2,   0.018,-999.000,9,   0.0030,   2.4343,-999.0000,    0.14
  316N145_8,        I03,     551,          1,         16,         16,2,19950529,       2119,   -20.0003,    52.7857,       4907,  2019.1,   2.3554,  34.7234,2,  34.7234,2,    163.4,2,   164.1,2,  105.47,2,   33.18,2,    0.01,2,    2.35,2,   0.000,2,   0.003,2,-999.000,9,  2277.9,2,  2381.0,2,-999.0000,9,   1.8780,2,   12.35,2, -999.00,9,  -999.0,9,  -999.0,   8.045,2,   0.021,-999.000,9,   0.0030,   2.2116,-999.0000,    0.19
  316N145_8,        I03,     551,          1,         15,         15,2,19950529,       2119,   -20.0003,    52.7857,       4907,  2222.4,   2.2154,  34.7329,2,  34.7332,2,    161.0,2,   160.6,2,  114.45,2,   33.67,2,    0.01,2,    2.39,2,-999.000,9,-999.000,9,-999.000,9,  2289.0,2,  2393.0,2,-999.0000,9,   1.8810,2,   12.16,2, -999.00,9,  -999.0,9,  -999.0,   8.054,2,   0.023,-999.000,9,   0.0030,   2.0560,-999.0000,    0.10
  316N145_8,        I03,     551,          1,         14,         14,2,19950529,       2119,   -20.0003,    52.7857,       4907,  2423.9,   2.0970,  34.7364,2,  34.7357,2,    161.1,2,   160.3,2,  119.31,2,   33.86,2,    0.01,2,    2.41,2,  -0.003,2,  -0.001,2,-999.000,9,  2293.5,2,  2396.0,2,-999.0000,9,   1.8480,3,   13.34,2, -999.00,9,  -999.0,9,  -999.0,   8.099,2,   0.021,-999.000,9,   0.0090,   1.9215,-999.0000,    0.19
  316N145_8,        I03,     551,          1,         13,         13,2,19950529,       2119,   -20.0003,    52.7857,       4907,  2626.3,   1.9965,  34.7360,2,  34.7369,2,    160.5,2,   161.0,2,  122.79,2,   34.01,2,    0.01,2,    2.42,2,-999.000,9,-999.000,9,-999.000,9,  2295.8,2,  2401.0,2,-999.0000,9,   1.8780,2,   13.14,2, -999.00,9,  -999.0,9,  -999.0,   8.064,2,   0.024,-999.000,9,   0.0080,   1.8043,-999.0000,    0.10
  316N145_8,        I03,     551,          1,         12,         12,2,19950529,       2119,   -20.0003,    52.7857,       4907,  2830.3,   1.8992,  34.7361,2,  34.7369,2,    162.0,2,   162.1,2,  126.06,2,   34.10,2,    0.01,2,    2.42,2,  -0.001,2,   0.006,3,-999.000,9,  2297.4,2,  2401.0,2,-999.0000,9,   1.8790,2,   13.59,2, -999.00,9,  -999.0,9,  -999.0,   8.081,2,   0.021,-999.000,9,   0.0030,   1.6897,-999.0000,    0.19
  316N145_8,        I03,     551,          1,         11,         11,2,19950529,       2119,   -20.0003,    52.7857,       4907,  3034.2,   1.8154,  34.7349,2,  34.7355,2,    164.0,2,   164.1,2,  127.46,2,   34.05,2,    0.01,2,    2.42,2,  -0.002,2,  -0.001,2,-999.000,9,  2299.0,2,  2401.0,2,-999.0000,9,   1.8790,2,   13.15,2, -999.00,9,  -999.0,9,  -999.0,   8.116,2,   0.024,-999.000,9,   0.0030,   1.5881,-999.0000,    0.10
  316N145_8,        I03,     551,          1,         10,         10,2,19950529,       2119,   -20.0003,    52.7857,       4907,  3237.7,   1.7307,  34.7328,2,  34.7334,2,    165.9,2,   167.1,2,  128.16,2,   33.95,2,    0.01,2,    2.39,2,   0.004,2,   0.002,2,-999.000,9,  2298.5,6,  2401.0,6,-999.0000,9,   1.8860,2,   12.72,2, -999.00,9,  -999.0,9,  -999.0,   8.089,2,   0.021,-999.000,9,   0.0030,   1.4852,-999.0000,    0.19
  316N145_8,        I03,     551,          1,          9,          9,2,19950529,       2119,   -20.0003,    52.7857,       4907,  3442.1,   1.6441,  34.7300,2,  34.7300,2,    171.2,2,   171.0,2,  128.16,2,   33.80,2,    0.01,2,    2.38,2,-999.000,9,-999.000,9,-999.000,9,  2293.8,2,  2404.0,2,-999.0000,9,   1.8970,2,   11.98,2, -999.00,9,  -999.0,9,  -999.0,   8.075,2,   0.024,-999.000,9,   0.0040,   1.3800,-999.0000,    0.10
  316N145_8,        I03,     551,          1,          8,          8,2,19950529,       2119,   -20.0003,    52.7857,       4907,  3644.7,   1.5299,  34.7261,2,  34.7263,2,    176.9,2,   176.7,2,  127.92,2,   33.60,2,    0.01,2,    2.36,2,  -0.002,2,   0.001,2,-999.000,9,  2291.3,2,  2401.0,2,-999.0000,9,   1.8880,2,   11.97,2, -999.00,9,  -999.0,9,  -999.0,   8.124,2,   0.021,-999.000,9,   0.0030,   1.2478,-999.0000,    0.19
  316N145_8,        I03,     551,          1,          7,          7,2,19950529,       2119,   -20.0003,    52.7857,       4907,  3849.2,   1.4008,  34.7217,2,  34.7218,2,    183.6,2,   184.3,2,  126.75,2,   33.25,2,    0.01,2,    2.32,2,-999.000,9,-999.000,9,-999.000,9,  2284.5,2,  2398.0,2,-999.0000,9,   1.8780,2,   10.73,2, -999.00,9,  -999.0,9,  -999.0,   8.086,2,   0.024,-999.000,9,   0.0030,   1.1007,-999.0000,    0.10
  316N145_8,        I03,     551,          1,          6,          6,2,19950529,       2119,   -20.0003,    52.7857,       4907,  4053.0,   1.2663,  34.7167,2,  34.7171,2,    190.7,2,   191.3,2,  125.82,2,   32.91,2,    0.01,2,    2.29,2,  -0.001,2,   0.000,2,-999.000,9,  2279.3,2,  2393.0,2,-999.0000,9,   1.8970,2,   10.33,2, -999.00,9,  -999.0,9,  -999.0,   8.302,3,   0.021,-999.000,9,   0.0030,   0.9481,-999.0000,    0.20
  316N145_8,        I03,     551,          1,          5,          5,2,19950529,       2119,   -20.0003,    52.7857,       4907,  4257.1,   1.1321,  34.7130,2,  34.7121,2,    196.8,2,   198.7,2,  124.18,2,   32.52,2,    0.00,2,    2.26,2,-999.000,9,-999.000,9,   0.038,3,  2273.0,2,  2380.0,2,-999.0000,9,   1.8880,2,    8.96,2, -999.00,9,  -999.0,9,  -999.0,   8.175,2,   0.024,   0.014,2,   0.0030,   0.7955,-999.0000,    0.10
  316N145_8,        I03,     551,          1,          4,          4,2,19950529,       2119,   -20.0003,    52.7857,       4907,  4460.8,   1.0439,  34.7080,2,  34.7084,2,    203.8,2,   203.9,2,  123.02,2,   32.22,2,    0.00,2,    2.24,2,   0.004,2,   0.002,2,   0.056,3,  2265.5,2,  2376.0,2,-999.0000,9,   1.8980,2,    9.05,2, -999.00,9,  -999.0,9,  -999.0,   8.239,2,   0.021,   0.035,2,   0.0030,   0.6874,-999.0000,    0.20
  316N145_8,        I03,     551,          1,          3,          3,2,19950529,       2119,   -20.0003,    52.7857,       4907,  4666.1,   1.0122,  34.7064,2,  34.7062,2,    205.2,2,   206.0,2,  122.55,2,   32.22,2,    0.00,2,    2.22,2,-999.000,9,-999.000,9,   0.031,3,  2264.3,2,  2375.0,2,-999.0000,9,   1.8900,2,    8.13,2, -999.00,9,  -999.0,9,  -999.0,   8.187,2,   0.024,   0.057,2,   0.0030,   0.6335,-999.0000,    0.10
  316N145_8,        I03,     551,          1,          2,          2,2,19950529,       2119,   -20.0003,    52.7857,       4907,  4873.5,   1.0243,  34.7060,2,  34.7057,2,    206.4,2,   206.3,2,  123.01,2,   32.22,2,    0.00,2,    2.21,2,   0.006,2,   0.005,2,   0.042,3,  2262.4,2,  2357.3,3,-999.0000,9,   1.8840,2,    8.69,2, -999.00,9,  -999.0,9,  -999.0,   8.205,2,   0.021,   0.060,2,   0.0030,   0.6211,-999.0000,    0.20
  316N145_8,        I03,     551,          1,          1,          1,2,19950529,       2119,   -20.0003,    52.7857,       4907,  5009.5,   1.0213,  34.7049,2,  34.7051,2,    207.7,2,   206.9,2,  123.95,2,   32.17,2,    0.00,2,    2.21,2,   0.003,2,   0.002,2,   0.038,3,  2263.2,2,  2373.0,2,-999.0000,9,   1.8840,2,    8.28,2, -999.00,9,  -999.0,9,  -999.0,   8.200,2,   0.024,   0.065,2,   0.0040,   0.6021,-999.0000,    0.10