BOTTLE,20140514CCHSIOSE
EXPOCODE,SECT_ID,STNNBR,CASTNO,SAMPNO,BTLNBR,BTLNBR_FLAG_W,DATE,TIME,LATITUDE,LONGITUDE,DEPTH,CTDPRS,CTDTMP,CTDSAL,CTDSAL_FLAG_W,SALNTY,SALNTY_FLAG_W,CTDOXY,CTDOXY_FLAG_W,OXYGEN,OXYGEN_FLAG_W,SILCAT,SILCAT_FLAG_W,NITRAT,NITRAT_FLAG_W,NITRIT,NITRIT_FLAG_W,PHSPHT,PHSPHT_FLAG_W,CFC-11,CFC-11_FLAG_W,CFC-12,CFC-12_FLAG_W,CFC113,CFC113_FLAG_W,TCARBN,TCARBN_FLAG_W,ALKALI,ALKALI_FLAG_W,TRITUM,TRITUM_FLAG_W,HELIUM,HELIUM_FLAG_W,DELHE3,DELHE3_FLAG_W,DELC13,DELC13_FLAG_W,DELC14,DELC14_FLAG_W,C14ERR,NEON,NEON_FLAG_W,NEONER,CCL4,CCL4_FLAG_W,HELIER,THETA,TRITER,DELHER
,,,,,,,,,,,METERS,DBAR,ITS-90,PSS-78,,PSS-78,,UMOL/KG,,UMOL/KG,,UMOL/KG,,UMOL/KG,,UMOL/KG,,UMOL/KG,,PMOL/KG,,PMOL/KG,,PMOL/KG,,UMOL/KG,,UMOL/KG,,TU,,NMOL/KG,,PERCNT,,/MILLE,,/MILLE,,/MILLE,NMOL/KG,,NMOL/KG,PMOL/KG,,NMOL/KG,DEG C,TU,PERCNT
  316N145_8,        I03,     477,          1,         36,         36,2,19950505,       1316,   -20.0003,    91.8165,       5006,     6.4,  25.2309,  35.3789,2,  35.3786,2,    206.3,2,   207.3,2,    3.15,2,    0.05,2,    0.00,2,    0.10,2,-999.000,9,-999.000,9,   0.117,3,  1969.7,6,  2317.4,6,-999.0000,9,-999.0000,9, -999.00,9, -999.00,9,  -999.0,9,  -999.0,-999.000,9,-999.000,   2.358,2,-999.0000,  25.2295,-999.0000,-999.000
  316N145_8,        I03,     477,          1,         35,         35,2,19950505,       1316,   -20.0003,    91.8165,       5006,    56.6,  24.9775,  35.4027,2,  35.4242,2,    214.2,2,   216.2,2,    3.36,2,    0.05,2,    0.00,2,    0.10,2,-999.000,9,-999.000,9,   0.062,3,  -999.0,9,  -999.0,9,-999.0000,9,-999.0000,9, -999.00,9, -999.00,9,  -999.0,9,  -999.0,-999.000,9,-999.000,   1.890,2,-999.0000,  24.9652,-999.0000,-999.000
  316N145_8,        I03,     477,          1,         34,         34,2,19950505,       1316,   -20.0003,    91.8165,       5006,   106.2,  21.2184,  35.6305,2,  35.6233,2,    223.2,2,   217.6,2,    3.35,2,    0.10,2,    0.00,2,    0.13,2,-999.000,9,-999.000,9,   0.184,3,  -999.0,9,  -999.0,9,-999.0000,9,-999.0000,9, -999.00,9, -999.00,9,  -999.0,9,  -999.0,-999.000,9,-999.000,   1.433,2,-999.0000,  21.1979,-999.0000,-999.000
  316N145_8,        I03,     477,          1,         33,         33,2,19950505,       1316,   -20.0003,    91.8165,       5006,   156.8,  19.8528,  35.7944,2,  35.7954,2,    206.8,2,   204.0,2,    3.55,2,    1.16,2,    0.02,2,    0.23,2,-999.000,9,-999.000,9,-999.000,9,  -999.0,9,  -999.0,9,-999.0000,9,-999.0000,9, -999.00,9, -999.00,9,  -999.0,9,  -999.0,-999.000,9,-999.000,-999.000,9,-999.0000,  19.8238,-999.0000,-999.000
  316N145_8,        I03,     477,          1,         32,         32,2,19950505,       1316,   -20.0003,    91.8165,       5006,   206.6,  18.1669,  35.8050,2,  35.8009,2,    202.2,2,   200.3,2,    3.97,2,    2.46,2,    0.01,2,    0.33,2,-999.000,9,-999.000,9,   0.065,3,  -999.0,9,  -999.0,9,-999.0000,9,-999.0000,9, -999.00,9, -999.00,9,  -999.0,9,  -999.0,-999.000,9,-999.000,   0.640,2,-999.0000,  18.1310,-999.0000,-999.000
  316N145_8,        I03,     477,          1,         31,         31,2,19950505,       1316,   -20.0003,    91.8165,       5006,   256.5,  16.1324,  35.6755,2,  35.6704,2,    211.1,2,   208.5,2,    3.96,2,    3.55,2,    0.00,2,    0.41,2,-999.000,9,-999.000,9,-999.000,9,  -999.0,9,  -999.0,9,-999.0000,9,-999.0000,9, -999.00,9, -999.00,9,  -999.0,9,  -999.0,-999.000,9,-999.000,-999.000,9,-999.0000,  16.0913,-999.0000,-999.000
  316N145_8,        I03,     477,          1,         30,         30,2,19950505,       1316,   -20.0003,    91.8165,       5006,   307.6,  14.5788,  35.4916,2,  35.4856,2,    214.2,2,   214.0,2,    4.17,2,    5.62,2,    0.00,2,    0.53,2,-999.000,9,-999.000,9,   0.023,3,  -999.0,9,  -999.0,9,-999.0000,9,-999.0000,9, -999.00,9, -999.00,9,  -999.0,9,  -999.0,-999.000,9,-999.000,   0.577,2,-999.0000,  14.5328,-999.0000,-999.000
  316N145_8,        I03,     477,          1,         29,         29,2,19950505,       1316,   -20.0003,    91.8165,       5006,   358.5,  12.9194,  35.2601,2,  35.2620,2,    224.4,2,   225.9,2,    3.52,2,    7.50,2,    0.00,2,    0.65,2,-999.000,9,-999.000,9,   0.024,3,  -999.0,9,  -999.0,9,-999.0000,9,-999.0000,9, -999.00,9, -999.00,9,  -999.0,9,  -999.0,-999.000,9,-999.000,   0.812,2,-999.0000,  12.8699,-999.0000,-999.000
  316N145_8,        I03,     477,          1,         28,         28,2,19950505,       1316,   -20.0003,    91.8165,       5006,   407.6,  11.9164,  35.1061,2,  35.0976,2,    232.8,2,   232.9,2,    3.72,2,    9.33,2,    0.00,2,    0.76,2,-999.000,9,-999.000,9,   0.143,3,  -999.0,9,  -999.0,9,-999.0000,9,-999.0000,9, -999.00,9, -999.00,9,  -999.0,9,  -999.0,-999.000,9,-999.000,   1.108,2,-999.0000,  11.8629,-999.0000,-999.000
  316N145_8,        I03,     477,          1,         27,         27,2,19950505,       1316,   -20.0003,    91.8165,       5006,   508.9,  10.2865,  34.8420,2,  34.8337,2,    232.8,2,   234.0,2,    5.00,2,   13.58,2,    0.00,2,    1.01,2,-999.000,9,-999.000,9,   0.246,3,  -999.0,9,  -999.0,9,-999.0000,9,-999.0000,9, -999.00,9, -999.00,9,  -999.0,9,  -999.0,-999.000,9,-999.000,   1.416,2,-999.0000,  10.2255,-999.0000,-999.000
  316N145_8,        I03,     477,          1,         26,         26,2,19950505,       1316,   -20.0003,    91.8165,       5006,   607.7,   8.8973,  34.6496,2,  34.6394,2,    217.1,2,   220.5,2,    8.64,2,   18.77,2,    0.00,2,    1.33,2,-999.000,9,-999.000,9,   0.057,3,  -999.0,9,  -999.0,9,-999.0000,9,-999.0000,9, -999.00,9, -999.00,9,  -999.0,9,  -999.0,-999.000,9,-999.000,   1.364,2,-999.0000,   8.8305,-999.0000,-999.000
  316N145_8,        I03,     477,          1,         25,         25,2,19950505,       1316,   -20.0003,    91.8165,       5006,   708.9,   6.8720,  34.5001,2,  34.5027,2,    183.9,2,   189.3,2,   22.99,2,   26.01,2,    0.00,2,    1.80,2,-999.000,9,-999.000,9,-999.000,9,  -999.0,9,  -999.0,9,-999.0000,9,-999.0000,9, -999.00,9, -999.00,9,  -999.0,9,  -999.0,-999.000,9,-999.000,-999.000,9,-999.0000,   6.8044,-999.0000,-999.000
  316N145_8,        I03,     477,          1,         24,         24,2,19950505,       1316,   -20.0003,    91.8165,       5006,   819.9,   5.6059,  34.5084,2,  34.5101,2,    142.6,2,   148.5,2,   50.43,2,   31.85,2,    0.00,2,    2.25,2,-999.000,9,-999.000,9,  -0.005,3,  -999.0,9,  -999.0,9,-999.0000,9,-999.0000,9, -999.00,9, -999.00,9,  -999.0,9,  -999.0,-999.000,9,-999.000,   0.355,2,-999.0000,   5.5349,-999.0000,-999.000
  316N145_8,        I03,     477,          1,         23,         23,2,19950505,       1316,   -20.0003,    91.8165,       5006,   928.5,   5.0828,  34.5865,2,  34.5878,2,    112.3,2,   114.6,2,   75.35,2,   35.07,2,    0.00,2,    2.52,2,-999.000,9,-999.000,9,-999.000,9,  -999.0,9,  -999.0,9,-999.0000,9,-999.0000,9, -999.00,9, -999.00,9,  -999.0,9,  -999.0,-999.000,9,-999.000,-999.000,9,-999.0000,   5.0052,-999.0000,-999.000
  316N145_8,        I03,     477,          1,         22,         22,2,19950505,       1316,   -20.0003,    91.8165,       5006,  1039.7,   4.6173,  34.6192,2,  34.6209,2,    112.0,2,   111.8,2,   85.04,2,   35.52,2,    0.00,2,    2.57,2,-999.000,9,-999.000,9,  -0.001,3,  -999.0,9,  -999.0,9,-999.0000,9,-999.0000,9, -999.00,9, -999.00,9,  -999.0,9,  -999.0,-999.000,9,-999.000,   0.043,2,-999.0000,   4.5332,-999.0000,-999.000
  316N145_8,        I03,     477,          1,         21,         21,2,19950505,       1316,   -20.0003,    91.8165,       5006,  1149.7,   4.2899,  34.6437,2,  34.6445,2,    112.6,2,   113.6,2,   90.00,2,   35.62,2,    0.00,2,    2.58,2,-999.000,9,-999.000,9,-999.000,9,  -999.0,9,  -999.0,9,-999.0000,9,-999.0000,9, -999.00,9, -999.00,9,  -999.0,9,  -999.0,-999.000,9,-999.000,-999.000,9,-999.0000,   4.1988,-999.0000,-999.000
  316N145_8,        I03,     477,          1,         20,         20,2,19950505,       1316,   -20.0003,    91.8165,       5006,  1262.6,   3.9662,  34.6541,2,  34.6541,2,    117.4,2,   118.1,2,   93.01,2,   35.47,2,    0.00,2,    2.57,2,-999.000,9,-999.000,9,-999.000,9,  -999.0,9,  -999.0,9,-999.0000,9,-999.0000,9, -999.00,9, -999.00,9,  -999.0,9,  -999.0,-999.000,9,-999.000,-999.000,9,-999.0000,   3.8682,-999.0000,-999.000
  316N145_8,        I03,     477,          1,         19,         19,2,19950505,       1316,   -20.0003,    91.8165,       5006,  1463.6,   3.4143,  34.6778,2,  34.6770,2,    129.5,2,   128.9,2,   98.20,2,   35.12,2,    0.00,2,    2.53,2,-999.000,9,-999.000,9,-999.000,9,  -999.0,9,  -999.0,9,-999.0000,9,-999.0000,9, -999.00,9, -999.00,9,  -999.0,9,  -999.0,-999.000,9,-999.000,-999.000,9,-999.0000,   3.3046,-999.0000,-999.000
  316N145_8,        I03,     477,          1,         18,         18,2,19950505,       1316,   -20.0003,    91.8165,       5006,  1667.1,   2.9190,  34.7068,2,  34.7066,2,    139.5,2,   138.8,2,  105.60,2,   34.62,2,    0.00,2,    2.49,2,-999.000,9,-999.000,9,-999.000,9,  -999.0,9,  -999.0,9,-999.0000,9,-999.0000,9, -999.00,9, -999.00,9,  -999.0,9,  -999.0,-999.000,9,-999.000,   0.012,2,-999.0000,   2.7977,-999.0000,-999.000
  316N145_8,        I03,     477,          1,         17,         17,2,19950505,       1316,   -20.0003,    91.8165,       5006,  1869.1,   2.5817,  34.7164,2,  34.7168,2,    147.9,2,   147.4,2,  109.74,2,   34.12,2,    0.00,2,    2.45,2,-999.000,9,-999.000,9,-999.000,9,  -999.0,9,  -999.0,9,-999.0000,9,-999.0000,9, -999.00,9, -999.00,9,  -999.0,9,  -999.0,-999.000,9,-999.000,-999.000,9,-999.0000,   2.4475,-999.0000,-999.000
  316N145_8,        I03,     477,          1,         16,         16,2,19950505,       1316,   -20.0003,    91.8165,       5006,  2068.8,   2.2779,  34.7231,2,  34.7239,2,    155.4,2,   155.3,2,  113.90,2,   33.86,2,    0.00,2,    2.41,2,-999.000,9,-999.000,9,-999.000,9,  -999.0,9,  -999.0,9,-999.0000,9,-999.0000,9, -999.00,9, -999.00,9,  -999.0,9,  -999.0,-999.000,9,-999.000,-999.000,9,-999.0000,   2.1310,-999.0000,-999.000
  316N145_8,        I03,     477,          1,         15,         15,2,19950505,       1316,   -20.0003,    91.8165,       5006,  2272.6,   2.0716,  34.7246,2,  34.7252,2,    163.3,2,   163.2,2,  114.75,2,   33.41,2,    0.00,2,    2.37,2,-999.000,9,-999.000,9,-999.000,9,  -999.0,9,  -999.0,9,-999.0000,9,-999.0000,9, -999.00,9, -999.00,9,  -999.0,9,  -999.0,-999.000,9,-999.000,-999.000,9,-999.0000,   1.9102,-999.0000,-999.000
  316N145_8,        I03,     477,          1,         14,         14,2,19950505,       1316,   -20.0003,    91.8165,       5006,  2476.0,   1.9244,  34.7250,2,  34.7262,2,    168.8,2,   166.9,2,  117.38,2,   33.26,2,    0.00,2,    2.36,2,-999.000,9,-999.000,9,-999.000,9,  -999.0,9,  -999.0,9,-999.0000,9,-999.0000,9, -999.00,9, -999.00,9,  -999.0,9,  -999.0,-999.000,9,-999.000,-999.000,9,-999.0000,   1.7474,-999.0000,-999.000
  316N145_8,        I03,     477,          1,         13,         13,2,19950505,       1316,   -20.0003,    91.8165,       5006,  2681.6,   1.7975,  34.7260,2,  34.7266,2,    172.0,2,   170.5,2,  119.12,2,   33.11,2,    0.00,2,    2.34,2,-999.000,9,-999.000,9,-999.000,9,  -999.0,9,  -999.0,9,-999.0000,9,-999.0000,9, -999.00,9, -999.00,9,  -999.0,9,  -999.0,-999.000,9,-999.000,-999.000,9,-999.0000,   1.6042,-999.0000,-999.000
  316N145_8,        I03,     477,          1,         12,         12,2,19950505,       1316,   -20.0003,    91.8165,       5006,  2883.8,   1.6943,  34.7261,2,  34.7260,2,    172.8,2,   173.1,2,  121.98,2,   33.17,2,    0.00,2,    2.35,2,-999.000,9,-999.000,9,-999.000,9,  -999.0,9,  -999.0,9,-999.0000,9,-999.0000,9, -999.00,9, -999.00,9,  -999.0,9,  -999.0,-999.000,9,-999.000,   0.008,2,-999.0000,   1.4841,-999.0000,-999.000
  316N145_8,        I03,     477,          1,         11,         11,2,19950505,       1316,   -20.0003,    91.8165,       5006,  3086.1,   1.5844,  34.7245,2,  34.7250,2,    178.3,2,   178.0,2,  121.72,2,   32.92,2,    0.00,2,    2.32,2,-999.000,9,-999.000,9,-999.000,9,  -999.0,9,  -999.0,9,-999.0000,9,-999.0000,9, -999.00,9, -999.00,9,  -999.0,9,  -999.0,-999.000,9,-999.000,-999.000,9,-999.0000,   1.3572,-999.0000,-999.000
  316N145_8,        I03,     477,          1,         10,         10,2,19950505,       1316,   -20.0003,    91.8165,       5006,  3290.1,   1.4775,  34.7226,2,  34.7228,2,    181.9,2,   181.1,2,  123.70,2,   32.87,2,    0.00,2,    2.31,2,-999.000,9,-999.000,9,-999.000,9,  -999.0,9,  -999.0,9,-999.0000,9,-999.0000,9, -999.00,9, -999.00,9,  -999.0,9,  -999.0,-999.000,9,-999.000,-999.000,9,-999.0000,   1.2328,-999.0000,-999.000
  316N145_8,        I03,     477,          1,          9,          9,2,19950505,       1316,   -20.0003,    91.8165,       5006,  3493.4,   1.3707,  34.7201,2,  34.7195,2,    185.1,2,   186.9,2,  123.44,2,   32.67,2,    0.00,2,    2.29,2,-999.000,9,-999.000,9,-999.000,9,  -999.0,9,  -999.0,9,-999.0000,9,-999.0000,9, -999.00,9, -999.00,9,  -999.0,9,  -999.0,-999.000,9,-999.000,-999.000,9,-999.0000,   1.1082,-999.0000,-999.000
  316N145_8,        I03,     477,          1,          8,          8,2,19950505,       1316,   -20.0003,    91.8165,       5006,  3697.9,   1.2683,  34.7181,2,  34.7179,2,    191.8,2,   191.0,2,  123.41,2,   32.37,2,    0.00,2,    2.27,2,-999.000,9,-999.000,9,-999.000,9,  -999.0,9,  -999.0,9,-999.0000,9,-999.0000,9, -999.00,9, -999.00,9,  -999.0,9,  -999.0,-999.000,9,-999.000,-999.000,9,-999.0000,   0.9876,-999.0000,-999.000
  316N145_8,        I03,     477,          1,          7,          7,2,19950505,       1316,   -20.0003,    91.8165,       5006,  3902.6,   1.1777,  34.7160,2,  34.7155,2,    195.0,2,   195.8,2,  123.15,2,   32.17,2,    0.00,2,    2.25,2,-999.000,9,-999.000,9,-999.000,9,  -999.0,9,  -999.0,9,-999.0000,9,-999.0000,9, -999.00,9, -999.00,9,  -999.0,9,  -999.0,-999.000,9,-999.000,-999.000,9,-999.0000,   0.8780,-999.0000,-999.000
  316N145_8,        I03,     477,          1,          6,          6,2,19950505,       1316,   -20.0003,    91.8165,       5006,  4104.8,   1.1030,  34.7137,2,  34.7132,2,    199.3,2,   200.2,2,  123.12,2,   32.12,2,    0.00,2,    2.23,2,-999.000,9,-999.000,9,   0.122,3,  -999.0,9,  -999.0,9,-999.0000,9,-999.0000,9, -999.00,9, -999.00,9,  -999.0,9,  -999.0,-999.000,9,-999.000,   0.000,2,-999.0000,   0.7839,-999.0000,-999.000
  316N145_8,        I03,     477,          1,          5,          5,2,19950505,       1316,   -20.0003,    91.8165,       5006,  4311.1,   1.0669,  34.7121,2,  34.7112,2,    201.8,2,   202.1,2,  123.53,2,   32.17,2,    0.00,2,    2.22,2,-999.000,9,-999.000,9,-999.000,9,  -999.0,9,  -999.0,9,-999.0000,9,-999.0000,9, -999.00,9, -999.00,9,  -999.0,9,  -999.0,-999.000,9,-999.000,   0.017,2,-999.0000,   0.7264,-999.0000,-999.000
  316N145_8,        I03,     477,          1,          4,          4,2,19950505,       1316,   -20.0003,    91.8165,       5006,  4515.8,   1.0628,  34.7105,2,  34.7104,2,    203.2,2,   203.2,2,  123.50,2,   32.12,2,    0.00,2,    2.23,2,-999.000,9,-999.000,9,-999.000,9,  -999.0,9,  -999.0,9,-999.0000,9,-999.0000,9, -999.00,9, -999.00,9,  -999.0,9,  -999.0,-999.000,9,-999.000,   0.022,2,-999.0000,   0.6995,-999.0000,-999.000
  316N145_8,        I03,     477,          1,          3,          3,2,19950505,       1316,   -20.0003,    91.8165,       5006,  4719.6,   1.0753,  34.7112,2,  34.7096,2,    203.3,2,   203.6,2,  123.69,2,   32.13,2,    0.00,2,    2.23,2,-999.000,9,-999.000,9,   0.010,3,  -999.0,9,  -999.0,9,-999.0000,9,-999.0000,9, -999.00,9, -999.00,9,  -999.0,9,  -999.0,-999.000,9,-999.000,   0.020,2,-999.0000,   0.6883,-999.0000,-999.000
  316N145_8,        I03,     477,          1,          2,          2,2,19950505,       1316,   -20.0003,    91.8165,       5006,  4925.9,   1.0957,  34.7101,2,  34.7106,2,    203.7,2,   203.7,2,  123.66,2,   32.13,2,    0.00,2,    2.23,2,-999.000,9,-999.000,9,  -0.002,3,  -999.0,9,  -999.0,9,-999.0000,9,-999.0000,9, -999.00,9, -999.00,9,  -999.0,9,  -999.0,-999.000,9,-999.000,   0.022,2,-999.0000,   0.6838,-999.0000,-999.000
  316N145_8,        I03,     477,          1,          1,          1,2,19950505,       1316,   -20.0003,    91.8165,       5006,  5109.1,   1.1180,  34.7106,2,  34.7104,2,    204.3,2,   203.3,2,  123.40,2,   32.13,2,    0.00,2,    2.23,2,-999.000,9,-999.000,9,-999.000,9,  -999.0,9,  -999.0,9,-999.0000,9,-999.0000,9, -999.00,9, -999.00,9,  -999.0,9,  -999.0,-999.000,9,-999.000,   0.027,2,-999.0000,   0.6834,-999.0000,-999.000