BOTTLE,20140514CCHSIOSE
EXPOCODE,SECT_ID,STNNBR,CASTNO,SAMPNO,BTLNBR,BTLNBR_FLAG_W,DATE,TIME,LATITUDE,LONGITUDE,DEPTH,CTDPRS,CTDTMP,CTDSAL,CTDSAL_FLAG_W,SALNTY,SALNTY_FLAG_W,CTDOXY,CTDOXY_FLAG_W,OXYGEN,OXYGEN_FLAG_W,SILCAT,SILCAT_FLAG_W,NITRAT,NITRAT_FLAG_W,NITRIT,NITRIT_FLAG_W,PHSPHT,PHSPHT_FLAG_W,CFC-11,CFC-11_FLAG_W,CFC-12,CFC-12_FLAG_W,CFC113,CFC113_FLAG_W,TCARBN,TCARBN_FLAG_W,ALKALI,ALKALI_FLAG_W,TRITUM,TRITUM_FLAG_W,HELIUM,HELIUM_FLAG_W,DELHE3,DELHE3_FLAG_W,DELC13,DELC13_FLAG_W,DELC14,DELC14_FLAG_W,C14ERR,NEON,NEON_FLAG_W,NEONER,CCL4,CCL4_FLAG_W,HELIER,THETA,TRITER,DELHER
,,,,,,,,,,,METERS,DBAR,ITS-90,PSS-78,,PSS-78,,UMOL/KG,,UMOL/KG,,UMOL/KG,,UMOL/KG,,UMOL/KG,,UMOL/KG,,PMOL/KG,,PMOL/KG,,PMOL/KG,,UMOL/KG,,UMOL/KG,,TU,,NMOL/KG,,PERCNT,,/MILLE,,/MILLE,,/MILLE,NMOL/KG,,NMOL/KG,PMOL/KG,,NMOL/KG,DEG C,TU,PERCNT
  316N145_8,        I03,     533,          1,         33,         33,2,19950523,       0257,   -20.3658,    60.3773,       3893,     6.4,  24.4789,  35.2505,2,  35.2495,2,    208.6,2,   209.7,2,    2.83,2,    0.00,2,    0.00,2,    0.11,2,   1.920,2,   1.089,2,-999.000,9,  1965.9,2,  2307.0,2,-999.0000,9,-999.0000,9, -999.00,9, -999.00,9,  -999.0,9,  -999.0,-999.000,9,-999.000,-999.000,9,-999.0000,  24.4775,-999.0000,-999.000
  316N145_8,        I03,     533,          1,         32,         32,2,19950523,       0257,   -20.3658,    60.3773,       3893,    53.6,  24.4954,  35.2539,2,  35.2526,2,    211.7,2,   211.6,2,    2.81,2,    0.04,2,    0.00,2,    0.11,2,   1.917,2,   1.081,2,-999.000,9,  1966.1,6,  2306.5,6,-999.0000,9,-999.0000,9, -999.00,9, -999.00,9,  -999.0,9,  -999.0,-999.000,9,-999.000,-999.000,9,-999.0000,  24.4840,-999.0000,-999.000
  316N145_8,        I03,     533,          1,         31,         31,2,19950523,       0257,   -20.3658,    60.3773,       3893,   105.0,  23.1920,  35.3505,2,  35.3500,2,    211.3,2,   214.7,2,    3.01,2,    0.04,2,    0.00,2,    0.13,2,   2.079,2,   1.158,2,-999.000,9,  1987.4,2,  2313.0,2,-999.0000,9,-999.0000,9, -999.00,9, -999.00,9,  -999.0,9,  -999.0,-999.000,9,-999.000,-999.000,9,-999.0000,  23.1704,-999.0000,-999.000
  316N145_8,        I03,     533,          1,         30,         30,2,19950523,       0257,   -20.3658,    60.3773,       3893,   154.5,  20.8842,  35.4890,2,  35.4900,2,    193.2,2,   189.8,2,    4.04,2,    2.32,2,    0.03,2,    0.30,2,   2.144,2,   1.185,2,-999.000,9,  2029.0,2,  2322.0,2,-999.0000,9,-999.0000,9, -999.00,9, -999.00,9,  -999.0,9,  -999.0,-999.000,9,-999.000,-999.000,9,-999.0000,  20.8547,-999.0000,-999.000
  316N145_8,        I03,     533,          1,         29,         29,2,19950523,       0257,   -20.3658,    60.3773,       3893,   204.9,  18.9302,  35.6112,2,  35.6074,2,    188.7,2,   185.6,2,    4.86,2,    3.98,2,    0.01,2,    0.40,2,   2.196,2,   1.198,2,-999.000,9,  2061.9,2,  2335.0,2,-999.0000,9,-999.0000,9, -999.00,9, -999.00,9,  -999.0,9,  -999.0,-999.000,9,-999.000,-999.000,9,-999.0000,  18.8936,-999.0000,-999.000
  316N145_8,        I03,     533,          1,         28,         28,2,19950523,       0257,   -20.3658,    60.3773,       3893,   255.2,  17.7063,  35.6742,2,  35.6742,2,    195.4,2,   194.1,2,    4.63,2,    3.84,2,    0.01,2,    0.41,2,   2.348,2,   1.252,2,-999.000,9,  2076.7,2,  2340.0,2,-999.0000,9,-999.0000,9, -999.00,9, -999.00,9,  -999.0,9,  -999.0,-999.000,9,-999.000,-999.000,9,-999.0000,  17.6627,-999.0000,-999.000
  316N145_8,        I03,     533,          1,         27,         27,2,19950523,       0257,   -20.3658,    60.3773,       3893,   306.1,  16.2987,  35.6220,2,  35.6224,2,    203.6,2,   204.7,2,    3.99,2,    4.03,2,    0.01,2,    0.44,2,   2.517,2,   1.324,2,-999.000,9,  2085.5,2,  2341.0,2,-999.0000,9,-999.0000,9, -999.00,9, -999.00,9,  -999.0,9,  -999.0,-999.000,9,-999.000,-999.000,9,-999.0000,  16.2493,-999.0000,-999.000
  316N145_8,        I03,     533,          1,         26,         26,2,19950523,       0257,   -20.3658,    60.3773,       3893,   354.7,  14.4353,  35.4280,2,  35.4268,2,    214.1,2,   214.8,2,    3.77,2,    6.01,2,    0.00,2,    0.56,2,   2.699,2,   1.397,2,-999.000,9,  2092.5,2,  2331.0,2,-999.0000,9,-999.0000,9, -999.00,9, -999.00,9,  -999.0,9,  -999.0,-999.000,9,-999.000,-999.000,9,-999.0000,  14.3825,-999.0000,-999.000
  316N145_8,        I03,     533,          1,         25,         25,2,19950523,       0257,   -20.3658,    60.3773,       3893,   405.1,  13.4812,  35.3008,2,  35.2981,2,    219.6,2,   220.1,2,    3.96,2,    7.56,2,    0.00,2,    0.65,2,   2.738,2,   1.402,2,-999.000,9,  2096.4,2,  2323.0,2,-999.0000,9,-999.0000,9, -999.00,9, -999.00,9,  -999.0,9,  -999.0,-999.000,9,-999.000,-999.000,9,-999.0000,  13.4235,-999.0000,-999.000
  316N145_8,        I03,     533,          1,         24,         24,2,19950523,       0257,   -20.3658,    60.3773,       3893,   455.0,  12.0511,  35.0977,2,  35.1004,2,    226.0,2,   227.8,2,    4.15,2,    9.97,2,    0.00,2,    0.78,2,   2.783,2,   1.405,2,-999.000,9,  2101.1,2,  2314.0,2,-999.0000,9,-999.0000,9, -999.00,9, -999.00,9,  -999.0,9,  -999.0,-999.000,9,-999.000,-999.000,9,-999.0000,  11.9909,-999.0000,-999.000
  316N145_8,        I03,     533,          1,         23,         23,2,19950523,       0257,   -20.3658,    60.3773,       3893,   505.1,  11.4369,  35.0038,2,  35.0061,2,    228.4,2,   230.7,2,    4.35,2,   11.18,2,    0.00,2,    0.85,2,   2.758,2,   1.390,2,-999.000,9,  2103.3,2,  2309.0,2,-999.0000,9,-999.0000,9, -999.00,9, -999.00,9,  -999.0,9,  -999.0,-999.000,9,-999.000,-999.000,9,-999.0000,  11.3722,-999.0000,-999.000
  316N145_8,        I03,     533,          1,         22,         22,2,19950523,       0257,   -20.3658,    60.3773,       3893,   606.4,   9.8773,  34.7742,2,  34.7771,2,    228.4,2,   227.9,2,    5.79,2,   15.29,2,    0.00,2,    1.10,2,   2.341,2,   1.166,2,-999.000,9,  2113.9,2,  2299.0,2,-999.0000,9,-999.0000,9, -999.00,9, -999.00,9,  -999.0,9,  -999.0,-999.000,9,-999.000,-999.000,9,-999.0000,   9.8062,-999.0000,-999.000
  316N145_8,        I03,     533,          1,         21,         21,2,19950523,       0257,   -20.3658,    60.3773,       3893,   707.2,   8.4984,  34.6192,2,  34.6244,2,    218.5,2,   212.7,2,   10.98,2,   20.18,2,    0.00,2,    1.40,2,   1.422,2,   0.714,2,-999.000,9,  2134.3,2,  2295.0,2,-999.0000,9,-999.0000,9, -999.00,9, -999.00,9,  -999.0,9,  -999.0,-999.000,9,-999.000,-999.000,9,-999.0000,   8.4223,-999.0000,-999.000
  316N145_8,        I03,     533,          1,         20,         20,2,19950523,       0257,   -20.3658,    60.3773,       3893,   807.7,   6.8325,  34.5197,2,  34.5191,2,    191.1,2,   188.4,2,   25.34,2,   26.20,2,    0.00,2,    1.81,2,   0.583,2,   0.297,2,-999.000,9,  2170.5,2,  2304.0,2,-999.0000,9,-999.0000,9, -999.00,9, -999.00,9,  -999.0,9,  -999.0,-999.000,9,-999.000,-999.000,9,-999.0000,   6.7552,-999.0000,-999.000
  316N145_8,        I03,     533,          1,         19,         19,2,19950523,       0257,   -20.3658,    60.3773,       3893,   908.3,   5.4444,  34.4771,2,  34.4771,2,    174.7,2,   173.3,2,   41.76,2,   30.21,2,    0.00,2,    2.12,2,   0.271,2,   0.139,2,-999.000,9,  2201.9,2,  2314.0,2,-999.0000,9,-999.0000,9, -999.00,9, -999.00,9,  -999.0,9,  -999.0,-999.000,9,-999.000,-999.000,9,-999.0000,   5.3663,-999.0000,-999.000
  316N145_8,        I03,     533,          1,         18,         18,2,19950523,       0257,   -20.3658,    60.3773,       3893,  1010.4,   4.9592,  34.5681,2,  34.5701,2,    136.7,2,   135.9,2,   66.52,2,   33.55,2,    0.00,2,    2.38,2,   0.060,2,   0.027,2,-999.000,9,  2246.0,2,  2340.0,2,-999.0000,9,-999.0000,9, -999.00,9, -999.00,9,  -999.0,9,  -999.0,-999.000,9,-999.000,-999.000,9,-999.0000,   4.8751,-999.0000,-999.000
  316N145_8,        I03,     533,          1,         17,         17,2,19950523,       0257,   -20.3658,    60.3773,       3893,  1109.9,   4.6237,  34.6042,2,  34.6064,2,    127.5,2,   127.7,2,   76.51,2,   34.44,2,    0.00,2,    2.46,2,   0.025,2,   0.011,2,-999.000,9,  2260.3,2,  2350.0,2,-999.0000,9,-999.0000,9, -999.00,9, -999.00,9,  -999.0,9,  -999.0,-999.000,9,-999.000,-999.000,9,-999.0000,   4.5333,-999.0000,-999.000
  316N145_8,        I03,     533,          1,         16,         16,2,19950523,       0257,   -20.3658,    60.3773,       3893,  1209.7,   4.2600,  34.6424,2,  34.6432,2,    125.1,2,   124.8,2,   85.26,2,   34.89,2,    0.00,2,    2.49,2,   0.013,2,   0.005,2,-999.000,9,  2272.1,2,  2361.0,2,-999.0000,9,-999.0000,9, -999.00,9, -999.00,9,  -999.0,9,  -999.0,-999.000,9,-999.000,-999.000,9,-999.0000,   4.1639,-999.0000,-999.000
  316N145_8,        I03,     533,          1,         15,         15,2,19950523,       0257,   -20.3658,    60.3773,       3893,  1310.5,   3.9372,  34.6596,2,  34.6605,2,    126.5,2,   126.9,2,   89.62,2,   34.84,2,    0.00,2,    2.49,2,   0.007,2,   0.000,2,-999.000,9,  2275.8,2,  2366.0,2,-999.0000,9,-999.0000,9, -999.00,9, -999.00,9,  -999.0,9,  -999.0,-999.000,9,-999.000,-999.000,9,-999.0000,   3.8353,-999.0000,-999.000
  316N145_8,        I03,     533,          1,         14,         14,2,19950523,       0257,   -20.3658,    60.3773,       3893,  1412.9,   3.5450,  34.6659,2,  34.6654,2,    136.9,2,   137.4,2,   91.45,2,   34.44,2,    0.00,2,    2.45,2,   0.002,2,   0.000,2,-999.000,9,  2272.6,2,  2367.0,2,-999.0000,9,-999.0000,9, -999.00,9, -999.00,9,  -999.0,9,  -999.0,-999.000,9,-999.000,-999.000,9,-999.0000,   3.4383,-999.0000,-999.000
  316N145_8,        I03,     533,          1,         13,         13,2,19950523,       0257,   -20.3658,    60.3773,       3893,  1513.2,   3.1569,  34.6802,2,  34.6807,2,    145.0,2,   146.1,2,   95.40,2,   34.00,2,    0.00,2,    2.42,2,   0.003,2,   0.001,2,-999.000,9,  2274.7,2,  2369.0,2,-999.0000,9,-999.0000,9, -999.00,9, -999.00,9,  -999.0,9,  -999.0,-999.000,9,-999.000,-999.000,9,-999.0000,   3.0459,-999.0000,-999.000
  316N145_8,        I03,     533,          1,         12,         12,2,19950523,       0257,   -20.3658,    60.3773,       3893,  1714.0,   2.6477,  34.7011,2,  34.7003,2,    157.2,2,   156.9,2,  101.04,2,   33.51,2,    0.00,2,    2.36,2,-999.000,9,-999.000,9,-999.000,9,  2275.5,2,  2374.0,2,-999.0000,9,-999.0000,9, -999.00,9, -999.00,9,  -999.0,9,  -999.0,-999.000,9,-999.000,-999.000,9,-999.0000,   2.5260,-999.0000,-999.000
  316N145_8,        I03,     533,          1,         11,         11,2,19950523,       0257,   -20.3658,    60.3773,       3893,  1917.1,   2.3965,  34.7137,2,  34.7135,2,    162.4,2,   161.7,2,  106.07,2,   33.26,2,    0.00,2,    2.34,2,-999.000,9,-999.000,9,-999.000,9,  2278.5,2,  2383.0,2,-999.0000,9,-999.0000,9, -999.00,9, -999.00,9,  -999.0,9,  -999.0,-999.000,9,-999.000,-999.000,9,-999.0000,   2.2609,-999.0000,-999.000
  316N145_8,        I03,     533,          1,         10,         10,2,19950523,       0257,   -20.3658,    60.3773,       3893,  2120.4,   2.1733,  34.7246,2,  34.7243,2,    165.1,2,   165.4,2,  111.33,2,   33.17,2,    0.00,2,    2.33,2,  -0.001,2,   0.000,2,-999.000,9,  2282.1,2,  2389.0,2,-999.0000,9,-999.0000,9, -999.00,9, -999.00,9,  -999.0,9,  -999.0,-999.000,9,-999.000,-999.000,9,-999.0000,   2.0235,-999.0000,-999.000
  316N145_8,        I03,     533,          1,          9,          9,2,19950523,       0257,   -20.3658,    60.3773,       3893,  2322.0,   2.0344,  34.7272,2,  34.7278,2,    166.1,2,   166.9,2,  115.55,2,   33.27,2,    0.00,2,    2.33,2,-999.000,9,-999.000,9,-999.000,9,  2285.7,2,  2392.0,2,-999.0000,9,-999.0000,9, -999.00,9, -999.00,9,  -999.0,9,  -999.0,-999.000,9,-999.000,-999.000,9,-999.0000,   1.8693,-999.0000,-999.000
  316N145_8,        I03,     533,          1,          8,          8,2,19950523,       0257,   -20.3658,    60.3773,       3893,  2514.8,   1.9583,  34.7295,2,  34.7300,2,    167.6,2,   167.0,2,  118.49,2,   33.37,2,    0.00,2,    2.34,2,-999.000,9,-999.000,9,-999.000,9,  2288.8,2,  2393.0,2,-999.0000,9,-999.0000,9, -999.00,9, -999.00,9,  -999.0,9,  -999.0,-999.000,9,-999.000,-999.000,9,-999.0000,   1.7771,-999.0000,-999.000
  316N145_8,        I03,     533,          1,          7,          7,2,19950523,       0257,   -20.3658,    60.3773,       3893,  2728.2,   1.8640,  34.7298,2,  34.7304,2,    168.7,2,   168.6,2,  120.78,2,   33.37,2,    0.00,2,    2.34,2,  -0.001,2,   0.001,2,-999.000,9,  2290.2,2,  2397.0,2,-999.0000,9,-999.0000,9, -999.00,9, -999.00,9,  -999.0,9,  -999.0,-999.000,9,-999.000,-999.000,9,-999.0000,   1.6649,-999.0000,-999.000
  316N145_8,        I03,     533,          1,          6,          6,2,19950523,       0257,   -20.3658,    60.3773,       3893,  2931.5,   1.7302,  34.7276,2,  34.7280,2,    171.3,2,   172.4,2,  123.30,2,   33.32,2,    0.00,2,    2.34,2,-999.000,9,-999.000,9,-999.000,9,  2290.6,6,  2397.0,6,-999.0000,9,-999.0000,9, -999.00,9, -999.00,9,  -999.0,9,  -999.0,-999.000,9,-999.000,-999.000,9,-999.0000,   1.5147,-999.0000,-999.000
  316N145_8,        I03,     533,          1,          5,          5,2,19950523,       0257,   -20.3658,    60.3773,       3893,  3134.9,   1.6394,  34.7258,2,  34.7249,2,    175.7,2,   176.5,2,  123.88,2,   33.18,2,    0.00,2,    2.32,2,-999.000,9,-999.000,9,-999.000,9,  2289.1,2,  2396.0,2,-999.0000,9,-999.0000,9, -999.00,9, -999.00,9,  -999.0,9,  -999.0,-999.000,9,-999.000,-999.000,9,-999.0000,   1.4062,-999.0000,-999.000
  316N145_8,        I03,     533,          1,          4,          4,2,19950523,       0257,   -20.3658,    60.3773,       3893,  3338.1,   1.5288,  34.7223,2,  34.7217,2,    179.4,2,   180.9,2,  124.23,2,   32.98,2,    0.00,2,    2.31,2,   0.001,2,  -0.002,2,-999.000,9,  2285.5,2,  2391.0,2,-999.0000,9,-999.0000,9, -999.00,9, -999.00,9,  -999.0,9,  -999.0,-999.000,9,-999.000,-999.000,9,-999.0000,   1.2781,-999.0000,-999.000
  316N145_8,        I03,     533,          1,          3,          3,2,19950523,       0257,   -20.3658,    60.3773,       3893,  3543.4,   1.4915,  34.7209,2,  34.7200,2,    183.2,2,   182.8,2,  124.59,2,   32.89,2,    0.00,2,    2.30,2,-999.000,9,-999.000,9,-999.000,9,  2283.3,2,  2390.0,2,-999.0000,9,-999.0000,9, -999.00,9, -999.00,9,  -999.0,9,  -999.0,-999.000,9,-999.000,-999.000,9,-999.0000,   1.2209,-999.0000,-999.000
  316N145_8,        I03,     533,          1,          2,          2,2,19950523,       0257,   -20.3658,    60.3773,       3893,  3746.6,   1.4476,  34.7197,2,  34.7196,2,    185.2,2,   184.8,2,  124.94,2,   32.89,2,    0.00,2,    2.30,2,-999.000,9,-999.000,9,-999.000,9,  2282.4,2,  2391.0,2,-999.0000,9,-999.0000,9, -999.00,9, -999.00,9,  -999.0,9,  -999.0,-999.000,9,-999.000,-999.000,9,-999.0000,   1.1571,-999.0000,-999.000
  316N145_8,        I03,     533,          1,          1,          1,2,19950523,       0257,   -20.3658,    60.3773,       3893,  3951.1,   1.4190,  34.7189,2,  34.7186,2,    186.8,2,   186.3,2,  125.08,2,   32.84,2,    0.00,2,    2.30,2,   0.004,2,   0.001,2,-999.000,9,  2282.0,2,  2390.0,2,-999.0000,9,-999.0000,9, -999.00,9, -999.00,9,  -999.0,9,  -999.0,-999.000,9,-999.000,-999.000,9,-999.0000,   1.1075,-999.0000,-999.000