BOTTLE,20140514CCHSIOSE
EXPOCODE,SECT_ID,STNNBR,CASTNO,SAMPNO,BTLNBR,BTLNBR_FLAG_W,DATE,TIME,LATITUDE,LONGITUDE,DEPTH,CTDPRS,CTDTMP,CTDSAL,CTDSAL_FLAG_W,SALNTY,SALNTY_FLAG_W,CTDOXY,CTDOXY_FLAG_W,OXYGEN,OXYGEN_FLAG_W,SILCAT,SILCAT_FLAG_W,NITRAT,NITRAT_FLAG_W,NITRIT,NITRIT_FLAG_W,PHSPHT,PHSPHT_FLAG_W,CFC-11,CFC-11_FLAG_W,CFC-12,CFC-12_FLAG_W,CFC113,CFC113_FLAG_W,TCARBN,TCARBN_FLAG_W,ALKALI,ALKALI_FLAG_W,TRITUM,TRITUM_FLAG_W,HELIUM,HELIUM_FLAG_W,DELHE3,DELHE3_FLAG_W,DELC13,DELC13_FLAG_W,DELC14,DELC14_FLAG_W,C14ERR,NEON,NEON_FLAG_W,NEONER,CCL4,CCL4_FLAG_W,HELIER,THETA,TRITER,DELHER
,,,,,,,,,,,METERS,DBAR,ITS-90,PSS-78,,PSS-78,,UMOL/KG,,UMOL/KG,,UMOL/KG,,UMOL/KG,,UMOL/KG,,UMOL/KG,,PMOL/KG,,PMOL/KG,,PMOL/KG,,UMOL/KG,,UMOL/KG,,TU,,NMOL/KG,,PERCNT,,/MILLE,,/MILLE,,/MILLE,NMOL/KG,,NMOL/KG,PMOL/KG,,NMOL/KG,DEG C,TU,PERCNT
  316N145_8,        I03,     503,          1,         36,         36,2,19950513,       0027,   -20.0007,    76.9087,       5035,     7.0,  25.4189,  34.7673,2,  34.7677,2,    204.9,2,   206.1,2,    2.75,2,    0.11,2,    0.00,2,    0.11,2,   1.808,2,   1.035,2,-999.000,9,  1933.6,2,  2273.0,2,-999.0000,9,-999.0000,9, -999.00,9, -999.00,9,  -999.0,9,  -999.0,-999.000,9,-999.000,-999.000,9,-999.0000,  25.4174,-999.0000,-999.000
  316N145_8,        I03,     503,          1,         35,         35,2,19950513,       0027,   -20.0007,    76.9087,       5035,    56.9,  25.3996,  34.9154,2,  34.9171,2,    207.0,2,   206.4,2,    2.74,2,    0.11,2,    0.00,2,    0.11,2,   1.789,2,   1.038,2,-999.000,9,  1941.2,2,  2283.0,2,-999.0000,9,-999.0000,9, -999.00,9, -999.00,9,  -999.0,9,  -999.0,-999.000,9,-999.000,-999.000,9,-999.0000,  25.3871,-999.0000,-999.000
  316N145_8,        I03,     503,          1,         34,         34,2,19950513,       0027,   -20.0007,    76.9087,       5035,   106.3,  22.5057,  35.4272,2,  35.4475,2,    221.2,2,   223.1,2,    2.94,2,    0.11,2,    0.00,2,    0.12,2,   2.151,2,   1.198,2,-999.000,9,  1992.2,2,  2319.0,2,-999.0000,9,-999.0000,9, -999.00,9, -999.00,9,  -999.0,9,  -999.0,-999.000,9,-999.000,-999.000,9,-999.0000,  22.4843,-999.0000,-999.000
  316N145_8,        I03,     503,          1,         33,         33,2,19950513,       0027,   -20.0007,    76.9087,       5035,   155.8,  20.7379,  35.6429,2,  35.6501,2,    209.2,2,   205.6,2,    3.15,2,    0.42,2,    0.24,2,    0.20,2,   2.214,2,   1.224,2,-999.000,9,  2027.7,2,  2335.0,2,-999.0000,9,-999.0000,9, -999.00,9, -999.00,9,  -999.0,9,  -999.0,-999.000,9,-999.000,-999.000,9,-999.0000,  20.7082,-999.0000,-999.000
  316N145_8,        I03,     503,          1,         32,         32,2,19950513,       0027,   -20.0007,    76.9087,       5035,   207.1,  19.3728,  35.7986,2,  35.7970,2,    204.4,2,   202.0,2,    3.13,2,    1.53,2,    0.01,2,    0.26,2,   2.274,2,   1.245,2,-999.000,9,  2054.9,2,  2346.0,2,-999.0000,9,-999.0000,9, -999.00,9, -999.00,9,  -999.0,9,  -999.0,-999.000,9,-999.000,-999.000,9,-999.0000,  19.3351,-999.0000,-999.000
  316N145_8,        I03,     503,          1,         31,         31,2,19950513,       0027,   -20.0007,    76.9087,       5035,   256.6,  17.4845,  35.7776,2,  35.7778,2,    209.3,2,   207.5,2,    3.12,2,    2.08,2,    0.01,2,    0.32,2,   2.465,2,   1.309,2,-999.000,9,  2074.6,2,  2347.0,2,-999.0000,9,-999.0000,9, -999.00,9, -999.00,9,  -999.0,9,  -999.0,-999.000,9,-999.000,-999.000,9,-999.0000,  17.4411,-999.0000,-999.000
  316N145_8,        I03,     503,          1,         30,         30,2,19950513,       0027,   -20.0007,    76.9087,       5035,   307.5,  15.0708,  35.5210,2,  35.5384,2,    208.2,2,   209.6,2,    3.76,2,    4.94,2,    0.01,2,    0.51,2,   2.578,2,   1.355,2,-999.000,9,  2091.5,2,  2335.0,2,-999.0000,9,-999.0000,9, -999.00,9, -999.00,9,  -999.0,9,  -999.0,-999.000,9,-999.000,-999.000,9,-999.0000,  15.0237,-999.0000,-999.000
  316N145_8,        I03,     503,          1,         29,         29,2,19950513,       0027,   -20.0007,    76.9087,       5035,   357.5,  13.6167,  35.3276,2,  35.3139,2,    221.0,2,   224.7,2,    3.31,2,    6.87,2,    0.00,2,    0.62,2,   2.882,2,   1.482,2,-999.000,9,  2093.5,2,  2322.0,2,-999.0000,9,-999.0000,9, -999.00,9, -999.00,9,  -999.0,9,  -999.0,-999.000,9,-999.000,-999.000,9,-999.0000,  13.5656,-999.0000,-999.000
  316N145_8,        I03,     503,          1,         28,         28,2,19950513,       0027,   -20.0007,    76.9087,       5035,   407.0,  12.5891,  35.1850,2,  35.1927,2,    229.6,2,   230.3,2,    3.73,2,    8.50,2,    0.00,2,    0.72,2,   2.951,2,   1.502,2,-999.000,9,  2095.4,2,  2316.0,2,-999.0000,9,-999.0000,9, -999.00,9, -999.00,9,  -999.0,9,  -999.0,-999.000,9,-999.000,-999.000,9,-999.0000,  12.5338,-999.0000,-999.000
  316N145_8,        I03,     503,          1,         27,         27,2,19950513,       0027,   -20.0007,    76.9087,       5035,   508.4,  11.0079,  34.9452,2,  34.9333,2,    232.5,2,   233.4,2,    4.37,2,   12.06,2,    0.00,2,    0.93,2,   2.824,2,   1.414,2,-999.000,9,  2103.9,2,  2306.0,2,-999.0000,9,-999.0000,9, -999.00,9, -999.00,9,  -999.0,9,  -999.0,-999.000,9,-999.000,-999.000,9,-999.0000,  10.9443,-999.0000,-999.000
  316N145_8,        I03,     503,          1,         26,         26,2,19950513,       0027,   -20.0007,    76.9087,       5035,   608.1,   9.5017,  34.7215,2,  34.7216,2,    228.3,2,   229.7,2,    6.10,2,   16.26,2,    0.00,2,    1.18,2,   2.382,2,   1.173,2,-999.000,9,  2114.7,2,  2295.0,2,-999.0000,9,-999.0000,9, -999.00,9, -999.00,9,  -999.0,9,  -999.0,-999.000,9,-999.000,-999.000,9,-999.0000,   9.4321,-999.0000,-999.000
  316N145_8,        I03,     503,          1,         25,         25,2,19950513,       0027,   -20.0007,    76.9087,       5035,   709.9,   8.1278,  34.5846,2,  34.5831,2,    205.4,2,   204.6,2,   13.74,2,   22.05,2,    0.00,2,    1.55,2,   1.196,2,   0.598,2,-999.000,9,  2140.3,2,  -999.0,5,-999.0000,9,-999.0000,9, -999.00,9, -999.00,9,  -999.0,9,  -999.0,-999.000,9,-999.000,-999.000,9,-999.0000,   8.0534,-999.0000,-999.000
  316N145_8,        I03,     503,          1,         24,         24,2,19950513,       0027,   -20.0007,    76.9087,       5035,   809.2,   6.1799,  34.4844,2,  34.4823,2,    181.0,2,   178.0,2,   31.63,2,   28.70,2,    0.00,2,    2.01,2,   0.336,2,   0.174,2,-999.000,9,  2184.9,2,  2312.0,2,-999.0000,9,-999.0000,9, -999.00,9, -999.00,9,  -999.0,9,  -999.0,-999.000,9,-999.000,-999.000,9,-999.0000,   6.1064,-999.0000,-999.000
  316N145_8,        I03,     503,          1,         23,         23,2,19950513,       0027,   -20.0007,    76.9087,       5035,   909.2,   5.3337,  34.5423,2,  34.5450,2,    140.8,2,   131.9,2,   61.52,2,   33.76,2,    0.00,2,    2.42,2,   0.050,2,   0.026,2,-999.000,9,  2240.7,2,  2337.0,2,-999.0000,9,-999.0000,9, -999.00,9, -999.00,9,  -999.0,9,  -999.0,-999.000,9,-999.000,-999.000,9,-999.0000,   5.2562,-999.0000,-999.000
  316N145_8,        I03,     503,          1,         22,         22,2,19950513,       0027,   -20.0007,    76.9087,       5035,  1010.4,   4.7723,  34.5911,2,  34.5921,2,    118.9,2,   119.2,2,   77.24,2,   35.32,2,    0.00,2,    2.56,2,   0.006,2,   0.004,2,-999.000,9,  2264.2,2,  2352.0,2,-999.0000,9,-999.0000,9, -999.00,9, -999.00,9,  -999.0,9,  -999.0,-999.000,9,-999.000,-999.000,9,-999.0000,   4.6897,-999.0000,-999.000
  316N145_8,        I03,     503,          1,         21,         21,2,19950513,       0027,   -20.0007,    76.9087,       5035,  1110.6,   4.4432,  34.6243,2,  34.6266,2,    117.2,2,   118.2,2,   84.21,2,   35.52,2,    0.00,2,    2.59,2,   0.002,2,   0.003,2,-999.000,9,  2272.8,2,  2359.0,2,-999.0000,9,-999.0000,9, -999.00,9, -999.00,9,  -999.0,9,  -999.0,-999.000,9,-999.000,-999.000,9,-999.0000,   4.3542,-999.0000,-999.000
  316N145_8,        I03,     503,          1,         20,         20,2,19950513,       0027,   -20.0007,    76.9087,       5035,  1211.7,   4.1437,  34.6546,2,  34.6548,2,    117.8,2,   118.8,2,   90.09,2,   35.62,2,    0.00,2,    2.59,2,  -0.001,2,   0.000,2,-999.000,9,  2278.9,2,  2366.0,2,-999.0000,9,-999.0000,9, -999.00,9, -999.00,9,  -999.0,9,  -999.0,-999.000,9,-999.000,-999.000,9,-999.0000,   4.0485,-999.0000,-999.000
  316N145_8,        I03,     503,          1,         19,         19,2,19950513,       0027,   -20.0007,    76.9087,       5035,  1413.4,   3.6942,  34.7034,2,  34.7031,2,    122.0,2,   121.5,2,   99.73,2,   35.46,2,    0.00,2,    2.59,2,-999.000,9,-999.000,9,-999.000,9,  2287.9,2,  2375.0,2,-999.0000,9,-999.0000,9, -999.00,9, -999.00,9,  -999.0,9,  -999.0,-999.000,9,-999.000,-999.000,9,-999.0000,   3.5857,-999.0000,-999.000
  316N145_8,        I03,     503,          1,         18,         18,2,19950513,       0027,   -20.0007,    76.9087,       5035,  1615.3,   3.2546,  34.7165,2,  34.7168,2,    131.2,2,   130.0,2,  104.98,2,   35.16,2,    0.00,2,    2.55,2,   0.000,2,   0.000,2,-999.000,9,  2290.8,2,  2381.0,2,-999.0000,9,-999.0000,9, -999.00,9, -999.00,9,  -999.0,9,  -999.0,-999.000,9,-999.000,-999.000,9,-999.0000,   3.1335,-999.0000,-999.000
  316N145_8,        I03,     503,          1,         17,         17,2,19950513,       0027,   -20.0007,    76.9087,       5035,  1816.6,   2.8355,  34.7243,2,  34.7239,2,    140.3,2,   140.4,2,  109.58,2,   34.80,2,    0.00,2,    2.51,2,-999.000,9,-999.000,9,-999.000,9,  2290.8,2,  2387.0,2,-999.0000,9,-999.0000,9, -999.00,9, -999.00,9,  -999.0,9,  -999.0,-999.000,9,-999.000,-999.000,9,-999.0000,   2.7024,-999.0000,-999.000
  316N145_8,        I03,     503,          1,         16,         16,2,19950513,       0027,   -20.0007,    76.9087,       5035,  2020.2,   2.5078,  34.7274,2,  34.7278,2,    151.1,2,   150.1,2,  112.18,2,   34.30,2,    0.00,2,    2.45,2,   0.004,3,   0.000,2,-999.000,9,  2288.7,2,  2388.0,2,-999.0000,9,-999.0000,9, -999.00,9, -999.00,9,  -999.0,9,  -999.0,-999.000,9,-999.000,-999.000,9,-999.0000,   2.3616,-999.0000,-999.000
  316N145_8,        I03,     503,          1,         15,         15,2,19950513,       0027,   -20.0007,    76.9087,       5035,  2222.1,   2.2638,  34.7272,2,  34.7270,2,    158.9,2,   158.5,2,  113.66,2,   33.89,2,    0.00,2,    2.41,2,-999.000,9,-999.000,9,-999.000,9,  2285.2,2,  2389.0,2,-999.0000,9,-999.0000,9, -999.00,9, -999.00,9,  -999.0,9,  -999.0,-999.000,9,-999.000,-999.000,9,-999.0000,   2.1036,-999.0000,-999.000
  316N145_8,        I03,     503,          1,         14,         14,2,19950513,       0027,   -20.0007,    76.9087,       5035,  2425.5,   2.0294,  34.7255,2,  34.7258,2,    169.7,2,   169.2,2,  113.14,2,   33.29,2,    0.00,2,    2.35,2,-999.000,9,-999.000,9,-999.000,9,  2280.1,2,  2389.0,2,-999.0000,9,-999.0000,9, -999.00,9, -999.00,9,  -999.0,9,  -999.0,-999.000,9,-999.000,-999.000,9,-999.0000,   1.8551,-999.0000,-999.000
  316N145_8,        I03,     503,          1,         13,         13,2,19950513,       0027,   -20.0007,    76.9087,       5035,  2628.6,   1.8415,  34.7258,2,  34.7260,2,    178.2,2,   178.4,2,  112.16,2,   32.68,2,    0.00,2,    2.30,2,   0.000,2,   0.001,2,-999.000,9,  -999.0,5,  2384.0,2,-999.0000,9,-999.0000,9, -999.00,9, -999.00,9,  -999.0,9,  -999.0,-999.000,9,-999.000,-999.000,9,-999.0000,   1.6522,-999.0000,-999.000
  316N145_8,        I03,     503,          1,         12,         12,2,19950513,       0027,   -20.0007,    76.9087,       5035,  2831.9,   1.7088,  34.7269,2,  34.7272,2,    183.2,2,   183.6,2,  112.97,2,   32.43,2,    0.00,2,    2.28,2,-999.000,9,-999.000,9,-999.000,9,  2271.8,2,  2385.0,2,-999.0000,9,-999.0000,9, -999.00,9, -999.00,9,  -999.0,9,  -999.0,-999.000,9,-999.000,-999.000,9,-999.0000,   1.5032,-999.0000,-999.000
  316N145_8,        I03,     503,          1,         11,         11,2,19950513,       0027,   -20.0007,    76.9087,       5035,  3035.4,   1.6002,  34.7277,2,  34.7279,2,    186.1,2,   186.2,2,  114.90,2,   32.33,2,    0.00,2,    2.27,2,-999.000,9,-999.000,9,-999.000,9,  2273.2,2,  2385.0,2,-999.0000,9,-999.0000,9, -999.00,9, -999.00,9,  -999.0,9,  -999.0,-999.000,9,-999.000,-999.000,9,-999.0000,   1.3776,-999.0000,-999.000
  316N145_8,        I03,     503,          1,         10,         10,2,19950513,       0027,   -20.0007,    76.9087,       5035,  3239.1,   1.4883,  34.7262,2,  34.7262,2,    187.8,2,   187.8,2,  118.62,2,   32.43,2,    0.00,2,    2.27,2,  -0.004,2,  -0.001,2,-999.000,9,  2275.1,6,  2392.5,6,-999.0000,9,-999.0000,9, -999.00,9, -999.00,9,  -999.0,9,  -999.0,-999.000,9,-999.000,-999.000,9,-999.0000,   1.2484,-999.0000,-999.000
  316N145_8,        I03,     503,          1,          9,          9,2,19950513,       0027,   -20.0007,    76.9087,       5035,  3441.7,   1.4298,  34.7249,2,  34.7242,2,    188.0,2,   188.1,2,  121.46,2,   32.58,2,    0.00,2,    2.28,2,-999.000,9,-999.000,9,-999.000,9,  2277.8,2,  2394.0,2,-999.0000,9,-999.0000,9, -999.00,9, -999.00,9,  -999.0,9,  -999.0,-999.000,9,-999.000,-999.000,9,-999.0000,   1.1711,-999.0000,-999.000
  316N145_8,        I03,     503,          1,          8,          8,2,19950513,       0027,   -20.0007,    76.9087,       5035,  3647.0,   1.3960,  34.7227,2,  34.7222,2,    187.3,2,   187.6,2,  124.30,2,   32.78,2,    0.00,2,    2.29,2,-999.000,9,-999.000,9,-999.000,9,  2282.0,2,  2400.0,2,-999.0000,9,-999.0000,9, -999.00,9, -999.00,9,  -999.0,9,  -999.0,-999.000,9,-999.000,-999.000,9,-999.0000,   1.1172,-999.0000,-999.000
  316N145_8,        I03,     503,          1,          7,          7,2,19950513,       0027,   -20.0007,    76.9087,       5035,  3850.0,   1.3875,  34.7205,2,  34.7210,2,    185.4,2,   186.2,2,  127.37,2,   33.03,2,    0.00,2,    2.31,2,  -0.001,2,   0.000,2,-999.000,9,  2285.1,2,  2404.0,2,-999.0000,9,-999.0000,9, -999.00,9, -999.00,9,  -999.0,9,  -999.0,-999.000,9,-999.000,-999.000,9,-999.0000,   1.0876,-999.0000,-999.000
  316N145_8,        I03,     503,          1,          6,          6,2,19950513,       0027,   -20.0007,    76.9087,       5035,  4054.2,   1.3930,  34.7197,2,  34.7196,2,    184.3,2,   184.6,2,  129.32,2,   33.18,2,    0.00,2,    2.32,2,-999.000,9,-999.000,9,-999.000,9,  2290.1,2,  2408.0,2,-999.0000,9,-999.0000,9, -999.00,9, -999.00,9,  -999.0,9,  -999.0,-999.000,9,-999.000,-999.000,9,-999.0000,   1.0711,-999.0000,-999.000
  316N145_8,        I03,     503,          1,          5,          5,2,19950513,       0027,   -20.0007,    76.9087,       5035,  4259.0,   1.4111,  34.7199,2,  34.7188,2,    184.5,2,   183.9,2,  130.14,2,   33.28,2,    0.00,2,    2.32,2,-999.000,9,-999.000,9,-999.000,9,  2291.7,2,  2404.0,2,-999.0000,9,-999.0000,9, -999.00,9, -999.00,9,  -999.0,9,  -999.0,-999.000,9,-999.000,-999.000,9,-999.0000,   1.0660,-999.0000,-999.000
  316N145_8,        I03,     503,          1,          4,          4,2,19950513,       0027,   -20.0007,    76.9087,       5035,  4464.6,   1.4272,  34.7194,2,  34.7190,2,    184.2,2,   184.2,2,  130.50,2,   33.32,2,    0.00,2,    2.32,2,  -0.002,2,  -0.002,2,-999.000,9,  2291.7,2,  2409.0,2,-999.0000,9,-999.0000,9, -999.00,9, -999.00,9,  -999.0,9,  -999.0,-999.000,9,-999.000,-999.000,9,-999.0000,   1.0584,-999.0000,-999.000
  316N145_8,        I03,     503,          1,          3,          3,2,19950513,       0027,   -20.0007,    76.9087,       5035,  4668.2,   1.4479,  34.7187,2,  34.7184,2,    184.1,2,   183.9,2,  130.64,2,   33.32,2,    0.00,2,    2.32,2,-999.000,9,-999.000,9,-999.000,9,  2293.3,2,  2407.0,2,-999.0000,9,-999.0000,9, -999.00,9, -999.00,9,  -999.0,9,  -999.0,-999.000,9,-999.000,-999.000,9,-999.0000,   1.0548,-999.0000,-999.000
  316N145_8,        I03,     503,          1,          2,          2,2,19950513,       0027,   -20.0007,    76.9087,       5035,  4899.9,   1.4697,  34.7193,2,  34.7186,2,    184.5,2,   184.0,2,  130.77,2,   33.37,2,    0.00,2,    2.33,2,  -0.001,2,   0.001,2,-999.000,9,  2292.9,2,  2407.0,2,-999.0000,9,-999.0000,9, -999.00,9, -999.00,9,  -999.0,9,  -999.0,-999.000,9,-999.000,-999.000,9,-999.0000,   1.0484,-999.0000,-999.000
  316N145_8,        I03,     503,          1,          1,          1,2,19950513,       0027,   -20.0007,    76.9087,       5035,  5145.4,   1.4863,  34.7182,2,  34.7184,2,    184.3,2,   184.2,2,  131.13,2,   33.32,2,    0.00,2,    2.33,2,  -0.001,2,   0.001,2,-999.000,9,  2293.3,2,  2409.0,2,-999.0000,9,-999.0000,9, -999.00,9, -999.00,9,  -999.0,9,  -999.0,-999.000,9,-999.000,-999.000,9,-999.0000,   1.0345,-999.0000,-999.000