BOTTLE,20140514CCHSIOSE
EXPOCODE,SECT_ID,STNNBR,CASTNO,SAMPNO,BTLNBR,BTLNBR_FLAG_W,DATE,TIME,LATITUDE,LONGITUDE,DEPTH,CTDPRS,CTDTMP,CTDSAL,CTDSAL_FLAG_W,SALNTY,SALNTY_FLAG_W,CTDOXY,CTDOXY_FLAG_W,OXYGEN,OXYGEN_FLAG_W,SILCAT,SILCAT_FLAG_W,NITRAT,NITRAT_FLAG_W,NITRIT,NITRIT_FLAG_W,PHSPHT,PHSPHT_FLAG_W,CFC-11,CFC-11_FLAG_W,CFC-12,CFC-12_FLAG_W,CFC113,CFC113_FLAG_W,TCARBN,TCARBN_FLAG_W,ALKALI,ALKALI_FLAG_W,TRITUM,TRITUM_FLAG_W,HELIUM,HELIUM_FLAG_W,DELHE3,DELHE3_FLAG_W,DELC13,DELC13_FLAG_W,DELC14,DELC14_FLAG_W,C14ERR,NEON,NEON_FLAG_W,NEONER,CCL4,CCL4_FLAG_W,HELIER,THETA,TRITER,DELHER
,,,,,,,,,,,METERS,DBAR,ITS-90,PSS-78,,PSS-78,,UMOL/KG,,UMOL/KG,,UMOL/KG,,UMOL/KG,,UMOL/KG,,UMOL/KG,,PMOL/KG,,PMOL/KG,,PMOL/KG,,UMOL/KG,,UMOL/KG,,TU,,NMOL/KG,,PERCNT,,/MILLE,,/MILLE,,/MILLE,NMOL/KG,,NMOL/KG,PMOL/KG,,NMOL/KG,DEG C,TU,PERCNT
  316N145_8,        I03,     541,          1,         26,         26,2,19950524,       1751,   -19.9990,    57.4183,       2588,     5.5,  25.2479,  35.1488,2,  35.1478,2,    206.7,2,   207.4,2,    2.77,2,    0.04,2,    0.00,2,    0.13,2,-999.000,9,-999.000,9,-999.000,9,  -999.0,9,  -999.0,9,-999.0000,9,-999.0000,9, -999.00,9, -999.00,9,  -999.0,9,  -999.0,-999.000,9,-999.000,-999.000,9,-999.0000,  25.2467,-999.0000,-999.000
  316N145_8,        I03,     541,          1,         25,         25,2,19950524,       1751,   -19.9990,    57.4183,       2588,    53.6,  25.1604,  35.1722,2,  35.1694,2,    209.6,2,   207.6,2,    2.75,2,    0.00,2,    0.00,2,    0.12,2,-999.000,9,-999.000,9,-999.000,9,  -999.0,9,  -999.0,9,-999.0000,9,-999.0000,9, -999.00,9, -999.00,9,  -999.0,9,  -999.0,-999.000,9,-999.000,-999.000,9,-999.0000,  25.1487,-999.0000,-999.000
  316N145_8,        I03,     541,          1,         24,         24,2,19950524,       1751,   -19.9990,    57.4183,       2588,   103.7,  23.6279,  35.2816,2,  35.2798,2,    207.5,2,   208.4,2,    2.94,2,    0.27,2,    0.01,2,    0.16,2,-999.000,9,-999.000,9,-999.000,9,  -999.0,9,  -999.0,9,-999.0000,9,-999.0000,9, -999.00,9, -999.00,9,  -999.0,9,  -999.0,-999.000,9,-999.000,-999.000,9,-999.0000,  23.6063,-999.0000,-999.000
  316N145_8,        I03,     541,          1,         23,         23,2,19950524,       1751,   -19.9990,    57.4183,       2588,   154.0,  21.2918,  35.4555,2,  35.4632,2,    193.6,2,   194.0,2,    3.75,2,    1.81,2,    0.07,2,    0.27,2,-999.000,9,-999.000,9,-999.000,9,  -999.0,9,  -999.0,9,-999.0000,9,-999.0000,9, -999.00,9, -999.00,9,  -999.0,9,  -999.0,-999.000,9,-999.000,-999.000,9,-999.0000,  21.2620,-999.0000,-999.000
  316N145_8,        I03,     541,          1,         22,         22,2,19950524,       1751,   -19.9990,    57.4183,       2588,   203.9,  19.3163,  35.5358,2,  35.5333,2,    183.9,2,   183.9,2,    5.18,2,    4.25,2,    0.01,2,    0.43,2,-999.000,9,-999.000,9,-999.000,9,  -999.0,9,  -999.0,9,-999.0000,9,-999.0000,9, -999.00,9, -999.00,9,  -999.0,9,  -999.0,-999.000,9,-999.000,-999.000,9,-999.0000,  19.2794,-999.0000,-999.000
  316N145_8,        I03,     541,          1,         21,         21,2,19950524,       1751,   -19.9990,    57.4183,       2588,   253.3,  17.6731,  35.5682,2,  35.5666,2,    188.2,2,   188.7,2,    5.57,2,    5.03,2,    0.01,2,    0.49,2,-999.000,9,-999.000,9,-999.000,9,  -999.0,9,  -999.0,9,-999.0000,9,-999.0000,9, -999.00,9, -999.00,9,  -999.0,9,  -999.0,-999.000,9,-999.000,-999.000,9,-999.0000,  17.6299,-999.0000,-999.000
  316N145_8,        I03,     541,          1,         20,         20,2,19950524,       1751,   -19.9990,    57.4183,       2588,   302.9,  16.2030,  35.5458,2,  35.5438,2,    194.8,2,   196.7,2,    5.35,2,    5.62,2,    0.00,2,    0.54,2,-999.000,9,-999.000,9,-999.000,9,  -999.0,9,  -999.0,9,-999.0000,9,-999.0000,9, -999.00,9, -999.00,9,  -999.0,9,  -999.0,-999.000,9,-999.000,-999.000,9,-999.0000,  16.1543,-999.0000,-999.000
  316N145_8,        I03,     541,          1,         19,         19,2,19950524,       1751,   -19.9990,    57.4183,       2588,   352.2,  14.3897,  35.3907,2,  35.3900,2,    207.5,2,   210.1,2,    4.72,2,    7.03,2,    0.00,2,    0.62,2,-999.000,9,-999.000,9,-999.000,9,  -999.0,9,  -999.0,9,-999.0000,9,-999.0000,9, -999.00,9, -999.00,9,  -999.0,9,  -999.0,-999.000,9,-999.000,-999.000,9,-999.0000,  14.3374,-999.0000,-999.000
  316N145_8,        I03,     541,          1,         18,         18,2,19950524,       1751,   -19.9990,    57.4183,       2588,   401.7,  13.3301,  35.2650,2,  35.2644,2,    214.2,2,   218.1,2,    4.50,2,    8.24,2,    0.00,2,    0.69,2,-999.000,9,-999.000,9,-999.000,9,  -999.0,9,  -999.0,9,-999.0000,9,-999.0000,9, -999.00,9, -999.00,9,  -999.0,9,  -999.0,-999.000,9,-999.000,-999.000,9,-999.0000,  13.2733,-999.0000,-999.000
  316N145_8,        I03,     541,          1,         17,         17,2,19950524,       1751,   -19.9990,    57.4183,       2588,   450.5,  12.7178,  35.1825,2,  35.1820,2,    219.9,2,   221.7,2,    4.48,2,    9.32,2,    0.00,2,    0.76,2,-999.000,9,-999.000,9,-999.000,9,  -999.0,9,  -999.0,9,-999.0000,9,-999.0000,9, -999.00,9, -999.00,9,  -999.0,9,  -999.0,-999.000,9,-999.000,-999.000,9,-999.0000,  12.6560,-999.0000,-999.000
  316N145_8,        I03,     541,          1,         16,         16,2,19950524,       1751,   -19.9990,    57.4183,       2588,   499.5,  11.9977,  35.0817,2,  35.0812,2,    223.9,2,   225.0,2,    4.67,2,   10.63,2,    0.00,2,    0.83,2,-999.000,9,-999.000,9,-999.000,9,  -999.0,9,  -999.0,9,-999.0000,9,-999.0000,9, -999.00,9, -999.00,9,  -999.0,9,  -999.0,-999.000,9,-999.000,-999.000,9,-999.0000,  11.9317,-999.0000,-999.000
  316N145_8,        I03,     541,          1,         15,         15,2,19950524,       1751,   -19.9990,    57.4183,       2588,   601.6,  10.4384,  34.8591,2,  34.8580,2,    225.2,2,   225.1,2,    6.10,2,   14.24,2,    0.00,2,    1.05,2,-999.000,9,-999.000,9,-999.000,9,  -999.0,9,  -999.0,9,-999.0000,9,-999.0000,9, -999.00,9, -999.00,9,  -999.0,9,  -999.0,-999.000,9,-999.000,-999.000,9,-999.0000,  10.3654,-999.0000,-999.000
  316N145_8,        I03,     541,          1,         14,         14,2,19950524,       1751,   -19.9990,    57.4183,       2588,   706.2,   8.5957,  34.6407,2,  34.6399,2,    212.5,2,   211.9,2,   11.24,2,   20.04,2,    0.00,2,    1.40,2,-999.000,9,-999.000,9,-999.000,9,  -999.0,9,  -999.0,9,-999.0000,9,-999.0000,9, -999.00,9, -999.00,9,  -999.0,9,  -999.0,-999.000,9,-999.000,-999.000,9,-999.0000,   8.5192,-999.0000,-999.000
  316N145_8,        I03,     541,          1,         13,         13,2,19950524,       1751,   -19.9990,    57.4183,       2588,   806.0,   6.5081,  34.5253,2,  34.5262,2,    179.6,2,   178.8,2,   31.84,2,   27.64,2,    0.00,2,    1.91,2,-999.000,9,-999.000,9,-999.000,9,  -999.0,9,  -999.0,9,-999.0000,9,-999.0000,9, -999.00,9, -999.00,9,  -999.0,9,  -999.0,-999.000,9,-999.000,-999.000,9,-999.0000,   6.4329,-999.0000,-999.000
  316N145_8,        I03,     541,          1,         12,         12,2,19950524,       1751,   -19.9990,    57.4183,       2588,   901.6,   5.4489,  34.5590,2,  34.5595,2,    151.3,2,   146.6,2,   55.76,2,   31.98,2,    0.00,2,    2.25,2,-999.000,9,-999.000,9,-999.000,9,  -999.0,9,  -999.0,9,-999.0000,9,-999.0000,9, -999.00,9, -999.00,9,  -999.0,9,  -999.0,-999.000,9,-999.000,-999.000,9,-999.0000,   5.3713,-999.0000,-999.000
  316N145_8,        I03,     541,          1,         11,         11,2,19950524,       1751,   -19.9990,    57.4183,       2588,  1003.9,   5.0180,  34.5972,2,  34.5981,2,    135.8,2,   134.9,2,   67.52,2,   33.42,2,    0.00,2,    2.35,2,-999.000,9,-999.000,9,-999.000,9,  -999.0,9,  -999.0,9,-999.0000,9,-999.0000,9, -999.00,9, -999.00,9,  -999.0,9,  -999.0,-999.000,9,-999.000,-999.000,9,-999.0000,   4.9341,-999.0000,-999.000
  316N145_8,        I03,     541,          1,         10,         10,2,19950524,       1751,   -19.9990,    57.4183,       2588,  1106.3,   4.5905,  34.6222,2,  34.6230,2,    132.9,2,   131.8,2,   75.58,2,   34.02,2,    0.00,2,    2.42,2,-999.000,9,-999.000,9,-999.000,9,  -999.0,9,  -999.0,9,-999.0000,9,-999.0000,9, -999.00,9, -999.00,9,  -999.0,9,  -999.0,-999.000,9,-999.000,-999.000,9,-999.0000,   4.5007,-999.0000,-999.000
  316N145_8,        I03,     541,          1,          9,          9,2,19950524,       1751,   -19.9990,    57.4183,       2588,  1208.6,   4.2219,  34.6394,2,  34.6397,2,    133.9,2,   132.9,2,   80.96,2,   34.33,2,    0.00,2,    2.42,2,-999.000,9,-999.000,9,-999.000,9,  -999.0,9,  -999.0,9,-999.0000,9,-999.0000,9, -999.00,9, -999.00,9,  -999.0,9,  -999.0,-999.000,9,-999.000,-999.000,9,-999.0000,   4.1262,-999.0000,-999.000
  316N145_8,        I03,     541,          1,          8,          8,2,19950524,       1751,   -19.9990,    57.4183,       2588,  1310.4,   3.7115,  34.6535,2,  34.6537,2,    139.0,2,   140.0,2,   85.93,2,   34.18,2,    0.00,2,    2.40,2,-999.000,9,-999.000,9,-999.000,9,  -999.0,9,  -999.0,9,-999.0000,9,-999.0000,9, -999.00,9, -999.00,9,  -999.0,9,  -999.0,-999.000,9,-999.000,-999.000,9,-999.0000,   3.6118,-999.0000,-999.000
  316N145_8,        I03,     541,          1,          7,          7,2,19950524,       1751,   -19.9990,    57.4183,       2588,  1412.6,   3.3701,  34.6641,2,  34.6640,2,    145.0,2,   146.4,2,   89.24,2,   33.99,2,    0.00,2,    2.39,2,-999.000,9,-999.000,9,-999.000,9,  -999.0,9,  -999.0,9,-999.0000,9,-999.0000,9, -999.00,9, -999.00,9,  -999.0,9,  -999.0,-999.000,9,-999.000,-999.000,9,-999.0000,   3.2653,-999.0000,-999.000
  316N145_8,        I03,     541,          1,          6,          6,2,19950524,       1751,   -19.9990,    57.4183,       2588,  1614.0,   2.8642,  34.6882,2,  34.6880,2,    153.9,2,   155.1,2,   96.33,2,   33.70,2,    0.00,2,    2.36,2,-999.000,9,-999.000,9,-999.000,9,  -999.0,9,  -999.0,9,-999.0000,9,-999.0000,9, -999.00,9, -999.00,9,  -999.0,9,  -999.0,-999.000,9,-999.000,-999.000,9,-999.0000,   2.7482,-999.0000,-999.000
  316N145_8,        I03,     541,          1,          5,          5,2,19950524,       1751,   -19.9990,    57.4183,       2588,  1816.3,   2.4770,  34.7090,2,  34.7088,2,    160.2,2,   161.9,2,  103.87,2,   33.40,2,    0.00,2,    2.33,2,-999.000,9,-999.000,9,-999.000,9,  -999.0,9,  -999.0,9,-999.0000,9,-999.0000,9, -999.00,9, -999.00,9,  -999.0,9,  -999.0,-999.000,9,-999.000,-999.000,9,-999.0000,   2.3489,-999.0000,-999.000
  316N145_8,        I03,     541,          1,          4,          4,2,19950524,       1751,   -19.9990,    57.4183,       2588,  2018.8,   2.2885,  34.7185,2,  34.7184,2,    163.6,2,   163.2,2,  108.71,2,   33.41,2,    0.00,2,    2.33,2,-999.000,9,-999.000,9,-999.000,9,  -999.0,9,  -999.0,9,-999.0000,9,-999.0000,9, -999.00,9, -999.00,9,  -999.0,9,  -999.0,-999.000,9,-999.000,-999.000,9,-999.0000,   2.1458,-999.0000,-999.000
  316N145_8,        I03,     541,          1,          3,          3,2,19950524,       1751,   -19.9990,    57.4183,       2588,  2221.0,   2.0907,  34.7235,2,  34.7235,2,    165.4,2,   165.2,2,  114.00,2,   33.46,2,    0.00,2,    2.32,2,-999.000,9,-999.000,9,-999.000,9,  -999.0,9,  -999.0,9,-999.0000,9,-999.0000,9, -999.00,9, -999.00,9,  -999.0,9,  -999.0,-999.000,9,-999.000,-999.000,9,-999.0000,   1.9335,-999.0000,-999.000
  316N145_8,        I03,     541,          1,          2,          2,2,19950524,       1751,   -19.9990,    57.4183,       2588,  2423.3,   1.9547,  34.7262,2,  34.7259,2,    167.2,2,   167.7,2,  118.03,2,   33.52,2,    0.00,2,    2.34,2,-999.000,9,-999.000,9,-999.000,9,  -999.0,9,  -999.0,9,-999.0000,9,-999.0000,9, -999.00,9, -999.00,9,  -999.0,9,  -999.0,-999.000,9,-999.000,-999.000,9,-999.0000,   1.7819,-999.0000,-999.000
  316N145_8,        I03,     541,          1,          1,          1,2,19950524,       1751,   -19.9990,    57.4183,       2588,  2627.1,   1.8555,  34.7286,2,  34.7280,2,    168.5,2,   168.4,2,  121.23,2,   33.62,2,    0.00,2,    2.35,2,-999.000,9,-999.000,9,-999.000,9,  -999.0,9,  -999.0,9,-999.0000,9,-999.0000,9, -999.00,9, -999.00,9,  -999.0,9,  -999.0,-999.000,9,-999.000,-999.000,9,-999.0000,   1.6660,-999.0000,-999.000