BOTTLE,20140514CCHSIOSE
EXPOCODE,SECT_ID,STNNBR,CASTNO,SAMPNO,BTLNBR,BTLNBR_FLAG_W,DATE,TIME,LATITUDE,LONGITUDE,DEPTH,CTDPRS,CTDTMP,CTDSAL,CTDSAL_FLAG_W,SALNTY,SALNTY_FLAG_W,CTDOXY,CTDOXY_FLAG_W,OXYGEN,OXYGEN_FLAG_W,SILCAT,SILCAT_FLAG_W,NITRAT,NITRAT_FLAG_W,NITRIT,NITRIT_FLAG_W,PHSPHT,PHSPHT_FLAG_W,CFC-11,CFC-11_FLAG_W,CFC-12,CFC-12_FLAG_W,CFC113,CFC113_FLAG_W,TCARBN,TCARBN_FLAG_W,ALKALI,ALKALI_FLAG_W,TRITUM,TRITUM_FLAG_W,HELIUM,HELIUM_FLAG_W,DELHE3,DELHE3_FLAG_W,DELC13,DELC13_FLAG_W,DELC14,DELC14_FLAG_W,C14ERR,NEON,NEON_FLAG_W,NEONER,CCL4,CCL4_FLAG_W,HELIER,THETA,TRITER,DELHER
,,,,,,,,,,,METERS,DBAR,ITS-90,PSS-78,,PSS-78,,UMOL/KG,,UMOL/KG,,UMOL/KG,,UMOL/KG,,UMOL/KG,,UMOL/KG,,PMOL/KG,,PMOL/KG,,PMOL/KG,,UMOL/KG,,UMOL/KG,,TU,,NMOL/KG,,PERCNT,,/MILLE,,/MILLE,,/MILLE,NMOL/KG,,NMOL/KG,PMOL/KG,,NMOL/KG,DEG C,TU,PERCNT
  316N145_8,        I03,     521,          1,         26,         26,2,19950520,       0445,   -20.0002,    67.0998,       2398,     6.6,  25.8129,  34.7037,2,  34.7029,2,    203.4,2,   205.4,2,    3.00,2,    0.05,2,    0.00,2,    0.12,2,-999.000,9,-999.000,9,-999.000,9,  1933.7,6,  2272.0,6,-999.0000,9,-999.0000,9, -999.00,9, -999.00,9,  -999.0,9,  -999.0,-999.000,9,-999.000,-999.000,9,-999.0000,  25.8114,-999.0000,-999.000
  316N145_8,        I03,     521,          1,         25,         25,2,19950520,       0445,   -20.0002,    67.0998,       2398,    56.0,  25.5843,  34.8128,2,  34.8248,2,    208.1,2,   206.9,2,    2.98,2,    0.05,2,    0.00,2,    0.12,2,-999.000,9,-999.000,9,-999.000,9,  1941.4,2,  2280.0,2,-999.0000,9,-999.0000,9, -999.00,9, -999.00,9,  -999.0,9,  -999.0,-999.000,9,-999.000,-999.000,9,-999.0000,  25.5719,-999.0000,-999.000
  316N145_8,        I03,     521,          1,         24,         24,2,19950520,       0445,   -20.0002,    67.0998,       2398,   105.7,  22.5839,  35.3887,2,  35.3929,2,    224.4,2,   220.2,2,    3.17,2,    0.05,2,    0.00,2,    0.12,2,-999.000,9,-999.000,9,-999.000,9,  1989.3,2,  2316.0,2,-999.0000,9,-999.0000,9, -999.00,9, -999.00,9,  -999.0,9,  -999.0,-999.000,9,-999.000,-999.000,9,-999.0000,  22.5626,-999.0000,-999.000
  316N145_8,        I03,     521,          1,         23,         23,2,19950520,       0445,   -20.0002,    67.0998,       2398,   153.6,  20.8962,  35.6042,2,  35.6032,2,    210.1,2,   205.6,2,    3.15,2,    0.25,2,    0.27,2,    0.19,2,-999.000,9,-999.000,9,-999.000,9,  2023.0,2,  2329.0,2,-999.0000,9,-999.0000,9, -999.00,9, -999.00,9,  -999.0,9,  -999.0,-999.000,9,-999.000,-999.000,9,-999.0000,  20.8668,-999.0000,-999.000
  316N145_8,        I03,     521,          1,         22,         22,2,19950520,       0445,   -20.0002,    67.0998,       2398,   205.3,  19.2628,  35.7157,2,  35.7144,2,    201.1,2,   199.4,2,    3.55,2,    1.96,2,    0.01,2,    0.28,2,-999.000,9,-999.000,9,-999.000,9,  2053.7,2,  2336.0,2,-999.0000,9,-999.0000,9, -999.00,9, -999.00,9,  -999.0,9,  -999.0,-999.000,9,-999.000,-999.000,9,-999.0000,  19.2257,-999.0000,-999.000
  316N145_8,        I03,     521,          1,         21,         21,2,19950520,       0445,   -20.0002,    67.0998,       2398,   256.5,  17.1985,  35.6849,2,  35.6752,2,    207.9,2,   207.5,2,    3.33,2,    2.72,2,    0.01,2,    0.36,2,-999.000,9,-999.000,9,-999.000,9,  2076.4,2,  2339.0,2,-999.0000,9,-999.0000,9, -999.00,9, -999.00,9,  -999.0,9,  -999.0,-999.000,9,-999.000,-999.000,9,-999.0000,  17.1556,-999.0000,-999.000
  316N145_8,        I03,     521,          1,         20,         20,2,19950520,       0445,   -20.0002,    67.0998,       2398,   305.8,  15.4416,  35.5541,2,  35.5577,2,    216.4,2,   215.3,2,    3.10,2,    3.75,2,    0.00,2,    0.44,2,-999.000,9,-999.000,9,-999.000,9,  2086.7,2,  2335.0,2,-999.0000,9,-999.0000,9, -999.00,9, -999.00,9,  -999.0,9,  -999.0,-999.000,9,-999.000,-999.000,9,-999.0000,  15.3940,-999.0000,-999.000
  316N145_8,        I03,     521,          1,         19,         19,2,19950520,       0445,   -20.0002,    67.0998,       2398,   356.3,  14.2559,  35.4239,2,  35.4230,2,    219.3,2,   218.8,2,    3.09,2,    5.59,2,    0.00,2,    0.53,2,-999.000,9,-999.000,9,-999.000,9,  2093.7,2,  2330.0,2,-999.0000,9,-999.0000,9, -999.00,9, -999.00,9,  -999.0,9,  -999.0,-999.000,9,-999.000,-999.000,9,-999.0000,  14.2033,-999.0000,-999.000
  316N145_8,        I03,     521,          1,         18,         18,2,19950520,       0445,   -20.0002,    67.0998,       2398,   406.2,  12.9448,  35.2425,2,  35.2429,2,    222.0,2,   224.2,2,    3.69,2,    7.89,2,    0.00,2,    0.66,2,-999.000,9,-999.000,9,-999.000,9,  2098.7,2,  2321.0,2,-999.0000,9,-999.0000,9, -999.00,9, -999.00,9,  -999.0,9,  -999.0,-999.000,9,-999.000,-999.000,9,-999.0000,  12.8885,-999.0000,-999.000
  316N145_8,        I03,     521,          1,         17,         17,2,19950520,       0445,   -20.0002,    67.0998,       2398,   456.2,  11.9767,  35.0941,2,  35.0907,2,    225.9,2,   228.6,2,    4.09,2,    9.82,2,    0.00,2,    0.78,2,-999.000,9,-999.000,9,-999.000,9,  2102.7,2,  2313.0,2,-999.0000,9,-999.0000,9, -999.00,9, -999.00,9,  -999.0,9,  -999.0,-999.000,9,-999.000,-999.000,9,-999.0000,  11.9166,-999.0000,-999.000
  316N145_8,        I03,     521,          1,         16,         16,2,19950520,       0445,   -20.0002,    67.0998,       2398,   507.5,  10.9563,  34.9353,2,  34.9264,2,    229.6,2,   230.7,2,    4.90,2,   12.26,2,    0.00,2,    0.92,2,-999.000,9,-999.000,9,-999.000,9,  2108.0,2,  2306.0,2,-999.0000,9,-999.0000,9, -999.00,9, -999.00,9,  -999.0,9,  -999.0,-999.000,9,-999.000,-999.000,9,-999.0000,  10.8930,-999.0000,-999.000
  316N145_8,        I03,     521,          1,         15,         15,2,19950520,       0445,   -20.0002,    67.0998,       2398,   606.3,   9.5418,  34.7282,2,  34.7303,2,    230.0,2,   229.6,2,    5.92,2,   15.98,2,    0.00,2,    1.14,2,   2.400,2,   1.197,2,-999.000,9,  2116.3,2,  2297.0,2,-999.0000,9,-999.0000,9, -999.00,9, -999.00,9,  -999.0,9,  -999.0,-999.000,9,-999.000,-999.000,9,-999.0000,   9.4722,-999.0000,-999.000
  316N145_8,        I03,     521,          1,         14,         14,2,19950520,       0445,   -20.0002,    67.0998,       2398,   706.7,   8.3731,  34.6010,2,  34.6016,2,    215.3,2,   212.4,2,   11.09,2,   20.69,2,    0.00,2,    1.44,2,   1.446,2,   0.721,2,-999.000,9,  2135.6,2,  2294.0,2,-999.0000,9,-999.0000,9, -999.00,9, -999.00,9,  -999.0,9,  -999.0,-999.000,9,-999.000,-999.000,9,-999.0000,   8.2978,-999.0000,-999.000
  316N145_8,        I03,     521,          1,         13,         13,2,19950520,       0445,   -20.0002,    67.0998,       2398,   808.2,   6.4027,  34.4934,2,  34.4959,2,    180.4,2,   179.9,2,   29.72,2,   27.83,2,    0.00,2,    1.94,2,   0.393,2,   0.206,2,-999.000,9,  2180.8,2,  2304.0,2,-999.0000,9,-999.0000,9, -999.00,9, -999.00,9,  -999.0,9,  -999.0,-999.000,9,-999.000,-999.000,9,-999.0000,   6.3279,-999.0000,-999.000
  316N145_8,        I03,     521,          1,         12,         12,2,19950520,       0445,   -20.0002,    67.0998,       2398,   908.7,   5.1521,  34.5194,2,  34.5198,2,    149.9,2,   146.6,2,   56.44,2,   32.84,2,    0.00,2,    2.33,2,   0.081,2,   0.042,2,-999.000,9,  2229.5,2,  2330.0,2,-999.0000,9,-999.0000,9, -999.00,9, -999.00,9,  -999.0,9,  -999.0,-999.000,9,-999.000,-999.000,9,-999.0000,   5.0759,-999.0000,-999.000
  316N145_8,        I03,     521,          1,         11,         11,2,19950520,       0445,   -20.0002,    67.0998,       2398,  1004.0,   4.6369,  34.5920,2,  34.5933,2,    124.9,2,   125.8,2,   75.74,2,   34.72,2,    0.00,2,    2.49,2,   0.018,2,   0.006,2,-999.000,9,  2262.0,2,  2350.0,2,-999.0000,9,-999.0000,9, -999.00,9, -999.00,9,  -999.0,9,  -999.0,-999.000,9,-999.000,-999.000,9,-999.0000,   4.5559,-999.0000,-999.000
  316N145_8,        I03,     521,          1,         10,         10,2,19950520,       0445,   -20.0002,    67.0998,       2398,  1102.1,   4.4251,  34.6399,2,  34.6410,2,    119.0,2,   119.5,2,   84.26,2,   35.10,2,    0.00,2,    2.53,2,-999.000,9,-999.000,9,-999.000,9,  2273.6,2,  2359.0,2,-999.0000,9,-999.0000,9, -999.00,9, -999.00,9,  -999.0,9,  -999.0,-999.000,9,-999.000,-999.000,9,-999.0000,   4.3370,-999.0000,-999.000
  316N145_8,        I03,     521,          1,          9,          9,2,19950520,       0445,   -20.0002,    67.0998,       2398,  1206.2,   4.1938,  34.6659,2,  34.6667,2,    119.2,2,   119.4,2,   89.45,2,   35.24,2,    0.00,2,    2.54,2,-999.000,9,-999.000,9,-999.000,9,  2279.1,2,  2364.0,2,-999.0000,9,-999.0000,9, -999.00,9, -999.00,9,  -999.0,9,  -999.0,-999.000,9,-999.000,-999.000,9,-999.0000,   4.0985,-999.0000,-999.000
  316N145_8,        I03,     521,          1,          8,          8,2,19950520,       0445,   -20.0002,    67.0998,       2398,  1307.9,   4.0012,  34.6774,2,  34.6788,2,    121.8,2,   121.0,2,   92.54,2,   35.29,2,    0.00,2,    2.54,2,-999.000,9,-999.000,9,-999.000,9,  2282.5,2,  2369.0,2,-999.0000,9,-999.0000,9, -999.00,9, -999.00,9,  -999.0,9,  -999.0,-999.000,9,-999.000,-999.000,9,-999.0000,   3.8989,-999.0000,-999.000
  316N145_8,        I03,     521,          1,          7,          7,2,19950520,       0445,   -20.0002,    67.0998,       2398,  1411.2,   3.7822,  34.6921,2,  34.6935,2,    122.1,2,   123.5,2,   96.07,2,   35.14,2,    0.00,2,    2.53,2,-999.000,9,-999.000,9,-999.000,9,  2288.1,2,  2370.0,2,-999.0000,9,-999.0000,9, -999.00,9, -999.00,9,  -999.0,9,  -999.0,-999.000,9,-999.000,-999.000,9,-999.0000,   3.6730,-999.0000,-999.000
  316N145_8,        I03,     521,          1,          6,          6,2,19950520,       0445,   -20.0002,    67.0998,       2398,  1513.1,   3.5389,  34.7021,2,  34.7029,2,    127.5,2,   127.0,2,   99.60,2,   35.09,2,    0.00,2,    2.52,2,-999.000,9,-999.000,9,-999.000,9,  2287.9,2,  2377.0,2,-999.0000,9,-999.0000,9, -999.00,9, -999.00,9,  -999.0,9,  -999.0,-999.000,9,-999.000,-999.000,9,-999.0000,   3.4235,-999.0000,-999.000
  316N145_8,        I03,     521,          1,          5,          5,2,19950520,       0445,   -20.0002,    67.0998,       2398,  1614.4,   3.1975,  34.7044,2,  34.7029,2,    137.7,2,   137.0,2,  100.60,2,   34.70,2,    0.00,2,    2.48,2,-999.000,9,-999.000,9,-999.000,9,  2287.3,2,  2377.0,2,-999.0000,9,-999.0000,9, -999.00,9, -999.00,9,  -999.0,9,  -999.0,-999.000,9,-999.000,-999.000,9,-999.0000,   3.0772,-999.0000,-999.000
  316N145_8,        I03,     521,          1,          4,          4,2,19950520,       0445,   -20.0002,    67.0998,       2398,  1818.1,   2.6349,  34.7054,2,  34.7053,2,    155.4,2,   155.2,2,  101.61,2,   33.64,2,    0.00,2,    2.39,2,-999.000,9,-999.000,9,-999.000,9,  2278.1,2,  2374.0,2,-999.0000,9,-999.0000,9, -999.00,9, -999.00,9,  -999.0,9,  -999.0,-999.000,9,-999.000,-999.000,9,-999.0000,   2.5045,-999.0000,-999.000
  316N145_8,        I03,     521,          1,          3,          3,2,19950520,       0445,   -20.0002,    67.0998,       2398,  2018.7,   2.1234,  34.7151,2,  34.7149,2,    171.5,2,   171.6,2,  104.94,2,   32.77,2,    0.00,2,    2.30,2,-999.000,9,-999.000,9,-999.000,9,  2271.0,2,  2376.0,2,-999.0000,9,-999.0000,9, -999.00,9, -999.00,9,  -999.0,9,  -999.0,-999.000,9,-999.000,-999.000,9,-999.0000,   1.9832,-999.0000,-999.000
  316N145_8,        I03,     521,          1,          2,          2,2,19950520,       0445,   -20.0002,    67.0998,       2398,  2221.2,   1.9221,  34.7198,2,  34.7208,2,    175.7,2,   176.6,2,  108.92,2,   32.58,2,    0.00,2,    2.29,2,-999.000,9,-999.000,9,-999.000,9,  2273.9,2,  2381.0,2,-999.0000,9,-999.0000,9, -999.00,9, -999.00,9,  -999.0,9,  -999.0,-999.000,9,-999.000,-999.000,9,-999.0000,   1.7677,-999.0000,-999.000
  316N145_8,        I03,     521,          1,          1,          1,2,19950520,       0445,   -20.0002,    67.0998,       2398,  2475.9,   1.8063,  34.7223,2,  34.7231,2,    181.1,3,   179.4,2,  111.63,2,   32.43,2,    0.00,2,    2.27,2,-999.000,9,-999.000,9,-999.000,9,  2275.8,2,  2383.0,6,-999.0000,9,-999.0000,9, -999.00,9, -999.00,9,  -999.0,9,  -999.0,-999.000,9,-999.000,-999.000,9,-999.0000,   1.6315,-999.0000,-999.000