BOTTLE,20140514CCHSIOSE
EXPOCODE,SECT_ID,STNNBR,CASTNO,SAMPNO,BTLNBR,BTLNBR_FLAG_W,DATE,TIME,LATITUDE,LONGITUDE,DEPTH,CTDPRS,CTDTMP,CTDSAL,CTDSAL_FLAG_W,SALNTY,SALNTY_FLAG_W,CTDOXY,CTDOXY_FLAG_W,OXYGEN,OXYGEN_FLAG_W,SILCAT,SILCAT_FLAG_W,NITRAT,NITRAT_FLAG_W,NITRIT,NITRIT_FLAG_W,PHSPHT,PHSPHT_FLAG_W,CFC-11,CFC-11_FLAG_W,CFC-12,CFC-12_FLAG_W,CFC113,CFC113_FLAG_W,TCARBN,TCARBN_FLAG_W,ALKALI,ALKALI_FLAG_W,TRITUM,TRITUM_FLAG_W,HELIUM,HELIUM_FLAG_W,DELHE3,DELHE3_FLAG_W,DELC13,DELC13_FLAG_W,DELC14,DELC14_FLAG_W,C14ERR,NEON,NEON_FLAG_W,NEONER,CCL4,CCL4_FLAG_W,HELIER,THETA,TRITER,DELHER
,,,,,,,,,,,METERS,DBAR,ITS-90,PSS-78,,PSS-78,,UMOL/KG,,UMOL/KG,,UMOL/KG,,UMOL/KG,,UMOL/KG,,UMOL/KG,,PMOL/KG,,PMOL/KG,,PMOL/KG,,UMOL/KG,,UMOL/KG,,TU,,NMOL/KG,,PERCNT,,/MILLE,,/MILLE,,/MILLE,NMOL/KG,,NMOL/KG,PMOL/KG,,NMOL/KG,DEG C,TU,PERCNT
  316N145_8,        I03,     492,          1,         36,         36,2,19950509,       1951,   -19.9995,    84.6652,       4875,     7.9,  25.6252,  35.1142,2,  35.1148,2,    204.4,2,   206.0,2,    3.06,2,    0.06,2,    0.00,2,    0.12,2,   1.852,2,   1.060,2,-999.000,9,  1952.8,6,  2298.0,6,-999.0000,9,-999.0000,9, -999.00,9, -999.00,9,  -999.0,9,  -999.0,-999.000,9,-999.000,-999.000,9,-999.0000,  25.6234,-999.0000,-999.000
  316N145_8,        I03,     492,          1,         35,         35,2,19950509,       1951,   -19.9995,    84.6652,       4875,    55.7,  25.6392,  35.1150,2,  35.1150,2,    206.9,2,   206.0,2,    3.04,2,    0.06,2,    0.00,2,    0.12,2,-999.000,9,-999.000,9,-999.000,9,  -999.0,9,  -999.0,9,-999.0000,9,-999.0000,9, -999.00,9, -999.00,9,  -999.0,9,  -999.0,-999.000,9,-999.000,-999.000,9,-999.0000,  25.6269,-999.0000,-999.000
  316N145_8,        I03,     492,          1,         34,         34,2,19950509,       1951,   -19.9995,    84.6652,       4875,   106.0,  22.4062,  35.2718,2,  35.2745,2,    210.5,2,   200.7,2,    4.72,2,    0.36,2,    0.04,2,    0.21,2,   2.056,2,   1.142,2,-999.000,9,  -999.0,9,  -999.0,9,-999.0000,9,-999.0000,9, -999.00,9, -999.00,9,  -999.0,9,  -999.0,-999.000,9,-999.000,-999.000,9,-999.0000,  22.3850,-999.0000,-999.000
  316N145_8,        I03,     492,          1,         33,         33,2,19950509,       1951,   -19.9995,    84.6652,       4875,   156.1,  20.9066,  35.5794,2,  35.5923,2,    199.7,2,   203.1,2,    3.85,2,    1.03,2,    0.21,2,    0.22,2,   2.213,2,   1.230,2,-999.000,9,  -999.0,9,  -999.0,9,-999.0000,9,-999.0000,9, -999.00,9, -999.00,9,  -999.0,9,  -999.0,-999.000,9,-999.000,-999.000,9,-999.0000,  20.8767,-999.0000,-999.000
  316N145_8,        I03,     492,          1,         32,         32,2,19950509,       1951,   -19.9995,    84.6652,       4875,   206.8,  19.5808,  35.7986,2,  35.7921,2,    208.5,2,   202.1,2,    3.83,2,    1.56,2,    0.01,2,    0.25,2,-999.000,9,-999.000,9,-999.000,9,  -999.0,9,  -999.0,9,-999.0000,9,-999.0000,9, -999.00,9, -999.00,9,  -999.0,9,  -999.0,-999.000,9,-999.000,-999.000,9,-999.0000,  19.5429,-999.0000,-999.000
  316N145_8,        I03,     492,          1,         31,         31,2,19950509,       1951,   -19.9995,    84.6652,       4875,   256.1,  17.8021,  35.7768,2,  35.7720,2,    201.9,2,   200.4,2,    3.81,2,    2.65,2,    0.01,2,    0.35,2,   2.423,2,   1.302,2,-999.000,9,  -999.0,9,  -999.0,9,-999.0000,9,-999.0000,9, -999.00,9, -999.00,9,  -999.0,9,  -999.0,-999.000,9,-999.000,-999.000,9,-999.0000,  17.7582,-999.0000,-999.000
  316N145_8,        I03,     492,          1,         30,         30,2,19950509,       1951,   -19.9995,    84.6652,       4875,   307.0,  15.8160,  35.6330,2,  35.6326,2,    216.8,2,   214.1,2,    2.95,2,    3.28,2,    0.01,2,    0.41,2,-999.000,9,-999.000,9,-999.000,9,  -999.0,9,  -999.0,9,-999.0000,9,-999.0000,9, -999.00,9, -999.00,9,  -999.0,9,  -999.0,-999.000,9,-999.000,-999.000,9,-999.0000,  15.7674,-999.0000,-999.000
  316N145_8,        I03,     492,          1,         29,         29,2,19950509,       1951,   -19.9995,    84.6652,       4875,   357.0,  13.9715,  35.3920,2,  35.3983,2,    217.3,2,   220.0,2,    3.35,2,    5.98,2,    0.01,2,    0.57,2,   2.823,2,   1.461,2,-999.000,9,  -999.0,9,  -999.0,9,-999.0000,9,-999.0000,9, -999.00,9, -999.00,9,  -999.0,9,  -999.0,-999.000,9,-999.000,-999.000,9,-999.0000,  13.9196,-999.0000,-999.000
  316N145_8,        I03,     492,          1,         28,         28,2,19950509,       1951,   -19.9995,    84.6652,       4875,   405.6,  12.6002,  35.1932,2,  35.1987,2,    225.7,2,   228.7,2,    3.55,2,    8.33,2,    0.00,2,    0.69,2,   2.981,2,   1.523,2,-999.000,9,  -999.0,9,  -999.0,9,-999.0000,9,-999.0000,9, -999.00,9, -999.00,9,  -999.0,9,  -999.0,-999.000,9,-999.000,-999.000,9,-999.0000,  12.5450,-999.0000,-999.000
  316N145_8,        I03,     492,          1,         27,         27,2,19950509,       1951,   -19.9995,    84.6652,       4875,   506.8,  10.8139,  34.9145,2,  34.9114,2,    233.3,2,   235.7,2,    4.38,2,   12.20,2,    0.00,2,    0.93,2,   2.926,2,   1.466,2,-999.000,9,  -999.0,9,  -999.0,9,-999.0000,9,-999.0000,9, -999.00,9, -999.00,9,  -999.0,9,  -999.0,-999.000,9,-999.000,-999.000,9,-999.0000,  10.7512,-999.0000,-999.000
  316N145_8,        I03,     492,          1,         26,         26,2,19950509,       1951,   -19.9995,    84.6652,       4875,   607.2,   9.3993,  34.7083,2,  34.7056,2,    230.3,2,   229.5,2,    6.48,2,   16.56,2,    0.00,2,    1.19,2,-999.000,9,-999.000,9,-999.000,9,  -999.0,9,  -999.0,9,-999.0000,9,-999.0000,9, -999.00,9, -999.00,9,  -999.0,9,  -999.0,-999.000,9,-999.000,-999.000,9,-999.0000,   9.3303,-999.0000,-999.000
  316N145_8,        I03,     492,          1,         25,         25,2,19950509,       1951,   -19.9995,    84.6652,       4875,   706.6,   7.7073,  34.5597,2,  34.5544,2,    200.0,2,   197.4,2,   17.27,2,   23.53,2,    0.00,2,    1.64,2,   1.059,2,   0.537,2,-999.000,9,  -999.0,9,  -999.0,9,-999.0000,9,-999.0000,9, -999.00,9, -999.00,9,  -999.0,9,  -999.0,-999.000,9,-999.000,-999.000,9,-999.0000,   7.6354,-999.0000,-999.000
  316N145_8,        I03,     492,          1,         24,         24,2,19950509,       1951,   -19.9995,    84.6652,       4875,   807.2,   6.0561,  34.5016,2,  34.5020,2,    165.9,2,   161.7,2,   40.34,2,   30.09,2,    0.00,2,    2.11,2,-999.000,9,-999.000,9,-999.000,9,  -999.0,9,  -999.0,9,-999.0000,9,-999.0000,9, -999.00,9, -999.00,9,  -999.0,9,  -999.0,-999.000,9,-999.000,-999.000,9,-999.0000,   5.9835,-999.0000,-999.000
  316N145_8,        I03,     492,          1,         23,         23,2,19950509,       1951,   -19.9995,    84.6652,       4875,   909.8,   5.1721,  34.5463,2,  34.5466,2,    131.1,2,   131.2,2,   63.85,2,   33.77,2,    0.00,2,    2.41,2,   0.043,2,   0.028,2,-999.000,9,  -999.0,9,  -999.0,9,-999.0000,9,-999.0000,9, -999.00,9, -999.00,9,  -999.0,9,  -999.0,-999.000,9,-999.000,-999.000,9,-999.0000,   5.0956,-999.0000,-999.000
  316N145_8,        I03,     492,          1,         22,         22,2,19950509,       1951,   -19.9995,    84.6652,       4875,  1010.4,   4.8420,  34.6005,2,  34.5991,2,    116.5,2,   116.5,2,   78.06,2,   35.12,2,    0.00,2,    2.54,2,   0.009,2,   0.008,2,-999.000,9,  -999.0,9,  -999.0,9,-999.0000,9,-999.0000,9, -999.00,9, -999.00,9,  -999.0,9,  -999.0,-999.000,9,-999.000,-999.000,9,-999.0000,   4.7588,-999.0000,-999.000
  316N145_8,        I03,     492,          1,         21,         21,2,19950509,       1951,   -19.9995,    84.6652,       4875,  1109.9,   4.5389,  34.6378,2,  34.6380,2,    112.3,2,   112.1,2,   86.33,2,   35.52,2,    0.00,2,    2.59,2,-999.000,9,-999.000,9,-999.000,9,  -999.0,9,  -999.0,9,-999.0000,9,-999.0000,9, -999.00,9, -999.00,9,  -999.0,9,  -999.0,-999.000,9,-999.000,-999.000,9,-999.0000,   4.4492,-999.0000,-999.000
  316N145_8,        I03,     492,          1,         20,         20,2,19950509,       1951,   -19.9995,    84.6652,       4875,  1212.9,   4.3019,  34.6650,2,  34.6662,2,    111.7,2,   111.8,2,   91.84,2,   35.57,2,    0.00,2,    2.61,2,-999.000,9,-999.000,9,-999.000,9,  -999.0,9,  -999.0,9,-999.0000,9,-999.0000,9, -999.00,9, -999.00,9,  -999.0,9,  -999.0,-999.000,9,-999.000,-999.000,9,-999.0000,   4.2051,-999.0000,-999.000
  316N145_8,        I03,     492,          1,         19,         19,2,19950509,       1951,   -19.9995,    84.6652,       4875,  1414.5,   3.8329,  34.6973,2,  34.6974,2,    118.3,2,   118.8,2,   97.80,2,   35.37,2,    0.00,2,    2.59,2,-999.000,9,-999.000,9,-999.000,9,  -999.0,9,  -999.0,9,-999.0000,9,-999.0000,9, -999.00,9, -999.00,9,  -999.0,9,  -999.0,-999.000,9,-999.000,-999.000,9,-999.0000,   3.7229,-999.0000,-999.000
  316N145_8,        I03,     492,          1,         18,         18,2,19950509,       1951,   -19.9995,    84.6652,       4875,  1614.2,   3.3568,  34.7089,2,  34.7086,2,    127.6,2,   128.9,2,  102.70,2,   35.02,2,    0.00,2,    2.54,2,-999.000,9,-999.000,9,-999.000,9,  -999.0,9,  -999.0,9,-999.0000,9,-999.0000,9, -999.00,9, -999.00,9,  -999.0,9,  -999.0,-999.000,9,-999.000,-999.000,9,-999.0000,   3.2346,-999.0000,-999.000
  316N145_8,        I03,     492,          1,         17,         17,2,19950509,       1951,   -19.9995,    84.6652,       4875,  1815.1,   2.9539,  34.7204,2,  34.7190,2,    137.9,2,   137.2,2,  107.61,2,   34.72,2,    0.00,2,    2.52,2,-999.000,9,-999.000,9,-999.000,9,  -999.0,9,  -999.0,9,-999.0000,9,-999.0000,9, -999.00,9, -999.00,9,  -999.0,9,  -999.0,-999.000,9,-999.000,-999.000,9,-999.0000,   2.8193,-999.0000,-999.000
  316N145_8,        I03,     492,          1,         16,         16,2,19950509,       1951,   -19.9995,    84.6652,       4875,  2018.0,   2.6241,  34.7262,2,  34.7251,2,    147.5,2,   146.5,2,  110.59,2,   34.23,2,    0.00,2,    2.47,2,  -0.002,2,  -0.001,2,-999.000,9,  -999.0,9,  -999.0,9,-999.0000,9,-999.0000,9, -999.00,9, -999.00,9,  -999.0,9,  -999.0,-999.000,9,-999.000,-999.000,9,-999.0000,   2.4764,-999.0000,-999.000
  316N145_8,        I03,     492,          1,         15,         15,2,19950509,       1951,   -19.9995,    84.6652,       4875,  2219.6,   2.3197,  34.7264,2,  34.7259,2,    157.3,2,   156.7,2,  112.70,2,   33.78,2,    0.00,2,    2.43,2,-999.000,9,-999.000,9,-999.000,9,  -999.0,9,  -999.0,9,-999.0000,9,-999.0000,9, -999.00,9, -999.00,9,  -999.0,9,  -999.0,-999.000,9,-999.000,-999.000,9,-999.0000,   2.1588,-999.0000,-999.000
  316N145_8,        I03,     492,          1,         14,         14,2,19950509,       1951,   -19.9995,    84.6652,       4875,  2423.3,   2.0931,  34.7255,2,  34.7253,2,    165.7,2,   165.7,2,  113.28,2,   33.23,2,    0.00,2,    2.37,2,-999.000,9,-999.000,9,-999.000,9,  -999.0,9,  -999.0,9,-999.0000,9,-999.0000,9, -999.00,9, -999.00,9,  -999.0,9,  -999.0,-999.000,9,-999.000,-999.000,9,-999.0000,   1.9178,-999.0000,-999.000
  316N145_8,        I03,     492,          1,         13,         13,2,19950509,       1951,   -19.9995,    84.6652,       4875,  2626.6,   1.9131,  34.7260,2,  34.7261,2,    171.7,2,   172.7,2,  114.30,2,   32.88,2,    0.00,2,    2.34,2,-999.000,9,-999.000,9,-999.000,9,  -999.0,9,  -999.0,9,-999.0000,9,-999.0000,9, -999.00,9, -999.00,9,  -999.0,9,  -999.0,-999.000,9,-999.000,-999.000,9,-999.0000,   1.7225,-999.0000,-999.000
  316N145_8,        I03,     492,          1,         12,         12,2,19950509,       1951,   -19.9995,    84.6652,       4875,  2827.9,   1.7811,  34.7270,2,  34.7268,2,    175.1,2,   174.6,2,  117.95,2,   32.99,2,    0.00,2,    2.34,2,-999.000,9,-999.000,9,-999.000,9,  -999.0,9,  -999.0,9,-999.0000,9,-999.0000,9, -999.00,9, -999.00,9,  -999.0,9,  -999.0,-999.000,9,-999.000,-999.000,9,-999.0000,   1.5743,-999.0000,-999.000
  316N145_8,        I03,     492,          1,         11,         11,2,19950509,       1951,   -19.9995,    84.6652,       4875,  3033.8,   1.6895,  34.7268,2,  34.7263,2,    176.9,2,   177.3,2,  119.19,2,   32.89,2,    0.00,2,    2.32,2,  -0.002,2,   0.005,2,-999.000,9,  -999.0,9,  -999.0,9,-999.0000,9,-999.0000,9, -999.00,9, -999.00,9,  -999.0,9,  -999.0,-999.000,9,-999.000,-999.000,9,-999.0000,   1.4650,-999.0000,-999.000
  316N145_8,        I03,     492,          1,         10,         10,2,19950509,       1951,   -19.9995,    84.6652,       4875,  3237.1,   1.6007,  34.7257,2,  34.7247,2,    176.2,2,   176.0,2,  124.40,2,   33.19,2,    0.00,2,    2.34,2,-999.000,9,-999.000,9,-999.000,9,  -999.0,9,  -999.0,9,-999.0000,9,-999.0000,9, -999.00,9, -999.00,9,  -999.0,9,  -999.0,-999.000,9,-999.000,-999.000,9,-999.0000,   1.3584,-999.0000,-999.000
  316N145_8,        I03,     492,          1,          9,          9,2,19950509,       1951,   -19.9995,    84.6652,       4875,  3441.9,   1.5227,  34.7238,2,  34.7229,2,    177.2,2,   178.7,2,  125.65,2,   33.09,2,    0.00,2,    2.32,2,-999.000,9,-999.000,9,-999.000,9,  -999.0,9,  -999.0,9,-999.0000,9,-999.0000,9, -999.00,9, -999.00,9,  -999.0,9,  -999.0,-999.000,9,-999.000,-999.000,9,-999.0000,   1.2617,-999.0000,-999.000
  316N145_8,        I03,     492,          1,          8,          8,2,19950509,       1951,   -19.9995,    84.6652,       4875,  3645.1,   1.4527,  34.7230,2,  34.7223,2,    183.1,2,   183.1,2,  124.92,2,   32.84,2,    0.00,2,    2.30,2,-999.000,9,-999.000,9,-999.000,9,  -999.0,9,  -999.0,9,-999.0000,9,-999.0000,9, -999.00,9, -999.00,9,  -999.0,9,  -999.0,-999.000,9,-999.000,-999.000,9,-999.0000,   1.1726,-999.0000,-999.000
  316N145_8,        I03,     492,          1,          7,          7,2,19950509,       1951,   -19.9995,    84.6652,       4875,  3847.8,   1.4049,  34.7215,2,  34.7210,2,    184.2,2,   184.4,2,  126.61,2,   32.89,2,    0.00,2,    2.30,2,-999.000,9,-999.000,9,-999.000,9,  -999.0,9,  -999.0,9,-999.0000,9,-999.0000,9, -999.00,9, -999.00,9,  -999.0,9,  -999.0,-999.000,9,-999.000,-999.000,9,-999.0000,   1.1048,-999.0000,-999.000
  316N145_8,        I03,     492,          1,          6,          6,2,19950509,       1951,   -19.9995,    84.6652,       4875,  4050.6,   1.3854,  34.7201,2,  34.7194,2,    184.2,2,   184.3,2,  128.31,2,   33.04,2,    0.00,2,    2.31,2,  -0.002,2,   0.003,2,-999.000,9,  -999.0,9,  -999.0,9,-999.0000,9,-999.0000,9, -999.00,9, -999.00,9,  -999.0,9,  -999.0,-999.000,9,-999.000,-999.000,9,-999.0000,   1.0640,-999.0000,-999.000
  316N145_8,        I03,     492,          1,          5,          5,2,19950509,       1951,   -19.9995,    84.6652,       4875,  4254.1,   1.3740,  34.7184,2,  34.7166,2,    182.3,2,   182.4,2,  131.35,2,   33.24,2,    0.00,2,    2.31,2,-999.000,9,-999.000,9,-999.000,9,  -999.0,9,  -999.0,9,-999.0000,9,-999.0000,9, -999.00,9, -999.00,9,  -999.0,9,  -999.0,-999.000,9,-999.000,-999.000,9,-999.0000,   1.0305,-999.0000,-999.000
  316N145_8,        I03,     492,          1,          4,          4,2,19950509,       1951,   -19.9995,    84.6652,       4875,  4460.6,   1.3743,  34.7176,2,  34.7170,2,    182.9,2,   183.7,2,  131.71,2,   33.25,2,    0.00,2,    2.31,2,-999.000,9,-999.000,9,-999.000,9,  -999.0,9,  -999.0,9,-999.0000,9,-999.0000,9, -999.00,9, -999.00,9,  -999.0,9,  -999.0,-999.000,9,-999.000,-999.000,9,-999.0000,   1.0075,-999.0000,-999.000
  316N145_8,        I03,     492,          1,          3,          3,2,19950509,       1951,   -19.9995,    84.6652,       4875,  4663.9,   1.3838,  34.7172,2,  34.7155,2,    183.8,2,   183.9,2,  131.64,2,   33.25,2,    0.00,2,    2.32,2,-999.000,9,-999.000,9,-999.000,9,  -999.0,9,  -999.0,9,-999.0000,9,-999.0000,9, -999.00,9, -999.00,9,  -999.0,9,  -999.0,-999.000,9,-999.000,-999.000,9,-999.0000,   0.9932,-999.0000,-999.000
  316N145_8,        I03,     492,          1,          2,          2,2,19950509,       1951,   -19.9995,    84.6652,       4875,  4868.0,   1.4017,  34.7174,2,  34.7159,2,    184.2,2,   184.4,2,  131.34,2,   33.25,2,    0.00,2,    2.32,2,-999.000,9,-999.000,9,-999.000,9,  -999.0,9,  -999.0,9,-999.0000,9,-999.0000,9, -999.00,9, -999.00,9,  -999.0,9,  -999.0,-999.000,9,-999.000,-999.000,9,-999.0000,   0.9865,-999.0000,-999.000
  316N145_8,        I03,     492,          1,          1,          1,2,19950509,       1951,   -19.9995,    84.6652,       4875,  5031.4,   1.4206,  34.7167,2,  34.7162,2,    185.5,2,   184.6,2,  131.04,2,   33.25,2,    0.00,2,    2.33,2,   0.005,2,   0.005,2,-999.000,9,  -999.0,9,  -999.0,9,-999.0000,9,-999.0000,9, -999.00,9, -999.00,9,  -999.0,9,  -999.0,-999.000,9,-999.000,-999.000,9,-999.0000,   0.9851,-999.0000,-999.000