BOTTLE,20140514CCHSIOSE
EXPOCODE,SECT_ID,STNNBR,CASTNO,SAMPNO,BTLNBR,BTLNBR_FLAG_W,DATE,TIME,LATITUDE,LONGITUDE,DEPTH,CTDPRS,CTDTMP,CTDSAL,CTDSAL_FLAG_W,SALNTY,SALNTY_FLAG_W,CTDOXY,CTDOXY_FLAG_W,OXYGEN,OXYGEN_FLAG_W,SILCAT,SILCAT_FLAG_W,NITRAT,NITRAT_FLAG_W,NITRIT,NITRIT_FLAG_W,PHSPHT,PHSPHT_FLAG_W,CFC-11,CFC-11_FLAG_W,CFC-12,CFC-12_FLAG_W,CFC113,CFC113_FLAG_W,TCARBN,TCARBN_FLAG_W,ALKALI,ALKALI_FLAG_W,TRITUM,TRITUM_FLAG_W,HELIUM,HELIUM_FLAG_W,DELHE3,DELHE3_FLAG_W,DELC13,DELC13_FLAG_W,DELC14,DELC14_FLAG_W,C14ERR,NEON,NEON_FLAG_W,NEONER,CCL4,CCL4_FLAG_W,HELIER,THETA,TRITER,DELHER
,,,,,,,,,,,METERS,DBAR,ITS-90,PSS-78,,PSS-78,,UMOL/KG,,UMOL/KG,,UMOL/KG,,UMOL/KG,,UMOL/KG,,UMOL/KG,,PMOL/KG,,PMOL/KG,,PMOL/KG,,UMOL/KG,,UMOL/KG,,TU,,NMOL/KG,,PERCNT,,/MILLE,,/MILLE,,/MILLE,NMOL/KG,,NMOL/KG,PMOL/KG,,NMOL/KG,DEG C,TU,PERCNT
  316N145_8,        I03,     487,          1,         26,         26,2,19950508,       1603,   -19.9998,    87.3310,       2021,     8.1,  25.2457,  35.2071,2,  35.2066,2,    207.3,2,   207.2,2,    3.15,2,    0.06,2,    0.00,2,    0.11,2,   1.876,2,   1.068,2,-999.000,9,  -999.0,5,  2304.0,6,-999.0000,9,-999.0000,9, -999.00,9, -999.00,9,  -999.0,9,  -999.0,-999.000,9,-999.000,-999.000,9,-999.0000,  25.2440,-999.0000,-999.000
  316N145_8,        I03,     487,          1,         25,         25,2,19950508,       1603,   -19.9998,    87.3310,       2021,    53.2,  25.1472,  35.2288,2,  35.2401,2,    209.3,2,   211.8,2,    3.14,2,    0.06,2,    0.00,2,    0.11,2,-999.000,9,-999.000,9,-999.000,9,  -999.0,5,  2308.0,2,-999.0000,9,-999.0000,9, -999.00,9, -999.00,9,  -999.0,9,  -999.0,-999.000,9,-999.000,-999.000,9,-999.0000,  25.1356,-999.0000,-999.000
  316N145_8,        I03,     487,          1,         24,         24,2,19950508,       1603,   -19.9998,    87.3310,       2021,   102.3,  21.5095,  35.5685,2,  35.5710,2,    218.6,2,   217.3,2,    3.34,2,    0.10,2,    0.01,2,    0.14,2,   2.232,2,   1.225,2,-999.000,9,  -999.0,5,  2328.0,2,-999.0000,9,-999.0000,9, -999.00,9, -999.00,9,  -999.0,9,  -999.0,-999.000,9,-999.000,-999.000,9,-999.0000,  21.4895,-999.0000,-999.000
  316N145_8,        I03,     487,          1,         23,         23,2,19950508,       1603,   -19.9998,    87.3310,       2021,   153.6,  20.1424,  35.7648,2,  35.7619,2,    218.9,2,   209.6,2,    3.33,2,    0.66,2,    0.10,2,    0.20,2,-999.000,9,-999.000,9,-999.000,9,  -999.0,5,  2341.0,2,-999.0000,9,-999.0000,9, -999.00,9, -999.00,9,  -999.0,9,  -999.0,-999.000,9,-999.000,-999.000,9,-999.0000,  20.1138,-999.0000,-999.000
  316N145_8,        I03,     487,          1,         22,         22,2,19950508,       1603,   -19.9998,    87.3310,       2021,   203.6,  18.2968,  35.8197,2,  35.8176,2,    207.6,2,   206.2,2,    3.32,2,    1.64,2,    0.01,2,    0.29,2,   2.448,2,   1.314,2,-999.000,9,  -999.0,5,  2349.0,2,-999.0000,9,-999.0000,9, -999.00,9, -999.00,9,  -999.0,9,  -999.0,-999.000,9,-999.000,-999.000,9,-999.0000,  18.2612,-999.0000,-999.000
  316N145_8,        I03,     487,          1,         21,         21,2,19950508,       1603,   -19.9998,    87.3310,       2021,   254.2,  16.2795,  35.6862,2,  35.6807,2,    213.7,2,   214.1,2,    2.88,2,    2.64,2,    0.01,2,    0.37,2,-999.000,9,-999.000,9,-999.000,9,  -999.0,5,  2343.0,2,-999.0000,9,-999.0000,9, -999.00,9, -999.00,9,  -999.0,9,  -999.0,-999.000,9,-999.000,-999.000,9,-999.0000,  16.2385,-999.0000,-999.000
  316N145_8,        I03,     487,          1,         20,         20,2,19950508,       1603,   -19.9998,    87.3310,       2021,   304.5,  13.8289,  35.3756,2,  35.3774,2,    219.2,2,   221.7,2,    3.08,2,    6.07,2,    0.00,2,    0.58,2,-999.000,9,-999.000,9,-999.000,9,  -999.0,5,  2328.0,2,-999.0000,9,-999.0000,9, -999.00,9, -999.00,9,  -999.0,9,  -999.0,-999.000,9,-999.000,-999.000,9,-999.0000,  13.7850,-999.0000,-999.000
  316N145_8,        I03,     487,          1,         19,         19,2,19950508,       1603,   -19.9998,    87.3310,       2021,   354.6,  12.5815,  35.1917,2,  35.1919,2,    227.1,2,   229.2,2,    3.50,2,    8.42,2,    0.00,2,    0.71,2,   2.976,2,   1.519,2,-999.000,9,  -999.0,5,  2316.0,2,-999.0000,9,-999.0000,9, -999.00,9, -999.00,9,  -999.0,9,  -999.0,-999.000,9,-999.000,-999.000,9,-999.0000,  12.5334,-999.0000,-999.000
  316N145_8,        I03,     487,          1,         18,         18,2,19950508,       1603,   -19.9998,    87.3310,       2021,   403.1,  11.8226,  35.0720,2,  35.0747,2,    231.9,2,   232.5,2,    3.92,2,    9.92,2,    0.00,2,    0.79,2,   2.985,2,   1.516,2,-999.000,9,  -999.0,5,  2312.0,2,-999.0000,9,-999.0000,9, -999.00,9, -999.00,9,  -999.0,9,  -999.0,-999.000,9,-999.000,-999.000,9,-999.0000,  11.7700,-999.0000,-999.000
  316N145_8,        I03,     487,          1,         17,         17,2,19950508,       1603,   -19.9998,    87.3310,       2021,   453.5,  11.0999,  34.9601,2,  34.9591,2,    233.8,2,   235.0,2,    4.34,2,   11.52,2,    0.00,2,    0.89,2,-999.000,9,-999.000,9,-999.000,9,  -999.0,5,  2306.0,2,-999.0000,9,-999.0000,9, -999.00,9, -999.00,9,  -999.0,9,  -999.0,-999.000,9,-999.000,-999.000,9,-999.0000,  11.0431,-999.0000,-999.000
  316N145_8,        I03,     487,          1,         16,         16,2,19950508,       1603,   -19.9998,    87.3310,       2021,   504.6,  10.6141,  34.8895,2,  34.8809,2,    232.4,2,   229.2,2,    5.40,2,   13.17,2,    0.00,2,    0.99,2,   2.762,2,   1.382,2,-999.000,9,  -999.0,5,  2305.0,2,-999.0000,9,-999.0000,9, -999.00,9, -999.00,9,  -999.0,9,  -999.0,-999.000,9,-999.000,-999.000,9,-999.0000,  10.5525,-999.0000,-999.000
  316N145_8,        I03,     487,          1,         15,         15,2,19950508,       1603,   -19.9998,    87.3310,       2021,   604.7,   9.1684,  34.6849,2,  34.6837,2,    223.9,2,   221.5,2,    7.98,2,   17.77,2,    0.00,2,    1.27,2,-999.000,9,-999.000,9,-999.000,9,  -999.0,5,  2295.0,2,-999.0000,9,-999.0000,9, -999.00,9, -999.00,9,  -999.0,9,  -999.0,-999.000,9,-999.000,-999.000,9,-999.0000,   9.1007,-999.0000,-999.000
  316N145_8,        I03,     487,          1,         14,         14,2,19950508,       1603,   -19.9998,    87.3310,       2021,   705.1,   7.5897,  34.5541,2,  34.5554,2,    193.9,2,   189.5,2,   20.23,2,   24.48,2,    0.00,2,    1.70,2,   0.876,2,   0.446,2,-999.000,9,  -999.0,5,  2301.0,2,-999.0000,9,-999.0000,9, -999.00,9, -999.00,9,  -999.0,9,  -999.0,-999.000,9,-999.000,-999.000,9,-999.0000,   7.5187,-999.0000,-999.000
  316N145_8,        I03,     487,          1,         13,         13,2,19950508,       1603,   -19.9998,    87.3310,       2021,   806.1,   6.2776,  34.5624,2,  34.5638,2,    136.6,2,   136.5,2,   49.27,2,   31.54,2,    0.00,2,    2.24,2,-999.000,9,-999.000,9,-999.000,9,  -999.0,5,  2323.0,2,-999.0000,9,-999.0000,9, -999.00,9, -999.00,9,  -999.0,9,  -999.0,-999.000,9,-999.000,-999.000,9,-999.0000,   6.2037,-999.0000,-999.000
  316N145_8,        I03,     487,          1,         12,         12,2,19950508,       1603,   -19.9998,    87.3310,       2021,   906.2,   5.6850,  34.6266,2,  34.6309,2,    105.0,2,   103.7,2,   72.33,2,   34.91,2,    0.00,2,    2.53,2,   0.011,2,   0.006,2,-999.000,9,  -999.0,5,  2350.0,2,-999.0000,9,-999.0000,9, -999.00,9, -999.00,9,  -999.0,9,  -999.0,-999.000,9,-999.000,-999.000,9,-999.0000,   5.6052,-999.0000,-999.000
  316N145_8,        I03,     487,          1,         11,         11,2,19950508,       1603,   -19.9998,    87.3310,       2021,  1007.4,   5.1888,  34.6515,2,  34.6546,2,    104.3,2,    99.7,2,   83.78,2,   35.74,2,    0.00,2,    2.61,2,   0.002,2,   0.006,2,-999.000,9,  -999.0,5,  2360.0,2,-999.0000,9,-999.0000,9, -999.00,9, -999.00,9,  -999.0,9,  -999.0,-999.000,9,-999.000,-999.000,9,-999.0000,   5.1031,-999.0000,-999.000
  316N145_8,        I03,     487,          1,         10,         10,2,19950508,       1603,   -19.9998,    87.3310,       2021,  1108.0,   4.8315,  34.6514,2,  34.6537,2,    105.1,2,   107.8,2,   84.84,2,   35.61,2,    0.00,2,    2.59,2,   0.002,2,   0.002,2,-999.000,9,  -999.0,5,  2365.0,2,-999.0000,9,-999.0000,9, -999.00,9, -999.00,9,  -999.0,9,  -999.0,-999.000,9,-999.000,-999.000,9,-999.0000,   4.7395,-999.0000,-999.000
  316N145_8,        I03,     487,          1,          9,          9,2,19950508,       1603,   -19.9998,    87.3310,       2021,  1210.2,   4.3993,  34.6542,2,  34.6538,2,    111.6,2,   112.1,2,   89.15,2,   35.73,2,    0.00,2,    2.59,2,   0.000,2,   0.000,2,-999.000,9,  -999.0,5,  2363.0,2,-999.0000,9,-999.0000,9, -999.00,9, -999.00,9,  -999.0,9,  -999.0,-999.000,9,-999.000,-999.000,9,-999.0000,   4.3018,-999.0000,-999.000
  316N145_8,        I03,     487,          1,          8,          8,2,19950508,       1603,   -19.9998,    87.3310,       2021,  1310.2,   4.1460,  34.6735,2,  34.6746,2,    112.4,2,   113.5,2,   93.91,2,   35.80,2,    0.00,2,    2.59,2,-999.000,9,-999.000,9,-999.000,9,  -999.0,5,  2373.0,2,-999.0000,9,-999.0000,9, -999.00,9, -999.00,9,  -999.0,9,  -999.0,-999.000,9,-999.000,-999.000,9,-999.0000,   4.0420,-999.0000,-999.000
  316N145_8,        I03,     487,          1,          7,          7,2,19950508,       1603,   -19.9998,    87.3310,       2021,  1412.1,   3.8555,  34.6789,2,  34.6813,2,    118.4,2,   118.3,2,   96.94,2,   35.66,2,    0.00,2,    2.58,2,-999.000,9,-999.000,9,-999.000,9,  -999.0,5,  2371.0,2,-999.0000,9,-999.0000,9, -999.00,9, -999.00,9,  -999.0,9,  -999.0,-999.000,9,-999.000,-999.000,9,-999.0000,   3.7455,-999.0000,-999.000
  316N145_8,        I03,     487,          1,          6,          6,2,19950508,       1603,   -19.9998,    87.3310,       2021,  1512.0,   3.5230,  34.6803,2,  34.6811,2,    126.1,2,   127.0,2,   97.34,2,   35.33,2,    0.00,2,    2.54,2,-999.000,9,-999.000,9,-999.000,9,  -999.0,5,  2375.0,2,-999.0000,9,-999.0000,9, -999.00,9, -999.00,9,  -999.0,9,  -999.0,-999.000,9,-999.000,-999.000,9,-999.0000,   3.4079,-999.0000,-999.000
  316N145_8,        I03,     487,          1,          5,          5,2,19950508,       1603,   -19.9998,    87.3310,       2021,  1613.8,   3.3203,  34.7018,2,  34.7017,2,    130.0,2,   130.4,2,  101.46,2,   35.19,2,    0.00,2,    2.52,2,-999.000,9,-999.000,9,-999.000,9,  -999.0,5,  2376.0,2,-999.0000,9,-999.0000,9, -999.00,9, -999.00,9,  -999.0,9,  -999.0,-999.000,9,-999.000,-999.000,9,-999.0000,   3.1986,-999.0000,-999.000
  316N145_8,        I03,     487,          1,          4,          4,2,19950508,       1603,   -19.9998,    87.3310,       2021,  1713.0,   3.0707,  34.7083,2,  34.7096,2,    135.3,2,   136.3,2,  103.84,2,   34.90,2,    0.00,2,    2.50,2,   0.001,2,   0.001,2,-999.000,9,  -999.0,5,  2382.0,2,-999.0000,9,-999.0000,9, -999.00,9, -999.00,9,  -999.0,9,  -999.0,-999.000,9,-999.000,-999.000,9,-999.0000,   2.9435,-999.0000,-999.000
  316N145_8,        I03,     487,          1,          3,          3,2,19950508,       1603,   -19.9998,    87.3310,       2021,  1814.2,   2.8381,  34.7166,2,  34.7164,2,    139.5,2,   141.6,2,  106.66,2,   34.67,2,    0.00,2,    2.47,2,-999.000,9,-999.000,9,-999.000,9,  -999.0,5,  2381.0,2,-999.0000,9,-999.0000,9, -999.00,9, -999.00,9,  -999.0,9,  -999.0,-999.000,9,-999.000,-999.000,9,-999.0000,   2.7052,-999.0000,-999.000
  316N145_8,        I03,     487,          1,          2,          2,2,19950508,       1603,   -19.9998,    87.3310,       2021,  1916.8,   2.6938,  34.7189,2,  34.7190,2,    142.8,3,   143.7,2,  109.26,2,   34.58,2,    0.00,2,    2.47,2,-999.000,9,-999.000,9,-999.000,9,  -999.0,5,  2387.0,2,-999.0000,9,-999.0000,9, -999.00,9, -999.00,9,  -999.0,9,  -999.0,-999.000,9,-999.000,-999.000,9,-999.0000,   2.5539,-999.0000,-999.000
  316N145_8,        I03,     487,          1,          1,          1,2,19950508,       1603,   -19.9998,    87.3310,       2021,  2031.4,   2.4364,  34.7228,2,  34.7241,2,    149.4,3,   149.1,2,  111.88,2,   34.19,2,    0.00,2,    2.44,2,   0.002,2,   0.003,2,-999.000,9,  -999.0,5,  2387.0,2,-999.0000,9,-999.0000,9, -999.00,9, -999.00,9,  -999.0,9,  -999.0,-999.000,9,-999.000,-999.000,9,-999.0000,   2.2903,-999.0000,-999.000