BOTTLE,20140514CCHSIOSE
EXPOCODE,SECT_ID,STNNBR,CASTNO,SAMPNO,BTLNBR,BTLNBR_FLAG_W,DATE,TIME,LATITUDE,LONGITUDE,DEPTH,CTDPRS,CTDTMP,CTDSAL,CTDSAL_FLAG_W,SALNTY,SALNTY_FLAG_W,CTDOXY,CTDOXY_FLAG_W,OXYGEN,OXYGEN_FLAG_W,SILCAT,SILCAT_FLAG_W,NITRAT,NITRAT_FLAG_W,NITRIT,NITRIT_FLAG_W,PHSPHT,PHSPHT_FLAG_W,CFC-11,CFC-11_FLAG_W,CFC-12,CFC-12_FLAG_W,CFC113,CFC113_FLAG_W,TCARBN,TCARBN_FLAG_W,ALKALI,ALKALI_FLAG_W,TRITUM,TRITUM_FLAG_W,HELIUM,HELIUM_FLAG_W,DELHE3,DELHE3_FLAG_W,DELC13,DELC13_FLAG_W,DELC14,DELC14_FLAG_W,C14ERR,NEON,NEON_FLAG_W,NEONER,CCL4,CCL4_FLAG_W,HELIER,THETA,TRITER,DELHER
,,,,,,,,,,,METERS,DBAR,ITS-90,PSS-78,,PSS-78,,UMOL/KG,,UMOL/KG,,UMOL/KG,,UMOL/KG,,UMOL/KG,,UMOL/KG,,PMOL/KG,,PMOL/KG,,PMOL/KG,,UMOL/KG,,UMOL/KG,,TU,,NMOL/KG,,PERCNT,,/MILLE,,/MILLE,,/MILLE,NMOL/KG,,NMOL/KG,PMOL/KG,,NMOL/KG,DEG C,TU,PERCNT
  316N145_8,        I03,     544,          1,         36,         36,2,19950525,       0527,   -20.0000,    56.6343,       4353,     6.6,  25.3491,  35.1408,2,  35.1421,2,    205.3,2,   207.0,2,    3.40,2,    0.09,2,    0.00,2,    0.12,2,   1.860,2,   1.066,2,-999.000,9,  -999.0,9,  -999.0,9,-999.0000,9,-999.0000,9, -999.00,9, -999.00,9,  -999.0,9,  -999.0,-999.000,9,-999.000,-999.000,9,-999.0000,  25.3476,-999.0000,-999.000
  316N145_8,        I03,     544,          1,         35,         35,2,19950525,       0527,   -20.0000,    56.6343,       4353,    55.6,  25.2586,  35.1713,2,  35.1744,2,    206.1,2,   207.3,2,    3.18,2,    0.09,2,    0.00,2,    0.12,2,-999.000,9,-999.000,9,-999.000,9,  -999.0,9,  -999.0,9,-999.0000,9,-999.0000,9, -999.00,9, -999.00,9,  -999.0,9,  -999.0,-999.000,9,-999.000,-999.000,9,-999.0000,  25.2465,-999.0000,-999.000
  316N145_8,        I03,     544,          1,         34,         34,2,19950525,       0527,   -20.0000,    56.6343,       4353,   105.2,  23.6633,  35.2675,2,  35.2865,2,    212.9,2,   210.0,2,    3.37,2,    0.06,2,    0.02,2,    0.15,2,   2.077,2,   1.166,2,-999.000,9,  -999.0,9,  -999.0,9,-999.0000,9,-999.0000,9, -999.00,9, -999.00,9,  -999.0,9,  -999.0,-999.000,9,-999.000,-999.000,9,-999.0000,  23.6413,-999.0000,-999.000
  316N145_8,        I03,     544,          1,         33,         33,2,19950525,       0527,   -20.0000,    56.6343,       4353,   155.6,  21.3653,  35.4510,2,  35.4548,2,    194.3,2,   190.5,2,    4.18,2,    2.17,2,    0.02,2,    0.29,2,-999.000,9,-999.000,9,-999.000,9,  -999.0,9,  -999.0,9,-999.0000,9,-999.0000,9, -999.00,9, -999.00,9,  -999.0,9,  -999.0,-999.000,9,-999.000,-999.000,9,-999.0000,  21.3351,-999.0000,-999.000
  316N145_8,        I03,     544,          1,         32,         32,2,19950525,       0527,   -20.0000,    56.6343,       4353,   205.1,  19.4262,  35.5445,2,  35.5440,2,    180.9,2,   180.2,2,    5.61,2,    4.68,2,    0.01,2,    0.43,2,-999.000,9,-999.000,9,-999.000,9,  -999.0,9,  -999.0,9,-999.0000,9,-999.0000,9, -999.00,9, -999.00,9,  -999.0,9,  -999.0,-999.000,9,-999.000,-999.000,9,-999.0000,  19.3889,-999.0000,-999.000
  316N145_8,        I03,     544,          1,         31,         31,2,19950525,       0527,   -20.0000,    56.6343,       4353,   255.3,  17.7945,  35.5997,2,  35.6007,2,    186.0,2,   186.3,2,    5.59,2,    5.07,2,    0.00,2,    0.48,2,   2.270,2,   1.229,2,-999.000,9,  -999.0,9,  -999.0,9,-999.0000,9,-999.0000,9, -999.00,9, -999.00,9,  -999.0,9,  -999.0,-999.000,9,-999.000,-999.000,9,-999.0000,  17.7508,-999.0000,-999.000
  316N145_8,        I03,     544,          1,         30,         30,2,19950525,       0527,   -20.0000,    56.6343,       4353,   305.8,  16.1786,  35.5223,2,  35.5247,2,    196.1,2,   195.8,2,    5.58,2,    5.99,2,    0.00,2,    0.54,2,-999.000,9,-999.000,9,-999.000,9,  -999.0,9,  -999.0,9,-999.0000,9,-999.0000,9, -999.00,9, -999.00,9,  -999.0,9,  -999.0,-999.000,9,-999.000,-999.000,9,-999.0000,  16.1295,-999.0000,-999.000
  316N145_8,        I03,     544,          1,         29,         29,2,19950525,       0527,   -20.0000,    56.6343,       4353,   356.2,  15.0508,  35.4453,2,  35.4613,2,    206.7,2,   206.5,2,    4.75,2,    6.33,2,    0.00,2,    0.57,2,-999.000,9,-999.000,9,-999.000,9,  -999.0,9,  -999.0,9,-999.0000,9,-999.0000,9, -999.00,9, -999.00,9,  -999.0,9,  -999.0,-999.000,9,-999.000,-999.000,9,-999.0000,  14.9963,-999.0000,-999.000
  316N145_8,        I03,     544,          1,         28,         28,2,19950525,       0527,   -20.0000,    56.6343,       4353,   406.1,  14.1004,  35.3726,2,  35.3567,2,    214.9,2,   214.4,2,    4.53,2,    7.34,2,    0.00,2,    0.63,2,   2.647,2,   1.363,2,-999.000,9,  -999.0,9,  -999.0,9,-999.0000,9,-999.0000,9, -999.00,9, -999.00,9,  -999.0,9,  -999.0,-999.000,9,-999.000,-999.000,9,-999.0000,  14.0409,-999.0000,-999.000
  316N145_8,        I03,     544,          1,         27,         27,2,19950525,       0527,   -20.0000,    56.6343,       4353,   456.9,  13.0004,  35.2226,2,  35.2214,2,    220.7,2,   221.6,2,    4.52,2,    8.93,2,    0.00,2,    0.72,2,-999.000,9,-999.000,9,-999.000,9,  -999.0,9,  -999.0,9,-999.0000,9,-999.0000,9, -999.00,9, -999.00,9,  -999.0,9,  -999.0,-999.000,9,-999.000,-999.000,9,-999.0000,  12.9368,-999.0000,-999.000
  316N145_8,        I03,     544,          1,         26,         26,2,19950525,       0527,   -20.0000,    56.6343,       4353,   507.2,  12.2520,  35.1170,2,  35.1116,2,    223.7,2,   225.5,2,    4.71,2,   10.33,2,    0.00,2,    0.80,2,-999.000,9,-999.000,9,-999.000,9,  -999.0,9,  -999.0,9,-999.0000,9,-999.0000,9, -999.00,9, -999.00,9,  -999.0,9,  -999.0,-999.000,9,-999.000,-999.000,9,-999.0000,  12.1840,-999.0000,-999.000
  316N145_8,        I03,     544,          1,         25,         25,2,19950525,       0527,   -20.0000,    56.6343,       4353,   606.2,  10.8758,  34.9208,2,  34.9204,2,    224.6,2,   226.1,2,    5.73,2,   13.27,2,    0.00,2,    0.97,2,   2.496,2,   1.253,2,-999.000,9,  -999.0,9,  -999.0,9,-999.0000,9,-999.0000,9, -999.00,9, -999.00,9,  -999.0,9,  -999.0,-999.000,9,-999.000,-999.000,9,-999.0000,  10.8002,-999.0000,-999.000
  316N145_8,        I03,     544,          1,         24,         24,2,19950525,       0527,   -20.0000,    56.6343,       4353,   707.4,   8.6562,  34.6599,2,  34.6615,2,    207.8,2,   209.0,2,   12.91,2,   20.14,2,    0.00,2,    1.39,2,-999.000,9,-999.000,9,-999.000,9,  -999.0,9,  -999.0,9,-999.0000,9,-999.0000,9, -999.00,9, -999.00,9,  -999.0,9,  -999.0,-999.000,9,-999.000,-999.000,9,-999.0000,   8.5792,-999.0000,-999.000
  316N145_8,        I03,     544,          1,         23,         23,2,19950525,       0527,   -20.0000,    56.6343,       4353,   808.8,   6.4971,  34.5149,2,  34.5177,2,    180.5,2,   181.7,2,   30.59,2,   27.57,2,    0.00,2,    1.89,2,   0.497,2,   0.258,2,-999.000,9,  -999.0,9,  -999.0,9,-999.0000,9,-999.0000,9, -999.00,9, -999.00,9,  -999.0,9,  -999.0,-999.000,9,-999.000,-999.000,9,-999.0000,   6.4217,-999.0000,-999.000
  316N145_8,        I03,     544,          1,         22,         22,2,19950525,       0527,   -20.0000,    56.6343,       4353,   908.3,   5.5971,  34.5440,2,  34.5397,2,    151.0,2,   152.8,2,   51.16,2,   31.64,2,    0.00,2,    2.19,2,-999.000,9,-999.000,9,-999.000,9,  -999.0,9,  -999.0,9,-999.0000,9,-999.0000,9, -999.00,9, -999.00,9,  -999.0,9,  -999.0,-999.000,9,-999.000,-999.000,9,-999.0000,   5.5179,-999.0000,-999.000
  316N145_8,        I03,     544,          1,         21,         21,2,19950525,       0527,   -20.0000,    56.6343,       4353,  1009.2,   4.8939,  34.5923,2,  34.5936,2,    134.5,2,   134.6,2,   69.09,2,   33.86,2,    0.00,2,    2.37,2,   0.066,2,   0.036,2,-999.000,9,  -999.0,9,  -999.0,9,-999.0000,9,-999.0000,9, -999.00,9, -999.00,9,  -999.0,9,  -999.0,-999.000,9,-999.000,-999.000,9,-999.0000,   4.8104,-999.0000,-999.000
  316N145_8,        I03,     544,          1,         20,         20,2,19950525,       0527,   -20.0000,    56.6343,       4353,  1110.2,   4.2239,  34.6265,2,  34.6270,2,    131.8,2,   133.3,2,   79.84,2,   34.62,2,    0.00,2,    2.44,2,-999.000,9,-999.000,9,-999.000,9,  -999.0,9,  -999.0,9,-999.0000,9,-999.0000,9, -999.00,9, -999.00,9,  -999.0,9,  -999.0,-999.000,9,-999.000,-999.000,9,-999.0000,   4.1368,-999.0000,-999.000
  316N145_8,        I03,     544,          1,         19,         19,2,19950525,       0527,   -20.0000,    56.6343,       4353,  1209.6,   3.9864,  34.6496,2,  34.6515,2,    132.0,2,   132.6,2,   85.22,2,   34.73,2,    0.00,2,    2.45,2,   0.015,2,   0.009,2,-999.000,9,  -999.0,9,  -999.0,9,-999.0000,9,-999.0000,9, -999.00,9, -999.00,9,  -999.0,9,  -999.0,-999.000,9,-999.000,-999.000,9,-999.0000,   3.8928,-999.0000,-999.000
  316N145_8,        I03,     544,          1,         18,         18,2,19950525,       0527,   -20.0000,    56.6343,       4353,  1310.9,   3.6473,  34.6554,2,  34.6554,2,    139.0,2,   139.6,2,   87.50,2,   34.54,2,    0.00,2,    2.42,2,-999.000,9,-999.000,9,-999.000,9,  -999.0,9,  -999.0,9,-999.0000,9,-999.0000,9, -999.00,9, -999.00,9,  -999.0,9,  -999.0,-999.000,9,-999.000,-999.000,9,-999.0000,   3.5483,-999.0000,-999.000
  316N145_8,        I03,     544,          1,         17,         17,2,19950525,       0527,   -20.0000,    56.6343,       4353,  1411.3,   3.4004,  34.6624,2,  34.6617,2,    142.5,2,   143.7,2,   89.78,2,   34.36,2,    0.00,2,    2.41,2,-999.000,9,-999.000,9,-999.000,9,  -999.0,9,  -999.0,9,-999.0000,9,-999.0000,9, -999.00,9, -999.00,9,  -999.0,9,  -999.0,-999.000,9,-999.000,-999.000,9,-999.0000,   3.2954,-999.0000,-999.000
  316N145_8,        I03,     544,          1,         16,         16,2,19950525,       0527,   -20.0000,    56.6343,       4353,  1513.0,   3.1428,  34.6701,2,  34.6682,2,    149.5,2,   149.9,2,   91.64,2,   33.93,2,    0.00,2,    2.38,2,-999.000,9,-999.000,9,-999.000,9,  -999.0,9,  -999.0,9,-999.0000,9,-999.0000,9, -999.00,9, -999.00,9,  -999.0,9,  -999.0,-999.000,9,-999.000,-999.000,9,-999.0000,   3.0320,-999.0000,-999.000
  316N145_8,        I03,     544,          1,         15,         15,2,19950525,       0527,   -20.0000,    56.6343,       4353,  1613.0,   2.9721,  34.6845,2,  34.6833,2,    154.3,2,   151.6,2,   96.02,2,   33.99,2,    0.00,2,    2.38,2,-999.000,9,-999.000,9,-999.000,9,  -999.0,9,  -999.0,9,-999.0000,9,-999.0000,9, -999.00,9, -999.00,9,  -999.0,9,  -999.0,-999.000,9,-999.000,-999.000,9,-999.0000,   2.8548,-999.0000,-999.000
  316N145_8,        I03,     544,          1,         14,         14,2,19950525,       0527,   -20.0000,    56.6343,       4353,  1815.3,   2.5459,  34.7044,2,  34.7052,2,    158.8,2,   159.4,2,  102.94,2,   33.56,2,    0.00,2,    2.34,2,-999.000,9,-999.000,9,-999.000,9,  -999.0,9,  -999.0,9,-999.0000,9,-999.0000,9, -999.00,9, -999.00,9,  -999.0,9,  -999.0,-999.000,9,-999.000,-999.000,9,-999.0000,   2.4169,-999.0000,-999.000
  316N145_8,        I03,     544,          1,         13,         13,2,19950525,       0527,   -20.0000,    56.6343,       4353,  2017.7,   2.2981,  34.7179,2,  34.7180,2,    161.7,2,   161.8,2,  109.69,2,   33.57,2,    0.00,2,    2.34,2,-999.000,9,-999.000,9,-999.000,9,  -999.0,9,  -999.0,9,-999.0000,9,-999.0000,9, -999.00,9, -999.00,9,  -999.0,9,  -999.0,-999.000,9,-999.000,-999.000,9,-999.0000,   2.1553,-999.0000,-999.000
  316N145_8,        I03,     544,          1,         12,         12,2,19950525,       0527,   -20.0000,    56.6343,       4353,  2220.0,   2.1235,  34.7233,2,  34.7239,2,    164.4,2,   164.1,2,  114.14,2,   33.59,2,    0.00,2,    2.35,2,-999.000,9,-999.000,9,-999.000,9,  -999.0,9,  -999.0,9,-999.0000,9,-999.0000,9, -999.00,9, -999.00,9,  -999.0,9,  -999.0,-999.000,9,-999.000,-999.000,9,-999.0000,   1.9658,-999.0000,-999.000
  316N145_8,        I03,     544,          1,         11,         11,2,19950525,       0527,   -20.0000,    56.6343,       4353,  2422.4,   2.0024,  34.7273,2,  34.7276,2,    166.5,2,   166.0,2,  117.55,2,   33.45,2,    0.00,2,    2.34,2,-999.000,9,-999.000,9,-999.000,9,  -999.0,9,  -999.0,9,-999.0000,9,-999.0000,9, -999.00,9, -999.00,9,  -999.0,9,  -999.0,-999.000,9,-999.000,-999.000,9,-999.0000,   1.8288,-999.0000,-999.000
  316N145_8,        I03,     544,          1,         10,         10,2,19950525,       0527,   -20.0000,    56.6343,       4353,  2625.7,   1.8828,  34.7287,2,  34.7292,2,    167.4,2,   166.9,2,  121.18,2,   33.66,2,    0.00,2,    2.34,2,-999.000,9,-999.000,9,-999.000,9,  -999.0,9,  -999.0,9,-999.0000,9,-999.0000,9, -999.00,9, -999.00,9,  -999.0,9,  -999.0,-999.000,9,-999.000,-999.000,9,-999.0000,   1.6929,-999.0000,-999.000
  316N145_8,        I03,     544,          1,          9,          9,2,19950525,       0527,   -20.0000,    56.6343,       4353,  2830.0,   1.8117,  34.7309,2,  34.7314,2,    167.1,2,   167.1,2,  124.62,2,   33.82,2,    0.00,2,    2.35,2,-999.000,9,-999.000,9,-999.000,9,  -999.0,9,  -999.0,9,-999.0000,9,-999.0000,9, -999.00,9, -999.00,9,  -999.0,9,  -999.0,-999.000,9,-999.000,-999.000,9,-999.0000,   1.6041,-999.0000,-999.000
  316N145_8,        I03,     544,          1,          8,          8,2,19950525,       0527,   -20.0000,    56.6343,       4353,  3030.2,   1.7445,  34.7310,2,  34.7310,2,    167.8,2,   168.5,3,  126.99,2,   33.84,2,    0.00,2,    2.34,2,-999.000,9,-999.000,9,-999.000,9,  -999.0,9,  -999.0,9,-999.0000,9,-999.0000,9, -999.00,9, -999.00,9,  -999.0,9,  -999.0,-999.000,9,-999.000,-999.000,9,-999.0000,   1.5191,-999.0000,-999.000
  316N145_8,        I03,     544,          1,          7,          7,2,19950525,       0527,   -20.0000,    56.6343,       4353,  3232.8,   1.6827,  34.7307,2,  34.7315,2,    169.0,2,   169.0,2,  128.71,2,   33.80,2,    0.00,2,    2.36,2,-999.000,9,-999.000,9,-999.000,9,  -999.0,9,  -999.0,9,-999.0000,9,-999.0000,9, -999.00,9, -999.00,9,  -999.0,9,  -999.0,-999.000,9,-999.000,-999.000,9,-999.0000,   1.4388,-999.0000,-999.000
  316N145_8,        I03,     544,          1,          6,          6,2,19950525,       0527,   -20.0000,    56.6343,       4353,  3436.4,   1.6106,  34.7288,2,  34.7290,2,    171.9,2,   172.2,2,  129.35,2,   33.77,2,    0.00,2,    2.35,2,-999.000,9,-999.000,9,-999.000,9,  -999.0,9,  -999.0,9,-999.0000,9,-999.0000,9, -999.00,9, -999.00,9,  -999.0,9,  -999.0,-999.000,9,-999.000,-999.000,9,-999.0000,   1.3480,-999.0000,-999.000
  316N145_8,        I03,     544,          1,          5,          5,2,19950525,       0527,   -20.0000,    56.6343,       4353,  3641.4,   1.5125,  34.7252,2,  34.7247,2,    176.9,2,   177.4,2,  129.12,2,   33.53,2,    0.00,2,    2.34,2,-999.000,9,-999.000,9,-999.000,9,  -999.0,9,  -999.0,9,-999.0000,9,-999.0000,9, -999.00,9, -999.00,9,  -999.0,9,  -999.0,-999.000,9,-999.000,-999.000,9,-999.0000,   1.2312,-999.0000,-999.000
  316N145_8,        I03,     544,          1,          4,          4,2,19950525,       0527,   -20.0000,    56.6343,       4353,  3845.2,   1.4099,  34.7215,2,  34.7225,2,    182.5,2,   182.6,2,  128.67,2,   33.25,2,    0.00,2,    2.31,2,-999.000,9,-999.000,9,-999.000,9,  -999.0,9,  -999.0,9,-999.0000,9,-999.0000,9, -999.00,9, -999.00,9,  -999.0,9,  -999.0,-999.000,9,-999.000,-999.000,9,-999.0000,   1.1100,-999.0000,-999.000
  316N145_8,        I03,     544,          1,          3,          3,2,19950525,       0527,   -20.0000,    56.6343,       4353,  4048.6,   1.3419,  34.7188,2,  34.7186,2,    186.7,2,   186.9,2,  128.00,2,   32.97,2,    0.00,2,    2.30,2,-999.000,9,-999.000,9,-999.000,9,  -999.0,9,  -999.0,9,-999.0000,9,-999.0000,9, -999.00,9, -999.00,9,  -999.0,9,  -999.0,-999.000,9,-999.000,-999.000,9,-999.0000,   1.0220,-999.0000,-999.000
  316N145_8,        I03,     544,          1,          2,          2,2,19950525,       0527,   -20.0000,    56.6343,       4353,  4253.7,   1.2918,  34.7166,2,  34.7172,2,    190.4,2,   190.8,2,  127.33,2,   32.93,2,    0.00,2,    2.28,2,-999.000,9,-999.000,9,-999.000,9,  -999.0,9,  -999.0,9,-999.0000,9,-999.0000,9, -999.00,9, -999.00,9,  -999.0,9,  -999.0,-999.000,9,-999.000,-999.000,9,-999.0000,   0.9508,-999.0000,-999.000
  316N145_8,        I03,     544,          1,          1,          1,2,19950525,       0527,   -20.0000,    56.6343,       4353,  4428.7,   1.2532,  34.7146,2,  34.7147,2,    193.2,2,   193.0,2,  126.88,2,   32.79,2,    0.00,2,    2.27,2,-999.000,9,-999.000,9,-999.000,9,  -999.0,9,  -999.0,9,-999.0000,9,-999.0000,9, -999.00,9, -999.00,9,  -999.0,9,  -999.0,-999.000,9,-999.000,-999.000,9,-999.0000,   0.8938,-999.0000,-999.000