BOTTLE,20140514CCHSIOSE
EXPOCODE,SECT_ID,STNNBR,CASTNO,SAMPNO,BTLNBR,BTLNBR_FLAG_W,DATE,TIME,LATITUDE,LONGITUDE,DEPTH,CTDPRS,CTDTMP,CTDSAL,CTDSAL_FLAG_W,SALNTY,SALNTY_FLAG_W,CTDOXY,CTDOXY_FLAG_W,OXYGEN,OXYGEN_FLAG_W,SILCAT,SILCAT_FLAG_W,NITRAT,NITRAT_FLAG_W,NITRIT,NITRIT_FLAG_W,PHSPHT,PHSPHT_FLAG_W,CFC-11,CFC-11_FLAG_W,CFC-12,CFC-12_FLAG_W,CFC113,CFC113_FLAG_W,TCARBN,TCARBN_FLAG_W,ALKALI,ALKALI_FLAG_W,TRITUM,TRITUM_FLAG_W,HELIUM,HELIUM_FLAG_W,DELHE3,DELHE3_FLAG_W,DELC13,DELC13_FLAG_W,DELC14,DELC14_FLAG_W,C14ERR,NEON,NEON_FLAG_W,NEONER,CCL4,CCL4_FLAG_W,HELIER,THETA,TRITER,DELHER
,,,,,,,,,,,METERS,DBAR,ITS-90,PSS-78,,PSS-78,,UMOL/KG,,UMOL/KG,,UMOL/KG,,UMOL/KG,,UMOL/KG,,UMOL/KG,,PMOL/KG,,PMOL/KG,,PMOL/KG,,UMOL/KG,,UMOL/KG,,TU,,NMOL/KG,,PERCNT,,/MILLE,,/MILLE,,/MILLE,NMOL/KG,,NMOL/KG,PMOL/KG,,NMOL/KG,DEG C,TU,PERCNT
  316N145_8,        I03,     476,          1,         36,         36,2,19950505,       0717,   -20.0003,    92.3570,       5115,     7.8,  25.6701,  35.1703,2,  35.1726,2,    204.7,2,   205.6,2,    3.55,2,    0.10,2,    0.00,2,    0.08,2,   1.852,2,   1.055,2,-999.000,9,  1958.7,2,  2302.0,2,-999.0000,9,-999.0000,9, -999.00,9,    1.25,2,    84.8,2,     3.5,-999.000,9,-999.000,-999.000,9,-999.0000,  25.6684,-999.0000,-999.000
  316N145_8,        I03,     476,          1,         35,         35,2,19950505,       0717,   -20.0003,    92.3570,       5115,    57.9,  25.0459,  35.4935,2,  35.4973,2,    211.0,2,   209.4,2,    3.54,2,    0.10,2,    0.00,2,    0.08,2,-999.000,9,-999.000,9,-999.000,9,  1991.2,6,  2323.0,6,-999.0000,9,-999.0000,9, -999.00,9,    1.21,2,    85.3,2,     3.5,-999.000,9,-999.000,-999.000,9,-999.0000,  25.0333,-999.0000,-999.000
  316N145_8,        I03,     476,          1,         34,         34,2,19950505,       0717,   -20.0003,    92.3570,       5115,   105.9,  21.4131,  35.6184,2,  35.6100,2,    217.7,2,   214.5,2,    3.95,2,    0.10,2,    0.00,2,    0.14,2,   2.223,2,   1.221,2,-999.000,9,  2016.5,2,  2332.0,2,-999.0000,9,-999.0000,9, -999.00,9,    1.07,2,    83.0,2,     3.1,-999.000,9,-999.000,-999.000,9,-999.0000,  21.3926,-999.0000,-999.000
  316N145_8,        I03,     476,          1,         33,         33,2,19950505,       0717,   -20.0003,    92.3570,       5115,   157.9,  19.8621,  35.7969,2,  35.8000,2,    196.5,2,   199.8,2,    4.15,2,    1.70,2,    0.02,2,    0.25,2,   2.303,2,   1.261,2,-999.000,9,  2050.8,2,  2344.0,2,-999.0000,9,-999.0000,9, -999.00,9, -999.00,9,  -999.0,9,  -999.0,-999.000,9,-999.000,-999.000,9,-999.0000,  19.8329,-999.0000,-999.000
  316N145_8,        I03,     476,          1,         32,         32,2,19950505,       0717,   -20.0003,    92.3570,       5115,   206.9,  18.6659,  35.8200,2,  35.8233,2,    200.3,2,   199.8,2,    4.35,2,    2.30,2,    0.01,2,    0.30,2,   2.365,2,   1.278,2,-999.000,9,  2066.5,2,  2348.0,2,-999.0000,9,-999.0000,9, -999.00,9,    1.01,2,    82.7,2,     3.1,-999.000,9,-999.000,-999.000,9,-999.0000,  18.6293,-999.0000,-999.000
  316N145_8,        I03,     476,          1,         31,         31,2,19950505,       0717,   -20.0003,    92.3570,       5115,   256.0,  16.8929,  35.7468,2,  35.7393,2,    200.4,2,   202.7,2,    4.77,2,    3.59,2,    0.01,2,    0.40,2,   2.523,2,   1.335,2,-999.000,9,  2082.6,2,  2345.0,2,-999.0000,9,-999.0000,9, -999.00,9,    0.97,2,    93.5,2,     3.0,-999.000,9,-999.000,-999.000,9,-999.0000,  16.8505,-999.0000,-999.000
  316N145_8,        I03,     476,          1,         30,         30,2,19950505,       0717,   -20.0003,    92.3570,       5115,   308.0,  14.5361,  35.4853,2,  35.4859,2,    215.3,2,   220.3,2,    3.68,2,    4.92,2,    0.01,2,    0.49,2,   2.859,2,   1.483,2,-999.000,9,  2091.4,2,  2334.0,2,-999.0000,9,-999.0000,9, -999.00,9,    1.17,2,    99.0,2,     3.6,-999.000,9,-999.000,-999.000,9,-999.0000,  14.4901,-999.0000,-999.000
  316N145_8,        I03,     476,          1,         29,         29,2,19950505,       0717,   -20.0003,    92.3570,       5115,   358.5,  12.9924,  35.2649,2,  35.2759,2,    222.7,2,   224.7,2,    3.88,2,    7.48,2,    0.00,2,    0.64,2,   2.957,2,   1.519,2,-999.000,9,  2096.3,2,  2321.0,2,-999.0000,9,-999.0000,9, -999.00,9,    1.08,2,    90.7,2,     3.5,-999.000,9,-999.000,-999.000,9,-999.0000,  12.9427,-999.0000,-999.000
  316N145_8,        I03,     476,          1,         28,         28,2,19950505,       0717,   -20.0003,    92.3570,       5115,   407.7,  11.6694,  35.0551,2,  35.0707,2,    227.7,2,   230.0,2,    4.30,2,    9.99,2,    0.00,2,    0.79,2,   2.972,2,   1.505,2,-999.000,9,  2100.8,2,  2313.0,2,-999.0000,9,-999.0000,9, -999.00,9,    0.98,2,    79.6,2,     3.6,-999.000,9,-999.000,-999.000,9,-999.0000,  11.6166,-999.0000,-999.000
  316N145_8,        I03,     476,          1,         27,         27,2,19950505,       0717,   -20.0003,    92.3570,       5115,   508.5,   9.9082,  34.7825,2,  34.7781,2,    232.0,2,   231.8,2,    5.79,2,   14.92,2,    0.00,2,    1.07,2,   2.812,2,   1.391,2,-999.000,9,  2112.3,2,  2298.0,2,-999.0000,9,-999.0000,9, -999.00,9,    1.03,2,    52.5,2,     4.8,-999.000,9,-999.000,-999.000,9,-999.0000,   9.8488,-999.0000,-999.000
  316N145_8,        I03,     476,          1,         26,         26,2,19950505,       0717,   -20.0003,    92.3570,       5115,   609.3,   8.4438,  34.6042,2,  34.6048,2,    219.0,2,   209.9,2,   12.21,2,   20.84,2,    0.00,2,    1.44,2,   1.688,2,   0.835,2,-999.000,9,  2137.9,2,  2295.0,2,-999.0000,9,-999.0000,9, -999.00,9,    1.16,2,    15.2,2,     3.0,-999.000,9,-999.000,-999.000,9,-999.0000,   8.3789,-999.0000,-999.000
  316N145_8,        I03,     476,          1,         25,         25,2,19950505,       0717,   -20.0003,    92.3570,       5115,   707.9,   6.6854,  34.4969,2,  34.4997,2,    185.1,2,   180.9,2,   28.08,2,   27.33,2,    0.00,2,    1.88,2,   0.579,2,   0.296,2,-999.000,9,  2176.6,2,  2301.0,2,-999.0000,9,-999.0000,9, -999.00,9,    0.92,2,   -64.8,2,     3.6,-999.000,9,-999.000,-999.000,9,-999.0000,   6.6189,-999.0000,-999.000
  316N145_8,        I03,     476,          1,         24,         24,2,19950505,       0717,   -20.0003,    92.3570,       5115,   810.8,   5.4200,  34.5000,2,  34.5056,2,    152.9,2,   146.9,2,   53.60,2,   32.41,2,    0.00,2,    2.28,2,   0.123,2,   0.068,2,-999.000,9,  2223.1,2,  2326.0,2,-999.0000,9,-999.0000,9, -999.00,9,    0.60,2,  -116.9,2,     2.8,-999.000,9,-999.000,-999.000,9,-999.0000,   5.3510,-999.0000,-999.000
  316N145_8,        I03,     476,          1,         23,         23,2,19950505,       0717,   -20.0003,    92.3570,       5115,   910.9,   4.9353,  34.5780,2,  34.5783,2,    122.9,2,   119.5,2,   74.88,2,   34.87,2,    0.00,2,    2.49,2,   0.019,2,   0.010,2,-999.000,9,  2258.5,2,  2348.0,2,-999.0000,9,-999.0000,9, -999.00,9,    0.31,2,  -167.0,2,     3.4,-999.000,9,-999.000,-999.000,9,-999.0000,   4.8603,-999.0000,-999.000
  316N145_8,        I03,     476,          1,         22,         22,2,19950505,       0717,   -20.0003,    92.3570,       5115,  1010.8,   4.6895,  34.6089,2,  34.6130,2,    112.5,2,   113.0,2,   83.48,2,   35.53,2,    0.00,2,    2.55,2,   0.005,2,   0.000,2,-999.000,9,  2270.4,2,  2358.0,2,-999.0000,9,   1.8460,2,   11.05,2,    0.28,2,  -179.3,2,     2.6,   7.825,2,   0.037,-999.000,9,   0.0120,   4.6074,-999.0000,    0.15
  316N145_8,        I03,     476,          1,         21,         21,2,19950505,       0717,   -20.0003,    92.3570,       5115,  1111.0,   4.4300,  34.6431,2,  34.6450,2,    110.6,2,   111.3,2,   89.73,2,   35.67,2,    0.00,2,    2.57,2,   0.001,2,  -0.001,2,-999.000,9,  2292.3,3,  2363.0,2,-999.0000,9,   1.8500,2,   11.76,2,    0.25,2,  -179.1,2,     2.9,   7.859,2,   0.058,-999.000,9,   0.0110,   4.3411,-999.0000,    0.16
  316N145_8,        I03,     476,          1,         20,         20,2,19950505,       0717,   -20.0003,    92.3570,       5115,  1223.8,   4.0816,  34.6567,2,  34.6595,2,    114.6,2,   115.9,2,   93.83,2,   35.62,2,    0.00,2,    2.57,2,   0.002,2,   0.000,2,-999.000,9,  2283.5,2,  2369.0,2,-999.0000,9,   1.8760,2,   12.08,2,    0.23,2,  -181.1,2,     2.3,   7.882,2,   0.030,-999.000,9,   0.0030,   3.9859,-999.0000,    0.15
  316N145_8,        I03,     476,          1,         19,         19,2,19950505,       0717,   -20.0003,    92.3570,       5115,  1435.2,   3.4479,  34.6788,2,  34.6803,2,    126.3,2,   127.8,2,   99.45,2,   35.12,2,    0.00,2,    2.53,2,-999.000,9,-999.000,9,-999.000,9,  2286.4,2,  2372.0,2,-999.0000,9,   1.8860,2,   12.52,2, -999.00,9,  -999.0,9,  -999.0,   8.016,2,   0.021,-999.000,9,   0.0020,   3.3402,-999.0000,    0.10
  316N145_8,        I03,     476,          1,         18,         18,2,19950505,       0717,   -20.0003,    92.3570,       5115,  1646.7,   2.9582,  34.7040,2,  34.7045,2,    138.6,2,   138.4,2,  105.76,2,   34.66,2,    0.00,2,    2.48,2,   0.002,2,  -0.001,2,-999.000,9,  2286.7,2,  2381.0,2,-999.0000,9,-999.0000,9, -999.00,9, -999.00,9,  -999.0,9,  -999.0,-999.000,9,-999.000,-999.000,9,-999.0000,   2.8381,-999.0000,-999.000
  316N145_8,        I03,     476,          1,         17,         17,2,19950505,       0717,   -20.0003,    92.3570,       5115,  1858.2,   2.5844,  34.7136,2,  34.7147,2,    146.7,2,   146.0,2,  111.22,2,   34.31,2,    0.00,2,    2.45,2,-999.000,9,-999.000,9,-999.000,9,  2289.7,2,  2385.0,2,-999.0000,9,-999.0000,9, -999.00,9, -999.00,9,  -999.0,9,  -999.0,-999.000,9,-999.000,-999.000,9,-999.0000,   2.4511,-999.0000,-999.000
  316N145_8,        I03,     476,          1,         16,         16,2,19950505,       0717,   -20.0003,    92.3570,       5115,  2070.5,   2.2753,  34.7228,2,  34.7229,2,    155.1,2,   154.6,2,  115.37,2,   33.91,2,    0.00,2,    2.41,2,   0.000,2,  -0.002,2,-999.000,9,  2304.5,3,  2391.0,2,-999.0000,9,   1.9000,2,   13.95,2, -999.00,9,  -999.0,9,  -999.0,   8.146,2,   0.022,-999.000,9,   0.0020,   2.1283,-999.0000,    0.10
  316N145_8,        I03,     476,          1,         15,         15,2,19950505,       0717,   -20.0003,    92.3570,       5115,  2285.5,   2.0428,  34.7253,2,  34.7268,2,    161.6,2,   162.1,2,  117.77,2,   33.56,2,    0.00,2,    2.38,2,-999.000,9,-999.000,9,-999.000,9,  2291.0,2,  2390.0,2,-999.0000,9,   1.8900,2,   14.06,2, -999.00,9,  -999.0,9,  -999.0,   8.065,2,   0.022,-999.000,9,   0.0030,   1.8808,-999.0000,    0.10
  316N145_8,        I03,     476,          1,         14,         14,2,19950505,       0717,   -20.0003,    92.3570,       5115,  2497.9,   1.8899,  34.7264,2,  34.7261,2,    168.2,2,   166.6,2,  119.73,2,   33.41,2,    0.00,2,    2.36,2,   0.003,2,  -0.002,2,-999.000,9,  2289.8,2,  2395.0,2,-999.0000,9,   1.8500,3,   14.16,2, -999.00,9,  -999.0,9,  -999.0,   8.109,2,   0.031,-999.000,9,   0.0060,   1.7116,-999.0000,    0.15
  316N145_8,        I03,     476,          1,         13,         13,2,19950505,       0717,   -20.0003,    92.3570,       5115,  2710.7,   1.7575,  34.7245,2,  34.7268,2,    170.3,2,   170.5,2,  122.13,2,   33.31,2,    0.00,2,    2.35,2,-999.000,9,-999.000,9,-999.000,9,  2290.8,2,  2395.0,2,-999.0000,9,   1.8990,2,   13.92,2, -999.00,9,  -999.0,9,  -999.0,   8.161,2,   0.022,-999.000,9,   0.0020,   1.5622,-999.0000,    0.10
  316N145_8,        I03,     476,          1,         12,         12,2,19950505,       0717,   -20.0003,    92.3570,       5115,  2924.3,   1.6548,  34.7254,2,  34.7268,2,    173.3,2,   173.0,2,  124.55,2,   33.26,2,    0.00,2,    2.34,2,   0.000,2,   0.000,2,-999.000,9,  2292.0,2,  2400.0,2,-999.0000,9,   1.9010,2,   13.34,2, -999.00,9,  -999.0,9,  -999.0,   8.144,2,   0.031,-999.000,9,   0.0040,   1.4416,-999.0000,    0.15
  316N145_8,        I03,     476,          1,         11,         11,2,19950505,       0717,   -20.0003,    92.3570,       5115,  3138.6,   1.5646,  34.7236,2,  34.7255,2,    175.8,2,   176.1,2,  126.52,2,   33.16,2,    0.00,2,    2.34,2,-999.000,9,-999.000,9,-999.000,9,  2292.6,6,  2399.5,6,-999.0000,9,-999.0000,9, -999.00,9, -999.00,9,  -999.0,9,  -999.0,-999.000,9,-999.000,-999.000,9,-999.0000,   1.3327,-999.0000,-999.000
  316N145_8,        I03,     476,          1,         10,         10,2,19950505,       0717,   -20.0003,    92.3570,       5115,  3342.3,   1.4756,  34.7220,2,  34.7219,2,    177.4,2,   178.7,2,  126.93,2,   33.06,2,    0.00,2,    2.33,2,   0.003,2,  -0.001,2,-999.000,9,  2291.7,2,  2400.0,2,-999.0000,9,   1.8890,2,   12.60,2, -999.00,9,  -999.0,9,  -999.0,   8.169,2,   0.030,-999.000,9,   0.0030,   1.2258,-999.0000,    0.15
  316N145_8,        I03,     476,          1,          9,          9,2,19950505,       0717,   -20.0003,    92.3570,       5115,  3546.2,   1.3746,  34.7199,2,  34.7198,2,    183.5,2,   183.8,2,  126.66,2,   32.91,2,    0.00,2,    2.31,2,-999.000,9,-999.000,9,-999.000,9,  2287.0,2,  2396.0,2,-999.0000,9,   1.8820,2,   11.90,2, -999.00,9,  -999.0,9,  -999.0,   8.131,2,   0.030,-999.000,9,   0.0040,   1.1067,-999.0000,    0.15
  316N145_8,        I03,     476,          1,          8,          8,2,19950505,       0717,   -20.0003,    92.3570,       5115,  3750.0,   1.2915,  34.7181,2,  34.7186,2,    188.7,2,   190.2,2,  124.83,2,   32.55,2,    0.00,2,    2.28,2,   0.002,2,   0.000,2,-999.000,9,  2281.2,2,  2393.0,2,-999.0000,9,   1.9180,2,   11.59,2, -999.00,9,  -999.0,9,  -999.0,   8.272,2,   0.022,-999.000,9,   0.0020,   1.0048,-999.0000,    0.10
  316N145_8,        I03,     476,          1,          7,          7,2,19950505,       0717,   -20.0003,    92.3570,       5115,  3953.0,   1.1983,  34.7159,2,  34.7166,2,    194.2,2,   195.1,2,  124.34,2,   32.25,2,    0.00,2,    2.26,2,-999.000,9,-999.000,9,-999.000,9,  2280.8,2,  2390.0,2,-999.0000,9,   1.8900,2,   11.22,2, -999.00,9,  -999.0,9,  -999.0,   8.197,2,   0.030,-999.000,9,   0.0040,   0.8928,-999.0000,    0.15
  316N145_8,        I03,     476,          1,          6,          6,2,19950505,       0717,   -20.0003,    92.3570,       5115,  4158.9,   1.1331,  34.7143,2,  34.7151,2,    199.7,2,   199.1,2,  123.85,2,   32.15,2,    0.00,2,    2.25,2,   0.000,2,  -0.001,2,-999.000,9,  2274.9,2,  2389.0,2,-999.0000,9,-999.0000,9, -999.00,9, -999.00,9,  -999.0,9,  -999.0,-999.000,9,-999.000,-999.000,9,-999.0000,   0.8072,-999.0000,-999.000
  316N145_8,        I03,     476,          1,          5,          5,2,19950505,       0717,   -20.0003,    92.3570,       5115,  4362.4,   1.0916,  34.7127,2,  34.7129,2,    200.8,2,   201.6,2,  124.03,2,   32.10,2,    0.00,2,    2.24,2,-999.000,9,-999.000,9,-999.000,9,  2273.0,2,  2382.0,2,-999.0000,9,   1.8860,2,   10.40,2, -999.00,9,  -999.0,9,  -999.0,   8.188,2,   0.030,-999.000,9,   0.0040,   0.7446,-999.0000,    0.15
  316N145_8,        I03,     476,          1,          4,          4,2,19950505,       0717,   -20.0003,    92.3570,       5115,  4568.2,   1.0729,  34.7114,2,  34.7113,2,    202.6,2,   203.1,2,  123.99,2,   32.10,2,    0.00,2,    2.23,2,   0.002,2,   0.003,2,-999.000,9,  2269.7,2,  2382.0,2,-999.0000,9,-999.0000,9, -999.00,9, -999.00,9,  -999.0,9,  -999.0,-999.000,9,-999.000,-999.000,9,-999.0000,   0.7033,-999.0000,-999.000
  316N145_8,        I03,     476,          1,          3,          3,2,19950505,       0717,   -20.0003,    92.3570,       5115,  4772.8,   1.0805,  34.7110,2,  34.7108,2,    203.9,2,   203.8,2,  123.95,2,   32.05,2,    0.00,2,    2.23,2,   0.003,2,   0.002,2,-999.000,9,  2272.4,2,  2381.0,2,-999.0000,9,   1.9000,2,    9.38,2, -999.00,9,  -999.0,9,  -999.0,   8.178,2,   0.031,-999.000,9,   0.0040,   0.6871,-999.0000,    0.15
  316N145_8,        I03,     476,          1,          2,          2,2,19950505,       0717,   -20.0003,    92.3570,       5115,  4979.8,   1.0998,  34.7101,2,  34.7104,2,    203.8,2,   204.0,2,  124.13,2,   32.00,2,    0.00,2,    2.23,2,   0.003,2,   0.000,2,-999.000,9,  2270.2,2,  2384.0,2,-999.0000,9,   1.8850,2,   10.19,2, -999.00,9,  -999.0,9,  -999.0,   8.133,2,   0.031,-999.000,9,   0.0040,   0.6814,-999.0000,    0.15
  316N145_8,        I03,     476,          1,          1,          1,2,19950505,       0717,   -20.0003,    92.3570,       5115,  5203.9,   1.1277,  34.7099,2,  34.7109,2,    204.8,2,   204.0,2,  124.08,2,   32.00,2,    0.00,2,    2.23,2,   0.003,2,  -0.001,2,-999.000,9,  2270.3,2,  2383.0,2,-999.0000,9,   1.8930,2,   10.22,2, -999.00,9,  -999.0,9,  -999.0,   8.176,2,   0.022,-999.000,9,   0.0020,   0.6813,-999.0000,    0.10