BOTTLE,20140514CCHSIOSE
EXPOCODE,SECT_ID,STNNBR,CASTNO,SAMPNO,BTLNBR,BTLNBR_FLAG_W,DATE,TIME,LATITUDE,LONGITUDE,DEPTH,CTDPRS,CTDTMP,CTDSAL,CTDSAL_FLAG_W,SALNTY,SALNTY_FLAG_W,CTDOXY,CTDOXY_FLAG_W,OXYGEN,OXYGEN_FLAG_W,SILCAT,SILCAT_FLAG_W,NITRAT,NITRAT_FLAG_W,NITRIT,NITRIT_FLAG_W,PHSPHT,PHSPHT_FLAG_W,CFC-11,CFC-11_FLAG_W,CFC-12,CFC-12_FLAG_W,CFC113,CFC113_FLAG_W,TCARBN,TCARBN_FLAG_W,ALKALI,ALKALI_FLAG_W,TRITUM,TRITUM_FLAG_W,HELIUM,HELIUM_FLAG_W,DELHE3,DELHE3_FLAG_W,DELC13,DELC13_FLAG_W,DELC14,DELC14_FLAG_W,C14ERR,NEON,NEON_FLAG_W,NEONER,CCL4,CCL4_FLAG_W,HELIER,THETA,TRITER,DELHER
,,,,,,,,,,,METERS,DBAR,ITS-90,PSS-78,,PSS-78,,UMOL/KG,,UMOL/KG,,UMOL/KG,,UMOL/KG,,UMOL/KG,,UMOL/KG,,PMOL/KG,,PMOL/KG,,PMOL/KG,,UMOL/KG,,UMOL/KG,,TU,,NMOL/KG,,PERCNT,,/MILLE,,/MILLE,,/MILLE,NMOL/KG,,NMOL/KG,PMOL/KG,,NMOL/KG,DEG C,TU,PERCNT
  316N145_8,        I03,     459,          1,         36,         36,2,19950429,       1501,   -20.0008,   106.6185,       5495,     6.8,  26.9048,  35.0510,2,  35.0512,2,    207.2,2,   207.4,2,    3.36,2,    0.10,2,    0.00,2,    0.08,2,   1.743,2,   1.006,2,-999.000,9,  1948.8,6,  2299.1,6,-999.0000,9,   1.7264,2,   -1.35,2, -999.00,9,  -999.0,9,  -999.0,   6.779,2,   0.034,-999.000,9,   0.0086,  26.9032,-999.0000,    0.14
  316N145_8,        I03,     459,          1,         35,         35,2,19950429,       1501,   -20.0008,   106.6185,       5495,    58.6,  23.6478,  35.3179,2,  35.3183,2,    220.4,2,   221.1,2,    4.64,2,    0.10,2,    0.00,2,    0.12,2,-999.000,9,-999.000,9,-999.000,9,  -999.0,9,  -999.0,9,   1.1557,2,   1.6571,2,   -0.59,2, -999.00,9,  -999.0,9,  -999.0,   6.629,2,   0.033,-999.000,9,   0.0083,  23.6356,   0.0044,    0.14
  316N145_8,        I03,     459,          1,         34,         34,2,19950429,       1501,   -20.0008,   106.6185,       5495,   108.6,  20.8942,  35.6364,2,  35.6362,2,    205.0,2,   196.0,2,    4.63,2,    0.97,2,    0.10,2,    0.24,2,   2.203,2,   1.213,2,-999.000,9,  -999.0,9,  -999.0,9,   1.1245,2,   1.7507,2,   -0.65,2, -999.00,9,  -999.0,9,  -999.0,   7.019,2,   0.035,-999.000,9,   0.0088,  20.8734,   0.0043,    0.14
  316N145_8,        I03,     459,          1,         33,         33,2,19950429,       1501,   -20.0008,   106.6185,       5495,   158.7,  19.2733,  35.6731,2,  35.6688,2,    191.0,2,   180.2,2,    6.76,2,    4.66,2,    0.01,2,    0.44,2,-999.000,9,-999.000,9,-999.000,9,  -999.0,9,  -999.0,9,-999.0000,9,   1.7500,2,    0.47,2, -999.00,9,  -999.0,9,  -999.0,   7.086,2,   0.035,-999.000,9,   0.0087,  19.2446,-999.0000,    0.14
  316N145_8,        I03,     459,          1,         32,         32,2,19950429,       1501,   -20.0008,   106.6185,       5495,   208.3,  17.6441,  35.7499,2,  35.7403,2,    196.5,2,   191.9,2,    5.89,2,    4.36,2,    0.01,2,    0.44,2,   2.385,2,   1.282,2,-999.000,9,  -999.0,9,  -999.0,9,   1.0425,2,-999.0000,9, -999.00,9, -999.00,9,  -999.0,9,  -999.0,-999.000,9,-999.000,-999.000,9,-999.0000,  17.6086,   0.0039,-999.000
  316N145_8,        I03,     459,          1,         31,         31,2,19950429,       1501,   -20.0008,   106.6185,       5495,   259.5,  15.2043,  35.6012,2,  35.5919,2,    214.6,2,   216.2,2,    3.74,2,    4.26,2,    0.01,2,    0.46,2,-999.000,9,-999.000,9,-999.000,9,  -999.0,9,  -999.0,9,   0.9033,2,   1.7386,2,   -0.57,2, -999.00,9,  -999.0,9,  -999.0,   7.217,2,   0.036,-999.000,9,   0.0087,  15.1643,   0.0037,    0.14
  316N145_8,        I03,     459,          1,         30,         30,2,19950429,       1501,   -20.0008,   106.6185,       5495,   309.6,  13.2463,  35.3174,2,  35.3150,2,    223.6,2,   225.8,2,    3.73,2,    6.75,2,    0.00,2,    0.62,2,   2.995,2,   1.554,2,-999.000,9,  -999.0,9,  -999.0,9,   0.7749,2,   1.7596,2,   -0.57,2, -999.00,9,  -999.0,9,  -999.0,   7.348,2,   0.037,-999.000,9,   0.0088,  13.2028,   0.0034,    0.14
  316N145_8,        I03,     459,          1,         29,         29,2,19950429,       1501,   -20.0008,   106.6185,       5495,   359.8,  11.8060,  35.0904,2,  35.0926,2,    232.7,2,   233.2,2,    3.72,2,    9.14,2,    0.00,2,    0.76,2,   3.194,2,   1.628,2,-999.000,9,  -999.0,9,  -999.0,9,-999.0000,9,-999.0000,9, -999.00,9, -999.00,9,  -999.0,9,  -999.0,-999.000,9,-999.000,-999.000,9,-999.0000,  11.7592,-999.0000,-999.000
  316N145_8,        I03,     459,          1,         28,         28,2,19950429,       1501,   -20.0008,   106.6185,       5495,   409.5,  10.7648,  34.9215,2,  34.9224,2,    236.7,2,   237.0,2,    4.14,2,   11.64,2,    0.00,2,    0.90,2,   3.227,2,   1.635,2,-999.000,9,  -999.0,9,  -999.0,9,   0.5916,2,   1.7569,2,   -0.49,2, -999.00,9,  -999.0,9,  -999.0,   7.413,2,   0.037,-999.000,9,   0.0088,  10.7145,   0.0031,    0.14
  316N145_8,        I03,     459,          1,         27,         27,2,19950429,       1501,   -20.0008,   106.6185,       5495,   510.6,   8.9686,  34.6692,2,  34.6693,2,    220.3,2,   212.1,2,   11.61,2,   19.12,2,    0.00,2,    1.36,2,   2.187,2,   1.087,2,-999.000,9,  -999.0,9,  -999.0,9,   0.3952,2,   1.7710,2,    1.44,2, -999.00,9,  -999.0,9,  -999.0,   7.529,2,   0.038,-999.000,9,   0.0089,   8.9125,   0.0028,    0.14
  316N145_8,        I03,     459,          1,         26,         26,2,19950429,       1501,   -20.0008,   106.6185,       5495,   609.0,   7.0502,  34.5573,2,  34.5584,2,    167.5,2,   156.2,2,   37.45,2,   28.32,2,    0.00,2,    2.00,2,-999.000,9,-999.000,9,-999.000,9,  -999.0,9,  -999.0,9,   0.1362,2,   1.8035,2,    5.32,2, -999.00,9,  -999.0,9,  -999.0,   7.697,2,   0.038,-999.000,9,   0.0090,   6.9916,   0.0024,    0.14
  316N145_8,        I03,     459,          1,         25,         25,2,19950429,       1501,   -20.0008,   106.6185,       5495,   710.0,   6.2350,  34.5995,2,  34.5992,2,    117.5,2,   110.1,2,   64.38,2,   33.48,2,    0.00,2,    2.41,2,   0.078,2,   0.044,2,-999.000,9,  -999.0,9,  -999.0,9,   0.0393,2,   1.8346,2,    9.49,2, -999.00,9,  -999.0,9,  -999.0,   7.778,2,   0.039,-999.000,9,   0.0092,   6.1706,   0.0022,    0.14
  316N145_8,        I03,     459,          1,         24,         24,2,19950429,       1501,   -20.0008,   106.6185,       5495,   810.6,   5.8009,  34.6302,2,  34.6297,2,     93.6,2,    92.7,2,   80.00,2,   35.35,2,    0.00,2,    2.57,2,   0.016,2,   0.009,2,-999.000,9,  -999.0,9,  -999.0,9,   0.0203,2,   1.8661,2,   11.68,2, -999.00,9,  -999.0,9,  -999.0,   7.887,2,   0.039,-999.000,9,   0.0093,   5.7293,   0.0022,    0.14
  316N145_8,        I03,     459,          1,         23,         23,2,19950429,       1501,   -20.0008,   106.6185,       5495,   910.5,   5.3843,  34.6371,2,  34.6377,2,     90.1,2,  -999.0,9,   88.15,2,   35.87,2,    0.00,2,    2.62,2,   0.007,2,   0.004,2,-999.000,9,  -999.0,9,  -999.0,9,   0.0186,2,   1.8483,2,   12.80,2, -999.00,9,  -999.0,9,  -999.0,   7.824,2,   0.039,-999.000,9,   0.0092,   5.3062,   0.0022,    0.14
  316N145_8,        I03,     459,          1,         22,         22,2,19950429,       1501,   -20.0008,   106.6185,       5495,  1011.1,   5.0448,  34.6385,2,  34.6393,2,     89.5,2,    90.8,2,   92.64,2,   36.08,2,    0.00,2,    2.64,2,   0.001,2,   0.005,2,-999.000,9,  -999.0,9,  -999.0,9,-999.0000,9,-999.0000,9, -999.00,9, -999.00,9,  -999.0,9,  -999.0,-999.000,9,-999.000,-999.000,9,-999.0000,   4.9600,-999.0000,-999.000
  316N145_8,        I03,     459,          1,         21,         21,2,19950429,       1501,   -20.0008,   106.6185,       5495,  1113.5,   4.7153,  34.6430,2,  34.6431,2,     95.2,2,    93.5,2,   94.97,2,   36.09,2,    0.00,2,    2.64,2,  -0.007,2,   0.007,3,-999.000,9,  -999.0,9,  -999.0,9,   0.0075,2,   1.8638,2,   13.23,2, -999.00,9,  -999.0,9,  -999.0,   7.862,2,   0.039,-999.000,9,   0.0093,   4.6237,   0.0022,    0.14
  316N145_8,        I03,     459,          1,         20,         20,2,19950429,       1501,   -20.0008,   106.6185,       5495,  1213.8,   4.3651,  34.6416,2,  34.6427,2,     99.4,2,    98.4,2,   98.38,2,   36.04,2,    0.00,2,    2.63,2,-999.000,9,-999.000,9,-999.000,9,  -999.0,9,  -999.0,9,   0.0065,2,   1.8682,2,   13.27,2, -999.00,9,  -999.0,9,  -999.0,   7.919,2,   0.040,-999.000,9,   0.0093,   4.2677,   0.0022,    0.14
  316N145_8,        I03,     459,          1,         19,         19,2,19950429,       1501,   -20.0008,   106.6185,       5495,  1416.1,   3.6971,  34.6588,2,  34.6584,2,    113.3,2,   118.4,2,  100.72,2,   35.74,2,    0.00,2,    2.58,2,-999.000,9,-999.000,9,-999.000,9,  -999.0,9,  -999.0,9,-999.0000,9,-999.0000,9, -999.00,9, -999.00,9,  -999.0,9,  -999.0,-999.000,9,-999.000,-999.000,9,-999.0000,   3.5884,-999.0000,-999.000
  316N145_8,        I03,     459,          1,         18,         18,2,19950429,       1501,   -20.0008,   106.6185,       5495,  1617.8,   3.1412,  34.6812,2,  34.6820,2,    130.9,2,   132.7,2,  103.71,2,   35.17,2,    0.00,2,    2.52,2,  -0.004,2,   0.002,2,-999.000,9,  -999.0,9,  -999.0,9,   0.0012,2,   1.8860,2,   12.61,2, -999.00,9,  -999.0,9,  -999.0,   7.986,2,   0.040,-999.000,9,   0.0094,   3.0214,   0.0022,    0.14
  316N145_8,        I03,     459,          1,         17,         17,2,19950429,       1501,   -20.0008,   106.6185,       5495,  1819.9,   2.7032,  34.7048,2,  34.7036,2,    143.6,2,   143.1,2,  108.67,2,   34.55,2,    0.00,2,    2.47,2,-999.000,9,-999.000,9,-999.000,9,  -999.0,9,  -999.0,9,-999.0000,9,-999.0000,9, -999.00,9, -999.00,9,  -999.0,9,  -999.0,-999.000,9,-999.000,-999.000,9,-999.0000,   2.5716,-999.0000,-999.000
  316N145_8,        I03,     459,          1,         16,         16,2,19950429,       1501,   -20.0008,   106.6185,       5495,  2022.5,   2.3479,  34.7214,2,  34.7213,2,    144.9,2,   145.6,2,  120.24,2,   34.61,2,    0.00,2,    2.47,2,-999.000,9,-999.000,9,-999.000,9,  -999.0,9,  -999.0,9,-999.0000,9,   1.9040,2,   13.97,2, -999.00,9,  -999.0,9,  -999.0,   8.104,2,   0.021,-999.000,9,   0.0020,   2.2039,-999.0000,    0.15
  316N145_8,        I03,     459,          1,         15,         15,2,19950429,       1501,   -20.0008,   106.6185,       5495,  2224.6,   2.1419,  34.7255,2,  34.7255,2,    150.2,2,   149.9,2,  124.17,2,   34.46,2,    0.00,2,    2.46,2,-999.000,9,-999.000,9,-999.000,9,  -999.0,9,  -999.0,9,-999.0000,9,   1.8980,2,   13.86,2, -999.00,9,  -999.0,9,  -999.0,   8.114,2,   0.014,-999.000,9,   0.0050,   1.9835,-999.0000,    0.15
  316N145_8,        I03,     459,          1,         14,         14,2,19950429,       1501,   -20.0008,   106.6185,       5495,  2428.4,   1.9997,  34.7263,2,  34.7269,2,    152.8,2,   154.9,2,  125.44,2,   34.20,2,    0.00,2,    2.44,2,  -0.002,2,  -0.001,2,-999.000,9,  -999.0,9,  -999.0,9,-999.0000,9,   1.9160,2,   13.61,2, -999.00,9,  -999.0,9,  -999.0,   8.192,2,   0.021,-999.000,9,   0.0030,   1.8257,-999.0000,    0.15
  316N145_8,        I03,     459,          1,         13,         13,2,19950429,       1501,   -20.0008,   106.6185,       5495,  2627.5,   1.8586,  34.7263,2,  34.7265,2,    161.8,2,   161.2,2,  125.38,2,   33.89,2,    0.00,2,    2.41,2,-999.000,9,-999.000,9,-999.000,9,  -999.0,9,  -999.0,9,-999.0000,9,   1.9120,2,   13.44,2, -999.00,9,  -999.0,9,  -999.0,   8.143,2,   0.019,-999.000,9,   0.0020,   1.6690,-999.0000,    0.17
  316N145_8,        I03,     459,          1,         12,         12,2,19950429,       1501,   -20.0008,   106.6185,       5495,  2831.0,   1.7231,  34.7254,2,  34.7255,2,    168.6,2,   168.2,2,  125.10,2,   33.54,2,    0.00,2,    2.37,2,-999.000,9,-999.000,9,-999.000,9,  -999.0,9,  -999.0,9,-999.0000,9,   1.9300,3,   12.99,2, -999.00,9,  -999.0,9,  -999.0,   8.231,3,   0.021,-999.000,9,   0.0030,   1.5173,-999.0000,    0.15
  316N145_8,        I03,     459,          1,         11,         11,2,19950429,       1501,   -20.0008,   106.6185,       5495,  3033.2,   1.5863,  34.7240,2,  34.7243,2,    175.9,2,   174.9,2,  124.82,2,   33.18,2,    0.00,2,    2.33,2,  -0.001,2,   0.001,2,-999.000,9,  -999.0,9,  -999.0,9,-999.0000,9,   1.8950,2,   13.19,2, -999.00,9,  -999.0,9,  -999.0,   8.098,2,   0.015,-999.000,9,   0.0050,   1.3641,-999.0000,    0.15
  316N145_8,        I03,     459,          1,         10,         10,2,19950429,       1501,   -20.0008,   106.6185,       5495,  3291.2,   1.4423,  34.7213,2,  34.7214,2,    180.0,2,   179.9,2,  126.75,2,   33.13,2,    0.00,2,    2.32,2,-999.000,9,-999.000,9,-999.000,9,  -999.0,9,  -999.0,9,-999.0000,9,   1.8970,2,   12.04,2, -999.00,9,  -999.0,9,  -999.0,   8.190,2,   0.021,-999.000,9,   0.0030,   1.1984,-999.0000,    0.15
  316N145_8,        I03,     459,          1,          9,          9,2,19950429,       1501,   -20.0008,   106.6185,       5495,  3547.0,   1.3210,  34.7182,2,  34.7181,2,    184.2,2,   183.5,2,  128.47,2,   32.93,2,    0.00,2,    2.30,2,  -0.007,2,   0.002,2,-999.000,9,  -999.0,9,  -999.0,9,-999.0000,9,   1.9030,2,   12.06,2, -999.00,9,  -999.0,9,  -999.0,   8.145,2,   0.019,-999.000,9,   0.0050,   1.0544,-999.0000,    0.17
  316N145_8,        I03,     459,          1,          8,          8,2,19950429,       1501,   -20.0008,   106.6185,       5495,  3802.0,   1.2561,  34.7155,2,  34.7157,2,    186.2,2,   186.8,2,  129.53,2,   32.93,2,    0.00,2,    2.30,2,-999.000,9,-999.000,9,-999.000,9,  -999.0,9,  -999.0,9,-999.0000,9,   1.9280,3,   11.98,2, -999.00,9,  -999.0,9,  -999.0,   8.265,2,   0.021,-999.000,9,   0.0020,   0.9649,-999.0000,    0.15
  316N145_8,        I03,     459,          1,          7,          7,2,19950429,       1501,   -20.0008,   106.6185,       5495,  4056.1,   1.2128,  34.7155,2,  34.7153,2,    188.9,2,   189.6,2,  129.24,2,   32.78,2,    0.00,2,    2.28,2,-999.000,9,-999.000,9,-999.000,9,  -999.0,9,  -999.0,9,-999.0000,9,   1.9330,3,   11.76,2, -999.00,9,  -999.0,9,  -999.0,   8.262,2,   0.015,-999.000,9,   0.0050,   0.8958,-999.0000,    0.15
  316N145_8,        I03,     459,          1,          6,          6,2,19950429,       1501,   -20.0008,   106.6185,       5495,  4312.2,   1.1918,  34.7139,2,  34.7136,2,    190.6,2,   191.5,2,  129.18,2,   32.74,2,    0.00,2,    2.28,2,-999.000,9,-999.000,9,-999.000,9,  -999.0,9,  -999.0,9,-999.0000,9,   1.9000,2,   11.92,2, -999.00,9,  -999.0,9,  -999.0,   8.192,2,   0.021,-999.000,9,   0.0030,   0.8473,-999.0000,    0.15
  316N145_8,        I03,     459,          1,          5,          5,2,19950429,       1501,   -20.0008,   106.6185,       5495,  4564.8,   1.1818,  34.7136,2,  34.7122,2,    194.7,2,   193.7,2,  128.67,2,   32.64,2,    0.00,2,    2.27,2,  -0.005,2,   0.000,2,-999.000,9,  -999.0,9,  -999.0,9,-999.0000,9,   1.9600,3,   10.02,3, -999.00,9,  -999.0,9,  -999.0,   8.411,3,   0.020,-999.000,9,   0.0020,   0.8091,-999.0000,    0.17
  316N145_8,        I03,     459,          1,          4,          4,2,19950429,       1501,   -20.0008,   106.6185,       5495,  4820.0,   1.1769,  34.7132,2,  34.7138,2,    196.1,2,   195.5,2,  127.94,2,   32.49,2,    0.00,2,    2.25,2,-999.000,9,-999.000,9,-999.000,9,  -999.0,9,  -999.0,9,-999.0000,9,   1.8750,2,   11.17,2, -999.00,9,  -999.0,9,  -999.0,   8.096,2,   0.021,-999.000,9,   0.0020,   0.7748,-999.0000,    0.15
  316N145_8,        I03,     459,          1,          3,          3,2,19950429,       1501,   -20.0008,   106.6185,       5495,  5077.7,   1.1769,  34.7128,2,  34.7113,2,    198.2,2,   198.0,2,  127.00,2,   32.39,2,    0.00,2,    2.24,2,-999.000,9,-999.000,9,-999.000,9,  -999.0,9,  -999.0,9,-999.0000,9,   1.8920,2,   10.91,2, -999.00,9,  -999.0,9,  -999.0,   8.179,2,   0.018,-999.000,9,   0.0030,   0.7440,-999.0000,    0.14
  316N145_8,        I03,     459,          1,          2,          2,2,19950429,       1501,   -20.0008,   106.6185,       5495,  5335.9,   1.1759,  34.7117,2,  34.7109,2,    200.4,2,   200.0,2,  126.49,2,   32.34,2,    0.00,2,    2.23,2,-999.000,9,-999.000,9,-999.000,9,  -999.0,9,  -999.0,9,-999.0000,9,-999.0000,9, -999.00,9, -999.00,9,  -999.0,9,  -999.0,-999.000,9,-999.000,-999.000,9,-999.0000,   0.7115,-999.0000,-999.000
  316N145_8,        I03,     459,          1,          1,          1,2,19950429,       1501,   -20.0008,   106.6185,       5495,  5620.1,   1.1592,  34.7098,2,  34.7107,2,    201.6,2,   202.8,2,  125.10,2,   32.14,2,    0.00,2,    2.22,2,   0.001,2,   0.002,2,-999.000,9,  -999.0,9,  -999.0,9,-999.0000,9,   1.9240,2,   10.07,2, -999.00,9,  -999.0,9,  -999.0,   8.280,2,   0.021,-999.000,9,   0.0030,   0.6597,-999.0000,    0.15