BOTTLE,20140514CCHSIOSE
EXPOCODE,SECT_ID,STNNBR,CASTNO,SAMPNO,BTLNBR,BTLNBR_FLAG_W,DATE,TIME,LATITUDE,LONGITUDE,DEPTH,CTDPRS,CTDTMP,CTDSAL,CTDSAL_FLAG_W,SALNTY,SALNTY_FLAG_W,CTDOXY,CTDOXY_FLAG_W,OXYGEN,OXYGEN_FLAG_W,SILCAT,SILCAT_FLAG_W,NITRAT,NITRAT_FLAG_W,NITRIT,NITRIT_FLAG_W,PHSPHT,PHSPHT_FLAG_W,CFC-11,CFC-11_FLAG_W,CFC-12,CFC-12_FLAG_W,CFC113,CFC113_FLAG_W,TCARBN,TCARBN_FLAG_W,ALKALI,ALKALI_FLAG_W,TRITUM,TRITUM_FLAG_W,HELIUM,HELIUM_FLAG_W,DELHE3,DELHE3_FLAG_W,DELC13,DELC13_FLAG_W,DELC14,DELC14_FLAG_W,C14ERR,NEON,NEON_FLAG_W,NEONER,CCL4,CCL4_FLAG_W,HELIER,THETA,TRITER,DELHER
,,,,,,,,,,,METERS,DBAR,ITS-90,PSS-78,,PSS-78,,UMOL/KG,,UMOL/KG,,UMOL/KG,,UMOL/KG,,UMOL/KG,,UMOL/KG,,PMOL/KG,,PMOL/KG,,PMOL/KG,,UMOL/KG,,UMOL/KG,,TU,,NMOL/KG,,PERCNT,,/MILLE,,/MILLE,,/MILLE,NMOL/KG,,NMOL/KG,PMOL/KG,,NMOL/KG,DEG C,TU,PERCNT
  316N145_8,        I03,     509,          1,         34,         34,2,19950517,       1658,   -20.0005,    73.2013,       4600,     6.3,  24.9796,  35.0745,2,  35.0739,2,    208.7,2,   209.0,2,    2.75,2,    0.00,2,    0.00,2,    0.11,2,-999.000,9,-999.000,9,-999.000,9,  1951.3,6,  2297.9,6,-999.0000,9,-999.0000,9, -999.00,9, -999.00,9,  -999.0,9,  -999.0,-999.000,9,-999.000,-999.000,9,-999.0000,  24.9782,-999.0000,-999.000
  316N145_8,        I03,     509,          1,         33,         33,2,19950517,       1658,   -20.0005,    73.2013,       4600,    56.0,  24.9761,  35.0883,2,  35.0892,2,    196.5,2,   209.4,2,    2.74,2,    0.00,2,    0.00,2,    0.11,2,-999.000,9,-999.000,9,-999.000,9,  -999.0,9,  -999.0,9,-999.0000,9,-999.0000,9, -999.00,9, -999.00,9,  -999.0,9,  -999.0,-999.000,9,-999.000,-999.000,9,-999.0000,  24.9640,-999.0000,-999.000
  316N145_8,        I03,     509,          1,         32,         32,2,19950517,       1658,   -20.0005,    73.2013,       4600,   103.9,  21.0381,  35.6277,2,  35.6271,2,    212.1,2,   217.7,2,    2.95,2,    0.00,2,    0.00,2,    0.14,2,-999.000,9,-999.000,9,-999.000,9,  -999.0,9,  -999.0,9,-999.0000,9,-999.0000,9, -999.00,9, -999.00,9,  -999.0,9,  -999.0,-999.000,9,-999.000,-999.000,9,-999.0000,  21.0182,-999.0000,-999.000
  316N145_8,        I03,     509,          1,         31,         31,2,19950517,       1658,   -20.0005,    73.2013,       4600,   153.8,  19.2721,  35.7618,2,  35.7592,2,    202.9,2,   207.0,2,    2.94,2,    1.15,2,    0.05,2,    0.24,2,-999.000,9,-999.000,9,-999.000,9,  -999.0,9,  -999.0,9,-999.0000,9,-999.0000,9, -999.00,9, -999.00,9,  -999.0,9,  -999.0,-999.000,9,-999.000,-999.000,9,-999.0000,  19.2443,-999.0000,-999.000
  316N145_8,        I03,     509,          1,         30,         30,2,19950517,       1658,   -20.0005,    73.2013,       4600,   205.1,  17.6792,  35.7716,2,  35.7795,2,    207.4,2,   206.6,2,    2.93,2,    1.96,2,    0.01,2,    0.31,2,-999.000,9,-999.000,9,-999.000,9,  -999.0,9,  -999.0,9,-999.0000,9,-999.0000,9, -999.00,9, -999.00,9,  -999.0,9,  -999.0,-999.000,9,-999.000,-999.000,9,-999.0000,  17.6442,-999.0000,-999.000
  316N145_8,        I03,     509,          1,         29,         29,2,19950517,       1658,   -20.0005,    73.2013,       4600,   255.5,  15.6723,  35.5976,2,  35.6013,2,    207.3,2,   209.4,2,    3.35,2,    3.97,2,    0.01,2,    0.45,2,-999.000,9,-999.000,9,-999.000,9,  -999.0,9,  -999.0,9,-999.0000,9,-999.0000,9, -999.00,9, -999.00,9,  -999.0,9,  -999.0,-999.000,9,-999.000,-999.000,9,-999.0000,  15.6322,-999.0000,-999.000
  316N145_8,        I03,     509,          1,         28,         28,2,19950517,       1658,   -20.0005,    73.2013,       4600,   305.1,  14.0621,  35.3935,2,  35.4124,2,    219.0,2,   220.9,2,    2.91,2,    5.41,2,    0.01,2,    0.53,2,-999.000,9,-999.000,9,-999.000,9,  -999.0,9,  -999.0,9,-999.0000,9,-999.0000,9, -999.00,9, -999.00,9,  -999.0,9,  -999.0,-999.000,9,-999.000,-999.000,9,-999.0000,  14.0176,-999.0000,-999.000
  316N145_8,        I03,     509,          1,         27,         27,2,19950517,       1658,   -20.0005,    73.2013,       4600,   356.2,  12.6547,  35.1936,2,  35.1909,2,    229.4,2,   230.2,2,    3.33,2,    8.29,2,    0.01,2,    0.69,2,-999.000,9,-999.000,9,-999.000,9,  -999.0,9,  -999.0,9,-999.0000,9,-999.0000,9, -999.00,9, -999.00,9,  -999.0,9,  -999.0,-999.000,9,-999.000,-999.000,9,-999.0000,  12.6062,-999.0000,-999.000
  316N145_8,        I03,     509,          1,         26,         26,2,19950517,       1658,   -20.0005,    73.2013,       4600,   406.0,  11.9435,  35.0788,2,  35.0768,2,    233.9,2,   234.1,2,    3.75,2,    9.92,2,    0.01,2,    0.79,2,-999.000,9,-999.000,9,-999.000,9,  -999.0,9,  -999.0,9,-999.0000,9,-999.0000,9, -999.00,9, -999.00,9,  -999.0,9,  -999.0,-999.000,9,-999.000,-999.000,9,-999.0000,  11.8902,-999.0000,-999.000
  316N145_8,        I03,     509,          1,         25,         25,2,19950517,       1658,   -20.0005,    73.2013,       4600,   505.0,  10.8610,  34.9223,2,  34.9240,2,    237.6,2,   237.1,2,    3.96,2,   11.88,2,    0.01,2,    0.90,2,-999.000,9,-999.000,9,-999.000,9,  -999.0,9,  -999.0,9,-999.0000,9,-999.0000,9, -999.00,9, -999.00,9,  -999.0,9,  -999.0,-999.000,9,-999.000,-999.000,9,-999.0000,  10.7984,-999.0000,-999.000
  316N145_8,        I03,     509,          1,         24,         24,2,19950517,       1658,   -20.0005,    73.2013,       4600,   605.6,   9.3712,  34.7039,2,  34.7106,2,    228.9,2,   228.1,2,    6.12,2,   16.54,2,    0.01,2,    1.19,2,-999.000,9,-999.000,9,-999.000,9,  -999.0,9,  -999.0,9,-999.0000,9,-999.0000,9, -999.00,9, -999.00,9,  -999.0,9,  -999.0,-999.000,9,-999.000,-999.000,9,-999.0000,   9.3025,-999.0000,-999.000
  316N145_8,        I03,     509,          1,         23,         23,2,19950517,       1658,   -20.0005,    73.2013,       4600,   707.8,   7.9400,  34.5711,2,  34.5724,2,    206.1,2,   201.6,2,   14.98,2,   22.64,2,    0.01,2,    1.58,2,-999.000,9,-999.000,9,-999.000,9,  -999.0,9,  -999.0,9,-999.0000,9,-999.0000,9, -999.00,9, -999.00,9,  -999.0,9,  -999.0,-999.000,9,-999.000,-999.000,9,-999.0000,   7.8668,-999.0000,-999.000
  316N145_8,        I03,     509,          1,         22,         22,2,19950517,       1658,   -20.0005,    73.2013,       4600,   807.5,   6.4328,  34.5137,2,  34.5154,2,    170.0,2,   166.5,2,   35.10,2,   29.06,2,    0.01,2,    2.05,2,-999.000,9,-999.000,9,-999.000,9,  -999.0,9,  -999.0,9,-999.0000,9,-999.0000,9, -999.00,9, -999.00,9,  -999.0,9,  -999.0,-999.000,9,-999.000,-999.000,9,-999.0000,   6.3578,-999.0000,-999.000
  316N145_8,        I03,     509,          1,         21,         21,2,19950517,       1658,   -20.0005,    73.2013,       4600,   909.6,   5.2528,  34.5278,2,  34.5269,2,    137.6,2,   139.7,2,   58.47,2,   33.24,2,    0.01,2,    2.38,2,-999.000,9,-999.000,9,-999.000,9,  -999.0,9,  -999.0,9,-999.0000,9,-999.0000,9, -999.00,9, -999.00,9,  -999.0,9,  -999.0,-999.000,9,-999.000,-999.000,9,-999.0000,   5.1758,-999.0000,-999.000
  316N145_8,        I03,     509,          1,         20,         20,2,19950517,       1658,   -20.0005,    73.2013,       4600,  1009.1,   4.5344,  34.5521,2,  34.5524,2,    135.4,2,   133.2,2,   71.47,2,   34.71,2,    0.01,2,    2.50,2,-999.000,9,-999.000,9,-999.000,9,  -999.0,9,  -999.0,9,-999.0000,9,-999.0000,9, -999.00,9, -999.00,9,  -999.0,9,  -999.0,-999.000,9,-999.000,-999.000,9,-999.0000,   4.4538,-999.0000,-999.000
  316N145_8,        I03,     509,          1,         19,         19,2,19950517,       1658,   -20.0005,    73.2013,       4600,  1106.3,   4.2633,  34.6025,2,  34.6034,2,    123.9,2,   125.5,2,   82.32,2,   35.34,2,    0.01,2,    2.56,2,-999.000,9,-999.000,9,-999.000,9,  -999.0,9,  -999.0,9,-999.0000,9,-999.0000,9, -999.00,9, -999.00,9,  -999.0,9,  -999.0,-999.000,9,-999.000,-999.000,9,-999.0000,   4.1763,-999.0000,-999.000
  316N145_8,        I03,     509,          1,         18,         18,2,19950517,       1658,   -20.0005,    73.2013,       4600,  1205.0,   4.1396,  34.6610,2,  34.6591,2,    119.2,2,   118.5,2,   91.01,2,   35.57,2,    0.01,2,    2.59,2,-999.000,9,-999.000,9,-999.000,9,  -999.0,9,  -999.0,9,-999.0000,9,-999.0000,9, -999.00,9, -999.00,9,  -999.0,9,  -999.0,-999.000,9,-999.000,-999.000,9,-999.0000,   4.0450,-999.0000,-999.000
  316N145_8,        I03,     509,          1,         17,         17,2,19950517,       1658,   -20.0005,    73.2013,       4600,  1400.6,   3.7139,  34.6960,2,  34.6954,2,    122.1,2,   123.5,2,   98.43,2,   35.27,2,    0.01,2,    2.56,2,-999.000,9,-999.000,9,-999.000,9,  -999.0,9,  -999.0,9,-999.0000,9,-999.0000,9, -999.00,9, -999.00,9,  -999.0,9,  -999.0,-999.000,9,-999.000,-999.000,9,-999.0000,   3.6063,-999.0000,-999.000
  316N145_8,        I03,     509,          1,         16,         16,2,19950517,       1658,   -20.0005,    73.2013,       4600,  1604.4,   3.2722,  34.7142,2,  34.7135,2,    132.7,2,   130.6,2,  104.55,2,   35.12,2,    0.01,2,    2.54,2,-999.000,9,-999.000,9,-999.000,9,  -999.0,9,  -999.0,9,-999.0000,9,-999.0000,9, -999.00,9, -999.00,9,  -999.0,9,  -999.0,-999.000,9,-999.000,-999.000,9,-999.0000,   3.1518,-999.0000,-999.000
  316N145_8,        I03,     509,          1,         15,         15,2,19950517,       1658,   -20.0005,    73.2013,       4600,  1810.3,   2.7822,  34.7220,2,  34.7210,2,    143.3,2,   144.4,2,  108.27,2,   34.47,2,    0.01,2,    2.47,2,-999.000,9,-999.000,9,-999.000,9,  -999.0,9,  -999.0,9,-999.0000,9,-999.0000,9, -999.00,9, -999.00,9,  -999.0,9,  -999.0,-999.000,9,-999.000,-999.000,9,-999.0000,   2.6503,-999.0000,-999.000
  316N145_8,        I03,     509,          1,         14,         14,2,19950517,       1658,   -20.0005,    73.2013,       4600,  2016.2,   2.4073,  34.7217,2,  34.7215,2,    156.7,2,   157.1,2,  110.22,2,   33.83,2,    0.01,2,    2.41,2,-999.000,9,-999.000,9,-999.000,9,  -999.0,9,  -999.0,9,-999.0000,9,-999.0000,9, -999.00,9, -999.00,9,  -999.0,9,  -999.0,-999.000,9,-999.000,-999.000,9,-999.0000,   2.2630,-999.0000,-999.000
  316N145_8,        I03,     509,          1,         13,         13,2,19950517,       1658,   -20.0005,    73.2013,       4600,  2216.7,   2.1255,  34.7253,2,  34.7251,2,    165.2,2,   165.3,2,  112.62,2,   33.38,2,    0.00,2,    2.37,2,-999.000,9,-999.000,9,-999.000,9,  -999.0,9,  -999.0,9,-999.0000,9,-999.0000,9, -999.00,9, -999.00,9,  -999.0,9,  -999.0,-999.000,9,-999.000,-999.000,9,-999.0000,   1.9681,-999.0000,-999.000
  316N145_8,        I03,     509,          1,         12,         12,2,19950517,       1658,   -20.0005,    73.2013,       4600,  2424.2,   1.9393,  34.7242,2,  34.7247,2,    172.6,2,   174.4,2,  111.91,2,   32.89,2,    0.00,2,    2.32,2,-999.000,9,-999.000,9,-999.000,9,  -999.0,9,  -999.0,9,-999.0000,9,-999.0000,9, -999.00,9, -999.00,9,  -999.0,9,  -999.0,-999.000,9,-999.000,-999.000,9,-999.0000,   1.7667,-999.0000,-999.000
  316N145_8,        I03,     509,          1,         11,         11,2,19950517,       1658,   -20.0005,    73.2013,       4600,  2626.3,   1.7742,  34.7257,2,  34.7257,2,    181.4,3,   181.5,2,  111.64,2,   32.44,2,    0.00,2,    2.27,2,-999.000,9,-999.000,9,-999.000,9,  -999.0,9,  -999.0,9,-999.0000,9,-999.0000,9, -999.00,9, -999.00,9,  -999.0,9,  -999.0,-999.000,9,-999.000,-999.000,9,-999.0000,   1.5863,-999.0000,-999.000
  316N145_8,        I03,     509,          1,         10,         10,2,19950517,       1658,   -20.0005,    73.2013,       4600,  2827.4,   1.6633,  34.7269,2,  34.7263,2,    185.2,3,   184.2,2,  114.71,2,   32.44,2,    0.00,2,    2.26,2,-999.000,9,-999.000,9,-999.000,9,  -999.0,9,  -999.0,9,-999.0000,9,-999.0000,9, -999.00,9, -999.00,9,  -999.0,9,  -999.0,-999.000,9,-999.000,-999.000,9,-999.0000,   1.4591,-999.0000,-999.000
  316N145_8,        I03,     509,          1,          9,          9,2,19950517,       1658,   -20.0005,    73.2013,       4600,  3028.2,   1.5522,  34.7257,2,  34.7255,2,    183.9,3,   184.6,2,  119.12,2,   32.53,2,    0.00,2,    2.27,2,-999.000,9,-999.000,9,-999.000,9,  -999.0,9,  -999.0,9,-999.0000,9,-999.0000,9, -999.00,9, -999.00,9,  -999.0,9,  -999.0,-999.000,9,-999.000,-999.000,9,-999.0000,   1.3313,-999.0000,-999.000
  316N145_8,        I03,     509,          1,          8,          8,2,19950517,       1658,   -20.0005,    73.2013,       4600,  3233.7,   1.4636,  34.7253,2,  34.7245,2,    187.0,3,   186.4,2,  121.09,2,   32.57,2,    0.00,2,    2.27,2,-999.000,9,-999.000,9,-999.000,9,  -999.0,9,  -999.0,9,-999.0000,9,-999.0000,9, -999.00,9, -999.00,9,  -999.0,9,  -999.0,-999.000,9,-999.000,-999.000,9,-999.0000,   1.2248,-999.0000,-999.000
  316N145_8,        I03,     509,          1,          7,          7,2,19950517,       1658,   -20.0005,    73.2013,       4600,  3438.2,   1.4270,  34.7241,2,  34.7239,2,    185.1,3,   186.6,2,  123.73,2,   32.71,2,    0.00,2,    2.29,2,-999.000,9,-999.000,9,-999.000,9,  -999.0,9,  -999.0,9,-999.0000,9,-999.0000,9, -999.00,9, -999.00,9,  -999.0,9,  -999.0,-999.000,9,-999.000,-999.000,9,-999.0000,   1.1687,-999.0000,-999.000
  316N145_8,        I03,     509,          1,          6,          6,2,19950517,       1658,   -20.0005,    73.2013,       4600,  3644.4,   1.4095,  34.7223,2,  34.7219,2,    183.8,3,   185.2,2,  126.61,2,   32.95,2,    0.00,2,    2.29,2,-999.000,9,-999.000,9,-999.000,9,  -999.0,9,  -999.0,9,-999.0000,9,-999.0000,9, -999.00,9, -999.00,9,  -999.0,9,  -999.0,-999.000,9,-999.000,-999.000,9,-999.0000,   1.1306,-999.0000,-999.000
  316N145_8,        I03,     509,          1,          5,          5,2,19950517,       1658,   -20.0005,    73.2013,       4600,  3848.7,   1.4036,  34.7212,2,  34.7198,2,    183.7,3,   184.1,2,  128.59,2,   33.09,2,    0.00,2,    2.30,2,-999.000,9,-999.000,9,-999.000,9,  -999.0,9,  -999.0,9,-999.0000,9,-999.0000,9, -999.00,9, -999.00,9,  -999.0,9,  -999.0,-999.000,9,-999.000,-999.000,9,-999.0000,   1.1035,-999.0000,-999.000
  316N145_8,        I03,     509,          1,          4,          4,2,19950517,       1658,   -20.0005,    73.2013,       4600,  4052.3,   1.4150,  34.7203,2,  34.7204,2,    183.3,3,   183.8,2,  129.44,2,   33.13,2,    0.00,2,    2.31,2,-999.000,9,-999.000,9,-999.000,9,  -999.0,9,  -999.0,9,-999.0000,9,-999.0000,9, -999.00,9, -999.00,9,  -999.0,9,  -999.0,-999.000,9,-999.000,-999.000,9,-999.0000,   1.0926,-999.0000,-999.000
  316N145_8,        I03,     509,          1,          3,          3,2,19950517,       1658,   -20.0005,    73.2013,       4600,  4256.9,   1.4246,  34.7199,2,  34.7192,2,    183.8,3,   183.6,2,  130.53,2,   33.22,2,    0.00,2,    2.32,2,-999.000,9,-999.000,9,-999.000,9,  -999.0,9,  -999.0,9,-999.0000,9,-999.0000,9, -999.00,9, -999.00,9,  -999.0,9,  -999.0,-999.000,9,-999.000,-999.000,9,-999.0000,   1.0793,-999.0000,-999.000
  316N145_8,        I03,     509,          1,          2,          2,2,19950517,       1658,   -20.0005,    73.2013,       4600,  4463.1,   1.4389,  34.7193,2,  34.7194,2,    183.6,3,   183.5,2,  131.38,2,   33.31,2,    0.00,2,    2.31,2,-999.000,9,-999.000,9,-999.000,9,  -999.0,9,  -999.0,9,-999.0000,9,-999.0000,9, -999.00,9, -999.00,9,  -999.0,9,  -999.0,-999.000,9,-999.000,-999.000,9,-999.0000,   1.0699,-999.0000,-999.000
  316N145_8,        I03,     509,          1,          1,          1,2,19950517,       1658,   -20.0005,    73.2013,       4600,  4692.9,   1.4636,  34.7192,2,  34.7190,2,    183.5,3,   182.8,2,  131.33,2,   33.35,2,    0.00,2,    2.32,2,-999.000,9,-999.000,9,-999.000,9,  -999.0,9,  -999.0,9,-999.0000,9,-999.0000,9, -999.00,9, -999.00,9,  -999.0,9,  -999.0,-999.000,9,-999.000,-999.000,9,-999.0000,   1.0671,-999.0000,-999.000