BOTTLE,20140514CCHSIOSE
EXPOCODE,SECT_ID,STNNBR,CASTNO,SAMPNO,BTLNBR,BTLNBR_FLAG_W,DATE,TIME,LATITUDE,LONGITUDE,DEPTH,CTDPRS,CTDTMP,CTDSAL,CTDSAL_FLAG_W,SALNTY,SALNTY_FLAG_W,CTDOXY,CTDOXY_FLAG_W,OXYGEN,OXYGEN_FLAG_W,SILCAT,SILCAT_FLAG_W,NITRAT,NITRAT_FLAG_W,NITRIT,NITRIT_FLAG_W,PHSPHT,PHSPHT_FLAG_W,CFC-11,CFC-11_FLAG_W,CFC-12,CFC-12_FLAG_W,CFC113,CFC113_FLAG_W,TCARBN,TCARBN_FLAG_W,ALKALI,ALKALI_FLAG_W,TRITUM,TRITUM_FLAG_W,HELIUM,HELIUM_FLAG_W,DELHE3,DELHE3_FLAG_W,DELC13,DELC13_FLAG_W,DELC14,DELC14_FLAG_W,C14ERR,NEON,NEON_FLAG_W,NEONER,CCL4,CCL4_FLAG_W,HELIER,THETA,TRITER,DELHER
,,,,,,,,,,,METERS,DBAR,ITS-90,PSS-78,,PSS-78,,UMOL/KG,,UMOL/KG,,UMOL/KG,,UMOL/KG,,UMOL/KG,,UMOL/KG,,PMOL/KG,,PMOL/KG,,PMOL/KG,,UMOL/KG,,UMOL/KG,,TU,,NMOL/KG,,PERCNT,,/MILLE,,/MILLE,,/MILLE,NMOL/KG,,NMOL/KG,PMOL/KG,,NMOL/KG,DEG C,TU,PERCNT
  316N145_8,        I03,     453,          1,         36,         36,2,19950427,       1952,   -21.3498,   110.7347,       5027,     6.9,  27.6360,  35.3843,2,  35.3839,2,    198.9,2,   200.1,2,    3.99,2,    0.20,2,    0.00,2,    0.07,2,-999.000,9,-999.000,9,-999.000,9,  1960.0,6,  2318.3,6,-999.0000,9,-999.0000,9, -999.00,9, -999.00,9,  -999.0,9,  -999.0,-999.000,9,-999.000,-999.000,9,-999.0000,  27.6344,-999.0000,-999.000
  316N145_8,        I03,     453,          1,         35,         35,2,19950427,       1952,   -21.3498,   110.7347,       5027,    56.5,  25.9538,  35.5920,2,  35.5312,2,    227.9,2,   222.1,2,    3.11,2,    0.22,2,    0.00,2,    0.06,2,-999.000,9,-999.000,9,-999.000,9,  -999.0,9,  -999.0,9,-999.0000,9,-999.0000,9, -999.00,9, -999.00,9,  -999.0,9,  -999.0,-999.000,9,-999.000,-999.000,9,-999.0000,  25.9412,-999.0000,-999.000
  316N145_8,        I03,     453,          1,         34,         34,2,19950427,       1952,   -21.3498,   110.7347,       5027,   106.7,  21.4258,  35.4119,2,  35.4122,2,    180.0,2,   174.4,2,    6.40,2,    3.49,2,    0.05,2,    0.36,2,-999.000,9,-999.000,9,-999.000,9,  -999.0,9,  -999.0,9,-999.0000,9,-999.0000,9, -999.00,9, -999.00,9,  -999.0,9,  -999.0,-999.000,9,-999.000,-999.000,9,-999.0000,  21.4051,-999.0000,-999.000
  316N145_8,        I03,     453,          1,         33,         33,2,19950427,       1952,   -21.3498,   110.7347,       5027,   156.5,  19.3747,  35.7084,2,  35.6971,2,    185.7,2,   184.1,2,    6.14,2,    4.25,2,    0.01,2,    0.38,2,-999.000,9,-999.000,9,-999.000,9,  -999.0,9,  -999.0,9,-999.0000,9,-999.0000,9, -999.00,9, -999.00,9,  -999.0,9,  -999.0,-999.000,9,-999.000,-999.000,9,-999.0000,  19.3463,-999.0000,-999.000
  316N145_8,        I03,     453,          1,         32,         32,2,19950427,       1952,   -21.3498,   110.7347,       5027,   206.9,  17.2862,  35.7812,2,  35.7677,2,    200.2,2,   201.2,2,    4.42,2,    3.82,2,    0.01,2,    0.37,2,-999.000,9,-999.000,9,-999.000,9,  -999.0,9,  -999.0,9,-999.0000,9,-999.0000,9, -999.00,9, -999.00,9,  -999.0,9,  -999.0,-999.000,9,-999.000,-999.000,9,-999.0000,  17.2515,-999.0000,-999.000
  316N145_8,        I03,     453,          1,         31,         31,2,19950427,       1952,   -21.3498,   110.7347,       5027,   256.8,  15.5524,  35.6455,2,  35.6451,2,    212.5,2,   214.7,2,    3.11,2,    4.00,2,    0.01,2,    0.40,2,-999.000,9,-999.000,9,-999.000,9,  -999.0,9,  -999.0,9,-999.0000,9,-999.0000,9, -999.00,9, -999.00,9,  -999.0,9,  -999.0,-999.000,9,-999.000,-999.000,9,-999.0000,  15.5122,-999.0000,-999.000
  316N145_8,        I03,     453,          1,         30,         30,2,19950427,       1952,   -21.3498,   110.7347,       5027,   308.2,  13.5886,  35.3784,2,  35.3748,2,    224.4,2,   225.3,2,    2.85,2,    6.20,2,    0.00,2,    0.53,2,-999.000,9,-999.000,9,-999.000,9,  -999.0,9,  -999.0,9,-999.0000,9,-999.0000,9, -999.00,9, -999.00,9,  -999.0,9,  -999.0,-999.000,9,-999.000,-999.000,9,-999.0000,  13.5447,-999.0000,-999.000
  316N145_8,        I03,     453,          1,         29,         29,2,19950427,       1952,   -21.3498,   110.7347,       5027,   357.0,  12.1310,  35.1460,2,  35.1401,2,    231.6,2,   231.5,2,    3.01,2,    8.90,2,    0.00,2,    0.70,2,-999.000,9,-999.000,9,-999.000,9,  -999.0,9,  -999.0,9,-999.0000,9,-999.0000,9, -999.00,9, -999.00,9,  -999.0,9,  -999.0,-999.000,9,-999.000,-999.000,9,-999.0000,  12.0837,-999.0000,-999.000
  316N145_8,        I03,     453,          1,         28,         28,2,19950427,       1952,   -21.3498,   110.7347,       5027,   407.6,  10.7302,  34.9146,2,  34.9131,2,    232.1,2,   237.0,2,    3.80,2,   12.02,2,    0.00,2,    0.88,2,-999.000,9,-999.000,9,-999.000,9,  -999.0,9,  -999.0,9,-999.0000,9,-999.0000,9, -999.00,9, -999.00,9,  -999.0,9,  -999.0,-999.000,9,-999.000,-999.000,9,-999.0000,  10.6803,-999.0000,-999.000
  316N145_8,        I03,     453,          1,         27,         27,2,19950427,       1952,   -21.3498,   110.7347,       5027,   508.6,   9.4059,  34.6970,2,  34.6948,2,    233.3,2,   236.4,2,    5.21,2,   16.41,2,    0.00,2,    1.14,2,-999.000,9,-999.000,9,-999.000,9,  -999.0,9,  -999.0,9,-999.0000,9,-999.0000,9, -999.00,9, -999.00,9,  -999.0,9,  -999.0,-999.000,9,-999.000,-999.000,9,-999.0000,   9.3484,-999.0000,-999.000
  316N145_8,        I03,     453,          1,         26,         26,2,19950427,       1952,   -21.3498,   110.7347,       5027,   608.3,   7.4303,  34.5280,2,  34.5288,2,    195.0,2,   193.3,2,   19.60,2,   25.00,2,    0.00,2,    1.70,2,-999.000,9,-999.000,9,-999.000,9,  -999.0,9,  -999.0,9,-999.0000,9,-999.0000,9, -999.00,9, -999.00,9,  -999.0,9,  -999.0,-999.000,9,-999.000,-999.000,9,-999.0000,   7.3701,-999.0000,-999.000
  316N145_8,        I03,     453,          1,         25,         25,2,19950427,       1952,   -21.3498,   110.7347,       5027,   710.0,   6.7219,  34.6117,2,  34.6095,2,    111.5,2,   110.9,2,   60.77,2,   32.80,2,    0.00,2,    2.33,2,-999.000,9,-999.000,9,-999.000,9,  -999.0,9,  -999.0,9,-999.0000,9,-999.0000,9, -999.00,9, -999.00,9,  -999.0,9,  -999.0,-999.000,9,-999.000,-999.000,9,-999.0000,   6.6548,-999.0000,-999.000
  316N145_8,        I03,     453,          1,         24,         24,2,19950427,       1952,   -21.3498,   110.7347,       5027,   810.0,   5.9748,  34.6187,2,  34.6175,2,     97.8,2,    97.4,2,   75.81,2,   34.96,2,    0.00,2,    2.54,2,-999.000,9,-999.000,9,-999.000,9,  -999.0,9,  -999.0,9,-999.0000,9,-999.0000,9, -999.00,9, -999.00,9,  -999.0,9,  -999.0,-999.000,9,-999.000,-999.000,9,-999.0000,   5.9023,-999.0000,-999.000
  316N145_8,        I03,     453,          1,         23,         23,2,19950427,       1952,   -21.3498,   110.7347,       5027,   910.4,   5.5337,  34.6322,2,  34.6326,2,     92.3,2,    90.9,2,   86.04,2,   36.05,2,    0.00,2,    2.62,2,-999.000,9,-999.000,9,-999.000,9,  -999.0,9,  -999.0,9,-999.0000,9,-999.0000,9, -999.00,9, -999.00,9,  -999.0,9,  -999.0,-999.000,9,-999.000,-999.000,9,-999.0000,   5.4545,-999.0000,-999.000
  316N145_8,        I03,     453,          1,         22,         22,2,19950427,       1952,   -21.3498,   110.7347,       5027,  1011.4,   5.1055,  34.6254,2,  34.6275,2,     93.7,2,    96.0,2,   89.77,2,   36.22,2,    0.00,2,    2.64,2,-999.000,9,-999.000,9,-999.000,9,  -999.0,9,  -999.0,9,-999.0000,9,-999.0000,9, -999.00,9, -999.00,9,  -999.0,9,  -999.0,-999.000,9,-999.000,-999.000,9,-999.0000,   5.0202,-999.0000,-999.000
  316N145_8,        I03,     453,          1,         21,         21,2,19950427,       1952,   -21.3498,   110.7347,       5027,  1111.2,   4.7218,  34.6277,2,  34.6275,2,    100.7,2,   101.7,2,   92.03,2,   36.24,2,    0.00,2,    2.64,2,-999.000,9,-999.000,9,-999.000,9,  -999.0,9,  -999.0,9,-999.0000,9,-999.0000,9, -999.00,9, -999.00,9,  -999.0,9,  -999.0,-999.000,9,-999.000,-999.000,9,-999.0000,   4.6304,-999.0000,-999.000
  316N145_8,        I03,     453,          1,         20,         20,2,19950427,       1952,   -21.3498,   110.7347,       5027,  1211.8,   4.3818,  34.6309,2,  34.6304,2,    106.6,2,   108.1,2,   93.86,2,   36.26,2,    0.00,2,    2.63,2,-999.000,9,-999.000,9,-999.000,9,  -999.0,9,  -999.0,9,-999.0000,9,-999.0000,9, -999.00,9, -999.00,9,  -999.0,9,  -999.0,-999.000,9,-999.000,-999.000,9,-999.0000,   4.2844,-999.0000,-999.000
  316N145_8,        I03,     453,          1,         19,         19,2,19950427,       1952,   -21.3498,   110.7347,       5027,  1414.4,   3.6982,  34.6328,2,  34.6323,2,    125.4,2,   125.1,2,   94.43,2,   35.77,2,    0.00,2,    2.57,2,-999.000,9,-999.000,9,-999.000,9,  -999.0,9,  -999.0,9,-999.0000,9,-999.0000,9, -999.00,9, -999.00,9,  -999.0,9,  -999.0,-999.000,9,-999.000,-999.000,9,-999.0000,   3.5897,-999.0000,-999.000
  316N145_8,        I03,     453,          1,         18,         18,2,19950427,       1952,   -21.3498,   110.7347,       5027,  1615.2,   3.1198,  34.6670,2,  34.6674,2,    133.8,2,   134.5,2,  101.97,2,   35.28,2,    0.00,2,    2.54,2,-999.000,9,-999.000,9,-999.000,9,  -999.0,9,  -999.0,9,-999.0000,9,-999.0000,9, -999.00,9, -999.00,9,  -999.0,9,  -999.0,-999.000,9,-999.000,-999.000,9,-999.0000,   3.0006,-999.0000,-999.000
  316N145_8,        I03,     453,          1,         17,         17,2,19950427,       1952,   -21.3498,   110.7347,       5027,  1817.9,   2.6760,  34.7014,2,  34.7008,2,    141.0,2,   141.3,2,  111.25,2,   34.94,2,    0.00,2,    2.50,2,-999.000,9,-999.000,9,-999.000,9,  -999.0,9,  -999.0,9,-999.0000,9,-999.0000,9, -999.00,9, -999.00,9,  -999.0,9,  -999.0,-999.000,9,-999.000,-999.000,9,-999.0000,   2.5450,-999.0000,-999.000
  316N145_8,        I03,     453,          1,         16,         16,2,19950427,       1952,   -21.3498,   110.7347,       5027,  2019.4,   2.3743,  34.7192,2,  34.7185,2,    147.0,2,   145.8,2,  120.15,2,   34.80,2,    0.00,2,    2.49,2,-999.000,9,-999.000,9,-999.000,9,  -999.0,9,  -999.0,9,-999.0000,9,-999.0000,9, -999.00,9, -999.00,9,  -999.0,9,  -999.0,-999.000,9,-999.000,-999.000,9,-999.0000,   2.2302,-999.0000,-999.000
  316N145_8,        I03,     453,          1,         15,         15,2,19950427,       1952,   -21.3498,   110.7347,       5027,  2222.7,   2.1758,  34.7241,2,  34.7222,2,    150.7,2,   150.9,2,  122.87,2,   34.62,2,    0.00,2,    2.47,2,-999.000,9,-999.000,9,-999.000,9,  -999.0,9,  -999.0,9,-999.0000,9,-999.0000,9, -999.00,9, -999.00,9,  -999.0,9,  -999.0,-999.000,9,-999.000,-999.000,9,-999.0000,   2.0170,-999.0000,-999.000
  316N145_8,        I03,     453,          1,         14,         14,2,19950427,       1952,   -21.3498,   110.7347,       5027,  2425.2,   2.0087,  34.7254,2,  34.7245,2,    155.5,2,   155.1,2,  126.03,2,   34.38,2,    0.00,2,    2.45,2,-999.000,9,-999.000,9,-999.000,9,  -999.0,9,  -999.0,9,-999.0000,9,-999.0000,9, -999.00,9, -999.00,9,  -999.0,9,  -999.0,-999.000,9,-999.000,-999.000,9,-999.0000,   1.8348,-999.0000,-999.000
  316N145_8,        I03,     453,          1,         13,         13,2,19950427,       1952,   -21.3498,   110.7347,       5027,  2628.4,   1.8639,  34.7253,2,  34.7253,2,    161.4,2,   161.6,2,  126.39,2,   34.15,2,    0.00,2,    2.42,2,-999.000,9,-999.000,9,-999.000,9,  -999.0,9,  -999.0,9,-999.0000,9,-999.0000,9, -999.00,9, -999.00,9,  -999.0,9,  -999.0,-999.000,9,-999.000,-999.000,9,-999.0000,   1.6741,-999.0000,-999.000
  316N145_8,        I03,     453,          1,         12,         12,2,19950427,       1952,   -21.3498,   110.7347,       5027,  2833.2,   1.7340,  34.7244,2,  34.7240,2,    168.3,2,   168.7,2,  125.24,2,   33.71,2,    0.00,2,    2.38,2,-999.000,9,-999.000,9,-999.000,9,  -999.0,9,  -999.0,9,-999.0000,9,-999.0000,9, -999.00,9, -999.00,9,  -999.0,9,  -999.0,-999.000,9,-999.000,-999.000,9,-999.0000,   1.5277,-999.0000,-999.000
  316N145_8,        I03,     453,          1,         11,         11,2,19950427,       1952,   -21.3498,   110.7347,       5027,  3036.3,   1.6129,  34.7232,2,  34.7232,2,    172.8,2,   173.4,2,  126.24,2,   33.42,2,    0.00,2,    2.36,2,-999.000,9,-999.000,9,-999.000,9,  -999.0,9,  -999.0,9,-999.0000,9,-999.0000,9, -999.00,9, -999.00,9,  -999.0,9,  -999.0,-999.000,9,-999.000,-999.000,9,-999.0000,   1.3899,-999.0000,-999.000
  316N145_8,        I03,     453,          1,         10,         10,2,19950427,       1952,   -21.3498,   110.7347,       5027,  3239.5,   1.4765,  34.7213,2,  34.7204,2,    177.6,2,   179.0,2,  127.25,2,   33.29,2,    0.00,2,    2.33,2,-999.000,9,-999.000,9,-999.000,9,  -999.0,9,  -999.0,9,-999.0000,9,-999.0000,9, -999.00,9, -999.00,9,  -999.0,9,  -999.0,-999.000,9,-999.000,-999.000,9,-999.0000,   1.2368,-999.0000,-999.000
  316N145_8,        I03,     453,          1,          9,          9,2,19950427,       1952,   -21.3498,   110.7347,       5027,  3443.0,   1.3604,  34.7190,2,  34.7175,2,    184.0,2,   183.1,2,  128.48,2,   33.16,2,    0.00,2,    2.33,2,-999.000,9,-999.000,9,-999.000,9,  -999.0,9,  -999.0,9,-999.0000,9,-999.0000,9, -999.00,9, -999.00,9,  -999.0,9,  -999.0,-999.000,9,-999.000,-999.000,9,-999.0000,   1.1033,-999.0000,-999.000
  316N145_8,        I03,     453,          1,          8,          8,2,19950427,       1952,   -21.3498,   110.7347,       5027,  3647.0,   1.2796,  34.7169,2,  34.7155,2,    186.0,2,   186.4,2,  129.48,2,   33.12,2,    0.00,2,    2.31,2,-999.000,9,-999.000,9,-999.000,9,  -999.0,9,  -999.0,9,-999.0000,9,-999.0000,9, -999.00,9, -999.00,9,  -999.0,9,  -999.0,-999.000,9,-999.000,-999.000,9,-999.0000,   1.0039,-999.0000,-999.000
  316N145_8,        I03,     453,          1,          7,          7,2,19950427,       1952,   -21.3498,   110.7347,       5027,  3850.4,   1.2329,  34.7156,2,  34.7149,2,    186.9,2,   188.0,2,  130.28,2,   32.99,2,    0.00,2,    2.31,2,-999.000,9,-999.000,9,-999.000,9,  -999.0,9,  -999.0,9,-999.0000,9,-999.0000,9, -999.00,9, -999.00,9,  -999.0,9,  -999.0,-999.000,9,-999.000,-999.000,9,-999.0000,   0.9373,-999.0000,-999.000
  316N145_8,        I03,     453,          1,          6,          6,2,19950427,       1952,   -21.3498,   110.7347,       5027,  4055.8,   1.2003,  34.7142,2,  34.7128,2,    190.4,2,   188.5,2,  131.07,2,   32.91,2,    0.00,2,    2.31,2,-999.000,9,-999.000,9,-999.000,9,  -999.0,9,  -999.0,9,-999.0000,9,-999.0000,9, -999.00,9, -999.00,9,  -999.0,9,  -999.0,-999.000,9,-999.000,-999.000,9,-999.0000,   0.8837,-999.0000,-999.000
  316N145_8,        I03,     453,          1,          5,          5,2,19950427,       1952,   -21.3498,   110.7347,       5027,  4260.4,   1.1857,  34.7134,2,  34.7114,2,    190.9,2,   190.8,2,  131.43,2,   32.98,2,    0.00,2,    2.30,2,-999.000,9,-999.000,9,-999.000,9,  -999.0,9,  -999.0,9,-999.0000,9,-999.0000,9, -999.00,9, -999.00,9,  -999.0,9,  -999.0,-999.000,9,-999.000,-999.000,9,-999.0000,   0.8471,-999.0000,-999.000
  316N145_8,        I03,     453,          1,          4,          4,2,19950427,       1952,   -21.3498,   110.7347,       5027,  4465.5,   1.1875,  34.7127,2,  34.7124,2,    190.8,2,   191.6,2,  131.36,2,   32.95,2,    0.00,2,    2.30,2,-999.000,9,-999.000,9,-999.000,9,  -999.0,9,  -999.0,9,-999.0000,9,-999.0000,9, -999.00,9, -999.00,9,  -999.0,9,  -999.0,-999.000,9,-999.000,-999.000,9,-999.0000,   0.8259,-999.0000,-999.000
  316N145_8,        I03,     453,          1,          3,          3,2,19950427,       1952,   -21.3498,   110.7347,       5027,  4669.7,   1.1950,  34.7122,2,  34.7116,2,    192.1,2,   192.1,2,  131.50,2,   32.96,2,    0.00,2,    2.30,2,-999.000,9,-999.000,9,-999.000,9,  -999.0,9,  -999.0,9,-999.0000,9,-999.0000,9, -999.00,9, -999.00,9,  -999.0,9,  -999.0,-999.000,9,-999.000,-999.000,9,-999.0000,   0.8098,-999.0000,-999.000
  316N145_8,        I03,     453,          1,          2,          2,2,19950427,       1952,   -21.3498,   110.7347,       5027,  4875.0,   1.2082,  34.7124,2,  34.7112,2,    192.1,2,   192.6,2,  131.43,2,   32.98,2,    0.00,2,    2.30,2,-999.000,9,-999.000,9,-999.000,9,  -999.0,9,  -999.0,9,-999.0000,9,-999.0000,9, -999.00,9, -999.00,9,  -999.0,9,  -999.0,-999.000,9,-999.000,-999.000,9,-999.0000,   0.7986,-999.0000,-999.000
  316N145_8,        I03,     453,          1,          1,          1,2,19950427,       1952,   -21.3498,   110.7347,       5027,  5135.1,   1.2274,  34.7120,2,  34.7109,2,    193.0,2,   193.1,2,  131.58,2,   33.00,2,    0.00,2,    2.30,2,-999.000,9,-999.000,9,-999.000,9,  -999.0,9,  -999.0,9,-999.0000,9,-999.0000,9, -999.00,9, -999.00,9,  -999.0,9,  -999.0,-999.000,9,-999.000,-999.000,9,-999.0000,   0.7859,-999.0000,-999.000