BOTTLE,20140514CCHSIOSE
EXPOCODE,SECT_ID,STNNBR,CASTNO,SAMPNO,BTLNBR,BTLNBR_FLAG_W,DATE,TIME,LATITUDE,LONGITUDE,DEPTH,CTDPRS,CTDTMP,CTDSAL,CTDSAL_FLAG_W,SALNTY,SALNTY_FLAG_W,CTDOXY,CTDOXY_FLAG_W,OXYGEN,OXYGEN_FLAG_W,SILCAT,SILCAT_FLAG_W,NITRAT,NITRAT_FLAG_W,NITRIT,NITRIT_FLAG_W,PHSPHT,PHSPHT_FLAG_W,CFC-11,CFC-11_FLAG_W,CFC-12,CFC-12_FLAG_W,CFC113,CFC113_FLAG_W,TCARBN,TCARBN_FLAG_W,ALKALI,ALKALI_FLAG_W,TRITUM,TRITUM_FLAG_W,HELIUM,HELIUM_FLAG_W,DELHE3,DELHE3_FLAG_W,DELC13,DELC13_FLAG_W,DELC14,DELC14_FLAG_W,C14ERR,NEON,NEON_FLAG_W,NEONER,CCL4,CCL4_FLAG_W,HELIER,THETA,TRITER,DELHER
,,,,,,,,,,,METERS,DBAR,ITS-90,PSS-78,,PSS-78,,UMOL/KG,,UMOL/KG,,UMOL/KG,,UMOL/KG,,UMOL/KG,,UMOL/KG,,PMOL/KG,,PMOL/KG,,PMOL/KG,,UMOL/KG,,UMOL/KG,,TU,,NMOL/KG,,PERCNT,,/MILLE,,/MILLE,,/MILLE,NMOL/KG,,NMOL/KG,PMOL/KG,,NMOL/KG,DEG C,TU,PERCNT
  316N145_8,        I03,     557,          1,         36,         36,2,19950601,       0107,   -19.9998,    50.0673,       4332,     7.0,  26.2338,  35.0997,2,  35.0977,2,    203.7,2,   204.7,2,    2.39,2,    0.13,2,    0.00,2,    0.13,2,   1.803,2,   1.024,2,-999.000,9,  1948.0,2,  2293.0,2,   1.0954,2,   1.7096,2,   -1.57,2,    1.26,2,    71.2,2,     4.2,   6.713,2,   0.034,-999.000,9,   0.0085,  26.2322,   0.0040,    0.14
  316N145_8,        I03,     557,          1,         35,         35,2,19950601,       0107,   -19.9998,    50.0673,       4332,    56.3,  26.2534,  35.1021,2,  35.0992,2,    205.0,2,   204.7,2,    2.38,2,    0.13,2,    0.00,2,    0.12,2,   1.796,2,   1.026,2,-999.000,9,  1949.0,2,  2293.0,2,   1.0799,2,   1.6987,2,   -1.26,2, -999.00,9,  -999.0,9,  -999.0,   6.689,2,   0.033,-999.000,9,   0.0085,  26.2407,   0.0039,    0.14
  316N145_8,        I03,     557,          1,         34,         34,2,19950601,       0107,   -19.9998,    50.0673,       4332,   106.1,  23.8617,  35.2168,2,  35.2182,2,    209.1,2,   211.4,2,    2.55,2,    0.13,2,    0.00,2,    0.15,2,   2.039,2,   1.141,2,   0.057,3,  1977.1,2,  2302.0,2,   1.0909,2,   1.7168,2,   -1.24,2,    1.16,2,    71.1,2,     4.0,   6.862,2,   0.034,   1.118,2,   0.0086,  23.8394,   0.0040,    0.14
  316N145_8,        I03,     557,          1,         33,         33,2,19950601,       0107,   -19.9998,    50.0673,       4332,   155.8,  22.4387,  35.3224,2,  35.3213,2,    196.9,2,   192.2,2,    2.92,2,    1.11,2,    0.06,2,    0.25,2,   2.074,2,   1.151,2,-999.000,9,  2005.8,2,  2309.0,2,   1.0784,2,   1.7197,2,   -0.93,2, -999.00,9,  -999.0,9,  -999.0,   6.930,2,   0.035,-999.000,9,   0.0086,  22.4074,   0.0039,    0.14
  316N145_8,        I03,     557,          1,         32,         32,2,19950601,       0107,   -19.9998,    50.0673,       4332,   205.9,  20.4311,  35.3505,2,  35.3455,2,    159.4,2,   159.8,2,    6.53,2,    6.65,2,    0.01,2,    0.56,2,   1.957,2,   1.084,2,   0.043,3,  2053.3,2,  2314.0,2,   1.0625,2,   1.7415,2,    0.85,2,    0.76,2,    68.2,2,     3.9,   7.052,2,   0.035,   0.362,2,   0.0087,  20.3923,   0.0039,    0.14
  316N145_8,        I03,     557,          1,         31,         31,2,19950601,       0107,   -19.9998,    50.0673,       4332,   256.7,  18.5691,  35.3899,2,  35.3945,2,    156.9,2,   151.6,2,    9.38,2,    9.34,2,    0.00,2,    0.74,2,   1.883,2,   1.018,2,-999.000,9,  2085.8,2,  2321.0,2,-999.0000,9,-999.0000,9, -999.00,9,    0.40,3,    68.5,2,     4.0,-999.000,9,-999.000,-999.000,9,-999.0000,  18.5239,-999.0000,-999.000
  316N145_8,        I03,     557,          1,         30,         30,2,19950601,       0107,   -19.9998,    50.0673,       4332,   306.8,  16.8333,  35.3979,2,  35.3972,2,    156.8,2,   154.5,2,   10.89,2,   10.52,2,    0.00,2,    0.82,2,   1.884,2,   0.999,2,   0.047,3,  2103.5,2,  2325.0,2,   0.9420,2,   1.7399,2,    2.63,2,    0.76,2,    65.6,2,     4.4,   7.161,2,   0.036,   0.302,2,   0.0087,  16.7827,   0.0038,    0.14
  316N145_8,        I03,     557,          1,         29,         29,2,19950601,       0107,   -19.9998,    50.0673,       4332,   355.6,  15.0880,  35.3356,2,  35.3323,2,    170.9,2,   167.6,2,   10.87,2,   11.23,2,    0.00,2,    0.88,2,   1.984,2,   1.033,2,-999.000,9,  2112.6,2,  2327.0,2,-999.0000,9,-999.0000,9, -999.00,9, -999.00,9,  -999.0,9,  -999.0,-999.000,9,-999.000,-999.000,9,-999.0000,  15.0335,-999.0000,-999.000
  316N145_8,        I03,     557,          1,         28,         28,2,19950601,       0107,   -19.9998,    50.0673,       4332,   405.5,  13.1973,  35.1872,2,  35.1875,2,    184.9,2,   185.4,2,   11.24,2,   16.79,2,    0.00,2,    1.21,2,   2.117,2,   1.085,2,   0.002,3,  2117.3,2,  2318.0,2,   0.7157,2,   1.7542,2,    2.23,2,    1.01,2,    52.7,2,     3.8,   7.331,2,   0.037,   0.516,2,   0.0088,  13.1404,   0.0034,    0.14
  316N145_8,        I03,     557,          1,         27,         27,2,19950601,       0107,   -19.9998,    50.0673,       4332,   455.3,  10.3684,  34.8564,2,  34.8662,2,    195.1,2,   199.6,2,   11.23,2,   16.80,2,    0.00,2,    1.21,2,   1.911,2,   0.963,2,-999.000,9,  2128.0,2,  2304.0,2,-999.0000,9,-999.0000,9, -999.00,9, -999.00,9,  -999.0,9,  -999.0,-999.000,9,-999.000,-999.000,9,-999.0000,  10.3138,-999.0000,-999.000
  316N145_8,        I03,     557,          1,         26,         26,2,19950601,       0107,   -19.9998,    50.0673,       4332,   506.9,   9.0877,  34.7118,2,  34.7138,2,    196.1,2,   198.8,2,   13.89,2,   20.01,2,    0.00,2,    1.42,2,   1.513,2,   0.759,2,  -0.011,3,  2139.7,2,  2300.0,2,-999.0000,9,-999.0000,9, -999.00,9,    1.12,2,    14.3,2,     4.2,-999.000,9,-999.000,   0.851,2,-999.0000,   9.0315,-999.0000,-999.000
  316N145_8,        I03,     557,          1,         25,         25,2,19950601,       0107,   -19.9998,    50.0673,       4332,   607.0,   7.5151,  34.6067,2,  34.6071,2,    175.3,2,   173.8,2,   28.16,2,   25.88,2,    0.00,2,    1.82,2,   0.689,2,   0.350,2,-999.000,9,  2175.5,2,  2306.0,2,   0.1712,2,   1.7865,2,    3.72,2,    0.87,2,   -36.5,2,     3.5,   7.657,2,   0.038,-999.000,9,   0.0089,   7.4545,   0.0025,    0.14
  316N145_8,        I03,     557,          1,         24,         24,2,19950601,       0107,   -19.9998,    50.0673,       4332,   707.4,   6.1617,  34.5299,2,  34.5320,2,    166.4,2,   167.8,2,   38.62,2,   29.32,2,    0.00,2,    2.06,2,   0.341,2,   0.174,2,   0.008,3,  2195.0,2,  2315.0,2,-999.0000,9,-999.0000,9, -999.00,9,    0.82,2,   -82.9,2,     3.3,-999.000,9,-999.000,   0.544,2,-999.0000,   6.0979,-999.0000,-999.000
  316N145_8,        I03,     557,          1,         23,         23,2,19950601,       0107,   -19.9998,    50.0673,       4332,   807.8,   5.4027,  34.5556,2,  34.5549,2,    146.4,2,   147.7,2,   54.81,2,   32.20,2,    0.00,2,    2.28,2,   0.149,2,   0.072,2,-999.000,9,  2225.7,2,  2330.0,2,   0.0354,2,   1.8000,2,    6.85,2,    0.63,2,  -113.3,2,     3.4,   7.833,2,   0.039,-999.000,9,   0.0090,   5.3340,   0.0022,    0.14
  316N145_8,        I03,     557,          1,         22,         22,2,19950601,       0107,   -19.9998,    50.0673,       4332,   906.4,   5.0231,  34.6219,2,  34.6218,2,    135.2,2,   129.8,2,   69.52,2,   33.84,2,    0.00,2,    2.42,2,   0.057,2,   0.023,2,   0.005,3,  2250.0,2,  2353.0,3,-999.0000,9,-999.0000,9, -999.00,9,    0.46,2,  -139.3,2,     3.2,-999.000,9,-999.000,   0.168,2,-999.0000,   4.9479,-999.0000,-999.000
  316N145_8,        I03,     557,          1,         21,         21,2,19950601,       0107,   -19.9998,    50.0673,       4332,  1007.6,   4.4327,  34.6345,2,  34.6337,2,    132.5,2,   132.4,2,   77.18,2,   34.28,2,    0.00,2,    2.46,2,   0.029,2,   0.012,2,-999.000,9,  2258.3,2,  2343.0,2,-999.0000,9,   1.8524,2,    9.47,2,    0.40,2,  -160.2,2,     3.3,   7.958,2,   0.040,-999.000,9,   0.0093,   4.3528,-999.0000,    0.14
  316N145_8,        I03,     557,          1,         20,         20,2,19950601,       0107,   -19.9998,    50.0673,       4332,  1107.9,   4.0612,  34.6427,2,  34.6408,2,    132.1,2,   135.7,2,   81.02,2,   34.43,2,    0.00,2,    2.47,2,   0.017,2,   0.006,2,   0.010,3,  2262.6,2,  2356.0,2,-999.0000,9,-999.0000,9, -999.00,9,    0.38,2,  -166.9,2,     2.8,-999.000,9,-999.000,   0.087,2,-999.0000,   3.9757,-999.0000,-999.000
  316N145_8,        I03,     557,          1,         19,         19,2,19950601,       0107,   -19.9998,    50.0673,       4332,  1210.0,   3.5186,  34.6259,2,  34.6265,2,    145.8,2,   148.2,2,   81.38,2,   34.04,2,    0.00,2,    2.43,2,   0.015,2,   0.005,2,-999.000,9,  2258.7,2,  2354.0,2,-999.0000,9,   1.8630,2,    9.63,2,    0.40,2,  -160.4,2,     3.3,   8.044,2,   0.040,-999.000,9,   0.0093,   3.4294,-999.0000,    0.14
  316N145_8,        I03,     557,          1,         18,         18,2,19950601,       0107,   -19.9998,    50.0673,       4332,  1311.5,   3.3263,  34.6438,2,  34.6408,2,    146.7,2,   151.5,2,   84.25,2,   33.90,2,    0.00,2,    2.41,2,   0.012,2,   0.006,2,-999.000,9,  2259.5,2,  2357.0,2,-999.0000,9,-999.0000,9, -999.00,9,    0.57,3,  -161.1,2,     3.4,-999.000,9,-999.000,   0.085,2,-999.0000,   3.2305,-999.0000,-999.000
  316N145_8,        I03,     557,          1,         17,         17,2,19950601,       0107,   -19.9998,    50.0673,       4332,  1412.3,   3.1554,  34.6524,2,  34.6514,2,    151.1,2,   154.0,2,   86.55,2,   33.76,2,    0.00,2,    2.39,2,   0.010,2,   0.002,2,-999.000,9,  2261.3,2,  2358.0,2,   0.0029,2,   1.8516,2,   10.53,2,    0.41,2,  -169.1,2,     3.0,   7.962,2,   0.040,-999.000,9,   0.0093,   3.0530,   0.0022,    0.14
  316N145_8,        I03,     557,          1,         16,         16,2,19950601,       0107,   -19.9998,    50.0673,       4332,  1513.1,   2.9405,  34.6676,2,  34.6669,2,    156.8,2,   158.2,2,   89.24,2,   33.52,2,    0.00,2,    2.38,2,   0.008,2,  -0.003,3,   0.002,3,  2263.2,2,  2362.0,2,-999.0000,9,-999.0000,9, -999.00,9,    0.39,2,  -166.1,2,     2.7,-999.000,9,-999.000,   0.061,2,-999.0000,   2.8320,-999.0000,-999.000
  316N145_8,        I03,     557,          1,         15,         15,2,19950601,       0107,   -19.9998,    50.0673,       4332,  1615.0,   2.7622,  34.6846,2,  34.6834,2,    160.0,2,   160.6,2,   93.30,2,   33.33,2,    0.00,2,    2.36,2,-999.000,9,-999.000,9,-999.000,9,  -999.0,5,  -999.0,5,   0.0014,2,   1.8637,2,   10.77,2,    0.38,2,  -166.6,2,     2.5,   8.085,2,   0.040,-999.000,9,   0.0093,   2.6473,   0.0022,    0.14
  316N145_8,        I03,     557,          1,         14,         14,2,19950601,       0107,   -19.9998,    50.0673,       4332,  1818.0,   2.5991,  34.7063,2,  34.7051,2,    159.8,2,   159.6,2,  100.32,2,   33.48,2,    0.00,2,    2.37,2,-999.000,9,-999.000,9,-999.000,9,  2265.2,2,  2376.0,2,  -0.0008,2,   1.8549,2,   11.56,2,    0.35,2,  -167.8,2,     3.1,   8.092,2,   0.040,   0.028,2,   0.0093,   2.4691,   0.0022,    0.14
  316N145_8,        I03,     557,          1,         13,         13,2,19950601,       0107,   -19.9998,    50.0673,       4332,  2019.7,   2.4374,  34.7240,2,  34.7232,2,    158.1,2,   158.1,2,  108.39,2,   33.58,2,    0.00,2,    2.40,2,   0.002,2,  -0.003,3,-999.000,9,  2273.5,2,  2383.0,2,   0.0029,2,   1.8668,2,   12.21,2,    0.34,2,  -171.8,2,     2.7,   8.031,2,   0.040,-999.000,9,   0.0093,   2.2923,   0.0022,    0.14
  316N145_8,        I03,     557,          1,         12,         12,2,19950601,       0107,   -19.9998,    50.0673,       4332,  2221.9,   2.2878,  34.7330,2,  34.7328,2,    161.6,2,   158.1,2,  114.36,2,   33.82,2,    0.00,2,    2.42,2,-999.000,9,-999.000,9,  -0.002,3,  2282.0,2,  2391.0,2,-999.0000,9,   1.8770,2,   12.67,2,    0.21,2,  -174.1,2,     2.5,   8.055,2,   0.033,   0.008,2,   0.0040,   2.1272,-999.0000,    0.16
  316N145_8,        I03,     557,          1,         11,         11,2,19950601,       0107,   -19.9998,    50.0673,       4332,  2424.1,   2.1587,  34.7386,2,  34.7383,2,    157.7,2,   157.3,2,  119.98,2,   34.07,2,    0.00,2,    2.42,2,-999.000,9,-999.000,9,-999.000,9,  2289.1,2,  2396.0,2,-999.0000,9,   1.8820,2,   13.30,2,    0.24,2,  -184.7,2,     3.5,   8.052,2,   0.023,-999.000,9,   0.0070,   1.9820,-999.0000,    0.14
  316N145_8,        I03,     557,          1,         10,         10,2,19950601,       0107,   -19.9998,    50.0673,       4332,  2626.9,   2.0679,  34.7395,2,  34.7400,2,    157.6,2,   157.7,2,  123.41,2,   34.17,2,    0.00,2,    2.44,2,  -0.002,2,  -0.006,3,   0.001,3,  2294.9,2,  2403.0,2,-999.0000,9,   1.8800,2,   13.53,2,    0.23,2,  -184.9,2,     3.4,   8.145,2,   0.040,   0.006,2,   0.0040,   1.8742,-999.0000,    0.16
  316N145_8,        I03,     557,          1,          9,          9,2,19950601,       0107,   -19.9998,    50.0673,       4332,  2829.7,   1.9626,  34.7395,2,  34.7389,2,    159.7,2,   159.3,2,  126.25,2,   34.22,2,    0.00,2,    2.44,2,-999.000,9,-999.000,9,-999.000,9,  2297.7,2,  2401.0,2,-999.0000,9,   1.8890,2,   13.19,2,    0.24,2,  -182.9,2,     3.2,   8.126,2,   0.023,-999.000,9,   0.0030,   1.7518,-999.0000,    0.14
  316N145_8,        I03,     557,          1,          8,          8,2,19950601,       0107,   -19.9998,    50.0673,       4332,  3032.7,   1.8701,  34.7377,2,  34.7375,2,    161.5,2,   162.0,2,  127.66,2,   34.13,2,    0.00,2,    2.42,2,   0.003,2,  -0.003,3,   0.018,3,  2299.0,6,  2403.0,6,-999.0000,9,   1.8920,2,   13.35,2,    0.26,2,  -188.6,2,     3.5,   8.131,2,   0.023,   0.005,2,   0.0030,   1.6417,-999.0000,    0.14
  316N145_8,        I03,     557,          1,          7,          7,2,19950601,       0107,   -19.9998,    50.0673,       4332,  3238.1,   1.7671,  34.7344,2,  34.7345,2,    165.5,2,   165.6,2,  128.87,2,   33.99,2,    0.00,2,    2.41,2,-999.000,9,-999.000,9,-999.000,9,  2299.6,2,  2402.0,2,-999.0000,9,   1.8090,3,   12.93,2,    0.25,2,  -177.9,2,     2.5,   7.771,4,   0.056,-999.000,9,   0.0040,   1.5206,-999.0000,    0.16
  316N145_8,        I03,     557,          1,          6,          6,2,19950601,       0107,   -19.9998,    50.0673,       4332,  3439.5,   1.6559,  34.7314,2,  34.7306,2,    170.7,2,   170.6,2,  129.04,2,   33.85,2,    0.00,2,    2.39,2,-999.000,9,-999.000,9,   0.001,3,  2297.5,2,  2402.0,2,-999.0000,9,   1.8870,2,   12.56,2,    0.24,2,  -165.9,3,     2.7,   8.121,2,   0.038,   0.012,2,   0.0040,   1.3918,-999.0000,    0.16
  316N145_8,        I03,     557,          1,          5,          5,2,19950601,       0107,   -19.9998,    50.0673,       4332,  3643.8,   1.4836,  34.7254,2,  34.7245,2,    177.9,2,   179.7,2,  128.18,2,   33.42,2,    0.00,2,    2.35,2,  -0.003,3,  -0.005,3,-999.000,9,  2289.0,2,  2394.0,2,-999.0000,9,   1.8900,2,   11.60,2,    0.32,2,  -174.3,2,     3.4,   8.138,2,   0.024,-999.000,9,   0.0030,   1.2028,-999.0000,    0.14
  316N145_8,        I03,     557,          1,          4,          4,2,19950601,       0107,   -19.9998,    50.0673,       4332,  3846.1,   1.2826,  34.7188,2,  34.7184,2,    189.5,2,   190.7,2,  126.09,2,   32.79,2,    0.00,2,    2.31,2,   0.003,2,   0.001,3,   0.017,3,  2276.6,2,  2386.0,2,-999.0000,9,   1.8890,2,    9.89,2,    0.42,2,  -173.5,2,     3.3,   8.221,2,   0.035,   0.027,2,   0.0080,   0.9860,-999.0000,    0.16
  316N145_8,        I03,     557,          1,          3,          3,2,19950601,       0107,   -19.9998,    50.0673,       4332,  4049.5,   1.0985,  34.7128,2,  34.7114,2,    199.5,2,   200.4,2,  124.21,2,   32.41,2,    0.00,2,    2.27,2,   0.002,2,  -0.004,3,-999.000,9,  2268.4,2,  2375.0,2,-999.0000,9,   1.8880,2,    9.12,2,    0.40,2,  -167.6,2,     2.5,   8.173,2,   0.024,-999.000,9,   0.0030,   0.7855,-999.0000,    0.14
  316N145_8,        I03,     557,          1,          2,          2,2,19950601,       0107,   -19.9998,    50.0673,       4332,  4255.0,   1.0275,  34.7088,2,  34.7082,2,    203.8,2,   204.3,2,  124.38,2,   32.27,2,    0.00,2,    2.25,2,   0.005,2,  -0.002,3,   0.003,3,  2266.3,2,  2374.0,2,   0.0004,2,   1.8700,2,    8.58,2,    0.44,2,  -166.2,2,     3.1,   8.206,2,   0.033,   0.068,2,   0.0130,   0.6944,   0.0022,    0.17
  316N145_8,        I03,     557,          1,          1,          1,2,19950601,       0107,   -19.9998,    50.0673,       4332,  4406.0,   0.9894,  34.7071,2,  34.7072,2,    206.2,2,   205.8,2,  124.96,2,   32.22,2,    0.00,2,    2.25,2,   0.003,2,   0.002,2,   0.020,3,  2264.1,2,  2372.0,2,  -0.0001,2,   1.8830,2,    8.65,2,    0.43,2,  -168.5,2,     4.5,   8.174,2,   0.024,   0.070,2,   0.0030,   0.6407,   0.0022,    0.14