BOTTLE,20140514CCHSIOSE
EXPOCODE,SECT_ID,STNNBR,CASTNO,SAMPNO,BTLNBR,BTLNBR_FLAG_W,DATE,TIME,LATITUDE,LONGITUDE,DEPTH,CTDPRS,CTDTMP,CTDSAL,CTDSAL_FLAG_W,SALNTY,SALNTY_FLAG_W,CTDOXY,CTDOXY_FLAG_W,OXYGEN,OXYGEN_FLAG_W,SILCAT,SILCAT_FLAG_W,NITRAT,NITRAT_FLAG_W,NITRIT,NITRIT_FLAG_W,PHSPHT,PHSPHT_FLAG_W,CFC-11,CFC-11_FLAG_W,CFC-12,CFC-12_FLAG_W,CFC113,CFC113_FLAG_W,TCARBN,TCARBN_FLAG_W,ALKALI,ALKALI_FLAG_W,TRITUM,TRITUM_FLAG_W,HELIUM,HELIUM_FLAG_W,DELHE3,DELHE3_FLAG_W,DELC13,DELC13_FLAG_W,DELC14,DELC14_FLAG_W,C14ERR,NEON,NEON_FLAG_W,NEONER,CCL4,CCL4_FLAG_W,HELIER,THETA,TRITER,DELHER
,,,,,,,,,,,METERS,DBAR,ITS-90,PSS-78,,PSS-78,,UMOL/KG,,UMOL/KG,,UMOL/KG,,UMOL/KG,,UMOL/KG,,UMOL/KG,,PMOL/KG,,PMOL/KG,,PMOL/KG,,UMOL/KG,,UMOL/KG,,TU,,NMOL/KG,,PERCNT,,/MILLE,,/MILLE,,/MILLE,NMOL/KG,,NMOL/KG,PMOL/KG,,NMOL/KG,DEG C,TU,PERCNT
  316N145_8,        I03,     554,          1,         36,         36,2,19950531,       0310,   -19.9997,    51.2995,       4875,     6.7,  24.8578,  35.3001,2,  35.2997,2,    207.8,2,   208.6,2,    2.34,2,    0.05,2,    0.00,2,    0.13,2,   1.915,2,   1.086,3,-999.000,9,  1962.7,6,  2309.8,6,   1.1117,2,   1.7735,2,   -1.66,2, -999.00,9,  -999.0,9,  -999.0,   7.093,2,   0.035,-999.000,9,   0.0089,  24.8563,   0.0040,    0.14
  316N145_8,        I03,     554,          1,         35,         35,2,19950531,       0310,   -19.9997,    51.2995,       4875,    56.1,  24.8736,  35.2995,2,  35.2983,2,    205.5,2,   208.5,2,    2.32,2,    0.06,2,    0.00,2,    0.12,2,-999.000,9,-999.000,9,-999.000,9,  -999.0,9,  -999.0,9,   1.0801,2,   1.7571,2,   -1.50,2, -999.00,9,  -999.0,9,  -999.0,   6.920,2,   0.035,-999.000,9,   0.0088,  24.8614,   0.0039,    0.14
  316N145_8,        I03,     554,          1,         34,         34,2,19950531,       0310,   -19.9997,    51.2995,       4875,   106.5,  23.2653,  35.2362,2,  35.2381,2,    213.6,2,   202.4,2,    2.87,2,    0.16,2,    0.04,2,    0.19,2,   2.034,2,   1.161,3,-999.000,9,  -999.0,9,  -999.0,9,   1.0864,2,   1.7598,2,   -1.08,2, -999.00,9,  -999.0,9,  -999.0,   7.044,2,   0.035,-999.000,9,   0.0088,  23.2434,   0.0039,    0.14
  316N145_8,        I03,     554,          1,         33,         33,2,19950531,       0310,   -19.9997,    51.2995,       4875,   156.4,  21.0225,  35.3983,2,  35.3971,2,    179.5,2,   176.0,2,    4.37,2,    3.91,2,    0.02,2,    0.40,2,-999.000,9,-999.000,9,-999.000,9,  -999.0,9,  -999.0,9,   1.1130,2,   1.7513,2,   -0.18,2, -999.00,9,  -999.0,9,  -999.0,   7.068,2,   0.035,-999.000,9,   0.0088,  20.9925,   0.0040,    0.14
  316N145_8,        I03,     554,          1,         32,         32,2,19950531,       0310,   -19.9997,    51.2995,       4875,   206.7,  18.6393,  35.5808,2,  35.5824,2,    185.2,2,   184.5,2,    4.73,2,    4.58,2,    0.01,2,    0.44,2,   2.237,2,   1.202,2,-999.000,9,  -999.0,9,  -999.0,9,   1.0493,2,   1.7727,2,    0.61,2, -999.00,9,  -999.0,9,  -999.0,   7.200,2,   0.036,-999.000,9,   0.0089,  18.6028,   0.0039,    0.14
  316N145_8,        I03,     554,          1,         31,         31,2,19950531,       0310,   -19.9997,    51.2995,       4875,   257.8,  16.7932,  35.5771,2,  35.5646,2,    195.5,2,   197.0,2,    4.53,2,    5.10,2,    0.00,2,    0.50,2,-999.000,9,-999.000,9,-999.000,9,  -999.0,9,  -999.0,9,   0.9581,2,-999.0000,9, -999.00,9, -999.00,9,  -999.0,9,  -999.0,-999.000,9,-999.000,-999.000,9,-999.0000,  16.7507,   0.0038,-999.000
  316N145_8,        I03,     554,          1,         30,         30,2,19950531,       0310,   -19.9997,    51.2995,       4875,   307.4,  14.9422,  35.4679,2,  35.4516,2,    209.1,2,   211.2,2,    3.75,2,    6.10,2,    0.00,2,    0.56,2,   2.647,2,   1.365,3,-999.000,9,  -999.0,9,  -999.0,9,   0.8582,2,   1.7610,2,    0.20,2, -999.00,9,  -999.0,9,  -999.0,   7.296,2,   0.036,-999.000,9,   0.0088,  14.8955,   0.0036,    0.14
  316N145_8,        I03,     554,          1,         29,         29,2,19950531,       0310,   -19.9997,    51.2995,       4875,   356.9,  13.4265,  35.2953,2,  35.2955,2,    219.2,2,   222.3,2,    3.55,2,    7.80,2,    0.00,2,    0.66,2,   2.775,2,   1.421,3,-999.000,9,  -999.0,9,  -999.0,9,-999.0000,9,-999.0000,9, -999.00,9, -999.00,9,  -999.0,9,  -999.0,-999.000,9,-999.000,-999.000,9,-999.0000,  13.3759,-999.0000,-999.000
  316N145_8,        I03,     554,          1,         28,         28,2,19950531,       0310,   -19.9997,    51.2995,       4875,   407.7,  12.5848,  35.1680,2,  35.1684,2,    222.2,2,   224.3,2,    4.10,2,    9.50,2,    0.00,2,    0.76,2,-999.000,9,-999.000,9,-999.000,9,  -999.0,9,  -999.0,9,   0.7216,2,   1.7698,2,    0.36,2, -999.00,9,  -999.0,9,  -999.0,   7.398,2,   0.037,-999.000,9,   0.0088,  12.5294,   0.0034,    0.14
  316N145_8,        I03,     554,          1,         27,         27,2,19950531,       0310,   -19.9997,    51.2995,       4875,   507.0,  11.0806,  34.9462,2,  34.9481,2,    226.1,2,   224.6,2,    5.03,2,   12.81,2,    0.00,2,    0.95,2,   2.464,2,   1.231,3,-999.000,9,  -999.0,9,  -999.0,9,   0.5910,2,   1.7792,2,    1.19,2, -999.00,9,  -999.0,9,  -999.0,   7.478,2,   0.037,-999.000,9,   0.0089,  11.0170,   0.0031,    0.14
  316N145_8,        I03,     554,          1,         26,         26,2,19950531,       0310,   -19.9997,    51.2995,       4875,   607.8,   9.8110,  34.7792,2,  34.7774,2,    218.5,2,   216.6,2,    8.04,2,   16.65,2,    0.00,2,    1.18,2,   1.987,2,   0.962,2,-999.000,9,  -999.0,9,  -999.0,9,   0.4451,2,   1.7734,2,    1.27,2, -999.00,9,  -999.0,9,  -999.0,   7.514,2,   0.038,-999.000,9,   0.0089,   9.7401,   0.0029,    0.14
  316N145_8,        I03,     554,          1,         25,         25,2,19950531,       0310,   -19.9997,    51.2995,       4875,   707.4,   8.3398,  34.6371,2,  34.6363,2,    204.9,2,   199.1,2,   15.95,2,   21.81,2,    0.00,2,    1.52,2,   1.178,2,   0.595,3,-999.000,9,  -999.0,9,  -999.0,9,   0.2718,2,   1.7771,2,    2.55,2, -999.00,9,  -999.0,9,  -999.0,   7.625,2,   0.038,-999.000,9,   0.0089,   8.2645,   0.0026,    0.14
  316N145_8,        I03,     554,          1,         24,         24,2,19950531,       0310,   -19.9997,    51.2995,       4875,   807.4,   6.8544,  34.5863,2,  34.5834,2,    168.3,2,   164.2,2,   35.38,2,   28.01,2,    0.00,2,    1.95,2,   0.451,2,   0.217,3,-999.000,9,  -999.0,9,  -999.0,9,-999.0000,9,-999.0000,9, -999.00,9, -999.00,9,  -999.0,9,  -999.0,-999.000,9,-999.000,-999.000,9,-999.0000,   6.7769,-999.0000,-999.000
  316N145_8,        I03,     554,          1,         23,         23,2,19950531,       0310,   -19.9997,    51.2995,       4875,   908.0,   5.9130,  34.5853,2,  34.5853,2,    144.5,2,   144.0,2,   51.61,2,   31.46,2,    0.00,2,    2.22,2,   0.169,2,   0.088,3,-999.000,9,  -999.0,9,  -999.0,9,   0.0487,2,   1.8155,2,    6.81,2, -999.00,9,  -999.0,9,  -999.0,   7.814,2,   0.039,-999.000,9,   0.0091,   5.8316,   0.0023,    0.14
  316N145_8,        I03,     554,          1,         22,         22,2,19950531,       0310,   -19.9997,    51.2995,       4875,  1009.6,   5.2181,  34.6181,2,  34.6161,2,    130.4,2,   129.6,2,   66.56,2,   33.59,2,    0.00,2,    2.38,2,   0.066,2,   0.029,3,-999.000,9,  -999.0,9,  -999.0,9,-999.0000,9,-999.0000,9, -999.00,9, -999.00,9,  -999.0,9,  -999.0,-999.000,9,-999.000,-999.000,9,-999.0000,   5.1320,-999.0000,-999.000
  316N145_8,        I03,     554,          1,         21,         21,2,19950531,       0310,   -19.9997,    51.2995,       4875,  1110.3,   4.8625,  34.6495,2,  34.6502,2,    122.8,2,   124.0,2,   75.10,2,   34.31,2,    0.00,2,    2.45,2,   0.030,2,   0.012,3,-999.000,9,  -999.0,9,  -999.0,9,   0.0117,2,   1.8416,2,   10.01,2, -999.00,9,  -999.0,9,  -999.0,   7.882,2,   0.039,-999.000,9,   0.0092,   4.7700,   0.0022,    0.14
  316N145_8,        I03,     554,          1,         20,         20,2,19950531,       0310,   -19.9997,    51.2995,       4875,  1210.7,   4.3366,  34.6466,2,  34.6492,2,    129.6,2,   129.5,2,   79.27,2,   34.41,2,    0.00,2,    2.45,2,   0.018,2,   0.008,3,-999.000,9,  -999.0,9,  -999.0,9,-999.0000,9,-999.0000,9, -999.00,9, -999.00,9,  -999.0,9,  -999.0,-999.000,9,-999.000,-999.000,9,-999.0000,   4.2397,-999.0000,-999.000
  316N145_8,        I03,     554,          1,         19,         19,2,19950531,       0310,   -19.9997,    51.2995,       4875,  1311.9,   3.9899,  34.6601,2,  34.6600,2,    135.1,2,   134.6,2,   83.27,2,   34.42,2,    0.00,2,    2.45,2,   0.017,2,   0.007,3,-999.000,9,  -999.0,9,  -999.0,9,   0.0067,2,   1.8658,2,   10.56,2, -999.00,9,  -999.0,9,  -999.0,   7.972,2,   0.040,-999.000,9,   0.0093,   3.8874,   0.0022,    0.14
  316N145_8,        I03,     554,          1,         18,         18,2,19950531,       0310,   -19.9997,    51.2995,       4875,  1514.4,   3.3102,  34.6599,2,  34.6594,2,    149.0,2,   149.1,2,   86.89,2,   33.93,2,    0.00,2,    2.41,2,   0.006,2,   0.001,3,-999.000,9,  -999.0,9,  -999.0,9,-999.0000,9,-999.0000,9, -999.00,9, -999.00,9,  -999.0,9,  -999.0,-999.000,9,-999.000,-999.000,9,-999.0000,   3.1974,-999.0000,-999.000
  316N145_8,        I03,     554,          1,         17,         17,2,19950531,       0310,   -19.9997,    51.2995,       4875,  1716.1,   2.7697,  34.6850,2,  34.6841,2,    161.2,2,   160.0,2,   93.03,2,   33.40,2,    0.01,2,    2.35,2,-999.000,9,-999.000,9,-999.000,9,  -999.0,9,  -999.0,9,   0.0030,2,   1.8750,2,   11.07,2, -999.00,9,  -999.0,9,  -999.0,   8.084,2,   0.040,-999.000,9,   0.0094,   2.6462,   0.0022,    0.14
  316N145_8,        I03,     554,          1,         16,         16,2,19950531,       0310,   -19.9997,    51.2995,       4875,  1917.9,   2.5300,  34.7090,2,  34.7091,2,    160.6,2,   161.8,2,  100.58,2,   33.31,2,    0.00,2,    2.35,2,  -0.002,2,  -0.010,3,-999.000,9,  -999.0,9,  -999.0,9,-999.0000,9,-999.0000,9, -999.00,9, -999.00,9,  -999.0,9,  -999.0,-999.000,9,-999.000,-999.000,9,-999.0000,   2.3924,-999.0000,-999.000
  316N145_8,        I03,     554,          1,         15,         15,2,19950531,       0310,   -19.9997,    51.2995,       4875,  2121.2,   2.3423,  34.7250,2,  34.7253,2,    160.8,2,   160.7,2,  108.80,2,   33.41,2,    0.00,2,    2.37,2,-999.000,9,-999.000,9,-999.000,9,  -999.0,9,  -999.0,9,   0.0024,2,   1.9027,2,   12.83,2, -999.00,9,  -999.0,9,  -999.0,   8.170,2,   0.041,-999.000,9,   0.0095,   2.1898,   0.0022,    0.14
  316N145_8,        I03,     554,          1,         14,         14,2,19950531,       0310,   -19.9997,    51.2995,       4875,  2323.5,   2.1902,  34.7342,2,  34.7336,2,    160.4,2,   160.0,2,  115.33,2,   33.75,2,    0.01,2,    2.39,2,  -0.002,2,  -0.004,3,-999.000,9,  -999.0,9,  -999.0,9,-999.0000,9,-999.0000,9, -999.00,9, -999.00,9,  -999.0,9,  -999.0,-999.000,9,-999.000,-999.000,9,-999.0000,   2.0221,-999.0000,-999.000
  316N145_8,        I03,     554,          1,         13,         13,2,19950531,       0310,   -19.9997,    51.2995,       4875,  2526.2,   2.0795,  34.7368,2,  34.7367,2,    161.5,2,   159.9,2,  119.91,2,   33.94,2,    0.01,2,    2.39,2,-999.000,9,-999.000,9,-999.000,9,  -999.0,9,  -999.0,9,-999.0000,9,-999.0000,9, -999.00,9, -999.00,9,  -999.0,9,  -999.0,-999.000,9,-999.000,-999.000,9,-999.0000,   1.8950,-999.0000,-999.000
  316N145_8,        I03,     554,          1,         12,         12,2,19950531,       0310,   -19.9997,    51.2995,       4875,  2728.3,   1.9888,  34.7379,2,  34.7379,2,    160.4,2,   160.0,2,  123.52,2,   33.95,2,    0.01,2,    2.41,2,   0.001,2,  -0.004,3,-999.000,9,  -999.0,9,  -999.0,9,-999.0000,9,-999.0000,9, -999.00,9, -999.00,9,  -999.0,9,  -999.0,-999.000,9,-999.000,-999.000,9,-999.0000,   1.7872,-999.0000,-999.000
  316N145_8,        I03,     554,          1,         11,         11,2,19950531,       0310,   -19.9997,    51.2995,       4875,  2931.6,   1.9216,  34.7387,2,  34.7383,2,    159.9,2,   160.5,2,  126.14,2,   34.10,2,    0.01,2,    2.41,2,-999.000,9,-999.000,9,-999.000,9,  -999.0,9,  -999.0,9,-999.0000,9,-999.0000,9, -999.00,9, -999.00,9,  -999.0,9,  -999.0,-999.000,9,-999.000,-999.000,9,-999.0000,   1.7019,-999.0000,-999.000
  316N145_8,        I03,     554,          1,         10,         10,2,19950531,       0310,   -19.9997,    51.2995,       4875,  3135.6,   1.8438,  34.7371,2,  34.7363,2,    162.5,2,   162.5,2,  127.95,2,   34.15,2,    0.00,2,    2.41,2,  -0.004,2,  -0.002,3,-999.000,9,  -999.0,9,  -999.0,9,-999.0000,9,-999.0000,9, -999.00,9, -999.00,9,  -999.0,9,  -999.0,-999.000,9,-999.000,-999.000,9,-999.0000,   1.6058,-999.0000,-999.000
  316N145_8,        I03,     554,          1,          9,          9,2,19950531,       0310,   -19.9997,    51.2995,       4875,  3337.3,   1.7825,  34.7346,2,  34.7339,2,    164.1,2,   164.8,2,  128.73,2,   34.05,2,    0.00,2,    2.40,2,-999.000,9,-999.000,9,-999.000,9,  -999.0,9,  -999.0,9,-999.0000,9,   1.8750,2,   12.99,2, -999.00,9,  -999.0,9,  -999.0,   8.043,2,   0.021,-999.000,9,   0.0030,   1.5256,-999.0000,    0.13
  316N145_8,        I03,     554,          1,          8,          8,2,19950531,       0310,   -19.9997,    51.2995,       4875,  3542.4,   1.6751,  34.7314,2,  34.7306,2,    169.4,2,   169.6,2,  128.90,2,   33.91,2,    0.00,2,    2.38,2,  -0.001,2,  -0.012,3,-999.000,9,  -999.0,9,  -999.0,9,-999.0000,9,   1.8920,2,   12.56,2, -999.00,9,  -999.0,9,  -999.0,   8.088,2,   0.059,-999.000,9,   0.0040,   1.3999,-999.0000,    0.16
  316N145_8,        I03,     554,          1,          7,          7,2,19950531,       0310,   -19.9997,    51.2995,       4875,  3742.9,   1.5475,  34.7269,2,  34.7265,2,    175.1,2,   176.3,2,  128.45,2,   33.53,2,    0.00,2,    2.35,2,   0.002,2,  -0.001,3,-999.000,9,  -999.0,9,  -999.0,9,-999.0000,9,   1.9490,3,   11.53,2, -999.00,9,  -999.0,9,  -999.0,   8.346,3,   0.024,-999.000,9,   0.0030,   1.2546,-999.0000,    0.14
  316N145_8,        I03,     554,          1,          6,          6,2,19950531,       0310,   -19.9997,    51.2995,       4875,  3951.2,   1.3512,  34.7206,2,  34.7192,2,    186.1,2,   188.0,2,  125.74,2,   32.95,2,    0.00,2,    2.30,2,   0.000,2,  -0.002,3,-999.000,9,  -999.0,9,  -999.0,9,-999.0000,9,   1.9010,2,   10.63,2, -999.00,9,  -999.0,9,  -999.0,   8.225,2,   0.046,-999.000,9,   0.0120,   1.0415,-999.0000,    0.16
  316N145_8,        I03,     554,          1,          5,          5,2,19950531,       0310,   -19.9997,    51.2995,       4875,  4154.0,   1.1431,  34.7137,2,  34.7125,2,    198.0,2,   199.0,2,  123.67,2,   32.42,2,    0.00,2,    2.25,2,   0.002,2,  -0.003,3,   0.005,3,  -999.0,9,  -999.0,9,-999.0000,9,   1.9040,2,    9.23,2, -999.00,9,  -999.0,9,  -999.0,   8.226,2,   0.059,   0.038,2,   0.0040,   0.8175,-999.0000,    0.16
  316N145_8,        I03,     554,          1,          4,          4,2,19950531,       0310,   -19.9997,    51.2995,       4875,  4358.1,   1.0487,  34.7097,2,  34.7090,2,    203.7,2,   203.3,2,  124.04,2,   32.28,2,    0.00,2,    2.24,2,   0.002,2,  -0.001,3,  -0.001,3,  -999.0,9,  -999.0,9,-999.0000,9,   1.9380,3,    8.72,2, -999.00,9,  -999.0,9,  -999.0,   8.383,3,   0.024,   0.054,2,   0.0030,   0.7035,-999.0000,    0.14
  316N145_8,        I03,     554,          1,          3,          3,2,19950531,       0310,   -19.9997,    51.2995,       4875,  4562.4,   1.0093,  34.7073,2,  34.7068,2,    205.7,2,   205.5,2,  124.20,2,   32.24,2,    0.00,2,    2.23,2,   0.005,3,   0.017,4,   0.000,3,  -999.0,9,  -999.0,9,-999.0000,9,   1.9030,2,    8.61,2, -999.00,9,  -999.0,9,  -999.0,   8.227,2,   0.060,   0.056,2,   0.0120,   0.6425,-999.0000,    0.16
  316N145_8,        I03,     554,          1,          2,          2,2,19950531,       0310,   -19.9997,    51.2995,       4875,  4768.5,   1.0012,  34.7065,2,  34.7057,2,    206.8,2,   206.5,2,  124.78,2,   32.24,2,    0.00,2,    2.23,2,   0.002,2,   0.001,3,   0.011,3,  -999.0,9,  -999.0,9,-999.0000,9,   1.8870,2,    8.68,2, -999.00,9,  -999.0,9,  -999.0,   8.239,2,   0.024,   0.072,2,   0.0030,   0.6109,-999.0000,    0.14
  316N145_8,        I03,     554,          1,          1,          1,2,19950531,       0310,   -19.9997,    51.2995,       4875,  4978.0,   1.0149,  34.7051,2,  34.7051,2,    207.2,2,   206.3,3,  125.35,2,   32.24,2,    0.00,2,    2.24,2,   0.007,2,   0.002,3,   0.005,3,  -999.0,9,  -999.0,9,-999.0000,9,   1.8970,2,    8.54,2, -999.00,9,  -999.0,9,  -999.0,   8.176,2,   0.021,   0.066,2,   0.0030,   0.5997,-999.0000,    0.14