BOTTLE,20140514CCHSIOSE
EXPOCODE,SECT_ID,STNNBR,CASTNO,SAMPNO,BTLNBR,BTLNBR_FLAG_W,DATE,TIME,LATITUDE,LONGITUDE,DEPTH,CTDPRS,CTDTMP,CTDSAL,CTDSAL_FLAG_W,SALNTY,SALNTY_FLAG_W,CTDOXY,CTDOXY_FLAG_W,OXYGEN,OXYGEN_FLAG_W,SILCAT,SILCAT_FLAG_W,NITRAT,NITRAT_FLAG_W,NITRIT,NITRIT_FLAG_W,PHSPHT,PHSPHT_FLAG_W,CFC-11,CFC-11_FLAG_W,CFC-12,CFC-12_FLAG_W,CFC113,CFC113_FLAG_W,TCARBN,TCARBN_FLAG_W,ALKALI,ALKALI_FLAG_W,TRITUM,TRITUM_FLAG_W,HELIUM,HELIUM_FLAG_W,DELHE3,DELHE3_FLAG_W,DELC13,DELC13_FLAG_W,DELC14,DELC14_FLAG_W,C14ERR,NEON,NEON_FLAG_W,NEONER,CCL4,CCL4_FLAG_W,HELIER,THETA,TRITER,DELHER
,,,,,,,,,,,METERS,DBAR,ITS-90,PSS-78,,PSS-78,,UMOL/KG,,UMOL/KG,,UMOL/KG,,UMOL/KG,,UMOL/KG,,UMOL/KG,,PMOL/KG,,PMOL/KG,,PMOL/KG,,UMOL/KG,,UMOL/KG,,TU,,NMOL/KG,,PERCNT,,/MILLE,,/MILLE,,/MILLE,NMOL/KG,,NMOL/KG,PMOL/KG,,NMOL/KG,DEG C,TU,PERCNT
  316N145_8,        I03,     445,          1,         11,         11,2,19950426,       1119,   -22.2152,   113.6955,        414,     8.1,  27.9061,  35.2765,2,  35.2753,2,    196.3,2,   198.7,2,    4.10,2,    0.11,2,    0.00,2,    0.11,2,-999.000,9,-999.000,9,-999.000,9,  1961.7,6,  2306.5,6,-999.0000,9,-999.0000,9, -999.00,9, -999.00,9,  -999.0,9,  -999.0,-999.000,9,-999.000,-999.000,9,-999.0000,  27.9042,-999.0000,-999.000
  316N145_8,        I03,     445,          1,         10,         10,2,19950426,       1119,   -22.2152,   113.6955,        414,    33.5,  27.3860,  35.2341,2,  35.2346,2,    203.5,2,   198.8,2,    4.32,2,    0.11,2,    0.00,2,    0.13,2,-999.000,9,-999.000,9,-999.000,9,  1964.2,2,  2306.0,2,   1.1792,2,   1.6909,2,   -1.31,2, -999.00,9,  -999.0,9,  -999.0,   6.554,2,   0.033,-999.000,9,   0.0085,  27.3783,   0.0044,    0.14
  316N145_8,        I03,     445,          1,          9,          9,2,19950426,       1119,   -22.2152,   113.6955,        414,    63.4,  26.1610,  35.1995,2,  35.1946,2,    190.2,2,   181.7,2,    6.26,2,    1.55,2,    0.32,2,    0.27,2,-999.000,9,-999.000,9,-999.000,9,  1989.3,2,  2301.0,2,-999.0000,9,-999.0000,9, -999.00,9, -999.00,9,  -999.0,9,  -999.0,-999.000,9,-999.000,-999.000,9,-999.0000,  26.1468,-999.0000,-999.000
  316N145_8,        I03,     445,          1,          8,          8,2,19950426,       1119,   -22.2152,   113.6955,        414,    93.6,  24.6945,  35.1151,2,  35.1160,2,    177.5,2,   176.1,2,    7.12,2,    2.85,2,    0.12,2,    0.36,2,-999.000,9,-999.000,9,-999.000,9,  2002.0,2,  2299.0,2,   1.1282,2,   1.7335,2,   -2.11,2, -999.00,9,  -999.0,9,  -999.0,   6.692,2,   0.033,-999.000,9,   0.0087,  24.6744,   0.0043,    0.14
  316N145_8,        I03,     445,          1,          7,          7,2,19950426,       1119,   -22.2152,   113.6955,        414,   123.4,  22.5824,  35.2189,2,  35.2137,2,    178.4,2,   170.1,2,    7.98,2,    4.19,2,    0.05,2,    0.44,2,-999.000,9,-999.000,9,-999.000,9,  2029.2,2,  2307.0,2,-999.0000,9,-999.0000,9, -999.00,9, -999.00,9,  -999.0,9,  -999.0,-999.000,9,-999.000,-999.000,9,-999.0000,  22.5575,-999.0000,-999.000
  316N145_8,        I03,     445,          1,          6,          6,2,19950426,       1119,   -22.2152,   113.6955,        414,   153.7,  21.0417,  35.2618,2,  35.2610,2,    158.9,2,   156.2,2,   10.14,2,    6.98,2,    0.02,2,    0.60,2,-999.000,9,-999.000,9,-999.000,9,  2052.2,2,  2316.0,2,   1.0759,2,   1.7114,2,    0.92,2, -999.00,9,  -999.0,9,  -999.0,   6.902,2,   0.035,-999.000,9,   0.0086,  21.0123,   0.0042,    0.14
  316N145_8,        I03,     445,          1,          5,          5,2,19950426,       1119,   -22.2152,   113.6955,        414,   203.7,  18.9823,  35.4409,2,  35.4323,2,    160.2,2,   162.7,2,   10.78,2,    7.78,2,    0.01,2,    0.64,2,-999.000,9,-999.000,9,-999.000,9,  2074.3,2,  2325.0,2,-999.0000,9,-999.0000,9, -999.00,9, -999.00,9,  -999.0,9,  -999.0,-999.000,9,-999.000,-999.000,9,-999.0000,  18.9459,-999.0000,-999.000
  316N145_8,        I03,     445,          1,          4,          4,2,19950426,       1119,   -22.2152,   113.6955,        414,   254.4,  18.0877,  35.6066,2,  35.6034,2,    181.3,2,   182.2,2,    7.98,2,    5.90,2,    0.01,2,    0.53,2,-999.000,9,-999.000,9,-999.000,9,  2076.1,2,  2335.0,2,   1.0037,2,   1.7267,2,    0.59,2, -999.00,9,  -999.0,9,  -999.0,   7.038,2,   0.035,-999.000,9,   0.0086,  18.0437,   0.0042,    0.14
  316N145_8,        I03,     445,          1,          3,          3,2,19950426,       1119,   -22.2152,   113.6955,        414,   303.5,  14.8471,  35.4290,2,  35.4251,2,    203.1,2,   203.8,2,    7.54,2,    7.62,2,    0.01,2,    0.65,2,-999.000,9,-999.000,9,-999.000,9,  2095.5,2,  2333.0,2,   0.8267,2,   1.7301,2,    0.32,2, -999.00,9,  -999.0,9,  -999.0,   7.178,2,   0.036,-999.000,9,   0.0087,  14.8012,   0.0037,    0.14
  316N145_8,        I03,     445,          1,          2,          2,2,19950426,       1119,   -22.2152,   113.6955,        414,   353.9,  13.2114,  35.2645,2,  35.2550,2,    208.3,3,   213.2,2,    7.33,2,    9.29,2,    0.01,2,    0.77,2,-999.000,9,-999.000,9,-999.000,9,  2103.4,2,  2323.0,2,   0.6986,2,   1.7136,2,    0.24,2, -999.00,9,  -999.0,9,  -999.0,   7.095,2,   0.035,-999.000,9,   0.0086,  13.1618,   0.0034,    0.14
  316N145_8,        I03,     445,          1,          1,          1,2,19950426,       1119,   -22.2152,   113.6955,        414,   414.6,  11.2161,  34.9973,2,  35.0082,2,    218.1,3,   219.3,2,    8.62,2,   12.59,2,    0.01,2,    0.96,2,-999.000,9,-999.000,9,-999.000,9,  2112.8,2,  2315.0,2,-999.0000,9,-999.0000,9, -999.00,9, -999.00,9,  -999.0,9,  -999.0,-999.000,9,-999.000,-999.000,9,-999.0000,  11.1639,-999.0000,-999.000
  316N145_8,        I03,     446,          1,         17,         17,2,19950426,       1259,   -22.2013,   113.5960,        863,     7.4,  28.1132,  35.2718,2,  35.2708,2,    196.3,2,   198.1,2,    4.47,2,    0.00,2,    0.00,2,    0.12,2,-999.000,9,-999.000,9,-999.000,9,  1962.4,6,  2308.5,6,-999.0000,9,-999.0000,9, -999.00,9, -999.00,9,  -999.0,9,  -999.0,-999.000,9,-999.000,-999.000,9,-999.0000,  28.1115,-999.0000,-999.000
  316N145_8,        I03,     446,          1,         16,         16,2,19950426,       1259,   -22.2013,   113.5960,        863,    32.9,  27.6202,  35.2481,2,  35.2438,2,    199.9,2,   199.0,2,    4.03,2,    0.04,2,    0.00,2,    0.13,2,-999.000,9,-999.000,9,-999.000,9,  1965.0,2,  2301.0,2,-999.0000,9,-999.0000,9, -999.00,9, -999.00,9,  -999.0,9,  -999.0,-999.000,9,-999.000,-999.000,9,-999.0000,  27.6125,-999.0000,-999.000
  316N145_8,        I03,     446,          1,         15,         15,2,19950426,       1259,   -22.2013,   113.5960,        863,    63.0,  26.7863,  35.2518,2,  35.2442,2,    202.8,2,   196.6,2,    4.24,2,    0.10,2,    0.07,2,    0.16,2,-999.000,9,-999.000,9,-999.000,9,  1971.8,2,  2302.0,2,-999.0000,9,-999.0000,9, -999.00,9, -999.00,9,  -999.0,9,  -999.0,-999.000,9,-999.000,-999.000,9,-999.0000,  26.7720,-999.0000,-999.000
  316N145_8,        I03,     446,          1,         14,         14,2,19950426,       1259,   -22.2013,   113.5960,        863,    92.7,  24.4620,  35.1607,2,  35.1540,2,    185.9,2,   171.8,2,    7.47,2,    3.41,2,    0.05,2,    0.39,2,-999.000,9,-999.000,9,-999.000,9,  2011.6,2,  2302.0,2,-999.0000,9,-999.0000,9, -999.00,9, -999.00,9,  -999.0,9,  -999.0,-999.000,9,-999.000,-999.000,9,-999.0000,  24.4422,-999.0000,-999.000
  316N145_8,        I03,     446,          1,         13,         13,2,19950426,       1259,   -22.2013,   113.5960,        863,   122.7,  23.0051,  35.1947,2,  35.1979,2,    180.8,2,   179.1,2,    6.82,2,    2.83,2,    0.06,2,    0.35,2,-999.000,9,-999.000,9,-999.000,9,  2015.3,2,  2310.0,2,   1.1564,2,   1.7733,2,   -0.46,2, -999.00,9,  -999.0,9,  -999.0,   6.978,2,   0.035,-999.000,9,   0.0089,  22.9801,   0.0045,    0.14
  316N145_8,        I03,     446,          1,         12,         12,2,19950426,       1259,   -22.2013,   113.5960,        863,   152.7,  21.5414,  35.2550,2,-999.0000,5,    159.8,2,   157.6,2,   10.04,2,    6.47,2,    0.02,2,    0.57,2,-999.000,9,-999.000,9,-999.000,9,  2047.2,2,  2314.0,2,-999.0000,9,-999.0000,9, -999.00,9, -999.00,9,  -999.0,9,  -999.0,-999.000,9,-999.000,-999.000,9,-999.0000,  21.5116,-999.0000,-999.000
  316N145_8,        I03,     446,          1,         11,         11,2,19950426,       1259,   -22.2013,   113.5960,        863,   203.5,  19.7216,  35.7552,2,  35.7589,2,    194.6,2,   195.3,2,    4.86,2,    2.56,2,    0.03,2,    0.30,2,-999.000,9,-999.000,9,-999.000,9,  2054.2,2,  2342.0,2,-999.0000,9,   1.7302,2,   -0.75,2, -999.00,9,  -999.0,9,  -999.0,   6.966,2,   0.035,-999.000,9,   0.0087,  19.6842,-999.0000,    0.14
  316N145_8,        I03,     446,          1,         10,         10,2,19950426,       1259,   -22.2013,   113.5960,        863,   253.6,  18.3063,  35.8225,2,  35.8190,2,    200.6,2,   202.1,2,    4.20,2,    2.74,2,    0.02,2,    0.32,2,-999.000,9,-999.000,9,-999.000,9,  2066.7,2,  2350.0,2,-999.0000,9,-999.0000,9, -999.00,9, -999.00,9,  -999.0,9,  -999.0,-999.000,9,-999.000,-999.000,9,-999.0000,  18.2619,-999.0000,-999.000
  316N145_8,        I03,     446,          1,          9,          9,2,19950426,       1259,   -22.2013,   113.5960,        863,   304.0,  15.9804,  35.6512,2,  35.6525,2,    209.2,2,   214.9,2,    3.98,2,    4.02,2,    0.02,2,    0.41,2,-999.000,9,-999.000,9,-999.000,9,  2082.7,2,  2342.0,2,-999.0000,9,-999.0000,9, -999.00,9, -999.00,9,  -999.0,9,  -999.0,-999.000,9,-999.000,-999.000,9,-999.0000,  15.9319,-999.0000,-999.000
  316N145_8,        I03,     446,          1,          8,          8,2,19950426,       1259,   -22.2013,   113.5960,        863,   354.0,  14.0450,  35.4393,2,  35.4382,2,    225.2,2,   226.6,2,    2.90,2,    5.12,2,    0.01,2,    0.49,2,-999.000,9,-999.000,9,-999.000,9,  2090.0,2,  2331.0,2,   0.7929,2,   1.7799,2,   -1.18,2, -999.00,9,  -999.0,9,  -999.0,   7.382,2,   0.037,-999.000,9,   0.0089,  13.9933,   0.0038,    0.14
  316N145_8,        I03,     446,          1,          7,          7,2,19950426,       1259,   -22.2013,   113.5960,        863,   404.1,  11.8507,  35.0882,2,  35.0822,2,    231.2,2,   234.5,2,    3.54,2,    9.35,2,    0.01,2,    0.75,2,-999.000,9,-999.000,9,-999.000,9,  2101.6,2,  2319.0,2,   0.6270,2,   1.7758,2,   -1.04,2, -999.00,9,  -999.0,9,  -999.0,   7.418,2,   0.037,-999.000,9,   0.0089,  11.7979,   0.0034,    0.14
  316N145_8,        I03,     446,          1,          6,          6,2,19950426,       1259,   -22.2013,   113.5960,        863,   454.6,   9.6584,  34.7462,2,  34.7417,2,    231.1,2,   234.4,2,    6.34,2,   15.42,2,    0.01,2,    1.12,2,-999.000,9,-999.000,9,-999.000,9,  2117.5,2,  2298.0,2,   0.4476,2,-999.0000,9, -999.00,9, -999.00,9,  -999.0,9,  -999.0,-999.000,9,-999.000,-999.000,9,-999.0000,   9.6062,   0.0030,-999.000
  316N145_8,        I03,     446,          1,          5,          5,2,19950426,       1259,   -22.2013,   113.5960,        863,   504.3,   8.4764,  34.6194,2,  34.6175,2,    211.6,2,   209.9,2,   14.10,2,   20.80,2,    0.01,2,    1.46,2,-999.000,9,-999.000,9,-999.000,9,  2143.2,2,  2301.0,2,-999.0000,9,   1.7727,2,    1.22,2, -999.00,9,  -999.0,9,  -999.0,   7.523,2,   0.038,-999.000,9,   0.0089,   8.4229,-999.0000,    0.14
  316N145_8,        I03,     446,          1,          4,          4,2,19950426,       1259,   -22.2013,   113.5960,        863,   604.5,   7.2042,  34.5934,2,  34.5906,2,    153.1,2,   147.7,2,   30.71,2,   28.61,2,    0.01,2,    2.03,2,-999.000,9,-999.000,9,-999.000,9,  2205.5,2,  2319.0,2,   0.1521,2,   1.8388,2,    6.11,2, -999.00,9,  -999.0,9,  -999.0,   7.773,2,   0.039,-999.000,9,   0.0092,   7.1454,   0.0025,    0.14
  316N145_8,        I03,     446,          1,          3,          3,2,19950426,       1259,   -22.2013,   113.5960,        863,   705.7,   6.5308,  34.6012,2,  34.6030,2,    116.2,2,   116.8,2,   51.21,2,   32.38,2,    0.01,2,    2.33,2,-999.000,9,-999.000,9,-999.000,9,  2241.2,2,  2340.0,2,   0.0781,2,   1.8508,2,    9.07,2, -999.00,9,  -999.0,9,  -999.0,   7.810,2,   0.039,-999.000,9,   0.0093,   6.4652,   0.0023,    0.14
  316N145_8,        I03,     446,          1,          2,          2,2,19950426,       1259,   -22.2013,   113.5960,        863,   805.9,   5.9093,  34.6137,2,  34.6144,2,     99.3,2,   100.4,2,   66.76,2,   34.65,2,    0.01,2,    2.52,2,-999.000,9,-999.000,9,-999.000,9,  2266.3,2,  2349.0,2,   0.0385,2,   1.8571,2,   11.17,2, -999.00,9,  -999.0,9,  -999.0,   7.822,2,   0.039,-999.000,9,   0.0093,   5.8376,   0.0023,    0.14
  316N145_8,        I03,     446,          1,          1,          1,2,19950426,       1259,   -22.2013,   113.5960,        863,   866.3,   5.5440,  34.6200,2,  34.6219,2,     94.8,2,    95.1,2,   75.63,2,   35.50,2,    0.01,2,    2.61,2,-999.000,9,-999.000,9,-999.000,9,  2277.8,2,  2361.0,2,-999.0000,9,   1.8519,2,   12.04,2, -999.00,9,  -999.0,9,  -999.0,   7.773,2,   0.039,-999.000,9,   0.0093,   5.4689,-999.0000,    0.14