BOTTLE,20140514CCHSIOSE
EXPOCODE,SECT_ID,STNNBR,CASTNO,SAMPNO,BTLNBR,BTLNBR_FLAG_W,DATE,TIME,LATITUDE,LONGITUDE,DEPTH,CTDPRS,CTDTMP,CTDSAL,CTDSAL_FLAG_W,SALNTY,SALNTY_FLAG_W,CTDOXY,CTDOXY_FLAG_W,OXYGEN,OXYGEN_FLAG_W,SILCAT,SILCAT_FLAG_W,NITRAT,NITRAT_FLAG_W,NITRIT,NITRIT_FLAG_W,PHSPHT,PHSPHT_FLAG_W,CFC-11,CFC-11_FLAG_W,CFC-12,CFC-12_FLAG_W,CFC113,CFC113_FLAG_W,TCARBN,TCARBN_FLAG_W,ALKALI,ALKALI_FLAG_W,TRITUM,TRITUM_FLAG_W,HELIUM,HELIUM_FLAG_W,DELHE3,DELHE3_FLAG_W,DELC13,DELC13_FLAG_W,DELC14,DELC14_FLAG_W,C14ERR,NEON,NEON_FLAG_W,NEONER,CCL4,CCL4_FLAG_W,HELIER,THETA,TRITER,DELHER
,,,,,,,,,,,METERS,DBAR,ITS-90,PSS-78,,PSS-78,,UMOL/KG,,UMOL/KG,,UMOL/KG,,UMOL/KG,,UMOL/KG,,UMOL/KG,,PMOL/KG,,PMOL/KG,,PMOL/KG,,UMOL/KG,,UMOL/KG,,TU,,NMOL/KG,,PERCNT,,/MILLE,,/MILLE,,/MILLE,NMOL/KG,,NMOL/KG,PMOL/KG,,NMOL/KG,DEG C,TU,PERCNT
  316N145_8,        I03,     496,          1,         36,         36,2,19950510,       2207,   -20.0000,    82.0007,       4908,     7.0,  25.4604,  34.9692,2,  34.9664,2,    204.2,2,   205.6,2,    3.10,2,    0.19,2,    0.00,2,    0.13,2,   1.844,2,   1.056,2,-999.000,9,  1939.6,6,  2287.5,6,   1.1045,2,   1.7433,2,   -1.26,2, -999.00,9,  -999.0,9,  -999.0,   6.873,2,   0.034,-999.000,9,   0.0087,  25.4589,   0.0040,    0.14
  316N145_8,        I03,     496,          1,         35,         35,2,19950510,       2207,   -20.0000,    82.0007,       4908,    56.6,  25.0353,  35.2889,2,  35.2904,2,    210.1,2,   209.1,2,    3.09,2,    0.19,2,    0.00,2,    0.12,2,-999.000,9,-999.000,9,-999.000,9,  -999.0,9,  -999.0,9,   1.1055,2,   1.7863,2,   -1.35,2, -999.00,9,  -999.0,9,  -999.0,   7.045,2,   0.035,-999.000,9,   0.0089,  25.0230,   0.0040,    0.14
  316N145_8,        I03,     496,          1,         34,         34,2,19950510,       2207,   -20.0000,    82.0007,       4908,   106.1,  21.2649,  35.4905,2,  35.4894,2,    213.8,2,   202.9,2,    4.35,2,    0.16,2,    0.02,2,    0.20,2,   2.142,2,   1.184,2,-999.000,9,  -999.0,9,  -999.0,9,   1.1173,2,   1.7570,2,   -0.61,2, -999.00,9,  -999.0,9,  -999.0,   7.108,2,   0.036,-999.000,9,   0.0088,  21.2444,   0.0040,    0.14
  316N145_8,        I03,     496,          1,         33,         33,2,19950510,       2207,   -20.0000,    82.0007,       4908,   155.9,  19.8212,  35.7184,2,  35.7170,2,    202.5,2,   198.9,2,    3.91,2,    1.73,2,    0.02,2,    0.28,2,-999.000,9,-999.000,9,-999.000,9,  -999.0,9,  -999.0,9,   1.0882,2,   1.7624,2,   -0.84,2, -999.00,9,  -999.0,9,  -999.0,   7.152,2,   0.036,-999.000,9,   0.0088,  19.7925,   0.0039,    0.14
  316N145_8,        I03,     496,          1,         32,         32,2,19950510,       2207,   -20.0000,    82.0007,       4908,   207.1,  18.6339,  35.8342,2,  35.8305,2,    204.7,2,   206.6,2,    3.26,2,    1.45,2,    0.01,2,    0.28,2,   2.429,2,   1.315,2,-999.000,9,  -999.0,9,  -999.0,9,   1.0504,2,   1.7579,2,   -0.10,2, -999.00,9,  -999.0,9,  -999.0,   7.155,2,   0.036,-999.000,9,   0.0088,  18.5973,   0.0039,    0.14
  316N145_8,        I03,     496,          1,         31,         31,2,19950510,       2207,   -20.0000,    82.0007,       4908,   256.0,  16.8299,  35.7234,2,  35.7142,2,    203.9,2,   206.4,2,    3.67,2,    3.01,2,    0.01,2,    0.40,2,-999.000,9,-999.000,9,-999.000,9,  -999.0,9,  -999.0,9,   0.9620,2,   1.7521,2,    0.35,2, -999.00,9,  -999.0,9,  -999.0,   7.213,2,   0.036,-999.000,9,   0.0088,  16.7876,   0.0038,    0.14
  316N145_8,        I03,     496,          1,         30,         30,2,19950510,       2207,   -20.0000,    82.0007,       4908,   306.6,  14.8583,  35.5066,2,  35.4965,2,    211.7,2,   214.8,2,    3.66,2,    5.07,2,    0.00,2,    0.53,2,   2.737,2,   1.427,2,-999.000,9,  -999.0,9,  -999.0,9,   0.8608,2,   1.7644,2,   -0.22,2, -999.00,9,  -999.0,9,  -999.0,   7.321,2,   0.037,-999.000,9,   0.0088,  14.8119,   0.0036,    0.14
  316N145_8,        I03,     496,          1,         29,         29,2,19950510,       2207,   -20.0000,    82.0007,       4908,   356.8,  13.3028,  35.2971,2,  35.2886,2,    219.2,2,   222.3,2,    3.65,2,    7.47,2,    0.00,2,    0.66,2,-999.000,9,-999.000,9,-999.000,9,  -999.0,9,  -999.0,9,   0.7781,2,   1.7652,2,    0.06,2, -999.00,9,  -999.0,9,  -999.0,   7.374,2,   0.037,-999.000,9,   0.0088,  13.2525,   0.0034,    0.14
  316N145_8,        I03,     496,          1,         28,         28,2,19950510,       2207,   -20.0000,    82.0007,       4908,   406.9,  11.9587,  35.0958,2,  35.0919,2,    225.0,2,   228.6,2,    4.27,2,    9.86,2,    0.00,2,    0.79,2,   2.879,2,   1.460,2,-999.000,9,  -999.0,9,  -999.0,9,   0.6844,2,   1.7625,2,   -0.11,2, -999.00,9,  -999.0,9,  -999.0,   7.406,2,   0.037,-999.000,9,   0.0088,  11.9053,   0.0033,    0.14
  316N145_8,        I03,     496,          1,         27,         27,2,19950510,       2207,   -20.0000,    82.0007,       4908,   506.5,  10.4032,  34.8544,2,  34.8461,2,    232.6,2,   233.0,2,    5.11,2,   13.54,2,    0.00,2,    1.00,2,   2.792,2,   1.397,2,-999.000,9,  -999.0,9,  -999.0,9,-999.0000,9,   1.7665,2,    0.75,2, -999.00,9,  -999.0,9,  -999.0,   7.457,2,   0.037,-999.000,9,   0.0088,  10.3422,-999.0000,    0.14
  316N145_8,        I03,     496,          1,         26,         26,2,19950510,       2207,   -20.0000,    82.0007,       4908,   606.4,   9.1685,  34.6832,2,  34.6807,2,    226.4,2,   222.5,2,    7.87,2,   17.81,2,    0.01,2,    1.27,2,   2.185,2,   1.087,2,-999.000,9,  -999.0,9,  -999.0,9,   0.4038,2,-999.0000,9, -999.00,9, -999.00,9,  -999.0,9,  -999.0,-999.000,9,-999.000,-999.000,9,-999.0000,   9.1006,   0.0028,-999.000
  316N145_8,        I03,     496,          1,         25,         25,2,19950510,       2207,   -20.0000,    82.0007,       4908,   708.6,   7.5310,  34.5362,2,  34.5347,2,    203.5,2,   198.3,2,   17.66,2,   24.06,2,    0.00,2,    1.67,2,   0.998,2,   0.511,2,-999.000,9,  -999.0,9,  -999.0,9,-999.0000,9,-999.0000,9, -999.00,9, -999.00,9,  -999.0,9,  -999.0,-999.000,9,-999.000,-999.000,9,-999.0000,   7.4599,-999.0000,-999.000
  316N145_8,        I03,     496,          1,         24,         24,2,19950510,       2207,   -20.0000,    82.0007,       4908,   808.5,   5.8259,  34.4842,2,  34.4839,2,    167.0,2,   166.1,2,   40.03,2,   30.24,2,    0.00,2,    2.12,2,   0.251,2,   0.136,2,-999.000,9,  -999.0,9,  -999.0,9,   0.0566,2,   1.8116,2,    4.82,2, -999.00,9,  -999.0,9,  -999.0,   7.787,2,   0.039,-999.000,9,   0.0091,   5.7546,   0.0023,    0.14
  316N145_8,        I03,     496,          1,         23,         23,2,19950510,       2207,   -20.0000,    82.0007,       4908,   909.5,   5.1558,  34.5489,2,  34.5482,2,    132.6,2,   132.7,2,   63.70,2,   33.83,2,    0.00,2,    2.42,2,   0.034,2,   0.019,2,-999.000,9,  -999.0,9,  -999.0,9,-999.0000,9,-999.0000,9, -999.00,9, -999.00,9,  -999.0,9,  -999.0,-999.000,9,-999.000,-999.000,9,-999.0000,   5.0795,-999.0000,-999.000
  316N145_8,        I03,     496,          1,         22,         22,2,19950510,       2207,   -20.0000,    82.0007,       4908,  1010.3,   4.7327,  34.6026,2,  34.6026,2,    118.3,2,   119.6,2,   78.01,2,   35.09,2,    0.00,2,    2.53,2,-999.000,9,-999.000,9,-999.000,9,  -999.0,9,  -999.0,9,   0.0053,2,   1.8528,2,   10.12,2, -999.00,9,  -999.0,9,  -999.0,   7.918,2,   0.040,-999.000,9,   0.0093,   4.6503,   0.0022,    0.14
  316N145_8,        I03,     496,          1,         21,         21,2,19950510,       2207,   -20.0000,    82.0007,       4908,  1110.1,   4.4805,  34.6473,2,  34.6467,2,    113.4,2,   113.9,2,   86.79,2,   35.50,2,    0.00,2,    2.58,2,   0.002,2,   0.003,2,-999.000,9,  -999.0,9,  -999.0,9,-999.0000,9,-999.0000,9, -999.00,9, -999.00,9,  -999.0,9,  -999.0,-999.000,9,-999.000,-999.000,9,-999.0000,   4.3912,-999.0000,-999.000
  316N145_8,        I03,     496,          1,         20,         20,2,19950510,       2207,   -20.0000,    82.0007,       4908,  1212.1,   4.2731,  34.6757,2,  34.6757,2,    113.3,2,   113.4,2,   91.94,2,   35.56,2,    0.00,2,    2.59,2,-999.000,9,-999.000,9,-999.000,9,  -999.0,9,  -999.0,9,   0.0006,2,   1.8778,2,   11.73,2, -999.00,9,  -999.0,9,  -999.0,   7.988,2,   0.040,-999.000,9,   0.0094,   4.1766,   0.0022,    0.14
  316N145_8,        I03,     496,          1,         19,         19,2,19950510,       2207,   -20.0000,    82.0007,       4908,  1413.0,   3.7040,  34.6978,2,  34.6981,2,    121.4,2,   121.5,2,   99.04,2,   35.41,2,    0.00,2,    2.56,2,-999.000,9,-999.000,9,-999.000,9,  -999.0,9,  -999.0,9,   0.0003,2,   1.8902,2,   12.15,2, -999.00,9,  -999.0,9,  -999.0,   8.022,2,   0.040,-999.000,9,   0.0095,   3.5954,   0.0022,    0.14
  316N145_8,        I03,     496,          1,         18,         18,2,19950510,       2207,   -20.0000,    82.0007,       4908,  1615.6,   3.2363,  34.7131,2,  34.7138,2,    131.0,2,   130.6,2,  104.44,2,   35.07,2,    0.00,2,    2.52,2,-999.000,9,-999.000,9,-999.000,9,  -999.0,9,  -999.0,9,-999.0000,9,-999.0000,9, -999.00,9, -999.00,9,  -999.0,9,  -999.0,-999.000,9,-999.000,-999.000,9,-999.0000,   3.1154,-999.0000,-999.000
  316N145_8,        I03,     496,          1,         17,         17,2,19950510,       2207,   -20.0000,    82.0007,       4908,  1818.0,   2.8170,  34.7230,2,  34.7218,2,    140.2,2,   140.5,2,  108.99,2,   34.67,2,    0.00,2,    2.48,2,-999.000,9,-999.000,9,-999.000,9,  -999.0,9,  -999.0,9,   0.0010,2,   1.8978,2,   13.11,2, -999.00,9,  -999.0,9,  -999.0,   8.083,2,   0.040,-999.000,9,   0.0095,   2.6839,   0.0022,    0.14
  316N145_8,        I03,     496,          1,         16,         16,2,19950510,       2207,   -20.0000,    82.0007,       4908,  2020.3,   2.4937,  34.7261,2,  34.7257,2,    149.7,2,   150.1,2,  112.24,2,   34.23,2,    0.00,2,    2.44,2,  -0.003,2,   0.001,2,-999.000,9,  -999.0,9,  -999.0,9,-999.0000,9,   1.9280,3,   14.33,2, -999.00,9,  -999.0,9,  -999.0,   8.179,2,   0.021,-999.000,9,   0.0030,   2.3477,-999.0000,    0.14
  316N145_8,        I03,     496,          1,         15,         15,2,19950510,       2207,   -20.0000,    82.0007,       4908,  2220.7,   2.2224,  34.7267,2,  34.7253,2,    158.1,2,   159.4,2,  113.74,2,   33.78,2,    0.00,2,    2.40,2,-999.000,9,-999.000,9,-999.000,9,  -999.0,9,  -999.0,9,-999.0000,9,   1.9040,2,   14.85,2, -999.00,9,  -999.0,9,  -999.0,   8.147,2,   0.021,-999.000,9,   0.0030,   2.0631,-999.0000,    0.14
  316N145_8,        I03,     496,          1,         14,         14,2,19950510,       2207,   -20.0000,    82.0007,       4908,  2425.0,   2.0239,  34.7263,2,  34.7261,2,    166.6,2,   166.5,2,  115.46,2,   33.44,2,    0.00,2,    2.37,2,-999.000,9,-999.000,9,-999.000,9,  -999.0,9,  -999.0,9,-999.0000,9,   1.9030,2,   15.24,2, -999.00,9,  -999.0,9,  -999.0,   8.130,2,   0.021,-999.000,9,   0.0020,   1.8497,-999.0000,    0.14
  316N145_8,        I03,     496,          1,         13,         13,2,19950510,       2207,   -20.0000,    82.0007,       4908,  2628.1,   1.8565,  34.7264,2,  34.7257,2,    172.9,2,   172.3,2,  116.75,2,   33.10,2,    0.00,2,    2.34,2,-999.000,9,-999.000,9,-999.000,9,  -999.0,9,  -999.0,9,-999.0000,9,   1.9080,2,   15.10,2, -999.00,9,  -999.0,9,  -999.0,   8.178,2,   0.021,-999.000,9,   0.0020,   1.6669,-999.0000,    0.14
  316N145_8,        I03,     496,          1,         12,         12,2,19950510,       2207,   -20.0000,    82.0007,       4908,  2831.8,   1.7459,  34.7259,2,  34.7267,2,    175.1,2,   174.4,2,  119.36,2,   33.16,2,    0.00,2,    2.33,2,-999.000,9,-999.000,9,-999.000,9,  -999.0,9,  -999.0,9,-999.0000,9,   1.8970,2,   14.68,2, -999.00,9,  -999.0,9,  -999.0,   8.160,2,   0.021,-999.000,9,   0.0030,   1.5395,-999.0000,    0.15
  316N145_8,        I03,     496,          1,         11,         11,2,19950510,       2207,   -20.0000,    82.0007,       4908,  3035.1,   1.6366,  34.7253,2,  34.7247,2,    175.3,2,   174.8,2,  123.98,2,   33.31,2,    0.00,2,    2.34,2,-999.000,9,-999.000,9,-999.000,9,  -999.0,9,  -999.0,9,-999.0000,9,   1.9300,3,   13.50,2, -999.00,9,  -999.0,9,  -999.0,   8.282,3,   0.021,-999.000,9,   0.0030,   1.4132,-999.0000,    0.14
  316N145_8,        I03,     496,          1,         10,         10,2,19950510,       2207,   -20.0000,    82.0007,       4908,  3237.7,   1.5631,  34.7250,2,  34.7245,2,    175.4,2,   179.3,2,  123.50,2,   33.07,2,    0.00,2,    2.32,2,-999.000,9,-999.000,9,-999.000,9,  -999.0,9,  -999.0,9,-999.0000,9,-999.0000,9, -999.00,9, -999.00,9,  -999.0,9,  -999.0,-999.000,9,-999.000,-999.000,9,-999.0000,   1.3215,-999.0000,-999.000
  316N145_8,        I03,     496,          1,          9,          9,2,19950510,       2207,   -20.0000,    82.0007,       4908,  3440.1,   1.4891,  34.7238,2,  34.7226,2,    179.7,2,   181.4,2,  125.01,2,   33.02,2,    0.00,2,    2.31,2,   0.001,2,   0.000,2,-999.000,9,  -999.0,9,  -999.0,9,-999.0000,9,   1.9000,2,   12.27,2, -999.00,9,  -999.0,9,  -999.0,   8.184,2,   0.021,-999.000,9,   0.0020,   1.2291,-999.0000,    0.15
  316N145_8,        I03,     496,          1,          8,          8,2,19950510,       2207,   -20.0000,    82.0007,       4908,  3643.4,   1.4317,  34.7215,2,  34.7206,2,    180.0,2,   181.4,2,  128.32,2,   33.18,2,    0.00,2,    2.33,2,-999.000,9,-999.000,9,-999.000,9,  -999.0,9,  -999.0,9,-999.0000,9,   1.9020,2,   12.40,2, -999.00,9,  -999.0,9,  -999.0,   8.238,2,   0.053,-999.000,9,   0.0050,   1.1524,-999.0000,    0.15
  316N145_8,        I03,     496,          1,          7,          7,2,19950510,       2207,   -20.0000,    82.0007,       4908,  3845.9,   1.3969,  34.7204,2,  34.7192,2,    182.3,2,   183.2,2,  128.95,2,   33.19,2,    0.00,2,    2.32,2,-999.000,9,-999.000,9,-999.000,9,  -999.0,9,  -999.0,9,-999.0000,9,   1.9010,2,   12.00,2, -999.00,9,  -999.0,9,  -999.0,   8.227,2,   0.056,-999.000,9,   0.0050,   1.0973,-999.0000,    0.12
  316N145_8,        I03,     496,          1,          6,          6,2,19950510,       2207,   -20.0000,    82.0007,       4908,  4050.0,   1.3781,  34.7184,2,  34.7176,2,    181.9,2,   182.2,2,  130.93,2,   33.35,2,    0.00,2,    2.35,2,-999.000,9,-999.000,9,-999.000,9,  -999.0,9,  -999.0,9,-999.0000,9,   1.9130,2,   11.37,2, -999.00,9,  -999.0,9,  -999.0,   8.253,2,   0.047,-999.000,9,   0.0050,   1.0570,-999.0000,    0.15
  316N145_8,        I03,     496,          1,          5,          5,2,19950510,       2207,   -20.0000,    82.0007,       4908,  4253.8,   1.3675,  34.7175,2,  34.7167,2,    183.0,2,   183.3,2,  132.02,2,   33.36,2,    0.00,2,    2.33,3,-999.000,9,-999.000,9,-999.000,9,  -999.0,9,  -999.0,9,-999.0000,9,   1.9360,2,   11.39,2, -999.00,9,  -999.0,9,  -999.0,   8.321,2,   0.062,-999.000,9,   0.0050,   1.0242,-999.0000,    0.12
  316N145_8,        I03,     496,          1,          4,          4,2,19950510,       2207,   -20.0000,    82.0007,       4908,  4458.6,   1.3760,  34.7171,2,  34.7169,2,    183.3,2,   183.4,2,  132.20,2,   33.31,2,    0.00,2,    2.33,2,-999.000,9,-999.000,9,-999.000,9,  -999.0,9,  -999.0,9,-999.0000,9,   1.9380,2,   11.38,2, -999.00,9,  -999.0,9,  -999.0,   8.358,2,   0.049,-999.000,9,   0.0050,   1.0094,-999.0000,    0.15
  316N145_8,        I03,     496,          1,          3,          3,2,19950510,       2207,   -20.0000,    82.0007,       4908,  4663.9,   1.3894,  34.7169,2,  34.7159,2,    184.0,2,   183.9,2,  132.16,2,   33.32,2,    0.00,2,    2.33,2,-999.000,9,-999.000,9,-999.000,9,  -999.0,9,  -999.0,9,-999.0000,9,   1.9230,2,   11.38,2, -999.00,9,  -999.0,9,  -999.0,   8.341,2,   0.062,-999.000,9,   0.0050,   0.9986,-999.0000,    0.12
  316N145_8,        I03,     496,          1,          2,          2,2,19950510,       2207,   -20.0000,    82.0007,       4908,  4869.3,   1.4052,  34.7168,2,  34.7159,2,    184.4,2,   184.3,2,  131.67,2,   33.33,2,    0.00,2,    2.37,2,-999.000,9,-999.000,9,-999.000,9,  -999.0,9,  -999.0,9,-999.0000,9,-999.0000,9, -999.00,9, -999.00,9,  -999.0,9,  -999.0,-999.000,9,-999.000,-999.000,9,-999.0000,   0.9897,-999.0000,-999.000
  316N145_8,        I03,     496,          1,          1,          1,2,19950510,       2207,   -20.0000,    82.0007,       4908,  5020.0,   1.4197,  34.7170,2,  34.7159,2,    184.5,2,   184.0,2,  131.64,2,   33.34,2,    0.00,2,    2.32,2,  -0.001,2,   0.002,2,-999.000,9,  -999.0,9,  -999.0,9,-999.0000,9,   1.8440,3,   11.57,2, -999.00,9,  -999.0,9,  -999.0,   7.970,3,   0.057,-999.000,9,   0.0050,   0.9856,-999.0000,    0.12