BOTTLE,20140514CCHSIOSE
EXPOCODE,SECT_ID,STNNBR,CASTNO,SAMPNO,BTLNBR,BTLNBR_FLAG_W,DATE,TIME,LATITUDE,LONGITUDE,DEPTH,CTDPRS,CTDTMP,CTDSAL,CTDSAL_FLAG_W,SALNTY,SALNTY_FLAG_W,CTDOXY,CTDOXY_FLAG_W,OXYGEN,OXYGEN_FLAG_W,SILCAT,SILCAT_FLAG_W,NITRAT,NITRAT_FLAG_W,NITRIT,NITRIT_FLAG_W,PHSPHT,PHSPHT_FLAG_W,CFC-11,CFC-11_FLAG_W,CFC-12,CFC-12_FLAG_W,CFC113,CFC113_FLAG_W,TCARBN,TCARBN_FLAG_W,ALKALI,ALKALI_FLAG_W,TRITUM,TRITUM_FLAG_W,HELIUM,HELIUM_FLAG_W,DELHE3,DELHE3_FLAG_W,DELC13,DELC13_FLAG_W,DELC14,DELC14_FLAG_W,C14ERR,NEON,NEON_FLAG_W,NEONER,CCL4,CCL4_FLAG_W,HELIER,THETA,TRITER,DELHER
,,,,,,,,,,,METERS,DBAR,ITS-90,PSS-78,,PSS-78,,UMOL/KG,,UMOL/KG,,UMOL/KG,,UMOL/KG,,UMOL/KG,,UMOL/KG,,PMOL/KG,,PMOL/KG,,PMOL/KG,,UMOL/KG,,UMOL/KG,,TU,,NMOL/KG,,PERCNT,,/MILLE,,/MILLE,,/MILLE,NMOL/KG,,NMOL/KG,PMOL/KG,,NMOL/KG,DEG C,TU,PERCNT
  316N145_8,        I03,     553,          1,         36,         36,2,19950530,       1819,   -19.9995,    51.7832,       4911,     6.4,  24.8595,  35.3124,2,  35.3118,2,    208.0,2,   209.1,2,    2.35,2,    0.10,2,    0.00,2,    0.13,2,-999.000,9,-999.000,9,-999.000,9,  1966.0,2,  2308.0,6,-999.0000,9,-999.0000,9, -999.00,9, -999.00,9,  -999.0,9,  -999.0,-999.000,9,-999.000,-999.000,9,-999.0000,  24.8581,-999.0000,-999.000
  316N145_8,        I03,     553,          1,         35,         35,2,19950530,       1819,   -19.9995,    51.7832,       4911,    56.4,  24.8796,  35.3126,2,  35.3120,2,    209.8,2,   209.1,2,    2.34,2,    0.10,2,    0.00,2,    0.13,2,-999.000,9,-999.000,9,-999.000,9,  1966.4,2,  2308.0,2,-999.0000,9,-999.0000,9, -999.00,9, -999.00,9,  -999.0,9,  -999.0,-999.000,9,-999.000,-999.000,9,-999.0000,  24.8674,-999.0000,-999.000
  316N145_8,        I03,     553,          1,         34,         34,2,19950530,       1819,   -19.9995,    51.7832,       4911,   106.6,  23.3584,  35.2239,2,  35.2239,2,    202.7,2,   202.9,2,    2.71,2,    0.10,2,    0.00,2,    0.17,2,-999.000,9,-999.000,9,-999.000,9,  1985.6,2,  2304.0,2,-999.0000,9,-999.0000,9, -999.00,9, -999.00,9,  -999.0,9,  -999.0,-999.000,9,-999.000,-999.000,9,-999.0000,  23.3364,-999.0000,-999.000
  316N145_8,        I03,     553,          1,         33,         33,2,19950530,       1819,   -19.9995,    51.7832,       4911,   156.0,  20.5998,  35.4441,2,  35.4425,2,    179.4,2,   177.4,2,    4.40,2,    4.04,2,    0.02,2,    0.39,2,-999.000,9,-999.000,9,-999.000,9,  2042.2,2,  2319.0,2,-999.0000,9,-999.0000,9, -999.00,9, -999.00,9,  -999.0,9,  -999.0,-999.000,9,-999.000,-999.000,9,-999.0000,  20.5703,-999.0000,-999.000
  316N145_8,        I03,     553,          1,         32,         32,2,19950530,       1819,   -19.9995,    51.7832,       4911,   206.4,  18.3208,  35.5777,2,  35.5768,2,    192.6,2,   199.8,2,    3.82,2,    3.19,2,    0.01,2,    0.36,2,-999.000,9,-999.000,9,-999.000,9,  2057.9,2,  2329.0,2,-999.0000,9,-999.0000,9, -999.00,9, -999.00,9,  -999.0,9,  -999.0,-999.000,9,-999.000,-999.000,9,-999.0000,  18.2847,-999.0000,-999.000
  316N145_8,        I03,     553,          1,         31,         31,2,19950530,       1819,   -19.9995,    51.7832,       4911,   256.4,  16.0666,  35.5512,2,  35.5506,2,    200.0,2,   203.0,2,    3.80,2,    4.96,2,    0.01,2,    0.48,2,-999.000,9,-999.000,9,-999.000,9,  2083.2,2,  2333.0,2,-999.0000,9,-999.0000,9, -999.00,9, -999.00,9,  -999.0,9,  -999.0,-999.000,9,-999.000,-999.000,9,-999.0000,  16.0257,-999.0000,-999.000
  316N145_8,        I03,     553,          1,         30,         30,2,19950530,       1819,   -19.9995,    51.7832,       4911,   307.0,  14.6266,  35.4349,2,  35.4348,2,    212.4,2,   214.9,2,    3.41,2,    5.96,2,    0.01,2,    0.55,2,-999.000,9,-999.000,9,-999.000,9,  2088.6,2,  2327.0,2,-999.0000,9,-999.0000,9, -999.00,9, -999.00,9,  -999.0,9,  -999.0,-999.000,9,-999.000,-999.000,9,-999.0000,  14.5806,-999.0000,-999.000
  316N145_8,        I03,     553,          1,         29,         29,2,19950530,       1819,   -19.9995,    51.7832,       4911,   355.2,  13.5072,  35.2998,2,  35.2996,2,    219.0,2,   221.5,2,    3.77,2,    7.73,2,    0.01,2,    0.64,2,-999.000,9,-999.000,9,-999.000,9,  2093.8,2,  2319.0,2,-999.0000,9,-999.0000,9, -999.00,9, -999.00,9,  -999.0,9,  -999.0,-999.000,9,-999.000,-999.000,9,-999.0000,  13.4566,-999.0000,-999.000
  316N145_8,        I03,     553,          1,         28,         28,2,19950530,       1819,   -19.9995,    51.7832,       4911,   406.0,  12.7191,  35.1880,2,  35.1868,2,    225.3,2,   226.1,2,    3.76,2,    9.07,2,    0.01,2,    0.72,2,-999.000,9,-999.000,9,-999.000,9,  2096.1,2,  2315.0,2,-999.0000,9,-999.0000,9, -999.00,9, -999.00,9,  -999.0,9,  -999.0,-999.000,9,-999.000,-999.000,9,-999.0000,  12.6635,-999.0000,-999.000
  316N145_8,        I03,     553,          1,         27,         27,2,19950530,       1819,   -19.9995,    51.7832,       4911,   506.1,  11.2101,  34.9622,2,  34.9610,2,    228.2,2,   228.3,2,    4.51,2,   12.27,2,    0.01,2,    0.90,2,-999.000,9,-999.000,9,-999.000,9,  2104.3,2,  2306.0,2,-999.0000,9,-999.0000,9, -999.00,9, -999.00,9,  -999.0,9,  -999.0,-999.000,9,-999.000,-999.000,9,-999.0000,  11.1461,-999.0000,-999.000
  316N145_8,        I03,     553,          1,         26,         26,2,19950530,       1819,   -19.9995,    51.7832,       4911,   606.2,   9.6998,  34.7568,2,  34.7568,2,    224.9,2,   222.8,2,    6.59,2,   16.24,2,    0.01,2,    1.15,2,-999.000,9,-999.000,9,-999.000,9,  2116.3,2,  2298.0,2,-999.0000,9,-999.0000,9, -999.00,9, -999.00,9,  -999.0,9,  -999.0,-999.000,9,-999.000,-999.000,9,-999.0000,   9.6295,-999.0000,-999.000
  316N145_8,        I03,     553,          1,         25,         25,2,19950530,       1819,   -19.9995,    51.7832,       4911,   708.3,   8.4740,  34.6538,2,  34.6537,2,    197.1,2,   194.8,2,   16.49,2,   21.85,2,    0.01,2,    1.51,2,-999.000,9,-999.000,9,-999.000,9,  2147.7,2,  2304.0,2,-999.0000,9,-999.0000,9, -999.00,9, -999.00,9,  -999.0,9,  -999.0,-999.000,9,-999.000,-999.000,9,-999.0000,   8.3979,-999.0000,-999.000
  316N145_8,        I03,     553,          1,         24,         24,2,19950530,       1819,   -19.9995,    51.7832,       4911,   808.7,   6.8667,  34.5836,2,  34.5843,2,    172.6,2,   162.9,2,   35.93,2,   28.20,2,    0.01,2,    1.96,2,-999.000,9,-999.000,9,-999.000,9,  2191.7,2,  2316.0,2,-999.0000,9,-999.0000,9, -999.00,9, -999.00,9,  -999.0,9,  -999.0,-999.000,9,-999.000,-999.000,9,-999.0000,   6.7890,-999.0000,-999.000
  316N145_8,        I03,     553,          1,         23,         23,2,19950530,       1819,   -19.9995,    51.7832,       4911,   909.0,   6.0743,  34.5852,2,  34.5868,2,    145.1,2,   145.9,2,   49.47,2,   31.07,2,    0.01,2,    2.18,2,-999.000,9,-999.000,9,-999.000,9,  2217.7,2,  2323.0,2,-999.0000,9,-999.0000,9, -999.00,9, -999.00,9,  -999.0,9,  -999.0,-999.000,9,-999.000,-999.000,9,-999.0000,   5.9916,-999.0000,-999.000
  316N145_8,        I03,     553,          1,         22,         22,2,19950530,       1819,   -19.9995,    51.7832,       4911,  1008.7,   5.3548,  34.6085,2,  34.6074,2,    133.4,2,   131.6,2,   64.00,2,   33.26,2,    0.01,2,    2.36,2,-999.000,9,-999.000,9,-999.000,9,  2242.4,2,  2338.0,2,-999.0000,9,-999.0000,9, -999.00,9, -999.00,9,  -999.0,9,  -999.0,-999.000,9,-999.000,-999.000,9,-999.0000,   5.2678,-999.0000,-999.000
  316N145_8,        I03,     553,          1,         21,         21,2,19950530,       1819,   -19.9995,    51.7832,       4911,  1110.2,   4.8400,  34.6329,2,  34.6335,2,    126.2,2,   126.7,2,   73.79,2,   34.14,2,    0.01,2,    2.44,2,-999.000,9,-999.000,9,-999.000,9,  2257.4,2,  2346.0,2,-999.0000,9,-999.0000,9, -999.00,9, -999.00,9,  -999.0,9,  -999.0,-999.000,9,-999.000,-999.000,9,-999.0000,   4.7478,-999.0000,-999.000
  316N145_8,        I03,     553,          1,         20,         20,2,19950530,       1819,   -19.9995,    51.7832,       4911,  1209.9,   4.3969,  34.6395,2,  34.6386,2,    129.8,2,   130.4,2,   78.21,2,   34.49,2,    0.01,2,    2.45,2,-999.000,9,-999.000,9,-999.000,9,  2261.6,2,  2354.0,2,-999.0000,9,-999.0000,9, -999.00,9, -999.00,9,  -999.0,9,  -999.0,-999.000,9,-999.000,-999.000,9,-999.0000,   4.2995,-999.0000,-999.000
  316N145_8,        I03,     553,          1,         19,         19,2,19950530,       1819,   -19.9995,    51.7832,       4911,  1310.6,   3.9040,  34.6376,2,  34.6366,2,    137.4,2,   138.2,2,   81.49,2,   34.40,2,    0.01,2,    2.44,2,-999.000,9,-999.000,9,-999.000,9,  2262.2,2,  2356.0,2,-999.0000,9,-999.0000,9, -999.00,9, -999.00,9,  -999.0,9,  -999.0,-999.000,9,-999.000,-999.000,9,-999.0000,   3.8025,-999.0000,-999.000
  316N145_8,        I03,     553,          1,         18,         18,2,19950530,       1819,   -19.9995,    51.7832,       4911,  1506.7,   3.3249,  34.6503,2,  34.6497,2,    149.4,2,   149.6,2,   85.93,2,   34.01,2,    0.01,2,    2.40,2,-999.000,9,-999.000,9,-999.000,9,  2263.2,2,  2360.0,2,-999.0000,9,-999.0000,9, -999.00,9, -999.00,9,  -999.0,9,  -999.0,-999.000,9,-999.000,-999.000,9,-999.0000,   3.2126,-999.0000,-999.000
  316N145_8,        I03,     553,          1,         17,         17,2,19950530,       1819,   -19.9995,    51.7832,       4911,  1702.6,   2.8540,  34.6809,2,  34.6799,2,    159.0,2,   158.4,2,   92.35,2,   33.48,2,    0.01,2,    2.36,2,-999.000,9,-999.000,9,-999.000,9,  2266.2,2,  2365.0,2,-999.0000,9,-999.0000,9, -999.00,9, -999.00,9,  -999.0,9,  -999.0,-999.000,9,-999.000,-999.000,9,-999.0000,   2.7306,-999.0000,-999.000
  316N145_8,        I03,     553,          1,         16,         16,2,19950530,       1819,   -19.9995,    51.7832,       4911,  1906.9,   2.5770,  34.7055,2,  34.7048,2,    161.7,2,   161.3,2,   99.40,2,   33.33,2,    0.01,2,    2.35,2,-999.000,9,-999.000,9,-999.000,9,  2271.8,2,  2375.0,2,-999.0000,9,-999.0000,9, -999.00,9, -999.00,9,  -999.0,9,  -999.0,-999.000,9,-999.000,-999.000,9,-999.0000,   2.4397,-999.0000,-999.000
  316N145_8,        I03,     553,          1,         15,         15,2,19950530,       1819,   -19.9995,    51.7832,       4911,  2110.9,   2.3466,  34.7239,2,  34.7229,2,    161.5,2,   162.0,2,  107.71,2,   33.44,2,    0.01,2,    2.36,2,-999.000,9,-999.000,9,-999.000,9,  2279.2,2,  2381.0,2,-999.0000,9,-999.0000,9, -999.00,9, -999.00,9,  -999.0,9,  -999.0,-999.000,9,-999.000,-999.000,9,-999.0000,   2.1949,-999.0000,-999.000
  316N145_8,        I03,     553,          1,         14,         14,2,19950530,       1819,   -19.9995,    51.7832,       4911,  2310.9,   2.1856,  34.7316,2,  34.7307,2,    161.7,2,   161.5,2,  114.71,2,   33.64,2,    0.01,2,    2.39,2,-999.000,9,-999.000,9,-999.000,9,  2286.6,2,  2391.0,2,-999.0000,9,-999.0000,9, -999.00,9, -999.00,9,  -999.0,9,  -999.0,-999.000,9,-999.000,-999.000,9,-999.0000,   2.0187,-999.0000,-999.000
  316N145_8,        I03,     553,          1,         13,         13,2,19950530,       1819,   -19.9995,    51.7832,       4911,  2518.4,   2.0680,  34.7327,2,  34.7329,2,    161.6,2,   162.2,2,  118.55,2,   33.79,2,    0.01,2,    2.39,2,-999.000,9,-999.000,9,-999.000,9,  2289.0,2,  2395.0,2,-999.0000,9,-999.0000,9, -999.00,9, -999.00,9,  -999.0,9,  -999.0,-999.000,9,-999.000,-999.000,9,-999.0000,   1.8844,-999.0000,-999.000
  316N145_8,        I03,     553,          1,         12,         12,2,19950530,       1819,   -19.9995,    51.7832,       4911,  2722.7,   1.9854,  34.7368,2,  34.7368,2,    160.4,2,   160.8,2,  122.82,2,   34.00,2,    0.00,2,    2.41,2,-999.000,9,-999.000,9,-999.000,9,  2293.2,2,  2398.0,2,-999.0000,9,-999.0000,9, -999.00,9, -999.00,9,  -999.0,9,  -999.0,-999.000,9,-999.000,-999.000,9,-999.0000,   1.7843,-999.0000,-999.000
  316N145_8,        I03,     553,          1,         11,         11,2,19950530,       1819,   -19.9995,    51.7832,       4911,  2925.2,   1.9146,  34.7381,2,  34.7376,2,    161.5,2,   161.2,2,  125.48,2,   34.05,2,    0.01,2,    2.41,2,  -0.002,2,   0.002,2,-999.000,9,  2297.8,2,  2404.0,2,-999.0000,9,-999.0000,9, -999.00,9, -999.00,9,  -999.0,9,  -999.0,-999.000,9,-999.000,-999.000,9,-999.0000,   1.6957,-999.0000,-999.000
  316N145_8,        I03,     553,          1,         10,         10,2,19950530,       1819,   -19.9995,    51.7832,       4911,  3125.9,   1.8341,  34.7361,2,  34.7356,2,    163.2,2,   163.4,2,  126.71,2,   34.05,2,    0.01,2,    2.41,2,-999.000,9,-999.000,9,-999.000,9,  2298.9,6,  2403.0,6,-999.0000,9,-999.0000,9, -999.00,9, -999.00,9,  -999.0,9,  -999.0,-999.000,9,-999.000,-999.000,9,-999.0000,   1.5973,-999.0000,-999.000
  316N145_8,        I03,     553,          1,          9,          9,2,19950530,       1819,   -19.9995,    51.7832,       4911,  3329.3,   1.7583,  34.7344,2,  34.7332,2,    166.1,2,   165.8,2,  128.56,2,   34.01,2,    0.01,2,    2.40,2,  -0.002,2,   0.005,2,-999.000,9,  2297.9,2,  2407.0,2,-999.0000,9,-999.0000,9, -999.00,9, -999.00,9,  -999.0,9,  -999.0,-999.000,9,-999.000,-999.000,9,-999.0000,   1.5029,-999.0000,-999.000
  316N145_8,        I03,     553,          1,          8,          8,2,19950530,       1819,   -19.9995,    51.7832,       4911,  3538.0,   1.6679,  34.7313,2,  34.7303,2,    170.7,2,   170.1,2,  128.96,2,   33.86,2,    0.01,2,    2.38,2,-999.000,9,-999.000,9,-999.000,9,  2294.2,2,  2406.0,2,-999.0000,9,-999.0000,9, -999.00,9, -999.00,9,  -999.0,9,  -999.0,-999.000,9,-999.000,-999.000,9,-999.0000,   1.3933,-999.0000,-999.000
  316N145_8,        I03,     553,          1,          7,          7,2,19950530,       1819,   -19.9995,    51.7832,       4911,  3745.3,   1.5674,  34.7276,2,  34.7271,2,    175.7,2,   175.4,2,  128.74,2,   33.67,2,    0.01,2,    2.37,2,  -0.002,2,   0.003,2,-999.000,9,  2290.0,2,  2403.0,2,-999.0000,9,-999.0000,9, -999.00,9, -999.00,9,  -999.0,9,  -999.0,-999.000,9,-999.000,-999.000,9,-999.0000,   1.2737,-999.0000,-999.000
  316N145_8,        I03,     553,          1,          6,          6,2,19950530,       1819,   -19.9995,    51.7832,       4911,  3951.5,   1.4141,  34.7223,2,  34.7216,2,    183.1,2,   183.7,2,  127.49,2,   33.29,2,    0.01,2,    2.33,2,   0.000,2,   0.000,2,-999.000,9,  2283.7,2,  2396.0,2,-999.0000,9,-999.0000,9, -999.00,9, -999.00,9,  -999.0,9,  -999.0,-999.000,9,-999.000,-999.000,9,-999.0000,   1.1027,-999.0000,-999.000
  316N145_8,        I03,     553,          1,          5,          5,2,19950530,       1819,   -19.9995,    51.7832,       4911,  4155.5,   1.2739,  34.7173,2,  34.7163,2,    191.5,2,   192.3,2,  125.62,2,   32.85,2,    0.00,2,    2.30,2,  -0.002,2,   0.001,2,-999.000,9,  2274.6,2,  2389.0,2,-999.0000,9,-999.0000,9, -999.00,9, -999.00,9,  -999.0,9,  -999.0,-999.000,9,-999.000,-999.000,9,-999.0000,   0.9443,-999.0000,-999.000
  316N145_8,        I03,     553,          1,          4,          4,2,19950530,       1819,   -19.9995,    51.7832,       4911,  4360.4,   1.1268,  34.7124,2,  34.7114,2,    199.6,2,   200.4,2,  123.76,2,   32.37,2,    0.00,2,    2.26,2,   0.000,2,   0.001,2,-999.000,9,  2265.2,2,  2379.0,2,-999.0000,9,-999.0000,9, -999.00,9, -999.00,9,  -999.0,9,  -999.0,-999.000,9,-999.000,-999.000,9,-999.0000,   0.7789,-999.0000,-999.000
  316N145_8,        I03,     553,          1,          3,          3,2,19950530,       1819,   -19.9995,    51.7832,       4911,  4564.7,   1.0276,  34.7079,2,  34.7071,2,    205.2,2,   205.1,2,  124.16,2,   32.28,2,    0.00,2,    2.24,2,   0.001,2,   0.004,2,-999.000,9,  2262.4,2,  2377.0,2,-999.0000,9,-999.0000,9, -999.00,9, -999.00,9,  -999.0,9,  -999.0,-999.000,9,-999.000,-999.000,9,-999.0000,   0.6599,-999.0000,-999.000
  316N145_8,        I03,     553,          1,          2,          2,2,19950530,       1819,   -19.9995,    51.7832,       4911,  4769.0,   1.0086,  34.7061,2,  34.7061,2,    206.9,2,   206.5,2,  124.15,2,   32.23,2,    0.00,2,    2.24,2,   0.005,2,   0.004,2,-999.000,9,  2261.1,2,  2373.0,2,-999.0000,9,-999.0000,9, -999.00,9, -999.00,9,  -999.0,9,  -999.0,-999.000,9,-999.000,-999.000,9,-999.0000,   0.6181,-999.0000,-999.000
  316N145_8,        I03,     553,          1,          1,          1,2,19950530,       1819,   -19.9995,    51.7832,       4911,  5011.2,   1.0159,  34.7050,2,  34.7049,2,    207.4,3,   207.1,2,  124.34,2,   32.29,2,    0.00,2,    2.24,2,   0.004,2,   0.005,2,-999.000,9,  2260.5,2,  2370.0,2,-999.0000,9,-999.0000,9, -999.00,9, -999.00,9,  -999.0,9,  -999.0,-999.000,9,-999.000,-999.000,9,-999.0000,   0.5967,-999.0000,-999.000