BOTTLE,20140514CCHSIOSE
EXPOCODE,SECT_ID,STNNBR,CASTNO,SAMPNO,BTLNBR,BTLNBR_FLAG_W,DATE,TIME,LATITUDE,LONGITUDE,DEPTH,CTDPRS,CTDTMP,CTDSAL,CTDSAL_FLAG_W,SALNTY,SALNTY_FLAG_W,CTDOXY,CTDOXY_FLAG_W,OXYGEN,OXYGEN_FLAG_W,SILCAT,SILCAT_FLAG_W,NITRAT,NITRAT_FLAG_W,NITRIT,NITRIT_FLAG_W,PHSPHT,PHSPHT_FLAG_W,CFC-11,CFC-11_FLAG_W,CFC-12,CFC-12_FLAG_W,CFC113,CFC113_FLAG_W,TCARBN,TCARBN_FLAG_W,ALKALI,ALKALI_FLAG_W,TRITUM,TRITUM_FLAG_W,HELIUM,HELIUM_FLAG_W,DELHE3,DELHE3_FLAG_W,DELC13,DELC13_FLAG_W,DELC14,DELC14_FLAG_W,C14ERR,NEON,NEON_FLAG_W,NEONER,CCL4,CCL4_FLAG_W,HELIER,THETA,TRITER,DELHER
,,,,,,,,,,,METERS,DBAR,ITS-90,PSS-78,,PSS-78,,UMOL/KG,,UMOL/KG,,UMOL/KG,,UMOL/KG,,UMOL/KG,,UMOL/KG,,PMOL/KG,,PMOL/KG,,PMOL/KG,,UMOL/KG,,UMOL/KG,,TU,,NMOL/KG,,PERCNT,,/MILLE,,/MILLE,,/MILLE,NMOL/KG,,NMOL/KG,PMOL/KG,,NMOL/KG,DEG C,TU,PERCNT
  316N145_8,        I03,     549,          1,         36,         36,2,19950529,       0919,   -20.0000,    53.8830,       4846,     4.6,  25.9691,  35.0073,2,  35.0075,2,    205.9,2,   205.9,2,    2.95,2,    0.06,2,    0.00,2,    0.11,2,   1.817,2,   1.024,2,-999.000,9,  1947.3,2,  2289.0,2,   1.1084,2,   1.7872,2,   -1.38,2, -999.00,9,  -999.0,9,  -999.0,   7.075,2,   0.035,-999.000,9,   0.0089,  25.9680,   0.0040,    0.14
  316N145_8,        I03,     549,          1,         35,         35,2,19950529,       0919,   -20.0000,    53.8830,       4846,    56.1,  25.7145,  35.0292,2,  35.0291,2,    205.4,2,   207.5,2,    2.95,2,    0.07,2,    0.00,2,    0.10,2,   1.776,2,   1.037,2,-999.000,9,  1949.4,2,  2291.0,2,-999.0000,9,-999.0000,9, -999.00,9, -999.00,9,  -999.0,9,  -999.0,-999.000,9,-999.000,-999.000,9,-999.0000,  25.7021,-999.0000,-999.000
  316N145_8,        I03,     549,          1,         34,         34,2,19950529,       0919,   -20.0000,    53.8830,       4846,   107.0,  23.8685,  35.0952,2,  35.0984,2,    216.2,2,   211.9,2,    3.17,2,    0.07,2,    0.00,2,    0.14,2,   2.023,2,   1.126,2,-999.000,9,  1973.6,2,  2298.0,2,   1.1555,2,   1.7842,2,   -1.10,2, -999.00,9,  -999.0,9,  -999.0,   7.142,2,   0.036,-999.000,9,   0.0089,  23.8460,   0.0041,    0.14
  316N145_8,        I03,     549,          1,         33,         33,2,19950529,       0919,   -20.0000,    53.8830,       4846,   156.0,  21.7513,  35.4125,2,  35.4142,2,    197.5,2,   197.2,2,    3.63,2,    1.03,2,    0.19,2,    0.23,2,   2.025,2,   1.135,2,-999.000,9,  2011.5,2,  2318.0,2,   1.1100,2,   1.7832,2,   -0.99,2, -999.00,9,  -999.0,9,  -999.0,   7.167,2,   0.036,-999.000,9,   0.0089,  21.7207,   0.0040,    0.14
  316N145_8,        I03,     549,          1,         32,         32,2,19950529,       0919,   -20.0000,    53.8830,       4846,   206.2,  19.7843,  35.5015,2,  35.5014,2,    176.4,2,   178.4,2,    5.46,2,    4.54,2,    0.01,2,    0.42,2,   2.081,2,   1.141,2,-999.000,9,  2053.7,2,  2325.0,2,   1.0747,2,   1.7947,2,    0.59,2, -999.00,9,  -999.0,9,  -999.0,   7.282,2,   0.036,-999.000,9,   0.0090,  19.7464,   0.0039,    0.14
  316N145_8,        I03,     549,          1,         31,         31,2,19950529,       0919,   -20.0000,    53.8830,       4846,   257.3,  17.3476,  35.5025,2,  35.4982,2,    174.6,2,   173.6,2,    7.98,2,    7.25,2,    0.01,2,    0.61,2,   2.116,2,   1.125,2,-999.000,9,  2086.6,2,  2333.0,2,   0.9973,2,   1.8073,2,    1.04,2, -999.00,9,  -999.0,9,  -999.0,   7.399,2,   0.037,-999.000,9,   0.0090,  17.3043,   0.0038,    0.14
  316N145_8,        I03,     549,          1,         30,         30,2,19950529,       0919,   -20.0000,    53.8830,       4846,   306.8,  15.1432,  35.3540,2,  35.3534,2,    157.4,2,   171.8,2,   10.28,2,   10.43,2,    0.01,2,    0.82,2,   2.031,2,   1.059,2,-999.000,9,  2110.2,2,  2327.0,2,-999.0000,9,   1.8279,2,    2.05,2, -999.00,9,  -999.0,9,  -999.0,   7.570,2,   0.038,-999.000,9,   0.0091,  15.0961,-999.0000,    0.14
  316N145_8,        I03,     549,          1,         29,         29,2,19950529,       0919,   -20.0000,    53.8830,       4846,   357.4,  14.0429,  35.2887,2,  35.2876,2,    188.4,2,   186.6,2,    9.35,2,   10.48,2,    0.01,2,    0.83,2,   2.153,2,   1.110,2,-999.000,9,  2111.2,2,  2324.0,2,-999.0000,9,-999.0000,9, -999.00,9, -999.00,9,  -999.0,9,  -999.0,-999.000,9,-999.000,-999.000,9,-999.0000,  13.9908,-999.0000,-999.000
  316N145_8,        I03,     549,          1,         28,         28,2,19950529,       0919,   -20.0000,    53.8830,       4846,   407.0,  12.9863,  35.1854,2,  35.1847,2,    195.3,2,   198.1,2,    8.43,2,   11.16,2,    0.01,2,    0.87,2,   2.247,2,   1.145,2,-999.000,9,  2112.2,2,  2320.0,2,   0.7409,2,   1.7993,2,    1.47,2, -999.00,9,  -999.0,9,  -999.0,   7.547,2,   0.038,-999.000,9,   0.0090,  12.9298,   0.0034,    0.14
  316N145_8,        I03,     549,          1,         27,         27,2,19950529,       0919,   -20.0000,    53.8830,       4846,   507.6,  11.2155,  34.9621,2,  34.9630,2,    204.2,2,   210.2,2,    8.19,2,   13.72,2,    0.01,2,    1.00,2,   2.264,2,   1.127,2,-999.000,9,  2117.1,2,  2308.0,2,-999.0000,9,-999.0000,9, -999.00,9, -999.00,9,  -999.0,9,  -999.0,-999.000,9,-999.000,-999.000,9,-999.0000,  11.1513,-999.0000,-999.000
  316N145_8,        I03,     549,          1,         26,         26,2,19950529,       0919,   -20.0000,    53.8830,       4846,   606.7,   9.5229,  34.7492,2,  34.7503,2,    203.2,2,   211.0,2,   10.49,2,   17.69,2,    0.01,2,    1.25,2,   1.830,2,   0.906,2,-999.000,9,  2128.0,2,  2301.0,2,-999.0000,9,-999.0000,9, -999.00,9, -999.00,9,  -999.0,9,  -999.0,-999.000,9,-999.000,-999.000,9,-999.0000,   9.4533,-999.0000,-999.000
  316N145_8,        I03,     549,          1,         25,         25,2,19950529,       0919,   -20.0000,    53.8830,       4846,   708.7,   8.1198,  34.6339,2,  34.6316,2,    178.5,2,   189.5,2,   20.13,2,   23.01,2,    0.01,2,    1.61,2,   0.994,2,   0.497,2,-999.000,9,  2156.3,2,  2303.0,2,   0.2461,2,   1.7841,2,    3.13,2, -999.00,9,  -999.0,9,  -999.0,   7.630,2,   0.038,-999.000,9,   0.0089,   8.0455,   0.0026,    0.14
  316N145_8,        I03,     549,          1,         24,         24,2,19950529,       0919,   -20.0000,    53.8830,       4846,   809.1,   6.9141,  34.6061,2,  34.6024,2,    157.6,2,   157.4,2,   37.81,2,   28.32,2,    0.01,2,    1.98,2,   0.407,2,   0.200,2,-999.000,9,  2197.3,2,  2316.0,2,-999.0000,9,-999.0000,9, -999.00,9, -999.00,9,  -999.0,9,  -999.0,-999.000,9,-999.000,-999.000,9,-999.0000,   6.8360,-999.0000,-999.000
  316N145_8,        I03,     549,          1,         23,         23,2,19950529,       0919,   -20.0000,    53.8830,       4846,   910.0,   5.6539,  34.5490,2,  34.5520,2,    147.1,2,   150.9,2,   51.37,2,   31.40,2,    0.00,2,    2.21,2,   0.172,2,   0.086,2,-999.000,9,  2221.1,2,  2328.0,2,   0.0442,2,   1.8150,2,    8.56,2, -999.00,9,  -999.0,9,  -999.0,   7.821,2,   0.039,-999.000,9,   0.0091,   5.5741,   0.0023,    0.14
  316N145_8,        I03,     549,          1,         22,         22,2,19950529,       0919,   -20.0000,    53.8830,       4846,  1011.2,   5.2051,  34.6239,2,  34.6255,2,    131.1,2,   127.3,2,   67.92,2,   33.61,2,    0.00,2,    2.41,2,   0.056,2,   0.025,2,-999.000,9,  2251.2,2,  2345.0,2,-999.0000,9,-999.0000,9, -999.00,9, -999.00,9,  -999.0,9,  -999.0,-999.000,9,-999.000,-999.000,9,-999.0000,   5.1190,-999.0000,-999.000
  316N145_8,        I03,     549,          1,         21,         21,2,19950529,       0919,   -20.0000,    53.8830,       4846,  1111.2,   4.7016,  34.6298,2,  34.6316,2,    130.2,2,   127.9,2,   73.89,2,   34.11,2,    0.00,2,    2.45,2,   0.031,2,   0.016,2,-999.000,9,  2258.5,2,  2349.0,2,   0.0051,2,   1.8112,2,    9.99,2, -999.00,9,  -999.0,9,  -999.0,   7.796,2,   0.039,-999.000,9,   0.0091,   4.6104,   0.0022,    0.14
  316N145_8,        I03,     549,          1,         20,         20,2,19950529,       0919,   -20.0000,    53.8830,       4846,  1212.0,   4.3115,  34.6499,2,  34.6506,2,    131.0,2,   129.7,2,   79.41,2,   34.31,2,    0.00,2,    2.47,2,   0.016,2,   0.008,2,-999.000,9,  2264.5,2,  2354.0,2,-999.0000,9,-999.0000,9, -999.00,9, -999.00,9,  -999.0,9,  -999.0,-999.000,9,-999.000,-999.000,9,-999.0000,   4.2147,-999.0000,-999.000
  316N145_8,        I03,     549,          1,         19,         19,2,19950529,       0919,   -20.0000,    53.8830,       4846,  1312.8,   3.8975,  34.6555,2,  34.6567,2,    135.6,2,   136.4,2,   82.63,2,   34.16,2,    0.01,2,    2.45,2,   0.013,3,   0.009,4,-999.000,9,  2267.0,2,  2360.0,2,   0.0095,2,   1.8614,2,   10.73,2, -999.00,9,  -999.0,9,  -999.0,   7.974,2,   0.040,-999.000,9,   0.0093,   3.7958,   0.0022,    0.14
  316N145_8,        I03,     549,          1,         18,         18,2,19950529,       0919,   -20.0000,    53.8830,       4846,  1514.2,   3.2682,  34.6603,2,  34.6598,2,    148.8,2,   150.5,2,   86.31,2,   33.77,2,    0.01,2,    2.41,2,   0.006,2,   0.002,2,-999.000,9,  2266.8,2,  2363.0,2,-999.0000,9,   1.8555,2,   12.43,2, -999.00,9,  -999.0,9,  -999.0,   7.996,2,   0.040,-999.000,9,   0.0093,   3.1558,-999.0000,    0.14
  316N145_8,        I03,     549,          1,         17,         17,2,19950529,       0919,   -20.0000,    53.8830,       4846,  1714.8,   2.7726,  34.6891,2,  34.6881,2,    156.0,2,   157.7,2,   94.16,2,   33.37,2,    0.00,2,    2.38,2,   0.003,2,   0.001,2,-999.000,9,  2271.9,2,  2370.0,2,-999.0000,9,   1.8660,2,   12.05,2, -999.00,9,  -999.0,9,  -999.0,   8.029,2,   0.054,-999.000,9,   0.0050,   2.6491,-999.0000,    0.14
  316N145_8,        I03,     549,          1,         16,         16,2,19950529,       0919,   -20.0000,    53.8830,       4846,  1917.2,   2.4766,  34.7105,2,  34.7108,2,    162.4,2,   162.0,2,  101.34,2,   33.37,2,    0.00,2,    2.37,2,-999.000,9,-999.000,9,-999.000,9,  2275.7,2,  2378.0,2,-999.0000,9,-999.0000,9, -999.00,9, -999.00,9,  -999.0,9,  -999.0,-999.000,9,-999.000,-999.000,9,-999.0000,   2.3399,-999.0000,-999.000
  316N145_8,        I03,     549,          1,         15,         15,2,19950529,       0919,   -20.0000,    53.8830,       4846,  2120.3,   2.2717,  34.7273,2,  34.7259,2,    164.4,2,   163.5,2,  108.54,2,   33.23,2,    0.00,2,    2.38,2,-999.000,9,-999.000,9,-999.000,9,  2282.8,2,  2388.0,2,-999.0000,9,-999.0000,9, -999.00,9, -999.00,9,  -999.0,9,  -999.0,-999.000,9,-999.000,-999.000,9,-999.0000,   2.1204,-999.0000,-999.000
  316N145_8,        I03,     549,          1,         14,         14,2,19950529,       0919,   -20.0000,    53.8830,       4846,  2323.3,   2.1565,  34.7309,2,  34.7302,2,    163.3,2,   162.8,2,  113.90,2,   33.47,2,    0.01,2,    2.39,2,   0.000,2,  -0.002,2,-999.000,9,  2287.7,2,  2395.0,2,-999.0000,9,   1.8880,2,   13.41,2, -999.00,9,  -999.0,9,  -999.0,   8.077,2,   0.021,-999.000,9,   0.0030,   1.9890,-999.0000,    0.14
  316N145_8,        I03,     549,          1,         13,         13,2,19950529,       0919,   -20.0000,    53.8830,       4846,  2526.7,   2.0326,  34.7325,2,  34.7338,2,    163.5,2,   163.1,2,  118.58,2,   33.52,2,    0.01,2,    2.40,2,-999.000,9,-999.000,9,-999.000,9,  2288.4,2,  2398.0,2,-999.0000,9,   1.8970,2,   13.91,2, -999.00,9,  -999.0,9,  -999.0,   8.157,2,   0.044,-999.000,9,   0.0040,   1.8490,-999.0000,    0.14
  316N145_8,        I03,     549,          1,         12,         12,2,19950529,       0919,   -20.0000,    53.8830,       4846,  2730.9,   1.9371,  34.7359,2,  34.7365,2,    163.1,2,   162.7,2,  123.04,2,   33.82,2,    0.01,2,    2.42,2,-999.000,9,-999.000,9,-999.000,9,  2294.7,2,  2403.0,2,-999.0000,9,   1.8930,2,   13.56,2, -999.00,9,  -999.0,9,  -999.0,   8.117,2,   0.020,-999.000,9,   0.0030,   1.7362,-999.0000,    0.14
  316N145_8,        I03,     549,          1,         11,         11,2,19950529,       0919,   -20.0000,    53.8830,       4846,  2933.0,   1.8660,  34.7348,2,  34.7347,2,    164.2,2,   164.3,2,  124.91,2,   33.82,2,    0.01,2,    2.41,2,   0.000,2,   0.001,2,-999.000,9,  2296.6,2,  2402.0,2,-999.0000,9,   1.7960,3,   13.49,2, -999.00,9,  -999.0,9,  -999.0,   7.753,4,   0.036,-999.000,9,   0.0040,   1.6474,-999.0000,    0.14
  316N145_8,        I03,     549,          1,         10,         10,2,19950529,       0919,   -20.0000,    53.8830,       4846,  3137.6,   1.7724,  34.7340,2,  34.7342,2,    166.1,2,   166.3,2,  127.25,2,   33.87,2,    0.01,2,    2.41,2,-999.000,9,-999.000,9,-999.000,9,  2296.1,2,  2404.0,2,-999.0000,9,   1.9030,2,   13.03,2, -999.00,9,  -999.0,9,  -999.0,   8.155,2,   0.021,-999.000,9,   0.0030,   1.5358,-999.0000,    0.14
  316N145_8,        I03,     549,          1,          9,          9,2,19950529,       0919,   -20.0000,    53.8830,       4846,  3340.9,   1.6831,  34.7312,2,  34.7322,2,    169.5,2,   169.5,2,  128.41,2,   33.77,2,    0.01,2,    2.41,2,-999.000,9,-999.000,9,-999.000,9,  2294.6,2,  2403.0,2,-999.0000,9,   1.8870,2,   12.58,2, -999.00,9,  -999.0,9,  -999.0,   8.151,2,   0.035,-999.000,9,   0.0060,   1.4283,-999.0000,    0.14
  316N145_8,        I03,     549,          1,          8,          8,2,19950529,       0919,   -20.0000,    53.8830,       4846,  3545.9,   1.5872,  34.7282,2,  34.7279,2,    173.5,2,   174.2,2,  128.63,2,   33.53,2,    0.01,2,    2.38,2,  -0.002,2,  -0.001,2,   0.031,3,  2292.6,2,  2402.0,2,-999.0000,9,   1.9000,2,   12.14,2, -999.00,9,  -999.0,9,  -999.0,   8.153,2,   0.021,   0.004,2,   0.0030,   1.3139,-999.0000,    0.14
  316N145_8,        I03,     549,          1,          7,          7,2,19950529,       0919,   -20.0000,    53.8830,       4846,  3749.6,   1.5075,  34.7250,2,  34.7255,2,    177.9,2,   178.8,2,  128.13,2,   33.38,2,    0.01,2,    2.35,2,-999.000,9,-999.000,9,-999.000,9,  2288.0,2,  2398.0,2,-999.0000,9,-999.0000,9, -999.00,9, -999.00,9,  -999.0,9,  -999.0,-999.000,9,-999.000,-999.000,9,-999.0000,   1.2150,-999.0000,-999.000
  316N145_8,        I03,     549,          1,          6,          6,2,19950529,       0919,   -20.0000,    53.8830,       4846,  3953.6,   1.4098,  34.7213,2,  34.7216,2,    183.9,2,   184.4,2,  126.45,2,   33.04,2,    0.01,2,    2.34,2,-999.000,9,-999.000,9,-999.000,9,  2284.1,2,  2395.0,2,-999.0000,9,   1.9150,2,   11.09,2, -999.00,9,  -999.0,9,  -999.0,   8.244,2,   0.021,-999.000,9,   0.0030,   1.0983,-999.0000,    0.14
  316N145_8,        I03,     549,          1,          5,          5,2,19950529,       0919,   -20.0000,    53.8830,       4846,  4158.0,   1.2864,  34.7169,2,  34.7165,2,    191.5,2,   192.0,2,  123.83,2,   32.79,2,    0.01,2,    2.30,2,   0.003,2,   0.001,2,-999.000,9,  2275.7,2,  2388.0,2,-999.0000,9,   1.9060,2,    9.94,2, -999.00,9,  -999.0,9,  -999.0,   8.299,2,   0.036,-999.000,9,   0.0050,   0.9562,-999.0000,    0.14
  316N145_8,        I03,     549,          1,          4,          4,2,19950529,       0919,   -20.0000,    53.8830,       4846,  4362.4,   1.1560,  34.7124,2,  34.7119,2,    199.3,4,   198.8,2,  123.58,2,   32.50,2,    0.01,2,    2.27,2,-999.000,9,-999.000,9,-999.000,9,  2269.9,2,  2382.0,2,-999.0000,9,   1.8930,2,    9.15,2, -999.00,9,  -999.0,9,  -999.0,   8.309,2,   0.021,-999.000,9,   0.0040,   0.8070,-999.0000,    0.14
  316N145_8,        I03,     549,          1,          3,          3,2,19950529,       0919,   -20.0000,    53.8830,       4846,  4565.7,   1.0957,  34.7101,2,  34.7092,2,    203.9,4,   202.3,2,  123.79,2,   32.36,2,    0.01,2,    2.25,2,-999.000,9,-999.000,9,   0.026,3,  -999.0,5,  2376.0,2,-999.0000,9,   1.8950,2,    8.96,2, -999.00,9,  -999.0,9,  -999.0,   8.276,2,   0.045,   0.041,2,   0.0060,   0.7257,-999.0000,    0.14
  316N145_8,        I03,     549,          1,          2,          2,2,19950529,       0919,   -20.0000,    53.8830,       4846,  4771.1,   1.0489,  34.7066,2,  34.7072,2,    208.3,4,   205.0,2,  123.53,2,   32.26,2,    0.01,2,    2.25,2,   0.001,2,   0.000,2,   0.011,3,  2263.3,2,  2378.0,2,-999.0000,9,   1.8970,2,    8.86,2, -999.00,9,  -999.0,9,  -999.0,   8.238,2,   0.021,   0.053,2,   0.0030,   0.6568,-999.0000,    0.14
  316N145_8,        I03,     549,          1,          1,          1,2,19950529,       0919,   -20.0000,    53.8830,       4846,  4945.6,   1.0428,  34.7060,2,  34.7062,2,    210.1,4,   205.9,2,  123.75,2,   32.21,2,    0.01,2,    2.24,2,   0.004,2,   0.003,2,   0.007,3,  2262.1,2,  2375.0,2,-999.0000,9,   1.8780,2,    8.48,2, -999.00,9,  -999.0,9,  -999.0,   8.226,2,   0.046,   0.061,2,   0.0040,   0.6304,-999.0000,    0.14