BOTTLE,20140514CCHSIOSE
EXPOCODE,SECT_ID,STNNBR,CASTNO,SAMPNO,BTLNBR,BTLNBR_FLAG_W,DATE,TIME,LATITUDE,LONGITUDE,DEPTH,CTDPRS,CTDTMP,CTDSAL,CTDSAL_FLAG_W,SALNTY,SALNTY_FLAG_W,CTDOXY,CTDOXY_FLAG_W,OXYGEN,OXYGEN_FLAG_W,SILCAT,SILCAT_FLAG_W,NITRAT,NITRAT_FLAG_W,NITRIT,NITRIT_FLAG_W,PHSPHT,PHSPHT_FLAG_W,CFC-11,CFC-11_FLAG_W,CFC-12,CFC-12_FLAG_W,CFC113,CFC113_FLAG_W,TCARBN,TCARBN_FLAG_W,ALKALI,ALKALI_FLAG_W,TRITUM,TRITUM_FLAG_W,HELIUM,HELIUM_FLAG_W,DELHE3,DELHE3_FLAG_W,DELC13,DELC13_FLAG_W,DELC14,DELC14_FLAG_W,C14ERR,NEON,NEON_FLAG_W,NEONER,CCL4,CCL4_FLAG_W,HELIER,THETA,TRITER,DELHER
,,,,,,,,,,,METERS,DBAR,ITS-90,PSS-78,,PSS-78,,UMOL/KG,,UMOL/KG,,UMOL/KG,,UMOL/KG,,UMOL/KG,,UMOL/KG,,PMOL/KG,,PMOL/KG,,PMOL/KG,,UMOL/KG,,UMOL/KG,,TU,,NMOL/KG,,PERCNT,,/MILLE,,/MILLE,,/MILLE,NMOL/KG,,NMOL/KG,PMOL/KG,,NMOL/KG,DEG C,TU,PERCNT
  316N145_8,        I03,     572,          1,         12,         12,2,19950603,       1538,   -19.9998,    52.2665,       4916,     6.0,  26.0898,  34.9451,2,  34.9466,2,    203.4,2,   204.8,2, -999.00,9, -999.00,9, -999.00,9, -999.00,9,-999.000,9,-999.000,9,-999.000,9,  -999.0,9,  -999.0,9,-999.0000,9,-999.0000,9, -999.00,9, -999.00,9,  -999.0,9,  -999.0,-999.000,9,-999.000,-999.000,9,-999.0000,  26.0885,-999.0000,-999.000
  316N145_8,        I03,     572,          1,         11,         11,2,19950603,       1538,   -19.9998,    52.2665,       4916,    81.6,  24.8973,  35.3106,2,  35.3101,2,    211.7,2,   208.9,2, -999.00,9, -999.00,9, -999.00,9, -999.00,9,-999.000,9,-999.000,9,-999.000,9,  -999.0,9,  -999.0,9,-999.0000,9,-999.0000,9, -999.00,9, -999.00,9,  -999.0,9,  -999.0,-999.000,9,-999.000,-999.000,9,-999.0000,  24.8796,-999.0000,-999.000
  316N145_8,        I03,     572,          1,         10,         10,2,19950603,       1538,   -19.9998,    52.2665,       4916,   239.2,  17.3777,  35.5218,2,  35.5292,2,    173.5,2,   176.4,2, -999.00,9, -999.00,9, -999.00,9, -999.00,9,-999.000,9,-999.000,9,-999.000,9,  -999.0,9,  -999.0,9,-999.0000,9,-999.0000,9, -999.00,9, -999.00,9,  -999.0,9,  -999.0,-999.000,9,-999.000,-999.000,9,-999.0000,  17.3375,-999.0000,-999.000
  316N145_8,        I03,     572,          1,          9,          9,2,19950603,       1538,   -19.9998,    52.2665,       4916,   401.6,  13.5127,  35.3015,2,  35.2993,2,    223.7,2,   220.8,2, -999.00,9, -999.00,9, -999.00,9, -999.00,9,-999.000,9,-999.000,9,-999.000,9,  -999.0,9,  -999.0,9,-999.0000,9,-999.0000,9, -999.00,9, -999.00,9,  -999.0,9,  -999.0,-999.000,9,-999.000,-999.000,9,-999.0000,  13.4554,-999.0000,-999.000
  316N145_8,        I03,     572,          1,          8,          8,2,19950603,       1538,   -19.9998,    52.2665,       4916,   506.0,  11.6720,  35.0315,2,  35.0283,2,    226.5,2,   226.3,2, -999.00,9, -999.00,9, -999.00,9, -999.00,9,-999.000,9,-999.000,9,-999.000,9,  -999.0,9,  -999.0,9,-999.0000,9,-999.0000,9, -999.00,9, -999.00,9,  -999.0,9,  -999.0,-999.000,9,-999.000,-999.000,9,-999.0000,  11.6063,-999.0000,-999.000
  316N145_8,        I03,     572,          1,          7,          7,2,19950603,       1538,   -19.9998,    52.2665,       4916,  1010.4,   5.1325,  34.5584,2,  34.5603,2,    143.2,2,   142.8,2, -999.00,9, -999.00,9, -999.00,9, -999.00,9,-999.000,9,-999.000,9,-999.000,9,  -999.0,9,  -999.0,9,-999.0000,9,-999.0000,9, -999.00,9, -999.00,9,  -999.0,9,  -999.0,-999.000,9,-999.000,-999.000,9,-999.0000,   5.0471,-999.0000,-999.000
  316N145_8,        I03,     572,          1,          6,          6,2,19950603,       1538,   -19.9998,    52.2665,       4916,  1311.6,   3.7892,  34.6371,2,  34.6372,2,    137.9,2,   138.2,2, -999.00,9, -999.00,9, -999.00,9, -999.00,9,-999.000,9,-999.000,9,-999.000,9,  -999.0,9,  -999.0,9,-999.0000,9,-999.0000,9, -999.00,9, -999.00,9,  -999.0,9,  -999.0,-999.000,9,-999.000,-999.000,9,-999.0000,   3.6888,-999.0000,-999.000
  316N145_8,        I03,     572,          1,          5,          5,2,19950603,       1538,   -19.9998,    52.2665,       4916,  1914.4,   2.4361,  34.7158,2,  34.7159,2,    160.5,2,   161.9,2, -999.00,9, -999.00,9, -999.00,9, -999.00,9,-999.000,9,-999.000,9,-999.000,9,  -999.0,9,  -999.0,9,-999.0000,9,-999.0000,9, -999.00,9, -999.00,9,  -999.0,9,  -999.0,-999.000,9,-999.000,-999.000,9,-999.0000,   2.3002,-999.0000,-999.000
  316N145_8,        I03,     572,          1,          4,          4,2,19950603,       1538,   -19.9998,    52.2665,       4916,  2521.7,   2.0656,  34.7353,2,  34.7361,2,    160.3,2,   160.1,2, -999.00,9, -999.00,9, -999.00,9, -999.00,9,-999.000,9,-999.000,9,-999.000,9,  -999.0,9,  -999.0,9,-999.0000,9,-999.0000,9, -999.00,9, -999.00,9,  -999.0,9,  -999.0,-999.000,9,-999.000,-999.000,9,-999.0000,   1.8818,-999.0000,-999.000
  316N145_8,        I03,     572,          1,          3,          3,2,19950603,       1538,   -19.9998,    52.2665,       4916,  3236.1,   1.7698,  34.7333,2,  34.7331,2,    165.7,2,   165.4,2, -999.00,9, -999.00,9, -999.00,9, -999.00,9,-999.000,9,-999.000,9,-999.000,9,  -999.0,9,  -999.0,9,-999.0000,9,-999.0000,9, -999.00,9, -999.00,9,  -999.0,9,  -999.0,-999.000,9,-999.000,-999.000,9,-999.0000,   1.5235,-999.0000,-999.000
  316N145_8,        I03,     572,          1,          2,          2,2,19950603,       1538,   -19.9998,    52.2665,       4916,  3999.8,   1.3185,  34.7184,2,  34.7178,2,    186.9,2,   188.2,2, -999.00,9, -999.00,9, -999.00,9, -999.00,9,-999.000,9,-999.000,9,-999.000,9,  -999.0,9,  -999.0,9,-999.0000,9,-999.0000,9, -999.00,9, -999.00,9,  -999.0,9,  -999.0,-999.000,9,-999.000,-999.000,9,-999.0000,   1.0045,-999.0000,-999.000
  316N145_8,        I03,     572,          1,          1,          1,2,19950603,       1538,   -19.9998,    52.2665,       4916,  5014.9,   1.0254,  34.7046,2,  34.7054,2,    206.2,2,   206.3,2, -999.00,9, -999.00,9, -999.00,9, -999.00,9,-999.000,9,-999.000,9,-999.000,9,  -999.0,9,  -999.0,9,-999.0000,9,-999.0000,9, -999.00,9, -999.00,9,  -999.0,9,  -999.0,-999.000,9,-999.000,-999.000,9,-999.0000,   0.6054,-999.0000,-999.000
  316N145_8,        I03,     573,          1,         12,         12,2,19950603,       2116,   -19.9992,    52.7823,       4906,     2.3,  25.8690,  35.0118,2,  35.0118,2,    205.1,2,   215.0,3, -999.00,9, -999.00,9, -999.00,9, -999.00,9,-999.000,9,-999.000,9,-999.000,9,  -999.0,9,  -999.0,9,-999.0000,9,-999.0000,9, -999.00,9, -999.00,9,  -999.0,9,  -999.0,-999.000,9,-999.000,-999.000,9,-999.0000,  25.8685,-999.0000,-999.000
  316N145_8,        I03,     573,          1,         11,         11,2,19950603,       2116,   -19.9992,    52.7823,       4906,    99.3,  23.9188,  35.1131,2,  35.1120,2,    220.2,2,   211.8,2, -999.00,9, -999.00,9, -999.00,9, -999.00,9,-999.000,9,-999.000,9,-999.000,9,  -999.0,9,  -999.0,9,-999.0000,9,-999.0000,9, -999.00,9, -999.00,9,  -999.0,9,  -999.0,-999.000,9,-999.000,-999.000,9,-999.0000,  23.8979,-999.0000,-999.000
  316N145_8,        I03,     573,          1,         10,         10,2,19950603,       2116,   -19.9992,    52.7823,       4906,   235.6,  17.6230,  35.4060,2,  35.4087,2,    151.2,2,   153.0,2, -999.00,9, -999.00,9, -999.00,9, -999.00,9,-999.000,9,-999.000,9,-999.000,9,  -999.0,9,  -999.0,9,-999.0000,9,-999.0000,9, -999.00,9, -999.00,9,  -999.0,9,  -999.0,-999.000,9,-999.000,-999.000,9,-999.0000,  17.5829,-999.0000,-999.000
  316N145_8,        I03,     573,          1,          9,          9,2,19950603,       2116,   -19.9992,    52.7823,       4906,   375.3,  13.5246,  35.1768,2,  35.1814,2,    149.9,2,   163.1,2, -999.00,9, -999.00,9, -999.00,9, -999.00,9,-999.000,9,-999.000,9,-999.000,9,  -999.0,9,  -999.0,9,-999.0000,9,-999.0000,9, -999.00,9, -999.00,9,  -999.0,9,  -999.0,-999.000,9,-999.000,-999.000,9,-999.0000,  13.4711,-999.0000,-999.000
  316N145_8,        I03,     573,          1,          8,          8,2,19950603,       2116,   -19.9992,    52.7823,       4906,   515.7,  11.3423,  34.9835,2,  34.9857,2,    221.8,2,   221.9,2, -999.00,9, -999.00,9, -999.00,9, -999.00,9,-999.000,9,-999.000,9,-999.000,9,  -999.0,9,  -999.0,9,-999.0000,9,-999.0000,9, -999.00,9, -999.00,9,  -999.0,9,  -999.0,-999.000,9,-999.000,-999.000,9,-999.0000,  11.2766,-999.0000,-999.000
  316N145_8,        I03,     573,          1,          7,          7,2,19950603,       2116,   -19.9992,    52.7823,       4906,   968.8,   5.7016,  34.6238,2,  34.6260,2,    130.6,2,   129.8,2, -999.00,9, -999.00,9, -999.00,9, -999.00,9,-999.000,9,-999.000,9,-999.000,9,  -999.0,9,  -999.0,9,-999.0000,9,-999.0000,9, -999.00,9, -999.00,9,  -999.0,9,  -999.0,-999.000,9,-999.000,-999.000,9,-999.0000,   5.6158,-999.0000,-999.000
  316N145_8,        I03,     573,          1,          6,          6,2,19950603,       2116,   -19.9992,    52.7823,       4906,  1118.5,   4.7434,  34.6309,2,  34.6334,2,    126.6,2,   126.6,2, -999.00,9, -999.00,9, -999.00,9, -999.00,9,-999.000,9,-999.000,9,-999.000,9,  -999.0,9,  -999.0,9,-999.0000,9,-999.0000,9, -999.00,9, -999.00,9,  -999.0,9,  -999.0,-999.000,9,-999.000,-999.000,9,-999.0000,   4.6512,-999.0000,-999.000
  316N145_8,        I03,     573,          1,          5,          5,2,19950603,       2116,   -19.9992,    52.7823,       4906,  1812.5,   2.5874,  34.7008,2,  34.7015,2,    160.5,2,   161.0,2, -999.00,9, -999.00,9, -999.00,9, -999.00,9,-999.000,9,-999.000,9,-999.000,9,  -999.0,9,  -999.0,9,-999.0000,9,-999.0000,9, -999.00,9, -999.00,9,  -999.0,9,  -999.0,-999.000,9,-999.000,-999.000,9,-999.0000,   2.4580,-999.0000,-999.000
  316N145_8,        I03,     573,          1,          4,          4,2,19950603,       2116,   -19.9992,    52.7823,       4906,  2517.7,   2.0284,  34.7349,2,  34.7365,2,    162.1,2,   160.8,2, -999.00,9, -999.00,9, -999.00,9, -999.00,9,-999.000,9,-999.000,9,-999.000,9,  -999.0,9,  -999.0,9,-999.0000,9,-999.0000,9, -999.00,9, -999.00,9,  -999.0,9,  -999.0,-999.000,9,-999.000,-999.000,9,-999.0000,   1.8457,-999.0000,-999.000
  316N145_8,        I03,     573,          1,          3,          3,2,19950603,       2116,   -19.9992,    52.7823,       4906,  3232.3,   1.7504,  34.7330,2,  34.7331,2,    166.4,2,   166.5,2, -999.00,9, -999.00,9, -999.00,9, -999.00,9,-999.000,9,-999.000,9,-999.000,9,  -999.0,9,  -999.0,9,-999.0000,9,-999.0000,9, -999.00,9, -999.00,9,  -999.0,9,  -999.0,-999.000,9,-999.000,-999.000,9,-999.0000,   1.5049,-999.0000,-999.000
  316N145_8,        I03,     573,          1,          2,          2,2,19950603,       2116,   -19.9992,    52.7823,       4906,  3992.5,   1.3146,  34.7180,2,  34.7184,2,    187.6,2,   188.8,2, -999.00,9, -999.00,9, -999.00,9, -999.00,9,-999.000,9,-999.000,9,-999.000,9,  -999.0,9,  -999.0,9,-999.0000,9,-999.0000,9, -999.00,9, -999.00,9,  -999.0,9,  -999.0,-999.000,9,-999.000,-999.000,9,-999.0000,   1.0015,-999.0000,-999.000
  316N145_8,        I03,     573,          1,          1,          1,2,19950603,       2116,   -19.9992,    52.7823,       4906,  5012.2,   1.0413,  34.7055,2,  34.7060,2,    206.5,2,   205.9,2, -999.00,9, -999.00,9, -999.00,9, -999.00,9,-999.000,9,-999.000,9,-999.000,9,  -999.0,9,  -999.0,9,-999.0000,9,-999.0000,9, -999.00,9, -999.00,9,  -999.0,9,  -999.0,-999.000,9,-999.000,-999.000,9,-999.0000,   0.6211,-999.0000,-999.000