BOTTLE,20140514CCHSIOSE
EXPOCODE,SECT_ID,STNNBR,CASTNO,SAMPNO,BTLNBR,BTLNBR_FLAG_W,DATE,TIME,LATITUDE,LONGITUDE,DEPTH,CTDPRS,CTDTMP,CTDSAL,CTDSAL_FLAG_W,SALNTY,SALNTY_FLAG_W,CTDOXY,CTDOXY_FLAG_W,OXYGEN,OXYGEN_FLAG_W,SILCAT,SILCAT_FLAG_W,NITRAT,NITRAT_FLAG_W,NITRIT,NITRIT_FLAG_W,PHSPHT,PHSPHT_FLAG_W,CFC-11,CFC-11_FLAG_W,CFC-12,CFC-12_FLAG_W,CFC113,CFC113_FLAG_W,TCARBN,TCARBN_FLAG_W,ALKALI,ALKALI_FLAG_W,TRITUM,TRITUM_FLAG_W,HELIUM,HELIUM_FLAG_W,DELHE3,DELHE3_FLAG_W,DELC13,DELC13_FLAG_W,DELC14,DELC14_FLAG_W,C14ERR,NEON,NEON_FLAG_W,NEONER,CCL4,CCL4_FLAG_W,HELIER,THETA,TRITER,DELHER
,,,,,,,,,,,METERS,DBAR,ITS-90,PSS-78,,PSS-78,,UMOL/KG,,UMOL/KG,,UMOL/KG,,UMOL/KG,,UMOL/KG,,UMOL/KG,,PMOL/KG,,PMOL/KG,,PMOL/KG,,UMOL/KG,,UMOL/KG,,TU,,NMOL/KG,,PERCNT,,/MILLE,,/MILLE,,/MILLE,NMOL/KG,,NMOL/KG,PMOL/KG,,NMOL/KG,DEG C,TU,PERCNT
  316N145_8,        I03,     517,          1,         29,         29,2,19950519,       0953,   -20.0003,    69.3672,       3307,     5.5,  24.8492,  35.1908,2,  35.1901,2,    208.2,2,   208.9,2,    3.01,2,    0.04,2,    0.00,2,    0.11,2,-999.000,9,-999.000,9,-999.000,9,  1963.1,2,  2302.0,2,-999.0000,9,-999.0000,9, -999.00,9,    1.25,2,    84.6,2,     4.5,-999.000,9,-999.000,-999.000,9,-999.0000,  24.8480,-999.0000,-999.000
  316N145_8,        I03,     517,          1,         28,         28,2,19950519,       0953,   -20.0003,    69.3672,       3307,    55.5,  24.7880,  35.2176,2,  35.2166,2,    210.5,2,   209.0,2,    3.00,2,    0.03,2,    0.01,2,    0.11,2,-999.000,9,-999.000,9,-999.000,9,  1965.1,6,  2304.5,6,-999.0000,9,-999.0000,9, -999.00,9, -999.00,9,  -999.0,9,  -999.0,-999.000,9,-999.000,-999.000,9,-999.0000,  24.7761,-999.0000,-999.000
  316N145_8,        I03,     517,          1,         27,         27,2,19950519,       0953,   -20.0003,    69.3672,       3307,   106.0,  21.0377,  35.6424,2,  35.6557,2,    225.6,2,   214.7,2,    2.98,2,    0.18,2,    0.09,2,    0.16,2,-999.000,9,-999.000,9,-999.000,9,  2022.4,2,  2335.0,2,-999.0000,9,-999.0000,9, -999.00,9,    1.13,2,    95.6,2,     3.5,-999.000,9,-999.000,-999.000,9,-999.0000,  21.0174,-999.0000,-999.000
  316N145_8,        I03,     517,          1,         26,         26,2,19950519,       0953,   -20.0003,    69.3672,       3307,   156.6,  20.2197,  35.7727,2,  35.7736,2,    221.4,2,   220.2,2,    2.76,2,    0.29,2,    0.07,2,    0.15,2,-999.000,9,-999.000,9,-999.000,9,  2030.1,2,  2341.0,2,-999.0000,9,-999.0000,9, -999.00,9, -999.00,9,  -999.0,9,  -999.0,-999.000,9,-999.000,-999.000,9,-999.0000,  20.1904,-999.0000,-999.000
  316N145_8,        I03,     517,          1,         25,         25,2,19950519,       0953,   -20.0003,    69.3672,       3307,   207.0,  18.0493,  35.7113,2,  35.7111,2,    201.9,2,   203.9,2,    3.36,2,    2.31,2,    0.01,2,    0.31,2,-999.000,9,-999.000,9,-999.000,9,  2066.3,2,  2340.0,2,-999.0000,9,-999.0000,9, -999.00,9,    1.08,2,    92.5,2,     3.5,-999.000,9,-999.000,-999.000,9,-999.0000,  18.0135,-999.0000,-999.000
  316N145_8,        I03,     517,          1,         24,         24,2,19950519,       0953,   -20.0003,    69.3672,       3307,   256.9,  16.2516,  35.6243,2,  35.6234,2,    211.7,2,   212.2,2,    2.93,2,    3.10,2,    0.00,2,    0.39,2,-999.000,9,-999.000,9,-999.000,9,  2081.7,2,  2339.0,2,-999.0000,9,-999.0000,9, -999.00,9, -999.00,9,  -999.0,9,  -999.0,-999.000,9,-999.000,-999.000,9,-999.0000,  16.2103,-999.0000,-999.000
  316N145_8,        I03,     517,          1,         23,         23,2,19950519,       0953,   -20.0003,    69.3672,       3307,   307.5,  14.5598,  35.4495,2,  35.4439,2,    218.7,2,   219.9,2,    3.13,2,    5.05,2,    0.00,2,    0.51,2,-999.000,9,-999.000,9,-999.000,9,  2090.1,2,  2329.0,2,-999.0000,9,-999.0000,9, -999.00,9,    1.09,2,    86.7,2,     3.6,-999.000,9,-999.000,-999.000,9,-999.0000,  14.5139,-999.0000,-999.000
  316N145_8,        I03,     517,          1,         22,         22,2,19950519,       0953,   -20.0003,    69.3672,       3307,   357.2,  13.2548,  35.2774,2,  35.2817,2,    223.0,2,   225.8,2,    3.53,2,    7.38,2,    0.00,2,    0.63,2,-999.000,9,-999.000,9,-999.000,9,  2095.9,2,  2322.0,2,-999.0000,9,-999.0000,9, -999.00,9, -999.00,9,  -999.0,9,  -999.0,-999.000,9,-999.000,-999.000,9,-999.0000,  13.2046,-999.0000,-999.000
  316N145_8,        I03,     517,          1,         21,         21,2,19950519,       0953,   -20.0003,    69.3672,       3307,   407.8,  12.2919,  35.1397,2,  35.1394,2,    230.6,2,   230.8,2,    3.72,2,    9.20,2,    0.00,2,    0.75,2,-999.000,9,-999.000,9,-999.000,9,  2099.2,2,  2314.0,2,-999.0000,9,-999.0000,9, -999.00,9,    1.24,2,    83.8,2,     3.5,-999.000,9,-999.000,-999.000,9,-999.0000,  12.2373,-999.0000,-999.000
  316N145_8,        I03,     517,          1,         20,         20,2,19950519,       0953,   -20.0003,    69.3672,       3307,   457.5,  11.7316,  35.0547,2,  35.0517,2,    230.9,2,   231.7,2,    4.12,2,   10.32,2,    0.00,2,    0.81,2,-999.000,9,-999.000,9,-999.000,9,  2102.3,2,  2312.0,2,-999.0000,9,-999.0000,9, -999.00,9, -999.00,9,  -999.0,9,  -999.0,-999.000,9,-999.000,-999.000,9,-999.0000,  11.6721,-999.0000,-999.000
  316N145_8,        I03,     517,          1,         19,         19,2,19950519,       0953,   -20.0003,    69.3672,       3307,   508.9,  11.0147,  34.9441,2,  34.9501,2,    229.9,2,   231.0,2,    4.73,2,   11.90,2,    0.00,2,    0.90,2,   2.791,2,   1.398,2,-999.000,9,  2106.2,2,  2309.0,2,-999.0000,9,-999.0000,9, -999.00,9,    1.12,2,    70.7,2,     3.5,-999.000,9,-999.000,-999.000,9,-999.0000,  10.9510,-999.0000,-999.000
  316N145_8,        I03,     517,          1,         18,         18,2,19950519,       0953,   -20.0003,    69.3672,       3307,   608.5,   9.6769,  34.7460,2,  34.7467,2,    225.5,2,   227.4,2,    6.17,2,   15.77,2,    0.00,2,    1.14,2,   2.286,2,   1.132,2,-999.000,9,  2116.5,2,  2299.0,2,-999.0000,9,-999.0000,9, -999.00,9,    1.16,2,    53.6,2,     3.5,-999.000,9,-999.000,-999.000,9,-999.0000,   9.6064,-999.0000,-999.000
  316N145_8,        I03,     517,          1,         17,         17,2,19950519,       0953,   -20.0003,    69.3672,       3307,   707.3,   8.3831,  34.6042,2,  34.6113,2,    210.7,2,   213.4,2,   10.52,2,   20.31,2,    0.00,2,    1.42,2,   1.484,2,   0.746,2,-999.000,9,  2133.7,2,  2296.0,2,-999.0000,9,-999.0000,9, -999.00,9,    1.19,2,     7.2,2,     3.4,-999.000,9,-999.000,-999.000,9,-999.0000,   8.3076,-999.0000,-999.000
  316N145_8,        I03,     517,          1,         16,         16,2,19950519,       0953,   -20.0003,    69.3672,       3307,   809.1,   6.6595,  34.5052,2,  34.5081,2,    182.8,2,   180.9,2,   28.17,2,   27.26,2,    0.00,2,    1.90,2,   0.439,2,   0.231,2,-999.000,9,  2178.8,2,  2302.0,2,-999.0000,9,-999.0000,9, -999.00,9,    0.95,2,   -73.9,2,     3.2,-999.000,9,-999.000,-999.000,9,-999.0000,   6.5830,-999.0000,-999.000
  316N145_8,        I03,     517,          1,         15,         15,2,19950519,       0953,   -20.0003,    69.3672,       3307,   910.2,   5.7339,  34.5579,2,  34.5573,2,    139.8,2,   140.1,2,   54.14,2,   32.18,2,    0.00,2,    2.30,2,   0.114,2,   0.058,2,-999.000,9,  2227.7,2,  2329.0,2,-999.0000,9,-999.0000,9, -999.00,9,    0.37,2,  -125.7,2,     3.2,-999.000,9,-999.000,-999.000,9,-999.0000,   5.6535,-999.0000,-999.000
  316N145_8,        I03,     517,          1,         14,         14,2,19950519,       0953,   -20.0003,    69.3672,       3307,  1011.2,   5.0285,  34.5866,2,  34.5868,2,    129.0,2,   126.7,2,   69.95,2,   34.19,2,    0.00,2,    2.47,2,   0.026,2,   0.016,2,-999.000,9,  2254.4,2,  2345.0,2,-999.0000,9,-999.0000,9, -999.00,9,    0.44,2,  -134.5,2,     3.8,-999.000,9,-999.000,-999.000,9,-999.0000,   4.9439,-999.0000,-999.000
  316N145_8,        I03,     517,          1,         13,         13,2,19950519,       0953,   -20.0003,    69.3672,       3307,  1111.6,   4.7649,  34.6380,2,  34.6434,2,    121.4,2,   116.4,2,   81.00,2,   34.96,2,    0.00,2,    2.53,2,   0.015,2,   0.007,2,-999.000,9,  2270.5,2,  2352.0,2,-999.0000,9,-999.0000,9, -999.00,9,    0.14,2,  -154.7,2,     4.1,-999.000,9,-999.000,-999.000,9,-999.0000,   4.6732,-999.0000,-999.000
  316N145_8,        I03,     517,          1,         12,         12,2,19950519,       0953,   -20.0003,    69.3672,       3307,  1211.9,   4.3928,  34.6550,2,  34.6554,2,    116.7,2,   118.1,2,   86.84,2,   35.21,2,    0.00,2,    2.56,2,-999.000,9,-999.000,9,-999.000,9,  2276.8,2,  2363.0,2,-999.0000,9,-999.0000,9, -999.00,9,    0.29,2,  -159.2,2,     2.5,-999.000,9,-999.000,-999.000,9,-999.0000,   4.2952,-999.0000,-999.000
  316N145_8,        I03,     517,          1,         11,         11,2,19950519,       0953,   -20.0003,    69.3672,       3307,  1311.5,   4.1306,  34.6662,2,  34.6678,2,    119.7,2,   120.8,2,   90.17,2,   35.21,2,    0.00,2,    2.55,2,-999.000,9,-999.000,9,-999.000,9,  2280.8,2,  2367.0,2,-999.0000,9,-999.0000,9, -999.00,9,    0.13,2,  -172.2,2,     3.2,-999.000,9,-999.000,-999.000,9,-999.0000,   4.0267,-999.0000,-999.000
  316N145_8,        I03,     517,          1,         10,         10,2,19950519,       0953,   -20.0003,    69.3672,       3307,  1515.5,   3.5394,  34.6961,2,  34.6960,2,    130.1,2,   129.6,2,   97.51,2,   34.74,2,    0.00,2,    2.52,2,-999.000,9,-999.000,9,-999.000,9,  2284.2,2,  2367.0,2,-999.0000,9,-999.0000,9, -999.00,9,    0.25,2,  -168.8,2,     3.8,-999.000,9,-999.000,-999.000,9,-999.0000,   3.4238,-999.0000,-999.000
  316N145_8,        I03,     517,          1,          9,          9,2,19950519,       0953,   -20.0003,    69.3672,       3307,  1717.3,   2.8292,  34.6943,2,  34.6951,2,    146.3,2,   152.3,2,   98.32,2,   33.83,2,    0.00,2,    2.42,2,-999.000,9,-999.000,9,-999.000,9,  2276.5,2,  2373.0,2,-999.0000,9,-999.0000,9, -999.00,9,    0.31,2,  -177.5,2,     2.9,-999.000,9,-999.000,-999.000,9,-999.0000,   2.7047,-999.0000,-999.000
  316N145_8,        I03,     517,          1,          8,          8,2,19950519,       0953,   -20.0003,    69.3672,       3307,  1920.2,   2.2881,  34.7089,2,  34.7096,2,    168.9,2,   169.5,2,  100.39,2,   32.84,2,    0.00,2,    2.33,2,-999.000,9,-999.000,9,-999.000,9,  2270.2,2,  2372.0,2,-999.0000,9,-999.0000,9, -999.00,9, -999.00,9,  -999.0,9,  -999.0,-999.000,9,-999.000,-999.000,9,-999.0000,   2.1538,-999.0000,-999.000
  316N145_8,        I03,     517,          1,          7,          7,2,19950519,       0953,   -20.0003,    69.3672,       3307,  2122.0,   2.0011,  34.7197,2,  34.7210,2,    177.4,2,   177.1,2,  105.02,2,   32.46,2,    0.00,2,    2.30,2,-999.000,9,-999.000,9,-999.000,9,  2268.8,2,  2376.0,2,-999.0000,9,-999.0000,9, -999.00,9, -999.00,9,  -999.0,9,  -999.0,-999.000,9,-999.000,-999.000,9,-999.0000,   1.8540,-999.0000,-999.000
  316N145_8,        I03,     517,          1,          6,          6,2,19950519,       0953,   -20.0003,    69.3672,       3307,  2322.1,   1.7918,  34.7235,2,  34.7245,2,    181.7,2,   181.2,2,  110.32,2,   32.27,2,    0.00,2,    2.29,2,-999.000,9,-999.000,9,-999.000,9,  2270.4,2,  2382.0,2,-999.0000,9,-999.0000,9, -999.00,9, -999.00,9,  -999.0,9,  -999.0,-999.000,9,-999.000,-999.000,9,-999.0000,   1.6309,-999.0000,-999.000
  316N145_8,        I03,     517,          1,          5,          5,2,19950519,       0953,   -20.0003,    69.3672,       3307,  2525.9,   1.6941,  34.7247,2,  34.7249,2,    183.5,2,   183.9,2,  112.63,2,   32.23,2,    0.00,2,    2.28,2,-999.000,9,-999.000,9,-999.000,9,  2271.9,2,  2381.0,2,-999.0000,9,-999.0000,9, -999.00,9, -999.00,9,  -999.0,9,  -999.0,-999.000,9,-999.000,-999.000,9,-999.0000,   1.5169,-999.0000,-999.000
  316N145_8,        I03,     517,          1,          4,          4,2,19950519,       0953,   -20.0003,    69.3672,       3307,  2730.5,   1.6218,  34.7252,2,  34.7253,2,    185.6,2,   185.1,2,  114.95,2,   32.28,2,    0.00,2,    2.28,2,-999.000,9,-999.000,9,-999.000,9,  2273.7,2,  2386.0,2,-999.0000,9,-999.0000,9, -999.00,9, -999.00,9,  -999.0,9,  -999.0,-999.000,9,-999.000,-999.000,9,-999.0000,   1.4275,-999.0000,-999.000
  316N145_8,        I03,     517,          1,          3,          3,2,19950519,       0953,   -20.0003,    69.3672,       3307,  2933.5,   1.5907,  34.7257,2,  34.7255,2,    186.0,2,   185.8,2,  116.41,2,   32.34,2,    0.00,2,    2.27,2,-999.000,9,-999.000,9,-999.000,9,  2274.7,2,  2386.0,2,-999.0000,9,-999.0000,9, -999.00,9, -999.00,9,  -999.0,9,  -999.0,-999.000,9,-999.000,-999.000,9,-999.0000,   1.3780,-999.0000,-999.000
  316N145_8,        I03,     517,          1,          2,          2,2,19950519,       0953,   -20.0003,    69.3672,       3307,  3136.1,   1.5916,  34.7263,2,  34.7263,2,    185.7,2,   186.3,2,  116.58,2,   32.39,2,    0.00,2,    2.27,2,-999.000,9,-999.000,9,-999.000,9,  2275.2,6,  2387.5,6,-999.0000,9,-999.0000,9, -999.00,9, -999.00,9,  -999.0,9,  -999.0,-999.000,9,-999.000,-999.000,9,-999.0000,   1.3594,-999.0000,-999.000
  316N145_8,        I03,     517,          1,          1,          1,2,19950519,       0953,   -20.0003,    69.3672,       3307,  3341.0,   1.5946,  34.7258,2,  34.7264,2,    186.1,2,   186.1,2,  117.39,2,   32.39,2,    0.00,2,    2.28,2,-999.000,9,-999.000,9,-999.000,9,  2276.1,2,  2390.0,2,-999.0000,9,-999.0000,9, -999.00,9, -999.00,9,  -999.0,9,  -999.0,-999.000,9,-999.000,-999.000,9,-999.0000,   1.3420,-999.0000,-999.000