BOTTLE,20140514CCHSIOSE
EXPOCODE,SECT_ID,STNNBR,CASTNO,SAMPNO,BTLNBR,BTLNBR_FLAG_W,DATE,TIME,LATITUDE,LONGITUDE,DEPTH,CTDPRS,CTDTMP,CTDSAL,CTDSAL_FLAG_W,SALNTY,SALNTY_FLAG_W,CTDOXY,CTDOXY_FLAG_W,OXYGEN,OXYGEN_FLAG_W,SILCAT,SILCAT_FLAG_W,NITRAT,NITRAT_FLAG_W,NITRIT,NITRIT_FLAG_W,PHSPHT,PHSPHT_FLAG_W,CFC-11,CFC-11_FLAG_W,CFC-12,CFC-12_FLAG_W,CFC113,CFC113_FLAG_W,TCARBN,TCARBN_FLAG_W,ALKALI,ALKALI_FLAG_W,TRITUM,TRITUM_FLAG_W,HELIUM,HELIUM_FLAG_W,DELHE3,DELHE3_FLAG_W,DELC13,DELC13_FLAG_W,DELC14,DELC14_FLAG_W,C14ERR,NEON,NEON_FLAG_W,NEONER,CCL4,CCL4_FLAG_W,HELIER,THETA,TRITER,DELHER
,,,,,,,,,,,METERS,DBAR,ITS-90,PSS-78,,PSS-78,,UMOL/KG,,UMOL/KG,,UMOL/KG,,UMOL/KG,,UMOL/KG,,UMOL/KG,,PMOL/KG,,PMOL/KG,,PMOL/KG,,UMOL/KG,,UMOL/KG,,TU,,NMOL/KG,,PERCNT,,/MILLE,,/MILLE,,/MILLE,NMOL/KG,,NMOL/KG,PMOL/KG,,NMOL/KG,DEG C,TU,PERCNT
  316N145_8,        I03,     505,          2,         36,         36,2,19950513,       1538,   -19.9998,    75.4587,       4375,     6.2,  25.8660,  34.6723,2,  34.6731,2,    203.8,2,   204.8,2,    3.18,2,    0.10,2,    0.00,2,    0.11,2,   1.655,2,   0.980,2,   0.151,3,  -999.0,5,  2267.0,6,-999.0000,9,-999.0000,9, -999.00,9,    1.26,2,    80.2,2,     3.3,-999.000,9,-999.000,   2.126,2,-999.0000,  25.8646,-999.0000,-999.000
  316N145_8,        I03,     505,          2,         35,         35,2,19950513,       1538,   -19.9998,    75.4587,       4375,    55.8,  25.0734,  35.0284,2,  35.0309,2,    211.2,2,   208.3,2,    3.16,2,    0.10,2,    0.00,2,    0.10,2,   1.893,2,   1.071,2,   0.121,3,  1952.2,2,  2295.0,2,-999.0000,9,-999.0000,9, -999.00,9,    1.22,2,    79.8,2,     3.0,-999.000,9,-999.000,   2.114,2,-999.0000,  25.0612,-999.0000,-999.000
  316N145_8,        I03,     505,          2,         34,         34,2,19950513,       1538,   -19.9998,    75.4587,       4375,   104.7,  21.3969,  35.5759,2,  35.5720,2,    219.6,2,   218.2,2,    3.37,2,    0.10,2,    0.00,2,    0.13,2,   2.256,2,   1.229,2,-999.000,9,  2010.7,2,  2327.0,2,-999.0000,9,-999.0000,9, -999.00,9,    1.15,2,    85.6,2,     4.6,-999.000,9,-999.000,-999.000,9,-999.0000,  21.3766,-999.0000,-999.000
  316N145_8,        I03,     505,          2,         33,         33,2,19950513,       1538,   -19.9998,    75.4587,       4375,   158.0,  19.5636,  35.7625,2,  35.7681,2,    205.1,2,   205.8,2,    3.36,2,    1.15,2,    0.03,2,    0.23,2,   2.401,2,   1.291,2,-999.000,9,  2049.7,2,  2342.0,2,-999.0000,9,-999.0000,9, -999.00,9,    0.96,2,    93.5,2,     4.2,-999.000,9,-999.000,-999.000,9,-999.0000,  19.5347,-999.0000,-999.000
  316N145_8,        I03,     505,          2,         32,         32,2,19950513,       1538,   -19.9998,    75.4587,       4375,   206.4,  18.0405,  35.8087,2,  35.8174,2,    207.1,2,   206.7,2,    3.34,2,    1.77,2,    0.01,2,    0.29,2,   2.436,2,   1.323,2,   0.106,3,  2068.9,2,  2348.0,2,-999.0000,9,-999.0000,9, -999.00,9,    0.94,2,    88.2,2,     3.6,-999.000,9,-999.000,   0.915,2,-999.0000,  18.0048,-999.0000,-999.000
  316N145_8,        I03,     505,          2,         31,         31,2,19950513,       1538,   -19.9998,    75.4587,       4375,   257.6,  16.0738,  35.6475,2,  35.6474,2,    217.6,2,   216.5,2,    2.89,2,    2.61,2,    0.01,2,    0.37,2,   2.517,2,   1.357,2,   0.110,3,  2082.8,2,  2342.0,2,-999.0000,9,-999.0000,9, -999.00,9,    1.16,2,    83.4,2,     4.5,-999.000,9,-999.000,   0.944,2,-999.0000,  16.0326,-999.0000,-999.000
  316N145_8,        I03,     505,          2,         30,         30,4,19950513,       1538,   -19.9998,    75.4587,       4375,   308.1,  14.0979,  35.4005,2,  34.7202,4,    214.3,2,   183.6,4,  130.02,4,   33.12,4,    0.01,4,    2.29,4,-999.000,9,-999.000,9,-999.000,9,  -999.0,9,  -999.0,9,-999.0000,9,-999.0000,9, -999.00,9, -999.00,9,  -999.0,9,  -999.0,-999.000,9,-999.000,-999.000,9,-999.0000,  14.0529,-999.0000,-999.000
  316N145_8,        I03,     505,          2,         29,         29,2,19950513,       1538,   -19.9998,    75.4587,       4375,   357.6,  12.7390,  35.2130,2,  35.2106,2,    222.3,2,   227.8,2,    3.92,2,    8.26,2,    0.01,2,    0.69,2,   2.954,2,   1.504,2,-999.000,9,  2098.9,2,  2318.0,2,-999.0000,9,-999.0000,9, -999.00,9,    1.25,2,    99.0,2,     5.0,-999.000,9,-999.000,-999.000,9,-999.0000,  12.6901,-999.0000,-999.000
  316N145_8,        I03,     505,          2,         28,         28,2,19950513,       1538,   -19.9998,    75.4587,       4375,   408.1,  12.0771,  35.1111,2,  35.1150,2,    227.7,2,   229.2,2,    4.12,2,    9.49,2,    0.00,2,    0.76,2,   2.904,2,   1.481,2,   0.084,3,  2101.5,2,  2315.0,2,-999.0000,9,-999.0000,9, -999.00,9,    1.17,2,   103.5,2,     4.4,-999.000,9,-999.000,   0.917,2,-999.0000,  12.0231,-999.0000,-999.000
  316N145_8,        I03,     505,          2,         27,         27,2,19950513,       1538,   -19.9998,    75.4587,       4375,   459.2,  11.3344,  34.9909,2,  34.9906,2,    231.9,2,   233.9,2,    4.33,2,   11.18,2,    0.00,2,    0.86,2,   2.931,2,   1.459,2,   0.088,3,  2104.5,2,  2308.0,2,-999.0000,9,-999.0000,9, -999.00,9,    1.26,2,    79.0,2,     2.5,-999.000,9,-999.000,   1.164,2,-999.0000,  11.2760,-999.0000,-999.000
  316N145_8,        I03,     505,          2,         26,         26,2,19950513,       1538,   -19.9998,    75.4587,       4375,   509.6,  10.4945,  34.8650,2,  34.8718,2,    234.9,2,   233.9,2,    4.97,2,   13.01,2,    0.00,2,    0.97,2,   2.792,2,   1.404,2,   0.099,3,  2108.7,2,  2304.0,2,-999.0000,9,-999.0000,9, -999.00,9,    1.07,2,    65.9,2,     2.6,-999.000,9,-999.000,   1.280,2,-999.0000,  10.4327,-999.0000,-999.000
  316N145_8,        I03,     505,          2,         25,         25,2,19950513,       1538,   -19.9998,    75.4587,       4375,   608.6,   9.2252,  34.6835,2,  34.6869,2,    225.1,2,   227.1,2,    6.92,2,   17.17,2,    0.01,2,    1.21,2,   2.324,2,   1.138,2,-999.000,9,  2121.4,2,  2294.0,2,-999.0000,9,-999.0000,9, -999.00,9,    1.27,2,    40.4,2,     2.6,-999.000,9,-999.000,-999.000,9,-999.0000,   9.1568,-999.0000,-999.000
  316N145_8,        I03,     505,          2,         24,         24,2,19950513,       1538,   -19.9998,    75.4587,       4375,   709.6,   7.5678,  34.5400,2,  34.5427,2,    198.1,2,   198.0,2,   17.57,2,   23.88,2,    0.00,2,    1.65,2,   0.987,2,   0.492,2,   0.022,3,  2155.3,2,  2296.0,2,-999.0000,9,-999.0000,9, -999.00,9,    1.01,2,   -24.4,2,     2.4,-999.000,9,-999.000,   0.926,2,-999.0000,   7.4964,-999.0000,-999.000
  316N145_8,        I03,     505,          2,         23,         23,2,19950513,       1538,   -19.9998,    75.4587,       4375,   809.3,   5.7666,  34.4627,2,  34.4649,2,    176.9,2,   175.4,2,   36.28,2,   29.71,2,    0.01,2,    2.06,2,   0.271,2,   0.144,2,   0.012,3,  2195.1,2,  2308.0,2,-999.0000,9,-999.0000,9, -999.00,9,    0.85,2,   -96.7,2,     2.2,-999.000,9,-999.000,   0.676,2,-999.0000,   5.6956,-999.0000,-999.000
  316N145_8,        I03,     505,          2,         22,         22,2,19950513,       1538,   -19.9998,    75.4587,       4375,   911.9,   4.9888,  34.5265,2,  34.5290,2,    136.9,2,   138.5,2,   61.75,2,   33.68,2,    0.01,2,    2.39,2,   0.039,2,   0.023,2,   0.003,3,  2240.4,2,  2336.0,2,-999.0000,9,-999.0000,9, -999.00,9,    0.29,2,  -148.1,2,     2.7,-999.000,9,-999.000,   0.187,2,-999.0000,   4.9134,-999.0000,-999.000
  316N145_8,        I03,     505,          2,         21,         21,2,19950513,       1538,   -19.9998,    75.4587,       4375,  1011.6,   4.4847,  34.5679,2,  34.5704,2,    125.5,2,   127.8,2,   75.70,2,   35.04,2,    0.01,2,    2.50,2,   0.015,2,   0.007,2,-999.000,9,  2261.9,2,  2348.0,2,-999.0000,9,-999.0000,9, -999.00,9,    0.34,2,  -159.0,2,     2.1,-999.000,9,-999.000,-999.000,9,-999.0000,   4.4042,-999.0000,-999.000
  316N145_8,        I03,     505,          2,         20,         20,2,19950513,       1538,   -19.9998,    75.4587,       4375,  1111.2,   4.2199,  34.6199,2,  34.6174,2,    124.7,2,   122.1,2,   84.88,2,   35.50,2,    0.00,2,    2.54,2,  -0.005,2,   0.003,2,   0.008,3,  2274.0,2,  2359.0,2,-999.0000,9,-999.0000,9, -999.00,9,    0.28,2,  -165.7,2,     3.2,-999.000,9,-999.000,  -0.014,2,-999.0000,   4.1328,-999.0000,-999.000
  316N145_8,        I03,     505,          2,         19,         19,2,19950513,       1538,   -19.9998,    75.4587,       4375,  1213.2,   4.0611,  34.6666,2,  34.6690,2,    118.8,2,   119.1,2,   91.87,2,   35.55,2,    0.00,2,    2.55,2,  -0.002,2,   0.004,2,-999.000,9,  2287.9,2,  2367.0,2,-999.0000,9,-999.0000,9, -999.00,9, -999.00,9,  -999.0,9,  -999.0,-999.000,9,-999.000,-999.000,9,-999.0000,   3.9665,-999.0000,-999.000
  316N145_8,        I03,     505,          2,         18,         18,2,19950513,       1538,   -19.9998,    75.4587,       4375,  1315.3,   3.9126,  34.6911,2,  34.6944,2,    118.3,2,   118.8,2,   96.69,2,   35.55,2,    0.00,2,    2.56,2,   0.002,2,   0.001,2,-999.000,9,  2287.1,2,  2375.0,2,-999.0000,9,-999.0000,9, -999.00,9, -999.00,9,  -999.0,9,  -999.0,-999.000,9,-999.000,-999.000,9,-999.0000,   3.8104,-999.0000,-999.000
  316N145_8,        I03,     505,          2,         17,         17,2,19950513,       1538,   -19.9998,    75.4587,       4375,  1415.2,   3.6579,  34.7028,2,  34.7040,2,    122.7,2,   122.7,2,   99.96,2,   35.45,2,    0.00,2,    2.54,2,   0.001,2,   0.001,2,-999.000,9,  2289.9,2,  2374.0,2,-999.0000,9,-999.0000,9, -999.00,9, -999.00,9,  -999.0,9,  -999.0,-999.000,9,-999.000,-999.000,9,-999.0000,   3.5497,-999.0000,-999.000
  316N145_8,        I03,     505,          2,         16,         16,2,19950513,       1538,   -19.9998,    75.4587,       4375,  1513.7,   3.4403,  34.7112,2,  34.7122,2,    126.2,2,   126.8,2,  102.80,2,   35.29,2,    0.01,2,    2.53,2,   0.000,2,   0.002,2,-999.000,9,  2290.0,2,  2381.0,2,-999.0000,9,-999.0000,9, -999.00,9, -999.00,9,  -999.0,9,  -999.0,-999.000,9,-999.000,-999.000,9,-999.0000,   3.3259,-999.0000,-999.000
  316N145_8,        I03,     505,          2,         15,         15,2,19950513,       1538,   -19.9998,    75.4587,       4375,  1717.0,   3.0103,  34.7205,2,  34.7211,2,    134.5,2,   136.2,2,  107.20,2,   34.89,2,    0.00,2,    2.49,2,-999.000,9,-999.000,9,-999.000,9,  2291.2,2,  2383.0,2,-999.0000,9,-999.0000,9, -999.00,9, -999.00,9,  -999.0,9,  -999.0,-999.000,9,-999.000,-999.000,9,-999.0000,   2.8834,-999.0000,-999.000
  316N145_8,        I03,     505,          2,         14,         14,2,19950513,       1538,   -19.9998,    75.4587,       4375,  1920.0,   2.6539,  34.7265,2,  34.7277,2,    146.4,2,   145.8,2,  110.73,2,   34.44,2,    0.01,2,    2.45,2,   0.005,2,   0.002,2,  -0.006,3,  2290.7,2,  2388.0,2,-999.0000,9,-999.0000,9, -999.00,9, -999.00,9,  -999.0,9,  -999.0,-999.000,9,-999.000,  -0.025,2,-999.0000,   2.5143,-999.0000,-999.000
  316N145_8,        I03,     505,          2,         13,         13,2,19950513,       1538,   -19.9998,    75.4587,       4375,  2122.6,   2.3528,  34.7247,2,  34.7260,2,    157.1,2,   157.3,2,  111.13,2,   33.78,2,    0.00,2,    2.39,2,-999.000,9,-999.000,9,-999.000,9,  2286.1,2,  2387.0,2,-999.0000,9,-999.0000,9, -999.00,9, -999.00,9,  -999.0,9,  -999.0,-999.000,9,-999.000,-999.000,9,-999.0000,   2.2000,-999.0000,-999.000
  316N145_8,        I03,     505,          2,         12,         12,2,19950513,       1538,   -19.9998,    75.4587,       4375,  2326.0,   2.1070,  34.7247,2,  34.7266,2,    165.7,2,   166.0,2,  112.21,2,   33.33,2,    0.01,2,    2.35,2,   0.003,2,   0.003,2,-999.000,9,  2282.5,2,  2390.0,2,-999.0000,9,-999.0000,9, -999.00,9, -999.00,9,  -999.0,9,  -999.0,-999.000,9,-999.000,-999.000,9,-999.0000,   1.9402,-999.0000,-999.000
  316N145_8,        I03,     505,          2,         11,         11,2,19950513,       1538,   -19.9998,    75.4587,       4375,  2527.5,   1.8852,  34.7246,2,  34.7262,2,    176.6,2,   176.9,2,  110.61,2,   32.67,2,    0.00,2,    2.28,2,-999.000,9,-999.000,9,-999.000,9,  2274.4,2,  2382.0,2,-999.0000,9,-999.0000,9, -999.00,9, -999.00,9,  -999.0,9,  -999.0,-999.000,9,-999.000,-999.000,9,-999.0000,   1.7043,-999.0000,-999.000
  316N145_8,        I03,     505,          2,         10,         10,2,19950513,       1538,   -19.9998,    75.4587,       4375,  2729.4,   1.7556,  34.7261,2,  34.7268,2,    181.6,2,   181.8,2,  111.68,2,   32.47,2,    0.00,2,    2.26,2,   0.001,2,   0.000,2,   0.001,3,  2273.7,2,  2385.0,2,-999.0000,9,-999.0000,9, -999.00,9, -999.00,9,  -999.0,9,  -999.0,-999.000,9,-999.000,  -0.030,2,-999.0000,   1.5586,-999.0000,-999.000
  316N145_8,        I03,     505,          2,          9,          9,2,19950513,       1538,   -19.9998,    75.4587,       4375,  2932.7,   1.6483,  34.7278,2,  34.7286,2,    185.7,2,   185.6,2,  112.76,2,   32.22,2,    0.00,2,    2.25,2,-999.000,9,-999.000,9,-999.000,9,  2272.2,6,  2384.0,6,-999.0000,9,-999.0000,9, -999.00,9, -999.00,9,  -999.0,9,  -999.0,-999.000,9,-999.000,-999.000,9,-999.0000,   1.4344,-999.0000,-999.000
  316N145_8,        I03,     505,          2,          8,          8,2,19950513,       1538,   -19.9998,    75.4587,       4375,  3135.3,   1.5401,  34.7276,2,  34.7284,2,    187.6,2,   188.0,2,  115.40,2,   32.17,2,    0.00,2,    2.24,2,  -0.002,2,   0.000,2,-999.000,9,  2273.5,2,  2390.0,2,-999.0000,9,-999.0000,9, -999.00,9, -999.00,9,  -999.0,9,  -999.0,-999.000,9,-999.000,-999.000,9,-999.0000,   1.3091,-999.0000,-999.000
  316N145_8,        I03,     505,          2,          7,          7,2,19950513,       1538,   -19.9998,    75.4587,       4375,  3340.4,   1.4634,  34.7254,2,  34.7268,2,    188.4,2,   187.5,2,  119.17,2,   32.48,2,    0.00,2,    2.25,2,-999.000,9,-999.000,9,-999.000,9,  2278.4,2,  2392.0,2,-999.0000,9,-999.0000,9, -999.00,9, -999.00,9,  -999.0,9,  -999.0,-999.000,9,-999.000,-999.000,9,-999.0000,   1.2140,-999.0000,-999.000
  316N145_8,        I03,     505,          2,          6,          6,2,19950513,       1538,   -19.9998,    75.4587,       4375,  3545.7,   1.4019,  34.7225,2,  34.7235,2,    185.2,2,   186.4,2,  123.63,2,   32.78,2,    0.00,2,    2.28,2,  -0.001,2,  -0.001,2,   0.009,3,  2285.5,2,  2402.0,2,-999.0000,9,-999.0000,9, -999.00,9, -999.00,9,  -999.0,9,  -999.0,-999.000,9,-999.000,  -0.021,2,-999.0000,   1.1334,-999.0000,-999.000
  316N145_8,        I03,     505,          2,          5,          5,2,19950513,       1538,   -19.9998,    75.4587,       4375,  3749.2,   1.3843,  34.7213,2,  34.7213,2,    185.8,2,   185.3,2,  126.30,2,   32.98,2,    0.00,2,    2.29,2,-999.000,9,-999.000,9,-999.000,9,  2288.5,2,  2401.0,2,-999.0000,9,-999.0000,9, -999.00,9, -999.00,9,  -999.0,9,  -999.0,-999.000,9,-999.000,-999.000,9,-999.0000,   1.0951,-999.0000,-999.000
  316N145_8,        I03,     505,          2,          4,          4,2,19950513,       1538,   -19.9998,    75.4587,       4375,  3952.6,   1.3782,  34.7196,2,  34.7200,2,    184.1,2,   184.0,2,  128.98,2,   33.18,2,    0.00,2,    2.30,2,  -0.005,2,   0.000,2,-999.000,9,  2292.5,2,  2409.0,2,-999.0000,9,-999.0000,9, -999.00,9, -999.00,9,  -999.0,9,  -999.0,-999.000,9,-999.000,-999.000,9,-999.0000,   1.0676,-999.0000,-999.000
  316N145_8,        I03,     505,          2,          3,          3,2,19950513,       1538,   -19.9998,    75.4587,       4375,  4157.4,   1.3950,  34.7195,2,  34.7201,2,    183.3,2,   183.3,2,  129.84,2,   33.29,2,    0.00,2,    2.32,2,-999.000,9,-999.000,9,-999.000,9,  2293.7,2,  2408.0,2,-999.0000,9,-999.0000,9, -999.00,9, -999.00,9,  -999.0,9,  -999.0,-999.000,9,-999.000,-999.000,9,-999.0000,   1.0617,-999.0000,-999.000
  316N145_8,        I03,     505,          2,          2,          2,2,19950513,       1538,   -19.9998,    75.4587,       4375,  4310.0,   1.4115,  34.7190,2,  34.7198,2,    184.0,2,   183.7,2,  130.03,2,   33.28,2,    0.00,2,    2.32,2,   0.002,2,   0.001,2,   0.011,3,  2293.6,2,  2412.0,2,-999.0000,9,-999.0000,9, -999.00,9, -999.00,9,  -999.0,9,  -999.0,-999.000,9,-999.000,   0.003,2,-999.0000,   1.0607,-999.0000,-999.000
  316N145_8,        I03,     505,          2,          1,          1,2,19950513,       1538,   -19.9998,    75.4587,       4375,  4444.1,   1.4257,  34.7197,2,  34.7196,2,    184.3,2,   184.0,2,  129.98,2,   33.29,2,    0.00,2,    2.32,2,   0.000,2,   0.001,2,  -0.007,3,  2293.8,2,  2408.0,2,-999.0000,9,-999.0000,9, -999.00,9, -999.00,9,  -999.0,9,  -999.0,-999.000,9,-999.000,  -0.005,2,-999.0000,   1.0592,-999.0000,-999.000