BOTTLE,20140514CCHSIOSE
EXPOCODE,SECT_ID,STNNBR,CASTNO,SAMPNO,BTLNBR,BTLNBR_FLAG_W,DATE,TIME,LATITUDE,LONGITUDE,DEPTH,CTDPRS,CTDTMP,CTDSAL,CTDSAL_FLAG_W,SALNTY,SALNTY_FLAG_W,CTDOXY,CTDOXY_FLAG_W,OXYGEN,OXYGEN_FLAG_W,SILCAT,SILCAT_FLAG_W,NITRAT,NITRAT_FLAG_W,NITRIT,NITRIT_FLAG_W,PHSPHT,PHSPHT_FLAG_W,CFC-11,CFC-11_FLAG_W,CFC-12,CFC-12_FLAG_W,CFC113,CFC113_FLAG_W,TCARBN,TCARBN_FLAG_W,ALKALI,ALKALI_FLAG_W,TRITUM,TRITUM_FLAG_W,HELIUM,HELIUM_FLAG_W,DELHE3,DELHE3_FLAG_W,DELC13,DELC13_FLAG_W,DELC14,DELC14_FLAG_W,C14ERR,NEON,NEON_FLAG_W,NEONER,CCL4,CCL4_FLAG_W,HELIER,THETA,TRITER,DELHER
,,,,,,,,,,,METERS,DBAR,ITS-90,PSS-78,,PSS-78,,UMOL/KG,,UMOL/KG,,UMOL/KG,,UMOL/KG,,UMOL/KG,,UMOL/KG,,PMOL/KG,,PMOL/KG,,PMOL/KG,,UMOL/KG,,UMOL/KG,,TU,,NMOL/KG,,PERCNT,,/MILLE,,/MILLE,,/MILLE,NMOL/KG,,NMOL/KG,PMOL/KG,,NMOL/KG,DEG C,TU,PERCNT
  316N145_8,        I03,     447,          1,         21,         21,2,19950426,       1515,   -22.1785,   113.4363,       1293,     7.7,  27.2213,  35.2639,2,  35.2605,2,    194.3,2,   204.5,3,    4.80,2,    0.09,2,    0.00,2,    0.12,2,   1.744,2,   1.001,2,-999.000,9,  -999.0,9,  -999.0,9,-999.0000,9,-999.0000,9, -999.00,9, -999.00,9,  -999.0,9,  -999.0,-999.000,9,-999.000,-999.000,9,-999.0000,  27.2195,-999.0000,-999.000
  316N145_8,        I03,     447,          1,         20,         20,2,19950426,       1515,   -22.1785,   113.4363,       1293,    32.1,  26.7401,  35.2363,2,  35.2418,2,    198.4,2,   205.5,2,    4.58,2,    0.09,2,    0.00,2,    0.12,2,   1.753,2,   1.003,2,-999.000,9,  -999.0,9,  -999.0,9,-999.0000,9,-999.0000,9, -999.00,9, -999.00,9,  -999.0,9,  -999.0,-999.000,9,-999.000,-999.000,9,-999.0000,  26.7328,-999.0000,-999.000
  316N145_8,        I03,     447,          1,         19,         19,2,19950426,       1515,   -22.1785,   113.4363,       1293,    62.5,  26.5523,  35.2405,2,  35.2381,2,    204.0,2,   202.3,2,    4.56,2,    0.09,2,    0.01,2,    0.13,2,   1.761,2,   1.013,2,-999.000,9,  -999.0,9,  -999.0,9,-999.0000,9,-999.0000,9, -999.00,9, -999.00,9,  -999.0,9,  -999.0,-999.000,9,-999.000,-999.000,9,-999.0000,  26.5382,-999.0000,-999.000
  316N145_8,        I03,     447,          1,         18,         18,2,19950426,       1515,   -22.1785,   113.4363,       1293,    91.9,  24.8557,  35.1268,2,  35.1307,2,    185.4,2,   178.2,2,    6.68,2,    2.85,2,    0.06,2,    0.34,2,   1.831,2,   0.983,2,-999.000,9,  -999.0,9,  -999.0,9,-999.0000,9,-999.0000,9, -999.00,9, -999.00,9,  -999.0,9,  -999.0,-999.000,9,-999.000,-999.000,9,-999.0000,  24.8358,-999.0000,-999.000
  316N145_8,        I03,     447,          1,         17,         17,2,19950426,       1515,   -22.1785,   113.4363,       1293,   123.0,  22.7564,  35.2144,2,  35.2155,2,    177.5,2,   165.5,2,    8.16,2,    4.38,2,    0.03,2,    0.46,2,   1.878,2,   1.044,2,-999.000,9,  -999.0,9,  -999.0,9,-999.0000,9,-999.0000,9, -999.00,9, -999.00,9,  -999.0,9,  -999.0,-999.000,9,-999.000,-999.000,9,-999.0000,  22.7314,-999.0000,-999.000
  316N145_8,        I03,     447,          1,         16,         16,2,19950426,       1515,   -22.1785,   113.4363,       1293,   151.6,  20.6147,  35.3148,2,  35.3169,2,    154.7,2,   152.5,2,   10.91,2,    7.74,2,    0.02,2,    0.63,2,   1.879,2,   1.038,2,-999.000,9,  -999.0,9,  -999.0,9,-999.0000,9,-999.0000,9, -999.00,9, -999.00,9,  -999.0,9,  -999.0,-999.000,9,-999.000,-999.000,9,-999.0000,  20.5861,-999.0000,-999.000
  316N145_8,        I03,     447,          1,         15,         15,2,19950426,       1515,   -22.1785,   113.4363,       1293,   202.9,  19.0203,  35.7941,2,  35.7932,2,    191.7,2,   194.9,2,    5.14,2,    3.00,2,    0.02,2,    0.34,2,   2.307,2,   1.240,2,-999.000,9,  -999.0,9,  -999.0,9,-999.0000,9,-999.0000,9, -999.00,9, -999.00,9,  -999.0,9,  -999.0,-999.000,9,-999.000,-999.000,9,-999.0000,  18.9839,-999.0000,-999.000
  316N145_8,        I03,     447,          1,         14,         14,2,19950426,       1515,   -22.1785,   113.4363,       1293,   252.9,  17.5151,  35.7802,2,  35.7844,2,    200.3,2,   200.6,2,    4.70,2,    3.41,2,    0.01,2,    0.37,2,-999.000,9,-999.000,9,-999.000,9,  -999.0,9,  -999.0,9,-999.0000,9,-999.0000,9, -999.00,9, -999.00,9,  -999.0,9,  -999.0,-999.000,9,-999.000,-999.000,9,-999.0000,  17.4722,-999.0000,-999.000
  316N145_8,        I03,     447,          1,         13,         13,2,19950426,       1515,   -22.1785,   113.4363,       1293,   303.2,  14.9736,  35.5107,2,  35.5078,2,    204.3,2,   202.7,2,    7.45,2,    6.58,2,    0.01,2,    0.58,2,   2.566,2,   1.329,2,-999.000,9,  -999.0,9,  -999.0,9,-999.0000,9,-999.0000,9, -999.00,9, -999.00,9,  -999.0,9,  -999.0,-999.000,9,-999.000,-999.000,9,-999.0000,  14.9274,-999.0000,-999.000
  316N145_8,        I03,     447,          1,         12,         12,2,19950426,       1515,   -22.1785,   113.4363,       1293,   354.3,  12.7888,  35.2313,2,  35.2320,2,    220.9,2,   222.3,2,    5.31,2,    8.22,2,    0.01,2,    0.69,2,-999.000,9,-999.000,9,-999.000,9,  -999.0,9,  -999.0,9,-999.0000,9,-999.0000,9, -999.00,9, -999.00,9,  -999.0,9,  -999.0,-999.000,9,-999.000,-999.000,9,-999.0000,  12.7402,-999.0000,-999.000
  316N145_8,        I03,     447,          1,         11,         11,2,19950426,       1515,   -22.1785,   113.4363,       1293,   404.0,  11.3826,  35.0259,2,  35.0204,2,    229.2,2,   229.9,2,    5.09,2,   10.82,2,    0.00,2,    0.85,2,   3.120,2,   1.590,2,-999.000,9,  -999.0,9,  -999.0,9,-999.0000,9,-999.0000,9, -999.00,9, -999.00,9,  -999.0,9,  -999.0,-999.000,9,-999.000,-999.000,9,-999.0000,  11.3312,-999.0000,-999.000
  316N145_8,        I03,     447,          1,         10,         10,2,19950426,       1515,   -22.1785,   113.4363,       1293,   454.1,  10.1231,  34.8197,2,  34.8349,2,    234.1,2,   236.6,2,    5.07,2,   13.30,2,    0.00,2,    0.99,2,-999.000,9,-999.000,9,-999.000,9,  -999.0,9,  -999.0,9,-999.0000,9,-999.0000,9, -999.00,9, -999.00,9,  -999.0,9,  -999.0,-999.000,9,-999.000,-999.000,9,-999.0000,  10.0694,-999.0000,-999.000
  316N145_8,        I03,     447,          1,          9,          9,2,19950426,       1515,   -22.1785,   113.4363,       1293,   506.0,   9.1248,  34.6856,2,  34.6746,2,    220.1,2,   221.0,2,    9.95,2,   18.28,2,    0.00,2,    1.30,2,   2.556,2,   1.268,2,-999.000,9,  -999.0,9,  -999.0,9,-999.0000,9,-999.0000,9, -999.00,9, -999.00,9,  -999.0,9,  -999.0,-999.000,9,-999.000,-999.000,9,-999.0000,   9.0686,-999.0000,-999.000
  316N145_8,        I03,     447,          1,          8,          8,2,19950426,       1515,   -22.1785,   113.4363,       1293,   605.4,   7.3444,  34.5729,2,  34.5739,2,    164.0,2,   161.7,2,   34.78,2,   27.34,2,    0.00,2,    1.92,2,   0.838,2,   0.424,2,-999.000,9,  -999.0,9,  -999.0,9,-999.0000,9,-999.0000,9, -999.00,9, -999.00,9,  -999.0,9,  -999.0,-999.000,9,-999.000,-999.000,9,-999.0000,   7.2849,-999.0000,-999.000
  316N145_8,        I03,     447,          1,          7,          7,2,19950426,       1515,   -22.1785,   113.4363,       1293,   706.1,   6.3995,  34.5650,2,  34.5668,2,    126.9,2,   131.4,2,   53.87,2,   31.77,2,    0.00,2,    2.25,2,   0.272,2,   0.135,2,-999.000,9,  -999.0,9,  -999.0,9,-999.0000,9,-999.0000,9, -999.00,9, -999.00,9,  -999.0,9,  -999.0,-999.000,9,-999.000,-999.000,9,-999.0000,   6.3346,-999.0000,-999.000
  316N145_8,        I03,     447,          1,          6,          6,2,19950426,       1515,   -22.1785,   113.4363,       1293,   806.9,   5.8303,  34.6073,2,  34.6087,2,    105.4,2,   101.7,2,   75.74,2,   34.94,2,    0.00,2,    2.52,2,   0.055,2,   0.026,2,-999.000,9,  -999.0,9,  -999.0,9,-999.0000,9,-999.0000,9, -999.00,9, -999.00,9,  -999.0,9,  -999.0,-999.000,9,-999.000,-999.000,9,-999.0000,   5.7589,-999.0000,-999.000
  316N145_8,        I03,     447,          1,          5,          5,2,19950426,       1515,   -22.1785,   113.4363,       1293,   907.0,   5.4415,  34.6186,2,  34.6195,2,     96.1,2,    95.8,2,   85.08,2,   35.84,2,    0.00,2,    2.61,2,   0.021,2,   0.013,2,-999.000,9,  -999.0,9,  -999.0,9,-999.0000,9,-999.0000,9, -999.00,9, -999.00,9,  -999.0,9,  -999.0,-999.000,9,-999.000,-999.000,9,-999.0000,   5.3633,-999.0000,-999.000
  316N145_8,        I03,     447,          1,          4,          4,2,19950426,       1515,   -22.1785,   113.4363,       1293,  1006.2,   5.0261,  34.6265,2,  34.6277,2,     94.6,2,    94.3,2,   94.23,2,   36.25,2,    0.00,2,    2.66,2,   0.011,2,   0.006,2,-999.000,9,  -999.0,9,  -999.0,9,-999.0000,9,-999.0000,9, -999.00,9, -999.00,9,  -999.0,9,  -999.0,-999.000,9,-999.000,-999.000,9,-999.0000,   4.9419,-999.0000,-999.000
  316N145_8,        I03,     447,          1,          3,          3,2,19950426,       1515,   -22.1785,   113.4363,       1293,  1104.2,   4.6619,  34.6281,2,  34.6301,2,     95.5,2,    96.3,2,  100.18,2,   36.39,2,    0.00,2,    2.68,2,-999.000,9,-999.000,9,-999.000,9,  -999.0,9,  -999.0,9,-999.0000,9,-999.0000,9, -999.00,9, -999.00,9,  -999.0,9,  -999.0,-999.000,9,-999.000,-999.000,9,-999.0000,   4.5717,-999.0000,-999.000
  316N145_8,        I03,     447,          1,          2,          2,2,19950426,       1515,   -22.1785,   113.4363,       1293,  1203.4,   4.4334,  34.6323,2,  34.6336,2,     99.3,2,   100.3,2,  101.84,2,   36.36,2,    0.00,2,    2.67,2,   0.007,2,   0.002,2,-999.000,9,  -999.0,9,  -999.0,9,-999.0000,9,-999.0000,9, -999.00,9, -999.00,9,  -999.0,9,  -999.0,-999.000,9,-999.000,-999.000,9,-999.0000,   4.3363,-999.0000,-999.000
  316N145_8,        I03,     447,          1,          1,          1,2,19950426,       1515,   -22.1785,   113.4363,       1293,  1308.3,   4.1149,  34.6387,2,  34.6401,2,    107.2,2,   107.1,2,  102.44,2,   36.28,2,    0.00,2,    2.64,2,   0.004,2,   0.003,2,-999.000,9,  -999.0,9,  -999.0,9,-999.0000,9,-999.0000,9, -999.00,9, -999.00,9,  -999.0,9,  -999.0,-999.000,9,-999.000,-999.000,9,-999.0000,   4.0115,-999.0000,-999.000
  316N145_8,        I03,     448,          1,         21,         21,2,19950426,       1753,   -22.1352,   113.1682,       1311,     7.0,  27.6616,  35.2827,2,  35.2804,2,    199.2,3,   202.9,3,    4.63,2,    0.10,2,    0.00,2,    0.12,2,-999.000,9,-999.000,9,-999.000,9,  -999.0,9,  -999.0,9,   1.1959,2,   1.7245,2,   -1.52,2, -999.00,9,  -999.0,9,  -999.0,   6.696,2,   0.033,-999.000,9,   0.0086,  27.6600,   0.0046,    0.14
  316N145_8,        I03,     448,          1,         20,         20,2,19950426,       1753,   -22.1352,   113.1682,       1311,    32.9,  27.3755,  35.2422,2,  35.2407,2,    195.4,3,   202.5,2,    4.41,2,    0.10,2,    0.00,2,    0.12,2,-999.000,9,-999.000,9,-999.000,9,  -999.0,9,  -999.0,9,-999.0000,9,-999.0000,9, -999.00,9, -999.00,9,  -999.0,9,  -999.0,-999.000,9,-999.000,-999.000,9,-999.0000,  27.3679,-999.0000,-999.000
  316N145_8,        I03,     448,          1,         19,         19,2,19950426,       1753,   -22.1352,   113.1682,       1311,    62.3,  25.3959,  35.0952,2,  35.0896,2,    198.6,2,   191.7,2,    6.10,2,    0.93,2,    0.18,2,    0.25,2,-999.000,9,-999.000,9,-999.000,9,  -999.0,9,  -999.0,9,   1.1699,2,   1.7706,2,   -0.65,2, -999.00,9,  -999.0,9,  -999.0,   6.978,2,   0.035,-999.000,9,   0.0089,  25.3822,   0.0045,    0.14
  316N145_8,        I03,     448,          1,         18,         18,2,19950426,       1753,   -22.1352,   113.1682,       1311,    92.3,  23.5875,  35.1635,2,  35.1605,2,    176.0,2,   174.2,2,    7.37,2,    3.71,2,    0.04,2,    0.40,2,-999.000,9,-999.000,9,-999.000,9,  -999.0,9,  -999.0,9,-999.0000,9,-999.0000,9, -999.00,9, -999.00,9,  -999.0,9,  -999.0,-999.000,9,-999.000,-999.000,9,-999.0000,  23.5683,-999.0000,-999.000
  316N145_8,        I03,     448,          1,         17,         17,2,19950426,       1753,   -22.1352,   113.1682,       1311,   122.1,  22.2053,  35.2358,2,  35.2405,2,    165.4,2,   163.4,2,    8.21,2,    4.73,2,    0.03,2,    0.47,2,-999.000,9,-999.000,9,-999.000,9,  -999.0,9,  -999.0,9,-999.0000,9,   1.7338,2,    0.29,2, -999.00,9,  -999.0,9,  -999.0,   6.950,2,   0.035,-999.000,9,   0.0087,  22.1810,-999.0000,    0.14
  316N145_8,        I03,     448,          1,         16,         16,2,19950426,       1753,   -22.1352,   113.1682,       1311,   152.5,  20.7369,  35.3459,2,  35.3266,2,    155.7,2,   155.8,2,   10.32,2,    7.29,2,    0.02,2,    0.61,2,-999.000,9,-999.000,9,-999.000,9,  -999.0,9,  -999.0,9,   1.0909,2,   1.7348,2,    0.64,2, -999.00,9,  -999.0,9,  -999.0,   6.987,2,   0.035,-999.000,9,   0.0087,  20.7079,   0.0043,    0.14
  316N145_8,        I03,     448,          1,         15,         15,2,19950426,       1753,   -22.1352,   113.1682,       1311,   202.4,  19.3237,  35.8288,2,  35.8255,2,    195.9,2,   198.2,2,    4.16,2,    2.28,2,    0.03,2,    0.29,2,-999.000,9,-999.000,9,-999.000,9,  -999.0,9,  -999.0,9,   1.0825,2,   1.7712,2,   -0.73,2, -999.00,9,  -999.0,9,  -999.0,   7.153,2,   0.036,-999.000,9,   0.0089,  19.2870,   0.0043,    0.14
  316N145_8,        I03,     448,          1,         14,         14,2,19950426,       1753,   -22.1352,   113.1682,       1311,   252.4,  17.5325,  35.7991,2,  35.7933,2,    200.4,2,   201.6,2,    4.36,2,    3.21,2,    0.02,2,    0.36,2,-999.000,9,-999.000,9,-999.000,9,  -999.0,9,  -999.0,9,   1.0024,2,-999.0000,9, -999.00,9, -999.00,9,  -999.0,9,  -999.0,-999.000,9,-999.000,-999.000,9,-999.0000,  17.4897,   0.0041,-999.000
  316N145_8,        I03,     448,          1,         13,         13,2,19950426,       1753,   -22.1352,   113.1682,       1311,   302.9,  14.3527,  35.3891,2,  35.3466,2,    192.6,2,   193.5,2,   10.72,2,    9.37,2,    0.01,2,    0.74,2,-999.000,9,-999.000,9,-999.000,9,  -999.0,9,  -999.0,9,   0.8000,2,   1.7530,2,    1.40,2, -999.00,9,  -999.0,9,  -999.0,   7.241,2,   0.036,-999.000,9,   0.0088,  14.3079,   0.0038,    0.14
  316N145_8,        I03,     448,          1,         12,         12,2,19950426,       1753,   -22.1352,   113.1682,       1311,   353.1,  13.0393,  35.2646,2,  35.2589,2,    215.0,2,   218.6,2,    5.83,2,    8.24,2,    0.01,2,    0.68,2,-999.000,9,-999.000,9,-999.000,9,  -999.0,9,  -999.0,9,-999.0000,9,-999.0000,9, -999.00,9, -999.00,9,  -999.0,9,  -999.0,-999.000,9,-999.000,-999.000,9,-999.0000,  12.9902,-999.0000,-999.000
  316N145_8,        I03,     448,          1,         11,         11,2,19950426,       1753,   -22.1352,   113.1682,       1311,   403.5,  11.4588,  35.0268,2,  35.0268,2,    235.4,2,   235.9,2,    3.70,2,   10.04,2,    0.01,2,    0.78,2,-999.000,9,-999.000,9,-999.000,9,  -999.0,9,  -999.0,9,   0.6127,2,   1.7327,2,   -0.69,2, -999.00,9,  -999.0,9,  -999.0,   7.269,2,   0.036,-999.000,9,   0.0087,  11.4072,   0.0034,    0.14
  316N145_8,        I03,     448,          1,         10,         10,2,19950426,       1753,   -22.1352,   113.1682,       1311,   454.4,  10.5580,  34.8872,2,  34.8822,2,    237.5,2,   239.9,2,    3.91,2,   12.07,2,    0.01,2,    0.90,2,-999.000,9,-999.000,9,-999.000,9,  -999.0,9,  -999.0,9,-999.0000,9,-999.0000,9, -999.00,9, -999.00,9,  -999.0,9,  -999.0,-999.000,9,-999.000,-999.000,9,-999.0000,  10.5028,-999.0000,-999.000
  316N145_8,        I03,     448,          1,          9,          9,2,19950426,       1753,   -22.1352,   113.1682,       1311,   504.2,   9.5152,  34.7248,2,  34.7259,2,    234.4,2,   233.4,2,    6.23,2,   15.95,2,    0.00,2,    1.13,2,-999.000,9,-999.000,9,-999.000,9,  -999.0,9,  -999.0,9,   0.4571,2,   1.7819,2,   -0.20,2, -999.00,9,  -999.0,9,  -999.0,   7.527,2,   0.038,-999.000,9,   0.0089,   9.4577,   0.0031,    0.14
  316N145_8,        I03,     448,          1,          8,          8,2,19950426,       1753,   -22.1352,   113.1682,       1311,   603.6,   7.1572,  34.5328,2,  34.5339,2,    188.2,2,   177.9,2,   28.06,2,   26.66,2,    0.00,2,    1.84,2,-999.000,9,-999.000,9,-999.000,9,  -999.0,9,  -999.0,9,   0.1608,2,   1.7716,2,    3.43,2, -999.00,9,  -999.0,9,  -999.0,   7.568,2,   0.038,-999.000,9,   0.0089,   7.0987,   0.0025,    0.14
  316N145_8,        I03,     448,          1,          7,          7,2,19950426,       1753,   -22.1352,   113.1682,       1311,   705.3,   6.3152,  34.5419,2,  34.5422,2,    145.8,2,   142.8,2,   49.03,2,   31.13,2,    0.00,2,    2.21,2,-999.000,9,-999.000,9,-999.000,9,  -999.0,9,  -999.0,9,-999.0000,9,-999.0000,9, -999.00,9, -999.00,9,  -999.0,9,  -999.0,-999.000,9,-999.000,-999.000,9,-999.0000,   6.2508,-999.0000,-999.000
  316N145_8,        I03,     448,          1,          6,          6,2,19950426,       1753,   -22.1352,   113.1682,       1311,   805.0,   5.8085,  34.5801,2,  34.5815,2,    121.4,2,   114.0,2,   68.10,2,   34.19,2,    0.00,2,    2.45,2,-999.000,9,-999.000,9,-999.000,9,  -999.0,9,  -999.0,9,   0.0327,2,   1.7897,2,    9.40,2, -999.00,9,  -999.0,9,  -999.0,   7.592,2,   0.038,-999.000,9,   0.0089,   5.7375,   0.0023,    0.14
  316N145_8,        I03,     448,          1,          5,          5,2,19950426,       1753,   -22.1352,   113.1682,       1311,   906.5,   5.4650,  34.6086,2,  34.6116,2,    100.4,2,   100.3,2,   81.68,2,   35.62,2,    0.00,2,    2.57,2,-999.000,9,-999.000,9,-999.000,9,  -999.0,9,  -999.0,9,-999.0000,9,-999.0000,9, -999.00,9, -999.00,9,  -999.0,9,  -999.0,-999.000,9,-999.000,-999.000,9,-999.0000,   5.3867,-999.0000,-999.000
  316N145_8,        I03,     448,          1,          4,          4,2,19950426,       1753,   -22.1352,   113.1682,       1311,  1007.0,   5.1632,  34.6239,2,  34.6251,2,     95.6,2,    95.5,2,   90.81,2,   36.11,2,    0.00,2,    2.64,2,-999.000,9,-999.000,9,-999.000,9,  -999.0,9,  -999.0,9,-999.0000,9,-999.0000,9, -999.00,9, -999.00,9,  -999.0,9,  -999.0,-999.000,9,-999.000,-999.000,9,-999.0000,   5.0778,-999.0000,-999.000
  316N145_8,        I03,     448,          1,          3,          3,2,19950426,       1753,   -22.1352,   113.1682,       1311,  1109.0,   4.5243,  34.6305,2,  34.6318,2,     97.8,2,     0.4,4,   99.33,2,   36.38,2,    0.00,2,    2.66,2,-999.000,9,-999.000,9,-999.000,9,  -999.0,9,  -999.0,9,   0.0085,2,   1.8249,2,   13.80,2, -999.00,9,  -999.0,9,  -999.0,   7.660,2,   0.038,-999.000,9,   0.0091,   4.4349,   0.0023,    0.14
  316N145_8,        I03,     448,          1,          2,          2,2,19950426,       1753,   -22.1352,   113.1682,       1311,  1208.1,   4.1817,  34.6350,2,  34.6376,2,    104.7,2,   106.2,2,  101.44,2,   36.21,2,    0.00,2,    2.64,2,-999.000,9,-999.000,9,-999.000,9,  -999.0,9,  -999.0,9,-999.0000,9,-999.0000,9, -999.00,9, -999.00,9,  -999.0,9,  -999.0,-999.000,9,-999.000,-999.000,9,-999.0000,   4.0865,-999.0000,-999.000
  316N145_8,        I03,     448,          1,          1,          1,2,19950426,       1753,   -22.1352,   113.1682,       1311,  1317.2,   3.8636,  34.6449,2,  34.6452,2,    112.1,2,   112.4,2,  103.55,2,   36.12,2,    0.00,2,    2.63,2,-999.000,9,-999.000,9,-999.000,9,  -999.0,9,  -999.0,9,-999.0000,9,-999.0000,9, -999.00,9, -999.00,9,  -999.0,9,  -999.0,-999.000,9,-999.000,-999.000,9,-999.0000,   3.7619,-999.0000,-999.000