BOTTLE,20020809WHPSIObren
EXPOCODE,SECT_ID,STNNBR,CASTNO,SAMPNO,BTLNBR,BTLNBR_FLAG_W,DATE,TIME,LATITUDE,LONGITUDE,DEPTH,CTDPRS,CTDTMP,CTDSAL,CTDSAL_FLAG_W,SALNTY,SALNTY_FLAG_W,CTDOXY,CTDOXY_FLAG_W,OXYGEN,OXYGEN_FLAG_W,SILCAT,SILCAT_FLAG_W,NO2+NO3,NO2+NO3_FLAG_W,PHSPHT,PHSPHT_FLAG_W,CTDRAW,REVTMP,REVPRS,THETA
,,,,,,,,,,,,DBAR,ITS-90,PSS-78,,PSS-78,,UMOL/KG,,UMOL/KG,,UMOL/KG,,UMOL/KG,,UMOL/KG,,,DEG C,DBAR,ITS-90
     32MW092_1,  PRS2,     2, 11,     13,     13,2,19980416,0020, 22.7538,-158.0238, 4725,      4.4,  23.3903,  35.2202,2,  35.2230,2,    214.6,1,   -999.0,9,  -999.00,9,  -999.00,9,  -999.00,9,      5,-999.000,  -999.0, 23.3893
     32MW092_1,  PRS2,     2, 11,     12,     12,2,19980416,0020, 22.7538,-158.0238, 4725,      4.5,  23.3900,  35.2201,2,  35.2509,4,    214.5,1,   -999.0,9,  -999.00,9,  -999.00,9,  -999.00,9,      5,-999.000,  -999.0, 23.3891
     32MW092_1,  PRS2,     2, 11,     11,     11,2,19980416,0020, 22.7538,-158.0238, 4725,     24.6,  23.2561,  35.2161,2,  35.2180,2,    214.9,1,   -999.0,9,  -999.00,9,  -999.00,9,  -999.00,9,     25,-999.000,  -999.0, 23.2510
     32MW092_1,  PRS2,     2, 11,     10,     32,2,19980416,0020, 22.7538,-158.0238, 4725,     45.4,  23.2463,  35.2154,2,  35.2589,4,    215.0,1,   -999.0,9,  -999.00,9,  -999.00,9,  -999.00,9,     46,-999.000,  -999.0, 23.2370
     32MW092_1,  PRS2,     2, 11,      9,      3,2,19980416,0020, 22.7538,-158.0238, 4725,     74.9,  23.2381,  35.2150,2,  35.2184,2,    215.3,1,   -999.0,9,  -999.00,9,  -999.00,9,  -999.00,9,     75,-999.000,  -999.0, 23.2227
     32MW092_1,  PRS2,     2, 11,      8,     29,2,19980416,0020, 22.7538,-158.0238, 4725,     99.4,  22.1494,  35.2648,2,  35.2717,2,    213.6,1,   -999.0,9,  -999.00,9,  -999.00,9,  -999.00,9,    100,-999.000,  -999.0, 22.1296
     32MW092_1,  PRS2,     2, 11,      7,     28,2,19980416,0020, 22.7538,-158.0238, 4725,    126.0,  21.2109,  35.2115,2,  35.2136,2,    205.5,1,   -999.0,9,  -999.00,9,  -999.00,9,  -999.00,9,    127,-999.000,  -999.0, 21.1866
     32MW092_1,  PRS2,     2, 11,      6,      7,2,19980416,0020, 22.7538,-158.0238, 4725,    148.9,  19.9876,  35.0567,2,  35.0645,2,    193.0,1,   -999.0,9,  -999.00,9,  -999.00,9,  -999.00,9,    149,-999.000,  -999.0, 19.9601
     32MW092_1,  PRS2,     2, 11,      5,     38,2,19980416,0020, 22.7538,-158.0238, 4725,    174.9,  18.8415,  34.9204,2,  34.9243,2,    190.3,1,   -999.0,9,  -999.00,9,  -999.00,9,  -999.00,9,    175,-999.000,  -999.0, 18.8106
     32MW092_1,  PRS2,     2, 11,      4,     36,2,19980416,0020, 22.7538,-158.0238, 4725,    250.1,  13.8498,  34.3783,2,  34.3893,2,    203.0,1,   -999.0,9,  -999.00,9,  -999.00,9,  -999.00,9,    249,-999.000,  -999.0, 13.8140
     32MW092_1,  PRS2,     2, 11,      3,     35,2,19980416,0020, 22.7538,-158.0238, 4725,    499.1,   6.9784,  34.0929,2,  34.0950,2,     99.8,1,   -999.0,9,  -999.00,9,  -999.00,9,  -999.00,9,    499,-999.000,  -999.0,  6.9314
     32MW092_1,  PRS2,     2, 11,      2,     34,2,19980416,0020, 22.7538,-158.0238, 4725,    749.4,   4.7673,  34.3475,2,  34.3461,2,     31.6,1,   -999.0,9,  -999.00,9,  -999.00,9,  -999.00,9,    749,-999.000,  -999.0,  4.7078
     32MW092_1,  PRS2,     2, 11,      1,     33,2,19980416,0020, 22.7538,-158.0238, 4725,   1021.1,   4.0304,  34.4900,2,  34.4914,2,     42.4,1,   -999.0,9,  -999.00,9,  -999.00,9,  -999.00,9,   1023,-999.000,  -999.0,  3.9527
     32MW092_1,  PRS2,     2, 12,     24,     31,2,19980416,0301, 22.7577,-158.0238, 4724,      2.3,  23.3809,  35.2219,2,  35.2193,2,    215.6,1,   -999.0,9,  -999.00,9,  -999.00,9,  -999.00,9,      2,-999.000,  -999.0, 23.3805
     32MW092_1,  PRS2,     2, 12,     23,     30,2,19980416,0301, 22.7577,-158.0238, 4724,      5.4,  23.3796,  35.2225,2,  35.2192,2,    215.5,1,   -999.0,9,  -999.00,9,  -999.00,9,  -999.00,9,      5,-999.000,  -999.0, 23.3784
     32MW092_1,  PRS2,     2, 12,     22,     22,2,19980416,0301, 22.7577,-158.0238, 4724,     10.2,  23.3756,  35.2215,2,  35.2190,2,    215.5,1,   -999.0,9,  -999.00,9,  -999.00,9,  -999.00,9,     10,-999.000,  -999.0, 23.3735
     32MW092_1,  PRS2,     2, 12,     21,     21,2,19980416,0301, 22.7577,-158.0238, 4724,     14.7,  23.3594,  35.2210,2,  35.2181,2,    215.5,1,   -999.0,9,  -999.00,9,  -999.00,9,  -999.00,9,     14,-999.000,  -999.0, 23.3563
     32MW092_1,  PRS2,     2, 12,     20,     20,2,19980416,0301, 22.7577,-158.0238, 4724,     19.6,  23.3094,  35.2186,2,  35.2169,2,    215.2,1,   -999.0,9,  -999.00,9,  -999.00,9,  -999.00,9,     20,-999.000,  -999.0, 23.3054
     32MW092_1,  PRS2,     2, 12,     19,     19,2,19980416,0301, 22.7577,-158.0238, 4724,     24.0,  23.2698,  35.2168,2,  35.2140,2,    215.1,1,   -999.0,9,  -999.00,9,  -999.00,9,  -999.00,9,     24,-999.000,  -999.0, 23.2649
     32MW092_1,  PRS2,     2, 12,     18,     18,2,19980416,0301, 22.7577,-158.0238, 4724,     29.8,  23.2557,  35.2161,2,  35.2141,2,    215.5,1,   -999.0,9,  -999.00,9,  -999.00,9,  -999.00,9,     30,-999.000,  -999.0, 23.2495
     32MW092_1,  PRS2,     2, 12,     17,     17,2,19980416,0301, 22.7577,-158.0238, 4724,     35.1,  23.2482,  35.2163,2,  35.2158,2,    215.8,1,   -999.0,9,  -999.00,9,  -999.00,9,  -999.00,9,     36,-999.000,  -999.0, 23.2410
     32MW092_1,  PRS2,     2, 12,     16,     16,2,19980416,0301, 22.7577,-158.0238, 4724,     38.9,  23.2470,  35.2162,2,  35.2174,2,    216.0,1,   -999.0,9,  -999.00,9,  -999.00,9,  -999.00,9,     39,-999.000,  -999.0, 23.2390
     32MW092_1,  PRS2,     2, 12,     15,     15,2,19980416,0301, 22.7577,-158.0238, 4724,     45.1,  23.2454,  35.2159,2,  35.2157,2,    215.7,1,   -999.0,9,  -999.00,9,  -999.00,9,  -999.00,9,     46,-999.000,  -999.0, 23.2361
     32MW092_1,  PRS2,     2, 12,     14,     14,2,19980416,0301, 22.7577,-158.0238, 4724,     50.1,  23.2425,  35.2156,2,  35.2138,2,    215.8,1,   -999.0,9,  -999.00,9,  -999.00,9,  -999.00,9,     50,-999.000,  -999.0, 23.2322
     32MW092_1,  PRS2,     2, 12,     13,     13,2,19980416,0301, 22.7577,-158.0238, 4724,     54.5,  23.2425,  35.2154,2,  35.2168,2,    215.7,1,   -999.0,9,  -999.00,9,  -999.00,9,  -999.00,9,     55,-999.000,  -999.0, 23.2313
     32MW092_1,  PRS2,     2, 12,     12,     12,2,19980416,0301, 22.7577,-158.0238, 4724,     64.1,  23.2419,  35.2152,2,  35.2138,2,    215.8,1,   -999.0,9,  -999.00,9,  -999.00,9,  -999.00,9,     64,-999.000,  -999.0, 23.2287
     32MW092_1,  PRS2,     2, 12,     11,     11,2,19980416,0301, 22.7577,-158.0238, 4724,     75.1,  23.2391,  35.2150,2,  35.2539,4,    215.8,1,   -999.0,9,  -999.00,9,  -999.00,9,  -999.00,9,     75,-999.000,  -999.0, 23.2236
     32MW092_1,  PRS2,     2, 12,     10,     32,2,19980416,0301, 22.7577,-158.0238, 4724,     84.3,  23.2347,  35.2149,2,  35.2140,2,    215.7,1,   -999.0,9,  -999.00,9,  -999.00,9,  -999.00,9,     84,-999.000,  -999.0, 23.2173
     32MW092_1,  PRS2,     2, 12,      9,      3,2,19980416,0301, 22.7577,-158.0238, 4724,     94.5,  23.0835,  35.2251,2,  35.2229,2,    215.0,1,   -999.0,9,  -999.00,9,  -999.00,9,  -999.00,9,     95,-999.000,  -999.0, 23.0642
     32MW092_1,  PRS2,     2, 12,      8,     29,2,19980416,0301, 22.7577,-158.0238, 4724,    104.7,  22.5257,  35.2603,2,  35.2598,2,    213.4,1,   -999.0,9,  -999.00,9,  -999.00,9,  -999.00,9,    105,-999.000,  -999.0, 22.5046
     32MW092_1,  PRS2,     2, 12,      7,     28,2,19980416,0301, 22.7577,-158.0238, 4724,    114.1,  21.6594,  35.2383,2,  35.2449,2,    211.7,1,   -999.0,9,  -999.00,9,  -999.00,9,  -999.00,9,    114,-999.000,  -999.0, 21.6371
     32MW092_1,  PRS2,     2, 12,      6,      7,2,19980416,0301, 22.7577,-158.0238, 4724,    125.6,  21.2120,  35.2016,2,  35.2014,2,    206.4,1,   -999.0,9,  -999.00,9,  -999.00,9,  -999.00,9,    125,-999.000,  -999.0, 21.1878
     32MW092_1,  PRS2,     2, 12,      5,     38,2,19980416,0301, 22.7577,-158.0238, 4724,    149.4,  20.8911,  35.2042,2,  35.2039,2,    211.8,1,   -999.0,9,  -999.00,9,  -999.00,9,  -999.00,9,    149,-999.000,  -999.0, 20.8626
     32MW092_1,  PRS2,     2, 12,      4,     36,2,19980416,0301, 22.7577,-158.0238, 4724,    173.9,  19.3023,  34.9727,2,  34.9735,2,    191.1,1,   -999.0,9,  -999.00,9,  -999.00,9,  -999.00,9,    174,-999.000,  -999.0, 19.2709
     32MW092_1,  PRS2,     2, 12,      3,     35,2,19980416,0301, 22.7577,-158.0238, 4724,    250.8,  16.2239,  34.6377,2,  34.6546,2,    191.8,1,   -999.0,9,  -999.00,9,  -999.00,9,  -999.00,9,    251,-999.000,  -999.0, 16.1839
     32MW092_1,  PRS2,     2, 12,      2,     34,2,19980416,0301, 22.7577,-158.0238, 4724,    500.6,   7.4468,  34.0838,2,  34.0824,2,    119.7,1,   -999.0,9,  -999.00,9,  -999.00,9,  -999.00,9,    501,-999.000,  -999.0,  7.3979
     32MW092_1,  PRS2,     2, 12,      1,     33,2,19980416,0301, 22.7577,-158.0238, 4724,   1020.9,   3.9644,  34.4935,2,  34.4935,2,     43.0,1,   -999.0,9,  -999.00,9,  -999.00,9,  -999.00,9,   1021,-999.000,  -999.0,  3.8873
     32MW092_1,  PRS2,     2, 13,     10,     32,2,19980416,0558, 22.7803,-158.0088, 4715,      4.9,  23.2963,  35.2199,2,  35.2174,2,    215.3,1,   -999.0,9,  -999.00,9,  -999.00,9,  -999.00,9,      5,-999.000,  -999.0, 23.2953
     32MW092_1,  PRS2,     2, 13,      9,      3,2,19980416,0558, 22.7803,-158.0088, 4715,     24.3,  23.2985,  35.2182,2,  35.2187,2,    215.3,1,   -999.0,9,  -999.00,9,  -999.00,9,  -999.00,9,     24,-999.000,  -999.0, 23.2935
     32MW092_1,  PRS2,     2, 13,      8,     29,2,19980416,0558, 22.7803,-158.0088, 4715,     44.9,  23.2919,  35.2175,2,  35.2169,2,    215.3,1,   -999.0,9,  -999.00,9,  -999.00,9,  -999.00,9,     45,-999.000,  -999.0, 23.2826
     32MW092_1,  PRS2,     2, 13,      7,     28,2,19980416,0558, 22.7803,-158.0088, 4715,     73.7,  23.2269,  35.2150,2,  35.2139,2,    215.7,1,   -999.0,9,  -999.00,9,  -999.00,9,  -999.00,9,     75,-999.000,  -999.0, 23.2117
     32MW092_1,  PRS2,     2, 13,      6,      7,2,19980416,0558, 22.7803,-158.0088, 4715,     99.5,  23.2257,  35.2148,2,  35.2165,2,    215.5,1,   -999.0,9,  -999.00,9,  -999.00,9,  -999.00,9,     99,-999.000,  -999.0, 23.2052
     32MW092_1,  PRS2,     2, 13,      5,     38,2,19980416,0558, 22.7803,-158.0088, 4715,    126.5,  22.2635,  35.2692,2,  35.2663,2,    216.4,1,   -999.0,9,  -999.00,9,  -999.00,9,  -999.00,9,    127,-999.000,  -999.0, 22.2382
     32MW092_1,  PRS2,     2, 13,      4,     36,2,19980416,0558, 22.7803,-158.0088, 4715,    151.6,  21.1758,  35.2455,2,  35.2615,3,    214.0,1,   -999.0,9,  -999.00,9,  -999.00,9,  -999.00,9,    151,-999.000,  -999.0, 21.1466
     32MW092_1,  PRS2,     2, 13,      3,     35,2,19980416,0558, 22.7803,-158.0088, 4715,    178.3,  19.8724,  35.0412,2,  35.0411,2,    187.6,1,   -999.0,9,  -999.00,9,  -999.00,9,  -999.00,9,    177,-999.000,  -999.0, 19.8396
     32MW092_1,  PRS2,     2, 13,      2,     34,2,19980416,0558, 22.7803,-158.0088, 4715,    502.6,   7.1760,  34.0864,2,  34.0852,2,    111.4,1,   -999.0,9,  -999.00,9,  -999.00,9,  -999.00,9,    503,-999.000,  -999.0,  7.1280
     32MW092_1,  PRS2,     2, 13,      1,     33,2,19980416,0558, 22.7803,-158.0088, 4715,   1020.9,   3.9491,  34.4930,2,  34.4909,2,     43.3,1,   -999.0,9,  -999.00,9,  -999.00,9,  -999.00,9,   1021,-999.000,  -999.0,  3.8721
     32MW092_1,  PRS2,     2, 14,     12,     12,2,19980416,0859, 22.7817,-157.9825, 4700,      5.4,  23.2570,  35.2202,2,  35.2179,2,    215.6,1,   -999.0,9,  -999.00,9,  -999.00,9,  -999.00,9,      6,-999.000,  -999.0, 23.2559
     32MW092_1,  PRS2,     2, 14,     11,     11,2,19980416,0859, 22.7817,-157.9825, 4700,     20.0,  23.2682,  35.2196,2,  35.2199,2,    215.5,1,   -999.0,9,  -999.00,9,  -999.00,9,  -999.00,9,     20,-999.000,  -999.0, 23.2640
     32MW092_1,  PRS2,     2, 14,     10,     32,2,19980416,0859, 22.7817,-157.9825, 4700,     36.0,  23.2678,  35.2188,2,  35.2169,2,    215.5,1,   -999.0,9,  -999.00,9,  -999.00,9,  -999.00,9,     35,-999.000,  -999.0, 23.2604
     32MW092_1,  PRS2,     2, 14,      9,      3,4,19980416,0859, 22.7817,-157.9825, 4700,     49.2,  23.2470,  35.2168,2,-999.0000,5,    215.4,1,   -999.0,9,  -999.00,9,  -999.00,9,  -999.00,9,     50,-999.000,  -999.0, 23.2369
     32MW092_1,  PRS2,     2, 14,      8,     29,2,19980416,0859, 22.7817,-157.9825, 4700,     64.8,  23.2293,  35.2163,2,  35.2153,2,    215.7,1,   -999.0,9,  -999.00,9,  -999.00,9,  -999.00,9,     65,-999.000,  -999.0, 23.2160
     32MW092_1,  PRS2,     2, 14,      7,     28,2,19980416,0859, 22.7817,-157.9825, 4700,     80.0,  23.2095,  35.2177,2,  35.2184,2,    215.3,1,   -999.0,9,  -999.00,9,  -999.00,9,  -999.00,9,     81,-999.000,  -999.0, 23.1931
     32MW092_1,  PRS2,     2, 14,      6,      7,2,19980416,0859, 22.7817,-157.9825, 4700,     95.3,  22.5007,  35.2585,2,  35.2536,2,    210.5,1,   -999.0,9,  -999.00,9,  -999.00,9,  -999.00,9,     94,-999.000,  -999.0, 22.4816
     32MW092_1,  PRS2,     2, 14,      5,     38,2,19980416,0859, 22.7817,-157.9825, 4700,    109.7,  21.4806,  35.2260,2,  35.2248,2,    210.4,1,   -999.0,9,  -999.00,9,  -999.00,9,  -999.00,9,    111,-999.000,  -999.0, 21.4593
     32MW092_1,  PRS2,     2, 14,      4,     36,2,19980416,0859, 22.7817,-157.9825, 4700,    124.9,  21.2049,  35.2136,2,  35.2149,2,    210.3,1,   -999.0,9,  -999.00,9,  -999.00,9,  -999.00,9,    126,-999.000,  -999.0, 21.1809
     32MW092_1,  PRS2,     2, 14,      3,     35,2,19980416,0859, 22.7817,-157.9825, 4700,    140.3,  20.1373,  35.0768,2,  35.0859,2,    192.7,1,   -999.0,9,  -999.00,9,  -999.00,9,  -999.00,9,    141,-999.000,  -999.0, 20.1112
     32MW092_1,  PRS2,     2, 14,      2,     34,2,19980416,0859, 22.7817,-157.9825, 4700,    152.1,  19.7117,  35.0328,2,  35.0374,2,    195.9,1,   -999.0,9,  -999.00,9,  -999.00,9,  -999.00,9,    152,-999.000,  -999.0, 19.6839
     32MW092_1,  PRS2,     2, 14,      1,     33,2,19980416,0859, 22.7817,-157.9825, 4700,   1021.9,   3.9461,  34.4876,2,  34.4871,2,     42.8,1,   -999.0,9,  -999.00,9,  -999.00,9,  -999.00,9,   1022,-999.000,  -999.0,  3.8691
     32MW092_1,  PRS2,     2, 15,     11,     11,2,19980416,1159, 22.8145,-158.0027, 4700,      5.4,  23.2400,  35.2158,2,  35.2155,2,    215.3,1,   -999.0,9,  -999.00,9,  -999.00,9,  -999.00,9,      6,-999.000,  -999.0, 23.2389
     32MW092_1,  PRS2,     2, 15,     10,     32,2,19980416,1159, 22.8145,-158.0027, 4700,     25.4,  23.2480,  35.2165,2,  35.2389,4,    215.3,1,   -999.0,9,  -999.00,9,  -999.00,9,  -999.00,9,     26,-999.000,  -999.0, 23.2428
     32MW092_1,  PRS2,     2, 15,      9,      3,2,19980416,1159, 22.8145,-158.0027, 4700,     25.4,  23.2479,  35.2165,2,  35.2141,2,    215.3,1,   -999.0,9,  -999.00,9,  -999.00,9,  -999.00,9,     25,-999.000,  -999.0, 23.2427
     32MW092_1,  PRS2,     2, 15,      6,      7,2,19980416,1159, 22.8145,-158.0027, 4700,     86.0,  21.9162,  35.2564,2,  35.2562,2,    212.5,1,   -999.0,9,  -999.00,9,  -999.00,9,  -999.00,9,     86,-999.000,  -999.0, 21.8992
     32MW092_1,  PRS2,     2, 15,      7,     28,2,19980416,1159, 22.8145,-158.0027, 4700,     86.6,  21.8036,  35.2423,2,  35.2568,3,    212.5,1,   -999.0,9,  -999.00,9,  -999.00,9,  -999.00,9,     87,-999.000,  -999.0, 21.7866
     32MW092_1,  PRS2,     2, 15,      8,     29,2,19980416,1159, 22.8145,-158.0027, 4700,     86.9,  21.8145,  35.2443,2,  35.2610,3,    212.5,1,   -999.0,9,  -999.00,9,  -999.00,9,  -999.00,9,     88,-999.000,  -999.0, 21.7974
     32MW092_1,  PRS2,     2, 15,      3,     35,2,19980416,1159, 22.8145,-158.0027, 4700,    127.5,  20.8417,  35.2084,2,  35.2097,2,    208.2,1,   -999.0,9,  -999.00,9,  -999.00,9,  -999.00,9,    128,-999.000,  -999.0, 20.8174
     32MW092_1,  PRS2,     2, 15,      4,     36,2,19980416,1159, 22.8145,-158.0027, 4700,    128.9,  20.8280,  35.2067,2,  35.2077,2,    208.4,1,   -999.0,9,  -999.00,9,  -999.00,9,  -999.00,9,    129,-999.000,  -999.0, 20.8035
     32MW092_1,  PRS2,     2, 15,      5,     38,2,19980416,1159, 22.8145,-158.0027, 4700,    130.0,  20.6439,  35.1813,2,  35.2055,3,    208.5,1,   -999.0,9,  -999.00,9,  -999.00,9,  -999.00,9,    131,-999.000,  -999.0, 20.6193
     32MW092_1,  PRS2,     2, 15,      2,     34,2,19980416,1159, 22.8145,-158.0027, 4700,    473.6,   7.5286,  34.0885,2,  34.0916,2,    116.1,1,   -999.0,9,  -999.00,9,  -999.00,9,  -999.00,9,    473,-999.000,  -999.0,  7.4822
     32MW092_1,  PRS2,     2, 15,      1,     33,2,19980416,1159, 22.8145,-158.0027, 4700,   1021.4,   4.0037,  34.4881,2,  34.4878,2,     42.1,1,   -999.0,9,  -999.00,9,  -999.00,9,  -999.00,9,   1022,-999.000,  -999.0,  3.9263
     32MW092_1,  PRS2,     2, 16,     10,     32,2,19980416,1606, 22.7440,-158.0127, 4725,     10.8,  23.2537,  35.2158,2,  35.2038,3,    214.7,3,    213.7,2,  -999.00,9,  -999.00,9,  -999.00,9,     11,-999.000,  -999.0, 23.2514
     32MW092_1,  PRS2,     2, 16,      9,      3,2,19980416,1606, 22.7440,-158.0127, 4725,    101.2,  21.9752,  35.2744,2,  35.2755,2,    208.8,2,    217.9,3,  -999.00,9,  -999.00,9,  -999.00,9,    102,-999.000,  -999.0, 21.9552
     32MW092_1,  PRS2,     2, 16,      8,     29,2,19980416,1606, 22.7440,-158.0127, 4725,    250.1,  16.4779,  34.6826,2,  34.6927,2,    198.7,2,    197.7,2,  -999.00,9,  -999.00,9,  -999.00,9,    249,-999.000,  -999.0, 16.4376
     32MW092_1,  PRS2,     2, 16,      7,     28,2,19980416,1606, 22.7440,-158.0127, 4725,    452.0,   8.1980,  34.0894,2,  34.0922,2,    143.5,2,    137.8,2,  -999.00,9,  -999.00,9,  -999.00,9,    451,-999.000,  -999.0,  8.1514
     32MW092_1,  PRS2,     2, 16,      6,      7,2,19980416,1606, 22.7440,-158.0127, 4725,    802.0,   4.5829,  34.3982,2,  34.4008,2,     29.3,2,     32.3,2,  -999.00,9,  -999.00,9,  -999.00,9,    802,-999.000,  -999.0,  4.5200
     32MW092_1,  PRS2,     2, 16,      5,     38,2,19980416,1606, 22.7440,-158.0127, 4725,   1000.8,   3.9946,  34.4931,2,  34.4921,2,     42.6,2,     42.9,2,  -999.00,9,  -999.00,9,  -999.00,9,   1000,-999.000,  -999.0,  3.9190
     32MW092_1,  PRS2,     2, 16,      4,     36,2,19980416,1606, 22.7440,-158.0127, 4725,   2000.2,   2.1001,  34.6211,2,  34.6225,2,     88.4,2,     87.9,2,  -999.00,9,  -999.00,9,  -999.00,9,   1999,-999.000,  -999.0,  1.9621
     32MW092_1,  PRS2,     2, 16,      3,     35,2,19980416,1606, 22.7440,-158.0127, 4725,   2998.1,   1.5616,  34.6687,2,  34.6689,2,    122.7,2,    123.5,2,  -999.00,9,  -999.00,9,  -999.00,9,   2998,-999.000,  -999.0,  1.3437
     32MW092_1,  PRS2,     2, 16,      2,     34,2,19980416,1606, 22.7440,-158.0127, 4725,   3995.6,   1.4540,  34.6869,2,  34.6867,2,    148.0,2,    147.9,2,  -999.00,9,  -999.00,9,  -999.00,9,   3997,-999.000,  -999.0,  1.1369
     32MW092_1,  PRS2,     2, 16,      1,     33,2,19980416,1606, 22.7440,-158.0127, 4725,   4810.9,   1.5158,  34.6900,2,  34.6912,2,    153.7,2,    153.2,2,  -999.00,9,  -999.00,9,  -999.00,9,   4809,-999.000,  -999.0,  1.1038