BOTTLE,20020809WHPSIObren
#code : jjward hyd_to_exchange.pl 
#original files copied from HTML directory: 20020809
#original HYD file: /whpo/11/HOTS/BOTTLE/hot92/hot92.sea   Fri Aug  9 09:51:38 2002
#original SUM file: /whpo/11/HOTS/BOTTLE/hot92/hot92.sum   Fri Aug  9 13:30:29 2002
EXPOCODE,SECT_ID,STNNBR,CASTNO,SAMPNO,BTLNBR,BTLNBR_FLAG_W,DATE,TIME,LATITUDE,LONGITUDE,DEPTH,CTDPRS,CTDTMP,CTDSAL,CTDSAL_FLAG_W,SALNTY,SALNTY_FLAG_W,CTDOXY,CTDOXY_FLAG_W,OXYGEN,OXYGEN_FLAG_W,SILCAT,SILCAT_FLAG_W,NO2+NO3,NO2+NO3_FLAG_W,PHSPHT,PHSPHT_FLAG_W,CTDRAW,REVTMP,REVPRS,THETA
,,,,,,,,,,,,DBAR,ITS-90,PSS-78,,PSS-78,,UMOL/KG,,UMOL/KG,,UMOL/KG,,UMOL/KG,,UMOL/KG,,,DEG C,DBAR,ITS-90
     32MW092_1,  PRS2,     1,  1,      2,     34,2,19980413,2301, 21.3408,-158.2548, 1380,    899.8,   4.3045,  34.4798,2,  34.4774,2,     40.1,1,   -999.0,9,  -999.00,9,  -999.00,9,  -999.00,9,    900,-999.000,  -999.0,  4.2350
     32MW092_1,  PRS2,     1,  1,      1,     33,2,19980413,2301, 21.3408,-158.2548, 1380,   1029.6,   3.9743,  34.5083,2,  34.5078,2,     44.7,1,   -999.0,9,  -999.00,9,  -999.00,9,  -999.00,9,   1029,-999.000,  -999.0,  3.8964
     32MW092_1,  PRS2,     1,  2,     24,     31,2,19980414,0102, 21.3430,-158.2747, 1445,      4.7,  24.3315,  35.1053,2,  35.1030,2,    210.4,2,    211.0,2,  -999.00,5,  -999.00,5,  -999.00,5,      5,-999.000,  -999.0, 24.3305
     32MW092_1,  PRS2,     1,  2,     23,     30,2,19980414,0102, 21.3430,-158.2747, 1445,      4.7,  24.3287,  35.1051,2,  35.1009,2,    210.4,2,    211.6,2,     1.22,2,     0.00,2,     0.09,2,      6,-999.000,  -999.0, 24.3277
     32MW092_1,  PRS2,     1,  2,     22,     22,2,19980414,0102, 21.3430,-158.2747, 1445,     25.0,  24.3045,  35.1031,2,  35.1039,2,    210.5,2,    209.7,2,     1.45,2,     0.00,2,     0.10,2,     25,-999.000,  -999.0, 24.2992
     32MW092_1,  PRS2,     1,  2,     21,     21,2,19980414,0102, 21.3430,-158.2747, 1445,     45.4,  24.2778,  35.1112,2,  35.1330,4,    210.6,3,    210.9,2,     1.21,2,     0.00,2,     0.11,2,     46,-999.000,  -999.0, 24.2681
     32MW092_1,  PRS2,     1,  2,     20,     20,2,19980414,0102, 21.3430,-158.2747, 1445,     60.3,  24.2473,  35.1111,2,  35.1189,2,    210.7,2,    210.3,2,     1.39,2,     0.00,2,     0.09,2,     60,-999.000,  -999.0, 24.2345
     32MW092_1,  PRS2,     1,  2,     19,     19,2,19980414,0102, 21.3430,-158.2747, 1445,     75.4,  24.2331,  35.1111,2,  35.1085,2,    210.9,2,    210.4,2,     1.60,2,     0.00,2,     0.10,2,     76,-999.000,  -999.0, 24.2172
     32MW092_1,  PRS2,     1,  2,     18,     18,2,19980414,0102, 21.3430,-158.2747, 1445,     94.8,  24.1636,  35.1268,2,  35.1244,2,    211.0,2,    210.7,2,     1.36,2,     0.00,2,     0.09,2,     95,-999.000,  -999.0, 24.1435
     32MW092_1,  PRS2,     1,  2,     17,     17,4,19980414,0102, 21.3430,-158.2747, 1445,    103.2,  24.0795,  35.1395,2,-999.0000,5,    210.9,2,   -999.0,5,  -999.00,5,  -999.00,5,  -999.00,5,    102,-999.000,  -999.0, 24.0577
     32MW092_1,  PRS2,     1,  2,     16,     16,2,19980414,0102, 21.3430,-158.2747, 1445,    114.4,  23.8927,  35.1695,2,  35.1667,2,    211.3,2,    210.6,2,     1.58,2,     0.01,2,     0.07,2,    114,-999.000,  -999.0, 23.8687
     32MW092_1,  PRS2,     1,  2,     15,     15,2,19980414,0102, 21.3430,-158.2747, 1445,    124.0,  23.7072,  35.1797,2,  35.1820,2,    211.4,2,    211.4,2,     1.68,2,     0.00,2,     0.06,2,    123,-999.000,  -999.0, 23.6813
     32MW092_1,  PRS2,     1,  2,     14,     14,2,19980414,0102, 21.3430,-158.2747, 1445,    149.3,  22.6177,  35.1763,2,  35.1752,2,    207.6,2,    207.6,2,     1.61,2,     0.11,2,     0.08,2,    151,-999.000,  -999.0, 22.5876
     32MW092_1,  PRS2,     1,  2,     13,     13,2,19980414,0102, 21.3430,-158.2747, 1445,    174.2,  21.0766,  35.0585,2,  35.0578,2,    192.8,2,    193.3,2,     1.92,2,     1.09,2,     0.18,2,    175,-999.000,  -999.0, 21.0431
     32MW092_1,  PRS2,     1,  2,     12,     12,2,19980414,0102, 21.3430,-158.2747, 1445,    199.8,  19.4423,  34.9667,2,  34.9660,2,    191.2,2,    192.5,2,     2.85,2,     2.33,2,     0.24,2,    200,-999.000,  -999.0, 19.4061
     32MW092_1,  PRS2,     1,  2,     11,     11,2,19980414,0102, 21.3430,-158.2747, 1445,    225.4,  18.1283,  34.8532,2,  34.8556,2,    192.1,2,    194.0,2,     3.52,2,     3.26,2,     0.31,2,    226,-999.000,  -999.0, 18.0894
     32MW092_1,  PRS2,     1,  2,     10,     32,2,19980414,0102, 21.3430,-158.2747, 1445,    250.2,  16.9426,  34.7178,2,  34.7190,2,    190.0,2,    191.7,2,     4.83,2,     4.72,2,     0.41,2,    250,-999.000,  -999.0, 16.9015
     32MW092_1,  PRS2,     1,  2,      9,      3,2,19980414,0102, 21.3430,-158.2747, 1445,    275.1,  14.2247,  34.4434,2,  34.4475,2,    191.4,2,    192.7,2,  -999.00,5,  -999.00,5,  -999.00,5,    274,-999.000,  -999.0, 14.1846
     32MW092_1,  PRS2,     1,  2,      8,     29,2,19980414,0102, 21.3430,-158.2747, 1445,    299.5,  12.8028,  34.3202,2,  34.3269,2,    193.8,2,    194.5,2,    10.40,2,    10.10,2,     0.76,2,    300,-999.000,  -999.0, 12.7621
     32MW092_1,  PRS2,     1,  2,      7,     28,2,19980414,0102, 21.3430,-158.2747, 1445,    400.3,   9.0364,  34.1076,2,  34.1069,2,    167.3,2,    165.8,2,    27.52,2,    20.46,2,     1.48,2,    400,-999.000,  -999.0,  8.9928
     32MW092_1,  PRS2,     1,  2,      6,      7,2,19980414,0102, 21.3430,-158.2747, 1445,    501.6,   6.7021,  34.0743,2,  34.0738,2,    103.7,2,    105.1,2,    52.38,2,    30.39,3,     2.23,3,    502,-999.000,  -999.0,  6.6559
     32MW092_1,  PRS2,     1,  2,      5,     38,2,19980414,0102, 21.3430,-158.2747, 1445,    599.5,   5.4012,  34.2053,2,  34.2010,2,     47.8,2,     46.3,2,  -999.00,5,  -999.00,5,  -999.00,5,    600,-999.000,  -999.0,  5.3514
     32MW092_1,  PRS2,     1,  2,      4,     36,2,19980414,0102, 21.3430,-158.2747, 1445,    699.2,   4.9848,  34.3441,2,  34.3424,2,     34.6,2,     34.0,2,    79.27,3,    37.96,3,     2.81,3,    699,-999.000,  -999.0,  4.9283
     32MW092_1,  PRS2,     1,  2,      3,     35,2,19980414,0102, 21.3430,-158.2747, 1445,    799.5,   4.6246,  34.4343,2,  34.4337,2,     36.4,2,     36.4,2,  -999.00,5,  -999.00,5,  -999.00,5,    800,-999.000,  -999.0,  4.5615
     32MW092_1,  PRS2,     1,  2,      2,     34,2,19980414,0102, 21.3430,-158.2747, 1445,    899.4,   4.3444,  34.4753,2,  34.4733,2,     39.2,2,     39.7,2,  -999.00,5,  -999.00,5,  -999.00,5,    899,-999.000,  -999.0,  4.2747
     32MW092_1,  PRS2,     1,  2,      1,     33,2,19980414,0102, 21.3430,-158.2747, 1445,   1021.3,   3.8639,  34.5164,2,  34.5159,2,     46.1,2,     47.0,2,   111.90,2,    41.17,2,     3.03,2,   1021,-999.000,  -999.0,  3.7875
     32MW092_1,  PRS2,     2,  1,     12,     12,2,19980414,1417, 22.7315,-157.9952, 4720,      5.1,  23.2671,  35.2125,2,  35.2104,2,    215.4,1,   -999.0,9,  -999.00,9,  -999.00,9,  -999.00,9,      5,-999.000,  -999.0, 23.2661
     32MW092_1,  PRS2,     2,  1,     11,     11,2,19980414,1417, 22.7315,-157.9952, 4720,     25.5,  23.2744,  35.2119,2,  35.2095,2,    215.4,1,   -999.0,9,  -999.00,9,  -999.00,9,  -999.00,9,     26,-999.000,  -999.0, 23.2692
     32MW092_1,  PRS2,     2,  1,     10,     32,2,19980414,1417, 22.7315,-157.9952, 4720,     45.0,  23.2777,  35.2118,2,  35.2093,2,    215.4,1,   -999.0,9,  -999.00,9,  -999.00,9,  -999.00,9,     44,-999.000,  -999.0, 23.2684
     32MW092_1,  PRS2,     2,  1,      9,      3,2,19980414,1417, 22.7315,-157.9952, 4720,     74.2,  23.2872,  35.2109,2,  35.2092,2,    215.2,1,   -999.0,9,  -999.00,9,  -999.00,9,  -999.00,9,     73,-999.000,  -999.0, 23.2719
     32MW092_1,  PRS2,     2,  1,      8,     29,2,19980414,1417, 22.7315,-157.9952, 4720,     99.6,  22.0469,  35.2118,2,  35.2047,2,    210.8,1,   -999.0,9,  -999.00,9,  -999.00,9,  -999.00,9,    100,-999.000,  -999.0, 22.0271
     32MW092_1,  PRS2,     2,  1,      7,     28,2,19980414,1417, 22.7315,-157.9952, 4720,    126.0,  21.7352,  35.3028,2,  35.3014,2,    222.4,1,   -999.0,9,  -999.00,9,  -999.00,9,  -999.00,9,    126,-999.000,  -999.0, 21.7105
     32MW092_1,  PRS2,     2,  1,      6,      7,2,19980414,1417, 22.7315,-157.9952, 4720,    150.0,  21.3231,  35.2641,2,  35.2703,2,    218.1,1,   -999.0,9,  -999.00,9,  -999.00,9,  -999.00,9,    149,-999.000,  -999.0, 21.2940
     32MW092_1,  PRS2,     2,  1,      5,     38,2,19980414,1417, 22.7315,-157.9952, 4720,    174.6,  19.7827,  35.0369,2,  35.0383,2,    190.3,1,   -999.0,9,  -999.00,9,  -999.00,9,  -999.00,9,    173,-999.000,  -999.0, 19.7507
     32MW092_1,  PRS2,     2,  1,      4,     36,2,19980414,1417, 22.7315,-157.9952, 4720,    252.0,  16.0832,  34.6222,2,  34.6189,2,    199.0,1,   -999.0,9,  -999.00,9,  -999.00,9,  -999.00,9,    253,-999.000,  -999.0, 16.0432
     32MW092_1,  PRS2,     2,  1,      3,     35,2,19980414,1417, 22.7315,-157.9952, 4720,    500.8,   7.5238,  34.0861,2,  34.0841,2,    122.9,1,   -999.0,9,  -999.00,9,  -999.00,9,  -999.00,9,    501,-999.000,  -999.0,  7.4746
     32MW092_1,  PRS2,     2,  1,      2,     34,2,19980414,1417, 22.7315,-157.9952, 4720,    748.9,   5.0910,  34.3118,2,  34.3096,2,     33.2,1,   -999.0,9,  -999.00,9,  -999.00,9,  -999.00,9,    749,-999.000,  -999.0,  5.0297
     32MW092_1,  PRS2,     2,  1,      1,     33,2,19980414,1417, 22.7315,-157.9952, 4720,   1019.7,   4.0026,  34.4857,2,  34.4863,2,     42.9,1,   -999.0,9,  -999.00,9,  -999.00,9,  -999.00,9,   1020,-999.000,  -999.0,  3.9253
     32MW092_1,  PRS2,     2,  2,     24,     31,2,19980414,1631, 22.7512,-157.9805, 4715,      3.6,  23.3382,  35.2020,2,  35.2008,2,    222.0,2,    214.1,2,     1.26,2,     0.00,2,     0.06,2,      4,-999.000,  -999.0, 23.3375
     32MW092_1,  PRS2,     2,  2,     23,     30,2,19980414,1631, 22.7512,-157.9805, 4715,     51.7,  23.3463,  35.2023,2,  35.2006,2,    221.0,2,    211.0,2,     1.30,2,     0.00,2,     0.06,2,     51,-999.000,  -999.0, 23.3356
     32MW092_1,  PRS2,     2,  2,     22,     22,2,19980414,1631, 22.7512,-157.9805, 4715,     97.3,  22.0776,  35.1965,2,  35.1952,2,    206.9,2,    192.8,4,     1.38,2,     0.01,2,     0.05,2,     97,-999.000,  -999.0, 22.0583
     32MW092_1,  PRS2,     2,  2,     21,     21,2,19980414,1631, 22.7512,-157.9805, 4715,    120.2,  21.7544,  35.2979,2,  35.2913,2,    222.5,2,    218.2,2,     1.45,2,     0.27,2,     0.03,2,    119,-999.000,  -999.0, 21.7308
     32MW092_1,  PRS2,     2,  2,     20,     20,2,19980414,1631, 22.7512,-157.9805, 4715,    181.6,  19.6126,  35.0113,2,  35.0131,2,    184.5,2,    194.4,2,     2.30,2,     1.94,2,     0.20,2,    181,-999.000,  -999.0, 19.5795
     32MW092_1,  PRS2,     2,  2,     19,     19,2,19980414,1631, 22.7512,-157.9805, 4715,    247.8,  16.0086,  34.6066,2,  34.6105,2,    191.6,2,    191.8,2,     4.80,2,     5.20,2,     0.41,2,    246,-999.000,  -999.0, 15.9695
     32MW092_1,  PRS2,     2,  2,     18,     18,2,19980414,1631, 22.7512,-157.9805, 4715,    278.7,  14.6386,  34.4583,2,  34.4711,2,    189.2,2,    194.5,2,     6.25,2,     6.76,2,     0.52,2,    279,-999.000,  -999.0, 14.5972
     32MW092_1,  PRS2,     2,  2,     17,     17,2,19980414,1631, 22.7512,-157.9805, 4715,    323.2,  11.8247,  34.2203,2,  34.2239,2,    202.4,2,    203.5,2,    10.77,2,    11.01,2,     0.77,2,    325,-999.000,  -999.0, 11.7831
     32MW092_1,  PRS2,     2,  2,     16,     16,2,19980414,1631, 22.7512,-157.9805, 4715,    351.6,  10.5781,  34.1362,2,  34.1357,2,    187.2,2,    186.4,2,    16.45,2,    15.37,2,     1.08,2,    352,-999.000,  -999.0, 10.5359
     32MW092_1,  PRS2,     2,  2,     15,     15,2,19980414,1631, 22.7512,-157.9805, 4715,    412.8,   8.9238,  34.0920,2,  34.0897,2,    164.6,2,    160.1,2,    27.49,2,    21.22,2,     1.51,2,    414,-999.000,  -999.0,  8.8792
     32MW092_1,  PRS2,     2,  2,     14,     14,2,19980414,1631, 22.7512,-157.9805, 4715,    451.7,   8.1761,  34.0867,2,  34.0886,2,    139.7,2,    138.1,2,    34.67,2,    24.70,2,     1.81,2,    452,-999.000,  -999.0,  8.1296
     32MW092_1,  PRS2,     2,  2,     13,     13,2,19980414,1631, 22.7512,-157.9805, 4715,    490.4,   7.3261,  34.0840,2,  34.0916,2,    114.6,2,    113.2,2,    45.28,2,    28.67,2,     2.10,2,    493,-999.000,  -999.0,  7.2787
     32MW092_1,  PRS2,     2,  2,     12,     12,2,19980414,1631, 22.7512,-157.9805, 4715,    535.4,   6.6695,  34.1103,2,  34.1087,2,     89.6,2,     88.7,2,    55.84,2,    32.05,2,     2.36,2,    536,-999.000,  -999.0,  6.6202
     32MW092_1,  PRS2,     2,  2,     11,     11,2,19980414,1631, 22.7512,-157.9805, 4715,    579.1,   6.1570,  34.1466,2,  34.1450,2,     65.5,2,     64.9,2,    64.98,2,    35.00,2,     2.58,2,    579,-999.000,  -999.0,  6.1058
     32MW092_1,  PRS2,     2,  2,     10,     32,2,19980414,1631, 22.7512,-157.9805, 4715,    625.2,   5.7283,  34.2057,2,  34.1972,2,     43.6,2,     50.2,2,    74.09,2,    37.42,2,     2.79,2,    626,-999.000,  -999.0,  5.6747
     32MW092_1,  PRS2,     2,  2,      9,      3,2,19980414,1631, 22.7512,-157.9805, 4715,    674.7,   5.3296,  34.2626,2,  34.2572,2,     36.4,2,     36.0,2,    82.87,2,    38.99,2,     2.88,2,    674,-999.000,  -999.0,  5.2735
     32MW092_1,  PRS2,     2,  2,      8,     29,2,19980414,1631, 22.7512,-157.9805, 4715,    698.5,   5.3086,  34.3049,2,  34.3020,2,     33.4,2,     32.8,2,    83.24,2,    39.35,2,     2.89,2,    698,-999.000,  -999.0,  5.2505
     32MW092_1,  PRS2,     2,  2,      7,     28,2,19980414,1631, 22.7512,-157.9805, 4715,    750.7,   4.9692,  34.3479,2,  34.3475,2,     31.1,2,     30.1,2,    90.62,2,    40.28,2,     2.96,2,    750,-999.000,  -999.0,  4.9084
     32MW092_1,  PRS2,     2,  2,      6,      7,2,19980414,1631, 22.7512,-157.9805, 4715,    789.1,   4.6867,  34.3538,2,  34.3524,2,     32.8,2,     33.0,2,    95.59,2,    40.51,2,     2.97,2,    791,-999.000,  -999.0,  4.6243
     32MW092_1,  PRS2,     2,  2,      5,     38,2,19980414,1631, 22.7512,-157.9805, 4715,    837.6,   4.3907,  34.3838,2,  34.3809,2,     27.1,2,     27.1,2,   102.82,2,    41.42,2,     3.06,2,    838,-999.000,  -999.0,  4.3260
     32MW092_1,  PRS2,     2,  2,      4,     36,2,19980414,1631, 22.7512,-157.9805, 4715,    868.0,   4.2782,  34.4116,2,  34.4103,2,     31.1,2,     30.5,2,   104.96,2,    41.42,2,     3.05,2,    867,-999.000,  -999.0,  4.2116
     32MW092_1,  PRS2,     2,  2,      3,     35,2,19980414,1631, 22.7512,-157.9805, 4715,    919.4,   4.2115,  34.4496,2,  34.4490,2,     36.5,2,     36.4,2,   105.94,2,    41.23,2,     3.03,2,    920,-999.000,  -999.0,  4.1411
     32MW092_1,  PRS2,     2,  2,      2,     34,2,19980414,1631, 22.7512,-157.9805, 4715,    980.8,   4.0480,  34.4761,2,  34.4750,2,     40.6,2,     39.9,2,   108.95,2,    41.12,2,     3.02,2,    981,-999.000,  -999.0,  3.9736
     32MW092_1,  PRS2,     2,  2,      1,     33,2,19980414,1631, 22.7512,-157.9805, 4715,   1018.8,   3.9442,  34.4901,2,  34.4909,2,     43.5,2,     43.2,2,   110.93,2,    41.12,2,     3.02,2,   1020,-999.000,  -999.0,  3.8674