BOTTLE,20020809WHPSIObren
EXPOCODE,SECT_ID,STNNBR,CASTNO,SAMPNO,BTLNBR,BTLNBR_FLAG_W,DATE,TIME,LATITUDE,LONGITUDE,DEPTH,CTDPRS,CTDTMP,CTDSAL,CTDSAL_FLAG_W,SALNTY,SALNTY_FLAG_W,CTDOXY,CTDOXY_FLAG_W,OXYGEN,OXYGEN_FLAG_W,SILCAT,SILCAT_FLAG_W,NO2+NO3,NO2+NO3_FLAG_W,PHSPHT,PHSPHT_FLAG_W,CTDRAW,REVTMP,REVPRS,THETA
,,,,,,,,,,,,DBAR,ITS-90,PSS-78,,PSS-78,,UMOL/KG,,UMOL/KG,,UMOL/KG,,UMOL/KG,,UMOL/KG,,,DEG C,DBAR,ITS-90
     32MW092_1,  PRS2,     8,  1,     12,     12,2,19980417,0227, 22.4770,-158.1532, 4825,      4.5,  23.8491,  35.2058,2,  35.2044,2,    212.0,2,    213.0,2,  -999.00,9,  -999.00,9,  -999.00,9,      5,-999.000,  -999.0, 23.8481
     32MW092_1,  PRS2,     8,  1,     11,     11,2,19980417,0227, 22.4770,-158.1532, 4825,     25.3,  23.7158,  35.2030,2,  35.2014,2,    213.1,2,    213.0,2,  -999.00,9,  -999.00,9,  -999.00,9,     25,-999.000,  -999.0, 23.7106
     32MW092_1,  PRS2,     8,  1,     10,     32,2,19980417,0227, 22.4770,-158.1532, 4825,     45.0,  23.6985,  35.2028,2,  35.2039,2,    213.7,2,    212.9,2,  -999.00,9,  -999.00,9,  -999.00,9,     45,-999.000,  -999.0, 23.6892
     32MW092_1,  PRS2,     8,  1,      9,      3,2,19980417,0227, 22.4770,-158.1532, 4825,     74.7,  23.1931,  35.2153,2,  35.2182,2,    213.7,2,    213.9,2,  -999.00,9,  -999.00,9,  -999.00,9,     74,-999.000,  -999.0, 23.1778
     32MW092_1,  PRS2,     8,  1,      8,     29,2,19980417,0227, 22.4770,-158.1532, 4825,     99.9,  22.2018,  35.2096,2,  35.2124,2,    208.9,2,    209.0,2,  -999.00,9,  -999.00,9,  -999.00,9,    100,-999.000,  -999.0, 22.1819
     32MW092_1,  PRS2,     8,  1,      7,     28,2,19980417,0227, 22.4770,-158.1532, 4825,    126.3,  21.4701,  35.2123,2,  35.2113,2,    206.5,2,    205.4,2,  -999.00,9,  -999.00,9,  -999.00,9,    127,-999.000,  -999.0, 21.4456
     32MW092_1,  PRS2,     8,  1,      6,      7,2,19980417,0227, 22.4770,-158.1532, 4825,    149.9,  20.7655,  35.1291,2,  35.1402,3,    201.5,3,    200.7,2,  -999.00,9,  -999.00,9,  -999.00,9,    150,-999.000,  -999.0, 20.7370
     32MW092_1,  PRS2,     8,  1,      5,     38,2,19980417,0227, 22.4770,-158.1532, 4825,    174.1,  19.9284,  35.0429,2,  35.0582,2,    194.5,2,    195.8,2,  -999.00,9,  -999.00,9,  -999.00,9,    175,-999.000,  -999.0, 19.8963
     32MW092_1,  PRS2,     8,  1,      4,     36,2,19980417,0227, 22.4770,-158.1532, 4825,    305.1,  12.8492,  34.3042,2,  34.3061,2,    192.5,2,    192.8,2,  -999.00,9,  -999.00,9,  -999.00,9,    305,-999.000,  -999.0, 12.8077
     32MW092_1,  PRS2,     8,  1,      3,     35,2,19980417,0227, 22.4770,-158.1532, 4825,    499.8,   7.1968,  34.0817,2,  34.0794,2,    115.0,2,    114.4,2,  -999.00,9,  -999.00,9,  -999.00,9,    500,-999.000,  -999.0,  7.1489
     32MW092_1,  PRS2,     8,  1,      2,     34,2,19980417,0227, 22.4770,-158.1532, 4825,    802.8,   4.5094,  34.3415,2,  34.3428,2,     32.3,2,     31.8,2,  -999.00,9,  -999.00,9,  -999.00,9,    802,-999.000,  -999.0,  4.4469
     32MW092_1,  PRS2,     8,  1,      1,     33,2,19980417,0227, 22.4770,-158.1532, 4825,   1017.5,   3.9355,  34.5074,2,  34.5072,2,     46.2,2,     46.9,2,  -999.00,9,  -999.00,9,  -999.00,9,   1017,-999.000,  -999.0,  3.8589