BOTTLE,20020809WHPSIObren
EXPOCODE,SECT_ID,STNNBR,CASTNO,SAMPNO,BTLNBR,BTLNBR_FLAG_W,DATE,TIME,LATITUDE,LONGITUDE,DEPTH,CTDPRS,CTDTMP,CTDSAL,CTDSAL_FLAG_W,SALNTY,SALNTY_FLAG_W,CTDOXY,CTDOXY_FLAG_W,OXYGEN,OXYGEN_FLAG_W,SILCAT,SILCAT_FLAG_W,NO2+NO3,NO2+NO3_FLAG_W,PHSPHT,PHSPHT_FLAG_W,CTDRAW,REVTMP,REVPRS,THETA
,,,,,,,,,,,,DBAR,ITS-90,PSS-78,,PSS-78,,UMOL/KG,,UMOL/KG,,UMOL/KG,,UMOL/KG,,UMOL/KG,,,DEG C,DBAR,ITS-90
     32MW092_1,  PRS2,     2,  7,     17,     17,2,19980415,0856, 22.7555,-157.9902, 4725,      5.1,  23.2672,  35.2141,2,  35.2141,2,    215.4,1,   -999.0,9,  -999.00,9,  -999.00,9,  -999.00,9,      5,-999.000,  -999.0, 23.2661
     32MW092_1,  PRS2,     2,  7,     16,     16,2,19980415,0856, 22.7555,-157.9902, 4725,     20.4,  23.2792,  35.2152,2,  35.2144,2,    215.4,1,   -999.0,9,  -999.00,9,  -999.00,9,  -999.00,9,     22,-999.000,  -999.0, 23.2750
     32MW092_1,  PRS2,     2,  7,     15,     15,2,19980415,0856, 22.7555,-157.9902, 4725,     36.7,  23.2799,  35.2147,2,  35.2148,2,    215.3,1,   -999.0,9,  -999.00,9,  -999.00,9,  -999.00,9,     37,-999.000,  -999.0, 23.2724
     32MW092_1,  PRS2,     2,  7,     14,     14,2,19980415,0856, 22.7555,-157.9902, 4725,     50.7,  23.2820,  35.2143,2,  35.2193,2,    215.2,1,   -999.0,9,  -999.00,9,  -999.00,9,  -999.00,9,     51,-999.000,  -999.0, 23.2715
     32MW092_1,  PRS2,     2,  7,     13,     13,2,19980415,0856, 22.7555,-157.9902, 4725,     64.7,  23.2851,  35.2141,2,  35.2147,2,    214.9,1,   -999.0,9,  -999.00,9,  -999.00,9,  -999.00,9,     64,-999.000,  -999.0, 23.2718
     32MW092_1,  PRS2,     2,  7,     12,     12,2,19980415,0856, 22.7555,-157.9902, 4725,     79.1,  22.6144,  35.2359,2,  35.2448,2,    210.5,1,   -999.0,9,  -999.00,9,  -999.00,9,  -999.00,9,     79,-999.000,  -999.0, 22.5984
     32MW092_1,  PRS2,     2,  7,     11,     11,2,19980415,0856, 22.7555,-157.9902, 4725,     95.3,  21.8712,  35.2124,2,  35.2157,2,    209.0,1,   -999.0,9,  -999.00,9,  -999.00,9,  -999.00,9,     97,-999.000,  -999.0, 21.8524
     32MW092_1,  PRS2,     2,  7,     10,     32,2,19980415,0856, 22.7555,-157.9902, 4725,    111.1,  21.5846,  35.2409,2,  35.2358,2,    211.6,1,   -999.0,9,  -999.00,9,  -999.00,9,  -999.00,9,    112,-999.000,  -999.0, 21.5629
     32MW092_1,  PRS2,     2,  7,      9,      3,2,19980415,0856, 22.7555,-157.9902, 4725,    122.0,  21.2552,  35.2612,2,  35.2851,4,    219.5,1,   -999.0,9,  -999.00,9,  -999.00,9,  -999.00,9,    122,-999.000,  -999.0, 21.2316
     32MW092_1,  PRS2,     2,  7,      8,     29,2,19980415,0856, 22.7555,-157.9902, 4725,    139.4,  20.7289,  35.1904,2,  35.1913,2,    207.8,1,   -999.0,9,  -999.00,9,  -999.00,9,  -999.00,9,    140,-999.000,  -999.0, 20.7024
     32MW092_1,  PRS2,     2,  7,      7,     28,2,19980415,0856, 22.7555,-157.9902, 4725,    150.8,  19.9042,  35.0317,2,  35.0595,4,    188.1,1,   -999.0,9,  -999.00,9,  -999.00,9,  -999.00,9,    151,-999.000,  -999.0, 19.8764
     32MW092_1,  PRS2,     2,  7,      4,     36,2,19980415,0856, 22.7555,-157.9902, 4725,   1018.6,   3.9345,  34.4948,2,  34.4943,2,     44.0,1,   -999.0,9,  -999.00,9,  -999.00,9,  -999.00,9,   1019,-999.000,  -999.0,  3.8578
     32MW092_1,  PRS2,     2,  7,      3,     35,2,19980415,0856, 22.7555,-157.9902, 4725,   1018.9,   3.9347,  34.4951,2,  34.5032,3,     44.0,1,   -999.0,9,  -999.00,9,  -999.00,9,  -999.00,9,   1019,-999.000,  -999.0,  3.8580
     32MW092_1,  PRS2,     2,  7,      5,     38,2,19980415,0856, 22.7555,-157.9902, 4725,   1019.0,   3.9345,  34.4948,2,  34.4932,2,     44.0,1,   -999.0,9,  -999.00,9,  -999.00,9,  -999.00,9,   1019,-999.000,  -999.0,  3.8578
     32MW092_1,  PRS2,     2,  7,      1,     33,2,19980415,0856, 22.7555,-157.9902, 4725,   1019.1,   3.9347,  34.4954,2,  34.5017,2,     44.0,1,   -999.0,9,  -999.00,9,  -999.00,9,  -999.00,9,   1020,-999.000,  -999.0,  3.8580
     32MW092_1,  PRS2,     2,  7,      2,     34,2,19980415,0856, 22.7555,-157.9902, 4725,   1019.2,   3.9347,  34.4953,2,  34.4942,2,     44.0,1,   -999.0,9,  -999.00,9,  -999.00,9,  -999.00,9,   1018,-999.000,  -999.0,  3.8579
     32MW092_1,  PRS2,     2,  7,      6,      7,2,19980415,0856, 22.7555,-157.9902, 4725,   1019.4,   3.9347,  34.4952,2,  34.4951,2,     44.0,1,   -999.0,9,  -999.00,9,  -999.00,9,  -999.00,9,   1020,-999.000,  -999.0,  3.8580
     32MW092_1,  PRS2,     2,  8,     23,     30,3,19980415,1234, 22.8092,-157.9295, 4685,      5.2,  23.3343,  35.2019,2,  35.2013,2,    215.9,1,   -999.0,9,  -999.00,9,  -999.00,9,  -999.00,9,      6,-999.000,  -999.0, 23.3333
     32MW092_1,  PRS2,     2,  8,     22,     22,2,19980415,1234, 22.8092,-157.9295, 4685,      5.2,  23.3343,  35.2017,2,  35.2015,2,    215.8,1,   -999.0,9,  -999.00,9,  -999.00,9,  -999.00,9,      5,-999.000,  -999.0, 23.3333
     32MW092_1,  PRS2,     2,  8,     20,     20,2,19980415,1234, 22.8092,-157.9295, 4685,     20.5,  23.3359,  35.2016,2,  35.2005,2,    215.8,1,   -999.0,9,  -999.00,9,  -999.00,9,  -999.00,9,     20,-999.000,  -999.0, 23.3316
     32MW092_1,  PRS2,     2,  8,     21,     21,2,19980415,1234, 22.8092,-157.9295, 4685,     20.7,  23.3358,  35.2016,2,  35.2013,2,    215.8,1,   -999.0,9,  -999.00,9,  -999.00,9,  -999.00,9,     21,-999.000,  -999.0, 23.3315
     32MW092_1,  PRS2,     2,  8,     18,     18,2,19980415,1234, 22.8092,-157.9295, 4685,     40.6,  23.3360,  35.2024,2,  35.2340,4,    215.7,1,   -999.0,9,  -999.00,9,  -999.00,9,  -999.00,9,     42,-999.000,  -999.0, 23.3276
     32MW092_1,  PRS2,     2,  8,     19,     19,2,19980415,1234, 22.8092,-157.9295, 4685,     40.8,  23.3362,  35.2024,2,  35.2024,2,    215.7,1,   -999.0,9,  -999.00,9,  -999.00,9,  -999.00,9,     40,-999.000,  -999.0, 23.3278
     32MW092_1,  PRS2,     2,  8,     17,     17,2,19980415,1234, 22.8092,-157.9295, 4685,     60.1,  22.4969,  35.2298,2,  35.2297,2,    212.5,1,   -999.0,9,  -999.00,9,  -999.00,9,  -999.00,9,     60,-999.000,  -999.0, 22.4848
     32MW092_1,  PRS2,     2,  8,     16,     16,2,19980415,1234, 22.8092,-157.9295, 4685,     60.2,  22.4886,  35.2290,2,  35.2308,2,    211.6,1,   -999.0,9,  -999.00,9,  -999.00,9,  -999.00,9,     61,-999.000,  -999.0, 22.4765
     32MW092_1,  PRS2,     2,  8,     15,     15,2,19980415,1234, 22.8092,-157.9295, 4685,     80.4,  21.8907,  35.2129,2,  35.2289,4,    211.0,1,   -999.0,9,  -999.00,9,  -999.00,9,  -999.00,9,     81,-999.000,  -999.0, 21.8749
     32MW092_1,  PRS2,     2,  8,     14,     14,2,19980415,1234, 22.8092,-157.9295, 4685,     80.4,  21.8929,  35.2127,2,  35.2486,4,    211.0,1,   -999.0,9,  -999.00,9,  -999.00,9,  -999.00,9,     80,-999.000,  -999.0, 21.8770
     32MW092_1,  PRS2,     2,  8,     13,     13,2,19980415,1234, 22.8092,-157.9295, 4685,    100.0,  21.5074,  35.2830,2,  35.2823,2,    218.4,1,   -999.0,9,  -999.00,9,  -999.00,9,  -999.00,9,    101,-999.000,  -999.0, 21.4879
     32MW092_1,  PRS2,     2,  8,     12,     12,3,19980415,1234, 22.8092,-157.9295, 4685,    100.2,  21.5077,  35.2828,2,  35.2844,2,    218.4,1,   -999.0,9,  -999.00,9,  -999.00,9,  -999.00,9,    102,-999.000,  -999.0, 21.4882
     32MW092_1,  PRS2,     2,  8,     11,     11,2,19980415,1234, 22.8092,-157.9295, 4685,    119.5,  21.2229,  35.2473,2,  35.2481,2,    215.2,1,   -999.0,9,  -999.00,9,  -999.00,9,  -999.00,9,    119,-999.000,  -999.0, 21.1999
     32MW092_1,  PRS2,     2,  8,     10,     32,2,19980415,1234, 22.8092,-157.9295, 4685,    119.6,  21.2155,  35.2468,2,  35.2525,2,    215.1,1,   -999.0,9,  -999.00,9,  -999.00,9,  -999.00,9,    121,-999.000,  -999.0, 21.1924
     32MW092_1,  PRS2,     2,  8,      9,      3,3,19980415,1234, 22.8092,-157.9295, 4685,    140.1,  20.5524,  35.2020,2,  35.2065,2,    204.0,1,   -999.0,9,  -999.00,9,  -999.00,9,  -999.00,9,    139,-999.000,  -999.0, 20.5260
     32MW092_1,  PRS2,     2,  8,      8,     29,2,19980415,1234, 22.8092,-157.9295, 4685,    140.1,  20.5583,  35.2031,2,  35.2037,2,    204.7,1,   -999.0,9,  -999.00,9,  -999.00,9,  -999.00,9,    139,-999.000,  -999.0, 20.5319
     32MW092_1,  PRS2,     2,  8,      7,     28,2,19980415,1234, 22.8092,-157.9295, 4685,    160.0,  19.6175,  35.1154,2,  35.1166,2,    204.3,1,   -999.0,9,  -999.00,9,  -999.00,9,  -999.00,9,    160,-999.000,  -999.0, 19.5884
     32MW092_1,  PRS2,     2,  8,      6,      7,3,19980415,1234, 22.8092,-157.9295, 4685,    160.0,  19.6157,  35.1150,2,  35.1176,2,    204.7,1,   -999.0,9,  -999.00,9,  -999.00,9,  -999.00,9,    160,-999.000,  -999.0, 19.5865
     32MW092_1,  PRS2,     2,  8,      4,     36,2,19980415,1234, 22.8092,-157.9295, 4685,    181.0,  18.8910,  35.0093,2,  35.0126,2,    199.0,1,   -999.0,9,  -999.00,9,  -999.00,9,  -999.00,9,    181,-999.000,  -999.0, 18.8589
     32MW092_1,  PRS2,     2,  8,      5,     38,2,19980415,1234, 22.8092,-157.9295, 4685,    181.1,  18.8929,  35.0086,2,  35.0106,2,    199.6,1,   -999.0,9,  -999.00,9,  -999.00,9,  -999.00,9,    181,-999.000,  -999.0, 18.8608
     32MW092_1,  PRS2,     2,  8,      2,     34,2,19980415,1234, 22.8092,-157.9295, 4685,    200.4,  17.6622,  34.8296,2,  34.8406,2,    187.9,1,   -999.0,9,  -999.00,9,  -999.00,9,  -999.00,9,    201,-999.000,  -999.0, 17.6283
     32MW092_1,  PRS2,     2,  8,      3,     35,2,19980415,1234, 22.8092,-157.9295, 4685,    200.5,  17.6605,  34.8292,2,  34.8370,2,    188.1,1,   -999.0,9,  -999.00,9,  -999.00,9,  -999.00,9,    201,-999.000,  -999.0, 17.6266
     32MW092_1,  PRS2,     2,  8,      1,     33,2,19980415,1234, 22.8092,-157.9295, 4685,   1022.0,   3.8797,  34.4928,2,  34.4914,2,     44.3,1,   -999.0,9,  -999.00,9,  -999.00,9,  -999.00,9,   1022,-999.000,  -999.0,  3.8032
     32MW092_1,  PRS2,     2,  9,     24,     31,2,19980415,1702, 22.7432,-158.0180, 4725,      2.6,  23.2266,  35.2186,2,  35.2182,2,    215.4,1,   -999.0,9,  -999.00,9,  -999.00,9,  -999.00,9,      3,-999.000,  -999.0, 23.2261
     32MW092_1,  PRS2,     2,  9,     23,     30,2,19980415,1702, 22.7432,-158.0180, 4725,      5.3,  23.2263,  35.2186,2,  35.2170,2,    215.3,1,   -999.0,9,  -999.00,9,  -999.00,9,  -999.00,9,      6,-999.000,  -999.0, 23.2252
     32MW092_1,  PRS2,     2,  9,     22,     22,2,19980415,1702, 22.7432,-158.0180, 4725,     10.1,  23.2305,  35.2182,2,  35.2185,2,    215.3,1,   -999.0,9,  -999.00,9,  -999.00,9,  -999.00,9,     11,-999.000,  -999.0, 23.2285
     32MW092_1,  PRS2,     2,  9,     21,     21,2,19980415,1702, 22.7432,-158.0180, 4725,     15.0,  23.2329,  35.2182,2,  35.2210,2,    215.2,1,   -999.0,9,  -999.00,9,  -999.00,9,  -999.00,9,     16,-999.000,  -999.0, 23.2298
     32MW092_1,  PRS2,     2,  9,     20,     20,2,19980415,1702, 22.7432,-158.0180, 4725,     20.2,  23.2353,  35.2179,2,  35.2166,2,    215.2,1,   -999.0,9,  -999.00,9,  -999.00,9,  -999.00,9,     20,-999.000,  -999.0, 23.2311
     32MW092_1,  PRS2,     2,  9,     19,     19,2,19980415,1702, 22.7432,-158.0180, 4725,     25.3,  23.2364,  35.2179,2,  35.2169,2,    215.2,1,   -999.0,9,  -999.00,9,  -999.00,9,  -999.00,9,     26,-999.000,  -999.0, 23.2312
     32MW092_1,  PRS2,     2,  9,     18,     18,2,19980415,1702, 22.7432,-158.0180, 4725,     30.6,  23.2368,  35.2179,2,  35.2184,2,    215.2,1,   -999.0,9,  -999.00,9,  -999.00,9,  -999.00,9,     31,-999.000,  -999.0, 23.2305
     32MW092_1,  PRS2,     2,  9,     17,     17,2,19980415,1702, 22.7432,-158.0180, 4725,     35.2,  23.2379,  35.2177,2,  35.2170,2,    215.3,1,   -999.0,9,  -999.00,9,  -999.00,9,  -999.00,9,     35,-999.000,  -999.0, 23.2307
     32MW092_1,  PRS2,     2,  9,     16,     16,2,19980415,1702, 22.7432,-158.0180, 4725,     40.2,  23.2392,  35.2175,2,  35.2195,2,    215.3,1,   -999.0,9,  -999.00,9,  -999.00,9,  -999.00,9,     41,-999.000,  -999.0, 23.2309
     32MW092_1,  PRS2,     2,  9,     15,     15,2,19980415,1702, 22.7432,-158.0180, 4725,     45.3,  23.2391,  35.2174,2,-999.0000,5,    215.4,1,   -999.0,9,  -999.00,9,  -999.00,9,  -999.00,9,     45,-999.000,  -999.0, 23.2298
     32MW092_1,  PRS2,     2,  9,     14,     14,2,19980415,1702, 22.7432,-158.0180, 4725,     50.5,  23.2416,  35.2170,2,  35.2155,2,    215.4,1,   -999.0,9,  -999.00,9,  -999.00,9,  -999.00,9,     50,-999.000,  -999.0, 23.2312
     32MW092_1,  PRS2,     2,  9,     13,     13,2,19980415,1702, 22.7432,-158.0180, 4725,     55.5,  23.2393,  35.2171,2,  35.2223,2,    215.5,1,   -999.0,9,  -999.00,9,  -999.00,9,  -999.00,9,     56,-999.000,  -999.0, 23.2279
     32MW092_1,  PRS2,     2,  9,     12,     12,2,19980415,1702, 22.7432,-158.0180, 4725,     65.1,  23.2411,  35.2168,2,  35.2159,2,    215.5,1,   -999.0,9,  -999.00,9,  -999.00,9,  -999.00,9,     65,-999.000,  -999.0, 23.2277
     32MW092_1,  PRS2,     2,  9,     11,     11,2,19980415,1702, 22.7432,-158.0180, 4725,     75.0,  23.2436,  35.2160,2,  35.2164,2,    215.5,1,   -999.0,9,  -999.00,9,  -999.00,9,  -999.00,9,     76,-999.000,  -999.0, 23.2282
     32MW092_1,  PRS2,     2,  9,     10,     32,2,19980415,1702, 22.7432,-158.0180, 4725,     85.8,  23.2444,  35.2157,2,  35.2156,2,    215.5,1,   -999.0,9,  -999.00,9,  -999.00,9,  -999.00,9,     86,-999.000,  -999.0, 23.2268
     32MW092_1,  PRS2,     2,  9,      9,      3,2,19980415,1702, 22.7432,-158.0180, 4725,     96.6,  23.2458,  35.2152,2,  35.2172,2,    215.5,1,   -999.0,9,  -999.00,9,  -999.00,9,  -999.00,9,     97,-999.000,  -999.0, 23.2259
     32MW092_1,  PRS2,     2,  9,      8,     29,2,19980415,1702, 22.7432,-158.0180, 4725,    106.2,  22.8904,  35.2360,2,  35.2348,2,    212.8,1,   -999.0,9,  -999.00,9,  -999.00,9,  -999.00,9,    106,-999.000,  -999.0, 22.8688
     32MW092_1,  PRS2,     2,  9,      7,     28,2,19980415,1702, 22.7432,-158.0180, 4725,    113.4,  22.5455,  35.2581,2,  35.2556,2,    216.1,1,   -999.0,9,  -999.00,9,  -999.00,9,  -999.00,9,    113,-999.000,  -999.0, 22.5227
     32MW092_1,  PRS2,     2,  9,      6,      7,2,19980415,1702, 22.7432,-158.0180, 4725,    123.8,  22.0596,  35.2693,2,  35.2724,2,    215.0,1,   -999.0,9,  -999.00,9,  -999.00,9,  -999.00,9,    123,-999.000,  -999.0, 22.0350
     32MW092_1,  PRS2,     2,  9,      5,     38,2,19980415,1702, 22.7432,-158.0180, 4725,    149.7,  21.2452,  35.2041,2,  35.2353,4,    205.8,1,   -999.0,9,  -999.00,9,  -999.00,9,  -999.00,9,    149,-999.000,  -999.0, 21.2163
     32MW092_1,  PRS2,     2,  9,      4,     36,2,19980415,1702, 22.7432,-158.0180, 4725,    175.7,  20.8187,  35.2137,2,  35.2185,2,    213.1,1,   -999.0,9,  -999.00,9,  -999.00,9,  -999.00,9,    176,-999.000,  -999.0, 20.7852
     32MW092_1,  PRS2,     2,  9,      3,     35,2,19980415,1702, 22.7432,-158.0180, 4725,    252.2,  16.6859,  34.6869,2,  34.6923,2,    192.4,1,   -999.0,9,  -999.00,9,  -999.00,9,  -999.00,9,    254,-999.000,  -999.0, 16.6448
     32MW092_1,  PRS2,     2,  9,      2,     34,2,19980415,1702, 22.7432,-158.0180, 4725,    848.0,   4.3448,  34.3947,2,  34.3966,2,     28.6,1,   -999.0,9,  -999.00,9,  -999.00,9,  -999.00,9,    848,-999.000,  -999.0,  4.2795
     32MW092_1,  PRS2,     2,  9,      1,     33,2,19980415,1702, 22.7432,-158.0180, 4725,   1020.7,   3.9288,  34.4966,2,  34.5077,4,     44.8,1,   -999.0,9,  -999.00,9,  -999.00,9,  -999.00,9,   1021,-999.000,  -999.0,  3.8520
     32MW092_1,  PRS2,     2, 10,     12,     12,2,19980415,2113, 22.7522,-158.0138, 4725,      5.0,  23.3230,  35.2201,2,  35.2560,4,    215.1,1,   -999.0,9,  -999.00,9,  -999.00,9,  -999.00,9,      6,-999.000,  -999.0, 23.3219
     32MW092_1,  PRS2,     2, 10,     11,     11,2,19980415,2113, 22.7522,-158.0138, 4725,     24.7,  23.2490,  35.2178,2,  35.2561,4,    214.7,1,   -999.0,9,  -999.00,9,  -999.00,9,  -999.00,9,     25,-999.000,  -999.0, 23.2440
     32MW092_1,  PRS2,     2, 10,     10,     32,2,19980415,2113, 22.7522,-158.0138, 4725,     44.8,  23.2408,  35.2173,2,  35.2175,2,    215.2,1,   -999.0,9,  -999.00,9,  -999.00,9,  -999.00,9,     45,-999.000,  -999.0, 23.2316
     32MW092_1,  PRS2,     2, 10,      9,      3,2,19980415,2113, 22.7522,-158.0138, 4725,     74.3,  23.2375,  35.2172,2,  35.2178,2,    215.5,1,   -999.0,9,  -999.00,9,  -999.00,9,  -999.00,9,     75,-999.000,  -999.0, 23.2222
     32MW092_1,  PRS2,     2, 10,      8,     29,2,19980415,2113, 22.7522,-158.0138, 4725,     99.9,  22.1035,  35.2706,2,  35.2708,2,    214.7,1,   -999.0,9,  -999.00,9,  -999.00,9,  -999.00,9,    100,-999.000,  -999.0, 22.0837
     32MW092_1,  PRS2,     2, 10,      7,     28,2,19980415,2113, 22.7522,-158.0138, 4725,    125.3,  21.1561,  35.2104,2,  35.2127,2,    209.9,1,   -999.0,9,  -999.00,9,  -999.00,9,  -999.00,9,    126,-999.000,  -999.0, 21.1320
     32MW092_1,  PRS2,     2, 10,      6,      7,2,19980415,2113, 22.7522,-158.0138, 4725,    150.1,  20.3402,  35.1268,2,  35.1397,2,    201.2,1,   -999.0,9,  -999.00,9,  -999.00,9,  -999.00,9,    150,-999.000,  -999.0, 20.3121
     32MW092_1,  PRS2,     2, 10,      5,     38,2,19980415,2113, 22.7522,-158.0138, 4725,    174.1,  18.9562,  34.9405,2,  34.9411,2,    191.6,1,   -999.0,9,  -999.00,9,  -999.00,9,  -999.00,9,    174,-999.000,  -999.0, 18.9252
     32MW092_1,  PRS2,     2, 10,      4,     36,2,19980415,2113, 22.7522,-158.0138, 4725,    249.9,  14.2259,  34.4221,2,  34.4273,2,    196.3,1,   -999.0,9,  -999.00,9,  -999.00,9,  -999.00,9,    250,-999.000,  -999.0, 14.1896
     32MW092_1,  PRS2,     2, 10,      3,     35,2,19980415,2113, 22.7522,-158.0138, 4725,    499.1,   7.0010,  34.0948,2,  34.0958,2,    105.4,1,   -999.0,9,  -999.00,9,  -999.00,9,  -999.00,9,    500,-999.000,  -999.0,  6.9540
     32MW092_1,  PRS2,     2, 10,      2,     34,2,19980415,2113, 22.7522,-158.0138, 4725,    752.1,   4.7632,  34.3311,2,  34.3317,2,     32.8,1,   -999.0,9,  -999.00,9,  -999.00,9,  -999.00,9,    752,-999.000,  -999.0,  4.7035
     32MW092_1,  PRS2,     2, 10,      1,     33,2,19980415,2113, 22.7522,-158.0138, 4725,   1018.9,   3.9201,  34.5015,2,  34.5009,2,     44.3,1,   -999.0,9,  -999.00,9,  -999.00,9,  -999.00,9,   1019,-999.000,  -999.0,  3.8435