BOTTLE,20020809WHPSIObren
EXPOCODE,SECT_ID,STNNBR,CASTNO,SAMPNO,BTLNBR,BTLNBR_FLAG_W,DATE,TIME,LATITUDE,LONGITUDE,DEPTH,CTDPRS,CTDTMP,CTDSAL,CTDSAL_FLAG_W,SALNTY,SALNTY_FLAG_W,CTDOXY,CTDOXY_FLAG_W,OXYGEN,OXYGEN_FLAG_W,SILCAT,SILCAT_FLAG_W,NO2+NO3,NO2+NO3_FLAG_W,PHSPHT,PHSPHT_FLAG_W,CTDRAW,REVTMP,REVPRS,THETA
,,,,,,,,,,,,DBAR,ITS-90,PSS-78,,PSS-78,,UMOL/KG,,UMOL/KG,,UMOL/KG,,UMOL/KG,,UMOL/KG,,,DEG C,DBAR,ITS-90
     32MW092_1,  PRS2,     2,  3,     24,     31,2,19980414,1901, 22.7323,-158.0212, 4725,      9.7,  23.4813,  35.1882,2,  35.1886,2,    212.0,2,    213.6,2,     1.26,2,     0.00,2,     0.06,2,     10,-999.000,  -999.0, 23.4793
     32MW092_1,  PRS2,     2,  3,     23,     30,2,19980414,1901, 22.7323,-158.0212, 4725,    401.7,   8.4817,  34.0880,2,  34.1234,4,    150.4,3,    147.9,2,    31.17,2,    23.06,2,     1.63,2,    402,-999.000,  -999.0,  8.4396
     32MW092_1,  PRS2,     2,  3,     22,     22,2,19980414,1901, 22.7323,-158.0212, 4725,    700.5,   5.1720,  34.2977,2,  34.2958,2,     32.8,2,     32.2,2,    84.85,2,    39.44,2,     2.87,2,    701,-999.000,  -999.0,  5.1145
     32MW092_1,  PRS2,     2,  3,     21,     21,2,19980414,1901, 22.7323,-158.0212, 4725,    999.7,   4.0170,  34.4891,2,  34.4895,2,     42.4,2,     42.0,2,   107.10,2,    40.96,2,     2.96,2,   1000,-999.000,  -999.0,  3.9412
     32MW092_1,  PRS2,     2,  3,     20,     20,2,19980414,1901, 22.7323,-158.0212, 4725,   1201.3,   3.4238,  34.5308,2,  34.5287,2,     52.6,2,     53.8,2,   120.27,2,    41.08,2,     2.94,2,   1202,-999.000,  -999.0,  3.3364
     32MW092_1,  PRS2,     2,  3,     19,     19,2,19980414,1901, 22.7323,-158.0212, 4725,   1399.9,   2.9873,  34.5670,2,  34.5662,2,     62.2,2,     62.1,2,   132.65,2,    40.96,2,     2.94,2,   1400,-999.000,  -999.0,  2.8879
     32MW092_1,  PRS2,     2,  3,     18,     18,2,19980414,1901, 22.7323,-158.0212, 4725,   1601.2,   2.6330,  34.5867,2,  34.5858,2,     71.2,2,     70.6,2,   138.42,2,    40.57,2,     2.89,2,   1602,-999.000,  -999.0,  2.5211
     32MW092_1,  PRS2,     2,  3,     17,     17,2,19980414,1901, 22.7323,-158.0212, 4725,   1799.6,   2.2785,  34.6082,2,  34.6076,2,     80.7,2,     82.7,2,   147.15,2,    39.82,2,     2.84,2,   1800,-999.000,  -999.0,  2.1548
     32MW092_1,  PRS2,     2,  3,     16,     16,2,19980414,1901, 22.7323,-158.0212, 4725,   2000.6,   2.0378,  34.6254,2,  34.6251,2,     90.0,2,     91.6,2,   152.11,2,    39.28,2,     2.77,2,   2002,-999.000,  -999.0,  1.9007
     32MW092_1,  PRS2,     2,  3,     15,     15,2,19980414,1901, 22.7323,-158.0212, 4725,   2198.0,   1.8700,  34.6383,2,  34.6373,2,     98.2,2,     98.0,2,   156.90,2,    38.87,2,     2.75,2,   2198,-999.000,  -999.0,  1.7188
     32MW092_1,  PRS2,     2,  3,     14,     14,2,19980414,1901, 22.7323,-158.0212, 4725,   2400.4,   1.7646,  34.6484,2,  34.6479,2,    105.3,2,    105.3,2,   157.50,2,    38.41,2,     2.72,2,   2401,-999.000,  -999.0,  1.5976
     32MW092_1,  PRS2,     2,  3,     13,     13,2,19980414,1901, 22.7323,-158.0212, 4725,   2600.6,   1.6672,  34.6571,2,  34.6578,2,    111.4,2,    112.2,2,   158.86,2,    38.03,2,     2.68,2,   2599,-999.000,  -999.0,  1.4841
     32MW092_1,  PRS2,     2,  3,     12,     12,2,19980414,1901, 22.7323,-158.0212, 4725,   2801.6,   1.5963,  34.6644,2,  34.6643,2,    118.0,2,    118.9,2,   159.11,2,    37.62,2,     2.66,2,   2801,-999.000,  -999.0,  1.3961
     32MW092_1,  PRS2,     2,  3,     11,     11,2,19980414,1901, 22.7323,-158.0212, 4725,   2999.6,   1.5479,  34.6700,2,  34.6689,2,    124.0,2,    124.8,2,   158.51,2,    37.29,2,     2.62,2,   2998,-999.000,  -999.0,  1.3301
     32MW092_1,  PRS2,     2,  3,     10,     32,2,19980414,1901, 22.7323,-158.0212, 4725,   3200.2,   1.5054,  34.6754,2,  34.6749,2,    130.4,2,    131.8,2,   156.96,2,    36.97,2,     2.61,2,   3199,-999.000,  -999.0,  1.2692
     32MW092_1,  PRS2,     2,  3,      9,      3,2,19980414,1901, 22.7323,-158.0212, 4725,   3401.8,   1.4750,  34.6798,2,  34.6824,2,    136.5,2,    136.1,2,   155.96,2,    36.74,2,     2.53,2,   3402,-999.000,  -999.0,  1.2194
     32MW092_1,  PRS2,     2,  3,      8,     29,2,19980414,1901, 22.7323,-158.0212, 4725,   3602.9,   1.4621,  34.6828,2,  34.6823,2,    140.8,2,    141.2,2,   154.90,2,    36.39,2,     2.53,2,   3602,-999.000,  -999.0,  1.1864
     32MW092_1,  PRS2,     2,  3,      7,     28,2,19980414,1901, 22.7323,-158.0212, 4725,   3800.9,   1.4534,  34.6854,2,  34.6861,2,    144.7,2,    144.9,2,   152.66,2,    36.24,2,     2.52,2,   3800,-999.000,  -999.0,  1.1571
     32MW092_1,  PRS2,     2,  3,      6,      7,2,19980414,1901, 22.7323,-158.0212, 4725,   4003.1,   1.4557,  34.6872,2,  34.6870,2,    148.2,2,    147.7,2,   151.21,2,    35.95,2,     2.51,2,   4003,-999.000,  -999.0,  1.1377
     32MW092_1,  PRS2,     2,  3,      5,     38,2,19980414,1901, 22.7323,-158.0212, 4725,   4199.4,   1.4634,  34.6885,2,  34.6904,2,    150.4,2,    151.0,2,   150.20,2,    35.93,2,     2.48,2,   4200,-999.000,  -999.0,  1.1236
     32MW092_1,  PRS2,     2,  3,      4,     36,2,19980414,1901, 22.7323,-158.0212, 4725,   4402.6,   1.4776,  34.6892,2,  34.6890,2,    151.9,2,    151.3,2,   149.28,2,    35.84,2,     2.48,2,   4403,-999.000,  -999.0,  1.1145
     32MW092_1,  PRS2,     2,  3,      3,     35,2,19980414,1901, 22.7323,-158.0212, 4725,   4499.3,   1.4854,  34.6895,2,  34.6930,3,    152.5,3,    152.4,2,   149.05,2,    35.69,2,     2.46,3,   4499,-999.000,  -999.0,  1.1109
     32MW092_1,  PRS2,     2,  3,      2,     34,2,19980414,1901, 22.7323,-158.0212, 4725,   4602.6,   1.4942,  34.6898,2,  34.6901,2,    152.6,2,    152.6,2,   149.43,3,    35.72,2,     2.47,2,   4602,-999.000,  -999.0,  1.1075
     32MW092_1,  PRS2,     2,  3,      1,     33,2,19980414,1901, 22.7323,-158.0212, 4725,   4791.9,   1.5139,  34.6903,2,  34.6908,2,    153.9,2,    152.8,2,   147.79,2,    35.66,2,     2.48,2,   4792,-999.000,  -999.0,  1.1042
     32MW092_1,  PRS2,     2,  4,     12,     12,2,19980415,0006, 22.7498,-158.0007, 4725,      5.3,  23.3722,  35.2076,2,  35.2053,2,    216.2,1,   -999.0,9,  -999.00,9,  -999.00,9,  -999.00,9,      6,-999.000,  -999.0, 23.3711
     32MW092_1,  PRS2,     2,  4,     11,     11,2,19980415,0006, 22.7498,-158.0007, 4725,     25.0,  23.3482,  35.2102,2,  35.2084,2,    216.1,1,   -999.0,9,  -999.00,9,  -999.00,9,  -999.00,9,     25,-999.000,  -999.0, 23.3431
     32MW092_1,  PRS2,     2,  4,     10,     32,2,19980415,0006, 22.7498,-158.0007, 4725,     45.4,  23.3128,  35.2126,2,  35.2156,2,    216.1,1,   -999.0,9,  -999.00,9,  -999.00,9,  -999.00,9,     45,-999.000,  -999.0, 23.3034
     32MW092_1,  PRS2,     2,  4,      9,      3,2,19980415,0006, 22.7498,-158.0007, 4725,     75.0,  23.2771,  35.2104,2,  35.2101,2,    215.4,1,   -999.0,9,  -999.00,9,  -999.00,9,  -999.00,9,     76,-999.000,  -999.0, 23.2617
     32MW092_1,  PRS2,     2,  4,      8,     29,2,19980415,0006, 22.7498,-158.0007, 4725,     99.1,  21.8625,  35.2296,2,  35.2194,2,    205.6,1,   -999.0,9,  -999.00,9,  -999.00,9,  -999.00,9,     99,-999.000,  -999.0, 21.8430
     32MW092_1,  PRS2,     2,  4,      7,     28,2,19980415,0006, 22.7498,-158.0007, 4725,    123.1,  21.6320,  35.3000,2,  35.2992,2,    222.0,1,   -999.0,9,  -999.00,9,  -999.00,9,  -999.00,9,    122,-999.000,  -999.0, 21.6079
     32MW092_1,  PRS2,     2,  4,      6,      7,2,19980415,0006, 22.7498,-158.0007, 4725,    148.9,  20.0102,  35.0604,2,  35.1019,3,    182.1,1,   -999.0,9,  -999.00,9,  -999.00,9,  -999.00,9,    150,-999.000,  -999.0, 19.9826
     32MW092_1,  PRS2,     2,  4,      5,     38,2,19980415,0006, 22.7498,-158.0007, 4725,    175.1,  18.7146,  34.9132,2,  34.9130,2,    186.3,1,   -999.0,9,  -999.00,9,  -999.00,9,  -999.00,9,    175,-999.000,  -999.0, 18.6837
     32MW092_1,  PRS2,     2,  4,      4,     36,2,19980415,0006, 22.7498,-158.0007, 4725,    249.1,  13.8728,  34.3809,2,  34.3809,2,    193.9,1,   -999.0,9,  -999.00,9,  -999.00,9,  -999.00,9,    249,-999.000,  -999.0, 13.8371
     32MW092_1,  PRS2,     2,  4,      3,     35,2,19980415,0006, 22.7498,-158.0007, 4725,    499.5,   6.9682,  34.0934,2,  34.0902,2,    101.0,1,   -999.0,9,  -999.00,9,  -999.00,9,  -999.00,9,    500,-999.000,  -999.0,  6.9212
     32MW092_1,  PRS2,     2,  4,      2,     34,2,19980415,0006, 22.7498,-158.0007, 4725,    749.9,   4.7605,  34.3281,2,  34.3266,2,     31.8,1,   -999.0,9,  -999.00,9,  -999.00,9,  -999.00,9,    751,-999.000,  -999.0,  4.7010
     32MW092_1,  PRS2,     2,  4,      1,     33,2,19980415,0006, 22.7498,-158.0007, 4725,   1022.1,   3.9377,  34.4900,2,  34.4877,2,     43.3,1,   -999.0,9,  -999.00,9,  -999.00,9,  -999.00,9,   1022,-999.000,  -999.0,  3.8607
     32MW092_1,  PRS2,     2,  5,     17,     17,2,19980415,0301, 22.7777,-157.9747, 4700,      5.3,  23.4476,  35.1921,2,  35.1934,2,    215.2,2,   -999.0,5,  -999.00,5,  -999.00,5,  -999.00,5,      5,-999.000,  -999.0, 23.4465
     32MW092_1,  PRS2,     2,  5,     16,     16,2,19980415,0301, 22.7777,-157.9747, 4700,    100.3,  21.7530,  35.2258,2,  35.2257,2,    207.9,2,    212.1,2,  -999.00,5,  -999.00,5,  -999.00,5,    101,-999.000,  -999.0, 21.7334
     32MW092_1,  PRS2,     2,  5,     15,     15,2,19980415,0301, 22.7777,-157.9747, 4700,    213.8,  17.5726,  34.8015,2,  34.8067,2,    194.8,2,    195.8,2,     3.78,2,     3.22,2,     0.31,2,    213,-999.000,  -999.0, 17.5366
     32MW092_1,  PRS2,     2,  5,     14,     14,2,19980415,0301, 22.7777,-157.9747, 4700,    223.6,  17.0387,  34.7290,2,  34.7345,2,    195.5,2,    194.5,2,     4.06,2,     3.81,2,     0.35,2,    224,-999.000,  -999.0, 17.0017
     32MW092_1,  PRS2,     2,  5,     13,     13,2,19980415,0301, 22.7777,-157.9747, 4700,    235.9,  16.3042,  34.6435,2,  34.6428,2,    191.9,2,    192.4,2,     4.78,2,     4.85,2,     0.42,2,    236,-999.000,  -999.0, 16.2665
     32MW092_1,  PRS2,     2,  5,     12,     12,2,19980415,0301, 22.7777,-157.9747, 4700,    250.6,  15.7104,  34.5722,2,  34.5730,2,    186.9,2,    190.8,2,     5.42,2,     5.75,2,     0.48,2,    251,-999.000,  -999.0, 15.6713
     32MW092_1,  PRS2,     2,  5,     11,     11,2,19980415,0301, 22.7777,-157.9747, 4700,    275.9,  14.4478,  34.4425,2,  34.4442,2,    198.8,2,    197.7,2,     6.85,2,     6.88,2,     0.56,2,    276,-999.000,  -999.0, 14.4071
     32MW092_1,  PRS2,     2,  5,     10,     32,2,19980415,0301, 22.7777,-157.9747, 4700,    297.6,  13.3120,  34.3345,2,  34.3383,2,    201.5,2,    198.7,2,     9.00,2,     8.77,2,     0.68,2,    299,-999.000,  -999.0, 13.2705
     32MW092_1,  PRS2,     2,  5,      9,      3,2,19980415,0301, 22.7777,-157.9747, 4700,    325.4,  12.2908,  34.2307,2,  34.2355,2,    188.3,2,    186.8,2,    11.03,2,    11.57,2,     0.91,2,    326,-999.000,  -999.0, 12.2478
     32MW092_1,  PRS2,     2,  5,      8,     29,2,19980415,0301, 22.7777,-157.9747, 4700,    347.4,  11.5894,  34.1985,2,  34.1958,2,    195.1,2,    195.6,2,    13.30,2,    12.48,2,     0.94,2,    348,-999.000,  -999.0, 11.5452
     32MW092_1,  PRS2,     2,  5,      7,     28,2,19980415,0301, 22.7777,-157.9747, 4700,    401.0,   9.6367,  34.0995,2,  34.0993,2,    175.4,2,    173.1,2,    21.78,2,    18.69,2,     1.36,2,    401,-999.000,  -999.0,  9.5913
     32MW092_1,  PRS2,     2,  5,      6,      7,2,19980415,0301, 22.7777,-157.9747, 4700,    502.3,   7.3688,  34.0851,2,  34.0869,2,    114.7,2,    113.0,2,    44.77,2,    28.62,2,     2.11,2,    502,-999.000,  -999.0,  7.3200
     32MW092_1,  PRS2,     2,  5,      5,     38,2,19980415,0301, 22.7777,-157.9747, 4700,    600.0,   6.1162,  34.1485,2,  34.1473,2,     61.1,2,     61.0,2,    65.96,2,    35.62,2,     2.64,2,    601,-999.000,  -999.0,  6.0632
     32MW092_1,  PRS2,     2,  5,      4,     36,2,19980415,0301, 22.7777,-157.9747, 4700,    699.5,   5.2002,  34.2791,2,  34.2748,2,     34.9,2,     34.3,2,    85.01,2,    39.71,2,     2.92,2,    699,-999.000,  -999.0,  5.1426
     32MW092_1,  PRS2,     2,  5,      3,     35,2,19980415,0301, 22.7777,-157.9747, 4700,    799.7,   4.6851,  34.3789,2,  34.3811,2,     32.9,2,     32.7,2,    96.04,2,    41.02,2,     3.00,2,    799,-999.000,  -999.0,  4.6217
     32MW092_1,  PRS2,     2,  5,      2,     34,2,19980415,0301, 22.7777,-157.9747, 4700,    900.7,   4.2469,  34.4210,2,  34.4190,2,     31.9,2,     31.6,2,   106.03,2,    41.86,2,     3.08,2,    902,-999.000,  -999.0,  4.1778
     32MW092_1,  PRS2,     2,  5,      1,     33,2,19980415,0301, 22.7777,-157.9747, 4700,   1021.9,   3.9961,  34.4865,2,  34.4863,2,     42.1,2,     41.6,2,   109.70,2,    41.53,2,     3.02,2,   1022,-999.000,  -999.0,  3.9187
     32MW092_1,  PRS2,     2,  6,     23,     30,2,19980415,0600, 22.7513,-157.9987, 4725,      4.9,  23.3018,  35.2139,2,  35.2148,2,    215.5,2,   -999.0,5,  -999.00,5,  -999.00,5,  -999.00,5,      5,-999.000,  -999.0, 23.3008
     32MW092_1,  PRS2,     2,  6,     22,     22,2,19980415,0600, 22.7513,-157.9987, 4725,      5.1,  23.2945,  35.2138,2,  35.2567,4,    215.5,3,    210.1,2,     1.45,2,     0.00,2,     0.08,2,      5,-999.000,  -999.0, 23.2935
     32MW092_1,  PRS2,     2,  6,     21,     21,2,19980415,0600, 22.7513,-157.9987, 4725,     14.1,  23.2944,  35.2140,2,  35.2133,2,    215.5,2,    214.2,2,     2.48,2,     0.01,2,     0.08,2,     15,-999.000,  -999.0, 23.2915
     32MW092_1,  PRS2,     2,  6,     19,     19,2,19980415,0600, 22.7513,-157.9987, 4725,     25.1,  23.2844,  35.2151,2,  35.2134,2,    215.5,2,    214.3,2,     1.38,2,     0.01,2,     0.08,2,     26,-999.000,  -999.0, 23.2792
     32MW092_1,  PRS2,     2,  6,     20,     20,2,19980415,0600, 22.7513,-157.9987, 4725,     25.4,  23.2823,  35.2149,2,  35.2142,2,    215.5,2,   -999.0,5,  -999.00,5,  -999.00,5,  -999.00,5,     26,-999.000,  -999.0, 23.2770
     32MW092_1,  PRS2,     2,  6,     18,     18,2,19980415,0600, 22.7513,-157.9987, 4725,     34.1,  23.3017,  35.2145,2,  35.2507,4,    215.5,3,    214.7,2,     1.43,2,     0.00,2,     0.07,2,     34,-999.000,  -999.0, 23.2947
     32MW092_1,  PRS2,     2,  6,     17,     17,2,19980415,0600, 22.7513,-157.9987, 4725,     45.5,  23.2890,  35.2156,2,  35.2155,2,    215.5,2,    213.7,2,  -999.00,5,     0.01,2,     0.09,2,     45,-999.000,  -999.0, 23.2796
     32MW092_1,  PRS2,     2,  6,     16,     16,2,19980415,0600, 22.7513,-157.9987, 4725,     60.3,  23.2928,  35.2151,2,  35.2226,2,    215.5,2,    217.0,2,     1.55,2,     0.01,2,     0.07,2,     61,-999.000,  -999.0, 23.2803
     32MW092_1,  PRS2,     2,  6,     15,     15,2,19980415,0600, 22.7513,-157.9987, 4725,     74.3,  23.2938,  35.2149,2,  35.2173,2,    215.5,2,    214.0,2,     1.53,2,     0.01,2,     0.07,2,     74,-999.000,  -999.0, 23.2785
     32MW092_1,  PRS2,     2,  6,     14,     14,2,19980415,0600, 22.7513,-157.9987, 4725,     84.6,  23.2943,  35.2149,2,  35.2244,2,    215.4,2,    214.0,2,  -999.00,5,     0.01,2,     0.08,2,     84,-999.000,  -999.0, 23.2769
     32MW092_1,  PRS2,     2,  6,     13,     13,2,19980415,0600, 22.7513,-157.9987, 4725,     94.1,  23.0232,  35.2245,2,  35.2225,2,    213.9,2,    214.3,2,     1.67,2,     0.00,2,     0.07,2,     94,-999.000,  -999.0, 23.0040
     32MW092_1,  PRS2,     2,  6,     12,     12,2,19980415,0600, 22.7513,-157.9987, 4725,    104.3,  22.4339,  35.2132,2,  35.2190,2,    209.8,2,    213.1,2,     2.21,2,     0.00,2,     0.07,2,    104,-999.000,  -999.0, 22.4129
     32MW092_1,  PRS2,     2,  6,     11,     11,2,19980415,0600, 22.7513,-157.9987, 4725,    114.2,  21.9448,  35.2217,2,  35.2208,2,    204.5,2,    210.8,2,     1.66,2,     0.10,2,     0.07,2,    114,-999.000,  -999.0, 21.9223
     32MW092_1,  PRS2,     2,  6,     10,     32,2,19980415,0600, 22.7513,-157.9987, 4725,    124.9,  21.7767,  35.2573,2,  35.2549,2,    208.8,2,    214.4,2,  -999.00,5,     0.06,2,     0.07,2,    126,-999.000,  -999.0, 21.7522
     32MW092_1,  PRS2,     2,  6,      9,      3,4,19980415,0600, 22.7513,-157.9987, 4725,    135.4,  21.6239,  35.2613,2,-999.0000,5,    213.4,2,   -999.0,5,  -999.00,5,  -999.00,5,  -999.00,5,    135,-999.000,  -999.0, 21.5974
     32MW092_1,  PRS2,     2,  6,      8,     29,2,19980415,0600, 22.7513,-157.9987, 4725,    148.8,  21.5457,  35.2549,2,  35.2511,2,    214.0,2,    214.4,2,     1.87,2,     0.12,2,     0.07,2,    149,-999.000,  -999.0, 21.5167
     32MW092_1,  PRS2,     2,  6,      7,     28,2,19980415,0600, 22.7513,-157.9987, 4725,    157.9,  21.4103,  35.2785,2,  35.2794,2,    219.8,2,    217.5,2,  -999.00,5,  -999.00,5,  -999.00,5,    157,-999.000,  -999.0, 21.3796
     32MW092_1,  PRS2,     2,  6,      6,      7,2,19980415,0600, 22.7513,-157.9987, 4725,    177.1,  20.9569,  35.2348,2,  35.2441,2,    211.7,2,    215.0,2,     1.87,2,     0.21,2,     0.09,2,    177,-999.000,  -999.0, 20.9230
     32MW092_1,  PRS2,     2,  6,      5,     38,2,19980415,0600, 22.7513,-157.9987, 4725,    190.6,  19.8750,  35.0404,2,  35.0386,2,    183.4,2,    195.6,2,  -999.00,5,  -999.00,5,  -999.00,5,    190,-999.000,  -999.0, 19.8399
     32MW092_1,  PRS2,     2,  6,      4,     36,2,19980415,0600, 22.7513,-157.9987, 4725,    205.1,  19.1030,  34.9590,2,  34.9575,2,    188.0,2,    184.3,2,  -999.00,5,     2.35,2,     0.24,2,    205,-999.000,  -999.0, 19.0662
     32MW092_1,  PRS2,     2,  6,      3,     35,2,19980415,0600, 22.7513,-157.9987, 4725,    501.8,   7.0021,  34.0929,2,  34.0926,2,    100.3,2,    103.0,2,  -999.00,5,  -999.00,5,  -999.00,5,    501,-999.000,  -999.0,  6.9547
     32MW092_1,  PRS2,     2,  6,      2,     34,2,19980415,0600, 22.7513,-157.9987, 4725,    750.3,   4.6963,  34.3693,2,  34.3690,2,     31.6,2,     32.1,2,  -999.00,5,  -999.00,5,  -999.00,5,    751,-999.000,  -999.0,  4.6371
     32MW092_1,  PRS2,     2,  6,      1,     33,2,19980415,0600, 22.7513,-157.9987, 4725,   1016.2,   3.9263,  34.4993,2,  34.4984,2,     44.2,2,     43.6,2,  -999.00,5,  -999.00,5,  -999.00,5,   1017,-999.000,  -999.0,  3.8499