BOTTLE,20090923WHPSIOMYS
EXPOCODE,SECT_ID,STNNBR,CASTNO,SAMPNO,BTLNBR,BTLNBR_FLAG_W,DATE,TIME,LATITUDE,LONGITUDE,DEPTH,CTDRAW,CTDPRS,CTDTMP,CTDSAL,CTDSAL_FLAG_W,SALNTY,SALNTY_FLAG_W,CTDOXY,CTDOXY_FLAG_W,THETA,OXYGEN,OXYGEN_FLAG_W,SILCAT,SILCAT_FLAG_W,NO2+NO3,NO2+NO3_FLAG_W,PHSPHT,PHSPHT_FLAG_W,REVPRS,REVTMP
,,,,,,,,,,,,,DBAR,ITS-90,PSS-78,,PSS-78,,UMOL/KG,,ITS-90,UMOL/KG,,UMOL/KG,,UMOL/KG,,UMOL/KG,,DBAR,DEG C
     33KB143_1,  PRS2,     2,  3,     20,     20,2,20021218,2056, 22.7510,-158.0008, 4744,     10,     10.0,  24.2801,  35.3556,2,  35.3547,2,    216.9,1, 24.2780,   -999.0,9,  -999.00,9,  -999.00,9,  -999.00,9,  -999.0,-999.000
     33KB143_1,  PRS2,     2,  3,     19,     19,2,20021218,2056, 22.7510,-158.0008, 4744,     26,     24.7,  24.2615,  35.3547,2,  35.3545,2,    216.8,1, 24.2563,   -999.0,9,  -999.00,9,  -999.00,9,  -999.00,9,  -999.0,-999.000
     33KB143_1,  PRS2,     2,  3,     18,     18,2,20021218,2056, 22.7510,-158.0008, 4744,     26,     24.7,  24.2612,  35.3548,2,  35.3543,2,    216.6,1, 24.2560,   -999.0,9,  -999.00,9,  -999.00,9,  -999.00,9,  -999.0,-999.000
     33KB143_1,  PRS2,     2,  3,     17,     17,2,20021218,2056, 22.7510,-158.0008, 4744,     26,     24.7,  24.2614,  35.3552,2,  35.3567,2,    216.7,1, 24.2562,   -999.0,9,  -999.00,9,  -999.00,9,  -999.00,9,  -999.0,-999.000
     33KB143_1,  PRS2,     2,  3,     16,     16,2,20021218,2056, 22.7510,-158.0008, 4744,     27,     24.9,  24.2655,  35.3549,2,  35.3541,2,    216.7,1, 24.2602,   -999.0,9,  -999.00,9,  -999.00,9,  -999.00,9,  -999.0,-999.000
     33KB143_1,  PRS2,     2,  3,     15,     23,2,20021218,2056, 22.7510,-158.0008, 4744,     47,     45.8,  24.2605,  35.3548,2,  35.3533,2,    216.8,1, 24.2508,   -999.0,9,  -999.00,9,  -999.00,9,  -999.00,9,  -999.0,-999.000
     33KB143_1,  PRS2,     2,  3,     14,     40,3,20021218,2056, 22.7510,-158.0008, 4744,     63,     59.8,  24.2620,  35.3548,2,  35.3543,2,    216.7,1, 24.2493,   -999.0,9,  -999.00,9,  -999.00,9,  -999.00,9,  -999.0,-999.000
     33KB143_1,  PRS2,     2,  3,     13,     13,2,20021218,2056, 22.7510,-158.0008, 4744,     73,     74.5,  24.2596,  35.3553,2,  35.3595,2,    216.7,1, 24.2438,   -999.0,9,  -999.00,9,  -999.00,9,  -999.00,9,  -999.0,-999.000
     33KB143_1,  PRS2,     2,  3,     12,     12,3,20021218,2056, 22.7510,-158.0008, 4744,     88,     86.6,  24.2433,  35.3585,2,  35.3577,2,    216.3,1, 24.2250,   -999.0,9,  -999.00,9,  -999.00,9,  -999.00,9,  -999.0,-999.000
     33KB143_1,  PRS2,     2,  3,      9,      3,3,20021218,2056, 22.7510,-158.0008, 4744,    102,    101.8,  22.8825,  35.3196,2,  35.3242,2,    221.1,1, 22.8617,   -999.0,9,  -999.00,9,  -999.00,9,  -999.00,9,  -999.0,-999.000
     33KB143_1,  PRS2,     2,  3,     10,     32,3,20021218,2056, 22.7510,-158.0008, 4744,    103,    102.0,  22.8771,  35.3190,2,  35.3220,2,    221.1,1, 22.8563,   -999.0,9,  -999.00,9,  -999.00,9,  -999.00,9,  -999.0,-999.000
     33KB143_1,  PRS2,     2,  3,      8,     29,2,20021218,2056, 22.7510,-158.0008, 4744,    103,    102.2,  22.8905,  35.3209,2,  35.3226,2,    220.9,1, 22.8697,   -999.0,9,  -999.00,9,  -999.00,9,  -999.00,9,  -999.0,-999.000
     33KB143_1,  PRS2,     2,  3,     11,     39,2,20021218,2056, 22.7510,-158.0008, 4744,    101,    102.3,  22.8572,  35.3196,2,  35.3232,2,    221.0,1, 22.8364,   -999.0,9,  -999.00,9,  -999.00,9,  -999.00,9,  -999.0,-999.000
     33KB143_1,  PRS2,     2,  3,      7,     28,2,20021218,2056, 22.7510,-158.0008, 4744,    114,    115.5,  21.9226,  35.2829,2,  35.2942,2,    216.9,1, 21.8998,   -999.0,9,  -999.00,9,  -999.00,9,  -999.00,9,  -999.0,-999.000
     33KB143_1,  PRS2,     2,  3,      6,      7,3,20021218,2056, 22.7510,-158.0008, 4744,    123,    123.8,  21.5703,  35.2750,2,  35.2922,3,    209.7,1, 21.5461,   -999.0,9,  -999.00,9,  -999.00,9,  -999.00,9,  -999.0,-999.000
     33KB143_1,  PRS2,     2,  3,      5,     38,2,20021218,2056, 22.7510,-158.0008, 4744,    148,    148.2,  20.6857,  35.2207,2,  35.2262,2,    207.4,1, 20.6577,   -999.0,9,  -999.00,9,  -999.00,9,  -999.00,9,  -999.0,-999.000
     33KB143_1,  PRS2,     2,  3,      4,     36,2,20021218,2056, 22.7510,-158.0008, 4744,    174,    172.6,  20.0620,  35.1851,2,  35.1884,2,    203.8,1, 20.0300,   -999.0,9,  -999.00,9,  -999.00,9,  -999.00,9,  -999.0,-999.000
     33KB143_1,  PRS2,     2,  3,      3,     35,2,20021218,2056, 22.7510,-158.0008, 4744,    202,    201.2,  18.4294,  34.9694,2,  34.9742,2,    203.9,1, 18.3942,   -999.0,9,  -999.00,9,  -999.00,9,  -999.00,9,  -999.0,-999.000
     33KB143_1,  PRS2,     2,  3,      2,     34,2,20021218,2056, 22.7510,-158.0008, 4744,    552,    551.5,   6.5078,  34.0339,2,  34.0339,2,    110.1,1,  6.4577,   -999.0,9,  -999.00,9,  -999.00,9,  -999.00,9,  -999.0,-999.000
     33KB143_1,  PRS2,     2,  3,      1,     33,2,20021218,2056, 22.7510,-158.0008, 4744,   1021,   1020.3,   3.9564,  34.4783,2,  34.4789,2,     42.0,1,  3.8794,   -999.0,9,  -999.00,9,  -999.00,9,  -999.00,9,  -999.0,-999.000
     33KB143_1,  PRS2,     2,  4,     14,     40,2,20021218,2353, 22.7493,-158.0090, 4745,      6,      5.6,  24.3488,  35.3534,2,  35.3551,2,    216.5,1, 24.3476,   -999.0,9,  -999.00,9,  -999.00,9,  -999.00,9,  -999.0,-999.000
     33KB143_1,  PRS2,     2,  4,     13,     13,3,20021218,2353, 22.7493,-158.0090, 4745,     25,     25.4,  24.3084,  35.3516,2,  35.3526,2,    217.0,1, 24.3030,   -999.0,9,  -999.00,9,  -999.00,9,  -999.00,9,  -999.0,-999.000
     33KB143_1,  PRS2,     2,  4,     12,     12,3,20021218,2353, 22.7493,-158.0090, 4745,     46,     45.5,  24.2826,  35.3524,2,  35.3571,2,    216.6,1, 24.2730,   -999.0,9,  -999.00,9,  -999.00,9,  -999.00,9,  -999.0,-999.000
     33KB143_1,  PRS2,     2,  4,     11,     39,3,20021218,2353, 22.7493,-158.0090, 4745,     75,     74.8,  24.2683,  35.3545,2,  35.3532,2,    216.8,1, 24.2524,   -999.0,9,  -999.00,9,  -999.00,9,  -999.00,9,  -999.0,-999.000
     33KB143_1,  PRS2,     2,  4,     10,     32,3,20021218,2353, 22.7493,-158.0090, 4745,    102,    100.6,  24.2458,  35.3558,2,  35.3547,2,    216.5,1, 24.2244,   -999.0,9,  -999.00,9,  -999.00,9,  -999.00,9,  -999.0,-999.000
     33KB143_1,  PRS2,     2,  4,      9,      3,3,20021218,2353, 22.7493,-158.0090, 4745,    125,    124.5,  22.3369,  35.2985,2,  35.3025,2,    218.6,1, 22.3120,   -999.0,9,  -999.00,9,  -999.00,9,  -999.00,9,  -999.0,-999.000
     33KB143_1,  PRS2,     2,  4,      8,     29,2,20021218,2353, 22.7493,-158.0090, 4745,    150,    150.0,  21.0753,  35.2369,2,  35.2353,2,    210.8,1, 21.0465,   -999.0,9,  -999.00,9,  -999.00,9,  -999.00,9,  -999.0,-999.000
     33KB143_1,  PRS2,     2,  4,      7,     28,2,20021218,2353, 22.7493,-158.0090, 4745,    177,    174.8,  20.0842,  35.1622,2,  35.1880,4,    208.1,1, 20.0518,   -999.0,9,  -999.00,9,  -999.00,9,  -999.00,9,  -999.0,-999.000
     33KB143_1,  PRS2,     2,  4,      6,      7,2,20021218,2353, 22.7493,-158.0090, 4745,    199,    198.5,  18.7879,  35.0127,2,  35.0089,2,    206.1,1, 18.7527,   -999.0,9,  -999.00,9,  -999.00,9,  -999.00,9,  -999.0,-999.000
     33KB143_1,  PRS2,     2,  4,      5,     38,2,20021218,2353, 22.7493,-158.0090, 4745,    251,    250.0,  15.6712,  34.5773,2,  34.5769,2,    206.8,1, 15.6322,   -999.0,9,  -999.00,9,  -999.00,9,  -999.00,9,  -999.0,-999.000
     33KB143_1,  PRS2,     2,  4,      3,     35,2,20021218,2353, 22.7493,-158.0090, 4745,    353,    351.2,  11.6093,  34.2457,2,  34.2464,2,    219.3,1, 11.5645,   -999.0,9,  -999.00,9,  -999.00,9,  -999.00,9,  -999.0,-999.000
     33KB143_1,  PRS2,     2,  4,      4,     36,2,20021218,2353, 22.7493,-158.0090, 4745,    353,    351.3,  11.6033,  34.2446,2,  34.2470,2,    219.3,1, 11.5585,   -999.0,9,  -999.00,9,  -999.00,9,  -999.00,9,  -999.0,-999.000
     33KB143_1,  PRS2,     2,  4,      2,     34,2,20021218,2353, 22.7493,-158.0090, 4745,    525,    526.2,   6.9485,  34.0334,2,  34.0374,2,    123.9,1,  6.8990,   -999.0,9,  -999.00,9,  -999.00,9,  -999.00,9,  -999.0,-999.000
     33KB143_1,  PRS2,     2,  4,      1,     33,2,20021218,2353, 22.7493,-158.0090, 4745,   1021,   1020.2,   4.0264,  34.4718,2,  34.4720,2,     40.5,1,  3.9489,   -999.0,9,  -999.00,9,  -999.00,9,  -999.00,9,  -999.0,-999.000
     33KB143_1,  PRS2,     2,  5,     14,     40,2,20021219,0255, 22.7490,-157.9995, 4745,      5,      4.9,  24.4070,  35.3451,2,  35.3451,2,    215.9,1, 24.4060,   -999.0,9,  -999.00,9,  -999.00,9,  -999.00,9,  -999.0,-999.000
     33KB143_1,  PRS2,     2,  5,     13,     13,2,20021219,0255, 22.7490,-157.9995, 4745,     23,     24.7,  24.4143,  35.3456,2,  35.3441,2,    215.9,1, 24.4091,   -999.0,9,  -999.00,9,  -999.00,9,  -999.00,9,  -999.0,-999.000
     33KB143_1,  PRS2,     2,  5,     12,     12,2,20021219,0255, 22.7490,-157.9995, 4745,     45,     43.8,  24.3729,  35.3420,2,  35.3413,2,    216.1,1, 24.3636,   -999.0,9,  -999.00,9,  -999.00,9,  -999.00,9,  -999.0,-999.000
     33KB143_1,  PRS2,     2,  5,     11,     39,2,20021219,0255, 22.7490,-157.9995, 4745,     76,     76.1,  24.2919,  35.3523,2,  35.3520,2,    216.2,1, 24.2758,   -999.0,9,  -999.00,9,  -999.00,9,  -999.00,9,  -999.0,-999.000
     33KB143_1,  PRS2,     2,  5,     10,     32,2,20021219,0255, 22.7490,-157.9995, 4745,    101,    100.3,  24.2505,  35.3567,2,  35.3549,2,    215.9,1, 24.2292,   -999.0,9,  -999.00,9,  -999.00,9,  -999.00,9,  -999.0,-999.000
     33KB143_1,  PRS2,     2,  5,      9,      3,2,20021219,0255, 22.7490,-157.9995, 4745,    124,    124.4,  23.7438,  35.3976,2,  35.4003,2,    217.5,1, 23.7178,   -999.0,9,  -999.00,9,  -999.00,9,  -999.00,9,  -999.0,-999.000
     33KB143_1,  PRS2,     2,  5,      8,     29,2,20021219,0255, 22.7490,-157.9995, 4745,    150,    150.1,  21.1728,  35.2407,2,  35.2422,2,    209.6,1, 21.1439,   -999.0,9,  -999.00,9,  -999.00,9,  -999.00,9,  -999.0,-999.000
     33KB143_1,  PRS2,     2,  5,      7,     28,2,20021219,0255, 22.7490,-157.9995, 4745,    176,    174.9,  20.0640,  35.1610,2,  35.1591,2,    207.4,1, 20.0316,   -999.0,9,  -999.00,9,  -999.00,9,  -999.00,9,  -999.0,-999.000
     33KB143_1,  PRS2,     2,  5,      6,      7,2,20021219,0255, 22.7490,-157.9995, 4745,    201,    199.5,  19.2941,  35.0839,2,  35.0805,2,    203.8,1, 19.2581,   -999.0,9,  -999.00,9,  -999.00,9,  -999.00,9,  -999.0,-999.000
     33KB143_1,  PRS2,     2,  5,      5,     38,2,20021219,0255, 22.7490,-157.9995, 4745,    251,    250.1,  16.5289,  34.6887,2,  34.7072,2,    201.5,1, 16.4885,   -999.0,9,  -999.00,9,  -999.00,9,  -999.00,9,  -999.0,-999.000
     33KB143_1,  PRS2,     2,  5,      4,     36,2,20021219,0255, 22.7490,-157.9995, 4745,    348,    347.5,  12.0356,  34.2680,2,  34.2691,2,    219.1,1, 11.9902,   -999.0,9,  -999.00,9,  -999.00,9,  -999.00,9,  -999.0,-999.000
     33KB143_1,  PRS2,     2,  5,      3,     35,2,20021219,0255, 22.7490,-157.9995, 4745,    349,    347.7,  12.0207,  34.2660,2,  34.2699,2,    218.9,1, 11.9753,   -999.0,9,  -999.00,9,  -999.00,9,  -999.00,9,  -999.0,-999.000
     33KB143_1,  PRS2,     2,  5,      2,     34,2,20021219,0255, 22.7490,-157.9995, 4745,    500,    501.0,   7.8884,  34.0508,2,  34.0499,2,    149.1,1,  7.8379,   -999.0,9,  -999.00,9,  -999.00,9,  -999.00,9,  -999.0,-999.000
     33KB143_1,  PRS2,     2,  5,      1,     33,2,20021219,0255, 22.7490,-157.9995, 4745,   1020,   1021.0,   4.1219,  34.4622,2,  34.4630,2,     39.2,1,  4.0436,   -999.0,9,  -999.00,9,  -999.00,9,  -999.00,9,  -999.0,-999.000
     33KB143_1,  PRS2,     2,  6,     14,     40,2,20021219,0552, 22.7473,-158.0028, 4750,      5,      4.5,  24.4777,  35.3169,2,  35.3159,2,    215.4,1, 24.4767,   -999.0,9,  -999.00,9,  -999.00,9,  -999.00,9,  -999.0,-999.000
     33KB143_1,  PRS2,     2,  6,     13,     13,2,20021219,0552, 22.7473,-158.0028, 4750,     16,     15.9,  24.4745,  35.3171,2,  35.3171,2,    215.4,1, 24.4711,   -999.0,9,  -999.00,9,  -999.00,9,  -999.00,9,  -999.0,-999.000
     33KB143_1,  PRS2,     2,  6,     12,     12,2,20021219,0552, 22.7473,-158.0028, 4750,     25,     25.5,  24.4794,  35.3185,2,  35.3181,2,    215.3,1, 24.4739,   -999.0,9,  -999.00,9,  -999.00,9,  -999.00,9,  -999.0,-999.000
     33KB143_1,  PRS2,     2,  6,     11,     39,2,20021219,0552, 22.7473,-158.0028, 4750,     33,     33.7,  24.4623,  35.3219,2,  35.3220,2,    215.4,1, 24.4551,   -999.0,9,  -999.00,9,  -999.00,9,  -999.00,9,  -999.0,-999.000
     33KB143_1,  PRS2,     2,  6,     10,     32,2,20021219,0552, 22.7473,-158.0028, 4750,     33,     33.7,  24.4633,  35.3223,2,  35.3185,2,    215.4,1, 24.4561,   -999.0,9,  -999.00,9,  -999.00,9,  -999.00,9,  -999.0,-999.000
     33KB143_1,  PRS2,     2,  6,      9,      3,2,20021219,0552, 22.7473,-158.0028, 4750,     45,     44.6,  24.3508,  35.3404,2,  35.3376,2,    216.1,1, 24.3413,   -999.0,9,  -999.00,9,  -999.00,9,  -999.00,9,  -999.0,-999.000
     33KB143_1,  PRS2,     2,  6,      8,     29,2,20021219,0552, 22.7473,-158.0028, 4750,     61,     59.7,  24.3097,  35.3516,2,  35.3484,2,    216.7,1, 24.2970,   -999.0,9,  -999.00,9,  -999.00,9,  -999.00,9,  -999.0,-999.000
     33KB143_1,  PRS2,     2,  6,      7,     28,2,20021219,0552, 22.7473,-158.0028, 4750,     75,     74.8,  24.2962,  35.3520,2,  35.3506,2,    216.6,1, 24.2803,   -999.0,9,  -999.00,9,  -999.00,9,  -999.00,9,  -999.0,-999.000
     33KB143_1,  PRS2,     2,  6,      6,      7,2,20021219,0552, 22.7473,-158.0028, 4750,    102,    101.2,  24.1350,  35.3962,2,  35.3912,2,    215.9,1, 24.1135,   -999.0,9,  -999.00,9,  -999.00,9,  -999.00,9,  -999.0,-999.000
     33KB143_1,  PRS2,     2,  6,      5,     38,2,20021219,0552, 22.7473,-158.0028, 4750,    124,    124.8,  21.9744,  35.2888,2,  35.2869,2,    215.7,1, 21.9497,   -999.0,9,  -999.00,9,  -999.00,9,  -999.00,9,  -999.0,-999.000
     33KB143_1,  PRS2,     2,  6,      4,     36,2,20021219,0552, 22.7473,-158.0028, 4750,    151,    150.8,  20.6001,  35.2102,2,  35.2117,2,    206.8,1, 20.5716,   -999.0,9,  -999.00,9,  -999.00,9,  -999.00,9,  -999.0,-999.000
     33KB143_1,  PRS2,     2,  6,      3,     35,2,20021219,0552, 22.7473,-158.0028, 4750,    174,    174.1,  19.7004,  35.1268,2,  35.1380,2,    207.6,1, 19.6685,   -999.0,9,  -999.00,9,  -999.00,9,  -999.00,9,  -999.0,-999.000
     33KB143_1,  PRS2,     2,  6,      2,     34,2,20021219,0552, 22.7473,-158.0028, 4750,    501,    500.8,   7.7852,  34.0485,2,  34.0480,2,    150.0,1,  7.7350,   -999.0,9,  -999.00,9,  -999.00,9,  -999.00,9,  -999.0,-999.000
     33KB143_1,  PRS2,     2,  6,      1,     33,2,20021219,0552, 22.7473,-158.0028, 4750,   1022,   1022.3,   3.9496,  34.4841,2,  34.4830,2,     43.1,1,  3.8725,   -999.0,9,  -999.00,9,  -999.00,9,  -999.00,9,  -999.0,-999.000
     33KB143_1,  PRS2,     2,  7,     19,     19,2,20021219,0858, 22.7712,-157.9973, 4735,      5,      4.7,  24.5688,  35.2821,2,  35.2808,2,    172.5,2, 24.5678,   -999.0,5,  -999.00,9,  -999.00,9,  -999.00,9,  -999.0,-999.000
     33KB143_1,  PRS2,     2,  7,     18,     18,2,20021219,0858, 22.7712,-157.9973, 4735,      5,      5.0,  24.5706,  35.2816,2,  35.2828,2,    172.6,2, 24.5695,    206.7,3,  -999.00,9,  -999.00,9,  -999.00,9,  -999.0,-999.000
     33KB143_1,  PRS2,     2,  7,     17,     17,2,20021219,0858, 22.7712,-157.9973, 4735,     14,     14.4,  24.5722,  35.2814,2,  35.2810,2,    172.6,2, 24.5691,   -999.0,5,  -999.00,9,  -999.00,9,  -999.00,9,  -999.0,-999.000
     33KB143_1,  PRS2,     2,  7,     15,     23,2,20021219,0858, 22.7712,-157.9973, 4735,     26,     25.0,  24.5771,  35.2824,2,  35.2822,2,    172.6,2, 24.5718,    206.7,3,  -999.00,9,  -999.00,9,  -999.00,9,  -999.0,-999.000
     33KB143_1,  PRS2,     2,  7,     16,     16,2,20021219,0858, 22.7712,-157.9973, 4735,     27,     25.3,  24.5772,  35.2827,2,  35.2816,2,    172.6,2, 24.5718,   -999.0,5,  -999.00,9,  -999.00,9,  -999.00,9,  -999.0,-999.000
     33KB143_1,  PRS2,     2,  7,     14,     40,2,20021219,0858, 22.7712,-157.9973, 4735,     34,     34.5,  24.5783,  35.2826,2,  35.2814,2,    172.6,2, 24.5709,   -999.0,5,  -999.00,9,  -999.00,9,  -999.00,9,  -999.0,-999.000
     33KB143_1,  PRS2,     2,  7,     13,     13,3,20021219,0858, 22.7712,-157.9973, 4735,     46,     44.6,  24.5318,  35.2850,2,-999.0000,5,    172.8,2, 24.5222,    206.9,3,  -999.00,9,  -999.00,9,  -999.00,9,  -999.0,-999.000
     33KB143_1,  PRS2,     2,  7,     12,     12,3,20021219,0858, 22.7712,-157.9973, 4735,     59,     60.3,  24.2449,  35.3366,2,  35.3340,2,    174.0,2, 24.2321,   -999.0,5,  -999.00,9,  -999.00,9,  -999.00,9,  -999.0,-999.000
     33KB143_1,  PRS2,     2,  7,     11,     39,2,20021219,0858, 22.7712,-157.9973, 4735,     76,     75.3,  24.2212,  35.3447,2,  35.3461,2,    173.9,2, 24.2053,    207.5,3,  -999.00,9,  -999.00,9,  -999.00,9,  -999.0,-999.000
     33KB143_1,  PRS2,     2,  7,     10,     32,2,20021219,0858, 22.7712,-157.9973, 4735,     85,     84.9,  23.9601,  35.3500,2,  35.3539,2,    174.6,2, 23.9423,    207.6,3,  -999.00,9,  -999.00,9,  -999.00,9,  -999.0,-999.000
     33KB143_1,  PRS2,     2,  7,      9,      3,2,20021219,0858, 22.7712,-157.9973, 4735,    101,    100.5,  22.0904,  35.2948,2,  35.2956,2,    176.8,2, 22.0705,    207.2,3,  -999.00,9,  -999.00,9,  -999.00,9,  -999.0,-999.000
     33KB143_1,  PRS2,     2,  7,      8,     29,2,20021219,0858, 22.7712,-157.9973, 4735,    116,    115.1,  21.6498,  35.2786,2,  35.2777,2,    175.6,2, 21.6273,    205.0,3,  -999.00,9,  -999.00,9,  -999.00,9,  -999.0,-999.000
     33KB143_1,  PRS2,     2,  7,      7,     28,2,20021219,0858, 22.7712,-157.9973, 4735,    123,    124.5,  21.1062,  35.2482,2,  35.2493,2,    172.7,2, 21.0823,    200.5,3,  -999.00,9,  -999.00,9,  -999.00,9,  -999.0,-999.000
     33KB143_1,  PRS2,     2,  7,      6,      7,2,20021219,0858, 22.7712,-157.9973, 4735,    150,    149.8,  19.9275,  35.1344,2,  35.1307,2,    175.5,2, 19.8999,    201.9,3,  -999.00,9,  -999.00,9,  -999.00,9,  -999.0,-999.000
     33KB143_1,  PRS2,     2,  7,      5,     38,2,20021219,0858, 22.7712,-157.9973, 4735,    166,    165.5,  19.4208,  35.0685,2,  35.0720,2,    179.2,2, 19.3908,    204.0,3,  -999.00,9,  -999.00,9,  -999.00,9,  -999.0,-999.000
     33KB143_1,  PRS2,     2,  7,      4,     36,2,20021219,0858, 22.7712,-157.9973, 4735,    175,    174.9,  19.0927,  35.0360,2,  35.0352,2,    176.6,2, 19.0614,    205.9,3,  -999.00,9,  -999.00,9,  -999.00,9,  -999.0,-999.000
     33KB143_1,  PRS2,     2,  7,      3,     35,2,20021219,0858, 22.7712,-157.9973, 4735,    203,    202.4,  17.7034,  34.8335,2,  34.8369,2,    178.0,2, 17.6690,    201.5,3,  -999.00,9,  -999.00,9,  -999.00,9,  -999.0,-999.000
     33KB143_1,  PRS2,     2,  7,      2,     34,2,20021219,0858, 22.7712,-157.9973, 4735,    502,    500.0,   7.4193,  34.0403,2,  34.0403,2,    132.3,2,  7.3707,   -999.0,5,  -999.00,9,  -999.00,9,  -999.00,9,  -999.0,-999.000
     33KB143_1,  PRS2,     2,  7,      1,     33,2,20021219,0858, 22.7712,-157.9973, 4735,   1020,   1020.1,   3.9559,  34.4872,2,  34.4854,2,     42.8,2,  3.8789,   -999.0,5,  -999.00,9,  -999.00,9,  -999.00,9,  -999.0,-999.000