BOTTLE,20090923WHPSIOMYS
#code : jjward hyd_to_exchange.pl 
#original files copied from HTML directory: 20090923
#original HYD file: 33KB143_1_hy.txt   Wed Sep 23 17:53:39 2009
#original SUM file: ../33KB143_1su.txt   Wed Sep 23 17:53:38 2009
EXPOCODE,SECT_ID,STNNBR,CASTNO,SAMPNO,BTLNBR,BTLNBR_FLAG_W,DATE,TIME,LATITUDE,LONGITUDE,DEPTH,CTDRAW,CTDPRS,CTDTMP,CTDSAL,CTDSAL_FLAG_W,SALNTY,SALNTY_FLAG_W,CTDOXY,CTDOXY_FLAG_W,THETA,OXYGEN,OXYGEN_FLAG_W,SILCAT,SILCAT_FLAG_W,NO2+NO3,NO2+NO3_FLAG_W,PHSPHT,PHSPHT_FLAG_W,REVPRS,REVTMP
,,,,,,,,,,,,,DBAR,ITS-90,PSS-78,,PSS-78,,UMOL/KG,,ITS-90,UMOL/KG,,UMOL/KG,,UMOL/KG,,UMOL/KG,,DBAR,DEG C
     33KB143_1,  PRS2,     1,  1,     24,     31,3,20021217,2357, 21.3360,-158.2730, 1460,      7,      5.5,  25.4220,  35.1772,2,-999.0000,5,    216.1,2, 25.4208,    203.6,3,  -999.00,9,  -999.00,9,  -999.00,9,  -999.0,-999.000
     33KB143_1,  PRS2,     1,  1,     23,     30,3,20021217,2357, 21.3360,-158.2730, 1460,      7,      5.5,  25.4214,  35.1773,2,-999.0000,5,    215.8,2, 25.4202,    202.8,3,  -999.00,9,  -999.00,9,  -999.00,9,  -999.0,-999.000
     33KB143_1,  PRS2,     1,  1,     22,     22,2,20021217,2357, 21.3360,-158.2730, 1460,     26,     25.1,  25.3392,  35.1748,2,  35.1750,2,    215.8,2, 25.3337,    203.1,3,  -999.00,9,  -999.00,9,  -999.00,9,  -999.0,-999.000
     33KB143_1,  PRS2,     1,  1,     21,     21,2,20021217,2357, 21.3360,-158.2730, 1460,     45,     45.0,  25.3234,  35.1744,2,  35.1746,2,    215.7,2, 25.3136,    202.8,3,  -999.00,9,  -999.00,9,  -999.00,9,  -999.0,-999.000
     33KB143_1,  PRS2,     1,  1,     20,     20,2,20021217,2357, 21.3360,-158.2730, 1460,     59,     59.7,  25.3013,  35.1749,2,  35.1735,2,    215.6,2, 25.2882,    202.2,3,  -999.00,9,  -999.00,9,  -999.00,9,  -999.0,-999.000
     33KB143_1,  PRS2,     1,  1,     19,     19,2,20021217,2357, 21.3360,-158.2730, 1460,     75,     74.8,  25.1361,  35.1844,2,  35.1845,2,    215.8,2, 25.1198,    201.3,3,  -999.00,9,  -999.00,9,  -999.00,9,  -999.0,-999.000
     33KB143_1,  PRS2,     1,  1,     18,     18,2,20021217,2357, 21.3360,-158.2730, 1460,     99,    100.0,  24.2848,  35.2111,2,  35.2097,2,    218.2,2, 24.2636,    206.3,3,  -999.00,9,  -999.00,9,  -999.00,9,  -999.0,-999.000
     33KB143_1,  PRS2,     1,  1,     17,     17,2,20021217,2357, 21.3360,-158.2730, 1460,    115,    115.4,  23.3451,  35.2234,2,  35.2203,2,    217.3,2, 23.3212,    206.2,3,  -999.00,9,  -999.00,9,  -999.00,9,  -999.0,-999.000
     33KB143_1,  PRS2,     1,  1,     16,     16,2,20021217,2357, 21.3360,-158.2730, 1460,    126,    124.5,  22.5413,  35.2640,2,  35.2666,2,    219.0,2, 22.5162,    210.3,3,  -999.00,9,  -999.00,9,  -999.00,9,  -999.0,-999.000
     33KB143_1,  PRS2,     1,  1,     15,     23,2,20021217,2357, 21.3360,-158.2730, 1460,    149,    149.5,  20.9956,  35.2199,2,  35.2217,2,    206.1,2, 20.9669,    196.0,3,  -999.00,9,  -999.00,9,  -999.00,9,  -999.0,-999.000
     33KB143_1,  PRS2,     1,  1,     14,     40,3,20021217,2357, 21.3360,-158.2730, 1460,    174,    176.5,  19.4067,  35.0532,2,-999.0000,5,    196.9,2, 19.3748,    195.8,3,  -999.00,9,  -999.00,9,  -999.00,9,  -999.0,-999.000
     33KB143_1,  PRS2,     1,  1,     13,     13,2,20021217,2357, 21.3360,-158.2730, 1460,    201,    201.5,  17.9072,  34.8666,2,  34.8721,2,    196.8,2, 17.8728,    186.9,3,  -999.00,9,  -999.00,9,  -999.00,9,  -999.0,-999.000
     33KB143_1,  PRS2,     1,  1,     12,     12,2,20021217,2357, 21.3360,-158.2730, 1460,    226,    223.4,  16.5821,  34.6929,2,  34.6997,2,    198.1,2, 16.5459,   -999.0,5,  -999.00,9,  -999.00,9,  -999.00,9,  -999.0,-999.000
     33KB143_1,  PRS2,     1,  1,     11,     39,2,20021217,2357, 21.3360,-158.2730, 1460,    249,    250.1,  14.7149,  34.4724,2,  34.4779,2,    196.9,2, 14.6776,    189.6,3,  -999.00,9,  -999.00,9,  -999.00,9,  -999.0,-999.000
     33KB143_1,  PRS2,     1,  1,     10,     32,2,20021217,2357, 21.3360,-158.2730, 1460,    302,    299.9,  11.9236,  34.2284,2,  34.2311,2,    197.1,2, 11.8848,    192.7,3,  -999.00,9,  -999.00,9,  -999.00,9,  -999.0,-999.000
     33KB143_1,  PRS2,     1,  1,      9,      3,2,20021217,2357, 21.3360,-158.2730, 1460,    350,    349.4,  10.5622,  34.1625,2,  34.1623,2,    192.6,2, 10.5204,    196.5,3,  -999.00,9,  -999.00,9,  -999.00,9,  -999.0,-999.000
     33KB143_1,  PRS2,     1,  1,      8,     29,2,20021217,2357, 21.3360,-158.2730, 1460,    400,    400.3,   8.8733,  34.1083,2,  34.1068,2,    155.2,2,  8.8302,    159.5,3,  -999.00,9,  -999.00,9,  -999.00,9,  -999.0,-999.000
     33KB143_1,  PRS2,     1,  1,      7,     28,2,20021217,2357, 21.3360,-158.2730, 1460,    502,    500.7,   7.7051,  34.1174,2,  34.1170,2,    111.1,2,  7.6552,    110.0,3,  -999.00,9,  -999.00,9,  -999.00,9,  -999.0,-999.000
     33KB143_1,  PRS2,     1,  1,      6,      7,2,20021217,2357, 21.3360,-158.2730, 1460,    602,    600.4,   5.8618,  34.2073,2,  34.2040,2,     56.1,2,  5.8098,     55.8,3,  -999.00,9,  -999.00,9,  -999.00,9,  -999.0,-999.000
     33KB143_1,  PRS2,     1,  1,      5,     38,2,20021217,2357, 21.3360,-158.2730, 1460,    701,    699.5,   5.2341,  34.3060,2,  34.3058,2,     35.6,2,  5.1763,     34.5,3,  -999.00,9,  -999.00,9,  -999.00,9,  -999.0,-999.000
     33KB143_1,  PRS2,     1,  1,      4,     36,2,20021217,2357, 21.3360,-158.2730, 1460,    749,    749.0,   5.1599,  34.3519,2,  34.3496,2,     35.0,2,  5.0981,     33.1,3,  -999.00,9,  -999.00,9,  -999.00,9,  -999.0,-999.000
     33KB143_1,  PRS2,     1,  1,      3,     35,2,20021217,2357, 21.3360,-158.2730, 1460,    801,    801.8,   4.9167,  34.3954,2,  34.3929,2,     36.0,2,  4.8518,     34.6,3,  -999.00,9,  -999.00,9,  -999.00,9,  -999.0,-999.000
     33KB143_1,  PRS2,     1,  1,      2,     34,2,20021217,2357, 21.3360,-158.2730, 1460,    899,    899.7,   4.4596,  34.4615,2,  34.4612,2,     42.2,2,  4.3891,     52.6,4,  -999.00,9,  -999.00,9,  -999.00,9,  -999.0,-999.000
     33KB143_1,  PRS2,     1,  1,      1,     33,2,20021217,2357, 21.3360,-158.2730, 1460,   1029,   1026.3,   4.0288,  34.5026,2,  34.5027,2,     49.4,2,  3.9507,     33.9,4,  -999.00,9,  -999.00,9,  -999.00,9,  -999.0,-999.000
     33KB143_1,  PRS2,     2,  1,     24,     31,3,20021218,1153, 22.7483,-158.0010, 4744,      5,      4.8,  24.3378,  35.3568,2,  35.3577,2,    216.4,2, 24.3368,    205.3,3,     0.98,2,     0.07,2,     0.02,2,  -999.0,-999.000
     33KB143_1,  PRS2,     2,  1,     23,     30,2,20021218,1153, 22.7483,-158.0010, 4744,    503,    500.8,   8.0078,  34.0555,2,  34.0662,4,    159.0,3,  7.9568,    153.0,3,    35.13,2,    24.09,2,     1.74,2,  -999.0,-999.000
     33KB143_1,  PRS2,     2,  1,     22,     22,2,20021218,1153, 22.7483,-158.0010, 4744,    797,    797.7,   4.7964,  34.3224,2,  34.3203,2,     23.3,2,  4.7326,     23.0,3,    71.46,4,    40.83,2,     3.07,2,  -999.0,-999.000
     33KB143_1,  PRS2,     2,  1,     21,     21,2,20021218,1153, 22.7483,-158.0010, 4744,    999,    998.2,   4.0292,  34.4686,2,  34.4687,2,     40.2,2,  3.9535,     40.9,3,    61.42,4,    41.43,2,     2.94,2,  -999.0,-999.000
     33KB143_1,  PRS2,     2,  1,     20,     20,2,20021218,1153, 22.7483,-158.0010, 4744,   1200,   1199.9,   3.6253,  34.5197,2,  34.5205,2,     50.4,2,  3.5362,     48.6,3,   117.03,2,    40.80,2,     3.01,2,  -999.0,-999.000
     33KB143_1,  PRS2,     2,  1,     19,     19,2,20021218,1153, 22.7483,-158.0010, 4744,   1397,   1398.5,   3.1686,  34.5539,2,  34.5539,2,     58.6,2,  3.0674,     57.1,3,   126.08,2,    40.78,2,     2.95,2,  -999.0,-999.000
     33KB143_1,  PRS2,     2,  1,     18,     18,2,20021218,1153, 22.7483,-158.0010, 4744,   1601,   1599.1,   2.7473,  34.5810,2,  34.5810,2,     68.2,2,  2.6342,     67.8,3,   135.80,2,    40.31,2,     2.90,2,  -999.0,-999.000
     33KB143_1,  PRS2,     2,  1,     17,     17,2,20021218,1153, 22.7483,-158.0010, 4744,   1799,   1799.8,   2.3791,  34.6042,2,  34.6052,2,     79.4,2,  2.2540,     79.3,3,   143.32,2,    39.61,2,     2.76,3,  -999.0,-999.000
     33KB143_1,  PRS2,     2,  1,     16,     16,2,20021218,1153, 22.7483,-158.0010, 4744,   2001,   2001.3,   2.1257,  34.6209,2,  34.6260,4,     88.1,3,  1.9873,     88.1,3,   150.17,2,    39.21,2,     2.80,2,  -999.0,-999.000
     33KB143_1,  PRS2,     2,  1,     15,     23,2,20021218,1153, 22.7483,-158.0010, 4744,   2203,   2201.9,   1.9325,  34.6362,2,  34.6354,2,     96.7,2,  1.7799,     98.7,3,   153.78,2,    38.73,2,     2.73,2,  -999.0,-999.000
     33KB143_1,  PRS2,     2,  1,     14,     40,2,20021218,1153, 22.7483,-158.0010, 4744,   2402,   2403.1,   1.7782,  34.6476,2,  34.6468,2,    104.2,2,  1.6107,    106.7,3,   156.41,2,    38.12,2,     2.70,2,  -999.0,-999.000
     33KB143_1,  PRS2,     2,  1,     13,     13,2,20021218,1153, 22.7483,-158.0010, 4744,   2603,   2602.1,   1.6773,  34.6566,2,  34.6561,2,    111.4,2,  1.4939,    110.4,3,   158.21,2,    37.80,2,     2.61,3,  -999.0,-999.000
     33KB143_1,  PRS2,     2,  1,     12,     12,2,20021218,1153, 22.7483,-158.0010, 4744,   2803,   2802.8,   1.6037,  34.6638,2,  34.6633,2,    118.3,2,  1.4033,    116.2,3,   157.71,2,    37.64,2,     2.61,3,  -999.0,-999.000
     33KB143_1,  PRS2,     2,  1,     11,     39,2,20021218,1153, 22.7483,-158.0010, 4744,   2999,   2999.2,   1.5553,  34.6692,2,  34.6730,3,    123.5,3,  1.3374,    121.6,3,   157.90,2,    37.33,2,     2.61,2,  -999.0,-999.000
     33KB143_1,  PRS2,     2,  1,     10,     32,2,20021218,1153, 22.7483,-158.0010, 4744,   3200,   3199.7,   1.5081,  34.6748,2,  34.6749,2,    130.3,2,  1.2719,    127.4,3,   156.45,2,    36.70,2,     2.58,2,  -999.0,-999.000
     33KB143_1,  PRS2,     2,  1,      9,      3,2,20021218,1153, 22.7483,-158.0010, 4744,   3402,   3401.5,   1.4805,  34.6786,2,  34.6777,2,    135.6,2,  1.2248,    134.0,3,   154.93,2,    36.39,2,     2.55,2,  -999.0,-999.000
     33KB143_1,  PRS2,     2,  1,      8,     29,2,20021218,1153, 22.7483,-158.0010, 4744,   3603,   3601.2,   1.4621,  34.6818,2,  34.6816,2,    140.8,2,  1.1866,    139.6,3,   153.30,2,    36.01,2,     2.54,2,  -999.0,-999.000
     33KB143_1,  PRS2,     2,  1,      7,     28,2,20021218,1153, 22.7483,-158.0010, 4744,   3799,   3798.4,   1.4583,  34.6839,2,  34.6838,2,    144.6,2,  1.1622,    146.3,3,   151.64,2,    35.92,2,     2.51,2,  -999.0,-999.000
     33KB143_1,  PRS2,     2,  1,      6,      7,2,20021218,1153, 22.7483,-158.0010, 4744,   3997,   3997.9,   1.4592,  34.6859,2,  34.6848,2,    148.0,2,  1.1416,    145.6,3,   150.35,2,    35.90,2,     2.51,2,  -999.0,-999.000
     33KB143_1,  PRS2,     2,  1,      5,     38,2,20021218,1153, 22.7483,-158.0010, 4744,   4198,   4200.2,   1.4678,  34.6870,2,  34.6871,2,    150.4,2,  1.1278,    145.9,3,   149.48,2,    35.81,2,     2.49,2,  -999.0,-999.000
     33KB143_1,  PRS2,     2,  1,      4,     36,2,20021218,1153, 22.7483,-158.0010, 4744,   4400,   4399.3,   1.4806,  34.6878,2,  34.6875,2,    152.3,2,  1.1178,    148.2,3,   148.31,2,    35.65,2,     2.48,2,  -999.0,-999.000
     33KB143_1,  PRS2,     2,  1,      3,     35,2,20021218,1153, 22.7483,-158.0010, 4744,   4499,   4500.5,   1.4883,  34.6885,2,  34.6895,2,    153.7,2,  1.1136,    148.4,3,   148.34,2,    35.60,2,     2.44,3,  -999.0,-999.000
     33KB143_1,  PRS2,     2,  1,      2,     34,2,20021218,1153, 22.7483,-158.0010, 4744,   4601,   4600.0,   1.4955,  34.6887,2,  34.6897,2,    154.4,2,  1.1090,   -999.0,5,   147.83,2,    35.91,2,     2.45,2,  -999.0,-999.000
     33KB143_1,  PRS2,     2,  1,      1,     33,2,20021218,1153, 22.7483,-158.0010, 4744,   4799,   4801.2,   1.5196,  34.6886,2,  34.6895,2,    154.4,2,  1.1087,    150.1,3,   147.55,2,    35.53,2,     2.45,2,  -999.0,-999.000
     33KB143_1,  PRS2,     2,  2,     24,     31,3,20021218,1754, 22.7500,-157.9968, 4744,     11,     10.4,  24.2756,  35.3555,2,  35.3547,2,    216.6,2, 24.2734,    205.1,3,     0.98,2,     0.06,2,     0.02,2,  -999.0,-999.000
     33KB143_1,  PRS2,     2,  2,     23,     30,2,20021218,1754, 22.7500,-157.9968, 4744,     54,     54.3,  24.2733,  35.3549,2,  35.3543,2,    216.6,2, 24.2617,    205.7,3,     1.00,2,     0.06,2,     0.03,2,  -999.0,-999.000
     33KB143_1,  PRS2,     2,  2,     22,     22,2,20021218,1754, 22.7500,-157.9968, 4744,    103,    102.8,  23.4622,  35.3591,2,  35.3774,4,    219.2,3, 23.4409,    208.4,3,     1.27,2,     0.16,2,     0.09,2,  -999.0,-999.000
     33KB143_1,  PRS2,     2,  2,     21,     21,3,20021218,1754, 22.7500,-157.9968, 4744,    126,    124.8,  21.5331,  35.2616,2,  35.2660,2,    213.7,2, 21.5087,    202.7,3,     1.57,2,     0.51,2,     0.14,2,  -999.0,-999.000
     33KB143_1,  PRS2,     2,  2,     20,     20,2,20021218,1754, 22.7500,-157.9968, 4744,    175,    173.9,  19.6020,  35.1294,2,  35.1339,2,    206.4,2, 19.5703,    196.8,3,     2.22,2,     1.88,2,     0.28,2,  -999.0,-999.000
     33KB143_1,  PRS2,     2,  2,     19,     19,2,20021218,1754, 22.7500,-157.9968, 4744,    212,    210.9,  17.7831,  34.8530,2,  34.8833,3,    204.9,3, 17.7472,    196.3,3,     2.95,2,     3.18,2,     0.29,2,  -999.0,-999.000
     33KB143_1,  PRS2,     2,  2,     18,     18,2,20021218,1754, 22.7500,-157.9968, 4744,    248,    248.0,  15.4408,  34.5533,2,  34.5537,2,    206.5,2, 15.4025,    199.7,3,     5.12,2,     5.82,2,     0.46,2,  -999.0,-999.000
     33KB143_1,  PRS2,     2,  2,     17,     17,2,20021218,1754, 22.7500,-157.9968, 4744,    296,    294.6,  13.5582,  34.3807,2,  34.3849,2,    220.0,2, 13.5166,    209.9,3,     7.78,2,     8.31,2,     0.57,2,  -999.0,-999.000
     33KB143_1,  PRS2,     2,  2,     16,     16,2,20021218,1754, 22.7500,-157.9968, 4744,    346,    343.3,  12.0718,  34.2737,2,  34.2752,2,    221.4,2, 12.0270,    211.7,3,    10.68,2,    10.65,2,     0.78,2,  -999.0,-999.000
     33KB143_1,  PRS2,     2,  2,     15,     23,2,20021218,1754, 22.7500,-157.9968, 4744,    402,    400.3,  10.6035,  34.1923,2,  34.1930,2,    201.8,2, 10.5553,    198.1,3,    16.00,2,    14.79,2,     1.07,2,  -999.0,-999.000
     33KB143_1,  PRS2,     2,  2,     14,     40,2,20021218,1754, 22.7500,-157.9968, 4744,    457,    455.8,   8.9235,  34.0942,2,  34.0999,2,    157.7,2,  8.8741,    157.4,3,    27.36,2,    21.63,2,     1.58,2,  -999.0,-999.000
     33KB143_1,  PRS2,     2,  2,     13,     13,2,20021218,1754, 22.7500,-157.9968, 4744,    513,    513.6,   7.2380,  34.0374,2,  34.0386,2,    133.5,2,  7.1886,    133.7,3,    43.10,2,    27.55,2,     1.98,2,  -999.0,-999.000
     33KB143_1,  PRS2,     2,  2,     12,     12,2,20021218,1754, 22.7500,-157.9968, 4744,    550,    550.2,   6.5304,  34.0503,2,  34.0443,2,    105.7,2,  6.4803,    100.0,3,    53.75,2,    31.94,2,     2.31,2,  -999.0,-999.000
     33KB143_1,  PRS2,     2,  2,     11,     39,2,20021218,1754, 22.7500,-157.9968, 4744,    599,    599.4,   5.8301,  34.0789,2,  34.0756,2,     70.5,2,  5.7785,     68.7,3,    65.86,2,    35.59,2,     2.58,2,  -999.0,-999.000
     33KB143_1,  PRS2,     2,  2,     10,     32,2,20021218,1754, 22.7500,-157.9968, 4744,    639,    637.6,   5.3831,  34.1319,2,  34.1507,4,     46.6,3,  5.3301,     47.3,3,    74.33,2,    38.18,2,     2.81,2,  -999.0,-999.000
     33KB143_1,  PRS2,     2,  2,      9,      3,2,20021218,1754, 22.7500,-157.9968, 4744,    694,    695.5,   5.1196,  34.2315,2,  34.2677,4,     27.1,3,  5.0629,     31.5,3,    69.24,4,    38.67,2,     2.86,2,  -999.0,-999.000
     33KB143_1,  PRS2,     2,  2,      8,     29,2,20021218,1754, 22.7500,-157.9968, 4744,    762,    761.7,   4.8125,  34.3178,2,  34.3158,2,     24.1,2,  4.7517,     23.5,3,    73.12,4,    41.32,2,     3.05,2,  -999.0,-999.000
     33KB143_1,  PRS2,     2,  2,      7,     28,2,20021218,1754, 22.7500,-157.9968, 4744,    794,    795.6,   4.6988,  34.3587,2,  34.3572,2,     24.8,2,  4.6358,     22.7,3,    69.49,4,    41.74,2,     3.06,2,  -999.0,-999.000
     33KB143_1,  PRS2,     2,  2,      6,      7,2,20021218,1754, 22.7500,-157.9968, 4744,    832,    830.1,   4.5027,  34.4019,2,  34.4016,2,     29.6,2,  4.4379,     29.0,3,    97.34,2,    41.70,2,     3.08,2,  -999.0,-999.000
     33KB143_1,  PRS2,     2,  2,      5,     38,2,20021218,1754, 22.7500,-157.9968, 4744,    868,    868.1,   4.4134,  34.4250,2,  34.4233,2,     32.4,2,  4.3459,     30.8,3,    87.42,4,    41.74,2,     3.06,2,  -999.0,-999.000
     33KB143_1,  PRS2,     2,  2,      4,     36,2,20021218,1754, 22.7500,-157.9968, 4744,    907,    908.5,   4.2668,  34.4450,2,  34.4453,2,     36.1,2,  4.1969,     34.0,3,    67.80,4,    41.70,2,     3.04,2,  -999.0,-999.000
     33KB143_1,  PRS2,     2,  2,      3,     35,2,20021218,1754, 22.7500,-157.9968, 4744,    947,    947.5,   4.1946,  34.4568,2,  34.4616,2,     38.0,2,  4.1219,     36.3,3,    71.92,4,    41.67,2,     3.03,2,  -999.0,-999.000
     33KB143_1,  PRS2,     2,  2,      2,     34,2,20021218,1754, 22.7500,-157.9968, 4744,    988,    986.7,   4.0252,  34.4700,2,  34.4695,2,     41.1,2,  3.9505,     39.4,3,    57.87,4,    41.78,2,     3.00,2,  -999.0,-999.000
     33KB143_1,  PRS2,     2,  2,      1,     33,2,20021218,1754, 22.7500,-157.9968, 4744,   1022,   1021.9,   3.9127,  34.4838,2,  34.4838,2,     43.1,2,  3.8359,     42.2,3,    74.11,4,    41.68,2,     3.01,2,  -999.0,-999.000