BOTTLE,20090923WHPSIOMYS
EXPOCODE,SECT_ID,STNNBR,CASTNO,SAMPNO,BTLNBR,BTLNBR_FLAG_W,DATE,TIME,LATITUDE,LONGITUDE,DEPTH,CTDRAW,CTDPRS,CTDTMP,CTDSAL,CTDSAL_FLAG_W,SALNTY,SALNTY_FLAG_W,CTDOXY,CTDOXY_FLAG_W,THETA,OXYGEN,OXYGEN_FLAG_W,SILCAT,SILCAT_FLAG_W,NO2+NO3,NO2+NO3_FLAG_W,PHSPHT,PHSPHT_FLAG_W,REVPRS,REVTMP
,,,,,,,,,,,,,DBAR,ITS-90,PSS-78,,PSS-78,,UMOL/KG,,ITS-90,UMOL/KG,,UMOL/KG,,UMOL/KG,,UMOL/KG,,DBAR,DEG C
     33KB143_1,  PRS2,     2, 14,     11,     39,2,20021220,0858, 22.7475,-157.9970, 4744,      9,      9.6,  24.6308,  35.2888,2,  35.2881,2,    172.3,2, 24.6287,    206.9,3,  -999.00,9,  -999.00,9,  -999.00,9,  -999.0,-999.000
     33KB143_1,  PRS2,     2, 14,     10,     32,2,20021220,0858, 22.7475,-157.9970, 4744,     83,     85.0,  24.2577,  35.3508,2,  35.3455,2,    173.5,2, 24.2397,    207.7,3,  -999.00,9,  -999.00,9,  -999.00,9,  -999.0,-999.000
     33KB143_1,  PRS2,     2, 14,      9,      3,2,20021220,0858, 22.7475,-157.9970, 4744,    353,    351.8,  11.3219,  34.2350,2,  34.2348,2,    196.2,2, 11.2778,    213.0,3,  -999.00,9,  -999.00,9,  -999.00,9,  -999.0,-999.000
     33KB143_1,  PRS2,     2, 14,      8,     29,2,20021220,0858, 22.7475,-157.9970, 4744,    405,    404.5,   9.7251,  34.1210,2,  34.1228,2,    162.5,2,  9.6790,    172.7,3,  -999.00,9,  -999.00,9,  -999.00,9,  -999.0,-999.000
     33KB143_1,  PRS2,     2, 14,      7,     28,2,20021220,0858, 22.7475,-157.9970, 4744,    524,    523.7,   7.2107,  34.0458,2,  34.0447,2,    113.6,2,  7.1605,    121.6,3,  -999.00,9,  -999.00,9,  -999.00,9,  -999.0,-999.000
     33KB143_1,  PRS2,     2, 14,      6,      7,2,20021220,0858, 22.7475,-157.9970, 4744,    806,    804.5,   4.7027,  34.3538,2,  34.3515,2,     22.7,2,  4.6389,     24.3,3,  -999.00,9,  -999.00,9,  -999.00,9,  -999.0,-999.000
     33KB143_1,  PRS2,     2, 14,      5,     38,2,20021220,0858, 22.7475,-157.9970, 4744,   1000,   1000.3,   4.0507,  34.4706,2,  34.4697,2,     38.9,2,  3.9747,     40.6,3,  -999.00,9,  -999.00,9,  -999.00,9,  -999.0,-999.000
     33KB143_1,  PRS2,     2, 14,      4,     36,2,20021220,0858, 22.7475,-157.9970, 4744,   1999,   1999.8,   2.0785,  34.6245,2,  34.6238,2,     87.4,2,  1.9409,     91.7,3,  -999.00,9,  -999.00,9,  -999.00,9,  -999.0,-999.000
     33KB143_1,  PRS2,     2, 14,      3,     35,2,20021220,0858, 22.7475,-157.9970, 4744,   2998,   2997.4,   1.5611,  34.6684,2,  34.6679,2,    118.5,2,  1.3433,    123.0,3,  -999.00,9,  -999.00,9,  -999.00,9,  -999.0,-999.000
     33KB143_1,  PRS2,     2, 14,      2,     34,2,20021220,0858, 22.7475,-157.9970, 4744,   4000,   4001.7,   1.4597,  34.6858,2,  34.6867,2,    143.3,2,  1.1418,    147.3,3,  -999.00,9,  -999.00,9,  -999.00,9,  -999.0,-999.000
     33KB143_1,  PRS2,     2, 14,      1,     33,2,20021220,0858, 22.7475,-157.9970, 4744,   4796,   4797.3,   1.5191,  34.6884,2,  34.6885,2,    149.5,2,  1.1087,   -999.0,5,  -999.00,9,  -999.00,9,  -999.00,9,  -999.0,-999.000
     33KB143_1,  PRS2,     6,  1,     13,     13,2,20021221,0550, 21.8443,-157.3638, 2417,      7,      6.1,  25.0623,  35.2241,2,  35.2231,2,    170.9,1, 25.0610,   -999.0,9,  -999.00,9,  -999.00,9,  -999.00,9,  -999.0,-999.000
     33KB143_1,  PRS2,     6,  1,     12,     12,2,20021221,0550, 21.8443,-157.3638, 2417,     24,     24.4,  24.8252,  35.2197,2,  35.2180,2,    171.9,1, 24.8199,   -999.0,9,  -999.00,9,  -999.00,9,  -999.00,9,  -999.0,-999.000
     33KB143_1,  PRS2,     6,  1,     11,     39,2,20021221,0550, 21.8443,-157.3638, 2417,     47,     45.1,  24.7311,  35.2275,2,  35.2264,2,    172.2,1, 24.7214,   -999.0,9,  -999.00,9,  -999.00,9,  -999.00,9,  -999.0,-999.000
     33KB143_1,  PRS2,     6,  1,     10,     32,2,20021221,0550, 21.8443,-157.3638, 2417,     76,     75.6,  23.3739,  35.2428,2,  35.2412,2,    176.4,1, 23.3583,   -999.0,9,  -999.00,9,  -999.00,9,  -999.00,9,  -999.0,-999.000
     33KB143_1,  PRS2,     6,  1,      9,      3,2,20021221,0550, 21.8443,-157.3638, 2417,    102,    100.6,  22.0397,  35.2777,2,  35.2761,2,    175.5,1, 22.0198,   -999.0,9,  -999.00,9,  -999.00,9,  -999.00,9,  -999.0,-999.000
     33KB143_1,  PRS2,     6,  1,      8,     29,2,20021221,0550, 21.8443,-157.3638, 2417,    125,    125.3,  21.1314,  35.2460,2,  35.2479,2,    173.5,1, 21.1073,   -999.0,9,  -999.00,9,  -999.00,9,  -999.00,9,  -999.0,-999.000
     33KB143_1,  PRS2,     6,  1,      7,     28,2,20021221,0550, 21.8443,-157.3638, 2417,    149,    148.9,  20.3198,  35.2020,2,  35.2020,2,    174.0,1, 20.2919,   -999.0,9,  -999.00,9,  -999.00,9,  -999.00,9,  -999.0,-999.000
     33KB143_1,  PRS2,     6,  1,      6,      7,2,20021221,0550, 21.8443,-157.3638, 2417,    175,    174.1,  19.6527,  35.1326,2,  35.1323,2,    174.6,1, 19.6208,   -999.0,9,  -999.00,9,  -999.00,9,  -999.00,9,  -999.0,-999.000
     33KB143_1,  PRS2,     6,  1,      5,     38,2,20021221,0550, 21.8443,-157.3638, 2417,    503,    502.6,   7.4884,  34.0648,2,  34.0642,2,    113.9,1,  7.4392,   -999.0,9,  -999.00,9,  -999.00,9,  -999.00,9,  -999.0,-999.000
     33KB143_1,  PRS2,     6,  1,      4,     36,2,20021221,0550, 21.8443,-157.3638, 2417,   1000,    999.5,   4.0049,  34.4923,2,  34.4913,2,     46.0,1,  3.9293,   -999.0,9,  -999.00,9,  -999.00,9,  -999.00,9,  -999.0,-999.000
     33KB143_1,  PRS2,     6,  1,      3,     35,2,20021221,0550, 21.8443,-157.3638, 2417,   1502,   1501.5,   2.7832,  34.5798,2,  34.5791,2,     64.7,1,  2.6778,   -999.0,9,  -999.00,9,  -999.00,9,  -999.00,9,  -999.0,-999.000
     33KB143_1,  PRS2,     6,  1,      2,     34,2,20021221,0550, 21.8443,-157.3638, 2417,   2000,   2000.2,   2.1149,  34.6228,2,  34.6219,2,     86.7,1,  1.9767,   -999.0,9,  -999.00,9,  -999.00,9,  -999.00,9,  -999.0,-999.000
     33KB143_1,  PRS2,     6,  1,      1,     33,2,20021221,0550, 21.8443,-157.3638, 2417,   2421,   2423.9,   1.7941,  34.6478,2,  34.6472,2,    103.1,1,  1.6245,   -999.0,9,  -999.00,9,  -999.00,9,  -999.00,9,  -999.0,-999.000