BOTTLE,20090923WHPSIOMYS
EXPOCODE,SECT_ID,STNNBR,CASTNO,SAMPNO,BTLNBR,BTLNBR_FLAG_W,DATE,TIME,LATITUDE,LONGITUDE,DEPTH,CTDRAW,CTDPRS,CTDTMP,CTDSAL,CTDSAL_FLAG_W,SALNTY,SALNTY_FLAG_W,CTDOXY,CTDOXY_FLAG_W,THETA,OXYGEN,OXYGEN_FLAG_W,SILCAT,SILCAT_FLAG_W,NO2+NO3,NO2+NO3_FLAG_W,PHSPHT,PHSPHT_FLAG_W,REVPRS,REVTMP
,,,,,,,,,,,,,DBAR,ITS-90,PSS-78,,PSS-78,,UMOL/KG,,ITS-90,UMOL/KG,,UMOL/KG,,UMOL/KG,,UMOL/KG,,DBAR,DEG C
     33KB143_1,  PRS2,     2,  8,     23,     30,2,20021219,1157, 22.7400,-158.0020, 4746,      2,      3.5,  24.5120,  35.3010,2,  35.3011,2,    172.9,1, 24.5113,   -999.0,9,  -999.00,9,  -999.00,9,  -999.00,9,  -999.0,-999.000
     33KB143_1,  PRS2,     2,  8,     22,     22,2,20021219,1157, 22.7400,-158.0020, 4746,      3,      3.5,  24.5128,  35.3002,2,  35.3021,2,    172.9,1, 24.5121,   -999.0,9,  -999.00,9,  -999.00,9,  -999.00,9,  -999.0,-999.000
     33KB143_1,  PRS2,     2,  8,     24,     31,2,20021219,1157, 22.7400,-158.0020, 4746,      4,      3.6,  24.5117,  35.3012,2,  35.3060,2,    172.9,1, 24.5109,   -999.0,9,  -999.00,9,  -999.00,9,  -999.00,9,  -999.0,-999.000
     33KB143_1,  PRS2,     2,  8,     17,     17,2,20021219,1157, 22.7400,-158.0020, 4746,     25,     25.0,  24.5151,  35.3053,2,  35.3033,2,    172.7,1, 24.5098,   -999.0,9,  -999.00,9,  -999.00,9,  -999.00,9,  -999.0,-999.000
     33KB143_1,  PRS2,     2,  8,     19,     19,2,20021219,1157, 22.7400,-158.0020, 4746,     25,     25.1,  24.5175,  35.3040,2,  35.3027,2,    172.9,1, 24.5121,   -999.0,9,  -999.00,9,  -999.00,9,  -999.00,9,  -999.0,-999.000
     33KB143_1,  PRS2,     2,  8,     18,     18,2,20021219,1157, 22.7400,-158.0020, 4746,     25,     25.1,  24.5167,  35.3045,2,  35.3051,2,    172.8,1, 24.5113,   -999.0,9,  -999.00,9,  -999.00,9,  -999.00,9,  -999.0,-999.000
     33KB143_1,  PRS2,     2,  8,     21,     21,2,20021219,1157, 22.7400,-158.0020, 4746,     26,     25.2,  24.5123,  35.3073,2,  35.3060,2,    172.9,1, 24.5069,   -999.0,9,  -999.00,9,  -999.00,9,  -999.00,9,  -999.0,-999.000
     33KB143_1,  PRS2,     2,  8,     20,     20,2,20021219,1157, 22.7400,-158.0020, 4746,     26,     25.2,  24.5127,  35.3073,2,  35.3047,2,    172.9,1, 24.5074,   -999.0,9,  -999.00,9,  -999.00,9,  -999.00,9,  -999.0,-999.000
     33KB143_1,  PRS2,     2,  8,     15,     23,2,20021219,1157, 22.7400,-158.0020, 4746,     46,     45.5,  24.3673,  35.3342,2,  35.3340,2,    173.6,1, 24.3576,   -999.0,9,  -999.00,9,  -999.00,9,  -999.00,9,  -999.0,-999.000
     33KB143_1,  PRS2,     2,  8,     14,     40,2,20021219,1157, 22.7400,-158.0020, 4746,     46,     45.5,  24.3636,  35.3336,2,  35.3372,2,    173.6,1, 24.3539,   -999.0,9,  -999.00,9,  -999.00,9,  -999.00,9,  -999.0,-999.000
     33KB143_1,  PRS2,     2,  8,     16,     16,2,20021219,1157, 22.7400,-158.0020, 4746,     46,     45.6,  24.3725,  35.3358,2,  35.3354,2,    173.6,1, 24.3628,   -999.0,9,  -999.00,9,  -999.00,9,  -999.00,9,  -999.0,-999.000
     33KB143_1,  PRS2,     2,  8,     11,     39,2,20021219,1157, 22.7400,-158.0020, 4746,     75,     75.7,  24.2057,  35.3372,2,  35.3360,2,    173.9,1, 24.1896,   -999.0,9,  -999.00,9,  -999.00,9,  -999.00,9,  -999.0,-999.000
     33KB143_1,  PRS2,     2,  8,     12,     12,2,20021219,1157, 22.7400,-158.0020, 4746,     76,     75.8,  24.2053,  35.3373,2,  35.3364,2,    173.9,1, 24.1892,   -999.0,9,  -999.00,9,  -999.00,9,  -999.00,9,  -999.0,-999.000
     33KB143_1,  PRS2,     2,  8,     13,     13,2,20021219,1157, 22.7400,-158.0020, 4746,     76,     76.0,  24.2062,  35.3377,2,  35.3360,2,    173.9,1, 24.1901,   -999.0,9,  -999.00,9,  -999.00,9,  -999.00,9,  -999.0,-999.000
     33KB143_1,  PRS2,     2,  8,      8,     29,2,20021219,1157, 22.7400,-158.0020, 4746,     98,     99.1,  23.3442,  35.3666,2,  35.4003,3,    177.8,1, 23.3237,   -999.0,9,  -999.00,9,  -999.00,9,  -999.00,9,  -999.0,-999.000
     33KB143_1,  PRS2,     2,  8,      9,      3,2,20021219,1157, 22.7400,-158.0020, 4746,    100,     99.4,  23.2960,  35.3613,2,  35.3733,2,    177.7,1, 23.2755,   -999.0,9,  -999.00,9,  -999.00,9,  -999.00,9,  -999.0,-999.000
     33KB143_1,  PRS2,     2,  8,     10,     32,2,20021219,1157, 22.7400,-158.0020, 4746,    100,    100.0,  23.3007,  35.3646,2,  35.3796,3,    177.6,1, 23.2800,   -999.0,9,  -999.00,9,  -999.00,9,  -999.00,9,  -999.0,-999.000
     33KB143_1,  PRS2,     2,  8,      7,     28,2,20021219,1157, 22.7400,-158.0020, 4746,    127,    125.2,  21.3823,  35.2614,2,  35.2710,2,    173.7,1, 21.3580,   -999.0,9,  -999.00,9,  -999.00,9,  -999.00,9,  -999.0,-999.000
     33KB143_1,  PRS2,     2,  8,      6,      7,2,20021219,1157, 22.7400,-158.0020, 4746,    125,    125.2,  21.3963,  35.2613,2,  35.2656,2,    173.7,1, 21.3720,   -999.0,9,  -999.00,9,  -999.00,9,  -999.00,9,  -999.0,-999.000
     33KB143_1,  PRS2,     2,  8,      5,     38,2,20021219,1157, 22.7400,-158.0020, 4746,    125,    125.3,  21.3982,  35.2616,2,  35.2765,3,    173.8,1, 21.3739,   -999.0,9,  -999.00,9,  -999.00,9,  -999.00,9,  -999.0,-999.000
     33KB143_1,  PRS2,     2,  8,      4,     36,2,20021219,1157, 22.7400,-158.0020, 4746,    153,    151.5,  20.3345,  35.1815,2,  35.1833,2,    173.0,1, 20.3061,   -999.0,9,  -999.00,9,  -999.00,9,  -999.00,9,  -999.0,-999.000
     33KB143_1,  PRS2,     2,  8,      3,     35,2,20021219,1157, 22.7400,-158.0020, 4746,    173,    173.2,  19.4713,  35.1083,2,  35.1339,4,    174.6,1, 19.4399,   -999.0,9,  -999.00,9,  -999.00,9,  -999.00,9,  -999.0,-999.000
     33KB143_1,  PRS2,     2,  8,      2,     34,2,20021219,1157, 22.7400,-158.0020, 4746,    499,    499.0,   7.5966,  34.0444,2,  34.0452,2,    138.0,1,  7.5473,   -999.0,9,  -999.00,9,  -999.00,9,  -999.00,9,  -999.0,-999.000
     33KB143_1,  PRS2,     2,  8,      1,     33,2,20021219,1157, 22.7400,-158.0020, 4746,   1023,   1021.3,   3.9371,  34.4809,2,  34.4815,2,     40.4,1,  3.8602,   -999.0,9,  -999.00,9,  -999.00,9,  -999.00,9,  -999.0,-999.000
     33KB143_1,  PRS2,     2,  9,      4,     36,2,20021219,1454, 22.7418,-158.0008, 4741,     11,     10.2,  24.4920,  35.3025,2,  35.3011,2,    172.9,1, 24.4898,   -999.0,9,  -999.00,9,  -999.00,9,  -999.00,9,  -999.0,-999.000
     33KB143_1,  PRS2,     2,  9,      3,     35,2,20021219,1454, 22.7418,-158.0008, 4741,     75,     74.4,  24.2335,  35.3235,2,  35.3273,2,    173.9,1, 24.2177,   -999.0,9,  -999.00,9,  -999.00,9,  -999.00,9,  -999.0,-999.000
     33KB143_1,  PRS2,     2,  9,      2,     34,2,20021219,1454, 22.7418,-158.0008, 4741,    539,    539.5,   7.2908,  34.0381,2,  34.0384,2,    125.9,1,  7.2387,   -999.0,9,  -999.00,9,  -999.00,9,  -999.00,9,  -999.0,-999.000
     33KB143_1,  PRS2,     2,  9,      1,     33,2,20021219,1454, 22.7418,-158.0008, 4741,   1026,   1023.5,   3.9428,  34.4809,2,  34.4793,2,     40.3,1,  3.8657,   -999.0,9,  -999.00,9,  -999.00,9,  -999.00,9,  -999.0,-999.000
     33KB143_1,  PRS2,     2, 10,     16,     16,2,20021219,1752, 22.7333,-157.9832, 4742,     10,      9.5,  24.3115,  35.3539,2,  35.3541,2,    173.9,1, 24.3094,   -999.0,9,  -999.00,9,  -999.00,9,  -999.00,9,  -999.0,-999.000
     33KB143_1,  PRS2,     2, 10,     12,     12,3,20021219,1752, 22.7333,-157.9832, 4742,     24,     23.8,  24.3097,  35.3570,2,  35.3567,2,    173.8,1, 24.3046,   -999.0,9,  -999.00,9,  -999.00,9,  -999.00,9,  -999.0,-999.000
     33KB143_1,  PRS2,     2, 10,     13,     13,3,20021219,1752, 22.7333,-157.9832, 4742,     24,     24.0,  24.3068,  35.3580,2,  35.3563,2,    173.8,1, 24.3017,   -999.0,9,  -999.00,9,  -999.00,9,  -999.00,9,  -999.0,-999.000
     33KB143_1,  PRS2,     2, 10,     15,     23,2,20021219,1752, 22.7333,-157.9832, 4742,     25,     24.1,  24.3058,  35.3580,2,  35.3585,2,    173.9,1, 24.3007,   -999.0,9,  -999.00,9,  -999.00,9,  -999.00,9,  -999.0,-999.000
     33KB143_1,  PRS2,     2, 10,     14,     40,2,20021219,1752, 22.7333,-157.9832, 4742,     24,     24.1,  24.3061,  35.3580,2,  35.3573,2,    173.9,1, 24.3010,   -999.0,9,  -999.00,9,  -999.00,9,  -999.00,9,  -999.0,-999.000
     33KB143_1,  PRS2,     2, 10,     11,     39,2,20021219,1752, 22.7333,-157.9832, 4742,     47,     45.3,  24.3069,  35.3588,2,  35.3573,2,    174.1,1, 24.2973,   -999.0,9,  -999.00,9,  -999.00,9,  -999.00,9,  -999.0,-999.000
     33KB143_1,  PRS2,     2, 10,     10,     32,3,20021219,1752, 22.7333,-157.9832, 4742,     76,     74.1,  24.3029,  35.3599,2,  35.3587,2,    174.1,1, 24.2871,   -999.0,9,  -999.00,9,  -999.00,9,  -999.00,9,  -999.0,-999.000
     33KB143_1,  PRS2,     2, 10,      6,      7,2,20021219,1752, 22.7333,-157.9832, 4742,    102,    101.7,  23.2212,  35.3698,2,  35.3802,2,    178.1,1, 23.2003,   -999.0,9,  -999.00,9,  -999.00,9,  -999.00,9,  -999.0,-999.000
     33KB143_1,  PRS2,     2, 10,      7,     28,2,20021219,1752, 22.7333,-157.9832, 4742,    102,    101.8,  23.1457,  35.3625,2,  35.3721,2,    178.0,1, 23.1248,   -999.0,9,  -999.00,9,  -999.00,9,  -999.00,9,  -999.0,-999.000
     33KB143_1,  PRS2,     2, 10,      9,      3,3,20021219,1752, 22.7333,-157.9832, 4742,    102,    102.0,  23.1181,  35.3598,2,  35.3622,2,    178.1,1, 23.0972,   -999.0,9,  -999.00,9,  -999.00,9,  -999.00,9,  -999.0,-999.000
     33KB143_1,  PRS2,     2, 10,      8,     29,2,20021219,1752, 22.7333,-157.9832, 4742,    103,    102.1,  23.1247,  35.3595,2,  35.3646,2,    178.1,1, 23.1038,   -999.0,9,  -999.00,9,  -999.00,9,  -999.00,9,  -999.0,-999.000
     33KB143_1,  PRS2,     2, 10,      5,     38,3,20021219,1752, 22.7333,-157.9832, 4742,    125,    125.8,  21.6630,  35.2861,2,-999.0000,5,    173.8,1, 21.6384,   -999.0,9,  -999.00,9,  -999.00,9,  -999.00,9,  -999.0,-999.000
     33KB143_1,  PRS2,     2, 10,      4,     36,2,20021219,1752, 22.7333,-157.9832, 4742,    150,    149.6,  20.3371,  35.1810,2,  35.1811,2,    171.7,1, 20.3091,   -999.0,9,  -999.00,9,  -999.00,9,  -999.00,9,  -999.0,-999.000
     33KB143_1,  PRS2,     2, 10,      3,     35,2,20021219,1752, 22.7333,-157.9832, 4742,    178,    177.4,  19.3059,  35.0762,2,  35.0825,2,    174.9,1, 19.2739,   -999.0,9,  -999.00,9,  -999.00,9,  -999.00,9,  -999.0,-999.000
     33KB143_1,  PRS2,     2, 10,      2,     34,2,20021219,1752, 22.7333,-157.9832, 4742,    539,    538.7,   6.8467,  34.0404,2,  34.0390,2,    104.8,1,  6.7964,   -999.0,9,  -999.00,9,  -999.00,9,  -999.00,9,  -999.0,-999.000
     33KB143_1,  PRS2,     2, 10,      1,     33,2,20021219,1752, 22.7333,-157.9832, 4742,   1023,   1021.9,   3.8898,  34.4900,2,  34.4891,2,     42.3,1,  3.8132,   -999.0,9,  -999.00,9,  -999.00,9,  -999.00,9,  -999.0,-999.000
     33KB143_1,  PRS2,     2, 11,      6,      7,3,20021219,2055, 22.7110,-157.9865, 4744,     10,     10.4,  24.3532,  35.3554,2,  35.3541,2,    173.5,1, 24.3510,   -999.0,9,  -999.00,9,  -999.00,9,  -999.00,9,  -999.0,-999.000
     33KB143_1,  PRS2,     2, 11,      5,     38,3,20021219,2055, 22.7110,-157.9865, 4744,     92,     90.0,  24.2157,  35.3626,2,  35.3612,2,    173.5,1, 24.1966,   -999.0,9,  -999.00,9,  -999.00,9,  -999.00,9,  -999.0,-999.000
     33KB143_1,  PRS2,     2, 11,      3,     35,2,20021219,2055, 22.7110,-157.9865, 4744,    354,    354.2,  11.1005,  34.2263,2,-999.0000,5,    196.5,1, 11.0567,   -999.0,9,  -999.00,9,  -999.00,9,  -999.00,9,  -999.0,-999.000
     33KB143_1,  PRS2,     2, 11,      4,     36,2,20021219,2055, 22.7110,-157.9865, 4744,    354,    354.6,  11.0984,  34.2268,2,-999.0000,5,    196.4,1, 11.0545,   -999.0,9,  -999.00,9,  -999.00,9,  -999.00,9,  -999.0,-999.000
     33KB143_1,  PRS2,     2, 11,      2,     34,2,20021219,2055, 22.7110,-157.9865, 4744,    523,    521.0,   6.8533,  34.0390,2,  34.0400,2,    106.6,1,  6.8047,   -999.0,9,  -999.00,9,  -999.00,9,  -999.00,9,  -999.0,-999.000
     33KB143_1,  PRS2,     2, 11,      1,     33,2,20021219,2055, 22.7110,-157.9865, 4744,   1025,   1025.8,   4.0256,  34.4783,2,  34.4779,2,     39.7,1,  3.9477,   -999.0,9,  -999.00,9,  -999.00,9,  -999.00,9,  -999.0,-999.000
     33KB143_1,  PRS2,     2, 12,     17,     17,2,20021220,0322, 22.6693,-158.0073, 4753,      5,      5.5,  24.6638,  35.2802,2,  35.2798,2,    172.2,1, 24.6626,   -999.0,9,  -999.00,9,  -999.00,9,  -999.00,9,  -999.0,-999.000
     33KB143_1,  PRS2,     2, 12,     13,     13,2,20021220,0322, 22.6693,-158.0073, 4753,     24,     25.1,  24.5986,  35.2793,2,  35.2785,2,    172.5,1, 24.5932,   -999.0,9,  -999.00,9,  -999.00,9,  -999.00,9,  -999.0,-999.000
     33KB143_1,  PRS2,     2, 12,     14,     40,2,20021220,0322, 22.6693,-158.0073, 4753,     26,     25.4,  24.5979,  35.2797,2,  35.2785,2,    172.4,1, 24.5925,   -999.0,9,  -999.00,9,  -999.00,9,  -999.00,9,  -999.0,-999.000
     33KB143_1,  PRS2,     2, 12,     16,     16,2,20021220,0322, 22.6693,-158.0073, 4753,     27,     25.5,  24.5975,  35.2802,2,  35.2794,2,    172.5,1, 24.5920,   -999.0,9,  -999.00,9,  -999.00,9,  -999.00,9,  -999.0,-999.000
     33KB143_1,  PRS2,     2, 12,     15,     23,2,20021220,0322, 22.6693,-158.0073, 4753,     26,     25.5,  24.5977,  35.2797,2,  35.2798,2,    172.4,1, 24.5922,   -999.0,9,  -999.00,9,  -999.00,9,  -999.00,9,  -999.0,-999.000
     33KB143_1,  PRS2,     2, 12,     12,     12,2,20021220,0322, 22.6693,-158.0073, 4753,     47,     47.7,  24.3640,  35.3418,2,  35.3376,2,    173.7,1, 24.3538,   -999.0,9,  -999.00,9,  -999.00,9,  -999.00,9,  -999.0,-999.000
     33KB143_1,  PRS2,     2, 12,     11,     39,2,20021220,0322, 22.6693,-158.0073, 4753,     76,     74.9,  24.3268,  35.3596,2,  35.3575,2,    173.8,1, 24.3109,   -999.0,9,  -999.00,9,  -999.00,9,  -999.00,9,  -999.0,-999.000
     33KB143_1,  PRS2,     2, 12,     10,     32,2,20021220,0322, 22.6693,-158.0073, 4753,     97,     96.7,  24.2413,  35.3557,2,  35.3557,2,    174.0,1, 24.2208,   -999.0,9,  -999.00,9,  -999.00,9,  -999.00,9,  -999.0,-999.000
     33KB143_1,  PRS2,     2, 12,      9,      3,2,20021220,0322, 22.6693,-158.0073, 4753,     96,     96.7,  24.2022,  35.3576,2,  35.3565,2,    174.1,1, 24.1817,   -999.0,9,  -999.00,9,  -999.00,9,  -999.00,9,  -999.0,-999.000
     33KB143_1,  PRS2,     2, 12,      8,     29,2,20021220,0322, 22.6693,-158.0073, 4753,     96,     97.2,  24.1330,  35.3620,2,  35.3561,2,    174.4,1, 24.1124,   -999.0,9,  -999.00,9,  -999.00,9,  -999.00,9,  -999.0,-999.000
     33KB143_1,  PRS2,     2, 12,      7,     28,2,20021220,0322, 22.6693,-158.0073, 4753,     96,     98.1,  24.0984,  35.3667,2,  35.3595,2,    174.0,1, 24.0777,   -999.0,9,  -999.00,9,  -999.00,9,  -999.00,9,  -999.0,-999.000
     33KB143_1,  PRS2,     2, 12,      6,      7,2,20021220,0322, 22.6693,-158.0073, 4753,    123,    124.6,  22.0808,  35.3041,2,  35.3035,2,    176.8,1, 22.0560,   -999.0,9,  -999.00,9,  -999.00,9,  -999.00,9,  -999.0,-999.000
     33KB143_1,  PRS2,     2, 12,      5,     38,2,20021220,0322, 22.6693,-158.0073, 4753,    154,    151.7,  20.9891,  35.2473,2,  35.2489,2,    170.5,1, 20.9601,   -999.0,9,  -999.00,9,  -999.00,9,  -999.00,9,  -999.0,-999.000
     33KB143_1,  PRS2,     2, 12,      4,     36,2,20021220,0322, 22.6693,-158.0073, 4753,    249,    249.5,  16.9818,  34.7408,2,  34.7317,2,    177.6,1, 16.9407,   -999.0,9,  -999.00,9,  -999.00,9,  -999.00,9,  -999.0,-999.000
     33KB143_1,  PRS2,     2, 12,      3,     35,2,20021220,0322, 22.6693,-158.0073, 4753,    354,    351.6,  12.1697,  34.2940,2,  34.2974,2,    198.4,1, 12.1234,   -999.0,9,  -999.00,9,  -999.00,9,  -999.00,9,  -999.0,-999.000
     33KB143_1,  PRS2,     2, 12,      2,     34,2,20021220,0322, 22.6693,-158.0073, 4753,    520,    518.6,   6.9210,  34.0325,2,  34.0319,2,    117.0,1,  6.8724,   -999.0,9,  -999.00,9,  -999.00,9,  -999.00,9,  -999.0,-999.000
     33KB143_1,  PRS2,     2, 12,      1,     33,2,20021220,0322, 22.6693,-158.0073, 4753,   1022,   1021.4,   4.0022,  34.4821,2,  34.4834,2,     40.4,1,  3.9247,   -999.0,9,  -999.00,9,  -999.00,9,  -999.00,9,  -999.0,-999.000
     33KB143_1,  PRS2,     2, 13,     14,     40,3,20021220,0553, 22.7488,-157.9997, 4739,      7,      6.1,  24.6486,  35.2836,2,  35.2832,2,    172.9,1, 24.6473,   -999.0,9,  -999.00,9,  -999.00,9,  -999.00,9,  -999.0,-999.000
     33KB143_1,  PRS2,     2, 13,     13,     13,2,20021220,0553, 22.7488,-157.9997, 4739,     26,     25.1,  24.5414,  35.2924,2,  35.2901,2,    173.0,1, 24.5361,   -999.0,9,  -999.00,9,  -999.00,9,  -999.00,9,  -999.0,-999.000
     33KB143_1,  PRS2,     2, 13,     12,     12,3,20021220,0553, 22.7488,-157.9997, 4739,     46,     45.0,  24.3873,  35.3459,2,  35.3478,2,    173.9,1, 24.3777,   -999.0,9,  -999.00,9,  -999.00,9,  -999.00,9,  -999.0,-999.000
     33KB143_1,  PRS2,     2, 13,     11,     39,3,20021220,0553, 22.7488,-157.9997, 4739,     60,     59.3,  24.3144,  35.3465,2,  35.3439,2,    173.9,1, 24.3018,   -999.0,9,  -999.00,9,  -999.00,9,  -999.00,9,  -999.0,-999.000
     33KB143_1,  PRS2,     2, 13,     10,     32,3,20021220,0553, 22.7488,-157.9997, 4739,     76,     75.5,  24.2189,  35.4054,2,  35.4024,2,    173.0,1, 24.2029,   -999.0,9,  -999.00,9,  -999.00,9,  -999.00,9,  -999.0,-999.000
     33KB143_1,  PRS2,     2, 13,      9,      3,3,20021220,0553, 22.7488,-157.9997, 4739,     87,     85.0,  23.8544,  35.3902,2,  35.3833,2,    175.5,1, 23.8366,   -999.0,9,  -999.00,9,  -999.00,9,  -999.00,9,  -999.0,-999.000
     33KB143_1,  PRS2,     2, 13,      8,     29,3,20021220,0553, 22.7488,-157.9997, 4739,    103,    102.2,  22.4223,  35.2997,2,  35.2974,2,    177.8,1, 22.4018,   -999.0,9,  -999.00,9,  -999.00,9,  -999.00,9,  -999.0,-999.000
     33KB143_1,  PRS2,     2, 13,      7,     28,2,20021220,0553, 22.7488,-157.9997, 4739,    116,    115.2,  21.8347,  35.3025,2,  35.3041,2,    175.4,1, 21.8120,   -999.0,9,  -999.00,9,  -999.00,9,  -999.00,9,  -999.0,-999.000
     33KB143_1,  PRS2,     2, 13,      6,      7,2,20021220,0553, 22.7488,-157.9997, 4739,    125,    125.4,  21.6202,  35.2907,2,  35.2991,2,    175.0,1, 21.5957,   -999.0,9,  -999.00,9,  -999.00,9,  -999.00,9,  -999.0,-999.000
     33KB143_1,  PRS2,     2, 13,      5,     38,2,20021220,0553, 22.7488,-157.9997, 4739,    136,    136.0,  21.1106,  35.2628,2,  35.2619,2,    171.5,1, 21.0845,   -999.0,9,  -999.00,9,  -999.00,9,  -999.00,9,  -999.0,-999.000
     33KB143_1,  PRS2,     2, 13,      4,     36,2,20021220,0553, 22.7488,-157.9997, 4739,    152,    151.0,  20.5506,  35.2106,2,  35.2093,2,    172.2,1, 20.5222,   -999.0,9,  -999.00,9,  -999.00,9,  -999.00,9,  -999.0,-999.000
     33KB143_1,  PRS2,     2, 13,      3,     35,2,20021220,0553, 22.7488,-157.9997, 4739,    176,    173.9,  19.8689,  35.1246,2,  35.1278,2,    176.0,1, 19.8369,   -999.0,9,  -999.00,9,  -999.00,9,  -999.00,9,  -999.0,-999.000
     33KB143_1,  PRS2,     2, 13,      2,     34,2,20021220,0553, 22.7488,-157.9997, 4739,    500,    500.7,   7.2923,  34.0410,2,  34.0417,2,    116.9,1,  7.2440,   -999.0,9,  -999.00,9,  -999.00,9,  -999.00,9,  -999.0,-999.000
     33KB143_1,  PRS2,     2, 13,      1,     33,2,20021220,0553, 22.7488,-157.9997, 4739,   1018,   1020.0,   3.9728,  34.4823,2,  34.4805,2,     41.0,1,  3.8957,   -999.0,9,  -999.00,9,  -999.00,9,  -999.00,9,  -999.0,-999.000