BOTTLE,20010823WHPSIOKJU
EXPOCODE,SECT_ID,STNNBR,CASTNO,SAMPNO,BTLNBR,BTLNBR_FLAG_W,DATE,TIME,LATITUDE,LONGITUDE,DEPTH,CTDPRS,CTDTMP,CTDSAL,CTDSAL_FLAG_W,SALNTY,SALNTY_FLAG_W,CTDOXY,CTDOXY_FLAG_W,OXYGEN,OXYGEN_FLAG_W,TRITUM,TRITUM_FLAG_W,HELIUM,HELIUM_FLAG_W,DELHE3,DELHE3_FLAG_W
,,,,,,,,,,,,DBAR,IPTS68,PSS-78,,PSS-78,,UMOL/KG,,UMOL/KG,,TU,,NMOL/KG,,PERCNT,
      74AB73_1,  AR11,    51,  1,   5108,      8,2,19921024,2025, 34.4988, -31.5000, -999,     91.5,  17.3051,  36.2084,2,  36.2105,2,    229.7,2,    230.1,2,    1.902,2,   1.7930,2,    -0.74,2
      74AB73_1,  AR11,    51,  1,   5107,      7,2,19921024,2025, 34.4988, -31.5000, -999,    100.9,  16.9806,  36.1983,2,  36.2036,2,    230.3,2,    227.4,2,    1.944,2,   1.8070,2,    -0.68,2
      74AB73_1,  AR11,    51,  1,   5106,      6,2,19921024,2025, 34.4988, -31.5000, -999,    111.2,  16.7087,  36.1813,2,  36.1798,2,    209.1,2,    225.4,2,    1.910,2,   1.8290,2,    -0.49,2
      74AB73_1,  AR11,    51,  1,   5105,      5,2,19921024,2025, 34.4988, -31.5000, -999,    139.9,  15.7371,  36.1150,2,  36.1140,2,    201.4,2,    215.5,2,    1.919,2,   1.8010,2,    -0.19,2
      74AB73_1,  AR11,    51,  1,   5104,      4,2,19921024,2025, 34.4988, -31.5000, -999,    169.6,  15.1476,  36.0452,2,  36.0386,2,    202.8,2,    214.2,2,    1.924,2,   1.8690,2,     0.22,2
      74AB73_1,  AR11,    51,  1,   5103,      3,2,19921024,2025, 34.4988, -31.5000, -999,    199.8,  14.6684,  35.9814,2,  35.9831,2,    197.2,2,    213.9,2, -999.000,9,   1.8460,2,     0.33,2
      74AB73_1,  AR11,    51,  1,   5102,      2,2,19921024,2025, 34.4988, -31.5000, -999,    349.0,  12.3549,  35.6735,2,  35.6690,2,    186.9,2,    199.0,2,    1.909,2,   1.8600,2,     4.79,2
      74AB73_1,  AR11,    51,  1,   5101,      1,2,19921024,2025, 34.4988, -31.5000, -999,    499.3,  10.9172,  35.4987,2,  35.4983,2,    185.1,2,    195.6,2,    1.777,2,-999.0000,9,  -999.00,9
      74AB73_1,  AR11,    52,  1,   5208,      8,2,19921024,2344, 34.8007, -31.0003, -999,     80.6,  18.2186,  36.2074,2,  36.2069,2,    235.7,2,    237.4,2,    1.901,2,   1.7880,2,    -1.09,2
      74AB73_1,  AR11,    52,  1,   5207,      7,2,19921024,2344, 34.8007, -31.0003, -999,     91.2,  17.7396,  36.2175,2,  36.2182,2,    228.1,2,    234.5,2,    1.895,2,   1.7950,2,    -0.99,2
      74AB73_1,  AR11,    52,  1,   5206,      6,2,19921024,2344, 34.8007, -31.0003, -999,    110.0,  16.2509,  36.1586,2,  36.1707,2,    201.2,2,    221.1,2,    1.958,2,   1.8330,2,    -0.68,2
      74AB73_1,  AR11,    52,  1,   5205,      5,2,19921024,2344, 34.8007, -31.0003, -999,    140.6,  15.4887,  36.0685,2,  36.0831,2,    208.1,2,    216.1,2,    1.911,2,   1.8270,2,    -0.24,2
      74AB73_1,  AR11,    52,  1,   5204,      4,2,19921024,2344, 34.8007, -31.0003, -999,    171.4,  14.8522,  35.9890,2,  36.0097,2,    202.0,2,    213.9,2,    1.951,2,   1.8460,2,     0.57,2
      74AB73_1,  AR11,    52,  1,   5203,      3,2,19921024,2344, 34.8007, -31.0003, -999,    201.4,  14.5907,  35.9579,2,  35.9578,2,    202.4,2,    212.6,2, -999.000,9,   1.8280,2,     1.02,2
      74AB73_1,  AR11,    52,  1,   5202,      2,2,19921024,2344, 34.8007, -31.0003, -999,    350.6,  12.8786,  35.7577,2,  35.7558,2,    202.8,2,    211.9,2,    2.004,2,   1.8500,2,     2.23,2
      74AB73_1,  AR11,    52,  1,   5201,      1,2,19921024,2344, 34.8007, -31.0003, -999,    500.8,  11.6585,  35.6034,2,  35.6321,2,    187.2,2,    214.8,2,    1.978,2,   1.8500,2,     3.53,2
      74AB73_1,  AR11,    53,  1,   5308,      8,2,19921025,0309, 35.1000, -30.5010, -999,     82.1,  17.8962,  36.2493,2,  36.2444,2,    233.5,2,    241.7,2,    1.925,2,   1.8000,2,    -1.17,2
      74AB73_1,  AR11,    53,  1,   5307,      7,2,19921025,0309, 35.1000, -30.5010, -999,     91.6,  17.3084,  36.2306,2,  36.2265,2,    225.9,2,    236.1,2, -999.000,9,   1.8200,2,    -1.20,2
      74AB73_1,  AR11,    53,  1,   5306,      6,2,19921025,0309, 35.1000, -30.5010, -999,    111.1,  16.4735,  36.1772,2,  36.1755,2,    211.3,2,    225.4,2,    1.962,2,   1.8150,2,    -1.19,2
      74AB73_1,  AR11,    53,  1,   5305,      5,2,19921025,0309, 35.1000, -30.5010, -999,    141.1,  15.6649,  36.1064,2,  36.1106,2,    198.4,2,    217.9,2,    1.947,2,   1.8250,2,    -0.54,2
      74AB73_1,  AR11,    53,  1,   5304,      4,2,19921025,0309, 35.1000, -30.5010, -999,    171.9,  15.0834,  36.0340,2,  36.0408,2,    206.4,2,    213.2,2,    1.968,2,   1.8140,2,     0.18,2
      74AB73_1,  AR11,    53,  1,   5303,      3,2,19921025,0309, 35.1000, -30.5010, -999,    199.5,  14.5582,  35.9533,2,  35.9678,2,    201.1,2,    210.6,2, -999.000,9,   1.8220,2,     0.75,2
      74AB73_1,  AR11,    53,  1,   5302,      2,2,19921025,0309, 35.1000, -30.5010, -999,    350.8,  12.5891,  35.6922,2,  35.7142,2,    186.9,2,    209.1,2,    2.032,2,   1.8490,2,     2.78,2
      74AB73_1,  AR11,    53,  1,   5301,      1,2,19921025,0309, 35.1000, -30.5010, -999,    504.6,  11.3381,  35.5448,2,  35.6741,2,    192.7,2,    205.6,2,    1.957,2,   1.8530,2,     4.40,2
      74AB73_1,  AR11,    54,  1,   5408,      8,2,19921025,0629, 35.4013, -30.0007, -999,     80.9,  16.6715,  36.1918,2,  36.1365,2,    223.2,2,    228.6,2,    1.950,2,   1.7950,2,    -1.09,2
      74AB73_1,  AR11,    54,  1,   5407,      7,2,19921025,0629, 35.4013, -30.0007, -999,     90.8,  16.5425,  36.1425,2,  36.1365,2,    211.1,2,    226.8,2,    1.943,2,   1.8040,2,    -0.94,2
      74AB73_1,  AR11,    54,  1,   5406,      6,2,19921025,0629, 35.4013, -30.0007, -999,    110.5,  15.9775,  36.1069,2,  36.0966,2,    220.9,2,    223.4,2, -999.000,9,   1.8040,2,    -0.49,2
      74AB73_1,  AR11,    54,  1,   5405,      5,2,19921025,0629, 35.4013, -30.0007, -999,    141.2,  15.2045,  36.0310,2,  36.0230,2,    210.9,2,    219.1,2,    1.975,2,   1.8060,2,    -0.45,2
      74AB73_1,  AR11,    54,  1,   5404,      4,2,19921025,0629, 35.4013, -30.0007, -999,    170.7,  14.6719,  35.9734,2,  35.9674,2,    210.1,2,    214.8,2,    2.007,2,   1.8200,2,     0.41,2
      74AB73_1,  AR11,    54,  1,   5403,      3,2,19921025,0629, 35.4013, -30.0007, -999,    201.4,  14.1337,  35.9132,2,  35.9000,2,    202.7,2,    211.8,2,    1.962,2,   1.8220,2,     0.93,2
      74AB73_1,  AR11,    54,  1,   5402,      2,2,19921025,0629, 35.4013, -30.0007, -999,    350.7,  12.6035,  35.7056,2,  35.7035,2,    188.6,2,    208.7,2,    1.992,2,   1.8530,2,     2.71,2
      74AB73_1,  AR11,    54,  1,   5401,      1,2,19921025,0629, 35.4013, -30.0007, -999,    503.9,  11.4712,  35.5764,2,  35.5752,2,    202.8,2,    213.0,2,    2.050,2,   1.8600,2,     4.03,2
      74AB73_1,  AR11,    55,  1,   5508,      8,2,19921025,0947, 35.7018, -29.4932, -999,     70.4,  17.3141,  36.2342,2,  36.1876,2,    239.3,2,    235.0,2,    1.966,2,   1.7930,2,    -0.68,2
      74AB73_1,  AR11,    55,  1,   5507,      7,2,19921025,0947, 35.7018, -29.4932, -999,     90.6,  16.2731,  36.1342,2,  36.1302,2,    221.1,2,    223.2,2,    2.002,2,-999.0000,9,  -999.00,9
      74AB73_1,  AR11,    55,  1,   5506,      6,2,19921025,0947, 35.7018, -29.4932, -999,    111.9,  15.6432,  36.1168,2,  36.0857,2,    209.3,2,    218.5,2,    1.959,2,   1.8190,2,    -0.54,2
      74AB73_1,  AR11,    55,  1,   5505,      5,2,19921025,0947, 35.7018, -29.4932, -999,    141.3,  15.2565,  36.0621,2,  36.0380,2,    207.3,2,    216.8,2,    1.947,2,   1.8210,2,    -0.14,2
      74AB73_1,  AR11,    55,  1,   5504,      4,2,19921025,0947, 35.7018, -29.4932, -999,    171.7,  14.8687,  36.0076,2,  35.9979,2,    200.5,2,    213.5,2,    1.992,2,   1.8210,2,     0.33,2
      74AB73_1,  AR11,    55,  1,   5503,      3,2,19921025,0947, 35.7018, -29.4932, -999,    251.6,  13.3930,  35.8283,2,  35.8094,2,    201.5,2,    208.6,2,    2.009,2,   1.8290,2,     2.08,2
      74AB73_1,  AR11,    55,  1,   5502,      2,2,19921025,0947, 35.7018, -29.4932, -999,    349.3,  12.3258,  35.6920,2,  35.6838,2,    209.7,2,    215.1,2,    2.060,2,   1.8400,2,     2.54,2
      74AB73_1,  AR11,    55,  1,   5501,      1,2,19921025,0947, 35.7018, -29.4932, -999,    501.6,  11.3197,  35.5589,2,  35.5577,2,    202.4,2,    213.4,2,    1.827,2,   1.8510,2,     4.10,2
      74AB73_1,  AR11,    56,  1,   5608,      8,2,19921025,1246, 36.0007, -29.0002, -999,     70.0,  17.9269,  36.2671,2,  36.2725,2,    225.6,2,    239.9,2,    1.964,2,   1.8050,2,    -0.78,2
      74AB73_1,  AR11,    56,  1,   5607,      7,2,19921025,1246, 36.0007, -29.0002, -999,     89.3,  16.7023,  36.2035,2,  36.2042,2,    212.2,2,    217.6,2,    1.960,2,-999.0000,9,  -999.00,9
      74AB73_1,  AR11,    56,  1,   5606,      6,2,19921025,1246, 36.0007, -29.0002, -999,    111.2,  16.1330,  36.1646,2,  36.1555,2,    207.6,2,    219.5,2,    1.952,2,   1.8360,2,    -0.54,2
      74AB73_1,  AR11,    56,  1,   5605,      5,2,19921025,1246, 36.0007, -29.0002, -999,    140.2,  15.6328,  36.1083,2,  36.1021,2,    203.7,2,    216.0,2,    2.009,2,   1.8230,2,    -0.09,2
      74AB73_1,  AR11,    56,  1,   5604,      4,2,19921025,1246, 36.0007, -29.0002, -999,    170.9,  15.0278,  36.0353,2,  36.0329,2,    194.3,2,    209.3,2,    1.961,2,   1.8290,2,     0.40,2
      74AB73_1,  AR11,    56,  1,   5603,      3,2,19921025,1246, 36.0007, -29.0002, -999,    249.7,  13.7133,  35.8578,2,  35.8560,2,    196.3,2,    203.6,2,    1.948,2,   1.8270,2,     2.29,2
      74AB73_1,  AR11,    56,  1,   5602,      2,2,19921025,1246, 36.0007, -29.0002, -999,    348.3,  12.7871,  35.7461,2,  35.7479,2,    199.7,2,    211.4,2,    2.065,2,   1.8900,2,     2.52,2
      74AB73_1,  AR11,    56,  1,   5601,      1,2,19921025,1246, 36.0007, -29.0002, -999,    501.4,  11.3196,  35.5492,2,  35.5506,2,    200.4,2,    203.2,2,    1.983,2,   1.8530,2,     5.40,2
      74AB73_1,  AR11,    57,  1,   5708,      8,2,19921025,1801, 36.4002, -27.9998, -999,     69.9,  18.0986,  36.2758,2,  36.2734,2,    234.2,2,    244.3,2,    1.993,2,   1.7920,2,    -1.25,2
      74AB73_1,  AR11,    57,  1,   5707,      7,2,19921025,1801, 36.4002, -27.9998, -999,     90.4,  16.8055,  36.2275,2,  36.2234,2,    218.5,2,    233.5,2,    1.973,2,   1.8590,2,    -0.96,2
      74AB73_1,  AR11,    57,  1,   5706,      6,2,19921025,1801, 36.4002, -27.9998, -999,    110.0,  16.1581,  36.2015,2,  36.1773,2,    213.8,2,    222.5,2, -999.000,9,   1.8410,2,    -0.66,2
      74AB73_1,  AR11,    57,  1,   5705,      5,2,19921025,1801, 36.4002, -27.9998, -999,    140.3,  15.2288,  36.1162,2,  36.0936,2,    203.5,2,    213.4,2,    1.987,2,   1.8550,2,     0.29,2
      74AB73_1,  AR11,    57,  1,   5704,      4,2,19921025,1801, 36.4002, -27.9998, -999,    170.0,  14.5282,  36.0736,2,  35.9975,2,    201.1,2,    210.0,2,    2.004,2,   1.8750,2,     0.73,2
      74AB73_1,  AR11,    57,  1,   5703,      3,2,19921025,1801, 36.4002, -27.9998, -999,    249.5,  13.5385,  35.8812,2,  35.8593,2,    190.1,2,    209.7,2, -999.000,9,   1.8590,2,     1.93,2
      74AB73_1,  AR11,    57,  1,   5702,      2,2,19921025,1801, 36.4002, -27.9998, -999,    349.6,  12.5614,  35.7407,2,  35.7365,2,    202.2,2,    216.9,2,    2.167,2,   1.8890,2,     2.17,2
      74AB73_1,  AR11,    57,  1,   5701,      1,2,19921025,1801, 36.4002, -27.9998, -999,    500.5,  11.4525,  35.5835,2,  35.5827,2,    203.1,2,    216.1,2,    2.169,2,   1.8590,2,     3.95,2
      74AB73_1,  AR11,    58,  1,   5808,      8,2,19921025,2320, 36.7983, -26.9987, -999,     71.2,  18.2806,  36.1716,2,  36.1883,2,    219.7,2,    236.3,2, -999.000,9,   1.7910,2,    -1.12,2
      74AB73_1,  AR11,    58,  1,   5807,      7,2,19921025,2320, 36.7983, -26.9987, -999,     90.3,  17.0928,  36.1218,2,  36.1438,2,    207.1,2,    229.2,2,    2.048,2,   1.8370,2,    -0.73,2
      74AB73_1,  AR11,    58,  1,   5806,      6,2,19921025,2320, 36.7983, -26.9987, -999,    109.8,  15.8454,  36.0839,2,  36.0855,2,    211.9,2,    223.3,2,    2.010,2,   1.8130,2,    -0.65,2
      74AB73_1,  AR11,    58,  1,   5805,      5,2,19921025,2320, 36.7983, -26.9987, -999,    140.6,  14.8469,  35.9961,2,  35.9935,2,    212.9,2,    220.2,2,    2.018,2,   1.8200,2,    -0.16,2
      74AB73_1,  AR11,    58,  1,   5804,      4,2,19921025,2320, 36.7983, -26.9987, -999,    170.5,  14.3367,  35.9296,2,  35.9483,2,    199.4,2,    217.9,2,    2.024,2,   1.8260,2,    -0.02,2
      74AB73_1,  AR11,    58,  1,   5803,      3,2,19921025,2320, 36.7983, -26.9987, -999,    250.3,  13.2210,  35.8138,2,  35.8194,2,    202.5,2,    214.9,2,    2.062,2,   1.8350,2,     1.43,2
      74AB73_1,  AR11,    58,  1,   5802,      2,2,19921025,2320, 36.7983, -26.9987, -999,    351.1,  12.2656,  35.6832,2,  35.6917,2,    197.2,2,    220.5,2,    2.095,2,   1.8350,2,     1.95,2
      74AB73_1,  AR11,    58,  1,   5801,      1,2,19921025,2320, 36.7983, -26.9987, -999,    500.5,  11.4022,  35.5769,2,  35.5794,2,    207.9,2,    221.6,2,    2.092,2,   1.8540,2,     2.74,2
      74AB73_1,  AR11,    59,  1,   5912,     12,2,19921026,0430, 37.1998, -25.9998, -999,      8.7,  20.3590,  36.3108,2,  36.3610,2,    224.6,2,    227.2,2,    1.996,2,   1.8260,2,    -1.51,2
      74AB73_1,  AR11,    59,  1,   5911,     11,2,19921026,0430, 37.1998, -25.9998, -999,     75.8,  16.7693,  36.1018,2,  36.0932,2,    227.7,2,    233.6,2, -999.000,9,   1.8010,2,    -0.96,2
      74AB73_1,  AR11,    59,  1,   5910,     10,2,19921026,0430, 37.1998, -25.9998, -999,    100.3,  15.6503,  36.0520,2,  36.0404,2,    218.3,2,    225.8,2, -999.000,9,   1.8510,2,    -0.61,2
      74AB73_1,  AR11,    59,  1,   5909,      9,2,19921026,0430, 37.1998, -25.9998, -999,    154.9,  14.1684,  35.9218,2,  35.8997,2,    205.6,2,    219.2,2,    2.059,2,   1.7800,2,     0.49,2
      74AB73_1,  AR11,    59,  1,   5908,      8,2,19921026,0430, 37.1998, -25.9998, -999,    205.4,  13.6965,  35.8591,2,  35.8485,2,    205.7,2,    217.4,2,    1.989,2,   1.8100,2,     1.25,2
      74AB73_1,  AR11,    59,  1,   5907,      7,2,19921026,0430, 37.1998, -25.9998, -999,    305.1,  12.7902,  35.7466,2,  35.7475,2,    205.3,2,    216.1,2, -999.000,9,   1.8530,2,     2.20,2
      74AB73_1,  AR11,    59,  1,   5906,      6,2,19921026,0430, 37.1998, -25.9998, -999,    405.0,  12.0202,  35.6594,2,  35.6603,2,    212.4,2,    221.1,2,    2.133,2,   1.8390,2,     2.47,2
      74AB73_1,  AR11,    59,  1,   5905,      5,2,19921026,0430, 37.1998, -25.9998, -999,    504.2,  11.3756,  35.5642,2,  35.5729,2,    203.7,2,    220.0,2,    2.123,2,   1.8410,2,     3.39,2
      74AB73_1,  AR11,    59,  1,   5904,      4,2,19921026,0430, 37.1998, -25.9998, -999,    784.2,   9.3839,  35.5339,2,  35.5332,2,    180.1,2,    192.2,2,    1.558,2,   1.8600,2,     9.12,2
      74AB73_1,  AR11,    59,  1,   5903,      3,2,19921026,0430, 37.1998, -25.9998, -999,   1106.2,   7.6986,  35.4416,2,  35.4298,2,    196.6,2,    209.3,2,    1.346,2,   1.8930,2,     9.33,2
      74AB73_1,  AR11,    59,  1,   5902,      2,2,19921026,0430, 37.1998, -25.9998, -999,   1510.0,   5.4303,  35.1711,2,  35.1685,2,    221.7,2,    240.1,2,    1.278,2,   1.8780,2,     9.35,2
      74AB73_1,  AR11,    59,  1,   5901,      1,2,19921026,0430, 37.1998, -25.9998, -999,   2014.4,   3.7477,  34.9777,2,  34.9770,2,    234.5,2,    263.5,2,    0.861,2,   1.8760,2,     7.27,2