BOTTLE,20010823WHPSIOKJU
EXPOCODE,SECT_ID,STNNBR,CASTNO,SAMPNO,BTLNBR,BTLNBR_FLAG_W,DATE,TIME,LATITUDE,LONGITUDE,DEPTH,CTDPRS,CTDTMP,CTDSAL,CTDSAL_FLAG_W,SALNTY,SALNTY_FLAG_W,CTDOXY,CTDOXY_FLAG_W,OXYGEN,OXYGEN_FLAG_W,TRITUM,TRITUM_FLAG_W,HELIUM,HELIUM_FLAG_W,DELHE3,DELHE3_FLAG_W
,,,,,,,,,,,,DBAR,IPTS68,PSS-78,,PSS-78,,UMOL/KG,,UMOL/KG,,TU,,NMOL/KG,,PERCNT,
      74AB73_1,  AR11,    33,  1,   3312,     12,2,19921016,2149, 29.2485, -25.6688, -999,     10.4,  24.4251,  37.1446,2,  37.1429,2,    207.1,2,    210.7,2,    1.776,2,   1.7970,2,    -1.68,2
      74AB73_1,  AR11,    33,  1,   3311,     11,2,19921016,2149, 29.2485, -25.6688, -999,     60.5,  23.5264,  37.1893,2,  37.1292,2,    217.4,2,    223.2,2,    1.799,2,   1.8100,2,    -1.42,2
      74AB73_1,  AR11,    33,  1,   3310,     10,2,19921016,2149, 29.2485, -25.6688, -999,     90.0,  20.0539,  36.8769,2,  36.8899,2,    217.8,2,    237.6,2,    1.806,2,   1.8160,2,    -1.35,2
      74AB73_1,  AR11,    33,  1,   3309,      9,2,19921016,2149, 29.2485, -25.6688, -999,    119.8,  19.1294,  36.8313,2,  36.8341,2,    203.4,2,    222.0,2,    1.810,2,   1.8170,2,    -1.27,2
      74AB73_1,  AR11,    33,  1,   3308,      8,2,19921016,2149, 29.2485, -25.6688, -999,    139.6,  18.7429,  36.7678,2,  36.7794,2,    204.5,2,    213.5,2,    1.789,2,   1.7990,2,    -0.82,2
      74AB73_1,  AR11,    33,  1,   3307,      7,2,19921016,2149, 29.2485, -25.6688, -999,    178.9,  17.6923,  36.5274,2,  36.5761,2,    196.6,2,    204.2,2,    1.836,2,   1.8300,2,    -0.12,2
      74AB73_1,  AR11,    33,  1,   3306,      6,2,19921016,2149, 29.2485, -25.6688, -999,    222.4,  16.7088,  36.3679,2,  36.3687,2,    194.4,2,    200.5,2,    1.855,2,   1.8270,2,     0.94,2
      74AB73_1,  AR11,    33,  1,   3305,      5,2,19921016,2149, 29.2485, -25.6688, -999,    261.7,  15.9923,  36.2385,2,  36.2329,2,    195.0,2,    201.3,2, -999.000,9,   1.8570,2,     1.82,2
      74AB73_1,  AR11,    33,  1,   3304,      4,2,19921016,2149, 29.2485, -25.6688, -999,    305.4,  15.2767,  36.1188,2,  36.1088,2,    190.3,2,    201.0,2,    1.905,2,   1.8800,2,     2.21,2
      74AB73_1,  AR11,    33,  1,   3303,      3,2,19921016,2149, 29.2485, -25.6688, -999,    354.5,  14.4632,  35.9792,2,  35.9746,2,    193.8,2,    200.8,2,    1.921,2,   1.8700,2,     2.93,2
      74AB73_1,  AR11,    33,  1,   3302,      2,2,19921016,2149, 29.2485, -25.6688, -999,    404.9,  13.7022,  35.8590,2,  35.8520,2,    189.9,2,    200.1,2,    1.666,2,   1.9020,2,     3.89,2
      74AB73_1,  AR11,    33,  1,   3301,      1,2,19921016,2149, 29.2485, -25.6688, -999,    506.0,  12.3924,  35.6758,2,  35.6747,2,    189.8,2,    200.2,2,    1.965,2,   1.8820,2,     5.53,2
      74AB73_1,  AR11,    34,  1,   3412,     12,2,19921017,0345, 29.9995, -25.0003, -999,     12.8,  24.2033,  37.1533,2,  37.1558,2,    209.8,2,    217.1,2,    1.818,2,   1.7560,2,    -1.56,2
      74AB73_1,  AR11,    34,  1,   3411,     11,2,19921017,0345, 29.9995, -25.0003, -999,     83.3,  19.7076,  36.6365,2,  36.6631,2,    229.5,2,    240.2,2,    1.750,2,   1.7750,2,    -1.35,2
      74AB73_1,  AR11,    34,  1,   3410,     10,2,19921017,0345, 29.9995, -25.0003, -999,    118.0,  18.6230,  36.6181,2,  36.6645,2,    217.0,2,    225.8,2,    1.784,2,   1.7840,2,    -0.90,2
      74AB73_1,  AR11,    34,  1,   3409,      9,2,19921017,0345, 29.9995, -25.0003, -999,    153.0,  17.4811,  36.4998,2,  36.4804,2,    196.6,2,    210.8,2,    1.770,2,   1.7930,2,    -0.12,2
      74AB73_1,  AR11,    34,  1,   3408,      8,2,19921017,0345, 29.9995, -25.0003, -999,    197.4,  17.0126,  36.4218,2,  36.4245,2,    198.5,2,    206.6,2,    1.833,2,   1.7960,2,     0.18,2
      74AB73_1,  AR11,    34,  1,   3407,      7,2,19921017,0345, 29.9995, -25.0003, -999,    277.3,  15.3238,  36.1631,2,  36.1161,2,    194.1,2,    203.0,2, -999.000,9,   1.8250,2,     1.47,2
      74AB73_1,  AR11,    34,  1,   3406,      6,2,19921017,0345, 29.9995, -25.0003, -999,    356.8,  13.9434,  35.9374,2,  35.9000,2,    192.7,2,    203.7,2,    1.915,2,   1.8280,2,     2.68,2
      74AB73_1,  AR11,    34,  1,   3405,      5,2,19921017,0345, 29.9995, -25.0003, -999,    508.1,  12.2662,  35.6892,2,  35.6733,2,    204.8,2,    207.8,2,    1.988,2,   1.8260,2,     4.28,2
      74AB73_1,  AR11,    34,  1,   3404,      4,2,19921017,0345, 29.9995, -25.0003, -999,    846.0,   9.5464,  35.4979,2,  35.4866,2,    158.3,2,    173.5,2,    1.091,2,   1.8530,2,     8.89,2
      74AB73_1,  AR11,    34,  1,   3403,      3,2,19921017,0345, 29.9995, -25.0003, -999,   1152.9,   7.6141,  35.4325,2,  35.4318,2,    169.7,2,    181.1,2,    0.370,2,   1.8580,2,     4.29,2
      74AB73_1,  AR11,    34,  1,   3402,      2,2,19921017,0345, 29.9995, -25.0003, -999,   1576.9,   5.6261,  35.2640,2,  35.2629,2,    202.7,2,    220.6,2,    0.255,2,   1.8840,2,     3.01,2
      74AB73_1,  AR11,    34,  1,   3401,      1,2,19921017,0345, 29.9995, -25.0003, -999,   2009.4,   4.2723,  35.1067,2,  35.1055,2,    218.1,2,    239.1,2,    0.074,2,   1.8820,2,     1.01,2
      74AB73_1,  AR11,    35,  1,   3512,     12,2,19921017,1029, 29.9013, -25.9973, -999,     10.6,  24.3257,  37.0732,2,  37.0811,2,    210.6,2,    211.0,2,    1.799,2,   1.7500,2,    -1.46,2
      74AB73_1,  AR11,    35,  1,   3511,     11,2,19921017,1029, 29.9013, -25.9973, -999,     74.6,  21.0474,  36.6233,2,  36.6796,2,    193.6,2,    241.7,2,    1.736,2,   1.7930,2,    -1.32,2
      74AB73_1,  AR11,    35,  1,   3510,     10,2,19921017,1029, 29.9013, -25.9973, -999,     94.5,  19.9923,  36.5577,2,  36.5957,2,    222.6,2,    238.1,2,    1.695,2,   1.7890,2,    -1.28,2
      74AB73_1,  AR11,    35,  1,   3509,      9,2,19921017,1029, 29.9013, -25.9973, -999,    124.5,  18.5179,  36.5160,2,  36.5398,2,    205.1,2,    224.2,2,    1.774,2,   1.7920,2,    -1.12,2
      74AB73_1,  AR11,    35,  1,   3508,      8,2,19921017,1029, 29.9013, -25.9973, -999,    154.1,  17.6868,  36.4430,2,  36.4640,2,    195.9,2,    211.8,2,    1.791,2,   1.7970,2,    -0.43,2
      74AB73_1,  AR11,    35,  1,   3507,      7,2,19921017,1029, 29.9013, -25.9973, -999,    184.3,  17.0880,  36.3656,2,  36.3837,2,    201.3,2,    208.6,2,    1.804,2,   1.7970,2,     0.06,2
      74AB73_1,  AR11,    35,  1,   3506,      6,2,19921017,1029, 29.9013, -25.9973, -999,    213.0,  16.6800,  36.3283,2,  36.3253,2,    191.0,2,    206.7,2,    1.834,2,   1.7950,2,     0.50,2
      74AB73_1,  AR11,    35,  1,   3505,      5,2,19921017,1029, 29.9013, -25.9973, -999,    247.3,  16.2455,  36.2779,2,  36.2657,2,    190.5,2,    203.6,2,    1.848,2,   1.8140,2,     1.18,2
      74AB73_1,  AR11,    35,  1,   3504,      4,2,19921017,1029, 29.9013, -25.9973, -999,    278.6,  15.7130,  36.1911,2,  36.1783,2,    203.2,2,    202.5,2,    1.865,2,   1.8300,2,     1.53,2
      74AB73_1,  AR11,    35,  1,   3503,      3,2,19921017,1029, 29.9013, -25.9973, -999,    337.8,  14.8639,  36.0475,2,  36.0364,2,    186.8,2,    202.6,2,    1.973,2,   1.8250,2,     2.14,2
      74AB73_1,  AR11,    35,  1,   3502,      2,2,19921017,1029, 29.9013, -25.9973, -999,    406.7,  13.8630,  35.8916,2,  35.8834,2,    186.4,2,    201.3,2,    1.910,2,   1.8630,2,     3.16,2
      74AB73_1,  AR11,    35,  1,   3501,      1,2,19921017,1029, 29.9013, -25.9973, -999,    503.1,  12.5996,  35.7098,2,  35.7183,2,    195.3,2,    199.8,2,    1.993,2,   1.8550,2,     5.03,2
      74AB73_1,  AR11,    36,  1,   3612,     12,2,19921017,1645, 29.8013, -27.0007, -999,      8.4,  24.3258,  36.9982,2,  36.9959,2,    214.1,2,    211.4,2,    1.756,2,   1.7680,2,    -1.35,2
      74AB73_1,  AR11,    36,  1,   3611,     11,2,19921017,1645, 29.8013, -27.0007, -999,     75.1,  21.2745,  36.6759,2,  36.6975,2,    231.4,2,    239.2,2,    1.753,2,   1.9430,2,    -1.16,2
      74AB73_1,  AR11,    36,  1,   3610,     10,2,19921017,1645, 29.8013, -27.0007, -999,     94.8,  19.6693,  36.6148,2,  36.6183,2,    228.0,2,    234.8,2,    1.620,2,   1.7830,2,    -1.06,2
      74AB73_1,  AR11,    36,  1,   3609,      9,2,19921017,1645, 29.8013, -27.0007, -999,    120.9,  18.7064,  36.6004,2,  36.5904,2,    200.1,2,    221.8,2,    1.704,2,   1.7990,2,    -0.86,2
      74AB73_1,  AR11,    36,  1,   3608,      8,2,19921017,1645, 29.8013, -27.0007, -999,    150.5,  18.1010,  36.5615,2,  36.5573,2,    182.4,2,    210.9,2, -999.000,9,   1.8010,2,    -0.51,2
      74AB73_1,  AR11,    36,  1,   3607,      7,2,19921017,1645, 29.8013, -27.0007, -999,    180.6,  17.3939,  36.4437,2,  36.4467,2,    200.6,2,    206.7,2,    1.729,2,   1.8110,2,     0.41,2
      74AB73_1,  AR11,    36,  1,   3606,      6,2,19921017,1645, 29.8013, -27.0007, -999,    210.0,  16.8708,  36.3623,2,  36.3566,2,    181.1,2,    204.3,2,    1.764,2,   1.8100,2,     0.96,2
      74AB73_1,  AR11,    36,  1,   3605,      5,2,19921017,1645, 29.8013, -27.0007, -999,    240.0,  16.4210,  36.2960,2,  36.2804,2,    188.6,2,    203.2,2,    1.788,2,-999.0000,9,  -999.00,9
      74AB73_1,  AR11,    36,  1,   3604,      4,2,19921017,1645, 29.8013, -27.0007, -999,    275.1,  15.9473,  36.1992,2,  36.1969,2,    184.3,2,    202.8,2,    1.796,2,   1.8610,2,     1.80,2
      74AB73_1,  AR11,    36,  1,   3603,      3,2,19921017,1645, 29.8013, -27.0007, -999,    336.5,  15.0000,  36.0584,2,  36.0550,2,    195.3,2,    203.1,2,    1.841,2,   1.8490,2,     2.24,2
      74AB73_1,  AR11,    36,  1,   3602,      2,2,19921017,1645, 29.8013, -27.0007, -999,    408.6,  13.9981,  35.9014,2,  35.9032,2,    173.3,2,    204.5,2,    1.885,2,   1.8380,2,     3.34,2
      74AB73_1,  AR11,    36,  1,   3601,      1,2,19921017,1645, 29.8013, -27.0007, -999,    502.9,  12.8386,  35.7386,2,  35.7383,2,    187.7,2,    201.5,2,    1.897,2,-999.0000,9,  -999.00,9
      74AB73_1,  AR11,    37,  1,   3712,     12,2,19921017,2233, 29.6997, -27.9850, -999,      7.3,  24.3822,  37.2723,2,  37.2690,2,    206.0,2,    212.7,2,    1.806,2,   1.7760,2,    -1.40,2
      74AB73_1,  AR11,    37,  1,   3711,     11,2,19921017,2233, 29.6997, -27.9850, -999,     74.1,  20.3928,  36.8413,2,  36.8345,2,    229.9,2,    236.5,2,    1.728,2,   1.7940,2,    -1.09,2
      74AB73_1,  AR11,    37,  1,   3710,     10,2,19921017,2233, 29.6997, -27.9850, -999,    100.8,  19.4081,  36.7954,2,  36.7806,2,    214.1,2,    224.9,2,    1.717,2,   1.7970,2,    -0.83,2
      74AB73_1,  AR11,    37,  1,   3709,      9,2,19921017,2233, 29.6997, -27.9850, -999,    121.0,  19.0502,  36.7573,2,  36.7548,2,    208.6,2,    217.1,2,    1.745,2,   1.8220,2,    -0.92,2
      74AB73_1,  AR11,    37,  1,   3708,      8,2,19921017,2233, 29.6997, -27.9850, -999,    150.9,  18.5678,  36.7215,2,  36.7133,2,    191.2,2,    210.8,2,    1.761,2,   1.7970,2,    -0.72,2
      74AB73_1,  AR11,    37,  1,   3707,      7,2,19921017,2233, 29.6997, -27.9850, -999,    179.4,  18.0623,  36.6491,2,  36.6352,2,    205.9,2,    207.6,2,    1.781,2,   1.8030,2,    -0.22,2
      74AB73_1,  AR11,    37,  1,   3706,      6,2,19921017,2233, 29.6997, -27.9850, -999,    210.3,  17.4137,  36.4902,2,  36.4905,2,    198.4,2,    202.1,2,    1.820,2,   1.8110,2,     0.66,2
      74AB73_1,  AR11,    37,  1,   3705,      5,2,19921017,2233, 29.6997, -27.9850, -999,    239.7,  16.9488,  36.4191,2,  36.3988,2,    196.2,2,    200.6,2, -999.000,9,   1.8320,2,     1.15,2
      74AB73_1,  AR11,    37,  1,   3704,      4,2,19921017,2233, 29.6997, -27.9850, -999,    274.6,  16.3764,  36.2700,2,  36.2964,2,    192.6,2,    199.1,2, -999.000,9,   1.8320,2,     1.07,2
      74AB73_1,  AR11,    37,  1,   3703,      3,2,19921017,2233, 29.6997, -27.9850, -999,    336.6,  15.3122,  36.0850,2,  36.1130,2,    192.0,2,    197.7,2,    1.841,2,-999.0000,9,  -999.00,9
      74AB73_1,  AR11,    37,  1,   3702,      2,2,19921017,2233, 29.6997, -27.9850, -999,    406.4,  14.2375,  35.9350,2,  35.9350,2,    190.1,2,    196.2,2,    1.980,2,-999.0000,9,  -999.00,9
      74AB73_1,  AR11,    37,  1,   3701,      1,2,19921017,2233, 29.6997, -27.9850, -999,    501.6,  12.8816,  35.7383,2,  35.7377,2,    186.1,2,    192.9,2,    1.974,2,   1.8490,2,     6.19,2
      74AB73_1,  AR11,    38,  1,   3812,     12,2,19921018,0638, 29.5852, -29.1892, -999,    131.5,  19.8811,  37.0254,2,  37.0211,2,    212.4,2,    203.5,2,    1.850,2,   1.7950,2,    -0.80,2
      74AB73_1,  AR11,    38,  1,   3811,     11,2,19921018,0638, 29.5852, -29.1892, -999,    161.8,  18.5786,  36.9091,2,  36.7820,2,    196.8,2,    218.4,2,    1.858,2,   1.7710,2,    -0.17,2
      74AB73_1,  AR11,    38,  1,   3810,     10,2,19921018,0638, 29.5852, -29.1892, -999,    195.9,  17.2712,  36.6239,2,  36.4974,2,    190.8,2,    200.3,2,    1.885,2,   1.7920,2,     1.30,2
      74AB73_1,  AR11,    38,  1,   3809,      9,2,19921018,0638, 29.5852, -29.1892, -999,    231.5,  16.5786,  36.3863,2,  36.3451,2,    187.3,2,    198.2,2,    1.866,2,   1.8010,2,     1.37,2
      74AB73_1,  AR11,    38,  1,   3808,      8,2,19921018,0638, 29.5852, -29.1892, -999,    270.7,  16.0103,  36.2838,2,  36.2566,2,    185.9,2,    194.6,2,    1.877,2,   1.7950,2,     2.34,2
      74AB73_1,  AR11,    38,  1,   3807,      7,2,19921018,0638, 29.5852, -29.1892, -999,    315.7,  15.0773,  36.1216,2,  36.0716,2,    190.2,2,    200.0,2,    1.852,2,   1.8270,2,     2.80,2
      74AB73_1,  AR11,    38,  1,   3806,      6,2,19921018,0638, 29.5852, -29.1892, -999,    360.1,  14.4881,  35.9743,2,  35.9728,2,    192.2,2,    200.0,2,    1.849,2,   1.8330,2,     3.38,2
      74AB73_1,  AR11,    38,  1,   3805,      5,2,19921018,0638, 29.5852, -29.1892, -999,    404.7,  13.9420,  35.8973,2,  35.8965,2,    186.2,2,    193.8,2,    1.970,2,   1.8390,2,     4.84,2
      74AB73_1,  AR11,    38,  1,   3804,      4,2,19921018,0638, 29.5852, -29.1892, -999,    504.3,  12.6902,  35.7081,2,  35.7136,2,    186.0,2,    193.0,2,    1.918,2,   1.8220,2,     6.36,2
      74AB73_1,  AR11,    38,  1,   3803,      3,2,19921018,0638, 29.5852, -29.1892, -999,    652.3,  11.1714,  35.5133,2,  35.5375,2,    179.1,2,    185.5,2,    1.721,2,   1.8590,2,     8.89,2
      74AB73_1,  AR11,    38,  1,   3802,      2,2,19921018,0638, 29.5852, -29.1892, -999,    854.6,   9.2368,  35.4666,2,  35.4653,2,    172.7,2,    178.4,2,    1.074,2,   1.8990,2,     8.51,2
      74AB73_1,  AR11,    38,  1,   3801,      1,2,19921018,0638, 29.5852, -29.1892, -999,   1003.4,   7.7472,  35.3472,2,  35.3464,2,    173.7,2,    178.9,2,    0.489,2,   1.8740,2,     5.50,2
      74AB73_1,  AR11,    39,  1,   3901,      1,2,19921018,1310, 29.4790, -30.1883, -999,   -999.0,-999.0000,-999.0000,9,-999.0000,9,   -999.0,9,   -999.0,9,    1.742,2,   1.7840,2,     0.04,2
      74AB73_1,  AR11,    39,  1,   3912,     12,2,19921018,1310, 29.4790, -30.1883, -999,      7.1,  24.6355,  37.0701,2,  37.0676,2,    203.4,2,    209.8,2, -999.000,9,   1.7670,2,    -1.53,2
      74AB73_1,  AR11,    39,  1,   3911,     11,2,19921018,1310, 29.4790, -30.1883, -999,     58.5,  22.0164,  36.7249,2,  36.7744,2,    239.9,2,    240.6,2,    1.583,2,   1.7810,2,    -1.29,2
      74AB73_1,  AR11,    39,  1,   3910,     10,2,19921018,1310, 29.4790, -30.1883, -999,    110.0,  18.9871,  36.5980,2,  36.6364,2,    203.0,2,    223.5,2,    1.572,2,   1.8070,2,    -1.06,2
      74AB73_1,  AR11,    39,  1,   3909,      9,2,19921018,1310, 29.4790, -30.1883, -999,    148.5,  17.9329,  36.4716,2,  36.4931,2,    196.4,2,    207.2,2,    1.531,2,   1.8290,2,    -0.37,2
      74AB73_1,  AR11,    39,  1,   3908,      8,2,19921018,1310, 29.4790, -30.1883, -999,    179.4,  17.3900,  36.4091,2,  36.4124,2,    192.3,2,    205.9,2,    1.593,2,   1.8180,2,     0.30,2
      74AB73_1,  AR11,    39,  1,   3907,      7,2,19921018,1310, 29.4790, -30.1883, -999,    211.0,  17.0444,  36.3550,2,  36.3619,2,    194.1,2,    205.0,2,    1.661,2,   1.8770,2,     0.86,2
      74AB73_1,  AR11,    39,  1,   3906,      6,2,19921018,1310, 29.4790, -30.1883, -999,    241.0,  16.6865,  36.3081,2,  36.3023,2,    195.0,2,    200.8,2,    1.631,2,   1.8190,2,     1.23,2
      74AB73_1,  AR11,    39,  1,   3905,      5,2,19921018,1310, 29.4790, -30.1883, -999,    269.7,  16.1806,  36.2328,2,  36.2285,2,    196.7,2,    201.9,2,    1.701,2,   1.8660,2,     1.82,2
      74AB73_1,  AR11,    39,  1,   3904,      4,2,19921018,1310, 29.4790, -30.1883, -999,    299.2,  15.8040,  36.1677,2,  36.1686,2,    191.3,2,    201.6,2,    1.837,2,   1.8600,2,     1.84,2
      74AB73_1,  AR11,    39,  1,   3903,      3,2,19921018,1310, 29.4790, -30.1883, -999,    340.9,  15.1706,  36.0745,2,  36.0770,2,    179.7,2,    200.4,2,    1.881,2,   1.8330,2,     2.51,2
      74AB73_1,  AR11,    39,  1,   3902,      2,2,19921018,1310, 29.4790, -30.1883, -999,    399.6,  14.3409,  35.9488,2,  35.9467,2,    181.6,2,    198.9,2,    1.885,2,-999.0000,9,  -999.00,9
      74AB73_1,  AR11,    40,  1,   4012,     12,2,19921018,2117, 29.3500, -31.4983, -999,     11.1,  24.7579,  37.2942,2,  37.2948,2,    201.8,2,    215.3,2,    1.678,2,   1.7600,2,    -1.62,2
      74AB73_1,  AR11,    40,  1,   4011,     11,2,19921018,2117, 29.3500, -31.4983, -999,     61.0,  21.5636,  36.8636,2,  36.8587,2,    231.0,2,    238.9,2,    1.642,2,   1.7810,2,    -1.22,2
      74AB73_1,  AR11,    40,  1,   4010,     10,2,19921018,2117, 29.3500, -31.4983, -999,    109.9,  19.7442,  36.7506,2,  36.7466,2,    205.7,2,    225.6,2,    1.691,2,   1.7850,2,    -1.28,2
      74AB73_1,  AR11,    40,  1,   4009,      9,2,19921018,2117, 29.3500, -31.4983, -999,    150.0,  18.4444,  36.5845,2,  36.5721,2,    195.8,2,    207.4,2,    1.669,2,   1.8080,2,    -0.62,2
      74AB73_1,  AR11,    40,  1,   4008,      8,2,19921018,2117, 29.3500, -31.4983, -999,    182.3,  17.8536,  36.4878,2,  36.4816,2,    191.1,2,    203.1,2,    1.692,2,   1.8050,2,    -0.06,2
      74AB73_1,  AR11,    40,  1,   4007,      7,2,19921018,2117, 29.3500, -31.4983, -999,    212.0,  17.4717,  36.4252,2,  36.4214,2,    194.2,2,    200.1,2,    1.710,2,   1.8350,2,     0.99,2
      74AB73_1,  AR11,    40,  1,   4006,      6,2,19921018,2117, 29.3500, -31.4983, -999,    240.5,  17.1317,  36.3696,2,  36.3713,2,    190.8,2,    198.5,2, -999.000,9,   1.8670,2,     1.45,2
      74AB73_1,  AR11,    40,  1,   4005,      5,2,19921018,2117, 29.3500, -31.4983, -999,    270.2,  16.7303,  36.3182,2,  36.3200,2,    193.3,2,    198.0,2,    1.813,2,   1.8340,2,     1.71,2
      74AB73_1,  AR11,    40,  1,   4004,      4,2,19921018,2117, 29.3500, -31.4983, -999,    300.6,  16.2314,  36.2359,2,  36.2410,2,    188.2,2,    199.3,2, -999.000,9,   1.8140,2,     2.05,2
      74AB73_1,  AR11,    40,  1,   4003,      3,2,19921018,2117, 29.3500, -31.4983, -999,    341.7,  15.5506,  36.1323,2,  36.1361,2,    193.3,2,    198.7,2,    1.806,2,   1.8510,2,     2.74,2
      74AB73_1,  AR11,    40,  1,   4002,      2,2,19921018,2117, 29.3500, -31.4983, -999,    400.1,  14.6918,  35.9936,2,  35.9918,2,    191.2,2,    194.4,2,    1.913,2,   1.8720,2,     4.36,2
      74AB73_1,  AR11,    40,  1,   4001,      1,2,19921018,2117, 29.3500, -31.4983, -999,    499.8,  13.1676,  35.7738,2,  35.8105,2,    163.5,2,    189.0,2,    1.911,2,   1.8720,2,     6.39,2