BOTTLE,20010823WHPSIOKJU
#code : jjward hyd_to_exchange.pl 
#original files copied from HTML directory: 20010823
#original HYD file: ar11_fhy.txt   Tue Jan  9 15:07:11 2001
#original SUM file: ar11_fsu.txt   Tue Jan  9 15:09:41 2001
EXPOCODE,SECT_ID,STNNBR,CASTNO,SAMPNO,BTLNBR,BTLNBR_FLAG_W,DATE,TIME,LATITUDE,LONGITUDE,DEPTH,CTDPRS,CTDTMP,CTDSAL,CTDSAL_FLAG_W,SALNTY,SALNTY_FLAG_W,CTDOXY,CTDOXY_FLAG_W,OXYGEN,OXYGEN_FLAG_W,TRITUM,TRITUM_FLAG_W,HELIUM,HELIUM_FLAG_W,DELHE3,DELHE3_FLAG_W
,,,,,,,,,,,,DBAR,IPTS68,PSS-78,,PSS-78,,UMOL/KG,,UMOL/KG,,TU,,NMOL/KG,,PERCNT,
      74AB73_1,  AR11,     1,  1,    101,      1,2,19920930,1239, 32.5958, -17.4930, -999,   3016.3,   2.8312,-999.0000,9,  34.9521,2,   -999.0,9,    254.5,2, -999.000,9,-999.0000,9,  -999.00,9
      74AB73_1,  AR11,     1,  1,    102,      2,2,19920930,1239, 32.5958, -17.4930, -999,   3016.3,   2.8312,-999.0000,9,  34.9521,2,   -999.0,9,    254.5,2, -999.000,9,-999.0000,9,  -999.00,9
      74AB73_1,  AR11,     1,  1,    103,      3,2,19920930,1239, 32.5958, -17.4930, -999,   3016.3,   2.8312,-999.0000,9,  34.9521,2,   -999.0,9,    254.5,2, -999.000,9,-999.0000,9,  -999.00,9
      74AB73_1,  AR11,     1,  1,    104,      4,2,19920930,1239, 32.5958, -17.4930, -999,   3016.3,   2.8312,-999.0000,9,  34.9521,2,   -999.0,9,    254.5,2, -999.000,9,-999.0000,9,  -999.00,9
      74AB73_1,  AR11,     1,  1,    105,      5,2,19920930,1239, 32.5958, -17.4930, -999,   3016.3,   2.8312,-999.0000,9,  34.9521,2,   -999.0,9,    254.5,2, -999.000,9,-999.0000,9,  -999.00,9
      74AB73_1,  AR11,     1,  1,    106,      6,2,19920930,1239, 32.5958, -17.4930, -999,   3016.3,   2.8312,-999.0000,9,  35.0057,4,   -999.0,9,    246.2,4, -999.000,9,-999.0000,9,  -999.00,9
      74AB73_1,  AR11,     1,  1,    107,      7,2,19920930,1239, 32.5958, -17.4930, -999,   3016.3,   2.8312,-999.0000,9,  34.9521,2,   -999.0,9,    254.5,2, -999.000,9,-999.0000,9,  -999.00,9
      74AB73_1,  AR11,     1,  1,    108,      8,2,19920930,1239, 32.5958, -17.4930, -999,   3016.3,   2.8312,-999.0000,9,  34.9521,2,   -999.0,9,    254.5,2, -999.000,9,-999.0000,9,  -999.00,9
      74AB73_1,  AR11,     1,  1,    109,      9,2,19920930,1239, 32.5958, -17.4930, -999,   3016.3,   2.8312,-999.0000,9,  34.9521,2,   -999.0,9,    254.5,2, -999.000,9,-999.0000,9,  -999.00,9
      74AB73_1,  AR11,     1,  1,    110,     10,2,19920930,1239, 32.5958, -17.4930, -999,   3016.3,   2.8312,-999.0000,9,  34.9490,4,   -999.0,9,    246.2,4, -999.000,9,-999.0000,9,  -999.00,9
      74AB73_1,  AR11,     1,  1,    111,     11,2,19920930,1239, 32.5958, -17.4930, -999,   3016.3,   2.8312,-999.0000,9,  34.9484,4,   -999.0,9,    246.0,4, -999.000,9,-999.0000,9,  -999.00,9
      74AB73_1,  AR11,     1,  1,    112,     12,2,19920930,1239, 32.5958, -17.4930, -999,   3016.3,   2.8312,-999.0000,9,  34.9521,2,   -999.0,9,    254.5,2, -999.000,9,-999.0000,9,  -999.00,9
      74AB73_1,  AR11,     2,  1,    212,     12,2,19920930,2153, 32.7302, -19.0053, -999,     10.4,  23.9185,  36.8512,2,  36.8524,2,    242.5,2,    224.9,2,    1.740,2,   1.7300,2,    -1.72,2
      74AB73_1,  AR11,     2,  1,    211,     11,2,19920930,2153, 32.7302, -19.0053, -999,     54.9,  20.5785,  36.5815,2,  36.5886,2,    307.6,2,    250.2,2,    1.732,2,   1.7640,2,    -1.53,2
      74AB73_1,  AR11,     2,  1,    210,     10,2,19920930,2153, 32.7302, -19.0053, -999,     80.3,  19.0381,  36.5691,2,  36.5765,2,    272.5,2,    240.3,2,    1.700,2,   1.7720,2,    -1.21,2
      74AB73_1,  AR11,     2,  1,    209,      9,2,19920930,2153, 32.7302, -19.0053, -999,    104.3,  18.4321,  36.5886,2,  36.6037,2,    255.6,2,    228.2,2,    1.699,2,   1.7840,2,    -0.72,2
      74AB73_1,  AR11,     2,  1,    208,      8,2,19920930,2153, 32.7302, -19.0053, -999,    128.8,  17.6228,  36.4851,2,  36.4939,2,    232.0,2,    215.2,2,    1.746,2,   1.7730,2,    -0.76,2
      74AB73_1,  AR11,     2,  1,    207,      7,2,19920930,2153, 32.7302, -19.0053, -999,    154.2,  16.9066,  36.3403,2,  36.3540,2,    243.5,2,    215.7,2,    1.707,2,   1.8040,2,    -0.02,2
      74AB73_1,  AR11,     2,  1,    206,      6,2,19920930,2153, 32.7302, -19.0053, -999,    178.8,  16.7128,  36.3233,2,  36.3330,2,    254.2,2,    215.6,2,    1.739,2,   1.8050,2,     0.22,2
      74AB73_1,  AR11,     2,  1,    205,      5,2,19920930,2153, 32.7302, -19.0053, -999,    229.2,  16.1278,  36.2106,2,  36.2214,2,    245.9,2,    212.0,2,    1.803,2,   1.8140,2,     0.75,2
      74AB73_1,  AR11,     2,  1,    204,      4,2,19920930,2153, 32.7302, -19.0053, -999,    279.4,  15.2030,  36.0566,2,  36.0900,2,    238.2,2,    209.6,2,    1.825,2,   1.8590,2,     2.23,2
      74AB73_1,  AR11,     2,  1,    203,      3,2,19920930,2153, 32.7302, -19.0053, -999,    353.8,  14.0761,  35.9058,2,  35.9036,2,    255.3,2,    206.8,2,    1.829,2,   1.8810,2,     2.88,2
      74AB73_1,  AR11,     2,  1,    202,      2,2,19920930,2153, 32.7302, -19.0053, -999,    430.4,  13.1459,  35.7892,2,  35.7902,2,    268.9,2,    212.6,2,    1.889,2,   1.9050,2,     3.14,2
      74AB73_1,  AR11,     2,  1,    201,      1,2,19920930,2153, 32.7302, -19.0053, -999,    501.6,  12.3597,  35.6764,2,  35.6773,2,    247.7,2,    213.3,2,    1.925,2,   1.9610,2,     3.99,2
      74AB73_1,  AR11,     3,  1,    312,     12,2,19921001,0608, 32.8490, -20.5000, -999,      7.6,  24.0407,  36.8950,2,  36.9016,2,    213.1,2,    222.4,2,    1.816,2,   1.7480,2,    -1.54,2
      74AB73_1,  AR11,     3,  1,    311,     11,2,19921001,0608, 32.8490, -20.5000, -999,     52.0,  21.3446,  36.7459,2,  36.7530,2,    273.6,2,    248.2,2,    1.710,2,   1.7700,2,    -1.37,2
      74AB73_1,  AR11,     3,  1,    310,     10,2,19921001,0608, 32.8490, -20.5000, -999,     78.1,  19.2112,  36.6512,2,  36.6447,2,    230.8,2,    244.0,2,    1.796,2,   1.7750,2,    -1.30,2
      74AB73_1,  AR11,     3,  1,    309,      9,2,19921001,0608, 32.8490, -20.5000, -999,    102.0,  18.2838,  36.5865,2,  36.5642,2,    207.0,2,    221.6,2,    1.698,2,   1.7870,2,    -0.64,2
      74AB73_1,  AR11,     3,  1,    308,      8,2,19921001,0608, 32.8490, -20.5000, -999,    126.4,  17.7167,  36.5026,2,  36.4840,2,    200.8,2,    212.1,2,    1.659,2,   1.7960,2,    -0.40,2
      74AB73_1,  AR11,     3,  1,    307,      7,2,19921001,0608, 32.8490, -20.5000, -999,    151.8,  17.2007,  36.3831,2,  36.3724,2,    198.6,2,    209.7,2,    1.729,2,   1.8140,2,     0.06,2
      74AB73_1,  AR11,     3,  1,    306,      6,2,19921001,0608, 32.8490, -20.5000, -999,    176.4,  17.2253,  36.3486,2,  36.3750,2,    197.0,2,    208.3,2,    1.727,2,   1.8250,2,     0.25,2
      74AB73_1,  AR11,     3,  1,    305,      5,2,19921001,0608, 32.8490, -20.5000, -999,    225.8,  16.8342,  36.4046,2,  36.4059,2,    206.2,2,    210.5,2,    1.772,2,   1.8560,2,     0.21,2
      74AB73_1,  AR11,     3,  1,    304,      4,2,19921001,0608, 32.8490, -20.5000, -999,    276.6,  15.8900,  36.1804,2,  36.1840,2,    198.5,2,    205.4,2,    1.740,2,   1.8410,2,     1.37,2
      74AB73_1,  AR11,     3,  1,    303,      3,2,19921001,0608, 32.8490, -20.5000, -999,    350.6,  14.3720,  35.9587,2,  35.9336,2,    176.0,2,    198.4,2,    1.796,2,   1.8360,2,     3.35,2
      74AB73_1,  AR11,     3,  1,    302,      2,2,19921001,0608, 32.8490, -20.5000, -999,    426.7,  13.6088,  35.8535,2,  35.8528,2,    196.3,2,    210.9,2,    1.910,2,   1.8890,2,     2.06,2
      74AB73_1,  AR11,     3,  1,    301,      1,2,19921001,0608, 32.8490, -20.5000, -999,    501.1,  12.6709,  35.7109,2,  35.7114,2,    212.3,2,    206.3,2,    1.862,2,   1.9630,2,     3.42,2
      74AB73_1,  AR11,     4,  1,    412,     12,2,19921002,0339, 33.0370, -21.9798, -999,      9.4,  24.1377,  36.9860,2,  36.9898,2,    204.7,2,    222.1,2,    1.757,2,   1.7570,2,    -1.65,2
      74AB73_1,  AR11,     4,  1,    411,     11,2,19921002,0339, 33.0370, -21.9798, -999,     64.3,  20.3166,  36.6779,2,  36.6869,2,    228.5,2,    249.6,2,    1.745,2,   1.7920,2,    -1.54,2
      74AB73_1,  AR11,     4,  1,    410,     10,2,19921002,0339, 33.0370, -21.9798, -999,     98.4,  18.7029,  36.6002,2,  36.6425,2,    220.2,2,    234.7,2,    1.753,2,   1.7970,2,    -1.20,2
      74AB73_1,  AR11,     4,  1,    409,      9,2,19921002,0339, 33.0370, -21.9798, -999,    113.1,  18.4283,  36.6305,2,  36.6413,2,    216.6,2,    223.6,2,    1.765,2,   1.8130,2,    -1.10,2
      74AB73_1,  AR11,     4,  1,    408,      8,2,19921002,0339, 33.0370, -21.9798, -999,    137.8,  17.8755,  36.5523,2,  36.5749,2,    204.3,2,    213.4,2, -999.000,9,   1.7620,2,    -0.68,2
      74AB73_1,  AR11,     4,  1,    407,      7,2,19921002,0339, 33.0370, -21.9798, -999,    157.2,  17.6823,  36.5423,2,  36.5731,2,    200.9,2,    212.6,2, -999.000,9,   1.8050,2,    -0.47,2
      74AB73_1,  AR11,     4,  1,    406,      6,2,19921002,0339, 33.0370, -21.9798, -999,    186.3,  17.1350,  36.5067,2,  36.4828,2,    203.9,2,    212.6,2, -999.000,9,   1.8150,2,    -0.26,2
      74AB73_1,  AR11,     4,  1,    405,      5,2,19921002,0339, 33.0370, -21.9798, -999,    222.9,  16.5829,  36.3005,2,  36.3669,2,    198.4,2,    209.1,2,    1.814,2,   1.8150,2,     0.77,2
      74AB73_1,  AR11,     4,  1,    404,      4,2,19921002,0339, 33.0370, -21.9798, -999,    287.9,  15.4506,  36.1479,2,  36.1508,2,    195.7,2,    202.7,2, -999.000,9,   1.8710,2,     2.06,2
      74AB73_1,  AR11,     4,  1,    403,      3,2,19921002,0339, 33.0370, -21.9798, -999,    327.5,  14.7016,  36.0214,2,  36.0190,2,    185.1,2,    202.8,2,    1.896,2,   1.8750,2,     2.51,2
      74AB73_1,  AR11,     4,  1,    402,      2,2,19921002,0339, 33.0370, -21.9798, -999,    399.8,  13.8160,  35.8715,2,  35.8785,2,    183.9,2,    202.2,2, -999.000,9,   1.9470,2,     3.27,2
      74AB73_1,  AR11,     4,  1,    401,      1,2,19921002,0339, 33.0370, -21.9798, -999,    500.1,  12.5678,  35.7020,2,  35.7037,2,    198.1,2,    205.6,2, -999.000,9,   1.6960,2,     4.16,2
      74AB73_1,  AR11,     5,  1,    512,     12,2,19921003,0228, 31.9995, -21.5648, -999,      8.7,  23.9581,  37.0533,2,  37.0851,2,    203.7,2,    219.0,2,    1.804,2,   1.7520,2,    -1.76,2
      74AB73_1,  AR11,     5,  1,    511,     11,2,19921003,0228, 31.9995, -21.5648, -999,     52.9,  23.4794,  37.2341,2,  37.1982,2,    195.1,2,    223.9,2,    1.798,2,   1.7670,2,    -1.68,2
      74AB73_1,  AR11,     5,  1,    510,     10,2,19921003,0228, 31.9995, -21.5648, -999,     82.8,  20.0557,  36.7765,2,  36.7587,2,    220.9,2,    245.4,2,    1.861,2,   1.7860,2,    -1.62,2
      74AB73_1,  AR11,     5,  1,    509,      9,2,19921003,0228, 31.9995, -21.5648, -999,    113.4,  18.6536,  36.6710,2,  36.6731,2,    230.4,2,    228.6,2,    1.815,2,   1.8030,2,    -1.48,2
      74AB73_1,  AR11,     5,  1,    508,      8,2,19921003,0228, 31.9995, -21.5648, -999,    142.4,  18.0232,  36.6490,2,  36.6401,2,    207.2,2,    212.1,2,    1.850,2,   1.8170,2,    -0.84,2
      74AB73_1,  AR11,     5,  1,    507,      7,2,19921003,0228, 31.9995, -21.5648, -999,    183.0,  17.0915,  36.4961,2,  36.4717,2,    203.2,2,    210.1,2,    1.828,2,   1.8430,2,    -0.22,2
      74AB73_1,  AR11,     5,  1,    506,      6,2,19921003,0228, 31.9995, -21.5648, -999,    212.2,  16.3666,  36.3312,2,  36.3126,2,    195.0,2,    205.4,2,    1.838,2,   1.8750,2,     0.52,2
      74AB73_1,  AR11,     5,  1,    505,      5,2,19921003,0228, 31.9995, -21.5648, -999,    251.2,  15.6277,  36.1537,2,  36.1468,2,    199.7,2,    204.5,2,    1.821,2,   1.8430,2,     1.26,2
      74AB73_1,  AR11,     5,  1,    504,      4,2,19921003,0228, 31.9995, -21.5648, -999,    286.5,  15.1654,  36.0896,2,  36.0776,2,    197.3,2,    202.9,2,    1.848,2,-999.0000,9,  -999.00,9
      74AB73_1,  AR11,     5,  1,    503,      3,2,19921003,0228, 31.9995, -21.5648, -999,    320.0,  14.6685,  36.0047,2,  35.9985,2,    201.0,2,    202.5,2,    1.871,2,   1.8970,2,     2.26,2
      74AB73_1,  AR11,     5,  1,    502,      2,2,19921003,0228, 31.9995, -21.5648, -999,    387.5,  13.7531,  35.8663,2,  35.8667,2,    191.3,2,    202.2,2,    1.908,2,   1.9450,2,     2.80,2
      74AB73_1,  AR11,     5,  1,    501,      1,2,19921003,0228, 31.9995, -21.5648, -999,    503.6,  12.3342,  35.6754,2,  35.6751,2,    128.1,2,    200.8,2,    1.947,2,   1.9710,2,     5.64,2
      74AB73_1,  AR11,     6,  1,    612,     12,2,19921003,0850, 30.9998, -21.1180, -999,      8.6,  23.8995,  37.1892,2,  37.1888,2,    197.7,2,    222.5,2,    1.896,2,   1.7540,2,    -1.72,2
      74AB73_1,  AR11,     6,  1,    611,     11,2,19921003,0850, 30.9998, -21.1180, -999,     53.0,  23.0748,  37.1372,2,  37.1358,2,    215.7,2,    228.2,2,    1.872,2,   1.7680,2,    -1.69,2
      74AB73_1,  AR11,     6,  1,    610,     10,2,19921003,0850, 30.9998, -21.1180, -999,     83.2,  19.6536,  36.7799,2,  36.7962,2,    206.7,2,    238.4,2,    1.786,2,   1.7890,2,    -1.47,2
      74AB73_1,  AR11,     6,  1,    609,      9,2,19921003,0850, 30.9998, -21.1180, -999,    112.5,  18.8931,  36.7683,2,  36.7514,2,    202.2,2,    222.5,2,    1.856,2,   1.7890,2,    -1.54,2
      74AB73_1,  AR11,     6,  1,    608,      8,2,19921003,0850, 30.9998, -21.1180, -999,    142.3,  18.3607,  36.7088,2,  36.7183,2,    200.5,2,    213.4,2,    1.829,2,   1.7940,2,    -0.96,2
      74AB73_1,  AR11,     6,  1,    607,      7,2,19921003,0850, 30.9998, -21.1180, -999,    182.4,  17.4428,  36.5237,2,  36.5266,2,    198.3,2,    206.7,2,    1.849,2,   1.8230,2,    -0.10,2
      74AB73_1,  AR11,     6,  1,    606,      6,2,19921003,0850, 30.9998, -21.1180, -999,    212.7,  16.7822,  36.3805,2,  36.3893,2,    198.8,2,    204.2,2,    1.873,2,   1.8270,2,     0.60,2
      74AB73_1,  AR11,     6,  1,    605,      5,2,19921003,0850, 30.9998, -21.1180, -999,    252.4,  16.0759,  36.2547,2,  36.2501,2,    187.1,2,    203.8,2, -999.000,9,   1.8190,2,     1.04,2
      74AB73_1,  AR11,     6,  1,    604,      4,2,19921003,0850, 30.9998, -21.1180, -999,    286.9,  15.5922,  36.1717,2,  36.1668,2,    191.7,2,    202.0,2, -999.000,9,   1.8700,2,     1.64,2
      74AB73_1,  AR11,     6,  1,    603,      3,2,19921003,0850, 30.9998, -21.1180, -999,    319.8,  15.1169,  36.1018,2,  36.0920,2,    205.8,2,    203.5,2,    1.936,2,   1.8660,2,     1.77,2
      74AB73_1,  AR11,     6,  1,    602,      2,2,19921003,0850, 30.9998, -21.1180, -999,    387.2,  13.9717,  35.9065,2,  35.9016,2,    201.0,2,    205.2,2,    1.924,2,   1.9320,2,     2.36,2
      74AB73_1,  AR11,     6,  1,    601,      1,2,19921003,0850, 30.9998, -21.1180, -999,    502.5,  12.5647,-999.0000,9,  35.7084,2,   -999.0,9,    196.7,2,    2.002,2,   1.9440,2,     4.55,2
      74AB73_1,  AR11,     7,  1,    712,     12,2,19921003,1634, 29.7505, -20.5835, -999,      9.4,  23.9415,  37.1353,2,  37.1372,2,    206.0,2,    221.4,2,    1.831,2,   1.7510,2,    -1.61,2
      74AB73_1,  AR11,     7,  1,    711,     11,2,19921003,1634, 29.7505, -20.5835, -999,     54.4,  22.1060,  36.9065,2,  36.9620,2,    231.4,2,    233.5,2,    1.884,2,   1.7680,2,    -1.51,2
      74AB73_1,  AR11,     7,  1,    710,     10,2,19921003,1634, 29.7505, -20.5835, -999,     84.0,  19.1950,  36.7754,2,  36.7772,2,    222.6,2,    233.1,2,    1.784,2,   1.7890,2,    -1.26,2
      74AB73_1,  AR11,     7,  1,    709,      9,2,19921003,1634, 29.7505, -20.5835, -999,    114.3,  18.6024,  36.7476,2,  36.7405,2,    209.0,2,    217.7,2,    1.815,2,   1.7910,2,    -0.90,2
      74AB73_1,  AR11,     7,  1,    708,      8,2,19921003,1634, 29.7505, -20.5835, -999,    144.0,  18.4712,  36.7805,2,  36.7833,2,    205.9,2,    215.9,2,    1.872,2,   1.7960,2,    -1.23,2
      74AB73_1,  AR11,     7,  1,    707,      7,2,19921003,1634, 29.7505, -20.5835, -999,    183.9,  18.3273,  36.7683,2,  36.7661,2,    210.1,2,    216.6,2, -999.000,9,   1.8140,2,    -1.14,2
      74AB73_1,  AR11,     7,  1,    706,      6,2,19921003,1634, 29.7505, -20.5835, -999,    213.9,  17.9289,  36.6829,2,  36.6459,2,    183.6,2,    211.7,2,    1.878,2,   1.8280,2,    -0.81,2
      74AB73_1,  AR11,     7,  1,    705,      5,2,19921003,1634, 29.7505, -20.5835, -999,    253.7,  16.6284,  36.4080,2,  36.3891,2,    200.9,2,    205.6,2,    1.881,2,   1.8120,2,     0.35,2
      74AB73_1,  AR11,     7,  1,    704,      4,2,19921003,1634, 29.7505, -20.5835, -999,    288.5,  15.9004,  36.2660,2,  36.2663,2,    197.3,2,    203.1,2,    1.975,2,   1.8610,2,     1.11,2
      74AB73_1,  AR11,     7,  1,    703,      3,2,19921003,1634, 29.7505, -20.5835, -999,    323.7,  15.0917,  36.0875,2,  36.0884,2,    197.1,2,    201.9,2,    1.968,2,   1.8610,2,     1.91,2
      74AB73_1,  AR11,     7,  1,    702,      2,2,19921003,1634, 29.7505, -20.5835, -999,    388.3,  14.2128,  35.9419,2,  35.9433,2,    199.6,2,    198.8,2,    2.051,2,   1.8850,2,     3.14,2
      74AB73_1,  AR11,     7,  1,    701,      1,2,19921003,1634, 29.7505, -20.5835, -999,    503.6,  12.4556,  35.6899,2,  35.6932,2,    301.0,2,    227.9,2,    2.058,2,   1.9570,2,     5.42,2
      74AB73_1,  AR11,     8,  1,    812,     12,2,19921003,2104, 28.9997, -20.6845, -999,      5.1,  23.7901,  37.0268,2,  37.0289,2,    209.9,2,    223.7,2,    1.840,2,   1.7710,2,    -1.68,2
      74AB73_1,  AR11,     8,  1,    811,     11,2,19921003,2104, 28.9997, -20.6845, -999,     39.1,  23.3002,  37.0095,2,  37.0128,2,    210.6,2,    224.0,2,    1.896,2,   1.7720,2,    -1.75,2
      74AB73_1,  AR11,     8,  1,    810,     10,2,19921003,2104, 28.9997, -20.6845, -999,     75.6,  19.8200,  36.7932,2,  36.7887,2,    238.8,2,    244.3,2,    1.777,2,   1.7910,2,    -1.69,2
      74AB73_1,  AR11,     8,  1,    809,      9,2,19921003,2104, 28.9997, -20.6845, -999,     96.6,  19.0230,  36.7417,2,  36.7560,2,    206.9,2,    232.5,2,    1.803,2,   1.7840,2,    -1.64,2
      74AB73_1,  AR11,     8,  1,    808,      8,2,19921003,2104, 28.9997, -20.6845, -999,    114.4,  18.6325,  36.7463,2,  36.7433,2,    212.2,2,    223.9,2,    1.787,2,   1.7980,2,    -1.51,2
      74AB73_1,  AR11,     8,  1,    807,      7,2,19921003,2104, 28.9997, -20.6845, -999,    138.8,  18.3321,  36.7182,2,  36.7214,2,    208.6,2,    213.6,2,    1.802,2,   1.7320,2,    -1.40,2
      74AB73_1,  AR11,     8,  1,    806,      6,2,19921003,2104, 28.9997, -20.6845, -999,    163.4,  17.8506,  36.6255,2,  36.6181,2,    192.2,2,    210.1,2,    1.812,2,   1.8170,2,    -1.00,2
      74AB73_1,  AR11,     8,  1,    805,      5,2,19921003,2104, 28.9997, -20.6845, -999,    223.1,  16.3365,  36.3213,2,  36.3178,2,    197.4,2,    203.5,2,    1.835,2,   1.8200,2,     0.80,2
      74AB73_1,  AR11,     8,  1,    804,      4,2,19921003,2104, 28.9997, -20.6845, -999,    283.1,  15.4567,  36.1699,2,  36.1727,2,    195.8,2,    201.3,2, -999.000,9,   1.8320,2,     1.44,2
      74AB73_1,  AR11,     8,  1,    803,      3,2,19921003,2104, 28.9997, -20.6845, -999,    312.3,  14.9379,  36.0757,2,  36.0708,2,    191.6,2,    198.5,2,    1.959,2,   1.8530,2,     2.07,2
      74AB73_1,  AR11,     8,  1,    802,      2,2,19921003,2104, 28.9997, -20.6845, -999,    383.0,  13.7545,  35.8790,2,  35.8718,2,    191.9,2,    199.3,2,    1.971,2,   1.9070,2,     3.13,2
      74AB73_1,  AR11,     8,  1,    801,      1,2,19921003,2104, 28.9997, -20.6845, -999,    498.2,  12.4918,  35.7064,2,  35.6984,2,    192.0,2,    192.6,2,    1.968,2,   1.9320,2,     6.02,2