BOTTLE,20010823WHPSIOKJU
EXPOCODE,SECT_ID,STNNBR,CASTNO,SAMPNO,BTLNBR,BTLNBR_FLAG_W,DATE,TIME,LATITUDE,LONGITUDE,DEPTH,CTDPRS,CTDTMP,CTDSAL,CTDSAL_FLAG_W,SALNTY,SALNTY_FLAG_W,CTDOXY,CTDOXY_FLAG_W,OXYGEN,OXYGEN_FLAG_W,TRITUM,TRITUM_FLAG_W,HELIUM,HELIUM_FLAG_W,DELHE3,DELHE3_FLAG_W
,,,,,,,,,,,,DBAR,IPTS68,PSS-78,,PSS-78,,UMOL/KG,,UMOL/KG,,TU,,NMOL/KG,,PERCNT,
      74AB73_1,  AR11,    17,  1,   1712,     12,2,19921007,0001, 18.0182, -21.9658, -999,     11.9,  25.0607,  36.2847,2,  36.2861,2,    192.8,2,    220.4,2,    0.938,2,   1.7450,2,    -1.48,2
      74AB73_1,  AR11,    17,  1,   1711,     11,2,19921007,0001, 18.0182, -21.9658, -999,     46.3,  20.8907,  36.7431,2,  36.9272,2,    164.0,2,    228.8,2,    1.781,2,   1.7550,2,    -1.77,2
      74AB73_1,  AR11,    17,  1,   1710,     10,2,19921007,0001, 18.0182, -21.9658, -999,     95.8,  17.4589,  36.2330,2,  36.3237,2,    105.4,2,    132.3,2,    1.468,2,   1.7780,2,    -0.34,2
      74AB73_1,  AR11,    17,  1,   1709,      9,2,19921007,0001, 18.0182, -21.9658, -999,    145.3,  15.4425,  35.9869,2,  35.9809,2,     95.0,2,     87.8,2,    1.246,2,   1.7990,2,     1.61,2
      74AB73_1,  AR11,    17,  1,   1708,      8,2,19921007,0001, 18.0182, -21.9658, -999,    194.3,  14.1334,  35.7488,2,  35.7444,2,     69.8,2,     69.4,2,    1.070,2,   1.8180,2,     2.21,2
      74AB73_1,  AR11,    17,  1,   1707,      7,2,19921007,0001, 18.0182, -21.9658, -999,    268.5,  13.4686,  35.7230,2,  35.6966,2,     93.1,2,     80.1,2,    1.222,2,   1.8150,2,     4.20,2
      74AB73_1,  AR11,    17,  1,   1706,      6,2,19921007,0001, 18.0182, -21.9658, -999,    534.3,   9.4554,  35.1819,2,  35.1790,2,     76.1,2,     70.8,2,    0.405,2,   1.8440,2,     3.88,2
      74AB73_1,  AR11,    17,  1,   1705,      5,2,19921007,0001, 18.0182, -21.9658, -999,    805.6,   6.9372,  34.9418,2,  34.9437,2,    108.0,2,    108.1,2, -999.000,9,   1.8660,2,     0.62,2
      74AB73_1,  AR11,    17,  1,   1704,      4,2,19921007,0001, 18.0182, -21.9658, -999,   1104.4,   5.8436,  35.0116,2,  35.0148,2,    142.4,2,    148.0,2,    0.022,2,   1.8740,2,     0.64,2
      74AB73_1,  AR11,    17,  1,   1703,      3,2,19921007,0001, 18.0182, -21.9658, -999,   1266.3,   5.4178,  35.0596,2,  35.0557,2,    167.2,2,    170.7,2,    0.018,2,   1.9030,2,     0.88,2
      74AB73_1,  AR11,    17,  1,   1702,      2,2,19921007,0001, 18.0182, -21.9658, -999,   1507.5,   4.4866,  35.0319,2,  35.0291,2,    187.1,2,    199.2,2,    0.000,2,   1.9560,2,     0.83,2
      74AB73_1,  AR11,    17,  1,   1701,      1,2,19921007,0001, 18.0182, -21.9658, -999,   2011.7,   3.4996,  34.9787,2,  34.9754,2,    215.3,2,    226.9,2,   -0.007,2,   1.9370,2,     1.09,2
      74AB73_1,  AR11,    18,  1,   1812,     12,2,19921008,0406, 18.0020, -23.9990, -999,      8.4,  25.6885,  36.6210,2,  36.6342,2,    207.6,2,    214.3,2,    1.063,2,   1.7430,2,    -1.65,2
      74AB73_1,  AR11,    18,  1,   1811,     11,2,19921008,0406, 18.0020, -23.9990, -999,     63.1,  19.5618,  36.5509,2,  36.5426,2,    136.5,2,    155.6,2, -999.000,9,   1.8050,2,    -1.15,2
      74AB73_1,  AR11,    18,  1,   1810,     10,2,19921008,0406, 18.0020, -23.9990, -999,     92.7,  18.1461,  36.4630,2,  36.4364,2,    130.3,2,    129.0,2,    1.446,2,   1.8270,2,    -0.25,2
      74AB73_1,  AR11,    18,  1,   1809,      9,2,19921008,0406, 18.0020, -23.9990, -999,    122.5,  16.1231,  36.0431,2,  36.0671,2,     79.0,2,     84.6,2,    1.186,2,   1.8260,2,     1.11,2
      74AB73_1,  AR11,    18,  1,   1808,      8,2,19921008,0406, 18.0020, -23.9990, -999,    152.3,  14.9230,  35.8343,2,  35.8179,2,     67.2,2,     68.9,2, -999.000,9,   1.8220,2,     1.67,2
      74AB73_1,  AR11,    18,  1,   1807,      7,2,19921008,0406, 18.0020, -23.9990, -999,    182.4,  14.0487,  35.6887,2,  35.6814,2,     67.1,2,     68.0,2,    0.951,2,   1.8750,2,     2.66,2
      74AB73_1,  AR11,    18,  1,   1806,      6,2,19921008,0406, 18.0020, -23.9990, -999,    212.1,  13.2427,  35.5917,2,  35.5760,2,     61.4,2,     61.4,2,    0.907,2,   1.8720,2,     3.20,2
      74AB73_1,  AR11,    18,  1,   1805,      5,2,19921008,0406, 18.0020, -23.9990, -999,    241.3,  12.6766,  35.5158,2,  35.5243,2,     61.8,2,     61.2,2,    0.910,2,   1.8650,2,     3.84,2
      74AB73_1,  AR11,    18,  1,   1804,      4,2,19921008,0406, 18.0020, -23.9990, -999,    281.0,  12.3090,  35.5339,2,  35.5289,2,     74.5,2,     73.2,2,    1.056,2,   1.9210,2,     5.08,2
      74AB73_1,  AR11,    18,  1,   1803,      3,2,19921008,0406, 18.0020, -23.9990, -999,    322.1,  11.7792,  35.4714,2,  35.4724,2,     75.8,2,     76.7,2,    1.006,2,   1.9550,2,     5.98,2
      74AB73_1,  AR11,    18,  1,   1802,      2,2,19921008,0406, 18.0020, -23.9990, -999,    411.6,  10.2084,  35.2565,2,  35.2580,2,     59.4,2,     59.4,2,    0.543,2,   1.9370,2,     4.62,2
      74AB73_1,  AR11,    18,  1,   1801,      1,2,19921008,0406, 18.0020, -23.9990, -999,    502.6,   9.1973,  35.1492,2,  35.1459,2,     72.1,2,     68.2,2,    0.331,2,   2.0250,2,     3.56,2
      74AB73_1,  AR11,    19,  1,   1912,     12,2,19921008,1440, 18.0020, -25.9988, -999,      6.5,  25.9945,  36.4844,2,  36.4859,2,    209.8,2,    218.0,2,    0.935,2,   1.7570,2,    -1.87,2
      74AB73_1,  AR11,    19,  1,   1911,     11,2,19921008,1440, 18.0020, -25.9988, -999,     61.0,  21.7054,  36.8847,2,  36.8415,2,    219.9,2,    210.1,2,    1.361,2,   1.7750,2,    -1.55,2
      74AB73_1,  AR11,    19,  1,   1910,     10,2,19921008,1440, 18.0020, -25.9988, -999,     92.3,  19.7718,  36.7114,2,  36.7373,2,    153.5,2,    172.4,2,    1.581,2,   1.7910,2,    -1.08,2
      74AB73_1,  AR11,    19,  1,   1909,      9,2,19921008,1440, 18.0020, -25.9988, -999,    122.0,  18.9657,  36.7080,2,  36.6786,2,    170.1,2,    161.2,2,    1.686,2,   1.8060,2,    -0.53,2
      74AB73_1,  AR11,    19,  1,   1908,      8,2,19921008,1440, 18.0020, -25.9988, -999,    151.3,  17.4075,  36.4780,2,  36.4229,2,    142.2,2,    144.3,2,    1.621,2,   1.8270,2,     0.49,2
      74AB73_1,  AR11,    19,  1,   1907,      7,2,19921008,1440, 18.0020, -25.9988, -999,    183.3,  16.4001,  36.3073,2,  36.2495,2,    150.1,2,    137.2,2,    1.583,2,   1.8670,2,     0.97,2
      74AB73_1,  AR11,    19,  1,   1906,      6,2,19921008,1440, 18.0020, -25.9988, -999,    212.5,  15.6236,  36.1381,2,  36.1163,2,    133.1,2,    134.4,2, -999.000,9,   1.8620,2,     2.29,2
      74AB73_1,  AR11,    19,  1,   1905,      5,2,19921008,1440, 18.0020, -25.9988, -999,    241.8,  14.7799,  35.9866,2,  35.9619,2,    117.1,2,    122.0,2,    1.484,2,   1.8510,2,     3.16,2
      74AB73_1,  AR11,    19,  1,   1904,      4,2,19921008,1440, 18.0020, -25.9988, -999,    282.8,  13.8774,  35.8311,2,  35.8023,2,    109.5,2,    107.0,2,    1.391,2,   1.8980,2,     4.41,2
      74AB73_1,  AR11,    19,  1,   1903,      3,2,19921008,1440, 18.0020, -25.9988, -999,    323.9,  13.3252,  35.7263,2,  35.7254,2,    105.6,2,    107.1,2,    1.409,2,   1.9180,2,     5.66,2
      74AB73_1,  AR11,    19,  1,   1902,      2,2,19921008,1440, 18.0020, -25.9988, -999,    412.7,  11.5071,  35.4702,2,  35.4614,2,     79.9,2,     83.8,2,    1.006,2,   1.9980,2,     7.00,2
      74AB73_1,  AR11,    19,  1,   1901,      1,2,19921008,1440, 18.0020, -25.9988, -999,    504.1,  10.1423,  35.2852,2,  35.2848,2,     84.1,2,     82.2,2,    0.615,2,   1.9870,2,     5.80,2
      74AB73_1,  AR11,    20,  1,   2012,     12,2,19921009,0116, 17.9993, -28.0012, -999,     10.7,  25.6474,  36.6988,2,  36.6982,2,    207.9,2,    221.4,2,    0.460,2,   1.7320,2,    -1.96,2
      74AB73_1,  AR11,    20,  1,   2011,     11,2,19921009,0116, 17.9993, -28.0012, -999,     75.0,  21.7050,  36.5820,2,  36.5999,2,    138.0,2,    205.8,2,    1.269,2,   1.7760,2,    -0.93,2
      74AB73_1,  AR11,    20,  1,   2010,     10,2,19921009,0116, 17.9993, -28.0012, -999,    109.7,  18.9378,  36.6551,2,  36.6167,2,    137.7,2,    144.6,2,    1.522,2,   1.8080,2,    -0.44,2
      74AB73_1,  AR11,    20,  1,   2009,      9,2,19921009,0116, 17.9993, -28.0012, -999,    124.4,  18.5985,  36.5362,2,  36.5959,2,    140.1,2,    144.5,2,    1.677,2,   1.8070,2,     0.17,2
      74AB73_1,  AR11,    20,  1,   2008,      8,2,19921009,0116, 17.9993, -28.0012, -999,    158.9,  16.6482,  36.2440,2,  36.2855,2,    117.4,2,    130.7,2,    1.462,2,   1.8050,2,     1.66,2
      74AB73_1,  AR11,    20,  1,   2007,      7,2,19921009,0116, 17.9993, -28.0012, -999,    183.1,  15.6774,  36.0878,2,  36.1039,2,    116.7,2,    120.3,2,    1.461,2,   1.8240,2,     2.30,2
      74AB73_1,  AR11,    20,  1,   2006,      6,2,19921009,0116, 17.9993, -28.0012, -999,    227.1,  14.6601,  35.9385,2,  35.9421,2,    114.8,2,    122.8,2,    1.555,2,   1.8280,2,     3.82,2
      74AB73_1,  AR11,    20,  1,   2005,      5,2,19921009,0116, 17.9993, -28.0012, -999,    302.0,  12.7111,  35.6750,2,  35.6666,2,    110.1,2,    112.2,2,    1.337,2,   1.8330,2,     7.97,2
      74AB73_1,  AR11,    20,  1,   2004,      4,2,19921009,0116, 17.9993, -28.0012, -999,    451.5,  10.0650,  35.2524,2,  35.2410,2,     79.9,2,     77.7,2,    0.535,2,   1.8960,2,     4.40,2
      74AB73_1,  AR11,    20,  1,   2003,      3,2,19921009,0116, 17.9993, -28.0012, -999,    602.1,   8.2506,  35.0361,2,  35.0327,2,     94.3,2,     92.5,2, -999.000,9,   1.8890,2,     1.53,2
      74AB73_1,  AR11,    20,  1,   2002,      2,2,19921009,0116, 17.9993, -28.0012, -999,    802.5,   6.6622,  34.8978,2,  34.8995,2,    115.8,2,    113.6,2,    0.041,2,   1.9370,2,     0.16,2
      74AB73_1,  AR11,    20,  1,   2001,      1,2,19921009,0116, 17.9993, -28.0012, -999,   1004.9,   5.9217,  34.9335,2,  34.9333,2,    140.4,2,    138.9,2,    0.018,2,   1.9970,2,     0.27,2
      74AB73_1,  AR11,    21,  1,   2112,     12,2,19921009,1146, 18.0002, -30.0010, -999,      7.1,  25.9070,  36.7698,2,  36.7708,2,    207.5,2,    217.2,2, -999.000,9,   1.7980,2,    -1.72,2
      74AB73_1,  AR11,    21,  1,   2111,     11,2,19921009,1146, 18.0002, -30.0010, -999,     80.6,  21.2904,  36.9560,2,  36.9419,2,    211.0,2,    204.7,2,    1.495,2,   1.7850,2,    -1.29,2
      74AB73_1,  AR11,    21,  1,   2110,     10,2,19921009,1146, 18.0002, -30.0010, -999,    120.4,  19.0899,  36.8106,2,  36.7939,2,    181.7,2,    178.9,2,    1.704,2,   1.8000,2,    -0.53,2
      74AB73_1,  AR11,    21,  1,   2109,      9,2,19921009,1146, 18.0002, -30.0010, -999,    140.1,  17.9556,  36.6392,2,  36.5113,2,    139.9,2,    145.6,2,    1.432,2,   1.8130,2,     0.42,2
      74AB73_1,  AR11,    21,  1,   2108,      8,2,19921009,1146, 18.0002, -30.0010, -999,    155.7,  17.1813,  36.3921,2,  36.3524,2,    124.9,2,    133.1,2, -999.000,9,   1.8160,2,     0.70,2
      74AB73_1,  AR11,    21,  1,   2107,      7,2,19921009,1146, 18.0002, -30.0010, -999,    182.2,  16.1915,  36.1932,2,  36.1844,2,    113.0,2,    119.0,2, -999.000,9,   1.8390,2,     1.38,2
      74AB73_1,  AR11,    21,  1,   2106,      6,2,19921009,1146, 18.0002, -30.0010, -999,    221.8,  15.1148,  35.9789,2,  35.9775,2,    111.7,2,    108.2,2,    1.346,2,   1.8540,2,     2.35,2
      74AB73_1,  AR11,    21,  1,   2105,      5,2,19921009,1146, 18.0002, -30.0010, -999,    261.9,  14.3214,  35.8506,2,  35.8584,2,    102.2,2,    106.5,2,    1.362,2,   1.8340,2,     3.78,2
      74AB73_1,  AR11,    21,  1,   2104,      4,2,19921009,1146, 18.0002, -30.0010, -999,    306.3,  13.5475,  35.7330,2,  35.7333,2,     92.3,2,     99.4,2,    1.288,2,-999.0000,9,  -999.00,9
      74AB73_1,  AR11,    21,  1,   2103,      3,2,19921009,1146, 18.0002, -30.0010, -999,    351.7,  13.3599,  35.7628,2,  35.7618,2,    125.8,2,    128.2,2,    1.583,2,   1.8810,2,     6.80,2
      74AB73_1,  AR11,    21,  1,   2102,      2,2,19921009,1146, 18.0002, -30.0010, -999,    426.6,  11.9312,  35.5532,2,  35.5588,2,    107.6,2,    111.2,2,    1.222,2,   1.9580,2,     8.33,2
      74AB73_1,  AR11,    21,  1,   2101,      1,2,19921009,1146, 18.0002, -30.0010, -999,    502.0,  10.4383,  35.3311,2,  35.3376,2,     92.0,2,     99.7,2, -999.000,9,   1.9640,2,     6.40,2
      74AB73_1,  AR11,    22,  1,   2212,     12,2,19921009,2158, 17.9835, -32.0000, -999,      6.4,  26.1881,  37.1310,2,  37.1306,2,    193.9,2,    226.7,2,    1.126,2,   1.7180,2,    -2.09,2
      74AB73_1,  AR11,    22,  1,   2211,     11,2,19921009,2158, 17.9835, -32.0000, -999,     80.4,  22.8074,  37.2424,2,  37.2509,2,    216.3,2,    225.7,2,    1.447,2,   1.7680,2,    -1.79,2
      74AB73_1,  AR11,    22,  1,   2210,     10,2,19921009,2158, 17.9835, -32.0000, -999,    106.8,  21.2970,  37.1451,2,  37.1795,2,    200.2,2,    208.4,2,    1.579,2,   1.8020,2,    -1.51,2
      74AB73_1,  AR11,    22,  1,   2209,      9,2,19921009,2158, 17.9835, -32.0000, -999,    135.3,  19.9139,  37.0138,2,  36.9675,2,    160.2,2,    185.9,2,    1.704,2,   1.7880,2,    -0.57,2
      74AB73_1,  AR11,    22,  1,   2208,      8,2,19921009,2158, 17.9835, -32.0000, -999,    166.4,  18.6293,  36.7456,2,  36.6737,2,    164.1,2,    173.5,2,    1.699,2,   1.8100,2,     0.04,2
      74AB73_1,  AR11,    22,  1,   2207,      7,2,19921009,2158, 17.9835, -32.0000, -999,    196.2,  16.8107,  36.4058,2,  36.3360,2,    136.5,2,    150.2,2,    1.624,2,   1.8330,2,     1.72,2
      74AB73_1,  AR11,    22,  1,   2206,      6,2,19921009,2158, 17.9835, -32.0000, -999,    226.0,  16.0117,  36.2706,2,  36.2182,2,    168.6,2,    170.6,2,    1.780,2,-999.0000,9,  -999.00,9
      74AB73_1,  AR11,    22,  1,   2205,      5,2,19921009,2158, 17.9835, -32.0000, -999,    256.1,  15.3229,  36.1092,2,  36.0562,2,    140.8,2,    143.5,2,    1.619,2,   1.8500,2,     3.56,2
      74AB73_1,  AR11,    22,  1,   2204,      4,2,19921009,2158, 17.9835, -32.0000, -999,    292.2,  14.4779,  35.9048,2,  35.8965,2,    120.0,2,    120.7,2,    1.542,2,   1.9250,2,     4.40,2
      74AB73_1,  AR11,    22,  1,   2203,      3,2,19921009,2158, 17.9835, -32.0000, -999,    362.3,  13.1512,  35.7342,2,  35.7475,2,    129.5,2,    134.4,2,    1.607,2,   1.9200,2,     7.49,2
      74AB73_1,  AR11,    22,  1,   2202,      2,2,19921009,2158, 17.9835, -32.0000, -999,    424.2,  12.1473,  35.5885,2,  35.5908,2,    113.0,2,    117.7,2,    1.338,2,   1.9770,2,     8.19,2
      74AB73_1,  AR11,    22,  1,   2201,      1,2,19921009,2158, 17.9835, -32.0000, -999,    494.3,  10.7089,  35.3818,2,  35.3784,2,    106.0,2,    111.8,2,    0.398,2,   1.9920,2,     7.06,2
      74AB73_1,  AR11,    23,  1,   2312,     12,2,19921010,0543, 18.0480, -33.9487, -999,     11.7,  26.3487,  37.0973,2,  37.0992,2,    179.8,2,    220.5,2,    1.104,2,   1.7560,2,    -1.95,2
      74AB73_1,  AR11,    23,  1,   2311,     11,2,19921010,0543, 18.0480, -33.9487, -999,    129.6,  21.5617,  37.2269,2,  37.2256,2,    194.2,2,    205.3,2,    1.536,2,   1.7710,2,    -1.37,2
      74AB73_1,  AR11,    23,  1,   2310,     10,2,19921010,0543, 18.0480, -33.9487, -999,    154.4,  20.3558,  36.9720,2,  37.0321,2,    156.7,2,    189.3,2,    1.619,2,   1.7950,2,    -0.85,2
      74AB73_1,  AR11,    23,  1,   2309,      9,2,19921010,0543, 18.0480, -33.9487, -999,    189.9,  18.2387,  36.6165,2,  36.5892,2,    143.4,2,    153.1,2, -999.000,9,   1.7960,2,     0.65,2
      74AB73_1,  AR11,    23,  1,   2308,      8,2,19921010,0543, 18.0480, -33.9487, -999,    234.3,  16.2924,  36.1881,2,  36.2180,2,    122.9,2,    132.8,2,    1.574,2,   1.8050,2,     2.86,2
      74AB73_1,  AR11,    23,  1,   2307,      7,2,19921010,0543, 18.0480, -33.9487, -999,    303.5,  13.9769,  35.8339,2,  35.8143,2,    106.8,2,    107.5,2,    1.410,2,   1.8600,2,     5.23,2
      74AB73_1,  AR11,    23,  1,   2306,      6,2,19921010,0543, 18.0480, -33.9487, -999,    403.4,  12.1687,  35.5558,2,  35.5478,2,     94.2,2,     95.6,2,    1.155,2,   1.8380,2,     7.48,2
      74AB73_1,  AR11,    23,  1,   2305,      5,2,19921010,0543, 18.0480, -33.9487, -999,    502.9,  10.6473,  35.3859,2,  35.3638,2,    109.5,2,    106.7,2,    0.795,2,   1.8600,2,     6.94,2
      74AB73_1,  AR11,    23,  1,   2304,      4,2,19921010,0543, 18.0480, -33.9487, -999,    710.5,   7.4819,  34.9977,2,  34.9750,2,    117.4,2,    117.6,2,    0.144,2,   1.8710,2,     1.80,2
      74AB73_1,  AR11,    23,  1,   2303,      3,2,19921010,0543, 18.0480, -33.9487, -999,    916.3,   6.0744,  34.8698,2,  34.8694,2,    139.9,2,    135.2,2,    0.041,2,   1.9010,2,     0.33,2
      74AB73_1,  AR11,    23,  1,   2302,      2,2,19921010,0543, 18.0480, -33.9487, -999,   1394.4,   4.8837,  35.0253,2,  35.0226,2,    194.4,2,    194.8,2,    0.015,2,   1.9090,2,     0.28,2
      74AB73_1,  AR11,    23,  1,   2301,      1,2,19921010,0543, 18.0480, -33.9487, -999,   2002.1,   3.6280,  34.9871,2,  34.9848,2,    228.7,2,    236.4,2,   -0.006,2,   1.9340,2,     0.50,2
      74AB73_1,  AR11,    24,  1,   2412,     12,2,19921012,1357, 19.5003, -33.0007, -999,     10.4,  25.8787,  36.9527,2,  36.9472,2,    203.1,2,    240.1,2, -999.000,9,   1.7420,2,    -1.85,2
      74AB73_1,  AR11,    24,  1,   2411,     11,2,19921012,1357, 19.5003, -33.0007, -999,     49.7,  23.9892,  37.1556,2,  37.1580,2,    214.8,2,    245.5,2,    1.262,2,   1.7780,2,    -1.60,2
      74AB73_1,  AR11,    24,  1,   2410,     10,2,19921012,1357, 19.5003, -33.0007, -999,     71.3,  22.9531,  37.1740,2,  37.2010,2,    206.6,2,    246.3,2, -999.000,9,   1.7820,2,    -1.60,2
      74AB73_1,  AR11,    24,  1,   2409,      9,2,19921012,1357, 19.5003, -33.0007, -999,    100.6,  22.0188,  37.2047,2,  37.2074,2,    187.2,2,    234.8,2,    1.448,2,   1.7690,2,    -1.34,2
      74AB73_1,  AR11,    24,  1,   2408,      8,2,19921012,1357, 19.5003, -33.0007, -999,    152.4,  20.8593,  37.1479,2,  37.1479,2,    189.4,2,    217.8,2, -999.000,9,   1.7810,2,    -0.99,2
      74AB73_1,  AR11,    24,  1,   2407,      7,2,19921012,1357, 19.5003, -33.0007, -999,    175.9,  19.7742,  36.9444,2,  36.9477,2,    172.9,2,    203.0,2, -999.000,9,   1.8180,2,    -0.62,2
      74AB73_1,  AR11,    24,  1,   2406,      6,2,19921012,1357, 19.5003, -33.0007, -999,    200.6,  18.4913,  36.7034,2,  36.6892,2,    164.1,2,    189.7,2,    1.670,2,   1.8490,2,     0.10,2
      74AB73_1,  AR11,    24,  1,   2405,      5,2,19921012,1357, 19.5003, -33.0007, -999,    235.2,  17.0370,  36.4484,2,  36.3994,2,    153.6,2,    172.6,2,    1.664,2,   1.8090,2,     1.46,2
      74AB73_1,  AR11,    24,  1,   2404,      4,2,19921012,1357, 19.5003, -33.0007, -999,    264.7,  16.0751,  36.2736,2,  36.2086,2,    138.9,2,    161.0,2,    1.615,2,   1.8700,2,     1.95,2
      74AB73_1,  AR11,    24,  1,   2403,      3,2,19921012,1357, 19.5003, -33.0007, -999,    323.7,  14.3808,  35.9331,2,  35.9171,2,    129.7,2,    151.3,2,    1.617,2,   1.8670,2,     4.63,2
      74AB73_1,  AR11,    24,  1,   2402,      2,2,19921012,1357, 19.5003, -33.0007, -999,    403.7,  12.7123,  35.6654,2,  35.6536,2,    114.9,2,    134.6,2,    1.366,2,   1.9320,2,     6.82,2
      74AB73_1,  AR11,    24,  1,   2401,      1,2,19921012,1357, 19.5003, -33.0007, -999,    504.2,  11.2051,  35.4649,2,  35.4671,2,    101.8,2,    127.7,2,    0.763,2,   2.0080,2,     7.14,2