BOTTLE,20010823WHPSIOKJU
EXPOCODE,SECT_ID,STNNBR,CASTNO,SAMPNO,BTLNBR,BTLNBR_FLAG_W,DATE,TIME,LATITUDE,LONGITUDE,DEPTH,CTDPRS,CTDTMP,CTDSAL,CTDSAL_FLAG_W,SALNTY,SALNTY_FLAG_W,CTDOXY,CTDOXY_FLAG_W,OXYGEN,OXYGEN_FLAG_W,TRITUM,TRITUM_FLAG_W,HELIUM,HELIUM_FLAG_W,DELHE3,DELHE3_FLAG_W
,,,,,,,,,,,,DBAR,IPTS68,PSS-78,,PSS-78,,UMOL/KG,,UMOL/KG,,TU,,NMOL/KG,,PERCNT,
      74AB73_1,  AR11,     9,  1,    912,     12,2,19921004,0252, 28.0002, -20.8182, -999,     10.5,  23.6542,  37.0807,2,  37.0782,2,    206.6,2,    219.7,2,    2.024,2,-999.0000,9,  -999.00,9
      74AB73_1,  AR11,     9,  1,    911,     11,2,19921004,0252, 28.0002, -20.8182, -999,     54.9,  23.1559,  37.0613,2,  37.0579,2,    204.4,2,    221.1,2,    1.988,2,   1.7690,2,    -1.61,2
      74AB73_1,  AR11,     9,  1,    910,     10,2,19921004,0252, 28.0002, -20.8182, -999,     79.5,  19.9921,  36.7981,2,  36.8030,2,    240.8,2,    242.9,2,    1.894,2,   1.7800,2,    -1.38,2
      74AB73_1,  AR11,     9,  1,    909,      9,2,19921004,0252, 28.0002, -20.8182, -999,    114.0,  18.7168,  36.7637,2,  36.7881,2,    218.1,2,    224.2,2,    1.919,2,   1.7860,2,    -1.28,2
      74AB73_1,  AR11,     9,  1,    908,      8,2,19921004,0252, 28.0002, -20.8182, -999,    164.1,  17.6774,  36.6743,2,  36.6263,2,    185.2,2,    210.2,2,    1.883,2,   1.8050,2,    -0.57,2
      74AB73_1,  AR11,     9,  1,    907,      7,2,19921004,0252, 28.0002, -20.8182, -999,    253.4,  15.6851,  36.2433,2,  36.2139,2,    187.3,2,    200.3,2,    1.946,2,   1.8330,2,     1.23,2
      74AB73_1,  AR11,     9,  1,    906,      6,2,19921004,0252, 28.0002, -20.8182, -999,    353.1,  14.0871,  35.9678,2,  35.9334,2,    186.9,2,    195.2,2,    1.839,2,   1.8210,2,     3.61,2
      74AB73_1,  AR11,     9,  1,    905,      5,2,19921004,0252, 28.0002, -20.8182, -999,    453.0,  12.7829,  35.7514,2,  35.7365,2,    182.5,2,    188.7,2,    1.982,2,   1.8220,2,     6.25,2
      74AB73_1,  AR11,     9,  1,    904,      4,2,19921004,0252, 28.0002, -20.8182, -999,    553.6,  11.6009,  35.6088,2,  35.5908,2,    177.4,2,    178.2,2, -999.000,9,   1.8470,2,     8.99,2
      74AB73_1,  AR11,     9,  1,    903,      3,2,19921004,0252, 28.0002, -20.8182, -999,    703.4,  10.2476,  35.4924,2,  35.4845,2,    156.0,2,    157.9,2,    1.161,2,   1.8510,2,     9.10,2
      74AB73_1,  AR11,     9,  1,    902,      2,2,19921004,0252, 28.0002, -20.8182, -999,    853.4,   9.0970,  35.4096,2,  35.4204,2,    148.4,2,    151.4,2,    0.592,2,   1.8820,2,     5.78,2
      74AB73_1,  AR11,     9,  1,    901,      1,2,19921004,0252, 28.0002, -20.8182, -999,   1004.3,   8.1860,  35.3838,2,  35.3922,2,    197.1,2,    157.8,2,    0.440,2,   1.8970,2,     4.11,2
      74AB73_1,  AR11,    10,  1,   1012,     12,2,19921004,0904, 27.0012, -20.9358, -999,      8.5,  23.7164,  36.9677,2,  36.9701,2,    206.3,2,    223.9,2,    2.069,2,   1.7390,2,    -1.77,2
      74AB73_1,  AR11,    10,  1,   1011,     11,2,19921004,0904, 27.0012, -20.9358, -999,     43.3,  23.7957,  37.2598,2,  37.1558,2,    208.9,2,    224.2,2,    1.983,2,   1.7480,2,    -1.58,2
      74AB73_1,  AR11,    10,  1,   1010,     10,2,19921004,0904, 27.0012, -20.9358, -999,     82.9,  19.5032,  36.8515,2,  36.8405,2,    236.2,2,    236.2,2,    2.010,2,   1.7850,2,    -1.57,2
      74AB73_1,  AR11,    10,  1,   1009,      9,2,19921004,0904, 27.0012, -20.9358, -999,    107.9,  18.4176,  36.7645,2,  36.7468,2,    202.8,2,    217.5,2,    1.982,2,   1.7820,2,    -1.56,2
      74AB73_1,  AR11,    10,  1,   1008,      8,2,19921004,0904, 27.0012, -20.9358, -999,    148.1,  17.6947,  36.6443,2,  36.5392,2,    198.4,2,    208.0,2,    2.004,2,   1.8060,2,    -0.50,2
      74AB73_1,  AR11,    10,  1,   1007,      7,2,19921004,0904, 27.0012, -20.9358, -999,    177.5,  17.0398,  36.5154,2,  36.4782,2,    194.4,2,    206.9,2,    2.014,2,   1.8070,2,     0.14,2
      74AB73_1,  AR11,    10,  1,   1006,      6,2,19921004,0904, 27.0012, -20.9358, -999,    207.0,  16.4867,  36.3961,2,  36.3750,2,    191.4,2,    200.8,2,    1.982,2,-999.0000,9,  -999.00,9
      74AB73_1,  AR11,    10,  1,   1005,      5,2,19921004,0904, 27.0012, -20.9358, -999,    241.5,  15.7991,  36.2387,2,  36.2366,2,    193.3,2,    199.2,2,    2.016,2,   1.8060,2,     1.28,2
      74AB73_1,  AR11,    10,  1,   1004,      4,2,19921004,0904, 27.0012, -20.9358, -999,    276.1,  15.1054,  36.1138,2,  36.1084,2,    189.9,2,    199.2,2,    2.044,2,   1.8290,2,     2.08,2
      74AB73_1,  AR11,    10,  1,   1003,      3,2,19921004,0904, 27.0012, -20.9358, -999,    324.9,  14.1612,  35.9580,2,  35.9429,2,    181.1,2,    195.1,2,    2.089,2,   1.8430,2,     3.53,2
      74AB73_1,  AR11,    10,  1,   1002,      2,2,19921004,0904, 27.0012, -20.9358, -999,    398.0,  12.9314,  35.7693,2,  35.7606,2,    186.2,2,    184.2,2,    2.087,2,   1.8840,2,     5.93,2
      74AB73_1,  AR11,    10,  1,   1001,      1,2,19921004,0904, 27.0012, -20.9358, -999,    499.0,  11.8542,  35.6219,2,  35.6216,2,    167.0,2,    172.9,2,    1.468,2,   1.8890,2,     8.09,2
      74AB73_1,  AR11,    11,  1,   1112,     12,2,19921004,1731, 25.5012, -21.1167, -999,      9.5,  24.3086,  37.0910,2,  37.0871,2,    213.9,2,    222.0,2,    1.873,2,   1.7540,2,    -1.79,2
      74AB73_1,  AR11,    11,  1,   1111,     11,2,19921004,1731, 25.5012, -21.1167, -999,     54.5,  23.7386,  37.1530,2,  37.1445,2,    207.2,2,    229.1,2,    1.697,2,   1.7540,2,    -1.79,2
      74AB73_1,  AR11,    11,  1,   1110,     10,2,19921004,1731, 25.5012, -21.1167, -999,     88.2,  19.9208,  36.9707,2,  36.9808,2,    231.4,2,    233.5,2,    1.917,2,   1.7800,2,    -1.55,2
      74AB73_1,  AR11,    11,  1,   1109,      9,2,19921004,1731, 25.5012, -21.1167, -999,    118.5,  19.4014,  36.9448,2,  36.9473,2,    204.9,2,    215.6,2,    1.887,2,   1.7880,2,    -1.41,2
      74AB73_1,  AR11,    11,  1,   1108,      8,2,19921004,1731, 25.5012, -21.1167, -999,    158.1,  18.3859,  36.7120,2,  36.7455,2,    188.7,2,    203.1,2,    1.925,2,   1.8070,2,    -0.81,2
      74AB73_1,  AR11,    11,  1,   1107,      7,2,19921004,1731, 25.5012, -21.1167, -999,    182.8,  17.5555,  36.5586,2,  36.5809,2,    196.4,2,    197.4,2,    1.928,2,   1.8180,2,     0.04,2
      74AB73_1,  AR11,    11,  1,   1106,      6,2,19921004,1731, 25.5012, -21.1167, -999,    206.5,  16.8087,  36.4211,2,  36.4128,2,    179.1,2,    192.9,2,    1.914,2,   1.8320,2,     1.01,2
      74AB73_1,  AR11,    11,  1,   1105,      5,2,19921004,1731, 25.5012, -21.1167, -999,    252.2,  15.8804,  36.2489,2,  36.2352,2,    188.2,2,    195.4,2,    1.899,2,   1.8260,2,     1.89,2
      74AB73_1,  AR11,    11,  1,   1104,      4,2,19921004,1731, 25.5012, -21.1167, -999,    295.7,  14.8631,  36.0938,2,  36.0503,2,    189.1,2,    195.9,2,    2.059,2,   1.8750,2,     3.06,2
      74AB73_1,  AR11,    11,  1,   1103,      3,2,19921004,1731, 25.5012, -21.1167, -999,    334.5,  14.2844,  35.9674,2,  35.9538,2,    179.1,2,    184.9,2,    1.946,2,   1.8610,2,     4.53,2
      74AB73_1,  AR11,    11,  1,   1102,      2,2,19921004,1731, 25.5012, -21.1167, -999,    374.2,  13.7197,  35.8696,2,  35.8659,2,    181.2,2,    180.1,2,    1.971,2,   1.8980,2,     5.27,2
      74AB73_1,  AR11,    11,  1,   1101,      1,2,19921004,1731, 25.5012, -21.1167, -999,    505.4,  12.0653,-999.0000,9,  35.6356,2,   -999.0,9,    164.0,2,    1.822,2,   1.9580,2,     8.73,2
      74AB73_1,  AR11,    12,  1,   1212,     12,2,19921005,0204, 24.0007, -21.2830, -999,      6.8,  23.6645,  36.6881,2,  36.7125,2,    200.4,2,    222.7,2, -999.000,9,   1.7460,2,    -2.28,2
      74AB73_1,  AR11,    12,  1,   1211,     11,2,19921005,0204, 24.0007, -21.2830, -999,     70.8,  20.1340,  36.9664,2,  36.8822,2,    235.3,2,    233.5,2,    1.964,2,   1.7900,2,    -1.75,2
      74AB73_1,  AR11,    12,  1,   1210,     10,2,19921005,0204, 24.0007, -21.2830, -999,    116.1,  18.5939,  36.8186,2,  36.7572,2,    193.2,2,    201.1,2,    1.936,2,   1.8100,2,    -1.58,2
      74AB73_1,  AR11,    12,  1,   1209,      9,2,19921005,0204, 24.0007, -21.2830, -999,    141.1,  18.0985,  36.7454,2,  36.6564,2,    189.9,2,    190.9,2,    1.987,2,   1.7910,2,    -1.34,2
      74AB73_1,  AR11,    12,  1,   1208,      8,2,19921005,0204, 24.0007, -21.2830, -999,    170.9,  17.3191,  36.6088,2,  36.4834,2,    179.0,2,    173.2,2,    1.800,2,   1.7980,2,    -0.04,2
      74AB73_1,  AR11,    12,  1,   1207,      7,2,19921005,0204, 24.0007, -21.2830, -999,    201.0,  16.4970,  36.4138,2,  36.3340,2,    159.4,2,    165.3,2, -999.000,9,   1.8220,2,     0.96,2
      74AB73_1,  AR11,    12,  1,   1206,      6,2,19921005,0204, 24.0007, -21.2830, -999,    230.5,  15.9174,  36.2837,2,  36.2184,2,    157.3,2,    154.8,2,    1.738,2,   1.8260,2,     1.82,2
      74AB73_1,  AR11,    12,  1,   1205,      5,2,19921005,0204, 24.0007, -21.2830, -999,    260.8,  15.4311,  36.1589,2,  36.1446,2,    146.2,2,    158.7,2, -999.000,9,   1.8390,2,     2.03,2
      74AB73_1,  AR11,    12,  1,   1204,      4,2,19921005,0204, 24.0007, -21.2830, -999,    300.4,  14.4611,  35.9979,2,  35.9591,2,    135.8,2,    135.7,2, -999.000,9,   1.8800,2,     3.62,2
      74AB73_1,  AR11,    12,  1,   1203,      3,2,19921005,0204, 24.0007, -21.2830, -999,    339.9,  13.8871,  35.8856,2,  35.8678,2,    112.0,2,    138.6,2, -999.000,9,   1.8900,2,     4.97,2
      74AB73_1,  AR11,    12,  1,   1202,      2,2,19921005,0204, 24.0007, -21.2830, -999,    401.1,  13.1006,  35.7731,2,  35.7566,2,    136.4,2,    148.1,2, -999.000,9,   1.9350,2,     7.28,2
      74AB73_1,  AR11,    12,  1,   1201,      1,2,19921005,0204, 24.0007, -21.2830, -999,    500.7,  12.0134,  35.6267,2,  35.6289,2,    150.4,2,    154.3,2, -999.000,9,   1.9340,2,     8.29,2
      74AB73_1,  AR11,    13,  1,   1312,     12,2,19921005,1036, 22.5003, -21.4648, -999,    110.3,  19.0341,  36.8676,2,  36.8232,2,    204.2,2,    208.9,2, -999.000,9,   1.8260,2,    -1.24,2
      74AB73_1,  AR11,    13,  1,   1311,     11,2,19921005,1036, 22.5003, -21.4648, -999,    129.7,  18.6677,  36.8247,2,  36.7810,2,    199.8,2,    205.8,2, -999.000,9,   1.7770,2,    -1.14,2
      74AB73_1,  AR11,    13,  1,   1310,     10,2,19921005,1036, 22.5003, -21.4648, -999,    164.3,  17.9248,  36.7022,2,  36.6540,2,    201.8,2,    205.5,2,    2.025,2,   1.7170,2,    -0.79,2
      74AB73_1,  AR11,    13,  1,   1309,      9,2,19921005,1036, 22.5003, -21.4648, -999,    237.8,  16.2558,  36.3710,2,  36.3227,2,    177.4,2,    190.4,2,    2.038,2,   1.7960,2,     0.97,2
      74AB73_1,  AR11,    13,  1,   1308,      8,2,19921005,1036, 22.5003, -21.4648, -999,    352.3,  13.9681,  35.9490,2,  35.9109,2,    178.4,2,    179.5,2,    2.000,2,   1.8280,2,     4.99,2
      74AB73_1,  AR11,    13,  1,   1307,      7,2,19921005,1036, 22.5003, -21.4648, -999,    502.6,  11.4455,  35.5723,2,  35.5466,2,    140.0,2,    136.3,2,    1.490,2,   1.8480,2,     8.96,2
      74AB73_1,  AR11,    13,  1,   1306,      6,2,19921005,1036, 22.5003, -21.4648, -999,    700.3,   9.0847,  35.2639,2,  35.2601,2,    114.9,2,    113.6,2,    0.506,2,   1.8560,2,     4.65,2
      74AB73_1,  AR11,    13,  1,   1305,      5,2,19921005,1036, 22.5003, -21.4648, -999,    900.7,   7.3725,  35.1304,2,  35.1295,2,    127.2,2,    134.2,2,    0.147,2,   1.8620,2,     1.73,2
      74AB73_1,  AR11,    13,  1,   1304,      4,2,19921005,1036, 22.5003, -21.4648, -999,   1152.0,   6.4239,  35.1733,2,  35.1703,2,    158.9,2,    166.5,2,    0.103,2,-999.0000,9,  -999.00,9
      74AB73_1,  AR11,    13,  1,   1303,      3,2,19921005,1036, 22.5003, -21.4648, -999,   1302.2,   5.5923,  35.1418,2,  35.1311,2,    178.5,2,    183.6,2, -999.000,9,   1.8860,2,     0.48,2
      74AB73_1,  AR11,    13,  1,   1302,      2,2,19921005,1036, 22.5003, -21.4648, -999,   1651.6,   4.4235,  35.0646,2,  35.0634,2,    203.2,2,    211.3,2,   -0.002,2,   1.8990,2,     0.57,2
      74AB73_1,  AR11,    13,  1,   1301,      1,2,19921005,1036, 22.5003, -21.4648, -999,   2007.2,   3.7365,  35.0201,2,  35.0179,2,    211.5,2,    220.6,2,    0.009,2,   1.9270,2,     0.95,2
      74AB73_1,  AR11,    14,  1,   1412,     12,2,19921005,2005, 21.0000, -21.6500, -999,      7.9,  23.8189,  36.2900,2,  36.2907,2,    212.1,2,    224.9,2,    1.005,2,   1.7470,2,    -1.99,2
      74AB73_1,  AR11,    14,  1,   1411,     11,2,19921005,2005, 21.0000, -21.6500, -999,     72.6,  21.5959,  36.5519,2,  36.6251,2,    179.6,2,    205.4,2,    1.577,2,   1.7660,2,    -1.64,2
      74AB73_1,  AR11,    14,  1,   1410,     10,2,19921005,2005, 21.0000, -21.6500, -999,    116.4,  19.5950,  36.9560,2,  36.9665,2,    214.8,2,    221.3,2,    1.880,2,   1.7910,2,    -1.54,2
      74AB73_1,  AR11,    14,  1,   1409,      9,2,19921005,2005, 21.0000, -21.6500, -999,    141.5,  19.0388,  36.8373,2,  36.8814,2,    181.0,2,    212.0,2,    1.914,2,   1.7930,2,    -1.63,2
      74AB73_1,  AR11,    14,  1,   1408,      8,2,19921005,2005, 21.0000, -21.6500, -999,    171.2,  17.7579,  36.5868,2,  36.6195,2,    187.8,2,    197.5,2,    1.897,2,   1.7940,2,    -0.14,2
      74AB73_1,  AR11,    14,  1,   1407,      7,2,19921005,2005, 21.0000, -21.6500, -999,    200.1,  16.7572,  36.3482,2,  36.4099,2,    156.4,2,    176.8,2,    1.854,2,   1.8130,2,     0.87,2
      74AB73_1,  AR11,    14,  1,   1406,      6,2,19921005,2005, 21.0000, -21.6500, -999,    231.2,  15.9250,  36.1714,2,  36.2404,2,    156.3,2,    172.5,2,    1.889,2,   1.8480,2,     1.73,2
      74AB73_1,  AR11,    14,  1,   1405,      5,2,19921005,2005, 21.0000, -21.6500, -999,    262.4,  14.8929,  36.0180,2,  36.0351,2,    141.6,2,    146.7,2,    1.742,2,   1.8330,2,     3.53,2
      74AB73_1,  AR11,    14,  1,   1404,      4,2,19921005,2005, 21.0000, -21.6500, -999,    303.1,  13.8352,  35.8446,2,  35.8589,2,    130.0,2,    140.2,2,    1.735,2,   1.8480,2,     5.76,2
      74AB73_1,  AR11,    14,  1,   1403,      3,2,19921005,2005, 21.0000, -21.6500, -999,    343.3,  12.9634,  35.7347,2,  35.7319,2,    138.8,2,    138.9,2,    1.720,2,   1.8660,2,     7.43,2
      74AB73_1,  AR11,    14,  1,   1402,      2,2,19921005,2005, 21.0000, -21.6500, -999,    402.9,  11.8590,  35.5959,2,  35.5756,2,    131.2,2,    127.1,2,    1.446,2,   1.8920,2,     8.30,2
      74AB73_1,  AR11,    14,  1,   1401,      1,2,19921005,2005, 21.0000, -21.6500, -999,    503.0,  10.0519,  35.3186,2,  35.3090,2,     92.5,2,     93.6,2,    0.692,2,   1.9170,2,     6.52,2
      74AB73_1,  AR11,    15,  1,   1512,     12,2,19921006,0208, 20.0003, -21.7675, -999,      8.0,  23.7931,  36.2549,2,  36.2570,2,    211.0,2,    224.1,2, -999.000,9,   1.7520,2,    -2.01,2
      74AB73_1,  AR11,    15,  1,   1511,     11,2,19921006,0208, 20.0003, -21.7675, -999,     66.5,  21.7496,  36.8978,2,  36.8476,2,    190.1,2,    216.1,2,    1.737,2,   1.7690,2,    -1.63,2
      74AB73_1,  AR11,    15,  1,   1510,     10,2,19921006,0208, 20.0003, -21.7675, -999,     80.8,  20.3258,  36.9349,2,  36.9179,2,    188.8,2,    210.3,2,    1.823,2,   1.7710,2,    -1.88,2
      74AB73_1,  AR11,    15,  1,   1509,      9,2,19921006,0208, 20.0003, -21.7675, -999,    106.7,  19.3676,  36.7350,2,  36.8490,2,    173.1,2,    194.9,2,    1.900,2,   1.7900,2,    -1.50,2
      74AB73_1,  AR11,    15,  1,   1508,      8,2,19921006,0208, 20.0003, -21.7675, -999,    131.5,  17.6147,  36.4523,2,  36.4927,2,    135.3,2,    148.5,2,    1.722,2,   1.7920,2,    -0.42,2
      74AB73_1,  AR11,    15,  1,   1507,      7,2,19921006,0208, 20.0003, -21.7675, -999,    156.3,  16.6315,  36.2397,2,  36.2689,2,    121.4,2,    123.6,2,    1.572,2,   1.8190,2,     0.91,2
      74AB73_1,  AR11,    15,  1,   1506,      6,2,19921006,0208, 20.0003, -21.7675, -999,    185.6,  15.9018,  36.1769,2,  36.1713,2,    128.7,2,    132.0,2, -999.000,9,   1.8200,2,     1.50,2
      74AB73_1,  AR11,    15,  1,   1505,      5,2,19921006,0208, 20.0003, -21.7675, -999,    221.1,  14.9723,  35.9821,2,  35.9967,2,    128.0,2,    124.8,2,    1.590,2,   1.7860,2,     2.72,2
      74AB73_1,  AR11,    15,  1,   1504,      4,2,19921006,0208, 20.0003, -21.7675, -999,    255.7,  14.3245,  35.8451,2,  35.8850,2,    103.4,2,    114.3,2,    1.532,2,   1.8390,2,     4.06,2
      74AB73_1,  AR11,    15,  1,   1503,      3,2,19921006,0208, 20.0003, -21.7675, -999,    315.1,  13.4001,  35.7398,2,  35.7610,2,    115.4,2,    117.2,2,    1.600,2,   1.8490,2,     5.90,2
      74AB73_1,  AR11,    15,  1,   1502,      2,2,19921006,0208, 20.0003, -21.7675, -999,    392.8,  12.3285,  35.6438,2,  35.6334,2,    141.2,2,    128.6,2,    1.565,2,   1.8680,2,     8.44,2
      74AB73_1,  AR11,    15,  1,   1501,      1,2,19921006,0208, 20.0003, -21.7675, -999,    497.2,  10.5493,  35.3704,2,  35.3727,2,     88.5,2,     95.9,2, -999.000,9,   1.8990,2,     7.17,2
      74AB73_1,  AR11,    16,  1,   1612,     12,2,19921006,0801, 19.0000, -21.8827, -999,      8.6,  24.8400,  36.2882,2,  36.2911,2,    200.5,2,    220.0,2, -999.000,9,   1.7460,2,    -1.98,2
      74AB73_1,  AR11,    16,  1,   1611,     11,2,19921006,0801, 19.0000, -21.8827, -999,     58.6,  19.8591,  36.9093,2,  36.8919,2,    187.2,2,    206.8,2,    1.932,2,   1.7790,2,    -1.80,2
      74AB73_1,  AR11,    16,  1,   1610,     10,2,19921006,0801, 19.0000, -21.8827, -999,     78.2,  19.3753,  36.8709,2,  36.8389,2,    185.6,2,    193.7,2,    1.903,2,   1.8250,2,    -1.10,2
      74AB73_1,  AR11,    16,  1,   1609,      9,2,19921006,0801, 19.0000, -21.8827, -999,    103.4,  17.9168,  36.6361,2,  36.5115,2,    150.3,2,    146.7,2, -999.000,9,   1.7960,2,    -0.59,2
      74AB73_1,  AR11,    16,  1,   1608,      8,2,19921006,0801, 19.0000, -21.8827, -999,    122.7,  16.9321,  36.3691,2,  36.3370,2,    118.9,2,    125.6,2,    1.572,2,   1.8010,2,     0.25,2
      74AB73_1,  AR11,    16,  1,   1607,      7,2,19921006,0801, 19.0000, -21.8827, -999,    152.5,  15.9726,  36.1349,2,  36.1428,2,    105.1,2,    115.5,2,    1.512,2,   1.8200,2,     1.58,2
      74AB73_1,  AR11,    16,  1,   1606,      6,2,19921006,0801, 19.0000, -21.8827, -999,    182.3,  15.4486,  36.0480,2,  36.0564,2,    116.0,2,    110.6,2,    1.497,2,   1.8130,2,     2.22,2
      74AB73_1,  AR11,    16,  1,   1605,      5,2,19921006,0801, 19.0000, -21.8827, -999,    222.5,  14.4725,  35.8734,2,  35.9143,2,     93.8,2,    110.0,2,    1.463,2,   1.8250,2,     3.30,2
      74AB73_1,  AR11,    16,  1,   1604,      4,2,19921006,0801, 19.0000, -21.8827, -999,    262.1,  13.6754,  35.7296,2,  35.7533,2,     84.9,2,     91.4,2,    1.347,2,   1.8590,2,     4.92,2
      74AB73_1,  AR11,    16,  1,   1603,      3,2,19921006,0801, 19.0000, -21.8827, -999,    326.6,  12.4345,  35.5718,2,  35.5748,2,     84.6,2,     78.5,2,    1.179,2,   1.8580,2,     5.68,2
      74AB73_1,  AR11,    16,  1,   1602,      2,2,19921006,0801, 19.0000, -21.8827, -999,    402.0,  11.3980,  35.4421,2,  35.4671,2,     75.2,2,     78.8,2, -999.000,9,   1.8920,2,     7.29,2
      74AB73_1,  AR11,    16,  1,   1601,      1,2,19921006,0801, 19.0000, -21.8827, -999,    503.3,   9.7190,  35.2232,2,  35.2217,2,     74.5,2,     74.3,2,    0.496,2,   1.9130,2,     4.90,2