BOTTLE,20010823WHPSIOKJU
EXPOCODE,SECT_ID,STNNBR,CASTNO,SAMPNO,BTLNBR,BTLNBR_FLAG_W,DATE,TIME,LATITUDE,LONGITUDE,DEPTH,CTDPRS,CTDTMP,CTDSAL,CTDSAL_FLAG_W,SALNTY,SALNTY_FLAG_W,CTDOXY,CTDOXY_FLAG_W,OXYGEN,OXYGEN_FLAG_W,TRITUM,TRITUM_FLAG_W,HELIUM,HELIUM_FLAG_W,DELHE3,DELHE3_FLAG_W
,,,,,,,,,,,,DBAR,IPTS68,PSS-78,,PSS-78,,UMOL/KG,,UMOL/KG,,TU,,NMOL/KG,,PERCNT,
      74AB73_1,  AR11,    25,  1,   2512,     12,2,19921013,0033, 20.9997, -32.0003, -999,     79.9,  22.6235,  37.3329,2,  37.4030,2,    227.3,2,    249.7,2,    1.622,2,   1.7750,2,    -1.62,2
      74AB73_1,  AR11,    25,  1,   2511,     11,2,19921013,0033, 20.9997, -32.0003, -999,    104.2,  21.6192,  37.2325,2,  37.3207,2,    185.2,2,    224.4,2,    1.577,2,   1.7690,2,    -1.37,2
      74AB73_1,  AR11,    25,  1,   2510,     10,2,19921013,0033, 20.9997, -32.0003, -999,    129.3,  20.5342,  37.0674,2,  37.1235,2,    172.2,2,    204.0,2,    1.637,2,   1.7990,2,    -0.68,2
      74AB73_1,  AR11,    25,  1,   2509,      9,2,19921013,0033, 20.9997, -32.0003, -999,    154.1,  20.0365,  37.0287,2,  37.0784,2,    183.8,2,    208.3,2,    1.738,2,   1.7940,2,    -0.60,2
      74AB73_1,  AR11,    25,  1,   2508,      8,2,19921013,0033, 20.9997, -32.0003, -999,    179.3,  19.3199,  36.8868,2,  36.8629,2,    187.6,2,    198.5,2,    1.745,2,   1.8120,2,    -0.26,2
      74AB73_1,  AR11,    25,  1,   2507,      7,2,19921013,0033, 20.9997, -32.0003, -999,    204.1,  17.9629,  36.6196,2,  36.6368,2,    191.2,2,    185.7,2,    1.801,2,   1.8840,2,     0.60,2
      74AB73_1,  AR11,    25,  1,   2506,      6,2,19921013,0033, 20.9997, -32.0003, -999,    233.7,  17.3158,  36.4652,2,  36.5052,2,    185.8,2,    189.7,2, -999.000,9,   1.7890,2,     1.76,2
      74AB73_1,  AR11,    25,  1,   2505,      5,2,19921013,0033, 20.9997, -32.0003, -999,    263.3,  16.7353,  36.3397,2,  36.3794,2,    166.0,2,    198.2,2,    1.821,2,   1.8140,2,     2.14,2
      74AB73_1,  AR11,    25,  1,   2504,      4,2,19921013,0033, 20.9997, -32.0003, -999,    323.6,  15.2081,  36.0977,2,  36.1013,2,    159.9,2,    181.2,2,    1.851,2,   1.8770,2,     4.23,2
      74AB73_1,  AR11,    25,  1,   2503,      3,2,19921013,0033, 20.9997, -32.0003, -999,    403.1,  13.6879,  35.8345,2,  35.8463,2,    144.8,2,    155.2,2,    1.772,2,   1.9040,2,     7.31,2
      74AB73_1,  AR11,    25,  1,   2502,      2,2,19921013,0033, 20.9997, -32.0003, -999,    403.1,  13.6879,  35.8345,2,  35.8394,2,    144.8,2,    150.1,2,    1.756,2,   1.9230,2,     7.01,2
      74AB73_1,  AR11,    25,  1,   2501,      1,2,19921013,0033, 20.9997, -32.0003, -999,    504.2,  12.0178,  35.6095,2,  35.6125,2,    136.0,2,    145.7,2, -999.000,9,   1.9630,2,    10.04,2
      74AB73_1,  AR11,    26,  1,   2612,     12,2,19921013,1026, 22.4993, -31.0035, -999,     10.2,  26.0023,  37.2658,2,  37.3869,2,    208.0,2,    220.8,2,    1.223,2,   1.7480,2,    -1.73,2
      74AB73_1,  AR11,    26,  1,   2611,     11,2,19921013,1026, 22.4993, -31.0035, -999,     84.6,  21.8119,  37.1826,2,  37.2737,2,    190.1,2,    232.7,2,    1.622,2,   1.7910,2,    -1.75,2
      74AB73_1,  AR11,    26,  1,   2610,     10,2,19921013,1026, 22.4993, -31.0035, -999,    105.0,  21.1252,  37.1445,2,  37.2491,2,    205.4,2,    227.3,2,    1.655,2,   1.7790,2,    -1.31,2
      74AB73_1,  AR11,    26,  1,   2609,      9,2,19921013,1026, 22.4993, -31.0035, -999,    128.3,  20.4677,  37.1122,2,  37.1248,2,    199.8,2,    210.1,2,    1.754,2,   1.7650,2,    -1.38,2
      74AB73_1,  AR11,    26,  1,   2608,      8,2,19921013,1026, 22.4993, -31.0035, -999,    153.2,  19.7719,  37.0516,2,  36.8957,2,    198.9,2,    203.2,2,    1.773,2,   1.7830,2,    -1.11,2
      74AB73_1,  AR11,    26,  1,   2607,      7,2,19921013,1026, 22.4993, -31.0035, -999,    182.6,  18.7676,  36.8288,2,  36.5561,2,    180.6,2,    191.8,2,    1.795,2,   1.8140,2,    -0.33,2
      74AB73_1,  AR11,    26,  1,   2606,      6,2,19921013,1026, 22.4993, -31.0035, -999,    231.8,  17.0537,  36.4655,2,  36.3301,2,    170.9,2,    173.6,2,    1.726,2,   1.8270,2,     0.93,2
      74AB73_1,  AR11,    26,  1,   2605,      5,2,19921013,1026, 22.4993, -31.0035, -999,    282.4,  15.8959,  36.2209,2,  36.1601,2,    164.7,2,    172.6,2, -999.000,9,   1.8240,2,     3.12,2
      74AB73_1,  AR11,    26,  1,   2604,      4,2,19921013,1026, 22.4993, -31.0035, -999,    331.7,  14.9197,  36.0398,2,  36.0343,2,    163.2,2,    174.1,2,    1.866,2,   1.8670,2,     4.51,2
      74AB73_1,  AR11,    26,  1,   2603,      3,2,19921013,1026, 22.4993, -31.0035, -999,    372.0,  14.0430,  35.9169,2,  35.8931,2,    158.2,2,    163.9,2,    1.870,2,   1.8880,2,     5.77,2
      74AB73_1,  AR11,    26,  1,   2602,      2,2,19921013,1026, 22.4993, -31.0035, -999,    422.0,  13.2123,  35.7797,2,  35.7081,2,    161.9,2,    160.6,2,    1.830,2,-999.0000,9,  -999.00,9
      74AB73_1,  AR11,    26,  1,   2601,      1,2,19921013,1026, 22.4993, -31.0035, -999,    502.2,  11.8766,  35.6032,2,  35.6005,2,    141.5,2,    141.0,2,    1.526,2,   1.9490,2,     9.94,2
      74AB73_1,  AR11,    27,  1,   2712,     12,2,19921013,2009, 24.0003, -29.9985, -999,      6.0,  25.9542,  37.5794,2,  37.5853,2,    204.3,2,    235.6,2,    1.386,2,   1.7570,2,    -1.52,2
      74AB73_1,  AR11,    27,  1,   2711,     11,2,19921013,2009, 24.0003, -29.9985, -999,     78.8,  22.5467,  37.2971,2,  37.3014,2,    213.6,2,    247.2,2,    1.577,2,   1.7500,2,    -1.69,2
      74AB73_1,  AR11,    27,  1,   2710,     10,2,19921013,2009, 24.0003, -29.9985, -999,     98.7,  21.3908,  37.2611,2,  37.2513,2,    198.1,2,    238.9,2,    1.606,2,   1.7790,2,    -1.72,2
      74AB73_1,  AR11,    27,  1,   2709,      9,2,19921013,2009, 24.0003, -29.9985, -999,    128.4,  20.6871,  37.1691,2,  37.1570,2,    200.0,2,    218.6,2,    1.680,2,   1.7920,2,    -1.26,2
      74AB73_1,  AR11,    27,  1,   2708,      8,2,19921013,2009, 24.0003, -29.9985, -999,    153.1,  19.8273,  37.0151,2,  36.9729,2,    185.9,2,    214.5,2,    1.731,2,   1.7960,2,    -0.94,2
      74AB73_1,  AR11,    27,  1,   2707,      7,2,19921013,2009, 24.0003, -29.9985, -999,    182.8,  18.8752,  36.7983,2,  36.7947,2,    182.9,2,    206.8,2,    1.728,2,   1.8230,2,    -0.29,2
      74AB73_1,  AR11,    27,  1,   2706,      6,2,19921013,2009, 24.0003, -29.9985, -999,    232.5,  17.3072,  36.4939,2,  36.4715,2,    188.5,2,    208.9,2,    1.794,2,   1.8700,2,     1.03,2
      74AB73_1,  AR11,    27,  1,   2705,      5,2,19921013,2009, 24.0003, -29.9985, -999,    282.3,  16.2832,  36.3337,2,  36.2861,2,    183.0,2,    207.5,2,    1.853,2,   1.8710,2,     2.05,2
      74AB73_1,  AR11,    27,  1,   2704,      4,2,19921013,2009, 24.0003, -29.9985, -999,    331.2,  15.2454,  36.1408,2,  36.1165,2,    178.8,2,    197.1,2,    1.890,2,   1.8750,2,     3.27,2
      74AB73_1,  AR11,    27,  1,   2703,      3,2,19921013,2009, 24.0003, -29.9985, -999,    370.8,  14.5747,  36.0240,2,  35.9912,2,    177.1,2,    201.4,2,    1.908,2,   1.8730,2,     4.12,2
      74AB73_1,  AR11,    27,  1,   2702,      2,2,19921013,2009, 24.0003, -29.9985, -999,    419.6,  13.6527,  35.8649,2,  35.8465,2,    175.1,2,    197.2,2,    1.974,2,   1.9410,2,     5.92,2
      74AB73_1,  AR11,    27,  1,   2701,      1,2,19921013,2009, 24.0003, -29.9985, -999,    500.0,  12.4809,  35.6991,2,  35.6909,2,    169.9,2,    192.3,2,    1.857,2,   1.9710,2,     8.78,2
      74AB73_1,  AR11,    28,  1,   2812,     12,2,19921014,2222, 25.4980, -28.9258, -999,      9.1,  25.5343,  37.4498,2,  37.4446,2,    192.6,2,    211.1,2,    1.590,2,   1.8000,2,    -1.55,2
      74AB73_1,  AR11,    28,  1,   2816,     16,2,19921014,2222, 25.4980, -28.9258, -999,      9.1,  25.5343,  37.4498,2,  37.4446,2,    192.6,2,    211.1,2,    1.573,2,   1.7560,2,    -1.80,2
      74AB73_1,  AR11,    28,  1,   2811,     11,2,19921014,2222, 25.4980, -28.9258, -999,     85.9,  21.5690,  37.1702,2,  37.1849,2,    225.7,2,    229.4,2,    1.681,2,   1.8000,2,    -1.50,2
      74AB73_1,  AR11,    28,  1,   2810,     10,2,19921014,2222, 25.4980, -28.9258, -999,    111.6,  20.6671,  37.1617,2,  37.1495,2,    220.4,2,    220.2,2,    1.708,2,   1.7910,2,    -1.52,2
      74AB73_1,  AR11,    28,  1,   2815,     15,2,19921014,2222, 25.4980, -28.9258, -999,    170.3,  19.5730,  36.9404,2,  36.9514,2,    188.4,2,    202.8,2,    1.761,2,   1.7690,2,    -1.18,2
      74AB73_1,  AR11,    28,  1,   2809,      9,2,19921014,2222, 25.4980, -28.9258, -999,    170.3,  19.5730,  36.9404,2,  36.9514,2,    188.4,2,    202.8,2, -999.000,9,   1.7400,2,    -0.89,2
      74AB73_1,  AR11,    28,  1,   2808,      8,2,19921014,2222, 25.4980, -28.9258, -999,    199.2,  18.5083,  36.6976,2,  36.7211,2,    183.2,2,    193.4,2,    1.785,2,   1.7930,2,    -0.11,2
      74AB73_1,  AR11,    28,  1,   2807,      7,2,19921014,2222, 25.4980, -28.9258, -999,    269.0,  16.8608,  36.3952,2,  36.4002,2,    176.0,2,    188.4,2,    1.834,2,   1.8300,2,     1.80,2
      74AB73_1,  AR11,    28,  1,   2806,      6,2,19921014,2222, 25.4980, -28.9258, -999,    373.3,  14.5679,  36.0394,2,  35.9858,2,    183.6,2,    187.5,2,    1.904,2,   1.8220,2,     4.79,2
      74AB73_1,  AR11,    28,  1,   2805,      5,2,19921014,2222, 25.4980, -28.9258, -999,    474.0,  12.8102,  35.7483,2,  35.7343,2,    174.7,2,    174.0,2,    1.892,2,   1.8430,2,     8.58,2
      74AB73_1,  AR11,    28,  1,   2814,     14,2,19921014,2222, 25.4980, -28.9258, -999,    474.0,  12.8102,  35.7483,2,  35.7343,2,    174.7,2,    174.0,2,    1.873,2,   1.8300,2,     8.39,2
      74AB73_1,  AR11,    28,  1,   2804,      4,2,19921014,2222, 25.4980, -28.9258, -999,    753.2,   9.6070,  35.3648,2,  35.3642,2,    127.0,2,    135.4,2,    0.682,2,   1.8670,2,     6.46,2
      74AB73_1,  AR11,    28,  1,   2803,      3,2,19921014,2222, 25.4980, -28.9258, -999,   1000.7,   7.4533,  35.1743,2,  35.1863,2,    144.9,2,    147.7,2,    0.144,2,   1.8780,2,     1.81,2
      74AB73_1,  AR11,    28,  1,   2802,      2,2,19921014,2222, 25.4980, -28.9258, -999,   1497.0,   5.5057,  35.2051,2,  35.1959,2,    184.1,2,    202.6,2,    0.053,2,   1.9000,2,     0.60,2
      74AB73_1,  AR11,    28,  1,   2813,     13,2,19921014,2222, 25.4980, -28.9258, -999,   2003.3,   4.1696,  35.0844,2,  35.1157,2,    196.8,2,    221.4,2, -999.000,9,   1.8620,2,     0.56,2
      74AB73_1,  AR11,    28,  1,   2801,      1,2,19921014,2222, 25.4980, -28.9258, -999,   2003.3,   4.1696,  35.0844,2,  35.1157,2,    196.8,2,    221.4,2,    0.023,2,   1.9100,2,     0.25,2
      74AB73_1,  AR11,    29,  1,   2912,     12,2,19921015,2204, 26.2488, -28.3297, -999,      8.3,  24.9979,  37.2848,2,  37.2851,2,    203.3,2,    211.3,2,    1.752,2,   1.7640,2,    -1.72,2
      74AB73_1,  AR11,    29,  1,   2911,     11,2,19921015,2204, 26.2488, -28.3297, -999,     83.1,  20.8849,  37.1145,2,  37.0923,2,    207.2,2,    229.7,2,    1.694,2,   1.8010,2,    -1.28,2
      74AB73_1,  AR11,    29,  1,   2910,     10,2,19921015,2204, 26.2488, -28.3297, -999,    112.3,  20.2262,  37.0841,2,  37.0617,2,    215.1,2,    221.8,2,    1.717,2,   1.8010,2,    -1.51,2
      74AB73_1,  AR11,    29,  1,   2909,      9,2,19921015,2204, 26.2488, -28.3297, -999,    148.1,  19.4350,  36.9783,2,  36.9427,2,    209.6,2,    211.7,2,    1.711,2,   1.8230,2,    -1.16,2
      74AB73_1,  AR11,    29,  1,   2908,      8,2,19921015,2204, 26.2488, -28.3297, -999,    182.1,  18.4218,  36.8625,2,  36.7276,2,    199.9,2,    202.5,2,    1.734,2,   1.8200,2,    -0.25,2
      74AB73_1,  AR11,    29,  1,   2907,      7,2,19921015,2204, 26.2488, -28.3297, -999,    206.9,  17.7166,  36.6728,2,  36.5721,2,    188.1,2,    199.6,2,    1.764,2,   1.8140,2,     0.58,2
      74AB73_1,  AR11,    29,  1,   2906,      6,2,19921015,2204, 26.2488, -28.3297, -999,    241.3,  17.0344,  36.4737,2,  36.4338,2,    192.4,2,    198.7,2,    1.801,2,   1.8190,2,     1.39,2
      74AB73_1,  AR11,    29,  1,   2905,      5,2,19921015,2204, 26.2488, -28.3297, -999,    280.2,  16.2415,  36.2988,2,  36.2881,2,    184.2,2,    196.9,2,    1.821,2,   1.8470,2,     1.59,2
      74AB73_1,  AR11,    29,  1,   2904,      4,2,19921015,2204, 26.2488, -28.3297, -999,    335.7,  15.3496,  36.1403,2,  36.1316,2,    181.8,2,    195.0,2,    1.888,2,   1.8730,2,     2.51,2
      74AB73_1,  AR11,    29,  1,   2903,      3,2,19921015,2204, 26.2488, -28.3297, -999,    391.6,  14.3249,  35.9477,2,  35.9516,2,    185.1,2,    193.3,2,    1.881,2,   1.8840,2,     4.20,2
      74AB73_1,  AR11,    29,  1,   2902,      2,2,19921015,2204, 26.2488, -28.3297, -999,    455.5,  13.2874,  35.7913,2,  35.7967,2,    181.1,2,    191.9,2,    1.916,2,   1.8960,2,     5.81,2
      74AB73_1,  AR11,    29,  1,   2901,      1,2,19921015,2204, 26.2488, -28.3297, -999,    499.4,  12.6421,  35.7113,2,  35.7114,2,    175.1,2,    186.9,2,    1.925,2,   1.9390,2,     6.89,2
      74AB73_1,  AR11,    30,  1,   3012,     12,2,19921016,0415, 26.9990, -27.6722, -999,      9.2,  24.8146,  37.3173,2,  37.3179,2,    203.5,2,    213.1,2,    1.738,2,   1.7500,2,    -1.36,2
      74AB73_1,  AR11,    30,  1,   3011,     11,2,19921016,0415, 26.9990, -27.6722, -999,     84.2,  21.3932,  37.1045,2,  37.1157,2,    228.1,2,    235.3,2,    1.712,2,   1.7650,2,    -1.44,2
      74AB73_1,  AR11,    30,  1,   3010,     10,2,19921016,0415, 26.9990, -27.6722, -999,    123.5,  20.2588,  37.0520,2,  37.0740,2,    212.1,2,    224.3,2,    1.692,2,   1.7690,2,    -1.43,2
      74AB73_1,  AR11,    30,  1,   3009,      9,2,19921016,0415, 26.9990, -27.6722, -999,    154.5,  19.5796,  36.9781,2,  36.9725,2,    195.4,2,    213.8,2,    1.757,2,   1.7910,2,    -1.12,2
      74AB73_1,  AR11,    30,  1,   3008,      8,2,19921016,0415, 26.9990, -27.6722, -999,    183.8,  18.8925,  36.8722,2,  36.8520,2,    202.3,2,    206.5,2,    1.747,2,   1.7870,2,    -0.58,2
      74AB73_1,  AR11,    30,  1,   3007,      7,2,19921016,0415, 26.9990, -27.6722, -999,    208.9,  17.9508,  36.7021,2,  36.6405,2,    195.4,2,    199.9,2,    1.735,2,   1.7980,2,     0.12,2
      74AB73_1,  AR11,    30,  1,   3006,      6,2,19921016,0415, 26.9990, -27.6722, -999,    237.0,  17.2266,  36.5555,2,  36.4962,2,    193.0,2,    198.1,2,    1.790,2,   1.7990,2,     0.97,2
      74AB73_1,  AR11,    30,  1,   3005,      5,2,19921016,0415, 26.9990, -27.6722, -999,    268.0,  16.4157,  36.4243,2,  36.3261,2,    188.3,2,    197.6,2,    1.780,2,   1.8000,2,     1.83,2
      74AB73_1,  AR11,    30,  1,   3004,      4,2,19921016,0415, 26.9990, -27.6722, -999,    322.1,  15.3008,  36.2179,2,  36.1189,2,    186.8,2,    195.5,2,    1.827,2,   1.8300,2,     3.01,2
      74AB73_1,  AR11,    30,  1,   3003,      3,2,19921016,0415, 26.9990, -27.6722, -999,    383.1,  14.3481,  36.0023,2,  35.9572,2,    186.3,2,    191.9,2,    1.872,2,   1.8380,2,     4.05,2
      74AB73_1,  AR11,    30,  1,   3002,      2,2,19921016,0415, 26.9990, -27.6722, -999,    442.5,  13.5956,  35.8712,2,  35.8408,2,    183.0,2,    193.0,2,    1.886,2,   1.8340,2,     5.13,2
      74AB73_1,  AR11,    30,  1,   3001,      1,2,19921016,0415, 26.9990, -27.6722, -999,    502.9,  12.5782,  35.7145,2,  35.7079,2,    176.2,2,    186.0,2,    1.955,2,   1.8900,2,     7.35,2
      74AB73_1,  AR11,    31,  1,   3112,     12,2,19921016,1007, 27.7503, -26.9983, -999,      9.6,  24.8288,  37.4516,2,  37.4537,2,    201.1,2,    210.1,2,    1.738,2,   1.7510,2,    -1.89,2
      74AB73_1,  AR11,    31,  1,   3111,     11,2,19921016,1007, 27.7503, -26.9983, -999,     64.2,  22.7823,  37.0358,2,  37.1564,2,    230.9,2,    230.1,2, -999.000,9,   1.7930,2,    -1.62,2
      74AB73_1,  AR11,    31,  1,   3110,     10,2,19921016,1007, 27.7503, -26.9983, -999,     93.4,  20.7517,  37.0522,2,  37.0462,2,    231.0,2,    231.3,2,    1.717,2,   1.7890,2,    -1.46,2
      74AB73_1,  AR11,    31,  1,   3109,      9,2,19921016,1007, 27.7503, -26.9983, -999,    123.7,  19.8426,  36.9969,2,  37.0114,2,    212.1,2,    219.5,2,    1.612,2,   1.7970,2,    -1.32,2
      74AB73_1,  AR11,    31,  1,   3108,      8,2,19921016,1007, 27.7503, -26.9983, -999,    144.3,  19.2047,  36.8920,2,  36.8824,2,    201.4,2,    210.0,2,    1.753,2,   1.7930,2,    -0.88,2
      74AB73_1,  AR11,    31,  1,   3107,      7,2,19921016,1007, 27.7503, -26.9983, -999,    183.6,  18.1603,  36.6513,2,  36.6586,2,    186.0,2,    202.1,2,    1.787,2,   1.8470,2,     0.08,2
      74AB73_1,  AR11,    31,  1,   3106,      6,2,19921016,1007, 27.7503, -26.9983, -999,    225.2,  17.1478,  36.4388,2,  36.4469,2,    190.9,2,    198.9,2,    1.553,2,   1.8020,2,     1.23,2
      74AB73_1,  AR11,    31,  1,   3105,      5,2,19921016,1007, 27.7503, -26.9983, -999,    265.4,  16.3502,  36.2939,2,  36.2976,2,    188.6,2,    198.6,2,    1.808,2,   1.8180,2,     1.77,2
      74AB73_1,  AR11,    31,  1,   3104,      4,2,19921016,1007, 27.7503, -26.9983, -999,    304.9,  15.8560,  36.1879,2,  36.2091,2,    179.0,2,    198.2,2,    1.859,2,   1.8380,2,     2.11,2
      74AB73_1,  AR11,    31,  1,   3103,      3,2,19921016,1007, 27.7503, -26.9983, -999,    354.7,  14.9053,  36.0410,2,  36.0489,2,    174.8,2,    193.6,2,    1.907,2,   1.8420,2,     3.72,2
      74AB73_1,  AR11,    31,  1,   3102,      2,2,19921016,1007, 27.7503, -26.9983, -999,    404.3,  14.0603,  35.9079,2,  35.9125,2,    185.5,2,    191.0,2,    1.902,2,   1.8460,2,     5.13,2
      74AB73_1,  AR11,    31,  1,   3101,      1,2,19921016,1007, 27.7503, -26.9983, -999,    504.3,  12.7691,  35.7231,2,  35.7225,2,    172.2,2,    191.1,2,    1.882,2,   1.8800,2,     7.06,2
      74AB73_1,  AR11,    32,  1,   3212,     12,2,19921016,1542, 28.5002, -26.3283, -999,      7.1,  24.9171,  37.3764,2,  37.3779,2,    201.5,2,    211.4,2,    1.688,2,   1.7760,2,    -1.49,2
      74AB73_1,  AR11,    32,  1,   3211,     11,2,19921016,1542, 28.5002, -26.3283, -999,     62.3,  21.7959,  37.1917,2,  37.0015,2,    232.1,2,    237.0,2,    1.710,2,   1.7770,2,    -1.46,2
      74AB73_1,  AR11,    32,  1,   3210,     10,2,19921016,1542, 28.5002, -26.3283, -999,     91.4,  20.2652,  36.9176,2,  36.8671,2,    224.5,2,    232.3,2,    1.649,2,   1.7850,2,    -1.54,2
      74AB73_1,  AR11,    32,  1,   3209,      9,2,19921016,1542, 28.5002, -26.3283, -999,    121.7,  19.4505,  36.8473,2,  36.8595,2,    213.6,2,    217.5,2,    1.730,2,   1.8130,2,    -1.26,2
      74AB73_1,  AR11,    32,  1,   3208,      8,2,19921016,1542, 28.5002, -26.3283, -999,    142.0,  19.1784,  36.8530,2,  36.8212,2,    205.5,2,    211.3,2,    1.807,2,   1.8230,2,    -0.98,2
      74AB73_1,  AR11,    32,  1,   3207,      7,2,19921016,1542, 28.5002, -26.3283, -999,    182.8,  18.0771,  36.6428,2,  36.6053,2,    197.2,2,    202.2,2,    1.778,2,   1.8320,2,     0.16,2
      74AB73_1,  AR11,    32,  1,   3206,      6,2,19921016,1542, 28.5002, -26.3283, -999,    222.6,  17.0409,  36.4417,2,  36.4172,2,    191.2,2,    199.3,2,    1.852,2,   1.8330,2,     0.86,2
      74AB73_1,  AR11,    32,  1,   3205,      5,2,19921016,1542, 28.5002, -26.3283, -999,    262.8,  16.3423,  36.3164,2,  36.2833,2,    192.1,2,    198.9,2,    1.826,2,   1.8300,2,     1.65,2
      74AB73_1,  AR11,    32,  1,   3204,      4,2,19921016,1542, 28.5002, -26.3283, -999,    302.1,  15.5621,  36.1709,2,  36.1440,2,    194.1,2,    199.0,2,    1.897,2,   1.8600,2,     2.49,2
      74AB73_1,  AR11,    32,  1,   3203,      3,2,19921016,1542, 28.5002, -26.3283, -999,    351.6,  14.6941,  36.0282,2,  36.0014,2,    190.2,2,    197.3,2,    1.907,2,   1.8680,2,     3.45,2
      74AB73_1,  AR11,    32,  1,   3202,      2,2,19921016,1542, 28.5002, -26.3283, -999,    401.5,  13.8587,  35.8947,2,  35.8761,2,    186.0,2,    192.6,2,    1.974,2,   1.8920,2,     4.50,2
      74AB73_1,  AR11,    32,  1,   3201,      1,2,19921016,1542, 28.5002, -26.3283, -999,    501.4,  12.5418,  35.6971,2,  35.6944,2,    186.5,2,    190.1,2,    1.983,2,   1.9210,2,     6.84,2