BOTTLE,20010823WHPSIOKJU
EXPOCODE,SECT_ID,STNNBR,CASTNO,SAMPNO,BTLNBR,BTLNBR_FLAG_W,DATE,TIME,LATITUDE,LONGITUDE,DEPTH,CTDPRS,CTDTMP,CTDSAL,CTDSAL_FLAG_W,SALNTY,SALNTY_FLAG_W,CTDOXY,CTDOXY_FLAG_W,OXYGEN,OXYGEN_FLAG_W,TRITUM,TRITUM_FLAG_W,HELIUM,HELIUM_FLAG_W,DELHE3,DELHE3_FLAG_W
,,,,,,,,,,,,DBAR,IPTS68,PSS-78,,PSS-78,,UMOL/KG,,UMOL/KG,,TU,,NMOL/KG,,PERCNT,
      74AB73_1,  AR11,    41,  1,   4112,     12,2,19921019,0550, 29.1997, -33.0008, -999,      7.2,  24.6381,  37.2485,2,  37.2568,2,    208.0,2,    213.8,2,    1.627,2,   1.7420,2,    -1.58,2
      74AB73_1,  AR11,    41,  1,   4111,     11,2,19921019,0550, 29.1997, -33.0008, -999,     77.4,  20.5788,  36.7786,2,  36.8169,2,    230.3,2,    234.1,2,    1.621,2,   1.7930,2,    -1.22,2
      74AB73_1,  AR11,    41,  1,   4110,     10,2,19921019,0550, 29.1997, -33.0008, -999,    102.4,  20.1281,  36.9363,2,  36.9107,2,    221.7,2,    219.0,2,    1.645,2,   1.7840,2,    -1.10,2
      74AB73_1,  AR11,    41,  1,   4109,      9,2,19921019,0550, 29.1997, -33.0008, -999,    126.2,  19.6212,  36.8680,2,  36.8355,2,    204.8,2,    210.5,2,    1.671,2,   1.7890,2,    -0.93,2
      74AB73_1,  AR11,    41,  1,   4108,      8,2,19921019,0550, 29.1997, -33.0008, -999,    150.5,  18.6602,  36.7674,2,  36.6290,2,    205.4,2,    206.3,2,    1.636,2,   1.7850,2,    -0.54,2
      74AB73_1,  AR11,    41,  1,   4107,      7,2,19921019,0550, 29.1997, -33.0008, -999,    201.8,  17.6065,  36.4478,2,  36.4305,2,    193.0,2,    203.7,2,    1.838,2,   1.8440,2,     0.41,2
      74AB73_1,  AR11,    41,  1,   4106,      6,2,19921019,0550, 29.1997, -33.0008, -999,    250.9,  17.0599,  36.3594,2,  36.3564,2,    190.8,2,    201.3,2,    1.778,2,   1.7980,2,     1.20,2
      74AB73_1,  AR11,    41,  1,   4105,      5,2,19921019,0550, 29.1997, -33.0008, -999,    302.1,  16.3983,  36.2978,2,  36.2748,2,    203.3,2,    199.0,2,    1.814,2,   1.8140,2,     2.22,2
      74AB73_1,  AR11,    41,  1,   4104,      4,2,19921019,0550, 29.1997, -33.0008, -999,    350.5,  15.6721,  36.1767,2,  36.1545,2,    191.7,2,    200.1,2, -999.000,9,   1.8250,2,     2.55,2
      74AB73_1,  AR11,    41,  1,   4103,      3,2,19921019,0550, 29.1997, -33.0008, -999,    401.0,  14.7665,  36.0056,2,  36.0042,2,    185.5,2,    198.9,2,    1.901,2,   1.8550,2,     3.38,2
      74AB73_1,  AR11,    41,  1,   4102,      2,2,19921019,0550, 29.1997, -33.0008, -999,    448.5,  14.0112,  35.8992,2,  35.8908,2,    187.2,2,    197.4,2,    1.925,2,   1.8260,2,     4.44,2
      74AB73_1,  AR11,    41,  1,   4101,      1,2,19921019,0550, 29.1997, -33.0008, -999,    500.3,  13.2620,  35.7810,2,  35.7813,2,    190.7,2,    196.2,2,    1.923,2,   1.8680,2,     4.95,2
      74AB73_1,  AR11,    42,  1,   4212,     12,2,19921019,1558, 29.0002, -34.9998, -999,      8.0,  24.8715,  37.1811,2,  37.1636,2,    208.2,2,    211.4,2,    1.673,2,   1.7660,2,    -1.52,2
      74AB73_1,  AR11,    42,  1,   4211,     11,2,19921019,1558, 29.0002, -34.9998, -999,     99.9,  20.0949,  36.6949,2,  36.7173,2,    210.1,2,    234.7,2,    1.623,2,   1.7810,2,    -1.24,2
      74AB73_1,  AR11,    42,  1,   4210,     10,2,19921019,1558, 29.0002, -34.9998, -999,    149.5,  18.5940,  36.5909,2,  36.6098,2,    199.3,2,    209.9,2,    1.633,2,   1.7850,2,    -1.10,2
      74AB73_1,  AR11,    42,  1,   4209,      9,2,19921019,1558, 29.0002, -34.9998, -999,    199.5,  17.4746,  36.4244,2,  36.4166,2,    197.6,2,    202.0,2,    1.677,2,   1.7930,2,     0.85,2
      74AB73_1,  AR11,    42,  1,   4208,      8,2,19921019,1558, 29.0002, -34.9998, -999,    250.5,  16.8920,  36.3252,2,  36.3445,2,    187.1,2,    201.1,2,    1.702,2,   1.7990,2,     1.35,2
      74AB73_1,  AR11,    42,  1,   4207,      7,2,19921019,1558, 29.0002, -34.9998, -999,    299.5,  16.1868,  36.2221,2,  36.2238,2,    189.6,2,    202.1,2,    1.751,2,   1.8410,2,     1.77,2
      74AB73_1,  AR11,    42,  1,   4206,      6,2,19921019,1558, 29.0002, -34.9998, -999,    354.2,  15.4631,  36.1233,2,  36.1169,2,    196.2,2,    200.6,2, -999.000,9,   1.8430,2,     2.86,2
      74AB73_1,  AR11,    42,  1,   4205,      5,2,19921019,1558, 29.0002, -34.9998, -999,    403.4,  14.8261,  36.0223,2,  36.0169,2,    188.3,2,    199.5,2,    1.871,2,   1.8780,2,     3.29,2
      74AB73_1,  AR11,    42,  1,   4204,      4,2,19921019,1558, 29.0002, -34.9998, -999,    453.5,  13.7884,  35.8723,2,  35.8580,2,    193.6,2,    197.5,2,    1.863,2,   1.8570,2,     4.52,2
      74AB73_1,  AR11,    42,  1,   4203,      3,2,19921019,1558, 29.0002, -34.9998, -999,    503.5,  13.2186,  35.7858,2,  35.7730,2,    186.8,2,    196.4,2,    1.835,2,   1.8600,2,     5.24,2
      74AB73_1,  AR11,    42,  1,   4202,      2,2,19921019,1558, 29.0002, -34.9998, -999,    752.8,   9.9539,  35.4356,2,  35.4279,2,    168.1,2,    178.6,2,    1.332,2,   1.9220,2,     8.92,2
      74AB73_1,  AR11,    42,  1,   4201,      1,2,19921019,1558, 29.0002, -34.9998, -999,   1001.0,   7.5752,  35.3155,2,  35.3045,2,    174.1,2,    182.5,2,    0.529,2,   1.8700,2,     5.47,2
      74AB73_1,  AR11,    43,  1,   4308,      8,2,19921019,2056, 29.6697, -34.8287, -999,    100.1,  20.5932,  36.8955,2,  36.9161,2,    221.1,2,    234.8,2,    1.683,2,   1.7860,2,    -1.46,2
      74AB73_1,  AR11,    43,  1,   4307,      7,2,19921019,2056, 29.6697, -34.8287, -999,    149.1,  19.2169,  36.7031,2,  36.7943,2,    197.5,2,    215.5,2,    1.708,2,   1.7950,2,    -1.09,2
      74AB73_1,  AR11,    43,  1,   4306,      6,2,19921019,2056, 29.6697, -34.8287, -999,    199.7,  17.4560,  36.3555,2,  36.3980,2,    194.5,2,    203.4,2,    1.733,2,   1.8150,2,     0.42,2
      74AB73_1,  AR11,    43,  1,   4305,      5,2,19921019,2056, 29.6697, -34.8287, -999,    252.5,  16.4745,  36.2543,2,  36.2800,2,    194.4,2,    198.5,2,    1.742,2,   1.8350,2,     1.77,2
      74AB73_1,  AR11,    43,  1,   4304,      4,2,19921019,2056, 29.6697, -34.8287, -999,    301.9,  15.8382,  36.1548,2,  36.1787,2,    190.4,2,    201.4,2,    1.786,2,   1.8500,2,     1.92,2
      74AB73_1,  AR11,    43,  1,   4303,      3,2,19921019,2056, 29.6697, -34.8287, -999,    351.8,  15.1357,  36.0411,2,  36.0594,2,    180.3,2,    200.3,2,    1.809,2,   1.8260,2,     2.79,2
      74AB73_1,  AR11,    43,  1,   4302,      2,2,19921019,2056, 29.6697, -34.8287, -999,    401.0,  14.4030,  35.9370,2,  35.9451,2,    183.4,2,    198.1,2,    1.830,2,   1.8230,2,     3.65,2
      74AB73_1,  AR11,    43,  1,   4301,      1,2,19921019,2056, 29.6697, -34.8287, -999,    501.7,  13.1212,  35.7607,2,  35.7592,2,    178.8,2,    192.4,2,    1.834,2,   1.8270,2,     6.21,2
      74AB73_1,  AR11,    44,  1,   4408,      8,2,19921020,0135, 30.3317, -34.6690, -999,     98.7,  19.8222,  36.7512,2,  36.7839,2,    217.3,2,    229.0,2,    1.680,2,   1.7880,2,    -1.40,2
      74AB73_1,  AR11,    44,  1,   4407,      7,2,19921020,0135, 30.3317, -34.6690, -999,    155.0,  18.3478,  36.5795,2,  36.5630,2,    183.6,2,    206.0,2,    1.694,2,   1.8140,2,    -0.60,2
      74AB73_1,  AR11,    44,  1,   4406,      6,2,19921020,0135, 30.3317, -34.6690, -999,    201.1,  17.4947,  36.4609,2,  36.4697,2,    193.1,2,    198.7,2,    1.787,2,   1.8000,2,     0.74,2
      74AB73_1,  AR11,    44,  1,   4405,      5,2,19921020,0135, 30.3317, -34.6690, -999,    252.2,  16.5783,  36.2952,2,  36.3004,2,    183.5,2,    199.5,2,    1.781,2,   1.7750,2,     1.47,2
      74AB73_1,  AR11,    44,  1,   4404,      4,2,19921020,0135, 30.3317, -34.6690, -999,    302.4,  15.8888,  36.1783,2,  36.1763,2,    189.6,2,    201.2,2,    1.760,2,   1.8040,2,     1.90,2
      74AB73_1,  AR11,    44,  1,   4403,      3,2,19921020,0135, 30.3317, -34.6690, -999,    350.5,  15.2485,  36.0849,2,  36.0756,2,    191.8,2,    199.6,2,    1.793,2,   1.8190,2,     2.55,2
      74AB73_1,  AR11,    44,  1,   4402,      2,2,19921020,0135, 30.3317, -34.6690, -999,    401.1,  14.4097,  35.9678,2,  35.9493,2,    190.7,2,    198.2,2,    1.823,2,   1.8160,2,     3.61,2
      74AB73_1,  AR11,    44,  1,   4401,      1,2,19921020,0135, 30.3317, -34.6690, -999,    501.8,  13.0161,  35.7511,2,  35.7495,2,    190.5,2,    195.4,2,    1.847,2,   1.8210,2,     5.43,2
      74AB73_1,  AR11,    45,  1,   4512,     12,2,19921022,0822, 32.8097, -33.8850, -999,     10.9,  22.7198,  36.6417,2,  36.6437,2,    220.4,2,    220.5,2,    1.702,2,-999.0000,9,  -999.00,9
      74AB73_1,  AR11,    45,  1,   4511,     11,2,19921022,0822, 32.8097, -33.8850, -999,     65.4,  21.3311,  36.7912,2,  36.8105,2,    237.1,2,    239.3,2,    1.692,2,-999.0000,9,  -999.00,9
      74AB73_1,  AR11,    45,  1,   4510,     10,2,19921022,0822, 32.8097, -33.8850, -999,    101.1,  19.5499,  36.6597,2,  36.6786,2,    215.9,2,    226.1,2,    1.648,2,   1.9220,2,    -0.99,2
      74AB73_1,  AR11,    45,  1,   4509,      9,2,19921022,0822, 32.8097, -33.8850, -999,    135.2,  18.4912,  36.5366,2,  36.5630,2,    195.8,2,    209.9,2,    1.644,2,   1.8030,2,    -1.06,2
      74AB73_1,  AR11,    45,  1,   4508,      8,2,19921022,0822, 32.8097, -33.8850, -999,    167.7,  17.9549,  36.4789,2,  36.4830,2,    202.5,2,    205.3,2,    1.668,2,   1.8260,2,    -0.32,2
      74AB73_1,  AR11,    45,  1,   4507,      7,2,19921022,0822, 32.8097, -33.8850, -999,    202.2,  17.6206,  36.4416,2,  36.4422,2,    197.5,2,    205.4,2,    1.696,2,   1.8370,2,    -0.01,2
      74AB73_1,  AR11,    45,  1,   4506,      6,2,19921022,0822, 32.8097, -33.8850, -999,    253.6,  17.0949,  36.3641,2,  36.3623,2,    195.3,2,    203.8,2,    1.753,2,   1.8140,2,     0.73,2
      74AB73_1,  AR11,    45,  1,   4505,      5,2,19921022,0822, 32.8097, -33.8850, -999,    299.8,  16.6873,  36.3064,2,  36.3008,2,    199.0,2,    204.5,2,    1.792,2,   1.8290,2,     0.83,2
      74AB73_1,  AR11,    45,  1,   4504,      4,2,19921022,0822, 32.8097, -33.8850, -999,    353.5,  15.9278,  36.1929,2,  36.1810,2,    197.5,2,    200.4,2,    1.787,2,   1.8860,2,     1.80,2
      74AB73_1,  AR11,    45,  1,   4503,      3,2,19921022,0822, 32.8097, -33.8850, -999,    397.4,  15.3633,  36.0933,2,  36.0900,2,    192.0,2,    199.2,2,    1.825,2,   1.8820,2,     2.13,2
      74AB73_1,  AR11,    45,  1,   4502,      2,2,19921022,0822, 32.8097, -33.8850, -999,    448.8,  14.5451,  35.9621,2,  35.9617,2,    186.0,2,    197.2,2,    1.856,2,   1.9050,2,     3.01,2
      74AB73_1,  AR11,    45,  1,   4501,      1,2,19921022,0822, 32.8097, -33.8850, -999,    504.9,  13.5373,  35.8075,2,  35.8155,2,    183.9,2,    192.4,2,    1.796,2,   1.9380,2,     4.17,2
      74AB73_1,  AR11,    46,  1,   4607,      7,2,19921023,1420, 32.9013, -33.9367, -999,   3028.4,   2.8376,  34.9446,2,  34.9406,2,    225.4,2,    251.1,2, -999.000,9,-999.0000,9,  -999.00,9
      74AB73_1,  AR11,    46,  1,   4603,      3,2,19921023,1420, 32.9013, -33.9367, -999,   3028.5,   2.8368,  34.9446,2,  34.9418,2,    225.4,2,    251.1,2, -999.000,9,-999.0000,9,  -999.00,9
      74AB73_1,  AR11,    46,  1,   4612,     12,2,19921023,1420, 32.9013, -33.9367, -999,   3028.6,   2.8377,  34.9446,2,  34.9410,2,    225.3,2,    251.3,2, -999.000,9,-999.0000,9,  -999.00,9
      74AB73_1,  AR11,    46,  1,   4610,     10,2,19921023,1420, 32.9013, -33.9367, -999,   3028.8,   2.8373,  34.9445,2,  34.9410,2,    225.3,2,    251.4,2, -999.000,9,-999.0000,9,  -999.00,9
      74AB73_1,  AR11,    46,  1,   4601,      1,2,19921023,1420, 32.9013, -33.9367, -999,   3029.0,   2.8368,  34.9445,2,  34.9418,2,    225.3,2,    250.9,2, -999.000,9,-999.0000,9,  -999.00,9
      74AB73_1,  AR11,    46,  1,   4609,      9,2,19921023,1420, 32.9013, -33.9367, -999,   3029.1,   2.8370,  34.9445,2,  34.9408,2,    225.4,2,    251.1,2, -999.000,9,-999.0000,9,  -999.00,9
      74AB73_1,  AR11,    46,  1,   4605,      5,2,19921023,1420, 32.9013, -33.9367, -999,   3029.8,   2.8368,  34.9449,2,  34.9410,2,    225.9,2,    251.0,2, -999.000,9,-999.0000,9,  -999.00,9
      74AB73_1,  AR11,    46,  1,   4604,      4,2,19921023,1420, 32.9013, -33.9367, -999,   3029.9,   2.8368,  34.9449,2,  34.9410,2,    226.0,2,    251.7,2, -999.000,9,-999.0000,9,  -999.00,9
      74AB73_1,  AR11,    46,  1,   4611,     11,2,19921023,1420, 32.9013, -33.9367, -999,   3030.1,   2.8369,  34.9449,2,  34.9408,2,    226.1,2,    251.6,2, -999.000,9,-999.0000,9,  -999.00,9
      74AB73_1,  AR11,    46,  1,   4606,      6,2,19921023,1420, 32.9013, -33.9367, -999,   3030.5,   2.8372,  34.9445,2,  34.9412,2,    226.1,2,    251.0,2, -999.000,9,-999.0000,9,  -999.00,9
      74AB73_1,  AR11,    46,  1,   4608,      8,2,19921023,1420, 32.9013, -33.9367, -999,   3030.6,   2.8371,  34.9444,2,  34.9406,2,    226.1,2,    251.3,2, -999.000,9,-999.0000,9,  -999.00,9
      74AB73_1,  AR11,    46,  1,   4602,      2,2,19921023,1420, 32.9013, -33.9367, -999,   3030.9,   2.8371,  34.9441,2,  34.9414,2,    226.1,2,    251.2,2, -999.000,9,-999.0000,9,  -999.00,9
      74AB73_1,  AR11,    47,  1,   4708,      8,2,19921024,0625, 33.3003, -33.5008, -999,    101.0,  18.4958,  36.5695,2,  36.5557,2,    201.0,2,    210.4,2,    1.602,2,   1.7970,2,    -0.94,2
      74AB73_1,  AR11,    47,  1,   4707,      7,2,19921024,0625, 33.3003, -33.5008, -999,    150.5,  17.7965,  36.4766,2,  36.4715,2,    196.2,2,    202.5,2,    1.655,2,   1.8380,2,     0.28,2
      74AB73_1,  AR11,    47,  1,   4706,      6,2,19921024,0625, 33.3003, -33.5008, -999,    201.0,  17.1484,  36.3677,2,  36.3681,2,    202.8,2,    206.7,2,    1.691,2,   1.8140,2,     0.64,2
      74AB73_1,  AR11,    47,  1,   4705,      5,2,19921024,0625, 33.3003, -33.5008, -999,    251.0,  16.6774,  36.2941,2,  36.2968,2,    198.9,2,    208.6,2,    1.732,2,   1.8670,2,     0.72,2
      74AB73_1,  AR11,    47,  1,   4704,      4,2,19921024,0625, 33.3003, -33.5008, -999,    300.0,  16.1097,  36.2121,2,  36.2184,2,    197.9,2,    207.3,2,    1.794,2,   1.8490,2,     1.31,2
      74AB73_1,  AR11,    47,  1,   4703,      3,2,19921024,0625, 33.3003, -33.5008, -999,    349.7,  15.4376,  36.1050,2,  36.1118,2,    193.9,2,    201.4,2,    1.840,2,   1.8880,2,     2.26,2
      74AB73_1,  AR11,    47,  1,   4702,      2,2,19921024,0625, 33.3003, -33.5008, -999,    401.3,  14.6359,  35.9666,2,  35.9625,2,    198.6,2,    205.6,2,    1.871,2,   1.9030,2,     1.78,2
      74AB73_1,  AR11,    47,  1,   4701,      1,2,19921024,0625, 33.3003, -33.5008, -999,    502.7,  13.0373,  35.7770,2,  35.7756,2,    203.9,2,    211.7,2,    1.881,2,   1.9320,2,     2.28,2
      74AB73_1,  AR11,    48,  1,   4808,      8,2,19921024,1007, 33.5983, -32.9995, -999,     56.9,  19.0884,  36.2229,2,  36.1959,2,    226.3,2,    234.4,2,    1.888,2,   1.7950,2,    -1.41,2
      74AB73_1,  AR11,    48,  1,   4807,      7,2,19921024,1007, 33.5983, -32.9995, -999,     85.0,  17.1274,  36.2030,2,  36.1976,2,    207.3,2,    234.0,2,    1.894,2,   1.8030,2,    -0.86,2
      74AB73_1,  AR11,    48,  1,   4806,      6,2,19921024,1007, 33.5983, -32.9995, -999,     97.8,  16.5559,  36.1742,2,  36.1662,2,    209.8,2,    226.9,2, -999.000,9,   1.7950,2,    -0.71,2
      74AB73_1,  AR11,    48,  1,   4805,      5,2,19921024,1007, 33.5983, -32.9995, -999,    153.5,  15.3412,  36.0691,2,  36.0564,2,    207.8,2,    218.7,2, -999.000,9,   1.8120,2,    -0.31,2
      74AB73_1,  AR11,    48,  1,   4804,      4,2,19921024,1007, 33.5983, -32.9995, -999,    202.4,  14.5344,  35.9321,2,  35.9346,2,    210.7,2,    221.9,2,    1.915,2,   1.8250,2,    -0.21,2
      74AB73_1,  AR11,    48,  1,   4803,      3,2,19921024,1007, 33.5983, -32.9995, -999,    251.6,  13.8294,  35.8449,2,  35.8552,2,    203.0,2,    212.1,2,    1.944,2,   1.8660,2,     1.10,2
      74AB73_1,  AR11,    48,  1,   4802,      2,2,19921024,1007, 33.5983, -32.9995, -999,    351.4,  13.0851,  35.7646,2,  35.7744,2,    203.3,2,    208.8,2, -999.000,9,   1.8480,2,     2.40,2
      74AB73_1,  AR11,    48,  1,   4801,      1,2,19921024,1007, 33.5983, -32.9995, -999,    502.1,  11.6845,  35.5976,2,  35.6023,2,    203.9,2,    211.6,2,    1.994,2,   1.9140,2,     3.53,2
      74AB73_1,  AR11,    49,  1,   4908,      8,2,19921024,1334, 33.9008, -32.4988, -999,     89.6,  18.9249,  36.1711,2,  36.2129,2,    217.2,2,    234.7,2,    1.850,2,   1.7910,2,    -1.20,2
      74AB73_1,  AR11,    49,  1,   4907,      7,2,19921024,1334, 33.9008, -32.4988, -999,     99.9,  17.7214,  36.1180,2,  36.1664,2,    228.6,2,    234.3,2,    1.892,2,   1.7980,2,    -1.33,2
      74AB73_1,  AR11,    49,  1,   4906,      6,2,19921024,1334, 33.9008, -32.4988, -999,    110.0,  16.1990,  36.0625,2,  36.0954,2,    215.7,2,    227.5,2,    1.896,2,   1.8010,2,    -1.02,2
      74AB73_1,  AR11,    49,  1,   4905,      5,2,19921024,1334, 33.9008, -32.4988, -999,    140.8,  15.0957,  36.0084,2,  36.0275,2,    204.0,2,    219.5,2,    1.947,2,   1.8100,2,    -0.51,2
      74AB73_1,  AR11,    49,  1,   4904,      4,2,19921024,1334, 33.9008, -32.4988, -999,    173.0,  14.4327,  35.9406,2,  35.9453,2,    200.3,2,    216.7,2,    1.970,2,   1.8600,2,     0.41,2
      74AB73_1,  AR11,    49,  1,   4903,      3,2,19921024,1334, 33.9008, -32.4988, -999,    201.6,  14.0270,  35.8960,2,  35.9046,2,    205.6,2,    214.7,2,    1.973,2,   1.8470,2,     0.52,2
      74AB73_1,  AR11,    49,  1,   4902,      2,2,19921024,1334, 33.9008, -32.4988, -999,    352.2,  12.1688,  35.6542,2,  35.6652,2,    200.7,2,    214.2,2,    1.972,2,   1.8640,2,     2.20,2
      74AB73_1,  AR11,    49,  1,   4901,      1,2,19921024,1334, 33.9008, -32.4988, -999,    500.8,  10.8159,  35.4973,2,  35.4977,2,    206.1,2,    206.1,2,    1.845,2,   1.8560,2,     5.28,2
      74AB73_1,  AR11,    50,  1,   5008,      8,2,19921024,1657, 34.2000, -32.0013, -999,     90.5,  16.8984,  36.1786,2,  36.1472,2,    204.3,2,    230.6,2,    1.864,2,   1.8010,2,    -1.20,2
      74AB73_1,  AR11,    50,  1,   5007,      7,2,19921024,1657, 34.2000, -32.0013, -999,     99.3,  16.1982,  36.1336,2,  36.1252,2,    205.5,2,    227.5,2,    1.880,2,   1.8180,2,    -0.77,2
      74AB73_1,  AR11,    50,  1,   5006,      6,2,19921024,1657, 34.2000, -32.0013, -999,    110.1,  15.9079,  36.1304,2,  36.0873,2,    195.2,2,    223.9,2,    1.926,2,   1.8110,2,    -0.67,2
      74AB73_1,  AR11,    50,  1,   5005,      5,2,19921024,1657, 34.2000, -32.0013, -999,    139.9,  15.4004,  36.0510,2,  36.0422,2,    211.3,2,    222.6,2,    1.882,2,   1.8220,2,    -0.44,2
      74AB73_1,  AR11,    50,  1,   5004,      4,2,19921024,1657, 34.2000, -32.0013, -999,    169.3,  14.8718,  35.9785,2,  35.9912,2,    207.8,2,    219.0,2,    1.927,2,   1.8280,2,    -0.08,2
      74AB73_1,  AR11,    50,  1,   5003,      3,2,19921024,1657, 34.2000, -32.0013, -999,    198.4,  14.3400,  35.9282,2,  35.9263,2,    208.7,2,    219.4,2,    1.942,2,   1.8320,2,     0.22,2
      74AB73_1,  AR11,    50,  1,   5002,      2,2,19921024,1657, 34.2000, -32.0013, -999,    349.7,  12.4064,  35.6954,2,  35.6946,2,    192.5,2,    215.5,2,    1.953,2,   1.8700,2,     2.38,2
      74AB73_1,  AR11,    50,  1,   5001,      1,2,19921024,1657, 34.2000, -32.0013, -999,    499.7,  11.1783,  35.5257,2,  35.5257,2,    195.0,2,    211.6,2,    1.913,2,   1.8560,2,     4.03,2