BOTTLE,20081119PRINUNIVRMK
EXPOCODE,STNNBR,CASTNO,BTLNBR,DATE,LATITUDE,LONGITUDE,DEPTH,CTDPRS,CTDTMP,CTDSAL,CTDSAL_FLAG_W,SALNTY,SALNTY_FLAG_W,OXYGEN,OXYGEN_FLAG_W,SILCAT,SILCAT_FLAG_W,NITRAT,NITRAT_FLAG_W,PHSPHT,PHSPHT_FLAG_W,CFC-11,CFC-11_FLAG_W,CFC-12,CFC-12_FLAG_W,CFC113,CFC113_FLAG_W,TCARBN,TCARBN_FLAG_W,DELO18,DELO18_FLAG_W,BARIUM,BARIUM_FLAG_W,THETA
,,,,,,,METERS,DBARS,ITS-90,PSS-78,,PSS-78,,UMOL/KG,,UMOL/KG,,UMOL/KG,,UMOL/KG,,PMOL/KG,,PMOL/KG,,PMOL/KG,,UMOL/KG,,O/OO,,UM/KG,,DEGC
  06AQ19930806,    60,  2,      1,19930917, 77.5467, 118.4533, 1130,   1133.4,  -0.0212,  34.9040,2,  34.9029,2,    279.8,2,     7.48,2,    10.01,2,     0.74,2,    3.970,2,    1.770,2,    0.330,2,   2158.4,2,     0.26,2,0.0487952561,2,  -0.0729336807
  06AQ19930806,    60,  2,      2,19930917, 77.5467, 118.4533, 1130,   1103.2,   0.0136,  34.9028,2,  34.9023,2,    279.8,2,     7.38,2,     9.91,2,     0.68,2, -999.000,9, -999.000,9, -999.000,9,   2155.9,2,  -999.00,9,0.0478193937,2,  -0.0367733912
  06AQ19930806,    60,  2,      3,19930917, 77.5467, 118.4533, 1130,   1054.5,   0.0660,  34.8994,2,  34.8990,2,    279.8,2,     6.90,2,    10.01,2,     0.76,2,    4.630,2,    2.187,2,    0.376,2,   2162.2,2,     0.23,2,0.0487954232,2,   0.0178581646
  06AQ19930806,    60,  2,      4,19930917, 77.5467, 118.4533, 1130,   1003.0,   0.1026,  34.8967,2,  34.8964,2,    280.8,2,     6.61,2,     9.91,2,     0.76,2,    4.969,2,    2.307,2,    0.424,2,   2158.3,2,     0.23,2,0.0517232525,2,   0.0569688498
  06AQ19930806,    60,  2,      5,19930917, 77.5467, 118.4533, 1130,    902.7,   0.2204,  34.8908,2,  34.8899,2,    283.7,2,     6.22,2,     9.72,2,     0.71,2,    5.144,2,    2.314,2,    0.424,2,   2158.4,2,     0.19,2,0.0487957356,2,    0.179270276
  06AQ19930806,    60,  2,      6,19930917, 77.5467, 118.4533, 1130,    802.4,   0.3634,  34.8820,2,  34.8827,2,    284.7,2,     5.73,2,     9.52,2,     0.71,2, -999.000,9, -999.000,9, -999.000,9,   2154.2,2,     0.22,2, 0.046844213,2,    0.326618632
  06AQ19930806,    60,  2,      7,19930917, 77.5467, 118.4533, 1130,    700.3,   0.5048,  34.8743,2,  34.8769,2,    288.6,2,     5.54,2,     9.33,2,     0.70,2,    5.526,2,    2.465,2,    0.485,2,   2150.8,2,     0.27,2,0.0468444815,2,    0.472521295
  06AQ19930806,    60,  2,      8,19930917, 77.5467, 118.4533, 1130,    599.3,   0.6677,  34.8735,2,  34.8752,2,    284.7,2,     5.54,2,     9.33,2,     0.68,2, -999.000,9, -999.000,9, -999.000,9,   2152.7,2,     0.22,2,0.0458685822,2,    0.639806292
  06AQ19930806,    60,  2,      9,19930917, 77.5467, 118.4533, 1130,    499.1,   0.8085,  34.8667,2,  34.8667,2,    283.7,2,     5.44,2,     9.52,2,     0.70,2,    5.472,2,    2.480,2,    0.490,2,   2147.8,2,     0.26,2,0.0448928821,2,    0.785136262
  06AQ19930806,    60,  2,     10,19930917, 77.5467, 118.4533, 1130,    447.8,   0.9014,  34.8642,2,  34.8651,2,    285.7,2,     5.44,2,     9.33,2,     0.70,2,    5.483,2,    2.502,2,    0.417,2,   2148.4,2,  -999.00,9,0.0448929657,2,    0.880296503
  06AQ19930806,    60,  2,     11,19930917, 77.5467, 118.4533, 1130,    398.8,   1.0723,  34.8723,2,  34.8724,2,    286.7,2,     5.25,2,     9.52,2,     0.70,2,    5.407,2,    2.456,2,    0.493,2,   2143.6,2,     0.28,2,0.0458686231,2,      1.0531084
  06AQ19930806,    60,  2,     12,19930917, 77.5467, 118.4533, 1130,    349.1,   1.2477,  34.8705,2,  34.8673,2,    285.7,2,     5.25,2,     9.33,2,     0.73,2,    5.460,2,    2.484,2,    0.501,2,   -999.0,9,  -999.00,9,0.0448927551,2,     1.23054894
  06AQ19930806,    60,  2,     13,19930917, 77.5467, 118.4533, 1130,    299.8,   1.2604,  34.8498,2,  34.8472,2,    285.7,2,     5.15,2,     9.23,2,     0.71,2, -999.000,9, -999.000,9, -999.000,9,   2143.0,2,     0.26,2,0.0458693914,2,     1.24577835
  06AQ19930806,    60,  2,     14,19930917, 77.5467, 118.4533, 1130,    247.6,   1.3141,  34.8261,2,  34.8275,2,    286.7,2,     5.15,2,     9.14,2,     0.71,2,    5.533,2,    2.587,2,    0.493,2,   2137.1,2,  -999.00,9,0.0458702007,2,     1.30203508
  06AQ19930806,    60,  2,     15,19930917, 77.5467, 118.4533, 1130,    223.7,   1.1515,  34.7950,2,  34.8071,2,    285.7,2,     5.05,2,     8.07,2,     0.68,2, -999.000,9, -999.000,9, -999.000,9,   2137.5,2,  -999.00,9,0.0458712627,2,     1.14095575
  06AQ19930806,    60,  2,     16,19930917, 77.5467, 118.4533, 1130,    199.1,   0.6546,  34.7207,2,  34.7363,2,    285.7,2,     5.05,2,     8.55,2,     0.68,2,    5.763,2,    2.632,2,    0.462,2,   2138.7,2,     0.16,2,0.0458737999,2,    0.646109258
  06AQ19930806,    60,  2,     17,19930917, 77.5467, 118.4533, 1130,    174.1,   0.4456,  34.6582,2,  34.6881,2,    287.7,2,     4.67,2,     7.87,2,     0.65,2, -999.000,9, -999.000,9, -999.000,9,   2138.4,2,  -999.00,9,0.0448998507,2,    0.438535458
  06AQ19930806,    60,  2,     18,19930917, 77.5467, 118.4533, 1130,    147.4,  -0.3272,  34.5942,2,  34.5905,2,    291.6,2,     4.86,2,     7.09,2,     0.61,2,    6.150,2,    2.799,2,    0.520,2,   2137.5,2,  -999.00,9,0.0458781202,2,   -0.332152829
  06AQ19930806,    60,  2,     19,19930917, 77.5467, 118.4533, 1130,    122.7,  -1.0667,  34.4355,2,  34.4494,2,    293.6,2,     5.44,2,     7.10,2,     0.61,2, -999.000,9, -999.000,9, -999.000,9,   2145.2,2,  -999.00,9,0.0458835409,2,    -1.06998155
  06AQ19930806,    60,  2,     20,19930917, 77.5467, 118.4533, 1130,     98.8,  -1.1330,  34.3377,2,  34.3726,2,    291.6,2,     5.05,2,     6.90,2,     0.61,2,    6.632,2,    2.971,2,    0.586,2,   2143.0,2,    -0.07,2,0.0458868819,2,    -1.13554823
  06AQ19930806,    60,  2,     21,19930917, 77.5467, 118.4533, 1130,     72.5,  -1.1006,  34.1956,2,  33.9904,2,    292.7,2,     5.64,2,     5.83,2,     0.55,2, -999.000,9, -999.000,9, -999.000,9,   2139.4,2,  -999.00,9,0.0449153168,2,    -1.10241827
  06AQ19930806,    60,  2,     22,19930917, 77.5467, 118.4533, 1130,     48.7,  -1.3326,  33.8536,2,  33.9967,2,    291.7,2,     5.83,2,     5.83,2,     0.56,2,    6.872,2,    3.071,2,    0.620,2,   2142.1,2,    -0.37,2, 0.047856761,2,    -1.33371225
  06AQ19930806,    60,  2,     23,19930917, 77.5467, 118.4533, 1130,     22.7,  -1.7284,  33.1638,2,  33.1142,2,    330.9,2,     3.70,2,     3.31,2,     0.38,2, -999.000,9, -999.000,9, -999.000,9,   2082.5,2,  -999.00,9,0.0469041783,2,    -1.72879448
  06AQ19930806,    60,  2,     24,19930917, 77.5467, 118.4533, 1130,     13.4,  -1.7543,  33.0821,2,  33.0877,2,    332.8,2,     3.79,2,     3.21,2,     0.38,2,    7.127,2,    3.252,2,    0.702,2,   2080.1,2,    -0.96,2,0.0488614917,2,    -1.75452785
  06AQ19930806,    61,  1,      1,19930917, 77.4467, 118.3167,  763,    749.9,   0.1392,  34.8947,2,  34.8954,2,    278.9,2,  -999.00,9,  -999.00,9,  -999.00,9,    4.771,2,    2.180,2,    0.370,2,   2158.4,2,  -999.00,9,0.0487955939,2,    0.106536268
  06AQ19930806,    61,  1,      2,19930917, 77.4467, 118.3167,  763,    700.3,   0.2533,  34.8881,2,  34.8886,2,    282.8,2,     6.61,2,    10.40,2,     0.62,2,    5.005,2,    2.311,2,    0.449,2,   2156.8,2,  -999.00,9, 0.047819917,2,    0.222454989
  06AQ19930806,    61,  1,      3,19930917, 77.4467, 118.3167,  763,    649.7,   0.5389,  34.8748,2,  34.8736,2,    283.7,2,     6.32,2,    10.20,2,     0.63,2,    5.373,2,    2.444,2,    0.432,2,   2151.5,2,  -999.00,9,0.0468444641,2,     0.50906375
  06AQ19930806,    61,  1,      4,19930917, 77.4467, 118.3167,  763,    550.9,   0.7688,  34.8671,2,  34.8659,2,    285.7,2,     5.73,2,    10.01,2,     0.63,2,    5.530,2,    2.548,2,    0.469,2,   2147.9,2,  -999.00,9,0.0507484603,2,    0.742943149
  06AQ19930806,    61,  1,      5,19930917, 77.4467, 118.3167,  763,    450.5,   0.8610,  34.8531,2,  34.8547,2,    287.6,2,     5.44,2,     9.72,2,     0.62,2,    5.593,2,    2.585,2,    0.435,2,   2146.9,2,  -999.00,9,0.0458692787,2,    0.839917381
  06AQ19930806,    61,  1,      6,19930917, 77.4467, 118.3167,  763,    400.6,   1.0215,  34.8545,2,  34.8529,2,    286.7,2,     5.54,2,     9.91,2,     0.67,2, -999.000,9, -999.000,9, -999.000,9,   2143.4,2,  -999.00,9,0.0448932898,2,      1.0023976
  06AQ19930806,    61,  1,      7,19930917, 77.4467, 118.3167,  763,    350.2,   0.9548,  34.8348,2,  34.8342,2,    285.7,2,     5.34,2,     9.91,2,     0.67,2,    5.656,2,    2.561,2,    0.446,2,   2140.5,2,  -999.00,9,0.0458699036,2,    0.938459824
  06AQ19930806,    61,  1,      8,19930917, 77.4467, 118.3167,  763,    299.7,   1.0094,  34.8177,2,  34.8163,2,    285.7,2,     5.35,2,     9.62,2,     0.61,2, -999.000,9, -999.000,9, -999.000,9,   2139.7,2,  -999.00,9,0.0468464553,2,     0.99542272
  06AQ19930806,    61,  1,     10,19930917, 77.4467, 118.3167,  763,    249.8,   0.8494,  34.7788,2,  34.7931,2,    284.7,2,     5.05,2,     9.33,2,     0.59,2,    5.709,2,    2.639,2,    0.441,2,   2137.9,2,  -999.00,9,0.0458718159,2,    0.838202163
  06AQ19930806,    61,  1,     11,19930917, 77.4467, 118.3167,  763,    200.5,   0.1394,  34.6599,2,  34.7020,2,    286.7,2,     4.76,2,     8.75,2,     0.56,2, -999.000,9, -999.000,9, -999.000,9,   2141.8,2,  -999.00,9,0.0448997939,2,    0.131728616
  06AQ19930806,    61,  1,     13,19930917, 77.4467, 118.3167,  763,    150.1,  -0.9457,  34.4957,2,  34.5070,2,    292.6,2,     4.76,2,     7.39,2,     0.51,2,    6.505,2,    2.933,2,    0.499,2,   2142.9,2,  -999.00,9,0.0468576864,2,   -0.949927216
  06AQ19930806,    61,  1,     14,19930917, 77.4467, 118.3167,  763,    124.8,  -0.9131,  34.4163,2,  34.4284,2,    291.6,2,     4.86,2,     7.10,2,     0.49,2, -999.000,9, -999.000,9, -999.000,9,   2144.0,2,  -999.00,9,0.0478367158,2,   -0.916600781
  06AQ19930806,    61,  1,     15,19930917, 77.4467, 118.3167,  763,    100.5,  -1.1483,  34.3252,2,  34.3440,2,    294.6,2,     4.47,2,     6.71,2,     0.45,2,    6.604,2,    2.998,2,    0.533,2,   2141.1,2,  -999.00,9,0.0478399603,2,    -1.15087482
  06AQ19930806,    61,  1,     17,19930917, 77.4467, 118.3167,  763,     75.9,  -1.1195,  34.1454,2,  34.1911,2,    289.7,2,     5.15,2,     6.22,2,     0.45,2, -999.000,9, -999.000,9, -999.000,9,   2146.5,2,  -999.00,9,0.0468699084,2,    -1.12142305
  06AQ19930806,    61,  1,     18,19930917, 77.4467, 118.3167,  763,     50.6,  -1.5749,  33.6716,2,  33.8826,2,    300.5,2,     4.96,2,     5.45,2,     0.43,2, -999.000,9, -999.000,9, -999.000,9,   2133.6,2,  -999.00,9,        -999,9,    -1.57593799
  06AQ19930806,    61,  1,     21,19930917, 77.4467, 118.3167,  763,     19.8,  -1.7671,  32.7790,2,  32.8405,2,    333.9,2,     3.70,2,     2.73,2,     0.31,2, -999.000,9, -999.000,9, -999.000,9,   2075.2,2,  -999.00,9,0.0469176214,2,    -1.76742608
  06AQ19930806,    61,  1,     22,19930917, 77.4467, 118.3167,  763,     15.3,  -1.7658,  32.7102,2,  32.7954,2,    333.9,2,     3.70,2,     2.73,2,     0.35,2,    7.302,2,    3.312,2,    0.619,2,   2070.3,2,  -999.00,9,        -999,9,     -1.7660501
  06AQ19930806,    62,  1,      1,19930917, 77.4100, 118.1800,  552,    552.9,   0.5156,  34.8708,2,  34.8703,2,    283.7,2,     5.93,2,    10.01,2,     0.87,4,    5.492,2,    2.467,2,    0.385,2,   2152.4,2,     0.21,2,0.0458686743,2,    0.490789385
  06AQ19930806,    62,  1,      2,19930917, 77.4100, 118.1800,  552,    529.1,   0.6688,  34.8588,2,  34.8612,2,    283.7,2,     5.73,2,     9.72,2,     0.71,2,    5.526,2,    2.507,2,    0.437,2,   2147.6,2,  -999.00,9, 0.048796898,2,    0.644507801
  06AQ19930806,    62,  1,      3,19930917, 77.4100, 118.1800,  552,    500.7,   0.7022,  34.8584,2,  34.8573,2,    284.7,2,     5.64,2,     9.72,2,     0.68,2,    5.684,2,    2.543,2,    0.419,2,   2148.2,2,  -999.00,9,0.0458690977,2,    0.679202026
  06AQ19930806,    62,  1,      4,19930917, 77.4100, 118.1800,  552,    451.7,   0.7573,  34.8534,2,  34.8506,2,    285.7,2,     5.54,2,     9.72,2,     0.67,2,    5.656,2,    2.570,2,    0.394,2,   2145.2,2,  -999.00,9,0.0478211522,2,    0.736546782
  06AQ19930806,    62,  1,      5,19930917, 77.4100, 118.1800,  552,    399.3,   0.9925,  34.8467,2,  34.8498,2,    284.7,2,     5.25,2,     8.84,2,     0.65,2,    5.671,2,    2.569,2,    0.456,2,   2140.2,2,  -999.00,9,0.0458694973,2,    0.973561936
  06AQ19930806,    62,  1,      6,19930917, 77.4100, 118.1800,  552,    350.2,   1.0114,  34.8315,2,  34.8315,2,    287.6,2,     5.15,2,     8.75,2,     0.61,2,    5.727,2,    2.556,2,    0.434,2,   2142.4,2,     0.17,2,0.0458700163,2,    0.994897544
  06AQ19930806,    62,  1,      7,19930917, 77.4100, 118.1800,  552,    300.7,   0.9107,  34.8047,2,  34.8031,2,    286.7,2,     5.05,2,     8.55,2,     0.62,2,    5.770,2,    2.573,2,    0.385,2,   2140.0,2,  -999.00,9,0.0448949542,2,    0.896926952
  06AQ19930806,    62,  1,      9,19930917, 77.4100, 118.1800,  552,    248.8,   0.9999,  34.7841,2,  34.7888,2,    284.7,2,     5.05,2,     8.55,2,     0.61,2,    5.694,2,    2.543,2,    0.436,2,   2137.8,2,  -999.00,9,0.0458716349,2,    0.988439613
  06AQ19930806,    62,  1,     10,19930917, 77.4100, 118.1800,  552,    199.1,   0.5631,  34.7111,2,  34.7164,2,    286.7,2,     4.86,2,     8.16,2,     0.57,2,    5.911,2,    2.666,2,    0.420,2,   2138.8,2,     0.15,2,0.0458741278,2,    0.554769312
  06AQ19930806,    62,  1,     12,19930917, 77.4100, 118.1800,  552,    169.2,  -0.2490,  34.6134,2,  34.6251,2,    288.7,2,     4.67,2,     7.48,2,     0.55,2,    6.182,2,    2.783,2,    0.508,2,   2138.1,2,  -999.00,9,0.0439252319,2,    -0.25484345
  06AQ19930806,    62,  1,     13,19930917, 77.4100, 118.1800,  552,    127.9,  -0.9247,  34.4413,2,  34.4492,2,    294.5,2,     4.57,2,     6.42,2,     0.49,2,    6.604,2,    2.955,2,    0.460,2,   2140.4,2,  -999.00,9,0.0439308601,2,   -0.928283842
  06AQ19930806,    62,  1,     14,19930917, 77.4100, 118.1800,  552,     97.7,  -1.1603,  34.3091,2,  34.3279,2,    294.6,2,     4.57,2,     6.03,2,     0.49,2,    6.681,2,    2.988,2,    0.514,2,   2139.2,2,    -0.15,2,0.0429588467,2,    -1.16278723
  06AQ19930806,    62,  1,     16,19930917, 77.4100, 118.1800,  552,     74.3,  -1.1502,  34.0960,2,  34.1281,2,    288.8,2,     5.64,2,     5.74,2,     0.47,2, -999.000,9, -999.000,9, -999.000,9,   2143.8,2,  -999.00,9,0.0458951399,2,    -1.15205247
  06AQ19930806,    62,  1,     17,19930917, 77.4100, 118.1800,  552,     47.0,  -1.6021,  33.6992,2,  33.7606,2,    307.3,2,     4.57,2,     4.57,2,     0.43,2,    7.011,2,    3.170,2,    0.615,2,   2121.1,2,  -999.00,9,0.0449319205,2,    -1.60304002
  06AQ19930806,    62,  1,     21,19930917, 77.4100, 118.1800,  552,     19.4,  -1.7751,  32.8285,2,  32.8348,2,    335.8,2,     3.60,2,     2.53,2,     0.53,2, -999.000,9, -999.000,9, -999.000,9,   2072.2,2,  -999.00,9,        -999,9,    -1.77541782
  06AQ19930806,    62,  1,     22,19930917, 77.4100, 118.1800,  552,     14.6,  -1.7761,  32.8151,2,  32.8110,2,    335.8,2,     3.60,2,     2.53,2,     0.32,2,    7.363,2,    3.265,2,    0.637,2,   2070.9,2,    -1.15,2,0.0459389358,2,    -1.77633767
  06AQ19930806,    63,  1,      1,19930917, 77.3000, 118.4167,  363,    354.1,   0.4047,  34.7543,2,  34.7536,2,    286.7,2,     5.35,2,     9.04,2,     0.58,2, -999.000,9, -999.000,9, -999.000,9,   2146.1,2,  -999.00,9,0.0439206247,2,    0.389837863
  06AQ19930806,    63,  1,      2,19930917, 77.3000, 118.4167,  363,    339.7,   0.3894,  34.7504,2,  34.7534,2,    288.6,2,     5.25,2,     8.94,2,     0.58,2, -999.000,9, -999.000,9, -999.000,9,   2145.4,2,  -999.00,9,0.0429447355,2,    0.375229582
  06AQ19930806,    63,  1,      3,19930917, 77.3000, 118.4167,  363,    300.6,   0.2037,  34.7107,2,  34.7130,2,    288.6,2,     5.15,2,     8.75,2,     0.55,2, -999.000,9, -999.000,9, -999.000,9,   2139.2,2,  -999.00,9,0.0448980959,2,    0.191756702
  06AQ19930806,    63,  1,      4,19930917, 77.3000, 118.4167,  363,    250.9,   0.1623,  34.6990,2,  34.6973,2,    288.6,2,     4.96,2,     8.55,2,     0.52,2, -999.000,9, -999.000,9, -999.000,9,   2142.5,2,  -999.00,9,0.0468505951,2,    0.152539045
  06AQ19930806,    63,  1,      5,19930917, 77.3000, 118.4167,  363,    224.9,   0.0468,  34.6826,2,  34.6458,2,    288.7,2,     4.86,2,     8.46,2,     0.54,2, -999.000,9, -999.000,9, -999.000,9,   2142.7,2,  -999.00,9,0.0439229691,2,   0.0383446495
  06AQ19930806,    63,  1,      6,19930917, 77.3000, 118.4167,  363,    200.1,  -0.1994,  34.6394,2,  34.6452,2,    290.6,2,     4.86,2,     8.16,2,     0.50,2, -999.000,9, -999.000,9, -999.000,9,   2135.4,2,  -999.00,9,0.0429482843,2,   -0.206459793
  06AQ19930806,    63,  1,      7,19930917, 77.3000, 118.4167,  363,    175.7,  -0.6161,  34.5469,2,  34.5742,2,    291.6,2,     4.76,2,     7.78,2,     0.49,2, -999.000,9, -999.000,9, -999.000,9,   2139.4,2,  -999.00,9,0.0439274066,2,   -0.621610941
  06AQ19930806,    63,  1,      8,19930917, 77.3000, 118.4167,  363,    150.4,  -0.8034,  34.5216,2,  34.5062,2,    294.5,2,     4.57,2,     7.19,2,     0.45,2, -999.000,9, -999.000,9, -999.000,9,   2139.5,2,  -999.00,9, 0.042952051,2,   -0.807820144
  06AQ19930806,    63,  1,      9,19930917, 77.3000, 118.4167,  363,    125.0,  -1.1937,  34.4093,2,  34.4182,2,    294.5,2,     4.67,2,     6.61,2,     0.44,2, -999.000,9, -999.000,9, -999.000,9,   2144.2,2,  -999.00,9,0.0449081713,2,    -1.19690082
  06AQ19930806,    63,  1,     10,19930917, 77.3000, 118.4167,  363,     99.9,  -1.0645,  34.3028,2,  34.3398,2,    291.6,2,     4.96,2,     6.61,2,     0.44,2, -999.000,9, -999.000,9, -999.000,9,   2141.3,2,  -999.00,9,        -999,9,    -1.06713063
  06AQ19930806,    63,  1,     11,19930917, 77.3000, 118.4167,  363,     74.8,  -1.0940,  34.0458,2,  34.1253,2,    282.0,2,     6.42,2,     6.32,2,     0.45,2, -999.000,9, -999.000,9, -999.000,9,   2153.0,2,  -999.00,9, 0.047849913,2,    -1.09590143
  06AQ19930806,    63,  1,     12,19930917, 77.3000, 118.4167,  363,     49.3,  -1.2985,  33.6849,2,  33.8352,2,    287.9,2,     6.32,2,     5.74,2,     0.45,2, -999.000,9, -999.000,9, -999.000,9,   2139.6,2,  -999.00,9,0.0459091902,2,    -1.29962543
  06AQ19930806,    63,  1,     13,19930917, 77.3000, 118.4167,  363,     24.8,  -1.7646,  32.8137,2,  32.9462,2,    332.9,2,     3.80,2,     3.21,2,     0.32,2, -999.000,9, -999.000,9, -999.000,9,   2078.9,2,  -999.00,9,0.0449615585,2,    -1.76501537
  06AQ19930806,    63,  1,     14,19930917, 77.3000, 118.4167,  363,     13.4,  -1.7611,  32.7922,2,  32.7974,2,    337.8,2,     3.60,2,     2.73,2,     0.26,2, -999.000,9, -999.000,9, -999.000,9,   2072.3,2,  -999.00,9,0.0527818051,4,    -1.76131939