BOTTLE,20081119PRINUNIVRMK
EXPOCODE,STNNBR,CASTNO,BTLNBR,DATE,LATITUDE,LONGITUDE,DEPTH,CTDPRS,CTDTMP,CTDSAL,CTDSAL_FLAG_W,SALNTY,SALNTY_FLAG_W,OXYGEN,OXYGEN_FLAG_W,SILCAT,SILCAT_FLAG_W,NITRAT,NITRAT_FLAG_W,PHSPHT,PHSPHT_FLAG_W,CFC-11,CFC-11_FLAG_W,CFC-12,CFC-12_FLAG_W,CFC113,CFC113_FLAG_W,TCARBN,TCARBN_FLAG_W,DELO18,DELO18_FLAG_W,BARIUM,BARIUM_FLAG_W,THETA
,,,,,,,METERS,DBARS,ITS-90,PSS-78,,PSS-78,,UMOL/KG,,UMOL/KG,,UMOL/KG,,UMOL/KG,,PMOL/KG,,PMOL/KG,,PMOL/KG,,UMOL/KG,,O/OO,,UM/KG,,DEGC
  06AQ19930806,    19,  3,      1,19930818, 82.7550,  40.2067, 2978,   2988.4,  -0.7700,  34.9414,2,  34.9423,2,    275.9,2,    10.78,2,    13.41,2,     0.97,2,    0.048,2,    0.040,2,    0.000,2,   2151.5,2,     0.24,2,0.0507456535,2,   -0.936451451
  06AQ19930806,    19,  3,      2,19930818, 82.7550,  40.2067, 2978,   2953.8,  -0.7753,  34.9394,2,  34.9401,2,    277.9,2,  -999.00,9,  -999.00,9,  -999.00,9,    0.092,2,    0.069,2,    0.000,2,   2151.7,2,     0.24,2,0.0487939703,2,   -0.938843062
  06AQ19930806,    19,  3,      3,19930818, 82.7550,  40.2067, 2978,   2902.9,  -0.7770,  34.9364,2,  34.9350,2,    278.9,2,    10.69,2,    13.21,2,     0.97,2,    0.110,2,    0.067,2, -999.000,9,   2150.3,2,     0.26,2,0.0487940792,2,   -0.936428511
  06AQ19930806,    19,  3,      4,19930818, 82.7550,  40.2067, 2978,   2853.0,  -0.7785,  34.9353,2,  34.9354,2,    281.8,2,    10.69,2,    13.31,2,     0.97,2,    0.166,2,    0.120,2,    0.000,2,   2149.7,2,     0.22,2,0.0497700016,2,   -0.933966468
  06AQ19930806,    19,  3,      5,19930818, 82.7550,  40.2067, 2978,   2699.9,  -0.7856,  34.9321,2,  34.9311,2,    278.9,2,    10.69,2,    13.12,2,     0.97,2,    0.200,2,    0.112,2,    0.000,2,   2153.0,2,     0.26,2,        -999,9,   -0.929082307
  06AQ19930806,    19,  3,      6,19930818, 82.7550,  40.2067, 2978,   2449.8,  -0.7956,  34.9273,2,  34.9285,2,    279.8,2,    10.40,2,    13.31,2,     0.97,2,    0.274,2,    0.133,2, -999.000,9,   2155.4,2,     0.21,2,0.0487944098,2,   -0.920391701
  06AQ19930806,    19,  3,      7,19930818, 82.7550,  40.2067, 2978,   2199.8,  -0.7911,  34.9233,2,  34.9236,2,    279.8,2,    10.40,2,    13.31,2,     0.97,2,    0.396,2,    0.185,2,    0.000,2,   2157.4,2,  -999.00,9, 0.047818664,2,   -0.898494642
  06AQ19930806,    19,  3,      8,19930818, 82.7550,  40.2067, 2978,   1950.4,  -0.7725,  34.9200,2,  34.9205,2,    279.8,2,    10.30,2,    13.31,2,     0.97,2,    0.502,2,    0.236,2,    0.000,2,   2156.4,2,     0.20,2,0.0478187814,2,   -0.863773709
  06AQ19930806,    19,  3,      9,19930818, 82.7550,  40.2067, 2978,   1700.0,  -0.7508,  34.9163,2,  34.9157,2,    279.8,2,    10.20,2,    13.21,2,     0.97,2,    0.644,2,    0.299,2,    0.000,2,   2159.0,2,  -999.00,9,0.0478189131,2,     -0.8269027
  06AQ19930806,    19,  3,     10,19930818, 82.7550,  40.2067, 2978,   1450.1,  -0.6850,  34.9149,2,  34.9138,2,    278.9,2,     9.91,2,    13.21,2,     0.97,2,    0.842,2,    0.390,2,    0.005,2,   2162.0,2,     0.21,2,0.0507466546,2,   -0.747471441
  06AQ19930806,    19,  3,     11,19930818, 82.7550,  40.2067, 2978,   1199.7,  -0.5298,  34.9131,2,  34.9130,2,    279.8,2,     9.13,2,    13.02,2,     0.87,2,    1.153,2,    0.532,2,    0.036,2,   2156.3,2,  -999.00,9,        -999,9,   -0.580318435
  06AQ19930806,    19,  3,     12,19930818, 82.7550,  40.2067, 2978,    949.9,  -0.1840,  34.9122,2,  34.9120,2,    281.8,2,     8.06,2,    12.63,2,     0.87,2,    1.752,2,    0.796,2,    0.000,2,   2156.5,2,     0.26,2,0.0458672608,2,   -0.224569215
  06AQ19930806,    19,  3,     13,19930818, 82.7550,  40.2067, 2978,    699.9,   0.6005,  34.9194,2,  34.9195,2,    281.8,2,     6.41,2,    12.05,2,     0.78,2,    2.556,2, -999.000,9,    0.136,2,   2149.9,2,     0.23,2,0.0478188028,2,    0.567638316
  06AQ19930806,    19,  3,     14,19930818, 82.7550,  40.2067, 2978,    550.1,   1.2032,  34.9298,2,  34.9293,2,    283.7,2,     5.83,2,    11.76,2,     0.78,2,    3.195,2,    1.478,2,    0.142,2,   2145.9,2,     0.18,2,0.0439148871,2,     1.17536153
  06AQ19930806,    19,  3,     15,19930818, 82.7550,  40.2067, 2978,    448.0,   1.7216,  34.9401,2,  34.9411,2,    289.6,2,     5.34,2,    11.27,2,     0.78,2,    4.822,2,    2.290,2,    0.297,2,   2143.7,2,     0.22,2,        -999,9,     1.69741345
  06AQ19930806,    19,  3,     16,19930818, 82.7550,  40.2067, 2978,    350.0,   2.2037,  34.9488,2,  34.9482,2,    296.4,2,     5.25,2,    11.18,2,     0.78,2,    4.895,2,    2.366,2,    0.309,2,   2143.5,2,     0.23,2,0.0429383934,2,     2.18371519
  06AQ19930806,    19,  3,     17,19930818, 82.7550,  40.2067, 2978,    250.1,   2.3677,  34.9249,2,  34.9279,2,    286.6,2,     5.05,2,    10.88,2,     0.78,2,    5.126,2,    2.437,2,    0.351,2,   2141.1,2,     0.26,2,0.0429391573,2,     2.35330239
  06AQ19930806,    19,  3,     18,19930818, 82.7550,  40.2067, 2978,    150.2,   1.9850,  34.8135,2,  34.8238,2,    286.7,2,     4.96,2,    10.59,2,     0.78,2,    5.083,2,    2.427,2,    0.303,2,   2137.6,2,     0.16,2,0.0429427183,2,     1.97697667
  06AQ19930806,    19,  3,     19,19930818, 82.7550,  40.2067, 2978,     99.7,  -0.9553,  34.3545,2,  34.3905,2,    304.3,2,     3.89,2,     8.46,2,     0.58,2,    5.143,2,    2.424,2,    0.292,2,   2122.4,2,    -0.12,2,0.0429573947,2,   -0.958029153
  06AQ19930806,    19,  3,     20,19930818, 82.7550,  40.2067, 2978,     74.2,  -1.5041,  34.2052,2,  34.2654,2,    307.2,2,     4.08,2,     8.75,2,     0.58,2,    5.663,2,    2.650,2,    0.368,2,   2110.2,2,    -0.05,2,0.0429621698,2,    -1.50574084
  06AQ19930806,    19,  3,     21,19930818, 82.7550,  40.2067, 2978,     49.5,  -1.7848,  34.1114,2,  34.1406,2,    305.3,2,     4.28,2,     8.85,2,     0.68,2,    5.859,2,    2.727,2,    0.421,2,   2099.4,2,     0.06,2,0.0429651703,2,    -1.78574867
  06AQ19930806,    19,  3,     22,19930818, 82.7550,  40.2067, 2978,     24.0,  -1.7612,  33.8817,2,  33.8999,2,    317.0,2,     3.99,2,     7.58,2,     0.58,2, -999.000,9, -999.000,9, -999.000,9,   2073.8,2,     0.01,2,0.0419958708,2,     -1.7616475
  06AQ19930806,    19,  3,     23,19930818, 82.7550,  40.2067, 2978,     15.2,  -1.7537,  33.6847,2,  33.7941,2,    320.0,2,     3.79,2,     6.90,2,     0.49,2,    5.887,2,    2.746,2,    0.405,2,   2065.8,2,  -999.00,9,0.0429788227,2,    -1.75397993
  06AQ19930806,    19,  3,     24,19930818, 82.7550,  40.2067, 2978,     10.3,  -1.7512,  33.6655,2,  33.7081,2,    323.9,2,  -999.00,9,  -999.00,9,  -999.00,9,    5.859,2,    2.755,2,    0.433,2,   2056.6,2,    -0.03,2,0.0429794372,2,    -1.75138767
  06AQ19930806,    20,  3,      1,19930819, 82.3917,  40.8783, 1999,   1985.2,  -0.8126,-999.0000,9,  34.9244,2,    277.9,2,    11.46,2,    13.31,2,     0.97,2,    0.354,2,    0.179,2,    0.000,2,   2155.0,2,     0.26,2,        -999,2,   -0.905487769
  06AQ19930806,    20,  3,      2,19930819, 82.3917,  40.8783, 1999,   1949.5,  -0.8016,-999.0000,9,  34.9206,2,    278.9,2,    11.37,2,    13.41,2,     0.97,2,    0.407,2,    0.221,2,    0.021,2,   2155.6,2,     0.21,2,        -999,2,   -0.892366643
  06AQ19930806,    20,  3,      3,19930819, 82.3917,  40.8783, 1999,   1899.5,  -0.7444,-999.0000,9,  34.9151,2,    278.9,2,    11.08,2,    13.31,2,     0.97,2,    0.599,2,    0.286,2,    0.023,2,   2155.3,2,     0.17,2,        -999,2,   -0.832853081
  06AQ19930806,    20,  3,      4,19930819, 82.3917,  40.8783, 1999,   1848.6,  -0.7303,-999.0000,9,  34.9151,2,    277.9,2,    10.88,2,    13.12,2,     0.97,2,    0.650,2,    0.326,2,    0.006,2,   2157.2,2,     0.17,2,        -999,4,   -0.815767713
  06AQ19930806,    20,  3,      5,19930819, 82.3917,  40.8783, 1999,   1799.6,  -0.7203,-999.0000,9,  34.9116,2,    278.9,2,    10.88,2,    13.31,2,     0.97,2,    0.703,2,    0.344,2,    0.036,2,   2153.6,2,  -999.00,9,        -999,2,   -0.802862171
  06AQ19930806,    20,  3,      6,19930819, 82.3917,  40.8783, 1999,   1647.4,  -0.7033,-999.0000,9,  34.9110,2,    278.9,2,    10.69,2,    13.31,2,     0.97,2,    0.804,2,    0.399,2,    0.000,2,   2156.8,2,     0.18,2,        -999,2,   -0.776897631
  06AQ19930806,    20,  3,      7,19930819, 82.3917,  40.8783, 1999,   1498.3,  -0.6793,-999.0000,9,  34.9104,2,    278.9,2,    10.59,2,    13.31,2,     0.97,2,    0.884,2,    0.425,2,    0.025,2,   2157.1,2,  -999.00,9,        -999,4,   -0.744548903
  06AQ19930806,    20,  3,      8,19930819, 82.3917,  40.8783, 1999,   1346.9,  -0.6337,-999.0000,9,  34.9088,2,    277.9,2,    10.30,2,    13.21,2,     0.97,2,    0.993,2,    0.489,2,    0.000,2,   2155.9,2,     0.21,2,        -999,2,   -0.691036177
  06AQ19930806,    20,  3,      9,19930819, 82.3917,  40.8783, 1999,   1197.8,  -0.5498,-999.0000,9,  34.9088,2,    279.8,2,    10.10,2,    12.92,2,     0.97,2,    1.214,2,    0.576,2,    0.005,2,   2153.9,2,  -999.00,9,        -999,2,   -0.600013251
  06AQ19930806,    20,  3,     10,19930819, 82.3917,  40.8783, 1999,   1046.3,  -0.3881,-999.0000,9,  34.9098,2,    280.8,2,     9.33,2,    12.63,2,     0.97,2,    1.392,2,    0.654,2,    0.018,2,   2154.8,2,     0.18,2,        -999,2,   -0.431930775
  06AQ19930806,    20,  3,     11,19930819, 82.3917,  40.8783, 1999,    946.4,  -0.2327,-999.0000,9,  34.9104,2,    280.8,2,     8.74,2,    12.34,2,     0.87,2,    1.734,2,    0.807,2,    0.039,2,   2153.0,2,  -999.00,9,        -999,2,   -0.272708947
  06AQ19930806,    20,  3,     12,19930819, 82.3917,  40.8783, 1999,    845.6,  -0.0012,-999.0000,9,  34.9126,2,    280.8,2,     8.26,2,    12.44,2,     0.87,2,    2.062,2,    0.985,2, -999.000,9,   2153.1,2,     0.21,2,        -999,2,  -0.0378005458
  06AQ19930806,    20,  3,     13,19930819, 82.3917,  40.8783, 1999,    746.0,   0.3891,-999.0000,9,  34.9191,2,    282.8,2,     7.77,2,    12.15,2,     0.87,2,    2.638,2,    1.234,2,    0.103,2,   2152.4,2,  -999.00,9,        -999,2,    0.355066559
  06AQ19930806,    20,  3,     14,19930819, 82.3917,  40.8783, 1999,    596.3,   1.0401,-999.0000,9,  34.9323,2,    284.7,2,     6.61,2,    11.66,2,     0.87,2,    3.308,2,    1.547,2,    0.199,2,   2145.8,2,     0.18,2,        -999,2,     1.01047852
  06AQ19930806,    20,  3,     15,19930819, 82.3917,  40.8783, 1999,    447.5,   1.8620,-999.0000,9,  34.9600,2,    285.7,2,     5.93,2,    11.27,2,     0.87,2,    4.576,2,    2.158,2,    0.289,2,   2141.6,2,     0.29,2,        -999,2,     1.83731624
  06AQ19930806,    20,  3,     16,19930819, 82.3917,  40.8783, 1999,    347.3,   2.1644,-999.0000,9,  34.9490,2,    288.6,2,     5.54,2,    11.08,2,     0.87,2,    5.096,2,    2.411,2,    0.330,2,   2136.2,2,  -999.00,9,        -999,2,     2.14468745
  06AQ19930806,    20,  3,     17,19930819, 82.3917,  40.8783, 1999,    247.8,   2.3107,-999.0000,9,  34.9256,2,    287.6,2,     5.44,2,    10.88,2,     0.78,2,    5.057,2,    2.423,2,    0.341,2,   2134.1,2,     0.26,2,        -999,2,     2.29655542
  06AQ19930806,    20,  3,     18,19930819, 82.3917,  40.8783, 1999,    147.9,   2.0410,-999.0000,9,  34.8238,2,    287.6,2,     5.35,2,    10.50,2,     0.78,2,    5.083,2,    2.416,2,    0.360,2,   2132.3,2,  -999.00,9,        -999,2,     2.03303438
  06AQ19930806,    20,  3,     19,19930819, 82.3917,  40.8783, 1999,     98.4,  -0.3714,-999.0000,9,  34.4569,2,    296.5,2,     5.05,2,     9.43,2,     0.68,2,    5.575,2,    2.583,2,    0.371,2,   2111.3,2,     0.10,2,        -999,2,    -0.37459923
  06AQ19930806,    20,  3,     20,19930819, 82.3917,  40.8783, 1999,     75.0,  -1.7363,-999.0000,9,  34.1481,2,    304.3,2,     4.76,2,     8.75,2,     0.68,2,    5.914,2,    2.854,2,    0.560,2,   2094.2,2,  -999.00,9,        -999,2,     -1.7377894
  06AQ19930806,    20,  3,     21,19930819, 82.3917,  40.8783, 1999,     48.5,  -1.7754,-999.0000,9,  34.0767,2,    306.3,2,     4.76,2,     8.75,2,     0.68,2,    5.655,2,    2.722,2,    0.451,2,   2091.1,2,     0.06,2,        -999,2,    -1.77632694
  06AQ19930806,    20,  3,     22,19930819, 82.3917,  40.8783, 1999,     23.9,  -1.7594,-999.0000,9,  33.8172,2,    316.1,2,     4.47,2,     7.78,2,     0.58,2,    5.959,2,    2.799,2,    0.477,2,   2063.6,2,  -999.00,9,        -999,2,    -1.75984211
  06AQ19930806,    20,  3,     23,19930819, 82.3917,  40.8783, 1999,     23.9,  -1.7592,-999.0000,9,  33.8102,2,    315.1,2,     4.47,2,     7.78,2,     0.58,2,    5.985,2,    2.788,2,    0.449,2,   2065.8,2,  -999.00,9,        -999,9,    -1.75964182
  06AQ19930806,    20,  3,     24,19930819, 82.3917,  40.8783, 1999,      9.3,  -1.7462,-999.0000,9,  33.6590,2,    320.0,2,     4.38,2,     7.39,2,     0.58,2,    5.943,2,    2.761,2,    0.449,2,   2055.3,2,     0.04,2,        -999,2,    -1.74636887
  06AQ19930806,    21,  1,      1,19930820, 82.3217,  41.5000, 1797,   1780.3,  -0.7396,  34.9120,2,  34.9106,2,    281.0,2,    11.17,2,    13.80,2,     0.97,2,    0.701,2,    0.344,2,    0.015,2,   2160.8,2,     0.24,2,0.0478190662,2,   -0.820697918
  06AQ19930806,    21,  1,      2,19930820, 82.3217,  41.5000, 1797,   1749.6,  -0.7330,  34.9124,2,  34.9104,2,    282.0,2,    10.98,2,    13.80,2,     0.97,2,    0.767,2,    0.368,2,    0.025,2,   2158.4,2,     0.28,2, 0.047819052,2,   -0.812319305
  06AQ19930806,    21,  1,      3,19930820, 82.3217,  41.5000, 1797,   1699.2,  -0.7059,  34.9108,2,  34.9096,2,    281.0,2,    10.88,2,    13.70,2,     0.97,2,    0.829,2,    0.395,2,    0.017,2,   2157.4,2,     0.26,2,0.0478191089,2,   -0.782547348
  06AQ19930806,    21,  1,      4,19930820, 82.3217,  41.5000, 1797,   1648.0,  -0.6926,  34.9120,2,  34.9104,2,    281.0,2,    10.79,2,    13.70,2,     0.97,2,    0.853,2,    0.401,2,    0.012,2,   2159.6,2,     0.24,2, 0.134674105,4,   -0.766372885
  06AQ19930806,    21,  1,      5,19930820, 82.3217,  41.5000, 1797,   1498.4,  -0.6629,  34.9109,2,  34.9124,2,    281.0,2,    10.59,2,    13.70,2,     0.97,2, -999.000,9, -999.000,9, -999.000,9,   2159.8,2,  -999.00,9,0.0468432052,2,   -0.728358489
  06AQ19930806,    21,  1,      6,19930820, 82.3217,  41.5000, 1797,   1298.0,  -0.5973,  34.9094,2,  34.9080,2,    281.0,2,    10.40,2,    13.70,2,     0.97,2, -999.000,9, -999.000,9, -999.000,9,   2162.2,2,  -999.00,9,0.0468432576,2,   -0.652370844
  06AQ19930806,    21,  1,      7,19930820, 82.3217,  41.5000, 1797,   1093.8,  -0.4348,  34.9090,2,  34.9080,2,    282.0,2,     9.72,2,    13.51,2,     0.97,2, -999.000,9, -999.000,9, -999.000,9,   2162.1,2,  -999.00,9,0.0468432715,2,   -0.480663129
  06AQ19930806,    21,  1,      8,19930820, 82.3217,  41.5000, 1797,    996.0,  -0.3219,  34.9088,2,  34.9090,2,    282.0,2,     9.52,2,    13.31,2,     0.97,2,    1.682,2,    0.782,2,    0.038,2,   2166.8,2,     0.23,2,0.0458673768,2,   -0.363715063
  06AQ19930806,    21,  1,      9,19930820, 82.3217,  41.5000, 1797,    896.7,  -0.1669,  34.9092,2,  34.9114,2,    282.0,2,     8.94,2,    13.12,2,     0.87,2, -999.000,9, -999.000,9, -999.000,9,   2161.9,2,  -999.00,9,0.0458673632,2,   -0.204896666
  06AQ19930806,    21,  1,     10,19930820, 82.3217,  41.5000, 1797,    796.4,   0.0763,  34.9114,2,  34.9118,2,    283.9,2,     7.58,2,    12.73,2,     0.87,2,    2.104,2,    0.987,2,    0.095,2,   2159.1,2,     0.34,2,0.0448913883,2,   0.0416705451
  06AQ19930806,    21,  1,     11,19930820, 82.3217,  41.5000, 1797,    695.9,   0.5398,  34.9219,2,  34.9258,2,    285.9,2,     7.58,2,    12.63,2,     0.87,2, -999.000,9, -999.000,9, -999.000,9,   2154.0,2,  -999.00,9,0.0468428217,2,    0.507488838
  06AQ19930806,    21,  1,     12,19930820, 82.3217,  41.5000, 1797,    597.0,   1.0567,  34.9386,2,  34.9356,2,    286.9,2,     6.80,2,    12.24,2,     0.78,2, -999.000,9, -999.000,9, -999.000,9,   2151.7,2,  -999.00,9,0.0439145994,2,     1.02695556
  06AQ19930806,    21,  1,     13,19930820, 82.3217,  41.5000, 1797,    497.5,   1.6834,  34.9678,2,  34.9547,2,    287.9,2,     6.22,2,    11.86,2,     0.78,2, -999.000,9, -999.000,9, -999.000,9,   2151.0,2,  -999.00,9,0.0478170799,2,     1.65647602
  06AQ19930806,    21,  1,     14,19930820, 82.3217,  41.5000, 1797,    397.5,   2.2197,  34.9803,2,  34.9387,2,    288.9,2,     5.93,2,    11.66,2,     0.78,2,    4.896,2,    2.331,2,    0.357,2,   2154.9,2,     0.24,2,0.0448890859,2,     2.19680166
  06AQ19930806,    21,  1,     15,19930820, 82.3217,  41.5000, 1797,    297.1,   2.4343,  34.9616,2,  34.9642,2,    290.9,2,     5.54,2,    11.37,2,     0.78,2, -999.000,9, -999.000,9, -999.000,9,   2144.6,2,  -999.00,9,0.0439138475,2,     2.41690167
  06AQ19930806,    21,  1,     16,19930820, 82.3217,  41.5000, 1797,    248.1,   2.4044,  34.9374,2,  34.9380,2,    290.9,2,     5.35,2,    11.18,2,     0.78,2, -999.000,9, -999.000,9, -999.000,9,   2143.7,2,  -999.00,9,0.0448905195,2,     2.39004317
  06AQ19930806,    21,  1,     17,19930820, 82.3217,  41.5000, 1797,    198.1,   2.2934,  34.8943,2,  34.8949,2,    292.9,2,     5.25,2,    10.98,2,     0.78,2,    5.290,2,    2.487,2,    0.398,2,   2142.2,2,     0.28,2,0.0429401354,2,     2.28221292
  06AQ19930806,    21,  1,     18,19930820, 82.3217,  41.5000, 1797,    148.8,   1.9500,  34.8139,2,  34.8145,2,    292.9,2,     4.96,2,    10.59,2,     0.78,2, -999.000,9, -999.000,9, -999.000,9,   2147.7,2,  -999.00,9,0.0439186761,2,     1.94209852
  06AQ19930806,    21,  1,     19,19930820, 82.3217,  41.5000, 1797,     99.1,  -0.5743,  34.3758,2,  34.4671,2,    299.9,2,     4.96,2,     9.82,2,     0.68,2, -999.000,9, -999.000,9, -999.000,9,   2127.4,2,  -999.00,9,0.0478381582,2,   -0.577352119
  06AQ19930806,    21,  1,     20,19930820, 82.3217,  41.5000, 1797,     73.3,  -1.5339,  34.1917,2,  34.1856,2,    305.0,2,     4.76,2,     9.33,2,     0.68,2, -999.000,9, -999.000,9, -999.000,9,   2110.9,2,  -999.00,9,0.0429626017,2,    -1.53548977
  06AQ19930806,    21,  1,     21,19930820, 82.3217,  41.5000, 1797,     49.6,  -1.7869,  34.0671,2,  34.0893,2,    309.0,2,     4.67,2,     9.04,2,     0.68,2, -999.000,9, -999.000,9, -999.000,9,   2102.7,2,  -999.00,9,0.0429665874,2,    -1.78784471
  06AQ19930806,    21,  1,     22,19930820, 82.3217,  41.5000, 1797,     25.0,  -1.7587,  33.7681,2,  33.8292,2,    317.0,2,     4.47,2,     7.97,2,     0.58,2, -999.000,9, -999.000,9, -999.000,9,   2083.2,2,  -999.00,9,0.0429761539,2,    -1.75916347
  06AQ19930806,    21,  1,     23,19930820, 82.3217,  41.5000, 1797,     15.2,  -1.7433,  33.6234,2,  33.6048,2,    326.0,2,     4.28,2,     7.20,2,     0.58,2, -999.000,9, -999.000,9, -999.000,9,   2064.2,2,  -999.00,9,0.0420039485,2,    -1.74357566
  06AQ19930806,    21,  1,     24,19930820, 82.3217,  41.5000, 1797,      7.3,  -1.7265,  33.4721,2,  33.5653,2,    327.0,2,     4.28,2,     7.00,2,     0.58,2, -999.000,9, -999.000,9, -999.000,9,   2063.5,2,  -999.00,9, 0.042008681,2,    -1.72663233