BOTTLE,20081119PRINUNIVRMK
EXPOCODE,STNNBR,CASTNO,BTLNBR,DATE,LATITUDE,LONGITUDE,DEPTH,CTDPRS,CTDTMP,CTDSAL,CTDSAL_FLAG_W,SALNTY,SALNTY_FLAG_W,OXYGEN,OXYGEN_FLAG_W,SILCAT,SILCAT_FLAG_W,NITRAT,NITRAT_FLAG_W,PHSPHT,PHSPHT_FLAG_W,CFC-11,CFC-11_FLAG_W,CFC-12,CFC-12_FLAG_W,CFC113,CFC113_FLAG_W,TCARBN,TCARBN_FLAG_W,DELO18,DELO18_FLAG_W,BARIUM,BARIUM_FLAG_W,THETA
,,,,,,,METERS,DBARS,ITS-90,PSS-78,,PSS-78,,UMOL/KG,,UMOL/KG,,UMOL/KG,,UMOL/KG,,PMOL/KG,,PMOL/KG,,PMOL/KG,,UMOL/KG,,O/OO,,UM/KG,,DEGC
  06AQ19930806,    30,  1,      1,19930827, 77.8817, 101.7617,  140,    133.4,  -0.9794,  34.2760,2,  34.2700,2,    278.6,2,     7.60,2,     7.84,2,     0.65,2,    6.727,2,    3.087,2,    0.479,2,   2141.0,2,    -0.11,2,0.0468653512,2,   -0.983035947
  06AQ19930806,    30,  1,      3,19930827, 77.8817, 101.7617,  140,    120.5,  -0.9786,  34.2735,2,  34.2641,2,    278.6,2,     7.54,2,     7.75,2,     0.65,2,    6.727,2,    3.089,2,    0.471,2,   2139.4,2,    -0.13,2,0.0488181651,2,   -0.981868914
  06AQ19930806,    30,  1,      5,19930827, 77.8817, 101.7617,  140,    112.9,  -0.9697,  34.2508,2,  34.2441,2,    280.6,2,     7.82,2,     7.62,2,     0.64,2, -999.000,9, -999.000,9, -999.000,9,   2138.3,2,  -999.00,9,0.0497953699,2,   -0.972758855
  06AQ19930806,    30,  1,      6,19930827, 77.8817, 101.7617,  140,     98.8,  -0.9500,  34.1988,2,  34.1985,2,    280.6,2,     7.05,2,     7.45,2,     0.62,2,    6.773,2,    3.124,2,    0.563,2,   2140.3,2,  -999.00,9, 0.046868045,2,   -0.952671639
  06AQ19930806,    30,  1,      8,19930827, 77.8817, 101.7617,  140,     89.2,  -0.9380,  34.1338,2,  34.1342,2,    281.7,2,     6.61,2,     7.28,2,     0.62,2, -999.000,9, -999.000,9, -999.000,9,   2137.2,2,  -999.00,9,0.0468703132,2,   -0.940402048
  06AQ19930806,    30,  1,     10,19930827, 77.8817, 101.7617,  140,     79.0,  -0.9309,  34.0638,2,  34.0520,2,    281.7,2,     5.95,2,     7.02,2,     0.59,2, -999.000,9, -999.000,9, -999.000,9,   2136.3,2,  -999.00,9,0.0488257875,2,   -0.933011985
  06AQ19930806,    30,  1,     11,19930827, 77.8817, 101.7617,  140,     68.8,  -0.9276,  33.9905,2,  33.9998,2,    281.7,2,     4.84,2,     6.73,2,     0.56,2, -999.000,9, -999.000,9, -999.000,9,   2137.2,2,  -999.00,9,0.0478518832,2,   -0.929427605
  06AQ19930806,    30,  1,     12,19930827, 77.8817, 101.7617,  140,     59.2,  -0.9225,  33.7550,2,  33.7148,2,    286.7,2,     3.19,2,     5.70,2,     0.54,2,    6.884,2,    3.165,2,    0.510,2,   2127.7,2,    -0.50,2,0.0478602746,2,   -0.924037213
  06AQ19930806,    30,  1,     14,19930827, 77.8817, 101.7617,  140,     47.6,  -0.3814,  32.5715,2,  33.3486,2,    292.8,2,     2.98,2,     4.97,2,     0.50,2,    6.927,2,    3.198,2,    0.569,2,   2117.4,2,    -0.78,2,0.0508352785,2,   -0.382820305
  06AQ19930806,    30,  1,     15,19930827, 77.8817, 101.7617,  140,     39.3,   1.2739,  30.8438,2,  31.5011,2,    324.2,2,     1.16,2,     1.37,2,     0.19,2,    6.873,2,    3.239,2,    0.662,2,   2028.6,2,    -2.01,2,0.0440487229,2,     1.27230947
  06AQ19930806,    30,  1,     17,19930827, 77.8817, 101.7617,  140,     28.7,   1.2171,  28.9242,2,  30.4508,2,    332.4,2,     0.49,2,     0.18,2,     0.08,2, -999.000,9, -999.000,9, -999.000,9,   1982.8,2,  -999.00,9,0.0421512609,2,      1.2160105
  06AQ19930806,    30,  1,     18,19930827, 77.8817, 101.7617,  140,     18.9,  -0.6527,  27.7150,2,  28.6226,2,    336.9,2,     0.89,2,     0.10,2,     0.07,2, -999.000,9, -999.000,9, -999.000,9,   1884.1,2,  -999.00,9,0.0431704256,2,   -0.653042949
  06AQ19930806,    30,  1,     20,19930827, 77.8817, 101.7617,  140,     14.7,  -0.7017,  27.6486,2,  27.6758,2,    339.2,2,     0.68,2,  -999.00,9,     0.06,2,    6.985,2,    3.302,2,    0.758,2,   1835.4,2,    -3.21,2,0.0431725633,2,   -0.701932979
  06AQ19930806,    30,  1,     21,19930827, 77.8817, 101.7617,  140,      9.6,  -0.7125,  27.6171,2,  27.5923,2,    338.2,2,     0.89,2,  -999.00,9,     0.05,2, -999.000,9, -999.000,9, -999.000,9,   1833.3,2,  -999.00,9,0.0431735774,2,   -0.712649195
  06AQ19930806,    30,  1,     23,19930827, 77.8817, 101.7617,  140,      4.8,  -0.7067,  27.6268,2,  27.6041,2,    338.2,2,     0.89,2,  -999.00,9,     0.05,2,    6.983,2,    3.321,2,    0.683,2,   1836.4,2,    -3.21,2,0.0431732651,2,   -0.706774725
  06AQ19930806,    31,  1,      1,19930901, 76.5367, 133.3433,   38,     32.9,  -0.8545,  32.0498,2,  32.0251,2,   -999.0,9,  -999.00,9,  -999.00,9,  -999.00,9, -999.000,9, -999.000,9, -999.000,9,   -999.0,9,  -999.00,9,0.0596568688,2,   -0.855258267
  06AQ19930806,    31,  1,      2,19930901, 76.5367, 133.3433,   38,     33.0,  -0.8465,  32.0380,2,  32.0261,2,    289.3,2,     6.82,2,     1.75,2,     0.41,2,    7.161,2,    3.332,2,    0.502,2,   -999.0,9,    -2.54,2,        -999,9,   -0.847262979
  06AQ19930806,    31,  1,      4,19930901, 76.5367, 133.3433,   38,     32.9,  -0.8517,  32.0453,2,  32.0183,2,   -999.0,9,  -999.00,9,  -999.00,9,  -999.00,9, -999.000,9, -999.000,9, -999.000,9,   -999.0,9,  -999.00,9,        -999,9,   -0.852458642
  06AQ19930806,    31,  1,      5,19930901, 76.5367, 133.3433,   38,     29.8,  -0.8270,  31.9929,2,  32.0187,2,    290.3,2,     6.92,2,     1.66,2,     0.41,2,    7.246,2,    3.393,2,    0.632,2,   2134.8,2,  -999.00,9,        -999,9,    -0.82769273
  06AQ19930806,    31,  1,      6,19930901, 76.5367, 133.3433,   38,     30.0,  -0.8361,  32.0200,2,  32.0175,2,   -999.0,9,  -999.00,9,  -999.00,9,  -999.00,9, -999.000,9, -999.000,9, -999.000,9,   -999.0,9,  -999.00,9, 0.059658193,2,   -0.836794977
  06AQ19930806,    31,  1,      7,19930901, 76.5367, 133.3433,   38,     30.3,  -0.8342,  32.0156,2,  31.9758,2,    291.3,2,     6.53,2,     1.56,2,     0.38,2,    7.213,2,    3.361,2,    0.525,2,   2135.7,2,    -2.56,2,        -999,9,   -0.834900085
  06AQ19930806,    31,  1,      9,19930901, 76.5367, 133.3433,   38,     25.2,  -0.8603,  31.1318,2,  31.9812,2,   -999.0,9,  -999.00,9,  -999.00,9,  -999.00,9, -999.000,9, -999.000,9, -999.000,9,   -999.0,9,  -999.00,9,0.0626336314,2,     -0.8608755
  06AQ19930806,    31,  1,     10,19930901, 76.5367, 133.3433,   38,     22.1,  -0.5258,  30.6339,2,  30.6801,2,    335.2,2,     2.15,2,     0.20,2,     0.20,2, -999.000,9, -999.000,9, -999.000,9,   2043.1,2,  -999.00,9,        -999,9,   -0.526313618
  06AQ19930806,    31,  1,     11,19930901, 76.5367, 133.3433,   38,     21.8,  -0.5023,  30.6193,2,  30.7237,2,   -999.0,9,  -999.00,9,  -999.00,9,  -999.00,9, -999.000,9, -999.000,9, -999.000,9,   -999.0,9,  -999.00,9,0.0626575528,2,   -0.502812894
  06AQ19930806,    31,  1,     12,19930901, 76.5367, 133.3433,   38,     18.9,   0.0213,  30.3294,2,  30.8583,2,    338.2,2,     1.66,2,     0.19,2,     0.20,2, -999.000,9, -999.000,9, -999.000,9,   2045.5,2,  -999.00,9,        -999,9,   0.0207646337
  06AQ19930806,    31,  1,     14,19930901, 76.5367, 133.3433,   38,     18.8,   0.0271,  30.3356,2,  30.2204,2,   -999.0,9,  -999.00,9,  -999.00,9,  -999.00,9, -999.000,9, -999.000,9, -999.000,9,   -999.0,9,  -999.00,9,0.0675669562,2,   0.0265892124
  06AQ19930806,    31,  1,     15,19930901, 76.5367, 133.3433,   38,     13.7,   0.2139,  29.3635,2,  30.2720,2,    316.5,2,     4.19,2,     0.29,2,     0.23,2,    6.999,2,    3.339,2,    0.631,2,   2050.8,2,    -3.80,2,        -999,9,    0.213504828
  06AQ19930806,    31,  1,     17,19930901, 76.5367, 133.3433,   38,     13.5,   0.0980,  28.8761,2,  29.4020,2,   -999.0,9,  -999.00,9,  -999.00,9,  -999.00,9, -999.000,9, -999.000,9, -999.000,9,   -999.0,9,  -999.00,9,        -999,9,   0.0976464114
  06AQ19930806,    31,  1,     18,19930901, 76.5367, 133.3433,   38,     12.3,   0.1181,  28.9189,2,  29.2639,2,    325.7,2,     3.22,2,     0.10,2,     0.21,2,    7.160,2,    3.371,2,    0.695,2,   1990.9,2,  -999.00,9,        -999,9,    0.117779026
  06AQ19930806,    31,  1,     19,19930901, 76.5367, 133.3433,   38,     12.4,   0.0838,  28.8135,2,  29.1513,2,   -999.0,9,  -999.00,9,  -999.00,9,  -999.00,9, -999.000,9, -999.000,9, -999.000,9,   -999.0,9,  -999.00,9,0.0656829661,2,   0.0834827642
  06AQ19930806,    31,  1,     20,19930901, 76.5367, 133.3433,   38,     10.0,   0.0262,  28.6040,2,  28.8495,2,    329.8,2,     3.03,2,     0.05,2,     0.19,2,    7.123,2,    3.315,2,    0.623,2,   1966.7,2,  -999.00,9,        -999,9,   0.0259551495
  06AQ19930806,    31,  1,     22,19930901, 76.5367, 133.3433,   38,      9.9,   0.0212,  28.5472,2,  28.5305,2,   -999.0,9,  -999.00,9,  -999.00,9,  -999.00,9, -999.000,9, -999.000,9, -999.000,9,   -999.0,9,  -999.00,9,        -999,9,   0.0209640162
  06AQ19930806,    31,  1,     23,19930901, 76.5367, 133.3433,   38,      4.8,  -0.1237,  27.9033,2,  28.5292,2,   -999.0,9,     3.22,2,     0.05,2,     0.19,2,    7.268,2,    3.498,2,    0.783,2,   1952.1,2,    -4.39,2,        -999,9,   -0.123808045
  06AQ19930806,    32,  1,      1,19930902, 78.7150, 132.3433, 2989,   2979.8,  -0.7681,  34.9415,2,  34.9403,2,    278.0,2,    11.76,2,    14.28,2,     1.00,2,    0.083,2,    0.059,2,    0.013,2,   2151.5,2,     0.22,2,0.0507456497,2,    -0.93389177
  06AQ19930806,    32,  1,      2,19930902, 78.7150, 132.3433, 2989,   2949.9,  -0.7718,  34.9410,2,  34.9411,2,    278.0,2,    11.85,2,    14.19,2,     0.99,2,    0.061,2,    0.019,2,    0.000,2,   2151.6,2,     0.22,2,0.0448903992,2,   -0.935114779
  06AQ19930806,    32,  1,      3,19930902, 78.7150, 132.3433, 2989,   2899.2,  -0.7774,  34.9392,2,  34.9380,2,    227.5,4,    11.66,2,    14.09,2,     0.99,2,    0.150,2,    0.037,2,    0.021,2,   2148.7,2,     0.22,2,0.0507457366,2,   -0.936541996
  06AQ19930806,    32,  1,      4,19930902, 78.7150, 132.3433, 2989,   2849.6,  -0.7827,  34.9377,2,  34.9368,2,    279.0,2,    11.76,2,    14.19,2,     0.99,2,    0.126,2,    0.051,2,    0.000,2,   2150.7,2,     0.23,2,0.0809980931,4,   -0.937815704
  06AQ19930806,    32,  1,      5,19930902, 78.7150, 132.3433, 2989,   2599.3,  -0.7962,  34.9309,2,  34.9309,2,    280.9,2,    11.27,2,    14.09,2,     0.99,2,    0.186,2,    0.144,2,    0.000,2,   2148.9,2,     0.28,2,0.0556254781,2,   -0.931911729
  06AQ19930806,    32,  1,      6,19930902, 78.7150, 132.3433, 2989,   2248.6,  -0.7726,  34.9233,2,  34.9236,2,    281.9,2,    10.88,2,    13.99,2,     0.97,2,    0.491,2,    0.265,2,    0.034,2,   2153.0,2,     0.26,2,0.0487945551,2,   -0.883648816
  06AQ19930806,    32,  1,      7,19930902, 78.7150, 132.3433, 2989,   1898.7,  -0.7054,  34.9192,2,  34.9185,2,    281.9,2,    10.40,2,    13.80,2,     0.95,2,    0.804,2,    0.374,2,    0.011,2,   2153.8,2,     0.25,2,0.0468429158,2,   -0.794402319
  06AQ19930806,    32,  1,      8,19930902, 78.7150, 132.3433, 2989,   1548.2,  -0.5546,  34.9171,2,  34.9171,2,    286.9,2,     9.81,2,    13.60,2,     0.94,2,    1.181,2,    0.550,2,    0.107,2,   2150.8,2,     0.30,2,0.0468429891,2,   -0.624279518
  06AQ19930806,    32,  1,      9,19930902, 78.7150, 132.3433, 2989,   1195.4,  -0.2120,  34.9040,2,  34.9055,2,    285.9,2,     8.16,2,    12.83,2,     0.87,2,    2.834,2,    1.348,2,    0.250,2,   2153.9,2,     0.27,2,0.0458675407,2,   -0.265368958
  06AQ19930806,    32,  1,     10,19930902, 78.7150, 132.3433, 2989,    949.0,  -0.1293,  34.8746,2,  34.8750,2,    291.8,2,  -999.00,9,    11.56,2,     0.81,2,    5.028,2,    2.366,2,    0.338,2,   2157.4,2,     0.26,2,0.0458685446,2,   -0.170184504
  06AQ19930806,    32,  1,     11,19930902, 78.7150, 132.3433, 2989,    748.6,   0.0974,  34.8677,2,  34.8649,2,    291.8,2,  -999.00,9,    11.27,2,     0.75,2,    5.279,2,    2.393,2,    0.367,2,   2153.6,2,     0.23,2,0.0448928487,2,   0.0651014586
  06AQ19930806,    32,  1,     12,19930902, 78.7150, 132.3433, 2989,    647.9,   0.2501,  34.8612,2,  34.8626,2,    290.8,2,     5.93,2,    11.27,2,     0.78,2, -999.000,9, -999.000,9, -999.000,9,   2149.5,2,     0.21,2,0.0448930659,2,    0.221912056
  06AQ19930806,    32,  1,     13,19930902, 78.7150, 132.3433, 2989,    499.8,   0.7452,  34.8713,2,  34.8699,2,    287.9,2,     5.93,2,    11.47,2,     0.76,2,    5.070,2,    2.339,2,    0.327,2,   2146.0,2,     0.25,2,0.0448927284,2,    0.722058403
  06AQ19930806,    32,  1,     14,19930902, 78.7150, 132.3433, 2989,    344.9,   1.4968,  34.8861,2,  34.8862,2,    288.9,2,     5.44,2,    11.47,2,     0.74,2,    5.072,2,    2.421,2,    0.344,2,   2140.3,2,     0.24,2,0.0439163157,2,     1.47914937
  06AQ19930806,    32,  1,     15,19930902, 78.7150, 132.3433, 2989,    268.2,   1.6965,  34.8723,2,  34.8697,2,    288.9,2,     5.25,2,    11.37,2,     0.73,2, -999.000,9, -999.000,9, -999.000,9,   2135.3,2,  -999.00,9,0.0478204794,2,     1.68251834
  06AQ19930806,    32,  1,     16,19930902, 78.7150, 132.3433, 2989,    199.5,   1.5577,  34.8228,2,  34.8197,2,    287.9,2,     5.15,2,    11.08,2,     0.80,2,    5.302,2,    2.434,2,    0.362,2,   2133.8,2,     0.20,2, 0.042942421,2,     1.54766293
  06AQ19930806,    32,  1,     17,19930902, 78.7150, 132.3433, 2989,    173.3,   1.3316,  34.7694,2,  34.7675,2,    287.9,2,     4.86,2,    10.79,2,     0.69,2, -999.000,9, -999.000,9, -999.000,9,   2133.1,2,  -999.00,9,0.0429441281,2,     1.32326097
  06AQ19930806,    32,  1,     18,19930902, 78.7150, 132.3433, 2989,    147.6,   0.2326,  34.5755,2,  34.6302,2,    291.9,2,     4.47,2,     9.91,2,     0.64,2,    5.680,2,    2.584,2,    0.399,2,   2130.2,2,     0.10,2,0.0429503275,2,     0.22692731
  06AQ19930806,    32,  1,     19,19930902, 78.7150, 132.3433, 2989,    122.8,  -0.8403,  34.4082,2,  34.4174,2,    302.8,2,     3.79,2,     8.36,2,     0.57,2, -999.000,9, -999.000,9, -999.000,9,   2129.5,2,  -999.00,9,0.0429556773,2,   -0.843816841
  06AQ19930806,    32,  1,     20,19930902, 78.7150, 132.3433, 2989,     98.2,  -1.5913,  34.1882,2,  34.2372,2,    310.8,2,     3.40,2,     6.90,2,     0.51,2,    6.481,2,    3.000,2,    0.453,2,   2122.0,2,    -0.16,2,0.0468684149,2,    -1.59341446
  06AQ19930806,    32,  1,     21,19930902, 78.7150, 132.3433, 2989,     72.3,  -1.8336,  34.0438,2,  34.0769,2,    329.6,2,     2.53,2,     5.83,2,     0.41,2, -999.000,9, -999.000,9, -999.000,9,   2110.1,2,  -999.00,9,0.0439438631,2,    -1.83496194
  06AQ19930806,    32,  1,     22,19930902, 78.7150, 132.3433, 2989,     47.2,  -1.8025,  33.8554,2,  33.8968,2,    331.7,2,     2.72,2,     5.45,2,     0.41,2,    6.906,2,    3.242,2,    0.519,2,   2111.4,2,    -0.57,2,0.0459033623,2,    -1.80337353
  06AQ19930806,    32,  1,     23,19930902, 78.7150, 132.3433, 2989,     22.6,  -1.7046,  32.7780,2,  32.7713,2,    345.9,2,     3.02,2,     3.11,2,     0.32,2,    7.367,2,    3.441,2,    0.587,2,   2063.8,2,    -1.14,2,0.0459402051,2,    -1.70498225
  06AQ19930806,    32,  1,     24,19930902, 78.7150, 132.3433, 2989,     11.8,  -1.6876,  32.7692,2,  32.7621,2,    344.9,2,     3.02,2,     3.11,2,     0.33,2,    7.392,2,    3.424,2,    0.605,2,   2069.3,2,    -1.11,2,0.0469179638,2,    -1.68779987