BOTTLE,20081119PRINUNIVRMK
EXPOCODE,STNNBR,CASTNO,BTLNBR,DATE,LATITUDE,LONGITUDE,DEPTH,CTDPRS,CTDTMP,CTDSAL,CTDSAL_FLAG_W,SALNTY,SALNTY_FLAG_W,OXYGEN,OXYGEN_FLAG_W,SILCAT,SILCAT_FLAG_W,NITRAT,NITRAT_FLAG_W,PHSPHT,PHSPHT_FLAG_W,CFC-11,CFC-11_FLAG_W,CFC-12,CFC-12_FLAG_W,CFC113,CFC113_FLAG_W,TCARBN,TCARBN_FLAG_W,DELO18,DELO18_FLAG_W,BARIUM,BARIUM_FLAG_W,THETA
,,,,,,,METERS,DBARS,ITS-90,PSS-78,,PSS-78,,UMOL/KG,,UMOL/KG,,UMOL/KG,,UMOL/KG,,PMOL/KG,,PMOL/KG,,PMOL/KG,,UMOL/KG,,O/OO,,UM/KG,,DEGC
  06AQ19930806,    47,  2,      1,19930908, 77.1767, 126.3167,  961,    946.3,   0.1297,  34.8823,2,  34.8821,2,    290.2,2,     6.12,2,     9.62,2,     0.78,2,    5.069,2,    2.273,2,    0.320,2,   2156.9,2,  -999.00,9,0.0458682817,2,   0.0869357509
  06AQ19930806,    47,  2,      2,19930908, 77.1767, 126.3167,  961,    938.2,   0.1339,  34.8827,2,  34.8829,2,    288.5,2,     6.22,2,     9.62,2,     0.78,2, -999.000,9, -999.000,9, -999.000,9,   2156.2,2,  -999.00,9, 0.045868268,2,   0.0915351265
  06AQ19930806,    47,  2,      3,19930908, 77.1767, 126.3167,  961,    905.1,   0.1352,  34.8819,2,  34.8823,2,    288.5,2,     6.32,2,     9.81,2,     0.78,2,    5.104,2,    2.291,2,    0.323,2,   2156.9,2,  -999.00,9,0.0478201377,2,    0.094585086
  06AQ19930806,    47,  2,      4,19930908, 77.1767, 126.3167,  961,    851.9,   0.1600,  34.8817,2,  34.8815,2,    287.6,2,     5.93,2,     9.81,2,     0.78,2, -999.000,9, -999.000,9, -999.000,9,   2157.4,2,  -999.00,9,0.0458683022,2,    0.122000371
  06AQ19930806,    47,  2,      5,19930908, 77.1767, 126.3167,  961,    801.4,   0.2862,  34.8798,2,  34.8789,2,    287.6,2,     6.22,2,     9.72,2,     0.78,2,    5.174,2,    2.310,2,    0.328,2,   2157.7,2,  -999.00,9,0.0448924443,2,    0.249984181
  06AQ19930806,    47,  2,      6,19930908, 77.1767, 126.3167,  961,    752.2,   0.3632,  34.8768,2,  34.8777,2,    287.6,2,     5.93,2,     9.72,2,     0.78,2, -999.000,9, -999.000,9, -999.000,9,   2155.3,2,  -999.00,9,0.0468443944,2,    0.329059611
  06AQ19930806,    47,  2,      7,19930908, 77.1767, 126.3167,  961,    701.2,   0.4853,  34.8765,2,  34.8760,2,    287.6,2,     5.83,2,     9.72,2,     0.78,2,    5.232,2,    2.337,2,    0.370,2,   2151.9,2,  -999.00,9,0.0429407044,2,      0.4530877
  06AQ19930806,    47,  2,      8,19930908, 77.1767, 126.3167,  961,    601.0,   0.7205,  34.8794,2,  34.8799,2,    284.1,2,     5.83,2,     9.81,2,     0.78,2, -999.000,9, -999.000,9, -999.000,9,   2150.6,2,  -999.00,9,0.0458683807,2,    0.692252211
  06AQ19930806,    47,  2,      9,19930908, 77.1767, 126.3167,  961,    500.4,   0.9175,  34.8748,2,  34.8722,2,    287.6,2,     5.64,2,     9.72,2,     0.78,2, -999.000,9, -999.000,9, -999.000,9,   2145.1,2,  -999.00,9,0.0429407588,2,    0.893615536
  06AQ19930806,    47,  2,     10,19930908, 77.1767, 126.3167,  961,    450.2,   1.0370,  34.8735,2,  34.8734,2,    286.7,2,     4.76,2,     8.65,2,     0.68,2, -999.000,9, -999.000,9, -999.000,9,   2147.2,2,  -999.00,9,0.0448926549,2,     1.01526418
  06AQ19930806,    47,  2,     11,19930908, 77.1767, 126.3167,  961,    399.7,   1.2895,  34.8842,2,  34.8947,2,    287.6,2,     5.54,2,     9.72,2,     0.78,2, -999.000,9, -999.000,9, -999.000,9,   2144.3,2,  -999.00,9,0.0448922973,2,     1.26953134
  06AQ19930806,    47,  2,     12,19930908, 77.1767, 126.3167,  961,    349.6,   1.3271,  34.8667,2,  34.8671,2,    286.7,2,     5.44,2,     9.52,2,     0.78,2,    5.440,2,    2.464,2,    0.397,2,   2140.7,2,  -999.00,9,0.0439169499,2,     1.30969443
  06AQ19930806,    47,  2,     13,19930908, 77.1767, 126.3167,  961,    298.7,   1.4232,  34.8594,2,  34.8551,2,    287.6,2,     4.47,2,     7.58,2,     0.58,2, -999.000,9, -999.000,9, -999.000,9,   2142.7,2,  -999.00,9,0.0458690636,2,     1.40822957
  06AQ19930806,    47,  2,     14,19930908, 77.1767, 126.3167,  961,    248.3,   1.2130,  34.8171,2,  34.8256,2,    285.0,2,     5.35,2,     9.23,2,     0.78,2,    5.547,2,    2.466,2,    0.349,2,   2139.6,2,  -999.00,9,0.0429426032,2,     1.20110805
  06AQ19930806,    47,  2,     15,19930908, 77.1767, 126.3167,  961,    223.4,   1.0865,  34.7906,2,  34.8000,2,    285.0,2,     5.25,2,     9.33,2,     0.78,2, -999.000,9, -999.000,9, -999.000,9,   2142.1,2,  -999.00,9,0.0439194379,2,     1.07609395
  06AQ19930806,    47,  2,     16,19930908, 77.1767, 126.3167,  961,    197.7,   0.8747,  34.7491,2,  34.7585,2,    289.4,2,     4.96,2,     8.75,2,     0.68,2,    5.685,2,    2.528,2,    0.363,2,   2143.2,2,  -999.00,9,0.0448968124,2,    0.865899487
  06AQ19930806,    47,  2,     17,19930908, 77.1767, 126.3167,  961,    172.1,   0.5281,  34.6225,2,  34.6820,2,    286.8,2,     4.96,2,     8.75,2,     0.68,2, -999.000,9, -999.000,9, -999.000,9,   2142.0,2,  -999.00,9, 0.047829373,2,     0.52100226
  06AQ19930806,    47,  2,     18,19930908, 77.1767, 126.3167,  961,    147.5,  -0.2111,  34.5736,2,  34.5695,2,    290.3,2,     4.86,2,     7.97,2,     0.68,2,    6.176,2,    2.708,2,    0.388,2,   2145.7,2,  -999.00,9,0.0439265334,2,   -0.216196449
  06AQ19930806,    47,  2,     19,19930908, 77.1767, 126.3167,  961,    122.0,  -0.8195,  34.4748,2,  34.4993,2,    290.3,2,     4.96,2,     7.48,2,     0.68,2, -999.000,9, -999.000,9, -999.000,9,   2145.4,2,  -999.00,9,        -999,9,   -0.823034056
  06AQ19930806,    47,  2,     20,19930908, 77.1767, 126.3167,  961,     96.4,  -1.1590,  34.3445,2,  34.3939,2,    290.4,2,     5.93,2,     7.10,2,     0.58,2,    6.656,2,    2.929,2,    0.479,2,   2152.5,2,  -999.00,9,        -999,9,    -1.16146633
  06AQ19930806,    47,  2,     21,19930908, 77.1767, 126.3167,  961,     71.9,  -1.3025,  34.1712,2,  34.2682,2,    288.6,2,     5.93,2,     7.10,2,     0.58,2, -999.000,9, -999.000,9, -999.000,9,   2154.2,2,  -999.00,9,0.0458925704,2,    -1.30421522
  06AQ19930806,    47,  2,     22,19930908, 77.1767, 126.3167,  961,     46.7,  -1.5039,  33.7502,2,  33.8456,2,    294.0,2,     6.22,2,     5.54,2,     0.97,2,    7.012,2,    3.074,2,    0.495,2,   2145.7,2,  -999.00,9,0.0468837018,2,    -1.50488189
  06AQ19930806,    47,  2,     23,19930908, 77.1767, 126.3167,  961,     21.0,  -1.6899,  32.4678,2,  32.9973,2,    328.5,2,     4.28,2,     3.02,2,     0.68,2, -999.000,9, -999.000,9, -999.000,9,   2091.6,2,  -999.00,9,        -999,9,    -1.69026691
  06AQ19930806,    47,  2,     24,19930908, 77.1767, 126.3167,  961,     11.2,  -1.4871,  31.9423,2,  32.3837,2,    346.2,2,     2.92,2,     1.07,2,     0.29,2,    7.410,2,    3.255,2,    0.548,2,   2049.2,2,  -999.00,9, 0.046946869,2,     -1.4873012
  06AQ19930806,    48,  1,      1,19930909, 77.1300, 126.3567,  504,    487.0,   0.8714,  34.8746,2,  34.8738,2,    285.0,2,     5.64,2,    10.01,2,     0.78,2,    5.348,2,    2.437,2,    0.389,2,   2147.6,2,     0.22,2,0.0439166916,2,    0.848395363
  06AQ19930806,    48,  1,      2,19930909, 77.1300, 126.3567,  504,    453.9,   0.9382,  34.8735,2,  34.8738,2,    285.9,2,  -999.00,9,  -999.00,9,  -999.00,9, -999.000,9,    2.483,2,    0.351,2,   2145.3,2,     0.19,2,0.0448926549,2,    0.916639964
  06AQ19930806,    48,  1,      3,19930909, 77.1300, 126.3567,  504,    350.6,   1.2231,  34.8677,2,  34.8691,2,    285.9,2,     5.73,2,     9.72,2,     0.87,2,    5.414,2,    2.486,2,    0.331,2,   2138.2,2,  -999.00,9,0.0439169172,2,     1.20594063
  06AQ19930806,    48,  1,      4,19930909, 77.1300, 126.3567,  504,    299.4,   1.1723,  34.8471,2,  34.8453,2,    285.9,2,     5.54,2,     9.72,2,     0.78,2, -999.000,9, -999.000,9, -999.000,9,   2138.2,2,  -999.00,9,0.0439175907,2,     1.15791785
  06AQ19930806,    48,  1,      6,19930909, 77.1300, 126.3567,  504,    248.9,   1.2794,  34.8274,2,  34.8285,2,    285.0,2,     5.44,2,     9.62,2,     0.78,2,    5.515,2,    2.558,2,    0.388,2,   2138.1,2,     0.17,2,0.0439182347,2,     1.26733991
  06AQ19930806,    48,  1,      7,19930909, 77.1300, 126.3567,  504,    197.9,   1.0595,  34.7590,2,  34.7608,2,    285.9,2,     5.44,2,     9.43,2,     0.78,2,    5.565,2,    2.526,2,    0.399,2,   2143.1,2,  -999.00,9,0.0439204711,2,      1.0503846
  06AQ19930806,    48,  1,      9,19930909, 77.1300, 126.3567,  504,    173.2,  -0.0441,  34.5997,2,  34.6106,2,    286.8,2,     5.25,2,     8.26,2,     0.68,2, -999.000,9, -999.000,9, -999.000,9,   2142.9,2,  -999.00,9,0.0439256799,2,   -0.050384832
  06AQ19930806,    48,  1,     10,19930909, 77.1300, 126.3567,  504,    148.3,  -0.7151,  34.4813,2,  34.4986,2,    289.5,2,     5.15,2,     7.68,2,     0.68,2,    6.396,2,    2.869,2,    0.457,2,   2146.3,2,  -999.00,9,        -999,9,   -0.719565869
  06AQ19930806,    48,  1,     12,19930909, 77.1300, 126.3567,  504,    122.9,  -0.9071,  34.4302,2,  34.4477,2,    290.3,2,     5.35,2,     7.29,2,     0.68,2,    6.499,2,    2.991,2,    0.416,2,   2147.4,2,    -0.10,2,0.0449074725,2,    -0.91055618
  06AQ19930806,    48,  1,     13,19930909, 77.1300, 126.3567,  504,     99.3,  -0.9975,  34.3896,2,  34.3978,2,    287.7,2,     5.83,2,     6.42,2,     0.58,2, -999.000,9, -999.000,9, -999.000,9,   2151.1,2,  -999.00,9,0.0468613878,2,    -1.00018298
  06AQ19930806,    48,  1,     16,19930909, 77.1300, 126.3567,  504,     72.6,  -1.3164,  34.2589,2,  34.2688,2,    289.5,2,     6.61,2,     6.32,2,     0.58,2,    6.776,2,    3.122,2,    0.461,2,   2158.7,2,    -0.43,2,0.0468659479,2,     -1.3181237
  06AQ19930806,    48,  1,     17,19930909, 77.1300, 126.3567,  504,     47.5,  -1.5470,  33.9228,2,  34.0655,2,    301.0,2,     5.35,2,     5.54,2,     0.58,2,    6.892,2,    3.177,2,    0.472,2,   2140.4,2,  -999.00,9,0.0449244405,2,    -1.54800156
  06AQ19930806,    48,  1,     20,19930909, 77.1300, 126.3567,  504,     21.4,  -1.6029,  32.2382,2,  32.5054,2,    345.3,2,     3.31,2,     1.66,2,     0.29,2,    7.432,2,    3.392,2,    0.625,2,   2053.2,2,    -1.15,2,0.0469365228,2,     -1.6032698
  06AQ19930806,    48,  1,     22,19930909, 77.1300, 126.3567,  504,      9.8,  -1.4410,  31.8799,2,  31.8700,2,    359.5,2,     2.05,2,     1.07,2,     0.19,2,    7.443,2,    3.439,2,    0.686,2,   2019.2,2,    -1.46,2,0.0469490512,2,    -1.44117007
  06AQ19930806,    48,  1,     23,19930909, 77.1300, 126.3567,  504,      9.8,  -1.4305,  31.8308,2,  31.8752,2,   -999.0,9,  -999.00,9,  -999.00,9,  -999.00,9, -999.000,9, -999.000,9, -999.000,9,   -999.0,9,  -999.00,9,        -999,9,    -1.43067108
  06AQ19930806,    49,  1,      1,19930909, 77.0983, 126.3200,  211,    194.6,   0.4919,  34.7230,2,  34.7223,2,    306.1,2,  -999.00,9,  -999.00,9,  -999.00,9,    5.795,2,    2.638,2,    0.357,2,   2144.6,2,  -999.00,9,0.0439216481,2,    0.483879619
  06AQ19930806,    49,  1,      2,19930909, 77.0983, 126.3200,  211,    184.0,   0.4916,  34.7232,2,  34.7231,2,    305.2,2,     5.83,2,     7.58,2,     0.68,2,    5.811,2,    2.607,2,    0.364,2,   2148.8,2,  -999.00,9,0.0429456051,2,    0.484034196
  06AQ19930806,    49,  1,      3,19930909, 77.0983, 126.3200,  211,    175.1,   0.4797,  34.7201,2,  34.7203,2,    307.8,2,     5.73,2,     7.68,2,     0.72,2, -999.000,9, -999.000,9, -999.000,9,   2148.0,2,  -999.00,9,0.0448977817,2,     0.47253258
  06AQ19930806,    49,  1,      4,19930909, 77.0983, 126.3200,  211,    175.3,   0.4835,  34.7212,2,  34.7184,2,   -999.0,9,  -999.00,9,  -999.00,9,  -999.00,9, -999.000,9, -999.000,9, -999.000,9,   -999.0,9,  -999.00,9,        -999,9,    0.476319097
  06AQ19930806,    49,  1,      5,19930909, 77.0983, 126.3200,  211,    158.1,   0.4672,  34.7172,2,  34.7154,2,    305.2,2,     5.73,2,     7.68,2,     0.68,2,    5.817,2,    2.623,2,    0.362,2,   2146.6,2,  -999.00,9,0.0448978786,2,    0.460770688
  06AQ19930806,    49,  1,      7,19930909, 77.0983, 126.3200,  211,    148.2,   0.4570,  34.7142,2,  34.7156,2,    305.2,2,     5.73,2,     7.68,2,     0.68,2, -999.000,9,    2.634,2,    0.402,2,   2146.7,2,  -999.00,9,0.0448979789,2,    0.450999164
  06AQ19930806,    49,  1,      8,19930909, 77.0983, 126.3200,  211,    124.8,   0.4382,  34.7098,2,  34.7095,2,    306.9,2,     5.35,2,     7.68,2,     0.68,2,    5.832,2,    2.629,2,    0.393,2,   2147.5,2,  -999.00,9, 0.044898126,2,    0.433194187
  06AQ19930806,    49,  1,     11,19930909, 77.0983, 126.3200,  211,     99.9,  -0.6737,  34.4764,2,  34.5414,2,    307.9,2,     5.73,2,     7.58,2,     0.68,2,    6.238,2,    2.820,2,    0.447,2,   2149.5,2,  -999.00,9,0.0458821438,2,   -0.676706363
  06AQ19930806,    49,  1,     12,19930909, 77.0983, 126.3200,  211,     73.6,  -1.3503,  34.1889,2,  34.1987,2,    315.8,2,     5.64,2,     6.71,2,     0.68,2, -999.000,9, -999.000,9, -999.000,9,   2141.9,2,  -999.00,9,0.0458919656,2,    -1.35201638
  06AQ19930806,    49,  1,     15,19930909, 77.0983, 126.3200,  211,     48.1,-999.0000,-999.0000,9,-999.0000,9,   -999.0,9,  -999.00,9,  -999.00,9,  -999.00,9, -999.000,9, -999.000,9, -999.000,9,   2148.8,2,  -999.00,9,        -999,2,           -999
  06AQ19930806,    49,  1,     16,19930909, 77.0983, 126.3200,  211,     37.0,  -1.6145,  33.6446,2,  33.7690,2,    319.5,2,     6.22,2,     5.15,2,     0.58,2, -999.000,9, -999.000,9, -999.000,9,   2145.3,2,  -999.00,9, 0.047864209,2,    -1.61523293
  06AQ19930806,    49,  1,     17,19930909, 77.0983, 126.3200,  211,     37.0,  -1.6146,  33.6462,2,  33.9618,2,   -999.0,9,  -999.00,9,  -999.00,9,  -999.00,9, -999.000,9, -999.000,9, -999.000,9,   -999.0,9,  -999.00,9,        -999,9,    -1.61534687
  06AQ19930806,    49,  1,     19,19930909, 77.0983, 126.3200,  211,     26.8,  -1.6893,  32.5453,2,  33.2744,2,    346.8,2,     4.96,2,     3.21,2,     0.49,2, -999.000,9, -999.000,9, -999.000,9,   2108.8,2,  -999.00,9,0.0469257882,2,    -1.68978451
  06AQ19930806,    49,  1,     21,19930909, 77.0983, 126.3200,  211,     15.1,  -1.5969,  31.9230,2,  32.4264,2,    364.6,2,     3.41,2,     1.27,2,     0.29,2,    7.308,2,    3.309,2,    0.561,2,   2050.0,2,  -999.00,9,0.0469475439,2,    -1.59715844
  06AQ19930806,    49,  1,     22,19930909, 77.0983, 126.3200,  211,      9.6,  -1.5852,  31.8073,2,  32.0764,2,    373.5,2,  -999.00,9,  -999.00,9,  -999.00,9,    7.339,2,    3.339,2,    0.621,2,   2030.8,2,    -1.33,2,0.0469515903,2,    -1.58535819