BOTTLE,20081119PRINUNIVRMK
EXPOCODE,STNNBR,CASTNO,BTLNBR,DATE,LATITUDE,LONGITUDE,DEPTH,CTDPRS,CTDTMP,CTDSAL,CTDSAL_FLAG_W,SALNTY,SALNTY_FLAG_W,OXYGEN,OXYGEN_FLAG_W,SILCAT,SILCAT_FLAG_W,NITRAT,NITRAT_FLAG_W,PHSPHT,PHSPHT_FLAG_W,CFC-11,CFC-11_FLAG_W,CFC-12,CFC-12_FLAG_W,CFC113,CFC113_FLAG_W,TCARBN,TCARBN_FLAG_W,DELO18,DELO18_FLAG_W,BARIUM,BARIUM_FLAG_W,THETA
,,,,,,,METERS,DBARS,ITS-90,PSS-78,,PSS-78,,UMOL/KG,,UMOL/KG,,UMOL/KG,,UMOL/KG,,PMOL/KG,,PMOL/KG,,PMOL/KG,,UMOL/KG,,O/OO,,UM/KG,,DEGC
  06AQ19930806,    52,  1,      2,19930911, 78.0850, 125.0467, 2371,     24.8,  -1.7600,  32.7770,2,  34.8874,2,    292.6,2,     5.44,2,    10.69,2,     0.78,2, -999.000,9, -999.000,9, -999.000,9,   2125.7,2,  -999.00,9,        -999,9,    -1.76051103
  06AQ19930806,    52,  1,      3,19930911, 78.0850, 125.0467, 2371,    309.1,   1.6480,  34.8850,2,  34.8667,2,    290.9,2,     5.35,2,    10.69,2,     0.78,2, -999.000,9, -999.000,9, -999.000,9,   2125.5,2,  -999.00,9,0.0448922706,2,     1.63190328
  06AQ19930806,    52,  1,      4,19930911, 78.0850, 125.0467, 2371,    252.1,   1.7380,  34.8650,2,  34.8655,2,    288.2,2,     5.25,2,    10.59,2,     0.78,2, -999.000,9, -999.000,9, -999.000,9,   2127.0,2,  -999.00,9,0.0448929389,2,     1.72480818
  06AQ19930806,    52,  1,      5,19930911, 78.0850, 125.0467, 2371,    223.9,   1.8860,  34.8660,2,  34.8386,2,    288.2,2,     5.15,2,    10.50,2,     0.78,2, -999.000,9, -999.000,9, -999.000,9,   2124.1,2,  -999.00,9,        -999,9,     1.87407626
  06AQ19930806,    52,  1,      7,19930911, 78.0850, 125.0467, 2371,    199.5,   1.7690,  34.8340,2,  34.7862,2,    289.1,2,     5.05,2,    10.21,2,     0.68,2, -999.000,9, -999.000,9, -999.000,9,   2124.2,2,  -999.00,9, 0.043918019,2,     1.75862761
  06AQ19930806,    52,  1,      8,19930911, 78.0850, 125.0467, 2371,    173.5,   1.5220,  34.7860,2,  34.6727,2,    291.8,2,     4.76,2,     9.53,2,     0.68,2, -999.000,9, -999.000,9, -999.000,9,   2119.2,2,  -999.00,9,  0.04587157,2,     1.51340734
  06AQ19930806,    52,  1,     11,19930911, 78.0850, 125.0467, 2371,    150.2,   0.8790,  34.6730,2,  34.5337,2,    297.2,2,     4.37,2,     9.33,2,     0.68,2, -999.000,9, -999.000,9, -999.000,9,   2114.7,2,  -999.00,9, 0.044899356,2,    0.872433966
  06AQ19930806,    52,  1,     12,19930911, 78.0850, 125.0467, 2371,    123.9,   0.1680,  34.5220,2,  34.2776,2,    306.1,2,     3.79,2,     7.58,2,     0.58,2, -999.000,9, -999.000,9, -999.000,9,   2109.9,2,  -999.00,9,0.0439282209,2,    0.163414724
  06AQ19930806,    52,  1,     15,19930911, 78.0850, 125.0467, 2371,     97.6,  -1.1460,  34.2780,2,  34.1381,2,    321.2,2,     2.82,2,     6.03,2,     0.49,2, -999.000,9, -999.000,9, -999.000,9,   2095.2,2,  -999.00,9,0.0458889214,2,    -1.14846085
  06AQ19930806,    52,  1,     16,19930911, 78.0850, 125.0467, 2371,     73.8,  -1.7460,  34.1360,2,  33.9608,2,    329.3,2,     2.63,2,     5.25,2,     0.49,2, -999.000,9, -999.000,9, -999.000,9,   2106.7,2,  -999.00,9,0.0449173099,2,    -1.74743129
  06AQ19930806,    52,  1,     20,19930911, 78.0850, 125.0467, 2371,     47.2,  -1.8030,  33.9830,2,  33.1343,2,    349.0,2,     2.63,2,     3.02,2,     0.39,2, -999.000,9, -999.000,9, -999.000,9,   2053.0,2,  -999.00,9,        -999,9,    -1.80380255
  06AQ19930806,    52,  1,     22,19930911, 78.0850, 125.0467, 2371,     24.0,  -1.7850,  33.1290,2,  33.1271,2,    348.1,2,     2.63,2,     2.92,2,     0.39,2, -999.000,9, -999.000,9, -999.000,9,   2052.1,2,  -999.00,9,0.0459281981,2,    -1.78540598
  06AQ19930806,    53,  2,      1,19930912, 79.2367, 122.8817, 3237,   3236.7,  -0.7483,  34.9419,2,  34.9417,2,    277.5,2,    11.46,2,    13.12,2,     0.93,2,    0.056,2,    0.032,2, -999.000,9,   2151.8,2,     0.21,2,0.0507456346,2,    -0.93575416
  06AQ19930806,    53,  2,      2,19930912, 79.2367, 122.8817, 3237,   3200.2,  -0.7525,  34.9431,2,  34.9411,2,    277.5,2,    11.46,2,    13.12,2,     0.93,2,    0.067,2,    0.040,2,    0.000,2,   2150.3,2,     0.22,2, 0.051721466,2,   -0.936775056
  06AQ19930806,    53,  2,      3,19930912, 79.2367, 122.8817, 3237,   2999.9,  -0.7775,  34.9390,2,  34.9378,2,    277.5,2,    11.27,2,    13.21,2,     0.93,2,    0.049,2,    0.039,2,    0.000,2,   2151.1,2,  -999.00,9,0.0497698645,2,   -0.944684993
  06AQ19930806,    53,  2,      4,19930912, 79.2367, 122.8817, 3237,   2698.7,  -0.7959,  34.9325,2,  34.9317,2,    279.2,2,    11.08,2,    13.31,2,     0.93,2,    0.098,2,    0.049,2,    0.000,2,   2149.9,2,     0.25,2,0.0556254118,2,   -0.939080581
  06AQ19930806,    53,  2,      5,19930912, 79.2367, 122.8817, 3237,   2399.2,  -0.7972,  34.9278,2,  34.9271,2,    281.9,2,    10.98,2,    13.21,2,     0.90,2, -999.000,9, -999.000,9, -999.000,9,   2149.3,2,  -999.00,9,0.0487943916,2,   -0.918340963
  06AQ19930806,    53,  2,      6,19930912, 79.2367, 122.8817, 3237,   2099.2,  -0.7785,  34.9230,2,  34.9232,2,    281.0,2,    10.69,2,    13.21,2,     0.92,2,    0.302,2,    0.138,2,    0.052,2,   2152.3,2,     0.23,2, 0.048794566,2,   -0.879363451
  06AQ19930806,    53,  2,      7,19930912, 79.2367, 122.8817, 3237,   1795.5,  -0.7234,  34.9204,2,  34.9205,2,    281.0,2,    10.40,2,    13.02,2,     0.92,2,    0.391,2,    0.179,2, -999.000,9,   2151.1,2,  -999.00,9,0.0478187672,2,   -0.805694051
  06AQ19930806,    53,  2,      8,19930912, 79.2367, 122.8817, 3237,   1599.8,  -0.6711,  34.9179,2,  34.9187,2,    282.7,2,     8.94,2,    12.53,2,     0.88,2,    0.654,2,    0.296,2,    0.007,2,   2152.7,2,     0.22,2,0.0478188562,2,   -0.742335541
  06AQ19930806,    53,  2,      9,19930912, 79.2367, 122.8817, 3237,   1400.7,  -0.5750,  34.9172,2,  34.9179,2,    281.9,2,    10.10,2,    12.92,2,     0.91,2,    0.860,2,    0.396,2,    0.017,2,   2150.8,2,  -999.00,9,0.0487947766,2,   -0.635986607
  06AQ19930806,    53,  2,     10,19930912, 79.2367, 122.8817, 3237,   1149.5,  -0.3856,  34.9135,2,  34.9145,2,    283.6,2,     8.94,2,    12.53,2,     0.88,2,    1.318,2,    0.597,2,    0.065,2,   2153.5,2,     0.23,2, 0.048794911,2,   -0.434846037
  06AQ19930806,    53,  2,     11,19930912, 79.2367, 122.8817, 3237,   1000.2,  -0.1877,  34.9098,2,  34.9106,2,    285.4,2,     8.26,2,    12.34,2,     0.86,2,    2.077,2,    0.959,2,    0.147,2,   2151.9,2,  -999.00,9,0.0468432436,2,   -0.230832376
  06AQ19930806,    53,  2,     12,19930912, 79.2367, 122.8817, 3237,    899.1,  -0.0283,  34.9060,2,  34.9067,2,    283.6,2,     7.38,2,    11.76,2,     0.85,2,    3.172,2,    1.425,2,    0.204,2,   2156.5,2,     0.27,2,        -999,9,   -0.067433515
  06AQ19930806,    53,  2,     13,19930912, 79.2367, 122.8817, 3237,    750.2,   0.3867,  34.9094,2,  34.9098,2,    283.6,2,     6.70,2,    11.85,2,     0.83,2,    3.080,2,    1.382,2,    0.227,2,   2156.5,2,     0.24,2,0.0468432576,2,    0.352474808
  06AQ19930806,    53,  2,     14,19930912, 79.2367, 122.8817, 3237,    498.7,   1.2797,  34.9203,2,  34.9206,2,    284.5,2,     6.12,2,    11.47,2,     0.80,2,    4.185,2,    1.869,2,    0.277,2,   2144.2,2,     0.27,2,0.0448910909,2,     1.25437828
  06AQ19930806,    53,  2,     15,19930912, 79.2367, 122.8817, 3237,    400.0,   1.6534,  34.9199,2,  34.9248,2,    285.4,2,     5.73,2,    11.37,2,     0.78,2,    4.454,2,    2.010,2,    0.244,2,   2138.1,2,     0.25,2,0.0468428914,2,     1.63220128
  06AQ19930806,    53,  2,     16,19930912, 79.2367, 122.8817, 3237,    299.7,   2.0254,  34.9158,2,  34.9149,2,    283.6,2,     5.35,2,    11.08,2,     0.76,2,    4.964,2,    2.248,2,    0.352,2,   2135.4,2,     0.23,2,0.0507466206,2,     2.00886552
  06AQ19930806,    53,  2,     17,19930912, 79.2367, 122.8817, 3237,    247.9,   2.1437,  34.9048,2,  34.8996,2,    282.7,2,     5.15,2,    10.88,2,     0.74,2, -999.000,9, -999.000,9, -999.000,9,   2136.1,2,     0.23,2, 0.046843418,2,     2.12989834
  06AQ19930806,    53,  2,     18,19930912, 79.2367, 122.8817, 3237,    198.5,   1.9345,  34.8489,2,  34.8482,2,    282.8,2,     4.86,2,    10.79,2,     0.70,2,    4.917,2,    2.209,2,    0.334,2,   2133.7,2,  -999.00,9,0.0439175318,2,     1.92388915
  06AQ19930806,    53,  2,     19,19930912, 79.2367, 122.8817, 3237,    149.7,   0.4631,  34.5514,2,  34.5907,2,    289.8,2,     4.28,2,     9.53,2,     0.56,2,    5.145,2,    2.328,2,    0.331,2,   2126.9,2,  -999.00,9,0.0439272594,2,     0.45706357
  06AQ19930806,    53,  2,     20,19930912, 79.2367, 122.8817, 3237,     99.3,  -1.8325,  34.1980,2,  34.2229,2,    322.2,2,     2.72,2,     6.61,2,     0.50,2,    5.710,2,    2.656,2,    0.396,2,   2106.2,2,    -0.25,2,0.0468680729,2,    -1.83442664
  06AQ19930806,    53,  2,     21,19930912, 79.2367, 122.8817, 3237,     72.9,  -1.8075,  34.1108,2,  34.1446,2,    325.7,2,     2.43,2,     6.12,2,     0.47,2,    6.463,2,    2.887,2,    0.483,2,   2100.2,2,  -999.00,9,0.0449181526,2,     -1.8089001
  06AQ19930806,    53,  2,     22,19930912, 79.2367, 122.8817, 3237,     42.5,  -1.8161,  33.6161,2,  33.8482,2,    337.1,2,     2.14,2,     4.76,2,     0.40,2,    6.603,2,    2.985,2,    0.703,2,   2076.5,2,    -0.33,2,0.0439578595,2,     -1.8168754
  06AQ19930806,    53,  2,     23,19930912, 79.2367, 122.8817, 3237,     24.2,  -1.8198,  33.5958,2,  33.5960,2,    343.3,2,     1.95,2,     4.18,2,     0.40,2,    6.701,2,    2.957,2,    0.457,2,   2061.0,2,  -999.00,9,  0.04493538,2,     -1.8202243
  06AQ19930806,    53,  2,     24,19930912, 79.2367, 122.8817, 3237,     13.3,  -1.8202,  33.5960,2,  33.5936,2,    343.3,2,     1.95,2,     4.18,2,     0.40,2,    6.677,2,    3.005,2,    0.579,2,   2061.0,2,    -0.41,2,0.0449353733,2,    -1.82043163
  06AQ19930806,    54,  1,      1,19930913, 79.1850, 119.9050, 3071,   3065.4,  -0.7556,  34.9415,2,  34.9395,2,    279.3,2,    11.46,2,    13.02,2,     0.91,2,    0.051,2,    0.026,2,    0.000,2,   2147.9,2,  -999.00,9,0.0536732834,2,   -0.928619431
  06AQ19930806,    54,  1,      3,19930913, 79.1850, 119.9050, 3071,   3000.0,  -0.7684,  34.9380,2,  34.9380,2,    278.4,2,    11.27,2,    12.92,2,     0.91,2,    0.063,2,    0.034,2,    0.000,2,   2153.6,2,  -999.00,9, 0.050745782,2,   -0.935801013
  06AQ19930806,    54,  1,      4,19930913, 79.1850, 119.9050, 3071,   2799.9,  -0.7833,  34.9320,2,  34.9313,2,    279.3,2,    10.98,2,    12.92,2,     0.90,2,    0.161,2,    0.076,2,    0.015,2,   2152.8,2,  -999.00,9, 0.062456626,4,   -0.934503475
  06AQ19930806,    54,  1,      5,19930913, 79.1850, 119.9050, 3071,   2550.5,  -0.7887,  34.9276,2,  34.9267,2,    279.3,2,    10.98,2,    12.83,2,     0.90,2,    0.231,2,    0.107,2,    0.008,2,   2150.7,2,  -999.00,9,0.0487943989,2,   -0.920936431
  06AQ19930806,    54,  1,      6,19930913, 79.1850, 119.9050, 3071,   2300.2,  -0.7824,  34.9243,2,  34.9234,2,    282.8,2,    10.69,2,    12.83,2,     0.89,2,    0.340,2,    0.158,2,    0.040,2,   2153.6,2,  -999.00,9,0.0497704091,2,   -0.896840444
  06AQ19930806,    54,  1,      7,19930913, 79.1850, 119.9050, 3071,   2049.8,  -0.7581,  34.9209,2,  34.9210,2,    282.8,2,    10.30,2,    12.53,2,     0.88,2,    0.432,2,    0.189,2,    0.018,2,   2154.3,2,  -999.00,9,0.0487946422,2,   -0.856033435
  06AQ19930806,    54,  1,      8,19930913, 79.1850, 119.9050, 3071,   1800.4,  -0.7148,  34.9185,2,  34.9181,2,    281.1,2,    10.30,2,    12.73,2,     0.88,2,    0.577,2,    0.274,2,    0.058,2,   2155.7,2,  -999.00,9,0.0487947294,2,   -0.797511632
  06AQ19930806,    54,  1,      9,19930913, 79.1850, 119.9050, 3071,   1600.3,  -0.6562,  34.9164,2,  34.9169,2,    282.0,2,    10.01,2,    12.53,2,     0.88,2,    0.757,2,    0.340,2,    0.029,2,   2155.2,2,  -999.00,9,0.0478189096,2,   -0.727651291
  06AQ19930806,    54,  1,     10,19930913, 79.1850, 119.9050, 3071,   1399.9,  -0.5638,  34.9155,2,  34.9161,2,    282.8,2,     9.52,2,    12.53,2,     0.87,2,    0.937,2,    0.432,2,    0.103,2,   2156.7,2,  -999.00,9,0.0478189416,2,   -0.624864181
  06AQ19930806,    54,  1,     11,19930913, 79.1850, 119.9050, 3071,   1200.4,  -0.3764,  34.9132,2,  34.9134,2,    284.6,2,     8.84,2,    12.24,2,     0.86,2,    1.376,2,    0.629,2,    0.061,2,   2152.6,2,  -999.00,9,0.0487949219,2,   -0.428457531
  06AQ19930806,    54,  1,     12,19930913, 79.1850, 119.9050, 3071,   1100.0,  -0.2540,  34.9098,2,  34.9102,2,    283.7,2,     8.26,2,    12.05,2,     0.85,2,    1.981,2,    0.917,2,    0.190,2,   2152.9,2,  -999.00,9, 0.108325001,4,   -0.301814292
  06AQ19930806,    54,  1,     13,19930913, 79.1850, 119.9050, 3071,    999.4,  -0.1205,  34.9023,2,  34.9021,2,    284.6,2,     7.29,2,    11.47,2,     0.81,2,    3.652,2,    1.654,2,    0.244,2,   2158.4,2,  -999.00,9,0.0526989433,2,   -0.164124956
  06AQ19930806,    54,  1,     14,19930913, 79.1850, 119.9050, 3071,    799.9,   0.3019,  34.9054,2,  34.9063,2,    288.2,2,     6.61,2,    11.27,2,     0.80,2,    3.262,2,    1.471,2,    0.214,2,   2152.9,2,  -999.00,9,0.0458674929,2,    0.265619427
  06AQ19930806,    54,  1,     15,19930913, 79.1850, 119.9050, 3071,    599.4,   0.9598,  34.9123,2,  34.9118,2,    289.0,2,     6.02,2,    11.18,2,     0.77,2,    3.818,2,    1.654,2,    0.219,2,   2143.0,2,  -999.00,9,0.0458672573,2,    0.930424543
  06AQ19930806,    54,  1,     16,19930913, 79.1850, 119.9050, 3071,    399.9,   1.7869,  34.9298,2,  34.9313,2,    286.4,2,     5.44,2,    10.88,2,     0.74,2,    4.716,2,    2.134,2,    0.325,2,   2142.3,2,  -999.00,9,0.0439148871,2,     1.76526667
  06AQ19930806,    54,  1,     17,19930913, 79.1850, 119.9050, 3071,    349.5,   2.0042,  34.9316,2,  34.9321,2,    289.9,2,     5.34,2,    10.69,2,     0.74,2,    5.001,2,    2.281,2,    0.388,2,   2140.3,2,  -999.00,9,0.0439148282,2,     1.98482193
  06AQ19930806,    54,  1,     18,19930913, 79.1850, 119.9050, 3071,    299.6,   2.1502,  34.9266,2,  34.9260,2,    289.0,2,     5.35,2,    10.79,2,     0.74,2,    4.882,2,    2.208,2,    0.345,2,   2140.8,2,  -999.00,9,0.0439149917,2,      2.1333607
  06AQ19930806,    54,  1,     19,19930913, 79.1850, 119.9050, 3071,    198.9,   2.1566,  34.8667,2,  34.8703,2,    285.5,2,     5.05,2,    10.50,2,     0.74,2,    5.004,2,    2.296,2,    0.340,2,   2138.6,2,  -999.00,9,0.0439169499,2,     2.14559738
  06AQ19930806,    54,  1,     20,19930913, 79.1850, 119.9050, 3071,    149.7,   1.5572,  34.7348,2,  34.7911,2,    286.4,2,     4.76,2,    10.01,2,     0.69,2,    5.037,2,    2.279,2,    0.355,2,   2130.2,2,  -999.00,9,0.0439212623,2,      1.5497409
  06AQ19930806,    54,  1,     21,19930913, 79.1850, 119.9050, 3071,     83.0,  -1.7489,  34.1370,2,  34.1454,2,    325.5,2,     2.53,2,     6.32,2,     0.48,2,    6.318,2,    2.835,2,    0.530,2,   2099.9,2,  -999.00,9,        -999,9,    -1.75054524
  06AQ19930806,    54,  1,     22,19930913, 79.1850, 119.9050, 3071,     70.2,  -1.8104,  34.0806,2,  34.0997,2,    327.3,2,     2.43,2,     5.93,2,     0.46,2,    6.404,2,    2.852,2,    0.454,2,   2093.3,2,  -999.00,9,0.0507781838,2,    -1.81173838
  06AQ19930806,    54,  1,     23,19930913, 79.1850, 119.9050, 3071,     49.4,  -1.7913,  33.9448,2,  33.9759,2,    330.8,2,     2.14,2,     4.86,2,     0.39,2,    6.657,2,    3.015,2,    0.599,2,   2087.8,2,  -999.00,9,0.0410172955,2,    -1.79222788
  06AQ19930806,    54,  1,     24,19930913, 79.1850, 119.9050, 3071,     14.5,  -1.8166,  33.5197,2,  33.5258,2,    340.7,2,     1.85,2,     3.60,2,     0.32,2,    6.839,2,    3.050,2,    0.669,2,   2056.6,2,  -999.00,9,0.0400533692,2,    -1.81685123
  06AQ19930806,    54,  2,      2,19930913, 79.1850, 119.9050, 3071,    307.1,   2.1040,  34.9263,2,  34.9258,2,    293.5,2,     4.96,2,    10.40,2,     0.68,2, -999.000,9, -999.000,9, -999.000,9,   -999.0,9,  -999.00,9,0.0439150015,2,     2.08683556
  06AQ19930806,    54,  2,      3,19930913, 79.1850, 119.9050, 3071,    251.4,   2.2460,  34.9182,2,  34.9179,2,    289.9,2,     4.66,2,    10.11,2,     0.58,2, -999.000,9, -999.000,9, -999.000,9,   -999.0,9,  -999.00,9,0.0497706351,2,     2.23177827
  06AQ19930806,    54,  2,      4,19930913, 79.1850, 119.9050, 3071,    223.2,   2.2680,  34.9039,2,  34.9055,2,    266.1,3,     4.66,2,    10.11,2,     0.60,2, -999.000,9, -999.000,9, -999.000,9,   -999.0,9,  -999.00,9,0.0439157338,2,     2.25539086
  06AQ19930806,    54,  2,      5,19930913, 79.1850, 119.9050, 3071,    201.4,   2.2400,  34.8906,2,  34.8895,2,    287.3,2,  -999.00,9,  -999.00,9,  -999.00,9, -999.000,9, -999.000,9, -999.000,9,   2119.0,2,  -999.00,9,0.0439161686,2,     2.22871074
  06AQ19930806,    54,  2,      7,19930913, 79.1850, 119.9050, 3071,    173.8,   2.0820,  34.8507,2,  34.8492,2,    288.2,2,  -999.00,9,  -999.00,9,  -999.00,9, -999.000,9, -999.000,9, -999.000,9,   2120.8,2,  -999.00,9,        -999,4,     2.07253516
  06AQ19930806,    54,  2,      8,19930913, 79.1850, 119.9050, 3071,    150.9,   1.6060,  34.7466,2,  34.7483,2,    290.8,2,     4.37,2,     9.52,2,     0.58,2, -999.000,9, -999.000,9, -999.000,9,   2116.6,2,  -999.00,9,0.0419688375,2,     1.59843038
  06AQ19930806,    54,  2,     11,19930913, 79.1850, 119.9050, 3071,    124.4,   0.1400,  34.4902,2,  34.5276,2,    295.3,2,     3.99,2,     8.75,2,     0.52,2, -999.000,9, -999.000,9, -999.000,9,   2107.0,2,  -999.00,9,0.0439292608,2,    0.135366774
  06AQ19930806,    54,  2,     12,19930913, 79.1850, 119.9050, 3071,     99.9,  -1.4350,  34.2245,2,  34.2519,2,    315.7,2,     3.01,2,     7.10,2,     0.43,2, -999.000,9, -999.000,9, -999.000,9,   2091.5,2,  -999.00,9,0.0410087547,2,    -1.43729192
  06AQ19930806,    54,  2,     15,19930913, 79.1850, 119.9050, 3071,     72.4,  -1.8050,  34.0923,2,  34.1085,2,    328.1,2,     2.33,2,     5.83,2,     0.39,2, -999.000,9, -999.000,9, -999.000,9,   2078.7,2,  -999.00,9,0.0439422763,2,    -1.80638659
  06AQ19930806,    54,  2,     16,19930913, 79.1850, 119.9050, 3071,     60.2,  -1.8100,  34.0364,2,  34.0326,2,    331.7,2,     2.14,2,     5.15,2,     0.35,2, -999.000,9, -999.000,9, -999.000,9,   2079.3,2,  -999.00,9,0.0429675695,2,    -1.81113401
  06AQ19930806,    54,  2,     21,19930913, 79.1850, 119.9050, 3071,     13.3,  -1.8190,  33.5210,2,  33.5798,2,    341.6,2,     1.75,2,     3.70,2,     0.29,2, -999.000,9, -999.000,9, -999.000,9,   2041.2,2,  -999.00,9,0.0420071514,2,    -1.81923141