BOTTLE,20081119PRINUNIVRMK
EXPOCODE,STNNBR,CASTNO,BTLNBR,DATE,LATITUDE,LONGITUDE,DEPTH,CTDPRS,CTDTMP,CTDSAL,CTDSAL_FLAG_W,SALNTY,SALNTY_FLAG_W,OXYGEN,OXYGEN_FLAG_W,SILCAT,SILCAT_FLAG_W,NITRAT,NITRAT_FLAG_W,PHSPHT,PHSPHT_FLAG_W,CFC-11,CFC-11_FLAG_W,CFC-12,CFC-12_FLAG_W,CFC113,CFC113_FLAG_W,TCARBN,TCARBN_FLAG_W,DELO18,DELO18_FLAG_W,BARIUM,BARIUM_FLAG_W,THETA
,,,,,,,METERS,DBARS,ITS-90,PSS-78,,PSS-78,,UMOL/KG,,UMOL/KG,,UMOL/KG,,UMOL/KG,,PMOL/KG,,PMOL/KG,,PMOL/KG,,UMOL/KG,,O/OO,,UM/KG,,DEGC
  06AQ19930806,    38,  2,      0,19930905, 78.1433, 133.3867,  869,      0.0,-999.0000,-999.0000,9,-999.0000,9,   -999.0,9,  -999.00,9,  -999.00,9,  -999.00,9, -999.000,9, -999.000,9, -999.000,9,   -999.0,9,  -999.00,9,        -999,9,           -999
  06AQ19930806,    38,  2,      1,19930905, 78.1433, 133.3867,  869,    856.1,   0.0270,  34.8694,2,  34.8685,2,    291.6,2,     5.73,2,    11.56,2,     0.77,2,    5.320,2,    2.379,2,    0.377,2,   2153.6,2,     0.31,2,0.0468446524,2,  -0.0102638415
  06AQ19930806,    38,  2,      2,19930905, 78.1433, 133.3867,  869,    840.6,   0.0380,  34.8674,2,  34.8691,2,    294.5,2,     5.64,2,    11.56,2,     0.75,2,    5.351,2,    2.392,2,    0.344,2,   2154.4,2,     0.32,2,0.0448928587,2,  0.00144956794
  06AQ19930806,    38,  2,      3,19930905, 78.1433, 133.3867,  869,    812.5,   0.0900,  34.8661,2,  34.8671,2,    291.6,2,     5.44,2,    11.56,2,     0.72,2,    5.347,2,    2.377,2,    0.397,2,   2151.6,2,     0.21,2,0.0458688348,2,   0.0545296121
  06AQ19930806,    38,  2,      4,19930905, 78.1433, 133.3867,  869,    752.2,   0.2030,  34.8651,2,  34.8641,2,    291.6,2,     5.34,2,    11.56,2,     0.68,2, -999.000,9, -999.000,9, -999.000,9,   2154.1,2,     0.26,2, 0.045868869,2,    0.169868874
  06AQ19930806,    38,  2,      5,19930905, 78.1433, 133.3867,  869,    701.8,   0.3010,  34.8652,2,  34.8645,2,    290.6,2,     5.64,2,    11.56,2,     0.67,2,    5.271,2,    2.346,2,    0.354,2,   2151.6,2,  -999.00,9,0.0448929322,2,    0.269834892
  06AQ19930806,    38,  2,      6,19930905, 78.1433, 133.3867,  869,    600.8,   0.5820,  34.8707,2,  34.8704,2,    289.6,2,     5.93,2,    11.66,2,     0.67,2,    5.213,2,    2.328,2,    0.406,2,   2149.3,2,     0.26,2,0.0448927484,2,    0.554457606
  06AQ19930806,    38,  2,      7,19930905, 78.1433, 133.3867,  869,    550.0,   0.7490,  34.8728,2,  34.8716,2,    290.6,2,     5.83,2,    11.76,2,     0.72,2,    5.329,2,    2.369,2,    0.369,2,   2148.3,2,     0.20,2,0.0448926783,2,    0.723273619
  06AQ19930806,    38,  2,      8,19930905, 78.1433, 133.3867,  869,    500.4,   0.8110,  34.8668,2,  34.8679,2,    290.6,2,     5.73,2,    11.56,2,     0.70,2,    5.459,2,    2.443,2,    0.322,2,   2144.2,2,     0.31,2,0.0507484717,2,    0.787558316
  06AQ19930806,    38,  2,      9,19930905, 78.1433, 133.3867,  869,    451.5,   0.9590,  34.8685,2,  34.8685,2,    290.6,2,     5.73,2,    11.56,2,     0.70,2,    5.505,2,    2.420,2,    0.387,2,   2145.6,2,     0.23,2, 0.044892822,2,    0.937490369
  06AQ19930806,    38,  2,     10,19930905, 78.1433, 133.3867,  869,    399.8,   1.1280,  34.8736,2,  34.8728,2,    289.6,2,     5.73,2,    11.47,2,     0.68,2, -999.000,9, -999.000,9, -999.000,9,   2142.0,2,  -999.00,9,        -999,9,     1.10857302
  06AQ19930806,    38,  2,     11,19930905, 78.1433, 133.3867,  869,    348.8,   1.4180,  34.8778,2,  34.8779,2,    289.6,2,     5.54,2,    11.47,2,     0.67,2, -999.000,9, -999.000,9, -999.000,9,   2143.0,2,  -999.00,9,0.0468443595,2,     1.40036911
  06AQ19930806,    38,  2,     12,19930905, 78.1433, 133.3867,  869,    298.9,   1.5630,  34.8742,2,  34.8677,2,    290.6,2,     5.54,2,    11.56,2,     0.66,2,    5.450,2,    2.426,2,    0.366,2,   2140.6,2,     0.27,2,0.0439167047,2,     1.54766848
  06AQ19930806,    38,  2,     13,19930905, 78.1433, 133.3867,  869,    248.7,   1.6470,  34.8539,2,  34.8557,2,    287.6,2,     5.35,2,    11.37,2,     0.66,2,    5.395,2,    2.390,2,    0.343,2,   2139.9,2,     0.20,2,0.0439173684,2,     1.63418367
  06AQ19930806,    38,  2,     14,19930905, 78.1433, 133.3867,  869,    202.7,   1.4720,  34.8148,2,  34.8085,2,    287.6,2,     5.25,2,    11.27,2,     0.64,2, -999.000,9, -999.000,9, -999.000,9,   2135.0,2,  -999.00,9,0.0409907369,2,     1.46194396
  06AQ19930806,    38,  2,     15,19930905, 78.1433, 133.3867,  869,    172.3,   1.1750,  34.7425,2,  34.7628,2,    287.6,2,     5.05,2,    10.89,2,     0.62,2,    5.532,2,    2.447,2,    0.389,2,   2135.9,2,     0.24,2,0.0439210106,2,     1.16693617
  06AQ19930806,    38,  2,     16,19930905, 78.1433, 133.3867,  869,    149.4,   0.6540,  34.6693,2,  34.6674,2,    291.6,2,     4.86,2,    10.30,2,     0.59,2, -999.000,9, -999.000,9, -999.000,9,   2135.9,2,  -999.00,9, 0.043923404,2,    0.647714868
  06AQ19930806,    38,  2,     17,19930905, 78.1433, 133.3867,  869,    122.7,  -0.0690,  34.5454,2,  34.5996,2,    291.6,2,     4.76,2,     9.82,2,     0.57,2,    5.962,2,    2.653,2,    0.396,2,   2137.6,2,     0.08,2,0.0449036213,2,  -0.0733668279
  06AQ19930806,    38,  2,     18,19930905, 78.1433, 133.3867,  869,    107.9,  -0.4830,  34.4782,2,  34.5217,2,    295.6,2,     4.47,2,     9.23,2,     0.53,2,    6.326,2,    2.754,2,    0.531,2,   2135.7,2,     0.09,2,0.0449058678,2,   -0.486427855
  06AQ19930806,    38,  2,     19,19930905, 78.1433, 133.3867,  869,     59.8,  -1.7950,  34.0202,2,  34.0510,2,    324.4,2,  -999.00,9,  -999.00,9,  -999.00,9,    6.904,2,    3.092,2,    0.519,2,   2115.1,2,    -0.39,2,0.0449211827,2,    -1.79613629
  06AQ19930806,    38,  2,     20,19930905, 78.1433, 133.3867,  869,     49.8,  -1.8100,  33.9667,2,  34.0018,2,    324.4,2,     3.01,2,     6.03,2,     0.37,2, -999.000,9, -999.000,9, -999.000,9,   2115.4,2,  -999.00,9,        -999,9,    -1.81092993
  06AQ19930806,    38,  2,     21,19930905, 78.1433, 133.3867,  869,     31.7,  -1.3760,  32.6532,2,  33.1843,2,    335.5,2,  -999.00,9,  -999.00,9,  -999.00,9,    7.452,2,    3.333,2,    0.602,2,   2083.2,2,    -0.86,2,0.0469220173,2,    -1.37665649
  06AQ19930806,    38,  2,     22,19930905, 78.1433, 133.3867,  869,     31.7,  -1.3730,  32.6463,2,  33.2490,2,    338.5,2,     2.14,2,     3.41,2,     0.23,2, -999.000,9, -999.000,9, -999.000,9,   2087.4,2,  -999.00,9,        -999,9,    -1.37366132
  06AQ19930806,    38,  2,     23,19930905, 78.1433, 133.3867,  869,     17.6,  -1.3610,  32.6119,2,  32.6097,2,    362.4,2,     0.29,2,     0.10,2,     0.07,2,    7.779,2,    3.396,2,    0.690,2,   2032.3,2,    -1.09,2,0.0449683164,2,    -1.36134464
  06AQ19930806,    38,  2,     24,19930905, 78.1433, 133.3867,  869,      8.6,  -1.3550,  32.4983,2,  32.5564,2,    361.4,2,     0.97,2,     0.39,2,     0.10,2,    7.825,2,    3.434,2,    0.806,2,   2036.5,2,    -1.06,2,0.0449721212,2,     -1.3551672
  06AQ19930806,    39,  1,      0,19930905, 78.1000, 133.5200,  538,      0.0,-999.0000,-999.0000,9,  32.0577,2,   -999.0,9,  -999.00,9,  -999.00,9,  -999.00,9, -999.000,9, -999.000,9, -999.000,9,   2021.1,2,  -999.00,9,        -999,9,           -999
  06AQ19930806,    39,  1,      1,19930905, 78.1000, 133.5200,  538,    527.5,   0.6775,  34.8703,2,  34.8689,2,    281.7,2,     5.83,2,    11.47,2,     0.69,2,    5.337,2,    2.419,2,    0.345,2,   2147.5,2,     0.20,2,0.0439168322,2,    0.653243365
  06AQ19930806,    39,  1,      2,19930905, 78.1000, 133.5200,  538,    516.5,   0.6910,  34.8741,2,  34.8718,2,    288.6,2,     5.93,2,    11.47,2,     0.69,2, -999.000,9, -999.000,9, -999.000,9,   2152.1,2,  -999.00,9,0.0487963422,2,     0.66723875
  06AQ19930806,    39,  1,      3,19930905, 78.1000, 133.5200,  538,    427.5,   1.1208,  34.8728,2,  34.8734,2,    281.7,2,     5.73,2,    11.37,2,     0.69,2,    5.430,2,    2.422,2,    0.316,2,   2138.8,2,     0.23,2,0.0419648949,2,     1.09994941
  06AQ19930806,    39,  1,      4,19930905, 78.1000, 133.5200,  538,    350.6,   1.3745,  34.8786,2,  34.8795,2,    280.7,2,     5.54,2,    11.37,2,     0.69,2,    5.405,2,    2.426,2,    0.345,2,   2140.6,2,     0.27,2,0.0478202552,2,     1.35689705
  06AQ19930806,    39,  1,      6,19930905, 78.1000, 133.5200,  538,    302.1,   1.5420,  34.8762,2,  34.8760,2,    279.7,2,     5.44,2,    11.37,2,     0.69,2,    5.412,2,    2.423,2,    0.341,2,   2139.2,2,  -999.00,9,0.0448925646,2,     1.52654368
  06AQ19930806,    39,  1,      7,19930905, 78.1000, 133.5200,  538,    249.9,   1.6425,  34.8650,2,  34.8643,2,    279.7,2,     5.35,2,    11.37,2,     0.69,2, -999.000,9, -999.000,9, -999.000,9,   2140.4,2,  -999.00,9,        -999,9,     1.62962464
  06AQ19930806,    39,  1,      8,19930905, 78.1000, 133.5200,  538,    199.1,   1.5775,  34.8291,2,  34.8285,2,    278.7,2,  -999.00,9,  -999.00,9,  -999.00,9,    5.408,2,    2.434,2,    0.350,2,   2135.0,2,     0.16,2,        -999,9,     1.56744802
  06AQ19930806,    39,  1,     11,19930905, 78.1000, 133.5200,  538,    147.8,   0.7729,  34.6810,2,  34.6889,2,    281.7,2,     4.86,2,    10.30,2,     0.61,2, -999.000,9, -999.000,9, -999.000,9,   2132.6,2,  -999.00,9,0.0429469543,2,    0.766530979
  06AQ19930806,    39,  1,     12,19930905, 78.1000, 133.5200,  538,     99.1,  -1.3177,  34.2849,2,  34.3006,2,    296.6,2,     3.69,2,     7.73,2,     0.49,2,    6.514,2,    2.884,2,    0.426,2,   2128.7,2,    -0.19,2,0.0439359757,2,    -1.32008343
  06AQ19930806,    39,  1,     15,19930905, 78.1000, 133.5200,  538,     73.3,  -1.4837,  34.0618,2,  34.1099,2,    293.7,2,     5.06,2,     7.19,2,     0.52,2,    6.853,2,    3.073,2,    0.488,2,   2139.0,2,    -0.37,2, 0.042966757,2,    -1.48531112
  06AQ19930806,    39,  1,     16,19930905, 78.1000, 133.5200,  538,     49.1,  -1.5985,  33.8053,2,  33.8074,2,    289.8,2,     6.13,2,     4.28,2,     0.53,2,    7.056,2,    3.107,2,    0.557,2,   2147.1,2,  -999.00,9,0.0459050747,2,    -1.59948909
  06AQ19930806,    39,  1,     20,19930905, 78.1000, 133.5200,  538,     19.2,  -1.2240,  32.0772,2,  32.6734,2,    326.8,2,     0.97,2,     1.56,2,     0.18,2, -999.000,9, -999.000,9, -999.000,9,   2061.3,2,  -999.00,9,0.0449862288,2,     -1.2244018
  06AQ19930806,    39,  1,     22,19930905, 78.1000, 133.5200,  538,     11.2,  -1.2093,  32.0654,2,  32.0558,2,    354.7,2,     0.19,2,     0.10,2,     0.06,2,    7.793,2,    3.444,2,    0.778,2,   2013.1,2,    -1.29,2,0.0400967738,2,    -1.20952151
  06AQ19930806,    40,  1,      0,19930905, 78.0733, 133.5533,  215,      0.0,-999.0000,-999.0000,9,  32.2042,2,   -999.0,9,  -999.00,9,  -999.00,9,  -999.00,9, -999.000,9, -999.000,9, -999.000,9,   2028.7,2,  -999.00,9,        -999,9,           -999
  06AQ19930806,    40,  1,      2,19930905, 78.0733, 133.5533,  215,    210.2,   1.4443,  34.8496,2,  34.8496,2,    280.7,2,     5.35,2,    10.98,2,     0.75,2,    5.534,2,    2.449,2,    0.391,2,   2140.2,2,     0.27,2,0.0429415643,2,      1.4338907
  06AQ19930806,    40,  1,      3,19930905, 78.0733, 133.5533,  215,    202.0,   1.4470,  34.8460,2,  34.8484,2,    280.7,2,     5.25,2,    10.98,2,     0.74,2, -999.000,9, -999.000,9, -999.000,9,   2139.0,2,  -999.00,9,0.0429416794,2,     1.43700698
  06AQ19930806,    40,  1,      6,19930905, 78.0733, 133.5533,  215,    175.2,   1.2870,  34.7966,2,  34.8031,2,    280.7,2,     4.96,2,    10.79,2,     0.72,2,    5.588,2,    2.501,2,    0.381,2,   2138.8,2,     0.20,2,0.0409912923,2,     1.27862009
  06AQ19930806,    40,  1,      7,19930905, 78.0733, 133.5533,  215,    150.2,   0.9608,  34.7156,2,  34.7258,2,    280.7,2,     4.76,2,    10.20,2,     0.68,2,    5.715,2,    2.581,2,    0.358,2,   2137.7,2,  -999.00,9,0.0448979321,2,    0.954077985
  06AQ19930806,    40,  1,     10,19930905, 78.0733, 133.5533,  215,    124.9,  -0.0823,  34.5326,2,  34.5343,2,    289.7,2,     4.08,2,     8.94,2,     0.62,2, -999.000,9, -999.000,9, -999.000,9,   2132.4,2,     0.00,2,0.0429516992,2,  -0.0867181232
  06AQ19930806,    40,  1,     11,19930905, 78.0733, 133.5533,  215,    100.6,  -0.9413,  34.3794,2,  34.4257,2,    293.6,2,     3.79,2,     8.26,2,     0.58,2,    6.423,2,    2.809,2,    0.392,2,   2134.6,2,  -999.00,9,0.0429565983,2,   -0.944073654
  06AQ19930806,    40,  1,     14,19930905, 78.0733, 133.5533,  215,     74.9,  -1.4776,  34.0720,2,  34.1444,2,    292.7,2,     5.06,2,     7.39,2,     0.58,2,    6.822,2,    3.041,2,    0.428,2,   2142.2,2,    -0.35,2,0.0449194502,2,    -1.47925649
  06AQ19930806,    40,  1,     15,19930905, 78.0733, 133.5533,  215,     49.5,  -1.5832,  33.6616,2,  33.6641,2,    286.9,2,     3.21,2,     5.35,2,     0.53,2,    7.140,2,    3.249,2,    0.569,2,   2143.7,2,  -999.00,9,0.0468867949,2,    -1.58419011
  06AQ19930806,    40,  1,     16,19930905, 78.0733, 133.5533,  215,     49.5,  -1.5830,  33.6613,2,  33.6625,2,   -999.0,9,  -999.00,9,  -999.00,9,  -999.00,9,    7.155,2,    3.183,2,    0.535,2,   -999.0,9,    -0.63,2,        -999,9,    -1.58399004
  06AQ19930806,    40,  1,     20,19930905, 78.0733, 133.5533,  215,     25.5,  -1.3297,  32.4828,2,  32.9749,2,    313.8,2,     0.68,2,     2.24,2,     0.25,2,    7.580,2,    3.622,2,    0.663,2,   2085.3,2,  -999.00,9,0.0459503065,2,     -1.3302265
  06AQ19930806,    40,  1,     22,19930905, 78.0733, 133.5533,  215,     15.3,  -1.1867,  32.3118,2,  32.5579,2,    340.6,2,     0.10,2,     0.49,2,     0.12,2,    7.725,2,    3.450,2,    0.655,2,   2046.3,2,    -1.04,2,0.0420449967,2,    -1.18702118
  06AQ19930806,    41,  1,      0,19930906, 77.9017, 133.5583,   72,      0.0,-999.0000,-999.0000,9,  31.8313,2,   -999.0,9,  -999.00,9,  -999.00,9,  -999.00,9, -999.000,9, -999.000,9, -999.000,9,   2019.7,2,  -999.00,9,        -999,9,           -999
  06AQ19930806,    41,  1,      1,19930906, 77.9017, 133.5583,   72,     67.8,  -1.3493,  33.9269,2,  33.9165,2,    308.6,2,     4.96,2,     6.61,2,     0.58,2,    6.874,2,    3.047,2,    0.469,2,   2151.8,2,    -0.45,2,        -999,9,    -1.35084065
  06AQ19930806,    41,  1,      3,19930906, 77.9017, 133.5583,   72,     67.7,  -1.3482,  33.9304,2,  33.9220,2,    309.6,2,     5.15,2,     6.71,2,     0.59,2, -999.000,9, -999.000,9, -999.000,9,   2149.8,2,  -999.00,9,        -999,9,    -1.34973968
  06AQ19930806,    41,  1,      4,19930906, 77.9017, 133.5583,   72,     67.7,  -1.3479,  33.9298,2,  33.9298,2,    309.6,2,     5.06,2,     6.71,2,     0.58,2, -999.000,9, -999.000,9, -999.000,9,   2148.1,2,  -999.00,9,        -999,9,    -1.34944089
  06AQ19930806,    41,  1,      5,19930906, 77.9017, 133.5583,   72,     60.0,  -1.3709,  33.9177,2,  33.9064,2,    309.6,2,     4.08,2,     6.61,2,     0.57,2,    6.873,2,    3.056,2,    0.474,2,   2146.6,2,  -999.00,9, 0.048831099,2,    -1.37224633
  06AQ19930806,    41,  1,      7,19930906, 77.9017, 133.5583,   72,     54.6,  -1.4833,  33.8118,2,  33.8299,2,   -999.0,9,  -999.00,9,  -999.00,9,  -999.00,9, -999.000,9, -999.000,9, -999.000,9,   -999.0,9,  -999.00,9,        -999,9,    -1.48446042
  06AQ19930806,    41,  1,      8,19930906, 77.9017, 133.5583,   72,     49.3,  -1.5256,  33.7602,2,  33.7900,2,    309.6,2,     3.99,2,     5.83,2,     0.53,2,    6.996,2,    3.124,2,    0.494,2,   2150.9,2,    -0.65,2,0.0478600893,2,    -1.52662308
  06AQ19930806,    41,  1,     10,19930906, 77.9017, 133.5583,   72,     44.2,  -1.5421,  33.7227,2,  33.7675,2,   -999.0,9,  -999.00,9,  -999.00,9,  -999.00,9, -999.000,9, -999.000,9, -999.000,9,   -999.0,9,  -999.00,9,0.0468846618,2,    -1.54300668
  06AQ19930806,    41,  1,     11,19930906, 77.9017, 133.5583,   72,     39.5,  -1.5728,  33.6883,2,-999.0000,9,   -999.0,9,  -999.00,9,  -999.00,9,  -999.00,9,    7.066,2,    3.147,2,    0.535,2,   2147.2,2,  -999.00,9,0.0488394404,2,    -1.57359166
  06AQ19930806,    41,  1,     12,19930906, 77.9017, 133.5583,   72,     39.5,  -1.5754,  33.6798,2,  33.7234,2,   -999.0,9,  -999.00,9,  -999.00,9,  -999.00,9, -999.000,9, -999.000,9, -999.000,9,   -999.0,9,  -999.00,9,        -999,9,    -1.57619347
  06AQ19930806,    41,  1,     13,19930906, 77.9017, 133.5583,   72,     34.2,  -1.5835,  33.6654,2,  33.6982,2,   -999.0,9,  -999.00,9,  -999.00,9,  -999.00,9, -999.000,9, -999.000,9, -999.000,9,   -999.0,9,  -999.00,9,0.0478634677,2,    -1.58418109
  06AQ19930806,    41,  1,     14,19930906, 77.9017, 133.5583,   72,     29.4,  -1.5936,  33.6404,2,  33.6813,2,    307.7,2,     3.21,2,     5.45,2,     0.50,2, -999.000,9, -999.000,9, -999.000,9,   2147.2,2,  -999.00,9,0.0478643587,2,    -1.59418052
  06AQ19930806,    41,  1,     16,19930906, 77.9017, 133.5583,   72,     24.0,  -1.5807,  33.5413,2,  33.6269,2,    309.7,2,     3.02,2,     4.96,2,     0.50,2,    7.109,2,    3.234,2,    0.599,2,   2143.0,2,    -0.69,2,        -999,9,    -1.58117278
  06AQ19930806,    41,  1,     17,19930906, 77.9017, 133.5583,   72,     19.0,  -1.4982,  33.1847,2,-999.0000,9,   -999.0,9,  -999.00,9,  -999.00,9,  -999.00,9,    7.411,2,    3.308,2, -999.000,9,   2134.1,2,  -999.00,9,0.0488577586,2,    -1.49857069
  06AQ19930806,    41,  1,     19,19930906, 77.9017, 133.5583,   72,     14.8,  -1.3891,  32.2674,2,-999.0000,9,   -999.0,9,  -999.00,9,  -999.00,9,  -999.00,9, -999.000,9, -999.000,9, -999.000,9,   -999.0,9,  -999.00,9,        -999,9,    -1.38937585
  06AQ19930806,    41,  1,     20,19930906, 77.9017, 133.5583,   72,     14.7,  -1.3876,  32.2562,2,-999.0000,9,   -999.0,9,  -999.00,9,  -999.00,9,  -999.00,9, -999.000,9, -999.000,9, -999.000,9,   2070.0,2,  -999.00,9,        -999,9,    -1.38787385
  06AQ19930806,    41,  1,     21,19930906, 77.9017, 133.5583,   72,     11.4,  -1.3664,  32.0168,2,-999.0000,9,   -999.0,9,  -999.00,9,  -999.00,9,  -999.00,9, -999.000,9, -999.000,9, -999.000,9,   -999.0,9,  -999.00,9,0.0391202198,2,    -1.36660881
  06AQ19930806,    41,  1,     22,19930906, 77.9017, 133.5583,   72,      9.1,  -1.4548,  31.4132,2,  31.4132,2,    307.7,2,  -999.00,9,  -999.00,9,     0.14,2,    7.825,2,    3.528,2,    0.772,2,   1997.1,2,    -1.75,2,0.0410947044,2,    -1.45494862
  06AQ19930806,    41,  1,     24,19930906, 77.9017, 133.5583,   72,      2.0,  -1.3421,  31.1341,2,-999.0000,9,   -999.0,9,  -999.00,9,  -999.00,9,  -999.00,9, -999.000,9, -999.000,9, -999.000,9,   -999.0,9,  -999.00,9,0.0430605478,2,    -1.34213343