BOTTLE,20081119PRINUNIVRMK
EXPOCODE,STNNBR,CASTNO,BTLNBR,DATE,LATITUDE,LONGITUDE,DEPTH,CTDPRS,CTDTMP,CTDSAL,CTDSAL_FLAG_W,SALNTY,SALNTY_FLAG_W,OXYGEN,OXYGEN_FLAG_W,SILCAT,SILCAT_FLAG_W,NITRAT,NITRAT_FLAG_W,PHSPHT,PHSPHT_FLAG_W,CFC-11,CFC-11_FLAG_W,CFC-12,CFC-12_FLAG_W,CFC113,CFC113_FLAG_W,TCARBN,TCARBN_FLAG_W,DELO18,DELO18_FLAG_W,BARIUM,BARIUM_FLAG_W,THETA
,,,,,,,METERS,DBARS,ITS-90,PSS-78,,PSS-78,,UMOL/KG,,UMOL/KG,,UMOL/KG,,UMOL/KG,,PMOL/KG,,PMOL/KG,,PMOL/KG,,UMOL/KG,,O/OO,,UM/KG,,DEGC
  06AQ19930806,    14,  2,      1,19930814, 81.6800,  30.3133, 2785,   2780.1,  -0.7824,  34.9305,2,  34.9311,2,    279.8,2,    11.66,2,    13.80,2,     0.97,2,    0.215,2,    0.111,2,    0.024,2,   2152.0,2,     0.26,2,        -999,9,   -0.932089965
  06AQ19930806,    14,  2,      2,19930814, 81.6800,  30.3133, 2785,   2550.5,  -0.7939,  34.9255,2,  34.9250,2,    280.8,2,    10.69,2,    13.60,2,     0.97,2, -999.000,9, -999.000,9, -999.000,9,   2155.7,2,     0.26,2,        -999,9,   -0.926026269
  06AQ19930806,    14,  2,      3,19930814, 81.6800,  30.3133, 2785,   2500.5,  -0.7997,  34.9234,2,  34.9232,2,    284.7,2,     9.72,3,    11.95,2,     0.87,2,    0.338,2,    0.169,2,    0.000,2,   2159.7,2,     0.24,2,0.0468427694,2,   -0.928052319
  06AQ19930806,    14,  2,      4,19930814, 81.6800,  30.3133, 2785,   2449.0,  -0.8036,  34.9225,2,  34.9224,2,    284.7,2,    11.66,2,    13.70,2,     0.97,2, -999.000,9, -999.000,9, -999.000,9,   2158.9,2,     0.22,2,        -999,9,   -0.928155653
  06AQ19930806,    14,  2,      5,19930814, 81.6800,  30.3133, 2785,   2249.3,  -0.8075,  34.9201,2,  34.9199,2,    284.7,2,    11.17,2,    13.70,2,     0.97,2, -999.000,9, -999.000,9, -999.000,9,   2156.8,2,     0.24,2,0.0478187779,2,   -0.917967411
  06AQ19930806,    14,  2,      6,19930814, 81.6800,  30.3133, 2785,   2100.8,  -0.8084,  34.9186,2,  34.9195,2,    282.7,2,    11.66,2,    13.80,2,     0.97,2,    0.501,2,    0.230,2,    0.000,2,   2157.0,2,     0.26,2,        -999,9,   -0.908860477
  06AQ19930806,    14,  2,      7,19930814, 81.6800,  30.3133, 2785,   1899.8,  -0.8015,  34.9148,2,  34.9118,2,    284.7,2,     9.72,3,    12.34,2,     0.87,2,    0.629,2,    0.288,2,    0.020,2,   2157.8,2,     0.23,2,0.0478189665,2,   -0.889098546
  06AQ19930806,    14,  2,      8,19930814, 81.6800,  30.3133, 2785,   1700.1,  -0.7903,  34.9134,2,  34.9128,2,    284.7,2,    11.17,2,    13.80,2,     0.97,2,    0.732,2,    0.340,2,    0.006,2,   2162.7,2,     0.21,2,        -999,9,    -0.86586137
  06AQ19930806,    14,  2,      9,19930814, 81.6800,  30.3133, 2785,   1499.8,  -0.7522,  34.9122,2,  34.9134,2,    283.7,2,    10.69,2,    13.89,2,     0.97,2,    0.823,2,    0.389,2,    0.026,2,   2157.3,2,     0.16,2,0.0536744541,4,   -0.816658971
  06AQ19930806,    14,  2,     10,19930814, 81.6800,  30.3133, 2785,   1300.0,  -0.6818,  34.9105,2,  34.9098,2,    283.7,2,    10.69,2,    13.89,2,     0.97,2,    1.073,2,    0.492,2,    0.105,2,   2161.6,2,     0.18,2,        -999,9,   -0.736088896
  06AQ19930806,    14,  2,     11,19930814, 81.6800,  30.3133, 2785,   1099.8,  -0.5065,  34.9103,2,  34.9102,2,    284.7,2,     9.72,2,    13.21,2,     0.87,2, -999.000,9, -999.000,9, -999.000,9,   2156.5,2,     0.21,2,0.0458673256,2,   -0.552032287
  06AQ19930806,    14,  2,     12,19930814, 81.6800,  30.3133, 2785,    899.6,  -0.1391,  34.9090,2,  34.9104,2,    285.7,2,     8.74,2,    13.02,2,     0.87,2,    2.024,2,    0.922,2,    0.102,2,   2158.3,2,     0.26,2,  0.04586737,2,   -0.177446786
  06AQ19930806,    14,  2,     13,19930814, 81.6800,  30.3133, 2785,    700.4,   0.6625,  34.9222,2,  34.9234,2,    287.6,2,     6.80,2,    12.34,2,     0.87,2, -999.000,9, -999.000,9, -999.000,9,   2149.6,2,     0.28,2,        -999,9,    0.629251086
  06AQ19930806,    14,  2,     14,19930814, 81.6800,  30.3133, 2785,    499.8,   1.8411,  34.9671,2,  34.9673,2,    290.6,2,     5.83,2,    11.95,2,     0.78,2,    4.477,2,    2.097,2,    0.389,2,   2143.6,2,     0.32,2,0.0429378084,2,     1.81339078
  06AQ19930806,    14,  2,     15,19930814, 81.6800,  30.3133, 2785,    349.5,   2.4640,  34.9826,2,  34.9825,2,    291.5,2,     5.83,2,    11.66,2,     0.78,2,    5.160,2,    2.425,2,    0.446,2,   2137.4,2,     0.25,2, 0.043913161,2,     2.44328722
  06AQ19930806,    14,  2,     16,19930814, 81.6800,  30.3133, 2785,    250.6,   2.5438,  34.9472,2,  34.9453,2,    291.6,2,     5.35,2,    11.37,2,     0.78,2,    5.341,2,    2.496,2,    0.427,2,   2136.4,2,     0.22,2,0.0439143183,2,     2.52900658
  06AQ19930806,    14,  2,     17,19930814, 81.6800,  30.3133, 2785,    149.5,   1.6166,  34.7590,2,  34.7911,2,    295.5,2,     4.86,2,    10.59,2,     0.78,2,    5.290,2,    2.467,2,    0.381,2,   2127.8,2,     0.23,2,0.0429444606,2,     1.60907769
  06AQ19930806,    14,  2,     18,19930814, 81.6800,  30.3133, 2785,     99.7,  -0.0986,  34.5572,2,  34.4813,2,    301.3,2,     4.86,2,     9.72,2,     0.68,2,    5.064,2,    2.342,2,    0.331,2,   2121.3,2,  -999.00,9,0.0458793839,2,    -0.10207968
  06AQ19930806,    14,  2,     19,19930814, 81.6800,  30.3133, 2785,     74.6,  -0.3133,  34.2808,2,  34.2892,2,    310.1,2,     2.92,2,     7.29,2,     0.58,2, -999.000,9, -999.000,9, -999.000,9,   2095.1,2,     0.18,2,0.0439361098,2,   -0.315722165
  06AQ19930806,    14,  2,     20,19930814, 81.6800,  30.3133, 2785,     50.5,  -1.5609,  33.8525,2,  34.0563,2,    316.0,2,     3.89,2,     8.26,2,     0.68,2,    6.026,2,    2.788,2,    0.491,2,   2081.5,2,     0.13,2,        -999,9,    -1.56195924
  06AQ19930806,    14,  2,     21,19930814, 81.6800,  30.3133, 2785,     25.4,  -1.6904,  33.6403,2,  33.6876,2,    327.8,2,     3.89,2,     7.20,2,     0.58,2, -999.000,9, -999.000,9, -999.000,9,   2055.8,2,     0.00,2,        -999,9,    -1.69087921
  06AQ19930806,    14,  2,     22,19930814, 81.6800,  30.3133, 2785,     14.9,  -1.6801,  33.2715,2,  33.1326,2,    360.0,2,     1.95,2,     4.18,2,     0.39,2,    6.003,2,    2.806,2,    0.506,2,   1993.5,2,  -999.00,9,        -999,9,    -1.68036467
  06AQ19930806,    14,  2,     23,19930814, 81.6800,  30.3133, 2785,     11.2,  -1.6749,  32.9872,2,  33.0213,2,    367.8,2,     1.95,2,     3.31,2,     0.29,2, -999.000,9, -999.000,9, -999.000,9,   1978.0,2,  -999.00,9,0.0420238527,2,     -1.6750966
  06AQ19930806,    14,  2,     24,19930814, 81.6800,  30.3133, 2785,      6.0,  -1.6758,  32.9872,2,  32.9673,2,    371.7,2,     1.95,2,     2.92,2,     0.29,2, -999.000,9, -999.000,9, -999.000,9,   1973.0,2,    -0.05,2,        -999,9,    -1.67590433
  06AQ19930806,    15,  1,      1,19930814, 81.7300,  30.3767, 2971,   2964.4,  -0.7711,  34.9338,2,  34.9313,2,    284.7,2,    11.66,2,    13.70,2,     0.97,2,    0.154,2,    0.080,2,    0.000,2,   2154.3,2,     0.19,2,0.0487941737,2,   -0.935540966
  06AQ19930806,    15,  1,      2,19930814, 81.7300,  30.3767, 2971,   2910.5,  -0.7750,  34.9320,2,  34.9305,2,    278.8,2,    11.66,2,    13.80,2,     0.97,2,    0.177,2,    0.098,2,    0.000,2,   2152.0,2,     0.22,2, 0.048794239,2,   -0.935052172
  06AQ19930806,    15,  1,      3,19930814, 81.7300,  30.3767, 2971,   2850.8,  -0.7789,  34.9307,2,  34.9297,2,    276.9,2,    11.66,2,    13.80,2,     0.97,2,    0.209,2,    0.122,2,    0.000,2,   2150.8,2,     0.22,2,        -999,9,   -0.934156995
  06AQ19930806,    15,  1,      4,19930814, 81.7300,  30.3767, 2971,   2850.9,  -0.7791,  34.9310,2,  34.9285,2,   -999.0,9,  -999.00,9,  -999.00,9,  -999.00,9, -999.000,9, -999.000,9, -999.000,9,   -999.0,9,  -999.00,9,0.0487942754,2,   -0.934354508
  06AQ19930806,    15,  1,      5,19930814, 81.7300,  30.3767, 2971,   2800.9,  -0.7821,  34.9292,2,  34.9283,2,    277.9,2,    11.66,2,    13.80,2,     0.97,2,    0.239,2,    0.133,2,    0.013,2,   2136.9,3,     0.19,2,0.0487943408,2,      -0.933392
  06AQ19930806,    15,  1,      6,19930814, 81.7300,  30.3767, 2971,   2800.9,  -0.7822,  34.9292,2,  34.9293,2,    277.9,2,    11.66,2,    13.80,2,     0.97,2,    0.239,2,    0.133,2,    0.013,2,   2152.5,2,     0.19,2,0.0487943408,2,   -0.933494757
  06AQ19930806,    15,  1,      7,19930814, 81.7300,  30.3767, 2971,   2600.4,  -0.7948,  34.9274,2,  34.9269,2,    279.8,2,    11.66,2,    13.89,2,     1.07,2,    0.267,2,    0.152,2,    0.004,2,   2151.9,2,     0.19,2,0.0487944061,2,   -0.930603168
  06AQ19930806,    15,  1,      8,19930814, 81.7300,  30.3767, 2971,   2199.2,  -0.8009,  34.9218,2,  34.9208,2,    280.8,2,    11.66,2,    13.89,2,     0.97,2,    0.405,2,    0.213,2,    0.000,2,   2154.9,2,  -999.00,9,0.0478187174,2,   -0.908073819
  06AQ19930806,    15,  1,      9,19930814, 81.7300,  30.3767, 2971,   1950.5,  -0.8117,  34.9155,2,  34.9149,2,    278.9,2,    11.66,2,    13.70,2,     1.07,2,    0.580,2,    0.281,2,    0.015,2,   2154.6,2,     0.20,2,        -999,9,   -0.902353889
  06AQ19930806,    15,  1,     10,19930814, 81.7300,  30.3767, 2971,   1699.9,  -0.7791,  34.9143,2,  34.9143,2,    281.8,2,    11.17,2,    13.89,2,     0.97,2,    0.668,2,    0.324,2,    0.000,2,   -999.0,9,     0.21,2,0.0478189843,2,   -0.854806776
  06AQ19930806,    15,  1,     11,19930814, 81.7300,  30.3767, 2971,   1449.9,  -0.7119,  34.9132,2,  34.9112,2,    280.8,2,    10.69,2,    13.70,2,     0.97,2,    0.823,2,    0.391,2,    0.019,2,   2158.3,2,     0.26,2,        -999,9,   -0.774037613
  06AQ19930806,    15,  1,     12,19930814, 81.7300,  30.3767, 2971,   1200.3,  -0.5591,  34.9104,2,  34.9092,2,    281.8,2,     9.72,2,    12.53,2,     0.97,2, -999.000,9, -999.000,9, -999.000,9,   2156.3,2,  -999.00,9,        -999,9,   -0.609354618
  06AQ19930806,    15,  1,     13,19930814, 81.7300,  30.3767, 2971,    950.5,  -0.2448,  34.9104,2,  34.9094,2,    282.8,2,     7.77,2,    12.73,2,     0.87,2,    1.299,2,    0.622,2,    0.053,2,   2150.1,2,     0.19,2,        -999,9,   -0.284920843
  06AQ19930806,    15,  1,     14,19930814, 81.7300,  30.3767, 2971,    700.6,   0.7114,  34.9234,2,  34.9285,2,    285.7,2,     6.80,2,    12.44,2,     0.87,2, -999.000,9, -999.000,9, -999.000,9,   2148.0,2,  -999.00,9,0.0439150963,2,    0.677853479
  06AQ19930806,    15,  1,     15,19930814, 81.7300,  30.3767, 2971,    450.1,   2.1662,  34.9771,2,  34.9764,2,    288.6,2,     5.83,2,    11.86,2,     0.78,2, -999.000,9, -999.000,9, -999.000,9,   2138.1,2,  -999.00,9,0.0429374888,2,      2.1402404
  06AQ19930806,    15,  1,     16,19930814, 81.7300,  30.3767, 2971,    350.6,   2.5620,  34.9849,2,  34.9835,2,    289.6,2,     4.86,2,    11.66,2,     0.78,2,    5.138,2,    2.423,2,    0.409,2,   2134.3,2,     0.26,2,        -999,9,      2.5409408
  06AQ19930806,    15,  1,     17,19930814, 81.7300,  30.3767, 2971,    250.5,   2.4724,  34.9355,2,  34.9413,2,    289.6,2,     4.86,2,    11.27,2,     0.78,2, -999.000,9, -999.000,9, -999.000,9,   2135.7,2,  -999.00,9,0.0429388185,2,     2.45775954
  06AQ19930806,    15,  1,     18,19930814, 81.7300,  30.3767, 2971,    149.7,   1.4535,  34.7145,2,  34.7809,2,    293.5,2,     4.86,2,    10.50,2,     0.68,2, -999.000,9, -999.000,9, -999.000,9,   2127.1,2,  -999.00,9,        -999,9,     1.44617222
  06AQ19930806,    15,  1,     19,19930814, 81.7300,  30.3767, 2971,    100.6,  -0.0824,  34.3798,2,  34.4282,2,    301.3,2,     4.37,2,     9.23,2,     0.68,2,    5.527,2,    2.630,2,    0.438,2,   2140.3,2,     0.08,2,0.0429565855,2,  -0.0859157211
  06AQ19930806,    15,  1,     20,19930814, 81.7300,  30.3767, 2971,     75.0,  -1.5800,  34.1572,2,  34.2266,2,    317.9,2,     4.37,2,     8.94,2,     0.58,2, -999.000,9, -999.000,9, -999.000,9,   2102.8,2,  -999.00,9,0.0439401531,2,    -1.58160366
  06AQ19930806,    15,  1,     21,19930814, 81.7300,  30.3767, 2971,     50.3,  -1.7246,  33.8481,2,  33.8630,2,    331.6,2,     3.89,2,     7.68,2,     0.58,2,    5.933,2,    2.758,2,    0.492,2,   2072.4,2,  -999.00,9,0.0419969214,2,     -1.7255636
  06AQ19930806,    15,  1,     22,19930814, 81.7300,  30.3767, 2971,     24.9,  -1.7000,  33.6630,2,  33.6435,2,    333.6,2,     3.89,2,     7.10,2,     0.58,2, -999.000,9, -999.000,9, -999.000,9,   2051.3,2,  -999.00,9,  0.04200271,2,    -1.70046539
  06AQ19930806,    15,  1,     23,19930814, 81.7300,  30.3767, 2971,     15.0,  -1.6931,  33.3939,2,  33.4964,2,    358.0,2,     3.89,2,     6.32,2,     0.49,2, -999.000,9, -999.000,9, -999.000,9,   2044.3,2,  -999.00,9,0.0420111273,2,    -1.69337546
  06AQ19930806,    15,  1,     24,19930814, 81.7300,  30.3767, 2971,      5.1,  -1.6834,  32.9630,2,  33.0896,2,    361.0,2,     1.95,2,     3.70,2,     0.39,2, -999.000,9, -999.000,9, -999.000,9,   1995.7,2,  -999.00,9,        -999,9,    -1.68348951
  06AQ19930806,    18,  3,      1,19930817, 82.5633,  39.3167, 2621,   2608.8,  -0.7979,  34.9379,2,  34.9384,2,   -999.0,9,  -999.00,9,  -999.00,9,  -999.00,9, -999.000,9,    0.042,2,    0.000,2,   2145.7,2,     0.25,2,0.0497699052,2,   -0.934318062
  06AQ19930806,    18,  3,      2,19930817, 82.5633,  39.3167, 2621,   2608.8,  -0.7976,  34.9377,2,  34.9395,2,    277.9,2,    11.37,2,  -999.00,9,     0.97,2,    0.096,2,    0.028,2,    0.000,2,   -999.0,9,  -999.00,9,        -999,9,    -0.93402915
  06AQ19930806,    18,  3,      3,19930817, 82.5633,  39.3167, 2621,   2551.2,  -0.7976,  34.9330,2,  34.9315,2,    278.9,2,    11.08,2,  -999.00,9,     0.97,2,    0.199,2,    0.084,2,    0.000,2,   2148.3,2,     0.22,2,0.0478183187,2,   -0.929734005
  06AQ19930806,    18,  3,      4,19930817, 82.5633,  39.3167, 2621,   2501.5,  -0.7969,  34.9311,2,  34.9311,2,    278.9,2,    10.98,2,    13.12,2,     0.97,2,    0.277,2,    0.104,2,    0.000,2,   2146.6,2,     0.20,2,0.0478183863,2,   -0.925414148
  06AQ19930806,    18,  3,      5,19930817, 82.5633,  39.3167, 2621,   2451.3,  -0.8000,  34.9289,2,  34.9299,2,    278.9,2,    10.98,2,    12.83,2,     0.97,2,    0.256,2,    0.112,2,    0.000,2,   2144.5,2,     0.22,2,        -999,9,    -0.92482184
  06AQ19930806,    18,  3,      6,19930817, 82.5633,  39.3167, 2621,   2200.2,  -0.8020,  34.9241,2,  34.9236,2,    277.9,2,    10.98,2,    13.02,2,     0.87,2,    0.361,2,    0.162,2,    0.000,2,   2147.7,2,     0.19,2, 0.048794526,2,   -0.909233562
  06AQ19930806,    18,  3,      7,19930817, 82.5633,  39.3167, 2621,   1900.5,  -0.7880,  34.9206,2,  34.9214,2,    279.8,2,    10.88,2,    13.41,2,     0.97,2,    0.478,2,    0.213,2,    0.000,2,   2151.0,2,     0.21,2,0.0487946531,2,   -0.875879374
  06AQ19930806,    18,  3,      8,19930817, 82.5633,  39.3167, 2621,   1700.2,  -0.7621,  34.9182,2,  34.9179,2,    278.9,2,    10.88,2,    13.21,2,     0.97,2,    0.565,2,    0.256,2,    0.000,2,   2148.9,2,     0.24,2,0.0468429507,2,   -0.838067462
  06AQ19930806,    18,  3,      9,19930817, 82.5633,  39.3167, 2621,   1499.7,  -0.7121,  34.9159,2,  34.9177,2,    278.9,2,    10.40,2,    13.12,2,     0.97,2,    0.706,2,    0.317,2,    0.000,2,   2148.2,2,     0.26,2,        -999,9,   -0.777051156
  06AQ19930806,    18,  3,     10,19930817, 82.5633,  39.3167, 2621,   1299.8,  -0.6322,  34.9151,2,  34.9145,2,    279.8,2,    10.10,2,    13.02,2,     0.87,2,    0.861,2,    0.391,2, -999.000,9,   2148.9,2,     0.24,2,  0.04977075,2,   -0.687014433
  06AQ19930806,    18,  3,     11,19930817, 82.5633,  39.3167, 2621,   1100.2,  -0.4399,  34.9122,2,  34.9120,2,    280.8,2,     9.42,2,    12.92,2,     0.87,2,    1.160,2,    0.567,2, -999.000,9,   2147.9,2,     0.25,2,0.0468431599,2,   -0.486056612
  06AQ19930806,    18,  3,     12,19930817, 82.5633,  39.3167, 2621,    900.3,  -0.0987,  34.9124,2,  34.9122,2,    280.8,2,     8.16,2,    12.44,2,     0.87,2,    1.327,2,    0.670,2,    0.024,2,   2144.8,2,     0.23,2,        -999,9,    -0.13738409
  06AQ19930806,    18,  3,     13,19930817, 82.5633,  39.3167, 2621,    749.7,   0.3281,  34.9150,2,  34.9151,2,    280.8,2,     7.00,2,    12.05,2,     0.87,2,    1.976,2,    0.904,2,    0.066,2,   2140.3,2,     0.24,2,0.0712404905,4,    0.294254298
  06AQ19930806,    18,  3,     14,19930817, 82.5633,  39.3167, 2621,    600.3,   0.9215,  34.9305,2,  34.9281,2,    283.7,2,     6.61,2,    11.56,2,     0.87,2,    3.142,2,    1.457,2,    0.160,2,   2139.1,2,     0.28,2,0.0439148642,2,    0.892246243
  06AQ19930806,    18,  3,     15,19930817, 82.5633,  39.3167, 2621,    450.0,   1.5849,  34.9414,2,  34.9407,2,    284.7,2,     5.93,2,    11.86,2,     0.78,2,    4.012,2,    1.865,2,    0.225,2,   2138.4,2,     0.23,2,0.0429386299,2,     1.56109952
  06AQ19930806,    18,  3,     16,19930817, 82.5633,  39.3167, 2621,    350.2,   2.0350,  34.9489,2,  34.9482,2,    284.7,2,     5.73,2,    11.18,2,     0.78,2,    4.630,2,    2.180,2,    0.260,2,   2129.6,2,     0.23,2,0.0429383902,2,     2.01548322
  06AQ19930806,    18,  3,     17,19930817, 82.5633,  39.3167, 2621,    250.3,   2.1251,  34.9051,2,  34.9075,2,    284.7,2,     5.64,2,    11.27,2,     0.78,2,    4.665,2,    2.157,2,    0.265,2,   2127.9,2,     0.25,2,        -999,9,     2.11119416
  06AQ19930806,    18,  3,     18,19930817, 82.5633,  39.3167, 2621,    150.3,   1.5265,  34.7225,2,  34.7538,2,    284.7,2,     5.35,2,    10.30,2,     0.78,2,    4.678,2,    2.219,2,    0.317,2,   2124.0,2,     0.18,2,0.0458737385,2,     1.51905861
  06AQ19930806,    18,  3,     19,19930817, 82.5633,  39.3167, 2621,    100.1,  -1.0626,  34.2627,2,  34.3228,2,    302.3,2,     4.57,2,     9.04,2,     0.68,2,    5.531,2,    2.611,2,    0.378,2,   2099.8,2,     0.07,2,0.0429603307,2,    -1.06523445
  06AQ19930806,    18,  3,     20,19930817, 82.5633,  39.3167, 2621,     73.5,  -1.8237,  34.1478,2,  34.1581,2,    302.4,2,     4.47,2,     9.14,2,     0.68,2,    5.846,2,    2.758,2,    0.417,2,   2090.6,2,  -999.00,9,0.0429640059,2,    -1.82510355
  06AQ19930806,    18,  3,     21,19930817, 82.5633,  39.3167, 2621,     50.3,  -1.7991,  34.1207,2,  34.1208,2,    304.3,2,     4.57,2,     9.14,2,     0.68,2,    5.846,2,    2.794,2,    0.455,2,   2082.5,2,     0.09,2,0.0439413472,2,    -1.80005611
  06AQ19930806,    18,  3,     22,19930817, 82.5633,  39.3167, 2621,     25.5,  -1.7481,  33.6990,2,  33.8013,2,    317.1,2,     4.18,2,     7.00,2,     0.58,2,    5.964,2,    2.788,2,    0.447,2,   2057.7,2,  -999.00,9,0.0410248031,2,    -1.74857385
  06AQ19930806,    18,  3,     23,19930817, 82.5633,  39.3167, 2621,     14.9,  -1.7497,  33.7088,2,  33.6751,2,    322.0,2,     4.08,2,     7.20,2,     0.58,2,    5.918,2,    2.812,2,    0.419,2,   2046.5,2,    -0.03,2,0.0420012776,2,     -1.7499714
  06AQ19930806,    18,  3,     24,19930817, 82.5633,  39.3167, 2621,      9.8,  -1.7483,  33.6577,2,  33.6479,2,    322.9,2,     4.08,2,     7.10,2,     0.58,2,    5.988,2,    2.958,2,    0.465,2,   2044.7,2,  -999.00,9,0.0429796868,2,     -1.7484776