BOTTLE,20081119PRINUNIVRMK
EXPOCODE,STNNBR,CASTNO,BTLNBR,DATE,LATITUDE,LONGITUDE,DEPTH,CTDPRS,CTDTMP,CTDSAL,CTDSAL_FLAG_W,SALNTY,SALNTY_FLAG_W,OXYGEN,OXYGEN_FLAG_W,SILCAT,SILCAT_FLAG_W,NITRAT,NITRAT_FLAG_W,PHSPHT,PHSPHT_FLAG_W,CFC-11,CFC-11_FLAG_W,CFC-12,CFC-12_FLAG_W,CFC113,CFC113_FLAG_W,TCARBN,TCARBN_FLAG_W,DELO18,DELO18_FLAG_W,BARIUM,BARIUM_FLAG_W,THETA
,,,,,,,METERS,DBARS,ITS-90,PSS-78,,PSS-78,,UMOL/KG,,UMOL/KG,,UMOL/KG,,UMOL/KG,,PMOL/KG,,PMOL/KG,,PMOL/KG,,UMOL/KG,,O/OO,,UM/KG,,DEGC
  06AQ19930806,    42,  1,      0,19930906, 77.6617, 133.5767,   60,      0.0,-999.0000,-999.0000,9,  30.5208,2,   -999.0,9,  -999.00,9,  -999.00,9,     0.25,2, -999.000,9, -999.000,9, -999.000,9,   1974.7,2,  -999.00,9,        -999,9,           -999
  06AQ19930806,    42,  1,      3,19930906, 77.6617, 133.5767,   60,     57.0,  -1.6060,-999.0000,9,  33.4053,2,    297.9,2,     5.64,2,     4.28,2,     0.56,2, -999.000,9, -999.000,9, -999.000,9,   2150.4,2,    -0.82,2,        -999,2,    -1.60710407
  06AQ19930806,    42,  1,      4,19930906, 77.6617, 133.5767,   60,     52.1,  -1.6070,-999.0000,9,  33.4014,2,    298.8,2,     5.64,2,     4.28,2,     0.56,2, -999.000,9, -999.000,9, -999.000,9,   2152.1,2,  -999.00,9,        -999,2,    -1.60800577
  06AQ19930806,    42,  1,      6,19930906, 77.6617, 133.5767,   60,     46.7,  -1.6060,-999.0000,9,  33.3944,2,    298.8,2,     5.64,2,     4.28,2,     0.57,2, -999.000,9, -999.000,9, -999.000,9,   2151.6,2,  -999.00,9,        -999,2,    -1.60689879
  06AQ19930806,    42,  1,      8,19930906, 77.6617, 133.5767,   60,     42.2,  -1.6040,-999.0000,9,  33.3830,2,    299.8,2,     5.55,2,     4.28,2,     0.56,2, -999.000,9, -999.000,9, -999.000,9,   2150.3,2,  -999.00,9,        -999,2,     -1.6048101
  06AQ19930806,    42,  1,      9,19930906, 77.6617, 133.5767,   60,     36.8,  -1.5910,-999.0000,9,  33.3265,2,    300.8,2,     5.16,2,     3.99,2,     0.55,2, -999.000,9, -999.000,9, -999.000,9,   2144.0,2,    -0.93,2,        -999,2,    -1.59170461
  06AQ19930806,    42,  1,     12,19930906, 77.6617, 133.5767,   60,     32.2,  -1.5380,-999.0000,9,  33.1939,2,    309.8,2,     3.60,2,     3.50,2,     0.49,2, -999.000,9, -999.000,9, -999.000,9,   2135.4,2,  -999.00,9,        -999,2,    -1.53862173
  06AQ19930806,    42,  1,     14,19930906, 77.6617, 133.5767,   60,     27.0,  -1.4100,-999.0000,9,  32.6226,2,    329.7,2,     2.14,2,     2.82,2,     0.43,2, -999.000,9, -999.000,9, -999.000,9,   2102.6,2,  -999.00,9,        -999,2,    -1.41052025
  06AQ19930806,    42,  1,     15,19930906, 77.6617, 133.5767,   60,     22.1,  -1.5530,-999.0000,9,  32.0554,2,    369.5,2,     0.39,2,     0.58,2,     0.14,2, -999.000,9, -999.000,9, -999.000,9,   2039.2,2,    -1.27,2,        -999,2,    -1.55337233
  06AQ19930806,    42,  1,     18,19930906, 77.6617, 133.5767,   60,     16.5,  -1.5370,-999.0000,9,  31.8143,2,    379.5,2,     0.10,2,     0.19,2,     0.12,2, -999.000,9, -999.000,9, -999.000,9,   2015.5,2,  -999.00,9,        -999,2,    -1.53727161
  06AQ19930806,    42,  1,     21,19930906, 77.6617, 133.5767,   60,     11.5,  -1.4850,-999.0000,9,  30.7763,2,    384.8,2,  -999.00,9,  -999.00,9,     0.14,2, -999.000,9, -999.000,9, -999.000,9,   1981.3,2,    -2.12,2,        -999,2,    -1.48517069
  06AQ19930806,    42,  1,     22,19930906, 77.6617, 133.5767,   60,      7.4,  -1.4940,-999.0000,9,  30.4712,2,    383.9,2,  -999.00,9,  -999.00,9,     0.15,2, -999.000,9, -999.000,9, -999.000,9,   1974.6,2,  -999.00,9,        -999,2,    -1.49410452
  06AQ19930806,    43,  1,      0,19930906, 77.4033, 133.5750,   55,      0.0,-999.0000,-999.0000,9,  29.2314,2,   -999.0,9,  -999.00,9,  -999.00,9,  -999.00,9, -999.000,9, -999.000,9, -999.000,9,   1935.4,2,  -999.00,9,        -999,9,           -999
  06AQ19930806,    43,  1,      3,19930906, 77.4033, 133.5750,   55,     48.0,  -1.6089,  33.0931,2,  33.1148,2,    300.9,2,  -999.00,9,     0.54,4,     5.94,4,    7.224,2,    3.215,2,    0.547,2,   2145.9,2,    -1.18,2,0.0498383133,2,    -1.60979693
  06AQ19930806,    43,  1,      7,19930906, 77.4033, 133.5750,   55,     39.0,  -1.6085,  33.0875,2,  33.1095,2,    301.9,2,     5.94,2,     3.50,2,     0.51,2, -999.000,9, -999.000,9, -999.000,9,   2142.6,2,  -999.00,9,0.0488612953,2,      -1.609225
  06AQ19930806,    43,  1,      8,19930906, 77.4033, 133.5750,   55,     33.1,  -1.6083,  33.0861,2,  33.1070,2,   -999.0,9,  -999.00,9,  -999.00,9,  -999.00,9, -999.000,9, -999.000,9, -999.000,9,   2145.5,2,  -999.00,9,0.0488613462,2,    -1.60891327
  06AQ19930806,    43,  1,      9,19930906, 77.4033, 133.5750,   55,     33.2,  -1.6079,  33.0846,2,  33.1064,2,    302.9,2,     5.35,2,     3.50,2,     0.53,2, -999.000,9, -999.000,9, -999.000,9,   2143.4,2,  -999.00,9,        -999,9,    -1.60851524
  06AQ19930806,    43,  1,     11,19930906, 77.4033, 133.5750,   55,     29.0,  -1.6054,  33.0717,2,  33.1013,2,    302.9,2,     5.74,2,     3.41,2,     0.51,2,    7.250,2,    3.237,2,    0.554,2,   2143.9,2,    -1.12,2,0.0517935824,2,    -1.60593654
  06AQ19930806,    43,  1,     12,19930906, 77.4033, 133.5750,   55,     23.1,  -1.6029,  33.0573,2,  33.0840,2,    303.9,2,     5.55,2,     3.41,2,     0.51,2, -999.000,9, -999.000,9, -999.000,9,   2144.6,2,  -999.00,9,0.0459306505,2,    -1.60332576
  06AQ19930806,    43,  1,     14,19930906, 77.4033, 133.5750,   55,     18.4,  -1.5812,  32.5715,2,  33.0529,2,    304.9,2,     5.35,2,     3.31,2,     0.49,2, -999.000,9, -999.000,9, -999.000,9,   2139.7,2,  -999.00,9,0.0488800755,2,    -1.58154067
  06AQ19930806,    43,  1,     17,19930906, 77.4033, 133.5750,   55,     13.8,  -1.4994,  31.1194,2,  31.2802,2,    352.9,2,     1.46,2,     0.97,2,     0.26,2,    7.560,2,    3.356,2,    0.677,2,   2025.6,2,    -2.06,2,0.0499116361,2,    -1.49961698
  06AQ19930806,    43,  1,     20,19930906, 77.4033, 133.5750,   55,      8.9,  -1.1097,  29.6587,2,  30.0947,2,    373.1,2,     0.39,2,     0.10,2,     0.19,2, -999.000,9, -999.000,9, -999.000,9,   1971.0,2,  -999.00,9,0.0460470915,2,    -1.10984977
  06AQ19930806,    43,  1,     22,19930906, 77.4033, 133.5750,   55,      4.2,  -1.1389,  29.1919,2,  29.4517,2,    380.2,2,     0.20,2,  -999.00,9,     0.18,2,    7.907,2,    3.516,2,    0.749,2,   1942.4,2,    -3.07,2,0.0470431818,2,    -1.13896415
  06AQ19930806,    44,  1,      0,19930907, 77.0333, 126.3883,   94,      0.0,-999.0000,-999.0000,9,  31.1303,2,   -999.0,9,  -999.00,9,  -999.00,9,  -999.00,9, -999.000,9, -999.000,9, -999.000,9,   2009.9,2,  -999.00,9,        -999,9,           -999
  06AQ19930806,    44,  1,      1,19930907, 77.0333, 126.3883,   94,     87.4,   0.5367,  34.7429,2,  34.7392,2,    291.2,2,     6.03,2,     9.14,2,     0.97,2,    5.815,2,    2.612,2,    0.333,2,   2147.1,2,     0.13,2,0.0448970196,2,     0.53314635
  06AQ19930806,    44,  1,      3,19930907, 77.0333, 126.3883,   94,     80.5,   0.5345,  34.7433,2,  34.7441,2,    290.3,2,     5.93,2,     9.04,2,     0.97,2,    5.801,2,    2.598,2,    0.419,2,   2152.2,2,     0.11,2,0.0419689406,2,     0.53123266
  06AQ19930806,    44,  1,      4,19930907, 77.0333, 126.3883,   94,     77.2,   0.5293,  34.7425,2,  34.7398,2,    292.9,2,     6.03,2,     9.14,2,     0.97,2, -999.000,9, -999.000,9, -999.000,9,   2149.7,2,  -999.00,9,0.0439210106,2,    0.526172901
  06AQ19930806,    44,  1,      7,19930907, 77.0333, 126.3883,   94,     70.0,  -0.4113,  34.4412,2,  34.3850,2,    287.7,2,     5.93,2,     5.83,2,     0.97,2,    6.644,2,    2.969,2,    0.480,2,   2185.4,2,    -0.65,2, 0.047835829,2,   -0.413523726
  06AQ19930806,    44,  1,      8,19930907, 77.0333, 126.3883,   94,     60.9,  -1.3723,  34.1260,2,  34.1554,2,    296.6,2,     6.71,2,     5.83,2,     0.60,2, -999.000,9, -999.000,9, -999.000,9,   2162.5,2,  -999.00,9,0.0449176443,2,    -1.37369584
  06AQ19930806,    44,  1,     10,19930907, 77.0333, 126.3883,   94,     52.7,  -1.4537,  33.9259,2,  33.9573,2,    299.2,2,     6.03,2,     5.54,2,     0.57,2,    6.990,2,    3.108,2,    0.439,2,   2145.6,2,    -0.58,2,0.0468775688,2,    -1.45484582
  06AQ19930806,    44,  1,     13,19930907, 77.0333, 126.3883,   94,     45.0,  -1.7206,  33.7950,2,  33.8489,2,    295.8,2,     7.39,2,     5.45,2,     0.58,2, -999.000,9, -999.000,9, -999.000,9,   2162.3,2,  -999.00,9,0.0478588491,2,    -1.72146004
  06AQ19930806,    44,  1,     14,19930907, 77.0333, 126.3883,   94,     36.4,  -1.7575,  33.6936,2,  33.7965,2,    295.8,2,     7.78,2,     5.35,2,     0.58,2,    7.178,2,    3.222,2,    0.456,2,   2166.0,2,    -0.84,2,        -999,9,    -1.75817699
  06AQ19930806,    44,  1,     17,19930907, 77.0333, 126.3883,   94,     30.8,  -1.7137,  33.5241,2,  33.5952,2,    301.1,2,     7.78,2,     4.96,2,     0.97,2, -999.000,9, -999.000,9, -999.000,9,   2154.3,2,  -999.00,9,0.0537299533,2,    -1.71427083
  06AQ19930806,    44,  1,     19,19930907, 77.0333, 126.3883,   94,     25.1,  -1.6353,  33.2432,2,  33.3773,2,    315.2,2,     6.71,2,     4.18,2,     0.52,2, -999.000,9, -999.000,9, -999.000,9,   2136.1,2,  -999.00,9,0.0488556303,2,    -1.63577038
  06AQ19930806,    44,  1,     21,19930907, 77.0333, 126.3883,   94,     17.5,  -1.6290,  32.5446,2,  32.9343,2,    336.4,2,     4.38,2,     3.21,2,     0.40,2,    7.604,2,    3.350,2,    0.525,2,   2086.4,2,    -1.08,2,0.0469258126,2,     -1.6293124
  06AQ19930806,    44,  1,     23,19930907, 77.0333, 126.3883,   94,      7.0,  -1.2260,  31.4393,2,  31.7497,2,    364.0,2,     2.05,2,     0.19,2,     0.43,2,    7.587,2,    3.375,2,    0.588,2,   2015.0,2,    -1.54,2,        -999,9,    -1.22613295
  06AQ19930806,    46,  1,      1,19930908, 77.4700, 126.0933, 1731,   1731.8,  -0.7464,  34.9194,2,  34.9191,2,    227.1,4,    11.08,2,    12.05,2,     0.95,2,    0.549,2,    0.249,2,    0.056,2,   2156.9,2,     0.20,2,0.0497705907,2,   -0.824482953
  06AQ19930806,    46,  1,      2,19930908, 77.4700, 126.0933, 1731,   1700.1,  -0.7334,  34.9184,2,  34.9183,2,    261.3,4,    10.88,2,    12.05,2,     0.95,2,    0.588,2,    0.266,2,    0.026,2,   2157.4,2,     0.22,2,0.0478188384,2,    -0.80975374
  06AQ19930806,    46,  1,      3,19930908, 77.4700, 126.0933, 1731,   1650.4,  -0.6809,  34.9155,2,  34.9171,2,    280.6,2,    10.59,2,    12.05,2,     0.93,2,    0.710,2,    0.322,2,    0.039,2,   2156.1,2,  -999.00,9,0.0458671481,2,   -0.754990253
  06AQ19930806,    46,  1,      4,19930908, 77.4700, 126.0933, 1731,   1599.8,  -0.6460,  34.9166,2,  34.9157,2,    280.6,2,    10.40,2,    11.95,2,     0.93,2,    0.818,2,    0.378,2,    0.024,2,   2154.1,2,     0.23,2,0.0487947984,2,   -0.717549565
  06AQ19930806,    46,  1,      5,19930908, 77.4700, 126.0933, 1731,   1399.5,  -0.4086,  34.9126,2,  34.9110,2,    280.6,2,     9.42,2,    11.66,2,     0.88,2,    1.440,2,    0.651,2,    0.066,2,   2156.7,2,     0.24,2, 0.046843146,2,   -0.471385163
  06AQ19930806,    46,  1,      6,19930908, 77.4700, 126.0933, 1731,   1199.9,  -0.1975,  34.8942,2,  34.8941,2,    286.7,2,     6.22,2,    10.49,2,     0.97,2,    3.969,2,    1.802,2,    0.275,2,   2160.5,2,     0.24,2,0.0614824712,4,   -0.251233842
  06AQ19930806,    46,  1,      7,19930908, 77.4700, 126.0933, 1731,    998.5,  -0.0588,  34.8788,2,  34.8779,2,    286.7,2,     6.22,2,    10.01,2,     0.97,2,    5.214,2,    2.342,2,    0.356,2,   2162.3,2,     0.24,2,0.0458684012,2,   -0.102837283
  06AQ19930806,    46,  1,      8,19930908, 77.4700, 126.0933, 1731,    798.3,   0.2183,  34.8783,2,  34.8740,2,    287.6,2,     5.83,2,    10.01,2,     0.97,2,    5.239,2,    2.363,2,    0.280,2,   2153.6,2,     0.20,2,0.0439165707,2,     0.18269809
  06AQ19930806,    46,  1,      9,19930908, 77.4700, 126.0933, 1731,    699.4,   0.4534,  34.8769,2,  34.8795,2,    287.6,2,     5.83,2,    10.11,2,     0.78,2,    5.092,2,    2.291,2,    0.275,2,   2153.7,2,  -999.00,9,0.0439166164,2,    0.421460226
  06AQ19930806,    46,  1,     10,19930908, 77.4700, 126.0933, 1731,    598.3,   0.7119,  34.8844,2,  34.8829,2,    285.0,2,     5.83,2,    10.20,2,     0.79,2,    4.970,2,    2.283,2,    0.278,2,   2151.9,2,     0.18,2,0.0439163712,2,    0.683832223
  06AQ19930806,    46,  1,     11,19930908, 77.4700, 126.0933, 1731,    498.3,   0.9935,  34.8854,2,  34.8868,2,    288.5,2,     5.83,2,    10.30,2,     0.78,2,    5.079,2,    2.290,2,    0.290,2,   2149.0,2,  -999.00,9,0.0458681758,2,    0.969400188
  06AQ19930806,    46,  1,     12,19930908, 77.4700, 126.0933, 1731,    447.3,   1.1445,  34.8792,2,  34.8842,2,    287.6,2,     5.73,2,    10.30,2,     0.79,2,    5.180,2,    2.354,2,    0.271,2,   2145.9,2,  -999.00,9,0.0439165412,2,      1.1225112
  06AQ19930806,    46,  1,     13,19930908, 77.4700, 126.0933, 1731,    397.6,   1.3526,  34.8916,2,  34.8884,2,    286.7,2,     5.64,2,     9.82,2,     0.78,2,    5.260,2,    2.404,2,    0.255,2,   2146.8,2,     0.20,2,0.0429402217,2,     1.33254195
  06AQ19930806,    46,  2,      1,19930908, 77.4700, 126.0933, 1731,    451.3,   1.1820,  34.8913,2,  34.8899,2,   -999.0,9,  -999.00,9,  -999.00,9,  -999.00,9,    5.060,2,    2.273,2,    0.339,2,   2161.6,2,  -999.00,9,0.0439161457,2,     1.15965531
  06AQ19930806,    46,  2,      2,19930908, 77.4700, 126.0933, 1731,    425.0,   1.3440,  34.8973,2,  34.8962,2,   -999.0,9,  -999.00,9,  -999.00,9,  -999.00,9, -999.000,9, -999.000,9, -999.000,9,   2160.1,2,  -999.00,9,0.0448918595,2,     1.32248379
  06AQ19930806,    46,  2,      3,19930908, 77.4700, 126.0933, 1731,    401.2,   1.4760,  34.8989,2,  34.9000,2,   -999.0,9,  -999.00,9,  -999.00,9,  -999.00,9,    5.110,2,    2.287,2,    0.328,2,   2161.9,2,     0.23,2,0.0429399884,2,     1.45533364
  06AQ19930806,    46,  2,      4,19930908, 77.4700, 126.0933, 1731,    349.7,   1.6090,  34.9006,2,  34.8982,2,   -999.0,9,  -999.00,9,  -999.00,9,  -999.00,9, -999.000,9, -999.000,9, -999.000,9,   2157.5,2,  -999.00,9,        -999,4,      1.5907601
  06AQ19930806,    46,  2,      5,19930908, 77.4700, 126.0933, 1731,    300.6,   1.7680,  34.8891,2,  34.8868,2,   -999.0,9,  -999.00,9,  -999.00,9,  -999.00,9,    5.320,2,    2.415,2,    0.347,2,   2159.9,2,     0.26,2,0.0429403016,2,     1.75206109
  06AQ19930806,    46,  2,      6,19930908, 77.4700, 126.0933, 1731,    250.5,   1.7810,  34.8687,2,  34.8718,2,   -999.0,9,  -999.00,9,  -999.00,9,  -999.00,9, -999.000,9, -999.000,9, -999.000,9,   2155.2,2,  -999.00,9,0.0429409537,2,     1.76780405
  06AQ19930806,    46,  2,      7,19930908, 77.4700, 126.0933, 1731,    224.9,   1.8830,  34.8684,2,  34.8647,2,   -999.0,9,  -999.00,9,  -999.00,9,  -999.00,9, -999.000,9, -999.000,9, -999.000,9,   2155.7,2,  -999.00,9,0.0448928253,2,     1.87101608
  06AQ19930806,    46,  2,      8,19930908, 77.4700, 126.0933, 1731,    200.8,   1.7900,  34.8445,2,  34.8431,2,   -999.0,9,  -999.00,9,  -999.00,9,  -999.00,9,    5.020,2,    2.331,2,    0.371,2,   2157.8,2,     0.23,2,0.0439176757,2,     1.77950248
  06AQ19930806,    46,  2,      9,19930908, 77.4700, 126.0933, 1731,    175.3,   1.5050,  34.7838,2,  34.7846,2,   -999.0,9,  -999.00,9,  -999.00,9,  -999.00,9, -999.000,9, -999.000,9, -999.000,9,   2156.9,2,  -999.00,9,0.0439196602,2,     1.49630445
  06AQ19930806,    46,  2,     10,19930908, 77.4700, 126.0933, 1731,    150.4,   0.9220,  34.6800,2,  34.7168,2,   -999.0,9,  -999.00,9,  -999.00,9,  -999.00,9,    5.480,2,    2.489,2,    0.464,2,   2149.4,2,     0.16,2,0.0439230541,2,    0.915320028
  06AQ19930806,    46,  2,     11,19930908, 77.4700, 126.0933, 1731,    125.6,  -0.0080,  34.4918,2,  34.5565,2,   -999.0,9,  -999.00,9,  -999.00,9,  -999.00,9, -999.000,9, -999.000,9, -999.000,9,   2149.8,2,  -999.00,9,0.0439292085,2,  -0.0125283213
  06AQ19930806,    46,  2,     12,19930908, 77.4700, 126.0933, 1731,    100.5,  -0.8430,  34.3981,2,  34.4300,2,   -999.0,9,  -999.00,9,  -999.00,9,  -999.00,9, -999.000,9, -999.000,9, -999.000,9,   2158.5,2,  -999.00,9,0.0449085458,2,    -0.84585694
  06AQ19930806,    46,  2,     13,19930908, 77.4700, 126.0933, 1731,     74.4,  -1.5410,  34.1783,2,  34.2495,2,   -999.0,9,  -999.00,9,  -999.00,9,  -999.00,9,    6.611,2,    2.941,2,    0.434,2,   2143.6,2,    -0.17,2,0.0468687603,2,     -1.5426191
  06AQ19930806,    46,  2,     14,19930908, 77.4700, 126.0933, 1731,     50.0,  -1.6480,  34.0949,2,  34.0357,2,   -999.0,9,  -999.00,9,  -999.00,9,  -999.00,9,    6.954,2,    3.077,2,    0.479,2,   2149.4,2,    -0.40,2,0.0439421912,2,     -1.6490083
  06AQ19930806,    46,  2,     15,19930908, 77.4700, 126.0933, 1731,     25.2,  -1.7270,  32.3246,2,  32.9060,2,   -999.0,9,  -999.00,9,  -999.00,9,  -999.00,9,    7.303,2,    3.208,2,    0.564,2,   2107.1,2,    -1.13,2, 0.048889065,2,    -1.72742856
  06AQ19930806,    46,  2,     16,19930908, 77.4700, 126.0933, 1731,     14.0,  -1.7280,  32.2753,2,  32.2841,2,   -999.0,9,  -999.00,9,  -999.00,9,  -999.00,9,    7.417,2,    3.321,2,    0.610,2,   2076.3,2,    -1.38,2,0.0459574086,2,    -1.72821928