BOTTLE,20081119PRINUNIVRMK
EXPOCODE,STNNBR,CASTNO,BTLNBR,DATE,LATITUDE,LONGITUDE,DEPTH,CTDPRS,CTDTMP,CTDSAL,CTDSAL_FLAG_W,SALNTY,SALNTY_FLAG_W,OXYGEN,OXYGEN_FLAG_W,SILCAT,SILCAT_FLAG_W,NITRAT,NITRAT_FLAG_W,PHSPHT,PHSPHT_FLAG_W,CFC-11,CFC-11_FLAG_W,CFC-12,CFC-12_FLAG_W,CFC113,CFC113_FLAG_W,TCARBN,TCARBN_FLAG_W,DELO18,DELO18_FLAG_W,BARIUM,BARIUM_FLAG_W,THETA
,,,,,,,METERS,DBARS,ITS-90,PSS-78,,PSS-78,,UMOL/KG,,UMOL/KG,,UMOL/KG,,UMOL/KG,,PMOL/KG,,PMOL/KG,,PMOL/KG,,UMOL/KG,,O/OO,,UM/KG,,DEGC
  06AQ19930806,    25,  1,      1,19930821, 82.1250,  42.5650,  500,    497.2,   0.4598,  34.8824,2,  34.9047,2,    283.5,2,     6.90,2,    11.66,2,     0.78,2,    5.653,2,    2.651,2,    0.411,2,   2152.8,2,     0.23,2,0.0448923574,2,    0.437931699
  06AQ19930806,    25,  1,      2,19930821, 82.1250,  42.5650,  500,    452.1,   0.9066,  34.9052,2,  34.9823,2,    289.4,2,     6.12,2,    11.66,2,     0.78,2,    5.085,2,    2.372,2,    0.398,2,   2139.2,2,     0.26,2,0.0439156913,2,    0.885160723
  06AQ19930806,    25,  1,      3,19930821, 82.1250,  42.5650,  500,    401.7,   2.2352,  34.9835,2,  34.9563,2,    290.4,2,     5.83,2,    11.47,2,     0.78,2,    5.316,2,    2.515,2, -999.000,9,   2131.2,2,     0.32,2,0.0439131316,2,     2.21198281
  06AQ19930806,    25,  1,      4,19930821, 82.1250,  42.5650,  500,    350.9,   2.2993,  34.9580,2,  34.9289,2,    291.4,2,     5.73,2,    11.27,2,     0.78,2,    5.462,2,    2.526,2,    0.451,2,   2133.7,2,     0.26,2,0.0497691606,4,      2.2790012
  06AQ19930806,    25,  1,      6,19930821, 82.1250,  42.5650,  500,    250.0,   1.9291,  34.8998,2,  34.8941,2,    292.4,2,     5.64,2,    11.08,2,     0.78,2,    5.500,2,    2.583,2,    0.467,2,   2130.7,2,     0.25,2,0.0439158678,2,     1.91561796
  06AQ19930806,    25,  1,      9,19930821, 82.1250,  42.5650,  500,    151.0,   2.6306,  34.9450,2,  34.9401,2,    288.4,2,     5.54,2,    11.18,2,     0.78,2,    5.354,2,    2.542,2,    0.412,2,   2132.4,2,     0.28,2,0.0439143902,2,     2.62170476
  06AQ19930806,    25,  1,     11,19930821, 82.1250,  42.5650,  500,    100.1,   2.6481,  34.9010,2,  34.9021,2,    288.4,2,     5.05,2,    10.79,2,     0.78,2,    5.397,2,    2.533,2,    0.437,2,   2126.8,2,     0.28,2,0.0439158286,2,     2.64223764
  06AQ19930806,    25,  1,     13,19930821, 82.1250,  42.5650,  500,     76.4,   2.0637,  34.7490,2,  34.7573,2,    291.5,2,     4.18,2,     9.53,2,     0.68,2,    5.517,2,    2.624,2,    0.451,2,   2120.7,2,  -999.00,9,        -999,9,     2.05962625
  06AQ19930806,    25,  1,     15,19930821, 82.1250,  42.5650,  500,     50.0,   1.3176,  34.5573,2,  34.5986,2,    301.4,2,     3.69,2,     8.17,2,     0.68,2,    5.674,2,    2.646,2,    0.473,2,   2108.2,2,     0.19,2,0.0429509094,2,     1.31526903
  06AQ19930806,    25,  1,     18,19930821, 82.1250,  42.5650,  500,     25.1,  -1.0060,  34.0155,2,  33.4978,2,    333.6,2,     4.28,2,     6.13,2,     0.49,2, -999.000,9, -999.000,9, -999.000,9,   2025.7,2,  -999.00,9,0.0429682382,2,    -1.00661473
  06AQ19930806,    25,  1,     20,19930821, 82.1250,  42.5650,  500,     15.2,  -1.6179,  33.4230,2,  33.4067,2,    336.6,2,     4.18,2,     5.64,2,     0.49,2, -999.000,9, -999.000,9, -999.000,9,   2017.7,2,  -999.00,9,0.0429871987,2,    -1.61818656
  06AQ19930806,    25,  1,     21,19930821, 82.1250,  42.5650,  500,     10.0,  -1.6533,  33.4031,2,  33.3977,2,    337.6,2,     4.28,2,     5.64,2,     0.49,2,    6.041,2,    2.808,2,    0.504,2,   2021.1,2,  -999.00,9,0.0429878357,2,    -1.65348471
  06AQ19930806,    26,  1,      1,19930821, 82.0950,  42.7250,  386,    376.5,  -0.1127,  34.8482,2,  34.8500,2,    274.5,2,  -999.00,9,  -999.00,9,  -999.00,9, -999.000,9, -999.000,9, -999.000,9,   2166.0,2,  -999.00,9,        -999,9,     -0.1270137
  06AQ19930806,    26,  1,      2,19930821, 82.0950,  42.7250,  386,    376.5,  -0.1122,  34.8488,2,  34.8506,2,   -999.0,9,  -999.00,9,  -999.00,9,  -999.00,9, -999.000,9, -999.000,9, -999.000,9,   -999.0,9,  -999.00,9,        -999,9,   -0.126515706
  06AQ19930806,    26,  1,      3,19930821, 82.0950,  42.7250,  386,    358.0,   0.1301,  34.8499,2,  34.8525,2,    279.5,2,     7.58,3,    11.76,2,     0.87,2, -999.000,9, -999.000,9, -999.000,9,   2160.9,2,  -999.00,9,        -999,9,    0.115818333
  06AQ19930806,    26,  1,      5,19930821, 82.0950,  42.7250,  386,    300.1,   2.2990,  34.9884,2,  34.9917,2,    291.4,2,     6.03,2,    11.86,2,     0.78,2, -999.000,9, -999.000,9, -999.000,9,   2137.8,2,  -999.00,9,0.0692849105,4,     2.28173324
  06AQ19930806,    26,  1,      7,19930821, 82.0950,  42.7250,  386,    249.8,   2.5718,  34.9945,2,  34.9951,2,    290.4,2,     5.93,2,    11.66,2,     0.78,2, -999.000,9, -999.000,9, -999.000,9,   2135.0,2,  -999.00,9, 0.043912772,2,     2.55697674
  06AQ19930806,    26,  1,     11,19930821, 82.0950,  42.7250,  386,    200.1,   2.7566,  34.9859,2,  34.9894,2,    289.4,2,     5.64,2,    11.66,2,     0.78,2, -999.000,9, -999.000,9, -999.000,9,   2135.3,2,  -999.00,9,0.0458647444,2,     2.74450987
  06AQ19930806,    26,  1,     13,19930821, 82.0950,  42.7250,  386,    101.0,   2.6307,  34.9150,2,-999.0000,9,   -999.0,9,  -999.00,9,  -999.00,9,  -999.00,9, -999.000,9, -999.000,9, -999.000,9,   -999.0,9,  -999.00,9,0.0439153709,2,     2.62479619
  06AQ19930806,    26,  1,     14,19930821, 82.0950,  42.7250,  386,     74.8,   2.4243,  34.8595,2,  34.8827,2,    289.4,2,     4.76,2,    10.79,2,     0.78,2, -999.000,9, -999.000,9, -999.000,9,   2129.7,2,  -999.00,9,0.0439171853,2,     2.42007429
  06AQ19930806,    26,  1,     16,19930821, 82.0950,  42.7250,  386,     50.0,  -1.0474,  34.4517,2,  34.5121,2,   -999.0,9,  -999.00,9,  -999.00,9,  -999.00,9, -999.000,9, -999.000,9, -999.000,9,   2115.0,2,  -999.00,9,0.0429542862,2,    -1.04871669
  06AQ19930806,    26,  1,     17,19930821, 82.0950,  42.7250,  386,     50.0,  -1.0506,  34.4496,2,-999.0000,9,   -999.0,9,  -999.00,9,  -999.00,9,  -999.00,9, -999.000,9, -999.000,9, -999.000,9,   -999.0,9,  -999.00,9,        -999,9,    -1.05190925
  06AQ19930806,    26,  1,     18,19930821, 82.0950,  42.7250,  386,     25.2,  -1.3330,  34.1476,2,  34.1936,2,    314.5,2,     4.18,2,     8.17,2,     0.58,2, -999.000,9, -999.000,9, -999.000,9,   2088.5,2,  -999.00,9,0.0429640123,2,    -1.33357933
  06AQ19930806,    26,  1,     20,19930821, 82.0950,  42.7250,  386,     14.5,  -1.5203,  33.7783,2,  34.0391,2,    318.5,2,     4.28,2,     7.68,2,     0.58,2, -999.000,9, -999.000,9, -999.000,9,   2078.6,2,  -999.00,9,        -999,9,    -1.52060367
  06AQ19930806,    26,  1,     22,19930821, 82.0950,  42.7250,  386,      7.8,  -1.5347,  33.6709,2,  33.7808,2,    323.5,2,     4.18,2,     7.20,2,     0.58,2, -999.000,9, -999.000,9, -999.000,9,   2055.2,2,  -999.00,9,        -999,9,    -1.53485791
  06AQ19930806,    26,  1,     24,19930821, 82.0950,  42.7250,  386,    376.5,   0.1127,  34.8482,2,  34.8492,2,    293.4,2,  -999.00,9,  -999.00,9,  -999.00,9, -999.000,9, -999.000,9, -999.000,9,   2167.7,2,  -999.00,9,        -999,9,   0.0976745989
  06AQ19930806,    27,  1,      1,19930821, 82.0217,  43.5533,  288,    278.7,   0.2591,  34.8036,2,  34.8090,2,    282.5,2,     6.41,2,    11.47,2,     0.78,2,    6.091,2,    2.818,2,    0.485,2,   2150.0,2,     0.19,2,0.0439190129,2,    0.247902386
  06AQ19930806,    27,  1,      3,19930821, 82.0217,  43.5533,  288,    271.3,   0.2487,  34.8045,2,  34.8088,2,   -999.0,9,  -999.00,9,  -999.00,9,  -999.00,9,    6.113,2,    2.809,2,    0.495,2,   2147.8,2,     0.20,2,0.0439189834,2,     0.23784162
  06AQ19930806,    27,  1,      4,19930821, 82.0217,  43.5533,  288,    250.8,   0.3468,  34.7965,2,  34.8088,2,    284.5,2,     5.83,2,    11.27,2,     0.78,2,    6.057,2,    2.788,2,    0.478,2,   2146.8,2,     0.16,2,        -999,9,    0.336601849
  06AQ19930806,    27,  1,      5,19930821, 82.0217,  43.5533,  288,    225.1,   0.0023,  34.7688,2,  34.7705,2,   -999.0,9,  -999.00,9,  -999.00,9,  -999.00,9,    6.205,2,    2.874,2,    0.543,2,   2151.5,2,     0.13,2, 0.044896154,2, -0.00613133368
  06AQ19930806,    27,  1,      6,19930821, 82.0217,  43.5533,  288,    200.7,   0.0790,  34.7664,2,  34.7662,2,    285.5,2,     5.73,2,    11.08,2,     0.78,2, -999.000,9, -999.000,9, -999.000,9,   2145.7,2,     0.14,2,0.0439202291,2,   0.0713988364
  06AQ19930806,    27,  1,      8,19930821, 82.0217,  43.5533,  288,    175.5,   0.0481,  34.7605,2,  34.7628,2,    286.5,2,     5.44,2,    10.88,2,     0.78,2,    6.210,2,    2.859,2,    0.499,2,   2144.8,2,  -999.00,9,        -999,9,   0.0415406207
  06AQ19930806,    27,  1,     10,19930821, 82.0217,  43.5533,  288,    150.4,   0.1468,  34.7585,2,  34.7599,2,    293.4,2,     5.15,2,    10.79,2,     0.78,2,    6.129,2,    2.820,2,    0.494,2,   2140.1,2,     0.16,2,0.0448964982,2,    0.141088416
  06AQ19930806,    27,  1,     11,19930821, 82.0217,  43.5533,  288,    124.7,   0.4472,  34.7288,2,  34.7496,2,    294.4,2,     4.86,2,    10.69,2,     0.78,2, -999.000,9, -999.000,9, -999.000,9,   2135.0,2,     0.14,2,0.0439214585,2,    0.442179514
  06AQ19930806,    27,  1,     13,19930821, 82.0217,  43.5533,  288,    100.3,   0.4008,  34.7365,2,  34.7376,2,    289.5,2,     4.76,2,    10.20,2,     0.68,2, -999.000,9, -999.000,9, -999.000,9,   2134.7,2,     0.16,2,0.0448972335,2,    0.396825492
  06AQ19930806,    27,  1,     14,19930821, 82.0217,  43.5533,  288,     75.2,  -1.0322,  34.6092,2,  34.6131,2,    300.4,2,  -999.00,9,  -999.00,9,  -999.00,9, -999.000,9, -999.000,9, -999.000,9,   2129.9,2,     0.13,2,0.0449014886,2,     -1.0342231
  06AQ19930806,    27,  1,     16,19930821, 82.0217,  43.5533,  288,     50.1,  -1.3590,  34.4566,2,  34.4665,2,    308.4,2,     4.37,2,     9.23,2,     0.68,2,    6.501,2,    3.201,2,    0.575,2,   2113.5,2,     0.11,2,0.0439303597,2,    -1.36017919
  06AQ19930806,    27,  1,     18,19930821, 82.0217,  43.5533,  288,     25.5,  -0.4913,  34.4007,2,  34.4335,2,    304.5,2,     4.57,2,     9.53,2,     0.68,2,    5.972,2,    2.769,2,    0.548,2,   2106.4,2,     0.12,2, 0.043932188,2,   -0.492084226
  06AQ19930806,    27,  1,     23,19930821, 82.0217,  43.5533,  288,     10.1,  -1.4463,  33.8084,2,  33.9800,2,    317.5,2,     4.28,2,     8.07,2,     0.58,2, -999.000,9, -999.000,9, -999.000,9,   2075.7,2,     0.06,2,0.0429748643,2,    -1.44651647
  06AQ19930806,    28,  1,      1,19930826, 78.0350, 102.3167,  150,    141.2,  -1.0258,  34.3394,2,  34.3216,2,    285.6,2,     7.15,2,     8.14,2,     0.66,2,    6.696,2,    3.082,2,    0.435,2,   2157.4,2,    -0.09,2,0.0468631392,2,    -1.02961652
  06AQ19930806,    28,  1,      3,19930826, 78.0350, 102.3167,  150,    130.6,  -1.0030,  34.3017,2,  34.3016,2,    281.6,2,     7.38,2,     8.14,2,     0.65,2,    6.724,2,    3.102,2,    0.438,2,   -999.0,9,    -0.11,2,        -999,9,    -1.00653744
  06AQ19930806,    28,  1,      5,19930826, 78.0350, 102.3167,  150,    115.3,  -0.9667,  34.2522,2,  34.2541,2,    278.6,2,     7.44,2,     7.71,2,     0.65,2,    6.796,2,    3.140,2,    0.481,2,   2161.1,2,  -999.00,9,0.0488189392,2,   -0.969831745
  06AQ19930806,    28,  1,      6,19930826, 78.0350, 102.3167,  150,    106.3,  -0.9587,  34.2364,2,  34.2399,2,   -999.0,9,     7.44,2,     7.71,2,     0.65,2,    6.778,2,    3.149,2,    0.409,2,   2161.4,2,    -0.13,2, 0.046866733,2,   -0.961582567
  06AQ19930806,    28,  1,      8,19930826, 78.0350, 102.3167,  150,     90.6,  -0.9353,  34.1414,2,  34.1575,2,    281.6,2,     6.94,2,     7.37,2,     0.65,2,    6.751,2,    3.111,2,    0.504,2,   2161.8,2,  -999.00,9,0.0458935886,2,    -0.93774715
  06AQ19930806,    28,  1,     10,19930826, 78.0350, 102.3167,  150,     80.4,  -0.9163,  34.0654,2,  34.0659,2,    278.7,2,     6.88,2,     7.28,2,     0.64,2,    6.732,2,    3.164,2,    0.505,2,   2157.3,2,  -999.00,9,0.0468727001,2,   -0.918462816
  06AQ19930806,    28,  1,     11,19930826, 78.0350, 102.3167,  150,     70.3,  -0.9046,  33.9657,2,  34.0008,2,    278.7,2,     6.88,2,     7.16,2,     0.66,2,    6.810,2,    3.191,2,    0.465,2,   2154.6,2,    -0.20,2,0.0468761797,2,   -0.906482615
  06AQ19930806,    28,  1,     13,19930826, 78.0350, 102.3167,  150,     60.1,  -0.9317,  33.6996,2,  33.8010,2,    280.7,2,     5.95,2,     6.64,2,     0.63,2,    6.874,2,    3.183,2,    0.510,2,   2151.1,2,  -999.00,9,0.0527461518,2,   -0.933266293
  06AQ19930806,    28,  1,     14,19930826, 78.0350, 102.3167,  150,     50.3,  -0.7750,  33.1654,2,  33.4835,2,    280.8,2,     6.12,2,     6.17,2,     0.60,2,    6.898,2,    3.210,2,    0.496,2,   2143.8,2,    -0.68,2,0.0478812916,2,    -0.77634382
  06AQ19930806,    28,  1,     15,19930826, 78.0350, 102.3167,  150,     39.9,  -0.4470,  32.3638,2,  32.6462,2,    292.0,2,     5.07,2,     4.46,2,     0.52,2,    7.032,2,    3.258,2,    0.609,2,   2120.7,2,  -999.00,9,0.0498653903,2,   -0.448111522
  06AQ19930806,    28,  1,     17,19930826, 78.0350, 102.3167,  150,     29.1,  -0.0457,  31.8985,2,  32.1244,2,    308.0,2,     3.15,2,     2.96,2,     0.39,2,    6.947,2,    3.280,2,    0.531,2,   2089.1,2,    -1.58,2,0.0489045841,2,  -0.0465799116
  06AQ19930806,    28,  1,     18,19930826, 78.0350, 102.3167,  150,     19.7,   1.0439,  29.0325,2,  30.2506,2,    329.5,2,     1.00,2,     0.52,2,     0.13,2,    6.743,2,    3.225,2,    0.654,2,   1985.2,2,  -999.00,9,0.0431280408,2,     1.04319025
  06AQ19930806,    28,  1,     20,19930826, 78.0350, 102.3167,  150,     14.2,   1.0182,  28.8528,2,  28.9562,2,    337.8,2,     0.83,2,     0.10,2,     0.10,2,    7.050,2,    3.305,2, -999.000,9,   1916.1,2,    -3.07,2,0.0421535045,2,     1.01772624
  06AQ19930806,    28,  1,     21,19930826, 78.0350, 102.3167,  150,     10.2,   0.6059,  28.3193,2,  28.8049,2,    339.9,2,     0.89,2,     0.00,2,     0.10,2,    7.012,2,    3.313,2,    0.662,2,   1910.2,2,  -999.00,9,0.0431509778,2,    0.605599405
  06AQ19930806,    28,  1,     23,19930826, 78.0350, 102.3167,  150,      5.0,   0.5212,  28.2836,2,  28.4152,2,    342.0,2,     0.94,2,     0.00,2,     0.10,2,    7.171,2,    3.348,2,    0.644,2,   1891.7,2,    -3.24,2,0.0441328565,2,    0.521060227
  06AQ19930806,    29,  1,      1,19930827, 77.6933, 102.1650,  127,    114.2,  -1.0485,  34.3119,2,  34.3077,2,    285.6,2,     6.44,2,     7.71,2,     0.57,2,    6.713,2,    3.085,2,    0.511,2,   2152.8,2,    -0.17,2,        -999,9,    -1.05153164
  06AQ19930806,    29,  1,      2,19930827, 77.6933, 102.1650,  127,    113.9,  -1.0485,  34.3121,2,  34.3047,2,   -999.0,9,  -999.00,9,  -999.00,9,  -999.00,9, -999.000,9, -999.000,9, -999.000,9,   -999.0,9,  -999.00,9,        -999,9,    -1.05152269
  06AQ19930806,    29,  1,      3,19930827, 77.6933, 102.1650,  127,    104.6,  -1.0465,  34.3094,2,  34.3057,2,    285.6,2,     6.33,2,     7.62,2,     0.60,2,    6.749,2,    3.108,2,    0.460,2,   2134.2,2,    -0.21,2,        -999,9,    -1.04926855
  06AQ19930806,    29,  1,      5,19930827, 77.6933, 102.1650,  127,     93.4,  -1.0450,  34.2604,2,  34.2690,2,    286.6,2,     6.39,2,     7.71,2,     0.60,2,    6.744,2,    3.108,2,    0.471,2,   2138.5,2,  -999.00,9,        -999,9,    -1.04745664
  06AQ19930806,    29,  1,      7,19930827, 77.6933, 102.1650,  127,     83.2,  -1.0180,  34.2218,2,  34.2180,2,    286.6,2,     6.33,2,     7.53,2,     0.60,2,    6.705,2,    3.080,2,    0.507,2,   2135.4,2,    -0.19,2,        -999,9,    -1.02019147
  06AQ19930806,    29,  1,      9,19930827, 77.6933, 102.1650,  127,     73.5,  -0.9827,  34.1616,2,  34.1597,2,    286.6,2,     6.39,2,     7.37,2,     0.65,2,    6.821,2,    3.140,2,    0.479,2,   2132.2,2,    -0.22,2,        -999,9,   -0.984643335
  06AQ19930806,    29,  1,     11,19930827, 77.6933, 102.1650,  127,     63.4,  -0.9290,  34.0961,2,  34.0922,2,    282.7,2,     6.55,2,     7.19,2,     0.59,2,    6.834,2,    3.165,2,    0.522,2,   2135.2,2,  -999.00,9,        -999,9,   -0.930691398
  06AQ19930806,    29,  1,     12,19930827, 77.6933, 102.1650,  127,     63.5,  -0.9292,  34.0953,2,  34.0140,2,   -999.0,9,  -999.00,9,  -999.00,9,  -999.00,9, -999.000,9, -999.000,9, -999.000,9,   -999.0,9,  -999.00,9,0.0468716567,2,   -0.930884441
  06AQ19930806,    29,  1,     15,19930827, 77.6933, 102.1650,  127,     40.4,  -0.9725,  33.7890,2,  33.7900,2,    283.7,2,     6.33,2,     6.73,2,     0.57,2,    6.894,2,    3.204,2, -999.000,9,   2127.1,2,    -0.37,2,0.0488357785,2,   -0.973530033
  06AQ19930806,    29,  1,     17,19930827, 77.6933, 102.1650,  127,     32.9,  -0.9531,  33.4936,2,  33.5181,2,    280.8,2,     6.61,2,     6.34,2,     0.56,2,    6.938,2,    3.231,2,    0.594,2,   2123.2,2,  -999.00,9,0.0488465215,2,   -0.953924707
  06AQ19930806,    29,  1,     19,19930827, 77.6933, 102.1650,  127,     23.5,  -0.6839,  32.4547,2,  32.7837,2,    291.9,2,     2.53,2,     4.33,2,     0.48,2,    7.072,2,    3.307,2,    0.632,2,   2105.6,2,    -1.19,2,0.0518173875,2,   -0.684508787
  06AQ19930806,    29,  1,     21,19930827, 77.6933, 102.1650,  127,     15.8,  -0.2011,  30.3351,2,  31.2670,2,    319.2,2,     1.60,2,     1.68,2,     0.27,2,    7.140,2,    3.318,2,    0.691,2,   2033.7,2,  -999.00,9,0.0499408123,2,   -0.201528767
  06AQ19930806,    29,  1,     23,19930827, 77.6933, 102.1650,  127,      5.1,  -0.2408,  30.2321,2,  30.2289,2,    331.5,2,     1.65,2,     0.82,2,     0.20,2,    7.239,2,    3.402,2,    0.758,2,   1972.8,2,    -2.57,2,0.0489653389,2,    -0.24092604