BOTTLE,20081119PRINUNIVRMK
EXPOCODE,STNNBR,CASTNO,BTLNBR,DATE,LATITUDE,LONGITUDE,DEPTH,CTDPRS,CTDTMP,CTDSAL,CTDSAL_FLAG_W,SALNTY,SALNTY_FLAG_W,OXYGEN,OXYGEN_FLAG_W,SILCAT,SILCAT_FLAG_W,NITRAT,NITRAT_FLAG_W,PHSPHT,PHSPHT_FLAG_W,CFC-11,CFC-11_FLAG_W,CFC-12,CFC-12_FLAG_W,CFC113,CFC113_FLAG_W,TCARBN,TCARBN_FLAG_W,DELO18,DELO18_FLAG_W,BARIUM,BARIUM_FLAG_W,THETA
,,,,,,,METERS,DBARS,ITS-90,PSS-78,,PSS-78,,UMOL/KG,,UMOL/KG,,UMOL/KG,,UMOL/KG,,PMOL/KG,,PMOL/KG,,PMOL/KG,,UMOL/KG,,O/OO,,UM/KG,,DEGC
  06AQ19930806,    32,  3,      1,19930902, 78.7150, 132.3433, 2989,   1509.5,  -0.5263,  34.9191,2,  34.9206,2,   -999.0,9,  -999.00,9,  -999.00,9,  -999.00,9, -999.000,9, -999.000,9, -999.000,9,   -999.0,9,  -999.00,9,        -999,9,   -0.594076643
  06AQ19930806,    32,  3,      2,19930902, 78.7150, 132.3433, 2989,   1509.8,  -0.5265,  34.9191,2,  34.9181,2,   -999.0,9,  -999.00,9,  -999.00,9,  -999.00,9, -999.000,9, -999.000,9, -999.000,9,   -999.0,9,  -999.00,9,        -999,9,   -0.594284805
  06AQ19930806,    32,  3,      3,19930902, 78.7150, 132.3433, 2989,   1509.6,  -0.5279,  34.9191,2,  34.9171,2,   -999.0,9,  -999.00,9,  -999.00,9,  -999.00,9, -999.000,9, -999.000,9, -999.000,9,   -999.0,9,  -999.00,9,        -999,9,   -0.595653401
  06AQ19930806,    32,  3,      4,19930902, 78.7150, 132.3433, 2989,   1509.2,  -0.5272,  34.9189,2,  34.9175,2,   -999.0,9,  -999.00,9,  -999.00,9,  -999.00,9, -999.000,9, -999.000,9, -999.000,9,   -999.0,9,  -999.00,9,        -999,9,   -0.594939735
  06AQ19930806,    32,  3,      5,19930902, 78.7150, 132.3433, 2989,   1509.4,  -0.5269,  34.9189,2,  34.9173,2,   -999.0,9,  -999.00,9,  -999.00,9,  -999.00,9, -999.000,9, -999.000,9, -999.000,9,   -999.0,9,  -999.00,9,        -999,9,   -0.594654469
  06AQ19930806,    32,  3,      6,19930902, 78.7150, 132.3433, 2989,   1509.3,  -0.5266,  34.9194,2,  34.9167,2,   -999.0,9,  -999.00,9,  -999.00,9,  -999.00,9, -999.000,9, -999.000,9, -999.000,9,   -999.0,9,  -999.00,9,        -999,9,   -0.594350649
  06AQ19930806,    32,  3,      7,19930902, 78.7150, 132.3433, 2989,   1001.5,  -0.1639,  34.8799,2,  34.8771,2,   -999.0,9,  -999.00,9,  -999.00,9,  -999.00,9, -999.000,9, -999.000,9, -999.000,9,   -999.0,9,  -999.00,9,        -999,9,   -0.207233569
  06AQ19930806,    32,  3,      8,19930902, 78.7150, 132.3433, 2989,   1001.7,  -0.1624,  34.8797,2,  34.8777,2,   -999.0,9,  -999.00,9,  -999.00,9,  -999.00,9, -999.000,9, -999.000,9, -999.000,9,   -999.0,9,  -999.00,9,        -999,9,   -0.205757409
  06AQ19930806,    32,  3,     10,19930902, 78.7150, 132.3433, 2989,   1001.8,  -0.1613,  34.8798,2,  34.8789,2,   -999.0,9,  -999.00,9,  -999.00,9,  -999.00,9, -999.000,9, -999.000,9, -999.000,9,   -999.0,9,  -999.00,9,        -999,9,   -0.204673858
  06AQ19930806,    32,  3,     11,19930902, 78.7150, 132.3433, 2989,   1002.0,  -0.1610,  34.8806,2,  34.8799,2,   -999.0,9,  -999.00,9,  -999.00,9,  -999.00,9, -999.000,9, -999.000,9, -999.000,9,   -999.0,9,  -999.00,9,        -999,9,   -0.204388598
  06AQ19930806,    32,  3,     12,19930902, 78.7150, 132.3433, 2989,   1001.7,  -0.1609,  34.8806,2,  34.8594,2,   -999.0,9,  -999.00,9,  -999.00,9,  -999.00,9, -999.000,9, -999.000,9, -999.000,9,   -999.0,9,  -999.00,9,        -999,9,    -0.20423605
  06AQ19930806,    32,  3,     13,19930902, 78.7150, 132.3433, 2989,    800.5,  -0.0400,  34.8620,2,  34.8606,2,   -999.0,9,  -999.00,9,  -999.00,9,  -999.00,9, -999.000,9, -999.000,9, -999.000,9,   -999.0,9,  -999.00,9,        -999,9,  -0.0739946381
  06AQ19930806,    32,  3,     14,19930902, 78.7150, 132.3433, 2989,    800.6,  -0.0392,  34.8625,2,  34.8608,2,   -999.0,9,  -999.00,9,  -999.00,9,  -999.00,9, -999.000,9, -999.000,9, -999.000,9,   -999.0,9,  -999.00,9,        -999,9,  -0.0732051746
  06AQ19930806,    32,  3,     15,19930902, 78.7150, 132.3433, 2989,    800.3,  -0.0401,  34.8616,2,  34.8602,2,   -999.0,9,  -999.00,9,  -999.00,9,  -999.00,9, -999.000,9, -999.000,9, -999.000,9,   -999.0,9,  -999.00,9,        -999,9,  -0.0740834667
  06AQ19930806,    32,  3,     16,19930902, 78.7150, 132.3433, 2989,    800.3,  -0.0406,  34.8615,2,  34.8610,2,   -999.0,9,  -999.00,9,  -999.00,9,  -999.00,9, -999.000,9, -999.000,9, -999.000,9,   -999.0,9,  -999.00,9,        -999,9,  -0.0745813483
  06AQ19930806,    32,  3,     17,19930902, 78.7150, 132.3433, 2989,    800.7,  -0.0402,  34.8617,2,  34.8620,2,   -999.0,9,  -999.00,9,  -999.00,9,  -999.00,9, -999.000,9, -999.000,9, -999.000,9,   -999.0,9,  -999.00,9,        -999,9,  -0.0742053069
  06AQ19930806,    32,  3,     18,19930902, 78.7150, 132.3433, 2989,    800.4,  -0.0396,  34.8615,2,  34.8606,2,   -999.0,9,  -999.00,9,  -999.00,9,  -999.00,9, -999.000,9, -999.000,9, -999.000,9,   -999.0,9,  -999.00,9,        -999,9,  -0.0735923169
  06AQ19930806,    32,  3,     19,19930902, 78.7150, 132.3433, 2989,    500.2,   0.7957,  34.8741,2,  34.8746,2,   -999.0,9,  -999.00,9,  -999.00,9,  -999.00,9, -999.000,9, -999.000,9, -999.000,9,   -999.0,9,  -999.00,9,        -999,9,    0.772325514
  06AQ19930806,    32,  3,     20,19930902, 78.7150, 132.3433, 2989,    500.1,   0.7958,  34.8737,2,  34.8726,2,   -999.0,9,  -999.00,9,  -999.00,9,  -999.00,9, -999.000,9, -999.000,9, -999.000,9,   -999.0,9,  -999.00,9,        -999,9,    0.772432041
  06AQ19930806,    32,  3,     21,19930902, 78.7150, 132.3433, 2989,    500.2,   0.7924,  34.8743,2,  34.8734,2,   -999.0,9,  -999.00,9,  -999.00,9,  -999.00,9, -999.000,9, -999.000,9, -999.000,9,   -999.0,9,  -999.00,9,        -999,9,    0.769040219
  06AQ19930806,    32,  3,     22,19930902, 78.7150, 132.3433, 2989,    500.3,   0.7957,  34.8743,2,  34.8730,2,   -999.0,9,  -999.00,9,  -999.00,9,  -999.00,9, -999.000,9, -999.000,9, -999.000,9,   -999.0,9,  -999.00,9,        -999,9,    0.772321867
  06AQ19930806,    32,  3,     23,19930902, 78.7150, 132.3433, 2989,    500.3,   0.7915,  34.8733,2,  34.8744,2,   -999.0,9,  -999.00,9,  -999.00,9,  -999.00,9, -999.000,9, -999.000,9, -999.000,9,   -999.0,9,  -999.00,9,        -999,9,    0.768137909
  06AQ19930806,    32,  3,     24,19930902, 78.7150, 132.3433, 2989,    500.3,   0.7932,  34.8741,2,  34.8714,2,   -999.0,9,  -999.00,9,  -999.00,9,  -999.00,9, -999.000,9, -999.000,9, -999.000,9,   -999.0,9,  -999.00,9,        -999,9,    0.769833642
  06AQ19930806,    33,  1,      1,19930903, 79.6467, 130.5667, 3419,   3423.7,  -0.7321,  34.9422,2,  34.9421,2,    278.0,2,    11.66,2,    13.89,2,     1.08,2,    0.069,2,    0.048,2,    0.008,2,   2148.8,2,     0.21,2,0.0507456233,2,   -0.936039378
  06AQ19930806,    33,  1,      2,19930903, 79.6467, 130.5667, 3419,   3349.1,  -0.7388,  34.9421,2,  34.9409,2,    279.0,2,    11.66,2,    13.89,2,     1.07,2,    0.058,2,    0.018,2,    0.008,2,   2150.4,2,     0.27,2,0.0507456271,2,   -0.936082995
  06AQ19930806,    33,  1,      3,19930903, 79.6467, 130.5667, 3419,   3297.8,  -0.7434,  34.9416,2,  34.9417,2,    279.0,2,    11.46,2,    13.89,2,     1.09,2,    0.061,2,    0.036,2,    0.012,2,   2147.8,2,     0.24,2, 0.050745646,2,   -0.936167581
  06AQ19930806,    33,  1,      4,19930903, 79.6467, 130.5667, 3419,   3241.7,  -0.7487,  34.9419,2,  34.9415,2,    278.0,2,    11.46,2,    13.80,2,     1.09,2,    0.049,2,    0.040,2,    0.000,2,   2147.8,2,     0.29,2,0.0517215122,2,   -0.936566111
  06AQ19930806,    33,  1,      5,19930903, 79.6467, 130.5667, 3419,   2749.5,  -0.7902,  34.9327,2,  34.9317,2,    280.9,2,    11.08,2,    13.80,2,     1.03,2,    0.085,2,    0.047,2,    0.000,2,   2151.0,2,     0.21,2,0.0487942136,2,   -0.937373343
  06AQ19930806,    33,  1,      6,19930903, 79.6467, 130.5667, 3419,   2448.5,  -0.7931,  34.9272,2,  34.9277,2,    281.9,2,    10.88,2,    13.70,2,     1.09,2,    0.166,2,    0.084,2,    0.022,2,   2149.1,2,     0.26,2,0.0487944134,2,   -0.917842364
  06AQ19930806,    33,  1,      7,19930903, 79.6467, 130.5667, 3419,   2148.3,  -0.7749,  34.9236,2,  34.9244,2,    281.9,2,    10.88,2,    13.80,2,     1.07,2,    0.263,2,    0.133,2,    0.006,2,   2150.7,2,     0.20,2,0.0487945442,2,   -0.879101136
  06AQ19930806,    33,  1,      8,19930903, 79.6467, 130.5667, 3419,   1748.3,  -0.7125,  34.9202,2,  34.9202,2,    282.9,2,    10.30,2,    13.70,2,     1.03,2,    0.454,2,    0.195,2,    0.000,2,   2156.2,2,     0.23,2,0.0478187743,2,   -0.792057943
  06AQ19930806,    33,  1,      9,19930903, 79.6467, 130.5667, 3419,   1444.9,  -0.6167,  34.9175,2,  34.9183,2,    283.9,2,     9.91,2,    13.51,2,     1.00,2,    0.872,2,    0.396,2,    0.056,2,   2153.2,2,     0.28,2,0.0478188704,2,   -0.679690983
  06AQ19930806,    33,  1,     10,19930903, 79.6467, 130.5667, 3419,   1148.6,  -0.4043,  34.9161,2,  34.9163,2,    283.9,2,     8.84,2,    12.73,2,     0.96,2,    1.395,2,    0.642,2,    0.077,2,   2155.9,2,     0.21,2,0.0458671276,2,    -0.45332673
  06AQ19930806,    33,  1,     11,19930903, 79.6467, 130.5667, 3419,    847.7,  -0.1761,  34.8965,2,  34.8966,2,    287.9,2,     7.29,2,    12.15,2,     0.89,2,    3.612,2,    1.646,2,    0.228,2,   2156.2,2,     0.22,2,0.0448918862,2,   -0.211561759
  06AQ19930806,    33,  1,     12,19930903, 79.6467, 130.5667, 3419,    547.8,   0.5993,  34.9149,2,  34.9143,2,    286.9,2,     6.32,2,    12.15,2,     0.89,2,    3.356,2,    1.523,2,    0.162,2,   2145.7,2,     0.19,2,0.0439153742,2,    0.574320079
  06AQ19930806,    33,  1,     13,19930903, 79.6467, 130.5667, 3419,    424.2,   1.1187,  34.9247,2,  34.9279,2,    284.9,2,     6.02,2,    12.15,2,     0.87,2,    3.491,2,    1.604,2,    0.251,2,   2140.5,2,     0.24,2,0.0429391637,2,     1.09798773
  06AQ19930806,    33,  1,     14,19930903, 79.6467, 130.5667, 3419,    299.0,   1.6288,  34.9221,2,  34.9244,2,    283.9,2,     5.54,2,    12.05,2,     0.84,2,    4.165,2,    1.910,2,    0.235,2,   2137.5,2,     0.28,2,0.0439151388,2,     1.61327091
  06AQ19930806,    33,  1,     15,19930903, 79.6467, 130.5667, 3419,    246.9,   1.5485,  34.8723,2,  34.8785,2,    284.9,2,     5.35,2,    11.86,2,     0.84,2,    4.167,2,    1.895,2,    0.149,2,   2137.4,2,     0.28,2,0.0429408387,2,      1.5359702
  06AQ19930806,    33,  1,     16,19930903, 79.6467, 130.5667, 3419,    197.7,   1.0932,  34.7199,2,  34.7361,2,    284.9,2,     4.96,2,    11.08,2,     0.77,2,    4.302,2,    1.956,2,    0.197,2,   2136.7,2,     0.19,2,0.0429457106,2,     1.08404769
  06AQ19930806,    33,  1,     17,19930903, 79.6467, 130.5667, 3419,    170.7,   0.5159,  34.5776,2,  34.6249,2,    286.9,2,     4.67,2,    10.50,2,     0.73,2,    4.298,2,    2.002,2,    0.201,2,   2136.8,2,     0.10,2,0.0429502603,2,    0.508897785
  06AQ19930806,    33,  1,     18,19930903, 79.6467, 130.5667, 3419,    146.9,  -0.5355,  34.3617,2,  34.4416,2,    294.9,2,     3.89,2,     9.04,2,     0.63,2, -999.000,9, -999.000,9, -999.000,9,   2131.9,2,     0.03,2,0.0429571644,2,   -0.540132109
  06AQ19930806,    33,  1,     19,19930903, 79.6467, 130.5667, 3419,    128.1,  -1.3063,  34.2893,2,  34.3063,2,    303.8,2,     3.21,2,     7.87,2,     0.56,2, -999.000,9, -999.000,9, -999.000,9,   2125.6,2,    -0.06,2,0.0429594799,2,     -1.3094311
  06AQ19930806,    33,  1,     20,19930903, 79.6467, 130.5667, 3419,     97.5,  -1.7431,  34.1362,2,  34.1495,2,    322.7,2,     2.53,2,     6.32,2,     0.47,2,    6.530,2,    2.979,2,    0.439,2,   2113.7,2,    -0.33,2,0.0439408401,2,     -1.7450524
  06AQ19930806,    33,  1,     21,19930903, 79.6467, 130.5667, 3419,     73.9,  -1.8310,  34.1017,2,  34.0916,2,    329.6,2,     2.14,2,     5.74,2,     0.44,2,    6.777,2,    3.119,2,    0.542,2,   2110.7,2,    -0.44,2,0.0439419688,2,    -1.83239708
  06AQ19930806,    33,  1,     22,19930903, 79.6467, 130.5667, 3419,     48.6,  -1.8294,  34.0022,2,  33.9846,2,    330.7,2,     2.04,2,     5.54,2,     0.42,2,    6.874,2,    3.142,2,    0.500,2,   2106.7,2,    -0.49,2,0.0439452242,2,      -1.830297
  06AQ19930806,    33,  1,     23,19930903, 79.6467, 130.5667, 3419,     23.9,  -1.7165,  32.3464,2,  32.6444,2,    346.9,2,     2.04,2,     2.82,2,     0.30,2,    7.444,2,    3.480,2,    0.595,2,   2056.5,2,    -1.10,2,0.0449772095,2,    -1.71689608
  06AQ19930806,    33,  1,     24,19930903, 79.6467, 130.5667, 3419,     11.6,  -1.7146,  32.3495,2,  32.3254,2,    349.9,2,     2.14,2,     2.34,2,     0.27,2,    7.547,2,    3.488,2,    0.607,2,   2040.6,2,    -1.36,2,0.0449771056,2,    -1.71478373
  06AQ19930806,    33,  3,      1,19930903, 79.6467, 130.5667, 3419,   3430.7,  -0.7322,  34.9481,2,  34.8722,2,   -999.0,9,  -999.00,9,  -999.00,9,  -999.00,9, -999.000,9, -999.000,9, -999.000,9,   -999.0,9,  -999.00,9,        -999,9,   -0.936339686
  06AQ19930806,    33,  3,      7,19930903, 79.6467, 130.5667, 3419,   3199.0,  -0.7578,  34.9461,2,  34.8970,2,   -999.0,9,  -999.00,9,  -999.00,9,  -999.00,9, -999.000,9, -999.000,9, -999.000,9,   -999.0,9,  -999.00,9,        -999,9,   -0.941603839
  06AQ19930806,    33,  3,     14,19930903, 79.6467, 130.5667, 3419,   2601.4,  -0.7933,  34.9347,2,  34.2906,0,   -999.0,9,  -999.00,9,  -999.00,9,  -999.00,9, -999.000,9, -999.000,9, -999.000,9,   -999.0,9,  -999.00,9,        -999,9,    -0.92924328
  06AQ19930806,    33,  3,     20,19930903, 79.6467, 130.5667, 3419,   2000.1,  -0.7589,  34.9277,2,  33.9516,0,   -999.0,9,  -999.00,9,  -999.00,9,  -999.00,9, -999.000,9, -999.000,9, -999.000,9,   -999.0,9,  -999.00,9,        -999,9,   -0.853606709
  06AQ19930806,    34,  2,      1,19930904, 78.4867, 132.9600, 2530,   2448.0,  -0.7722,-999.0000,9,  34.9332,2,    278.9,2,    11.56,2,    14.96,2,     0.92,2,    0.187,2,    0.087,2,    0.000,2,   2152.8,2,     0.29,2,        -999,9,   -0.897327427
  06AQ19930806,    34,  2,      2,19930904, 78.4867, 132.9600, 2530,   2399.0,  -0.7722,-999.0000,9,  34.9289,2,    279.9,2,    11.56,2,    14.77,2,     0.92,2,    0.227,2,    0.108,2,    0.000,2,   2152.9,2,     0.26,2,        -999,9,   -0.893800968
  06AQ19930806,    34,  2,      3,19930904, 78.4867, 132.9600, 2530,   2002.0,  -0.7172,-999.0000,9,  34.9199,2,    280.9,2,    10.78,2,    14.57,2,     0.92,2,    0.589,2,    0.273,2,    0.009,2,   2154.4,2,     0.34,2,        -999,9,   -0.812661905
  06AQ19930806,    34,  2,      4,19930904, 78.4867, 132.9600, 2530,   1802.0,  -0.6422,-999.0000,9,  34.9128,2,    280.9,2,    10.30,2,    14.48,2,     0.90,2,    0.820,2,    0.359,2,    0.013,2,   2154.3,2,     0.26,2,        -999,9,   -0.726035823
  06AQ19930806,    34,  2,      5,19930904, 78.4867, 132.9600, 2530,   1603.0,  -0.5822,-999.0000,9,  34.9138,2,    281.9,2,    10.10,2,    14.38,2,     0.91,2,    1.016,2,    0.432,2,    0.061,2,   2157.1,2,     0.28,2,        -999,9,   -0.654753732
  06AQ19930806,    34,  2,      6,19930904, 78.4867, 132.9600, 2530,   1453.0,  -0.4232,-999.0000,9,  34.9114,2,    281.9,2,     9.72,2,    14.28,2,     0.91,2,    1.422,2,    0.622,2,    0.076,2,   2154.4,2,     0.30,2,        -999,9,   -0.488899647
  06AQ19930806,    34,  2,      7,19930904, 78.4867, 132.9600, 2530,   1453.0,  -0.4232,-999.0000,9,  34.9116,2,    281.9,2,     9.42,2,    14.19,2,     0.86,2,    1.576,2,    0.659,2,    0.093,2,   2151.9,2,  -999.00,9,        -999,9,   -0.488900175
  06AQ19930806,    34,  2,      8,19930904, 78.4867, 132.9600, 2530,   1203.0,  -0.1762,-999.0000,9,  34.8947,2,    287.8,2,     7.38,2,    12.73,2,     0.78,2,    3.853,2,    1.760,2,    0.233,2,   2157.9,2,     0.25,2,        -999,9,   -0.230314904
  06AQ19930806,    34,  2,      9,19930904, 78.4867, 132.9600, 2530,   1005.0,  -0.0412,-999.0000,9,  34.8720,2,    288.8,2,     5.73,2,    12.05,2,     0.73,2,    5.210,2,    2.403,2,    0.337,2,   2153.8,2,     0.26,2,        -999,9,  -0.0857154442
  06AQ19930806,    34,  2,     10,19930904, 78.4867, 132.9600, 2530,    804.0,   0.2508,-999.0000,9,  34.8742,2,    288.8,2,     5.83,2,    12.15,2,     0.77,2,    5.187,2,    2.421,2,    0.343,2,   2153.4,2,     0.23,2,        -999,9,    0.214688674
  06AQ19930806,    34,  2,     11,19930904, 78.4867, 132.9600, 2530,    604.0,   0.7248,-999.0000,9,  34.8724,2,    286.8,2,     5.73,2,    12.24,2,     0.78,2,    5.097,2,    2.369,2,    0.327,2,   2150.7,2,     0.34,2,        -999,9,    0.696382324
  06AQ19930806,    34,  2,     12,19930904, 78.4867, 132.9600, 2530,    403.0,   1.3378,-999.0000,9,  34.8787,2,    288.8,2,     5.44,2,    12.05,2,     0.76,2,    5.195,2,    2.402,2,    0.322,2,   2143.3,2,     0.26,2,        -999,9,      1.3175069
  06AQ19930806,    34,  2,     13,19930904, 78.4867, 132.9600, 2530,    353.0,   1.6648,-999.0000,9,  34.8695,2,    286.8,2,     5.35,2,    12.05,2,     0.76,2, -999.000,9, -999.000,9, -999.000,9,   -999.0,9,  -999.00,9,        -999,9,     1.64623505
  06AQ19930806,    34,  2,     14,19930904, 78.4867, 132.9600, 2530,    204.0,   1.3998,-999.0000,9,  34.7841,2,    286.9,2,     4.86,2,    11.47,2,     0.71,2,    5.396,2,    2.512,2,    0.332,2,   2132.6,2,     0.17,2,        -999,9,     1.38980803
  06AQ19930806,    34,  2,     15,19930904, 78.4867, 132.9600, 2530,    171.0,   0.3498,-999.0000,9,  34.6243,2,    289.9,2,     4.47,2,    10.40,2,     0.67,2,    5.749,2,    2.665,2,    0.367,2,   2134.5,2,  -999.00,9,        -999,9,    0.343024365
  06AQ19930806,    34,  2,     16,19930904, 78.4867, 132.9600, 2530,    154.0,   0.0998,-999.0000,9,  34.5642,2,    296.8,2,     4.28,2,     9.91,2,     0.65,2,    5.858,2,    2.699,2,    0.365,2,   2132.4,2,  -999.00,9,        -999,9,   0.0940645295
  06AQ19930806,    34,  2,     17,19930904, 78.4867, 132.9600, 2530,    103.0,  -1.6202,-999.0000,9,  34.1930,2,    313.6,2,     3.01,2,     7.49,2,     0.52,2,    6.456,2,    2.988,2,    0.440,2,   2119.5,2,    -0.25,2,        -999,9,    -1.62238775
  06AQ19930806,    34,  2,     18,19930904, 78.4867, 132.9600, 2530,     78.0,  -1.8102,-999.0000,9,  34.0506,2,    327.5,2,     2.24,2,     5.83,2,     0.44,2,    6.797,2,    3.121,2,    0.530,2,   2109.9,2,  -999.00,9,        -999,9,    -1.81168575
  06AQ19930806,    34,  2,     19,19930904, 78.4867, 132.9600, 2530,     53.0,  -1.8002,-999.0000,9,  33.8546,2,    329.5,2,     2.92,2,     5.74,2,     0.45,2,    6.896,2,    3.197,2,    0.496,2,   2119.3,2,  -999.00,9,        -999,9,    -1.80118061
  06AQ19930806,    34,  2,     20,19930904, 78.4867, 132.9600, 2530,     26.0,  -1.6452,-999.0000,9,  32.4787,2,    343.7,2,     3.41,2,     3.02,2,     0.33,2,    7.355,2,    3.431,2, -999.000,9,   2055.1,2,  -999.00,9,        -999,9,    -1.64563939
  06AQ19930806,    34,  2,     21,19930904, 78.4867, 132.9600, 2530,     17.0,  -1.6252,-999.0000,9,  32.4493,2,    343.7,2,  -999.00,9,     0.33,2,     3.50,4,    7.372,2,    3.408,2,    0.569,2,   2056.1,2,  -999.00,9,        -999,9,    -1.62548779