BOTTLE,20081119PRINUNIVRMK
# 10/22/2007 Initialized README file 
# Cruise dates:8/6 - 10/6/1993 
# Chief Scientist:D.K. Fütterer 
# Ship and cruise designation: Polarstern ARK-IX/4 
# EXPOCODE: 06AQ19930806 (basename arkix.4) 
# Region:Laptev Sea 
# 64 full depth stations;  with 24 place Rosette 
# Hydro: Who - AWI; Status - final 
# 	Notes: data from Leif Anderson's email on 01/16/2007 
# 	Dates, latitudes, longitudes and bottom depths from  
# 	http://www.pangaea.de/PHP/CruiseReports.php?b=Polarstern 
# 	See Fütterer 1994 
# 	3 temperatures corrected (- sign had been lost) 
# 	Neil Brown CTD 
# Nuts/O2: Who - AWI; Status - final 
# 	Notes: data from Leif Anderson 01/16/2007 
# TCO2: Who - L. Anderson; Status - final 
# 	Notes: data from Leif Anderson 01/16/2007 
# 	See Olsson et al. 1997  
# CFC: Who - W. Smethie; Status - final 
# 	Notes: data from Hoyle Lee 10/31/2007 
# O-18: Who - P. Schlosser; Status - final 
# 	Notes: data from Leif Anderson 01/16/2007 
# Ba: Who - Kelly Falkner; Status - final 
# 	Notes: data from http://nsidc.org/data/arcss102.html 
# 	Converted from nmol/l to umol/kg using measured salt, T=20, P=0 
# 	See Taylor el al. 2003 
# Other: Kr-85 Smethie? 
# References: 
# Fütterer, DK.(1994). Die Expedition ARCTIC 93, der Fahrtabschnitt 
# ARK-IX/4 mit FS Polarstern 1993 (The Expedition ARCTIC 93 Leg ARK-IX/4 of RV 
# Polarstern 1993), Berichte zur Polarforschung = Reports on polar research, 149, 
# 244 pp. 
# Olsson, K. and L.G. Anderson, Input and biogeochemical transformation of 
# dissolved carbon in the Siberian Shelf seas, Continental Shelf Res., 17(7), 
# 819-833, 1997. 
# Taylor, J. R., K. K. Falkner, U. Schauer, and M. Meredith (2003), Quantitative 
# considerations of dissolved barium as a tracer in the Arctic Ocean, J. Geophys. 
# Res., 108(C12), 3374, doi:10.1029/2002JC001635. 
EXPOCODE,STNNBR,CASTNO,BTLNBR,DATE,LATITUDE,LONGITUDE,DEPTH,CTDPRS,CTDTMP,CTDSAL,CTDSAL_FLAG_W,SALNTY,SALNTY_FLAG_W,OXYGEN,OXYGEN_FLAG_W,SILCAT,SILCAT_FLAG_W,NITRAT,NITRAT_FLAG_W,PHSPHT,PHSPHT_FLAG_W,CFC-11,CFC-11_FLAG_W,CFC-12,CFC-12_FLAG_W,CFC113,CFC113_FLAG_W,TCARBN,TCARBN_FLAG_W,DELO18,DELO18_FLAG_W,BARIUM,BARIUM_FLAG_W,THETA
,,,,,,,METERS,DBARS,ITS-90,PSS-78,,PSS-78,,UMOL/KG,,UMOL/KG,,UMOL/KG,,UMOL/KG,,PMOL/KG,,PMOL/KG,,PMOL/KG,,UMOL/KG,,O/OO,,UM/KG,,DEGC
  06AQ19930806,     6,  1,      2,19930812, 81.2050,  30.5833,  181,    174.7,   1.3228,  34.7475,2,  34.7401,2,    291.6,2,     5.44,2,     5.15,2,     0.70,2,    5.661,2,    2.656,2,    0.418,2,   2125.8,2,     0.21,2,0.0439208471,2,     1.31441298
  06AQ19930806,     6,  1,      4,19930812, 81.2050,  30.5833,  181,    165.7,   1.2824,  34.7361,2,  34.7320,2,    292.5,2,     5.35,2,     5.05,2,     0.70,2,    5.639,2,    2.650,2,    0.427,2,   2127.0,2,     0.19,2,0.0439212198,2,     1.27451604
  06AQ19930806,     6,  1,      6,19930812, 81.2050,  30.5833,  181,    150.7,   0.9124,  34.6561,2,  34.6506,2,    293.5,2,     5.35,2,     4.96,2,     0.70,2, -999.000,9,    2.690,2, -999.000,9,   2123.4,2,     0.23,2, 0.109321546,4,    0.905736805
  06AQ19930806,     6,  1,      8,19930812, 81.2050,  30.5833,  181,    125.1,   0.7033,  34.6135,2,  34.6147,2,    293.5,2,     5.35,2,     5.05,2,     0.69,2,    5.838,2,    2.688,2, -999.000,9,   2121.4,2,  -999.00,9,0.0439252286,2,    0.698024748
  06AQ19930806,     6,  1,     10,19930812, 81.2050,  30.5833,  181,    101.2,   0.4145,  34.5363,2,  34.7266,0,    294.5,2,     5.25,2,     5.05,2,     0.69,2,    5.922,2,    2.737,2,    0.460,2,   2116.7,2,     0.21,2,0.0458800978,2,    0.410515376
  06AQ19930806,     6,  1,     12,19930812, 81.2050,  30.5833,  181,     50.2,  -1.3242,  34.1008,2,  34.1357,2,    304.3,2,  -999.00,9,  -999.00,9,  -999.00,9, -999.000,9, -999.000,9, -999.000,9,   2086.9,2,  -999.00,9,        -999,9,     -1.3253645
  06AQ19930806,     6,  1,     14,19930812, 81.2050,  30.5833,  181,     50.2,  -1.3329,  34.0987,2,  34.0977,2,    305.3,2,     4.67,2,     4.47,2,     0.62,2,    6.293,2,    2.968,2,    0.508,2,   2085.6,2,     0.15,2,        -999,9,    -1.33405698
  06AQ19930806,     6,  1,     16,19930812, 81.2050,  30.5833,  181,     24.9,  -1.4826,  33.8400,2,  33.8977,2,    311.2,2,     4.67,2,     3.99,2,     0.62,2,    6.251,2,    2.912,2,    0.497,2,   2073.9,2,     0.14,2,0.0439505317,2,    -1.48312537
  06AQ19930806,     6,  1,     18,19930812, 81.2050,  30.5833,  181,     14.9,  -1.5349,  33.7460,2,  33.7808,2,    312.2,2,     4.57,2,     3.89,2,     0.60,2,    6.342,2,    2.931,2,    0.488,2,   2066.7,2,  -999.00,9,0.0439536079,2,    -1.53520266
  06AQ19930806,     6,  1,     20,19930812, 81.2050,  30.5833,  181,     10.1,  -1.6049,  33.6345,2,  33.6186,2,    316.1,2,     4.47,2,     3.50,2,     0.58,2,    6.304,2,    2.904,2,    0.512,2,   2055.5,2,     0.06,2,0.0439572572,2,    -1.60509525
  06AQ19930806,     6,  1,     22,19930812, 81.2050,  30.5833,  181,      5.3,  -1.6537,  33.4636,2,  33.6047,2,    317.1,2,     4.38,2,     3.50,2,     0.54,2,    6.250,2,    2.952,2,    0.495,2,   2051.3,2,  -999.00,9,0.0429858991,2,    -1.65379978
  06AQ19930806,     6,  1,     24,19930812, 81.2050,  30.5833,  181,      2.5,  -1.6284,  33.5093,2,  33.5510,2,    317.1,2,     4.38,2,     3.50,2,     0.54,2,    6.325,2,    2.913,2,    0.539,2,   2050.1,2,     0.05,2,        -999,9,    -1.62844729
  06AQ19930806,     7,  1,      1,19930812, 81.4500,  30.8717,  500,    491.1,   2.3799,  34.9978,2,  34.9927,2,    289.6,2,     5.15,2,    10.50,2,     0.78,2,    4.950,2,    2.329,2,    0.328,2,   2138.1,2,     0.23,2,0.0439126642,2,     2.35054964
  06AQ19930806,     7,  1,      3,19930812, 81.4500,  30.8717,  500,    464.4,   2.6345,  35.0119,2,  35.0094,2,    290.6,2,     5.25,2,    11.47,2,     0.78,2,    5.190,2,    2.436,2,    0.337,2,   2137.8,2,     0.30,2,  0.04488803,2,      2.6058831
  06AQ19930806,     7,  1,      5,19930812, 81.4500,  30.8717,  500,    445.3,   2.6084,  35.0035,2,  35.0006,2,    290.6,2,     4.86,2,    10.50,2,     0.68,2,    5.239,2,    2.475,2,    0.338,2,   2140.8,2,     0.25,2,0.0439124778,2,     2.58112923
  06AQ19930806,     7,  1,      7,19930812, 81.4500,  30.8717,  500,    349.6,   1.9395,  34.8915,2,  35.0712,2,    291.5,2,     4.96,2,    10.69,2,     0.78,2,    5.566,2,    2.676,2,    0.389,2,   2136.6,2,     0.26,2,0.0439161391,2,     1.92021327
  06AQ19930806,     7,  1,      9,19930812, 81.4500,  30.8717,  500,    247.6,   1.8098,  34.8714,2,  34.8621,2,    293.5,2,     4.66,2,    10.69,2,     0.78,2,    5.733,2,    2.714,2,    0.444,2,   2132.0,2,     0.25,2,0.0439167962,2,     1.79670873
  06AQ19930806,     7,  1,     11,19930812, 81.4500,  30.8717,  500,    150.8,   2.8751,  34.9417,2,  34.9396,2,    285.7,2,     4.28,2,    10.20,2,     0.78,2,    5.461,2,    2.592,2,    0.345,2,   2134.2,2,  -999.00,9, 0.043914498,2,     2.86591772
  06AQ19930806,     7,  1,     13,19930812, 81.4500,  30.8717,  500,     99.3,   2.3008,  34.8171,2,  34.8289,2,    289.6,2,     3.60,2,     8.07,2,     0.68,2,    5.343,2,    2.498,2,    0.323,2,   2127.0,2,  -999.00,9,0.0478224445,2,      2.2952799
  06AQ19930806,     7,  1,     15,19930812, 81.4500,  30.8717,  500,     75.5,   1.3113,  34.5876,2,  34.6551,2,    294.5,2,     3.69,2,     8.26,2,     0.68,2,    5.567,2,    2.608,2, -999.000,9,   2120.9,2,     0.20,2,0.0439260756,2,     1.30775956
  06AQ19930806,     7,  1,     17,19930812, 81.4500,  30.8717,  500,     49.7,  -0.6920,  34.2311,2,  34.3725,2,    305.2,2,     4.18,2,     8.36,2,     0.58,2,    5.830,2,    2.765,2,    0.382,2,   2101.7,2,     0.09,2,0.0449141297,2,   -0.693448079
  06AQ19930806,     7,  1,     19,19930812, 81.4500,  30.8717,  500,     25.5,  -1.5718,  33.9897,2,  34.0131,2,    313.1,2,     4.08,2,     7.78,2,     0.58,2,    5.922,2,    2.738,2,    0.408,2,   2087.2,2,     0.04,2,0.0449222028,2,    -1.57232398
  06AQ19930806,     7,  1,     21,19930812, 81.4500,  30.8717,  500,     15.5,  -1.6641,  33.8704,2,  33.8995,2,    318.9,2,     4.08,2,     7.78,2,     0.58,2,    6.003,2,    2.833,2,    0.413,2,   2076.3,2,  -999.00,9,0.0439495369,2,    -1.66440094
  06AQ19930806,     7,  1,     23,19930812, 81.4500,  30.8717,  500,      5.6,  -1.6429,  33.6964,2,  33.6383,2,    338.5,2,     3.50,2,     6.61,2,     0.49,2,    6.046,2,    2.818,2,    0.391,2,   2051.8,2,  -999.00,9,0.0420016654,2,    -1.64300635
  06AQ19930806,     8,  1,      1,19930813, 81.4800,  30.8983,  614,    606.2,   1.8967,  34.9832,2,  34.9833,2,    291.5,2,     5.83,2,    11.66,2,     0.78,2,    4.675,2,    2.194,2,    0.323,2,   2143.2,2,     0.25,2,        -999,9,     1.86226432
  06AQ19930806,     8,  1,      2,19930813, 81.4800,  30.8983,  614,    606.2,   1.8972,  34.9834,2,  34.9833,2,    292.5,2,     5.83,2,    11.66,2,     0.78,2, -999.000,9, -999.000,9, -999.000,9,   2142.3,2,  -999.00,9,        -999,9,     1.86276187
  06AQ19930806,     8,  1,      3,19930813, 81.4800,  30.8983,  614,    606.2,   1.8960,  34.9826,2,  34.9827,2,   -999.0,9,  -999.00,9,  -999.00,9,  -999.00,9, -999.000,9, -999.000,9, -999.000,9,   -999.0,9,  -999.00,9,        -999,9,     1.86156838
  06AQ19930806,     8,  1,      4,19930813, 81.4800,  30.8983,  614,    499.7,   2.3067,  35.0080,2,  35.0047,2,    294.5,2,     5.64,2,    11.47,2,     0.78,2,    5.084,2,    2.409,2,    0.329,2,   2140.2,2,     0.26,2,        -999,9,     2.27708416
  06AQ19930806,     8,  1,      5,19930813, 81.4800,  30.8983,  614,    499.7,   2.3036,  35.0073,2,  35.0079,2,   -999.0,9,  -999.00,9,  -999.00,9,  -999.00,9, -999.000,9, -999.000,9, -999.000,9,   -999.0,9,  -999.00,9,        -999,9,     2.27399381
  06AQ19930806,     8,  1,      6,19930813, 81.4800,  30.8983,  614,    350.1,   1.8878,  34.9055,2,  34.9025,2,    294.5,2,     4.57,2,     9.72,2,     0.78,2,    5.625,2,    2.645,2,    0.442,2,   2131.4,2,     0.26,2,        -999,9,     1.86873751
  06AQ19930806,     8,  1,      7,19930813, 81.4800,  30.8983,  614,    350.2,   1.8704,  34.8956,2,  34.8966,2,   -999.0,9,  -999.00,9,  -999.00,9,  -999.00,9, -999.000,9, -999.000,9, -999.000,9,   -999.0,9,  -999.00,9,        -999,9,     1.85138518
  06AQ19930806,     8,  1,      8,19930813, 81.4800,  30.8983,  614,    250.0,   1.5530,  34.8527,2,  34.8603,2,    291.6,2,     5.05,2,    10.69,2,     0.78,2,    5.754,2,    2.679,2,    0.422,2,   2129.4,2,     0.26,2,        -999,9,     1.54030522
  06AQ19930806,     8,  1,      9,19930813, 81.4800,  30.8983,  614,    250.0,   1.5522,  34.8515,2,  34.8597,2,   -999.0,9,  -999.00,9,  -999.00,9,  -999.00,9, -999.000,9, -999.000,9, -999.000,9,   -999.0,9,  -999.00,9,        -999,9,     1.53950714
  06AQ19930806,     8,  1,     10,19930813, 81.4800,  30.8983,  614,    149.7,   2.8736,  34.9424,2,  34.9440,2,    286.7,2,     4.76,2,    10.98,2,     0.78,2,    5.036,2,    2.500,2,    0.370,2,   2132.9,2,     0.28,2,        -999,9,     2.86448669
  06AQ19930806,     8,  1,     11,19930813, 81.4800,  30.8983,  614,    149.8,   2.8732,  34.9420,2,  34.8267,2,   -999.0,9,  -999.00,9,  -999.00,9,  -999.00,9, -999.000,9, -999.000,9, -999.000,9,   -999.0,9,  -999.00,9,        -999,9,     2.86411194
  06AQ19930806,     8,  1,     12,19930813, 81.4800,  30.8983,  614,     99.9,   2.1363,  34.7534,2,  34.7572,2,    291.6,2,     3.99,2,     9.14,2,     0.68,2,    5.377,2,    2.526,2,    0.387,2,   2121.7,2,  -999.00,9,        -999,9,     2.13089374
  06AQ19930806,     8,  1,     13,19930813, 81.4800,  30.8983,  614,    100.0,   2.1159,  34.7463,2,  34.7540,2,   -999.0,9,  -999.00,9,  -999.00,9,  -999.00,9, -999.000,9, -999.000,9, -999.000,9,   -999.0,9,  -999.00,9,        -999,9,     2.11050559
  06AQ19930806,     8,  1,     14,19930813, 81.4800,  30.8983,  614,     69.6,  -0.0870,  34.3655,2,  34.3827,2,    307.2,2,     3.69,2,     7.97,2,     0.58,2,    5.803,2,    2.707,2,    0.481,2,   2099.1,2,  -999.00,9,        -999,9,  -0.0894036628
  06AQ19930806,     8,  1,     15,19930813, 81.4800,  30.8983,  614,     69.6,  -0.0904,  34.3618,2,  34.3872,2,   -999.0,9,  -999.00,9,  -999.00,9,  -999.00,9, -999.000,9, -999.000,9, -999.000,9,   -999.0,9,  -999.00,9,        -999,9,  -0.0928022351
  06AQ19930806,     8,  1,     16,19930813, 81.4800,  30.8983,  614,     50.6,  -1.1598,  34.1326,2,  34.1378,2,    313.1,2,     3.99,2,     8.36,2,     0.68,2,    6.042,2,    2.803,2,    0.422,2,   2090.5,2,  -999.00,9,        -999,9,    -1.16104669
  06AQ19930806,     8,  1,     17,19930813, 81.4800,  30.8983,  614,     50.6,  -1.1695,  34.1296,2,  34.1319,2,   -999.0,9,  -999.00,9,  -999.00,9,  -999.00,9, -999.000,9, -999.000,9, -999.000,9,   -999.0,9,  -999.00,9,        -999,9,    -1.17074184
  06AQ19930806,     8,  1,     18,19930813, 81.4800,  30.8983,  614,     23.9,  -1.6648,  33.7511,2,  33.7997,2,    324.8,2,     3.89,2,     6.90,2,     0.58,2,    5.899,2,    2.734,2,    0.405,2,   2061.6,2,    -0.07,2,        -999,9,     -1.6652612
  06AQ19930806,     8,  1,     19,19930813, 81.4800,  30.8983,  614,     23.9,  -1.6649,  33.7501,2,  33.8163,2,   -999.0,9,  -999.00,9,  -999.00,9,  -999.00,9, -999.000,9, -999.000,9, -999.000,9,   -999.0,9,  -999.00,9,        -999,9,    -1.66536195
  06AQ19930806,     8,  1,     20,19930813, 81.4800,  30.8983,  614,     15.1,  -1.6369,  33.6841,2,  33.7153,2,    325.8,2,     3.50,2,     6.52,2,     0.58,2,    5.917,2,    2.695,2,    0.449,2,   2056.6,2,  -999.00,9,        -999,9,    -1.63719127
  06AQ19930806,     8,  1,     21,19930813, 81.4800,  30.8983,  614,     15.1,  -1.6225,  33.6623,2,  33.6881,2,   -999.0,9,  -999.00,9,  -999.00,9,  -999.00,9, -999.000,9, -999.000,9, -999.000,9,   -999.0,9,  -999.00,9,        -999,9,    -1.62279238
  06AQ19930806,     8,  1,     22,19930813, 81.4800,  30.8983,  614,     10.3,  -1.6016,  33.6103,2,  33.5432,2,    334.6,2,     3.21,2,     5.84,2,     0.49,2, -999.000,9, -999.000,9, -999.000,9,   2044.3,2,  -999.00,9,        -999,9,    -1.60179792
  06AQ19930806,     8,  1,     23,19930813, 81.4800,  30.8983,  614,      9.9,  -1.6248,  33.6626,2,  33.5893,2,   -999.0,9,  -999.00,9,  -999.00,9,  -999.00,9, -999.000,9, -999.000,9, -999.000,9,   -999.0,9,  -999.00,9,        -999,9,    -1.62498906
  06AQ19930806,     8,  1,     24,19930813, 81.4800,  30.8983,  614,      5.2,  -1.5641,  33.4792,2,  33.6082,2,    342.4,2,     2.14,2,     4.86,2,     0.49,2,    6.068,2,    2.811,2,    0.457,2,   2028.7,2,  -999.00,9,        -999,9,    -1.56420204
  06AQ19930806,     9,  1,      1,19930813, 81.5333,  30.5167,  912,      5.1,  -1.5732,  32.9077,2,  32.8561,2,   -999.0,9,  -999.00,9,  -999.00,9,  -999.00,9,    6.122,2,    2.835,2,    0.396,2,   1954.8,2,    -0.01,2,        -999,9,    -1.57329214
  06AQ19930806,     9,  1,      2,19930813, 81.5333,  30.5167,  912,    905.1,  -0.0485,  34.9142,2,  34.9136,2,    284.7,2,  -999.00,9,  -999.00,9,  -999.00,9,    2.261,2,    1.034,2,    0.045,2,   2152.9,2,     0.17,2,        -999,9,  -0.0878043228
  06AQ19930806,     9,  1,      3,19930813, 81.5333,  30.5167,  912,    850.6,  -0.0060,  34.9132,2,  34.9149,2,    284.7,2,     8.16,2,    12.83,2,     0.87,2,    2.330,2,    1.059,2,    0.071,2,   2148.7,2,     0.20,2,0.0458672266,2,  -0.0428247911
  06AQ19930806,     9,  1,      4,19930813, 81.5333,  30.5167,  912,    800.2,   0.0899,  34.9147,2,  34.9136,2,    285.7,2,     7.97,2,    12.63,2,     0.87,2, -999.000,9, -999.000,9, -999.000,9,   2149.9,2,     0.18,2,        -999,9,   0.0549861414
  06AQ19930806,     9,  1,      5,19930813, 81.5333,  30.5167,  912,    749.1,   0.1808,  34.9166,2,  34.9155,2,    286.6,2,     7.68,2,    12.53,2,     0.87,2, -999.000,9, -999.000,9, -999.000,9,   2151.1,2,  -999.00,9,0.0448912145,2,     0.14789211
  06AQ19930806,     9,  1,      6,19930813, 81.5333,  30.5167,  912,    598.4,   0.9317,  34.9321,2,  34.9305,2,    289.6,2,     6.41,2,    11.66,2,     0.78,2,    3.333,2,    1.505,2,    0.128,2,   2146.5,2,     0.21,2, 0.046842466,2,    0.902496075
  06AQ19930806,     9,  1,      8,19930813, 81.5333,  30.5167,  912,    349.2,   2.5587,  35.0148,2,  35.0142,2,    289.6,2,     5.34,2,    11.27,2,     0.78,2,    5.088,2,    2.388,2,    0.315,2,   2142.3,2,     0.29,2,0.0448879331,2,     2.53771928
  06AQ19930806,     9,  1,     10,19930813, 81.5333,  30.5167,  912,    250.6,   3.0184,  35.0217,2,  34.9970,2,    289.6,2,     4.37,2,     9.52,2,     0.68,2,    5.239,2,    2.463,2,    0.317,2,   2138.2,2,     0.28,2,        -999,9,     3.00262321
  06AQ19930806,     9,  1,     12,19930813, 81.5333,  30.5167,  912,    151.1,   2.9645,  34.9210,2,  34.9199,2,    288.7,2,     4.08,2,    10.01,2,     0.78,2,    5.421,2,    2.548,2,    0.381,2,   2131.2,2,     0.29,2,0.0439151747,2,     2.95519497
  06AQ19930806,     9,  1,     14,19930813, 81.5333,  30.5167,  912,    100.4,   2.8454,  34.8063,2,  34.8189,2,    288.7,2,     3.11,2,     7.68,2,     0.58,2,    5.532,2,    2.573,2,    0.352,2,   2122.7,2,     0.23,2,0.0439189246,2,     2.83937344
  06AQ19930806,     9,  1,     16,19930813, 81.5333,  30.5167,  912,     76.1,   2.2870,  34.6128,2,  34.6582,2,    295.5,2,     2.43,2,     5.64,2,     0.58,2,    5.648,2,    2.616,2,    0.386,2,   2109.3,2,     0.25,2,        -999,9,     2.28281625
  06AQ19930806,     9,  1,     18,19930813, 81.5333,  30.5167,  912,     50.3,   0.7255,  34.1323,2,  34.1350,2,    310.2,2,     1.56,2,  -999.00,9,     0.58,2,    5.907,2,    2.740,2,    0.411,2,   2071.5,2,     0.19,2,        -999,9,    0.723448054
  06AQ19930806,     9,  1,     20,19930813, 81.5333,  30.5167,  912,     22.7,  -1.4023,  33.3249,2,  33.2577,2,    363.9,2,     1.65,2,  -999.00,9,     0.39,2, -999.000,9, -999.000,9, -999.000,9,   1993.2,2,  -999.00,9,        -999,9,    -1.40276609
  06AQ19930806,     9,  1,     22,19930813, 81.5333,  30.5167,  912,     16.3,  -1.6042,  32.8799,2,  33.0355,2,   -999.0,9,  -999.00,9,  -999.00,9,  -999.00,9, -999.000,9, -999.000,9, -999.000,9,   1969.9,2,  -999.00,9,        -999,9,    -1.60449759
  06AQ19930806,     9,  1,     23,19930813, 81.5333,  30.5167,  912,     10.3,  -1.5696,  32.9108,2,-999.0000,9,   -999.0,9,  -999.00,9,  -999.00,9,  -999.00,9, -999.000,9, -999.000,9, -999.000,9,   -999.0,9,  -999.00,9,        -999,9,    -1.56978806
  06AQ19930806,     9,  1,     24,19930813, 81.5333,  30.5167,  912,      5.2,  -1.5922,  32.8359,2,  32.8627,2,    378.6,2,     0.88,2,  -999.00,9,     0.29,2,    6.154,2,    2.817,2,    0.401,2,   1955.8,2,     0.00,2,0.0410511791,2,    -1.59229315