BOTTLE,20081119PRINUNIVRMK
EXPOCODE,STNNBR,CASTNO,BTLNBR,DATE,LATITUDE,LONGITUDE,DEPTH,CTDPRS,CTDTMP,CTDSAL,CTDSAL_FLAG_W,SALNTY,SALNTY_FLAG_W,OXYGEN,OXYGEN_FLAG_W,SILCAT,SILCAT_FLAG_W,NITRAT,NITRAT_FLAG_W,PHSPHT,PHSPHT_FLAG_W,CFC-11,CFC-11_FLAG_W,CFC-12,CFC-12_FLAG_W,CFC113,CFC113_FLAG_W,TCARBN,TCARBN_FLAG_W,DELO18,DELO18_FLAG_W,BARIUM,BARIUM_FLAG_W,THETA
,,,,,,,METERS,DBARS,ITS-90,PSS-78,,PSS-78,,UMOL/KG,,UMOL/KG,,UMOL/KG,,UMOL/KG,,PMOL/KG,,PMOL/KG,,PMOL/KG,,UMOL/KG,,O/OO,,UM/KG,,DEGC
  06AQ19930806,    55,  1,      1,19930914, 79.0367, 118.2367, 2873,   2862.3,  -0.7727,  34.9402,2,  34.9397,2,    277.5,2,    11.37,2,    12.92,2,     0.90,2,    0.044,2,    0.023,2,    0.000,2,   2147.4,2,     0.21,2,0.0507456989,2,   -0.929044178
  06AQ19930806,    55,  1,      2,19930914, 79.0367, 118.2367, 2873,   2002.0,  -0.7395,  34.9204,2,  34.9193,2,    283.6,2,    10.30,2,    12.63,2,     0.89,2,    0.632,2,    0.252,2,    0.000,2,   2151.3,2,     0.23,2,0.0439151944,2,   -0.834606735
  06AQ19930806,    55,  1,      3,19930914, 79.0367, 118.2367, 2873,   1093.9,  -0.0906,  34.9048,2,  34.9071,2,    283.6,2,     7.19,2,    11.27,2,     0.84,2,    3.211,2,    1.420,2,    0.229,2,   2154.5,2,     0.22,2,0.0439157043,2,   -0.139541343
  06AQ19930806,    55,  1,      4,19930914, 79.0367, 118.2367, 2873,   1001.9,   0.1183,  34.9008,2,  34.9037,2,    282.7,2,     6.80,2,    11.08,2,     0.78,2,    3.647,2,    1.640,2,    0.256,2,   2154.3,2,     0.25,2,0.0468435574,2,   0.0725869992
  06AQ19930806,    55,  1,      5,19930914, 79.0367, 118.2367, 2873,    911.7,   0.1383,  34.8825,2,  34.8809,2,    284.5,2,     5.54,2,    10.30,2,     0.74,2,    5.246,2,    2.317,2,    0.396,2,   2155.6,2,     0.19,2,0.0409886711,2,   0.0973150918
  06AQ19930806,    55,  1,      6,19930914, 79.0367, 118.2367, 2873,    825.6,   0.0461,  34.8557,2,  34.8514,2,    292.4,2,     5.34,2,     9.81,2,     0.70,2,    5.607,2,    2.483,2,    0.421,2,   2147.1,2,     0.22,2,0.0439173095,2,   0.0102836293
  06AQ19930806,    55,  1,      7,19930914, 79.0367, 118.2367, 2873,    801.2,   0.1915,  34.8654,2,  34.8683,2,    286.2,2,     5.44,2,    10.01,2,     0.71,2,    5.519,2,    2.468,2,    0.426,2,   2150.3,2,     0.21,2,0.0439169924,2,    0.155932957
  06AQ19930806,    55,  1,      8,19930914, 79.0367, 118.2367, 2873,    699.3,   0.8146,  34.9072,2,  34.9104,2,    281.9,2,     6.22,2,    11.08,2,     0.78,2,    3.632,3,    1.619,3,    0.219,2,   2147.9,2,     0.24,2,0.0458674315,2,     0.78055663
  06AQ19930806,    55,  1,      9,19930914, 79.0367, 118.2367, 2873,    603.4,   0.6168,  34.8721,2,  34.8612,2,    287.1,2,     5.25,2,     9.91,2,     0.71,2,    5.533,2,    2.435,2,    0.411,2,   2145.1,2,     0.25,2,0.0439167734,2,     0.58896194
  06AQ19930806,    55,  1,     10,19930914, 79.0367, 118.2367, 2873,    398.8,   1.6507,  34.9338,2,  34.9293,2,    281.0,2,     6.03,2,    11.18,2,     0.76,2,    4.907,2,    2.201,2,    0.329,2,   2145.8,2,     0.22,2,0.0439147563,2,     1.62957449
  06AQ19930806,    55,  1,     11,19930914, 79.0367, 118.2367, 2873,    299.1,   1.9851,  34.9481,2,  34.9449,2,    286.2,2,     5.44,2,    10.69,2,     0.74,2,    4.974,2,    2.208,2,    0.328,2,   2135.6,2,     0.28,2,        -999,9,      1.9686824
  06AQ19930806,    55,  1,     12,19930914, 79.0367, 118.2367, 2873,    199.7,   2.1012,  34.8923,2,  34.8880,2,    286.2,2,     4.96,2,    10.20,2,     0.71,2,    5.322,2,    2.397,2,    0.432,2,   2136.9,2,     0.25,2,0.0409883721,2,     2.09023595
  06AQ19930806,    56,  2,      1,19930914, 78.6683, 118.7100, 2615,    301.0,   1.9481,  34.9094,2,  34.9112,2,    286.6,2,     5.44,2,    10.98,2,     0.73,2, -999.000,9, -999.000,9, -999.000,9,   2126.5,2,  -999.00,9,        -999,9,     1.93168239
  06AQ19930806,    56,  2,      2,19930914, 78.6683, 118.7100, 2615,    249.9,   2.0090,  34.8993,2,  34.8956,2,   -999.0,9,  -999.00,9,  -999.00,9,  -999.00,9, -999.000,9, -999.000,9, -999.000,9,   -999.0,9,  -999.00,9,        -999,9,     1.99535954
  06AQ19930806,    56,  2,      3,19930914, 78.6683, 118.7100, 2615,    224.5,   2.0829,  34.8854,2,  34.8821,2,    286.7,2,     5.35,2,    10.79,2,     0.71,2, -999.000,9, -999.000,9, -999.000,9,   2124.5,2,  -999.00,9,        -999,9,     2.07056363
  06AQ19930806,    56,  2,      4,19930914, 78.6683, 118.7100, 2615,    224.6,   2.0902,  34.8862,2,-999.0000,9,   -999.0,9,  -999.00,9,  -999.00,9,  -999.00,9, -999.000,9, -999.000,9, -999.000,9,   2125.5,2,  -999.00,9,        -999,9,     2.07784289
  06AQ19930806,    56,  2,      7,19930914, 78.6683, 118.7100, 2615,    174.7,   1.9965,  34.8470,2,  34.8584,2,    284.7,2,     5.25,2,    10.59,2,     0.71,2, -999.000,9, -999.000,9, -999.000,9,   2122.5,2,  -999.00,9,        -999,9,     1.98710442
  06AQ19930806,    56,  2,      8,19930914, 78.6683, 118.7100, 2615,    148.3,   1.4104,  34.6898,2,  34.8386,2,    286.7,2,     5.15,2,    10.59,2,     0.71,2, -999.000,9, -999.000,9, -999.000,9,   2122.6,2,  -999.00,9,        -999,9,     1.40317992
  06AQ19930806,    56,  2,      9,19930914, 78.6683, 118.7100, 2615,    148.3,   1.3639,  34.7226,2,  34.7455,2,    286.7,2,     4.86,2,    10.01,2,     0.67,2, -999.000,9, -999.000,9, -999.000,9,   2119.3,2,  -999.00,9,        -999,9,     1.35676233
  06AQ19930806,    56,  2,     12,19930914, 78.6683, 118.7100, 2615,     98.4,  -0.5673,  34.3844,2,  34.5748,2,    294.5,2,     4.28,2,     8.65,2,     0.60,2, -999.000,9, -999.000,9, -999.000,9,   2119.3,2,  -999.00,9,        -999,9,   -0.570356078
  06AQ19930806,    56,  2,     13,19930914, 78.6683, 118.7100, 2615,     98.5,  -0.6066,  34.3742,2,  34.3917,2,    298.4,2,     3.89,2,     7.87,2,     0.56,2, -999.000,9, -999.000,9, -999.000,9,   2112.9,2,  -999.00,9,        -999,9,   -0.609591542
  06AQ19930806,    56,  2,     16,19930914, 78.6683, 118.7100, 2615,     47.8,  -1.7681,  33.8799,2,  34.1432,2,    309.2,2,     3.11,2,     6.32,2,     0.49,2, -999.000,9, -999.000,9, -999.000,9,   2106.0,2,  -999.00,9,        -999,9,    -1.76902254
  06AQ19930806,    56,  2,     17,19930914, 78.6683, 118.7100, 2615,     47.8,  -1.7661,  33.8725,2,  33.9301,2,    326.7,2,     2.14,2,     4.76,2,     0.39,2,    6.718,2,    3.050,2,    0.603,2,   2079.2,2,  -999.00,9,        -999,9,    -1.76700337
  06AQ19930806,    56,  2,     21,19930914, 78.6683, 118.7100, 2615,     19.1,  -1.8121,  33.4902,2,  33.5005,2,    334.6,2,     1.85,2,     3.99,2,     0.35,2,    6.805,2,    3.112,2,    0.611,2,   2050.2,2,  -999.00,9,        -999,9,    -1.81243162
  06AQ19930806,    56,  2,     23,19930914, 78.6683, 118.7100, 2615,     10.0,  -1.8106,  33.4883,2,  33.4876,2,    334.7,2,     1.85,2,     3.89,2,     0.35,2, -999.000,9, -999.000,9, -999.000,9,   2058.1,2,  -999.00,9,        -999,9,    -1.81077259
  06AQ19930806,    56,  1,      3,19930914, 78.6683, 118.7100, 2615,   2600.0,  -0.7690,-999.0000,9,  34.9348,2,    276.9,2,    11.56,2,    13.41,2,     0.90,2,    0.077,2,    0.042,2,    0.000,2,   2151.5,2,  -999.00,9,        -999,9,   -0.905326929
  06AQ19930806,    56,  1,      5,19930914, 78.6683, 118.7100, 2615,   2541.0,  -0.7750,-999.0000,9,  34.9348,2,    278.9,2,    11.46,2,    13.21,2,     0.90,2,    0.120,2,    0.093,2,    0.037,2,   2150.4,2,     0.26,2,        -999,9,   -0.906844245
  06AQ19930806,    56,  1,      6,19930914, 78.6683, 118.7100, 2615,   2351.0,  -0.7610,-999.0000,9,  34.9230,2,    281.8,2,    10.98,2,    13.12,2,     0.90,2,    0.438,2,    0.173,2,    0.043,2,   2153.9,2,     0.25,2,        -999,9,   -0.879382937
  06AQ19930806,    56,  1,      7,19930914, 78.6683, 118.7100, 2615,   2102.0,  -0.7300,-999.0000,9,  34.9189,2,    281.8,2,    10.69,2,    13.12,2,     0.90,2,    0.450,2,    0.235,2,    0.033,2,   2155.6,2,  -999.00,9,        -999,9,   -0.831835743
  06AQ19930806,    56,  1,      8,19930914, 78.6683, 118.7100, 2615,   1852.0,  -0.6830,-999.0000,9,  34.9161,2,    280.8,2,    10.49,2,    13.12,2,     0.90,2,    0.631,2,    0.299,2,    0.053,2,   2150.0,2,     0.27,2,        -999,9,   -0.769380289
  06AQ19930806,    56,  1,      9,19930914, 78.6683, 118.7100, 2615,   1501.0,  -0.5350,-999.0000,9,  34.9140,2,    281.8,2,     9.91,2,    12.92,2,     0.88,2,    0.987,2,    0.474,2,    0.042,2,   2150.7,2,  -999.00,9,        -999,9,   -0.602159335
  06AQ19930806,    56,  1,     10,19930914, 78.6683, 118.7100, 2615,   1351.0,  -0.3940,-999.0000,9,  34.9132,2,    281.8,2,     9.33,2,    12.73,2,     0.86,2,    1.272,2,    0.574,2,    0.068,2,   2152.6,2,     0.24,2,        -999,9,   -0.454196317
  06AQ19930806,    56,  1,     11,19930914, 78.6683, 118.7100, 2615,   1200.0,  -0.1920,-999.0000,9,  34.9092,2,    284.7,2,     8.26,2,    12.15,2,     0.86,2,    2.198,2,    1.018,2,    0.138,2,   2156.5,2,  -999.00,9,        -999,9,   -0.245826048
  06AQ19930806,    56,  1,     12,19930914, 78.6683, 118.7100, 2615,   1102.0,  -0.1090,-999.0000,9,  34.8996,2,    284.7,2,     7.29,2,    11.66,2,     0.80,2,    3.867,2,    1.755,2,    0.305,2,   2159.9,2,     0.22,2,        -999,9,    -0.15820224
  06AQ19930806,    56,  1,     13,19930914, 78.6683, 118.7100, 2615,   1000.0,   0.0390,-999.0000,9,  34.8958,2,    283.7,2,     6.90,2,    11.47,2,     0.79,2,    4.325,2,    1.956,2,    0.334,2,   2156.7,2,     0.26,2,        -999,9, -0.00594835605
  06AQ19930806,    56,  1,     14,19930914, 78.6683, 118.7100, 2615,    901.0,   0.1850,-999.0000,9,  34.8962,2,    283.7,2,     6.61,2,    11.47,2,     0.79,2,    4.629,2,    2.107,2,    0.407,2,   2153.5,2,     0.22,2,        -999,9,    0.144211605
  06AQ19930806,    56,  1,     15,19930914, 78.6683, 118.7100, 2615,    800.0,   0.3410,-999.0000,9,  34.8888,2,    285.7,2,     6.22,2,    11.27,2,     0.78,2,    4.982,2,    2.263,2,    0.354,2,   2155.5,2,     0.20,2,        -999,9,    0.304483401
  06AQ19930806,    56,  1,     16,19930914, 78.6683, 118.7100, 2615,    601.0,   0.8700,-999.0000,9,  34.8986,2,    284.7,2,     6.12,2,    11.18,2,     0.78,2,    4.512,2,    2.057,2,    0.310,2,   2146.2,2,     0.25,2,        -999,9,     0.84099432
  06AQ19930806,    56,  1,     17,19930914, 78.6683, 118.7100, 2615,    400.0,   1.6120,-999.0000,9,  34.9094,2,    286.6,2,     5.64,2,    11.08,2,     0.78,2,    5.075,2,    2.316,2,    0.362,2,   2137.5,2,     0.24,2,        -999,9,     1.59094766
  06AQ19930806,    56,  1,     18,19930914, 78.6683, 118.7100, 2615,    350.0,   1.8370,-999.0000,9,  34.9145,2,    287.6,2,     5.44,2,    11.08,2,     0.74,2,    5.208,2,    2.349,2,    0.421,2,   2136.3,2,     0.23,2,        -999,9,     1.81808078
  06AQ19930806,    56,  1,     19,19930914, 78.6683, 118.7100, 2615,    301.0,   1.9640,-999.0000,9,  34.9092,2,    286.6,2,     5.44,2,    10.98,2,     0.74,2,    5.195,2,    2.382,2,    0.357,2,   2136.2,2,  -999.00,9,        -999,9,     1.94754439
  06AQ19930806,    56,  1,     20,19930914, 78.6683, 118.7100, 2615,    250.0,   2.0120,-999.0000,9,  34.8872,2,    285.7,2,     5.35,2,    10.88,2,     0.74,2,    5.250,2,    2.422,2,    0.410,2,   2132.5,2,     0.29,2,        -999,9,      1.9983515
  06AQ19930806,    56,  1,     21,19930914, 78.6683, 118.7100, 2615,    200.0,   2.0150,-999.0000,9,  34.8571,2,    284.7,2,     5.25,2,    10.69,2,     0.72,2,    5.185,2,    2.393,2,    0.368,2,   2130.7,2,  -999.00,9,        -999,9,     2.00417122
  06AQ19930806,    56,  1,     22,19930914, 78.6683, 118.7100, 2615,    150.0,   1.6500,-999.0000,9,  34.7477,2,    287.7,2,     4.86,2,    10.01,2,     0.68,2,    5.393,2,    2.451,2,    0.375,2,   2125.0,2,     0.20,2,        -999,9,      1.6424223
  06AQ19930806,    56,  1,     23,19930914, 78.6683, 118.7100, 2615,    102.0,  -0.5470,-999.0000,9,  34.3846,2,    299.4,2,     3.89,2,     7.78,2,     0.56,2,    6.165,2,    2.781,2,    0.500,2,   2111.1,2,    -0.08,2,        -999,9,   -0.550152064
  06AQ19930806,    56,  1,     24,19930914, 78.6683, 118.7100, 2615,     51.0,  -1.7500,-999.0000,9,  33.9395,2,    324.8,2,     2.24,2,     5.06,2,     0.41,2,    6.807,2,    3.070,2,    0.599,2,   2081.0,2,    -0.21,2,        -999,9,    -1.75097363
  06AQ19930806,    57,  1,      1,19930915, 78.3383, 118.4033, 2220,   2201.7,  -0.8192,  34.9353,2,  34.9382,2,    280.8,2,    11.08,2,    11.95,2,     0.86,2,    0.171,2,    0.069,2,    0.000,2,   2146.8,2,  -999.00,9,0.0487941192,2,   -0.926295405
  06AQ19930806,    57,  1,      2,19930915, 78.3383, 118.4033, 2220,   2169.6,  -0.8177,  34.9317,2,  34.9327,2,    281.8,2,    10.78,2,    11.95,2,     0.90,2,    0.211,2,    0.102,2,    0.029,2,   2150.9,2,  -999.00,9,0.0487942499,2,   -0.922636143
  06AQ19930806,    57,  1,      3,19930915, 78.3383, 118.4033, 2220,   2049.2,  -0.7846,  34.9233,2,  34.9242,2,    282.8,2,    10.59,2,    11.85,2,     0.86,2,    0.377,2,    0.178,2,    0.000,2,   2151.0,2,  -999.00,9,0.0458668818,2,   -0.882077082
  06AQ19930806,    57,  1,      4,19930915, 78.3383, 118.4033, 2220,   1699.6,  -0.6674,  34.9162,2,  34.9153,2,    282.8,2,     9.91,2,    11.66,2,     0.86,2,    0.774,2,    0.354,2,    0.044,2,   2150.8,2,  -999.00,9, 0.056601983,4,   -0.744612849
  06AQ19930806,    57,  1,      5,19930915, 78.3383, 118.4033, 2220,   1450.6,  -0.5109,  34.9164,2,  34.9155,2,    284.7,2,     9.23,2,    11.47,2,     0.84,2,    1.074,2,    0.497,2,    0.024,2,   2151.7,2,  -999.00,9,0.0448912212,2,   -0.575445157
  06AQ19930806,    57,  1,      6,19930915, 78.3383, 118.4033, 2220,   1300.2,  -0.3490,  34.9137,2,  34.9134,2,    284.7,2,     8.55,2,    11.27,2,     0.82,2,    1.594,2,    0.701,2,    0.065,2,   2151.3,2,  -999.00,9,0.0448913115,2,   -0.406823989
  06AQ19930806,    57,  1,      7,19930915, 78.3383, 118.4033, 2220,   1150.1,  -0.1531,  34.9052,2,  34.9045,2,    286.6,2,     7.68,2,    10.69,2,     0.79,2,    3.225,2,    1.477,2,    0.225,2,   2151.0,2,  -999.00,9, 0.046843404,2,   -0.204535408
  06AQ19930806,    57,  1,      8,19930915, 78.3383, 118.4033, 2220,    999.4,   0.0811,  34.9005,2,  34.9019,2,    285.7,2,     6.70,2,    10.49,2,     0.77,2,    4.466,2,    2.059,2,    0.379,2,   2157.3,2,  -999.00,9,0.0429399372,2,   0.0358294515
  06AQ19930806,    57,  1,      9,19930915, 78.3383, 118.4033, 2220,    899.8,   0.1866,  34.8926,2,  34.8925,2,    286.6,2,     6.22,2,    10.20,2,     0.74,2,    4.821,2,    2.195,2,    0.353,2,   2155.4,2,  -999.00,9,0.0439161032,2,    0.145869743
  06AQ19930806,    57,  1,     10,19930915, 78.3383, 118.4033, 2220,    749.6,   0.3933,  34.8861,2,  34.8858,2,    289.6,2,     5.83,2,    10.01,2,     0.74,2,    4.804,2,    2.180,2,    0.384,2,   2149.1,2,  -999.00,9,0.0419644794,2,     0.35909845
  06AQ19930806,    57,  1,     11,19930915, 78.3383, 118.4033, 2220,    599.8,   0.8398,  34.8953,2,  34.8925,2,    288.6,2,     5.83,2,    10.20,2,     0.73,2,    4.717,2,    2.166,2,    0.366,2,   2143.4,2,  -999.00,9, 0.041964192,2,    0.811013666
  06AQ19930806,    57,  1,     12,19930915, 78.3383, 118.4033, 2220,    499.3,   0.9850,  34.8857,2,  34.8913,2,    288.6,2,     5.54,2,    10.01,2,     0.72,2,    5.153,2,    2.357,2,    0.388,2,   2143.8,2,  -999.00,9,0.0419644919,2,    0.960878285
  06AQ19930806,    57,  1,     13,19930915, 78.3383, 118.4033, 2220,    449.5,   1.1128,  34.8851,2,  34.8846,2,    289.6,2,     5.34,2,     9.91,2,     0.72,2,    5.259,2,    2.406,2,    0.430,2,   2145.0,2,  -999.00,9,0.0419645107,2,     1.09081129
  06AQ19930806,    57,  1,     14,19930915, 78.3383, 118.4033, 2220,    348.7,   1.5931,  34.9011,2,  34.8992,2,    290.5,2,     5.15,2,    10.01,2,     0.75,2,    5.297,2,    2.417,2,    0.449,2,   2140.2,2,  -999.00,9,        -999,9,     1.57496002
  06AQ19930806,    57,  1,     15,19930915, 78.3383, 118.4033, 2220,    300.3,   1.7778,  34.8983,2,  34.8990,2,    292.5,2,     5.15,2,    10.01,2,     0.70,2,    5.281,2,    2.426,2,    0.365,2,   2137.0,2,  -999.00,9,0.0439159168,2,     1.76184707
  06AQ19930806,    57,  1,     16,19930915, 78.3383, 118.4033, 2220,    249.7,   1.8496,  34.8822,2,  34.8821,2,    288.6,2,     4.96,2,     9.91,2,     0.72,2,    5.335,2,    2.463,2,    0.426,2,   2137.5,2,  -999.00,9,0.0439164432,2,     1.83630277
  06AQ19930806,    57,  1,     17,19930915, 78.3383, 118.4033, 2220,    200.3,   1.6347,  34.8250,2,  34.8285,2,    289.6,2,     4.66,2,     9.72,2,     0.67,2,    5.553,2,    2.499,2,    0.423,2,   2131.6,2,  -999.00,9,0.0439183132,2,     1.62449088
  06AQ19930806,    57,  1,     18,19930915, 78.3383, 118.4033, 2220,    175.4,   1.5367,  34.7911,2,  34.7809,2,    290.6,2,     4.47,2,     9.14,2,     0.65,2,    5.546,2,    2.526,2,    0.412,2,   2133.7,2,  -999.00,9,0.0419674473,2,     1.52795454
  06AQ19930806,    57,  1,     19,19930915, 78.3383, 118.4033, 2220,    150.2,  -0.0796,  34.5931,2,  34.6531,2,    294.5,2,     4.28,2,     8.26,2,     0.61,2,    5.868,2,    2.676,2,    0.466,2,   2130.4,2,  -999.00,9,0.0458781578,2,  -0.0849852309
  06AQ19930806,    57,  1,     20,19930915, 78.3383, 118.4033, 2220,     99.1,  -0.9729,  34.3876,2,  34.3950,2,    303.3,2,     3.99,2,     6.90,2,     0.54,2,    6.503,2,    2.964,2,    0.538,2,   2132.2,2,  -999.00,9,0.0429563361,2,   -0.975597937
  06AQ19930806,    57,  1,     21,19930915, 78.3383, 118.4033, 2220,     74.3,  -1.4735,  34.1826,2,  34.2076,2,    310.1,2,     3.21,2,     6.22,2,     0.51,2,    6.609,2,    2.987,2,    0.522,2,   2114.3,2,  -999.00,9,0.0439393221,2,    -1.47515461
  06AQ19930806,    57,  1,     22,19930915, 78.3383, 118.4033, 2220,     49.9,  -1.8118,  34.0634,2,  34.0740,2,    320.9,2,     2.43,2,     5.15,2,     0.42,2,    6.730,2,    3.048,2,    0.576,2,   2098.7,2,  -999.00,9,0.0439432218,2,    -1.81273815
  06AQ19930806,    57,  1,     23,19930915, 78.3383, 118.4033, 2220,     24.4,  -1.8125,  33.5592,2,  33.5557,2,    337.6,2,     1.75,2,     3.70,2,     0.33,2,    6.790,2,    3.082,2,    0.571,2,   2060.4,2,  -999.00,9,0.0439597219,2,    -1.81292749
  06AQ19930806,    57,  1,     24,19930915, 78.3383, 118.4033, 2220,     14.2,  -1.8161,  33.5400,2,  33.5346,2,    344.4,2,     1.75,2,     3.50,2,     0.33,2,    6.761,2,    3.074,2,    0.566,2,   2061.3,2,  -999.00,9,0.0439603504,2,     -1.8163463