BOTTLE,20081119PRINUNIVRMK
EXPOCODE,STNNBR,CASTNO,BTLNBR,DATE,LATITUDE,LONGITUDE,DEPTH,CTDPRS,CTDTMP,CTDSAL,CTDSAL_FLAG_W,SALNTY,SALNTY_FLAG_W,OXYGEN,OXYGEN_FLAG_W,SILCAT,SILCAT_FLAG_W,NITRAT,NITRAT_FLAG_W,PHSPHT,PHSPHT_FLAG_W,CFC-11,CFC-11_FLAG_W,CFC-12,CFC-12_FLAG_W,CFC113,CFC113_FLAG_W,TCARBN,TCARBN_FLAG_W,DELO18,DELO18_FLAG_W,BARIUM,BARIUM_FLAG_W,THETA
,,,,,,,METERS,DBARS,ITS-90,PSS-78,,PSS-78,,UMOL/KG,,UMOL/KG,,UMOL/KG,,UMOL/KG,,PMOL/KG,,PMOL/KG,,PMOL/KG,,UMOL/KG,,O/OO,,UM/KG,,DEGC
  06AQ19930806,    70,  2,      1,19930921, 78.7550, 112.6933, 1160,   1139.5,  -0.3921,  34.8763,2,  34.8762,2,    293.5,2,     6.51,2,     8.55,2,     0.71,2,    4.355,2,    1.997,2,    0.347,2,   2150.6,2,     0.21,2,        -999,9,   -0.440675497
  06AQ19930806,    70,  2,      3,19930921, 78.7550, 112.6933, 1160,   1103.4,  -0.3988,  34.8711,2,  34.8740,2,    296.4,2,     6.22,2,     8.26,2,     0.69,2,    4.561,2,    2.099,2,    0.393,2,   2153.0,2,     0.22,2,        -999,9,    -0.44541639
  06AQ19930806,    70,  2,      4,19930921, 78.7550, 112.6933, 1160,   1002.9,  -0.4141,  34.8639,2,  34.8608,2,    296.4,2,     5.83,2,     7.97,2,     0.69,2,    5.263,2,    2.399,2,    0.430,2,   2151.7,2,  -999.00,9,        -999,9,    -0.45541799
  06AQ19930806,    70,  2,      5,19930921, 78.7550, 112.6933, 1160,    903.5,  -0.3570,  34.8582,2,  34.8580,2,    296.4,2,  -999.00,9,  -999.00,9,  -999.00,9,    5.306,2,    2.409,2,    0.468,2,   2150.4,2,     0.20,2,        -999,9,   -0.393836112
  06AQ19930806,    70,  2,      6,19930921, 78.7550, 112.6933, 1160,    851.6,  -0.3970,  34.8484,2,  34.8474,2,    297.3,2,     5.73,2,     7.97,2,     0.66,2,    5.535,2,    2.504,2,    0.468,2,   2148.8,2,  -999.00,9,        -999,9,   -0.431023697
  06AQ19930806,    70,  2,      7,19930921, 78.7550, 112.6933, 1160,    801.4,  -0.4330,  34.8355,2,  34.8409,2,    298.3,2,     5.34,2,     7.58,2,     0.65,2,    5.690,2,    2.564,2,    0.473,2,   2149.7,2,     0.21,2,        -999,9,    -0.46440544
  06AQ19930806,    70,  2,      8,19930921, 78.7550, 112.6933, 1160,    705.0,  -0.2680,  34.8433,2,  34.8435,2,    298.3,2,     5.34,2,     7.77,2,     0.65,2,    5.456,2,    2.457,2,    0.496,2,   2148.3,2,  -999.00,9,        -999,9,   -0.295981635
  06AQ19930806,    70,  2,      9,19930921, 78.7550, 112.6933, 1160,    601.3,  -0.0350,  34.8429,2,  34.8441,2,    294.4,2,     5.34,2,     7.87,2,     0.66,2,    5.408,2,    2.451,2,    0.497,2,   2145.9,2,     0.18,2,        -999,9,  -0.0594685596
  06AQ19930806,    70,  2,     10,19930921, 78.7550, 112.6933, 1160,    550.5,   0.1100,  34.8466,2,  34.8474,2,    294.4,2,     5.34,2,     7.87,2,     0.69,2,    5.374,2,    2.423,2,    0.472,2,   2142.2,2,  -999.00,9,        -999,9,   0.0871826889
  06AQ19930806,    70,  2,     11,19930921, 78.7550, 112.6933, 1160,    500.6,   0.2300,  34.8480,2,  34.8492,2,    292.5,2,     5.34,2,     7.87,2,     0.69,2,    5.359,2,    2.424,2,    0.482,2,   2143.3,2,  -999.00,9,        -999,9,    0.208973391
  06AQ19930806,    70,  2,     12,19930921, 78.7550, 112.6933, 1160,    450.1,   0.3910,  34.8520,2,  34.8508,2,    294.4,2,     5.25,2,     7.97,2,     0.66,2,    5.427,2,    2.454,2,    0.403,2,   2144.7,2,  -999.00,9,        -999,9,    0.371693394
  06AQ19930806,    70,  2,     13,19930921, 78.7550, 112.6933, 1160,    400.4,   0.6780,  34.8611,2,  34.8578,2,    291.5,2,     5.34,2,     7.97,2,     0.68,2,    5.444,2,    2.489,2,    0.473,2,   2140.7,2,     0.24,2,        -999,9,    0.660042067
  06AQ19930806,    70,  2,     14,19930921, 78.7550, 112.6933, 1160,    350.1,   1.0010,  34.8788,2,  34.8762,2,    293.5,2,     5.34,2,     8.07,2,     0.69,2,    5.257,2,    2.397,2,    0.391,2,   2140.1,2,  -999.00,9,        -999,9,    0.984504054
  06AQ19930806,    70,  2,     15,19930921, 78.7550, 112.6933, 1160,    299.6,   1.2520,  34.8883,2,  34.8756,2,    291.5,2,     5.15,2,     7.97,2,     0.66,2,    5.450,2,    2.480,2,    0.434,2,   2140.3,2,     0.25,2,        -999,9,      1.2373939
  06AQ19930806,    70,  2,     16,19930921, 78.7550, 112.6933, 1160,    249.1,   1.4200,  34.8696,2,  34.8708,2,    290.5,2,     5.05,2,     7.87,2,     0.66,2,    5.488,2,    2.529,2,    0.423,2,   2134.4,2,  -999.00,9,        -999,9,     1.40762122
  06AQ19930806,    70,  2,     17,19930921, 78.7550, 112.6933, 1160,    199.5,   1.7270,  34.8648,2,  34.8624,2,    289.6,2,     4.96,2,     7.77,2,     0.66,2,    5.387,2,    2.491,2,    0.413,2,   2136.5,2,     0.19,2,        -999,9,      1.7166691
  06AQ19930806,    70,  2,     18,19930921, 78.7550, 112.6933, 1160,    148.1,   1.8630,  34.8265,2,  34.8655,2,    287.6,2,     4.96,2,     7.97,2,     0.66,2,    5.398,2,    2.446,2,    0.418,2,   2135.1,2,  -999.00,9,        -999,9,     1.85522895
  06AQ19930806,    70,  2,     19,19930921, 78.7550, 112.6933, 1160,    148.1,   1.8490,  34.8244,2,  34.8285,2,    286.7,2,     4.96,2,     7.78,2,     0.68,2,    5.314,2,    2.454,2,    0.458,2,   2129.3,2,     0.18,2,        -999,9,     1.84125591
  06AQ19930806,    70,  2,     20,19930921, 78.7550, 112.6933, 1160,    123.6,   1.5700,  34.7528,2,  34.7518,2,    288.6,2,     4.67,2,     7.29,2,     0.64,2,    5.504,2,    2.501,2,    0.430,2,   2126.0,2,  -999.00,9,        -999,9,      1.5638649
  06AQ19930806,    70,  2,     21,19930921, 78.7550, 112.6933, 1160,     99.9,   0.2150,  34.5048,2,  34.5392,2,    296.5,2,     3.99,2,     6.12,2,     0.56,2,    6.010,2,    2.715,2,    0.434,2,   2124.0,2,  -999.00,9,        -999,9,    0.211235916
  06AQ19930806,    70,  2,     22,19930921, 78.7550, 112.6933, 1160,     60.0,  -1.7560,  33.9641,2,  34.0395,2,    318.0,2,     3.40,2,     4.28,2,     0.43,2,    6.968,2,    3.126,2,    0.606,2,   2112.9,2,    -0.37,2,        -999,9,    -1.75715943
  06AQ19930806,    70,  2,     23,19930921, 78.7550, 112.6933, 1160,     24.1,  -1.7710,  32.8429,2,  32.7134,2,    335.8,2,     3.60,2,     3.02,2,     0.34,2,    7.185,2,    3.194,2,    0.631,2,   2068.5,2,  -999.00,9,        -999,9,    -1.77139107
  06AQ19930806,    70,  2,     24,19930921, 78.7550, 112.6933, 1160,     12.7,  -1.7760,  32.6023,2,-999.0000,9,   -999.0,9,  -999.00,9,  -999.00,9,  -999.00,9, -999.000,9, -999.000,9, -999.000,9,   2058.8,2,    -0.99,2,        -999,9,    -1.77620129
  06AQ19930806,    71,  1,      1,19930922, 78.5800, 111.3667,  227,    227.0,   0.1979,  34.7147,2,  34.7150,2,    290.6,2,     5.05,2,     9.14,2,     0.73,2,    6.210,2,    2.791,2,    0.516,2,   2139.8,2,  -999.00,9,        -999,9,     0.18904247
  06AQ19930806,    71,  1,      2,19930922, 78.5800, 111.3667,  227,    227.0,   0.1980,  34.7146,2,  34.7150,2,   -999.0,9,  -999.00,9,  -999.00,9,  -999.00,9, -999.000,9, -999.000,9, -999.000,9,   -999.0,9,  -999.00,9,        -999,9,    0.189142279
  06AQ19930806,    71,  1,      3,19930922, 78.5800, 111.3667,  227,    202.1,   0.1299,  34.7048,2,  34.7066,2,   -999.0,9,  -999.00,9,  -999.00,9,  -999.00,9, -999.000,9, -999.000,9, -999.000,9,   -999.0,9,  -999.00,9,        -999,9,    0.122178926
  06AQ19930806,    71,  1,      4,19930922, 78.5800, 111.3667,  227,    202.1,   0.1288,  34.7046,2,  34.7058,2,    287.7,2,     5.05,2,     9.14,2,     0.72,2,    6.229,2,    2.814,2,    0.543,2,   2141.4,2,  -999.00,9,        -999,9,    0.121081106
  06AQ19930806,    71,  1,      5,19930922, 78.5800, 111.3667,  227,    175.1,   0.0098,  34.6915,2,  34.6877,2,    290.6,2,     5.05,2,     8.84,2,     0.72,2,    6.230,2,    2.837,2,    0.538,2,   2138.8,2,  -999.00,9,        -999,9,    0.003337736
  06AQ19930806,    71,  1,      6,19930922, 78.5800, 111.3667,  227,    175.1,  -0.0550,  34.6739,2,  34.8844,2,   -999.0,9,  -999.00,9,  -999.00,9,  -999.00,9, -999.000,9, -999.000,9, -999.000,9,   -999.0,9,  -999.00,9,        -999,9,  -0.0614309798
  06AQ19930806,    71,  1,      8,19930922, 78.5800, 111.3667,  227,    148.3,  -0.3371,  34.6378,2,  34.6354,2,    296.4,2,     4.37,2,     8.16,2,     0.68,2,    6.426,2,    2.898,2,    0.549,2,   2137.4,2,  -999.00,9,        -999,9,   -0.342084421
  06AQ19930806,    71,  1,      9,19930922, 78.5800, 111.3667,  227,    123.5,  -0.8990,  34.5306,2,  34.5439,2,    298.4,2,     4.37,2,     7.58,2,     0.64,2,    6.647,2,    3.001,2,    0.578,2,   2138.9,2,  -999.00,9,        -999,9,    -0.90250524
  06AQ19930806,    71,  1,     10,19930922, 78.5800, 111.3667,  227,     99.5,  -1.1569,  34.4587,2,  34.4821,2,    299.4,2,     4.47,2,     7.39,2,     0.63,2,    6.803,2,    3.059,2,    0.577,2,   2141.3,2,  -999.00,9,        -999,9,    -1.15946742
  06AQ19930806,    71,  1,     13,19930922, 78.5800, 111.3667,  227,     73.7,  -1.3217,  34.3301,2,  34.3701,2,    304.3,2,     4.47,2,     6.90,2,     0.60,2,    6.924,2,    3.106,2,    0.597,2,   2139.8,2,  -999.00,9,        -999,9,    -1.32346172
  06AQ19930806,    71,  1,     14,19930922, 78.5800, 111.3667,  227,     56.9,  -1.5081,  34.1897,2,  34.2653,2,    307.2,2,     4.37,2,     6.61,2,     0.59,2,    6.918,2,    3.076,2,    0.602,2,   2135.4,2,  -999.00,9,        -999,9,    -1.50934661
  06AQ19930806,    71,  1,     17,19930922, 78.5800, 111.3667,  227,     49.3,  -1.5159,  34.1029,2,  34.1412,2,    308.2,2,     4.37,2,     6.51,2,     0.56,2,    7.000,2,    3.116,2,    0.601,2,   2131.0,2,  -999.00,9,        -999,9,    -1.51696111
  06AQ19930806,    71,  1,     18,19930922, 78.5800, 111.3667,  227,     40.0,  -1.4669,  33.8948,2,  34.0069,2,    306.3,2,     4.76,2,     6.22,2,     0.50,2,    7.116,2,    3.211,2,    0.657,2,   2127.8,2,  -999.00,9,        -999,9,    -1.46776395
  06AQ19930806,    71,  1,     20,19930922, 78.5800, 111.3667,  227,     29.4,  -1.6122,  33.3407,2,  33.5140,2,    317.1,2,     4.77,2,     5.35,2,     0.52,2,    7.273,2,    3.214,2,    0.671,2,   2118.1,2,  -999.00,9,        -999,9,    -1.61276607
  06AQ19930806,    71,  1,     22,19930922, 78.5800, 111.3667,  227,     19.6,  -1.7550,  32.4361,2,  32.5624,2,    335.9,2,     4.58,2,     3.99,2,     0.46,2, -999.000,9,    3.323,2,    0.685,2,   2072.0,2,  -999.00,9,        -999,9,    -1.75531413
  06AQ19930806,    72,  1,      1,19930923, 77.8833, 105.1133,  228,    215.7,  -0.2500,  34.6542,2,  34.6556,2,    191.5,4,     6.12,2,     8.16,2,     0.68,2,    6.236,2,    2.831,2,    0.442,2,   2147.4,2,  -999.00,9,        -999,9,   -0.257552806
  06AQ19930806,    72,  1,      3,19930923, 77.8833, 105.1133,  228,    209.7,  -0.5052,  34.6147,2,  34.6208,2,    283.8,2,     6.41,2,     8.16,2,     0.68,2,    6.321,2,    2.834,2,    0.476,2,   2151.3,2,  -999.00,9,        -999,9,   -0.512061598
  06AQ19930806,    72,  1,      4,19930923, 77.8833, 105.1133,  228,    200.2,  -0.6120,  34.5951,2,  34.5980,2,    284.8,2,     6.12,2,     7.87,2,     0.68,2,    6.380,2,    2.872,2,    0.449,2,   -999.0,9,  -999.00,9,        -999,9,   -0.618341603
  06AQ19930806,    72,  1,      6,19930923, 77.8833, 105.1133,  228,    190.2,  -0.7217,  34.5597,2,  34.5646,2,    284.8,2,     6.03,2,     7.78,2,     0.68,2,    6.411,2,    2.871,2,    0.445,2,   2148.3,2,  -999.00,9,        -999,9,   -0.727516168
  06AQ19930806,    72,  1,      7,19930923, 77.8833, 105.1133,  228,    174.8,  -0.9554,  34.5030,2,  34.4984,2,    167.2,4,     5.44,2,     7.29,2,     0.58,2,    6.555,2,    2.984,2,    0.476,2,   2148.0,2,  -999.00,9,        -999,9,   -0.960346527
  06AQ19930806,    72,  1,      8,19930923, 77.8833, 105.1133,  228,    149.7,  -1.1634,  34.3933,2,  34.3946,2,    286.8,2,     5.64,2,     6.71,2,     0.39,4,    6.758,2,    3.052,2,    0.512,2,   2149.4,2,  -999.00,9,        -999,9,    -1.16730143
  06AQ19930806,    72,  1,     11,19930923, 77.8833, 105.1133,  228,    124.8,  -1.0595,  34.3319,2,  34.3542,2,    288.7,2,     6.03,2,     6.71,2,     0.58,2,    6.788,2,    3.083,2,    0.486,2,   2152.0,2,  -999.00,9,        -999,9,    -1.06282507
  06AQ19930806,    72,  1,     12,19930923, 77.8833, 105.1133,  228,     98.7,  -1.0924,  34.2402,2,  34.2519,2,    283.9,2,     6.03,2,     6.32,2,     0.58,2,    6.855,2,    3.074,2,    0.474,2,   2152.4,2,  -999.00,9,        -999,9,    -1.09495726
  06AQ19930806,    72,  1,     15,19930923, 77.8833, 105.1133,  228,     71.3,  -0.8530,  34.1054,2,  34.1324,2,    285.9,2,     6.32,2,     6.13,2,     0.58,2,    6.894,2,    3.148,2,    0.529,2,   2154.2,2,  -999.00,9,        -999,9,   -0.854960008
  06AQ19930806,    72,  1,     16,19930923, 77.8833, 105.1133,  228,     48.0,  -1.2071,  33.3835,2,  33.8576,2,    285.9,2,     6.42,2,     5.93,2,     0.58,2,    6.934,2,    3.125,2,    0.560,2,   2142.6,2,  -999.00,9,        -999,9,    -1.20823554
  06AQ19930806,    72,  1,     20,19930923, 77.8833, 105.1133,  228,     24.4,  -0.9804,  30.7590,2,  30.2668,2,    327.7,2,     2.63,2,     1.37,2,     0.29,2,    7.430,2,    3.481,2,    0.631,2,   1976.1,2,  -999.00,9,        -999,9,   -0.980850469
  06AQ19930806,    72,  1,     22,19930923, 77.8833, 105.1133,  228,     13.6,  -1.5559,  29.0775,2,  29.2101,2,    343.7,2,     1.56,2,     0.39,2,     0.20,2,    7.624,2,    3.491,2,    0.613,2,   1924.4,2,  -999.00,9,        -999,9,    -1.55605184
  06AQ19930806,    73,  1,      1,19930923, 77.9917, 104.6217,  132,    125.0,  -1.1078,  34.4453,2,  34.4418,2,    288.7,2,     5.64,2,     7.19,2,     0.58,2,    6.675,2,    2.998,2,    0.498,2,   2149.5,2,  -999.00,9,        -999,9,    -1.11109953
  06AQ19930806,    73,  1,      3,19930923, 77.9917, 104.6217,  132,    115.4,  -1.0736,  34.4390,2,  34.4359,2,    288.7,2,     5.73,2,     7.19,2,     0.58,2,    6.674,2,    2.997,2,    0.494,2,   2147.0,2,  -999.00,9,        -999,9,    -1.07666832
  06AQ19930806,    73,  1,      4,19930923, 77.9917, 104.6217,  132,    100.4,  -1.1561,  34.3626,2,  34.3750,2,    287.7,2,     5.83,2,     6.90,2,     0.58,2,    6.744,2,    3.032,2,    0.513,2,   2152.6,2,  -999.00,9,        -999,9,    -1.15867139
  06AQ19930806,    73,  1,      7,19930923, 77.9917, 104.6217,  132,     75.1,  -1.1061,  34.0927,2,  34.1418,2,    283.9,2,     5.06,2,     5.15,2,     0.49,2,    6.858,2,    3.067,2,    0.533,2,   2147.0,2,  -999.00,9,        -999,9,    -1.10800378
  06AQ19930806,    73,  1,      9,19930923, 77.9917, 104.6217,  132,     59.3,  -1.0745,  33.9117,2,  33.9410,2,    284.9,2,     5.83,2,     5.74,2,     0.58,2,    6.998,2,    3.205,2,    0.564,2,   2141.3,2,  -999.00,9,        -999,9,    -1.07598744
  06AQ19930806,    73,  1,     11,19930923, 77.9917, 104.6217,  132,     49.9,  -1.0085,  33.7788,2,  33.8350,2,    286.9,2,     6.13,2,     5.83,2,     0.58,2,    6.975,2,    3.125,2,    0.573,2,   2143.9,2,  -999.00,9,        -999,9,    -1.00976554
  06AQ19930806,    73,  1,     12,19930923, 77.9917, 104.6217,  132,     40.5,  -1.0527,  33.3981,2,  33.7097,2,    286.9,2,     6.03,2,     5.64,2,     0.58,2,    7.027,2,    3.174,2,    0.593,2,   2138.2,2,  -999.00,9,        -999,9,    -1.05369806
  06AQ19930806,    73,  1,     14,19930923, 77.9917, 104.6217,  132,     25.1,  -0.9536,  30.6412,2,  31.1393,2,    322.6,2,     3.90,2,     2.63,2,     0.39,2,    7.315,2,    3.377,2,    0.667,2,   2025.1,2,  -999.00,9,        -999,9,   -0.954111829
  06AQ19930806,    73,  1,     16,19930923, 77.9917, 104.6217,  132,     14.5,  -1.4951,  29.3998,2,  29.6764,2,    337.7,2,     2.34,2,     0.98,2,     0.20,2,    7.496,2,    3.387,2,    0.694,2,   1945.7,2,  -999.00,9,        -999,9,    -1.49528316
  06AQ19930806,    74,  1,      1,19930924, 78.2900, 105.5133,  193,    181.6,  -0.7195,  34.5742,2,  34.5721,2,    290.6,2,     5.35,2,     7.58,2,     0.68,2,    6.424,2,    2.839,2,    0.511,2,   2146.8,2,  -999.00,9,        -999,9,   -0.725044473
  06AQ19930806,    74,  1,      3,19930924, 78.2900, 105.5133,  193,    160.9,  -0.7586,  34.5656,2,  34.5650,2,    288.7,2,     5.35,2,     7.58,2,     0.58,2,    6.463,2,    2.873,2,    0.509,2,   2142.8,2,  -999.00,9,        -999,9,   -0.763424821
  06AQ19930806,    74,  1,      5,19930924, 78.2900, 105.5133,  193,    150.8,  -0.9266,  34.5320,2,  34.5324,2,    168.2,4,     5.44,2,     7.39,2,     0.58,2,    6.401,2,    2.874,2,    0.480,2,   2148.3,2,  -999.00,9,        -999,9,   -0.930880126
  06AQ19930806,    74,  1,      6,19930924, 78.2900, 105.5133,  193,    123.8,  -1.2342,  34.4443,2,  34.4457,2,    294.5,2,     4.86,2,     6.71,2,     0.58,2,    6.763,2,    2.992,2,    0.567,2,   2146.9,2,  -999.00,9,        -999,9,    -1.23733178
  06AQ19930806,    74,  1,      8,19930924, 78.2900, 105.5133,  193,     98.6,  -1.1869,  34.3757,2,  34.3774,2,    288.7,2,     5.44,2,     6.71,2,     0.58,2,    6.758,2,    3.023,2,    0.590,2,   2148.4,2,  -999.00,9,        -999,9,    -1.18939769
  06AQ19930806,    74,  1,     10,19930924, 78.2900, 105.5133,  193,     73.5,  -1.1211,  34.2312,2,  34.2397,2,    289.7,2,     5.44,2,     6.22,2,     0.58,2,    6.816,2,    3.034,2,    0.559,2,   2146.8,2,  -999.00,9,        -999,9,    -1.12296643
  06AQ19930806,    74,  1,     12,19930924, 78.2900, 105.5133,  193,     48.2,  -1.2850,  33.9061,2,  34.0112,2,    292.7,2,     5.64,2,     5.93,2,     0.58,2,    6.923,2,    3.096,2,    0.581,2,   2141.4,2,  -999.00,9,        -999,9,    -1.28612198
  06AQ19930806,    74,  1,     14,19930924, 78.2900, 105.5133,  193,     38.7,  -1.2687,  33.1915,2,  33.4507,2,    301.6,2,     5.25,2,     5.16,2,     0.49,2,    7.099,2,    3.211,2,    0.652,2,   2122.5,2,  -999.00,9,        -999,9,    -1.26956059
  06AQ19930806,    74,  1,     16,19930924, 78.2900, 105.5133,  193,     29.8,  -1.1363,  31.8206,2,  31.8987,2,    318.5,2,     3.70,2,     2.82,2,     0.39,2,    7.382,2,    3.311,2,    0.668,2,   2066.6,2,  -999.00,9,        -999,9,     -1.1369049
  06AQ19930806,    74,  1,     18,19930924, 78.2900, 105.5133,  193,     19.2,  -1.5515,  29.5460,2,  30.9389,2,    327.6,2,     2.92,2,     1.85,2,     0.29,2,    7.413,2,    3.312,2,    0.680,2,   2015.5,2,  -999.00,9,        -999,9,    -1.55178121
  06AQ19930806,    74,  1,     20,19930924, 78.2900, 105.5133,  193,      9.1,  -1.5623,  29.4963,2,  29.4827,2,    339.7,2,     2.05,2,     0.59,2,     0.20,2,    7.461,2,    3.333,2,    0.765,2,   1930.6,2,  -999.00,9,        -999,9,    -1.56240552