BOTTLE,20081119PRINUNIVRMK
EXPOCODE,STNNBR,CASTNO,BTLNBR,DATE,LATITUDE,LONGITUDE,DEPTH,CTDPRS,CTDTMP,CTDSAL,CTDSAL_FLAG_W,SALNTY,SALNTY_FLAG_W,OXYGEN,OXYGEN_FLAG_W,SILCAT,SILCAT_FLAG_W,NITRAT,NITRAT_FLAG_W,PHSPHT,PHSPHT_FLAG_W,CFC-11,CFC-11_FLAG_W,CFC-12,CFC-12_FLAG_W,CFC113,CFC113_FLAG_W,TCARBN,TCARBN_FLAG_W,DELO18,DELO18_FLAG_W,BARIUM,BARIUM_FLAG_W,THETA
,,,,,,,METERS,DBARS,ITS-90,PSS-78,,PSS-78,,UMOL/KG,,UMOL/KG,,UMOL/KG,,UMOL/KG,,PMOL/KG,,PMOL/KG,,PMOL/KG,,UMOL/KG,,O/OO,,UM/KG,,DEGC
  06AQ19930806,    10,  1,      1,19930813, 81.5550,  30.2783, 1314,   1237.3,  -0.5487,  34.9099,2,  34.9088,2,    283.7,2,  -999.00,9,  -999.00,9,  -999.00,9, -999.000,9, -999.000,9, -999.000,9,   -999.0,9,  -999.00,9,        -999,9,   -0.601016897
  06AQ19930806,    10,  1,      2,19930813, 81.5550,  30.2783, 1314,   1199.7,  -0.5425,  34.9098,2,  34.9095,2,    283.7,2,    10.01,2,  -999.00,9,     0.97,2, -999.000,9, -999.000,9, -999.000,9,   -999.0,9,  -999.00,9,        -999,9,   -0.592886334
  06AQ19930806,    10,  1,      3,19930813, 81.5550,  30.2783, 1314,   1150.5,  -0.5191,  34.9099,2,  34.9088,2,    284.7,2,    10.01,2,  -999.00,9,     0.97,2, -999.000,9, -999.000,9, -999.000,9,   -999.0,9,  -999.00,9,        -999,9,   -0.567132177
  06AQ19930806,    10,  1,      4,19930813, 81.5550,  30.2783, 1314,   1099.2,  -0.4781,  34.9099,2,  34.9090,2,    283.7,2,     9.72,2,  -999.00,9,     0.97,2, -999.000,9, -999.000,9, -999.000,9,   -999.0,9,  -999.00,9,        -999,9,   -0.523854887
  06AQ19930806,    10,  1,      6,19930813, 81.5550,  30.2783, 1314,    998.4,  -0.3713,  34.9102,2,  34.9093,2,    281.8,2,     9.33,2,  -999.00,9,     0.97,2, -999.000,9, -999.000,9, -999.000,9,   -999.0,9,  -999.00,9,        -999,9,    -0.41283282
  06AQ19930806,    10,  1,      7,19930813, 81.5550,  30.2783, 1314,    898.9,  -0.1770,  34.9115,2,  34.9103,2,   -999.0,9,  -999.00,9,  -999.00,9,  -999.00,9, -999.000,9, -999.000,9, -999.000,9,   -999.0,9,  -999.00,9,        -999,9,    -0.21503105
  06AQ19930806,    10,  1,      8,19930813, 81.5550,  30.2783, 1314,    798.6,   0.1321,  34.9147,2,  34.9146,2,    283.7,2,     8.36,2,  -999.00,9,     0.87,2, -999.000,9, -999.000,9, -999.000,9,   -999.0,9,  -999.00,9,        -999,9,   0.0969886794
  06AQ19930806,    10,  1,      9,19930813, 81.5550,  30.2783, 1314,    698.8,   0.4122,  34.9160,2,  34.9174,2,    283.7,2,     7.29,2,  -999.00,9,     0.87,2, -999.000,9, -999.000,9, -999.000,9,   -999.0,9,  -999.00,9,        -999,9,     0.38047943
  06AQ19930806,    10,  1,     11,19930813, 81.5550,  30.2783, 1314,    497.2,   1.6673,  34.9690,2,  34.9697,2,    287.6,2,     5.93,2,  -999.00,9,     0.78,2, -999.000,9, -999.000,9, -999.000,9,   -999.0,9,  -999.00,9,        -999,9,     1.64044522
  06AQ19930806,    10,  1,     12,19930813, 81.5550,  30.2783, 1314,    398.1,   2.2565,  34.9983,2,  34.9976,2,    288.6,2,  -999.00,9,  -999.00,9,  -999.00,9, -999.000,9, -999.000,9, -999.000,9,   -999.0,9,  -999.00,9,        -999,9,     2.23340495
  06AQ19930806,    10,  1,     13,19930813, 81.5550,  30.2783, 1314,    352.0,   2.4717,  35.0101,2,  35.0110,2,    288.6,2,     5.44,2,  -999.00,9,     0.78,2, -999.000,9, -999.000,9, -999.000,9,   -999.0,9,  -999.00,9,        -999,9,      2.4507922
  06AQ19930806,    10,  1,     14,19930813, 81.5550,  30.2783, 1314,    352.1,   2.4724,  35.0116,2,  35.0094,2,   -999.0,9,  -999.00,9,  -999.00,9,  -999.00,9, -999.000,9, -999.000,9, -999.000,9,   -999.0,9,  -999.00,9,        -999,9,     2.45148498
  06AQ19930806,    10,  1,     16,19930813, 81.5550,  30.2783, 1314,    249.1,   2.8839,  35.0200,2,  35.0187,2,    286.7,2,     5.35,2,  -999.00,9,     0.78,2, -999.000,9, -999.000,9, -999.000,9,   -999.0,9,  -999.00,9,        -999,9,     2.86848103
  06AQ19930806,    10,  1,     17,19930813, 81.5550,  30.2783, 1314,    199.9,   3.1185,  35.0068,2,  35.0185,2,    285.7,2,     5.25,2,  -999.00,9,     0.78,2, -999.000,9, -999.000,9, -999.000,9,   -999.0,9,  -999.00,9,        -999,9,     3.10582804
  06AQ19930806,    10,  1,     18,19930813, 81.5550,  30.2783, 1314,    149.4,   2.9147,  34.9250,2,  34.9251,2,    284.8,2,     4.57,2,  -999.00,9,     0.87,2, -999.000,9, -999.000,9, -999.000,9,   -999.0,9,  -999.00,9,        -999,9,     2.90556057
  06AQ19930806,    10,  1,     19,19930813, 81.5550,  30.2783, 1314,    100.0,   2.5091,  34.7240,2,  34.7572,2,    290.6,2,     3.11,2,  -999.00,9,     0.68,2, -999.000,9, -999.000,9, -999.000,9,   -999.0,9,  -999.00,9,        -999,9,     2.50338276
  06AQ19930806,    10,  1,     20,19930813, 81.5550,  30.2783, 1314,     70.6,   1.8181,  34.4779,2,  34.5049,2,    300.4,2,     2.14,2,  -999.00,9,     0.58,2, -999.000,9, -999.000,9, -999.000,9,   -999.0,9,  -999.00,9,        -999,9,     1.81451437
  06AQ19930806,    10,  1,     21,19930813, 81.5550,  30.2783, 1314,     50.0,  -0.6087,  33.8680,2,  34.0131,2,    320.9,2,     0.97,2,  -999.00,9,     0.58,2, -999.000,9, -999.000,9, -999.000,9,   -999.0,9,  -999.00,9,        -999,9,   -0.610158452
  06AQ19930806,    10,  1,     22,19930813, 81.5550,  30.2783, 1314,     30.2,  -1.6015,  33.3998,2,  33.4690,2,    353.1,2,     0.58,2,  -999.00,9,     0.39,2, -999.000,9, -999.000,9, -999.000,9,   -999.0,9,  -999.00,9,        -999,9,     -1.6020819
  06AQ19930806,    10,  1,     23,19930813, 81.5550,  30.2783, 1314,      9.9,  -1.6203,  32.6788,2,  32.7322,2,    393.2,2,     0.58,2,  -999.00,9,     0.19,2, -999.000,9, -999.000,9, -999.000,9,   -999.0,9,  -999.00,9,        -999,9,    -1.62047281
  06AQ19930806,    10,  1,     24,19930813, 81.5550,  30.2783, 1314,   1295.2,  -0.5721,  34.9097,2,  34.9091,2,   -999.0,9,    10.01,2,  -999.00,9,     0.97,2, -999.000,9, -999.000,9, -999.000,9,   -999.0,9,  -999.00,9,        -999,9,   -0.627287858
  06AQ19930806,    11,  1,      1,19930813, 81.5717,  30.2500, 1579,   1550.7,  -0.6111,  34.9103,2,  34.9094,2,    280.8,2,    10.69,2,     7.97,2,     0.97,2,    1.181,2,    0.539,2,    0.000,2,   2156.4,2,     0.21,2,        -999,9,   -0.680199537
  06AQ19930806,    11,  1,      2,19930813, 81.5717,  30.2500, 1579,   1500.3,  -0.6013,  34.9099,2,  34.9098,2,    280.8,2,    10.49,2,     7.87,2,     0.87,2, -999.000,9, -999.000,9, -999.000,9,   2157.4,2,     0.20,2,0.0468432401,2,   -0.667605405
  06AQ19930806,    11,  1,      3,19930813, 81.5717,  30.2500, 1579,   1450.9,  -0.5900,  34.9101,2,  34.9193,2,    279.8,2,    10.30,2,     7.97,2,     0.87,2,    1.229,2,    0.565,2,    0.037,2,   2161.9,2,     0.24,2,        -999,9,   -0.653645511
  06AQ19930806,    11,  1,      4,19930813, 81.5717,  30.2500, 1579,   1399.5,  -0.5786,  34.9106,2,  34.9098,2,    280.8,2,    10.30,2,     7.97,2,     0.87,2, -999.000,9, -999.000,9, -999.000,9,   2156.4,2,  -999.00,9, 0.047819116,2,   -0.639457941
  06AQ19930806,    11,  1,      5,19930813, 81.5717,  30.2500, 1579,   1299.4,  -0.5557,  34.9102,2,  34.9102,2,    281.8,2,    10.30,2,     8.16,2,     0.97,2,    1.312,2,    0.599,2,    0.045,2,   2156.0,2,     0.24,2,0.0468432297,2,   -0.611291356
  06AQ19930806,    11,  1,      6,19930813, 81.5717,  30.2500, 1579,   1149.0,  -0.5172,  34.9098,2,  34.9094,2,    281.8,2,    10.11,2,     8.06,2,     0.87,2, -999.000,9, -999.000,9, -999.000,9,   2153.4,2,  -999.00,9,0.0478191445,2,   -0.565173253
  06AQ19930806,    11,  1,      7,19930813, 81.5717,  30.2500, 1579,    998.6,  -0.4015,  34.9100,2,  34.9104,2,    281.8,2,     9.72,2,     8.06,2,     0.97,2,    1.648,2,    0.748,2,    0.058,2,   2158.1,2,     0.25,2,0.0478191374,2,   -0.442797179
  06AQ19930806,    11,  1,      8,19930813, 81.5717,  30.2500, 1579,    848.7,  -0.0027,  34.9126,2,  34.9142,2,    283.7,2,     7.87,2,     7.38,2,     0.87,2, -999.000,9, -999.000,9, -999.000,9,   2154.3,2,     0.28,2,        -999,9,  -0.0394501358
  06AQ19930806,    11,  1,      9,19930813, 81.5717,  30.2500, 1579,    699.6,   0.4859,  34.9182,2,  34.9187,2,    281.8,2,     7.29,2,     7.77,2,     0.87,2,    2.760,2,    1.260,2,    0.150,2,   2149.2,2,     0.24,2,0.0448911611,2,    0.453712943
  06AQ19930806,    11,  1,     10,19930813, 81.5717,  30.2500, 1579,    600.3,   1.1200,  34.9526,2,  34.9462,2,    287.6,2,     6.12,2,     7.39,2,     0.78,2,    3.941,2,    1.854,2,    0.215,2,   2147.8,2,     0.23,2,0.0458658814,2,      1.0897522
  06AQ19930806,    11,  1,     11,19930813, 81.5717,  30.2500, 1579,    500.0,   1.7305,  34.9760,2,  34.9734,2,    290.6,2,     6.80,2,     7.48,2,     0.78,2,    4.501,2,    2.172,2,    0.307,2,   2146.0,2,     0.26,2,0.0439133768,2,     1.70322212
  06AQ19930806,    11,  1,     12,19930813, 81.5717,  30.2500, 1579,    401.1,   2.2552,  35.0047,2,  35.0051,2,    288.6,2,     5.83,2,     7.19,2,     0.78,2,    4.950,2,    2.338,2,    0.379,2,   2142.1,2,     0.30,2,0.0439124386,2,     2.23191985
  06AQ19930806,    11,  1,     13,19930813, 81.5717,  30.2500, 1579,    300.7,   2.7450,  35.0155,2,  35.0146,2,    289.6,2,     5.64,2,     7.39,2,     0.78,2,    5.132,2,    2.445,2,    0.330,2,   2136.8,2,     0.27,2,0.0556219751,4,     2.72660009
  06AQ19930806,    11,  1,     14,19930813, 81.5717,  30.2500, 1579,    251.1,   2.9762,  35.0144,2,  35.0167,2,    286.7,2,     5.54,2,     7.39,2,     0.78,2,    5.210,2,    2.457,2,    0.420,2,   2140.9,2,     0.29,2,        -999,9,     2.96046734
  06AQ19930806,    11,  1,     15,19930813, 81.5717,  30.2500, 1579,    200.6,   3.0301,  31.7772,4,-999.0000,9,   -999.0,9,  -999.00,9,  -999.00,9,  -999.00,9, -999.000,9, -999.000,9, -999.000,9,   -999.0,9,  -999.00,9,0.0440181028,2,           -999
  06AQ19930806,    11,  1,     16,19930813, 81.5717,  30.2500, 1579,    150.9,   3.1731,  34.9498,2,  34.9492,2,    285.7,2,     4.28,2,     6.61,2,     0.68,2,    5.384,2,    2.540,2,    0.420,2,   2134.9,2,     0.29,2,        -999,9,     3.16354556
  06AQ19930806,    11,  1,     17,19930813, 81.5717,  30.2500, 1579,    101.0,   2.4475,  34.7584,2,  34.8207,2,    289.6,2,     3.79,2,     5.64,2,     0.68,2, -999.000,9, -999.000,9, -999.000,9,   2124.2,2,     0.24,2,        -999,9,     2.44176417
  06AQ19930806,    11,  1,     18,19930813, 81.5717,  30.2500, 1579,     71.0,  -0.0418,  34.2357,2,  34.2643,2,    313.0,2,     2.92,2,     4.37,2,     0.58,2,    5.910,2,    2.804,2,    0.479,2,   2087.8,2,     0.21,2,        -999,9,  -0.0442644294
  06AQ19930806,    11,  1,     19,19930813, 81.5717,  30.2500, 1579,     50.5,  -1.4091,  33.6786,2,  33.7667,2,    327.7,2,     2.53,2,     3.79,2,     0.58,2,    6.171,2,    2.873,2,    0.519,2,   2061.0,2,     0.11,2,        -999,9,    -1.41019784
  06AQ19930806,    11,  1,     20,19930813, 81.5717,  30.2500, 1579,     30.9,  -1.5783,  33.5421,2,  33.5344,2,    338.5,2,     1.36,2,     3.40,2,     0.49,2, -999.000,9, -999.000,9, -999.000,9,   2035.3,2,  -999.00,9,        -999,9,    -1.57890587
  06AQ19930806,    11,  1,     21,19930813, 81.5717,  30.2500, 1579,     16.7,  -1.6361,  32.6165,2,  32.6232,2,    386.5,2,     0.49,2,     0.39,2,     0.19,2, -999.000,9, -999.000,9, -999.000,9,   1955.1,2,    -0.02,2,        -999,9,    -1.63638675
  06AQ19930806,    11,  1,     22,19930813, 81.5717,  30.2500, 1579,     11.1,  -1.6460,  32.5216,2,  32.6199,2,    389.4,2,     0.58,2,     0.19,2,     0.19,2, -999.000,9, -999.000,9, -999.000,9,   1936.0,2,  -999.00,9,0.0410607894,2,    -1.64618893
  06AQ19930806,    11,  1,     23,19930813, 81.5717,  30.2500, 1579,      6.2,   1.6313,  32.7137,2,  32.6343,2,    391.3,2,     0.58,2,     0.29,2,     0.19,2,    6.280,2,    2.904,2,    0.512,2,   1936.5,2,     0.01,2,        -999,9,     1.63101932
  06AQ19930806,    11,  1,     24,19930813, 81.5717,  30.2500, 1579,      1.7,   1.6313,  32.6965,2,-999.0000,9,   -999.0,9,  -999.00,9,  -999.00,9,  -999.00,9, -999.000,9, -999.000,9, -999.000,9,   -999.0,9,  -999.00,9,        -999,9,     1.63122291
  06AQ19930806,    12,  1,      1,19930813, 81.6133,  30.2600, 2215,   2200.3,  -0.7754,  34.9170,2,  34.9163,2,    284.7,2,    11.66,2,    13.70,2,     0.97,2, -999.000,9, -999.000,9, -999.000,9,   2136.8,2,     0.25,2,        -999,9,   -0.883070905
  06AQ19930806,    12,  1,      2,19930813, 81.6133,  30.2600, 2215,   2151.6,  -0.7673,  34.9162,2,  34.9145,2,   -999.0,9,  -999.00,9,  -999.00,9,  -999.00,9, -999.000,9, -999.000,9, -999.000,9,   2143.0,2,     0.24,2,        -999,9,   -0.871813032
  06AQ19930806,    12,  1,      3,19930813, 81.6133,  30.2600, 2215,   2100.1,  -0.7582,  34.9150,2,  34.9163,2,    284.7,2,    10.69,2,    13.89,2,     0.97,2, -999.000,9, -999.000,9, -999.000,9,   -999.0,9,     0.23,2,        -999,9,   -0.859432987
  06AQ19930806,    12,  1,      4,19930813, 81.6133,  30.2600, 2215,   1997.9,  -0.7498,  34.9137,2,  34.9128,2,    285.7,2,    10.69,2,    13.89,2,     0.97,2, -999.000,9, -999.000,9, -999.000,9,   -999.0,9,  -999.00,9,        -999,9,    -0.84445464
  06AQ19930806,    12,  1,      5,19930813, 81.6133,  30.2600, 2215,   1899.3,  -0.7520,  34.9136,2,  34.9130,2,    284.7,2,    10.69,2,    13.80,2,     0.97,2, -999.000,9, -999.000,9, -999.000,9,   -999.0,9,  -999.00,9,        -999,9,   -0.840318574
  06AQ19930806,    12,  1,      6,19930813, 81.6133,  30.2600, 2215,   1899.3,  -0.7520,  34.9136,2,  34.9136,2,    284.7,2,    10.69,2,    13.41,2,     0.87,2, -999.000,9, -999.000,9, -999.000,9,   -999.0,9,  -999.00,9,        -999,9,   -0.840320629
  06AQ19930806,    12,  1,      7,19930813, 81.6133,  30.2600, 2215,   1587.9,  -0.7536,  34.9132,2,  34.9110,2,    285.7,2,    10.69,2,    13.89,2,     0.97,2, -999.000,9, -999.000,9, -999.000,9,   -999.0,9,     0.27,2,        -999,9,   -0.823062209
  06AQ19930806,    12,  1,      8,19930813, 81.6133,  30.2600, 2215,   1297.3,  -0.6784,  34.9113,2,  34.9112,2,    284.7,2,    10.69,2,    13.70,2,     0.97,2, -999.000,9, -999.000,9, -999.000,9,   -999.0,9,  -999.00,9,        -999,9,    -0.73258407
  06AQ19930806,    12,  1,      9,19930813, 81.6133,  30.2600, 2215,   1099.4,  -0.4577,  34.9101,2,  34.9114,2,    285.7,2,     8.74,2,    13.41,2,     0.97,2, -999.000,9, -999.000,9, -999.000,9,   -999.0,9,  -999.00,9,        -999,9,   -0.503653737
  06AQ19930806,    12,  1,     10,19930813, 81.6133,  30.2600, 2215,    889.6,  -0.0672,  34.9119,2,  34.9124,2,    286.6,2,     7.77,2,    12.24,2,     0.87,2, -999.000,9, -999.000,9, -999.000,9,   -999.0,9,  -999.00,9,        -999,9,    -0.10557016
  06AQ19930806,    12,  1,     11,19930813, 81.6133,  30.2600, 2215,    696.9,   0.7286,  34.9299,2,  34.9328,2,    291.5,2,     6.80,2,    12.44,2,     0.87,2, -999.000,9, -999.000,9, -999.000,9,   -999.0,9,  -999.00,9,        -999,9,    0.695149533
  06AQ19930806,    12,  1,     12,19930813, 81.6133,  30.2600, 2215,    498.3,   1.9231,  34.9865,2,  34.9854,2,    295.4,2,     5.83,2,    11.76,2,     0.78,2, -999.000,9, -999.000,9, -999.000,9,   -999.0,9,  -999.00,9,        -999,9,     1.89513304
  06AQ19930806,    12,  1,     13,19930813, 81.6133,  30.2600, 2215,    398.4,   2.4092,  35.0043,2,  35.0087,2,    292.5,2,     5.83,2,    11.76,2,     0.78,2, -999.000,9, -999.000,9, -999.000,9,   -999.0,9,  -999.00,9,        -999,9,     2.38558719
  06AQ19930806,    12,  1,     14,19930813, 81.6133,  30.2600, 2215,    298.6,   2.8531,  35.0239,2,  35.0152,2,    290.6,2,     4.86,2,    11.56,2,     0.78,2, -999.000,9, -999.000,9, -999.000,9,   -999.0,9,  -999.00,9,        -999,9,     2.83457334
  06AQ19930806,    12,  1,     15,19930813, 81.6133,  30.2600, 2215,    239.1,   2.7291,  34.9653,2,  34.9590,2,    291.6,2,     4.86,2,    11.18,2,     0.78,2, -999.000,9, -999.000,9, -999.000,9,   -999.0,9,  -999.00,9,        -999,9,     2.71464343
  06AQ19930806,    12,  1,     16,19930813, 81.6133,  30.2600, 2215,    199.3,   2.6493,  34.9222,2,  34.9579,2,    290.6,2,     4.86,2,    11.08,2,     0.78,2, -999.000,9, -999.000,9, -999.000,9,   -999.0,9,  -999.00,9,        -999,9,     2.63744389
  06AQ19930806,    12,  1,     17,19930813, 81.6133,  30.2600, 2215,    148.2,   2.5389,  34.8529,2,  34.8827,2,    291.6,2,     3.89,2,    10.59,2,     0.68,2, -999.000,9, -999.000,9, -999.000,9,   2131.9,2,  -999.00,9,        -999,9,     2.53029882
  06AQ19930806,    12,  1,     18,19930813, 81.6133,  30.2600, 2215,     99.1,   1.3363,  34.5742,2,  34.6578,2,    298.4,2,     2.92,2,     8.55,2,     0.68,2, -999.000,9, -999.000,9, -999.000,9,   2112.0,2,  -999.00,9,        -999,9,     1.33161135
  06AQ19930806,    12,  1,     19,19930813, 81.6133,  30.2600, 2215,     69.7,  -1.3156,  34.1304,2,  34.2221,2,    313.0,2,     2.92,2,     7.97,2,     0.58,2, -999.000,9, -999.000,9, -999.000,9,   2097.6,2,  -999.00,9,        -999,9,    -1.31724704
  06AQ19930806,    12,  1,     20,19930813, 81.6133,  30.2600, 2215,     50.0,  -1.6336,  33.7590,2,  33.8568,2,    323.8,2,     3.89,2,     7.88,2,     0.58,2, -999.000,9, -999.000,9, -999.000,9,   2073.1,2,  -999.00,9,        -999,9,    -1.63459709
  06AQ19930806,    12,  1,     21,19930813, 81.6133,  30.2600, 2215,     24.8,  -1.6876,  33.3435,2,  33.4681,2,    343.4,2,     1.95,2,     5.45,2,     0.49,2, -999.000,9, -999.000,9, -999.000,9,   2034.6,2,  -999.00,9,        -999,9,    -1.68805766
  06AQ19930806,    12,  1,     22,19930813, 81.6133,  30.2600, 2215,     13.8,  -1.6663,  32.7637,2,  33.0110,2,    373.7,2,     0.39,2,     2.34,2,     0.29,2, -999.000,9, -999.000,9, -999.000,9,   1977.1,2,  -999.00,9,        -999,9,    -1.66654337
  06AQ19930806,    12,  1,     23,19930813, 81.6133,  30.2600, 2215,      9.4,  -1.6624,  32.5423,2,  32.5940,2,    387.4,2,     0.29,2,     1.17,2,     0.19,2, -999.000,9, -999.000,9, -999.000,9,   1936.9,2,  -999.00,9,        -999,9,    -1.66255799
  06AQ19930806,    12,  1,     24,19930813, 81.6133,  30.2600, 2215,      9.5,  -1.6617,  32.5420,2,  32.5838,2,    392.3,2,     0.39,2,     1.27,2,     0.19,2, -999.000,9, -999.000,9, -999.000,9,   1933.0,2,  -999.00,9,        -999,9,    -1.66185955