BOTTLE,20081119PRINUNIVRMK
EXPOCODE,STNNBR,CASTNO,BTLNBR,DATE,LATITUDE,LONGITUDE,DEPTH,CTDPRS,CTDTMP,CTDSAL,CTDSAL_FLAG_W,SALNTY,SALNTY_FLAG_W,OXYGEN,OXYGEN_FLAG_W,SILCAT,SILCAT_FLAG_W,NITRAT,NITRAT_FLAG_W,PHSPHT,PHSPHT_FLAG_W,CFC-11,CFC-11_FLAG_W,CFC-12,CFC-12_FLAG_W,CFC113,CFC113_FLAG_W,TCARBN,TCARBN_FLAG_W,DELO18,DELO18_FLAG_W,BARIUM,BARIUM_FLAG_W,THETA
,,,,,,,METERS,DBARS,ITS-90,PSS-78,,PSS-78,,UMOL/KG,,UMOL/KG,,UMOL/KG,,UMOL/KG,,PMOL/KG,,PMOL/KG,,PMOL/KG,,UMOL/KG,,O/OO,,UM/KG,,DEGC
  06AQ19930806,    22,  2,      1,19930820, 82.2683,  41.6167, 1513,   1493.3,  -0.6501,  34.9119,2,  34.9134,2,    280.0,2,    10.30,2,    13.70,2,     0.97,2,    0.957,2,    0.460,2,    0.000,2,   2159.6,2,     0.25,2,0.0478190698,2,   -0.715425258
  06AQ19930806,    22,  2,      2,19930820, 82.2683,  41.6167, 1513,   1449.2,  -0.6369,  34.9129,2,  34.9122,2,    281.0,2,    10.40,2,    13.60,2,     0.97,2,    0.978,2,    0.474,2,    0.000,2,   2155.8,2,     0.25,2,0.0468431355,2,   -0.699880822
  06AQ19930806,    22,  2,      3,19930820, 82.2683,  41.6167, 1513,   1400.5,  -0.6176,  34.9125,2,  34.9098,2,    282.0,2,  -999.00,9,  -999.00,9,  -999.00,9,    1.022,2,    0.496,2,    0.015,2,   2158.6,2,     0.23,2,0.0478190484,2,   -0.678071418
  06AQ19930806,    22,  2,      4,19930820, 82.2683,  41.6167, 1513,   1349.4,  -0.6005,  34.9125,2,  34.9126,2,    282.0,2,    10.30,2,    13.60,2,     0.97,2,    1.069,2,    0.505,2,    0.030,2,   2157.8,2,     0.28,2, 0.118083773,4,   -0.658345868
  06AQ19930806,    22,  2,      5,19930820, 82.2683,  41.6167, 1513,   1298.7,  -0.5804,  34.9120,2,  34.9086,2,    282.0,2,    10.10,2,    13.51,2,     0.97,2, -999.000,9, -999.000,9, -999.000,9,   -999.0,9,  -999.00,9,0.0478190662,2,   -0.635688631
  06AQ19930806,    22,  2,      6,19930820, 82.2683,  41.6167, 1513,   1198.8,  -0.5197,  34.9118,2,  34.9118,2,    283.0,2,     9.91,2,    13.41,2,     0.87,2, -999.000,9, -999.000,9, -999.000,9,   -999.0,9,  -999.00,9,0.0468431739,2,    -0.57026708
  06AQ19930806,    22,  2,      7,19930820, 82.2683,  41.6167, 1513,   1098.2,  -0.4348,  34.9118,2,  34.9106,2,    282.0,2,     9.72,2,    13.51,2,     0.97,2, -999.000,9, -999.000,9, -999.000,9,   -999.0,9,     0.22,2,0.0458672744,2,   -0.480896088
  06AQ19930806,    22,  2,      8,19930820, 82.2683,  41.6167, 1513,    998.0,  -0.3416,  34.9118,2,  34.9100,2,    282.0,2,     9.52,2,    13.41,2,     0.97,2, -999.000,9, -999.000,9, -999.000,9,   -999.0,9,  -999.00,9,0.0468431739,2,   -0.383357315
  06AQ19930806,    22,  2,      9,19930820, 82.2683,  41.6167, 1513,    898.6,  -0.1410,  34.9111,2,  34.9122,2,    283.0,2,     8.84,2,    13.12,2,     0.87,2, -999.000,9, -999.000,9, -999.000,9,   -999.0,9,  -999.00,9,0.0458672983,2,   -0.179285094
  06AQ19930806,    22,  2,     10,19930820, 82.2683,  41.6167, 1513,    799.2,   0.1175,  34.9132,2,  34.9134,2,    284.0,2,     8.16,2,    12.83,2,     0.87,2, -999.000,9, -999.000,9, -999.000,9,   -999.0,9,     0.26,2,0.0458672266,2,   0.0824557465
  06AQ19930806,    22,  2,     11,19930820, 82.2683,  41.6167, 1513,    699.3,   0.5717,  34.9246,2,  34.9252,2,    286.0,2,     7.58,2,    12.63,2,     0.87,2, -999.000,9, -999.000,9, -999.000,9,   -999.0,9,  -999.00,9,0.0448909472,2,    0.539027978
  06AQ19930806,    22,  2,     12,19930820, 82.2683,  41.6167, 1513,    599.0,   1.1819,  34.9481,2,  34.9456,2,    288.0,2,     6.80,2,    12.24,2,     0.87,2, -999.000,9, -999.000,9, -999.000,9,   -999.0,9,     0.26,2,0.0439142888,2,     1.15142247
  06AQ19930806,    22,  2,     13,19930820, 82.2683,  41.6167, 1513,    498.5,   1.8143,  34.9725,2,  34.9726,2,    289.9,2,     6.22,2,    11.95,2,     0.78,2, -999.000,9, -999.000,9, -999.000,9,   -999.0,9,  -999.00,9,0.0478169126,2,      1.7867719
  06AQ19930806,    22,  2,     14,19930820, 82.2683,  41.6167, 1513,    397.6,   2.2112,  34.9765,2,  34.9738,2,    290.9,2,     5.93,2,    11.66,2,     0.78,2, -999.000,9, -999.000,9, -999.000,9,   -999.0,9,     0.27,2,0.0439133604,2,     2.18829816
  06AQ19930806,    22,  2,     15,19930820, 82.2683,  41.6167, 1513,    299.3,   2.4388,  34.9652,2,  34.9665,2,    290.9,2,     5.54,2,    11.47,2,     0.78,2, -999.000,9, -999.000,9, -999.000,9,   -999.0,9,     0.23,2,0.0439137298,2,     2.42125528
  06AQ19930806,    22,  2,     16,19930820, 82.2683,  41.6167, 1513,    199.8,   2.2621,  34.8825,2,  34.8960,2,    292.9,2,     5.25,2,    11.08,2,     0.78,2, -999.000,9, -999.000,9, -999.000,9,   -999.0,9,     0.27,2,0.0448923541,2,     2.25086473
  06AQ19930806,    22,  2,     17,19930820, 82.2683,  41.6167, 1513,    149.3,   1.8741,  34.8059,2,  34.7905,2,    296.0,2,     5.35,2,    10.89,2,     0.78,2, -999.000,9, -999.000,9, -999.000,9,   -999.0,9,     0.19,2,0.0439189377,2,     1.86627103
  06AQ19930806,    22,  2,     18,19930820, 82.2683,  41.6167, 1513,    123.2,   1.2882,  34.6973,2,  34.6723,2,    297.0,2,     5.05,2,    10.50,2,     0.68,2, -999.000,9, -999.000,9, -999.000,9,   -999.0,9,  -999.00,9,0.0429464332,2,      1.2823913
  06AQ19930806,    22,  2,     19,19930820, 82.2683,  41.6167, 1513,    100.4,  -0.2697,  34.4271,2,  34.4879,2,    300.0,2,     4.86,2,     9.72,2,     0.68,2, -999.000,9, -999.000,9, -999.000,9,   -999.0,9,  -999.00,9,0.0439313245,2,   -0.273059394
  06AQ19930806,    22,  2,     20,19930820, 82.2683,  41.6167, 1513,     74.6,  -1.5368,  34.1863,2,  34.2399,2,    306.1,2,     4.76,2,     9.53,2,     0.68,2, -999.000,9, -999.000,9, -999.000,9,   -999.0,9,  -999.00,9,0.0439392011,2,    -1.53842494
  06AQ19930806,    22,  2,     21,19930820, 82.2683,  41.6167, 1513,     49.9,  -1.8081,  34.1263,2,  34.1173,2,    308.1,2,     5.15,2,     9.43,2,     0.68,2, -999.000,9, -999.000,9, -999.000,9,   -999.0,9,     0.10,2,0.0429646936,2,    -1.80904402
  06AQ19930806,    22,  2,     22,19930820, 82.2683,  41.6167, 1513,     25.3,  -1.7537,  33.8329,2,  33.8098,2,    319.1,2,     4.47,2,     8.07,2,     0.58,2, -999.000,9, -999.000,9, -999.000,9,   -999.0,9,  -999.00,9,0.0419973967,2,    -1.75416926
  06AQ19930806,    22,  2,     23,19930820, 82.2683,  41.6167, 1513,     15.1,  -1.7444,  33.6369,2,  33.6798,2,    327.2,2,     4.18,2,     7.49,2,     0.58,2, -999.000,9, -999.000,9, -999.000,9,   -999.0,9,  -999.00,9,0.0429803525,2,    -1.74467592
  06AQ19930806,    22,  2,     24,19930820, 82.2683,  41.6167, 1513,     10.1,  -1.7416,  33.5770,2,  33.6142,2,    327.2,2,     4.09,2,     7.29,2,     0.68,2, -999.000,9, -999.000,9, -999.000,9,   -999.0,9,     0.01,2,0.0429822695,2,      -1.741783
  06AQ19930806,    23,  1,      1,19930820, 82.2000,  41.8783, 1180,   1180.7,  -0.4638,  34.9092,2,  34.9092,2,   -999.0,9,  -999.00,9,  -999.00,9,  -999.00,9,    1.378,2,    0.654,2,    0.036,2,   2155.0,2,     0.22,2,        -999,9,   -0.513945883
  06AQ19930806,    23,  1,      2,19930820, 82.2000,  41.8783, 1180,   1180.8,  -0.4639,  34.9092,2,  34.9090,2,    281.5,2,     9.91,2,    13.31,2,     0.97,2,    1.384,2,    0.655,2,    0.050,2,   2155.9,2,  -999.00,9,0.0478191659,2,   -0.514049785
  06AQ19930806,    23,  1,      3,19930820, 82.2000,  41.8783, 1180,   1150.4,  -0.4194,  34.9080,2,  34.9104,2,   -999.0,9,  -999.00,9,  -999.00,9,  -999.00,9,    1.515,2,    0.706,2,    0.070,2,   2151.9,2,     0.25,2,        -999,9,   -0.468367705
  06AQ19930806,    23,  1,      4,19930820, 82.2000,  41.8783, 1180,   1150.3,  -0.4178,  34.9088,2,  34.9084,2,    281.5,2,     9.72,2,    13.31,2,     1.55,3, -999.000,9, -999.000,9, -999.000,9,   2152.4,2,  -999.00,9,0.0468432785,2,   -0.466773226
  06AQ19930806,    23,  1,      5,19930820, 82.2000,  41.8783, 1180,    999.3,  -0.1830,  34.9100,2,  34.9082,2,    283.5,2,     8.94,2,    12.92,2,     0.87,2, -999.000,9, -999.000,9, -999.000,9,   2155.4,2,  -999.00,9,0.0468432366,2,   -0.226119627
  06AQ19930806,    23,  1,      6,19930820, 82.2000,  41.8783, 1180,    948.9,  -0.0770,  34.9085,2,  34.9053,2,    283.5,2,     8.55,2,    12.83,2,     0.87,2, -999.000,9, -999.000,9, -999.000,9,   2151.3,2,  -999.00,9,0.0458673871,2,   -0.118339042
  06AQ19930806,    23,  1,      7,19930820, 82.2000,  41.8783, 1180,    849.9,   0.2426,  34.9151,2,  34.9143,2,    284.5,2,     7.77,2,    12.53,2,     0.87,2, -999.000,9, -999.000,9, -999.000,9,   2149.9,2,  -999.00,9,0.0458671617,2,    0.204078283
  06AQ19930806,    23,  1,      8,19930820, 82.2000,  41.8783, 1180,    748.9,   0.6528,  34.9301,2,  34.9254,2,    286.4,2,     7.48,2,    12.24,2,     0.87,2, -999.000,9, -999.000,9, -999.000,9,   2150.6,2,  -999.00,9,0.0448907634,2,    0.616989464
  06AQ19930806,    23,  1,      9,19930820, 82.2000,  41.8783, 1180,    648.8,   1.1208,  34.9481,2,  34.9484,2,    289.4,2,     6.70,2,    12.24,2,     0.78,2,    4.028,2,    1.876,2,    0.270,2,   2147.4,2,     0.29,2,0.0439142888,2,     1.08783182
  06AQ19930806,    23,  1,     10,19930820, 82.2000,  41.8783, 1180,    548.3,   1.6463,  34.9701,2,  34.9703,2,    290.4,2,     6.12,2,    12.05,2,     0.78,2, -999.000,9, -999.000,9, -999.000,9,   2142.3,2,  -999.00,9,0.0439135697,2,     1.61654215
  06AQ19930806,    23,  1,     11,19930820, 82.2000,  41.8783, 1180,    497.9,   1.9749,  34.9882,2,  34.9884,2,    289.4,2,     5.93,2,    12.05,2,     0.78,2, -999.000,9, -999.000,9, -999.000,9,   2139.6,2,  -999.00,9, 0.043912978,2,     1.94674574
  06AQ19930806,    23,  1,     12,19930820, 82.2000,  41.8783, 1180,    449.2,   2.0594,  34.9833,2,  34.9837,2,    288.4,2,     5.93,2,    12.05,2,     0.78,2, -999.000,9, -999.000,9, -999.000,9,   2142.7,2,  -999.00,9,0.0439131382,2,     2.03387797
  06AQ19930806,    23,  1,     13,19930820, 82.2000,  41.8783, 1180,    399.9,   2.2654,  34.9885,2,  34.9907,2,    289.4,2,     5.93,2,    11.86,2,     0.78,2,    4.869,2,    2.310,2,    0.317,2,   2143.5,2,     0.28,2,0.0439129682,2,     2.24217069
  06AQ19930806,    23,  1,     14,19930820, 82.2000,  41.8783, 1180,    349.4,   2.6103,  35.0083,2,  35.0142,2,    288.4,2,     5.54,2,    11.76,2,     0.78,2, -999.000,9, -999.000,9, -999.000,9,   2138.0,2,  -999.00,9,0.0439123209,2,     2.58916128
  06AQ19930806,    23,  1,     15,19930820, 82.2000,  41.8783, 1180,    299.6,   2.6522,  34.9962,2,  34.9917,2,    288.4,2,     5.25,2,    11.56,2,     0.78,2, -999.000,9, -999.000,9, -999.000,9,   2139.1,2,     0.26,2,0.0448885546,2,     2.63410649
  06AQ19930806,    23,  1,     16,19930820, 82.2000,  41.8783, 1180,    250.7,   2.7555,  34.9749,2,  34.9758,2,    288.4,2,     5.25,2,    11.27,2,     0.78,2, -999.000,9, -999.000,9, -999.000,9,   2136.0,2,  -999.00,9,0.0439134127,2,     2.74025745
  06AQ19930806,    23,  1,     17,19930820, 82.2000,  41.8783, 1180,    200.1,   2.6157,  34.9287,2,  34.9397,2,    288.4,2,     4.86,2,    11.08,2,     0.78,2,    5.284,2,    2.527,2,    0.431,2,   -999.0,9,  -999.00,9, 0.043914923,2,     2.60385598
  06AQ19930806,    23,  1,     18,19930820, 82.2000,  41.8783, 1180,    150.4,   2.5431,  34.8882,2,  34.9025,2,    288.4,2,     3.98,2,     9.43,2,     0.68,2, -999.000,9, -999.000,9, -999.000,9,   2134.1,2,  -999.00,9, 0.043916247,2,     2.53435797
  06AQ19930806,    23,  1,     19,19930820, 82.2000,  41.8783, 1180,     99.6,   2.0390,  34.7291,2,  34.7270,2,    293.5,2,     3.79,2,     8.85,2,     0.68,2,    5.464,2,    2.595,2,    0.439,2,   2121.5,2,  -999.00,9,0.0429454165,2,     2.03369535
  06AQ19930806,    23,  1,     20,19930820, 82.2000,  41.8783, 1180,     75.5,   0.2351,  34.4188,2,  34.5565,2,    300.5,2,     4.47,2,     9.14,2,     0.68,2, -999.000,9, -999.000,9, -999.000,9,   2109.9,2,  -999.00,9,0.0429553383,2,    0.232256763
  06AQ19930806,    23,  1,     21,19930820, 82.2000,  41.8783, 1180,     49.4,  -1.6046,  34.0740,2,  33.7604,2,    308.6,2,     4.38,2,     7.78,2,     0.58,2,    5.896,2,    2.781,2,    0.457,2,   2098.5,2,  -999.00,9,0.0429663667,2,    -1.60558809
  06AQ19930806,    23,  1,     22,19930820, 82.2000,  41.8783, 1180,     26.0,  -1.7311,  33.5424,2,  33.4638,2,    319.7,2,     4.09,2,     6.52,2,     0.49,2, -999.000,9, -999.000,9, -999.000,9,   2061.3,2,  -999.00,9,0.0429833769,2,    -1.73156992
  06AQ19930806,    23,  1,     23,19930820, 82.2000,  41.8783, 1180,     26.0,  -1.7247,  33.4106,2,  33.4638,2,    332.6,2,     3.99,2,     6.23,2,     0.49,2,    5.991,2,    2.821,2, -999.000,9,   -999.0,9,  -999.00,9,        -999,9,    -1.72517139
  06AQ19930806,    23,  1,     24,19930820, 82.2000,  41.8783, 1180,     15.1,  -1.7157,  33.3305,2,  33.3660,2,    335.6,2,  -999.00,9,    13.81,4,     0.97,3, -999.000,9, -999.000,9, -999.000,9,   -999.0,9,  -999.00,9,0.0420131107,2,    -1.71597043
  06AQ19930806,    24,  1,      1,19930820, 82.1600,  42.0383,  987,    987.9,  -0.1788,  34.9089,2,  34.9102,2,    283.5,2,     8.65,2,    12.63,2,     0.87,2,    1.968,2,    0.908,2,    0.088,2,   2152.1,2,     0.28,2,0.0458673734,2,   -0.221365194
  06AQ19930806,    24,  1,      2,19930820, 82.1600,  42.0383,  987,    951.2,  -0.0681,  34.9118,2,  34.9126,2,    285.4,2,     8.65,2,    12.73,2,     0.87,2, -999.000,9, -999.000,9, -999.000,9,   2152.6,2,     0.22,2,0.0458672744,2,    -0.10964076
  06AQ19930806,    24,  1,      3,19930820, 82.1600,  42.0383,  987,    900.3,   0.1426,  34.9148,2,  34.9155,2,    284.5,2,     8.16,2,    12.44,2,     0.87,2,    2.511,2,    1.142,2,    0.122,2,   2143.1,2,     0.22,2, 0.045867172,2,    0.102129342
  06AQ19930806,    24,  1,      4,19930820, 82.1600,  42.0383,  987,    848.5,   0.4995,  34.9234,2,  34.9228,2,    285.4,2,     7.58,2,    12.34,2,     0.87,2, -999.000,9, -999.000,9, -999.000,9,   2145.0,2,     0.22,2,  0.10442034,4,     0.45925759
  06AQ19930806,    24,  1,      5,19930820, 82.1600,  42.0383,  987,    650.0,   1.1598,  34.9526,2,  34.9506,2,    288.4,2,     7.00,2,    11.95,2,     0.87,2,    4.033,2,    1.992,2,    0.264,2,   2142.5,2,     0.30,2, 0.047817621,2,     1.12655514
  06AQ19930806,    24,  1,      6,19930820, 82.1600,  42.0383,  987,    498.6,   1.6718,  34.9640,2,  34.9990,2,    290.4,2,     6.22,2,    11.76,2,     0.78,2,    4.319,2,    2.004,2,    0.266,2,   2142.0,2,     0.33,2,0.0448896306,2,      1.6448193
  06AQ19930806,    24,  1,      7,19930820, 82.1600,  42.0383,  987,    348.5,   2.4440,  34.9957,2,  34.9963,2,    293.4,2,     5.73,2,    11.47,2,     0.78,2,    4.992,2,    2.339,2,    0.349,2,   2137.1,2,     0.29,2,0.0458644098,2,     2.42339717
  06AQ19930806,    24,  1,      8,19930820, 82.1600,  42.0383,  987,    297.7,   2.6721,  34.9994,2,  34.9968,2,   -999.0,9,  -999.00,9,  -999.00,9,  -999.00,9, -999.000,9, -999.000,9, -999.000,9,   -999.0,9,  -999.00,9,0.0439126119,2,     2.65407534
  06AQ19930806,    24,  1,      9,19930820, 82.1600,  42.0383,  987,    249.0,   2.6826,  34.9781,2,  34.9878,2,    288.4,2,     5.54,2,    11.27,2,     0.78,2,    5.215,2,    2.507,2,    0.393,2,   2133.7,2,     0.25,2,0.0439133081,2,     2.66760573
  06AQ19930806,    24,  1,     10,19930820, 82.1600,  42.0383,  987,    199.9,   2.7083,  34.9575,2,  34.9577,2,   -999.0,9,  -999.00,9,  -999.00,9,  -999.00,9, -999.000,9, -999.000,9, -999.000,9,   -999.0,9,  -999.00,9,0.0439139815,2,     2.69631167
  06AQ19930806,    24,  1,     11,19930820, 82.1600,  42.0383,  987,    149.6,   2.4966,  34.8946,2,  34.9004,2,   -999.0,9,  -999.00,9,  -999.00,9,  -999.00,9, -999.000,9, -999.000,9, -999.000,9,   -999.0,9,  -999.00,9,0.0439160378,2,     2.48796268
  06AQ19930806,    24,  1,     12,19930820, 82.1600,  42.0383,  987,    149.6,   2.4523,  34.8832,2,  34.9014,2,    289.4,2,     4.96,2,    10.69,2,     0.68,2,    5.274,2,    2.493,2,    0.428,2,   2129.1,2,     0.27,2,        -999,9,     2.44371644
  06AQ19930806,    24,  1,     13,19930820, 82.1600,  42.0383,  987,     99.0,   2.1242,  34.7726,2,  34.7909,2,   -999.0,9,  -999.00,9,  -999.00,9,  -999.00,9, -999.000,9, -999.000,9, -999.000,9,   -999.0,9,  -999.00,9,0.0458720276,2,     2.11884704
  06AQ19930806,    24,  1,     14,19930820, 82.1600,  42.0383,  987,     99.0,   2.1126,  34.7718,2,  34.7915,2,    291.4,2,     4.18,2,     9.91,2,     0.68,2,    5.430,2,    2.545,2,    0.394,2,   2119.2,2,     0.21,2,        -999,9,     2.10725638
  06AQ19930806,    24,  1,     15,19930820, 82.1600,  42.0383,  987,     74.0,   1.3250,  34.5762,2,  34.6067,2,   -999.0,9,  -999.00,9,  -999.00,9,  -999.00,9, -999.000,9, -999.000,9, -999.000,9,   -999.0,9,  -999.00,9,0.0439264484,2,     1.32152898
  06AQ19930806,    24,  1,     16,19930820, 82.1600,  42.0383,  987,     74.0,   1.1100,  34.5460,2,  34.5949,2,    301.4,2,     3.69,2,     8.46,2,     0.68,2, -999.000,9, -999.000,9, -999.000,9,   2110.1,2,  -999.00,9,        -999,9,     1.10666347
  06AQ19930806,    24,  1,     17,19930820, 82.1600,  42.0383,  987,     49.6,  -0.9411,  34.1505,2,  34.1973,2,   -999.0,9,  -999.00,9,  -999.00,9,  -999.00,9, -999.000,9, -999.000,9, -999.000,9,   -999.0,9,  -999.00,9,        -999,9,   -0.942421519
  06AQ19930806,    24,  1,     18,19930820, 82.1600,  42.0383,  987,     49.7,  -1.0166,  34.1399,2,  34.2093,2,    311.5,2,     4.28,2,     8.26,2,     0.58,2, -999.000,9, -999.000,9, -999.000,9,   2089.7,2,     0.16,2,0.0429642586,2,    -1.01789283
  06AQ19930806,    24,  1,     19,19930820, 82.1600,  42.0383,  987,     30.3,  -1.6950,  33.6892,2,  33.5796,2,   -999.0,9,  -999.00,9,  -999.00,9,  -999.00,9, -999.000,9, -999.000,9, -999.000,9,   -999.0,9,  -999.00,9,0.0459090432,2,    -1.69556548
  06AQ19930806,    24,  1,     20,19930820, 82.1600,  42.0383,  987,     25.4,  -1.7291,  33.4791,2,  33.5001,2,    328.6,2,     4.18,2,     6.52,2,     0.49,2,    5.956,2,    2.688,2,    0.472,2,   2036.6,2,  -999.00,9, 0.042985403,2,    -1.72956119
  06AQ19930806,    24,  1,     21,19930820, 82.1600,  42.0383,  987,     14.7,  -1.7228,  33.3977,2,  33.4055,2,    331.6,2,     4.09,2,     6.23,2,     0.49,2,    6.038,2,    2.835,2,    0.662,2,   2029.5,2,    -0.02,2,0.0429880086,2,    -1.72306342
  06AQ19930806,    24,  1,     23,19930820, 82.1600,  42.0383,  987,     10.0,  -1.7197,  33.3678,2,  33.3779,2,    332.6,2,     3.99,2,     6.13,2,     0.49,2,    6.002,2,    2.794,2,    0.469,2,   2024.4,2,  -999.00,9,0.0420119438,2,    -1.71987846