BOTTLE,20081119PRINUNIVRMK
EXPOCODE,STNNBR,CASTNO,BTLNBR,DATE,LATITUDE,LONGITUDE,DEPTH,CTDPRS,CTDTMP,CTDSAL,CTDSAL_FLAG_W,SALNTY,SALNTY_FLAG_W,OXYGEN,OXYGEN_FLAG_W,SILCAT,SILCAT_FLAG_W,NITRAT,NITRAT_FLAG_W,PHSPHT,PHSPHT_FLAG_W,CFC-11,CFC-11_FLAG_W,CFC-12,CFC-12_FLAG_W,CFC113,CFC113_FLAG_W,TCARBN,TCARBN_FLAG_W,DELO18,DELO18_FLAG_W,BARIUM,BARIUM_FLAG_W,THETA
,,,,,,,METERS,DBARS,ITS-90,PSS-78,,PSS-78,,UMOL/KG,,UMOL/KG,,UMOL/KG,,UMOL/KG,,PMOL/KG,,PMOL/KG,,PMOL/KG,,UMOL/KG,,O/OO,,UM/KG,,DEGC
  06AQ19930806,    50,  2,      1,19930910, 77.7033, 125.8533, 1999,   1982.8,  -0.8055,  34.9289,2,  34.9303,2,    279.2,2,    10.98,2,    10.98,2,     0.97,2,    0.269,2,    0.137,2,    0.021,2,   2155.0,2,  -999.00,9,0.0497702387,2,   -0.898366568
  06AQ19930806,    50,  2,      2,19930910, 77.7033, 125.8533, 1999,   1930.0,  -0.7899,  34.9251,2,  34.9264,2,    278.4,2,    10.88,2,    10.88,2,     0.97,2,    0.331,2,    0.155,2, -999.000,9,   2155.2,2,  -999.00,9,0.0497703795,2,   -0.879629426
  06AQ19930806,    50,  2,      3,19930910, 77.7033, 125.8533, 1999,   1870.6,  -0.7453,  34.9215,2,  34.9208,2,    279.2,2,    10.49,2,    10.98,2,     0.97,2,    0.511,2,    0.254,2,    0.000,2,   2152.9,2,  -999.00,9,0.0487946204,2,   -0.831940759
  06AQ19930806,    50,  2,      4,19930910, 77.7033, 125.8533, 1999,   1750.4,  -0.6677,  34.9176,2,  34.9175,2,    281.9,2,    10.01,2,    10.78,2,     0.87,2,    0.763,2,    0.346,2,    0.001,2,   2156.6,2,  -999.00,9, 0.056601924,4,   -0.748003718
  06AQ19930806,    50,  2,      5,19930910, 77.7033, 125.8533, 1999,   1499.1,  -0.4714,  34.9146,2,  34.9138,2,    281.9,2,     9.13,2,    10.49,2,     0.97,2,    1.193,2,    0.550,2,    0.039,2,   2156.2,2,  -999.00,9,0.0468430762,2,   -0.539216532
  06AQ19930806,    50,  2,      6,19930910, 77.7033, 125.8533, 1999,   1398.5,  -0.3389,  34.9128,2,  34.9128,2,    283.6,2,     6.32,3,    10.01,2,     0.78,2,    1.629,2,    0.744,2,    0.074,2,   2153.6,2,  -999.00,9, 0.046843139,2,   -0.402419473
  06AQ19930806,    50,  2,      7,19930910, 77.7033, 125.8533, 1999,   1300.1,  -0.2218,  34.9050,2,  34.9033,2,    285.4,2,     7.87,2,    10.01,2,     0.87,2,    2.783,2,    1.291,2,    0.133,2,   2155.8,2,  -999.00,9,0.0478193154,2,   -0.280933414
  06AQ19930806,    50,  2,      8,19930910, 77.7033, 125.8533, 1999,   1200.5,  -0.1336,  34.8939,2,  34.8943,2,    288.9,2,     6.80,2,     9.43,2,     0.87,2,    4.436,2,    2.069,2,    0.296,2,   2159.3,2,  -999.00,9,0.0429401482,2,   -0.187990181
  06AQ19930806,    50,  2,      9,19930910, 77.7033, 125.8533, 1999,   1103.5,  -0.0348,  34.8883,2,  34.8882,2,    290.6,2,     8.75,3,    10.30,2,     0.87,2,    4.931,2,    2.258,2,    0.315,2,   2159.4,2,  -999.00,9,0.0448921603,2,  -0.0847273059
  06AQ19930806,    50,  2,     10,19930910, 77.7033, 125.8533, 1999,    999.9,   0.1368,  34.8851,2,  34.8850,2,    290.6,2,     6.12,2,     9.23,2,     0.78,2,    5.004,2,    2.313,2,    0.333,2,   2156.3,2,  -999.00,9,0.0458681861,2,   0.0910791603
  06AQ19930806,    50,  2,     11,19930910, 77.7033, 125.8533, 1999,    800.1,   0.3835,  34.8695,2,  34.8699,2,    286.2,2,     5.34,2,     8.84,2,     0.78,2,    5.677,2,    2.620,2,    0.355,2,   2154.5,2,  -999.00,9,0.0439168584,2,    0.346727196
  06AQ19930806,    50,  2,     12,19930910, 77.7033, 125.8533, 1999,    600.2,   0.5737,  34.8588,2,  34.8592,2,    290.6,2,     5.25,2,     8.84,2,     0.78,2,    5.705,2,    2.599,2,    0.408,2,   2151.4,2,  -999.00,9,0.0468450221,2,    0.546241613
  06AQ19930806,    50,  2,     13,19930910, 77.7033, 125.8533, 1999,    452.9,   0.7735,  34.8542,2,  34.8541,2,    288.9,2,     5.15,2,     8.75,2,     0.68,2,    5.618,2,    2.555,2,    0.369,2,   2142.6,2,  -999.00,9,0.0458692412,2,    0.752623335
  06AQ19930806,    50,  2,     14,19930910, 77.7033, 125.8533, 1999,    299.7,   1.7889,  34.9010,2,  34.8992,2,    288.0,2,     5.35,2,     9.04,2,     0.78,2,    5.279,2,    2.444,2,    0.366,2,   2138.4,2,  -999.00,9,0.0439158286,2,     1.77295312
  06AQ19930806,    50,  2,     15,19930910, 77.7033, 125.8533, 1999,    249.4,   1.8948,  34.8878,2,  34.8852,2,    288.0,2,     5.35,2,     9.04,2,     0.78,2,    5.229,2,    2.400,2,    0.331,2,   2140.5,2,  -999.00,9,0.0439162601,2,     1.88142561
  06AQ19930806,    50,  2,     16,19930910, 77.7033, 125.8533, 1999,    200.5,   1.8957,  34.8586,2,  34.8610,2,    285.4,2,     5.15,2,     9.04,2,     0.78,2,    5.269,2,    2.411,2, -999.000,9,   2136.9,2,  -999.00,9,0.0429412766,2,     1.88503808
  06AQ19930806,    50,  2,     17,19930910, 77.7033, 125.8533, 1999,    174.6,   1.8378,  34.8382,2,  34.8386,2,    285.4,2,     5.05,2,     8.75,2,     0.68,2,    5.340,2,    2.414,2, -999.000,9,   2135.6,2,  -999.00,9,0.0439178817,2,     1.82864383
  06AQ19930806,    50,  2,     18,19930910, 77.7033, 125.8533, 1999,    150.4,   1.6533,  34.7970,2,  34.7945,2,    287.1,2,     4.96,2,     8.75,2,     0.68,2,    5.281,2,    2.429,2,    0.340,2,   2131.5,2,  -999.00,9,0.0409912801,2,      1.6456847
  06AQ19930806,    50,  2,     19,19930910, 77.7033, 125.8533, 1999,    124.6,   0.9925,  34.6803,2,  34.6818,2,    288.0,2,     4.57,2,     8.26,2,     0.68,2,    5.471,2,    2.514,2,    0.336,2,   2128.7,2,  -999.00,9,0.0458751796,2,    0.986928925
  06AQ19930806,    50,  2,     20,19930910, 77.7033, 125.8533, 1999,     99.1,  -0.3364,  34.4508,2,  34.5192,2,    294.2,2,     4.18,2,     7.39,2,     0.58,2,    5.826,2,    2.653,2,    0.382,2,   2125.4,2,  -999.00,9,0.0439305494,2,   -0.339664066
  06AQ19930806,    50,  2,     21,19930910, 77.7033, 125.8533, 1999,     75.3,  -1.4444,  34.2174,2,  34.3043,2,    304.7,2,     3.69,2,     6.22,2,     0.58,2,    6.369,2,    2.897,2,    0.394,2,   2124.8,2,  -999.00,9,0.0439381837,2,    -1.44611095
  06AQ19930806,    50,  2,     22,19930910, 77.7033, 125.8533, 1999,     49.7,  -1.7433,  34.0488,2,  34.0579,2,    318.7,2,     3.01,2,     4.67,2,     0.49,2,    6.838,2,    3.124,2,    0.522,2,   2117.5,2,  -999.00,9,0.0449202262,2,    -1.74426266
  06AQ19930806,    50,  2,     23,19930910, 77.7033, 125.8533, 1999,     24.3,  -1.7321,  32.7195,2,  32.8925,2,    340.9,2,     3.99,2,     2.43,2,     0.39,2, -999.000,9, -999.000,9, -999.000,9,   2079.3,2,  -999.00,9,0.0469197004,2,    -1.73251129
  06AQ19930806,    50,  2,     24,19930910, 77.7033, 125.8533, 1999,     14.5,  -1.7404,  32.5544,2,  32.5521,2,    348.0,2,     4.19,2,     1.85,2,     0.29,2,    7.295,2,    3.338,2,    0.529,2,   2064.1,2,  -999.00,9,0.0469254701,2,    -1.74063323
  06AQ19930806,    51,  1,      1,19930910, 77.8633, 125.5883, 2293,   2279.7,  -0.8100,  34.9364,2,  34.9364,2,    274.9,2,    11.76,2,    12.44,2,     0.87,2,    0.086,2,    0.044,2,    0.024,2,   2150.5,2,  -999.00,9,0.0526976056,2,   -0.922579669
  06AQ19930806,    51,  1,      2,19930910, 77.8633, 125.5883, 2293,   2199.9,  -0.8040,  34.9279,2,  34.9267,2,    281.0,2,    11.17,2,    12.53,2,     0.87,2, -999.000,9, -999.000,9, -999.000,9,   2152.3,2,     0.26,2,0.0497702757,2,   -0.911190895
  06AQ19930806,    51,  1,      3,19930910, 77.8633, 125.5883, 2293,   2002.6,  -0.7505,  34.9198,2,  34.9202,2,    281.0,2,    10.69,2,    12.44,2,     0.87,2,    0.508,2,    0.227,2,    0.038,2,   2151.8,2,  -999.00,9,0.0478187885,2,   -0.845474696
  06AQ19930806,    51,  1,      4,19930910, 77.8633, 125.5883, 2293,   1800.7,  -0.6743,  34.9165,2,  34.9157,2,    281.9,2,    10.40,2,    12.34,2,     0.87,2,    0.739,2,    0.327,2,    0.025,2,   2150.2,2,     0.27,2,0.0536742823,2,   -0.757603748
  06AQ19930806,    51,  1,      5,19930910, 77.8633, 125.5883, 2293,   1600.4,  -0.5445,  34.9144,2,  34.9147,2,    281.9,2,     9.81,2,    12.15,2,     0.87,2,    1.025,2,    0.477,2,    0.036,2,   2151.7,2,  -999.00,9,0.0487948783,2,   -0.617386317
  06AQ19930806,    51,  1,      6,19930910, 77.8633, 125.5883, 2293,   1400.0,  -0.3330,  34.9115,2,  34.9116,2,    283.6,2,     8.84,2,    11.85,2,     0.87,2,    1.638,2,    0.759,2,    0.106,2,   2151.7,2,  -999.00,9, 0.050746783,2,   -0.396669643
  06AQ19930806,    51,  1,      7,19930910, 77.8633, 125.5883, 2293,   1200.4,  -0.1676,  34.8923,2,  34.8905,2,    299.3,3,     6.90,2,    10.69,2,     0.97,2,    4.400,2,    1.972,2,    0.306,2,   2155.1,2,     0.27,2,0.0468438538,2,    -0.22164506
  06AQ19930806,    51,  1,      8,19930910, 77.8633, 125.5883, 2293,   1001.0,   0.0444,  34.8823,2,  34.8815,2,    289.7,2,     6.22,2,    10.49,2,     0.78,2,    5.011,2,    2.230,2,    0.308,2,   2157.2,2,     0.26,2,0.0458682817,2,-0.000620073588
  06AQ19930806,    51,  1,      9,19930910, 77.8633, 125.5883, 2293,    905.9,   0.2525,  34.8840,2,  34.8866,2,    284.5,2,     6.22,2,    10.40,2,     0.78,2,    4.943,2,    2.250,2,    0.311,2,   2154.0,2,  -999.00,9,0.0468441433,2,     0.21096687
  06AQ19930806,    51,  1,     10,19930910, 77.8633, 125.5883, 2293,    800.1,   0.4094,  34.8807,2,  34.8817,2,    287.1,2,     5.93,2,    10.40,2,     0.78,2,    5.218,2,    2.333,2,    0.356,2,   2153.6,2,     0.23,2,0.0458683363,2,    0.372440275
  06AQ19930806,    51,  1,     11,19930910, 77.8633, 125.5883, 2293,    600.8,   0.6943,  34.8741,2,  34.8720,2,    288.0,2,     5.73,2,    10.20,2,     0.78,2,    5.405,2,    2.448,2,    0.406,2,   2147.9,2,     0.20,2,0.0458685617,2,    0.666200701
  06AQ19930806,    51,  1,     12,19930910, 77.8633, 125.5883, 2293,    500.4,   0.8960,  34.8697,2,  34.8697,2,    287.1,2,     5.54,2,    10.20,2,     0.78,2,    5.397,2,    2.420,2,    0.310,2,   2146.1,2,  -999.00,9,0.0458687119,2,    0.872206353
  06AQ19930806,    51,  1,     13,19930910, 77.8633, 125.5883, 2293,    401.9,   1.3521,  34.8889,2,  34.8862,2,    289.7,2,     5.44,2,    10.40,2,     0.78,2,    5.288,2,    2.381,2,    0.331,2,   2142.1,2,     0.23,2,0.0448921402,2,     1.33181345
  06AQ19930806,    51,  1,     14,19930910, 77.8633, 125.5883, 2293,    350.0,   1.6362,  34.9006,2,  34.9004,2,    288.0,2,     5.44,2,    10.40,2,     0.78,2,    5.269,2,    2.335,2,    0.310,2,   2139.5,2,     0.25,2,0.0439158416,2,      1.6178642
  06AQ19930806,    51,  1,     15,19930910, 77.8633, 125.5883, 2293,    299.7,   1.8425,  34.9003,2,  34.8984,2,    289.7,2,     5.44,2,    10.40,2,     0.78,2,    5.206,2,    2.339,2,    0.322,2,   2137.2,2,     0.25,2,0.0429399436,2,      1.8264221
  06AQ19930806,    51,  1,     16,19930910, 77.8633, 125.5883, 2293,    249.5,   1.9279,  34.8842,2,  34.8809,2,    287.1,2,     5.25,2,    10.30,2,     0.78,2,    5.244,2,    2.353,2,    0.333,2,   2136.9,2,  -999.00,9,0.0458682168,2,     1.91445434
  06AQ19930806,    51,  1,     17,19930910, 77.8633, 125.5883, 2293,    200.1,   1.7984,  34.8358,2,  34.8362,2,    284.5,2,     5.15,2,    10.01,2,     0.78,2,    5.283,2,    2.402,2,    0.331,2,   2136.4,2,     0.28,2,0.0439179601,2,     1.78792894
  06AQ19930806,    51,  1,     18,19930910, 77.8633, 125.5883, 2293,    174.9,   1.5404,  34.7866,2,  34.8073,2,    284.5,2,     5.05,2,     9.52,2,     0.68,2, -999.000,9, -999.000,9, -999.000,9,   2135.7,2,  -999.00,9,0.0448955591,2,     1.53166649
  06AQ19930806,    51,  1,     19,19930910, 77.8633, 125.5883, 2293,    149.5,   0.9797,  34.6941,2,  34.7213,2,    288.0,2,     4.76,2,     9.43,2,     0.68,2,    5.472,2,    2.462,2,    0.330,2,   2132.9,2,     0.15,2, 0.046850766,2,    0.972987875
  06AQ19930806,    51,  1,     20,19930910, 77.8633, 125.5883, 2293,     99.9,  -0.9557,  34.3716,2,  34.4752,2,    298.6,2,     4.28,2,     7.97,2,     0.58,2, -999.000,9, -999.000,9, -999.000,9,   2130.6,2,  -999.00,9,0.0449094318,2,    -0.95845078
  06AQ19930806,    51,  1,     21,19930910, 77.8633, 125.5883, 2293,     74.5,  -1.5476,  34.1865,2,  34.2495,2,    301.2,2,     4.18,2,     6.80,2,     0.58,2, -999.000,9, -999.000,9, -999.000,9,   2130.5,2,  -999.00,9,0.0458920476,2,    -1.54921705
  06AQ19930806,    51,  1,     22,19930910, 77.8633, 125.5883, 2293,     50.3,  -1.7583,  34.0524,2,  34.1026,2,    317.0,2,     3.21,2,     5.64,2,     0.49,2,    6.814,2,    3.040,2,    0.503,2,   2118.8,2,    -0.33,2,0.0458966298,2,    -1.75927236
  06AQ19930806,    51,  1,     23,19930910, 77.8633, 125.5883, 2293,     24.8,  -1.7600,  32.7771,2,  33.2056,2,    335.6,2,     3.70,2,     3.60,2,     0.39,2, -999.000,9, -999.000,9, -999.000,9,   -999.0,9,  -999.00,9,0.0459402359,2,    -1.76042902
  06AQ19930806,    51,  1,     24,19930910, 77.8633, 125.5883, 2293,     24.8,  -1.7600,-999.0000,9,  33.2322,2,    332.1,2,     3.70,2,     3.31,2,     0.29,2,    7.090,2,    3.174,2,    0.500,2,   2089.4,2,    -0.88,2,        -999,9,    -1.76043032
  06AQ19930806,    52,  2,      1,19930911, 78.0850, 125.0467, 2371,   2367.1,  -0.8050,  34.9385,2,  34.9378,2,    281.1,2,    11.85,2,    12.92,2,     0.97,2,    0.090,2,    0.042,2,    0.000,2,   2147.8,2,  -999.00,9,0.0517216431,2,   -0.923770741
  06AQ19930806,    52,  2,      2,19930911, 78.0850, 125.0467, 2371,   2350.2,  -0.8067,  34.9373,2,  34.9370,2,    281.1,2,    11.85,2,    13.02,2,     0.87,2,    0.096,2,    0.059,2, -999.000,9,   2147.9,2,  -999.00,9,0.0526975703,2,   -0.924247766
  06AQ19930806,    52,  2,      3,19930911, 78.0850, 125.0467, 2371,   2300.1,  -0.8046,  34.9314,2,  34.9299,2,    282.0,2,    11.27,2,    12.83,2,     0.97,2,    0.228,2,    0.102,2,    0.001,2,   2149.9,2,  -999.00,9,0.0507460313,2,   -0.918661138
  06AQ19930806,    52,  2,      4,19930911, 78.0850, 125.0467, 2371,   2249.7,  -0.7947,  34.9274,2,  34.9266,2,    282.0,2,    11.27,2,    12.92,2,     3.30,4,    0.316,2,    0.136,2, -999.000,9,   2148.6,2,  -999.00,9,0.0614809517,4,   -0.905447208
  06AQ19930806,    52,  2,      5,19930911, 78.0850, 125.0467, 2371,   2000.0,  -0.7418,  34.9197,2,  34.9195,2,    282.9,2,    10.69,2,    12.63,2,     0.87,2,    0.526,2,    0.245,2,    0.019,2,   2147.8,2,  -999.00,9,0.0487946858,2,   -0.836741295
  06AQ19930806,    52,  2,      6,19930911, 78.0850, 125.0467, 2371,   1799.6,  -0.6883,  34.9174,2,  34.9177,2,    282.0,2,    10.49,2,    12.73,2,     0.87,2,    0.695,2,    0.309,2,    0.032,2,   2153.4,2,  -999.00,9,0.0497706648,2,   -0.771341219
  06AQ19930806,    52,  2,      7,19930911, 78.0850, 125.0467, 2371,   1599.3,  -0.5926,  34.9157,2,  34.9163,2,    286.4,2,    10.10,2,    12.53,2,     0.87,2,    0.952,2,    0.431,2, -999.000,9,   2151.9,2,  -999.00,9,0.0478189345,2,   -0.664807942
  06AQ19930806,    52,  2,      8,19930911, 78.0850, 125.0467, 2371,   1399.1,  -0.4168,  34.9142,2,  34.9145,2,    285.5,2,     9.33,2,    12.44,2,     0.87,2,    1.334,2,    0.604,2,    0.080,2,   2151.4,2,  -999.00,9,0.0468430902,2,   -0.479478535
  06AQ19930806,    52,  2,      9,19930911, 78.0850, 125.0467, 2371,   1303.9,  -0.2958,  34.9099,2,  34.9104,2,    286.4,2,     8.65,2,    12.05,2,     0.87,2,    2.004,2,    0.904,2,    0.191,2,   2154.8,2,  -999.00,9,0.0468432401,2,   -0.354385862
  06AQ19930806,    52,  2,     10,19930911, 78.0850, 125.0467, 2371,   1200.0,  -0.1889,  34.8995,2,  34.9002,2,    290.9,2,     7.48,2,    11.37,2,     0.87,2,    3.607,2,    1.634,2,    0.265,2,   2154.1,2,  -999.00,9,0.0458676944,2,   -0.242736543
  06AQ19930806,    52,  2,     11,19930911, 78.0850, 125.0467, 2371,   1099.1,  -0.0774,  34.8947,2,  34.8954,2,    289.1,2,     6.80,2,    10.98,2,     0.78,2,    4.593,2,    2.054,2,    0.345,2,   2156.3,2,  -999.00,9,0.0468437702,2,   -0.126719035
  06AQ19930806,    52,  2,     12,19930911, 78.0850, 125.0467, 2371,    997.3,   0.0416,  34.8898,2,  34.8921,2,    290.0,2,     6.61,2,    11.08,2,     0.78,2, -999.000,9, -999.000,9, -999.000,9,   2154.3,2,  -999.00,9,0.0458680256,2, -0.00321768345
  06AQ19930806,    52,  2,     13,19930911, 78.0850, 125.0467, 2371,    904.8,   0.2207,  34.8906,2,  34.8911,2,    287.3,2,     6.32,2,    10.98,2,     0.78,2,    5.010,2,    2.257,2, -999.000,9,   2155.0,2,  -999.00,9,0.0468439131,2,    0.179453697
  06AQ19930806,    52,  2,     14,19930911, 78.0850, 125.0467, 2371,    795.3,   0.3793,  34.8863,2,  34.8860,2,    290.0,2,     6.02,2,    10.79,2,     0.78,2,    5.078,2,    2.330,2, -999.000,9,   2153.3,2,  -999.00,9,0.0458681451,2,    0.342785255
  06AQ19930806,    52,  2,     15,19930911, 78.0850, 125.0467, 2371,    598.1,   0.7242,  34.8808,2,  34.8803,2,    289.1,2,     5.83,2,    10.69,2,     0.78,2,    5.168,2,    2.360,2,    0.392,2,   2143.6,2,  -999.00,9,0.0478201768,2,    0.696085029
  06AQ19930806,    52,  2,     16,19930911, 78.0850, 125.0467, 2371,    506.3,   1.0021,  34.8876,2,  34.8846,2,    288.2,2,     5.73,2,    10.79,2,     0.78,2,    5.253,2,    2.365,2,    0.406,2,   2146.3,2,  -999.00,9,0.0458681007,2,    0.977544427
  06AQ19930806,    52,  2,     17,19930911, 78.0850, 125.0467, 2371,    398.7,   1.3734,  34.8935,2,  34.8909,2,    288.2,2,     5.54,2,    10.79,2,     0.78,2,    5.364,2,    2.376,2,    0.441,2,   2136.5,2,  -999.00,9,0.0439160738,2,     1.35321284
  06AQ19930806,    52,  2,     18,19930911, 78.0850, 125.0467, 2371,    348.3,   1.6481,  34.8996,2,  34.8990,2,    289.1,2,     5.54,2,    10.69,2,     0.78,2,    5.280,2,    2.399,2,    0.401,2,   2139.9,2,  -999.00,9,0.0439158743,2,     1.62982524
  06AQ19930806,    52,  2,     19,19930911, 78.0850, 125.0467, 2371,    299.2,   1.8689,  34.9027,2,  34.9000,2,    289.1,2,     5.44,2,    10.79,2,     0.78,2,    5.300,2,    2.383,2,    0.367,2,   2139.1,2,  -999.00,9, 0.043915773,2,     1.85278473
  06AQ19930806,    52,  2,     20,19930911, 78.0850, 125.0467, 2371,    247.7,   1.8953,  34.8798,2,  34.8829,2,    289.1,2,     5.44,2,    10.69,2,     0.78,2,    5.249,2,    2.385,2,    0.320,2,   2135.7,2,  -999.00,9,0.0439165216,2,     1.88202035
  06AQ19930806,    52,  2,     21,19930911, 78.0850, 125.0467, 2371,    198.1,   1.8024,  34.8391,2,  34.8397,2,    288.2,2,     5.15,2,    10.50,2,     0.78,2, -999.000,9, -999.000,9, -999.000,9,   2130.4,2,  -999.00,9,0.0458697568,2,      1.7920292
  06AQ19930806,    52,  2,     22,19930911, 78.0850, 125.0467, 2371,     99.8,  -1.2368,  34.2558,2,  34.3563,2,    301.6,2,     3.99,2,     8.36,2,     0.58,2,    6.262,2,    2.794,2,    0.477,2,   2124.5,2,  -999.00,9,0.0449133037,2,    -1.23928192
  06AQ19930806,    52,  2,     23,19930911, 78.0850, 125.0467, 2371,     47.0,  -1.7806,  33.8711,2,  33.9536,2,    330.1,2,     2.72,2,     5.25,2,     0.49,2,    6.869,2,    3.030,2,    0.458,2,   2113.7,2,  -999.00,9,0.0449261698,2,    -1.78148405
  06AQ19930806,    52,  2,     24,19930911, 78.0850, 125.0467, 2371,     12.8,  -1.7822,  33.1007,2,  33.1009,2,    349.0,2,     2.63,2,     3.02,2,     0.39,2,    7.223,2,    3.270,2,    0.570,2,   2068.9,2,  -999.00,9,0.0459291661,2,    -1.78241474