BOTTLE,20081119PRINUNIVRMK
EXPOCODE,STNNBR,CASTNO,BTLNBR,DATE,LATITUDE,LONGITUDE,DEPTH,CTDPRS,CTDTMP,CTDSAL,CTDSAL_FLAG_W,SALNTY,SALNTY_FLAG_W,OXYGEN,OXYGEN_FLAG_W,SILCAT,SILCAT_FLAG_W,NITRAT,NITRAT_FLAG_W,PHSPHT,PHSPHT_FLAG_W,CFC-11,CFC-11_FLAG_W,CFC-12,CFC-12_FLAG_W,CFC113,CFC113_FLAG_W,TCARBN,TCARBN_FLAG_W,DELO18,DELO18_FLAG_W,BARIUM,BARIUM_FLAG_W,THETA
,,,,,,,METERS,DBARS,ITS-90,PSS-78,,PSS-78,,UMOL/KG,,UMOL/KG,,UMOL/KG,,UMOL/KG,,PMOL/KG,,PMOL/KG,,PMOL/KG,,UMOL/KG,,O/OO,,UM/KG,,DEGC
  06AQ19930806,    58,  2,      1,19930915, 78.0017, 118.5750, 1930,   1913.9,  -0.8042,  34.9264,2,  34.9254,2,    282.8,2,    10.98,2,    11.95,2,     0.87,2,    0.342,2,    0.178,2,    0.000,2,   2156.2,2,     0.23,2,0.0536738867,2,   -0.892690717
  06AQ19930806,    58,  2,      2,19930915, 78.0017, 118.5750, 1930,   1850.8,  -0.7538,  34.9211,2,  34.9205,2,    284.7,2,    10.69,2,    12.05,2,     0.87,2,    0.577,2,    0.250,2,    0.000,2,   2153.8,2,     0.29,2,0.0507464204,2,    -0.83907685
  06AQ19930806,    58,  2,      3,19930915, 78.0017, 118.5750, 1930,   1700.3,  -0.6839,  34.9149,2,  34.9189,2,    284.7,2,    10.30,2,    12.15,2,     0.87,2,    0.726,2,    0.332,2,    0.000,2,   2155.9,2,  -999.00,9,0.0497707574,2,   -0.760941628
  06AQ19930806,    58,  2,      4,19930915, 78.0017, 118.5750, 1930,   1500.1,  -0.5465,  34.9155,2,  34.9143,2,    284.7,2,     9.81,2,    12.05,2,     0.87,2,    0.995,2,    0.456,2,    0.022,2,   2151.6,2,     0.21,2,0.0605055996,4,    -0.61346897
  06AQ19930806,    58,  2,      5,19930915, 78.0017, 118.5750, 1930,   1300.3,  -0.3398,  34.9124,2,  34.9126,2,    284.7,2,     8.84,2,    11.76,2,     0.86,2,    1.596,2,    0.727,2,    0.071,2,   2150.8,2,  -999.00,9, 0.048794951,2,   -0.397724629
  06AQ19930806,    58,  2,      6,19930915, 78.0017, 118.5750, 1930,   1149.9,  -0.1956,  34.9108,2,  34.9114,2,    284.7,2,     8.36,2,    11.47,2,     0.83,2,    2.204,2,    1.021,2,    0.092,2,   2158.3,2,  -999.00,9,0.0478191089,2,   -0.246641348
  06AQ19930806,    58,  2,      7,19930915, 78.0017, 118.5750, 1930,   1000.5,   0.0351,  34.8978,2,  34.8984,2,    284.7,2,     7.00,2,    10.69,2,     0.80,2,    4.573,2,    2.083,2,    0.313,2,   2161.9,2,  -999.00,9,0.0458677524,2, -0.00984814711
  06AQ19930806,    58,  2,      8,19930915, 78.0017, 118.5750, 1930,    900.2,   0.0708,  34.8825,2,  34.8825,2,    288.6,2,     6.22,2,    10.20,2,     0.76,2,    5.060,2,    2.291,2,    0.409,2,   2152.4,2,     0.26,2,0.0458682748,2,   0.0309183112
  06AQ19930806,    58,  2,      9,19930915, 78.0017, 118.5750, 1930,    799.8,   0.1440,  34.8719,2,  34.8730,2,    289.6,2,     5.83,2,     9.81,2,     0.74,2,    5.190,2,    2.391,2,    0.399,2,   2154.1,2,  -999.00,9,0.0458686368,2,    0.108810294
  06AQ19930806,    58,  2,     10,19930915, 78.0017, 118.5750, 1930,    699.7,   0.2151,  34.8635,2,  34.8630,2,    292.5,2,     5.54,2,     9.43,2,     0.71,2,    5.340,2,    2.444,2,    0.412,2,   2149.2,2,     0.22,2,0.0468448582,2,    0.184538442
  06AQ19930806,    58,  2,     11,19930915, 78.0017, 118.5750, 1930,    600.0,   0.5906,  34.8742,2,  34.8752,2,    289.6,2,     5.73,2,     9.23,2,     0.74,2, -999.000,9, -999.000,9, -999.000,9,   2146.9,2,  -999.00,9,0.0458685583,2,    0.563050728
  06AQ19930806,    58,  2,     12,19930915, 78.0017, 118.5750, 1930,    499.8,   0.8233,  34.8753,2,  34.8775,2,    289.6,2,     5.54,2,     9.43,2,     0.74,2,    5.247,2,    2.408,2,    0.381,2,   2147.8,2,     0.22,2,0.0458685207,2,    0.799829613
  06AQ19930806,    58,  2,     13,19930915, 78.0017, 118.5750, 1930,    400.0,   1.2287,  34.8861,2,  34.8860,2,    290.5,2,     5.54,2,     9.52,2,     0.74,2,    5.294,2,    2.422,2,    0.366,2,   2140.4,2,  -999.00,9,0.0478199882,2,     1.20892152
  06AQ19930806,    58,  2,     14,19930915, 78.0017, 118.5750, 1930,    350.2,   1.5229,  34.9022,2,  34.9012,2,    290.5,2,     5.44,2,     9.52,2,     0.74,2,    5.267,2,    2.411,2,    0.350,2,   2140.9,2,     0.23,2,0.0458676022,2,     1.50487779
  06AQ19930806,    58,  2,     15,19930915, 78.0017, 118.5750, 1930,    300.2,   1.7475,  34.9032,2,  34.9023,2,    290.5,2,     5.34,2,     9.52,2,     0.74,2,    5.245,2,    2.426,2,    0.386,2,   2134.9,2,  -999.00,9,0.0468434738,2,     1.73162534
  06AQ19930806,    58,  2,     16,19930915, 78.0017, 118.5750, 1930,    249.8,   1.8815,  34.8861,2,  34.8884,2,    288.6,2,     5.25,2,     9.33,2,     0.74,2,    5.325,2,    2.449,2,    0.373,2,   2137.2,2,     0.23,2,0.0448922338,2,      1.8681291
  06AQ19930806,    58,  2,     17,19930915, 78.0017, 118.5750, 1930,    200.5,   1.9601,  34.8658,2,  34.8691,2,    287.6,2,     5.15,2,     9.14,2,     0.71,2,    5.344,2,    2.458,2,    0.396,2,   2132.7,2,  -999.00,9,0.0439169793,2,     1.94932922
  06AQ19930806,    58,  2,     18,19930915, 78.0017, 118.5750, 1930,    150.3,   1.3836,  34.7385,2,  34.7835,2,    288.6,2,     4.76,2,     8.46,2,     0.69,2,    5.437,2,    2.521,2,    0.383,2,   2132.9,2,     0.12,2,0.0439211413,2,     1.37632847
  06AQ19930806,    58,  2,     19,19930915, 78.0017, 118.5750, 1930,    124.8,   0.6134,  34.6048,2,  34.6279,2,    293.5,2,     4.28,2,     7.68,2,     0.63,2,    5.652,2,    2.620,2,    0.423,2,   2130.1,2,  -999.00,9,0.0449016357,2,    0.608228997
  06AQ19930806,    58,  2,     20,19930915, 78.0017, 118.5750, 1930,    100.1,  -0.5661,  34.4181,2,  34.4410,2,    299.4,2,     4.08,2,     6.71,2,     0.59,2,    6.183,2,    2.834,2,    0.476,2,   2125.3,2,    -0.02,2,0.0449078771,2,   -0.569185919
  06AQ19930806,    58,  2,     21,19930915, 78.0017, 118.5750, 1930,     74.4,  -1.4425,  34.2110,2,  34.2352,2,    308.2,2,     3.60,2,     5.83,2,     0.53,2,    6.488,2,    2.923,2,    0.539,2,   2116.3,2,  -999.00,9,0.0449148018,2,    -1.44418106
  06AQ19930806,    58,  2,     22,19930915, 78.0017, 118.5750, 1930,     50.7,  -1.7655,  33.8565,2,  34.0073,2,    321.9,2,     2.72,2,     4.67,2,     0.45,2,    6.783,2,    3.069,2,    0.536,2,   2102.3,2,    -0.32,2,0.0459033247,2,    -1.76646759
  06AQ19930806,    58,  2,     23,19930915, 78.0017, 118.5750, 1930,     25.5,  -1.8019,  33.3420,2,  33.3381,2,    344.4,2,     2.33,2,     2.53,2,     0.33,2,    6.925,2,    3.159,2,    0.551,2,   -999.0,9,  -999.00,9,0.0449438731,2,    -1.80233851
  06AQ19930806,    58,  2,     24,19930915, 78.0017, 118.5750, 1930,     14.4,  -1.8052,  33.3331,2,  33.3312,2,    344.4,2,     2.33,2,     2.53,2,     0.31,2,    6.962,2,    3.133,2,    0.693,2,   -999.0,9,    -0.58,2,0.0449441709,2,    -1.80544542
  06AQ19930806,    59,  2,      1,19930916, 77.6767, 118.5733, 1510,   1489.3,  -0.5732,  34.9153,2,  34.9142,2,    281.8,2,    10.30,2,    11.66,2,     0.90,2,    1.015,2,    0.483,2,    0.029,2,   2156.0,2,  -999.00,9,0.0487948456,2,    -0.63922397
  06AQ19930806,    59,  2,      2,19930916, 77.6767, 118.5733, 1510,   1452.3,  -0.5147,  34.9164,2,  34.9153,2,    283.7,2,     9.91,2,    11.47,2,     0.89,2,    1.136,2,    0.510,2,    0.039,2,   2159.1,2,  -999.00,9,0.0487948057,2,   -0.579297522
  06AQ19930806,    59,  2,      3,19930916, 77.6767, 118.5733, 1510,   1403.4,  -0.3693,  34.9131,2,  34.9130,2,    283.7,2,     9.13,2,    11.37,2,     0.86,2,    1.465,2,    0.705,2,    0.078,2,   2158.5,2,  -999.00,9, 0.047819027,2,   -0.432758729
  06AQ19930806,    59,  2,      4,19930916, 77.6767, 118.5733, 1510,   1251.4,  -0.1262,  34.9092,2,  34.9090,2,    281.8,2,     8.06,2,    10.88,2,     0.84,2,    2.672,2,    1.263,2,    0.187,2,   2157.0,2,  -999.00,9,0.0478191659,2,    -0.18356429
  06AQ19930806,    59,  2,      5,19930916, 77.6767, 118.5733, 1510,   1102.7,  -0.0113,  34.8977,2,  34.8974,2,    284.7,2,     7.29,2,    10.40,2,     0.82,2,    4.342,2,    2.010,2,    0.315,2,   2160.9,2,  -999.00,9,0.0478195752,2,  -0.0614126291
  06AQ19930806,    59,  2,      6,19930916, 77.6767, 118.5733, 1510,   1001.4,   0.0248,  34.8871,2,  34.8691,2,    286.7,2,     6.70,2,    10.01,2,     0.79,2, -999.000,9, -999.000,9, -999.000,9,   2159.4,2,  -999.00,9,0.0478199526,2,  -0.0200586728
  06AQ19930806,    59,  2,      7,19930916, 77.6767, 118.5733, 1510,    900.7,   0.0376,  34.8736,2,  34.8738,2,    289.6,2,     6.12,2,     9.62,2,     0.76,2, -999.000,9, -999.000,9, -999.000,9,   2157.6,2,     0.18,2,0.0468445059,2, -0.00204836612
  06AQ19930806,    59,  2,      8,19930916, 77.6767, 118.5733, 1510,    800.2,   0.1471,  34.8677,2,  34.8657,2,    290.5,2,     5.83,2,     9.52,2,     0.74,2,    5.227,2,    2.400,2,    0.407,2,   2154.0,2,     0.21,2,0.0468447117,2,    0.111880196
  06AQ19930806,    59,  2,      9,19930916, 77.6767, 118.5733, 1510,    701.7,   0.3327,  34.8639,2,  34.8665,2,    290.5,2,     5.64,2,     9.52,2,     0.76,2,    5.306,2,    2.456,2,    0.449,2,   2151.0,2,     0.18,2,0.0458689099,2,    0.301354228
  06AQ19930806,    59,  2,     10,19930916, 77.6767, 118.5733, 1510,    598.8,   0.6528,  34.8758,2,  34.8769,2,    289.6,2,     5.73,2,     9.62,2,     0.76,2,    5.224,2,    2.410,2,    0.396,2,   2151.6,2,     0.27,2,0.0458685036,2,    0.625003713
  06AQ19930806,    59,  2,     11,19930916, 77.6767, 118.5733, 1510,    499.8,   0.7331,  34.8612,2,  34.8598,2,    290.5,2,     5.44,2,     9.43,2,     0.72,2,    5.462,2,    2.511,2,    0.409,2,   2146.3,2,     0.24,2,0.0458690021,2,    0.710017544
  06AQ19930806,    59,  2,     12,19930916, 77.6767, 118.5733, 1510,    449.0,   0.8710,  34.8660,2,  34.8687,2,    291.5,2,     5.34,2,     9.43,2,     0.74,2, -999.000,9, -999.000,9, -999.000,9,   2145.7,2,  -999.00,9,0.0653874928,4,    0.849944911
  06AQ19930806,    59,  2,     13,19930916, 77.6767, 118.5733, 1510,    400.0,   1.0442,  34.8681,2,  34.8689,2,    291.5,2,     5.34,2,     9.23,2,     0.74,2,    5.487,2,    2.516,2,    0.401,2,   2145.5,2,     0.17,2,0.0458687665,2,     1.02504172
  06AQ19930806,    59,  2,     14,19930916, 77.6767, 118.5733, 1510,    351.0,   1.3399,  34.8833,2,  34.8830,2,    290.5,2,     5.25,2,     9.43,2,     0.74,2,    5.449,2,    2.487,2,    0.388,2,   2146.8,2,  -999.00,9,0.0448923274,2,     1.32237341
  06AQ19930806,    59,  2,     15,19930916, 77.6767, 118.5733, 1510,    299.0,   1.5798,  34.8794,2,  34.8840,2,    289.6,2,     5.25,2,     9.52,2,     0.74,2,    5.413,2,    2.488,2,    0.407,2,   2145.0,2,  -999.00,9,0.0448924577,2,     1.56441302
  06AQ19930806,    59,  2,     16,19930916, 77.6767, 118.5733, 1510,    249.4,   1.5887,  34.8519,2,  34.8577,2,    289.6,2,     5.15,2,     9.43,2,     0.71,2,    5.415,2,    2.478,2,    0.379,2,   2141.1,2,  -999.00,9,0.0448933767,2,     1.57596484
  06AQ19930806,    59,  2,     17,19930916, 77.6767, 118.5733, 1510,    199.8,   1.7893,  34.8288,2,  34.8525,2,    290.5,2,     5.05,2,     9.43,2,     0.71,2,    5.413,2,    2.463,2,    0.440,2,   2136.5,2,  -999.00,9,0.0448941487,2,     1.77885422
  06AQ19930806,    59,  2,     18,19930916, 77.6767, 118.5733, 1510,    148.5,   1.3761,  34.7498,2,  34.7673,2,    291.5,2,     4.67,2,     8.75,2,     0.67,2,    5.571,2,    2.529,2,    0.422,2,   2135.0,2,  -999.00,9, 0.044896789,2,      1.3689315
  06AQ19930806,    59,  2,     19,19930916, 77.6767, 118.5733, 1510,    123.4,   0.0023,  34.5669,2,  34.6070,2,    294.5,2,     4.28,2,     7.78,2,     0.62,2,    5.981,2,    2.699,2,    0.447,2,   2138.0,2,  -999.00,9,0.0478313527,2, -0.00216905676
  06AQ19930806,    59,  2,     20,19930916, 77.6767, 118.5733, 1510,     99.1,  -0.6474,  34.4635,2,  34.5035,2,    299.4,2,     4.18,2,     7.29,2,     0.58,2,    6.171,2,    2.805,2,    0.462,2,   2135.1,2,  -999.00,9,0.0449063593,2,    -0.65039676
  06AQ19930806,    59,  2,     21,19930916, 77.6767, 118.5733, 1510,     72.6,  -1.2912,  34.2322,2,  34.2955,2,    301.4,2,     4.08,2,     6.32,2,     0.55,2, -999.000,9, -999.000,9, -999.000,9,   2131.1,2,  -999.00,9,0.0458904862,2,     -1.2929434
  06AQ19930806,    59,  2,     22,19930916, 77.6767, 118.5733, 1510,     49.0,  -1.6547,  33.7943,2,  33.9889,2,    313.1,2,     3.99,2,     5.15,2,     0.49,2,    6.853,2,    3.089,2,    0.551,2,   2128.4,2,  -999.00,9,0.0468821624,2,    -1.65568027
  06AQ19930806,    59,  2,     23,19930916, 77.6767, 118.5733, 1510,     23.5,  -1.7848,  33.0029,2,  33.0004,2,    343.5,2,     3.11,2,     2.63,2,     0.33,2, -999.000,9, -999.000,9, -999.000,9,   2072.8,2,  -999.00,9,0.0459325113,2,    -1.78519159
  06AQ19930806,    59,  2,     24,19930916, 77.6767, 118.5733, 1510,     12.7,  -1.7861,  32.9782,2,  32.9749,2,    343.6,2,     3.21,2,     2.53,2,     0.32,2,    7.130,2,    3.210,2,    0.594,2,   2070.8,2,  -999.00,9,0.0459333562,2,    -1.78630947
  06AQ19930806,    60,  1,      1,19930917, 77.5467, 118.4533, 1130,    694.9,   0.4992,  34.8769,2,  34.8773,2,   -999.0,9,  -999.00,9,  -999.00,9,  -999.00,9, -999.000,9, -999.000,9, -999.000,9,   -999.0,9,  -999.00,9,        -999,9,    0.467234538
  06AQ19930806,    60,  1,      6,19930917, 77.5467, 118.4533, 1130,    695.2,   0.5019,  34.8764,2,  34.8760,2,   -999.0,9,  -999.00,9,  -999.00,9,  -999.00,9, -999.000,9, -999.000,9, -999.000,9,   -999.0,9,  -999.00,9,        -999,9,    0.469905147
  06AQ19930806,    60,  1,      7,19930917, 77.5467, 118.4533, 1130,    541.0,   0.8122,  34.8769,2,  34.8762,2,   -999.0,9,  -999.00,9,  -999.00,9,  -999.00,9, -999.000,9, -999.000,9, -999.000,9,   -999.0,9,  -999.00,9,        -999,9,    0.786651172
  06AQ19930806,    60,  1,     12,19930917, 77.5467, 118.4533, 1130,    541.3,   0.8136,  34.8760,2,  34.8764,2,   -999.0,9,  -999.00,9,  -999.00,9,  -999.00,9, -999.000,9, -999.000,9, -999.000,9,   -999.0,9,  -999.00,9,        -999,9,    0.788029157
  06AQ19930806,    60,  1,     13,19930917, 77.5467, 118.4533, 1130,    392.4,   1.1873,  34.8772,2,  34.8775,2,   -999.0,9,  -999.00,9,  -999.00,9,  -999.00,9, -999.000,9, -999.000,9, -999.000,9,   -999.0,9,  -999.00,9,        -999,9,     1.16806277
  06AQ19930806,    60,  1,     18,19930917, 77.5467, 118.4533, 1130,    392.6,   1.1974,  34.8792,2,  34.8779,2,   -999.0,9,  -999.00,9,  -999.00,9,  -999.00,9, -999.000,9, -999.000,9, -999.000,9,   -999.0,9,  -999.00,9,        -999,9,     1.17811936