BOTTLE,20081119PRINUNIVRMK
EXPOCODE,STNNBR,CASTNO,BTLNBR,DATE,LATITUDE,LONGITUDE,DEPTH,CTDPRS,CTDTMP,CTDSAL,CTDSAL_FLAG_W,SALNTY,SALNTY_FLAG_W,OXYGEN,OXYGEN_FLAG_W,SILCAT,SILCAT_FLAG_W,NITRAT,NITRAT_FLAG_W,PHSPHT,PHSPHT_FLAG_W,CFC-11,CFC-11_FLAG_W,CFC-12,CFC-12_FLAG_W,CFC113,CFC113_FLAG_W,TCARBN,TCARBN_FLAG_W,DELO18,DELO18_FLAG_W,BARIUM,BARIUM_FLAG_W,THETA
,,,,,,,METERS,DBARS,ITS-90,PSS-78,,PSS-78,,UMOL/KG,,UMOL/KG,,UMOL/KG,,UMOL/KG,,PMOL/KG,,PMOL/KG,,PMOL/KG,,UMOL/KG,,O/OO,,UM/KG,,DEGC
  06AQ19930806,    35,  1,      1,19930904, 78.3783, 133.0483, 2035,   2016.8,  -0.7556,  34.9212,2,  34.9208,2,    282.9,2,    11.27,2,    14.67,2,     0.93,2,    0.495,2,    0.241,2, -999.000,9,   2155.6,2,     0.24,2, 0.049770524,2,   -0.851417917
  06AQ19930806,    35,  1,      2,19930904, 78.3783, 133.0483, 2035,   1960.1,  -0.7556,  34.9211,2,  34.9208,2,    280.9,2,    11.17,2,    14.67,2,     0.96,2,    0.474,2,    0.226,2,    0.007,2,   2153.6,2,     0.20,2,0.0497705277,2,   -0.847757047
  06AQ19930806,    35,  1,      3,19930904, 78.3783, 133.0483, 2035,   1910.7,  -0.7352,  34.9194,2,  34.9199,2,    283.9,2,    11.08,2,    14.57,2,     0.96,2, -999.000,9, -999.000,9, -999.000,9,   2157.9,2,  -999.00,9,0.0517223785,2,    -0.82451756
  06AQ19930806,    35,  1,      4,19930904, 78.3783, 133.0483, 2035,   1801.0,  -0.6947,  34.9161,2,  34.9171,2,    281.9,2,    10.69,2,    14.57,2,     0.92,2, -999.000,9, -999.000,9, -999.000,9,   2157.1,2,  -999.00,9,0.0790476029,4,   -0.777734049
  06AQ19930806,    35,  1,      5,19930904, 78.3783, 133.0483, 2035,   1600.8,  -0.5945,  34.9142,2,  34.9128,2,    283.9,2,    10.30,2,    14.48,2,     0.92,2, -999.000,9, -999.000,9, -999.000,9,   2157.1,2,  -999.00,9,0.0478189879,2,   -0.666762195
  06AQ19930806,    35,  1,      6,19930904, 78.3783, 133.0483, 2035,   1399.4,  -0.4360,  34.9123,2,  34.9132,2,    282.9,2,     9.42,2,    14.28,2,     0.87,2,    1.330,2,    0.604,2,    0.057,2,   -999.0,9,     0.23,2,0.0468431564,2,   -0.498475288
  06AQ19930806,    35,  1,      7,19930904, 78.3783, 133.0483, 2035,   1200.4,  -0.2184,  34.8976,2,  34.8978,2,    287.9,2,     7.97,2,    13.31,2,     0.80,2,    3.305,2,    1.523,2,    0.234,2,   2157.1,2,     0.20,2, 0.046843669,2,   -0.271965856
  06AQ19930806,    35,  1,      8,19930904, 78.3783, 133.0483, 2035,    999.8,  -0.0827,  34.8758,2,  34.8752,2,    292.8,2,     6.32,2,    12.24,2,     0.76,2, -999.000,9, -999.000,9, -999.000,9,   2158.3,2,  -999.00,9,0.0468444292,2,   -0.126605786
  06AQ19930806,    35,  1,      9,19930904, 78.3783, 133.0483, 2035,    902.9,   0.0256,  34.8723,2,  34.8728,2,    291.8,2,     6.12,2,    12.15,2,     0.76,2,    5.207,2,    2.429,2,    0.382,2,   2156.7,2,     0.25,2,0.0458686231,2,  -0.0140723114
  06AQ19930806,    35,  1,     10,19930904, 78.3783, 133.0483, 2035,    800.7,   0.1419,  34.8675,2,  34.8665,2,    291.8,2,     5.93,2,    12.05,2,     0.75,2,    5.093,2,    2.364,2,    0.352,2,   2155.9,2,     0.23,2, 0.045868787,2,    0.106687695
  06AQ19930806,    35,  1,     11,19930904, 78.3783, 133.0483, 2035,    600.2,   0.6644,  34.8740,2,  34.8748,2,    288.9,2,     6.02,2,    12.34,2,     0.75,2, -999.000,9, -999.000,9, -999.000,9,   2146.2,2,  -999.00,9,0.0458685651,2,    0.636476407
  06AQ19930806,    35,  1,     12,19930904, 78.3783, 133.0483, 2035,    449.9,   1.2033,  34.8819,2,  34.8819,2,    289.8,2,     5.64,2,    12.24,2,     0.74,2,    5.048,2,    2.351,2,    0.343,2,   2144.9,2,     0.19,2,0.0448923742,2,     1.18095791
  06AQ19930806,    35,  1,     13,19930904, 78.3783, 133.0483, 2035,    350.9,   1.7508,  34.9026,2,  34.9002,2,    291.8,2,     5.54,2,    12.24,2,     0.72,2,    5.160,2,    2.452,2,    0.369,2,   2139.7,2,     0.24,2,0.0448916824,2,     1.73208553
  06AQ19930806,    35,  1,     14,19930904, 78.3783, 133.0483, 2035,    300.7,   1.8488,  34.8905,2,  34.8858,2,    291.8,2,     5.35,2,    12.15,2,     0.72,2, -999.000,9, -999.000,9, -999.000,9,   2139.2,2,  -999.00,9,0.0439161718,2,     1.83265723
  06AQ19930806,    35,  1,     15,19930904, 78.3783, 133.0483, 2035,    250.6,   1.5019,  34.8249,2,  34.8228,2,    286.9,2,     5.25,2,    11.76,2,     0.71,2, -999.000,9, -999.000,9, -999.000,9,   2137.8,2,  -999.00,9,0.0439183165,2,     1.48929601
  06AQ19930806,    35,  1,     16,19930904, 78.3783, 133.0483, 2035,    199.7,   0.8197,  34.7015,2,  34.7014,2,    288.9,2,     4.86,2,    10.98,2,     0.69,2, -999.000,9, -999.000,9, -999.000,9,   2137.1,2,  -999.00,9,0.0439223511,2,    0.810919683
  06AQ19930806,    35,  1,     17,19930904, 78.3783, 133.0483, 2035,    174.8,   0.5563,  34.6503,2,  34.6192,2,    294.9,2,     4.67,2,    10.40,2,     0.65,2, -999.000,9, -999.000,9, -999.000,9,   2138.7,2,  -999.00,9,0.0439240253,2,    0.549065659
  06AQ19930806,    35,  1,     18,19930904, 78.3783, 133.0483, 2035,    149.6,  -0.4483,  34.4645,2,  34.5015,2,    296.9,2,     4.67,2,     9.53,2,     0.62,2, -999.000,9, -999.000,9, -999.000,9,   2135.1,2,  -999.00,9,0.0449063258,2,   -0.453149765
  06AQ19930806,    35,  1,     19,19930904, 78.3783, 133.0483, 2035,    124.4,  -1.3801,  34.3611,2,  34.3856,2,    306.8,2,     3.79,2,     8.26,2,     0.57,2, -999.000,9, -999.000,9, -999.000,9,   2137.6,2,  -999.00,9,0.0449097828,2,    -1.38307555
  06AQ19930806,    35,  1,     20,19930904, 78.3783, 133.0483, 2035,     99.6,  -1.4415,  34.2978,2,  34.3277,2,    308.8,2,     3.50,2,     7.97,2,     0.53,2,    6.518,2,    3.052,2,    0.504,2,   2132.2,2,    -0.21,2,0.0449118993,2,    -1.44379381
  06AQ19930806,    35,  1,     21,19930904, 78.3783, 133.0483, 2035,     74.8,  -1.6312,  34.1657,2,  34.2413,2,    311.8,2,     3.11,2,     7.78,2,     0.54,2, -999.000,9, -999.000,9, -999.000,9,   2121.4,2,  -999.00,9,0.0449163167,2,    -1.63276786
  06AQ19930806,    35,  1,     22,19930904, 78.3783, 133.0483, 2035,     50.1,  -1.8137,  33.9286,2,  34.0098,2,    327.7,2,     2.63,2,     6.03,2,     0.45,2,    6.777,2,    3.157,2,    0.557,2,   2114.4,2,    -0.49,2,0.0459008605,2,    -1.81463484
  06AQ19930806,    35,  1,     23,19930904, 78.3783, 133.0483, 2035,     24.8,  -1.7087,  32.7388,2,  33.4749,2,    327.8,2,     3.79,2,     5.25,2,     0.42,2, -999.000,9, -999.000,9, -999.000,9,   2110.4,2,  -999.00,9, 0.046919026,2,    -1.70915338
  06AQ19930806,    35,  1,     24,19930904, 78.3783, 133.0483, 2035,     13.7,  -1.6419,  32.4862,2,  32.7023,2,    342.9,2,     3.41,2,     3.41,2,     0.33,2,    7.311,2,    3.426,2,    0.610,2,   2065.5,2,    -1.10,2,0.0469278537,2,    -1.64213625
  06AQ19930806,    36,  1,      0,19930904, 78.3067, 133.2617, 1488,      0.0,-999.0000,-999.0000,9,  32.3162,2,   -999.0,9,  -999.00,9,  -999.00,9,  -999.00,9, -999.000,9, -999.000,9, -999.000,9,   2055.9,2,  -999.00,9,        -999,9,           -999
  06AQ19930806,    36,  1,      1,19930904, 78.3067, 133.2617, 1488,   1481.6,  -0.5468,  34.9153,2,  34.9151,2,    283.6,2,  -999.00,9,  -999.00,9,  -999.00,9,    1.105,2,    0.512,2,    0.088,2,   2159.6,2,     0.24,2,0.0468430518,2,   -0.612699764
  06AQ19930806,    36,  1,      2,19930904, 78.3067, 133.2617, 1488,   1453.8,  -0.4308,  34.9118,2,  34.9120,2,    283.6,2,     9.52,2,    13.41,2,     0.91,2,    1.601,2,    0.726,2,    0.079,2,   2154.8,2,     0.21,2,0.0478190733,2,    -0.49645858
  06AQ19930806,    36,  1,      3,19930904, 78.3067, 133.2617, 1488,   1430.6,  -0.3359,  34.9085,2,  34.9082,2,    285.6,2,     8.94,2,    13.21,2,     0.91,2,    2.127,2,    0.968,2,    0.111,2,   2155.5,2,     0.24,2,0.0468432889,2,   -0.401303377
  06AQ19930806,    36,  1,      4,19930904, 78.3067, 133.2617, 1488,   1401.1,  -0.2529,  34.9024,2,  34.9021,2,    288.6,2,     8.16,2,    12.73,2,     0.87,2,    2.946,2,    1.344,2,    0.174,2,   2154.1,2,     0.20,2,0.0683134399,4,   -0.317513839
  06AQ19930806,    36,  1,      5,19930904, 78.3067, 133.2617, 1488,   1298.7,  -0.1903,  34.8920,2,  34.8907,2,    290.6,2,     7.29,2,    12.24,2,     0.83,2,    4.106,2,    1.850,2,    0.290,2,   2159.7,2,     0.21,2,0.0468438643,2,   -0.249654844
  06AQ19930806,    36,  1,      6,19930904, 78.3067, 133.2617, 1488,   1199.8,  -0.1569,  34.8853,2,  34.8856,2,    289.6,2,     6.90,2,    11.95,2,     0.81,2,    4.663,2,    2.088,2,    0.341,2,   2155.6,2,     0.23,2,0.0468440979,2,   -0.211005191
  06AQ19930806,    36,  1,      7,19930904, 78.3067, 133.2617, 1488,   1099.1,  -0.0974,  34.8794,2,  34.8783,2,    292.6,2,     6.41,2,    11.76,2,     0.78,2, -999.000,9, -999.000,9, -999.000,9,   2157.5,2,  -999.00,9,0.0478202267,2,   -0.146505687
  06AQ19930806,    36,  1,      8,19930904, 78.3067, 133.2617, 1488,    999.9,  -0.0565,  34.8762,2,  34.8769,2,    291.6,2,     6.22,2,    11.66,2,     0.77,2,    5.225,2,    2.347,2,    0.387,2,   2157.1,2,     0.33,2,  0.04586849,2,   -0.100628383
  06AQ19930806,    36,  1,      9,19930904, 78.3067, 133.2617, 1488,    901.1,   0.0354,  34.8732,2,  34.8815,2,    292.5,2,     6.02,2,    11.56,2,     0.76,2,    5.329,2,    2.397,2,    0.371,2,   2155.5,2,     0.27,2,0.0468445199,2, -0.00426564229
  06AQ19930806,    36,  1,     10,19930904, 78.3067, 133.2617, 1488,    799.0,   0.3118,  34.8714,2,  34.8722,2,    290.6,2,     5.73,2,    11.47,2,     0.76,2,    5.353,2,    2.402,2,    0.405,2,   2154.4,2,     0.25,2,0.0458686539,2,    0.275551574
  06AQ19930806,    36,  1,     11,19930904, 78.3067, 133.2617, 1488,    698.9,   0.5175,  34.8728,2,  34.8736,2,    289.6,2,     5.73,2,    11.56,2,     0.75,2, -999.000,9, -999.000,9, -999.000,9,   2150.9,2,  -999.00,9,0.0448926783,2,     0.48522575
  06AQ19930806,    36,  1,     12,19930904, 78.3067, 133.2617, 1488,    597.9,   0.7061,  34.8693,2,  34.8703,2,    290.6,2,     5.54,2,    11.56,2,     0.75,2,    5.440,2,    2.429,2,    0.368,2,   2148.0,2,     0.24,2,0.0439168649,2,    0.678095336
  06AQ19930806,    36,  1,     13,19930904, 78.3067, 133.2617, 1488,    497.1,   0.8863,  34.8673,2,  34.8669,2,    289.6,2,     5.44,2,    11.47,2,     0.73,2, -999.000,9, -999.000,9, -999.000,9,   2144.7,2,  -999.00,9,0.0507484528,2,     0.86271978
  06AQ19930806,    36,  1,     14,19930904, 78.3067, 133.2617, 1488,    397.4,   1.1570,  34.8694,2,  34.8701,2,    289.6,2,     5.44,2,    11.56,2,     0.73,2,    5.379,2,    2.429,2,    0.389,2,   2142.1,2,     0.20,2,0.0448927919,2,     1.13760494
  06AQ19930806,    36,  1,     15,19930904, 78.3067, 133.2617, 1488,    296.5,   1.3845,  34.8573,2,  34.8553,2,    289.6,2,     5.35,2,    11.47,2,     0.73,2,    5.472,2,    2.487,2,    0.386,2,   2139.8,2,     0.19,2,0.0448931963,2,     1.36973986
  06AQ19930806,    36,  1,     16,19930904, 78.3067, 133.2617, 1488,    197.2,   1.2618,  34.7776,2,  34.7764,2,    288.6,2,     4.96,2,    10.89,2,     0.68,2,    5.596,2,    2.538,2,    0.377,2,   2135.0,2,     0.14,2,0.0439198629,2,     1.25238096
  06AQ19930806,    36,  1,     17,19930904, 78.3067, 133.2617, 1488,    171.4,   1.2012,  34.7668,2,  34.7638,2,    287.6,2,     4.86,2,    10.89,2,     0.67,2, -999.000,9, -999.000,9, -999.000,9,   2130.7,2,  -999.00,9, 0.043920216,2,     1.19314199
  06AQ19930806,    36,  1,     18,19930904, 78.3067, 133.2617, 1488,    145.5,   0.4404,  34.6413,2,  34.6491,2,    290.6,2,     4.76,2,    10.21,2,     0.65,2, -999.000,9, -999.000,9, -999.000,9,   -999.0,9,  -999.00,9,0.0449004156,2,    0.434550424
  06AQ19930806,    36,  1,     19,19930904, 78.3067, 133.2617, 1488,    122.2,  -0.0699,  34.5656,2,  34.5748,2,    291.6,2,     4.76,2,     9.82,2,     0.62,2, -999.000,9, -999.000,9, -999.000,9,   2140.0,2,  -999.00,9, 0.046855248,2,  -0.0742418116
  06AQ19930806,    36,  1,     20,19930904, 78.3067, 133.2617, 1488,     96.4,  -0.8378,  34.3947,2,  34.4711,2,    293.6,2,     4.67,2,     9.14,2,     0.59,2,    6.347,2,    2.840,2,    0.425,2,   2139.6,2,    -0.04,2,0.0449086594,2,   -0.840548564
  06AQ19930806,    36,  1,     21,19930904, 78.3067, 133.2617, 1488,     70.6,  -1.4690,  34.2065,2,  34.2448,2,    301.6,2,     3.50,2,     7.78,2,     0.52,2, -999.000,9, -999.000,9, -999.000,9,   2130.7,2,  -999.00,9,0.0449149523,2,    -1.47057755
  06AQ19930806,    36,  1,     22,19930904, 78.3067, 133.2617, 1488,     45.9,  -1.7923,  33.9126,2,  33.9463,2,    317.5,2,     3.60,2,     6.32,2,     0.45,2,    7.014,2,    3.087,2,    0.509,2,   2121.4,2,    -0.51,2,0.0459014073,2,    -1.79315747
  06AQ19930806,    36,  1,     23,19930904, 78.3067, 133.2617, 1488,     21.3,  -1.6558,  32.9913,2,  32.4742,2,    324.8,2,     3.50,2,     4.28,2,     0.40,2,    7.368,2,    3.249,2,    0.634,2,   2098.6,2,    -0.94,2,        -999,9,    -1.65615677
  06AQ19930806,    36,  1,     24,19930904, 78.3067, 133.2617, 1488,     10.5,  -1.4605,  32.4804,2,  32.4750,2,    351.6,2,     2.14,2,     1.66,2,     0.18,2,    7.689,2,    3.393,2,    0.620,2,   2047.0,2,    -1.13,2,0.0469280565,2,    -1.46069289
  06AQ19930806,    37,  2,      0,19930904, 78.2417, 133.3267, 1262,      0.0,-999.0000,-999.0000,9,  32.3695,2,   -999.0,9,  -999.00,9,  -999.00,9,  -999.00,9, -999.000,9, -999.000,9, -999.000,9,   2047.5,2,  -999.00,9,        -999,9,           -999
  06AQ19930806,    37,  2,      1,19930904, 78.2417, 133.3267, 1262,   1244.7,  -0.2095,  34.8941,2,  34.8931,2,    292.5,2,     7.48,2,    12.44,2,     0.66,2,    3.895,2,    1.755,2,    0.322,2,   -999.0,9,  -999.00,9,0.0468437911,2,   -0.265607947
  06AQ19930806,    37,  2,      2,19930904, 78.2417, 133.3267, 1262,   1221.2,  -0.1919,  34.8889,2,  34.8895,2,    290.6,2,     7.00,2,    12.24,2,     0.61,2, -999.000,9, -999.000,9, -999.000,9,   -999.0,9,  -999.00,9,0.0497717207,2,   -0.246862198
  06AQ19930806,    37,  2,      3,19930904, 78.2417, 133.3267, 1262,   1200.3,  -0.1788,  34.8859,2,  34.8858,2,    291.6,2,     6.80,2,    12.15,2,     0.63,2,    4.553,2,    2.068,2,    0.334,2,   -999.0,9,  -999.00,9, 0.046844077,2,    -0.23272007
  06AQ19930806,    37,  2,      4,19930904, 78.2417, 133.3267, 1262,   1182.2,  -0.1701,  34.8823,2,  34.8832,2,    288.6,2,     6.70,2,    12.05,2,     0.63,2, -999.000,9, -999.000,9, -999.000,9,   -999.0,9,  -999.00,9,0.0595311741,4,   -0.223096307
  06AQ19930806,    37,  2,      5,19930904, 78.2417, 133.3267, 1262,   1100.9,  -0.1213,  34.8747,2,  34.8752,2,    291.6,2,     6.12,2,    11.76,2,     0.58,2, -999.000,9, -999.000,9, -999.000,9,   -999.0,9,  -999.00,9,0.0468444676,2,   -0.170283022
  06AQ19930806,    37,  2,      6,19930904, 78.2417, 133.3267, 1262,    999.4,  -0.0531,  34.8671,2,  34.8673,2,    292.6,2,     5.83,2,    11.56,2,     0.58,2, -999.000,9, -999.000,9, -999.000,9,   -999.0,9,  -999.00,9,0.0458688007,2,   -0.097212096
  06AQ19930806,    37,  2,      7,19930904, 78.2417, 133.3267, 1262,    900.8,   0.0428,  34.8645,2,  34.8630,2,    292.6,2,     5.73,2,    11.47,2,     0.58,2,    5.362,2,    2.404,2,    0.365,2,   -999.0,9,  -999.00,9,0.0468448233,2,   0.0031258802
  06AQ19930806,    37,  2,      8,19930904, 78.2417, 133.3267, 1262,    850.0,   0.1157,  34.8645,2,  34.8649,2,    290.6,2,     5.73,2,    11.56,2,     0.58,2, -999.000,9, -999.000,9, -999.000,9,   -999.0,9,  -999.00,9,0.0458688895,2,   0.0781341556
  06AQ19930806,    37,  2,      9,19930904, 78.2417, 133.3267, 1262,    799.9,   0.1617,  34.8613,2,  34.8622,2,    292.6,2,     5.73,2,    11.56,2,     0.58,2,    5.289,2,    2.380,2,    0.359,2,   -999.0,9,  -999.00,9,0.0448930626,2,    0.126404673
  06AQ19930806,    37,  2,     10,19930904, 78.2417, 133.3267, 1262,    699.9,   0.5466,  34.8790,2,  34.8764,2,    287.6,2,     5.73,2,    11.86,2,     0.60,2,    5.202,2,    2.350,2,    0.327,2,   -999.0,9,  -999.00,9,0.0458683944,2,     0.51410272
  06AQ19930806,    37,  2,     11,19930904, 78.2417, 133.3267, 1262,    600.4,   0.6879,  34.8684,2,  34.8697,2,    288.6,2,     5.64,2,    11.76,2,     0.60,2, -999.000,9, -999.000,9, -999.000,9,   -999.0,9,  -999.00,9,0.0458687563,2,     0.65985562
  06AQ19930806,    37,  2,     12,19930904, 78.2417, 133.3267, 1262,    500.6,   0.9265,  34.8661,2,  34.8665,2,    288.6,2,     5.54,2,    11.56,2,     0.63,2,    5.452,2,    2.470,2,    0.366,2,   -999.0,9,  -999.00,9,0.0439169695,2,    0.902573254
  06AQ19930806,    37,  2,     13,19930904, 78.2417, 133.3267, 1262,    401.0,   1.2177,  34.8675,2,  34.8675,2,    289.6,2,     5.64,2,    11.47,2,     0.67,2, -999.000,9, -999.000,9, -999.000,9,   -999.0,9,  -999.00,9, 0.045868787,2,     1.19791837
  06AQ19930806,    37,  2,     14,19930904, 78.2417, 133.3267, 1262,    300.3,   1.5955,  34.8773,2,  34.8673,2,    288.6,2,     5.44,2,    11.56,2,     0.67,2, -999.000,9, -999.000,9, -999.000,9,   -999.0,9,  -999.00,9,0.0448925279,2,     1.58001313
  06AQ19930806,    37,  2,     15,19930904, 78.2417, 133.3267, 1262,    250.5,   1.3945,  34.8323,2,  34.8338,2,    287.6,2,     5.35,2,    11.27,2,     0.66,2,    5.519,2,    2.513,2,    0.430,2,   -999.0,9,  -999.00,9,0.0448940318,2,     1.38211821
  06AQ19930806,    37,  2,     16,19930904, 78.2417, 133.3267, 1262,    200.7,   1.2731,  34.7841,2,  34.9809,2,    287.6,2,     4.66,2,    10.88,2,     0.64,2, -999.000,9, -999.000,9, -999.000,9,   -999.0,9,  -999.00,9,0.0439196504,2,     1.26341389
  06AQ19930806,    37,  2,     17,19930904, 78.2417, 133.3267, 1262,    173.1,   0.6532,  34.6777,2,  34.9236,2,    289.6,2,     5.15,2,    10.69,2,     0.63,2, -999.000,9, -999.000,9, -999.000,9,   2142.9,2,  -999.00,9,0.0439231293,2,    0.645800089
  06AQ19930806,    37,  2,     18,19930904, 78.2417, 133.3267, 1262,    149.7,   0.3342,  34.5986,2,  34.6194,2,    291.6,2,     4.86,2,    10.01,2,     0.60,2, -999.000,9, -999.000,9, -999.000,9,   2135.0,2,  -999.00,9,0.0439257159,2,     0.32831828
  06AQ19930806,    37,  2,     19,19930904, 78.2417, 133.3267, 1262,    124.3,  -0.3984,  34.4679,2,  34.5278,2,    297.6,2,     4.37,2,     9.43,2,     0.55,2, -999.000,9, -999.000,9, -999.000,9,   2131.2,2,  -999.00,9,0.0458824342,2,   -0.402459445
  06AQ19930806,    37,  2,     20,19930904, 78.2417, 133.3267, 1262,    100.5,  -1.2748,  34.2913,2,  34.3982,2,    303.5,2,     4.08,2,     8.55,2,     0.53,2, -999.000,9, -999.000,9, -999.000,9,   2128.1,2,  -999.00,9,0.0449121167,2,      -1.277275
  06AQ19930806,    37,  2,     21,19930904, 78.2417, 133.3267, 1262,     74.8,  -1.8369,  34.0227,2,  34.0371,2,    329.3,2,     2.72,2,     5.83,2,     0.37,2, -999.000,9, -999.000,9, -999.000,9,   2110.6,2,  -999.00,9,0.0468741903,2,    -1.83830287
  06AQ19930806,    37,  2,     22,19930904, 78.2417, 133.3267, 1262,     49.9,  -1.7950,  33.7915,2,  33.8503,2,    329.4,2,     3.31,2,     5.64,2,     0.39,2, -999.000,9, -999.000,9, -999.000,9,   2115.0,2,  -999.00,9,0.0459055464,2,    -1.79592358
  06AQ19930806,    37,  2,     23,19930904, 78.2417, 133.3267, 1262,     24.9,  -1.5322,  32.3822,2,  33.6633,2,    344.3,2,     3.89,2,     3.11,2,     0.30,2, -999.000,9, -999.000,9, -999.000,9,   2052.0,2,  -999.00,9,0.0469314889,2,    -1.53270312
  06AQ19930806,    37,  2,     24,19930904, 78.2417, 133.3267, 1262,     13.9,  -1.5265,  32.3770,2,  33.6835,2,    344.3,2,     3.89,2,     3.02,2,     0.29,2, -999.000,9, -999.000,9, -999.000,9,   2050.4,2,  -999.00,9,        -999,9,    -1.52678059