BOTTLE,20081119PRINUNIVRMK
EXPOCODE,STNNBR,CASTNO,BTLNBR,DATE,LATITUDE,LONGITUDE,DEPTH,CTDPRS,CTDTMP,CTDSAL,CTDSAL_FLAG_W,SALNTY,SALNTY_FLAG_W,OXYGEN,OXYGEN_FLAG_W,SILCAT,SILCAT_FLAG_W,NITRAT,NITRAT_FLAG_W,PHSPHT,PHSPHT_FLAG_W,CFC-11,CFC-11_FLAG_W,CFC-12,CFC-12_FLAG_W,CFC113,CFC113_FLAG_W,TCARBN,TCARBN_FLAG_W,DELO18,DELO18_FLAG_W,BARIUM,BARIUM_FLAG_W,THETA
,,,,,,,METERS,DBARS,ITS-90,PSS-78,,PSS-78,,UMOL/KG,,UMOL/KG,,UMOL/KG,,UMOL/KG,,PMOL/KG,,PMOL/KG,,PMOL/KG,,UMOL/KG,,O/OO,,UM/KG,,DEGC
  06AQ19930806,    64,  1,      1,19930918, 77.2633, 118.5317,  240,    231.0,  -0.4366,  34.5933,2,  34.5933,2,    289.6,2,     5.05,2,     8.26,2,     0.61,2,    6.406,2,    2.864,2,    0.451,2,   2146.0,2,     0.05,2,0.0439258892,2,   -0.444327477
  06AQ19930806,    64,  1,      2,19930918, 77.2633, 118.5317,  240,    219.8,  -0.4616,  34.5881,2,  34.5892,2,    289.6,2,     5.05,2,     8.07,2,     0.59,2, -999.000,9, -999.000,9, -999.000,9,   2144.0,2,  -999.00,9,0.0439260592,2,    -0.46888134
  06AQ19930806,    64,  1,      3,19930918, 77.2633, 118.5317,  240,    198.7,  -0.5119,  34.5712,2,  34.5795,2,    291.6,2,     5.05,2,     8.07,2,     0.57,2,    6.371,2,    2.842,2,    0.530,2,   2144.1,2,  -999.00,9,        -999,9,   -0.518354262
  06AQ19930806,    64,  1,      4,19930918, 77.2633, 118.5317,  240,    174.4,  -0.5246,  34.5747,2,  34.5730,2,    289.6,2,     4.96,2,     7.97,2,     0.55,2,    6.439,2,    2.860,2,    0.536,2,   2146.0,2,  -999.00,9,0.0458787862,2,   -0.530204178
  06AQ19930806,    64,  1,      5,19930918, 77.2633, 118.5317,  240,    148.4,  -0.7436,  34.5231,2,  34.5449,2,    289.6,2,     4.76,2,     7.29,2,     0.52,2,    6.480,2,    2.942,2,    0.477,2,   2143.7,2,     0.03,2,        -999,9,   -0.748045842
  06AQ19930806,    64,  1,      6,19930918, 77.2633, 118.5317,  240,    124.4,  -0.9813,  34.4023,2,  34.4219,2,    289.7,2,     5.15,2,     7.19,2,     0.50,2, -999.000,9, -999.000,9, -999.000,9,   2145.2,2,  -999.00,9, 0.045884675,2,   -0.984714279
  06AQ19930806,    64,  1,      7,19930918, 77.2633, 118.5317,  240,     98.9,  -1.0341,  34.3010,2,  34.2914,2,    286.8,2,     5.64,2,     6.90,2,     0.51,2,    6.774,2,    3.013,2,    0.544,2,   2150.1,2,    -0.19,2,        -999,9,    -1.03672015
  06AQ19930806,    64,  1,      8,19930918, 77.2633, 118.5317,  240,     74.9,  -1.0497,  34.2257,2,  34.2301,2,    285.8,2,     5.74,2,     6.61,2,     0.49,2, -999.000,9, -999.000,9, -999.000,9,   2150.0,2,    -0.24,2,        -999,9,    -1.05164802
  06AQ19930806,    64,  1,      9,19930918, 77.2633, 118.5317,  240,     48.7,  -1.2952,  33.6802,2,  33.7481,2,    291.8,2,     6.81,2,     5.54,2,     0.45,2,    7.033,2,    3.130,2,    0.586,2,   2141.2,2,  -999.00,9,0.0459093509,2,    -1.29630461
  06AQ19930806,    64,  1,     13,19930918, 77.2633, 118.5317,  240,     23.9,  -1.7352,  32.7641,2,  32.8637,2,    330.9,2,     4.18,2,     3.21,2,     0.32,2,    7.357,2,    3.320,2,    0.656,2,   2085.1,2,    -1.05,2,0.0459406807,2,    -1.73560242
  06AQ19930806,    64,  1,     15,19930918, 77.2633, 118.5317,  240,     14.5,  -1.7364,  32.7626,2,-999.0000,9,   -999.0,9,  -999.00,9,  -999.00,9,  -999.00,9, -999.000,9, -999.000,9, -999.000,9,   2080.8,2,  -999.00,9,0.0478956568,2,    -1.73663974
  06AQ19930806,    65,  1,      3,19930918, 77.1833, 118.7367,  107,     99.7,  -1.0913,  34.2452,2,  34.2350,2,    291.7,2,     6.03,2,     7.10,2,     0.59,2,    6.826,2,    3.103,2,    0.647,2,   2151.6,2,  -999.00,9,0.0439372743,2,    -1.09388183
  06AQ19930806,    65,  1,      4,19930918, 77.1833, 118.7367,  107,     88.4,  -1.0471,  34.2118,2,  34.2246,2,    287.8,2,     6.03,2,     7.00,2,     0.59,2, -999.000,9, -999.000,9, -999.000,9,   2148.7,2,  -999.00,9,0.0468675914,2,    -1.04941168
  06AQ19930806,    65,  1,      5,19930918, 77.1833, 118.7367,  107,     78.8,  -1.0682,  34.1704,2,  34.1844,2,    286.8,2,     6.22,2,     7.00,2,     0.59,2,    6.740,2,    3.099,2,    0.572,2,   2150.9,2,  -999.00,9,0.0449161595,2,    -1.07023281
  06AQ19930806,    65,  1,      8,19930918, 77.1833, 118.7367,  107,     72.6,  -1.0764,  34.1623,2,  34.1658,2,    284.9,2,     6.12,2,     6.81,2,     0.59,2,    6.851,2,    3.076,2,    0.601,2,   2150.9,2,  -999.00,9,0.0449164304,2,    -1.07826075
  06AQ19930806,    65,  1,      9,19930918, 77.1833, 118.7367,  107,     59.7,  -1.1873,  34.0702,2,  34.0993,2,    287.8,2,     5.83,2,     6.51,2,     0.56,2, -999.000,9, -999.000,9, -999.000,9,   2148.6,2,  -999.00,9,0.0449195104,2,    -1.18875741
  06AQ19930806,    65,  1,     10,19930918, 77.1833, 118.7367,  107,     49.9,  -1.2822,  33.8905,2,  34.0085,2,    288.8,2,     5.83,2,     6.32,2,     0.54,2,    6.984,2,    3.131,2,    0.607,2,   2146.5,2,  -999.00,9,0.0449255209,2,    -1.28336334
  06AQ19930806,    65,  1,     13,19930918, 77.1833, 118.7367,  107,     39.5,  -1.5394,  33.4829,2,-999.0000,9,   -999.0,9,  -999.00,9,  -999.00,9,  -999.00,9,    7.182,2,    3.272,2,    0.643,2,   2112.4,2,  -999.00,9, 0.045916096,2,    -1.54018738
  06AQ19930806,    65,  1,     16,19930918, 77.1833, 118.7367,  107,     29.8,  -1.7554,  32.7077,2,  32.8674,2,    330.9,2,     4.09,2,     3.41,2,     0.37,2, -999.000,9, -999.000,9, -999.000,9,   2085.9,2,  -999.00,9,0.0459426104,2,    -1.75589841
  06AQ19930806,    65,  1,     17,19930918, 77.1833, 118.7367,  107,     23.7,  -1.7584,  32.6913,2,  32.7537,2,    335.8,2,     3.89,2,     3.21,2,     0.37,2,    7.325,2,    3.362,2,    0.668,2,   2078.6,2,  -999.00,9,0.0459431716,2,    -1.75878901
  06AQ19930806,    65,  1,     19,19930918, 77.1833, 118.7367,  107,     18.6,  -1.7583,  32.6831,2,  32.6758,2,    337.8,2,     3.89,2,     3.02,2,     0.34,2, -999.000,9, -999.000,9, -999.000,9,   2073.5,2,  -999.00,9,0.0469209724,2,    -1.75860152
  06AQ19930806,    65,  1,     21,19930918, 77.1833, 118.7367,  107,     14.1,  -1.7594,  32.6905,2,  32.6719,2,    335.9,2,     3.89,2,     3.02,2,     0.22,2,    7.352,2,    3.347,2,    0.651,2,   2077.4,2,  -999.00,9, 0.045943199,2,    -1.75962769
  06AQ19930806,    67,  1,      1,19930920, 78.2683, 109.2350,   50,     46.1,  -1.0947,  33.8594,2,  33.8601,2,    281.1,2,     7.49,2,     6.42,2,     0.58,2,    6.987,2,    3.129,2,    0.562,2,   2138.7,2,    -0.45,2,  0.04687989,2,    -1.09583513
  06AQ19930806,    67,  1,      3,19930920, 78.2683, 109.2350,   50,     43.0,  -1.0965,  33.8493,2,  33.8546,2,    282.0,2,     7.49,2,     6.42,2,     0.59,2, -999.000,9, -999.000,9, -999.000,9,   2138.4,2,  -999.00,9,0.0488335859,2,    -1.09755637
  06AQ19930806,    67,  1,      5,19930920, 78.2683, 109.2350,   50,     38.2,  -1.0962,  33.8465,2,  33.8499,2,    281.1,2,     7.49,2,     6.42,2,     0.59,2,    6.991,2,    3.167,2,    0.557,2,   2137.5,2,  -999.00,9,0.0468803402,2,    -1.09713643
  06AQ19930806,    67,  1,      7,19930920, 78.2683, 109.2350,   50,     35.1,  -1.0965,  33.8419,2,  33.8388,2,    281.1,2,     7.49,2,     6.42,2,     0.59,2, -999.000,9, -999.000,9, -999.000,9,   2139.6,2,  -999.00,9,0.0468805008,2,    -1.09735853
  06AQ19930806,    67,  1,      9,19930920, 78.2683, 109.2350,   50,     30.0,  -1.5601,  32.9049,2,  32.9007,2,    320.2,2,     5.06,2,     4.48,2,     0.42,2,    7.266,2,    3.298,2,    0.696,2,   2095.9,2,  -999.00,9,0.0459358637,2,    -1.56065554
  06AQ19930806,    67,  1,     11,19930920, 78.2683, 109.2350,   50,     25.0,  -1.5871,  31.8621,2,  32.6801,2,    326.1,2,     4.87,2,     4.28,2,     0.39,2,    7.488,2,    3.336,2,    0.585,2,   2086.5,2,    -1.31,2,0.0459715555,2,    -1.58754495
  06AQ19930806,    67,  1,     13,19930920, 78.2683, 109.2350,   50,     20.7,  -1.6202,  31.4715,2,  32.0111,2,    334.1,2,     4.87,2,     3.41,2,     0.34,2,    7.512,2,    3.357,2,    0.700,2,   2058.8,2,  -999.00,9,0.0498985453,2,    -1.62053433
  06AQ19930806,    67,  1,     15,19930920, 78.2683, 109.2350,   50,     14.7,  -1.6180,  30.8610,2,  31.6195,2,    338.1,2,     4.68,2,     2.92,2,     0.32,2, -999.000,9, -999.000,9, -999.000,9,   2041.1,2,  -999.00,9,0.0469847023,2,    -1.61822554
  06AQ19930806,    67,  1,     17,19930920, 78.2683, 109.2350,   50,      9.5,  -1.5054,  29.1194,2,  30.3292,2,    344.3,2,     3.12,2,     1.07,2,     0.24,2,    7.595,2,    3.423,2,    0.651,2,   1977.7,2,    -2.16,2,        -999,9,    -1.50553078
  06AQ19930806,    68,  1,      3,19930920, 78.4683, 110.8150,  101,     94.2,  -1.2156,  34.3453,2,  34.3451,2,    292.6,2,     6.22,2,     5.83,2,     0.56,2,    7.142,2,    3.194,2,    0.617,2,   2145.6,2,    -0.11,2,0.0458866222,2,    -1.21795285
  06AQ19930806,    68,  1,      4,19930920, 78.4683, 110.8150,  101,     87.8,  -1.2180,  34.3458,2,  34.3434,2,    291.6,2,     6.12,2,     5.83,2,     0.55,2,    6.829,2,    3.046,2,    0.533,2,   2145.4,2,  -999.00,9,0.0478392266,2,    -1.22018543
  06AQ19930806,    68,  1,      5,19930920, 78.4683, 110.8150,  101,     82.2,  -1.2189,  34.3422,2,-999.0000,9,   -999.0,9,  -999.00,9,  -999.00,9,  -999.00,9, -999.000,9, -999.000,9, -999.000,9,   2146.1,2,  -999.00,9,0.0449104148,2,    -1.22094075
  06AQ19930806,    68,  1,      6,19930920, 78.4683, 110.8150,  101,     82.3,  -1.2195,  34.3387,2,-999.0000,9,   -999.0,9,  -999.00,9,  -999.00,9,  -999.00,9,    6.787,2,    3.055,2,    0.572,2,   2145.7,2,  -999.00,9,        -999,9,    -1.22154232
  06AQ19930806,    68,  1,      7,19930920, 78.4683, 110.8150,  101,     74.8,  -1.2241,  34.3273,2,  34.3306,2,    292.6,2,     5.83,2,     5.83,2,     0.56,2, -999.000,9, -999.000,9, -999.000,9,   2145.1,2,  -999.00,9,0.0439345888,2,     -1.2259466
  06AQ19930806,    68,  1,      9,19930920, 78.4683, 110.8150,  101,     69.4,  -1.2257,  34.2812,2,  34.2945,2,    292.6,2,     5.64,2,     5.54,2,     0.54,2,    6.874,2,    3.061,2,    0.543,2,   2144.4,2,    -0.15,2,        -999,9,    -1.22740383
  06AQ19930806,    68,  1,     10,19930920, 78.4683, 110.8150,  101,     59.6,  -1.2187,  34.2525,2,  34.2527,2,    294.6,2,  -999.00,9,  -999.00,9,  -999.00,9, -999.000,9, -999.000,9, -999.000,9,   -999.0,9,  -999.00,9,        -999,9,    -1.22015636
  06AQ19930806,    68,  1,     11,19930920, 78.4683, 110.8150,  101,     59.6,  -1.1912,  34.2377,2,  34.2480,2,   -999.0,9,     5.44,2,     5.44,2,     0.54,2,    6.868,2,    3.078,2,    0.557,2,   2143.7,2,  -999.00,9,        -999,9,    -1.19267008
  06AQ19930806,    68,  1,     12,19930920, 78.4683, 110.8150,  101,     49.6,  -1.2987,  34.1816,2,-999.0000,9,   -999.0,9,  -999.00,9,  -999.00,9,  -999.00,9,    6.861,2,    3.084,2,    0.552,2,   2142.1,2,  -999.00,9,0.0439393548,2,    -1.29986576
  06AQ19930806,    68,  1,     13,19930920, 78.4683, 110.8150,  101,     49.6,  -1.3000,  34.1817,2,  34.1917,2,   -999.0,9,  -999.00,9,  -999.00,9,  -999.00,9, -999.000,9, -999.000,9, -999.000,9,   -999.0,9,  -999.00,9,        -999,9,    -1.30116617
  06AQ19930806,    68,  1,     15,19930920, 78.4683, 110.8150,  101,     39.9,  -1.4245,  33.9743,2,  34.0765,2,    302.4,2,     4.96,2,     6.51,2,     0.51,2,    7.011,2,    3.121,2,    0.576,2,   2137.6,2,    -0.34,2,0.0439461371,2,    -1.42538198
  06AQ19930806,    68,  1,     16,19930920, 78.4683, 110.8150,  101,     34.0,  -1.5210,  33.7903,2,-999.0000,9,   -999.0,9,  -999.00,9,  -999.00,9,  -999.00,9, -999.000,9, -999.000,9, -999.000,9,   2126.8,2,  -999.00,9,        -999,9,    -1.52170183
  06AQ19930806,    68,  1,     18,19930920, 78.4683, 110.8150,  101,     29.6,  -1.5641,  33.6525,2,  33.7510,2,    313.2,2,     4.47,2,     5.35,2,     0.47,2,    7.356,2,    3.316,2,    0.603,2,   2121.7,2,  -999.00,9,0.0449334829,2,    -1.56469624
  06AQ19930806,    68,  1,     19,19930920, 78.4683, 110.8150,  101,     24.4,  -1.6605,  33.3287,2,  33.5753,2,    318.1,2,     4.38,2,     5.06,2,     0.42,2, -999.000,9, -999.000,9, -999.000,9,   2111.7,2,  -999.00,9,        -999,9,    -1.66096115
  06AQ19930806,    68,  1,     21,19930920, 78.4683, 110.8150,  101,     19.4,  -1.7341,  32.2679,2,-999.0000,9,   -999.0,9,  -999.00,9,  -999.00,9,  -999.00,9, -999.000,9, -999.000,9, -999.000,9,   2071.7,2,  -999.00,9,0.0469354845,2,    -1.73440325
  06AQ19930806,    68,  1,     22,19930920, 78.4683, 110.8150,  101,     14.8,  -1.7415,  32.1785,2,  32.5104,2,    335.9,2,     4.38,2,     3.70,2,     0.34,2,    7.343,2,    3.356,2,    0.636,2,   2062.8,2,    -1.30,2,        -999,9,    -1.74173674
  06AQ19930806,    69,  1,      1,19930921, 78.6917, 112.5283,  510,    511.7,   0.2652,  34.8296,2,  34.8319,2,    289.6,2,     4.96,2,     9.52,2,     0.69,2,    5.739,2,    2.554,2,    0.442,2,   2146.3,2,     0.18,2,        -999,9,    0.243523048
  06AQ19930806,    69,  1,      2,19930921, 78.6917, 112.5283,  510,    485.6,   0.3435,  34.8369,2,  34.8360,2,    291.5,2,     5.05,2,     9.52,2,     0.69,2,    5.717,2,    2.557,2,    0.432,2,   2146.7,2,     0.20,2,        -999,9,    0.322722117
  06AQ19930806,    69,  1,      3,19930921, 78.6917, 112.5283,  510,    450.5,   0.5491,  34.8397,2,  34.8407,2,    290.5,2,     5.05,2,     9.81,2,     0.69,2,    5.607,2,    2.553,2,    0.489,2,   2143.2,2,  -999.00,9,        -999,9,    0.529191541
  06AQ19930806,    69,  1,      4,19930921, 78.6917, 112.5283,  510,    400.2,   0.7018,  34.8467,2,  34.8433,2,    289.6,2,     5.05,2,     9.72,2,     0.69,2,    5.632,2,    2.563,2,    0.442,2,   2140.5,2,  -999.00,9,        -999,9,    0.683783417
  06AQ19930806,    69,  1,      5,19930921, 78.6917, 112.5283,  510,    342.2,   0.6226,  34.8103,2,  34.8118,2,    288.6,2,     4.96,2,     9.52,2,     0.66,2,    5.784,2,    2.650,2,    0.469,2,   2142.4,2,     0.19,2,        -999,9,    0.607614996
  06AQ19930806,    69,  1,      7,19930921, 78.6917, 112.5283,  510,    237.5,   0.9934,  34.8133,2,  34.8053,2,    291.5,2,     4.47,2,     9.33,2,     0.66,2,    5.715,2,    2.596,2,    0.454,2,   2137.5,2,     0.20,2,        -999,9,    0.982489297
  06AQ19930806,    69,  1,      9,19930921, 78.6917, 112.5283,  510,    190.4,   0.5492,  34.7438,2,  34.7559,2,    291.5,2,     4.18,2,     8.75,2,     0.63,2,    5.918,2,    2.654,2,    0.478,2,   2134.0,2,     0.20,2,        -999,9,      0.5412564
  06AQ19930806,    69,  1,     10,19930921, 78.6917, 112.5283,  510,    151.1,   1.7631,  34.8180,2,  34.8063,2,    290.6,2,     4.37,2,     9.04,2,     0.64,2,    5.412,2,    2.479,2,    0.470,2,   2132.5,2,     0.20,2,        -999,9,      1.7553082
  06AQ19930806,    69,  1,     13,19930921, 78.6917, 112.5283,  510,     97.2,  -0.5097,  34.4574,2,  34.5554,2,    298.4,2,     3.79,2,     7.48,2,     0.56,2,    6.073,2,    2.690,2,    0.480,2,   2126.1,2,     0.04,2,        -999,9,   -0.512762155
  06AQ19930806,    69,  1,     15,19930921, 78.6917, 112.5283,  510,     72.1,  -1.4939,  34.2122,2,  34.2741,2,    311.1,2,     3.89,2,     6.42,2,     0.50,2,    6.758,2,    3.071,2,    0.577,2,   2131.5,2,  -999.00,9,        -999,9,    -1.49550057
  06AQ19930806,    69,  1,     16,19930921, 78.6917, 112.5283,  510,     49.6,  -1.6209,  33.9702,2,  33.8862,2,    319.0,2,     3.40,2,     5.06,2,     0.42,2,    6.858,2,    3.092,2,    0.625,2,   2114.2,2,  -999.00,9,        -999,9,    -1.62189731
  06AQ19930806,    69,  1,     20,19930921, 78.6917, 112.5283,  510,     21.1,  -1.7627,  32.7411,2,  32.8311,2,    336.8,2,     3.60,2,     4.48,2,     0.34,2,    7.212,2,    3.295,2,    0.632,2,   2065.0,2,  -999.00,9,        -999,9,    -1.76304819
  06AQ19930806,    69,  1,     22,19930921, 78.6917, 112.5283,  510,     15.1,  -1.7681,  32.6666,2,  32.6738,2,    336.8,2,     3.70,2,     3.70,2,     0.33,2,    7.211,2,    3.209,2,    0.653,2,   2064.5,2,    -1.13,2,        -999,9,    -1.76834288