BOTTLE,20141031SIOCCHAMB
EXPOCODE,SECT_ID,STNNBR,CASTNO,SAMPNO,BTLNBR,BTLNBR_FLAG_W,DATE,TIME,LATITUDE,LONGITUDE,DEPTH,CTDPRS,CTDTMP,CTDSAL,CTDSAL_FLAG_W,SALNTY,SALNTY_FLAG_W,CTDOXY,CTDOXY_FLAG_W,OXYGEN,OXYGEN_FLAG_W,SILCAT,SILCAT_FLAG_W,PHSPHT,PHSPHT_FLAG_W,REVPRS,CTDRAW,THETA,NO2+NO3,NO2+NO3_FLAG_W,REVTMP
,,,,,,,,,,,METERS,DBAR,ITS-90,PSS-78,,PSS-78,,UMOL/KG,,UMOL/KG,,UMOL/KG,,UMOL/KG,,DBAR,DBAR,ITS-90,UMOL/KG,,DEG C
33KB20131026,       PRS2,       2,         10,         20,       8020,2,20131028,       1751,  22.750000,-157.9998333,       4742,     8.4,  26.4274,  35.1809,2,-999.0000,5,    201.9,1,  -999.0,9, -999.00,9, -999.00,9,  -999.0,       6,    26.4255, -999.00,9,     -999.0
33KB20131026,       PRS2,       2,         10,         19,       8019,2,20131028,       1751,  22.750000,-157.9998333,       4742,     7.6,  26.4278,  35.1811,2,  35.1819,2,    202.0,1,  -999.0,9, -999.00,9, -999.00,9,  -999.0,       8,    26.4261, -999.00,9,     -999.0
33KB20131026,       PRS2,       2,         10,         18,       8018,2,20131028,       1751,  22.750000,-157.9998333,       4742,    26.7,  26.4142,  35.1930,2,-999.0000,5,    201.3,1,  -999.0,9, -999.00,9, -999.00,9,  -999.0,      24,    26.4081, -999.00,9,     -999.0
33KB20131026,       PRS2,       2,         10,         17,       8017,2,20131028,       1751,  22.750000,-157.9998333,       4742,    26.9,  26.4136,  35.1931,2,  35.1928,2,    201.2,1,  -999.0,9, -999.00,9, -999.00,9,  -999.0,      26,    26.4075, -999.00,9,     -999.0
33KB20131026,       PRS2,       2,         10,         16,       8016,2,20131028,       1751,  22.750000,-157.9998333,       4742,    46.1,  26.4313,  35.2095,2,-999.0000,5,    202.2,1,  -999.0,9, -999.00,9, -999.00,9,  -999.0,      44,    26.4209, -999.00,9,     -999.0
33KB20131026,       PRS2,       2,         10,         15,       8015,2,20131028,       1751,  22.750000,-157.9998333,       4742,    45.8,  26.4309,  35.2099,2,  35.2107,2,    202.4,1,  -999.0,9, -999.00,9, -999.00,9,  -999.0,      44,    26.4205, -999.00,9,     -999.0
33KB20131026,       PRS2,       2,         10,         14,       8014,2,20131028,       1751,  22.750000,-157.9998333,       4742,    75.0,  24.5838,  35.2929,2,-999.0000,5,    214.6,1,  -999.0,9, -999.00,9, -999.00,9,  -999.0,      76,    24.5677, -999.00,9,     -999.0
33KB20131026,       PRS2,       2,         10,         13,       8025,2,20131028,       1751,  22.750000,-157.9998333,       4742,    74.9,  24.5839,  35.2954,2,  35.2978,2,    215.0,1,  -999.0,9, -999.00,9, -999.00,9,  -999.0,      77,    24.5679, -999.00,9,     -999.0
33KB20131026,       PRS2,       2,         10,         12,       8012,2,20131028,       1751,  22.750000,-157.9998333,       4742,   100.8,  22.6522,  35.2680,2,-999.0000,5,    213.7,1,  -999.0,9, -999.00,9, -999.00,9,  -999.0,     102,    22.6318, -999.00,9,     -999.0
33KB20131026,       PRS2,       2,         10,         11,       8011,2,20131028,       1751,  22.750000,-157.9998333,       4742,   100.2,  22.6500,  35.2698,2,  35.2704,2,    213.4,1,  -999.0,9, -999.00,9, -999.00,9,  -999.0,     102,    22.6298, -999.00,9,     -999.0
33KB20131026,       PRS2,       2,         10,         10,       8010,2,20131028,       1751,  22.750000,-157.9998333,       4742,   126.1,  21.8586,  35.2765,2,-999.0000,5,    208.8,1,  -999.0,9, -999.00,9, -999.00,9,  -999.0,     126,    21.8337, -999.00,9,     -999.0
33KB20131026,       PRS2,       2,         10,          9,       8009,2,20131028,       1751,  22.750000,-157.9998333,       4742,   126.6,  21.8450,  35.2761,2,  35.2757,2,    209.0,1,  -999.0,9, -999.00,9, -999.00,9,  -999.0,     124,    21.8201, -999.00,9,     -999.0
33KB20131026,       PRS2,       2,         10,          8,       8008,2,20131028,       1751,  22.750000,-157.9998333,       4742,   150.7,  21.4841,  35.3299,2,-999.0000,5,    204.9,1,  -999.0,9, -999.00,9, -999.00,9,  -999.0,     148,    21.4548, -999.00,9,     -999.0
33KB20131026,       PRS2,       2,         10,          7,       8026,2,20131028,       1751,  22.750000,-157.9998333,       4742,   150.4,  21.4859,  35.3298,2,  35.3309,2,    204.7,1,  -999.0,9, -999.00,9, -999.00,9,  -999.0,     149,    21.4566, -999.00,9,     -999.0
33KB20131026,       PRS2,       2,         10,          6,       8006,2,20131028,       1751,  22.750000,-157.9998333,       4742,   176.5,  20.8949,  35.3285,2,-999.0000,5,    200.8,1,  -999.0,9, -999.00,9, -999.00,9,  -999.0,     175,    20.8612, -999.00,9,     -999.0
33KB20131026,       PRS2,       2,         10,          5,       8005,2,20131028,       1751,  22.750000,-157.9998333,       4742,   176.3,  20.8906,  35.3278,2,  35.3291,2,    201.0,1,  -999.0,9, -999.00,9, -999.00,9,  -999.0,     175,    20.8569, -999.00,9,     -999.0
33KB20131026,       PRS2,       2,         10,          4,       8004,2,20131028,       1751,  22.750000,-157.9998333,       4742,   301.9,  13.5854,  34.3272,2,-999.0000,5,    199.1,1,  -999.0,9, -999.00,9, -999.00,9,  -999.0,     301,    13.5428, -999.00,9,     -999.0
33KB20131026,       PRS2,       2,         10,          3,       8003,2,20131028,       1751,  22.750000,-157.9998333,       4742,   301.6,  13.5628,  34.3265,2,-999.0000,5,    199.4,1,  -999.0,9, -999.00,9, -999.00,9,  -999.0,     302,    13.5202, -999.00,9,     -999.0
33KB20131026,       PRS2,       2,         10,          2,       8002,2,20131028,       1751,  22.750000,-157.9998333,       4742,   500.9,   7.5509,  34.0977,2,  34.1025,2,     96.3,1,  -999.0,9, -999.00,9, -999.00,9,  -999.0,     501,     7.5016, -999.00,9,     -999.0
33KB20131026,       PRS2,       2,         10,          1,       8001,2,20131028,       1751,  22.750000,-157.9998333,       4742,  1019.4,   3.8949,  34.4649,2,  34.4669,2,     46.7,1,  -999.0,9, -999.00,9, -999.00,9,  -999.0,    1020,     3.8185, -999.00,9,     -999.0
33KB20131026,       PRS2,       2,         11,         18,       8018,2,20131028,       2056,  22.803167,-158.0291667,       4740,     8.5,  26.5332,  35.2085,2,  35.2067,2,    202.6,1,  -999.0,9, -999.00,9, -999.00,9,  -999.0,       7,    26.5313, -999.00,9,     -999.0
33KB20131026,       PRS2,       2,         11,         17,       8017,2,20131028,       2056,  22.803167,-158.0291667,       4740,     8.3,  26.5325,  35.2086,2,-999.0000,5,    201.3,1,  -999.0,9, -999.00,9, -999.00,9,  -999.0,       7,    26.5306, -999.00,9,     -999.0
33KB20131026,       PRS2,       2,         11,         16,       8016,2,20131028,       2056,  22.803167,-158.0291667,       4740,    25.2,  26.4584,  35.2139,2,-999.0000,5,    202.9,1,  -999.0,9, -999.00,9, -999.00,9,  -999.0,      24,    26.4527, -999.00,9,     -999.0
33KB20131026,       PRS2,       2,         11,         15,       8015,2,20131028,       2056,  22.803167,-158.0291667,       4740,    24.7,  26.4585,  35.2137,2,-999.0000,5,    202.9,1,  -999.0,9, -999.00,9, -999.00,9,  -999.0,      27,    26.4529, -999.00,9,     -999.0
33KB20131026,       PRS2,       2,         11,         14,       8014,2,20131028,       2056,  22.803167,-158.0291667,       4740,    46.7,  26.3138,  35.2523,2,-999.0000,5,    203.1,1,  -999.0,9, -999.00,9, -999.00,9,  -999.0,      45,    26.3032, -999.00,9,     -999.0
33KB20131026,       PRS2,       2,         11,         13,       8025,2,20131028,       2056,  22.803167,-158.0291667,       4740,    46.2,  26.3138,  35.2556,2,-999.0000,5,    203.3,1,  -999.0,9, -999.00,9, -999.00,9,  -999.0,      46,    26.3034, -999.00,9,     -999.0
33KB20131026,       PRS2,       2,         11,         12,       8012,2,20131028,       2056,  22.803167,-158.0291667,       4740,    75.6,  23.4600,  35.2122,2,-999.0000,5,    219.1,1,  -999.0,9, -999.00,9, -999.00,9,  -999.0,      77,    23.4443, -999.00,9,     -999.0
33KB20131026,       PRS2,       2,         11,         11,       8011,2,20131028,       2056,  22.803167,-158.0291667,       4740,    76.4,  23.4419,  35.2122,2,-999.0000,5,    218.8,1,  -999.0,9, -999.00,9, -999.00,9,  -999.0,      75,    23.4260, -999.00,9,     -999.0
33KB20131026,       PRS2,       2,         11,         10,       8010,2,20131028,       2056,  22.803167,-158.0291667,       4740,   100.7,  22.3131,  35.2929,2,-999.0000,5,    213.4,1,  -999.0,9, -999.00,9, -999.00,9,  -999.0,     101,    22.2930, -999.00,9,     -999.0
33KB20131026,       PRS2,       2,         11,          9,       8009,2,20131028,       2056,  22.803167,-158.0291667,       4740,   100.7,  22.3141,  35.2928,2,-999.0000,5,    213.4,1,  -999.0,9, -999.00,9, -999.00,9,  -999.0,     100,    22.2940, -999.00,9,     -999.0
33KB20131026,       PRS2,       2,         11,          8,       8008,2,20131028,       2056,  22.803167,-158.0291667,       4740,   124.7,  21.5818,  35.3155,2,-999.0000,5,    206.1,1,  -999.0,9, -999.00,9, -999.00,9,  -999.0,     125,    21.5574, -999.00,9,     -999.0
33KB20131026,       PRS2,       2,         11,          7,       8026,2,20131028,       2056,  22.803167,-158.0291667,       4740,   124.7,  21.5762,  35.3172,2,-999.0000,5,    205.9,1,  -999.0,9, -999.00,9, -999.00,9,  -999.0,     125,    21.5518, -999.00,9,     -999.0
33KB20131026,       PRS2,       2,         11,          6,       8006,2,20131028,       2056,  22.803167,-158.0291667,       4740,   150.7,  21.1286,  35.3386,2,-999.0000,5,    204.2,1,  -999.0,9, -999.00,9, -999.00,9,  -999.0,     151,    21.0996, -999.00,9,     -999.0
33KB20131026,       PRS2,       2,         11,          5,       8005,2,20131028,       2056,  22.803167,-158.0291667,       4740,   151.1,  21.1261,  35.3383,2,-999.0000,5,    203.9,1,  -999.0,9, -999.00,9, -999.00,9,  -999.0,     151,    21.0970, -999.00,9,     -999.0
33KB20131026,       PRS2,       2,         11,          4,       8004,2,20131028,       2056,  22.803167,-158.0291667,       4740,   174.9,  20.6608,  35.3091,2,-999.0000,5,    201.4,1,  -999.0,9, -999.00,9, -999.00,9,  -999.0,     174,    20.6276, -999.00,9,     -999.0
33KB20131026,       PRS2,       2,         11,          3,       8003,2,20131028,       2056,  22.803167,-158.0291667,       4740,   174.8,  20.6593,  35.3086,2,-999.0000,5,    201.2,1,  -999.0,9, -999.00,9, -999.00,9,  -999.0,     174,    20.6262, -999.00,9,     -999.0
33KB20131026,       PRS2,       2,         11,          2,       8002,2,20131028,       2056,  22.803167,-158.0291667,       4740,   501.3,   7.8112,  34.0837,2,  34.0838,2,    121.3,1,  -999.0,9, -999.00,9, -999.00,9,  -999.0,     500,     7.7609, -999.00,9,     -999.0
33KB20131026,       PRS2,       2,         11,          1,       8001,2,20131028,       2056,  22.803167,-158.0291667,       4740,  1019.9,   3.8824,  34.4632,2,  34.4665,2,     46.8,1,  -999.0,9, -999.00,9, -999.00,9,  -999.0,    1021,     3.8061, -999.00,9,     -999.0
33KB20131026,       PRS2,       2,         12,         23,       8023,2,20131028,       2351,  22.795833,-158.0198333,       4732,     8.3,  26.5849,  35.2404,2,  35.2387,2,    203.9,1,  -999.0,9, -999.00,9, -999.00,9,  -999.0,      10,    26.5830, -999.00,9,     -999.0
33KB20131026,       PRS2,       2,         12,         22,       8022,2,20131028,       2351,  22.795833,-158.0198333,       4732,    24.3,  26.5191,  35.2324,2,  35.2304,2,    203.8,1,  -999.0,9, -999.00,9, -999.00,9,  -999.0,      27,    26.5136, -999.00,9,     -999.0
33KB20131026,       PRS2,       2,         12,         21,       8021,2,20131028,       2351,  22.795833,-158.0198333,       4732,    44.8,  26.5537,  35.3044,2,  35.3037,2,    203.0,1,  -999.0,9, -999.00,9, -999.00,9,  -999.0,      46,    26.5435, -999.00,9,     -999.0
33KB20131026,       PRS2,       2,         12,         20,       8020,3,20131028,       2351,  22.795833,-158.0198333,       4732,    75.2,  23.7960,  35.2402,2,  35.2448,2,    218.7,1,  -999.0,9, -999.00,9, -999.00,9,  -999.0,      75,    23.7803, -999.00,9,     -999.0
33KB20131026,       PRS2,       2,         12,         19,       8019,2,20131028,       2351,  22.795833,-158.0198333,       4732,   100.4,  22.4095,  35.2920,2,  35.2917,2,    213.4,1,  -999.0,9, -999.00,9, -999.00,9,  -999.0,     100,    22.3894, -999.00,9,     -999.0
33KB20131026,       PRS2,       2,         12,         18,       8018,2,20131028,       2351,  22.795833,-158.0198333,       4732,   123.5,  21.6890,  35.3019,2,  35.3001,2,    208.3,1,  -999.0,9, -999.00,9, -999.00,9,  -999.0,     127,    21.6648, -999.00,9,     -999.0
33KB20131026,       PRS2,       2,         12,         17,       8017,2,20131028,       2351,  22.795833,-158.0198333,       4732,   149.5,  21.3056,  35.3555,2,  35.3553,2,    204.1,1,  -999.0,9, -999.00,9, -999.00,9,  -999.0,     149,    21.2767, -999.00,9,     -999.0
33KB20131026,       PRS2,       2,         12,         16,       8016,2,20131028,       2351,  22.795833,-158.0198333,       4732,   200.8,  20.0672,  35.2170,2,-999.0000,5,    200.4,1,  -999.0,9, -999.00,9, -999.00,9,  -999.0,     200,    20.0299, -999.00,9,     -999.0
33KB20131026,       PRS2,       2,         12,         15,       8015,2,20131028,       2351,  22.795833,-158.0198333,       4732,   201.1,  20.0553,  35.2154,2,-999.0000,5,    200.2,1,  -999.0,9, -999.00,9, -999.00,9,  -999.0,     199,    20.0180, -999.00,9,     -999.0
33KB20131026,       PRS2,       2,         12,         14,       8014,2,20131028,       2351,  22.795833,-158.0198333,       4732,   250.6,  17.0115,  34.7003,2,  34.6936,2,    192.5,1,  -999.0,9, -999.00,9, -999.00,9,  -999.0,     249,    16.9702, -999.00,9,     -999.0
33KB20131026,       PRS2,       2,         12,         13,       8025,2,20131028,       2351,  22.795833,-158.0198333,       4732,   298.6,  14.5969,  34.4214,2,-999.0000,5,    198.3,1,  -999.0,9, -999.00,9, -999.00,9,  -999.0,     300,    14.5525, -999.00,9,     -999.0
33KB20131026,       PRS2,       2,         12,         12,       8012,2,20131028,       2351,  22.795833,-158.0198333,       4732,   298.5,  14.5392,  34.4170,2,-999.0000,5,    198.2,1,  -999.0,9, -999.00,9, -999.00,9,  -999.0,     301,    14.4950, -999.00,9,     -999.0
33KB20131026,       PRS2,       2,         12,         11,       8011,2,20131028,       2351,  22.795833,-158.0198333,       4732,   349.8,  11.5613,  34.1735,2,  34.1707,2,    194.4,1,  -999.0,9, -999.00,9, -999.00,9,  -999.0,     349,    11.5169, -999.00,9,     -999.0
33KB20131026,       PRS2,       2,         12,         10,       8010,2,20131028,       2351,  22.795833,-158.0198333,       4732,   400.9,   9.9553,  34.1195,2,-999.0000,5,    174.0,1,  -999.0,9, -999.00,9, -999.00,9,  -999.0,     398,     9.9090, -999.00,9,     -999.0
33KB20131026,       PRS2,       2,         12,          9,       8009,2,20131028,       2351,  22.795833,-158.0198333,       4732,   499.8,   7.7504,  34.0809,2,  34.0805,2,    120.3,1,  -999.0,9, -999.00,9, -999.00,9,  -999.0,     499,     7.7005, -999.00,9,     -999.0
33KB20131026,       PRS2,       2,         12,          8,       8008,2,20131028,       2351,  22.795833,-158.0198333,       4732,   499.9,   7.7459,  34.0805,2,-999.0000,5,    119.9,1,  -999.0,9, -999.00,9, -999.00,9,  -999.0,     500,     7.6959, -999.00,9,     -999.0
33KB20131026,       PRS2,       2,         12,          7,       8026,2,20131028,       2351,  22.795833,-158.0198333,       4732,   500.0,   7.7409,  34.0804,2,-999.0000,5,    119.3,1,  -999.0,9, -999.00,9, -999.00,9,  -999.0,     500,     7.6910, -999.00,9,     -999.0
33KB20131026,       PRS2,       2,         12,          6,       8006,2,20131028,       2351,  22.795833,-158.0198333,       4732,   600.7,   6.5097,  34.1878,2,-999.0000,5,     55.0,1,  -999.0,9, -999.00,9, -999.00,9,  -999.0,     599,     6.4548, -999.00,9,     -999.0
33KB20131026,       PRS2,       2,         12,          5,       8005,2,20131028,       2351,  22.795833,-158.0198333,       4732,   699.2,   5.0287,  34.1659,2,-999.0000,5,     49.4,1,  -999.0,9, -999.00,9, -999.00,9,  -999.0,     701,     4.9722, -999.00,9,     -999.0
33KB20131026,       PRS2,       2,         12,          4,       8004,2,20131028,       2351,  22.795833,-158.0198333,       4732,   771.2,   4.6569,  34.2895,2,-999.0000,5,     36.2,1,  -999.0,9, -999.00,9, -999.00,9,  -999.0,     771,     4.5963, -999.00,9,     -999.0
33KB20131026,       PRS2,       2,         12,          3,       8003,2,20131028,       2351,  22.795833,-158.0198333,       4732,   801.7,   4.6154,  34.3295,2,-999.0000,5,     35.8,1,  -999.0,9, -999.00,9, -999.00,9,  -999.0,     803,     4.5524, -999.00,9,     -999.0
33KB20131026,       PRS2,       2,         12,          2,       8002,2,20131028,       2351,  22.795833,-158.0198333,       4732,   899.9,   4.2271,  34.3749,2,-999.0000,5,     37.4,1,  -999.0,9, -999.00,9, -999.00,9,  -999.0,     900,     4.1583, -999.00,9,     -999.0
33KB20131026,       PRS2,       2,         12,          1,       8001,2,20131028,       2351,  22.795833,-158.0198333,       4732,  1020.8,   3.9192,  34.4588,2,  34.4601,2,     46.2,1,  -999.0,9, -999.00,9, -999.00,9,  -999.0,    1019,     3.8425, -999.00,9,     -999.0