BOTTLE,20141031SIOCCHAMB
EXPOCODE,SECT_ID,STNNBR,CASTNO,SAMPNO,BTLNBR,BTLNBR_FLAG_W,DATE,TIME,LATITUDE,LONGITUDE,DEPTH,CTDPRS,CTDTMP,CTDSAL,CTDSAL_FLAG_W,SALNTY,SALNTY_FLAG_W,CTDOXY,CTDOXY_FLAG_W,OXYGEN,OXYGEN_FLAG_W,SILCAT,SILCAT_FLAG_W,PHSPHT,PHSPHT_FLAG_W,REVPRS,CTDRAW,THETA,NO2+NO3,NO2+NO3_FLAG_W,REVTMP
,,,,,,,,,,,METERS,DBAR,ITS-90,PSS-78,,PSS-78,,UMOL/KG,,UMOL/KG,,UMOL/KG,,UMOL/KG,,DBAR,DBAR,ITS-90,UMOL/KG,,DEG C
33KB20131026,       PRS2,       2,         13,         20,       8020,2,20131029,       0250,  22.788833,-158.0311667,       4738,     6.4,  26.6712,  35.2582,2,-999.0000,5,    203.0,1,  -999.0,9, -999.00,9, -999.00,9,  -999.0,       9,    26.6697, -999.00,9,     -999.0
33KB20131026,       PRS2,       2,         13,         19,       8019,2,20131029,       0250,  22.788833,-158.0311667,       4738,     7.0,  26.7053,  35.2585,2,-999.0000,5,    202.8,1,  -999.0,9, -999.00,9, -999.00,9,  -999.0,       6,    26.7037, -999.00,9,     -999.0
33KB20131026,       PRS2,       2,         13,         18,       8018,2,20131029,       0250,  22.788833,-158.0311667,       4738,     8.5,  26.7066,  35.2582,2,-999.0000,5,    202.5,1,  -999.0,9, -999.00,9, -999.00,9,  -999.0,       5,    26.7046, -999.00,9,     -999.0
33KB20131026,       PRS2,       2,         13,         17,       8017,2,20131029,       0250,  22.788833,-158.0311667,       4738,     7.9,  26.7120,  35.2581,2,-999.0000,5,    202.2,1,  -999.0,9, -999.00,9, -999.00,9,  -999.0,       8,    26.7102, -999.00,9,     -999.0
33KB20131026,       PRS2,       2,         13,         16,       8016,2,20131029,       0250,  22.788833,-158.0311667,       4738,     7.0,  26.7160,  35.2592,2,-999.0000,5,    202.1,1,  -999.0,9, -999.00,9, -999.00,9,  -999.0,       9,    26.7144, -999.00,9,     -999.0
33KB20131026,       PRS2,       2,         13,         15,       8015,2,20131029,       0250,  22.788833,-158.0311667,       4738,     7.9,  26.6972,  35.2593,2,-999.0000,5,    201.9,1,  -999.0,9, -999.00,9, -999.00,9,  -999.0,       7,    26.6954, -999.00,9,     -999.0
33KB20131026,       PRS2,       2,         13,         14,       8014,2,20131029,       0250,  22.788833,-158.0311667,       4738,     8.0,  26.6444,  35.2576,2,-999.0000,5,    202.7,1,  -999.0,9, -999.00,9, -999.00,9,  -999.0,       6,    26.6426, -999.00,9,     -999.0
33KB20131026,       PRS2,       2,         13,         13,       8025,2,20131029,       0250,  22.788833,-158.0311667,       4738,     7.3,  26.6370,  35.2577,2,  35.2558,2,    202.8,1,  -999.0,9, -999.00,9, -999.00,9,  -999.0,       6,    26.6354, -999.00,9,     -999.0
33KB20131026,       PRS2,       2,         13,         12,       8012,2,20131029,       0250,  22.788833,-158.0311667,       4738,    24.6,  26.5073,  35.2393,2,-999.0000,5,    202.3,1,  -999.0,9, -999.00,9, -999.00,9,  -999.0,      24,    26.5018, -999.00,9,     -999.0
33KB20131026,       PRS2,       2,         13,         11,       8011,2,20131029,       0250,  22.788833,-158.0311667,       4738,    46.1,  26.5853,  35.3135,2,-999.0000,5,    203.0,1,  -999.0,9, -999.00,9, -999.00,9,  -999.0,      45,    26.5749, -999.00,9,     -999.0
33KB20131026,       PRS2,       2,         13,         10,       8010,2,20131029,       0250,  22.788833,-158.0311667,       4738,    75.0,  25.1741,  35.3119,2,-999.0000,5,    210.5,1,  -999.0,9, -999.00,9, -999.00,9,  -999.0,      75,    25.1577, -999.00,9,     -999.0
33KB20131026,       PRS2,       2,         13,          9,       8009,2,20131029,       0250,  22.788833,-158.0311667,       4738,    75.0,  25.1515,  35.3167,2,-999.0000,5,    211.1,1,  -999.0,9, -999.00,9, -999.00,9,  -999.0,      75,    25.1352, -999.00,9,     -999.0
33KB20131026,       PRS2,       2,         13,          8,       8008,2,20131029,       0250,  22.788833,-158.0311667,       4738,    75.2,  25.1298,  35.3167,2,-999.0000,5,    211.8,1,  -999.0,9, -999.00,9, -999.00,9,  -999.0,      74,    25.1134, -999.00,9,     -999.0
33KB20131026,       PRS2,       2,         13,          7,       8026,2,20131029,       0250,  22.788833,-158.0311667,       4738,    75.1,  25.1624,  35.3155,2,-999.0000,5,    212.5,1,  -999.0,9, -999.00,9, -999.00,9,  -999.0,      75,    25.1461, -999.00,9,     -999.0
33KB20131026,       PRS2,       2,         13,          6,       8006,2,20131029,       0250,  22.788833,-158.0311667,       4738,   100.7,  22.8104,  35.2833,2,-999.0000,5,    215.5,1,  -999.0,9, -999.00,9, -999.00,9,  -999.0,     102,    22.7900, -999.00,9,     -999.0
33KB20131026,       PRS2,       2,         13,          5,       8005,2,20131029,       0250,  22.788833,-158.0311667,       4738,   124.4,  21.8628,  35.2821,2,-999.0000,5,    209.8,1,  -999.0,9, -999.00,9, -999.00,9,  -999.0,     125,    21.8382, -999.00,9,     -999.0
33KB20131026,       PRS2,       2,         13,          4,       8004,2,20131029,       0250,  22.788833,-158.0311667,       4738,   150.3,  21.2939,  35.3228,2,-999.0000,5,    203.7,1,  -999.0,9, -999.00,9, -999.00,9,  -999.0,     150,    21.2648, -999.00,9,     -999.0
33KB20131026,       PRS2,       2,         13,          3,       8003,2,20131029,       0250,  22.788833,-158.0311667,       4738,   172.2,  20.7867,  35.3323,2,-999.0000,5,    202.4,1,  -999.0,9, -999.00,9, -999.00,9,  -999.0,     175,    20.7539, -999.00,9,     -999.0
33KB20131026,       PRS2,       2,         13,          2,       8002,2,20131029,       0250,  22.788833,-158.0311667,       4738,   500.4,   7.3961,  34.0836,2,  34.0813,2,    111.4,1,  -999.0,9, -999.00,9, -999.00,9,  -999.0,     502,     7.3474, -999.00,9,     -999.0
33KB20131026,       PRS2,       2,         13,          1,       8001,2,20131029,       0250,  22.788833,-158.0311667,       4738,  1019.7,   3.9027,  34.4622,2,  34.4626,2,     46.2,1,  -999.0,9, -999.00,9, -999.00,9,  -999.0,    1021,     3.8263, -999.00,9,     -999.0
33KB20131026,       PRS2,       2,         14,         22,       8022,2,20131029,       0552,  22.750167,-158.0001667,       4743,     7.7,  26.5011,  35.2066,2,  35.2093,2,    203.2,1,  -999.0,9, -999.00,9, -999.00,9,  -999.0,       6,    26.4994, -999.00,9,     -999.0
33KB20131026,       PRS2,       2,         14,         21,       8021,2,20131029,       0552,  22.750167,-158.0001667,       4743,     7.5,  26.5089,  35.2071,2,  35.2119,2,    203.3,1,  -999.0,9, -999.00,9, -999.00,9,  -999.0,       7,    26.5072, -999.00,9,     -999.0
33KB20131026,       PRS2,       2,         14,         20,       8020,2,20131029,       0552,  22.750167,-158.0001667,       4743,    25.2,  26.4196,  35.2082,2,  35.2063,2,    202.8,1,  -999.0,9, -999.00,9, -999.00,9,  -999.0,      25,    26.4139, -999.00,9,     -999.0
33KB20131026,       PRS2,       2,         14,         19,       8019,2,20131029,       0552,  22.750167,-158.0001667,       4743,    24.9,  26.4204,  35.2086,2,  35.2079,2,    202.8,1,  -999.0,9, -999.00,9, -999.00,9,  -999.0,      25,    26.4147, -999.00,9,     -999.0
33KB20131026,       PRS2,       2,         14,         18,       8018,2,20131029,       0552,  22.750167,-158.0001667,       4743,    43.7,  26.3499,  35.1959,2,  35.2026,2,    203.1,1,  -999.0,9, -999.00,9, -999.00,9,  -999.0,      44,    26.3401, -999.00,9,     -999.0
33KB20131026,       PRS2,       2,         14,         17,       8017,2,20131029,       0552,  22.750167,-158.0001667,       4743,    43.9,  26.3501,  35.1961,2,  35.2050,2,    203.2,1,  -999.0,9, -999.00,9, -999.00,9,  -999.0,      44,    26.3402, -999.00,9,     -999.0
33KB20131026,       PRS2,       2,         14,         16,       8016,2,20131029,       0552,  22.750167,-158.0001667,       4743,    59.5,  26.2617,  35.3737,2,  35.3762,2,    203.1,1,  -999.0,9, -999.00,9, -999.00,9,  -999.0,      60,    26.2483, -999.00,9,     -999.0
33KB20131026,       PRS2,       2,         14,         15,       8015,2,20131029,       0552,  22.750167,-158.0001667,       4743,    75.1,  24.7915,  35.3328,2,  35.3356,2,    214.0,1,  -999.0,9, -999.00,9, -999.00,9,  -999.0,      72,    24.7753, -999.00,9,     -999.0
33KB20131026,       PRS2,       2,         14,         14,       8014,2,20131029,       0552,  22.750167,-158.0001667,       4743,    73.9,  24.7709,  35.3307,2,  35.3342,2,    214.1,1,  -999.0,9, -999.00,9, -999.00,9,  -999.0,      76,    24.7550, -999.00,9,     -999.0
33KB20131026,       PRS2,       2,         14,         13,       8025,2,20131029,       0552,  22.750167,-158.0001667,       4743,    85.3,  24.1257,  35.2842,2,  35.2891,2,    216.1,1,  -999.0,9, -999.00,9, -999.00,9,  -999.0,      83,    24.1077, -999.00,9,     -999.0
33KB20131026,       PRS2,       2,         14,         12,       8012,2,20131029,       0552,  22.750167,-158.0001667,       4743,    99.9,  22.8397,  35.2565,2,  35.2515,2,    218.6,1,  -999.0,9, -999.00,9, -999.00,9,  -999.0,      99,    22.8194, -999.00,9,     -999.0
33KB20131026,       PRS2,       2,         14,         11,       8011,2,20131029,       0552,  22.750167,-158.0001667,       4743,    99.6,  22.8483,  35.2541,2,  35.2524,2,    218.4,1,  -999.0,9, -999.00,9, -999.00,9,  -999.0,      99,    22.8280, -999.00,9,     -999.0
33KB20131026,       PRS2,       2,         14,         10,       8010,2,20131029,       0552,  22.750167,-158.0001667,       4743,   113.2,  22.1033,  35.2926,2,  35.2919,2,    211.2,1,  -999.0,9, -999.00,9, -999.00,9,  -999.0,     113,    22.0808, -999.00,9,     -999.0
33KB20131026,       PRS2,       2,         14,          9,       8009,2,20131029,       0552,  22.750167,-158.0001667,       4743,   124.3,  21.7924,  35.2856,2,  35.2854,2,    207.8,1,  -999.0,9, -999.00,9, -999.00,9,  -999.0,     122,    21.7680, -999.00,9,     -999.0
33KB20131026,       PRS2,       2,         14,          8,       8008,2,20131029,       0552,  22.750167,-158.0001667,       4743,   124.0,  21.7918,  35.2855,2,  35.2854,2,    207.9,1,  -999.0,9, -999.00,9, -999.00,9,  -999.0,     124,    21.7674, -999.00,9,     -999.0
33KB20131026,       PRS2,       2,         14,          7,       8026,2,20131029,       0552,  22.750167,-158.0001667,       4743,   135.1,  21.5636,  35.3131,2,  35.3112,2,    206.4,1,  -999.0,9, -999.00,9, -999.00,9,  -999.0,     136,    21.5372, -999.00,9,     -999.0
33KB20131026,       PRS2,       2,         14,          6,       8006,2,20131029,       0552,  22.750167,-158.0001667,       4743,   152.3,  21.2769,  35.3278,2,  35.3269,2,    204.6,1,  -999.0,9, -999.00,9, -999.00,9,  -999.0,     153,    21.2474, -999.00,9,     -999.0
33KB20131026,       PRS2,       2,         14,          5,       8005,2,20131029,       0552,  22.750167,-158.0001667,       4743,   152.4,  21.2775,  35.3275,2,  35.3258,2,    204.4,1,  -999.0,9, -999.00,9, -999.00,9,  -999.0,     152,    21.2480, -999.00,9,     -999.0
33KB20131026,       PRS2,       2,         14,          4,       8004,2,20131029,       0552,  22.750167,-158.0001667,       4743,   177.0,  20.7549,  35.3102,2,  35.3177,2,    201.7,1,  -999.0,9, -999.00,9, -999.00,9,  -999.0,     175,    20.7212, -999.00,9,     -999.0
33KB20131026,       PRS2,       2,         14,          3,       8003,2,20131029,       0552,  22.750167,-158.0001667,       4743,   176.4,  20.8029,  35.3145,2,  35.3167,2,    201.9,1,  -999.0,9, -999.00,9, -999.00,9,  -999.0,     177,    20.7693, -999.00,9,     -999.0
33KB20131026,       PRS2,       2,         14,          2,       8002,2,20131029,       0552,  22.750167,-158.0001667,       4743,   499.5,   7.7847,  34.0933,2,  34.0929,2,    113.0,1,  -999.0,9, -999.00,9, -999.00,9,  -999.0,     498,     7.7347, -999.00,9,     -999.0
33KB20131026,       PRS2,       2,         14,          1,       8001,2,20131029,       0552,  22.750167,-158.0001667,       4743,  1019.8,   3.9243,  34.4597,2,  34.4650,2,     45.5,1,  -999.0,9, -999.00,9, -999.00,9,  -999.0,    1020,     3.8477, -999.00,9,     -999.0
33KB20131026,       PRS2,       2,         15,         17,       8017,2,20131029,       0855,  22.750000,-157.9996667,       4742,     7.6,  26.5239,  35.2213,2,  35.2209,2,    202.9,2,  -999.0,5, -999.00,9, -999.00,9,  -999.0,       8,    26.5222, -999.00,9,     -999.0
33KB20131026,       PRS2,       2,         15,         16,       8016,2,20131029,       0855,  22.750000,-157.9996667,       4742,     1.9,  26.5470,  35.2275,2,-999.0000,5,    202.9,2,  -999.0,5, -999.00,9, -999.00,9,  -999.0,       2,    26.5466, -999.00,9,     -999.0
33KB20131026,       PRS2,       2,         15,         15,       8015,2,20131029,       0855,  22.750000,-157.9996667,       4742,    80.4,  24.2186,  35.2520,2,  35.2635,2,    216.2,2,   217.0,2, -999.00,9, -999.00,9,  -999.0,      80,    24.2016, -999.00,9,     -999.0
33KB20131026,       PRS2,       2,         15,         14,       8014,2,20131029,       0855,  22.750000,-157.9996667,       4742,   500.8,   7.2824,  34.0893,2,  34.0870,2,    103.6,2,    99.0,2, -999.00,9, -999.00,9,  -999.0,     502,     7.2341, -999.00,9,     -999.0
33KB20131026,       PRS2,       2,         15,         13,       8025,2,20131029,       0855,  22.750000,-157.9996667,       4742,   849.9,   4.4248,  34.3403,2,  34.3403,2,     35.7,2,    35.0,2, -999.00,9, -999.00,9,  -999.0,     851,     4.3588, -999.00,9,     -999.0
33KB20131026,       PRS2,       2,         15,         12,       8012,2,20131029,       0855,  22.750000,-157.9996667,       4742,  1000.4,   4.0046,  34.4404,2,-999.0000,5,     43.6,2,  -999.0,5, -999.00,9, -999.00,9,  -999.0,    1000,     3.9290, -999.00,9,     -999.0
33KB20131026,       PRS2,       2,         15,         11,       8011,2,20131029,       0855,  22.750000,-157.9996667,       4742,  2000.3,   2.1523,  34.6162,2,-999.0000,5,     87.6,2,  -999.0,5, -999.00,9, -999.00,9,  -999.0,    2000,     2.0136, -999.00,9,     -999.0
33KB20131026,       PRS2,       2,         15,         10,       8010,2,20131029,       0855,  22.750000,-157.9996667,       4742,  2000.0,   2.1514,  34.6166,2,  34.6166,2,     87.7,2,    88.6,2, -999.00,9, -999.00,9,  -999.0,    1999,     2.0127, -999.00,9,     -999.0
33KB20131026,       PRS2,       2,         15,          9,       8009,2,20131029,       0855,  22.750000,-157.9996667,       4742,  3001.2,   1.5658,  34.6653,2,-999.0000,5,    121.5,2,  -999.0,5, -999.00,9, -999.00,9,  -999.0,    3001,     1.3475, -999.00,9,     -999.0
33KB20131026,       PRS2,       2,         15,          8,       8008,2,20131029,       0855,  22.750000,-157.9996667,       4742,  3001.3,   1.5655,  34.6653,2,  34.6651,2,    121.6,2,   121.8,2, -999.00,9, -999.00,9,  -999.0,    3000,     1.3472, -999.00,9,     -999.0
33KB20131026,       PRS2,       2,         15,          7,       8026,2,20131029,       0855,  22.750000,-157.9996667,       4742,  4003.2,   1.4626,  34.6838,2,-999.0000,5,    146.5,2,  -999.0,5, -999.00,9, -999.00,9,  -999.0,    4004,     1.1444, -999.00,9,     -999.0
33KB20131026,       PRS2,       2,         15,          6,       8006,2,20131029,       0855,  22.750000,-157.9996667,       4742,  4002.3,   1.4623,  34.6840,2,-999.0000,5,    146.6,2,  -999.0,5, -999.00,9, -999.00,9,  -999.0,    4007,     1.1442, -999.00,9,     -999.0
33KB20131026,       PRS2,       2,         15,          5,       8005,2,20131029,       0855,  22.750000,-157.9996667,       4742,  4002.9,   1.4622,  34.6837,2,-999.0000,5,    146.6,2,  -999.0,5, -999.00,9, -999.00,9,  -999.0,    4005,     1.1441, -999.00,9,     -999.0
33KB20131026,       PRS2,       2,         15,          4,       8004,2,20131029,       0855,  22.750000,-157.9996667,       4742,  4003.0,   1.4625,  34.6837,2,-999.0000,5,    146.6,2,  -999.0,5, -999.00,9, -999.00,9,  -999.0,    4002,     1.1443, -999.00,9,     -999.0
33KB20131026,       PRS2,       2,         15,          3,       8003,2,20131029,       0855,  22.750000,-157.9996667,       4742,  4002.8,   1.4626,  34.6838,2,-999.0000,5,    146.7,2,  -999.0,5, -999.00,9, -999.00,9,  -999.0,    4002,     1.1444, -999.00,9,     -999.0
33KB20131026,       PRS2,       2,         15,          2,       8002,2,20131029,       0855,  22.750000,-157.9996667,       4742,  4002.3,   1.4623,  34.6839,2,  34.6842,2,    146.7,2,   146.5,2, -999.00,9, -999.00,9,  -999.0,    3999,     1.1443, -999.00,9,     -999.0
33KB20131026,       PRS2,       2,         15,          1,       8001,2,20131029,       0855,  22.750000,-157.9996667,       4742,  4806.2,   1.5140,  34.6874,2,  34.6879,2,    152.7,2,   152.2,2, -999.00,9, -999.00,9,  -999.0,    4808,     1.1027, -999.00,9,     -999.0