BOTTLE,20141031SIOCCHAMB
EXPOCODE,SECT_ID,STNNBR,CASTNO,SAMPNO,BTLNBR,BTLNBR_FLAG_W,DATE,TIME,LATITUDE,LONGITUDE,DEPTH,CTDPRS,CTDTMP,CTDSAL,CTDSAL_FLAG_W,SALNTY,SALNTY_FLAG_W,CTDOXY,CTDOXY_FLAG_W,OXYGEN,OXYGEN_FLAG_W,SILCAT,SILCAT_FLAG_W,PHSPHT,PHSPHT_FLAG_W,REVPRS,CTDRAW,THETA,NO2+NO3,NO2+NO3_FLAG_W,REVTMP
,,,,,,,,,,,METERS,DBAR,ITS-90,PSS-78,,PSS-78,,UMOL/KG,,UMOL/KG,,UMOL/KG,,UMOL/KG,,DBAR,DBAR,ITS-90,UMOL/KG,,DEG C
33KB20131026,       PRS2,       2,          6,         23,       8023,2,20131028,       0551,  22.774500,-158.0275000,       4711,     6.5,  26.4796,  35.1743,2,  35.1752,2,    202.4,2,  -999.0,5, -999.00,9, -999.00,9,  -999.0,       6,    26.4781, -999.00,9,     -999.0
33KB20131026,       PRS2,       2,          6,         22,       8022,2,20131028,       0551,  22.774500,-158.0275000,       4711,     6.5,  26.4796,  35.1744,2,  35.1742,2,    202.5,2,   203.6,2, -999.00,9, -999.00,9,  -999.0,       6,    26.4782, -999.00,9,     -999.0
33KB20131026,       PRS2,       2,          6,         21,       8021,2,20131028,       0551,  22.774500,-158.0275000,       4711,    16.2,  26.4172,  35.1743,2,  35.1805,2,    203.3,2,  -999.0,5, -999.00,9, -999.00,9,  -999.0,      15,    26.4136, -999.00,9,     -999.0
33KB20131026,       PRS2,       2,          6,         20,       8020,2,20131028,       0551,  22.774500,-158.0275000,       4711,    25.4,  26.3895,  35.1684,2,  35.1681,2,    203.2,2,  -999.0,5, -999.00,9, -999.00,9,  -999.0,      24,    26.3838, -999.00,9,     -999.0
33KB20131026,       PRS2,       2,          6,         19,       8019,2,20131028,       0551,  22.774500,-158.0275000,       4711,    25.4,  26.3902,  35.1688,2,  35.1687,2,    203.4,2,   204.1,2, -999.00,9, -999.00,9,  -999.0,      25,    26.3845, -999.00,9,     -999.0
33KB20131026,       PRS2,       2,          6,         18,       8018,2,20131028,       0551,  22.774500,-158.0275000,       4711,    35.5,  26.3378,  35.1541,2,  35.1542,2,    203.4,2,  -999.0,5, -999.00,9, -999.00,9,  -999.0,      34,    26.3299, -999.00,9,     -999.0
33KB20131026,       PRS2,       2,          6,         17,       8017,2,20131028,       0551,  22.774500,-158.0275000,       4711,    45.0,  26.3293,  35.1539,2,  35.1549,2,    203.3,2,   204.1,2, -999.00,9, -999.00,9,  -999.0,      45,    26.3192, -999.00,9,     -999.0
33KB20131026,       PRS2,       2,          6,         16,       8016,2,20131028,       0551,  22.774500,-158.0275000,       4711,    60.9,  25.0519,  35.1284,2,  35.1317,2,    216.4,2,  -999.0,5, -999.00,9, -999.00,9,  -999.0,      60,    25.0387, -999.00,9,     -999.0
33KB20131026,       PRS2,       2,          6,         15,       8015,2,20131028,       0551,  22.774500,-158.0275000,       4711,    75.0,  24.1773,  35.1899,2,  35.1941,2,    219.8,2,   220.2,2, -999.00,9, -999.00,9,  -999.0,      75,    24.1614, -999.00,9,     -999.0
33KB20131026,       PRS2,       2,          6,         14,       8014,2,20131028,       0551,  22.774500,-158.0275000,       4711,    85.6,  23.1338,  35.1660,2,  35.1863,3,    219.1,3,   218.6,2, -999.00,9, -999.00,9,  -999.0,      85,    23.1163, -999.00,9,     -999.0
33KB20131026,       PRS2,       2,          6,         13,       8025,2,20131028,       0551,  22.774500,-158.0275000,       4711,    90.6,  23.0430,  35.2033,2,  35.2052,2,    218.8,2,  -999.0,5, -999.00,9, -999.00,9,  -999.0,      90,    23.0245, -999.00,9,     -999.0
33KB20131026,       PRS2,       2,          6,         12,       8012,2,20131028,       0551,  22.774500,-158.0275000,       4711,   100.2,  22.5848,  35.2140,2,  35.2186,2,    216.8,2,   215.9,2, -999.00,9, -999.00,9,  -999.0,      99,    22.5646, -999.00,9,     -999.0
33KB20131026,       PRS2,       2,          6,         11,       8011,2,20131028,       0551,  22.774500,-158.0275000,       4711,   109.8,  22.3831,  35.2359,2,  35.2371,2,    214.5,2,  -999.0,5, -999.00,9, -999.00,9,  -999.0,     109,    22.3611, -999.00,9,     -999.0
33KB20131026,       PRS2,       2,          6,         10,       8010,2,20131028,       0551,  22.774500,-158.0275000,       4711,   114.8,  22.3494,  35.2412,2,  35.2436,2,    214.3,2,   213.9,2, -999.00,9, -999.00,9,  -999.0,     114,    22.3264, -999.00,9,     -999.0
33KB20131026,       PRS2,       2,          6,          9,       8009,2,20131028,       0551,  22.774500,-158.0275000,       4711,   126.0,  22.0083,  35.2870,2,  35.2871,2,    211.8,2,   211.0,2, -999.00,9, -999.00,9,  -999.0,     124,    21.9834, -999.00,9,     -999.0
33KB20131026,       PRS2,       2,          6,          8,       8008,2,20131028,       0551,  22.774500,-158.0275000,       4711,   130.2,  21.7934,  35.2929,2,  35.2934,2,    207.9,2,  -999.0,5, -999.00,9, -999.00,9,  -999.0,     131,    21.7678, -999.00,9,     -999.0
33KB20131026,       PRS2,       2,          6,          7,       8026,2,20131028,       0551,  22.774500,-158.0275000,       4711,   150.2,  21.3135,  35.3435,2,  35.3425,2,    204.6,2,   204.2,2, -999.00,9, -999.00,9,  -999.0,     150,    21.2844, -999.00,9,     -999.0
33KB20131026,       PRS2,       2,          6,          6,       8006,2,20131028,       0551,  22.774500,-158.0275000,       4711,   166.0,  21.0813,  35.3383,2,  35.3376,2,    203.9,2,   203.0,2, -999.00,9, -999.00,9,  -999.0,     165,    21.0494, -999.00,9,     -999.0
33KB20131026,       PRS2,       2,          6,          5,       8005,2,20131028,       0551,  22.774500,-158.0275000,       4711,   175.8,  20.8233,  35.3261,2,  35.3269,2,    203.1,2,   202.0,2, -999.00,9, -999.00,9,  -999.0,     175,    20.7898, -999.00,9,     -999.0
33KB20131026,       PRS2,       2,          6,          4,       8004,2,20131028,       0551,  22.774500,-158.0275000,       4711,   199.9,  20.3962,  35.2778,2,  35.2783,2,    201.0,2,   201.0,2, -999.00,9, -999.00,9,  -999.0,     199,    20.3586, -999.00,9,     -999.0
33KB20131026,       PRS2,       2,          6,          3,       8003,2,20131028,       0551,  22.774500,-158.0275000,       4711,   500.8,   7.5969,  34.0813,2,  34.0829,2,    113.9,2,   109.7,2, -999.00,9, -999.00,9,  -999.0,     501,     7.5474, -999.00,9,     -999.0
33KB20131026,       PRS2,       2,          6,          2,       8002,2,20131028,       0551,  22.774500,-158.0275000,       4711,   800.1,   4.4508,  34.3062,2,  34.3080,2,     35.7,2,    35.2,2, -999.00,9, -999.00,9,  -999.0,     800,     4.3890, -999.00,9,     -999.0
33KB20131026,       PRS2,       2,          6,          1,       8001,2,20131028,       0551,  22.774500,-158.0275000,       4711,  1020.1,   3.9019,  34.4607,2,  34.4638,2,     46.6,2,    47.2,2, -999.00,9, -999.00,9,  -999.0,    1018,     3.8255, -999.00,9,     -999.0
33KB20131026,       PRS2,       2,          7,         10,       8010,2,20131028,       0909,  22.774333,-158.0100000,       4731,     7.8,  26.4602,  35.1685,2,  35.1689,2,    201.9,1,  -999.0,9, -999.00,9, -999.00,9,  -999.0,       8,    26.4585, -999.00,9,     -999.0
33KB20131026,       PRS2,       2,          7,          9,       8009,2,20131028,       0909,  22.774333,-158.0100000,       4731,    25.8,  26.3878,  35.1740,2,  35.1744,2,    203.1,1,  -999.0,9, -999.00,9, -999.00,9,  -999.0,      26,    26.3820, -999.00,9,     -999.0
33KB20131026,       PRS2,       2,          7,          8,       8008,2,20131028,       0909,  22.774333,-158.0100000,       4731,    45.2,  26.4413,  35.2109,2,  35.2237,2,    203.3,1,  -999.0,9, -999.00,9, -999.00,9,  -999.0,      45,    26.4311, -999.00,9,     -999.0
33KB20131026,       PRS2,       2,          7,          7,       8026,2,20131028,       0909,  22.774333,-158.0100000,       4731,    75.0,  24.7478,  35.1609,2,  35.1587,2,    217.4,1,  -999.0,9, -999.00,9, -999.00,9,  -999.0,      75,    24.7317, -999.00,9,     -999.0
33KB20131026,       PRS2,       2,          7,          6,       8006,2,20131028,       0909,  22.774333,-158.0100000,       4731,   100.2,  23.0695,  35.2505,2,  35.2538,2,    218.0,1,  -999.0,9, -999.00,9, -999.00,9,  -999.0,      99,    23.0490, -999.00,9,     -999.0
33KB20131026,       PRS2,       2,          7,          5,       8005,2,20131028,       0909,  22.774333,-158.0100000,       4731,   125.6,  21.9672,  35.2704,2,  35.2733,2,    210.2,1,  -999.0,9, -999.00,9, -999.00,9,  -999.0,     125,    21.9424, -999.00,9,     -999.0
33KB20131026,       PRS2,       2,          7,          4,       8004,2,20131028,       0909,  22.774333,-158.0100000,       4731,   150.9,  21.4089,  35.3344,2,  35.3334,2,    204.2,1,  -999.0,9, -999.00,9, -999.00,9,  -999.0,     151,    21.3796, -999.00,9,     -999.0
33KB20131026,       PRS2,       2,          7,          3,       8003,2,20131028,       0909,  22.774333,-158.0100000,       4731,   175.3,  20.9420,  35.3273,2,  35.3283,2,    201.7,1,  -999.0,9, -999.00,9, -999.00,9,  -999.0,     175,    20.9084, -999.00,9,     -999.0
33KB20131026,       PRS2,       2,          7,          2,       8002,2,20131028,       0909,  22.774333,-158.0100000,       4731,   500.7,   7.3566,  34.0929,2,  34.0885,2,    100.6,1,  -999.0,9, -999.00,9, -999.00,9,  -999.0,     500,     7.3080, -999.00,9,     -999.0
33KB20131026,       PRS2,       2,          7,          1,       8001,2,20131028,       0909,  22.774333,-158.0100000,       4731,  1019.7,   3.9112,  34.4603,2,  34.4636,2,     46.3,1,  -999.0,9, -999.00,9, -999.00,9,  -999.0,    1019,     3.8347, -999.00,9,     -999.0
33KB20131026,       PRS2,       2,          8,         14,       8014,2,20131028,       1156,  22.749167,-158.0168333,       4741,     8.2,  26.4506,  35.1683,2,  35.1677,2,    203.0,1,  -999.0,9, -999.00,9, -999.00,9,  -999.0,       7,    26.4488, -999.00,9,     -999.0
33KB20131026,       PRS2,       2,          8,         13,       8025,2,20131028,       1156,  22.749167,-158.0168333,       4741,     7.9,  26.4547,  35.1680,2,  35.1679,2,    203.3,1,  -999.0,9, -999.00,9, -999.00,9,  -999.0,       7,    26.4530, -999.00,9,     -999.0
33KB20131026,       PRS2,       2,          8,         12,       8012,2,20131028,       1156,  22.749167,-158.0168333,       4741,    24.8,  26.3632,  35.1583,2,  35.1585,2,    202.9,1,  -999.0,9, -999.00,9, -999.00,9,  -999.0,      24,    26.3576, -999.00,9,     -999.0
33KB20131026,       PRS2,       2,          8,         11,       8011,2,20131028,       1156,  22.749167,-158.0168333,       4741,    25.1,  26.3633,  35.1585,2,  35.1593,2,    202.7,1,  -999.0,9, -999.00,9, -999.00,9,  -999.0,      23,    26.3577, -999.00,9,     -999.0
33KB20131026,       PRS2,       2,          8,         10,       8010,2,20131028,       1156,  22.749167,-158.0168333,       4741,    46.2,  26.3379,  35.1570,2,  35.1585,2,    204.3,1,  -999.0,9, -999.00,9, -999.00,9,  -999.0,      45,    26.3275, -999.00,9,     -999.0
33KB20131026,       PRS2,       2,          8,          9,       8009,2,20131028,       1156,  22.749167,-158.0168333,       4741,    46.2,  26.3377,  35.1572,2,  35.1587,2,    204.1,1,  -999.0,9, -999.00,9, -999.00,9,  -999.0,      44,    26.3273, -999.00,9,     -999.0
33KB20131026,       PRS2,       2,          8,          8,       8008,2,20131028,       1156,  22.749167,-158.0168333,       4741,    74.2,  24.0884,  35.1836,2,  35.1811,2,    219.8,1,  -999.0,9, -999.00,9, -999.00,9,  -999.0,      75,    24.0727, -999.00,9,     -999.0
33KB20131026,       PRS2,       2,          8,          7,       8026,2,20131028,       1156,  22.749167,-158.0168333,       4741,    74.4,  24.0692,  35.1898,2,  35.1863,2,    219.7,1,  -999.0,9, -999.00,9, -999.00,9,  -999.0,      75,    24.0535, -999.00,9,     -999.0
33KB20131026,       PRS2,       2,          8,          6,       8006,2,20131028,       1156,  22.749167,-158.0168333,       4741,    99.9,  22.4294,  35.2376,2,  35.2363,2,    214.3,1,  -999.0,9, -999.00,9, -999.00,9,  -999.0,     100,    22.4094, -999.00,9,     -999.0
33KB20131026,       PRS2,       2,          8,          5,       8005,2,20131028,       1156,  22.749167,-158.0168333,       4741,    99.9,  22.4290,  35.2373,2,  35.2363,2,    214.3,1,  -999.0,9, -999.00,9, -999.00,9,  -999.0,      99,    22.4090, -999.00,9,     -999.0
33KB20131026,       PRS2,       2,          8,          4,       8004,2,20131028,       1156,  22.749167,-158.0168333,       4741,   125.9,  21.8208,  35.2882,2,  35.2857,2,    207.7,1,  -999.0,9, -999.00,9, -999.00,9,  -999.0,     126,    21.7960, -999.00,9,     -999.0
33KB20131026,       PRS2,       2,          8,          3,       8003,2,20131028,       1156,  22.749167,-158.0168333,       4741,   126.2,  21.8119,  35.2883,2,  35.2861,2,    209.0,1,  -999.0,9, -999.00,9, -999.00,9,  -999.0,     125,    21.7870, -999.00,9,     -999.0
33KB20131026,       PRS2,       2,          8,          2,       8002,2,20131028,       1156,  22.749167,-158.0168333,       4741,   475.3,   8.1710,  34.0857,2,  34.0868,2,    125.4,1,  -999.0,9, -999.00,9, -999.00,9,  -999.0,     476,     8.1221, -999.00,9,     -999.0
33KB20131026,       PRS2,       2,          8,          1,       8001,2,20131028,       1156,  22.749167,-158.0168333,       4741,  1020.1,   3.9774,  34.4490,2,  34.4508,2,     44.8,1,  -999.0,9, -999.00,9, -999.00,9,  -999.0,    1017,     3.9004, -999.00,9,     -999.0
33KB20131026,       PRS2,       2,          9,         18,       8018,2,20131028,       1453,  22.750000,-158.0001667,       4743,     7.6,  26.5091,  35.1854,2,  35.1815,2,    202.8,1,  -999.0,9, -999.00,9, -999.00,9,  -999.0,       8,    26.5074, -999.00,9,     -999.0
33KB20131026,       PRS2,       2,          9,         17,       8017,2,20131028,       1453,  22.750000,-158.0001667,       4743,   299.9,  13.2860,  34.3052,2,-999.0000,5,    202.2,1,  -999.0,9, -999.00,9, -999.00,9,  -999.0,     300,    13.2443, -999.00,9,     -999.0
33KB20131026,       PRS2,       2,          9,         16,       8016,2,20131028,       1453,  22.750000,-158.0001667,       4743,   299.6,  13.2971,  34.3078,2,-999.0000,5,    202.3,1,  -999.0,9, -999.00,9, -999.00,9,  -999.0,     300,    13.2554, -999.00,9,     -999.0
33KB20131026,       PRS2,       2,          9,         15,       8015,2,20131028,       1453,  22.750000,-158.0001667,       4743,   299.8,  13.3030,  34.3066,2,-999.0000,5,    202.3,1,  -999.0,9, -999.00,9, -999.00,9,  -999.0,     299,    13.2613, -999.00,9,     -999.0
33KB20131026,       PRS2,       2,          9,         14,       8014,2,20131028,       1453,  22.750000,-158.0001667,       4743,   299.6,  13.3106,  34.3063,2,-999.0000,5,    202.4,1,  -999.0,9, -999.00,9, -999.00,9,  -999.0,     300,    13.2689, -999.00,9,     -999.0
33KB20131026,       PRS2,       2,          9,         13,       8025,2,20131028,       1453,  22.750000,-158.0001667,       4743,   299.0,  13.3149,  34.3078,2,-999.0000,5,    202.4,1,  -999.0,9, -999.00,9, -999.00,9,  -999.0,     302,    13.2732, -999.00,9,     -999.0
33KB20131026,       PRS2,       2,          9,         12,       8012,2,20131028,       1453,  22.750000,-158.0001667,       4743,   300.3,  13.2816,  34.3056,2,-999.0000,5,    202.4,1,  -999.0,9, -999.00,9, -999.00,9,  -999.0,     298,    13.2399, -999.00,9,     -999.0
33KB20131026,       PRS2,       2,          9,         11,       8011,2,20131028,       1453,  22.750000,-158.0001667,       4743,   500.4,   7.6822,  34.1009,2,  34.1003,2,    104.7,1,  -999.0,9, -999.00,9, -999.00,9,  -999.0,     501,     7.6324, -999.00,9,     -999.0
33KB20131026,       PRS2,       2,          9,         10,       8010,2,20131028,       1453,  22.750000,-158.0001667,       4743,  1021.6,   3.8773,  34.4670,2,-999.0000,5,     47.2,1,  -999.0,9, -999.00,9, -999.00,9,  -999.0,    1021,     3.8008, -999.00,9,     -999.0
33KB20131026,       PRS2,       2,          9,          9,       8009,2,20131028,       1453,  22.750000,-158.0001667,       4743,  1021.3,   3.8777,  34.4670,2,-999.0000,5,     47.2,1,  -999.0,9, -999.00,9, -999.00,9,  -999.0,    1022,     3.8013, -999.00,9,     -999.0
33KB20131026,       PRS2,       2,          9,          8,       8008,2,20131028,       1453,  22.750000,-158.0001667,       4743,  1022.3,   3.8754,  34.4674,2,-999.0000,5,     47.2,1,  -999.0,9, -999.00,9, -999.00,9,  -999.0,    1019,     3.7989, -999.00,9,     -999.0
33KB20131026,       PRS2,       2,          9,          7,       8026,2,20131028,       1453,  22.750000,-158.0001667,       4743,  1022.3,   3.8761,  34.4675,2,-999.0000,5,     47.2,1,  -999.0,9, -999.00,9, -999.00,9,  -999.0,    1019,     3.7996, -999.00,9,     -999.0
33KB20131026,       PRS2,       2,          9,          6,       8006,2,20131028,       1453,  22.750000,-158.0001667,       4743,  1021.1,   3.8771,  34.4671,2,-999.0000,5,     47.2,1,  -999.0,9, -999.00,9, -999.00,9,  -999.0,    1024,     3.8007, -999.00,9,     -999.0
33KB20131026,       PRS2,       2,          9,          5,       8005,2,20131028,       1453,  22.750000,-158.0001667,       4743,  1021.7,   3.8776,  34.4665,2,-999.0000,5,     47.2,1,  -999.0,9, -999.00,9, -999.00,9,  -999.0,    1022,     3.8011, -999.00,9,     -999.0
33KB20131026,       PRS2,       2,          9,          4,       8004,2,20131028,       1453,  22.750000,-158.0001667,       4743,  1022.4,   3.8782,  34.4675,2,-999.0000,5,     47.3,1,  -999.0,9, -999.00,9, -999.00,9,  -999.0,    1020,     3.8017, -999.00,9,     -999.0
33KB20131026,       PRS2,       2,          9,          3,       8003,2,20131028,       1453,  22.750000,-158.0001667,       4743,  1021.7,   3.8799,  34.4664,2,-999.0000,5,     47.3,1,  -999.0,9, -999.00,9, -999.00,9,  -999.0,    1021,     3.8034, -999.00,9,     -999.0
33KB20131026,       PRS2,       2,          9,          2,       8002,2,20131028,       1453,  22.750000,-158.0001667,       4743,  1020.8,   3.8812,  34.4667,2,-999.0000,5,     47.4,1,  -999.0,9, -999.00,9, -999.00,9,  -999.0,    1023,     3.8048, -999.00,9,     -999.0
33KB20131026,       PRS2,       2,          9,          1,       8001,2,20131028,       1453,  22.750000,-158.0001667,       4743,  1021.5,   3.8826,  34.4662,2,  34.4681,2,     47.4,1,  -999.0,9, -999.00,9, -999.00,9,  -999.0,    1022,     3.8062, -999.00,9,     -999.0