BOTTLE,20141031SIOCCHAMB
EXPOCODE,SECT_ID,STNNBR,CASTNO,SAMPNO,BTLNBR,BTLNBR_FLAG_W,DATE,TIME,LATITUDE,LONGITUDE,DEPTH,CTDPRS,CTDTMP,CTDSAL,CTDSAL_FLAG_W,SALNTY,SALNTY_FLAG_W,CTDOXY,CTDOXY_FLAG_W,OXYGEN,OXYGEN_FLAG_W,SILCAT,SILCAT_FLAG_W,PHSPHT,PHSPHT_FLAG_W,REVPRS,CTDRAW,THETA,NO2+NO3,NO2+NO3_FLAG_W,REVTMP
,,,,,,,,,,,METERS,DBAR,ITS-90,PSS-78,,PSS-78,,UMOL/KG,,UMOL/KG,,UMOL/KG,,UMOL/KG,,DBAR,DBAR,ITS-90,UMOL/KG,,DEG C
33KB20131026,       PRS2,       6,          1,         15,       8015,2,20131030,       0548,  21.846833,-158.3633333,       2447,     7.9,  27.1404,  35.2849,2,-999.0000,5,    201.7,1,  -999.0,9, -999.00,9, -999.00,9,  -999.0,       7,    27.1386, -999.00,9,     -999.0
33KB20131026,       PRS2,       6,          1,         14,       8014,2,20131030,       0548,  21.846833,-158.3633333,       2447,     7.9,  27.1383,  35.2846,2,-999.0000,5,    202.0,1,  -999.0,9, -999.00,9, -999.00,9,  -999.0,       7,    27.1365, -999.00,9,     -999.0
33KB20131026,       PRS2,       6,          1,         13,       8025,2,20131030,       0548,  21.846833,-158.3633333,       2447,     7.8,  27.1334,  35.2840,2,  35.2844,2,    201.8,1,  -999.0,9, -999.00,9, -999.00,9,  -999.0,       7,    27.1315, -999.00,9,     -999.0
33KB20131026,       PRS2,       6,          1,         12,       8012,2,20131030,       0548,  21.846833,-158.3633333,       2447,    26.2,  26.5576,  35.2809,2,  35.2879,2,    201.8,1,  -999.0,9, -999.00,9, -999.00,9,  -999.0,      27,    26.5516, -999.00,9,     -999.0
33KB20131026,       PRS2,       6,          1,         11,       8011,2,20131030,       0548,  21.846833,-158.3633333,       2447,    45.2,  26.1434,  35.3375,2,  35.3496,3,    203.2,1,  -999.0,9, -999.00,9, -999.00,9,  -999.0,      46,    26.1333, -999.00,9,     -999.0
33KB20131026,       PRS2,       6,          1,         10,       8010,2,20131030,       0548,  21.846833,-158.3633333,       2447,    75.1,  25.2847,  35.3605,2,  35.3589,2,    210.1,1,  -999.0,9, -999.00,9, -999.00,9,  -999.0,      75,    25.2683, -999.00,9,     -999.0
33KB20131026,       PRS2,       6,          1,          9,       8009,2,20131030,       0548,  21.846833,-158.3633333,       2447,   100.8,  23.4392,  35.3772,2,  35.3758,2,    223.1,1,  -999.0,9, -999.00,9, -999.00,9,  -999.0,     100,    23.4183, -999.00,9,     -999.0
33KB20131026,       PRS2,       6,          1,          8,       8008,2,20131030,       0548,  21.846833,-158.3633333,       2447,   126.6,  22.5556,  35.3736,2,  35.3723,2,    217.6,1,  -999.0,9, -999.00,9, -999.00,9,  -999.0,     126,    22.5300, -999.00,9,     -999.0
33KB20131026,       PRS2,       6,          1,          7,       8026,2,20131030,       0548,  21.846833,-158.3633333,       2447,   150.7,  21.6056,  35.2889,2,  35.2883,2,    208.5,1,  -999.0,9, -999.00,9, -999.00,9,  -999.0,     151,    21.5761, -999.00,9,     -999.0
33KB20131026,       PRS2,       6,          1,          6,       8006,2,20131030,       0548,  21.846833,-158.3633333,       2447,   175.5,  20.1111,  35.1526,2,  35.1502,2,    195.3,1,  -999.0,9, -999.00,9, -999.00,9,  -999.0,     175,    20.0785, -999.00,9,     -999.0
33KB20131026,       PRS2,       6,          1,          5,       8005,2,20131030,       0548,  21.846833,-158.3633333,       2447,   450.3,   7.8346,  34.1665,2,  34.1573,2,     94.6,1,  -999.0,9, -999.00,9, -999.00,9,  -999.0,     450,     7.7894, -999.00,9,     -999.0
33KB20131026,       PRS2,       6,          1,          4,       8004,2,20131030,       0548,  21.846833,-158.3633333,       2447,   999.6,   4.2584,  34.4759,2,  34.4754,2,     42.4,1,  -999.0,9, -999.00,9, -999.00,9,  -999.0,     999,     4.1809, -999.00,9,     -999.0
33KB20131026,       PRS2,       6,          1,          3,       8003,2,20131030,       0548,  21.846833,-158.3633333,       2447,  1501.3,   3.0180,  34.5621,2,  34.5612,2,     64.8,1,  -999.0,9, -999.00,9, -999.00,9,  -999.0,    1500,     2.9099, -999.00,9,     -999.0
33KB20131026,       PRS2,       6,          1,          2,       8002,2,20131030,       0548,  21.846833,-158.3633333,       2447,  2000.5,   2.1778,  34.6176,2,  34.6170,2,     89.7,1,  -999.0,9, -999.00,9, -999.00,9,  -999.0,    2000,     2.0387, -999.00,9,     -999.0
33KB20131026,       PRS2,       6,          1,          1,       8001,2,20131030,       0548,  21.846833,-158.3633333,       2447,  2448.8,   1.8220,  34.6443,2,  34.6455,2,    105.7,1,  -999.0,9, -999.00,9, -999.00,9,  -999.0,    2447,     1.6496, -999.00,9,     -999.0
33KB20131026,       PRS2,      52,          1,         24,       8024,2,20131029,       2204,  22.674667,-157.9863333,       4747,     3.9,  26.5619,  35.2317,2,-999.0000,9,    202.2,1,  -999.0,9, -999.00,9, -999.00,9,  -999.0,       4,    26.5610, -999.00,9,     -999.0
33KB20131026,       PRS2,      52,          1,         23,       8023,2,20131029,       2204,  22.674667,-157.9863333,       4747,    11.7,  26.5079,  35.2276,2,-999.0000,9,    201.6,1,  -999.0,9, -999.00,9, -999.00,9,  -999.0,      10,    26.5053, -999.00,9,     -999.0
33KB20131026,       PRS2,      52,          1,         22,       8022,2,20131029,       2204,  22.674667,-157.9863333,       4747,    11.7,  26.5048,  35.2269,2,-999.0000,9,    201.8,1,  -999.0,9, -999.00,9, -999.00,9,  -999.0,      10,    26.5021, -999.00,9,     -999.0
33KB20131026,       PRS2,      52,          1,         21,       8021,2,20131029,       2204,  22.674667,-157.9863333,       4747,    11.8,  26.5068,  35.2273,2,-999.0000,9,    202.0,1,  -999.0,9, -999.00,9, -999.00,9,  -999.0,      11,    26.5041, -999.00,9,     -999.0
33KB20131026,       PRS2,      52,          1,         20,       8020,2,20131029,       2204,  22.674667,-157.9863333,       4747,    12.0,  26.5072,  35.2272,2,-999.0000,9,    202.1,1,  -999.0,9, -999.00,9, -999.00,9,  -999.0,      11,    26.5045, -999.00,9,     -999.0
33KB20131026,       PRS2,      52,          1,         19,       8019,2,20131029,       2204,  22.674667,-157.9863333,       4747,    12.0,  26.4995,  35.2259,2,-999.0000,9,    202.2,1,  -999.0,9, -999.00,9, -999.00,9,  -999.0,      12,    26.4968, -999.00,9,     -999.0
33KB20131026,       PRS2,      52,          1,         18,       8018,2,20131029,       2204,  22.674667,-157.9863333,       4747,    11.9,  26.4985,  35.2257,2,-999.0000,9,    202.4,1,  -999.0,9, -999.00,9, -999.00,9,  -999.0,      12,    26.4958, -999.00,9,     -999.0
33KB20131026,       PRS2,      52,          1,         17,       8017,2,20131029,       2204,  22.674667,-157.9863333,       4747,    11.9,  26.5027,  35.2264,2,-999.0000,9,    202.4,1,  -999.0,9, -999.00,9, -999.00,9,  -999.0,      12,    26.5000, -999.00,9,     -999.0
33KB20131026,       PRS2,      52,          1,         16,       8016,2,20131029,       2204,  22.674667,-157.9863333,       4747,    11.9,  26.5003,  35.2255,2,-999.0000,9,    202.5,1,  -999.0,9, -999.00,9, -999.00,9,  -999.0,      11,    26.4976, -999.00,9,     -999.0
33KB20131026,       PRS2,      52,          1,         15,       8015,2,20131029,       2204,  22.674667,-157.9863333,       4747,    11.6,  26.5015,  35.2264,2,-999.0000,9,    202.6,1,  -999.0,9, -999.00,9, -999.00,9,  -999.0,      11,    26.4989, -999.00,9,     -999.0
33KB20131026,       PRS2,      52,          1,         14,       8014,2,20131029,       2204,  22.674667,-157.9863333,       4747,    11.6,  26.5058,  35.2265,2,-999.0000,9,    202.6,1,  -999.0,9, -999.00,9, -999.00,9,  -999.0,      13,    26.5032, -999.00,9,     -999.0
33KB20131026,       PRS2,      52,          1,         13,       8025,2,20131029,       2204,  22.674667,-157.9863333,       4747,   199.7,  20.3620,  35.2446,2,-999.0000,9,    198.9,1,  -999.0,9, -999.00,9, -999.00,9,  -999.0,     200,    20.3246, -999.00,9,     -999.0
33KB20131026,       PRS2,      52,          1,         12,       8012,2,20131029,       2204,  22.674667,-157.9863333,       4747,   199.8,  20.3626,  35.2445,2,-999.0000,9,    198.8,1,  -999.0,9, -999.00,9, -999.00,9,  -999.0,     199,    20.3251, -999.00,9,     -999.0
33KB20131026,       PRS2,      52,          1,         11,       8011,2,20131029,       2204,  22.674667,-157.9863333,       4747,   199.9,  20.3624,  35.2447,2,-999.0000,9,    198.7,1,  -999.0,9, -999.00,9, -999.00,9,  -999.0,     199,    20.3249, -999.00,9,     -999.0
33KB20131026,       PRS2,      52,          1,         10,       8010,2,20131029,       2204,  22.674667,-157.9863333,       4747,   199.8,  20.3626,  35.2447,2,-999.0000,9,    198.6,1,  -999.0,9, -999.00,9, -999.00,9,  -999.0,     199,    20.3251, -999.00,9,     -999.0
33KB20131026,       PRS2,      52,          1,          9,       8009,2,20131029,       2204,  22.674667,-157.9863333,       4747,   199.7,  20.3627,  35.2448,2,-999.0000,9,    198.7,1,  -999.0,9, -999.00,9, -999.00,9,  -999.0,     199,    20.3252, -999.00,9,     -999.0
33KB20131026,       PRS2,      52,          1,          8,       8008,2,20131029,       2204,  22.674667,-157.9863333,       4747,   200.2,  20.3617,  35.2448,2,-999.0000,9,    198.7,1,  -999.0,9, -999.00,9, -999.00,9,  -999.0,     199,    20.3242, -999.00,9,     -999.0
33KB20131026,       PRS2,      52,          1,          7,       8026,2,20131029,       2204,  22.674667,-157.9863333,       4747,   200.0,  20.3620,  35.2447,2,-999.0000,9,    198.7,1,  -999.0,9, -999.00,9, -999.00,9,  -999.0,     200,    20.3244, -999.00,9,     -999.0
33KB20131026,       PRS2,      52,          1,          6,       8006,2,20131029,       2204,  22.674667,-157.9863333,       4747,   199.4,  20.3628,  35.2448,2,-999.0000,9,    198.7,1,  -999.0,9, -999.00,9, -999.00,9,  -999.0,     201,    20.3254, -999.00,9,     -999.0
33KB20131026,       PRS2,      52,          1,          5,       8005,2,20131029,       2204,  22.674667,-157.9863333,       4747,   199.8,  20.3620,  35.2447,2,-999.0000,9,    198.7,1,  -999.0,9, -999.00,9, -999.00,9,  -999.0,     199,    20.3246, -999.00,9,     -999.0
33KB20131026,       PRS2,      52,          1,          4,       8004,2,20131029,       2204,  22.674667,-157.9863333,       4747,   199.7,  20.3627,  35.2447,2,-999.0000,9,    198.6,1,  -999.0,9, -999.00,9, -999.00,9,  -999.0,     199,    20.3252, -999.00,9,     -999.0
33KB20131026,       PRS2,      52,          1,          3,       8003,2,20131029,       2204,  22.674667,-157.9863333,       4747,   199.4,  20.3631,  35.2448,2,-999.0000,9,    198.5,1,  -999.0,9, -999.00,9, -999.00,9,  -999.0,     201,    20.3257, -999.00,9,     -999.0
33KB20131026,       PRS2,      52,          1,          2,       8002,2,20131029,       2204,  22.674667,-157.9863333,       4747,   199.7,  20.3624,  35.2451,2,-999.0000,9,    198.5,1,  -999.0,9, -999.00,9, -999.00,9,  -999.0,     200,    20.3249, -999.00,9,     -999.0
33KB20131026,       PRS2,      52,          1,          1,       8001,2,20131029,       2204,  22.674667,-157.9863333,       4747,   199.9,  20.3621,  35.2450,2,-999.0000,9,    198.4,1,  -999.0,9, -999.00,9, -999.00,9,  -999.0,     200,    20.3246, -999.00,9,     -999.0