BOTTLE,20141031SIOCCHAMB
EXPOCODE,SECT_ID,STNNBR,CASTNO,SAMPNO,BTLNBR,BTLNBR_FLAG_W,DATE,TIME,LATITUDE,LONGITUDE,DEPTH,CTDPRS,CTDTMP,CTDSAL,CTDSAL_FLAG_W,SALNTY,SALNTY_FLAG_W,CTDOXY,CTDOXY_FLAG_W,OXYGEN,OXYGEN_FLAG_W,SILCAT,SILCAT_FLAG_W,PHSPHT,PHSPHT_FLAG_W,REVPRS,CTDRAW,THETA,NO2+NO3,NO2+NO3_FLAG_W,REVTMP
,,,,,,,,,,,METERS,DBAR,ITS-90,PSS-78,,PSS-78,,UMOL/KG,,UMOL/KG,,UMOL/KG,,UMOL/KG,,DBAR,DBAR,ITS-90,UMOL/KG,,DEG C
33KB20131026,       PRS2,       1,          1,         24,       8024,2,20131027,       0010,  21.343500,-158.2731667,       1564,     7.8,  27.1867,  35.1753,2,  35.1750,2,    200.1,2,   200.5,2, -999.00,9, -999.00,9,  -999.0,       8,    27.1849, -999.00,9,     -999.0
33KB20131026,       PRS2,       1,          1,         23,       8023,2,20131027,       0010,  21.343500,-158.2731667,       1564,     7.7,  27.1891,  35.1759,2,  35.1742,2,    200.0,2,   200.6,2, -999.00,9, -999.00,9,  -999.0,       8,    27.1873, -999.00,9,     -999.0
33KB20131026,       PRS2,       1,          1,         22,       8022,2,20131027,       0010,  21.343500,-158.2731667,       1564,    25.1,  27.0941,  35.1686,2,  35.1681,2,    200.7,2,   201.4,2, -999.00,9, -999.00,9,  -999.0,      24,    27.0883, -999.00,9,     -999.0
33KB20131026,       PRS2,       1,          1,         21,       8021,2,20131027,       0010,  21.343500,-158.2731667,       1564,    45.0,  27.1638,  35.2348,2,  35.2235,2,    200.5,2,   201.1,2, -999.00,9, -999.00,9,  -999.0,      44,    27.1534, -999.00,9,     -999.0
33KB20131026,       PRS2,       1,          1,         20,       8020,2,20131027,       0010,  21.343500,-158.2731667,       1564,    61.1,  25.9684,  35.3440,2,  35.3409,2,    215.3,2,   217.5,2, -999.00,9, -999.00,9,  -999.0,      60,    25.9548, -999.00,9,     -999.0
33KB20131026,       PRS2,       1,          1,         19,       8019,2,20131027,       0010,  21.343500,-158.2731667,       1564,    75.9,  24.2143,  35.3391,2,  35.3378,2,    218.7,2,   217.7,2, -999.00,9, -999.00,9,  -999.0,      76,    24.1982, -999.00,9,     -999.0
33KB20131026,       PRS2,       1,          1,         18,       8018,2,20131027,       0010,  21.343500,-158.2731667,       1564,   100.6,  22.5387,  35.2743,2,  35.2700,2,    206.2,2,   205.3,2, -999.00,9, -999.00,9,  -999.0,     100,    22.5184, -999.00,9,     -999.0
33KB20131026,       PRS2,       1,          1,         17,       8017,2,20131027,       0010,  21.343500,-158.2731667,       1564,   115.6,  22.0419,  35.2457,2,  35.2454,2,    202.4,2,   202.9,2, -999.00,9, -999.00,9,  -999.0,     115,    22.0190, -999.00,9,     -999.0
33KB20131026,       PRS2,       1,          1,         16,       8016,2,20131027,       0010,  21.343500,-158.2731667,       1564,   125.4,  21.6342,  35.2402,2,  35.2345,2,    200.1,2,   200.6,2, -999.00,9, -999.00,9,  -999.0,     125,    21.6097, -999.00,9,     -999.0
33KB20131026,       PRS2,       1,          1,         15,       8015,2,20131027,       0010,  21.343500,-158.2731667,       1564,   150.7,  20.4703,  35.1302,2,  35.1305,2,    193.2,2,   189.3,2, -999.00,9, -999.00,9,  -999.0,     150,    20.4420, -999.00,9,     -999.0
33KB20131026,       PRS2,       1,          1,         14,       8014,2,20131027,       0010,  21.343500,-158.2731667,       1564,   176.1,  18.8089,  34.9267,2,  34.9392,2,    190.4,2,   188.7,2, -999.00,9, -999.00,9,  -999.0,     174,    18.7778, -999.00,9,     -999.0
33KB20131026,       PRS2,       1,          1,         13,       8025,2,20131027,       0010,  21.343500,-158.2731667,       1564,   200.2,  17.2817,  34.7175,2,  34.7248,2,    187.7,2,   186.2,2, -999.00,9, -999.00,9,  -999.0,     199,    17.2484, -999.00,9,     -999.0
33KB20131026,       PRS2,       1,          1,         12,       8012,2,20131027,       0010,  21.343500,-158.2731667,       1564,   226.2,  14.9202,  34.4466,2,  34.4512,2,    187.4,2,   187.1,2, -999.00,9, -999.00,9,  -999.0,     226,    14.8862, -999.00,9,     -999.0
33KB20131026,       PRS2,       1,          1,         11,       8011,2,20131027,       0010,  21.343500,-158.2731667,       1564,   251.5,  13.2122,  34.2761,2,  34.2748,2,    184.6,2,   185.3,2, -999.00,9, -999.00,9,  -999.0,     251,    13.1774, -999.00,9,     -999.0
33KB20131026,       PRS2,       1,          1,         10,       8010,2,20131027,       0010,  21.343500,-158.2731667,       1564,   299.5,  11.1890,  34.1750,2,  34.1766,2,    186.1,2,   187.5,2, -999.00,9, -999.00,9,  -999.0,     298,    11.1519, -999.00,9,     -999.0
33KB20131026,       PRS2,       1,          1,          9,       8009,2,20131027,       0010,  21.343500,-158.2731667,       1564,   350.4,   9.2647,  34.1327,2,  34.1323,2,    144.1,2,   145.1,2, -999.00,9, -999.00,9,  -999.0,     350,     9.2260, -999.00,9,     -999.0
33KB20131026,       PRS2,       1,          1,          8,       8008,2,20131027,       0010,  21.343500,-158.2731667,       1564,   401.2,   8.2089,  34.1221,2,  34.1213,2,    118.1,2,   117.7,2, -999.00,9, -999.00,9,  -999.0,     400,     8.1677, -999.00,9,     -999.0
33KB20131026,       PRS2,       1,          1,          7,       8026,2,20131027,       0010,  21.343500,-158.2731667,       1564,   500.3,   7.1605,  34.1795,2,  34.1803,2,     77.5,2,    76.7,2, -999.00,9, -999.00,9,  -999.0,     500,     7.1127, -999.00,9,     -999.0
33KB20131026,       PRS2,       1,          1,          6,       8006,2,20131027,       0010,  21.343500,-158.2731667,       1564,   599.4,   5.9217,  34.2301,2,  34.2313,2,     42.9,2,    42.5,2, -999.00,9, -999.00,9,  -999.0,     599,     5.8695, -999.00,9,     -999.0
33KB20131026,       PRS2,       1,          1,          5,       8005,2,20131027,       0010,  21.343500,-158.2731667,       1564,   700.8,   5.4582,  34.3372,2,  34.3380,2,     32.5,2,    32.2,2, -999.00,9, -999.00,9,  -999.0,     701,     5.3991, -999.00,9,     -999.0
33KB20131026,       PRS2,       1,          1,          4,       8004,2,20131027,       0010,  21.343500,-158.2731667,       1564,   750.2,   5.1835,  34.3816,2,  34.3815,2,     32.6,2,    32.6,2, -999.00,9, -999.00,9,  -999.0,     749,     5.1214, -999.00,9,     -999.0
33KB20131026,       PRS2,       1,          1,          3,       8003,2,20131027,       0010,  21.343500,-158.2731667,       1564,   900.1,   4.7465,  34.4525,2,  34.4524,2,     36.6,2,    37.0,2, -999.00,9, -999.00,9,  -999.0,     899,     4.6740, -999.00,9,     -999.0
33KB20131026,       PRS2,       1,          1,          2,       8002,2,20131027,       0010,  21.343500,-158.2731667,       1564,   900.4,   4.7468,  34.4528,2,  34.4544,2,     36.6,2,    38.3,2, -999.00,9, -999.00,9,  -999.0,     899,     4.6742, -999.00,9,     -999.0
33KB20131026,       PRS2,       1,          1,          1,       8001,2,20131027,       0010,  21.343500,-158.2731667,       1564,  1019.8,   4.1444,  34.4913,2,  34.4934,2,     43.6,2,    44.2,2, -999.00,9, -999.00,9,  -999.0,    1020,     4.0659, -999.00,9,     -999.0
33KB20131026,       PRS2,       2,          1,         22,       8022,2,20131027,       1145,  22.750000,-158.0168333,       4743,     7.8,  26.4242,  35.1880,2,  35.1870,2,    203.0,1,  -999.0,9, -999.00,9, -999.00,9,  -999.0,       7,    26.4224, -999.00,9,     -999.0
33KB20131026,       PRS2,       2,          1,         21,       8021,2,20131027,       1145,  22.750000,-158.0168333,       4743,     7.7,  26.4244,  35.1880,2,  35.1870,2,    202.9,1,  -999.0,9, -999.00,9, -999.00,9,  -999.0,       8,    26.4226, -999.00,9,     -999.0
33KB20131026,       PRS2,       2,          1,         20,       8020,2,20131027,       1145,  22.750000,-158.0168333,       4743,     7.7,  26.4240,  35.1881,2,  35.1872,2,    202.8,1,  -999.0,9, -999.00,9, -999.00,9,  -999.0,       7,    26.4222, -999.00,9,     -999.0
33KB20131026,       PRS2,       2,          1,         19,       8019,2,20131027,       1145,  22.750000,-158.0168333,       4743,    25.3,  26.3879,  35.1874,2,  35.1866,2,    203.5,1,  -999.0,9, -999.00,9, -999.00,9,  -999.0,      25,    26.3822, -999.00,9,     -999.0
33KB20131026,       PRS2,       2,          1,         18,       8018,2,20131027,       1145,  22.750000,-158.0168333,       4743,    25.3,  26.3878,  35.1873,2,  35.1865,2,    203.4,1,  -999.0,9, -999.00,9, -999.00,9,  -999.0,      24,    26.3821, -999.00,9,     -999.0
33KB20131026,       PRS2,       2,          1,         17,       8017,2,20131027,       1145,  22.750000,-158.0168333,       4743,    25.4,  26.3873,  35.1874,2,  35.1868,2,    203.1,1,  -999.0,9, -999.00,9, -999.00,9,  -999.0,      24,    26.3816, -999.00,9,     -999.0
33KB20131026,       PRS2,       2,          1,         16,       8016,2,20131027,       1145,  22.750000,-158.0168333,       4743,    45.5,  26.3807,  35.1869,2,  35.1868,2,    204.1,1,  -999.0,9, -999.00,9, -999.00,9,  -999.0,      45,    26.3704, -999.00,9,     -999.0
33KB20131026,       PRS2,       2,          1,         15,       8015,2,20131027,       1145,  22.750000,-158.0168333,       4743,    45.7,  26.3806,  35.1869,2,  35.1866,2,    204.1,1,  -999.0,9, -999.00,9, -999.00,9,  -999.0,      44,    26.3703, -999.00,9,     -999.0
33KB20131026,       PRS2,       2,          1,         14,       8014,2,20131027,       1145,  22.750000,-158.0168333,       4743,    45.7,  26.3802,  35.1869,2,  35.1866,2,    202.7,1,  -999.0,9, -999.00,9, -999.00,9,  -999.0,      45,    26.3699, -999.00,9,     -999.0
33KB20131026,       PRS2,       2,          1,         13,       8025,2,20131027,       1145,  22.750000,-158.0168333,       4743,    75.4,  24.9304,  35.2903,2,  35.2895,2,    217.1,1,  -999.0,9, -999.00,9, -999.00,9,  -999.0,      75,    24.9141, -999.00,9,     -999.0
33KB20131026,       PRS2,       2,          1,         12,       8012,2,20131027,       1145,  22.750000,-158.0168333,       4743,    75.4,  24.9272,  35.2884,2,  35.2873,2,    216.5,1,  -999.0,9, -999.00,9, -999.00,9,  -999.0,      75,    24.9108, -999.00,9,     -999.0
33KB20131026,       PRS2,       2,          1,         11,       8011,2,20131027,       1145,  22.750000,-158.0168333,       4743,    75.5,  24.9198,  35.2880,2,  35.2897,2,    216.3,1,  -999.0,9, -999.00,9, -999.00,9,  -999.0,      75,    24.9034, -999.00,9,     -999.0
33KB20131026,       PRS2,       2,          1,         10,       8010,2,20131027,       1145,  22.750000,-158.0168333,       4743,    99.9,  22.6277,  35.2316,2,  35.2300,2,    214.6,1,  -999.0,9, -999.00,9, -999.00,9,  -999.0,     100,    22.6075, -999.00,9,     -999.0
33KB20131026,       PRS2,       2,          1,          9,       8009,2,20131027,       1145,  22.750000,-158.0168333,       4743,   100.2,  22.6058,  35.2358,2,  35.2329,2,    213.9,1,  -999.0,9, -999.00,9, -999.00,9,  -999.0,     101,    22.5856, -999.00,9,     -999.0
33KB20131026,       PRS2,       2,          1,          8,       8008,2,20131027,       1145,  22.750000,-158.0168333,       4743,   100.2,  22.6034,  35.2345,2,  35.2335,2,    213.8,1,  -999.0,9, -999.00,9, -999.00,9,  -999.0,      99,    22.5832, -999.00,9,     -999.0
33KB20131026,       PRS2,       2,          1,          7,       8026,2,20131027,       1145,  22.750000,-158.0168333,       4743,   124.7,  21.7818,  35.2743,2,  35.2755,2,    208.6,1,  -999.0,9, -999.00,9, -999.00,9,  -999.0,     125,    21.7573, -999.00,9,     -999.0
33KB20131026,       PRS2,       2,          1,          6,       8006,2,20131027,       1145,  22.750000,-158.0168333,       4743,   125.0,  21.7738,  35.2756,2,  35.2753,2,    208.2,1,  -999.0,9, -999.00,9, -999.00,9,  -999.0,     124,    21.7492, -999.00,9,     -999.0
33KB20131026,       PRS2,       2,          1,          5,       8005,2,20131027,       1145,  22.750000,-158.0168333,       4743,   124.8,  21.7729,  35.2748,2,  35.2747,2,    208.3,1,  -999.0,9, -999.00,9, -999.00,9,  -999.0,     124,    21.7484, -999.00,9,     -999.0
33KB20131026,       PRS2,       2,          1,          4,       8004,2,20131027,       1145,  22.750000,-158.0168333,       4743,   151.0,  21.3961,  35.3340,2,  35.3315,2,    205.6,1,  -999.0,9, -999.00,9, -999.00,9,  -999.0,     151,    21.3668, -999.00,9,     -999.0
33KB20131026,       PRS2,       2,          1,          3,       8003,2,20131027,       1145,  22.750000,-158.0168333,       4743,   175.6,  20.5880,  35.2924,2,  35.3023,2,    202.3,1,  -999.0,9, -999.00,9, -999.00,9,  -999.0,     175,    20.5548, -999.00,9,     -999.0
33KB20131026,       PRS2,       2,          1,          2,       8002,2,20131027,       1145,  22.750000,-158.0168333,       4743,   510.3,   7.4332,  34.0702,2,  34.0727,2,    112.8,1,  -999.0,9, -999.00,9, -999.00,9,  -999.0,     511,     7.3834, -999.00,9,     -999.0
33KB20131026,       PRS2,       2,          1,          1,       8001,2,20131027,       1145,  22.750000,-158.0168333,       4743,  1020.2,   3.8977,  34.4611,2,  34.4626,2,     46.4,1,  -999.0,9, -999.00,9, -999.00,9,  -999.0,    1020,     3.8213, -999.00,9,     -999.0
33KB20131026,       PRS2,       2,          2,         24,       8024,2,20131027,       1453,  22.749500,-158.0020000,       4743,     7.2,  26.4579,  35.1972,2,  35.1983,2,    203.4,2,   203.5,2,    1.33,2,    0.12,2,  -999.0,       6,    26.4563,    0.01,2,     -999.0
33KB20131026,       PRS2,       2,          2,         23,       8023,2,20131027,       1453,  22.749500,-158.0020000,       4743,   499.8,   7.6037,  34.0802,2,  34.0807,2,    112.3,2,   113.5,2,   43.12,2,    2.03,2,  -999.0,     498,     7.5543,   27.88,2,     -999.0
33KB20131026,       PRS2,       2,          2,         22,       8022,2,20131027,       1453,  22.749500,-158.0020000,       4743,   751.3,   4.6612,  34.2672,2,  34.2648,2,     37.0,2,    37.0,2,   95.72,2,    2.90,2,  -999.0,     750,     4.6022,   39.91,2,     -999.0
33KB20131026,       PRS2,       2,          2,         21,       8021,2,20131027,       1453,  22.749500,-158.0020000,       4743,  1000.3,   3.9375,  34.4568,2,  34.4549,2,     46.0,2,    45.0,2,  111.78,2,    2.93,2,  -999.0,     999,     3.8624,   40.66,2,     -999.0
33KB20131026,       PRS2,       2,          2,         20,       8020,2,20131027,       1453,  22.749500,-158.0020000,       4743,  1200.9,   3.4637,  34.5175,2,  34.5188,2,     56.0,2,    55.6,2,  121.56,2,    2.92,2,  -999.0,    1200,     3.3759,   40.61,2,     -999.0
33KB20131026,       PRS2,       2,          2,         19,       8019,2,20131027,       1453,  22.749500,-158.0020000,       4743,  1401.1,   3.0466,  34.5460,2,  34.5459,2,     63.4,2,    63.2,2,  130.32,2,    2.89,2,  -999.0,    1400,     2.9465,   40.18,2,     -999.0
33KB20131026,       PRS2,       2,          2,         18,       8018,2,20131027,       1453,  22.749500,-158.0020000,       4743,  1600.7,   2.6500,  34.5695,2,  34.5696,2,     71.1,2,    71.6,2,  139.47,2,    2.86,2,  -999.0,    1599,     2.5380,   40.12,2,     -999.0
33KB20131026,       PRS2,       2,          2,         17,       8017,2,20131027,       1453,  22.749500,-158.0020000,       4743,  1800.2,   2.3776,  34.5972,2,  34.5973,2,     79.6,2,    79.3,2,  145.15,2,    2.82,2,  -999.0,    1801,     2.2525,   39.63,2,     -999.0
33KB20131026,       PRS2,       2,          2,         16,       8016,2,20131027,       1453,  22.749500,-158.0020000,       4743,  2000.8,   2.1300,  34.6184,2,  34.6197,2,     88.7,2,    89.1,2,  150.26,2,    2.77,2,  -999.0,    2000,     1.9916,   39.14,2,     -999.0
33KB20131026,       PRS2,       2,          2,         15,       8015,2,20131027,       1453,  22.749500,-158.0020000,       4743,  2199.9,   1.9421,  34.6320,2,  34.6319,2,     96.2,2,    96.3,2,  154.73,2,    2.76,2,  -999.0,    2199,     1.7895,   38.87,2,     -999.0
33KB20131026,       PRS2,       2,          2,         14,       8014,2,20131027,       1453,  22.749500,-158.0020000,       4743,  2401.3,   1.7838,  34.6437,2,  34.6441,2,    103.5,2,   103.7,2,  158.08,2,    2.71,2,  -999.0,    2401,     1.6163,   38.32,2,     -999.0
33KB20131026,       PRS2,       2,          2,         13,       8025,2,20131027,       1453,  22.749500,-158.0020000,       4743,  2600.6,   1.6905,  34.6534,2,  34.6529,2,    110.8,2,   111.0,2,  158.85,2,    2.67,2,  -999.0,    2600,     1.5069,   37.81,2,     -999.0
33KB20131026,       PRS2,       2,          2,         12,       8012,2,20131027,       1453,  22.749500,-158.0020000,       4743,  2800.8,   1.6129,  34.6607,2,  34.6618,2,    117.1,2,   117.7,2,  159.13,2,    2.64,2,  -999.0,    2801,     1.4125,   37.52,2,     -999.0
33KB20131026,       PRS2,       2,          2,         11,       8011,2,20131027,       1453,  22.749500,-158.0020000,       4743,  3000.0,   1.5490,  34.6662,2,  34.6661,2,    123.4,2,   123.4,2,  158.41,2,    2.59,2,  -999.0,    3001,     1.3311,   36.96,2,     -999.0
33KB20131026,       PRS2,       2,          2,         10,       8010,2,20131027,       1453,  22.749500,-158.0020000,       4743,  3199.9,   1.5101,  34.6718,2,  34.6716,2,    130.2,2,   131.2,2,  156.50,2,    2.58,2,  -999.0,    3199,     1.2738,   36.87,2,     -999.0
33KB20131026,       PRS2,       2,          2,          9,       8009,2,20131027,       1453,  22.749500,-158.0020000,       4743,  3400.1,   1.4771,  34.6769,2,  34.6767,2,    136.6,2,   136.7,2,  154.94,2,    2.54,2,  -999.0,    3401,     1.2217,   36.28,2,     -999.0
33KB20131026,       PRS2,       2,          2,          8,       8008,2,20131027,       1453,  22.749500,-158.0020000,       4743,  3601.0,   1.4609,  34.6804,2,  34.6794,2,    141.4,2,   141.3,2,  153.31,2,    2.51,2,  -999.0,    3600,     1.1854,   36.04,2,     -999.0
33KB20131026,       PRS2,       2,          2,          7,       8026,2,20131027,       1453,  22.749500,-158.0020000,       4743,  3800.0,   1.4549,  34.6822,2,  34.6826,2,    144.3,2,   143.9,2,  152.60,2,    2.50,2,  -999.0,    3800,     1.1588,   35.77,2,     -999.0
33KB20131026,       PRS2,       2,          2,          6,       8006,2,20131027,       1453,  22.749500,-158.0020000,       4743,  4001.1,   1.4560,  34.6841,2,  34.6840,2,    147.1,2,   146.6,2,  151.24,2,    2.48,2,  -999.0,    4000,     1.1382,   35.52,2,     -999.0
33KB20131026,       PRS2,       2,          2,          5,       8005,2,20131027,       1453,  22.749500,-158.0020000,       4743,  4200.5,   1.4657,  34.6853,2,  34.6846,2,    149.3,2,   149.6,2,  150.68,2,    2.49,2,  -999.0,    4201,     1.1257,   35.65,2,     -999.0
33KB20131026,       PRS2,       2,          2,          4,       8004,2,20131027,       1453,  22.749500,-158.0020000,       4743,  4400.1,   1.4806,  34.6859,2,  34.6863,2,    150.5,2,   150.2,2,  150.08,2,    2.48,2,  -999.0,    4400,     1.1177,   35.29,2,     -999.0
33KB20131026,       PRS2,       2,          2,          3,       8003,2,20131027,       1453,  22.749500,-158.0020000,       4743,  4501.1,   1.4893,  34.6864,2,  34.6871,2,    151.1,2,   151.0,2,  149.29,2,    2.47,2,  -999.0,    4502,     1.1146,   35.27,2,     -999.0
33KB20131026,       PRS2,       2,          2,          2,       8002,2,20131027,       1453,  22.749500,-158.0020000,       4743,  4599.8,   1.5003,  34.6864,2,  34.6875,2,    151.1,2,   151.3,2,  149.02,2,    2.47,2,  -999.0,    4601,     1.1138,   35.03,2,     -999.0
33KB20131026,       PRS2,       2,          2,          1,       8001,2,20131027,       1453,  22.749500,-158.0020000,       4743,  4809.1,   1.5119,  34.6876,2,  34.6891,2,    153.0,2,   153.1,2,  147.20,2,    2.45,2,  -999.0,    4808,     1.1003,   35.02,2,     -999.0