BOTTLE,20141031SIOCCHAMB
EXPOCODE,SECT_ID,STNNBR,CASTNO,SAMPNO,BTLNBR,BTLNBR_FLAG_W,DATE,TIME,LATITUDE,LONGITUDE,DEPTH,CTDPRS,CTDTMP,CTDSAL,CTDSAL_FLAG_W,SALNTY,SALNTY_FLAG_W,CTDOXY,CTDOXY_FLAG_W,OXYGEN,OXYGEN_FLAG_W,SILCAT,SILCAT_FLAG_W,PHSPHT,PHSPHT_FLAG_W,REVPRS,CTDRAW,THETA,NO2+NO3,NO2+NO3_FLAG_W,REVTMP
,,,,,,,,,,,METERS,DBAR,ITS-90,PSS-78,,PSS-78,,UMOL/KG,,UMOL/KG,,UMOL/KG,,UMOL/KG,,DBAR,DBAR,ITS-90,UMOL/KG,,DEG C
33KB20131026,       PRS2,       2,          3,         24,       8024,2,20131027,       2121,  22.749500,-157.9993333,       4741,     8.0,  26.5345,  35.2156,2,  35.2158,2,    203.0,2,   203.4,2,    1.26,2,    0.11,2,  -999.0,       8,    26.5327,    0.01,2,     -999.0
33KB20131026,       PRS2,       2,          3,         23,       8023,2,20131027,       2121,  22.749500,-157.9993333,       4741,    44.5,  26.4464,  35.2168,2,  35.2182,2,    203.9,2,   203.8,2,    1.22,2,    0.10,2,  -999.0,      43,    26.4364,    0.01,2,     -999.0
33KB20131026,       PRS2,       2,          3,         22,       8022,2,20131027,       2121,  22.749500,-157.9993333,       4741,    82.7,  23.5133,  35.2049,2,  35.2063,2,    219.7,2,   219.8,2,    1.48,2,    0.11,2,  -999.0,      82,    23.4962,    0.02,2,     -999.0
33KB20131026,       PRS2,       2,          3,         21,       8021,2,20131027,       2121,  22.749500,-157.9993333,       4741,   110.9,  21.9727,  35.2799,2,  35.2792,2,    210.5,2,   210.0,2,    1.56,2,    0.14,2,  -999.0,     110,    21.9508,    0.17,2,     -999.0
33KB20131026,       PRS2,       2,          3,         20,       8020,2,20131027,       2121,  22.749500,-157.9993333,       4741,   164.2,  21.0789,  35.3548,2,  35.3543,2,    203.0,2,   203.0,2,    1.76,2,    0.12,2,  -999.0,     164,    21.0474,    0.74,2,     -999.0
33KB20131026,       PRS2,       2,          3,         19,       8019,2,20131027,       2121,  22.749500,-157.9993333,       4741,   218.8,  19.1683,  35.0290,2,  35.0185,2,    194.4,2,   194.8,2,    2.92,2,    0.22,2,  -999.0,     218,    19.1290,    2.60,2,     -999.0
33KB20131026,       PRS2,       2,          3,         18,       8018,2,20131027,       2121,  22.749500,-157.9993333,       4741,   273.7,  15.5250,  34.5173,2,  34.5272,2,    195.9,2,   195.5,2,    5.78,2,    0.44,2,  -999.0,     274,    15.4826,    6.04,2,     -999.0
33KB20131026,       PRS2,       2,          3,         17,       8017,2,20131027,       2121,  22.749500,-157.9993333,       4741,   310.3,  13.8892,  34.3546,2,  34.3572,2,    201.1,2,   200.8,2,    7.86,2,    0.58,2,  -999.0,     309,    13.8447,    7.91,2,     -999.0
33KB20131026,       PRS2,       2,          3,         16,       8016,2,20131027,       2121,  22.749500,-157.9993333,       4741,   347.0,  11.7161,  34.1737,2,  34.1740,2,    190.7,2,   193.5,2,   13.12,2,    0.93,2,  -999.0,     347,    11.6717,   12.81,2,     -999.0
33KB20131026,       PRS2,       2,          3,         15,       8015,2,20131027,       2121,  22.749500,-157.9993333,       4741,   395.2,  10.3963,  34.1329,2,  34.1350,2,    188.5,2,   185.4,2,   18.48,2,    1.16,2,  -999.0,     395,    10.3494,   16.35,2,     -999.0
33KB20131026,       PRS2,       2,          3,         14,       8014,2,20131027,       2121,  22.749500,-157.9993333,       4741,   442.9,   8.7469,  34.0914,2,  34.0909,2,    146.9,2,   147.0,2,   31.08,2,    1.67,2,  -999.0,     442,     8.6995,   23.12,2,     -999.0
33KB20131026,       PRS2,       2,          3,         13,       8025,2,20131027,       2121,  22.749500,-157.9993333,       4741,   500.9,   7.5903,  34.0841,2,  34.0827,2,    109.0,2,   109.6,2,   44.79,2,    2.09,2,  -999.0,     501,     7.5408,   28.76,2,     -999.0
33KB20131026,       PRS2,       2,          3,         12,       8012,2,20131027,       2121,  22.749500,-157.9993333,       4741,   514.5,   7.3438,  34.0842,2,  34.0850,2,    105.3,2,   102.2,2,   47.52,2,    2.15,2,  -999.0,     514,     7.2939,   29.70,2,     -999.0
33KB20131026,       PRS2,       2,          3,         11,       8011,2,20131027,       2121,  22.749500,-157.9993333,       4741,   537.4,   7.0090,  34.1209,2,  34.1181,2,     79.8,2,    79.0,2,   54.02,2,    2.37,2,  -999.0,     537,     6.9581,   32.33,2,     -999.0
33KB20131026,       PRS2,       2,          3,         10,       8010,2,20131027,       2121,  22.749500,-157.9993333,       4741,   583.8,   6.5458,  34.1742,2,  34.1713,2,     56.5,2,    57.6,2,   61.96,2,    2.58,2,  -999.0,     583,     6.4924,   35.06,2,     -999.0
33KB20131026,       PRS2,       2,          3,          9,       8009,2,20131027,       2121,  22.749500,-157.9993333,       4741,   653.9,   6.2639,  34.2591,2,  34.2568,2,     41.0,2,    39.7,2,   68.49,2,    2.75,2,  -999.0,     654,     6.2050,   37.14,2,     -999.0
33KB20131026,       PRS2,       2,          3,          8,       8008,2,20131027,       2121,  22.749500,-157.9993333,       4741,   715.8,   5.0226,  34.1933,2,  34.1960,2,     46.9,2,    47.1,2,   87.54,2,    2.79,2,  -999.0,     716,     4.9647,   38.83,2,     -999.0
33KB20131026,       PRS2,       2,          3,          7,       8026,2,20131027,       2121,  22.749500,-157.9993333,       4741,   762.0,   4.7892,  34.2543,2,  34.2554,2,     38.8,2,    38.4,2,   93.29,2,    2.87,2,  -999.0,     763,     4.7286,   39.86,2,     -999.0
33KB20131026,       PRS2,       2,          3,          6,       8006,2,20131027,       2121,  22.749500,-157.9993333,       4741,   806.4,   4.5353,  34.3067,2,  34.3070,2,     35.9,2,    36.1,2,   99.53,2,    2.92,2,  -999.0,     806,     4.4724,   40.38,2,     -999.0
33KB20131026,       PRS2,       2,          3,          5,       8005,2,20131027,       2121,  22.749500,-157.9993333,       4741,   850.4,   4.4568,  34.3514,2,  34.3525,2,     36.1,2,    35.7,2,  100.91,2,    2.93,2,  -999.0,     850,     4.3907,   40.70,2,     -999.0
33KB20131026,       PRS2,       2,          3,          4,       8004,2,20131027,       2121,  22.749500,-157.9993333,       4741,   896.0,   4.2851,  34.3575,2,  34.3574,2,     36.1,2,    35.9,2,  104.99,2,    2.94,2,  -999.0,     895,     4.2162,   41.01,2,     -999.0
33KB20131026,       PRS2,       2,          3,          3,       8003,2,20131027,       2121,  22.749500,-157.9993333,       4741,   953.4,   4.0999,  34.4148,2,  34.4167,2,     41.0,2,    41.0,2,  108.74,2,    2.93,2,  -999.0,     952,     4.0275,   40.99,2,     -999.0
33KB20131026,       PRS2,       2,          3,          2,       8002,2,20131027,       2121,  22.749500,-157.9993333,       4741,  1009.6,   3.9424,  34.4561,2,  34.4563,2,     45.4,2,    46.1,2,  111.94,2,    2.92,2,  -999.0,    1010,     3.8665,   40.71,2,     -999.0
33KB20131026,       PRS2,       2,          3,          1,       8001,2,20131027,       2121,  22.749500,-157.9993333,       4741,  1020.3,   3.9188,  34.4609,2,  34.4624,2,     46.3,2,    46.0,2,  111.97,2,    2.90,2,  -999.0,    1020,     3.8422,   40.61,2,     -999.0
33KB20131026,       PRS2,       2,          4,         22,       8022,2,20131028,       0020,  22.745000,-157.9973333,       4738,     7.7,  26.5647,  35.2171,2,  35.2168,2,    203.0,1,  -999.0,9, -999.00,9, -999.00,9,  -999.0,       7,    26.5630, -999.00,9,     -999.0
33KB20131026,       PRS2,       2,          4,         21,       8021,2,20131028,       0020,  22.745000,-157.9973333,       4738,    25.3,  26.5015,  35.2174,2,  35.2172,2,    203.6,1,  -999.0,9, -999.00,9, -999.00,9,  -999.0,      25,    26.4957, -999.00,9,     -999.0
33KB20131026,       PRS2,       2,          4,         20,       8020,2,20131028,       0020,  22.745000,-157.9973333,       4738,    45.4,  26.4461,  35.2175,2,  35.2182,2,    203.7,1,  -999.0,9, -999.00,9, -999.00,9,  -999.0,      45,    26.4358, -999.00,9,     -999.0
33KB20131026,       PRS2,       2,          4,         19,       8019,2,20131028,       0020,  22.745000,-157.9973333,       4738,    75.1,  23.6187,  35.2141,2,  35.2095,2,    219.9,1,  -999.0,9, -999.00,9, -999.00,9,  -999.0,      76,    23.6030, -999.00,9,     -999.0
33KB20131026,       PRS2,       2,          4,         18,       8018,2,20131028,       0020,  22.745000,-157.9973333,       4738,   100.0,  22.2431,  35.2640,2,  35.2666,2,    212.5,1,  -999.0,9, -999.00,9, -999.00,9,  -999.0,     100,    22.2232, -999.00,9,     -999.0
33KB20131026,       PRS2,       2,          4,         17,       8017,2,20131028,       0020,  22.745000,-157.9973333,       4738,   124.9,  21.6028,  35.2888,2,  35.2869,2,    206.3,1,  -999.0,9, -999.00,9, -999.00,9,  -999.0,     125,    21.5784, -999.00,9,     -999.0
33KB20131026,       PRS2,       2,          4,         16,       8016,2,20131028,       0020,  22.745000,-157.9973333,       4738,   150.7,  21.1370,  35.3546,2,  35.3535,2,    204.0,1,  -999.0,9, -999.00,9, -999.00,9,  -999.0,     150,    21.1080, -999.00,9,     -999.0
33KB20131026,       PRS2,       2,          4,         15,       8015,2,20131028,       0020,  22.745000,-157.9973333,       4738,   175.1,  20.5648,  35.3005,2,  35.2739,4,    201.4,1,  -999.0,9, -999.00,9, -999.00,9,  -999.0,     175,    20.5317, -999.00,9,     -999.0
33KB20131026,       PRS2,       2,          4,         14,       8014,2,20131028,       0020,  22.745000,-157.9973333,       4738,   200.3,  19.2497,  35.0460,2,-999.0000,5,    195.3,1,  -999.0,9, -999.00,9, -999.00,9,  -999.0,     199,    19.2136, -999.00,9,     -999.0
33KB20131026,       PRS2,       2,          4,         13,       8025,2,20131028,       0020,  22.745000,-157.9973333,       4738,   200.4,  19.2244,  35.0421,2,  34.9904,3,    194.8,1,  -999.0,9, -999.00,9, -999.00,9,  -999.0,     199,    19.1883, -999.00,9,     -999.0
33KB20131026,       PRS2,       2,          4,         12,       8012,2,20131028,       0020,  22.745000,-157.9973333,       4738,   250.8,  15.7633,  34.5441,2,-999.0000,5,    195.0,1,  -999.0,9, -999.00,9, -999.00,9,  -999.0,     251,    15.7241, -999.00,9,     -999.0
33KB20131026,       PRS2,       2,          4,         11,       8011,2,20131028,       0020,  22.745000,-157.9973333,       4738,   251.0,  15.7558,  34.5423,2,  34.5506,2,    195.1,1,  -999.0,9, -999.00,9, -999.00,9,  -999.0,     250,    15.7166, -999.00,9,     -999.0
33KB20131026,       PRS2,       2,          4,         10,       8010,2,20131028,       0020,  22.745000,-157.9973333,       4738,   299.9,  13.4300,  34.2934,2,-999.0000,5,    200.1,1,  -999.0,9, -999.00,9, -999.00,9,  -999.0,     299,    13.3880, -999.00,9,     -999.0
33KB20131026,       PRS2,       2,          4,          9,       8009,2,20131028,       0020,  22.745000,-157.9973333,       4738,   349.9,  11.3220,  34.1663,2,  34.1679,2,    195.6,1,  -999.0,9, -999.00,9, -999.00,9,  -999.0,     350,    11.2781, -999.00,9,     -999.0
33KB20131026,       PRS2,       2,          4,          8,       8008,2,20131028,       0020,  22.745000,-157.9973333,       4738,   350.0,  11.3229,  34.1665,2,  34.1672,2,    195.6,1,  -999.0,9, -999.00,9, -999.00,9,  -999.0,     350,    11.2790, -999.00,9,     -999.0
33KB20131026,       PRS2,       2,          4,          7,       8026,2,20131028,       0020,  22.745000,-157.9973333,       4738,   400.8,   9.8273,  34.1145,2,-999.0000,5,    177.6,1,  -999.0,9, -999.00,9, -999.00,9,  -999.0,     400,     9.7813, -999.00,9,     -999.0
33KB20131026,       PRS2,       2,          4,          6,       8006,2,20131028,       0020,  22.745000,-157.9973333,       4738,   450.5,   8.5227,  34.0909,2,-999.0000,5,    136.5,1,  -999.0,9, -999.00,9, -999.00,9,  -999.0,     451,     8.4752, -999.00,9,     -999.0
33KB20131026,       PRS2,       2,          4,          5,       8005,2,20131028,       0020,  22.745000,-157.9973333,       4738,   500.1,   7.4929,  34.0804,2,  34.0825,2,    108.6,1,  -999.0,9, -999.00,9, -999.00,9,  -999.0,     501,     7.4439, -999.00,9,     -999.0
33KB20131026,       PRS2,       2,          4,          4,       8004,2,20131028,       0020,  22.745000,-157.9973333,       4738,   550.2,   6.7461,  34.1145,2,-999.0000,5,     74.4,1,  -999.0,9, -999.00,9, -999.00,9,  -999.0,     550,     6.6951, -999.00,9,     -999.0
33KB20131026,       PRS2,       2,          4,          3,       8003,2,20131028,       0020,  22.745000,-157.9973333,       4738,   600.4,   6.4442,  34.1912,2,-999.0000,5,     52.9,1,  -999.0,9, -999.00,9, -999.00,9,  -999.0,     601,     6.3896, -999.00,9,     -999.0
33KB20131026,       PRS2,       2,          4,          2,       8002,2,20131028,       0020,  22.745000,-157.9973333,       4738,   600.3,   6.4441,  34.1913,2,-999.0000,5,     52.8,1,  -999.0,9, -999.00,9, -999.00,9,  -999.0,     601,     6.3895, -999.00,9,     -999.0
33KB20131026,       PRS2,       2,          4,          1,       8001,2,20131028,       0020,  22.745000,-157.9973333,       4738,  1020.8,   3.9384,  34.4573,2,  34.4575,2,     45.9,1,  -999.0,9, -999.00,9, -999.00,9,  -999.0,    1021,     3.8615, -999.00,9,     -999.0
33KB20131026,       PRS2,       2,          5,         22,       8022,2,20131028,       0250,  22.748667,-158.0005000,       4742,     7.0,  26.5399,  35.2082,2,  35.2085,2,    202.7,1,  -999.0,9, -999.00,9, -999.00,9,  -999.0,       7,    26.5383, -999.00,9,     -999.0
33KB20131026,       PRS2,       2,          5,         21,       8021,2,20131028,       0250,  22.748667,-158.0005000,       4742,    25.7,  26.3993,  35.1720,2,  35.1764,2,    203.4,1,  -999.0,9, -999.00,9, -999.00,9,  -999.0,      25,    26.3935, -999.00,9,     -999.0
33KB20131026,       PRS2,       2,          5,         20,       8020,2,20131028,       0250,  22.748667,-158.0005000,       4742,    45.2,  26.4245,  35.1954,2,  35.1971,2,    203.0,1,  -999.0,9, -999.00,9, -999.00,9,  -999.0,      45,    26.4143, -999.00,9,     -999.0
33KB20131026,       PRS2,       2,          5,         19,       8019,2,20131028,       0250,  22.748667,-158.0005000,       4742,    75.8,  23.8019,  35.2163,2,  35.2162,2,    220.1,1,  -999.0,9, -999.00,9, -999.00,9,  -999.0,      76,    23.7860, -999.00,9,     -999.0
33KB20131026,       PRS2,       2,          5,         18,       8018,2,20131028,       0250,  22.748667,-158.0005000,       4742,   100.0,  22.5523,  35.2242,2,  35.2253,2,    215.3,1,  -999.0,9, -999.00,9, -999.00,9,  -999.0,      99,    22.5321, -999.00,9,     -999.0
33KB20131026,       PRS2,       2,          5,         17,       8017,2,20131028,       0250,  22.748667,-158.0005000,       4742,   125.5,  21.6253,  35.2843,2,  35.2865,2,    206.9,1,  -999.0,9, -999.00,9, -999.00,9,  -999.0,     126,    21.6007, -999.00,9,     -999.0
33KB20131026,       PRS2,       2,          5,         16,       8016,2,20131028,       0250,  22.748667,-158.0005000,       4742,   150.2,  21.2517,  35.3457,2,  35.3468,2,    204.2,1,  -999.0,9, -999.00,9, -999.00,9,  -999.0,     151,    21.2227, -999.00,9,     -999.0
33KB20131026,       PRS2,       2,          5,         15,       8015,2,20131028,       0250,  22.748667,-158.0005000,       4742,   175.2,  20.7160,  35.3169,2,  35.3151,2,    201.8,1,  -999.0,9, -999.00,9, -999.00,9,  -999.0,     175,    20.6827, -999.00,9,     -999.0
33KB20131026,       PRS2,       2,          5,         14,       8014,2,20131028,       0250,  22.748667,-158.0005000,       4742,   200.1,  20.2160,  35.2244,2,  35.2012,3,    200.5,1,  -999.0,9, -999.00,9, -999.00,9,  -999.0,     200,    20.1786, -999.00,9,     -999.0
33KB20131026,       PRS2,       2,          5,         13,       8025,2,20131028,       0250,  22.748667,-158.0005000,       4742,   250.5,  16.9942,  34.6996,2,  34.6952,2,    196.7,1,  -999.0,9, -999.00,9, -999.00,9,  -999.0,     250,    16.9529, -999.00,9,     -999.0
33KB20131026,       PRS2,       2,          5,         12,       8012,2,20131028,       0250,  22.748667,-158.0005000,       4742,   350.4,  11.3453,  34.1661,2,  34.1709,2,    195.2,1,  -999.0,9, -999.00,9, -999.00,9,  -999.0,     351,    11.3014, -999.00,9,     -999.0
33KB20131026,       PRS2,       2,          5,         11,       8011,2,20131028,       0250,  22.748667,-158.0005000,       4742,   350.9,  11.3366,  34.1674,2,  34.1693,2,    195.2,1,  -999.0,9, -999.00,9, -999.00,9,  -999.0,     351,    11.2926, -999.00,9,     -999.0
33KB20131026,       PRS2,       2,          5,         10,       8010,2,20131028,       0250,  22.748667,-158.0005000,       4742,   499.6,   7.7194,  34.0772,2,  34.0789,2,    115.5,1,  -999.0,9, -999.00,9, -999.00,9,  -999.0,     500,     7.6696, -999.00,9,     -999.0
33KB20131026,       PRS2,       2,          5,          9,       8009,2,20131028,       0250,  22.748667,-158.0005000,       4742,   650.1,   5.2339,  34.1706,2,-999.0000,5,     50.9,1,  -999.0,9, -999.00,9, -999.00,9,  -999.0,     651,     5.1806, -999.00,9,     -999.0
33KB20131026,       PRS2,       2,          5,          8,       8008,2,20131028,       0250,  22.748667,-158.0005000,       4742,   700.9,   4.9764,  34.2043,2,-999.0000,5,     45.0,1,  -999.0,9, -999.00,9, -999.00,9,  -999.0,     700,     4.9200, -999.00,9,     -999.0
33KB20131026,       PRS2,       2,          5,          7,       8026,2,20131028,       0250,  22.748667,-158.0005000,       4742,   750.1,   4.6666,  34.2437,2,-999.0000,5,     38.3,1,  -999.0,9, -999.00,9, -999.00,9,  -999.0,     749,     4.6078, -999.00,9,     -999.0
33KB20131026,       PRS2,       2,          5,          6,       8006,2,20131028,       0250,  22.748667,-158.0005000,       4742,   770.0,   4.6069,  34.2784,2,-999.0000,5,     37.4,1,  -999.0,9, -999.00,9, -999.00,9,  -999.0,     770,     4.5466, -999.00,9,     -999.0
33KB20131026,       PRS2,       2,          5,          5,       8005,2,20131028,       0250,  22.748667,-158.0005000,       4742,   799.9,   4.4524,  34.3133,2,-999.0000,5,     35.7,1,  -999.0,9, -999.00,9, -999.00,9,  -999.0,     799,     4.3905, -999.00,9,     -999.0
33KB20131026,       PRS2,       2,          5,          4,       8004,2,20131028,       0250,  22.748667,-158.0005000,       4742,   849.8,   4.2915,  34.3549,2,-999.0000,5,     36.4,1,  -999.0,9, -999.00,9, -999.00,9,  -999.0,     850,     4.2264, -999.00,9,     -999.0
33KB20131026,       PRS2,       2,          5,          3,       8003,2,20131028,       0250,  22.748667,-158.0005000,       4742,   900.4,   4.1661,  34.3896,2,-999.0000,5,     38.6,1,  -999.0,9, -999.00,9, -999.00,9,  -999.0,     901,     4.0976, -999.00,9,     -999.0
33KB20131026,       PRS2,       2,          5,          2,       8002,2,20131028,       0250,  22.748667,-158.0005000,       4742,  1019.7,   3.8821,  34.4649,2,-999.0000,5,     46.9,1,  -999.0,9, -999.00,9, -999.00,9,  -999.0,    1020,     3.8058, -999.00,9,     -999.0
33KB20131026,       PRS2,       2,          5,          1,       8001,2,20131028,       0250,  22.748667,-158.0005000,       4742,  1019.6,   3.8886,  34.4637,2,  34.4661,2,     47.0,1,  -999.0,9, -999.00,9, -999.00,9,  -999.0,    1019,     3.8123, -999.00,9,     -999.0