BOTTLE,20120530PRINUNIVRMK
EXPOCODE,SECT_ID,STNNBR,CASTNO,SAMPNO,BTLNBR,BTLNBR_FLAG_W,DATE,TIME,LATITUDE,LONGITUDE,DEPTH,CTDPRS,CTDTMP,CTDSAL,CTDSAL_FLAG_W,SALNTY,SALNTY_FLAG_W,CTDOXY,CTDOXY_FLAG_W,OXYGEN,OXYGEN_FLAG_W,SILCAT,SILCAT_FLAG_W,NITRAT,NITRAT_FLAG_W,PHSPHT,PHSPHT_FLAG_W,CFC-11,CFC-11_FLAG_W,CFC-12,CFC-12_FLAG_W,CFC113,CFC113_FLAG_W,CCL4,CCL4_FLAG_W,MCHFRM,MCHFRM_FLAG_W,TCARBN,TCARBN_FLAG_W,ALKALI,ALKALI_FLAG_W,THETA,BTL_DATE,BTL_TIME
,,,,,,,,,,,METERS,DBAR,ITS-90,PSS-78,,PSS-78,,UMOL/KG,,UMOL/KG,,UMOL/KG,,UMOL/KG,,UMOL/KG,,PMOL/KG,,PMOL/KG,,PMOL/KG,,PMOL/KG,,PMOL/KG,,UMOL/KG,,UMOL/KG,,DEG C,,
  18HU20060524, AR07W,   136,  1, 299108,      1,2,20060529,1040, 58.2162, -50.8792, 3481,   3599.1,   1.6167,  34.8834,2,  34.8794,2,    296.9,2,    294.7,2,     9.58,6,    13.96,6,     0.94,6, -999.000,9, -999.000,9, -999.000,9, -999.000,9, -999.000,9,   2156.4,2,   2324.2,3,   1.3362, 20060529,     1040
  18HU20060524, AR07W,   136,  1, 299109,      2,2,20060529,1040, 58.2162, -50.8792, 3481,   3521.9,   1.6163,  34.8832,2,  34.8792,2,    296.2,2,    295.7,2,     9.20,6,    14.09,6,     0.94,6, -999.000,9, -999.000,9, -999.000,9, -999.000,9, -999.000,9,   2154.5,2,   2320.9,2,   1.3438, 20060529,     1042
  18HU20060524, AR07W,   136,  1, 299110,      3,2,20060529,1040, 58.2162, -50.8792, 3481,   3427.8,   1.9299,  34.8862,2,  34.8817,2,    291.8,2,    273.0,3,     9.91,6,    14.66,6,     0.97,6, -999.000,9, -999.000,9, -999.000,9, -999.000,9, -999.000,9,   2154.2,2,   2320.4,2,   1.6593, 20060529,     1044
  18HU20060524, AR07W,   136,  1, 299111,      4,2,20060529,1040, 58.2162, -50.8792, 3481,   3318.0,   2.2304,  34.8946,2,  34.8907,2,    285.1,2,    266.9,3,    12.20,6,    15.48,6,     1.01,6, -999.000,9, -999.000,9, -999.000,9, -999.000,9, -999.000,9,   2160.9,2,   2320.6,2,   1.9640, 20060529,     1047
  18HU20060524, AR07W,   136,  1, 299112,      5,2,20060529,1040, 58.2162, -50.8792, 3481,   3200.5,   2.4541,  34.9050,2,  34.9041,6,    279.5,2,    280.5,2,    13.51,6,    16.15,6,     1.05,6, -999.000,9, -999.000,9, -999.000,9, -999.000,9, -999.000,9,   2158.6,2,   2316.6,2,   2.1946, 20060529,     1051
  18HU20060524, AR07W,   136,  1, 299113,      6,2,20060529,1040, 58.2162, -50.8792, 3481,   2984.7,   2.7226,  34.9147,2,  34.9533,6,    277.1,2,    277.6,2,    12.68,6,    16.49,6,     1.05,6, -999.000,9, -999.000,9, -999.000,9, -999.000,9, -999.000,9,   2155.2,3,   2321.1,3,   2.4795, 20060529,     1056
  18HU20060524, AR07W,   136,  1, 299114,      7,2,20060529,1040, 58.2162, -50.8792, 3481,   2831.4,   2.8401,  34.9135,2,  34.9112,2,    275.8,2,    243.5,3,    12.71,6,    16.78,6,     1.08,6, -999.000,9, -999.000,9, -999.000,9, -999.000,9, -999.000,9,   2161.2,2,   2347.9,4,   2.6102, 20060529,     1100
  18HU20060524, AR07W,   136,  1, 299115,      8,2,20060529,1040, 58.2162, -50.8792, 3481,   2699.6,   2.9405,  34.9105,2,  34.9081,2,    275.4,2,    269.5,3,    12.25,6,    16.96,6,     1.10,6, -999.000,9, -999.000,9, -999.000,9, -999.000,9, -999.000,9,   2161.3,2,   2357.0,4,   2.7219, 20060529,     1103
  18HU20060524, AR07W,   136,  1, 299116,      9,2,20060529,1040, 58.2162, -50.8792, 3481,   2450.5,   3.0842,  34.9044,2,  34.9018,2,    275.7,2,    284.0,2,    12.30,6,    17.00,6,     1.09,6, -999.000,9, -999.000,9, -999.000,9, -999.000,9, -999.000,9,   2159.8,2,   2334.9,2,   2.8877, 20060529,     1108
  18HU20060524, AR07W,   136,  1, 299117,     10,2,20060529,1040, 58.2162, -50.8792, 3481,   2141.0,   3.2265,  34.8934,2,  34.8912,2,    276.5,2,    280.1,2,    11.67,6,    17.30,6,     1.10,6, -999.000,9, -999.000,9, -999.000,9, -999.000,9, -999.000,9,   2162.2,2,   2327.8,2,   3.0575, 20060529,     1115
  18HU20060524, AR07W,   136,  1, 299118,     11,2,20060529,1040, 58.2162, -50.8792, 3481,   1839.3,   3.4250,  34.8984,2,  34.8964,6,    273.0,2,    280.4,2,    10.90,6,    17.74,6,     1.11,6, -999.000,9, -999.000,9, -999.000,9, -999.000,9, -999.000,9,   2164.4,2,   2322.6,2,   3.2811, 20060529,     1120
  18HU20060524, AR07W,   136,  1, 299119,     12,2,20060529,1040, 58.2162, -50.8792, 3481,   1630.8,   3.5152,  34.8891,2,  34.8876,2,    274.5,2,    277.4,2,    10.36,6,    17.74,6,     1.10,6, -999.000,9, -999.000,9, -999.000,9, -999.000,9, -999.000,9,   2163.1,2,   2312.1,2,   3.3891, 20060529,     1125
  18HU20060524, AR07W,   136,  1, 299120,     13,2,20060529,1040, 58.2162, -50.8792, 3481,   1631.7,   3.5149,  34.8892,2,-999.0000,9,    274.5,2,   -999.0,9,  -999.00,9,  -999.00,9,  -999.00,9, -999.000,9, -999.000,9, -999.000,9, -999.000,9, -999.000,9,   -999.0,9,   -999.0,9,   3.3887, 20060529,     1125
  18HU20060524, AR07W,   136,  1, 299121,     14,2,20060529,1040, 58.2162, -50.8792, 3481,   1349.8,   3.4423,  34.8584,2,  34.8566,2,    285.0,2,    287.5,2,     9.34,6,    17.31,6,     1.07,6, -999.000,9, -999.000,9, -999.000,9, -999.000,9, -999.000,9,   2160.4,2,   2292.7,3,   3.3416, 20060529,     1130
  18HU20060524, AR07W,   136,  1, 299122,     15,2,20060529,1040, 58.2162, -50.8792, 3481,   1098.1,   3.4905,  34.8579,2,  34.8564,2,    289.2,2,    293.1,2,     8.81,6,    16.92,6,     1.06,6, -999.000,9, -999.000,9, -999.000,9, -999.000,9, -999.000,9,   2161.2,2,   2310.7,2,   3.4103, 20060529,     1135
  18HU20060524, AR07W,   136,  1, 299123,     16,2,20060529,1040, 58.2162, -50.8792, 3481,    870.7,   3.4778,  34.8522,2,  34.8501,2,    294.8,2,    298.5,2,     8.37,6,    16.68,6,     1.02,6, -999.000,9, -999.000,9, -999.000,9, -999.000,9, -999.000,9,   2159.3,2,   2292.0,3,   3.4158, 20060529,     1142
  18HU20060524, AR07W,   136,  1, 299124,     17,2,20060529,1040, 58.2162, -50.8792, 3481,    689.7,   3.4963,  34.8512,2,  34.8497,2,    294.0,2,    299.3,2,     8.35,6,    16.80,6,     1.02,6, -999.000,9, -999.000,9, -999.000,9, -999.000,9, -999.000,9,   2156.5,2,   2306.9,2,   3.4480, 20060529,     1147
  18HU20060524, AR07W,   136,  1, 299125,     18,2,20060529,1040, 58.2162, -50.8792, 3481,    505.8,   3.4759,  34.8432,2,  34.8415,2,    294.4,2,    298.8,2,     8.34,6,    16.86,6,     1.02,6, -999.000,9, -999.000,9, -999.000,9, -999.000,9, -999.000,9,   2155.9,2,   2281.5,3,   3.4413, 20060529,     1150
  18HU20060524, AR07W,   136,  1, 299126,     19,2,20060529,1040, 58.2162, -50.8792, 3481,    360.0,   3.5807,  34.8511,2,  34.8497,2,    297.4,2,    301.5,2,     8.10,6,    16.67,6,     1.01,6, -999.000,9, -999.000,9, -999.000,9, -999.000,9, -999.000,9,   2154.3,2,   2290.9,3,   3.5562, 20060529,     1154
  18HU20060524, AR07W,   136,  1, 299127,     20,2,20060529,1040, 58.2162, -50.8792, 3481,    239.8,   3.7285,  34.8615,2,-999.0000,9,    301.2,2,    304.8,2,     7.98,6,    16.23,6,     1.00,6, -999.000,9, -999.000,9, -999.000,9, -999.000,9, -999.000,9,   2156.6,2,   2310.7,2,   3.7121, 20060529,     1157
  18HU20060524, AR07W,   136,  1, 299128,     21,2,20060529,1040, 58.2162, -50.8792, 3481,    140.5,   3.7391,  34.8505,2,-999.0000,9,    303.9,2,   -999.0,9,     8.13,6,    15.47,6,     0.99,6, -999.000,9, -999.000,9, -999.000,9, -999.000,9, -999.000,9,   2153.7,2,   2310.9,2,   3.7296, 20060529,     1159
  18HU20060524, AR07W,   136,  1, 299129,     22,2,20060529,1040, 58.2162, -50.8792, 3481,     72.2,   3.5032,  34.7883,2,-999.0000,9,    301.9,2,   -999.0,9,     8.03,6,    14.94,6,     1.00,6, -999.000,9, -999.000,9, -999.000,9, -999.000,9, -999.000,9,   2152.9,2,   2307.6,2,   3.4985, 20060529,     1201
  18HU20060524, AR07W,   136,  1, 299130,     23,2,20060529,1040, 58.2162, -50.8792, 3481,     35.3,   4.0918,  34.7473,2,-999.0000,9,    323.4,2,    327.3,2,     4.54,6,    10.37,6,     0.76,6, -999.000,9, -999.000,9, -999.000,9, -999.000,9, -999.000,9,   2130.3,2,   2321.0,2,   4.0893, 20060529,     1203
  18HU20060524, AR07W,   136,  1, 299131,     24,2,20060529,1040, 58.2162, -50.8792, 3481,      2.3,   5.1381,  34.6937,2,-999.0000,9,    341.8,2,    346.3,2,     2.29,6,     4.06,6,     0.32,6, -999.000,9, -999.000,9, -999.000,9, -999.000,9, -999.000,9,   2080.0,2,   2308.1,2,   5.1379, 20060529,     1204
  18HU20060524, AR07W,   144,  1, 299132,      1,2,20060529,1613, 58.6455, -50.4138, 3455,   3567.6,   1.5912,  34.8826,2,  34.8808,2,    296.7,2,    294.3,2,    10.06,6,    13.98,6,     0.95,6, -999.000,9, -999.000,9, -999.000,9, -999.000,9, -999.000,9,   2164.0,2,   -999.0,9,   1.3146, 20060529,     1613
  18HU20060524, AR07W,   144,  1, 299133,      2,2,20060529,1613, 58.6455, -50.4138, 3455,   3502.2,   1.5885,  34.8828,2,  34.8808,2,    296.1,2,    296.3,2,    10.01,6,    13.86,6,     0.96,6, -999.000,9, -999.000,9, -999.000,9, -999.000,9, -999.000,9,   2162.9,3,   -999.0,9,   1.3187, 20060529,     1615
  18HU20060524, AR07W,   144,  1, 299134,      3,2,20060529,1613, 58.6455, -50.4138, 3455,   3410.9,   1.8004,  34.8855,2,  34.8837,2,    294.0,2,    293.4,2,     9.93,6,    13.97,6,     0.98,6, -999.000,9, -999.000,9, -999.000,9, -999.000,9, -999.000,9,   2160.8,2,   -999.0,9,   1.5348, 20060529,     1618
  18HU20060524, AR07W,   144,  1, 299135,      4,2,20060529,1613, 58.6455, -50.4138, 3455,   3318.8,   2.0838,  34.8896,2,  34.8874,2,    288.4,2,    287.7,2,    11.14,6,    14.53,6,     0.99,6, -999.000,9, -999.000,9, -999.000,9, -999.000,9, -999.000,9,   2159.1,2,   -999.0,9,   1.8208, 20060529,     1623
  18HU20060524, AR07W,   144,  1, 299136,      5,2,20060529,1613, 58.6455, -50.4138, 3455,   3200.1,   2.3563,  34.8989,2,  34.8975,2,    283.1,2,    282.6,2,    12.56,6,    14.94,6,     1.02,6, -999.000,9, -999.000,9, -999.000,9, -999.000,9, -999.000,9,   2160.2,2,   -999.0,9,   2.0992, 20060529,     1627
  18HU20060524, AR07W,   144,  1, 299137,      6,2,20060529,1613, 58.6455, -50.4138, 3455,   3059.6,   2.5513,  34.9066,2,  34.9052,6,    279.8,2,    280.2,2,    12.67,6,    15.30,6,     1.04,6, -999.000,9, -999.000,9, -999.000,9, -999.000,9, -999.000,9,   2157.5,2,   -999.0,9,   2.3042, 20060529,     1630
  18HU20060524, AR07W,   144,  1, 299138,      7,2,20060529,1613, 58.6455, -50.4138, 3455,   2900.6,   2.7463,  34.9103,2,  34.9079,2,    277.8,2,    279.1,2,    12.27,6,    15.51,6,     1.04,6, -999.000,9, -999.000,9, -999.000,9, -999.000,9, -999.000,9,   2157.6,2,   -999.0,9,   2.5113, 20060529,     1633
  18HU20060524, AR07W,   144,  1, 299139,      8,2,20060529,1613, 58.6455, -50.4138, 3455,   2705.1,   2.9128,  34.9090,2,  34.9069,2,    276.7,2,    279.1,2,    11.71,6,    15.43,6,     1.04,6, -999.000,9, -999.000,9, -999.000,9, -999.000,9, -999.000,9,   2158.2,2,   -999.0,9,   2.6942, 20060529,     1637
  18HU20060524, AR07W,   144,  1, 299140,      9,2,20060529,1613, 58.6455, -50.4138, 3455,   2499.6,   3.0539,  34.9060,2,  34.9043,2,    276.2,2,    279.0,2,    11.34,6,    16.04,6,     1.06,6, -999.000,9, -999.000,9, -999.000,9, -999.000,9, -999.000,9,   2157.8,2,   -999.0,9,   2.8531, 20060529,     1640
  18HU20060524, AR07W,   144,  1, 299141,     10,2,20060529,1613, 58.6455, -50.4138, 3455,   2268.7,   3.1828,  34.9000,2,  34.8971,2,    276.2,2,    285.8,3,    10.97,6,    16.40,6,     1.07,6, -999.000,9, -999.000,9, -999.000,9, -999.000,9, -999.000,9,   2156.5,2,   -999.0,9,   3.0023, 20060529,     1644
  18HU20060524, AR07W,   144,  1, 299142,     11,2,20060529,1613, 58.6455, -50.4138, 3455,   2023.5,   3.3086,  34.8941,2,  34.8920,6,    275.4,2,    278.5,2,    11.07,6,    17.12,6,     1.10,6, -999.000,9, -999.000,9, -999.000,9, -999.000,9, -999.000,9,   2157.0,2,   -999.0,9,   3.1494, 20060529,     1649
  18HU20060524, AR07W,   144,  1, 299143,     12,2,20060529,1613, 58.6455, -50.4138, 3455,   1771.3,   3.5253,  34.9022,2,  34.9000,2,    272.3,2,    276.1,2,    10.69,6,    17.11,6,     1.08,6, -999.000,9, -999.000,9, -999.000,9, -999.000,9, -999.000,9,   2159.4,2,   -999.0,9,   3.3863, 20060529,     1653
  18HU20060524, AR07W,   144,  1, 299144,     13,2,20060529,1613, 58.6455, -50.4138, 3455,   1530.7,   3.5139,  34.8789,2,  34.8760,2,    278.0,2,    281.7,2,     9.83,6,    16.97,6,     1.07,6, -999.000,9, -999.000,9, -999.000,9, -999.000,9, -999.000,9,   2159.2,2,   -999.0,9,   3.3967, 20060529,     1657
  18HU20060524, AR07W,   144,  1, 299145,     14,2,20060529,1613, 58.6455, -50.4138, 3455,   1287.7,   3.5189,  34.8657,2,  34.8633,2,    285.8,2,    289.7,2,     9.08,6,    16.71,6,     1.06,6, -999.000,9, -999.000,9, -999.000,9, -999.000,9, -999.000,9,   2155.3,2,   -999.0,9,   3.4227, 20060529,     1701
  18HU20060524, AR07W,   144,  1, 299146,     15,2,20060529,1613, 58.6455, -50.4138, 3455,   1070.6,   3.4981,  34.8569,2,  34.8546,2,    291.7,2,    295.6,2,     8.49,6,    16.38,6,     1.03,6, -999.000,9, -999.000,9, -999.000,9, -999.000,9, -999.000,9,   2154.3,2,   -999.0,9,   3.4200, 20060529,     1705
  18HU20060524, AR07W,   144,  1, 299147,     16,2,20060529,1613, 58.6455, -50.4138, 3455,    871.1,   3.4608,  34.8491,2,  34.8466,2,    294.5,2,    299.2,2,     8.35,6,    15.68,6,     1.01,6, -999.000,9, -999.000,9, -999.000,9, -999.000,9, -999.000,9,   2157.3,2,   -999.0,9,   3.3989, 20060529,     1709
  18HU20060524, AR07W,   144,  1, 299148,     17,2,20060529,1613, 58.6455, -50.4138, 3455,    679.3,   3.5196,  34.8559,2,  34.8537,2,    295.9,2,    300.6,2,     8.40,6,    15.76,6,     1.02,6, -999.000,9, -999.000,9, -999.000,9, -999.000,9, -999.000,9,   2158.3,2,   -999.0,9,   3.4720, 20060529,     1712
  18HU20060524, AR07W,   144,  1, 299149,     18,2,20060529,1613, 58.6455, -50.4138, 3455,    510.9,   3.6028,  34.8625,2,  34.8599,2,    293.5,2,    297.4,2,     8.51,6,    15.68,6,     1.01,6, -999.000,9, -999.000,9, -999.000,9, -999.000,9, -999.000,9,   2159.1,2,   -999.0,9,   3.5673, 20060529,     1716
  18HU20060524, AR07W,   144,  1, 299150,     19,2,20060529,1613, 58.6455, -50.4138, 3455,    359.8,   3.7008,  34.8653,2,  34.8625,2,    295.4,2,    300.0,2,     8.31,6,    15.38,6,     1.00,6, -999.000,9, -999.000,9, -999.000,9, -999.000,9, -999.000,9,   2157.9,2,   -999.0,9,   3.6760, 20060529,     1719
  18HU20060524, AR07W,   144,  1, 299151,     20,2,20060529,1613, 58.6455, -50.4138, 3455,    240.4,   3.6993,  34.8580,2,-999.0000,9,    299.4,2,    303.1,2,     8.25,6,    14.99,6,     0.98,6, -999.000,9, -999.000,9, -999.000,9, -999.000,9, -999.000,9,   2156.1,2,   -999.0,9,   3.6829, 20060529,     1721
  18HU20060524, AR07W,   144,  1, 299152,     21,2,20060529,1613, 58.6455, -50.4138, 3455,    138.1,   3.8010,  34.8591,2,-999.0000,9,    300.9,2,    305.1,2,     8.04,6,    14.25,6,     0.95,6, -999.000,9, -999.000,9, -999.000,9, -999.000,9, -999.000,9,   2156.1,2,   -999.0,9,   3.7916, 20060529,     1723
  18HU20060524, AR07W,   144,  1, 299153,     22,2,20060529,1613, 58.6455, -50.4138, 3455,     72.4,   4.0020,  34.8597,2,-999.0000,9,    301.0,2,    304.5,2,     7.84,6,    13.87,6,     0.94,6, -999.000,9, -999.000,9, -999.000,9, -999.000,9, -999.000,9,   2152.3,2,   -999.0,9,   3.9970, 20060529,     1725
  18HU20060524, AR07W,   144,  1, 299154,     23,2,20060529,1613, 58.6455, -50.4138, 3455,     37.3,   4.4720,  34.8103,2,-999.0000,9,    316.6,2,    320.7,2,     6.75,6,    10.80,6,     0.78,6, -999.000,9, -999.000,9, -999.000,9, -999.000,9, -999.000,9,   2135.9,2,   -999.0,9,   4.4693, 20060529,     1727
  18HU20060524, AR07W,   144,  1, 299155,     24,2,20060529,1613, 58.6455, -50.4138, 3455,      2.8,   5.5121,  34.7748,2,-999.0000,9,    335.0,2,    339.6,2,     2.59,6,     6.07,6,     0.43,6, -999.000,9, -999.000,9, -999.000,9, -999.000,9, -999.000,9,   2091.5,2,   -999.0,9,   5.5119, 20060529,     1728