BOTTLE,20120530PRINUNIVRMK
EXPOCODE,SECT_ID,STNNBR,CASTNO,SAMPNO,BTLNBR,BTLNBR_FLAG_W,DATE,TIME,LATITUDE,LONGITUDE,DEPTH,CTDPRS,CTDTMP,CTDSAL,CTDSAL_FLAG_W,SALNTY,SALNTY_FLAG_W,CTDOXY,CTDOXY_FLAG_W,OXYGEN,OXYGEN_FLAG_W,SILCAT,SILCAT_FLAG_W,NITRAT,NITRAT_FLAG_W,PHSPHT,PHSPHT_FLAG_W,CFC-11,CFC-11_FLAG_W,CFC-12,CFC-12_FLAG_W,CFC113,CFC113_FLAG_W,CCL4,CCL4_FLAG_W,MCHFRM,MCHFRM_FLAG_W,TCARBN,TCARBN_FLAG_W,ALKALI,ALKALI_FLAG_W,THETA,BTL_DATE,BTL_TIME
,,,,,,,,,,,METERS,DBAR,ITS-90,PSS-78,,PSS-78,,UMOL/KG,,UMOL/KG,,UMOL/KG,,UMOL/KG,,UMOL/KG,,PMOL/KG,,PMOL/KG,,PMOL/KG,,PMOL/KG,,PMOL/KG,,UMOL/KG,,UMOL/KG,,DEG C,,
  18HU20060524, AR07W,   269,  1, 299653,      1,2,20060607,0049, 42.3785, -61.3033, 3298,   3417.7,   2.2841,  34.8986,2,  34.8975,2,    274.9,2,    275.1,2,  -999.00,9,  -999.00,9,  -999.00,9,    2.150,2,    0.880,2,    0.160,2,    4.370,2,   37.560,2,   2168.6,2,   2298.2,2,   2.0058, 20060607,       49
  18HU20060524, AR07W,   269,  1, 299654,      2,2,20060607,0049, 42.3785, -61.3033, 3298,   3321.4,   2.2891,  34.8993,2,  34.8976,2,    274.5,2,    274.4,2,  -999.00,9,  -999.00,9,  -999.00,9,    2.080,2,    0.860,2,    0.170,2,    4.070,2,   35.450,2,   2168.9,2,   2299.3,3,   2.0209, 20060607,       51
  18HU20060524, AR07W,   269,  1, 299655,      3,2,20060607,0049, 42.3785, -61.3033, 3298,   3241.0,   2.3136,  34.9008,2,  34.8988,2,    274.1,2,    274.5,2,  -999.00,9,  -999.00,9,  -999.00,9,    2.150,2,    0.860,2,    0.150,2,    4.330,2,   39.640,2,   2166.7,2,   2291.7,2,   2.0532, 20060607,       53
  18HU20060524, AR07W,   269,  1, 299656,      4,2,20060607,0049, 42.3785, -61.3033, 3298,   3139.5,   2.3588,  34.9031,2,  34.9002,2,    273.4,2,    274.7,2,  -999.00,9,  -999.00,9,  -999.00,9,    2.040,2,    0.830,2,    0.170,2,    4.130,2,   36.750,2,   2166.2,2,   2291.9,2,   2.1078, 20060607,       55
  18HU20060524, AR07W,   269,  1, 299657,      5,2,20060607,0049, 42.3785, -61.3033, 3298,   3039.8,   2.4185,  34.9065,2,  34.9049,2,    272.4,2,    273.9,2,  -999.00,9,  -999.00,9,  -999.00,9,    1.960,2,    0.740,2,    0.150,2,    4.030,2,   36.360,2,   2164.8,2,   2285.9,2,   2.1764, 20060607,       57
  18HU20060524, AR07W,   269,  1, 299658,      6,2,20060607,0049, 42.3785, -61.3033, 3298,   2920.5,   2.4960,  34.9096,2,  34.9083,6,    271.7,2,    273.8,2,  -999.00,9,  -999.00,9,  -999.00,9,    1.970,2,    0.770,2,    0.100,2,    4.030,2,   35.930,2,   2164.5,2,   2293.2,2,   2.2643, 20060607,      100
  18HU20060524, AR07W,   269,  1, 299659,      7,2,20060607,0049, 42.3785, -61.3033, 3298,   2781.3,   2.6114,  34.9143,2,  34.9130,2,    270.5,2,    272.9,2,  -999.00,9,  -999.00,9,  -999.00,9,    1.800,2,    0.700,2,    0.140,2,    3.620,2,   31.700,2,   2160.6,2,   2294.8,2,   2.3912, 20060607,      103
  18HU20060524, AR07W,   269,  1, 299660,      8,2,20060607,0049, 42.3785, -61.3033, 3298,   2641.1,   2.7672,  34.9209,2,  34.9191,6,    268.5,2,    270.9,2,  -999.00,9,  -999.00,9,  -999.00,9,    1.760,2,    0.650,2,    0.090,2,    3.700,2,   35.190,2,   2161.6,2,   2291.4,2,   2.5578, 20060607,      106
  18HU20060524, AR07W,   269,  1, 299661,      9,2,20060607,0049, 42.3785, -61.3033, 3298,   2501.4,   2.9333,  34.9313,2,  34.9299,2,    265.2,2,    266.1,2,  -999.00,9,  -999.00,9,  -999.00,9,    1.420,2,    0.470,3,    0.090,2,    3.150,2,   28.790,2,   2160.6,2,   2286.0,2,   2.7345, 20060607,      109
  18HU20060524, AR07W,   269,  1, 299662,     10,2,20060607,0049, 42.3785, -61.3033, 3298,   2340.6,   3.0611,  34.9325,2,  34.9308,2,    265.6,2,    266.3,2,  -999.00,9,  -999.00,9,  -999.00,9,    1.540,2,    0.540,2,    0.120,2,    3.270,2,   29.830,2,   2160.1,2,   2290.7,2,   2.8756, 20060607,      111
  18HU20060524, AR07W,   269,  1, 299663,     11,2,20060607,0049, 42.3785, -61.3033, 3298,   2160.4,   3.2010,  34.9325,2,  34.9305,2,    265.7,2,    266.7,2,  -999.00,9,  -999.00,9,  -999.00,9,    1.780,2,    0.650,2,    0.110,2,    3.770,2,   36.470,2,   2161.6,2,   2289.3,2,   3.0304, 20060607,      115
  18HU20060524, AR07W,   269,  1, 299664,     12,2,20060607,0049, 42.3785, -61.3033, 3298,   1979.6,   3.3280,  34.9303,2,  34.9275,2,    266.3,2,    267.5,2,  -999.00,9,  -999.00,9,  -999.00,9,    2.070,2,    0.810,2,    0.120,2,    4.280,2,   42.480,4,   2160.0,2,   2286.2,2,   3.1725, 20060607,      118
  18HU20060524, AR07W,   269,  1, 299665,     13,2,20060607,0049, 42.3785, -61.3033, 3298,   1801.4,   3.4565,  34.9353,2,  34.9324,2,    265.3,2,    266.6,6,  -999.00,9,  -999.00,9,  -999.00,9,    2.110,2,    0.820,2,    0.080,2,    4.340,2,   43.410,4,   2159.3,2,   2290.8,2,   3.3156, 20060607,      121
  18HU20060524, AR07W,   269,  1, 299666,     14,2,20060607,0049, 42.3785, -61.3033, 3298,   1601.5,   3.5743,  34.9334,2,  34.9316,2,    264.4,2,    266.0,2,  -999.00,9,  -999.00,9,  -999.00,9,    2.420,2,    1.020,2,    0.120,2,    4.670,2,   46.520,4,   2159.8,2,   2281.4,2,   3.4500, 20060607,      125
  18HU20060524, AR07W,   269,  1, 299667,     15,2,20060607,0049, 42.3785, -61.3033, 3298,   1400.7,   3.7355,  34.9366,2,  34.9344,2,    263.0,2,    264.8,2,  -999.00,9,  -999.00,9,  -999.00,9,    2.760,2,    1.220,2,    0.130,2,    5.120,2,   49.050,4,   2161.5,2,   2283.1,2,   3.6271, 20060607,      128
  18HU20060524, AR07W,   269,  1, 299668,     16,2,20060607,0049, 42.3785, -61.3033, 3298,   1200.5,   3.9699,  34.9563,2,  34.9536,2,    258.0,2,    259.9,2,  -999.00,9,  -999.00,9,  -999.00,9,    2.650,2,    1.180,2,    0.170,2,    4.770,2,   42.070,4,   2163.8,2,   2277.2,2,   3.8766, 20060607,      131
  18HU20060524, AR07W,   269,  1, 299669,     17,2,20060607,0049, 42.3785, -61.3033, 3298,   1040.5,   4.1793,  34.9727,2,  34.9701,2,    252.8,2,    254.8,2,  -999.00,9,  -999.00,9,  -999.00,9,    2.570,2,    1.140,2,    0.110,2,    4.550,2,   41.070,4,   2164.4,2,   2280.5,2,   4.0980, 20060607,      136
  18HU20060524, AR07W,   269,  1, 299670,     18,2,20060607,0049, 42.3785, -61.3033, 3298,    821.0,   4.2016,  34.9408,2,  34.9381,2,    258.0,2,    260.2,2,  -999.00,9,  -999.00,9,  -999.00,9,    3.550,2,    1.770,2,    0.230,2,    6.020,2,   41.860,4,   2163.5,2,   2294.6,2,   4.1387, 20060607,      142
  18HU20060524, AR07W,   269,  1, 299671,     19,2,20060607,0049, 42.3785, -61.3033, 3298,    651.0,   4.6454,  34.9642,2,  34.9633,2,    243.8,2,    245.5,2,  -999.00,9,  -999.00,9,  -999.00,9,    3.110,2,    1.500,2,    0.220,2,    5.050,2,   35.140,2,   2168.4,2,   2274.7,3,   4.5941, 20060607,      145
  18HU20060524, AR07W,   269,  1, 299672,     20,2,20060607,0049, 42.3785, -61.3033, 3298,    500.9,   5.1459,  34.9800,2,  34.9786,2,    226.2,2,    227.9,2,  -999.00,9,  -999.00,9,  -999.00,9,    2.750,2,    1.260,2,    0.170,2,    4.300,2,   30.670,2,   2173.2,2,   2286.2,2,   5.1050, 20060607,      148
  18HU20060524, AR07W,   269,  1, 299673,     21,2,20060607,0049, 42.3785, -61.3033, 3298,    349.8,   6.1688,  35.0026,2,  34.9963,2,    192.4,2,    195.3,2,  -999.00,9,  -999.00,9,  -999.00,9,    2.880,3,    0.980,2,    0.070,2,    3.080,2,   24.670,2,   2183.3,2,   2288.1,2,   6.1379, 20060607,      155
  18HU20060524, AR07W,   269,  1, 299674,     22,2,20060607,0049, 42.3785, -61.3033, 3298,    200.2,   8.5882,  35.1306,2,  34.9055,3,    146.5,2,    149.3,2,  -999.00,9,  -999.00,9,  -999.00,9,    1.550,2,    0.590,2,    0.070,2,    1.450,2,   12.950,2,   2191.4,2,   2292.1,2,   8.5670, 20060607,      158
  18HU20060524, AR07W,   269,  1, 299675,     23,2,20060607,0049, 42.3785, -61.3033, 3298,    102.1,  10.9102,  35.1137,2,  34.8780,3,    190.5,2,    193.4,2,  -999.00,9,  -999.00,9,  -999.00,9,    3.930,2,    1.340,2,    0.280,2,    3.170,2,   12.840,2,   2142.6,2,   2296.2,2,  10.8977, 20060607,      200
  18HU20060524, AR07W,   269,  1, 299676,     24,2,20060607,0049, 42.3785, -61.3033, 3298,     10.9,  10.0674,  32.6778,2,-999.0000,9,    297.2,2,    301.0,2,  -999.00,9,  -999.00,9,  -999.00,9,    4.750,2,    2.640,2,    0.430,2,    8.700,2,   17.580,2,   2020.4,2,   2192.7,3,  10.0662, 20060607,      202
  18HU20060524, AR07W,   275,  1, 299677,      1,2,20060607,0703, 42.5245, -61.4115, 2721,   2787.2,   2.6792,  34.9184,2,  34.9159,2,    271.3,2,    269.3,2,  -999.00,9,  -999.00,9,  -999.00,9,    1.650,2,    0.860,2,    0.060,2,    2.120,2,    3.890,2,   2163.0,2,   2326.5,2,   2.4570, 20060607,      703
  18HU20060524, AR07W,   275,  1, 299678,      2,2,20060607,0703, 42.5245, -61.4115, 2721,   2001.2,   3.2594,  34.9307,2,  34.9280,6,    267.6,2,    267.8,2,  -999.00,9,  -999.00,9,  -999.00,9,    1.920,2,    1.000,2,    0.070,2,    2.370,2,    4.750,2,   2162.3,3,   2315.7,2,   3.1029, 20060607,      715
  18HU20060524, AR07W,   275,  1, 299679,      3,2,20060607,0703, 42.5245, -61.4115, 2721,   1501.9,   3.6234,  34.9337,2,  34.9318,2,    265.4,2,    265.8,2,  -999.00,9,  -999.00,9,  -999.00,9,    2.540,2,    1.210,2,    0.120,2,    2.910,2,    5.720,2,   2161.0,2,   2312.7,2,   3.5074, 20060607,      723
  18HU20060524, AR07W,   275,  1, 299680,      4,2,20060607,0703, 42.5245, -61.4115, 2721,   1000.4,   3.9932,  34.9351,2,  34.9314,2,    262.7,2,    264.1,2,  -999.00,9,  -999.00,9,  -999.00,9,    3.340,2,    1.880,2,    0.190,2,    3.480,2,    5.220,2,   2163.4,2,   2314.2,2,   3.9168, 20060607,      732
  18HU20060524, AR07W,   275,  1, 299681,      5,2,20060607,0703, 42.5245, -61.4115, 2721,    749.9,   4.2368,  34.9381,2,  34.9354,2,    258.2,2,    259.7,2,  -999.00,9,  -999.00,9,  -999.00,9,    3.520,2,    2.060,2,    0.220,2,    3.540,2,    4.590,2,   2164.2,2,   2308.2,2,   4.1795, 20060607,      736
  18HU20060524, AR07W,   275,  1, 299682,      6,2,20060607,0703, 42.5245, -61.4115, 2721,    500.6,   4.8685,  34.9535,2,  34.9505,2,    236.1,2,    237.5,6,  -999.00,9,  -999.00,9,  -999.00,9,    3.110,2,    1.680,2,    0.180,2,    2.950,2,    3.890,2,   2171.2,2,   2325.8,2,   4.8287, 20060607,      740
  18HU20060524, AR07W,   275,  1, 299683,      7,2,20060607,0703, 42.5245, -61.4115, 2721,    250.3,   7.5251,  35.0355,2,-999.0000,9,    162.8,2,    165.4,2,  -999.00,9,  -999.00,9,  -999.00,9,    1.770,2,    0.970,2,    0.070,2,    1.190,2,    1.830,2,   2190.6,2,   2305.3,2,   7.5005, 20060607,      745
  18HU20060524, AR07W,   275,  1, 299684,      8,2,20060607,0703, 42.5245, -61.4115, 2721,    200.5,   8.1348,  35.0256,2,-999.0000,9,    157.2,2,    159.0,2,  -999.00,9,  -999.00,9,  -999.00,9,    1.970,2,    1.150,2,    0.080,2,    1.180,2,    1.630,2,   2187.9,2,   2320.9,2,   8.1143, 20060607,      747
  18HU20060524, AR07W,   275,  1, 299685,      9,2,20060607,0703, 42.5245, -61.4115, 2721,    150.2,   9.5770,  35.1353,2,-999.0000,9,    152.2,2,    155.8,2,  -999.00,9,  -999.00,9,  -999.00,9,    2.170,2,    1.320,2,    0.090,2,    1.000,2,    1.390,2,   2178.7,2,   2321.2,2,   9.5600, 20060607,      748
  18HU20060524, AR07W,   275,  1, 299686,     10,2,20060607,0703, 42.5245, -61.4115, 2721,    100.4,  10.0546,  34.9886,2,-999.0000,9,    182.7,2,    187.0,2,  -999.00,9,  -999.00,9,  -999.00,9,    3.030,2,    1.820,2,    0.150,2,    1.620,2,    1.550,2,   2152.6,2,   2318.1,2,  10.0430, 20060607,      750
  18HU20060524, AR07W,   275,  1, 299687,     11,2,20060607,0703, 42.5245, -61.4115, 2721,     80.4,   7.9859,  34.2983,2,-999.0000,9,    222.0,2,    224.8,2,  -999.00,9,  -999.00,9,  -999.00,9,    4.140,2,    2.560,2,    0.250,2,    3.010,2,    2.210,2,   2133.9,2,   2284.0,2,   7.9779, 20060607,      751
  18HU20060524, AR07W,   275,  1, 299688,     12,2,20060607,0703, 42.5245, -61.4115, 2721,     60.3,   6.0411,  33.5493,2,-999.0000,9,    265.0,2,    266.7,2,  -999.00,9,  -999.00,9,  -999.00,9,    4.980,2,    2.980,2,    0.400,2,    4.850,2,    2.460,2,   2105.5,2,   2260.1,2,   6.0361, 20060607,      752
  18HU20060524, AR07W,   275,  1, 299689,     13,2,20060607,0703, 42.5245, -61.4115, 2721,     50.6,   6.5437,  33.4970,2,-999.0000,9,    277.0,2,    281.0,2,  -999.00,9,  -999.00,9,  -999.00,9,    4.890,2,    3.140,2,    0.410,2,    5.040,2,    2.230,2,   2086.4,2,   2253.4,2,   6.5393, 20060607,      753
  18HU20060524, AR07W,   275,  1, 299690,     14,2,20060607,0703, 42.5245, -61.4115, 2721,     40.9,   5.1952,  33.0584,2,-999.0000,9,    299.0,2,    301.0,2,  -999.00,9,  -999.00,9,  -999.00,9,    5.370,2,    3.060,2,    0.450,2,    5.970,2,    2.390,2,   2077.3,2,   2238.4,2,   5.1921, 20060607,      754
  18HU20060524, AR07W,   275,  1, 299691,     15,2,20060607,0703, 42.5245, -61.4115, 2721,     30.6,   5.6810,  32.9254,2,-999.0000,9,    313.8,2,    317.2,2,  -999.00,9,  -999.00,9,  -999.00,9,    5.310,2,    2.990,2,    0.460,2,    5.950,2,    2.300,2,   2057.8,2,   2232.0,2,   5.6786, 20060607,      754
  18HU20060524, AR07W,   275,  1, 299692,     16,2,20060607,0703, 42.5245, -61.4115, 2721,     20.4,   9.6484,  33.0589,2,-999.0000,9,    304.4,2,    309.6,2,  -999.00,9,  -999.00,9,  -999.00,9,    4.590,2,    2.740,2,    0.390,2,    4.870,2,    1.870,2,   2030.0,2,   2229.3,2,   9.6462, 20060607,      755
  18HU20060524, AR07W,   275,  1, 299693,     17,2,20060607,0703, 42.5245, -61.4115, 2721,      9.8,  10.5935,  32.7548,2,-999.0000,9,    295.2,2,    298.5,2,  -999.00,9,  -999.00,9,  -999.00,9,    4.450,2,    2.670,2,    0.390,2,    5.020,2,    1.780,2,   2020.6,2,   2216.7,2,  10.5924, 20060607,      756
  18HU20060524, AR07W,   275,  1, 299694,     18,2,20060607,0703, 42.5245, -61.4115, 2721,      2.7,  11.5575,  32.6176,2,-999.0000,9,    283.3,2,    289.5,2,  -999.00,9,  -999.00,9,  -999.00,9,    4.280,2,    2.630,2,    0.370,2,    4.950,2,    1.670,2,   2021.9,2,   2212.1,2,  11.5572, 20060607,      757
  18HU20060524, AR07W,   287,  1, 299695,      1,2,20060607,1410, 42.8445, -61.7407, 1024,   1051.8,   4.0609,  34.9377,2,  34.9352,2,    260.7,2,    250.3,3,  -999.00,9,  -999.00,9,  -999.00,9,    3.360,2,    1.790,2,    0.200,2,    3.520,2,    5.260,2,   2167.1,2,   2313.2,2,   3.9797, 20060607,     1410
  18HU20060524, AR07W,   287,  1, 299696,      2,2,20060607,1410, 42.8445, -61.7407, 1024,    753.1,   4.3904,  34.9373,2,  34.9332,6,    253.1,2,    254.7,6,  -999.00,9,  -999.00,9,  -999.00,9, -999.000,9, -999.000,9, -999.000,9, -999.000,9, -999.000,9,   2167.3,3,   2315.6,2,   4.3320, 20060607,     1415
  18HU20060524, AR07W,   287,  1, 299697,      3,2,20060607,1410, 42.8445, -61.7407, 1024,    500.8,   5.0891,  34.9501,2,  34.9470,2,    226.9,2,    229.9,2,  -999.00,9,  -999.00,9,  -999.00,9,    3.010,2,    1.650,2,    0.180,2,    2.820,2,    3.750,2,   2171.1,2,   2306.0,2,   5.0485, 20060607,     1420
  18HU20060524, AR07W,   287,  1, 299698,      4,2,20060607,1410, 42.8445, -61.7407, 1024,    251.5,   7.6161,  35.0500,2,-999.0000,9,    162.4,2,    165.5,2,  -999.00,9,  -999.00,9,  -999.00,9,    1.860,2,    1.000,2,    0.080,2,    1.280,2,    1.990,2,   2187.1,2,   2313.2,2,   7.5912, 20060607,     1428
  18HU20060524, AR07W,   287,  1, 299699,      5,2,20060607,1410, 42.8445, -61.7407, 1024,    201.5,   9.4222,  35.1907,2,-999.0000,9,    146.0,2,    150.0,2,  -999.00,9,  -999.00,9,  -999.00,9, -999.000,9, -999.000,9, -999.000,9, -999.000,9, -999.000,9,   2185.7,2,   2330.4,2,   9.3996, 20060607,     1430
  18HU20060524, AR07W,   287,  1, 299700,      6,2,20060607,1410, 42.8445, -61.7407, 1024,    149.9,  10.7258,  35.2084,2,-999.0000,9,    171.2,2,    175.2,2,  -999.00,9,  -999.00,9,  -999.00,9, -999.000,9, -999.000,9, -999.000,9, -999.000,9, -999.000,9,   2161.7,2,   2332.0,2,  10.7076, 20060607,     1432
  18HU20060524, AR07W,   287,  1, 299701,      7,2,20060607,1410, 42.8445, -61.7407, 1024,    101.2,   9.5774,  34.5981,2,-999.0000,9,    199.6,2,    204.1,2,  -999.00,9,  -999.00,9,  -999.00,9,    3.480,2,    2.130,2,    0.220,2,    2.300,2,    1.690,2,   2142.0,2,   2308.5,2,   9.5661, 20060607,     1433
  18HU20060524, AR07W,   287,  1, 299702,      8,2,20060607,1410, 42.8445, -61.7407, 1024,     80.7,   4.1229,  33.1579,2,-999.0000,9,    275.4,2,    281.8,2,  -999.00,9,  -999.00,9,  -999.00,9, -999.000,9, -999.000,9, -999.000,9, -999.000,9, -999.000,9,   2106.6,2,   2245.7,2,   4.1175, 20060607,     1434
  18HU20060524, AR07W,   287,  1, 299703,      9,2,20060607,1410, 42.8445, -61.7407, 1024,     60.2,   5.1239,  33.0117,2,-999.0000,9,    293.5,2,    292.2,2,  -999.00,9,  -999.00,9,  -999.00,9, -999.000,9, -999.000,9, -999.000,9, -999.000,9, -999.000,9,   2086.3,2,   2240.8,2,   5.1194, 20060607,     1435
  18HU20060524, AR07W,   287,  1, 299704,     10,2,20060607,1410, 42.8445, -61.7407, 1024,     49.8,   4.4800,  32.7822,2,-999.0000,9,    301.1,2,    302.6,2,  -999.00,9,  -999.00,9,  -999.00,9,    5.700,2,    3.340,2,    0.500,2,    6.370,2,    2.490,2,   2079.3,2,   2227.9,2,   4.4765, 20060607,     1435
  18HU20060524, AR07W,   287,  1, 299705,     11,2,20060607,1410, 42.8445, -61.7407, 1024,     40.5,   5.4600,  32.6183,2,-999.0000,9,    317.0,2,    323.4,2,  -999.00,9,  -999.00,9,  -999.00,9, -999.000,9, -999.000,9, -999.000,9, -999.000,9, -999.000,9,   2054.0,2,   2226.2,2,   5.4569, 20060607,     1436
  18HU20060524, AR07W,   287,  1, 299706,     12,2,20060607,1410, 42.8445, -61.7407, 1024,     29.6,   7.3958,  32.5757,2,-999.0000,9,    317.1,2,    323.0,2,  -999.00,9,  -999.00,9,  -999.00,9, -999.000,9, -999.000,9, -999.000,9, -999.000,9, -999.000,9,   2033.3,2,   2225.8,2,   7.3931, 20060607,     1436
  18HU20060524, AR07W,   287,  1, 299707,     13,2,20060607,1410, 42.8445, -61.7407, 1024,     20.2,   8.7473,  32.4473,2,-999.0000,9,    305.3,2,    309.7,2,  -999.00,9,  -999.00,9,  -999.00,9, -999.000,9, -999.000,9, -999.000,9, -999.000,9, -999.000,9,   2025.2,2,   2204.9,2,   8.7452, 20060607,     1437
  18HU20060524, AR07W,   287,  1, 299708,     14,2,20060607,1410, 42.8445, -61.7407, 1024,     10.4,  10.3240,  32.4370,2,-999.0000,9,    293.5,2,    301.0,2,  -999.00,9,  -999.00,9,  -999.00,9,    4.650,2,    2.910,2,    0.410,2,    5.520,2,    1.870,2,   2022.0,2,   2201.9,2,  10.3228, 20060607,     1437
  18HU20060524, AR07W,   287,  1, 299709,     15,2,20060607,1410, 42.8445, -61.7407, 1024,      2.2,  11.1616,  32.4171,2,-999.0000,9,    285.3,2,    291.6,2,  -999.00,9,  -999.00,9,  -999.00,9, -999.000,9, -999.000,9, -999.000,9, -999.000,9, -999.000,9,   2022.5,2,   2204.4,2,  11.1613, 20060607,     1438