BOTTLE,20120530PRINUNIVRMK
EXPOCODE,SECT_ID,STNNBR,CASTNO,SAMPNO,BTLNBR,BTLNBR_FLAG_W,DATE,TIME,LATITUDE,LONGITUDE,DEPTH,CTDPRS,CTDTMP,CTDSAL,CTDSAL_FLAG_W,SALNTY,SALNTY_FLAG_W,CTDOXY,CTDOXY_FLAG_W,OXYGEN,OXYGEN_FLAG_W,SILCAT,SILCAT_FLAG_W,NITRAT,NITRAT_FLAG_W,PHSPHT,PHSPHT_FLAG_W,CFC-11,CFC-11_FLAG_W,CFC-12,CFC-12_FLAG_W,CFC113,CFC113_FLAG_W,CCL4,CCL4_FLAG_W,MCHFRM,MCHFRM_FLAG_W,TCARBN,TCARBN_FLAG_W,ALKALI,ALKALI_FLAG_W,THETA,BTL_DATE,BTL_TIME
,,,,,,,,,,,METERS,DBAR,ITS-90,PSS-78,,PSS-78,,UMOL/KG,,UMOL/KG,,UMOL/KG,,UMOL/KG,,UMOL/KG,,PMOL/KG,,PMOL/KG,,PMOL/KG,,PMOL/KG,,PMOL/KG,,UMOL/KG,,UMOL/KG,,DEG C,,
  18HU20060524, AR07W,   153,  1, 299156,      1,2,20060529,2113, 59.0682, -49.9502, 3499,   3513.1,   1.6319,  34.8935,2,  34.8902,2,    297.5,2,    296.0,2,     9.12,6,    13.44,6,     0.93,6,    4.350,2,    2.370,2,    0.440,2,    5.120,2,   14.710,2,   2161.1,2,   2299.4,2,   1.3599, 20060529,     2113
  18HU20060524, AR07W,   153,  1, 299157,      2,2,20060529,2113, 59.0682, -49.9502, 3499,   3450.0,   1.6806,  34.8942,2,  34.8910,2,    296.9,2,    295.3,2,     8.88,6,    13.34,6,     0.93,6,    4.440,2,    2.420,2,    0.430,2,    5.320,2,   15.760,2,   2159.7,2,   2287.0,2,   1.4138, 20060529,     2115
  18HU20060524, AR07W,   153,  1, 299158,      3,2,20060529,2113, 59.0682, -49.9502, 3499,   3368.0,   1.8746,  34.8943,2,  34.8908,2,    293.7,2,    293.1,2,     9.50,6,    13.51,6,     0.95,6,    4.190,2,    2.260,2,    0.390,2,    5.090,2,   14.720,2,   2158.4,2,   2300.6,2,   1.6115, 20060529,     2117
  18HU20060524, AR07W,   153,  1, 299159,      4,2,20060529,2113, 59.0682, -49.9502, 3499,   3271.1,   2.1315,  34.8926,2,  34.8902,2,    285.7,2,    286.5,2,    12.73,6,    14.60,6,     1.01,6,    3.420,2,    1.760,2,    0.340,2,    4.230,2,   14.900,2,   2160.0,2,   2314.1,2,   1.8723, 20060529,     2120
  18HU20060524, AR07W,   153,  1, 299160,      5,2,20060529,2113, 59.0682, -49.9502, 3499,   3150.9,   2.3607,  34.9024,2,  34.8998,2,    280.0,2,    280.0,2,    14.61,6,    15.18,6,     1.07,6,    3.000,2,    1.500,2,    0.280,2,    3.800,2,   14.980,2,   2166.2,2,   2314.2,2,   2.1085, 20060529,     2122
  18HU20060524, AR07W,   153,  1, 299161,      6,2,20060529,2113, 59.0682, -49.9502, 3499,   3021.0,   2.5742,  34.9121,2,  34.9099,6,    277.1,2,    277.2,2,    14.09,6,    15.32,6,     1.06,6,    2.740,2,    1.360,2,    0.270,2,    3.500,2,   13.930,2,   2166.2,2,   2330.2,2,   2.3306, 20060529,     2125
  18HU20060524, AR07W,   153,  1, 299162,      7,2,20060529,2113, 59.0682, -49.9502, 3499,   2860.2,   2.7649,  34.9173,2,  34.9140,2,    276.2,2,    277.4,2,    13.07,6,    15.35,6,     1.06,6,    2.910,2,    1.470,2,    0.260,2,    3.680,2,   15.330,2,   2166.1,2,   2330.1,2,   2.5336, 20060529,     2130
  18HU20060524, AR07W,   153,  1, 299163,      8,2,20060529,2113, 59.0682, -49.9502, 3499,   2660.7,   2.9063,  34.9133,2,  34.9100,2,    275.4,2,    276.9,2,    12.19,6,    15.58,6,     1.05,6,    2.870,2,    1.410,2,    0.260,2,    3.580,2,   15.460,2,   2165.5,2,   2301.3,3,   2.6923, 20060529,     2133
  18HU20060524, AR07W,   153,  1, 299164,      9,2,20060529,2113, 59.0682, -49.9502, 3499,   2435.3,   3.0542,  34.9056,2,  34.9024,2,    276.4,2,    278.3,2,    11.04,6,    15.51,6,     1.06,6,    3.200,2,    1.620,2,    0.290,2,    3.890,2,   16.770,2,   2162.9,2,   2313.5,2,   2.8597, 20060529,     2140
  18HU20060524, AR07W,   153,  1, 299165,     10,2,20060529,2113, 59.0682, -49.9502, 3499,   2210.0,   3.1708,  34.8965,2,  34.8930,6,    277.1,2,    279.4,2,    10.68,6,    15.87,6,     1.08,6,    3.480,2,    1.810,2,    0.310,2,    4.210,2,   19.640,2,   2163.8,2,   2314.6,2,   2.9961, 20060529,     2144
  18HU20060524, AR07W,   153,  1, 299166,     11,2,20060529,2113, 59.0682, -49.9502, 3499,   1971.8,   3.3409,  34.8986,2,  34.8947,2,    274.8,2,    277.2,2,    10.41,6,    16.04,6,     1.10,6,    3.650,2,    1.860,2,    0.340,2,    4.290,2,   19.650,2,   2163.7,2,   2297.1,2,   3.1860, 20060529,     2149
  18HU20060524, AR07W,   153,  1, 299167,     12,2,20060529,2113, 59.0682, -49.9502, 3499,   1731.8,   3.5057,  34.8992,2,  34.8955,2,    272.6,2,    275.6,2,    10.10,6,    16.22,6,     1.10,6,    3.810,2,    2.000,2,    0.340,2,    4.440,2,   18.850,2,   2163.8,2,   2271.5,3,   3.3706, 20060529,     2154
  18HU20060524, AR07W,   153,  1, 299168,     13,2,20060529,2113, 59.0682, -49.9502, 3499,   1502.5,   3.5903,  34.8888,2,  34.8859,2,    276.4,2,    279.5,6,     9.43,6,    19.01,3,     1.70,4,    4.360,2,    2.380,2,    0.410,2,    4.970,2,   16.320,2,   2162.8,2,   2283.3,3,   3.4747, 20060529,     2158
  18HU20060524, AR07W,   153,  1, 299169,     14,2,20060529,2113, 59.0682, -49.9502, 3499,   1280.6,   3.5495,  34.8686,2,  34.8662,2,    285.8,2,    289.8,2,     8.82,6,    18.62,3,     1.67,4,    4.850,2,    2.750,2,    0.490,2,    5.750,2,   13.540,2,   2161.2,2,   2269.4,3,   3.4535, 20060529,     2202
  18HU20060524, AR07W,   153,  1, 299170,     15,2,20060529,2113, 59.0682, -49.9502, 3499,   1070.5,   3.4922,  34.8534,2,  34.8519,2,    292.5,2,    295.5,2,     8.18,6,    18.35,3,     1.64,4,    4.960,2,    2.860,2,    0.540,2,    5.990,2,   10.910,2,   2155.1,2,   2330.1,3,   3.4142, 20060529,     2208
  18HU20060524, AR07W,   153,  1, 299171,     16,2,20060529,2113, 59.0682, -49.9502, 3499,    871.3,   3.5036,  34.8498,2,  34.8470,2,    294.4,2,    299.0,2,     7.87,6,    15.67,6,     1.06,6,    5.120,2,    2.920,2,    0.530,2,    6.280,2,   10.210,2,   2152.8,2,   2300.4,2,   3.4414, 20060529,     2211
  18HU20060524, AR07W,   153,  1, 299172,     17,2,20060529,2113, 59.0682, -49.9502, 3499,    680.6,   3.6004,  34.8555,2,  34.8554,2,    296.0,2,    299.2,2,     7.80,6,    15.64,6,     1.05,6,    5.170,2,    3.020,2,    0.540,2,    6.390,2,    9.550,2,   2148.3,2,   2283.3,2,   3.5523, 20060529,     2215
  18HU20060524, AR07W,   153,  1, 299173,     18,2,20060529,2113, 59.0682, -49.9502, 3499,    510.7,   3.8810,  34.8844,2,  34.8841,2,    297.4,2,    301.5,2,     7.73,6,    15.56,6,     1.02,6,    4.980,2,    2.910,2,    0.550,2,    6.210,2,    8.910,2,   2141.6,4,   2293.0,2,   3.8444, 20060529,     2219
  18HU20060524, AR07W,   153,  1, 299174,     19,2,20060529,2113, 59.0682, -49.9502, 3499,    362.3,   3.9496,  34.8851,2,  34.8843,2,    297.4,2,    300.7,2,     7.73,6,    15.36,6,     1.02,6,    5.070,2,    2.970,2,    0.560,2,    6.390,2,    8.360,2,   2152.7,2,   2283.0,2,   3.9239, 20060529,     2223
  18HU20060524, AR07W,   153,  1, 299175,     20,2,20060529,2113, 59.0682, -49.9502, 3499,    240.6,   4.1256,  34.9032,2,-999.0000,9,    295.9,2,    298.9,2,     7.76,6,    15.49,6,     1.04,6,    4.970,2,    2.910,2,    0.540,2,    6.230,2,    8.200,2,   2153.6,2,   2292.6,2,   4.1084, 20060529,     2226
  18HU20060524, AR07W,   153,  1, 299176,     21,2,20060529,2113, 59.0682, -49.9502, 3499,    139.5,   4.0861,  34.8897,2,-999.0000,9,    300.2,2,    303.7,2,     7.56,6,    14.73,6,     1.02,6,    5.080,2,    2.980,2,    0.560,2,    6.540,2,    7.410,2,   2155.5,2,   2287.2,2,   4.0763, 20060529,     2228
  18HU20060524, AR07W,   153,  1, 299177,     22,2,20060529,2113, 59.0682, -49.9502, 3499,     70.2,   4.1882,  34.8789,2,-999.0000,9,    296.8,2,    299.6,2,     6.84,6,    14.53,6,     1.02,6,    5.050,2,    2.970,2,    0.540,2,    6.350,2,    7.560,2,   2155.8,2,   2300.3,2,   4.1832, 20060529,     2230
  18HU20060524, AR07W,   153,  1, 299178,     23,2,20060529,2113, 59.0682, -49.9502, 3499,     35.2,   3.9645,  34.8088,2,-999.0000,9,    306.1,2,    308.8,2,     5.14,6,    12.82,6,     0.93,6,    5.210,2,    3.060,2,    0.580,2,    6.580,2,    6.890,2,   2150.4,2,   2273.5,2,   3.9621, 20060529,     2231
  18HU20060524, AR07W,   153,  1, 299179,     24,2,20060529,2113, 59.0682, -49.9502, 3499,      3.7,   5.1595,  34.6111,2,-999.0000,9,    351.2,2,    355.0,2,     1.41,6,     1.75,6,     0.26,6,    5.380,2,    3.170,2,    0.680,2,    7.260,2,    6.180,2,   2054.5,2,   2259.3,2,   5.1592, 20060529,     2232
  18HU20060524, AR07W,   167,  1, 299180,      1,2,20060530,0230, 59.4828, -49.4815, 3334,   3438.7,   1.6003,  34.8914,2,  34.8902,2,    297.1,2,    296.3,2,     9.03,6,    13.87,6,     0.96,6,    4.260,2,    2.220,2,    0.290,2,    4.370,2,    5.380,2,   2147.2,4,   2292.5,2,   1.3367, 20060530,      230
  18HU20060524, AR07W,   167,  1, 299181,      2,2,20060530,0230, 59.4828, -49.4815, 3334,   3379.6,   1.6519,  34.8859,2,  34.8845,2,    296.0,2,    295.6,2,     9.23,6,    13.92,6,     0.97,6,   12.150,3,    2.160,2,    0.270,2,    4.360,2,    5.740,2,   2160.2,2,   2281.4,2,   1.3931, 20060530,      232
  18HU20060524, AR07W,   167,  1, 299182,      3,2,20060530,0230, 59.4828, -49.4815, 3334,   3299.2,   1.8678,  34.8919,2,  34.8906,2,    292.5,2,    292.3,2,     9.73,6,    14.26,6,     0.99,6,    4.330,2,    2.270,2,    0.300,2,    4.460,2,    5.800,2,   2159.7,2,   2278.5,2,   1.6119, 20060530,      234
  18HU20060524, AR07W,   167,  1, 299183,      4,2,20060530,0230, 59.4828, -49.4815, 3334,   3200.4,   2.1453,  34.8934,2,  34.8921,2,    286.1,2,    286.3,2,    11.91,6,    14.95,6,     1.04,6,    3.370,2,    1.720,2,    0.180,2,    3.660,2,    5.310,2,   2159.1,2,   2281.1,2,   1.8930, 20060530,      236
  18HU20060524, AR07W,   167,  1, 299184,      5,2,20060530,0230, 59.4828, -49.4815, 3334,   3080.8,   2.3668,  34.8993,2,  34.8984,2,    281.8,2,    282.2,2,    12.86,6,    15.48,6,     1.06,6, -999.000,9, -999.000,9, -999.000,9, -999.000,9, -999.000,9,   2160.4,2,   2291.7,2,   2.1217, 20060530,      239
  18HU20060524, AR07W,   167,  1, 299185,      6,2,20060530,0230, 59.4828, -49.4815, 3334,   2950.5,   2.5554,  34.9077,2,  34.9073,6,    278.8,2,    279.3,2,    12.87,6,    15.79,6,     1.03,6,    3.950,2,    1.900,2,    0.200,2,    4.280,2,    7.370,2,   2158.7,2,   2290.6,2,   2.3194, 20060530,      241
  18HU20060524, AR07W,   167,  1, 299186,      7,2,20060530,0230, 59.4828, -49.4815, 3334,   2792.5,   2.7562,  34.9136,2,  34.9116,2,    276.9,2,    277.6,2,    12.39,6,    16.02,6,     1.05,6,    3.540,2,    1.770,2,    0.190,2,    3.790,2,    6.850,2,   2158.7,2,   2294.5,2,   2.5320, 20060530,      244
  18HU20060524, AR07W,   167,  1, 299187,      8,2,20060530,0230, 59.4828, -49.4815, 3334,   2612.1,   2.8918,  34.9097,2,  34.9088,2,    276.5,2,    277.5,2,    11.93,6,    16.07,6,     1.05,6,    3.070,2,    1.510,2,    0.150,2,    3.290,2,    6.140,2,   2157.2,2,   2262.4,4,   2.6829, 20060530,      248
  18HU20060524, AR07W,   167,  1, 299188,      9,2,20060530,0230, 59.4828, -49.4815, 3334,   2409.9,   3.0346,  34.9072,2,  34.9062,6,    276.2,2,    278.3,2,    11.47,6,    16.38,6,     1.06,6,    3.100,2,    1.500,2,    0.170,2,    3.290,2,    6.140,2,   2157.3,2,   2325.8,3,   2.8429, 20060530,      251
  18HU20060524, AR07W,   167,  1, 299189,     10,2,20060530,0230, 59.4828, -49.4815, 3334,   2194.1,   3.1462,  34.9002,2,  34.8998,2,    276.8,2,   -999.0,9,    11.06,6,    16.39,6,     1.07,6,    3.210,2,    1.570,2,    0.150,2,    3.420,2,    6.800,2,   2157.5,2,   2271.6,4,   2.9734, 20060530,      255
  18HU20060524, AR07W,   167,  1, 299190,     11,2,20060530,0230, 59.4828, -49.4815, 3334,   1963.3,   3.2877,  34.8962,2,  34.8963,2,    275.7,2,    278.3,2,    10.84,6,    16.65,6,     1.08,6,    3.840,2,    1.930,2,    0.240,2,    3.900,2,    7.990,2,   2158.3,2,   2308.7,2,   3.1344, 20060530,      259
  18HU20060524, AR07W,   167,  1, 299191,     12,2,20060530,0230, 59.4828, -49.4815, 3334,   1732.5,   3.5313,  34.9097,2,  34.9108,2,    272.0,2,    275.1,2,    10.58,6,    16.79,6,     1.07,6,    4.850,2,    2.410,2,    0.310,2,    4.790,2,    9.070,2,   2159.5,2,   2304.7,2,   3.3958, 20060530,      303
  18HU20060524, AR07W,   167,  1, 299192,     13,2,20060530,0230, 59.4828, -49.4815, 3334,   1500.1,   3.5155,  34.8795,2,-999.0000,9,    278.3,2,   -999.0,9,  -999.00,9,  -999.00,9,  -999.00,9, -999.000,9, -999.000,9, -999.000,9, -999.000,9, -999.000,9,   -999.0,9,   -999.0,9,   3.4010, 20060530,      307
  18HU20060524, AR07W,   167,  1, 299193,     14,2,20060530,0230, 59.4828, -49.4815, 3334,   1281.0,   3.5097,  34.8629,2,  34.8633,2,    287.3,2,    290.3,2,     9.10,6,    16.29,6,     1.08,6,    6.280,2,    2.870,2,    0.450,2,    5.580,2,    5.770,2,   2156.7,2,   2295.0,2,   3.4141, 20060530,      311
  18HU20060524, AR07W,   167,  1, 299194,     15,2,20060530,0230, 59.4828, -49.4815, 3334,   1070.7,   3.6101,  34.8729,2,  34.8737,2,    286.3,2,    289.5,2,     9.03,6,    16.13,6,     1.04,6,    6.590,2,    3.080,2,    0.440,2,    5.890,2,    5.240,2,   2157.4,2,   2292.8,2,   3.5311, 20060530,      315
  18HU20060524, AR07W,   167,  1, 299195,     16,2,20060530,0230, 59.4828, -49.4815, 3334,    869.2,   3.5406,  34.8571,2,  34.8580,2,    292.1,2,    295.2,2,     8.44,6,    15.83,6,     1.03,6,    6.040,2,    3.240,2,    0.450,2,    6.340,2,    4.980,2,   2154.7,2,   2309.1,2,   3.4783, 20060530,      318
  18HU20060524, AR07W,   167,  1, 299196,     17,2,20060530,0230, 59.4828, -49.4815, 3334,    681.8,   3.5254,  34.8470,2,  34.8480,2,    295.1,2,    298.4,2,     8.28,6,    15.77,6,     1.02,6,    6.200,2,    3.440,2,    0.500,2,    6.680,2,    4.440,2,   2155.1,2,   2295.4,2,   3.4776, 20060530,      321
  18HU20060524, AR07W,   167,  1, 299197,     18,2,20060530,0230, 59.4828, -49.4815, 3334,    510.8,   3.7962,  34.8731,2,  34.8741,2,    297.1,2,    300.3,2,     8.23,6,    15.60,6,     1.02,6,    6.100,2,    3.320,2,    0.530,2,    6.510,2,    4.250,2,   2155.5,2,   2294.3,2,   3.7599, 20060530,      325
  18HU20060524, AR07W,   167,  1, 299198,     19,2,20060530,0230, 59.4828, -49.4815, 3334,    360.0,   4.0997,  34.9022,2,  34.9024,2,    289.6,2,    292.7,2,     8.28,6,    15.69,6,     1.02,6,    5.040,2,    2.840,2,    0.400,2,    5.300,2,    3.720,2,   2152.5,2,   2322.1,3,   4.0737, 20060530,      327
  18HU20060524, AR07W,   167,  1, 299199,     20,2,20060530,0230, 59.4828, -49.4815, 3334,    241.3,   4.2469,  34.9082,2,-999.0000,9,    291.9,2,    295.5,2,     8.13,6,    15.49,6,     1.00,6,    5.580,2,    3.170,2,    0.470,2,    5.900,2,    3.560,2,   2152.0,2,   2296.2,2,   4.2294, 20060530,      330
  18HU20060524, AR07W,   167,  1, 299200,     21,2,20060530,0230, 59.4828, -49.4815, 3334,    139.7,   4.4158,  34.9108,2,-999.0000,9,    288.7,2,    292.8,2,     8.06,6,    15.44,6,     1.00,6,    5.640,2,    3.160,2,    0.450,2,    5.920,2,    3.440,2,   2153.8,2,   2315.9,3,   4.4056, 20060530,      332
  18HU20060524, AR07W,   167,  1, 299201,     22,2,20060530,0230, 59.4828, -49.4815, 3334,     70.2,   4.1816,  34.8419,2,-999.0000,9,    293.0,2,    296.9,2,     7.48,6,    14.82,6,     1.01,6,    5.240,2,    3.000,2,    0.450,2,    5.610,2,    2.820,2,   2149.6,2,   2295.9,2,   4.1766, 20060530,      334
  18HU20060524, AR07W,   167,  1, 299202,     23,2,20060530,0230, 59.4828, -49.4815, 3334,     36.2,   4.1948,  34.6225,2,-999.0000,9,    323.8,2,    327.3,2,     3.56,6,     7.09,6,     0.52,6,    6.820,2,    3.740,2,    0.650,2,    7.640,2,    3.210,2,   2100.4,2,   2296.6,2,   4.1923, 20060530,      336
  18HU20060524, AR07W,   167,  1, 299203,     24,2,20060530,0230, 59.4828, -49.4815, 3334,      2.3,   4.3080,  34.6026,2,-999.0000,9,    327.3,2,    331.1,2,     3.23,6,     6.29,6,     0.49,6,    6.520,2,    3.660,2,    0.580,2,    7.350,2,    3.040,2,   2094.3,2,   2283.4,4,   4.3078, 20060530,      338