BOTTLE,20120530PRINUNIVRMK
EXPOCODE,SECT_ID,STNNBR,CASTNO,SAMPNO,BTLNBR,BTLNBR_FLAG_W,DATE,TIME,LATITUDE,LONGITUDE,DEPTH,CTDPRS,CTDTMP,CTDSAL,CTDSAL_FLAG_W,SALNTY,SALNTY_FLAG_W,CTDOXY,CTDOXY_FLAG_W,OXYGEN,OXYGEN_FLAG_W,SILCAT,SILCAT_FLAG_W,NITRAT,NITRAT_FLAG_W,PHSPHT,PHSPHT_FLAG_W,CFC-11,CFC-11_FLAG_W,CFC-12,CFC-12_FLAG_W,CFC113,CFC113_FLAG_W,CCL4,CCL4_FLAG_W,MCHFRM,MCHFRM_FLAG_W,TCARBN,TCARBN_FLAG_W,ALKALI,ALKALI_FLAG_W,THETA,BTL_DATE,BTL_TIME
,,,,,,,,,,,METERS,DBAR,ITS-90,PSS-78,,PSS-78,,UMOL/KG,,UMOL/KG,,UMOL/KG,,UMOL/KG,,UMOL/KG,,PMOL/KG,,PMOL/KG,,PMOL/KG,,PMOL/KG,,PMOL/KG,,UMOL/KG,,UMOL/KG,,DEG C,,
  18HU20060524, AR07W,   181,  1, 299204,      1,2,20060530,0905, 59.9852, -48.9072, 2968,   3067.8,   1.6529,  34.8932,2,  34.8920,2,    296.7,2,    298.0,2,     9.17,6,    14.25,6,     0.95,6, -999.000,9, -999.000,9, -999.000,9, -999.000,9, -999.000,9,   2159.5,2,   2289.3,3,   1.4251, 20060530,      905
  18HU20060524, AR07W,   181,  1, 299205,      2,2,20060530,0905, 59.9852, -48.9072, 2968,   3000.3,   1.6435,  34.8935,2,-999.0000,9,    296.4,2,   -999.0,9,  -999.00,9,  -999.00,9,  -999.00,9, -999.000,9, -999.000,9, -999.000,9, -999.000,9, -999.000,9,   -999.0,9,   -999.0,9,   1.4224, 20060530,      907
  18HU20060524, AR07W,   181,  1, 299206,      3,2,20060530,0905, 59.9852, -48.9072, 2968,   2858.6,   1.9542,  34.8925,2,  34.8906,2,    291.4,2,    291.5,2,    10.31,6,    14.77,6,     0.97,6, -999.000,9, -999.000,9, -999.000,9, -999.000,9, -999.000,9,   2159.3,2,   2323.5,2,   1.7401, 20060530,      910
  18HU20060524, AR07W,   181,  1, 299207,      4,2,20060530,0905, 59.9852, -48.9072, 2968,   2642.1,   2.4164,  34.9055,2,  34.9045,2,    280.2,2,    281.1,2,    13.63,6,    16.15,6,     1.12,6, -999.000,9, -999.000,9, -999.000,9, -999.000,9, -999.000,9,   2163.0,3,   2305.9,2,   2.2138, 20060530,      915
  18HU20060524, AR07W,   181,  1, 299208,      5,2,20060530,0905, 59.9852, -48.9072, 2968,   2522.1,   2.5894,  34.9127,2,  34.9120,2,    279.0,2,    284.3,2,    12.86,6,    16.11,6,     1.04,6, -999.000,9, -999.000,9, -999.000,9, -999.000,9, -999.000,9,   2160.5,2,   2315.4,2,   2.3950, 20060530,      919
  18HU20060524, AR07W,   181,  1, 299209,      6,2,20060530,0905, 59.9852, -48.9072, 2968,   2400.4,   2.7011,  34.9165,2,  34.9151,6,    277.1,2,    277.9,2,    12.94,6,    16.28,6,     1.06,6, -999.000,9, -999.000,9, -999.000,9, -999.000,9, -999.000,9,   2160.2,2,   2304.7,2,   2.5162, 20060530,      922
  18HU20060524, AR07W,   181,  1, 299210,      7,2,20060530,0905, 59.9852, -48.9072, 2968,   2160.1,   2.9359,  34.9129,2,  34.9106,6,    276.4,2,    277.8,2,    12.17,6,    15.90,6,     1.11,6, -999.000,9, -999.000,9, -999.000,9, -999.000,9, -999.000,9,   2160.1,2,   2321.9,2,   2.7697, 20060530,      928
  18HU20060524, AR07W,   181,  1, 299211,      8,2,20060530,0905, 59.9852, -48.9072, 2968,   1999.7,   3.0374,  34.9072,2,  34.9053,2,    276.7,2,   -999.0,9,    11.62,6,    15.93,6,     1.08,6, -999.000,9, -999.000,9, -999.000,9, -999.000,9, -999.000,9,   2160.5,2,   2291.6,2,   2.8844, 20060530,      932
  18HU20060524, AR07W,   181,  1, 299212,      9,2,20060530,0905, 59.9852, -48.9072, 2968,   1799.7,   3.1688,  34.9045,2,  34.9033,2,    276.4,2,    279.7,2,    11.25,6,    16.30,6,     1.08,6, -999.000,9, -999.000,9, -999.000,9, -999.000,9, -999.000,9,   2160.5,2,   2279.6,3,   3.0320, 20060530,      935
  18HU20060524, AR07W,   181,  1, 299213,     10,2,20060530,0905, 59.9852, -48.9072, 2968,   1610.7,   3.2531,  34.8986,2,  34.8975,2,    276.2,2,    278.5,2,    11.10,6,    16.64,6,     1.10,6, -999.000,9, -999.000,9, -999.000,9, -999.000,9, -999.000,9,   2160.7,2,   2304.1,2,   3.1320, 20060530,      941
  18HU20060524, AR07W,   181,  1, 299214,     11,2,20060530,0905, 59.9852, -48.9072, 2968,   1400.2,   3.4767,  34.9109,2,  34.9094,2,    272.5,2,    275.1,6,    10.75,6,    16.76,6,     1.07,6, -999.000,9, -999.000,9, -999.000,9, -999.000,9, -999.000,9,   2160.6,2,   2281.2,3,   3.3712, 20060530,      945
  18HU20060524, AR07W,   181,  1, 299215,     12,2,20060530,0905, 59.9852, -48.9072, 2968,   1290.1,   3.5684,  34.9112,2,  34.9096,2,    272.1,2,    274.3,2,    10.44,6,    16.85,6,     1.07,6, -999.000,9, -999.000,9, -999.000,9, -999.000,9, -999.000,9,   2155.5,2,   2271.2,2,   3.4714, 20060530,      948
  18HU20060524, AR07W,   181,  1, 299216,     13,2,20060530,0905, 59.9852, -48.9072, 2968,   1088.6,   3.5647,  34.8871,2,  34.8857,2,    277.9,2,    280.5,2,     9.88,6,    16.71,6,     1.07,6, -999.000,9, -999.000,9, -999.000,9, -999.000,9, -999.000,9,   2154.0,2,   2303.5,2,   3.4846, 20060530,      954
  18HU20060524, AR07W,   181,  1, 299217,     14,2,20060530,0905, 59.9852, -48.9072, 2968,    981.4,   3.5638,  34.8765,2,  34.8751,2,    283.4,2,    288.9,2,     9.44,6,    16.59,6,     1.04,6, -999.000,9, -999.000,9, -999.000,9, -999.000,9, -999.000,9,   2150.1,2,   2290.6,2,   3.4924, 20060530,      958
  18HU20060524, AR07W,   181,  1, 299218,     15,2,20060530,0905, 59.9852, -48.9072, 2968,    800.4,   3.8224,  34.9006,2,  34.8990,2,    276.0,2,    275.4,2,     9.66,6,    16.64,6,     1.09,6, -999.000,9, -999.000,9, -999.000,9, -999.000,9, -999.000,9,   2151.8,2,   2295.4,2,   3.7636, 20060530,     1003
  18HU20060524, AR07W,   181,  1, 299219,     16,2,20060530,0905, 59.9852, -48.9072, 2968,    640.8,   4.0553,  34.9118,2,  34.9088,2,    277.0,2,    279.8,2,     9.33,6,    16.38,6,     1.04,6, -999.000,9, -999.000,9, -999.000,9, -999.000,9, -999.000,9,   2150.9,2,   2265.8,3,   4.0078, 20060530,     1006
  18HU20060524, AR07W,   181,  1, 299220,     17,2,20060530,0905, 59.9852, -48.9072, 2968,    499.0,   4.2762,  34.9247,2,  34.9216,2,    279.1,2,    282.2,2,     9.02,6,    16.11,6,     1.09,6, -999.000,9, -999.000,9, -999.000,9, -999.000,9, -999.000,9,   2150.2,2,   2293.0,2,   4.2389, 20060530,     1009
  18HU20060524, AR07W,   181,  1, 299221,     18,2,20060530,0905, 59.9852, -48.9072, 2968,    379.6,   4.4609,  34.9315,2,  34.9285,2,    284.4,2,    287.5,2,     8.65,6,    15.93,6,     1.02,6, -999.000,9, -999.000,9, -999.000,9, -999.000,9, -999.000,9,   2155.8,2,   2278.6,3,   4.4323, 20060530,     1014
  18HU20060524, AR07W,   181,  1, 299222,     19,2,20060530,0905, 59.9852, -48.9072, 2968,    199.4,   4.7851,  34.9577,2,-999.0000,9,    285.2,2,    288.1,2,     8.30,6,    15.88,6,     1.01,6, -999.000,9, -999.000,9, -999.000,9, -999.000,9, -999.000,9,   2156.2,2,   2303.9,2,   4.7698, 20060530,     1017
  18HU20060524, AR07W,   181,  1, 299223,     20,2,20060530,0905, 59.9852, -48.9072, 2968,    159.9,   4.7880,  34.9516,2,-999.0000,9,    285.8,2,    289.3,2,     8.20,6,    15.71,6,     1.01,6, -999.000,9, -999.000,9, -999.000,9, -999.000,9, -999.000,9,   2156.4,2,   2321.3,2,   4.7758, 20060530,     1019
  18HU20060524, AR07W,   181,  1, 299224,     21,2,20060530,0905, 59.9852, -48.9072, 2968,    100.3,   4.0164,  34.7961,2,-999.0000,9,    298.0,2,    300.3,2,     7.51,6,    14.21,6,     0.95,6, -999.000,9, -999.000,9, -999.000,9, -999.000,9, -999.000,9,   2148.2,2,   2316.2,2,   4.0094, 20060530,     1021
  18HU20060524, AR07W,   181,  1, 299225,     22,2,20060530,0905, 59.9852, -48.9072, 2968,     49.9,   3.6243,  34.5758,2,-999.0000,9,    308.2,2,    225.9,3,     4.35,6,    11.10,6,     0.82,6, -999.000,9, -999.000,9, -999.000,9, -999.000,9, -999.000,9,   2130.7,2,   2292.0,2,   3.6210, 20060530,     1022
  18HU20060524, AR07W,   181,  1, 299226,     23,2,20060530,0905, 59.9852, -48.9072, 2968,     22.2,   3.9104,  34.2642,2,-999.0000,9,    338.6,2,    341.7,2,     1.30,6,     1.26,6,     0.26,6, -999.000,9, -999.000,9, -999.000,9, -999.000,9, -999.000,9,   2054.0,2,   2283.7,2,   3.9089, 20060530,     1024
  18HU20060524, AR07W,   181,  1, 299227,     24,2,20060530,0905, 59.9852, -48.9072, 2968,      3.5,   3.9589,  34.2356,2,-999.0000,9,    339.7,2,    342.2,2,     1.21,6,     0.90,6,     0.21,6, -999.000,9, -999.000,9, -999.000,9, -999.000,9, -999.000,9,   2048.6,2,   2274.0,2,   3.9587, 20060530,     1025
  18HU20060524, AR07W,   190,  1, 299228,      1,2,20060530,1257, 60.2905, -48.5497, 2600,    201.6,   5.0375,  34.9800,2,-999.0000,9,    287.5,2,   -999.0,9,     8.16,6,    15.44,6,     1.02,6, -999.000,9, -999.000,9, -999.000,9, -999.000,9, -999.000,9,   -999.0,9,   -999.0,9,   5.0217, 20060530,     1257
  18HU20060524, AR07W,   190,  1, 299229,      2,2,20060530,1257, 60.2905, -48.5497, 2600,    150.4,   5.0746,  34.9694,2,-999.0000,9,    288.8,2,   -999.0,9,     7.82,6,    14.91,6,     0.97,6, -999.000,9, -999.000,9, -999.000,9, -999.000,9, -999.000,9,   -999.0,9,   -999.0,9,   5.0628, 20060530,     1258
  18HU20060524, AR07W,   190,  1, 299230,      3,2,20060530,1257, 60.2905, -48.5497, 2600,    101.6,   5.1198,  34.8838,2,-999.0000,9,    302.7,2,   -999.0,9,     5.83,6,    11.15,6,     0.80,6, -999.000,9, -999.000,9, -999.000,9, -999.000,9, -999.000,9,   -999.0,9,   -999.0,9,   5.1118, 20060530,     1300
  18HU20060524, AR07W,   190,  1, 299231,      4,2,20060530,1257, 60.2905, -48.5497, 2600,     79.7,   5.1027,  34.8447,2,-999.0000,9,    307.1,2,   -999.0,9,     4.83,6,    10.02,6,     0.75,6, -999.000,9, -999.000,9, -999.000,9, -999.000,9, -999.000,9,   -999.0,9,   -999.0,9,   5.0965, 20060530,     1301
  18HU20060524, AR07W,   190,  1, 299232,      5,2,20060530,1257, 60.2905, -48.5497, 2600,     60.0,   4.9434,  34.7194,2,-999.0000,9,    314.4,2,   -999.0,9,     3.57,6,     7.44,6,     0.62,6, -999.000,9, -999.000,9, -999.000,9, -999.000,9, -999.000,9,   -999.0,9,   -999.0,9,   4.9388, 20060530,     1302
  18HU20060524, AR07W,   190,  1, 299233,      6,2,20060530,1257, 60.2905, -48.5497, 2600,     50.4,   4.8539,  34.6560,2,-999.0000,9,    318.2,2,   -999.0,9,     2.92,6,     6.21,6,     0.58,6, -999.000,9, -999.000,9, -999.000,9, -999.000,9, -999.000,9,   -999.0,9,   -999.0,9,   4.8501, 20060530,     1303
  18HU20060524, AR07W,   190,  1, 299234,      7,2,20060530,1257, 60.2905, -48.5497, 2600,     40.0,   4.7066,  34.5770,2,-999.0000,9,    321.2,2,   -999.0,9,     3.07,6,     5.10,6,     0.54,6, -999.000,9, -999.000,9, -999.000,9, -999.000,9, -999.000,9,   -999.0,9,   -999.0,9,   4.7036, 20060530,     1304
  18HU20060524, AR07W,   190,  1, 299235,      8,2,20060530,1257, 60.2905, -48.5497, 2600,     29.3,   4.5857,  34.5124,2,-999.0000,9,    324.0,2,   -999.0,9,     2.50,6,     4.11,6,     0.47,6, -999.000,9, -999.000,9, -999.000,9, -999.000,9, -999.000,9,   -999.0,9,   -999.0,9,   4.5836, 20060530,     1305
  18HU20060524, AR07W,   190,  1, 299236,      9,2,20060530,1257, 60.2905, -48.5497, 2600,     30.2,   4.5894,  34.5136,2,-999.0000,9,    324.2,2,   -999.0,9,  -999.00,9,  -999.00,9,  -999.00,9, -999.000,9, -999.000,9, -999.000,9, -999.000,9, -999.000,9,   -999.0,9,   -999.0,9,   4.5872, 20060530,     1305
  18HU20060524, AR07W,   190,  1, 299237,     10,2,20060530,1257, 60.2905, -48.5497, 2600,     20.6,   4.5333,  34.4773,2,-999.0000,9,    325.7,2,   -999.0,9,     2.29,6,     3.62,6,     0.44,6, -999.000,9, -999.000,9, -999.000,9, -999.000,9, -999.000,9,   -999.0,9,   -999.0,9,   4.5318, 20060530,     1306
  18HU20060524, AR07W,   190,  1, 299238,     11,2,20060530,1257, 60.2905, -48.5497, 2600,     10.2,   4.5527,  34.4530,2,-999.0000,9,    327.3,2,   -999.0,9,     2.21,6,     3.30,6,     0.46,6, -999.000,9, -999.000,9, -999.000,9, -999.000,9, -999.000,9,   -999.0,9,   -999.0,9,   4.5520, 20060530,     1306
  18HU20060524, AR07W,   190,  1, 299239,     12,2,20060530,1257, 60.2905, -48.5497, 2600,      2.7,   4.5475,  34.4523,2,-999.0000,9,    327.5,2,   -999.0,9,     2.12,6,     3.30,6,     0.41,6, -999.000,9, -999.000,9, -999.000,9, -999.000,9, -999.000,9,   -999.0,9,   -999.0,9,   4.5473, 20060530,     1307
  18HU20060524, AR07W,   190,  1, 299240,     13,2,20060530,1257, 60.2905, -48.5497, 2600,      2.5,   4.5470,  34.4531,2,-999.0000,9,    327.2,2,   -999.0,9,  -999.00,9,  -999.00,9,  -999.00,9, -999.000,9, -999.000,9, -999.000,9, -999.000,9, -999.000,9,   -999.0,9,   -999.0,9,   4.5468, 20060530,     1307
  18HU20060524, AR07W,   190,  1, 299241,     14,2,20060530,1257, 60.2905, -48.5497, 2600,      2.8,   4.5462,  34.4531,2,-999.0000,9,    327.2,2,   -999.0,9,  -999.00,9,  -999.00,9,  -999.00,9, -999.000,9, -999.000,9, -999.000,9, -999.000,9, -999.000,9,   -999.0,9,   -999.0,9,   4.5460, 20060530,     1307
  18HU20060524, AR07W,   190,  1, 299242,     15,2,20060530,1257, 60.2905, -48.5497, 2600,      2.4,   4.5476,  34.4529,2,-999.0000,9,    327.2,2,   -999.0,9,  -999.00,9,  -999.00,9,  -999.00,9, -999.000,9, -999.000,9, -999.000,9, -999.000,9, -999.000,9,   -999.0,9,   -999.0,9,   4.5474, 20060530,     1307
  18HU20060524, AR07W,   191,  1, 299243,      1,2,20060530,1426, 60.2923, -48.5413, 2600,   2788.6,   2.7837,  34.9163,2,  34.9143,2,    281.0,2,    278.9,2,    12.13,6,    16.07,6,     1.06,6,    2.830,2,    1.740,2,    0.190,2,    2.940,2,    4.330,2,   2165.6,2,   2344.0,2,   2.5593, 20060530,     1426
  18HU20060524, AR07W,   191,  1, 299244,      2,2,20060530,1426, 60.2923, -48.5413, 2600,   2678.9,   2.8279,  34.9152,2,  34.9126,2,    280.8,2,    280.3,2,    11.84,6,    15.83,6,     1.04,6,    5.030,3,    2.040,2,    0.250,2,    3.770,2,    5.570,2,   2162.3,2,   2312.0,2,   2.6136, 20060530,     1429
  18HU20060524, AR07W,   191,  1, 299245,      3,2,20060530,1426, 60.2923, -48.5413, 2600,   2580.7,   2.8506,  34.9147,2,  34.9126,6,    280.2,2,    279.1,2,    11.87,6,    15.71,6,     1.05,6,    3.340,2,    1.930,2,    0.210,2,    3.430,2,    4.940,2,   2161.5,2,   2287.7,2,   2.6456, 20060530,     1430
  18HU20060524, AR07W,   191,  1, 299246,      4,2,20060530,1426, 60.2923, -48.5413, 2600,   2461.1,   2.8708,  34.9146,2,  34.9124,2,    279.9,2,    280.5,2,    11.79,6,    15.58,6,     1.10,6,    3.450,2,    2.030,2,    0.220,2,    3.510,2,    4.940,2,   2162.0,2,   2303.3,2,   2.6771, 20060530,     1433
  18HU20060524, AR07W,   191,  1, 299247,      5,2,20060530,1426, 60.2923, -48.5413, 2600,   2331.8,   2.8833,  34.9143,2,  34.9130,2,    279.3,2,    279.6,2,    11.86,6,    15.55,6,     1.06,6,    3.490,2,    2.060,2,    0.230,2,    3.590,2,    5.290,2,   2161.4,2,   2265.3,4,   2.7018, 20060530,     1436
  18HU20060524, AR07W,   191,  1, 299248,      6,2,20060530,1426, 60.2923, -48.5413, 2600,   2149.9,   2.9914,  34.9135,2,  34.9127,6,    278.8,2,    280.0,2,    11.38,6,    15.50,6,     1.06,6,    3.710,2,    2.150,2,    0.260,2,    3.730,2,    5.470,2,   2158.2,2,   2291.6,2,   2.8252, 20060530,     1440
  18HU20060524, AR07W,   191,  1, 299249,      7,2,20060530,1426, 60.2923, -48.5413, 2600,   1988.8,   3.1927,  34.9135,2,  34.9112,2,    277.2,2,    278.3,2,    11.09,6,    15.60,6,     1.07,6,    3.300,2,    1.950,2,    0.250,2,    3.340,2,    4.820,2,   2157.0,2,   2294.3,2,   3.0384, 20060530,     1442
  18HU20060524, AR07W,   191,  1, 299250,      8,2,20060530,1426, 60.2923, -48.5413, 2600,   1808.8,   3.3143,  34.9139,2,  34.9126,2,    275.8,2,    277.5,6,    10.93,6,    15.67,6,     1.06,6,    3.750,2,    2.150,2,    0.250,2,    3.770,2,    5.680,2,   2160.6,2,   2291.1,2,   3.1747, 20060530,     1446
  18HU20060524, AR07W,   191,  1, 299251,      9,2,20060530,1426, 60.2923, -48.5413, 2600,   1631.0,   3.4463,  34.9151,2,  34.9130,2,    274.7,2,    277.1,2,    10.62,6,    15.68,6,     1.08,6,    3.870,2,    2.200,2,    0.240,2,    3.800,2,    5.460,2,   2161.8,2,   2280.4,2,   3.3210, 20060530,     1449
  18HU20060524, AR07W,   191,  1, 299252,     10,2,20060530,1426, 60.2923, -48.5413, 2600,   1430.5,   3.5474,  34.9180,2,  34.9161,2,    272.5,2,    274.8,2,    10.63,6,    15.94,6,     1.10,6,    3.640,2,    2.140,2,    0.260,2,    3.560,2,    5.370,2,   2163.2,2,   2279.3,2,   3.4385, 20060530,     1452
  18HU20060524, AR07W,   191,  1, 299253,     11,2,20060530,1426, 60.2923, -48.5413, 2600,   1231.7,   3.6318,  34.9111,2,  34.9088,2,    272.7,2,    275.4,2,    10.42,6,    15.96,6,     1.10,6,    3.960,2,    2.290,2,    0.280,2,    3.830,2,    5.390,2,   2162.5,2,   2304.4,2,   3.5391, 20060530,     1456
  18HU20060524, AR07W,   191,  1, 299254,     12,2,20060530,1426, 60.2923, -48.5413, 2600,   1029.9,   3.8478,  34.9005,2,  34.8986,2,    275.4,2,    277.5,2,     9.43,6,    16.44,6,     1.12,6,    4.380,2,    2.540,2,    0.330,2,    4.190,2,    4.380,2,   2163.3,2,   2301.2,3,   3.7702, 20060530,     1500
  18HU20060524, AR07W,   191,  1, 299255,     13,2,20060530,1426, 60.2923, -48.5413, 2600,    848.7,   4.1588,  34.9209,2,  34.9187,2,    272.8,2,    280.2,2,     9.14,6,    16.25,6,     1.07,6,    4.320,2,    2.600,2,    0.330,2,    4.210,2,    4.150,2,   2163.2,2,   -999.0,9,   4.0939, 20060530,     1503
  18HU20060524, AR07W,   191,  1, 299256,     14,2,20060530,1426, 60.2923, -48.5413, 2600,    671.6,   4.3332,  34.9247,2,  34.9226,2,    274.9,2,    277.2,2,     8.84,6,    16.20,6,     1.06,6,    3.740,3,    2.390,3,    0.300,2,    3.670,2,    2.930,2,   2162.1,2,   2304.8,2,   4.2818, 20060530,     1507
  18HU20060524, AR07W,   191,  1, 299257,     15,2,20060530,1426, 60.2923, -48.5413, 2600,    510.8,   4.7111,  34.9492,2,  34.9230,2,    282.6,2,    285.1,2,     8.22,6,    15.99,6,     1.04,6,    5.040,2,    3.000,2,    0.410,2,    5.190,2,    3.140,2,   2159.1,2,   2303.8,2,   4.6711, 20060530,     1510
  18HU20060524, AR07W,   191,  1, 299258,     16,2,20060530,1426, 60.2923, -48.5413, 2600,    368.5,   4.9956,  34.9807,2,  34.9786,2,    286.1,2,    290.0,2,     7.92,6,    15.75,6,     1.02,6,    4.080,3,    2.550,3,    0.340,2,    4.370,2,    1.990,2,   2157.9,2,   2285.0,4,   4.9663, 20060530,     1513
  18HU20060524, AR07W,   191,  1, 299259,     17,2,20060530,1426, 60.2923, -48.5413, 2600,    249.6,   5.0616,  34.9833,2,-999.0000,9,    287.1,2,     36.7,3,     7.74,6,    15.54,6,     1.00,6,    3.850,3,    2.430,3,    0.330,2,    4.070,2,    1.730,2,   2153.0,2,   2304.9,2,   5.0419, 20060530,     1515
  18HU20060524, AR07W,   191,  1, 299260,     18,2,20060530,1426, 60.2923, -48.5413, 2600,    149.4,   5.1141,  34.9513,2,-999.0000,9,    291.3,2,    295.5,2,     6.69,6,    13.72,6,     0.94,6,    5.160,2,    3.080,2,    0.500,2,    5.520,2,    2.550,2,   2141.7,2,   2294.7,2,   5.1023, 20060530,     1517
  18HU20060524, AR07W,   191,  1, 299261,     19,2,20060530,1426, 60.2923, -48.5413, 2600,     98.5,   5.0945,  34.8488,2,-999.0000,9,    305.5,2,    309.2,2,     4.75,6,    10.12,6,     0.76,6,    4.410,3,    2.780,3,    0.380,2,    4.880,2,    1.760,2,   2126.1,2,   2295.4,2,   5.0868, 20060530,     1518
  18HU20060524, AR07W,   191,  1, 299262,     20,2,20060530,1426, 60.2923, -48.5413, 2600,     49.5,   4.8357,  34.6457,2,-999.0000,9,    317.5,2,    322.6,2,     3.28,6,     5.99,6,     0.59,6,    4.110,3,    2.610,3,    0.370,2,    4.620,2,    1.460,2,   2091.8,2,   2272.2,2,   4.8320, 20060530,     1519
  18HU20060524, AR07W,   191,  1, 299263,     21,2,20060530,1426, 60.2923, -48.5413, 2600,     20.7,   4.7819,  34.5975,2,-999.0000,9,    322.0,2,    325.8,2,     2.89,6,     5.16,6,     0.51,6,    5.500,2,    3.250,2,    0.510,2,    6.280,2,    2.340,2,   2081.3,2,   2254.1,2,   4.7804, 20060530,     1521
  18HU20060524, AR07W,   191,  1, 299264,     22,2,20060530,1426, 60.2923, -48.5413, 2600,      2.6,   4.7863,  34.5821,2,-999.0000,9,    322.3,2,    326.0,2,     2.74,6,     4.90,6,     0.51,6,    5.840,2,    3.470,2,    0.550,2,    6.650,2,    2.410,2,   2078.5,2,   2266.9,2,   4.7861, 20060530,     1522