BOTTLE,20120530PRINUNIVRMK
EXPOCODE,SECT_ID,STNNBR,CASTNO,SAMPNO,BTLNBR,BTLNBR_FLAG_W,DATE,TIME,LATITUDE,LONGITUDE,DEPTH,CTDPRS,CTDTMP,CTDSAL,CTDSAL_FLAG_W,SALNTY,SALNTY_FLAG_W,CTDOXY,CTDOXY_FLAG_W,OXYGEN,OXYGEN_FLAG_W,SILCAT,SILCAT_FLAG_W,NITRAT,NITRAT_FLAG_W,PHSPHT,PHSPHT_FLAG_W,CFC-11,CFC-11_FLAG_W,CFC-12,CFC-12_FLAG_W,CFC113,CFC113_FLAG_W,CCL4,CCL4_FLAG_W,MCHFRM,MCHFRM_FLAG_W,TCARBN,TCARBN_FLAG_W,ALKALI,ALKALI_FLAG_W,THETA,BTL_DATE,BTL_TIME
,,,,,,,,,,,METERS,DBAR,ITS-90,PSS-78,,PSS-78,,UMOL/KG,,UMOL/KG,,UMOL/KG,,UMOL/KG,,UMOL/KG,,PMOL/KG,,PMOL/KG,,PMOL/KG,,PMOL/KG,,PMOL/KG,,UMOL/KG,,UMOL/KG,,DEG C,,
  18HU20060524, AR07W,   222,  1, 299381,      1,2,20060601,1419, 56.0208, -48.8770, 3689,    200.0,   3.6664,  34.7545,2,-999.0000,9,    299.8,2,   -999.0,9,     7.43,6,    14.47,6,     1.01,6, -999.000,9, -999.000,9, -999.000,9, -999.000,9, -999.000,9,   -999.0,9,   -999.0,9,   3.6529, 20060601,     1419
  18HU20060524, AR07W,   222,  1, 299382,      2,2,20060601,1419, 56.0208, -48.8770, 3689,    151.3,   3.8035,  34.7319,2,-999.0000,9,    295.5,2,   -999.0,9,     7.47,6,    14.18,6,     1.00,6, -999.000,9, -999.000,9, -999.000,9, -999.000,9, -999.000,9,   -999.0,9,   -999.0,9,   3.7932, 20060601,     1421
  18HU20060524, AR07W,   222,  1, 299383,      3,2,20060601,1419, 56.0208, -48.8770, 3689,    100.9,   3.9109,  34.6902,2,-999.0000,9,    303.8,2,   -999.0,9,     6.93,6,    13.02,6,     0.96,6, -999.000,9, -999.000,9, -999.000,9, -999.000,9, -999.000,9,   -999.0,9,   -999.0,9,   3.9040, 20060601,     1423
  18HU20060524, AR07W,   222,  1, 299384,      4,2,20060601,1419, 56.0208, -48.8770, 3689,     80.5,   4.1880,  34.6879,2,-999.0000,9,    306.6,2,   -999.0,9,     5.89,6,    11.80,6,     0.91,6, -999.000,9, -999.000,9, -999.000,9, -999.000,9, -999.000,9,   -999.0,9,   -999.0,9,   4.1823, 20060601,     1424
  18HU20060524, AR07W,   222,  1, 299385,      5,2,20060601,1419, 56.0208, -48.8770, 3689,     60.8,   4.8477,  34.7032,2,-999.0000,9,    312.3,2,   -999.0,9,     2.76,6,     9.66,6,     0.74,6, -999.000,9, -999.000,9, -999.000,9, -999.000,9, -999.000,9,   -999.0,9,   -999.0,9,   4.8431, 20060601,     1425
  18HU20060524, AR07W,   222,  1, 299386,      6,2,20060601,1419, 56.0208, -48.8770, 3689,     50.0,   4.9789,  34.6841,2,-999.0000,9,    314.7,2,   -999.0,9,     1.80,6,     9.50,6,     0.69,6, -999.000,9, -999.000,9, -999.000,9, -999.000,9, -999.000,9,   -999.0,9,   -999.0,9,   4.9751, 20060601,     1426
  18HU20060524, AR07W,   222,  1, 299387,      7,2,20060601,1419, 56.0208, -48.8770, 3689,     40.4,   5.0712,  34.6811,2,-999.0000,9,    317.5,2,   -999.0,9,     1.50,6,     9.09,6,     0.67,6, -999.000,9, -999.000,9, -999.000,9, -999.000,9, -999.000,9,   -999.0,9,   -999.0,9,   5.0681, 20060601,     1426
  18HU20060524, AR07W,   222,  1, 299388,      8,2,20060601,1419, 56.0208, -48.8770, 3689,     30.0,   5.1668,  34.6810,2,-999.0000,9,    320.8,2,   -999.0,9,  -999.00,9,  -999.00,9,  -999.00,9, -999.000,9, -999.000,9, -999.000,9, -999.000,9, -999.000,9,   -999.0,9,   -999.0,9,   5.1645, 20060601,     1427
  18HU20060524, AR07W,   222,  1, 299389,      9,2,20060601,1419, 56.0208, -48.8770, 3689,     29.9,   5.1711,  34.6805,2,-999.0000,9,    320.7,2,   -999.0,9,     1.26,6,     8.68,6,     0.64,6, -999.000,9, -999.000,9, -999.000,9, -999.000,9, -999.000,9,   -999.0,9,   -999.0,9,   5.1688, 20060601,     1427
  18HU20060524, AR07W,   222,  1, 299390,     10,2,20060601,1419, 56.0208, -48.8770, 3689,     20.2,   5.5332,  34.6707,2,-999.0000,9,    324.7,2,   -999.0,9,     0.99,6,     7.54,6,     0.60,6, -999.000,9, -999.000,9, -999.000,9, -999.000,9, -999.000,9,   -999.0,9,   -999.0,9,   5.5316, 20060601,     1428
  18HU20060524, AR07W,   222,  1, 299391,     11,2,20060601,1419, 56.0208, -48.8770, 3689,     10.2,   5.5769,  34.6707,2,-999.0000,9,    325.9,2,   -999.0,9,     0.83,6,     7.25,6,     0.53,6, -999.000,9, -999.000,9, -999.000,9, -999.000,9, -999.000,9,   -999.0,9,   -999.0,9,   5.5761, 20060601,     1428
  18HU20060524, AR07W,   222,  1, 299392,     12,2,20060601,1419, 56.0208, -48.8770, 3689,      2.0,   5.5713,  34.6710,2,-999.0000,9,    325.9,2,   -999.0,9,     0.84,6,     7.70,6,     0.53,6, -999.000,9, -999.000,9, -999.000,9, -999.000,9, -999.000,9,   -999.0,9,   -999.0,9,   5.5711, 20060601,     1429
  18HU20060524, AR07W,   222,  1, 299393,     13,2,20060601,1419, 56.0208, -48.8770, 3689,      2.7,   5.5708,  34.6709,2,-999.0000,9,    325.9,2,   -999.0,9,  -999.00,9,  -999.00,9,  -999.00,9, -999.000,9, -999.000,9, -999.000,9, -999.000,9, -999.000,9,   -999.0,9,   -999.0,9,   5.5706, 20060601,     1429
  18HU20060524, AR07W,   222,  1, 299394,     14,2,20060601,1419, 56.0208, -48.8770, 3689,      2.9,   5.5703,  34.6711,2,-999.0000,9,    325.7,2,   -999.0,9,  -999.00,9,  -999.00,9,  -999.00,9, -999.000,9, -999.000,9, -999.000,9, -999.000,9, -999.000,9,   -999.0,9,   -999.0,9,   5.5701, 20060601,     1429
  18HU20060524, AR07W,   222,  1, 299395,     15,2,20060601,1419, 56.0208, -48.8770, 3689,      2.2,   5.5696,  34.6709,2,-999.0000,9,    325.8,2,   -999.0,9,  -999.00,9,  -999.00,9,  -999.00,9, -999.000,9, -999.000,9, -999.000,9, -999.000,9, -999.000,9,   -999.0,9,   -999.0,9,   5.5694, 20060601,     1429
  18HU20060524, AR07W,   225,  1, 299396,      1,2,20060602,1106, 53.6775, -48.6993, 3722,   3859.7,   1.6315,  34.8784,2,  34.8778,2,    296.0,2,    297.7,2,    10.53,6,    13.43,6,     1.00,6, -999.000,9, -999.000,9, -999.000,9, -999.000,9, -999.000,9,   2161.0,2,   2320.2,2,   1.3229, 20060602,     1106
  18HU20060524, AR07W,   225,  1, 299397,      2,2,20060602,1106, 53.6775, -48.6993, 3722,   3760.4,   1.7365,  34.8802,2,  34.8786,2,    294.6,2,    293.5,2,    10.08,6,    13.53,6,     0.98,6, -999.000,9, -999.000,9, -999.000,9, -999.000,9, -999.000,9,   2161.3,2,   2303.2,2,   1.4357, 20060602,     1110
  18HU20060524, AR07W,   225,  1, 299398,      3,2,20060602,1106, 53.6775, -48.6993, 3722,   3640.6,   2.0196,  34.8858,2,-999.0000,9,    288.8,2,   -999.0,9,  -999.00,9,  -999.00,9,  -999.00,9, -999.000,9, -999.000,9, -999.000,9, -999.000,9, -999.000,9,   -999.0,9,   -999.0,9,   1.7242, 20060602,     1113
  18HU20060524, AR07W,   225,  1, 299399,      4,2,20060602,1106, 53.6775, -48.6993, 3722,   3487.9,   2.2365,  34.8968,2,  34.8955,2,    279.8,2,    280.0,2,    15.54,6,    15.27,6,     1.08,6, -999.000,9, -999.000,9, -999.000,9, -999.000,9, -999.000,9,   2163.3,2,   2305.9,2,   1.9520, 20060602,     1117
  18HU20060524, AR07W,   225,  1, 299400,      5,2,20060602,1106, 53.6775, -48.6993, 3722,   3342.9,   2.3810,  34.9039,2,  34.9030,2,    276.8,2,    277.8,2,    15.87,6,    15.60,6,     1.10,6, -999.000,9, -999.000,9, -999.000,9, -999.000,9, -999.000,9,   2161.5,2,   2315.4,2,   2.1083, 20060602,     1120
  18HU20060524, AR07W,   225,  1, 299401,      6,2,20060602,1106, 53.6775, -48.6993, 3722,   3170.1,   2.5337,  34.9141,2,  34.9129,6,    274.5,2,    276.1,2,    15.58,6,    15.71,6,     1.12,6, -999.000,9, -999.000,9, -999.000,9, -999.000,9, -999.000,9,   2163.9,2,   2301.4,2,   2.2755, 20060602,     1124
  18HU20060524, AR07W,   225,  1, 299402,      7,2,20060602,1106, 53.6775, -48.6993, 3722,   3001.5,   2.6701,  34.9217,2,  34.9208,2,    273.3,2,    275.6,2,    14.58,6,    15.79,6,     1.11,6, -999.000,9, -999.000,9, -999.000,9, -999.000,9, -999.000,9,   2163.1,2,   2309.3,2,   2.4264, 20060602,     1127
  18HU20060524, AR07W,   225,  1, 299403,      8,2,20060602,1106, 53.6775, -48.6993, 3722,   2789.9,   2.8280,  34.9232,2,  34.9226,2,    272.9,2,    274.8,2,    13.48,6,    15.73,6,     1.11,6, -999.000,9, -999.000,9, -999.000,9, -999.000,9, -999.000,9,   2159.1,2,   2311.6,2,   2.6025, 20060602,     1131
  18HU20060524, AR07W,   225,  1, 299404,      9,2,20060602,1106, 53.6775, -48.6993, 3722,   2571.2,   2.9309,  34.9123,2,-999.0000,9,    273.7,2,   -999.0,9,  -999.00,9,  -999.00,9,  -999.00,9, -999.000,9, -999.000,9, -999.000,9, -999.000,9, -999.000,9,   -999.0,9,   -999.0,9,   2.7253, 20060602,     1135
  18HU20060524, AR07W,   225,  1, 299405,     10,2,20060602,1106, 53.6775, -48.6993, 3722,   2332.8,   3.0303,  34.9083,2,  34.9081,2,    273.9,2,    277.3,6,    12.12,6,    15.81,6,     1.11,6, -999.000,9, -999.000,9, -999.000,9, -999.000,9, -999.000,9,   2156.5,2,   2317.4,2,   2.8462, 20060602,     1139
  18HU20060524, AR07W,   225,  1, 299406,     11,2,20060602,1106, 53.6775, -48.6993, 3722,   2071.2,   3.1351,  34.9008,2,  34.9003,6,    275.0,2,    278.5,2,    11.52,6,    15.85,6,     1.12,6, -999.000,9, -999.000,9, -999.000,9, -999.000,9, -999.000,9,   -999.0,9,   -999.0,9,   2.9740, 20060602,     1143
  18HU20060524, AR07W,   225,  1, 299407,     12,2,20060602,1106, 53.6775, -48.6993, 3722,   1810.4,   3.2432,  34.8945,2,  34.8939,2,    274.9,2,    279.8,2,    11.12,6,    15.78,6,     1.12,6, -999.000,9, -999.000,9, -999.000,9, -999.000,9, -999.000,9,   2158.2,2,   2300.4,2,   3.1045, 20060602,     1147
  18HU20060524, AR07W,   225,  1, 299408,     13,2,20060602,1106, 53.6775, -48.6993, 3722,   1511.6,   3.4437,  34.8985,2,  34.8980,2,    271.9,2,    275.8,6,    10.86,6,    15.84,6,     1.13,6, -999.000,9, -999.000,9, -999.000,9, -999.000,9, -999.000,9,   2159.1,2,   2296.9,2,   3.3290, 20060602,     1152
  18HU20060524, AR07W,   225,  1, 299409,     14,2,20060602,1106, 53.6775, -48.6993, 3722,   1301.9,   3.5239,  34.8902,2,  34.8894,2,    273.7,2,    277.0,2,    10.26,6,    15.56,6,     1.12,6, -999.000,9, -999.000,9, -999.000,9, -999.000,9, -999.000,9,   2159.4,2,   2310.7,2,   3.4263, 20060602,     1156
  18HU20060524, AR07W,   225,  1, 299410,     15,2,20060602,1106, 53.6775, -48.6993, 3722,   1072.2,   3.5532,  34.8769,2,  34.8766,2,    278.3,2,    281.8,2,     9.62,6,    15.29,6,     1.10,6, -999.000,9, -999.000,9, -999.000,9, -999.000,9, -999.000,9,   2159.6,2,   2333.9,2,   3.4745, 20060602,     1200
  18HU20060524, AR07W,   225,  1, 299411,     16,2,20060602,1106, 53.6775, -48.6993, 3722,    871.4,   3.6836,  34.8797,2,  34.8794,2,    277.1,2,    280.2,2,     9.38,6,    15.02,6,     1.11,6, -999.000,9, -999.000,9, -999.000,9, -999.000,9, -999.000,9,   2160.7,2,   2343.8,2,   3.6201, 20060602,     1204
  18HU20060524, AR07W,   225,  1, 299412,     17,2,20060602,1106, 53.6775, -48.6993, 3722,    681.3,   3.8106,  34.8795,2,  34.8798,2,    275.1,2,    278.2,2,     9.17,6,    15.10,6,     1.11,6, -999.000,9, -999.000,9, -999.000,9, -999.000,9, -999.000,9,   2162.9,2,   2306.3,2,   3.7613, 20060602,     1208
  18HU20060524, AR07W,   225,  1, 299413,     18,2,20060602,1106, 53.6775, -48.6993, 3722,    511.1,   3.9440,  34.8695,2,  34.8694,2,    274.0,2,    277.5,2,     8.89,6,    15.06,6,     1.10,6, -999.000,9, -999.000,9, -999.000,9, -999.000,9, -999.000,9,   2161.5,2,   2304.6,2,   3.9071, 20060602,     1211
  18HU20060524, AR07W,   225,  1, 299414,     19,2,20060602,1106, 53.6775, -48.6993, 3722,    361.6,   4.3424,  34.8629,2,  34.8599,2,    260.6,2,    262.8,2,  -999.00,9,  -999.00,9,  -999.00,9, -999.000,9, -999.000,9, -999.000,9, -999.000,9, -999.000,9,   2165.6,2,   2305.2,2,   4.3156, 20060602,     1214
  18HU20060524, AR07W,   225,  1, 299415,     20,2,20060602,1106, 53.6775, -48.6993, 3722,    240.9,   4.1792,  34.7064,2,-999.0000,9,    291.6,2,    295.1,2,     7.17,6,    13.30,6,     1.00,6, -999.000,9, -999.000,9, -999.000,9, -999.000,9, -999.000,9,   2147.3,2,   2306.0,2,   4.1619, 20060602,     1218
  18HU20060524, AR07W,   225,  1, 299416,     21,2,20060602,1106, 53.6775, -48.6993, 3722,    140.9,   4.6997,  34.6607,2,-999.0000,9,    293.5,2,    298.1,2,     6.73,6,    11.91,6,     0.92,6, -999.000,9, -999.000,9, -999.000,9, -999.000,9, -999.000,9,   2137.0,2,   2305.7,2,   4.6891, 20060602,     1220
  18HU20060524, AR07W,   225,  1, 299417,     22,2,20060602,1106, 53.6775, -48.6993, 3722,     71.2,   5.4638,  34.6980,2,-999.0000,9,    297.1,2,    303.9,2,     5.51,6,    10.03,6,     0.81,6, -999.000,9, -999.000,9, -999.000,9, -999.000,9, -999.000,9,   2130.1,2,   2310.7,2,   5.4581, 20060602,     1222
  18HU20060524, AR07W,   225,  1, 299418,     23,2,20060602,1106, 53.6775, -48.6993, 3722,     34.8,   6.4514,  34.6740,2,-999.0000,9,    304.6,2,    309.0,2,     2.31,6,     6.90,6,     0.56,6, -999.000,9, -999.000,9, -999.000,9, -999.000,9, -999.000,9,   2107.0,2,   2303.0,2,   6.4483, 20060602,     1224
  18HU20060524, AR07W,   225,  1, 299419,     24,2,20060602,1106, 53.6775, -48.6993, 3722,      2.7,   6.5468,  34.6721,2,-999.0000,9,    306.1,2,    310.5,2,     2.19,6,     6.75,6,     0.54,6, -999.000,9, -999.000,9, -999.000,9, -999.000,9, -999.000,9,   2105.3,2,   2305.2,2,   6.5466, 20060602,     1225
  18HU20060524, AR07W,   228,  1, 299420,      1,2,20060602,1534, 53.4558, -49.5038, 3586,    202.6,   3.5685,  34.6673,2,-999.0000,9,    281.1,2,   -999.0,9,     8.22,6,    14.70,6,     1.05,6, -999.000,9, -999.000,9, -999.000,9, -999.000,9, -999.000,9,   -999.0,9,   -999.0,9,   3.5550, 20060602,     1534
  18HU20060524, AR07W,   228,  1, 299421,      2,2,20060602,1534, 53.4558, -49.5038, 3586,    149.6,   4.3011,  34.6884,2,-999.0000,9,    279.6,2,   -999.0,9,     7.55,6,    14.13,6,     1.03,6, -999.000,9, -999.000,9, -999.000,9, -999.000,9, -999.000,9,   -999.0,9,   -999.0,9,   4.2903, 20060602,     1535
  18HU20060524, AR07W,   228,  1, 299422,      3,2,20060602,1534, 53.4558, -49.5038, 3586,    100.8,   4.7371,  34.6592,2,-999.0000,9,    289.2,2,   -999.0,9,     6.81,6,    12.98,6,     0.98,6, -999.000,9, -999.000,9, -999.000,9, -999.000,9, -999.000,9,   -999.0,9,   -999.0,9,   4.7295, 20060602,     1536
  18HU20060524, AR07W,   228,  1, 299423,      4,2,20060602,1534, 53.4558, -49.5038, 3586,     79.2,   5.0294,  34.6474,2,-999.0000,9,    305.0,2,   -999.0,9,     6.19,6,     8.79,6,     0.84,6, -999.000,9, -999.000,9, -999.000,9, -999.000,9, -999.000,9,   -999.0,9,   -999.0,9,   5.0233, 20060602,     1537
  18HU20060524, AR07W,   228,  1, 299424,      5,2,20060602,1534, 53.4558, -49.5038, 3586,     59.6,   5.1275,  34.6278,2,-999.0000,9,    303.1,2,   -999.0,9,     6.13,6,     9.03,6,     0.80,6, -999.000,9, -999.000,9, -999.000,9, -999.000,9, -999.000,9,   -999.0,9,   -999.0,9,   5.1229, 20060602,     1538
  18HU20060524, AR07W,   228,  1, 299425,      6,2,20060602,1534, 53.4558, -49.5038, 3586,     50.9,   5.5395,  34.5786,2,-999.0000,9,    304.4,2,   -999.0,9,     4.91,6,     7.11,6,     0.70,6, -999.000,9, -999.000,9, -999.000,9, -999.000,9, -999.000,9,   -999.0,9,   -999.0,9,   5.5354, 20060602,     1539
  18HU20060524, AR07W,   228,  1, 299426,      7,2,20060602,1534, 53.4558, -49.5038, 3586,     40.6,   6.3717,  34.5747,2,-999.0000,9,    304.2,2,   -999.0,9,     2.73,6,     5.57,6,     0.50,6, -999.000,9, -999.000,9, -999.000,9, -999.000,9, -999.000,9,   -999.0,9,   -999.0,9,   6.3682, 20060602,     1539
  18HU20060524, AR07W,   228,  1, 299427,      8,2,20060602,1534, 53.4558, -49.5038, 3586,     29.4,   6.3963,  34.5740,2,-999.0000,9,    304.7,2,   -999.0,9,     2.74,6,     5.56,6,     0.48,6, -999.000,9, -999.000,9, -999.000,9, -999.000,9, -999.000,9,   -999.0,9,   -999.0,9,   6.3937, 20060602,     1540
  18HU20060524, AR07W,   228,  1, 299428,      9,2,20060602,1534, 53.4558, -49.5038, 3586,     29.2,   6.3962,  34.5744,2,-999.0000,9,    304.8,2,   -999.0,9,  -999.00,9,  -999.00,9,  -999.00,9, -999.000,9, -999.000,9, -999.000,9, -999.000,9, -999.000,9,   -999.0,9,   -999.0,9,   6.3937, 20060602,     1540
  18HU20060524, AR07W,   228,  1, 299429,     10,2,20060602,1534, 53.4558, -49.5038, 3586,     20.2,   6.4346,  34.5741,2,-999.0000,9,    306.6,2,   -999.0,9,     2.65,6,     5.47,6,     0.47,6, -999.000,9, -999.000,9, -999.000,9, -999.000,9, -999.000,9,   -999.0,9,   -999.0,9,   6.4328, 20060602,     1541
  18HU20060524, AR07W,   228,  1, 299430,     11,2,20060602,1534, 53.4558, -49.5038, 3586,     10.5,   6.5200,  34.5726,2,-999.0000,9,    306.4,2,   -999.0,9,     2.66,6,     5.40,6,     0.48,6, -999.000,9, -999.000,9, -999.000,9, -999.000,9, -999.000,9,   -999.0,9,   -999.0,9,   6.5191, 20060602,     1542
  18HU20060524, AR07W,   228,  1, 299431,     12,2,20060602,1534, 53.4558, -49.5038, 3586,      2.6,   6.4747,  34.5719,2,-999.0000,9,    306.9,2,   -999.0,9,     2.58,6,     5.27,6,     0.47,6, -999.000,9, -999.000,9, -999.000,9, -999.000,9, -999.000,9,   -999.0,9,   -999.0,9,   6.4745, 20060602,     1543
  18HU20060524, AR07W,   228,  1, 299432,     13,2,20060602,1534, 53.4558, -49.5038, 3586,      2.1,   6.4745,  34.5717,2,-999.0000,9,    307.0,2,   -999.0,9,  -999.00,9,  -999.00,9,  -999.00,9, -999.000,9, -999.000,9, -999.000,9, -999.000,9, -999.000,9,   -999.0,9,   -999.0,9,   6.4743, 20060602,     1543
  18HU20060524, AR07W,   228,  1, 299433,     14,2,20060602,1534, 53.4558, -49.5038, 3586,      3.0,   6.4744,  34.5719,2,-999.0000,9,    306.8,2,   -999.0,9,  -999.00,9,  -999.00,9,  -999.00,9, -999.000,9, -999.000,9, -999.000,9, -999.000,9, -999.000,9,   -999.0,9,   -999.0,9,   6.4741, 20060602,     1543
  18HU20060524, AR07W,   228,  1, 299434,     15,2,20060602,1534, 53.4558, -49.5038, 3586,      3.1,   6.4728,  34.5718,2,-999.0000,9,    306.9,2,   -999.0,9,  -999.00,9,  -999.00,9,  -999.00,9, -999.000,9, -999.000,9, -999.000,9, -999.000,9, -999.000,9,   -999.0,9,   -999.0,9,   6.4725, 20060602,     1543