BOTTLE,20120530PRINUNIVRMK
EXPOCODE,SECT_ID,STNNBR,CASTNO,SAMPNO,BTLNBR,BTLNBR_FLAG_W,DATE,TIME,LATITUDE,LONGITUDE,DEPTH,CTDPRS,CTDTMP,CTDSAL,CTDSAL_FLAG_W,SALNTY,SALNTY_FLAG_W,CTDOXY,CTDOXY_FLAG_W,OXYGEN,OXYGEN_FLAG_W,SILCAT,SILCAT_FLAG_W,NITRAT,NITRAT_FLAG_W,PHSPHT,PHSPHT_FLAG_W,CFC-11,CFC-11_FLAG_W,CFC-12,CFC-12_FLAG_W,CFC113,CFC113_FLAG_W,CCL4,CCL4_FLAG_W,MCHFRM,MCHFRM_FLAG_W,TCARBN,TCARBN_FLAG_W,ALKALI,ALKALI_FLAG_W,THETA,BTL_DATE,BTL_TIME
,,,,,,,,,,,METERS,DBAR,ITS-90,PSS-78,,PSS-78,,UMOL/KG,,UMOL/KG,,UMOL/KG,,UMOL/KG,,UMOL/KG,,PMOL/KG,,PMOL/KG,,PMOL/KG,,PMOL/KG,,PMOL/KG,,UMOL/KG,,UMOL/KG,,DEG C,,
  18HU20060524, AR07W,   300,  1, 299710,      1,2,20060607,1812, 43.1823, -62.1170,  103,     92.2,   9.4429,  34.5032,2,-999.0000,9,    223.2,2,    326.3,3,  -999.00,9,  -999.00,9,  -999.00,9,    3.820,2,    2.090,2,    0.330,2,    3.140,2,    2.870,2,   2122.0,2,   2296.8,3,   9.4327, 20060607,     1812
  18HU20060524, AR07W,   300,  1, 299711,      2,2,20060607,1812, 43.1823, -62.1170,  103,     80.0,   7.4416,  33.8126,2,-999.0000,9,    247.6,2,    251.3,6,  -999.00,9,  -999.00,9,  -999.00,9, -999.000,9, -999.000,9, -999.000,9, -999.000,9, -999.000,9,   2111.0,2,   2274.2,2,   7.4340, 20060607,     1812
  18HU20060524, AR07W,   300,  1, 299712,      3,2,20060607,1812, 43.1823, -62.1170,  103,     59.8,   3.8764,  32.9214,2,-999.0000,9,    283.7,2,    283.9,2,  -999.00,9,  -999.00,9,  -999.00,9, -999.000,9, -999.000,9, -999.000,9, -999.000,9, -999.000,9,   2103.5,2,   2233.5,2,   3.8725, 20060607,     1813
  18HU20060524, AR07W,   300,  1, 299713,      4,2,20060607,1812, 43.1823, -62.1170,  103,     50.8,   3.8179,  32.8666,2,-999.0000,9,    289.1,2,    293.8,2,  -999.00,9,  -999.00,9,  -999.00,9,    5.750,2,    3.140,2,    0.570,2,    6.480,2,    4.350,2,   2094.2,2,   2236.3,2,   3.8146, 20060607,     1814
  18HU20060524, AR07W,   300,  1, 299714,      5,2,20060607,1812, 43.1823, -62.1170,  103,     39.5,   4.0222,  32.7223,2,-999.0000,9,    304.3,2,    311.5,2,  -999.00,9,  -999.00,9,  -999.00,9, -999.000,9, -999.000,9, -999.000,9, -999.000,9, -999.000,9,   2074.3,2,   2220.8,2,   4.0196, 20060607,     1814
  18HU20060524, AR07W,   300,  1, 299715,      6,2,20060607,1812, 43.1823, -62.1170,  103,     30.2,   5.1903,  32.5998,2,-999.0000,9,    319.4,2,    324.4,2,  -999.00,9,  -999.00,9,  -999.00,9, -999.000,9, -999.000,9, -999.000,9, -999.000,9, -999.000,9,   2049.1,2,   2214.4,2,   5.1880, 20060607,     1814
  18HU20060524, AR07W,   300,  1, 299716,      7,2,20060607,1812, 43.1823, -62.1170,  103,     19.7,   8.8250,  32.4220,2,-999.0000,9,    307.1,2,    311.8,2,  -999.00,9,  -999.00,9,  -999.00,9, -999.000,9, -999.000,9, -999.000,9, -999.000,9, -999.000,9,   2029.2,2,   2215.9,2,   8.8230, 20060607,     1815
  18HU20060524, AR07W,   300,  1, 299717,      8,2,20060607,1812, 43.1823, -62.1170,  103,     10.0,  10.1284,  32.4263,2,-999.0000,9,    292.3,2,    298.9,2,  -999.00,9,  -999.00,9,  -999.00,9,    4.780,2,    2.670,2,    0.500,2,    5.930,2,    3.250,2,   2025.2,2,   2198.5,2,  10.1273, 20060607,     1815
  18HU20060524, AR07W,   300,  1, 299718,      9,2,20060607,1812, 43.1823, -62.1170,  103,      2.9,  10.1530,  32.4281,2,-999.0000,9,    292.1,2,    299.3,2,  -999.00,9,  -999.00,9,  -999.00,9, -999.000,9, -999.000,9, -999.000,9, -999.000,9, -999.000,9,   2026.1,2,   2207.1,2,  10.1527, 20060607,     1816
  18HU20060524, AR07W,   310,  1, 299719,      1,2,20060607,2024, 43.4775, -62.4573,  103,     75.2,   6.5949,  33.5011,2,-999.0000,9,    237.3,2,    241.4,2,  -999.00,9,  -999.00,9,  -999.00,9,    4.580,2,    2.820,2,    0.350,2,    4.410,2,    2.000,2,   2116.3,2,   2250.5,2,   6.5883, 20060607,     2024
  18HU20060524, AR07W,   310,  1, 299720,      2,2,20060607,2024, 43.4775, -62.4573,  103,     60.6,   6.1885,  33.2916,2,-999.0000,9,    250.1,2,    254.5,6,  -999.00,9,  -999.00,9,  -999.00,9, -999.000,9, -999.000,9, -999.000,9, -999.000,9, -999.000,9,   2101.9,2,   2237.8,2,   6.1834, 20060607,     2024
  18HU20060524, AR07W,   310,  1, 299721,      3,2,20060607,2024, 43.4775, -62.4573,  103,     51.0,   6.5181,  33.1535,2,-999.0000,9,    284.4,2,    287.5,2,  -999.00,9,  -999.00,9,  -999.00,9,    4.970,2,    2.860,2,    0.560,2,    5.520,2,    2.050,2,   2077.4,2,   2239.7,2,   6.5137, 20060607,     2026
  18HU20060524, AR07W,   310,  1, 299722,      4,2,20060607,2024, 43.4775, -62.4573,  103,     40.6,   7.4689,  33.1073,2,-999.0000,9,    299.4,2,    299.4,2,  -999.00,9,  -999.00,9,  -999.00,9, -999.000,9, -999.000,9, -999.000,9, -999.000,9, -999.000,9,   2059.6,2,   2240.7,2,   7.4651, 20060607,     2026
  18HU20060524, AR07W,   310,  1, 299723,      5,2,20060607,2024, 43.4775, -62.4573,  103,     30.9,   8.2029,  32.9679,2,-999.0000,9,    312.1,2,    308.8,2,  -999.00,9,  -999.00,9,  -999.00,9, -999.000,9, -999.000,9, -999.000,9, -999.000,9, -999.000,9,   2036.9,2,   2230.6,2,   8.1999, 20060607,     2027
  18HU20060524, AR07W,   310,  1, 299724,      6,2,20060607,2024, 43.4775, -62.4573,  103,     20.9,  10.3322,  32.3980,2,-999.0000,9,    293.1,2,    281.2,3,  -999.00,9,  -999.00,9,  -999.00,9, -999.000,9, -999.000,9, -999.000,9, -999.000,9, -999.000,9,   2021.8,2,   2202.6,2,  10.3298, 20060607,     2028
  18HU20060524, AR07W,   310,  1, 299725,      7,2,20060607,2024, 43.4775, -62.4573,  103,     10.8,  10.7410,  32.3347,2,-999.0000,9,    285.0,2,    291.8,2,  -999.00,9,  -999.00,9,  -999.00,9,    4.280,2,    2.660,2,    0.370,2,    4.980,2,    1.580,2,   2016.3,2,   2199.3,2,  10.7397, 20060607,     2028
  18HU20060524, AR07W,   310,  1, 299726,      8,2,20060607,2024, 43.4775, -62.4573,  103,      2.8,  10.7485,  32.3323,2,-999.0000,9,    285.4,2,    268.9,3,  -999.00,9,  -999.00,9,  -999.00,9, -999.000,9, -999.000,9, -999.000,9, -999.000,9, -999.000,9,   2017.0,2,   2205.7,2,  10.7482, 20060607,     2029
  18HU20060524, AR07W,   320,  1, 299727,      1,2,20060608,0011, 43.8817, -62.8868,  264,    257.9,   9.5175,  35.0492,2,-999.0000,9,    103.9,2,    106.2,2,  -999.00,9,  -999.00,9,  -999.00,9,    2.220,2,    1.310,2,    0.090,2,    0.950,2,    1.370,2,   2218.7,2,   2317.9,2,   9.4884, 20060608,       11
  18HU20060524, AR07W,   320,  1, 299728,      2,2,20060608,0011, 43.8817, -62.8868,  264,    200.3,   9.6635,  35.0297,2,-999.0000,9,    128.6,2,    133.0,2,  -999.00,9,  -999.00,9,  -999.00,9,    2.430,2,    1.430,2,    0.100,2,    1.050,2,    1.400,2,   2195.4,2,   2313.1,2,   9.6407, 20060608,       13
  18HU20060524, AR07W,   320,  1, 299729,      3,2,20060608,0011, 43.8817, -62.8868,  264,    150.5,  10.0379,  34.9204,2,-999.0000,9,    160.2,2,    165.2,2,  -999.00,9,  -999.00,9,  -999.00,9,    2.960,2,    1.820,2,    0.160,2,    1.470,2,    1.440,2,   2169.0,2,   2318.0,2,  10.0205, 20060608,       14
  18HU20060524, AR07W,   320,  1, 299730,      4,2,20060608,0011, 43.8817, -62.8868,  264,    126.0,   9.4014,  34.6496,2,-999.0000,9,    166.5,2,    171.5,6,  -999.00,9,  -999.00,9,  -999.00,9, -999.000,9, -999.000,9, -999.000,9, -999.000,9, -999.000,9,   2165.7,2,   2307.3,2,   9.3874, 20060608,       15
  18HU20060524, AR07W,   320,  1, 299731,      5,2,20060608,0011, 43.8817, -62.8868,  264,     99.6,   8.5263,  34.2534,2,-999.0000,9,    181.4,2,    183.0,2,  -999.00,9,  -999.00,9,  -999.00,9,    3.800,2,    2.340,2,    0.230,2,    2.160,2,    1.880,2,   2155.9,2,   2281.0,2,   8.5160, 20060608,       17
  18HU20060524, AR07W,   320,  1, 299732,      6,2,20060608,0011, 43.8817, -62.8868,  264,     81.1,   7.6454,  33.7893,2,-999.0000,9,    233.4,2,    236.7,2,  -999.00,9,  -999.00,9,  -999.00,9, -999.000,9, -999.000,9, -999.000,9, -999.000,9, -999.000,9,   2115.6,2,   2264.1,2,   7.6376, 20060608,       18
  18HU20060524, AR07W,   320,  1, 299733,      7,2,20060608,0011, 43.8817, -62.8868,  264,     59.8,   5.7845,  33.1122,2,-999.0000,9,    266.7,2,    272.0,2,  -999.00,9,  -999.00,9,  -999.00,9, -999.000,9, -999.000,9, -999.000,9, -999.000,9, -999.000,9,   2088.7,2,   2241.7,2,   5.7797, 20060608,       19
  18HU20060524, AR07W,   320,  1, 299734,      8,2,20060608,0011, 43.8817, -62.8868,  264,     51.1,   5.9329,  33.0202,2,-999.0000,9,    276.0,2,    283.2,2,  -999.00,9,  -999.00,9,  -999.00,9,    5.090,2,    3.090,2,    0.320,2,    5.400,2,    2.210,2,   2080.0,2,   2236.7,2,   5.9287, 20060608,       20
  18HU20060524, AR07W,   320,  1, 299735,      9,2,20060608,0011, 43.8817, -62.8868,  264,     40.1,   5.6562,  32.7853,2,-999.0000,9,    283.6,2,    286.4,2,  -999.00,9,  -999.00,9,  -999.00,9, -999.000,9, -999.000,9, -999.000,9, -999.000,9, -999.000,9,   2072.3,2,   2225.1,2,   5.6530, 20060608,       21
  18HU20060524, AR07W,   320,  1, 299736,     10,2,20060608,0011, 43.8817, -62.8868,  264,     30.2,   5.0645,  32.3655,2,-999.0000,9,    306.1,2,    303.9,2,  -999.00,9,  -999.00,9,  -999.00,9, -999.000,9, -999.000,9, -999.000,9, -999.000,9, -999.000,9,   2059.1,2,   2219.2,2,   5.0623, 20060608,       22
  18HU20060524, AR07W,   320,  1, 299737,     11,2,20060608,0011, 43.8817, -62.8868,  264,     20.5,   9.5815,  32.0756,2,-999.0000,9,    292.9,2,    299.0,2,  -999.00,9,  -999.00,9,  -999.00,9, -999.000,9, -999.000,9, -999.000,9, -999.000,9, -999.000,9,   2018.5,2,   2171.3,3,   9.5793, 20060608,       23
  18HU20060524, AR07W,   320,  1, 299738,     12,2,20060608,0011, 43.8817, -62.8868,  264,     10.2,  10.3383,  32.0368,2,-999.0000,9,    286.7,2,    292.2,6,  -999.00,9,  -999.00,9,  -999.00,9,    4.500,2,    2.890,2,    0.410,2,    5.420,2,    1.730,2,   2013.9,2,   2197.0,2,  10.3371, 20060608,       23
  18HU20060524, AR07W,   320,  1, 299739,     13,2,20060608,0011, 43.8817, -62.8868,  264,      3.3,  10.3670,  32.0338,2,-999.0000,9,    285.6,2,   -999.0,9,  -999.00,9,  -999.00,9,  -999.00,9, -999.000,9, -999.000,9, -999.000,9, -999.000,9, -999.000,9,   2013.8,2,   2183.2,2,  10.3666, 20060608,       24
  18HU20060524, AR07W,   326,  1, 299740,      1,2,20060608,0607, 44.2658, -63.3150,  154,    143.9,   7.7739,  34.0189,2,-999.0000,9,    175.1,2,    175.5,2,  -999.00,9,  -999.00,9,  -999.00,9,    3.970,2,    2.500,2,    0.260,2,    2.410,2,    1.970,2,   2165.6,2,   2272.6,2,   7.7598, 20060608,      607
  18HU20060524, AR07W,   326,  1, 299741,      2,2,20060608,0607, 44.2658, -63.3150,  154,    125.0,   6.3552,  33.4691,2,-999.0000,9,    205.8,2,    216.7,2,  -999.00,9,  -999.00,9,  -999.00,9, -999.000,9, -999.000,9, -999.000,9, -999.000,9, -999.000,9,   2134.2,2,   2237.6,2,   6.3445, 20060608,      608
  18HU20060524, AR07W,   326,  1, 299742,      3,2,20060608,0607, 44.2658, -63.3150,  154,    100.4,   4.3577,  32.7022,2,-999.0000,9,    270.7,2,    272.4,6,  -999.00,9,  -999.00,9,  -999.00,9,    5.430,2,    3.480,2,    0.420,2,    5.470,2,    2.420,2,   2098.1,2,   2209.3,2,   4.3508, 20060608,      609
  18HU20060524, AR07W,   326,  1, 299743,      4,2,20060608,0607, 44.2658, -63.3150,  154,     78.2,   3.5500,  32.4468,2,-999.0000,9,    266.7,2,    268.8,2,  -999.00,9,  -999.00,9,  -999.00,9, -999.000,9, -999.000,9, -999.000,9, -999.000,9, -999.000,9,   2102.9,2,   2209.0,2,   3.5452, 20060608,      611
  18HU20060524, AR07W,   326,  1, 299744,      5,2,20060608,0607, 44.2658, -63.3150,  154,     59.9,   4.1993,  32.3856,2,-999.0000,9,    288.2,2,    291.8,2,  -999.00,9,  -999.00,9,  -999.00,9, -999.000,9, -999.000,9, -999.000,9, -999.000,9, -999.000,9,   2077.9,2,   2193.6,2,   4.1953, 20060608,      612
  18HU20060524, AR07W,   326,  1, 299745,      6,2,20060608,0607, 44.2658, -63.3150,  154,     50.6,   3.5764,  32.1778,2,-999.0000,9,    294.9,2,    296.7,2,  -999.00,9,  -999.00,9,  -999.00,9,    5.850,2,    3.650,2,    0.490,2,    6.530,2,    2.470,2,   2073.2,2,   2175.7,2,   3.5733, 20060608,      612
  18HU20060524, AR07W,   326,  1, 299746,      7,2,20060608,0607, 44.2658, -63.3150,  154,     40.1,   4.5368,  32.1332,2,-999.0000,9,    309.2,2,    314.0,3,  -999.00,9,  -999.00,9,  -999.00,9, -999.000,9, -999.000,9, -999.000,9, -999.000,9, -999.000,9,   2051.0,2,   2187.8,2,   4.5341, 20060608,      613
  18HU20060524, AR07W,   326,  1, 299747,      8,2,20060608,0607, 44.2658, -63.3150,  154,     30.6,   5.1125,  32.0419,2,-999.0000,9,    316.3,2,    319.2,3,  -999.00,9,  -999.00,9,  -999.00,9, -999.000,9, -999.000,9, -999.000,9, -999.000,9, -999.000,9,   2040.3,2,   2167.8,2,   5.1103, 20060608,      614
  18HU20060524, AR07W,   326,  1, 299748,      9,2,20060608,0607, 44.2658, -63.3150,  154,     20.5,   5.3357,  31.8966,2,-999.0000,9,    319.5,2,    314.7,3,  -999.00,9,  -999.00,9,  -999.00,9, -999.000,9, -999.000,9, -999.000,9, -999.000,9, -999.000,9,   2032.7,2,   2173.1,2,   5.3342, 20060608,      615
  18HU20060524, AR07W,   326,  1, 299749,     10,2,20060608,0607, 44.2658, -63.3150,  154,      9.2,   8.4041,  31.2259,2,-999.0000,9,    303.0,2,   -999.0,9,  -999.00,9,  -999.00,9,  -999.00,9,    4.960,2,    3.130,2,    0.430,2,    6.060,2,    1.920,2,   1986.3,2,   2117.6,2,   8.4032, 20060608,      616
  18HU20060524, AR07W,   326,  1, 299750,     11,2,20060608,0607, 44.2658, -63.3150,  154,      2.8,   8.6894,  31.1875,2,-999.0000,9,    300.0,2,    304.8,2,  -999.00,9,  -999.00,9,  -999.00,9, -999.000,9, -999.000,9, -999.000,9, -999.000,9, -999.000,9,   1983.8,2,   2124.1,2,   8.6891, 20060608,      617
  18HU20060524, AR07W,   327,  1, 299751,      1,2,20060608,0804, 44.3990, -63.4452,   83,     76.2,   4.0857,  32.0246,2,-999.0000,9,    301.6,2,    304.0,2,  -999.00,9,  -999.00,9,  -999.00,9,    5.820,2,    3.570,2,    0.500,2,    6.390,2,    2.390,2,   2056.3,2,   2155.7,2,   4.0807, 20060608,      804
  18HU20060524, AR07W,   327,  1, 299752,      2,2,20060608,0804, 44.3990, -63.4452,   83,     49.1,   4.3299,  31.9079,2,-999.0000,9,    312.6,2,    317.5,2,  -999.00,9,  -999.00,9,  -999.00,9,    5.810,2,    3.610,2,    0.500,2,    6.740,2,    2.350,2,   2042.1,2,   2144.7,3,   4.3266, 20060608,      805
  18HU20060524, AR07W,   327,  1, 299753,      3,2,20060608,0804, 44.3990, -63.4452,   83,     39.8,   4.7006,  31.7999,2,-999.0000,9,    314.6,2,    317.7,6,  -999.00,9,  -999.00,9,  -999.00,9, -999.000,9, -999.000,9, -999.000,9, -999.000,9, -999.000,9,   2035.3,2,   2136.4,2,   4.6978, 20060608,      806
  18HU20060524, AR07W,   327,  1, 299754,      4,2,20060608,0804, 44.3990, -63.4452,   83,     28.4,   5.7567,  31.4382,2,-999.0000,9,    321.5,2,    325.6,2,  -999.00,9,  -999.00,9,  -999.00,9, -999.000,9, -999.000,9, -999.000,9, -999.000,9, -999.000,9,   2006.0,2,   2149.6,2,   5.7545, 20060608,      807
  18HU20060524, AR07W,   327,  1, 299755,      5,2,20060608,0804, 44.3990, -63.4452,   83,     18.5,   8.7666,  30.8992,2,-999.0000,9,    298.3,2,    303.0,2,  -999.00,9,  -999.00,9,  -999.00,9, -999.000,9, -999.000,9, -999.000,9, -999.000,9, -999.000,9,   1971.8,2,   2124.7,2,   8.7648, 20060608,      808
  18HU20060524, AR07W,   327,  1, 299756,      6,2,20060608,0804, 44.3990, -63.4452,   83,      9.5,   8.7921,  30.8982,2,-999.0000,9,    297.9,2,    303.6,2,  -999.00,9,  -999.00,9,  -999.00,9,    5.030,2,    3.040,2,    0.420,2,    5.940,2,    1.870,2,   1969.3,2,   2096.3,2,   8.7912, 20060608,      809
  18HU20060524, AR07W,   327,  1, 299757,      7,2,20060608,0804, 44.3990, -63.4452,   83,      5.2,   8.7989,  30.8977,2,-999.0000,9,    298.7,2,    304.3,2,  -999.00,9,  -999.00,9,  -999.00,9, -999.000,9, -999.000,9, -999.000,9, -999.000,9, -999.000,9,   1971.2,2,   2132.6,2,   8.7984, 20060608,      810
  18HU20060524, AR07W,   327,  1, 299758,      8,2,20060608,0804, 44.3990, -63.4452,   83,      2.5,   8.7970,  30.8970,2,-999.0000,9,    299.7,2,    305.4,2,  -999.00,9,  -999.00,9,  -999.00,9, -999.000,9, -999.000,9, -999.000,9, -999.000,9, -999.000,9,   1971.3,2,   2107.4,2,   8.7968, 20060608,      810