BOTTLE,20120530PRINUNIVRMK
EXPOCODE,SECT_ID,STNNBR,CASTNO,SAMPNO,BTLNBR,BTLNBR_FLAG_W,DATE,TIME,LATITUDE,LONGITUDE,DEPTH,CTDPRS,CTDTMP,CTDSAL,CTDSAL_FLAG_W,SALNTY,SALNTY_FLAG_W,CTDOXY,CTDOXY_FLAG_W,OXYGEN,OXYGEN_FLAG_W,SILCAT,SILCAT_FLAG_W,NITRAT,NITRAT_FLAG_W,PHSPHT,PHSPHT_FLAG_W,CFC-11,CFC-11_FLAG_W,CFC-12,CFC-12_FLAG_W,CFC113,CFC113_FLAG_W,CCL4,CCL4_FLAG_W,MCHFRM,MCHFRM_FLAG_W,TCARBN,TCARBN_FLAG_W,ALKALI,ALKALI_FLAG_W,THETA,BTL_DATE,BTL_TIME
,,,,,,,,,,,METERS,DBAR,ITS-90,PSS-78,,PSS-78,,UMOL/KG,,UMOL/KG,,UMOL/KG,,UMOL/KG,,UMOL/KG,,PMOL/KG,,PMOL/KG,,PMOL/KG,,PMOL/KG,,PMOL/KG,,UMOL/KG,,UMOL/KG,,DEG C,,
  18HU20060524, AR07W,    91,  1, 298982,      1,2,20060528,1013, 56.5367, -52.6790, 3440,    201.2,   3.2953,  34.8127,2,-999.0000,9,    299.9,2,   -999.0,9,     8.26,6,    15.88,6,     1.09,6, -999.000,9, -999.000,9, -999.000,9, -999.000,9, -999.000,9,   -999.0,9,   -999.0,9,   3.2823, 20060528,     1013
  18HU20060524, AR07W,    91,  1, 298983,      2,2,20060528,1013, 56.5367, -52.6790, 3440,    150.1,   3.3106,  34.7945,2,-999.0000,9,    308.1,2,   -999.0,9,     8.10,6,    14.01,6,     0.92,6, -999.000,9, -999.000,9, -999.000,9, -999.000,9, -999.000,9,   -999.0,9,   -999.0,9,   3.3010, 20060528,     1015
  18HU20060524, AR07W,    91,  1, 298984,      3,2,20060528,1013, 56.5367, -52.6790, 3440,    100.0,   3.3433,  34.7723,2,-999.0000,9,    312.8,2,   -999.0,9,     7.95,6,    12.66,6,     0.86,6, -999.000,9, -999.000,9, -999.000,9, -999.000,9, -999.000,9,   -999.0,9,   -999.0,9,   3.3369, 20060528,     1016
  18HU20060524, AR07W,    91,  1, 298985,      4,2,20060528,1013, 56.5367, -52.6790, 3440,     79.7,   3.3833,  34.7549,2,-999.0000,9,    319.1,2,   -999.0,9,     7.93,6,    11.54,6,     0.82,6, -999.000,9, -999.000,9, -999.000,9, -999.000,9, -999.000,9,   -999.0,9,   -999.0,9,   3.3782, 20060528,     1016
  18HU20060524, AR07W,    91,  1, 298986,      5,2,20060528,1013, 56.5367, -52.6790, 3440,     59.3,   3.4262,  34.7504,2,-999.0000,9,    323.1,2,   -999.0,9,     7.80,6,    10.71,6,     0.78,6, -999.000,9, -999.000,9, -999.000,9, -999.000,9, -999.000,9,   -999.0,9,   -999.0,9,   3.4224, 20060528,     1017
  18HU20060524, AR07W,    91,  1, 298987,      6,2,20060528,1013, 56.5367, -52.6790, 3440,     50.2,   3.4667,  34.7352,2,-999.0000,9,    320.6,2,   -999.0,9,     7.60,6,    10.43,6,     0.80,6, -999.000,9, -999.000,9, -999.000,9, -999.000,9, -999.000,9,   -999.0,9,   -999.0,9,   3.4635, 20060528,     1018
  18HU20060524, AR07W,    91,  1, 298988,      7,2,20060528,1013, 56.5367, -52.6790, 3440,     39.9,   3.8225,  34.7307,2,-999.0000,9,    325.0,2,   -999.0,9,     6.30,6,     8.84,6,     0.69,6, -999.000,9, -999.000,9, -999.000,9, -999.000,9, -999.000,9,   -999.0,9,   -999.0,9,   3.8198, 20060528,     1018
  18HU20060524, AR07W,    91,  1, 298989,      8,2,20060528,1013, 56.5367, -52.6790, 3440,     30.2,   4.6843,  34.6860,2,-999.0000,9,    338.1,2,   -999.0,9,     2.25,6,     5.38,6,     0.41,6, -999.000,9, -999.000,9, -999.000,9, -999.000,9, -999.000,9,   -999.0,9,   -999.0,9,   4.6821, 20060528,     1019
  18HU20060524, AR07W,    91,  1, 298990,      9,2,20060528,1013, 56.5367, -52.6790, 3440,     29.8,   4.6596,  34.6923,2,-999.0000,9,    338.9,2,   -999.0,9,  -999.00,9,  -999.00,9,  -999.00,9, -999.000,9, -999.000,9, -999.000,9, -999.000,9, -999.000,9,   -999.0,9,   -999.0,9,   4.6574, 20060528,     1019
  18HU20060524, AR07W,    91,  1, 298991,     10,2,20060528,1013, 56.5367, -52.6790, 3440,     19.0,   4.7558,  34.6883,2,-999.0000,9,    341.2,2,   -999.0,9,     1.37,6,     4.45,6,     0.38,6, -999.000,9, -999.000,9, -999.000,9, -999.000,9, -999.000,9,   -999.0,9,   -999.0,9,   4.7544, 20060528,     1019
  18HU20060524, AR07W,    91,  1, 298992,     11,2,20060528,1013, 56.5367, -52.6790, 3440,     10.5,   4.7566,  34.6888,2,-999.0000,9,    341.5,2,   -999.0,9,     1.22,6,     4.45,6,     0.36,6, -999.000,9, -999.000,9, -999.000,9, -999.000,9, -999.000,9,   -999.0,9,   -999.0,9,   4.7558, 20060528,     1020
  18HU20060524, AR07W,    91,  1, 298993,     12,2,20060528,1013, 56.5367, -52.6790, 3440,      3.2,   4.7519,  34.6886,2,-999.0000,9,    342.1,2,   -999.0,9,     1.15,6,     4.58,6,     0.32,6, -999.000,9, -999.000,9, -999.000,9, -999.000,9, -999.000,9,   -999.0,9,   -999.0,9,   4.7517, 20060528,     1021
  18HU20060524, AR07W,    91,  1, 298994,     13,2,20060528,1013, 56.5367, -52.6790, 3440,      3.5,   4.7523,  34.6884,2,-999.0000,9,    342.0,2,   -999.0,9,  -999.00,9,  -999.00,9,  -999.00,9, -999.000,9, -999.000,9, -999.000,9, -999.000,9, -999.000,9,   -999.0,9,   -999.0,9,   4.7520, 20060528,     1021
  18HU20060524, AR07W,    91,  1, 298995,     14,2,20060528,1013, 56.5367, -52.6790, 3440,      3.3,   4.7517,  34.6885,2,-999.0000,9,    342.0,2,   -999.0,9,  -999.00,9,  -999.00,9,  -999.00,9, -999.000,9, -999.000,9, -999.000,9, -999.000,9, -999.000,9,   -999.0,9,   -999.0,9,   4.7515, 20060528,     1021
  18HU20060524, AR07W,    91,  1, 298996,     15,2,20060528,1013, 56.5367, -52.6790, 3440,      3.2,   4.7516,  34.6885,2,-999.0000,9,    342.2,2,   -999.0,9,  -999.00,9,  -999.00,9,  -999.00,9, -999.000,9, -999.000,9, -999.000,9, -999.000,9, -999.000,9,   -999.0,9,   -999.0,9,   4.7514, 20060528,     1021
  18HU20060524, AR07W,    92,  1, 298997,      1,2,20060528,1155, 56.5365, -52.6782, 3440,   3538.2,   1.6177,  34.8795,2,  34.8788,2,    296.2,2,    297.0,2,    10.30,6,    13.92,6,     0.98,6,    4.200,2,    2.210,2,    0.350,2,    4.400,2,    9.940,2,   2158.9,2,   2325.0,3,   1.3435, 20060528,     1155
  18HU20060524, AR07W,    92,  1, 298998,      2,2,20060528,1155, 56.5365, -52.6782, 3440,   3460.5,   1.7353,  34.8810,2,  34.8812,2,    295.4,2,    297.6,2,     9.86,6,    14.20,6,     0.93,6,    4.160,2,    2.200,2,    0.350,2,    4.540,2,   10.170,2,   2158.6,2,   2310.0,2,   1.4662, 20060528,     1157
  18HU20060524, AR07W,    92,  1, 298999,      3,2,20060528,1155, 56.5365, -52.6782, 3440,   3381.1,   1.9752,  34.8855,2,  34.8847,2,    291.2,2,    293.1,2,    10.57,6,    14.79,6,     0.97,6,    3.850,2,    1.990,2,    0.310,2,    4.290,2,    9.890,2,   2159.2,2,   2323.1,2,   1.7084, 20060528,     1159
  18HU20060524, AR07W,    92,  1, 299000,      4,2,20060528,1155, 56.5365, -52.6782, 3440,   3281.3,   2.3152,  34.8959,2,  34.8953,2,    285.0,2,    287.3,2,    11.86,6,    15.42,6,     0.99,6,    3.300,2,    1.670,2,    0.260,2,    3.600,2,    9.130,2,   2160.1,2,   2327.0,2,   2.0506, 20060528,     1201
  18HU20060524, AR07W,    92,  1, 299001,      5,2,20060528,1155, 56.5365, -52.6782, 3440,   3150.5,   2.5746,  34.9076,2,  34.9073,2,    279.4,2,    280.1,2,    13.11,6,    15.98,6,     1.03,6,    2.910,2,    1.420,2,    0.200,2,    3.310,2,    9.470,2,   2160.1,2,   2323.1,2,   2.3176, 20060528,     1204
  18HU20060524, AR07W,    92,  1, 299002,      6,2,20060528,1155, 56.5365, -52.6782, 3440,   3025.5,   2.7425,  34.9158,2,  34.9154,6,    276.9,2,    279.3,2,    13.23,6,    16.38,6,     1.14,3, -999.000,9, -999.000,9, -999.000,9, -999.000,9, -999.000,9,   2155.6,2,   2331.6,2,   2.4947, 20060528,     1206
  18HU20060524, AR07W,    92,  1, 299003,      7,2,20060528,1155, 56.5365, -52.6782, 3440,   2880.1,   2.8553,  34.9127,2,  34.9118,2,    276.9,2,    278.3,2,    12.44,6,    16.49,6,     1.04,6,    2.840,2,    1.330,2,    0.220,2,    3.160,2,    9.700,2,   2158.2,2,   2340.8,4,   2.6201, 20060528,     1210
  18HU20060524, AR07W,    92,  1, 299004,      8,2,20060528,1155, 56.5365, -52.6782, 3440,   2738.8,   2.9711,  34.9098,2,  34.9100,2,    276.1,2,    278.0,2,    12.27,6,    16.59,6,     1.07,6,    2.920,2,    1.420,2,    0.210,2,    3.290,2,   10.550,2,   2155.2,2,   2323.1,2,   2.7480, 20060528,     1213
  18HU20060524, AR07W,    92,  1, 299005,      9,2,20060528,1155, 56.5365, -52.6782, 3440,   2441.6,   3.1599,  34.8965,2,  34.8961,2,    277.5,2,    280.8,2,    11.36,6,    16.90,6,     1.09,6,    3.260,2,    1.610,2,    0.260,2,    3.550,2,   11.700,2,   2160.0,2,   2308.5,2,   2.9630, 20060528,     1218
  18HU20060524, AR07W,    92,  1, 299006,     10,2,20060528,1155, 56.5365, -52.6782, 3440,   2230.3,   3.2708,  34.8916,2,  34.8908,6,    277.1,2,    279.2,2,    11.17,6,    17.22,6,     1.09,6,    3.450,2,    1.720,2,    0.270,2,    3.690,2,   12.690,2,   2161.5,2,   2300.6,2,   3.0925, 20060528,     1222
  18HU20060524, AR07W,    92,  1, 299007,     11,2,20060528,1155, 56.5365, -52.6782, 3440,   1966.9,   3.4712,  34.8928,2,  34.8933,2,    274.3,2,    277.9,6,    10.74,6,    17.21,6,     1.11,6,    3.810,2,    1.980,2,    0.290,2,    4.000,2,   12.700,2,   2162.1,2,   2345.1,4,   3.3149, 20060528,     1228
  18HU20060524, AR07W,    92,  1, 299008,     12,2,20060528,1155, 56.5365, -52.6782, 3440,   1651.6,   3.4422,  34.8573,2,  34.8768,2,    285.9,2,    289.4,2,     9.50,6,    16.69,6,     1.06,6,    4.660,2,    2.470,2,    0.470,2,    4.960,2,    9.800,2,   2160.3,2,   2296.0,2,   3.3152, 20060528,     1236
  18HU20060524, AR07W,    92,  1, 299009,     13,2,20060528,1155, 56.5365, -52.6782, 3440,   1513.3,   3.4710,  34.8539,2,  34.8535,2,    290.5,2,    293.4,2,     9.07,6,    16.47,6,     1.06,6,    4.940,2,    2.740,2,    0.450,2,    5.270,2,    8.230,2,   2157.9,2,   2313.5,2,   3.3559, 20060528,     1239
  18HU20060524, AR07W,    92,  1, 299010,     14,2,20060528,1155, 56.5365, -52.6782, 3440,   1278.5,   3.4226,  34.8434,2,  34.8433,2,    297.5,2,    299.9,2,     8.48,6,    16.00,6,     1.10,6,    4.950,2,    2.800,2,    0.480,2,    5.430,2,    6.130,2,   2156.4,2,   2296.8,2,   3.3281, 20060528,     1244
  18HU20060524, AR07W,    92,  1, 299011,     15,2,20060528,1155, 56.5365, -52.6782, 3440,   1068.9,   3.3939,  34.8406,2,  34.8399,2,    298.5,2,    303.8,2,     8.38,6,    15.92,6,     1.01,6,    5.140,2,    2.910,2,    0.490,2,    5.780,2,    6.340,2,   2155.3,2,   2321.8,2,   3.3169, 20060528,     1249
  18HU20060524, AR07W,    92,  1, 299012,     16,2,20060528,1155, 56.5365, -52.6782, 3440,    870.0,   3.3824,  34.8407,2,  34.8399,2,    298.2,2,    303.0,2,     8.49,6,    15.71,6,     1.00,6, -999.000,9, -999.000,9, -999.000,9, -999.000,9, -999.000,9,   2155.5,2,   2337.7,4,   3.3211, 20060528,     1255
  18HU20060524, AR07W,    92,  1, 299013,     17,2,20060528,1155, 56.5365, -52.6782, 3440,    680.8,   3.3718,  34.8403,2,  34.8354,2,    298.1,2,    301.5,2,     8.39,6,    14.95,6,     1.00,6,    5.000,2,    2.850,2,    0.490,2,    5.500,2,    5.840,2,   2155.5,2,   2310.1,2,   3.3249, 20060528,     1300
  18HU20060524, AR07W,    92,  1, 299014,     18,2,20060528,1155, 56.5365, -52.6782, 3440,    509.0,   3.3522,  34.8380,2,  34.8354,2,    298.0,2,    302.4,2,     8.52,6,    15.13,6,     1.01,6,    5.040,2,    2.850,2,    0.510,2,    5.640,2,    6.090,2,   2155.8,2,   2324.0,2,   3.3179, 20060528,     1304
  18HU20060524, AR07W,    92,  1, 299015,     19,2,20060528,1155, 56.5365, -52.6782, 3440,    361.8,   3.3063,  34.8309,2,  34.8311,2,    298.7,2,    276.0,3,     8.41,6,    14.85,6,     1.01,6,    5.060,2,    2.850,2,    0.490,2,    5.650,2,    5.770,2,   2156.6,2,   2311.6,2,   3.2825, 20060528,     1308
  18HU20060524, AR07W,    92,  1, 299016,     20,2,20060528,1155, 56.5365, -52.6782, 3440,    238.6,   3.2876,  34.8246,2,-999.0000,9,    298.6,2,    301.8,2,     8.44,6,    14.90,6,     1.02,6,    5.140,2,    2.920,2,    0.490,2,    5.710,2,    5.780,2,   2156.1,2,   2309.2,2,   3.2722, 20060528,     1310
  18HU20060524, AR07W,    92,  1, 299017,     21,2,20060528,1155, 56.5365, -52.6782, 3440,    140.7,   3.3056,  34.7993,2,-999.0000,9,    305.4,2,    309.4,2,     8.09,6,    13.06,6,     0.95,6,    5.220,2,    2.980,2,    0.480,2,    6.090,2,    5.370,2,   2151.0,2,   2291.7,2,   3.2966, 20060528,     1312
  18HU20060524, AR07W,    92,  1, 299018,     22,2,20060528,1155, 56.5365, -52.6782, 3440,     70.0,   3.3684,  34.7534,2,-999.0000,9,    316.9,2,    321.9,2,     7.46,6,    10.71,6,     0.91,6,    5.450,2,    3.110,2,    0.510,2,    6.480,2,    4.870,2,   2136.9,2,   2323.1,2,   3.3639, 20060528,     1313
  18HU20060524, AR07W,    92,  1, 299019,     23,2,20060528,1155, 56.5365, -52.6782, 3440,     34.9,   4.6224,  34.7025,2,-999.0000,9,    337.0,2,    342.5,2,     1.65,6,     5.02,6,     0.33,6,    5.380,2,    3.060,2,    0.520,2,    6.580,2,    4.290,2,   2096.6,2,   2291.5,2,   4.6198, 20060528,     1314
  18HU20060524, AR07W,    92,  1, 299020,     24,2,20060528,1155, 56.5365, -52.6782, 3440,      4.0,   4.7818,  34.6884,2,-999.0000,9,    341.7,2,    341.4,2,     0.99,6,     4.26,6,     0.31,6,    5.320,2,    3.040,2,    0.510,2,    6.550,2,    4.210,2,   2089.9,2,   2295.9,2,   4.7815, 20060528,     1315