BOTTLE,20120530PRINUNIVRMK
EXPOCODE,SECT_ID,STNNBR,CASTNO,SAMPNO,BTLNBR,BTLNBR_FLAG_W,DATE,TIME,LATITUDE,LONGITUDE,DEPTH,CTDPRS,CTDTMP,CTDSAL,CTDSAL_FLAG_W,SALNTY,SALNTY_FLAG_W,CTDOXY,CTDOXY_FLAG_W,OXYGEN,OXYGEN_FLAG_W,SILCAT,SILCAT_FLAG_W,NITRAT,NITRAT_FLAG_W,PHSPHT,PHSPHT_FLAG_W,CFC-11,CFC-11_FLAG_W,CFC-12,CFC-12_FLAG_W,CFC113,CFC113_FLAG_W,CCL4,CCL4_FLAG_W,MCHFRM,MCHFRM_FLAG_W,TCARBN,TCARBN_FLAG_W,ALKALI,ALKALI_FLAG_W,THETA,BTL_DATE,BTL_TIME
,,,,,,,,,,,METERS,DBAR,ITS-90,PSS-78,,PSS-78,,UMOL/KG,,UMOL/KG,,UMOL/KG,,UMOL/KG,,UMOL/KG,,PMOL/KG,,PMOL/KG,,PMOL/KG,,PMOL/KG,,PMOL/KG,,UMOL/KG,,UMOL/KG,,DEG C,,
  18HU20060524, AR07W,   125,  1, 299069,      1,2,20060529,0423, 57.8003, -51.3353, 3554,   3674.3,   1.6172,  34.8838,2,  34.8803,2,    296.9,2,    294.2,2,     9.66,6,    14.09,6,     0.94,6,    4.310,2,    2.320,2,    0.400,2,    5.010,2,   16.440,2,   2159.6,2,   2384.5,4,   1.3288, 20060529,      423
  18HU20060524, AR07W,   125,  1, 299070,      2,2,20060529,0423, 57.8003, -51.3353, 3554,   3591.7,   1.6297,  34.8827,2,  34.8789,2,    295.9,2,    295.4,2,     9.72,6,    14.20,6,     0.94,6,    4.340,2,    2.350,2,    0.420,2,    5.030,2,   16.870,2,   2162.8,2,   2288.7,3,   1.3496, 20060529,      426
  18HU20060524, AR07W,   125,  1, 299071,      3,2,20060529,0423, 57.8003, -51.3353, 3554,   3490.6,   1.7962,  34.8836,2,  34.8806,2,    293.4,2,    293.1,2,    10.00,6,    14.53,6,     0.95,6,    4.130,2,    2.200,2,    0.350,2,    5.020,2,   17.280,2,   2160.5,2,   2284.6,3,   1.5224, 20060529,      428
  18HU20060524, AR07W,   125,  1, 299072,      4,2,20060529,0423, 57.8003, -51.3353, 3554,   3380.5,   2.0754,  34.8894,2,  34.8853,2,    287.8,2,    290.2,2,    11.38,6,    15.18,6,     0.99,6,    3.730,2,    1.940,2,    0.340,2,    4.510,2,   17.120,2,   2159.8,2,   2311.3,2,   1.8062, 20060529,      430
  18HU20060524, AR07W,   125,  1, 299073,      5,2,20060529,0423, 57.8003, -51.3353, 3554,   3250.3,   2.3524,  34.8998,2,  34.8961,2,    281.7,2,    282.9,2,    13.14,6,    15.91,6,     1.03,6,    3.150,2,    1.580,2,    0.290,2,    3.900,2,   15.980,2,   2162.2,2,   2311.4,2,   2.0901, 20060529,      433
  18HU20060524, AR07W,   125,  1, 299074,      6,2,20060529,0423, 57.8003, -51.3353, 3554,   3120.1,   2.5178,  34.9070,2,  34.9048,6,    279.1,2,    280.3,2,    13.27,6,    16.22,6,     1.05,6,    3.010,2,    1.520,2,    0.250,2,    3.810,2,   16.450,2,   2162.1,2,   2305.5,2,   2.2652, 20060529,      436
  18HU20060524, AR07W,   125,  1, 299075,      7,2,20060529,0423, 57.8003, -51.3353, 3554,   2937.4,   2.7141,  34.9135,2,  34.9092,2,    277.2,2,    279.7,2,    12.64,6,    16.43,6,     1.05,6,    3.050,2,    1.540,2,    0.240,2,    3.740,2,   16.760,2,   2162.4,2,   2297.8,3,   2.4760, 20060529,      439
  18HU20060524, AR07W,   125,  1, 299076,      8,2,20060529,0423, 57.8003, -51.3353, 3554,   2742.4,   2.8588,  34.9102,2,  34.9060,2,    277.1,2,    279.6,2,    11.70,6,    16.54,6,     1.05,6,    3.190,2,    1.610,2,    0.270,2,    3.860,2,   17.010,2,   2160.7,2,   2310.6,2,   2.6376, 20060529,      442
  18HU20060524, AR07W,   125,  1, 299077,      9,2,20060529,0423, 57.8003, -51.3353, 3554,   2521.2,   3.0266,  34.9079,2,  34.9034,2,    275.9,2,    280.2,2,    11.43,6,    16.78,6,     1.06,6,    3.280,2,    1.660,2,    0.250,2,    3.990,2,   18.900,2,   2162.3,2,   2269.0,4,   2.8242, 20060529,      446
  18HU20060524, AR07W,   125,  1, 299078,     10,2,20060529,0423, 57.8003, -51.3353, 3554,   2289.3,   3.1593,  34.8995,2,  34.8955,2,    276.4,2,    280.8,2,    11.07,6,    17.29,6,     1.07,6,    3.440,2,    1.770,2,    0.280,2,    4.070,2,   20.420,2,   2162.9,2,   2324.1,3,   2.9772, 20060529,      450
  18HU20060524, AR07W,   125,  1, 299079,     11,2,20060529,0423, 57.8003, -51.3353, 3554,   2037.2,   3.3023,  34.8971,2,  34.8939,6,    275.1,2,    279.3,2,    10.83,6,    17.25,6,     1.08,6,    3.520,2,    1.810,2,    0.310,2,    4.000,2,   19.280,2,   2161.5,2,   2294.2,2,   3.1419, 20060529,      455
  18HU20060524, AR07W,   125,  1, 299080,     12,2,20060529,0423, 57.8003, -51.3353, 3554,   1794.0,   3.5010,  34.9039,2,  34.9003,2,    272.2,2,    276.4,2,    10.60,6,    16.98,6,     1.09,6,    3.860,2,    2.010,2,    0.300,2,    4.410,2,   21.300,2,   2162.4,2,   2281.6,3,   3.3603, 20060529,      459
  18HU20060524, AR07W,   125,  1, 299081,     13,2,20060529,0423, 57.8003, -51.3353, 3554,   1549.5,   3.4950,  34.8768,2,-999.0000,9,    278.2,2,   -999.0,9,  -999.00,9,  -999.00,9,  -999.00,9, -999.000,9, -999.000,9, -999.000,9, -999.000,9, -999.000,9,   -999.0,9,   -999.0,9,   3.3764, 20060529,      503
  18HU20060524, AR07W,   125,  1, 299082,     14,2,20060529,0423, 57.8003, -51.3353, 3554,   1299.2,   3.4968,  34.8624,2,  34.8589,2,    285.9,2,    291.2,2,     9.17,6,    16.36,6,     1.06,6,    3.870,2,    2.230,2,    0.390,2,    3.990,2,    8.590,2,   2160.3,2,   2268.3,3,   3.3998, 20060529,      508
  18HU20060524, AR07W,   125,  1, 299083,     15,2,20060529,0423, 57.8003, -51.3353, 3554,   1070.3,   3.4999,  34.8578,2,  34.8543,2,    292.0,2,    296.9,2,     8.57,6,    15.81,6,     1.04,6,    5.150,2,    2.910,2,    0.500,2,    6.140,2,   12.510,2,   2158.6,2,   2295.3,2,   3.4218, 20060529,      513
  18HU20060524, AR07W,   125,  1, 299084,     16,2,20060529,0423, 57.8003, -51.3353, 3554,    870.8,   3.4928,  34.8521,2,  34.8486,2,    291.5,2,    296.9,2,     8.53,6,    15.75,6,     1.04,6, -999.000,9, -999.000,9, -999.000,9, -999.000,9, -999.000,9,   2158.4,2,   2282.2,3,   3.4307, 20060529,      516
  18HU20060524, AR07W,   125,  1, 299085,     17,2,20060529,0423, 57.8003, -51.3353, 3554,    582.1,   3.4806,  34.8442,2,  34.8414,2,    295.5,2,    300.7,2,     8.23,6,    15.41,6,     1.02,6,    4.950,2,    2.890,2,    0.510,2,    5.860,2,    9.140,2,   2155.8,2,   2330.3,3,   3.4404, 20060529,      521
  18HU20060524, AR07W,   125,  1, 299086,     18,2,20060529,0423, 57.8003, -51.3353, 3554,    511.1,   3.4837,  34.8425,2,  34.8395,2,    295.6,2,    300.9,2,     8.16,6,    15.48,6,     1.02,6,    5.220,2,    3.010,2,    0.510,2,    6.440,2,   11.450,2,   2157.1,2,   2302.5,2,   3.4487, 20060529,      523
  18HU20060524, AR07W,   125,  1, 299087,     19,2,20060529,0423, 57.8003, -51.3353, 3554,    361.3,   3.5727,  34.8454,2,  34.8419,2,    298.2,2,    303.8,2,     8.08,6,    15.25,6,     1.03,6,    5.190,2,    3.010,2,    0.510,2,    6.410,2,    9.350,2,   2155.8,2,   2314.0,2,   3.5481, 20060529,      525
  18HU20060524, AR07W,   125,  1, 299088,     20,2,20060529,0423, 57.8003, -51.3353, 3554,    243.3,   3.7195,  34.8561,2,-999.0000,9,    303.1,2,    306.1,2,     7.80,6,    14.65,6,     0.98,6,    5.110,2,    2.990,2,    0.520,2,    6.410,2,    7.800,2,   2152.2,2,   2265.2,4,   3.7029, 20060529,      528
  18HU20060524, AR07W,   125,  1, 299089,     21,2,20060529,0423, 57.8003, -51.3353, 3554,    142.7,   3.8864,  34.8718,2,-999.0000,9,    303.2,2,    308.3,2,     7.77,6,    14.39,6,     0.98,6,    5.280,2,    3.070,2,    0.530,2,    6.740,2,    7.940,2,   2151.4,2,   2293.0,2,   3.8766, 20060529,      531
  18HU20060524, AR07W,   125,  1, 299090,     22,2,20060529,0423, 57.8003, -51.3353, 3554,     70.3,   3.7299,  34.8177,2,-999.0000,9,    309.7,2,    315.2,2,     7.15,6,    13.07,6,     0.93,6,    5.390,2,    3.130,2,    0.560,2,    7.020,2,    8.040,2,   2147.7,2,   2321.5,3,   3.7252, 20060529,      533
  18HU20060524, AR07W,   125,  1, 299091,     23,2,20060529,0423, 57.8003, -51.3353, 3554,     33.9,   4.7674,  34.7917,2,-999.0000,9,    329.7,2,    334.9,2,     1.23,6,     8.12,6,     0.54,6,    7.530,3,    3.050,2,    0.550,2,    6.680,2,    6.370,2,   2114.3,2,   2316.6,3,   4.7649, 20060529,      535
  18HU20060524, AR07W,   125,  1, 299092,     24,2,20060529,0423, 57.8003, -51.3353, 3554,      3.7,   4.8494,  34.7802,2,-999.0000,9,    334.7,2,   -999.0,9,     0.74,6,     7.15,6,     0.46,6,    5.440,2,    3.160,2,    0.570,2,    7.230,2,    7.230,2,   2106.0,2,   2323.0,3,   4.8491, 20060529,      536
  18HU20060524, AR07W,   135,  1, 299093,      1,2,20060529,0843, 58.2213, -50.8688, 3481,    202.7,   3.7270,  34.8580,2,-999.0000,9,    291.5,2,   -999.0,9,     8.54,6,    15.32,6,     1.03,6, -999.000,9, -999.000,9, -999.000,9, -999.000,9, -999.000,9,   -999.0,9,   -999.0,9,   3.7132, 20060529,      843
  18HU20060524, AR07W,   135,  1, 299094,      2,2,20060529,0843, 58.2213, -50.8688, 3481,    151.4,   3.6177,  34.8363,2,-999.0000,9,    288.3,2,   -999.0,9,     8.37,6,    15.68,6,     1.04,6, -999.000,9, -999.000,9, -999.000,9, -999.000,9, -999.000,9,   -999.0,9,   -999.0,9,   3.6076, 20060529,      845
  18HU20060524, AR07W,   135,  1, 299095,      3,2,20060529,0843, 58.2213, -50.8688, 3481,    101.2,   3.6294,  34.8262,2,-999.0000,9,    300.8,2,   -999.0,9,     7.80,6,    14.24,6,     0.98,6, -999.000,9, -999.000,9, -999.000,9, -999.000,9, -999.000,9,   -999.0,9,   -999.0,9,   3.6227, 20060529,      848
  18HU20060524, AR07W,   135,  1, 299096,      4,2,20060529,0843, 58.2213, -50.8688, 3481,     79.5,   3.6044,  34.8091,2,-999.0000,9,    304.9,2,   -999.0,9,     7.42,6,    14.11,6,     0.96,6, -999.000,9, -999.000,9, -999.000,9, -999.000,9, -999.000,9,   -999.0,9,   -999.0,9,   3.5992, 20060529,      849
  18HU20060524, AR07W,   135,  1, 299097,      5,2,20060529,0843, 58.2213, -50.8688, 3481,     59.3,   3.7502,  34.7912,2,-999.0000,9,    311.4,2,   -999.0,9,     6.99,6,    12.53,6,     0.97,6, -999.000,9, -999.000,9, -999.000,9, -999.000,9, -999.000,9,   -999.0,9,   -999.0,9,   3.7462, 20060529,      850
  18HU20060524, AR07W,   135,  1, 299098,      6,2,20060529,0843, 58.2213, -50.8688, 3481,     50.5,   4.0822,  34.7599,2,-999.0000,9,    323.0,2,   -999.0,9,     4.93,6,    10.18,6,     0.82,6, -999.000,9, -999.000,9, -999.000,9, -999.000,9, -999.000,9,   -999.0,9,   -999.0,9,   4.0787, 20060529,      852
  18HU20060524, AR07W,   135,  1, 299099,      7,2,20060529,0843, 58.2213, -50.8688, 3481,     39.0,   4.4061,  34.7479,2,-999.0000,9,    330.3,2,   -999.0,9,     1.75,6,     8.27,6,     0.68,6, -999.000,9, -999.000,9, -999.000,9, -999.000,9, -999.000,9,   -999.0,9,   -999.0,9,   4.4033, 20060529,      853
  18HU20060524, AR07W,   135,  1, 299100,      8,2,20060529,0843, 58.2213, -50.8688, 3481,     31.5,   4.6617,  34.7486,2,-999.0000,9,    335.0,2,   -999.0,9,     0.00,6,     6.67,6,     0.55,6, -999.000,9, -999.000,9, -999.000,9, -999.000,9, -999.000,9,   -999.0,9,   -999.0,9,   4.6594, 20060529,      853
  18HU20060524, AR07W,   135,  1, 299101,      9,2,20060529,0843, 58.2213, -50.8688, 3481,     31.1,   4.7021,  34.7459,2,-999.0000,9,    335.0,2,   -999.0,9,  -999.00,9,  -999.00,9,  -999.00,9, -999.000,9, -999.000,9, -999.000,9, -999.000,9, -999.000,9,   -999.0,9,   -999.0,9,   4.6998, 20060529,      853
  18HU20060524, AR07W,   135,  1, 299102,     10,2,20060529,0843, 58.2213, -50.8688, 3481,     18.6,   5.1001,  34.6963,2,-999.0000,9,    342.5,2,   -999.0,9,     0.00,6,     4.05,6,     0.36,6, -999.000,9, -999.000,9, -999.000,9, -999.000,9, -999.000,9,   -999.0,9,   -999.0,9,   5.0987, 20060529,      854
  18HU20060524, AR07W,   135,  1, 299103,     11,2,20060529,0843, 58.2213, -50.8688, 3481,      9.8,   5.1019,  34.6963,2,-999.0000,9,    342.4,2,   -999.0,9,     0.00,6,     4.07,6,     0.33,6, -999.000,9, -999.000,9, -999.000,9, -999.000,9, -999.000,9,   -999.0,9,   -999.0,9,   5.1011, 20060529,      855
  18HU20060524, AR07W,   135,  1, 299104,     12,2,20060529,0843, 58.2213, -50.8688, 3481,      3.2,   5.1046,  34.6959,2,-999.0000,9,    342.4,2,   -999.0,9,     0.00,6,     4.16,6,     0.33,6, -999.000,9, -999.000,9, -999.000,9, -999.000,9, -999.000,9,   -999.0,9,   -999.0,9,   5.1044, 20060529,      855
  18HU20060524, AR07W,   135,  1, 299105,     13,2,20060529,0843, 58.2213, -50.8688, 3481,      3.2,   5.1032,  34.6962,2,-999.0000,9,    342.6,2,   -999.0,9,  -999.00,9,  -999.00,9,  -999.00,9, -999.000,9, -999.000,9, -999.000,9, -999.000,9, -999.000,9,   -999.0,9,   -999.0,9,   5.1030, 20060529,      855
  18HU20060524, AR07W,   135,  1, 299106,     14,2,20060529,0843, 58.2213, -50.8688, 3481,      3.4,   5.1026,  34.6961,2,-999.0000,9,    342.5,2,   -999.0,9,  -999.00,9,  -999.00,9,  -999.00,9, -999.000,9, -999.000,9, -999.000,9, -999.000,9, -999.000,9,   -999.0,9,   -999.0,9,   5.1023, 20060529,      855
  18HU20060524, AR07W,   135,  1, 299107,     15,2,20060529,0843, 58.2213, -50.8688, 3481,      3.9,   5.1020,  34.6961,2,-999.0000,9,    342.7,2,   -999.0,9,  -999.00,9,  -999.00,9,  -999.00,9, -999.000,9, -999.000,9, -999.000,9, -999.000,9, -999.000,9,   -999.0,9,   -999.0,9,   5.1017, 20060529,      856