BOTTLE,20120530PRINUNIVRMK
EXPOCODE,SECT_ID,STNNBR,CASTNO,SAMPNO,BTLNBR,BTLNBR_FLAG_W,DATE,TIME,LATITUDE,LONGITUDE,DEPTH,CTDPRS,CTDTMP,CTDSAL,CTDSAL_FLAG_W,SALNTY,SALNTY_FLAG_W,CTDOXY,CTDOXY_FLAG_W,OXYGEN,OXYGEN_FLAG_W,SILCAT,SILCAT_FLAG_W,NITRAT,NITRAT_FLAG_W,PHSPHT,PHSPHT_FLAG_W,CFC-11,CFC-11_FLAG_W,CFC-12,CFC-12_FLAG_W,CFC113,CFC113_FLAG_W,CCL4,CCL4_FLAG_W,MCHFRM,MCHFRM_FLAG_W,TCARBN,TCARBN_FLAG_W,ALKALI,ALKALI_FLAG_W,THETA,BTL_DATE,BTL_TIME
,,,,,,,,,,,METERS,DBAR,ITS-90,PSS-78,,PSS-78,,UMOL/KG,,UMOL/KG,,UMOL/KG,,UMOL/KG,,UMOL/KG,,PMOL/KG,,PMOL/KG,,PMOL/KG,,PMOL/KG,,PMOL/KG,,UMOL/KG,,UMOL/KG,,DEG C,,
  18HU20060524, AR07W,   102,  1, 299021,      1,2,20060528,1721, 56.9557, -52.2342, 3560,   3559.8,   1.5619,  34.8823,2,  34.8793,2,    297.3,2,    299.7,2,     9.73,6,    13.92,6,     0.96,6,    4.390,2,    2.280,2,    0.310,2,    4.500,2,    5.970,2,   2158.3,3,   2319.4,3,   1.2869, 20060528,     1721
  18HU20060524, AR07W,   102,  1, 299022,      2,2,20060528,1721, 56.9557, -52.2342, 3560,   3491.3,   1.5710,  34.8811,2,  34.8771,2,    296.9,2,    295.4,2,     9.75,6,    13.99,6,     0.92,6,    4.420,2,    2.360,2,    0.290,2,    4.570,2,    6.100,2,   2163.3,2,   2297.9,2,   1.3028, 20060528,     1723
  18HU20060524, AR07W,   102,  1, 299023,      3,2,20060528,1721, 56.9557, -52.2342, 3560,   3400.4,   1.7820,  34.8823,2,  34.8785,2,    294.4,2,    293.7,2,     9.80,6,    14.21,6,     0.93,6,    4.020,2,    2.200,2,    0.320,2,    4.170,2,    5.740,2,   2159.4,2,   2314.7,2,   1.5179, 20060528,     1725
  18HU20060524, AR07W,   102,  1, 299024,      4,2,20060528,1721, 56.9557, -52.2342, 3560,   3288.1,   2.1101,  34.8897,2,  34.8863,2,    287.4,2,    290.2,2,    11.64,6,    14.99,6,     1.00,6,    3.730,2,    1.760,2,    0.240,2,    3.970,2,    5.820,2,   2158.6,2,   2295.3,2,   1.8497, 20060528,     1727
  18HU20060524, AR07W,   102,  1, 299025,      5,2,20060528,1721, 56.9557, -52.2342, 3560,   3138.4,   2.4094,  34.9021,2,  34.8979,2,    281.0,2,    281.5,2,    13.31,6,    15.64,6,     1.04,6,    3.160,2,    1.460,2,    0.150,2,    3.490,2,    5.840,2,   2160.2,2,   2295.5,2,   2.1574, 20060528,     1730
  18HU20060524, AR07W,   102,  1, 299026,      6,2,20060528,1721, 56.9557, -52.2342, 3560,   2960.0,   2.6420,  34.9116,2,  34.9096,6,    278.0,2,    278.6,2,    12.92,6,    14.84,6,     1.17,3,    3.170,2,    1.550,2,    0.170,2,    3.420,2,    5.980,2,   2162.7,2,   2346.8,4,   2.4032, 20060528,     1734
  18HU20060524, AR07W,   102,  1, 299027,      7,2,20060528,1721, 56.9557, -52.2342, 3560,   2851.6,   2.7541,  34.9133,2,  34.9110,2,    277.0,2,    277.6,2,    12.58,6,    15.01,6,     1.07,6,    3.120,2,    1.530,2,    0.150,2,    3.300,2,    5.800,2,   2164.8,3,   2309.1,2,   2.5239, 20060528,     1737
  18HU20060524, AR07W,   102,  1, 299028,      8,2,20060528,1721, 56.9557, -52.2342, 3560,   2680.1,   2.8785,  34.9102,2,  34.9078,2,    276.7,2,    278.5,2,    11.83,6,    14.71,6,     1.08,6,    3.040,2,    1.400,2,    0.130,2,    3.360,2,    6.050,2,   2162.3,2,   2299.5,2,   2.6631, 20060528,     1740
  18HU20060524, AR07W,   102,  1, 299029,      9,2,20060528,1721, 56.9557, -52.2342, 3560,   2469.9,   3.0244,  34.9064,2,  34.9044,2,    276.4,2,    278.4,2,    11.30,6,    14.81,6,     1.08,6,    3.460,2,    1.650,2,    0.210,2,    3.660,2,    7.010,2,   2162.0,2,   2317.8,3,   2.8271, 20060528,     1743
  18HU20060524, AR07W,   102,  1, 299030,     10,2,20060528,1721, 56.9557, -52.2342, 3560,   2251.1,   3.1326,  34.8987,2,  34.8961,2,    276.9,2,    279.4,2,    10.91,6,    15.36,6,     1.10,6,    9.050,3,    1.740,2,    0.210,2,    4.020,2,    8.140,2,   2162.1,2,   2445.9,4,   2.9546, 20060528,     1747
  18HU20060524, AR07W,   102,  1, 299031,     11,2,20060528,1721, 56.9557, -52.2342, 3560,   2010.7,   3.2477,  34.8931,2,  34.8904,6,    276.6,2,    280.5,2,    10.54,6,    15.94,6,     1.11,6,   29.120,4,    1.720,2,    0.220,2,    3.780,2,    7.430,2,   2161.9,2,   2299.8,2,   3.0906, 20060528,     1751
  18HU20060524, AR07W,   102,  1, 299032,     12,2,20060528,1721, 56.9557, -52.2342, 3560,   1739.4,   3.4373,  34.8982,2,  34.8962,2,    273.3,2,    276.4,2,    10.31,6,    16.21,6,     1.12,6,    3.740,2,    1.930,2,    0.220,2,    3.850,2,    7.350,2,   2163.4,2,   2301.8,2,   3.3024, 20060528,     1756
  18HU20060524, AR07W,   102,  1, 299033,     13,2,20060528,1721, 56.9557, -52.2342, 3560,   1477.7,   3.4985,  34.8825,2,  34.8797,2,    277.0,2,    281.1,6,     9.64,6,    16.06,6,     1.10,6,    4.140,2,    1.980,2,    0.260,2,    4.170,2,    6.660,2,   2162.3,2,   2280.8,2,   3.3861, 20060528,     1800
  18HU20060524, AR07W,   102,  1, 299034,     14,2,20060528,1721, 56.9557, -52.2342, 3560,   1261.1,   3.4550,  34.8619,2,  34.8590,2,    283.9,2,    287.1,2,     9.04,6,    15.69,6,     1.18,3,    4.850,2,    2.490,2,    0.430,2,    4.910,2,    6.430,2,   2156.9,2,   2291.3,2,   3.3616, 20060528,     1804
  18HU20060524, AR07W,   102,  1, 299035,     15,2,20060528,1721, 56.9557, -52.2342, 3560,   1076.1,   3.4849,  34.8597,2,  34.8568,2,    289.1,2,    293.2,2,     8.80,6,    15.48,6,     1.06,6,    5.650,3,    3.030,3,    0.430,3,    5.840,3,    5.430,3,   2154.0,2,   2274.7,2,   3.4065, 20060528,     1807
  18HU20060524, AR07W,   102,  1, 299036,     16,2,20060528,1721, 56.9557, -52.2342, 3560,    834.3,   3.4678,  34.8532,2,  34.8515,2,    292.0,2,    295.5,2,     8.41,6,    14.97,6,     1.05,6,    4.830,2,    2.670,2,    0.420,2,    5.130,2,    4.140,2,   2156.5,4,   2286.8,2,   3.4087, 20060528,     1812
  18HU20060524, AR07W,   102,  1, 299037,     17,2,20060528,1721, 56.9557, -52.2342, 3560,    648.8,   3.4667,  34.8495,2,  34.8466,2,    294.2,2,   -999.0,9,     8.32,6,    14.74,6,     1.04,6,    4.480,3,    2.430,3,    0.360,2,    4.760,2,    3.380,2,   2158.7,4,   2289.3,2,   3.4217, 20060528,     1815
  18HU20060524, AR07W,   102,  1, 299038,     18,2,20060528,1721, 56.9557, -52.2342, 3560,    499.3,   3.4863,  34.8490,2,  34.8460,2,    292.4,2,    295.3,2,     8.25,6,    14.47,6,     1.05,6,    5.060,2,    2.760,2,    0.400,2,    5.380,2,    3.730,2,   2159.7,4,   2322.8,3,   3.4521, 20060528,     1819
  18HU20060524, AR07W,   102,  1, 299039,     19,2,20060528,1721, 56.9557, -52.2342, 3560,    360.7,   3.4834,  34.8428,2,  34.8400,2,    297.4,2,    300.9,2,     7.92,6,    14.03,6,     1.01,6,    4.020,3,    2.340,3,    0.390,2,    4.400,2,    2.760,2,   2159.0,4,   2292.7,2,   3.4591, 20060528,     1822
  18HU20060524, AR07W,   102,  1, 299040,     20,2,20060528,1721, 56.9557, -52.2342, 3560,    243.0,   3.5340,  34.8405,2,-999.0000,9,    295.4,2,    298.6,2,     7.93,6,    13.98,6,     1.00,6,    4.550,2,    2.660,2,    0.360,2,    4.890,2,    2.950,2,   2159.6,4,   2275.2,2,   3.5178, 20060528,     1825
  18HU20060524, AR07W,   102,  1, 299041,     21,2,20060528,1721, 56.9557, -52.2342, 3560,    140.3,   3.4385,  34.8148,2,-999.0000,9,    306.2,2,    309.8,2,     7.56,6,    13.22,6,     0.95,6,    5.220,2,    2.960,2,    0.450,2,    5.920,2,    2.540,2,   2154.3,2,   2302.2,2,   3.4294, 20060528,     1827
  18HU20060524, AR07W,   102,  1, 299042,     22,2,20060528,1721, 56.9557, -52.2342, 3560,     71.2,   3.6026,  34.8197,2,-999.0000,9,    307.9,2,    311.1,2,     7.67,6,    13.48,6,     1.05,3,    1.870,3,    1.130,3,    0.190,3,    2.120,3,    0.580,3,   2152.2,2,   2295.9,2,   3.5979, 20060528,     1828
  18HU20060524, AR07W,   102,  1, 299043,     23,2,20060528,1721, 56.9557, -52.2342, 3560,     34.3,   4.8145,  34.8168,2,-999.0000,9,    334.0,2,    339.4,2,     0.68,6,     6.77,6,     0.45,6,    5.200,2,    3.110,2,    0.400,2,    5.970,2,    2.790,2,   2111.6,2,   2284.2,2,   4.8119, 20060528,     1829
  18HU20060524, AR07W,   102,  1, 299044,     24,2,20060528,1721, 56.9557, -52.2342, 3560,      4.3,   5.1092,  34.8061,2,-999.0000,9,    340.4,2,    344.8,2,     0.00,6,     5.94,6,     0.39,6,    5.200,2,    2.950,2,    0.510,2,    6.160,2,    2.340,2,   2100.6,2,   2298.2,2,   5.1089, 20060528,     1830
  18HU20060524, AR07W,   113,  1, 299045,      1,2,20060528,2246, 57.3752, -51.7938, 3595,   3584.7,   1.5583,  34.8849,2,  34.8820,2,    297.4,2,    296.3,2,     9.98,6,    13.57,6,     1.01,6, -999.000,9, -999.000,9, -999.000,9, -999.000,9, -999.000,9,   2157.8,2,   2299.8,2,   1.2808, 20060528,     2246
  18HU20060524, AR07W,   113,  1, 299046,      2,2,20060528,2246, 57.3752, -51.7938, 3595,   3501.9,   1.5777,  34.8828,2,  34.8798,2,    296.7,2,    295.6,2,     9.61,6,    13.65,6,     0.97,6, -999.000,9, -999.000,9, -999.000,9, -999.000,9, -999.000,9,   2154.0,3,   2295.9,2,   1.3082, 20060528,     2248
  18HU20060524, AR07W,   113,  1, 299047,      3,2,20060528,2246, 57.3752, -51.7938, 3595,   3410.3,   1.8323,  34.8836,2,  34.8800,2,    293.3,2,    293.3,2,    10.18,6,    14.02,6,     0.99,6, -999.000,9, -999.000,9, -999.000,9, -999.000,9, -999.000,9,   2157.1,3,   2257.4,4,   1.5660, 20060528,     2250
  18HU20060524, AR07W,   113,  1, 299048,      4,2,20060528,2246, 57.3752, -51.7938, 3595,   3299.7,   2.1423,  34.8909,2,  34.8872,2,    286.8,2,    286.3,2,    12.10,6,    14.69,6,     1.04,6, -999.000,9, -999.000,9, -999.000,9, -999.000,9, -999.000,9,   2161.9,2,   2289.9,3,   1.8799, 20060528,     2253
  18HU20060524, AR07W,   113,  1, 299049,      5,2,20060528,2246, 57.3752, -51.7938, 3595,   3181.4,   2.3682,  34.8999,2,  34.8970,2,    281.6,2,    281.4,2,    13.71,6,    15.24,6,     1.07,6, -999.000,9, -999.000,9, -999.000,9, -999.000,9, -999.000,9,   2164.7,2,   2283.5,2,   2.1127, 20060528,     2256
  18HU20060524, AR07W,   113,  1, 299050,      6,2,20060528,2246, 57.3752, -51.7938, 3595,   3041.5,   2.5858,  34.9091,2,  34.9076,6,    278.6,2,    280.3,2,    12.89,6,    15.54,6,     1.15,3, -999.000,9, -999.000,9, -999.000,9, -999.000,9, -999.000,9,   2162.2,2,   2298.0,2,   2.3398, 20060528,     2258
  18HU20060524, AR07W,   113,  1, 299051,      7,2,20060528,2246, 57.3752, -51.7938, 3595,   2879.9,   2.7437,  34.9149,2,  34.9117,2,    276.6,2,    277.9,2,    12.73,6,    15.75,6,     1.07,6, -999.000,9, -999.000,9, -999.000,9, -999.000,9, -999.000,9,   2155.0,3,   2295.5,2,   2.5109, 20060528,     2302
  18HU20060524, AR07W,   113,  1, 299052,      8,2,20060528,2246, 57.3752, -51.7938, 3595,   2689.3,   2.8858,  34.9108,2,  34.9069,2,    276.3,2,    277.7,2,    12.08,6,    16.02,6,     1.07,6, -999.000,9, -999.000,9, -999.000,9, -999.000,9, -999.000,9,   2152.3,3,   2320.1,4,   2.6694, 20060528,     2306
  18HU20060524, AR07W,   113,  1, 299053,      9,2,20060528,2246, 57.3752, -51.7938, 3595,   2478.7,   3.0213,  34.9071,2,  34.9038,2,    276.1,2,    278.1,2,    11.62,6,    16.10,6,     1.08,6, -999.000,9, -999.000,9, -999.000,9, -999.000,9, -999.000,9,   2156.7,3,   2289.7,2,   2.8232, 20060528,     2310
  18HU20060524, AR07W,   113,  1, 299054,     10,2,20060528,2246, 57.3752, -51.7938, 3595,   2250.2,   3.1234,  34.8996,2,  34.8970,2,    276.6,2,    279.1,2,    11.35,6,    16.47,6,     1.09,6, -999.000,9, -999.000,9, -999.000,9, -999.000,9, -999.000,9,   2163.3,2,   2292.2,2,   2.9456, 20060528,     2314
  18HU20060524, AR07W,   113,  1, 299055,     11,2,20060528,2246, 57.3752, -51.7938, 3595,   2011.9,   3.2243,  34.8936,2,  34.9387,6,    276.6,2,    279.3,2,    10.91,6,    16.59,6,     1.10,6, -999.000,9, -999.000,9, -999.000,9, -999.000,9, -999.000,9,   2163.2,2,   2271.3,3,   3.0674, 20060528,     2318
  18HU20060524, AR07W,   113,  1, 299056,     12,2,20060528,2246, 57.3752, -51.7938, 3595,   1771.2,   3.4082,  34.9007,2,  34.8977,2,    273.3,2,    276.2,2,    10.35,6,    16.53,6,     1.09,6, -999.000,9, -999.000,9, -999.000,9, -999.000,9, -999.000,9,   2162.8,2,   2301.7,2,   3.2708, 20060528,     2322
  18HU20060524, AR07W,   113,  1, 299057,     13,2,20060528,2246, 57.3752, -51.7938, 3595,   1530.0,   3.5204,  34.8947,2,  34.8910,2,    273.5,2,    277.1,6,    10.08,6,    16.74,6,     1.10,6, -999.000,9, -999.000,9, -999.000,9, -999.000,9, -999.000,9,   2158.0,2,   2312.9,2,   3.4032, 20060528,     2326
  18HU20060524, AR07W,   113,  1, 299058,     14,2,20060528,2246, 57.3752, -51.7938, 3595,   1290.9,   3.4724,  34.8668,2,  34.8631,2,    281.2,2,    284.5,2,    10.00,6,    16.48,6,     1.18,3, -999.000,9, -999.000,9, -999.000,9, -999.000,9, -999.000,9,   2158.6,4,   2338.9,3,   3.3763, 20060528,     2330
  18HU20060524, AR07W,   113,  1, 299059,     15,2,20060528,2246, 57.3752, -51.7938, 3595,   1069.4,   3.5007,  34.8620,2,  34.8586,2,    286.0,2,    289.6,2,     9.31,6,    16.17,6,     1.07,6, -999.000,9, -999.000,9, -999.000,9, -999.000,9, -999.000,9,   2162.6,4,   2284.8,3,   3.4227, 20060528,     2341
  18HU20060524, AR07W,   113,  1, 299060,     16,2,20060528,2246, 57.3752, -51.7938, 3595,    871.0,   3.4576,  34.8497,2,  34.8471,2,    293.3,2,    296.8,2,     8.71,6,    15.64,6,     1.04,6, -999.000,9, -999.000,9, -999.000,9, -999.000,9, -999.000,9,   2162.0,4,   2301.2,2,   3.3957, 20060528,     2348
  18HU20060524, AR07W,   113,  1, 299061,     17,2,20060528,2246, 57.3752, -51.7938, 3595,    682.3,   3.4527,  34.8456,2,  34.8432,2,    294.8,2,    298.5,2,     8.37,6,    15.53,6,     1.04,6, -999.000,9, -999.000,9, -999.000,9, -999.000,9, -999.000,9,   2162.2,4,   2270.4,3,   3.4052, 20060528,     2352
  18HU20060524, AR07W,   113,  1, 299062,     18,2,20060528,2246, 57.3752, -51.7938, 3595,    511.3,   3.4956,  34.8467,2,  34.8439,2,    295.3,2,    298.9,2,     8.56,6,    15.43,6,     1.03,6, -999.000,9, -999.000,9, -999.000,9, -999.000,9, -999.000,9,   2160.3,2,   2304.0,2,   3.4605, 20060528,     2355
  18HU20060524, AR07W,   113,  1, 299063,     19,2,20060528,2246, 57.3752, -51.7938, 3595,    360.6,   3.5924,  34.8523,2,  34.8486,2,    293.6,2,    297.2,2,     8.65,6,    15.53,6,     1.04,6, -999.000,9, -999.000,9, -999.000,9, -999.000,9, -999.000,9,   2161.5,4,   2287.2,3,   3.5678, 20060529,        1
  18HU20060524, AR07W,   113,  1, 299064,     20,2,20060528,2246, 57.3752, -51.7938, 3595,    240.0,   3.6882,  34.8549,2,-999.0000,9,    285.1,2,    289.4,2,     9.11,6,    16.14,6,     1.08,6, -999.000,9, -999.000,9, -999.000,9, -999.000,9, -999.000,9,   2164.8,4,   2300.0,2,   3.6719, 20060529,        4
  18HU20060524, AR07W,   113,  1, 299065,     21,2,20060528,2246, 57.3752, -51.7938, 3595,    140.5,   3.6493,  34.8325,2,-999.0000,9,    291.3,2,    295.0,2,     8.36,6,    15.56,6,     1.04,6, -999.000,9, -999.000,9, -999.000,9, -999.000,9, -999.000,9,   2160.6,4,   2302.2,2,   3.6399, 20060529,        6
  18HU20060524, AR07W,   113,  1, 299066,     22,2,20060528,2246, 57.3752, -51.7938, 3595,     70.7,   3.8105,  34.8198,2,-999.0000,9,    310.0,2,    313.6,2,     7.28,6,    13.05,6,     1.02,3, -999.000,9, -999.000,9, -999.000,9, -999.000,9, -999.000,9,   2150.1,2,   2286.4,2,   3.8057, 20060529,        8
  18HU20060524, AR07W,   113,  1, 299067,     23,2,20060528,2246, 57.3752, -51.7938, 3595,     34.4,   4.9286,  34.7027,2,-999.0000,9,    333.5,2,    338.2,2,     0.00,6,     5.73,6,     0.39,6, -999.000,9, -999.000,9, -999.000,9, -999.000,9, -999.000,9,   2106.4,2,   2283.6,2,   4.9260, 20060529,       10
  18HU20060524, AR07W,   113,  1, 299068,     24,2,20060528,2246, 57.3752, -51.7938, 3595,      3.5,   5.1864,  34.7004,2,-999.0000,9,    342.6,2,    347.2,2,     0.00,6,     4.48,6,     0.35,6, -999.000,9, -999.000,9, -999.000,9, -999.000,9, -999.000,9,   2089.9,2,   2286.0,2,   5.1861, 20060529,       11