BOTTLE,20120530PRINUNIVRMK
EXPOCODE,SECT_ID,STNNBR,CASTNO,SAMPNO,BTLNBR,BTLNBR_FLAG_W,DATE,TIME,LATITUDE,LONGITUDE,DEPTH,CTDPRS,CTDTMP,CTDSAL,CTDSAL_FLAG_W,SALNTY,SALNTY_FLAG_W,CTDOXY,CTDOXY_FLAG_W,OXYGEN,OXYGEN_FLAG_W,SILCAT,SILCAT_FLAG_W,NITRAT,NITRAT_FLAG_W,PHSPHT,PHSPHT_FLAG_W,CFC-11,CFC-11_FLAG_W,CFC-12,CFC-12_FLAG_W,CFC113,CFC113_FLAG_W,CCL4,CCL4_FLAG_W,MCHFRM,MCHFRM_FLAG_W,TCARBN,TCARBN_FLAG_W,ALKALI,ALKALI_FLAG_W,THETA,BTL_DATE,BTL_TIME
,,,,,,,,,,,METERS,DBAR,ITS-90,PSS-78,,PSS-78,,UMOL/KG,,UMOL/KG,,UMOL/KG,,UMOL/KG,,UMOL/KG,,PMOL/KG,,PMOL/KG,,PMOL/KG,,PMOL/KG,,PMOL/KG,,UMOL/KG,,UMOL/KG,,DEG C,,
  18HU20060524, AR07W,    41,  1, 298821,      1,2,20060527,0012, 54.9522, -54.2872,  371,    355.8,   3.5858,  34.7969,2,  34.8088,2,    293.5,2,    296.2,2,     8.36,6,    14.63,6,     1.05,6,    5.020,2,    2.950,2,    0.420,2,    5.570,2,    3.380,2,   2156.1,3,   2310.5,2,   3.5616, 20060527,       12
  18HU20060524, AR07W,    41,  1, 298822,      2,2,20060527,0012, 54.9522, -54.2872,  371,    330.0,   3.5630,  34.7908,2,  34.7898,2,    293.2,2,    296.1,2,     8.32,6,    14.62,6,     1.03,6,    5.020,2,    3.030,2,    0.420,2,    5.420,2,    3.240,2,   2155.4,2,   2298.0,2,   3.5407, 20060527,       14
  18HU20060524, AR07W,    41,  1, 298823,      3,2,20060527,0012, 54.9522, -54.2872,  371,    291.6,   3.5500,  34.7870,2,  34.7852,6,    293.3,2,    296.0,2,     8.36,6,    14.51,6,     1.01,6,    4.970,2,    2.920,2,    0.370,2,    5.360,2,    3.170,2,   2155.7,2,   2310.0,2,   3.5304, 20060527,       15
  18HU20060524, AR07W,    41,  1, 298824,      4,2,20060527,0012, 54.9522, -54.2872,  371,    250.1,   3.5708,  34.7812,2,  34.7816,2,    294.2,2,    297.3,2,     7.96,6,    14.34,6,     1.05,6,    5.080,2,    2.940,2,    0.420,2,    5.650,2,    3.240,2,   2154.3,2,   2290.4,2,   3.5540, 20060527,       16
  18HU20060524, AR07W,    41,  1, 298825,      5,2,20060527,0012, 54.9522, -54.2872,  371,    199.6,   3.2118,  34.6292,2,  34.6246,2,    303.7,2,    306.4,6,     8.03,6,    13.46,6,     0.95,6,    5.240,2,    3.090,2,    0.450,2,    5.810,2,    3.130,2,   2145.7,2,   2297.7,2,   3.1991, 20060527,       18
  18HU20060524, AR07W,    41,  1, 298826,      6,2,20060527,0012, 54.9522, -54.2872,  371,    150.7,   1.3633,  34.1718,2,  34.1729,2,    306.2,2,    307.8,2,     9.56,6,    12.55,6,     0.96,6,    5.580,2,    3.340,2,    0.440,2,    6.010,2,    3.700,2,   2140.4,2,   2261.9,2,   1.3562, 20060527,       20
  18HU20060524, AR07W,    41,  1, 298827,      7,2,20060527,0012, 54.9522, -54.2872,  371,    101.5,  -0.5075,  33.6398,2,  33.6211,2,    316.5,2,    318.0,2,    10.35,6,    10.60,6,     0.95,6,    6.330,2,    3.670,2,    0.510,2,    6.770,2,    4.710,2,   2136.2,2,   2254.7,2,  -0.5105, 20060527,       22
  18HU20060524, AR07W,    41,  1, 298828,      8,2,20060527,0012, 54.9522, -54.2872,  371,     78.1,  -0.9753,  33.4736,2,-999.0000,9,    320.3,2,   -999.0,9,    10.44,6,    10.25,6,     0.97,6, -999.000,9, -999.000,9, -999.000,9, -999.000,9, -999.000,9,   -999.0,9,   -999.0,9,  -0.9773, 20060527,       24
  18HU20060524, AR07W,    41,  1, 298829,      9,2,20060527,0012, 54.9522, -54.2872,  371,     57.6,  -1.2684,  33.3148,2,-999.0000,9,    326.4,2,   -999.0,9,     9.61,6,     9.15,6,     0.93,6, -999.000,9, -999.000,9, -999.000,9, -999.000,9, -999.000,9,   -999.0,9,   -999.0,9,  -1.2697, 20060527,       25
  18HU20060524, AR07W,    41,  1, 298830,     10,2,20060527,0012, 54.9522, -54.2872,  371,     49.8,  -1.2771,  33.1708,2,  33.1648,2,    330.0,2,    331.4,2,     9.42,6,     8.52,6,     0.92,6,    6.630,2,    3.750,2,    0.600,2,    7.030,2,    4.720,2,   2125.6,2,   2236.2,2,  -1.2782, 20060527,       26
  18HU20060524, AR07W,    41,  1, 298831,     11,2,20060527,0012, 54.9522, -54.2872,  371,     39.1,   1.0656,  32.5265,2,-999.0000,9,    390.8,2,   -999.0,9,     1.63,6,     0.29,6,     0.33,6, -999.000,9, -999.000,9, -999.000,9, -999.000,9, -999.000,9,   -999.0,9,   -999.0,9,   1.0640, 20060527,       27
  18HU20060524, AR07W,    41,  1, 298832,     12,2,20060527,0012, 54.9522, -54.2872,  371,     30.7,   1.0985,  32.5229,2,-999.0000,9,    392.4,2,   -999.0,9,     1.40,6,     0.00,6,     0.37,6, -999.000,9, -999.000,9, -999.000,9, -999.000,9, -999.000,9,   -999.0,9,   -999.0,9,   1.0972, 20060527,       28
  18HU20060524, AR07W,    41,  1, 298833,     13,2,20060527,0012, 54.9522, -54.2872,  371,     18.2,   1.1032,  32.5227,2,-999.0000,9,    393.0,2,   -999.0,9,  -999.00,9,  -999.00,9,  -999.00,9, -999.000,9, -999.000,9, -999.000,9, -999.000,9, -999.000,9,   -999.0,9,   -999.0,9,   1.1025, 20060527,       29
  18HU20060524, AR07W,    41,  1, 298834,     14,2,20060527,0012, 54.9522, -54.2872,  371,     10.3,   1.1040,  32.5224,2,  32.5223,2,    393.0,2,    395.0,2,     1.32,6,     0.00,6,     0.33,6,    6.790,2,    4.060,2,    0.610,2,    8.130,2,    3.130,2,   2016.9,2,   2220.2,2,   1.1036, 20060527,       30
  18HU20060524, AR07W,    41,  1, 298835,     15,2,20060527,0012, 54.9522, -54.2872,  371,      4.5,   1.1100,  32.5218,2,-999.0000,9,    392.6,2,   -999.0,9,     1.33,6,     0.00,6,     0.34,6, -999.000,9, -999.000,9, -999.000,9, -999.000,9, -999.000,9,   -999.0,9,   -999.0,9,   1.1098, 20060527,       31
  18HU20060524, AR07W,    46,  1, 298836,      1,2,20060527,0232, 55.1102, -54.1333,  943,    927.2,   3.6732,  34.8725,2,  34.8715,2,    287.9,2,    290.1,2,     8.63,6,    15.41,6,     1.09,6,    4.660,2,    2.550,2,    0.400,2,    5.670,2,   11.570,2,   2164.6,2,   2313.7,2,   3.6053, 20060527,      232
  18HU20060524, AR07W,    46,  1, 298837,      2,2,20060527,0232, 55.1102, -54.1333,  943,    859.3,   3.7041,  34.8722,2,  34.8698,6,    288.3,2,    290.8,2,     8.57,6,    15.37,6,     1.04,6,    4.500,2,    2.450,2,    0.380,2,    5.390,2,   10.540,2,   2161.2,2,   2313.3,2,   3.6414, 20060527,      234
  18HU20060524, AR07W,    46,  1, 298838,      3,2,20060527,0232, 55.1102, -54.1333,  943,    789.7,   3.7219,  34.8711,2,  34.8685,2,    289.0,2,    291.8,2,     8.46,6,    15.25,6,     1.05,6,    0.060,4,    0.000,4,    0.000,4,    0.140,2,    0.000,2,   2161.7,2,   2307.6,2,   3.6646, 20060527,      236
  18HU20060524, AR07W,    46,  1, 298839,      4,2,20060527,0232, 55.1102, -54.1333,  943,    699.9,   3.7399,  34.8699,2,  34.8673,2,    288.8,2,    291.5,2,     8.43,6,    15.23,6,     1.05,6,    4.620,2,    2.590,2,    0.410,2,    5.640,2,   10.340,2,   2159.7,2,   2300.2,2,   3.6895, 20060527,      238
  18HU20060524, AR07W,    46,  1, 298840,      5,2,20060527,0232, 55.1102, -54.1333,  943,    589.1,   3.7420,  34.8629,2,  34.8594,2,    289.5,2,    292.7,6,     8.18,6,    15.06,6,     1.04,6,    4.510,2,    2.490,2,    0.330,2,    5.430,2,    9.440,2,   2160.8,2,   2308.7,2,   3.7001, 20060527,      241
  18HU20060524, AR07W,    46,  1, 298841,      6,2,20060527,0232, 55.1102, -54.1333,  943,    469.9,   3.7463,  34.8584,2,  34.8554,2,    290.7,2,    293.6,2,     8.32,6,    14.99,6,     1.09,6,    6.570,3,    3.390,3,    0.470,3,    7.750,3,   11.200,3,   2158.4,2,   2288.4,3,   3.7133, 20060527,      245
  18HU20060524, AR07W,    46,  1, 298842,      7,2,20060527,0232, 55.1102, -54.1333,  943,    359.2,   3.7349,  34.8494,2,  34.8478,2,    293.6,2,    296.9,2,     8.14,6,    14.27,6,     1.02,6,    4.710,2,    2.640,2,    0.450,2,    5.810,2,    8.550,2,   2155.0,2,   2300.5,2,   3.7100, 20060527,      249
  18HU20060524, AR07W,    46,  1, 298843,      8,2,20060527,0232, 55.1102, -54.1333,  943,    260.0,   3.6910,  34.8336,2,  34.8313,2,    296.6,2,    299.6,2,     8.22,6,    13.53,6,     1.02,6,    4.640,2,    2.590,2,    0.370,2,    5.810,2,    8.660,2,   2153.8,2,   2300.6,2,   3.6733, 20060527,      251
  18HU20060524, AR07W,    46,  1, 298844,      9,2,20060527,0232, 55.1102, -54.1333,  943,    172.8,   3.7009,  34.8253,2,  34.8228,2,    293.9,2,    297.2,2,     8.20,6,    13.03,6,     1.02,6,    6.780,3,    3.480,2,    0.450,2,    8.250,2,   11.010,2,   2148.1,2,   2300.5,2,   3.6892, 20060527,      253
  18HU20060524, AR07W,    46,  1, 298845,     10,2,20060527,0232, 55.1102, -54.1333,  943,     99.6,   3.6141,  34.7936,2,  34.7912,2,    294.2,2,    297.8,2,     8.16,6,    12.68,6,     1.02,6,    4.740,3,    2.660,3,    0.410,2,    6.010,3,    8.620,3,   2146.0,2,   2300.1,2,   3.6075, 20060527,      255
  18HU20060524, AR07W,    46,  1, 298846,     11,2,20060527,0232, 55.1102, -54.1333,  943,     79.9,   3.4688,  34.7516,2,-999.0000,9,    294.8,2,   -999.0,9,     8.34,6,    13.02,6,     1.01,6, -999.000,9, -999.000,9, -999.000,9, -999.000,9, -999.000,9,   -999.0,9,   -999.0,9,   3.4636, 20060527,      256
  18HU20060524, AR07W,    46,  1, 298847,     12,2,20060527,0232, 55.1102, -54.1333,  943,     61.8,   3.4138,  34.7171,2,-999.0000,9,    299.1,2,   -999.0,9,     8.11,6,    13.03,6,     1.00,6, -999.000,9, -999.000,9, -999.000,9, -999.000,9, -999.000,9,   -999.0,9,   -999.0,9,   3.4098, 20060527,      257
  18HU20060524, AR07W,    46,  1, 298848,     13,2,20060527,0232, 55.1102, -54.1333,  943,     50.2,   3.3390,  34.6738,2,  34.6654,2,    302.6,2,    306.7,2,     7.99,6,    12.68,6,     0.98,6,    0.130,4,    0.000,4,    0.000,4,    0.070,2,    0.000,2,   2143.1,2,   2290.7,2,   3.3358, 20060527,      258
  18HU20060524, AR07W,    46,  1, 298849,     14,2,20060527,0232, 55.1102, -54.1333,  943,     39.4,   3.2794,  34.5743,2,-999.0000,9,    311.7,2,   -999.0,9,     7.65,6,    11.98,6,     0.98,6, -999.000,9, -999.000,9, -999.000,9, -999.000,9, -999.000,9,   -999.0,9,   -999.0,9,   3.2769, 20060527,      259
  18HU20060524, AR07W,    46,  1, 298850,     15,2,20060527,0232, 55.1102, -54.1333,  943,     29.8,   3.2192,  34.4073,2,-999.0000,9,    323.1,2,   -999.0,9,     7.38,6,    10.66,6,     0.84,6, -999.000,9, -999.000,9, -999.000,9, -999.000,9, -999.000,9,   -999.0,9,   -999.0,9,   3.2174, 20060527,      300
  18HU20060524, AR07W,    46,  1, 298851,     16,2,20060527,0232, 55.1102, -54.1333,  943,     19.9,   3.1906,  33.6839,2,-999.0000,9,    348.6,2,   -999.0,9,     5.61,6,     5.66,6,     0.53,6, -999.000,9, -999.000,9, -999.000,9, -999.000,9, -999.000,9,   -999.0,9,   -999.0,9,   3.1894, 20060527,      301
  18HU20060524, AR07W,    46,  1, 298852,     17,2,20060527,0232, 55.1102, -54.1333,  943,     10.3,   2.2358,  32.3672,2,  32.3269,2,    366.2,2,    369.6,2,     2.42,6,     0.32,6,     0.34,6,    8.920,3,    4.530,3,    0.880,3,   11.590,3,   10.230,3,   2013.6,2,   2187.5,2,   2.2353, 20060527,      302
  18HU20060524, AR07W,    46,  1, 298853,     18,2,20060527,0232, 55.1102, -54.1333,  943,      3.6,   2.3026,  32.3181,2,-999.0000,9,    366.4,2,   -999.0,9,     2.31,6,     0.25,6,     0.35,6, -999.000,9, -999.000,9, -999.000,9, -999.000,9, -999.000,9,   -999.0,9,   -999.0,9,   2.3024, 20060527,      303
  18HU20060524, AR07W,    47,  1, 298854,      1,2,20060527,0514, 55.2637, -53.9822, 2018,   2049.9,   3.0256,  34.9044,2,  34.9035,2,    278.3,2,    278.3,2,    11.17,6,    15.97,6,     0.96,6, -999.000,9, -999.000,9, -999.000,9, -999.000,9, -999.000,9,   2160.6,2,   2342.6,3,   2.8682, 20060527,      514
  18HU20060524, AR07W,    47,  1, 298855,      2,2,20060527,0514, 55.2637, -53.9822, 2018,   1970.1,   3.0292,  34.9043,2,-999.0000,9,    278.1,2,   -999.0,9,  -999.00,9,  -999.00,9,  -999.00,9, -999.000,9, -999.000,9, -999.000,9, -999.000,9, -999.000,9,   -999.0,9,   -999.0,9,   2.8790, 20060527,      516
  18HU20060524, AR07W,    47,  1, 298856,      3,2,20060527,0514, 55.2637, -53.9822, 2018,   1900.7,   3.0574,  34.9043,2,  34.9031,2,    277.6,2,    278.2,2,    11.14,6,    16.27,6,     0.87,6,    3.440,2,    1.710,2,    0.210,2,    3.390,2,    5.650,2,   2158.3,2,   2343.3,3,   2.9131, 20060527,      518
  18HU20060524, AR07W,    47,  1, 298857,      4,2,20060527,0514, 55.2637, -53.9822, 2018,   1809.3,   3.0746,  34.9040,2,  34.9030,2,    277.0,2,    278.1,2,    11.21,6,    16.38,6,     0.87,6,    8.130,4,    2.910,4,    0.000,4,    4.760,4,    6.410,4,   2160.3,2,   2293.0,3,   2.9382, 20060527,      520
  18HU20060524, AR07W,    47,  1, 298858,      5,2,20060527,0514, 55.2637, -53.9822, 2018,   1691.5,   3.1865,  34.9027,2,  34.9010,2,    277.0,2,    278.0,6,    10.97,6,    16.60,6,     0.89,6,    3.580,2,    1.820,2,    0.240,2,    3.550,2,    6.440,2,   2159.5,2,   2286.7,2,   3.0591, 20060527,      524
  18HU20060524, AR07W,    47,  1, 298859,      6,2,20060527,0514, 55.2637, -53.9822, 2018,   1549.6,   3.3596,  34.9037,2,  34.9035,6,    275.1,2,    276.4,2,    10.74,6,    16.93,6,     0.91,6,    3.620,2,    1.830,2,    0.250,2,    3.600,2,    6.340,2,   2161.1,2,   2304.8,2,   3.2425, 20060527,      527
  18HU20060524, AR07W,    47,  1, 298860,      7,2,20060527,0514, 55.2637, -53.9822, 2018,   1390.0,   3.5275,  34.8989,2,  34.8988,2,    275.5,2,    280.4,2,    10.39,6,    16.98,6,     0.93,6,    3.960,2,    2.070,2,    0.250,2,    3.920,2,    5.900,2,   2162.0,2,   2285.4,3,   3.4224, 20060527,      530
  18HU20060524, AR07W,    47,  1, 298861,      8,2,20060527,0514, 55.2637, -53.9822, 2018,   1209.8,   3.5955,  34.8885,2,  34.8886,2,    278.5,2,   -999.0,9,     9.92,6,    16.88,6,     0.92,6,    4.290,2,    2.350,2,    0.310,2,    4.200,2,    5.360,2,   2160.2,2,   2340.9,2,   3.5050, 20060527,      534
  18HU20060524, AR07W,    47,  1, 298862,      9,2,20060527,0514, 55.2637, -53.9822, 2018,   1030.3,   3.5298,  34.8606,2,  34.8605,2,    291.2,2,    293.1,2,     8.91,6,    16.38,6,     0.90,6,    4.790,2,    2.770,2,    0.370,2,    4.960,2,    3.910,2,   2158.0,2,   2286.7,3,   3.4547, 20060527,      538
  18HU20060524, AR07W,    47,  1, 298863,     10,2,20060527,0514, 55.2637, -53.9822, 2018,    851.0,   3.7403,  34.8796,2,  34.8794,2,    285.6,2,    288.2,2,     9.22,6,    16.49,6,     0.99,6,    4.550,2,    2.600,2,    0.310,2,    4.620,2,    3.850,2,   2155.7,2,   2317.0,2,   3.6780, 20060527,      542
  18HU20060524, AR07W,    47,  1, 298864,     11,2,20060527,0514, 55.2637, -53.9822, 2018,    670.1,   3.7715,  34.8676,2,  34.8694,2,    288.6,2,    291.5,2,     8.88,6,    16.21,6,     0.91,6,    4.720,2,    2.710,2,    0.370,2,    4.840,2,    3.420,2,   2155.2,2,   2304.9,2,   3.7232, 20060527,      545
  18HU20060524, AR07W,    47,  1, 298865,     12,2,20060527,0514, 55.2637, -53.9822, 2018,    508.9,   3.7962,  34.8650,2,  34.8645,2,    288.3,2,    290.9,2,     9.05,6,    16.11,6,     0.91,6,    4.790,2,    2.730,2,    0.400,2,    4.930,2,    3.510,2,   2153.9,2,   2313.4,2,   3.7601, 20060527,      548
  18HU20060524, AR07W,    47,  1, 298866,     13,2,20060527,0514, 55.2637, -53.9822, 2018,    369.5,   3.7452,  34.8476,2,  34.8470,2,    292.2,2,    295.1,2,     8.94,6,    15.68,6,     0.90,6,    4.780,2,    2.770,2,    0.390,2,    4.980,2,    3.090,2,   2151.6,3,   2325.5,3,   3.7195, 20060527,      551
  18HU20060524, AR07W,    47,  1, 298867,     14,2,20060527,0514, 55.2637, -53.9822, 2018,    251.7,   3.7486,  34.8393,2,  34.8379,2,    293.4,2,    296.2,2,     8.81,6,    15.42,6,     0.90,6,    4.800,2,    2.750,2,    0.430,2,    5.040,2,    3.050,2,   2154.5,2,   2292.7,2,   3.7314, 20060527,      554
  18HU20060524, AR07W,    47,  1, 298868,     15,2,20060527,0514, 55.2637, -53.9822, 2018,    150.5,   3.6226,  34.8027,2,  34.8018,2,    293.3,2,    296.2,2,     9.07,6,    15.14,6,     0.89,6,    4.960,2,    2.830,2,    0.450,2,    5.180,2,    3.110,2,   2153.8,2,   2287.3,2,   3.6126, 20060527,      557
  18HU20060524, AR07W,    47,  1, 298869,     16,2,20060527,0514, 55.2637, -53.9822, 2018,    100.6,   3.5499,  34.7562,2,  34.7649,2,    300.4,2,    301.8,2,     8.82,6,    14.80,6,     0.88,6,    5.010,2,    2.910,2,    0.440,2,    5.350,2,    2.930,2,   2148.5,2,   2289.1,2,   3.5433, 20060527,      558
  18HU20060524, AR07W,    47,  1, 298870,     17,2,20060527,0514, 55.2637, -53.9822, 2018,     49.9,   2.4528,  34.4502,2,  34.4468,2,    300.4,2,    302.6,2,     9.85,6,    13.81,6,     0.85,6,    5.400,2,    3.070,2,    0.490,2,    5.600,2,    3.410,2,   2140.6,2,   2274.6,2,   2.4500, 20060527,      600
  18HU20060524, AR07W,    47,  1, 298871,     18,2,20060527,0514, 55.2637, -53.9822, 2018,     19.4,   1.6057,  32.5681,2,  32.6114,2,    357.9,2,    360.4,2,     6.12,6,     3.87,6,     0.50,6,    6.620,2,    3.690,2,    0.660,2,    7.580,2,    3.250,2,   2043.6,2,   2216.8,2,   1.6048, 20060527,      602
  18HU20060524, AR07W,    47,  1, 298872,     19,2,20060527,0514, 55.2637, -53.9822, 2018,      4.1,   1.7790,  32.5022,2,  32.5042,2,    360.9,2,    363.4,2,     4.83,6,     2.23,6,     0.41,6,    6.620,2,    3.690,2,    0.640,2,    7.700,2,    3.280,2,   2032.6,2,   2186.0,2,   1.7788, 20060527,      603