BOTTLE,20120530PRINUNIVRMK
EXPOCODE,SECT_ID,STNNBR,CASTNO,SAMPNO,BTLNBR,BTLNBR_FLAG_W,DATE,TIME,LATITUDE,LONGITUDE,DEPTH,CTDPRS,CTDTMP,CTDSAL,CTDSAL_FLAG_W,SALNTY,SALNTY_FLAG_W,CTDOXY,CTDOXY_FLAG_W,OXYGEN,OXYGEN_FLAG_W,SILCAT,SILCAT_FLAG_W,NITRAT,NITRAT_FLAG_W,PHSPHT,PHSPHT_FLAG_W,CFC-11,CFC-11_FLAG_W,CFC-12,CFC-12_FLAG_W,CFC113,CFC113_FLAG_W,CCL4,CCL4_FLAG_W,MCHFRM,MCHFRM_FLAG_W,TCARBN,TCARBN_FLAG_W,ALKALI,ALKALI_FLAG_W,THETA,BTL_DATE,BTL_TIME
,,,,,,,,,,,METERS,DBAR,ITS-90,PSS-78,,PSS-78,,UMOL/KG,,UMOL/KG,,UMOL/KG,,UMOL/KG,,UMOL/KG,,PMOL/KG,,PMOL/KG,,PMOL/KG,,PMOL/KG,,PMOL/KG,,UMOL/KG,,UMOL/KG,,DEG C,,
  18HU20060524, AR07W,    75,  1, 298934,      1,2,20060528,0119, 55.8440, -53.3955, 3371,   3155.2,   1.6347,  34.8830,2,  34.8831,2,    295.9,2,    294.0,2,     9.38,6,    13.48,6,     0.99,6, -999.000,9, -999.000,9, -999.000,9, -999.000,9, -999.000,9,   2153.2,3,   2286.3,3,   1.3988, 20060528,      119
  18HU20060524, AR07W,    75,  1, 298935,      2,2,20060528,0119, 55.8440, -53.3955, 3371,   3098.6,   1.6848,  34.8836,2,  34.8819,2,    295.2,2,    293.2,2,     9.17,6,    13.39,6,     0.94,6, -999.000,9, -999.000,9, -999.000,9, -999.000,9, -999.000,9,   2155.0,3,   2301.7,2,   1.4533, 20060528,      120
  18HU20060524, AR07W,    75,  1, 298936,      3,2,20060528,0119, 55.8440, -53.3955, 3371,   3020.0,   1.8707,  34.8873,2,  34.8849,2,    292.3,2,    286.4,2,     9.33,6,    13.89,6,     0.95,6, -999.000,9, -999.000,9, -999.000,9, -999.000,9, -999.000,9,   2160.5,2,   2294.7,2,   1.6427, 20060528,      122
  18HU20060524, AR07W,    75,  1, 298937,      4,2,20060528,0119, 55.8440, -53.3955, 3371,   2919.1,   2.1545,  34.8926,2,  34.8920,2,    287.2,2,    237.4,3,    10.95,6,    15.08,6,     1.05,6, -999.000,9, -999.000,9, -999.000,9, -999.000,9, -999.000,9,   2164.1,2,   2299.8,2,   1.9303, 20060528,      125
  18HU20060524, AR07W,    75,  1, 298938,      5,2,20060528,0119, 55.8440, -53.3955, 3371,   2810.8,   2.4148,  34.9016,2,  34.9010,2,    282.3,2,    231.1,3,    11.74,6,    15.76,6,     1.04,6, -999.000,9, -999.000,9, -999.000,9, -999.000,9, -999.000,9,   2162.6,2,   2298.4,2,   2.1958, 20060528,      127
  18HU20060524, AR07W,    75,  1, 298939,      6,2,20060528,0119, 55.8440, -53.3955, 3371,   2691.0,   2.5836,  34.9075,2,  34.9067,6,    280.0,2,    280.0,2,    11.74,6,    16.03,6,     1.04,6, -999.000,9, -999.000,9, -999.000,9, -999.000,9, -999.000,9,   2163.5,2,   2284.6,2,   2.3729, 20060528,      130
  18HU20060524, AR07W,    75,  1, 298940,      7,2,20060528,0119, 55.8440, -53.3955, 3371,   2561.3,   2.7708,  34.9138,2,  34.9132,2,    276.9,2,    277.3,2,    12.23,6,    16.52,6,     1.08,6, -999.000,9, -999.000,9, -999.000,9, -999.000,9, -999.000,9,   2155.7,4,   2295.4,2,   2.5692, 20060528,      132
  18HU20060524, AR07W,    75,  1, 298941,      8,2,20060528,0119, 55.8440, -53.3955, 3371,   2410.8,   2.8773,  34.9127,2,  34.9124,2,    275.9,2,    276.6,2,    12.29,6,    16.93,6,     1.09,6, -999.000,9, -999.000,9, -999.000,9, -999.000,9, -999.000,9,   2148.1,4,   2297.7,2,   2.6883, 20060528,      135
  18HU20060524, AR07W,    75,  1, 298942,      9,2,20060528,0119, 55.8440, -53.3955, 3371,   2230.0,   2.9849,  34.9071,2,  34.9061,2,    276.4,2,    278.0,2,    11.45,6,    16.91,6,     1.09,6, -999.000,9, -999.000,9, -999.000,9, -999.000,9, -999.000,9,   2165.8,2,   2305.7,2,   2.8113, 20060528,      140
  18HU20060524, AR07W,    75,  1, 298943,     10,2,20060528,0119, 55.8440, -53.3955, 3371,   2009.3,   3.1249,  34.9006,2,  34.8998,2,    277.0,2,    278.9,2,    10.73,6,    17.01,6,     1.10,6, -999.000,9, -999.000,9, -999.000,9, -999.000,9, -999.000,9,   2163.7,2,   2290.2,3,   2.9697, 20060528,      144
  18HU20060524, AR07W,    75,  1, 298944,     11,2,20060528,0119, 55.8440, -53.3955, 3371,   1790.3,   3.2563,  34.8992,2,  34.8994,2,    276.2,2,    278.1,6,    10.57,6,    17.36,6,     1.10,6, -999.000,9, -999.000,9, -999.000,9, -999.000,9, -999.000,9,   2160.2,2,   2286.3,3,   3.1192, 20060528,      147
  18HU20060524, AR07W,    75,  1, 298945,     12,2,20060528,0119, 55.8440, -53.3955, 3371,   1547.8,   3.4272,  34.8985,2,  34.9000,2,    273.4,2,    275.5,2,    10.98,6,    17.65,6,     1.16,6, -999.000,9, -999.000,9, -999.000,9, -999.000,9, -999.000,9,   2158.3,2,   2287.2,3,   3.3095, 20060528,      152
  18HU20060524, AR07W,    75,  1, 298946,     13,2,20060528,0119, 55.8440, -53.3955, 3371,   1311.1,   3.5360,  34.8894,2,  34.8890,2,    276.0,2,    277.8,2,    10.06,6,    16.73,6,     1.08,6, -999.000,9, -999.000,9, -999.000,9, -999.000,9, -999.000,9,   2157.9,2,   2287.2,3,   3.4375, 20060528,      156
  18HU20060524, AR07W,    75,  1, 298947,     14,2,20060528,0119, 55.8440, -53.3955, 3371,   1091.2,   3.5073,  34.8672,2,  34.8678,2,    283.2,2,    286.1,2,     9.48,6,    16.19,6,     1.06,6, -999.000,9, -999.000,9, -999.000,9, -999.000,9, -999.000,9,   2154.8,2,   2274.0,3,   3.4275, 20060528,      201
  18HU20060524, AR07W,    75,  1, 298948,     15,2,20060528,0119, 55.8440, -53.3955, 3371,    891.3,   3.4516,  34.8512,2,  34.8503,2,    292.0,2,    295.0,2,     8.42,6,    15.55,6,     1.03,6, -999.000,9, -999.000,9, -999.000,9, -999.000,9, -999.000,9,   2153.7,2,   2286.0,3,   3.3882, 20060528,      207
  18HU20060524, AR07W,    75,  1, 298949,     16,2,20060528,0119, 55.8440, -53.3955, 3371,    708.8,   3.5728,  34.8619,2,  34.8611,2,    287.1,2,    290.1,2,     8.61,6,    15.91,6,     1.05,6, -999.000,9, -999.000,9, -999.000,9, -999.000,9, -999.000,9,   2158.1,2,   2273.8,3,   3.5227, 20060528,      210
  18HU20060524, AR07W,    75,  1, 298950,     17,2,20060528,0119, 55.8440, -53.3955, 3371,    550.4,   3.6483,  34.8625,2,  34.8621,2,    291.7,2,    295.6,2,     8.10,6,    15.75,6,     1.01,6, -999.000,9, -999.000,9, -999.000,9, -999.000,9, -999.000,9,   2153.3,4,   2310.2,2,   3.6097, 20060528,      214
  18HU20060524, AR07W,    75,  1, 298951,     18,2,20060528,0119, 55.8440, -53.3955, 3371,    401.7,   3.6371,  34.8527,2,  34.8533,2,    288.4,2,    291.5,2,     8.30,6,    16.04,6,     1.03,6, -999.000,9, -999.000,9, -999.000,9, -999.000,9, -999.000,9,   2159.6,2,   2290.1,3,   3.6094, 20060528,      219
  18HU20060524, AR07W,    75,  1, 298952,     19,2,20060528,0119, 55.8440, -53.3955, 3371,    288.7,   3.6371,  34.8403,2,  34.8389,2,    287.5,2,    290.3,2,     8.26,6,    16.24,6,     1.03,6, -999.000,9, -999.000,9, -999.000,9, -999.000,9, -999.000,9,   2162.6,2,   2286.7,3,   3.6175, 20060528,      222
  18HU20060524, AR07W,    75,  1, 298953,     20,2,20060528,0119, 55.8440, -53.3955, 3371,    190.6,   3.5112,  34.7993,2,  34.7977,2,    290.5,2,    293.7,2,     8.18,6,    16.27,6,     1.09,6, -999.000,9, -999.000,9, -999.000,9, -999.000,9, -999.000,9,   2160.9,2,   2326.4,3,   3.4986, 20060528,      224
  18HU20060524, AR07W,    75,  1, 298954,     21,2,20060528,0119, 55.8440, -53.3955, 3371,    110.3,   3.3832,  34.7345,2,  34.7329,2,    305.9,2,    310.9,2,     7.68,6,    14.03,6,     0.94,6, -999.000,9, -999.000,9, -999.000,9, -999.000,9, -999.000,9,   2153.6,2,   2303.9,2,   3.3761, 20060528,      226
  18HU20060524, AR07W,    75,  1, 298955,     22,2,20060528,0119, 55.8440, -53.3955, 3371,     49.9,   3.7148,  34.6764,2,  34.6737,2,    321.7,2,    324.8,2,     6.49,6,    11.15,6,     0.81,6, -999.000,9, -999.000,9, -999.000,9, -999.000,9, -999.000,9,   2138.3,2,   2287.5,3,   3.7115, 20060528,      228
  18HU20060524, AR07W,    75,  1, 298956,     23,2,20060528,0119, 55.8440, -53.3955, 3371,     19.5,   4.8892,  34.5381,2,  34.5405,2,    357.6,2,    358.0,2,     0.00,6,     3.16,6,     0.26,6, -999.000,9, -999.000,9, -999.000,9, -999.000,9, -999.000,9,   2083.7,2,   2327.3,3,   4.8877, 20060528,      229
  18HU20060524, AR07W,    75,  1, 298957,     24,2,20060528,0119, 55.8440, -53.3955, 3371,      3.3,   4.9006,  34.5387,2,  34.5369,2,    358.9,2,    362.7,2,     0.49,6,     2.60,6,     0.27,6, -999.000,9, -999.000,9, -999.000,9, -999.000,9, -999.000,9,   2079.5,2,   2278.4,2,   4.9004, 20060528,      230
  18HU20060524, AR07W,    81,  1, 298958,      1,2,20060528,0546, 56.1212, -53.1235, 3279,   3383.1,   1.5812,  34.8805,2,  34.8798,2,    296.6,2,    295.9,2,    10.32,6,    13.76,6,     1.00,6,    4.910,2,    2.310,2,    0.310,2,    4.390,2,    5.590,2,   2160.9,2,   2296.4,2,   1.3238, 20060528,      546
  18HU20060524, AR07W,    81,  1, 298959,      2,2,20060528,0546, 56.1212, -53.1235, 3279,   3300.5,   1.6710,  34.8808,2,  34.8800,2,    295.7,2,    294.1,2,    10.29,6,    13.92,6,     0.92,6,    5.290,2,    2.180,2,    0.300,2,    4.350,2,    5.690,2,   2161.7,2,   2294.0,3,   1.4198, 20060528,      548
  18HU20060524, AR07W,    81,  1, 298960,      3,2,20060528,0546, 56.1212, -53.1235, 3279,   3221.3,   1.8710,  34.8835,2,  34.8829,2,    292.4,2,    291.7,2,    10.48,6,    14.21,6,     0.94,6,    0.380,3,    0.220,3,    0.000,3,    0.390,3,    0.320,3,   2158.7,2,   2305.6,2,   1.6230, 20060528,      550
  18HU20060524, AR07W,    81,  1, 298961,      4,2,20060528,0546, 56.1212, -53.1235, 3279,   3119.8,   2.1653,  34.8913,2,  34.8902,2,    287.1,2,    287.7,2,    11.70,6,    14.92,6,     0.98,6,    3.510,2,    1.890,2,    0.200,2,    3.760,2,    5.460,2,   2157.1,3,   2292.9,2,   1.9208, 20060528,      553
  18HU20060524, AR07W,    81,  1, 298962,      5,2,20060528,0546, 56.1212, -53.1235, 3279,   3001.3,   2.4215,  34.9017,2,  34.9012,2,    281.8,2,    283.4,2,    12.72,6,    15.68,6,     1.01,6,    3.120,2,    1.430,2,    0.160,2,    3.380,2,    5.420,2,   2159.5,2,   2307.4,2,   2.1833, 20060528,      555
  18HU20060524, AR07W,    81,  1, 298963,      6,2,20060528,0546, 56.1212, -53.1235, 3279,   2860.1,   2.6186,  34.9084,2,  34.9064,6,    279.1,2,    281.2,2,    12.72,6,    15.89,6,     1.02,6,    0.000,4,    0.000,4,    0.000,4,    0.030,4,    0.000,4,   2159.8,2,   2278.6,2,   2.3904, 20060528,      558
  18HU20060524, AR07W,    81,  1, 298964,      7,2,20060528,0546, 56.1212, -53.1235, 3279,   2699.9,   2.7868,  34.9102,2,  34.9086,2,    278.3,2,    279.9,2,    12.02,6,    15.92,6,     1.03,6,    3.140,2,    1.630,2,    0.110,2,    3.300,2,    5.470,2,   2159.3,2,   2278.3,2,   2.5712, 20060528,      601
  18HU20060524, AR07W,    81,  1, 298965,      8,2,20060528,0546, 56.1212, -53.1235, 3279,   2518.9,   2.9366,  34.9077,2,  34.9068,6,    277.3,2,    280.1,2,    12.06,6,    16.21,6,     1.05,6,    3.180,2,    1.650,2,    0.170,2,    3.330,2,    5.940,2,   2160.4,2,   2299.2,2,   2.7361, 20060528,      604
  18HU20060524, AR07W,    81,  1, 298966,      9,2,20060528,0546, 56.1212, -53.1235, 3279,   2320.1,   3.0800,  34.9052,2,  34.9037,2,    277.0,2,    278.7,2,    11.39,6,    15.28,6,     1.13,3,    3.270,2,    1.660,2,    0.070,3,    3.410,2,    6.150,2,   2160.2,2,   2316.7,2,   2.8963, 20060528,      608
  18HU20060524, AR07W,    81,  1, 298967,     10,2,20060528,0546, 56.1212, -53.1235, 3279,   2102.1,   3.1945,  34.8968,2,  34.8957,2,    276.9,2,    280.2,2,    11.13,6,    15.60,6,     1.04,6,    3.470,2,    1.740,2,    0.180,2,    3.600,2,    6.970,2,   2160.0,2,   2292.2,2,   3.0296, 20060528,      612
  18HU20060524, AR07W,    81,  1, 298968,     11,2,20060528,0546, 56.1212, -53.1235, 3279,   1879.0,   3.3409,  34.9001,2,  34.8984,2,    274.8,2,    255.7,3,    11.16,6,    15.92,6,     1.05,6,    3.640,2,    1.800,2,    0.210,2,    3.700,2,    7.070,2,   2160.3,2,   2300.7,2,   3.1946, 20060528,      615
  18HU20060524, AR07W,    81,  1, 298969,     12,2,20060528,0546, 56.1212, -53.1235, 3279,   1639.6,   3.5316,  34.9019,2,  34.9002,2,    272.5,2,    276.5,2,    10.51,6,    16.01,6,     1.05,6,    3.760,2,    2.030,2,    0.210,2,    3.710,2,    6.390,2,   2154.7,2,   2292.3,2,   3.4045, 20060528,      619
  18HU20060524, AR07W,    81,  1, 298970,     13,2,20060528,0546, 56.1212, -53.1235, 3279,   1401.1,   3.4920,  34.8705,2,  34.8703,2,    280.9,2,    284.0,6,     9.62,6,    16.08,6,     1.03,6,    4.460,2,    2.470,2,    0.340,2,    4.600,2,    5.890,2,   2154.9,2,   2288.3,2,   3.3864, 20060528,      623
  18HU20060524, AR07W,    81,  1, 298971,     14,2,20060528,0546, 56.1212, -53.1235, 3279,   1181.0,   3.4686,  34.8546,2,  34.8544,2,    290.3,2,    295.6,2,     8.68,6,    15.87,6,     1.01,6,    4.920,2,    2.840,2,    0.320,2,    5.100,2,    4.330,2,   2154.3,2,   2305.5,2,   3.3818, 20060528,      627
  18HU20060524, AR07W,    81,  1, 298972,     15,2,20060528,0546, 56.1212, -53.1235, 3279,    960.4,   3.4850,  34.8554,2,  34.8550,2,    290.8,2,    293.5,2,     8.63,6,    15.88,6,     1.00,6,    4.850,2,    2.630,2,    0.390,2,    5.100,2,    4.070,2,   2157.7,2,   2280.9,2,   3.4159, 20060528,      631
  18HU20060524, AR07W,    81,  1, 298973,     16,2,20060528,0546, 56.1212, -53.1235, 3279,    760.3,   3.5298,  34.8577,2,  34.8574,2,    291.1,2,    294.4,2,     8.49,6,    15.86,6,     0.99,6,    4.890,2,    2.670,2,    0.330,2,    5.150,2,    4.020,2,   2156.4,2,   2296.3,2,   3.4760, 20060528,      634
  18HU20060524, AR07W,    81,  1, 298974,     17,2,20060528,0546, 56.1212, -53.1235, 3279,    579.7,   3.5381,  34.8519,2,  34.8503,2,    291.7,2,    293.9,2,     8.38,6,    15.80,6,     1.08,6,    4.860,2,    2.840,2,    0.290,2,    5.110,2,    3.540,2,   2156.0,2,   2292.4,2,   3.4978, 20060528,      638
  18HU20060524, AR07W,    81,  1, 298975,     18,2,20060528,0546, 56.1212, -53.1235, 3279,    429.2,   3.6293,  34.8559,2,  34.8550,2,    292.0,2,    295.3,2,     8.25,6,    15.67,6,     0.98,6,    4.860,2,    2.620,2,    0.350,2,    5.210,2,    3.470,2,   2156.1,2,   2276.8,2,   3.5997, 20060528,      640
  18HU20060524, AR07W,    81,  1, 298976,     19,2,20060528,0546, 56.1212, -53.1235, 3279,    308.3,   3.4983,  34.8307,2,  34.8305,2,    302.5,2,    306.1,2,     8.21,6,    15.44,6,     0.95,6,    5.170,2,    2.960,2,    0.380,2,    5.710,2,    3.020,2,   2153.4,2,   2279.6,2,   3.4777, 20060528,      644
  18HU20060524, AR07W,    81,  1, 298977,     20,2,20060528,0546, 56.1212, -53.1235, 3279,    200.4,   3.5061,  34.8039,2,  34.8036,2,    297.7,2,    302.1,2,     8.26,6,    15.27,6,     0.93,6,    5.030,2,    2.810,2,    0.380,2,    5.470,2,    3.000,2,   2153.8,2,   2290.4,2,   3.4928, 20060528,      647
  18HU20060524, AR07W,    81,  1, 298978,     21,2,20060528,0546, 56.1212, -53.1235, 3279,    119.3,   3.4154,  34.7632,2,  34.7639,2,    307.8,2,    311.9,2,     8.30,6,    13.62,6,     0.90,6,    5.330,2,    3.010,2,    0.400,2,    5.920,2,    2.750,2,   2146.2,2,   2297.1,2,   3.4077, 20060528,      649
  18HU20060524, AR07W,    81,  1, 298979,     22,2,20060528,0546, 56.1212, -53.1235, 3279,     60.8,   3.9350,  34.6468,2,  34.6454,2,    323.3,2,    328.3,2,     6.96,6,    10.65,6,     0.73,6,    5.560,2,    3.170,2,    0.420,2,    6.410,2,    2.830,2,   2126.7,2,   2279.6,2,   3.9309, 20060528,      651
  18HU20060524, AR07W,    81,  1, 298980,     23,2,20060528,0546, 56.1212, -53.1235, 3279,     30.6,   4.6274,  34.3653,2,  34.3664,2,    337.8,2,    342.4,2,     3.10,6,     6.03,6,     0.40,6,    7.270,4,    3.170,2,    0.360,2,    6.280,2,    2.330,2,   2086.6,2,   2253.7,2,   4.6252, 20060528,      652
  18HU20060524, AR07W,    81,  1, 298981,     24,2,20060528,0546, 56.1212, -53.1235, 3279,      3.1,   4.6207,  34.2334,2,  34.2340,2,    343.4,2,    347.8,2,     3.57,6,     5.07,6,     0.37,6,    5.550,2,    3.010,2,    0.440,2,    6.600,2,    2.630,2,   2072.6,2,   2268.9,2,   4.6205, 20060528,      653