BOTTLE,20120530PRINUNIVRMK
EXPOCODE,SECT_ID,STNNBR,CASTNO,SAMPNO,BTLNBR,BTLNBR_FLAG_W,DATE,TIME,LATITUDE,LONGITUDE,DEPTH,CTDPRS,CTDTMP,CTDSAL,CTDSAL_FLAG_W,SALNTY,SALNTY_FLAG_W,CTDOXY,CTDOXY_FLAG_W,OXYGEN,OXYGEN_FLAG_W,SILCAT,SILCAT_FLAG_W,NITRAT,NITRAT_FLAG_W,PHSPHT,PHSPHT_FLAG_W,CFC-11,CFC-11_FLAG_W,CFC-12,CFC-12_FLAG_W,CFC113,CFC113_FLAG_W,CCL4,CCL4_FLAG_W,MCHFRM,MCHFRM_FLAG_W,TCARBN,TCARBN_FLAG_W,ALKALI,ALKALI_FLAG_W,THETA,BTL_DATE,BTL_TIME
,,,,,,,,,,,METERS,DBAR,ITS-90,PSS-78,,PSS-78,,UMOL/KG,,UMOL/KG,,UMOL/KG,,UMOL/KG,,UMOL/KG,,PMOL/KG,,PMOL/KG,,PMOL/KG,,PMOL/KG,,PMOL/KG,,UMOL/KG,,UMOL/KG,,DEG C,,
  18HU20060524, AR07W,   236,  1, 299483,      1,2,20060603,0401, 53.0043, -51.0445, 2550,   2665.6,   2.5076,  34.9038,2,-999.0000,9,    281.9,2,    281.2,2,    12.00,6,    15.34,6,     1.05,6,    3.470,2,    1.850,2,    0.180,2,    3.750,2,    5.730,2,   2156.8,2,   2324.4,2,   2.3009, 20060603,      401
  18HU20060524, AR07W,   236,  1, 299484,      2,2,20060603,0401, 53.0043, -51.0445, 2550,   2599.7,   2.4968,  34.9039,2,  34.9012,2,    281.7,2,    281.6,2,    11.95,6,    15.39,6,     1.05,6,    3.350,2,    1.780,2,    0.150,2,    3.650,2,    5.760,2,   2157.4,2,   2307.2,2,   2.2967, 20060603,      402
  18HU20060524, AR07W,   236,  1, 299485,      3,2,20060603,0401, 53.0043, -51.0445, 2550,   2509.1,   2.5139,  34.9056,2,  34.9025,6,    280.6,2,    280.9,2,    12.29,6,    15.40,6,     1.07,6,    3.350,2,    1.800,2,    0.160,2,    3.600,2,    5.770,2,   2157.0,2,   2283.8,2,   2.3221, 20060603,      404
  18HU20060524, AR07W,   236,  1, 299486,      4,2,20060603,0401, 53.0043, -51.0445, 2550,   2408.9,   2.6337,  34.9112,2,  34.9083,2,    278.4,2,    280.1,2,    12.31,6,    15.58,6,     1.06,6,    3.120,2,    1.520,2,    0.150,2,    3.450,2,    5.660,2,   2158.7,2,   2283.4,2,   2.4493, 20060603,      406
  18HU20060524, AR07W,   236,  1, 299487,      5,2,20060603,0401, 53.0043, -51.0445, 2550,   2290.0,   2.7552,  34.9074,2,  34.9043,2,    279.1,2,    279.9,2,    11.51,6,    15.49,6,     1.06,6,    3.440,2,    1.760,2,    0.160,2,    3.720,2,    6.120,2,   2159.9,2,   2294.9,2,   2.5798, 20060603,      409
  18HU20060524, AR07W,   236,  1, 299488,      6,2,20060603,0401, 53.0043, -51.0445, 2550,   2148.1,   2.8641,  34.9082,2,  34.9067,6,    278.0,2,    279.3,2,    11.16,6,    15.67,6,     1.07,6,    3.420,2,    1.800,2,    0.150,2,    3.670,2,    6.230,2,   2158.0,2,   2285.6,2,   2.7001, 20060603,      411
  18HU20060524, AR07W,   236,  1, 299489,      7,2,20060603,0401, 53.0043, -51.0445, 2550,   1989.6,   2.9785,  34.9068,2,  34.9035,2,    277.2,2,    279.5,2,    11.11,6,    15.87,6,     1.09,6,    3.490,2,    1.790,2,    0.180,2,    3.730,2,    6.520,2,   2158.2,2,   2303.7,2,   2.8273, 20060603,      414
  18HU20060524, AR07W,   236,  1, 299490,      8,2,20060603,0401, 53.0043, -51.0445, 2550,   1808.3,   3.1439,  34.9004,2,  34.8973,2,    277.2,2,    279.5,6,    10.73,6,    16.02,6,     1.08,6,    3.730,2,    1.950,2,    0.180,2,    3.950,2,    7.290,2,   2158.0,2,   2302.3,2,   3.0067, 20060603,      417
  18HU20060524, AR07W,   236,  1, 299491,      9,2,20060603,0401, 53.0043, -51.0445, 2550,   1609.3,   3.3123,  34.8970,2,  34.8943,2,    275.6,2,    279.1,2,    10.54,6,    16.53,6,     1.10,6,    3.890,2,    2.040,2,    0.210,2,    4.060,2,    7.570,2,   2160.0,2,   2300.2,2,   3.1906, 20060603,      421
  18HU20060524, AR07W,   236,  1, 299492,     10,2,20060603,0401, 53.0043, -51.0445, 2550,   1410.2,   3.4830,  34.9025,2,  34.8996,2,    273.6,2,    276.4,2,    10.15,6,    16.25,6,     1.09,6,    4.120,2,    2.220,2,    0.230,2,    4.170,2,    6.860,2,   2158.0,2,   2297.6,2,   3.3766, 20060603,      424
  18HU20060524, AR07W,   236,  1, 299493,     11,2,20060603,0401, 53.0043, -51.0445, 2550,   1209.7,   3.5237,  34.8835,2,  34.8802,2,    278.2,2,    281.7,2,     9.80,6,    16.12,6,     1.11,6,    4.530,2,    2.500,2,    0.290,2,    4.620,2,    6.240,2,   2158.8,2,   2281.6,2,   3.4339, 20060603,      428
  18HU20060524, AR07W,   236,  1, 299494,     12,2,20060603,0401, 53.0043, -51.0445, 2550,   1030.8,   3.5359,  34.8674,2,  34.8643,2,    286.6,2,    289.3,2,     8.74,6,    15.72,6,     1.05,6,    5.020,2,    2.910,2,    0.340,2,    5.300,2,    4.930,2,   2158.0,2,   2276.3,2,   3.4607, 20060603,      431
  18HU20060524, AR07W,   236,  1, 299495,     13,2,20060603,0401, 53.0043, -51.0445, 2550,    850.1,   3.5691,  34.8638,2,  34.8609,2,    290.1,2,    293.4,2,     8.35,6,    15.23,6,     1.04,6,    5.190,2,    3.130,2,    0.400,2,    5.590,2,    4.360,2,   2155.4,2,   2282.4,2,   3.5081, 20060603,      434
  18HU20060524, AR07W,   236,  1, 299496,     14,2,20060603,0401, 53.0043, -51.0445, 2550,    671.1,   3.6942,  34.8699,2,  34.8666,2,    287.3,2,    290.6,2,     8.37,6,    15.22,6,     1.04,6,    5.070,2,    2.990,2,    0.350,2,    5.390,2,    4.210,2,   2151.5,2,   2308.9,2,   3.6463, 20060603,      437
  18HU20060524, AR07W,   236,  1, 299497,     15,2,20060603,0401, 53.0043, -51.0445, 2550,    511.0,   3.7260,  34.8638,2,  34.8605,2,    290.6,2,    293.5,2,     7.99,6,    14.79,6,     1.02,6,    5.170,2,    2.920,2,    0.400,2,    5.570,2,    3.780,2,   2150.8,2,   2299.2,2,   3.6900, 20060603,      440
  18HU20060524, AR07W,   236,  1, 299498,     16,2,20060603,0401, 53.0043, -51.0445, 2550,    369.1,   3.7146,  34.8512,2,  34.8482,2,    290.4,2,    293.5,2,     8.05,6,    14.64,6,     1.01,6,    5.330,2,    3.190,2,    0.360,2,    5.760,2,    3.810,2,   2149.6,2,   2300.9,2,   3.6891, 20060603,      443
  18HU20060524, AR07W,   236,  1, 299499,     17,2,20060603,0401, 53.0043, -51.0445, 2550,    251.4,   3.6425,  34.8268,2,-999.0000,9,    291.9,2,    295.0,2,     8.16,6,    14.75,6,     1.01,6,    5.190,2,    3.090,2,    0.380,2,    5.640,2,    3.490,2,   -999.0,9,   -999.0,9,   3.6255, 20060603,      445
  18HU20060524, AR07W,   236,  1, 299500,     18,2,20060603,0401, 53.0043, -51.0445, 2550,    151.0,   3.5208,  34.7926,2,-999.0000,9,    292.7,2,    296.1,2,     8.12,6,    15.11,6,     1.03,6,    5.470,2,    3.300,2,    0.480,2,    5.950,2,    3.550,2,   2150.2,2,   2287.0,2,   3.5109, 20060603,      447
  18HU20060524, AR07W,   236,  1, 299501,     19,2,20060603,0401, 53.0043, -51.0445, 2550,     99.7,   3.5012,  34.7458,2,-999.0000,9,    296.7,2,    300.5,2,  -999.00,9,  -999.00,9,  -999.00,9,    5.540,2,    3.410,3,    0.430,2,    6.220,2,    3.100,2,   2148.3,2,   2273.2,2,   3.4947, 20060603,      449
  18HU20060524, AR07W,   236,  1, 299502,     20,2,20060603,0401, 53.0043, -51.0445, 2550,     49.2,   3.3042,  34.6055,2,-999.0000,9,    307.2,2,    310.3,2,  -999.00,9,  -999.00,9,  -999.00,9,    5.810,2,    3.320,2,    0.490,2,    6.630,2,    3.200,2,   2139.4,2,   2270.9,2,   3.3011, 20060603,      450
  18HU20060524, AR07W,   236,  1, 299503,     21,2,20060603,0401, 53.0043, -51.0445, 2550,     19.5,   4.4444,  34.3011,2,-999.0000,9,    341.2,2,    346.3,2,  -999.00,9,  -999.00,9,  -999.00,9,    6.290,2,    3.580,2,    0.510,2,    6.970,2,    2.660,2,   2080.0,2,   2273.4,2,   4.4430, 20060603,      452
  18HU20060524, AR07W,   236,  1, 299504,     22,2,20060603,0401, 53.0043, -51.0445, 2550,      2.8,   4.8051,  34.2576,2,-999.0000,9,    365.7,2,    369.9,2,  -999.00,9,  -999.00,9,  -999.00,9,    5.970,2,    3.600,2,    0.550,2,    7.270,2,    2.800,2,   2056.9,2,   2268.6,2,   4.8049, 20060603,      453
  18HU20060524, AR07W,   240,  1, 299505,      1,2,20060603,1000, 52.8385, -51.6050, 1169,   1182.5,   3.5532,  34.8717,2,  34.8698,2,    285.7,2,    289.6,2,  -999.00,9,  -999.00,9,  -999.00,9,    4.620,2,    2.500,2,    0.390,2,    5.060,2,    9.150,2,   2162.0,2,   2297.5,2,   3.4654, 20060603,     1000
  18HU20060524, AR07W,   240,  1, 299506,      2,2,20060603,1000, 52.8385, -51.6050, 1169,   1031.5,   3.5393,  34.8679,2,  34.8647,2,    287.4,2,    289.8,2,  -999.00,9,  -999.00,9,  -999.00,9,    4.740,2,    2.560,2,    0.420,2,    5.240,2,    8.880,2,   2160.4,2,   2290.2,2,   3.4640, 20060603,     1003
  18HU20060524, AR07W,   240,  1, 299507,      3,2,20060603,1000, 52.8385, -51.6050, 1169,    900.2,   3.5501,  34.8645,2,  34.8615,2,    289.6,2,    291.8,2,  -999.00,9,  -999.00,9,  -999.00,9,    4.840,2,    2.620,2,    0.450,2,    5.470,2,    8.390,2,   2159.4,2,   2298.9,2,   3.4853, 20060603,     1007
  18HU20060524, AR07W,   240,  1, 299508,      4,2,20060603,1000, 52.8385, -51.6050, 1169,    761.6,   3.6330,  34.8689,2,  34.8660,2,    289.1,2,    291.4,6,  -999.00,9,  -999.00,9,  -999.00,9,    4.750,3,    0.000,4,    0.360,4,    4.600,4,    7.010,4,   2160.7,2,   2295.6,2,   3.5785, 20060603,     1010
  18HU20060524, AR07W,   240,  1, 299509,      5,2,20060603,1000, 52.8385, -51.6050, 1169,    601.0,   3.6688,  34.8674,2,  34.8647,2,    288.9,2,    291.5,2,     8.32,6,    15.41,6,     1.05,6,    4.880,2,    2.660,2,    0.420,2,    5.530,2,    7.470,2,   2157.8,2,   2297.8,2,   3.6263, 20060603,     1012
  18HU20060524, AR07W,   240,  1, 299510,      6,2,20060603,1000, 52.8385, -51.6050, 1169,    470.9,   3.7089,  34.8654,2,  34.8625,2,    290.9,2,    293.3,2,     8.04,6,    15.30,6,     1.00,6,    4.860,2,    2.660,2,    0.460,2,    5.540,2,    6.860,2,   2151.4,2,   2301.3,2,   3.6760, 20060603,     1015
  18HU20060524, AR07W,   240,  1, 299511,      7,2,20060603,1000, 52.8385, -51.6050, 1169,    350.0,   3.7072,  34.8599,2,  34.8566,2,    290.3,2,    293.4,2,     8.08,6,    15.25,6,     0.98,6,    4.840,2,    2.680,2,    0.410,2,    5.500,2,    6.510,2,   2148.1,2,   2288.1,2,   3.6830, 20060603,     1018
  18HU20060524, AR07W,   240,  1, 299512,      8,2,20060603,1000, 52.8385, -51.6050, 1169,    250.8,   3.6937,  34.8517,2,-999.0000,9,    290.7,2,    293.2,2,     8.14,6,    15.47,6,     0.98,6,    4.890,2,    2.700,2,    0.420,2,    5.520,2,    6.220,2,   2151.2,2,   2307.2,2,   3.6766, 20060603,     1020
  18HU20060524, AR07W,   240,  1, 299513,      9,2,20060603,1000, 52.8385, -51.6050, 1169,    151.0,   3.5685,  34.8100,2,-999.0000,9,    297.3,2,    300.2,2,     8.18,6,    15.08,6,     0.96,6,    5.130,2,    2.910,2,    0.500,2,    5.990,2,    6.640,2,   2151.6,2,   2309.1,2,   3.5585, 20060603,     1022
  18HU20060524, AR07W,   240,  1, 299514,     10,2,20060603,1000, 52.8385, -51.6050, 1169,    101.0,   3.5135,  34.7784,2,-999.0000,9,    301.3,2,    305.9,2,     8.21,6,    14.58,6,     0.95,6,    2.530,4,    1.410,4,    0.280,4,    2.310,2,    1.560,2,   2153.0,2,   2310.0,2,   3.5069, 20060603,     1024
  18HU20060524, AR07W,   240,  1, 299515,     11,2,20060603,1000, 52.8385, -51.6050, 1169,     79.5,   3.5245,  34.7488,2,-999.0000,9,    304.0,2,   -999.0,9,     7.96,6,    13.94,6,     0.92,6, -999.000,9, -999.000,9, -999.000,9, -999.000,9, -999.000,9,   -999.0,9,   -999.0,9,   3.5193, 20060603,     1025
  18HU20060524, AR07W,   240,  1, 299516,     12,2,20060603,1000, 52.8385, -51.6050, 1169,     60.8,   3.7894,  34.6927,2,-999.0000,9,    311.4,2,   -999.0,9,     6.42,6,    11.75,6,     0.80,6, -999.000,9, -999.000,9, -999.000,9, -999.000,9, -999.000,9,   -999.0,9,   -999.0,9,   3.7853, 20060603,     1026
  18HU20060524, AR07W,   240,  1, 299517,     13,2,20060603,1000, 52.8385, -51.6050, 1169,     50.3,   4.0683,  34.6554,2,-999.0000,9,    316.6,2,    320.2,2,     4.56,6,     9.52,6,     0.68,6,    5.400,2,    3.040,2,    0.520,2,    6.670,2,    4.890,2,   2128.4,2,   2293.4,2,   4.0648, 20060603,     1028
  18HU20060524, AR07W,   240,  1, 299518,     14,2,20060603,1000, 52.8385, -51.6050, 1169,     40.8,   4.5129,  34.5608,2,-999.0000,9,    330.2,2,   -999.0,9,     1.49,6,     5.41,6,     0.38,6, -999.000,9, -999.000,9, -999.000,9, -999.000,9, -999.000,9,   -999.0,9,   -999.0,9,   4.5099, 20060603,     1029
  18HU20060524, AR07W,   240,  1, 299519,     15,2,20060603,1000, 52.8385, -51.6050, 1169,     29.7,   4.8625,  34.5012,2,-999.0000,9,    339.2,2,   -999.0,9,     0.22,6,     2.87,6,     0.21,6, -999.000,9, -999.000,9, -999.000,9, -999.000,9, -999.000,9,   -999.0,9,   -999.0,9,   4.8603, 20060603,     1030
  18HU20060524, AR07W,   240,  1, 299520,     16,2,20060603,1000, 52.8385, -51.6050, 1169,     20.0,   4.7866,  34.3939,2,-999.0000,9,    341.8,2,   -999.0,9,     0.23,6,     2.07,6,     0.22,6, -999.000,9, -999.000,9, -999.000,9, -999.000,9, -999.000,9,   -999.0,9,   -999.0,9,   4.7851, 20060603,     1031
  18HU20060524, AR07W,   240,  1, 299521,     17,2,20060603,1000, 52.8385, -51.6050, 1169,      9.7,   4.4170,  34.0993,2,-999.0000,9,    361.1,2,    365.9,2,     0.00,6,     0.09,6,     0.09,6,    5.630,2,    3.140,2,    0.510,2,    7.160,2,    4.810,2,   2049.5,2,   2273.2,2,   4.4163, 20060603,     1032
  18HU20060524, AR07W,   240,  1, 299522,     18,2,20060603,1000, 52.8385, -51.6050, 1169,      3.2,   4.3847,  33.8646,2,-999.0000,9,    372.5,2,   -999.0,9,     0.45,6,     0.00,6,     0.08,6, -999.000,9, -999.000,9, -999.000,9, -999.000,9, -999.000,9,   -999.0,9,   -999.0,9,   4.3845, 20060603,     1033
  18HU20060524, AR07W,   243,  1, 299523,      1,2,20060603,1242, 52.7315, -51.9995,  310,    297.1,   2.8561,  34.5869,2,-999.0000,9,    288.6,2,    289.7,2,    10.89,6,    14.40,6,     1.02,6, -999.000,9, -999.000,9, -999.000,9, -999.000,9, -999.000,9,   -999.0,9,   -999.0,9,   2.8379, 20060603,     1242
  18HU20060524, AR07W,   243,  1, 299524,      2,2,20060603,1242, 52.7315, -51.9995,  310,    250.4,   2.4301,  34.4742,2,-999.0000,9,    292.1,2,    292.7,6,    10.45,6,    14.23,6,     1.00,6, -999.000,9, -999.000,9, -999.000,9, -999.000,9, -999.000,9,   -999.0,9,   -999.0,9,   2.4158, 20060603,     1244
  18HU20060524, AR07W,   243,  1, 299525,      3,2,20060603,1242, 52.7315, -51.9995,  310,    200.6,   2.0941,  34.3886,2,-999.0000,9,    293.2,2,    294.9,2,    10.44,6,    13.96,6,     1.04,6, -999.000,9, -999.000,9, -999.000,9, -999.000,9, -999.000,9,   -999.0,9,   -999.0,9,   2.0833, 20060603,     1245
  18HU20060524, AR07W,   243,  1, 299526,      4,2,20060603,1242, 52.7315, -51.9995,  310,    150.6,   1.6311,  34.2591,2,-999.0000,9,    298.0,2,    298.7,6,    10.23,6,    13.08,6,     1.00,6, -999.000,9, -999.000,9, -999.000,9, -999.000,9, -999.000,9,   -999.0,9,   -999.0,9,   1.6236, 20060603,     1246
  18HU20060524, AR07W,   243,  1, 299527,      5,2,20060603,1242, 52.7315, -51.9995,  310,    125.1,   1.4177,  34.2076,2,-999.0000,9,    296.8,2,    298.0,2,    10.57,6,    12.89,6,     1.01,6, -999.000,9, -999.000,9, -999.000,9, -999.000,9, -999.000,9,   -999.0,9,   -999.0,9,   1.4118, 20060603,     1247
  18HU20060524, AR07W,   243,  1, 299528,      6,2,20060603,1242, 52.7315, -51.9995,  310,    100.7,   0.9879,  34.0832,2,-999.0000,9,    303.8,2,    303.4,2,    10.24,6,    12.55,6,     0.99,6, -999.000,9, -999.000,9, -999.000,9, -999.000,9, -999.000,9,   -999.0,9,   -999.0,9,   0.9835, 20060603,     1248
  18HU20060524, AR07W,   243,  1, 299529,      7,2,20060603,1242, 52.7315, -51.9995,  310,     80.9,   0.2440,  33.9041,2,-999.0000,9,    308.4,2,   -999.0,9,    10.54,6,    11.80,6,     0.97,6, -999.000,9, -999.000,9, -999.000,9, -999.000,9, -999.000,9,   -999.0,9,   -999.0,9,   0.2410, 20060603,     1249
  18HU20060524, AR07W,   243,  1, 299530,      8,2,20060603,1242, 52.7315, -51.9995,  310,     59.7,   0.0415,  33.7706,2,-999.0000,9,    316.4,2,   -999.0,9,     9.77,6,    11.17,6,     0.94,6, -999.000,9, -999.000,9, -999.000,9, -999.000,9, -999.000,9,   -999.0,9,   -999.0,9,   0.0394, 20060603,     1250
  18HU20060524, AR07W,   243,  1, 299531,      9,2,20060603,1242, 52.7315, -51.9995,  310,     50.8,  -0.0836,  33.6985,2,-999.0000,9,    320.3,2,    321.3,2,     9.49,6,    10.82,6,     0.92,6, -999.000,9, -999.000,9, -999.000,9, -999.000,9, -999.000,9,   -999.0,9,   -999.0,9,  -0.0853, 20060603,     1250
  18HU20060524, AR07W,   243,  1, 299532,     10,2,20060603,1242, 52.7315, -51.9995,  310,     39.8,  -0.4675,  33.5653,2,-999.0000,9,    324.6,2,   -999.0,9,     8.97,6,    10.27,6,     0.90,6, -999.000,9, -999.000,9, -999.000,9, -999.000,9, -999.000,9,   -999.0,9,   -999.0,9,  -0.4687, 20060603,     1251
  18HU20060524, AR07W,   243,  1, 299533,     11,2,20060603,1242, 52.7315, -51.9995,  310,     29.1,  -1.0091,  33.3903,2,-999.0000,9,    339.5,2,   -999.0,9,     5.33,6,     8.14,6,     0.97,6, -999.000,9, -999.000,9, -999.000,9, -999.000,9, -999.000,9,   -999.0,9,   -999.0,9,  -1.0098, 20060603,     1252
  18HU20060524, AR07W,   243,  1, 299534,     12,2,20060603,1242, 52.7315, -51.9995,  310,     19.9,   1.1369,  32.9359,2,-999.0000,9,    355.5,2,   -999.0,9,  -999.00,9,  -999.00,9,  -999.00,9, -999.000,9, -999.000,9, -999.000,9, -999.000,9, -999.000,9,   -999.0,9,   -999.0,9,   1.1361, 20060603,     1253
  18HU20060524, AR07W,   243,  1, 299535,     13,2,20060603,1242, 52.7315, -51.9995,  310,     19.9,   1.1950,  32.9266,2,-999.0000,9,    355.6,2,   -999.0,9,     4.40,6,     4.38,6,     0.60,6, -999.000,9, -999.000,9, -999.000,9, -999.000,9, -999.000,9,   -999.0,9,   -999.0,9,   1.1942, 20060603,     1253
  18HU20060524, AR07W,   243,  1, 299536,     14,2,20060603,1242, 52.7315, -51.9995,  310,     10.3,   2.5946,  32.6311,2,-999.0000,9,    367.8,2,    369.7,2,     1.46,6,     0.00,6,     0.30,6, -999.000,9, -999.000,9, -999.000,9, -999.000,9, -999.000,9,   -999.0,9,   -999.0,9,   2.5941, 20060603,     1253
  18HU20060524, AR07W,   243,  1, 299537,     15,2,20060603,1242, 52.7315, -51.9995,  310,      2.5,   3.3134,  32.6171,2,-999.0000,9,    359.9,2,   -999.0,9,     1.45,6,     0.09,6,     0.32,6, -999.000,9, -999.000,9, -999.000,9, -999.000,9, -999.000,9,   -999.0,9,   -999.0,9,   3.3133, 20060603,     1254
  18HU20060524, AR07W,   243,  1, 299538,     16,2,20060603,1242, 52.7315, -51.9995,  310,      2.3,   3.2351,  32.6223,2,-999.0000,9,    360.8,2,   -999.0,9,  -999.00,9,  -999.00,9,  -999.00,9, -999.000,9, -999.000,9, -999.000,9, -999.000,9, -999.000,9,   -999.0,9,   -999.0,9,   3.2350, 20060603,     1254
  18HU20060524, AR07W,   243,  1, 299539,     17,2,20060603,1242, 52.7315, -51.9995,  310,      2.7,   3.2872,  32.6183,2,-999.0000,9,    360.2,2,   -999.0,9,  -999.00,9,  -999.00,9,  -999.00,9, -999.000,9, -999.000,9, -999.000,9, -999.000,9, -999.000,9,   -999.0,9,   -999.0,9,   3.2870, 20060603,     1254
  18HU20060524, AR07W,   243,  1, 299540,     18,2,20060603,1242, 52.7315, -51.9995,  310,      2.3,   3.3486,  32.6140,2,-999.0000,9,    360.0,2,   -999.0,9,  -999.00,9,  -999.00,9,  -999.00,9, -999.000,9, -999.000,9, -999.000,9, -999.000,9, -999.000,9,   -999.0,9,   -999.0,9,   3.3485, 20060603,     1254