BOTTLE,20120530PRINUNIVRMK
EXPOCODE,SECT_ID,STNNBR,CASTNO,SAMPNO,BTLNBR,BTLNBR_FLAG_W,DATE,TIME,LATITUDE,LONGITUDE,DEPTH,CTDPRS,CTDTMP,CTDSAL,CTDSAL_FLAG_W,SALNTY,SALNTY_FLAG_W,CTDOXY,CTDOXY_FLAG_W,OXYGEN,OXYGEN_FLAG_W,SILCAT,SILCAT_FLAG_W,NITRAT,NITRAT_FLAG_W,PHSPHT,PHSPHT_FLAG_W,CFC-11,CFC-11_FLAG_W,CFC-12,CFC-12_FLAG_W,CFC113,CFC113_FLAG_W,CCL4,CCL4_FLAG_W,MCHFRM,MCHFRM_FLAG_W,TCARBN,TCARBN_FLAG_W,ALKALI,ALKALI_FLAG_W,THETA,BTL_DATE,BTL_TIME
,,,,,,,,,,,METERS,DBAR,ITS-90,PSS-78,,PSS-78,,UMOL/KG,,UMOL/KG,,UMOL/KG,,UMOL/KG,,UMOL/KG,,PMOL/KG,,PMOL/KG,,PMOL/KG,,PMOL/KG,,PMOL/KG,,UMOL/KG,,UMOL/KG,,DEG C,,
  18HU20060524, AR07W,    20,  1, 298771,      1,2,20060526,1518, 53.9870, -55.2547,  151,    140.8,   1.0306,  34.0991,2,-999.0000,9,    291.8,2,    289.9,6,    11.14,6,    12.62,6,     1.07,6,    6.490,2,    3.330,2,    0.490,2,    6.000,2,    3.910,2,   2156.8,2,   2265.6,2,   1.0244, 20060526,     1518
  18HU20060524, AR07W,    20,  1, 298772,      2,2,20060526,1518, 53.9870, -55.2547,  151,    125.4,  -0.4769,  33.5840,2,-999.0000,9,    320.9,2,    322.0,2,     9.83,6,    10.50,6,     1.01,6,    6.930,2,    3.710,2,    0.530,2,    6.750,2,    4.150,2,   2136.8,2,   2247.9,2,  -0.4807, 20060526,     1519
  18HU20060524, AR07W,    20,  1, 298773,      3,2,20060526,1518, 53.9870, -55.2547,  151,    100.8,  -0.9067,  33.3782,2,-999.0000,9,    327.9,2,    329.0,2,     9.63,6,     9.80,6,     0.95,6,    6.690,2,    3.770,2,    0.550,2,    7.380,2,    4.310,2,   -999.0,9,   -999.0,9,  -0.9093, 20060526,     1520
  18HU20060524, AR07W,    20,  1, 298774,      4,2,20060526,1518, 53.9870, -55.2547,  151,     79.9,  -1.1533,  33.1864,2,-999.0000,9,    336.7,2,   -999.0,9,     9.33,6,     9.05,6,     0.93,6, -999.000,9, -999.000,9, -999.000,9, -999.000,9, -999.000,9,   -999.0,9,   -999.0,9,  -1.1551, 20060526,     1521
  18HU20060524, AR07W,    20,  1, 298775,      5,2,20060526,1518, 53.9870, -55.2547,  151,     59.5,  -1.3140,  33.0512,2,-999.0000,9,    339.6,2,   -999.0,9,     9.30,6,     8.59,6,     0.96,6, -999.000,9, -999.000,9, -999.000,9, -999.000,9, -999.000,9,   -999.0,9,   -999.0,9,  -1.3153, 20060526,     1522
  18HU20060524, AR07W,    20,  1, 298776,      6,2,20060526,1518, 53.9870, -55.2547,  151,     50.6,  -1.2405,  32.9236,2,-999.0000,9,    346.7,2,    348.3,2,     7.41,6,     7.57,6,     0.89,6,    7.090,2,    3.900,2,    0.620,2,    8.070,2,    3.970,2,   2111.2,2,   2248.2,2,  -1.2416, 20060526,     1523
  18HU20060524, AR07W,    20,  1, 298777,      7,2,20060526,1518, 53.9870, -55.2547,  151,     41.8,  -1.1819,  32.7795,2,-999.0000,9,    355.8,2,   -999.0,9,     3.87,6,     5.47,6,     0.79,6, -999.000,9, -999.000,9, -999.000,9, -999.000,9, -999.000,9,   -999.0,9,   -999.0,9,  -1.1828, 20060526,     1523
  18HU20060524, AR07W,    20,  1, 298778,      8,2,20060526,1518, 53.9870, -55.2547,  151,     29.0,  -1.1308,  32.6095,2,-999.0000,9,    385.3,2,   -999.0,9,     2.17,6,     1.13,6,     0.47,6, -999.000,9, -999.000,9, -999.000,9, -999.000,9, -999.000,9,   -999.0,9,   -999.0,9,  -1.1314, 20060526,     1524
  18HU20060524, AR07W,    20,  1, 298779,      9,2,20060526,1518, 53.9870, -55.2547,  151,     20.5,   1.4278,  32.1124,2,-999.0000,9,    384.0,2,   -999.0,9,     1.83,6,     0.00,6,     0.35,6, -999.000,9, -999.000,9, -999.000,9, -999.000,9, -999.000,9,   -999.0,9,   -999.0,9,   1.4269, 20060526,     1524
  18HU20060524, AR07W,    20,  1, 298780,     10,2,20060526,1518, 53.9870, -55.2547,  151,     10.9,   1.4595,  32.1149,2,-999.0000,9,    383.8,2,    385.6,2,     1.84,6,     0.00,6,     0.39,6,    6.960,2,    3.750,2,    0.620,2,    8.510,2,    3.130,2,   1990.2,2,   2187.8,2,   1.4590, 20060526,     1525
  18HU20060524, AR07W,    20,  1, 298781,     11,2,20060526,1518, 53.9870, -55.2547,  151,      4.0,   1.4596,  32.1156,2,-999.0000,9,    384.0,2,   -999.0,9,     1.83,6,     0.00,6,     0.36,6, -999.000,9, -999.000,9, -999.000,9, -999.000,9, -999.000,9,   -999.0,9,   -999.0,9,   1.4594, 20060526,     1525
  18HU20060524, AR07W,    27,  1, 298782,      1,2,20060526,1734, 54.2243, -55.0383,  170,    158.5,   1.5013,  34.2360,2,-999.0000,9,    275.1,2,    274.3,2,    10.58,6,    13.34,6,     1.13,6,    5.530,2,    3.020,2,    0.600,2,    7.910,2,   14.710,2,   2170.8,2,   2264.9,2,   1.4936, 20060526,     1734
  18HU20060524, AR07W,    27,  1, 298783,      2,2,20060526,1734, 54.2243, -55.0383,  170,    141.2,   0.1723,  33.8221,2,-999.0000,9,    307.9,2,    312.2,2,    10.35,6,    11.59,6,     0.96,6,    6.090,2,    3.300,2,    0.660,2,    9.010,2,   17.430,2,   2140.7,2,   2248.9,2,   0.1672, 20060526,     1734
  18HU20060524, AR07W,    27,  1, 298784,      3,2,20060526,1734, 54.2243, -55.0383,  170,    120.6,  -0.4512,  33.5946,2,-999.0000,9,    319.7,2,    321.6,2,     9.90,6,    10.80,6,     0.94,6,    6.140,2,    3.470,2,    0.710,2,    9.680,2,   17.210,2,   2134.3,2,   2243.0,3,  -0.4549, 20060526,     1735
  18HU20060524, AR07W,    27,  1, 298785,      4,2,20060526,1734, 54.2243, -55.0383,  170,     99.5,  -0.8291,  33.4462,2,-999.0000,9,    326.3,2,    327.2,2,    10.01,6,    10.17,6,     0.93,6,    6.480,2,    3.540,2,    0.730,2,    9.870,2,   17.280,2,   2127.7,2,   2248.2,2,  -0.8318, 20060526,     1736
  18HU20060524, AR07W,    27,  1, 298786,      5,2,20060526,1734, 54.2243, -55.0383,  170,     79.1,  -1.0761,  33.2784,2,-999.0000,9,    332.3,2,   -999.0,9,    10.43,6,     9.10,6,     0.93,6, -999.000,9, -999.000,9, -999.000,9, -999.000,9, -999.000,9,   -999.0,9,   -999.0,9,  -1.0780, 20060526,     1737
  18HU20060524, AR07W,    27,  1, 298787,      6,2,20060526,1734, 54.2243, -55.0383,  170,     60.1,  -1.2367,  33.0213,2,-999.0000,9,    343.6,2,   -999.0,9,     7.17,6,     7.30,6,     0.90,6, -999.000,9, -999.000,9, -999.000,9, -999.000,9, -999.000,9,   -999.0,9,   -999.0,9,  -1.2380, 20060526,     1738
  18HU20060524, AR07W,    27,  1, 298788,      7,2,20060526,1734, 54.2243, -55.0383,  170,     49.3,  -1.3894,  32.9481,2,-999.0000,9,    338.4,2,    337.5,2,     9.62,6,     7.90,6,     0.97,6,    6.700,2,    3.740,2,    0.830,2,   10.890,3,   17.770,2,   2120.6,2,   2224.9,2,  -1.3904, 20060526,     1739
  18HU20060524, AR07W,    27,  1, 298789,      8,2,20060526,1734, 54.2243, -55.0383,  170,     39.3,  -1.4532,  32.8659,2,-999.0000,9,    341.4,2,   -999.0,9,     9.11,6,     7.56,6,     0.89,6, -999.000,9, -999.000,9, -999.000,9, -999.000,9, -999.000,9,   -999.0,9,   -999.0,9,  -1.4540, 20060526,     1739
  18HU20060524, AR07W,    27,  1, 298790,      9,2,20060526,1734, 54.2243, -55.0383,  170,     30.7,  -0.8795,  32.7010,2,-999.0000,9,    356.2,2,   -999.0,9,     5.57,6,     4.50,6,     0.70,6, -999.000,9, -999.000,9, -999.000,9, -999.000,9, -999.000,9,   -999.0,9,   -999.0,9,  -0.8802, 20060526,     1740
  18HU20060524, AR07W,    27,  1, 298791,     10,2,20060526,1734, 54.2243, -55.0383,  170,     30.8,  -0.9335,  32.7013,2,-999.0000,9,    360.1,2,   -999.0,9,  -999.00,9,  -999.00,9,  -999.00,9, -999.000,9, -999.000,9, -999.000,9, -999.000,9, -999.000,9,   -999.0,9,   -999.0,9,  -0.9342, 20060526,     1740
  18HU20060524, AR07W,    27,  1, 298792,     11,2,20060526,1734, 54.2243, -55.0383,  170,     19.8,   1.2397,  32.3526,2,-999.0000,9,    388.6,2,   -999.0,9,     1.50,6,     0.00,6,     0.38,6, -999.000,9, -999.000,9, -999.000,9, -999.000,9, -999.000,9,   -999.0,9,   -999.0,9,   1.2389, 20060526,     1741
  18HU20060524, AR07W,    27,  1, 298793,     12,2,20060526,1734, 54.2243, -55.0383,  170,      9.0,   1.2370,  32.1759,2,-999.0000,9,    388.5,2,    389.3,2,     1.62,6,     0.00,6,     0.39,6,    6.810,2,    3.810,2,    0.790,2,   11.750,3,   12.630,2,   2000.2,2,   2186.3,2,   1.2366, 20060526,     1741
  18HU20060524, AR07W,    27,  1, 298794,     13,2,20060526,1734, 54.2243, -55.0383,  170,      2.6,   1.2314,  32.1590,2,-999.0000,9,    388.3,2,   -999.0,9,  -999.00,9,  -999.00,9,  -999.00,9, -999.000,9, -999.000,9, -999.000,9, -999.000,9, -999.000,9,   -999.0,9,   -999.0,9,   1.2313, 20060526,     1742
  18HU20060524, AR07W,    27,  1, 298795,     14,2,20060526,1734, 54.2243, -55.0383,  170,      5.3,   1.2323,  32.1603,2,-999.0000,9,    388.5,2,   -999.0,9,     1.60,6,     0.00,6,     0.37,6, -999.000,9, -999.000,9, -999.000,9, -999.000,9, -999.000,9,   -999.0,9,   -999.0,9,   1.2321, 20060526,     1742
  18HU20060524, AR07W,    33,  1, 298796,      1,2,20060526,2001, 54.5203, -54.7410,  198,    186.2,   0.6926,  34.0395,2,-999.0000,9,    301.4,2,    302.8,2,    11.04,6,    11.42,6,     1.03,6,    5.860,2,    3.340,2,    0.450,2,    6.080,2,    4.540,2,   2145.3,2,   2264.9,2,   0.6849, 20060526,     2001
  18HU20060524, AR07W,    33,  1, 298797,      2,2,20060526,2001, 54.5203, -54.7410,  198,    149.9,  -0.4415,  33.6933,2,-999.0000,9,    317.2,2,    318.6,2,    10.25,6,    10.33,6,     0.94,6,    6.340,2,    3.530,2,    0.560,2,    6.750,2,    4.750,2,   2132.9,2,   2254.0,2,  -0.4461, 20060526,     2002
  18HU20060524, AR07W,    33,  1, 298798,      3,2,20060526,2001, 54.5203, -54.7410,  198,    123.9,  -0.8466,  33.5121,2,-999.0000,9,    319.9,2,    320.6,2,    10.48,6,     9.97,6,     0.96,6,    6.510,2,    3.610,2,    0.540,2,    6.900,2,    4.900,2,   2132.5,2,   2240.9,2,  -0.8499, 20060526,     2004
  18HU20060524, AR07W,    33,  1, 298799,      4,2,20060526,2001, 54.5203, -54.7410,  198,    101.1,  -1.0694,  33.3251,2,-999.0000,9,    334.4,2,    337.2,2,     8.37,6,     8.59,6,     0.86,6,    6.670,2,    3.780,2,    0.600,2,    7.240,2,    4.580,2,   2110.7,2,   2241.7,2,  -1.0719, 20060526,     2005
  18HU20060524, AR07W,    33,  1, 298800,      5,2,20060526,2001, 54.5203, -54.7410,  198,     79.5,  -1.2870,  33.1809,2,-999.0000,9,    332.0,2,   -999.0,9,     8.53,6,     8.14,6,     0.88,6, -999.000,9, -999.000,9, -999.000,9, -999.000,9, -999.000,9,   -999.0,9,   -999.0,9,  -1.2887, 20060526,     2005
  18HU20060524, AR07W,    33,  1, 298801,      6,2,20060526,2001, 54.5203, -54.7410,  198,     60.5,  -1.3383,  33.0101,2,-999.0000,9,    333.8,2,   -999.0,9,     9.09,6,     7.87,6,     0.93,6, -999.000,9, -999.000,9, -999.000,9, -999.000,9, -999.000,9,   -999.0,9,   -999.0,9,  -1.3396, 20060526,     2006
  18HU20060524, AR07W,    33,  1, 298802,      7,2,20060526,2001, 54.5203, -54.7410,  198,     50.4,  -1.2525,  32.9455,2,-999.0000,9,    340.8,2,   -999.0,9,     7.50,6,     7.01,6,     0.90,6,    6.910,2,    3.810,2,    0.570,2,    7.500,2,    4.780,2,   2105.6,2,   2231.9,2,  -1.2536, 20060526,     2006
  18HU20060524, AR07W,    33,  1, 298803,      8,2,20060526,2001, 54.5203, -54.7410,  198,     39.1,  -1.1450,  32.8205,2,-999.0000,9,    354.2,2,   -999.0,9,     4.90,6,     5.18,6,     0.79,6, -999.000,9, -999.000,9, -999.000,9, -999.000,9, -999.000,9,   -999.0,9,   -999.0,9,  -1.1459, 20060526,     2007
  18HU20060524, AR07W,    33,  1, 298804,      9,2,20060526,2001, 54.5203, -54.7410,  198,     30.4,  -0.4818,  32.5341,2,-999.0000,9,    369.0,2,   -999.0,9,     4.42,6,     3.30,6,     0.64,6, -999.000,9, -999.000,9, -999.000,9, -999.000,9, -999.000,9,   -999.0,9,   -999.0,9,  -0.4826, 20060526,     2007
  18HU20060524, AR07W,    33,  1, 298805,     10,2,20060526,2001, 54.5203, -54.7410,  198,     19.8,   1.2414,  32.1612,2,-999.0000,9,    383.7,2,   -999.0,9,     2.21,6,     0.68,6,     0.44,6, -999.000,9, -999.000,9, -999.000,9, -999.000,9, -999.000,9,   -999.0,9,   -999.0,9,   1.2406, 20060526,     2008
  18HU20060524, AR07W,    33,  1, 298806,     11,2,20060526,2001, 54.5203, -54.7410,  198,      9.8,   1.8527,  32.0760,2,-999.0000,9,    382.9,2,    384.8,2,     1.46,6,     0.00,6,     0.33,6,    6.900,2,    3.840,2,    0.600,2,    8.430,2,    3.180,2,   1982.4,2,   2174.4,2,   1.8522, 20060526,     2008
  18HU20060524, AR07W,    33,  1, 298807,     12,2,20060526,2001, 54.5203, -54.7410,  198,      4.9,   1.8680,  32.0712,2,-999.0000,9,    382.6,2,   -999.0,9,     1.44,6,     0.00,6,     0.33,6, -999.000,9, -999.000,9, -999.000,9, -999.000,9, -999.000,9,   -999.0,9,   -999.0,9,   1.8678, 20060526,     2009
  18HU20060524, AR07W,    37,  1, 298808,      1,2,20060526,2208, 54.7628, -54.4867,  250,    235.5,   1.0073,  34.1243,2,  34.1228,6,    297.6,2,    298.7,2,    10.93,6,    12.62,6,     1.02,6,    5.530,2,    3.070,2,    1.350,3,    8.230,2,   17.430,2,   2150.0,2,   2273.8,3,   0.9968, 20060526,     2208
  18HU20060524, AR07W,    37,  1, 298809,      2,2,20060526,2208, 54.7628, -54.4867,  250,    200.6,   0.2563,  33.9341,2,  33.9355,2,    304.9,2,    305.7,2,    10.84,6,    12.02,6,     0.97,6,    5.780,2,    3.240,2,    1.080,3,    8.780,2,   19.240,2,   2143.8,2,   2260.2,2,   0.2487, 20060526,     2210
  18HU20060524, AR07W,    37,  1, 298810,      3,2,20060526,2208, 54.7628, -54.4867,  250,    150.0,  -0.5619,  33.6517,2,-999.0000,9,    315.5,2,   -999.0,9,  -999.00,9,  -999.00,9,  -999.00,9, -999.000,9, -999.000,9, -999.000,9, -999.000,9, -999.000,9,   -999.0,9,   -999.0,9,  -0.5664, 20060526,     2212
  18HU20060524, AR07W,    37,  1, 298811,      4,2,20060526,2208, 54.7628, -54.4867,  250,    124.7,  -0.9792,  33.4300,2,  33.4272,2,    322.2,2,    318.1,2,    10.33,6,     9.99,6,     1.00,6,    6.310,2,    3.560,2,    1.020,3,    9.720,2,   19.470,2,   2134.4,2,   2254.9,2,  -0.9824, 20060526,     2214
  18HU20060524, AR07W,    37,  1, 298812,      5,2,20060526,2208, 54.7628, -54.4867,  250,     98.6,  -1.1821,  33.2866,2,  33.2872,2,    326.1,2,    326.6,2,    10.02,6,     9.40,6,     0.93,6,    6.510,2,    3.650,2,    0.810,3,   10.100,3,   20.230,2,   2130.3,2,   2248.9,2,  -1.1844, 20060526,     2216
  18HU20060524, AR07W,    37,  1, 298813,      6,2,20060526,2208, 54.7628, -54.4867,  250,     80.3,  -1.2651,  33.1332,2,-999.0000,9,    329.8,2,   -999.0,9,    10.04,6,     9.04,6,     0.94,6, -999.000,9, -999.000,9, -999.000,9, -999.000,9, -999.000,9,   -999.0,9,   -999.0,9,  -1.2669, 20060526,     2217
  18HU20060524, AR07W,    37,  1, 298814,      7,2,20060526,2208, 54.7628, -54.4867,  250,     60.5,  -1.3488,  33.0137,2,-999.0000,9,    337.9,2,   -999.0,9,     9.24,6,     8.45,6,     0.91,6, -999.000,9, -999.000,9, -999.000,9, -999.000,9, -999.000,9,   -999.0,9,   -999.0,9,  -1.3501, 20060526,     2219
  18HU20060524, AR07W,    37,  1, 298815,      8,2,20060526,2208, 54.7628, -54.4867,  250,     48.9,  -1.4048,  32.9215,2,  32.9306,2,    343.1,2,    333.8,3,     8.50,6,     8.05,6,     0.90,6,    6.820,2,    3.870,2,    1.120,3,   11.270,3,   17.400,2,   2118.4,2,   2225.8,2,  -1.4058, 20060526,     2220
  18HU20060524, AR07W,    37,  1, 298816,      9,2,20060526,2208, 54.7628, -54.4867,  250,     39.8,  -1.5256,  32.8607,2,-999.0000,9,    342.9,2,   -999.0,9,     9.03,6,     8.03,6,     0.91,6, -999.000,9, -999.000,9, -999.000,9, -999.000,9, -999.000,9,   -999.0,9,   -999.0,9,  -1.5263, 20060526,     2221
  18HU20060524, AR07W,    37,  1, 298817,     10,2,20060526,2208, 54.7628, -54.4867,  250,     28.8,  -1.5126,  32.7958,2,-999.0000,9,    347.8,2,   -999.0,9,     7.25,6,     7.30,6,     0.89,6, -999.000,9, -999.000,9, -999.000,9, -999.000,9, -999.000,9,   -999.0,9,   -999.0,9,  -1.5131, 20060526,     2223
  18HU20060524, AR07W,    37,  1, 298818,     11,2,20060526,2208, 54.7628, -54.4867,  250,     18.9,   0.6367,  32.3055,2,-999.0000,9,    386.8,2,   -999.0,9,     1.59,6,     0.08,6,     0.35,6, -999.000,9, -999.000,9, -999.000,9, -999.000,9, -999.000,9,   -999.0,9,   -999.0,9,   0.6360, 20060526,     2224
  18HU20060524, AR07W,    37,  1, 298819,     12,2,20060526,2208, 54.7628, -54.4867,  250,      9.8,   1.7514,  32.1610,2,  32.1650,2,    386.4,2,    369.0,3,     1.50,6,     0.00,6,     0.38,6,    6.710,2,    3.840,2,    1.110,3,   11.940,3,   14.160,2,   1988.4,2,   2195.1,2,   1.7510, 20060526,     2225
  18HU20060524, AR07W,    37,  1, 298820,     13,2,20060526,2208, 54.7628, -54.4867,  250,      3.8,   1.7543,  32.1621,2,-999.0000,9,    386.0,2,   -999.0,9,  -999.00,9,  -999.00,9,  -999.00,9, -999.000,9, -999.000,9, -999.000,9, -999.000,9, -999.000,9,   -999.0,9,   -999.0,9,   1.7541, 20060526,     2227