BOTTLE,20120530PRINUNIVRMK
EXPOCODE,SECT_ID,STNNBR,CASTNO,SAMPNO,BTLNBR,BTLNBR_FLAG_W,DATE,TIME,LATITUDE,LONGITUDE,DEPTH,CTDPRS,CTDTMP,CTDSAL,CTDSAL_FLAG_W,SALNTY,SALNTY_FLAG_W,CTDOXY,CTDOXY_FLAG_W,OXYGEN,OXYGEN_FLAG_W,SILCAT,SILCAT_FLAG_W,NITRAT,NITRAT_FLAG_W,PHSPHT,PHSPHT_FLAG_W,CFC-11,CFC-11_FLAG_W,CFC-12,CFC-12_FLAG_W,CFC113,CFC113_FLAG_W,CCL4,CCL4_FLAG_W,MCHFRM,MCHFRM_FLAG_W,TCARBN,TCARBN_FLAG_W,ALKALI,ALKALI_FLAG_W,THETA,BTL_DATE,BTL_TIME
,,,,,,,,,,,METERS,DBAR,ITS-90,PSS-78,,PSS-78,,UMOL/KG,,UMOL/KG,,UMOL/KG,,UMOL/KG,,UMOL/KG,,PMOL/KG,,PMOL/KG,,PMOL/KG,,PMOL/KG,,PMOL/KG,,UMOL/KG,,UMOL/KG,,DEG C,,
  18HU20060524, AR07W,   229,  1, 299435,      1,2,20060602,1717, 53.4513, -49.5028, 3748,   3737.5,   1.6250,  34.8776,2,  34.8768,2,    295.5,2,    292.8,2,    10.70,6,    13.47,6,     0.98,6, -999.000,9, -999.000,9, -999.000,9, -999.000,9, -999.000,9,   -999.0,9,   -999.0,9,   1.3297, 20060602,     1717
  18HU20060524, AR07W,   229,  1, 299436,      2,2,20060602,1717, 53.4513, -49.5028, 3748,   3630.4,   1.7125,  34.8795,2,  34.8782,2,    294.8,2,    293.8,2,    10.10,6,    13.60,6,     0.97,6, -999.000,9, -999.000,9, -999.000,9, -999.000,9, -999.000,9,   -999.0,9,   -999.0,9,   1.4262, 20060602,     1721
  18HU20060524, AR07W,   229,  1, 299437,      3,2,20060602,1717, 53.4513, -49.5028, 3748,   3522.6,   1.9332,  34.8839,2,  34.8835,2,    291.3,2,    286.7,6,    10.57,6,    13.96,6,     0.98,6, -999.000,9, -999.000,9, -999.000,9, -999.000,9, -999.000,9,   -999.0,9,   -999.0,9,   1.6526, 20060602,     1724
  18HU20060524, AR07W,   229,  1, 299438,      4,2,20060602,1717, 53.4513, -49.5028, 3748,   3390.9,   2.1720,  34.8945,2,  34.8933,2,    281.6,2,    281.5,2,    14.90,6,    15.35,6,     1.07,6, -999.000,9, -999.000,9, -999.000,9, -999.000,9, -999.000,9,   -999.0,9,   -999.0,9,   1.8993, 20060602,     1727
  18HU20060524, AR07W,   229,  1, 299439,      5,2,20060602,1717, 53.4513, -49.5028, 3748,   3260.8,   2.2860,  34.8959,2,  34.8943,2,    283.0,2,    283.5,2,    12.79,6,    15.02,6,     1.05,6, -999.000,9, -999.000,9, -999.000,9, -999.000,9, -999.000,9,   -999.0,9,   -999.0,9,   2.0242, 20060602,     1731
  18HU20060524, AR07W,   229,  1, 299440,      6,2,20060602,1717, 53.4513, -49.5028, 3748,   3103.0,   2.4544,  34.9072,2,  34.9060,6,    276.5,2,    276.5,2,    15.06,6,    15.75,6,     1.10,6, -999.000,9, -999.000,9, -999.000,9, -999.000,9, -999.000,9,   -999.0,9,   -999.0,9,   2.2050, 20060602,     1735
  18HU20060524, AR07W,   229,  1, 299441,      7,2,20060602,1717, 53.4513, -49.5028, 3748,   2982.0,   2.5856,  34.9167,2,  34.9159,2,    274.1,2,    275.2,6,    15.08,6,    15.99,6,     1.10,6, -999.000,9, -999.000,9, -999.000,9, -999.000,9, -999.000,9,   -999.0,9,   -999.0,9,   2.3457, 20060602,     1737
  18HU20060524, AR07W,   229,  1, 299442,      8,2,20060602,1717, 53.4513, -49.5028, 3748,   2848.2,   2.6909,  34.9217,2,  34.9212,2,    273.7,2,    275.7,2,    14.47,6,    16.23,6,     1.10,6, -999.000,9, -999.000,9, -999.000,9, -999.000,9, -999.000,9,   -999.0,9,   -999.0,9,   2.4623, 20060602,     1740
  18HU20060524, AR07W,   229,  1, 299443,      9,2,20060602,1717, 53.4513, -49.5028, 3748,   2599.6,   2.8294,  34.9159,2,  34.9147,2,    273.8,2,    277.4,2,    13.37,6,    15.43,6,     1.09,6, -999.000,9, -999.000,9, -999.000,9, -999.000,9, -999.000,9,   -999.0,9,   -999.0,9,   2.6229, 20060602,     1744
  18HU20060524, AR07W,   229,  1, 299444,     10,2,20060602,1717, 53.4513, -49.5028, 3748,   2290.7,   3.0032,  34.9101,2,  34.9094,2,    273.8,2,    277.7,2,    12.35,6,    15.52,6,     1.10,6, -999.000,9, -999.000,9, -999.000,9, -999.000,9, -999.000,9,   -999.0,9,   -999.0,9,   2.8236, 20060602,     1749
  18HU20060524, AR07W,   229,  1, 299445,     11,2,20060602,1717, 53.4513, -49.5028, 3748,   2039.8,   3.1192,  34.9012,2,-999.0000,9,    274.9,2,   -999.0,9,  -999.00,9,  -999.00,9,  -999.00,9, -999.000,9, -999.000,9, -999.000,9, -999.000,9, -999.000,9,   -999.0,9,   -999.0,9,   2.9613, 20060602,     1753
  18HU20060524, AR07W,   229,  1, 299446,     12,2,20060602,1717, 53.4513, -49.5028, 3748,   1790.3,   3.2387,  34.8953,2,  34.8949,6,    274.9,2,    279.1,2,    11.34,6,    15.94,6,     1.11,6, -999.000,9, -999.000,9, -999.000,9, -999.000,9, -999.000,9,   -999.0,9,   -999.0,9,   3.1018, 20060602,     1757
  18HU20060524, AR07W,   229,  1, 299447,     13,2,20060602,1717, 53.4513, -49.5028, 3748,   1550.7,   3.4152,  34.8998,2,  34.8996,2,    272.0,2,    276.0,6,    11.08,6,    16.00,6,     1.12,6, -999.000,9, -999.000,9, -999.000,9, -999.000,9, -999.000,9,   -999.0,9,   -999.0,9,   3.2974, 20060602,     1801
  18HU20060524, AR07W,   229,  1, 299448,     14,2,20060602,1717, 53.4513, -49.5028, 3748,   1290.7,   3.5178,  34.8906,2,  34.8898,2,    273.8,2,    278.0,2,    10.36,6,    15.81,6,     1.11,6, -999.000,9, -999.000,9, -999.000,9, -999.000,9, -999.000,9,   -999.0,9,   -999.0,9,   3.4213, 20060602,     1806
  18HU20060524, AR07W,   229,  1, 299449,     15,2,20060602,1717, 53.4513, -49.5028, 3748,   1071.7,   3.5490,  34.8767,2,  34.8760,2,    279.1,2,    282.9,2,     9.66,6,    15.55,6,     1.10,6, -999.000,9, -999.000,9, -999.000,9, -999.000,9, -999.000,9,   -999.0,9,   -999.0,9,   3.4704, 20060602,     1810
  18HU20060524, AR07W,   229,  1, 299450,     16,2,20060602,1717, 53.4513, -49.5028, 3748,    800.2,   3.7021,  34.8797,2,  34.8784,2,    277.2,2,    281.8,2,     9.46,6,    15.70,6,     1.10,6, -999.000,9, -999.000,9, -999.000,9, -999.000,9, -999.000,9,   -999.0,9,   -999.0,9,   3.6441, 20060602,     1815
  18HU20060524, AR07W,   229,  1, 299451,     17,2,20060602,1717, 53.4513, -49.5028, 3748,    690.8,   3.7841,  34.8817,2,  34.8812,2,    276.3,2,    280.8,2,     9.29,6,    15.70,6,     1.11,6, -999.000,9, -999.000,9, -999.000,9, -999.000,9, -999.000,9,   -999.0,9,   -999.0,9,   3.7342, 20060602,     1817
  18HU20060524, AR07W,   229,  1, 299452,     18,2,20060602,1717, 53.4513, -49.5028, 3748,    510.5,   3.7485,  34.8586,2,  34.8625,2,    278.4,2,    287.9,3,     8.87,6,    15.64,6,     1.08,6, -999.000,9, -999.000,9, -999.000,9, -999.000,9, -999.000,9,   -999.0,9,   -999.0,9,   3.7125, 20060602,     1821
  18HU20060524, AR07W,   229,  1, 299453,     19,2,20060602,1717, 53.4513, -49.5028, 3748,    359.4,   4.1370,  34.8743,2,  34.8723,2,    266.4,2,    270.3,2,     9.32,6,    16.17,6,     1.12,6, -999.000,9, -999.000,9, -999.000,9, -999.000,9, -999.000,9,   -999.0,9,   -999.0,9,   4.1109, 20060602,     1824
  18HU20060524, AR07W,   229,  1, 299454,     20,2,20060602,1717, 53.4513, -49.5028, 3748,    239.0,   3.9449,  34.7673,2,-999.0000,9,    273.0,2,    283.2,6,     8.79,6,    15.25,6,     1.09,6, -999.000,9, -999.000,9, -999.000,9, -999.000,9, -999.000,9,   -999.0,9,   -999.0,9,   3.9282, 20060602,     1827
  18HU20060524, AR07W,   229,  1, 299455,     21,2,20060602,1717, 53.4513, -49.5028, 3748,    140.5,   4.4131,  34.6810,2,-999.0000,9,    286.2,2,   -999.0,9,     7.35,6,    13.55,6,     1.00,6, -999.000,9, -999.000,9, -999.000,9, -999.000,9, -999.000,9,   -999.0,9,   -999.0,9,   4.4029, 20060602,     1829
  18HU20060524, AR07W,   229,  1, 299456,     22,2,20060602,1717, 53.4513, -49.5028, 3748,     69.0,   5.1714,  34.6356,2,-999.0000,9,    300.5,2,    304.7,2,     5.99,6,     9.07,6,     0.81,6, -999.000,9, -999.000,9, -999.000,9, -999.000,9, -999.000,9,   -999.0,9,   -999.0,9,   5.1660, 20060602,     1831
  18HU20060524, AR07W,   229,  1, 299457,     23,2,20060602,1717, 53.4513, -49.5028, 3748,     35.7,   6.3113,  34.5835,2,-999.0000,9,    303.8,2,   -999.0,9,     2.48,6,     5.57,6,     0.51,6, -999.000,9, -999.000,9, -999.000,9, -999.000,9, -999.000,9,   -999.0,9,   -999.0,9,   6.3082, 20060602,     1833
  18HU20060524, AR07W,   229,  1, 299458,     24,2,20060602,1717, 53.4513, -49.5028, 3748,      3.4,   6.4095,  34.5799,2,-999.0000,9,    306.7,2,    311.0,2,     2.56,6,     5.44,6,     0.50,6, -999.000,9, -999.000,9, -999.000,9, -999.000,9, -999.000,9,   -999.0,9,   -999.0,9,   6.4092, 20060602,     1834
  18HU20060524, AR07W,   233,  1, 299459,      1,2,20060602,2241, 53.2313, -50.2620, 3270,   3392.9,   1.6033,  34.8796,2,  34.8786,2,    295.8,2,    294.6,2,    10.15,6,    13.37,6,     0.98,6,    4.270,2,    2.230,2,    0.360,2,    7.110,2,   48.310,4,   2161.9,3,   2287.8,2,   1.3443, 20060602,     2241
  18HU20060524, AR07W,   233,  1, 299460,      2,2,20060602,2241, 53.2313, -50.2620, 3270,   3329.9,   1.5987,  34.8794,2,  34.8786,2,    295.4,2,    -21.9,4,    10.17,6,    13.69,6,     0.97,6,    4.400,2,    2.260,2,    0.360,2,    7.310,2,   51.070,4,   2158.6,2,   2296.5,2,   1.3462, 20060602,     2242
  18HU20060524, AR07W,   233,  1, 299461,      3,2,20060602,2241, 53.2313, -50.2620, 3270,   3260.0,   1.7051,  34.8806,2,  34.8794,2,    293.9,2,    293.7,2,    10.20,6,    13.90,6,     1.01,6,    4.200,2,    2.200,2,    0.360,2,    7.110,2,   50.570,4,   2155.6,2,   2291.5,2,   1.4571, 20060602,     2245
  18HU20060524, AR07W,   233,  1, 299462,      4,2,20060602,2241, 53.2313, -50.2620, 3270,   3170.4,   1.9707,  34.8866,2,  34.8855,2,    290.2,2,    290.6,2,    10.51,6,    14.24,6,     0.99,6,    3.860,2,    2.000,2,    0.320,2,    6.600,2,   47.620,4,   2159.0,2,   2313.9,2,   1.7255, 20060602,     2247
  18HU20060524, AR07W,   233,  1, 299463,      5,2,20060602,2241, 53.2313, -50.2620, 3270,   3070.2,   2.2078,  34.8928,2,  34.8921,2,    285.0,2,    285.7,2,    11.91,6,    14.81,6,     1.03,6,    3.490,2,    1.770,2,    0.270,2,    6.080,2,   49.230,4,   2159.2,2,   2318.2,2,   1.9673, 20060602,     2249
  18HU20060524, AR07W,   233,  1, 299464,      6,2,20060602,2241, 53.2313, -50.2620, 3270,   2960.3,   2.4375,  34.9015,2,  34.8997,6,    281.3,2,    281.9,2,    12.67,6,    15.23,6,     1.06,6,    3.220,2,    1.600,2,    0.230,2,    5.650,2,   47.970,4,   2160.5,2,   2306.5,2,   2.2031, 20060602,     2251
  18HU20060524, AR07W,   233,  1, 299465,      7,2,20060602,2241, 53.2313, -50.2620, 3270,   2840.5,   2.6168,  34.9082,2,  34.9056,6,    278.7,2,    280.0,2,    12.39,6,    15.46,6,     1.08,6,    3.040,2,    1.520,2,    0.220,2,    5.280,2,   46.050,4,   2161.3,2,   2323.8,2,   2.3906, 20060602,     2253
  18HU20060524, AR07W,   233,  1, 299466,      8,2,20060602,2241, 53.2313, -50.2620, 3270,   2660.7,   2.7848,  34.9131,2,  34.9108,2,    276.0,2,    277.5,2,    12.53,6,    15.86,6,     1.09,6,    2.900,2,    1.360,2,    0.190,2,    5.040,2,   47.330,4,   2158.5,2,   2315.2,2,   2.5732, 20060602,     2257
  18HU20060524, AR07W,   233,  1, 299467,      9,2,20060602,2241, 53.2313, -50.2620, 3270,   2439.1,   2.9494,  34.9122,2,  34.9096,2,    274.6,2,    276.9,2,    12.44,6,    16.20,6,     1.11,6,    2.800,2,    1.350,2,    0.170,2,    5.020,2,   49.420,4,   2158.5,2,   2296.4,2,   2.7564, 20060602,     2300
  18HU20060524, AR07W,   233,  1, 299468,     10,2,20060602,2241, 53.2313, -50.2620, 3270,   2210.0,   3.0679,  34.9048,2,  34.9024,2,    275.2,2,    277.7,2,    11.82,6,    16.49,6,     1.11,6,    3.000,2,    1.430,2,    0.200,2,    5.230,2,   54.510,4,   2158.4,2,   2294.9,2,   2.8949, 20060602,     2304
  18HU20060524, AR07W,   233,  1, 299469,     11,2,20060602,2241, 53.2313, -50.2620, 3270,   1971.0,   3.1685,  34.8960,2,-999.0000,9,    276.1,2,   -999.0,9,  -999.00,9,  -999.00,9,  -999.00,9, -999.000,9, -999.000,9, -999.000,9, -999.000,9, -999.000,9,   -999.0,9,   -999.0,9,   3.0162, 20060602,     2309
  18HU20060524, AR07W,   233,  1, 299470,     12,2,20060602,2241, 53.2313, -50.2620, 3270,   1732.2,   3.3040,  34.8959,2,  34.8955,2,    274.3,2,    277.7,2,    11.09,6,    16.94,6,     1.13,6,    3.500,2,    1.720,2,    0.260,2,    5.980,2,   63.420,4,   2160.8,2,   2321.3,2,   3.1715, 20060602,     2313
  18HU20060524, AR07W,   233,  1, 299471,     13,2,20060602,2241, 53.2313, -50.2620, 3270,   1501.8,   3.4551,  34.8975,2,  34.8953,2,    272.6,2,    275.2,2,    10.74,6,    17.07,6,     1.14,6,    3.730,2,    1.870,2,    0.280,2,    6.160,2,   61.620,4,   2162.0,2,   2305.7,2,   3.3411, 20060602,     2317
  18HU20060524, AR07W,   233,  1, 299472,     14,2,20060602,2241, 53.2313, -50.2620, 3270,   1280.2,   3.5105,  34.8856,2,  34.8831,2,    275.2,2,    279.7,2,    10.14,6,    16.76,6,     1.13,6,    4.180,2,    2.190,2,    0.320,2,    6.660,2,   54.250,4,   2161.5,2,   2298.8,2,   3.4149, 20060602,     2321
  18HU20060524, AR07W,   233,  1, 299473,     15,2,20060602,2241, 53.2313, -50.2620, 3270,   1073.2,   3.5627,  34.8785,2,  34.8764,2,    277.3,2,    280.7,2,     9.73,6,    16.73,6,     1.12,6,    4.390,2,    2.300,2,    0.410,2,    7.140,2,   48.910,4,   2162.2,2,   2314.7,2,   3.4838, 20060602,     2327
  18HU20060524, AR07W,   233,  1, 299474,     16,2,20060602,2241, 53.2313, -50.2620, 3270,    870.1,   3.5795,  34.8655,2,  34.8629,2,    287.1,2,    290.5,2,     8.66,6,    16.04,6,     1.07,6,    4.940,2,    2.700,2,    0.440,2,    8.300,2,   38.470,2,   2158.9,2,   2302.3,2,   3.5168, 20060602,     2332
  18HU20060524, AR07W,   233,  1, 299475,     17,2,20060602,2241, 53.2313, -50.2620, 3270,    679.8,   3.6681,  34.8682,2,  34.8656,2,    288.3,2,    291.6,2,     8.47,6,    16.06,6,     1.05,6,    4.950,2,    2.780,2,    0.460,2,    8.490,2,   35.780,2,   2156.9,2,   2320.7,2,   3.6197, 20060602,     2335
  18HU20060524, AR07W,   233,  1, 299476,     18,2,20060602,2241, 53.2313, -50.2620, 3270,    509.8,   3.6764,  34.8599,2,  34.8572,2,    289.8,2,    293.0,2,     8.30,6,    16.01,6,     1.03,6,    4.920,2,    2.720,2,    0.470,2,    8.450,2,   29.290,2,   2157.2,2,   2319.0,2,   3.6407, 20060602,     2338
  18HU20060524, AR07W,   233,  1, 299477,     19,2,20060602,2241, 53.2313, -50.2620, 3270,    360.6,   3.6739,  34.8408,2,  34.8379,2,    289.6,2,    293.0,2,     8.41,6,    15.19,6,     1.04,6,    5.070,2,    2.840,2,    0.480,2,    8.820,2,   30.570,2,   2155.8,2,   2299.9,2,   3.6491, 20060602,     2342
  18HU20060524, AR07W,   233,  1, 299478,     20,2,20060602,2241, 53.2313, -50.2620, 3270,    240.4,   3.4639,  34.7647,2,-999.0000,9,    298.5,2,    302.0,2,     8.46,6,    14.65,6,     1.02,6,    5.290,2,    2.980,2,    0.500,2,    9.490,2,   26.480,2,   2152.8,2,   2300.5,2,   3.4480, 20060602,     2346
  18HU20060524, AR07W,   233,  1, 299479,     21,2,20060602,2241, 53.2313, -50.2620, 3270,    141.9,   3.8491,  34.7135,2,-999.0000,9,    279.4,2,    282.9,2,     8.57,6,    15.20,6,     1.06,6,    4.840,2,    2.700,2,    0.470,2,    8.260,2,   24.440,2,   2156.0,2,   2296.8,2,   3.8394, 20060602,     2348
  18HU20060524, AR07W,   233,  1, 299480,     22,2,20060602,2241, 53.2313, -50.2620, 3270,     70.7,   4.9990,  34.6737,2,-999.0000,9,    276.7,2,    292.4,6,     7.39,6,    13.86,6,     0.97,6,    4.770,2,    2.670,2,    0.460,2,    8.490,2,   18.810,2,   2146.9,2,   2284.4,2,   4.9936, 20060602,     2350
  18HU20060524, AR07W,   233,  1, 299481,     23,2,20060602,2241, 53.2313, -50.2620, 3270,     34.9,   6.7105,  34.5635,2,-999.0000,9,    300.2,2,   -999.0,9,     1.97,6,     5.02,6,     0.44,6,    6.280,2,    2.760,2,    0.490,2,    8.660,2,   15.450,2,   2095.0,2,   2289.2,2,   6.7074, 20060602,     2351
  18HU20060524, AR07W,   233,  1, 299482,     24,2,20060602,2241, 53.2313, -50.2620, 3270,      3.1,   6.0249,  34.2874,2,-999.0000,9,    349.9,2,    355.6,2,     0.29,6,     0.73,6,     0.13,6,    5.220,2,    2.920,2,    0.550,2,    9.850,2,   17.590,2,   2059.5,2,   2288.8,2,   6.0246, 20060602,     2352