BOTTLE,20120530PRINUNIVRMK
EXPOCODE,SECT_ID,STNNBR,CASTNO,SAMPNO,BTLNBR,BTLNBR_FLAG_W,DATE,TIME,LATITUDE,LONGITUDE,DEPTH,CTDPRS,CTDTMP,CTDSAL,CTDSAL_FLAG_W,SALNTY,SALNTY_FLAG_W,CTDOXY,CTDOXY_FLAG_W,OXYGEN,OXYGEN_FLAG_W,SILCAT,SILCAT_FLAG_W,NITRAT,NITRAT_FLAG_W,PHSPHT,PHSPHT_FLAG_W,CFC-11,CFC-11_FLAG_W,CFC-12,CFC-12_FLAG_W,CFC113,CFC113_FLAG_W,CCL4,CCL4_FLAG_W,MCHFRM,MCHFRM_FLAG_W,TCARBN,TCARBN_FLAG_W,ALKALI,ALKALI_FLAG_W,THETA,BTL_DATE,BTL_TIME
,,,,,,,,,,,METERS,DBAR,ITS-90,PSS-78,,PSS-78,,UMOL/KG,,UMOL/KG,,UMOL/KG,,UMOL/KG,,UMOL/KG,,PMOL/KG,,PMOL/KG,,PMOL/KG,,PMOL/KG,,PMOL/KG,,UMOL/KG,,UMOL/KG,,DEG C,,
  18HU20060524, AR07W,   211,  1, 299319,      1,2,20060531,0853, 60.1785, -48.6770, 2804,    200.0,   4.5738,  34.9351,2,-999.0000,9,    289.1,2,   -999.0,9,     7.51,6,    14.73,6,     1.04,6, -999.000,9, -999.000,9, -999.000,9, -999.000,9, -999.000,9,   -999.0,9,   -999.0,9,   4.5588, 20060531,      853
  18HU20060524, AR07W,   211,  1, 299320,      2,2,20060531,0853, 60.1785, -48.6770, 2804,    149.6,   4.6586,  34.9356,2,-999.0000,9,    287.2,2,   -999.0,9,     7.37,6,    14.65,6,     1.02,6, -999.000,9, -999.000,9, -999.000,9, -999.000,9, -999.000,9,   -999.0,9,   -999.0,9,   4.6474, 20060531,      855
  18HU20060524, AR07W,   211,  1, 299321,      3,2,20060531,0853, 60.1785, -48.6770, 2804,     99.6,   4.1202,  34.7726,2,-999.0000,9,    298.3,2,   -999.0,9,     5.88,6,    12.59,6,     0.93,6, -999.000,9, -999.000,9, -999.000,9, -999.000,9, -999.000,9,   -999.0,9,   -999.0,9,   4.1132, 20060531,      857
  18HU20060524, AR07W,   211,  1, 299322,      4,2,20060531,0853, 60.1785, -48.6770, 2804,     80.6,   4.0955,  34.6771,2,-999.0000,9,    308.5,2,   -999.0,9,     4.56,6,    10.08,6,     0.79,6, -999.000,9, -999.000,9, -999.000,9, -999.000,9, -999.000,9,   -999.0,9,   -999.0,9,   4.0899, 20060531,      858
  18HU20060524, AR07W,   211,  1, 299323,      5,2,20060531,0853, 60.1785, -48.6770, 2804,     59.9,   4.2626,  34.4585,2,-999.0000,9,    325.5,2,   -999.0,9,     1.83,6,     3.94,6,     0.44,6, -999.000,9, -999.000,9, -999.000,9, -999.000,9, -999.000,9,   -999.0,9,   -999.0,9,   4.2584, 20060531,      858
  18HU20060524, AR07W,   211,  1, 299324,      6,2,20060531,0853, 60.1785, -48.6770, 2804,     49.3,   4.3136,  34.4143,2,-999.0000,9,    329.2,2,   -999.0,9,     1.43,6,     2.93,6,     0.38,6, -999.000,9, -999.000,9, -999.000,9, -999.000,9, -999.000,9,   -999.0,9,   -999.0,9,   4.3101, 20060531,      859
  18HU20060524, AR07W,   211,  1, 299325,      7,2,20060531,0853, 60.1785, -48.6770, 2804,     39.4,   4.3143,  34.4012,2,-999.0000,9,    331.0,2,   -999.0,9,     1.36,6,     2.73,6,     0.35,6, -999.000,9, -999.000,9, -999.000,9, -999.000,9, -999.000,9,   -999.0,9,   -999.0,9,   4.3115, 20060531,      900
  18HU20060524, AR07W,   211,  1, 299326,      8,2,20060531,0853, 60.1785, -48.6770, 2804,     29.7,   4.3491,  34.3950,2,-999.0000,9,    331.8,2,   -999.0,9,     1.41,6,     2.65,6,     0.33,6, -999.000,9, -999.000,9, -999.000,9, -999.000,9, -999.000,9,   -999.0,9,   -999.0,9,   4.3470, 20060531,      900
  18HU20060524, AR07W,   211,  1, 299327,      9,2,20060531,0853, 60.1785, -48.6770, 2804,     30.0,   4.3602,  34.3944,2,-999.0000,9,    332.4,2,   -999.0,9,  -999.00,9,  -999.00,9,  -999.00,9, -999.000,9, -999.000,9, -999.000,9, -999.000,9, -999.000,9,   -999.0,9,   -999.0,9,   4.3581, 20060531,      900
  18HU20060524, AR07W,   211,  1, 299328,     10,2,20060531,0853, 60.1785, -48.6770, 2804,     19.5,   4.3766,  34.3938,2,-999.0000,9,    332.0,2,   -999.0,9,     1.43,6,     2.60,6,     0.34,6, -999.000,9, -999.000,9, -999.000,9, -999.000,9, -999.000,9,   -999.0,9,   -999.0,9,   4.3752, 20060531,      901
  18HU20060524, AR07W,   211,  1, 299329,     11,2,20060531,0853, 60.1785, -48.6770, 2804,     10.2,   4.3774,  34.3939,2,-999.0000,9,    332.3,2,   -999.0,9,  -999.00,9,  -999.00,9,  -999.00,9, -999.000,9, -999.000,9, -999.000,9, -999.000,9, -999.000,9,   -999.0,9,   -999.0,9,   4.3767, 20060531,      902
  18HU20060524, AR07W,   211,  1, 299330,     12,2,20060531,0853, 60.1785, -48.6770, 2804,      2.6,   4.3790,  34.3941,2,-999.0000,9,    332.2,2,   -999.0,9,     1.48,6,     2.61,6,     0.33,6, -999.000,9, -999.000,9, -999.000,9, -999.000,9, -999.000,9,   -999.0,9,   -999.0,9,   4.3788, 20060531,      902
  18HU20060524, AR07W,   211,  1, 299331,     13,2,20060531,0853, 60.1785, -48.6770, 2804,      2.9,   4.3790,  34.3942,2,-999.0000,9,    332.3,2,   -999.0,9,  -999.00,9,  -999.00,9,  -999.00,9, -999.000,9, -999.000,9, -999.000,9, -999.000,9, -999.000,9,   -999.0,9,   -999.0,9,   4.3788, 20060531,      902
  18HU20060524, AR07W,   211,  1, 299332,     14,2,20060531,0853, 60.1785, -48.6770, 2804,      2.7,   4.3821,  34.3941,2,-999.0000,9,    332.5,2,   -999.0,9,  -999.00,9,  -999.00,9,  -999.00,9, -999.000,9, -999.000,9, -999.000,9, -999.000,9, -999.000,9,   -999.0,9,   -999.0,9,   4.3819, 20060531,      902
  18HU20060524, AR07W,   211,  1, 299333,     15,2,20060531,0853, 60.1785, -48.6770, 2804,      2.7,   4.3828,  34.3938,2,-999.0000,9,    332.4,2,   -999.0,9,  -999.00,9,  -999.00,9,  -999.00,9, -999.000,9, -999.000,9, -999.000,9, -999.000,9, -999.000,9,   -999.0,9,   -999.0,9,   4.3826, 20060531,      902
  18HU20060524, AR07W,   212,  1, 299334,      1,2,20060531,1027, 60.1750, -48.6760, 2841,   2892.9,   2.2247,  34.9005,2,  34.8984,2,    286.8,2,    483.9,3,    10.90,6,    14.32,6,     0.99,6,    3.450,2,    1.890,2,    0.240,2,    4.710,2,    9.480,2,   2162.2,2,   2325.2,2,   2.0015, 20060531,     1027
  18HU20060524, AR07W,   212,  1, 299335,      2,2,20060531,1027, 60.1750, -48.6760, 2841,   2830.7,   2.2231,  34.9006,2,  34.8980,2,    286.1,2,    287.8,2,    11.15,6,    14.39,6,     1.00,6,    6.620,3,    2.390,2,    0.330,2,    6.030,2,   12.910,2,   2159.8,2,   2353.4,4,   2.0061, 20060531,     1029
  18HU20060524, AR07W,   212,  1, 299336,      3,2,20060531,1027, 60.1750, -48.6760, 2841,   2760.4,   2.3337,  34.9033,2,  34.9018,2,    283.1,2,    253.9,3,    12.11,6,    14.70,6,     1.02,6,    4.260,2,    2.160,2,    0.250,2,    5.780,2,   13.560,2,   2159.2,2,   2327.6,2,   2.1213, 20060531,     1031
  18HU20060524, AR07W,   212,  1, 299337,      4,2,20060531,1027, 60.1750, -48.6760, 2841,   2660.0,   2.4656,  34.9095,2,  34.9071,2,    280.2,2,    280.6,2,    12.47,6,    14.97,6,     1.03,6,    2.810,2,    1.490,2,    0.160,2,    3.890,2,    8.820,2,   2160.4,2,   2331.0,2,   2.2603, 20060531,     1033
  18HU20060524, AR07W,   212,  1, 299338,      5,2,20060531,1027, 60.1750, -48.6760, 2841,   2539.4,   2.5915,  34.9143,2,  34.9121,6,    278.1,2,    279.1,2,    12.43,6,    15.28,6,     1.04,6,    4.080,2,    2.230,2,    0.260,2,    5.600,2,   13.910,2,   2162.0,2,   2321.7,2,   2.3954, 20060531,     1036
  18HU20060524, AR07W,   212,  1, 299339,      6,2,20060531,1027, 60.1750, -48.6760, 2841,   2400.2,   2.7448,  34.9152,2,  34.9140,6,    277.0,2,    279.0,2,    11.92,6,    15.35,6,     1.05,6,    3.990,2,    1.990,2,    0.210,2,    5.320,2,   14.460,2,   2158.9,2,   2330.1,2,   2.5592, 20060531,     1038
  18HU20060524, AR07W,   212,  1, 299340,      7,2,20060531,1027, 60.1750, -48.6760, 2841,   2240.2,   2.8967,  34.9127,2,  34.9112,2,    276.2,2,    162.9,3,    11.42,6,    15.47,6,     1.08,6,    3.590,2,    1.860,2,    0.230,2,    4.910,2,   13.020,2,   2158.4,2,   2312.8,3,   2.7236, 20060531,     1041
  18HU20060524, AR07W,   212,  1, 299341,      8,2,20060531,1027, 60.1750, -48.6760, 2841,   2061.5,   3.0483,  34.9113,2,  34.9098,2,    276.1,2,    277.9,2,    10.82,6,    15.55,6,     1.06,6,    4.590,2,    2.470,2,    0.270,2,    6.070,2,   16.000,2,   2157.3,2,   2315.8,2,   2.8894, 20060531,     1044
  18HU20060524, AR07W,   212,  1, 299342,      9,2,20060531,1027, 60.1750, -48.6760, 2841,   1861.1,   3.1442,  34.9036,2,  34.9020,2,    276.5,2,    279.1,2,    10.54,6,    15.93,6,     1.12,6,    4.490,2,    2.330,2,    0.280,2,    6.020,2,   17.460,2,   2156.0,2,   2321.6,2,   3.0023, 20060531,     1047
  18HU20060524, AR07W,   212,  1, 299343,     10,2,20060531,1027, 60.1750, -48.6760, 2841,   1659.7,   3.3198,  34.9066,2,  34.9049,2,    274.8,2,    277.1,2,    10.28,6,    15.84,6,     1.07,6,    4.520,2,    2.290,2,    0.280,2,    5.940,2,   16.870,2,   2157.0,2,   2322.4,2,   3.1935, 20060531,     1050
  18HU20060524, AR07W,   212,  1, 299344,     11,2,20060531,1027, 60.1750, -48.6760, 2841,   1459.1,   3.5123,  34.9115,2,  34.9098,2,    272.0,2,    275.6,6,    10.21,6,    15.86,6,     1.08,6,    5.430,2,    2.690,2,    0.400,2,    6.850,2,   18.060,2,   2160.9,2,   2293.8,4,   3.4013, 20060531,     1054
  18HU20060524, AR07W,   212,  1, 299345,     12,2,20060531,1027, 60.1750, -48.6760, 2841,   1260.2,   3.5762,  34.9023,2,  34.9006,2,    272.7,2,    276.7,2,     9.87,6,    16.43,6,     1.08,6,    5.130,2,    2.630,2,    0.370,2,    6.560,2,   15.210,2,   2161.3,2,   2317.8,2,   3.4816, 20060531,     1057
  18HU20060524, AR07W,   212,  1, 299346,     13,2,20060531,1027, 60.1750, -48.6760, 2841,   1060.6,   3.5537,  34.8757,2,  34.8737,2,    282.0,2,    285.1,2,     9.02,6,    16.16,6,     1.07,6,    6.140,2,    3.490,2,    0.510,2,    7.840,2,   13.070,2,   2159.1,2,   2334.8,2,   3.4760, 20060531,     1100
  18HU20060524, AR07W,   212,  1, 299347,     14,2,20060531,1027, 60.1750, -48.6760, 2841,    879.7,   3.7666,  34.8924,2,  34.8908,2,    278.9,2,    282.5,2,     8.85,6,    15.86,6,     1.05,6,    6.040,2,    3.290,2,    0.470,2,    7.800,2,   12.480,2,   2159.5,2,   2321.2,2,   3.7018, 20060531,     1105
  18HU20060524, AR07W,   212,  1, 299348,     15,2,20060531,1027, 60.1750, -48.6760, 2841,    719.8,   3.9998,  34.9036,2,  34.9016,2,    280.4,2,    284.1,2,  -999.00,9,  -999.00,9,  -999.00,9,    0.000,4,    0.000,4,    0.000,4,    0.000,4,    0.000,4,   2160.8,2,   2326.8,2,   3.9464, 20060531,     1108
  18HU20060524, AR07W,   212,  1, 299349,     16,2,20060531,1027, 60.1750, -48.6760, 2841,    579.1,   4.0942,  34.9010,2,  34.8994,2,    292.4,2,    296.7,2,     8.04,6,    15.24,6,     1.02,6,    5.540,3,    3.710,2,    0.470,2,    7.360,2,    7.610,2,   2154.6,3,   2314.7,2,   4.0514, 20060531,     1110
  18HU20060524, AR07W,   212,  1, 299350,     17,2,20060531,1027, 60.1750, -48.6760, 2841,    461.9,   4.2076,  34.9090,2,  34.9071,2,    290.6,2,    297.2,2,     7.75,6,    15.06,6,     1.01,6,    6.390,2,    3.580,2,    0.530,2,    8.860,2,    8.110,2,   2157.0,2,   2316.9,2,   4.1735, 20060531,     1114
  18HU20060524, AR07W,   212,  1, 299351,     18,2,20060531,1027, 60.1750, -48.6760, 2841,    339.8,   4.3674,  34.9187,2,  34.9169,2,    291.6,2,    295.8,2,     7.72,6,    14.93,6,     0.99,6,    1.790,3,    1.100,3,    0.130,3,    2.500,3,    1.380,3,   2156.2,2,   2341.4,4,   4.3422, 20060531,     1117
  18HU20060524, AR07W,   212,  1, 299352,     19,2,20060531,1027, 60.1750, -48.6760, 2841,    240.8,   4.5805,  34.9364,2,-999.0000,9,    288.0,2,    292.2,2,  -999.00,9,  -999.00,9,  -999.00,9,    5.650,2,    3.290,2,    0.460,2,    7.730,2,    6.200,2,   2155.7,2,   2318.5,2,   4.5624, 20060531,     1119
  18HU20060524, AR07W,   212,  1, 299353,     20,2,20060531,1027, 60.1750, -48.6760, 2841,    141.0,   4.2247,  34.8332,2,-999.0000,9,    298.1,2,    302.4,2,     6.78,6,    13.64,6,     0.96,6,    6.720,2,    3.820,2,    0.590,2,    9.390,2,    7.190,2,   2147.6,2,   2294.8,3,   4.2146, 20060531,     1121
  18HU20060524, AR07W,   212,  1, 299354,     21,2,20060531,1027, 60.1750, -48.6760, 2841,     80.6,   4.1003,  34.6183,2,-999.0000,9,    313.5,2,    317.0,2,     3.79,6,     8.63,6,     0.70,6,    5.380,2,    3.130,2,    0.530,2,    7.070,2,    5.800,2,   2108.5,2,   2317.7,2,   4.0947, 20060531,     1123
  18HU20060524, AR07W,   212,  1, 299355,     22,2,20060531,1027, 60.1750, -48.6760, 2841,     36.1,   4.3462,  34.4093,2,-999.0000,9,    330.6,2,    335.0,2,     1.36,6,     3.02,6,     0.33,6,    7.220,2,    4.090,2,    0.660,2,   10.670,3,    5.910,2,   2056.9,2,   2306.5,2,   4.3436, 20060531,     1124
  18HU20060524, AR07W,   212,  1, 299356,     23,2,20060531,1027, 60.1750, -48.6760, 2841,      2.6,   4.3993,  34.3916,2,-999.0000,9,    331.1,2,    327.8,2,     1.41,6,     2.99,6,     0.33,6,    0.000,4,    0.000,4,    0.000,4,    0.000,4,    0.000,4,   2058.9,2,   2291.0,2,   4.3991, 20060531,     1125
  18HU20060524, AR07W,   218,  1, 299357,      1,2,20060531,1900, 59.7502, -49.1653, 3267,   3256.7,   1.6211,  34.8900,2,  34.8880,2,    296.4,2,    297.3,2,     8.88,6,    13.63,6,     0.92,6,    3.390,2,    1.860,2,    0.310,2,    3.520,2,    6.930,2,   2160.4,2,   2327.6,2,   1.3754, 20060531,     1900
  18HU20060524, AR07W,   218,  1, 299358,      2,2,20060531,1900, 59.7502, -49.1653, 3267,   3200.7,   1.6212,  34.8903,2,  34.8880,2,    296.2,2,    296.8,2,     8.79,6,    13.56,6,     0.96,6,    4.420,2,    2.390,2,    0.380,2,    5.380,2,   13.800,2,   2159.5,3,   2323.7,2,   1.3810, 20060531,     1902
  18HU20060524, AR07W,   218,  1, 299359,      3,2,20060531,1900, 59.7502, -49.1653, 3267,   3120.4,   1.8166,  34.8927,2,  34.8902,2,    293.8,2,    294.4,2,     8.79,6,    13.81,6,     0.93,6,    4.260,2,    2.270,2,    0.370,2,    5.210,2,   13.310,2,   2157.6,2,   2316.6,2,   1.5799, 20060531,     1904
  18HU20060524, AR07W,   218,  1, 299360,      4,2,20060531,1900, 59.7502, -49.1653, 3267,   3020.1,   2.1165,  34.8964,2,  34.8923,2,    288.3,2,    289.0,2,    10.51,6,    14.39,6,     0.97,6,    0.000,4,    0.000,4,    0.000,4,    0.000,2,    0.000,2,   2158.2,2,   2332.5,2,   1.8831, 20060531,     1906
  18HU20060524, AR07W,   218,  1, 299361,      5,2,20060531,1900, 59.7502, -49.1653, 3267,   2901.5,   2.3358,  34.9007,2,  34.8986,2,    281.8,2,    282.9,2,    12.44,6,    15.17,6,     1.01,6,    3.240,2,    1.630,2,    0.260,2,    4.070,2,   12.960,2,   2157.7,2,   2323.7,2,   2.1094, 20060531,     1908
  18HU20060524, AR07W,   218,  1, 299362,      6,2,20060531,1900, 59.7502, -49.1653, 3267,   2772.0,   2.5380,  34.9087,2,  34.9074,6,    278.8,2,    280.4,2,    12.44,6,    15.44,6,     1.02,6,    3.060,2,    1.500,2,    0.220,2,    3.920,2,   13.050,2,   2159.6,2,   2331.0,2,   2.3202, 20060531,     1910
  18HU20060524, AR07W,   218,  1, 299363,      7,2,20060531,1900, 59.7502, -49.1653, 3267,   2621.1,   2.7056,  34.9127,2,  34.9112,2,    277.4,2,    279.5,2,    11.89,6,    15.45,6,     1.02,6,    3.080,2,    1.560,2,    0.220,2,    3.890,2,   13.470,2,   2160.5,2,   2324.6,2,   2.4994, 20060531,     1913
  18HU20060524, AR07W,   218,  1, 299364,      8,2,20060531,1900, 59.7502, -49.1653, 3267,   2461.6,   2.8455,  34.9124,2,  34.9102,6,    277.1,2,    279.0,2,    11.33,6,    15.52,6,     1.02,6,    3.270,2,    1.680,2,    0.250,2,    4.120,2,   14.260,2,   2159.8,2,   2326.5,2,   2.6522, 20060531,     1916
  18HU20060524, AR07W,   218,  1, 299365,      9,2,20060531,1900, 59.7502, -49.1653, 3267,   2261.3,   2.9788,  34.9110,2,  34.9092,2,    276.2,2,    279.2,2,    10.94,6,    15.67,6,     1.03,6,    3.350,2,    1.700,2,    0.250,2,    4.160,2,   14.680,2,   2158.8,2,   2345.2,3,   2.8024, 20060531,     1920
  18HU20060524, AR07W,   218,  1, 299366,     10,2,20060531,1900, 59.7502, -49.1653, 3267,   2061.0,   3.1315,  34.9077,2,  34.9057,2,    275.4,2,    279.0,2,    10.66,6,    15.87,6,     1.03,6,    3.480,2,    1.770,2,    0.270,2,    4.290,2,   15.940,2,   2158.9,2,   2328.9,2,   2.9714, 20060531,     1924
  18HU20060524, AR07W,   218,  1, 299367,     11,2,20060531,1900, 59.7502, -49.1653, 3267,   1849.3,   3.2645,  34.9043,2,  34.9030,2,    274.8,2,    278.6,2,    10.36,6,    16.14,6,     1.03,6,    3.660,2,    1.870,2,    0.290,2,    4.450,2,   17.090,2,   2157.7,2,   2336.7,2,   3.1219, 20060531,     1927
  18HU20060524, AR07W,   218,  1, 299368,     12,2,20060531,1900, 59.7502, -49.1653, 3267,   1640.1,   3.4904,  34.9122,2,  34.9112,2,    271.7,2,    275.8,2,    10.24,6,    16.24,6,     1.04,6,    3.780,2,    1.940,2,    0.300,2,    4.510,2,   16.380,2,   2160.6,2,   2311.3,2,   3.3637, 20060531,     1931
  18HU20060524, AR07W,   218,  1, 299369,     13,2,20060531,1900, 59.7502, -49.1653, 3267,   1429.9,   3.5545,  34.8954,2,  34.8868,2,    273.9,2,    277.7,6,     9.98,6,    16.37,6,     1.05,6,    4.130,2,    2.210,2,    0.350,2,    4.750,2,   15.070,2,   2160.2,2,   2312.3,2,   3.4457, 20060531,     1934
  18HU20060524, AR07W,   218,  1, 299370,     14,2,20060531,1900, 59.7502, -49.1653, 3267,   1230.1,   3.6299,  34.8876,2,  34.8594,2,    277.7,2,    281.7,2,     9.28,6,    16.04,6,     1.03,6,    5.360,3,    2.440,2,    0.390,2,    5.310,2,   13.260,2,   2159.4,2,   2338.5,3,   3.5375, 20060531,     1937
  18HU20060524, AR07W,   218,  1, 299371,     15,2,20060531,1900, 59.7502, -49.1653, 3267,   1029.9,   3.5240,  34.8610,2,  34.8635,2,    289.8,2,    294.3,2,     8.37,6,    15.59,6,     1.00,6,    4.950,2,    2.770,2,    0.470,2,    6.180,2,   10.150,2,   2148.3,4,   2321.3,2,   3.4490, 20060531,     1941
  18HU20060524, AR07W,   218,  1, 299372,     16,2,20060531,1900, 59.7502, -49.1653, 3267,    841.2,   3.5917,  34.8651,2,  34.8621,2,    290.2,2,    294.2,2,     8.31,6,    15.48,6,     0.99,6,    5.700,3,    2.800,2,    0.460,2,    6.120,2,    9.340,2,   2156.1,2,   2313.8,2,   3.5312, 20060531,     1944
  18HU20060524, AR07W,   218,  1, 299373,     17,2,20060531,1900, 59.7502, -49.1653, 3267,    659.0,   3.6341,  34.8637,2,  34.8615,2,    292.2,2,    297.2,2,     8.00,6,    15.24,6,     0.98,6,    4.940,2,    2.830,2,    0.480,2,    6.130,2,    8.150,2,   2155.1,2,   2323.5,2,   3.5874, 20060531,     1948
  18HU20060524, AR07W,   218,  1, 299374,     18,2,20060531,1900, 59.7502, -49.1653, 3267,    330.2,   4.0641,  34.8959,2,  34.8937,2,    292.6,2,    297.4,2,     7.84,6,    15.04,6,     0.98,6,    4.910,2,    2.790,2,    0.480,2,    6.350,2,    7.660,2,   2153.9,2,   2313.3,2,   4.0404, 20060531,     1953
  18HU20060524, AR07W,   218,  1, 299375,     19,2,20060531,1900, 59.7502, -49.1653, 3267,    210.1,   4.3861,  34.9191,2,  34.9175,2,    289.4,2,    294.8,2,     7.79,6,    15.07,6,     0.97,6,    4.820,2,    2.760,2,    0.470,2,    6.080,2,    7.040,2,   2153.6,2,   2306.8,2,   4.3707, 20060531,     1956
  18HU20060524, AR07W,   218,  1, 299376,     20,2,20060531,1900, 59.7502, -49.1653, 3267,    170.2,   4.4612,  34.9231,2,-999.0000,9,    288.9,2,    293.6,2,     7.74,6,    15.06,6,     0.97,6,    3.060,3,    1.830,3,    0.330,3,    3.070,2,    2.200,2,   2153.0,2,   2327.2,3,   4.4487, 20060531,     1957
  18HU20060524, AR07W,   218,  1, 299377,     21,2,20060531,1900, 59.7502, -49.1653, 3267,    110.3,   4.3983,  34.8999,2,-999.0000,9,    290.2,2,    294.5,2,     7.47,6,    14.80,6,     0.97,6,    4.840,2,    2.770,2,    0.470,2,    6.160,2,    6.650,2,   2151.3,2,   2313.9,2,   4.3903, 20060531,     1959
  18HU20060524, AR07W,   218,  1, 299378,     22,2,20060531,1900, 59.7502, -49.1653, 3267,     49.6,   4.1997,  34.8311,2,-999.0000,9,    297.0,2,    302.5,2,     6.38,6,    13.41,6,     0.89,6,    5.100,2,    2.940,2,    0.500,2,    6.550,2,    6.280,2,   2143.8,2,   2314.4,2,   4.1962, 20060531,     2000
  18HU20060524, AR07W,   218,  1, 299379,     23,2,20060531,1900, 59.7502, -49.1653, 3267,     24.8,   4.6701,  34.7093,2,-999.0000,9,    331.3,2,    337.9,2,     2.06,6,     6.43,6,     0.41,6,    3.410,3,    2.070,3,    0.380,3,    3.690,2,    1.620,2,   -999.0,9,   -999.0,9,   4.6683, 20060531,     2001
  18HU20060524, AR07W,   218,  1, 299380,     24,2,20060531,1900, 59.7502, -49.1653, 3267,      3.0,   5.3581,  34.6979,2,-999.0000,9,    275.4,4,    333.5,2,     2.12,6,     6.28,6,     0.44,6,    5.330,2,    3.050,2,    0.560,2,    7.450,2,    5.620,2,   2093.9,2,   2307.0,2,   5.3579, 20060531,     2002