BOTTLE,20120530PRINUNIVRMK
EXPOCODE,SECT_ID,STNNBR,CASTNO,SAMPNO,BTLNBR,BTLNBR_FLAG_W,DATE,TIME,LATITUDE,LONGITUDE,DEPTH,CTDPRS,CTDTMP,CTDSAL,CTDSAL_FLAG_W,SALNTY,SALNTY_FLAG_W,CTDOXY,CTDOXY_FLAG_W,OXYGEN,OXYGEN_FLAG_W,SILCAT,SILCAT_FLAG_W,NITRAT,NITRAT_FLAG_W,PHSPHT,PHSPHT_FLAG_W,CFC-11,CFC-11_FLAG_W,CFC-12,CFC-12_FLAG_W,CFC113,CFC113_FLAG_W,CCL4,CCL4_FLAG_W,MCHFRM,MCHFRM_FLAG_W,TCARBN,TCARBN_FLAG_W,ALKALI,ALKALI_FLAG_W,THETA,BTL_DATE,BTL_TIME
,,,,,,,,,,,METERS,DBAR,ITS-90,PSS-78,,PSS-78,,UMOL/KG,,UMOL/KG,,UMOL/KG,,UMOL/KG,,UMOL/KG,,PMOL/KG,,PMOL/KG,,PMOL/KG,,PMOL/KG,,PMOL/KG,,UMOL/KG,,UMOL/KG,,DEG C,,
  18HU20060524, AR07W,   194,  1, 299265,      1,2,20060530,1716, 60.4478, -48.3608,  135,    139.9,   1.6177,  34.1450,2,-999.0000,9,    321.5,2,    322.0,2,     4.18,6,     9.02,6,     0.73,6,    5.970,2,    3.240,2,    0.540,2,    7.710,2,   15.350,2,   2105.0,3,   2262.8,2,   1.6108, 20060530,     1716
  18HU20060524, AR07W,   194,  1, 299266,      2,2,20060530,1716, 60.4478, -48.3608,  135,    100.2,   1.4796,  34.1043,2,-999.0000,9,    323.0,2,    324.0,2,     4.00,6,     8.76,6,     0.71,6,    6.000,2,    3.290,2,    0.580,2,    7.750,2,   15.180,2,   2105.0,2,   2284.3,3,   1.4748, 20060530,     1718
  18HU20060524, AR07W,   194,  1, 299267,      3,2,20060530,1716, 60.4478, -48.3608,  135,     80.7,   1.3871,  34.0727,2,-999.0000,9,    325.4,2,    326.7,6,     3.79,6,     8.49,6,     0.69,6,    6.050,2,    3.300,2,    0.610,2,    7.780,2,   15.400,2,   2105.1,2,   2305.0,2,   1.3833, 20060530,     1719
  18HU20060524, AR07W,   194,  1, 299268,      4,2,20060530,1716, 60.4478, -48.3608,  135,     58.9,   1.3109,  34.0372,2,-999.0000,9,    328.9,2,   -999.0,9,     3.39,6,     7.82,6,     0.66,6, -999.000,9, -999.000,9, -999.000,9, -999.000,9, -999.000,9,   -999.0,9,   -999.0,9,   1.3082, 20060530,     1720
  18HU20060524, AR07W,   194,  1, 299269,      5,2,20060530,1716, 60.4478, -48.3608,  135,     49.6,   1.3366,  34.0274,2,-999.0000,9,    331.7,2,    333.4,2,     3.10,6,     7.47,6,     0.63,6,    6.050,2,    3.320,2,    0.650,2,    7.750,2,   14.720,2,   2099.7,2,   2227.8,2,   1.3343, 20060530,     1720
  18HU20060524, AR07W,   194,  1, 299270,      6,2,20060530,1716, 60.4478, -48.3608,  135,     38.8,   1.3892,  34.0106,2,-999.0000,9,    337.6,2,   -999.0,9,     2.84,6,     6.70,6,     0.61,6, -999.000,9, -999.000,9, -999.000,9, -999.000,9, -999.000,9,   -999.0,9,   -999.0,9,   1.3874, 20060530,     1721
  18HU20060524, AR07W,   194,  1, 299271,      7,2,20060530,1716, 60.4478, -48.3608,  135,     29.7,   1.4092,  34.0018,2,-999.0000,9,    340.6,2,   -999.0,9,     2.76,6,     6.40,6,     0.55,6, -999.000,9, -999.000,9, -999.000,9, -999.000,9, -999.000,9,   -999.0,9,   -999.0,9,   1.4078, 20060530,     1721
  18HU20060524, AR07W,   194,  1, 299272,      8,2,20060530,1716, 60.4478, -48.3608,  135,     18.8,   1.4250,  33.9584,2,-999.0000,9,    346.4,2,   -999.0,9,     2.59,6,     5.78,6,     0.53,6, -999.000,9, -999.000,9, -999.000,9, -999.000,9, -999.000,9,   -999.0,9,   -999.0,9,   1.4241, 20060530,     1722
  18HU20060524, AR07W,   194,  1, 299273,      9,2,20060530,1716, 60.4478, -48.3608,  135,     10.3,   1.4653,  33.9354,2,-999.0000,9,    348.1,2,    349.6,2,     2.41,6,     5.44,6,     0.50,6,    6.240,2,    3.420,2,    0.720,2,    8.290,2,   14.780,2,   2084.6,2,   2236.1,2,   1.4648, 20060530,     1722
  18HU20060524, AR07W,   194,  1, 299274,     10,2,20060530,1716, 60.4478, -48.3608,  135,      2.4,   1.4869,  33.9254,2,-999.0000,9,    349.1,2,   -999.0,9,     2.56,6,     5.22,6,     0.49,6, -999.000,9, -999.000,9, -999.000,9, -999.000,9, -999.000,9,   -999.0,9,   -999.0,9,   1.4868, 20060530,     1723
  18HU20060524, AR07W,   196,  1, 299275,      1,2,20060530,1826, 60.5673, -48.2300,  135,    122.4,   1.7981,  34.1437,2,-999.0000,9,    325.8,2,    327.7,2,     3.94,6,     8.33,6,     0.69,6, -999.000,9, -999.000,9, -999.000,9, -999.000,9, -999.000,9,   2108.3,2,   2236.5,2,   1.7919, 20060530,     1826
  18HU20060524, AR07W,   196,  1, 299276,      2,2,20060530,1826, 60.5673, -48.2300,  135,     99.5,   1.7675,  34.1368,2,-999.0000,9,    325.8,2,   -999.0,9,  -999.00,9,  -999.00,9,  -999.00,9, -999.000,9, -999.000,9, -999.000,9, -999.000,9, -999.000,9,   -999.0,9,   -999.0,9,   1.7625, 20060530,     1826
  18HU20060524, AR07W,   196,  1, 299277,      3,2,20060530,1826, 60.5673, -48.2300,  135,     78.6,   1.7615,  34.1358,2,-999.0000,9,    325.7,2,    327.9,6,     3.82,6,     8.49,6,     0.68,6,    5.840,2,    3.190,2,    0.650,2,    7.500,2,   14.070,2,   2106.8,2,   2258.1,2,   1.7576, 20060530,     1827
  18HU20060524, AR07W,   196,  1, 299278,      4,2,20060530,1826, 60.5673, -48.2300,  135,     60.3,   1.7607,  34.1358,2,-999.0000,9,    325.9,2,   -999.0,9,     3.88,6,     8.43,6,     0.69,6, -999.000,9, -999.000,9, -999.000,9, -999.000,9, -999.000,9,   -999.0,9,   -999.0,9,   1.7577, 20060530,     1828
  18HU20060524, AR07W,   196,  1, 299279,      5,2,20060530,1826, 60.5673, -48.2300,  135,     50.5,   1.7634,  34.1353,2,-999.0000,9,    325.7,2,    328.9,2,     3.65,6,     8.97,6,     0.69,6,    6.080,2,    3.160,2,    0.620,2,    7.420,2,   13.860,2,   2106.0,3,   2242.9,2,   1.7609, 20060530,     1829
  18HU20060524, AR07W,   196,  1, 299280,      6,2,20060530,1826, 60.5673, -48.2300,  135,     40.7,   1.7115,  34.0986,2,-999.0000,9,    329.4,2,   -999.0,9,     3.53,6,     8.25,6,     0.64,6, -999.000,9, -999.000,9, -999.000,9, -999.000,9, -999.000,9,   -999.0,9,   -999.0,9,   1.7095, 20060530,     1829
  18HU20060524, AR07W,   196,  1, 299281,      7,2,20060530,1826, 60.5673, -48.2300,  135,     30.8,   1.5547,  34.0516,2,-999.0000,9,    331.8,2,   -999.0,9,     3.44,6,     8.12,6,     0.63,6, -999.000,9, -999.000,9, -999.000,9, -999.000,9, -999.000,9,   -999.0,9,   -999.0,9,   1.5532, 20060530,     1830
  18HU20060524, AR07W,   196,  1, 299282,      8,2,20060530,1826, 60.5673, -48.2300,  135,     19.2,   1.4557,  34.0252,2,-999.0000,9,    332.0,2,   -999.0,9,     3.58,6,     8.12,6,     0.64,6, -999.000,9, -999.000,9, -999.000,9, -999.000,9, -999.000,9,   -999.0,9,   -999.0,9,   1.4548, 20060530,     1830
  18HU20060524, AR07W,   196,  1, 299283,      9,2,20060530,1826, 60.5673, -48.2300,  135,     10.4,   1.4902,  34.0218,2,-999.0000,9,    332.0,2,    333.3,2,     3.60,6,     7.94,6,     0.64,6,    5.980,2,    3.280,2,    0.670,2,    7.760,2,   14.400,2,   2099.2,2,   2217.8,2,   1.4897, 20060530,     1831
  18HU20060524, AR07W,   196,  1, 299284,     10,2,20060530,1826, 60.5673, -48.2300,  135,      3.4,   1.4930,  34.0190,2,-999.0000,9,    333.0,2,   -999.0,9,     3.71,6,     7.82,6,     0.63,6, -999.000,9, -999.000,9, -999.000,9, -999.000,9, -999.000,9,   -999.0,9,   -999.0,9,   1.4928, 20060530,     1832
  18HU20060524, AR07W,   198,  1, 299285,      1,2,20060530,2032, 60.8345, -48.7488,  125,    134.9,   0.8577,  33.8830,2,-999.0000,9,    329.6,2,    332.2,2,     3.62,6,     7.82,6,     0.66,6, -999.000,9, -999.000,9, -999.000,9, -999.000,9, -999.000,9,   -999.0,9,   -999.0,9,   0.8520, 20060530,     2032
  18HU20060524, AR07W,   198,  1, 299286,      2,2,20060530,2032, 60.8345, -48.7488,  125,    100.5,   0.7610,  33.8559,2,-999.0000,9,    329.6,2,    330.7,2,     3.48,6,     7.80,6,     0.68,6, -999.000,9, -999.000,9, -999.000,9, -999.000,9, -999.000,9,   -999.0,9,   -999.0,9,   0.7569, 20060530,     2033
  18HU20060524, AR07W,   198,  1, 299287,      3,2,20060530,2032, 60.8345, -48.7488,  125,     80.6,   0.7021,  33.8400,2,-999.0000,9,    330.2,2,    331.3,6,     3.64,6,     7.28,6,     0.68,6, -999.000,9, -999.000,9, -999.000,9, -999.000,9, -999.000,9,   -999.0,9,   -999.0,9,   0.6989, 20060530,     2034
  18HU20060524, AR07W,   198,  1, 299288,      4,2,20060530,2032, 60.8345, -48.7488,  125,     60.8,   0.5435,  33.7474,2,-999.0000,9,    335.6,2,   -999.0,9,     3.10,6,     6.18,6,     0.59,6, -999.000,9, -999.000,9, -999.000,9, -999.000,9, -999.000,9,   -999.0,9,   -999.0,9,   0.5412, 20060530,     2034
  18HU20060524, AR07W,   198,  1, 299289,      5,2,20060530,2032, 60.8345, -48.7488,  125,     49.7,   0.5102,  33.6405,2,-999.0000,9,    352.7,2,    353.6,2,     1.82,6,     4.18,6,     0.49,6, -999.000,9, -999.000,9, -999.000,9, -999.000,9, -999.000,9,   -999.0,9,   -999.0,9,   0.5083, 20060530,     2035
  18HU20060524, AR07W,   198,  1, 299290,      6,2,20060530,2032, 60.8345, -48.7488,  125,     40.2,   0.5500,  33.5911,2,-999.0000,9,    361.4,2,   -999.0,9,     1.54,6,     2.85,6,     0.36,6, -999.000,9, -999.000,9, -999.000,9, -999.000,9, -999.000,9,   -999.0,9,   -999.0,9,   0.5485, 20060530,     2036
  18HU20060524, AR07W,   198,  1, 299291,      7,2,20060530,2032, 60.8345, -48.7488,  125,     30.3,   0.6454,  33.5758,2,-999.0000,9,    367.0,2,   -999.0,9,     1.61,6,     2.22,6,     0.30,6, -999.000,9, -999.000,9, -999.000,9, -999.000,9, -999.000,9,   -999.0,9,   -999.0,9,   0.6442, 20060530,     2036
  18HU20060524, AR07W,   198,  1, 299292,      8,2,20060530,2032, 60.8345, -48.7488,  125,     20.0,   0.6902,  33.5716,2,-999.0000,9,    369.4,2,   -999.0,9,     1.42,6,     1.85,6,     0.28,6, -999.000,9, -999.000,9, -999.000,9, -999.000,9, -999.000,9,   -999.0,9,   -999.0,9,   0.6894, 20060530,     2037
  18HU20060524, AR07W,   198,  1, 299293,      9,2,20060530,2032, 60.8345, -48.7488,  125,     10.8,   0.7052,  33.5666,2,-999.0000,9,    370.8,2,    372.5,2,     1.32,6,     1.76,6,     0.28,6, -999.000,9, -999.000,9, -999.000,9, -999.000,9, -999.000,9,   -999.0,9,   -999.0,9,   0.7048, 20060530,     2038
  18HU20060524, AR07W,   198,  1, 299294,     10,2,20060530,2032, 60.8345, -48.7488,  125,      2.8,   0.7439,  33.5561,2,-999.0000,9,    373.6,2,   -999.0,9,     1.36,6,     1.26,6,     0.25,6, -999.000,9, -999.000,9, -999.000,9, -999.000,9, -999.000,9,   -999.0,9,   -999.0,9,   0.7438, 20060530,     2038
  18HU20060524, AR07W,   200,  1, 299295,      1,2,20060530,2232, 60.7183, -49.1853,  939,   1018.0,   4.5514,  34.9326,2,  34.9311,6,    280.6,2,    281.9,2,     8.88,6,    14.94,6,     1.04,6, -999.000,9, -999.000,9, -999.000,9, -999.000,9, -999.000,9,   -999.0,9,   -999.0,9,   4.4692, 20060530,     2232
  18HU20060524, AR07W,   200,  1, 299296,      2,2,20060530,2232, 60.7183, -49.1853,  939,    600.3,   4.6259,  34.8767,2,  34.8743,2,    288.1,2,    291.3,2,     7.56,6,    13.76,6,     0.94,6, -999.000,9, -999.000,9, -999.000,9, -999.000,9, -999.000,9,   -999.0,9,   -999.0,9,   4.5790, 20060530,     2239
  18HU20060524, AR07W,   200,  1, 299297,      3,2,20060530,2232, 60.7183, -49.1853,  939,    499.7,   4.3303,  34.8078,2,  34.8052,2,    291.3,2,    293.7,2,     7.23,6,    13.35,6,     0.93,6, -999.000,9, -999.000,9, -999.000,9, -999.000,9, -999.000,9,   -999.0,9,   -999.0,9,   4.2928, 20060530,     2242
  18HU20060524, AR07W,   200,  1, 299298,      4,2,20060530,2232, 60.7183, -49.1853,  939,    350.2,   3.4865,  34.5947,2,  34.5930,2,    301.8,2,    304.7,2,     6.27,6,    11.56,6,     0.85,6, -999.000,9, -999.000,9, -999.000,9, -999.000,9, -999.000,9,   -999.0,9,   -999.0,9,   3.4631, 20060530,     2246
  18HU20060524, AR07W,   200,  1, 299299,      5,2,20060530,2232, 60.7183, -49.1853,  939,    199.8,   2.1134,  34.2070,2,-999.0000,9,    320.3,2,    323.0,6,     4.88,6,     8.67,6,     0.71,6, -999.000,9, -999.000,9, -999.000,9, -999.000,9, -999.000,9,   -999.0,9,   -999.0,9,   2.1027, 20060530,     2251
  18HU20060524, AR07W,   200,  1, 299300,      6,2,20060530,2232, 60.7183, -49.1853,  939,    101.1,   1.4756,  34.0759,2,-999.0000,9,    322.8,2,    324.9,2,     4.73,6,     8.56,6,     0.72,6, -999.000,9, -999.000,9, -999.000,9, -999.000,9, -999.000,9,   -999.0,9,   -999.0,9,   1.4708, 20060530,     2253
  18HU20060524, AR07W,   200,  1, 299301,      7,2,20060530,2232, 60.7183, -49.1853,  939,     50.3,   1.3450,  34.0230,2,-999.0000,9,    327.7,2,    329.9,2,     4.05,6,     7.92,6,     0.67,6, -999.000,9, -999.000,9, -999.000,9, -999.000,9, -999.000,9,   -999.0,9,   -999.0,9,   1.3427, 20060530,     2255
  18HU20060524, AR07W,   200,  1, 299302,      8,2,20060530,2232, 60.7183, -49.1853,  939,     10.0,   1.1259,  33.8308,2,-999.0000,9,    347.5,2,    352.9,2,     2.50,6,     4.83,6,     0.47,6, -999.000,9, -999.000,9, -999.000,9, -999.000,9, -999.000,9,   -999.0,9,   -999.0,9,   1.1255, 20060530,     2256
  18HU20060524, AR07W,   200,  1, 299303,      9,2,20060530,2232, 60.7183, -49.1853,  939,      2.9,   0.8028,  33.6814,2,-999.0000,9,    360.0,2,    361.3,2,     2.25,6,     3.68,6,     0.42,6, -999.000,9, -999.000,9, -999.000,9, -999.000,9, -999.000,9,   -999.0,9,   -999.0,9,   0.8027, 20060530,     2257
  18HU20060524, AR07W,   204,  1, 299304,      1,2,20060531,0254, 60.3677, -48.4535,  756,    650.8,   4.7780,  34.9511,2,  34.9501,2,    282.6,2,   -999.0,9,     7.70,6,    14.74,6,     1.02,6,    4.690,2,    2.520,2,    0.390,2,    6.060,2,   13.730,2,   2161.3,3,   2274.8,2,   4.7261, 20060531,      254
  18HU20060524, AR07W,   204,  1, 299305,      2,2,20060531,0254, 60.3677, -48.4535,  756,    600.7,   4.8266,  34.9539,2,  34.9526,2,    283.6,2,    293.4,3,     7.64,6,    14.83,6,     1.01,6,    4.850,2,    2.650,2,    0.390,2,    6.380,2,   13.940,2,   2159.4,2,   2279.6,3,   4.7786, 20060531,      255
  18HU20060524, AR07W,   204,  1, 299306,      3,2,20060531,0254, 60.3677, -48.4535,  756,    500.4,   4.8713,  34.9563,2,  34.9540,2,    284.2,2,    287.6,2,     7.54,6,    14.78,6,     1.00,6,    4.850,2,    2.650,2,    0.420,2,    6.440,2,   13.150,2,   2158.2,2,   2324.5,2,   4.8316, 20060531,      257
  18HU20060524, AR07W,   204,  1, 299307,      4,2,20060531,0254, 60.3677, -48.4535,  756,    404.0,   4.8930,  34.9566,2,  34.9547,6,    284.3,2,    288.0,6,     7.65,6,    14.62,6,     0.99,6,    4.780,2,    2.580,2,    0.420,2,    6.140,2,   12.280,2,   2156.4,2,   -999.0,9,   4.8611, 20060531,      301
  18HU20060524, AR07W,   204,  1, 299308,      5,2,20060531,0254, 60.3677, -48.4535,  756,    301.0,   4.5686,  34.8649,2,  34.8607,2,    288.7,2,    292.2,2,     6.68,6,    13.66,6,     0.94,6,    5.010,2,    2.750,2,    0.430,2,    6.420,2,   12.480,2,   2151.0,2,   2289.9,2,   4.5459, 20060531,      304
  18HU20060524, AR07W,   204,  1, 299309,      6,2,20060531,0254, 60.3677, -48.4535,  756,    200.1,   3.5865,  34.6294,2,-999.0000,9,    299.7,2,    303.9,2,     5.26,6,    11.64,6,     0.84,6,    5.420,2,    2.950,2,    0.460,2,    7.100,2,   13.550,2,   2132.5,2,   2275.0,2,   3.5732, 20060531,      306
  18HU20060524, AR07W,   204,  1, 299310,      7,2,20060531,0254, 60.3677, -48.4535,  756,     99.4,   2.3641,  34.3270,2,-999.0000,9,    316.1,2,    318.8,2,     3.91,6,     9.25,6,     0.74,6,    5.700,2,    3.110,2,    0.520,2,    7.270,2,   13.890,2,   2116.9,2,   2279.0,2,   2.3586, 20060531,      308
  18HU20060524, AR07W,   204,  1, 299311,      8,2,20060531,0254, 60.3677, -48.4535,  756,     80.1,   2.1838,  34.2932,2,-999.0000,9,    316.3,2,   -999.0,9,     3.87,6,     9.10,6,     0.75,6, -999.000,9, -999.000,9, -999.000,9, -999.000,9, -999.000,9,   -999.0,9,   -999.0,9,   2.1795, 20060531,      309
  18HU20060524, AR07W,   204,  1, 299312,      9,2,20060531,0254, 60.3677, -48.4535,  756,     60.3,   2.0138,  34.2574,2,-999.0000,9,    317.1,2,   -999.0,9,     3.81,6,     9.04,6,     0.73,6, -999.000,9, -999.000,9, -999.000,9, -999.000,9, -999.000,9,   -999.0,9,   -999.0,9,   2.0107, 20060531,      310
  18HU20060524, AR07W,   204,  1, 299313,     10,2,20060531,0254, 60.3677, -48.4535,  756,     50.3,   1.9466,  34.2392,2,-999.0000,9,    317.9,2,    320.6,2,     3.80,6,     8.96,6,     0.73,6,    4.810,2,    2.690,2,    0.450,2,    5.440,2,    9.330,2,   2108.1,2,   2275.4,2,   1.9440, 20060531,      311
  18HU20060524, AR07W,   204,  1, 299314,     11,2,20060531,0254, 60.3677, -48.4535,  756,     39.5,   1.7895,  34.1929,2,-999.0000,9,    320.0,2,   -999.0,9,     3.74,6,     8.66,6,     0.71,6, -999.000,9, -999.000,9, -999.000,9, -999.000,9, -999.000,9,   -999.0,9,   -999.0,9,   1.7875, 20060531,      312
  18HU20060524, AR07W,   204,  1, 299315,     12,2,20060531,0254, 60.3677, -48.4535,  756,     29.9,   1.7298,  34.1783,2,-999.0000,9,    320.5,2,   -999.0,9,     3.68,6,     8.58,6,     0.71,6, -999.000,9, -999.000,9, -999.000,9, -999.000,9, -999.000,9,   -999.0,9,   -999.0,9,   1.7283, 20060531,      313
  18HU20060524, AR07W,   204,  1, 299316,     13,2,20060531,0254, 60.3677, -48.4535,  756,     20.6,   1.9182,  34.1661,2,-999.0000,9,    326.4,2,   -999.0,9,     3.16,6,     7.36,6,     0.64,6, -999.000,9, -999.000,9, -999.000,9, -999.000,9, -999.000,9,   -999.0,9,   -999.0,9,   1.9172, 20060531,      314
  18HU20060524, AR07W,   204,  1, 299317,     14,2,20060531,0254, 60.3677, -48.4535,  756,     10.8,   2.0339,  34.1121,2,-999.0000,9,    337.5,2,    340.5,2,     2.78,6,     6.35,6,     0.57,6,    6.180,2,    3.390,2,    0.620,2,    8.460,2,   14.740,2,   2086.3,2,   2284.3,2,   2.0333, 20060531,      315
  18HU20060524, AR07W,   204,  1, 299318,     15,2,20060531,0254, 60.3677, -48.4535,  756,      2.9,   1.9253,  34.0951,2,-999.0000,9,    339.0,2,   -999.0,9,     2.84,6,     6.31,6,     0.57,6, -999.000,9, -999.000,9, -999.000,9, -999.000,9, -999.000,9,   -999.0,9,   -999.0,9,   1.9252, 20060531,      315